BOTTLE,20220820CCHSIOAMB
EXPOCODE,SECT_ID,STNNBR,CASTNO,SAMPNO,BTLNBR,BTLNBR_FLAG_W,DATE,TIME,LATITUDE,LONGITUDE,DEPTH,CTDPRS,CTDPRS_FLAG_W,CTDTMP,CTDTMP_FLAG_W,CTDSAL,CTDSAL_FLAG_W,SALNTY,SALNTY_FLAG_W,CTDOXY,CTDOXY_FLAG_W,OXYGEN,OXYGEN_FLAG_W,SILCAT,SILCAT_FLAG_W,NITRAT,NITRAT_FLAG_W,NITRIT,NITRIT_FLAG_W,PHSPHT,PHSPHT_FLAG_W,CFC-11,CFC-11_FLAG_W,CFC-12,CFC-12_FLAG_W,CFC113,CFC113_FLAG_W,CCL4,CCL4_FLAG_W,TCARBN,TCARBN_FLAG_W,ALKALI,ALKALI_FLAG_W,PH_TOT,PH_TMP,DELC14,DELC14_FLAG_W,C14ERR,DELC13,DELC13_FLAG_W,C13ERR,THETA,SIG0,SBE35,SBE35_FLAG_W,PH_TOT_FLAG_W,SILUNC,NRAUNC,NRIUNC,PHPUNC,CS-137,CS-137_FLAG_W,CS137ER,PLUTO,PLUTO_FLAG_W,PLUTOER
,,,,,,,,,,,METERS,DBAR,,ITS-90,,PSS-78,,PSS-78,,UMOL/KG,,UMOL/KG,,UMOL/KG,,UMOL/KG,,UMOL/KG,,UMOL/KG,,PMOL/KG,,PMOL/KG,,PMOL/KG,,PMOL/KG,,UMOL/KG,,UMOL/KG,,,DEG C,/MILLE,,/MILLE,/MILLE,,/MILLE,DEG C,KG/M^3,ITS-90,,,UMOL/KG,UMOL/KG,UMOL/KG,UMOL/KG,DM/.1MG,,BQ/M^3,MBQ/M^3,,MBQ/M^3
49NZ20071122, P14, 45, 1, 36, X12042, 2, 20071214, 1310, -19.3963, 177.4890, 3157,      9.7, 2,  27.8540, 2,  34.6766, 2,  34.6770, 2,    205.7, 2,    205.4, 2,     1.04, 2,     0.02, 2,     0.01, 2,     0.06, 2,    1.527, 2,    0.951, 2,    0.306, 4, -999.000, 9,   1915.2, 2,   2271.5, 2,    8.1485,     25.00,   -999.0, 9,   -999.0,  -999.00, 9,   -999.0,  27.8517, 22.1998,  27.8526, 2, 6, 0.12, 0.03, 0.01, 0.029,  -999.00, 9, -999.00, -999.00, 9, -999.00
49NZ20071122, P14, 45, 1, 35, X12041, 2, 20071214, 1310, -19.3963, 177.4890, 3157,     49.2, 2,  27.0157, 2,  35.0294, 2,  35.0344, 2,    208.1, 2,    206.9, 2,     0.78, 2,     0.01, 2,     0.01, 2,     0.09, 2,    1.606, 2,    0.994, 2,    0.470, 4, -999.000, 9,   1946.0, 6,   2297.3, 2,    8.1316,     25.00,   -999.0, 9,   -999.0,  -999.00, 9,   -999.0,  27.0044, 22.7385,  27.0151, 2, 2, 0.12, 0.03, 0.01, 0.023,  -999.00, 9, -999.00, -999.00, 9, -999.00
49NZ20071122, P14, 45, 1, 34, X12016, 2, 20071214, 1310, -19.3963, 177.4890, 3157,    100.4, 2,  25.2608, 2,  35.4010, 2,  35.3926, 2,    198.8, 2,    201.4, 2,     0.66, 2,     0.02, 2,     0.02, 2,     0.12, 2,    1.710, 2,    1.041, 2,    0.421, 4, -999.000, 9,   1979.8, 2,   2325.4, 6,    8.1128,     25.00,   -999.0, 9,   -999.0,  -999.00, 9,   -999.0,  25.2388, 23.5714,  25.2739, 2, 2, 0.12, 0.03, 0.01, 0.020,  -999.00, 9, -999.00, -999.00, 9, -999.00
49NZ20071122, P14, 45, 1, 33, X12033, 2, 20071214, 1310, -19.3963, 177.4890, 3157,    150.6, 2,  23.2805, 2,  35.7044, 2,  35.6960, 2,    168.2, 2,    169.0, 2,     0.81, 2,     2.34, 2,     0.05, 2,     0.35, 2,    1.915, 6,    1.140, 6,    0.165, 4, -999.000, 9,   2049.1, 2,   2343.2, 2,    8.0249,     25.00,   -999.0, 9,   -999.0,  -999.00, 9,   -999.0,  23.2494, 24.3956,  23.2803, 2, 6, 0.12, 0.04, 0.01, 0.014,  -999.00, 9, -999.00, -999.00, 9, -999.00
49NZ20071122, P14, 45, 1, 32, X12038, 2, 20071214, 1310, -19.3963, 177.4890, 3157,    199.8, 2,  21.1070, 2,  35.6834, 2,  35.6809, 2,    170.0, 2,    170.8, 2,     1.00, 2,     3.63, 2,     0.02, 2,     0.40, 2,    2.074, 2,    1.195, 2,    0.086, 2, -999.000, 9,   2066.0, 2,   2341.8, 2,    7.9908,     25.00,   -999.0, 9,   -999.0,  -999.00, 9,   -999.0,  21.0685, 24.9956,  21.1085, 2, 2, 0.12, 0.04, 0.01, 0.013,  -999.00, 9, -999.00, -999.00, 9, -999.00
49NZ20071122, P14, 45, 1, 31, X12003, 2, 20071214, 1310, -19.3963, 177.4890, 3157,    250.5, 2,  19.6116, 2,  35.6059, 2,  35.5984, 6,    173.7, 2,    173.3, 2,     1.18, 2,     4.52, 2,     0.02, 2,     0.46, 2,    2.187, 2,    1.245, 2,    0.055, 2, -999.000, 9,   2076.9, 2,   2336.5, 2,    7.9629,     25.00,   -999.0, 9,   -999.0,  -999.00, 9,   -999.0,  19.5657, 25.3382,  19.5965, 2, 2, 0.12, 0.05, 0.01, 0.013,  -999.00, 9, -999.00, -999.00, 9, -999.00
49NZ20071122, P14, 45, 1, 30, X12008, 2, 20071214, 1310, -19.3963, 177.4890, 3157,    300.2, 2,  17.4060, 2,  35.4362, 2,  35.4290, 2,    180.6, 2,    180.4, 2,     1.71, 2,     6.07, 2,     0.02, 2,     0.56, 2,    2.278, 2,    1.269, 2,    0.035, 2, -999.000, 9,   2087.5, 2,   2326.7, 2,    7.9284,     25.00,   -999.0, 9,   -999.0,  -999.00, 9,   -999.0,  17.3554, 25.7638,  17.4066, 2, 2, 0.12, 0.05, 0.01, 0.013,  -999.00, 9, -999.00, -999.00, 9, -999.00
49NZ20071122, P14, 45, 1, 29, X12035, 2, 20071214, 1310, -19.3963, 177.4890, 3157,    402.7, 2,  13.9742, 2,  35.0808, 2,  35.0715, 2,    182.7, 2,    183.0, 2,     3.70, 2,    11.15, 2,     0.02, 2,     0.90, 2,    2.248, 2,    1.188, 2,    0.030, 2, -999.000, 9,   2112.8, 2,   2309.2, 2,    7.8526,     25.00,   -999.0, 9,   -999.0,  -999.00, 9,   -999.0,  13.9156, 26.2673,  13.9744, 2, 2, 0.13, 0.06, 0.01, 0.013,  -999.00, 9, -999.00, -999.00, 9, -999.00
49NZ20071122, P14, 45, 1, 28, X12034, 2, 20071214, 1310, -19.3963, 177.4890, 3157,    501.7, 2,   8.9615, 2,  34.5823, 2,  34.5756, 6,    201.0, 2,    198.7, 2,     8.45, 2,    20.42, 2,     0.01, 2,     1.48, 2,    1.927, 2,    0.957, 2,    0.047, 2, -999.000, 9,   2143.7, 2,   2288.9, 2,    7.7440,     25.00,   -999.0, 9,   -999.0,  -999.00, 9,   -999.0,   8.9065, 26.8060,   8.9636, 2, 2, 0.14, 0.09, 0.01, 0.014,  -999.00, 9, -999.00, -999.00, 9, -999.00
49NZ20071122, P14, 45, 1, 27, X12049, 2, 20071214, 1310, -19.3963, 177.4890, 3157,    599.7, 2,   7.0478, 2,  34.4221, 2,  34.4197, 2,    205.5, 2,    205.6, 2,    12.85, 2,    24.62, 2,     0.01, 2,     1.74, 2,    1.460, 2,    0.710, 2,    0.027, 2, -999.000, 9,   2157.1, 2,   2287.4, 2,    7.7058,     25.00,   -999.0, 9,   -999.0,  -999.00, 9,   -999.0,   6.9903, 26.9649,   7.0482, 2, 2, 0.15, 0.10, 0.01, 0.014,  -999.00, 9, -999.00, -999.00, 9, -999.00
49NZ20071122, P14, 45, 1, 26, X12032, 2, 20071214, 1310, -19.3963, 177.4890, 3157,    700.6, 2,   5.9631, 2,  34.3846, 2,  34.3843, 2,    195.5, 2,    197.0, 2,    21.50, 2,    27.81, 2,     0.01, 2,     1.96, 2,    0.832, 6,    0.409, 6,    0.016, 6, -999.000, 9,   2176.4, 6,   2293.3, 2,    7.6736,     25.00,   -999.0, 9,   -999.0,  -999.00, 9,   -999.0,   5.9012, 27.0789,   5.9636, 2, 2, 0.17, 0.11, 0.01, 0.015,  -999.00, 9, -999.00, -999.00, 9, -999.00
49NZ20071122, P14, 45, 1, 25, X12043, 2, 20071214, 1310, -19.3963, 177.4890, 3157,    801.3, 2,   5.2272, 2,  34.3926, 2,  34.3922, 2,    185.2, 2,    186.0, 2,    31.79, 2,    30.15, 2,     0.01, 2,     2.12, 2,    0.456, 2,    0.232, 2,    0.014, 2, -999.000, 9,   2195.1, 2,   2303.8, 6,    7.6472,     25.00,   -999.0, 9,   -999.0,  -999.00, 9,   -999.0,   5.1603, 27.1751,   5.2289, 2, 2, 0.19, 0.12, 0.01, 0.015,  -999.00, 9, -999.00, -999.00, 9, -999.00
49NZ20071122, P14, 45, 1, 24, X12030, 2, 20071214, 1310, -19.3963, 177.4890, 3157,    902.1, 2,   4.4685, 2,  34.4315, 2,  34.4328, 2,    169.7, 2,    169.1, 2,    48.08, 2,    32.63, 2,     0.01, 2,     2.29, 2,    0.157, 2,    0.079, 2,    0.000, 2, -999.000, 9,   2221.2, 2,   2320.4, 2,    7.6161,     25.00,   -999.0, 9,   -999.0,  -999.00, 9,   -999.0,   4.3978, 27.2919,   4.4677, 2, 2, 0.22, 0.12, 0.01, 0.016,  -999.00, 9, -999.00, -999.00, 9, -999.00
49NZ20071122, P14, 45, 1, 23, X12027, 2, 20071214, 1310, -19.3963, 177.4890, 3157,   1000.5, 2,   4.1262, 2,  34.4551, 2,  34.4584, 6,    163.9, 2,    163.0, 2,    56.99, 2,    33.54, 2,     0.01, 2,     2.37, 2,    0.084, 2,    0.045, 2,    0.000, 2, -999.000, 9,   2235.5, 2,   2330.5, 2,    7.6049,     25.00,   -999.0, 9,   -999.0,  -999.00, 9,   -999.0,   4.0496, 27.3476,   4.1273, 2, 2, 0.24, 0.13, 0.01, 0.016,  -999.00, 9, -999.00, -999.00, 9, -999.00
49NZ20071122, P14, 45, 1, 22, X12028, 2, 20071214, 1310, -19.3963, 177.4890, 3157,   1202.3, 2,   3.5066, 2,  34.5117, 2,  34.5147, 2,    155.0, 2,    154.3, 2,    75.03, 2,    34.68, 2,     0.01, 2,     2.45, 2,    0.030, 2,    0.014, 2,    0.000, 2, -999.000, 9,   2259.9, 2,   2350.2, 2,    7.5932,     25.00,   -999.0, 9,   -999.0,  -999.00, 9,   -999.0,   3.4184, 27.4560,   3.5068, 2, 2, 0.28, 0.13, 0.01, 0.016,  -999.00, 9, -999.00, -999.00, 9, -999.00
49NZ20071122, P14, 45, 1, 21, X12009, 2, 20071214, 1310, -19.3963, 177.4890, 3157,   1400.3, 2,   3.0591, 2,  34.5572, 2,  34.5579, 2,    149.4, 2,    149.3, 2,    88.84, 2,    35.24, 2,     0.01, 2,     2.50, 2,    0.011, 2,    0.006, 2,    0.000, 2, -999.000, 9,   2274.7, 2,   2366.3, 2,    7.5876,     25.00,   -999.0, 9,   -999.0,  -999.00, 9,   -999.0,   2.9589, 27.5353,   3.0590, 2, 2, 0.31, 0.13, 0.01, 0.016,  -999.00, 9, -999.00, -999.00, 9, -999.00
49NZ20071122, P14, 45, 1, 20, X12026, 2, 20071214, 1310, -19.3963, 177.4890, 3157,   1601.7, 2,   2.7296, 2,  34.5890, 2,  34.5887, 2,    147.9, 2,    147.6, 2,    98.82, 2,    35.51, 2,     0.01, 2,     2.52, 2,    0.002, 2,    0.003, 2,    0.000, 2, -999.000, 9,   2287.1, 2,   2377.1, 2,    7.5866,     25.00,   -999.0, 9,   -999.0,  -999.00, 9,   -999.0,   2.6165, 27.5913,   2.7298, 2, 6, 0.34, 0.13, 0.01, 0.016,  -999.00, 9, -999.00, -999.00, 9, -999.00
49NZ20071122, P14, 45, 1, 19, X12025, 2, 20071214, 1310, -19.3963, 177.4890, 3157,   1800.9, 2,   2.4705, 2,  34.6138, 2,  34.6135, 2,    148.4, 2,    148.3, 2,   106.01, 2,    35.57, 2,     0.01, 2,     2.52, 2,    0.002, 2,    0.001, 2,    0.000, 2, -999.000, 9,   2296.3, 2,   2385.8, 2,    7.5887,     25.00,   -999.0, 9,   -999.0,  -999.00, 9,   -999.0,   2.3440, 27.6343,   2.4706, 2, 2, 0.35, 0.13, 0.01, 0.016,  -999.00, 9, -999.00, -999.00, 9, -999.00
49NZ20071122, P14, 45, 1, 18, X12024, 2, 20071214, 1310, -19.3963, 177.4890, 3157,   1999.3, 2,   2.2638, 2,  34.6337, 2,  34.6340, 2,    149.1, 2,    149.0, 2,   111.42, 2,    35.57, 2,     0.01, 2,     2.52, 2,    0.001, 2,    0.002, 2,    0.000, 2, -999.000, 9,   2301.0, 2,   2392.6, 2,    7.5906,     25.00,   -999.0, 9,   -999.0,  -999.00, 9,   -999.0,   2.1234, 27.6683,   2.2638, 2, 2, 0.36, 0.13, 0.01, 0.016,  -999.00, 9, -999.00, -999.00, 9, -999.00
49NZ20071122, P14, 45, 1, 17, X12023, 2, 20071214, 1310, -19.3963, 177.4890, 3157,   2201.0, 2,   2.1312, 2,  34.6465, 2,  34.6463, 6,    149.6, 2,    149.4, 2,   115.34, 2,    35.59, 2,     0.01, 2,     2.52, 2,    0.001, 2,    0.001, 2,    0.000, 2, -999.000, 9,   2307.3, 2,   2396.5, 2,    7.5909,     25.00,   -999.0, 9,   -999.0,  -999.00, 9,   -999.0,   1.9754, 27.6904,   2.1313, 2, 2, 0.37, 0.13, 0.01, 0.016,  -999.00, 9, -999.00, -999.00, 9, -999.00
49NZ20071122, P14, 45, 1, 16, X12022, 2, 20071214, 1310, -19.3963, 177.4890, 3157,   2399.3, 2,   2.0587, 2,  34.6541, 2,  34.6540, 2,    149.8, 2,    149.8, 2,   117.72, 2,    35.54, 2,     0.01, 2,     2.52, 2,    0.000, 2,    0.002, 2,    0.000, 2, -999.000, 9,   2307.9, 6,   2399.3, 2,    7.5914,     25.00,   -999.0, 9,   -999.0,  -999.00, 9,   -999.0,   1.8865, 27.7035,   2.0586, 2, 2, 0.38, 0.13, 0.01, 0.016,  -999.00, 9, -999.00, -999.00, 9, -999.00
49NZ20071122, P14, 45, 1, 15, X12021, 2, 20071214, 1310, -19.3963, 177.4890, 3157,   2600.7, 2,   2.0204, 2,  34.6590, 2,  34.6593, 2,    150.1, 2,    149.9, 2,   118.91, 2,    35.56, 2,     0.01, 2,     2.52, 2,    0.000, 2,    0.002, 2,    0.000, 2, -999.000, 9,   2309.7, 2,   2401.5, 6,    7.5926,     25.00,   -999.0, 9,   -999.0,  -999.00, 9,   -999.0,   1.8304, 27.7117,   2.0204, 2, 2, 0.38, 0.13, 0.01, 0.016,  -999.00, 9, -999.00, -999.00, 9, -999.00
49NZ20071122, P14, 45, 1, 14, X12020, 2, 20071214, 1310, -19.3963, 177.4890, 3157,   2799.8, 2,   2.0014, 2,  34.6623, 2,  34.6625, 2,    150.6, 2,    150.4, 2,   119.63, 2,    35.58, 2,     0.01, 2,     2.52, 2,    0.000, 2,    0.002, 2,    0.000, 2, -999.000, 9,   2310.3, 2,   2403.5, 2,    7.5925,     25.00,   -999.0, 9,   -999.0,  -999.00, 9,   -999.0,   1.7931, 27.7172,   2.0014, 2, 6, 0.38, 0.13, 0.01, 0.016,  -999.00, 9, -999.00, -999.00, 9, -999.00
49NZ20071122, P14, 45, 1, 13, X12019, 2, 20071214, 1310, -19.3963, 177.4890, 3157,   3000.5, 2,   2.0049, 2,  34.6638, 2,  34.6641, 6,    150.9, 2,    150.7, 2,   119.87, 2,    35.56, 2,     0.01, 2,     2.53, 2,    0.001, 2,    0.001, 2,    0.000, 2, -999.000, 9,   2309.8, 2,   2402.5, 2,    7.5928,     25.00,   -999.0, 9,   -999.0,  -999.00, 9,   -999.0,   1.7770, 27.7197,   2.0049, 2, 2, 0.38, 0.13, 0.01, 0.016,  -999.00, 9, -999.00, -999.00, 9, -999.00
49NZ20071122, P14, 45, 1, 12, X12040, 9, 20071214, 1310, -19.3963, 177.4890, 3157,      9.7, 2,  27.8538, 2,  34.6771, 2, -999.0000, 9,    205.8, 2,   -999.0, 9,  -999.00, 9,  -999.00, 9,  -999.00, 9,  -999.00, 9, -999.000, 9, -999.000, 9, -999.000, 9, -999.000, 9,   -999.0, 9,   -999.0, 9, -999.0000,   -999.00,   -999.0, 9,   -999.0,  -999.00, 9,   -999.0,  27.8515, 22.2002,  27.8536, 2, 9, -999.00, -999.00, -999.00, -999.000,  -999.00, 9, -999.00, -999.00, 9, -999.00
49NZ20071122, P14, 45, 1, 11, X12047, 9, 20071214, 1310, -19.3963, 177.4890, 3157,    401.8, 2,  13.9871, 2,  35.0764, 2, -999.0000, 9,    183.0, 2,   -999.0, 9,  -999.00, 9,  -999.00, 9,  -999.00, 9,  -999.00, 9, -999.000, 9, -999.000, 9, -999.000, 9, -999.000, 9,   -999.0, 9,   -999.0, 9, -999.0000,   -999.00,   -999.0, 9,   -999.0,  -999.00, 9,   -999.0,  13.9286, 26.2612,  13.9478, 2, 9, -999.00, -999.00, -999.00, -999.000,  -999.00, 9, -999.00, -999.00, 9, -999.00
49NZ20071122, P14, 45, 1, 10, X12012, 9, 20071214, 1310, -19.3963, 177.4890, 3157,    499.9, 2,   9.0048, 2,  34.5851, 2, -999.0000, 9,    200.9, 2,   -999.0, 9,  -999.00, 9,  -999.00, 9,  -999.00, 9,  -999.00, 9, -999.000, 9, -999.000, 9, -999.000, 9, -999.000, 9,   -999.0, 9,   -999.0, 9, -999.0000,   -999.00,   -999.0, 9,   -999.0,  -999.00, 9,   -999.0,   8.9498, 26.8013,   9.0077, 2, 9, -999.00, -999.00, -999.00, -999.000,  -999.00, 9, -999.00, -999.00, 9, -999.00
49NZ20071122, P14, 45, 1, 9, X12015, 9, 20071214, 1310, -19.3963, 177.4890, 3157,    598.9, 2,   7.0502, 2,  34.4219, 2, -999.0000, 9,    205.5, 2,   -999.0, 9,  -999.00, 9,  -999.00, 9,  -999.00, 9,  -999.00, 9, -999.000, 9, -999.000, 9, -999.000, 9, -999.000, 9,   -999.0, 9,   -999.0, 9, -999.0000,   -999.00,   -999.0, 9,   -999.0,  -999.00, 9,   -999.0,   6.9928, 26.9644,   7.0502, 2, 9, -999.00, -999.00, -999.00, -999.000,  -999.00, 9, -999.00, -999.00, 9, -999.00
49NZ20071122, P14, 45, 1, 8, X12046, 9, 20071214, 1310, -19.3963, 177.4890, 3157,    700.1, 2,   5.9602, 2,  34.3818, 2, -999.0000, 9,    195.9, 2,   -999.0, 9,  -999.00, 9,  -999.00, 9,  -999.00, 9,  -999.00, 9, -999.000, 9, -999.000, 9, -999.000, 9, -999.000, 9,   -999.0, 9,   -999.0, 9, -999.0000,   -999.00,   -999.0, 9,   -999.0,  -999.00, 9,   -999.0,   5.8984, 27.0770,   5.9608, 2, 9, -999.00, -999.00, -999.00, -999.000,  -999.00, 9, -999.00, -999.00, 9, -999.00
49NZ20071122, P14, 45, 1, 7, X12044, 9, 20071214, 1310, -19.3963, 177.4890, 3157,    799.5, 2,   5.2338, 2,  34.3920, 2, -999.0000, 9,    185.5, 2,   -999.0, 9,  -999.00, 9,  -999.00, 9,  -999.00, 9,  -999.00, 9, -999.000, 9, -999.000, 9, -999.000, 9, -999.000, 9,   -999.0, 9,   -999.0, 9, -999.0000,   -999.00,   -999.0, 9,   -999.0,  -999.00, 9,   -999.0,   5.1671, 27.1738,   5.2339, 2, 9, -999.00, -999.00, -999.00, -999.000,  -999.00, 9, -999.00, -999.00, 9, -999.00
49NZ20071122, P14, 45, 1, 6, X12048, 9, 20071214, 1310, -19.3963, 177.4890, 3157,    901.1, 2,   4.4675, 2,  34.4318, 2, -999.0000, 9,    169.8, 2,   -999.0, 9,  -999.00, 9,  -999.00, 9,  -999.00, 9,  -999.00, 9, -999.000, 9, -999.000, 9, -999.000, 9, -999.000, 9,   -999.0, 9,   -999.0, 9, -999.0000,   -999.00,   -999.0, 9,   -999.0,  -999.00, 9,   -999.0,   4.3969, 27.2922,   4.4675, 2, 9, -999.00, -999.00, -999.00, -999.000,  -999.00, 9, -999.00, -999.00, 9, -999.00
49NZ20071122, P14, 45, 1, 5, X12014, 9, 20071214, 1310, -19.3963, 177.4890, 3157,    999.7, 2,   4.1229, 2,  34.4556, 2, -999.0000, 9,    164.0, 2,   -999.0, 9,  -999.00, 9,  -999.00, 9,  -999.00, 9,  -999.00, 9, -999.000, 9, -999.000, 9, -999.000, 9, -999.000, 9,   -999.0, 9,   -999.0, 9, -999.0000,   -999.00,   -999.0, 9,   -999.0,  -999.00, 9,   -999.0,   4.0464, 27.3483,   4.1256, 2, 9, -999.00, -999.00, -999.00, -999.000,  -999.00, 9, -999.00, -999.00, 9, -999.00
49NZ20071122, P14, 45, 1, 4, X12006, 9, 20071214, 1310, -19.3963, 177.4890, 3157,   1202.1, 2,   3.5054, 2,  34.5119, 2, -999.0000, 9,    155.0, 2,   -999.0, 9,  -999.00, 9,  -999.00, 9,  -999.00, 9,  -999.00, 9, -999.000, 9, -999.000, 9, -999.000, 9, -999.000, 9,   -999.0, 9,   -999.0, 9, -999.0000,   -999.00,   -999.0, 9,   -999.0,  -999.00, 9,   -999.0,   3.4172, 27.4562,   3.5030, 2, 9, -999.00, -999.00, -999.00, -999.000,  -999.00, 9, -999.00, -999.00, 9, -999.00
49NZ20071122, P14, 45, 1, 3, X12013, 9, 20071214, 1310, -19.3963, 177.4890, 3157,   1400.2, 2,   3.0602, 2,  34.5569, 2, -999.0000, 9,    149.4, 2,   -999.0, 9,  -999.00, 9,  -999.00, 9,  -999.00, 9,  -999.00, 9, -999.000, 9, -999.000, 9, -999.000, 9, -999.000, 9,   -999.0, 9,   -999.0, 9, -999.0000,   -999.00,   -999.0, 9,   -999.0,  -999.00, 9,   -999.0,   2.9600, 27.5350,   3.0600, 2, 9, -999.00, -999.00, -999.00, -999.000,  -999.00, 9, -999.00, -999.00, 9, -999.00
49NZ20071122, P14, 45, 1, 2, X12002, 9, 20071214, 1310, -19.3963, 177.4890, 3157,   1601.9, 2,   2.7284, 2,  34.5892, 2, -999.0000, 9,    147.9, 2,   -999.0, 9,  -999.00, 9,  -999.00, 9,  -999.00, 9,  -999.00, 9, -999.000, 9, -999.000, 9, -999.000, 9, -999.000, 9,   -999.0, 9,   -999.0, 9, -999.0000,   -999.00,   -999.0, 9,   -999.0,  -999.00, 9,   -999.0,   2.6153, 27.5915,   2.7285, 2, 9, -999.00, -999.00, -999.00, -999.000,  -999.00, 9, -999.00, -999.00, 9, -999.00
49NZ20071122, P14, 45, 1, 1, X12001, 2, 20071214, 1310, -19.3963, 177.4890, 3157,   3188.2, 2,   2.0228, 2,  34.6640, 2,  34.6641, 6,    150.8, 2,    150.4, 2,   119.90, 2,    35.52, 2,     0.01, 2,     2.52, 2,    0.000, 2,    0.001, 2,    0.000, 2, -999.000, 9,   2311.1, 2,   2402.4, 2,    7.5932,     25.00,   -999.0, 9,   -999.0,  -999.00, 9,   -999.0,   1.7758, 27.7200,   2.0228, 2, 2, 0.38, 0.13, 0.01, 0.016,  -999.00, 9, -999.00, -999.00, 9, -999.00