BOTTLE,20220820CCHSIOAMB
EXPOCODE,SECT_ID,STNNBR,CASTNO,SAMPNO,BTLNBR,BTLNBR_FLAG_W,DATE,TIME,LATITUDE,LONGITUDE,DEPTH,CTDPRS,CTDPRS_FLAG_W,CTDTMP,CTDTMP_FLAG_W,CTDSAL,CTDSAL_FLAG_W,SALNTY,SALNTY_FLAG_W,CTDOXY,CTDOXY_FLAG_W,OXYGEN,OXYGEN_FLAG_W,SILCAT,SILCAT_FLAG_W,NITRAT,NITRAT_FLAG_W,NITRIT,NITRIT_FLAG_W,PHSPHT,PHSPHT_FLAG_W,CFC-11,CFC-11_FLAG_W,CFC-12,CFC-12_FLAG_W,CFC113,CFC113_FLAG_W,CCL4,CCL4_FLAG_W,TCARBN,TCARBN_FLAG_W,ALKALI,ALKALI_FLAG_W,PH_TOT,PH_TMP,DELC14,DELC14_FLAG_W,C14ERR,DELC13,DELC13_FLAG_W,C13ERR,THETA,SIG0,SBE35,SBE35_FLAG_W,PH_TOT_FLAG_W,SILUNC,NRAUNC,NRIUNC,PHPUNC,CS-137,CS-137_FLAG_W,CS137ER,PLUTO,PLUTO_FLAG_W,PLUTOER
,,,,,,,,,,,METERS,DBAR,,ITS-90,,PSS-78,,PSS-78,,UMOL/KG,,UMOL/KG,,UMOL/KG,,UMOL/KG,,UMOL/KG,,UMOL/KG,,PMOL/KG,,PMOL/KG,,PMOL/KG,,PMOL/KG,,UMOL/KG,,UMOL/KG,,,DEG C,/MILLE,,/MILLE,/MILLE,,/MILLE,DEG C,KG/M^3,ITS-90,,,UMOL/KG,UMOL/KG,UMOL/KG,UMOL/KG,DM/.1MG,,BQ/M^3,MBQ/M^3,,MBQ/M^3
49NZ20071122, P14, 13, 1, 36, X12042, 2, 20071221, 0140, -31.7435, 175.7163, 3951,      8.7, 2,  21.4760, 2,  35.6476, 2,  35.6485, 2,    224.1, 2,    223.6, 2,     0.62, 2,     0.06, 2,     0.01, 2,     0.10, 2,    2.063, 2,    1.232, 2,    0.376, 4, -999.000, 9,   2034.9, 2,   2336.5, 2,    8.0371,     25.00,   -999.0, 9,   -999.0,  -999.00, 9,   -999.0,  21.4743, 24.8567,  21.4747, 2, 6, 0.12, 0.03, 0.01, 0.022,  -999.00, 9, -999.00, -999.00, 9, -999.00
49NZ20071122, P14, 13, 1, 35, X12041, 2, 20071221, 0140, -31.7435, 175.7163, 3951,     48.9, 2,  19.4071, 2,  35.7491, 2,  35.7506, 2,    234.1, 2,    233.9, 2,     0.59, 2,     0.05, 2,     0.01, 2,     0.11, 2,    2.205, 2,    1.314, 2,    0.755, 4, -999.000, 9,   2041.6, 6,   2344.2, 2,    8.0334,     25.00,   -999.0, 9,   -999.0,  -999.00, 9,   -999.0,  19.3982, 25.4911,  19.4093, 2, 2, 0.12, 0.03, 0.01, 0.021,  -999.00, 9, -999.00, -999.00, 9, -999.00
49NZ20071122, P14, 13, 1, 34, X12016, 2, 20071221, 0140, -31.7435, 175.7163, 3951,     99.3, 2,  17.9062, 2,  35.7052, 2,  35.7041, 2,    218.0, 2,    218.3, 2,     0.84, 2,     1.85, 2,     0.07, 2,     0.26, 2,    2.299, 2,    1.351, 2,    0.221, 4, -999.000, 9,   2061.5, 2,   2340.0, 6,    7.9911,     25.00,   -999.0, 9,   -999.0,  -999.00, 9,   -999.0,  17.8892, 25.8397,  17.9068, 2, 2, 0.12, 0.04, 0.01, 0.015,  -999.00, 9, -999.00, -999.00, 9, -999.00
49NZ20071122, P14, 13, 1, 33, X12033, 2, 20071221, 0140, -31.7435, 175.7163, 3951,    149.9, 2,  16.8859, 2,  35.5891, 2,  35.5884, 2,    201.4, 2,    202.3, 2,     1.45, 2,     5.07, 2,     0.02, 2,     0.46, 2,    2.370, 6,    1.364, 6,    0.131, 4, -999.000, 9,   2078.7, 2,   2332.4, 2,    7.9482,     25.00,   -999.0, 9,   -999.0,  -999.00, 9,   -999.0,  16.8612, 25.9996,  16.8863, 2, 6, 0.12, 0.05, 0.01, 0.013,  -999.00, 9, -999.00, -999.00, 9, -999.00
49NZ20071122, P14, 13, 1, 32, X12038, 2, 20071221, 0140, -31.7435, 175.7163, 3951,    199.4, 2,  16.0086, 2,  35.5191, 2,  35.5166, 2,    211.4, 2,    210.5, 2,     1.79, 2,     5.47, 2,     0.01, 2,     0.48, 2,    2.448, 2,    1.404, 2,    0.145, 2, -999.000, 9,   2085.1, 2,   2330.0, 2,    7.9358,     25.00,   -999.0, 9,   -999.0,  -999.00, 9,   -999.0,  15.9769, 26.1524,  16.0093, 2, 2, 0.12, 0.05, 0.01, 0.013,  -999.00, 9, -999.00, -999.00, 9, -999.00
49NZ20071122, P14, 13, 1, 31, X12003, 2, 20071221, 0140, -31.7435, 175.7163, 3951,    248.8, 2,  14.9722, 2,  35.3968, 2,  35.3946, 6,    201.9, 2,    203.2, 2,     2.48, 2,     7.76, 2,     0.01, 2,     0.63, 2,    2.491, 2,    1.412, 2,    0.130, 2, -999.000, 9,   2097.3, 2,   2323.0, 2,    7.9011,     25.00,   -999.0, 9,   -999.0,  -999.00, 9,   -999.0,  14.9344, 26.2924,  14.9730, 2, 2, 0.12, 0.05, 0.01, 0.013,  -999.00, 9, -999.00, -999.00, 9, -999.00
49NZ20071122, P14, 13, 1, 30, X12008, 2, 20071221, 0140, -31.7435, 175.7163, 3951,    280.6, 2,  14.5714, 2,  35.3512, 2,  35.3485, 2,    203.8, 2,    204.0, 2,     2.64, 2,     8.19, 2,     0.01, 2,     0.66, 2,    2.523, 2,    1.428, 2,    0.120, 2, -999.000, 9,   2101.8, 2,   2321.5, 2,    7.8912,     25.00,   -999.0, 9,   -999.0,  -999.00, 9,   -999.0,  14.5295, 26.3455,  14.5711, 2, 2, 0.12, 0.06, 0.01, 0.013,  -999.00, 9, -999.00, -999.00, 9, -999.00
49NZ20071122, P14, 13, 1, 29, X12035, 3, 20071221, 0140, -31.7435, 175.7163, 3951,    370.4, 2,  12.8669, 2,  35.1425, 2,  35.1504, 3,    198.8, 2,    198.4, 2,     4.05, 2,    11.95, 2,     0.01, 2,     0.90, 2,    2.523, 2,    1.387, 2,    0.098, 2, -999.000, 9,   2115.7, 2,   2311.9, 2,    7.8434,     25.00,   -999.0, 9,   -999.0,  -999.00, 9,   -999.0,  12.8159, 26.5402,  12.8707, 2, 2, 0.13, 0.07, 0.01, 0.013,  -999.00, 9, -999.00, -999.00, 9, -999.00
49NZ20071122, P14, 13, 1, 28, X12034, 2, 20071221, 0140, -31.7435, 175.7163, 3951,    469.6, 2,  10.8361, 2,  34.8688, 2,  34.8676, 6,    199.3, 2,    199.8, 2,     5.72, 2,    16.10, 2,     0.01, 2,     1.16, 2,    2.560, 2,    1.349, 2,    0.100, 2, -999.000, 9,   2129.4, 2,   2300.5, 2,    7.7896,     25.00,   -999.0, 9,   -999.0,  -999.00, 9,   -999.0,  10.7781, 26.7133,  10.8374, 2, 2, 0.13, 0.08, 0.01, 0.013,  -999.00, 9, -999.00, -999.00, 9, -999.00
49NZ20071122, P14, 13, 1, 27, X12049, 2, 20071221, 0140, -31.7435, 175.7163, 3951,    570.3, 2,   9.0328, 2,  34.6396, 2,  34.6372, 2,    208.8, 2,    208.2, 2,     7.07, 2,    19.57, 2,     0.00, 2,     1.39, 2,    2.518, 2,    1.278, 2,    0.111, 2, -999.000, 9,   2140.3, 2,   2291.6, 2,    7.7538,     25.00,   -999.0, 9,   -999.0,  -999.00, 9,   -999.0,   8.9697, 26.8407,   9.0334, 2, 2, 0.13, 0.09, 0.01, 0.014,  -999.00, 9, -999.00, -999.00, 9, -999.00
49NZ20071122, P14, 13, 1, 26, X12032, 2, 20071221, 0140, -31.7435, 175.7163, 3951,    670.2, 2,   8.0393, 2,  34.5428, 2,  34.5405, 2,    209.9, 2,    210.3, 2,     9.65, 2,    21.95, 2,     0.01, 2,     1.55, 2,    2.182, 6,    1.086, 6,    0.091, 6, -999.000, 9,   2146.1, 6,   2289.6, 2,    7.7335,     25.00,   -999.0, 9,   -999.0,  -999.00, 9,   -999.0,   7.9697, 26.9193,   8.0411, 2, 2, 0.14, 0.09, 0.01, 0.014,  -999.00, 9, -999.00, -999.00, 9, -999.00
49NZ20071122, P14, 13, 1, 25, X12043, 2, 20071221, 0140, -31.7435, 175.7163, 3951,    771.5, 2,   7.0107, 2,  34.4405, 2,  34.4395, 2,    215.2, 2,    216.1, 2,    11.77, 2,    24.01, 2,     0.01, 2,     1.68, 2,    1.846, 2,    0.899, 2,    0.075, 2, -999.000, 9,   2150.2, 2,   2287.9, 6,    7.7180,     25.00,   -999.0, 9,   -999.0,  -999.00, 9,   -999.0,   6.9361, 26.9868,   7.0111, 2, 2, 0.14, 0.10, 0.01, 0.014,  -999.00, 9, -999.00, -999.00, 9, -999.00
49NZ20071122, P14, 13, 1, 24, X12030, 2, 20071221, 0140, -31.7435, 175.7163, 3951,    869.6, 2,   6.2420, 2,  34.3953, 2,  34.3983, 2,    211.0, 2,    211.4, 2,    16.96, 2,    26.09, 2,     0.01, 2,     1.82, 2,    1.242, 2,    0.608, 2,    0.040, 2, -999.000, 9,   2161.5, 2,   2288.9, 2,    7.6986,     25.00,   -999.0, 9,   -999.0,  -999.00, 9,   -999.0,   6.1623, 27.0541,   6.2422, 2, 6, 0.16, 0.11, 0.01, 0.015,  -999.00, 9, -999.00, -999.00, 9, -999.00
49NZ20071122, P14, 13, 1, 23, X12027, 2, 20071221, 0140, -31.7435, 175.7163, 3951,    970.0, 2,   5.7874, 2,  34.4151, 2,  34.4158, 6,    197.2, 2,    199.1, 2,    25.07, 2,    27.91, 2,     0.00, 2,     1.95, 2,    0.817, 2,    0.408, 2,    0.026, 2, -999.000, 9,   2177.1, 2,   2298.0, 2,    7.6763,     25.00,   -999.0, 9,   -999.0,  -999.00, 9,   -999.0,   5.7012, 27.1279,   5.7878, 2, 2, 0.17, 0.11, 0.01, 0.015,  -999.00, 9, -999.00, -999.00, 9, -999.00
49NZ20071122, P14, 13, 1, 22, X12028, 2, 20071221, 0140, -31.7435, 175.7163, 3951,   1130.0, 2,   4.9550, 2,  34.4396, 2,  34.4432, 2,    185.5, 2,    185.3, 2,    39.73, 2,    30.22, 2,     0.00, 2,     2.12, 2,    0.465, 2,    0.237, 2,    0.017, 2, -999.000, 9,   2204.0, 2,   2313.8, 2,    7.6479,     25.00,   -999.0, 9,   -999.0,  -999.00, 9,   -999.0,   4.8603, 27.2469,   4.9550, 2, 2, 0.21, 0.12, 0.01, 0.015,  -999.00, 9, -999.00, -999.00, 9, -999.00
49NZ20071122, P14, 13, 1, 21, X12009, 2, 20071221, 0140, -31.7435, 175.7163, 3951,   1330.5, 2,   4.1798, 2,  34.5066, 2,  34.5065, 2,    170.6, 2,    171.7, 2,    60.35, 2,    32.18, 2,     0.00, 2,     2.26, 2,    0.272, 2,    0.137, 2,    0.007, 2, -999.000, 9,   2231.9, 2,   2336.0, 2,    7.6254,     25.00,   -999.0, 9,   -999.0,  -999.00, 9,   -999.0,   4.0740, 27.3860,   4.1798, 2, 2, 0.25, 0.12, 0.01, 0.016,  -999.00, 9, -999.00, -999.00, 9, -999.00
49NZ20071122, P14, 13, 1, 20, X12026, 2, 20071221, 0140, -31.7435, 175.7163, 3951,   1530.7, 2,   3.2874, 2,  34.5498, 2,  34.5507, 2,    162.5, 2,    162.7, 2,    79.50, 2,    33.78, 2,     0.00, 2,     2.38, 2,    0.110, 2,    0.055, 2,    0.000, 2, -999.000, 9,   2257.0, 2,   2355.4, 2,    7.6077,     25.00,   -999.0, 9,   -999.0,  -999.00, 9,   -999.0,   3.1737, 27.5096,   3.2876, 2, 2, 0.29, 0.13, 0.01, 0.016,  -999.00, 9, -999.00, -999.00, 9, -999.00
49NZ20071122, P14, 13, 1, 19, X12025, 2, 20071221, 0140, -31.7435, 175.7163, 3951,   1730.2, 2,   2.7959, 2,  34.5898, 2,  34.5906, 2,    157.5, 2,    157.7, 2,    93.30, 2,    34.56, 2,     0.00, 2,     2.43, 2,    0.050, 2,    0.024, 2,    0.000, 2, -999.000, 9,   2276.0, 2,   2369.8, 2,    7.6001,     25.00,   -999.0, 9,   -999.0,  -999.00, 9,   -999.0,   2.6711, 27.5871,   2.7960, 2, 2, 0.32, 0.13, 0.01, 0.016,  -999.00, 9, -999.00, -999.00, 9, -999.00
49NZ20071122, P14, 13, 1, 18, X12024, 2, 20071221, 0140, -31.7435, 175.7163, 3951,   1929.0, 2,   2.4939, 2,  34.6200, 2,  34.6199, 2,    154.8, 2,    154.8, 2,   102.76, 2,    34.87, 2,     0.00, 2,     2.46, 2,    0.029, 2,    0.015, 2,    0.000, 2, -999.000, 9,   2288.2, 2,   2383.6, 2,    7.5974,     25.00,   -999.0, 9,   -999.0,  -999.00, 9,   -999.0,   2.3562, 27.6382,   2.4941, 2, 2, 0.35, 0.13, 0.01, 0.016,  -999.00, 9, -999.00, -999.00, 9, -999.00
49NZ20071122, P14, 13, 1, 17, X12023, 2, 20071221, 0140, -31.7435, 175.7163, 3951,   2129.6, 2,   2.2299, 2,  34.6427, 2,  34.6429, 6,    153.1, 2,    153.3, 2,   110.47, 2,    35.18, 2,     0.00, 2,     2.48, 2,    0.012, 2,    0.007, 2,    0.000, 2, -999.000, 9,   2295.7, 2,   2392.4, 2,    7.5958,     25.00,   -999.0, 9,   -999.0,  -999.00, 9,   -999.0,   2.0787, 27.6791,   2.2299, 2, 2, 0.36, 0.13, 0.01, 0.016,  -999.00, 9, -999.00, -999.00, 9, -999.00
49NZ20071122, P14, 13, 1, 16, X12022, 2, 20071221, 0140, -31.7435, 175.7163, 3951,   2330.5, 2,   2.0639, 2,  34.6569, 2,  34.6569, 2,    153.0, 2,    152.8, 2,   114.88, 2,    35.34, 2,     0.00, 2,     2.49, 2,    0.004, 2,    0.002, 2,    0.000, 2, -999.000, 9,   2301.7, 6,   2397.4, 2,    7.5953,     25.00,   -999.0, 9,   -999.0,  -999.00, 9,   -999.0,   1.8977, 27.7048,   2.0640, 2, 2, 0.37, 0.13, 0.01, 0.016,  -999.00, 9, -999.00, -999.00, 9, -999.00
49NZ20071122, P14, 13, 1, 15, X12021, 2, 20071221, 0140, -31.7435, 175.7163, 3951,   2530.5, 2,   1.9303, 2,  34.6684, 2,  34.6685, 2,    153.1, 2,    153.1, 2,   118.51, 2,    35.37, 2,     0.00, 2,     2.50, 2,    0.001, 2,    0.002, 2,    0.000, 2, -999.000, 9,   2304.6, 2,   2400.6, 6,    7.5960,     25.00,   -999.0, 9,   -999.0,  -999.00, 9,   -999.0,   1.7485, 27.7256,   1.9306, 2, 2, 0.38, 0.13, 0.01, 0.016,  -999.00, 9, -999.00, -999.00, 9, -999.00
49NZ20071122, P14, 13, 1, 14, X12020, 2, 20071221, 0140, -31.7435, 175.7163, 3951,   2730.5, 2,   1.8621, 2,  34.6751, 2,  34.6750, 2,    153.4, 2,    153.5, 2,   120.45, 2,    35.41, 2,     0.00, 2,     2.50, 2,    0.002, 2,    0.000, 2,    0.000, 2, -999.000, 9,   2307.9, 2,   2403.8, 2,    7.5969,     25.00,   -999.0, 9,   -999.0,  -999.00, 9,   -999.0,   1.6631, 27.7374,   1.8623, 2, 6, 0.38, 0.13, 0.01, 0.016,  -999.00, 9, -999.00, -999.00, 9, -999.00
49NZ20071122, P14, 13, 1, 13, X12019, 2, 20071221, 0140, -31.7435, 175.7163, 3951,   2929.9, 2,   1.8404, 2,  34.6783, 2,  34.6781, 2,    153.6, 2,    153.7, 2,   121.41, 2,    35.41, 2,     0.01, 2,     2.49, 2,    0.001, 2,    0.000, 2,    0.000, 2, -999.000, 9,   2310.9, 2,   2406.5, 2,    7.5974,     25.00,   -999.0, 9,   -999.0,  -999.00, 9,   -999.0,   1.6229, 27.7429,   1.8404, 2, 2, 0.39, 0.13, 0.01, 0.016,  -999.00, 9, -999.00, -999.00, 9, -999.00
49NZ20071122, P14, 13, 1, 12, X12040, 2, 20071221, 0140, -31.7435, 175.7163, 3951,   3170.3, 2,   1.8346, 2,  34.6803, 2,  34.6800, 2,    153.8, 2,    153.8, 2,   122.17, 2,    35.44, 2,     0.00, 2,     2.48, 2,    0.000, 2,    0.002, 2,    0.000, 2, -999.000, 9,   2312.3, 2,   2406.8, 2,    7.5984,     25.00,   -999.0, 9,   -999.0,  -999.00, 9,   -999.0,   1.5937, 27.7468,   1.8345, 2, 2, 0.39, 0.13, 0.01, 0.016,  -999.00, 9, -999.00, -999.00, 9, -999.00
49NZ20071122, P14, 13, 1, 11, X12047, 2, 20071221, 0140, -31.7435, 175.7163, 3951,   3420.2, 2,   1.8379, 2,  34.6819, 2,  34.6817, 6,    153.8, 2,    153.8, 2,   122.84, 2,    35.42, 2,     0.01, 2,     2.49, 2, -999.000, 9, -999.000, 9, -999.000, 9, -999.000, 9,   2313.7, 2,   2408.6, 2,    7.5999,     25.00,   -999.0, 9,   -999.0,  -999.00, 9,   -999.0,   1.5715, 27.7496,   1.8378, 2, 2, 0.39, 0.13, 0.01, 0.016,  -999.00, 9, -999.00, -999.00, 9, -999.00
49NZ20071122, P14, 13, 1, 10, X12012, 2, 20071221, 0140, -31.7435, 175.7163, 3951,   3671.1, 2,   1.8588, 2,  34.6822, 2,  34.6820, 2,    153.8, 2,    153.6, 2,   123.01, 2,    35.46, 2,     0.00, 2,     2.50, 2,    0.000, 2,    0.000, 2,    0.000, 2, -999.000, 9,   2313.7, 2,   2408.7, 2,    7.6003,     25.00,   -999.0, 9,   -999.0,  -999.00, 9,   -999.0,   1.5656, 27.7503,   1.8589, 2, 2, 0.39, 0.13, 0.01, 0.016,  -999.00, 9, -999.00, -999.00, 9, -999.00
49NZ20071122, P14, 13, 1, 9, X12015, 2, 20071221, 0140, -31.7435, 175.7163, 3951,   3921.3, 2,   1.8810, 2,  34.6821, 2,  34.6823, 2,    153.9, 2,    153.5, 2,   123.11, 2,    35.46, 2,     0.00, 2,     2.50, 2, -999.000, 9, -999.000, 9, -999.000, 9, -999.000, 9,   2311.1, 2,   2410.7, 2,    7.6005,     25.00,   -999.0, 9,   -999.0,  -999.00, 9,   -999.0,   1.5601, 27.7507,   1.8810, 2, 2, 0.39, 0.13, 0.01, 0.016,  -999.00, 9, -999.00, -999.00, 9, -999.00
49NZ20071122, P14, 13, 1, 8, X12046, 9, 20071221, 0140, -31.7435, 175.7163, 3951,      8.7, 2,  21.5146, 2,  35.6472, 2, -999.0000, 9,    224.0, 2,   -999.0, 9,  -999.00, 9,  -999.00, 9,  -999.00, 9,  -999.00, 9, -999.000, 9, -999.000, 9, -999.000, 9, -999.000, 9,   -999.0, 9,   -999.0, 9, -999.0000,   -999.00,   -999.0, 9,   -999.0,  -999.00, 9,   -999.0,  21.5129, 24.8457,  21.5142, 2, 9, -999.00, -999.00, -999.00, -999.000,  -999.00, 9, -999.00, -999.00, 9, -999.00
49NZ20071122, P14, 13, 1, 7, X12044, 9, 20071221, 0140, -31.7435, 175.7163, 3951,    768.3, 2,   7.0013, 2,  34.4397, 2, -999.0000, 9,    215.3, 2,   -999.0, 9,  -999.00, 9,  -999.00, 9,  -999.00, 9,  -999.00, 9, -999.000, 9, -999.000, 9, -999.000, 9, -999.000, 9,   -999.0, 9,   -999.0, 9, -999.0000,   -999.00,   -999.0, 9,   -999.0,  -999.00, 9,   -999.0,   6.9270, 26.9874,   7.0015, 2, 9, -999.00, -999.00, -999.00, -999.000,  -999.00, 9, -999.00, -999.00, 9, -999.00
49NZ20071122, P14, 13, 1, 6, X12048, 9, 20071221, 0140, -31.7435, 175.7163, 3951,    869.0, 2,   6.2432, 2,  34.3953, 2, -999.0000, 9,    211.1, 2,   -999.0, 9,  -999.00, 9,  -999.00, 9,  -999.00, 9,  -999.00, 9, -999.000, 9, -999.000, 9, -999.000, 9, -999.000, 9,   -999.0, 9,   -999.0, 9, -999.0000,   -999.00,   -999.0, 9,   -999.0,  -999.00, 9,   -999.0,   6.1636, 27.0540,   6.2431, 2, 9, -999.00, -999.00, -999.00, -999.000,  -999.00, 9, -999.00, -999.00, 9, -999.00
49NZ20071122, P14, 13, 1, 5, X12014, 9, 20071221, 0140, -31.7435, 175.7163, 3951,    969.6, 2,   5.7880, 2,  34.4151, 2, -999.0000, 9,    197.2, 2,   -999.0, 9,  -999.00, 9,  -999.00, 9,  -999.00, 9,  -999.00, 9, -999.000, 9, -999.000, 9, -999.000, 9, -999.000, 9,   -999.0, 9,   -999.0, 9, -999.0000,   -999.00,   -999.0, 9,   -999.0,  -999.00, 9,   -999.0,   5.7018, 27.1278,   5.7882, 2, 9, -999.00, -999.00, -999.00, -999.000,  -999.00, 9, -999.00, -999.00, 9, -999.00
49NZ20071122, P14, 13, 1, 4, X12006, 9, 20071221, 0140, -31.7435, 175.7163, 3951,   1130.6, 2,   4.9496, 2,  34.4389, 2, -999.0000, 9,    185.5, 2,   -999.0, 9,  -999.00, 9,  -999.00, 9,  -999.00, 9,  -999.00, 9, -999.000, 9, -999.000, 9, -999.000, 9, -999.000, 9,   -999.0, 9,   -999.0, 9, -999.0000,   -999.00,   -999.0, 9,   -999.0,  -999.00, 9,   -999.0,   4.8549, 27.2470,   4.9502, 2, 9, -999.00, -999.00, -999.00, -999.000,  -999.00, 9, -999.00, -999.00, 9, -999.00
49NZ20071122, P14, 13, 1, 3, X12013, 9, 20071221, 0140, -31.7435, 175.7163, 3951,   3420.4, 2,   1.8376, 2,  34.6820, 2, -999.0000, 9,    153.8, 2,   -999.0, 9,  -999.00, 9,  -999.00, 9,  -999.00, 9,  -999.00, 9, -999.000, 9, -999.000, 9, -999.000, 9, -999.000, 9,   -999.0, 9,   -999.0, 9, -999.0000,   -999.00,   -999.0, 9,   -999.0,  -999.00, 9,   -999.0,   1.5712, 27.7497,   1.8376, 2, 9, -999.00, -999.00, -999.00, -999.000,  -999.00, 9, -999.00, -999.00, 9, -999.00
49NZ20071122, P14, 13, 1, 2, X12002, 9, 20071221, 0140, -31.7435, 175.7163, 3951,   1530.4, 2,   3.2874, 2,  34.5499, 2, -999.0000, 9,    162.5, 2,   -999.0, 9,  -999.00, 9,  -999.00, 9,  -999.00, 9,  -999.00, 9, -999.000, 9, -999.000, 9, -999.000, 9, -999.000, 9,   -999.0, 9,   -999.0, 9, -999.0000,   -999.00,   -999.0, 9,   -999.0,  -999.00, 9,   -999.0,   3.1737, 27.5097,   3.2876, 2, 9, -999.00, -999.00, -999.00, -999.000,  -999.00, 9, -999.00, -999.00, 9, -999.00
49NZ20071122, P14, 13, 1, 1, X12001, 2, 20071221, 0140, -31.7435, 175.7163, 3951,   3982.5, 2,   1.8879, 2,  34.6821, 2,  34.6823, 6,    153.7, 2,    153.6, 2,   123.18, 2,    35.46, 2,     0.00, 2,     2.50, 2,    0.000, 2,    0.001, 2,    0.000, 2, -999.000, 9,   2312.6, 2,   2410.8, 2,    7.6005,     25.00,   -999.0, 9,   -999.0,  -999.00, 9,   -999.0,   1.5601, 27.7506,   1.8879, 2, 2, 0.39, 0.13, 0.01, 0.016,  -999.00, 9, -999.00, -999.00, 9, -999.00