BOTTLE,20220820CCHSIOAMB
EXPOCODE,SECT_ID,STNNBR,CASTNO,SAMPNO,BTLNBR,BTLNBR_FLAG_W,DATE,TIME,LATITUDE,LONGITUDE,DEPTH,CTDPRS,CTDPRS_FLAG_W,CTDTMP,CTDTMP_FLAG_W,CTDSAL,CTDSAL_FLAG_W,SALNTY,SALNTY_FLAG_W,CTDOXY,CTDOXY_FLAG_W,OXYGEN,OXYGEN_FLAG_W,SILCAT,SILCAT_FLAG_W,NITRAT,NITRAT_FLAG_W,NITRIT,NITRIT_FLAG_W,PHSPHT,PHSPHT_FLAG_W,CFC-11,CFC-11_FLAG_W,CFC-12,CFC-12_FLAG_W,CFC113,CFC113_FLAG_W,CCL4,CCL4_FLAG_W,TCARBN,TCARBN_FLAG_W,ALKALI,ALKALI_FLAG_W,PH_TOT,PH_TMP,DELC14,DELC14_FLAG_W,C14ERR,DELC13,DELC13_FLAG_W,C13ERR,THETA,SIG0,SBE35,SBE35_FLAG_W,PH_TOT_FLAG_W,SILUNC,NRAUNC,NRIUNC,PHPUNC,CS-137,CS-137_FLAG_W,CS137ER,PLUTO,PLUTO_FLAG_W,PLUTOER
,,,,,,,,,,,METERS,DBAR,,ITS-90,,PSS-78,,PSS-78,,UMOL/KG,,UMOL/KG,,UMOL/KG,,UMOL/KG,,UMOL/KG,,UMOL/KG,,PMOL/KG,,PMOL/KG,,PMOL/KG,,PMOL/KG,,UMOL/KG,,UMOL/KG,,,DEG C,/MILLE,,/MILLE,/MILLE,,/MILLE,DEG C,KG/M^3,ITS-90,,,UMOL/KG,UMOL/KG,UMOL/KG,UMOL/KG,DM/.1MG,,BQ/M^3,MBQ/M^3,,MBQ/M^3
49NZ20071122, P14N, 145, 1, 36, X12042, 2, 20071203, 0919, -0.4928, 178.9997, 5457,     10.4, 2,  27.0904, 2,  35.2390, 2,  35.2374, 2,    198.0, 2,    198.1, 2,     1.89, 2,     3.26, 2,     0.58, 2,     0.45, 2,    1.595, 2,    0.978, 2,    0.200, 4, -999.000, 9,   2016.8, 2,   2314.1, 2,    8.0452,     25.00,   -999.0, 9,   -999.0,  -999.00, 9,   -999.0,  27.0880, 22.8696,  27.0899, 2, 2, 0.12, 0.04, 0.00, 0.013,  -999.00, 9, -999.00, -999.00, 9, -999.00
49NZ20071122, P14N, 145, 1, 35, X12041, 2, 20071203, 0919, -0.4928, 178.9997, 5457,     50.4, 2,  26.7605, 2,  35.3799, 2,  35.3811, 2,    190.1, 2,    191.2, 2,     1.95, 2,     4.05, 2,     0.69, 2,     0.51, 2,    1.612, 2,    0.984, 2,    0.164, 4, -999.000, 9,   2030.5, 6,   2324.5, 2,    8.0339,     25.00,   -999.0, 9,   -999.0,  -999.00, 9,   -999.0,  26.7490, 23.0839,  26.7596, 2, 2, 0.12, 0.04, 0.00, 0.013,  -999.00, 9, -999.00, -999.00, 9, -999.00
49NZ20071122, P14N, 145, 1, 34, X12016, 2, 20071203, 0919, -0.4928, 178.9997, 5457,    100.8, 2,  26.7383, 2,  35.4484, 2,  35.4487, 2,    181.0, 2,    183.1, 2,     1.95, 2,     4.57, 2,     0.81, 2,     0.56, 2,    1.625, 2,    0.997, 2,    0.157, 4, -999.000, 9,   2039.2, 2,   2330.8, 6,    8.0246,     25.00,   -999.0, 9,   -999.0,  -999.00, 9,   -999.0,  26.7153, 23.1463,  26.7366, 2, 2, 0.12, 0.05, 0.00, 0.013,  -999.00, 9, -999.00, -999.00, 9, -999.00
49NZ20071122, P14N, 145, 1, 33, X12033, 2, 20071203, 0919, -0.4928, 178.9997, 5457,    152.4, 2,  23.6227, 2,  35.1375, 2,  35.1829, 2,    138.2, 2,    139.4, 2,     4.21, 2,     8.75, 2,     0.04, 2,     0.74, 2,    1.798, 6,    1.061, 6,    0.082, 6, -999.000, 9,   2066.7, 2,   2311.8, 2,    7.9476,     25.00,   -999.0, 9,   -999.0,  -999.00, 9,   -999.0,  23.5910, 23.8661,  23.6222, 2, 6, 0.13, 0.06, 0.01, 0.013,  -999.00, 9, -999.00, -999.00, 9, -999.00
49NZ20071122, P14N, 145, 1, 32, X12038, 2, 20071203, 0919, -0.4928, 178.9997, 5457,    199.6, 2,  17.7005, 2,  35.3443, 2,  35.3439, 2,    133.7, 2,    133.2, 2,     6.40, 2,    13.37, 2,     0.02, 2,     1.06, 2,    1.845, 2,    1.033, 2,    0.034, 2, -999.000, 9,   2126.6, 2,   2326.3, 2,    7.8549,     25.00,   -999.0, 9,   -999.0,  -999.00, 9,   -999.0,  17.6665, 25.6178,  17.7033, 2, 2, 0.13, 0.07, 0.01, 0.013,  -999.00, 9, -999.00, -999.00, 9, -999.00
49NZ20071122, P14N, 145, 1, 31, X12003, 2, 20071203, 0919, -0.4928, 178.9997, 5457,    249.6, 2,  14.8108, 2,  35.1325, 2,  35.1260, 6,    135.3, 2,    135.1, 2,    10.29, 2,    16.73, 2,     0.02, 2,     1.27, 2,    1.690, 2,    0.919, 2,    0.033, 2, -999.000, 9,   2143.9, 2,   2316.1, 2,    7.7991,     25.00,   -999.0, 9,   -999.0,  -999.00, 9,   -999.0,  14.7732, 26.1238,  14.8194, 2, 2, 0.14, 0.08, 0.01, 0.014,  -999.00, 9, -999.00, -999.00, 9, -999.00
49NZ20071122, P14N, 145, 1, 30, X12008, 2, 20071203, 0919, -0.4928, 178.9997, 5457,    298.2, 2,  12.6141, 2,  34.8933, 2,  34.8939, 2,    126.8, 2,    122.8, 2,    16.89, 2,    21.19, 2,     0.01, 2,     1.56, 2,    1.393, 2,    0.744, 2,    0.025, 2, -999.000, 9,   2165.7, 2,   2309.0, 2,    7.7295,     25.00,   -999.0, 9,   -999.0,  -999.00, 9,   -999.0,  12.5738, 26.3950,  12.6424, 2, 2, 0.16, 0.09, 0.01, 0.014,  -999.00, 9, -999.00, -999.00, 9, -999.00
49NZ20071122, P14N, 145, 1, 29, X12035, 2, 20071203, 0919, -0.4928, 178.9997, 5457,    400.9, 2,  10.5435, 2,  34.7582, 2,  34.7546, 2,     58.7, 2,     56.7, 2,    26.69, 2,    31.51, 2,     0.01, 2,     2.22, 2,    0.622, 2,    0.329, 2,    0.016, 2, -999.000, 9,   2231.0, 2,   2305.4, 2,    7.5535,     25.00,   -999.0, 9,   -999.0,  -999.00, 9,   -999.0,  10.4951, 26.6773,  10.5453, 2, 2, 0.18, 0.12, 0.01, 0.016,  -999.00, 9, -999.00, -999.00, 9, -999.00
49NZ20071122, P14N, 145, 1, 28, X12034, 2, 20071203, 0919, -0.4928, 178.9997, 5457,    500.8, 2,   8.7111, 2,  34.6515, 2,  34.6493, 6,     58.4, 2,     69.6, 2,    32.59, 2,    33.94, 2,     0.01, 2,     2.38, 2,    0.325, 2,    0.169, 2,    0.009, 2, -999.000, 9,   2239.3, 2,   2307.5, 2,    7.5350,     25.00,   -999.0, 9,   -999.0,  -999.00, 9,   -999.0,   8.6570, 26.8995,   8.7122, 2, 2, 0.19, 0.13, 0.01, 0.016,  -999.00, 9, -999.00, -999.00, 9, -999.00
49NZ20071122, P14N, 145, 1, 27, X12049, 2, 20071203, 0919, -0.4928, 178.9997, 5457,    599.6, 2,   7.5042, 2,  34.5888, 2,  34.5866, 2,     85.0, 2,     81.0, 2,    39.92, 2,    35.31, 2,     0.01, 2,     2.50, 2,    0.217, 2,    0.113, 2,    0.008, 2, -999.000, 9,   2247.4, 2,   2313.8, 2,    7.5311,     25.00,   -999.0, 9,   -999.0,  -999.00, 9,   -999.0,   7.4445, 27.0322,   7.5053, 2, 2, 0.21, 0.13, 0.01, 0.016,  -999.00, 9, -999.00, -999.00, 9, -999.00
49NZ20071122, P14N, 145, 1, 26, X12032, 2, 20071203, 0919, -0.4928, 178.9997, 5457,    699.3, 2,   6.5358, 2,  34.5547, 2,  34.5532, 2,     75.0, 2,     85.2, 2,    48.34, 2,    36.84, 2,     0.01, 2,     2.62, 2,    0.117, 6,    0.061, 6,    0.005, 6, -999.000, 9,   2257.8, 6,   2321.0, 2,    7.5202,     25.00,   -999.0, 9,   -999.0,  -999.00, 9,   -999.0,   6.4708, 27.1396,   6.5364, 2, 2, 0.23, 0.14, 0.01, 0.017,  -999.00, 9, -999.00, -999.00, 9, -999.00
49NZ20071122, P14N, 145, 1, 25, X12043, 2, 20071203, 0919, -0.4928, 178.9997, 5457,    800.7, 2,   5.9609, 2,  34.5411, 2,  34.5409, 2,     91.4, 2,     92.5, 2,    55.13, 2,    36.96, 2,     0.01, 2,     2.64, 2,    0.084, 2,    0.046, 2,    0.000, 2, -999.000, 9,   2263.7, 2,   2327.9, 6,    7.5250,     25.00,   -999.0, 9,   -999.0,  -999.00, 9,   -999.0,   5.8894, 27.2040,   5.9606, 2, 2, 0.24, 0.14, 0.01, 0.017,  -999.00, 9, -999.00, -999.00, 9, -999.00
49NZ20071122, P14N, 145, 1, 24, X12030, 2, 20071203, 0919, -0.4928, 178.9997, 5457,    901.3, 2,   5.2837, 2,  34.5399, 2,  34.5397, 2,     95.0, 2,     94.0, 2,    65.41, 2,    37.71, 2,     0.01, 2,     2.69, 2,    0.044, 2,    0.022, 2,    0.000, 2, -999.000, 9,   2275.7, 2,   2339.0, 2,    7.5211,     25.00,   -999.0, 9,   -999.0,  -999.00, 9,   -999.0,   5.2073, 27.2863,   5.2851, 2, 6, 0.26, 0.14, 0.01, 0.017,  -999.00, 9, -999.00, -999.00, 9, -999.00
49NZ20071122, P14N, 145, 1, 23, X12027, 2, 20071203, 0919, -0.4928, 178.9997, 5457,   1000.9, 2,   4.6871, 2,  34.5497, 2,  34.5503, 6,     91.2, 2,     90.3, 2,    78.61, 2,    38.64, 2,     0.01, 2,     2.78, 2,    0.014, 2,    0.007, 2,    0.000, 2, -999.000, 9,   2291.3, 2,   2352.7, 2,    7.5104,     25.00,   -999.0, 9,   -999.0,  -999.00, 9,   -999.0,   4.6060, 27.3629,   4.6877, 2, 2, 0.29, 0.14, 0.01, 0.017,  -999.00, 9, -999.00, -999.00, 9, -999.00
49NZ20071122, P14N, 145, 1, 22, X12028, 2, 20071203, 0919, -0.4928, 178.9997, 5457,   1201.3, 2,   3.9096, 2,  34.5711, 2,  34.5713, 2,     87.6, 2,     87.7, 2,    96.00, 2,    39.63, 2,     0.01, 2,     2.86, 2,    0.000, 2,    0.000, 2,    0.000, 2, -999.000, 9,   2312.9, 2,   2371.0, 2,    7.5015,     25.00,   -999.0, 9,   -999.0,  -999.00, 9,   -999.0,   3.8176, 27.4637,   3.9098, 2, 2, 0.33, 0.14, 0.01, 0.017,  -999.00, 9, -999.00, -999.00, 9, -999.00
49NZ20071122, P14N, 145, 1, 21, X12009, 2, 20071203, 0919, -0.4928, 178.9997, 5457,   1400.6, 2,   3.4604, 2,  34.5850, 2,  34.5849, 2,     96.9, 2,     95.7, 2,   104.76, 2,    39.37, 2,     0.01, 2,     2.83, 2,    0.000, 2,    0.000, 2,    0.000, 2, -999.000, 9,   2320.1, 2,   2381.2, 2,    7.5117,     25.00,   -999.0, 9,   -999.0,  -999.00, 9,   -999.0,   3.3558, 27.5204,   3.4605, 2, 2, 0.35, 0.14, 0.01, 0.017,  -999.00, 9, -999.00, -999.00, 9, -999.00
49NZ20071122, P14N, 145, 1, 20, X12026, 2, 20071203, 0919, -0.4928, 178.9997, 5457,   1599.3, 2,   2.9469, 2,  34.6060, 2,  34.6064, 2,     99.1, 2,     99.1, 2,   117.51, 2,    39.34, 2,     0.01, 2,     2.82, 2,    0.000, 2,    0.000, 2,    0.000, 2, -999.000, 9,   2332.0, 2,   2394.3, 2,    7.5172,     25.00,   -999.0, 9,   -999.0,  -999.00, 9,   -999.0,   2.8313, 27.5859,   2.9469, 2, 6, 0.38, 0.14, 0.01, 0.017,  -999.00, 9, -999.00, -999.00, 9, -999.00
49NZ20071122, P14N, 145, 1, 19, X12025, 2, 20071203, 0919, -0.4928, 178.9997, 5457,   1801.4, 2,   2.5835, 2,  34.6215, 2,  34.6215, 2,    108.0, 2,    107.5, 2,   124.73, 2,    38.82, 2,     0.01, 2,     2.77, 2, -999.000, 9, -999.000, 9, -999.000, 9, -999.000, 9,   2336.3, 2,   2402.6, 2,    7.5298,     25.00,   -999.0, 9,   -999.0,  -999.00, 9,   -999.0,   2.4554, 27.6311,   2.5835, 2, 2, 0.39, 0.14, 0.01, 0.017,  -999.00, 9, -999.00, -999.00, 9, -999.00
49NZ20071122, P14N, 145, 1, 18, X12024, 2, 20071203, 0919, -0.4928, 178.9997, 5457,   2000.2, 2,   2.3399, 2,  34.6353, 2,  34.6351, 2,    110.4, 2,    110.2, 2,   131.16, 2,    38.75, 2,     0.01, 2,     2.76, 2,    0.000, 2,    0.000, 2,    0.000, 2, -999.000, 9,   2340.6, 2,   2409.4, 2,    7.5344,     25.00,   -999.0, 9,   -999.0,  -999.00, 9,   -999.0,   2.1983, 27.6635,   2.3400, 2, 2, 0.41, 0.14, 0.01, 0.017,  -999.00, 9, -999.00, -999.00, 9, -999.00
49NZ20071122, P14N, 145, 1, 17, X12023, 2, 20071203, 0919, -0.4928, 178.9997, 5457,   2200.7, 2,   2.1297, 2,  34.6459, 2,  34.6461, 6,    117.6, 2,    117.0, 2,   135.05, 2,    38.44, 2,     0.01, 2,     2.72, 2, -999.000, 9, -999.000, 9, -999.000, 9, -999.000, 9,   2341.9, 2,   2414.5, 2,    7.5460,     25.00,   -999.0, 9,   -999.0,  -999.00, 9,   -999.0,   1.9739, 27.6900,   2.1298, 2, 2, 0.42, 0.14, 0.01, 0.017,  -999.00, 9, -999.00, -999.00, 9, -999.00
49NZ20071122, P14N, 145, 1, 16, X12022, 2, 20071203, 0919, -0.4928, 178.9997, 5457,   2399.2, 2,   1.9666, 2,  34.6554, 2,  34.6556, 2,    123.1, 2,    122.9, 2,   137.67, 2,    38.08, 2,     0.01, 2,     2.69, 2, -999.000, 9, -999.000, 9, -999.000, 9, -999.000, 9,   2341.9, 6,   2417.7, 2,    7.5544,     25.00,   -999.0, 9,   -999.0,  -999.00, 9,   -999.0,   1.7960, 27.7115,   1.9667, 2, 2, 0.42, 0.14, 0.01, 0.017,  -999.00, 9, -999.00, -999.00, 9, -999.00
49NZ20071122, P14N, 145, 1, 15, X12021, 2, 20071203, 0919, -0.4928, 178.9997, 5457,   2601.6, 2,   1.8677, 2,  34.6613, 2,  34.6612, 2,    126.3, 2,    125.1, 2,   140.54, 2,    37.90, 2,     0.01, 2,     2.67, 2,    0.000, 2,    0.000, 2,    0.000, 2, -999.000, 9,   2342.1, 2,   2420.1, 6,    7.5578,     25.00,   -999.0, 9,   -999.0,  -999.00, 9,   -999.0,   1.6806, 27.7250,   1.8678, 2, 2, 0.43, 0.14, 0.01, 0.017,  -999.00, 9, -999.00, -999.00, 9, -999.00
49NZ20071122, P14N, 145, 1, 14, X12020, 2, 20071203, 0919, -0.4928, 178.9997, 5457,   2800.5, 2,   1.7608, 2,  34.6662, 2,  34.6662, 2,    132.0, 2,    131.8, 2,   140.59, 2,    37.36, 2,     0.01, 2,     2.64, 2, -999.000, 9, -999.000, 9, -999.000, 9, -999.000, 9,   2338.3, 2,   2419.4, 2,    7.5673,     25.00,   -999.0, 9,   -999.0,  -999.00, 9,   -999.0,   1.5573, 27.7381,   1.7608, 2, 6, 0.43, 0.14, 0.01, 0.017,  -999.00, 9, -999.00, -999.00, 9, -999.00
49NZ20071122, P14N, 145, 1, 13, X12019, 2, 20071203, 0919, -0.4928, 178.9997, 5457,   2998.8, 2,   1.6918, 2,  34.6705, 2,  34.6705, 2,    136.0, 2,    135.8, 2,   141.07, 2,    37.22, 2,     0.01, 2,     2.62, 2, -999.000, 9, -999.000, 9, -999.000, 9, -999.000, 9,   2336.3, 2,   2419.8, 2,    7.5723,     25.00,   -999.0, 9,   -999.0,  -999.00, 9,   -999.0,   1.4709, 27.7478,   1.6918, 2, 2, 0.43, 0.14, 0.01, 0.017,  -999.00, 9, -999.00, -999.00, 9, -999.00
49NZ20071122, P14N, 145, 1, 12, X12040, 2, 20071203, 0919, -0.4928, 178.9997, 5457,   3251.2, 2,   1.6364, 2,  34.6741, 2,  34.6737, 2,    140.6, 2,    140.5, 2,   140.77, 2,    36.79, 2,     0.01, 2,     2.58, 2,    0.000, 2,    0.000, 2,    0.000, 2, -999.000, 9,   2334.7, 2,   2418.9, 2,    7.5791,     25.00,   -999.0, 9,   -999.0,  -999.00, 9,   -999.0,   1.3921, 27.7564,   1.6363, 2, 2, 0.43, 0.14, 0.01, 0.016,  -999.00, 9, -999.00, -999.00, 9, -999.00
49NZ20071122, P14N, 145, 1, 11, X12047, 2, 20071203, 0919, -0.4928, 178.9997, 5457,   3501.9, 2,   1.5468, 2,  34.6809, 2,  34.6805, 2,    148.5, 2,    148.5, 2,   139.84, 2,    36.27, 2,     0.01, 2,     2.55, 2, -999.000, 9, -999.000, 9, -999.000, 9, -999.000, 9,   2328.4, 2,   2417.7, 2,    7.5917,     25.00,   -999.0, 9,   -999.0,  -999.00, 9,   -999.0,   1.2793, 27.7699,   1.5469, 2, 2, 0.43, 0.13, 0.01, 0.016,  -999.00, 9, -999.00, -999.00, 9, -999.00
49NZ20071122, P14N, 145, 1, 10, X12012, 2, 20071203, 0919, -0.4928, 178.9997, 5457,   3749.9, 2,   1.5114, 2,  34.6847, 2,  34.6841, 2,    153.9, 2,    153.8, 2,   138.32, 2,    35.98, 2,     0.01, 2,     2.52, 2,    0.002, 2,    0.002, 2,    0.000, 2, -999.000, 9,   2321.5, 2,   2416.5, 2,    7.5990,     25.00,   -999.0, 9,   -999.0,  -999.00, 9,   -999.0,   1.2190, 27.7771,   1.5115, 2, 2, 0.42, 0.13, 0.01, 0.016,  -999.00, 9, -999.00, -999.00, 9, -999.00
49NZ20071122, P14N, 145, 1, 9, X12015, 2, 20071203, 0919, -0.4928, 178.9997, 5457,   3998.6, 2,   1.4398, 2,  34.6910, 2,  34.6908, 6,    162.7, 2,    162.7, 2,   135.91, 2,    35.43, 2,     0.01, 2,     2.47, 2,    0.001, 2,    0.001, 2,    0.000, 2, -999.000, 9,   2317.2, 2,   2413.9, 2,    7.6112,     25.00,   -999.0, 9,   -999.0,  -999.00, 9,   -999.0,   1.1227, 27.7888,   1.4398, 2, 2, 0.42, 0.13, 0.01, 0.016,  -999.00, 9, -999.00, -999.00, 9, -999.00
49NZ20071122, P14N, 145, 1, 8, X12046, 2, 20071203, 0919, -0.4928, 178.9997, 5457,   4250.5, 2,   1.3880, 2,  34.6957, 2,  34.6953, 2,    170.4, 2,    170.3, 2,   133.23, 2,    34.86, 2,     0.01, 2,     2.44, 2,    0.001, 2,    0.000, 2,    0.000, 2, -999.000, 9,   2310.3, 6,   2410.5, 2,    7.6181,     25.00,   -999.0, 9,   -999.0,  -999.00, 9,   -999.0,   1.0447, 27.7978,   1.3880, 2, 2, 0.41, 0.13, 0.01, 0.016,  -999.00, 9, -999.00, -999.00, 9, -999.00
49NZ20071122, P14N, 145, 1, 7, X12044, 2, 20071203, 0919, -0.4928, 178.9997, 5457,   4499.0, 2,   1.2784, 2,  34.7019, 2,  34.7019, 2,    184.1, 2,    184.4, 2,   125.88, 2,    33.79, 2,     0.01, 2,     2.36, 2,    0.003, 2,    0.000, 2,    0.000, 2, -999.000, 9,   2294.4, 2,   2395.4, 6,    7.6251,     25.00,   -999.0, 9,   -999.0,  -999.00, 9,   -999.0,   0.9103, 27.8117,   1.2785, 2, 2, 0.40, 0.13, 0.01, 0.016,  -999.00, 9, -999.00, -999.00, 9, -999.00
49NZ20071122, P14N, 145, 1, 6, X12048, 2, 20071203, 0919, -0.4928, 178.9997, 5457,   4750.2, 2,   1.2616, 2,  34.7039, 2,  34.7043, 2,    189.1, 2,    188.9, 2,   123.63, 2,    33.41, 2,     0.01, 2,     2.34, 2,    0.008, 2,    0.003, 2,    0.000, 2, -999.000, 9,   2288.5, 2,   2389.4, 2,    7.6267,     25.00,   -999.0, 9,   -999.0,  -999.00, 9,   -999.0,   0.8650, 27.8163,   1.2616, 2, 6, 0.39, 0.13, 0.01, 0.016,  -999.00, 9, -999.00, -999.00, 9, -999.00
49NZ20071122, P14N, 145, 1, 5, X12014, 2, 20071203, 0919, -0.4928, 178.9997, 5457,   4999.2, 2,   1.2601, 2,  34.7051, 2,  34.7052, 2,    192.0, 2,    191.9, 2,   122.30, 2,    33.23, 2,     0.01, 2,     2.32, 2,    0.006, 2,    0.003, 2,    0.000, 2, -999.000, 9,   2284.0, 2,   2385.8, 2,    7.6278,     25.00,   -999.0, 9,   -999.0,  -999.00, 9,   -999.0,   0.8340, 27.8192,   1.2601, 2, 2, 0.39, 0.13, 0.01, 0.016,  -999.00, 9, -999.00, -999.00, 9, -999.00
49NZ20071122, P14N, 145, 1, 4, X12006, 2, 20071203, 0919, -0.4928, 178.9997, 5457,   5249.7, 2,   1.2789, 2,  34.7057, 2,  34.7061, 2,    193.6, 2,    193.4, 2,   121.57, 2,    33.13, 2,     0.01, 2,     2.31, 2,    0.002, 2,    0.001, 2,    0.000, 2, -999.000, 9,   2281.9, 2,   2383.5, 2,    7.6276,     25.00,   -999.0, 9,   -999.0,  -999.00, 9,   -999.0,   0.8216, 27.8205,   1.2790, 2, 2, 0.39, 0.13, 0.01, 0.016,  -999.00, 9, -999.00, -999.00, 9, -999.00
49NZ20071122, P14N, 145, 1, 3, X12013, 9, 20071203, 0919, -0.4928, 178.9997, 5457,     10.0, 2,  27.0966, 2,  35.2383, 2, -999.0000, 9,    198.3, 2,   -999.0, 9,  -999.00, 9,  -999.00, 9,  -999.00, 9,  -999.00, 9, -999.000, 9, -999.000, 9, -999.000, 9, -999.000, 9,   -999.0, 9,   -999.0, 9, -999.0000,   -999.00,   -999.0, 9,   -999.0,  -999.00, 9,   -999.0,  27.0943, 22.8671,  27.0924, 2, 9, -999.00, -999.00, -999.00, -999.000,  -999.00, 9, -999.00, -999.00, 9, -999.00
49NZ20071122, P14N, 145, 1, 2, X12002, 9, 20071203, 0919, -0.4928, 178.9997, 5457,     50.4, 2,  26.7596, 2,  35.3795, 2, -999.0000, 9,    190.1, 2,   -999.0, 9,  -999.00, 9,  -999.00, 9,  -999.00, 9,  -999.00, 9, -999.000, 9, -999.000, 9, -999.000, 9, -999.000, 9,   -999.0, 9,   -999.0, 9, -999.0000,   -999.00,   -999.0, 9,   -999.0,  -999.00, 9,   -999.0,  26.7481, 23.0839,  26.7591, 2, 9, -999.00, -999.00, -999.00, -999.000,  -999.00, 9, -999.00, -999.00, 9, -999.00
49NZ20071122, P14N, 145, 1, 1, X12001, 2, 20071203, 0919, -0.4928, 178.9997, 5457,   5544.9, 2,   1.3147, 2,  34.7058, 2,  34.7058, 6,    193.8, 2,    193.7, 2,   121.40, 2,    33.07, 2,     0.00, 2,     2.32, 2,    0.002, 2,    0.002, 2,    0.000, 2, -999.000, 9,   2281.1, 2,   2383.2, 2,    7.6276,     25.00,   -999.0, 9,   -999.0,  -999.00, 9,   -999.0,   0.8191, 27.8208,   1.3149, 2, 2, 0.39, 0.13, 0.01, 0.016,  -999.00, 9, -999.00, -999.00, 9, -999.00