BOTTLE,20220820CCHSIOAMB
EXPOCODE,SECT_ID,STNNBR,CASTNO,SAMPNO,BTLNBR,BTLNBR_FLAG_W,DATE,TIME,LATITUDE,LONGITUDE,DEPTH,CTDPRS,CTDPRS_FLAG_W,CTDTMP,CTDTMP_FLAG_W,CTDSAL,CTDSAL_FLAG_W,SALNTY,SALNTY_FLAG_W,CTDOXY,CTDOXY_FLAG_W,OXYGEN,OXYGEN_FLAG_W,SILCAT,SILCAT_FLAG_W,NITRAT,NITRAT_FLAG_W,NITRIT,NITRIT_FLAG_W,PHSPHT,PHSPHT_FLAG_W,CFC-11,CFC-11_FLAG_W,CFC-12,CFC-12_FLAG_W,CFC113,CFC113_FLAG_W,CCL4,CCL4_FLAG_W,TCARBN,TCARBN_FLAG_W,ALKALI,ALKALI_FLAG_W,PH_TOT,PH_TMP,DELC14,DELC14_FLAG_W,C14ERR,DELC13,DELC13_FLAG_W,C13ERR,THETA,SIG0,SBE35,SBE35_FLAG_W,PH_TOT_FLAG_W,SILUNC,NRAUNC,NRIUNC,PHPUNC,CS-137,CS-137_FLAG_W,CS137ER,PLUTO,PLUTO_FLAG_W,PLUTOER
,,,,,,,,,,,METERS,DBAR,,ITS-90,,PSS-78,,PSS-78,,UMOL/KG,,UMOL/KG,,UMOL/KG,,UMOL/KG,,UMOL/KG,,UMOL/KG,,PMOL/KG,,PMOL/KG,,PMOL/KG,,PMOL/KG,,UMOL/KG,,UMOL/KG,,,DEG C,/MILLE,,/MILLE,/MILLE,,/MILLE,DEG C,KG/M^3,ITS-90,,,UMOL/KG,UMOL/KG,UMOL/KG,UMOL/KG,DM/.1MG,,BQ/M^3,MBQ/M^3,,MBQ/M^3
49NZ20071122, P14, 26, 1, 36, X12042, 2, 20071218, 0857, -26.1042, 176.6637, 4409,     10.2, 2,  23.5337, 2,  35.0159, 2,  34.9893, 2,    216.1, 2,    215.7, 2,     0.47, 2,     0.06, 2,     0.01, 2,     0.06, 2,    1.870, 2,    1.118, 2,    0.250, 4, -999.000, 9,   -999.0, 9,   -999.0, 9, -999.0000,   -999.00,   -999.0, 9,   -999.0,  -999.00, 9,   -999.0,  23.5316, 23.7913,  23.5337, 2, 9, 0.12, 0.03, 0.01, 0.030,  -999.00, 9, -999.00, -999.00, 9, -999.00
49NZ20071122, P14, 26, 1, 35, X12041, 2, 20071218, 0857, -26.1042, 176.6637, 4409,     50.1, 2,  21.7225, 2,  35.6817, 2,  35.6834, 2,    224.1, 2,    223.7, 2,     0.42, 2,     0.04, 2,     0.01, 2,     0.06, 2, -999.000, 9, -999.000, 9, -999.000, 9, -999.000, 9,   -999.0, 9,   -999.0, 9, -999.0000,   -999.00,   -999.0, 9,   -999.0,  -999.00, 9,   -999.0,  21.7127, 24.8164,  21.7215, 2, 9, 0.12, 0.03, 0.01, 0.030,  -999.00, 9, -999.00, -999.00, 9, -999.00
49NZ20071122, P14, 26, 1, 34, X12016, 2, 20071218, 0857, -26.1042, 176.6637, 4409,     99.8, 2,  20.6490, 2,  35.6964, 2,  35.6982, 2,    217.0, 2,    218.8, 2,     0.45, 2,     0.07, 2,     0.01, 2,     0.09, 2,    2.061, 2,    1.229, 2,    0.303, 4, -999.000, 9,   -999.0, 9,   -999.0, 9, -999.0000,   -999.00,   -999.0, 9,   -999.0,  -999.00, 9,   -999.0,  20.6301, 25.1246,  20.6499, 2, 9, 0.12, 0.03, 0.01, 0.023,  -999.00, 9, -999.00, -999.00, 9, -999.00
49NZ20071122, P14, 26, 1, 33, X12033, 2, 20071218, 0857, -26.1042, 176.6637, 4409,    150.0, 2,  19.3802, 2,  35.7285, 2,  35.7288, 2,    208.4, 2,    203.3, 2,     0.75, 2,     2.23, 2,     0.05, 2,     0.26, 2, -999.000, 9, -999.000, 9, -999.000, 9, -999.000, 9,   -999.0, 9,   -999.0, 9, -999.0000,   -999.00,   -999.0, 9,   -999.0,  -999.00, 9,   -999.0,  19.3530, 25.4871,  19.3818, 2, 9, 0.12, 0.04, 0.01, 0.015,  -999.00, 9, -999.00, -999.00, 9, -999.00
49NZ20071122, P14, 26, 1, 32, X12038, 2, 20071218, 0857, -26.1042, 176.6637, 4409,    199.7, 2,  18.5151, 2,  35.7355, 2,  35.7344, 2,    214.0, 2,    212.7, 2,     0.70, 2,     2.25, 2,     0.02, 2,     0.26, 2,    2.257, 2,    1.304, 2,    0.191, 4, -999.000, 9,   -999.0, 9,   -999.0, 9, -999.0000,   -999.00,   -999.0, 9,   -999.0,  -999.00, 9,   -999.0,  18.4800, 25.7157,  18.5158, 2, 9, 0.12, 0.04, 0.01, 0.015,  -999.00, 9, -999.00, -999.00, 9, -999.00
49NZ20071122, P14, 26, 1, 31, X12003, 2, 20071218, 0857, -26.1042, 176.6637, 4409,    249.9, 2,  17.9019, 2,  35.6839, 2,  35.6700, 6,    210.4, 2,    208.0, 2,     1.01, 2,     3.51, 2,     0.02, 2,     0.35, 2, -999.000, 9, -999.000, 9, -999.000, 9, -999.000, 9,   -999.0, 9,   -999.0, 9, -999.0000,   -999.00,   -999.0, 9,   -999.0,  -999.00, 9,   -999.0,  17.8589, 25.8309,  17.9015, 2, 9, 0.12, 0.04, 0.01, 0.014,  -999.00, 9, -999.00, -999.00, 9, -999.00
49NZ20071122, P14, 26, 1, 30, X12008, 2, 20071218, 0857, -26.1042, 176.6637, 4409,    329.6, 2,  15.6218, 2,  35.4103, 2,  35.4042, 2,    197.2, 2,    195.9, 2,     1.94, 2,     7.22, 2,     0.01, 2,     0.60, 2,    2.455, 2,    1.354, 2,    0.075, 2, -999.000, 9,   -999.0, 9,   -999.0, 9, -999.0000,   -999.00,   -999.0, 9,   -999.0,  -999.00, 9,   -999.0,  15.5701, 26.1612,  15.6229, 2, 9, 0.12, 0.05, 0.01, 0.013,  -999.00, 9, -999.00, -999.00, 9, -999.00
49NZ20071122, P14, 26, 1, 29, X12035, 2, 20071218, 0857, -26.1042, 176.6637, 4409,    429.9, 2,  13.1534, 2,  35.1385, 2,  35.1211, 2,    197.6, 2,    197.0, 2,     3.54, 2,    11.66, 2,     0.01, 2,     0.88, 2,    2.539, 2,    1.359, 2,    0.077, 2, -999.000, 9,   -999.0, 9,   -999.0, 9, -999.0000,   -999.00,   -999.0, 9,   -999.0,  -999.00, 9,   -999.0,  13.0932, 26.4814,  13.1539, 2, 9, 0.13, 0.07, 0.01, 0.013,  -999.00, 9, -999.00, -999.00, 9, -999.00
49NZ20071122, P14, 26, 1, 28, X12034, 2, 20071218, 0857, -26.1042, 176.6637, 4409,    531.8, 2,  10.6288, 2,  34.8104, 2,  34.8157, 6,    200.0, 2,    199.9, 2,     5.32, 2,    16.33, 2,     0.01, 2,     1.18, 2,    2.481, 2,    1.270, 2,    0.076, 2, -999.000, 9,   -999.0, 9,   -999.0, 9, -999.0000,   -999.00,   -999.0, 9,   -999.0,  -999.00, 9,   -999.0,  10.5638, 26.7059,  10.6246, 2, 9, 0.13, 0.08, 0.01, 0.013,  -999.00, 9, -999.00, -999.00, 9, -999.00
49NZ20071122, P14, 26, 1, 27, X12049, 2, 20071218, 0857, -26.1042, 176.6637, 4409,    630.7, 2,   8.1166, 2,  34.5068, 2,  34.5054, 2,    213.1, 2,    215.3, 2,     7.03, 2,    20.84, 2,     0.01, 2,     1.47, 2,    2.369, 2,    1.152, 2,    0.079, 2, -999.000, 9,   -999.0, 9,   -999.0, 9, -999.0000,   -999.00,   -999.0, 9,   -999.0,  -999.00, 9,   -999.0,   8.0509, 26.8789,   8.1168, 2, 9, 0.13, 0.09, 0.01, 0.014,  -999.00, 9, -999.00, -999.00, 9, -999.00
49NZ20071122, P14, 26, 1, 26, X12032, 2, 20071218, 0857, -26.1042, 176.6637, 4409,    730.0, 2,   6.8276, 2,  34.3993, 2,  34.3969, 2,    219.7, 2,    220.4, 2,    10.57, 2,    23.87, 2,     0.01, 2,     1.68, 2,    1.779, 2,    0.848, 2,    0.056, 2, -999.000, 9,   -999.0, 9,   -999.0, 9, -999.0000,   -999.00,   -999.0, 9,   -999.0,  -999.00, 9,   -999.0,   6.7582, 26.9786,   6.8283, 2, 9, 0.14, 0.10, 0.01, 0.014,  -999.00, 9, -999.00, -999.00, 9, -999.00
49NZ20071122, P14, 26, 1, 25, X12043, 2, 20071218, 0857, -26.1042, 176.6637, 4409,    831.6, 2,   6.0965, 2,  34.3629, 2,  34.3618, 2,    215.9, 2,    214.6, 2,    15.58, 2,    26.22, 2,     0.01, 2,     1.83, 2,    1.228, 2,    0.593, 2,    0.043, 2, -999.000, 9,   -999.0, 9,   -999.0, 9, -999.0000,   -999.00,   -999.0, 9,   -999.0,  -999.00, 9,   -999.0,   6.0215, 27.0464,   6.0973, 2, 9, 0.15, 0.11, 0.01, 0.015,  -999.00, 9, -999.00, -999.00, 9, -999.00
49NZ20071122, P14, 26, 1, 24, X12030, 2, 20071218, 0857, -26.1042, 176.6637, 4409,    929.4, 2,   5.4030, 2,  34.3571, 2,  34.3576, 2,    201.8, 2,    201.3, 2,    24.11, 2,    28.83, 2,     0.01, 2,     2.00, 2,    0.661, 2,    0.323, 2,    0.017, 2, -999.000, 9,   -999.0, 9,   -999.0, 9, -999.0000,   -999.00,   -999.0, 9,   -999.0,  -999.00, 9,   -999.0,   5.3234, 27.1277,   5.4036, 2, 9, 0.17, 0.11, 0.01, 0.015,  -999.00, 9, -999.00, -999.00, 9, -999.00
49NZ20071122, P14, 26, 1, 23, X12027, 2, 20071218, 0857, -26.1042, 176.6637, 4409,   1070.9, 2,   4.5630, 2,  34.3884, 2,  34.3910, 6,    186.5, 2,    185.9, 2,    39.09, 2,    31.38, 2,     0.01, 2,     2.19, 2,    0.284, 2,    0.143, 2,    0.005, 2, -999.000, 9,   -999.0, 9,   -999.0, 9, -999.0000,   -999.00,   -999.0, 9,   -999.0,  -999.00, 9,   -999.0,   4.4770, 27.2490,   4.5634, 2, 9, 0.20, 0.12, 0.01, 0.016,  -999.00, 9, -999.00, -999.00, 9, -999.00
49NZ20071122, P14, 26, 1, 22, X12028, 2, 20071218, 0857, -26.1042, 176.6637, 4409,   1270.1, 2,   3.4792, 2,  34.4984, 2,  34.5012, 3,    166.5, 2,    165.5, 2,    70.02, 2,    33.76, 2,     0.01, 2,     2.37, 2,    0.059, 2,    0.030, 2,    0.000, 2, -999.000, 9,   -999.0, 9,   -999.0, 9, -999.0000,   -999.00,   -999.0, 9,   -999.0,  -999.00, 9,   -999.0,   3.3856, 27.4485,   3.4793, 2, 9, 0.27, 0.13, 0.01, 0.016,  -999.00, 9, -999.00, -999.00, 9, -999.00
49NZ20071122, P14, 26, 1, 21, X12009, 2, 20071218, 0857, -26.1042, 176.6637, 4409,   1471.9, 2,   2.9801, 2,  34.5637, 2,  34.5642, 2,    156.4, 2,    156.2, 2,    88.13, 2,    34.54, 2,     0.01, 2,     2.44, 2,    0.017, 2,    0.007, 2,    0.000, 2, -999.000, 9,   -999.0, 9,   -999.0, 9, -999.0000,   -999.00,   -999.0, 9,   -999.0,  -999.00, 9,   -999.0,   2.8749, 27.5482,   2.9801, 2, 9, 0.31, 0.13, 0.01, 0.016,  -999.00, 9, -999.00, -999.00, 9, -999.00
49NZ20071122, P14, 26, 1, 20, X12026, 2, 20071218, 0857, -26.1042, 176.6637, 4409,   1671.3, 2,   2.6172, 2,  34.6034, 2,  34.6033, 2,    152.8, 2,    152.7, 2,   100.00, 2,    35.09, 2,     0.01, 2,     2.48, 2,    0.005, 2,    0.004, 2,    0.000, 2, -999.000, 9,   -999.0, 9,   -999.0, 9, -999.0000,   -999.00,   -999.0, 9,   -999.0,  -999.00, 9,   -999.0,   2.4997, 27.6128,   2.6173, 2, 9, 0.34, 0.13, 0.01, 0.016,  -999.00, 9, -999.00, -999.00, 9, -999.00
49NZ20071122, P14, 26, 1, 19, X12025, 2, 20071218, 0857, -26.1042, 176.6637, 4409,   1869.8, 2,   2.3830, 2,  34.6252, 2,  34.6249, 2,    151.2, 2,    151.1, 2,   107.03, 2,    35.26, 2,     0.01, 2,     2.49, 2,    0.002, 2,    0.001, 2,    0.000, 2, -999.000, 9,   -999.0, 9,   -999.0, 9, -999.0000,   -999.00,   -999.0, 9,   -999.0,  -999.00, 9,   -999.0,   2.2519, 27.6510,   2.3831, 2, 9, 0.35, 0.13, 0.01, 0.016,  -999.00, 9, -999.00, -999.00, 9, -999.00
49NZ20071122, P14, 26, 1, 18, X12024, 2, 20071218, 0857, -26.1042, 176.6637, 4409,   2070.6, 2,   2.2276, 2,  34.6402, 2,  34.6401, 2,    151.3, 2,    151.2, 2,   111.48, 2,    35.30, 2,     0.01, 2,     2.50, 2, -999.000, 9, -999.000, 9, -999.000, 9, -999.000, 9,   -999.0, 9,   -999.0, 9, -999.0000,   -999.00,   -999.0, 9,   -999.0,  -999.00, 9,   -999.0,   2.0816, 27.6769,   2.2279, 2, 9, 0.36, 0.13, 0.01, 0.016,  -999.00, 9, -999.00, -999.00, 9, -999.00
49NZ20071122, P14, 26, 1, 17, X12023, 2, 20071218, 0857, -26.1042, 176.6637, 4409,   2270.4, 2,   2.1185, 2,  34.6510, 2,  34.6507, 6,    151.8, 2,    151.8, 2,   114.07, 2,    35.40, 2,     0.01, 2,     2.50, 2,    0.001, 2,    0.003, 2,    0.000, 2, -999.000, 9,   -999.0, 9,   -999.0, 9, -999.0000,   -999.00,   -999.0, 9,   -999.0,  -999.00, 9,   -999.0,   1.9568, 27.6955,   2.1185, 2, 9, 0.37, 0.13, 0.01, 0.016,  -999.00, 9, -999.00, -999.00, 9, -999.00
49NZ20071122, P14, 26, 1, 16, X12022, 2, 20071218, 0857, -26.1042, 176.6637, 4409,   2470.8, 2,   2.0109, 2,  34.6615, 2,  34.6612, 2,    152.6, 2,    152.7, 2,   116.72, 2,    35.29, 2,     0.01, 2,     2.49, 2, -999.000, 9, -999.000, 9, -999.000, 9, -999.000, 9,   -999.0, 9,   -999.0, 9, -999.0000,   -999.00,   -999.0, 9,   -999.0,  -999.00, 9,   -999.0,   1.8330, 27.7135,   2.0109, 2, 9, 0.38, 0.13, 0.01, 0.016,  -999.00, 9, -999.00, -999.00, 9, -999.00
49NZ20071122, P14, 26, 1, 15, X12021, 2, 20071218, 0857, -26.1042, 176.6637, 4409,   2669.8, 2,   1.9265, 2,  34.6697, 2,  34.6694, 2,    153.5, 2,    153.5, 2,   119.01, 2,    35.31, 2,     0.01, 2,     2.49, 2,    0.000, 2,    0.000, 2,    0.000, 2, -999.000, 9,   -999.0, 9,   -999.0, 9, -999.0000,   -999.00,   -999.0, 9,   -999.0,  -999.00, 9,   -999.0,   1.7319, 27.7278,   1.9264, 2, 9, 0.38, 0.13, 0.01, 0.016,  -999.00, 9, -999.00, -999.00, 9, -999.00
49NZ20071122, P14, 26, 1, 14, X12020, 2, 20071218, 0857, -26.1042, 176.6637, 4409,   2870.2, 2,   1.8802, 2,  34.6746, 2,  34.6741, 2,    154.0, 2,    154.2, 2,   120.27, 2,    35.34, 2,     0.01, 2,     2.49, 2, -999.000, 9, -999.000, 9, -999.000, 9, -999.000, 9,   -999.0, 9,   -999.0, 9, -999.0000,   -999.00,   -999.0, 9,   -999.0,  -999.00, 9,   -999.0,   1.6676, 27.7367,   1.8801, 2, 9, 0.38, 0.13, 0.01, 0.016,  -999.00, 9, -999.00, -999.00, 9, -999.00
49NZ20071122, P14, 26, 1, 13, X12019, 2, 20071218, 0857, -26.1042, 176.6637, 4409,   3078.6, 2,   1.8497, 2,  34.6780, 2,  34.6777, 2,    154.7, 2,    154.6, 2,   121.41, 2,    35.31, 2,     0.01, 2,     2.49, 2,    0.000, 2,    0.000, 2,    0.000, 2, -999.000, 9,   -999.0, 9,   -999.0, 9, -999.0000,   -999.00,   -999.0, 9,   -999.0,  -999.00, 9,   -999.0,   1.6175, 27.7431,   1.8497, 2, 9, 0.39, 0.13, 0.01, 0.016,  -999.00, 9, -999.00, -999.00, 9, -999.00
49NZ20071122, P14, 26, 1, 12, X12040, 2, 20071218, 0857, -26.1042, 176.6637, 4409,   3329.4, 2,   1.8359, 2,  34.6804, 2,  34.6802, 2,    155.1, 2,    155.1, 2,   122.01, 2,    35.25, 2,     0.01, 2,     2.48, 2, -999.000, 9, -999.000, 9, -999.000, 9, -999.000, 9,   -999.0, 9,   -999.0, 9, -999.0000,   -999.00,   -999.0, 9,   -999.0,  -999.00, 9,   -999.0,   1.5789, 27.7479,   1.8358, 2, 9, 0.39, 0.13, 0.01, 0.016,  -999.00, 9, -999.00, -999.00, 9, -999.00
49NZ20071122, P14, 26, 1, 11, X12047, 2, 20071218, 0857, -26.1042, 176.6637, 4409,   3580.7, 2,   1.8400, 2,  34.6817, 2,  34.6814, 2,    155.3, 2,    155.4, 2,   122.92, 2,    35.26, 2,     0.01, 2,     2.48, 2,    0.000, 2,    0.000, 2,    0.000, 2, -999.000, 9,   -999.0, 9,   -999.0, 9, -999.0000,   -999.00,   -999.0, 9,   -999.0,  -999.00, 9,   -999.0,   1.5569, 27.7505,   1.8400, 2, 9, 0.39, 0.13, 0.01, 0.016,  -999.00, 9, -999.00, -999.00, 9, -999.00
49NZ20071122, P14, 26, 1, 10, X12012, 2, 20071218, 0857, -26.1042, 176.6637, 4409,   3828.9, 2,   1.8546, 2,  34.6823, 2,  34.6824, 2,    155.6, 2,    155.6, 2,   123.29, 2,    35.25, 2,     0.00, 2,     2.49, 2, -999.000, 9, -999.000, 9, -999.000, 9, -999.000, 9,   -999.0, 9,   -999.0, 9, -999.0000,   -999.00,   -999.0, 9,   -999.0,  -999.00, 9,   -999.0,   1.5445, 27.7520,   1.8546, 2, 9, 0.39, 0.13, 0.01, 0.016,  -999.00, 9, -999.00, -999.00, 9, -999.00
49NZ20071122, P14, 26, 1, 9, X12015, 2, 20071218, 0857, -26.1042, 176.6637, 4409,   4080.3, 2,   1.8747, 2,  34.6826, 2,  34.6828, 6,    155.9, 2,    155.5, 2,   123.33, 2,    35.30, 2,     0.01, 2,     2.49, 2,    0.001, 2,    0.000, 2,    0.000, 2, -999.000, 9,   -999.0, 9,   -999.0, 9, -999.0000,   -999.00,   -999.0, 9,   -999.0,  -999.00, 9,   -999.0,   1.5363, 27.7528,   1.8747, 2, 9, 0.39, 0.13, 0.01, 0.016,  -999.00, 9, -999.00, -999.00, 9, -999.00
49NZ20071122, P14, 26, 1, 8, X12046, 2, 20071218, 0857, -26.1042, 176.6637, 4409,   4330.6, 2,   1.8975, 2,  34.6827, 2,  34.6832, 2,    156.2, 2,    155.8, 2,   123.50, 2,    35.26, 2,     0.01, 2,     2.48, 2, -999.000, 9, -999.000, 9, -999.000, 9, -999.000, 9,   -999.0, 9,   -999.0, 9, -999.0000,   -999.00,   -999.0, 9,   -999.0,  -999.00, 9,   -999.0,   1.5300, 27.7534,   1.8975, 2, 9, 0.39, 0.13, 0.01, 0.016,  -999.00, 9, -999.00, -999.00, 9, -999.00
49NZ20071122, P14, 26, 1, 7, X12044, 9, 20071218, 0857, -26.1042, 176.6637, 4409,      9.9, 2,  23.5896, 2,  34.9783, 2, -999.0000, 9,    216.1, 2,   -999.0, 9,  -999.00, 9,  -999.00, 9,  -999.00, 9,  -999.00, 9, -999.000, 9, -999.000, 9, -999.000, 9, -999.000, 9,   -999.0, 9,   -999.0, 9, -999.0000,   -999.00,   -999.0, 9,   -999.0,  -999.00, 9,   -999.0,  23.5875, 23.7464,  23.6049, 2, 9, -999.00, -999.00, -999.00, -999.000,  -999.00, 9, -999.00, -999.00, 9, -999.00
49NZ20071122, P14, 26, 1, 6, X12048, 9, 20071218, 0857, -26.1042, 176.6637, 4409,    929.9, 2,   5.4009, 2,  34.3572, 2, -999.0000, 9,    201.7, 2,   -999.0, 9,  -999.00, 9,  -999.00, 9,  -999.00, 9,  -999.00, 9, -999.000, 9, -999.000, 9, -999.000, 9, -999.000, 9,   -999.0, 9,   -999.0, 9, -999.0000,   -999.00,   -999.0, 9,   -999.0,  -999.00, 9,   -999.0,   5.3213, 27.1281,   5.4009, 2, 9, -999.00, -999.00, -999.00, -999.000,  -999.00, 9, -999.00, -999.00, 9, -999.00
49NZ20071122, P14, 26, 1, 5, X12014, 9, 20071218, 0857, -26.1042, 176.6637, 4409,   1069.8, 2,   4.5623, 2,  34.3879, 2, -999.0000, 9,    186.6, 2,   -999.0, 9,  -999.00, 9,  -999.00, 9,  -999.00, 9,  -999.00, 9, -999.000, 9, -999.000, 9, -999.000, 9, -999.000, 9,   -999.0, 9,   -999.0, 9, -999.0000,   -999.00,   -999.0, 9,   -999.0,  -999.00, 9,   -999.0,   4.4764, 27.2487,   4.5629, 2, 9, -999.00, -999.00, -999.00, -999.000,  -999.00, 9, -999.00, -999.00, 9, -999.00
49NZ20071122, P14, 26, 1, 4, X12006, 9, 20071218, 0857, -26.1042, 176.6637, 4409,   1270.5, 2,   3.4778, 2,  34.4986, 2, -999.0000, 9,    166.5, 2,   -999.0, 9,  -999.00, 9,  -999.00, 9,  -999.00, 9,  -999.00, 9, -999.000, 9, -999.000, 9, -999.000, 9, -999.000, 9,   -999.0, 9,   -999.0, 9, -999.0000,   -999.00,   -999.0, 9,   -999.0,  -999.00, 9,   -999.0,   3.3842, 27.4488,   3.4780, 2, 9, -999.00, -999.00, -999.00, -999.000,  -999.00, 9, -999.00, -999.00, 9, -999.00
49NZ20071122, P14, 26, 1, 3, X12013, 9, 20071218, 0857, -26.1042, 176.6637, 4409,   3580.5, 2,   1.8400, 2,  34.6818, 2, -999.0000, 9,    155.3, 2,   -999.0, 9,  -999.00, 9,  -999.00, 9,  -999.00, 9,  -999.00, 9, -999.000, 9, -999.000, 9, -999.000, 9, -999.000, 9,   -999.0, 9,   -999.0, 9, -999.0000,   -999.00,   -999.0, 9,   -999.0,  -999.00, 9,   -999.0,   1.5569, 27.7506,   1.8400, 2, 9, -999.00, -999.00, -999.00, -999.000,  -999.00, 9, -999.00, -999.00, 9, -999.00
49NZ20071122, P14, 26, 1, 2, X12002, 9, 20071218, 0857, -26.1042, 176.6637, 4409,   1670.7, 2,   2.6180, 2,  34.6033, 2, -999.0000, 9,    152.8, 2,   -999.0, 9,  -999.00, 9,  -999.00, 9,  -999.00, 9,  -999.00, 9, -999.000, 9, -999.000, 9, -999.000, 9, -999.000, 9,   -999.0, 9,   -999.0, 9, -999.0000,   -999.00,   -999.0, 9,   -999.0,  -999.00, 9,   -999.0,   2.5005, 27.6126,   2.6175, 2, 9, -999.00, -999.00, -999.00, -999.000,  -999.00, 9, -999.00, -999.00, 9, -999.00
49NZ20071122, P14, 26, 1, 1, X12001, 2, 20071218, 0857, -26.1042, 176.6637, 4409,   4472.0, 2,   1.9119, 2,  34.6828, 2,  34.6832, 6,    156.1, 2,    155.8, 2,   123.51, 2,    35.24, 2,     0.01, 2,     2.48, 2,    0.000, 2,    0.001, 2,    0.000, 2, -999.000, 9,   -999.0, 9,   -999.0, 9, -999.0000,   -999.00,   -999.0, 9,   -999.0,  -999.00, 9,   -999.0,   1.5275, 27.7536,   1.9118, 2, 9, 0.39, 0.13, 0.01, 0.016,  -999.00, 9, -999.00, -999.00, 9, -999.00