BOTTLE,20220820CCHSIOAMB
EXPOCODE,SECT_ID,STNNBR,CASTNO,SAMPNO,BTLNBR,BTLNBR_FLAG_W,DATE,TIME,LATITUDE,LONGITUDE,DEPTH,CTDPRS,CTDPRS_FLAG_W,CTDTMP,CTDTMP_FLAG_W,CTDSAL,CTDSAL_FLAG_W,SALNTY,SALNTY_FLAG_W,CTDOXY,CTDOXY_FLAG_W,OXYGEN,OXYGEN_FLAG_W,SILCAT,SILCAT_FLAG_W,NITRAT,NITRAT_FLAG_W,NITRIT,NITRIT_FLAG_W,PHSPHT,PHSPHT_FLAG_W,CFC-11,CFC-11_FLAG_W,CFC-12,CFC-12_FLAG_W,CFC113,CFC113_FLAG_W,CCL4,CCL4_FLAG_W,TCARBN,TCARBN_FLAG_W,ALKALI,ALKALI_FLAG_W,PH_TOT,PH_TMP,DELC14,DELC14_FLAG_W,C14ERR,DELC13,DELC13_FLAG_W,C13ERR,THETA,SIG0,SBE35,SBE35_FLAG_W,PH_TOT_FLAG_W,SILUNC,NRAUNC,NRIUNC,PHPUNC,CS-137,CS-137_FLAG_W,CS137ER,PLUTO,PLUTO_FLAG_W,PLUTOER
,,,,,,,,,,,METERS,DBAR,,ITS-90,,PSS-78,,PSS-78,,UMOL/KG,,UMOL/KG,,UMOL/KG,,UMOL/KG,,UMOL/KG,,UMOL/KG,,PMOL/KG,,PMOL/KG,,PMOL/KG,,PMOL/KG,,UMOL/KG,,UMOL/KG,,,DEG C,/MILLE,,/MILLE,/MILLE,,/MILLE,DEG C,KG/M^3,ITS-90,,,UMOL/KG,UMOL/KG,UMOL/KG,UMOL/KG,DM/.1MG,,BQ/M^3,MBQ/M^3,,MBQ/M^3
49NZ20071122, P14N, 119, 1, 36, X12042, 2, 20071126, 0516, 6.0068, 178.9960, 5799,      9.4, 2,  28.2251, 2,  34.7387, 2,  34.7429, 2,    199.0, 2,    197.9, 2,     1.23, 2,     0.25, 2,     0.05, 2,     0.21, 2,    1.463, 2,    0.910, 2,    0.170, 4, -999.000, 9,   1948.7, 2,   2285.5, 2,    8.1079,     25.00,   -999.0, 9,   -999.0,  -999.00, 9,   -999.0,  28.2229, 22.1252,  28.2247, 2, 6, 0.12, 0.03, 0.01, 0.016,  -999.00, 9, -999.00, -999.00, 9, -999.00
49NZ20071122, P14N, 119, 1, 35, X12041, 2, 20071126, 0516, 6.0068, 178.9960, 5799,     49.4, 2,  28.2547, 2,  34.8365, 2,  34.8372, 2,    197.4, 2,    197.2, 2,     1.17, 2,     0.22, 2,     0.05, 2,     0.21, 2,    1.449, 2,    0.894, 2,    0.169, 4, -999.000, 9,   1956.8, 6,   2290.6, 2,    8.1067,     25.00,   -999.0, 9,   -999.0,  -999.00, 9,   -999.0,  28.2430, 22.1921,  28.2532, 2, 2, 0.12, 0.03, 0.01, 0.016,  -999.00, 9, -999.00, -999.00, 9, -999.00
49NZ20071122, P14N, 119, 1, 34, X12016, 2, 20071126, 0516, 6.0068, 178.9960, 5799,    101.3, 2,  28.1875, 2,  34.9635, 2,  34.9652, 2,    194.7, 2,    194.6, 2,     1.27, 2,     0.44, 2,     0.11, 2,     0.25, 2,    1.461, 2,    0.895, 2,    0.179, 4, -999.000, 9,   1970.3, 2,   2299.7, 2,    8.0957,     25.00,   -999.0, 9,   -999.0,  -999.00, 9,   -999.0,  28.1635, 22.3136,  28.1851, 2, 2, 0.12, 0.03, 0.01, 0.015,  -999.00, 9, -999.00, -999.00, 9, -999.00
49NZ20071122, P14N, 119, 1, 33, X12033, 2, 20071126, 0516, 6.0068, 178.9960, 5799,    150.0, 2,  26.8068, 2,  34.9807, 2,  35.0182, 2,    158.4, 2,    177.3, 2,     2.01, 2,     2.29, 2,     0.73, 2,     0.39, 2,    1.568, 6,    0.951, 6,    0.182, 4, -999.000, 9,   2002.0, 2,   2302.5, 2,    8.0472,     25.00,   -999.0, 9,   -999.0,  -999.00, 9,   -999.0,  26.7726, 22.7757,  26.8252, 2, 6, 0.12, 0.04, 0.00, 0.013,  -999.00, 9, -999.00, -999.00, 9, -999.00
49NZ20071122, P14N, 119, 1, 32, X12038, 2, 20071126, 0516, 6.0068, 178.9960, 5799,    199.6, 2,  17.8416, 2,  34.6756, 2,  34.6725, 2,    156.0, 2,    154.9, 2,     6.36, 2,     8.39, 2,     0.05, 2,     0.74, 2,    2.292, 2,    1.284, 2,    0.087, 2, -999.000, 9,   2083.3, 2,   2286.0, 2,    7.8683,     25.00,   -999.0, 9,   -999.0,  -999.00, 9,   -999.0,  17.8076, 25.0707,  17.7975, 2, 2, 0.13, 0.06, 0.01, 0.013,  -999.00, 9, -999.00, -999.00, 9, -999.00
49NZ20071122, P14N, 119, 1, 31, X12003, 2, 20071126, 0516, 6.0068, 178.9960, 5799,    249.8, 2,  11.5732, 2,  34.5806, 2,  34.5843, 6,     32.9, 2,     34.9, 2,    26.46, 2,    30.28, 2,     0.01, 2,     2.27, 2,    0.955, 2,    0.503, 2,    0.018, 2, -999.000, 9,   2227.6, 2,   2289.2, 2,    7.5178,     25.00,   -999.0, 9,   -999.0,  -999.00, 9,   -999.0,  11.5414, 26.3496,  11.5398, 2, 2, 0.18, 0.12, 0.01, 0.016,  -999.00, 9, -999.00, -999.00, 9, -999.00
49NZ20071122, P14N, 119, 1, 30, X12008, 2, 20071126, 0516, 6.0068, 178.9960, 5799,    330.3, 2,   9.8132, 2,  34.6641, 2,  34.6624, 2,     32.8, 2,     33.5, 2,    32.79, 2,    34.30, 2,     0.02, 2,     2.45, 2,    0.318, 2,    0.169, 2,    0.008, 2, -999.000, 9,   2250.8, 2,   2303.8, 2,    7.4917,     25.00,   -999.0, 9,   -999.0,  -999.00, 9,   -999.0,   9.7752, 26.7277,   9.8137, 2, 2, 0.19, 0.13, 0.01, 0.016,  -999.00, 9, -999.00, -999.00, 9, -999.00
49NZ20071122, P14N, 119, 1, 29, X12035, 2, 20071126, 0516, 6.0068, 178.9960, 5799,    430.9, 2,   8.8161, 2,  34.6297, 2,  34.6290, 2,     56.9, 2,     35.4, 2,    37.77, 2,    36.09, 2,     0.01, 2,     2.59, 2,    0.162, 2,    0.088, 2,    0.006, 2, -999.000, 9,   2261.5, 2,   2308.1, 2,    7.4740,     25.00,   -999.0, 9,   -999.0,  -999.00, 9,   -999.0,   8.7695, 26.8648,   8.8162, 2, 2, 0.20, 0.13, 0.01, 0.016,  -999.00, 9, -999.00, -999.00, 9, -999.00
49NZ20071122, P14N, 119, 1, 28, X12034, 2, 20071126, 0516, 6.0068, 178.9960, 5799,    530.3, 2,   8.0441, 2,  34.5977, 2,  34.5965, 6,     41.1, 2,     40.0, 2,    43.03, 2,    37.00, 2,     0.02, 2,     2.69, 2,    0.112, 2,    0.057, 2,    0.008, 2, -999.000, 9,   2266.9, 2,   2313.4, 2,    7.4701,     25.00,   -999.0, 9,   -999.0,  -999.00, 9,   -999.0,   7.9894, 26.9595,   8.0437, 2, 2, 0.21, 0.14, 0.01, 0.017,  -999.00, 9, -999.00, -999.00, 9, -999.00
49NZ20071122, P14N, 119, 1, 27, X12049, 2, 20071126, 0516, 6.0068, 178.9960, 5799,    630.4, 2,   6.9052, 2,  34.5588, 2,  34.5579, 2,     33.3, 2,     33.2, 2,    55.63, 2,    39.90, 2,     0.01, 2,     2.92, 2,    0.023, 2,    0.012, 2,    0.004, 2, -999.000, 9,   2289.8, 2,   2324.7, 2,    7.4388,     25.00,   -999.0, 9,   -999.0,  -999.00, 9,   -999.0,   6.8452, 27.0925,   6.9053, 2, 2, 0.24, 0.14, 0.01, 0.017,  -999.00, 9, -999.00, -999.00, 9, -999.00
49NZ20071122, P14N, 119, 1, 26, X12032, 2, 20071126, 0516, 6.0068, 178.9960, 5799,    730.5, 2,   6.1395, 2,  34.5479, 2,  34.5474, 2,     39.7, 2,     40.0, 2,    63.99, 2,    41.06, 2,     0.01, 2,     2.97, 2,    0.011, 6,    0.006, 6,    0.004, 6, -999.000, 9,   2296.9, 6,   2333.4, 2,    7.4379,     25.00,   -999.0, 9,   -999.0,  -999.00, 9,   -999.0,   6.0737, 27.1860,   6.1400, 2, 2, 0.26, 0.15, 0.01, 0.017,  -999.00, 9, -999.00, -999.00, 9, -999.00
49NZ20071122, P14N, 119, 1, 25, X12043, 2, 20071126, 0516, 6.0068, 178.9960, 5799,    831.3, 2,   5.5338, 2,  34.5468, 2,  34.5464, 2,     50.4, 2,     47.0, 2,    71.78, 2,    41.60, 2,     0.01, 2,     3.00, 2,    0.005, 2,    0.001, 2,    0.000, 2, -999.000, 9,   2305.1, 2,   2342.1, 6,    7.4423,     25.00,   -999.0, 9,   -999.0,  -999.00, 9,   -999.0,   5.4621, 27.2613,   5.5342, 2, 2, 0.28, 0.15, 0.01, 0.017,  -999.00, 9, -999.00, -999.00, 9, -999.00
49NZ20071122, P14N, 119, 1, 24, X12030, 2, 20071126, 0516, 6.0068, 178.9960, 5799,    929.5, 2,   5.0030, 2,  34.5517, 2,  34.5515, 2,     52.4, 2,     52.3, 2,    80.48, 2,    41.89, 2,     0.01, 2,     3.00, 2,    0.000, 2,    0.000, 2,    0.000, 2, -999.000, 9,   2313.7, 2,   2351.9, 2,    7.4472,     25.00,   -999.0, 9,   -999.0,  -999.00, 9,   -999.0,   4.9259, 27.3284,   5.0034, 2, 6, 0.30, 0.15, 0.01, 0.017,  -999.00, 9, -999.00, -999.00, 9, -999.00
49NZ20071122, P14N, 119, 1, 23, X12027, 2, 20071126, 0516, 6.0068, 178.9960, 5799,   1069.4, 2,   4.4656, 2,  34.5608, 2,  34.5608, 6,     59.1, 2,     59.1, 2,    91.05, 2,    41.65, 2,     0.01, 2,     3.01, 2,    0.000, 2,    0.000, 2,    0.000, 2, -999.000, 9,   2320.3, 2,   2363.6, 2,    7.4557,     25.00,   -999.0, 9,   -999.0,  -999.00, 9,   -999.0,   4.3802, 27.3965,   4.4660, 2, 2, 0.32, 0.15, 0.01, 0.017,  -999.00, 9, -999.00, -999.00, 9, -999.00
49NZ20071122, P14N, 119, 1, 22, X12028, 2, 20071126, 0516, 6.0068, 178.9960, 5799,   1267.9, 2,   3.7240, 2,  34.5790, 2,  34.5794, 2,     72.3, 2,     72.2, 2,   106.27, 2,    41.06, 2,     0.01, 2,     2.96, 2,    0.003, 2,    0.001, 2,    0.000, 2, -999.000, 9,   2330.9, 2,   2380.6, 2,    7.4754,     25.00,   -999.0, 9,   -999.0,  -999.00, 9,   -999.0,   3.6280, 27.4890,   3.7238, 2, 2, 0.35, 0.15, 0.01, 0.017,  -999.00, 9, -999.00, -999.00, 9, -999.00
49NZ20071122, P14N, 119, 1, 21, X12009, 2, 20071126, 0516, 6.0068, 178.9960, 5799,   1471.2, 2,   3.1397, 2,  34.5979, 2,  34.5981, 2,     83.5, 2,     85.2, 2,   117.74, 2,    40.24, 2,     0.01, 2,     2.89, 2, -999.000, 9, -999.000, 9, -999.000, 9, -999.000, 9,   2336.5, 2,   2393.2, 2,    7.4946,     25.00,   -999.0, 9,   -999.0,  -999.00, 9,   -999.0,   3.0326, 27.5611,   3.1400, 2, 2, 0.38, 0.15, 0.01, 0.017,  -999.00, 9, -999.00, -999.00, 9, -999.00
49NZ20071122, P14N, 119, 1, 20, X12026, 2, 20071126, 0516, 6.0068, 178.9960, 5799,   1669.7, 2,   2.7457, 2,  34.6135, 2,  34.6144, 2,     92.5, 2,     93.6, 2,   126.12, 2,    39.85, 2,     0.02, 2,     2.85, 2, -999.000, 9, -999.000, 9, -999.000, 9, -999.000, 9,   2340.0, 2,   2402.2, 2,    7.5085,     25.00,   -999.0, 9,   -999.0,  -999.00, 9,   -999.0,   2.6266, 27.6099,   2.7457, 2, 6, 0.40, 0.14, 0.01, 0.017,  -999.00, 9, -999.00, -999.00, 9, -999.00
49NZ20071122, P14N, 119, 1, 19, X12025, 2, 20071126, 0516, 6.0068, 178.9960, 5799,   1870.0, 2,   2.4236, 2,  34.6289, 2,  34.6295, 2,    100.5, 2,    100.6, 2,   133.59, 2,    39.39, 2,     0.01, 2,     2.81, 2,    0.004, 2,    0.003, 2,    0.000, 2, -999.000, 9,   2344.5, 2,   2410.8, 2,    7.5194,     25.00,   -999.0, 9,   -999.0,  -999.00, 9,   -999.0,   2.2919, 27.6507,   2.4237, 2, 2, 0.41, 0.14, 0.01, 0.017,  -999.00, 9, -999.00, -999.00, 9, -999.00
49NZ20071122, P14N, 119, 1, 18, X12024, 2, 20071126, 0516, 6.0068, 178.9960, 5799,   2070.6, 2,   2.1550, 2,  34.6442, 2,  34.6454, 2,    105.1, 2,    105.8, 2,   140.22, 2,    39.19, 2,     0.01, 2,     2.78, 2, -999.000, 9, -999.000, 9, -999.000, 9, -999.000, 9,   2348.6, 2,   2417.8, 2,    7.5299,     25.00,   -999.0, 9,   -999.0,  -999.00, 9,   -999.0,   2.0101, 27.6858,   2.1549, 2, 2, 0.43, 0.14, 0.01, 0.017,  -999.00, 9, -999.00, -999.00, 9, -999.00
49NZ20071122, P14N, 119, 1, 17, X12023, 2, 20071126, 0516, 6.0068, 178.9960, 5799,   2270.0, 2,   1.9989, 2,  34.6534, 2,  34.6540, 6,    109.5, 2,    111.1, 2,   143.84, 2,    38.87, 2,     0.02, 2,     2.75, 2, -999.000, 9, -999.000, 9, -999.000, 9, -999.000, 9,   2350.6, 2,   2422.9, 2,    7.5388,     25.00,   -999.0, 9,   -999.0,  -999.00, 9,   -999.0,   1.8392, 27.7066,   1.9991, 2, 2, 0.44, 0.14, 0.01, 0.017,  -999.00, 9, -999.00, -999.00, 9, -999.00
49NZ20071122, P14N, 119, 1, 16, X12022, 2, 20071126, 0516, 6.0068, 178.9960, 5799,   2469.4, 2,   1.8738, 2,  34.6607, 2,  34.6614, 2,    115.6, 2,    116.9, 2,   145.72, 2,    38.45, 2,     0.01, 2,     2.72, 2,    0.002, 2,    0.001, 2,    0.000, 2, -999.000, 9,   2349.4, 6,   2424.2, 2,    7.5473,     25.00,   -999.0, 9,   -999.0,  -999.00, 9,   -999.0,   1.6986, 27.7232,   1.8735, 2, 2, 0.44, 0.14, 0.01, 0.017,  -999.00, 9, -999.00, -999.00, 9, -999.00
49NZ20071122, P14N, 119, 1, 15, X12021, 2, 20071126, 0516, 6.0068, 178.9960, 5799,   2670.3, 2,   1.7933, 2,  34.6651, 2,  34.6643, 3,    121.3, 2,    122.2, 2,   146.13, 2,    38.10, 2,     0.01, 2,     2.69, 2, -999.000, 9, -999.000, 9, -999.000, 9, -999.000, 9,   2345.3, 2,   2424.9, 6,    7.5565,     25.00,   -999.0, 9,   -999.0,  -999.00, 9,   -999.0,   1.6013, 27.7339,   1.7933, 2, 2, 0.44, 0.14, 0.01, 0.017,  -999.00, 9, -999.00, -999.00, 9, -999.00
49NZ20071122, P14N, 119, 1, 14, X12020, 2, 20071126, 0516, 6.0068, 178.9960, 5799,   2869.2, 2,   1.7216, 2,  34.6689, 2,  34.6692, 2,    126.9, 2,    128.5, 2,   145.42, 2,    37.65, 2,     0.01, 2,     2.65, 2, -999.000, 9, -999.000, 9, -999.000, 9, -999.000, 9,   2341.2, 2,   2423.2, 2,    7.5646,     25.00,   -999.0, 9,   -999.0,  -999.00, 9,   -999.0,   1.5125, 27.7436,   1.7216, 2, 6, 0.44, 0.14, 0.01, 0.017,  -999.00, 9, -999.00, -999.00, 9, -999.00
49NZ20071122, P14N, 119, 1, 13, X12019, 2, 20071126, 0516, 6.0068, 178.9960, 5799,   3080.1, 2,   1.6545, 2,  34.6731, 2,  34.6733, 2,    133.3, 2,    134.3, 2,   144.92, 2,    37.28, 2,     0.01, 2,     2.62, 2,    0.000, 2,    0.000, 2,    0.000, 2, -999.000, 9,   2338.2, 2,   2422.7, 2,    7.5718,     25.00,   -999.0, 9,   -999.0,  -999.00, 9,   -999.0,   1.4266, 27.7531,   1.6545, 2, 2, 0.44, 0.14, 0.01, 0.017,  -999.00, 9, -999.00, -999.00, 9, -999.00
49NZ20071122, P14N, 119, 1, 12, X12040, 2, 20071126, 0516, 6.0068, 178.9960, 5799,   3329.4, 2,   1.5927, 2,  34.6775, 2,  34.6771, 2,    140.1, 2,    140.5, 2,   143.88, 2,    36.84, 2,     0.01, 2,     2.58, 2, -999.000, 9, -999.000, 9, -999.000, 9, -999.000, 9,   2334.4, 2,   2421.4, 2,    7.5810,     25.00,   -999.0, 9,   -999.0,  -999.00, 9,   -999.0,   1.3416, 27.7628,   1.5927, 2, 2, 0.44, 0.14, 0.01, 0.016,  -999.00, 9, -999.00, -999.00, 9, -999.00
49NZ20071122, P14N, 119, 1, 11, X12047, 2, 20071126, 0516, 6.0068, 178.9960, 5799,   3579.7, 2,   1.5134, 2,  34.6831, 2,  34.6827, 2,    148.6, 2,    148.8, 2,   142.05, 2,    36.32, 2,     0.01, 2,     2.54, 2, -999.000, 9, -999.000, 9, -999.000, 9, -999.000, 9,   2327.5, 2,   2419.2, 2,    7.5912,     25.00,   -999.0, 9,   -999.0,  -999.00, 9,   -999.0,   1.2387, 27.7745,   1.5134, 2, 2, 0.43, 0.13, 0.01, 0.016,  -999.00, 9, -999.00, -999.00, 9, -999.00
49NZ20071122, P14N, 119, 1, 10, X12012, 2, 20071126, 0516, 6.0068, 178.9960, 5799,   3831.8, 2,   1.4393, 2,  34.6887, 2,  34.6886, 2,    157.6, 2,    157.9, 2,   139.30, 2,    35.67, 2,     0.01, 2,     2.49, 2,    0.002, 2,    0.001, 2,    0.000, 2, -999.000, 9,   2320.0, 2,   2416.3, 2,    7.6027,     25.00,   -999.0, 9,   -999.0,  -999.00, 9,   -999.0,   1.1401, 27.7857,   1.4393, 2, 2, 0.43, 0.13, 0.01, 0.016,  -999.00, 9, -999.00, -999.00, 9, -999.00
49NZ20071122, P14N, 119, 1, 9, X12015, 2, 20071126, 0516, 6.0068, 178.9960, 5799,   4081.8, 2,   1.3724, 2,  34.6938, 2,  34.6935, 6,    166.6, 2,    166.9, 2,   135.50, 2,    34.99, 2,     0.01, 2,     2.44, 2, -999.000, 9, -999.000, 9, -999.000, 9, -999.000, 9,   2307.7, 2,   2410.1, 2,    7.6112,     25.00,   -999.0, 9,   -999.0,  -999.00, 9,   -999.0,   1.0482, 27.7961,   1.3724, 2, 2, 0.42, 0.13, 0.01, 0.016,  -999.00, 9, -999.00, -999.00, 9, -999.00
49NZ20071122, P14N, 119, 1, 8, X12046, 2, 20071126, 0516, 6.0068, 178.9960, 5799,   4330.4, 2,   1.3170, 2,  34.6982, 2,  34.6979, 2,    175.9, 2,    175.6, 2,   131.53, 2,    34.41, 2,     0.01, 2,     2.40, 2, -999.000, 9, -999.000, 9, -999.000, 9, -999.000, 9,   2301.0, 6,   2403.4, 2,    7.6188,     25.00,   -999.0, 9,   -999.0,  -999.00, 9,   -999.0,   0.9668, 27.8050,   1.3170, 2, 2, 0.41, 0.13, 0.01, 0.016,  -999.00, 9, -999.00, -999.00, 9, -999.00
49NZ20071122, P14N, 119, 1, 7, X12044, 2, 20071126, 0516, 6.0068, 178.9960, 5799,   4579.8, 2,   1.2815, 2,  34.7017, 2,  34.7020, 2,    183.2, 2,    183.4, 2,   127.07, 2,    33.79, 2,     0.01, 2,     2.35, 2,    0.000, 2,    0.002, 2,    0.000, 2, -999.000, 9,   2292.6, 2,   2397.3, 6,    7.6246,     25.00,   -999.0, 9,   -999.0,  -999.00, 9,   -999.0,   0.9041, 27.8120,   1.2815, 2, 2, 0.40, 0.13, 0.01, 0.016,  -999.00, 9, -999.00, -999.00, 9, -999.00
49NZ20071122, P14N, 119, 1, 6, X12048, 2, 20071126, 0516, 6.0068, 178.9960, 5799,   4830.8, 2,   1.2834, 2,  34.7033, 2,  34.7033, 2,    186.7, 2,    186.8, 2,   125.22, 2,    33.55, 2,     0.01, 2,     2.33, 2,    0.342, 4,    0.761, 4,    0.101, 4, -999.000, 9,   2289.6, 2,   2393.1, 2,    7.6264,     25.00,   -999.0, 9,   -999.0,  -999.00, 9,   -999.0,   0.8766, 27.8150,   1.2833, 2, 2, 0.39, 0.13, 0.01, 0.016,  -999.00, 9, -999.00, -999.00, 9, -999.00
49NZ20071122, P14N, 119, 1, 5, X12014, 2, 20071126, 0516, 6.0068, 178.9960, 5799,   5079.6, 2,   1.2930, 2,  34.7044, 2,  34.7040, 2,    188.8, 2,    189.1, 2,   124.16, 2,    33.35, 2,     0.01, 2,     2.32, 2,    0.001, 2,    0.000, 2,    0.002, 2, -999.000, 9,   2285.2, 2,   2391.1, 2,    7.6272,     25.00,   -999.0, 9,   -999.0,  -999.00, 9,   -999.0,   0.8560, 27.8173,   1.2930, 2, 2, 0.39, 0.13, 0.01, 0.016,  -999.00, 9, -999.00, -999.00, 9, -999.00
49NZ20071122, P14N, 119, 1, 4, X12006, 2, 20071126, 0516, 6.0068, 178.9960, 5799,   5329.3, 2,   1.3123, 2,  34.7049, 2,  34.7053, 2,    190.4, 2,    190.7, 2,   123.40, 2,    33.26, 2,     0.02, 2,     2.32, 2,    0.000, 2,    0.000, 2,    0.000, 2, -999.000, 9,   2281.4, 2,   2388.3, 2,    7.6285,     25.00,   -999.0, 9,   -999.0,  -999.00, 9,   -999.0,   0.8439, 27.8184,   1.3122, 2, 2, 0.39, 0.13, 0.01, 0.016,  -999.00, 9, -999.00, -999.00, 9, -999.00
49NZ20071122, P14N, 119, 1, 3, X12013, 2, 20071126, 0516, 6.0068, 178.9960, 5799,   5579.7, 2,   1.3401, 2,  34.7050, 2,  34.7060, 3,    191.3, 2,    191.2, 2,   122.80, 2,    33.18, 2,     0.01, 2,     2.31, 2,    0.010, 2,    0.005, 2,    0.000, 2, -999.000, 9,   2282.1, 2,   2387.0, 2,    7.6295,     25.00,   -999.0, 9,   -999.0,  -999.00, 9,   -999.0,   0.8391, 27.8188,   1.3401, 2, 2, 0.39, 0.13, 0.01, 0.016,  -999.00, 9, -999.00, -999.00, 9, -999.00
49NZ20071122, P14N, 119, 1, 2, X12002, 2, 20071126, 0516, 6.0068, 178.9960, 5799,   5829.4, 2,   1.3704, 2,  34.7052, 2,  34.7055, 2,    191.9, 2,    191.6, 2,   122.58, 2,    33.22, 2,     0.01, 2,     2.31, 2,    0.000, 2,    0.000, 2,    0.000, 2, -999.000, 9,   2282.2, 2,   2386.8, 2,    7.6300,     25.00,   -999.0, 9,   -999.0,  -999.00, 9,   -999.0,   0.8360, 27.8192,   1.3704, 2, 2, 0.39, 0.13, 0.01, 0.016,  -999.00, 9, -999.00, -999.00, 9, -999.00
49NZ20071122, P14N, 119, 1, 1, X12001, 2, 20071126, 0516, 6.0068, 178.9960, 5799,   5895.9, 2,   1.3795, 2,  34.7050, 2,  34.7053, 6,    191.7, 2,    191.7, 2,   122.58, 2,    33.14, 2,     0.02, 2,     2.31, 2,    0.006, 2,    0.004, 2,    0.000, 2, -999.000, 9,   2283.1, 2,   2387.3, 2,    7.6290,     25.00,   -999.0, 9,   -999.0,  -999.00, 9,   -999.0,   0.8360, 27.8190,   1.3794, 2, 2, 0.39, 0.13, 0.01, 0.016,  -999.00, 9, -999.00, -999.00, 9, -999.00