BOTTLE,20220820CCHSIOAMB
EXPOCODE,SECT_ID,STNNBR,CASTNO,SAMPNO,BTLNBR,BTLNBR_FLAG_W,DATE,TIME,LATITUDE,LONGITUDE,DEPTH,CTDPRS,CTDPRS_FLAG_W,CTDTMP,CTDTMP_FLAG_W,CTDSAL,CTDSAL_FLAG_W,SALNTY,SALNTY_FLAG_W,CTDOXY,CTDOXY_FLAG_W,OXYGEN,OXYGEN_FLAG_W,SILCAT,SILCAT_FLAG_W,NITRAT,NITRAT_FLAG_W,NITRIT,NITRIT_FLAG_W,PHSPHT,PHSPHT_FLAG_W,CFC-11,CFC-11_FLAG_W,CFC-12,CFC-12_FLAG_W,CFC113,CFC113_FLAG_W,CCL4,CCL4_FLAG_W,TCARBN,TCARBN_FLAG_W,ALKALI,ALKALI_FLAG_W,PH_TOT,PH_TMP,DELC14,DELC14_FLAG_W,C14ERR,DELC13,DELC13_FLAG_W,C13ERR,THETA,SIG0,SBE35,SBE35_FLAG_W,PH_TOT_FLAG_W,SILUNC,NRAUNC,NRIUNC,PHPUNC,CS-137,CS-137_FLAG_W,CS137ER,PLUTO,PLUTO_FLAG_W,PLUTOER
,,,,,,,,,,,METERS,DBAR,,ITS-90,,PSS-78,,PSS-78,,UMOL/KG,,UMOL/KG,,UMOL/KG,,UMOL/KG,,UMOL/KG,,UMOL/KG,,PMOL/KG,,PMOL/KG,,PMOL/KG,,PMOL/KG,,UMOL/KG,,UMOL/KG,,,DEG C,/MILLE,,/MILLE,/MILLE,,/MILLE,DEG C,KG/M^3,ITS-90,,,UMOL/KG,UMOL/KG,UMOL/KG,UMOL/KG,DM/.1MG,,BQ/M^3,MBQ/M^3,,MBQ/M^3
49NZ20071122, P14N, 142, 1, 36, X12042, 2, 20071201, 1638, 0.2505, 178.9972, 5347,     10.6, 2,  27.3449, 2,  35.1955, 2,  35.1955, 2,    200.3, 2,    200.1, 2,     1.79, 2,     2.60, 2,     0.43, 2,     0.40, 2,    1.527, 2,    0.954, 2,    0.191, 4, -999.000, 9,   -999.0, 9,   -999.0, 9, -999.0000,   -999.00,   -999.0, 9,   -999.0,  -999.00, 9,   -999.0,  27.3424, 22.7551,  27.3442, 2, 9, 0.12, 0.04, 0.00, 0.013,  -999.00, 9, -999.00, -999.00, 9, -999.00
49NZ20071122, P14N, 142, 1, 35, X12041, 2, 20071201, 1638, 0.2505, 178.9972, 5347,     50.2, 2,  26.3508, 2,  35.2028, 2,  35.2081, 2,    187.4, 2,    186.3, 2,     2.31, 2,     4.33, 2,     1.19, 2,     0.57, 2,    1.600, 2,    0.986, 2,    0.194, 4, -999.000, 9,   -999.0, 9,   -999.0, 9, -999.0000,   -999.00,   -999.0, 9,   -999.0,  -999.00, 9,   -999.0,  26.3395, 23.0800,  26.3518, 2, 9, 0.12, 0.04, 0.02, 0.013,  -999.00, 9, -999.00, -999.00, 9, -999.00
49NZ20071122, P14N, 142, 1, 34, X12016, 2, 20071201, 1638, 0.2505, 178.9972, 5347,    101.4, 2,  26.3893, 2,  35.3418, 2,  35.3450, 2,    186.8, 2,    185.9, 2,     2.22, 2,     4.64, 2,     0.43, 2,     0.56, 2,    1.604, 2,    0.996, 2,    0.183, 4, -999.000, 9,   -999.0, 9,   -999.0, 9, -999.0000,   -999.00,   -999.0, 9,   -999.0,  -999.00, 9,   -999.0,  26.3664, 23.1764,  26.3890, 2, 9, 0.12, 0.05, 0.00, 0.013,  -999.00, 9, -999.00, -999.00, 9, -999.00
49NZ20071122, P14N, 142, 1, 33, X12033, 2, 20071201, 1638, 0.2505, 178.9972, 5347,    152.8, 2,  22.3971, 2,  35.0442, 2,  35.0206, 2,    134.9, 2,    139.0, 2,     5.15, 2,     8.74, 2,     0.04, 2,     0.73, 2,    1.810, 6,    1.084, 6,    0.094, 6, -999.000, 9,   -999.0, 9,   -999.0, 9, -999.0000,   -999.00,   -999.0, 9,   -999.0,  -999.00, 9,   -999.0,  22.3665, 24.1482,  22.4077, 2, 9, 0.13, 0.06, 0.01, 0.013,  -999.00, 9, -999.00, -999.00, 9, -999.00
49NZ20071122, P14N, 142, 1, 32, X12038, 2, 20071201, 1638, 0.2505, 178.9972, 5347,    200.4, 2,  18.2377, 2,  35.2217, 2,  35.2186, 2,    134.7, 2,    134.5, 2,     7.42, 2,    12.60, 2,     0.02, 2,     1.00, 2,    1.913, 2,    1.076, 2,    0.036, 2, -999.000, 9,   -999.0, 9,   -999.0, 9, -999.0000,   -999.00,   -999.0, 9,   -999.0,  -999.00, 9,   -999.0,  18.2029, 25.3916,  18.2370, 2, 9, 0.14, 0.07, 0.01, 0.013,  -999.00, 9, -999.00, -999.00, 9, -999.00
49NZ20071122, P14N, 142, 1, 31, X12003, 2, 20071201, 1638, 0.2505, 178.9972, 5347,    249.3, 2,  15.0431, 2,  35.0931, 2,  35.0665, 6,    136.9, 2,    136.7, 2,    11.45, 2,    16.43, 2,     0.01, 2,     1.25, 2,    1.711, 2,    0.939, 2,    0.036, 2, -999.000, 9,   -999.0, 9,   -999.0, 9, -999.0000,   -999.00,   -999.0, 9,   -999.0,  -999.00, 9,   -999.0,  15.0052, 26.0426,  15.0438, 2, 9, 0.14, 0.08, 0.01, 0.013,  -999.00, 9, -999.00, -999.00, 9, -999.00
49NZ20071122, P14N, 142, 1, 30, X12008, 2, 20071201, 1638, 0.2505, 178.9972, 5347,    299.8, 2,  11.8731, 2,  34.8345, 2,  34.8322, 2,    100.8, 2,     99.3, 2,    20.48, 2,    24.81, 2,     0.01, 2,     1.79, 2,    1.130, 2,    0.605, 2,    0.027, 2, -999.000, 9,   -999.0, 9,   -999.0, 9, -999.0000,   -999.00,   -999.0, 9,   -999.0,  -999.00, 9,   -999.0,  11.8342, 26.4921,  11.8762, 2, 9, 0.16, 0.10, 0.01, 0.015,  -999.00, 9, -999.00, -999.00, 9, -999.00
49NZ20071122, P14N, 142, 1, 29, X12035, 2, 20071201, 1638, 0.2505, 178.9972, 5347,    400.4, 2,  10.5423, 2,  34.7459, 2,  34.7401, 2,     51.6, 2,     51.6, 2,    27.99, 2,    31.99, 2,     0.01, 2,     2.26, 2,    0.605, 2,    0.314, 2,    0.014, 2, -999.000, 9,   -999.0, 9,   -999.0, 9, -999.0000,   -999.00,   -999.0, 9,   -999.0,  -999.00, 9,   -999.0,  10.4939, 26.6679,  10.5454, 2, 9, 0.18, 0.12, 0.01, 0.016,  -999.00, 9, -999.00, -999.00, 9, -999.00
49NZ20071122, P14N, 142, 1, 28, X12034, 2, 20071201, 1638, 0.2505, 178.9972, 5347,    500.8, 2,   8.7822, 2,  34.6549, 2,  34.6530, 6,     51.5, 2,     52.5, 2,    34.60, 2,    35.45, 2,     0.01, 2,     2.49, 2,    0.286, 2,    0.148, 2,    0.008, 2, -999.000, 9,   -999.0, 9,   -999.0, 9, -999.0000,   -999.00,   -999.0, 9,   -999.0,  -999.00, 9,   -999.0,   8.7279, 26.8911,   8.7820, 2, 9, 0.20, 0.13, 0.01, 0.016,  -999.00, 9, -999.00, -999.00, 9, -999.00
49NZ20071122, P14N, 142, 1, 27, X12049, 2, 20071201, 1638, 0.2505, 178.9972, 5347,    600.2, 2,   7.6597, 2,  34.5995, 2,  34.5955, 2,     60.8, 2,     61.9, 2,    41.57, 2,    37.06, 2,     0.01, 2,     2.62, 2,    0.161, 2,    0.084, 2,    0.004, 2, -999.000, 9,   -999.0, 9,   -999.0, 9, -999.0000,   -999.00,   -999.0, 9,   -999.0,  -999.00, 9,   -999.0,   7.5993, 27.0183,   7.6603, 2, 9, 0.21, 0.14, 0.01, 0.017,  -999.00, 9, -999.00, -999.00, 9, -999.00
49NZ20071122, P14N, 142, 1, 26, X12032, 2, 20071201, 1638, 0.2505, 178.9972, 5347,    699.6, 2,   6.4681, 2,  34.5562, 2,  34.5548, 2,     77.0, 2,     77.1, 2,    50.88, 2,    37.70, 2,     0.01, 2,     2.69, 2,    0.096, 6,    0.051, 6,    0.000, 6, -999.000, 9,   -999.0, 9,   -999.0, 9, -999.0000,   -999.00,   -999.0, 9,   -999.0,  -999.00, 9,   -999.0,   6.4035, 27.1497,   6.4681, 2, 9, 0.23, 0.14, 0.01, 0.017,  -999.00, 9, -999.00, -999.00, 9, -999.00
49NZ20071122, P14N, 142, 1, 25, X12043, 2, 20071201, 1638, 0.2505, 178.9972, 5347,    800.5, 2,   5.7362, 2,  34.5404, 2,  34.5408, 2,     91.7, 2,     89.8, 2,    60.37, 2,    37.60, 2,     0.01, 2,     2.69, 2,    0.057, 2,    0.030, 2,    0.006, 2, -999.000, 9,   -999.0, 9,   -999.0, 9, -999.0000,   -999.00,   -999.0, 9,   -999.0,  -999.00, 9,   -999.0,   5.6661, 27.2313,   5.7408, 2, 9, 0.25, 0.14, 0.01, 0.017,  -999.00, 9, -999.00, -999.00, 9, -999.00
49NZ20071122, P14N, 142, 1, 24, X12030, 2, 20071201, 1638, 0.2505, 178.9972, 5347,    899.4, 2,   5.1541, 2,  34.5464, 2,  34.5461, 2,     81.9, 2,     81.9, 2,    70.17, 2,    39.07, 2,     0.01, 2,     2.80, 2,    0.010, 2,    0.008, 2,    0.004, 2, -999.000, 9,   -999.0, 9,   -999.0, 9, -999.0000,   -999.00,   -999.0, 9,   -999.0,  -999.00, 9,   -999.0,   5.0787, 27.3065,   5.1543, 2, 9, 0.27, 0.14, 0.01, 0.017,  -999.00, 9, -999.00, -999.00, 9, -999.00
49NZ20071122, P14N, 142, 1, 23, X12027, 2, 20071201, 1638, 0.2505, 178.9972, 5347,    999.8, 2,   4.7112, 2,  34.5498, 2,  34.5498, 6,     89.5, 2,     89.6, 2,    77.82, 2,    38.63, 2,     0.01, 2,     2.78, 2,    0.015, 2,    0.008, 2,    0.000, 2, -999.000, 9,   -999.0, 9,   -999.0, 9, -999.0000,   -999.00,   -999.0, 9,   -999.0,  -999.00, 9,   -999.0,   4.6300, 27.3603,   4.7115, 2, 9, 0.29, 0.14, 0.01, 0.017,  -999.00, 9, -999.00, -999.00, 9, -999.00
49NZ20071122, P14N, 142, 1, 22, X12028, 2, 20071201, 1638, 0.2505, 178.9972, 5347,   1200.6, 2,   4.0001, 2,  34.5679, 2,  34.5682, 2,     87.7, 2,     88.4, 2,    93.62, 2,    39.59, 2,     0.00, 2,     2.85, 2,    0.000, 2,    0.000, 2,    0.000, 2, -999.000, 9,   -999.0, 9,   -999.0, 9, -999.0000,   -999.00,   -999.0, 9,   -999.0,  -999.00, 9,   -999.0,   3.9073, 27.4520,   4.0003, 2, 9, 0.32, 0.14, 0.01, 0.017,  -999.00, 9, -999.00, -999.00, 9, -999.00
49NZ20071122, P14N, 142, 1, 21, X12009, 2, 20071201, 1638, 0.2505, 178.9972, 5347,   1400.0, 2,   3.4499, 2,  34.5860, 2,  34.5861, 2,     93.8, 2,     93.8, 2,   105.99, 2,    39.43, 2,     0.01, 2,     2.83, 2,    0.000, 2,    0.000, 2,    0.000, 2, -999.000, 9,   -999.0, 9,   -999.0, 9, -999.0000,   -999.00,   -999.0, 9,   -999.0,  -999.00, 9,   -999.0,   3.3455, 27.5222,   3.4499, 2, 9, 0.35, 0.14, 0.01, 0.017,  -999.00, 9, -999.00, -999.00, 9, -999.00
49NZ20071122, P14N, 142, 1, 20, X12026, 2, 20071201, 1638, 0.2505, 178.9972, 5347,   1600.4, 2,   2.9517, 2,  34.6065, 2,  34.6066, 2,     97.2, 2,     97.1, 2,   118.07, 2,    39.45, 2,     0.01, 2,     2.83, 2,    0.000, 2,    0.000, 2,    0.000, 2, -999.000, 9,   -999.0, 9,   -999.0, 9, -999.0000,   -999.00,   -999.0, 9,   -999.0,  -999.00, 9,   -999.0,   2.8359, 27.5859,   2.9517, 2, 9, 0.38, 0.14, 0.01, 0.017,  -999.00, 9, -999.00, -999.00, 9, -999.00
49NZ20071122, P14N, 142, 1, 19, X12025, 2, 20071201, 1638, 0.2505, 178.9972, 5347,   1801.1, 2,   2.5879, 2,  34.6214, 2,  34.6218, 2,    107.0, 2,    106.6, 2,   125.04, 2,    38.92, 2,     0.00, 2,     2.78, 2, -999.000, 9, -999.000, 9, -999.000, 9, -999.000, 9,   -999.0, 9,   -999.0, 9, -999.0000,   -999.00,   -999.0, 9,   -999.0,  -999.00, 9,   -999.0,   2.4598, 27.6306,   2.5878, 2, 9, 0.39, 0.14, 0.01, 0.017,  -999.00, 9, -999.00, -999.00, 9, -999.00
49NZ20071122, P14N, 142, 1, 18, X12024, 2, 20071201, 1638, 0.2505, 178.9972, 5347,   2000.6, 2,   2.3411, 2,  34.6356, 2,  34.6354, 2,    109.0, 2,    109.0, 2,   131.90, 2,    38.92, 2,     0.01, 2,     2.76, 2,    0.000, 2,    0.000, 2,    0.000, 2, -999.000, 9,   -999.0, 9,   -999.0, 9, -999.0000,   -999.00,   -999.0, 9,   -999.0,  -999.00, 9,   -999.0,   2.1994, 27.6637,   2.3410, 2, 9, 0.41, 0.14, 0.01, 0.017,  -999.00, 9, -999.00, -999.00, 9, -999.00
49NZ20071122, P14N, 142, 1, 17, X12023, 2, 20071201, 1638, 0.2505, 178.9972, 5347,   2199.9, 2,   2.0297, 2,  34.6506, 2,  34.6508, 6,    118.4, 2,    119.8, 2,   136.61, 2,    38.14, 2,     0.01, 2,     2.70, 2, -999.000, 9, -999.000, 9, -999.000, 9, -999.000, 9,   -999.0, 9,   -999.0, 9, -999.0000,   -999.00,   -999.0, 9,   -999.0,  -999.00, 9,   -999.0,   1.8756, 27.7015,   2.0296, 2, 9, 0.42, 0.14, 0.01, 0.017,  -999.00, 9, -999.00, -999.00, 9, -999.00
49NZ20071122, P14N, 142, 1, 16, X12022, 2, 20071201, 1638, 0.2505, 178.9972, 5347,   2402.2, 2,   1.9493, 2,  34.6557, 2,  34.6560, 2,    122.1, 2,    122.0, 2,   138.92, 2,    38.04, 2,     0.01, 2,     2.69, 2, -999.000, 9, -999.000, 9, -999.000, 9, -999.000, 9,   -999.0, 9,   -999.0, 9, -999.0000,   -999.00,   -999.0, 9,   -999.0,  -999.00, 9,   -999.0,   1.7788, 27.7131,   1.9492, 2, 9, 0.42, 0.14, 0.01, 0.017,  -999.00, 9, -999.00, -999.00, 9, -999.00
49NZ20071122, P14N, 142, 1, 15, X12021, 2, 20071201, 1638, 0.2505, 178.9972, 5347,   2600.2, 2,   1.8469, 2,  34.6631, 2,  34.6629, 2,    124.5, 2,    125.1, 2,   141.47, 2,    37.97, 2,     0.00, 2,     2.68, 2,    0.000, 2,    0.000, 2,    0.000, 2, -999.000, 9,   -999.0, 9,   -999.0, 9, -999.0000,   -999.00,   -999.0, 9,   -999.0,  -999.00, 9,   -999.0,   1.6603, 27.7280,   1.8469, 2, 9, 0.43, 0.14, 0.01, 0.017,  -999.00, 9, -999.00, -999.00, 9, -999.00
49NZ20071122, P14N, 142, 1, 14, X12020, 2, 20071201, 1638, 0.2505, 178.9972, 5347,   2800.3, 2,   1.7655, 2,  34.6664, 2,  34.6664, 2,    129.2, 2,    131.0, 2,   141.21, 2,    37.52, 2,     0.01, 2,     2.63, 2, -999.000, 9, -999.000, 9, -999.000, 9, -999.000, 9,   -999.0, 9,   -999.0, 9, -999.0000,   -999.00,   -999.0, 9,   -999.0,  -999.00, 9,   -999.0,   1.5620, 27.7379,   1.7655, 2, 9, 0.43, 0.14, 0.01, 0.017,  -999.00, 9, -999.00, -999.00, 9, -999.00
49NZ20071122, P14N, 142, 1, 13, X12019, 2, 20071201, 1638, 0.2505, 178.9972, 5347,   3002.6, 2,   1.6701, 2,  34.6716, 2,  34.6713, 2,    135.4, 2,    135.7, 2,   142.27, 2,    37.21, 2,     0.01, 2,     2.61, 2, -999.000, 9, -999.000, 9, -999.000, 9, -999.000, 9,   -999.0, 9,   -999.0, 9, -999.0000,   -999.00,   -999.0, 9,   -999.0,  -999.00, 9,   -999.0,   1.4493, 27.7503,   1.6702, 2, 9, 0.43, 0.14, 0.01, 0.017,  -999.00, 9, -999.00, -999.00, 9, -999.00
49NZ20071122, P14N, 142, 1, 12, X12040, 2, 20071201, 1638, 0.2505, 178.9972, 5347,   3251.9, 2,   1.5806, 2,  34.6772, 2,  34.6770, 2,    143.2, 2,    143.8, 2,   140.80, 2,    36.63, 2,     0.01, 2,     2.56, 2,    0.000, 2,    0.000, 2,    0.000, 2, -999.000, 9,   -999.0, 9,   -999.0, 9, -999.0000,   -999.00,   -999.0, 9,   -999.0,  -999.00, 9,   -999.0,   1.3375, 27.7628,   1.5806, 2, 9, 0.43, 0.14, 0.01, 0.016,  -999.00, 9, -999.00, -999.00, 9, -999.00
49NZ20071122, P14N, 142, 1, 11, X12047, 2, 20071201, 1638, 0.2505, 178.9972, 5347,   3501.8, 2,   1.5246, 2,  34.6821, 2,  34.6820, 2,    149.0, 2,    149.8, 2,   139.75, 2,    36.24, 2,     0.01, 2,     2.54, 2, -999.000, 9, -999.000, 9, -999.000, 9, -999.000, 9,   -999.0, 9,   -999.0, 9, -999.0000,   -999.00,   -999.0, 9,   -999.0,  -999.00, 9,   -999.0,   1.2577, 27.7723,   1.5247, 2, 9, 0.43, 0.13, 0.01, 0.016,  -999.00, 9, -999.00, -999.00, 9, -999.00
49NZ20071122, P14N, 142, 1, 10, X12012, 2, 20071201, 1638, 0.2505, 178.9972, 5347,   3750.6, 2,   1.4601, 2,  34.6879, 2,  34.6879, 2,    157.8, 2,    158.5, 2,   137.11, 2,    35.66, 2,     0.00, 2,     2.49, 2,    0.000, 2,    0.000, 2,    0.005, 2, -999.000, 9,   -999.0, 9,   -999.0, 9, -999.0000,   -999.00,   -999.0, 9,   -999.0,  -999.00, 9,   -999.0,   1.1690, 27.7832,   1.4601, 2, 9, 0.42, 0.13, 0.01, 0.016,  -999.00, 9, -999.00, -999.00, 9, -999.00
49NZ20071122, P14N, 142, 1, 9, X12015, 2, 20071201, 1638, 0.2505, 178.9972, 5347,   4001.7, 2,   1.4223, 2,  34.6918, 2,  34.6915, 6,    163.3, 2,    164.3, 2,   135.29, 2,    35.33, 2,     0.01, 2,     2.46, 2,    0.000, 2,    0.000, 2,    0.000, 2, -999.000, 9,   -999.0, 9,   -999.0, 9, -999.0000,   -999.00,   -999.0, 9,   -999.0,  -999.00, 9,   -999.0,   1.1054, 27.7906,   1.4222, 2, 9, 0.42, 0.13, 0.01, 0.016,  -999.00, 9, -999.00, -999.00, 9, -999.00
49NZ20071122, P14N, 142, 1, 8, X12046, 2, 20071201, 1638, 0.2505, 178.9972, 5347,   4249.3, 2,   1.3373, 2,  34.6978, 2,  34.6974, 2,    174.0, 2,    175.4, 2,   130.69, 2,    34.45, 2,     0.01, 2,     2.39, 2,    0.000, 2,    0.000, 2,    0.000, 2, -999.000, 9,   -999.0, 9,   -999.0, 9, -999.0000,   -999.00,   -999.0, 9,   -999.0,  -999.00, 9,   -999.0,   0.9956, 27.8028,   1.3370, 2, 9, 0.41, 0.13, 0.01, 0.016,  -999.00, 9, -999.00, -999.00, 9, -999.00
49NZ20071122, P14N, 142, 1, 7, X12044, 2, 20071201, 1638, 0.2505, 178.9972, 5347,   4500.9, 2,   1.2810, 2,  34.7016, 2,  34.7017, 2,    182.6, 2,    183.5, 2,   126.81, 2,    33.89, 2,     0.00, 2,     2.36, 2,    0.000, 2,    0.000, 2,    0.000, 2, -999.000, 9,   -999.0, 9,   -999.0, 9, -999.0000,   -999.00,   -999.0, 9,   -999.0,  -999.00, 9,   -999.0,   0.9126, 27.8113,   1.2810, 2, 9, 0.40, 0.13, 0.01, 0.016,  -999.00, 9, -999.00, -999.00, 9, -999.00
49NZ20071122, P14N, 142, 1, 6, X12048, 2, 20071201, 1638, 0.2505, 178.9972, 5347,   4751.4, 2,   1.2474, 2,  34.7045, 2,  34.7045, 2,    190.2, 2,    190.5, 2,   123.17, 2,    33.38, 2,     0.00, 2,     2.32, 2,    0.000, 2,    0.000, 2,    0.000, 2, -999.000, 9,   -999.0, 9,   -999.0, 9, -999.0000,   -999.00,   -999.0, 9,   -999.0,  -999.00, 9,   -999.0,   0.8511, 27.8176,   1.2474, 2, 9, 0.39, 0.13, 0.01, 0.016,  -999.00, 9, -999.00, -999.00, 9, -999.00
49NZ20071122, P14N, 142, 1, 5, X12014, 2, 20071201, 1638, 0.2505, 178.9972, 5347,   5000.0, 2,   1.2586, 2,  34.7051, 2,  34.7053, 2,    191.8, 2,    192.1, 2,   122.39, 2,    33.23, 2,     0.00, 2,     2.31, 2,    0.003, 2,    0.002, 2,    0.000, 2, -999.000, 9,   -999.0, 9,   -999.0, 9, -999.0000,   -999.00,   -999.0, 9,   -999.0,  -999.00, 9,   -999.0,   0.8324, 27.8194,   1.2585, 2, 9, 0.39, 0.13, 0.01, 0.016,  -999.00, 9, -999.00, -999.00, 9, -999.00
49NZ20071122, P14N, 142, 1, 4, X12006, 2, 20071201, 1638, 0.2505, 178.9972, 5347,   5249.8, 2,   1.2781, 2,  34.7058, 2,  34.7058, 2,    193.4, 2,    193.5, 2,   121.67, 2,    33.08, 2,     0.00, 2,     2.30, 2,    0.001, 2,    0.001, 2,    0.000, 2, -999.000, 9,   -999.0, 9,   -999.0, 9, -999.0000,   -999.00,   -999.0, 9,   -999.0,  -999.00, 9,   -999.0,   0.8208, 27.8207,   1.2782, 2, 9, 0.39, 0.13, 0.01, 0.016,  -999.00, 9, -999.00, -999.00, 9, -999.00
49NZ20071122, P14N, 142, 1, 3, X12013, 9, 20071201, 1638, 0.2505, 178.9972, 5347,     10.7, 2,  27.3441, 2,  35.1951, 2, -999.0000, 9,    200.2, 2,   -999.0, 9,  -999.00, 9,  -999.00, 9,  -999.00, 9,  -999.00, 9, -999.000, 9, -999.000, 9, -999.000, 9, -999.000, 9,   -999.0, 9,   -999.0, 9, -999.0000,   -999.00,   -999.0, 9,   -999.0,  -999.00, 9,   -999.0,  27.3416, 22.7551,  27.3429, 2, 9, -999.00, -999.00, -999.00, -999.000,  -999.00, 9, -999.00, -999.00, 9, -999.00
49NZ20071122, P14N, 142, 1, 2, X12002, 9, 20071201, 1638, 0.2505, 178.9972, 5347,     50.0, 2,  26.3682, 2,  35.2023, 2, -999.0000, 9,    187.4, 2,   -999.0, 9,  -999.00, 9,  -999.00, 9,  -999.00, 9,  -999.00, 9, -999.000, 9, -999.000, 9, -999.000, 9, -999.000, 9,   -999.0, 9,   -999.0, 9, -999.0000,   -999.00,   -999.0, 9,   -999.0,  -999.00, 9,   -999.0,  26.3569, 23.0741,  26.3678, 2, 9, -999.00, -999.00, -999.00, -999.000,  -999.00, 9, -999.00, -999.00, 9, -999.00
49NZ20071122, P14N, 142, 1, 1, X12001, 2, 20071201, 1638, 0.2505, 178.9972, 5347,   5431.0, 2,   1.3010, 2,  34.7058, 2,  34.7061, 6,    193.7, 2,    193.6, 2,   121.63, 2,    33.14, 2,     0.01, 2,     2.30, 2,    0.002, 2,    0.001, 2,    0.000, 2, -999.000, 9,   -999.0, 9,   -999.0, 9, -999.0000,   -999.00,   -999.0, 9,   -999.0,  -999.00, 9,   -999.0,   0.8203, 27.8207,   1.3010, 2, 9, 0.39, 0.13, 0.01, 0.016,  -999.00, 9, -999.00, -999.00, 9, -999.00