BOTTLE,20220820CCHSIOAMB
EXPOCODE,SECT_ID,STNNBR,CASTNO,SAMPNO,BTLNBR,BTLNBR_FLAG_W,DATE,TIME,LATITUDE,LONGITUDE,DEPTH,CTDPRS,CTDPRS_FLAG_W,CTDTMP,CTDTMP_FLAG_W,CTDSAL,CTDSAL_FLAG_W,SALNTY,SALNTY_FLAG_W,CTDOXY,CTDOXY_FLAG_W,OXYGEN,OXYGEN_FLAG_W,SILCAT,SILCAT_FLAG_W,NITRAT,NITRAT_FLAG_W,NITRIT,NITRIT_FLAG_W,PHSPHT,PHSPHT_FLAG_W,CFC-11,CFC-11_FLAG_W,CFC-12,CFC-12_FLAG_W,CFC113,CFC113_FLAG_W,CCL4,CCL4_FLAG_W,TCARBN,TCARBN_FLAG_W,ALKALI,ALKALI_FLAG_W,PH_TOT,PH_TMP,DELC14,DELC14_FLAG_W,C14ERR,DELC13,DELC13_FLAG_W,C13ERR,THETA,SIG0,SBE35,SBE35_FLAG_W,PH_TOT_FLAG_W,SILUNC,NRAUNC,NRIUNC,PHPUNC,CS-137,CS-137_FLAG_W,CS137ER,PLUTO,PLUTO_FLAG_W,PLUTOER
,,,,,,,,,,,METERS,DBAR,,ITS-90,,PSS-78,,PSS-78,,UMOL/KG,,UMOL/KG,,UMOL/KG,,UMOL/KG,,UMOL/KG,,UMOL/KG,,PMOL/KG,,PMOL/KG,,PMOL/KG,,PMOL/KG,,UMOL/KG,,UMOL/KG,,,DEG C,/MILLE,,/MILLE,/MILLE,,/MILLE,DEG C,KG/M^3,ITS-90,,,UMOL/KG,UMOL/KG,UMOL/KG,UMOL/KG,DM/.1MG,,BQ/M^3,MBQ/M^3,,MBQ/M^3
49NZ20071122, P14, 43, 1, 36, X12042, 2, 20071214, 2143, -19.8158, 177.4005, 3246,      9.3, 2,  27.4462, 2,  34.8051, 2,  34.8068, 2,    205.2, 2,    205.8, 2,     0.74, 2,     0.04, 2,     0.01, 2,     0.02, 2,    1.560, 2,    0.962, 2,    0.289, 4, -999.000, 9,   1921.8, 2,   2281.0, 2,    8.1494,     25.00,   -999.0, 9,   -999.0,  -999.00, 9,   -999.0,  27.4440, 22.4285,  27.4462, 2, 6, 0.12, 0.03, 0.01, 0.070,  -999.00, 9, -999.00, -999.00, 9, -999.00
49NZ20071122, P14, 43, 1, 35, X12041, 2, 20071214, 2143, -19.8158, 177.4005, 3246,     50.3, 2,  26.2319, 2,  35.1874, 2,  35.1958, 2,    204.6, 2,    203.0, 2,     0.79, 2,     0.03, 2,     0.01, 2,     0.07, 2,    1.660, 2,    1.006, 2,    0.285, 4, -999.000, 9,   1963.4, 6,   2309.6, 2,    8.1189,     25.00,   -999.0, 9,   -999.0,  -999.00, 9,   -999.0,  26.2206, 23.1057,  26.2310, 2, 2, 0.12, 0.03, 0.01, 0.027,  -999.00, 9, -999.00, -999.00, 9, -999.00
49NZ20071122, P14, 43, 1, 34, X12016, 2, 20071214, 2143, -19.8158, 177.4005, 3246,     99.8, 2,  24.7048, 2,  35.4949, 2,  35.5162, 2,    187.1, 2,    186.1, 2,     0.70, 2,     0.62, 2,     0.19, 2,     0.19, 2,    1.791, 2,    1.078, 2,    0.183, 4, -999.000, 9,   2008.1, 2,   2332.8, 6,    8.0754,     25.00,   -999.0, 9,   -999.0,  -999.00, 9,   -999.0,  24.6833, 23.8114,  24.7052, 2, 2, 0.12, 0.03, 0.01, 0.016,  -999.00, 9, -999.00, -999.00, 9, -999.00
49NZ20071122, P14, 43, 1, 33, X12033, 2, 20071214, 2143, -19.8158, 177.4005, 3246,    149.7, 2,  22.6586, 2,  35.6372, 2,  35.6372, 2,    172.3, 2,    171.6, 2,     0.83, 2,     2.59, 2,     0.04, 2,     0.30, 2,    1.958, 6,    1.154, 6,    0.116, 4, -999.000, 9,   2043.3, 2,   2337.0, 2,    8.0235,     25.00,   -999.0, 9,   -999.0,  -999.00, 9,   -999.0,  22.6283, 24.5239,  22.6539, 2, 6, 0.12, 0.04, 0.01, 0.014,  -999.00, 9, -999.00, -999.00, 9, -999.00
49NZ20071122, P14, 43, 1, 32, X12038, 2, 20071214, 2143, -19.8158, 177.4005, 3246,    199.0, 2,  20.6798, 2,  35.6652, 2,  35.6652, 2,    174.2, 2,    173.2, 2,     0.99, 2,     3.92, 2,     0.02, 2,     0.35, 2,    2.110, 2,    1.220, 2,    0.050, 2, -999.000, 9,   2065.3, 2,   2337.4, 2,    7.9902,     25.00,   -999.0, 9,   -999.0,  -999.00, 9,   -999.0,  20.6420, 25.0977,  20.6818, 2, 2, 0.12, 0.04, 0.01, 0.014,  -999.00, 9, -999.00, -999.00, 9, -999.00
49NZ20071122, P14, 43, 1, 31, X12003, 2, 20071214, 2143, -19.8158, 177.4005, 3246,    249.5, 2,  19.1893, 2,  35.5780, 2,  35.5793, 6,    178.4, 2,    177.5, 2,     1.21, 2,     4.44, 2,     0.02, 2,     0.41, 2,    2.218, 2,    1.258, 2,    0.039, 2, -999.000, 9,   2076.6, 2,   2334.6, 2,    7.9642,     25.00,   -999.0, 9,   -999.0,  -999.00, 9,   -999.0,  19.1443, 25.4260,  19.1898, 2, 2, 0.12, 0.05, 0.01, 0.013,  -999.00, 9, -999.00, -999.00, 9, -999.00
49NZ20071122, P14, 43, 1, 30, X12008, 2, 20071214, 2143, -19.8158, 177.4005, 3246,    279.4, 2,  18.3540, 2,  35.5209, 2,  35.5151, 2,    179.5, 2,    179.8, 2,     1.34, 2,     5.04, 2,     0.02, 2,     0.46, 2,    2.270, 2,    1.270, 2,    0.031, 2, -999.000, 9,   2080.8, 2,   2330.8, 2,    7.9488,     25.00,   -999.0, 9,   -999.0,  -999.00, 9,   -999.0,  18.3051, 25.5952,  18.3545, 2, 2, 0.12, 0.05, 0.01, 0.013,  -999.00, 9, -999.00, -999.00, 9, -999.00
49NZ20071122, P14, 43, 1, 29, X12035, 2, 20071214, 2143, -19.8158, 177.4005, 3246,    371.0, 2,  15.6710, 2,  35.3126, 2,  35.3100, 2,    186.4, 2,    187.1, 2,     2.25, 2,     7.74, 2,     0.01, 2,     0.64, 2,    2.379, 2,    1.297, 2,    0.036, 2, -999.000, 9,   2095.8, 2,   2319.3, 2,    7.9006,     25.00,   -999.0, 9,   -999.0,  -999.00, 9,   -999.0,  15.6127, 26.0763,  15.6747, 2, 2, 0.12, 0.05, 0.01, 0.013,  -999.00, 9, -999.00, -999.00, 9, -999.00
49NZ20071122, P14, 43, 1, 28, X12034, 2, 20071214, 2143, -19.8158, 177.4005, 3246,    470.8, 2,  11.8689, 2,  34.8615, 2,  34.8592, 6,    184.7, 2,    186.3, 2,     5.15, 2,    14.78, 2,     0.01, 2,     1.12, 2,    2.196, 2,    1.118, 2,    0.053, 2, -999.000, 9,   2125.1, 2,   2299.1, 2,    7.8050,     25.00,   -999.0, 9,   -999.0,  -999.00, 9,   -999.0,  11.8073, 26.5182,  11.8694, 2, 2, 0.13, 0.07, 0.01, 0.013,  -999.00, 9, -999.00, -999.00, 9, -999.00
49NZ20071122, P14, 43, 1, 27, X12049, 2, 20071214, 2143, -19.8158, 177.4005, 3246,    571.1, 2,   8.6550, 2,  34.5456, 2,  34.5449, 2,    196.2, 2,    196.0, 2,     9.13, 2,    21.25, 2,     0.01, 2,     1.53, 2,    1.821, 2,    0.897, 2,    0.044, 2, -999.000, 9,   2146.2, 2,   2288.8, 2,    7.7342,     25.00,   -999.0, 9,   -999.0,  -999.00, 9,   -999.0,   8.5934, 26.8265,   8.6575, 2, 2, 0.14, 0.09, 0.01, 0.014,  -999.00, 9, -999.00, -999.00, 9, -999.00
49NZ20071122, P14, 43, 1, 26, X12032, 2, 20071214, 2143, -19.8158, 177.4005, 3246,    670.9, 2,   6.9552, 2,  34.4187, 2,  34.4177, 2,    204.9, 2,    204.7, 2,    13.58, 2,    24.86, 2,     0.01, 2,     1.75, 2,    1.421, 6,    0.683, 6,    0.029, 6, -999.000, 9,   2158.6, 6,   2287.2, 2,    7.7037,     25.00,   -999.0, 9,   -999.0,  -999.00, 9,   -999.0,   6.8910, 26.9758,   6.9573, 2, 2, 0.15, 0.10, 0.01, 0.014,  -999.00, 9, -999.00, -999.00, 9, -999.00
49NZ20071122, P14, 43, 1, 25, X12043, 2, 20071214, 2143, -19.8158, 177.4005, 3246,    771.1, 2,   5.6423, 2,  34.3860, 2,  34.3856, 2,    191.5, 2,    191.8, 2,    25.71, 2,    28.92, 2,     0.01, 2,     2.03, 2,    0.646, 2,    0.316, 2,    0.011, 2, -999.000, 9,   2184.2, 2,   2297.8, 6,    7.6612,     25.00,   -999.0, 9,   -999.0,  -999.00, 9,   -999.0,   5.5757, 27.1202,   5.6430, 2, 2, 0.18, 0.11, 0.01, 0.015,  -999.00, 9, -999.00, -999.00, 9, -999.00
49NZ20071122, P14, 43, 1, 24, X12030, 2, 20071214, 2143, -19.8158, 177.4005, 3246,    870.6, 2,   4.9193, 2,  34.4064, 2,  34.4064, 2,    179.4, 2,    178.8, 2,    37.92, 2,    31.20, 2,     0.01, 2,     2.18, 2,    0.318, 2,    0.160, 2,    0.004, 2, -999.000, 9,   2204.8, 2,   2308.9, 2,    7.6341,     25.00,   -999.0, 9,   -999.0,  -999.00, 9,   -999.0,   4.8483, 27.2220,   4.9198, 2, 6, 0.20, 0.12, 0.01, 0.015,  -999.00, 9, -999.00, -999.00, 9, -999.00
49NZ20071122, P14, 43, 1, 23, X12027, 2, 20071214, 2143, -19.8158, 177.4005, 3246,    972.0, 2,   4.3334, 2,  34.4279, 2,  34.4295, 6,    173.0, 2,    172.4, 2,    48.71, 2,    32.62, 2,     0.01, 2,     2.29, 2,    0.161, 2,    0.085, 2,    0.000, 2, -999.000, 9,   2221.4, 2,   2321.1, 2,    7.6190,     25.00,   -999.0, 9,   -999.0,  -999.00, 9,   -999.0,   4.2577, 27.3040,   4.3337, 2, 2, 0.23, 0.12, 0.01, 0.016,  -999.00, 9, -999.00, -999.00, 9, -999.00
49NZ20071122, P14, 43, 1, 22, X12028, 2, 20071214, 2143, -19.8158, 177.4005, 3246,   1131.4, 2,   3.7803, 2,  34.4763, 2,  34.4772, 2,    163.2, 2,    163.5, 2,    63.67, 2,    33.82, 2,     0.01, 2,     2.38, 2,    0.071, 2,    0.038, 2,    0.000, 2, -999.000, 9,   2243.3, 2,   2337.9, 2,    7.6050,     25.00,   -999.0, 9,   -999.0,  -999.00, 9,   -999.0,   3.6955, 27.4006,   3.7804, 2, 2, 0.26, 0.13, 0.01, 0.016,  -999.00, 9, -999.00, -999.00, 9, -999.00
49NZ20071122, P14, 43, 1, 21, X12009, 2, 20071214, 2143, -19.8158, 177.4005, 3246,   1329.4, 2,   3.1686, 2,  34.5449, 2,  34.5460, 2,    153.7, 2,    153.1, 2,    84.37, 2,    34.97, 2,     0.01, 2,     2.47, 2,    0.016, 2,    0.009, 2,    0.000, 2, -999.000, 9,   2269.3, 2,   2361.7, 2,    7.5934,     25.00,   -999.0, 9,   -999.0,  -999.00, 9,   -999.0,   3.0731, 27.5151,   3.1687, 2, 2, 0.30, 0.13, 0.01, 0.016,  -999.00, 9, -999.00, -999.00, 9, -999.00
49NZ20071122, P14, 43, 1, 20, X12026, 2, 20071214, 2143, -19.8158, 177.4005, 3246,   1531.6, 2,   2.8413, 2,  34.5786, 2,  34.5784, 2,    149.3, 2,    149.4, 2,    94.82, 2,    35.40, 2,     0.01, 2,     2.51, 2,    0.006, 2,    0.004, 2,    0.000, 2, -999.000, 9,   2282.4, 2,   2373.1, 2,    7.5887,     25.00,   -999.0, 9,   -999.0,  -999.00, 9,   -999.0,   2.7327, 27.5727,   2.8417, 2, 6, 0.33, 0.13, 0.01, 0.016,  -999.00, 9, -999.00, -999.00, 9, -999.00
49NZ20071122, P14, 43, 1, 19, X12025, 2, 20071214, 2143, -19.8158, 177.4005, 3246,   1731.1, 2,   2.5757, 2,  34.6043, 2,  34.6048, 2,    149.6, 2,    149.5, 2,   102.37, 2,    35.43, 2,     0.01, 2,     2.50, 2,    0.003, 2,    0.002, 2,    0.000, 2, -999.000, 9,   2290.5, 2,   2382.0, 2,    7.5896,     25.00,   -999.0, 9,   -999.0,  -999.00, 9,   -999.0,   2.4537, 27.6175,   2.5759, 2, 2, 0.34, 0.13, 0.01, 0.016,  -999.00, 9, -999.00, -999.00, 9, -999.00
49NZ20071122, P14, 43, 1, 18, X12024, 2, 20071214, 2143, -19.8158, 177.4005, 3246,   1930.0, 2,   2.3881, 2,  34.6227, 2,  34.6230, 2,    149.7, 2,    149.9, 2,   107.61, 2,    35.49, 2,     0.01, 2,     2.51, 2,    0.002, 2,    0.000, 2,    0.000, 2, -999.000, 9,   2295.3, 2,   2387.7, 2,    7.5909,     25.00,   -999.0, 9,   -999.0,  -999.00, 9,   -999.0,   2.2518, 27.6491,   2.3882, 2, 2, 0.36, 0.13, 0.01, 0.016,  -999.00, 9, -999.00, -999.00, 9, -999.00
49NZ20071122, P14, 43, 1, 17, X12023, 2, 20071214, 2143, -19.8158, 177.4005, 3246,   2130.3, 2,   2.1534, 2,  34.6441, 2,  34.6443, 6,    149.7, 2,    149.8, 2,   114.42, 2,    35.66, 2,     0.01, 2,     2.52, 2,    0.000, 2,    0.000, 2,    0.000, 2, -999.000, 9,   2305.1, 2,   2396.1, 2,    7.5909,     25.00,   -999.0, 9,   -999.0,  -999.00, 9,   -999.0,   2.0034, 27.6863,   2.1534, 2, 2, 0.37, 0.13, 0.01, 0.016,  -999.00, 9, -999.00, -999.00, 9, -999.00
49NZ20071122, P14, 43, 1, 16, X12022, 2, 20071214, 2143, -19.8158, 177.4005, 3246,   2329.2, 2,   2.0633, 2,  34.6528, 2,  34.6524, 2,    149.6, 2,    149.8, 2,   117.51, 2,    35.70, 2,     0.01, 2,     2.52, 2,    0.000, 2,    0.000, 2,    0.000, 2, -999.000, 9,   2305.8, 6,   2397.9, 2,    7.5937,     25.00,   -999.0, 9,   -999.0,  -999.00, 9,   -999.0,   1.8973, 27.7016,   2.0635, 2, 2, 0.38, 0.13, 0.01, 0.016,  -999.00, 9, -999.00, -999.00, 9, -999.00
49NZ20071122, P14, 43, 1, 15, X12021, 2, 20071214, 2143, -19.8158, 177.4005, 3246,   2531.3, 2,   2.0292, 2,  34.6574, 2,  34.6581, 2,    150.1, 2,    150.2, 2,   118.44, 2,    35.63, 2,     0.01, 2,     2.52, 2, -999.000, 9, -999.000, 9, -999.000, 9, -999.000, 9,   2307.3, 2,   2400.0, 6,    7.5940,     25.00,   -999.0, 9,   -999.0,  -999.00, 9,   -999.0,   1.8455, 27.7093,   2.0292, 2, 2, 0.38, 0.13, 0.01, 0.016,  -999.00, 9, -999.00, -999.00, 9, -999.00
49NZ20071122, P14, 43, 1, 14, X12020, 2, 20071214, 2143, -19.8158, 177.4005, 3246,   2730.5, 2,   2.0096, 2,  34.6611, 2,  34.6616, 2,    150.4, 2,    150.5, 2,   119.20, 2,    35.60, 2,     0.01, 2,     2.52, 2,    0.000, 2,    0.000, 2,    0.000, 2, -999.000, 9,   2308.4, 2,   2400.7, 2,    7.5941,     25.00,   -999.0, 9,   -999.0,  -999.00, 9,   -999.0,   1.8077, 27.7152,   2.0097, 2, 2, 0.38, 0.13, 0.01, 0.016,  -999.00, 9, -999.00, -999.00, 9, -999.00
49NZ20071122, P14, 43, 1, 13, X12019, 2, 20071214, 2143, -19.8158, 177.4005, 3246,   2930.5, 2,   2.0130, 2,  34.6625, 2,  34.6626, 6,    150.5, 2,    150.5, 2,   119.72, 2,    35.61, 2,     0.01, 2,     2.53, 2, -999.000, 9, -999.000, 9, -999.000, 9, -999.000, 9,   2308.7, 2,   2401.4, 2,    7.5937,     25.00,   -999.0, 9,   -999.0,  -999.00, 9,   -999.0,   1.7918, 27.7175,   2.0130, 2, 2, 0.38, 0.13, 0.01, 0.016,  -999.00, 9, -999.00, -999.00, 9, -999.00
49NZ20071122, P14, 43, 1, 12, X12040, 2, 20071214, 2143, -19.8158, 177.4005, 3246,   3168.2, 2,   2.0292, 2,  34.6632, 2,  34.6633, 2,    150.7, 2,    150.6, 2,   119.52, 2,    35.42, 2,     0.01, 2,     2.50, 2,    0.001, 2,    0.000, 2,    0.000, 2, -999.000, 9,   2308.3, 2,   2402.8, 2,    7.5947,     25.00,   -999.0, 9,   -999.0,  -999.00, 9,   -999.0,   1.7841, 27.7187,   2.0292, 2, 2, 0.38, 0.13, 0.01, 0.016,  -999.00, 9, -999.00, -999.00, 9, -999.00
49NZ20071122, P14, 43, 1, 11, X12047, 9, 20071214, 2143, -19.8158, 177.4005, 3246,      9.9, 2,  27.4510, 2,  34.8031, 2, -999.0000, 9,    205.0, 2,   -999.0, 9,  -999.00, 9,  -999.00, 9,  -999.00, 9,  -999.00, 9, -999.000, 9, -999.000, 9, -999.000, 9, -999.000, 9,   -999.0, 9,   -999.0, 9, -999.0000,   -999.00,   -999.0, 9,   -999.0,  -999.00, 9,   -999.0,  27.4487, 22.4255,  27.4501, 2, 9, -999.00, -999.00, -999.00, -999.000,  -999.00, 9, -999.00, -999.00, 9, -999.00
49NZ20071122, P14, 43, 1, 10, X12012, 9, 20071214, 2143, -19.8158, 177.4005, 3246,    470.7, 2,  11.8691, 2,  34.8619, 2, -999.0000, 9,    184.7, 2,   -999.0, 9,  -999.00, 9,  -999.00, 9,  -999.00, 9,  -999.00, 9, -999.000, 9, -999.000, 9, -999.000, 9, -999.000, 9,   -999.0, 9,   -999.0, 9, -999.0000,   -999.00,   -999.0, 9,   -999.0,  -999.00, 9,   -999.0,  11.8075, 26.5184,  11.8726, 2, 9, -999.00, -999.00, -999.00, -999.000,  -999.00, 9, -999.00, -999.00, 9, -999.00
49NZ20071122, P14, 43, 1, 9, X12015, 9, 20071214, 2143, -19.8158, 177.4005, 3246,    571.3, 2,   8.6585, 2,  34.5456, 2, -999.0000, 9,    196.2, 2,   -999.0, 9,  -999.00, 9,  -999.00, 9,  -999.00, 9,  -999.00, 9, -999.000, 9, -999.000, 9, -999.000, 9, -999.000, 9,   -999.0, 9,   -999.0, 9, -999.0000,   -999.00,   -999.0, 9,   -999.0,  -999.00, 9,   -999.0,   8.5969, 26.8259,   8.6614, 2, 9, -999.00, -999.00, -999.00, -999.000,  -999.00, 9, -999.00, -999.00, 9, -999.00
49NZ20071122, P14, 43, 1, 8, X12046, 9, 20071214, 2143, -19.8158, 177.4005, 3246,    671.4, 2,   6.9458, 2,  34.4185, 2, -999.0000, 9,    204.8, 2,   -999.0, 9,  -999.00, 9,  -999.00, 9,  -999.00, 9,  -999.00, 9, -999.000, 9, -999.000, 9, -999.000, 9, -999.000, 9,   -999.0, 9,   -999.0, 9, -999.0000,   -999.00,   -999.0, 9,   -999.0,  -999.00, 9,   -999.0,   6.8816, 26.9770,   6.9479, 2, 9, -999.00, -999.00, -999.00, -999.000,  -999.00, 9, -999.00, -999.00, 9, -999.00
49NZ20071122, P14, 43, 1, 7, X12044, 9, 20071214, 2143, -19.8158, 177.4005, 3246,    771.5, 2,   5.6398, 2,  34.3859, 2, -999.0000, 9,    191.5, 2,   -999.0, 9,  -999.00, 9,  -999.00, 9,  -999.00, 9,  -999.00, 9, -999.000, 9, -999.000, 9, -999.000, 9, -999.000, 9,   -999.0, 9,   -999.0, 9, -999.0000,   -999.00,   -999.0, 9,   -999.0,  -999.00, 9,   -999.0,   5.5732, 27.1204,   5.6411, 2, 9, -999.00, -999.00, -999.00, -999.000,  -999.00, 9, -999.00, -999.00, 9, -999.00
49NZ20071122, P14, 43, 1, 6, X12048, 9, 20071214, 2143, -19.8158, 177.4005, 3246,    870.5, 2,   4.9201, 2,  34.4062, 2, -999.0000, 9,    179.4, 2,   -999.0, 9,  -999.00, 9,  -999.00, 9,  -999.00, 9,  -999.00, 9, -999.000, 9, -999.000, 9, -999.000, 9, -999.000, 9,   -999.0, 9,   -999.0, 9, -999.0000,   -999.00,   -999.0, 9,   -999.0,  -999.00, 9,   -999.0,   4.8491, 27.2217,   4.9203, 2, 9, -999.00, -999.00, -999.00, -999.000,  -999.00, 9, -999.00, -999.00, 9, -999.00
49NZ20071122, P14, 43, 1, 5, X12014, 9, 20071214, 2143, -19.8158, 177.4005, 3246,    972.3, 2,   4.3329, 2,  34.4279, 2, -999.0000, 9,    173.0, 2,   -999.0, 9,  -999.00, 9,  -999.00, 9,  -999.00, 9,  -999.00, 9, -999.000, 9, -999.000, 9, -999.000, 9, -999.000, 9,   -999.0, 9,   -999.0, 9, -999.0000,   -999.00,   -999.0, 9,   -999.0,  -999.00, 9,   -999.0,   4.2572, 27.3040,   4.3333, 2, 9, -999.00, -999.00, -999.00, -999.000,  -999.00, 9, -999.00, -999.00, 9, -999.00
49NZ20071122, P14, 43, 1, 4, X12006, 9, 20071214, 2143, -19.8158, 177.4005, 3246,   1131.7, 2,   3.7802, 2,  34.4763, 2, -999.0000, 9,    163.2, 2,   -999.0, 9,  -999.00, 9,  -999.00, 9,  -999.00, 9,  -999.00, 9, -999.000, 9, -999.000, 9, -999.000, 9, -999.000, 9,   -999.0, 9,   -999.0, 9, -999.0000,   -999.00,   -999.0, 9,   -999.0,  -999.00, 9,   -999.0,   3.6954, 27.4006,   3.7803, 2, 9, -999.00, -999.00, -999.00, -999.000,  -999.00, 9, -999.00, -999.00, 9, -999.00
49NZ20071122, P14, 43, 1, 3, X12013, 9, 20071214, 2143, -19.8158, 177.4005, 3246,   1329.4, 2,   3.1689, 2,  34.5448, 2, -999.0000, 9,    153.7, 2,   -999.0, 9,  -999.00, 9,  -999.00, 9,  -999.00, 9,  -999.00, 9, -999.000, 9, -999.000, 9, -999.000, 9, -999.000, 9,   -999.0, 9,   -999.0, 9, -999.0000,   -999.00,   -999.0, 9,   -999.0,  -999.00, 9,   -999.0,   3.0734, 27.5150,   3.1690, 2, 9, -999.00, -999.00, -999.00, -999.000,  -999.00, 9, -999.00, -999.00, 9, -999.00
49NZ20071122, P14, 43, 1, 2, X12002, 9, 20071214, 2143, -19.8158, 177.4005, 3246,   1531.6, 2,   2.8413, 2,  34.5785, 2, -999.0000, 9,    149.3, 2,   -999.0, 9,  -999.00, 9,  -999.00, 9,  -999.00, 9,  -999.00, 9, -999.000, 9, -999.000, 9, -999.000, 9, -999.000, 9,   -999.0, 9,   -999.0, 9, -999.0000,   -999.00,   -999.0, 9,   -999.0,  -999.00, 9,   -999.0,   2.7327, 27.5726,   2.8414, 2, 9, -999.00, -999.00, -999.00, -999.000,  -999.00, 9, -999.00, -999.00, 9, -999.00
49NZ20071122, P14, 43, 1, 1, X12001, 2, 20071214, 2143, -19.8158, 177.4005, 3246,   3239.3, 2,   2.0365, 2,  34.6631, 2,  34.6633, 6,    150.5, 2,    150.6, 2,   119.77, 2,    35.59, 2,     0.01, 2,     2.52, 2,    0.002, 2,    0.001, 2,    0.000, 2, -999.000, 9,   2309.2, 2,   2401.9, 2,    7.5939,     25.00,   -999.0, 9,   -999.0,  -999.00, 9,   -999.0,   1.7840, 27.7186,   2.0365, 2, 2, 0.38, 0.13, 0.01, 0.016,  -999.00, 9, -999.00, -999.00, 9, -999.00