BOTTLE,20220820CCHSIOAMB
EXPOCODE,SECT_ID,STNNBR,CASTNO,SAMPNO,BTLNBR,BTLNBR_FLAG_W,DATE,TIME,LATITUDE,LONGITUDE,DEPTH,CTDPRS,CTDPRS_FLAG_W,CTDTMP,CTDTMP_FLAG_W,CTDSAL,CTDSAL_FLAG_W,SALNTY,SALNTY_FLAG_W,CTDOXY,CTDOXY_FLAG_W,OXYGEN,OXYGEN_FLAG_W,SILCAT,SILCAT_FLAG_W,NITRAT,NITRAT_FLAG_W,NITRIT,NITRIT_FLAG_W,PHSPHT,PHSPHT_FLAG_W,CFC-11,CFC-11_FLAG_W,CFC-12,CFC-12_FLAG_W,CFC113,CFC113_FLAG_W,CCL4,CCL4_FLAG_W,TCARBN,TCARBN_FLAG_W,ALKALI,ALKALI_FLAG_W,PH_TOT,PH_TMP,DELC14,DELC14_FLAG_W,C14ERR,DELC13,DELC13_FLAG_W,C13ERR,THETA,SIG0,SBE35,SBE35_FLAG_W,PH_TOT_FLAG_W,SILUNC,NRAUNC,NRIUNC,PHPUNC,CS-137,CS-137_FLAG_W,CS137ER,PLUTO,PLUTO_FLAG_W,PLUTOER
,,,,,,,,,,,METERS,DBAR,,ITS-90,,PSS-78,,PSS-78,,UMOL/KG,,UMOL/KG,,UMOL/KG,,UMOL/KG,,UMOL/KG,,UMOL/KG,,PMOL/KG,,PMOL/KG,,PMOL/KG,,PMOL/KG,,UMOL/KG,,UMOL/KG,,,DEG C,/MILLE,,/MILLE,/MILLE,,/MILLE,DEG C,KG/M^3,ITS-90,,,UMOL/KG,UMOL/KG,UMOL/KG,UMOL/KG,DM/.1MG,,BQ/M^3,MBQ/M^3,,MBQ/M^3
49NZ20071122, P14N, 150, 1, 36, X12042, 2, 20071204, 1323, -1.7408, 178.9977, 5451,     10.3, 2,  27.3322, 2,  35.4197, 2,  35.4203, 2,    202.1, 2,    200.3, 2,     1.79, 2,     3.36, 2,     0.36, 2,     0.46, 2,    1.610, 2,    0.993, 2,    0.209, 4, -999.000, 9,   -999.0, 9,   -999.0, 9, -999.0000,   -999.00,   -999.0, 9,   -999.0,  -999.00, 9,   -999.0,  27.3298, 22.9280,  27.3308, 2, 9, 0.12, 0.04, 0.00, 0.013,  -999.00, 9, -999.00, -999.00, 9, -999.00
49NZ20071122, P14N, 150, 1, 35, X12041, 2, 20071204, 1323, -1.7408, 178.9977, 5451,     49.4, 2,  27.3770, 2,  35.4603, 2,  35.4624, 2,    202.2, 2,    200.1, 2,     1.73, 2,     3.36, 2,     0.34, 2,     0.47, 2,    1.596, 2,    0.983, 2,    0.204, 4, -999.000, 9,   -999.0, 9,   -999.0, 9, -999.0000,   -999.00,   -999.0, 9,   -999.0,  -999.00, 9,   -999.0,  27.3655, 22.9471,  27.3766, 2, 9, 0.12, 0.04, 0.00, 0.013,  -999.00, 9, -999.00, -999.00, 9, -999.00
49NZ20071122, P14N, 150, 1, 34, X12016, 2, 20071204, 1323, -1.7408, 178.9977, 5451,     99.8, 2,  27.1276, 2,  35.4927, 2,  35.4651, 2,    199.0, 2,    197.7, 2,     1.82, 2,     3.72, 2,     0.39, 2,     0.52, 2,    1.631, 2,    1.007, 2,    0.199, 4, -999.000, 9,   -999.0, 9,   -999.0, 9, -999.0000,   -999.00,   -999.0, 9,   -999.0,  -999.00, 9,   -999.0,  27.1046, 23.0555,  27.1266, 2, 9, 0.12, 0.04, 0.00, 0.013,  -999.00, 9, -999.00, -999.00, 9, -999.00
49NZ20071122, P14N, 150, 1, 33, X12033, 2, 20071204, 1323, -1.7408, 178.9977, 5451,    149.8, 2,  26.7611, 2,  35.5899, 2,  35.6106, 2,    174.3, 2,    179.6, 2,     1.89, 2,     4.85, 2,     1.16, 2,     0.63, 2,    1.652, 6,    1.010, 6,    0.178, 4, -999.000, 9,   -999.0, 9,   -999.0, 9, -999.0000,   -999.00,   -999.0, 9,   -999.0,  -999.00, 9,   -999.0,  26.7269, 23.2493,  26.7572, 2, 9, 0.12, 0.05, 0.00, 0.013,  -999.00, 9, -999.00, -999.00, 9, -999.00
49NZ20071122, P14N, 150, 1, 32, X12038, 2, 20071204, 1323, -1.7408, 178.9977, 5451,    201.7, 2,  20.1162, 2,  35.7412, 2,  35.7434, 2,    126.5, 2,    125.8, 2,     3.43, 2,    11.13, 2,     0.03, 2,     1.03, 2,    1.965, 2,    1.137, 2,    0.060, 2, -999.000, 9,   -999.0, 9,   -999.0, 9, -999.0000,   -999.00,   -999.0, 9,   -999.0,  -999.00, 9,   -999.0,  20.0786, 25.3064,  20.1400, 2, 9, 0.13, 0.06, 0.01, 0.013,  -999.00, 9, -999.00, -999.00, 9, -999.00
49NZ20071122, P14N, 150, 1, 31, X12003, 2, 20071204, 1323, -1.7408, 178.9977, 5451,    251.7, 2,  15.0593, 2,  35.2083, 2,  35.2025, 6,    118.3, 2,    118.8, 2,     9.71, 2,    18.07, 2,     0.01, 2,     1.40, 2,    1.594, 2,    0.860, 2,    0.026, 2, -999.000, 9,   -999.0, 9,   -999.0, 9, -999.0000,   -999.00,   -999.0, 9,   -999.0,  -999.00, 9,   -999.0,  15.0209, 26.1280,  15.0603, 2, 9, 0.14, 0.08, 0.01, 0.014,  -999.00, 9, -999.00, -999.00, 9, -999.00
49NZ20071122, P14N, 150, 1, 30, X12008, 2, 20071204, 1323, -1.7408, 178.9977, 5451,    280.3, 2,  13.1301, 2,  35.0025, 2,  34.9910, 2,    126.4, 2,    124.4, 2,    13.84, 2,    20.32, 2,     0.01, 2,     1.52, 2,    1.440, 2,    0.771, 2,    0.020, 2, -999.000, 9,   -999.0, 9,   -999.0, 9, -999.0000,   -999.00,   -999.0, 9,   -999.0,  -999.00, 9,   -999.0,  13.0912, 26.3765,  13.1296, 2, 9, 0.15, 0.09, 0.01, 0.014,  -999.00, 9, -999.00, -999.00, 9, -999.00
49NZ20071122, P14N, 150, 1, 29, X12035, 2, 20071204, 1323, -1.7408, 178.9977, 5451,    368.6, 2,  10.9888, 2,  34.7937, 2,  34.7909, 2,     68.2, 2,     72.7, 2,    23.60, 2,    29.12, 2,     0.01, 2,     2.07, 2,    0.798, 2,    0.424, 2,    0.019, 2, -999.000, 9,   -999.0, 9,   -999.0, 9, -999.0000,   -999.00,   -999.0, 9,   -999.0,  -999.00, 9,   -999.0,  10.9431, 26.6252,  10.9893, 2, 9, 0.17, 0.11, 0.01, 0.015,  -999.00, 9, -999.00, -999.00, 9, -999.00
49NZ20071122, P14N, 150, 1, 28, X12034, 2, 20071204, 1323, -1.7408, 178.9977, 5451,    468.1, 2,   9.5138, 2,  34.7016, 2,  34.6970, 6,     53.2, 2,     57.3, 2,    29.95, 2,    33.61, 2,     0.01, 2,     2.36, 2,    0.403, 2,    0.215, 2,    0.009, 2, -999.000, 9,   -999.0, 9,   -999.0, 9, -999.0000,   -999.00,   -999.0, 9,   -999.0,  -999.00, 9,   -999.0,   9.4606, 26.8095,   9.5153, 2, 9, 0.18, 0.13, 0.01, 0.016,  -999.00, 9, -999.00, -999.00, 9, -999.00
49NZ20071122, P14N, 150, 1, 27, X12049, 2, 20071204, 1323, -1.7408, 178.9977, 5451,    571.8, 2,   7.6873, 2,  34.6010, 2,  34.5990, 2,     91.4, 2,     78.9, 2,    36.41, 2,    35.32, 2,     0.00, 2,     2.49, 2,    0.219, 2,    0.117, 2,    0.008, 2, -999.000, 9,   -999.0, 9,   -999.0, 9, -999.0000,   -999.00,   -999.0, 9,   -999.0,  -999.00, 9,   -999.0,   7.6297, 27.0151,   7.6895, 2, 9, 0.20, 0.13, 0.01, 0.016,  -999.00, 9, -999.00, -999.00, 9, -999.00
49NZ20071122, P14N, 150, 1, 26, X12032, 2, 20071204, 1323, -1.7408, 178.9977, 5451,    671.2, 2,   6.3968, 2,  34.5489, 2,  34.5482, 2,     83.4, 2,     91.6, 2,    48.71, 2,    36.43, 2,     0.01, 2,     2.60, 2,    0.126, 6,    0.070, 6,    0.005, 6, -999.000, 9,   -999.0, 9,   -999.0, 9, -999.0000,   -999.00,   -999.0, 9,   -999.0,  -999.00, 9,   -999.0,   6.3353, 27.1529,   6.3970, 2, 9, 0.23, 0.13, 0.01, 0.016,  -999.00, 9, -999.00, -999.00, 9, -999.00
49NZ20071122, P14N, 150, 1, 25, X12043, 2, 20071204, 1323, -1.7408, 178.9977, 5451,    770.1, 2,   5.7449, 2,  34.5349, 2,  34.5340, 2,    101.8, 2,    101.7, 2,    55.29, 2,    36.55, 2,     0.01, 2,     2.61, 2,    0.090, 2,    0.049, 2,    0.004, 2, -999.000, 9,   -999.0, 9,   -999.0, 9, -999.0000,   -999.00,   -999.0, 9,   -999.0,  -999.00, 9,   -999.0,   5.6776, 27.2256,   5.7454, 2, 9, 0.24, 0.14, 0.01, 0.016,  -999.00, 9, -999.00, -999.00, 9, -999.00
49NZ20071122, P14N, 150, 1, 24, X12030, 2, 20071204, 1323, -1.7408, 178.9977, 5451,    869.9, 2,   5.2021, 2,  34.5380, 2,  34.5382, 2,    104.3, 2,     95.7, 2,    65.09, 2,    37.71, 2,     0.01, 2,     2.70, 2,    0.037, 2,    0.018, 2,    0.000, 2, -999.000, 9,   -999.0, 9,   -999.0, 9, -999.0000,   -999.00,   -999.0, 9,   -999.0,  -999.00, 9,   -999.0,   5.1291, 27.2940,   5.2020, 2, 9, 0.26, 0.14, 0.01, 0.017,  -999.00, 9, -999.00, -999.00, 9, -999.00
49NZ20071122, P14N, 150, 1, 23, X12027, 2, 20071204, 1323, -1.7408, 178.9977, 5451,    968.9, 2,   4.7562, 2,  34.5437, 2,  34.5449, 6,     94.0, 2,     94.3, 2,    73.35, 2,    38.45, 2,     0.01, 2,     2.76, 2,    0.015, 2,    0.007, 2,    0.000, 2, -999.000, 9,   -999.0, 9,   -999.0, 9, -999.0000,   -999.00,   -999.0, 9,   -999.0,  -999.00, 9,   -999.0,   4.6774, 27.3502,   4.7568, 2, 9, 0.28, 0.14, 0.01, 0.017,  -999.00, 9, -999.00, -999.00, 9, -999.00
49NZ20071122, P14N, 150, 1, 22, X12028, 2, 20071204, 1323, -1.7408, 178.9977, 5451,   1130.1, 2,   4.1290, 2,  34.5571, 2,  34.5582, 2,     97.2, 2,     98.6, 2,    86.27, 2,    38.61, 2,     0.01, 2,     2.77, 2,    0.001, 2,    0.000, 2,    0.000, 2, -999.000, 9,   -999.0, 9,   -999.0, 9, -999.0000,   -999.00,   -999.0, 9,   -999.0,  -999.00, 9,   -999.0,   4.0412, 27.4295,   4.1286, 2, 9, 0.31, 0.14, 0.01, 0.017,  -999.00, 9, -999.00, -999.00, 9, -999.00
49NZ20071122, P14N, 150, 1, 21, X12009, 2, 20071204, 1323, -1.7408, 178.9977, 5451,   1328.8, 2,   3.4435, 2,  34.5802, 2,  34.5806, 2,    104.2, 2,    104.5, 2,   100.67, 2,    38.55, 2,     0.00, 2,     2.76, 2,    0.000, 2,    0.000, 2,    0.000, 2, -999.000, 9,   -999.0, 9,   -999.0, 9, -999.0000,   -999.00,   -999.0, 9,   -999.0,  -999.00, 9,   -999.0,   3.3452, 27.5176,   3.4417, 2, 9, 0.34, 0.14, 0.01, 0.017,  -999.00, 9, -999.00, -999.00, 9, -999.00
49NZ20071122, P14N, 150, 1, 20, X12026, 2, 20071204, 1323, -1.7408, 178.9977, 5451,   1529.8, 2,   2.8810, 2,  34.6068, 2,  34.6072, 2,    105.3, 2,    104.9, 2,   116.14, 2,    38.61, 2,     0.01, 2,     2.77, 2,    0.000, 2,    0.000, 2,    0.000, 2, -999.000, 9,   -999.0, 9,   -999.0, 9, -999.0000,   -999.00,   -999.0, 9,   -999.0,  -999.00, 9,   -999.0,   2.7720, 27.5918,   2.8814, 2, 9, 0.37, 0.14, 0.01, 0.017,  -999.00, 9, -999.00, -999.00, 9, -999.00
49NZ20071122, P14N, 150, 1, 19, X12025, 2, 20071204, 1323, -1.7408, 178.9977, 5451,   1732.0, 2,   2.5740, 2,  34.6207, 2,  34.6213, 2,    111.7, 2,    111.8, 2,   122.44, 2,    38.41, 2,     0.00, 2,     2.74, 2, -999.000, 9, -999.000, 9, -999.000, 9, -999.000, 9,   -999.0, 9,   -999.0, 9, -999.0000,   -999.00,   -999.0, 9,   -999.0,  -999.00, 9,   -999.0,   2.4519, 27.6307,   2.5741, 2, 9, 0.39, 0.14, 0.01, 0.017,  -999.00, 9, -999.00, -999.00, 9, -999.00
49NZ20071122, P14N, 150, 1, 18, X12024, 2, 20071204, 1323, -1.7408, 178.9977, 5451,   1931.7, 2,   2.3253, 2,  34.6347, 2,  34.6349, 2,    114.2, 2,    113.9, 2,   129.56, 2,    38.39, 2,     0.00, 2,     2.73, 2, -999.000, 9, -999.000, 9, -999.000, 9, -999.000, 9,   -999.0, 9,   -999.0, 9, -999.0000,   -999.00,   -999.0, 9,   -999.0,  -999.00, 9,   -999.0,   2.1898, 27.6638,   2.3253, 2, 9, 0.40, 0.14, 0.01, 0.017,  -999.00, 9, -999.00, -999.00, 9, -999.00
49NZ20071122, P14N, 150, 1, 17, X12023, 2, 20071204, 1323, -1.7408, 178.9977, 5451,   2132.1, 2,   2.1170, 2,  34.6469, 2,  34.6472, 6,    118.4, 2,    118.7, 2,   134.02, 2,    38.18, 2,     0.00, 2,     2.71, 2,    0.000, 2,    0.000, 2,    0.000, 2, -999.000, 9,   -999.0, 9,   -999.0, 9, -999.0000,   -999.00,   -999.0, 9,   -999.0,  -999.00, 9,   -999.0,   1.9674, 27.6914,   2.1169, 2, 9, 0.41, 0.14, 0.01, 0.017,  -999.00, 9, -999.00, -999.00, 9, -999.00
49NZ20071122, P14N, 150, 1, 16, X12022, 2, 20071204, 1323, -1.7408, 178.9977, 5451,   2332.3, 2,   1.9965, 2,  34.6536, 2,  34.6536, 2,    121.7, 2,    121.7, 2,   137.00, 2,    38.02, 2,     0.01, 2,     2.69, 2, -999.000, 9, -999.000, 9, -999.000, 9, -999.000, 9,   -999.0, 9,   -999.0, 9, -999.0000,   -999.00,   -999.0, 9,   -999.0,  -999.00, 9,   -999.0,   1.8314, 27.7074,   1.9967, 2, 9, 0.42, 0.14, 0.01, 0.017,  -999.00, 9, -999.00, -999.00, 9, -999.00
49NZ20071122, P14N, 150, 1, 15, X12021, 2, 20071204, 1323, -1.7408, 178.9977, 5451,   2530.0, 2,   1.9084, 2,  34.6594, 2,  34.6597, 2,    123.8, 2,    123.6, 2,   139.72, 2,    37.79, 2,     0.01, 2,     2.67, 2, -999.000, 9, -999.000, 9, -999.000, 9, -999.000, 9,   -999.0, 9,   -999.0, 9, -999.0000,   -999.00,   -999.0, 9,   -999.0,  -999.00, 9,   -999.0,   1.7271, 27.7199,   1.9083, 2, 9, 0.43, 0.14, 0.01, 0.017,  -999.00, 9, -999.00, -999.00, 9, -999.00
49NZ20071122, P14N, 150, 1, 14, X12020, 2, 20071204, 1323, -1.7408, 178.9977, 5451,   2729.6, 2,   1.8320, 2,  34.6630, 2,  34.6632, 2,    130.4, 2,    131.0, 2,   138.63, 2,    37.39, 2,     0.00, 2,     2.64, 2,    0.000, 2,    0.000, 2,    0.000, 2, -999.000, 9,   -999.0, 9,   -999.0, 9, -999.0000,   -999.00,   -999.0, 9,   -999.0,  -999.00, 9,   -999.0,   1.6337, 27.7299,   1.8319, 2, 9, 0.42, 0.14, 0.01, 0.017,  -999.00, 9, -999.00, -999.00, 9, -999.00
49NZ20071122, P14N, 150, 1, 13, X12019, 2, 20071204, 1323, -1.7408, 178.9977, 5451,   2930.0, 2,   1.7244, 2,  34.6696, 2,  34.6698, 2,    137.7, 2,    137.8, 2,   138.63, 2,    36.95, 2,     0.00, 2,     2.60, 2, -999.000, 9, -999.000, 9, -999.000, 9, -999.000, 9,   -999.0, 9,   -999.0, 9, -999.0000,   -999.00,   -999.0, 9,   -999.0,  -999.00, 9,   -999.0,   1.5094, 27.7444,   1.7243, 2, 9, 0.42, 0.14, 0.01, 0.016,  -999.00, 9, -999.00, -999.00, 9, -999.00
49NZ20071122, P14N, 150, 1, 12, X12040, 2, 20071204, 1323, -1.7408, 178.9977, 5451,   3170.3, 2,   1.6463, 2,  34.6736, 2,  34.6737, 2,    140.4, 2,    141.2, 2,   139.89, 2,    36.66, 2,     0.01, 2,     2.58, 2, -999.000, 9, -999.000, 9, -999.000, 9, -999.000, 9,   -999.0, 9,   -999.0, 9, -999.0000,   -999.00,   -999.0, 9,   -999.0,  -999.00, 9,   -999.0,   1.4097, 27.7548,   1.6463, 2, 9, 0.43, 0.14, 0.01, 0.016,  -999.00, 9, -999.00, -999.00, 9, -999.00
49NZ20071122, P14N, 150, 1, 11, X12047, 2, 20071204, 1323, -1.7408, 178.9977, 5451,   3420.7, 2,   1.5538, 2,  34.6812, 2,  34.6813, 2,    149.3, 2,    150.0, 2,   138.25, 2,    36.11, 2,     0.00, 2,     2.53, 2, -999.000, 9, -999.000, 9, -999.000, 9, -999.000, 9,   -999.0, 9,   -999.0, 9, -999.0000,   -999.00,   -999.0, 9,   -999.0,  -999.00, 9,   -999.0,   1.2944, 27.7690,   1.5538, 2, 9, 0.42, 0.13, 0.01, 0.016,  -999.00, 9, -999.00, -999.00, 9, -999.00
49NZ20071122, P14N, 150, 1, 10, X12012, 2, 20071204, 1323, -1.7408, 178.9977, 5451,   3669.8, 2,   1.4942, 2,  34.6860, 2,  34.6860, 2,    155.2, 2,    155.8, 2,   137.41, 2,    35.84, 2,     0.00, 2,     2.50, 2,    0.000, 2,    0.000, 2,    0.000, 2, -999.000, 9,   -999.0, 9,   -999.0, 9, -999.0000,   -999.00,   -999.0, 9,   -999.0,  -999.00, 9,   -999.0,   1.2107, 27.7787,   1.4941, 2, 9, 0.42, 0.13, 0.01, 0.016,  -999.00, 9, -999.00, -999.00, 9, -999.00
49NZ20071122, P14N, 150, 1, 9, X12015, 2, 20071204, 1323, -1.7408, 178.9977, 5451,   3920.9, 2,   1.4393, 2,  34.6912, 2,  34.6913, 6,    162.0, 2,    162.4, 2,   136.31, 2,    35.30, 2,     0.00, 2,     2.47, 2,    0.000, 2,    0.000, 2,    0.000, 2, -999.000, 9,   -999.0, 9,   -999.0, 9, -999.0000,   -999.00,   -999.0, 9,   -999.0,  -999.00, 9,   -999.0,   1.1306, 27.7884,   1.4393, 2, 9, 0.42, 0.13, 0.01, 0.016,  -999.00, 9, -999.00, -999.00, 9, -999.00
49NZ20071122, P14N, 150, 1, 8, X12046, 2, 20071204, 1323, -1.7408, 178.9977, 5451,   4171.7, 2,   1.3775, 2,  34.6959, 2,  34.6960, 2,    170.2, 2,    170.4, 2,   133.31, 2,    34.78, 2,     0.00, 2,     2.42, 2,    0.000, 2,    0.000, 2,    0.000, 2, -999.000, 9,   -999.0, 9,   -999.0, 9, -999.0000,   -999.00,   -999.0, 9,   -999.0,  -999.00, 9,   -999.0,   1.0432, 27.7981,   1.3775, 2, 9, 0.41, 0.13, 0.01, 0.016,  -999.00, 9, -999.00, -999.00, 9, -999.00
49NZ20071122, P14N, 150, 1, 7, X12044, 2, 20071204, 1323, -1.7408, 178.9977, 5451,   4421.2, 2,   1.3061, 2,  34.7004, 2,  34.7005, 2,    181.2, 2,    180.9, 2,   127.74, 2,    33.95, 2,     0.00, 2,     2.36, 2,    0.016, 2,    0.000, 2,    0.000, 2, -999.000, 9,   -999.0, 9,   -999.0, 9, -999.0000,   -999.00,   -999.0, 9,   -999.0,  -999.00, 9,   -999.0,   0.9460, 27.8082,   1.3061, 2, 9, 0.40, 0.13, 0.01, 0.016,  -999.00, 9, -999.00, -999.00, 9, -999.00
49NZ20071122, P14N, 150, 1, 6, X12048, 2, 20071204, 1323, -1.7408, 178.9977, 5451,   4671.5, 2,   1.2673, 2,  34.7031, 2,  34.7033, 2,    187.7, 2,    188.0, 2,   124.16, 2,    33.45, 2,     0.00, 2,     2.33, 2,    0.000, 2,    0.000, 2,    0.000, 2, -999.000, 9,   -999.0, 9,   -999.0, 9, -999.0000,   -999.00,   -999.0, 9,   -999.0,  -999.00, 9,   -999.0,   0.8797, 27.8147,   1.2671, 2, 9, 0.39, 0.13, 0.01, 0.016,  -999.00, 9, -999.00, -999.00, 9, -999.00
49NZ20071122, P14N, 150, 1, 5, X12014, 2, 20071204, 1323, -1.7408, 178.9977, 5451,   4918.5, 2,   1.2562, 2,  34.7051, 2,  34.7048, 2,    192.3, 2,    192.7, 2,   121.62, 2,    33.09, 2,     0.00, 2,     2.31, 2,    0.001, 2,    0.001, 2,    0.000, 2, -999.000, 9,   -999.0, 9,   -999.0, 9, -999.0000,   -999.00,   -999.0, 9,   -999.0,  -999.00, 9,   -999.0,   0.8399, 27.8189,   1.2561, 2, 9, 0.39, 0.13, 0.01, 0.016,  -999.00, 9, -999.00, -999.00, 9, -999.00
49NZ20071122, P14N, 150, 1, 4, X12006, 2, 20071204, 1323, -1.7408, 178.9977, 5451,   5169.4, 2,   1.2659, 2,  34.7058, 2,  34.7056, 2,    194.4, 2,    194.2, 2,   121.03, 2,    33.03, 2,     0.00, 2,     2.30, 2,    0.002, 2,    0.002, 2,    0.000, 2, -999.000, 9,   -999.0, 9,   -999.0, 9, -999.0000,   -999.00,   -999.0, 9,   -999.0,  -999.00, 9,   -999.0,   0.8189, 27.8208,   1.2658, 2, 9, 0.39, 0.13, 0.01, 0.016,  -999.00, 9, -999.00, -999.00, 9, -999.00
49NZ20071122, P14N, 150, 1, 3, X12013, 2, 20071204, 1323, -1.7408, 178.9977, 5451,   5419.8, 2,   1.2921, 2,  34.7060, 2,  34.7067, 3,    194.9, 2,    194.8, 2,   120.64, 2,    32.85, 2,     0.00, 2,     2.29, 2,    0.006, 2,    0.002, 2,    0.000, 2, -999.000, 9,   -999.0, 9,   -999.0, 9, -999.0000,   -999.00,   -999.0, 9,   -999.0,  -999.00, 9,   -999.0,   0.8131, 27.8213,   1.2921, 2, 9, 0.38, 0.12, 0.01, 0.016,  -999.00, 9, -999.00, -999.00, 9, -999.00
49NZ20071122, P14N, 150, 1, 2, X12002, 9, 20071204, 1323, -1.7408, 178.9977, 5451,     10.4, 2,  27.3352, 2,  35.4195, 2, -999.0000, 9,    202.1, 2,   -999.0, 9,  -999.00, 9,  -999.00, 9,  -999.00, 9,  -999.00, 9, -999.000, 9, -999.000, 9, -999.000, 9, -999.000, 9,   -999.0, 9,   -999.0, 9, -999.0000,   -999.00,   -999.0, 9,   -999.0,  -999.00, 9,   -999.0,  27.3328, 22.9269,  27.3357, 2, 9, -999.00, -999.00, -999.00, -999.000,  -999.00, 9, -999.00, -999.00, 9, -999.00
49NZ20071122, P14N, 150, 1, 1, X12001, 2, 20071204, 1323, -1.7408, 178.9977, 5451,   5537.9, 2,   1.3071, 2,  34.7059, 2,  34.7062, 6,    195.1, 2,    194.9, 2,   120.73, 2,    32.97, 2,     0.01, 2,     2.30, 2,    0.005, 2,    0.002, 2,    0.000, 2, -999.000, 9,   -999.0, 9,   -999.0, 9, -999.0000,   -999.00,   -999.0, 9,   -999.0,  -999.00, 9,   -999.0,   0.8126, 27.8213,   1.3071, 2, 9, 0.38, 0.13, 0.01, 0.016,  -999.00, 9, -999.00, -999.00, 9, -999.00