BOTTLE,20220820CCHSIOAMB
EXPOCODE,SECT_ID,STNNBR,CASTNO,SAMPNO,BTLNBR,BTLNBR_FLAG_W,DATE,TIME,LATITUDE,LONGITUDE,DEPTH,CTDPRS,CTDPRS_FLAG_W,CTDTMP,CTDTMP_FLAG_W,CTDSAL,CTDSAL_FLAG_W,SALNTY,SALNTY_FLAG_W,CTDOXY,CTDOXY_FLAG_W,OXYGEN,OXYGEN_FLAG_W,SILCAT,SILCAT_FLAG_W,NITRAT,NITRAT_FLAG_W,NITRIT,NITRIT_FLAG_W,PHSPHT,PHSPHT_FLAG_W,CFC-11,CFC-11_FLAG_W,CFC-12,CFC-12_FLAG_W,CFC113,CFC113_FLAG_W,CCL4,CCL4_FLAG_W,TCARBN,TCARBN_FLAG_W,ALKALI,ALKALI_FLAG_W,PH_TOT,PH_TMP,DELC14,DELC14_FLAG_W,C14ERR,DELC13,DELC13_FLAG_W,C13ERR,THETA,SIG0,SBE35,SBE35_FLAG_W,PH_TOT_FLAG_W,SILUNC,NRAUNC,NRIUNC,PHPUNC,CS-137,CS-137_FLAG_W,CS137ER,PLUTO,PLUTO_FLAG_W,PLUTOER
,,,,,,,,,,,METERS,DBAR,,ITS-90,,PSS-78,,PSS-78,,UMOL/KG,,UMOL/KG,,UMOL/KG,,UMOL/KG,,UMOL/KG,,UMOL/KG,,PMOL/KG,,PMOL/KG,,PMOL/KG,,PMOL/KG,,UMOL/KG,,UMOL/KG,,,DEG C,/MILLE,,/MILLE,/MILLE,,/MILLE,DEG C,KG/M^3,ITS-90,,,UMOL/KG,UMOL/KG,UMOL/KG,UMOL/KG,DM/.1MG,,BQ/M^3,MBQ/M^3,,MBQ/M^3
49NZ20071122, P14, 21, 1, 36, X12042, 2, 20071219, 1010, -28.2725, 176.2968, 4460,      9.6, 2,  22.3509, 2,  35.5200, 2,  35.5208, 2,    221.1, 2,    220.5, 2,     0.59, 2,     0.05, 2,     0.01, 2,     0.06, 2,    1.982, 2,    1.193, 2,    0.317, 4, -999.000, 9,   2010.5, 2,   2330.3, 2,    8.0651,     25.00,   -999.0, 9,   -999.0,  -999.00, 9,   -999.0,  22.3490, 24.5145,  22.3500, 2, 6, 0.12, 0.03, 0.01, 0.032,  -999.00, 9, -999.00, -999.00, 9, -999.00
49NZ20071122, P14, 21, 1, 35, X12041, 2, 20071219, 1010, -28.2725, 176.2968, 4460,     50.6, 2,  21.8494, 2,  35.5245, 2,  35.5279, 2,    222.0, 2,    222.1, 2,     0.53, 2,     0.04, 2,     0.01, 2,     0.06, 2,    2.003, 2,    1.215, 2,    0.316, 4, -999.000, 9,   2011.4, 6,   2330.6, 2,    8.0664,     25.00,   -999.0, 9,   -999.0,  -999.00, 9,   -999.0,  21.8394, 24.6614,  21.8490, 2, 2, 0.12, 0.03, 0.01, 0.032,  -999.00, 9, -999.00, -999.00, 9, -999.00
49NZ20071122, P14, 21, 1, 34, X12016, 2, 20071219, 1010, -28.2725, 176.2968, 4460,    100.3, 2,  19.2995, 2,  35.7008, 2,  35.7006, 2,    210.5, 2,    211.8, 2,     0.65, 2,     0.91, 2,     0.10, 2,     0.18, 2,    2.216, 2,    1.303, 2,    0.257, 4, -999.000, 9,   2052.8, 2,   2341.7, 6,    8.0126,     25.00,   -999.0, 9,   -999.0,  -999.00, 9,   -999.0,  19.2814, 25.4845,  19.2989, 2, 2, 0.12, 0.04, 0.01, 0.017,  -999.00, 9, -999.00, -999.00, 9, -999.00
49NZ20071122, P14, 21, 1, 33, X12033, 2, 20071219, 1010, -28.2725, 176.2968, 4460,    151.0, 2,  18.3242, 2,  35.6916, 2,  35.6922, 2,    205.8, 2,    208.5, 2,     0.86, 2,     2.38, 2,     0.02, 2,     0.27, 2,    2.296, 6,    1.342, 6,    0.201, 4, -999.000, 9,   2063.4, 2,   2339.6, 2,    7.9884,     25.00,   -999.0, 9,   -999.0,  -999.00, 9,   -999.0,  18.2979, 25.7277,  18.3197, 2, 6, 0.12, 0.04, 0.01, 0.015,  -999.00, 9, -999.00, -999.00, 9, -999.00
49NZ20071122, P14, 21, 1, 32, X12038, 2, 20071219, 1010, -28.2725, 176.2968, 4460,    199.8, 2,  17.7240, 2,  35.6520, 2,  35.6504, 2,    202.7, 2,    205.6, 2,     1.07, 2,     3.56, 2,     0.01, 2,     0.34, 2,    2.353, 2,    1.365, 2,    0.151, 4, -999.000, 9,   2072.1, 2,   2336.8, 2,    7.9696,     25.00,   -999.0, 9,   -999.0,  -999.00, 9,   -999.0,  17.6899, 25.8480,  17.7244, 2, 2, 0.12, 0.04, 0.01, 0.014,  -999.00, 9, -999.00, -999.00, 9, -999.00
49NZ20071122, P14, 21, 1, 31, X12003, 2, 20071219, 1010, -28.2725, 176.2968, 4460,    250.5, 2,  16.6631, 2,  35.5284, 2,  35.5232, 6,    197.7, 2,    197.8, 2,     1.59, 2,     5.61, 2,     0.01, 2,     0.48, 2,    2.427, 2,    1.382, 2,    0.086, 2, -999.000, 9,   2084.2, 2,   2329.5, 2,    7.9357,     25.00,   -999.0, 9,   -999.0,  -999.00, 9,   -999.0,  16.6221, 26.0095,  16.6580, 2, 2, 0.12, 0.05, 0.01, 0.013,  -999.00, 9, -999.00, -999.00, 9, -999.00
49NZ20071122, P14, 21, 1, 30, X12008, 2, 20071219, 1010, -28.2725, 176.2968, 4460,    301.0, 2,  15.4993, 2,  35.4157, 2,  35.4166, 2,    197.0, 2,    197.3, 2,     2.06, 2,     7.32, 2,     0.01, 2,     0.59, 2,    2.485, 2,    1.396, 2,    0.076, 2, -999.000, 9,   2094.4, 2,   2325.8, 2,    7.9088,     25.00,   -999.0, 9,   -999.0,  -999.00, 9,   -999.0,  15.4524, 26.1918,  15.5074, 2, 2, 0.12, 0.05, 0.01, 0.013,  -999.00, 9, -999.00, -999.00, 9, -999.00
49NZ20071122, P14, 21, 1, 29, X12035, 2, 20071219, 1010, -28.2725, 176.2968, 4460,    400.1, 2,  13.1570, 2,  35.1032, 2,  35.0977, 2,    196.6, 2,    197.2, 2,     3.18, 2,    11.26, 2,     0.01, 2,     0.85, 2,    2.502, 2,    1.350, 2,    0.068, 2, -999.000, 9,   2112.8, 2,   2309.5, 2,    7.8471,     25.00,   -999.0, 9,   -999.0,  -999.00, 9,   -999.0,  13.1011, 26.4525,  13.1579, 2, 2, 0.13, 0.06, 0.01, 0.013,  -999.00, 9, -999.00, -999.00, 9, -999.00
49NZ20071122, P14, 21, 1, 28, X12034, 2, 20071219, 1010, -28.2725, 176.2968, 4460,    501.2, 2,  10.7012, 2,  34.8007, 2,  34.7930, 6,    202.4, 2,    203.1, 2,     4.56, 2,    15.74, 2,     0.01, 2,     1.14, 2,    2.539, 2,    1.314, 2,    0.088, 2, -999.000, 9,   2126.7, 2,   2296.9, 2,    7.7913,     25.00,   -999.0, 9,   -999.0,  -999.00, 9,   -999.0,  10.6398, 26.6849,  10.7010, 2, 2, 0.13, 0.08, 0.01, 0.013,  -999.00, 9, -999.00, -999.00, 9, -999.00
49NZ20071122, P14, 21, 1, 27, X12049, 2, 20071219, 1010, -28.2725, 176.2968, 4460,    599.1, 2,   8.6504, 2,  34.5684, 2,  34.5674, 2,    213.5, 2,    214.0, 2,     6.13, 2,    19.67, 2,     0.01, 2,     1.39, 2,    2.519, 2,    1.258, 2,    0.099, 2, -999.000, 9,   2137.0, 2,   2287.8, 2,    7.7526,     25.00,   -999.0, 9,   -999.0,  -999.00, 9,   -999.0,   8.5857, 26.8455,   8.6397, 2, 2, 0.13, 0.09, 0.01, 0.014,  -999.00, 9, -999.00, -999.00, 9, -999.00
49NZ20071122, P14, 21, 1, 26, X12032, 2, 20071219, 1010, -28.2725, 176.2968, 4460,    700.4, 2,   7.3213, 2,  34.4368, 2,  34.4270, 3,    222.1, 2,    223.3, 2,     8.55, 2,    22.73, 2,     0.01, 2,     1.58, 2,    2.146, 6,    1.045, 6,    0.071, 6, -999.000, 9,   2142.9, 6,   2284.7, 2,    7.7279,     25.00,   -999.0, 9,   -999.0,  -999.00, 9,   -999.0,   7.2522, 26.9399,   7.3227, 2, 2, 0.14, 0.10, 0.01, 0.014,  -999.00, 9, -999.00, -999.00, 9, -999.00
49NZ20071122, P14, 21, 1, 25, X12043, 2, 20071219, 1010, -28.2725, 176.2968, 4460,    797.9, 2,   6.5361, 2,  34.3816, 2,  34.3810, 2,    221.8, 2,    221.3, 2,    11.95, 2,    24.82, 2,     0.00, 2,     1.72, 2,    1.602, 2,    0.777, 2,    0.060, 2, -999.000, 9,   2152.5, 2,   2286.0, 6,    7.7136,     25.00,   -999.0, 9,   -999.0,  -999.00, 9,   -999.0,   6.4617, 27.0043,   6.5454, 2, 2, 0.15, 0.10, 0.01, 0.014,  -999.00, 9, -999.00, -999.00, 9, -999.00
49NZ20071122, P14, 21, 1, 24, X12030, 2, 20071219, 1010, -28.2725, 176.2968, 4460,    900.0, 2,   5.9349, 2,  34.3580, 2,  34.3578, 2,    213.9, 2,    214.6, 2,    16.73, 2,    26.70, 2,     0.01, 2,     1.85, 2,    1.093, 2,    0.534, 2,    0.035, 2, -999.000, 9,   2164.8, 2,   2289.4, 2,    7.6933,     25.00,   -999.0, 9,   -999.0,  -999.00, 9,   -999.0,   5.8544, 27.0637,   5.9354, 2, 6, 0.16, 0.11, 0.01, 0.015,  -999.00, 9, -999.00, -999.00, 9, -999.00
49NZ20071122, P14, 21, 1, 23, X12027, 2, 20071219, 1010, -28.2725, 176.2968, 4460,   1001.6, 2,   5.2669, 2,  34.3576, 2,  34.3580, 6,    202.3, 2,    201.9, 2,    25.28, 2,    29.09, 2,     0.01, 2,     2.02, 2,    0.620, 2,    0.309, 2,    0.016, 2, -999.000, 9,   2181.2, 2,   2297.0, 2,    7.6651,     25.00,   -999.0, 9,   -999.0,  -999.00, 9,   -999.0,   5.1817, 27.1448,   5.2673, 2, 2, 0.17, 0.11, 0.01, 0.015,  -999.00, 9, -999.00, -999.00, 9, -999.00
49NZ20071122, P14, 21, 1, 22, X12028, 2, 20071219, 1010, -28.2725, 176.2968, 4460,   1200.3, 2,   3.9989, 2,  34.4455, 2,  34.4474, 2,    178.1, 2,    177.0, 2,    53.49, 2,    32.59, 2,     0.00, 2,     2.28, 2,    0.172, 2,    0.087, 2,    0.010, 2, -999.000, 9,   2226.0, 2,   2327.1, 2,    7.6202,     25.00,   -999.0, 9,   -999.0,  -999.00, 9,   -999.0,   3.9064, 27.3547,   4.0013, 2, 2, 0.24, 0.12, 0.01, 0.016,  -999.00, 9, -999.00, -999.00, 9, -999.00
49NZ20071122, P14, 21, 1, 21, X12009, 2, 20071219, 1010, -28.2725, 176.2968, 4460,   1399.6, 2,   3.2748, 2,  34.5286, 2,  34.5306, 2,    163.5, 2,    163.6, 2,    76.83, 2,    33.97, 2,     0.00, 2,     2.39, 2,    0.062, 2,    0.031, 2,    0.009, 2, -999.000, 9,   2257.1, 2,   2354.8, 2,    7.6047,     25.00,   -999.0, 9,   -999.0,  -999.00, 9,   -999.0,   3.1724, 27.4928,   3.2752, 2, 2, 0.29, 0.13, 0.01, 0.016,  -999.00, 9, -999.00, -999.00, 9, -999.00
49NZ20071122, P14, 21, 1, 20, X12026, 2, 20071219, 1010, -28.2725, 176.2968, 4460,   1602.9, 2,   2.7806, 2,  34.5895, 2,  34.5894, 2,    157.0, 2,    156.8, 2,    93.49, 2,    34.64, 2,     0.00, 2,     2.44, 2,    0.033, 2,    0.015, 2,    0.000, 2, -999.000, 9,   2278.8, 2,   2373.8, 2,    7.5994,     25.00,   -999.0, 9,   -999.0,  -999.00, 9,   -999.0,   2.6668, 27.5873,   2.7808, 2, 6, 0.32, 0.13, 0.01, 0.016,  -999.00, 9, -999.00, -999.00, 9, -999.00
49NZ20071122, P14, 21, 1, 19, X12025, 2, 20071219, 1010, -28.2725, 176.2968, 4460,   1799.6, 2,   2.4770, 2,  34.6182, 2,  34.6183, 2,    153.8, 2,    153.7, 2,   103.24, 2,    35.00, 2,     0.00, 2,     2.47, 2,    0.010, 2,    0.006, 2,    0.000, 2, -999.000, 9,   2290.9, 2,   2384.7, 2,    7.5936,     25.00,   -999.0, 9,   -999.0,  -999.00, 9,   -999.0,   2.3505, 27.6373,   2.4771, 2, 2, 0.35, 0.13, 0.01, 0.016,  -999.00, 9, -999.00, -999.00, 9, -999.00
49NZ20071122, P14, 21, 1, 18, X12024, 2, 20071219, 1010, -28.2725, 176.2968, 4460,   2000.0, 2,   2.2388, 2,  34.6395, 2,  34.6389, 2,    152.5, 2,    152.3, 2,   110.23, 2,    35.22, 2,     0.00, 2,     2.49, 2,    0.004, 2,    0.003, 2,    0.000, 2, -999.000, 9,   2297.5, 2,   2393.6, 2,    7.5956,     25.00,   -999.0, 9,   -999.0,  -999.00, 9,   -999.0,   2.0987, 27.6749,   2.2388, 2, 2, 0.36, 0.13, 0.01, 0.016,  -999.00, 9, -999.00, -999.00, 9, -999.00
49NZ20071122, P14, 21, 1, 17, X12023, 2, 20071219, 1010, -28.2725, 176.2968, 4460,   2199.9, 2,   2.1047, 2,  34.6520, 2,  34.6514, 6,    152.5, 2,    155.4, 3,   113.63, 2,    35.26, 2,     0.00, 2,     2.49, 2,    0.000, 2,    0.000, 2,    0.000, 2, -999.000, 9,   2301.5, 2,   2396.7, 2,    7.5941,     25.00,   -999.0, 9,   -999.0,  -999.00, 9,   -999.0,   1.9494, 27.6969,   2.1047, 2, 2, 0.37, 0.13, 0.01, 0.016,  -999.00, 9, -999.00, -999.00, 9, -999.00
49NZ20071122, P14, 21, 1, 16, X12022, 2, 20071219, 1010, -28.2725, 176.2968, 4460,   2399.1, 2,   2.0170, 2,  34.6605, 2,  34.6605, 2,    153.0, 2,    152.9, 2,   116.09, 2,    35.33, 2,     0.00, 2,     2.50, 2,    0.001, 2,    0.001, 2,    0.000, 2, -999.000, 9,   2304.3, 6,   2400.7, 2,    7.5950,     25.00,   -999.0, 9,   -999.0,  -999.00, 9,   -999.0,   1.8455, 27.7118,   2.0169, 2, 2, 0.37, 0.13, 0.01, 0.016,  -999.00, 9, -999.00, -999.00, 9, -999.00
49NZ20071122, P14, 21, 1, 15, X12021, 2, 20071219, 1010, -28.2725, 176.2968, 4460,   2600.4, 2,   1.9274, 2,  34.6693, 2,  34.6690, 2,    153.6, 2,    153.6, 2,   118.61, 2,    35.34, 2,     0.00, 2,     2.49, 2, -999.000, 9, -999.000, 9, -999.000, 9, -999.000, 9,   2307.4, 2,   2403.3, 6,    7.5961,     25.00,   -999.0, 9,   -999.0,  -999.00, 9,   -999.0,   1.7392, 27.7270,   1.9273, 2, 2, 0.38, 0.13, 0.01, 0.016,  -999.00, 9, -999.00, -999.00, 9, -999.00
49NZ20071122, P14, 21, 1, 14, X12020, 2, 20071219, 1010, -28.2725, 176.2968, 4460,   2800.7, 2,   1.8722, 2,  34.6749, 2,  34.6746, 2,    153.9, 2,    153.9, 2,   120.28, 2,    35.32, 2,     0.00, 2,     2.49, 2,    0.000, 2,    0.000, 2,    0.000, 2, -999.000, 9,   2309.0, 2,   2405.2, 2,    7.5973,     25.00,   -999.0, 9,   -999.0,  -999.00, 9,   -999.0,   1.6664, 27.7370,   1.8721, 2, 2, 0.38, 0.13, 0.01, 0.016,  -999.00, 9, -999.00, -999.00, 9, -999.00
49NZ20071122, P14, 21, 1, 13, X12019, 2, 20071219, 1010, -28.2725, 176.2968, 4460,   2999.2, 2,   1.8468, 2,  34.6782, 2,  34.6777, 2,    154.3, 2,    154.4, 2,   121.33, 2,    35.38, 2,     0.01, 2,     2.50, 2, -999.000, 9, -999.000, 9, -999.000, 9, -999.000, 9,   2310.2, 2,   2406.8, 2,    7.5982,     25.00,   -999.0, 9,   -999.0,  -999.00, 9,   -999.0,   1.6224, 27.7429,   1.8469, 2, 2, 0.39, 0.13, 0.01, 0.016,  -999.00, 9, -999.00, -999.00, 9, -999.00
49NZ20071122, P14, 21, 1, 12, X12040, 2, 20071219, 1010, -28.2725, 176.2968, 4460,   3251.8, 2,   1.8412, 2,  34.6803, 2,  34.6798, 2,    154.6, 2,    154.5, 2,   121.90, 2,    35.33, 2,     0.01, 2,     2.48, 2,    0.000, 2,    0.000, 2,    0.000, 2, -999.000, 9,   2313.6, 2,   2406.5, 2,    7.5992,     25.00,   -999.0, 9,   -999.0,  -999.00, 9,   -999.0,   1.5919, 27.7468,   1.8412, 2, 2, 0.39, 0.13, 0.01, 0.016,  -999.00, 9, -999.00, -999.00, 9, -999.00
49NZ20071122, P14, 21, 1, 11, X12047, 2, 20071219, 1010, -28.2725, 176.2968, 4460,   3500.2, 2,   1.8429, 2,  34.6816, 2,  34.6814, 2,    154.9, 2,    154.8, 2,   122.63, 2,    35.35, 2,     0.01, 2,     2.49, 2, -999.000, 9, -999.000, 9, -999.000, 9, -999.000, 9,   2313.7, 2,   2407.9, 2,    7.5994,     25.00,   -999.0, 9,   -999.0,  -999.00, 9,   -999.0,   1.5681, 27.7497,   1.8429, 2, 2, 0.39, 0.13, 0.01, 0.016,  -999.00, 9, -999.00, -999.00, 9, -999.00
49NZ20071122, P14, 21, 1, 10, X12012, 2, 20071219, 1010, -28.2725, 176.2968, 4460,   3749.5, 2,   1.8553, 2,  34.6821, 2,  34.6822, 2,    155.1, 2,    155.1, 2,   123.00, 2,    35.32, 2,     0.01, 2,     2.49, 2,    0.000, 2,    0.000, 2,    0.000, 2, -999.000, 9,   2311.6, 2,   2407.5, 2,    7.5989,     25.00,   -999.0, 9,   -999.0,  -999.00, 9,   -999.0,   1.5538, 27.7512,   1.8553, 2, 2, 0.39, 0.13, 0.01, 0.016,  -999.00, 9, -999.00, -999.00, 9, -999.00
49NZ20071122, P14, 21, 1, 9, X12015, 2, 20071219, 1010, -28.2725, 176.2968, 4460,   4002.0, 2,   1.8739, 2,  34.6825, 2,  34.6824, 6,    155.6, 2,    155.3, 2,   123.04, 2,    35.39, 2,     0.01, 2,     2.49, 2, -999.000, 9, -999.000, 9, -999.000, 9, -999.000, 9,   2311.4, 2,   2407.9, 2,    7.5988,     25.00,   -999.0, 9,   -999.0,  -999.00, 9,   -999.0,   1.5443, 27.7521,   1.8739, 2, 2, 0.39, 0.13, 0.01, 0.016,  -999.00, 9, -999.00, -999.00, 9, -999.00
49NZ20071122, P14, 21, 1, 8, X12046, 2, 20071219, 1010, -28.2725, 176.2968, 4460,   4249.1, 2,   1.8979, 2,  34.6827, 2,  34.6824, 2,    155.8, 2,    155.5, 2,   123.32, 2,    35.41, 2,     0.01, 2,     2.49, 2,    0.002, 2,    0.000, 2,    0.000, 2, -999.000, 9,   2312.7, 2,   2408.3, 2,    7.5989,     25.00,   -999.0, 9,   -999.0,  -999.00, 9,   -999.0,   1.5397, 27.7526,   1.8979, 2, 2, 0.39, 0.13, 0.01, 0.016,  -999.00, 9, -999.00, -999.00, 9, -999.00
49NZ20071122, P14, 21, 1, 7, X12044, 9, 20071219, 1010, -28.2725, 176.2968, 4460,    798.5, 2,   6.5550, 2,  34.3827, 2, -999.0000, 9,    221.7, 2,   -999.0, 9,  -999.00, 9,  -999.00, 9,  -999.00, 9,  -999.00, 9, -999.000, 9, -999.000, 9, -999.000, 9, -999.000, 9,   -999.0, 9,   -999.0, 9, -999.0000,   -999.00,   -999.0, 9,   -999.0,  -999.00, 9,   -999.0,   6.4804, 27.0027,   6.5483, 2, 9, -999.00, -999.00, -999.00, -999.000,  -999.00, 9, -999.00, -999.00, 9, -999.00
49NZ20071122, P14, 21, 1, 6, X12048, 9, 20071219, 1010, -28.2725, 176.2968, 4460,    899.9, 2,   5.9307, 2,  34.3577, 2, -999.0000, 9,    213.9, 2,   -999.0, 9,  -999.00, 9,  -999.00, 9,  -999.00, 9,  -999.00, 9, -999.000, 9, -999.000, 9, -999.000, 9, -999.000, 9,   -999.0, 9,   -999.0, 9, -999.0000,   -999.00,   -999.0, 9,   -999.0,  -999.00, 9,   -999.0,   5.8502, 27.0639,   5.9338, 2, 9, -999.00, -999.00, -999.00, -999.000,  -999.00, 9, -999.00, -999.00, 9, -999.00
49NZ20071122, P14, 21, 1, 5, X12014, 9, 20071219, 1010, -28.2725, 176.2968, 4460,     10.0, 2,  22.3592, 2,  35.5188, 2, -999.0000, 9,    221.2, 2,   -999.0, 9,  -999.00, 9,  -999.00, 9,  -999.00, 9,  -999.00, 9, -999.000, 9, -999.000, 9, -999.000, 9, -999.000, 9,   -999.0, 9,   -999.0, 9, -999.0000,   -999.00,   -999.0, 9,   -999.0,  -999.00, 9,   -999.0,  22.3572, 24.5112,  22.3602, 2, 9, -999.00, -999.00, -999.00, -999.000,  -999.00, 9, -999.00, -999.00, 9, -999.00
49NZ20071122, P14, 21, 1, 4, X12006, 9, 20071219, 1010, -28.2725, 176.2968, 4460,   1200.3, 2,   4.0017, 2,  34.4451, 2, -999.0000, 9,    178.1, 2,   -999.0, 9,  -999.00, 9,  -999.00, 9,  -999.00, 9,  -999.00, 9, -999.000, 9, -999.000, 9, -999.000, 9, -999.000, 9,   -999.0, 9,   -999.0, 9, -999.0000,   -999.00,   -999.0, 9,   -999.0,  -999.00, 9,   -999.0,   3.9092, 27.3541,   4.0011, 2, 9, -999.00, -999.00, -999.00, -999.000,  -999.00, 9, -999.00, -999.00, 9, -999.00
49NZ20071122, P14, 21, 1, 3, X12013, 9, 20071219, 1010, -28.2725, 176.2968, 4460,   3500.3, 2,   1.8429, 2,  34.6816, 2, -999.0000, 9,    154.9, 2,   -999.0, 9,  -999.00, 9,  -999.00, 9,  -999.00, 9,  -999.00, 9, -999.000, 9, -999.000, 9, -999.000, 9, -999.000, 9,   -999.0, 9,   -999.0, 9, -999.0000,   -999.00,   -999.0, 9,   -999.0,  -999.00, 9,   -999.0,   1.5681, 27.7497,   1.8428, 2, 9, -999.00, -999.00, -999.00, -999.000,  -999.00, 9, -999.00, -999.00, 9, -999.00
49NZ20071122, P14, 21, 1, 2, X12002, 9, 20071219, 1010, -28.2725, 176.2968, 4460,   1603.1, 2,   2.7804, 2,  34.5895, 2, -999.0000, 9,    157.0, 2,   -999.0, 9,  -999.00, 9,  -999.00, 9,  -999.00, 9,  -999.00, 9, -999.000, 9, -999.000, 9, -999.000, 9, -999.000, 9,   -999.0, 9,   -999.0, 9, -999.0000,   -999.00,   -999.0, 9,   -999.0,  -999.00, 9,   -999.0,   2.6665, 27.5873,   2.7806, 2, 9, -999.00, -999.00, -999.00, -999.000,  -999.00, 9, -999.00, -999.00, 9, -999.00
49NZ20071122, P14, 21, 1, 1, X12001, 2, 20071219, 1010, -28.2725, 176.2968, 4460,   4525.0, 2,   1.9279, 2,  34.6825, 2,  34.6827, 6,    155.9, 2,    155.6, 2,   123.33, 2,    35.30, 2,     0.01, 2,     2.49, 2,    0.000, 2,    0.000, 2,    0.000, 2, -999.000, 9,   2312.2, 2,   2407.5, 2,    7.5991,     25.00,   -999.0, 9,   -999.0,  -999.00, 9,   -999.0,   1.5368, 27.7527,   1.9279, 2, 2, 0.39, 0.13, 0.01, 0.016,  -999.00, 9, -999.00, -999.00, 9, -999.00