BOTTLE,20220820CCHSIOAMB
EXPOCODE,SECT_ID,STNNBR,CASTNO,SAMPNO,BTLNBR,BTLNBR_FLAG_W,DATE,TIME,LATITUDE,LONGITUDE,DEPTH,CTDPRS,CTDPRS_FLAG_W,CTDTMP,CTDTMP_FLAG_W,CTDSAL,CTDSAL_FLAG_W,SALNTY,SALNTY_FLAG_W,CTDOXY,CTDOXY_FLAG_W,OXYGEN,OXYGEN_FLAG_W,SILCAT,SILCAT_FLAG_W,NITRAT,NITRAT_FLAG_W,NITRIT,NITRIT_FLAG_W,PHSPHT,PHSPHT_FLAG_W,CFC-11,CFC-11_FLAG_W,CFC-12,CFC-12_FLAG_W,CFC113,CFC113_FLAG_W,CCL4,CCL4_FLAG_W,TCARBN,TCARBN_FLAG_W,ALKALI,ALKALI_FLAG_W,PH_TOT,PH_TMP,DELC14,DELC14_FLAG_W,C14ERR,DELC13,DELC13_FLAG_W,C13ERR,THETA,SIG0,SBE35,SBE35_FLAG_W,PH_TOT_FLAG_W,SILUNC,NRAUNC,NRIUNC,PHPUNC,CS-137,CS-137_FLAG_W,CS137ER,PLUTO,PLUTO_FLAG_W,PLUTOER
,,,,,,,,,,,METERS,DBAR,,ITS-90,,PSS-78,,PSS-78,,UMOL/KG,,UMOL/KG,,UMOL/KG,,UMOL/KG,,UMOL/KG,,UMOL/KG,,PMOL/KG,,PMOL/KG,,PMOL/KG,,PMOL/KG,,UMOL/KG,,UMOL/KG,,,DEG C,/MILLE,,/MILLE,/MILLE,,/MILLE,DEG C,KG/M^3,ITS-90,,,UMOL/KG,UMOL/KG,UMOL/KG,UMOL/KG,DM/.1MG,,BQ/M^3,MBQ/M^3,,MBQ/M^3
49NZ20071122, P14N, 120, 1, 36, X12042, 2, 20071126, 1055, 5.7530, 179.0032, 5671,     10.4, 2,  28.2762, 2,  34.7420, 2,  34.7425, 2,    198.6, 2,    197.3, 2,     1.14, 2,     0.23, 2,     0.03, 2,     0.22, 2,    1.472, 2,    0.948, 2,    0.175, 4, -999.000, 9,   -999.0, 9,   -999.0, 9, -999.0000,   -999.00,   -999.0, 9,   -999.0,  -999.00, 9,   -999.0,  28.2737, 22.1110,  28.2755, 2, 9, 0.12, 0.03, 0.01, 0.015,  -999.00, 9, -999.00, -999.00, 9, -999.00
49NZ20071122, P14N, 120, 1, 35, X12041, 2, 20071126, 1055, 5.7530, 179.0032, 5671,     49.8, 2,  28.3766, 2,  34.8587, 2,  34.8595, 2,    196.5, 2,    196.5, 2,     1.15, 2,     0.22, 2,     0.03, 2,     0.23, 2,    1.476, 2,    0.937, 2,    0.170, 4, -999.000, 9,   -999.0, 9,   -999.0, 9, -999.0000,   -999.00,   -999.0, 9,   -999.0,  -999.00, 9,   -999.0,  28.3648, 22.1687,  28.3746, 2, 9, 0.12, 0.03, 0.01, 0.015,  -999.00, 9, -999.00, -999.00, 9, -999.00
49NZ20071122, P14N, 120, 1, 34, X12016, 2, 20071126, 1055, 5.7530, 179.0032, 5671,    101.0, 2,  28.2708, 2,  34.9788, 2,  34.9760, 2,    193.6, 2,    193.8, 2,     1.24, 2,     0.58, 2,     0.11, 2,     0.29, 2,    1.504, 2,    0.967, 2,    0.186, 4, -999.000, 9,   -999.0, 9,   -999.0, 9, -999.0000,   -999.00,   -999.0, 9,   -999.0,  -999.00, 9,   -999.0,  28.2468, 22.2978,  28.2690, 2, 9, 0.12, 0.03, 0.01, 0.014,  -999.00, 9, -999.00, -999.00, 9, -999.00
49NZ20071122, P14N, 120, 1, 33, X12033, 2, 20071126, 1055, 5.7530, 179.0032, 5671,    149.6, 2,  27.4309, 2,  34.9995, 2,  34.9996, 2,    177.4, 2,    180.7, 2,     1.81, 2,     1.69, 2,     0.80, 2,     0.38, 2,    1.564, 6,    0.974, 6,    0.182, 4, -999.000, 9,   -999.0, 9,   -999.0, 9, -999.0000,   -999.00,   -999.0, 9,   -999.0,  -999.00, 9,   -999.0,  27.3962, 22.5903,  27.4297, 2, 9, 0.12, 0.04, 0.00, 0.013,  -999.00, 9, -999.00, -999.00, 9, -999.00
49NZ20071122, P14N, 120, 1, 32, X12038, 2, 20071126, 1055, 5.7530, 179.0032, 5671,    200.4, 2,  17.9581, 2,  34.6870, 2,  34.7012, 2,    158.4, 2,    157.1, 2,     5.89, 2,     7.72, 2,     0.04, 2,     0.72, 2,    2.281, 2,    1.322, 2,    0.094, 2, -999.000, 9,   -999.0, 9,   -999.0, 9, -999.0000,   -999.00,   -999.0, 9,   -999.0,  -999.00, 9,   -999.0,  17.9238, 25.0510,  17.9657, 2, 9, 0.13, 0.05, 0.01, 0.013,  -999.00, 9, -999.00, -999.00, 9, -999.00
49NZ20071122, P14N, 120, 1, 31, X12003, 2, 20071126, 1055, 5.7530, 179.0032, 5671,    249.8, 2,  11.8606, 2,  34.5866, 2,  34.5886, 6,     43.0, 2,     40.2, 2,    25.87, 2,    29.70, 2,     0.01, 2,     2.23, 2,    1.028, 2,    0.543, 2,    0.018, 2, -999.000, 9,   -999.0, 9,   -999.0, 9, -999.0000,   -999.00,   -999.0, 9,   -999.0,  -999.00, 9,   -999.0,  11.8283, 26.3006,  11.8648, 2, 9, 0.18, 0.12, 0.01, 0.016,  -999.00, 9, -999.00, -999.00, 9, -999.00
49NZ20071122, P14N, 120, 1, 30, X12008, 2, 20071126, 1055, 5.7530, 179.0032, 5671,    280.2, 2,  10.7840, 2,  34.6457, 2,  34.6416, 2,     44.5, 2,     43.4, 2,    30.15, 2,    31.83, 2,     0.01, 2,     2.32, 2,    0.644, 2,    0.334, 2,    0.014, 2, -999.000, 9,   -999.0, 9,   -999.0, 9, -999.0000,   -999.00,   -999.0, 9,   -999.0,  -999.00, 9,   -999.0,  10.7499, 26.5445,  10.7856, 2, 9, 0.19, 0.12, 0.01, 0.016,  -999.00, 9, -999.00, -999.00, 9, -999.00
49NZ20071122, P14N, 120, 1, 29, X12035, 2, 20071126, 1055, 5.7530, 179.0032, 5671,    370.7, 2,   9.3635, 2,  34.6485, 2,  34.6468, 2,     41.2, 2,     41.7, 2,    34.32, 2,    34.57, 2,     0.00, 2,     2.48, 2,    0.298, 2,    0.157, 2,    0.007, 2, -999.000, 9,   -999.0, 9,   -999.0, 9, -999.0000,   -999.00,   -999.0, 9,   -999.0,  -999.00, 9,   -999.0,   9.3220, 26.7907,   9.3638, 2, 9, 0.19, 0.13, 0.01, 0.016,  -999.00, 9, -999.00, -999.00, 9, -999.00
49NZ20071122, P14N, 120, 1, 28, X12034, 2, 20071126, 1055, 5.7530, 179.0032, 5671,    470.9, 2,   8.3994, 2,  34.6120, 2,  34.6102, 6,     54.0, 2,     49.3, 2,    39.25, 2,    35.88, 2,     0.00, 2,     2.58, 2,    0.190, 2,    0.098, 2,    0.000, 2, -999.000, 9,   -999.0, 9,   -999.0, 9, -999.0000,   -999.00,   -999.0, 9,   -999.0,  -999.00, 9,   -999.0,   8.3498, 26.9162,   8.4001, 2, 9, 0.21, 0.13, 0.01, 0.016,  -999.00, 9, -999.00, -999.00, 9, -999.00
49NZ20071122, P14N, 120, 1, 27, X12049, 2, 20071126, 1055, 5.7530, 179.0032, 5671,    570.5, 2,   7.5766, 2,  34.5799, 2,  34.5789, 2,     39.0, 2,     38.5, 2,    47.32, 2,    38.01, 2,     0.01, 2,     2.78, 2,    0.073, 2,    0.036, 2,    0.000, 2, -999.000, 9,   -999.0, 9,   -999.0, 9, -999.0000,   -999.00,   -999.0, 9,   -999.0,  -999.00, 9,   -999.0,   7.5196, 27.0144,   7.5770, 2, 9, 0.22, 0.14, 0.01, 0.017,  -999.00, 9, -999.00, -999.00, 9, -999.00
49NZ20071122, P14N, 120, 1, 26, X12032, 2, 20071126, 1055, 5.7530, 179.0032, 5671,    670.3, 2,   6.6497, 2,  34.5558, 2,  34.5547, 2,     29.3, 2,     30.9, 2,    58.70, 2,    40.73, 2,     0.01, 2,     2.98, 2,    0.017, 6,    0.008, 6,    0.000, 6, -999.000, 9,   -999.0, 9,   -999.0, 9, -999.0000,   -999.00,   -999.0, 9,   -999.0,  -999.00, 9,   -999.0,   6.5870, 27.1251,   6.6488, 2, 9, 0.25, 0.15, 0.01, 0.017,  -999.00, 9, -999.00, -999.00, 9, -999.00
49NZ20071122, P14N, 120, 1, 25, X12043, 2, 20071126, 1055, 5.7530, 179.0032, 5671,    773.0, 2,   5.8919, 2,  34.5455, 2,  34.5451, 2,     38.1, 2,     40.5, 2,    67.42, 2,    41.44, 2,     0.01, 2,     3.00, 2,    0.004, 2,    0.003, 2,    0.000, 2, -999.000, 9,   -999.0, 9,   -999.0, 9, -999.0000,   -999.00,   -999.0, 9,   -999.0,  -999.00, 9,   -999.0,   5.8235, 27.2158,   5.8925, 2, 9, 0.27, 0.15, 0.01, 0.017,  -999.00, 9, -999.00, -999.00, 9, -999.00
49NZ20071122, P14N, 120, 1, 24, X12030, 2, 20071126, 1055, 5.7530, 179.0032, 5671,    872.7, 2,   5.3124, 2,  34.5475, 2,  34.5471, 2,     47.7, 2,     50.3, 2,    74.97, 2,    41.49, 2,     0.00, 2,     2.98, 2,    0.002, 2,    0.002, 2,    0.000, 2, -999.000, 9,   -999.0, 9,   -999.0, 9, -999.0000,   -999.00,   -999.0, 9,   -999.0,  -999.00, 9,   -999.0,   5.2384, 27.2886,   5.3129, 2, 9, 0.28, 0.15, 0.01, 0.017,  -999.00, 9, -999.00, -999.00, 9, -999.00
49NZ20071122, P14N, 120, 1, 23, X12027, 2, 20071126, 1055, 5.7530, 179.0032, 5671,    970.0, 2,   4.8559, 2,  34.5532, 2,  34.5530, 6,     56.0, 2,     56.6, 2,    83.01, 2,    41.60, 2,     0.00, 2,     3.00, 2,    0.000, 2,    0.000, 2,    0.000, 2, -999.000, 9,   -999.0, 9,   -999.0, 9, -999.0000,   -999.00,   -999.0, 9,   -999.0,  -999.00, 9,   -999.0,   4.7763, 27.3466,   4.8565, 2, 9, 0.30, 0.15, 0.01, 0.017,  -999.00, 9, -999.00, -999.00, 9, -999.00
49NZ20071122, P14N, 120, 1, 22, X12028, 2, 20071126, 1055, 5.7530, 179.0032, 5671,   1129.4, 2,   4.1798, 2,  34.5664, 2,  34.5668, 2,     63.5, 2,     65.2, 2,    96.77, 2,    41.36, 2,     0.00, 2,     2.99, 2,    0.000, 2,    0.000, 2,    0.000, 2, -999.000, 9,   -999.0, 9,   -999.0, 9, -999.0000,   -999.00,   -999.0, 9,   -999.0,  -999.00, 9,   -999.0,   4.0916, 27.4317,   4.1798, 2, 9, 0.33, 0.15, 0.01, 0.017,  -999.00, 9, -999.00, -999.00, 9, -999.00
49NZ20071122, P14N, 120, 1, 21, X12009, 2, 20071126, 1055, 5.7530, 179.0032, 5671,   1333.0, 2,   3.5660, 2,  34.5840, 2,  34.5842, 2,     78.6, 2,     78.6, 2,   108.30, 2,    40.69, 2,     0.00, 2,     2.93, 2, -999.000, 9, -999.000, 9, -999.000, 9, -999.000, 9,   -999.0, 9,   -999.0, 9, -999.0000,   -999.00,   -999.0, 9,   -999.0,  -999.00, 9,   -999.0,   3.4661, 27.5090,   3.5662, 2, 9, 0.36, 0.15, 0.01, 0.017,  -999.00, 9, -999.00, -999.00, 9, -999.00
49NZ20071122, P14N, 120, 1, 20, X12026, 2, 20071126, 1055, 5.7530, 179.0032, 5671,   1528.8, 2,   3.1087, 2,  34.5997, 2,  34.6002, 2,     85.8, 2,     85.0, 2,   118.69, 2,    40.39, 2,     0.00, 2,     2.90, 2,    0.000, 2,    0.000, 2,    0.000, 2, -999.000, 9,   -999.0, 9,   -999.0, 9, -999.0000,   -999.00,   -999.0, 9,   -999.0,  -999.00, 9,   -999.0,   2.9971, 27.5658,   3.1085, 2, 9, 0.38, 0.15, 0.01, 0.017,  -999.00, 9, -999.00, -999.00, 9, -999.00
49NZ20071122, P14N, 120, 1, 19, X12025, 2, 20071126, 1055, 5.7530, 179.0032, 5671,   1730.4, 2,   2.7040, 2,  34.6155, 2,  34.6164, 2,     94.2, 2,     94.0, 2,   127.55, 2,    39.88, 2,     0.00, 2,     2.85, 2, -999.000, 9, -999.000, 9, -999.000, 9, -999.000, 9,   -999.0, 9,   -999.0, 9, -999.0000,   -999.00,   -999.0, 9,   -999.0,  -999.00, 9,   -999.0,   2.5803, 27.6155,   2.7045, 2, 9, 0.40, 0.14, 0.01, 0.017,  -999.00, 9, -999.00, -999.00, 9, -999.00
49NZ20071122, P14N, 120, 1, 18, X12024, 2, 20071126, 1055, 5.7530, 179.0032, 5671,   1931.5, 2,   2.4105, 2,  34.6301, 2,  34.6300, 2,    100.6, 2,    100.8, 2,   133.56, 2,    39.57, 2,     0.00, 2,     2.82, 2, -999.000, 9, -999.000, 9, -999.000, 9, -999.000, 9,   -999.0, 9,   -999.0, 9, -999.0000,   -999.00,   -999.0, 9,   -999.0,  -999.00, 9,   -999.0,   2.2737, 27.6531,   2.4105, 2, 9, 0.41, 0.14, 0.01, 0.017,  -999.00, 9, -999.00, -999.00, 9, -999.00
49NZ20071122, P14N, 120, 1, 17, X12023, 2, 20071126, 1055, 5.7530, 179.0032, 5671,   2129.8, 2,   2.1517, 2,  34.6443, 2,  34.6442, 6,    106.5, 2,    106.1, 2,   140.43, 2,    39.23, 2,     0.00, 2,     2.78, 2,    0.000, 2,    0.000, 2,    0.000, 2, -999.000, 9,   -999.0, 9,   -999.0, 9, -999.0000,   -999.00,   -999.0, 9,   -999.0,  -999.00, 9,   -999.0,   2.0018, 27.6865,   2.1514, 2, 9, 0.43, 0.14, 0.01, 0.017,  -999.00, 9, -999.00, -999.00, 9, -999.00
49NZ20071122, P14N, 120, 1, 16, X12022, 2, 20071126, 1055, 5.7530, 179.0032, 5671,   2329.1, 2,   1.9857, 2,  34.6540, 2,  34.6540, 2,    112.3, 2,    112.3, 2,   143.74, 2,    38.74, 2,     0.00, 2,     2.74, 2, -999.000, 9, -999.000, 9, -999.000, 9, -999.000, 9,   -999.0, 9,   -999.0, 9, -999.0000,   -999.00,   -999.0, 9,   -999.0,  -999.00, 9,   -999.0,   1.8210, 27.7084,   1.9855, 2, 9, 0.44, 0.14, 0.01, 0.017,  -999.00, 9, -999.00, -999.00, 9, -999.00
49NZ20071122, P14N, 120, 1, 15, X12021, 2, 20071126, 1055, 5.7530, 179.0032, 5671,   2531.4, 2,   1.8668, 2,  34.6614, 2,  34.6611, 2,    118.3, 2,    118.2, 2,   145.38, 2,    38.46, 2,     0.00, 2,     2.72, 2, -999.000, 9, -999.000, 9, -999.000, 9, -999.000, 9,   -999.0, 9,   -999.0, 9, -999.0000,   -999.00,   -999.0, 9,   -999.0,  -999.00, 9,   -999.0,   1.6861, 27.7247,   1.8668, 2, 9, 0.44, 0.14, 0.01, 0.017,  -999.00, 9, -999.00, -999.00, 9, -999.00
49NZ20071122, P14N, 120, 1, 14, X12020, 2, 20071126, 1055, 5.7530, 179.0032, 5671,   2729.1, 2,   1.7790, 2,  34.6661, 2,  34.6662, 2,    123.8, 2,    124.2, 2,   145.38, 2,    38.14, 2,     0.00, 2,     2.68, 2,    0.000, 2,    0.000, 2,    0.000, 2, -999.000, 9,   -999.0, 9,   -999.0, 9, -999.0000,   -999.00,   -999.0, 9,   -999.0,  -999.00, 9,   -999.0,   1.5818, 27.7362,   1.7790, 2, 9, 0.44, 0.14, 0.01, 0.017,  -999.00, 9, -999.00, -999.00, 9, -999.00
49NZ20071122, P14N, 120, 1, 13, X12019, 2, 20071126, 1055, 5.7530, 179.0032, 5671,   2931.6, 2,   1.7065, 2,  34.6699, 2,  34.6694, 2,    129.0, 2,    129.8, 2,   145.40, 2,    37.72, 2,     0.00, 2,     2.65, 2, -999.000, 9, -999.000, 9, -999.000, 9, -999.000, 9,   -999.0, 9,   -999.0, 9, -999.0000,   -999.00,   -999.0, 9,   -999.0,  -999.00, 9,   -999.0,   1.4918, 27.7459,   1.7065, 2, 9, 0.44, 0.14, 0.01, 0.017,  -999.00, 9, -999.00, -999.00, 9, -999.00
49NZ20071122, P14N, 120, 1, 12, X12040, 2, 20071126, 1055, 5.7530, 179.0032, 5671,   3169.5, 2,   1.6346, 2,  34.6743, 2,  34.6740, 2,    135.8, 2,    136.5, 2,   144.09, 2,    37.18, 2,     0.00, 2,     2.61, 2, -999.000, 9, -999.000, 9, -999.000, 9, -999.000, 9,   -999.0, 9,   -999.0, 9, -999.0000,   -999.00,   -999.0, 9,   -999.0,  -999.00, 9,   -999.0,   1.3984, 27.7562,   1.6346, 2, 9, 0.44, 0.14, 0.01, 0.017,  -999.00, 9, -999.00, -999.00, 9, -999.00
49NZ20071122, P14N, 120, 1, 11, X12047, 2, 20071126, 1055, 5.7530, 179.0032, 5671,   3418.7, 2,   1.5735, 2,  34.6789, 2,  34.6786, 2,    141.4, 2,    142.3, 2,   143.65, 2,    36.87, 2,     0.00, 2,     2.58, 2,    0.000, 2,    0.000, 2,    0.000, 2, -999.000, 9,   -999.0, 9,   -999.0, 9, -999.0000,   -999.00,   -999.0, 9,   -999.0,  -999.00, 9,   -999.0,   1.3138, 27.7658,   1.5734, 2, 9, 0.44, 0.14, 0.01, 0.016,  -999.00, 9, -999.00, -999.00, 9, -999.00
49NZ20071122, P14N, 120, 1, 10, X12012, 2, 20071126, 1055, 5.7530, 179.0032, 5671,   3669.6, 2,   1.4933, 2,  34.6848, 2,  34.6848, 2,    149.9, 2,    151.3, 2,   141.56, 2,    36.16, 2,     0.00, 2,     2.53, 2, -999.000, 9, -999.000, 9, -999.000, 9, -999.000, 9,   -999.0, 9,   -999.0, 9, -999.0000,   -999.00,   -999.0, 9,   -999.0,  -999.00, 9,   -999.0,   1.2098, 27.7779,   1.4934, 2, 9, 0.43, 0.13, 0.01, 0.016,  -999.00, 9, -999.00, -999.00, 9, -999.00
49NZ20071122, P14N, 120, 1, 9, X12015, 2, 20071126, 1055, 5.7530, 179.0032, 5671,   3919.2, 2,   1.4246, 2,  34.6902, 2,  34.6900, 6,    158.8, 2,    160.7, 2,   137.99, 2,    35.51, 2,     0.00, 2,     2.49, 2, -999.000, 9, -999.000, 9, -999.000, 9, -999.000, 9,   -999.0, 9,   -999.0, 9, -999.0000,   -999.00,   -999.0, 9,   -999.0,  -999.00, 9,   -999.0,   1.1165, 27.7885,   1.4246, 2, 9, 0.42, 0.13, 0.01, 0.016,  -999.00, 9, -999.00, -999.00, 9, -999.00
49NZ20071122, P14N, 120, 1, 8, X12046, 2, 20071126, 1055, 5.7530, 179.0032, 5671,   4168.6, 2,   1.3488, 2,  34.6955, 2,  34.6956, 2,    168.2, 2,    170.3, 2,   134.17, 2,    34.91, 2,     0.00, 2,     2.44, 2,    0.000, 2,    0.000, 2,    0.000, 2, -999.000, 9,   -999.0, 9,   -999.0, 9, -999.0000,   -999.00,   -999.0, 9,   -999.0,  -999.00, 9,   -999.0,   1.0157, 27.7996,   1.3488, 2, 9, 0.41, 0.13, 0.01, 0.016,  -999.00, 9, -999.00, -999.00, 9, -999.00
49NZ20071122, P14N, 120, 1, 7, X12044, 2, 20071126, 1055, 5.7530, 179.0032, 5671,   4421.3, 2,   1.2812, 2,  34.7005, 2,  34.7004, 2,    178.9, 2,    180.7, 2,   128.87, 2,    34.16, 2,     0.00, 2,     2.38, 2, -999.000, 9, -999.000, 9, -999.000, 9, -999.000, 9,   -999.0, 9,   -999.0, 9, -999.0000,   -999.00,   -999.0, 9,   -999.0,  -999.00, 9,   -999.0,   0.9219, 27.8099,   1.2812, 2, 9, 0.40, 0.13, 0.01, 0.016,  -999.00, 9, -999.00, -999.00, 9, -999.00
49NZ20071122, P14N, 120, 1, 6, X12048, 2, 20071126, 1055, 5.7530, 179.0032, 5671,   4670.7, 2,   1.2701, 2,  34.7028, 2,  34.7028, 2,    184.9, 2,    185.5, 2,   126.26, 2,    33.79, 2,     0.00, 2,     2.35, 2,    0.000, 2,    0.000, 2,    0.000, 2, -999.000, 9,   -999.0, 9,   -999.0, 9, -999.0000,   -999.00,   -999.0, 9,   -999.0,  -999.00, 9,   -999.0,   0.8825, 27.8143,   1.2701, 2, 9, 0.40, 0.13, 0.01, 0.016,  -999.00, 9, -999.00, -999.00, 9, -999.00
49NZ20071122, P14N, 120, 1, 5, X12014, 2, 20071126, 1055, 5.7530, 179.0032, 5671,   4922.3, 2,   1.2744, 2,  34.7042, 2,  34.7041, 2,    188.3, 2,    188.7, 2,   124.54, 2,    33.49, 2,     0.00, 2,     2.34, 2,    0.000, 2,    0.000, 2,    0.000, 2, -999.000, 9,   -999.0, 9,   -999.0, 9, -999.0000,   -999.00,   -999.0, 9,   -999.0,  -999.00, 9,   -999.0,   0.8570, 27.8170,   1.2744, 2, 9, 0.39, 0.13, 0.01, 0.016,  -999.00, 9, -999.00, -999.00, 9, -999.00
49NZ20071122, P14N, 120, 1, 4, X12006, 2, 20071126, 1055, 5.7530, 179.0032, 5671,   5167.8, 2,   1.2951, 2,  34.7047, 2,  34.7047, 2,    189.7, 2,    190.2, 2,   123.51, 2,    33.46, 2,     0.00, 2,     2.33, 2,    0.000, 2,    0.000, 2,    0.000, 2, -999.000, 9,   -999.0, 9,   -999.0, 9, -999.0000,   -999.00,   -999.0, 9,   -999.0,  -999.00, 9,   -999.0,   0.8473, 27.8181,   1.2951, 2, 9, 0.39, 0.13, 0.01, 0.016,  -999.00, 9, -999.00, -999.00, 9, -999.00
49NZ20071122, P14N, 120, 1, 3, X12013, 2, 20071126, 1055, 5.7530, 179.0032, 5671,   5417.7, 2,   1.3165, 2,  34.7052, 2,  34.7052, 2,    191.6, 2,    191.6, 2,   122.66, 2,    33.28, 2,     0.00, 2,     2.32, 2,    0.004, 2,    0.001, 2,    0.000, 2, -999.000, 9,   -999.0, 9,   -999.0, 9, -999.0000,   -999.00,   -999.0, 9,   -999.0,  -999.00, 9,   -999.0,   0.8369, 27.8191,   1.3166, 2, 9, 0.39, 0.13, 0.01, 0.016,  -999.00, 9, -999.00, -999.00, 9, -999.00
49NZ20071122, P14N, 120, 1, 2, X12002, 2, 20071126, 1055, 5.7530, 179.0032, 5671,   5668.6, 2,   1.3491, 2,  34.7052, 2,  34.7052, 2,    191.8, 2,    191.6, 2,   122.61, 2,    33.26, 2,     0.00, 2,     2.32, 2, -999.000, 9, -999.000, 9, -999.000, 9, -999.000, 9,   -999.0, 9,   -999.0, 9, -999.0000,   -999.00,   -999.0, 9,   -999.0,  -999.00, 9,   -999.0,   0.8364, 27.8192,   1.3491, 2, 9, 0.39, 0.13, 0.01, 0.016,  -999.00, 9, -999.00, -999.00, 9, -999.00
49NZ20071122, P14N, 120, 1, 1, X12001, 2, 20071126, 1055, 5.7530, 179.0032, 5671,   5771.0, 2,   1.3625, 2,  34.7051, 2,  34.7050, 6,    191.9, 2,    191.8, 2,   122.58, 2,    33.35, 2,     0.00, 2,     2.32, 2,    0.003, 2,    0.000, 2,    0.000, 2, -999.000, 9,   -999.0, 9,   -999.0, 9, -999.0000,   -999.00,   -999.0, 9,   -999.0,  -999.00, 9,   -999.0,   0.8360, 27.8191,   1.3625, 2, 9, 0.39, 0.13, 0.01, 0.016,  -999.00, 9, -999.00, -999.00, 9, -999.00