BOTTLE,20220820CCHSIOAMB
EXPOCODE,SECT_ID,STNNBR,CASTNO,SAMPNO,BTLNBR,BTLNBR_FLAG_W,DATE,TIME,LATITUDE,LONGITUDE,DEPTH,CTDPRS,CTDPRS_FLAG_W,CTDTMP,CTDTMP_FLAG_W,CTDSAL,CTDSAL_FLAG_W,SALNTY,SALNTY_FLAG_W,CTDOXY,CTDOXY_FLAG_W,OXYGEN,OXYGEN_FLAG_W,SILCAT,SILCAT_FLAG_W,NITRAT,NITRAT_FLAG_W,NITRIT,NITRIT_FLAG_W,PHSPHT,PHSPHT_FLAG_W,CFC-11,CFC-11_FLAG_W,CFC-12,CFC-12_FLAG_W,CFC113,CFC113_FLAG_W,CCL4,CCL4_FLAG_W,TCARBN,TCARBN_FLAG_W,ALKALI,ALKALI_FLAG_W,PH_TOT,PH_TMP,DELC14,DELC14_FLAG_W,C14ERR,DELC13,DELC13_FLAG_W,C13ERR,THETA,SIG0,SBE35,SBE35_FLAG_W,PH_TOT_FLAG_W,SILUNC,NRAUNC,NRIUNC,PHPUNC,CS-137,CS-137_FLAG_W,CS137ER,PLUTO,PLUTO_FLAG_W,PLUTOER
,,,,,,,,,,,METERS,DBAR,,ITS-90,,PSS-78,,PSS-78,,UMOL/KG,,UMOL/KG,,UMOL/KG,,UMOL/KG,,UMOL/KG,,UMOL/KG,,PMOL/KG,,PMOL/KG,,PMOL/KG,,PMOL/KG,,UMOL/KG,,UMOL/KG,,,DEG C,/MILLE,,/MILLE,/MILLE,,/MILLE,DEG C,KG/M^3,ITS-90,,,UMOL/KG,UMOL/KG,UMOL/KG,UMOL/KG,DM/.1MG,,BQ/M^3,MBQ/M^3,,MBQ/M^3
49NZ20071122, P14N, 125, 1, 36, X12042, 2, 20071127, 1609, 4.4812, 179.0102, 5673,     10.1, 2,  27.3365, 2,  35.1239, 2,  35.1247, 2,    200.2, 2,    201.3, 2,     1.78, 2,     2.83, 2,     0.17, 2,     0.40, 2,    1.559, 2,    0.976, 2,    0.184, 4, -999.000, 9,   2004.6, 2,   2310.7, 2,    8.0605,     25.00,   -999.0, 1,   -999.0,  -999.00, 1,   -999.0,  27.3342, 22.7039,  27.3357, 2, 2, 0.12, 0.04, 0.01, 0.013,  -999.00, 9, -999.00, -999.00, 9, -999.00
49NZ20071122, P14N, 125, 1, 35, X12041, 2, 20071127, 1609, 4.4812, 179.0102, 5673,     51.2, 2,  27.1037, 2,  35.1743, 2,  35.1745, 2,    200.1, 2,    199.5, 2,     1.88, 2,     3.07, 2,     0.32, 2,     0.43, 2,    1.565, 2,    0.970, 2,    0.186, 4, -999.000, 9,   2013.0, 2,   2313.9, 2,    8.0509,     25.00,   -999.0, 1,   -999.0,  -999.00, 1,   -999.0,  27.0919, 22.8196,  27.1031, 2, 2, 0.12, 0.04, 0.01, 0.013,  -999.00, 9, -999.00, -999.00, 9, -999.00
49NZ20071122, P14N, 125, 1, 34, X12016, 2, 20071127, 1609, 4.4812, 179.0102, 5673,    101.1, 2,  26.9663, 2,  35.1826, 2,  35.1834, 2,    194.9, 2,    197.5, 2,     1.91, 2,     3.29, 2,     0.45, 2,     0.45, 2,    1.579, 2,    0.983, 2,    0.191, 4, -999.000, 9,   2015.4, 2,   2314.5, 2,    8.0446,     25.00,   -999.0, 1,   -999.0,  -999.00, 1,   -999.0,  26.9431, 22.8734,  26.9652, 2, 2, 0.12, 0.04, 0.00, 0.013,  -999.00, 9, -999.00, -999.00, 9, -999.00
49NZ20071122, P14N, 125, 1, 33, X12033, 2, 20071127, 1609, 4.4812, 179.0102, 5673,    150.1, 2,  26.9155, 2,  35.2747, 2,  35.2809, 2,    191.8, 2,    190.8, 2,     2.06, 2,     3.72, 2,     0.67, 2,     0.51, 2,    1.593, 2,    0.994, 2,    0.180, 4, -999.000, 9,   2027.7, 2,   2320.0, 2,    8.0341,     25.00,   -999.0, 1,   -999.0,  -999.00, 1,   -999.0,  26.8811, 22.9626,  26.9122, 2, 2, 0.12, 0.04, 0.00, 0.013,  -999.00, 9, -999.00, -999.00, 9, -999.00
49NZ20071122, P14N, 125, 1, 32, X12038, 2, 20071127, 1609, 4.4812, 179.0102, 5673,    199.4, 2,  21.7346, 2,  34.8679, 2,  34.8463, 2,    140.7, 2,    139.8, 2,     6.61, 2,     9.51, 2,     0.04, 2,     0.78, 2,    1.930, 2,    1.123, 2,    0.086, 2, -999.000, 9,   2074.2, 2,   2292.4, 2,    7.9050,     25.00,   -999.0, 1,   -999.0,  -999.00, 1,   -999.0,  21.6955, 24.2023,  21.7536, 2, 2, 0.13, 0.06, 0.01, 0.013,  -999.00, 9, -999.00, -999.00, 9, -999.00
49NZ20071122, P14N, 125, 1, 31, X12003, 2, 20071127, 1609, 4.4812, 179.0102, 5673,    251.0, 2,  12.3865, 2,  34.5775, 2,  34.5757, 6,     68.7, 2,     71.0, 2,    23.81, 2,    25.92, 2,     0.02, 2,     1.92, 2,    1.298, 6,    0.691, 6,    0.023, 6, -999.000, 9,   2198.8, 2,   2289.2, 2,    7.6116,     25.00,   -999.0, 1,   -999.0,  -999.00, 1,   -999.0,  12.3531, 26.1930,  12.3870, 2, 2, 0.17, 0.11, 0.01, 0.015,  -999.00, 9, -999.00, -999.00, 9, -999.00
49NZ20071122, P14N, 125, 1, 30, X12008, 2, 20071127, 1609, 4.4812, 179.0102, 5673,    329.6, 2,   9.4905, 2,  34.6233, 2,  34.6231, 2,     91.8, 2,     91.1, 2,    32.10, 2,    29.48, 2,     0.01, 2,     2.12, 2,    0.722, 2,    0.375, 2,    0.016, 2, -999.000, 9,   2217.2, 6,   2305.0, 2,    7.5972,     25.00,   -999.0, 1,   -999.0,  -999.00, 1,   -999.0,   9.4534, 26.7494,   9.4915, 2, 2, 0.19, 0.12, 0.01, 0.015,  -999.00, 9, -999.00, -999.00, 9, -999.00
49NZ20071122, P14N, 125, 1, 29, X12035, 2, 20071127, 1609, 4.4812, 179.0102, 5673,    430.2, 2,   8.5198, 2,  34.6115, 2,  34.6112, 2,     86.8, 2,     87.0, 2,    34.94, 2,    32.09, 2,     0.01, 2,     2.29, 2,    0.441, 2,    0.233, 2,    0.015, 2, -999.000, 9,   2230.9, 2,   2308.7, 6,    7.5669,     25.00,   -999.0, 1,   -999.0,  -999.00, 1,   -999.0,   8.4742, 26.8967,   8.5203, 2, 2, 0.20, 0.12, 0.01, 0.016,  -999.00, 9, -999.00, -999.00, 9, -999.00
49NZ20071122, P14N, 125, 1, 28, X12034, 2, 20071127, 1609, 4.4812, 179.0102, 5673,    530.2, 2,   7.7439, 2,  34.5893, 2,  34.5881, 6,     72.8, 2,     77.1, 2,    40.09, 2,    34.83, 2,     0.01, 2,     2.48, 2,    0.235, 2,    0.123, 2,    0.009, 2, -999.000, 9,   2248.3, 2,   2312.5, 2,    7.5328,     25.00,   -999.0, 1,   -999.0,  -999.00, 1,   -999.0,   7.6904, 26.9970,   7.7444, 2, 6, 0.21, 0.13, 0.01, 0.016,  -999.00, 9, -999.00, -999.00, 9, -999.00
49NZ20071122, P14N, 125, 1, 27, X12049, 2, 20071127, 1609, 4.4812, 179.0102, 5673,    631.0, 2,   6.9984, 2,  34.5657, 2,  34.5661, 2,     53.9, 2,     55.3, 2,    49.85, 2,    38.31, 2,     0.02, 2,     2.76, 2,    0.067, 2,    0.037, 2,    0.006, 2, -999.000, 9,   2273.8, 2,   2320.6, 2,    7.4798,     25.00,   -999.0, 1,   -999.0,  -999.00, 1,   -999.0,   6.9379, 27.0852,   7.0004, 2, 2, 0.23, 0.14, 0.01, 0.017,  -999.00, 9, -999.00, -999.00, 9, -999.00
49NZ20071122, P14N, 125, 1, 26, X12032, 2, 20071127, 1609, 4.4812, 179.0102, 5673,    730.6, 2,   6.1606, 2,  34.5526, 2,  34.5519, 2,     59.3, 2,     59.7, 2,    58.73, 2,    39.76, 2,     0.01, 2,     2.86, 2,    0.024, 6,    0.013, 6,    0.000, 6, -999.000, 9,   2284.4, 6,   2329.1, 2,    7.4729,     25.00,   -999.0, 1,   -999.0,  -999.00, 1,   -999.0,   6.0946, 27.1871,   6.1614, 2, 2, 0.25, 0.14, 0.01, 0.017,  -999.00, 9, -999.00, -999.00, 9, -999.00
49NZ20071122, P14N, 125, 1, 25, X12043, 2, 20071127, 1609, 4.4812, 179.0102, 5673,    831.1, 2,   5.5689, 2,  34.5451, 2,  34.5447, 2,     70.4, 2,     70.7, 2,    66.40, 2,    39.52, 2,     0.01, 2,     2.84, 2,    0.018, 2,    0.010, 2,    0.000, 2, -999.000, 9,   2287.2, 2,   2338.1, 6,    7.4863,     25.00,   -999.0, 1,   -999.0,  -999.00, 1,   -999.0,   5.4970, 27.2557,   5.5694, 2, 2, 0.27, 0.14, 0.01, 0.017,  -999.00, 9, -999.00, -999.00, 9, -999.00
49NZ20071122, P14N, 125, 1, 24, X12030, 2, 20071127, 1609, 4.4812, 179.0102, 5673,    929.6, 2,   5.1693, 2,  34.5469, 2,  34.5471, 2,     73.7, 2,     73.1, 2,    73.24, 2,    39.79, 2,     0.01, 2,     2.86, 2,    0.005, 2,    0.006, 2,    0.000, 2, -999.000, 9,   2296.2, 2,   2345.6, 2,    7.4862,     25.00,   -999.0, 1,   -999.0,  -999.00, 1,   -999.0,   5.0911, 27.3054,   5.1692, 2, 2, 0.28, 0.14, 0.01, 0.017,  -999.00, 9, -999.00, -999.00, 9, -999.00
49NZ20071122, P14N, 125, 1, 23, X12027, 2, 20071127, 1609, 4.4812, 179.0102, 5673,   1069.4, 2,   4.6521, 2,  34.5542, 2,  34.5542, 6,     81.0, 2,     79.2, 2,    82.51, 2,    39.74, 2,     0.01, 2,     2.86, 2,    0.004, 2,    0.003, 2,    0.000, 2, -999.000, 9,   2303.7, 2,   2356.0, 2,    7.4933,     25.00,   -999.0, 1,   -999.0,  -999.00, 1,   -999.0,   4.5652, 27.3709,   4.6524, 2, 2, 0.30, 0.14, 0.01, 0.017,  -999.00, 9, -999.00, -999.00, 9, -999.00
49NZ20071122, P14N, 125, 1, 22, X12028, 2, 20071127, 1609, 4.4812, 179.0102, 5673,   1270.0, 2,   3.9325, 2,  34.5721, 2,  34.5727, 2,     78.5, 2,     77.7, 2,   100.41, 2,    40.34, 2,     0.01, 2,     2.92, 2,    0.000, 2,    0.000, 2,    0.000, 2, -999.000, 9,   2325.5, 2,   2374.4, 2,    7.4862,     25.00,   -999.0, 1,   -999.0,  -999.00, 1,   -999.0,   3.8344, 27.4628,   3.9331, 2, 2, 0.34, 0.15, 0.01, 0.017,  -999.00, 9, -999.00, -999.00, 9, -999.00
49NZ20071122, P14N, 125, 1, 21, X12009, 2, 20071127, 1609, 4.4812, 179.0102, 5673,   1468.9, 2,   3.1940, 2,  34.5964, 2,  34.5967, 2,     83.9, 2,     85.5, 2,   116.32, 2,    40.30, 2,     0.01, 2,     2.91, 2, -999.000, 9, -999.000, 9, -999.000, 9, -999.000, 9,   2337.2, 2,   2392.0, 2,    7.4968,     25.00,   -999.0, 1,   -999.0,  -999.00, 1,   -999.0,   3.0865, 27.5550,   3.1942, 2, 2, 0.37, 0.15, 0.01, 0.017,  -999.00, 9, -999.00, -999.00, 9, -999.00
49NZ20071122, P14N, 125, 1, 20, X12026, 2, 20071127, 1609, 4.4812, 179.0102, 5673,   1669.6, 2,   2.8118, 2,  34.6117, 2,  34.6116, 2,     94.2, 2,     94.3, 2,   123.98, 2,    39.84, 2,     0.01, 2,     2.86, 2, -999.000, 9, -999.000, 9, -999.000, 9, -999.000, 9,   2342.1, 2,   2400.2, 2,    7.5104,     25.00,   -999.0, 1,   -999.0,  -999.00, 1,   -999.0,   2.6919, 27.6028,   2.8118, 2, 6, 0.39, 0.14, 0.01, 0.017,  -999.00, 9, -999.00, -999.00, 9, -999.00
49NZ20071122, P14N, 125, 1, 19, X12025, 2, 20071127, 1609, 4.4812, 179.0102, 5673,   1869.3, 2,   2.5094, 2,  34.6260, 2,  34.6263, 2,    100.7, 2,    100.6, 2,   130.66, 2,    39.47, 2,     0.01, 2,     2.82, 2,    0.000, 2,    0.000, 2,    0.000, 2, -999.000, 9,   2348.9, 2,   2408.1, 2,    7.5208,     25.00,   -999.0, 1,   -999.0,  -999.00, 1,   -999.0,   2.3766, 27.6413,   2.5094, 2, 2, 0.41, 0.14, 0.01, 0.017,  -999.00, 9, -999.00, -999.00, 9, -999.00
49NZ20071122, P14N, 125, 1, 18, X12024, 2, 20071127, 1609, 4.4812, 179.0102, 5673,   2069.0, 2,   2.2543, 2,  34.6395, 2,  34.6398, 2,    105.8, 2,    105.8, 2,   136.83, 2,    39.25, 2,     0.01, 2,     2.80, 2, -999.000, 9, -999.000, 9, -999.000, 9, -999.000, 9,   2350.5, 2,   2414.9, 2,    7.5297,     25.00,   -999.0, 1,   -999.0,  -999.00, 1,   -999.0,   2.1080, 27.6742,   2.2543, 2, 2, 0.42, 0.14, 0.01, 0.017,  -999.00, 9, -999.00, -999.00, 9, -999.00
49NZ20071122, P14N, 125, 1, 17, X12023, 2, 20071127, 1609, 4.4812, 179.0102, 5673,   2270.2, 2,   2.0613, 2,  34.6505, 2,  34.6509, 6,    112.2, 2,    112.2, 2,   140.67, 2,    38.83, 2,     0.01, 2,     2.76, 2, -999.000, 9, -999.000, 9, -999.000, 9, -999.000, 9,   2351.0, 2,   2419.8, 2,    7.5403,     25.00,   -999.0, 1,   -999.0,  -999.00, 1,   -999.0,   1.9006, 27.6995,   2.0615, 2, 2, 0.43, 0.14, 0.01, 0.017,  -999.00, 9, -999.00, -999.00, 9, -999.00
49NZ20071122, P14N, 125, 1, 16, X12022, 2, 20071127, 1609, 4.4812, 179.0102, 5673,   2470.1, 2,   1.9432, 2,  34.6576, 2,  34.6579, 2,    115.4, 2,    115.2, 2,   144.17, 2,    38.64, 2,     0.01, 2,     2.74, 2,    0.000, 2,    0.000, 2,    0.005, 2, -999.000, 9,   2353.5, 6,   2423.5, 2,    7.5453,     25.00,   -999.0, 1,   -999.0,  -999.00, 1,   -999.0,   1.7667, 27.7155,   1.9431, 2, 2, 0.44, 0.14, 0.01, 0.017,  -999.00, 9, -999.00, -999.00, 9, -999.00
49NZ20071122, P14N, 125, 1, 15, X12021, 2, 20071127, 1609, 4.4812, 179.0102, 5673,   2671.0, 2,   1.8022, 2,  34.6652, 2,  34.6652, 2,    124.0, 2,    123.4, 2,   144.93, 2,    38.11, 2,     0.01, 2,     2.69, 2, -999.000, 9, -999.000, 9, -999.000, 9, -999.000, 9,   2349.3, 2,   2423.9, 6,    7.5575,     25.00,   -999.0, 1,   -999.0,  -999.00, 1,   -999.0,   1.6100, 27.7334,   1.8023, 2, 2, 0.44, 0.14, 0.01, 0.017,  -999.00, 9, -999.00, -999.00, 9, -999.00
49NZ20071122, P14N, 125, 1, 14, X12020, 2, 20071127, 1609, 4.4812, 179.0102, 5673,   2868.6, 2,   1.7462, 2,  34.6686, 2,  34.6686, 2,    127.4, 2,    127.0, 2,   145.25, 2,    37.84, 2,     0.01, 2,     2.67, 2, -999.000, 9, -999.000, 9, -999.000, 9, -999.000, 9,   2347.7, 2,   2424.2, 2,    7.5629,     25.00,   -999.0, 1,   -999.0,  -999.00, 1,   -999.0,   1.5366, 27.7416,   1.7462, 2, 6, 0.44, 0.14, 0.01, 0.017,  -999.00, 9, -999.00, -999.00, 9, -999.00
49NZ20071122, P14N, 125, 1, 13, X12019, 2, 20071127, 1609, 4.4812, 179.0102, 5673,   3080.5, 2,   1.6760, 2,  34.6725, 2,  34.6725, 2,    133.1, 2,    132.9, 2,   144.88, 2,    37.43, 2,     0.01, 2,     2.64, 2,    0.000, 2,    0.000, 2,    0.000, 2, -999.000, 9,   2343.1, 2,   2423.3, 2,    7.5709,     25.00,   -999.0, 1,   -999.0,  -999.00, 1,   -999.0,   1.4476, 27.7511,   1.6761, 2, 2, 0.44, 0.14, 0.01, 0.017,  -999.00, 9, -999.00, -999.00, 9, -999.00
49NZ20071122, P14N, 125, 1, 12, X12040, 2, 20071127, 1609, 4.4812, 179.0102, 5673,   3330.8, 2,   1.5949, 2,  34.6775, 2,  34.6776, 2,    141.6, 2,    140.9, 2,   143.20, 2,    36.88, 2,     0.01, 2,     2.58, 2, -999.000, 9, -999.000, 9, -999.000, 9, -999.000, 9,   2337.4, 2,   2421.4, 2,    7.5808,     25.00,   -999.0, 1,   -999.0,  -999.00, 1,   -999.0,   1.3436, 27.7626,   1.5951, 2, 2, 0.43, 0.14, 0.01, 0.016,  -999.00, 9, -999.00, -999.00, 9, -999.00
49NZ20071122, P14N, 125, 1, 11, X12047, 2, 20071127, 1609, 4.4812, 179.0102, 5673,   3580.6, 2,   1.5361, 2,  34.6818, 2,  34.6818, 2,    148.2, 2,    147.9, 2,   141.67, 2,    36.36, 2,     0.01, 2,     2.56, 2, -999.000, 9, -999.000, 9, -999.000, 9, -999.000, 9,   2333.5, 2,   2419.5, 2,    7.5901,     25.00,   -999.0, 1,   -999.0,  -999.00, 1,   -999.0,   1.2608, 27.7719,   1.5360, 2, 2, 0.43, 0.13, 0.01, 0.016,  -999.00, 9, -999.00, -999.00, 9, -999.00
49NZ20071122, P14N, 125, 1, 10, X12012, 2, 20071127, 1609, 4.4812, 179.0102, 5673,   3830.0, 2,   1.4648, 2,  34.6874, 2,  34.6870, 2,    156.3, 2,    156.2, 2,   139.16, 2,    35.87, 2,     0.01, 2,     2.51, 2,    0.000, 2,    0.000, 2,    0.000, 2, -999.000, 9,   2326.1, 2,   2415.5, 2,    7.5997,     25.00,   -999.0, 1,   -999.0,  -999.00, 1,   -999.0,   1.1652, 27.7830,   1.4648, 2, 2, 0.43, 0.13, 0.01, 0.016,  -999.00, 9, -999.00, -999.00, 9, -999.00
49NZ20071122, P14N, 125, 1, 9, X12015, 2, 20071127, 1609, 4.4812, 179.0102, 5673,   4080.0, 2,   1.3788, 2,  34.6934, 2,  34.6933, 6,    166.4, 2,    166.0, 2,   136.35, 2,    35.19, 2,     0.01, 2,     2.46, 2, -999.000, 9, -999.000, 9, -999.000, 9, -999.000, 9,   2314.8, 2,   2410.3, 2,    7.6094,     25.00,   -999.0, 1,   -999.0,  -999.00, 1,   -999.0,   1.0546, 27.7954,   1.3787, 2, 2, 0.42, 0.13, 0.01, 0.016,  -999.00, 9, -999.00, -999.00, 9, -999.00
49NZ20071122, P14N, 125, 1, 8, X12046, 2, 20071127, 1609, 4.4812, 179.0102, 5673,   4329.9, 2,   1.2927, 2,  34.6995, 2,  34.6997, 2,    178.1, 2,    178.5, 2,   130.09, 2,    34.28, 2,     0.01, 2,     2.39, 2, -999.000, 9, -999.000, 9, -999.000, 9, -999.000, 9,   2301.6, 6,   2401.8, 2,    7.6205,     25.00,   -999.0, 1,   -999.0,  -999.00, 1,   -999.0,   0.9433, 27.8076,   1.2923, 2, 2, 0.41, 0.13, 0.01, 0.016,  -999.00, 9, -999.00, -999.00, 9, -999.00
49NZ20071122, P14N, 125, 1, 7, X12044, 2, 20071127, 1609, 4.4812, 179.0102, 5673,   4581.0, 2,   1.2569, 2,  34.7030, 2,  34.7030, 2,    185.3, 2,    185.7, 2,   126.22, 2,    33.73, 2,     0.01, 2,     2.36, 2,    0.000, 2,    0.000, 2,    0.000, 2, -999.000, 9,   2292.9, 2,   2395.8, 6,    7.6265,     25.00,   -999.0, 1,   -999.0,  -999.00, 1,   -999.0,   0.8801, 27.8146,   1.2569, 2, 2, 0.40, 0.13, 0.01, 0.016,  -999.00, 9, -999.00, -999.00, 9, -999.00
49NZ20071122, P14N, 125, 1, 6, X12048, 2, 20071127, 1609, 4.4812, 179.0102, 5673,   4829.8, 2,   1.2652, 2,  34.7041, 2,  34.7041, 2,    187.9, 2,    188.3, 2,   124.81, 2,    33.55, 2,     0.01, 2,     2.34, 2,    0.000, 2,    0.000, 2,    0.000, 2, -999.000, 9,   2288.8, 2,   2392.9, 2,    7.6279,     25.00,   -999.0, 1,   -999.0,  -999.00, 1,   -999.0,   0.8591, 27.8168,   1.2652, 2, 6, 0.39, 0.13, 0.01, 0.016,  -999.00, 9, -999.00, -999.00, 9, -999.00
49NZ20071122, P14N, 125, 1, 5, X12014, 2, 20071127, 1609, 4.4812, 179.0102, 5673,   5080.6, 2,   1.2818, 2,  34.7049, 2,  34.7048, 2,    189.6, 2,    190.3, 2,   123.75, 2,    33.42, 2,     0.01, 2,     2.33, 2,    0.000, 2,    0.000, 2,    0.000, 2, -999.000, 9,   2284.9, 2,   2390.8, 2,    7.6277,     25.00,   -999.0, 1,   -999.0,  -999.00, 1,   -999.0,   0.8451, 27.8184,   1.2818, 2, 2, 0.39, 0.13, 0.01, 0.016,  -999.00, 9, -999.00, -999.00, 9, -999.00
49NZ20071122, P14N, 125, 1, 4, X12006, 2, 20071127, 1609, 4.4812, 179.0102, 5673,   5330.2, 2,   1.3082, 2,  34.7051, 2,  34.7050, 2,    190.8, 2,    191.1, 2,   122.92, 2,    33.26, 2,     0.01, 2,     2.32, 2,    0.000, 2,    0.000, 2,    0.000, 2, -999.000, 9,   2284.9, 2,   2388.3, 2,    7.6276,     25.00,   -999.0, 1,   -999.0,  -999.00, 1,   -999.0,   0.8398, 27.8189,   1.3081, 2, 2, 0.39, 0.13, 0.01, 0.016,  -999.00, 9, -999.00, -999.00, 9, -999.00
49NZ20071122, P14N, 125, 1, 3, X12013, 2, 20071127, 1609, 4.4812, 179.0102, 5673,   5579.5, 2,   1.3369, 2,  34.7053, 2,  34.7056, 2,    191.3, 2,    191.5, 2,   122.75, 2,    33.20, 2,     0.01, 2,     2.32, 2,    0.000, 2,    0.001, 2,    0.000, 2, -999.000, 9,   2284.8, 2,   2388.2, 2,    7.6279,     25.00,   -999.0, 1,   -999.0,  -999.00, 1,   -999.0,   0.8360, 27.8193,   1.3370, 2, 2, 0.39, 0.13, 0.01, 0.016,  -999.00, 9, -999.00, -999.00, 9, -999.00
49NZ20071122, P14N, 125, 1, 2, X12002, 9, 20071127, 1609, 4.4812, 179.0102, 5673,     51.2, 2,  27.1056, 2,  35.1742, 2, -999.0000, 9,    200.1, 2,   -999.0, 9,  -999.00, 9,  -999.00, 9,  -999.00, 9,  -999.00, 9, -999.000, 9, -999.000, 9, -999.000, 9, -999.000, 9,   -999.0, 9,   -999.0, 9, -999.0000,   -999.00,   -999.0, 9,   -999.0,  -999.00, 9,   -999.0,  27.0938, 22.8189,  27.1045, 2, 9, -999.00, -999.00, -999.00, -999.000,  -999.00, 9, -999.00, -999.00, 9, -999.00
49NZ20071122, P14N, 125, 1, 1, X12001, 2, 20071127, 1609, 4.4812, 179.0102, 5673,   5765.1, 2,   1.3596, 2,  34.7053, 2,  34.7055, 6,    191.8, 2,    192.0, 2,   122.59, 2,    33.21, 2,     0.01, 2,     2.33, 2,    0.000, 2,    0.001, 2,    0.000, 2, -999.000, 9,   2284.2, 2,   2387.2, 2,    7.6273,     25.00,   -999.0, 1,   -999.0,  -999.00, 1,   -999.0,   0.8340, 27.8194,   1.3596, 2, 2, 0.39, 0.13, 0.01, 0.016,  -999.00, 9, -999.00, -999.00, 9, -999.00