BOTTLE,20220820CCHSIOAMB
EXPOCODE,SECT_ID,STNNBR,CASTNO,SAMPNO,BTLNBR,BTLNBR_FLAG_W,DATE,TIME,LATITUDE,LONGITUDE,DEPTH,CTDPRS,CTDPRS_FLAG_W,CTDTMP,CTDTMP_FLAG_W,CTDSAL,CTDSAL_FLAG_W,SALNTY,SALNTY_FLAG_W,CTDOXY,CTDOXY_FLAG_W,OXYGEN,OXYGEN_FLAG_W,SILCAT,SILCAT_FLAG_W,NITRAT,NITRAT_FLAG_W,NITRIT,NITRIT_FLAG_W,PHSPHT,PHSPHT_FLAG_W,CFC-11,CFC-11_FLAG_W,CFC-12,CFC-12_FLAG_W,CFC113,CFC113_FLAG_W,CCL4,CCL4_FLAG_W,TCARBN,TCARBN_FLAG_W,ALKALI,ALKALI_FLAG_W,PH_TOT,PH_TMP,DELC14,DELC14_FLAG_W,C14ERR,DELC13,DELC13_FLAG_W,C13ERR,THETA,SIG0,SBE35,SBE35_FLAG_W,PH_TOT_FLAG_W,SILUNC,NRAUNC,NRIUNC,PHPUNC,CS-137,CS-137_FLAG_W,CS137ER,PLUTO,PLUTO_FLAG_W,PLUTOER
,,,,,,,,,,,METERS,DBAR,,ITS-90,,PSS-78,,PSS-78,,UMOL/KG,,UMOL/KG,,UMOL/KG,,UMOL/KG,,UMOL/KG,,UMOL/KG,,PMOL/KG,,PMOL/KG,,PMOL/KG,,PMOL/KG,,UMOL/KG,,UMOL/KG,,,DEG C,/MILLE,,/MILLE,/MILLE,,/MILLE,DEG C,KG/M^3,ITS-90,,,UMOL/KG,UMOL/KG,UMOL/KG,UMOL/KG,DM/.1MG,,BQ/M^3,MBQ/M^3,,MBQ/M^3
49NZ20071122, P14, 37, 1, 36, X12042, 2, 20071216, 0103, -21.4242, 177.4658, 3800,     10.3, 2,  27.2039, 2,  34.7452, 2,  34.7445, 2,    200.9, 2,    202.3, 2,     0.78, 2,     0.05, 2,     0.00, 2,     0.10, 2,    1.585, 2,    0.964, 2,    0.386, 4, -999.000, 9,   1930.7, 2,   2283.7, 2,    8.1340,     25.00,   -999.0, 1,   -999.0,  -999.00, 1,   -999.0,  27.2015, 22.4614,  27.2027, 2, 6, 0.12, 0.03, 0.01, 0.022,  -999.00, 9, -999.00, -999.00, 9, -999.00
49NZ20071122, P14, 37, 1, 35, X12041, 2, 20071216, 0103, -21.4242, 177.4658, 3800,     51.2, 2,  24.8993, 2,  35.2786, 2,  35.2623, 2,    208.9, 2,    211.8, 2,     0.65, 2,     0.05, 2,     0.00, 2,     0.09, 2,    1.767, 2,    1.060, 2,    0.361, 4, -999.000, 9,   1973.1, 6,   2316.1, 2,    8.1095,     25.00,   -999.0, 1,   -999.0,  -999.00, 1,   -999.0,  24.8882, 23.5858,  24.8928, 2, 2, 0.12, 0.03, 0.01, 0.023,  -999.00, 9, -999.00, -999.00, 9, -999.00
49NZ20071122, P14, 37, 1, 34, X12016, 2, 20071216, 0103, -21.4242, 177.4658, 3800,     99.0, 2,  22.7832, 2,  35.5273, 2,  35.5273, 2,    218.8, 2,    219.7, 2,     0.62, 2,     0.05, 2,     0.00, 2,     0.08, 2,    1.915, 2,    1.137, 2,    0.257, 4, -999.000, 9,   1999.0, 2,   2329.7, 6,    8.0867,     25.00,   -999.0, 1,   -999.0,  -999.00, 1,   -999.0,  22.7631, 24.4018,  22.7831, 2, 2, 0.12, 0.03, 0.01, 0.025,  -999.00, 9, -999.00, -999.00, 9, -999.00
49NZ20071122, P14, 37, 1, 33, X12033, 2, 20071216, 0103, -21.4242, 177.4658, 3800,    149.6, 2,  20.8828, 2,  35.6901, 2,  35.6947, 2,    208.6, 2,    205.6, 2,     0.74, 2,     1.04, 2,     0.10, 2,     0.16, 2,    2.056, 6,    1.203, 6,    0.224, 4, -999.000, 9,   2035.3, 2,   2339.3, 2,    8.0383,     25.00,   -999.0, 1,   -999.0,  -999.00, 1,   -999.0,  20.8542, 25.0591,  20.8835, 2, 6, 0.12, 0.04, 0.01, 0.017,  -999.00, 9, -999.00, -999.00, 9, -999.00
49NZ20071122, P14, 37, 1, 32, X12038, 2, 20071216, 0103, -21.4242, 177.4658, 3800,    200.5, 2,  19.6882, 2,  35.7133, 2,  35.7112, 2,    191.4, 2,    193.2, 2,     0.93, 2,     2.98, 2,     0.02, 2,     0.29, 2,    2.173, 2,    1.240, 2,    0.130, 2, -999.000, 9,   2059.2, 2,   2340.4, 2,    7.9974,     25.00,   -999.0, 1,   -999.0,  -999.00, 1,   -999.0,  19.6514, 25.3978,  19.6877, 2, 2, 0.12, 0.04, 0.01, 0.014,  -999.00, 9, -999.00, -999.00, 9, -999.00
49NZ20071122, P14, 37, 1, 31, X12003, 2, 20071216, 0103, -21.4242, 177.4658, 3800,    249.8, 2,  18.3422, 2,  35.6888, 2,  35.6908, 6,    200.5, 2,    205.0, 2,     1.02, 2,     2.90, 2,     0.01, 2,     0.30, 2,    2.268, 2,    1.294, 2,    0.131, 2, -999.000, 9,   2064.0, 2,   2339.4, 2,    7.9858,     25.00,   -999.0, 1,   -999.0,  -999.00, 1,   -999.0,  18.2985, 25.7255,  18.3454, 2, 2, 0.12, 0.04, 0.01, 0.014,  -999.00, 9, -999.00, -999.00, 9, -999.00
49NZ20071122, P14, 37, 1, 30, X12008, 2, 20071216, 0103, -21.4242, 177.4658, 3800,    282.2, 2,  17.2778, 2,  35.5567, 2,  35.5550, 2,    192.5, 2,    192.9, 2,     1.49, 2,     5.11, 2,     0.01, 2,     0.45, 2,    2.343, 2,    1.310, 2,    0.050, 2, -999.000, 9,   2080.4, 2,   2331.0, 2,    7.9460,     25.00,   -999.0, 1,   -999.0,  -999.00, 1,   -999.0,  17.2304, 25.8864,  17.2750, 2, 2, 0.12, 0.05, 0.01, 0.013,  -999.00, 9, -999.00, -999.00, 9, -999.00
49NZ20071122, P14, 37, 1, 29, X12035, 2, 20071216, 0103, -21.4242, 177.4658, 3800,    370.1, 2,  14.6711, 2,  35.2625, 2,  35.2685, 2,    193.5, 2,    192.8, 2,     2.60, 2,     8.70, 2,     0.01, 2,     0.70, 2,    2.483, 2,    1.363, 2,    0.059, 2, -999.000, 9,   2099.4, 2,   2317.7, 2,    7.8846,     25.00,   -999.0, 1,   -999.0,  -999.00, 1,   -999.0,  14.6155, 26.2584,  14.6762, 2, 2, 0.12, 0.06, 0.01, 0.013,  -999.00, 9, -999.00, -999.00, 9, -999.00
49NZ20071122, P14, 37, 1, 28, X12034, 2, 20071216, 0103, -21.4242, 177.4658, 3800,    470.5, 2,  11.0657, 2,  34.8188, 2,  34.8171, 6,    196.3, 2,    195.4, 2,     4.97, 2,    15.50, 2,     0.01, 2,     1.14, 2,    2.374, 2,    1.195, 2,    0.061, 2, -999.000, 9,   2125.7, 2,   2294.9, 2,    7.7957,     25.00,   -999.0, 1,   -999.0,  -999.00, 1,   -999.0,  11.0069, 26.6332,  11.0658, 2, 2, 0.13, 0.08, 0.01, 0.013,  -999.00, 9, -999.00, -999.00, 9, -999.00
49NZ20071122, P14, 37, 1, 27, X12049, 2, 20071216, 0103, -21.4242, 177.4658, 3800,    570.5, 2,   8.3134, 2,  34.5213, 2,  34.5183, 2,    205.4, 2,    205.7, 2,     8.44, 2,    21.22, 2,     0.01, 2,     1.51, 2,    1.998, 2,    0.962, 2,    0.064, 2, -999.000, 9,   2141.9, 2,   2284.4, 2,    7.7365,     25.00,   -999.0, 1,   -999.0,  -999.00, 1,   -999.0,   8.2534, 26.8597,   8.3153, 2, 2, 0.14, 0.09, 0.01, 0.014,  -999.00, 9, -999.00, -999.00, 9, -999.00
49NZ20071122, P14, 37, 1, 26, X12032, 2, 20071216, 0103, -21.4242, 177.4658, 3800,    670.7, 2,   6.7533, 2,  34.4033, 2,  34.4028, 2,    208.7, 2,    209.3, 2,    13.34, 2,    24.96, 2,     0.00, 2,     1.75, 2,    1.445, 6,    0.688, 6,    0.034, 6, -999.000, 9,   2157.1, 6,   2288.0, 2,    7.7046,     25.00,   -999.0, 1,   -999.0,  -999.00, 1,   -999.0,   6.6902, 26.9910,   6.7542, 2, 2, 0.15, 0.10, 0.01, 0.014,  -999.00, 9, -999.00, -999.00, 9, -999.00
49NZ20071122, P14, 37, 1, 25, X12043, 2, 20071216, 0103, -21.4242, 177.4658, 3800,    767.8, 2,   5.7804, 2,  34.3633, 2,  34.3616, 2,    204.0, 2,    204.3, 2,    20.25, 2,    27.77, 2,     0.00, 2,     1.94, 2,    0.856, 2,    0.418, 2,    0.032, 2, -999.000, 9,   2171.4, 2,   2292.6, 6,    7.6776,     25.00,   -999.0, 1,   -999.0,  -999.00, 1,   -999.0,   5.7133, 27.0854,   5.7820, 2, 2, 0.16, 0.11, 0.01, 0.015,  -999.00, 9, -999.00, -999.00, 9, -999.00
49NZ20071122, P14, 37, 1, 24, X12030, 2, 20071216, 0103, -21.4242, 177.4658, 3800,    872.6, 2,   4.9998, 2,  34.3745, 2,  34.3733, 2,    194.0, 2,    190.5, 2,    31.37, 2,    30.42, 2,     0.00, 2,     2.11, 2,    0.430, 2,    0.215, 2,    0.011, 2, -999.000, 9,   2190.6, 2,   2303.6, 2,    7.6477,     25.00,   -999.0, 1,   -999.0,  -999.00, 1,   -999.0,   4.9281, 27.1876,   5.0002, 2, 2, 0.19, 0.12, 0.01, 0.015,  -999.00, 9, -999.00, -999.00, 9, -999.00
49NZ20071122, P14, 37, 1, 23, X12027, 2, 20071216, 0103, -21.4242, 177.4658, 3800,    969.4, 2,   4.4734, 2,  34.4156, 2,  34.4160, 2,    176.7, 2,    176.4, 2,    44.75, 2,    32.12, 2,     0.00, 2,     2.25, 2,    0.196, 2,    0.100, 2,    0.007, 2, -999.000, 9,   2212.9, 2,   2316.6, 2,    7.6244,     25.00,   -999.0, 1,   -999.0,  -999.00, 1,   -999.0,   4.3969, 27.2793,   4.4740, 2, 2, 0.22, 0.12, 0.01, 0.016,  -999.00, 9, -999.00, -999.00, 9, -999.00
49NZ20071122, P14, 37, 1, 22, X12028, 2, 20071216, 0103, -21.4242, 177.4658, 3800,   1129.0, 2,   3.7621, 2,  34.4792, 2,  34.4805, 6,    166.1, 2,    164.5, 2,    64.19, 2,    33.59, 2,     0.00, 2,     2.36, 2,    0.071, 2,    0.034, 2,    0.000, 2, -999.000, 9,   2242.2, 2,   2339.2, 2,    7.6067,     25.00,   -999.0, 1,   -999.0,  -999.00, 1,   -999.0,   3.6777, 27.4047,   3.7624, 2, 2, 0.26, 0.13, 0.01, 0.016,  -999.00, 9, -999.00, -999.00, 9, -999.00
49NZ20071122, P14, 37, 1, 21, X12009, 2, 20071216, 0103, -21.4242, 177.4658, 3800,   1330.7, 2,   3.2588, 2,  34.5373, 2,  34.5366, 2,    156.5, 2,    156.9, 2,    80.51, 2,    34.49, 2,     0.00, 2,     2.43, 2,    0.031, 2,    0.015, 2,    0.000, 2, -999.000, 9,   2261.7, 2,   2357.6, 2,    7.5985,     25.00,   -999.0, 1,   -999.0,  -999.00, 1,   -999.0,   3.1623, 27.5007,   3.2597, 2, 2, 0.30, 0.13, 0.01, 0.016,  -999.00, 9, -999.00, -999.00, 9, -999.00
49NZ20071122, P14, 37, 1, 20, X12026, 2, 20071216, 0103, -21.4242, 177.4658, 3800,   1529.9, 2,   2.8400, 2,  34.5799, 2,  34.5808, 3,    152.3, 2,    152.0, 2,    94.24, 2,    35.07, 2,     0.00, 2,     2.48, 2,    0.007, 2,    0.002, 2,    0.000, 2, -999.000, 9,   2279.8, 2,   2373.3, 2,    7.5925,     25.00,   -999.0, 1,   -999.0,  -999.00, 1,   -999.0,   2.7315, 27.5739,   2.8399, 2, 6, 0.33, 0.13, 0.01, 0.016,  -999.00, 9, -999.00, -999.00, 9, -999.00
49NZ20071122, P14, 37, 1, 19, X12025, 2, 20071216, 0103, -21.4242, 177.4658, 3800,   1729.3, 2,   2.5728, 2,  34.6066, 2,  34.6063, 2,    150.6, 2,    150.4, 2,   102.11, 2,    35.20, 2,     0.00, 2,     2.49, 2,    0.001, 2,    0.001, 2,    0.000, 2, -999.000, 9,   2288.3, 2,   2381.4, 2,    7.5913,     25.00,   -999.0, 1,   -999.0,  -999.00, 1,   -999.0,   2.4510, 27.6195,   2.5730, 2, 2, 0.34, 0.13, 0.01, 0.016,  -999.00, 9, -999.00, -999.00, 9, -999.00
49NZ20071122, P14, 37, 1, 18, X12024, 2, 20071216, 0103, -21.4242, 177.4658, 3800,   1929.9, 2,   2.3359, 2,  34.6294, 2,  34.6288, 2,    149.9, 2,    150.0, 2,   109.02, 2,    35.44, 2,     0.00, 2,     2.50, 2,    0.000, 2,    0.000, 2,    0.000, 2, -999.000, 9,   2294.3, 2,   2389.5, 2,    7.5904,     25.00,   -999.0, 1,   -999.0,  -999.00, 1,   -999.0,   2.2004, 27.6586,   2.3360, 2, 2, 0.36, 0.13, 0.01, 0.016,  -999.00, 9, -999.00, -999.00, 9, -999.00
49NZ20071122, P14, 37, 1, 17, X12023, 2, 20071216, 0103, -21.4242, 177.4658, 3800,   2129.9, 2,   2.1787, 2,  34.6444, 2,  34.6441, 6,    150.2, 2,    150.1, 2,   113.30, 2,    35.47, 2,     0.00, 2,     2.51, 2,    0.001, 2,    0.000, 2,    0.000, 2, -999.000, 9,   2299.8, 2,   2394.9, 2,    7.5909,     25.00,   -999.0, 1,   -999.0,  -999.00, 1,   -999.0,   2.0283, 27.6845,   2.1790, 2, 2, 0.37, 0.13, 0.01, 0.016,  -999.00, 9, -999.00, -999.00, 9, -999.00
49NZ20071122, P14, 37, 1, 16, X12022, 2, 20071216, 0103, -21.4242, 177.4658, 3800,   2332.1, 2,   2.0713, 2,  34.6543, 2,  34.6542, 2,    151.0, 2,    150.9, 2,   116.10, 2,    35.53, 2,     0.01, 2,     2.50, 2,    0.000, 2,    0.000, 2,    0.000, 2, -999.000, 9,   2302.3, 6,   2396.8, 2,    7.5917,     25.00,   -999.0, 1,   -999.0,  -999.00, 1,   -999.0,   1.9049, 27.7022,   2.0713, 2, 2, 0.37, 0.13, 0.01, 0.016,  -999.00, 9, -999.00, -999.00, 9, -999.00
49NZ20071122, P14, 37, 1, 15, X12021, 2, 20071216, 0103, -21.4242, 177.4658, 3800,   2531.1, 2,   1.9830, 2,  34.6639, 2,  34.6638, 2,    152.3, 2,    152.4, 2,   117.77, 2,    35.44, 2,     0.00, 2,     2.50, 2, -999.000, 9, -999.000, 9, -999.000, 9, -999.000, 9,   2302.7, 2,   2399.8, 6,    7.5936,     25.00,   -999.0, 1,   -999.0,  -999.00, 1,   -999.0,   1.8001, 27.7180,   1.9829, 2, 2, 0.38, 0.13, 0.01, 0.016,  -999.00, 9, -999.00, -999.00, 9, -999.00
49NZ20071122, P14, 37, 1, 14, X12020, 2, 20071216, 0103, -21.4242, 177.4658, 3800,   2732.3, 2,   1.8950, 2,  34.6727, 2,  34.6721, 2,    153.6, 2,    153.7, 2,   119.77, 2,    35.37, 2,     0.00, 2,     2.49, 2,    0.001, 2,    0.000, 2,    0.000, 2, -999.000, 9,   2305.8, 2,   2401.1, 2,    7.5953,     25.00,   -999.0, 1,   -999.0,  -999.00, 1,   -999.0,   1.6952, 27.7331,   1.8952, 2, 6, 0.38, 0.13, 0.01, 0.016,  -999.00, 9, -999.00, -999.00, 9, -999.00
49NZ20071122, P14, 37, 1, 13, X12019, 2, 20071216, 0103, -21.4242, 177.4658, 3800,   2931.1, 2,   1.8562, 2,  34.6768, 2,  34.6768, 2,    154.2, 2,    154.3, 2,   120.97, 2,    35.38, 2,     0.00, 2,     2.49, 2, -999.000, 9, -999.000, 9, -999.000, 9, -999.000, 9,   2306.3, 2,   2401.8, 2,    7.5961,     25.00,   -999.0, 1,   -999.0,  -999.00, 1,   -999.0,   1.6382, 27.7406,   1.8563, 2, 2, 0.39, 0.13, 0.01, 0.016,  -999.00, 9, -999.00, -999.00, 9, -999.00
49NZ20071122, P14, 37, 1, 12, X12040, 2, 20071216, 0103, -21.4242, 177.4658, 3800,   3171.4, 2,   1.8296, 2,  34.6801, 2,  34.6801, 2,    154.9, 2,    154.8, 2,   121.82, 2,    35.23, 2,     0.00, 2,     2.48, 2,    0.001, 2,    0.001, 2,    0.000, 2, -999.000, 9,   2306.0, 2,   2403.8, 2,    7.5978,     25.00,   -999.0, 1,   -999.0,  -999.00, 1,   -999.0,   1.5887, 27.7470,   1.8297, 2, 2, 0.39, 0.13, 0.01, 0.016,  -999.00, 9, -999.00, -999.00, 9, -999.00
49NZ20071122, P14, 37, 1, 11, X12047, 2, 20071216, 0103, -21.4242, 177.4658, 3800,   3421.1, 2,   1.8272, 2,  34.6819, 2,  34.6818, 6,    155.3, 2,    155.1, 2,   122.80, 2,    35.30, 2,     0.00, 2,     2.49, 2, -999.000, 9, -999.000, 9, -999.000, 9, -999.000, 9,   2306.9, 2,   2405.1, 2,    7.5977,     25.00,   -999.0, 1,   -999.0,  -999.00, 1,   -999.0,   1.5610, 27.7504,   1.8272, 2, 2, 0.39, 0.13, 0.01, 0.016,  -999.00, 9, -999.00, -999.00, 9, -999.00
49NZ20071122, P14, 37, 1, 10, X12012, 2, 20071216, 0103, -21.4242, 177.4658, 3800,   3671.3, 2,   1.8373, 2,  34.6828, 2,  34.6831, 2,    155.7, 2,    155.3, 2,   123.17, 2,    35.34, 2,     0.00, 2,     2.49, 2,    0.002, 2,    0.003, 2,    0.000, 2, -999.000, 9,   2308.2, 2,   2406.5, 2,    7.5983,     25.00,   -999.0, 1,   -999.0,  -999.00, 1,   -999.0,   1.5446, 27.7524,   1.8373, 2, 2, 0.39, 0.13, 0.01, 0.016,  -999.00, 9, -999.00, -999.00, 9, -999.00
49NZ20071122, P14, 37, 1, 9, X12015, 9, 20071216, 0103, -21.4242, 177.4658, 3800,     10.2, 2,  27.2017, 2,  34.7458, 2, -999.0000, 9,    200.9, 2,   -999.0, 9,  -999.00, 9,  -999.00, 9,  -999.00, 9,  -999.00, 9, -999.000, 9, -999.000, 9, -999.000, 9, -999.000, 9,   -999.0, 9,   -999.0, 9, -999.0000,   -999.00,   -999.0, 9,   -999.0,  -999.00, 9,   -999.0,  27.1994, 22.4626,  27.2012, 2, 9, -999.00, -999.00, -999.00, -999.000,  -999.00, 9, -999.00, -999.00, 9, -999.00
49NZ20071122, P14, 37, 1, 8, X12046, 9, 20071216, 0103, -21.4242, 177.4658, 3800,    670.0, 2,   6.7606, 2,  34.4036, 2, -999.0000, 9,    208.8, 2,   -999.0, 9,  -999.00, 9,  -999.00, 9,  -999.00, 9,  -999.00, 9, -999.000, 9, -999.000, 9, -999.000, 9, -999.000, 9,   -999.0, 9,   -999.0, 9, -999.0000,   -999.00,   -999.0, 9,   -999.0,  -999.00, 9,   -999.0,   6.6975, 26.9902,   6.7595, 2, 9, -999.00, -999.00, -999.00, -999.000,  -999.00, 9, -999.00, -999.00, 9, -999.00
49NZ20071122, P14, 37, 1, 7, X12044, 9, 20071216, 0103, -21.4242, 177.4658, 3800,    767.8, 2,   5.7722, 2,  34.3631, 2, -999.0000, 9,    204.0, 2,   -999.0, 9,  -999.00, 9,  -999.00, 9,  -999.00, 9,  -999.00, 9, -999.000, 9, -999.000, 9, -999.000, 9, -999.000, 9,   -999.0, 9,   -999.0, 9, -999.0000,   -999.00,   -999.0, 9,   -999.0,  -999.00, 9,   -999.0,   5.7052, 27.0862,   5.7724, 2, 9, -999.00, -999.00, -999.00, -999.000,  -999.00, 9, -999.00, -999.00, 9, -999.00
49NZ20071122, P14, 37, 1, 6, X12048, 9, 20071216, 0103, -21.4242, 177.4658, 3800,    871.8, 2,   4.9975, 2,  34.3743, 2, -999.0000, 9,    194.1, 2,   -999.0, 9,  -999.00, 9,  -999.00, 9,  -999.00, 9,  -999.00, 9, -999.000, 9, -999.000, 9, -999.000, 9, -999.000, 9,   -999.0, 9,   -999.0, 9, -999.0000,   -999.00,   -999.0, 9,   -999.0,  -999.00, 9,   -999.0,   4.9259, 27.1877,   4.9979, 2, 9, -999.00, -999.00, -999.00, -999.000,  -999.00, 9, -999.00, -999.00, 9, -999.00
49NZ20071122, P14, 37, 1, 5, X12014, 9, 20071216, 0103, -21.4242, 177.4658, 3800,    969.3, 2,   4.4708, 2,  34.4157, 2, -999.0000, 9,    176.7, 2,   -999.0, 9,  -999.00, 9,  -999.00, 9,  -999.00, 9,  -999.00, 9, -999.000, 9, -999.000, 9, -999.000, 9, -999.000, 9,   -999.0, 9,   -999.0, 9, -999.0000,   -999.00,   -999.0, 9,   -999.0,  -999.00, 9,   -999.0,   4.3943, 27.2796,   4.4706, 2, 9, -999.00, -999.00, -999.00, -999.000,  -999.00, 9, -999.00, -999.00, 9, -999.00
49NZ20071122, P14, 37, 1, 4, X12006, 9, 20071216, 0103, -21.4242, 177.4658, 3800,   1128.7, 2,   3.7605, 2,  34.4796, 2, -999.0000, 9,    166.1, 2,   -999.0, 9,  -999.00, 9,  -999.00, 9,  -999.00, 9,  -999.00, 9, -999.000, 9, -999.000, 9, -999.000, 9, -999.000, 9,   -999.0, 9,   -999.0, 9, -999.0000,   -999.00,   -999.0, 9,   -999.0,  -999.00, 9,   -999.0,   3.6761, 27.4051,   3.7610, 2, 9, -999.00, -999.00, -999.00, -999.000,  -999.00, 9, -999.00, -999.00, 9, -999.00
49NZ20071122, P14, 37, 1, 3, X12013, 9, 20071216, 0103, -21.4242, 177.4658, 3800,   1330.1, 2,   3.2634, 2,  34.5366, 2, -999.0000, 9,    156.5, 2,   -999.0, 9,  -999.00, 9,  -999.00, 9,  -999.00, 9,  -999.00, 9, -999.000, 9, -999.000, 9, -999.000, 9, -999.000, 9,   -999.0, 9,   -999.0, 9, -999.0000,   -999.00,   -999.0, 9,   -999.0,  -999.00, 9,   -999.0,   3.1669, 27.4997,   3.2630, 2, 9, -999.00, -999.00, -999.00, -999.000,  -999.00, 9, -999.00, -999.00, 9, -999.00
49NZ20071122, P14, 37, 1, 2, X12002, 9, 20071216, 0103, -21.4242, 177.4658, 3800,   1529.4, 2,   2.8376, 2,  34.5802, 2, -999.0000, 9,    152.3, 2,   -999.0, 9,  -999.00, 9,  -999.00, 9,  -999.00, 9,  -999.00, 9, -999.000, 9, -999.000, 9, -999.000, 9, -999.000, 9,   -999.0, 9,   -999.0, 9, -999.0000,   -999.00,   -999.0, 9,   -999.0,  -999.00, 9,   -999.0,   2.7292, 27.5743,   2.8378, 2, 9, -999.00, -999.00, -999.00, -999.000,  -999.00, 9, -999.00, -999.00, 9, -999.00
49NZ20071122, P14, 37, 1, 1, X12001, 2, 20071216, 0103, -21.4242, 177.4658, 3800,   3837.6, 2,   1.8437, 2,  34.6833, 2,  34.6831, 6,    155.9, 2,    155.5, 2,   123.42, 2,    35.28, 2,     0.00, 2,     2.49, 2,    0.001, 2,    0.000, 2,    0.000, 2, -999.000, 9,   2307.0, 2,   2406.1, 2,    7.5989,     25.00,   -999.0, 1,   -999.0,  -999.00, 1,   -999.0,   1.5330, 27.7536,   1.8438, 2, 2, 0.39, 0.13, 0.01, 0.016,  -999.00, 9, -999.00, -999.00, 9, -999.00