BOTTLE,20220820CCHSIOAMB
EXPOCODE,SECT_ID,STNNBR,CASTNO,SAMPNO,BTLNBR,BTLNBR_FLAG_W,DATE,TIME,LATITUDE,LONGITUDE,DEPTH,CTDPRS,CTDPRS_FLAG_W,CTDTMP,CTDTMP_FLAG_W,CTDSAL,CTDSAL_FLAG_W,SALNTY,SALNTY_FLAG_W,CTDOXY,CTDOXY_FLAG_W,OXYGEN,OXYGEN_FLAG_W,SILCAT,SILCAT_FLAG_W,NITRAT,NITRAT_FLAG_W,NITRIT,NITRIT_FLAG_W,PHSPHT,PHSPHT_FLAG_W,CFC-11,CFC-11_FLAG_W,CFC-12,CFC-12_FLAG_W,CFC113,CFC113_FLAG_W,CCL4,CCL4_FLAG_W,TCARBN,TCARBN_FLAG_W,ALKALI,ALKALI_FLAG_W,PH_TOT,PH_TMP,DELC14,DELC14_FLAG_W,C14ERR,DELC13,DELC13_FLAG_W,C13ERR,THETA,SIG0,SBE35,SBE35_FLAG_W,PH_TOT_FLAG_W,SILUNC,NRAUNC,NRIUNC,PHPUNC,CS-137,CS-137_FLAG_W,CS137ER,PLUTO,PLUTO_FLAG_W,PLUTOER
,,,,,,,,,,,METERS,DBAR,,ITS-90,,PSS-78,,PSS-78,,UMOL/KG,,UMOL/KG,,UMOL/KG,,UMOL/KG,,UMOL/KG,,UMOL/KG,,PMOL/KG,,PMOL/KG,,PMOL/KG,,PMOL/KG,,UMOL/KG,,UMOL/KG,,,DEG C,/MILLE,,/MILLE,/MILLE,,/MILLE,DEG C,KG/M^3,ITS-90,,,UMOL/KG,UMOL/KG,UMOL/KG,UMOL/KG,DM/.1MG,,BQ/M^3,MBQ/M^3,,MBQ/M^3
49NZ20071122, P14, 16, 1, 36, X12042, 2, 20071220, 1054, -30.4468, 175.9343, 4228,     10.8, 2,  21.7474, 2,  35.6476, 2,  35.6509, 2,    222.7, 2,    223.8, 2,     0.57, 2,     0.07, 2,     0.00, 2,     0.08, 2,    2.059, 2,    1.237, 2,    0.423, 4, -999.000, 9,   -999.0, 9,   -999.0, 9, -999.0000,   -999.00,   -999.0, 9,   -999.0,  -999.00, 9,   -999.0,  21.7453, 24.7813,  21.7454, 2, 9, 0.12, 0.03, 0.01, 0.026,  -999.00, 9, -999.00, -999.00, 9, -999.00
49NZ20071122, P14, 16, 1, 35, X12041, 2, 20071220, 1054, -30.4468, 175.9343, 4228,     50.2, 2,  20.0270, 2,  35.7240, 2,  35.6804, 2,    232.6, 2,    229.3, 2,     0.56, 2,     0.06, 2,     0.01, 2,     0.08, 2,    2.142, 2,    1.282, 2,    0.493, 4, -999.000, 9,   -999.0, 9,   -999.0, 9, -999.0000,   -999.00,   -999.0, 9,   -999.0,  -999.00, 9,   -999.0,  20.0177, 25.3095,  19.9603, 2, 9, 0.12, 0.03, 0.01, 0.024,  -999.00, 9, -999.00, -999.00, 9, -999.00
49NZ20071122, P14, 16, 1, 34, X12016, 2, 20071220, 1054, -30.4468, 175.9343, 4228,    100.6, 2,  17.9687, 2,  35.7016, 2,  35.6886, 2,    215.5, 2,    213.3, 2,     0.89, 2,     2.29, 2,     0.07, 2,     0.28, 2,    2.328, 2,    1.366, 2,    0.206, 4, -999.000, 9,   -999.0, 9,   -999.0, 9, -999.0000,   -999.00,   -999.0, 9,   -999.0,  -999.00, 9,   -999.0,  17.9514, 25.8216,  17.9804, 2, 9, 0.12, 0.04, 0.01, 0.014,  -999.00, 1, -999.00, -999.00, 9, -999.00
49NZ20071122, P14, 16, 1, 33, X12033, 2, 20071220, 1054, -30.4468, 175.9343, 4228,    151.0, 2,  17.0058, 2,  35.5928, 2,  35.5894, 2,    203.4, 2,    202.1, 2,     1.41, 2,     4.80, 2,     0.02, 2,     0.43, 2,    2.383, 2,    1.374, 2,    0.123, 4, -999.000, 9,   -999.0, 9,   -999.0, 9, -999.0000,   -999.00,   -999.0, 9,   -999.0,  -999.00, 9,   -999.0,  16.9808, 25.9740,  17.0133, 2, 9, 0.12, 0.05, 0.01, 0.013,  -999.00, 9, -999.00, -999.00, 9, -999.00
49NZ20071122, P14, 16, 1, 32, X12038, 2, 20071220, 1054, -30.4468, 175.9343, 4228,    200.2, 2,  16.1131, 2,  35.4903, 2,  35.4846, 2,    198.8, 2,    198.1, 2,     1.83, 2,     6.39, 2,     0.01, 2,     0.54, 2,    2.433, 2,    1.382, 2,    0.102, 4, -999.000, 9,   -999.0, 9,   -999.0, 9, -999.0000,   -999.00,   -999.0, 9,   -999.0,  -999.00, 9,   -999.0,  16.0811, 26.1062,  16.1132, 2, 9, 0.12, 0.05, 0.01, 0.013,  -999.00, 1, -999.00, -999.00, 9, -999.00
49NZ20071122, P14, 16, 1, 31, X12003, 2, 20071220, 1054, -30.4468, 175.9343, 4228,    250.9, 2,  15.0048, 2,  35.3657, 2,  35.3644, 6,    197.7, 2,    197.4, 2,     2.40, 2,     8.00, 2,     0.01, 2,     0.65, 2,    2.527, 2,    1.412, 2,    0.079, 2, -999.000, 9,   -999.0, 9,   -999.0, 9, -999.0000,   -999.00,   -999.0, 9,   -999.0,  -999.00, 9,   -999.0,  14.9666, 26.2613,  15.0064, 2, 9, 0.12, 0.06, 0.01, 0.013,  -999.00, 9, -999.00, -999.00, 9, -999.00
49NZ20071122, P14, 16, 1, 30, X12008, 2, 20071220, 1054, -30.4468, 175.9343, 4228,    279.6, 2,  14.4298, 2,  35.3101, 2,  35.3088, 2,    198.8, 2,    197.9, 2,     2.81, 2,     8.96, 2,     0.01, 2,     0.71, 2,    2.468, 2,    1.369, 2,    0.079, 2, -999.000, 9,   -999.0, 9,   -999.0, 9, -999.0000,   -999.00,   -999.0, 9,   -999.0,  -999.00, 9,   -999.0,  14.3883, 26.3442,  14.4300, 2, 9, 0.13, 0.06, 0.01, 0.013,  -999.00, 9, -999.00, -999.00, 9, -999.00
49NZ20071122, P14, 16, 1, 29, X12035, 2, 20071220, 1054, -30.4468, 175.9343, 4228,    370.5, 2,  12.5779, 2,  35.0723, 2,  35.0697, 2,    196.8, 2,    197.1, 2,     3.96, 2,    12.42, 2,     0.01, 2,     0.94, 2,    2.464, 2,    1.330, 2,    0.087, 2, -999.000, 9,   -999.0, 9,   -999.0, 9, -999.0000,   -999.00,   -999.0, 9,   -999.0,  -999.00, 9,   -999.0,  12.5277, 26.5429,  12.5779, 2, 9, 0.13, 0.07, 0.01, 0.013,  -999.00, 1, -999.00, -999.00, 9, -999.00
49NZ20071122, P14, 16, 1, 28, X12034, 2, 20071220, 1054, -30.4468, 175.9343, 4228,    470.5, 2,  10.5500, 2,  34.8161, 2,  34.8182, 6,    202.5, 2,    202.1, 2,     5.38, 2,    16.14, 2,     0.01, 2,     1.17, 2,    2.511, 2,    1.309, 2,    0.089, 2, -999.000, 9,   -999.0, 9,   -999.0, 9, -999.0000,   -999.00,   -999.0, 9,   -999.0,  -999.00, 9,   -999.0,  10.4929, 26.7229,  10.5519, 2, 9, 0.13, 0.08, 0.01, 0.013,  -999.00, 9, -999.00, -999.00, 9, -999.00
49NZ20071122, P14, 16, 1, 27, X12049, 2, 20071220, 1054, -30.4468, 175.9343, 4228,    570.4, 2,   8.8399, 2,  34.6095, 2,  34.6043, 2,    210.6, 2,    210.6, 2,     7.00, 2,    19.64, 2,     0.01, 2,     1.40, 2,    2.380, 2,    1.191, 2,    0.101, 2, -999.000, 9,   -999.0, 9,   -999.0, 9, -999.0000,   -999.00,   -999.0, 9,   -999.0,  -999.00, 9,   -999.0,   8.7776, 26.8477,   8.8402, 2, 9, 0.13, 0.09, 0.01, 0.014,  -999.00, 1, -999.00, -999.00, 9, -999.00
49NZ20071122, P14, 16, 1, 26, X12032, 2, 20071220, 1054, -30.4468, 175.9343, 4228,    670.7, 2,   7.6092, 2,  34.4839, 2,  34.4795, 2,    214.5, 2,    216.9, 2,     9.36, 2,    22.26, 2,     0.01, 2,     1.57, 2,    2.090, 2,    1.023, 2,    0.079, 2, -999.000, 9,   -999.0, 9,   -999.0, 9, -999.0000,   -999.00,   -999.0, 9,   -999.0,  -999.00, 9,   -999.0,   7.5417, 26.9357,   7.6095, 2, 9, 0.14, 0.10, 0.01, 0.014,  -999.00, 9, -999.00, -999.00, 9, -999.00
49NZ20071122, P14, 16, 1, 25, X12043, 2, 20071220, 1054, -30.4468, 175.9343, 4228,    771.0, 2,   6.7235, 2,  34.4125, 2,  34.4111, 2,    219.0, 2,    217.5, 2,    12.49, 2,    24.39, 2,     0.01, 2,     1.71, 2,    1.598, 2,    0.777, 2,    0.045, 2, -999.000, 9,   -999.0, 9,   -999.0, 9, -999.0000,   -999.00,   -999.0, 9,   -999.0,  -999.00, 9,   -999.0,   6.6506, 27.0035,   6.7240, 2, 9, 0.15, 0.10, 0.01, 0.014,  -999.00, 1, -999.00, -999.00, 9, -999.00
49NZ20071122, P14, 16, 1, 24, X12030, 2, 20071220, 1054, -30.4468, 175.9343, 4228,    869.7, 2,   6.0317, 2,  34.3839, 2,  34.3833, 2,    215.4, 2,    210.8, 2,    18.11, 2,    26.41, 2,     0.01, 2,     1.85, 2,    1.086, 2,    0.527, 2,    0.033, 2, -999.000, 9,   -999.0, 9,   -999.0, 9, -999.0000,   -999.00,   -999.0, 9,   -999.0,  -999.00, 9,   -999.0,   5.9534, 27.0717,   6.0314, 2, 9, 0.16, 0.11, 0.01, 0.015,  -999.00, 9, -999.00, -999.00, 9, -999.00
49NZ20071122, P14, 16, 1, 23, X12027, 2, 20071220, 1054, -30.4468, 175.9343, 4228,    971.9, 2,   5.3596, 2,  34.3718, 2,  34.3719, 2,    203.7, 2,    202.4, 2,    25.27, 2,    28.55, 2,     0.01, 2,     1.99, 2,    0.703, 2,    0.347, 2,    0.019, 2, -999.000, 9,   -999.0, 9,   -999.0, 9, -999.0000,   -999.00,   -999.0, 9,   -999.0,  -999.00, 9,   -999.0,   5.2764, 27.1449,   5.3595, 2, 9, 0.17, 0.11, 0.01, 0.015,  -999.00, 1, -999.00, -999.00, 9, -999.00
49NZ20071122, P14, 16, 1, 22, X12028, 2, 20071220, 1054, -30.4468, 175.9343, 4228,   1129.2, 2,   4.5499, 2,  34.3935, 2,  34.3933, 6,    189.2, 2,    187.9, 2,    38.62, 2,    31.06, 2,     0.01, 2,     2.17, 2,    0.333, 2,    0.172, 2,    0.007, 2, -999.000, 9,   -999.0, 9,   -999.0, 9, -999.0000,   -999.00,   -999.0, 9,   -999.0,  -999.00, 9,   -999.0,   4.4588, 27.2550,   4.5497, 2, 9, 0.20, 0.12, 0.01, 0.015,  -999.00, 9, -999.00, -999.00, 9, -999.00
49NZ20071122, P14, 16, 1, 21, X12009, 2, 20071220, 1054, -30.4468, 175.9343, 4228,   1330.9, 2,   3.6700, 2,  34.4699, 2,  34.4708, 2,    172.0, 2,    172.1, 2,    61.08, 2,    33.05, 2,     0.01, 2,     2.32, 2,    0.119, 2,    0.061, 2,    0.000, 2, -999.000, 9,   -999.0, 9,   -999.0, 9, -999.0000,   -999.00,   -999.0, 9,   -999.0,  -999.00, 9,   -999.0,   3.5694, 27.4079,   3.6702, 2, 9, 0.25, 0.13, 0.01, 0.016,  -999.00, 9, -999.00, -999.00, 9, -999.00
49NZ20071122, P14, 16, 1, 20, X12026, 2, 20071220, 1054, -30.4468, 175.9343, 4228,   1530.4, 2,   2.9966, 2,  34.5653, 2,  34.5662, 2,    160.0, 2,    159.6, 2,    86.22, 2,    34.12, 2,     0.01, 2,     2.41, 2,    0.047, 2,    0.028, 2,    0.000, 2, -999.000, 9,   -999.0, 9,   -999.0, 9, -999.0000,   -999.00,   -999.0, 9,   -999.0,  -999.00, 9,   -999.0,   2.8863, 27.5484,   2.9968, 2, 9, 0.31, 0.13, 0.01, 0.016,  -999.00, 9, -999.00, -999.00, 9, -999.00
49NZ20071122, P14, 16, 1, 19, X12025, 2, 20071220, 1054, -30.4468, 175.9343, 4228,   1730.3, 2,   2.6281, 2,  34.6067, 2,  34.6068, 2,    155.3, 2,    155.2, 2,    98.74, 2,    34.55, 2,     0.01, 2,     2.44, 2,    0.025, 2,    0.011, 2,    0.000, 2, -999.000, 9,   -999.0, 9,   -999.0, 9, -999.0000,   -999.00,   -999.0, 9,   -999.0,  -999.00, 9,   -999.0,   2.5055, 27.6150,   2.6282, 2, 9, 0.34, 0.13, 0.01, 0.016,  -999.00, 9, -999.00, -999.00, 9, -999.00
49NZ20071122, P14, 16, 1, 18, X12024, 2, 20071220, 1054, -30.4468, 175.9343, 4228,   1931.1, 2,   2.3789, 2,  34.6278, 2,  34.6283, 2,    153.2, 2,    153.2, 2,   106.14, 2,    34.94, 2,     0.01, 2,     2.47, 2,    0.008, 2,    0.006, 2,    0.000, 2, -999.000, 9,   -999.0, 9,   -999.0, 9, -999.0000,   -999.00,   -999.0, 9,   -999.0,  -999.00, 9,   -999.0,   2.2426, 27.6539,   2.3788, 2, 9, 0.35, 0.13, 0.01, 0.016,  -999.00, 1, -999.00, -999.00, 9, -999.00
49NZ20071122, P14, 16, 1, 17, X12023, 2, 20071220, 1054, -30.4468, 175.9343, 4228,   2128.4, 2,   2.1986, 2,  34.6440, 2,  34.6444, 6,    152.4, 2,    152.3, 2,   111.40, 2,    35.09, 2,     0.01, 2,     2.48, 2, -999.000, 9, -999.000, 9, -999.000, 9, -999.000, 9,   -999.0, 9,   -999.0, 9, -999.0000,   -999.00,   -999.0, 9,   -999.0,  -999.00, 9,   -999.0,   2.0480, 27.6826,   2.1987, 2, 9, 0.36, 0.13, 0.01, 0.016,  -999.00, 9, -999.00, -999.00, 9, -999.00
49NZ20071122, P14, 16, 1, 16, X12022, 2, 20071220, 1054, -30.4468, 175.9343, 4228,   2331.5, 2,   2.0705, 2,  34.6559, 2,  34.6559, 2,    152.5, 2,    152.4, 2,   115.03, 2,    35.20, 2,     0.01, 2,     2.48, 2,    0.000, 2,    0.000, 2,    0.000, 2, -999.000, 9,   -999.0, 9,   -999.0, 9, -999.0000,   -999.00,   -999.0, 9,   -999.0,  -999.00, 9,   -999.0,   1.9041, 27.7035,   2.0706, 2, 9, 0.37, 0.13, 0.01, 0.016,  -999.00, 9, -999.00, -999.00, 9, -999.00
49NZ20071122, P14, 16, 1, 15, X12021, 2, 20071220, 1054, -30.4468, 175.9343, 4228,   2530.9, 2,   1.9718, 2,  34.6651, 2,  34.6651, 2,    152.8, 2,    153.0, 2,   117.70, 2,    35.17, 2,     0.01, 2,     2.48, 2, -999.000, 9, -999.000, 9, -999.000, 9, -999.000, 9,   -999.0, 9,   -999.0, 9, -999.0000,   -999.00,   -999.0, 9,   -999.0,  -999.00, 9,   -999.0,   1.7892, 27.7198,   1.9718, 2, 9, 0.38, 0.13, 0.01, 0.016,  -999.00, 9, -999.00, -999.00, 9, -999.00
49NZ20071122, P14, 16, 1, 14, X12020, 2, 20071220, 1054, -30.4468, 175.9343, 4228,   2730.2, 2,   1.9095, 2,  34.6713, 2,  34.6714, 2,    153.3, 2,    153.4, 2,   119.48, 2,    35.21, 2,     0.01, 2,     2.48, 2,    0.000, 2,    0.001, 2,    0.000, 2, -999.000, 9,   -999.0, 9,   -999.0, 9, -999.0000,   -999.00,   -999.0, 9,   -999.0,  -999.00, 9,   -999.0,   1.7096, 27.7308,   1.9095, 2, 9, 0.38, 0.13, 0.01, 0.016,  -999.00, 9, -999.00, -999.00, 9, -999.00
49NZ20071122, P14, 16, 1, 13, X12019, 2, 20071220, 1054, -30.4468, 175.9343, 4228,   2930.2, 2,   1.8701, 2,  34.6757, 2,  34.6758, 2,    153.7, 2,    153.8, 2,   120.68, 2,    35.22, 2,     0.00, 2,     2.48, 2, -999.000, 9, -999.000, 9, -999.000, 9, -999.000, 9,   -999.0, 9,   -999.0, 9, -999.0000,   -999.00,   -999.0, 9,   -999.0,  -999.00, 9,   -999.0,   1.6519, 27.7387,   1.8701, 2, 9, 0.38, 0.13, 0.01, 0.016,  -999.00, 1, -999.00, -999.00, 9, -999.00
49NZ20071122, P14, 16, 1, 12, X12040, 2, 20071220, 1054, -30.4468, 175.9343, 4228,   3170.1, 2,   1.8535, 2,  34.6785, 2,  34.6786, 2,    153.9, 2,    154.0, 2,   121.45, 2,    35.11, 2,     0.01, 2,     2.48, 2,    0.000, 2,    0.000, 2,    0.000, 2, -999.000, 9,   -999.0, 9,   -999.0, 9, -999.0000,   -999.00,   -999.0, 9,   -999.0,  -999.00, 9,   -999.0,   1.6122, 27.7439,   1.8536, 2, 9, 0.39, 0.13, 0.01, 0.016,  -999.00, 9, -999.00, -999.00, 9, -999.00
49NZ20071122, P14, 16, 1, 11, X12047, 2, 20071220, 1054, -30.4468, 175.9343, 4228,   3418.9, 2,   1.8476, 2,  34.6808, 2,  34.6806, 6,    154.1, 2,    154.1, 2,   122.54, 2,    35.21, 2,     0.01, 2,     2.48, 2, -999.000, 9, -999.000, 9, -999.000, 9, -999.000, 9,   -999.0, 9,   -999.0, 9, -999.0000,   -999.00,   -999.0, 9,   -999.0,  -999.00, 9,   -999.0,   1.5811, 27.7480,   1.8475, 2, 9, 0.39, 0.13, 0.01, 0.016,  -999.00, 9, -999.00, -999.00, 9, -999.00
49NZ20071122, P14, 16, 1, 10, X12012, 2, 20071220, 1054, -30.4468, 175.9343, 4228,   3668.3, 2,   1.8594, 2,  34.6816, 2,  34.6817, 2,    154.4, 2,    154.2, 2,   122.92, 2,    35.25, 2,     0.01, 2,     2.48, 2,    0.000, 2,    0.000, 2,    0.000, 2, -999.000, 9,   -999.0, 9,   -999.0, 9, -999.0000,   -999.00,   -999.0, 9,   -999.0,  -999.00, 9,   -999.0,   1.5665, 27.7498,   1.8593, 2, 9, 0.39, 0.13, 0.01, 0.016,  -999.00, 9, -999.00, -999.00, 9, -999.00
49NZ20071122, P14, 16, 1, 9, X12015, 2, 20071220, 1054, -30.4468, 175.9343, 4228,   3918.9, 2,   1.8781, 2,  34.6818, 2,  34.6822, 2,    154.5, 2,    154.3, 2,   123.06, 2,    35.16, 2,     0.01, 2,     2.48, 2, -999.000, 9, -999.000, 9, -999.000, 9, -999.000, 9,   -999.0, 9,   -999.0, 9, -999.0000,   -999.00,   -999.0, 9,   -999.0,  -999.00, 9,   -999.0,   1.5576, 27.7506,   1.8780, 2, 9, 0.39, 0.13, 0.01, 0.016,  -999.00, 1, -999.00, -999.00, 9, -999.00
49NZ20071122, P14, 16, 1, 8, X12046, 2, 20071220, 1054, -30.4468, 175.9343, 4228,   4169.3, 2,   1.9000, 2,  34.6821, 2,  34.6826, 2,    155.1, 2,    154.7, 2,   123.23, 2,    35.27, 2,     0.00, 2,     2.48, 2,    0.000, 2,    0.000, 2,    0.000, 2, -999.000, 9,   -999.0, 9,   -999.0, 9, -999.0000,   -999.00,   -999.0, 9,   -999.0,  -999.00, 9,   -999.0,   1.5509, 27.7513,   1.9000, 2, 9, 0.39, 0.13, 0.01, 0.016,  -999.00, 9, -999.00, -999.00, 9, -999.00
49NZ20071122, P14, 16, 1, 7, X12044, 2, 20071220, 1054, -30.4468, 175.9343, 4228,   4284.2, 2,   1.9102, 2,  34.6821, 2, -999.0000, 9,    155.0, 2,   -999.0, 9,  -999.00, 9,  -999.00, 9,  -999.00, 9,  -999.00, 9, -999.000, 9, -999.000, 9, -999.000, 9, -999.000, 9,   -999.0, 9,   -999.0, 9, -999.0000,   -999.00,   -999.0, 9,   -999.0,  -999.00, 9,   -999.0,   1.5476, 27.7515,   1.9102, 2, 9, -999.00, -999.00, -999.00, -999.000,  -999.00, 1, -999.00, -999.00, 9, -999.00
49NZ20071122, P14, 16, 1, 6, X12048, 2, 20071220, 1054, -30.4468, 175.9343, 4228,   1930.6, 2,   2.3792, 2,  34.6278, 2, -999.0000, 9,    153.1, 2,   -999.0, 9,  -999.00, 9,  -999.00, 9,  -999.00, 9,  -999.00, 9, -999.000, 9, -999.000, 9, -999.000, 9, -999.000, 9,   -999.0, 9,   -999.0, 9, -999.0000,   -999.00,   -999.0, 9,   -999.0,  -999.00, 9,   -999.0,   2.2430, 27.6539,   2.3790, 2, 9, -999.00, -999.00, -999.00, -999.000,  -999.00, 1, -999.00, -999.00, 9, -999.00
49NZ20071122, P14, 16, 1, 5, X12014, 2, 20071220, 1054, -30.4468, 175.9343, 4228,   2930.4, 2,   1.8704, 2,  34.6758, 2, -999.0000, 9,    153.7, 2,   -999.0, 9,  -999.00, 9,  -999.00, 9,  -999.00, 9,  -999.00, 9, -999.000, 9, -999.000, 9, -999.000, 9, -999.000, 9,   -999.0, 9,   -999.0, 9, -999.0000,   -999.00,   -999.0, 9,   -999.0,  -999.00, 9,   -999.0,   1.6522, 27.7387,   1.8704, 2, 9, -999.00, -999.00, -999.00, -999.000,  -999.00, 1, -999.00, -999.00, 9, -999.00
49NZ20071122, P14, 16, 1, 4, X12006, 2, 20071220, 1054, -30.4468, 175.9343, 4228,   3919.1, 2,   1.8781, 2,  34.6819, 2, -999.0000, 9,    154.5, 2,   -999.0, 9,  -999.00, 9,  -999.00, 9,  -999.00, 9,  -999.00, 9, -999.000, 9, -999.000, 9, -999.000, 9, -999.000, 9,   -999.0, 9,   -999.0, 9, -999.0000,   -999.00,   -999.0, 9,   -999.0,  -999.00, 9,   -999.0,   1.5575, 27.7507,   1.8781, 2, 9, -999.00, -999.00, -999.00, -999.000,  -999.00, 1, -999.00, -999.00, 9, -999.00
49NZ20071122, P14, 16, 1, 3, X12013, 2, 20071220, 1054, -30.4468, 175.9343, 4228,   4284.2, 2,   1.9101, 2,  34.6822, 2, -999.0000, 9,    155.0, 2,   -999.0, 9,  -999.00, 9,  -999.00, 9,  -999.00, 9,  -999.00, 9, -999.000, 9, -999.000, 9, -999.000, 9, -999.000, 9,   -999.0, 9,   -999.0, 9, -999.0000,   -999.00,   -999.0, 9,   -999.0,  -999.00, 9,   -999.0,   1.5475, 27.7516,   1.9101, 2, 9, -999.00, -999.00, -999.00, -999.000,  -999.00, 1, -999.00, -999.00, 9, -999.00
49NZ20071122, P14, 16, 1, 2, X12002, 2, 20071220, 1054, -30.4468, 175.9343, 4228,   4284.5, 2,   1.9101, 2,  34.6821, 2, -999.0000, 9,    155.0, 2,   -999.0, 9,  -999.00, 9,  -999.00, 9,  -999.00, 9,  -999.00, 9, -999.000, 9, -999.000, 9, -999.000, 9, -999.000, 9,   -999.0, 9,   -999.0, 9, -999.0000,   -999.00,   -999.0, 9,   -999.0,  -999.00, 9,   -999.0,   1.5475, 27.7516,   1.9101, 2, 9, -999.00, -999.00, -999.00, -999.000,  -999.00, 1, -999.00, -999.00, 9, -999.00
49NZ20071122, P14, 16, 1, 1, X12001, 2, 20071220, 1054, -30.4468, 175.9343, 4228,   4284.2, 2,   1.9101, 2,  34.6821, 2,  34.6825, 6,    155.0, 2,    154.8, 2,   123.01, 2,    35.22, 2,     0.01, 2,     2.48, 2,    0.000, 2,    0.000, 2,    0.003, 3, -999.000, 9,   -999.0, 9,   -999.0, 9, -999.0000,   -999.00,   -999.0, 9,   -999.0,  -999.00, 9,   -999.0,   1.5475, 27.7516,   1.9101, 2, 9, 0.39, 0.13, 0.01, 0.016,  -999.00, 1, -999.00, -999.00, 9, -999.00