BOTTLE,20220820CCHSIOAMB
EXPOCODE,SECT_ID,STNNBR,CASTNO,SAMPNO,BTLNBR,BTLNBR_FLAG_W,DATE,TIME,LATITUDE,LONGITUDE,DEPTH,CTDPRS,CTDPRS_FLAG_W,CTDTMP,CTDTMP_FLAG_W,CTDSAL,CTDSAL_FLAG_W,SALNTY,SALNTY_FLAG_W,CTDOXY,CTDOXY_FLAG_W,OXYGEN,OXYGEN_FLAG_W,SILCAT,SILCAT_FLAG_W,NITRAT,NITRAT_FLAG_W,NITRIT,NITRIT_FLAG_W,PHSPHT,PHSPHT_FLAG_W,CFC-11,CFC-11_FLAG_W,CFC-12,CFC-12_FLAG_W,CFC113,CFC113_FLAG_W,CCL4,CCL4_FLAG_W,TCARBN,TCARBN_FLAG_W,ALKALI,ALKALI_FLAG_W,PH_TOT,PH_TMP,DELC14,DELC14_FLAG_W,C14ERR,DELC13,DELC13_FLAG_W,C13ERR,THETA,SIG0,SBE35,SBE35_FLAG_W,PH_TOT_FLAG_W,SILUNC,NRAUNC,NRIUNC,PHPUNC,CS-137,CS-137_FLAG_W,CS137ER,PLUTO,PLUTO_FLAG_W,PLUTOER
,,,,,,,,,,,METERS,DBAR,,ITS-90,,PSS-78,,PSS-78,,UMOL/KG,,UMOL/KG,,UMOL/KG,,UMOL/KG,,UMOL/KG,,UMOL/KG,,PMOL/KG,,PMOL/KG,,PMOL/KG,,PMOL/KG,,UMOL/KG,,UMOL/KG,,,DEG C,/MILLE,,/MILLE,/MILLE,,/MILLE,DEG C,KG/M^3,ITS-90,,,UMOL/KG,UMOL/KG,UMOL/KG,UMOL/KG,DM/.1MG,,BQ/M^3,MBQ/M^3,,MBQ/M^3
49NZ20071122, P14, 51, 1, 36, X12042, 2, 20071213, 2219, -18.5977, 177.9330, 892,      9.6, 2,  28.0497, 2,  34.6839, 2,  34.6841, 2,    201.8, 2,    201.5, 2,     0.95, 2,     0.03, 2,     0.00, 2,     0.10, 2,    1.518, 2,    0.922, 2,    0.317, 4, -999.000, 9,   -999.0, 9,   -999.0, 9, -999.0000,   -999.00,   -999.0, 9,   -999.0,  -999.00, 9,   -999.0,  28.0474, 22.1415,  28.0499, 2, 9, 0.12, 0.03, 0.01, 0.022,  -999.00, 9, -999.00, -999.00, 9, -999.00
49NZ20071122, P14, 51, 1, 35, X12041, 2, 20071213, 2219, -18.5977, 177.9330, 892,     49.3, 2,  27.3569, 2,  34.8075, 2,  34.8067, 2,    203.6, 2,    204.0, 2,     0.82, 2,     0.02, 2,     0.00, 2,     0.11, 2,    1.579, 2,    0.974, 2,    0.386, 4, -999.000, 9,   -999.0, 9,   -999.0, 9, -999.0000,   -999.00,   -999.0, 9,   -999.0,  -999.00, 9,   -999.0,  27.3455, 22.4621,  27.3575, 2, 9, 0.12, 0.03, 0.01, 0.021,  -999.00, 9, -999.00, -999.00, 9, -999.00
49NZ20071122, P14, 51, 1, 34, X12016, 2, 20071213, 2219, -18.5977, 177.9330, 892,    100.3, 2,  25.8166, 2,  35.3857, 2,  35.3892, 2,    202.5, 2,    202.1, 2,     0.52, 2,     0.02, 2,     0.01, 2,     0.12, 2,    1.687, 2,    1.022, 2,    0.437, 4, -999.000, 9,   -999.0, 9,   -999.0, 9, -999.0000,   -999.00,   -999.0, 9,   -999.0,  -999.00, 9,   -999.0,  25.7943, 23.3884,  25.8157, 2, 9, 0.12, 0.03, 0.01, 0.020,  -999.00, 9, -999.00, -999.00, 9, -999.00
49NZ20071122, P14, 51, 1, 33, X12033, 2, 20071213, 2219, -18.5977, 177.9330, 892,    149.7, 2,  24.3378, 2,  35.6037, 2,  35.6166, 2,    174.6, 2,    174.5, 2,     0.72, 2,     1.65, 2,     0.06, 2,     0.29, 2,    1.846, 6,    1.109, 6,    0.211, 4, -999.000, 9,   -999.0, 9,   -999.0, 9, -999.0000,   -999.00,   -999.0, 9,   -999.0,  -999.00, 9,   -999.0,  24.3059, 24.0073,  24.3362, 2, 9, 0.12, 0.04, 0.01, 0.014,  -999.00, 9, -999.00, -999.00, 9, -999.00
49NZ20071122, P14, 51, 1, 32, X12038, 2, 20071213, 2219, -18.5977, 177.9330, 892,    198.4, 2,  21.8592, 2,  35.7327, 2,  35.7269, 2,    165.3, 2,    164.8, 2,     0.87, 2,     3.55, 2,     0.02, 2,     0.43, 2,    2.060, 2,    1.198, 2,    0.078, 2, -999.000, 9,   -999.0, 9,   -999.0, 9, -999.0000,   -999.00,   -999.0, 9,   -999.0,  -999.00, 9,   -999.0,  21.8200, 24.8252,  21.8595, 2, 9, 0.12, 0.04, 0.01, 0.013,  -999.00, 9, -999.00, -999.00, 9, -999.00
49NZ20071122, P14, 51, 1, 31, X12003, 2, 20071213, 2219, -18.5977, 177.9330, 892,    248.9, 2,  19.4139, 2,  35.5963, 2,  35.5876, 6,    173.0, 2,    172.2, 2,     1.10, 2,     4.80, 2,     0.01, 2,     0.49, 2,    2.221, 2,    1.258, 2,    0.032, 2, -999.000, 9,   -999.0, 9,   -999.0, 9, -999.0000,   -999.00,   -999.0, 9,   -999.0,  -999.00, 9,   -999.0,  19.3686, 25.3821,  19.4137, 2, 9, 0.12, 0.05, 0.01, 0.013,  -999.00, 9, -999.00, -999.00, 9, -999.00
49NZ20071122, P14, 51, 1, 30, X12008, 2, 20071213, 2219, -18.5977, 177.9330, 892,    300.8, 2,  17.4729, 2,  35.4204, 2,  35.4227, 2,    177.1, 2,    176.4, 2,     1.72, 2,     6.30, 2,     0.01, 2,     0.59, 2,    2.272, 2,    1.255, 2,    0.030, 2, -999.000, 9,   -999.0, 9,   -999.0, 9, -999.0000,   -999.00,   -999.0, 9,   -999.0,  -999.00, 9,   -999.0,  17.4220, 25.7356,  17.4776, 2, 9, 0.12, 0.05, 0.01, 0.013,  -999.00, 9, -999.00, -999.00, 9, -999.00
49NZ20071122, P14, 51, 1, 29, X12035, 2, 20071213, 2219, -18.5977, 177.9330, 892,    401.8, 2,  13.1641, 2,  34.9745, 2,  34.9749, 2,    180.8, 2,    180.0, 2,     4.39, 2,    12.57, 2,     0.01, 2,     1.01, 2,    2.129, 2,    1.103, 2,    0.028, 2, -999.000, 9,   -999.0, 9,   -999.0, 9, -999.0000,   -999.00,   -999.0, 9,   -999.0,  -999.00, 9,   -999.0,  13.1080, 26.3514,  13.1635, 2, 9, 0.13, 0.07, 0.01, 0.013,  -999.00, 9, -999.00, -999.00, 9, -999.00
49NZ20071122, P14, 51, 1, 28, X12034, 2, 20071213, 2219, -18.5977, 177.9330, 892,    500.5, 2,   8.8100, 2,  34.5758, 2,  34.5675, 6,    192.8, 2,    192.4, 2,    10.36, 2,    21.44, 2,     0.01, 2,     1.55, 2,    1.642, 2,    0.813, 2,    0.038, 2, -999.000, 9,   -999.0, 9,   -999.0, 9, -999.0000,   -999.00,   -999.0, 9,   -999.0,  -999.00, 9,   -999.0,   8.7557, 26.8247,   8.8125, 2, 9, 0.14, 0.09, 0.01, 0.014,  -999.00, 9, -999.00, -999.00, 9, -999.00
49NZ20071122, P14, 51, 1, 27, X12049, 2, 20071213, 2219, -18.5977, 177.9330, 892,    599.5, 2,   7.1163, 2,  34.4379, 2,  34.4367, 2,    199.6, 2,    199.2, 2,    14.34, 2,    24.89, 2,     0.01, 2,     1.77, 2,    1.277, 2,    0.621, 2,    0.023, 2, -999.000, 9,   -999.0, 9,   -999.0, 9, -999.0000,   -999.00,   -999.0, 9,   -999.0,  -999.00, 9,   -999.0,   7.0585, 26.9679,   7.1150, 2, 9, 0.15, 0.10, 0.01, 0.015,  -999.00, 9, -999.00, -999.00, 9, -999.00
49NZ20071122, P14, 51, 1, 26, X12032, 2, 20071213, 2219, -18.5977, 177.9330, 892,    700.5, 2,   6.2858, 2,  34.4019, 2,  34.4011, 2,    195.8, 2,    194.0, 2,    21.37, 2,    27.55, 2,     0.01, 2,     1.94, 2,    0.830, 6,    0.407, 6,    0.017, 6, -999.000, 9,   -999.0, 9,   -999.0, 9, -999.0000,   -999.00,   -999.0, 9,   -999.0,  -999.00, 9,   -999.0,   6.2222, 27.0516,   6.2850, 2, 9, 0.17, 0.11, 0.01, 0.015,  -999.00, 9, -999.00, -999.00, 9, -999.00
49NZ20071122, P14, 51, 1, 25, X12043, 2, 20071213, 2219, -18.5977, 177.9330, 892,    799.4, 2,   5.5083, 2,  34.4008, 2,  34.4030, 2,    185.0, 2,    184.6, 2,    30.41, 2,    29.67, 2,     0.01, 2,     2.09, 2,    0.515, 2,    0.260, 2,    0.007, 2, -999.000, 9,   -999.0, 9,   -999.0, 9, -999.0000,   -999.00,   -999.0, 9,   -999.0,  -999.00, 9,   -999.0,   5.4399, 27.1484,   5.5074, 2, 9, 0.19, 0.12, 0.01, 0.015,  -999.00, 9, -999.00, -999.00, 9, -999.00
49NZ20071122, P14, 51, 1, 19, X12025, 9, 20071213, 2219, -18.5977, 177.9330, 892,    799.2, 2,   5.5009, 2,  34.4007, 2, -999.0000, 9,    185.0, 2,   -999.0, 9,  -999.00, 9,  -999.00, 9,  -999.00, 9,  -999.00, 9, -999.000, 9, -999.000, 9, -999.000, 9, -999.000, 9,   -999.0, 9,   -999.0, 9, -999.0000,   -999.00,   -999.0, 9,   -999.0,  -999.00, 9,   -999.0,   5.4326, 27.1492,   5.5000, 2, 9, -999.00, -999.00, -999.00, -999.000,  -999.00, 9, -999.00, -999.00, 9, -999.00
49NZ20071122, P14, 51, 1, 18, X12024, 9, 20071213, 2219, -18.5977, 177.9330, 892,      9.7, 2,  28.0493, 2,  34.6834, 2, -999.0000, 9,    201.8, 2,   -999.0, 9,  -999.00, 9,  -999.00, 9,  -999.00, 9,  -999.00, 9, -999.000, 9, -999.000, 9, -999.000, 9, -999.000, 9,   -999.0, 9,   -999.0, 9, -999.0000,   -999.00,   -999.0, 9,   -999.0,  -999.00, 9,   -999.0,  28.0470, 22.1412,  28.0488, 2, 9, -999.00, -999.00, -999.00, -999.000,  -999.00, 9, -999.00, -999.00, 9, -999.00
49NZ20071122, P14, 51, 1, 17, X12023, 9, 20071213, 2219, -18.5977, 177.9330, 892,     49.6, 2,  27.3551, 2,  34.8071, 2, -999.0000, 9,    203.5, 2,   -999.0, 9,  -999.00, 9,  -999.00, 9,  -999.00, 9,  -999.00, 9, -999.000, 9, -999.000, 9, -999.000, 9, -999.000, 9,   -999.0, 9,   -999.0, 9, -999.0000,   -999.00,   -999.0, 9,   -999.0,  -999.00, 9,   -999.0,  27.3436, 22.4624,  27.3547, 2, 9, -999.00, -999.00, -999.00, -999.000,  -999.00, 9, -999.00, -999.00, 9, -999.00
49NZ20071122, P14, 51, 1, 16, X12022, 9, 20071213, 2219, -18.5977, 177.9330, 892,    100.0, 2,  25.8171, 2,  35.3847, 2, -999.0000, 9,    202.7, 2,   -999.0, 9,  -999.00, 9,  -999.00, 9,  -999.00, 9,  -999.00, 9, -999.000, 9, -999.000, 9, -999.000, 9, -999.000, 9,   -999.0, 9,   -999.0, 9, -999.0000,   -999.00,   -999.0, 9,   -999.0,  -999.00, 9,   -999.0,  25.7949, 23.3875,  25.8163, 2, 9, -999.00, -999.00, -999.00, -999.000,  -999.00, 9, -999.00, -999.00, 9, -999.00
49NZ20071122, P14, 51, 1, 15, X12021, 9, 20071213, 2219, -18.5977, 177.9330, 892,    149.9, 2,  24.3213, 2,  35.6032, 2, -999.0000, 9,    174.6, 2,   -999.0, 9,  -999.00, 9,  -999.00, 9,  -999.00, 9,  -999.00, 9, -999.000, 9, -999.000, 9, -999.000, 9, -999.000, 9,   -999.0, 9,   -999.0, 9, -999.0000,   -999.00,   -999.0, 9,   -999.0,  -999.00, 9,   -999.0,  24.2893, 24.0118,  24.3218, 2, 9, -999.00, -999.00, -999.00, -999.000,  -999.00, 9, -999.00, -999.00, 9, -999.00
49NZ20071122, P14, 51, 1, 14, X12020, 9, 20071213, 2219, -18.5977, 177.9330, 892,    198.1, 2,  21.8399, 2,  35.7306, 2, -999.0000, 9,    165.4, 2,   -999.0, 9,  -999.00, 9,  -999.00, 9,  -999.00, 9,  -999.00, 9, -999.000, 9, -999.000, 9, -999.000, 9, -999.000, 9,   -999.0, 9,   -999.0, 9, -999.0000,   -999.00,   -999.0, 9,   -999.0,  -999.00, 9,   -999.0,  21.8008, 24.8289,  21.8303, 2, 9, -999.00, -999.00, -999.00, -999.000,  -999.00, 9, -999.00, -999.00, 9, -999.00
49NZ20071122, P14, 51, 1, 13, X12019, 9, 20071213, 2219, -18.5977, 177.9330, 892,    248.7, 2,  19.4256, 2,  35.5959, 2, -999.0000, 9,    173.0, 2,   -999.0, 9,  -999.00, 9,  -999.00, 9,  -999.00, 9,  -999.00, 9, -999.000, 9, -999.000, 9, -999.000, 9, -999.000, 9,   -999.0, 9,   -999.0, 9, -999.0000,   -999.00,   -999.0, 9,   -999.0,  -999.00, 9,   -999.0,  19.3803, 25.3787,  19.4262, 2, 9, -999.00, -999.00, -999.00, -999.000,  -999.00, 9, -999.00, -999.00, 9, -999.00
49NZ20071122, P14, 51, 1, 12, X12040, 9, 20071213, 2219, -18.5977, 177.9330, 892,    300.0, 2,  17.5287, 2,  35.4239, 2, -999.0000, 9,    177.3, 2,   -999.0, 9,  -999.00, 9,  -999.00, 9,  -999.00, 9,  -999.00, 9, -999.000, 9, -999.000, 9, -999.000, 9, -999.000, 9,   -999.0, 9,   -999.0, 9, -999.0000,   -999.00,   -999.0, 9,   -999.0,  -999.00, 9,   -999.0,  17.4779, 25.7248,  17.5323, 2, 9, -999.00, -999.00, -999.00, -999.000,  -999.00, 9, -999.00, -999.00, 9, -999.00
49NZ20071122, P14, 51, 1, 11, X12047, 9, 20071213, 2219, -18.5977, 177.9330, 892,    400.8, 2,  13.2117, 2,  34.9769, 2, -999.0000, 9,    180.7, 2,   -999.0, 9,  -999.00, 9,  -999.00, 9,  -999.00, 9,  -999.00, 9, -999.000, 9, -999.000, 9, -999.000, 9, -999.000, 9,   -999.0, 9,   -999.0, 9, -999.0000,   -999.00,   -999.0, 9,   -999.0,  -999.00, 9,   -999.0,  13.1556, 26.3436,  13.2144, 2, 9, -999.00, -999.00, -999.00, -999.000,  -999.00, 9, -999.00, -999.00, 9, -999.00
49NZ20071122, P14, 51, 1, 10, X12012, 9, 20071213, 2219, -18.5977, 177.9330, 892,    499.5, 2,   8.8397, 2,  34.5776, 2, -999.0000, 9,    192.7, 2,   -999.0, 9,  -999.00, 9,  -999.00, 9,  -999.00, 9,  -999.00, 9, -999.000, 9, -999.000, 9, -999.000, 9, -999.000, 9,   -999.0, 9,   -999.0, 9, -999.0000,   -999.00,   -999.0, 9,   -999.0,  -999.00, 9,   -999.0,   8.7854, 26.8215,   8.8399, 2, 9, -999.00, -999.00, -999.00, -999.000,  -999.00, 9, -999.00, -999.00, 9, -999.00
49NZ20071122, P14, 51, 1, 9, X12015, 9, 20071213, 2219, -18.5977, 177.9330, 892,    599.5, 2,   7.1387, 2,  34.4387, 2, -999.0000, 9,    199.5, 2,   -999.0, 9,  -999.00, 9,  -999.00, 9,  -999.00, 9,  -999.00, 9, -999.000, 9, -999.000, 9, -999.000, 9, -999.000, 9,   -999.0, 9,   -999.0, 9, -999.0000,   -999.00,   -999.0, 9,   -999.0,  -999.00, 9,   -999.0,   7.0808, 26.9654,   7.1416, 2, 9, -999.00, -999.00, -999.00, -999.000,  -999.00, 9, -999.00, -999.00, 9, -999.00
49NZ20071122, P14, 51, 1, 8, X12046, 9, 20071213, 2219, -18.5977, 177.9330, 892,    700.2, 2,   6.2556, 2,  34.4004, 2, -999.0000, 9,    195.8, 2,   -999.0, 9,  -999.00, 9,  -999.00, 9,  -999.00, 9,  -999.00, 9, -999.000, 9, -999.000, 9, -999.000, 9, -999.000, 9,   -999.0, 9,   -999.0, 9, -999.0000,   -999.00,   -999.0, 9,   -999.0,  -999.00, 9,   -999.0,   6.1922, 27.0542,   6.2556, 2, 9, -999.00, -999.00, -999.00, -999.000,  -999.00, 9, -999.00, -999.00, 9, -999.00
49NZ20071122, P14, 51, 1, 7, X12044, 9, 20071213, 2219, -18.5977, 177.9330, 892,    799.3, 2,   5.4980, 2,  34.4005, 2, -999.0000, 9,    185.0, 2,   -999.0, 9,  -999.00, 9,  -999.00, 9,  -999.00, 9,  -999.00, 9, -999.000, 9, -999.000, 9, -999.000, 9, -999.000, 9,   -999.0, 9,   -999.0, 9, -999.0000,   -999.00,   -999.0, 9,   -999.0,  -999.00, 9,   -999.0,   5.4297, 27.1494,   5.4979, 2, 9, -999.00, -999.00, -999.00, -999.000,  -999.00, 9, -999.00, -999.00, 9, -999.00
49NZ20071122, P14, 51, 1, 1, X12001, 2, 20071213, 2219, -18.5977, 177.9330, 892,    876.2, 2,   4.5767, 2,  34.4314, 2,  34.4292, 6,    172.3, 2,    172.0, 2,    44.83, 2,    31.97, 2,     0.00, 2,     2.24, 2,    0.227, 2,    0.118, 2,    0.000, 2, -999.000, 9,   -999.0, 9,   -999.0, 9, -999.0000,   -999.00,   -999.0, 9,   -999.0,  -999.00, 9,   -999.0,   4.5074, 27.2799,   4.5775, 2, 9, 0.22, 0.12, 0.01, 0.016,  -999.00, 9, -999.00, -999.00, 9, -999.00