BOTTLE,20220820CCHSIOAMB
EXPOCODE,SECT_ID,STNNBR,CASTNO,SAMPNO,BTLNBR,BTLNBR_FLAG_W,DATE,TIME,LATITUDE,LONGITUDE,DEPTH,CTDPRS,CTDPRS_FLAG_W,CTDTMP,CTDTMP_FLAG_W,CTDSAL,CTDSAL_FLAG_W,SALNTY,SALNTY_FLAG_W,CTDOXY,CTDOXY_FLAG_W,OXYGEN,OXYGEN_FLAG_W,SILCAT,SILCAT_FLAG_W,NITRAT,NITRAT_FLAG_W,NITRIT,NITRIT_FLAG_W,PHSPHT,PHSPHT_FLAG_W,CFC-11,CFC-11_FLAG_W,CFC-12,CFC-12_FLAG_W,CFC113,CFC113_FLAG_W,CCL4,CCL4_FLAG_W,TCARBN,TCARBN_FLAG_W,ALKALI,ALKALI_FLAG_W,PH_TOT,PH_TMP,DELC14,DELC14_FLAG_W,C14ERR,DELC13,DELC13_FLAG_W,C13ERR,THETA,SIG0,SBE35,SBE35_FLAG_W,PH_TOT_FLAG_W,SILUNC,NRAUNC,NRIUNC,PHPUNC,CS-137,CS-137_FLAG_W,CS137ER,PLUTO,PLUTO_FLAG_W,PLUTOER
,,,,,,,,,,,METERS,DBAR,,ITS-90,,PSS-78,,PSS-78,,UMOL/KG,,UMOL/KG,,UMOL/KG,,UMOL/KG,,UMOL/KG,,UMOL/KG,,PMOL/KG,,PMOL/KG,,PMOL/KG,,PMOL/KG,,UMOL/KG,,UMOL/KG,,,DEG C,/MILLE,,/MILLE,/MILLE,,/MILLE,DEG C,KG/M^3,ITS-90,,,UMOL/KG,UMOL/KG,UMOL/KG,UMOL/KG,DM/.1MG,,BQ/M^3,MBQ/M^3,,MBQ/M^3
49NZ20071122, P14N, 149, 1, 36, X12042, 2, 20071204, 0752, -1.5478, 179.0023, 5455,     10.2, 2,  27.2627, 2,  35.3504, 2,  35.3485, 2,    200.0, 2,    199.7, 2,     1.88, 2,     3.48, 2,     0.39, 2,     0.45, 2,    1.596, 2,    0.970, 2,    0.196, 4, -999.000, 9,   2023.4, 2,   2326.2, 2,    8.0461,     25.00,   -999.0, 9,   -999.0,  -999.00, 9,   -999.0,  27.2603, 22.8982,  27.2677, 2, 6, 0.12, 0.04, 0.00, 0.013,  -999.00, 9, -999.00, -999.00, 9, -999.00
49NZ20071122, P14N, 149, 1, 35, X12041, 2, 20071204, 0752, -1.5478, 179.0023, 5455,     49.9, 2,  27.2175, 2,  35.4136, 2,  35.4188, 2,    199.0, 2,    198.4, 2,     1.86, 2,     3.48, 2,     0.38, 2,     0.47, 2,    1.588, 2,    0.968, 2,    0.177, 4, -999.000, 9,   2027.2, 6,   2331.0, 2,    8.0483,     25.00,   -999.0, 9,   -999.0,  -999.00, 9,   -999.0,  27.2060, 22.9633,  27.2178, 2, 2, 0.12, 0.04, 0.00, 0.013,  -999.00, 9, -999.00, -999.00, 9, -999.00
49NZ20071122, P14N, 149, 1, 34, X12016, 2, 20071204, 0752, -1.5478, 179.0023, 5455,     99.9, 2,  26.6875, 2,  35.3376, 2,  35.3399, 2,    193.3, 2,    195.2, 2,     2.00, 2,     3.93, 2,     0.34, 2,     0.50, 2,    1.636, 2,    1.001, 2,    0.207, 4, -999.000, 9,   2030.3, 2,   2325.2, 6,    8.0332,     25.00,   -999.0, 9,   -999.0,  -999.00, 9,   -999.0,  26.6648, 23.0789,  26.6864, 2, 2, 0.12, 0.04, 0.00, 0.013,  -999.00, 9, -999.00, -999.00, 9, -999.00
49NZ20071122, P14N, 149, 1, 33, X12033, 2, 20071204, 0752, -1.5478, 179.0023, 5455,    150.7, 2,  26.0685, 2,  35.7307, 2,  35.7555, 2,    157.8, 2,    163.8, 2,     1.93, 2,     6.65, 2,     0.52, 2,     0.70, 2,    1.698, 6,    1.030, 6,    0.151, 4, -999.000, 9,   2071.3, 2,   2351.6, 2,    7.9976,     25.00,   -999.0, 9,   -999.0,  -999.00, 9,   -999.0,  26.0347, 23.5739,  26.0581, 2, 6, 0.12, 0.05, 0.00, 0.013,  -999.00, 9, -999.00, -999.00, 9, -999.00
49NZ20071122, P14N, 149, 1, 32, X12038, 2, 20071204, 0752, -1.5478, 179.0023, 5455,    205.3, 2,  19.1306, 2,  35.5730, 2,  35.5843, 2,    119.6, 2,    120.4, 2,     4.90, 2,    12.98, 2,     0.03, 2,     1.08, 2,    1.861, 2,    1.059, 2,    0.058, 2, -999.000, 9,   2138.3, 2,   2342.7, 2,    7.8591,     25.00,   -999.0, 9,   -999.0,  -999.00, 9,   -999.0,  19.0937, 25.4352,  19.1311, 2, 2, 0.13, 0.07, 0.01, 0.013,  -999.00, 9, -999.00, -999.00, 9, -999.00
49NZ20071122, P14N, 149, 1, 31, X12003, 2, 20071204, 0752, -1.5478, 179.0023, 5455,    248.1, 2,  16.4020, 2,  35.3191, 2,  35.3075, 6,    119.6, 2,    125.1, 2,     7.52, 2,    15.64, 2,     0.02, 2,     1.23, 2,    1.760, 2,    0.969, 2,    0.027, 2, -999.000, 9,   2148.6, 2,   2326.6, 2,    7.8117,     25.00,   -999.0, 9,   -999.0,  -999.00, 9,   -999.0,  16.3619, 25.9095,  16.4036, 2, 2, 0.14, 0.08, 0.01, 0.013,  -999.00, 9, -999.00, -999.00, 9, -999.00
49NZ20071122, P14N, 149, 1, 30, X12008, 2, 20071204, 0752, -1.5478, 179.0023, 5455,    328.1, 2,  12.0074, 2,  34.8799, 2,  34.8691, 2,    114.9, 2,    114.4, 2,    18.13, 2,    23.23, 2,     0.02, 2,     1.69, 2,    1.214, 2,    0.645, 2,    0.013, 2, -999.000, 9,   2181.5, 2,   2308.1, 2,    7.6975,     25.00,   -999.0, 9,   -999.0,  -999.00, 9,   -999.0,  11.9644, 26.5026,  12.0084, 2, 2, 0.16, 0.10, 0.01, 0.014,  -999.00, 9, -999.00, -999.00, 9, -999.00
49NZ20071122, P14N, 149, 1, 29, X12035, 2, 20071204, 0752, -1.5478, 179.0023, 5455,    430.9, 2,  10.1049, 2,  34.7358, 2,  34.7334, 2,     58.1, 2,     56.0, 2,    27.96, 2,    32.48, 2,     0.02, 2,     2.28, 2,    0.524, 2,    0.284, 2,    0.013, 2, -999.000, 9,   2237.3, 2,   2305.7, 2,    7.5407,     25.00,   -999.0, 9,   -999.0,  -999.00, 9,   -999.0,  10.0541, 26.7364,  10.1056, 2, 2, 0.18, 0.12, 0.01, 0.016,  -999.00, 9, -999.00, -999.00, 9, -999.00
49NZ20071122, P14N, 149, 1, 28, X12034, 2, 20071204, 0752, -1.5478, 179.0023, 5455,    531.7, 2,   8.4619, 2,  34.6354, 2,  34.6339, 6,     73.8, 2,     87.9, 2,    31.86, 2,    32.56, 2,     0.01, 2,     2.29, 2,    0.399, 2,    0.210, 2,    0.006, 2, -999.000, 9,   2231.0, 2,   2308.2, 2,    7.5630,     25.00,   -999.0, 9,   -999.0,  -999.00, 9,   -999.0,   8.4054, 26.9260,   8.4635, 2, 2, 0.19, 0.12, 0.01, 0.016,  -999.00, 9, -999.00, -999.00, 9, -999.00
49NZ20071122, P14N, 149, 1, 27, X12049, 2, 20071204, 0752, -1.5478, 179.0023, 5455,    629.5, 2,   6.8980, 2,  34.5695, 2,  34.5678, 2,     82.6, 2,     73.4, 2,    46.56, 2,    37.27, 2,     0.01, 2,     2.65, 2,    0.115, 2,    0.062, 2,    0.004, 2, -999.000, 9,   2259.9, 2,   2317.7, 2,    7.5056,     25.00,   -999.0, 9,   -999.0,  -999.00, 9,   -999.0,   6.8381, 27.1019,   6.8987, 2, 2, 0.22, 0.14, 0.01, 0.017,  -999.00, 9, -999.00, -999.00, 9, -999.00
49NZ20071122, P14N, 149, 1, 26, X12032, 2, 20071204, 0752, -1.5478, 179.0023, 5455,    730.8, 2,   5.8937, 2,  34.5362, 2,  34.5357, 2,    102.9, 2,    102.2, 2,    53.47, 2,    36.14, 2,     0.01, 2,     2.58, 2,    0.111, 6,    0.061, 6,    0.000, 6, -999.000, 9,   2256.6, 6,   2327.7, 2,    7.5406,     25.00,   -999.0, 9,   -999.0,  -999.00, 9,   -999.0,   5.8292, 27.2077,   5.8940, 2, 2, 0.24, 0.13, 0.01, 0.016,  -999.00, 9, -999.00, -999.00, 9, -999.00
49NZ20071122, P14N, 149, 1, 25, X12043, 2, 20071204, 0752, -1.5478, 179.0023, 5455,    832.7, 2,   5.2773, 2,  34.5345, 2,  34.5346, 2,    104.0, 2,    102.7, 2,    62.64, 2,    36.88, 2,     0.01, 2,     2.63, 2,    0.062, 2,    0.034, 2,    0.000, 2, -999.000, 9,   2266.3, 2,   2336.9, 6,    7.5345,     25.00,   -999.0, 9,   -999.0,  -999.00, 9,   -999.0,   5.2071, 27.2820,   5.2782, 2, 2, 0.26, 0.14, 0.01, 0.017,  -999.00, 9, -999.00, -999.00, 9, -999.00
49NZ20071122, P14N, 149, 1, 24, X12030, 2, 20071204, 0752, -1.5478, 179.0023, 5455,    930.3, 2,   4.9588, 2,  34.5424, 2,  34.5422, 2,     96.0, 2,     95.2, 2,    70.82, 2,    37.96, 2,     0.01, 2,     2.71, 2,    0.031, 2,    0.016, 2,    0.000, 2, -999.000, 9,   2281.1, 2,   2344.4, 2,    7.5196,     25.00,   -999.0, 9,   -999.0,  -999.00, 9,   -999.0,   4.8820, 27.3260,   4.9589, 2, 2, 0.27, 0.14, 0.01, 0.017,  -999.00, 9, -999.00, -999.00, 9, -999.00
49NZ20071122, P14N, 149, 1, 23, X12027, 2, 20071204, 0752, -1.5478, 179.0023, 5455,   1070.1, 2,   4.3109, 2,  34.5547, 2,  34.5551, 6,     96.5, 2,     96.3, 2,    84.02, 2,    38.62, 2,     0.01, 2,     2.77, 2,    0.009, 2,    0.003, 2,    0.000, 2, -999.000, 9,   2296.4, 2,   2359.6, 2,    7.5163,     25.00,   -999.0, 9,   -999.0,  -999.00, 9,   -999.0,   4.2267, 27.4081,   4.3112, 2, 2, 0.30, 0.14, 0.01, 0.017,  -999.00, 9, -999.00, -999.00, 9, -999.00
49NZ20071122, P14N, 149, 1, 22, X12028, 2, 20071204, 0752, -1.5478, 179.0023, 5455,   1269.8, 2,   3.6128, 2,  34.5741, 2,  34.5743, 2,    102.4, 2,    102.6, 2,    97.47, 2,    38.61, 2,     0.01, 2,     2.77, 2,    0.002, 2,    0.002, 2,    0.000, 2, -999.000, 9,   2308.0, 2,   2374.8, 2,    7.5233,     25.00,   -999.0, 9,   -999.0,  -999.00, 9,   -999.0,   3.5178, 27.4960,   3.6129, 2, 2, 0.33, 0.14, 0.01, 0.017,  -999.00, 9, -999.00, -999.00, 9, -999.00
49NZ20071122, P14N, 149, 1, 21, X12009, 2, 20071204, 0752, -1.5478, 179.0023, 5455,   1472.9, 2,   3.0117, 2,  34.5996, 2,  34.6004, 2,    105.5, 2,    105.5, 2,   112.15, 2,    38.71, 2,     0.01, 2,     2.77, 2,    0.000, 2,    0.000, 2,    0.000, 2, -999.000, 9,   2321.9, 2,   2389.8, 2,    7.5257,     25.00,   -999.0, 9,   -999.0,  -999.00, 9,   -999.0,   2.9059, 27.5740,   3.0119, 2, 2, 0.37, 0.14, 0.01, 0.017,  -999.00, 9, -999.00, -999.00, 9, -999.00
49NZ20071122, P14N, 149, 1, 20, X12026, 2, 20071204, 0752, -1.5478, 179.0023, 5455,   1670.7, 2,   2.6705, 2,  34.6162, 2,  34.6173, 2,    108.3, 2,    108.0, 2,   122.00, 2,    38.68, 2,     0.01, 2,     2.77, 2,    0.000, 2,    0.000, 2,    0.000, 2, -999.000, 9,   2330.2, 2,   2400.5, 2,    7.5302,     25.00,   -999.0, 9,   -999.0,  -999.00, 9,   -999.0,   2.5523, 27.6186,   2.6700, 2, 6, 0.39, 0.14, 0.01, 0.017,  -999.00, 9, -999.00, -999.00, 9, -999.00
49NZ20071122, P14N, 149, 1, 19, X12025, 2, 20071204, 0752, -1.5478, 179.0023, 5455,   1869.8, 2,   2.3543, 2,  34.6326, 2,  34.6332, 2,    114.1, 2,    113.4, 2,   128.63, 2,    38.30, 2,     0.01, 2,     2.73, 2,    0.000, 2,    0.000, 2,    0.000, 2, -999.000, 9,   2335.9, 2,   2407.8, 2,    7.5389,     25.00,   -999.0, 9,   -999.0,  -999.00, 9,   -999.0,   2.2236, 27.6593,   2.3544, 2, 2, 0.40, 0.14, 0.01, 0.017,  -999.00, 9, -999.00, -999.00, 9, -999.00
49NZ20071122, P14N, 149, 1, 18, X12024, 2, 20071204, 0752, -1.5478, 179.0023, 5455,   2069.3, 2,   2.2081, 2,  34.6412, 2,  34.6414, 2,    116.6, 2,    116.3, 2,   132.70, 2,    38.29, 2,     0.01, 2,     2.72, 2, -999.000, 9, -999.000, 9, -999.000, 9, -999.000, 9,   2338.3, 2,   2412.1, 2,    7.5439,     25.00,   -999.0, 9,   -999.0,  -999.00, 9,   -999.0,   2.0625, 27.6793,   2.2081, 2, 2, 0.41, 0.14, 0.01, 0.017,  -999.00, 9, -999.00, -999.00, 9, -999.00
49NZ20071122, P14N, 149, 1, 17, X12023, 2, 20071204, 0752, -1.5478, 179.0023, 5455,   2270.5, 2,   2.0321, 2,  34.6516, 2,  34.6518, 6,    121.3, 2,    120.9, 2,   136.41, 2,    38.18, 2,     0.01, 2,     2.70, 2, -999.000, 9, -999.000, 9, -999.000, 9, -999.000, 9,   2338.6, 2,   2416.8, 2,    7.5521,     25.00,   -999.0, 9,   -999.0,  -999.00, 9,   -999.0,   1.8718, 27.7026,   2.0321, 2, 2, 0.42, 0.14, 0.01, 0.017,  -999.00, 9, -999.00, -999.00, 9, -999.00
49NZ20071122, P14N, 149, 1, 16, X12022, 2, 20071204, 0752, -1.5478, 179.0023, 5455,   2467.4, 2,   1.9162, 2,  34.6587, 2,  34.6587, 2,    123.1, 2,    122.9, 2,   140.02, 2,    37.99, 2,     0.01, 2,     2.68, 2,    0.003, 2,    0.004, 2,    0.000, 2, -999.000, 9,   2342.9, 6,   2420.7, 2,    7.5553,     25.00,   -999.0, 9,   -999.0,  -999.00, 9,   -999.0,   1.7404, 27.7184,   1.9162, 2, 2, 0.43, 0.14, 0.01, 0.017,  -999.00, 9, -999.00, -999.00, 9, -999.00
49NZ20071122, P14N, 149, 1, 15, X12021, 2, 20071204, 0752, -1.5478, 179.0023, 5455,   2668.6, 2,   1.8402, 2,  34.6627, 2,  34.6627, 2,    126.8, 2,    126.6, 2,   141.07, 2,    37.85, 2,     0.01, 2,     2.66, 2, -999.000, 9, -999.000, 9, -999.000, 9, -999.000, 9,   2342.5, 2,   2421.6, 6,    7.5600,     25.00,   -999.0, 9,   -999.0,  -999.00, 9,   -999.0,   1.6475, 27.7286,   1.8402, 2, 2, 0.43, 0.14, 0.01, 0.017,  -999.00, 9, -999.00, -999.00, 9, -999.00
49NZ20071122, P14N, 149, 1, 14, X12020, 2, 20071204, 0752, -1.5478, 179.0023, 5455,   2869.2, 2,   1.7245, 2,  34.6680, 2,  34.6677, 2,    133.7, 2,    133.1, 2,   141.43, 2,    37.39, 2,     0.01, 2,     2.63, 2, -999.000, 9, -999.000, 9, -999.000, 9, -999.000, 9,   2337.5, 2,   2420.6, 2,    7.5686,     25.00,   -999.0, 9,   -999.0,  -999.00, 9,   -999.0,   1.5153, 27.7426,   1.7245, 2, 6, 0.43, 0.14, 0.01, 0.017,  -999.00, 9, -999.00, -999.00, 9, -999.00
49NZ20071122, P14N, 149, 1, 13, X12019, 2, 20071204, 0752, -1.5478, 179.0023, 5455,   3079.1, 2,   1.6482, 2,  34.6717, 2,  34.6717, 2,    138.8, 2,    138.7, 2,   141.13, 2,    36.94, 2,     0.01, 2,     2.59, 2,    0.000, 2,    0.000, 2,    0.000, 2, -999.000, 9,   2333.5, 2,   2420.5, 2,    7.5761,     25.00,   -999.0, 9,   -999.0,  -999.00, 9,   -999.0,   1.4205, 27.7525,   1.6481, 2, 2, 0.43, 0.14, 0.01, 0.016,  -999.00, 9, -999.00, -999.00, 9, -999.00
49NZ20071122, P14N, 149, 1, 12, X12040, 2, 20071204, 0752, -1.5478, 179.0023, 5455,   3329.1, 2,   1.6169, 2,  34.6776, 2,  34.6773, 2,    145.5, 2,    146.4, 2,   138.14, 2,    36.31, 2,     0.01, 2,     2.54, 2, -999.000, 9, -999.000, 9, -999.000, 9, -999.000, 9,   2329.0, 2,   2417.4, 2,    7.5876,     25.00,   -999.0, 9,   -999.0,  -999.00, 9,   -999.0,   1.3652, 27.7611,   1.6168, 2, 2, 0.42, 0.13, 0.01, 0.016,  -999.00, 9, -999.00, -999.00, 9, -999.00
49NZ20071122, P14N, 149, 1, 11, X12047, 2, 20071204, 0752, -1.5478, 179.0023, 5455,   3579.1, 2,   1.5174, 2,  34.6837, 2,  34.6836, 2,    153.1, 2,    153.4, 2,   138.21, 2,    35.92, 2,     0.01, 2,     2.52, 2, -999.000, 9, -999.000, 9, -999.000, 9, -999.000, 9,   2324.4, 2,   2416.7, 2,    7.5962,     25.00,   -999.0, 9,   -999.0,  -999.00, 9,   -999.0,   1.2427, 27.7747,   1.5174, 2, 2, 0.42, 0.13, 0.01, 0.016,  -999.00, 9, -999.00, -999.00, 9, -999.00
49NZ20071122, P14N, 149, 1, 10, X12012, 2, 20071204, 0752, -1.5478, 179.0023, 5455,   3830.4, 2,   1.4792, 2,  34.6883, 2,  34.6878, 2,    159.0, 2,    158.9, 2,   136.93, 2,    35.62, 2,     0.01, 2,     2.49, 2,    0.004, 2,    0.001, 2,    0.000, 2, -999.000, 9,   2319.7, 2,   2416.7, 2,    7.6044,     25.00,   -999.0, 9,   -999.0,  -999.00, 9,   -999.0,   1.1791, 27.7827,   1.4791, 2, 2, 0.42, 0.13, 0.01, 0.016,  -999.00, 9, -999.00, -999.00, 9, -999.00
49NZ20071122, P14N, 149, 1, 9, X12015, 2, 20071204, 0752, -1.5478, 179.0023, 5455,   4081.2, 2,   1.3931, 2,  34.6944, 2,  34.6943, 6,    167.9, 2,    168.0, 2,   134.68, 2,    35.01, 2,     0.01, 2,     2.43, 2,    0.003, 2,    0.003, 2,    0.000, 2, -999.000, 9,   2313.8, 2,   2412.5, 2,    7.6154,     25.00,   -999.0, 9,   -999.0,  -999.00, 9,   -999.0,   1.0683, 27.7952,   1.3930, 2, 2, 0.42, 0.13, 0.01, 0.016,  -999.00, 9, -999.00, -999.00, 9, -999.00
49NZ20071122, P14N, 149, 1, 8, X12046, 2, 20071204, 0752, -1.5478, 179.0023, 5455,   4329.8, 2,   1.3339, 2,  34.6986, 2,  34.6987, 2,    177.2, 2,    177.7, 2,   129.34, 2,    34.24, 2,     0.01, 2,     2.39, 2,    0.003, 2,    0.003, 2,    0.000, 2, -999.000, 9,   2300.3, 6,   2402.4, 2,    7.6193,     25.00,   -999.0, 9,   -999.0,  -999.00, 9,   -999.0,   0.9833, 27.8043,   1.3339, 2, 2, 0.40, 0.13, 0.01, 0.016,  -999.00, 9, -999.00, -999.00, 9, -999.00
49NZ20071122, P14N, 149, 1, 7, X12044, 2, 20071204, 0752, -1.5478, 179.0023, 5455,   4578.3, 2,   1.2760, 2,  34.7022, 2,  34.7023, 2,    185.7, 2,    185.9, 2,   125.48, 2,    33.66, 2,     0.01, 2,     2.35, 2,    0.005, 2,    0.004, 2,    0.000, 2, -999.000, 9,   2290.5, 2,   2393.6, 6,    7.6234,     25.00,   -999.0, 9,   -999.0,  -999.00, 9,   -999.0,   0.8989, 27.8127,   1.2759, 2, 2, 0.40, 0.13, 0.01, 0.016,  -999.00, 9, -999.00, -999.00, 9, -999.00
49NZ20071122, P14N, 149, 1, 6, X12048, 2, 20071204, 0752, -1.5478, 179.0023, 5455,   4830.4, 2,   1.2562, 2,  34.7046, 2,  34.7045, 2,    191.2, 2,    190.9, 2,   122.69, 2,    33.27, 2,     0.01, 2,     2.31, 2,    0.007, 2,    0.004, 2,    0.000, 2, -999.000, 9,   2281.6, 2,   2387.1, 2,    7.6249,     25.00,   -999.0, 9,   -999.0,  -999.00, 9,   -999.0,   0.8503, 27.8178,   1.2562, 2, 6, 0.39, 0.13, 0.01, 0.016,  -999.00, 9, -999.00, -999.00, 9, -999.00
49NZ20071122, P14N, 149, 1, 5, X12014, 2, 20071204, 0752, -1.5478, 179.0023, 5455,   5078.3, 2,   1.2641, 2,  34.7054, 2,  34.7054, 2,    193.4, 2,    193.5, 2,   121.53, 2,    33.16, 2,     0.01, 2,     2.30, 2,    0.006, 2,    0.004, 2,    0.000, 2, -999.000, 9,   2279.0, 2,   2381.9, 2,    7.6248,     25.00,   -999.0, 9,   -999.0,  -999.00, 9,   -999.0,   0.8283, 27.8198,   1.2641, 2, 2, 0.39, 0.13, 0.01, 0.016,  -999.00, 9, -999.00, -999.00, 9, -999.00
49NZ20071122, P14N, 149, 1, 4, X12006, 2, 20071204, 0752, -1.5478, 179.0023, 5455,   5328.4, 2,   1.2819, 2,  34.7058, 2,  34.7056, 2,    194.7, 2,    194.7, 2,   120.88, 2,    32.95, 2,     0.01, 2,     2.30, 2,    0.011, 2,    0.009, 2,    0.000, 2, -999.000, 9,   2276.1, 2,   2381.7, 2,    7.6248,     25.00,   -999.0, 9,   -999.0,  -999.00, 9,   -999.0,   0.8147, 27.8210,   1.2819, 2, 2, 0.38, 0.13, 0.01, 0.016,  -999.00, 9, -999.00, -999.00, 9, -999.00
49NZ20071122, P14N, 149, 1, 3, X12013, 9, 20071204, 0752, -1.5478, 179.0023, 5455,     10.4, 2,  27.2209, 2,  35.3497, 2, -999.0000, 9,    201.3, 2,   -999.0, 9,  -999.00, 9,  -999.00, 9,  -999.00, 9,  -999.00, 9, -999.000, 9, -999.000, 9, -999.000, 9, -999.000, 9,   -999.0, 9,   -999.0, 9, -999.0000,   -999.00,   -999.0, 9,   -999.0,  -999.00, 9,   -999.0,  27.2185, 22.9111,  27.2164, 2, 9, -999.00, -999.00, -999.00, -999.000,  -999.00, 9, -999.00, -999.00, 9, -999.00
49NZ20071122, P14N, 149, 1, 2, X12002, 9, 20071204, 0752, -1.5478, 179.0023, 5455,     49.7, 2,  27.2354, 2,  35.4209, 2, -999.0000, 9,    199.0, 2,   -999.0, 9,  -999.00, 9,  -999.00, 9,  -999.00, 9,  -999.00, 9, -999.000, 9, -999.000, 9, -999.000, 9, -999.000, 9,   -999.0, 9,   -999.0, 9, -999.0000,   -999.00,   -999.0, 9,   -999.0,  -999.00, 9,   -999.0,  27.2239, 22.9630,  27.2345, 2, 9, -999.00, -999.00, -999.00, -999.000,  -999.00, 9, -999.00, -999.00, 9, -999.00
49NZ20071122, P14N, 149, 1, 1, X12001, 2, 20071204, 0752, -1.5478, 179.0023, 5455,   5544.7, 2,   1.3081, 2,  34.7059, 2,  34.7058, 6,    195.1, 2,    194.9, 2,   120.81, 2,    33.00, 2,     0.01, 2,     2.30, 2,    0.013, 2,    0.009, 2,    0.000, 2, -999.000, 9,   2276.0, 2,   2381.6, 2,    7.6244,     25.00,   -999.0, 9,   -999.0,  -999.00, 9,   -999.0,   0.8127, 27.8212,   1.3081, 2, 2, 0.38, 0.13, 0.01, 0.016,  -999.00, 9, -999.00, -999.00, 9, -999.00