BOTTLE,20220820CCHSIOAMB
EXPOCODE,SECT_ID,STNNBR,CASTNO,SAMPNO,BTLNBR,BTLNBR_FLAG_W,DATE,TIME,LATITUDE,LONGITUDE,DEPTH,CTDPRS,CTDPRS_FLAG_W,CTDTMP,CTDTMP_FLAG_W,CTDSAL,CTDSAL_FLAG_W,SALNTY,SALNTY_FLAG_W,CTDOXY,CTDOXY_FLAG_W,OXYGEN,OXYGEN_FLAG_W,SILCAT,SILCAT_FLAG_W,NITRAT,NITRAT_FLAG_W,NITRIT,NITRIT_FLAG_W,PHSPHT,PHSPHT_FLAG_W,CFC-11,CFC-11_FLAG_W,CFC-12,CFC-12_FLAG_W,CFC113,CFC113_FLAG_W,CCL4,CCL4_FLAG_W,TCARBN,TCARBN_FLAG_W,ALKALI,ALKALI_FLAG_W,PH_TOT,PH_TMP,DELC14,DELC14_FLAG_W,C14ERR,DELC13,DELC13_FLAG_W,C13ERR,THETA,SIG0,SBE35,SBE35_FLAG_W,PH_TOT_FLAG_W,SILUNC,NRAUNC,NRIUNC,PHPUNC,CS-137,CS-137_FLAG_W,CS137ER,PLUTO,PLUTO_FLAG_W,PLUTOER
,,,,,,,,,,,METERS,DBAR,,ITS-90,,PSS-78,,PSS-78,,UMOL/KG,,UMOL/KG,,UMOL/KG,,UMOL/KG,,UMOL/KG,,UMOL/KG,,PMOL/KG,,PMOL/KG,,PMOL/KG,,PMOL/KG,,UMOL/KG,,UMOL/KG,,,DEG C,/MILLE,,/MILLE,/MILLE,,/MILLE,DEG C,KG/M^3,ITS-90,,,UMOL/KG,UMOL/KG,UMOL/KG,UMOL/KG,DM/.1MG,,BQ/M^3,MBQ/M^3,,MBQ/M^3
49NZ20071122, P14, 48, 1, 36, X12042, 2, 20071213, 1241, -18.8843, 177.7495, 2146,     10.5, 2,  28.2156, 2,  34.6442, 2,  34.6441, 2,    199.9, 2,    200.7, 2,     0.90, 2,     0.02, 2,     0.00, 2,     0.11, 2,    1.515, 2,    0.931, 2,    0.334, 4, -999.000, 9,   1925.1, 2,   2268.8, 2,    8.1340,     25.00,   -999.0, 9,   -999.0,  -999.00, 9,   -999.0,  28.2131, 22.0574,  28.2146, 2, 6, 0.12, 0.03, 0.01, 0.021,  -999.00, 9, -999.00, -999.00, 9, -999.00
49NZ20071122, P14, 48, 1, 35, X12041, 2, 20071213, 1241, -18.8843, 177.7495, 2146,     50.7, 2,  26.7146, 2,  35.1219, 2,  35.1330, 2,    204.3, 2,    204.9, 2,     0.67, 2,     0.02, 2,     0.00, 2,     0.09, 2,    1.626, 2,    0.991, 2,    0.299, 4, -999.000, 9,   1957.9, 6,   2306.2, 2,    8.1272,     25.00,   -999.0, 9,   -999.0,  -999.00, 9,   -999.0,  26.7031, 22.9041,  26.7131, 2, 2, 0.12, 0.03, 0.01, 0.023,  -999.00, 9, -999.00, -999.00, 9, -999.00
49NZ20071122, P14, 48, 1, 34, X12016, 2, 20071213, 1241, -18.8843, 177.7495, 2146,    100.1, 2,  24.8932, 2,  35.5286, 2,  35.5502, 2,    185.0, 2,    183.8, 2,     0.69, 2,     0.75, 2,     0.14, 2,     0.22, 2,    1.781, 2,    1.056, 2,    0.179, 4, -999.000, 9,   2014.8, 2,   2334.8, 6,    8.0726,     25.00,   -999.0, 9,   -999.0,  -999.00, 9,   -999.0,  24.8715, 23.7799,  24.9188, 2, 2, 0.12, 0.03, 0.01, 0.015,  -999.00, 9, -999.00, -999.00, 9, -999.00
49NZ20071122, P14, 48, 1, 33, X12033, 2, 20071213, 1241, -18.8843, 177.7495, 2146,    150.6, 2,  22.8415, 2,  35.7157, 2,  35.7156, 2,    166.2, 2,    167.0, 2,     0.83, 2,     2.67, 2,     0.03, 2,     0.37, 2,    1.964, 6,    1.154, 6,    0.126, 4, -999.000, 9,   2057.0, 2,   2342.4, 2,    8.0157,     25.00,   -999.0, 9,   -999.0,  -999.00, 9,   -999.0,  22.8108, 24.5311,  22.8416, 2, 2, 0.12, 0.04, 0.01, 0.014,  -999.00, 9, -999.00, -999.00, 9, -999.00
49NZ20071122, P14, 48, 1, 32, X12038, 2, 20071213, 1241, -18.8843, 177.7495, 2146,    201.3, 2,  20.9775, 2,  35.6850, 2,  35.6776, 2,    168.8, 2,    169.3, 2,     0.98, 2,     3.87, 2,     0.01, 2,     0.43, 2,    2.126, 2,    1.222, 2,    0.042, 2, -999.000, 9,   2074.4, 2,   2342.0, 2,    7.9818,     25.00,   -999.0, 9,   -999.0,  -999.00, 9,   -999.0,  20.9388, 25.0322,  20.9701, 2, 2, 0.12, 0.04, 0.01, 0.013,  -999.00, 9, -999.00, -999.00, 9, -999.00
49NZ20071122, P14, 48, 1, 31, X12003, 2, 20071213, 1241, -18.8843, 177.7495, 2146,    249.5, 2,  19.2642, 2,  35.5856, 2,  35.5793, 6,    173.2, 2,    174.0, 2,     1.26, 2,     4.73, 2,     0.01, 2,     0.48, 2,    2.263, 2,    1.273, 2,    0.033, 2, -999.000, 9,   2082.7, 2,   2336.3, 2,    7.9560,     25.00,   -999.0, 9,   -999.0,  -999.00, 9,   -999.0,  19.2191, 25.4126,  19.2694, 2, 2, 0.12, 0.05, 0.01, 0.013,  -999.00, 9, -999.00, -999.00, 9, -999.00
49NZ20071122, P14, 48, 1, 30, X12008, 2, 20071213, 1241, -18.8843, 177.7495, 2146,    299.6, 2,  17.7888, 2,  35.4556, 2,  35.4323, 2,    176.8, 2,    177.6, 2,     1.77, 2,     6.16, 2,     0.01, 2,     0.58, 2,    2.312, 2,    1.275, 2,    0.044, 2, -999.000, 9,   2090.1, 2,   2327.7, 2,    7.9269,     25.00,   -999.0, 9,   -999.0,  -999.00, 9,   -999.0,  17.7375, 25.6857,  17.7883, 2, 2, 0.12, 0.05, 0.01, 0.013,  -999.00, 9, -999.00, -999.00, 9, -999.00
49NZ20071122, P14, 48, 1, 29, X12035, 2, 20071213, 1241, -18.8843, 177.7495, 2146,    402.5, 2,  12.4128, 2,  34.8949, 2,  34.8898, 2,    180.4, 2,    180.8, 2,     5.13, 2,    14.13, 2,     0.01, 2,     1.11, 2,    2.169, 2,    1.108, 2,    0.046, 2, -999.000, 9,   2124.8, 2,   2300.6, 2,    7.8103,     25.00,   -999.0, 9,   -999.0,  -999.00, 9,   -999.0,  12.3587, 26.4383,  12.4134, 2, 2, 0.13, 0.07, 0.01, 0.013,  -999.00, 9, -999.00, -999.00, 9, -999.00
49NZ20071122, P14, 48, 1, 28, X12034, 2, 20071213, 1241, -18.8843, 177.7495, 2146,    501.4, 2,   8.4817, 2,  34.5340, 2,  34.5354, 6,    197.3, 2,    198.5, 2,     9.50, 2,    21.54, 2,     0.00, 2,     1.55, 2,    1.839, 2,    0.904, 2,    0.049, 2, -999.000, 9,   2150.5, 2,   2288.8, 2,    7.7327,     25.00,   -999.0, 9,   -999.0,  -999.00, 9,   -999.0,   8.4285, 26.8429,   8.4580, 2, 2, 0.14, 0.09, 0.01, 0.014,  -999.00, 9, -999.00, -999.00, 9, -999.00
49NZ20071122, P14, 48, 1, 27, X12049, 2, 20071213, 1241, -18.8843, 177.7495, 2146,    599.8, 2,   6.8475, 2,  34.4121, 2,  34.4091, 2,    205.6, 2,    205.7, 2,    13.95, 2,    25.15, 2,     0.00, 2,     1.77, 2,    1.384, 2,    0.665, 2,    0.041, 2, -999.000, 9,   2163.0, 2,   2288.4, 2,    7.7013,     25.00,   -999.0, 9,   -999.0,  -999.00, 9,   -999.0,   6.7909, 26.9842,   6.8495, 2, 2, 0.15, 0.10, 0.01, 0.015,  -999.00, 9, -999.00, -999.00, 9, -999.00
49NZ20071122, P14, 48, 1, 26, X12032, 2, 20071213, 1241, -18.8843, 177.7495, 2146,    700.6, 2,   5.7169, 2,  34.3747, 2,  34.3741, 2,    197.8, 2,    197.7, 2,    22.78, 2,    28.37, 2,     0.00, 2,     1.99, 2,    0.752, 6,    0.368, 6,    0.016, 6, -999.000, 9,   2179.1, 6,   2294.4, 2,    7.6696,     25.00,   -999.0, 9,   -999.0,  -999.00, 9,   -999.0,   5.6564, 27.1014,   5.7176, 2, 2, 0.17, 0.11, 0.01, 0.015,  -999.00, 9, -999.00, -999.00, 9, -999.00
49NZ20071122, P14, 48, 1, 25, X12043, 2, 20071213, 1241, -18.8843, 177.7495, 2146,    799.4, 2,   5.0647, 2,  34.3924, 2,  34.3946, 2,    183.6, 2,    183.4, 2,    34.50, 2,    30.75, 2,     0.00, 2,     2.15, 2,    0.381, 2,    0.191, 2,    0.006, 2, -999.000, 9,   2200.0, 2,   2306.6, 6,    7.6410,     25.00,   -999.0, 9,   -999.0,  -999.00, 9,   -999.0,   4.9990, 27.1937,   5.0650, 2, 2, 0.19, 0.12, 0.01, 0.015,  -999.00, 9, -999.00, -999.00, 9, -999.00
49NZ20071122, P14, 48, 1, 24, X12030, 2, 20071213, 1241, -18.8843, 177.7495, 2146,    899.6, 2,   4.4268, 2,  34.4325, 2,  34.4335, 2,    170.5, 2,    170.6, 2,    48.68, 2,    32.55, 2,     0.00, 2,     2.28, 2,    0.178, 2,    0.091, 2,    0.000, 2, -999.000, 9,   2225.8, 2,   2320.7, 2,    7.6180,     25.00,   -999.0, 9,   -999.0,  -999.00, 9,   -999.0,   4.3566, 27.2971,   4.4270, 2, 6, 0.23, 0.12, 0.01, 0.016,  -999.00, 9, -999.00, -999.00, 9, -999.00
49NZ20071122, P14, 48, 1, 23, X12027, 2, 20071213, 1241, -18.8843, 177.7495, 2146,   1000.3, 2,   3.9635, 2,  34.4643, 2,  34.4663, 6,    163.7, 2,    163.2, 2,    60.04, 2,    33.66, 2,     0.00, 2,     2.36, 2,    0.080, 2,    0.041, 2,    0.000, 2, -999.000, 9,   2239.9, 2,   2333.1, 2,    7.6048,     25.00,   -999.0, 9,   -999.0,  -999.00, 9,   -999.0,   3.8882, 27.3715,   3.9640, 2, 2, 0.25, 0.13, 0.01, 0.016,  -999.00, 9, -999.00, -999.00, 9, -999.00
49NZ20071122, P14, 48, 1, 22, X12028, 2, 20071213, 1241, -18.8843, 177.7495, 2146,   1203.4, 2,   3.5538, 2,  34.5072, 2,  34.5070, 2,    155.1, 2,    155.3, 2,    72.65, 2,    34.68, 2,     0.00, 2,     2.43, 2,    0.029, 2,    0.017, 2,    0.000, 2, -999.000, 9,   2255.7, 2,   2348.1, 2,    7.5945,     25.00,   -999.0, 9,   -999.0,  -999.00, 9,   -999.0,   3.4650, 27.4478,   3.5544, 2, 2, 0.28, 0.13, 0.01, 0.016,  -999.00, 9, -999.00, -999.00, 9, -999.00
49NZ20071122, P14, 48, 1, 21, X12009, 2, 20071213, 1241, -18.8843, 177.7495, 2146,   1399.9, 2,   3.0933, 2,  34.5539, 2,  34.5545, 6,    150.4, 2,    150.8, 2,    87.30, 2,    35.17, 2,     0.00, 2,     2.48, 2,    0.011, 2,    0.008, 2,    0.000, 2, -999.000, 9,   2273.8, 2,   2364.3, 2,    7.5894,     25.00,   -999.0, 9,   -999.0,  -999.00, 9,   -999.0,   2.9928, 27.5296,   3.0935, 2, 2, 0.31, 0.13, 0.01, 0.016,  -999.00, 9, -999.00, -999.00, 9, -999.00
49NZ20071122, P14, 48, 1, 20, X12026, 2, 20071213, 1241, -18.8843, 177.7495, 2146,   1599.9, 2,   2.7242, 2,  34.5896, 2,  34.5894, 2,    148.4, 2,    148.7, 2,    98.62, 2,    35.38, 2,     0.00, 2,     2.50, 2,    0.006, 2,    0.000, 2,    0.000, 2, -999.000, 9,   2287.1, 2,   2377.1, 2,    7.5880,     25.00,   -999.0, 9,   -999.0,  -999.00, 9,   -999.0,   2.6113, 27.5922,   2.7244, 2, 6, 0.34, 0.13, 0.01, 0.016,  -999.00, 9, -999.00, -999.00, 9, -999.00
49NZ20071122, P14, 48, 1, 19, X12025, 2, 20071213, 1241, -18.8843, 177.7495, 2146,   1800.3, 2,   2.4735, 2,  34.6133, 2,  34.6147, 2,    147.9, 2,    148.3, 2,   106.50, 2,    35.59, 2,     0.00, 2,     2.51, 2,    0.002, 2,    0.000, 2,    0.000, 2, -999.000, 9,   2298.5, 2,   2386.0, 2,    7.5881,     25.00,   -999.0, 9,   -999.0,  -999.00, 9,   -999.0,   2.3470, 27.6336,   2.4735, 2, 2, 0.35, 0.13, 0.01, 0.016,  -999.00, 9, -999.00, -999.00, 9, -999.00
49NZ20071122, P14, 48, 1, 18, X12024, 2, 20071213, 1241, -18.8843, 177.7495, 2146,   1999.4, 2,   2.2428, 2,  34.6351, 2,  34.6359, 6,    148.5, 2,    148.9, 2,   112.34, 2,    35.58, 2,     0.00, 2,     2.51, 2,    0.001, 2,    0.000, 2,    0.000, 2, -999.000, 9,   2303.2, 2,   2393.8, 2,    7.5903,     25.00,   -999.0, 9,   -999.0,  -999.00, 9,   -999.0,   2.1027, 27.6711,   2.2425, 2, 2, 0.37, 0.13, 0.01, 0.016,  -999.00, 9, -999.00, -999.00, 9, -999.00
49NZ20071122, P14, 48, 1, 17, X12023, 9, 20071213, 1241, -18.8843, 177.7495, 2146,     10.6, 2,  28.2112, 2,  34.6443, 2, -999.0000, 9,    199.6, 2,   -999.0, 9,  -999.00, 9,  -999.00, 9,  -999.00, 9,  -999.00, 9, -999.000, 9, -999.000, 9, -999.000, 9, -999.000, 9,   -999.0, 9,   -999.0, 9, -999.0000,   -999.00,   -999.0, 9,   -999.0,  -999.00, 9,   -999.0,  28.2087, 22.0589,  28.2099, 2, 9, -999.00, -999.00, -999.00, -999.000,  -999.00, 9, -999.00, -999.00, 9, -999.00
49NZ20071122, P14, 48, 1, 16, X12022, 9, 20071213, 1241, -18.8843, 177.7495, 2146,     50.3, 2,  26.6091, 2,  35.1867, 2, -999.0000, 9,    206.1, 2,   -999.0, 9,  -999.00, 9,  -999.00, 9,  -999.00, 9,  -999.00, 9, -999.000, 9, -999.000, 9, -999.000, 9, -999.000, 9,   -999.0, 9,   -999.0, 9, -999.0000,   -999.00,   -999.0, 9,   -999.0,  -999.00, 9,   -999.0,  26.5977, 22.9863,  26.6141, 2, 9, -999.00, -999.00, -999.00, -999.000,  -999.00, 9, -999.00, -999.00, 9, -999.00
49NZ20071122, P14, 48, 1, 15, X12021, 9, 20071213, 1241, -18.8843, 177.7495, 2146,    100.3, 2,  24.9148, 2,  35.5272, 2, -999.0000, 9,    185.4, 2,   -999.0, 9,  -999.00, 9,  -999.00, 9,  -999.00, 9,  -999.00, 9, -999.000, 9, -999.000, 9, -999.000, 9, -999.000, 9,   -999.0, 9,   -999.0, 9, -999.0000,   -999.00,   -999.0, 9,   -999.0,  -999.00, 9,   -999.0,  24.8931, 23.7723,  24.9229, 2, 9, -999.00, -999.00, -999.00, -999.000,  -999.00, 9, -999.00, -999.00, 9, -999.00
49NZ20071122, P14, 48, 1, 14, X12020, 9, 20071213, 1241, -18.8843, 177.7495, 2146,    150.0, 2,  22.7667, 2,  35.7155, 2, -999.0000, 9,    165.4, 2,   -999.0, 9,  -999.00, 9,  -999.00, 9,  -999.00, 9,  -999.00, 9, -999.000, 9, -999.000, 9, -999.000, 9, -999.000, 9,   -999.0, 9,   -999.0, 9, -999.0000,   -999.00,   -999.0, 9,   -999.0,  -999.00, 9,   -999.0,  22.7362, 24.5524,  22.7958, 2, 9, -999.00, -999.00, -999.00, -999.000,  -999.00, 9, -999.00, -999.00, 9, -999.00
49NZ20071122, P14, 48, 1, 13, X12019, 9, 20071213, 1241, -18.8843, 177.7495, 2146,    200.8, 2,  20.9985, 2,  35.6835, 2, -999.0000, 9,    168.8, 2,   -999.0, 9,  -999.00, 9,  -999.00, 9,  -999.00, 9,  -999.00, 9, -999.000, 9, -999.000, 9, -999.000, 9, -999.000, 9,   -999.0, 9,   -999.0, 9, -999.0000,   -999.00,   -999.0, 9,   -999.0,  -999.00, 9,   -999.0,  20.9599, 25.0253,  20.9979, 2, 9, -999.00, -999.00, -999.00, -999.000,  -999.00, 9, -999.00, -999.00, 9, -999.00
49NZ20071122, P14, 48, 1, 12, X12040, 9, 20071213, 1241, -18.8843, 177.7495, 2146,    249.4, 2,  19.2730, 2,  35.5864, 2, -999.0000, 9,    173.2, 2,   -999.0, 9,  -999.00, 9,  -999.00, 9,  -999.00, 9,  -999.00, 9, -999.000, 9, -999.000, 9, -999.000, 9, -999.000, 9,   -999.0, 9,   -999.0, 9, -999.0000,   -999.00,   -999.0, 9,   -999.0,  -999.00, 9,   -999.0,  19.2279, 25.4109,  19.2722, 2, 9, -999.00, -999.00, -999.00, -999.000,  -999.00, 9, -999.00, -999.00, 9, -999.00
49NZ20071122, P14, 48, 1, 11, X12047, 9, 20071213, 1241, -18.8843, 177.7495, 2146,    299.6, 2,  17.7757, 2,  35.4539, 2, -999.0000, 9,    176.9, 2,   -999.0, 9,  -999.00, 9,  -999.00, 9,  -999.00, 9,  -999.00, 9, -999.000, 9, -999.000, 9, -999.000, 9, -999.000, 9,   -999.0, 9,   -999.0, 9, -999.0000,   -999.00,   -999.0, 9,   -999.0,  -999.00, 9,   -999.0,  17.7244, 25.6876,  17.7716, 2, 9, -999.00, -999.00, -999.00, -999.000,  -999.00, 9, -999.00, -999.00, 9, -999.00
49NZ20071122, P14, 48, 1, 10, X12012, 9, 20071213, 1241, -18.8843, 177.7495, 2146,    401.9, 2,  12.4187, 2,  34.8938, 2, -999.0000, 9,    180.5, 2,   -999.0, 9,  -999.00, 9,  -999.00, 9,  -999.00, 9,  -999.00, 9, -999.000, 9, -999.000, 9, -999.000, 9, -999.000, 9,   -999.0, 9,   -999.0, 9, -999.0000,   -999.00,   -999.0, 9,   -999.0,  -999.00, 9,   -999.0,  12.3647, 26.4363,  12.4197, 2, 9, -999.00, -999.00, -999.00, -999.000,  -999.00, 9, -999.00, -999.00, 9, -999.00
49NZ20071122, P14, 48, 1, 9, X12015, 9, 20071213, 1241, -18.8843, 177.7495, 2146,    500.3, 2,   8.5195, 2,  34.5396, 2, -999.0000, 9,    196.9, 2,   -999.0, 9,  -999.00, 9,  -999.00, 9,  -999.00, 9,  -999.00, 9, -999.000, 9, -999.000, 9, -999.000, 9, -999.000, 9,   -999.0, 9,   -999.0, 9, -999.0000,   -999.00,   -999.0, 9,   -999.0,  -999.00, 9,   -999.0,   8.4663, 26.8415,   8.5152, 2, 9, -999.00, -999.00, -999.00, -999.000,  -999.00, 9, -999.00, -999.00, 9, -999.00
49NZ20071122, P14, 48, 1, 8, X12046, 9, 20071213, 1241, -18.8843, 177.7495, 2146,    599.6, 2,   6.8490, 2,  34.4116, 2, -999.0000, 9,    205.5, 2,   -999.0, 9,  -999.00, 9,  -999.00, 9,  -999.00, 9,  -999.00, 9, -999.000, 9, -999.000, 9, -999.000, 9, -999.000, 9,   -999.0, 9,   -999.0, 9, -999.0000,   -999.00,   -999.0, 9,   -999.0,  -999.00, 9,   -999.0,   6.7924, 26.9836,   6.8499, 2, 9, -999.00, -999.00, -999.00, -999.000,  -999.00, 9, -999.00, -999.00, 9, -999.00
49NZ20071122, P14, 48, 1, 7, X12044, 9, 20071213, 1241, -18.8843, 177.7495, 2146,    699.8, 2,   5.7205, 2,  34.3744, 2, -999.0000, 9,    197.8, 2,   -999.0, 9,  -999.00, 9,  -999.00, 9,  -999.00, 9,  -999.00, 9, -999.000, 9, -999.000, 9, -999.000, 9, -999.000, 9,   -999.0, 9,   -999.0, 9, -999.0000,   -999.00,   -999.0, 9,   -999.0,  -999.00, 9,   -999.0,   5.6600, 27.1007,   5.7210, 2, 9, -999.00, -999.00, -999.00, -999.000,  -999.00, 9, -999.00, -999.00, 9, -999.00
49NZ20071122, P14, 48, 1, 6, X12048, 9, 20071213, 1241, -18.8843, 177.7495, 2146,    799.6, 2,   5.0668, 2,  34.3922, 2, -999.0000, 9,    183.6, 2,   -999.0, 9,  -999.00, 9,  -999.00, 9,  -999.00, 9,  -999.00, 9, -999.000, 9, -999.000, 9, -999.000, 9, -999.000, 9,   -999.0, 9,   -999.0, 9, -999.0000,   -999.00,   -999.0, 9,   -999.0,  -999.00, 9,   -999.0,   5.0011, 27.1933,   5.0677, 2, 9, -999.00, -999.00, -999.00, -999.000,  -999.00, 9, -999.00, -999.00, 9, -999.00
49NZ20071122, P14, 48, 1, 5, X12014, 9, 20071213, 1241, -18.8843, 177.7495, 2146,    899.1, 2,   4.4265, 2,  34.4323, 2, -999.0000, 9,    170.5, 2,   -999.0, 9,  -999.00, 9,  -999.00, 9,  -999.00, 9,  -999.00, 9, -999.000, 9, -999.000, 9, -999.000, 9, -999.000, 9,   -999.0, 9,   -999.0, 9, -999.0000,   -999.00,   -999.0, 9,   -999.0,  -999.00, 9,   -999.0,   4.3563, 27.2970,   4.4268, 2, 9, -999.00, -999.00, -999.00, -999.000,  -999.00, 9, -999.00, -999.00, 9, -999.00
49NZ20071122, P14, 48, 1, 4, X12006, 9, 20071213, 1241, -18.8843, 177.7495, 2146,   1202.6, 2,   3.5564, 2,  34.5069, 2, -999.0000, 9,    155.1, 2,   -999.0, 9,  -999.00, 9,  -999.00, 9,  -999.00, 9,  -999.00, 9, -999.000, 9, -999.000, 9, -999.000, 9, -999.000, 9,   -999.0, 9,   -999.0, 9, -999.0000,   -999.00,   -999.0, 9,   -999.0,  -999.00, 9,   -999.0,   3.4677, 27.4473,   3.5563, 2, 9, -999.00, -999.00, -999.00, -999.000,  -999.00, 9, -999.00, -999.00, 9, -999.00
49NZ20071122, P14, 48, 1, 3, X12013, 9, 20071213, 1241, -18.8843, 177.7495, 2146,   1400.0, 2,   3.0935, 2,  34.5538, 2, -999.0000, 9,    150.4, 2,   -999.0, 9,  -999.00, 9,  -999.00, 9,  -999.00, 9,  -999.00, 9, -999.000, 9, -999.000, 9, -999.000, 9, -999.000, 9,   -999.0, 9,   -999.0, 9, -999.0000,   -999.00,   -999.0, 9,   -999.0,  -999.00, 9,   -999.0,   2.9930, 27.5295,   3.0936, 2, 9, -999.00, -999.00, -999.00, -999.000,  -999.00, 9, -999.00, -999.00, 9, -999.00
49NZ20071122, P14, 48, 1, 2, X12002, 9, 20071213, 1241, -18.8843, 177.7495, 2146,   1599.7, 2,   2.7239, 2,  34.5898, 2, -999.0000, 9,    148.4, 2,   -999.0, 9,  -999.00, 9,  -999.00, 9,  -999.00, 9,  -999.00, 9, -999.000, 9, -999.000, 9, -999.000, 9, -999.000, 9,   -999.0, 9,   -999.0, 9, -999.0000,   -999.00,   -999.0, 9,   -999.0,  -999.00, 9,   -999.0,   2.6110, 27.5924,   2.7238, 2, 9, -999.00, -999.00, -999.00, -999.000,  -999.00, 9, -999.00, -999.00, 9, -999.00
49NZ20071122, P14, 48, 1, 1, X12001, 2, 20071213, 1241, -18.8843, 177.7495, 2146,   2170.9, 2,   2.1742, 2,  34.6425, 2,  34.6423, 6,    148.4, 2,    148.9, 2,   114.28, 2,    35.58, 2,     0.00, 2,     2.51, 2,    0.001, 2,    0.001, 2,    0.000, 2, -999.000, 9,   2306.7, 2,   2397.0, 2,    7.5908,     25.00,   -999.0, 9,   -999.0,  -999.00, 9,   -999.0,   2.0203, 27.6836,   2.1740, 2, 2, 0.37, 0.13, 0.01, 0.016,  -999.00, 9, -999.00, -999.00, 9, -999.00