BOTTLE,20220820CCHSIOAMB
EXPOCODE,SECT_ID,STNNBR,CASTNO,SAMPNO,BTLNBR,BTLNBR_FLAG_W,DATE,TIME,LATITUDE,LONGITUDE,DEPTH,CTDPRS,CTDPRS_FLAG_W,CTDTMP,CTDTMP_FLAG_W,CTDSAL,CTDSAL_FLAG_W,SALNTY,SALNTY_FLAG_W,CTDOXY,CTDOXY_FLAG_W,OXYGEN,OXYGEN_FLAG_W,SILCAT,SILCAT_FLAG_W,NITRAT,NITRAT_FLAG_W,NITRIT,NITRIT_FLAG_W,PHSPHT,PHSPHT_FLAG_W,CFC-11,CFC-11_FLAG_W,CFC-12,CFC-12_FLAG_W,CFC113,CFC113_FLAG_W,CCL4,CCL4_FLAG_W,TCARBN,TCARBN_FLAG_W,ALKALI,ALKALI_FLAG_W,PH_TOT,PH_TMP,DELC14,DELC14_FLAG_W,C14ERR,DELC13,DELC13_FLAG_W,C13ERR,THETA,SIG0,SBE35,SBE35_FLAG_W,PH_TOT_FLAG_W,SILUNC,NRAUNC,NRIUNC,PHPUNC,CS-137,CS-137_FLAG_W,CS137ER,PLUTO,PLUTO_FLAG_W,PLUTOER
,,,,,,,,,,,METERS,DBAR,,ITS-90,,PSS-78,,PSS-78,,UMOL/KG,,UMOL/KG,,UMOL/KG,,UMOL/KG,,UMOL/KG,,UMOL/KG,,PMOL/KG,,PMOL/KG,,PMOL/KG,,PMOL/KG,,UMOL/KG,,UMOL/KG,,,DEG C,/MILLE,,/MILLE,/MILLE,,/MILLE,DEG C,KG/M^3,ITS-90,,,UMOL/KG,UMOL/KG,UMOL/KG,UMOL/KG,DM/.1MG,,BQ/M^3,MBQ/M^3,,MBQ/M^3
49NZ20071122, P14, 3, 1, 36, X12042, 2, 20071222, 1757, -35.2305, 175.1080, 617,      9.2, 2,  19.9687, 2,  35.7260, 2,  35.7266, 2,    229.9, 2,    230.1, 2,     0.73, 2,     0.05, 2,     0.00, 2,     0.12, 2,    2.102, 2,    1.297, 2,    0.346, 4, -999.000, 9,   2041.5, 2,   2342.2, 2,    8.0363,     25.00,   -999.0, 9,   -999.0,  -999.00, 9,   -999.0,  19.9670, 25.3244,  19.9689, 2, 2, 0.12, 0.03, 0.01, 0.020,  -999.00, 9, -999.00, -999.00, 9, -999.00
49NZ20071122, P14, 3, 1, 35, X12041, 2, 20071222, 1757, -35.2305, 175.1080, 617,     49.3, 2,  18.7041, 2,  35.6966, 2,  35.6968, 2,    233.7, 2,    235.1, 2,     0.86, 2,     0.15, 2,     0.02, 2,     0.15, 2,    2.202, 2,    1.344, 2,    0.287, 4, -999.000, 9,   2045.7, 6,   2341.8, 2,    8.0261,     25.00,   -999.0, 9,   -999.0,  -999.00, 9,   -999.0,  18.6954, 25.6314,  18.6958, 2, 2, 0.12, 0.03, 0.01, 0.018,  -999.00, 9, -999.00, -999.00, 9, -999.00
49NZ20071122, P14, 3, 1, 34, X12016, 2, 20071222, 1757, -35.2305, 175.1080, 617,     99.8, 2,  16.3757, 2,  35.5117, 2,  35.5114, 2,    215.9, 2,    215.4, 2,     1.94, 2,     4.83, 2,     0.05, 2,     0.45, 2,    2.356, 2,    1.404, 2,    0.181, 4, -999.000, 9,   2082.2, 2,   2331.3, 6,    7.9488,     25.00,   -999.0, 9,   -999.0,  -999.00, 9,   -999.0,  16.3596, 26.0582,  16.3697, 2, 2, 0.12, 0.05, 0.01, 0.013,  -999.00, 9, -999.00, -999.00, 9, -999.00
49NZ20071122, P14, 3, 1, 33, X12033, 2, 20071222, 1757, -35.2305, 175.1080, 617,    149.8, 2,  15.2218, 2,  35.4183, 2,  35.4181, 2,    206.9, 2,    205.6, 2,     2.62, 2,     7.40, 2,     0.02, 2,     0.61, 2,    2.392, 6,    1.397, 6,    0.126, 4, -999.000, 9,   2098.1, 2,   2324.6, 2,    7.9111,     25.00,   -999.0, 9,   -999.0,  -999.00, 9,   -999.0,  15.1988, 26.2506,  15.2224, 2, 6, 0.12, 0.05, 0.01, 0.013,  -999.00, 9, -999.00, -999.00, 9, -999.00
49NZ20071122, P14, 3, 1, 32, X12038, 2, 20071222, 1757, -35.2305, 175.1080, 617,    199.2, 2,  14.3362, 2,  35.3113, 2,  35.3133, 2,    209.9, 2,    209.5, 2,     3.93, 2,     8.69, 2,     0.02, 2,     0.70, 2,    2.376, 2,    1.382, 2,    0.147, 4, -999.000, 9,   2105.1, 2,   2321.0, 2,    7.8927,     25.00,   -999.0, 9,   -999.0,  -999.00, 9,   -999.0,  14.3069, 26.3625,  14.3361, 2, 2, 0.13, 0.06, 0.01, 0.013,  -999.00, 9, -999.00, -999.00, 9, -999.00
49NZ20071122, P14, 3, 1, 31, X12003, 2, 20071222, 1757, -35.2305, 175.1080, 617,    249.3, 2,  13.4035, 2,  35.2113, 2,  35.2117, 6,    201.2, 2,    201.2, 2,     4.70, 2,    11.14, 2,     0.01, 2,     0.84, 2,    2.364, 2,    1.342, 2,    0.116, 4, -999.000, 9,   2115.6, 2,   2315.4, 2,    7.8591,     25.00,   -999.0, 9,   -999.0,  -999.00, 9,   -999.0,  13.3684, 26.4818,  13.4041, 2, 2, 0.13, 0.06, 0.01, 0.013,  -999.00, 9, -999.00, -999.00, 9, -999.00
49NZ20071122, P14, 3, 1, 30, X12008, 2, 20071222, 1757, -35.2305, 175.1080, 617,    299.6, 2,  12.6301, 2,  35.1240, 2,  35.1206, 2,    198.7, 2,    198.6, 2,     5.27, 2,    12.85, 2,     0.01, 2,     0.95, 2,    2.367, 2,    1.331, 2,    0.084, 2, -999.000, 9,   2123.9, 2,   2312.0, 2,    7.8363,     25.00,   -999.0, 9,   -999.0,  -999.00, 9,   -999.0,  12.5895, 26.5708,  12.6325, 2, 2, 0.13, 0.07, 0.01, 0.013,  -999.00, 9, -999.00, -999.00, 9, -999.00
49NZ20071122, P14, 3, 1, 29, X12035, 2, 20071222, 1757, -35.2305, 175.1080, 617,    400.5, 2,  10.8868, 2,  34.9072, 2,  34.9074, 2,    197.6, 2,    197.4, 2,     7.38, 2,    16.49, 2,     0.01, 2,     1.19, 2,    2.277, 2,    1.241, 2,    0.086, 2, -999.000, 9,   2138.0, 2,   2303.0, 2,    7.7911,     25.00,   -999.0, 9,   -999.0,  -999.00, 9,   -999.0,  10.8373, 26.7326,  10.8869, 2, 2, 0.14, 0.08, 0.01, 0.013,  -999.00, 9, -999.00, -999.00, 9, -999.00
49NZ20071122, P14, 3, 1, 28, X12034, 2, 20071222, 1757, -35.2305, 175.1080, 617,    499.6, 2,   9.1682, 2,  34.7057, 2,  34.6917, 6,    197.3, 2,    198.5, 2,    10.74, 2,    20.55, 2,     0.03, 2,     1.46, 2,    2.048, 2,    1.076, 2,    0.082, 2, -999.000, 9,   2153.4, 2,   2297.9, 2,    7.7452,     25.00,   -999.0, 9,   -999.0,  -999.00, 9,   -999.0,   9.1126, 26.8696,   9.1679, 2, 2, 0.14, 0.09, 0.01, 0.014,  -999.00, 9, -999.00, -999.00, 9, -999.00
49NZ20071122, P14, 3, 1, 19, X12025, 9, 20071222, 1757, -35.2305, 175.1080, 617,    609.5, 2,   7.5898, 2,  34.5226, 2, -999.0000, 9,    206.1, 2,   -999.0, 9,  -999.00, 9,  -999.00, 9,  -999.00, 9,  -999.00, 9, -999.000, 9, -999.000, 9, -999.000, 9, -999.000, 9,   -999.0, 9,   -999.0, 9, -999.0000,   -999.00,   -999.0, 9,   -999.0,  -999.00, 9,   -999.0,   7.5288, 26.9680,   7.5878, 2, 9, -999.00, -999.00, -999.00, -999.000,  -999.00, 9, -999.00, -999.00, 9, -999.00
49NZ20071122, P14, 3, 1, 18, X12024, 9, 20071222, 1757, -35.2305, 175.1080, 617,      9.6, 2,  19.9715, 2,  35.7260, 2, -999.0000, 9,    229.9, 2,   -999.0, 9,  -999.00, 9,  -999.00, 9,  -999.00, 9,  -999.00, 9, -999.000, 9, -999.000, 9, -999.000, 9, -999.000, 9,   -999.0, 9,   -999.0, 9, -999.0000,   -999.00,   -999.0, 9,   -999.0,  -999.00, 9,   -999.0,  19.9697, 25.3236,  19.9717, 2, 9, -999.00, -999.00, -999.00, -999.000,  -999.00, 9, -999.00, -999.00, 9, -999.00
49NZ20071122, P14, 3, 1, 17, X12023, 9, 20071222, 1757, -35.2305, 175.1080, 617,     49.4, 2,  18.7068, 2,  35.6947, 2, -999.0000, 9,    233.7, 2,   -999.0, 9,  -999.00, 9,  -999.00, 9,  -999.00, 9,  -999.00, 9, -999.000, 9, -999.000, 9, -999.000, 9, -999.000, 9,   -999.0, 9,   -999.0, 9, -999.0000,   -999.00,   -999.0, 9,   -999.0,  -999.00, 9,   -999.0,  18.6981, 25.6292,  18.7122, 2, 9, -999.00, -999.00, -999.00, -999.000,  -999.00, 9, -999.00, -999.00, 9, -999.00
49NZ20071122, P14, 3, 1, 16, X12022, 9, 20071222, 1757, -35.2305, 175.1080, 617,     99.8, 2,  16.3684, 2,  35.5102, 2, -999.0000, 9,    216.0, 2,   -999.0, 9,  -999.00, 9,  -999.00, 9,  -999.00, 9,  -999.00, 9, -999.000, 9, -999.000, 9, -999.000, 9, -999.000, 9,   -999.0, 9,   -999.0, 9, -999.0000,   -999.00,   -999.0, 9,   -999.0,  -999.00, 9,   -999.0,  16.3523, 26.0587,  16.3687, 2, 9, -999.00, -999.00, -999.00, -999.000,  -999.00, 9, -999.00, -999.00, 9, -999.00
49NZ20071122, P14, 3, 1, 15, X12021, 9, 20071222, 1757, -35.2305, 175.1080, 617,    150.1, 2,  15.2220, 2,  35.4184, 2, -999.0000, 9,    206.9, 2,   -999.0, 9,  -999.00, 9,  -999.00, 9,  -999.00, 9,  -999.00, 9, -999.000, 9, -999.000, 9, -999.000, 9, -999.000, 9,   -999.0, 9,   -999.0, 9, -999.0000,   -999.00,   -999.0, 9,   -999.0,  -999.00, 9,   -999.0,  15.1990, 26.2506,  15.2228, 2, 9, -999.00, -999.00, -999.00, -999.000,  -999.00, 9, -999.00, -999.00, 9, -999.00
49NZ20071122, P14, 3, 1, 14, X12020, 9, 20071222, 1757, -35.2305, 175.1080, 617,    199.2, 2,  14.3504, 2,  35.3122, 2, -999.0000, 9,    210.0, 2,   -999.0, 9,  -999.00, 9,  -999.00, 9,  -999.00, 9,  -999.00, 9, -999.000, 9, -999.000, 9, -999.000, 9, -999.000, 9,   -999.0, 9,   -999.0, 9, -999.0000,   -999.00,   -999.0, 9,   -999.0,  -999.00, 9,   -999.0,  14.3210, 26.3602,  14.3436, 2, 9, -999.00, -999.00, -999.00, -999.000,  -999.00, 9, -999.00, -999.00, 9, -999.00
49NZ20071122, P14, 3, 1, 13, X12019, 9, 20071222, 1757, -35.2305, 175.1080, 617,    249.5, 2,  13.4047, 2,  35.2112, 2, -999.0000, 9,    201.2, 2,   -999.0, 9,  -999.00, 9,  -999.00, 9,  -999.00, 9,  -999.00, 9, -999.000, 9, -999.000, 9, -999.000, 9, -999.000, 9,   -999.0, 9,   -999.0, 9, -999.0000,   -999.00,   -999.0, 9,   -999.0,  -999.00, 9,   -999.0,  13.3695, 26.4815,  13.4041, 2, 9, -999.00, -999.00, -999.00, -999.000,  -999.00, 9, -999.00, -999.00, 9, -999.00
49NZ20071122, P14, 3, 1, 12, X12040, 9, 20071222, 1757, -35.2305, 175.1080, 617,    299.8, 2,  12.6380, 2,  35.1244, 2, -999.0000, 9,    198.7, 2,   -999.0, 9,  -999.00, 9,  -999.00, 9,  -999.00, 9,  -999.00, 9, -999.000, 9, -999.000, 9, -999.000, 9, -999.000, 9,   -999.0, 9,   -999.0, 9, -999.0000,   -999.00,   -999.0, 9,   -999.0,  -999.00, 9,   -999.0,  12.5973, 26.5696,  12.6402, 2, 9, -999.00, -999.00, -999.00, -999.000,  -999.00, 9, -999.00, -999.00, 9, -999.00
49NZ20071122, P14, 3, 1, 11, X12047, 9, 20071222, 1757, -35.2305, 175.1080, 617,    400.6, 2,  10.8871, 2,  34.9070, 2, -999.0000, 9,    197.6, 2,   -999.0, 9,  -999.00, 9,  -999.00, 9,  -999.00, 9,  -999.00, 9, -999.000, 9, -999.000, 9, -999.000, 9, -999.000, 9,   -999.0, 9,   -999.0, 9, -999.0000,   -999.00,   -999.0, 9,   -999.0,  -999.00, 9,   -999.0,  10.8376, 26.7324,  10.8874, 2, 9, -999.00, -999.00, -999.00, -999.000,  -999.00, 9, -999.00, -999.00, 9, -999.00
49NZ20071122, P14, 3, 1, 10, X12012, 9, 20071222, 1757, -35.2305, 175.1080, 617,    499.6, 2,   9.1630, 2,  34.7050, 2, -999.0000, 9,    197.3, 2,   -999.0, 9,  -999.00, 9,  -999.00, 9,  -999.00, 9,  -999.00, 9, -999.000, 9, -999.000, 9, -999.000, 9, -999.000, 9,   -999.0, 9,   -999.0, 9, -999.0000,   -999.00,   -999.0, 9,   -999.0,  -999.00, 9,   -999.0,   9.1074, 26.8699,   9.1646, 2, 9, -999.00, -999.00, -999.00, -999.000,  -999.00, 9, -999.00, -999.00, 9, -999.00
49NZ20071122, P14, 3, 1, 1, X12001, 2, 20071222, 1757, -35.2305, 175.1080, 617,    609.5, 2,   7.5831, 2,  34.5219, 2,  34.5241, 6,    206.2, 2,    205.9, 2,    13.25, 2,    23.29, 2,     0.02, 2,     1.63, 2,    1.856, 2,    0.948, 2,    0.074, 2, -999.000, 9,   2161.2, 2,   2292.8, 2,    7.7195,     25.00,   -999.0, 9,   -999.0,  -999.00, 9,   -999.0,   7.5221, 26.9685,   7.5825, 2, 2, 0.15, 0.10, 0.01, 0.014,  -999.00, 9, -999.00, -999.00, 9, -999.00
49NZ20071122, P14, 2, 1, 36, X12042, 2, 20071222, 2036, -35.4538, 175.0707, 367,      9.5, 2,  20.1606, 2,  35.7130, 2,  35.7132, 2,    229.3, 2,    229.3, 2,     0.86, 2,     0.07, 2,     0.01, 2,     0.12, 2,    2.153, 2,    1.298, 2,    0.345, 4, -999.000, 9,   -999.0, 9,   -999.0, 9, -999.0000,   -999.00,   -999.0, 9,   -999.0,  -999.00, 9,   -999.0,  20.1588, 25.2636,  20.1610, 2, 9, 0.12, 0.03, 0.01, 0.020,  -999.00, 9, -999.00, -999.00, 9, -999.00
49NZ20071122, P14, 2, 1, 35, X12041, 2, 20071222, 2036, -35.4538, 175.0707, 367,     49.7, 2,  19.8243, 2,  35.6544, 2,  35.6338, 2,    233.2, 2,    234.6, 2,     1.00, 2,     0.14, 2,     0.02, 2,     0.14, 2,    2.237, 2,    1.331, 2,    0.328, 4, -999.000, 9,   -999.0, 9,   -999.0, 9, -999.0000,   -999.00,   -999.0, 9,   -999.0,  -999.00, 9,   -999.0,  19.8152, 25.3098,  19.8273, 2, 9, 0.12, 0.03, 0.01, 0.018,  -999.00, 9, -999.00, -999.00, 9, -999.00
49NZ20071122, P14, 2, 1, 34, X12016, 2, 20071222, 2036, -35.4538, 175.0707, 367,    100.0, 2,  15.3429, 2,  35.3790, 2,  35.3785, 2,    216.9, 2,    218.4, 2,     3.19, 2,     6.15, 2,     0.30, 2,     0.56, 2,    2.463, 2,    1.415, 2,    0.186, 4, -999.000, 9,   -999.0, 9,   -999.0, 9, -999.0000,   -999.00,   -999.0, 9,   -999.0,  -999.00, 9,   -999.0,  15.3275, 26.1916,  15.3423, 2, 9, 0.13, 0.05, 0.01, 0.013,  -999.00, 9, -999.00, -999.00, 9, -999.00
49NZ20071122, P14, 2, 1, 33, X12033, 2, 20071222, 2036, -35.4538, 175.0707, 367,    149.4, 2,  14.2378, 2,  35.2979, 2,  35.2999, 2,    204.0, 2,    204.4, 2,     4.28, 2,     9.36, 2,     0.03, 2,     0.75, 2,    2.458, 6,    1.389, 6,    0.139, 4, -999.000, 9,   -999.0, 9,   -999.0, 9, -999.0000,   -999.00,   -999.0, 9,   -999.0,  -999.00, 9,   -999.0,  14.2159, 26.3716,  14.2372, 2, 9, 0.13, 0.06, 0.01, 0.013,  -999.00, 9, -999.00, -999.00, 9, -999.00
49NZ20071122, P14, 2, 1, 32, X12038, 2, 20071222, 2036, -35.4538, 175.0707, 367,    200.5, 2,  12.6631, 2,  35.1327, 2,  35.1337, 2,    199.9, 2,    200.1, 2,     5.74, 2,    12.69, 2,     0.02, 2,     0.95, 2,    2.349, 2,    1.284, 2,    0.102, 4, -999.000, 9,   -999.0, 9,   -999.0, 9, -999.0000,   -999.00,   -999.0, 9,   -999.0,  -999.00, 9,   -999.0,  12.6360, 26.5684,  12.6636, 2, 9, 0.13, 0.07, 0.01, 0.013,  -999.00, 9, -999.00, -999.00, 9, -999.00
49NZ20071122, P14, 2, 1, 31, X12003, 2, 20071222, 2036, -35.4538, 175.0707, 367,    251.1, 2,  11.9339, 2,  35.0476, 2,  35.0464, 6,    198.5, 2,    198.1, 2,     6.76, 2,    14.35, 2,     0.02, 2,     1.05, 2,    2.308, 2,    1.241, 2,    0.093, 4, -999.000, 9,   -999.0, 9,   -999.0, 9, -999.0000,   -999.00,   -999.0, 9,   -999.0,  -999.00, 9,   -999.0,  11.9012, 26.6449,  11.9338, 2, 9, 0.13, 0.07, 0.01, 0.013,  -999.00, 9, -999.00, -999.00, 9, -999.00
49NZ20071122, P14, 2, 1, 19, X12025, 9, 20071222, 2036, -35.4538, 175.0707, 367,    358.5, 2,  10.4822, 2,  34.8485, 2, -999.0000, 9,    196.0, 2,   -999.0, 9,  -999.00, 9,  -999.00, 9,  -999.00, 9,  -999.00, 9, -999.000, 9, -999.000, 9, -999.000, 9, -999.000, 9,   -999.0, 9,   -999.0, 9, -999.0000,   -999.00,   -999.0, 9,   -999.0,  -999.00, 9,   -999.0,  10.4391, 26.7576,  10.4823, 2, 9, -999.00, -999.00, -999.00, -999.000,  -999.00, 9, -999.00, -999.00, 9, -999.00
49NZ20071122, P14, 2, 1, 18, X12024, 9, 20071222, 2036, -35.4538, 175.0707, 367,      9.6, 2,  20.1603, 2,  35.7130, 2, -999.0000, 9,    229.3, 2,   -999.0, 9,  -999.00, 9,  -999.00, 9,  -999.00, 9,  -999.00, 9, -999.000, 9, -999.000, 9, -999.000, 9, -999.000, 9,   -999.0, 9,   -999.0, 9, -999.0000,   -999.00,   -999.0, 9,   -999.0,  -999.00, 9,   -999.0,  20.1585, 25.2637,  20.1608, 2, 9, -999.00, -999.00, -999.00, -999.000,  -999.00, 9, -999.00, -999.00, 9, -999.00
49NZ20071122, P14, 2, 1, 17, X12023, 9, 20071222, 2036, -35.4538, 175.0707, 367,     49.7, 2,  19.8777, 2,  35.6611, 2, -999.0000, 9,    232.9, 2,   -999.0, 9,  -999.00, 9,  -999.00, 9,  -999.00, 9,  -999.00, 9, -999.000, 9, -999.000, 9, -999.000, 9, -999.000, 9,   -999.0, 9,   -999.0, 9, -999.0000,   -999.00,   -999.0, 9,   -999.0,  -999.00, 9,   -999.0,  19.8685, 25.3008,  19.8769, 2, 9, -999.00, -999.00, -999.00, -999.000,  -999.00, 9, -999.00, -999.00, 9, -999.00
49NZ20071122, P14, 2, 1, 16, X12022, 9, 20071222, 2036, -35.4538, 175.0707, 367,    100.1, 2,  15.3386, 2,  35.3787, 2, -999.0000, 9,    216.9, 2,   -999.0, 9,  -999.00, 9,  -999.00, 9,  -999.00, 9,  -999.00, 9, -999.000, 9, -999.000, 9, -999.000, 9, -999.000, 9,   -999.0, 9,   -999.0, 9, -999.0000,   -999.00,   -999.0, 9,   -999.0,  -999.00, 9,   -999.0,  15.3232, 26.1923,  15.3435, 2, 9, -999.00, -999.00, -999.00, -999.000,  -999.00, 9, -999.00, -999.00, 9, -999.00
49NZ20071122, P14, 2, 1, 15, X12021, 9, 20071222, 2036, -35.4538, 175.0707, 367,    149.3, 2,  14.2541, 2,  35.2989, 2, -999.0000, 9,    204.0, 2,   -999.0, 9,  -999.00, 9,  -999.00, 9,  -999.00, 9,  -999.00, 9, -999.000, 9, -999.000, 9, -999.000, 9, -999.000, 9,   -999.0, 9,   -999.0, 9, -999.0000,   -999.00,   -999.0, 9,   -999.0,  -999.00, 9,   -999.0,  14.2322, 26.3689,  14.2517, 2, 9, -999.00, -999.00, -999.00, -999.000,  -999.00, 9, -999.00, -999.00, 9, -999.00
49NZ20071122, P14, 2, 1, 14, X12020, 9, 20071222, 2036, -35.4538, 175.0707, 367,    200.7, 2,  12.6632, 2,  35.1327, 2, -999.0000, 9,    199.9, 2,   -999.0, 9,  -999.00, 9,  -999.00, 9,  -999.00, 9,  -999.00, 9, -999.000, 9, -999.000, 9, -999.000, 9, -999.000, 9,   -999.0, 9,   -999.0, 9, -999.0000,   -999.00,   -999.0, 9,   -999.0,  -999.00, 9,   -999.0,  12.6360, 26.5684,  12.6634, 2, 9, -999.00, -999.00, -999.00, -999.000,  -999.00, 9, -999.00, -999.00, 9, -999.00
49NZ20071122, P14, 2, 1, 13, X12019, 9, 20071222, 2036, -35.4538, 175.0707, 367,    250.9, 2,  11.9356, 2,  35.0477, 2, -999.0000, 9,    198.5, 2,   -999.0, 9,  -999.00, 9,  -999.00, 9,  -999.00, 9,  -999.00, 9, -999.000, 9, -999.000, 9, -999.000, 9, -999.000, 9,   -999.0, 9,   -999.0, 9, -999.0000,   -999.00,   -999.0, 9,   -999.0,  -999.00, 9,   -999.0,  11.9029, 26.6447,  11.9350, 2, 9, -999.00, -999.00, -999.00, -999.000,  -999.00, 9, -999.00, -999.00, 9, -999.00
49NZ20071122, P14, 2, 1, 1, X12001, 2, 20071222, 2036, -35.4538, 175.0707, 367,    358.6, 2,  10.4825, 2,  34.8485, 2,  34.8500, 6,    196.0, 2,    195.5, 2,     7.68, 2,    17.45, 2,     0.03, 2,     1.26, 2,    2.369, 2,    1.238, 2,    0.085, 2, -999.000, 9,   -999.0, 9,   -999.0, 9, -999.0000,   -999.00,   -999.0, 9,   -999.0,  -999.00, 9,   -999.0,  10.4394, 26.7575,  10.4829, 2, 9, 0.14, 0.08, 0.01, 0.013,  -999.00, 9, -999.00, -999.00, 9, -999.00