BOTTLE,20220820CCHSIOAMB
EXPOCODE,SECT_ID,STNNBR,CASTNO,SAMPNO,BTLNBR,BTLNBR_FLAG_W,DATE,TIME,LATITUDE,LONGITUDE,DEPTH,CTDPRS,CTDPRS_FLAG_W,CTDTMP,CTDTMP_FLAG_W,CTDSAL,CTDSAL_FLAG_W,SALNTY,SALNTY_FLAG_W,CTDOXY,CTDOXY_FLAG_W,OXYGEN,OXYGEN_FLAG_W,SILCAT,SILCAT_FLAG_W,NITRAT,NITRAT_FLAG_W,NITRIT,NITRIT_FLAG_W,PHSPHT,PHSPHT_FLAG_W,CFC-11,CFC-11_FLAG_W,CFC-12,CFC-12_FLAG_W,CFC113,CFC113_FLAG_W,CCL4,CCL4_FLAG_W,TCARBN,TCARBN_FLAG_W,ALKALI,ALKALI_FLAG_W,PH_TOT,PH_TMP,DELC14,DELC14_FLAG_W,C14ERR,DELC13,DELC13_FLAG_W,C13ERR,THETA,SIG0,SBE35,SBE35_FLAG_W,PH_TOT_FLAG_W,SILUNC,NRAUNC,NRIUNC,PHPUNC,CS-137,CS-137_FLAG_W,CS137ER,PLUTO,PLUTO_FLAG_W,PLUTOER
,,,,,,,,,,,METERS,DBAR,,ITS-90,,PSS-78,,PSS-78,,UMOL/KG,,UMOL/KG,,UMOL/KG,,UMOL/KG,,UMOL/KG,,UMOL/KG,,PMOL/KG,,PMOL/KG,,PMOL/KG,,PMOL/KG,,UMOL/KG,,UMOL/KG,,,DEG C,/MILLE,,/MILLE,/MILLE,,/MILLE,DEG C,KG/M^3,ITS-90,,,UMOL/KG,UMOL/KG,UMOL/KG,UMOL/KG,DM/.1MG,,BQ/M^3,MBQ/M^3,,MBQ/M^3
49NZ20071122, P14, 39, 1, 36, X12042, 2, 20071215, 1559, -20.8650, 177.5538, 3188,      9.9, 2,  27.3050, 2,  34.6837, 2,  34.6841, 2,    201.4, 2,    202.0, 2,     0.76, 2,     0.08, 2,     0.00, 2,     0.11, 2,    1.574, 2,    0.967, 2,    0.366, 4, -999.000, 9,   1927.6, 2,   2277.3, 2,    8.1371,     25.00,   -999.0, 9,   -999.0,  -999.00, 9,   -999.0,  27.3027, 22.3827,  27.3043, 2, 6, 0.12, 0.03, 0.01, 0.021,  -999.00, 9, -999.00, -999.00, 9, -999.00
49NZ20071122, P14, 39, 1, 35, X12041, 2, 20071215, 1559, -20.8650, 177.5538, 3188,     50.0, 2,  26.4084, 2,  35.1740, 2,  35.1797, 2,    205.4, 2,    206.5, 2,     0.77, 2,     0.07, 2,     0.00, 2,     0.11, 2,    1.667, 2,    1.013, 2,    0.484, 4, -999.000, 9,   1959.7, 6,   2310.0, 2,    8.1243,     25.00,   -999.0, 9,   -999.0,  -999.00, 9,   -999.0,  26.3971, 23.0402,  26.4077, 2, 2, 0.12, 0.03, 0.01, 0.021,  -999.00, 9, -999.00, -999.00, 9, -999.00
49NZ20071122, P14, 39, 1, 34, X12016, 2, 20071215, 1559, -20.8650, 177.5538, 3188,     99.9, 2,  24.0538, 2,  35.4307, 2,  35.4299, 2,    198.2, 2,    200.3, 2,     0.64, 2,     0.15, 2,     0.01, 2,     0.15, 2,    1.838, 2,    1.100, 2,    0.332, 4, -999.000, 9,   1997.3, 2,   2325.6, 6,    8.0849,     25.00,   -999.0, 9,   -999.0,  -999.00, 9,   -999.0,  24.0327, 23.9578,  24.0535, 2, 2, 0.12, 0.03, 0.01, 0.018,  -999.00, 9, -999.00, -999.00, 9, -999.00
49NZ20071122, P14, 39, 1, 33, X12033, 2, 20071215, 1559, -20.8650, 177.5538, 3188,    150.4, 2,  21.9372, 2,  35.6562, 2,  35.6563, 2,    174.3, 2,    173.6, 2,     0.92, 2,     2.93, 2,     0.02, 2,     0.34, 2,    2.029, 6,    1.187, 6,    0.126, 4, -999.000, 9,   2052.3, 2,   2338.8, 2,    8.0138,     25.00,   -999.0, 9,   -999.0,  -999.00, 9,   -999.0,  21.9074, 24.7426,  21.9377, 2, 2, 0.12, 0.04, 0.01, 0.014,  -999.00, 9, -999.00, -999.00, 9, -999.00
49NZ20071122, P14, 39, 1, 32, X12038, 2, 20071215, 1559, -20.8650, 177.5538, 3188,    198.9, 2,  20.7577, 2,  35.6778, 2,  35.6799, 2,    185.0, 2,    185.4, 2,     0.89, 2,     2.90, 2,     0.02, 2,     0.30, 2,    2.101, 2,    1.222, 2,    0.154, 4, -999.000, 9,   2051.7, 2,   2338.4, 2,    8.0089,     25.00,   -999.0, 9,   -999.0,  -999.00, 9,   -999.0,  20.7198, 25.0862,  20.7583, 2, 2, 0.12, 0.04, 0.01, 0.014,  -999.00, 9, -999.00, -999.00, 9, -999.00
49NZ20071122, P14, 39, 1, 31, X12003, 2, 20071215, 1559, -20.8650, 177.5538, 3188,    249.7, 2,  19.3956, 2,  35.6729, 2,  35.6690, 6,    187.6, 2,    189.1, 2,     1.10, 2,     3.59, 2,     0.01, 2,     0.35, 2,    2.221, 2,    1.270, 2,    0.113, 2, -999.000, 9,   2065.8, 2,   2334.9, 2,    7.9854,     25.00,   -999.0, 9,   -999.0,  -999.00, 9,   -999.0,  19.3502, 25.4454,  19.4011, 2, 2, 0.12, 0.04, 0.01, 0.014,  -999.00, 9, -999.00, -999.00, 9, -999.00
49NZ20071122, P14, 39, 1, 30, X12008, 2, 20071215, 1559, -20.8650, 177.5538, 3188,    301.6, 2,  17.7054, 2,  35.5426, 2,  35.5405, 2,    187.3, 2,    187.1, 2,     1.40, 2,     5.12, 2,     0.01, 2,     0.47, 2,    2.339, 2,    1.305, 2,    0.062, 2, -999.000, 9,   2079.7, 2,   2331.2, 2,    7.9474,     25.00,   -999.0, 9,   -999.0,  -999.00, 9,   -999.0,  17.6539, 25.7728,  17.7042, 2, 2, 0.12, 0.05, 0.01, 0.013,  -999.00, 9, -999.00, -999.00, 9, -999.00
49NZ20071122, P14, 39, 1, 29, X12035, 2, 20071215, 1559, -20.8650, 177.5538, 3188,    400.6, 2,  14.6507, 2,  35.2238, 2,  35.2146, 2,    189.3, 2,    188.5, 2,     2.84, 2,     9.41, 2,     0.00, 2,     0.76, 2,    2.414, 2,    1.290, 2,    0.043, 2, -999.000, 9,   2103.5, 2,   2314.5, 2,    7.8763,     25.00,   -999.0, 9,   -999.0,  -999.00, 9,   -999.0,  14.5905, 26.2340,  14.6424, 2, 2, 0.13, 0.06, 0.01, 0.013,  -999.00, 9, -999.00, -999.00, 9, -999.00
49NZ20071122, P14, 39, 1, 28, X12034, 2, 20071215, 1559, -20.8650, 177.5538, 3188,    500.3, 2,  11.0938, 2,  34.8156, 2,  34.8096, 6,    194.1, 2,    194.2, 2,     5.24, 2,    15.71, 2,     0.00, 2,     1.17, 2,    2.342, 2,    1.189, 2,    0.056, 2, -999.000, 9,   2128.2, 2,   2297.5, 2,    7.7930,     25.00,   -999.0, 9,   -999.0,  -999.00, 9,   -999.0,  11.0311, 26.6263,  11.0944, 2, 2, 0.13, 0.08, 0.01, 0.013,  -999.00, 9, -999.00, -999.00, 9, -999.00
49NZ20071122, P14, 39, 1, 27, X12049, 2, 20071215, 1559, -20.8650, 177.5538, 3188,    599.9, 2,   8.3881, 2,  34.5299, 2,  34.5190, 2,    208.2, 2,    208.9, 2,     7.93, 2,    21.00, 2,     0.00, 2,     1.50, 2,    2.145, 2,    1.043, 2,    0.073, 2, -999.000, 9,   2142.2, 2,   2288.2, 2,    7.7395,     25.00,   -999.0, 9,   -999.0,  -999.00, 9,   -999.0,   8.3245, 26.8556,   8.3877, 2, 2, 0.14, 0.09, 0.01, 0.014,  -999.00, 9, -999.00, -999.00, 9, -999.00
49NZ20071122, P14, 39, 1, 26, X12032, 2, 20071215, 1559, -20.8650, 177.5538, 3188,    700.0, 2,   6.6493, 2,  34.3965, 2,  34.3931, 2,    210.5, 2,    210.6, 2,    14.06, 2,    25.29, 2,     0.00, 2,     1.77, 2,    1.414, 6,    0.682, 6,    0.041, 6, -999.000, 9,   2158.3, 6,   2288.5, 2,    7.7018,     25.00,   -999.0, 9,   -999.0,  -999.00, 9,   -999.0,   6.5838, 26.9998,   6.6498, 2, 2, 0.15, 0.10, 0.01, 0.015,  -999.00, 9, -999.00, -999.00, 9, -999.00
49NZ20071122, P14, 39, 1, 25, X12043, 2, 20071215, 1559, -20.8650, 177.5538, 3188,    799.3, 2,   5.6475, 2,  34.3631, 2,  34.3642, 2,    200.7, 2,    200.7, 2,    22.79, 2,    28.42, 2,     0.00, 2,     1.99, 2,    0.774, 2,    0.379, 2,    0.018, 2, -999.000, 9,   2174.6, 2,   2294.1, 6,    7.6692,     25.00,   -999.0, 9,   -999.0,  -999.00, 9,   -999.0,   5.5783, 27.1017,   5.6474, 2, 2, 0.17, 0.11, 0.01, 0.015,  -999.00, 9, -999.00, -999.00, 9, -999.00
49NZ20071122, P14, 39, 1, 24, X12030, 2, 20071215, 1559, -20.8650, 177.5538, 3188,    902.8, 2,   4.8503, 2,  34.3803, 2,  34.3831, 2,    185.2, 2,    186.3, 2,    35.10, 2,    30.84, 2,     0.00, 2,     2.15, 2,    0.367, 2,    0.179, 2,    0.009, 2, -999.000, 9,   2196.5, 2,   2305.4, 2,    7.6390,     25.00,   -999.0, 9,   -999.0,  -999.00, 9,   -999.0,   4.7769, 27.2094,   4.8545, 2, 6, 0.20, 0.12, 0.01, 0.015,  -999.00, 9, -999.00, -999.00, 9, -999.00
49NZ20071122, P14, 39, 1, 23, X12027, 2, 20071215, 1559, -20.8650, 177.5538, 3188,   1001.6, 2,   4.2785, 2,  34.4226, 2,  34.4236, 6,    172.9, 2,    174.2, 2,    48.35, 2,    32.64, 2,     0.00, 2,     2.28, 2,    0.175, 2,    0.089, 2,    0.004, 2, -999.000, 9,   2219.7, 2,   2320.3, 2,    7.6180,     25.00,   -999.0, 9,   -999.0,  -999.00, 9,   -999.0,   4.2007, 27.3059,   4.2789, 2, 2, 0.23, 0.12, 0.01, 0.016,  -999.00, 9, -999.00, -999.00, 9, -999.00
49NZ20071122, P14, 39, 1, 22, X12028, 2, 20071215, 1559, -20.8650, 177.5538, 3188,   1199.5, 2,   3.5032, 2,  34.5053, 2,  34.5058, 2,    159.8, 2,    159.7, 2,    72.39, 2,    34.19, 2,     0.00, 2,     2.41, 2,    0.046, 2,    0.022, 2,    0.000, 2, -999.000, 9,   2253.5, 2,   2348.2, 2,    7.6003,     25.00,   -999.0, 9,   -999.0,  -999.00, 9,   -999.0,   3.4152, 27.4512,   3.5003, 2, 2, 0.28, 0.13, 0.01, 0.016,  -999.00, 9, -999.00, -999.00, 9, -999.00
49NZ20071122, P14, 39, 1, 21, X12009, 2, 20071215, 1559, -20.8650, 177.5538, 3188,   1402.2, 2,   2.9850, 2,  34.5637, 2,  34.5653, 2,    151.8, 2,    151.9, 2,    90.23, 2,    35.12, 2,     0.00, 2,     2.48, 2,    0.009, 2,    0.005, 2,    0.000, 2, -999.000, 9,   2275.0, 2,   2369.0, 2,    7.5914,     25.00,   -999.0, 9,   -999.0,  -999.00, 9,   -999.0,   2.8854, 27.5473,   2.9850, 2, 2, 0.32, 0.13, 0.01, 0.016,  -999.00, 9, -999.00, -999.00, 9, -999.00
49NZ20071122, P14, 39, 1, 20, X12026, 2, 20071215, 1559, -20.8650, 177.5538, 3188,   1600.6, 2,   2.7009, 2,  34.5923, 2,  34.5928, 2,    150.6, 2,    150.6, 2,    98.47, 2,    35.26, 2,     0.00, 2,     2.49, 2,    0.005, 2,    0.002, 2,    0.000, 2, -999.000, 9,   2283.8, 2,   2378.0, 2,    7.5907,     25.00,   -999.0, 9,   -999.0,  -999.00, 9,   -999.0,   2.5882, 27.5963,   2.7009, 2, 6, 0.34, 0.13, 0.01, 0.016,  -999.00, 9, -999.00, -999.00, 9, -999.00
49NZ20071122, P14, 39, 1, 19, X12025, 2, 20071215, 1559, -20.8650, 177.5538, 3188,   1800.5, 2,   2.4529, 2,  34.6167, 2,  34.6174, 2,    150.0, 2,    150.0, 2,   105.83, 2,    35.42, 2,     0.00, 2,     2.50, 2,    0.002, 2,    0.001, 2,    0.000, 2, -999.000, 9,   2292.9, 2,   2384.8, 2,    7.5901,     25.00,   -999.0, 9,   -999.0,  -999.00, 9,   -999.0,   2.3267, 27.6380,   2.4529, 2, 2, 0.35, 0.13, 0.01, 0.016,  -999.00, 9, -999.00, -999.00, 9, -999.00
49NZ20071122, P14, 39, 1, 18, X12024, 2, 20071215, 1559, -20.8650, 177.5538, 3188,   2000.8, 2,   2.2800, 2,  34.6341, 2,  34.6348, 2,    150.1, 2,    150.2, 2,   110.61, 2,    35.47, 2,     0.00, 2,     2.51, 2,    0.000, 2,    0.002, 2,    0.004, 2, -999.000, 9,   2297.8, 2,   2391.1, 2,    7.5908,     25.00,   -999.0, 9,   -999.0,  -999.00, 9,   -999.0,   2.1392, 27.6674,   2.2801, 2, 2, 0.36, 0.13, 0.01, 0.016,  -999.00, 9, -999.00, -999.00, 9, -999.00
49NZ20071122, P14, 39, 1, 17, X12023, 2, 20071215, 1559, -20.8650, 177.5538, 3188,   2202.4, 2,   2.1322, 2,  34.6484, 2,  34.6487, 6,    150.8, 2,    151.0, 2,   114.20, 2,    35.50, 2,     0.00, 2,     2.50, 2,    0.000, 2,    0.002, 2,    0.000, 2, -999.000, 9,   2299.8, 2,   2394.6, 2,    7.5924,     25.00,   -999.0, 9,   -999.0,  -999.00, 9,   -999.0,   1.9762, 27.6919,   2.1325, 2, 2, 0.37, 0.13, 0.01, 0.016,  -999.00, 9, -999.00, -999.00, 9, -999.00
49NZ20071122, P14, 39, 1, 16, X12022, 2, 20071215, 1559, -20.8650, 177.5538, 3188,   2401.0, 2,   2.0120, 2,  34.6606, 2,  34.6608, 2,    152.0, 2,    152.1, 2,   117.05, 2,    35.39, 2,     0.00, 2,     2.50, 2,    0.000, 2,    0.000, 2,    0.000, 2, -999.000, 9,   2303.7, 6,   2397.5, 2,    7.5926,     25.00,   -999.0, 9,   -999.0,  -999.00, 9,   -999.0,   1.8404, 27.7123,   2.0122, 2, 2, 0.38, 0.13, 0.01, 0.016,  -999.00, 9, -999.00, -999.00, 9, -999.00
49NZ20071122, P14, 39, 1, 15, X12021, 2, 20071215, 1559, -20.8650, 177.5538, 3188,   2601.5, 2,   1.9205, 2,  34.6693, 2,  34.6696, 2,    153.2, 2,    153.4, 2,   119.04, 2,    35.38, 2,     0.00, 2,     2.50, 2, -999.000, 9, -999.000, 9, -999.000, 9, -999.000, 9,   2305.3, 2,   2400.2, 6,    7.5945,     25.00,   -999.0, 9,   -999.0,  -999.00, 9,   -999.0,   1.7324, 27.7275,   1.9204, 2, 2, 0.38, 0.13, 0.01, 0.016,  -999.00, 9, -999.00, -999.00, 9, -999.00
49NZ20071122, P14, 39, 1, 14, X12020, 2, 20071215, 1559, -20.8650, 177.5538, 3188,   2800.9, 2,   1.8652, 2,  34.6753, 2,  34.6755, 6,    154.0, 2,    154.2, 2,   120.84, 2,    35.37, 2,     0.00, 2,     2.50, 2,    0.000, 2,    0.000, 2,    0.000, 2, -999.000, 9,   2307.4, 2,   2402.4, 2,    7.5962,     25.00,   -999.0, 9,   -999.0,  -999.00, 9,   -999.0,   1.6595, 27.7378,   1.8652, 2, 6, 0.38, 0.13, 0.01, 0.016,  -999.00, 9, -999.00, -999.00, 9, -999.00
49NZ20071122, P14, 39, 1, 13, X12019, 2, 20071215, 1559, -20.8650, 177.5538, 3188,   3001.3, 2,   1.8307, 2,  34.6786, 2,  34.6788, 2,    154.5, 2,    154.7, 2,   121.92, 2,    35.36, 2,     0.00, 2,     2.49, 2, -999.000, 9, -999.000, 9, -999.000, 9, -999.000, 9,   2309.3, 2,   2403.9, 2,    7.5970,     25.00,   -999.0, 9,   -999.0,  -999.00, 9,   -999.0,   1.6065, 27.7444,   1.8307, 2, 2, 0.39, 0.13, 0.01, 0.016,  -999.00, 9, -999.00, -999.00, 9, -999.00
49NZ20071122, P14, 39, 1, 12, X12040, 9, 20071215, 1559, -20.8650, 177.5538, 3188,     10.1, 2,  27.3089, 2,  34.6827, 2, -999.0000, 9,    201.6, 2,   -999.0, 9,  -999.00, 9,  -999.00, 9,  -999.00, 9,  -999.00, 9, -999.000, 9, -999.000, 9, -999.000, 9, -999.000, 9,   -999.0, 9,   -999.0, 9, -999.0000,   -999.00,   -999.0, 9,   -999.0,  -999.00, 9,   -999.0,  27.3066, 22.3807,  27.3086, 2, 9, -999.00, -999.00, -999.00, -999.000,  -999.00, 9, -999.00, -999.00, 9, -999.00
49NZ20071122, P14, 39, 1, 11, X12047, 9, 20071215, 1559, -20.8650, 177.5538, 3188,     49.7, 2,  26.3879, 2,  35.1773, 2, -999.0000, 9,    205.6, 2,   -999.0, 9,  -999.00, 9,  -999.00, 9,  -999.00, 9,  -999.00, 9, -999.000, 9, -999.000, 9, -999.000, 9, -999.000, 9,   -999.0, 9,   -999.0, 9, -999.0000,   -999.00,   -999.0, 9,   -999.0,  -999.00, 9,   -999.0,  26.3767, 23.0491,  26.3839, 2, 9, -999.00, -999.00, -999.00, -999.000,  -999.00, 9, -999.00, -999.00, 9, -999.00
49NZ20071122, P14, 39, 1, 10, X12012, 9, 20071215, 1559, -20.8650, 177.5538, 3188,    100.0, 2,  23.9834, 2,  35.4388, 2, -999.0000, 9,    199.3, 2,   -999.0, 9,  -999.00, 9,  -999.00, 9,  -999.00, 9,  -999.00, 9, -999.000, 9, -999.000, 9, -999.000, 9, -999.000, 9,   -999.0, 9,   -999.0, 9, -999.0000,   -999.00,   -999.0, 9,   -999.0,  -999.00, 9,   -999.0,  23.9623, 23.9848,  24.0019, 2, 9, -999.00, -999.00, -999.00, -999.000,  -999.00, 9, -999.00, -999.00, 9, -999.00
49NZ20071122, P14, 39, 1, 9, X12015, 9, 20071215, 1559, -20.8650, 177.5538, 3188,    150.2, 2,  21.9311, 2,  35.6559, 2, -999.0000, 9,    174.3, 2,   -999.0, 9,  -999.00, 9,  -999.00, 9,  -999.00, 9,  -999.00, 9, -999.000, 9, -999.000, 9, -999.000, 9, -999.000, 9,   -999.0, 9,   -999.0, 9, -999.0000,   -999.00,   -999.0, 9,   -999.0,  -999.00, 9,   -999.0,  21.9014, 24.7440,  21.9327, 2, 9, -999.00, -999.00, -999.00, -999.000,  -999.00, 9, -999.00, -999.00, 9, -999.00
49NZ20071122, P14, 39, 1, 8, X12046, 9, 20071215, 1559, -20.8650, 177.5538, 3188,    699.2, 2,   6.5792, 2,  34.3931, 2, -999.0000, 9,    210.8, 2,   -999.0, 9,  -999.00, 9,  -999.00, 9,  -999.00, 9,  -999.00, 9, -999.000, 9, -999.000, 9, -999.000, 9, -999.000, 9,   -999.0, 9,   -999.0, 9, -999.0000,   -999.00,   -999.0, 9,   -999.0,  -999.00, 9,   -999.0,   6.5142, 27.0064,   6.5779, 2, 9, -999.00, -999.00, -999.00, -999.000,  -999.00, 9, -999.00, -999.00, 9, -999.00
49NZ20071122, P14, 39, 1, 7, X12044, 9, 20071215, 1559, -20.8650, 177.5538, 3188,    799.5, 2,   5.6382, 2,  34.3633, 2, -999.0000, 9,    200.6, 2,   -999.0, 9,  -999.00, 9,  -999.00, 9,  -999.00, 9,  -999.00, 9, -999.000, 9, -999.000, 9, -999.000, 9, -999.000, 9,   -999.0, 9,   -999.0, 9, -999.0000,   -999.00,   -999.0, 9,   -999.0,  -999.00, 9,   -999.0,   5.5690, 27.1030,   5.6274, 2, 9, -999.00, -999.00, -999.00, -999.000,  -999.00, 9, -999.00, -999.00, 9, -999.00
49NZ20071122, P14, 39, 1, 6, X12048, 9, 20071215, 1559, -20.8650, 177.5538, 3188,    902.5, 2,   4.8525, 2,  34.3805, 2, -999.0000, 9,    185.2, 2,   -999.0, 9,  -999.00, 9,  -999.00, 9,  -999.00, 9,  -999.00, 9, -999.000, 9, -999.000, 9, -999.000, 9, -999.000, 9,   -999.0, 9,   -999.0, 9, -999.0000,   -999.00,   -999.0, 9,   -999.0,  -999.00, 9,   -999.0,   4.7791, 27.2093,   4.8517, 2, 9, -999.00, -999.00, -999.00, -999.000,  -999.00, 9, -999.00, -999.00, 9, -999.00
49NZ20071122, P14, 39, 1, 5, X12014, 9, 20071215, 1559, -20.8650, 177.5538, 3188,   1001.4, 2,   4.2861, 2,  34.4218, 2, -999.0000, 9,    172.9, 2,   -999.0, 9,  -999.00, 9,  -999.00, 9,  -999.00, 9,  -999.00, 9, -999.000, 9, -999.000, 9, -999.000, 9, -999.000, 9,   -999.0, 9,   -999.0, 9, -999.0000,   -999.00,   -999.0, 9,   -999.0,  -999.00, 9,   -999.0,   4.2083, 27.3044,   4.2864, 2, 9, -999.00, -999.00, -999.00, -999.000,  -999.00, 9, -999.00, -999.00, 9, -999.00
49NZ20071122, P14, 39, 1, 4, X12006, 9, 20071215, 1559, -20.8650, 177.5538, 3188,   1200.5, 2,   3.5192, 2,  34.5028, 2, -999.0000, 9,    159.7, 2,   -999.0, 9,  -999.00, 9,  -999.00, 9,  -999.00, 9,  -999.00, 9, -999.000, 9, -999.000, 9, -999.000, 9, -999.000, 9,   -999.0, 9,   -999.0, 9, -999.0000,   -999.00,   -999.0, 9,   -999.0,  -999.00, 9,   -999.0,   3.4310, 27.4476,   3.5160, 2, 9, -999.00, -999.00, -999.00, -999.000,  -999.00, 9, -999.00, -999.00, 9, -999.00
49NZ20071122, P14, 39, 1, 3, X12013, 9, 20071215, 1559, -20.8650, 177.5538, 3188,   1401.9, 2,   2.9840, 2,  34.5638, 2, -999.0000, 9,    151.8, 2,   -999.0, 9,  -999.00, 9,  -999.00, 9,  -999.00, 9,  -999.00, 9, -999.000, 9, -999.000, 9, -999.000, 9, -999.000, 9,   -999.0, 9,   -999.0, 9, -999.0000,   -999.00,   -999.0, 9,   -999.0,  -999.00, 9,   -999.0,   2.8845, 27.5474,   2.9841, 2, 9, -999.00, -999.00, -999.00, -999.000,  -999.00, 9, -999.00, -999.00, 9, -999.00
49NZ20071122, P14, 39, 1, 2, X12002, 9, 20071215, 1559, -20.8650, 177.5538, 3188,   1600.7, 2,   2.7010, 2,  34.5923, 2, -999.0000, 9,    150.6, 2,   -999.0, 9,  -999.00, 9,  -999.00, 9,  -999.00, 9,  -999.00, 9, -999.000, 9, -999.000, 9, -999.000, 9, -999.000, 9,   -999.0, 9,   -999.0, 9, -999.0000,   -999.00,   -999.0, 9,   -999.0,  -999.00, 9,   -999.0,   2.5883, 27.5963,   2.7011, 2, 9, -999.00, -999.00, -999.00, -999.000,  -999.00, 9, -999.00, -999.00, 9, -999.00
49NZ20071122, P14, 39, 1, 1, X12001, 2, 20071215, 1559, -20.8650, 177.5538, 3188,   3220.4, 2,   1.8157, 2,  34.6810, 2,  34.6812, 6,    154.6, 2,    155.1, 2,   122.83, 2,    35.34, 2,     0.00, 2,     2.50, 2,    0.000, 2,    0.000, 2,    0.000, 2, -999.000, 9,   2309.3, 2,   2405.9, 2,    7.5987,     25.00,   -999.0, 9,   -999.0,  -999.00, 9,   -999.0,   1.5702, 27.7490,   1.8156, 2, 2, 0.39, 0.13, 0.01, 0.016,  -999.00, 9, -999.00, -999.00, 9, -999.00