BOTTLE,20220820CCHSIOAMB
EXPOCODE,SECT_ID,STNNBR,CASTNO,SAMPNO,BTLNBR,BTLNBR_FLAG_W,DATE,TIME,LATITUDE,LONGITUDE,DEPTH,CTDPRS,CTDPRS_FLAG_W,CTDTMP,CTDTMP_FLAG_W,CTDSAL,CTDSAL_FLAG_W,SALNTY,SALNTY_FLAG_W,CTDOXY,CTDOXY_FLAG_W,OXYGEN,OXYGEN_FLAG_W,SILCAT,SILCAT_FLAG_W,NITRAT,NITRAT_FLAG_W,NITRIT,NITRIT_FLAG_W,PHSPHT,PHSPHT_FLAG_W,CFC-11,CFC-11_FLAG_W,CFC-12,CFC-12_FLAG_W,CFC113,CFC113_FLAG_W,CCL4,CCL4_FLAG_W,TCARBN,TCARBN_FLAG_W,ALKALI,ALKALI_FLAG_W,PH_TOT,PH_TMP,DELC14,DELC14_FLAG_W,C14ERR,DELC13,DELC13_FLAG_W,C13ERR,THETA,SIG0,SBE35,SBE35_FLAG_W,PH_TOT_FLAG_W,SILUNC,NRAUNC,NRIUNC,PHPUNC,CS-137,CS-137_FLAG_W,CS137ER,PLUTO,PLUTO_FLAG_W,PLUTOER
,,,,,,,,,,,METERS,DBAR,,ITS-90,,PSS-78,,PSS-78,,UMOL/KG,,UMOL/KG,,UMOL/KG,,UMOL/KG,,UMOL/KG,,UMOL/KG,,PMOL/KG,,PMOL/KG,,PMOL/KG,,PMOL/KG,,UMOL/KG,,UMOL/KG,,,DEG C,/MILLE,,/MILLE,/MILLE,,/MILLE,DEG C,KG/M^3,ITS-90,,,UMOL/KG,UMOL/KG,UMOL/KG,UMOL/KG,DM/.1MG,,BQ/M^3,MBQ/M^3,,MBQ/M^3
49NZ20071122, P14N, 141, 1, 36, X12042, 2, 20071201, 1054, 0.5005, 179.0002, 5410,     10.5, 2,  27.4136, 2,  35.1827, 2,  35.1835, 2,    201.3, 2,    201.1, 2,     1.60, 2,     2.59, 2,     0.36, 2,     0.40, 2,    1.540, 2,    0.972, 2,    0.192, 4, -999.000, 9,   2003.4, 2,   2314.7, 2,    8.0595,     25.00,   -999.0, 9,   -999.0,  -999.00, 9,   -999.0,  27.4112, 22.7234,  27.4139, 2, 6, 0.12, 0.04, 0.00, 0.013,  -999.00, 9, -999.00, -999.00, 9, -999.00
49NZ20071122, P14N, 141, 1, 35, X12041, 2, 20071201, 1054, 0.5005, 179.0002, 5410,     50.9, 2,  26.6492, 2,  35.2178, 2,  35.2221, 2,    185.9, 2,    186.8, 2,     2.07, 2,     4.00, 2,     1.35, 2,     0.55, 2,    1.595, 2,    1.011, 2,    0.154, 4, -999.000, 9,   2028.2, 6,   2315.5, 2,    8.0207,     25.00,   -999.0, 9,   -999.0,  -999.00, 9,   -999.0,  26.6376, 22.9971,  26.6484, 2, 2, 0.12, 0.04, 0.00, 0.013,  -999.00, 9, -999.00, -999.00, 9, -999.00
49NZ20071122, P14N, 141, 1, 34, X12016, 2, 20071201, 1054, 0.5005, 179.0002, 5410,    100.7, 2,  26.2903, 2,  35.3095, 2,  35.3108, 2,    184.4, 2,    183.6, 2,     2.26, 2,     4.87, 2,     0.45, 2,     0.58, 2,    1.613, 2,    1.017, 2,    0.164, 4, -999.000, 9,   2038.1, 2,   2322.2, 6,    8.0147,     25.00,   -999.0, 9,   -999.0,  -999.00, 9,   -999.0,  26.2676, 23.1831,  26.2892, 2, 2, 0.12, 0.05, 0.00, 0.013,  -999.00, 9, -999.00, -999.00, 9, -999.00
49NZ20071122, P14N, 141, 1, 33, X12033, 2, 20071201, 1054, 0.5005, 179.0002, 5410,    152.4, 2,  25.5980, 2,  35.1993, 2,  35.2073, 2,    164.0, 2,    166.8, 2,     3.02, 2,     6.62, 2,     0.24, 2,     0.64, 2,    1.646, 6,    1.012, 6,    0.147, 3, -999.000, 9,   2043.7, 2,   2313.6, 2,    7.9907,     25.00,   -999.0, 9,   -999.0,  -999.00, 9,   -999.0,  25.5643, 23.3189,  25.6221, 2, 6, 0.13, 0.05, 0.01, 0.013,  -999.00, 9, -999.00, -999.00, 9, -999.00
49NZ20071122, P14N, 141, 1, 32, X12038, 2, 20071201, 1054, 0.5005, 179.0002, 5410,    199.3, 2,  18.1138, 2,  35.1147, 2,  35.1145, 2,    135.6, 2,    135.5, 2,     8.22, 2,    12.59, 2,     0.02, 2,     0.99, 2,    1.924, 2,    1.111, 2,    0.047, 2, -999.000, 9,   2109.7, 2,   2312.2, 2,    7.8618,     25.00,   -999.0, 9,   -999.0,  -999.00, 9,   -999.0,  18.0794, 25.3403,  18.1141, 2, 2, 0.14, 0.07, 0.01, 0.013,  -999.00, 9, -999.00, -999.00, 9, -999.00
49NZ20071122, P14N, 141, 1, 31, X12003, 2, 20071201, 1054, 0.5005, 179.0002, 5410,    249.0, 2,  13.4305, 2,  34.8848, 2,  34.8843, 6,    131.1, 2,    129.3, 2,    16.58, 2,    19.28, 2,     0.01, 2,     1.43, 2,    1.546, 2,    0.850, 2,    0.030, 2, -999.000, 9,   2154.6, 2,   2306.9, 2,    7.7560,     25.00,   -999.0, 9,   -999.0,  -999.00, 9,   -999.0,  13.3955, 26.2235,  13.4304, 2, 2, 0.16, 0.09, 0.01, 0.014,  -999.00, 9, -999.00, -999.00, 9, -999.00
49NZ20071122, P14N, 141, 1, 30, X12008, 2, 20071201, 1054, 0.5005, 179.0002, 5410,    280.3, 2,  12.1199, 2,  34.8418, 2,  34.8409, 2,    104.6, 2,    105.7, 2,    19.71, 2,    23.76, 2,     0.01, 2,     1.73, 2,    1.185, 2,    0.646, 2,    0.023, 2, -999.000, 9,   2180.9, 2,   2306.6, 2,    7.6865,     25.00,   -999.0, 9,   -999.0,  -999.00, 9,   -999.0,  12.0830, 26.4503,  12.1195, 2, 2, 0.16, 0.10, 0.01, 0.014,  -999.00, 9, -999.00, -999.00, 9, -999.00
49NZ20071122, P14N, 141, 1, 29, X12035, 2, 20071201, 1054, 0.5005, 179.0002, 5410,    371.6, 2,  11.0341, 2,  34.7791, 2,  34.7778, 2,     72.8, 2,     61.6, 2,    25.38, 2,    30.00, 2,     0.01, 2,     2.13, 2,    0.742, 2,    0.402, 2,    0.015, 2, -999.000, 9,   2221.6, 2,   2305.5, 2,    7.5739,     25.00,   -999.0, 9,   -999.0,  -999.00, 9,   -999.0,  10.9879, 26.6057,  11.0338, 2, 2, 0.17, 0.12, 0.01, 0.015,  -999.00, 9, -999.00, -999.00, 9, -999.00
49NZ20071122, P14N, 141, 1, 28, X12034, 2, 20071201, 1054, 0.5005, 179.0002, 5410,    472.3, 2,   9.1473, 2,  34.6606, 2,  34.6594, 6,     61.1, 2,     62.1, 2,    32.92, 2,    33.61, 2,     0.01, 2,     2.37, 2,    0.386, 2,    0.207, 2,    0.008, 2, -999.000, 9,   2239.7, 2,   2307.3, 2,    7.5311,     25.00,   -999.0, 9,   -999.0,  -999.00, 9,   -999.0,   9.0949, 26.8371,   9.1481, 2, 2, 0.19, 0.13, 0.01, 0.016,  -999.00, 9, -999.00, -999.00, 9, -999.00
49NZ20071122, P14N, 141, 1, 27, X12049, 2, 20071201, 1054, 0.5005, 179.0002, 5410,    570.0, 2,   7.7536, 2,  34.5985, 2,  34.5961, 2,     69.2, 2,     69.6, 2,    40.31, 2,    35.79, 2,     0.01, 2,     2.54, 2,    0.192, 2,    0.105, 2,    0.006, 2, -999.000, 9,   2250.8, 2,   2313.4, 2,    7.5146,     25.00,   -999.0, 9,   -999.0,  -999.00, 9,   -999.0,   7.6959, 27.0034,   7.7550, 2, 2, 0.21, 0.13, 0.01, 0.016,  -999.00, 9, -999.00, -999.00, 9, -999.00
49NZ20071122, P14N, 141, 1, 26, X12032, 2, 20071201, 1054, 0.5005, 179.0002, 5410,    670.4, 2,   6.4614, 2,  34.5528, 2,  34.5516, 2,     82.7, 2,     83.1, 2,    51.27, 2,    36.96, 2,     0.01, 2,     2.64, 2,    0.101, 6,    0.054, 6,    0.006, 6, -999.000, 9,   2260.2, 6,   2322.9, 2,    7.5160,     25.00,   -999.0, 9,   -999.0,  -999.00, 9,   -999.0,   6.3996, 27.1475,   6.4613, 2, 2, 0.23, 0.14, 0.01, 0.017,  -999.00, 9, -999.00, -999.00, 9, -999.00
49NZ20071122, P14N, 141, 1, 25, X12043, 2, 20071201, 1054, 0.5005, 179.0002, 5410,    772.4, 2,   5.9635, 2,  34.5439, 2,  34.5428, 2,     86.1, 2,     86.6, 2,    57.61, 2,    37.46, 2,     0.00, 2,     2.68, 2,    0.069, 2,    0.040, 2,    0.006, 2, -999.000, 9,   2266.3, 2,   2329.7, 6,    7.5154,     25.00,   -999.0, 9,   -999.0,  -999.00, 9,   -999.0,   5.8947, 27.2056,   5.9651, 2, 2, 0.25, 0.14, 0.01, 0.017,  -999.00, 9, -999.00, -999.00, 9, -999.00
49NZ20071122, P14N, 141, 1, 24, X12030, 2, 20071201, 1054, 0.5005, 179.0002, 5410,    870.2, 2,   5.2829, 2,  34.5458, 2,  34.5455, 2,     81.6, 2,     81.4, 2,    68.31, 2,    39.04, 2,     0.01, 2,     2.79, 2,    0.012, 2,    0.007, 2,    0.000, 2, -999.000, 9,   2284.6, 2,   2341.0, 2,    7.4983,     25.00,   -999.0, 9,   -999.0,  -999.00, 9,   -999.0,   5.2093, 27.2907,   5.2837, 2, 6, 0.27, 0.14, 0.01, 0.017,  -999.00, 9, -999.00, -999.00, 9, -999.00
49NZ20071122, P14N, 141, 1, 23, X12027, 2, 20071201, 1054, 0.5005, 179.0002, 5410,    970.7, 2,   4.8074, 2,  34.5498, 2,  34.5495, 6,     84.8, 2,     84.9, 2,    76.92, 2,    39.18, 2,     0.01, 2,     2.81, 2,    0.004, 2,    0.005, 2,    0.000, 2, -999.000, 9,   2291.8, 2,   2350.5, 2,    7.5005,     25.00,   -999.0, 9,   -999.0,  -999.00, 9,   -999.0,   4.7281, 27.3493,   4.8076, 2, 2, 0.29, 0.14, 0.01, 0.017,  -999.00, 9, -999.00, -999.00, 9, -999.00
49NZ20071122, P14N, 141, 1, 22, X12028, 2, 20071201, 1054, 0.5005, 179.0002, 5410,   1129.6, 2,   4.1449, 2,  34.5628, 2,  34.5631, 2,     93.4, 2,     90.6, 2,    90.48, 2,    39.30, 2,     0.01, 2,     2.82, 2,    0.002, 2,    0.002, 2,    0.000, 2, -999.000, 9,   2307.4, 2,   2365.5, 2,    7.5076,     25.00,   -999.0, 9,   -999.0,  -999.00, 9,   -999.0,   4.0570, 27.4325,   4.1472, 2, 2, 0.32, 0.14, 0.01, 0.017,  -999.00, 9, -999.00, -999.00, 9, -999.00
49NZ20071122, P14N, 141, 1, 21, X12009, 2, 20071201, 1054, 0.5005, 179.0002, 5410,   1329.9, 2,   3.6654, 2,  34.5798, 2,  34.5798, 2,     87.8, 2,     88.7, 2,   102.23, 2,    39.84, 2,     0.01, 2,     2.87, 2,    0.000, 2,    0.000, 2,    0.000, 2, -999.000, 9,   2318.1, 2,   2377.6, 2,    7.5005,     25.00,   -999.0, 9,   -999.0,  -999.00, 9,   -999.0,   3.5647, 27.4960,   3.6650, 2, 2, 0.34, 0.14, 0.01, 0.017,  -999.00, 9, -999.00, -999.00, 9, -999.00
49NZ20071122, P14N, 141, 1, 20, X12026, 2, 20071201, 1054, 0.5005, 179.0002, 5410,   1531.5, 2,   2.9909, 2,  34.6045, 2,  34.6047, 2,     96.1, 2,     97.0, 2,   117.19, 2,    39.52, 2,     0.01, 2,     2.84, 2,    0.000, 2,    0.000, 2,    0.000, 2, -999.000, 9,   2330.9, 2,   2394.5, 2,    7.5122,     25.00,   -999.0, 9,   -999.0,  -999.00, 9,   -999.0,   2.8805, 27.5803,   2.9904, 2, 6, 0.38, 0.14, 0.01, 0.017,  -999.00, 9, -999.00, -999.00, 9, -999.00
49NZ20071122, P14N, 141, 1, 19, X12025, 2, 20071201, 1054, 0.5005, 179.0002, 5410,   1731.5, 2,   2.7025, 2,  34.6163, 2,  34.6164, 2,    104.0, 2,    104.4, 2,   122.87, 2,    39.08, 2,     0.01, 2,     2.79, 2, -999.000, 9, -999.000, 9, -999.000, 9, -999.000, 9,   2334.2, 2,   2400.2, 2,    7.5247,     25.00,   -999.0, 9,   -999.0,  -999.00, 9,   -999.0,   2.5788, 27.6164,   2.7025, 2, 2, 0.39, 0.14, 0.01, 0.017,  -999.00, 9, -999.00, -999.00, 9, -999.00
49NZ20071122, P14N, 141, 1, 18, X12024, 2, 20071201, 1054, 0.5005, 179.0002, 5410,   1931.5, 2,   2.4091, 2,  34.6319, 2,  34.6322, 2,    107.2, 2,    107.5, 2,   130.88, 2,    39.06, 2,     0.01, 2,     2.78, 2, -999.000, 9, -999.000, 9, -999.000, 9, -999.000, 9,   2339.0, 2,   2409.7, 2,    7.5302,     25.00,   -999.0, 9,   -999.0,  -999.00, 9,   -999.0,   2.2724, 27.6547,   2.4091, 2, 2, 0.41, 0.14, 0.01, 0.017,  -999.00, 9, -999.00, -999.00, 9, -999.00
49NZ20071122, P14N, 141, 1, 17, X12023, 2, 20071201, 1054, 0.5005, 179.0002, 5410,   2130.5, 2,   2.1990, 2,  34.6422, 2,  34.6423, 6,    112.9, 2,    114.5, 2,   134.17, 2,    38.53, 2,     0.01, 2,     2.74, 2,    0.000, 2,    0.000, 2,    0.000, 2, -999.000, 9,   2338.6, 2,   2414.3, 2,    7.5418,     25.00,   -999.0, 9,   -999.0,  -999.00, 9,   -999.0,   2.0483, 27.6812,   2.1989, 2, 2, 0.41, 0.14, 0.01, 0.017,  -999.00, 9, -999.00, -999.00, 9, -999.00
49NZ20071122, P14N, 141, 1, 16, X12022, 2, 20071201, 1054, 0.5005, 179.0002, 5410,   2333.1, 2,   1.9534, 2,  34.6552, 2,  34.6550, 2,    121.2, 2,    121.9, 2,   138.76, 2,    38.18, 2,     0.00, 2,     2.70, 2, -999.000, 9, -999.000, 9, -999.000, 9, -999.000, 9,   2341.0, 6,   2418.5, 2,    7.5525,     25.00,   -999.0, 9,   -999.0,  -999.00, 9,   -999.0,   1.7889, 27.7119,   1.9533, 2, 2, 0.42, 0.14, 0.01, 0.017,  -999.00, 9, -999.00, -999.00, 9, -999.00
49NZ20071122, P14N, 141, 1, 15, X12021, 2, 20071201, 1054, 0.5005, 179.0002, 5410,   2531.2, 2,   1.8736, 2,  34.6614, 2,  34.6612, 2,    122.5, 2,    124.4, 2,   141.08, 2,    37.98, 2,     0.01, 2,     2.68, 2, -999.000, 9, -999.000, 9, -999.000, 9, -999.000, 9,   2340.7, 2,   2421.0, 6,    7.5583,     25.00,   -999.0, 9,   -999.0,  -999.00, 9,   -999.0,   1.6928, 27.7241,   1.8735, 2, 2, 0.43, 0.14, 0.01, 0.017,  -999.00, 9, -999.00, -999.00, 9, -999.00
49NZ20071122, P14N, 141, 1, 14, X12020, 2, 20071201, 1054, 0.5005, 179.0002, 5410,   2733.0, 2,   1.8017, 2,  34.6649, 2,  34.6649, 2,    127.3, 2,    128.1, 2,   141.72, 2,    37.77, 2,     0.01, 2,     2.66, 2,    0.000, 2,    0.000, 2,    0.000, 2, -999.000, 9,   2341.5, 2,   2420.7, 2,    7.5629,     25.00,   -999.0, 9,   -999.0,  -999.00, 9,   -999.0,   1.6037, 27.7336,   1.8018, 2, 2, 0.43, 0.14, 0.01, 0.017,  -999.00, 9, -999.00, -999.00, 9, -999.00
49NZ20071122, P14N, 141, 1, 13, X12019, 2, 20071201, 1054, 0.5005, 179.0002, 5410,   2931.3, 2,   1.6973, 2,  34.6700, 2,  34.6700, 2,    132.9, 2,    134.0, 2,   142.40, 2,    37.47, 2,     0.01, 2,     2.63, 2, -999.000, 9, -999.000, 9, -999.000, 9, -999.000, 9,   2335.1, 2,   2421.7, 2,    7.5708,     25.00,   -999.0, 9,   -999.0,  -999.00, 9,   -999.0,   1.4828, 27.7466,   1.6973, 2, 2, 0.43, 0.14, 0.01, 0.017,  -999.00, 9, -999.00, -999.00, 9, -999.00
49NZ20071122, P14N, 141, 1, 12, X12040, 2, 20071201, 1054, 0.5005, 179.0002, 5410,   3170.4, 2,   1.6203, 2,  34.6752, 2,  34.6753, 2,    140.5, 2,    140.4, 2,   141.43, 2,    36.83, 2,     0.01, 2,     2.58, 2, -999.000, 9, -999.000, 9, -999.000, 9, -999.000, 9,   2331.5, 2,   2420.0, 2,    7.5796,     25.00,   -999.0, 9,   -999.0,  -999.00, 9,   -999.0,   1.3843, 27.7578,   1.6203, 2, 2, 0.43, 0.14, 0.01, 0.016,  -999.00, 9, -999.00, -999.00, 9, -999.00
49NZ20071122, P14N, 141, 1, 11, X12047, 2, 20071201, 1054, 0.5005, 179.0002, 5410,   3421.3, 2,   1.5506, 2,  34.6800, 2,  34.6797, 2,    146.5, 2,    147.2, 2,   140.40, 2,    36.45, 2,     0.01, 2,     2.55, 2,    0.000, 2,    0.000, 2,    0.000, 2, -999.000, 9,   2326.2, 2,   2418.7, 2,    7.5876,     25.00,   -999.0, 9,   -999.0,  -999.00, 9,   -999.0,   1.2912, 27.7683,   1.5507, 2, 2, 0.43, 0.13, 0.01, 0.016,  -999.00, 9, -999.00, -999.00, 9, -999.00
49NZ20071122, P14N, 141, 1, 10, X12012, 2, 20071201, 1054, 0.5005, 179.0002, 5410,   3672.0, 2,   1.5018, 2,  34.6848, 2,  34.6847, 2,    152.4, 2,    153.7, 2,   138.76, 2,    36.00, 2,     0.01, 2,     2.52, 2,    0.000, 2,    0.000, 2,    0.000, 2, -999.000, 9,   2320.8, 2,   2417.8, 2,    7.5964,     25.00,   -999.0, 9,   -999.0,  -999.00, 9,   -999.0,   1.2178, 27.7773,   1.5017, 2, 2, 0.42, 0.13, 0.01, 0.016,  -999.00, 9, -999.00, -999.00, 9, -999.00
49NZ20071122, P14N, 141, 1, 9, X12015, 2, 20071201, 1054, 0.5005, 179.0002, 5410,   3921.1, 2,   1.4476, 2,  34.6901, 2,  34.6895, 6,    160.2, 2,    160.9, 2,   136.88, 2,    35.65, 2,     0.01, 2,     2.48, 2,    0.000, 2,    0.000, 2,    0.000, 2, -999.000, 9,   2314.7, 2,   2415.3, 2,    7.6065,     25.00,   -999.0, 9,   -999.0,  -999.00, 9,   -999.0,   1.1387, 27.7870,   1.4481, 2, 2, 0.42, 0.13, 0.01, 0.016,  -999.00, 9, -999.00, -999.00, 9, -999.00
49NZ20071122, P14N, 141, 1, 8, X12046, 2, 20071201, 1054, 0.5005, 179.0002, 5410,   4171.1, 2,   1.3908, 2,  34.6947, 2,  34.6944, 2,    168.3, 2,    169.0, 2,   133.75, 2,    35.00, 2,     0.01, 2,     2.44, 2,    0.000, 2,    0.000, 2,    0.000, 2, -999.000, 9,   2310.2, 6,   2410.7, 2,    7.6145,     25.00,   -999.0, 9,   -999.0,  -999.00, 9,   -999.0,   1.0562, 27.7963,   1.3908, 2, 2, 0.41, 0.13, 0.01, 0.016,  -999.00, 9, -999.00, -999.00, 9, -999.00
49NZ20071122, P14N, 141, 1, 7, X12044, 2, 20071201, 1054, 0.5005, 179.0002, 5410,   4418.7, 2,   1.3088, 2,  34.7000, 2,  34.7004, 2,    179.7, 2,    180.3, 2,   128.39, 2,    34.14, 2,     0.01, 2,     2.38, 2,    0.000, 2,    0.000, 2,    0.000, 2, -999.000, 9,   2296.4, 2,   2400.0, 6,    7.6220,     25.00,   -999.0, 9,   -999.0,  -999.00, 9,   -999.0,   0.9489, 27.8077,   1.3093, 2, 2, 0.40, 0.13, 0.01, 0.016,  -999.00, 9, -999.00, -999.00, 9, -999.00
49NZ20071122, P14N, 141, 1, 6, X12048, 2, 20071201, 1054, 0.5005, 179.0002, 5410,   4671.2, 2,   1.2656, 2,  34.7035, 2,  34.7036, 2,    187.5, 2,    187.4, 2,   124.73, 2,    33.68, 2,     0.00, 2,     2.34, 2,    0.000, 2,    0.000, 2,    0.000, 2, -999.000, 9,   2288.2, 2,   2392.5, 2,    7.6246,     25.00,   -999.0, 9,   -999.0,  -999.00, 9,   -999.0,   0.8781, 27.8151,   1.2656, 2, 6, 0.39, 0.13, 0.01, 0.016,  -999.00, 9, -999.00, -999.00, 9, -999.00
49NZ20071122, P14N, 141, 1, 5, X12014, 2, 20071201, 1054, 0.5005, 179.0002, 5410,   4918.0, 2,   1.2536, 2,  34.7051, 2,  34.7051, 2,    191.2, 2,    190.9, 2,   123.17, 2,    33.33, 2,     0.01, 2,     2.32, 2,    0.000, 2,    0.000, 2,    0.000, 2, -999.000, 9,   2282.2, 2,   2389.2, 2,    7.6264,     25.00,   -999.0, 9,   -999.0,  -999.00, 9,   -999.0,   0.8374, 27.8190,   1.2536, 2, 2, 0.39, 0.13, 0.01, 0.016,  -999.00, 9, -999.00, -999.00, 9, -999.00
49NZ20071122, P14N, 141, 1, 4, X12006, 2, 20071201, 1054, 0.5005, 179.0002, 5410,   5170.1, 2,   1.2740, 2,  34.7056, 2,  34.7057, 2,    192.6, 2,    192.3, 2,   122.42, 2,    33.30, 2,     0.01, 2,     2.31, 2,    0.000, 2,    0.000, 2,    0.006, 2, -999.000, 9,   2280.0, 2,   2385.5, 2,    7.6265,     25.00,   -999.0, 9,   -999.0,  -999.00, 9,   -999.0,   0.8266, 27.8201,   1.2741, 2, 2, 0.39, 0.13, 0.01, 0.016,  -999.00, 9, -999.00, -999.00, 9, -999.00
49NZ20071122, P14N, 141, 1, 3, X12013, 2, 20071201, 1054, 0.5005, 179.0002, 5410,   5420.4, 2,   1.3015, 2,  34.7058, 2,  34.7062, 2,    193.3, 2,    193.0, 2,   121.94, 2,    33.24, 2,     0.01, 2,     2.31, 2,    0.004, 2,    0.001, 2,    0.000, 2, -999.000, 9,   2280.2, 2,   2386.1, 2,    7.6265,     25.00,   -999.0, 9,   -999.0,  -999.00, 9,   -999.0,   0.8221, 27.8206,   1.3015, 2, 2, 0.39, 0.13, 0.01, 0.016,  -999.00, 9, -999.00, -999.00, 9, -999.00
49NZ20071122, P14N, 141, 1, 2, X12002, 9, 20071201, 1054, 0.5005, 179.0002, 5410,     10.2, 2,  27.4172, 2,  35.1823, 2, -999.0000, 9,    201.8, 2,   -999.0, 9,  -999.00, 9,  -999.00, 9,  -999.00, 9,  -999.00, 9, -999.000, 9, -999.000, 9, -999.000, 9, -999.000, 9,   -999.0, 9,   -999.0, 9, -999.0000,   -999.00,   -999.0, 9,   -999.0,  -999.00, 9,   -999.0,  27.4148, 22.7219,  27.4164, 2, 9, -999.00, -999.00, -999.00, -999.000,  -999.00, 9, -999.00, -999.00, 9, -999.00
49NZ20071122, P14N, 141, 1, 1, X12001, 2, 20071201, 1054, 0.5005, 179.0002, 5410,   5493.6, 2,   1.3107, 2,  34.7057, 2,  34.7065, 6,    193.4, 2,    192.9, 2,   122.05, 2,    33.27, 2,     0.01, 2,     2.31, 2,    0.000, 2,    0.002, 2,    0.000, 2, -999.000, 9,   2279.9, 2,   2385.3, 2,    7.6268,     25.00,   -999.0, 9,   -999.0,  -999.00, 9,   -999.0,   0.8217, 27.8205,   1.3106, 2, 2, 0.39, 0.13, 0.01, 0.016,  -999.00, 9, -999.00, -999.00, 9, -999.00