BOTTLE,20220820CCHSIOAMB
EXPOCODE,SECT_ID,STNNBR,CASTNO,SAMPNO,BTLNBR,BTLNBR_FLAG_W,DATE,TIME,LATITUDE,LONGITUDE,DEPTH,CTDPRS,CTDPRS_FLAG_W,CTDTMP,CTDTMP_FLAG_W,CTDSAL,CTDSAL_FLAG_W,SALNTY,SALNTY_FLAG_W,CTDOXY,CTDOXY_FLAG_W,OXYGEN,OXYGEN_FLAG_W,SILCAT,SILCAT_FLAG_W,NITRAT,NITRAT_FLAG_W,NITRIT,NITRIT_FLAG_W,PHSPHT,PHSPHT_FLAG_W,CFC-11,CFC-11_FLAG_W,CFC-12,CFC-12_FLAG_W,CFC113,CFC113_FLAG_W,CCL4,CCL4_FLAG_W,TCARBN,TCARBN_FLAG_W,ALKALI,ALKALI_FLAG_W,PH_TOT,PH_TMP,DELC14,DELC14_FLAG_W,C14ERR,DELC13,DELC13_FLAG_W,C13ERR,THETA,SIG0,SBE35,SBE35_FLAG_W,PH_TOT_FLAG_W,SILUNC,NRAUNC,NRIUNC,PHPUNC,CS-137,CS-137_FLAG_W,CS137ER,PLUTO,PLUTO_FLAG_W,PLUTOER
,,,,,,,,,,,METERS,DBAR,,ITS-90,,PSS-78,,PSS-78,,UMOL/KG,,UMOL/KG,,UMOL/KG,,UMOL/KG,,UMOL/KG,,UMOL/KG,,PMOL/KG,,PMOL/KG,,PMOL/KG,,PMOL/KG,,UMOL/KG,,UMOL/KG,,,DEG C,/MILLE,,/MILLE,/MILLE,,/MILLE,DEG C,KG/M^3,ITS-90,,,UMOL/KG,UMOL/KG,UMOL/KG,UMOL/KG,DM/.1MG,,BQ/M^3,MBQ/M^3,,MBQ/M^3
49NZ20071122, P14N, 147, 1, 36, X12042, 2, 20071203, 2034, -0.9942, 179.0007, 5476,     10.5, 2,  27.0141, 2,  35.2842, 2,  35.2817, 2,    196.6, 2,    198.4, 2,     1.85, 2,     3.53, 2,     0.42, 2,     0.46, 2,    1.608, 2,    0.993, 2,    0.190, 4, -999.000, 9,   2021.6, 2,   2321.3, 2,    8.0415,     25.00,   -999.0, 9,   -999.0,  -999.00, 9,   -999.0,  27.0117, 22.9281,  27.0144, 2, 6, 0.12, 0.04, 0.00, 0.013,  -999.00, 9, -999.00, -999.00, 9, -999.00
49NZ20071122, P14N, 147, 1, 35, X12041, 2, 20071203, 2034, -0.9942, 179.0007, 5476,     50.8, 2,  26.9144, 2,  35.3218, 2,  35.3237, 2,    195.4, 2,    196.4, 2,     1.83, 2,     3.63, 2,     0.44, 2,     0.49, 2,    1.607, 2,    0.993, 2,    0.191, 4, -999.000, 9,   2026.9, 6,   2324.5, 2,    8.0397,     25.00,   -999.0, 9,   -999.0,  -999.00, 9,   -999.0,  26.9028, 22.9912,  26.9137, 2, 2, 0.12, 0.04, 0.00, 0.013,  -999.00, 9, -999.00, -999.00, 9, -999.00
49NZ20071122, P14N, 147, 1, 34, X12016, 2, 20071203, 2034, -0.9942, 179.0007, 5476,    101.2, 2,  27.0735, 2,  35.5610, 2,  35.5715, 2,    193.2, 2,    190.9, 2,     1.64, 2,     3.91, 2,     0.85, 2,     0.55, 2,    1.594, 2,    0.978, 2,    0.158, 4, -999.000, 9,   2042.7, 2,   2341.1, 6,    8.0365,     25.00,   -999.0, 9,   -999.0,  -999.00, 9,   -999.0,  27.0502, 23.1243,  27.0730, 2, 2, 0.12, 0.04, 0.00, 0.013,  -999.00, 9, -999.00, -999.00, 9, -999.00
49NZ20071122, P14N, 147, 1, 33, X12033, 2, 20071203, 2034, -0.9942, 179.0007, 5476,    151.1, 2,  26.0623, 2,  35.7680, 2,  35.7731, 2,    156.3, 2,    157.8, 2,     1.89, 2,     6.90, 2,     0.14, 2,     0.69, 2,    1.682, 6,    1.021, 6,    0.129, 4, -999.000, 9,   2074.4, 2,   2352.3, 2,    7.9980,     25.00,   -999.0, 9,   -999.0,  -999.00, 9,   -999.0,  26.0284, 23.6040,  26.0611, 2, 2, 0.12, 0.05, 0.01, 0.013,  -999.00, 9, -999.00, -999.00, 9, -999.00
49NZ20071122, P14N, 147, 1, 32, X12038, 2, 20071203, 2034, -0.9942, 179.0007, 5476,    199.2, 2,  20.9358, 2,  35.7289, 2,  35.6673, 2,    115.4, 2,    119.9, 2,     4.12, 2,    12.17, 2,     0.03, 2,     1.03, 2,    1.851, 2,    1.062, 2,    0.044, 2, -999.000, 9,   2134.0, 2,   2344.1, 2,    7.8799,     25.00,   -999.0, 9,   -999.0,  -999.00, 9,   -999.0,  20.8976, 25.0768,  20.9345, 2, 2, 0.13, 0.07, 0.01, 0.013,  -999.00, 9, -999.00, -999.00, 9, -999.00
49NZ20071122, P14N, 147, 1, 31, X12003, 2, 20071203, 2034, -0.9942, 179.0007, 5476,    249.3, 2,  16.8162, 2,  35.3080, 2,  35.3021, 6,    129.0, 2,    132.9, 2,     7.07, 2,    14.53, 2,     0.01, 2,     1.14, 2,    1.791, 2,    0.994, 2,    0.034, 2, -999.000, 9,   2136.9, 2,   2316.3, 2,    7.8337,     25.00,   -999.0, 9,   -999.0,  -999.00, 9,   -999.0,  16.7752, 25.8040,  16.8307, 2, 2, 0.13, 0.07, 0.01, 0.013,  -999.00, 9, -999.00, -999.00, 9, -999.00
49NZ20071122, P14N, 147, 1, 30, X12008, 2, 20071203, 2034, -0.9942, 179.0007, 5476,    280.0, 2,  14.1732, 2,  35.0935, 2,  35.0927, 2,    134.0, 2,    133.2, 2,    10.74, 2,    17.73, 2,     0.01, 2,     1.34, 2,    1.616, 2,    0.873, 2,    0.027, 2, -999.000, 9,   2153.2, 2,   2316.0, 2,    7.7813,     25.00,   -999.0, 9,   -999.0,  -999.00, 9,   -999.0,  14.1322, 26.2315,  14.1742, 2, 2, 0.14, 0.08, 0.01, 0.014,  -999.00, 9, -999.00, -999.00, 9, -999.00
49NZ20071122, P14N, 147, 1, 29, X12035, 2, 20071203, 2034, -0.9942, 179.0007, 5476,    370.9, 2,  11.7405, 2,  34.8593, 2,  34.8505, 2,    107.9, 2,    111.7, 2,    18.74, 2,    23.97, 2,     0.01, 2,     1.74, 2,    1.155, 2,    0.606, 2,    0.021, 2, -999.000, 9,   2185.7, 2,   2306.5, 2,    7.6864,     25.00,   -999.0, 9,   -999.0,  -999.00, 9,   -999.0,  11.6925, 26.5381,  11.7421, 2, 2, 0.16, 0.10, 0.01, 0.014,  -999.00, 9, -999.00, -999.00, 9, -999.00
49NZ20071122, P14N, 147, 1, 28, X12034, 2, 20071203, 2034, -0.9942, 179.0007, 5476,    469.9, 2,   9.7635, 2,  34.7107, 2,  34.7002, 6,     48.9, 2,     48.8, 2,    31.01, 2,    34.15, 2,     0.01, 2,     2.39, 2,    0.405, 2,    0.213, 2,    0.006, 2, -999.000, 9,   2246.1, 2,   2306.5, 2,    7.5143,     25.00,   -999.0, 9,   -999.0,  -999.00, 9,   -999.0,   9.7092, 26.7753,   9.7638, 2, 2, 0.19, 0.13, 0.01, 0.016,  -999.00, 9, -999.00, -999.00, 9, -999.00
49NZ20071122, P14N, 147, 1, 27, X12049, 2, 20071203, 2034, -0.9942, 179.0007, 5476,    567.2, 2,   7.7190, 2,  34.5959, 2,  34.5927, 2,     86.6, 2,     90.0, 2,    36.78, 2,    34.05, 2,     0.00, 2,     2.40, 2,    0.288, 2,    0.152, 2,    0.005, 2, -999.000, 9,   2236.1, 2,   2312.9, 2,    7.5504,     25.00,   -999.0, 9,   -999.0,  -999.00, 9,   -999.0,   7.6618, 27.0064,   7.7164, 2, 2, 0.20, 0.13, 0.01, 0.016,  -999.00, 9, -999.00, -999.00, 9, -999.00
49NZ20071122, P14N, 147, 1, 26, X12032, 2, 20071203, 2034, -0.9942, 179.0007, 5476,    669.1, 2,   6.8543, 2,  34.5674, 2,  34.5654, 2,     80.2, 2,     76.3, 2,    46.21, 2,    37.14, 2,     0.00, 2,     2.64, 2,    0.128, 6,    0.069, 6,    0.000, 6, -999.000, 9,   2261.9, 6,   2316.3, 2,    7.5098,     25.00,   -999.0, 9,   -999.0,  -999.00, 9,   -999.0,   6.7907, 27.1068,   6.8531, 2, 2, 0.22, 0.14, 0.01, 0.017,  -999.00, 9, -999.00, -999.00, 9, -999.00
49NZ20071122, P14N, 147, 1, 25, X12043, 2, 20071203, 2034, -0.9942, 179.0007, 5476,    769.0, 2,   6.0762, 2,  34.5397, 2,  34.5386, 2,     99.2, 2,     98.8, 2,    52.15, 2,    36.31, 2,     0.00, 2,     2.58, 2,    0.117, 2,    0.066, 2,    0.000, 2, -999.000, 9,   2258.0, 2,   2325.9, 6,    7.5371,     25.00,   -999.0, 9,   -999.0,  -999.00, 9,   -999.0,   6.0071, 27.1881,   6.0740, 2, 2, 0.23, 0.13, 0.01, 0.016,  -999.00, 9, -999.00, -999.00, 9, -999.00
49NZ20071122, P14N, 147, 1, 24, X12030, 2, 20071203, 2034, -0.9942, 179.0007, 5476,    869.1, 2,   5.4377, 2,  34.5411, 2,  34.5405, 2,     94.9, 2,     90.7, 2,    64.02, 2,    37.82, 2,     0.00, 2,     2.70, 2,    0.051, 2,    0.026, 2,    0.000, 2, -999.000, 9,   2275.1, 2,   2337.4, 2,    7.5162,     25.00,   -999.0, 9,   -999.0,  -999.00, 9,   -999.0,   5.3632, 27.2687,   5.4377, 2, 6, 0.26, 0.14, 0.01, 0.017,  -999.00, 9, -999.00, -999.00, 9, -999.00
49NZ20071122, P14N, 147, 1, 23, X12027, 2, 20071203, 2034, -0.9942, 179.0007, 5476,    970.1, 2,   4.8788, 2,  34.5448, 2,  34.5453, 6,     90.8, 2,     93.6, 2,    73.54, 2,    38.32, 2,     0.00, 2,     2.75, 2,    0.018, 2,    0.011, 2,    0.000, 2, -999.000, 9,   2289.3, 2,   2348.3, 2,    7.5158,     25.00,   -999.0, 9,   -999.0,  -999.00, 9,   -999.0,   4.7990, 27.3374,   4.8797, 2, 2, 0.28, 0.14, 0.01, 0.017,  -999.00, 9, -999.00, -999.00, 9, -999.00
49NZ20071122, P14N, 147, 1, 22, X12028, 2, 20071203, 2034, -0.9942, 179.0007, 5476,   1128.5, 2,   4.1750, 2,  34.5602, 2,  34.5604, 2,     95.1, 2,     94.7, 2,    87.82, 2,    38.76, 2,     0.00, 2,     2.78, 2,    0.016, 2,    0.009, 2,    0.000, 2, -999.000, 9,   2304.8, 2,   2362.9, 2,    7.5140,     25.00,   -999.0, 9,   -999.0,  -999.00, 9,   -999.0,   4.0869, 27.4273,   4.1746, 2, 2, 0.31, 0.14, 0.01, 0.017,  -999.00, 9, -999.00, -999.00, 9, -999.00
49NZ20071122, P14N, 147, 1, 21, X12009, 2, 20071203, 2034, -0.9942, 179.0007, 5476,   1333.5, 2,   3.5768, 2,  34.5818, 2,  34.5821, 2,     93.2, 2,     91.6, 2,   102.80, 2,    39.51, 2,     0.00, 2,     2.85, 2,    0.004, 2,    0.003, 2,    0.000, 2, -999.000, 9,   2321.4, 2,   2379.8, 2,    7.5059,     25.00,   -999.0, 9,   -999.0,  -999.00, 9,   -999.0,   3.4767, 27.5061,   3.5769, 2, 2, 0.35, 0.14, 0.01, 0.017,  -999.00, 9, -999.00, -999.00, 9, -999.00
49NZ20071122, P14N, 147, 1, 20, X12026, 2, 20071203, 2034, -0.9942, 179.0007, 5476,   1531.2, 2,   3.0046, 2,  34.6030, 2,  34.6033, 2,     99.4, 2,     99.3, 2,   115.45, 2,    39.30, 2,     0.00, 2,     2.81, 2,    0.002, 2,    0.002, 2,    0.000, 2, -999.000, 9,   2333.1, 2,   2393.1, 2,    7.5169,     25.00,   -999.0, 9,   -999.0,  -999.00, 9,   -999.0,   2.8940, 27.5778,   3.0046, 2, 6, 0.37, 0.14, 0.01, 0.017,  -999.00, 9, -999.00, -999.00, 9, -999.00
49NZ20071122, P14N, 147, 1, 19, X12025, 2, 20071203, 2034, -0.9942, 179.0007, 5476,   1733.0, 2,   2.6045, 2,  34.6197, 2,  34.6200, 2,    108.0, 2,    108.6, 2,   123.28, 2,    38.67, 2,     0.00, 2,     2.76, 2, -999.000, 9, -999.000, 9, -999.000, 9, -999.000, 9,   2331.8, 2,   2402.0, 2,    7.5314,     25.00,   -999.0, 9,   -999.0,  -999.00, 9,   -999.0,   2.4819, 27.6274,   2.6046, 2, 2, 0.39, 0.14, 0.01, 0.017,  -999.00, 9, -999.00, -999.00, 9, -999.00
49NZ20071122, P14N, 147, 1, 18, X12024, 2, 20071203, 2034, -0.9942, 179.0007, 5476,   1929.7, 2,   2.4112, 2,  34.6310, 2,  34.6311, 2,    110.5, 2,    109.7, 2,   128.71, 2,    38.64, 2,     0.00, 2,     2.76, 2, -999.000, 9, -999.000, 9, -999.000, 9, -999.000, 9,   2339.0, 2,   2408.7, 2,    7.5332,     25.00,   -999.0, 9,   -999.0,  -999.00, 9,   -999.0,   2.2746, 27.6538,   2.4113, 2, 2, 0.40, 0.14, 0.01, 0.017,  -999.00, 9, -999.00, -999.00, 9, -999.00
49NZ20071122, P14N, 147, 1, 17, X12023, 2, 20071203, 2034, -0.9942, 179.0007, 5476,   2129.3, 2,   2.1803, 2,  34.6431, 2,  34.6433, 6,    116.5, 2,    116.5, 2,   133.21, 2,    38.35, 2,     0.00, 2,     2.72, 2,    0.003, 2,    0.003, 2,    0.000, 2, -999.000, 9,   2341.2, 2,   2412.5, 2,    7.5450,     25.00,   -999.0, 9,   -999.0,  -999.00, 9,   -999.0,   2.0300, 27.6834,   2.1806, 2, 2, 0.41, 0.14, 0.01, 0.017,  -999.00, 9, -999.00, -999.00, 9, -999.00
49NZ20071122, P14N, 147, 1, 16, X12022, 2, 20071203, 2034, -0.9942, 179.0007, 5476,   2332.0, 2,   2.0053, 2,  34.6532, 2,  34.6531, 2,    121.6, 2,    121.6, 2,   136.78, 2,    38.10, 2,     0.00, 2,     2.69, 2, -999.000, 9, -999.000, 9, -999.000, 9, -999.000, 9,   2342.5, 2,   2416.7, 2,    7.5526,     25.00,   -999.0, 9,   -999.0,  -999.00, 9,   -999.0,   1.8400, 27.7064,   2.0050, 2, 2, 0.42, 0.14, 0.01, 0.017,  -999.00, 9, -999.00, -999.00, 9, -999.00
49NZ20071122, P14N, 147, 1, 15, X12021, 2, 20071203, 2034, -0.9942, 179.0007, 5476,   2529.5, 2,   1.8642, 2,  34.6616, 2,  34.6616, 2,    125.2, 2,    125.4, 2,   140.18, 2,    37.91, 2,     0.00, 2,     2.67, 2, -999.000, 9, -999.000, 9, -999.000, 9, -999.000, 9,   2341.9, 2,   2421.3, 6,    7.5589,     25.00,   -999.0, 9,   -999.0,  -999.00, 9,   -999.0,   1.6837, 27.7250,   1.8642, 2, 2, 0.43, 0.14, 0.01, 0.017,  -999.00, 9, -999.00, -999.00, 9, -999.00
49NZ20071122, P14N, 147, 1, 14, X12020, 2, 20071203, 2034, -0.9942, 179.0007, 5476,   2730.4, 2,   1.7757, 2,  34.6651, 2,  34.6653, 2,    131.3, 2,    130.9, 2,   140.39, 2,    37.47, 2,     0.00, 2,     2.64, 2,    0.000, 2,    0.001, 2,    0.000, 2, -999.000, 9,   2342.6, 2,   2420.2, 2,    7.5661,     25.00,   -999.0, 9,   -999.0,  -999.00, 9,   -999.0,   1.5785, 27.7356,   1.7757, 2, 6, 0.43, 0.14, 0.01, 0.017,  -999.00, 9, -999.00, -999.00, 9, -999.00
49NZ20071122, P14N, 147, 1, 13, X12019, 2, 20071203, 2034, -0.9942, 179.0007, 5476,   2929.7, 2,   1.6996, 2,  34.6698, 2,  34.6696, 2,    134.9, 2,    135.0, 2,   141.25, 2,    37.26, 2,     0.00, 2,     2.62, 2, -999.000, 9, -999.000, 9, -999.000, 9, -999.000, 9,   2339.3, 2,   2421.3, 2,    7.5718,     25.00,   -999.0, 9,   -999.0,  -999.00, 9,   -999.0,   1.4852, 27.7463,   1.6996, 2, 2, 0.43, 0.14, 0.01, 0.017,  -999.00, 9, -999.00, -999.00, 9, -999.00
49NZ20071122, P14N, 147, 1, 12, X12040, 2, 20071203, 2034, -0.9942, 179.0007, 5476,   3168.9, 2,   1.6305, 2,  34.6744, 2,  34.6743, 2,    140.2, 2,    140.2, 2,   140.88, 2,    36.97, 2,     0.00, 2,     2.58, 2, -999.000, 9, -999.000, 9, -999.000, 9, -999.000, 9,   2339.4, 2,   2420.8, 2,    7.5790,     25.00,   -999.0, 9,   -999.0,  -999.00, 9,   -999.0,   1.3944, 27.7565,   1.6305, 2, 2, 0.43, 0.14, 0.01, 0.016,  -999.00, 9, -999.00, -999.00, 9, -999.00
49NZ20071122, P14N, 147, 1, 11, X12047, 2, 20071203, 2034, -0.9942, 179.0007, 5476,   3420.4, 2,   1.5567, 2,  34.6799, 2,  34.6797, 2,    147.7, 2,    147.6, 2,   139.34, 2,    36.38, 2,     0.00, 2,     2.54, 2,    0.000, 2,    0.000, 2,    0.000, 2, -999.000, 9,   2328.8, 2,   2418.5, 2,    7.5883,     25.00,   -999.0, 9,   -999.0,  -999.00, 9,   -999.0,   1.2973, 27.7678,   1.5567, 2, 2, 0.43, 0.13, 0.01, 0.016,  -999.00, 9, -999.00, -999.00, 9, -999.00
49NZ20071122, P14N, 147, 1, 10, X12012, 2, 20071203, 2034, -0.9942, 179.0007, 5476,   3669.1, 2,   1.5174, 2,  34.6841, 2,  34.6839, 2,    153.2, 2,    153.4, 2,   137.98, 2,    35.98, 2,     0.00, 2,     2.52, 2,    0.000, 2,    0.000, 2,    0.000, 2, -999.000, 9,   2328.9, 2,   2417.5, 2,    7.5962,     25.00,   -999.0, 9,   -999.0,  -999.00, 9,   -999.0,   1.2333, 27.7756,   1.5174, 2, 2, 0.42, 0.13, 0.01, 0.016,  -999.00, 9, -999.00, -999.00, 9, -999.00
49NZ20071122, P14N, 147, 1, 9, X12015, 2, 20071203, 2034, -0.9942, 179.0007, 5476,   3921.5, 2,   1.4461, 2,  34.6906, 2,  34.6903, 6,    161.8, 2,    161.9, 2,   136.05, 2,    35.54, 2,     0.00, 2,     2.47, 2,    0.000, 2,    0.000, 2,    0.000, 2, -999.000, 9,   2320.2, 2,   2415.9, 2,    7.6086,     25.00,   -999.0, 9,   -999.0,  -999.00, 9,   -999.0,   1.1372, 27.7875,   1.4462, 2, 2, 0.42, 0.13, 0.01, 0.016,  -999.00, 9, -999.00, -999.00, 9, -999.00
49NZ20071122, P14N, 147, 1, 8, X12046, 2, 20071203, 2034, -0.9942, 179.0007, 5476,   4170.1, 2,   1.3614, 2,  34.6966, 2,  34.6963, 2,    171.4, 2,    172.1, 2,   132.34, 2,    34.76, 2,     0.00, 2,     2.41, 2,    0.000, 2,    0.000, 2,    0.000, 2, -999.000, 9,   2310.5, 6,   2409.3, 2,    7.6181,     25.00,   -999.0, 9,   -999.0,  -999.00, 9,   -999.0,   1.0278, 27.7997,   1.3614, 2, 2, 0.41, 0.13, 0.01, 0.016,  -999.00, 9, -999.00, -999.00, 9, -999.00
49NZ20071122, P14N, 147, 1, 7, X12044, 2, 20071203, 2034, -0.9942, 179.0007, 5476,   4422.0, 2,   1.2892, 2,  34.7010, 2,  34.7011, 2,    182.5, 2,    182.7, 2,   126.69, 2,    33.92, 2,     0.00, 2,     2.36, 2,    0.000, 2,    0.000, 2,    0.000, 2, -999.000, 9,   2295.3, 2,   2397.4, 6,    7.6228,     25.00,   -999.0, 9,   -999.0,  -999.00, 9,   -999.0,   0.9296, 27.8097,   1.2892, 2, 2, 0.40, 0.13, 0.01, 0.016,  -999.00, 9, -999.00, -999.00, 9, -999.00
49NZ20071122, P14N, 147, 1, 6, X12048, 2, 20071203, 2034, -0.9942, 179.0007, 5476,   4667.3, 2,   1.2488, 2,  34.7042, 2,  34.7043, 2,    189.9, 2,    189.9, 2,   122.91, 2,    33.42, 2,     0.00, 2,     2.32, 2,    0.000, 2,    0.000, 2,    0.000, 2, -999.000, 9,   2285.6, 2,   2388.6, 2,    7.6245,     25.00,   -999.0, 9,   -999.0,  -999.00, 9,   -999.0,   0.8623, 27.8167,   1.2489, 2, 6, 0.39, 0.13, 0.01, 0.016,  -999.00, 9, -999.00, -999.00, 9, -999.00
49NZ20071122, P14N, 147, 1, 5, X12014, 2, 20071203, 2034, -0.9942, 179.0007, 5476,   4920.6, 2,   1.2584, 2,  34.7048, 2,  34.7046, 2,    191.2, 2,    191.2, 2,   122.77, 2,    33.32, 2,     0.00, 2,     2.32, 2,    0.000, 2,    0.001, 2,    0.000, 2, -999.000, 9,   2283.4, 2,   2388.3, 2,    7.6259,     25.00,   -999.0, 9,   -999.0,  -999.00, 9,   -999.0,   0.8417, 27.8185,   1.2584, 2, 2, 0.39, 0.13, 0.01, 0.016,  -999.00, 9, -999.00, -999.00, 9, -999.00
49NZ20071122, P14N, 147, 1, 4, X12006, 2, 20071203, 2034, -0.9942, 179.0007, 5476,   5169.7, 2,   1.2718, 2,  34.7055, 2,  34.7053, 2,    193.1, 2,    193.1, 2,   121.65, 2,    33.18, 2,     0.00, 2,     2.30, 2,    0.001, 2,    0.001, 2,    0.000, 2, -999.000, 9,   2277.7, 2,   2385.3, 2,    7.6257,     25.00,   -999.0, 9,   -999.0,  -999.00, 9,   -999.0,   0.8246, 27.8202,   1.2717, 2, 2, 0.39, 0.13, 0.01, 0.016,  -999.00, 9, -999.00, -999.00, 9, -999.00
49NZ20071122, P14N, 147, 1, 3, X12013, 2, 20071203, 2034, -0.9942, 179.0007, 5476,   5420.6, 2,   1.2990, 2,  34.7058, 2,  34.7062, 2,    194.0, 2,    193.8, 2,   121.06, 2,    33.09, 2,     0.00, 2,     2.30, 2, -999.000, 9, -999.000, 9, -999.000, 9, -999.000, 9,   2279.9, 2,   2383.9, 2,    7.6257,     25.00,   -999.0, 9,   -999.0,  -999.00, 9,   -999.0,   0.8197, 27.8207,   1.2990, 2, 2, 0.39, 0.13, 0.01, 0.016,  -999.00, 9, -999.00, -999.00, 9, -999.00
49NZ20071122, P14N, 147, 1, 2, X12002, 9, 20071203, 2034, -0.9942, 179.0007, 5476,     10.4, 2,  27.0156, 2,  35.2841, 2, -999.0000, 9,    196.4, 2,   -999.0, 9,  -999.00, 9,  -999.00, 9,  -999.00, 9,  -999.00, 9, -999.000, 9, -999.000, 9, -999.000, 9, -999.000, 9,   -999.0, 9,   -999.0, 9, -999.0000,   -999.00,   -999.0, 9,   -999.0,  -999.00, 9,   -999.0,  27.0132, 22.9276,  27.0169, 2, 9, -999.00, -999.00, -999.00, -999.000,  -999.00, 9, -999.00, -999.00, 9, -999.00
49NZ20071122, P14N, 147, 1, 1, X12001, 2, 20071203, 2034, -0.9942, 179.0007, 5476,   5549.2, 2,   1.3152, 2,  34.7058, 2,  34.7061, 6,    194.1, 2,    193.8, 2,   121.03, 2,    33.12, 2,     0.00, 2,     2.31, 2,    0.004, 2,    0.002, 2,    0.000, 2, -999.000, 9,   2279.7, 2,   2384.3, 2,    7.6260,     25.00,   -999.0, 9,   -999.0,  -999.00, 9,   -999.0,   0.8190, 27.8208,   1.3152, 2, 2, 0.39, 0.13, 0.01, 0.016,  -999.00, 9, -999.00, -999.00, 9, -999.00