BOTTLE,20220820CCHSIOAMB
EXPOCODE,SECT_ID,STNNBR,CASTNO,SAMPNO,BTLNBR,BTLNBR_FLAG_W,DATE,TIME,LATITUDE,LONGITUDE,DEPTH,CTDPRS,CTDPRS_FLAG_W,CTDTMP,CTDTMP_FLAG_W,CTDSAL,CTDSAL_FLAG_W,SALNTY,SALNTY_FLAG_W,CTDOXY,CTDOXY_FLAG_W,OXYGEN,OXYGEN_FLAG_W,SILCAT,SILCAT_FLAG_W,NITRAT,NITRAT_FLAG_W,NITRIT,NITRIT_FLAG_W,PHSPHT,PHSPHT_FLAG_W,CFC-11,CFC-11_FLAG_W,CFC-12,CFC-12_FLAG_W,CFC113,CFC113_FLAG_W,CCL4,CCL4_FLAG_W,TCARBN,TCARBN_FLAG_W,ALKALI,ALKALI_FLAG_W,PH_TOT,PH_TMP,DELC14,DELC14_FLAG_W,C14ERR,DELC13,DELC13_FLAG_W,C13ERR,THETA,SIG0,SBE35,SBE35_FLAG_W,PH_TOT_FLAG_W,SILUNC,NRAUNC,NRIUNC,PHPUNC,CS-137,CS-137_FLAG_W,CS137ER,PLUTO,PLUTO_FLAG_W,PLUTOER
,,,,,,,,,,,METERS,DBAR,,ITS-90,,PSS-78,,PSS-78,,UMOL/KG,,UMOL/KG,,UMOL/KG,,UMOL/KG,,UMOL/KG,,UMOL/KG,,PMOL/KG,,PMOL/KG,,PMOL/KG,,PMOL/KG,,UMOL/KG,,UMOL/KG,,,DEG C,/MILLE,,/MILLE,/MILLE,,/MILLE,DEG C,KG/M^3,ITS-90,,,UMOL/KG,UMOL/KG,UMOL/KG,UMOL/KG,DM/.1MG,,BQ/M^3,MBQ/M^3,,MBQ/M^3
49NZ20071122, P14, 50, 1, 36, X12042, 2, 20071214, 0117, -18.6615, 177.8738, 1126,     10.4, 2,  28.0416, 2,  34.6835, 2,  34.6834, 2,    203.8, 2,    202.6, 2,     1.06, 2,     0.05, 2,     0.01, 2,     0.10, 2,    1.524, 2,    0.942, 2,    0.281, 4, -999.000, 9,   1924.5, 2,   2272.3, 2,    8.1352,     25.00,   -999.0, 9,   -999.0,  -999.00, 9,   -999.0,  28.0392, 22.1439,  28.0429, 2, 6, 0.12, 0.03, 0.01, 0.022,  -999.00, 9, -999.00, -999.00, 9, -999.00
49NZ20071122, P14, 50, 1, 35, X12041, 2, 20071214, 0117, -18.6615, 177.8738, 1126,     50.5, 2,  27.5343, 2,  34.7460, 2,  34.7635, 2,    202.5, 2,    203.3, 2,     0.88, 2,     0.03, 2,     0.00, 2,     0.11, 2,    1.552, 2,    0.961, 2,    0.336, 4, -999.000, 9,   1933.0, 6,   2282.6, 2,    8.1333,     25.00,   -999.0, 9,   -999.0,  -999.00, 9,   -999.0,  27.5226, 22.3587,  27.5339, 2, 2, 0.12, 0.03, 0.01, 0.021,  -999.00, 9, -999.00, -999.00, 9, -999.00
49NZ20071122, P14, 50, 1, 34, X12016, 2, 20071214, 0117, -18.6615, 177.8738, 1126,    100.6, 2,  26.1531, 2,  35.3076, 2,  35.3112, 2,    203.1, 2,    203.4, 2,     0.58, 2,     0.03, 2,     0.02, 2,     0.12, 2,    1.668, 2,    1.023, 2,    0.368, 4, -999.000, 9,   1971.5, 2,   2320.4, 6,    8.1236,     25.00,   -999.0, 9,   -999.0,  -999.00, 9,   -999.0,  26.1305, 23.2246,  26.1521, 2, 2, 0.12, 0.03, 0.01, 0.020,  -999.00, 9, -999.00, -999.00, 9, -999.00
49NZ20071122, P14, 50, 1, 33, X12033, 2, 20071214, 0117, -18.6615, 177.8738, 1126,    150.6, 2,  23.1141, 2,  35.6894, 2,  35.6965, 2,    167.0, 2,    166.7, 2,     0.85, 2,     2.71, 2,     0.03, 2,     0.37, 2,    1.929, 6,    1.138, 6,    0.125, 4, -999.000, 9,   2052.5, 2,   2343.1, 2,    8.0184,     25.00,   -999.0, 9,   -999.0,  -999.00, 9,   -999.0,  23.0831, 24.4325,  23.1097, 2, 2, 0.12, 0.04, 0.01, 0.014,  -999.00, 9, -999.00, -999.00, 9, -999.00
49NZ20071122, P14, 50, 1, 32, X12038, 2, 20071214, 0117, -18.6615, 177.8738, 1126,    200.3, 2,  21.0222, 2,  35.7154, 2,  35.7095, 2,    167.2, 2,    166.6, 2,     1.01, 2,     3.99, 2,     0.01, 2,     0.45, 2,    2.102, 2,    1.207, 2,    0.059, 2, -999.000, 9,   2076.8, 2,   2345.9, 2,    7.9787,     25.00,   -999.0, 9,   -999.0,  -999.00, 9,   -999.0,  20.9837, 25.0431,  21.0225, 2, 2, 0.12, 0.04, 0.01, 0.013,  -999.00, 9, -999.00, -999.00, 9, -999.00
49NZ20071122, P14, 50, 1, 31, X12003, 2, 20071214, 0117, -18.6615, 177.8738, 1126,    248.9, 2,  18.7073, 2,  35.5403, 2,  35.5303, 6,    176.8, 2,    176.5, 2,     1.28, 2,     5.00, 2,     0.01, 2,     0.50, 2,    2.246, 2,    1.254, 2,    0.032, 2, -999.000, 9,   2082.6, 2,   2332.9, 2,    7.9486,     25.00,   -999.0, 9,   -999.0,  -999.00, 9,   -999.0,  18.6632, 25.5200,  18.7079, 2, 2, 0.12, 0.05, 0.01, 0.013,  -999.00, 9, -999.00, -999.00, 9, -999.00
49NZ20071122, P14, 50, 1, 30, X12008, 2, 20071214, 0117, -18.6615, 177.8738, 1126,    331.1, 2,  15.2606, 2,  35.2013, 2,  35.1961, 2,    180.7, 2,    180.8, 2,     2.72, 2,     8.87, 2,     0.01, 2,     0.76, 2,    2.288, 2,    1.230, 2,    0.041, 2, -999.000, 9,   2101.5, 2,   2315.4, 2,    7.8807,     25.00,   -999.0, 9,   -999.0,  -999.00, 9,   -999.0,  15.2096, 26.0808,  15.2638, 2, 2, 0.12, 0.06, 0.01, 0.013,  -999.00, 9, -999.00, -999.00, 9, -999.00
49NZ20071122, P14, 50, 1, 29, X12035, 2, 20071214, 0117, -18.6615, 177.8738, 1126,    431.3, 2,  11.8995, 2,  34.8506, 2,  34.8447, 2,    181.9, 2,    181.9, 2,     5.70, 2,    15.18, 2,     0.01, 2,     1.17, 2,    2.074, 2,    1.064, 2,    0.034, 2, -999.000, 9,   2127.2, 2,   2300.1, 2,    7.7993,     25.00,   -999.0, 9,   -999.0,  -999.00, 9,   -999.0,  11.8431, 26.5030,  11.9026, 2, 2, 0.13, 0.08, 0.01, 0.013,  -999.00, 9, -999.00, -999.00, 9, -999.00
49NZ20071122, P14, 50, 1, 28, X12034, 2, 20071214, 0117, -18.6615, 177.8738, 1126,    531.5, 2,   8.3501, 2,  34.5273, 2,  34.5219, 6,    195.9, 2,    196.3, 2,    10.46, 2,    22.13, 2,     0.00, 2,     1.60, 2,    1.670, 2,    0.824, 2,    0.043, 2, -999.000, 9,   2150.9, 2,   2289.3, 2,    7.7251,     25.00,   -999.0, 9,   -999.0,  -999.00, 9,   -999.0,   8.2941, 26.8582,   8.3504, 2, 2, 0.14, 0.09, 0.01, 0.014,  -999.00, 9, -999.00, -999.00, 9, -999.00
49NZ20071122, P14, 50, 1, 27, X12049, 2, 20071214, 0117, -18.6615, 177.8738, 1126,    632.1, 2,   6.4426, 2,  34.4065, 2,  34.4061, 2,    196.8, 2,    196.0, 2,    18.56, 2,    26.79, 2,     0.00, 2,     1.89, 2,    0.978, 2,    0.478, 2,    0.020, 2, -999.000, 9,   2170.5, 2,   2292.0, 2,    7.6824,     25.00,   -999.0, 9,   -999.0,  -999.00, 9,   -999.0,   6.3848, 27.0341,   6.4424, 2, 2, 0.16, 0.11, 0.01, 0.015,  -999.00, 9, -999.00, -999.00, 9, -999.00
49NZ20071122, P14, 50, 1, 26, X12032, 2, 20071214, 0117, -18.6615, 177.8738, 1126,    730.3, 2,   5.4558, 2,  34.4000, 2,  34.4007, 2,    186.2, 2,    184.5, 2,    30.18, 2,    29.72, 2,     0.00, 2,     2.09, 2,    0.502, 6,    0.251, 6,    0.008, 2, -999.000, 9,   2193.4, 6,   2302.9, 2,    7.6502,     25.00,   -999.0, 9,   -999.0,  -999.00, 9,   -999.0,   5.3940, 27.1533,   5.4563, 2, 2, 0.19, 0.12, 0.01, 0.015,  -999.00, 9, -999.00, -999.00, 9, -999.00
49NZ20071122, P14, 50, 1, 25, X12043, 2, 20071214, 0117, -18.6615, 177.8738, 1126,    829.9, 2,   4.8020, 2,  34.4149, 2,  34.4157, 2,    175.9, 2,    175.5, 2,    40.64, 2,    31.58, 2,     0.00, 2,     2.22, 2,    0.265, 2,    0.131, 2,    0.093, 4, -999.000, 9,   2211.5, 2,   2312.8, 6,    7.6286,     25.00,   -999.0, 9,   -999.0,  -999.00, 9,   -999.0,   4.7353, 27.2415,   4.8022, 2, 2, 0.21, 0.12, 0.01, 0.016,  -999.00, 9, -999.00, -999.00, 9, -999.00
49NZ20071122, P14, 50, 1, 24, X12030, 4, 20071214, 0117, -18.6615, 177.8738, 1126,    930.5, 2,   4.3329, 2,  34.4343, 2,  34.9255, 4,    170.7, 2,    204.7, 4,     0.90, 4,     0.12, 4,     0.00, 4,     0.12, 4,    1.581, 4,    0.967, 4,    0.234, 4, -999.000, 9,   1942.9, 4,   2293.9, 4,    8.1323,     25.00,   -999.0, 9,   -999.0,  -999.00, 9,   -999.0,   4.2607, 27.3088,   4.3342, 2, 4, 0.12, 0.03, 0.01, 0.020,  -999.00, 9, -999.00, -999.00, 9, -999.00
49NZ20071122, P14, 50, 1, 23, X12027, 2, 20071214, 0117, -18.6615, 177.8738, 1126,   1069.4, 2,   3.9304, 2,  34.4722, 2,  34.4767, 6,    162.1, 2,    161.2, 2,    62.41, 2,    33.72, 2,     0.00, 2,     2.37, 2,    0.084, 2,    0.043, 2,    0.000, 2, -999.000, 9,   2242.5, 2,   2336.5, 2,    7.6162,     25.00,   -999.0, 9,   -999.0,  -999.00, 9,   -999.0,   3.8496, 27.3817,   3.9299, 2, 2, 0.26, 0.13, 0.01, 0.016,  -999.00, 9, -999.00, -999.00, 9, -999.00
49NZ20071122, P14, 50, 1, 22, X12028, 9, 20071214, 0117, -18.6615, 177.8738, 1126,     10.3, 2,  28.0373, 2,  34.6832, 2, -999.0000, 9,    203.8, 2,   -999.0, 9,  -999.00, 9,  -999.00, 9,  -999.00, 9,  -999.00, 9, -999.000, 9, -999.000, 9, -999.000, 9, -999.000, 9,   -999.0, 9,   -999.0, 9, -999.0000,   -999.00,   -999.0, 9,   -999.0,  -999.00, 9,   -999.0,  28.0349, 22.1451,  28.0386, 2, 9, -999.00, -999.00, -999.00, -999.000,  -999.00, 9, -999.00, -999.00, 9, -999.00
49NZ20071122, P14, 50, 1, 21, X12009, 9, 20071214, 0117, -18.6615, 177.8738, 1126,     50.3, 2,  27.5357, 2,  34.7448, 2, -999.0000, 9,    202.7, 2,   -999.0, 9,  -999.00, 9,  -999.00, 9,  -999.00, 9,  -999.00, 9, -999.000, 9, -999.000, 9, -999.000, 9, -999.000, 9,   -999.0, 9,   -999.0, 9, -999.0000,   -999.00,   -999.0, 9,   -999.0,  -999.00, 9,   -999.0,  27.5240, 22.3573,  27.5350, 2, 9, -999.00, -999.00, -999.00, -999.000,  -999.00, 9, -999.00, -999.00, 9, -999.00
49NZ20071122, P14, 50, 1, 20, X12026, 9, 20071214, 0117, -18.6615, 177.8738, 1126,    100.6, 2,  26.1667, 2,  35.3011, 2, -999.0000, 9,    203.0, 2,   -999.0, 9,  -999.00, 9,  -999.00, 9,  -999.00, 9,  -999.00, 9, -999.000, 9, -999.000, 9, -999.000, 9, -999.000, 9,   -999.0, 9,   -999.0, 9, -999.0000,   -999.00,   -999.0, 9,   -999.0,  -999.00, 9,   -999.0,  26.1441, 23.2155,  26.1657, 2, 9, -999.00, -999.00, -999.00, -999.000,  -999.00, 9, -999.00, -999.00, 9, -999.00
49NZ20071122, P14, 50, 1, 19, X12025, 9, 20071214, 0117, -18.6615, 177.8738, 1126,    150.6, 2,  23.1184, 2,  35.6891, 2, -999.0000, 9,    167.0, 2,   -999.0, 9,  -999.00, 9,  -999.00, 9,  -999.00, 9,  -999.00, 9, -999.000, 9, -999.000, 9, -999.000, 9, -999.000, 9,   -999.0, 9,   -999.0, 9, -999.0000,   -999.00,   -999.0, 9,   -999.0,  -999.00, 9,   -999.0,  23.0874, 24.4310,  23.1134, 2, 9, -999.00, -999.00, -999.00, -999.000,  -999.00, 9, -999.00, -999.00, 9, -999.00
49NZ20071122, P14, 50, 1, 18, X12024, 9, 20071214, 0117, -18.6615, 177.8738, 1126,    200.4, 2,  21.0295, 2,  35.7154, 2, -999.0000, 9,    167.2, 2,   -999.0, 9,  -999.00, 9,  -999.00, 9,  -999.00, 9,  -999.00, 9, -999.000, 9, -999.000, 9, -999.000, 9, -999.000, 9,   -999.0, 9,   -999.0, 9, -999.0000,   -999.00,   -999.0, 9,   -999.0,  -999.00, 9,   -999.0,  20.9909, 25.0411,  21.0299, 2, 9, -999.00, -999.00, -999.00, -999.000,  -999.00, 9, -999.00, -999.00, 9, -999.00
49NZ20071122, P14, 50, 1, 17, X12023, 9, 20071214, 0117, -18.6615, 177.8738, 1126,    248.7, 2,  18.6987, 2,  35.5393, 2, -999.0000, 9,    176.8, 2,   -999.0, 9,  -999.00, 9,  -999.00, 9,  -999.00, 9,  -999.00, 9, -999.000, 9, -999.000, 9, -999.000, 9, -999.000, 9,   -999.0, 9,   -999.0, 9, -999.0000,   -999.00,   -999.0, 9,   -999.0,  -999.00, 9,   -999.0,  18.6546, 25.5214,  18.7012, 2, 9, -999.00, -999.00, -999.00, -999.000,  -999.00, 9, -999.00, -999.00, 9, -999.00
49NZ20071122, P14, 50, 1, 16, X12022, 9, 20071214, 0117, -18.6615, 177.8738, 1126,    331.2, 2,  15.2833, 2,  35.2024, 2, -999.0000, 9,    180.6, 2,   -999.0, 9,  -999.00, 9,  -999.00, 9,  -999.00, 9,  -999.00, 9, -999.000, 9, -999.000, 9, -999.000, 9, -999.000, 9,   -999.0, 9,   -999.0, 9, -999.0000,   -999.00,   -999.0, 9,   -999.0,  -999.00, 9,   -999.0,  15.2322, 26.0767,  15.2795, 2, 9, -999.00, -999.00, -999.00, -999.000,  -999.00, 9, -999.00, -999.00, 9, -999.00
49NZ20071122, P14, 50, 1, 15, X12021, 9, 20071214, 0117, -18.6615, 177.8738, 1126,    430.5, 2,  11.8844, 2,  34.8468, 2, -999.0000, 9,    182.2, 2,   -999.0, 9,  -999.00, 9,  -999.00, 9,  -999.00, 9,  -999.00, 9, -999.000, 9, -999.000, 9, -999.000, 9, -999.000, 9,   -999.0, 9,   -999.0, 9, -999.0000,   -999.00,   -999.0, 9,   -999.0,  -999.00, 9,   -999.0,  11.8281, 26.5028,  11.8858, 2, 9, -999.00, -999.00, -999.00, -999.000,  -999.00, 9, -999.00, -999.00, 9, -999.00
49NZ20071122, P14, 50, 1, 14, X12020, 9, 20071214, 0117, -18.6615, 177.8738, 1126,    531.0, 2,   8.3557, 2,  34.5272, 2, -999.0000, 9,    195.9, 2,   -999.0, 9,  -999.00, 9,  -999.00, 9,  -999.00, 9,  -999.00, 9, -999.000, 9, -999.000, 9, -999.000, 9, -999.000, 9,   -999.0, 9,   -999.0, 9, -999.0000,   -999.00,   -999.0, 9,   -999.0,  -999.00, 9,   -999.0,   8.2998, 26.8573,   8.3553, 2, 9, -999.00, -999.00, -999.00, -999.000,  -999.00, 9, -999.00, -999.00, 9, -999.00
49NZ20071122, P14, 50, 1, 13, X12019, 9, 20071214, 0117, -18.6615, 177.8738, 1126,    631.6, 2,   6.4468, 2,  34.4061, 2, -999.0000, 9,    196.9, 2,   -999.0, 9,  -999.00, 9,  -999.00, 9,  -999.00, 9,  -999.00, 9, -999.000, 9, -999.000, 9, -999.000, 9, -999.000, 9,   -999.0, 9,   -999.0, 9, -999.0000,   -999.00,   -999.0, 9,   -999.0,  -999.00, 9,   -999.0,   6.3890, 27.0332,   6.4469, 2, 9, -999.00, -999.00, -999.00, -999.000,  -999.00, 9, -999.00, -999.00, 9, -999.00
49NZ20071122, P14, 50, 1, 12, X12040, 9, 20071214, 0117, -18.6615, 177.8738, 1126,    729.1, 2,   5.4555, 2,  34.3997, 2, -999.0000, 9,    186.4, 2,   -999.0, 9,  -999.00, 9,  -999.00, 9,  -999.00, 9,  -999.00, 9, -999.000, 9, -999.000, 9, -999.000, 9, -999.000, 9,   -999.0, 9,   -999.0, 9, -999.0000,   -999.00,   -999.0, 9,   -999.0,  -999.00, 9,   -999.0,   5.3938, 27.1530,   5.4552, 2, 9, -999.00, -999.00, -999.00, -999.000,  -999.00, 9, -999.00, -999.00, 9, -999.00
49NZ20071122, P14, 50, 1, 11, X12047, 9, 20071214, 0117, -18.6615, 177.8738, 1126,    830.7, 2,   4.8061, 2,  34.4145, 2, -999.0000, 9,    175.8, 2,   -999.0, 9,  -999.00, 9,  -999.00, 9,  -999.00, 9,  -999.00, 9, -999.000, 9, -999.000, 9, -999.000, 9, -999.000, 9,   -999.0, 9,   -999.0, 9, -999.0000,   -999.00,   -999.0, 9,   -999.0,  -999.00, 9,   -999.0,   4.7393, 27.2407,   4.8069, 2, 9, -999.00, -999.00, -999.00, -999.000,  -999.00, 9, -999.00, -999.00, 9, -999.00
49NZ20071122, P14, 50, 1, 10, X12012, 2, 20071214, 0117, -18.6615, 177.8738, 1126,    930.3, 2,   4.3251, 2,  34.4354, 2,  34.4366, 2,    170.7, 2,    170.0, 2,    49.98, 2,    32.66, 2,     0.00, 2,     2.30, 2,    0.152, 2,    0.079, 2,    0.000, 2, -999.000, 9,   2224.8, 2,   2323.3, 2,    7.6162,     25.00,   -999.0, 9,   -999.0,  -999.00, 9,   -999.0,   4.2530, 27.3105,   4.3254, 2, 6, 0.23, 0.12, 0.01, 0.016,  -999.00, 9, -999.00, -999.00, 9, -999.00
49NZ20071122, P14, 50, 1, 9, X12015, 9, 20071214, 0117, -18.6615, 177.8738, 1126,   1069.1, 2,   3.9243, 2,  34.4725, 2, -999.0000, 9,    162.1, 2,   -999.0, 9,  -999.00, 9,  -999.00, 9,  -999.00, 9,  -999.00, 9, -999.000, 9, -999.000, 9, -999.000, 9, -999.000, 9,   -999.0, 9,   -999.0, 9, -999.0000,   -999.00,   -999.0, 9,   -999.0,  -999.00, 9,   -999.0,   3.8435, 27.3826,   3.9253, 2, 9, -999.00, -999.00, -999.00, -999.000,  -999.00, 9, -999.00, -999.00, 9, -999.00
49NZ20071122, P14, 50, 1, 8, X12046, 9, 20071214, 0117, -18.6615, 177.8738, 1126,     10.2, 2,  28.0435, 2,  34.6834, 2, -999.0000, 9,    203.9, 2,   -999.0, 9,  -999.00, 9,  -999.00, 9,  -999.00, 9,  -999.00, 9, -999.000, 9, -999.000, 9, -999.000, 9, -999.000, 9,   -999.0, 9,   -999.0, 9, -999.0000,   -999.00,   -999.0, 9,   -999.0,  -999.00, 9,   -999.0,  28.0411, 22.1432,  28.0433, 2, 9, -999.00, -999.00, -999.00, -999.000,  -999.00, 9, -999.00, -999.00, 9, -999.00
49NZ20071122, P14, 50, 1, 7, X12044, 9, 20071214, 0117, -18.6615, 177.8738, 1126,     50.2, 2,  27.5297, 2,  34.7524, 2, -999.0000, 9,    201.9, 2,   -999.0, 9,  -999.00, 9,  -999.00, 9,  -999.00, 9,  -999.00, 9, -999.000, 9, -999.000, 9, -999.000, 9, -999.000, 9,   -999.0, 9,   -999.0, 9, -999.0000,   -999.00,   -999.0, 9,   -999.0,  -999.00, 9,   -999.0,  27.5180, 22.3650,  27.5277, 2, 9, -999.00, -999.00, -999.00, -999.000,  -999.00, 9, -999.00, -999.00, 9, -999.00
49NZ20071122, P14, 50, 1, 6, X12048, 9, 20071214, 0117, -18.6615, 177.8738, 1126,    100.6, 2,  26.1551, 2,  35.2984, 2, -999.0000, 9,    203.0, 2,   -999.0, 9,  -999.00, 9,  -999.00, 9,  -999.00, 9,  -999.00, 9, -999.000, 9, -999.000, 9, -999.000, 9, -999.000, 9,   -999.0, 9,   -999.0, 9, -999.0000,   -999.00,   -999.0, 9,   -999.0,  -999.00, 9,   -999.0,  26.1325, 23.2171,  26.1516, 2, 9, -999.00, -999.00, -999.00, -999.000,  -999.00, 9, -999.00, -999.00, 9, -999.00
49NZ20071122, P14, 50, 1, 5, X12014, 9, 20071214, 0117, -18.6615, 177.8738, 1126,    150.7, 2,  23.1124, 2,  35.6895, 2, -999.0000, 9,    167.1, 2,   -999.0, 9,  -999.00, 9,  -999.00, 9,  -999.00, 9,  -999.00, 9, -999.000, 9, -999.000, 9, -999.000, 9, -999.000, 9,   -999.0, 9,   -999.0, 9, -999.0000,   -999.00,   -999.0, 9,   -999.0,  -999.00, 9,   -999.0,  23.0814, 24.4331,  23.1125, 2, 9, -999.00, -999.00, -999.00, -999.000,  -999.00, 9, -999.00, -999.00, 9, -999.00
49NZ20071122, P14, 50, 1, 4, X12006, 9, 20071214, 0117, -18.6615, 177.8738, 1126,    200.5, 2,  21.0309, 2,  35.7146, 2, -999.0000, 9,    167.2, 2,   -999.0, 9,  -999.00, 9,  -999.00, 9,  -999.00, 9,  -999.00, 9, -999.000, 9, -999.000, 9, -999.000, 9, -999.000, 9,   -999.0, 9,   -999.0, 9, -999.0000,   -999.00,   -999.0, 9,   -999.0,  -999.00, 9,   -999.0,  20.9923, 25.0401,  21.0316, 2, 9, -999.00, -999.00, -999.00, -999.000,  -999.00, 9, -999.00, -999.00, 9, -999.00
49NZ20071122, P14, 50, 1, 3, X12013, 9, 20071214, 0117, -18.6615, 177.8738, 1126,    248.5, 2,  18.7052, 2,  35.5386, 2, -999.0000, 9,    176.8, 2,   -999.0, 9,  -999.00, 9,  -999.00, 9,  -999.00, 9,  -999.00, 9, -999.000, 9, -999.000, 9, -999.000, 9, -999.000, 9,   -999.0, 9,   -999.0, 9, -999.0000,   -999.00,   -999.0, 9,   -999.0,  -999.00, 9,   -999.0,  18.6612, 25.5192,  18.7041, 2, 9, -999.00, -999.00, -999.00, -999.000,  -999.00, 9, -999.00, -999.00, 9, -999.00
49NZ20071122, P14, 50, 1, 2, X12002, 9, 20071214, 0117, -18.6615, 177.8738, 1126,    330.2, 2,  15.3175, 2,  35.2032, 2, -999.0000, 9,    180.5, 2,   -999.0, 9,  -999.00, 9,  -999.00, 9,  -999.00, 9,  -999.00, 9, -999.000, 9, -999.000, 9, -999.000, 9, -999.000, 9,   -999.0, 9,   -999.0, 9, -999.0000,   -999.00,   -999.0, 9,   -999.0,  -999.00, 9,   -999.0,  15.2665, 26.0697,  15.3170, 2, 9, -999.00, -999.00, -999.00, -999.000,  -999.00, 9, -999.00, -999.00, 9, -999.00
49NZ20071122, P14, 50, 1, 1, X12001, 2, 20071214, 0117, -18.6615, 177.8738, 1126,   1126.3, 2,   3.6529, 2,  34.4965, 2,  34.4977, 6,    157.2, 2,    157.1, 2,    69.41, 2,    34.25, 2,     0.00, 2,     2.42, 2,    0.052, 2,    0.027, 2,    0.000, 2, -999.000, 9,   2253.6, 2,   2344.8, 2,    7.5975,     25.00,   -999.0, 9,   -999.0,  -999.00, 9,   -999.0,   3.5696, 27.4291,   3.6501, 2, 2, 0.27, 0.13, 0.01, 0.016,  -999.00, 9, -999.00, -999.00, 9, -999.00