BOTTLE,20220820CCHSIOAMB
EXPOCODE,SECT_ID,STNNBR,CASTNO,SAMPNO,BTLNBR,BTLNBR_FLAG_W,DATE,TIME,LATITUDE,LONGITUDE,DEPTH,CTDPRS,CTDPRS_FLAG_W,CTDTMP,CTDTMP_FLAG_W,CTDSAL,CTDSAL_FLAG_W,SALNTY,SALNTY_FLAG_W,CTDOXY,CTDOXY_FLAG_W,OXYGEN,OXYGEN_FLAG_W,SILCAT,SILCAT_FLAG_W,NITRAT,NITRAT_FLAG_W,NITRIT,NITRIT_FLAG_W,PHSPHT,PHSPHT_FLAG_W,CFC-11,CFC-11_FLAG_W,CFC-12,CFC-12_FLAG_W,CFC113,CFC113_FLAG_W,CCL4,CCL4_FLAG_W,TCARBN,TCARBN_FLAG_W,ALKALI,ALKALI_FLAG_W,PH_TOT,PH_TMP,DELC14,DELC14_FLAG_W,C14ERR,DELC13,DELC13_FLAG_W,C13ERR,THETA,SIG0,SBE35,SBE35_FLAG_W,PH_TOT_FLAG_W,SILUNC,NRAUNC,NRIUNC,PHPUNC,CS-137,CS-137_FLAG_W,CS137ER,PLUTO,PLUTO_FLAG_W,PLUTOER
,,,,,,,,,,,METERS,DBAR,,ITS-90,,PSS-78,,PSS-78,,UMOL/KG,,UMOL/KG,,UMOL/KG,,UMOL/KG,,UMOL/KG,,UMOL/KG,,PMOL/KG,,PMOL/KG,,PMOL/KG,,PMOL/KG,,UMOL/KG,,UMOL/KG,,,DEG C,/MILLE,,/MILLE,/MILLE,,/MILLE,DEG C,KG/M^3,ITS-90,,,UMOL/KG,UMOL/KG,UMOL/KG,UMOL/KG,DM/.1MG,,BQ/M^3,MBQ/M^3,,MBQ/M^3
49NZ20071122, P14, 4, 1, 36, X12042, 2, 20071222, 1520, -35.0205, 175.1485, 617,      9.6, 2,  20.1085, 2,  35.7282, 2,  35.7294, 2,    228.8, 2,    228.6, 2,     0.78, 2,     0.10, 2,     0.01, 2,     0.12, 2,    2.096, 2,    1.283, 2,    0.381, 4, -999.000, 9,   -999.0, 9,   -999.0, 9, -999.0000,   -999.00,   -999.0, 9,   -999.0,  -999.00, 9,   -999.0,  20.1067, 25.2890,  20.1085, 2, 9, 0.12, 0.03, 0.01, 0.020,  -999.00, 9, -999.00, -999.00, 9, -999.00
49NZ20071122, P14, 4, 1, 35, X12041, 2, 20071222, 1520, -35.0205, 175.1485, 617,     49.7, 2,  18.2407, 2,  35.6588, 2,  35.6600, 2,    240.2, 2,    240.9, 2,     0.95, 2,     0.11, 2,     0.02, 2,     0.15, 2,    2.255, 2,    1.372, 2,    0.317, 4, -999.000, 9,   -999.0, 9,   -999.0, 9, -999.0000,   -999.00,   -999.0, 9,   -999.0,  -999.00, 9,   -999.0,  18.2321, 25.7191,  18.2404, 2, 9, 0.12, 0.03, 0.01, 0.018,  -999.00, 9, -999.00, -999.00, 9, -999.00
49NZ20071122, P14, 4, 1, 34, X12016, 2, 20071222, 1520, -35.0205, 175.1485, 617,     99.8, 2,  16.7897, 2,  35.5633, 2,  35.5629, 2,    214.7, 2,    216.4, 2,     1.44, 2,     4.06, 2,     0.06, 2,     0.40, 2,    2.344, 2,    1.394, 2,    0.194, 4, -999.000, 9,   -999.0, 9,   -999.0, 9, -999.0000,   -999.00,   -999.0, 9,   -999.0,  -999.00, 9,   -999.0,  16.7733, 26.0006,  16.7921, 2, 9, 0.12, 0.04, 0.01, 0.013,  -999.00, 9, -999.00, -999.00, 9, -999.00
49NZ20071122, P14, 4, 1, 33, X12033, 2, 20071222, 1520, -35.0205, 175.1485, 617,    149.0, 2,  15.7370, 2,  35.4624, 2,  35.4642, 2,    213.5, 2,    213.1, 2,     2.32, 2,     5.96, 2,     0.03, 2,     0.52, 2,    2.379, 6,    1.404, 6,    0.182, 4, -999.000, 9,   -999.0, 9,   -999.0, 9, -999.0000,   -999.00,   -999.0, 9,   -999.0,  -999.00, 9,   -999.0,  15.7136, 26.1688,  15.7360, 2, 9, 0.12, 0.05, 0.01, 0.013,  -999.00, 9, -999.00, -999.00, 9, -999.00
49NZ20071122, P14, 4, 1, 32, X12038, 2, 20071222, 1520, -35.0205, 175.1485, 617,    199.5, 2,  14.7516, 2,  35.3631, 2,  35.3587, 2,    208.7, 2,    207.2, 2,     3.36, 2,     8.15, 2,     0.02, 2,     0.66, 2,    1.277, 3,    0.718, 3,    0.071, 3, -999.000, 9,   -999.0, 9,   -999.0, 9, -999.0000,   -999.00,   -999.0, 9,   -999.0,  -999.00, 9,   -999.0,  14.7216, 26.3130,  14.7717, 2, 9, 0.13, 0.06, 0.01, 0.013,  -999.00, 9, -999.00, -999.00, 9, -999.00
49NZ20071122, P14, 4, 1, 31, X12003, 2, 20071222, 1520, -35.0205, 175.1485, 617,    249.3, 2,  13.8866, 2,  35.2651, 2,  35.2652, 6,    203.4, 2,    202.1, 2,     4.01, 2,    10.08, 2,     0.01, 2,     0.79, 2,    2.391, 2,    1.366, 2,    0.115, 4, -999.000, 9,   -999.0, 9,   -999.0, 9, -999.0000,   -999.00,   -999.0, 9,   -999.0,  -999.00, 9,   -999.0,  13.8506, 26.4234,  13.8903, 2, 9, 0.13, 0.06, 0.01, 0.013,  -999.00, 9, -999.00, -999.00, 9, -999.00
49NZ20071122, P14, 4, 1, 30, X12008, 2, 20071222, 1520, -35.0205, 175.1485, 617,    279.8, 2,  13.1012, 2,  35.1766, 2,  35.1750, 2,    200.2, 2,    199.9, 2,     5.04, 2,    11.84, 2,     0.01, 2,     0.90, 2,    2.417, 2,    1.330, 2,    0.108, 4, -999.000, 9,   -999.0, 9,   -999.0, 9, -999.0000,   -999.00,   -999.0, 9,   -999.0,  -999.00, 9,   -999.0,  13.0623, 26.5172,  13.1017, 2, 9, 0.13, 0.07, 0.01, 0.013,  -999.00, 9, -999.00, -999.00, 9, -999.00
49NZ20071122, P14, 4, 1, 29, X12035, 2, 20071222, 1520, -35.0205, 175.1485, 617,    371.5, 2,  11.8086, 2,  35.0172, 2,  35.0178, 2,    197.8, 2,    197.7, 2,     6.10, 2,    14.45, 2,     0.01, 2,     1.06, 2,    2.427, 2,    1.303, 2,    0.093, 2, -999.000, 9,   -999.0, 9,   -999.0, 9, -999.0000,   -999.00,   -999.0, 9,   -999.0,  -999.00, 9,   -999.0,  11.7603, 26.6481,  11.8089, 2, 9, 0.13, 0.07, 0.01, 0.013,  -999.00, 9, -999.00, -999.00, 9, -999.00
49NZ20071122, P14, 4, 1, 28, X12034, 2, 20071222, 1520, -35.0205, 175.1485, 617,    469.8, 2,  10.4083, 2,  34.8577, 2,  34.8567, 6,    196.2, 2,    196.2, 2,     8.82, 2,    17.78, 2,     0.01, 2,     1.27, 2,    2.234, 2,    1.174, 2,    0.097, 2, -999.000, 9,   -999.0, 9,   -999.0, 9, -999.0000,   -999.00,   -999.0, 9,   -999.0,  -999.00, 9,   -999.0,  10.3517, 26.7800,  10.4122, 2, 9, 0.14, 0.08, 0.01, 0.014,  -999.00, 9, -999.00, -999.00, 9, -999.00
49NZ20071122, P14, 4, 1, 27, X12049, 2, 20071222, 1520, -35.0205, 175.1485, 617,    569.6, 2,   9.2808, 2,  34.7241, 2,  34.7162, 2,    196.9, 2,    196.9, 2,    10.90, 2,    20.32, 2,     0.01, 2,     1.44, 2,    2.070, 2,    1.068, 2,    0.088, 2, -999.000, 9,   -999.0, 9,   -999.0, 9, -999.0000,   -999.00,   -999.0, 9,   -999.0,  -999.00, 9,   -999.0,   9.2166, 26.8671,   9.2823, 2, 9, 0.14, 0.09, 0.01, 0.014,  -999.00, 9, -999.00, -999.00, 9, -999.00
49NZ20071122, P14, 4, 1, 18, X12024, 9, 20071222, 1520, -35.0205, 175.1485, 617,      9.7, 2,  20.1062, 2,  35.7279, 2, -999.0000, 9,    228.8, 2,   -999.0, 9,  -999.00, 9,  -999.00, 9,  -999.00, 9,  -999.00, 9, -999.000, 9, -999.000, 9, -999.000, 9, -999.000, 9,   -999.0, 9,   -999.0, 9, -999.0000,   -999.00,   -999.0, 9,   -999.0,  -999.00, 9,   -999.0,  20.1044, 25.2894,  20.1063, 2, 9, -999.00, -999.00, -999.00, -999.000,  -999.00, 9, -999.00, -999.00, 9, -999.00
49NZ20071122, P14, 4, 1, 17, X12023, 9, 20071222, 1520, -35.0205, 175.1485, 617,     49.6, 2,  18.2425, 2,  35.6588, 2, -999.0000, 9,    240.2, 2,   -999.0, 9,  -999.00, 9,  -999.00, 9,  -999.00, 9,  -999.00, 9, -999.000, 9, -999.000, 9, -999.000, 9, -999.000, 9,   -999.0, 9,   -999.0, 9, -999.0000,   -999.00,   -999.0, 9,   -999.0,  -999.00, 9,   -999.0,  18.2339, 25.7186,  18.2433, 2, 9, -999.00, -999.00, -999.00, -999.000,  -999.00, 9, -999.00, -999.00, 9, -999.00
49NZ20071122, P14, 4, 1, 16, X12022, 9, 20071222, 1520, -35.0205, 175.1485, 617,     99.9, 2,  16.7998, 2,  35.5633, 2, -999.0000, 9,    214.7, 2,   -999.0, 9,  -999.00, 9,  -999.00, 9,  -999.00, 9,  -999.00, 9, -999.000, 9, -999.000, 9, -999.000, 9, -999.000, 9,   -999.0, 9,   -999.0, 9, -999.0000,   -999.00,   -999.0, 9,   -999.0,  -999.00, 9,   -999.0,  16.7834, 25.9982,  16.8032, 2, 9, -999.00, -999.00, -999.00, -999.000,  -999.00, 9, -999.00, -999.00, 9, -999.00
49NZ20071122, P14, 4, 1, 15, X12021, 9, 20071222, 1520, -35.0205, 175.1485, 617,    149.2, 2,  15.7535, 2,  35.4640, 2, -999.0000, 9,    213.5, 2,   -999.0, 9,  -999.00, 9,  -999.00, 9,  -999.00, 9,  -999.00, 9, -999.000, 9, -999.000, 9, -999.000, 9, -999.000, 9,   -999.0, 9,   -999.0, 9, -999.0000,   -999.00,   -999.0, 9,   -999.0,  -999.00, 9,   -999.0,  15.7301, 26.1663,  15.7532, 2, 9, -999.00, -999.00, -999.00, -999.000,  -999.00, 9, -999.00, -999.00, 9, -999.00
49NZ20071122, P14, 4, 1, 14, X12020, 9, 20071222, 1520, -35.0205, 175.1485, 617,    199.5, 2,  14.7870, 2,  35.3645, 2, -999.0000, 9,    208.0, 2,   -999.0, 9,  -999.00, 9,  -999.00, 9,  -999.00, 9,  -999.00, 9, -999.000, 9, -999.000, 9, -999.000, 9, -999.000, 9,   -999.0, 9,   -999.0, 9, -999.0000,   -999.00,   -999.0, 9,   -999.0,  -999.00, 9,   -999.0,  14.7570, 26.3064,  14.7846, 2, 9, -999.00, -999.00, -999.00, -999.000,  -999.00, 9, -999.00, -999.00, 9, -999.00
49NZ20071122, P14, 4, 1, 13, X12019, 9, 20071222, 1520, -35.0205, 175.1485, 617,    249.2, 2,  13.8867, 2,  35.2649, 2, -999.0000, 9,    203.4, 2,   -999.0, 9,  -999.00, 9,  -999.00, 9,  -999.00, 9,  -999.00, 9, -999.000, 9, -999.000, 9, -999.000, 9, -999.000, 9,   -999.0, 9,   -999.0, 9, -999.0000,   -999.00,   -999.0, 9,   -999.0,  -999.00, 9,   -999.0,  13.8507, 26.4233,  13.8861, 2, 9, -999.00, -999.00, -999.00, -999.000,  -999.00, 9, -999.00, -999.00, 9, -999.00
49NZ20071122, P14, 4, 1, 12, X12040, 9, 20071222, 1520, -35.0205, 175.1485, 617,    279.1, 2,  13.0957, 2,  35.1762, 2, -999.0000, 9,    200.2, 2,   -999.0, 9,  -999.00, 9,  -999.00, 9,  -999.00, 9,  -999.00, 9, -999.000, 9, -999.000, 9, -999.000, 9, -999.000, 9,   -999.0, 9,   -999.0, 9, -999.0000,   -999.00,   -999.0, 9,   -999.0,  -999.00, 9,   -999.0,  13.0569, 26.5180,  13.0986, 2, 9, -999.00, -999.00, -999.00, -999.000,  -999.00, 9, -999.00, -999.00, 9, -999.00
49NZ20071122, P14, 4, 1, 11, X12047, 9, 20071222, 1520, -35.0205, 175.1485, 617,    371.3, 2,  11.8070, 2,  35.0171, 2, -999.0000, 9,    197.8, 2,   -999.0, 9,  -999.00, 9,  -999.00, 9,  -999.00, 9,  -999.00, 9, -999.000, 9, -999.000, 9, -999.000, 9, -999.000, 9,   -999.0, 9,   -999.0, 9, -999.0000,   -999.00,   -999.0, 9,   -999.0,  -999.00, 9,   -999.0,  11.7587, 26.6483,  11.8082, 2, 9, -999.00, -999.00, -999.00, -999.000,  -999.00, 9, -999.00, -999.00, 9, -999.00
49NZ20071122, P14, 4, 1, 10, X12012, 9, 20071222, 1520, -35.0205, 175.1485, 617,    470.0, 2,  10.4190, 2,  34.8587, 2, -999.0000, 9,    196.1, 2,   -999.0, 9,  -999.00, 9,  -999.00, 9,  -999.00, 9,  -999.00, 9, -999.000, 9, -999.000, 9, -999.000, 9, -999.000, 9,   -999.0, 9,   -999.0, 9, -999.0000,   -999.00,   -999.0, 9,   -999.0,  -999.00, 9,   -999.0,  10.3624, 26.7790,  10.4129, 2, 9, -999.00, -999.00, -999.00, -999.000,  -999.00, 9, -999.00, -999.00, 9, -999.00
49NZ20071122, P14, 4, 1, 9, X12015, 9, 20071222, 1520, -35.0205, 175.1485, 617,    569.7, 2,   9.2804, 2,  34.7234, 2, -999.0000, 9,    196.9, 2,   -999.0, 9,  -999.00, 9,  -999.00, 9,  -999.00, 9,  -999.00, 9, -999.000, 9, -999.000, 9, -999.000, 9, -999.000, 9,   -999.0, 9,   -999.0, 9, -999.0000,   -999.00,   -999.0, 9,   -999.0,  -999.00, 9,   -999.0,   9.2162, 26.8666,   9.2786, 2, 9, -999.00, -999.00, -999.00, -999.000,  -999.00, 9, -999.00, -999.00, 9, -999.00
49NZ20071122, P14, 4, 1, 1, X12001, 2, 20071222, 1520, -35.0205, 175.1485, 617,    613.8, 2,   8.4150, 2,  34.6085, 2,  34.6151, 6,    202.7, 2,    202.2, 2,    11.24, 2,    21.51, 2,     0.01, 2,     1.52, 2,    2.077, 2,    1.053, 2,    0.081, 2, -999.000, 9,   -999.0, 9,   -999.0, 9, -999.0000,   -999.00,   -999.0, 9,   -999.0,  -999.00, 9,   -999.0,   8.3497, 26.9134,   8.4152, 2, 9, 0.14, 0.09, 0.01, 0.014,  -999.00, 9, -999.00, -999.00, 9, -999.00