BOTTLE,20220820CCHSIOAMB
EXPOCODE,SECT_ID,STNNBR,CASTNO,SAMPNO,BTLNBR,BTLNBR_FLAG_W,DATE,TIME,LATITUDE,LONGITUDE,DEPTH,CTDPRS,CTDPRS_FLAG_W,CTDTMP,CTDTMP_FLAG_W,CTDSAL,CTDSAL_FLAG_W,SALNTY,SALNTY_FLAG_W,CTDOXY,CTDOXY_FLAG_W,OXYGEN,OXYGEN_FLAG_W,SILCAT,SILCAT_FLAG_W,NITRAT,NITRAT_FLAG_W,NITRIT,NITRIT_FLAG_W,PHSPHT,PHSPHT_FLAG_W,CFC-11,CFC-11_FLAG_W,CFC-12,CFC-12_FLAG_W,CFC113,CFC113_FLAG_W,CCL4,CCL4_FLAG_W,TCARBN,TCARBN_FLAG_W,ALKALI,ALKALI_FLAG_W,PH_TOT,PH_TMP,DELC14,DELC14_FLAG_W,C14ERR,DELC13,DELC13_FLAG_W,C13ERR,THETA,SIG0,SBE35,SBE35_FLAG_W,PH_TOT_FLAG_W,SILUNC,NRAUNC,NRIUNC,PHPUNC,CS-137,CS-137_FLAG_W,CS137ER,PLUTO,PLUTO_FLAG_W,PLUTOER
,,,,,,,,,,,METERS,DBAR,,ITS-90,,PSS-78,,PSS-78,,UMOL/KG,,UMOL/KG,,UMOL/KG,,UMOL/KG,,UMOL/KG,,UMOL/KG,,PMOL/KG,,PMOL/KG,,PMOL/KG,,PMOL/KG,,UMOL/KG,,UMOL/KG,,,DEG C,/MILLE,,/MILLE,/MILLE,,/MILLE,DEG C,KG/M^3,ITS-90,,,UMOL/KG,UMOL/KG,UMOL/KG,UMOL/KG,DM/.1MG,,BQ/M^3,MBQ/M^3,,MBQ/M^3
49NZ20071122, P14, 31, 1, 36, X12042, 2, 20071217, 0719, -23.9583, 177.0322, 4436,      9.9, 2,  24.1497, 2,  35.4017, 2,  35.4018, 2,    213.5, 2,    212.9, 2,     0.58, 2,     0.06, 2,     0.00, 2,     0.06, 2,    1.803, 2,    1.105, 2,    0.346, 4, -999.000, 9,   -999.0, 9,   -999.0, 9, -999.0000,   -999.00,   -999.0, 9,   -999.0,  -999.00, 9,   -999.0,  24.1476, 23.9016,  24.1509, 2, 9, 0.12, 0.03, 0.01, 0.032,  -999.00, 9, -999.00, -999.00, 9, -999.00
49NZ20071122, P14, 31, 1, 35, X12041, 2, 20071217, 0719, -23.9583, 177.0322, 4436,     50.1, 2,  22.4669, 2,  35.5665, 2,  35.5898, 2,    220.8, 2,    221.7, 2,     0.59, 2,     0.05, 2,     0.00, 2,     0.07, 2,    1.966, 2,    1.191, 2,    0.466, 4, -999.000, 9,   -999.0, 9,   -999.0, 9, -999.0000,   -999.00,   -999.0, 9,   -999.0,  -999.00, 9,   -999.0,  22.4568, 24.5191,  22.4896, 2, 9, 0.12, 0.03, 0.01, 0.027,  -999.00, 9, -999.00, -999.00, 9, -999.00
49NZ20071122, P14, 31, 1, 34, X12016, 2, 20071217, 0719, -23.9583, 177.0322, 4436,    100.5, 2,  20.6055, 2,  35.7049, 2,  35.7038, 2,    204.1, 2,    202.7, 2,     0.68, 2,     1.15, 2,     0.17, 2,     0.18, 2,    2.069, 2,    1.237, 2,    0.229, 4, -999.000, 9,   -999.0, 9,   -999.0, 9, -999.0000,   -999.00,   -999.0, 9,   -999.0,  -999.00, 9,   -999.0,  20.5865, 25.1429,  20.6365, 2, 9, 0.12, 0.04, 0.01, 0.016,  -999.00, 9, -999.00, -999.00, 9, -999.00
49NZ20071122, P14, 31, 1, 33, X12033, 2, 20071217, 0719, -23.9583, 177.0322, 4436,    150.0, 2,  19.5792, 2,  35.7049, 2,  35.7030, 2,    191.0, 2,    190.7, 2,     1.00, 2,     3.41, 2,     0.02, 2,     0.32, 2,    2.166, 6,    1.270, 6,    0.142, 4, -999.000, 9,   -999.0, 9,   -999.0, 9, -999.0000,   -999.00,   -999.0, 9,   -999.0,  -999.00, 9,   -999.0,  19.5518, 25.4174,  19.5788, 2, 9, 0.12, 0.04, 0.01, 0.014,  -999.00, 9, -999.00, -999.00, 9, -999.00
49NZ20071122, P14, 31, 1, 32, X12038, 2, 20071217, 0719, -23.9583, 177.0322, 4436,    198.7, 2,  18.3450, 2,  35.6315, 2,  35.6288, 2,    185.7, 2,    187.8, 2,     1.24, 2,     4.64, 2,     0.01, 2,     0.42, 2,    2.265, 2,    1.302, 2,    0.077, 2, -999.000, 9,   -999.0, 9,   -999.0, 9, -999.0000,   -999.00,   -999.0, 9,   -999.0,  -999.00, 9,   -999.0,  18.3103, 25.6786,  18.3436, 2, 9, 0.12, 0.05, 0.01, 0.013,  -999.00, 9, -999.00, -999.00, 9, -999.00
49NZ20071122, P14, 31, 1, 31, X12003, 2, 20071217, 0719, -23.9583, 177.0322, 4436,    248.7, 2,  17.3848, 2,  35.5762, 2,  35.5722, 6,    193.4, 2,    193.0, 2,     1.40, 2,     5.11, 2,     0.01, 2,     0.45, 2,    2.344, 2,    1.335, 2,    0.061, 2, -999.000, 9,   -999.0, 9,   -999.0, 9, -999.0000,   -999.00,   -999.0, 9,   -999.0,  -999.00, 9,   -999.0,  17.3429, 25.8743,  17.3857, 2, 9, 0.12, 0.05, 0.01, 0.013,  -999.00, 9, -999.00, -999.00, 9, -999.00
49NZ20071122, P14, 31, 1, 30, X12008, 2, 20071217, 0719, -23.9583, 177.0322, 4436,    278.9, 2,  16.4802, 2,  35.5006, 2,  35.4924, 2,    194.8, 2,    195.3, 2,     1.70, 2,     6.06, 2,     0.01, 2,     0.52, 2,    2.416, 2,    1.358, 2,    0.061, 2, -999.000, 9,   -999.0, 9,   -999.0, 9, -999.0000,   -999.00,   -999.0, 9,   -999.0,  -999.00, 9,   -999.0,  16.4349, 26.0320,  16.4779, 2, 9, 0.12, 0.05, 0.01, 0.013,  -999.00, 9, -999.00, -999.00, 9, -999.00
49NZ20071122, P14, 31, 1, 29, X12035, 2, 20071217, 0719, -23.9583, 177.0322, 4436,    368.2, 2,  13.7345, 2,  35.1782, 2,  35.1745, 2,    195.4, 2,    194.9, 2,     2.97, 2,    10.29, 2,     0.01, 2,     0.80, 2,    2.452, 2,    1.328, 2,    0.066, 2, -999.000, 9,   -999.0, 9,   -999.0, 9, -999.0000,   -999.00,   -999.0, 9,   -999.0,  -999.00, 9,   -999.0,  13.6816, 26.3915,  13.7407, 2, 9, 0.13, 0.06, 0.01, 0.013,  -999.00, 9, -999.00, -999.00, 9, -999.00
49NZ20071122, P14, 31, 1, 28, X12034, 2, 20071217, 0719, -23.9583, 177.0322, 4436,    472.4, 2,  11.0910, 2,  34.8665, 2,  34.8635, 6,    199.3, 2,    198.7, 2,     4.92, 2,    15.40, 2,     0.00, 2,     1.12, 2,    2.449, 2,    1.279, 2,    0.090, 2, -999.000, 9,   -999.0, 9,   -999.0, 9, -999.0000,   -999.00,   -999.0, 9,   -999.0,  -999.00, 9,   -999.0,  11.0318, 26.6658,  11.0985, 2, 9, 0.13, 0.08, 0.01, 0.013,  -999.00, 9, -999.00, -999.00, 9, -999.00
49NZ20071122, P14, 31, 1, 27, X12049, 2, 20071217, 0719, -23.9583, 177.0322, 4436,    570.3, 2,   8.4105, 2,  34.5319, 2,  34.5303, 2,    204.9, 2,    202.1, 2,     8.69, 2,    21.35, 2,     0.00, 2,     1.53, 2,    1.879, 2,    0.933, 2,    0.047, 2, -999.000, 9,   -999.0, 9,   -999.0, 9, -999.0000,   -999.00,   -999.0, 9,   -999.0,  -999.00, 9,   -999.0,   8.3501, 26.8533,   8.4088, 2, 9, 0.14, 0.09, 0.01, 0.014,  -999.00, 9, -999.00, -999.00, 9, -999.00
49NZ20071122, P14, 31, 1, 26, X12032, 2, 20071217, 0719, -23.9583, 177.0322, 4436,    668.1, 2,   7.0981, 2,  34.4309, 2,  34.4284, 2,    203.4, 2,    202.4, 2,    13.42, 2,    24.71, 2,     0.00, 2,     1.75, 2,    1.350, 6,    0.660, 6,    0.036, 6, -999.000, 9,   -999.0, 9,   -999.0, 9, -999.0000,   -999.00,   -999.0, 9,   -999.0,  -999.00, 9,   -999.0,   7.0335, 26.9659,   7.0870, 2, 9, 0.15, 0.10, 0.01, 0.014,  -999.00, 9, -999.00, -999.00, 9, -999.00
49NZ20071122, P14, 31, 1, 25, X12043, 2, 20071217, 0719, -23.9583, 177.0322, 4436,    769.8, 2,   6.1859, 2,  34.3901, 2,  34.3896, 2,    198.1, 2,    198.0, 2,    19.50, 2,    27.25, 2,     0.00, 2,     1.92, 2,    0.892, 2,    0.440, 2,    0.016, 2, -999.000, 9,   -999.0, 9,   -999.0, 9, -999.0000,   -999.00,   -999.0, 9,   -999.0,  -999.00, 9,   -999.0,   6.1162, 27.0559,   6.1859, 2, 9, 0.16, 0.11, 0.01, 0.015,  -999.00, 9, -999.00, -999.00, 9, -999.00
49NZ20071122, P14, 31, 1, 24, X12030, 2, 20071217, 0719, -23.9583, 177.0322, 4436,    869.3, 2,   5.3531, 2,  34.3747, 2,  34.3747, 2,    192.8, 2,    192.7, 2,    27.65, 2,    29.54, 2,     0.00, 2,     2.06, 2,    0.530, 2,    0.266, 2,    0.011, 2, -999.000, 9,   -999.0, 9,   -999.0, 9, -999.0000,   -999.00,   -999.0, 9,   -999.0,  -999.00, 9,   -999.0,   5.2793, 27.1469,   5.3536, 2, 9, 0.18, 0.12, 0.01, 0.015,  -999.00, 9, -999.00, -999.00, 9, -999.00
49NZ20071122, P14, 31, 1, 23, X12027, 2, 20071217, 0719, -23.9583, 177.0322, 4436,    969.8, 2,   4.7317, 2,  34.3839, 2,  34.3852, 6,    186.1, 2,    187.3, 2,    36.24, 2,    31.09, 2,     0.00, 2,     2.17, 2,    0.303, 2,    0.154, 2,    0.007, 2, -999.000, 9,   -999.0, 9,   -999.0, 9, -999.0000,   -999.00,   -999.0, 9,   -999.0,  -999.00, 9,   -999.0,   4.6533, 27.2260,   4.7325, 2, 9, 0.20, 0.12, 0.01, 0.015,  -999.00, 9, -999.00, -999.00, 9, -999.00
49NZ20071122, P14, 31, 1, 22, X12028, 2, 20071217, 0719, -23.9583, 177.0322, 4436,   1130.7, 2,   3.8866, 2,  34.4528, 2,  34.4538, 2,    170.8, 2,    171.1, 2,    57.06, 2,    33.13, 2,     0.00, 2,     2.33, 2,    0.096, 2,    0.052, 2,    0.000, 2, -999.000, 9,   -999.0, 9,   -999.0, 9, -999.0000,   -999.00,   -999.0, 9,   -999.0,  -999.00, 9,   -999.0,   3.8010, 27.3713,   3.8873, 2, 9, 0.24, 0.13, 0.01, 0.016,  -999.00, 9, -999.00, -999.00, 9, -999.00
49NZ20071122, P14, 31, 1, 21, X12009, 2, 20071217, 0719, -23.9583, 177.0322, 4436,   1330.3, 2,   3.1625, 2,  34.5431, 2,  34.5446, 3,    157.5, 2,    157.4, 2,    82.72, 2,    34.47, 2,     0.00, 2,     2.44, 2,    0.022, 2,    0.014, 2,    0.000, 2, -999.000, 9,   -999.0, 9,   -999.0, 9, -999.0000,   -999.00,   -999.0, 9,   -999.0,  -999.00, 9,   -999.0,   3.0670, 27.5142,   3.1620, 2, 9, 0.30, 0.13, 0.01, 0.016,  -999.00, 9, -999.00, -999.00, 9, -999.00
49NZ20071122, P14, 31, 1, 20, X12026, 2, 20071217, 0719, -23.9583, 177.0322, 4436,   1529.6, 2,   2.7795, 2,  34.5856, 2,  34.5853, 2,    152.6, 2,    152.0, 2,    95.38, 2,    35.11, 2,     0.00, 2,     2.49, 2,    0.006, 2,    0.004, 2,    0.000, 2, -999.000, 9,   -999.0, 9,   -999.0, 9, -999.0000,   -999.00,   -999.0, 9,   -999.0,  -999.00, 9,   -999.0,   2.6717, 27.5837,   2.7795, 2, 9, 0.33, 0.13, 0.01, 0.016,  -999.00, 9, -999.00, -999.00, 9, -999.00
49NZ20071122, P14, 31, 1, 19, X12025, 2, 20071217, 0719, -23.9583, 177.0322, 4436,   1729.5, 2,   2.5037, 2,  34.6128, 2,  34.6125, 2,    151.1, 2,    150.7, 2,   103.58, 2,    35.32, 2,     0.00, 2,     2.50, 2,    0.001, 2,    0.002, 2,    0.000, 2, -999.000, 9,   -999.0, 9,   -999.0, 9, -999.0000,   -999.00,   -999.0, 9,   -999.0,  -999.00, 9,   -999.0,   2.3828, 27.6303,   2.5038, 2, 9, 0.35, 0.13, 0.01, 0.016,  -999.00, 9, -999.00, -999.00, 9, -999.00
49NZ20071122, P14, 31, 1, 18, X12024, 2, 20071217, 0719, -23.9583, 177.0322, 4436,   1932.8, 2,   2.3209, 2,  34.6306, 2,  34.6300, 2,    150.7, 2,    150.5, 2,   108.76, 2,    35.42, 2,     0.00, 2,     2.51, 2,    0.000, 2,    0.000, 2,    0.000, 2, -999.000, 9,   -999.0, 9,   -999.0, 9, -999.0000,   -999.00,   -999.0, 9,   -999.0,  -999.00, 9,   -999.0,   2.1853, 27.6608,   2.3210, 2, 9, 0.36, 0.13, 0.01, 0.016,  -999.00, 9, -999.00, -999.00, 9, -999.00
49NZ20071122, P14, 31, 1, 17, X12023, 2, 20071217, 0719, -23.9583, 177.0322, 4436,   2129.4, 2,   2.1778, 2,  34.6446, 2,  34.6445, 6,    150.9, 2,    150.7, 2,   112.80, 2,    35.41, 2,     0.00, 2,     2.51, 2, -999.000, 9, -999.000, 9, -999.000, 9, -999.000, 9,   -999.0, 9,   -999.0, 9, -999.0000,   -999.00,   -999.0, 9,   -999.0,  -999.00, 9,   -999.0,   2.0275, 27.6848,   2.1778, 2, 9, 0.37, 0.13, 0.01, 0.016,  -999.00, 9, -999.00, -999.00, 9, -999.00
49NZ20071122, P14, 31, 1, 16, X12022, 2, 20071217, 0719, -23.9583, 177.0322, 4436,   2329.1, 2,   2.0743, 2,  34.6554, 2,  34.6550, 2,    151.4, 2,    151.2, 2,   115.43, 2,    35.48, 2,     0.00, 2,     2.51, 2,    0.000, 2,    0.002, 2,    0.000, 2, -999.000, 9,   -999.0, 9,   -999.0, 9, -999.0000,   -999.00,   -999.0, 9,   -999.0,  -999.00, 9,   -999.0,   1.9081, 27.7028,   2.0745, 2, 9, 0.37, 0.13, 0.01, 0.016,  -999.00, 9, -999.00, -999.00, 9, -999.00
49NZ20071122, P14, 31, 1, 15, X12021, 2, 20071217, 0719, -23.9583, 177.0322, 4436,   2530.6, 2,   1.9947, 2,  34.6636, 2,  34.6630, 2,    152.7, 2,    152.6, 2,   117.17, 2,    35.42, 2,     0.00, 2,     2.51, 2, -999.000, 9, -999.000, 9, -999.000, 9, -999.000, 9,   -999.0, 9,   -999.0, 9, -999.0000,   -999.00,   -999.0, 9,   -999.0,  -999.00, 9,   -999.0,   1.8117, 27.7169,   1.9948, 2, 9, 0.38, 0.13, 0.01, 0.016,  -999.00, 9, -999.00, -999.00, 9, -999.00
49NZ20071122, P14, 31, 1, 14, X12020, 2, 20071217, 0719, -23.9583, 177.0322, 4436,   2729.4, 2,   1.9079, 2,  34.6719, 2,  34.6713, 2,    153.7, 2,    153.7, 2,   119.22, 2,    35.31, 2,     0.00, 2,     2.50, 2,    0.000, 2,    0.000, 2,    0.000, 2, -999.000, 9,   -999.0, 9,   -999.0, 9, -999.0000,   -999.00,   -999.0, 9,   -999.0,  -999.00, 9,   -999.0,   1.7081, 27.7314,   1.9079, 2, 9, 0.38, 0.13, 0.01, 0.016,  -999.00, 9, -999.00, -999.00, 9, -999.00
49NZ20071122, P14, 31, 1, 13, X12019, 2, 20071217, 0719, -23.9583, 177.0322, 4436,   2930.0, 2,   1.8724, 2,  34.6758, 2,  34.6755, 2,    154.3, 2,    154.4, 2,   120.45, 2,    35.26, 2,     0.00, 2,     2.50, 2, -999.000, 9, -999.000, 9, -999.000, 9, -999.000, 9,   -999.0, 9,   -999.0, 9, -999.0000,   -999.00,   -999.0, 9,   -999.0,  -999.00, 9,   -999.0,   1.6542, 27.7386,   1.8724, 2, 9, 0.38, 0.13, 0.01, 0.016,  -999.00, 9, -999.00, -999.00, 9, -999.00
49NZ20071122, P14, 31, 1, 12, X12040, 2, 20071217, 0719, -23.9583, 177.0322, 4436,   3169.4, 2,   1.8422, 2,  34.6794, 2,  34.6791, 2,    154.9, 2,    154.8, 2,   121.36, 2,    35.27, 2,     0.00, 2,     2.48, 2,    0.000, 2,    0.002, 2,    0.000, 2, -999.000, 9,   -999.0, 9,   -999.0, 9, -999.0000,   -999.00,   -999.0, 9,   -999.0,  -999.00, 9,   -999.0,   1.6012, 27.7455,   1.8423, 2, 9, 0.39, 0.13, 0.01, 0.016,  -999.00, 9, -999.00, -999.00, 9, -999.00
49NZ20071122, P14, 31, 1, 11, X12047, 2, 20071217, 0719, -23.9583, 177.0322, 4436,   3419.7, 2,   1.8325, 2,  34.6815, 2,  34.6810, 2,    155.2, 2,    155.3, 2,   122.32, 2,    35.26, 2,     0.00, 2,     2.49, 2, -999.000, 9, -999.000, 9, -999.000, 9, -999.000, 9,   -999.0, 9,   -999.0, 9, -999.0000,   -999.00,   -999.0, 9,   -999.0,  -999.00, 9,   -999.0,   1.5663, 27.7497,   1.8325, 2, 9, 0.39, 0.13, 0.01, 0.016,  -999.00, 9, -999.00, -999.00, 9, -999.00
49NZ20071122, P14, 31, 1, 10, X12012, 2, 20071217, 0719, -23.9583, 177.0322, 4436,   3670.4, 2,   1.8440, 2,  34.6822, 2,  34.6821, 2,    155.5, 2,    155.5, 2,   122.92, 2,    35.29, 2,     0.00, 2,     2.49, 2,    0.000, 2,    0.000, 2,    0.000, 2, -999.000, 9,   -999.0, 9,   -999.0, 9, -999.0000,   -999.00,   -999.0, 9,   -999.0,  -999.00, 9,   -999.0,   1.5513, 27.7514,   1.8440, 2, 9, 0.39, 0.13, 0.01, 0.016,  -999.00, 9, -999.00, -999.00, 9, -999.00
49NZ20071122, P14, 31, 1, 9, X12015, 2, 20071217, 0719, -23.9583, 177.0322, 4436,   3920.7, 2,   1.8570, 2,  34.6828, 2,  34.6825, 6,    155.8, 2,    155.8, 2,   123.10, 2,    35.23, 2,     0.00, 2,     2.49, 2, -999.000, 9, -999.000, 9, -999.000, 9, -999.000, 9,   -999.0, 9,   -999.0, 9, -999.0000,   -999.00,   -999.0, 9,   -999.0,  -999.00, 9,   -999.0,   1.5368, 27.7530,   1.8571, 2, 9, 0.39, 0.13, 0.01, 0.016,  -999.00, 9, -999.00, -999.00, 9, -999.00
49NZ20071122, P14, 31, 1, 8, X12046, 2, 20071217, 0719, -23.9583, 177.0322, 4436,   4169.2, 2,   1.8786, 2,  34.6832, 2,  34.6830, 2,    156.1, 2,    155.9, 2,   123.12, 2,    35.31, 2,     0.00, 2,     2.49, 2,    0.000, 2,    0.001, 2,    0.000, 2, -999.000, 9,   -999.0, 9,   -999.0, 9, -999.0000,   -999.00,   -999.0, 9,   -999.0,  -999.00, 9,   -999.0,   1.5301, 27.7537,   1.8787, 2, 9, 0.39, 0.13, 0.01, 0.016,  -999.00, 9, -999.00, -999.00, 9, -999.00
49NZ20071122, P14, 31, 1, 7, X12044, 2, 20071217, 0719, -23.9583, 177.0322, 4436,   4419.8, 2,   1.9061, 2,  34.6832, 2,  34.6832, 2,    156.3, 2,    155.9, 2,   123.18, 2,    35.23, 2,     0.00, 2,     2.49, 2, -999.000, 9, -999.000, 9, -999.000, 9, -999.000, 9,   -999.0, 9,   -999.0, 9, -999.0000,   -999.00,   -999.0, 9,   -999.0,  -999.00, 9,   -999.0,   1.5280, 27.7539,   1.9063, 2, 9, 0.39, 0.13, 0.01, 0.016,  -999.00, 9, -999.00, -999.00, 9, -999.00
49NZ20071122, P14, 31, 1, 6, X12048, 9, 20071217, 0719, -23.9583, 177.0322, 4436,    869.1, 2,   5.3482, 2,  34.3751, 2, -999.0000, 9,    192.9, 2,   -999.0, 9,  -999.00, 9,  -999.00, 9,  -999.00, 9,  -999.00, 9, -999.000, 9, -999.000, 9, -999.000, 9, -999.000, 9,   -999.0, 9,   -999.0, 9, -999.0000,   -999.00,   -999.0, 9,   -999.0,  -999.00, 9,   -999.0,   5.2745, 27.1478,   5.3496, 2, 9, -999.00, -999.00, -999.00, -999.000,  -999.00, 9, -999.00, -999.00, 9, -999.00
49NZ20071122, P14, 31, 1, 5, X12014, 9, 20071217, 0719, -23.9583, 177.0322, 4436,     10.2, 2,  24.1531, 2,  35.4015, 2, -999.0000, 9,    213.3, 2,   -999.0, 9,  -999.00, 9,  -999.00, 9,  -999.00, 9,  -999.00, 9, -999.000, 9, -999.000, 9, -999.000, 9, -999.000, 9,   -999.0, 9,   -999.0, 9, -999.0000,   -999.00,   -999.0, 9,   -999.0,  -999.00, 9,   -999.0,  24.1509, 23.9005,  24.1527, 2, 9, -999.00, -999.00, -999.00, -999.000,  -999.00, 9, -999.00, -999.00, 9, -999.00
49NZ20071122, P14, 31, 1, 4, X12006, 9, 20071217, 0719, -23.9583, 177.0322, 4436,   1131.1, 2,   3.8868, 2,  34.4528, 2, -999.0000, 9,    170.8, 2,   -999.0, 9,  -999.00, 9,  -999.00, 9,  -999.00, 9,  -999.00, 9, -999.000, 9, -999.000, 9, -999.000, 9, -999.000, 9,   -999.0, 9,   -999.0, 9, -999.0000,   -999.00,   -999.0, 9,   -999.0,  -999.00, 9,   -999.0,   3.8012, 27.3712,   3.8869, 2, 9, -999.00, -999.00, -999.00, -999.000,  -999.00, 9, -999.00, -999.00, 9, -999.00
49NZ20071122, P14, 31, 1, 3, X12013, 9, 20071217, 0719, -23.9583, 177.0322, 4436,   3419.2, 2,   1.8325, 2,  34.6815, 2, -999.0000, 9,    155.3, 2,   -999.0, 9,  -999.00, 9,  -999.00, 9,  -999.00, 9,  -999.00, 9, -999.000, 9, -999.000, 9, -999.000, 9, -999.000, 9,   -999.0, 9,   -999.0, 9, -999.0000,   -999.00,   -999.0, 9,   -999.0,  -999.00, 9,   -999.0,   1.5664, 27.7497,   1.8326, 2, 9, -999.00, -999.00, -999.00, -999.000,  -999.00, 9, -999.00, -999.00, 9, -999.00
49NZ20071122, P14, 31, 1, 2, X12002, 9, 20071217, 0719, -23.9583, 177.0322, 4436,   1529.6, 2,   2.7796, 2,  34.5857, 2, -999.0000, 9,    152.6, 2,   -999.0, 9,  -999.00, 9,  -999.00, 9,  -999.00, 9,  -999.00, 9, -999.000, 9, -999.000, 9, -999.000, 9, -999.000, 9,   -999.0, 9,   -999.0, 9, -999.0000,   -999.00,   -999.0, 9,   -999.0,  -999.00, 9,   -999.0,   2.6718, 27.5837,   2.7795, 2, 9, -999.00, -999.00, -999.00, -999.000,  -999.00, 9, -999.00, -999.00, 9, -999.00
49NZ20071122, P14, 31, 1, 1, X12001, 2, 20071217, 0719, -23.9583, 177.0322, 4436,   4494.8, 2,   1.9144, 2,  34.6831, 2,  34.6829, 6,    156.3, 2,    156.0, 2,   123.21, 2,    35.28, 2,     0.00, 2,     2.49, 2,    0.001, 2,    0.002, 2,    0.000, 2, -999.000, 9,   -999.0, 9,   -999.0, 9, -999.0000,   -999.00,   -999.0, 9,   -999.0,  -999.00, 9,   -999.0,   1.5272, 27.7539,   1.9146, 2, 9, 0.39, 0.13, 0.01, 0.016,  -999.00, 9, -999.00, -999.00, 9, -999.00