BOTTLE,20220820CCHSIOAMB
EXPOCODE,SECT_ID,STNNBR,CASTNO,SAMPNO,BTLNBR,BTLNBR_FLAG_W,DATE,TIME,LATITUDE,LONGITUDE,DEPTH,CTDPRS,CTDPRS_FLAG_W,CTDTMP,CTDTMP_FLAG_W,CTDSAL,CTDSAL_FLAG_W,SALNTY,SALNTY_FLAG_W,CTDOXY,CTDOXY_FLAG_W,OXYGEN,OXYGEN_FLAG_W,SILCAT,SILCAT_FLAG_W,NITRAT,NITRAT_FLAG_W,NITRIT,NITRIT_FLAG_W,PHSPHT,PHSPHT_FLAG_W,CFC-11,CFC-11_FLAG_W,CFC-12,CFC-12_FLAG_W,CFC113,CFC113_FLAG_W,CCL4,CCL4_FLAG_W,TCARBN,TCARBN_FLAG_W,ALKALI,ALKALI_FLAG_W,PH_TOT,PH_TMP,DELC14,DELC14_FLAG_W,C14ERR,DELC13,DELC13_FLAG_W,C13ERR,THETA,SIG0,SBE35,SBE35_FLAG_W,PH_TOT_FLAG_W,SILUNC,NRAUNC,NRIUNC,PHPUNC,CS-137,CS-137_FLAG_W,CS137ER,PLUTO,PLUTO_FLAG_W,PLUTOER
,,,,,,,,,,,METERS,DBAR,,ITS-90,,PSS-78,,PSS-78,,UMOL/KG,,UMOL/KG,,UMOL/KG,,UMOL/KG,,UMOL/KG,,UMOL/KG,,PMOL/KG,,PMOL/KG,,PMOL/KG,,PMOL/KG,,UMOL/KG,,UMOL/KG,,,DEG C,/MILLE,,/MILLE,/MILLE,,/MILLE,DEG C,KG/M^3,ITS-90,,,UMOL/KG,UMOL/KG,UMOL/KG,UMOL/KG,DM/.1MG,,BQ/M^3,MBQ/M^3,,MBQ/M^3
49NZ20071122, P14, 36, 1, 36, X12042, 2, 20071216, 0556, -21.7682, 177.4007, 3983,     11.2, 2,  25.4430, 2,  35.1519, 2,  35.1514, 2,    209.6, 2,    208.4, 2,     0.59, 2,     0.02, 2,     0.00, 2,     0.08, 2,    1.729, 2,    1.041, 2,    0.355, 4, -999.000, 9,   -999.0, 9,   -999.0, 9, -999.0000,   -999.00,   -999.0, 9,   -999.0,  -999.00, 9,   -999.0,  25.4405, 23.3213,  25.4427, 2, 9, 0.12, 0.03, 0.01, 0.026,  -999.00, 9, -999.00, -999.00, 9, -999.00
49NZ20071122, P14, 36, 1, 35, X12041, 2, 20071216, 0556, -21.7682, 177.4007, 3983,     50.4, 2,  23.7526, 2,  35.4221, 2,  35.4360, 2,    221.9, 2,    221.2, 2,     0.57, 2,     0.02, 2,     0.00, 2,     0.07, 2,    1.862, 2,    1.122, 2,    0.385, 4, -999.000, 9,   -999.0, 9,   -999.0, 9, -999.0000,   -999.00,   -999.0, 9,   -999.0,  -999.00, 9,   -999.0,  23.7421, 24.0372,  23.7440, 2, 9, 0.12, 0.03, 0.01, 0.028,  -999.00, 9, -999.00, -999.00, 9, -999.00
49NZ20071122, P14, 36, 1, 34, X12016, 2, 20071216, 0556, -21.7682, 177.4007, 3983,    100.7, 2,  21.8090, 2,  35.6412, 2,  35.6425, 2,    205.8, 2,    210.9, 2,     0.56, 2,     0.11, 2,     0.02, 2,     0.13, 2,    1.994, 2,    1.178, 2,    0.253, 4, -999.000, 9,   -999.0, 9,   -999.0, 9, -999.0000,   -999.00,   -999.0, 9,   -999.0,  -999.00, 9,   -999.0,  21.7892, 24.7642,  21.8225, 2, 9, 0.12, 0.03, 0.01, 0.019,  -999.00, 1, -999.00, -999.00, 9, -999.00
49NZ20071122, P14, 36, 1, 33, X12033, 2, 20071216, 0556, -21.7682, 177.4007, 3983,    150.3, 2,  20.6304, 2,  35.7064, 2,  35.7063, 2,    208.5, 2,    204.2, 2,     0.61, 2,     1.18, 2,     0.08, 2,     0.18, 2,    2.086, 2,    1.218, 2,    0.200, 4, -999.000, 9,   -999.0, 9,   -999.0, 9, -999.0000,   -999.00,   -999.0, 9,   -999.0,  -999.00, 9,   -999.0,  20.6019, 25.1399,  20.6294, 2, 9, 0.12, 0.04, 0.01, 0.017,  -999.00, 9, -999.00, -999.00, 9, -999.00
49NZ20071122, P14, 36, 1, 32, X12038, 2, 20071216, 0556, -21.7682, 177.4007, 3983,    199.9, 2,  19.1990, 2,  35.7176, 2,  35.7136, 2,    201.2, 2,    205.2, 2,     0.74, 2,     1.96, 2,     0.02, 2,     0.25, 2,    2.243, 2,    1.295, 2,    0.173, 2, -999.000, 9,   -999.0, 9,   -999.0, 9, -999.0000,   -999.00,   -999.0, 9,   -999.0,  -999.00, 9,   -999.0,  19.1629, 25.5279,  19.2021, 2, 9, 0.12, 0.04, 0.01, 0.015,  -999.00, 1, -999.00, -999.00, 9, -999.00
49NZ20071122, P14, 36, 1, 31, X12003, 2, 20071216, 0556, -21.7682, 177.4007, 3983,    249.3, 2,  17.7830, 2,  35.5885, 2,  35.5851, 6,    191.0, 2,    190.8, 2,     1.21, 2,     4.69, 2,     0.01, 2,     0.43, 2,    2.339, 2,    1.309, 2,    0.076, 2, -999.000, 9,   -999.0, 9,   -999.0, 9, -999.0000,   -999.00,   -999.0, 9,   -999.0,  -999.00, 9,   -999.0,  17.7403, 25.7869,  17.7809, 2, 9, 0.12, 0.05, 0.01, 0.013,  -999.00, 9, -999.00, -999.00, 9, -999.00
49NZ20071122, P14, 36, 1, 30, X12008, 2, 20071216, 0556, -21.7682, 177.4007, 3983,    300.0, 2,  16.7709, 2,  35.5079, 2,  35.5021, 2,    191.7, 2,    192.3, 2,     1.58, 2,     5.84, 2,     0.01, 2,     0.51, 2,    2.404, 2,    1.327, 2,    0.067, 2, -999.000, 9,   -999.0, 9,   -999.0, 9, -999.0000,   -999.00,   -999.0, 9,   -999.0,  -999.00, 9,   -999.0,  16.7215, 25.9703,  16.7795, 2, 9, 0.12, 0.05, 0.01, 0.013,  -999.00, 9, -999.00, -999.00, 9, -999.00
49NZ20071122, P14, 36, 1, 29, X12035, 2, 20071216, 0556, -21.7682, 177.4007, 3983,    400.4, 2,  13.7708, 2,  35.1456, 2,  35.1394, 2,    188.0, 2,    189.7, 2,     3.21, 2,    10.77, 2,     0.01, 2,     0.84, 2,    2.418, 2,    1.278, 2,    0.049, 2, -999.000, 9,   -999.0, 9,   -999.0, 9, -999.0000,   -999.00,   -999.0, 9,   -999.0,  -999.00, 9,   -999.0,  13.7131, 26.3597,  13.7695, 2, 9, 0.13, 0.06, 0.01, 0.013,  -999.00, 1, -999.00, -999.00, 9, -999.00
49NZ20071122, P14, 36, 1, 28, X12034, 2, 20071216, 0556, -21.7682, 177.4007, 3983,    502.7, 2,  10.4315, 2,  34.7696, 2,  34.7674, 6,    201.3, 2,    201.8, 2,     4.93, 2,    16.36, 2,     0.01, 2,     1.18, 2,    2.542, 2,    1.287, 2,    0.079, 2, -999.000, 9,   -999.0, 9,   -999.0, 9, -999.0000,   -999.00,   -999.0, 9,   -999.0,  -999.00, 9,   -999.0,  10.3709, 26.7080,  10.4295, 2, 9, 0.13, 0.08, 0.01, 0.013,  -999.00, 9, -999.00, -999.00, 9, -999.00
49NZ20071122, P14, 36, 1, 27, X12049, 2, 20071216, 0556, -21.7682, 177.4007, 3983,    599.7, 2,   7.8137, 2,  34.4751, 2,  34.4722, 2,    215.9, 2,    216.2, 2,     7.75, 2,    21.62, 2,     0.00, 2,     1.52, 2,    2.259, 2,    1.086, 2,    0.064, 2, -999.000, 9,   -999.0, 9,   -999.0, 9, -999.0000,   -999.00,   -999.0, 9,   -999.0,  -999.00, 9,   -999.0,   7.7527, 26.8982,   7.8144, 2, 9, 0.14, 0.09, 0.01, 0.014,  -999.00, 1, -999.00, -999.00, 9, -999.00
49NZ20071122, P14, 36, 1, 26, X12032, 2, 20071216, 0556, -21.7682, 177.4007, 3983,    701.7, 2,   6.5652, 2,  34.3941, 2,  34.3938, 2,    204.5, 2,    206.5, 2,    14.71, 2,    25.67, 2,     0.00, 2,     1.79, 2,    1.290, 2,    0.625, 2,    0.027, 2, -999.000, 9,   -999.0, 9,   -999.0, 9, -999.0000,   -999.00,   -999.0, 9,   -999.0,  -999.00, 9,   -999.0,   6.5000, 27.0091,   6.5662, 2, 9, 0.15, 0.10, 0.01, 0.015,  -999.00, 9, -999.00, -999.00, 9, -999.00
49NZ20071122, P14, 36, 1, 25, X12043, 2, 20071216, 0556, -21.7682, 177.4007, 3983,    799.4, 2,   5.8305, 2,  34.3710, 2,  34.3709, 2,    198.1, 2,    200.1, 2,    21.22, 2,    27.93, 2,     0.00, 2,     1.95, 2,    0.819, 2,    0.401, 2,    0.014, 2, -999.000, 9,   -999.0, 9,   -999.0, 9, -999.0000,   -999.00,   -999.0, 9,   -999.0,  -999.00, 9,   -999.0,   5.7602, 27.0856,   5.8323, 2, 9, 0.17, 0.11, 0.01, 0.015,  -999.00, 1, -999.00, -999.00, 9, -999.00
49NZ20071122, P14, 36, 1, 24, X12030, 2, 20071216, 0556, -21.7682, 177.4007, 3983,    902.8, 2,   4.9924, 2,  34.3819, 2,  34.3820, 2,    187.6, 2,    187.1, 2,    32.99, 2,    30.61, 2,     0.00, 2,     2.13, 2,    0.389, 2,    0.195, 2,    0.008, 2, -999.000, 9,   -999.0, 9,   -999.0, 9, -999.0000,   -999.00,   -999.0, 9,   -999.0,  -999.00, 9,   -999.0,   4.9181, 27.1946,   4.9936, 2, 9, 0.19, 0.12, 0.01, 0.015,  -999.00, 9, -999.00, -999.00, 9, -999.00
49NZ20071122, P14, 36, 1, 23, X12027, 2, 20071216, 0556, -21.7682, 177.4007, 3983,    999.7, 2,   4.3681, 2,  34.4203, 2,  34.4223, 2,    176.7, 2,    174.8, 2,    47.14, 2,    32.42, 2,     0.00, 2,     2.26, 2,    0.163, 2,    0.085, 2,    0.003, 2, -999.000, 9,   -999.0, 9,   -999.0, 9, -999.0000,   -999.00,   -999.0, 9,   -999.0,  -999.00, 9,   -999.0,   4.2898, 27.2945,   4.3686, 2, 9, 0.22, 0.12, 0.01, 0.016,  -999.00, 1, -999.00, -999.00, 9, -999.00
49NZ20071122, P14, 36, 1, 22, X12028, 2, 20071216, 0556, -21.7682, 177.4007, 3983,   1200.7, 2,   3.5845, 2,  34.5009, 2,  34.5020, 6,    160.8, 2,    160.4, 2,    70.75, 2,    34.11, 2,     0.00, 2,     2.39, 2,    0.047, 2,    0.026, 2,    0.000, 2, -999.000, 9,   -999.0, 9,   -999.0, 9, -999.0000,   -999.00,   -999.0, 9,   -999.0,  -999.00, 9,   -999.0,   3.4957, 27.4398,   3.5851, 2, 9, 0.27, 0.13, 0.01, 0.016,  -999.00, 9, -999.00, -999.00, 9, -999.00
49NZ20071122, P14, 36, 1, 21, X12009, 2, 20071216, 0556, -21.7682, 177.4007, 3983,   1402.5, 2,   3.0701, 2,  34.5566, 2,  34.5565, 2,    154.9, 2,    154.9, 2,    86.66, 2,    34.60, 2,     0.00, 2,     2.44, 2,    0.017, 2,    0.012, 2,    0.000, 2, -999.000, 9,   -999.0, 9,   -999.0, 9, -999.0000,   -999.00,   -999.0, 9,   -999.0,  -999.00, 9,   -999.0,   2.9696, 27.5339,   3.0704, 2, 9, 0.31, 0.13, 0.01, 0.016,  -999.00, 9, -999.00, -999.00, 9, -999.00
49NZ20071122, P14, 36, 1, 20, X12026, 2, 20071216, 0556, -21.7682, 177.4007, 3983,   1599.7, 2,   2.6655, 2,  34.5961, 2,  34.5958, 2,    151.3, 2,    150.7, 2,    99.36, 2,    35.26, 2,     0.00, 2,     2.48, 2,    0.004, 2,    0.004, 2,    0.000, 2, -999.000, 9,   -999.0, 9,   -999.0, 9, -999.0000,   -999.00,   -999.0, 9,   -999.0,  -999.00, 9,   -999.0,   2.5533, 27.6024,   2.6655, 2, 9, 0.34, 0.13, 0.01, 0.016,  -999.00, 9, -999.00, -999.00, 9, -999.00
49NZ20071122, P14, 36, 1, 19, X12025, 2, 20071216, 0556, -21.7682, 177.4007, 3983,   1801.7, 2,   2.4444, 2,  34.6184, 2,  34.6186, 2,    150.1, 2,    150.1, 2,   106.09, 2,    35.43, 2,     0.00, 2,     2.49, 2,    0.004, 2,    0.001, 2,    0.000, 2, -999.000, 9,   -999.0, 9,   -999.0, 9, -999.0000,   -999.00,   -999.0, 9,   -999.0,  -999.00, 9,   -999.0,   2.3182, 27.6401,   2.4442, 2, 9, 0.35, 0.13, 0.01, 0.016,  -999.00, 9, -999.00, -999.00, 9, -999.00
49NZ20071122, P14, 36, 1, 18, X12024, 2, 20071216, 0556, -21.7682, 177.4007, 3983,   2002.4, 2,   2.2528, 2,  34.6370, 2,  34.6372, 2,    149.9, 2,    150.2, 2,   111.28, 2,    35.40, 2,     0.00, 2,     2.50, 2,    0.001, 2,    0.002, 2,    0.000, 2, -999.000, 9,   -999.0, 9,   -999.0, 9, -999.0000,   -999.00,   -999.0, 9,   -999.0,  -999.00, 9,   -999.0,   2.1123, 27.6719,   2.2528, 2, 9, 0.36, 0.13, 0.01, 0.016,  -999.00, 1, -999.00, -999.00, 9, -999.00
49NZ20071122, P14, 36, 1, 17, X12023, 2, 20071216, 0556, -21.7682, 177.4007, 3983,   2199.7, 2,   2.1215, 2,  34.6494, 2,  34.6495, 6,    150.4, 2,    150.7, 2,   114.72, 2,    35.48, 2,     0.00, 2,     2.50, 2,    0.002, 2,    0.001, 2,    0.000, 2, -999.000, 9,   -999.0, 9,   -999.0, 9, -999.0000,   -999.00,   -999.0, 9,   -999.0,  -999.00, 9,   -999.0,   1.9659, 27.6935,   2.1216, 2, 9, 0.37, 0.13, 0.01, 0.016,  -999.00, 9, -999.00, -999.00, 9, -999.00
49NZ20071122, P14, 36, 1, 16, X12022, 2, 20071216, 0556, -21.7682, 177.4007, 3983,   2399.9, 2,   2.0272, 2,  34.6594, 2,  34.6594, 2,    151.4, 2,    151.8, 2,   116.94, 2,    35.36, 2,     0.00, 2,     2.49, 2,    0.005, 2,    0.002, 2,    0.000, 2, -999.000, 9,   -999.0, 9,   -999.0, 9, -999.0000,   -999.00,   -999.0, 9,   -999.0,  -999.00, 9,   -999.0,   1.8555, 27.7101,   2.0275, 2, 9, 0.38, 0.13, 0.01, 0.016,  -999.00, 9, -999.00, -999.00, 9, -999.00
49NZ20071122, P14, 36, 1, 15, X12021, 2, 20071216, 0556, -21.7682, 177.4007, 3983,   2599.8, 2,   1.9396, 2,  34.6679, 2,  34.6679, 2,    152.8, 2,    153.1, 2,   118.94, 2,    35.29, 2,     0.00, 2,     2.49, 2, -999.000, 9, -999.000, 9, -999.000, 9, -999.000, 9,   -999.0, 9,   -999.0, 9, -999.0000,   -999.00,   -999.0, 9,   -999.0,  -999.00, 9,   -999.0,   1.7512, 27.7249,   1.9397, 2, 9, 0.38, 0.13, 0.01, 0.016,  -999.00, 9, -999.00, -999.00, 9, -999.00
49NZ20071122, P14, 36, 1, 14, X12020, 2, 20071216, 0556, -21.7682, 177.4007, 3983,   2799.8, 2,   1.8831, 2,  34.6740, 2,  34.6737, 2,    153.9, 2,    154.0, 2,   120.21, 2,    35.34, 2,     0.00, 2,     2.49, 2,    0.003, 2,    0.000, 2,    0.000, 2, -999.000, 9,   -999.0, 9,   -999.0, 9, -999.0000,   -999.00,   -999.0, 9,   -999.0,  -999.00, 9,   -999.0,   1.6771, 27.7354,   1.8831, 2, 9, 0.38, 0.13, 0.01, 0.016,  -999.00, 9, -999.00, -999.00, 9, -999.00
49NZ20071122, P14, 36, 1, 13, X12019, 2, 20071216, 0556, -21.7682, 177.4007, 3983,   2999.8, 2,   1.8556, 2,  34.6773, 2,  34.6771, 2,    154.5, 2,    154.5, 2,   121.22, 2,    35.41, 2,     0.00, 2,     2.49, 2, -999.000, 9, -999.000, 9, -999.000, 9, -999.000, 9,   -999.0, 9,   -999.0, 9, -999.0000,   -999.00,   -999.0, 9,   -999.0,  -999.00, 9,   -999.0,   1.6310, 27.7416,   1.8557, 2, 9, 0.39, 0.13, 0.01, 0.016,  -999.00, 1, -999.00, -999.00, 9, -999.00
49NZ20071122, P14, 36, 1, 12, X12040, 2, 20071216, 0556, -21.7682, 177.4007, 3983,   3252.6, 2,   1.8276, 2,  34.6806, 2,  34.6800, 2,    155.2, 2,    155.2, 2,   122.18, 2,    35.22, 2,     0.00, 2,     2.48, 2,    0.002, 2,    0.000, 2,    0.000, 2, -999.000, 9,   -999.0, 9,   -999.0, 9, -999.0000,   -999.00,   -999.0, 9,   -999.0,  -999.00, 9,   -999.0,   1.5786, 27.7481,   1.8277, 2, 9, 0.39, 0.13, 0.01, 0.016,  -999.00, 9, -999.00, -999.00, 9, -999.00
49NZ20071122, P14, 36, 1, 11, X12047, 2, 20071216, 0556, -21.7682, 177.4007, 3983,   3499.6, 2,   1.8265, 2,  34.6821, 2,  34.6818, 6,    155.6, 2,    155.5, 2,   122.98, 2,    35.35, 2,     0.00, 2,     2.48, 2, -999.000, 9, -999.000, 9, -999.000, 9, -999.000, 9,   -999.0, 9,   -999.0, 9, -999.0000,   -999.00,   -999.0, 9,   -999.0,  -999.00, 9,   -999.0,   1.5522, 27.7513,   1.8264, 2, 9, 0.39, 0.13, 0.01, 0.016,  -999.00, 9, -999.00, -999.00, 9, -999.00
49NZ20071122, P14, 36, 1, 10, X12012, 2, 20071216, 0556, -21.7682, 177.4007, 3983,   3749.9, 2,   1.8393, 2,  34.6828, 2,  34.6829, 2,    155.9, 2,    155.5, 2,   123.46, 2,    35.31, 2,     0.00, 2,     2.48, 2,    0.000, 2,    0.000, 2,    0.000, 2, -999.000, 9,   -999.0, 9,   -999.0, 9, -999.0000,   -999.00,   -999.0, 9,   -999.0,  -999.00, 9,   -999.0,   1.5382, 27.7528,   1.8392, 2, 9, 0.39, 0.13, 0.01, 0.016,  -999.00, 9, -999.00, -999.00, 9, -999.00
49NZ20071122, P14, 36, 1, 9, X12015, 2, 20071216, 0556, -21.7682, 177.4007, 3983,   2002.2, 2,   2.2527, 2,  34.6370, 2, -999.0000, 9,    149.9, 2,   -999.0, 9,  -999.00, 9,  -999.00, 9,  -999.00, 9,  -999.00, 9, -999.000, 9, -999.000, 9, -999.000, 9, -999.000, 9,   -999.0, 9,   -999.0, 9, -999.0000,   -999.00,   -999.0, 9,   -999.0,  -999.00, 9,   -999.0,   2.1122, 27.6719,   2.2527, 2, 9, -999.00, -999.00, -999.00, -999.000,  -999.00, 1, -999.00, -999.00, 9, -999.00
49NZ20071122, P14, 36, 1, 8, X12046, 2, 20071216, 0556, -21.7682, 177.4007, 3983,   2002.5, 2,   2.2526, 2,  34.6371, 2, -999.0000, 9,    150.0, 2,   -999.0, 9,  -999.00, 9,  -999.00, 9,  -999.00, 9,  -999.00, 9, -999.000, 9, -999.000, 9, -999.000, 9, -999.000, 9,   -999.0, 9,   -999.0, 9, -999.0000,   -999.00,   -999.0, 9,   -999.0,  -999.00, 9,   -999.0,   2.1121, 27.6719,   2.2527, 2, 9, -999.00, -999.00, -999.00, -999.000,  -999.00, 1, -999.00, -999.00, 9, -999.00
49NZ20071122, P14, 36, 1, 7, X12044, 2, 20071216, 0556, -21.7682, 177.4007, 3983,   3000.0, 2,   1.8558, 2,  34.6772, 2, -999.0000, 9,    154.5, 2,   -999.0, 9,  -999.00, 9,  -999.00, 9,  -999.00, 9,  -999.00, 9, -999.000, 9, -999.000, 9, -999.000, 9, -999.000, 9,   -999.0, 9,   -999.0, 9, -999.0000,   -999.00,   -999.0, 9,   -999.0,  -999.00, 9,   -999.0,   1.6312, 27.7415,   1.8558, 2, 9, -999.00, -999.00, -999.00, -999.000,  -999.00, 1, -999.00, -999.00, 9, -999.00
49NZ20071122, P14, 36, 1, 6, X12048, 2, 20071216, 0556, -21.7682, 177.4007, 3983,   3000.2, 2,   1.8559, 2,  34.6772, 2, -999.0000, 9,    154.5, 2,   -999.0, 9,  -999.00, 9,  -999.00, 9,  -999.00, 9,  -999.00, 9, -999.000, 9, -999.000, 9, -999.000, 9, -999.000, 9,   -999.0, 9,   -999.0, 9, -999.0000,   -999.00,   -999.0, 9,   -999.0,  -999.00, 9,   -999.0,   1.6313, 27.7415,   1.8559, 2, 9, -999.00, -999.00, -999.00, -999.000,  -999.00, 1, -999.00, -999.00, 9, -999.00
49NZ20071122, P14, 36, 1, 5, X12014, 2, 20071216, 0556, -21.7682, 177.4007, 3983,   3000.2, 2,   1.8558, 2,  34.6772, 2, -999.0000, 9,    154.5, 2,   -999.0, 9,  -999.00, 9,  -999.00, 9,  -999.00, 9,  -999.00, 9, -999.000, 9, -999.000, 9, -999.000, 9, -999.000, 9,   -999.0, 9,   -999.0, 9, -999.0000,   -999.00,   -999.0, 9,   -999.0,  -999.00, 9,   -999.0,   1.6312, 27.7415,   1.8558, 2, 9, -999.00, -999.00, -999.00, -999.000,  -999.00, 1, -999.00, -999.00, 9, -999.00
49NZ20071122, P14, 36, 1, 4, X12006, 2, 20071216, 0556, -21.7682, 177.4007, 3983,   4027.8, 2,   1.8547, 2,  34.6836, 2, -999.0000, 9,    156.5, 2,   -999.0, 9,  -999.00, 9,  -999.00, 9,  -999.00, 9,  -999.00, 9, -999.000, 9, -999.000, 9, -999.000, 9, -999.000, 9,   -999.0, 9,   -999.0, 9, -999.0000,   -999.00,   -999.0, 9,   -999.0,  -999.00, 9,   -999.0,   1.5227, 27.7546,   1.8547, 2, 9, -999.00, -999.00, -999.00, -999.000,  -999.00, 1, -999.00, -999.00, 9, -999.00
49NZ20071122, P14, 36, 1, 3, X12013, 2, 20071216, 0556, -21.7682, 177.4007, 3983,   4027.4, 2,   1.8546, 2,  34.6836, 2, -999.0000, 9,    156.6, 2,   -999.0, 9,  -999.00, 9,  -999.00, 9,  -999.00, 9,  -999.00, 9, -999.000, 9, -999.000, 9, -999.000, 9, -999.000, 9,   -999.0, 9,   -999.0, 9, -999.0000,   -999.00,   -999.0, 9,   -999.0,  -999.00, 9,   -999.0,   1.5227, 27.7546,   1.8546, 2, 9, -999.00, -999.00, -999.00, -999.000,  -999.00, 1, -999.00, -999.00, 9, -999.00
49NZ20071122, P14, 36, 1, 2, X12002, 2, 20071216, 0556, -21.7682, 177.4007, 3983,   4027.3, 2,   1.8545, 2,  34.6836, 2, -999.0000, 9,    156.6, 2,   -999.0, 9,  -999.00, 9,  -999.00, 9,  -999.00, 9,  -999.00, 9, -999.000, 9, -999.000, 9, -999.000, 9, -999.000, 9,   -999.0, 9,   -999.0, 9, -999.0000,   -999.00,   -999.0, 9,   -999.0,  -999.00, 9,   -999.0,   1.5226, 27.7546,   1.8546, 2, 9, -999.00, -999.00, -999.00, -999.000,  -999.00, 1, -999.00, -999.00, 9, -999.00
49NZ20071122, P14, 36, 1, 1, X12001, 2, 20071216, 0556, -21.7682, 177.4007, 3983,   4026.8, 2,   1.8546, 2,  34.6835, 2,  34.6835, 6,    156.6, 2,    156.1, 2,   123.34, 2,    35.20, 2,     0.00, 2,     2.48, 2,    0.000, 2,    0.000, 2,    0.000, 2, -999.000, 9,   -999.0, 9,   -999.0, 9, -999.0000,   -999.00,   -999.0, 9,   -999.0,  -999.00, 9,   -999.0,   1.5228, 27.7545,   1.8545, 2, 9, 0.39, 0.13, 0.01, 0.016,  -999.00, 1, -999.00, -999.00, 9, -999.00