BOTTLE,20220820CCHSIOAMB
EXPOCODE,SECT_ID,STNNBR,CASTNO,SAMPNO,BTLNBR,BTLNBR_FLAG_W,DATE,TIME,LATITUDE,LONGITUDE,DEPTH,CTDPRS,CTDPRS_FLAG_W,CTDTMP,CTDTMP_FLAG_W,CTDSAL,CTDSAL_FLAG_W,SALNTY,SALNTY_FLAG_W,CTDOXY,CTDOXY_FLAG_W,OXYGEN,OXYGEN_FLAG_W,SILCAT,SILCAT_FLAG_W,NITRAT,NITRAT_FLAG_W,NITRIT,NITRIT_FLAG_W,PHSPHT,PHSPHT_FLAG_W,CFC-11,CFC-11_FLAG_W,CFC-12,CFC-12_FLAG_W,CFC113,CFC113_FLAG_W,CCL4,CCL4_FLAG_W,TCARBN,TCARBN_FLAG_W,ALKALI,ALKALI_FLAG_W,PH_TOT,PH_TMP,DELC14,DELC14_FLAG_W,C14ERR,DELC13,DELC13_FLAG_W,C13ERR,THETA,SIG0,SBE35,SBE35_FLAG_W,PH_TOT_FLAG_W,SILUNC,NRAUNC,NRIUNC,PHPUNC,CS-137,CS-137_FLAG_W,CS137ER,PLUTO,PLUTO_FLAG_W,PLUTOER
,,,,,,,,,,,METERS,DBAR,,ITS-90,,PSS-78,,PSS-78,,UMOL/KG,,UMOL/KG,,UMOL/KG,,UMOL/KG,,UMOL/KG,,UMOL/KG,,PMOL/KG,,PMOL/KG,,PMOL/KG,,PMOL/KG,,UMOL/KG,,UMOL/KG,,,DEG C,/MILLE,,/MILLE,/MILLE,,/MILLE,DEG C,KG/M^3,ITS-90,,,UMOL/KG,UMOL/KG,UMOL/KG,UMOL/KG,DM/.1MG,,BQ/M^3,MBQ/M^3,,MBQ/M^3
49NZ20071122, P14, 49, 1, 36, X12042, 2, 20071213, 1622, -18.7510, 177.8275, 1918,     10.3, 2,  28.2777, 2,  34.6260, 2,  34.6262, 2,    201.2, 2,    199.5, 2,     0.98, 2,     0.03, 2,     0.01, 2,     0.11, 2,    1.513, 2,    0.929, 2,    0.266, 4, -999.000, 9,   -999.0, 9,   -999.0, 9, -999.0000,   -999.00,   -999.0, 9,   -999.0,  -999.00, 9,   -999.0,  28.2753, 22.0233,  28.2777, 2, 9, 0.12, 0.03, 0.01, 0.021,  -999.00, 9, -999.00, -999.00, 9, -999.00
49NZ20071122, P14, 49, 1, 35, X12041, 2, 20071213, 1622, -18.7510, 177.8275, 1918,     50.7, 2,  27.7872, 2,  34.6751, 2,  34.6824, 2,    204.3, 2,    202.4, 2,     1.10, 2,     0.04, 2,     0.01, 2,     0.10, 2, -999.000, 9, -999.000, 9, -999.000, 9, -999.000, 9,   -999.0, 9,   -999.0, 9, -999.0000,   -999.00,   -999.0, 9,   -999.0,  -999.00, 9,   -999.0,  27.7753, 22.2235,  27.7880, 2, 9, 0.12, 0.03, 0.01, 0.022,  -999.00, 9, -999.00, -999.00, 9, -999.00
49NZ20071122, P14, 49, 1, 34, X12016, 2, 20071213, 1622, -18.7510, 177.8275, 1918,    100.7, 2,  25.5394, 2,  35.3946, 2,  35.4106, 2,    195.5, 2,    198.1, 2,     0.64, 2,     0.09, 2,     0.07, 2,     0.13, 2,    1.712, 2,    1.033, 2,    0.264, 4, -999.000, 9,   -999.0, 9,   -999.0, 9, -999.0000,   -999.00,   -999.0, 9,   -999.0,  -999.00, 9,   -999.0,  25.5172, 23.4809,  25.5412, 2, 9, 0.12, 0.03, 0.01, 0.019,  -999.00, 9, -999.00, -999.00, 9, -999.00
49NZ20071122, P14, 49, 1, 33, X12033, 2, 20071213, 1622, -18.7510, 177.8275, 1918,    150.2, 2,  23.5127, 2,  35.7241, 2,  35.7272, 2,    168.8, 2,    169.4, 2,     0.79, 2,     2.10, 2,     0.04, 2,     0.34, 2, -999.000, 9, -999.000, 9, -999.000, 9, -999.000, 9,   -999.0, 9,   -999.0, 9, -999.0000,   -999.00,   -999.0, 9,   -999.0,  -999.00, 9,   -999.0,  23.4814, 24.3427,  23.5121, 2, 9, 0.12, 0.04, 0.01, 0.014,  -999.00, 9, -999.00, -999.00, 9, -999.00
49NZ20071122, P14, 49, 1, 32, X12038, 2, 20071213, 1622, -18.7510, 177.8275, 1918,    201.2, 2,  20.8139, 2,  35.7095, 2,  35.7077, 2,    168.3, 2,    167.6, 2,     0.98, 2,     3.95, 2,     0.01, 2,     0.44, 2,    2.112, 2,    1.208, 2,    0.051, 2, -999.000, 9,   -999.0, 9,   -999.0, 9, -999.0000,   -999.00,   -999.0, 9,   -999.0,  -999.00, 9,   -999.0,  20.7755, 25.0953,  20.8148, 2, 9, 0.12, 0.04, 0.01, 0.013,  -999.00, 9, -999.00, -999.00, 9, -999.00
49NZ20071122, P14, 49, 1, 31, X12003, 2, 20071213, 1622, -18.7510, 177.8275, 1918,    253.5, 2,  18.9405, 2,  35.5514, 2,  35.5499, 6,    171.8, 2,    170.6, 2,     1.45, 2,     5.44, 2,     0.01, 2,     0.53, 2, -999.000, 9, -999.000, 9, -999.000, 9, -999.000, 9,   -999.0, 9,   -999.0, 9, -999.0000,   -999.00,   -999.0, 9,   -999.0,  -999.00, 9,   -999.0,  18.8952, 25.4695,  18.9435, 2, 9, 0.12, 0.05, 0.01, 0.013,  -999.00, 9, -999.00, -999.00, 9, -999.00
49NZ20071122, P14, 49, 1, 30, X12008, 2, 20071213, 1622, -18.7510, 177.8275, 1918,    279.4, 2,  17.9711, 2,  35.4590, 2,  35.4457, 2,    174.3, 2,    175.3, 2,     1.71, 2,     6.16, 2,     0.01, 2,     0.57, 2,    2.256, 2,    1.240, 2,    0.033, 2, -999.000, 9,   -999.0, 9,   -999.0, 9, -999.0000,   -999.00,   -999.0, 9,   -999.0,  -999.00, 9,   -999.0,  17.9229, 25.6427,  17.9771, 2, 9, 0.12, 0.05, 0.01, 0.013,  -999.00, 9, -999.00, -999.00, 9, -999.00
49NZ20071122, P14, 49, 1, 29, X12035, 2, 20071213, 1622, -18.7510, 177.8275, 1918,    370.7, 2,  14.1778, 2,  35.0971, 2,  35.0909, 2,    180.0, 2,    180.2, 2,     3.72, 2,    11.12, 2,     0.01, 2,     0.90, 2,    2.228, 2,    1.175, 2,    0.035, 2, -999.000, 9,   -999.0, 9,   -999.0, 9, -999.0000,   -999.00,   -999.0, 9,   -999.0,  -999.00, 9,   -999.0,  14.1234, 26.2361,  14.1807, 2, 9, 0.13, 0.06, 0.01, 0.013,  -999.00, 9, -999.00, -999.00, 9, -999.00
49NZ20071122, P14, 49, 1, 28, X12034, 2, 20071213, 1622, -18.7510, 177.8275, 1918,    470.5, 2,  10.0275, 2,  34.6703, 2,  34.6612, 6,    187.9, 2,    188.4, 2,     7.81, 2,    18.93, 2,     0.01, 2,     1.39, 2,    1.355, 3,    0.664, 3,    0.030, 3, -999.000, 9,   -999.0, 9,   -999.0, 9, -999.0000,   -999.00,   -999.0, 9,   -999.0,  -999.00, 9,   -999.0,   9.9723, 26.6993,  10.0284, 2, 9, 0.14, 0.09, 0.01, 0.014,  -999.00, 9, -999.00, -999.00, 9, -999.00
49NZ20071122, P14, 49, 1, 27, X12049, 2, 20071213, 1622, -18.7510, 177.8275, 1918,    570.3, 2,   7.6540, 2,  34.4746, 2,  34.4658, 2,    198.3, 2,    199.0, 2,    12.86, 2,    23.85, 2,     0.01, 2,     1.69, 2,    1.486, 2,    0.725, 2,    0.037, 2, -999.000, 9,   -999.0, 9,   -999.0, 9, -999.0000,   -999.00,   -999.0, 9,   -999.0,  -999.00, 9,   -999.0,   7.5968, 26.9204,   7.6549, 2, 9, 0.15, 0.10, 0.01, 0.014,  -999.00, 9, -999.00, -999.00, 9, -999.00
49NZ20071122, P14, 49, 1, 26, X12032, 2, 20071213, 1622, -18.7510, 177.8275, 1918,    669.5, 2,   5.8234, 2,  34.3869, 2,  34.3864, 2,    194.0, 2,    193.5, 2,    23.85, 2,    28.37, 2,     0.01, 2,     1.98, 2,    0.742, 2,    0.370, 2,    0.022, 2, -999.000, 9,   -999.0, 9,   -999.0, 9, -999.0000,   -999.00,   -999.0, 9,   -999.0,  -999.00, 9,   -999.0,   5.7651, 27.0976,   5.8239, 2, 9, 0.17, 0.11, 0.01, 0.015,  -999.00, 9, -999.00, -999.00, 9, -999.00
49NZ20071122, P14, 49, 1, 25, X12043, 2, 20071213, 1622, -18.7510, 177.8275, 1918,    769.9, 2,   5.1069, 2,  34.4030, 2,  34.4022, 2,    182.0, 2,    181.5, 2,    35.43, 2,    30.80, 2,     0.01, 2,     2.15, 2,    0.383, 2,    0.192, 2,    0.014, 2, -999.000, 9,   -999.0, 9,   -999.0, 9, -999.0000,   -999.00,   -999.0, 9,   -999.0,  -999.00, 9,   -999.0,   5.0435, 27.1969,   5.1076, 2, 9, 0.20, 0.12, 0.01, 0.015,  -999.00, 9, -999.00, -999.00, 9, -999.00
49NZ20071122, P14, 49, 1, 24, X12030, 2, 20071213, 1622, -18.7510, 177.8275, 1918,    870.5, 2,   4.4156, 2,  34.4293, 2,  34.4303, 2,    174.1, 2,    171.3, 2,    47.97, 2,    32.58, 2,     0.01, 2,     2.27, 2,    0.174, 2,    0.090, 2,    0.005, 2, -999.000, 9,   -999.0, 9,   -999.0, 9, -999.0000,   -999.00,   -999.0, 9,   -999.0,  -999.00, 9,   -999.0,   4.3479, 27.2955,   4.4159, 2, 9, 0.22, 0.12, 0.01, 0.016,  -999.00, 9, -999.00, -999.00, 9, -999.00
49NZ20071122, P14, 49, 1, 23, X12027, 2, 20071213, 1622, -18.7510, 177.8275, 1918,    970.4, 2,   4.0396, 2,  34.4613, 2,  34.4633, 6,    162.9, 2,    162.6, 2,    58.61, 2,    33.76, 2,     0.01, 2,     2.36, 2,    0.082, 2,    0.041, 2,    0.000, 2, -999.000, 9,   -999.0, 9,   -999.0, 9, -999.0000,   -999.00,   -999.0, 9,   -999.0,  -999.00, 9,   -999.0,   3.9662, 27.3611,   4.0397, 2, 9, 0.25, 0.13, 0.01, 0.016,  -999.00, 9, -999.00, -999.00, 9, -999.00
49NZ20071122, P14, 49, 1, 22, X12028, 2, 20071213, 1622, -18.7510, 177.8275, 1918,   1129.2, 2,   3.5760, 2,  34.5035, 2,  34.5047, 2,    155.6, 2,    155.7, 2,    71.82, 2,    34.61, 2,     0.01, 2,     2.42, 2,    0.032, 2,    0.021, 2,    0.000, 2, -999.000, 9,   -999.0, 9,   -999.0, 9, -999.0000,   -999.00,   -999.0, 9,   -999.0,  -999.00, 9,   -999.0,   3.4932, 27.4422,   3.5761, 2, 9, 0.28, 0.13, 0.01, 0.016,  -999.00, 9, -999.00, -999.00, 9, -999.00
49NZ20071122, P14, 49, 1, 21, X12009, 2, 20071213, 1622, -18.7510, 177.8275, 1918,   1329.2, 2,   3.1204, 2,  34.5498, 2,  34.5514, 6,    150.0, 2,    150.2, 2,    86.69, 2,    35.30, 2,     0.00, 2,     2.47, 2,    0.013, 2,    0.008, 2,    0.000, 2, -999.000, 9,   -999.0, 9,   -999.0, 9, -999.0000,   -999.00,   -999.0, 9,   -999.0,  -999.00, 9,   -999.0,   3.0254, 27.5234,   3.1216, 2, 9, 0.31, 0.13, 0.01, 0.016,  -999.00, 9, -999.00, -999.00, 9, -999.00
49NZ20071122, P14, 49, 1, 20, X12026, 2, 20071213, 1622, -18.7510, 177.8275, 1918,   1528.8, 2,   2.8482, 2,  34.5769, 2,  34.5780, 6,    147.6, 2,    147.9, 2,    95.43, 2,    35.55, 2,     0.01, 2,     2.50, 2,    0.006, 2,    0.004, 2,    0.000, 2, -999.000, 9,   -999.0, 9,   -999.0, 9, -999.0000,   -999.00,   -999.0, 9,   -999.0,  -999.00, 9,   -999.0,   2.7397, 27.5707,   2.8482, 2, 9, 0.33, 0.13, 0.01, 0.016,  -999.00, 9, -999.00, -999.00, 9, -999.00
49NZ20071122, P14, 49, 1, 19, X12025, 2, 20071213, 1622, -18.7510, 177.8275, 1918,   1730.5, 2,   2.5707, 2,  34.6033, 2,  34.6045, 2,    147.3, 2,    147.7, 2,   103.74, 2,    35.67, 2,     0.01, 2,     2.51, 2,    0.003, 2,    0.003, 2,    0.000, 2, -999.000, 9,   -999.0, 9,   -999.0, 9, -999.0000,   -999.00,   -999.0, 9,   -999.0,  -999.00, 9,   -999.0,   2.4488, 27.6171,   2.5703, 2, 9, 0.35, 0.13, 0.01, 0.016,  -999.00, 9, -999.00, -999.00, 9, -999.00
49NZ20071122, P14, 49, 1, 18, X12024, 9, 20071213, 1622, -18.7510, 177.8275, 1918,     10.7, 2,  28.2809, 2,  34.6263, 2, -999.0000, 9,    201.4, 2,   -999.0, 9,  -999.00, 9,  -999.00, 9,  -999.00, 9,  -999.00, 9, -999.000, 9, -999.000, 9, -999.000, 9, -999.000, 9,   -999.0, 9,   -999.0, 9, -999.0000,   -999.00,   -999.0, 9,   -999.0,  -999.00, 9,   -999.0,  28.2784, 22.0225,  28.2808, 2, 9, -999.00, -999.00, -999.00, -999.000,  -999.00, 9, -999.00, -999.00, 9, -999.00
49NZ20071122, P14, 49, 1, 17, X12023, 9, 20071213, 1622, -18.7510, 177.8275, 1918,     50.4, 2,  27.7891, 2,  34.6743, 2, -999.0000, 9,    204.2, 2,   -999.0, 9,  -999.00, 9,  -999.00, 9,  -999.00, 9,  -999.00, 9, -999.000, 9, -999.000, 9, -999.000, 9, -999.000, 9,   -999.0, 9,   -999.0, 9, -999.0000,   -999.00,   -999.0, 9,   -999.0,  -999.00, 9,   -999.0,  27.7773, 22.2223,  27.7861, 2, 9, -999.00, -999.00, -999.00, -999.000,  -999.00, 9, -999.00, -999.00, 9, -999.00
49NZ20071122, P14, 49, 1, 16, X12022, 9, 20071213, 1622, -18.7510, 177.8275, 1918,    100.3, 2,  25.5358, 2,  35.3943, 2, -999.0000, 9,    195.6, 2,   -999.0, 9,  -999.00, 9,  -999.00, 9,  -999.00, 9,  -999.00, 9, -999.000, 9, -999.000, 9, -999.000, 9, -999.000, 9,   -999.0, 9,   -999.0, 9, -999.0000,   -999.00,   -999.0, 9,   -999.0,  -999.00, 9,   -999.0,  25.5137, 23.4818,  25.5316, 2, 9, -999.00, -999.00, -999.00, -999.000,  -999.00, 9, -999.00, -999.00, 9, -999.00
49NZ20071122, P14, 49, 1, 15, X12021, 9, 20071213, 1622, -18.7510, 177.8275, 1918,    150.2, 2,  23.5023, 2,  35.7220, 2, -999.0000, 9,    168.8, 2,   -999.0, 9,  -999.00, 9,  -999.00, 9,  -999.00, 9,  -999.00, 9, -999.000, 9, -999.000, 9, -999.000, 9, -999.000, 9,   -999.0, 9,   -999.0, 9, -999.0000,   -999.00,   -999.0, 9,   -999.0,  -999.00, 9,   -999.0,  23.4710, 24.3442,  23.4872, 2, 9, -999.00, -999.00, -999.00, -999.000,  -999.00, 9, -999.00, -999.00, 9, -999.00
49NZ20071122, P14, 49, 1, 14, X12020, 9, 20071213, 1622, -18.7510, 177.8275, 1918,    200.4, 2,  20.8208, 2,  35.7094, 2, -999.0000, 9,    168.2, 2,   -999.0, 9,  -999.00, 9,  -999.00, 9,  -999.00, 9,  -999.00, 9, -999.000, 9, -999.000, 9, -999.000, 9, -999.000, 9,   -999.0, 9,   -999.0, 9, -999.0000,   -999.00,   -999.0, 9,   -999.0,  -999.00, 9,   -999.0,  20.7825, 25.0933,  20.8212, 2, 9, -999.00, -999.00, -999.00, -999.000,  -999.00, 9, -999.00, -999.00, 9, -999.00
49NZ20071122, P14, 49, 1, 13, X12019, 9, 20071213, 1622, -18.7510, 177.8275, 1918,    251.5, 2,  19.0009, 2,  35.5532, 2, -999.0000, 9,    172.1, 2,   -999.0, 9,  -999.00, 9,  -999.00, 9,  -999.00, 9,  -999.00, 9, -999.000, 9, -999.000, 9, -999.000, 9, -999.000, 9,   -999.0, 9,   -999.0, 9, -999.0000,   -999.00,   -999.0, 9,   -999.0,  -999.00, 9,   -999.0,  18.9558, 25.4554,  18.9980, 2, 9, -999.00, -999.00, -999.00, -999.000,  -999.00, 9, -999.00, -999.00, 9, -999.00
49NZ20071122, P14, 49, 1, 12, X12040, 9, 20071213, 1622, -18.7510, 177.8275, 1918,    279.3, 2,  17.9333, 2,  35.4576, 2, -999.0000, 9,    174.5, 2,   -999.0, 9,  -999.00, 9,  -999.00, 9,  -999.00, 9,  -999.00, 9, -999.000, 9, -999.000, 9, -999.000, 9, -999.000, 9,   -999.0, 9,   -999.0, 9, -999.0000,   -999.00,   -999.0, 9,   -999.0,  -999.00, 9,   -999.0,  17.8852, 25.6510,  17.9453, 2, 9, -999.00, -999.00, -999.00, -999.000,  -999.00, 9, -999.00, -999.00, 9, -999.00
49NZ20071122, P14, 49, 1, 11, X12047, 9, 20071213, 1622, -18.7510, 177.8275, 1918,    369.8, 2,  14.1917, 2,  35.0976, 2, -999.0000, 9,    180.0, 2,   -999.0, 9,  -999.00, 9,  -999.00, 9,  -999.00, 9,  -999.00, 9, -999.000, 9, -999.000, 9, -999.000, 9, -999.000, 9,   -999.0, 9,   -999.0, 9, -999.0000,   -999.00,   -999.0, 9,   -999.0,  -999.00, 9,   -999.0,  14.1374, 26.2335,  14.1927, 2, 9, -999.00, -999.00, -999.00, -999.000,  -999.00, 9, -999.00, -999.00, 9, -999.00
49NZ20071122, P14, 49, 1, 10, X12012, 9, 20071213, 1622, -18.7510, 177.8275, 1918,    470.3, 2,  10.0200, 2,  34.6689, 2, -999.0000, 9,    187.9, 2,   -999.0, 9,  -999.00, 9,  -999.00, 9,  -999.00, 9,  -999.00, 9, -999.000, 9, -999.000, 9, -999.000, 9, -999.000, 9,   -999.0, 9,   -999.0, 9, -999.0000,   -999.00,   -999.0, 9,   -999.0,  -999.00, 9,   -999.0,   9.9648, 26.6994,  10.0216, 2, 9, -999.00, -999.00, -999.00, -999.000,  -999.00, 9, -999.00, -999.00, 9, -999.00
49NZ20071122, P14, 49, 1, 9, X12015, 9, 20071213, 1622, -18.7510, 177.8275, 1918,    569.3, 2,   7.6581, 2,  34.4745, 2, -999.0000, 9,    198.3, 2,   -999.0, 9,  -999.00, 9,  -999.00, 9,  -999.00, 9,  -999.00, 9, -999.000, 9, -999.000, 9, -999.000, 9, -999.000, 9,   -999.0, 9,   -999.0, 9, -999.0000,   -999.00,   -999.0, 9,   -999.0,  -999.00, 9,   -999.0,   7.6010, 26.9197,   7.6586, 2, 9, -999.00, -999.00, -999.00, -999.000,  -999.00, 9, -999.00, -999.00, 9, -999.00
49NZ20071122, P14, 49, 1, 8, X12046, 9, 20071213, 1622, -18.7510, 177.8275, 1918,    669.7, 2,   5.8222, 2,  34.3865, 2, -999.0000, 9,    194.0, 2,   -999.0, 9,  -999.00, 9,  -999.00, 9,  -999.00, 9,  -999.00, 9, -999.000, 9, -999.000, 9, -999.000, 9, -999.000, 9,   -999.0, 9,   -999.0, 9, -999.0000,   -999.00,   -999.0, 9,   -999.0,  -999.00, 9,   -999.0,   5.7639, 27.0974,   5.8226, 2, 9, -999.00, -999.00, -999.00, -999.000,  -999.00, 9, -999.00, -999.00, 9, -999.00
49NZ20071122, P14, 49, 1, 7, X12044, 9, 20071213, 1622, -18.7510, 177.8275, 1918,    768.7, 2,   5.1062, 2,  34.4022, 2, -999.0000, 9,    182.1, 2,   -999.0, 9,  -999.00, 9,  -999.00, 9,  -999.00, 9,  -999.00, 9, -999.000, 9, -999.000, 9, -999.000, 9, -999.000, 9,   -999.0, 9,   -999.0, 9, -999.0000,   -999.00,   -999.0, 9,   -999.0,  -999.00, 9,   -999.0,   5.0429, 27.1964,   5.1059, 2, 9, -999.00, -999.00, -999.00, -999.000,  -999.00, 9, -999.00, -999.00, 9, -999.00
49NZ20071122, P14, 49, 1, 6, X12048, 9, 20071213, 1622, -18.7510, 177.8275, 1918,    870.5, 2,   4.4160, 2,  34.4294, 2, -999.0000, 9,    174.1, 2,   -999.0, 9,  -999.00, 9,  -999.00, 9,  -999.00, 9,  -999.00, 9, -999.000, 9, -999.000, 9, -999.000, 9, -999.000, 9,   -999.0, 9,   -999.0, 9, -999.0000,   -999.00,   -999.0, 9,   -999.0,  -999.00, 9,   -999.0,   4.3483, 27.2955,   4.4161, 2, 9, -999.00, -999.00, -999.00, -999.000,  -999.00, 9, -999.00, -999.00, 9, -999.00
49NZ20071122, P14, 49, 1, 5, X12014, 9, 20071213, 1622, -18.7510, 177.8275, 1918,    969.8, 2,   4.0393, 2,  34.4612, 2, -999.0000, 9,    163.0, 2,   -999.0, 9,  -999.00, 9,  -999.00, 9,  -999.00, 9,  -999.00, 9, -999.000, 9, -999.000, 9, -999.000, 9, -999.000, 9,   -999.0, 9,   -999.0, 9, -999.0000,   -999.00,   -999.0, 9,   -999.0,  -999.00, 9,   -999.0,   3.9659, 27.3610,   4.0397, 2, 9, -999.00, -999.00, -999.00, -999.000,  -999.00, 9, -999.00, -999.00, 9, -999.00
49NZ20071122, P14, 49, 1, 4, X12006, 9, 20071213, 1622, -18.7510, 177.8275, 1918,   1129.5, 2,   3.5762, 2,  34.5036, 2, -999.0000, 9,    155.6, 2,   -999.0, 9,  -999.00, 9,  -999.00, 9,  -999.00, 9,  -999.00, 9, -999.000, 9, -999.000, 9, -999.000, 9, -999.000, 9,   -999.0, 9,   -999.0, 9, -999.0000,   -999.00,   -999.0, 9,   -999.0,  -999.00, 9,   -999.0,   3.4933, 27.4423,   3.5764, 2, 9, -999.00, -999.00, -999.00, -999.000,  -999.00, 9, -999.00, -999.00, 9, -999.00
49NZ20071122, P14, 49, 1, 3, X12013, 9, 20071213, 1622, -18.7510, 177.8275, 1918,   1329.2, 2,   3.1207, 2,  34.5498, 2, -999.0000, 9,    150.0, 2,   -999.0, 9,  -999.00, 9,  -999.00, 9,  -999.00, 9,  -999.00, 9, -999.000, 9, -999.000, 9, -999.000, 9, -999.000, 9,   -999.0, 9,   -999.0, 9, -999.0000,   -999.00,   -999.0, 9,   -999.0,  -999.00, 9,   -999.0,   3.0257, 27.5233,   3.1217, 2, 9, -999.00, -999.00, -999.00, -999.000,  -999.00, 9, -999.00, -999.00, 9, -999.00
49NZ20071122, P14, 49, 1, 2, X12002, 9, 20071213, 1622, -18.7510, 177.8275, 1918,   1528.7, 2,   2.8476, 2,  34.5769, 2, -999.0000, 9,    147.6, 2,   -999.0, 9,  -999.00, 9,  -999.00, 9,  -999.00, 9,  -999.00, 9, -999.000, 9, -999.000, 9, -999.000, 9, -999.000, 9,   -999.0, 9,   -999.0, 9, -999.0000,   -999.00,   -999.0, 9,   -999.0,  -999.00, 9,   -999.0,   2.7391, 27.5708,   2.8476, 2, 9, -999.00, -999.00, -999.00, -999.000,  -999.00, 9, -999.00, -999.00, 9, -999.00
49NZ20071122, P14, 49, 1, 1, X12001, 2, 20071213, 1622, -18.7510, 177.8275, 1918,   1925.6, 2,   2.3469, 2,  34.6245, 2,  34.6244, 6,    147.9, 2,    148.0, 2,   109.39, 2,    35.75, 2,     0.01, 2,     2.51, 2,    0.003, 2,    0.004, 2,    0.000, 2, -999.000, 9,   -999.0, 9,   -999.0, 9, -999.0000,   -999.00,   -999.0, 9,   -999.0,  -999.00, 9,   -999.0,   2.2116, 27.6538,   2.3464, 2, 9, 0.36, 0.13, 0.01, 0.016,  -999.00, 9, -999.00, -999.00, 9, -999.00