BOTTLE,20220820CCHSIOAMB
EXPOCODE,SECT_ID,STNNBR,CASTNO,SAMPNO,BTLNBR,BTLNBR_FLAG_W,DATE,TIME,LATITUDE,LONGITUDE,DEPTH,CTDPRS,CTDPRS_FLAG_W,CTDTMP,CTDTMP_FLAG_W,CTDSAL,CTDSAL_FLAG_W,SALNTY,SALNTY_FLAG_W,CTDOXY,CTDOXY_FLAG_W,OXYGEN,OXYGEN_FLAG_W,SILCAT,SILCAT_FLAG_W,NITRAT,NITRAT_FLAG_W,NITRIT,NITRIT_FLAG_W,PHSPHT,PHSPHT_FLAG_W,CFC-11,CFC-11_FLAG_W,CFC-12,CFC-12_FLAG_W,CFC113,CFC113_FLAG_W,CCL4,CCL4_FLAG_W,TCARBN,TCARBN_FLAG_W,ALKALI,ALKALI_FLAG_W,PH_TOT,PH_TMP,DELC14,DELC14_FLAG_W,C14ERR,DELC13,DELC13_FLAG_W,C13ERR,THETA,SIG0,SBE35,SBE35_FLAG_W,PH_TOT_FLAG_W,SILUNC,NRAUNC,NRIUNC,PHPUNC,CS-137,CS-137_FLAG_W,CS137ER,PLUTO,PLUTO_FLAG_W,PLUTOER
,,,,,,,,,,,METERS,DBAR,,ITS-90,,PSS-78,,PSS-78,,UMOL/KG,,UMOL/KG,,UMOL/KG,,UMOL/KG,,UMOL/KG,,UMOL/KG,,PMOL/KG,,PMOL/KG,,PMOL/KG,,PMOL/KG,,UMOL/KG,,UMOL/KG,,,DEG C,/MILLE,,/MILLE,/MILLE,,/MILLE,DEG C,KG/M^3,ITS-90,,,UMOL/KG,UMOL/KG,UMOL/KG,UMOL/KG,DM/.1MG,,BQ/M^3,MBQ/M^3,,MBQ/M^3
49NZ20071122, P14, 8, 1, 36, X12042, 2, 20071222, 0211, -33.7028, 175.3882, 2291,     10.4, 2,  20.3831, 2,  35.6711, 2,  35.6720, 2,    229.7, 2,    229.6, 2,     0.73, 2,     0.02, 2,     0.01, 2,     0.12, 2,    2.139, 2,    1.278, 2,    0.354, 4, -999.000, 9,   -999.0, 9,   -999.0, 9, -999.0000,   -999.00,   -999.0, 9,   -999.0,  -999.00, 9,   -999.0,  20.3811, 25.1723,  20.3843, 2, 9, 0.12, 0.03, 0.01, 0.020,  -999.00, 9, -999.00, -999.00, 9, -999.00
49NZ20071122, P14, 8, 1, 35, X12041, 2, 20071222, 0211, -33.7028, 175.3882, 2291,     50.6, 2,  18.6381, 2,  35.5822, 2,  35.5842, 2,    238.1, 2,    238.6, 2,     1.13, 2,     0.43, 2,     0.04, 2,     0.18, 2, -999.000, 9, -999.000, 9, -999.000, 9, -999.000, 9,   -999.0, 9,   -999.0, 9, -999.0000,   -999.00,   -999.0, 9,   -999.0,  -999.00, 9,   -999.0,  18.6292, 25.5607,  18.6373, 2, 9, 0.12, 0.03, 0.01, 0.017,  -999.00, 9, -999.00, -999.00, 9, -999.00
49NZ20071122, P14, 8, 1, 34, X12016, 2, 20071222, 0211, -33.7028, 175.3882, 2291,    100.4, 2,  16.6123, 2,  35.4329, 2,  35.4347, 2,    229.4, 2,    229.8, 2,     2.60, 2,     3.54, 2,     0.28, 2,     0.41, 2, -999.000, 9, -999.000, 9, -999.000, 9, -999.000, 9,   -999.0, 9,   -999.0, 9, -999.0000,   -999.00,   -999.0, 9,   -999.0,  -999.00, 9,   -999.0,  16.5960, 25.9423,  16.6110, 2, 9, 0.12, 0.04, 0.01, 0.013,  -999.00, 1, -999.00, -999.00, 9, -999.00
49NZ20071122, P14, 8, 1, 33, X12033, 2, 20071222, 0211, -33.7028, 175.3882, 2291,    150.8, 2,  15.2765, 2,  35.3941, 2,  35.3927, 2,    210.7, 2,    214.7, 2,     3.26, 2,     6.65, 2,     0.14, 2,     0.58, 2,    2.407, 2,    1.376, 2,    0.188, 4, -999.000, 9,   -999.0, 9,   -999.0, 9, -999.0000,   -999.00,   -999.0, 9,   -999.0,  -999.00, 9,   -999.0,  15.2533, 26.2198,  15.2818, 2, 9, 0.13, 0.05, 0.01, 0.013,  -999.00, 9, -999.00, -999.00, 9, -999.00
49NZ20071122, P14, 8, 1, 32, X12038, 2, 20071222, 0211, -33.7028, 175.3882, 2291,    199.7, 2,  14.4435, 2,  35.3339, 2,  35.3331, 2,    204.3, 2,    201.6, 2,     3.42, 2,     9.10, 2,     0.03, 2,     0.73, 2, -999.000, 9, -999.000, 9, -999.000, 9, -999.000, 9,   -999.0, 9,   -999.0, 9, -999.0000,   -999.00,   -999.0, 9,   -999.0,  -999.00, 9,   -999.0,  14.4139, 26.3570,  14.4463, 2, 9, 0.13, 0.06, 0.01, 0.013,  -999.00, 1, -999.00, -999.00, 9, -999.00
49NZ20071122, P14, 8, 1, 31, X12003, 2, 20071222, 0211, -33.7028, 175.3882, 2291,    249.3, 2,  13.7059, 2,  35.2524, 2,  35.2493, 6,    206.3, 2,    206.0, 2,     4.67, 2,    10.20, 2,     0.03, 2,     0.80, 2, -999.000, 9, -999.000, 9, -999.000, 9, -999.000, 9,   -999.0, 9,   -999.0, 9, -999.0000,   -999.00,   -999.0, 9,   -999.0,  -999.00, 9,   -999.0,  13.6702, 26.4513,  13.7066, 2, 9, 0.13, 0.06, 0.01, 0.013,  -999.00, 9, -999.00, -999.00, 9, -999.00
49NZ20071122, P14, 8, 1, 30, X12008, 2, 20071222, 0211, -33.7028, 175.3882, 2291,    328.5, 2,  12.4518, 2,  35.1069, 2,  35.1018, 2,    198.1, 2,    198.4, 2,     5.59, 2,    13.26, 2,     0.01, 2,     0.99, 2,    2.413, 2,    1.315, 2,    0.091, 2, -999.000, 9,   -999.0, 9,   -999.0, 9, -999.0000,   -999.00,   -999.0, 9,   -999.0,  -999.00, 9,   -999.0,  12.4076, 26.5933,  12.4485, 2, 9, 0.13, 0.07, 0.01, 0.013,  -999.00, 9, -999.00, -999.00, 9, -999.00
49NZ20071122, P14, 8, 1, 29, X12035, 2, 20071222, 0211, -33.7028, 175.3882, 2291,    431.3, 2,  10.7946, 2,  34.9040, 2,  34.9033, 2,    196.1, 2,    196.1, 2,     7.61, 2,    16.80, 2,     0.01, 2,     1.21, 2, -999.000, 9, -999.000, 9, -999.000, 9, -999.000, 9,   -999.0, 9,   -999.0, 9, -999.0000,   -999.00,   -999.0, 9,   -999.0,  -999.00, 9,   -999.0,  10.7415, 26.7473,  10.7959, 2, 9, 0.14, 0.08, 0.01, 0.013,  -999.00, 1, -999.00, -999.00, 9, -999.00
49NZ20071122, P14, 8, 1, 28, X12034, 2, 20071222, 0211, -33.7028, 175.3882, 2291,    529.6, 2,   9.7143, 2,  34.7759, 2,  34.7700, 6,    197.0, 2,    196.9, 2,     9.99, 2,    19.29, 2,     0.01, 2,     1.37, 2, -999.000, 9, -999.000, 9, -999.000, 9, -999.000, 9,   -999.0, 9,   -999.0, 9, -999.0000,   -999.00,   -999.0, 9,   -999.0,  -999.00, 9,   -999.0,   9.6531, 26.8356,   9.7146, 2, 9, 0.14, 0.09, 0.01, 0.014,  -999.00, 9, -999.00, -999.00, 9, -999.00
49NZ20071122, P14, 8, 1, 27, X12049, 2, 20071222, 0211, -33.7028, 175.3882, 2291,    630.9, 2,   8.4945, 2,  34.6490, 2,  34.6467, 2,    198.5, 2,    198.2, 2,    13.70, 2,    21.79, 2,     0.01, 2,     1.54, 2,    1.830, 2,    0.932, 2,    0.073, 2, -999.000, 9,   -999.0, 9,   -999.0, 9, -999.0000,   -999.00,   -999.0, 9,   -999.0,  -999.00, 9,   -999.0,   8.4269, 26.9333,   8.4943, 2, 9, 0.15, 0.09, 0.01, 0.014,  -999.00, 1, -999.00, -999.00, 9, -999.00
49NZ20071122, P14, 8, 1, 26, X12032, 2, 20071222, 0211, -33.7028, 175.3882, 2291,    730.9, 2,   7.6034, 2,  34.5613, 2,  34.5610, 2,    198.7, 2,    198.5, 2,    16.70, 2,    23.76, 2,     0.01, 2,     1.68, 2,    1.563, 2,    0.787, 2,    0.052, 2, -999.000, 9,   -999.0, 9,   -999.0, 9, -999.0000,   -999.00,   -999.0, 9,   -999.0,  -999.00, 9,   -999.0,   7.5295, 26.9984,   7.6040, 2, 9, 0.16, 0.10, 0.01, 0.014,  -999.00, 9, -999.00, -999.00, 9, -999.00
49NZ20071122, P14, 8, 1, 25, X12043, 2, 20071222, 0211, -33.7028, 175.3882, 2291,    829.7, 2,   6.8412, 2,  34.5162, 2,  34.5153, 2,    196.3, 2,    195.5, 2,    22.50, 2,    25.64, 2,     0.01, 2,     1.80, 2,    1.214, 2,    0.607, 2,    0.044, 2, -999.000, 9,   -999.0, 9,   -999.0, 9, -999.0000,   -999.00,   -999.0, 9,   -999.0,  -999.00, 9,   -999.0,   6.7615, 27.0703,   6.8427, 2, 9, 0.17, 0.10, 0.01, 0.015,  -999.00, 1, -999.00, -999.00, 9, -999.00
49NZ20071122, P14, 8, 1, 24, X12030, 2, 20071222, 0211, -33.7028, 175.3882, 2291,    932.1, 2,   6.2418, 2,  34.4866, 2,  34.4873, 2,    193.2, 2,    191.6, 2,    27.64, 2,    27.14, 2,     0.01, 2,     1.90, 2,    0.947, 2,    0.470, 2,    0.030, 2, -999.000, 9,   -999.0, 9,   -999.0, 9, -999.0000,   -999.00,   -999.0, 9,   -999.0,  -999.00, 9,   -999.0,   6.1559, 27.1270,   6.2422, 2, 9, 0.18, 0.11, 0.01, 0.015,  -999.00, 9, -999.00, -999.00, 9, -999.00
49NZ20071122, P14, 8, 1, 23, X12027, 2, 20071222, 0211, -33.7028, 175.3882, 2291,   1069.1, 2,   5.5118, 2,  34.4883, 2,  34.4880, 2,    186.1, 2,    184.2, 2,    38.49, 2,    29.02, 2,     0.01, 2,     2.04, 2,    0.676, 2,    0.336, 2,    0.017, 2, -999.000, 9,   -999.0, 9,   -999.0, 9, -999.0000,   -999.00,   -999.0, 9,   -999.0,  -999.00, 9,   -999.0,   5.4181, 27.2202,   5.5118, 2, 9, 0.20, 0.11, 0.01, 0.015,  -999.00, 1, -999.00, -999.00, 9, -999.00
49NZ20071122, P14, 8, 1, 22, X12028, 2, 20071222, 0211, -33.7028, 175.3882, 2291,   1269.6, 2,   4.5173, 2,  34.5038, 2,  34.5057, 6,    175.2, 2,    173.5, 2,    55.53, 2,    31.34, 2,     0.01, 2,     2.21, 2,    0.364, 2,    0.182, 2,    0.008, 2, -999.000, 9,   -999.0, 9,   -999.0, 9, -999.0000,   -999.00,   -999.0, 9,   -999.0,  -999.00, 9,   -999.0,   4.4137, 27.3475,   4.5185, 2, 9, 0.24, 0.12, 0.01, 0.016,  -999.00, 9, -999.00, -999.00, 9, -999.00
49NZ20071122, P14, 8, 1, 21, X12009, 2, 20071222, 0211, -33.7028, 175.3882, 2291,   1470.4, 2,   3.5694, 2,  34.5537, 2,  34.5543, 2,    163.5, 2,    163.1, 2,    76.00, 2,    33.15, 2,     0.01, 2,     2.34, 2,    0.176, 2,    0.090, 2,    0.007, 2, -999.000, 9,   -999.0, 9,   -999.0, 9, -999.0000,   -999.00,   -999.0, 9,   -999.0,  -999.00, 9,   -999.0,   3.4577, 27.4856,   3.5703, 2, 9, 0.29, 0.13, 0.01, 0.016,  -999.00, 9, -999.00, -999.00, 9, -999.00
49NZ20071122, P14, 8, 1, 20, X12026, 2, 20071222, 0211, -33.7028, 175.3882, 2291,   1670.5, 2,   2.9923, 2,  34.5921, 2,  34.5928, 6,    158.7, 2,    158.6, 2,    90.50, 2,    34.00, 2,     0.01, 2,     2.40, 2,    0.104, 2,    0.052, 2,    0.004, 2, -999.000, 9,   -999.0, 9,   -999.0, 9, -999.0000,   -999.00,   -999.0, 9,   -999.0,  -999.00, 9,   -999.0,   2.8701, 27.5713,   2.9924, 2, 9, 0.32, 0.13, 0.01, 0.016,  -999.00, 9, -999.00, -999.00, 9, -999.00
49NZ20071122, P14, 8, 1, 19, X12025, 2, 20071222, 0211, -33.7028, 175.3882, 2291,   1868.9, 2,   2.4039, 2,  34.6302, 2,  34.6311, 2,    154.9, 2,    154.8, 2,   105.41, 2,    34.82, 2,     0.01, 2,     2.45, 2,    0.037, 2,    0.019, 2,    0.004, 2, -999.000, 9,   -999.0, 9,   -999.0, 9, -999.0000,   -999.00,   -999.0, 9,   -999.0,  -999.00, 9,   -999.0,   2.2726, 27.6533,   2.4039, 2, 9, 0.35, 0.13, 0.01, 0.016,  -999.00, 9, -999.00, -999.00, 9, -999.00
49NZ20071122, P14, 8, 1, 18, X12024, 2, 20071222, 0211, -33.7028, 175.3882, 2291,   2072.3, 2,   2.1730, 2,  34.6471, 2,  34.6476, 6,    153.5, 2,    153.6, 2,   111.59, 2,    35.07, 2,     0.01, 2,     2.47, 2,    0.015, 2,    0.007, 2,    0.000, 2, -999.000, 9,   -999.0, 9,   -999.0, 9, -999.0000,   -999.00,   -999.0, 9,   -999.0,  -999.00, 9,   -999.0,   2.0277, 27.6868,   2.1732, 2, 9, 0.36, 0.13, 0.01, 0.016,  -999.00, 9, -999.00, -999.00, 9, -999.00
49NZ20071122, P14, 8, 1, 17, X12023, 9, 20071222, 0211, -33.7028, 175.3882, 2291,     10.4, 2,  20.3850, 2,  35.6705, 2, -999.0000, 9,    229.7, 2,   -999.0, 9,  -999.00, 9,  -999.00, 9,  -999.00, 9,  -999.00, 9, -999.000, 9, -999.000, 9, -999.000, 9, -999.000, 9,   -999.0, 9,   -999.0, 9, -999.0000,   -999.00,   -999.0, 9,   -999.0,  -999.00, 9,   -999.0,  20.3830, 25.1713,  20.3850, 2, 9, -999.00, -999.00, -999.00, -999.000,  -999.00, 9, -999.00, -999.00, 9, -999.00
49NZ20071122, P14, 8, 1, 16, X12022, 9, 20071222, 0211, -33.7028, 175.3882, 2291,    931.9, 2,   6.2498, 2,  34.4869, 2, -999.0000, 9,    193.3, 2,   -999.0, 9,  -999.00, 9,  -999.00, 9,  -999.00, 9,  -999.00, 9, -999.000, 9, -999.000, 9, -999.000, 9, -999.000, 9,   -999.0, 9,   -999.0, 9, -999.0000,   -999.00,   -999.0, 9,   -999.0,  -999.00, 9,   -999.0,   6.1639, 27.1262,   6.2499, 2, 9, -999.00, -999.00, -999.00, -999.000,  -999.00, 9, -999.00, -999.00, 9, -999.00
49NZ20071122, P14, 8, 1, 15, X12021, 9, 20071222, 0211, -33.7028, 175.3882, 2291,   1068.7, 2,   5.5047, 2,  34.4881, 2, -999.0000, 9,    186.1, 2,   -999.0, 9,  -999.00, 9,  -999.00, 9,  -999.00, 9,  -999.00, 9, -999.000, 9, -999.000, 9, -999.000, 9, -999.000, 9,   -999.0, 9,   -999.0, 9, -999.0000,   -999.00,   -999.0, 9,   -999.0,  -999.00, 9,   -999.0,   5.4111, 27.2209,   5.5070, 2, 9, -999.00, -999.00, -999.00, -999.000,  -999.00, 9, -999.00, -999.00, 9, -999.00
49NZ20071122, P14, 8, 1, 14, X12020, 9, 20071222, 0211, -33.7028, 175.3882, 2291,   1269.5, 2,   4.5193, 2,  34.5038, 2, -999.0000, 9,    175.2, 2,   -999.0, 9,  -999.00, 9,  -999.00, 9,  -999.00, 9,  -999.00, 9, -999.000, 9, -999.000, 9, -999.000, 9, -999.000, 9,   -999.0, 9,   -999.0, 9, -999.0000,   -999.00,   -999.0, 9,   -999.0,  -999.00, 9,   -999.0,   4.4157, 27.3473,   4.5196, 2, 9, -999.00, -999.00, -999.00, -999.000,  -999.00, 9, -999.00, -999.00, 9, -999.00
49NZ20071122, P14, 8, 1, 13, X12019, 9, 20071222, 0211, -33.7028, 175.3882, 2291,   1270.0, 2,   4.5162, 2,  34.5039, 2, -999.0000, 9,    175.2, 2,   -999.0, 9,  -999.00, 9,  -999.00, 9,  -999.00, 9,  -999.00, 9, -999.000, 9, -999.000, 9, -999.000, 9, -999.000, 9,   -999.0, 9,   -999.0, 9, -999.0000,   -999.00,   -999.0, 9,   -999.0,  -999.00, 9,   -999.0,   4.4126, 27.3477,   4.5172, 2, 9, -999.00, -999.00, -999.00, -999.000,  -999.00, 9, -999.00, -999.00, 9, -999.00
49NZ20071122, P14, 8, 1, 12, X12040, 9, 20071222, 0211, -33.7028, 175.3882, 2291,   1670.5, 2,   2.9915, 2,  34.5922, 2, -999.0000, 9,    158.7, 2,   -999.0, 9,  -999.00, 9,  -999.00, 9,  -999.00, 9,  -999.00, 9, -999.000, 9, -999.000, 9, -999.000, 9, -999.000, 9,   -999.0, 9,   -999.0, 9, -999.0000,   -999.00,   -999.0, 9,   -999.0,  -999.00, 9,   -999.0,   2.8693, 27.5714,   2.9917, 2, 9, -999.00, -999.00, -999.00, -999.000,  -999.00, 9, -999.00, -999.00, 9, -999.00
49NZ20071122, P14, 8, 1, 11, X12047, 9, 20071222, 0211, -33.7028, 175.3882, 2291,   2072.0, 2,   2.1727, 2,  34.6471, 2, -999.0000, 9,    153.5, 2,   -999.0, 9,  -999.00, 9,  -999.00, 9,  -999.00, 9,  -999.00, 9, -999.000, 9, -999.000, 9, -999.000, 9, -999.000, 9,   -999.0, 9,   -999.0, 9, -999.0000,   -999.00,   -999.0, 9,   -999.0,  -999.00, 9,   -999.0,   2.0274, 27.6868,   2.1727, 2, 9, -999.00, -999.00, -999.00, -999.000,  -999.00, 9, -999.00, -999.00, 9, -999.00
49NZ20071122, P14, 8, 1, 10, X12012, 2, 20071222, 0211, -33.7028, 175.3882, 2291,   2071.9, 2,   2.1719, 2,  34.6471, 2, -999.0000, 9,    153.5, 2,   -999.0, 9,  -999.00, 9,  -999.00, 9,  -999.00, 9,  -999.00, 9, -999.000, 9, -999.000, 9, -999.000, 9, -999.000, 9,   -999.0, 9,   -999.0, 9, -999.0000,   -999.00,   -999.0, 9,   -999.0,  -999.00, 9,   -999.0,   2.0266, 27.6868,   2.1724, 2, 9, -999.00, -999.00, -999.00, -999.000,  -999.00, 1, -999.00, -999.00, 9, -999.00
49NZ20071122, P14, 8, 1, 9, X12015, 2, 20071222, 0211, -33.7028, 175.3882, 2291,   2072.3, 2,   2.1707, 2,  34.6472, 2, -999.0000, 9,    153.5, 2,   -999.0, 9,  -999.00, 9,  -999.00, 9,  -999.00, 9,  -999.00, 9, -999.000, 9, -999.000, 9, -999.000, 9, -999.000, 9,   -999.0, 9,   -999.0, 9, -999.0000,   -999.00,   -999.0, 9,   -999.0,  -999.00, 9,   -999.0,   2.0254, 27.6870,   2.1707, 2, 9, -999.00, -999.00, -999.00, -999.000,  -999.00, 1, -999.00, -999.00, 9, -999.00
49NZ20071122, P14, 8, 1, 8, X12046, 2, 20071222, 0211, -33.7028, 175.3882, 2291,   2072.5, 2,   2.1699, 2,  34.6473, 2, -999.0000, 9,    153.5, 2,   -999.0, 9,  -999.00, 9,  -999.00, 9,  -999.00, 9,  -999.00, 9, -999.000, 9, -999.000, 9, -999.000, 9, -999.000, 9,   -999.0, 9,   -999.0, 9, -999.0000,   -999.00,   -999.0, 9,   -999.0,  -999.00, 9,   -999.0,   2.0246, 27.6872,   2.1699, 2, 9, -999.00, -999.00, -999.00, -999.000,  -999.00, 1, -999.00, -999.00, 9, -999.00
49NZ20071122, P14, 8, 1, 7, X12044, 2, 20071222, 0211, -33.7028, 175.3882, 2291,   2072.2, 2,   2.1699, 2,  34.6472, 2, -999.0000, 9,    153.5, 2,   -999.0, 9,  -999.00, 9,  -999.00, 9,  -999.00, 9,  -999.00, 9, -999.000, 9, -999.000, 9, -999.000, 9, -999.000, 9,   -999.0, 9,   -999.0, 9, -999.0000,   -999.00,   -999.0, 9,   -999.0,  -999.00, 9,   -999.0,   2.0247, 27.6871,   2.1697, 2, 9, -999.00, -999.00, -999.00, -999.000,  -999.00, 1, -999.00, -999.00, 9, -999.00
49NZ20071122, P14, 8, 1, 6, X12048, 9, 20071222, 0211, -33.7028, 175.3882, 2291,   2276.9, 2,   1.9494, 2,  34.6647, 2, -999.0000, 9,    153.1, 2,   -999.0, 9,  -999.00, 9,  -999.00, 9,  -999.00, 9,  -999.00, 9, -999.000, 9, -999.000, 9, -999.000, 9, -999.000, 9,   -999.0, 9,   -999.0, 9, -999.0000,   -999.00,   -999.0, 9,   -999.0,  -999.00, 9,   -999.0,   1.7899, 27.7194,   1.9491, 2, 9, -999.00, -999.00, -999.00, -999.000,  -999.00, 9, -999.00, -999.00, 9, -999.00
49NZ20071122, P14, 8, 1, 5, X12014, 2, 20071222, 0211, -33.7028, 175.3882, 2291,   2276.7, 2,   1.9495, 2,  34.6646, 2, -999.0000, 9,    153.1, 2,   -999.0, 9,  -999.00, 9,  -999.00, 9,  -999.00, 9,  -999.00, 9, -999.000, 9, -999.000, 9, -999.000, 9, -999.000, 9,   -999.0, 9,   -999.0, 9, -999.0000,   -999.00,   -999.0, 9,   -999.0,  -999.00, 9,   -999.0,   1.7900, 27.7193,   1.9498, 2, 9, -999.00, -999.00, -999.00, -999.000,  -999.00, 1, -999.00, -999.00, 9, -999.00
49NZ20071122, P14, 8, 1, 4, X12006, 2, 20071222, 0211, -33.7028, 175.3882, 2291,   2277.0, 2,   1.9468, 2,  34.6649, 2, -999.0000, 9,    153.1, 2,   -999.0, 9,  -999.00, 9,  -999.00, 9,  -999.00, 9,  -999.00, 9, -999.000, 9, -999.000, 9, -999.000, 9, -999.000, 9,   -999.0, 9,   -999.0, 9, -999.0000,   -999.00,   -999.0, 9,   -999.0,  -999.00, 9,   -999.0,   1.7874, 27.7198,   1.9476, 2, 9, -999.00, -999.00, -999.00, -999.000,  -999.00, 1, -999.00, -999.00, 9, -999.00
49NZ20071122, P14, 8, 1, 3, X12013, 2, 20071222, 0211, -33.7028, 175.3882, 2291,   2276.6, 2,   1.9477, 2,  34.6648, 2, -999.0000, 9,    153.1, 2,   -999.0, 9,  -999.00, 9,  -999.00, 9,  -999.00, 9,  -999.00, 9, -999.000, 9, -999.000, 9, -999.000, 9, -999.000, 9,   -999.0, 9,   -999.0, 9, -999.0000,   -999.00,   -999.0, 9,   -999.0,  -999.00, 9,   -999.0,   1.7883, 27.7196,   1.9482, 2, 9, -999.00, -999.00, -999.00, -999.000,  -999.00, 1, -999.00, -999.00, 9, -999.00
49NZ20071122, P14, 8, 1, 2, X12002, 2, 20071222, 0211, -33.7028, 175.3882, 2291,   2276.5, 2,   1.9497, 2,  34.6646, 2, -999.0000, 9,    153.1, 2,   -999.0, 9,  -999.00, 9,  -999.00, 9,  -999.00, 9,  -999.00, 9, -999.000, 9, -999.000, 9, -999.000, 9, -999.000, 9,   -999.0, 9,   -999.0, 9, -999.0000,   -999.00,   -999.0, 9,   -999.0,  -999.00, 9,   -999.0,   1.7903, 27.7193,   1.9493, 2, 9, -999.00, -999.00, -999.00, -999.000,  -999.00, 1, -999.00, -999.00, 9, -999.00
49NZ20071122, P14, 8, 1, 1, X12001, 2, 20071222, 0211, -33.7028, 175.3882, 2291,   2276.3, 2,   1.9504, 2,  34.6646, 2,  34.6650, 6,    153.2, 2,    153.1, 2,   117.39, 2,    35.22, 2,     0.01, 2,     2.49, 2,    0.003, 2,    0.002, 2,    0.000, 2, -999.000, 9,   -999.0, 9,   -999.0, 9, -999.0000,   -999.00,   -999.0, 9,   -999.0,  -999.00, 9,   -999.0,   1.7910, 27.7193,   1.9503, 2, 9, 0.38, 0.13, 0.01, 0.016,  -999.00, 9, -999.00, -999.00, 9, -999.00