BOTTLE,20220820CCHSIOAMB
EXPOCODE,SECT_ID,STNNBR,CASTNO,SAMPNO,BTLNBR,BTLNBR_FLAG_W,DATE,TIME,LATITUDE,LONGITUDE,DEPTH,CTDPRS,CTDPRS_FLAG_W,CTDTMP,CTDTMP_FLAG_W,CTDSAL,CTDSAL_FLAG_W,SALNTY,SALNTY_FLAG_W,CTDOXY,CTDOXY_FLAG_W,OXYGEN,OXYGEN_FLAG_W,SILCAT,SILCAT_FLAG_W,NITRAT,NITRAT_FLAG_W,NITRIT,NITRIT_FLAG_W,PHSPHT,PHSPHT_FLAG_W,CFC-11,CFC-11_FLAG_W,CFC-12,CFC-12_FLAG_W,CFC113,CFC113_FLAG_W,CCL4,CCL4_FLAG_W,TCARBN,TCARBN_FLAG_W,ALKALI,ALKALI_FLAG_W,PH_TOT,PH_TMP,DELC14,DELC14_FLAG_W,C14ERR,DELC13,DELC13_FLAG_W,C13ERR,THETA,SIG0,SBE35,SBE35_FLAG_W,PH_TOT_FLAG_W,SILUNC,NRAUNC,NRIUNC,PHPUNC,CS-137,CS-137_FLAG_W,CS137ER,PLUTO,PLUTO_FLAG_W,PLUTOER
,,,,,,,,,,,METERS,DBAR,,ITS-90,,PSS-78,,PSS-78,,UMOL/KG,,UMOL/KG,,UMOL/KG,,UMOL/KG,,UMOL/KG,,UMOL/KG,,PMOL/KG,,PMOL/KG,,PMOL/KG,,PMOL/KG,,UMOL/KG,,UMOL/KG,,,DEG C,/MILLE,,/MILLE,/MILLE,,/MILLE,DEG C,KG/M^3,ITS-90,,,UMOL/KG,UMOL/KG,UMOL/KG,UMOL/KG,DM/.1MG,,BQ/M^3,MBQ/M^3,,MBQ/M^3
49NZ20071122, P14, 42, 1, 36, X12042, 2, 20071215, 0157, -20.1298, 177.5367, 2570,     10.3, 2,  27.3872, 2,  34.8537, 2,  34.8535, 2,    208.5, 2,    205.9, 2,     0.67, 2,     0.07, 2,     0.00, 2,     0.05, 2, -999.000, 9, -999.000, 9, -999.000, 9, -999.000, 9,   -999.0, 9,   -999.0, 9, -999.0000,   -999.00,   -999.0, 9,   -999.0,  -999.00, 9,   -999.0,  27.3848, 22.4842,  27.3868, 2, 9, 0.12, 0.03, 0.01, 0.033,  -999.00, 9, -999.00, -999.00, 9, -999.00
49NZ20071122, P14, 42, 1, 35, X12041, 2, 20071215, 0157, -20.1298, 177.5367, 2570,     50.7, 2,  25.9343, 2,  35.0673, 2,  35.0676, 2,    209.6, 2,    208.7, 2,     0.62, 2,     0.05, 2,     0.00, 2,     0.07, 2, -999.000, 9, -999.000, 9, -999.000, 9, -999.000, 9,   -999.0, 9,   -999.0, 9, -999.0000,   -999.00,   -999.0, 9,   -999.0,  -999.00, 9,   -999.0,  25.9230, 23.1081,  25.9409, 2, 9, 0.12, 0.03, 0.01, 0.026,  -999.00, 9, -999.00, -999.00, 9, -999.00
49NZ20071122, P14, 42, 1, 34, X12016, 2, 20071215, 0157, -20.1298, 177.5367, 2570,    100.3, 2,  23.2247, 2,  35.4829, 2,  35.4824, 2,    194.5, 2,    195.1, 2,     0.65, 2,     0.54, 2,     0.23, 2,     0.18, 2, -999.000, 9, -999.000, 9, -999.000, 9, -999.000, 9,   -999.0, 9,   -999.0, 9, -999.0000,   -999.00,   -999.0, 9,   -999.0,  -999.00, 9,   -999.0,  23.2040, 24.2408,  23.2380, 2, 9, 0.12, 0.03, 0.01, 0.017,  -999.00, 9, -999.00, -999.00, 9, -999.00
49NZ20071122, P14, 42, 1, 33, X12033, 2, 20071215, 0157, -20.1298, 177.5367, 2570,    150.3, 2,  22.0988, 2,  35.6635, 2,  35.6652, 2,    167.9, 2,    168.1, 2,     0.82, 2,     3.20, 2,     0.02, 2,     0.37, 2,    2.005, 2,    1.175, 2,    0.098, 4, -999.000, 9,   -999.0, 9,   -999.0, 9, -999.0000,   -999.00,   -999.0, 9,   -999.0,  -999.00, 9,   -999.0,  22.0689, 24.7027,  22.0993, 2, 9, 0.12, 0.04, 0.01, 0.014,  -999.00, 9, -999.00, -999.00, 9, -999.00
49NZ20071122, P14, 42, 1, 32, X12038, 2, 20071215, 0157, -20.1298, 177.5367, 2570,    199.6, 2,  20.6232, 2,  35.6611, 2,  35.6579, 2,    188.5, 2,    180.1, 2,     0.87, 2,     3.34, 2,     0.02, 2,     0.35, 2, -999.000, 9, -999.000, 9, -999.000, 9, -999.000, 9,   -999.0, 9,   -999.0, 9, -999.0000,   -999.00,   -999.0, 9,   -999.0,  -999.00, 9,   -999.0,  20.5853, 25.1098,  20.6229, 2, 9, 0.12, 0.04, 0.01, 0.014,  -999.00, 9, -999.00, -999.00, 9, -999.00
49NZ20071122, P14, 42, 1, 31, X12003, 2, 20071215, 0157, -20.1298, 177.5367, 2570,    250.2, 2,  18.7000, 2,  35.5554, 2,  35.5533, 6,    178.2, 2,    178.2, 2,     1.26, 2,     4.82, 2,     0.01, 2,     0.46, 2, -999.000, 9, -999.000, 9, -999.000, 9, -999.000, 9,   -999.0, 9,   -999.0, 9, -999.0000,   -999.00,   -999.0, 9,   -999.0,  -999.00, 9,   -999.0,  18.6557, 25.5335,  18.6980, 2, 9, 0.12, 0.05, 0.01, 0.013,  -999.00, 9, -999.00, -999.00, 9, -999.00
49NZ20071122, P14, 42, 1, 30, X12008, 2, 20071215, 0157, -20.1298, 177.5367, 2570,    299.4, 2,  17.5093, 2,  35.4595, 2,  35.4546, 2,    181.6, 2,    181.8, 2,     1.60, 2,     5.81, 2,     0.01, 2,     0.53, 2,    2.321, 2,    1.286, 2,    0.036, 2, -999.000, 9,   -999.0, 9,   -999.0, 9, -999.0000,   -999.00,   -999.0, 9,   -999.0,  -999.00, 9,   -999.0,  17.4586, 25.7567,  17.5120, 2, 9, 0.12, 0.05, 0.01, 0.013,  -999.00, 9, -999.00, -999.00, 9, -999.00
49NZ20071122, P14, 42, 1, 29, X12035, 2, 20071215, 0157, -20.1298, 177.5367, 2570,    401.6, 2,  14.3658, 2,  35.1481, 2,  35.1457, 2,    185.4, 2,    185.5, 2,     3.05, 2,    10.02, 2,     0.01, 2,     0.82, 2, -999.000, 9, -999.000, 9, -999.000, 9, -999.000, 9,   -999.0, 9,   -999.0, 9, -999.0000,   -999.00,   -999.0, 9,   -999.0,  -999.00, 9,   -999.0,  14.3063, 26.2366,  14.3677, 2, 9, 0.13, 0.06, 0.01, 0.013,  -999.00, 9, -999.00, -999.00, 9, -999.00
49NZ20071122, P14, 42, 1, 28, X12034, 2, 20071215, 0157, -20.1298, 177.5367, 2570,    501.7, 2,  10.5528, 2,  34.7314, 2,  34.7288, 6,    190.9, 2,    190.4, 2,     6.34, 2,    17.16, 2,     0.00, 2,     1.28, 2,    2.059, 2,    1.043, 2,    0.046, 2, -999.000, 9,   -999.0, 9,   -999.0, 9, -999.0000,   -999.00,   -999.0, 9,   -999.0,  -999.00, 9,   -999.0,  10.4919, 26.6569,  10.5561, 2, 9, 0.13, 0.08, 0.01, 0.014,  -999.00, 9, -999.00, -999.00, 9, -999.00
49NZ20071122, P14, 42, 1, 27, X12049, 2, 20071215, 0157, -20.1298, 177.5367, 2570,    600.4, 2,   7.9523, 2,  34.4909, 2,  34.4871, 2,    207.6, 2,    206.9, 2,     9.36, 2,    22.10, 2,     0.00, 2,     1.57, 2, -999.000, 9, -999.000, 9, -999.000, 9, -999.000, 9,   -999.0, 9,   -999.0, 9, -999.0000,   -999.00,   -999.0, 9,   -999.0,  -999.00, 9,   -999.0,   7.8906, 26.8902,   7.9532, 2, 9, 0.14, 0.09, 0.01, 0.014,  -999.00, 9, -999.00, -999.00, 9, -999.00
49NZ20071122, P14, 42, 1, 26, X12032, 2, 20071215, 0157, -20.1298, 177.5367, 2570,    699.8, 2,   6.4813, 2,  34.3904, 2,  34.3864, 2,    208.3, 2,    208.5, 2,    15.21, 2,    25.78, 2,     0.00, 2,     1.81, 2,    1.255, 2,    0.608, 2,    0.032, 2, -999.000, 9,   -999.0, 9,   -999.0, 9, -999.0000,   -999.00,   -999.0, 9,   -999.0,  -999.00, 9,   -999.0,   6.4168, 27.0171,   6.4782, 2, 9, 0.15, 0.10, 0.01, 0.015,  -999.00, 9, -999.00, -999.00, 9, -999.00
49NZ20071122, P14, 42, 1, 25, X12043, 2, 20071215, 0157, -20.1298, 177.5367, 2570,    798.9, 2,   5.4811, 2,  34.3695, 2,  34.3695, 2,    194.7, 2,    195.5, 2,    24.93, 2,    29.06, 2,     0.00, 2,     2.03, 2, -999.000, 9, -999.000, 9, -999.000, 9, -999.000, 9,   -999.0, 9,   -999.0, 9, -999.0000,   -999.00,   -999.0, 9,   -999.0,  -999.00, 9,   -999.0,   5.4129, 27.1269,   5.4837, 2, 9, 0.17, 0.11, 0.01, 0.015,  -999.00, 9, -999.00, -999.00, 9, -999.00
49NZ20071122, P14, 42, 1, 24, X12030, 2, 20071215, 0157, -20.1298, 177.5367, 2570,    899.3, 2,   4.6856, 2,  34.3990, 2,  34.4000, 2,    181.2, 2,    180.3, 2,    39.66, 2,    31.54, 2,     0.00, 2,     2.20, 2,    0.265, 2,    0.136, 2,    0.000, 2, -999.000, 9,   -999.0, 9,   -999.0, 9, -999.0000,   -999.00,   -999.0, 9,   -999.0,  -999.00, 9,   -999.0,   4.6136, 27.2424,   4.6863, 2, 9, 0.21, 0.12, 0.01, 0.016,  -999.00, 9, -999.00, -999.00, 9, -999.00
49NZ20071122, P14, 42, 1, 23, X12027, 2, 20071215, 0157, -20.1298, 177.5367, 2570,   1002.2, 2,   4.1000, 2,  34.4410, 2,  34.4416, 6,    171.8, 2,    170.6, 2,    53.36, 2,    32.99, 2,     0.00, 2,     2.31, 2, -999.000, 9, -999.000, 9, -999.000, 9, -999.000, 9,   -999.0, 9,   -999.0, 9, -999.0000,   -999.00,   -999.0, 9,   -999.0,  -999.00, 9,   -999.0,   4.0235, 27.3391,   4.1013, 2, 9, 0.24, 0.13, 0.01, 0.016,  -999.00, 9, -999.00, -999.00, 9, -999.00
49NZ20071122, P14, 42, 1, 22, X12028, 2, 20071215, 0157, -20.1298, 177.5367, 2570,   1199.6, 2,   3.4788, 2,  34.5074, 2,  34.5099, 2,    159.5, 2,    158.6, 2,    73.48, 2,    34.31, 2,     0.00, 2,     2.41, 2,    0.042, 2,    0.024, 2,    0.000, 2, -999.000, 9,   -999.0, 9,   -999.0, 9, -999.0000,   -999.00,   -999.0, 9,   -999.0,  -999.00, 9,   -999.0,   3.3910, 27.4552,   3.4790, 2, 9, 0.28, 0.13, 0.01, 0.016,  -999.00, 9, -999.00, -999.00, 9, -999.00
49NZ20071122, P14, 42, 1, 21, X12009, 3, 20071215, 0157, -20.1298, 177.5367, 2570,   1399.8, 2,   3.0175, 2,  34.5604, 2,  34.5633, 3,    152.4, 2,    151.9, 2,    89.40, 2,    34.99, 2,     0.00, 2,     2.46, 2, -999.000, 9, -999.000, 9, -999.000, 9, -999.000, 9,   -999.0, 9,   -999.0, 9, -999.0000,   -999.00,   -999.0, 9,   -999.0,  -999.00, 9,   -999.0,   2.9178, 27.5416,   3.0177, 2, 9, 0.32, 0.13, 0.01, 0.016,  -999.00, 9, -999.00, -999.00, 9, -999.00
49NZ20071122, P14, 42, 1, 20, X12026, 2, 20071215, 0157, -20.1298, 177.5367, 2570,   1599.7, 2,   2.6208, 2,  34.5994, 2,  34.5995, 6,    150.3, 2,    150.2, 2,   100.45, 2,    35.27, 2,     0.00, 2,     2.48, 2,    0.008, 2,    0.006, 2,    0.000, 2, -999.000, 9,   -999.0, 9,   -999.0, 9, -999.0000,   -999.00,   -999.0, 9,   -999.0,  -999.00, 9,   -999.0,   2.5092, 27.6088,   2.6208, 2, 9, 0.34, 0.13, 0.01, 0.016,  -999.00, 9, -999.00, -999.00, 9, -999.00
49NZ20071122, P14, 42, 1, 19, X12025, 2, 20071215, 0157, -20.1298, 177.5367, 2570,   1800.3, 2,   2.3930, 2,  34.6217, 2,  34.6217, 2,    149.6, 2,    149.8, 2,   107.14, 2,    35.42, 2,     0.00, 2,     2.50, 2, -999.000, 9, -999.000, 9, -999.000, 9, -999.000, 9,   -999.0, 9,   -999.0, 9, -999.0000,   -999.00,   -999.0, 9,   -999.0,  -999.00, 9,   -999.0,   2.2676, 27.6469,   2.3930, 2, 9, 0.35, 0.13, 0.01, 0.016,  -999.00, 9, -999.00, -999.00, 9, -999.00
49NZ20071122, P14, 42, 1, 18, X12024, 2, 20071215, 0157, -20.1298, 177.5367, 2570,   2001.7, 2,   2.2017, 2,  34.6398, 2,  34.6401, 2,    149.8, 2,    149.9, 2,   112.53, 2,    35.52, 2,     0.00, 2,     2.50, 2,    0.001, 2,    0.000, 2,    0.000, 2, -999.000, 9,   -999.0, 9,   -999.0, 9, -999.0000,   -999.00,   -999.0, 9,   -999.0,  -999.00, 9,   -999.0,   2.0620, 27.6781,   2.2018, 2, 9, 0.37, 0.13, 0.01, 0.016,  -999.00, 9, -999.00, -999.00, 9, -999.00
49NZ20071122, P14, 42, 1, 17, X12023, 2, 20071215, 0157, -20.1298, 177.5367, 2570,   2201.9, 2,   2.1060, 2,  34.6496, 2,  34.6500, 6,    150.6, 2,    150.7, 2,   114.88, 2,    35.40, 2,     0.00, 2,     2.50, 2, -999.000, 9, -999.000, 9, -999.000, 9, -999.000, 9,   -999.0, 9,   -999.0, 9, -999.0000,   -999.00,   -999.0, 9,   -999.0,  -999.00, 9,   -999.0,   1.9505, 27.6949,   2.1062, 2, 9, 0.37, 0.13, 0.01, 0.016,  -999.00, 9, -999.00, -999.00, 9, -999.00
49NZ20071122, P14, 42, 1, 16, X12022, 2, 20071215, 0157, -20.1298, 177.5367, 2570,   2399.5, 2,   2.0318, 2,  34.6575, 2,  34.6578, 2,    151.2, 2,    151.4, 2,   117.03, 2,    35.38, 2,     0.00, 2,     2.50, 2,    0.001, 2,    0.001, 2,    0.000, 2, -999.000, 9,   -999.0, 9,   -999.0, 9, -999.0000,   -999.00,   -999.0, 9,   -999.0,  -999.00, 9,   -999.0,   1.8600, 27.7083,   2.0318, 2, 9, 0.38, 0.13, 0.01, 0.016,  -999.00, 9, -999.00, -999.00, 9, -999.00
49NZ20071122, P14, 42, 1, 15, X12021, 9, 20071215, 0157, -20.1298, 177.5367, 2570,     10.1, 2,  27.3895, 2,  34.8532, 2, -999.0000, 9,    208.6, 2,   -999.0, 9,  -999.00, 9,  -999.00, 9,  -999.00, 9,  -999.00, 9, -999.000, 9, -999.000, 9, -999.000, 9, -999.000, 9,   -999.0, 9,   -999.0, 9, -999.0000,   -999.00,   -999.0, 9,   -999.0,  -999.00, 9,   -999.0,  27.3872, 22.4830,  27.3894, 2, 9, -999.00, -999.00, -999.00, -999.000,  -999.00, 9, -999.00, -999.00, 9, -999.00
49NZ20071122, P14, 42, 1, 14, X12020, 9, 20071215, 0157, -20.1298, 177.5367, 2570,    199.7, 2,  20.6238, 2,  35.6602, 2, -999.0000, 9,    188.6, 2,   -999.0, 9,  -999.00, 9,  -999.00, 9,  -999.00, 9,  -999.00, 9, -999.000, 9, -999.000, 9, -999.000, 9, -999.000, 9,   -999.0, 9,   -999.0, 9, -999.0000,   -999.00,   -999.0, 9,   -999.0,  -999.00, 9,   -999.0,  20.5859, 25.1090,  20.6240, 2, 9, -999.00, -999.00, -999.00, -999.000,  -999.00, 9, -999.00, -999.00, 9, -999.00
49NZ20071122, P14, 42, 1, 13, X12019, 9, 20071215, 0157, -20.1298, 177.5367, 2570,    249.8, 2,  18.7203, 2,  35.5555, 2, -999.0000, 9,    178.2, 2,   -999.0, 9,  -999.00, 9,  -999.00, 9,  -999.00, 9,  -999.00, 9, -999.000, 9, -999.000, 9, -999.000, 9, -999.000, 9,   -999.0, 9,   -999.0, 9, -999.0000,   -999.00,   -999.0, 9,   -999.0,  -999.00, 9,   -999.0,  18.6760, 25.5284,  18.7217, 2, 9, -999.00, -999.00, -999.00, -999.000,  -999.00, 9, -999.00, -999.00, 9, -999.00
49NZ20071122, P14, 42, 1, 12, X12040, 9, 20071215, 0157, -20.1298, 177.5367, 2570,    299.9, 2,  17.5061, 2,  35.4589, 2, -999.0000, 9,    181.6, 2,   -999.0, 9,  -999.00, 9,  -999.00, 9,  -999.00, 9,  -999.00, 9, -999.000, 9, -999.000, 9, -999.000, 9, -999.000, 9,   -999.0, 9,   -999.0, 9, -999.0000,   -999.00,   -999.0, 9,   -999.0,  -999.00, 9,   -999.0,  17.4553, 25.7571,  17.5073, 2, 9, -999.00, -999.00, -999.00, -999.000,  -999.00, 9, -999.00, -999.00, 9, -999.00
49NZ20071122, P14, 42, 1, 11, X12047, 9, 20071215, 0157, -20.1298, 177.5367, 2570,    400.3, 2,  14.3924, 2,  35.1509, 2, -999.0000, 9,    185.6, 2,   -999.0, 9,  -999.00, 9,  -999.00, 9,  -999.00, 9,  -999.00, 9, -999.000, 9, -999.000, 9, -999.000, 9, -999.000, 9,   -999.0, 9,   -999.0, 9, -999.0000,   -999.00,   -999.0, 9,   -999.0,  -999.00, 9,   -999.0,  14.3330, 26.2331,  14.3930, 2, 9, -999.00, -999.00, -999.00, -999.000,  -999.00, 9, -999.00, -999.00, 9, -999.00
49NZ20071122, P14, 42, 1, 10, X12012, 9, 20071215, 0157, -20.1298, 177.5367, 2570,    501.6, 2,  10.5462, 2,  34.7300, 2, -999.0000, 9,    191.0, 2,   -999.0, 9,  -999.00, 9,  -999.00, 9,  -999.00, 9,  -999.00, 9, -999.000, 9, -999.000, 9, -999.000, 9, -999.000, 9,   -999.0, 9,   -999.0, 9, -999.0000,   -999.00,   -999.0, 9,   -999.0,  -999.00, 9,   -999.0,  10.4853, 26.6570,  10.5476, 2, 9, -999.00, -999.00, -999.00, -999.000,  -999.00, 9, -999.00, -999.00, 9, -999.00
49NZ20071122, P14, 42, 1, 9, X12015, 9, 20071215, 0157, -20.1298, 177.5367, 2570,    599.5, 2,   7.9651, 2,  34.4913, 2, -999.0000, 9,    207.6, 2,   -999.0, 9,  -999.00, 9,  -999.00, 9,  -999.00, 9,  -999.00, 9, -999.000, 9, -999.000, 9, -999.000, 9, -999.000, 9,   -999.0, 9,   -999.0, 9, -999.0000,   -999.00,   -999.0, 9,   -999.0,  -999.00, 9,   -999.0,   7.9035, 26.8886,   7.9643, 2, 9, -999.00, -999.00, -999.00, -999.000,  -999.00, 9, -999.00, -999.00, 9, -999.00
49NZ20071122, P14, 42, 1, 8, X12046, 9, 20071215, 0157, -20.1298, 177.5367, 2570,    698.8, 2,   6.4750, 2,  34.3894, 2, -999.0000, 9,    208.4, 2,   -999.0, 9,  -999.00, 9,  -999.00, 9,  -999.00, 9,  -999.00, 9, -999.000, 9, -999.000, 9, -999.000, 9, -999.000, 9,   -999.0, 9,   -999.0, 9, -999.0000,   -999.00,   -999.0, 9,   -999.0,  -999.00, 9,   -999.0,   6.4106, 27.0171,   6.4853, 2, 9, -999.00, -999.00, -999.00, -999.000,  -999.00, 9, -999.00, -999.00, 9, -999.00
49NZ20071122, P14, 42, 1, 7, X12044, 9, 20071215, 0157, -20.1298, 177.5367, 2570,    799.2, 2,   5.4754, 2,  34.3693, 2, -999.0000, 9,    194.6, 2,   -999.0, 9,  -999.00, 9,  -999.00, 9,  -999.00, 9,  -999.00, 9, -999.000, 9, -999.000, 9, -999.000, 9, -999.000, 9,   -999.0, 9,   -999.0, 9, -999.0000,   -999.00,   -999.0, 9,   -999.0,  -999.00, 9,   -999.0,   5.4073, 27.1274,   5.4750, 2, 9, -999.00, -999.00, -999.00, -999.000,  -999.00, 9, -999.00, -999.00, 9, -999.00
49NZ20071122, P14, 42, 1, 6, X12048, 9, 20071215, 0157, -20.1298, 177.5367, 2570,    899.4, 2,   4.6832, 2,  34.3992, 2, -999.0000, 9,    181.2, 2,   -999.0, 9,  -999.00, 9,  -999.00, 9,  -999.00, 9,  -999.00, 9, -999.000, 9, -999.000, 9, -999.000, 9, -999.000, 9,   -999.0, 9,   -999.0, 9, -999.0000,   -999.00,   -999.0, 9,   -999.0,  -999.00, 9,   -999.0,   4.6113, 27.2428,   4.6840, 2, 9, -999.00, -999.00, -999.00, -999.000,  -999.00, 9, -999.00, -999.00, 9, -999.00
49NZ20071122, P14, 42, 1, 5, X12014, 9, 20071215, 0157, -20.1298, 177.5367, 2570,   1001.7, 2,   4.1187, 2,  34.4390, 2, -999.0000, 9,    171.9, 2,   -999.0, 9,  -999.00, 9,  -999.00, 9,  -999.00, 9,  -999.00, 9, -999.000, 9, -999.000, 9, -999.000, 9, -999.000, 9,   -999.0, 9,   -999.0, 9, -999.0000,   -999.00,   -999.0, 9,   -999.0,  -999.00, 9,   -999.0,   4.0421, 27.3356,   4.1204, 2, 9, -999.00, -999.00, -999.00, -999.000,  -999.00, 9, -999.00, -999.00, 9, -999.00
49NZ20071122, P14, 42, 1, 4, X12006, 9, 20071215, 0157, -20.1298, 177.5367, 2570,   1199.5, 2,   3.4788, 2,  34.5074, 2, -999.0000, 9,    159.5, 2,   -999.0, 9,  -999.00, 9,  -999.00, 9,  -999.00, 9,  -999.00, 9, -999.000, 9, -999.000, 9, -999.000, 9, -999.000, 9,   -999.0, 9,   -999.0, 9, -999.0000,   -999.00,   -999.0, 9,   -999.0,  -999.00, 9,   -999.0,   3.3910, 27.4552,   3.4790, 2, 9, -999.00, -999.00, -999.00, -999.000,  -999.00, 9, -999.00, -999.00, 9, -999.00
49NZ20071122, P14, 42, 1, 3, X12013, 9, 20071215, 0157, -20.1298, 177.5367, 2570,   1399.6, 2,   3.0175, 2,  34.5603, 2, -999.0000, 9,    152.5, 2,   -999.0, 9,  -999.00, 9,  -999.00, 9,  -999.00, 9,  -999.00, 9, -999.000, 9, -999.000, 9, -999.000, 9, -999.000, 9,   -999.0, 9,   -999.0, 9, -999.0000,   -999.00,   -999.0, 9,   -999.0,  -999.00, 9,   -999.0,   2.9178, 27.5415,   3.0172, 2, 9, -999.00, -999.00, -999.00, -999.000,  -999.00, 9, -999.00, -999.00, 9, -999.00
49NZ20071122, P14, 42, 1, 2, X12002, 9, 20071215, 0157, -20.1298, 177.5367, 2570,   1599.5, 2,   2.6211, 2,  34.5993, 2, -999.0000, 9,    150.3, 2,   -999.0, 9,  -999.00, 9,  -999.00, 9,  -999.00, 9,  -999.00, 9, -999.000, 9, -999.000, 9, -999.000, 9, -999.000, 9,   -999.0, 9,   -999.0, 9, -999.0000,   -999.00,   -999.0, 9,   -999.0,  -999.00, 9,   -999.0,   2.5095, 27.6087,   2.6210, 2, 9, -999.00, -999.00, -999.00, -999.000,  -999.00, 9, -999.00, -999.00, 9, -999.00
49NZ20071122, P14, 42, 1, 1, X12001, 2, 20071215, 0157, -20.1298, 177.5367, 2570,   2582.1, 2,   2.0099, 2,  34.6608, 2,  34.6613, 6,    151.7, 2,    151.8, 2,   117.61, 2,    35.38, 2,     0.00, 2,     2.49, 2,    0.000, 2,    0.000, 2,    0.000, 2, -999.000, 9,   -999.0, 9,   -999.0, 9, -999.0000,   -999.00,   -999.0, 9,   -999.0,  -999.00, 9,   -999.0,   1.8219, 27.7138,   2.0098, 2, 9, 0.38, 0.13, 0.01, 0.016,  -999.00, 9, -999.00, -999.00, 9, -999.00