BOTTLE,20220820CCHSIOAMB
EXPOCODE,SECT_ID,STNNBR,CASTNO,SAMPNO,BTLNBR,BTLNBR_FLAG_W,DATE,TIME,LATITUDE,LONGITUDE,DEPTH,CTDPRS,CTDPRS_FLAG_W,CTDTMP,CTDTMP_FLAG_W,CTDSAL,CTDSAL_FLAG_W,SALNTY,SALNTY_FLAG_W,CTDOXY,CTDOXY_FLAG_W,OXYGEN,OXYGEN_FLAG_W,SILCAT,SILCAT_FLAG_W,NITRAT,NITRAT_FLAG_W,NITRIT,NITRIT_FLAG_W,PHSPHT,PHSPHT_FLAG_W,CFC-11,CFC-11_FLAG_W,CFC-12,CFC-12_FLAG_W,CFC113,CFC113_FLAG_W,CCL4,CCL4_FLAG_W,TCARBN,TCARBN_FLAG_W,ALKALI,ALKALI_FLAG_W,PH_TOT,PH_TMP,DELC14,DELC14_FLAG_W,C14ERR,DELC13,DELC13_FLAG_W,C13ERR,THETA,SIG0,SBE35,SBE35_FLAG_W,PH_TOT_FLAG_W,SILUNC,NRAUNC,NRIUNC,PHPUNC,CS-137,CS-137_FLAG_W,CS137ER,PLUTO,PLUTO_FLAG_W,PLUTOER
,,,,,,,,,,,METERS,DBAR,,ITS-90,,PSS-78,,PSS-78,,UMOL/KG,,UMOL/KG,,UMOL/KG,,UMOL/KG,,UMOL/KG,,UMOL/KG,,PMOL/KG,,PMOL/KG,,PMOL/KG,,PMOL/KG,,UMOL/KG,,UMOL/KG,,,DEG C,/MILLE,,/MILLE,/MILLE,,/MILLE,DEG C,KG/M^3,ITS-90,,,UMOL/KG,UMOL/KG,UMOL/KG,UMOL/KG,DM/.1MG,,BQ/M^3,MBQ/M^3,,MBQ/M^3
49NZ20071122, P14, 35, 1, 36, X12042, 2, 20071216, 1049, -22.1993, 177.3278, 4170,     10.6, 2,  25.1027, 2,  34.9810, 2,  34.9801, 2,    211.0, 2,    209.2, 2,     0.56, 2,     0.07, 2,     0.00, 2,     0.07, 2,    1.722, 2,    1.065, 2,    0.383, 4, -999.000, 9,   1956.1, 2,   2295.9, 2,    8.1161,     25.00,   -999.0, 9,   -999.0,  -999.00, 9,   -999.0,  25.1004, 23.2963,  25.1023, 2, 6, 0.12, 0.03, 0.01, 0.027,  -999.00, 9, -999.00, -999.00, 9, -999.00
49NZ20071122, P14, 35, 1, 35, X12041, 2, 20071216, 1049, -22.1993, 177.3278, 4170,     50.5, 2,  23.5626, 2,  35.4749, 2,  35.4972, 2,    215.3, 2,    216.8, 2,     0.55, 2,     0.05, 2,     0.00, 2,     0.07, 2,    1.860, 2,    1.132, 2,    0.445, 4, -999.000, 9,   1992.9, 6,   2327.9, 2,    8.0922,     25.00,   -999.0, 9,   -999.0,  -999.00, 9,   -999.0,  23.5521, 24.1331,  23.5170, 2, 2, 0.12, 0.03, 0.01, 0.026,  -999.00, 9, -999.00, -999.00, 9, -999.00
49NZ20071122, P14, 35, 1, 34, X12016, 2, 20071216, 1049, -22.1993, 177.3278, 4170,     99.1, 2,  21.2171, 2,  35.6853, 2,  35.6855, 2,    207.1, 2,    205.8, 2,     0.66, 2,     0.80, 2,     0.14, 2,     0.16, 2,    2.041, 2,    1.219, 2,    0.284, 4, -999.000, 9,   2031.0, 2,   2338.5, 6,    8.0423,     25.00,   -999.0, 9,   -999.0,  -999.00, 9,   -999.0,  21.1980, 24.9615,  21.2183, 2, 2, 0.12, 0.04, 0.01, 0.018,  -999.00, 9, -999.00, -999.00, 9, -999.00
49NZ20071122, P14, 35, 1, 33, X12033, 2, 20071216, 1049, -22.1993, 177.3278, 4170,    149.6, 2,  20.0841, 2,  35.7170, 2,  35.7159, 2,    200.2, 2,    197.7, 2,     0.84, 2,     2.23, 2,     0.04, 2,     0.24, 2,    2.135, 6,    1.261, 6,    0.197, 4, -999.000, 9,   2050.8, 2,   2339.7, 2,    8.0126,     25.00,   -999.0, 9,   -999.0,  -999.00, 9,   -999.0,  20.0563, 25.2938,  20.0897, 2, 6, 0.12, 0.04, 0.01, 0.015,  -999.00, 9, -999.00, -999.00, 9, -999.00
49NZ20071122, P14, 35, 1, 32, X12038, 2, 20071216, 1049, -22.1993, 177.3278, 4170,    199.9, 2,  18.7266, 2,  35.6575, 2,  35.6564, 2,    188.4, 2,    187.7, 2,     1.20, 2,     4.23, 2,     0.02, 2,     0.39, 2,    2.245, 2,    1.295, 2,    0.073, 2, -999.000, 9,   2071.4, 2,   2337.0, 2,    7.9703,     25.00,   -999.0, 9,   -999.0,  -999.00, 9,   -999.0,  18.6912, 25.6026,  18.7221, 2, 2, 0.12, 0.04, 0.01, 0.013,  -999.00, 9, -999.00, -999.00, 9, -999.00
49NZ20071122, P14, 35, 1, 31, X12003, 2, 20071216, 1049, -22.1993, 177.3278, 4170,    248.6, 2,  17.6587, 2,  35.6053, 2,  35.6048, 6,    192.5, 2,    191.3, 2,     1.44, 2,     5.10, 2,     0.01, 2,     0.44, 2,    2.321, 2,    1.330, 2,    0.069, 2, -999.000, 9,   2079.4, 2,   2332.7, 2,    7.9525,     25.00,   -999.0, 9,   -999.0,  -999.00, 9,   -999.0,  17.6163, 25.8302,  17.6635, 2, 2, 0.12, 0.05, 0.01, 0.013,  -999.00, 9, -999.00, -999.00, 9, -999.00
49NZ20071122, P14, 35, 1, 30, X12008, 2, 20071216, 1049, -22.1993, 177.3278, 4170,    330.7, 2,  15.2183, 2,  35.3221, 2,  35.3211, 2,    190.5, 2,    190.1, 2,     2.47, 2,     8.41, 2,     0.01, 2,     0.67, 2,    2.428, 2,    1.333, 2,    0.050, 2, -999.000, 9,   2100.3, 2,   2319.2, 2,    7.8925,     25.00,   -999.0, 9,   -999.0,  -999.00, 9,   -999.0,  15.1674, 26.1833,  15.2183, 2, 2, 0.12, 0.06, 0.01, 0.013,  -999.00, 9, -999.00, -999.00, 9, -999.00
49NZ20071122, P14, 35, 1, 29, X12035, 2, 20071216, 1049, -22.1993, 177.3278, 4170,    431.3, 2,  11.8802, 2,  34.9055, 2,  34.8903, 2,    189.9, 2,    190.6, 2,     4.78, 2,    14.61, 2,     0.01, 2,     1.09, 2,    1.806, 3,    0.930, 3,    0.044, 3, -999.000, 9,   2124.4, 2,   2300.2, 2,    7.8067,     25.00,   -999.0, 9,   -999.0,  -999.00, 9,   -999.0,  11.8238, 26.5493,  11.8806, 2, 2, 0.13, 0.07, 0.01, 0.013,  -999.00, 9, -999.00, -999.00, 9, -999.00
49NZ20071122, P14, 35, 1, 28, X12034, 2, 20071216, 1049, -22.1993, 177.3278, 4170,    530.6, 2,   9.2590, 2,  34.6302, 2,  34.6267, 6,    205.5, 2,    206.5, 2,     6.07, 2,    18.83, 2,     0.01, 2,     1.34, 2,    2.352, 2,    1.179, 2,    0.084, 2, -999.000, 9,   2136.9, 2,   2290.7, 2,    7.7599,     25.00,   -999.0, 9,   -999.0,  -999.00, 9,   -999.0,   9.1995, 26.7964,   9.2494, 2, 2, 0.13, 0.09, 0.01, 0.014,  -999.00, 9, -999.00, -999.00, 9, -999.00
49NZ20071122, P14, 35, 1, 27, X12049, 2, 20071216, 1049, -22.1993, 177.3278, 4170,    630.0, 2,   7.5459, 2,  34.4554, 2,  34.4503, 2,    219.0, 2,    216.7, 2,     8.73, 2,    22.42, 2,     0.00, 2,     1.57, 2,    2.044, 2,    0.995, 2,    0.063, 2, -999.000, 9,   2143.9, 2,   2284.9, 2,    7.7293,     25.00,   -999.0, 9,   -999.0,  -999.00, 9,   -999.0,   7.4830, 26.9217,   7.5458, 2, 2, 0.14, 0.10, 0.01, 0.014,  -999.00, 9, -999.00, -999.00, 9, -999.00
49NZ20071122, P14, 35, 1, 26, X12032, 2, 20071216, 1049, -22.1993, 177.3278, 4170,    731.3, 2,   6.3537, 2,  34.3709, 2,  34.3715, 2,    218.3, 2,    217.5, 2,    13.10, 2,    25.28, 2,     0.01, 2,     1.76, 2,    1.399, 6,    0.677, 6,    0.038, 6, -999.000, 9,   2154.9, 6,   2285.8, 2,    7.7065,     25.00,   -999.0, 9,   -999.0,  -999.00, 9,   -999.0,   6.2868, 27.0188,   6.3544, 2, 2, 0.15, 0.10, 0.01, 0.015,  -999.00, 9, -999.00, -999.00, 9, -999.00
49NZ20071122, P14, 35, 1, 25, X12043, 2, 20071216, 1049, -22.1993, 177.3278, 4170,    830.1, 2,   5.7012, 2,  34.3636, 2,  34.3648, 2,    206.6, 2,    202.5, 2,    21.50, 2,    28.20, 2,     0.00, 2,     1.96, 2,    0.757, 2,    0.373, 2,    0.017, 2, -999.000, 9,   2173.0, 2,   2293.2, 6,    7.6745,     25.00,   -999.0, 9,   -999.0,  -999.00, 9,   -999.0,   5.6288, 27.0960,   5.6980, 2, 2, 0.17, 0.11, 0.01, 0.015,  -999.00, 9, -999.00, -999.00, 9, -999.00
49NZ20071122, P14, 35, 1, 24, X12030, 2, 20071216, 1049, -22.1993, 177.3278, 4170,    930.9, 2,   4.9256, 2,  34.3769, 2,  34.3778, 2,    193.5, 2,    192.6, 2,    32.19, 2,    30.32, 2,     0.00, 2,     2.11, 2,    0.392, 2,    0.197, 2,    0.007, 2, -999.000, 9,   2191.6, 2,   2302.7, 2,    7.6494,     25.00,   -999.0, 9,   -999.0,  -999.00, 9,   -999.0,   4.8492, 27.1985,   4.9259, 2, 6, 0.19, 0.12, 0.01, 0.015,  -999.00, 9, -999.00, -999.00, 9, -999.00
49NZ20071122, P14, 35, 1, 23, X12027, 2, 20071216, 1049, -22.1993, 177.3278, 4170,   1072.5, 2,   4.0383, 2,  34.4362, 2,  34.4385, 6,    178.5, 2,    173.2, 2,    53.15, 2,    33.01, 2,     0.00, 2,     2.30, 2,    0.117, 2,    0.064, 2,    0.003, 2, -999.000, 9,   2225.9, 2,   2324.7, 2,    7.6156,     25.00,   -999.0, 9,   -999.0,  -999.00, 9,   -999.0,   3.9564, 27.3422,   4.0363, 2, 2, 0.24, 0.13, 0.01, 0.016,  -999.00, 9, -999.00, -999.00, 9, -999.00
49NZ20071122, P14, 35, 1, 22, X12028, 2, 20071216, 1049, -22.1993, 177.3278, 4170,   1269.6, 2,   3.3333, 2,  34.5268, 2,  34.5283, 2,    160.3, 2,    158.3, 2,    78.30, 2,    34.27, 2,     0.00, 2,     2.41, 2,    0.031, 2,    0.017, 2,    0.000, 2, -999.000, 9,   2257.6, 2,   2355.4, 2,    7.5995,     25.00,   -999.0, 9,   -999.0,  -999.00, 9,   -999.0,   3.2411, 27.4850,   3.3326, 2, 2, 0.29, 0.13, 0.01, 0.016,  -999.00, 9, -999.00, -999.00, 9, -999.00
49NZ20071122, P14, 35, 1, 21, X12009, 3, 20071216, 1049, -22.1993, 177.3278, 4170,   1469.8, 2,   2.8900, 2,  34.5740, 2,  34.5748, 2,    153.8, 2,    152.5, 2,    92.60, 2,    34.98, 2,     0.00, 2,     2.47, 2,    0.012, 2,    0.006, 2,    0.000, 2, -999.000, 9,   2277.5, 2,   2370.4, 2,    7.5927,     25.00,   -999.0, 9,   -999.0,  -999.00, 9,   -999.0,   2.7859, 27.5644,   2.8919, 2, 2, 0.32, 0.13, 0.01, 0.016,  -999.00, 9, -999.00, -999.00, 9, -999.00
49NZ20071122, P14, 35, 1, 20, X12026, 2, 20071216, 1049, -22.1993, 177.3278, 4170,   1671.3, 2,   2.5898, 2,  34.6037, 2,  34.6041, 2,    151.9, 2,    151.3, 2,   101.20, 2,    35.15, 2,     0.00, 2,     2.48, 2,    0.005, 2,    0.002, 2,    0.000, 2, -999.000, 9,   2286.4, 2,   2381.3, 2,    7.5921,     25.00,   -999.0, 9,   -999.0,  -999.00, 9,   -999.0,   2.4726, 27.6153,   2.5900, 2, 2, 0.34, 0.13, 0.01, 0.016,  -999.00, 9, -999.00, -999.00, 9, -999.00
49NZ20071122, P14, 35, 1, 19, X12025, 2, 20071216, 1049, -22.1993, 177.3278, 4170,   1871.4, 2,   2.3650, 2,  34.6257, 2,  34.6255, 2,    150.8, 2,    150.5, 2,   107.83, 2,    35.32, 2,     0.00, 2,     2.50, 2,    0.004, 2,    0.002, 2,    0.000, 2, -999.000, 9,   2294.4, 2,   2388.2, 2,    7.5909,     25.00,   -999.0, 9,   -999.0,  -999.00, 9,   -999.0,   2.2340, 27.6530,   2.3651, 2, 2, 0.36, 0.13, 0.01, 0.016,  -999.00, 9, -999.00, -999.00, 9, -999.00
49NZ20071122, P14, 35, 1, 18, X12024, 2, 20071216, 1049, -22.1993, 177.3278, 4170,   2069.4, 2,   2.1999, 2,  34.6420, 2,  34.6419, 2,    151.3, 2,    151.1, 2,   112.06, 2,    35.41, 2,     0.00, 2,     2.50, 2,    0.001, 2,    0.001, 2,    0.000, 2, -999.000, 9,   2298.1, 2,   2392.4, 2,    7.5919,     25.00,   -999.0, 9,   -999.0,  -999.00, 9,   -999.0,   2.0544, 27.6805,   2.1998, 2, 2, 0.37, 0.13, 0.01, 0.016,  -999.00, 9, -999.00, -999.00, 9, -999.00
49NZ20071122, P14, 35, 1, 17, X12023, 2, 20071216, 1049, -22.1993, 177.3278, 4170,   2271.3, 2,   2.0781, 2,  34.6541, 2,  34.6539, 6,    152.0, 2,    151.7, 2,   115.27, 2,    35.37, 2,     0.00, 2,     2.50, 2,    0.001, 2,    0.000, 2,    0.000, 2, -999.000, 9,   2300.6, 2,   2394.6, 2,    7.5926,     25.00,   -999.0, 9,   -999.0,  -999.00, 9,   -999.0,   1.9170, 27.7011,   2.0781, 2, 2, 0.37, 0.13, 0.01, 0.016,  -999.00, 9, -999.00, -999.00, 9, -999.00
49NZ20071122, P14, 35, 1, 16, X12022, 2, 20071216, 1049, -22.1993, 177.3278, 4170,   2469.2, 2,   1.9860, 2,  34.6637, 2,  34.6635, 2,    152.4, 2,    152.4, 2,   117.69, 2,    35.33, 2,     0.00, 2,     2.49, 2,    0.001, 2,    0.000, 2,    0.000, 2, -999.000, 9,   2302.2, 6,   2398.3, 2,    7.5928,     25.00,   -999.0, 9,   -999.0,  -999.00, 9,   -999.0,   1.8087, 27.7172,   1.9861, 2, 2, 0.38, 0.13, 0.01, 0.016,  -999.00, 9, -999.00, -999.00, 9, -999.00
49NZ20071122, P14, 35, 1, 15, X12021, 2, 20071216, 1049, -22.1993, 177.3278, 4170,   2669.4, 2,   1.9104, 2,  34.6714, 2,  34.6711, 2,    153.6, 2,    153.5, 2,   119.31, 2,    35.34, 2,     0.00, 2,     2.48, 2, -999.000, 9, -999.000, 9, -999.000, 9, -999.000, 9,   2305.4, 2,   2400.3, 6,    7.5946,     25.00,   -999.0, 9,   -999.0,  -999.00, 9,   -999.0,   1.7162, 27.7304,   1.9103, 2, 2, 0.38, 0.13, 0.01, 0.016,  -999.00, 9, -999.00, -999.00, 9, -999.00
49NZ20071122, P14, 35, 1, 14, X12020, 2, 20071216, 1049, -22.1993, 177.3278, 4170,   2869.5, 2,   1.8613, 2,  34.6760, 2,  34.6759, 2,    154.3, 2,    154.2, 2,   120.78, 2,    35.24, 2,     0.00, 2,     2.48, 2,    0.000, 2,    0.000, 2,    0.000, 2, -999.000, 9,   2305.3, 2,   2401.9, 2,    7.5951,     25.00,   -999.0, 9,   -999.0,  -999.00, 9,   -999.0,   1.6492, 27.7392,   1.8613, 2, 6, 0.38, 0.13, 0.01, 0.016,  -999.00, 9, -999.00, -999.00, 9, -999.00
49NZ20071122, P14, 35, 1, 13, X12019, 2, 20071216, 1049, -22.1993, 177.3278, 4170,   3081.1, 2,   1.8380, 2,  34.6788, 2,  34.6784, 2,    154.8, 2,    154.7, 2,   121.76, 2,    35.28, 2,     0.01, 2,     2.49, 2, -999.000, 9, -999.000, 9, -999.000, 9, -999.000, 9,   2306.4, 2,   2403.3, 2,    7.5966,     25.00,   -999.0, 9,   -999.0,  -999.00, 9,   -999.0,   1.6058, 27.7446,   1.8380, 2, 2, 0.39, 0.13, 0.01, 0.016,  -999.00, 9, -999.00, -999.00, 9, -999.00
49NZ20071122, P14, 35, 1, 12, X12040, 2, 20071216, 1049, -22.1993, 177.3278, 4170,   3329.5, 2,   1.8270, 2,  34.6811, 2,  34.6804, 2,    155.2, 2,    155.1, 2,   122.53, 2,    35.07, 2,     0.00, 2,     2.47, 2,    0.001, 2,    0.000, 2,    0.000, 2, -999.000, 9,   2305.1, 2,   2403.9, 2,    7.5978,     25.00,   -999.0, 9,   -999.0,  -999.00, 9,   -999.0,   1.5702, 27.7491,   1.8270, 2, 2, 0.39, 0.13, 0.01, 0.016,  -999.00, 9, -999.00, -999.00, 9, -999.00
49NZ20071122, P14, 35, 1, 11, X12047, 9, 20071216, 1049, -22.1993, 177.3278, 4170,   3580.1, 2,   1.8275, 2,  34.6826, 2, -999.0000, 9,    155.5, 2,   -999.0, 9,  -999.00, 9,  -999.00, 9,  -999.00, 9,  -999.00, 9, -999.000, 9, -999.000, 9, -999.000, 9, -999.000, 9,   -999.0, 9,   -999.0, 9, -999.0000,   -999.00,   -999.0, 9,   -999.0,  -999.00, 9,   -999.0,   1.5447, 27.7522,   1.8275, 2, 9, -999.00, -999.00, -999.00, -999.000,  -999.00, 9, -999.00, -999.00, 9, -999.00
49NZ20071122, P14, 35, 1, 10, X12012, 2, 20071216, 1049, -22.1993, 177.3278, 4170,   3829.5, 2,   1.8442, 2,  34.6829, 2,  34.6827, 6,    155.8, 2,    155.7, 2,   123.37, 2,    35.28, 2,     0.00, 2,     2.48, 2,    0.000, 2,    0.001, 2,    0.000, 2, -999.000, 9,   2306.6, 2,   2405.1, 2,    7.5981,     25.00,   -999.0, 9,   -999.0,  -999.00, 9,   -999.0,   1.5343, 27.7532,   1.8442, 2, 2, 0.39, 0.13, 0.01, 0.016,  -999.00, 9, -999.00, -999.00, 9, -999.00
49NZ20071122, P14, 35, 1, 9, X12015, 2, 20071216, 1049, -22.1993, 177.3278, 4170,   4080.0, 2,   1.8631, 2,  34.6833, 2,  34.6833, 2,    156.3, 2,    156.0, 2,   123.41, 2,    35.36, 2,     0.00, 2,     2.48, 2, -999.000, 9, -999.000, 9, -999.000, 9, -999.000, 9,   2305.1, 2,   2405.3, 2,    7.5981,     25.00,   -999.0, 9,   -999.0,  -999.00, 9,   -999.0,   1.5251, 27.7542,   1.8631, 2, 2, 0.39, 0.13, 0.01, 0.016,  -999.00, 9, -999.00, -999.00, 9, -999.00
49NZ20071122, P14, 35, 1, 8, X12046, 9, 20071216, 1049, -22.1993, 177.3278, 4170,     10.9, 2,  25.1039, 2,  34.9806, 2, -999.0000, 9,    210.9, 2,   -999.0, 9,  -999.00, 9,  -999.00, 9,  -999.00, 9,  -999.00, 9, -999.000, 9, -999.000, 9, -999.000, 9, -999.000, 9,   -999.0, 9,   -999.0, 9, -999.0000,   -999.00,   -999.0, 9,   -999.0,  -999.00, 9,   -999.0,  25.1015, 23.2957,  25.1039, 2, 9, -999.00, -999.00, -999.00, -999.000,  -999.00, 9, -999.00, -999.00, 9, -999.00
49NZ20071122, P14, 35, 1, 7, X12044, 9, 20071216, 1049, -22.1993, 177.3278, 4170,    830.5, 2,   5.7136, 2,  34.3630, 2, -999.0000, 9,    206.6, 2,   -999.0, 9,  -999.00, 9,  -999.00, 9,  -999.00, 9,  -999.00, 9, -999.000, 9, -999.000, 9, -999.000, 9, -999.000, 9,   -999.0, 9,   -999.0, 9, -999.0000,   -999.00,   -999.0, 9,   -999.0,  -999.00, 9,   -999.0,   5.6411, 27.0940,   5.7144, 2, 9, -999.00, -999.00, -999.00, -999.000,  -999.00, 9, -999.00, -999.00, 9, -999.00
49NZ20071122, P14, 35, 1, 6, X12048, 9, 20071216, 1049, -22.1993, 177.3278, 4170,    931.1, 2,   4.9258, 2,  34.3769, 2, -999.0000, 9,    193.5, 2,   -999.0, 9,  -999.00, 9,  -999.00, 9,  -999.00, 9,  -999.00, 9, -999.000, 9, -999.000, 9, -999.000, 9, -999.000, 9,   -999.0, 9,   -999.0, 9, -999.0000,   -999.00,   -999.0, 9,   -999.0,  -999.00, 9,   -999.0,   4.8494, 27.1985,   4.9260, 2, 9, -999.00, -999.00, -999.00, -999.000,  -999.00, 9, -999.00, -999.00, 9, -999.00
49NZ20071122, P14, 35, 1, 5, X12014, 9, 20071216, 1049, -22.1993, 177.3278, 4170,   1071.8, 2,   4.0246, 2,  34.4385, 2, -999.0000, 9,    178.5, 2,   -999.0, 9,  -999.00, 9,  -999.00, 9,  -999.00, 9,  -999.00, 9, -999.000, 9, -999.000, 9, -999.000, 9, -999.000, 9,   -999.0, 9,   -999.0, 9, -999.0000,   -999.00,   -999.0, 9,   -999.0,  -999.00, 9,   -999.0,   3.9428, 27.3454,   4.0258, 2, 9, -999.00, -999.00, -999.00, -999.000,  -999.00, 9, -999.00, -999.00, 9, -999.00
49NZ20071122, P14, 35, 1, 4, X12006, 9, 20071216, 1049, -22.1993, 177.3278, 4170,   1269.6, 2,   3.3377, 2,  34.5263, 2, -999.0000, 9,    160.3, 2,   -999.0, 9,  -999.00, 9,  -999.00, 9,  -999.00, 9,  -999.00, 9, -999.000, 9, -999.000, 9, -999.000, 9, -999.000, 9,   -999.0, 9,   -999.0, 9, -999.0000,   -999.00,   -999.0, 9,   -999.0,  -999.00, 9,   -999.0,   3.2455, 27.4842,   3.3371, 2, 9, -999.00, -999.00, -999.00, -999.000,  -999.00, 9, -999.00, -999.00, 9, -999.00
49NZ20071122, P14, 35, 1, 3, X12013, 9, 20071216, 1049, -22.1993, 177.3278, 4170,   1470.1, 2,   2.8790, 2,  34.5750, 2, -999.0000, 9,    153.8, 2,   -999.0, 9,  -999.00, 9,  -999.00, 9,  -999.00, 9,  -999.00, 9, -999.000, 9, -999.000, 9, -999.000, 9, -999.000, 9,   -999.0, 9,   -999.0, 9, -999.0000,   -999.00,   -999.0, 9,   -999.0,  -999.00, 9,   -999.0,   2.7750, 27.5661,   2.8792, 2, 9, -999.00, -999.00, -999.00, -999.000,  -999.00, 9, -999.00, -999.00, 9, -999.00
49NZ20071122, P14, 35, 1, 2, X12002, 9, 20071216, 1049, -22.1993, 177.3278, 4170,   1670.9, 2,   2.5882, 2,  34.6039, 2, -999.0000, 9,    151.9, 2,   -999.0, 9,  -999.00, 9,  -999.00, 9,  -999.00, 9,  -999.00, 9, -999.000, 9, -999.000, 9, -999.000, 9, -999.000, 9,   -999.0, 9,   -999.0, 9, -999.0000,   -999.00,   -999.0, 9,   -999.0,  -999.00, 9,   -999.0,   2.4711, 27.6156,   2.5883, 2, 9, -999.00, -999.00, -999.00, -999.000,  -999.00, 9, -999.00, -999.00, 9, -999.00
49NZ20071122, P14, 35, 1, 1, X12001, 2, 20071216, 1049, -22.1993, 177.3278, 4170,   4217.9, 2,   1.8739, 2,  34.6835, 2,  34.6837, 6,    156.6, 2,    156.2, 2,   123.41, 2,    35.21, 2,     0.01, 2,     2.48, 2,    0.000, 2,    0.000, 2,    0.000, 2, -999.000, 9,   2304.9, 2,   2404.9, 2,    7.5987,     25.00,   -999.0, 9,   -999.0,  -999.00, 9,   -999.0,   1.5200, 27.7547,   1.8739, 2, 2, 0.39, 0.13, 0.01, 0.016,  -999.00, 9, -999.00, -999.00, 9, -999.00