BOTTLE,20220820CCHSIOAMB
EXPOCODE,SECT_ID,STNNBR,CASTNO,SAMPNO,BTLNBR,BTLNBR_FLAG_W,DATE,TIME,LATITUDE,LONGITUDE,DEPTH,CTDPRS,CTDPRS_FLAG_W,CTDTMP,CTDTMP_FLAG_W,CTDSAL,CTDSAL_FLAG_W,SALNTY,SALNTY_FLAG_W,CTDOXY,CTDOXY_FLAG_W,OXYGEN,OXYGEN_FLAG_W,SILCAT,SILCAT_FLAG_W,NITRAT,NITRAT_FLAG_W,NITRIT,NITRIT_FLAG_W,PHSPHT,PHSPHT_FLAG_W,CFC-11,CFC-11_FLAG_W,CFC-12,CFC-12_FLAG_W,CFC113,CFC113_FLAG_W,CCL4,CCL4_FLAG_W,TCARBN,TCARBN_FLAG_W,ALKALI,ALKALI_FLAG_W,PH_TOT,PH_TMP,DELC14,DELC14_FLAG_W,C14ERR,DELC13,DELC13_FLAG_W,C13ERR,THETA,SIG0,SBE35,SBE35_FLAG_W,PH_TOT_FLAG_W,SILUNC,NRAUNC,NRIUNC,PHPUNC,CS-137,CS-137_FLAG_W,CS137ER,PLUTO,PLUTO_FLAG_W,PLUTOER
,,,,,,,,,,,METERS,DBAR,,ITS-90,,PSS-78,,PSS-78,,UMOL/KG,,UMOL/KG,,UMOL/KG,,UMOL/KG,,UMOL/KG,,UMOL/KG,,PMOL/KG,,PMOL/KG,,PMOL/KG,,PMOL/KG,,UMOL/KG,,UMOL/KG,,,DEG C,/MILLE,,/MILLE,/MILLE,,/MILLE,DEG C,KG/M^3,ITS-90,,,UMOL/KG,UMOL/KG,UMOL/KG,UMOL/KG,DM/.1MG,,BQ/M^3,MBQ/M^3,,MBQ/M^3
49NZ20071122, P14N, 127, 1, 36, X12042, 2, 20071128, 0330, 3.9923, 179.0067, 5569,      9.9, 2,  27.4652, 2,  35.0739, 2,  35.0741, 2,    204.2, 2,    202.9, 2,     1.62, 2,     2.75, 2,     0.13, 2,     0.40, 2,    1.525, 2,    0.956, 2,    0.172, 4, -999.000, 9,   2000.4, 2,   2307.6, 2,    8.0645,     25.00,   -999.0, 9,   -999.0,  -999.00, 9,   -999.0,  27.4629, 22.6247,  27.4654, 2, 6, 0.12, 0.04, 0.01, 0.013,  -999.00, 9, -999.00, -999.00, 9, -999.00
49NZ20071122, P14N, 127, 1, 35, X12041, 2, 20071128, 0330, 3.9923, 179.0067, 5569,     51.1, 2,  27.0457, 2,  35.1711, 2,  35.1716, 2,    197.8, 2,    197.8, 2,     1.76, 2,     3.18, 2,     0.34, 2,     0.46, 2,    1.549, 2,    0.957, 2,    0.182, 4, -999.000, 9,   2015.6, 6,   2313.8, 2,    8.0476,     25.00,   -999.0, 9,   -999.0,  -999.00, 9,   -999.0,  27.0340, 22.8358,  27.0477, 2, 2, 0.12, 0.04, 0.00, 0.013,  -999.00, 9, -999.00, -999.00, 9, -999.00
49NZ20071122, P14N, 127, 1, 34, X12016, 2, 20071128, 0330, 3.9923, 179.0067, 5569,    100.8, 2,  26.8731, 2,  35.1988, 2,  35.2005, 2,    196.5, 2,    195.9, 2,     1.89, 2,     3.41, 2,     0.46, 2,     0.48, 2,    1.565, 2,    0.970, 2,    0.192, 4, -999.000, 9,   2023.4, 2,   2316.0, 6,    8.0398,     25.00,   -999.0, 9,   -999.0,  -999.00, 9,   -999.0,  26.8500, 22.9154,  26.8721, 2, 2, 0.12, 0.04, 0.00, 0.013,  -999.00, 9, -999.00, -999.00, 9, -999.00
49NZ20071122, P14N, 127, 1, 33, X12033, 2, 20071128, 0330, 3.9923, 179.0067, 5569,    150.3, 2,  26.7777, 2,  35.2088, 2,  35.2126, 2,    197.1, 2,    197.4, 2,     1.97, 2,     3.47, 2,     0.40, 2,     0.49, 2,    1.576, 6,    0.981, 6,    0.195, 4, -999.000, 9,   2024.2, 2,   2317.0, 2,    8.0369,     25.00,   -999.0, 9,   -999.0,  -999.00, 9,   -999.0,  26.7434, 22.9569,  26.7743, 2, 6, 0.12, 0.04, 0.00, 0.013,  -999.00, 9, -999.00, -999.00, 9, -999.00
49NZ20071122, P14N, 127, 1, 32, X12038, 2, 20071128, 0330, 3.9923, 179.0067, 5569,    202.5, 2,  19.3399, 2,  34.7718, 2,  34.7792, 2,    137.3, 2,    133.5, 2,     8.00, 2,    10.85, 2,     0.03, 2,     0.89, 2,    1.973, 2,    1.126, 2,    0.068, 2, -999.000, 9,   2092.0, 2,   2290.5, 2,    7.8669,     25.00,   -999.0, 9,   -999.0,  -999.00, 9,   -999.0,  19.3034, 24.7690,  19.3462, 2, 2, 0.14, 0.06, 0.01, 0.013,  -999.00, 9, -999.00, -999.00, 9, -999.00
49NZ20071122, P14N, 127, 1, 31, X12003, 2, 20071128, 0330, 3.9923, 179.0067, 5569,    252.9, 2,  10.9147, 2,  34.5299, 2,  34.5284, 6,     86.0, 2,     84.4, 2,    28.97, 2,    26.93, 2,     0.01, 2,     1.97, 2,    1.157, 2,    0.614, 2,    0.026, 2, -999.000, 9,   2203.5, 2,   2294.2, 2,    7.6104,     25.00,   -999.0, 9,   -999.0,  -999.00, 9,   -999.0,  10.8838, 26.4303,  10.9145, 2, 2, 0.18, 0.11, 0.01, 0.015,  -999.00, 9, -999.00, -999.00, 9, -999.00
49NZ20071122, P14N, 127, 1, 30, X12008, 2, 20071128, 0330, 3.9923, 179.0067, 5569,    303.6, 2,   9.7577, 2,  34.5732, 2,  34.5724, 2,     68.0, 2,     66.7, 2,    33.97, 2,    31.04, 2,     0.01, 2,     2.25, 2,    0.678, 2,    0.356, 2,    0.018, 2, -999.000, 9,   2232.6, 2,   2301.3, 2,    7.5545,     25.00,   -999.0, 9,   -999.0,  -999.00, 9,   -999.0,   9.7230, 26.6655,   9.7584, 2, 2, 0.19, 0.12, 0.01, 0.016,  -999.00, 9, -999.00, -999.00, 9, -999.00
49NZ20071122, P14N, 127, 1, 29, X12035, 2, 20071128, 0330, 3.9923, 179.0067, 5569,    400.7, 2,   8.8237, 2,  34.5973, 2,  34.5987, 2,     90.3, 2,     90.3, 2,    34.45, 2,    30.84, 2,     0.01, 2,     2.22, 2,    0.572, 2,    0.304, 2,    0.016, 2, -999.000, 9,   2227.3, 2,   2307.9, 2,    7.5787,     25.00,   -999.0, 9,   -999.0,  -999.00, 9,   -999.0,   8.7804, 26.8377,   8.8235, 2, 2, 0.19, 0.12, 0.01, 0.016,  -999.00, 9, -999.00, -999.00, 9, -999.00
49NZ20071122, P14N, 127, 1, 28, X12034, 4, 20071128, 0330, 3.9923, 179.0067, 5569,    501.0, 2,   8.3631, 2,  34.6120, 2,  34.5694, 4,     79.3, 2,     80.4, 4,    95.75, 4,    40.12, 4,     0.00, 4,     2.89, 4,    0.000, 4,    0.000, 4,    0.007, 4, -999.000, 9,   2321.7, 4,   2369.4, 4,    7.4925,     25.00,   -999.0, 9,   -999.0,  -999.00, 9,   -999.0,   8.3103, 26.9222,   8.3638, 2, 4, 0.33, 0.15, 0.01, 0.017,  -999.00, 9, -999.00, -999.00, 9, -999.00
49NZ20071122, P14N, 127, 1, 27, X12049, 2, 20071128, 0330, 3.9923, 179.0067, 5569,    601.1, 2,   7.4752, 2,  34.5803, 2,  34.5795, 2,     71.2, 2,     70.8, 2,    43.05, 2,    35.95, 2,     0.01, 2,     2.57, 2,    0.171, 2,    0.089, 2,    0.011, 2, -999.000, 9,   2256.5, 2,   2314.7, 2,    7.5165,     25.00,   -999.0, 9,   -999.0,  -999.00, 9,   -999.0,   7.4155, 27.0297,   7.4756, 2, 2, 0.21, 0.13, 0.01, 0.016,  -999.00, 9, -999.00, -999.00, 9, -999.00
49NZ20071122, P14N, 127, 1, 26, X12032, 2, 20071128, 0330, 3.9923, 179.0067, 5569,    699.7, 2,   6.4330, 2,  34.5571, 2,  34.5568, 2,     57.5, 2,     57.3, 2,    55.36, 2,    39.57, 2,     0.01, 2,     2.84, 2,    0.040, 6,    0.022, 6,    0.009, 6, -999.000, 9,   2283.7, 6,   2326.1, 2,    7.4730,     25.00,   -999.0, 9,   -999.0,  -999.00, 9,   -999.0,   6.3685, 27.1550,   6.4323, 2, 2, 0.24, 0.14, 0.01, 0.017,  -999.00, 9, -999.00, -999.00, 9, -999.00
49NZ20071122, P14N, 127, 1, 25, X12043, 2, 20071128, 0330, 3.9923, 179.0067, 5569,    800.1, 2,   5.7145, 2,  34.5486, 2,  34.5482, 2,     63.2, 2,     65.0, 2,    64.09, 2,    40.02, 2,     0.00, 2,     2.87, 2,    0.016, 2,    0.012, 2,    0.011, 2, -999.000, 9,   2290.5, 2,   2335.1, 6,    7.4768,     25.00,   -999.0, 9,   -999.0,  -999.00, 9,   -999.0,   5.6446, 27.2404,   5.7149, 2, 2, 0.26, 0.14, 0.01, 0.017,  -999.00, 9, -999.00, -999.00, 9, -999.00
49NZ20071122, P14N, 127, 1, 24, X12030, 2, 20071128, 0330, 3.9923, 179.0067, 5569,    900.6, 2,   5.1907, 2,  34.5477, 2,  34.5475, 2,     69.4, 2,     72.0, 2,    72.31, 2,    39.85, 2,     0.01, 2,     2.85, 2,    0.010, 2,    0.008, 2,    0.004, 2, -999.000, 9,   2296.6, 2,   2344.1, 2,    7.4832,     25.00,   -999.0, 9,   -999.0,  -999.00, 9,   -999.0,   5.1149, 27.3033,   5.1918, 2, 6, 0.28, 0.14, 0.01, 0.017,  -999.00, 9, -999.00, -999.00, 9, -999.00
49NZ20071122, P14N, 127, 1, 23, X12027, 2, 20071128, 0330, 3.9923, 179.0067, 5569,   1000.2, 2,   4.7061, 2,  34.5538, 2,  34.5542, 6,     73.9, 2,     75.5, 2,    81.89, 2,    40.00, 2,     0.01, 2,     2.88, 2,    0.007, 2,    0.006, 2,    0.005, 2, -999.000, 9,   2307.7, 2,   2355.6, 2,    7.4857,     25.00,   -999.0, 9,   -999.0,  -999.00, 9,   -999.0,   4.6249, 27.3640,   4.7065, 2, 2, 0.30, 0.14, 0.01, 0.017,  -999.00, 9, -999.00, -999.00, 9, -999.00
49NZ20071122, P14N, 127, 1, 22, X12028, 2, 20071128, 0330, 3.9923, 179.0067, 5569,   1200.5, 2,   4.0866, 2,  34.5677, 2,  34.5679, 2,     80.0, 2,     80.6, 2,    94.73, 2,    39.95, 2,     0.01, 2,     2.88, 2,    0.001, 2,    0.003, 2,    0.005, 2, -999.000, 9,   2318.5, 2,   2369.9, 2,    7.4923,     25.00,   -999.0, 9,   -999.0,  -999.00, 9,   -999.0,   3.9931, 27.4430,   4.0870, 2, 2, 0.33, 0.14, 0.01, 0.017,  -999.00, 9, -999.00, -999.00, 9, -999.00
49NZ20071122, P14N, 127, 1, 21, X12009, 2, 20071128, 0330, 3.9923, 179.0067, 5569,   1401.4, 2,   3.5841, 2,  34.5831, 2,  34.5828, 2,     81.1, 2,     82.7, 2,   106.89, 2,    40.18, 2,     0.01, 2,     2.90, 2,    0.002, 2,    0.004, 2,    0.006, 2, -999.000, 9,   2329.5, 2,   2380.2, 2,    7.4927,     25.00,   -999.0, 9,   -999.0,  -999.00, 9,   -999.0,   3.4781, 27.5071,   3.5845, 2, 2, 0.35, 0.15, 0.01, 0.017,  -999.00, 9, -999.00, -999.00, 9, -999.00
49NZ20071122, P14N, 127, 1, 20, X12026, 2, 20071128, 0330, 3.9923, 179.0067, 5569,   1601.6, 2,   3.0251, 2,  34.6035, 2,  34.6035, 2,     89.7, 2,     87.3, 2,   120.20, 2,    40.35, 2,     0.01, 2,     2.90, 2, -999.000, 9, -999.000, 9, -999.000, 9, -999.000, 9,   2342.7, 2,   2396.1, 2,    7.4978,     25.00,   -999.0, 9,   -999.0,  -999.00, 9,   -999.0,   2.9083, 27.5769,   3.0252, 2, 2, 0.38, 0.15, 0.01, 0.017,  -999.00, 9, -999.00, -999.00, 9, -999.00
49NZ20071122, P14N, 127, 1, 19, X12025, 2, 20071128, 0330, 3.9923, 179.0067, 5569,   1799.6, 2,   2.6635, 2,  34.6187, 2,  34.6189, 2,     99.1, 2,     98.4, 2,   126.71, 2,    39.55, 2,     0.01, 2,     2.83, 2, -999.000, 9, -999.000, 9, -999.000, 9, -999.000, 9,   2345.0, 2,   2403.6, 2,    7.5160,     25.00,   -999.0, 9,   -999.0,  -999.00, 9,   -999.0,   2.5345, 27.6220,   2.6636, 2, 2, 0.40, 0.14, 0.01, 0.017,  -999.00, 9, -999.00, -999.00, 9, -999.00
49NZ20071122, P14N, 127, 1, 18, X12024, 2, 20071128, 0330, 3.9923, 179.0067, 5569,   1999.2, 2,   2.3672, 2,  34.6341, 2,  34.6346, 2,    103.7, 2,    102.9, 2,   134.43, 2,    39.32, 2,     0.01, 2,     2.80, 2,    0.000, 2,    0.003, 2,    0.004, 2, -999.000, 9,   2349.9, 2,   2411.5, 2,    7.5233,     25.00,   -999.0, 9,   -999.0,  -999.00, 9,   -999.0,   2.2253, 27.6604,   2.3673, 2, 2, 0.41, 0.14, 0.01, 0.017,  -999.00, 9, -999.00, -999.00, 9, -999.00
49NZ20071122, P14N, 127, 1, 17, X12023, 2, 20071128, 0330, 3.9923, 179.0067, 5569,   2200.0, 2,   2.1345, 2,  34.6468, 2,  34.6469, 6,    109.2, 2,    108.7, 2,   139.93, 2,    39.05, 2,     0.01, 2,     2.77, 2, -999.000, 9, -999.000, 9, -999.000, 9, -999.000, 9,   2354.0, 2,   2418.2, 2,    7.5354,     25.00,   -999.0, 9,   -999.0,  -999.00, 9,   -999.0,   1.9787, 27.6904,   2.1345, 2, 2, 0.43, 0.14, 0.01, 0.017,  -999.00, 9, -999.00, -999.00, 9, -999.00
49NZ20071122, P14N, 127, 1, 16, X12022, 2, 20071128, 0330, 3.9923, 179.0067, 5569,   2401.3, 2,   1.9524, 2,  34.6573, 2,  34.6572, 2,    116.1, 2,    115.3, 2,   143.62, 2,    38.61, 2,     0.01, 2,     2.73, 2, -999.000, 9, -999.000, 9, -999.000, 9, -999.000, 9,   2353.5, 6,   2421.5, 2,    7.5462,     25.00,   -999.0, 9,   -999.0,  -999.00, 9,   -999.0,   1.7819, 27.7141,   1.9523, 2, 2, 0.43, 0.14, 0.01, 0.017,  -999.00, 9, -999.00, -999.00, 9, -999.00
49NZ20071122, P14N, 127, 1, 15, X12021, 2, 20071128, 0330, 3.9923, 179.0067, 5569,   2601.3, 2,   1.8596, 2,  34.6624, 2,  34.6624, 2,    121.0, 2,    120.6, 2,   144.54, 2,    38.24, 2,     0.01, 2,     2.70, 2,    0.000, 2,    0.003, 2,    0.000, 2, -999.000, 9,   2349.2, 2,   2423.8, 6,    7.5529,     25.00,   -999.0, 9,   -999.0,  -999.00, 9,   -999.0,   1.6727, 27.7265,   1.8597, 2, 2, 0.44, 0.14, 0.01, 0.017,  -999.00, 9, -999.00, -999.00, 9, -999.00
49NZ20071122, P14N, 127, 1, 14, X12020, 2, 20071128, 0330, 3.9923, 179.0067, 5569,   2799.6, 2,   1.7728, 2,  34.6668, 2,  34.6669, 2,    125.8, 2,    125.6, 2,   144.93, 2,    37.86, 2,     0.01, 2,     2.67, 2, -999.000, 9, -999.000, 9, -999.000, 9, -999.000, 9,   2348.1, 2,   2424.4, 2,    7.5603,     25.00,   -999.0, 9,   -999.0,  -999.00, 9,   -999.0,   1.5692, 27.7377,   1.7728, 2, 6, 0.44, 0.14, 0.01, 0.017,  -999.00, 9, -999.00, -999.00, 9, -999.00
49NZ20071122, P14N, 127, 1, 13, X12019, 2, 20071128, 0330, 3.9923, 179.0067, 5569,   3000.4, 2,   1.6901, 2,  34.6711, 2,  34.6709, 2,    131.5, 2,    131.8, 2,   144.66, 2,    37.50, 2,     0.01, 2,     2.64, 2, -999.000, 9, -999.000, 9, -999.000, 9, -999.000, 9,   2344.5, 2,   2422.8, 2,    7.5692,     25.00,   -999.0, 9,   -999.0,  -999.00, 9,   -999.0,   1.4691, 27.7485,   1.6901, 2, 2, 0.44, 0.14, 0.01, 0.017,  -999.00, 9, -999.00, -999.00, 9, -999.00
49NZ20071122, P14N, 127, 1, 12, X12040, 2, 20071128, 0330, 3.9923, 179.0067, 5569,   3249.6, 2,   1.5920, 2,  34.6768, 2,  34.6765, 2,    140.1, 2,    140.8, 2,   143.13, 2,    36.82, 2,     0.01, 2,     2.58, 2,    0.000, 2,    0.000, 2,    0.000, 2, -999.000, 9,   2336.9, 2,   2421.1, 2,    7.5810,     25.00,   -999.0, 9,   -999.0,  -999.00, 9,   -999.0,   1.3488, 27.7617,   1.5919, 2, 2, 0.43, 0.14, 0.01, 0.016,  -999.00, 9, -999.00, -999.00, 9, -999.00
49NZ20071122, P14N, 127, 1, 11, X12047, 2, 20071128, 0330, 3.9923, 179.0067, 5569,   3500.2, 2,   1.5288, 2,  34.6819, 2,  34.6816, 2,    146.8, 2,    148.0, 2,   141.45, 2,    36.31, 2,     0.01, 2,     2.55, 2, -999.000, 9, -999.000, 9, -999.000, 9, -999.000, 9,   2329.8, 2,   2417.9, 2,    7.5905,     25.00,   -999.0, 9,   -999.0,  -999.00, 9,   -999.0,   1.2619, 27.7719,   1.5289, 2, 2, 0.43, 0.13, 0.01, 0.016,  -999.00, 9, -999.00, -999.00, 9, -999.00
49NZ20071122, P14N, 127, 1, 10, X12012, 2, 20071128, 0330, 3.9923, 179.0067, 5569,   3750.0, 2,   1.4630, 2,  34.6871, 2,  34.6870, 2,    155.1, 2,    156.3, 2,   138.66, 2,    35.84, 2,     0.01, 2,     2.51, 2, -999.000, 9, -999.000, 9, -999.000, 9, -999.000, 9,   2323.5, 2,   2415.9, 2,    7.6005,     25.00,   -999.0, 9,   -999.0,  -999.00, 9,   -999.0,   1.1719, 27.7823,   1.4630, 2, 2, 0.42, 0.13, 0.01, 0.016,  -999.00, 9, -999.00, -999.00, 9, -999.00
49NZ20071122, P14N, 127, 1, 9, X12015, 2, 20071128, 0330, 3.9923, 179.0067, 5569,   3998.2, 2,   1.3858, 2,  34.6927, 2,  34.6929, 6,    163.4, 2,    165.7, 2,   135.58, 2,    35.15, 2,     0.01, 2,     2.45, 2,    0.000, 2,    0.000, 2,    0.000, 2, -999.000, 9,   2314.9, 2,   2411.1, 2,    7.6095,     25.00,   -999.0, 9,   -999.0,  -999.00, 9,   -999.0,   1.0703, 27.7937,   1.3857, 2, 2, 0.42, 0.13, 0.01, 0.016,  -999.00, 9, -999.00, -999.00, 9, -999.00
49NZ20071122, P14N, 127, 1, 8, X12046, 2, 20071128, 0330, 3.9923, 179.0067, 5569,   4249.4, 2,   1.3118, 2,  34.6983, 2,  34.6982, 2,    175.1, 2,    176.1, 2,   130.84, 2,    34.43, 2,     0.00, 2,     2.40, 2, -999.000, 9, -999.000, 9, -999.000, 9, -999.000, 9,   2305.5, 6,   2403.7, 2,    7.6192,     25.00,   -999.0, 9,   -999.0,  -999.00, 9,   -999.0,   0.9708, 27.8048,   1.3116, 2, 2, 0.41, 0.13, 0.01, 0.016,  -999.00, 9, -999.00, -999.00, 9, -999.00
49NZ20071122, P14N, 127, 1, 7, X12044, 2, 20071128, 0330, 3.9923, 179.0067, 5569,   4499.4, 2,   1.2737, 2,  34.7016, 2,  34.7018, 2,    182.5, 2,    182.9, 2,   127.54, 2,    33.92, 2,     0.01, 2,     2.37, 2,    0.003, 2,    0.003, 2,    0.004, 2, -999.000, 9,   2297.2, 2,   2398.3, 6,    7.6256,     25.00,   -999.0, 9,   -999.0,  -999.00, 9,   -999.0,   0.9057, 27.8118,   1.2736, 2, 2, 0.40, 0.13, 0.01, 0.016,  -999.00, 9, -999.00, -999.00, 9, -999.00
49NZ20071122, P14N, 127, 1, 6, X12048, 2, 20071128, 0330, 3.9923, 179.0067, 5569,   4749.7, 2,   1.2660, 2,  34.7037, 2,  34.7035, 2,    187.0, 2,    187.1, 2,   125.51, 2,    33.57, 2,     0.01, 2,     2.34, 2,    0.001, 2,    0.004, 2,    0.000, 2, -999.000, 9,   2290.8, 2,   2394.2, 2,    7.6280,     25.00,   -999.0, 9,   -999.0,  -999.00, 9,   -999.0,   0.8693, 27.8158,   1.2660, 2, 6, 0.40, 0.13, 0.01, 0.016,  -999.00, 9, -999.00, -999.00, 9, -999.00
49NZ20071122, P14N, 127, 1, 5, X12014, 2, 20071128, 0330, 3.9923, 179.0067, 5569,   5000.3, 2,   1.2748, 2,  34.7048, 2,  34.7045, 2,    189.8, 2,    189.8, 2,   123.90, 2,    33.39, 2,     0.01, 2,     2.33, 2,    0.004, 2,    0.004, 2,    0.000, 2, -999.000, 9,   2288.7, 2,   2390.3, 2,    7.6288,     25.00,   -999.0, 9,   -999.0,  -999.00, 9,   -999.0,   0.8480, 27.8181,   1.2748, 2, 2, 0.39, 0.13, 0.01, 0.016,  -999.00, 9, -999.00, -999.00, 9, -999.00
49NZ20071122, P14N, 127, 1, 4, X12006, 2, 20071128, 0330, 3.9923, 179.0067, 5569,   5250.1, 2,   1.2984, 2,  34.7052, 2,  34.7054, 2,    190.9, 2,    190.8, 2,   123.28, 2,    33.27, 2,     0.01, 2,     2.32, 2,    0.003, 2,    0.003, 2,    0.000, 2, -999.000, 9,   2288.6, 2,   2389.1, 2,    7.6275,     25.00,   -999.0, 9,   -999.0,  -999.00, 9,   -999.0,   0.8403, 27.8189,   1.2985, 2, 2, 0.39, 0.13, 0.01, 0.016,  -999.00, 9, -999.00, -999.00, 9, -999.00
49NZ20071122, P14N, 127, 1, 3, X12013, 2, 20071128, 0330, 3.9923, 179.0067, 5569,   5501.6, 2,   1.3270, 2,  34.7053, 2,  34.7056, 2,    191.9, 2,    191.5, 2,   122.73, 2,    33.16, 2,     0.01, 2,     2.31, 2,    0.007, 2,    0.004, 2,    0.000, 2, -999.000, 9,   2285.1, 2,   2387.3, 2,    7.6283,     25.00,   -999.0, 9,   -999.0,  -999.00, 9,   -999.0,   0.8364, 27.8192,   1.3271, 2, 2, 0.39, 0.13, 0.01, 0.016,  -999.00, 9, -999.00, -999.00, 9, -999.00
49NZ20071122, P14N, 127, 1, 2, X12002, 9, 20071128, 0330, 3.9923, 179.0067, 5569,      9.8, 2,  27.4655, 2,  35.0753, 2, -999.0000, 9,    204.2, 2,   -999.0, 9,  -999.00, 9,  -999.00, 9,  -999.00, 9,  -999.00, 9, -999.000, 9, -999.000, 9, -999.000, 9, -999.000, 9,   -999.0, 9,   -999.0, 9, -999.0000,   -999.00,   -999.0, 9,   -999.0,  -999.00, 9,   -999.0,  27.4632, 22.6257,  27.4645, 2, 9, -999.00, -999.00, -999.00, -999.000,  -999.00, 9, -999.00, -999.00, 9, -999.00
49NZ20071122, P14N, 127, 1, 1, X12001, 2, 20071128, 0330, 3.9923, 179.0067, 5569,   5658.5, 2,   1.3473, 2,  34.7053, 2,  34.7053, 6,    191.6, 2,    191.4, 2,   122.77, 2,    33.21, 2,     0.01, 2,     2.32, 2,    0.003, 2,    0.006, 2,    0.000, 2, -999.000, 9,   2287.0, 2,   2387.7, 2,    7.6281,     25.00,   -999.0, 9,   -999.0,  -999.00, 9,   -999.0,   0.8359, 27.8193,   1.3473, 2, 2, 0.39, 0.13, 0.01, 0.016,  -999.00, 9, -999.00, -999.00, 9, -999.00