BOTTLE,20220820CCHSIOAMB
EXPOCODE,SECT_ID,STNNBR,CASTNO,SAMPNO,BTLNBR,BTLNBR_FLAG_W,DATE,TIME,LATITUDE,LONGITUDE,DEPTH,CTDPRS,CTDPRS_FLAG_W,CTDTMP,CTDTMP_FLAG_W,CTDSAL,CTDSAL_FLAG_W,SALNTY,SALNTY_FLAG_W,CTDOXY,CTDOXY_FLAG_W,OXYGEN,OXYGEN_FLAG_W,SILCAT,SILCAT_FLAG_W,NITRAT,NITRAT_FLAG_W,NITRIT,NITRIT_FLAG_W,PHSPHT,PHSPHT_FLAG_W,CFC-11,CFC-11_FLAG_W,CFC-12,CFC-12_FLAG_W,CFC113,CFC113_FLAG_W,CCL4,CCL4_FLAG_W,TCARBN,TCARBN_FLAG_W,ALKALI,ALKALI_FLAG_W,PH_TOT,PH_TMP,DELC14,DELC14_FLAG_W,C14ERR,DELC13,DELC13_FLAG_W,C13ERR,THETA,SIG0,SBE35,SBE35_FLAG_W,PH_TOT_FLAG_W,SILUNC,NRAUNC,NRIUNC,PHPUNC,CS-137,CS-137_FLAG_W,CS137ER,PLUTO,PLUTO_FLAG_W,PLUTOER
,,,,,,,,,,,METERS,DBAR,,ITS-90,,PSS-78,,PSS-78,,UMOL/KG,,UMOL/KG,,UMOL/KG,,UMOL/KG,,UMOL/KG,,UMOL/KG,,PMOL/KG,,PMOL/KG,,PMOL/KG,,PMOL/KG,,UMOL/KG,,UMOL/KG,,,DEG C,/MILLE,,/MILLE,/MILLE,,/MILLE,DEG C,KG/M^3,ITS-90,,,UMOL/KG,UMOL/KG,UMOL/KG,UMOL/KG,DM/.1MG,,BQ/M^3,MBQ/M^3,,MBQ/M^3
49NZ20071122, P14N, 152, 1, 36, X12042, 2, 20071205, 0047, -2.2512, 178.9990, 5299,     10.1, 2,  27.8853, 2,  35.5928, 2,  35.5925, 2,    199.5, 2,    202.2, 2,     1.54, 2,     3.18, 2,     0.26, 2,     0.46, 2,    1.552, 2,    0.950, 2,    0.177, 4, -999.000, 9,   -999.0, 9,   -999.0, 9, -999.0000,   -999.00,   -999.0, 9,   -999.0,  -999.00, 9,   -999.0,  27.8829, 22.8788,  27.8861, 2, 9, 0.12, 0.04, 0.01, 0.013,  -999.00, 9, -999.00, -999.00, 9, -999.00
49NZ20071122, P14N, 152, 1, 35, X12041, 2, 20071205, 0047, -2.2512, 178.9990, 5299,     49.9, 2,  27.5936, 2,  35.5586, 2,  35.5445, 2,    197.7, 2,    201.0, 2,     1.56, 2,     3.37, 2,     0.28, 2,     0.48, 2,    1.576, 2,    0.963, 2,    0.179, 4, -999.000, 9,   -999.0, 9,   -999.0, 9, -999.0000,   -999.00,   -999.0, 9,   -999.0,  -999.00, 9,   -999.0,  27.5820, 22.9510,  27.5936, 2, 9, 0.12, 0.04, 0.01, 0.013,  -999.00, 9, -999.00, -999.00, 9, -999.00
49NZ20071122, P14N, 152, 1, 34, X12016, 2, 20071205, 0047, -2.2512, 178.9990, 5299,    100.2, 2,  27.2861, 2,  35.5044, 2,  35.5091, 2,    198.3, 2,    198.6, 2,     1.67, 2,     3.60, 2,     0.36, 2,     0.51, 2,    1.586, 2,    0.965, 2,    0.186, 4, -999.000, 9,   -999.0, 9,   -999.0, 9, -999.0000,   -999.00,   -999.0, 9,   -999.0,  -999.00, 9,   -999.0,  27.2629, 23.0133,  27.2851, 2, 9, 0.12, 0.04, 0.00, 0.013,  -999.00, 9, -999.00, -999.00, 9, -999.00
49NZ20071122, P14N, 152, 1, 33, X12033, 2, 20071205, 0047, -2.2512, 178.9990, 5299,    150.0, 2,  27.2315, 2,  35.6195, 2,  35.6241, 2,    185.7, 2,    186.6, 2,     1.64, 2,     3.98, 2,     1.32, 2,     0.58, 2,    1.587, 6,    0.956, 6,    0.172, 4, -999.000, 9,   -999.0, 9,   -999.0, 9, -999.0000,   -999.00,   -999.0, 9,   -999.0,  -999.00, 9,   -999.0,  27.1968, 23.1214,  27.2299, 2, 9, 0.12, 0.04, 0.02, 0.013,  -999.00, 9, -999.00, -999.00, 9, -999.00
49NZ20071122, P14N, 152, 1, 32, X12038, 2, 20071205, 0047, -2.2512, 178.9990, 5299,    202.1, 2,  23.6852, 2,  36.0008, 2,  35.9755, 2,    132.5, 2,    138.4, 2,     2.15, 2,     8.62, 2,     0.04, 2,     0.85, 2,    1.813, 2,    1.071, 2,    0.121, 2, -999.000, 9,   -999.0, 9,   -999.0, 9, -999.0000,   -999.00,   -999.0, 9,   -999.0,  -999.00, 9,   -999.0,  23.6428, 24.5050,  23.6325, 2, 9, 0.12, 0.06, 0.01, 0.013,  -999.00, 9, -999.00, -999.00, 9, -999.00
49NZ20071122, P14N, 152, 1, 31, X12003, 2, 20071205, 0047, -2.2512, 178.9990, 5299,    250.3, 2,  15.0193, 2,  35.2046, 2,  35.1938, 6,    110.1, 2,    110.4, 2,    10.07, 2,    19.00, 2,     0.02, 2,     1.48, 2,    1.529, 2,    0.824, 2,    0.035, 2, -999.000, 9,   -999.0, 9,   -999.0, 9, -999.0000,   -999.00,   -999.0, 9,   -999.0,  -999.00, 9,   -999.0,  14.9812, 26.1339,  15.0210, 2, 9, 0.14, 0.09, 0.01, 0.014,  -999.00, 9, -999.00, -999.00, 9, -999.00
49NZ20071122, P14N, 152, 1, 30, X12008, 2, 20071205, 0047, -2.2512, 178.9990, 5299,    331.0, 2,  11.1454, 2,  34.8332, 2,  34.8245, 2,    110.6, 2,    116.0, 2,    18.49, 2,    24.52, 2,     0.01, 2,     1.79, 2,    1.082, 2,    0.564, 2,    0.018, 2, -999.000, 9,   -999.0, 9,   -999.0, 9, -999.0000,   -999.00,   -999.0, 9,   -999.0,  -999.00, 9,   -999.0,  11.1041, 26.6267,  11.1459, 2, 9, 0.16, 0.10, 0.01, 0.015,  -999.00, 9, -999.00, -999.00, 9, -999.00
49NZ20071122, P14N, 152, 1, 29, X12035, 2, 20071205, 0047, -2.2512, 178.9990, 5299,    430.7, 2,   9.6153, 2,  34.7029, 2,  34.7011, 2,     65.4, 2,     57.2, 2,    29.85, 2,    33.23, 2,     0.01, 2,     2.34, 2,    0.451, 2,    0.236, 2,    0.014, 2, -999.000, 9,   -999.0, 9,   -999.0, 9, -999.0000,   -999.00,   -999.0, 9,   -999.0,  -999.00, 9,   -999.0,   9.5661, 26.7931,   9.6161, 2, 9, 0.18, 0.13, 0.01, 0.016,  -999.00, 9, -999.00, -999.00, 9, -999.00
49NZ20071122, P14N, 152, 1, 28, X12034, 2, 20071205, 0047, -2.2512, 178.9990, 5299,    529.4, 2,   8.4455, 2,  34.6395, 2,  34.6375, 6,     84.3, 2,     83.5, 2,    31.44, 2,    33.15, 2,     0.01, 2,     2.34, 2,    0.352, 2,    0.189, 2,    0.012, 2, -999.000, 9,   -999.0, 9,   -999.0, 9, -999.0000,   -999.00,   -999.0, 9,   -999.0,  -999.00, 9,   -999.0,   8.3893, 26.9317,   8.4460, 2, 9, 0.19, 0.13, 0.01, 0.016,  -999.00, 9, -999.00, -999.00, 9, -999.00
49NZ20071122, P14N, 152, 1, 27, X12049, 2, 20071205, 0047, -2.2512, 178.9990, 5299,    629.7, 2,   7.1906, 2,  34.5826, 2,  34.5814, 2,     74.2, 2,     70.7, 2,    41.50, 2,    37.27, 2,     0.01, 2,     2.63, 2,    0.127, 2,    0.069, 2,    0.011, 2, -999.000, 9,   -999.0, 9,   -999.0, 9, -999.0000,   -999.00,   -999.0, 9,   -999.0,  -999.00, 9,   -999.0,   7.1293, 27.0720,   7.1910, 2, 9, 0.21, 0.14, 0.01, 0.017,  -999.00, 9, -999.00, -999.00, 9, -999.00
49NZ20071122, P14N, 152, 1, 26, X12032, 2, 20071205, 0047, -2.2512, 178.9990, 5299,    730.7, 2,   5.8000, 2,  34.5356, 2,  34.5355, 2,    101.6, 2,     99.9, 2,    54.33, 2,    36.47, 2,     0.00, 2,     2.60, 2,    0.105, 6,    0.059, 6,    0.008, 6, -999.000, 9,   -999.0, 9,   -999.0, 9, -999.0000,   -999.00,   -999.0, 9,   -999.0,  -999.00, 9,   -999.0,   5.7360, 27.2189,   5.8005, 2, 9, 0.24, 0.13, 0.01, 0.016,  -999.00, 9, -999.00, -999.00, 9, -999.00
49NZ20071122, P14N, 152, 1, 25, X12043, 2, 20071205, 0047, -2.2512, 178.9990, 5299,    830.7, 2,   5.3147, 2,  34.5416, 2,  34.5414, 2,     85.1, 2,     85.6, 2,    64.65, 2,    38.89, 2,     0.01, 2,     2.77, 2,    0.022, 2,    0.014, 2,    0.004, 2, -999.000, 9,   -999.0, 9,   -999.0, 9, -999.0000,   -999.00,   -999.0, 9,   -999.0,  -999.00, 9,   -999.0,   5.2445, 27.2832,   5.3141, 2, 9, 0.26, 0.14, 0.01, 0.017,  -999.00, 9, -999.00, -999.00, 9, -999.00
49NZ20071122, P14N, 152, 1, 24, X12030, 2, 20071205, 0047, -2.2512, 178.9990, 5299,    929.7, 2,   4.6514, 2,  34.5412, 2,  34.5413, 2,    101.0, 2,    102.5, 2,    73.43, 2,    37.72, 2,     0.01, 2,     2.70, 2,    0.032, 2,    0.019, 2,    0.003, 2, -999.000, 9,   -999.0, 9,   -999.0, 9, -999.0000,   -999.00,   -999.0, 9,   -999.0,  -999.00, 9,   -999.0,   4.5768, 27.3594,   4.6530, 2, 9, 0.28, 0.14, 0.01, 0.017,  -999.00, 9, -999.00, -999.00, 9, -999.00
49NZ20071122, P14N, 152, 1, 23, X12027, 2, 20071205, 0047, -2.2512, 178.9990, 5299,   1071.6, 2,   4.1632, 2,  34.5553, 2,  34.5551, 6,    100.4, 2,    100.0, 2,    84.61, 2,    38.43, 2,     0.01, 2,     2.76, 2,    0.018, 2,    0.012, 2,    0.000, 2, -999.000, 9,   -999.0, 9,   -999.0, 9, -999.0000,   -999.00,   -999.0, 9,   -999.0,  -999.00, 9,   -999.0,   4.0801, 27.4241,   4.1628, 2, 9, 0.31, 0.14, 0.01, 0.017,  -999.00, 9, -999.00, -999.00, 9, -999.00
49NZ20071122, P14N, 152, 1, 22, X12028, 2, 20071205, 0047, -2.2512, 178.9990, 5299,   1270.2, 2,   3.5726, 2,  34.5736, 2,  34.5743, 2,    106.9, 2,    105.5, 2,    97.09, 2,    38.36, 2,     0.01, 2,     2.76, 2,    0.011, 2,    0.005, 2,    0.002, 2, -999.000, 9,   -999.0, 9,   -999.0, 9, -999.0000,   -999.00,   -999.0, 9,   -999.0,  -999.00, 9,   -999.0,   3.4779, 27.4995,   3.5727, 2, 9, 0.33, 0.14, 0.01, 0.017,  -999.00, 9, -999.00, -999.00, 9, -999.00
49NZ20071122, P14N, 152, 1, 21, X12009, 2, 20071205, 0047, -2.2512, 178.9990, 5299,   1471.8, 2,   2.9464, 2,  34.6018, 2,  34.6016, 2,    108.8, 2,    107.9, 2,   112.52, 2,    38.58, 2,     0.00, 2,     2.76, 2,    0.007, 2,    0.002, 2,    0.000, 2, -999.000, 9,   -999.0, 9,   -999.0, 9, -999.0000,   -999.00,   -999.0, 9,   -999.0,  -999.00, 9,   -999.0,   2.8415, 27.5816,   2.9468, 2, 9, 0.37, 0.14, 0.01, 0.017,  -999.00, 9, -999.00, -999.00, 9, -999.00
49NZ20071122, P14N, 152, 1, 20, X12026, 2, 20071205, 0047, -2.2512, 178.9990, 5299,   1670.3, 2,   2.5561, 2,  34.6217, 2,  34.6216, 2,    111.9, 2,    111.5, 2,   122.68, 2,    38.52, 2,     0.01, 2,     2.75, 2,    0.000, 2,    0.000, 2,    0.000, 2, -999.000, 9,   -999.0, 9,   -999.0, 9, -999.0000,   -999.00,   -999.0, 9,   -999.0,  -999.00, 9,   -999.0,   2.4394, 27.6326,   2.5562, 2, 9, 0.39, 0.14, 0.01, 0.017,  -999.00, 9, -999.00, -999.00, 9, -999.00
49NZ20071122, P14N, 152, 1, 19, X12025, 2, 20071205, 0047, -2.2512, 178.9990, 5299,   1869.8, 2,   2.3070, 2,  34.6357, 2,  34.6358, 2,    115.2, 2,    115.6, 2,   128.85, 2,    38.37, 2,     0.01, 2,     2.73, 2,    0.009, 2,    0.005, 2,    0.000, 2, -999.000, 9,   -999.0, 9,   -999.0, 9, -999.0000,   -999.00,   -999.0, 9,   -999.0,  -999.00, 9,   -999.0,   2.1770, 27.6656,   2.3069, 2, 9, 0.40, 0.14, 0.01, 0.017,  -999.00, 9, -999.00, -999.00, 9, -999.00
49NZ20071122, P14N, 152, 1, 18, X12024, 2, 20071205, 0047, -2.2512, 178.9990, 5299,   2069.8, 2,   2.1145, 2,  34.6466, 2,  34.6471, 2,    118.4, 2,    118.5, 2,   134.15, 2,    38.17, 2,     0.00, 2,     2.71, 2, -999.000, 9, -999.000, 9, -999.000, 9, -999.000, 9,   -999.0, 9,   -999.0, 9, -999.0000,   -999.00,   -999.0, 9,   -999.0,  -999.00, 9,   -999.0,   1.9703, 27.6909,   2.1132, 2, 9, 0.41, 0.14, 0.01, 0.017,  -999.00, 9, -999.00, -999.00, 9, -999.00
49NZ20071122, P14N, 152, 1, 17, X12023, 2, 20071205, 0047, -2.2512, 178.9990, 5299,   2269.0, 2,   1.9890, 2,  34.6534, 2,  34.6534, 6,    122.5, 2,    122.2, 2,   136.93, 2,    38.02, 2,     0.00, 2,     2.69, 2, -999.000, 9, -999.000, 9, -999.000, 9, -999.000, 9,   -999.0, 9,   -999.0, 9, -999.0000,   -999.00,   -999.0, 9,   -999.0,  -999.00, 9,   -999.0,   1.8296, 27.7073,   1.9892, 2, 9, 0.42, 0.14, 0.01, 0.017,  -999.00, 9, -999.00, -999.00, 9, -999.00
49NZ20071122, P14N, 152, 1, 16, X12022, 2, 20071205, 0047, -2.2512, 178.9990, 5299,   2468.8, 2,   1.9347, 2,  34.6570, 2,  34.6568, 2,    123.7, 2,    123.7, 2,   138.64, 2,    37.88, 2,     0.00, 2,     2.69, 2,    0.013, 3,    0.013, 3,    0.000, 2, -999.000, 9,   -999.0, 9,   -999.0, 9, -999.0000,   -999.00,   -999.0, 9,   -999.0,  -999.00, 9,   -999.0,   1.7584, 27.7157,   1.9348, 2, 9, 0.42, 0.14, 0.01, 0.017,  -999.00, 9, -999.00, -999.00, 9, -999.00
49NZ20071122, P14N, 152, 1, 15, X12021, 2, 20071205, 0047, -2.2512, 178.9990, 5299,   2671.2, 2,   1.8414, 2,  34.6619, 2,  34.6618, 2,    129.1, 2,    129.8, 2,   138.53, 2,    37.45, 2,     0.01, 2,     2.64, 2, -999.000, 9, -999.000, 9, -999.000, 9, -999.000, 9,   -999.0, 9,   -999.0, 9, -999.0000,   -999.00,   -999.0, 9,   -999.0,  -999.00, 9,   -999.0,   1.6484, 27.7279,   1.8414, 2, 9, 0.42, 0.14, 0.01, 0.017,  -999.00, 9, -999.00, -999.00, 9, -999.00
49NZ20071122, P14N, 152, 1, 14, X12020, 2, 20071205, 0047, -2.2512, 178.9990, 5299,   2871.8, 2,   1.7523, 2,  34.6680, 2,  34.6678, 2,    135.9, 2,    136.8, 2,   137.97, 2,    37.03, 2,     0.01, 2,     2.61, 2, -999.000, 9, -999.000, 9, -999.000, 9, -999.000, 9,   -999.0, 9,   -999.0, 9, -999.0000,   -999.00,   -999.0, 9,   -999.0,  -999.00, 9,   -999.0,   1.5423, 27.7407,   1.7524, 2, 9, 0.42, 0.14, 0.01, 0.016,  -999.00, 9, -999.00, -999.00, 9, -999.00
49NZ20071122, P14N, 152, 1, 13, X12019, 2, 20071205, 0047, -2.2512, 178.9990, 5299,   3079.7, 2,   1.6220, 2,  34.6748, 2,  34.6746, 2,    142.9, 2,    143.0, 2,   139.31, 2,    36.62, 2,     0.01, 2,     2.57, 2,    0.000, 2,    0.000, 2,    0.000, 2, -999.000, 9,   -999.0, 9,   -999.0, 9, -999.0000,   -999.00,   -999.0, 9,   -999.0,  -999.00, 9,   -999.0,   1.3948, 27.7568,   1.6218, 2, 9, 0.43, 0.14, 0.01, 0.016,  -999.00, 9, -999.00, -999.00, 9, -999.00
49NZ20071122, P14N, 152, 1, 12, X12040, 2, 20071205, 0047, -2.2512, 178.9990, 5299,   3330.5, 2,   1.5436, 2,  34.6805, 2,  34.6806, 2,    149.5, 2,    149.5, 2,   138.56, 2,    36.14, 2,     0.01, 2,     2.53, 2, -999.000, 9, -999.000, 9, -999.000, 9, -999.000, 9,   -999.0, 9,   -999.0, 9, -999.0000,   -999.00,   -999.0, 9,   -999.0,  -999.00, 9,   -999.0,   1.2935, 27.7685,   1.5435, 2, 9, 0.42, 0.13, 0.01, 0.016,  -999.00, 9, -999.00, -999.00, 9, -999.00
49NZ20071122, P14N, 152, 1, 11, X12047, 2, 20071205, 0047, -2.2512, 178.9990, 5299,   3582.7, 2,   1.4775, 2,  34.6863, 2,  34.6863, 2,    156.1, 2,    156.9, 2,   136.98, 2,    35.68, 2,     0.01, 2,     2.50, 2, -999.000, 9, -999.000, 9, -999.000, 9, -999.000, 9,   -999.0, 9,   -999.0, 9, -999.0000,   -999.00,   -999.0, 9,   -999.0,  -999.00, 9,   -999.0,   1.2034, 27.7795,   1.4775, 2, 9, 0.42, 0.13, 0.01, 0.016,  -999.00, 9, -999.00, -999.00, 9, -999.00
49NZ20071122, P14N, 152, 1, 10, X12012, 2, 20071205, 0047, -2.2512, 178.9990, 5299,   3829.5, 2,   1.4225, 2,  34.6914, 2,  34.6911, 2,    162.5, 2,    163.0, 2,   136.01, 2,    35.30, 2,     0.00, 2,     2.46, 2,    0.007, 2,    0.005, 2,    0.003, 2, -999.000, 9,   -999.0, 9,   -999.0, 9, -999.0000,   -999.00,   -999.0, 9,   -999.0,  -999.00, 9,   -999.0,   1.1240, 27.7891,   1.4224, 2, 9, 0.42, 0.13, 0.01, 0.016,  -999.00, 9, -999.00, -999.00, 9, -999.00
49NZ20071122, P14N, 152, 1, 9, X12015, 2, 20071205, 0047, -2.2512, 178.9990, 5299,   4082.0, 2,   1.3765, 2,  34.6952, 2,  34.6954, 6,    168.6, 2,    169.4, 2,   133.83, 2,    34.89, 2,     0.00, 2,     2.42, 2,    0.008, 2,    0.006, 2,    0.000, 2, -999.000, 9,   -999.0, 9,   -999.0, 9, -999.0000,   -999.00,   -999.0, 9,   -999.0,  -999.00, 9,   -999.0,   1.0521, 27.7969,   1.3764, 2, 9, 0.41, 0.13, 0.01, 0.016,  -999.00, 9, -999.00, -999.00, 9, -999.00
49NZ20071122, P14N, 152, 1, 8, X12046, 2, 20071205, 0047, -2.2512, 178.9990, 5299,   4329.6, 2,   1.3287, 2,  34.6986, 2,  34.6984, 2,    176.0, 2,    177.6, 2,   129.62, 2,    34.29, 2,     0.01, 2,     2.39, 2,    0.009, 2,    0.005, 2,    0.000, 2, -999.000, 9,   -999.0, 9,   -999.0, 9, -999.0000,   -999.00,   -999.0, 9,   -999.0,  -999.00, 9,   -999.0,   0.9783, 27.8046,   1.3286, 2, 9, 0.40, 0.13, 0.01, 0.016,  -999.00, 9, -999.00, -999.00, 9, -999.00
49NZ20071122, P14N, 152, 1, 7, X12044, 2, 20071205, 0047, -2.2512, 178.9990, 5299,   4581.7, 2,   1.2603, 2,  34.7029, 2,  34.7031, 2,    186.9, 2,    187.7, 2,   124.11, 2,    33.48, 2,     0.01, 2,     2.34, 2,    0.012, 2,    0.006, 2,    0.000, 2, -999.000, 9,   -999.0, 9,   -999.0, 9, -999.0000,   -999.00,   -999.0, 9,   -999.0,  -999.00, 9,   -999.0,   0.8833, 27.8143,   1.2602, 2, 9, 0.39, 0.13, 0.01, 0.016,  -999.00, 9, -999.00, -999.00, 9, -999.00
49NZ20071122, P14N, 152, 1, 6, X12048, 2, 20071205, 0047, -2.2512, 178.9990, 5299,   4829.7, 2,   1.2516, 2,  34.7046, 2,  34.7049, 2,    191.9, 2,    191.9, 2,   121.85, 2,    33.14, 2,     0.00, 2,     2.31, 2,    0.014, 2,    0.009, 2,    0.000, 2, -999.000, 9,   -999.0, 9,   -999.0, 9, -999.0000,   -999.00,   -999.0, 9,   -999.0,  -999.00, 9,   -999.0,   0.8460, 27.8181,   1.2516, 2, 9, 0.39, 0.13, 0.01, 0.016,  -999.00, 9, -999.00, -999.00, 9, -999.00
49NZ20071122, P14N, 152, 1, 5, X12014, 2, 20071205, 0047, -2.2512, 178.9990, 5299,   5079.9, 2,   1.2500, 2,  34.7059, 2,  34.7061, 2,    195.1, 2,    195.2, 2,   120.40, 2,    32.88, 2,     0.00, 2,     2.29, 2,    0.012, 2,    0.007, 2,    0.000, 2, -999.000, 9,   -999.0, 9,   -999.0, 9, -999.0000,   -999.00,   -999.0, 9,   -999.0,  -999.00, 9,   -999.0,   0.8145, 27.8211,   1.2499, 2, 9, 0.38, 0.12, 0.01, 0.016,  -999.00, 9, -999.00, -999.00, 9, -999.00
49NZ20071122, P14N, 152, 1, 4, X12006, 9, 20071205, 0047, -2.2512, 178.9990, 5299,     10.0, 2,  27.8927, 2,  35.5927, 2, -999.0000, 9,    199.4, 2,   -999.0, 9,  -999.00, 9,  -999.00, 9,  -999.00, 9,  -999.00, 9, -999.000, 9, -999.000, 9, -999.000, 9, -999.000, 9,   -999.0, 9,   -999.0, 9, -999.0000,   -999.00,   -999.0, 9,   -999.0,  -999.00, 9,   -999.0,  27.8903, 22.8763,  27.8941, 2, 9, -999.00, -999.00, -999.00, -999.000,  -999.00, 9, -999.00, -999.00, 9, -999.00
49NZ20071122, P14N, 152, 1, 3, X12013, 9, 20071205, 0047, -2.2512, 178.9990, 5299,     50.1, 2,  27.5913, 2,  35.5578, 2, -999.0000, 9,    197.7, 2,   -999.0, 9,  -999.00, 9,  -999.00, 9,  -999.00, 9,  -999.00, 9, -999.000, 9, -999.000, 9, -999.000, 9, -999.000, 9,   -999.0, 9,   -999.0, 9, -999.0000,   -999.00,   -999.0, 9,   -999.0,  -999.00, 9,   -999.0,  27.5796, 22.9512,  27.5910, 2, 9, -999.00, -999.00, -999.00, -999.000,  -999.00, 9, -999.00, -999.00, 9, -999.00
49NZ20071122, P14N, 152, 1, 2, X12002, 9, 20071205, 0047, -2.2512, 178.9990, 5299,    100.4, 2,  27.2865, 2,  35.5043, 2, -999.0000, 9,    198.2, 2,   -999.0, 9,  -999.00, 9,  -999.00, 9,  -999.00, 9,  -999.00, 9, -999.000, 9, -999.000, 9, -999.000, 9, -999.000, 9,   -999.0, 9,   -999.0, 9, -999.0000,   -999.00,   -999.0, 9,   -999.0,  -999.00, 9,   -999.0,  27.2633, 23.0131,  27.2857, 2, 9, -999.00, -999.00, -999.00, -999.000,  -999.00, 9, -999.00, -999.00, 9, -999.00
49NZ20071122, P14N, 152, 1, 1, X12001, 2, 20071205, 0047, -2.2512, 178.9990, 5299,   5372.6, 2,   1.2854, 2,  34.7058, 2,  34.7061, 6,    195.1, 2,    195.1, 2,   120.41, 2,    32.97, 2,     0.01, 2,     2.30, 2,    0.013, 2,    0.009, 2,    0.000, 2, -999.000, 9,   -999.0, 9,   -999.0, 9, -999.0000,   -999.00,   -999.0, 9,   -999.0,  -999.00, 9,   -999.0,   0.8126, 27.8212,   1.2853, 2, 9, 0.38, 0.13, 0.01, 0.016,  -999.00, 9, -999.00, -999.00, 9, -999.00