BOTTLE,20220820CCHSIOAMB
EXPOCODE,SECT_ID,STNNBR,CASTNO,SAMPNO,BTLNBR,BTLNBR_FLAG_W,DATE,TIME,LATITUDE,LONGITUDE,DEPTH,CTDPRS,CTDPRS_FLAG_W,CTDTMP,CTDTMP_FLAG_W,CTDSAL,CTDSAL_FLAG_W,SALNTY,SALNTY_FLAG_W,CTDOXY,CTDOXY_FLAG_W,OXYGEN,OXYGEN_FLAG_W,SILCAT,SILCAT_FLAG_W,NITRAT,NITRAT_FLAG_W,NITRIT,NITRIT_FLAG_W,PHSPHT,PHSPHT_FLAG_W,CFC-11,CFC-11_FLAG_W,CFC-12,CFC-12_FLAG_W,CFC113,CFC113_FLAG_W,CCL4,CCL4_FLAG_W,TCARBN,TCARBN_FLAG_W,ALKALI,ALKALI_FLAG_W,PH_TOT,PH_TMP,DELC14,DELC14_FLAG_W,C14ERR,DELC13,DELC13_FLAG_W,C13ERR,THETA,SIG0,SBE35,SBE35_FLAG_W,PH_TOT_FLAG_W,SILUNC,NRAUNC,NRIUNC,PHPUNC,CS-137,CS-137_FLAG_W,CS137ER,PLUTO,PLUTO_FLAG_W,PLUTOER
,,,,,,,,,,,METERS,DBAR,,ITS-90,,PSS-78,,PSS-78,,UMOL/KG,,UMOL/KG,,UMOL/KG,,UMOL/KG,,UMOL/KG,,UMOL/KG,,PMOL/KG,,PMOL/KG,,PMOL/KG,,PMOL/KG,,UMOL/KG,,UMOL/KG,,,DEG C,/MILLE,,/MILLE,/MILLE,,/MILLE,DEG C,KG/M^3,ITS-90,,,UMOL/KG,UMOL/KG,UMOL/KG,UMOL/KG,DM/.1MG,,BQ/M^3,MBQ/M^3,,MBQ/M^3
49NZ20071122, P14N, 144, 1, 36, X12042, 2, 20071202, 0354, -0.2453, 178.9933, 5441,     10.7, 2,  27.1377, 2,  35.2013, 2,  35.2026, 2,    198.8, 2,    198.8, 2,     1.98, 2,     3.15, 2,     0.61, 2,     0.45, 2,    1.567, 2,    0.973, 2,    0.189, 4, -999.000, 9,   -999.0, 9,   -999.0, 9, -999.0000,   -999.00,   -999.0, 9,   -999.0,  -999.00, 9,   -999.0,  27.1352, 22.8261,  27.1426, 2, 9, 0.12, 0.04, 0.00, 0.013,  -999.00, 9, -999.00, -999.00, 9, -999.00
49NZ20071122, P14N, 144, 1, 35, X12041, 2, 20071202, 0354, -0.2453, 178.9933, 5441,     50.5, 2,  26.5775, 2,  35.3632, 2,  35.3658, 2,    191.2, 2,    190.7, 2,     2.05, 2,     4.25, 2,     0.47, 2,     0.53, 2,    1.590, 2,    0.987, 2,    0.191, 4, -999.000, 9,   -999.0, 9,   -999.0, 9, -999.0000,   -999.00,   -999.0, 9,   -999.0,  -999.00, 9,   -999.0,  26.5660, 23.1294,  26.5767, 2, 9, 0.12, 0.04, 0.00, 0.013,  -999.00, 9, -999.00, -999.00, 9, -999.00
49NZ20071122, P14N, 144, 1, 34, X12016, 2, 20071202, 0354, -0.2453, 178.9933, 5441,    101.2, 2,  26.7090, 2,  35.4628, 2,  35.4629, 2,    181.5, 2,    181.6, 2,     2.02, 2,     4.54, 2,     1.11, 2,     0.59, 2,    1.590, 2,    0.996, 2,    0.159, 4, -999.000, 9,   -999.0, 9,   -999.0, 9, -999.0000,   -999.00,   -999.0, 9,   -999.0,  -999.00, 9,   -999.0,  26.6859, 23.1665,  26.7077, 2, 9, 0.12, 0.05, 0.00, 0.013,  -999.00, 1, -999.00, -999.00, 9, -999.00
49NZ20071122, P14N, 144, 1, 33, X12033, 2, 20071202, 0354, -0.2453, 178.9933, 5441,    151.8, 2,  26.2548, 2,  35.3707, 2,  35.3671, 2,    166.5, 2,    173.6, 2,     2.43, 2,     5.57, 2,     0.40, 2,     0.60, 2,    1.591, 2,    0.987, 2,    0.141, 2, -999.000, 9,   -999.0, 9,   -999.0, 9, -999.0000,   -999.00,   -999.0, 9,   -999.0,  -999.00, 9,   -999.0,  26.2206, 23.2440,  26.2521, 2, 9, 0.12, 0.05, 0.00, 0.013,  -999.00, 9, -999.00, -999.00, 9, -999.00
49NZ20071122, P14N, 144, 1, 32, X12038, 2, 20071202, 0354, -0.2453, 178.9933, 5441,    200.9, 2,  18.3806, 2,  35.3639, 2,  35.3664, 2,    133.4, 2,    132.4, 2,     6.04, 2,    12.68, 2,     0.02, 2,     1.02, 2,    1.819, 2,    1.053, 2,    0.043, 2, -999.000, 9,   -999.0, 9,   -999.0, 9, -999.0000,   -999.00,   -999.0, 9,   -999.0,  -999.00, 9,   -999.0,  18.3455, 25.4649,  18.3822, 2, 9, 0.13, 0.07, 0.01, 0.013,  -999.00, 1, -999.00, -999.00, 9, -999.00
49NZ20071122, P14N, 144, 1, 31, X12003, 2, 20071202, 0354, -0.2453, 178.9933, 5441,    250.2, 2,  15.4228, 2,  35.1454, 2,  35.1285, 6,    136.2, 2,    136.6, 2,    10.23, 2,    15.84, 2,     0.01, 2,     1.22, 2,    1.707, 2,    0.952, 2,    0.031, 2, -999.000, 9,   -999.0, 9,   -999.0, 9, -999.0000,   -999.00,   -999.0, 9,   -999.0,  -999.00, 9,   -999.0,  15.3841, 25.9989,  15.4238, 2, 9, 0.14, 0.08, 0.01, 0.013,  -999.00, 9, -999.00, -999.00, 9, -999.00
49NZ20071122, P14N, 144, 1, 30, X12008, 2, 20071202, 0354, -0.2453, 178.9933, 5441,    280.3, 2,  13.1820, 2,  34.9254, 2,  34.9185, 2,    129.3, 2,    127.9, 2,    15.88, 2,    19.76, 2,     0.01, 2,     1.47, 2,    1.442, 2,    0.795, 2,    0.023, 2, -999.000, 9,   -999.0, 9,   -999.0, 9, -999.0000,   -999.00,   -999.0, 9,   -999.0,  -999.00, 9,   -999.0,  13.1430, 26.3063,  13.1863, 2, 9, 0.15, 0.09, 0.01, 0.014,  -999.00, 9, -999.00, -999.00, 9, -999.00
49NZ20071122, P14N, 144, 1, 29, X12035, 2, 20071202, 0354, -0.2453, 178.9933, 5441,    370.3, 2,  10.9749, 2,  34.7868, 2,  34.7852, 2,     61.8, 2,     61.6, 2,    24.91, 2,    30.14, 2,     0.01, 2,     2.13, 2,    0.696, 2,    0.380, 2,    0.017, 2, -999.000, 9,   -999.0, 9,   -999.0, 9, -999.0000,   -999.00,   -999.0, 9,   -999.0,  -999.00, 9,   -999.0,  10.9291, 26.6223,  10.9780, 2, 9, 0.17, 0.12, 0.01, 0.015,  -999.00, 1, -999.00, -999.00, 9, -999.00
49NZ20071122, P14N, 144, 1, 28, X12034, 2, 20071202, 0354, -0.2453, 178.9933, 5441,    470.7, 2,   9.0358, 2,  34.6688, 2,  34.6660, 6,     49.7, 2,     50.1, 2,    33.81, 2,    35.21, 2,     0.01, 2,     2.48, 2,    0.283, 2,    0.151, 2,    0.014, 2, -999.000, 9,   -999.0, 9,   -999.0, 9, -999.0000,   -999.00,   -999.0, 9,   -999.0,  -999.00, 9,   -999.0,   8.9840, 26.8614,   9.0342, 2, 9, 0.19, 0.13, 0.01, 0.016,  -999.00, 9, -999.00, -999.00, 9, -999.00
49NZ20071122, P14N, 144, 1, 27, X12049, 2, 20071202, 0354, -0.2453, 178.9933, 5441,    571.5, 2,   7.7358, 2,  34.5988, 2,  34.5975, 2,     75.5, 2,     75.9, 2,    39.11, 2,    35.33, 2,     0.00, 2,     2.50, 2,    0.219, 2,    0.120, 2,    0.006, 2, -999.000, 9,   -999.0, 9,   -999.0, 9, -999.0000,   -999.00,   -999.0, 9,   -999.0,  -999.00, 9,   -999.0,   7.6780, 27.0063,   7.7364, 2, 9, 0.21, 0.13, 0.01, 0.016,  -999.00, 1, -999.00, -999.00, 9, -999.00
49NZ20071122, P14N, 144, 1, 26, X12032, 2, 20071202, 0354, -0.2453, 178.9933, 5441,    669.5, 2,   6.6325, 2,  34.5612, 2,  34.5595, 2,     82.6, 2,     74.6, 2,    49.36, 2,    37.76, 2,     0.00, 2,     2.68, 2,    0.082, 6,    0.044, 6,    0.006, 6, -999.000, 9,   -999.0, 9,   -999.0, 9, -999.0000,   -999.00,   -999.0, 9,   -999.0,  -999.00, 9,   -999.0,   6.5699, 27.1316,   6.6339, 2, 9, 0.23, 0.14, 0.01, 0.017,  -999.00, 9, -999.00, -999.00, 9, -999.00
49NZ20071122, P14N, 144, 1, 25, X12043, 2, 20071202, 0354, -0.2453, 178.9933, 5441,    768.6, 2,   5.9652, 2,  34.5416, 2,  34.5416, 2,     90.4, 2,     90.5, 2,    56.88, 2,    37.23, 2,     0.00, 2,     2.66, 2,    0.069, 2,    0.037, 2,    0.006, 2, -999.000, 9,   -999.0, 9,   -999.0, 9, -999.0000,   -999.00,   -999.0, 9,   -999.0,  -999.00, 9,   -999.0,   5.8968, 27.2035,   5.9625, 2, 9, 0.24, 0.14, 0.01, 0.017,  -999.00, 1, -999.00, -999.00, 9, -999.00
49NZ20071122, P14N, 144, 1, 24, X12030, 2, 20071202, 0354, -0.2453, 178.9933, 5441,    870.3, 2,   5.2807, 2,  34.5414, 2,  34.5403, 2,     94.5, 2,     92.5, 2,    66.08, 2,    37.89, 2,     0.00, 2,     2.70, 2,    0.037, 2,    0.020, 2,    0.006, 2, -999.000, 9,   -999.0, 9,   -999.0, 9, -999.0000,   -999.00,   -999.0, 9,   -999.0,  -999.00, 9,   -999.0,   5.2071, 27.2875,   5.2803, 2, 9, 0.26, 0.14, 0.01, 0.017,  -999.00, 9, -999.00, -999.00, 9, -999.00
49NZ20071122, P14N, 144, 1, 23, X12027, 2, 20071202, 0354, -0.2453, 178.9933, 5441,    970.0, 2,   4.6995, 2,  34.5483, 2,  34.5489, 2,     91.6, 2,     92.7, 2,    78.31, 2,    38.50, 2,     0.00, 2,     2.75, 2,    0.014, 2,    0.010, 2,    0.000, 2, -999.000, 9,   -999.0, 9,   -999.0, 9, -999.0000,   -999.00,   -999.0, 9,   -999.0,  -999.00, 9,   -999.0,   4.6210, 27.3601,   4.6998, 2, 9, 0.29, 0.14, 0.01, 0.017,  -999.00, 1, -999.00, -999.00, 9, -999.00
49NZ20071122, P14N, 144, 1, 22, X12028, 2, 20071202, 0354, -0.2453, 178.9933, 5441,   1129.4, 2,   4.1197, 2,  34.5634, 2,  34.5645, 6,     92.4, 2,     91.4, 2,    91.52, 2,    39.22, 2,     0.00, 2,     2.82, 2,    0.000, 2,    0.000, 2,    0.000, 2, -999.000, 9,   -999.0, 9,   -999.0, 9, -999.0000,   -999.00,   -999.0, 9,   -999.0,  -999.00, 9,   -999.0,   4.0320, 27.4355,   4.1206, 2, 9, 0.32, 0.14, 0.01, 0.017,  -999.00, 9, -999.00, -999.00, 9, -999.00
49NZ20071122, P14N, 144, 1, 21, X12009, 2, 20071202, 0354, -0.2453, 178.9933, 5441,   1330.6, 2,   3.5325, 2,  34.5841, 2,  34.5840, 2,     89.4, 2,     89.6, 2,   105.17, 2,    39.82, 2,     0.00, 2,     2.86, 2,    0.000, 2,    0.000, 2,    0.000, 2, -999.000, 9,   -999.0, 9,   -999.0, 9, -999.0000,   -999.00,   -999.0, 9,   -999.0,  -999.00, 9,   -999.0,   3.4331, 27.5122,   3.5326, 2, 9, 0.35, 0.14, 0.01, 0.017,  -999.00, 9, -999.00, -999.00, 9, -999.00
49NZ20071122, P14N, 144, 1, 20, X12026, 2, 20071202, 0354, -0.2453, 178.9933, 5441,   1531.3, 2,   2.9893, 2,  34.6038, 2,  34.6042, 2,     98.4, 2,     98.5, 2,   116.68, 2,    39.39, 2,     0.00, 2,     2.82, 2,    0.000, 2,    0.000, 2,    0.000, 2, -999.000, 9,   -999.0, 9,   -999.0, 9, -999.0000,   -999.00,   -999.0, 9,   -999.0,  -999.00, 9,   -999.0,   2.8789, 27.5799,   2.9901, 2, 9, 0.38, 0.14, 0.01, 0.017,  -999.00, 9, -999.00, -999.00, 9, -999.00
49NZ20071122, P14N, 144, 1, 19, X12025, 2, 20071202, 0354, -0.2453, 178.9933, 5441,   1732.4, 2,   2.6453, 2,  34.6177, 2,  34.6178, 2,    108.0, 2,    107.3, 2,   123.42, 2,    38.85, 2,     0.00, 2,     2.77, 2, -999.000, 9, -999.000, 9, -999.000, 9, -999.000, 9,   -999.0, 9,   -999.0, 9, -999.0000,   -999.00,   -999.0, 9,   -999.0,  -999.00, 9,   -999.0,   2.5222, 27.6223,   2.6456, 2, 9, 0.39, 0.14, 0.01, 0.017,  -999.00, 1, -999.00, -999.00, 9, -999.00
49NZ20071122, P14N, 144, 1, 18, X12024, 2, 20071202, 0354, -0.2453, 178.9933, 5441,   1930.0, 2,   2.3566, 2,  34.6334, 2,  34.6337, 2,    108.9, 2,    110.6, 2,   130.60, 2,    38.71, 2,     0.00, 2,     2.75, 2, -999.000, 9, -999.000, 9, -999.000, 9, -999.000, 9,   -999.0, 9,   -999.0, 9, -999.0000,   -999.00,   -999.0, 9,   -999.0,  -999.00, 9,   -999.0,   2.2208, 27.6602,   2.3572, 2, 9, 0.41, 0.14, 0.01, 0.017,  -999.00, 1, -999.00, -999.00, 9, -999.00
49NZ20071122, P14N, 144, 1, 17, X12023, 2, 20071202, 0354, -0.2453, 178.9933, 5441,   2129.7, 2,   2.1557, 2,  34.6440, 2,  34.6446, 6,    116.1, 2,    116.1, 2,   135.03, 2,    38.44, 2,     0.00, 2,     2.72, 2,    0.000, 2,    0.000, 2,    0.000, 2, -999.000, 9,   -999.0, 9,   -999.0, 9, -999.0000,   -999.00,   -999.0, 9,   -999.0,  -999.00, 9,   -999.0,   2.0057, 27.6860,   2.1551, 2, 9, 0.42, 0.14, 0.01, 0.017,  -999.00, 1, -999.00, -999.00, 9, -999.00
49NZ20071122, P14N, 144, 1, 16, X12022, 2, 20071202, 0354, -0.2453, 178.9933, 5441,   2330.7, 2,   1.9489, 2,  34.6552, 2,  34.6557, 2,    122.5, 2,    122.1, 2,   138.78, 2,    38.08, 2,     0.00, 2,     2.69, 2, -999.000, 9, -999.000, 9, -999.000, 9, -999.000, 9,   -999.0, 9,   -999.0, 9, -999.0000,   -999.00,   -999.0, 9,   -999.0,  -999.00, 9,   -999.0,   1.7847, 27.7122,   1.9488, 2, 9, 0.42, 0.14, 0.01, 0.017,  -999.00, 9, -999.00, -999.00, 9, -999.00
49NZ20071122, P14N, 144, 1, 15, X12021, 2, 20071202, 0354, -0.2453, 178.9933, 5441,   2530.1, 2,   1.8458, 2,  34.6623, 2,  34.6623, 2,    125.9, 2,    125.5, 2,   141.21, 2,    37.89, 2,     0.00, 2,     2.67, 2, -999.000, 9, -999.000, 9, -999.000, 9, -999.000, 9,   -999.0, 9,   -999.0, 9, -999.0000,   -999.00,   -999.0, 9,   -999.0,  -999.00, 9,   -999.0,   1.6656, 27.7269,   1.8457, 2, 9, 0.43, 0.14, 0.01, 0.017,  -999.00, 9, -999.00, -999.00, 9, -999.00
49NZ20071122, P14N, 144, 1, 14, X12020, 2, 20071202, 0354, -0.2453, 178.9933, 5441,   2729.2, 2,   1.7961, 2,  34.6648, 2,  34.6649, 2,    129.3, 2,    128.5, 2,   141.56, 2,    37.67, 2,    -0.01, 2,     2.66, 2,    0.000, 2,    0.000, 2,    0.000, 2, -999.000, 9,   -999.0, 9,   -999.0, 9, -999.0000,   -999.00,   -999.0, 9,   -999.0,  -999.00, 9,   -999.0,   1.5986, 27.7339,   1.7961, 2, 9, 0.43, 0.14, 0.01, 0.017,  -999.00, 1, -999.00, -999.00, 9, -999.00
49NZ20071122, P14N, 144, 1, 13, X12019, 2, 20071202, 0354, -0.2453, 178.9933, 5441,   2929.7, 2,   1.7089, 2,  34.6694, 2,  34.6697, 2,    134.4, 2,    134.0, 2,   142.11, 2,    37.37, 2,    -0.01, 2,     2.62, 2, -999.000, 9, -999.000, 9, -999.000, 9, -999.000, 9,   -999.0, 9,   -999.0, 9, -999.0000,   -999.00,   -999.0, 9,   -999.0,  -999.00, 9,   -999.0,   1.4943, 27.7453,   1.7088, 2, 9, 0.43, 0.14, 0.01, 0.017,  -999.00, 1, -999.00, -999.00, 9, -999.00
49NZ20071122, P14N, 144, 1, 12, X12040, 2, 20071202, 0354, -0.2453, 178.9933, 5441,   3171.2, 2,   1.6482, 2,  34.6735, 2,  34.6736, 2,    139.1, 2,    138.8, 2,   141.16, 2,    36.94, 2,     0.00, 2,     2.59, 2, -999.000, 9, -999.000, 9, -999.000, 9, -999.000, 9,   -999.0, 9,   -999.0, 9, -999.0000,   -999.00,   -999.0, 9,   -999.0,  -999.00, 9,   -999.0,   1.4115, 27.7545,   1.6482, 2, 9, 0.43, 0.14, 0.01, 0.016,  -999.00, 1, -999.00, -999.00, 9, -999.00
49NZ20071122, P14N, 144, 1, 11, X12047, 2, 20071202, 0354, -0.2453, 178.9933, 5441,   3420.8, 2,   1.5492, 2,  34.6802, 2,  34.6802, 2,    147.2, 2,    147.8, 2,   139.91, 2,    36.37, 2,     0.00, 2,     2.55, 2,    0.000, 2,    0.000, 2,    0.000, 2, -999.000, 9,   -999.0, 9,   -999.0, 9, -999.0000,   -999.00,   -999.0, 9,   -999.0,  -999.00, 9,   -999.0,   1.2899, 27.7686,   1.5487, 2, 9, 0.43, 0.13, 0.01, 0.016,  -999.00, 9, -999.00, -999.00, 9, -999.00
49NZ20071122, P14N, 144, 1, 10, X12012, 2, 20071202, 0354, -0.2453, 178.9933, 5441,   3669.7, 2,   1.5055, 2,  34.6845, 2,  34.6842, 2,    153.5, 2,    153.7, 2,   138.44, 2,    35.92, 2,     0.00, 2,     2.52, 2,    0.000, 2,    0.000, 2,    0.000, 2, -999.000, 9,   -999.0, 9,   -999.0, 9, -999.0000,   -999.00,   -999.0, 9,   -999.0,  -999.00, 9,   -999.0,   1.2217, 27.7768,   1.5055, 2, 9, 0.42, 0.13, 0.01, 0.016,  -999.00, 1, -999.00, -999.00, 9, -999.00
49NZ20071122, P14N, 144, 1, 9, X12015, 2, 20071202, 0354, -0.2453, 178.9933, 5441,   3921.3, 2,   1.4455, 2,  34.6903, 2,  34.6902, 6,    161.1, 2,    161.8, 2,   136.42, 2,    35.42, 2,     0.00, 2,     2.47, 2,    0.000, 2,    0.000, 2,    0.000, 2, -999.000, 9,   -999.0, 9,   -999.0, 9, -999.0000,   -999.00,   -999.0, 9,   -999.0,  -999.00, 9,   -999.0,   1.1366, 27.7873,   1.4454, 2, 9, 0.42, 0.13, 0.01, 0.016,  -999.00, 1, -999.00, -999.00, 9, -999.00
49NZ20071122, P14N, 144, 1, 8, X12046, 2, 20071202, 0354, -0.2453, 178.9933, 5441,   4170.7, 2,   1.3628, 2,  34.6959, 2,  34.6958, 2,    170.9, 2,    171.8, 2,   132.45, 2,    34.72, 2,     0.00, 2,     2.42, 2,    0.000, 2,    0.000, 2,    0.000, 2, -999.000, 9,   -999.0, 9,   -999.0, 9, -999.0000,   -999.00,   -999.0, 9,   -999.0,  -999.00, 9,   -999.0,   1.0291, 27.7991,   1.3628, 2, 9, 0.41, 0.13, 0.01, 0.016,  -999.00, 1, -999.00, -999.00, 9, -999.00
49NZ20071122, P14N, 144, 1, 7, X12044, 2, 20071202, 0354, -0.2453, 178.9933, 5441,   4418.7, 2,   1.2784, 2,  34.7012, 2,  34.7014, 2,    182.4, 2,    183.1, 2,   126.90, 2,    33.90, 2,     0.00, 2,     2.36, 2,    0.000, 2,    0.000, 2,    0.000, 2, -999.000, 9,   -999.0, 9,   -999.0, 9, -999.0000,   -999.00,   -999.0, 9,   -999.0,  -999.00, 9,   -999.0,   0.9195, 27.8106,   1.2783, 2, 9, 0.40, 0.13, 0.01, 0.016,  -999.00, 9, -999.00, -999.00, 9, -999.00
49NZ20071122, P14N, 144, 1, 6, X12048, 2, 20071202, 0354, -0.2453, 178.9933, 5441,   4668.6, 2,   1.2657, 2,  34.7034, 2,  34.7032, 2,    188.1, 2,    188.1, 2,   124.02, 2,    33.54, 2,     0.00, 2,     2.33, 2,    0.000, 2,    0.000, 2,    0.000, 2, -999.000, 9,   -999.0, 9,   -999.0, 9, -999.0000,   -999.00,   -999.0, 9,   -999.0,  -999.00, 9,   -999.0,   0.8785, 27.8150,   1.2657, 2, 9, 0.39, 0.13, 0.01, 0.016,  -999.00, 1, -999.00, -999.00, 9, -999.00
49NZ20071122, P14N, 144, 1, 5, X12014, 2, 20071202, 0354, -0.2453, 178.9933, 5441,   4921.5, 2,   1.2556, 2,  34.7048, 2,  34.7044, 2,    191.1, 2,    191.0, 2,   123.16, 2,    33.30, 2,     0.00, 2,     2.31, 2,    0.000, 2,    0.000, 2,    0.000, 2, -999.000, 9,   -999.0, 9,   -999.0, 9, -999.0000,   -999.00,   -999.0, 9,   -999.0,  -999.00, 9,   -999.0,   0.8389, 27.8186,   1.2556, 2, 9, 0.39, 0.13, 0.01, 0.016,  -999.00, 1, -999.00, -999.00, 9, -999.00
49NZ20071122, P14N, 144, 1, 4, X12006, 2, 20071202, 0354, -0.2453, 178.9933, 5441,   5171.1, 2,   1.2749, 2,  34.7053, 2,  34.7053, 2,    192.5, 2,    192.5, 2,   122.34, 2,    33.23, 2,    -0.01, 2,     2.31, 2,    0.000, 2,    0.000, 2,    0.000, 2, -999.000, 9,   -999.0, 9,   -999.0, 9, -999.0000,   -999.00,   -999.0, 9,   -999.0,  -999.00, 9,   -999.0,   0.8274, 27.8198,   1.2750, 2, 9, 0.39, 0.13, 0.01, 0.016,  -999.00, 1, -999.00, -999.00, 9, -999.00
49NZ20071122, P14N, 144, 1, 3, X12013, 2, 20071202, 0354, -0.2453, 178.9933, 5441,   5418.9, 2,   1.2992, 2,  34.7056, 2,  34.7058, 2,    193.7, 2,    193.5, 2,   121.57, 2,    33.14, 2,    -0.01, 2,     2.30, 2,    0.004, 2,    0.004, 2,    0.000, 2, -999.000, 9,   -999.0, 9,   -999.0, 9, -999.0000,   -999.00,   -999.0, 9,   -999.0,  -999.00, 9,   -999.0,   0.8201, 27.8205,   1.2992, 2, 9, 0.39, 0.13, 0.01, 0.016,  -999.00, 9, -999.00, -999.00, 9, -999.00
49NZ20071122, P14N, 144, 1, 2, X12002, 2, 20071202, 0354, -0.2453, 178.9933, 5441,   5545.9, 2,   1.3147, 2,  34.7057, 2, -999.0000, 9,    193.7, 2,   -999.0, 9,  -999.00, 9,  -999.00, 9,  -999.00, 9,  -999.00, 9, -999.000, 9, -999.000, 9, -999.000, 9, -999.000, 9,   -999.0, 9,   -999.0, 9, -999.0000,   -999.00,   -999.0, 9,   -999.0,  -999.00, 9,   -999.0,   0.8189, 27.8207,   1.3147, 2, 9, -999.00, -999.00, -999.00, -999.000,  -999.00, 1, -999.00, -999.00, 9, -999.00
49NZ20071122, P14N, 144, 1, 1, X12001, 2, 20071202, 0354, -0.2453, 178.9933, 5441,   5545.7, 2,   1.3147, 2,  34.7056, 2,  34.7054, 6,    193.7, 2,    193.6, 2,   121.58, 2,    33.09, 2,    -0.01, 2,     2.30, 2,    0.001, 2,    0.001, 2,    0.000, 2, -999.000, 9,   -999.0, 9,   -999.0, 9, -999.0000,   -999.00,   -999.0, 9,   -999.0,  -999.00, 9,   -999.0,   0.8190, 27.8206,   1.3148, 2, 9, 0.39, 0.13, 0.01, 0.016,  -999.00, 1, -999.00, -999.00, 9, -999.00