BOTTLE,20220820CCHSIOAMB
EXPOCODE,SECT_ID,STNNBR,CASTNO,SAMPNO,BTLNBR,BTLNBR_FLAG_W,DATE,TIME,LATITUDE,LONGITUDE,DEPTH,CTDPRS,CTDPRS_FLAG_W,CTDTMP,CTDTMP_FLAG_W,CTDSAL,CTDSAL_FLAG_W,SALNTY,SALNTY_FLAG_W,CTDOXY,CTDOXY_FLAG_W,OXYGEN,OXYGEN_FLAG_W,SILCAT,SILCAT_FLAG_W,NITRAT,NITRAT_FLAG_W,NITRIT,NITRIT_FLAG_W,PHSPHT,PHSPHT_FLAG_W,CFC-11,CFC-11_FLAG_W,CFC-12,CFC-12_FLAG_W,CFC113,CFC113_FLAG_W,CCL4,CCL4_FLAG_W,TCARBN,TCARBN_FLAG_W,ALKALI,ALKALI_FLAG_W,PH_TOT,PH_TMP,DELC14,DELC14_FLAG_W,C14ERR,DELC13,DELC13_FLAG_W,C13ERR,THETA,SIG0,SBE35,SBE35_FLAG_W,PH_TOT_FLAG_W,SILUNC,NRAUNC,NRIUNC,PHPUNC,CS-137,CS-137_FLAG_W,CS137ER,PLUTO,PLUTO_FLAG_W,PLUTOER
,,,,,,,,,,,METERS,DBAR,,ITS-90,,PSS-78,,PSS-78,,UMOL/KG,,UMOL/KG,,UMOL/KG,,UMOL/KG,,UMOL/KG,,UMOL/KG,,PMOL/KG,,PMOL/KG,,PMOL/KG,,PMOL/KG,,UMOL/KG,,UMOL/KG,,,DEG C,/MILLE,,/MILLE,/MILLE,,/MILLE,DEG C,KG/M^3,ITS-90,,,UMOL/KG,UMOL/KG,UMOL/KG,UMOL/KG,DM/.1MG,,BQ/M^3,MBQ/M^3,,MBQ/M^3
49NZ20071122, P14N, 129, 1, 36, X12042, 2, 20071128, 1402, 3.5013, 179.0023, 5493,      9.2, 2,  27.4635, 2,  35.1142, 2,  35.1197, 2,    203.8, 2,    202.1, 2,     1.61, 2,     2.70, 2,     0.12, 2,     0.38, 2,    1.539, 2,    0.948, 2,    0.183, 4, -999.000, 9,   1999.3, 2,   2310.6, 2,    8.0639,     25.00,   -999.0, 9,   -999.0,  -999.00, 9,   -999.0,  27.4614, 22.6556,  27.4603, 2, 6, 0.12, 0.04, 0.01, 0.013,  -999.00, 9, -999.00, -999.00, 9, -999.00
49NZ20071122, P14N, 129, 1, 35, X12041, 2, 20071128, 1402, 3.5013, 179.0023, 5493,     50.5, 2,  27.1065, 2,  35.1591, 2,  35.1603, 2,    194.8, 2,    196.5, 2,     1.69, 2,     3.09, 2,     0.26, 2,     0.45, 2,    1.569, 2,    0.958, 2,    0.183, 4, -999.000, 9,   2012.9, 6,   2311.5, 2,    8.0476,     25.00,   -999.0, 9,   -999.0,  -999.00, 9,   -999.0,  27.0949, 22.8073,  27.1060, 2, 2, 0.12, 0.04, 0.01, 0.013,  -999.00, 9, -999.00, -999.00, 9, -999.00
49NZ20071122, P14N, 129, 1, 34, X12016, 2, 20071128, 1402, 3.5013, 179.0023, 5493,    100.7, 2,  26.8082, 2,  35.1809, 2,  35.1809, 2,    197.1, 2,    195.7, 2,     1.84, 2,     3.44, 2,     0.46, 2,     0.49, 2,    1.592, 2,    0.974, 2,    0.207, 4, -999.000, 9,   2020.8, 2,   2314.9, 6,    8.0377,     25.00,   -999.0, 9,   -999.0,  -999.00, 9,   -999.0,  26.7852, 22.9225,  26.8066, 2, 2, 0.12, 0.04, 0.00, 0.013,  -999.00, 9, -999.00, -999.00, 9, -999.00
49NZ20071122, P14N, 129, 1, 33, X12033, 2, 20071128, 1402, 3.5013, 179.0023, 5493,    150.0, 2,  26.2990, 2,  35.2003, 2,  35.2011, 2,    190.5, 2,    190.1, 2,     2.17, 2,     4.30, 2,     0.93, 2,     0.55, 2,    1.630, 6,    0.984, 6,    0.198, 4, -999.000, 9,   2033.3, 2,   2314.7, 2,    8.0173,     25.00,   -999.0, 9,   -999.0,  -999.00, 9,   -999.0,  26.2652, 23.1015,  26.2971, 2, 6, 0.12, 0.04, 0.00, 0.013,  -999.00, 9, -999.00, -999.00, 9, -999.00
49NZ20071122, P14N, 129, 1, 32, X12038, 2, 20071128, 1402, 3.5013, 179.0023, 5493,    200.2, 2,  15.9962, 2,  34.6803, 2,  34.6827, 2,    126.0, 2,    127.9, 2,    13.66, 2,    15.10, 2,     0.02, 2,     1.15, 2,    1.967, 2,    1.059, 2,    0.043, 2, -999.000, 9,   2122.2, 2,   2289.2, 2,    7.7994,     25.00,   -999.0, 9,   -999.0,  -999.00, 9,   -999.0,  15.9646, 25.5098,  15.9660, 2, 2, 0.15, 0.08, 0.01, 0.013,  -999.00, 9, -999.00, -999.00, 9, -999.00
49NZ20071122, P14N, 129, 1, 31, X12003, 2, 20071128, 1402, 3.5013, 179.0023, 5493,    249.6, 2,  11.3163, 2,  34.7092, 2,  34.7112, 6,    123.7, 2,    123.3, 2,    23.58, 2,    23.11, 2,     0.01, 2,     1.69, 2,    1.299, 2,    0.677, 2,    0.017, 2, -999.000, 9,   2175.4, 2,   2303.3, 2,    7.6983,     25.00,   -999.0, 9,   -999.0,  -999.00, 9,   -999.0,  11.2850, 26.4971,  11.3169, 2, 2, 0.17, 0.10, 0.01, 0.014,  -999.00, 9, -999.00, -999.00, 9, -999.00
49NZ20071122, P14N, 129, 1, 30, X12008, 2, 20071128, 1402, 3.5013, 179.0023, 5493,    279.6, 2,  11.1037, 2,  34.7409, 2,  34.7408, 2,    106.9, 2,    120.0, 2,    23.00, 2,    23.93, 2,     0.01, 2,     1.74, 2,    1.207, 2,    0.620, 2,    0.017, 2, -999.000, 9,   2181.2, 2,   2305.2, 2,    7.6879,     25.00,   -999.0, 9,   -999.0,  -999.00, 9,   -999.0,  11.0690, 26.5613,  11.1045, 2, 2, 0.17, 0.10, 0.01, 0.014,  -999.00, 9, -999.00, -999.00, 9, -999.00
49NZ20071122, P14N, 129, 1, 29, X12035, 2, 20071128, 1402, 3.5013, 179.0023, 5493,    370.4, 2,   9.9797, 2,  34.7184, 2,  34.7171, 2,     82.5, 2,     84.5, 2,    26.63, 2,    29.83, 2,     0.01, 2,     2.11, 2,    0.682, 2,    0.350, 2,    0.012, 2, -999.000, 9,   2217.1, 2,   2304.7, 2,    7.5960,     25.00,   -999.0, 9,   -999.0,  -999.00, 9,   -999.0,   9.9365, 26.7429,   9.9804, 2, 2, 0.18, 0.12, 0.01, 0.015,  -999.00, 9, -999.00, -999.00, 9, -999.00
49NZ20071122, P14N, 129, 1, 28, X12034, 2, 20071128, 1402, 3.5013, 179.0023, 5493,    470.5, 2,   8.9194, 2,  34.6322, 2,  34.6308, 6,    102.9, 2,    102.5, 2,    31.34, 2,    29.89, 2,     0.01, 2,     2.13, 2,    0.612, 2,    0.313, 2,    0.012, 2, -999.000, 9,   2215.5, 2,   2305.4, 2,    7.6038,     25.00,   -999.0, 9,   -999.0,  -999.00, 9,   -999.0,   8.8680, 26.8512,   8.9203, 2, 2, 0.19, 0.12, 0.01, 0.015,  -999.00, 9, -999.00, -999.00, 9, -999.00
49NZ20071122, P14N, 129, 1, 27, X12049, 2, 20071128, 1402, 3.5013, 179.0023, 5493,    568.4, 2,   8.0159, 2,  34.5983, 2,  34.5961, 2,     76.5, 2,     76.5, 2,    38.46, 2,    34.33, 2,     0.01, 2,     2.44, 2,    0.261, 2,    0.135, 2,    0.007, 2, -999.000, 9,   2243.0, 2,   2310.6, 2,    7.5361,     25.00,   -999.0, 9,   -999.0,  -999.00, 9,   -999.0,   7.9573, 26.9647,   8.0165, 2, 2, 0.20, 0.13, 0.01, 0.016,  -999.00, 9, -999.00, -999.00, 9, -999.00
49NZ20071122, P14N, 129, 1, 26, X12032, 2, 20071128, 1402, 3.5013, 179.0023, 5493,    668.8, 2,   7.0840, 2,  34.5716, 2,  34.5708, 2,     52.8, 2,     55.7, 2,    48.55, 2,    38.40, 2,     0.01, 2,     2.76, 2,    0.076, 6,    0.041, 6,    0.004, 6, -999.000, 9,   2272.0, 6,   2318.6, 2,    7.4800,     25.00,   -999.0, 9,   -999.0,  -999.00, 9,   -999.0,   7.0192, 27.0786,   7.0855, 2, 2, 0.23, 0.14, 0.01, 0.017,  -999.00, 9, -999.00, -999.00, 9, -999.00
49NZ20071122, P14N, 129, 1, 25, X12043, 2, 20071128, 1402, 3.5013, 179.0023, 5493,    771.5, 2,   5.8516, 2,  34.5497, 2,  34.5493, 2,     61.5, 2,     63.0, 2,    62.13, 2,    40.09, 2,     0.01, 2,     2.87, 2,    0.017, 2,    0.007, 2,    0.000, 2, -999.000, 9,   2287.3, 2,   2334.9, 6,    7.4743,     25.00,   -999.0, 9,   -999.0,  -999.00, 9,   -999.0,   5.7835, 27.2241,   5.8534, 2, 2, 0.26, 0.15, 0.01, 0.017,  -999.00, 9, -999.00, -999.00, 9, -999.00
49NZ20071122, P14N, 129, 1, 24, X12030, 2, 20071128, 1402, 3.5013, 179.0023, 5493,    868.9, 2,   5.3692, 2,  34.5475, 2,  34.5471, 2,     68.3, 2,     69.7, 2,    69.39, 2,    39.98, 2,     0.01, 2,     2.86, 2,    0.008, 2,    0.007, 2,    0.000, 2, -999.000, 9,   2292.2, 2,   2340.6, 2,    7.4801,     25.00,   -999.0, 9,   -999.0,  -999.00, 9,   -999.0,   5.2951, 27.2819,   5.3734, 2, 6, 0.27, 0.14, 0.01, 0.017,  -999.00, 9, -999.00, -999.00, 9, -999.00
49NZ20071122, P14N, 129, 1, 23, X12027, 2, 20071128, 1402, 3.5013, 179.0023, 5493,    972.8, 2,   4.9077, 2,  34.5510, 2,  34.5509, 6,     73.9, 2,     73.9, 2,    77.58, 2,    40.06, 2,     0.00, 2,     2.87, 2,    0.004, 2,    0.002, 2,    0.000, 2, -999.000, 9,   2298.3, 2,   2350.9, 2,    7.4838,     25.00,   -999.0, 9,   -999.0,  -999.00, 9,   -999.0,   4.8275, 27.3391,   4.9080, 2, 2, 0.29, 0.14, 0.01, 0.017,  -999.00, 9, -999.00, -999.00, 9, -999.00
49NZ20071122, P14N, 129, 1, 22, X12028, 2, 20071128, 1402, 3.5013, 179.0023, 5493,   1130.8, 2,   4.2778, 2,  34.5630, 2,  34.5631, 2,     79.2, 2,     79.8, 2,    90.29, 2,    40.07, 2,     0.00, 2,     2.89, 2,    0.000, 2,    0.000, 2,    0.000, 2, -999.000, 9,   2311.1, 2,   2364.8, 2,    7.4929,     25.00,   -999.0, 9,   -999.0,  -999.00, 9,   -999.0,   4.1886, 27.4187,   4.2780, 2, 2, 0.32, 0.15, 0.01, 0.017,  -999.00, 9, -999.00, -999.00, 9, -999.00
49NZ20071122, P14N, 129, 1, 21, X12009, 2, 20071128, 1402, 3.5013, 179.0023, 5493,   1331.1, 2,   3.6675, 2,  34.5807, 2,  34.5808, 2,     82.1, 2,     82.5, 2,   104.45, 2,    40.33, 2,     0.00, 2,     2.90, 2,    0.000, 2,    0.000, 2,    0.000, 2, -999.000, 9,   2325.6, 2,   2379.2, 2,    7.4935,     25.00,   -999.0, 9,   -999.0,  -999.00, 9,   -999.0,   3.5667, 27.4964,   3.6676, 2, 2, 0.35, 0.15, 0.01, 0.017,  -999.00, 9, -999.00, -999.00, 9, -999.00
49NZ20071122, P14N, 129, 1, 20, X12026, 2, 20071128, 1402, 3.5013, 179.0023, 5493,   1529.4, 2,   3.1134, 2,  34.6006, 2,  34.6012, 2,     86.6, 2,     86.5, 2,   117.67, 2,    40.30, 2,     0.00, 2,     2.90, 2,    0.000, 2,    0.000, 2,    0.000, 2, -999.000, 9,   2337.7, 2,   2393.2, 2,    7.4966,     25.00,   -999.0, 9,   -999.0,  -999.00, 9,   -999.0,   3.0017, 27.5661,   3.1130, 2, 6, 0.38, 0.15, 0.01, 0.017,  -999.00, 9, -999.00, -999.00, 9, -999.00
49NZ20071122, P14N, 129, 1, 19, X12025, 2, 20071128, 1402, 3.5013, 179.0023, 5493,   1731.1, 2,   2.6541, 2,  34.6193, 2,  34.6194, 2,     96.6, 2,     96.8, 2,   127.30, 2,    39.76, 2,     0.00, 2,     2.84, 2, -999.000, 9, -999.000, 9, -999.000, 9, -999.000, 9,   2341.1, 2,   2404.3, 2,    7.5131,     25.00,   -999.0, 9,   -999.0,  -999.00, 9,   -999.0,   2.5310, 27.6228,   2.6541, 2, 2, 0.40, 0.14, 0.01, 0.017,  -999.00, 9, -999.00, -999.00, 9, -999.00
49NZ20071122, P14N, 129, 1, 18, X12024, 2, 20071128, 1402, 3.5013, 179.0023, 5493,   1931.4, 2,   2.3961, 2,  34.6326, 2,  34.6332, 2,    102.2, 2,    101.9, 2,   133.59, 2,    39.48, 2,     0.00, 2,     2.82, 2, -999.000, 9, -999.000, 9, -999.000, 9, -999.000, 9,   2347.5, 2,   2411.8, 2,    7.5224,     25.00,   -999.0, 9,   -999.0,  -999.00, 9,   -999.0,   2.2596, 27.6564,   2.3956, 2, 2, 0.41, 0.14, 0.01, 0.017,  -999.00, 9, -999.00, -999.00, 9, -999.00
49NZ20071122, P14N, 129, 1, 17, X12023, 2, 20071128, 1402, 3.5013, 179.0023, 5493,   2132.9, 2,   2.1267, 2,  34.6465, 2,  34.6472, 6,    110.5, 2,    110.4, 2,   139.02, 2,    38.89, 2,     0.00, 2,     2.76, 2,    0.000, 2,    0.000, 2,    0.000, 2, -999.000, 9,   2348.4, 2,   2419.1, 2,    7.5366,     25.00,   -999.0, 9,   -999.0,  -999.00, 9,   -999.0,   1.9769, 27.6903,   2.1260, 2, 2, 0.42, 0.14, 0.01, 0.017,  -999.00, 9, -999.00, -999.00, 9, -999.00
49NZ20071122, P14N, 129, 1, 16, X12022, 2, 20071128, 1402, 3.5013, 179.0023, 5493,   2332.1, 2,   1.9605, 2,  34.6568, 2,  34.6569, 2,    113.5, 2,    113.5, 2,   143.95, 2,    38.77, 2,     0.00, 2,     2.74, 2, -999.000, 9, -999.000, 9, -999.000, 9, -999.000, 9,   2351.5, 6,   2423.4, 2,    7.5424,     25.00,   -999.0, 9,   -999.0,  -999.00, 9,   -999.0,   1.7960, 27.7127,   1.9605, 2, 2, 0.44, 0.14, 0.01, 0.017,  -999.00, 9, -999.00, -999.00, 9, -999.00
49NZ20071122, P14N, 129, 1, 15, X12021, 2, 20071128, 1402, 3.5013, 179.0023, 5493,   2529.4, 2,   1.8493, 2,  34.6631, 2,  34.6631, 2,    120.1, 2,    120.2, 2,   144.59, 2,    38.33, 2,     0.00, 2,     2.71, 2, -999.000, 9, -999.000, 9, -999.000, 9, -999.000, 9,   2347.2, 2,   2424.6, 6,    7.5524,     25.00,   -999.0, 9,   -999.0,  -999.00, 9,   -999.0,   1.6691, 27.7273,   1.8498, 2, 2, 0.44, 0.14, 0.01, 0.017,  -999.00, 9, -999.00, -999.00, 9, -999.00
49NZ20071122, P14N, 129, 1, 14, X12020, 2, 20071128, 1402, 3.5013, 179.0023, 5493,   2731.6, 2,   1.7484, 2,  34.6681, 2,  34.6681, 2,    126.8, 2,    126.8, 2,   144.86, 2,    37.86, 2,     0.00, 2,     2.66, 2,    0.000, 2,    0.000, 2,    0.000, 2, -999.000, 9,   2345.2, 2,   2423.8, 2,    7.5623,     25.00,   -999.0, 9,   -999.0,  -999.00, 9,   -999.0,   1.5516, 27.7401,   1.7483, 2, 2, 0.44, 0.14, 0.01, 0.017,  -999.00, 9, -999.00, -999.00, 9, -999.00
49NZ20071122, P14N, 129, 1, 13, X12019, 2, 20071128, 1402, 3.5013, 179.0023, 5493,   2930.6, 2,   1.6884, 2,  34.6714, 2,  34.6718, 2,    131.6, 2,    131.6, 2,   144.47, 2,    37.53, 2,     0.00, 2,     2.64, 2, -999.000, 9, -999.000, 9, -999.000, 9, -999.000, 9,   2341.7, 2,   2423.7, 2,    7.5688,     25.00,   -999.0, 9,   -999.0,  -999.00, 9,   -999.0,   1.4741, 27.7483,   1.6884, 2, 2, 0.44, 0.14, 0.01, 0.017,  -999.00, 9, -999.00, -999.00, 9, -999.00
49NZ20071122, P14N, 129, 1, 12, X12040, 2, 20071128, 1402, 3.5013, 179.0023, 5493,   3170.4, 2,   1.5980, 2,  34.6762, 2,  34.6765, 2,    139.4, 2,    139.8, 2,   142.99, 2,    36.92, 2,     0.00, 2,     2.58, 2, -999.000, 9, -999.000, 9, -999.000, 9, -999.000, 9,   2335.8, 2,   2423.2, 2,    7.5793,     25.00,   -999.0, 9,   -999.0,  -999.00, 9,   -999.0,   1.3625, 27.7602,   1.5981, 2, 2, 0.43, 0.14, 0.01, 0.016,  -999.00, 9, -999.00, -999.00, 9, -999.00
49NZ20071122, P14N, 129, 1, 11, X12047, 2, 20071128, 1402, 3.5013, 179.0023, 5493,   3421.2, 2,   1.5325, 2,  34.6811, 2,  34.6812, 2,    147.5, 2,    147.4, 2,   140.99, 2,    36.44, 2,     0.00, 2,     2.56, 2,    0.000, 2,    0.000, 2,    0.000, 2, -999.000, 9,   2328.6, 2,   2419.6, 2,    7.5887,     25.00,   -999.0, 9,   -999.0,  -999.00, 9,   -999.0,   1.2736, 27.7704,   1.5325, 2, 2, 0.43, 0.13, 0.01, 0.016,  -999.00, 9, -999.00, -999.00, 9, -999.00
49NZ20071122, P14N, 129, 1, 10, X12012, 2, 20071128, 1402, 3.5013, 179.0023, 5493,   3670.0, 2,   1.4864, 2,  34.6855, 2,  34.6851, 2,    153.9, 2,    153.7, 2,   138.84, 2,    35.96, 2,     0.00, 2,     2.51, 2, -999.000, 9, -999.000, 9, -999.000, 9, -999.000, 9,   2321.5, 2,   2417.7, 2,    7.5969,     25.00,   -999.0, 9,   -999.0,  -999.00, 9,   -999.0,   1.2030, 27.7788,   1.4863, 2, 2, 0.42, 0.13, 0.01, 0.016,  -999.00, 9, -999.00, -999.00, 9, -999.00
49NZ20071122, P14N, 129, 1, 9, X12015, 2, 20071128, 1402, 3.5013, 179.0023, 5493,   3920.5, 2,   1.4466, 2,  34.6892, 2,  34.6893, 6,    160.4, 2,    160.1, 2,   137.06, 2,    35.56, 2,     0.00, 2,     2.48, 2, -999.000, 9, -999.000, 9, -999.000, 9, -999.000, 9,   2317.3, 2,   2416.1, 2,    7.6040,     25.00,   -999.0, 9,   -999.0,  -999.00, 9,   -999.0,   1.1378, 27.7863,   1.4468, 2, 2, 0.42, 0.13, 0.01, 0.016,  -999.00, 9, -999.00, -999.00, 9, -999.00
49NZ20071122, P14N, 129, 1, 8, X12046, 2, 20071128, 1402, 3.5013, 179.0023, 5493,   4170.6, 2,   1.3189, 2,  34.6974, 2,  34.6975, 2,    174.3, 2,    174.3, 2,   131.78, 2,    34.59, 2,     0.00, 2,     2.41, 2,    0.000, 2,    0.000, 2,    0.000, 2, -999.000, 9,   2304.2, 6,   2405.6, 2,    7.6178,     25.00,   -999.0, 9,   -999.0,  -999.00, 9,   -999.0,   0.9864, 27.8031,   1.3189, 2, 2, 0.41, 0.13, 0.01, 0.016,  -999.00, 9, -999.00, -999.00, 9, -999.00
49NZ20071122, P14N, 129, 1, 7, X12044, 2, 20071128, 1402, 3.5013, 179.0023, 5493,   4421.0, 2,   1.2630, 2,  34.7017, 2,  34.7020, 2,    183.0, 2,    182.9, 2,   127.56, 2,    33.97, 2,     0.00, 2,     2.37, 2, -999.000, 9, -999.000, 9, -999.000, 9, -999.000, 9,   2293.8, 2,   2398.9, 6,    7.6243,     25.00,   -999.0, 9,   -999.0,  -999.00, 9,   -999.0,   0.9043, 27.8120,   1.2628, 2, 2, 0.40, 0.13, 0.01, 0.016,  -999.00, 9, -999.00, -999.00, 9, -999.00
49NZ20071122, P14N, 129, 1, 6, X12048, 2, 20071128, 1402, 3.5013, 179.0023, 5493,   4669.9, 2,   1.2581, 2,  34.7036, 2,  34.7041, 2,    187.0, 2,    186.7, 2,   125.56, 2,    33.69, 2,     0.00, 2,     2.34, 2,    0.000, 2,    0.000, 2,    0.000, 2, -999.000, 9,   2288.6, 2,   2395.8, 2,    7.6274,     25.00,   -999.0, 9,   -999.0,  -999.00, 9,   -999.0,   0.8710, 27.8156,   1.2581, 2, 6, 0.40, 0.13, 0.01, 0.016,  -999.00, 9, -999.00, -999.00, 9, -999.00
49NZ20071122, P14N, 129, 1, 5, X12014, 2, 20071128, 1402, 3.5013, 179.0023, 5493,   4921.1, 2,   1.2699, 2,  34.7044, 2,  34.7046, 2,    189.2, 2,    189.1, 2,   124.25, 2,    33.51, 2,     0.00, 2,     2.33, 2,    0.000, 2,    0.000, 2,    0.000, 2, -999.000, 9,   2286.7, 2,   2391.5, 2,    7.6277,     25.00,   -999.0, 9,   -999.0,  -999.00, 9,   -999.0,   0.8528, 27.8175,   1.2697, 2, 2, 0.39, 0.13, 0.01, 0.016,  -999.00, 9, -999.00, -999.00, 9, -999.00
49NZ20071122, P14N, 129, 1, 4, X12006, 2, 20071128, 1402, 3.5013, 179.0023, 5493,   5171.1, 2,   1.2928, 2,  34.7049, 2,  34.7053, 2,    190.4, 2,    190.2, 2,   123.50, 2,    33.35, 2,     0.00, 2,     2.32, 2,    0.000, 2,    0.000, 2,    0.000, 2, -999.000, 9,   2285.2, 2,   2389.8, 2,    7.6269,     25.00,   -999.0, 9,   -999.0,  -999.00, 9,   -999.0,   0.8447, 27.8184,   1.2927, 2, 2, 0.39, 0.13, 0.01, 0.016,  -999.00, 9, -999.00, -999.00, 9, -999.00
49NZ20071122, P14N, 129, 1, 3, X12013, 2, 20071128, 1402, 3.5013, 179.0023, 5493,   5420.3, 2,   1.3194, 2,  34.7051, 2,  34.7060, 2,    191.3, 2,    191.2, 2,   122.93, 2,    33.27, 2,     0.00, 2,     2.32, 2, -999.000, 9, -999.000, 9, -999.000, 9, -999.000, 9,   2282.2, 2,   2388.6, 2,    7.6276,     25.00,   -999.0, 9,   -999.0,  -999.00, 9,   -999.0,   0.8394, 27.8189,   1.3193, 2, 2, 0.39, 0.13, 0.01, 0.016,  -999.00, 9, -999.00, -999.00, 9, -999.00
49NZ20071122, P14N, 129, 1, 2, X12002, 9, 20071128, 1402, 3.5013, 179.0023, 5493,      9.3, 2,  27.4690, 2,  35.1193, 2, -999.0000, 9,    203.6, 2,   -999.0, 9,  -999.00, 9,  -999.00, 9,  -999.00, 9,  -999.00, 9, -999.000, 9, -999.000, 9, -999.000, 9, -999.000, 9,   -999.0, 9,   -999.0, 9, -999.0000,   -999.00,   -999.0, 9,   -999.0,  -999.00, 9,   -999.0,  27.4668, 22.6577,  27.4659, 2, 9, -999.00, -999.00, -999.00, -999.000,  -999.00, 9, -999.00, -999.00, 9, -999.00
49NZ20071122, P14N, 129, 1, 1, X12001, 2, 20071128, 1402, 3.5013, 179.0023, 5493,   5590.5, 2,   1.3407, 2,  34.7051, 2,  34.7056, 6,    191.2, 2,    191.1, 2,   122.90, 2,    33.36, 2,     0.01, 2,     2.32, 2,    0.000, 2,    0.000, 2,    0.000, 2, -999.000, 9,   2283.2, 2,   2388.6, 2,    7.6275,     25.00,   -999.0, 9,   -999.0,  -999.00, 9,   -999.0,   0.8383, 27.8190,   1.3406, 2, 2, 0.39, 0.13, 0.01, 0.016,  -999.00, 9, -999.00, -999.00, 9, -999.00