BOTTLE,20220820CCHSIOAMB
EXPOCODE,SECT_ID,STNNBR,CASTNO,SAMPNO,BTLNBR,BTLNBR_FLAG_W,DATE,TIME,LATITUDE,LONGITUDE,DEPTH,CTDPRS,CTDPRS_FLAG_W,CTDTMP,CTDTMP_FLAG_W,CTDSAL,CTDSAL_FLAG_W,SALNTY,SALNTY_FLAG_W,CTDOXY,CTDOXY_FLAG_W,OXYGEN,OXYGEN_FLAG_W,SILCAT,SILCAT_FLAG_W,NITRAT,NITRAT_FLAG_W,NITRIT,NITRIT_FLAG_W,PHSPHT,PHSPHT_FLAG_W,CFC-11,CFC-11_FLAG_W,CFC-12,CFC-12_FLAG_W,CFC113,CFC113_FLAG_W,CCL4,CCL4_FLAG_W,TCARBN,TCARBN_FLAG_W,ALKALI,ALKALI_FLAG_W,PH_TOT,PH_TMP,DELC14,DELC14_FLAG_W,C14ERR,DELC13,DELC13_FLAG_W,C13ERR,THETA,SIG0,SBE35,SBE35_FLAG_W,PH_TOT_FLAG_W,SILUNC,NRAUNC,NRIUNC,PHPUNC,CS-137,CS-137_FLAG_W,CS137ER,PLUTO,PLUTO_FLAG_W,PLUTOER
,,,,,,,,,,,METERS,DBAR,,ITS-90,,PSS-78,,PSS-78,,UMOL/KG,,UMOL/KG,,UMOL/KG,,UMOL/KG,,UMOL/KG,,UMOL/KG,,PMOL/KG,,PMOL/KG,,PMOL/KG,,PMOL/KG,,UMOL/KG,,UMOL/KG,,,DEG C,/MILLE,,/MILLE,/MILLE,,/MILLE,DEG C,KG/M^3,ITS-90,,,UMOL/KG,UMOL/KG,UMOL/KG,UMOL/KG,DM/.1MG,,BQ/M^3,MBQ/M^3,,MBQ/M^3
49NZ20071122, P14, 15, 1, 36, X12042, 2, 20071220, 1552, -30.8795, 175.8580, 4154,     11.0, 2,  21.7769, 2,  35.6536, 2,  35.6539, 2,    223.9, 2,    221.8, 2,     0.69, 2,     0.04, 2,     0.01, 2,     0.09, 2,    2.034, 2,    1.218, 2,    0.343, 4, -999.000, 9,   2029.2, 2,   2336.8, 2,    8.0454,     25.00,   -999.0, 9,   -999.0,  -999.00, 9,   -999.0,  21.7747, 24.7776,  21.7770, 2, 6, 0.12, 0.03, 0.01, 0.023,  -999.00, 9, -999.00, -999.00, 9, -999.00
49NZ20071122, P14, 15, 1, 35, X12041, 2, 20071220, 1552, -30.8795, 175.8580, 4154,     49.0, 2,  20.6517, 2,  35.6496, 2,  35.6554, 2,    228.2, 2,    228.1, 2,     0.74, 2,     0.05, 2,     0.01, 2,     0.10, 2,    2.119, 2,    1.264, 2,    0.429, 4, -999.000, 9,   2030.0, 6,   2337.6, 2,    8.0432,     25.00,   -999.0, 9,   -999.0,  -999.00, 9,   -999.0,  20.6424, 25.0856,  20.6522, 2, 2, 0.12, 0.03, 0.01, 0.023,  -999.00, 9, -999.00, -999.00, 9, -999.00
49NZ20071122, P14, 15, 1, 34, X12016, 2, 20071220, 1552, -30.8795, 175.8580, 4154,    100.0, 2,  18.1011, 2,  35.7123, 2,  35.7088, 2,    218.7, 2,    220.8, 2,     0.88, 2,     1.04, 2,     0.11, 2,     0.22, 2,    2.306, 2,    1.347, 2,    0.255, 4, -999.000, 9,   2061.1, 2,   2341.0, 6,    7.9966,     25.00,   -999.0, 9,   -999.0,  -999.00, 9,   -999.0,  18.0838, 25.7970,  18.1040, 2, 2, 0.12, 0.04, 0.01, 0.015,  -999.00, 9, -999.00, -999.00, 9, -999.00
49NZ20071122, P14, 15, 1, 33, X12033, 2, 20071220, 1552, -30.8795, 175.8580, 4154,    150.8, 2,  17.1462, 2,  35.6080, 2,  35.6100, 2,    202.4, 2,    205.2, 2,     1.32, 2,     4.23, 2,     0.02, 2,     0.40, 2,    2.370, 6,    1.367, 6,    0.138, 4, -999.000, 9,   2078.6, 2,   2334.5, 2,    7.9581,     25.00,   -999.0, 9,   -999.0,  -999.00, 9,   -999.0,  17.1211, 25.9521,  17.1473, 2, 6, 0.12, 0.04, 0.01, 0.013,  -999.00, 9, -999.00, -999.00, 9, -999.00
49NZ20071122, P14, 15, 1, 32, X12038, 2, 20071220, 1552, -30.8795, 175.8580, 4154,    202.2, 2,  15.9802, 2,  35.4696, 2,  35.4689, 2,    197.8, 2,    197.5, 2,     1.91, 2,     6.48, 2,     0.01, 2,     0.55, 2,    2.437, 2,    1.377, 2,    0.075, 2, -999.000, 9,   2090.2, 2,   2326.0, 2,    7.9209,     25.00,   -999.0, 9,   -999.0,  -999.00, 9,   -999.0,  15.9481, 26.1209,  15.9807, 2, 2, 0.12, 0.05, 0.01, 0.013,  -999.00, 9, -999.00, -999.00, 9, -999.00
49NZ20071122, P14, 15, 1, 31, X12003, 2, 20071220, 1552, -30.8795, 175.8580, 4154,    250.4, 2,  15.1335, 2,  35.3896, 2,  35.3905, 6,    197.6, 2,    200.7, 2,     2.31, 2,     7.50, 2,     0.01, 2,     0.62, 2,    2.501, 2,    1.400, 2,    0.091, 2, -999.000, 9,   2098.0, 2,   2322.9, 2,    7.9030,     25.00,   -999.0, 9,   -999.0,  -999.00, 9,   -999.0,  15.0952, 26.2514,  15.1365, 2, 2, 0.12, 0.05, 0.01, 0.013,  -999.00, 9, -999.00, -999.00, 9, -999.00
49NZ20071122, P14, 15, 1, 30, X12008, 2, 20071220, 1552, -30.8795, 175.8580, 4154,    300.7, 2,  13.9760, 2,  35.2538, 2,  35.2535, 2,    199.9, 2,    199.8, 2,     3.01, 2,     9.59, 2,     0.01, 2,     0.75, 2,    2.557, 2,    1.417, 2,    0.087, 2, -999.000, 9,   2108.2, 2,   2317.1, 2,    7.8715,     25.00,   -999.0, 9,   -999.0,  -999.00, 9,   -999.0,  13.9323, 26.3976,  13.9793, 2, 2, 0.13, 0.06, 0.01, 0.013,  -999.00, 9, -999.00, -999.00, 9, -999.00
49NZ20071122, P14, 15, 1, 29, X12035, 2, 20071220, 1552, -30.8795, 175.8580, 4154,    400.5, 2,  11.9692, 2,  35.0032, 2,  35.0026, 2,    200.6, 2,    201.5, 2,     4.26, 2,    13.22, 2,     0.01, 2,     0.99, 2,    2.625, 2,    1.402, 2,    0.094, 2, -999.000, 9,   2123.1, 2,   2305.9, 2,    7.8220,     25.00,   -999.0, 9,   -999.0,  -999.00, 9,   -999.0,  11.9166, 26.6075,  11.9697, 2, 2, 0.13, 0.07, 0.01, 0.013,  -999.00, 9, -999.00, -999.00, 9, -999.00
49NZ20071122, P14, 15, 1, 28, X12034, 2, 20071220, 1552, -30.8795, 175.8580, 4154,    500.0, 2,  10.1742, 2,  34.7934, 2,  34.7934, 6,    200.0, 2,    199.3, 2,     6.91, 2,    17.67, 2,     0.01, 2,     1.27, 2,    2.419, 2,    1.254, 2,    0.088, 2, -999.000, 9,   2136.4, 2,   2298.0, 2,    7.7739,     25.00,   -999.0, 9,   -999.0,  -999.00, 9,   -999.0,  10.1148, 26.7710,  10.1804, 2, 2, 0.13, 0.08, 0.01, 0.014,  -999.00, 9, -999.00, -999.00, 9, -999.00
49NZ20071122, P14, 15, 1, 27, X12049, 2, 20071220, 1552, -30.8795, 175.8580, 4154,    601.8, 2,   8.6359, 2,  34.5899, 2,  34.5892, 2,    207.8, 2,    210.7, 2,     7.47, 2,    20.18, 2,     0.01, 2,     1.43, 2,    2.408, 2,    1.213, 2,    0.088, 2, -999.000, 9,   2139.9, 2,   2290.0, 2,    7.7487,     25.00,   -999.0, 9,   -999.0,  -999.00, 9,   -999.0,   8.5710, 26.8647,   8.6411, 2, 2, 0.14, 0.09, 0.01, 0.014,  -999.00, 9, -999.00, -999.00, 9, -999.00
49NZ20071122, P14, 15, 1, 26, X12032, 2, 20071220, 1552, -30.8795, 175.8580, 4154,    702.0, 2,   7.6510, 2,  34.4884, 2,  34.4869, 2,    215.1, 2,    215.6, 2,     9.33, 2,    22.32, 2,     0.01, 2,     1.57, 2,    2.145, 6,    1.052, 6,    0.078, 6, -999.000, 9,   2146.2, 6,   2286.8, 2,    7.7313,     25.00,   -999.0, 9,   -999.0,  -999.00, 9,   -999.0,   7.5800, 26.9337,   7.6515, 2, 2, 0.14, 0.10, 0.01, 0.014,  -999.00, 9, -999.00, -999.00, 9, -999.00
49NZ20071122, P14, 15, 1, 25, X12043, 2, 20071220, 1552, -30.8795, 175.8580, 4154,    800.1, 2,   6.7810, 2,  34.4185, 2,  34.4199, 2,    210.9, 2,    216.2, 2,    12.54, 2,    24.42, 2,     0.01, 2,     1.71, 2,    1.643, 2,    0.802, 2,    0.049, 2, -999.000, 9,   2153.0, 2,   2288.2, 6,    7.7151,     25.00,   -999.0, 9,   -999.0,  -999.00, 9,   -999.0,   6.7048, 27.0010,   6.7826, 2, 2, 0.15, 0.10, 0.01, 0.014,  -999.00, 9, -999.00, -999.00, 9, -999.00
49NZ20071122, P14, 15, 1, 24, X12030, 2, 20071220, 1552, -30.8795, 175.8580, 4154,    900.2, 2,   6.2320, 2,  34.4163, 2,  34.4163, 2,    205.0, 2,    206.3, 2,    19.29, 2,    26.49, 2,     0.00, 2,     1.85, 2,    1.112, 2,    0.543, 2,    0.033, 2, -999.000, 9,   2166.9, 2,   2294.2, 2,    7.6932,     25.00,   -999.0, 9,   -999.0,  -999.00, 9,   -999.0,   6.1494, 27.0723,   6.2324, 2, 2, 0.16, 0.11, 0.01, 0.015,  -999.00, 9, -999.00, -999.00, 9, -999.00
49NZ20071122, P14, 15, 1, 23, X12027, 2, 20071220, 1552, -30.8795, 175.8580, 4154,    999.9, 2,   5.5591, 2,  34.4193, 2,  34.4189, 6,    194.7, 2,    195.4, 2,    28.62, 2,    28.65, 2,     0.00, 2,     2.00, 2,    0.694, 2,    0.346, 2,    0.018, 2, -999.000, 9,   2185.5, 2,   2301.9, 2,    7.6678,     25.00,   -999.0, 9,   -999.0,  -999.00, 9,   -999.0,   5.4717, 27.1592,   5.5607, 2, 2, 0.18, 0.11, 0.01, 0.015,  -999.00, 9, -999.00, -999.00, 9, -999.00
49NZ20071122, P14, 15, 1, 22, X12028, 2, 20071220, 1552, -30.8795, 175.8580, 4154,   1202.4, 2,   4.2733, 2,  34.4397, 2,  34.4399, 2,    179.8, 2,    179.9, 2,    48.47, 2,    31.91, 2,     0.00, 2,     2.23, 2,    0.248, 2,    0.122, 2,    0.011, 2, -999.000, 9,   2218.0, 2,   2321.6, 2,    7.6282,     25.00,   -999.0, 9,   -999.0,  -999.00, 9,   -999.0,   4.1781, 27.3218,   4.2733, 2, 2, 0.23, 0.12, 0.01, 0.016,  -999.00, 9, -999.00, -999.00, 9, -999.00
49NZ20071122, P14, 15, 1, 21, X12009, 2, 20071220, 1552, -30.8795, 175.8580, 4154,   1401.7, 2,   3.5070, 2,  34.5307, 2,  34.5313, 2,    165.9, 2,    165.7, 2,    73.02, 2,    33.34, 2,     0.00, 2,     2.34, 2,    0.137, 2,    0.068, 2,    0.000, 2, -999.000, 9,   2252.5, 2,   2350.1, 2,    7.6115,     25.00,   -999.0, 9,   -999.0,  -999.00, 9,   -999.0,   3.4020, 27.4727,   3.5070, 2, 2, 0.28, 0.13, 0.01, 0.016,  -999.00, 9, -999.00, -999.00, 9, -999.00
49NZ20071122, P14, 15, 1, 20, X12026, 2, 20071220, 1552, -30.8795, 175.8580, 4154,   1600.7, 2,   2.9500, 2,  34.5821, 2,  34.5824, 2,    158.9, 2,    159.0, 2,    89.55, 2,    34.21, 2,     0.01, 2,     2.41, 2,    0.067, 2,    0.034, 2,    0.000, 2, -999.000, 9,   2274.0, 2,   2369.8, 2,    7.6027,     25.00,   -999.0, 9,   -999.0,  -999.00, 9,   -999.0,   2.8343, 27.5665,   2.9492, 2, 6, 0.32, 0.13, 0.01, 0.016,  -999.00, 9, -999.00, -999.00, 9, -999.00
49NZ20071122, P14, 15, 1, 19, X12025, 2, 20071220, 1552, -30.8795, 175.8580, 4154,   1801.6, 2,   2.5383, 2,  34.6144, 2,  34.6141, 2,    154.9, 2,    154.7, 2,   101.27, 2,    34.88, 2,     0.00, 2,     2.46, 2,    0.021, 2,    0.010, 2,    0.000, 2, -999.000, 9,   2286.5, 2,   2380.9, 2,    7.5969,     25.00,   -999.0, 9,   -999.0,  -999.00, 9,   -999.0,   2.4108, 27.6291,   2.5384, 2, 2, 0.34, 0.13, 0.01, 0.016,  -999.00, 9, -999.00, -999.00, 9, -999.00
49NZ20071122, P14, 15, 1, 18, X12024, 2, 20071220, 1552, -30.8795, 175.8580, 4154,   2001.5, 2,   2.3193, 2,  34.6334, 2,  34.6335, 2,    152.9, 2,    153.1, 2,   107.89, 2,    35.18, 2,     0.00, 2,     2.48, 2,    0.006, 2,    0.005, 2,    0.000, 2, -999.000, 9,   2295.7, 2,   2388.4, 2,    7.5945,     25.00,   -999.0, 9,   -999.0,  -999.00, 9,   -999.0,   2.1779, 27.6637,   2.3195, 2, 2, 0.36, 0.13, 0.01, 0.016,  -999.00, 9, -999.00, -999.00, 9, -999.00
49NZ20071122, P14, 15, 1, 17, X12023, 2, 20071220, 1552, -30.8795, 175.8580, 4154,   2201.1, 2,   2.1600, 2,  34.6477, 2,  34.6478, 6,    152.5, 2,    152.5, 2,   112.52, 2,    35.23, 2,     0.00, 2,     2.49, 2,    0.003, 2,    0.003, 2,    0.000, 2, -999.000, 9,   2298.3, 2,   2394.2, 2,    7.5942,     25.00,   -999.0, 9,   -999.0,  -999.00, 9,   -999.0,   2.0037, 27.6892,   2.1601, 2, 2, 0.37, 0.13, 0.01, 0.016,  -999.00, 9, -999.00, -999.00, 9, -999.00
49NZ20071122, P14, 15, 1, 16, X12022, 2, 20071220, 1552, -30.8795, 175.8580, 4154,   2400.6, 2,   2.0197, 2,  34.6604, 2,  34.6604, 2,    152.7, 2,    153.0, 2,   116.17, 2,    35.30, 2,     0.00, 2,     2.50, 2,    0.000, 2,    0.000, 2,    0.000, 2, -999.000, 9,   2302.8, 6,   2397.3, 2,    7.5936,     25.00,   -999.0, 9,   -999.0,  -999.00, 9,   -999.0,   1.8480, 27.7115,   2.0197, 2, 2, 0.37, 0.13, 0.01, 0.016,  -999.00, 9, -999.00, -999.00, 9, -999.00
49NZ20071122, P14, 15, 1, 15, X12021, 2, 20071220, 1552, -30.8795, 175.8580, 4154,   2600.7, 2,   1.9305, 2,  34.6689, 2,  34.6689, 2,    153.0, 2,    153.5, 2,   118.47, 2,    35.32, 2,     0.00, 2,     2.50, 2,    0.000, 2,    0.000, 2,    0.000, 2, -999.000, 9,   2306.0, 2,   2401.6, 6,    7.5951,     25.00,   -999.0, 9,   -999.0,  -999.00, 9,   -999.0,   1.7422, 27.7264,   1.9304, 2, 2, 0.38, 0.13, 0.01, 0.016,  -999.00, 9, -999.00, -999.00, 9, -999.00
49NZ20071122, P14, 15, 1, 14, X12020, 2, 20071220, 1552, -30.8795, 175.8580, 4154,   2800.3, 2,   1.8792, 2,  34.6743, 2,  34.6741, 2,    153.4, 2,    153.9, 2,   120.04, 2,    35.30, 2,     0.00, 2,     2.50, 2,    0.000, 2,    0.000, 2,    0.000, 2, -999.000, 9,   2307.5, 2,   2403.2, 2,    7.5965,     25.00,   -999.0, 9,   -999.0,  -999.00, 9,   -999.0,   1.6733, 27.7360,   1.8793, 2, 6, 0.38, 0.13, 0.01, 0.016,  -999.00, 9, -999.00, -999.00, 9, -999.00
49NZ20071122, P14, 15, 1, 13, X12019, 2, 20071220, 1552, -30.8795, 175.8580, 4154,   3001.8, 2,   1.8556, 2,  34.6774, 2,  34.6772, 2,    153.8, 2,    154.1, 2,   121.05, 2,    35.36, 2,     0.00, 2,     2.50, 2,    0.000, 2,    0.000, 2,    0.000, 2, -999.000, 9,   2308.8, 2,   2405.0, 2,    7.5968,     25.00,   -999.0, 9,   -999.0,  -999.00, 9,   -999.0,   1.6308, 27.7417,   1.8555, 2, 2, 0.39, 0.13, 0.01, 0.016,  -999.00, 9, -999.00, -999.00, 9, -999.00
49NZ20071122, P14, 15, 1, 12, X12040, 2, 20071220, 1552, -30.8795, 175.8580, 4154,   3251.5, 2,   1.8478, 2,  34.6800, 2,  34.6797, 2,    153.8, 2,    154.3, 2,   121.92, 2,    35.24, 2,     0.00, 2,     2.49, 2,    0.000, 2,    0.000, 2,    0.000, 2, -999.000, 9,   2311.4, 2,   2406.2, 2,    7.5979,     25.00,   -999.0, 9,   -999.0,  -999.00, 9,   -999.0,   1.5984, 27.7461,   1.8479, 2, 2, 0.39, 0.13, 0.01, 0.016,  -999.00, 9, -999.00, -999.00, 9, -999.00
49NZ20071122, P14, 15, 1, 11, X12047, 2, 20071220, 1552, -30.8795, 175.8580, 4154,   3500.7, 2,   1.8529, 2,  34.6811, 2,  34.6812, 6,    154.0, 2,    154.4, 2,   122.46, 2,    35.26, 2,     0.00, 2,     2.49, 2,    0.000, 2,    0.000, 2,    0.000, 2, -999.000, 9,   2309.6, 2,   2407.3, 2,    7.5980,     25.00,   -999.0, 9,   -999.0,  -999.00, 9,   -999.0,   1.5778, 27.7486,   1.8528, 2, 2, 0.39, 0.13, 0.01, 0.016,  -999.00, 9, -999.00, -999.00, 9, -999.00
49NZ20071122, P14, 15, 1, 10, X12012, 2, 20071220, 1552, -30.8795, 175.8580, 4154,   3750.6, 2,   1.8658, 2,  34.6818, 2,  34.6821, 2,    154.2, 2,    154.5, 2,   122.87, 2,    35.29, 2,     0.00, 2,     2.50, 2, -999.000, 9, -999.000, 9, -999.000, 9, -999.000, 9,   2311.0, 2,   2407.2, 2,    7.5988,     25.00,   -999.0, 9,   -999.0,  -999.00, 9,   -999.0,   1.5639, 27.7502,   1.8657, 2, 2, 0.39, 0.13, 0.01, 0.016,  -999.00, 9, -999.00, -999.00, 9, -999.00
49NZ20071122, P14, 15, 1, 9, X12015, 2, 20071220, 1552, -30.8795, 175.8580, 4154,   3999.3, 2,   1.8848, 2,  34.6821, 2,  34.6822, 2,    154.6, 2,    154.7, 2,   123.06, 2,    35.34, 2,     0.00, 2,     2.50, 2,    0.000, 2,    0.000, 2,    0.000, 2, -999.000, 9,   2310.6, 2,   2408.0, 2,    7.5996,     25.00,   -999.0, 9,   -999.0,  -999.00, 9,   -999.0,   1.5552, 27.7510,   1.8850, 2, 2, 0.39, 0.13, 0.01, 0.016,  -999.00, 9, -999.00, -999.00, 9, -999.00
49NZ20071122, P14, 15, 1, 8, X12046, 9, 20071220, 1552, -30.8795, 175.8580, 4154,     11.3, 2,  21.7787, 2,  35.6533, 2, -999.0000, 9,    223.8, 2,   -999.0, 9,  -999.00, 9,  -999.00, 9,  -999.00, 9,  -999.00, 9, -999.000, 9, -999.000, 9, -999.000, 9, -999.000, 9,   -999.0, 9,   -999.0, 9, -999.0000,   -999.00,   -999.0, 9,   -999.0,  -999.00, 9,   -999.0,  21.7765, 24.7769,  21.7787, 2, 9, -999.00, -999.00, -999.00, -999.000,  -999.00, 9, -999.00, -999.00, 9, -999.00
49NZ20071122, P14, 15, 1, 7, X12044, 9, 20071220, 1552, -30.8795, 175.8580, 4154,     49.7, 2,  20.6720, 2,  35.6469, 2, -999.0000, 9,    228.3, 2,   -999.0, 9,  -999.00, 9,  -999.00, 9,  -999.00, 9,  -999.00, 9, -999.000, 9, -999.000, 9, -999.000, 9, -999.000, 9,   -999.0, 9,   -999.0, 9, -999.0000,   -999.00,   -999.0, 9,   -999.0,  -999.00, 9,   -999.0,  20.6626, 25.0781,  20.6689, 2, 9, -999.00, -999.00, -999.00, -999.000,  -999.00, 9, -999.00, -999.00, 9, -999.00
49NZ20071122, P14, 15, 1, 6, X12048, 9, 20071220, 1552, -30.8795, 175.8580, 4154,    899.9, 2,   6.2333, 2,  34.4162, 2, -999.0000, 9,    205.0, 2,   -999.0, 9,  -999.00, 9,  -999.00, 9,  -999.00, 9,  -999.00, 9, -999.000, 9, -999.000, 9, -999.000, 9, -999.000, 9,   -999.0, 9,   -999.0, 9, -999.0000,   -999.00,   -999.0, 9,   -999.0,  -999.00, 9,   -999.0,   6.1507, 27.0721,   6.2339, 2, 9, -999.00, -999.00, -999.00, -999.000,  -999.00, 9, -999.00, -999.00, 9, -999.00
49NZ20071122, P14, 15, 1, 5, X12014, 9, 20071220, 1552, -30.8795, 175.8580, 4154,     99.9, 2,  18.0983, 2,  35.7110, 2, -999.0000, 9,    218.7, 2,   -999.0, 9,  -999.00, 9,  -999.00, 9,  -999.00, 9,  -999.00, 9, -999.000, 9, -999.000, 9, -999.000, 9, -999.000, 9,   -999.0, 9,   -999.0, 9, -999.0000,   -999.00,   -999.0, 9,   -999.0,  -999.00, 9,   -999.0,  18.0810, 25.7967,  18.0953, 2, 9, -999.00, -999.00, -999.00, -999.000,  -999.00, 9, -999.00, -999.00, 9, -999.00
49NZ20071122, P14, 15, 1, 4, X12006, 9, 20071220, 1552, -30.8795, 175.8580, 4154,   1202.4, 2,   4.2740, 2,  34.4397, 2, -999.0000, 9,    179.9, 2,   -999.0, 9,  -999.00, 9,  -999.00, 9,  -999.00, 9,  -999.00, 9, -999.000, 9, -999.000, 9, -999.000, 9, -999.000, 9,   -999.0, 9,   -999.0, 9, -999.0000,   -999.00,   -999.0, 9,   -999.0,  -999.00, 9,   -999.0,   4.1788, 27.3218,   4.2742, 2, 9, -999.00, -999.00, -999.00, -999.000,  -999.00, 9, -999.00, -999.00, 9, -999.00
49NZ20071122, P14, 15, 1, 3, X12013, 9, 20071220, 1552, -30.8795, 175.8580, 4154,   3500.7, 2,   1.8529, 2,  34.6812, 2, -999.0000, 9,    154.0, 2,   -999.0, 9,  -999.00, 9,  -999.00, 9,  -999.00, 9,  -999.00, 9, -999.000, 9, -999.000, 9, -999.000, 9, -999.000, 9,   -999.0, 9,   -999.0, 9, -999.0000,   -999.00,   -999.0, 9,   -999.0,  -999.00, 9,   -999.0,   1.5778, 27.7486,   1.8529, 2, 9, -999.00, -999.00, -999.00, -999.000,  -999.00, 9, -999.00, -999.00, 9, -999.00
49NZ20071122, P14, 15, 1, 2, X12002, 9, 20071220, 1552, -30.8795, 175.8580, 4154,   1601.5, 2,   2.9490, 2,  34.5820, 2, -999.0000, 9,    158.8, 2,   -999.0, 9,  -999.00, 9,  -999.00, 9,  -999.00, 9,  -999.00, 9, -999.000, 9, -999.000, 9, -999.000, 9, -999.000, 9,   -999.0, 9,   -999.0, 9, -999.0000,   -999.00,   -999.0, 9,   -999.0,  -999.00, 9,   -999.0,   2.8332, 27.5665,   2.9491, 2, 9, -999.00, -999.00, -999.00, -999.000,  -999.00, 9, -999.00, -999.00, 9, -999.00
49NZ20071122, P14, 15, 1, 1, X12001, 2, 20071220, 1552, -30.8795, 175.8580, 4154,   4206.3, 2,   1.9049, 2,  34.6822, 2,  34.6825, 6,    154.6, 2,    154.4, 2,   123.13, 2,    35.24, 2,     0.00, 2,     2.50, 2,    0.001, 2,    0.000, 2,    0.000, 2, -999.000, 9,   2313.6, 2,   2408.9, 2,    7.5994,     25.00,   -999.0, 9,   -999.0,  -999.00, 9,   -999.0,   1.5514, 27.7514,   1.9050, 2, 2, 0.39, 0.13, 0.01, 0.016,  -999.00, 9, -999.00, -999.00, 9, -999.00