BOTTLE,20220820CCHSIOAMB
EXPOCODE,SECT_ID,STNNBR,CASTNO,SAMPNO,BTLNBR,BTLNBR_FLAG_W,DATE,TIME,LATITUDE,LONGITUDE,DEPTH,CTDPRS,CTDPRS_FLAG_W,CTDTMP,CTDTMP_FLAG_W,CTDSAL,CTDSAL_FLAG_W,SALNTY,SALNTY_FLAG_W,CTDOXY,CTDOXY_FLAG_W,OXYGEN,OXYGEN_FLAG_W,SILCAT,SILCAT_FLAG_W,NITRAT,NITRAT_FLAG_W,NITRIT,NITRIT_FLAG_W,PHSPHT,PHSPHT_FLAG_W,CFC-11,CFC-11_FLAG_W,CFC-12,CFC-12_FLAG_W,CFC113,CFC113_FLAG_W,CCL4,CCL4_FLAG_W,TCARBN,TCARBN_FLAG_W,ALKALI,ALKALI_FLAG_W,PH_TOT,PH_TMP,DELC14,DELC14_FLAG_W,C14ERR,DELC13,DELC13_FLAG_W,C13ERR,THETA,SIG0,SBE35,SBE35_FLAG_W,PH_TOT_FLAG_W,SILUNC,NRAUNC,NRIUNC,PHPUNC,CS-137,CS-137_FLAG_W,CS137ER,PLUTO,PLUTO_FLAG_W,PLUTOER
,,,,,,,,,,,METERS,DBAR,,ITS-90,,PSS-78,,PSS-78,,UMOL/KG,,UMOL/KG,,UMOL/KG,,UMOL/KG,,UMOL/KG,,UMOL/KG,,PMOL/KG,,PMOL/KG,,PMOL/KG,,PMOL/KG,,UMOL/KG,,UMOL/KG,,,DEG C,/MILLE,,/MILLE,/MILLE,,/MILLE,DEG C,KG/M^3,ITS-90,,,UMOL/KG,UMOL/KG,UMOL/KG,UMOL/KG,DM/.1MG,,BQ/M^3,MBQ/M^3,,MBQ/M^3
49NZ20071122, P14N, 162, 1, 36, X12042, 2, 20071207, 0934, -4.7552, 179.0052, 3826,     10.2, 2,  28.1541, 2,  35.7000, 2,  35.7000, 2,    200.0, 2,    199.8, 2,     1.41, 2,     3.02, 2,     0.14, 2,     0.45, 2,    1.501, 2,    0.920, 2,    0.158, 4, -999.000, 9,   2022.8, 2,   2348.9, 2,    8.0752,     25.00,   -999.0, 9,   -999.0,  -999.00, 9,   -999.0,  28.1517, 22.8714,  28.1565, 2, 6, 0.12, 0.04, 0.01, 0.013,  -999.00, 9, -999.00, -999.00, 9, -999.00
49NZ20071122, P14N, 162, 1, 35, X12041, 2, 20071207, 0934, -4.7552, 179.0052, 3826,     50.2, 2,  28.0421, 2,  35.6954, 2,  35.6952, 2,    202.0, 2,    199.7, 2,     1.40, 2,     3.04, 2,     0.14, 2,     0.46, 2,    1.521, 2,    0.939, 2,    0.174, 4, -999.000, 9,   2024.4, 6,   2350.8, 2,    8.0744,     25.00,   -999.0, 9,   -999.0,  -999.00, 9,   -999.0,  28.0302, 22.9078,  28.0411, 2, 2, 0.12, 0.04, 0.01, 0.013,  -999.00, 9, -999.00, -999.00, 9, -999.00
49NZ20071122, P14N, 162, 1, 34, X12016, 2, 20071207, 0934, -4.7552, 179.0052, 3826,    100.4, 2,  27.7507, 2,  35.6645, 2,  35.6653, 2,    198.4, 2,    196.5, 2,     1.45, 2,     3.35, 2,     0.19, 2,     0.50, 2,    1.530, 2,    0.946, 2,    0.171, 4, -999.000, 9,   2032.0, 2,   2348.9, 6,    8.0618,     25.00,   -999.0, 9,   -999.0,  -999.00, 9,   -999.0,  27.7271, 22.9836,  27.7486, 2, 2, 0.12, 0.04, 0.01, 0.013,  -999.00, 9, -999.00, -999.00, 9, -999.00
49NZ20071122, P14N, 162, 1, 33, X12033, 2, 20071207, 0934, -4.7552, 179.0052, 3826,    150.9, 2,  27.1779, 2,  35.6108, 2,  35.6108, 2,    181.8, 2,    182.4, 2,     1.79, 2,     4.08, 2,     1.52, 2,     0.59, 2,    1.587, 6,    0.972, 6,    0.165, 4, -999.000, 9,   2043.4, 2,   2342.4, 2,    8.0283,     25.00,   -999.0, 9,   -999.0,  -999.00, 9,   -999.0,  27.1430, 23.1321,  27.1774, 2, 2, 0.12, 0.04, 0.00, 0.013,  -999.00, 9, -999.00, -999.00, 9, -999.00
49NZ20071122, P14N, 162, 1, 32, X12038, 2, 20071207, 0934, -4.7552, 179.0052, 3826,    198.9, 2,  25.4794, 2,  35.8971, 2,  35.9216, 2,    150.5, 2,    153.2, 2,     1.84, 2,     7.18, 2,     0.09, 2,     0.75, 2,    1.732, 2,    1.048, 2,    0.131, 4, -999.000, 9,   2087.4, 2,   2364.6, 2,    7.9880,     25.00,   -999.0, 9,   -999.0,  -999.00, 9,   -999.0,  25.4355, 23.8858,  25.4574, 2, 2, 0.12, 0.05, 0.01, 0.013,  -999.00, 9, -999.00, -999.00, 9, -999.00
49NZ20071122, P14N, 162, 1, 31, X12003, 2, 20071207, 0934, -4.7552, 179.0052, 3826,    249.2, 2,  17.1347, 2,  35.3808, 2,  35.3047, 6,    105.7, 2,    106.9, 2,     7.67, 2,    16.33, 2,     0.01, 2,     1.39, 2,    1.708, 2,    0.948, 2,    0.035, 2, -999.000, 9,   2164.8, 2,   2330.0, 2,    7.7775,     25.00,   -999.0, 9,   -999.0,  -999.00, 9,   -999.0,  17.0932, 25.7844,  17.1973, 2, 2, 0.14, 0.08, 0.01, 0.014,  -999.00, 9, -999.00, -999.00, 9, -999.00
49NZ20071122, P14N, 162, 1, 30, X12008, 2, 20071207, 0934, -4.7552, 179.0052, 3826,    279.2, 2,  12.8097, 2,  34.9931, 2,  34.9851, 2,     91.1, 2,     91.1, 2,    14.93, 2,    23.79, 2,     0.01, 2,     1.79, 2,    1.112, 2,    0.595, 2,    0.024, 2, -999.000, 9,   2190.9, 2,   2313.1, 2,    7.6752,     25.00,   -999.0, 9,   -999.0,  -999.00, 9,   -999.0,  12.7716, 26.4333,  12.8052, 2, 2, 0.15, 0.10, 0.01, 0.015,  -999.00, 9, -999.00, -999.00, 9, -999.00
49NZ20071122, P14N, 162, 1, 29, X12035, 2, 20071207, 0934, -4.7552, 179.0052, 3826,    370.1, 2,   9.3592, 2,  34.6986, 2,  34.6959, 2,    115.7, 2,    103.9, 2,    24.02, 2,    29.22, 2,     0.01, 2,     2.07, 2,    0.606, 2,    0.317, 2,    0.014, 2, -999.000, 9,   2209.1, 2,   2305.6, 2,    7.6137,     25.00,   -999.0, 9,   -999.0,  -999.00, 9,   -999.0,   9.3178, 26.8306,   9.3609, 2, 2, 0.17, 0.11, 0.01, 0.015,  -999.00, 9, -999.00, -999.00, 9, -999.00
49NZ20071122, P14N, 162, 1, 28, X12034, 2, 20071207, 0934, -4.7552, 179.0052, 3826,    471.5, 2,   8.0516, 2,  34.6141, 2,  34.6137, 6,    102.3, 2,    102.9, 2,    30.46, 2,    32.09, 2,     0.01, 2,     2.26, 2,    0.373, 2,    0.196, 2,    0.006, 2, -999.000, 9,   2223.2, 2,   2307.2, 2,    7.5809,     25.00,   -999.0, 9,   -999.0,  -999.00, 9,   -999.0,   8.0031, 26.9703,   8.0519, 2, 2, 0.19, 0.12, 0.01, 0.016,  -999.00, 9, -999.00, -999.00, 9, -999.00
49NZ20071122, P14N, 162, 1, 27, X12049, 2, 20071207, 0934, -4.7552, 179.0052, 3826,    571.7, 2,   7.0509, 2,  34.5479, 2,  34.5519, 2,    116.9, 2,    127.6, 2,    33.04, 2,    31.70, 2,     0.01, 2,     2.23, 2,    0.389, 2,    0.201, 2,    0.012, 2, -999.000, 9,   2216.5, 2,   2309.1, 2,    7.6016,     25.00,   -999.0, 9,   -999.0,  -999.00, 9,   -999.0,   6.9961, 27.0632,   7.0531, 2, 2, 0.19, 0.12, 0.01, 0.016,  -999.00, 9, -999.00, -999.00, 9, -999.00
49NZ20071122, P14N, 162, 1, 26, X12032, 2, 20071207, 0934, -4.7552, 179.0052, 3826,    671.3, 2,   6.2829, 2,  34.5385, 2,  34.5383, 2,    105.6, 2,    105.3, 2,    45.33, 2,    35.48, 2,     0.00, 2,     2.51, 2,    0.139, 6,    0.075, 6,    0.006, 6, -999.000, 9,   2244.8, 6,   2318.3, 2,    7.5499,     25.00,   -999.0, 9,   -999.0,  -999.00, 9,   -999.0,   6.2220, 27.1595,   6.2833, 2, 2, 0.22, 0.13, 0.01, 0.016,  -999.00, 9, -999.00, -999.00, 9, -999.00
49NZ20071122, P14N, 162, 1, 25, X12043, 2, 20071207, 0934, -4.7552, 179.0052, 3826,    771.9, 2,   5.6206, 2,  34.5191, 2,  34.5190, 2,    119.1, 2,    122.5, 2,    50.64, 2,    34.79, 2,     0.01, 2,     2.46, 2,    0.130, 2,    0.072, 2,    0.005, 2, -999.000, 9,   2244.8, 2,   2325.7, 6,    7.5677,     25.00,   -999.0, 9,   -999.0,  -999.00, 9,   -999.0,   5.5539, 27.2282,   5.6209, 2, 2, 0.23, 0.13, 0.01, 0.016,  -999.00, 9, -999.00, -999.00, 9, -999.00
49NZ20071122, P14N, 162, 1, 24, X12030, 2, 20071207, 0934, -4.7552, 179.0052, 3826,    871.1, 2,   5.0515, 2,  34.5241, 2,  34.5255, 2,    119.6, 2,    116.5, 2,    61.81, 2,    36.01, 2,     0.00, 2,     2.55, 2,    0.061, 2,    0.032, 2,    0.005, 2, -999.000, 9,   2260.8, 2,   2336.7, 2,    7.5513,     25.00,   -999.0, 9,   -999.0,  -999.00, 9,   -999.0,   4.9794, 27.3003,   5.0520, 2, 6, 0.25, 0.13, 0.01, 0.016,  -999.00, 9, -999.00, -999.00, 9, -999.00
49NZ20071122, P14N, 162, 1, 23, X12027, 2, 20071207, 0934, -4.7552, 179.0052, 3826,    969.9, 2,   4.6232, 2,  34.5334, 2,  34.5340, 6,    107.4, 2,    115.8, 2,    70.37, 2,    36.61, 2,     0.00, 2,     2.60, 2,    0.041, 2,    0.023, 2,    0.000, 2, -999.000, 9,   2271.7, 2,   2345.5, 2,    7.5474,     25.00,   -999.0, 9,   -999.0,  -999.00, 9,   -999.0,   4.5453, 27.3567,   4.6242, 2, 2, 0.27, 0.14, 0.01, 0.016,  -999.00, 9, -999.00, -999.00, 9, -999.00
49NZ20071122, P14N, 162, 1, 22, X12028, 2, 20071207, 0934, -4.7552, 179.0052, 3826,   1132.2, 2,   3.8588, 2,  34.5585, 2,  34.5591, 2,    113.3, 2,    109.6, 2,    87.55, 2,    38.07, 2,     0.00, 2,     2.71, 2,    0.004, 2,    0.002, 2,    0.002, 2, -999.000, 9,   2294.3, 2,   2364.0, 2,    7.5340,     25.00,   -999.0, 9,   -999.0,  -999.00, 9,   -999.0,   3.7731, 27.4582,   3.8590, 2, 2, 0.31, 0.14, 0.01, 0.017,  -999.00, 9, -999.00, -999.00, 9, -999.00
49NZ20071122, P14N, 162, 1, 21, X12009, 2, 20071207, 0934, -4.7552, 179.0052, 3826,   1330.5, 2,   3.2587, 2,  34.5836, 2,  34.5826, 3,    112.0, 2,    111.7, 2,   100.94, 2,    38.26, 2,     0.00, 2,     2.72, 2,    0.000, 2,    0.000, 2,    0.000, 2, -999.000, 9,   2309.1, 2,   2378.2, 2,    7.5347,     25.00,   -999.0, 9,   -999.0,  -999.00, 9,   -999.0,   3.1621, 27.5377,   3.2591, 2, 2, 0.34, 0.14, 0.01, 0.017,  -999.00, 9, -999.00, -999.00, 9, -999.00
49NZ20071122, P14N, 162, 1, 20, X12026, 2, 20071207, 0934, -4.7552, 179.0052, 3826,   1530.9, 2,   2.8226, 2,  34.6048, 2,  34.6061, 3,    114.5, 2,    115.0, 2,   112.94, 2,    38.24, 2,     0.00, 2,     2.72, 2,    0.000, 2,    0.000, 2,    0.000, 2, -999.000, 9,   2318.4, 2,   2391.1, 2,    7.5393,     25.00,   -999.0, 9,   -999.0,  -999.00, 9,   -999.0,   2.7142, 27.5953,   2.8225, 2, 6, 0.37, 0.14, 0.01, 0.017,  -999.00, 9, -999.00, -999.00, 9, -999.00
49NZ20071122, P14N, 162, 1, 19, X12025, 2, 20071207, 0934, -4.7552, 179.0052, 3826,   1729.7, 2,   2.4787, 2,  34.6237, 2,  34.6239, 2,    119.4, 2,    119.4, 2,   120.98, 2,    38.06, 2,     0.00, 2,     2.70, 2,    0.000, 2,    0.000, 2,    0.000, 2, -999.000, 9,   2325.6, 2,   2401.1, 2,    7.5461,     25.00,   -999.0, 9,   -999.0,  -999.00, 9,   -999.0,   2.3580, 27.6410,   2.4797, 2, 2, 0.39, 0.14, 0.01, 0.017,  -999.00, 9, -999.00, -999.00, 9, -999.00
49NZ20071122, P14N, 162, 1, 18, X12024, 2, 20071207, 0934, -4.7552, 179.0052, 3826,   1930.4, 2,   2.2503, 2,  34.6372, 2,  34.6380, 2,    122.8, 2,    122.8, 2,   126.82, 2,    37.88, 2,     0.00, 2,     2.68, 2,    0.000, 2,    0.000, 2,    0.000, 2, -999.000, 9,   2330.2, 2,   2406.9, 2,    7.5527,     25.00,   -999.0, 9,   -999.0,  -999.00, 9,   -999.0,   2.1160, 27.6717,   2.2503, 2, 2, 0.40, 0.14, 0.01, 0.017,  -999.00, 9, -999.00, -999.00, 9, -999.00
49NZ20071122, P14N, 162, 1, 17, X12023, 2, 20071207, 0934, -4.7552, 179.0052, 3826,   2127.9, 2,   2.0576, 2,  34.6485, 2,  34.6487, 6,    127.2, 2,    127.3, 2,   131.02, 2,    37.64, 2,     0.00, 2,     2.65, 2,    0.000, 2,    0.000, 2,    0.004, 2, -999.000, 9,   2331.9, 2,   2411.8, 2,    7.5607,     25.00,   -999.0, 9,   -999.0,  -999.00, 9,   -999.0,   1.9093, 27.6972,   2.0575, 2, 2, 0.41, 0.14, 0.01, 0.017,  -999.00, 9, -999.00, -999.00, 9, -999.00
49NZ20071122, P14N, 162, 1, 16, X12022, 2, 20071207, 0934, -4.7552, 179.0052, 3826,   2330.2, 2,   1.9405, 2,  34.6557, 2,  34.6561, 2,    130.0, 2,    130.0, 2,   134.17, 2,    37.47, 2,     0.00, 2,     2.64, 2,    0.000, 2,    0.000, 2,    0.000, 2, -999.000, 9,   2332.8, 6,   2414.5, 2,    7.5651,     25.00,   -999.0, 9,   -999.0,  -999.00, 9,   -999.0,   1.7765, 27.7132,   1.9404, 2, 2, 0.41, 0.14, 0.01, 0.017,  -999.00, 9, -999.00, -999.00, 9, -999.00
49NZ20071122, P14N, 162, 1, 15, X12021, 2, 20071207, 0934, -4.7552, 179.0052, 3826,   2530.7, 2,   1.8419, 2,  34.6619, 2,  34.6622, 2,    134.3, 2,    134.3, 2,   135.23, 2,    37.26, 2,     0.00, 2,     2.62, 2,    0.000, 2,    0.000, 2,    0.000, 2, -999.000, 9,   2331.9, 2,   2416.2, 6,    7.5706,     25.00,   -999.0, 9,   -999.0,  -999.00, 9,   -999.0,   1.6618, 27.7269,   1.8419, 2, 2, 0.42, 0.14, 0.01, 0.017,  -999.00, 9, -999.00, -999.00, 9, -999.00
49NZ20071122, P14N, 162, 1, 14, X12020, 2, 20071207, 0934, -4.7552, 179.0052, 3826,   2729.1, 2,   1.7449, 2,  34.6679, 2,  34.6681, 2,    137.8, 2,    138.4, 2,   136.98, 2,    37.00, 2,     0.00, 2,     2.59, 2,    0.000, 2,    0.000, 2,    0.000, 2, -999.000, 9,   2330.7, 2,   2417.3, 2,    7.5767,     25.00,   -999.0, 9,   -999.0,  -999.00, 9,   -999.0,   1.5484, 27.7401,   1.7447, 2, 6, 0.42, 0.14, 0.01, 0.016,  -999.00, 9, -999.00, -999.00, 9, -999.00
49NZ20071122, P14N, 162, 1, 13, X12019, 2, 20071207, 0934, -4.7552, 179.0052, 3826,   2929.7, 2,   1.6858, 2,  34.6724, 2,  34.6723, 2,    142.6, 2,    143.0, 2,   136.87, 2,    36.70, 2,     0.00, 2,     2.57, 2,    0.000, 2,    0.000, 2,    0.000, 2, -999.000, 9,   2328.8, 2,   2415.5, 2,    7.5824,     25.00,   -999.0, 9,   -999.0,  -999.00, 9,   -999.0,   1.4717, 27.7493,   1.6857, 2, 2, 0.42, 0.14, 0.01, 0.016,  -999.00, 9, -999.00, -999.00, 9, -999.00
49NZ20071122, P14N, 162, 1, 12, X12040, 2, 20071207, 0934, -4.7552, 179.0052, 3826,   3168.6, 2,   1.5532, 2,  34.6809, 2,  34.6808, 6,    151.2, 2,    151.9, 2,   135.73, 2,    35.90, 2,     0.00, 2,     2.51, 2,    0.000, 2,    0.000, 2,    0.000, 2, -999.000, 9,   2321.0, 3,   2415.0, 2,    7.5935,     25.00,   -999.0, 9,   -999.0,  -999.00, 9,   -999.0,   1.3189, 27.7671,   1.5531, 2, 2, 0.42, 0.13, 0.01, 0.016,  -999.00, 9, -999.00, -999.00, 9, -999.00
49NZ20071122, P14N, 162, 1, 11, X12047, 2, 20071207, 0934, -4.7552, 179.0052, 3826,   3420.6, 2,   1.5184, 2,  34.6838, 2,  34.6840, 2,    154.9, 2,    155.0, 2,   135.87, 2,    35.78, 2,     0.00, 2,     2.50, 2,    0.000, 2,    0.000, 2,    0.000, 2, -999.000, 9,   2323.0, 2,   2414.9, 2,    7.5979,     25.00,   -999.0, 9,   -999.0,  -999.00, 9,   -999.0,   1.2599, 27.7736,   1.5184, 2, 2, 0.42, 0.13, 0.01, 0.016,  -999.00, 9, -999.00, -999.00, 9, -999.00
49NZ20071122, P14N, 162, 1, 10, X12012, 2, 20071207, 0934, -4.7552, 179.0052, 3826,   3669.6, 2,   1.4859, 2,  34.6868, 2,  34.6869, 2,    158.6, 2,    158.7, 2,   135.35, 2,    35.65, 2,     0.00, 2,     2.49, 2,    0.000, 2,    0.000, 2,    0.005, 2, -999.000, 9,   2319.8, 2,   2413.7, 2,    7.6027,     25.00,   -999.0, 9,   -999.0,  -999.00, 9,   -999.0,   1.2026, 27.7800,   1.4858, 2, 2, 0.42, 0.13, 0.01, 0.016,  -999.00, 9, -999.00, -999.00, 9, -999.00
49NZ20071122, P14N, 162, 1, 9, X12015, 9, 20071207, 0934, -4.7552, 179.0052, 3826,     10.3, 2,  28.1461, 2,  35.6996, 2, -999.0000, 9,    200.1, 2,   -999.0, 9,  -999.00, 9,  -999.00, 9,  -999.00, 9,  -999.00, 9, -999.000, 9, -999.000, 9, -999.000, 9, -999.000, 9,   -999.0, 9,   -999.0, 9, -999.0000,   -999.00,   -999.0, 9,   -999.0,  -999.00, 9,   -999.0,  28.1437, 22.8737,  28.1468, 2, 9, -999.00, -999.00, -999.00, -999.000,  -999.00, 9, -999.00, -999.00, 9, -999.00
49NZ20071122, P14N, 162, 1, 8, X12046, 9, 20071207, 0934, -4.7552, 179.0052, 3826,     50.6, 2,  28.0431, 2,  35.6954, 2, -999.0000, 9,    202.1, 2,   -999.0, 9,  -999.00, 9,  -999.00, 9,  -999.00, 9,  -999.00, 9, -999.000, 9, -999.000, 9, -999.000, 9, -999.000, 9,   -999.0, 9,   -999.0, 9, -999.0000,   -999.00,   -999.0, 9,   -999.0,  -999.00, 9,   -999.0,  28.0311, 22.9075,  28.0424, 2, 9, -999.00, -999.00, -999.00, -999.000,  -999.00, 9, -999.00, -999.00, 9, -999.00
49NZ20071122, P14N, 162, 1, 7, X12044, 9, 20071207, 0934, -4.7552, 179.0052, 3826,    100.2, 2,  27.7442, 2,  35.6651, 2, -999.0000, 9,    198.2, 2,   -999.0, 9,  -999.00, 9,  -999.00, 9,  -999.00, 9,  -999.00, 9, -999.000, 9, -999.000, 9, -999.000, 9, -999.000, 9,   -999.0, 9,   -999.0, 9, -999.0000,   -999.00,   -999.0, 9,   -999.0,  -999.00, 9,   -999.0,  27.7207, 22.9861,  27.7408, 2, 9, -999.00, -999.00, -999.00, -999.000,  -999.00, 9, -999.00, -999.00, 9, -999.00
49NZ20071122, P14N, 162, 1, 6, X12048, 9, 20071207, 0934, -4.7552, 179.0052, 3826,    150.8, 2,  27.1822, 2,  35.6106, 2, -999.0000, 9,    181.9, 2,   -999.0, 9,  -999.00, 9,  -999.00, 9,  -999.00, 9,  -999.00, 9, -999.000, 9, -999.000, 9, -999.000, 9, -999.000, 9,   -999.0, 9,   -999.0, 9, -999.0000,   -999.00,   -999.0, 9,   -999.0,  -999.00, 9,   -999.0,  27.1474, 23.1306,  27.1805, 2, 9, -999.00, -999.00, -999.00, -999.000,  -999.00, 9, -999.00, -999.00, 9, -999.00
49NZ20071122, P14N, 162, 1, 5, X12014, 9, 20071207, 0934, -4.7552, 179.0052, 3826,    198.7, 2,  25.4928, 2,  35.8891, 2, -999.0000, 9,    151.8, 2,   -999.0, 9,  -999.00, 9,  -999.00, 9,  -999.00, 9,  -999.00, 9, -999.000, 9, -999.000, 9, -999.000, 9, -999.000, 9,   -999.0, 9,   -999.0, 9, -999.0000,   -999.00,   -999.0, 9,   -999.0,  -999.00, 9,   -999.0,  25.4489, 23.8756,  25.4905, 2, 9, -999.00, -999.00, -999.00, -999.000,  -999.00, 9, -999.00, -999.00, 9, -999.00
49NZ20071122, P14N, 162, 1, 4, X12006, 9, 20071207, 0934, -4.7552, 179.0052, 3826,    249.5, 2,  17.0827, 2,  35.3679, 2, -999.0000, 9,    105.6, 2,   -999.0, 9,  -999.00, 9,  -999.00, 9,  -999.00, 9,  -999.00, 9, -999.000, 9, -999.000, 9, -999.000, 9, -999.000, 9,   -999.0, 9,   -999.0, 9, -999.0000,   -999.00,   -999.0, 9,   -999.0,  -999.00, 9,   -999.0,  17.0412, 25.7869,  17.0423, 2, 9, -999.00, -999.00, -999.00, -999.000,  -999.00, 9, -999.00, -999.00, 9, -999.00
49NZ20071122, P14N, 162, 1, 3, X12013, 9, 20071207, 0934, -4.7552, 179.0052, 3826,    278.4, 2,  12.8200, 2,  34.9916, 2, -999.0000, 9,     91.1, 2,   -999.0, 9,  -999.00, 9,  -999.00, 9,  -999.00, 9,  -999.00, 9, -999.000, 9, -999.000, 9, -999.000, 9, -999.000, 9,   -999.0, 9,   -999.0, 9, -999.0000,   -999.00,   -999.0, 9,   -999.0,  -999.00, 9,   -999.0,  12.7819, 26.4300,  12.8265, 2, 9, -999.00, -999.00, -999.00, -999.000,  -999.00, 9, -999.00, -999.00, 9, -999.00
49NZ20071122, P14N, 162, 1, 2, X12002, 9, 20071207, 0934, -4.7552, 179.0052, 3826,    369.1, 2,   9.3796, 2,  34.6990, 2, -999.0000, 9,    115.9, 2,   -999.0, 9,  -999.00, 9,  -999.00, 9,  -999.00, 9,  -999.00, 9, -999.000, 9, -999.000, 9, -999.000, 9, -999.000, 9,   -999.0, 9,   -999.0, 9, -999.0000,   -999.00,   -999.0, 9,   -999.0,  -999.00, 9,   -999.0,   9.3382, 26.8276,   9.3802, 2, 9, -999.00, -999.00, -999.00, -999.000,  -999.00, 9, -999.00, -999.00, 9, -999.00
49NZ20071122, P14N, 162, 1, 1, X12001, 2, 20071207, 0934, -4.7552, 179.0052, 3826,   3882.5, 2,   1.4095, 2,  34.6921, 2,  34.6924, 6,    166.1, 2,    166.4, 2,   133.53, 2,    35.11, 2,     0.00, 2,     2.44, 2,    0.000, 2,    0.000, 2,    0.000, 2, -999.000, 9,   2310.2, 2,   2410.9, 2,    7.6127,     25.00,   -999.0, 9,   -999.0,  -999.00, 9,   -999.0,   1.1057, 27.7909,   1.4094, 2, 2, 0.41, 0.13, 0.01, 0.016,  -999.00, 9, -999.00, -999.00, 9, -999.00