BOTTLE,20220820CCHSIOAMB
EXPOCODE,SECT_ID,STNNBR,CASTNO,SAMPNO,BTLNBR,BTLNBR_FLAG_W,DATE,TIME,LATITUDE,LONGITUDE,DEPTH,CTDPRS,CTDPRS_FLAG_W,CTDTMP,CTDTMP_FLAG_W,CTDSAL,CTDSAL_FLAG_W,SALNTY,SALNTY_FLAG_W,CTDOXY,CTDOXY_FLAG_W,OXYGEN,OXYGEN_FLAG_W,SILCAT,SILCAT_FLAG_W,NITRAT,NITRAT_FLAG_W,NITRIT,NITRIT_FLAG_W,PHSPHT,PHSPHT_FLAG_W,CFC-11,CFC-11_FLAG_W,CFC-12,CFC-12_FLAG_W,CFC113,CFC113_FLAG_W,CCL4,CCL4_FLAG_W,TCARBN,TCARBN_FLAG_W,ALKALI,ALKALI_FLAG_W,PH_TOT,PH_TMP,DELC14,DELC14_FLAG_W,C14ERR,DELC13,DELC13_FLAG_W,C13ERR,THETA,SIG0,SBE35,SBE35_FLAG_W,PH_TOT_FLAG_W,SILUNC,NRAUNC,NRIUNC,PHPUNC,CS-137,CS-137_FLAG_W,CS137ER,PLUTO,PLUTO_FLAG_W,PLUTOER
,,,,,,,,,,,METERS,DBAR,,ITS-90,,PSS-78,,PSS-78,,UMOL/KG,,UMOL/KG,,UMOL/KG,,UMOL/KG,,UMOL/KG,,UMOL/KG,,PMOL/KG,,PMOL/KG,,PMOL/KG,,PMOL/KG,,UMOL/KG,,UMOL/KG,,,DEG C,/MILLE,,/MILLE,/MILLE,,/MILLE,DEG C,KG/M^3,ITS-90,,,UMOL/KG,UMOL/KG,UMOL/KG,UMOL/KG,DM/.1MG,,BQ/M^3,MBQ/M^3,,MBQ/M^3
49NZ20071122, P14, 25, 1, 36, X12042, 2, 20071218, 1355, -26.5417, 176.5963, 4427,      9.4, 2,  23.2455, 2,  35.5288, 2,  35.5288, 2,    217.4, 2,    216.2, 2,     0.69, 2,     0.02, 2,     0.00, 2,     0.06, 2,    1.902, 2,    1.156, 2,    0.279, 4, -999.000, 9,   2006.4, 2,   2331.6, 2,    8.0769,     25.00,   -999.0, 9,   -999.0,  -999.00, 9,   -999.0,  23.2436, 24.2641,  23.2452, 2, 6, 0.12, 0.03, 0.01, 0.030,  -999.00, 9, -999.00, -999.00, 9, -999.00
49NZ20071122, P14, 25, 1, 35, X12041, 2, 20071218, 1355, -26.5417, 176.5963, 4427,     50.0, 2,  21.8515, 2,  35.6236, 2,  35.6238, 2,    224.0, 2,    223.6, 2,     0.60, 2,     0.00, 2,     0.00, 2,     0.06, 2,    1.999, 2,    1.201, 2,    0.457, 4, -999.000, 9,   2013.2, 6,   2335.9, 2,    8.0726,     25.00,   -999.0, 9,   -999.0,  -999.00, 9,   -999.0,  21.8416, 24.7362,  21.8539, 2, 2, 0.12, 0.03, 0.01, 0.032,  -999.00, 9, -999.00, -999.00, 9, -999.00
49NZ20071122, P14, 25, 1, 34, X12016, 2, 20071218, 1355, -26.5417, 176.5963, 4427,     99.6, 2,  20.3784, 2,  35.8077, 2,  35.8074, 2,    225.2, 2,    224.2, 2,     0.65, 2,     0.05, 2,     0.02, 2,     0.10, 2,    2.141, 2,    1.273, 2,    0.436, 4, -999.000, 9,   2039.6, 2,   2347.5, 6,    8.0420,     25.00,   -999.0, 9,   -999.0,  -999.00, 9,   -999.0,  20.3597, 25.2822,  20.3751, 2, 2, 0.12, 0.03, 0.01, 0.022,  -999.00, 9, -999.00, -999.00, 9, -999.00
49NZ20071122, P14, 25, 1, 33, X12033, 2, 20071218, 1355, -26.5417, 176.5963, 4427,    149.4, 2,  18.9036, 2,  35.7317, 2,  35.7342, 2,    201.5, 2,    209.5, 2,     0.85, 2,     2.01, 2,     0.04, 2,     0.24, 2,    2.224, 6,    1.310, 6,    0.204, 4, -999.000, 9,   2056.2, 2,   2340.5, 2,    8.0036,     25.00,   -999.0, 9,   -999.0,  -999.00, 9,   -999.0,  18.8770, 25.6121,  18.9040, 2, 6, 0.12, 0.04, 0.01, 0.015,  -999.00, 9, -999.00, -999.00, 9, -999.00
49NZ20071122, P14, 25, 1, 32, X12038, 2, 20071218, 1355, -26.5417, 176.5963, 4427,    198.5, 2,  18.1649, 2,  35.7053, 2,  35.7019, 2,    211.2, 2,    209.6, 2,     1.04, 2,     2.95, 2,     0.01, 2,     0.29, 2,    2.295, 2,    1.343, 2,    0.165, 4, -999.000, 9,   2066.1, 2,   2338.8, 2,    7.9870,     25.00,   -999.0, 9,   -999.0,  -999.00, 9,   -999.0,  18.1304, 25.7800,  18.1678, 2, 2, 0.12, 0.04, 0.01, 0.014,  -999.00, 9, -999.00, -999.00, 9, -999.00
49NZ20071122, P14, 25, 1, 31, X12003, 2, 20071218, 1355, -26.5417, 176.5963, 4427,    249.2, 2,  17.0776, 2,  35.5717, 2,  35.5666, 6,    195.9, 2,    194.7, 2,     1.68, 2,     5.67, 2,     0.01, 2,     0.48, 2,    2.365, 2,    1.347, 2,    0.069, 2, -999.000, 9,   2084.2, 2,   2332.2, 2,    7.9421,     25.00,   -999.0, 9,   -999.0,  -999.00, 9,   -999.0,  17.0361, 25.9446,  17.0794, 2, 2, 0.12, 0.05, 0.01, 0.013,  -999.00, 9, -999.00, -999.00, 9, -999.00
49NZ20071122, P14, 25, 1, 30, X12008, 2, 20071218, 1355, -26.5417, 176.5963, 4427,    281.3, 2,  16.2110, 2,  35.4969, 2,  35.4969, 2,    197.4, 2,    196.2, 2,     1.99, 2,     6.66, 2,     0.01, 2,     0.54, 2,    2.416, 2,    1.363, 2,    0.052, 2, -999.000, 9,   2090.1, 2,   2329.1, 2,    7.9248,     25.00,   -999.0, 9,   -999.0,  -999.00, 9,   -999.0,  16.1658, 26.0917,  16.2119, 2, 2, 0.12, 0.05, 0.01, 0.013,  -999.00, 9, -999.00, -999.00, 9, -999.00
49NZ20071122, P14, 25, 1, 29, X12035, 2, 20071218, 1355, -26.5417, 176.5963, 4427,    369.5, 2,  14.2685, 2,  35.2806, 2,  35.2774, 2,    195.4, 2,    194.9, 2,     3.17, 2,     9.92, 2,     0.01, 2,     0.75, 2,    2.473, 2,    1.366, 2,    0.063, 2, -999.000, 9,   2107.7, 2,   2318.2, 2,    7.8745,     25.00,   -999.0, 9,   -999.0,  -999.00, 9,   -999.0,  14.2140, 26.3587,  14.2692, 2, 2, 0.13, 0.06, 0.01, 0.013,  -999.00, 9, -999.00, -999.00, 9, -999.00
49NZ20071122, P14, 25, 1, 28, X12034, 2, 20071218, 1355, -26.5417, 176.5963, 4427,    470.2, 2,  11.5711, 2,  34.9277, 2,  34.9180, 6,    198.7, 2,    198.9, 2,     4.53, 2,    14.45, 2,     0.01, 2,     1.05, 2,    2.504, 2,    1.321, 2,    0.087, 2, -999.000, 9,   2123.6, 2,   2302.8, 2,    7.8080,     25.00,   -999.0, 9,   -999.0,  -999.00, 9,   -999.0,  11.5105, 26.6254,  11.5717, 2, 2, 0.13, 0.07, 0.01, 0.013,  -999.00, 9, -999.00, -999.00, 9, -999.00
49NZ20071122, P14, 25, 1, 27, X12049, 2, 20071218, 1355, -26.5417, 176.5963, 4427,    571.5, 2,   9.4472, 2,  34.6773, 2,  34.6769, 2,    205.8, 2,    206.4, 2,     6.32, 2,    18.54, 2,     0.01, 2,     1.30, 2,    2.427, 2,    1.229, 2,    0.097, 2, -999.000, 9,   2135.2, 2,   2293.2, 2,    7.7639,     25.00,   -999.0, 9,   -999.0,  -999.00, 9,   -999.0,   9.3822, 26.8034,   9.4500, 2, 2, 0.13, 0.08, 0.01, 0.014,  -999.00, 9, -999.00, -999.00, 9, -999.00
49NZ20071122, P14, 25, 1, 26, X12032, 2, 20071218, 1355, -26.5417, 176.5963, 4427,    670.6, 2,   7.8725, 2,  34.5051, 2,  34.5038, 2,    216.2, 2,    215.6, 2,     8.43, 2,    21.74, 2,     0.01, 2,     1.51, 2,    2.174, 6,    1.069, 6,    0.072, 6, -999.000, 9,   2144.5, 6,   2288.6, 2,    7.7363,     25.00,   -999.0, 9,   -999.0,  -999.00, 9,   -999.0,   7.8037, 26.9142,   7.8728, 2, 2, 0.14, 0.09, 0.01, 0.014,  -999.00, 9, -999.00, -999.00, 9, -999.00
49NZ20071122, P14, 25, 1, 25, X12043, 2, 20071218, 1355, -26.5417, 176.5963, 4427,    768.8, 2,   6.8370, 2,  34.4105, 2,  34.4098, 2,    220.0, 2,    220.1, 2,    11.18, 2,    24.07, 2,     0.01, 2,     1.67, 2,    1.712, 2,    0.827, 2,    0.051, 2, -999.000, 9,   2150.3, 2,   2287.2, 6,    7.7190,     25.00,   -999.0, 9,   -999.0,  -999.00, 9,   -999.0,   6.7637, 26.9867,   6.8376, 2, 2, 0.14, 0.10, 0.01, 0.014,  -999.00, 9, -999.00, -999.00, 9, -999.00
49NZ20071122, P14, 25, 1, 24, X12030, 2, 20071218, 1355, -26.5417, 176.5963, 4427,    870.8, 2,   6.0523, 2,  34.3778, 2,  34.3773, 2,    211.4, 2,    211.4, 2,    17.34, 2,    26.57, 2,     0.01, 2,     1.84, 2,    1.037, 2,    0.511, 2,    0.028, 2, -999.000, 9,   2162.6, 2,   2289.3, 2,    7.6936,     25.00,   -999.0, 9,   -999.0,  -999.00, 9,   -999.0,   5.9738, 27.0643,   6.0501, 2, 2, 0.16, 0.11, 0.01, 0.015,  -999.00, 9, -999.00, -999.00, 9, -999.00
49NZ20071122, P14, 25, 1, 23, X12027, 2, 20071218, 1355, -26.5417, 176.5963, 4427,    969.7, 2,   5.2759, 2,  34.3633, 2,  34.3630, 6,    202.4, 2,    202.0, 2,    25.38, 2,    29.05, 2,     0.01, 2,     2.01, 2,    0.618, 2,    0.308, 2,    0.014, 2, -999.000, 9,   2180.6, 2,   2298.0, 2,    7.6658,     25.00,   -999.0, 9,   -999.0,  -999.00, 9,   -999.0,   5.1935, 27.1480,   5.2763, 2, 2, 0.17, 0.11, 0.01, 0.015,  -999.00, 9, -999.00, -999.00, 9, -999.00
49NZ20071122, P14, 25, 1, 22, X12028, 2, 20071218, 1355, -26.5417, 176.5963, 4427,   1131.9, 2,   4.1671, 2,  34.4138, 2,  34.4144, 2,    181.8, 2,    181.2, 2,    46.32, 2,    32.29, 2,     0.01, 2,     2.24, 2,    0.193, 2,    0.098, 2,    0.000, 2, -999.000, 9,   2216.2, 2,   2317.5, 2,    7.6249,     25.00,   -999.0, 9,   -999.0,  -999.00, 9,   -999.0,   4.0791, 27.3116,   4.1695, 2, 2, 0.22, 0.12, 0.01, 0.016,  -999.00, 9, -999.00, -999.00, 9, -999.00
49NZ20071122, P14, 25, 1, 21, X12009, 2, 20071218, 1355, -26.5417, 176.5963, 4427,   1330.0, 2,   3.3180, 2,  34.5187, 2,  34.5193, 2,    163.1, 2,    163.7, 2,    74.80, 2,    34.01, 2,     0.01, 2,     2.38, 2,    0.047, 2,    0.022, 2,    0.000, 2, -999.000, 9,   2254.5, 2,   2351.6, 2,    7.6034,     25.00,   -999.0, 9,   -999.0,  -999.00, 9,   -999.0,   3.2210, 27.4804,   3.3182, 2, 2, 0.28, 0.13, 0.01, 0.016,  -999.00, 9, -999.00, -999.00, 9, -999.00
49NZ20071122, P14, 25, 1, 20, X12026, 2, 20071218, 1355, -26.5417, 176.5963, 4427,   1529.4, 2,   2.8143, 2,  34.5828, 2,  34.5822, 2,    155.9, 2,    156.0, 2,    92.67, 2,    34.81, 2,     0.01, 2,     2.44, 2,    0.019, 2,    0.011, 2,    0.000, 2, -999.000, 9,   2277.2, 2,   2371.9, 2,    7.5965,     25.00,   -999.0, 9,   -999.0,  -999.00, 9,   -999.0,   2.7062, 27.5784,   2.8144, 2, 6, 0.32, 0.13, 0.01, 0.016,  -999.00, 9, -999.00, -999.00, 9, -999.00
49NZ20071122, P14, 25, 1, 19, X12025, 2, 20071218, 1355, -26.5417, 176.5963, 4427,   1731.1, 2,   2.4871, 2,  34.6158, 2,  34.6153, 2,    153.0, 2,    152.9, 2,   103.10, 2,    35.15, 2,     0.01, 2,     2.48, 2,    0.009, 2,    0.003, 2,    0.000, 2, -999.000, 9,   2288.7, 2,   2384.0, 2,    7.5932,     25.00,   -999.0, 9,   -999.0,  -999.00, 9,   -999.0,   2.3662, 27.6341,   2.4871, 2, 2, 0.35, 0.13, 0.01, 0.016,  -999.00, 9, -999.00, -999.00, 9, -999.00
49NZ20071122, P14, 25, 1, 18, X12024, 2, 20071218, 1355, -26.5417, 176.5963, 4427,   1929.7, 2,   2.2907, 2,  34.6339, 2,  34.6329, 2,    151.2, 2,    151.4, 2,   109.57, 2,    35.34, 2,     0.01, 2,     2.49, 2,    0.007, 2,    0.001, 2,    0.000, 2, -999.000, 9,   2297.0, 2,   2391.5, 2,    7.5913,     25.00,   -999.0, 9,   -999.0,  -999.00, 9,   -999.0,   2.1558, 27.6659,   2.2906, 2, 2, 0.36, 0.13, 0.01, 0.016,  -999.00, 9, -999.00, -999.00, 9, -999.00
49NZ20071122, P14, 25, 1, 17, X12023, 2, 20071218, 1355, -26.5417, 176.5963, 4427,   2129.6, 2,   2.1547, 2,  34.6469, 2,  34.6470, 6,    151.5, 2,    151.7, 2,   113.06, 2,    35.38, 2,     0.01, 2,     2.49, 2,    0.004, 2,    0.000, 2,    0.000, 2, -999.000, 9,   2301.2, 2,   2395.2, 2,    7.5919,     25.00,   -999.0, 9,   -999.0,  -999.00, 9,   -999.0,   2.0047, 27.6884,   2.1546, 2, 2, 0.37, 0.13, 0.01, 0.016,  -999.00, 9, -999.00, -999.00, 9, -999.00
49NZ20071122, P14, 25, 1, 16, X12022, 2, 20071218, 1355, -26.5417, 176.5963, 4427,   2329.8, 2,   2.0523, 2,  34.6572, 2,  34.6571, 2,    152.3, 2,    152.5, 2,   115.61, 2,    35.37, 2,     0.01, 2,     2.49, 2, -999.000, 9, -999.000, 9, -999.000, 9, -999.000, 9,   2304.0, 6,   2398.3, 2,    7.5932,     25.00,   -999.0, 9,   -999.0,  -999.00, 9,   -999.0,   1.8864, 27.7059,   2.0522, 2, 2, 0.37, 0.13, 0.01, 0.016,  -999.00, 9, -999.00, -999.00, 9, -999.00
49NZ20071122, P14, 25, 1, 15, X12021, 2, 20071218, 1355, -26.5417, 176.5963, 4427,   2529.7, 2,   1.9540, 2,  34.6668, 2,  34.6665, 2,    153.3, 2,    153.6, 2,   118.03, 2,    35.40, 2,     0.01, 2,     2.49, 2,    0.002, 2,    0.000, 2,    0.000, 2, -999.000, 9,   2306.8, 2,   2400.9, 6,    7.5944,     25.00,   -999.0, 9,   -999.0,  -999.00, 9,   -999.0,   1.7718, 27.7225,   1.9540, 2, 2, 0.38, 0.13, 0.01, 0.016,  -999.00, 9, -999.00, -999.00, 9, -999.00
49NZ20071122, P14, 25, 1, 14, X12020, 2, 20071218, 1355, -26.5417, 176.5963, 4427,   2729.1, 2,   1.8983, 2,  34.6725, 2,  34.6723, 2,    153.8, 2,    154.1, 2,   119.61, 2,    35.29, 2,     0.01, 2,     2.49, 2, -999.000, 9, -999.000, 9, -999.000, 9, -999.000, 9,   2308.4, 2,   2402.1, 2,    7.5950,     25.00,   -999.0, 9,   -999.0,  -999.00, 9,   -999.0,   1.6987, 27.7326,   1.8982, 2, 6, 0.38, 0.13, 0.01, 0.016,  -999.00, 9, -999.00, -999.00, 9, -999.00
49NZ20071122, P14, 25, 1, 13, X12019, 2, 20071218, 1355, -26.5417, 176.5963, 4427,   2929.3, 2,   1.8583, 2,  34.6768, 2,  34.6765, 2,    154.3, 2,    154.4, 2,   120.85, 2,    35.44, 2,     0.00, 2,     2.49, 2,    0.001, 2,    0.000, 2,    0.000, 2, -999.000, 9,   2310.5, 2,   2404.3, 2,    7.5956,     25.00,   -999.0, 9,   -999.0,  -999.00, 9,   -999.0,   1.6405, 27.7404,   1.8583, 2, 2, 0.38, 0.13, 0.01, 0.016,  -999.00, 9, -999.00, -999.00, 9, -999.00
49NZ20071122, P14, 25, 1, 12, X12040, 2, 20071218, 1355, -26.5417, 176.5963, 4427,   3169.7, 2,   1.8346, 2,  34.6799, 2,  34.6799, 2,    154.8, 2,    154.8, 2,   121.79, 2,    35.26, 2,     0.01, 2,     2.47, 2, -999.000, 9, -999.000, 9, -999.000, 9, -999.000, 9,   2309.9, 2,   2405.5, 2,    7.5969,     25.00,   -999.0, 9,   -999.0,  -999.00, 9,   -999.0,   1.5937, 27.7464,   1.8346, 2, 2, 0.39, 0.13, 0.01, 0.016,  -999.00, 9, -999.00, -999.00, 9, -999.00
49NZ20071122, P14, 25, 1, 11, X12047, 2, 20071218, 1355, -26.5417, 176.5963, 4427,   3419.0, 2,   1.8323, 2,  34.6815, 2,  34.6813, 2,    155.1, 2,    155.3, 2,   122.64, 2,    35.34, 2,     0.01, 2,     2.48, 2,    0.000, 2,    0.000, 2,    0.000, 2, -999.000, 9,   2308.3, 2,   2405.9, 2,    7.5971,     25.00,   -999.0, 9,   -999.0,  -999.00, 9,   -999.0,   1.5662, 27.7497,   1.8322, 2, 2, 0.39, 0.13, 0.01, 0.016,  -999.00, 9, -999.00, -999.00, 9, -999.00
49NZ20071122, P14, 25, 1, 10, X12012, 2, 20071218, 1355, -26.5417, 176.5963, 4427,   3671.1, 2,   1.8434, 2,  34.6823, 2,  34.6820, 2,    155.4, 2,    155.5, 2,   122.96, 2,    35.32, 2,     0.00, 2,     2.48, 2, -999.000, 9, -999.000, 9, -999.000, 9, -999.000, 9,   2309.6, 2,   2406.2, 2,    7.5974,     25.00,   -999.0, 9,   -999.0,  -999.00, 9,   -999.0,   1.5506, 27.7515,   1.8433, 2, 2, 0.39, 0.13, 0.01, 0.016,  -999.00, 9, -999.00, -999.00, 9, -999.00
49NZ20071122, P14, 25, 1, 9, X12015, 2, 20071218, 1355, -26.5417, 176.5963, 4427,   3920.1, 2,   1.8589, 2,  34.6828, 2,  34.6829, 6,    155.7, 2,    155.7, 2,   123.33, 2,    35.29, 2,     0.01, 2,     2.48, 2,    0.002, 2,    0.000, 2,    0.000, 2, -999.000, 9,   2309.6, 2,   2406.5, 2,    7.5979,     25.00,   -999.0, 9,   -999.0,  -999.00, 9,   -999.0,   1.5387, 27.7528,   1.8589, 2, 2, 0.39, 0.13, 0.01, 0.016,  -999.00, 9, -999.00, -999.00, 9, -999.00
49NZ20071122, P14, 25, 1, 8, X12046, 3, 20071218, 1355, -26.5417, 176.5963, 4427,   4168.6, 2,   1.8815, 2,  34.6830, 2,  34.6832, 2,    156.0, 2,    155.9, 2,   123.38, 2,    35.32, 2,     0.01, 2,     2.48, 2, -999.000, 9, -999.000, 9, -999.000, 9, -999.000, 9,   2309.9, 6,   2406.3, 2,    7.5974,     25.00,   -999.0, 9,   -999.0,  -999.00, 9,   -999.0,   1.5330, 27.7533,   1.8816, 2, 2, 0.39, 0.13, 0.01, 0.016,  -999.00, 9, -999.00, -999.00, 9, -999.00
49NZ20071122, P14, 25, 1, 7, X12044, 2, 20071218, 1355, -26.5417, 176.5963, 4427,   4420.8, 2,   1.9072, 2,  34.6830, 2,  34.6831, 2,    156.2, 2,    156.1, 2,   123.39, 2,    35.34, 2,     0.00, 2,     2.49, 2,    0.000, 2,    0.000, 2,    0.000, 2, -999.000, 9,   2310.8, 2,   2406.1, 6,    7.5976,     25.00,   -999.0, 9,   -999.0,  -999.00, 9,   -999.0,   1.5289, 27.7536,   1.9072, 2, 2, 0.39, 0.13, 0.01, 0.016,  -999.00, 9, -999.00, -999.00, 9, -999.00
49NZ20071122, P14, 25, 1, 6, X12048, 9, 20071218, 1355, -26.5417, 176.5963, 4427,    870.2, 2,   6.0653, 2,  34.3782, 2, -999.0000, 9,    211.4, 2,   -999.0, 9,  -999.00, 9,  -999.00, 9,  -999.00, 9,  -999.00, 9, -999.000, 9, -999.000, 9, -999.000, 9, -999.000, 9,   -999.0, 9,   -999.0, 9, -999.0000,   -999.00,   -999.0, 9,   -999.0,  -999.00, 9,   -999.0,   5.9868, 27.0630,   6.0666, 2, 9, -999.00, -999.00, -999.00, -999.000,  -999.00, 9, -999.00, -999.00, 9, -999.00
49NZ20071122, P14, 25, 1, 5, X12014, 9, 20071218, 1355, -26.5417, 176.5963, 4427,      9.8, 2,  23.2461, 2,  35.5285, 2, -999.0000, 9,    217.5, 2,   -999.0, 9,  -999.00, 9,  -999.00, 9,  -999.00, 9,  -999.00, 9, -999.000, 9, -999.000, 9, -999.000, 9, -999.000, 9,   -999.0, 9,   -999.0, 9, -999.0000,   -999.00,   -999.0, 9,   -999.0,  -999.00, 9,   -999.0,  23.2441, 24.2637,  23.2460, 2, 9, -999.00, -999.00, -999.00, -999.000,  -999.00, 9, -999.00, -999.00, 9, -999.00
49NZ20071122, P14, 25, 1, 4, X12006, 9, 20071218, 1355, -26.5417, 176.5963, 4427,   1131.1, 2,   4.1760, 2,  34.4137, 2, -999.0000, 9,    181.9, 2,   -999.0, 9,  -999.00, 9,  -999.00, 9,  -999.00, 9,  -999.00, 9, -999.000, 9, -999.000, 9, -999.000, 9, -999.000, 9,   -999.0, 9,   -999.0, 9, -999.0000,   -999.00,   -999.0, 9,   -999.0,  -999.00, 9,   -999.0,   4.0880, 27.3106,   4.1736, 2, 9, -999.00, -999.00, -999.00, -999.000,  -999.00, 9, -999.00, -999.00, 9, -999.00
49NZ20071122, P14, 25, 1, 3, X12013, 9, 20071218, 1355, -26.5417, 176.5963, 4427,   3418.7, 2,   1.8323, 2,  34.6815, 2, -999.0000, 9,    155.1, 2,   -999.0, 9,  -999.00, 9,  -999.00, 9,  -999.00, 9,  -999.00, 9, -999.000, 9, -999.000, 9, -999.000, 9, -999.000, 9,   -999.0, 9,   -999.0, 9, -999.0000,   -999.00,   -999.0, 9,   -999.0,  -999.00, 9,   -999.0,   1.5662, 27.7497,   1.8323, 2, 9, -999.00, -999.00, -999.00, -999.000,  -999.00, 9, -999.00, -999.00, 9, -999.00
49NZ20071122, P14, 25, 1, 2, X12002, 9, 20071218, 1355, -26.5417, 176.5963, 4427,   1529.5, 2,   2.8154, 2,  34.5827, 2, -999.0000, 9,    155.9, 2,   -999.0, 9,  -999.00, 9,  -999.00, 9,  -999.00, 9,  -999.00, 9, -999.000, 9, -999.000, 9, -999.000, 9, -999.000, 9,   -999.0, 9,   -999.0, 9, -999.0000,   -999.00,   -999.0, 9,   -999.0,  -999.00, 9,   -999.0,   2.7072, 27.5782,   2.8150, 2, 9, -999.00, -999.00, -999.00, -999.000,  -999.00, 9, -999.00, -999.00, 9, -999.00
49NZ20071122, P14, 25, 1, 1, X12001, 2, 20071218, 1355, -26.5417, 176.5963, 4427,   4485.5, 2,   1.9149, 2,  34.6829, 2,  34.6833, 6,    156.1, 2,    156.1, 2,   123.33, 2,    35.35, 2,     0.00, 2,     2.49, 2,    0.006, 2,    0.001, 2,    0.000, 2, -999.000, 9,   2309.1, 2,   2406.1, 2,    7.5976,     25.00,   -999.0, 9,   -999.0,  -999.00, 9,   -999.0,   1.5288, 27.7536,   1.9149, 2, 2, 0.39, 0.13, 0.01, 0.016,  -999.00, 9, -999.00, -999.00, 9, -999.00