BOTTLE,20220820CCHSIOAMB
EXPOCODE,SECT_ID,STNNBR,CASTNO,SAMPNO,BTLNBR,BTLNBR_FLAG_W,DATE,TIME,LATITUDE,LONGITUDE,DEPTH,CTDPRS,CTDPRS_FLAG_W,CTDTMP,CTDTMP_FLAG_W,CTDSAL,CTDSAL_FLAG_W,SALNTY,SALNTY_FLAG_W,CTDOXY,CTDOXY_FLAG_W,OXYGEN,OXYGEN_FLAG_W,SILCAT,SILCAT_FLAG_W,NITRAT,NITRAT_FLAG_W,NITRIT,NITRIT_FLAG_W,PHSPHT,PHSPHT_FLAG_W,CFC-11,CFC-11_FLAG_W,CFC-12,CFC-12_FLAG_W,CFC113,CFC113_FLAG_W,CCL4,CCL4_FLAG_W,TCARBN,TCARBN_FLAG_W,ALKALI,ALKALI_FLAG_W,PH_TOT,PH_TMP,DELC14,DELC14_FLAG_W,C14ERR,DELC13,DELC13_FLAG_W,C13ERR,THETA,SIG0,SBE35,SBE35_FLAG_W,PH_TOT_FLAG_W,SILUNC,NRAUNC,NRIUNC,PHPUNC,CS-137,CS-137_FLAG_W,CS137ER,PLUTO,PLUTO_FLAG_W,PLUTOER
,,,,,,,,,,,METERS,DBAR,,ITS-90,,PSS-78,,PSS-78,,UMOL/KG,,UMOL/KG,,UMOL/KG,,UMOL/KG,,UMOL/KG,,UMOL/KG,,PMOL/KG,,PMOL/KG,,PMOL/KG,,PMOL/KG,,UMOL/KG,,UMOL/KG,,,DEG C,/MILLE,,/MILLE,/MILLE,,/MILLE,DEG C,KG/M^3,ITS-90,,,UMOL/KG,UMOL/KG,UMOL/KG,UMOL/KG,DM/.1MG,,BQ/M^3,MBQ/M^3,,MBQ/M^3
49NZ20071122, P14, X06, 1, 36, X12042, 2, 20071220, 0603, -30.0800, 175.8347, 4256,     10.5, 2,  22.1108, 2,  35.5598, 2,  35.5764, 2,    222.8, 2,    222.1, 2,     0.56, 2,     0.04, 2,     0.01, 2,     0.07, 2,    2.038, 2,    1.217, 2,    0.364, 4, -999.000, 9,   2026.3, 2,   2332.2, 2,    8.0470,     25.00,   -999.0, 1,   -999.0,  -999.00, 1,   -999.0,  22.1087, 24.6127,  22.1060, 2, 6, 0.12, 0.03, 0.01, 0.027,  -999.00, 9, -999.00, -999.00, 9, -999.00
49NZ20071122, P14, X06, 1, 35, X12041, 2, 20071220, 0603, -30.0800, 175.8347, 4256,     50.3, 2,  20.2431, 2,  35.6895, 2,  35.7140, 2,    229.6, 2,    230.6, 2,     0.58, 2,     0.05, 2,     0.00, 2,     0.08, 2,    2.163, 2,    1.293, 2,    0.457, 4, -999.000, 9,   2036.1, 6,   2340.8, 2,    8.0395,     25.00,   -999.0, 1,   -999.0,  -999.00, 1,   -999.0,  20.2337, 25.2257,  20.2386, 2, 2, 0.12, 0.03, 0.01, 0.025,  -999.00, 9, -999.00, -999.00, 9, -999.00
49NZ20071122, P14, X06, 1, 34, X12016, 2, 20071220, 0603, -30.0800, 175.8347, 4256,    102.0, 2,  18.1454, 2,  35.7087, 2,  35.7088, 2,    216.5, 2,    217.8, 2,     0.83, 2,     1.28, 2,     0.13, 2,     0.22, 2,    2.306, 2,    1.353, 2,    0.226, 4, -999.000, 9,   2062.4, 2,   2340.9, 6,    7.9962,     25.00,   -999.0, 1,   -999.0,  -999.00, 1,   -999.0,  18.1277, 25.7833,  18.1455, 2, 2, 0.12, 0.04, 0.01, 0.015,  -999.00, 9, -999.00, -999.00, 9, -999.00
49NZ20071122, P14, X06, 1, 33, X12033, 2, 20071220, 0603, -30.0800, 175.8347, 4256,    151.8, 2,  17.2748, 2,  35.6294, 2,  35.6309, 2,    207.5, 2,    206.6, 2,     1.20, 2,     3.94, 2,     0.02, 2,     0.37, 2,    2.382, 6,    1.368, 6,    0.148, 4, -999.000, 9,   2076.5, 2,   2334.7, 2,    7.9637,     25.00,   -999.0, 1,   -999.0,  -999.00, 1,   -999.0,  17.2494, 25.9376,  17.2772, 2, 2, 0.12, 0.04, 0.01, 0.014,  -999.00, 9, -999.00, -999.00, 9, -999.00
49NZ20071122, P14, X06, 1, 32, X12038, 2, 20071220, 0603, -30.0800, 175.8347, 4256,    201.0, 2,  16.3686, 2,  35.5331, 2,  35.5242, 2,    203.7, 2,    202.5, 2,     1.66, 2,     5.68, 2,     0.01, 2,     0.49, 2,    2.445, 2,    1.387, 2,    0.111, 4, -999.000, 9,   2086.5, 2,   2329.3, 2,    7.9342,     25.00,   -999.0, 1,   -999.0,  -999.00, 1,   -999.0,  16.3362, 26.0801,  16.3683, 2, 2, 0.12, 0.05, 0.01, 0.013,  -999.00, 9, -999.00, -999.00, 9, -999.00
49NZ20071122, P14, X06, 1, 31, X12003, 2, 20071220, 0603, -30.0800, 175.8347, 4256,    251.7, 2,  15.4454, 2,  35.4241, 2,  35.4226, 6,    196.7, 2,    197.1, 2,     2.21, 2,     7.52, 2,     0.01, 2,     0.61, 2,    2.476, 2,    1.386, 2,    0.085, 2, -999.000, 9,   2097.3, 2,   2323.3, 2,    7.9074,     25.00,   -999.0, 1,   -999.0,  -999.00, 1,   -999.0,  15.4063, 26.2087,  15.4277, 2, 2, 0.12, 0.05, 0.01, 0.013,  -999.00, 9, -999.00, -999.00, 9, -999.00
49NZ20071122, P14, X06, 1, 30, X12008, 2, 20071220, 0603, -30.0800, 175.8347, 4256,    332.7, 2,  13.4863, 2,  35.1851, 2,  35.1821, 2,    196.6, 2,    197.1, 2,     3.33, 2,    10.74, 2,     0.01, 2,     0.82, 2,    2.550, 2,    1.380, 2,    0.075, 2, -999.000, 9,   2112.2, 2,   2313.5, 2,    7.8569,     25.00,   -999.0, 1,   -999.0,  -999.00, 1,   -999.0,  13.4391, 26.4470,  13.4868, 2, 2, 0.13, 0.06, 0.01, 0.013,  -999.00, 9, -999.00, -999.00, 9, -999.00
49NZ20071122, P14, X06, 1, 29, X12035, 2, 20071220, 0603, -30.0800, 175.8347, 4256,    429.7, 2,  11.4506, 2,  34.9309, 2,  34.9227, 2,    197.4, 2,    197.7, 2,     4.93, 2,    14.88, 2,     0.01, 2,     1.08, 2,    2.531, 2,    1.323, 2,    0.076, 2, -999.000, 9,   2128.6, 2,   2301.4, 2,    7.8043,     25.00,   -999.0, 1,   -999.0,  -999.00, 1,   -999.0,  11.3957, 26.6492,  11.4530, 2, 2, 0.13, 0.07, 0.01, 0.013,  -999.00, 9, -999.00, -999.00, 9, -999.00
49NZ20071122, P14, X06, 1, 28, X12034, 2, 20071220, 0603, -30.0800, 175.8347, 4256,    530.8, 2,   9.7798, 2,  34.7240, 2,  34.7212, 6,    204.6, 2,    205.0, 2,     6.18, 2,    17.95, 2,     0.00, 2,     1.28, 2,    2.549, 2,    1.294, 2,    0.089, 2, -999.000, 9,   2136.1, 2,   2294.1, 2,    7.7702,     25.00,   -999.0, 1,   -999.0,  -999.00, 1,   -999.0,   9.7182, 26.7841,   9.7806, 2, 2, 0.13, 0.08, 0.01, 0.014,  -999.00, 9, -999.00, -999.00, 9, -999.00
49NZ20071122, P14, X06, 1, 27, X12049, 2, 20071220, 0603, -30.0800, 175.8347, 4256,    633.0, 2,   8.4950, 2,  34.5778, 2,  34.5801, 2,    209.6, 2,    209.9, 2,     7.80, 2,    20.51, 2,     0.00, 2,     1.45, 2,    2.350, 2,    1.167, 2,    0.081, 2, -999.000, 9,   2141.4, 2,   2289.1, 2,    7.7460,     25.00,   -999.0, 1,   -999.0,  -999.00, 1,   -999.0,   8.4272, 26.8774,   8.4959, 2, 2, 0.14, 0.09, 0.01, 0.014,  -999.00, 9, -999.00, -999.00, 9, -999.00
49NZ20071122, P14, X06, 1, 26, X12032, 2, 20071220, 0603, -30.0800, 175.8347, 4256,    731.4, 2,   7.3619, 2,  34.4717, 2,  34.4703, 2,    214.1, 2,    214.1, 2,    10.77, 2,    23.08, 2,     0.00, 2,     1.62, 2,    1.919, 6,    0.934, 6,    0.066, 6, -999.000, 9,   2147.9, 6,   2287.6, 2,    7.7247,     25.00,   -999.0, 1,   -999.0,  -999.00, 1,   -999.0,   7.2894, 26.9622,   7.3625, 2, 2, 0.14, 0.10, 0.01, 0.014,  -999.00, 9, -999.00, -999.00, 9, -999.00
49NZ20071122, P14, X06, 1, 25, X12043, 2, 20071220, 0603, -30.0800, 175.8347, 4256,    828.4, 2,   6.4422, 2,  34.3992, 2,  34.3971, 2,    214.4, 2,    215.0, 2,    14.60, 2,    25.31, 2,     0.00, 2,     1.77, 2,    1.421, 2,    0.689, 2,    0.051, 2, -999.000, 9,   2157.0, 2,   2289.4, 6,    7.7064,     25.00,   -999.0, 1,   -999.0,  -999.00, 1,   -999.0,   6.3653, 27.0308,   6.4435, 2, 2, 0.15, 0.10, 0.01, 0.015,  -999.00, 9, -999.00, -999.00, 9, -999.00
49NZ20071122, P14, X06, 1, 24, X12030, 2, 20071220, 0603, -30.0800, 175.8347, 4256,    930.6, 2,   5.8023, 2,  34.3779, 2,  34.3776, 2,    206.9, 2,    208.3, 2,    20.35, 2,    27.26, 2,     0.00, 2,     1.89, 2,    0.967, 2,    0.479, 2,    0.026, 2, -999.000, 9,   2169.8, 2,   2292.7, 2,    7.6854,     25.00,   -999.0, 1,   -999.0,  -999.00, 1,   -999.0,   5.7198, 27.0961,   5.8026, 2, 6, 0.16, 0.11, 0.01, 0.015,  -999.00, 9, -999.00, -999.00, 9, -999.00
49NZ20071122, P14, X06, 1, 23, X12027, 2, 20071220, 0603, -30.0800, 175.8347, 4256,   1073.7, 2,   4.9244, 2,  34.3893, 2,  34.3892, 6,    192.2, 2,    193.5, 2,    33.06, 2,    30.08, 2,     0.00, 2,     2.09, 2,    0.497, 2,    0.243, 2,    0.010, 2, -999.000, 9,   2194.0, 2,   2304.5, 2,    7.6521,     25.00,   -999.0, 1,   -999.0,  -999.00, 1,   -999.0,   4.8352, 27.2099,   4.9249, 2, 2, 0.19, 0.12, 0.01, 0.015,  -999.00, 9, -999.00, -999.00, 9, -999.00
49NZ20071122, P14, X06, 1, 22, X12028, 2, 20071220, 0603, -30.0800, 175.8347, 4256,   1269.9, 2,   3.9143, 2,  34.4577, 2,  34.4604, 2,    174.3, 2,    174.7, 2,    56.51, 2,    32.62, 2,     0.00, 2,     2.28, 2,    0.173, 2,    0.089, 2,    0.008, 2, -999.000, 9,   2229.5, 2,   2330.4, 2,    7.6184,     25.00,   -999.0, 1,   -999.0,  -999.00, 1,   -999.0,   3.8166, 27.3735,   3.9136, 2, 2, 0.24, 0.12, 0.01, 0.016,  -999.00, 9, -999.00, -999.00, 9, -999.00
49NZ20071122, P14, X06, 1, 21, X12009, 2, 20071220, 0603, -30.0800, 175.8347, 4256,   1470.7, 2,   3.1938, 2,  34.5543, 2,  34.5554, 2,    161.6, 2,    161.6, 2,    81.63, 2,    33.73, 2,     0.00, 2,     2.38, 2,    0.081, 2,    0.042, 2,    0.005, 2, -999.000, 9,   2261.3, 2,   2359.3, 2,    7.6061,     25.00,   -999.0, 1,   -999.0,  -999.00, 1,   -999.0,   3.0863, 27.5214,   3.1939, 2, 2, 0.30, 0.13, 0.01, 0.016,  -999.00, 9, -999.00, -999.00, 9, -999.00
49NZ20071122, P14, X06, 1, 20, X12026, 2, 20071220, 0603, -30.0800, 175.8347, 4256,   1671.4, 2,   2.7276, 2,  34.5972, 2,  34.5977, 2,    156.3, 2,    156.0, 2,    95.70, 2,    34.46, 2,     0.00, 2,     2.43, 2,    0.034, 2,    0.018, 2,    0.000, 2, -999.000, 9,   2280.3, 2,   2374.9, 2,    7.5989,     25.00,   -999.0, 1,   -999.0,  -999.00, 1,   -999.0,   2.6087, 27.5985,   2.7275, 2, 6, 0.33, 0.13, 0.01, 0.016,  -999.00, 9, -999.00, -999.00, 9, -999.00
49NZ20071122, P14, X06, 1, 19, X12025, 2, 20071220, 0603, -30.0800, 175.8347, 4256,   1871.4, 2,   2.4234, 2,  34.6236, 2,  34.6238, 2,    153.0, 2,    153.0, 2,   105.03, 2,    35.02, 2,     0.00, 2,     2.46, 2,    0.009, 2,    0.005, 2,    0.000, 2, -999.000, 9,   2290.8, 2,   2385.7, 2,    7.5953,     25.00,   -999.0, 1,   -999.0,  -999.00, 1,   -999.0,   2.2916, 27.6465,   2.4232, 2, 2, 0.35, 0.13, 0.01, 0.016,  -999.00, 9, -999.00, -999.00, 9, -999.00
49NZ20071122, P14, X06, 1, 18, X12024, 2, 20071220, 0603, -30.0800, 175.8347, 4256,   2071.2, 2,   2.2238, 2,  34.6414, 2,  34.6418, 2,    152.2, 2,    152.0, 2,   110.78, 2,    35.10, 2,     0.00, 2,     2.48, 2,    0.004, 2,    0.001, 2,    0.000, 2, -999.000, 9,   2296.6, 2,   2391.0, 2,    7.5940,     25.00,   -999.0, 1,   -999.0,  -999.00, 1,   -999.0,   2.0778, 27.6782,   2.2240, 2, 2, 0.36, 0.13, 0.01, 0.016,  -999.00, 9, -999.00, -999.00, 9, -999.00
49NZ20071122, P14, X06, 1, 17, X12023, 2, 20071220, 0603, -30.0800, 175.8347, 4256,   2271.7, 2,   2.0856, 2,  34.6542, 2,  34.6540, 6,    152.2, 2,    152.1, 2,   114.54, 2,    35.23, 2,     0.00, 2,     2.48, 2,    0.001, 2,    0.000, 2,    0.000, 2, -999.000, 9,   2302.1, 2,   2395.1, 2,    7.5940,     25.00,   -999.0, 1,   -999.0,  -999.00, 1,   -999.0,   1.9243, 27.7006,   2.0856, 2, 2, 0.37, 0.13, 0.01, 0.016,  -999.00, 9, -999.00, -999.00, 9, -999.00
49NZ20071122, P14, X06, 1, 16, X12022, 2, 20071220, 0603, -30.0800, 175.8347, 4256,   2470.2, 2,   1.9989, 2,  34.6626, 2,  34.6623, 2,    152.8, 2,    152.6, 2,   116.95, 2,    35.17, 2,     0.00, 2,     2.48, 2,    0.006, 2,    0.003, 2,    0.000, 2, -999.000, 9,   2304.2, 2,   2398.6, 2,    7.5944,     25.00,   -999.0, 1,   -999.0,  -999.00, 1,   -999.0,   1.8213, 27.7153,   1.9989, 2, 2, 0.38, 0.13, 0.01, 0.016,  -999.00, 9, -999.00, -999.00, 9, -999.00
49NZ20071122, P14, X06, 1, 15, X12021, 2, 20071220, 0603, -30.0800, 175.8347, 4256,   2670.3, 2,   1.9273, 2,  34.6697, 2,  34.6693, 2,    153.2, 2,    153.1, 2,   118.80, 2,    35.21, 2,     0.00, 2,     2.48, 2,    0.001, 2,    0.000, 2,    0.000, 2, -999.000, 9,   2309.5, 2,   2400.7, 6,    7.5959,     25.00,   -999.0, 1,   -999.0,  -999.00, 1,   -999.0,   1.7326, 27.7278,   1.9273, 2, 2, 0.38, 0.13, 0.01, 0.016,  -999.00, 9, -999.00, -999.00, 9, -999.00
49NZ20071122, P14, X06, 1, 14, X12020, 2, 20071220, 0603, -30.0800, 175.8347, 4256,   2869.4, 2,   1.8813, 2,  34.6745, 2,  34.6743, 2,    153.6, 2,    153.8, 2,   120.25, 2,    35.25, 2,     0.00, 2,     2.49, 2,    0.000, 2,    0.003, 2,    0.000, 2, -999.000, 9,   2310.8, 2,   2403.0, 2,    7.5970,     25.00,   -999.0, 1,   -999.0,  -999.00, 1,   -999.0,   1.6688, 27.7365,   1.8813, 2, 6, 0.38, 0.13, 0.01, 0.016,  -999.00, 9, -999.00, -999.00, 9, -999.00
49NZ20071122, P14, X06, 1, 13, X12019, 2, 20071220, 0603, -30.0800, 175.8347, 4256,   3081.0, 2,   1.8566, 2,  34.6778, 2,  34.6773, 2,    154.0, 2,    153.9, 2,   121.32, 2,    35.27, 2,     0.00, 2,     2.48, 2,    0.000, 2,    0.000, 2,    0.000, 2, -999.000, 9,   2313.6, 2,   2403.9, 2,    7.5973,     25.00,   -999.0, 1,   -999.0,  -999.00, 1,   -999.0,   1.6240, 27.7425,   1.8566, 2, 2, 0.39, 0.13, 0.01, 0.016,  -999.00, 9, -999.00, -999.00, 9, -999.00
49NZ20071122, P14, X06, 1, 12, X12040, 2, 20071220, 0603, -30.0800, 175.8347, 4256,   3331.6, 2,   1.8480, 2,  34.6802, 2,  34.6799, 2,    154.1, 2,    154.1, 2,   122.38, 2,    35.19, 2,     0.00, 2,     2.47, 2,    0.000, 2,    0.000, 2,    0.000, 2, -999.000, 9,   2311.9, 2,   2405.7, 2,    7.5984,     25.00,   -999.0, 1,   -999.0,  -999.00, 1,   -999.0,   1.5905, 27.7469,   1.8480, 2, 2, 0.39, 0.13, 0.01, 0.016,  -999.00, 9, -999.00, -999.00, 9, -999.00
49NZ20071122, P14, X06, 1, 11, X12047, 2, 20071220, 0603, -30.0800, 175.8347, 4256,   3580.0, 2,   1.8538, 2,  34.6815, 2,  34.6812, 6,    154.2, 2,    154.2, 2,   122.90, 2,    35.22, 2,     0.00, 2,     2.48, 2, -999.000, 9, -999.000, 9, -999.000, 9, -999.000, 9,   2311.7, 2,   2407.0, 2,    7.5988,     25.00,   -999.0, 1,   -999.0,  -999.00, 1,   -999.0,   1.5704, 27.7494,   1.8538, 2, 2, 0.39, 0.13, 0.01, 0.016,  -999.00, 9, -999.00, -999.00, 9, -999.00
49NZ20071122, P14, X06, 1, 10, X12012, 2, 20071220, 0603, -30.0800, 175.8347, 4256,   3831.1, 2,   1.8681, 2,  34.6820, 2,  34.6820, 2,    154.5, 2,    154.4, 2,   123.33, 2,    35.21, 2,     0.00, 2,     2.48, 2,    0.000, 2,    0.000, 2,    0.000, 2, -999.000, 9,   2313.4, 2,   2407.5, 2,    7.5993,     25.00,   -999.0, 1,   -999.0,  -999.00, 1,   -999.0,   1.5574, 27.7508,   1.8682, 2, 2, 0.39, 0.13, 0.01, 0.016,  -999.00, 9, -999.00, -999.00, 9, -999.00
49NZ20071122, P14, X06, 1, 9, X12015, 2, 20071220, 0603, -30.0800, 175.8347, 4256,   4079.8, 2,   1.8898, 2,  34.6821, 2,  34.6824, 2,    155.0, 2,    154.7, 2,   122.96, 2,    35.19, 2,     0.00, 2,     2.48, 2, -999.000, 9, -999.000, 9, -999.000, 9, -999.000, 9,   2311.5, 2,   2406.5, 2,    7.5992,     25.00,   -999.0, 1,   -999.0,  -999.00, 1,   -999.0,   1.5510, 27.7513,   1.8898, 2, 2, 0.39, 0.13, 0.01, 0.016,  -999.00, 9, -999.00, -999.00, 9, -999.00
49NZ20071122, P14, X06, 1, 8, X12046, 3, 20071220, 0603, -30.0800, 175.8347, 4256,   4080.3, 2,   1.8901, 2,  34.6821, 2, -999.0000, 9,    154.9, 2,   -999.0, 9,  -999.00, 9,  -999.00, 9,  -999.00, 9,  -999.00, 9, -999.000, 9, -999.000, 9, -999.000, 9, -999.000, 9,   -999.0, 9,   -999.0, 9, -999.0000,   -999.00,   -999.0, 9,   -999.0,  -999.00, 9,   -999.0,   1.5513, 27.7513,   1.8900, 2, 9, -999.00, -999.00, -999.00, -999.000,  -999.00, 9, -999.00, -999.00, 9, -999.00
49NZ20071122, P14, X06, 1, 7, X12044, 2, 20071220, 0603, -30.0800, 175.8347, 4256,   4079.5, 2,   1.8899, 2,  34.6822, 2, -999.0000, 9,    155.0, 2,   -999.0, 9,  -999.00, 9,  -999.00, 9,  -999.00, 9,  -999.00, 9, -999.000, 9, -999.000, 9, -999.000, 9, -999.000, 9,   -999.0, 9,   -999.0, 9, -999.0000,   -999.00,   -999.0, 9,   -999.0,  -999.00, 9,   -999.0,   1.5512, 27.7514,   1.8900, 2, 9, -999.00, -999.00, -999.00, -999.000,  -999.00, 9, -999.00, -999.00, 9, -999.00
49NZ20071122, P14, X06, 1, 6, X12048, 2, 20071220, 0603, -30.0800, 175.8347, 4256,   4079.9, 2,   1.8900, 2,  34.6822, 2, -999.0000, 9,    155.0, 2,   -999.0, 9,  -999.00, 9,  -999.00, 9,  -999.00, 9,  -999.00, 9, -999.000, 9, -999.000, 9, -999.000, 9, -999.000, 9,   -999.0, 9,   -999.0, 9, -999.0000,   -999.00,   -999.0, 9,   -999.0,  -999.00, 9,   -999.0,   1.5512, 27.7514,   1.8901, 2, 9, -999.00, -999.00, -999.00, -999.000,  -999.00, 9, -999.00, -999.00, 9, -999.00
49NZ20071122, P14, X06, 1, 5, X12014, 2, 20071220, 0603, -30.0800, 175.8347, 4256,   4079.7, 2,   1.8899, 2,  34.6822, 2, -999.0000, 9,    155.0, 2,   -999.0, 9,  -999.00, 9,  -999.00, 9,  -999.00, 9,  -999.00, 9, -999.000, 9, -999.000, 9, -999.000, 9, -999.000, 9,   -999.0, 9,   -999.0, 9, -999.0000,   -999.00,   -999.0, 9,   -999.0,  -999.00, 9,   -999.0,   1.5512, 27.7514,   1.8900, 2, 9, -999.00, -999.00, -999.00, -999.000,  -999.00, 9, -999.00, -999.00, 9, -999.00
49NZ20071122, P14, X06, 1, 4, X12006, 2, 20071220, 0603, -30.0800, 175.8347, 4256,   4079.9, 2,   1.8898, 2,  34.6822, 2, -999.0000, 9,    155.0, 2,   -999.0, 9,  -999.00, 9,  -999.00, 9,  -999.00, 9,  -999.00, 9, -999.000, 9, -999.000, 9, -999.000, 9, -999.000, 9,   -999.0, 9,   -999.0, 9, -999.0000,   -999.00,   -999.0, 9,   -999.0,  -999.00, 9,   -999.0,   1.5510, 27.7514,   1.8899, 2, 9, -999.00, -999.00, -999.00, -999.000,  -999.00, 9, -999.00, -999.00, 9, -999.00
49NZ20071122, P14, X06, 1, 3, X12013, 2, 20071220, 0603, -30.0800, 175.8347, 4256,   4080.1, 2,   1.8899, 2,  34.6821, 2, -999.0000, 9,    155.0, 2,   -999.0, 9,  -999.00, 9,  -999.00, 9,  -999.00, 9,  -999.00, 9, -999.000, 9, -999.000, 9, -999.000, 9, -999.000, 9,   -999.0, 9,   -999.0, 9, -999.0000,   -999.00,   -999.0, 9,   -999.0,  -999.00, 9,   -999.0,   1.5511, 27.7513,   1.8899, 2, 9, -999.00, -999.00, -999.00, -999.000,  -999.00, 9, -999.00, -999.00, 9, -999.00
49NZ20071122, P14, X06, 1, 2, X12002, 2, 20071220, 0603, -30.0800, 175.8347, 4256,   4080.4, 2,   1.8898, 2,  34.6822, 2, -999.0000, 9,    154.9, 2,   -999.0, 9,  -999.00, 9,  -999.00, 9,  -999.00, 9,  -999.00, 9, -999.000, 9, -999.000, 9, -999.000, 9, -999.000, 9,   -999.0, 9,   -999.0, 9, -999.0000,   -999.00,   -999.0, 9,   -999.0,  -999.00, 9,   -999.0,   1.5510, 27.7514,   1.8899, 2, 9, -999.00, -999.00, -999.00, -999.000,  -999.00, 9, -999.00, -999.00, 9, -999.00
49NZ20071122, P14, X06, 1, 1, X12001, 2, 20071220, 0603, -30.0800, 175.8347, 4256,   4310.4, 2,   1.9143, 2,  34.6822, 2,  34.6822, 6,    155.0, 2,    154.8, 2,   123.20, 2,    35.18, 2,     0.00, 2,     2.48, 2,    0.001, 2,    0.001, 2,    0.000, 2, -999.000, 9,   2311.5, 2,   2406.5, 2,    7.5991,     25.00,   -999.0, 1,   -999.0,  -999.00, 1,   -999.0,   1.5486, 27.7515,   1.9143, 2, 2, 0.39, 0.13, 0.01, 0.016,  -999.00, 9, -999.00, -999.00, 9, -999.00