BOTTLE,20220820CCHSIOAMB
EXPOCODE,SECT_ID,STNNBR,CASTNO,SAMPNO,BTLNBR,BTLNBR_FLAG_W,DATE,TIME,LATITUDE,LONGITUDE,DEPTH,CTDPRS,CTDPRS_FLAG_W,CTDTMP,CTDTMP_FLAG_W,CTDSAL,CTDSAL_FLAG_W,SALNTY,SALNTY_FLAG_W,CTDOXY,CTDOXY_FLAG_W,OXYGEN,OXYGEN_FLAG_W,SILCAT,SILCAT_FLAG_W,NITRAT,NITRAT_FLAG_W,NITRIT,NITRIT_FLAG_W,PHSPHT,PHSPHT_FLAG_W,CFC-11,CFC-11_FLAG_W,CFC-12,CFC-12_FLAG_W,CFC113,CFC113_FLAG_W,CCL4,CCL4_FLAG_W,TCARBN,TCARBN_FLAG_W,ALKALI,ALKALI_FLAG_W,PH_TOT,PH_TMP,DELC14,DELC14_FLAG_W,C14ERR,DELC13,DELC13_FLAG_W,C13ERR,THETA,SIG0,SBE35,SBE35_FLAG_W,PH_TOT_FLAG_W,SILUNC,NRAUNC,NRIUNC,PHPUNC,CS-137,CS-137_FLAG_W,CS137ER,PLUTO,PLUTO_FLAG_W,PLUTOER
,,,,,,,,,,,METERS,DBAR,,ITS-90,,PSS-78,,PSS-78,,UMOL/KG,,UMOL/KG,,UMOL/KG,,UMOL/KG,,UMOL/KG,,UMOL/KG,,PMOL/KG,,PMOL/KG,,PMOL/KG,,PMOL/KG,,UMOL/KG,,UMOL/KG,,,DEG C,/MILLE,,/MILLE,/MILLE,,/MILLE,DEG C,KG/M^3,ITS-90,,,UMOL/KG,UMOL/KG,UMOL/KG,UMOL/KG,DM/.1MG,,BQ/M^3,MBQ/M^3,,MBQ/M^3
49NZ20071122, P14, 20, 1, 36, X12042, 2, 20071219, 1504, -28.7065, 176.2223, 3974,     10.6, 2,  22.8346, 2,  35.4603, 2,  35.4613, 2,    218.9, 2,    219.0, 2,     0.41, 2,     0.03, 2,     0.01, 2,     0.06, 2,    1.963, 2,    1.185, 2,    0.287, 4, -999.000, 9,   -999.0, 9,   -999.0, 9, -999.0000,   -999.00,   -999.0, 9,   -999.0,  -999.00, 9,   -999.0,  22.8324, 24.3310,  22.8295, 2, 9, 0.12, 0.03, 0.01, 0.030,  -999.00, 9, -999.00, -999.00, 9, -999.00
49NZ20071122, P14, 20, 1, 35, X12041, 2, 20071219, 1504, -28.7065, 176.2223, 3974,     51.5, 2,  21.9176, 2,  35.5584, 2,  35.5624, 2,    219.1, 2,    221.3, 2,     0.40, 2,     0.02, 2,     0.01, 2,     0.06, 2,    1.982, 2,    1.199, 2,    0.343, 4, -999.000, 9,   -999.0, 9,   -999.0, 9, -999.0000,   -999.00,   -999.0, 9,   -999.0,  -999.00, 9,   -999.0,  21.9074, 24.6682,  21.9173, 2, 9, 0.12, 0.03, 0.01, 0.030,  -999.00, 9, -999.00, -999.00, 9, -999.00
49NZ20071122, P14, 20, 1, 34, X12016, 2, 20071219, 1504, -28.7065, 176.2223, 3974,    101.3, 2,  19.7784, 2,  35.7177, 2,  35.7417, 2,    208.8, 2,    213.0, 2,     0.50, 2,     0.61, 2,     0.10, 2,     0.16, 2,    2.161, 2,    1.274, 2,    0.290, 4, -999.000, 9,   -999.0, 9,   -999.0, 9, -999.0000,   -999.00,   -999.0, 9,   -999.0,  -999.00, 9,   -999.0,  19.7598, 25.3727,  19.7798, 2, 9, 0.12, 0.03, 0.01, 0.017,  -999.00, 9, -999.00, -999.00, 9, -999.00
49NZ20071122, P14, 20, 1, 33, X12033, 2, 20071219, 1504, -28.7065, 176.2223, 3974,    150.6, 2,  18.9003, 2,  35.7410, 2,  35.7392, 2,    209.9, 2,    212.1, 2,     0.63, 2,     1.82, 2,     0.11, 2,     0.24, 2,    2.224, 2,    1.304, 2,    0.188, 4, -999.000, 9,   -999.0, 9,   -999.0, 9, -999.0000,   -999.00,   -999.0, 9,   -999.0,  -999.00, 9,   -999.0,  18.8734, 25.6201,  18.9026, 2, 9, 0.12, 0.04, 0.01, 0.015,  -999.00, 9, -999.00, -999.00, 9, -999.00
49NZ20071122, P14, 20, 1, 32, X12038, 2, 20071219, 1504, -28.7065, 176.2223, 3974,    199.1, 2,  18.0518, 2,  35.7082, 2,  35.7083, 2,    208.7, 2,    212.6, 2,     0.75, 2,     2.56, 2,     0.02, 2,     0.29, 2,    2.311, 2,    1.340, 2,    0.170, 4, -999.000, 9,   -999.0, 9,   -999.0, 9, -999.0000,   -999.00,   -999.0, 9,   -999.0,  -999.00, 9,   -999.0,  18.0174, 25.8103,  18.0556, 2, 9, 0.12, 0.04, 0.01, 0.014,  -999.00, 9, -999.00, -999.00, 9, -999.00
49NZ20071122, P14, 20, 1, 31, X12003, 2, 20071219, 1504, -28.7065, 176.2223, 3974,    253.0, 2,  17.0535, 2,  35.5638, 2,  35.5701, 6,    199.3, 2,    197.1, 2,     1.26, 2,     5.10, 2,     0.01, 2,     0.45, 2,    2.373, 2,    1.351, 2,    0.079, 2, -999.000, 9,   -999.0, 9,   -999.0, 9, -999.0000,   -999.00,   -999.0, 9,   -999.0,  -999.00, 9,   -999.0,  17.0114, 25.9444,  17.0837, 2, 9, 0.12, 0.05, 0.01, 0.013,  -999.00, 9, -999.00, -999.00, 9, -999.00
49NZ20071122, P14, 20, 1, 30, X12008, 2, 20071219, 1504, -28.7065, 176.2223, 3974,    332.1, 2,  15.1971, 2,  35.3519, 2,  35.3481, 2,    195.0, 2,    194.8, 2,     2.08, 2,     7.98, 2,     0.01, 2,     0.65, 2,    2.478, 2,    1.368, 2,    0.060, 2, -999.000, 9,   -999.0, 9,   -999.0, 9, -999.0000,   -999.00,   -999.0, 9,   -999.0,  -999.00, 9,   -999.0,  15.1460, 26.2111,  15.1993, 2, 9, 0.12, 0.06, 0.01, 0.013,  -999.00, 9, -999.00, -999.00, 9, -999.00
49NZ20071122, P14, 20, 1, 29, X12035, 2, 20071219, 1504, -28.7065, 176.2223, 3974,    430.2, 2,  12.6920, 2,  35.0699, 2,  35.0616, 2,    195.0, 2,    195.2, 2,     3.75, 2,    12.62, 2,     0.01, 2,     0.94, 2,    2.456, 2,    1.310, 2,    0.067, 2, -999.000, 9,   -999.0, 9,   -999.0, 9, -999.0000,   -999.00,   -999.0, 9,   -999.0,  -999.00, 9,   -999.0,  12.6332, 26.5202,  12.6927, 2, 9, 0.13, 0.07, 0.01, 0.013,  -999.00, 9, -999.00, -999.00, 9, -999.00
49NZ20071122, P14, 20, 1, 28, X12034, 2, 20071219, 1504, -28.7065, 176.2223, 3974,    530.1, 2,  10.5762, 2,  34.8044, 2,  34.7942, 6,    200.5, 2,    201.1, 2,     5.16, 2,    16.55, 2,     0.01, 2,     1.19, 2,    2.439, 2,    1.251, 2,    0.074, 2, -999.000, 9,   -999.0, 9,   -999.0, 9, -999.0000,   -999.00,   -999.0, 9,   -999.0,  -999.00, 9,   -999.0,  10.5116, 26.7105,  10.5771, 2, 9, 0.13, 0.08, 0.01, 0.013,  -999.00, 9, -999.00, -999.00, 9, -999.00
49NZ20071122, P14, 20, 1, 27, X12049, 2, 20071219, 1504, -28.7065, 176.2223, 3974,    632.5, 2,   8.6589, 2,  34.5863, 2,  34.5848, 2,    211.7, 2,    210.5, 2,     6.99, 2,    20.17, 2,     0.01, 2,     1.42, 2,    2.369, 2,    1.184, 2,    0.080, 2, -999.000, 9,   -999.0, 9,   -999.0, 9, -999.0000,   -999.00,   -999.0, 9,   -999.0,  -999.00, 9,   -999.0,   8.5904, 26.8588,   8.6603, 2, 9, 0.13, 0.09, 0.01, 0.014,  -999.00, 9, -999.00, -999.00, 9, -999.00
49NZ20071122, P14, 20, 1, 26, X12032, 2, 20071219, 1504, -28.7065, 176.2223, 3974,    732.7, 2,   7.5127, 2,  34.4692, 2,  34.4691, 2,    216.9, 2,    218.4, 2,     8.83, 2,    22.50, 2,     0.01, 2,     1.57, 2,    2.112, 2,    1.029, 2,    0.068, 2, -999.000, 9,   -999.0, 9,   -999.0, 9, -999.0000,   -999.00,   -999.0, 9,   -999.0,  -999.00, 9,   -999.0,   7.4392, 26.9389,   7.5117, 2, 9, 0.14, 0.10, 0.01, 0.014,  -999.00, 9, -999.00, -999.00, 9, -999.00
49NZ20071122, P14, 20, 1, 25, X12043, 2, 20071219, 1504, -28.7065, 176.2223, 3974,    830.8, 2,   6.6298, 2,  34.3960, 2,  34.3968, 2,    217.9, 2,    219.7, 2,    11.97, 2,    24.62, 2,     0.01, 2,     1.71, 2,    1.599, 2,    0.776, 2,    0.042, 2, -999.000, 9,   -999.0, 9,   -999.0, 9, -999.0000,   -999.00,   -999.0, 9,   -999.0,  -999.00, 9,   -999.0,   6.5515, 27.0037,   6.6296, 2, 9, 0.15, 0.10, 0.01, 0.014,  -999.00, 9, -999.00, -999.00, 9, -999.00
49NZ20071122, P14, 20, 1, 24, X12030, 2, 20071219, 1504, -28.7065, 176.2223, 3974,    929.9, 2,   5.8202, 2,  34.3663, 2,  34.3659, 2,    209.0, 2,    210.3, 2,    18.90, 2,    27.27, 2,     0.01, 2,     1.89, 2,    0.970, 2,    0.471, 2,    0.031, 2, -999.000, 9,   -999.0, 9,   -999.0, 9, -999.0000,   -999.00,   -999.0, 9,   -999.0,  -999.00, 9,   -999.0,   5.7376, 27.0847,   5.8205, 2, 9, 0.16, 0.11, 0.01, 0.015,  -999.00, 9, -999.00, -999.00, 9, -999.00
49NZ20071122, P14, 20, 1, 23, X12027, 2, 20071219, 1504, -28.7065, 176.2223, 3974,   1072.0, 2,   4.9705, 2,  34.3884, 2,  34.3880, 6,    191.8, 2,    192.7, 2,    32.63, 2,    30.28, 2,     0.01, 2,     2.10, 2,    0.446, 2,    0.225, 2,    0.008, 2, -999.000, 9,   -999.0, 9,   -999.0, 9, -999.0000,   -999.00,   -999.0, 9,   -999.0,  -999.00, 9,   -999.0,   4.8811, 27.2040,   4.9708, 2, 9, 0.19, 0.12, 0.01, 0.015,  -999.00, 9, -999.00, -999.00, 9, -999.00
49NZ20071122, P14, 20, 1, 22, X12028, 2, 20071219, 1504, -28.7065, 176.2223, 3974,   1272.7, 2,   3.7997, 2,  34.4651, 2,  34.4646, 2,    172.7, 2,    173.3, 2,    58.55, 2,    33.00, 2,     0.01, 2,     2.30, 2,    0.136, 2,    0.068, 2,    0.000, 2, -999.000, 9,   -999.0, 9,   -999.0, 9, -999.0000,   -999.00,   -999.0, 9,   -999.0,  -999.00, 9,   -999.0,   3.7028, 27.3908,   3.8001, 2, 9, 0.25, 0.13, 0.01, 0.016,  -999.00, 9, -999.00, -999.00, 9, -999.00
49NZ20071122, P14, 20, 1, 21, X12009, 2, 20071219, 1504, -28.7065, 176.2223, 3974,   1474.2, 2,   3.1234, 2,  34.5553, 2,  34.5559, 2,    161.3, 2,    161.2, 2,    82.90, 2,    34.13, 2,     0.01, 2,     2.39, 2,    0.063, 2,    0.032, 2,    0.000, 2, -999.000, 9,   -999.0, 9,   -999.0, 9, -999.0000,   -999.00,   -999.0, 9,   -999.0,  -999.00, 9,   -999.0,   3.0164, 27.5286,   3.1237, 2, 9, 0.30, 0.13, 0.01, 0.016,  -999.00, 9, -999.00, -999.00, 9, -999.00
49NZ20071122, P14, 20, 1, 20, X12026, 2, 20071219, 1504, -28.7065, 176.2223, 3974,   1671.6, 2,   2.6591, 2,  34.6024, 2,  34.6025, 2,    155.8, 2,    155.9, 2,    97.55, 2,    34.86, 2,     0.01, 2,     2.44, 2,    0.030, 2,    0.013, 2,    0.000, 2, -999.000, 9,   -999.0, 9,   -999.0, 9, -999.0000,   -999.00,   -999.0, 9,   -999.0,  -999.00, 9,   -999.0,   2.5410, 27.6085,   2.6593, 2, 9, 0.33, 0.13, 0.01, 0.016,  -999.00, 9, -999.00, -999.00, 9, -999.00
49NZ20071122, P14, 20, 1, 19, X12025, 2, 20071219, 1504, -28.7065, 176.2223, 3974,   1872.5, 2,   2.3888, 2,  34.6266, 2,  34.6267, 2,    153.7, 2,    153.7, 2,   105.67, 2,    35.16, 2,     0.01, 2,     2.46, 2,    0.010, 2,    0.005, 2,    0.000, 2, -999.000, 9,   -999.0, 9,   -999.0, 9, -999.0000,   -999.00,   -999.0, 9,   -999.0,  -999.00, 9,   -999.0,   2.2574, 27.6518,   2.3889, 2, 9, 0.35, 0.13, 0.01, 0.016,  -999.00, 9, -999.00, -999.00, 9, -999.00
49NZ20071122, P14, 20, 1, 18, X12024, 2, 20071219, 1504, -28.7065, 176.2223, 3974,   2072.4, 2,   2.1841, 2,  34.6447, 2,  34.6448, 2,    152.6, 2,    152.7, 2,   111.69, 2,    35.30, 2,     0.01, 2,     2.48, 2,    0.003, 2,    0.001, 2,    0.000, 2, -999.000, 9,   -999.0, 9,   -999.0, 9, -999.0000,   -999.00,   -999.0, 9,   -999.0,  -999.00, 9,   -999.0,   2.0386, 27.6840,   2.1842, 2, 9, 0.36, 0.13, 0.01, 0.016,  -999.00, 9, -999.00, -999.00, 9, -999.00
49NZ20071122, P14, 20, 1, 17, X12023, 2, 20071219, 1504, -28.7065, 176.2223, 3974,   2270.1, 2,   2.0510, 2,  34.6568, 2,  34.6569, 6,    152.6, 2,    153.0, 2,   115.23, 2,    35.38, 2,     0.01, 2,     2.48, 2, -999.000, 9, -999.000, 9, -999.000, 9, -999.000, 9,   -999.0, 9,   -999.0, 9, -999.0000,   -999.00,   -999.0, 9,   -999.0,  -999.00, 9,   -999.0,   1.8904, 27.7053,   2.0510, 2, 9, 0.37, 0.13, 0.01, 0.016,  -999.00, 9, -999.00, -999.00, 9, -999.00
49NZ20071122, P14, 20, 1, 16, X12022, 2, 20071219, 1504, -28.7065, 176.2223, 3974,   2470.1, 2,   1.9730, 2,  34.6646, 2,  34.6641, 2,    153.2, 2,    153.5, 2,   117.26, 2,    35.44, 2,     0.01, 2,     2.48, 2,    0.002, 2,    0.001, 2,    0.000, 2, -999.000, 9,   -999.0, 9,   -999.0, 9, -999.0000,   -999.00,   -999.0, 9,   -999.0,  -999.00, 9,   -999.0,   1.7959, 27.7189,   1.9731, 2, 9, 0.38, 0.13, 0.01, 0.016,  -999.00, 9, -999.00, -999.00, 9, -999.00
49NZ20071122, P14, 20, 1, 15, X12021, 2, 20071219, 1504, -28.7065, 176.2223, 3974,   2669.8, 2,   1.8913, 2,  34.6724, 2,  34.6723, 2,    153.8, 2,    154.0, 2,   119.53, 2,    35.41, 2,     0.01, 2,     2.48, 2, -999.000, 9, -999.000, 9, -999.000, 9, -999.000, 9,   -999.0, 9,   -999.0, 9, -999.0000,   -999.00,   -999.0, 9,   -999.0,  -999.00, 9,   -999.0,   1.6974, 27.7326,   1.8912, 2, 9, 0.38, 0.13, 0.01, 0.016,  -999.00, 9, -999.00, -999.00, 9, -999.00
49NZ20071122, P14, 20, 1, 14, X12020, 2, 20071219, 1504, -28.7065, 176.2223, 3974,   2869.4, 2,   1.8685, 2,  34.6754, 2,  34.6751, 2,    154.0, 2,    154.5, 2,   120.32, 2,    35.32, 2,     0.01, 2,     2.48, 2,    0.003, 2,    0.000, 2,    0.000, 2, -999.000, 9,   -999.0, 9,   -999.0, 9, -999.0000,   -999.00,   -999.0, 9,   -999.0,  -999.00, 9,   -999.0,   1.6562, 27.7382,   1.8684, 2, 9, 0.38, 0.13, 0.01, 0.016,  -999.00, 9, -999.00, -999.00, 9, -999.00
49NZ20071122, P14, 20, 1, 13, X12019, 2, 20071219, 1504, -28.7065, 176.2223, 3974,   3080.5, 2,   1.8602, 2,  34.6775, 2,  34.6772, 2,    154.4, 2,    154.6, 2,   121.06, 2,    35.46, 2,     0.01, 2,     2.49, 2, -999.000, 9, -999.000, 9, -999.000, 9, -999.000, 9,   -999.0, 9,   -999.0, 9, -999.0000,   -999.00,   -999.0, 9,   -999.0,  -999.00, 9,   -999.0,   1.6276, 27.7420,   1.8602, 2, 9, 0.39, 0.13, 0.01, 0.016,  -999.00, 9, -999.00, -999.00, 9, -999.00
49NZ20071122, P14, 20, 1, 12, X12040, 2, 20071219, 1504, -28.7065, 176.2223, 3974,   3329.6, 2,   1.8552, 2,  34.6795, 2,  34.6794, 2,    154.5, 2,    154.9, 2,   121.96, 2,    35.31, 2,     0.01, 2,     2.47, 2,    0.002, 2,    0.001, 2,    0.000, 2, -999.000, 9,   -999.0, 9,   -999.0, 9, -999.0000,   -999.00,   -999.0, 9,   -999.0,  -999.00, 9,   -999.0,   1.5977, 27.7458,   1.8551, 2, 9, 0.39, 0.13, 0.01, 0.016,  -999.00, 9, -999.00, -999.00, 9, -999.00
49NZ20071122, P14, 20, 1, 11, X12047, 2, 20071219, 1504, -28.7065, 176.2223, 3974,   3580.8, 2,   1.8574, 2,  34.6812, 2,  34.6809, 6,    154.7, 2,    154.9, 2,   122.38, 2,    35.39, 2,     0.01, 2,     2.48, 2, -999.000, 9, -999.000, 9, -999.000, 9, -999.000, 9,   -999.0, 9,   -999.0, 9, -999.0000,   -999.00,   -999.0, 9,   -999.0,  -999.00, 9,   -999.0,   1.5738, 27.7489,   1.8574, 2, 9, 0.39, 0.13, 0.01, 0.016,  -999.00, 9, -999.00, -999.00, 9, -999.00
49NZ20071122, P14, 20, 1, 10, X12012, 2, 20071219, 1504, -28.7065, 176.2223, 3974,   3830.2, 2,   1.8741, 2,  34.6816, 2,  34.6813, 2,    154.9, 2,    155.0, 2,   122.70, 2,    35.42, 2,     0.01, 2,     2.48, 2,    0.003, 2,    0.001, 2,    0.000, 2, -999.000, 9,   -999.0, 9,   -999.0, 9, -999.0000,   -999.00,   -999.0, 9,   -999.0,  -999.00, 9,   -999.0,   1.5634, 27.7500,   1.8741, 2, 9, 0.39, 0.13, 0.01, 0.016,  -999.00, 9, -999.00, -999.00, 9, -999.00
49NZ20071122, P14, 20, 1, 9, X12015, 9, 20071219, 1504, -28.7065, 176.2223, 3974,     51.5, 2,  21.9083, 2,  35.5600, 2, -999.0000, 9,    219.9, 2,   -999.0, 9,  -999.00, 9,  -999.00, 9,  -999.00, 9,  -999.00, 9, -999.000, 9, -999.000, 9, -999.000, 9, -999.000, 9,   -999.0, 9,   -999.0, 9, -999.0000,   -999.00,   -999.0, 9,   -999.0,  -999.00, 9,   -999.0,  21.8981, 24.6720,  21.9057, 2, 9, -999.00, -999.00, -999.00, -999.000,  -999.00, 9, -999.00, -999.00, 9, -999.00
49NZ20071122, P14, 20, 1, 8, X12046, 9, 20071219, 1504, -28.7065, 176.2223, 3974,     10.9, 2,  22.8812, 2,  35.4611, 2, -999.0000, 9,    218.9, 2,   -999.0, 9,  -999.00, 9,  -999.00, 9,  -999.00, 9,  -999.00, 9, -999.000, 9, -999.000, 9, -999.000, 9, -999.000, 9,   -999.0, 9,   -999.0, 9, -999.0000,   -999.00,   -999.0, 9,   -999.0,  -999.00, 9,   -999.0,  22.8790, 24.3182,  22.8778, 2, 9, -999.00, -999.00, -999.00, -999.000,  -999.00, 9, -999.00, -999.00, 9, -999.00
49NZ20071122, P14, 20, 1, 7, X12044, 9, 20071219, 1504, -28.7065, 176.2223, 3974,    830.7, 2,   6.6312, 2,  34.3961, 2, -999.0000, 9,    217.9, 2,   -999.0, 9,  -999.00, 9,  -999.00, 9,  -999.00, 9,  -999.00, 9, -999.000, 9, -999.000, 9, -999.000, 9, -999.000, 9,   -999.0, 9,   -999.0, 9, -999.0000,   -999.00,   -999.0, 9,   -999.0,  -999.00, 9,   -999.0,   6.5529, 27.0036,   6.6316, 2, 9, -999.00, -999.00, -999.00, -999.000,  -999.00, 9, -999.00, -999.00, 9, -999.00
49NZ20071122, P14, 20, 1, 6, X12048, 9, 20071219, 1504, -28.7065, 176.2223, 3974,    929.8, 2,   5.8194, 2,  34.3662, 2, -999.0000, 9,    209.0, 2,   -999.0, 9,  -999.00, 9,  -999.00, 9,  -999.00, 9,  -999.00, 9, -999.000, 9, -999.000, 9, -999.000, 9, -999.000, 9,   -999.0, 9,   -999.0, 9, -999.0000,   -999.00,   -999.0, 9,   -999.0,  -999.00, 9,   -999.0,   5.7368, 27.0847,   5.8203, 2, 9, -999.00, -999.00, -999.00, -999.000,  -999.00, 9, -999.00, -999.00, 9, -999.00
49NZ20071122, P14, 20, 1, 5, X12014, 9, 20071219, 1504, -28.7065, 176.2223, 3974,   1072.2, 2,   4.9692, 2,  34.3886, 2, -999.0000, 9,    191.8, 2,   -999.0, 9,  -999.00, 9,  -999.00, 9,  -999.00, 9,  -999.00, 9, -999.000, 9, -999.000, 9, -999.000, 9, -999.000, 9,   -999.0, 9,   -999.0, 9, -999.0000,   -999.00,   -999.0, 9,   -999.0,  -999.00, 9,   -999.0,   4.8798, 27.2043,   4.9689, 2, 9, -999.00, -999.00, -999.00, -999.000,  -999.00, 9, -999.00, -999.00, 9, -999.00
49NZ20071122, P14, 20, 1, 4, X12006, 9, 20071219, 1504, -28.7065, 176.2223, 3974,   1272.7, 2,   3.7995, 2,  34.4651, 2, -999.0000, 9,    172.7, 2,   -999.0, 9,  -999.00, 9,  -999.00, 9,  -999.00, 9,  -999.00, 9, -999.000, 9, -999.000, 9, -999.000, 9, -999.000, 9,   -999.0, 9,   -999.0, 9, -999.0000,   -999.00,   -999.0, 9,   -999.0,  -999.00, 9,   -999.0,   3.7026, 27.3909,   3.7998, 2, 9, -999.00, -999.00, -999.00, -999.000,  -999.00, 9, -999.00, -999.00, 9, -999.00
49NZ20071122, P14, 20, 1, 3, X12013, 9, 20071219, 1504, -28.7065, 176.2223, 3974,   3580.4, 2,   1.8574, 2,  34.6812, 2, -999.0000, 9,    154.6, 2,   -999.0, 9,  -999.00, 9,  -999.00, 9,  -999.00, 9,  -999.00, 9, -999.000, 9, -999.000, 9, -999.000, 9, -999.000, 9,   -999.0, 9,   -999.0, 9, -999.0000,   -999.00,   -999.0, 9,   -999.0,  -999.00, 9,   -999.0,   1.5739, 27.7489,   1.8574, 2, 9, -999.00, -999.00, -999.00, -999.000,  -999.00, 9, -999.00, -999.00, 9, -999.00
49NZ20071122, P14, 20, 1, 2, X12002, 9, 20071219, 1504, -28.7065, 176.2223, 3974,   1671.4, 2,   2.6589, 2,  34.6024, 2, -999.0000, 9,    155.8, 2,   -999.0, 9,  -999.00, 9,  -999.00, 9,  -999.00, 9,  -999.00, 9, -999.000, 9, -999.000, 9, -999.000, 9, -999.000, 9,   -999.0, 9,   -999.0, 9, -999.0000,   -999.00,   -999.0, 9,   -999.0,  -999.00, 9,   -999.0,   2.5408, 27.6085,   2.6588, 2, 9, -999.00, -999.00, -999.00, -999.000,  -999.00, 9, -999.00, -999.00, 9, -999.00
49NZ20071122, P14, 20, 1, 1, X12001, 3, 20071219, 1504, -28.7065, 176.2223, 3974,   4059.2, 2,   1.8914, 2,  34.6818, 2,  34.6823, 6,    155.2, 2,    155.5, 2,   122.94, 2,    35.36, 2,     0.01, 2,     2.48, 2,    0.004, 2,    0.001, 2,    0.000, 2, -999.000, 9,   -999.0, 9,   -999.0, 9, -999.0000,   -999.00,   -999.0, 9,   -999.0,  -999.00, 9,   -999.0,   1.5549, 27.7508,   1.8914, 2, 9, 0.39, 0.13, 0.01, 0.016,  -999.00, 9, -999.00, -999.00, 9, -999.00