BOTTLE,20220820CCHSIOAMB
EXPOCODE,SECT_ID,STNNBR,CASTNO,SAMPNO,BTLNBR,BTLNBR_FLAG_W,DATE,TIME,LATITUDE,LONGITUDE,DEPTH,CTDPRS,CTDPRS_FLAG_W,CTDTMP,CTDTMP_FLAG_W,CTDSAL,CTDSAL_FLAG_W,SALNTY,SALNTY_FLAG_W,CTDOXY,CTDOXY_FLAG_W,OXYGEN,OXYGEN_FLAG_W,SILCAT,SILCAT_FLAG_W,NITRAT,NITRAT_FLAG_W,NITRIT,NITRIT_FLAG_W,PHSPHT,PHSPHT_FLAG_W,CFC-11,CFC-11_FLAG_W,CFC-12,CFC-12_FLAG_W,CFC113,CFC113_FLAG_W,CCL4,CCL4_FLAG_W,TCARBN,TCARBN_FLAG_W,ALKALI,ALKALI_FLAG_W,PH_TOT,PH_TMP,DELC14,DELC14_FLAG_W,C14ERR,DELC13,DELC13_FLAG_W,C13ERR,THETA,SIG0,SBE35,SBE35_FLAG_W,PH_TOT_FLAG_W,SILUNC,NRAUNC,NRIUNC,PHPUNC,CS-137,CS-137_FLAG_W,CS137ER,PLUTO,PLUTO_FLAG_W,PLUTOER
,,,,,,,,,,,METERS,DBAR,,ITS-90,,PSS-78,,PSS-78,,UMOL/KG,,UMOL/KG,,UMOL/KG,,UMOL/KG,,UMOL/KG,,UMOL/KG,,PMOL/KG,,PMOL/KG,,PMOL/KG,,PMOL/KG,,UMOL/KG,,UMOL/KG,,,DEG C,/MILLE,,/MILLE,/MILLE,,/MILLE,DEG C,KG/M^3,ITS-90,,,UMOL/KG,UMOL/KG,UMOL/KG,UMOL/KG,DM/.1MG,,BQ/M^3,MBQ/M^3,,MBQ/M^3
49NZ20071122, P14N, 159, 1, 36, X12042, 2, 20071206, 1603, -4.0070, 179.0032, 5255,      9.5, 2,  27.8222, 2,  35.6755, 2,  35.6753, 2,    200.8, 2,    199.8, 2,     1.51, 2,     3.28, 2,     0.27, 2,     0.48, 2,    1.526, 2,    0.963, 2,    0.156, 4,    1.620, 4,   -999.0, 9,   -999.0, 9, -999.0000,   -999.00,   -999.0, 9,   -999.0,  -999.00, 9,   -999.0,  27.8200, 22.9616,  27.8228, 2, 9, 0.12, 0.04, 0.01, 0.013,  -999.00, 9, -999.00, -999.00, 9, -999.00
49NZ20071122, P14N, 159, 1, 35, X12041, 2, 20071206, 1603, -4.0070, 179.0032, 5255,     50.2, 2,  27.8340, 2,  35.6748, 2,  35.6751, 2,    200.0, 2,    199.7, 2,     1.51, 2,     3.27, 2,     0.27, 2,     0.47, 2,    1.527, 2,    0.952, 2,    0.149, 4,    1.618, 4,   -999.0, 9,   -999.0, 9, -999.0000,   -999.00,   -999.0, 9,   -999.0,  -999.00, 9,   -999.0,  27.8222, 22.9603,  27.8328, 2, 9, 0.12, 0.04, 0.01, 0.013,  -999.00, 9, -999.00, -999.00, 9, -999.00
49NZ20071122, P14N, 159, 1, 34, X12016, 2, 20071206, 1603, -4.0070, 179.0032, 5255,     99.7, 2,  27.5318, 2,  35.6460, 2,  35.6459, 2,    193.3, 2,    192.8, 2,     1.61, 2,     3.59, 2,     0.41, 2,     0.54, 2,    1.543, 2,    0.953, 2,    0.153, 4,    1.493, 4,   -999.0, 9,   -999.0, 9, -999.0000,   -999.00,   -999.0, 9,   -999.0,  -999.00, 9,   -999.0,  27.5086, 23.0406,  27.5312, 2, 9, 0.12, 0.04, 0.00, 0.013,  -999.00, 9, -999.00, -999.00, 9, -999.00
49NZ20071122, P14N, 159, 1, 33, X12033, 2, 20071206, 1603, -4.0070, 179.0032, 5255,    150.3, 2,  26.7823, 2,  35.6031, 2,  35.6048, 2,    184.1, 2,    184.7, 2,     2.08, 2,  -999.00, 5,  -999.00, 5,     0.63, 2,    1.599, 6,    0.968, 6,    0.172, 4,    1.638, 4,   -999.0, 9,   -999.0, 9, -999.0000,   -999.00,   -999.0, 9,   -999.0,  -999.00, 9,   -999.0,  26.7479, 23.2526,  26.7804, 2, 9, 0.12, -999.00, -999.00, 0.013,  -999.00, 9, -999.00, -999.00, 9, -999.00
49NZ20071122, P14N, 159, 1, 32, X12038, 2, 20071206, 1603, -4.0070, 179.0032, 5255,    200.0, 2,  23.1553, 2,  36.0034, 2,  35.9934, 2,    137.7, 2,    139.7, 2,     2.42, 2,     8.57, 2,     0.05, 2,     0.85, 2,    1.855, 2,    1.110, 2,    0.106, 2,    0.506, 4,   -999.0, 9,   -999.0, 9, -999.0000,   -999.00,   -999.0, 9,   -999.0,  -999.00, 9,   -999.0,  23.1140, 24.6618,  23.1736, 2, 9, 0.12, 0.06, 0.01, 0.013,  -999.00, 9, -999.00, -999.00, 9, -999.00
49NZ20071122, P14N, 159, 1, 31, X12003, 2, 20071206, 1603, -4.0070, 179.0032, 5255,    251.1, 2,  14.2816, 2,  35.1052, 2,  35.0973, 6,     93.9, 2,     94.2, 2,    11.16, 2,    20.37, 2,     0.02, 2,     1.64, 2,    1.422, 2,    0.768, 2,    0.019, 2,    0.179, 4,   -999.0, 9,   -999.0, 9, -999.0000,   -999.00,   -999.0, 9,   -999.0,  -999.00, 9,   -999.0,  14.2447, 26.2166,  14.2913, 2, 9, 0.14, 0.09, 0.01, 0.014,  -999.00, 9, -999.00, -999.00, 9, -999.00
49NZ20071122, P14N, 159, 1, 30, X12008, 2, 20071206, 1603, -4.0070, 179.0032, 5255,    279.6, 2,  12.0539, 2,  34.9235, 2,  34.9059, 2,     89.8, 2,     88.4, 2,    17.25, 2,    25.61, 2,     0.02, 2,     1.89, 2,    0.946, 2,    0.501, 2,    0.012, 2,    0.138, 4,   -999.0, 9,   -999.0, 9, -999.0000,   -999.00,   -999.0, 9,   -999.0,  -999.00, 9,   -999.0,  12.0172, 26.5264,  12.0692, 2, 9, 0.16, 0.10, 0.01, 0.015,  -999.00, 9, -999.00, -999.00, 9, -999.00
49NZ20071122, P14N, 159, 1, 29, X12035, 2, 20071206, 1603, -4.0070, 179.0032, 5255,    369.7, 2,   9.5456, 2,  34.7118, 2,  34.7096, 2,     81.5, 2,     81.0, 2,    26.09, 2,    31.12, 2,     0.01, 2,     2.19, 2,    0.490, 2,    0.258, 2,    0.010, 2,    0.108, 4,   -999.0, 9,   -999.0, 9, -999.0000,   -999.00,   -999.0, 9,   -999.0,  -999.00, 9,   -999.0,   9.5037, 26.8104,   9.5463, 2, 9, 0.18, 0.12, 0.01, 0.016,  -999.00, 9, -999.00, -999.00, 9, -999.00
49NZ20071122, P14N, 159, 1, 28, X12034, 2, 20071206, 1603, -4.0070, 179.0032, 5255,    469.6, 2,   8.5042, 2,  34.6486, 2,  34.6437, 6,     76.6, 2,     72.6, 2,    31.73, 2,    34.39, 2,     0.01, 2,     2.42, 2,    0.276, 2,    0.139, 2,    0.010, 2,    0.165, 4,   -999.0, 9,   -999.0, 9, -999.0000,   -999.00,   -999.0, 9,   -999.0,  -999.00, 9,   -999.0,   8.4543, 26.9288,   8.5047, 2, 9, 0.19, 0.13, 0.01, 0.016,  -999.00, 9, -999.00, -999.00, 9, -999.00
49NZ20071122, P14N, 159, 1, 27, X12049, 2, 20071206, 1603, -4.0070, 179.0032, 5255,    569.0, 2,   7.5846, 2,  34.6058, 2,  34.6032, 2,     49.7, 2,     49.1, 2,    41.21, 2,    38.81, 2,     0.02, 2,     2.72, 2,    0.091, 2,    0.045, 2,    0.007, 2,    0.110, 4,   -999.0, 9,   -999.0, 9, -999.0000,   -999.00,   -999.0, 9,   -999.0,  -999.00, 9,   -999.0,   7.5277, 27.0336,   7.5857, 2, 9, 0.21, 0.14, 0.01, 0.017,  -999.00, 9, -999.00, -999.00, 9, -999.00
49NZ20071122, P14N, 159, 1, 26, X12032, 2, 20071206, 1603, -4.0070, 179.0032, 5255,    670.2, 2,   6.6868, 2,  34.5702, 2,  34.5679, 2,     61.1, 2,     60.1, 2,    48.87, 2,    39.58, 2,     0.01, 2,     2.79, 2,    0.043, 6,    0.022, 6,    0.000, 6,    0.057, 4,   -999.0, 9,   -999.0, 9, -999.0000,   -999.00,   -999.0, 9,   -999.0,  -999.00, 9,   -999.0,   6.6239, 27.1315,   6.6875, 2, 9, 0.23, 0.14, 0.01, 0.017,  -999.00, 9, -999.00, -999.00, 9, -999.00
49NZ20071122, P14N, 159, 1, 25, X12043, 2, 20071206, 1603, -4.0070, 179.0032, 5255,    769.8, 2,   5.8623, 2,  34.5485, 2,  34.5471, 2,     73.9, 2,     75.0, 2,    57.32, 2,    39.39, 2,     0.01, 2,     2.80, 2,    0.029, 2,    0.015, 2,    0.000, 2,    0.033, 4,   -999.0, 9,   -999.0, 9, -999.0000,   -999.00,   -999.0, 9,   -999.0,  -999.00, 9,   -999.0,   5.7943, 27.2218,   5.8634, 2, 9, 0.25, 0.14, 0.01, 0.017,  -999.00, 9, -999.00, -999.00, 9, -999.00
49NZ20071122, P14N, 159, 1, 24, X12030, 2, 20071206, 1603, -4.0070, 179.0032, 5255,    871.0, 2,   5.2868, 2,  34.5373, 2,  34.5367, 2,     94.4, 2,     94.3, 2,    63.05, 2,    38.05, 2,     0.01, 2,     2.70, 2,    0.028, 2,    0.018, 2,    0.000, 2,    0.077, 4,   -999.0, 9,   -999.0, 9, -999.0000,   -999.00,   -999.0, 9,   -999.0,  -999.00, 9,   -999.0,   5.2131, 27.2835,   5.2875, 2, 9, 0.26, 0.14, 0.01, 0.017,  -999.00, 9, -999.00, -999.00, 9, -999.00
49NZ20071122, P14N, 159, 1, 23, X12027, 2, 20071206, 1603, -4.0070, 179.0032, 5255,    970.1, 2,   4.7443, 2,  34.5417, 2,  34.5417, 6,     98.7, 2,     98.3, 2,    72.96, 2,    38.16, 2,     0.01, 2,     2.73, 2,    0.020, 2,    0.015, 2,    0.000, 2,    0.034, 4,   -999.0, 9,   -999.0, 9, -999.0000,   -999.00,   -999.0, 9,   -999.0,  -999.00, 9,   -999.0,   4.6655, 27.3499,   4.7444, 2, 9, 0.28, 0.14, 0.01, 0.017,  -999.00, 9, -999.00, -999.00, 9, -999.00
49NZ20071122, P14N, 159, 1, 22, X12028, 2, 20071206, 1603, -4.0070, 179.0032, 5255,   1129.0, 2,   4.0659, 2,  34.5538, 2,  34.5538, 2,    111.6, 2,    110.1, 2,    84.37, 2,    37.71, 2,     0.01, 2,     2.70, 2,    0.019, 2,    0.009, 2,    0.000, 2,    0.096, 4,   -999.0, 9,   -999.0, 9, -999.0000,   -999.00,   -999.0, 9,   -999.0,  -999.00, 9,   -999.0,   3.9787, 27.4334,   4.0660, 2, 9, 0.30, 0.14, 0.01, 0.017,  -999.00, 9, -999.00, -999.00, 9, -999.00
49NZ20071122, P14N, 159, 1, 21, X12009, 2, 20071206, 1603, -4.0070, 179.0032, 5255,   1329.8, 2,   3.3326, 2,  34.5797, 2,  34.5812, 3,    113.9, 2,    114.4, 2,   100.20, 2,    37.93, 2,     0.01, 2,     2.71, 2,    0.006, 2,    0.003, 2,    0.000, 2,    0.007, 4,   -999.0, 9,   -999.0, 9, -999.0000,   -999.00,   -999.0, 9,   -999.0,  -999.00, 9,   -999.0,   3.2353, 27.5277,   3.3327, 2, 9, 0.34, 0.14, 0.01, 0.017,  -999.00, 9, -999.00, -999.00, 9, -999.00
49NZ20071122, P14N, 159, 1, 20, X12026, 2, 20071206, 1603, -4.0070, 179.0032, 5255,   1529.2, 2,   2.7595, 2,  34.6082, 2,  34.6083, 2,    116.0, 2,    117.4, 2,   113.75, 2,    38.03, 2,     0.01, 2,     2.71, 2,    0.000, 2,    0.002, 2,    0.000, 2,    0.016, 4,   -999.0, 9,   -999.0, 9, -999.0000,   -999.00,   -999.0, 9,   -999.0,  -999.00, 9,   -999.0,   2.6520, 27.6035,   2.7590, 2, 9, 0.37, 0.14, 0.01, 0.017,  -999.00, 9, -999.00, -999.00, 9, -999.00
49NZ20071122, P14N, 159, 1, 19, X12025, 2, 20071206, 1603, -4.0070, 179.0032, 5255,   1729.5, 2,   2.3986, 2,  34.6281, 2,  34.6284, 2,    120.6, 2,    120.5, 2,   123.12, 2,    38.11, 2,     0.01, 2,     2.70, 2,    0.000, 2,    0.000, 2,    0.000, 2,    0.000, 4,   -999.0, 9,   -999.0, 9, -999.0000,   -999.00,   -999.0, 9,   -999.0,  -999.00, 9,   -999.0,   2.2790, 27.6511,   2.3989, 2, 9, 0.39, 0.14, 0.01, 0.017,  -999.00, 9, -999.00, -999.00, 9, -999.00
49NZ20071122, P14N, 159, 1, 18, X12024, 2, 20071206, 1603, -4.0070, 179.0032, 5255,   1930.0, 2,   2.1697, 2,  34.6429, 2,  34.6428, 2,    120.0, 2,    119.1, 2,   131.68, 2,    38.19, 2,     0.01, 2,     2.72, 2, -999.000, 9, -999.000, 9, -999.000, 9,    0.001, 4,   -999.0, 9,   -999.0, 9, -999.0000,   -999.00,   -999.0, 9,   -999.0,  -999.00, 9,   -999.0,   2.0366, 27.6826,   2.1696, 2, 9, 0.41, 0.14, 0.01, 0.017,  -999.00, 9, -999.00, -999.00, 9, -999.00
49NZ20071122, P14N, 159, 1, 17, X12023, 2, 20071206, 1603, -4.0070, 179.0032, 5255,   2131.8, 2,   2.0176, 2,  34.6513, 2,  34.6513, 6,    125.4, 2,    125.5, 2,   133.49, 2,    37.82, 2,     0.01, 2,     2.68, 2,    0.000, 2,    0.000, 2,    0.000, 2,    0.026, 4,   -999.0, 9,   -999.0, 9, -999.0000,   -999.00,   -999.0, 9,   -999.0,  -999.00, 9,   -999.0,   1.8696, 27.7025,   2.0176, 2, 9, 0.41, 0.14, 0.01, 0.017,  -999.00, 9, -999.00, -999.00, 9, -999.00
49NZ20071122, P14N, 159, 1, 16, X12022, 2, 20071206, 1603, -4.0070, 179.0032, 5255,   2330.4, 2,   1.9104, 2,  34.6582, 2,  34.6578, 2,    127.7, 2,    128.0, 2,   136.09, 2,    37.69, 2,     0.02, 2,     2.66, 2, -999.000, 9, -999.000, 9, -999.000, 9,    0.000, 4,   -999.0, 9,   -999.0, 9, -999.0000,   -999.00,   -999.0, 9,   -999.0,  -999.00, 9,   -999.0,   1.7469, 27.7175,   1.9104, 2, 9, 0.42, 0.14, 0.01, 0.017,  -999.00, 9, -999.00, -999.00, 9, -999.00
49NZ20071122, P14N, 159, 1, 15, X12021, 2, 20071206, 1603, -4.0070, 179.0032, 5255,   2531.0, 2,   1.8280, 2,  34.6632, 2,  34.6632, 2,    130.7, 2,    131.6, 2,   137.64, 2,    37.48, 2,     0.01, 2,     2.64, 2, -999.000, 9, -999.000, 9, -999.000, 9,    0.000, 4,   -999.0, 9,   -999.0, 9, -999.0000,   -999.00,   -999.0, 9,   -999.0,  -999.00, 9,   -999.0,   1.6481, 27.7290,   1.8279, 2, 9, 0.42, 0.14, 0.01, 0.017,  -999.00, 9, -999.00, -999.00, 9, -999.00
49NZ20071122, P14N, 159, 1, 14, X12020, 2, 20071206, 1603, -4.0070, 179.0032, 5255,   2731.4, 2,   1.7668, 2,  34.6679, 2,  34.6676, 2,    135.9, 2,    136.2, 2,   137.48, 2,    37.20, 2,     0.01, 2,     2.62, 2,    0.000, 2,    0.000, 2,    0.000, 2,    0.000, 4,   -999.0, 9,   -999.0, 9, -999.0000,   -999.00,   -999.0, 9,   -999.0,  -999.00, 9,   -999.0,   1.5697, 27.7386,   1.7667, 2, 9, 0.42, 0.14, 0.01, 0.017,  -999.00, 9, -999.00, -999.00, 9, -999.00
49NZ20071122, P14N, 159, 1, 13, X12019, 2, 20071206, 1603, -4.0070, 179.0032, 5255,   2930.2, 2,   1.7060, 2,  34.6723, 2,  34.6717, 2,    139.7, 2,    140.3, 2,   137.92, 2,    36.92, 2,     0.01, 2,     2.60, 2, -999.000, 9, -999.000, 9, -999.000, 9,    0.033, 4,   -999.0, 9,   -999.0, 9, -999.0000,   -999.00,   -999.0, 9,   -999.0,  -999.00, 9,   -999.0,   1.4914, 27.7478,   1.7059, 2, 9, 0.42, 0.14, 0.01, 0.016,  -999.00, 9, -999.00, -999.00, 9, -999.00
49NZ20071122, P14N, 159, 1, 12, X12040, 2, 20071206, 1603, -4.0070, 179.0032, 5255,   3171.1, 2,   1.6191, 2,  34.6781, 2,  34.6776, 2,    147.0, 2,    147.4, 2,   137.09, 2,    36.34, 2,     0.01, 2,     2.54, 2, -999.000, 9, -999.000, 9, -999.000, 9,    0.000, 4,   -999.0, 9,   -999.0, 9, -999.0000,   -999.00,   -999.0, 9,   -999.0,  -999.00, 9,   -999.0,   1.3831, 27.7603,   1.6190, 2, 9, 0.42, 0.13, 0.01, 0.016,  -999.00, 9, -999.00, -999.00, 9, -999.00
49NZ20071122, P14N, 159, 1, 11, X12047, 2, 20071206, 1603, -4.0070, 179.0032, 5255,   3420.6, 2,   1.5407, 2,  34.6836, 2,  34.6831, 2,    153.2, 2,    153.5, 2,   136.48, 2,    36.00, 2,     0.01, 2,     2.52, 2,    0.000, 2,    0.000, 2,    0.000, 2,    0.010, 4,   -999.0, 9,   -999.0, 9, -999.0000,   -999.00,   -999.0, 9,   -999.0,  -999.00, 9,   -999.0,   1.2816, 27.7719,   1.5406, 2, 9, 0.42, 0.13, 0.01, 0.016,  -999.00, 9, -999.00, -999.00, 9, -999.00
49NZ20071122, P14N, 159, 1, 10, X12012, 2, 20071206, 1603, -4.0070, 179.0032, 5255,   3669.3, 2,   1.4733, 2,  34.6884, 2,  34.6880, 2,    158.8, 2,    159.4, 2,   135.99, 2,    35.67, 2,     0.01, 2,     2.49, 2,    0.000, 2,    0.000, 2,    0.000, 2,    0.039, 4,   -999.0, 9,   -999.0, 9, -999.0000,   -999.00,   -999.0, 9,   -999.0,  -999.00, 9,   -999.0,   1.1903, 27.7821,   1.4733, 2, 9, 0.42, 0.13, 0.01, 0.016,  -999.00, 9, -999.00, -999.00, 9, -999.00
49NZ20071122, P14N, 159, 1, 9, X12015, 2, 20071206, 1603, -4.0070, 179.0032, 5255,   3921.4, 2,   1.4164, 2,  34.6927, 2,  34.6923, 6,    165.1, 2,    165.8, 2,   134.45, 2,    35.17, 2,     0.01, 2,     2.46, 2,    0.000, 2,    0.000, 2,    0.000, 2,    0.001, 4,   -999.0, 9,   -999.0, 9, -999.0000,   -999.00,   -999.0, 9,   -999.0,  -999.00, 9,   -999.0,   1.1083, 27.7912,   1.4163, 2, 9, 0.41, 0.13, 0.01, 0.016,  -999.00, 9, -999.00, -999.00, 9, -999.00
49NZ20071122, P14N, 159, 1, 8, X12046, 2, 20071206, 1603, -4.0070, 179.0032, 5255,   4170.7, 2,   1.3665, 2,  34.6965, 2,  34.6966, 2,    172.2, 2,    172.8, 2,   131.65, 2,    34.66, 2,     0.01, 2,     2.42, 2,    0.000, 2,    0.000, 2,    0.000, 2,    0.065, 4,   -999.0, 9,   -999.0, 9, -999.0000,   -999.00,   -999.0, 9,   -999.0,  -999.00, 9,   -999.0,   1.0326, 27.7993,   1.3664, 2, 9, 0.41, 0.13, 0.01, 0.016,  -999.00, 9, -999.00, -999.00, 9, -999.00
49NZ20071122, P14N, 159, 1, 7, X12044, 2, 20071206, 1603, -4.0070, 179.0032, 5255,   4421.9, 2,   1.2974, 2,  34.7013, 2,  34.7012, 2,    182.9, 2,    183.5, 2,   125.94, 2,    33.91, 2,     0.01, 2,     2.36, 2,    0.000, 2,    0.001, 2,    0.000, 2,    0.026, 4,   -999.0, 9,   -999.0, 9, -999.0000,   -999.00,   -999.0, 9,   -999.0,  -999.00, 9,   -999.0,   0.9375, 27.8095,   1.2967, 2, 9, 0.40, 0.13, 0.01, 0.016,  -999.00, 9, -999.00, -999.00, 9, -999.00
49NZ20071122, P14N, 159, 1, 6, X12048, 2, 20071206, 1603, -4.0070, 179.0032, 5255,   4669.8, 2,   1.2503, 2,  34.7048, 2,  34.7046, 2,    189.7, 2,    191.6, 2,   121.82, 2,    33.23, 2,     0.02, 2,     2.32, 2,    0.004, 2,    0.003, 2,    0.000, 2,    0.090, 4,   -999.0, 9,   -999.0, 9, -999.0000,   -999.00,   -999.0, 9,   -999.0,  -999.00, 9,   -999.0,   0.8634, 27.8171,   1.2503, 2, 9, 0.39, 0.13, 0.01, 0.016,  -999.00, 9, -999.00, -999.00, 9, -999.00
49NZ20071122, P14N, 159, 1, 5, X12014, 2, 20071206, 1603, -4.0070, 179.0032, 5255,   4920.3, 2,   1.2326, 2,  34.7067, 2,  34.7067, 2,    195.9, 2,    195.6, 2,   119.55, 2,    32.95, 2,     0.01, 2,     2.30, 2,    0.009, 2,    0.009, 2,    0.000, 2,    0.077, 4,   -999.0, 9,   -999.0, 9, -999.0000,   -999.00,   -999.0, 9,   -999.0,  -999.00, 9,   -999.0,   0.8168, 27.8216,   1.2325, 2, 9, 0.38, 0.13, 0.01, 0.016,  -999.00, 9, -999.00, -999.00, 9, -999.00
49NZ20071122, P14N, 159, 1, 4, X12006, 2, 20071206, 1603, -4.0070, 179.0032, 5255,   5169.9, 2,   1.2559, 2,  34.7066, 2,  34.7070, 2,    196.4, 2,    196.0, 2,   119.71, 2,    32.99, 2,     0.01, 2,     2.30, 2, -999.000, 9, -999.000, 9, -999.000, 9,    0.124, 4,   -999.0, 9,   -999.0, 9, -999.0000,   -999.00,   -999.0, 9,   -999.0,  -999.00, 9,   -999.0,   0.8092, 27.8221,   1.2559, 2, 9, 0.38, 0.13, 0.01, 0.016,  -999.00, 9, -999.00, -999.00, 9, -999.00
49NZ20071122, P14N, 159, 1, 3, X12013, 9, 20071206, 1603, -4.0070, 179.0032, 5255,      9.8, 2,  27.8213, 2,  35.6753, 2, -999.0000, 9,    201.3, 2,   -999.0, 9,  -999.00, 9,  -999.00, 9,  -999.00, 9,  -999.00, 9, -999.000, 9, -999.000, 9, -999.000, 9, -999.000, 9,   -999.0, 9,   -999.0, 9, -999.0000,   -999.00,   -999.0, 9,   -999.0,  -999.00, 9,   -999.0,  27.8190, 22.9617,  27.8214, 2, 9, -999.00, -999.00, -999.00, -999.000,  -999.00, 9, -999.00, -999.00, 9, -999.00
49NZ20071122, P14N, 159, 1, 2, X12002, 9, 20071206, 1603, -4.0070, 179.0032, 5255,     50.1, 2,  27.8355, 2,  35.6747, 2, -999.0000, 9,    200.3, 2,   -999.0, 9,  -999.00, 9,  -999.00, 9,  -999.00, 9,  -999.00, 9, -999.000, 9, -999.000, 9, -999.000, 9, -999.000, 9,   -999.0, 9,   -999.0, 9, -999.0000,   -999.00,   -999.0, 9,   -999.0,  -999.00, 9,   -999.0,  27.8237, 22.9598,  27.8345, 2, 9, -999.00, -999.00, -999.00, -999.000,  -999.00, 9, -999.00, -999.00, 9, -999.00
49NZ20071122, P14N, 159, 1, 1, X12001, 2, 20071206, 1603, -4.0070, 179.0032, 5255,   5333.0, 2,   1.2752, 2,  34.7067, 2,  34.7067, 6,    196.4, 2,    196.0, 2,   119.95, 2,    32.96, 2,     0.01, 2,     2.30, 2,    0.008, 2,    0.005, 2,    0.000, 2,    0.086, 4,   -999.0, 9,   -999.0, 9, -999.0000,   -999.00,   -999.0, 9,   -999.0,  -999.00, 9,   -999.0,   0.8077, 27.8222,   1.2752, 2, 9, 0.38, 0.13, 0.01, 0.016,  -999.00, 9, -999.00, -999.00, 9, -999.00