BOTTLE,20220820CCHSIOAMB
EXPOCODE,SECT_ID,STNNBR,CASTNO,SAMPNO,BTLNBR,BTLNBR_FLAG_W,DATE,TIME,LATITUDE,LONGITUDE,DEPTH,CTDPRS,CTDPRS_FLAG_W,CTDTMP,CTDTMP_FLAG_W,CTDSAL,CTDSAL_FLAG_W,SALNTY,SALNTY_FLAG_W,CTDOXY,CTDOXY_FLAG_W,OXYGEN,OXYGEN_FLAG_W,SILCAT,SILCAT_FLAG_W,NITRAT,NITRAT_FLAG_W,NITRIT,NITRIT_FLAG_W,PHSPHT,PHSPHT_FLAG_W,CFC-11,CFC-11_FLAG_W,CFC-12,CFC-12_FLAG_W,CFC113,CFC113_FLAG_W,CCL4,CCL4_FLAG_W,TCARBN,TCARBN_FLAG_W,ALKALI,ALKALI_FLAG_W,PH_TOT,PH_TMP,DELC14,DELC14_FLAG_W,C14ERR,DELC13,DELC13_FLAG_W,C13ERR,THETA,SIG0,SBE35,SBE35_FLAG_W,PH_TOT_FLAG_W,SILUNC,NRAUNC,NRIUNC,PHPUNC,CS-137,CS-137_FLAG_W,CS137ER,PLUTO,PLUTO_FLAG_W,PLUTOER
,,,,,,,,,,,METERS,DBAR,,ITS-90,,PSS-78,,PSS-78,,UMOL/KG,,UMOL/KG,,UMOL/KG,,UMOL/KG,,UMOL/KG,,UMOL/KG,,PMOL/KG,,PMOL/KG,,PMOL/KG,,PMOL/KG,,UMOL/KG,,UMOL/KG,,,DEG C,/MILLE,,/MILLE,/MILLE,,/MILLE,DEG C,KG/M^3,ITS-90,,,UMOL/KG,UMOL/KG,UMOL/KG,UMOL/KG,DM/.1MG,,BQ/M^3,MBQ/M^3,,MBQ/M^3
49NZ20071122, P14N, 176, 1, 36, X12042, 2, 20071210, 1725, -11.5110, 178.9958, 3102,      9.9, 2,  29.0348, 2,  34.5913, 2,  34.5908, 2,    193.9, 2,    194.8, 2,     0.77, 2,     0.03, 2,     0.01, 2,     0.18, 2,    1.453, 2,    0.908, 2,    0.220, 4,    1.521, 4,   -999.0, 9,   -999.0, 9, -999.0000,   -999.00,   -999.0, 9,   -999.0,  -999.00, 9,   -999.0,  29.0324, 21.7464,  29.0375, 2, 9, 0.12, 0.03, 0.01, 0.017,  -999.00, 9, -999.00, -999.00, 9, -999.00
49NZ20071122, P14N, 176, 1, 35, X12041, 2, 20071210, 1725, -11.5110, 178.9958, 3102,     50.5, 2,  29.3356, 2,  35.0657, 2,  35.0638, 2,    193.7, 2,    194.2, 2,     0.87, 2,     0.02, 2,     0.01, 2,     0.20, 2,    1.437, 2,    0.901, 2,    0.262, 4,    1.424, 4,   -999.0, 9,   -999.0, 9, -999.0000,   -999.00,   -999.0, 9,   -999.0,  -999.00, 9,   -999.0,  29.3233, 22.0049,  29.3341, 2, 9, 0.12, 0.03, 0.01, 0.016,  -999.00, 9, -999.00, -999.00, 9, -999.00
49NZ20071122, P14N, 176, 1, 34, X12016, 2, 20071210, 1725, -11.5110, 178.9958, 3102,     99.4, 2,  28.2281, 2,  35.8591, 2,  35.8435, 2,    172.6, 2,    173.6, 2,     1.13, 2,     1.00, 2,     0.19, 2,     0.39, 2,    1.577, 2,    0.981, 2,    0.563, 4,    0.498, 4,   -999.0, 9,   -999.0, 9, -999.0000,   -999.00,   -999.0, 9,   -999.0,  -999.00, 9,   -999.0,  28.2045, 22.9737,  28.2497, 2, 9, 0.12, 0.04, 0.01, 0.013,  -999.00, 9, -999.00, -999.00, 9, -999.00
49NZ20071122, P14N, 176, 1, 33, X12033, 2, 20071210, 1725, -11.5110, 178.9958, 3102,    149.9, 2,  24.7616, 2,  36.2608, 2,  36.2705, 2,    151.7, 2,    153.5, 2,     1.06, 2,     3.66, 2,     0.27, 2,     0.56, 2,    1.795, 2,    1.092, 2,    0.167, 4,    0.322, 4,   -999.0, 9,   -999.0, 9, -999.0000,   -999.00,   -999.0, 9,   -999.0,  -999.00, 9,   -999.0,  24.7291, 24.3770,  24.7998, 2, 9, 0.12, 0.04, 0.01, 0.013,  -999.00, 9, -999.00, -999.00, 9, -999.00
49NZ20071122, P14N, 176, 1, 32, X12038, 2, 20071210, 1725, -11.5110, 178.9958, 3102,    200.1, 2,  21.2007, 2,  35.9001, 2,  35.8741, 2,    152.0, 2,    149.6, 2,     1.63, 2,     6.83, 2,     0.01, 2,     0.74, 2,    2.037, 2,    1.178, 2,    0.057, 2,    0.188, 4,   -999.0, 9,   -999.0, 9, -999.0000,   -999.00,   -999.0, 9,   -999.0,  -999.00, 9,   -999.0,  21.1619, 25.1350,  21.2034, 2, 9, 0.12, 0.05, 0.01, 0.013,  -999.00, 9, -999.00, -999.00, 9, -999.00
49NZ20071122, P14N, 176, 1, 31, X12003, 2, 20071210, 1725, -11.5110, 178.9958, 3102,    251.0, 2,  17.8102, 2,  35.4651, 2,  35.4635, 6,    138.6, 2,    137.7, 2,     3.86, 2,    10.67, 2,     0.01, 2,     1.01, 2,    2.016, 2,    1.118, 2,    0.029, 2,    0.153, 4,   -999.0, 9,   -999.0, 9, -999.0000,   -999.00,   -999.0, 9,   -999.0,  -999.00, 9,   -999.0,  17.7672, 25.6857,  17.8105, 2, 9, 0.13, 0.06, 0.01, 0.013,  -999.00, 9, -999.00, -999.00, 9, -999.00
49NZ20071122, P14N, 176, 1, 30, X12008, 2, 20071210, 1725, -11.5110, 178.9958, 3102,    330.7, 2,  13.4049, 2,  34.9882, 2,  34.9840, 2,    111.3, 2,    113.1, 2,    10.48, 2,    19.11, 2,     0.01, 2,     1.57, 2,    1.435, 2,    0.754, 2,    0.018, 2,    0.232, 4,   -999.0, 9,   -999.0, 9, -999.0000,   -999.00,   -999.0, 9,   -999.0,  -999.00, 9,   -999.0,  13.3583, 26.3111,  13.4052, 2, 9, 0.14, 0.09, 0.01, 0.014,  -999.00, 9, -999.00, -999.00, 9, -999.00
49NZ20071122, P14N, 176, 1, 29, X12035, 2, 20071210, 1725, -11.5110, 178.9958, 3102,    430.7, 2,   9.1389, 2,  34.6378, 2,  34.6401, 2,    134.2, 2,    133.4, 2,    18.83, 2,    26.10, 2,     0.01, 2,     1.92, 2,    0.779, 2,    0.396, 2,    0.016, 2,    0.252, 4,   -999.0, 9,   -999.0, 9, -999.0000,   -999.00,   -999.0, 9,   -999.0,  -999.00, 9,   -999.0,   9.0913, 26.8198,   9.1368, 2, 9, 0.16, 0.11, 0.01, 0.015,  -999.00, 9, -999.00, -999.00, 9, -999.00
49NZ20071122, P14N, 176, 1, 28, X12034, 2, 20071210, 1725, -11.5110, 178.9958, 3102,    530.5, 2,   7.1824, 2,  34.5155, 2,  34.5143, 6,    153.5, 2,    153.3, 2,    25.44, 2,    29.05, 2,     0.01, 2,     2.06, 2,    0.533, 2,    0.267, 2,    0.013, 2,    0.357, 4,   -999.0, 9,   -999.0, 9, -999.0000,   -999.00,   -999.0, 9,   -999.0,  -999.00, 9,   -999.0,   7.1312, 27.0188,   7.1832, 2, 9, 0.17, 0.11, 0.01, 0.015,  -999.00, 9, -999.00, -999.00, 9, -999.00
49NZ20071122, P14N, 176, 1, 27, X12049, 2, 20071210, 1725, -11.5110, 178.9958, 3102,    630.2, 2,   5.8959, 2,  34.4782, 2,  34.4764, 2,    151.2, 2,    151.2, 2,    37.41, 2,    31.85, 2,     0.01, 2,     2.24, 2,    0.251, 2,    0.130, 2,    0.009, 2,    0.199, 4,   -999.0, 9,   -999.0, 9, -999.0000,   -999.00,   -999.0, 9,   -999.0,  -999.00, 9,   -999.0,   5.8408, 27.1604,   5.8961, 2, 9, 0.20, 0.12, 0.01, 0.016,  -999.00, 9, -999.00, -999.00, 9, -999.00
49NZ20071122, P14N, 176, 1, 26, X12032, 2, 20071210, 1725, -11.5110, 178.9958, 3102,    731.0, 2,   5.3405, 2,  34.4908, 2,  34.4899, 2,    142.6, 2,    138.6, 3,    47.87, 2,    33.91, 2,     0.01, 2,     2.39, 2,    0.114, 2,    0.060, 2,    0.006, 2,    0.089, 4,   -999.0, 9,   -999.0, 9, -999.0000,   -999.00,   -999.0, 9,   -999.0,  -999.00, 9,   -999.0,   5.2791, 27.2389,   5.3407, 2, 9, 0.22, 0.13, 0.01, 0.016,  -999.00, 9, -999.00, -999.00, 9, -999.00
49NZ20071122, P14N, 176, 1, 25, X12043, 2, 20071210, 1725, -11.5110, 178.9958, 3102,    832.0, 2,   4.8804, 2,  34.4958, 2,  34.4949, 2,    137.8, 2,    137.8, 2,    55.04, 2,    34.72, 2,     0.01, 2,     2.45, 2,    0.074, 2,    0.040, 2,    0.000, 2,    0.052, 4,   -999.0, 9,   -999.0, 9, -999.0000,   -999.00,   -999.0, 9,   -999.0,  -999.00, 9,   -999.0,   4.8129, 27.2969,   4.8808, 2, 9, 0.24, 0.13, 0.01, 0.016,  -999.00, 9, -999.00, -999.00, 9, -999.00
49NZ20071122, P14N, 176, 1, 24, X12030, 2, 20071210, 1725, -11.5110, 178.9958, 3102,    930.4, 2,   4.5263, 2,  34.5171, 2,  34.5162, 2,    125.7, 2,    124.2, 2,    65.00, 2,    36.31, 2,     0.01, 2,     2.57, 2,    0.022, 2,    0.012, 2,    0.000, 2,    0.000, 4,   -999.0, 9,   -999.0, 9, -999.0000,   -999.00,   -999.0, 9,   -999.0,  -999.00, 9,   -999.0,   4.4526, 27.3539,   4.5264, 2, 9, 0.26, 0.13, 0.01, 0.016,  -999.00, 9, -999.00, -999.00, 9, -999.00
49NZ20071122, P14N, 176, 1, 23, X12027, 2, 20071210, 1725, -11.5110, 178.9958, 3102,   1070.9, 2,   4.0070, 2,  34.5275, 2,  34.5277, 6,    132.4, 2,    132.2, 2,    73.56, 2,    36.19, 2,     0.01, 2,     2.55, 2,    0.012, 2,    0.009, 2,    0.000, 2,    0.000, 4,   -999.0, 9,   -999.0, 9, -999.0000,   -999.00,   -999.0, 9,   -999.0,  -999.00, 9,   -999.0,   3.9253, 27.4180,   4.0072, 2, 9, 0.28, 0.13, 0.01, 0.016,  -999.00, 9, -999.00, -999.00, 9, -999.00
49NZ20071122, P14N, 176, 1, 22, X12028, 2, 20071210, 1725, -11.5110, 178.9958, 3102,   1270.1, 2,   3.4415, 2,  34.5542, 2,  34.5539, 2,    133.2, 2,    133.5, 2,    86.31, 2,    36.51, 2,     0.01, 2,     2.58, 2,    0.001, 2,    0.000, 2,    0.000, 2,    0.000, 4,   -999.0, 9,   -999.0, 9, -999.0000,   -999.00,   -999.0, 9,   -999.0,  -999.00, 9,   -999.0,   3.3482, 27.4966,   3.4415, 2, 9, 0.31, 0.14, 0.01, 0.016,  -999.00, 9, -999.00, -999.00, 9, -999.00
49NZ20071122, P14N, 176, 1, 21, X12009, 2, 20071210, 1725, -11.5110, 178.9958, 3102,   1470.8, 2,   2.9091, 2,  34.5824, 2,  34.5826, 2,    137.1, 2,    137.6, 2,    98.00, 2,    36.36, 2,     0.01, 2,     2.57, 2,    0.000, 2,    0.000, 2,    0.000, 2,    0.000, 4,   -999.0, 9,   -999.0, 9, -999.0000,   -999.00,   -999.0, 9,   -999.0,  -999.00, 9,   -999.0,   2.8047, 27.5694,   2.9090, 2, 9, 0.33, 0.13, 0.01, 0.016,  -999.00, 9, -999.00, -999.00, 9, -999.00
49NZ20071122, P14N, 176, 1, 20, X12026, 2, 20071210, 1725, -11.5110, 178.9958, 3102,   1668.8, 2,   2.6359, 2,  34.5999, 2,  34.5998, 2,    141.0, 2,    141.1, 2,   104.13, 2,    36.26, 2,     0.01, 2,     2.56, 2,    0.000, 2,    0.000, 2,    0.000, 2,    0.000, 4,   -999.0, 9,   -999.0, 9, -999.0000,   -999.00,   -999.0, 9,   -999.0,  -999.00, 9,   -999.0,   2.5183, 27.6084,   2.6360, 2, 9, 0.35, 0.13, 0.01, 0.016,  -999.00, 9, -999.00, -999.00, 9, -999.00
49NZ20071122, P14N, 176, 1, 19, X12025, 2, 20071210, 1725, -11.5110, 178.9958, 3102,   1871.6, 2,   2.4124, 2,  34.6181, 2,  34.6177, 2,    142.0, 2,    140.8, 2,   111.46, 2,    36.56, 2,     0.01, 2,     2.57, 2,    0.000, 2,    0.000, 2,    0.000, 2,    0.000, 4,   -999.0, 9,   -999.0, 9, -999.0000,   -999.00,   -999.0, 9,   -999.0,  -999.00, 9,   -999.0,   2.2808, 27.6430,   2.4124, 2, 9, 0.36, 0.14, 0.01, 0.016,  -999.00, 9, -999.00, -999.00, 9, -999.00
49NZ20071122, P14N, 176, 1, 18, X12024, 2, 20071210, 1725, -11.5110, 178.9958, 3102,   2068.6, 2,   2.2113, 2,  34.6345, 2,  34.6346, 2,    139.0, 2,    140.1, 2,   118.53, 2,    36.64, 2,     0.01, 2,     2.58, 2,    0.000, 2,    0.000, 2,    0.000, 2,    0.000, 4,   -999.0, 9,   -999.0, 9, -999.0000,   -999.00,   -999.0, 9,   -999.0,  -999.00, 9,   -999.0,   2.0658, 27.6736,   2.2110, 2, 9, 0.38, 0.14, 0.01, 0.016,  -999.00, 9, -999.00, -999.00, 9, -999.00
49NZ20071122, P14N, 176, 1, 17, X12023, 2, 20071210, 1725, -11.5110, 178.9958, 3102,   2269.6, 2,   2.0775, 2,  34.6443, 2,  34.6443, 6,    142.1, 2,    142.5, 2,   122.14, 2,    36.35, 2,     0.01, 2,     2.57, 2, -999.000, 9, -999.000, 9, -999.000, 9,    0.000, 4,   -999.0, 9,   -999.0, 9, -999.0000,   -999.00,   -999.0, 9,   -999.0,  -999.00, 9,   -999.0,   1.9166, 27.6933,   2.0784, 2, 9, 0.39, 0.13, 0.01, 0.016,  -999.00, 9, -999.00, -999.00, 9, -999.00
49NZ20071122, P14N, 176, 1, 16, X12022, 2, 20071210, 1725, -11.5110, 178.9958, 3102,   2469.2, 2,   1.9327, 2,  34.6548, 2,  34.6547, 2,    143.8, 2,    144.4, 2,   126.15, 2,    36.47, 2,     0.01, 2,     2.56, 2,    0.000, 2,    0.000, 2,    0.000, 2,    0.000, 4,   -999.0, 9,   -999.0, 9, -999.0000,   -999.00,   -999.0, 9,   -999.0,  -999.00, 9,   -999.0,   1.7565, 27.7140,   1.9326, 2, 9, 0.40, 0.13, 0.01, 0.016,  -999.00, 9, -999.00, -999.00, 9, -999.00
49NZ20071122, P14N, 176, 1, 15, X12021, 2, 20071210, 1725, -11.5110, 178.9958, 3102,   2671.0, 2,   1.8000, 2,  34.6637, 2,  34.6633, 2,    144.9, 2,    144.8, 2,   130.58, 2,    36.59, 2,     0.01, 2,     2.56, 2, -999.000, 9, -999.000, 9, -999.000, 9,    0.000, 4,   -999.0, 9,   -999.0, 9, -999.0000,   -999.00,   -999.0, 9,   -999.0,  -999.00, 9,   -999.0,   1.6078, 27.7323,   1.8001, 2, 9, 0.41, 0.14, 0.01, 0.016,  -999.00, 9, -999.00, -999.00, 9, -999.00
49NZ20071122, P14N, 176, 1, 14, X12020, 2, 20071210, 1725, -11.5110, 178.9958, 3102,   2869.4, 2,   1.7160, 2,  34.6693, 2,  34.6688, 2,    146.9, 2,    147.0, 2,   132.61, 2,    36.36, 2,     0.01, 2,     2.56, 2,    0.000, 2,    0.000, 2,    0.000, 2,    0.000, 4,   -999.0, 9,   -999.0, 9, -999.0000,   -999.00,   -999.0, 9,   -999.0,  -999.00, 9,   -999.0,   1.5070, 27.7443,   1.7159, 2, 9, 0.41, 0.13, 0.01, 0.016,  -999.00, 9, -999.00, -999.00, 9, -999.00
49NZ20071122, P14N, 176, 1, 13, X12019, 2, 20071210, 1725, -11.5110, 178.9958, 3102,   3077.9, 2,   1.6346, 2,  34.6748, 2,  34.6743, 6,    148.3, 2,    148.2, 2,   134.98, 2,    36.33, 2,     0.01, 2,     2.55, 2, -999.000, 9, -999.000, 9, -999.000, 9,    0.000, 4,   -999.0, 9,   -999.0, 9, -999.0000,   -999.00,   -999.0, 9,   -999.0,  -999.00, 9,   -999.0,   1.4073, 27.7559,   1.6345, 2, 9, 0.42, 0.13, 0.01, 0.016,  -999.00, 9, -999.00, -999.00, 9, -999.00
49NZ20071122, P14N, 176, 1, 12, X12040, 9, 20071210, 1725, -11.5110, 178.9958, 3102,      9.7, 2,  29.0283, 2,  34.5910, 2, -999.0000, 9,    194.0, 2,   -999.0, 9,  -999.00, 9,  -999.00, 9,  -999.00, 9,  -999.00, 9, -999.000, 9, -999.000, 9, -999.000, 9, -999.000, 9,   -999.0, 9,   -999.0, 9, -999.0000,   -999.00,   -999.0, 9,   -999.0,  -999.00, 9,   -999.0,  29.0260, 21.7484,  29.0274, 2, 9, -999.00, -999.00, -999.00, -999.000,  -999.00, 9, -999.00, -999.00, 9, -999.00
49NZ20071122, P14N, 176, 1, 11, X12047, 9, 20071210, 1725, -11.5110, 178.9958, 3102,     50.5, 2,  29.3357, 2,  35.0660, 2, -999.0000, 9,    193.7, 2,   -999.0, 9,  -999.00, 9,  -999.00, 9,  -999.00, 9,  -999.00, 9, -999.000, 9, -999.000, 9, -999.000, 9, -999.000, 9,   -999.0, 9,   -999.0, 9, -999.0000,   -999.00,   -999.0, 9,   -999.0,  -999.00, 9,   -999.0,  29.3234, 22.0051,  29.3335, 2, 9, -999.00, -999.00, -999.00, -999.000,  -999.00, 9, -999.00, -999.00, 9, -999.00
49NZ20071122, P14N, 176, 1, 10, X12012, 9, 20071210, 1725, -11.5110, 178.9958, 3102,     99.7, 2,  28.2612, 2,  35.8442, 2, -999.0000, 9,    172.8, 2,   -999.0, 9,  -999.00, 9,  -999.00, 9,  -999.00, 9,  -999.00, 9, -999.000, 9, -999.000, 9, -999.000, 9, -999.000, 9,   -999.0, 9,   -999.0, 9, -999.0000,   -999.00,   -999.0, 9,   -999.0,  -999.00, 9,   -999.0,  28.2375, 22.9516,  28.2827, 2, 9, -999.00, -999.00, -999.00, -999.000,  -999.00, 9, -999.00, -999.00, 9, -999.00
49NZ20071122, P14N, 176, 1, 9, X12015, 9, 20071210, 1725, -11.5110, 178.9958, 3102,    150.4, 2,  24.6177, 2,  36.2534, 2, -999.0000, 9,    152.6, 2,   -999.0, 9,  -999.00, 9,  -999.00, 9,  -999.00, 9,  -999.00, 9, -999.000, 9, -999.000, 9, -999.000, 9, -999.000, 9,   -999.0, 9,   -999.0, 9, -999.0000,   -999.00,   -999.0, 9,   -999.0,  -999.00, 9,   -999.0,  24.5853, 24.4149,  24.5782, 2, 9, -999.00, -999.00, -999.00, -999.000,  -999.00, 9, -999.00, -999.00, 9, -999.00
49NZ20071122, P14N, 176, 1, 8, X12046, 9, 20071210, 1725, -11.5110, 178.9958, 3102,    200.9, 2,  20.8969, 2,  35.8635, 2, -999.0000, 9,    150.2, 2,   -999.0, 9,  -999.00, 9,  -999.00, 9,  -999.00, 9,  -999.00, 9, -999.000, 9, -999.000, 9, -999.000, 9, -999.000, 9,   -999.0, 9,   -999.0, 9, -999.0000,   -999.00,   -999.0, 9,   -999.0,  -999.00, 9,   -999.0,  20.8584, 25.1901,  20.9081, 2, 9, -999.00, -999.00, -999.00, -999.000,  -999.00, 9, -999.00, -999.00, 9, -999.00
49NZ20071122, P14N, 176, 1, 7, X12044, 9, 20071210, 1725, -11.5110, 178.9958, 3102,    730.6, 2,   5.3376, 2,  34.4907, 2, -999.0000, 9,    142.7, 2,   -999.0, 9,  -999.00, 9,  -999.00, 9,  -999.00, 9,  -999.00, 9, -999.000, 9, -999.000, 9, -999.000, 9, -999.000, 9,   -999.0, 9,   -999.0, 9, -999.0000,   -999.00,   -999.0, 9,   -999.0,  -999.00, 9,   -999.0,   5.2763, 27.2391,   5.3379, 2, 9, -999.00, -999.00, -999.00, -999.000,  -999.00, 9, -999.00, -999.00, 9, -999.00
49NZ20071122, P14N, 176, 1, 6, X12048, 9, 20071210, 1725, -11.5110, 178.9958, 3102,    830.9, 2,   4.8817, 2,  34.4957, 2, -999.0000, 9,    137.8, 2,   -999.0, 9,  -999.00, 9,  -999.00, 9,  -999.00, 9,  -999.00, 9, -999.000, 9, -999.000, 9, -999.000, 9, -999.000, 9,   -999.0, 9,   -999.0, 9, -999.0000,   -999.00,   -999.0, 9,   -999.0,  -999.00, 9,   -999.0,   4.8143, 27.2967,   4.8819, 2, 9, -999.00, -999.00, -999.00, -999.000,  -999.00, 9, -999.00, -999.00, 9, -999.00
49NZ20071122, P14N, 176, 1, 5, X12014, 9, 20071210, 1725, -11.5110, 178.9958, 3102,    929.2, 2,   4.5236, 2,  34.5165, 2, -999.0000, 9,    125.7, 2,   -999.0, 9,  -999.00, 9,  -999.00, 9,  -999.00, 9,  -999.00, 9, -999.000, 9, -999.000, 9, -999.000, 9, -999.000, 9,   -999.0, 9,   -999.0, 9, -999.0000,   -999.00,   -999.0, 9,   -999.0,  -999.00, 9,   -999.0,   4.4500, 27.3537,   4.5237, 2, 9, -999.00, -999.00, -999.00, -999.000,  -999.00, 9, -999.00, -999.00, 9, -999.00
49NZ20071122, P14N, 176, 1, 4, X12006, 9, 20071210, 1725, -11.5110, 178.9958, 3102,   1069.4, 2,   4.0022, 2,  34.5277, 2, -999.0000, 9,    132.4, 2,   -999.0, 9,  -999.00, 9,  -999.00, 9,  -999.00, 9,  -999.00, 9, -999.000, 9, -999.000, 9, -999.000, 9, -999.000, 9,   -999.0, 9,   -999.0, 9, -999.0000,   -999.00,   -999.0, 9,   -999.0,  -999.00, 9,   -999.0,   3.9207, 27.4186,   4.0030, 2, 9, -999.00, -999.00, -999.00, -999.000,  -999.00, 9, -999.00, -999.00, 9, -999.00
49NZ20071122, P14N, 176, 1, 3, X12013, 9, 20071210, 1725, -11.5110, 178.9958, 3102,   1270.2, 2,   3.4452, 2,  34.5541, 2, -999.0000, 9,    133.2, 2,   -999.0, 9,  -999.00, 9,  -999.00, 9,  -999.00, 9,  -999.00, 9, -999.000, 9, -999.000, 9, -999.000, 9, -999.000, 9,   -999.0, 9,   -999.0, 9, -999.0000,   -999.00,   -999.0, 9,   -999.0,  -999.00, 9,   -999.0,   3.3518, 27.4962,   3.4455, 2, 9, -999.00, -999.00, -999.00, -999.000,  -999.00, 9, -999.00, -999.00, 9, -999.00
49NZ20071122, P14N, 176, 1, 2, X12002, 9, 20071210, 1725, -11.5110, 178.9958, 3102,   1470.3, 2,   2.9085, 2,  34.5826, 2, -999.0000, 9,    137.1, 2,   -999.0, 9,  -999.00, 9,  -999.00, 9,  -999.00, 9,  -999.00, 9, -999.000, 9, -999.000, 9, -999.000, 9, -999.000, 9,   -999.0, 9,   -999.0, 9, -999.0000,   -999.00,   -999.0, 9,   -999.0,  -999.00, 9,   -999.0,   2.8041, 27.5696,   2.9088, 2, 9, -999.00, -999.00, -999.00, -999.000,  -999.00, 9, -999.00, -999.00, 9, -999.00
49NZ20071122, P14N, 176, 1, 1, X12001, 2, 20071210, 1725, -11.5110, 178.9958, 3102,   3130.8, 2,   1.6272, 2,  34.6755, 2,  34.6750, 6,    148.7, 2,    148.7, 2,   135.08, 2,    36.36, 2,     0.01, 2,     2.55, 2,    0.000, 2,    0.000, 2,    0.000, 2,    0.000, 4,   -999.0, 9,   -999.0, 9, -999.0000,   -999.00,   -999.0, 9,   -999.0,  -999.00, 9,   -999.0,   1.3949, 27.7573,   1.6270, 2, 9, 0.42, 0.13, 0.01, 0.016,  -999.00, 9, -999.00, -999.00, 9, -999.00