BOTTLE,20220820CCHSIOAMB
EXPOCODE,SECT_ID,STNNBR,CASTNO,SAMPNO,BTLNBR,BTLNBR_FLAG_W,DATE,TIME,LATITUDE,LONGITUDE,DEPTH,CTDPRS,CTDPRS_FLAG_W,CTDTMP,CTDTMP_FLAG_W,CTDSAL,CTDSAL_FLAG_W,SALNTY,SALNTY_FLAG_W,CTDOXY,CTDOXY_FLAG_W,OXYGEN,OXYGEN_FLAG_W,SILCAT,SILCAT_FLAG_W,NITRAT,NITRAT_FLAG_W,NITRIT,NITRIT_FLAG_W,PHSPHT,PHSPHT_FLAG_W,CFC-11,CFC-11_FLAG_W,CFC-12,CFC-12_FLAG_W,CFC113,CFC113_FLAG_W,CCL4,CCL4_FLAG_W,TCARBN,TCARBN_FLAG_W,ALKALI,ALKALI_FLAG_W,PH_TOT,PH_TMP,DELC14,DELC14_FLAG_W,C14ERR,DELC13,DELC13_FLAG_W,C13ERR,THETA,SIG0,SBE35,SBE35_FLAG_W,PH_TOT_FLAG_W,SILUNC,NRAUNC,NRIUNC,PHPUNC,CS-137,CS-137_FLAG_W,CS137ER,PLUTO,PLUTO_FLAG_W,PLUTOER
,,,,,,,,,,,METERS,DBAR,,ITS-90,,PSS-78,,PSS-78,,UMOL/KG,,UMOL/KG,,UMOL/KG,,UMOL/KG,,UMOL/KG,,UMOL/KG,,PMOL/KG,,PMOL/KG,,PMOL/KG,,PMOL/KG,,UMOL/KG,,UMOL/KG,,,DEG C,/MILLE,,/MILLE,/MILLE,,/MILLE,DEG C,KG/M^3,ITS-90,,,UMOL/KG,UMOL/KG,UMOL/KG,UMOL/KG,DM/.1MG,,BQ/M^3,MBQ/M^3,,MBQ/M^3
49NZ20071122, P14, 1, 1, 36, X12042, 2, 20071222, 2253, -35.6343, 175.0345, 224,     10.4, 2,  19.6324, 2,  35.5983, 2,  35.5992, 2,    233.3, 2,    233.3, 2,     1.13, 2,     0.06, 2,     0.01, 2,     0.14, 2,    2.219, 2,    1.328, 2,    0.313, 4, -999.000, 9,   -999.0, 9,   -999.0, 9, -999.0000,   -999.00,   -999.0, 9,   -999.0,  -999.00, 9,   -999.0,  19.6305, 25.3154,  19.6333, 2, 9, 0.12, 0.03, 0.01, 0.019,  -999.00, 9, -999.00, -999.00, 9, -999.00
49NZ20071122, P14, 1, 1, 35, X12041, 2, 20071222, 2253, -35.6343, 175.0345, 224,     49.8, 2,  17.5704, 2,  35.4975, 2,  35.5004, 2,    232.1, 2,    234.5, 2,     1.59, 2,     1.48, 2,     0.21, 2,     0.26, 2,    2.396, 2,    1.423, 2,    0.258, 4, -999.000, 9,   -999.0, 9,   -999.0, 9, -999.0000,   -999.00,   -999.0, 9,   -999.0,  -999.00, 9,   -999.0,  17.5620, 25.7607,  17.5698, 2, 9, 0.12, 0.04, 0.01, 0.015,  -999.00, 9, -999.00, -999.00, 9, -999.00
49NZ20071122, P14, 1, 1, 34, X12016, 2, 20071222, 2253, -35.6343, 175.0345, 224,     99.7, 2,  15.3727, 2,  35.4030, 2,  35.4135, 2,    213.8, 2,    215.4, 2,     2.93, 2,     6.27, 2,     0.11, 2,     0.55, 2,    2.458, 2,    1.420, 2,    0.190, 4, -999.000, 9,   -999.0, 9,   -999.0, 9, -999.0000,   -999.00,   -999.0, 9,   -999.0,  -999.00, 9,   -999.0,  15.3573, 26.2034,  15.3816, 2, 9, 0.13, 0.05, 0.01, 0.013,  -999.00, 9, -999.00, -999.00, 9, -999.00
49NZ20071122, P14, 1, 1, 33, X12033, 2, 20071222, 2253, -35.6343, 175.0345, 224,    149.8, 2,  14.2644, 2,  35.3010, 2,  35.3023, 2,    207.4, 2,    208.0, 2,     4.19, 2,     9.08, 2,     0.03, 2,     0.72, 2,    2.383, 6,    1.356, 6,    0.141, 4, -999.000, 9,   -999.0, 9,   -999.0, 9, -999.0000,   -999.00,   -999.0, 9,   -999.0,  -999.00, 9,   -999.0,  14.2425, 26.3684,  14.2636, 2, 9, 0.13, 0.06, 0.01, 0.013,  -999.00, 9, -999.00, -999.00, 9, -999.00
49NZ20071122, P14, 1, 1, 19, X12025, 9, 20071222, 2253, -35.6343, 175.0345, 224,    221.1, 2,  12.4499, 2,  35.0936, 2, -999.0000, 9,    191.9, 2,   -999.0, 9,  -999.00, 9,  -999.00, 9,  -999.00, 9,  -999.00, 9, -999.000, 9, -999.000, 9, -999.000, 9, -999.000, 9,   -999.0, 9,   -999.0, 9, -999.0000,   -999.00,   -999.0, 9,   -999.0,  -999.00, 9,   -999.0,  12.4203, 26.5805,  12.4509, 2, 9, -999.00, -999.00, -999.00, -999.000,  -999.00, 9, -999.00, -999.00, 9, -999.00
49NZ20071122, P14, 1, 1, 18, X12024, 9, 20071222, 2253, -35.6343, 175.0345, 224,     10.5, 2,  19.6349, 2,  35.5979, 2, -999.0000, 9,    233.3, 2,   -999.0, 9,  -999.00, 9,  -999.00, 9,  -999.00, 9,  -999.00, 9, -999.000, 9, -999.000, 9, -999.000, 9, -999.000, 9,   -999.0, 9,   -999.0, 9, -999.0000,   -999.00,   -999.0, 9,   -999.0,  -999.00, 9,   -999.0,  19.6330, 25.3144,  19.6360, 2, 9, -999.00, -999.00, -999.00, -999.000,  -999.00, 9, -999.00, -999.00, 9, -999.00
49NZ20071122, P14, 1, 1, 17, X12023, 9, 20071222, 2253, -35.6343, 175.0345, 224,     50.0, 2,  17.5100, 2,  35.4984, 2, -999.0000, 9,    231.5, 2,   -999.0, 9,  -999.00, 9,  -999.00, 9,  -999.00, 9,  -999.00, 9, -999.000, 9, -999.000, 9, -999.000, 9, -999.000, 9,   -999.0, 9,   -999.0, 9, -999.0000,   -999.00,   -999.0, 9,   -999.0,  -999.00, 9,   -999.0,  17.5016, 25.7761,  17.5135, 2, 9, -999.00, -999.00, -999.00, -999.000,  -999.00, 9, -999.00, -999.00, 9, -999.00
49NZ20071122, P14, 1, 1, 16, X12022, 9, 20071222, 2253, -35.6343, 175.0345, 224,     99.5, 2,  15.3724, 2,  35.4035, 2, -999.0000, 9,    213.8, 2,   -999.0, 9,  -999.00, 9,  -999.00, 9,  -999.00, 9,  -999.00, 9, -999.000, 9, -999.000, 9, -999.000, 9, -999.000, 9,   -999.0, 9,   -999.0, 9, -999.0000,   -999.00,   -999.0, 9,   -999.0,  -999.00, 9,   -999.0,  15.3571, 26.2038,  15.3739, 2, 9, -999.00, -999.00, -999.00, -999.000,  -999.00, 9, -999.00, -999.00, 9, -999.00
49NZ20071122, P14, 1, 1, 15, X12021, 9, 20071222, 2253, -35.6343, 175.0345, 224,    149.7, 2,  14.2642, 2,  35.3010, 2, -999.0000, 9,    207.4, 2,   -999.0, 9,  -999.00, 9,  -999.00, 9,  -999.00, 9,  -999.00, 9, -999.000, 9, -999.000, 9, -999.000, 9, -999.000, 9,   -999.0, 9,   -999.0, 9, -999.0000,   -999.00,   -999.0, 9,   -999.0,  -999.00, 9,   -999.0,  14.2423, 26.3684,  14.2618, 2, 9, -999.00, -999.00, -999.00, -999.000,  -999.00, 9, -999.00, -999.00, 9, -999.00
49NZ20071122, P14, 1, 1, 1, X12001, 2, 20071222, 2253, -35.6343, 175.0345, 224,    221.1, 2,  12.4466, 2,  35.0936, 2,  35.0965, 6,    191.9, 2,    191.7, 2,     6.04, 2,    13.73, 2,     0.06, 2,     1.03, 2,    2.385, 2,    1.295, 2,    0.101, 2, -999.000, 9,   -999.0, 9,   -999.0, 9, -999.0000,   -999.00,   -999.0, 9,   -999.0,  -999.00, 9,   -999.0,  12.4170, 26.5812,  12.4430, 2, 9, 0.13, 0.07, 0.01, 0.013,  -999.00, 9, -999.00, -999.00, 9, -999.00