BOTTLE,20220820CCHSIOAMB
EXPOCODE,SECT_ID,STNNBR,CASTNO,SAMPNO,BTLNBR,BTLNBR_FLAG_W,DATE,TIME,LATITUDE,LONGITUDE,DEPTH,CTDPRS,CTDPRS_FLAG_W,CTDTMP,CTDTMP_FLAG_W,CTDSAL,CTDSAL_FLAG_W,SALNTY,SALNTY_FLAG_W,CTDOXY,CTDOXY_FLAG_W,OXYGEN,OXYGEN_FLAG_W,SILCAT,SILCAT_FLAG_W,NITRAT,NITRAT_FLAG_W,NITRIT,NITRIT_FLAG_W,PHSPHT,PHSPHT_FLAG_W,CFC-11,CFC-11_FLAG_W,CFC-12,CFC-12_FLAG_W,CFC113,CFC113_FLAG_W,CCL4,CCL4_FLAG_W,TCARBN,TCARBN_FLAG_W,ALKALI,ALKALI_FLAG_W,PH_TOT,PH_TMP,DELC14,DELC14_FLAG_W,C14ERR,DELC13,DELC13_FLAG_W,C13ERR,THETA,SIG0,SBE35,SBE35_FLAG_W,PH_TOT_FLAG_W,SILUNC,NRAUNC,NRIUNC,PHPUNC,CS-137,CS-137_FLAG_W,CS137ER,PLUTO,PLUTO_FLAG_W,PLUTOER
,,,,,,,,,,,METERS,DBAR,,ITS-90,,PSS-78,,PSS-78,,UMOL/KG,,UMOL/KG,,UMOL/KG,,UMOL/KG,,UMOL/KG,,UMOL/KG,,PMOL/KG,,PMOL/KG,,PMOL/KG,,PMOL/KG,,UMOL/KG,,UMOL/KG,,,DEG C,/MILLE,,/MILLE,/MILLE,,/MILLE,DEG C,KG/M^3,ITS-90,,,UMOL/KG,UMOL/KG,UMOL/KG,UMOL/KG,DM/.1MG,,BQ/M^3,MBQ/M^3,,MBQ/M^3
49NZ20071122, P14, 34, 1, 36, X12042, 2, 20071216, 1555, -22.6260, 177.2585, 4216,      9.1, 2,  25.1609, 2,  35.1790, 2,  35.1788, 2,    210.5, 2,    208.8, 2,     0.63, 2,     0.09, 2,     0.00, 2,     0.08, 2,    1.722, 2,    1.059, 2,    0.432, 4, -999.000, 9,   -999.0, 9,   -999.0, 9, -999.0000,   -999.00,   -999.0, 9,   -999.0,  -999.00, 9,   -999.0,  25.1589, 23.4281,  25.1602, 2, 9, 0.12, 0.03, 0.01, 0.026,  -999.00, 9, -999.00, -999.00, 9, -999.00
49NZ20071122, P14, 34, 1, 35, X12041, 2, 20071216, 1555, -22.6260, 177.2585, 4216,     50.0, 2,  23.8305, 2,  35.4097, 2,  35.4097, 2,    216.5, 2,    217.5, 2,     0.61, 2,     0.05, 2,     0.00, 2,     0.06, 2,    1.829, 2,    1.113, 2,    0.579, 4, -999.000, 9,   -999.0, 9,   -999.0, 9, -999.0000,   -999.00,   -999.0, 9,   -999.0,  -999.00, 9,   -999.0,  23.8200, 24.0048,  23.8291, 2, 9, 0.12, 0.03, 0.01, 0.029,  -999.00, 9, -999.00, -999.00, 9, -999.00
49NZ20071122, P14, 34, 1, 34, X12016, 2, 20071216, 1555, -22.6260, 177.2585, 4216,     99.6, 2,  21.8144, 2,  35.6843, 2,  35.6838, 2,    215.9, 2,    216.8, 2,     0.59, 2,     0.07, 2,     0.02, 2,     0.10, 2,    2.000, 2,    1.200, 2,    0.372, 4, -999.000, 9,   -999.0, 9,   -999.0, 9, -999.0000,   -999.00,   -999.0, 9,   -999.0,  -999.00, 9,   -999.0,  21.7948, 24.7954,  21.8164, 2, 9, 0.12, 0.03, 0.01, 0.022,  -999.00, 9, -999.00, -999.00, 9, -999.00
49NZ20071122, P14, 34, 1, 33, X12033, 2, 20071216, 1555, -22.6260, 177.2585, 4216,    150.6, 2,  19.7748, 2,  35.7183, 2,  35.7170, 2,    202.3, 2,    201.8, 2,     0.80, 2,     1.83, 2,     0.09, 2,     0.24, 2,    2.159, 6,    1.274, 6,    0.222, 4, -999.000, 9,   -999.0, 9,   -999.0, 9, -999.0000,   -999.00,   -999.0, 9,   -999.0,  -999.00, 9,   -999.0,  19.7471, 25.3765,  19.7764, 2, 9, 0.12, 0.04, 0.01, 0.015,  -999.00, 9, -999.00, -999.00, 9, -999.00
49NZ20071122, P14, 34, 1, 32, X12038, 2, 20071216, 1555, -22.6260, 177.2585, 4216,    201.0, 2,  18.3634, 2,  35.6363, 2,  35.6350, 2,    189.3, 2,    188.4, 2,     1.25, 2,     4.53, 2,     0.01, 2,     0.41, 2,    2.277, 2,    1.312, 2,    0.072, 2, -999.000, 9,   -999.0, 9,   -999.0, 9, -999.0000,   -999.00,   -999.0, 9,   -999.0,  -999.00, 9,   -999.0,  18.3282, 25.6778,  18.3649, 2, 9, 0.12, 0.05, 0.01, 0.013,  -999.00, 9, -999.00, -999.00, 9, -999.00
49NZ20071122, P14, 34, 1, 31, X12003, 2, 20071216, 1555, -22.6260, 177.2585, 4216,    249.5, 2,  17.2100, 2,  35.5733, 2,  35.5696, 6,    187.2, 2,    192.9, 2,     1.53, 2,     5.51, 2,     0.01, 2,     0.48, 2,    2.366, 2,    1.350, 2,    0.058, 2, -999.000, 9,   -999.0, 9,   -999.0, 9, -999.0000,   -999.00,   -999.0, 9,   -999.0,  -999.00, 9,   -999.0,  17.1682, 25.9141,  17.2107, 2, 9, 0.12, 0.05, 0.01, 0.013,  -999.00, 9, -999.00, -999.00, 9, -999.00
49NZ20071122, P14, 34, 1, 30, X12008, 2, 20071216, 1555, -22.6260, 177.2585, 4216,    279.2, 2,  16.6384, 2,  35.5255, 2,  35.5227, 2,    194.4, 2,    194.0, 2,     1.74, 2,     6.16, 2,     0.01, 2,     0.52, 2,    2.408, 2,    1.362, 2,    0.066, 2, -999.000, 9,   -999.0, 9,   -999.0, 9, -999.0000,   -999.00,   -999.0, 9,   -999.0,  -999.00, 9,   -999.0,  16.5927, 26.0142,  16.6385, 2, 9, 0.12, 0.05, 0.01, 0.013,  -999.00, 9, -999.00, -999.00, 9, -999.00
49NZ20071122, P14, 34, 1, 29, X12035, 2, 20071216, 1555, -22.6260, 177.2585, 4216,    371.8, 2,  14.1864, 2,  35.2004, 2,  35.1985, 2,    190.4, 2,    189.7, 2,     2.98, 2,    10.03, 2,     0.00, 2,     0.79, 2,    2.431, 2,    1.323, 2,    0.049, 2, -999.000, 9,   -999.0, 9,   -999.0, 9, -999.0000,   -999.00,   -999.0, 9,   -999.0,  -999.00, 9,   -999.0,  14.1318, 26.3142,  14.1871, 2, 9, 0.13, 0.06, 0.01, 0.013,  -999.00, 9, -999.00, -999.00, 9, -999.00
49NZ20071122, P14, 34, 1, 28, X12034, 2, 20071216, 1555, -22.6260, 177.2585, 4216,    470.4, 2,  10.9408, 2,  34.8242, 2,  34.8215, 6,    199.0, 2,    198.8, 2,     4.81, 2,    15.56, 2,     0.01, 2,     1.14, 2,    2.428, 2,    1.253, 2,    0.066, 2, -999.000, 9,   -999.0, 9,   -999.0, 9, -999.0000,   -999.00,   -999.0, 9,   -999.0,  -999.00, 9,   -999.0,  10.8824, 26.6599,  10.9411, 2, 9, 0.13, 0.08, 0.01, 0.013,  -999.00, 9, -999.00, -999.00, 9, -999.00
49NZ20071122, P14, 34, 1, 27, X12049, 2, 20071216, 1555, -22.6260, 177.2585, 4216,    569.0, 2,   8.2005, 2,  34.5170, 2,  34.5116, 2,    212.2, 2,    212.6, 2,     7.49, 2,    21.04, 2,     0.00, 2,     1.49, 2,    2.183, 2,    1.073, 2,    0.079, 2, -999.000, 9,   -999.0, 9,   -999.0, 9, -999.0000,   -999.00,   -999.0, 9,   -999.0,  -999.00, 9,   -999.0,   8.1411, 26.8733,   8.1983, 2, 9, 0.14, 0.09, 0.01, 0.014,  -999.00, 9, -999.00, -999.00, 9, -999.00
49NZ20071122, P14, 34, 1, 26, X12032, 2, 20071216, 1555, -22.6260, 177.2585, 4216,    670.2, 2,   6.8472, 2,  34.4005, 2,  34.3993, 2,    220.2, 2,    219.8, 2,    10.64, 2,    23.90, 2,     0.00, 2,     1.67, 2,    1.725, 6,    0.837, 6,    0.053, 6, -999.000, 9,   -999.0, 9,   -999.0, 9, -999.0000,   -999.00,   -999.0, 9,   -999.0,  -999.00, 9,   -999.0,   6.7837, 26.9761,   6.8467, 2, 9, 0.14, 0.10, 0.01, 0.014,  -999.00, 9, -999.00, -999.00, 9, -999.00
49NZ20071122, P14, 34, 1, 25, X12043, 2, 20071216, 1555, -22.6260, 177.2585, 4216,    769.3, 2,   5.9208, 2,  34.3556, 2,  34.3551, 2,    213.8, 2,    212.2, 2,    17.04, 2,    26.83, 2,     0.00, 2,     1.87, 2,    1.041, 2,    0.505, 2,    0.027, 2, -999.000, 9,   -999.0, 9,   -999.0, 9, -999.0000,   -999.00,   -999.0, 9,   -999.0,  -999.00, 9,   -999.0,   5.8528, 27.0620,   5.9208, 2, 9, 0.16, 0.11, 0.01, 0.015,  -999.00, 9, -999.00, -999.00, 9, -999.00
49NZ20071122, P14, 34, 1, 24, X12030, 2, 20071216, 1555, -22.6260, 177.2585, 4216,    871.4, 2,   5.3854, 2,  34.3509, 2,  34.3502, 2,    203.8, 2,    203.3, 2,    23.07, 2,    28.61, 2,     0.00, 2,     1.99, 2,    0.672, 2,    0.330, 2,    0.014, 2, -999.000, 9,   -999.0, 9,   -999.0, 9, -999.0000,   -999.00,   -999.0, 9,   -999.0,  -999.00, 9,   -999.0,   5.3113, 27.1242,   5.3854, 2, 9, 0.17, 0.11, 0.01, 0.015,  -999.00, 9, -999.00, -999.00, 9, -999.00
49NZ20071122, P14, 34, 1, 23, X12027, 2, 20071216, 1555, -22.6260, 177.2585, 4216,    970.6, 2,   4.8805, 2,  34.3643, 2,  34.3646, 6,    193.3, 2,    192.1, 2,    31.62, 2,    30.52, 2,     0.00, 2,     2.13, 2,    0.390, 2,    0.195, 2,    0.007, 2, -999.000, 9,   -999.0, 9,   -999.0, 9, -999.0000,   -999.00,   -999.0, 9,   -999.0,  -999.00, 9,   -999.0,   4.8009, 27.1939,   4.8808, 2, 9, 0.19, 0.12, 0.01, 0.015,  -999.00, 9, -999.00, -999.00, 9, -999.00
49NZ20071122, P14, 34, 1, 22, X12028, 2, 20071216, 1555, -22.6260, 177.2585, 4216,   1129.6, 2,   4.1353, 2,  34.4154, 2,  34.4172, 2,    176.5, 2,    176.8, 2,    48.45, 2,    32.65, 2,     0.00, 2,     2.27, 2,    0.149, 2,    0.075, 2,    0.000, 2, -999.000, 9,   -999.0, 9,   -999.0, 9, -999.0000,   -999.00,   -999.0, 9,   -999.0,  -999.00, 9,   -999.0,   4.0477, 27.3161,   4.1353, 2, 9, 0.23, 0.12, 0.01, 0.016,  -999.00, 9, -999.00, -999.00, 9, -999.00
49NZ20071122, P14, 34, 1, 21, X12009, 2, 20071216, 1555, -22.6260, 177.2585, 4216,   1330.8, 2,   3.3607, 2,  34.5214, 2,  34.5218, 2,    160.5, 2,    160.2, 2,    76.31, 2,    34.13, 2,     0.00, 2,     2.40, 2,    0.040, 2,    0.018, 2,    0.000, 2, -999.000, 9,   -999.0, 9,   -999.0, 9, -999.0000,   -999.00,   -999.0, 9,   -999.0,  -999.00, 9,   -999.0,   3.2632, 27.4785,   3.3610, 2, 9, 0.29, 0.13, 0.01, 0.016,  -999.00, 9, -999.00, -999.00, 9, -999.00
49NZ20071122, P14, 34, 1, 20, X12026, 3, 20071216, 1555, -22.6260, 177.2585, 4216,   1529.9, 2,   2.9062, 2,  34.5741, 2,  34.5747, 2,    154.2, 2,    154.1, 2,    91.74, 2,    34.75, 2,     0.00, 2,     2.45, 2,    0.011, 2,    0.008, 2,    0.000, 2, -999.000, 9,   -999.0, 9,   -999.0, 9, -999.0000,   -999.00,   -999.0, 9,   -999.0,  -999.00, 9,   -999.0,   2.7970, 27.5634,   2.9064, 2, 9, 0.32, 0.13, 0.01, 0.016,  -999.00, 9, -999.00, -999.00, 9, -999.00
49NZ20071122, P14, 34, 1, 19, X12025, 2, 20071216, 1555, -22.6260, 177.2585, 4216,   1731.6, 2,   2.6036, 2,  34.6041, 2,  34.6044, 2,    151.5, 2,    151.2, 2,   101.19, 2,    35.10, 2,     0.00, 2,     2.48, 2,    0.007, 2,    0.003, 2,    0.000, 2, -999.000, 9,   -999.0, 9,   -999.0, 9, -999.0000,   -999.00,   -999.0, 9,   -999.0,  -999.00, 9,   -999.0,   2.4812, 27.6150,   2.6040, 2, 9, 0.34, 0.13, 0.01, 0.016,  -999.00, 9, -999.00, -999.00, 9, -999.00
49NZ20071122, P14, 34, 1, 18, X12024, 2, 20071216, 1555, -22.6260, 177.2585, 4216,   1931.4, 2,   2.3795, 2,  34.6251, 2,  34.6246, 2,    150.6, 2,    150.2, 2,   107.69, 2,    35.31, 2,     0.00, 2,     2.49, 2, -999.000, 9, -999.000, 9, -999.000, 9, -999.000, 9,   -999.0, 9,   -999.0, 9, -999.0000,   -999.00,   -999.0, 9,   -999.0,  -999.00, 9,   -999.0,   2.2432, 27.6517,   2.3795, 2, 9, 0.36, 0.13, 0.01, 0.016,  -999.00, 9, -999.00, -999.00, 9, -999.00
49NZ20071122, P14, 34, 1, 17, X12023, 2, 20071216, 1555, -22.6260, 177.2585, 4216,   2131.4, 2,   2.1923, 2,  34.6435, 2,  34.6433, 6,    150.6, 2,    150.2, 2,   113.15, 2,    35.45, 2,     0.00, 2,     2.50, 2,    0.003, 2,    0.001, 2,    0.000, 2, -999.000, 9,   -999.0, 9,   -999.0, 9, -999.0000,   -999.00,   -999.0, 9,   -999.0,  -999.00, 9,   -999.0,   2.0416, 27.6827,   2.1923, 2, 9, 0.37, 0.13, 0.01, 0.016,  -999.00, 9, -999.00, -999.00, 9, -999.00
49NZ20071122, P14, 34, 1, 16, X12022, 2, 20071216, 1555, -22.6260, 177.2585, 4216,   2331.0, 2,   2.0530, 2,  34.6571, 2,  34.6571, 2,    151.5, 2,    151.4, 2,   116.48, 2,    35.39, 2,     0.00, 2,     2.49, 2, -999.000, 9, -999.000, 9, -999.000, 9, -999.000, 9,   -999.0, 9,   -999.0, 9, -999.0000,   -999.00,   -999.0, 9,   -999.0,  -999.00, 9,   -999.0,   1.8870, 27.7058,   2.0531, 2, 9, 0.38, 0.13, 0.01, 0.016,  -999.00, 9, -999.00, -999.00, 9, -999.00
49NZ20071122, P14, 34, 1, 15, X12021, 2, 20071216, 1555, -22.6260, 177.2585, 4216,   2531.0, 2,   1.9685, 2,  34.6656, 2,  34.6659, 2,    152.8, 2,    152.7, 2,   118.03, 2,    35.28, 2,     0.00, 2,     2.49, 2,    0.002, 2,    0.001, 2,    0.000, 2, -999.000, 9,   -999.0, 9,   -999.0, 9, -999.0000,   -999.00,   -999.0, 9,   -999.0,  -999.00, 9,   -999.0,   1.7859, 27.7205,   1.9685, 2, 9, 0.38, 0.13, 0.01, 0.016,  -999.00, 9, -999.00, -999.00, 9, -999.00
49NZ20071122, P14, 34, 1, 14, X12020, 2, 20071216, 1555, -22.6260, 177.2585, 4216,   2731.3, 2,   1.8983, 2,  34.6726, 2,  34.6727, 2,    153.7, 2,    153.8, 2,   119.89, 2,    35.31, 2,     0.00, 2,     2.49, 2, -999.000, 9, -999.000, 9, -999.000, 9, -999.000, 9,   -999.0, 9,   -999.0, 9, -999.0000,   -999.00,   -999.0, 9,   -999.0,  -999.00, 9,   -999.0,   1.6985, 27.7327,   1.8983, 2, 9, 0.38, 0.13, 0.01, 0.016,  -999.00, 9, -999.00, -999.00, 9, -999.00
49NZ20071122, P14, 34, 1, 13, X12019, 2, 20071216, 1555, -22.6260, 177.2585, 4216,   2930.2, 2,   1.8579, 2,  34.6766, 2,  34.6767, 2,    154.2, 2,    154.5, 2,   121.00, 2,    35.23, 2,     0.00, 2,     2.48, 2,    0.000, 2,    0.000, 2,    0.000, 2, -999.000, 9,   -999.0, 9,   -999.0, 9, -999.0000,   -999.00,   -999.0, 9,   -999.0,  -999.00, 9,   -999.0,   1.6400, 27.7403,   1.8578, 2, 9, 0.39, 0.13, 0.01, 0.016,  -999.00, 9, -999.00, -999.00, 9, -999.00
49NZ20071122, P14, 34, 1, 12, X12040, 2, 20071216, 1555, -22.6260, 177.2585, 4216,   3171.7, 2,   1.8338, 2,  34.6796, 2,  34.6796, 2,    155.0, 2,    155.0, 2,   121.42, 2,    35.03, 2,     0.00, 2,     2.47, 2, -999.000, 9, -999.000, 9, -999.000, 9, -999.000, 9,   -999.0, 9,   -999.0, 9, -999.0000,   -999.00,   -999.0, 9,   -999.0,  -999.00, 9,   -999.0,   1.5927, 27.7463,   1.8338, 2, 9, 0.39, 0.13, 0.01, 0.016,  -999.00, 9, -999.00, -999.00, 9, -999.00
49NZ20071122, P14, 34, 1, 11, X12047, 2, 20071216, 1555, -22.6260, 177.2585, 4216,   3420.5, 2,   1.8285, 2,  34.6815, 2,  34.6815, 2,    155.3, 2,    155.3, 2,   122.45, 2,    35.21, 2,     0.00, 2,     2.47, 2,    0.001, 2,    0.000, 2,    0.000, 2, -999.000, 9,   -999.0, 9,   -999.0, 9, -999.0000,   -999.00,   -999.0, 9,   -999.0,  -999.00, 9,   -999.0,   1.5623, 27.7500,   1.8285, 2, 9, 0.39, 0.13, 0.01, 0.016,  -999.00, 9, -999.00, -999.00, 9, -999.00
49NZ20071122, P14, 34, 1, 10, X12012, 2, 20071216, 1555, -22.6260, 177.2585, 4216,   3670.3, 2,   1.8361, 2,  34.6824, 2,  34.6826, 2,    155.7, 2,    155.7, 2,   123.11, 2,    35.21, 2,     0.00, 2,     2.48, 2, -999.000, 9, -999.000, 9, -999.000, 9, -999.000, 9,   -999.0, 9,   -999.0, 9, -999.0000,   -999.00,   -999.0, 9,   -999.0,  -999.00, 9,   -999.0,   1.5436, 27.7521,   1.8361, 2, 9, 0.39, 0.13, 0.01, 0.016,  -999.00, 9, -999.00, -999.00, 9, -999.00
49NZ20071122, P14, 34, 1, 9, X12015, 2, 20071216, 1555, -22.6260, 177.2585, 4216,   3922.0, 2,   1.8511, 2,  34.6829, 2,  34.6833, 6,    156.1, 2,    156.0, 2,   123.37, 2,    35.21, 2,     0.00, 2,     2.48, 2,    0.002, 2,    0.000, 2,    0.000, 2, -999.000, 9,   -999.0, 9,   -999.0, 9, -999.0000,   -999.00,   -999.0, 9,   -999.0,  -999.00, 9,   -999.0,   1.5309, 27.7535,   1.8511, 2, 9, 0.39, 0.13, 0.01, 0.016,  -999.00, 9, -999.00, -999.00, 9, -999.00
49NZ20071122, P14, 34, 1, 8, X12046, 2, 20071216, 1555, -22.6260, 177.2585, 4216,   4170.2, 2,   1.8665, 2,  34.6837, 2,  34.6841, 2,    156.7, 2,    156.4, 2,   123.46, 2,    35.25, 2,     0.00, 2,     2.47, 2, -999.000, 9, -999.000, 9, -999.000, 9, -999.000, 9,   -999.0, 9,   -999.0, 9, -999.0000,   -999.00,   -999.0, 9,   -999.0,  -999.00, 9,   -999.0,   1.5182, 27.7550,   1.8666, 2, 9, 0.39, 0.13, 0.01, 0.016,  -999.00, 9, -999.00, -999.00, 9, -999.00
49NZ20071122, P14, 34, 1, 7, X12044, 9, 20071216, 1555, -22.6260, 177.2585, 4216,     50.4, 2,  23.8146, 2,  35.4094, 2, -999.0000, 9,    216.6, 2,   -999.0, 9,  -999.00, 9,  -999.00, 9,  -999.00, 9,  -999.00, 9, -999.000, 9, -999.000, 9, -999.000, 9, -999.000, 9,   -999.0, 9,   -999.0, 9, -999.0000,   -999.00,   -999.0, 9,   -999.0,  -999.00, 9,   -999.0,  23.8040, 24.0093,  23.8169, 2, 9, -999.00, -999.00, -999.00, -999.000,  -999.00, 9, -999.00, -999.00, 9, -999.00
49NZ20071122, P14, 34, 1, 6, X12048, 9, 20071216, 1555, -22.6260, 177.2585, 4216,    871.6, 2,   5.3838, 2,  34.3507, 2, -999.0000, 9,    203.8, 2,   -999.0, 9,  -999.00, 9,  -999.00, 9,  -999.00, 9,  -999.00, 9, -999.000, 9, -999.000, 9, -999.000, 9, -999.000, 9,   -999.0, 9,   -999.0, 9, -999.0000,   -999.00,   -999.0, 9,   -999.0,  -999.00, 9,   -999.0,   5.3097, 27.1243,   5.3856, 2, 9, -999.00, -999.00, -999.00, -999.000,  -999.00, 9, -999.00, -999.00, 9, -999.00
49NZ20071122, P14, 34, 1, 5, X12014, 9, 20071216, 1555, -22.6260, 177.2585, 4216,     99.4, 2,  21.8213, 2,  35.6837, 2, -999.0000, 9,    215.8, 2,   -999.0, 9,  -999.00, 9,  -999.00, 9,  -999.00, 9,  -999.00, 9, -999.000, 9, -999.000, 9, -999.000, 9, -999.000, 9,   -999.0, 9,   -999.0, 9, -999.0000,   -999.00,   -999.0, 9,   -999.0,  -999.00, 9,   -999.0,  21.8017, 24.7930,  21.8233, 2, 9, -999.00, -999.00, -999.00, -999.000,  -999.00, 9, -999.00, -999.00, 9, -999.00
49NZ20071122, P14, 34, 1, 4, X12006, 9, 20071216, 1555, -22.6260, 177.2585, 4216,   1129.4, 2,   4.1357, 2,  34.4153, 2, -999.0000, 9,    176.5, 2,   -999.0, 9,  -999.00, 9,  -999.00, 9,  -999.00, 9,  -999.00, 9, -999.000, 9, -999.000, 9, -999.000, 9, -999.000, 9,   -999.0, 9,   -999.0, 9, -999.0000,   -999.00,   -999.0, 9,   -999.0,  -999.00, 9,   -999.0,   4.0481, 27.3160,   4.1344, 2, 9, -999.00, -999.00, -999.00, -999.000,  -999.00, 9, -999.00, -999.00, 9, -999.00
49NZ20071122, P14, 34, 1, 3, X12013, 9, 20071216, 1555, -22.6260, 177.2585, 4216,   3420.7, 2,   1.8286, 2,  34.6815, 2, -999.0000, 9,    155.2, 2,   -999.0, 9,  -999.00, 9,  -999.00, 9,  -999.00, 9,  -999.00, 9, -999.000, 9, -999.000, 9, -999.000, 9, -999.000, 9,   -999.0, 9,   -999.0, 9, -999.0000,   -999.00,   -999.0, 9,   -999.0,  -999.00, 9,   -999.0,   1.5624, 27.7500,   1.8286, 2, 9, -999.00, -999.00, -999.00, -999.000,  -999.00, 9, -999.00, -999.00, 9, -999.00
49NZ20071122, P14, 34, 1, 2, X12002, 9, 20071216, 1555, -22.6260, 177.2585, 4216,   1530.0, 2,   2.9074, 2,  34.5740, 2, -999.0000, 9,    154.2, 2,   -999.0, 9,  -999.00, 9,  -999.00, 9,  -999.00, 9,  -999.00, 9, -999.000, 9, -999.000, 9, -999.000, 9, -999.000, 9,   -999.0, 9,   -999.0, 9, -999.0000,   -999.00,   -999.0, 9,   -999.0,  -999.00, 9,   -999.0,   2.7981, 27.5632,   2.9075, 2, 9, -999.00, -999.00, -999.00, -999.000,  -999.00, 9, -999.00, -999.00, 9, -999.00
49NZ20071122, P14, 34, 1, 1, X12001, 2, 20071216, 1555, -22.6260, 177.2585, 4216,   4265.4, 2,   1.8746, 2,  34.6838, 2,  34.6842, 6,    156.9, 2,    156.6, 2,   123.42, 2,    35.18, 2,     0.00, 2,     2.48, 2,    0.001, 2,    0.001, 2,    0.000, 2, -999.000, 9,   -999.0, 9,   -999.0, 9, -999.0000,   -999.00,   -999.0, 9,   -999.0,  -999.00, 9,   -999.0,   1.5152, 27.7553,   1.8747, 2, 9, 0.39, 0.13, 0.01, 0.016,  -999.00, 9, -999.00, -999.00, 9, -999.00