BOTTLE,20220820CCHSIOAMB
EXPOCODE,SECT_ID,STNNBR,CASTNO,SAMPNO,BTLNBR,BTLNBR_FLAG_W,DATE,TIME,LATITUDE,LONGITUDE,DEPTH,CTDPRS,CTDPRS_FLAG_W,CTDTMP,CTDTMP_FLAG_W,CTDSAL,CTDSAL_FLAG_W,SALNTY,SALNTY_FLAG_W,CTDOXY,CTDOXY_FLAG_W,OXYGEN,OXYGEN_FLAG_W,SILCAT,SILCAT_FLAG_W,NITRAT,NITRAT_FLAG_W,NITRIT,NITRIT_FLAG_W,PHSPHT,PHSPHT_FLAG_W,CFC-11,CFC-11_FLAG_W,CFC-12,CFC-12_FLAG_W,CFC113,CFC113_FLAG_W,CCL4,CCL4_FLAG_W,TCARBN,TCARBN_FLAG_W,ALKALI,ALKALI_FLAG_W,PH_TOT,PH_TMP,DELC14,DELC14_FLAG_W,C14ERR,DELC13,DELC13_FLAG_W,C13ERR,THETA,SIG0,SBE35,SBE35_FLAG_W,PH_TOT_FLAG_W,SILUNC,NRAUNC,NRIUNC,PHPUNC,CS-137,CS-137_FLAG_W,CS137ER,PLUTO,PLUTO_FLAG_W,PLUTOER
,,,,,,,,,,,METERS,DBAR,,ITS-90,,PSS-78,,PSS-78,,UMOL/KG,,UMOL/KG,,UMOL/KG,,UMOL/KG,,UMOL/KG,,UMOL/KG,,PMOL/KG,,PMOL/KG,,PMOL/KG,,PMOL/KG,,UMOL/KG,,UMOL/KG,,,DEG C,/MILLE,,/MILLE,/MILLE,,/MILLE,DEG C,KG/M^3,ITS-90,,,UMOL/KG,UMOL/KG,UMOL/KG,UMOL/KG,DM/.1MG,,BQ/M^3,MBQ/M^3,,MBQ/M^3
49NZ20071122, P14N, 153, 1, 36, X12042, 2, 20071205, 0619, -2.4962, 178.9992, 4859,     10.7, 2,  27.6509, 2,  35.5254, 2,  35.5255, 2,    201.9, 2,    202.3, 2,     1.78, 2,     3.29, 2,     0.25, 2,     0.46, 2,    1.577, 2,    0.973, 2,    0.180, 4, -999.000, 9,   -999.0, 9,   -999.0, 9, -999.0000,   -999.00,   -999.0, 9,   -999.0,  -999.00, 9,   -999.0,  27.6484, 22.9045,  27.6502, 2, 9, 0.12, 0.04, 0.01, 0.013,  -999.00, 9, -999.00, -999.00, 9, -999.00
49NZ20071122, P14N, 153, 1, 35, X12041, 2, 20071205, 0619, -2.4962, 178.9992, 4859,     50.4, 2,  27.5086, 2,  35.5028, 2,  35.4891, 2,    199.9, 2,    201.0, 2,     1.83, 2,     3.42, 2,     0.27, 2,     0.48, 2,    1.591, 2,    0.975, 2,    0.194, 4, -999.000, 9,   -999.0, 9,   -999.0, 9, -999.0000,   -999.00,   -999.0, 9,   -999.0,  -999.00, 9,   -999.0,  27.4969, 22.9367,  27.5100, 2, 9, 0.12, 0.04, 0.01, 0.013,  -999.00, 9, -999.00, -999.00, 9, -999.00
49NZ20071122, P14N, 153, 1, 34, X12016, 2, 20071205, 0619, -2.4962, 178.9992, 4859,    100.3, 2,  27.1870, 2,  35.4869, 2,  35.5234, 2,    192.5, 2,    194.6, 2,     1.84, 2,     3.67, 2,     0.45, 2,     0.53, 2,    1.604, 2,    0.986, 2,    0.186, 4, -999.000, 9,   -999.0, 9,   -999.0, 9, -999.0000,   -999.00,   -999.0, 9,   -999.0,  -999.00, 9,   -999.0,  27.1638, 23.0321,  27.1908, 2, 9, 0.12, 0.04, 0.00, 0.013,  -999.00, 9, -999.00, -999.00, 9, -999.00
49NZ20071122, P14N, 153, 1, 33, X12033, 2, 20071205, 0619, -2.4962, 178.9992, 4859,    150.2, 2,  27.0877, 2,  35.6309, 2,  35.6350, 2,    178.7, 2,    182.9, 2,     1.78, 2,     4.26, 2,     1.60, 2,     0.62, 2,    1.614, 6,    0.984, 6,    0.169, 4, -999.000, 9,   -999.0, 9,   -999.0, 9, -999.0000,   -999.00,   -999.0, 9,   -999.0,  -999.00, 9,   -999.0,  27.0531, 23.1761,  27.0894, 2, 9, 0.12, 0.04, 0.00, 0.013,  -999.00, 9, -999.00, -999.00, 9, -999.00
49NZ20071122, P14N, 153, 1, 32, X12038, 2, 20071205, 0619, -2.4962, 178.9992, 4859,    199.2, 2,  24.3604, 2,  35.9462, 2,  35.9611, 2,    139.3, 2,    140.5, 2,     2.21, 2,     8.30, 2,     0.04, 2,     0.83, 2,    1.829, 2,    1.096, 2,    0.140, 4, -999.000, 9,   -999.0, 9,   -999.0, 9, -999.0000,   -999.00,   -999.0, 9,   -999.0,  -999.00, 9,   -999.0,  24.3178, 24.2630,  24.3752, 2, 9, 0.12, 0.06, 0.01, 0.013,  -999.00, 9, -999.00, -999.00, 9, -999.00
49NZ20071122, P14N, 153, 1, 31, X12003, 2, 20071205, 0619, -2.4962, 178.9992, 4859,    250.2, 2,  15.7018, 2,  35.2711, 2,  35.2503, 6,    107.4, 2,    108.8, 2,     9.32, 2,    18.28, 2,     0.01, 2,     1.45, 2,    1.558, 2,    0.845, 2,    0.038, 2, -999.000, 9,   -999.0, 9,   -999.0, 9, -999.0000,   -999.00,   -999.0, 9,   -999.0,  -999.00, 9,   -999.0,  15.6626, 26.0331,  15.7091, 2, 9, 0.14, 0.08, 0.01, 0.014,  -999.00, 9, -999.00, -999.00, 9, -999.00
49NZ20071122, P14N, 153, 1, 30, X12008, 2, 20071205, 0619, -2.4962, 178.9992, 4859,    280.8, 2,  13.0089, 2,  35.0127, 2,  34.9829, 2,    118.9, 2,    119.0, 2,    13.91, 2,    21.34, 2,     0.01, 2,     1.61, 2,    1.333, 2,    0.708, 2,    0.033, 2, -999.000, 9,   -999.0, 9,   -999.0, 9, -999.0000,   -999.00,   -999.0, 9,   -999.0,  -999.00, 9,   -999.0,  12.9701, 26.4087,  13.0085, 2, 9, 0.15, 0.09, 0.01, 0.014,  -999.00, 9, -999.00, -999.00, 9, -999.00
49NZ20071122, P14N, 153, 1, 29, X12035, 2, 20071205, 0619, -2.4962, 178.9992, 4859,    369.9, 2,  10.3229, 2,  34.7662, 2,  34.7608, 2,    107.6, 2,    107.8, 2,    21.28, 2,    26.83, 2,     0.00, 2,     1.94, 2,    0.860, 2,    0.450, 2,    0.017, 2, -999.000, 9,   -999.0, 9,   -999.0, 9, -999.0000,   -999.00,   -999.0, 9,   -999.0,  -999.00, 9,   -999.0,  10.2789, 26.7213,  10.3245, 2, 9, 0.17, 0.11, 0.01, 0.015,  -999.00, 9, -999.00, -999.00, 9, -999.00
49NZ20071122, P14N, 153, 1, 28, X12034, 2, 20071205, 0619, -2.4962, 178.9992, 4859,    470.2, 2,   8.9654, 2,  34.6676, 2,  34.6635, 6,     83.4, 2,     82.7, 2,    29.55, 2,    32.16, 2,     0.00, 2,     2.28, 2,    0.431, 2,    0.224, 2,    0.014, 2, -999.000, 9,   -999.0, 9,   -999.0, 9, -999.0000,   -999.00,   -999.0, 9,   -999.0,  -999.00, 9,   -999.0,   8.9139, 26.8716,   8.9649, 2, 9, 0.18, 0.12, 0.01, 0.016,  -999.00, 9, -999.00, -999.00, 9, -999.00
49NZ20071122, P14N, 153, 1, 27, X12049, 2, 20071205, 0619, -2.4962, 178.9992, 4859,    567.7, 2,   8.0586, 2,  34.6152, 2,  34.6129, 2,     90.3, 2,     92.5, 2,    33.07, 2,    33.02, 2,     0.00, 2,     2.34, 2,    0.338, 2,    0.178, 2,    0.009, 2, -999.000, 9,   -999.0, 9,   -999.0, 9, -999.0000,   -999.00,   -999.0, 9,   -999.0,  -999.00, 9,   -999.0,   7.9999, 26.9716,   8.0596, 2, 9, 0.19, 0.13, 0.01, 0.016,  -999.00, 9, -999.00, -999.00, 9, -999.00
49NZ20071122, P14N, 153, 1, 26, X12032, 2, 20071205, 0619, -2.4962, 178.9992, 4859,    669.9, 2,   6.8987, 2,  34.5676, 2,  34.5665, 2,     60.0, 2,     77.1, 2,    44.12, 2,    37.18, 2,     0.00, 2,     2.64, 2,    0.120, 6,    0.064, 6,    0.006, 6, -999.000, 9,   -999.0, 9,   -999.0, 9, -999.0000,   -999.00,   -999.0, 9,   -999.0,  -999.00, 9,   -999.0,   6.8348, 27.1008,   6.8991, 2, 9, 0.22, 0.14, 0.01, 0.017,  -999.00, 9, -999.00, -999.00, 9, -999.00
49NZ20071122, P14N, 153, 1, 25, X12043, 2, 20071205, 0619, -2.4962, 178.9992, 4859,    770.7, 2,   6.0534, 2,  34.5521, 2,  34.5515, 2,     74.4, 2,     69.3, 2,    55.83, 2,    39.54, 2,     0.00, 2,     2.81, 2,    0.025, 2,    0.014, 2,    0.005, 2, -999.000, 9,   -999.0, 9,   -999.0, 9, -999.0000,   -999.00,   -999.0, 9,   -999.0,  -999.00, 9,   -999.0,   5.9842, 27.2007,   6.0519, 2, 9, 0.24, 0.14, 0.01, 0.017,  -999.00, 9, -999.00, -999.00, 9, -999.00
49NZ20071122, P14N, 153, 1, 24, X12030, 2, 20071205, 0619, -2.4962, 178.9992, 4859,    867.5, 2,   5.2783, 2,  34.5404, 2,  34.5403, 2,     92.1, 2,     86.8, 2,    64.86, 2,    38.73, 2,     0.00, 2,     2.76, 2,    0.017, 2,    0.007, 2,    0.000, 2, -999.000, 9,   -999.0, 9,   -999.0, 9, -999.0000,   -999.00,   -999.0, 9,   -999.0,  -999.00, 9,   -999.0,   5.2050, 27.2870,   5.2805, 2, 9, 0.26, 0.14, 0.01, 0.017,  -999.00, 9, -999.00, -999.00, 9, -999.00
49NZ20071122, P14N, 153, 1, 23, X12027, 2, 20071205, 0619, -2.4962, 178.9992, 4859,    969.9, 2,   4.5827, 2,  34.5424, 2,  34.5423, 6,    103.8, 2,    102.8, 2,    75.07, 2,    37.77, 2,     0.00, 2,     2.72, 2,    0.020, 2,    0.011, 2,    0.004, 2, -999.000, 9,   -999.0, 9,   -999.0, 9, -999.0000,   -999.00,   -999.0, 9,   -999.0,  -999.00, 9,   -999.0,   4.5051, 27.3682,   4.5827, 2, 9, 0.28, 0.14, 0.01, 0.017,  -999.00, 9, -999.00, -999.00, 9, -999.00
49NZ20071122, P14N, 153, 1, 22, X12028, 2, 20071205, 0619, -2.4962, 178.9992, 4859,   1129.5, 2,   4.0968, 2,  34.5566, 2,  34.5569, 2,    100.4, 2,    102.0, 2,    86.22, 2,    38.30, 2,     0.00, 2,     2.76, 2,    0.007, 2,    0.005, 2,    0.000, 2, -999.000, 9,   -999.0, 9,   -999.0, 9, -999.0000,   -999.00,   -999.0, 9,   -999.0,  -999.00, 9,   -999.0,   4.0093, 27.4325,   4.0970, 2, 9, 0.31, 0.14, 0.01, 0.017,  -999.00, 9, -999.00, -999.00, 9, -999.00
49NZ20071122, P14N, 153, 1, 21, X12009, 2, 20071205, 0619, -2.4962, 178.9992, 4859,   1330.6, 2,   3.4961, 2,  34.5750, 2,  34.5750, 2,    109.9, 2,    110.4, 2,    97.74, 2,    38.02, 2,     0.00, 2,     2.73, 2,    0.003, 2,    0.002, 2,    0.000, 2, -999.000, 9,   -999.0, 9,   -999.0, 9, -999.0000,   -999.00,   -999.0, 9,   -999.0,  -999.00, 9,   -999.0,   3.3971, 27.5085,   3.4967, 2, 9, 0.33, 0.14, 0.01, 0.017,  -999.00, 9, -999.00, -999.00, 9, -999.00
49NZ20071122, P14N, 153, 1, 20, X12026, 2, 20071205, 0619, -2.4962, 178.9992, 4859,   1531.1, 2,   2.9675, 2,  34.6009, 2,  34.6015, 2,    109.9, 2,    108.6, 2,   112.69, 2,    38.54, 2,     0.00, 2,     2.77, 2,    0.000, 2,    0.000, 2,    0.000, 2, -999.000, 9,   -999.0, 9,   -999.0, 9, -999.0000,   -999.00,   -999.0, 9,   -999.0,  -999.00, 9,   -999.0,   2.8574, 27.5795,   2.9674, 2, 9, 0.37, 0.14, 0.01, 0.017,  -999.00, 9, -999.00, -999.00, 9, -999.00
49NZ20071122, P14N, 153, 1, 19, X12025, 2, 20071205, 0619, -2.4962, 178.9992, 4859,   1730.4, 2,   2.5454, 2,  34.6226, 2,  34.6230, 2,    114.0, 2,    112.2, 2,   123.38, 2,    38.49, 2,     0.00, 2,     2.76, 2,    0.003, 2,    0.002, 2,    0.000, 2, -999.000, 9,   -999.0, 9,   -999.0, 9, -999.0000,   -999.00,   -999.0, 9,   -999.0,  -999.00, 9,   -999.0,   2.4238, 27.6346,   2.5454, 2, 9, 0.39, 0.14, 0.01, 0.017,  -999.00, 9, -999.00, -999.00, 9, -999.00
49NZ20071122, P14N, 153, 1, 18, X12024, 2, 20071205, 0619, -2.4962, 178.9992, 4859,   1932.9, 2,   2.2796, 2,  34.6375, 2,  34.6372, 2,    117.0, 2,    115.3, 2,   130.30, 2,    38.39, 2,     0.00, 2,     2.74, 2, -999.000, 9, -999.000, 9, -999.000, 9, -999.000, 9,   -999.0, 9,   -999.0, 9, -999.0000,   -999.00,   -999.0, 9,   -999.0,  -999.00, 9,   -999.0,   2.1446, 27.6697,   2.2798, 2, 9, 0.41, 0.14, 0.01, 0.017,  -999.00, 9, -999.00, -999.00, 9, -999.00
49NZ20071122, P14N, 153, 1, 17, X12023, 2, 20071205, 0619, -2.4962, 178.9992, 4859,   2129.9, 2,   2.0910, 2,  34.6479, 2,  34.6481, 6,    120.3, 2,    119.5, 2,   134.95, 2,    38.13, 2,     0.00, 2,     2.72, 2,    0.004, 2,    0.003, 2,    0.000, 2, -999.000, 9,   -999.0, 9,   -999.0, 9, -999.0000,   -999.00,   -999.0, 9,   -999.0,  -999.00, 9,   -999.0,   1.9420, 27.6942,   2.0909, 2, 9, 0.42, 0.14, 0.01, 0.017,  -999.00, 9, -999.00, -999.00, 9, -999.00
49NZ20071122, P14N, 153, 1, 16, X12022, 2, 20071205, 0619, -2.4962, 178.9992, 4859,   2330.3, 2,   1.9711, 2,  34.6545, 2,  34.6544, 2,    122.6, 2,    122.4, 2,   137.90, 2,    38.00, 2,     0.00, 2,     2.70, 2, -999.000, 9, -999.000, 9, -999.000, 9, -999.000, 9,   -999.0, 9,   -999.0, 9, -999.0000,   -999.00,   -999.0, 9,   -999.0,  -999.00, 9,   -999.0,   1.8066, 27.7100,   1.9712, 2, 9, 0.42, 0.14, 0.01, 0.017,  -999.00, 9, -999.00, -999.00, 9, -999.00
49NZ20071122, P14N, 153, 1, 15, X12021, 2, 20071205, 0619, -2.4962, 178.9992, 4859,   2531.6, 2,   1.9066, 2,  34.6581, 2,  34.6580, 2,    125.8, 2,    125.9, 2,   138.67, 2,    37.75, 2,     0.00, 2,     2.68, 2, -999.000, 9, -999.000, 9, -999.000, 9, -999.000, 9,   -999.0, 9,   -999.0, 9, -999.0000,   -999.00,   -999.0, 9,   -999.0,  -999.00, 9,   -999.0,   1.7252, 27.7190,   1.9067, 2, 9, 0.42, 0.14, 0.01, 0.017,  -999.00, 9, -999.00, -999.00, 9, -999.00
49NZ20071122, P14N, 153, 1, 14, X12020, 2, 20071205, 0619, -2.4962, 178.9992, 4859,   2730.6, 2,   1.8257, 2,  34.6631, 2,  34.6629, 2,    131.5, 2,    131.8, 2,   138.52, 2,    37.42, 2,     0.00, 2,     2.64, 2,    0.006, 2,    0.003, 2,    0.000, 2, -999.000, 9,   -999.0, 9,   -999.0, 9, -999.0000,   -999.00,   -999.0, 9,   -999.0,  -999.00, 9,   -999.0,   1.6275, 27.7304,   1.8257, 2, 9, 0.42, 0.14, 0.01, 0.017,  -999.00, 9, -999.00, -999.00, 9, -999.00
49NZ20071122, P14N, 153, 1, 13, X12019, 2, 20071205, 0619, -2.4962, 178.9992, 4859,   2930.5, 2,   1.7435, 2,  34.6681, 2,  34.6680, 2,    136.3, 2,    135.9, 2,   139.48, 2,    37.11, 2,     0.00, 2,     2.62, 2, -999.000, 9, -999.000, 9, -999.000, 9, -999.000, 9,   -999.0, 9,   -999.0, 9, -999.0000,   -999.00,   -999.0, 9,   -999.0,  -999.00, 9,   -999.0,   1.5281, 27.7418,   1.7435, 2, 9, 0.43, 0.14, 0.01, 0.017,  -999.00, 9, -999.00, -999.00, 9, -999.00
49NZ20071122, P14N, 153, 1, 12, X12040, 2, 20071205, 0619, -2.4962, 178.9992, 4859,   3170.7, 2,   1.6100, 2,  34.6764, 2,  34.6761, 2,    144.2, 2,    144.5, 2,   139.27, 2,    36.36, 2,     0.00, 2,     2.56, 2, -999.000, 9, -999.000, 9, -999.000, 9, -999.000, 9,   -999.0, 9,   -999.0, 9, -999.0000,   -999.00,   -999.0, 9,   -999.0,  -999.00, 9,   -999.0,   1.3742, 27.7596,   1.6100, 2, 9, 0.43, 0.13, 0.01, 0.016,  -999.00, 9, -999.00, -999.00, 9, -999.00
49NZ20071122, P14N, 153, 1, 11, X12047, 2, 20071205, 0619, -2.4962, 178.9992, 4859,   3420.7, 2,   1.5132, 2,  34.6829, 2,  34.6830, 2,    152.4, 2,    152.3, 2,   138.60, 2,    36.00, 2,     0.00, 2,     2.53, 2,    0.000, 2,    0.000, 2,    0.000, 2, -999.000, 9,   -999.0, 9,   -999.0, 9, -999.0000,   -999.00,   -999.0, 9,   -999.0,  -999.00, 9,   -999.0,   1.2548, 27.7732,   1.5133, 2, 9, 0.42, 0.13, 0.01, 0.016,  -999.00, 9, -999.00, -999.00, 9, -999.00
49NZ20071122, P14N, 153, 1, 10, X12012, 2, 20071205, 0619, -2.4962, 178.9992, 4859,   3669.4, 2,   1.4627, 2,  34.6881, 2,  34.6878, 2,    158.5, 2,    158.7, 2,   137.20, 2,    35.58, 2,     0.00, 2,     2.50, 2,    0.004, 2,    0.001, 2,    0.000, 2, -999.000, 9,   -999.0, 9,   -999.0, 9, -999.0000,   -999.00,   -999.0, 9,   -999.0,  -999.00, 9,   -999.0,   1.1800, 27.7825,   1.4627, 2, 9, 0.42, 0.13, 0.01, 0.016,  -999.00, 9, -999.00, -999.00, 9, -999.00
49NZ20071122, P14N, 153, 1, 9, X12015, 2, 20071205, 0619, -2.4962, 178.9992, 4859,   3919.5, 2,   1.4083, 2,  34.6927, 2,  34.6925, 6,    164.5, 2,    165.1, 2,   135.75, 2,    35.10, 2,     0.00, 2,     2.47, 2,    0.004, 2,    0.002, 2,    0.002, 2, -999.000, 9,   -999.0, 9,   -999.0, 9, -999.0000,   -999.00,   -999.0, 9,   -999.0,  -999.00, 9,   -999.0,   1.1006, 27.7917,   1.4083, 2, 9, 0.42, 0.13, 0.01, 0.016,  -999.00, 9, -999.00, -999.00, 9, -999.00
49NZ20071122, P14N, 153, 1, 8, X12046, 2, 20071205, 0619, -2.4962, 178.9992, 4859,   4171.1, 2,   1.3725, 2,  34.6959, 2,  34.6957, 2,    170.6, 2,    171.0, 2,   133.31, 2,    34.76, 2,     0.00, 2,     2.43, 2,    0.006, 2,    0.005, 2,    0.002, 2, -999.000, 9,   -999.0, 9,   -999.0, 9, -999.0000,   -999.00,   -999.0, 9,   -999.0,  -999.00, 9,   -999.0,   1.0384, 27.7984,   1.3725, 2, 9, 0.41, 0.13, 0.01, 0.016,  -999.00, 9, -999.00, -999.00, 9, -999.00
49NZ20071122, P14N, 153, 1, 7, X12044, 2, 20071205, 0619, -2.4962, 178.9992, 4859,   4421.5, 2,   1.3142, 2,  34.6999, 2,  34.6997, 2,    179.3, 2,    180.1, 2,   128.50, 2,    33.98, 2,     0.00, 2,     2.38, 2,    0.005, 2,    0.004, 2,    0.004, 2, -999.000, 9,   -999.0, 9,   -999.0, 9, -999.0000,   -999.00,   -999.0, 9,   -999.0,  -999.00, 9,   -999.0,   0.9539, 27.8073,   1.3143, 2, 9, 0.40, 0.13, 0.01, 0.016,  -999.00, 9, -999.00, -999.00, 9, -999.00
49NZ20071122, P14N, 153, 1, 6, X12048, 2, 20071205, 0619, -2.4962, 178.9992, 4859,   4670.0, 2,   1.2726, 2,  34.7030, 2,  34.7031, 2,    187.3, 2,    187.7, 2,   124.42, 2,    33.49, 2,     0.00, 2,     2.34, 2,    0.009, 2,    0.005, 2,    0.000, 2, -999.000, 9,   -999.0, 9,   -999.0, 9, -999.0000,   -999.00,   -999.0, 9,   -999.0,  -999.00, 9,   -999.0,   0.8850, 27.8143,   1.2727, 2, 9, 0.39, 0.13, 0.01, 0.016,  -999.00, 9, -999.00, -999.00, 9, -999.00
49NZ20071122, P14N, 153, 1, 5, X12014, 2, 20071205, 0619, -2.4962, 178.9992, 4859,   4919.5, 2,   1.2386, 2,  34.7058, 2,  34.7061, 2,    194.4, 2,    194.4, 2,   120.92, 2,    32.96, 2,     0.00, 2,     2.31, 2,    0.019, 2,    0.010, 2,    0.000, 2, -999.000, 9,   -999.0, 9,   -999.0, 9, -999.0000,   -999.00,   -999.0, 9,   -999.0,  -999.00, 9,   -999.0,   0.8227, 27.8205,   1.2385, 2, 9, 0.39, 0.13, 0.01, 0.016,  -999.00, 9, -999.00, -999.00, 9, -999.00
49NZ20071122, P14N, 153, 1, 4, X12006, 9, 20071205, 0619, -2.4962, 178.9992, 4859,     10.3, 2,  27.6481, 2,  35.5255, 2, -999.0000, 9,    201.9, 2,   -999.0, 9,  -999.00, 9,  -999.00, 9,  -999.00, 9,  -999.00, 9, -999.000, 9, -999.000, 9, -999.000, 9, -999.000, 9,   -999.0, 9,   -999.0, 9, -999.0000,   -999.00,   -999.0, 9,   -999.0,  -999.00, 9,   -999.0,  27.6457, 22.9055,  27.6481, 2, 9, -999.00, -999.00, -999.00, -999.000,  -999.00, 9, -999.00, -999.00, 9, -999.00
49NZ20071122, P14N, 153, 1, 3, X12013, 9, 20071205, 0619, -2.4962, 178.9992, 4859,     50.3, 2,  27.5033, 2,  35.5013, 2, -999.0000, 9,    199.8, 2,   -999.0, 9,  -999.00, 9,  -999.00, 9,  -999.00, 9,  -999.00, 9, -999.000, 9, -999.000, 9, -999.000, 9, -999.000, 9,   -999.0, 9,   -999.0, 9, -999.0000,   -999.00,   -999.0, 9,   -999.0,  -999.00, 9,   -999.0,  27.4916, 22.9372,  27.5021, 2, 9, -999.00, -999.00, -999.00, -999.000,  -999.00, 9, -999.00, -999.00, 9, -999.00
49NZ20071122, P14N, 153, 1, 2, X12002, 9, 20071205, 0619, -2.4962, 178.9992, 4859,    100.2, 2,  27.1838, 2,  35.4844, 2, -999.0000, 9,    192.6, 2,   -999.0, 9,  -999.00, 9,  -999.00, 9,  -999.00, 9,  -999.00, 9, -999.000, 9, -999.000, 9, -999.000, 9, -999.000, 9,   -999.0, 9,   -999.0, 9, -999.0000,   -999.00,   -999.0, 9,   -999.0,  -999.00, 9,   -999.0,  27.1607, 23.0312,  27.1872, 2, 9, -999.00, -999.00, -999.00, -999.000,  -999.00, 9, -999.00, -999.00, 9, -999.00
49NZ20071122, P14N, 153, 1, 1, X12001, 2, 20071205, 0619, -2.4962, 178.9992, 4859,   5082.2, 2,   1.2482, 2,  34.7061, 2,  34.7060, 6,    195.1, 2,    195.4, 2,   120.53, 2,    32.92, 2,     0.00, 2,     2.30, 2,    0.043, 2,    0.027, 2,    0.005, 2, -999.000, 9,   -999.0, 9,   -999.0, 9, -999.0000,   -999.00,   -999.0, 9,   -999.0,  -999.00, 9,   -999.0,   0.8124, 27.8214,   1.2482, 2, 9, 0.38, 0.12, 0.01, 0.016,  -999.00, 9, -999.00, -999.00, 9, -999.00