BOTTLE,20220820CCHSIOAMB
EXPOCODE,SECT_ID,STNNBR,CASTNO,SAMPNO,BTLNBR,BTLNBR_FLAG_W,DATE,TIME,LATITUDE,LONGITUDE,DEPTH,CTDPRS,CTDPRS_FLAG_W,CTDTMP,CTDTMP_FLAG_W,CTDSAL,CTDSAL_FLAG_W,SALNTY,SALNTY_FLAG_W,CTDOXY,CTDOXY_FLAG_W,OXYGEN,OXYGEN_FLAG_W,SILCAT,SILCAT_FLAG_W,NITRAT,NITRAT_FLAG_W,NITRIT,NITRIT_FLAG_W,PHSPHT,PHSPHT_FLAG_W,CFC-11,CFC-11_FLAG_W,CFC-12,CFC-12_FLAG_W,CFC113,CFC113_FLAG_W,CCL4,CCL4_FLAG_W,TCARBN,TCARBN_FLAG_W,ALKALI,ALKALI_FLAG_W,PH_TOT,PH_TMP,DELC14,DELC14_FLAG_W,C14ERR,DELC13,DELC13_FLAG_W,C13ERR,THETA,SIG0,SBE35,SBE35_FLAG_W,PH_TOT_FLAG_W,SILUNC,NRAUNC,NRIUNC,PHPUNC,CS-137,CS-137_FLAG_W,CS137ER,PLUTO,PLUTO_FLAG_W,PLUTOER
,,,,,,,,,,,METERS,DBAR,,ITS-90,,PSS-78,,PSS-78,,UMOL/KG,,UMOL/KG,,UMOL/KG,,UMOL/KG,,UMOL/KG,,UMOL/KG,,PMOL/KG,,PMOL/KG,,PMOL/KG,,PMOL/KG,,UMOL/KG,,UMOL/KG,,,DEG C,/MILLE,,/MILLE,/MILLE,,/MILLE,DEG C,KG/M^3,ITS-90,,,UMOL/KG,UMOL/KG,UMOL/KG,UMOL/KG,DM/.1MG,,BQ/M^3,MBQ/M^3,,MBQ/M^3
49NZ20071122, P14N, 117, 1, 36, X12042, 2, 20071125, 1812, 6.4938, 178.9962, 5760,     12.1, 2,  28.1581, 2,  34.8544, 2,  34.8553, 2,    198.0, 2,    197.2, 2,     1.26, 2,     0.27, 2,     0.05, 2,     0.23, 2,    1.494, 2,    0.950, 2,    0.165, 4, -999.000, 9,   1961.0, 2,   2291.5, 2,    8.1037,     25.00,   -999.0, 9,   -999.0,  -999.00, 9,   -999.0,  28.1552, 22.2344,  28.1570, 2, 6, 0.12, 0.03, 0.01, 0.015,  -999.00, 9, -999.00, -999.00, 9, -999.00
49NZ20071122, P14N, 117, 1, 35, X12041, 2, 20071125, 1812, 6.4938, 178.9962, 5760,     50.8, 2,  28.1741, 2,  34.8565, 2,  34.8565, 2,    197.8, 2,    197.0, 2,     1.23, 2,     0.25, 2,     0.05, 2,     0.22, 2,    1.492, 2,    0.942, 2,    0.159, 4, -999.000, 9,   1961.4, 6,   2292.1, 2,    8.1034,     25.00,   -999.0, 9,   -999.0,  -999.00, 9,   -999.0,  28.1621, 22.2337,  28.1726, 2, 2, 0.12, 0.03, 0.01, 0.015,  -999.00, 9, -999.00, -999.00, 9, -999.00
49NZ20071122, P14N, 117, 1, 34, X12016, 2, 20071125, 1812, 6.4938, 178.9962, 5760,    100.9, 2,  28.1638, 2,  35.0248, 2,  35.0192, 2,    192.0, 2,    191.6, 2,     1.40, 2,     0.82, 2,     0.27, 2,     0.31, 2,    1.517, 2,    0.962, 2,    0.184, 4, -999.000, 9,   1980.3, 2,   2303.2, 6,    8.0850,     25.00,   -999.0, 9,   -999.0,  -999.00, 9,   -999.0,  28.1399, 22.3675,  28.1608, 2, 2, 0.12, 0.04, 0.01, 0.014,  -999.00, 9, -999.00, -999.00, 9, -999.00
49NZ20071122, P14N, 117, 1, 33, X12033, 3, 20071125, 1812, 6.4938, 178.9962, 5760,    150.1, 2,  25.5376, 2,  34.9414, 2,  34.9521, 2,    149.7, 2,    157.2, 2,     3.19, 2,     5.27, 2,     0.05, 2,     0.53, 2,    1.674, 6,    1.023, 6,    0.135, 3, -999.000, 9,   2024.3, 2,   2296.1, 2,    8.0005,     25.00,   -999.0, 9,   -999.0,  -999.00, 9,   -999.0,  25.5045, 23.1426,  25.5374, 2, 6, 0.13, 0.05, 0.01, 0.013,  -999.00, 9, -999.00, -999.00, 9, -999.00
49NZ20071122, P14N, 117, 1, 32, X12038, 2, 20071125, 1812, 6.4938, 178.9962, 5760,    200.1, 2,  15.9341, 2,  34.5518, 2,  34.5528, 2,    138.2, 2,    140.2, 2,     9.57, 2,    12.21, 2,     0.05, 2,     1.01, 2,    2.322, 2,    1.297, 2,    0.065, 2, -999.000, 9,   2108.1, 2,   2279.3, 2,    7.8043,     25.00,   -999.0, 9,   -999.0,  -999.00, 9,   -999.0,  15.9026, 25.4250,  15.9004, 2, 2, 0.14, 0.07, 0.01, 0.013,  -999.00, 9, -999.00, -999.00, 9, -999.00
49NZ20071122, P14N, 117, 1, 31, X12003, 2, 20071125, 1812, 6.4938, 178.9962, 5760,    251.0, 2,  11.1127, 2,  34.6254, 2,  34.6217, 6,     37.7, 2,     32.5, 2,    28.47, 2,    31.61, 2,     0.00, 2,     2.34, 2,    0.754, 2,    0.399, 2,    0.014, 2, -999.000, 9,   2236.5, 2,   2290.6, 2,    7.5113,     25.00,   -999.0, 9,   -999.0,  -999.00, 9,   -999.0,  11.0816, 26.4690,  11.1260, 2, 2, 0.18, 0.12, 0.01, 0.016,  -999.00, 9, -999.00, -999.00, 9, -999.00
49NZ20071122, P14N, 117, 1, 30, X12008, 2, 20071125, 1812, 6.4938, 178.9962, 5760,    279.5, 2,  10.4372, 2,  34.6522, 2,  34.6531, 2,     34.8, 2,     36.9, 2,    30.91, 2,    32.78, 2,     0.00, 2,     2.37, 2,    0.512, 2,    0.272, 2,    0.011, 2, -999.000, 9,   2240.9, 2,   2300.7, 2,    7.5109,     25.00,   -999.0, 9,   -999.0,  -999.00, 9,   -999.0,  10.4039, 26.6106,  10.4385, 2, 2, 0.19, 0.12, 0.01, 0.016,  -999.00, 9, -999.00, -999.00, 9, -999.00
49NZ20071122, P14N, 117, 1, 29, X12035, 2, 20071125, 1812, 6.4938, 178.9962, 5760,    372.1, 2,   9.2257, 2,  34.6316, 2,  34.6306, 2,     73.2, 2,     73.1, 2,    33.38, 2,    31.97, 2,     0.00, 2,     2.29, 2,    0.490, 2,    0.261, 2,    0.009, 2, -999.000, 9,   2230.0, 2,   2305.9, 2,    7.5562,     25.00,   -999.0, 9,   -999.0,  -999.00, 9,   -999.0,   9.1844, 26.8000,   9.2268, 2, 2, 0.19, 0.12, 0.01, 0.016,  -999.00, 9, -999.00, -999.00, 9, -999.00
49NZ20071122, P14N, 117, 1, 28, X12034, 2, 20071125, 1812, 6.4938, 178.9962, 5760,    469.8, 2,   8.5957, 2,  34.6224, 2,  34.6213, 6,     48.7, 2,     45.9, 2,    38.07, 2,    35.73, 2,     0.00, 2,     2.56, 2,    0.187, 2,    0.101, 2,    0.006, 2, -999.000, 9,   2255.1, 2,   2308.7, 2,    7.4919,     25.00,   -999.0, 9,   -999.0,  -999.00, 9,   -999.0,   8.5455, 26.8941,   8.5960, 2, 2, 0.20, 0.13, 0.01, 0.016,  -999.00, 9, -999.00, -999.00, 9, -999.00
49NZ20071122, P14N, 117, 1, 27, X12049, 2, 20071125, 1812, 6.4938, 178.9962, 5760,    571.1, 2,   7.7171, 2,  34.5839, 2,  34.5828, 2,     35.9, 2,     27.9, 2,    47.94, 2,    38.67, 2,     0.00, 2,     2.83, 2,    0.057, 2,    0.032, 2,    0.000, 2, -999.000, 9,   2279.8, 2,   2317.1, 2,    7.4418,     25.00,   -999.0, 9,   -999.0,  -999.00, 9,   -999.0,   7.6595, 26.9973,   7.7175, 2, 2, 0.22, 0.14, 0.01, 0.017,  -999.00, 9, -999.00, -999.00, 9, -999.00
49NZ20071122, P14N, 117, 1, 26, X12032, 2, 20071125, 1812, 6.4938, 178.9962, 5760,    670.1, 2,   6.7446, 2,  34.5541, 2,  34.5538, 2,     27.7, 2,     28.6, 2,    58.47, 2,    40.62, 2,     0.00, 2,     2.97, 2,    0.014, 6,    0.007, 6,    0.000, 6, -999.000, 9,   2295.0, 6,   2326.4, 2,    7.4259,     25.00,   -999.0, 9,   -999.0,  -999.00, 9,   -999.0,   6.6814, 27.1111,   6.7460, 2, 2, 0.25, 0.15, 0.01, 0.017,  -999.00, 9, -999.00, -999.00, 9, -999.00
49NZ20071122, P14N, 117, 1, 25, X12043, 2, 20071125, 1812, 6.4938, 178.9962, 5760,    768.7, 2,   5.9450, 2,  34.5475, 2,  34.5469, 2,     37.1, 2,     39.6, 2,    66.98, 2,    41.65, 2,     0.00, 2,     3.01, 2,    0.005, 2,    0.006, 2,    0.000, 2, -999.000, 9,   2301.3, 2,   2335.8, 6,    7.4344,     25.00,   -999.0, 9,   -999.0,  -999.00, 9,   -999.0,   5.8767, 27.2107,   5.9468, 2, 2, 0.27, 0.15, 0.01, 0.017,  -999.00, 9, -999.00, -999.00, 9, -999.00
49NZ20071122, P14N, 117, 1, 24, X12030, 2, 20071125, 1812, 6.4938, 178.9962, 5760,    871.1, 2,   5.3349, 2,  34.5469, 2,  34.5469, 2,     50.8, 2,     50.8, 2,    74.86, 2,    41.47, 2,     0.00, 2,     2.97, 2,    0.005, 2,    0.002, 2,    0.000, 2, -999.000, 9,   2305.9, 2,   2344.5, 2,    7.4483,     25.00,   -999.0, 9,   -999.0,  -999.00, 9,   -999.0,   5.2609, 27.2855,   5.3309, 2, 6, 0.28, 0.15, 0.01, 0.017,  -999.00, 9, -999.00, -999.00, 9, -999.00
49NZ20071122, P14N, 117, 1, 23, X12027, 2, 20071125, 1812, 6.4938, 178.9962, 5760,    969.7, 2,   4.9045, 2,  34.5516, 2,  34.5517, 6,     59.1, 2,     59.0, 2,    82.35, 2,    41.31, 2,     0.00, 2,     2.97, 2,    0.003, 2,    0.002, 2,    0.000, 2, -999.000, 9,   2309.8, 2,   2353.1, 2,    7.4590,     25.00,   -999.0, 9,   -999.0,  -999.00, 9,   -999.0,   4.8246, 27.3399,   4.9050, 2, 2, 0.30, 0.15, 0.01, 0.017,  -999.00, 9, -999.00, -999.00, 9, -999.00
49NZ20071122, P14N, 117, 1, 22, X12028, 2, 20071125, 1812, 6.4938, 178.9962, 5760,   1131.3, 2,   4.2472, 2,  34.5650, 2,  34.5652, 2,     60.5, 2,     59.9, 2,    96.29, 2,    41.79, 2,     0.00, 2,     3.02, 2,    0.000, 2,    0.002, 2,    0.000, 2, -999.000, 9,   2325.8, 2,   2368.0, 2,    7.4571,     25.00,   -999.0, 9,   -999.0,  -999.00, 9,   -999.0,   4.1582, 27.4235,   4.2475, 2, 2, 0.33, 0.15, 0.01, 0.018,  -999.00, 9, -999.00, -999.00, 9, -999.00
49NZ20071122, P14N, 117, 1, 21, X12009, 2, 20071125, 1812, 6.4938, 178.9962, 5760,   1330.7, 2,   3.4524, 2,  34.5867, 2,  34.5875, 2,     72.6, 2,     73.7, 2,   113.30, 2,    41.07, 2,     0.00, 2,     2.97, 2,    0.000, 2,    0.000, 2,    0.000, 2, -999.000, 9,   2336.9, 2,   2386.7, 2,    7.4756,     25.00,   -999.0, 9,   -999.0,  -999.00, 9,   -999.0,   3.3538, 27.5220,   3.4519, 2, 2, 0.37, 0.15, 0.01, 0.017,  -999.00, 9, -999.00, -999.00, 9, -999.00
49NZ20071122, P14N, 117, 1, 20, X12026, 2, 20071125, 1812, 6.4938, 178.9962, 5760,   1529.2, 2,   2.9700, 2,  34.6036, 2,  34.6038, 2,     85.6, 2,     85.2, 2,   122.88, 2,    40.40, 2,     0.00, 2,     2.89, 2, -999.000, 9, -999.000, 9, -999.000, 9, -999.000, 9,   2339.9, 2,   2397.2, 2,    7.4950,     25.00,   -999.0, 9,   -999.0,  -999.00, 9,   -999.0,   2.8600, 27.5813,   2.9707, 2, 6, 0.39, 0.15, 0.01, 0.017,  -999.00, 9, -999.00, -999.00, 9, -999.00
49NZ20071122, P14N, 117, 1, 19, X12025, 2, 20071125, 1812, 6.4938, 178.9962, 5760,   1731.5, 2,   2.6076, 2,  34.6187, 2,  34.6191, 6,     94.2, 2,     93.6, 2,   130.52, 2,    39.87, 2,     0.00, 2,     2.85, 2,    0.000, 2,    0.000, 2,    0.000, 2, -999.000, 9,   2345.8, 2,   2405.3, 2,    7.5081,     25.00,   -999.0, 9,   -999.0,  -999.00, 9,   -999.0,   2.4851, 27.6263,   2.6076, 2, 2, 0.41, 0.14, 0.01, 0.017,  -999.00, 9, -999.00, -999.00, 9, -999.00
49NZ20071122, P14N, 117, 1, 18, X12024, 2, 20071125, 1812, 6.4938, 178.9962, 5760,   1930.8, 2,   2.3053, 2,  34.6341, 2,  34.6346, 2,    102.8, 2,    102.5, 2,   136.34, 2,    39.37, 2,     0.00, 2,     2.80, 2, -999.000, 9, -999.000, 9, -999.000, 9, -999.000, 9,   2345.3, 2,   2412.5, 2,    7.5222,     25.00,   -999.0, 9,   -999.0,  -999.00, 9,   -999.0,   2.1701, 27.6649,   2.3059, 2, 2, 0.42, 0.14, 0.01, 0.017,  -999.00, 9, -999.00, -999.00, 9, -999.00
49NZ20071122, P14N, 117, 1, 17, X12023, 2, 20071125, 1812, 6.4938, 178.9962, 5760,   2104.1, 2,   2.0967, 2,  34.6466, 2,  34.6477, 3,    107.5, 2,    107.1, 2,   141.86, 2,    39.09, 2,    -0.01, 2,     2.77, 2,    0.000, 2,    0.000, 2,    0.000, 2, -999.000, 9,   2349.9, 2,   2418.4, 2,    7.5319,     25.00,   -999.0, 9,   -999.0,  -999.00, 9,   -999.0,   1.9499, 27.6925,   2.0960, 2, 2, 0.43, 0.14, 0.01, 0.017,  -999.00, 9, -999.00, -999.00, 9, -999.00
49NZ20071122, P14N, 117, 1, 16, X12022, 2, 20071125, 1812, 6.4938, 178.9962, 5760,   2331.3, 2,   1.9586, 2,  34.6558, 2,  34.6559, 2,    112.8, 2,    112.4, 2,   144.77, 2,    38.81, 2,     0.00, 2,     2.74, 2, -999.000, 9, -999.000, 9, -999.000, 9, -999.000, 9,   2348.3, 6,   2423.0, 2,    7.5414,     25.00,   -999.0, 9,   -999.0,  -999.00, 9,   -999.0,   1.7942, 27.7119,   1.9585, 2, 2, 0.44, 0.14, 0.01, 0.017,  -999.00, 9, -999.00, -999.00, 9, -999.00
49NZ20071122, P14N, 117, 1, 15, X12021, 2, 20071125, 1812, 6.4938, 178.9962, 5760,   2528.8, 2,   1.8657, 2,  34.6610, 2,  34.6607, 2,    117.9, 2,    118.3, 2,   145.40, 2,    38.40, 2,     0.00, 2,     2.71, 2, -999.000, 9, -999.000, 9, -999.000, 9, -999.000, 9,   2346.5, 2,   2423.5, 6,    7.5495,     25.00,   -999.0, 9,   -999.0,  -999.00, 9,   -999.0,   1.6853, 27.7244,   1.8658, 2, 2, 0.44, 0.14, 0.01, 0.017,  -999.00, 9, -999.00, -999.00, 9, -999.00
49NZ20071122, P14N, 117, 1, 14, X12020, 2, 20071125, 1812, 6.4938, 178.9962, 5760,   2731.7, 2,   1.7839, 2,  34.6658, 2,  34.6658, 2,    122.4, 2,    122.8, 2,   146.25, 2,    38.15, 2,    -0.01, 2,     2.69, 2,    0.000, 2,    0.000, 2,    0.000, 2, -999.000, 9,   2345.1, 2,   2424.4, 2,    7.5561,     25.00,   -999.0, 9,   -999.0,  -999.00, 9,   -999.0,   1.5864, 27.7356,   1.7838, 2, 2, 0.44, 0.14, 0.01, 0.017,  -999.00, 9, -999.00, -999.00, 9, -999.00
49NZ20071122, P14N, 117, 1, 13, X12019, 2, 20071125, 1812, 6.4938, 178.9962, 5760,   2928.5, 2,   1.7210, 2,  34.6699, 2,  34.6699, 2,    127.5, 2,    127.3, 2,   146.51, 2,    37.76, 2,     0.00, 2,     2.66, 2, -999.000, 9, -999.000, 9, -999.000, 9, -999.000, 9,   2343.2, 2,   2423.6, 2,    7.5634,     25.00,   -999.0, 9,   -999.0,  -999.00, 9,   -999.0,   1.5062, 27.7448,   1.7210, 2, 2, 0.44, 0.14, 0.01, 0.017,  -999.00, 9, -999.00, -999.00, 9, -999.00
49NZ20071122, P14N, 117, 1, 12, X12040, 2, 20071125, 1812, 6.4938, 178.9962, 5760,   3170.7, 2,   1.6127, 2,  34.6755, 2,  34.6748, 3,    137.5, 2,    137.4, 2,   144.54, 2,    37.11, 2,     0.00, 2,     2.60, 2, -999.000, 9, -999.000, 9, -999.000, 9, -999.000, 9,   2333.3, 2,   2422.7, 2,    7.5771,     25.00,   -999.0, 9,   -999.0,  -999.00, 9,   -999.0,   1.3769, 27.7587,   1.6126, 2, 2, 0.44, 0.14, 0.01, 0.016,  -999.00, 9, -999.00, -999.00, 9, -999.00
49NZ20071122, P14N, 117, 1, 11, X12047, 2, 20071125, 1812, 6.4938, 178.9962, 5760,   3421.4, 2,   1.5562, 2,  34.6800, 2,  34.6798, 2,    143.3, 2,    143.2, 2,   143.72, 2,    36.78, 2,     0.00, 2,     2.57, 2,    0.000, 2,    0.000, 2,    0.000, 2, -999.000, 9,   2331.3, 2,   2421.7, 2,    7.5850,     25.00,   -999.0, 9,   -999.0,  -999.00, 9,   -999.0,   1.2967, 27.7679,   1.5563, 2, 2, 0.44, 0.14, 0.01, 0.016,  -999.00, 9, -999.00, -999.00, 9, -999.00
49NZ20071122, P14N, 117, 1, 10, X12012, 2, 20071125, 1812, 6.4938, 178.9962, 5760,   3670.1, 2,   1.4933, 2,  34.6847, 2,  34.6847, 2,    150.3, 2,    151.1, 2,   141.45, 2,    36.15, 2,     0.00, 2,     2.53, 2, -999.000, 9, -999.000, 9, -999.000, 9, -999.000, 9,   2323.3, 2,   2418.7, 2,    7.5943,     25.00,   -999.0, 9,   -999.0,  -999.00, 9,   -999.0,   1.2098, 27.7778,   1.4934, 2, 2, 0.43, 0.13, 0.01, 0.016,  -999.00, 9, -999.00, -999.00, 9, -999.00
49NZ20071122, P14N, 117, 1, 9, X12015, 2, 20071125, 1812, 6.4938, 178.9962, 5760,   3919.5, 2,   1.4264, 2,  34.6900, 2,  34.6900, 2,    158.2, 2,    159.3, 2,   139.23, 2,    35.64, 2,     0.00, 2,     2.49, 2, -999.000, 9, -999.000, 9, -999.000, 9, -999.000, 9,   2316.5, 2,   2414.4, 2,    7.6038,     25.00,   -999.0, 9,   -999.0,  -999.00, 9,   -999.0,   1.1182, 27.7883,   1.4265, 2, 2, 0.43, 0.13, 0.01, 0.016,  -999.00, 9, -999.00, -999.00, 9, -999.00
49NZ20071122, P14N, 117, 1, 8, X12046, 2, 20071125, 1812, 6.4938, 178.9962, 5760,   4167.9, 2,   1.3640, 2,  34.6947, 2,  34.6947, 2,    168.1, 2,    168.6, 2,   134.83, 2,    34.83, 2,     0.00, 2,     2.43, 2,    0.000, 2,    0.000, 2,    0.000, 2, -999.000, 9,   2307.2, 6,   2408.1, 2,    7.6113,     25.00,   -999.0, 9,   -999.0,  -999.00, 9,   -999.0,   1.0305, 27.7980,   1.3639, 2, 2, 0.42, 0.13, 0.01, 0.016,  -999.00, 9, -999.00, -999.00, 9, -999.00
49NZ20071122, P14N, 117, 1, 7, X12044, 2, 20071125, 1812, 6.4938, 178.9962, 5760,   4420.1, 2,   1.3099, 2,  34.6991, 2,  34.6993, 2,    176.9, 2,    177.5, 2,   130.44, 2,    34.25, 2,     0.01, 2,     2.40, 2, -999.000, 9, -999.000, 9, -999.000, 9, -999.000, 9,   2297.4, 2,   2401.9, 6,    7.6198,     25.00,   -999.0, 9,   -999.0,  -999.00, 9,   -999.0,   0.9498, 27.8068,   1.3101, 2, 2, 0.41, 0.13, 0.01, 0.016,  -999.00, 9, -999.00, -999.00, 9, -999.00
49NZ20071122, P14N, 117, 1, 6, X12048, 2, 20071125, 1812, 6.4938, 178.9962, 5760,   4669.4, 2,   1.2842, 2,  34.7022, 2,  34.7020, 2,    183.8, 2,    184.3, 2,   126.69, 2,    33.76, 2,     0.00, 2,     2.35, 2,    0.000, 2,    0.000, 2,    0.000, 2, -999.000, 9,   2288.3, 2,   2394.6, 2,    7.6253,     25.00,   -999.0, 9,   -999.0,  -999.00, 9,   -999.0,   0.8963, 27.8129,   1.2842, 2, 6, 0.40, 0.13, 0.01, 0.016,  -999.00, 9, -999.00, -999.00, 9, -999.00
49NZ20071122, P14N, 117, 1, 5, X12014, 2, 20071125, 1812, 6.4938, 178.9962, 5760,   4920.4, 2,   1.2859, 2,  34.7037, 2,  34.7038, 2,    187.4, 2,    187.6, 2,   125.00, 2,    33.51, 2,     0.00, 2,     2.33, 2,    0.000, 2,    0.000, 2,    0.000, 2, -999.000, 9,   2284.9, 2,   2391.8, 2,    7.6274,     25.00,   -999.0, 9,   -999.0,  -999.00, 9,   -999.0,   0.8684, 27.8159,   1.2859, 2, 2, 0.39, 0.13, 0.01, 0.016,  -999.00, 9, -999.00, -999.00, 9, -999.00
49NZ20071122, P14N, 117, 1, 4, X12006, 2, 20071125, 1812, 6.4938, 178.9962, 5760,   5169.6, 2,   1.2977, 2,  34.7046, 2,  34.7045, 6,    189.8, 2,    190.0, 2,   123.94, 2,    33.35, 2,     0.00, 2,     2.32, 2,    0.000, 2,    0.000, 2,    0.000, 2, -999.000, 9,   2280.3, 2,   2389.4, 2,    7.6277,     25.00,   -999.0, 9,   -999.0,  -999.00, 9,   -999.0,   0.8496, 27.8178,   1.2977, 2, 2, 0.39, 0.13, 0.01, 0.016,  -999.00, 9, -999.00, -999.00, 9, -999.00
49NZ20071122, P14N, 117, 1, 3, X12013, 2, 20071125, 1812, 6.4938, 178.9962, 5760,   5419.5, 2,   1.3224, 2,  34.7049, 2,  34.7049, 2,    191.0, 2,    190.9, 2,   123.26, 2,    33.33, 2,     0.00, 2,     2.32, 2,    0.001, 2,    0.000, 2,    0.000, 2, -999.000, 9,   2281.5, 2,   2387.5, 2,    7.6280,     25.00,   -999.0, 9,   -999.0,  -999.00, 9,   -999.0,   0.8424, 27.8185,   1.3224, 2, 2, 0.39, 0.13, 0.01, 0.016,  -999.00, 9, -999.00, -999.00, 9, -999.00
49NZ20071122, P14N, 117, 1, 2, X12002, 2, 20071125, 1812, 6.4938, 178.9962, 5760,   5668.8, 2,   1.3519, 2,  34.7051, 2,  34.7052, 2,    191.4, 2,    191.4, 2,   122.98, 2,    33.27, 2,    -0.01, 2,     2.32, 2, -999.000, 9, -999.000, 9, -999.000, 9, -999.000, 9,   2279.6, 2,   2386.5, 2,    7.6274,     25.00,   -999.0, 9,   -999.0,  -999.00, 9,   -999.0,   0.8390, 27.8189,   1.3519, 2, 2, 0.39, 0.13, 0.01, 0.016,  -999.00, 9, -999.00, -999.00, 9, -999.00
49NZ20071122, P14N, 117, 1, 1, X12001, 2, 20071125, 1812, 6.4938, 178.9962, 5760,   5859.7, 2,   1.3777, 2,  34.7050, 2,  34.7051, 6,    191.5, 2,    191.4, 2,   123.01, 2,    33.25, 2,     0.00, 2,     2.32, 2,    0.001, 2,    0.002, 2,    0.000, 2, -999.000, 9,   2279.4, 2,   2387.6, 2,    7.6279,     25.00,   -999.0, 9,   -999.0,  -999.00, 9,   -999.0,   0.8390, 27.8188,   1.3778, 2, 2, 0.39, 0.13, 0.01, 0.016,  -999.00, 9, -999.00, -999.00, 9, -999.00