BOTTLE,20220820CCHSIOAMB
EXPOCODE,SECT_ID,STNNBR,CASTNO,SAMPNO,BTLNBR,BTLNBR_FLAG_W,DATE,TIME,LATITUDE,LONGITUDE,DEPTH,CTDPRS,CTDPRS_FLAG_W,CTDTMP,CTDTMP_FLAG_W,CTDSAL,CTDSAL_FLAG_W,SALNTY,SALNTY_FLAG_W,CTDOXY,CTDOXY_FLAG_W,OXYGEN,OXYGEN_FLAG_W,SILCAT,SILCAT_FLAG_W,NITRAT,NITRAT_FLAG_W,NITRIT,NITRIT_FLAG_W,PHSPHT,PHSPHT_FLAG_W,CFC-11,CFC-11_FLAG_W,CFC-12,CFC-12_FLAG_W,CFC113,CFC113_FLAG_W,CCL4,CCL4_FLAG_W,TCARBN,TCARBN_FLAG_W,ALKALI,ALKALI_FLAG_W,PH_TOT,PH_TMP,DELC14,DELC14_FLAG_W,C14ERR,DELC13,DELC13_FLAG_W,C13ERR,THETA,SIG0,SBE35,SBE35_FLAG_W,PH_TOT_FLAG_W,SILUNC,NRAUNC,NRIUNC,PHPUNC,CS-137,CS-137_FLAG_W,CS137ER,PLUTO,PLUTO_FLAG_W,PLUTOER
,,,,,,,,,,,METERS,DBAR,,ITS-90,,PSS-78,,PSS-78,,UMOL/KG,,UMOL/KG,,UMOL/KG,,UMOL/KG,,UMOL/KG,,UMOL/KG,,PMOL/KG,,PMOL/KG,,PMOL/KG,,PMOL/KG,,UMOL/KG,,UMOL/KG,,,DEG C,/MILLE,,/MILLE,/MILLE,,/MILLE,DEG C,KG/M^3,ITS-90,,,UMOL/KG,UMOL/KG,UMOL/KG,UMOL/KG,DM/.1MG,,BQ/M^3,MBQ/M^3,,MBQ/M^3
49NZ20071122, P14, 11, 1, 36, X12042, 2, 20071221, 1145, -32.6027, 175.5537, 3859,      9.8, 2,  20.3434, 2,  35.6647, 2,  35.6612, 2,    228.8, 2,    228.4, 2,     0.68, 2,     0.06, 2,     0.01, 2,     0.11, 2,    2.156, 2,    1.291, 2,    0.398, 4, -999.000, 9,   2040.8, 2,   2335.6, 2,    8.0292,     25.00,   -999.0, 9,   -999.0,  -999.00, 9,   -999.0,  20.3416, 25.1780,  20.3488, 2, 6, 0.12, 0.03, 0.01, 0.021,  -999.00, 9, -999.00, -999.00, 9, -999.00
49NZ20071122, P14, 11, 1, 35, X12041, 2, 20071221, 1145, -32.6027, 175.5537, 3859,     49.9, 2,  19.0509, 2,  35.7452, 2,  35.7453, 2,    235.0, 2,    234.0, 2,     0.73, 2,     0.07, 2,     0.01, 2,     0.12, 2,    2.232, 2,    1.330, 2,    0.492, 4, -999.000, 9,   2045.3, 6,   2341.9, 2,    8.0285,     25.00,   -999.0, 9,   -999.0,  -999.00, 9,   -999.0,  19.0420, 25.5801,  19.0335, 2, 2, 0.12, 0.03, 0.01, 0.020,  -999.00, 9, -999.00, -999.00, 9, -999.00
49NZ20071122, P14, 11, 1, 34, X12016, 2, 20071221, 1145, -32.6027, 175.5537, 3859,    100.2, 2,  17.7412, 2,  35.6729, 2,  35.6665, 2,    221.2, 2,    217.9, 2,     1.02, 2,     2.64, 2,     0.08, 2,     0.30, 2,    2.312, 2,    1.362, 2,    0.213, 4, -999.000, 9,   2064.6, 2,   2336.8, 6,    7.9879,     25.00,   -999.0, 9,   -999.0,  -999.00, 9,   -999.0,  17.7241, 25.8556,  17.7412, 2, 2, 0.12, 0.04, 0.01, 0.014,  -999.00, 9, -999.00, -999.00, 9, -999.00
49NZ20071122, P14, 11, 1, 33, X12033, 2, 20071221, 1145, -32.6027, 175.5537, 3859,    148.7, 2,  17.1688, 2,  35.6388, 2,  35.6347, 2,    208.4, 2,    214.3, 2,     1.23, 2,     3.79, 2,     0.02, 2,     0.37, 2,    2.362, 6,    1.382, 6,    0.166, 4, -999.000, 9,   2070.9, 2,   2334.6, 2,    7.9712,     25.00,   -999.0, 9,   -999.0,  -999.00, 9,   -999.0,  17.1440, 25.9703,  17.1706, 2, 6, 0.12, 0.04, 0.01, 0.014,  -999.00, 9, -999.00, -999.00, 9, -999.00
49NZ20071122, P14, 11, 1, 32, X12038, 2, 20071221, 1145, -32.6027, 175.5537, 3859,    200.7, 2,  16.2689, 2,  35.5267, 2,  35.5233, 2,    202.9, 2,    204.1, 2,     1.82, 2,     6.08, 2,     0.02, 2,     0.51, 2,    2.387, 2,    1.365, 2,    0.125, 4, -999.000, 9,   2084.9, 2,   2329.3, 2,    7.9366,     25.00,   -999.0, 9,   -999.0,  -999.00, 9,   -999.0,  16.2366, 26.0982,  16.2720, 2, 2, 0.12, 0.05, 0.01, 0.013,  -999.00, 9, -999.00, -999.00, 9, -999.00
49NZ20071122, P14, 11, 1, 31, X12003, 2, 20071221, 1145, -32.6027, 175.5537, 3859,    251.4, 2,  15.4907, 2,  35.4495, 2,  35.4406, 6,    202.8, 2,    202.7, 2,     2.30, 2,     7.37, 2,     0.01, 2,     0.60, 2,    2.441, 2,    1.392, 2,    0.113, 4, -999.000, 9,   2095.7, 2,   2325.2, 2,    7.9130,     25.00,   -999.0, 9,   -999.0,  -999.00, 9,   -999.0,  15.4516, 26.2181,  15.4896, 2, 2, 0.12, 0.05, 0.01, 0.013,  -999.00, 9, -999.00, -999.00, 9, -999.00
49NZ20071122, P14, 11, 1, 30, X12008, 2, 20071221, 1145, -32.6027, 175.5537, 3859,    328.9, 2,  14.0434, 2,  35.2825, 2,  35.2693, 2,    196.2, 2,    196.7, 2,     3.48, 2,    10.41, 2,     0.01, 2,     0.79, 2,    2.480, 2,    1.375, 2,    0.079, 2, -999.000, 9,   2111.3, 2,   2316.4, 2,    7.8675,     25.00,   -999.0, 9,   -999.0,  -999.00, 9,   -999.0,  13.9954, 26.4065,  14.0394, 2, 2, 0.13, 0.06, 0.01, 0.013,  -999.00, 9, -999.00, -999.00, 9, -999.00
49NZ20071122, P14, 11, 1, 29, X12035, 3, 20071221, 1145, -32.6027, 175.5537, 3859,    431.9, 2,  11.9922, 2,  35.0351, 2,  35.0356, 2,    197.1, 2,    197.3, 2,     5.37, 2,    14.08, 2,     0.01, 2,     1.03, 2,    2.454, 2,    1.332, 2,    0.087, 2, -999.000, 9,   2124.8, 2,   2307.3, 2,    7.8181,     25.00,   -999.0, 9,   -999.0,  -999.00, 9,   -999.0,  11.9353, 26.6287,  11.9906, 2, 2, 0.13, 0.07, 0.01, 0.013,  -999.00, 9, -999.00, -999.00, 9, -999.00
49NZ20071122, P14, 11, 1, 28, X12034, 2, 20071221, 1145, -32.6027, 175.5537, 3859,    529.3, 2,  10.6108, 2,  34.8855, 2,  34.8834, 6,    196.7, 2,    197.5, 2,     8.68, 2,    17.23, 2,     0.01, 2,     1.24, 2,    2.221, 2,    1.187, 2,    0.088, 2, -999.000, 9,   2138.2, 2,   2303.0, 2,    7.7853,     25.00,   -999.0, 9,   -999.0,  -999.00, 9,   -999.0,  10.5461, 26.7676,  10.6119, 2, 2, 0.14, 0.08, 0.01, 0.013,  -999.00, 9, -999.00, -999.00, 9, -999.00
49NZ20071122, P14, 11, 1, 27, X12049, 2, 20071221, 1145, -32.6027, 175.5537, 3859,    632.5, 2,   9.2666, 2,  34.7035, 2,  34.7001, 2,    198.9, 2,    200.2, 2,     9.49, 2,    19.93, 2,     0.01, 2,     1.41, 2,    2.173, 2,    1.121, 2,    0.088, 2, -999.000, 9,   2144.5, 2,   2295.5, 2,    7.7527,     25.00,   -999.0, 9,   -999.0,  -999.00, 9,   -999.0,   9.1952, 26.8545,   9.2656, 2, 2, 0.14, 0.09, 0.01, 0.014,  -999.00, 9, -999.00, -999.00, 9, -999.00
49NZ20071122, P14, 11, 1, 26, X12032, 2, 20071221, 1145, -32.6027, 175.5537, 3859,    730.4, 2,   8.1682, 2,  34.6055, 2,  34.6081, 2,    195.7, 2,    198.5, 2,    14.18, 2,    22.51, 2,     0.00, 2,     1.59, 2,    1.758, 6,    0.895, 6,    0.073, 6, -999.000, 9,   2156.0, 6,   2296.4, 2,    7.7269,     25.00,   -999.0, 9,   -999.0,  -999.00, 9,   -999.0,   8.0913, 26.9503,   8.1689, 2, 2, 0.15, 0.10, 0.01, 0.014,  -999.00, 9, -999.00, -999.00, 9, -999.00
49NZ20071122, P14, 11, 1, 25, X12043, 2, 20071221, 1145, -32.6027, 175.5537, 3859,    830.5, 2,   7.1230, 2,  34.4931, 2,  34.4893, 2,    203.5, 2,    205.1, 2,    16.14, 2,    24.52, 2,     0.00, 2,     1.72, 2,    1.499, 2,    0.746, 2,    0.057, 2, -999.000, 9,   2160.1, 2,   2293.7, 6,    7.7099,     25.00,   -999.0, 9,   -999.0,  -999.00, 9,   -999.0,   7.0416, 27.0137,   7.1217, 2, 2, 0.15, 0.10, 0.01, 0.014,  -999.00, 9, -999.00, -999.00, 9, -999.00
49NZ20071122, P14, 11, 1, 24, X12030, 2, 20071221, 1145, -32.6027, 175.5537, 3859,    931.3, 2,   6.5649, 2,  34.4903, 2,  34.4860, 2,    197.2, 2,    196.4, 2,    23.50, 2,    26.20, 2,     0.00, 2,     1.83, 2,    1.113, 2,    0.558, 2,    0.029, 2, -999.000, 9,   2173.1, 2,   2299.0, 2,    7.6893,     25.00,   -999.0, 9,   -999.0,  -999.00, 9,   -999.0,   6.4768, 27.0881,   6.5558, 2, 6, 0.17, 0.11, 0.01, 0.015,  -999.00, 9, -999.00, -999.00, 9, -999.00
49NZ20071122, P14, 11, 1, 23, X12027, 2, 20071221, 1145, -32.6027, 175.5537, 3859,   1071.3, 2,   5.4919, 2,  34.4322, 2,  34.4342, 6,    192.2, 2,    193.0, 2,    31.72, 2,    28.65, 2,     0.01, 2,     2.00, 2,    0.692, 2,    0.347, 2,    0.020, 2, -999.000, 9,   2188.6, 2,   2305.1, 2,    7.6648,     25.00,   -999.0, 9,   -999.0,  -999.00, 9,   -999.0,   5.3982, 27.1783,   5.4921, 2, 2, 0.19, 0.11, 0.01, 0.015,  -999.00, 9, -999.00, -999.00, 9, -999.00
49NZ20071122, P14, 11, 1, 22, X12028, 2, 20071221, 1145, -32.6027, 175.5537, 3859,   1271.5, 2,   4.4840, 2,  34.4673, 2,  34.4690, 2,    178.1, 2,    178.9, 2,    50.57, 2,    31.41, 2,     0.00, 2,     2.19, 2,    0.340, 2,    0.172, 2,    0.006, 2, -999.000, 9,   2218.9, 2,   2324.7, 2,    7.6344,     25.00,   -999.0, 9,   -999.0,  -999.00, 9,   -999.0,   4.3806, 27.3221,   4.4833, 2, 2, 0.23, 0.12, 0.01, 0.016,  -999.00, 9, -999.00, -999.00, 9, -999.00
49NZ20071122, P14, 11, 1, 21, X12009, 2, 20071221, 1145, -32.6027, 175.5537, 3859,   1471.3, 2,   3.6136, 2,  34.5291, 2,  34.5290, 2,    166.1, 2,    166.3, 2,    71.66, 2,    33.10, 2,     0.01, 2,     2.32, 2,    0.156, 2,    0.080, 2,    0.004, 2, -999.000, 9,   2249.1, 2,   2348.5, 2,    7.6134,     25.00,   -999.0, 9,   -999.0,  -999.00, 9,   -999.0,   3.5014, 27.4618,   3.6148, 2, 2, 0.28, 0.13, 0.01, 0.016,  -999.00, 9, -999.00, -999.00, 9, -999.00
49NZ20071122, P14, 11, 1, 20, X12026, 2, 20071221, 1145, -32.6027, 175.5537, 3859,   1669.9, 2,   2.9685, 2,  34.5786, 2,  34.5790, 2,    159.8, 2,    158.9, 2,    89.32, 2,    34.09, 2,     0.01, 2,     2.40, 2,    0.065, 2,    0.033, 2,    0.004, 2, -999.000, 9,   2271.4, 2,   2367.0, 2,    7.6028,     25.00,   -999.0, 9,   -999.0,  -999.00, 9,   -999.0,   2.8467, 27.5626,   2.9682, 2, 6, 0.32, 0.13, 0.01, 0.016,  -999.00, 9, -999.00, -999.00, 9, -999.00
49NZ20071122, P14, 11, 1, 19, X12025, 2, 20071221, 1145, -32.6027, 175.5537, 3859,   1869.5, 2,   2.5800, 2,  34.6116, 2,  34.6114, 2,    155.5, 2,    155.0, 2,   100.60, 2,    34.82, 2,     0.00, 2,     2.45, 2,    0.028, 2,    0.011, 2,    0.000, 2, -999.000, 9,   2287.1, 2,   2378.9, 2,    7.5971,     25.00,   -999.0, 9,   -999.0,  -999.00, 9,   -999.0,   2.4462, 27.6239,   2.5802, 2, 2, 0.34, 0.13, 0.01, 0.016,  -999.00, 9, -999.00, -999.00, 9, -999.00
49NZ20071122, P14, 11, 1, 18, X12024, 2, 20071221, 1145, -32.6027, 175.5537, 3859,   2070.5, 2,   2.3329, 2,  34.6331, 2,  34.6331, 2,    153.5, 2,    153.2, 2,   107.76, 2,    35.00, 2,     0.01, 2,     2.47, 2,    0.013, 2,    0.006, 2,    0.000, 2, -999.000, 9,   2294.9, 2,   2387.7, 2,    7.5952,     25.00,   -999.0, 9,   -999.0,  -999.00, 9,   -999.0,   2.1853, 27.6629,   2.3328, 2, 2, 0.36, 0.13, 0.01, 0.016,  -999.00, 9, -999.00, -999.00, 9, -999.00
49NZ20071122, P14, 11, 1, 17, X12023, 2, 20071221, 1145, -32.6027, 175.5537, 3859,   2271.2, 2,   2.1686, 2,  34.6476, 2,  34.6475, 6,    152.7, 2,    152.6, 2,   112.54, 2,    35.23, 2,     0.01, 2,     2.48, 2,    0.007, 2,    0.003, 2,    0.000, 2, -999.000, 9,   2302.3, 2,   2394.1, 2,    7.5942,     25.00,   -999.0, 9,   -999.0,  -999.00, 9,   -999.0,   2.0059, 27.6889,   2.1686, 2, 2, 0.37, 0.13, 0.01, 0.016,  -999.00, 9, -999.00, -999.00, 9, -999.00
49NZ20071122, P14, 11, 1, 16, X12022, 2, 20071221, 1145, -32.6027, 175.5537, 3859,   2470.8, 2,   2.0102, 2,  34.6618, 2,  34.6616, 2,    152.9, 2,    152.9, 2,   116.64, 2,    35.20, 2,     0.00, 2,     2.49, 2,    0.001, 2,    0.000, 2,    0.000, 2, -999.000, 9,   2305.0, 6,   2398.5, 2,    7.5951,     25.00,   -999.0, 9,   -999.0,  -999.00, 9,   -999.0,   1.8323, 27.7138,   2.0103, 2, 2, 0.38, 0.13, 0.01, 0.016,  -999.00, 9, -999.00, -999.00, 9, -999.00
49NZ20071122, P14, 11, 1, 15, X12021, 2, 20071221, 1145, -32.6027, 175.5537, 3859,   2671.1, 2,   1.9088, 2,  34.6711, 2,  34.6710, 2,    153.1, 2,    153.2, 2,   119.43, 2,    35.31, 2,     0.00, 2,     2.49, 2,    0.000, 2,    0.000, 2,    0.000, 2, -999.000, 9,   2308.5, 2,   2401.9, 6,    7.5957,     25.00,   -999.0, 9,   -999.0,  -999.00, 9,   -999.0,   1.7144, 27.7303,   1.9088, 2, 2, 0.38, 0.13, 0.01, 0.016,  -999.00, 9, -999.00, -999.00, 9, -999.00
49NZ20071122, P14, 11, 1, 14, X12020, 2, 20071221, 1145, -32.6027, 175.5537, 3859,   2872.3, 2,   1.8574, 2,  34.6764, 2,  34.6765, 2,    153.5, 2,    153.5, 2,   121.02, 2,    35.41, 2,     0.00, 2,     2.49, 2,    0.000, 2,    0.000, 2,    0.000, 2, -999.000, 9,   2310.7, 2,   2404.1, 2,    7.5971,     25.00,   -999.0, 9,   -999.0,  -999.00, 9,   -999.0,   1.6451, 27.7398,   1.8574, 2, 2, 0.39, 0.13, 0.01, 0.016,  -999.00, 9, -999.00, -999.00, 9, -999.00
49NZ20071122, P14, 11, 1, 13, X12019, 2, 20071221, 1145, -32.6027, 175.5537, 3859,   3081.4, 2,   1.8394, 2,  34.6793, 2,  34.6791, 2,    153.6, 2,    153.7, 2,   122.07, 2,    35.33, 2,     0.00, 2,     2.49, 2,    0.000, 2,    0.000, 2,    0.000, 2, -999.000, 9,   2311.3, 2,   2405.7, 2,    7.5977,     25.00,   -999.0, 9,   -999.0,  -999.00, 9,   -999.0,   1.6072, 27.7449,   1.8394, 2, 2, 0.39, 0.13, 0.01, 0.016,  -999.00, 9, -999.00, -999.00, 9, -999.00
49NZ20071122, P14, 11, 1, 12, X12040, 2, 20071221, 1145, -32.6027, 175.5537, 3859,   3331.3, 2,   1.8411, 2,  34.6810, 2,  34.6808, 2,    153.8, 2,    153.6, 2,   122.43, 2,    35.25, 2,     0.00, 2,     2.48, 2, -999.000, 9, -999.000, 9, -999.000, 9, -999.000, 9,   2314.3, 2,   2406.7, 2,    7.5989,     25.00,   -999.0, 9,   -999.0,  -999.00, 9,   -999.0,   1.5838, 27.7480,   1.8412, 2, 2, 0.39, 0.13, 0.01, 0.016,  -999.00, 9, -999.00, -999.00, 9, -999.00
49NZ20071122, P14, 11, 1, 11, X12047, 2, 20071221, 1145, -32.6027, 175.5537, 3859,   3580.2, 2,   1.8540, 2,  34.6818, 2,  34.6817, 6,    153.8, 2,    153.7, 2,   123.02, 2,    35.27, 2,     0.00, 2,     2.49, 2,    0.000, 2,    0.000, 2,    0.000, 2, -999.000, 9,   2313.6, 2,   2408.4, 2,    7.5992,     25.00,   -999.0, 9,   -999.0,  -999.00, 9,   -999.0,   1.5706, 27.7496,   1.8541, 2, 2, 0.39, 0.13, 0.01, 0.016,  -999.00, 9, -999.00, -999.00, 9, -999.00
49NZ20071122, P14, 11, 1, 10, X12012, 2, 20071221, 1145, -32.6027, 175.5537, 3859,   3830.0, 2,   1.8732, 2,  34.6820, 2,  34.6825, 2,    154.0, 2,    153.7, 2,   123.14, 2,    35.27, 2,     0.00, 2,     2.49, 2, -999.000, 9, -999.000, 9, -999.000, 9, -999.000, 9,   2313.4, 2,   2408.4, 2,    7.6003,     25.00,   -999.0, 9,   -999.0,  -999.00, 9,   -999.0,   1.5625, 27.7504,   1.8732, 2, 2, 0.39, 0.13, 0.01, 0.016,  -999.00, 9, -999.00, -999.00, 9, -999.00
49NZ20071122, P14, 11, 1, 9, X12015, 9, 20071221, 1145, -32.6027, 175.5537, 3859,      9.4, 2,  20.3504, 2,  35.6623, 2, -999.0000, 9,    228.7, 2,   -999.0, 9,  -999.00, 9,  -999.00, 9,  -999.00, 9,  -999.00, 9, -999.000, 9, -999.000, 9, -999.000, 9, -999.000, 9,   -999.0, 9,   -999.0, 9, -999.0000,   -999.00,   -999.0, 9,   -999.0,  -999.00, 9,   -999.0,  20.3486, 25.1743,  20.3490, 2, 9, -999.00, -999.00, -999.00, -999.000,  -999.00, 9, -999.00, -999.00, 9, -999.00
49NZ20071122, P14, 11, 1, 8, X12046, 9, 20071221, 1145, -32.6027, 175.5537, 3859,    730.9, 2,   8.1617, 2,  34.6084, 2, -999.0000, 9,    195.7, 2,   -999.0, 9,  -999.00, 9,  -999.00, 9,  -999.00, 9,  -999.00, 9, -999.000, 9, -999.000, 9, -999.000, 9, -999.000, 9,   -999.0, 9,   -999.0, 9, -999.0000,   -999.00,   -999.0, 9,   -999.0,  -999.00, 9,   -999.0,   8.0848, 26.9536,   8.1602, 2, 9, -999.00, -999.00, -999.00, -999.000,  -999.00, 9, -999.00, -999.00, 9, -999.00
49NZ20071122, P14, 11, 1, 7, X12044, 9, 20071221, 1145, -32.6027, 175.5537, 3859,    830.6, 2,   7.1224, 2,  34.4925, 2, -999.0000, 9,    203.5, 2,   -999.0, 9,  -999.00, 9,  -999.00, 9,  -999.00, 9,  -999.00, 9, -999.000, 9, -999.000, 9, -999.000, 9, -999.000, 9,   -999.0, 9,   -999.0, 9, -999.0000,   -999.00,   -999.0, 9,   -999.0,  -999.00, 9,   -999.0,   7.0409, 27.0133,   7.1254, 2, 9, -999.00, -999.00, -999.00, -999.000,  -999.00, 9, -999.00, -999.00, 9, -999.00
49NZ20071122, P14, 11, 1, 6, X12048, 9, 20071221, 1145, -32.6027, 175.5537, 3859,    931.7, 2,   6.5318, 2,  34.4864, 2, -999.0000, 9,    197.3, 2,   -999.0, 9,  -999.00, 9,  -999.00, 9,  -999.00, 9,  -999.00, 9, -999.000, 9, -999.000, 9, -999.000, 9, -999.000, 9,   -999.0, 9,   -999.0, 9, -999.0000,   -999.00,   -999.0, 9,   -999.0,  -999.00, 9,   -999.0,   6.4439, 27.0893,   6.5323, 2, 9, -999.00, -999.00, -999.00, -999.000,  -999.00, 9, -999.00, -999.00, 9, -999.00
49NZ20071122, P14, 11, 1, 5, X12014, 9, 20071221, 1145, -32.6027, 175.5537, 3859,   1068.4, 2,   5.4920, 2,  34.4309, 2, -999.0000, 9,    192.5, 2,   -999.0, 9,  -999.00, 9,  -999.00, 9,  -999.00, 9,  -999.00, 9, -999.000, 9, -999.000, 9, -999.000, 9, -999.000, 9,   -999.0, 9,   -999.0, 9, -999.0000,   -999.00,   -999.0, 9,   -999.0,  -999.00, 9,   -999.0,   5.3986, 27.1771,   5.4924, 2, 9, -999.00, -999.00, -999.00, -999.000,  -999.00, 9, -999.00, -999.00, 9, -999.00
49NZ20071122, P14, 11, 1, 4, X12006, 9, 20071221, 1145, -32.6027, 175.5537, 3859,   1271.7, 2,   4.4815, 2,  34.4676, 2, -999.0000, 9,    178.1, 2,   -999.0, 9,  -999.00, 9,  -999.00, 9,  -999.00, 9,  -999.00, 9, -999.000, 9, -999.000, 9, -999.000, 9, -999.000, 9,   -999.0, 9,   -999.0, 9, -999.0000,   -999.00,   -999.0, 9,   -999.0,  -999.00, 9,   -999.0,   4.3781, 27.3226,   4.4814, 2, 9, -999.00, -999.00, -999.00, -999.000,  -999.00, 9, -999.00, -999.00, 9, -999.00
49NZ20071122, P14, 11, 1, 3, X12013, 9, 20071221, 1145, -32.6027, 175.5537, 3859,   3580.4, 2,   1.8540, 2,  34.6818, 2, -999.0000, 9,    153.8, 2,   -999.0, 9,  -999.00, 9,  -999.00, 9,  -999.00, 9,  -999.00, 9, -999.000, 9, -999.000, 9, -999.000, 9, -999.000, 9,   -999.0, 9,   -999.0, 9, -999.0000,   -999.00,   -999.0, 9,   -999.0,  -999.00, 9,   -999.0,   1.5705, 27.7496,   1.8540, 2, 9, -999.00, -999.00, -999.00, -999.000,  -999.00, 9, -999.00, -999.00, 9, -999.00
49NZ20071122, P14, 11, 1, 2, X12002, 9, 20071221, 1145, -32.6027, 175.5537, 3859,   1670.3, 2,   2.9683, 2,  34.5786, 2, -999.0000, 9,    159.8, 2,   -999.0, 9,  -999.00, 9,  -999.00, 9,  -999.00, 9,  -999.00, 9, -999.000, 9, -999.000, 9, -999.000, 9, -999.000, 9,   -999.0, 9,   -999.0, 9, -999.0000,   -999.00,   -999.0, 9,   -999.0,  -999.00, 9,   -999.0,   2.8464, 27.5626,   2.9683, 2, 9, -999.00, -999.00, -999.00, -999.000,  -999.00, 9, -999.00, -999.00, 9, -999.00
49NZ20071122, P14, 11, 1, 1, X12001, 2, 20071221, 1145, -32.6027, 175.5537, 3859,   3905.1, 2,   1.8795, 2,  34.6820, 2,  34.6824, 6,    153.6, 2,    153.3, 2,   123.41, 2,    35.43, 2,     0.01, 2,     2.49, 2,    0.001, 2,    0.000, 2,    0.000, 2, -999.000, 9,   2313.7, 2,   2410.3, 2,    7.6010,     25.00,   -999.0, 9,   -999.0,  -999.00, 9,   -999.0,   1.5604, 27.7506,   1.8795, 2, 2, 0.39, 0.13, 0.01, 0.016,  -999.00, 9, -999.00, -999.00, 9, -999.00