BOTTLE,20220820CCHSIOAMB
EXPOCODE,SECT_ID,STNNBR,CASTNO,SAMPNO,BTLNBR,BTLNBR_FLAG_W,DATE,TIME,LATITUDE,LONGITUDE,DEPTH,CTDPRS,CTDPRS_FLAG_W,CTDTMP,CTDTMP_FLAG_W,CTDSAL,CTDSAL_FLAG_W,SALNTY,SALNTY_FLAG_W,CTDOXY,CTDOXY_FLAG_W,OXYGEN,OXYGEN_FLAG_W,SILCAT,SILCAT_FLAG_W,NITRAT,NITRAT_FLAG_W,NITRIT,NITRIT_FLAG_W,PHSPHT,PHSPHT_FLAG_W,CFC-11,CFC-11_FLAG_W,CFC-12,CFC-12_FLAG_W,CFC113,CFC113_FLAG_W,CCL4,CCL4_FLAG_W,TCARBN,TCARBN_FLAG_W,ALKALI,ALKALI_FLAG_W,PH_TOT,PH_TMP,DELC14,DELC14_FLAG_W,C14ERR,DELC13,DELC13_FLAG_W,C13ERR,THETA,SIG0,SBE35,SBE35_FLAG_W,PH_TOT_FLAG_W,SILUNC,NRAUNC,NRIUNC,PHPUNC,CS-137,CS-137_FLAG_W,CS137ER,PLUTO,PLUTO_FLAG_W,PLUTOER
,,,,,,,,,,,METERS,DBAR,,ITS-90,,PSS-78,,PSS-78,,UMOL/KG,,UMOL/KG,,UMOL/KG,,UMOL/KG,,UMOL/KG,,UMOL/KG,,PMOL/KG,,PMOL/KG,,PMOL/KG,,PMOL/KG,,UMOL/KG,,UMOL/KG,,,DEG C,/MILLE,,/MILLE,/MILLE,,/MILLE,DEG C,KG/M^3,ITS-90,,,UMOL/KG,UMOL/KG,UMOL/KG,UMOL/KG,DM/.1MG,,BQ/M^3,MBQ/M^3,,MBQ/M^3
49NZ20071122, P14N, 164, 1, 36, X12042, 2, 20071207, 2149, -5.4935, 178.9995, 5704,     10.3, 2,  29.3255, 2,  35.1823, 2,  35.1826, 2,    194.3, 2,    193.8, 2,     0.69, 2,     0.04, 2,     0.01, 2,     0.22, 2,    1.431, 2,    0.890, 2,    0.206, 4, -999.000, 9,   1959.9, 2,   2315.7, 2,    8.1359,     25.00,   -999.0, 9,   -999.0,  -999.00, 9,   -999.0,  29.3230, 22.0925,  29.3274, 2, 6, 0.12, 0.03, 0.01, 0.016,  -999.00, 9, -999.00, -999.00, 9, -999.00
49NZ20071122, P14N, 164, 1, 35, X12041, 2, 20071207, 2149, -5.4935, 178.9995, 5704,     50.3, 2,  29.3344, 2,  35.3229, 2,  35.3461, 2,    191.1, 2,    192.0, 2,     0.79, 2,     0.18, 2,     0.04, 2,     0.26, 2,    1.440, 2,    0.896, 2,    0.229, 4, -999.000, 9,   1974.9, 6,   2327.0, 2,    8.1245,     25.00,   -999.0, 9,   -999.0,  -999.00, 9,   -999.0,  29.3221, 22.1984,  29.3343, 2, 2, 0.12, 0.03, 0.01, 0.015,  -999.00, 9, -999.00, -999.00, 9, -999.00
49NZ20071122, P14N, 164, 1, 34, X12016, 2, 20071207, 2149, -5.4935, 178.9995, 5704,     97.5, 2,  29.0437, 2,  35.5160, 2,  35.5260, 2,    178.2, 2,    181.6, 2,     0.86, 2,     0.92, 2,     0.23, 2,     0.35, 2,    1.478, 2,    0.934, 2,    0.255, 4, -999.000, 9,   2001.3, 2,   2338.9, 6,    8.0964,     25.00,   -999.0, 9,   -999.0,  -999.00, 9,   -999.0,  29.0201, 22.4449,  29.0432, 2, 2, 0.12, 0.04, 0.01, 0.014,  -999.00, 9, -999.00, -999.00, 9, -999.00
49NZ20071122, P14N, 164, 1, 33, X12033, 2, 20071207, 2149, -5.4935, 178.9995, 5704,    150.9, 2,  27.8073, 2,  35.8979, 2,  35.9029, 2,    156.1, 2,    157.3, 2,     1.14, 2,     2.68, 2,     1.13, 2,     0.54, 2,    1.589, 6,    0.980, 6,    0.200, 4, -999.000, 9,   2050.2, 2,   2360.4, 2,    8.0464,     25.00,   -999.0, 9,   -999.0,  -999.00, 9,   -999.0,  27.7718, 23.1447,  27.8036, 2, 6, 0.12, 0.04, 0.00, 0.013,  -999.00, 9, -999.00, -999.00, 9, -999.00
49NZ20071122, P14N, 164, 1, 32, X12038, 2, 20071207, 2149, -5.4935, 178.9995, 5704,    200.2, 2,  24.8996, 2,  36.2596, 2,  36.2493, 2,    143.3, 2,    145.5, 2,     1.23, 2,     6.25, 2,     0.03, 2,     0.70, 2,    1.789, 2,    1.078, 2,    0.144, 4, -999.000, 9,   2104.1, 2,   2386.3, 2,    7.9900,     25.00,   -999.0, 9,   -999.0,  -999.00, 9,   -999.0,  24.8561, 24.3374,  24.9023, 2, 2, 0.12, 0.05, 0.01, 0.013,  -999.00, 9, -999.00, -999.00, 9, -999.00
49NZ20071122, P14N, 164, 1, 31, X12003, 2, 20071207, 2149, -5.4935, 178.9995, 5704,    249.9, 2,  18.1178, 2,  35.4941, 2,  35.4501, 6,    122.8, 2,    124.1, 2,     4.60, 2,    12.39, 2,     0.01, 2,     1.16, 2,    1.976, 2,    1.116, 2,    0.033, 2, -999.000, 9,   2147.2, 2,   2339.2, 2,    7.8317,     25.00,   -999.0, 9,   -999.0,  -999.00, 9,   -999.0,  18.0745, 25.6321,  18.1158, 2, 2, 0.13, 0.07, 0.01, 0.013,  -999.00, 9, -999.00, -999.00, 9, -999.00
49NZ20071122, P14N, 164, 1, 30, X12008, 2, 20071207, 2149, -5.4935, 178.9995, 5704,    327.9, 2,  11.7110, 2,  34.8795, 2,  34.8625, 2,     96.6, 2,     96.4, 2,    16.55, 2,    25.00, 2,     0.01, 2,     1.89, 2,    0.939, 2,    0.496, 2,    0.020, 2, -999.000, 9,   2195.6, 2,   2308.4, 2,    7.6565,     25.00,   -999.0, 9,   -999.0,  -999.00, 9,   -999.0,  11.6687, 26.5583,  11.7240, 2, 2, 0.16, 0.10, 0.01, 0.015,  -999.00, 9, -999.00, -999.00, 9, -999.00
49NZ20071122, P14N, 164, 1, 29, X12035, 2, 20071207, 2149, -5.4935, 178.9995, 5704,    426.5, 2,   8.8859, 2,  34.6660, 2,  34.6642, 2,    117.2, 2,    117.1, 2,    24.12, 2,    28.87, 2,     0.01, 2,     2.06, 2,    0.595, 2,    0.311, 2,    0.015, 2, -999.000, 9,   2203.2, 2,   2305.8, 2,    7.6255,     25.00,   -999.0, 9,   -999.0,  -999.00, 9,   -999.0,   8.8395, 26.8822,   8.8861, 2, 2, 0.17, 0.11, 0.01, 0.015,  -999.00, 9, -999.00, -999.00, 9, -999.00
49NZ20071122, P14N, 164, 1, 28, X12034, 2, 20071207, 2149, -5.4935, 178.9995, 5704,    529.1, 2,   7.3865, 2,  34.5728, 2,  34.5716, 6,    124.0, 2,    120.1, 2,    32.03, 2,    31.71, 2,     0.01, 2,     2.23, 2,    0.357, 2,    0.191, 2,    0.013, 2, -999.000, 9,   2217.5, 2,   2308.4, 2,    7.5967,     25.00,   -999.0, 9,   -999.0,  -999.00, 9,   -999.0,   7.3346, 27.0353,   7.3885, 2, 2, 0.19, 0.12, 0.01, 0.016,  -999.00, 9, -999.00, -999.00, 9, -999.00
49NZ20071122, P14N, 164, 1, 27, X12049, 2, 20071207, 2149, -5.4935, 178.9995, 5704,    629.7, 2,   6.3936, 2,  34.5308, 2,  34.5308, 2,    125.2, 2,    123.0, 2,    40.39, 2,    33.45, 2,     0.01, 2,     2.37, 2,    0.219, 2,    0.116, 2,    0.011, 2, -999.000, 9,   2227.7, 2,   2315.2, 2,    7.5818,     25.00,   -999.0, 9,   -999.0,  -999.00, 9,   -999.0,   6.3361, 27.1386,   6.3946, 2, 2, 0.21, 0.13, 0.01, 0.016,  -999.00, 9, -999.00, -999.00, 9, -999.00
49NZ20071122, P14N, 164, 1, 26, X12032, 2, 20071207, 2149, -5.4935, 178.9995, 5704,    731.2, 2,   5.8422, 2,  34.5280, 2,  34.5272, 2,    110.8, 2,    110.6, 2,    49.56, 2,    35.81, 2,     0.01, 2,     2.53, 2,    0.084, 6,    0.044, 6,    0.000, 6, -999.000, 9,   2247.6, 6,   2323.0, 2,    7.5537,     25.00,   -999.0, 9,   -999.0,  -999.00, 9,   -999.0,   5.7780, 27.2076,   5.8426, 2, 2, 0.23, 0.13, 0.01, 0.016,  -999.00, 9, -999.00, -999.00, 9, -999.00
49NZ20071122, P14N, 164, 1, 25, X12043, 2, 20071207, 2149, -5.4935, 178.9995, 5704,    829.8, 2,   5.2130, 2,  34.5281, 2,  34.5283, 2,    109.5, 2,    106.5, 2,    59.97, 2,    37.05, 2,     0.01, 2,     2.63, 2,    0.049, 2,    0.028, 2,    0.000, 2, -999.000, 9,   2261.7, 2,   2333.7, 6,    7.5383,     25.00,   -999.0, 9,   -999.0,  -999.00, 9,   -999.0,   5.1435, 27.2844,   5.2131, 2, 2, 0.25, 0.14, 0.01, 0.017,  -999.00, 9, -999.00, -999.00, 9, -999.00
49NZ20071122, P14N, 164, 1, 24, X12030, 2, 20071207, 2149, -5.4935, 178.9995, 5704,    931.3, 2,   4.7114, 2,  34.5379, 2,  34.5325, 2,    100.6, 2,    103.9, 2,    65.87, 2,    37.69, 2,     0.00, 2,     2.67, 2,    0.028, 2,    0.017, 2,    0.000, 2, -999.000, 9,   2271.5, 2,   2340.6, 2,    7.5317,     25.00,   -999.0, 9,   -999.0,  -999.00, 9,   -999.0,   4.6363, 27.3502,   4.7136, 2, 2, 0.26, 0.14, 0.01, 0.017,  -999.00, 9, -999.00, -999.00, 9, -999.00
49NZ20071122, P14N, 164, 1, 23, X12027, 2, 20071207, 2149, -5.4935, 178.9995, 5704,   1070.9, 2,   4.0863, 2,  34.5527, 2,  34.5521, 6,    105.5, 2,    105.4, 2,    82.95, 2,    38.17, 2,     0.00, 2,     2.73, 2,    0.019, 2,    0.012, 2,    0.000, 2, -999.000, 9,   2292.0, 2,   2358.7, 2,    7.5290,     25.00,   -999.0, 9,   -999.0,  -999.00, 9,   -999.0,   4.0039, 27.4299,   4.0871, 2, 2, 0.30, 0.14, 0.01, 0.017,  -999.00, 9, -999.00, -999.00, 9, -999.00
49NZ20071122, P14N, 164, 1, 22, X12028, 2, 20071207, 2149, -5.4935, 178.9995, 5704,   1271.4, 2,   3.4517, 2,  34.5758, 2,  34.5761, 2,    108.7, 2,    108.6, 2,    97.68, 2,    38.40, 2,     0.00, 2,     2.75, 2,    0.010, 2,    0.003, 2,    0.000, 2, -999.000, 9,   2305.8, 2,   2374.1, 2,    7.5316,     25.00,   -999.0, 9,   -999.0,  -999.00, 9,   -999.0,   3.3581, 27.5128,   3.4517, 2, 2, 0.33, 0.14, 0.01, 0.017,  -999.00, 9, -999.00, -999.00, 9, -999.00
49NZ20071122, P14N, 164, 1, 21, X12009, 2, 20071207, 2149, -5.4935, 178.9995, 5704,   1469.3, 2,   2.9659, 2,  34.5979, 2,  34.5982, 2,    113.4, 2,    113.5, 2,   109.05, 2,    38.33, 2,     0.00, 2,     2.73, 2,    0.007, 2,    0.006, 2,    0.000, 2, -999.000, 9,   2313.7, 2,   2387.1, 2,    7.5383,     25.00,   -999.0, 9,   -999.0,  -999.00, 9,   -999.0,   2.8609, 27.5768,   2.9660, 2, 2, 0.36, 0.14, 0.01, 0.017,  -999.00, 9, -999.00, -999.00, 9, -999.00
49NZ20071122, P14N, 164, 1, 20, X12026, 2, 20071207, 2149, -5.4935, 178.9995, 5704,   1670.4, 2,   2.6312, 2,  34.6153, 2,  34.6158, 2,    117.5, 2,    117.9, 2,   117.09, 2,    38.06, 2,     0.01, 2,     2.71, 2,    0.005, 2,    0.005, 2,    0.000, 2, -999.000, 9,   2319.9, 2,   2396.2, 2,    7.5451,     25.00,   -999.0, 9,   -999.0,  -999.00, 9,   -999.0,   2.5135, 27.6212,   2.6314, 2, 6, 0.38, 0.14, 0.01, 0.017,  -999.00, 9, -999.00, -999.00, 9, -999.00
49NZ20071122, P14N, 164, 1, 19, X12025, 2, 20071207, 2149, -5.4935, 178.9995, 5704,   1869.6, 2,   2.3370, 2,  34.6322, 2,  34.6324, 2,    121.0, 2,    121.2, 2,   124.93, 2,    37.92, 2,     0.00, 2,     2.69, 2,    0.004, 2,    0.002, 2,    0.000, 2, -999.000, 9,   2326.2, 2,   2404.2, 2,    7.5505,     25.00,   -999.0, 9,   -999.0,  -999.00, 9,   -999.0,   2.2066, 27.6604,   2.3373, 2, 2, 0.39, 0.14, 0.01, 0.017,  -999.00, 9, -999.00, -999.00, 9, -999.00
49NZ20071122, P14N, 164, 1, 18, X12024, 2, 20071207, 2149, -5.4935, 178.9995, 5704,   2069.7, 2,   2.1692, 2,  34.6427, 2,  34.6425, 2,    122.4, 2,    123.4, 2,   129.52, 2,    37.93, 2,     0.00, 2,     2.68, 2, -999.000, 9, -999.000, 9, -999.000, 9, -999.000, 9,   2332.0, 2,   2409.1, 2,    7.5550,     25.00,   -999.0, 9,   -999.0,  -999.00, 9,   -999.0,   2.0242, 27.6835,   2.1690, 2, 2, 0.40, 0.14, 0.01, 0.017,  -999.00, 9, -999.00, -999.00, 9, -999.00
49NZ20071122, P14N, 164, 1, 17, X12023, 2, 20071207, 2149, -5.4935, 178.9995, 5704,   2271.5, 2,   2.0439, 2,  34.6502, 2,  34.6501, 6,    128.7, 2,    128.3, 2,   131.28, 2,    37.62, 2,     0.00, 2,     2.65, 2, -999.000, 9, -999.000, 9, -999.000, 9, -999.000, 9,   2329.3, 2,   2412.7, 2,    7.5620,     25.00,   -999.0, 9,   -999.0,  -999.00, 9,   -999.0,   1.8833, 27.7006,   2.0440, 2, 2, 0.41, 0.14, 0.01, 0.017,  -999.00, 9, -999.00, -999.00, 9, -999.00
49NZ20071122, P14N, 164, 1, 16, X12022, 2, 20071207, 2149, -5.4935, 178.9995, 5704,   2470.2, 2,   1.9064, 2,  34.6591, 2,  34.6590, 2,    133.5, 2,    133.5, 2,   133.40, 2,    37.23, 2,     0.01, 2,     2.62, 2,    0.010, 2,    0.004, 2,    0.000, 2, -999.000, 9,   2329.1, 6,   2414.4, 2,    7.5700,     25.00,   -999.0, 9,   -999.0,  -999.00, 9,   -999.0,   1.7305, 27.7195,   1.9064, 2, 2, 0.41, 0.14, 0.01, 0.017,  -999.00, 9, -999.00, -999.00, 9, -999.00
49NZ20071122, P14N, 164, 1, 15, X12021, 2, 20071207, 2149, -5.4935, 178.9995, 5704,   2670.4, 2,   1.7891, 2,  34.6667, 2,  34.6664, 2,    137.9, 2,    138.4, 2,   135.18, 2,    36.89, 2,     0.00, 2,     2.60, 2, -999.000, 9, -999.000, 9, -999.000, 9, -999.000, 9,   2328.9, 2,   2416.5, 6,    7.5769,     25.00,   -999.0, 9,   -999.0,  -999.00, 9,   -999.0,   1.5972, 27.7355,   1.7890, 2, 2, 0.42, 0.14, 0.01, 0.016,  -999.00, 9, -999.00, -999.00, 9, -999.00
49NZ20071122, P14N, 164, 1, 14, X12020, 2, 20071207, 2149, -5.4935, 178.9995, 5704,   2869.6, 2,   1.7010, 2,  34.6730, 2,  34.6729, 2,    143.4, 2,    144.0, 2,   135.32, 2,    36.59, 2,     0.00, 2,     2.57, 2, -999.000, 9, -999.000, 9, -999.000, 9, -999.000, 9,   2325.9, 2,   2416.3, 2,    7.5846,     25.00,   -999.0, 9,   -999.0,  -999.00, 9,   -999.0,   1.4922, 27.7483,   1.7010, 2, 6, 0.42, 0.14, 0.01, 0.016,  -999.00, 9, -999.00, -999.00, 9, -999.00
49NZ20071122, P14N, 164, 1, 13, X12019, 2, 20071207, 2149, -5.4935, 178.9995, 5704,   3079.5, 2,   1.6305, 2,  34.6777, 2,  34.6776, 2,    147.7, 2,    148.2, 2,   135.77, 2,    36.33, 2,     0.00, 2,     2.55, 2,    0.000, 2,    0.000, 2,    0.000, 2, -999.000, 9,   2322.3, 2,   2415.7, 2,    7.5906,     25.00,   -999.0, 9,   -999.0,  -999.00, 9,   -999.0,   1.4032, 27.7585,   1.6305, 2, 2, 0.42, 0.13, 0.01, 0.016,  -999.00, 9, -999.00, -999.00, 9, -999.00
49NZ20071122, P14N, 164, 1, 12, X12040, 2, 20071207, 2149, -5.4935, 178.9995, 5704,   3329.3, 2,   1.5558, 2,  34.6822, 2,  34.6823, 2,    153.2, 2,    153.2, 2,   135.68, 2,    35.93, 2,     0.00, 2,     2.51, 2, -999.000, 9, -999.000, 9, -999.000, 9, -999.000, 9,   2322.0, 2,   2415.2, 2,    7.5970,     25.00,   -999.0, 9,   -999.0,  -999.00, 9,   -999.0,   1.3055, 27.7691,   1.5557, 2, 2, 0.42, 0.13, 0.01, 0.016,  -999.00, 9, -999.00, -999.00, 9, -999.00
49NZ20071122, P14N, 164, 1, 11, X12047, 2, 20071207, 2149, -5.4935, 178.9995, 5704,   3579.8, 2,   1.4783, 2,  34.6873, 2,  34.6869, 2,    158.7, 2,    158.8, 2,   135.51, 2,    35.59, 2,     0.00, 2,     2.48, 2, -999.000, 9, -999.000, 9, -999.000, 9, -999.000, 9,   2317.1, 2,   2414.9, 2,    7.6030,     25.00,   -999.0, 9,   -999.0,  -999.00, 9,   -999.0,   1.2045, 27.7802,   1.4782, 2, 2, 0.42, 0.13, 0.01, 0.016,  -999.00, 9, -999.00, -999.00, 9, -999.00
49NZ20071122, P14N, 164, 1, 10, X12012, 2, 20071207, 2149, -5.4935, 178.9995, 5704,   3831.4, 2,   1.4510, 2,  34.6904, 2,  34.6899, 2,    163.3, 2,    163.0, 2,   134.53, 2,    35.29, 2,     0.00, 2,     2.47, 2,    0.000, 2,    0.000, 2,    0.000, 2, -999.000, 9,   2312.7, 2,   2411.9, 2,    7.6073,     25.00,   -999.0, 9,   -999.0,  -999.00, 9,   -999.0,   1.1516, 27.7863,   1.4510, 2, 2, 0.41, 0.13, 0.01, 0.016,  -999.00, 9, -999.00, -999.00, 9, -999.00
49NZ20071122, P14N, 164, 1, 9, X12015, 2, 20071207, 2149, -5.4935, 178.9995, 5704,   4081.7, 2,   1.3468, 2,  34.6977, 2,  34.6972, 6,    176.1, 2,    176.5, 2,   128.18, 2,    34.34, 2,     0.00, 2,     2.40, 2,    0.025, 2,    0.017, 2,    0.000, 2, -999.000, 9,   2295.9, 2,   2398.7, 2,    7.6150,     25.00,   -999.0, 9,   -999.0,  -999.00, 9,   -999.0,   1.0233, 27.8009,   1.3468, 2, 2, 0.40, 0.13, 0.01, 0.016,  -999.00, 9, -999.00, -999.00, 9, -999.00
49NZ20071122, P14N, 164, 1, 8, X12046, 2, 20071207, 2149, -5.4935, 178.9995, 5704,   4328.2, 2,   1.2645, 2,  34.7036, 2,  34.7036, 2,    188.7, 2,    188.8, 2,   121.87, 2,    33.40, 2,     0.00, 2,     2.33, 2,    0.021, 2,    0.011, 2,    0.000, 2, -999.000, 9,   2279.9, 6,   2384.0, 2,    7.6198,     25.00,   -999.0, 9,   -999.0,  -999.00, 9,   -999.0,   0.9161, 27.8127,   1.2644, 2, 2, 0.39, 0.13, 0.01, 0.016,  -999.00, 9, -999.00, -999.00, 9, -999.00
49NZ20071122, P14N, 164, 1, 7, X12044, 2, 20071207, 2149, -5.4935, 178.9995, 5704,   4579.9, 2,   1.2390, 2,  34.7057, 2,  34.7056, 2,    192.8, 2,    193.1, 2,   120.34, 2,    33.04, 2,     0.00, 2,     2.31, 2,    0.020, 2,    0.010, 2,    0.000, 2, -999.000, 9,   2275.9, 2,   2382.0, 6,    7.6211,     25.00,   -999.0, 9,   -999.0,  -999.00, 9,   -999.0,   0.8629, 27.8179,   1.2390, 2, 2, 0.38, 0.13, 0.01, 0.016,  -999.00, 9, -999.00, -999.00, 9, -999.00
49NZ20071122, P14N, 164, 1, 6, X12048, 2, 20071207, 2149, -5.4935, 178.9995, 5704,   4829.7, 2,   1.2433, 2,  34.7063, 2,  34.7061, 2,    194.7, 2,    194.8, 2,   120.00, 2,    32.94, 2,     0.01, 2,     2.30, 2,    0.011, 2,    0.008, 2,    0.000, 2, -999.000, 9,   2272.8, 2,   2380.8, 2,    7.6230,     25.00,   -999.0, 9,   -999.0,  -999.00, 9,   -999.0,   0.8379, 27.8200,   1.2433, 2, 6, 0.38, 0.13, 0.01, 0.016,  -999.00, 9, -999.00, -999.00, 9, -999.00
49NZ20071122, P14N, 164, 1, 5, X12014, 2, 20071207, 2149, -5.4935, 178.9995, 5704,   5080.1, 2,   1.2661, 2,  34.7065, 2,  34.7066, 2,    195.3, 2,    195.4, 2,   119.83, 2,    32.97, 2,     0.00, 2,     2.30, 2,    0.018, 2,    0.010, 2,    0.003, 2, -999.000, 9,   2271.9, 2,   2379.0, 2,    7.6225,     25.00,   -999.0, 9,   -999.0,  -999.00, 9,   -999.0,   0.8300, 27.8206,   1.2661, 2, 2, 0.38, 0.13, 0.01, 0.016,  -999.00, 9, -999.00, -999.00, 9, -999.00
49NZ20071122, P14N, 164, 1, 4, X12006, 2, 20071207, 2149, -5.4935, 178.9995, 5704,   5326.8, 2,   1.2940, 2,  34.7064, 2,  34.7064, 2,    195.6, 2,    195.3, 2,   119.77, 2,    32.94, 2,     0.00, 2,     2.30, 2,    0.021, 2,    0.011, 2,    0.006, 2, -999.000, 9,   2272.5, 2,   2378.9, 2,    7.6232,     25.00,   -999.0, 9,   -999.0,  -999.00, 9,   -999.0,   0.8266, 27.8208,   1.2940, 2, 2, 0.38, 0.13, 0.01, 0.016,  -999.00, 9, -999.00, -999.00, 9, -999.00
49NZ20071122, P14N, 164, 1, 3, X12013, 2, 20071207, 2149, -5.4935, 178.9995, 5704,   5580.1, 2,   1.3172, 2,  34.7064, 2,  34.7077, 3,    196.1, 2,    195.6, 2,   119.77, 2,    32.84, 2,     0.01, 2,     2.29, 2,    0.020, 2,    0.012, 2,    0.000, 2, -999.000, 9,   2273.5, 2,   2379.6, 2,    7.6242,     25.00,   -999.0, 9,   -999.0,  -999.00, 9,   -999.0,   0.8170, 27.8214,   1.3172, 2, 2, 0.38, 0.12, 0.01, 0.016,  -999.00, 9, -999.00, -999.00, 9, -999.00
49NZ20071122, P14N, 164, 1, 2, X12002, 9, 20071207, 2149, -5.4935, 178.9995, 5704,     10.5, 2,  29.3349, 2,  35.1824, 2, -999.0000, 9,    193.7, 2,   -999.0, 9,  -999.00, 9,  -999.00, 9,  -999.00, 9,  -999.00, 9, -999.000, 9, -999.000, 9, -999.000, 9, -999.000, 9,   -999.0, 9,   -999.0, 9, -999.0000,   -999.00,   -999.0, 9,   -999.0,  -999.00, 9,   -999.0,  29.3323, 22.0895,  29.3370, 2, 9, -999.00, -999.00, -999.00, -999.000,  -999.00, 9, -999.00, -999.00, 9, -999.00
49NZ20071122, P14N, 164, 1, 1, X12001, 2, 20071207, 2149, -5.4935, 178.9995, 5704,   5786.6, 2,   1.3447, 2,  34.7064, 2,  34.7066, 6,    196.3, 2,    195.6, 2,   119.82, 2,    32.91, 2,     0.00, 2,     2.30, 2,    0.019, 2,    0.015, 2,    0.000, 2, -999.000, 9,   2272.7, 2,   2379.1, 2,    7.6240,     25.00,   -999.0, 9,   -999.0,  -999.00, 9,   -999.0,   0.8168, 27.8214,   1.3448, 2, 2, 0.38, 0.12, 0.01, 0.016,  -999.00, 9, -999.00, -999.00, 9, -999.00