BOTTLE,20220820CCHSIOAMB
EXPOCODE,SECT_ID,STNNBR,CASTNO,SAMPNO,BTLNBR,BTLNBR_FLAG_W,DATE,TIME,LATITUDE,LONGITUDE,DEPTH,CTDPRS,CTDPRS_FLAG_W,CTDTMP,CTDTMP_FLAG_W,CTDSAL,CTDSAL_FLAG_W,SALNTY,SALNTY_FLAG_W,CTDOXY,CTDOXY_FLAG_W,OXYGEN,OXYGEN_FLAG_W,SILCAT,SILCAT_FLAG_W,NITRAT,NITRAT_FLAG_W,NITRIT,NITRIT_FLAG_W,PHSPHT,PHSPHT_FLAG_W,CFC-11,CFC-11_FLAG_W,CFC-12,CFC-12_FLAG_W,CFC113,CFC113_FLAG_W,CCL4,CCL4_FLAG_W,TCARBN,TCARBN_FLAG_W,ALKALI,ALKALI_FLAG_W,PH_TOT,PH_TMP,DELC14,DELC14_FLAG_W,C14ERR,DELC13,DELC13_FLAG_W,C13ERR,THETA,SIG0,SBE35,SBE35_FLAG_W,PH_TOT_FLAG_W,SILUNC,NRAUNC,NRIUNC,PHPUNC,CS-137,CS-137_FLAG_W,CS137ER,PLUTO,PLUTO_FLAG_W,PLUTOER
,,,,,,,,,,,METERS,DBAR,,ITS-90,,PSS-78,,PSS-78,,UMOL/KG,,UMOL/KG,,UMOL/KG,,UMOL/KG,,UMOL/KG,,UMOL/KG,,PMOL/KG,,PMOL/KG,,PMOL/KG,,PMOL/KG,,UMOL/KG,,UMOL/KG,,,DEG C,/MILLE,,/MILLE,/MILLE,,/MILLE,DEG C,KG/M^3,ITS-90,,,UMOL/KG,UMOL/KG,UMOL/KG,UMOL/KG,DM/.1MG,,BQ/M^3,MBQ/M^3,,MBQ/M^3
49NZ20071122, P14, 18, 1, 36, X12042, 2, 20071220, 0032, -29.5733, 176.0825, 4300,      9.9, 2,  22.6431, 2,  35.6638, 2,  35.6529, 2,    220.8, 2,    219.5, 2,     0.49, 2,     0.01, 2,     0.00, 2,     0.09, 2,    2.000, 2,    1.198, 2,    0.389, 4, -999.000, 9,   -999.0, 9,   -999.0, 9, -999.0000,   -999.00,   -999.0, 9,   -999.0,  -999.00, 9,   -999.0,  22.6411, 24.5404,  22.6397, 2, 9, 0.12, 0.03, 0.01, 0.024,  -999.00, 9, -999.00, -999.00, 9, -999.00
49NZ20071122, P14, 18, 1, 35, X12041, 2, 20071220, 0032, -29.5733, 176.0825, 4300,     49.2, 2,  20.7108, 2,  35.7126, 2,  35.7350, 2,    228.3, 2,    231.5, 2,     0.50, 2,     0.01, 2,     0.00, 2,     0.10, 2,    2.145, 2,    1.275, 2,    0.705, 4, -999.000, 9,   -999.0, 9,   -999.0, 9, -999.0000,   -999.00,   -999.0, 9,   -999.0,  -999.00, 9,   -999.0,  20.7015, 25.1177,  20.7208, 2, 9, 0.12, 0.03, 0.01, 0.022,  -999.00, 9, -999.00, -999.00, 9, -999.00
49NZ20071122, P14, 18, 1, 34, X12016, 2, 20071220, 0032, -29.5733, 176.0825, 4300,    100.4, 2,  17.9672, 2,  35.7024, 2,  35.7019, 2,    226.2, 2,    221.2, 2,     0.75, 2,     1.30, 2,     0.13, 2,     0.24, 2,    2.307, 2,    1.353, 2,    0.242, 4, -999.000, 9,   -999.0, 9,   -999.0, 9, -999.0000,   -999.00,   -999.0, 9,   -999.0,  -999.00, 9,   -999.0,  17.9499, 25.8226,  17.9681, 2, 9, 0.12, 0.04, 0.01, 0.015,  -999.00, 9, -999.00, -999.00, 9, -999.00
49NZ20071122, P14, 18, 1, 33, X12033, 2, 20071220, 0032, -29.5733, 176.0825, 4300,    150.5, 2,  17.1130, 2,  35.6206, 2,  35.6202, 2,    213.1, 2,    208.3, 2,     1.16, 2,     4.18, 2,     0.01, 2,     0.40, 2,    2.378, 2,    1.371, 2,    0.152, 4, -999.000, 9,   -999.0, 9,   -999.0, 9, -999.0000,   -999.00,   -999.0, 9,   -999.0,  -999.00, 9,   -999.0,  17.0880, 25.9697,  17.1139, 2, 9, 0.12, 0.04, 0.01, 0.013,  -999.00, 9, -999.00, -999.00, 9, -999.00
49NZ20071122, P14, 18, 1, 32, X12038, 2, 20071220, 0032, -29.5733, 176.0825, 4300,    199.4, 2,  16.0856, 2,  35.5064, 2,  35.5067, 2,    201.8, 2,    200.5, 2,     1.79, 2,     6.34, 2,     0.01, 2,     0.54, 2,    2.450, 2,    1.395, 2,    0.105, 2, -999.000, 9,   -999.0, 9,   -999.0, 9, -999.0000,   -999.00,   -999.0, 9,   -999.0,  -999.00, 9,   -999.0,  16.0538, 26.1249,  16.0916, 2, 9, 0.12, 0.05, 0.01, 0.013,  -999.00, 9, -999.00, -999.00, 9, -999.00
49NZ20071122, P14, 18, 1, 31, X12003, 2, 20071220, 0032, -29.5733, 176.0825, 4300,    249.1, 2,  15.1147, 2,  35.3972, 2,  35.3893, 6,    198.2, 2,    197.7, 2,     2.39, 2,     8.19, 2,     0.01, 2,     0.66, 2,    2.496, 2,    1.398, 2,    0.085, 2, -999.000, 9,   -999.0, 9,   -999.0, 9, -999.0000,   -999.00,   -999.0, 9,   -999.0,  -999.00, 9,   -999.0,  15.0766, 26.2614,  15.1275, 2, 9, 0.12, 0.06, 0.01, 0.013,  -999.00, 9, -999.00, -999.00, 9, -999.00
49NZ20071122, P14, 18, 1, 30, X12008, 2, 20071220, 0032, -29.5733, 176.0825, 4300,    300.2, 2,  13.9835, 2,  35.2443, 2,  35.2460, 2,    195.3, 2,    195.4, 2,     2.97, 2,    10.11, 2,     0.00, 2,     0.78, 2,    2.439, 2,    1.334, 2,    0.075, 2, -999.000, 9,   -999.0, 9,   -999.0, 9, -999.0000,   -999.00,   -999.0, 9,   -999.0,  -999.00, 9,   -999.0,  13.9399, 26.3886,  13.9831, 2, 9, 0.13, 0.06, 0.01, 0.013,  -999.00, 9, -999.00, -999.00, 9, -999.00
49NZ20071122, P14, 18, 1, 29, X12035, 2, 20071220, 0032, -29.5733, 176.0825, 4300,    398.5, 2,  11.9378, 2,  34.9885, 2,  34.9864, 2,    197.0, 2,    197.0, 2,     4.37, 2,    13.90, 2,     0.00, 2,     1.03, 2,    2.485, 2,    1.319, 2,    0.075, 2, -999.000, 9,   -999.0, 9,   -999.0, 9, -999.0000,   -999.00,   -999.0, 9,   -999.0,  -999.00, 9,   -999.0,  11.8856, 26.6020,  11.9354, 2, 9, 0.13, 0.07, 0.01, 0.013,  -999.00, 9, -999.00, -999.00, 9, -999.00
49NZ20071122, P14, 18, 1, 28, X12034, 2, 20071220, 0032, -29.5733, 176.0825, 4300,    500.2, 2,   9.6837, 2,  34.7006, 2,  34.7020, 6,    202.2, 2,    202.1, 2,     6.06, 2,    18.27, 2,     0.00, 2,     1.31, 2,    2.343, 2,    1.182, 2,    0.082, 2, -999.000, 9,   -999.0, 9,   -999.0, 9, -999.0000,   -999.00,   -999.0, 9,   -999.0,  -999.00, 9,   -999.0,   9.6261, 26.7812,   9.6859, 2, 9, 0.13, 0.08, 0.01, 0.014,  -999.00, 9, -999.00, -999.00, 9, -999.00
49NZ20071122, P14, 18, 1, 27, X12049, 2, 20071220, 0032, -29.5733, 176.0825, 4300,    599.0, 2,   8.4012, 2,  34.5583, 2,  34.5526, 2,    211.2, 2,    211.8, 2,     7.53, 2,    20.82, 2,     0.00, 2,     1.47, 2,    2.289, 2,    1.124, 2,    0.086, 2, -999.000, 9,   -999.0, 9,   -999.0, 9, -999.0000,   -999.00,   -999.0, 9,   -999.0,  -999.00, 9,   -999.0,   8.3376, 26.8759,   8.3958, 2, 9, 0.14, 0.09, 0.01, 0.014,  -999.00, 9, -999.00, -999.00, 9, -999.00
49NZ20071122, P14, 18, 1, 26, X12032, 2, 20071220, 0032, -29.5733, 176.0825, 4300,    699.9, 2,   7.3787, 2,  34.4721, 2,  34.4704, 2,    214.5, 2,    214.8, 2,    10.56, 2,    23.16, 2,     0.00, 2,     1.63, 2,    1.893, 2,    0.920, 2,    0.070, 2, -999.000, 9,   -999.0, 9,   -999.0, 9, -999.0000,   -999.00,   -999.0, 9,   -999.0,  -999.00, 9,   -999.0,   7.3094, 26.9597,   7.3791, 2, 9, 0.14, 0.10, 0.01, 0.014,  -999.00, 9, -999.00, -999.00, 9, -999.00
49NZ20071122, P14, 18, 1, 25, X12043, 2, 20071220, 0032, -29.5733, 176.0825, 4300,    799.0, 2,   6.6768, 2,  34.4209, 2,  34.4190, 2,    214.6, 2,    213.6, 2,    14.20, 2,    25.06, 2,     0.00, 2,     1.75, 2,    1.460, 2,    0.709, 2,    0.055, 2, -999.000, 9,   -999.0, 9,   -999.0, 9, -999.0000,   -999.00,   -999.0, 9,   -999.0,  -999.00, 9,   -999.0,   6.6014, 27.0167,   6.6713, 2, 9, 0.15, 0.10, 0.01, 0.014,  -999.00, 9, -999.00, -999.00, 9, -999.00
49NZ20071122, P14, 18, 1, 24, X12030, 2, 20071220, 0032, -29.5733, 176.0825, 4300,    900.3, 2,   6.0952, 2,  34.3998, 2,  34.3995, 2,    209.1, 2,    208.2, 2,    18.98, 2,    26.71, 2,     0.00, 2,     1.86, 2,    1.063, 2,    0.520, 2,    0.034, 2, -999.000, 9,   -999.0, 9,   -999.0, 9, -999.0000,   -999.00,   -999.0, 9,   -999.0,  -999.00, 9,   -999.0,   6.0135, 27.0767,   6.0953, 2, 9, 0.16, 0.11, 0.01, 0.015,  -999.00, 9, -999.00, -999.00, 9, -999.00
49NZ20071122, P14, 18, 1, 23, X12027, 2, 20071220, 0032, -29.5733, 176.0825, 4300,   1000.9, 2,   5.4077, 2,  34.3948, 2,  34.3945, 6,    199.7, 2,    198.2, 2,    27.30, 2,    28.85, 2,     0.00, 2,     2.01, 2,    0.656, 2,    0.322, 2,    0.023, 2, -999.000, 9,   -999.0, 9,   -999.0, 9, -999.0000,   -999.00,   -999.0, 9,   -999.0,  -999.00, 9,   -999.0,   5.3214, 27.1578,   5.4065, 2, 9, 0.18, 0.11, 0.01, 0.015,  -999.00, 9, -999.00, -999.00, 9, -999.00
49NZ20071122, P14, 18, 1, 22, X12028, 2, 20071220, 0032, -29.5733, 176.0825, 4300,   1199.3, 2,   4.2073, 2,  34.4377, 2,  34.4383, 2,    180.0, 2,    179.4, 2,    49.34, 2,    32.17, 2,     0.00, 2,     2.25, 2,    0.228, 2,    0.117, 2,    0.013, 2, -999.000, 9,   -999.0, 9,   -999.0, 9, -999.0000,   -999.00,   -999.0, 9,   -999.0,  -999.00, 9,   -999.0,   4.1130, 27.3271,   4.2076, 2, 9, 0.23, 0.12, 0.01, 0.016,  -999.00, 9, -999.00, -999.00, 9, -999.00
49NZ20071122, P14, 18, 1, 21, X12009, 2, 20071220, 0032, -29.5733, 176.0825, 4300,   1400.0, 2,   3.2818, 2,  34.5260, 2,  34.5268, 2,    164.3, 2,    164.6, 2,    75.44, 2,    33.88, 2,     0.00, 2,     2.38, 2,    0.080, 2,    0.040, 2,    0.004, 2, -999.000, 9,   -999.0, 9,   -999.0, 9, -999.0000,   -999.00,   -999.0, 9,   -999.0,  -999.00, 9,   -999.0,   3.1793, 27.4901,   3.2820, 2, 9, 0.28, 0.13, 0.01, 0.016,  -999.00, 9, -999.00, -999.00, 9, -999.00
49NZ20071122, P14, 18, 1, 20, X12026, 2, 20071220, 0032, -29.5733, 176.0825, 4300,   1599.0, 2,   2.8546, 2,  34.5847, 2,  34.5854, 2,    157.2, 2,    157.5, 2,    91.85, 2,    34.54, 2,     0.00, 2,     2.43, 2,    0.047, 2,    0.023, 2,    0.000, 2, -999.000, 9,   -999.0, 9,   -999.0, 9, -999.0000,   -999.00,   -999.0, 9,   -999.0,  -999.00, 9,   -999.0,   2.7402, 27.5770,   2.8547, 2, 9, 0.32, 0.13, 0.01, 0.016,  -999.00, 9, -999.00, -999.00, 9, -999.00
49NZ20071122, P14, 18, 1, 19, X12025, 2, 20071220, 0032, -29.5733, 176.0825, 4300,   1799.5, 2,   2.5222, 2,  34.6151, 2,  34.6149, 2,    154.0, 2,    154.2, 2,   102.06, 2,    34.91, 2,     0.00, 2,     2.47, 2,    0.014, 2,    0.006, 2,    0.000, 2, -999.000, 9,   -999.0, 9,   -999.0, 9, -999.0000,   -999.00,   -999.0, 9,   -999.0,  -999.00, 9,   -999.0,   2.3951, 27.6310,   2.5222, 2, 9, 0.34, 0.13, 0.01, 0.016,  -999.00, 9, -999.00, -999.00, 9, -999.00
49NZ20071122, P14, 18, 1, 18, X12024, 5, 20071220, 0032, -29.5733, 176.0825, 4300,   2000.4, 2,   2.2911, 2,  34.6355, 2,  34.6350, 2,    152.4, 2,    152.6, 2,   108.81, 2,    35.24, 2,     0.00, 2,     2.48, 2,    0.003, 2,    0.002, 2,    0.000, 2, -999.000, 9,   -999.0, 9,   -999.0, 9, -999.0000,   -999.00,   -999.0, 9,   -999.0,  -999.00, 9,   -999.0,   2.1502, 27.6676,   2.2911, 2, 9, 0.36, 0.13, 0.01, 0.016,  -999.00, 9, -999.00, -999.00, 9, -999.00
49NZ20071122, P14, 18, 1, 17, X12023, 2, 20071220, 0032, -29.5733, 176.0825, 4300,   2199.8, 2,   2.1235, 2,  34.6507, 2,  34.6499, 6,    152.2, 2,    152.4, 2,   113.33, 2,    35.39, 2,     0.00, 2,     2.49, 2,    0.010, 2,    0.006, 2,    0.000, 2, -999.000, 9,   -999.0, 9,   -999.0, 9, -999.0000,   -999.00,   -999.0, 9,   -999.0,  -999.00, 9,   -999.0,   1.9679, 27.6944,   2.1234, 2, 9, 0.37, 0.13, 0.01, 0.016,  -999.00, 9, -999.00, -999.00, 9, -999.00
49NZ20071122, P14, 18, 1, 16, X12022, 2, 20071220, 0032, -29.5733, 176.0825, 4300,   2400.5, 2,   2.0190, 2,  34.6606, 2,  34.6602, 2,    152.5, 2,    152.8, 2,   116.34, 2,    35.42, 2,     0.00, 2,     2.49, 2, -999.000, 9, -999.000, 9, -999.000, 9, -999.000, 9,   -999.0, 9,   -999.0, 9, -999.0000,   -999.00,   -999.0, 9,   -999.0,  -999.00, 9,   -999.0,   1.8473, 27.7117,   2.0190, 2, 9, 0.37, 0.13, 0.01, 0.016,  -999.00, 9, -999.00, -999.00, 9, -999.00
49NZ20071122, P14, 18, 1, 15, X12021, 2, 20071220, 0032, -29.5733, 176.0825, 4300,   2601.2, 2,   1.9405, 2,  34.6682, 2,  34.6680, 2,    153.0, 2,    153.4, 2,   118.55, 2,    35.35, 2,     0.00, 2,     2.49, 2,    0.000, 2,    0.000, 2,    0.000, 2, -999.000, 9,   -999.0, 9,   -999.0, 9, -999.0000,   -999.00,   -999.0, 9,   -999.0,  -999.00, 9,   -999.0,   1.7520, 27.7251,   1.9405, 2, 9, 0.38, 0.13, 0.01, 0.016,  -999.00, 9, -999.00, -999.00, 9, -999.00
49NZ20071122, P14, 18, 1, 14, X12020, 2, 20071220, 0032, -29.5733, 176.0825, 4300,   2801.8, 2,   1.8888, 2,  34.6736, 2,  34.6727, 2,    153.5, 2,    153.6, 2,   120.11, 2,    35.41, 2,     0.00, 2,     2.49, 2, -999.000, 9, -999.000, 9, -999.000, 9, -999.000, 9,   -999.0, 9,   -999.0, 9, -999.0000,   -999.00,   -999.0, 9,   -999.0,  -999.00, 9,   -999.0,   1.6825, 27.7347,   1.8888, 2, 9, 0.38, 0.13, 0.01, 0.016,  -999.00, 9, -999.00, -999.00, 9, -999.00
49NZ20071122, P14, 18, 1, 13, X12019, 2, 20071220, 0032, -29.5733, 176.0825, 4300,   3000.6, 2,   1.8577, 2,  34.6774, 2,  34.6768, 2,    153.8, 2,    153.9, 2,   121.15, 2,    35.40, 2,     0.00, 2,     2.49, 2,    0.000, 2,    0.000, 2,    0.000, 2, -999.000, 9,   -999.0, 9,   -999.0, 9, -999.0000,   -999.00,   -999.0, 9,   -999.0,  -999.00, 9,   -999.0,   1.6330, 27.7415,   1.8577, 2, 9, 0.39, 0.13, 0.01, 0.016,  -999.00, 9, -999.00, -999.00, 9, -999.00
49NZ20071122, P14, 18, 1, 12, X12040, 2, 20071220, 0032, -29.5733, 176.0825, 4300,   3251.4, 2,   1.8434, 2,  34.6802, 2,  34.6798, 2,    153.9, 2,    154.1, 2,   121.88, 2,    35.35, 2,     0.00, 2,     2.48, 2, -999.000, 9, -999.000, 9, -999.000, 9, -999.000, 9,   -999.0, 9,   -999.0, 9, -999.0000,   -999.00,   -999.0, 9,   -999.0,  -999.00, 9,   -999.0,   1.5941, 27.7466,   1.8434, 2, 9, 0.39, 0.13, 0.01, 0.016,  -999.00, 9, -999.00, -999.00, 9, -999.00
49NZ20071122, P14, 18, 1, 11, X12047, 2, 20071220, 0032, -29.5733, 176.0825, 4300,   3501.0, 2,   1.8509, 2,  34.6813, 2,  34.6809, 2,    154.1, 2,    154.1, 2,   122.47, 2,    35.37, 2,     0.00, 2,     2.49, 2,    0.000, 2,    0.000, 2,    0.000, 2, -999.000, 9,   -999.0, 9,   -999.0, 9, -999.0000,   -999.00,   -999.0, 9,   -999.0,  -999.00, 9,   -999.0,   1.5758, 27.7489,   1.8510, 2, 9, 0.39, 0.13, 0.01, 0.016,  -999.00, 9, -999.00, -999.00, 9, -999.00
49NZ20071122, P14, 18, 1, 10, X12012, 2, 20071220, 0032, -29.5733, 176.0825, 4300,   3750.5, 2,   1.8647, 2,  34.6819, 2,  34.6819, 2,    154.3, 2,    154.5, 2,   122.86, 2,    35.42, 2,     0.00, 2,     2.49, 2, -999.000, 9, -999.000, 9, -999.000, 9, -999.000, 9,   -999.0, 9,   -999.0, 9, -999.0000,   -999.00,   -999.0, 9,   -999.0,  -999.00, 9,   -999.0,   1.5628, 27.7503,   1.8647, 2, 9, 0.39, 0.13, 0.01, 0.016,  -999.00, 9, -999.00, -999.00, 9, -999.00
49NZ20071122, P14, 18, 1, 9, X12015, 2, 20071220, 0032, -29.5733, 176.0825, 4300,   4000.8, 2,   1.8830, 2,  34.6823, 2,  34.6822, 6,    154.8, 2,    154.9, 2,   123.31, 2,    35.45, 2,     0.00, 2,     2.49, 2,    0.001, 2,    0.000, 2,    0.000, 2, -999.000, 9,   -999.0, 9,   -999.0, 9, -999.0000,   -999.00,   -999.0, 9,   -999.0,  -999.00, 9,   -999.0,   1.5533, 27.7513,   1.8830, 2, 9, 0.39, 0.13, 0.01, 0.016,  -999.00, 9, -999.00, -999.00, 9, -999.00
49NZ20071122, P14, 18, 1, 8, X12046, 2, 20071220, 0032, -29.5733, 176.0825, 4300,   4250.9, 2,   1.9078, 2,  34.6822, 2,  34.6826, 2,    155.1, 2,    155.0, 2,   123.13, 2,    35.37, 2,     0.00, 2,     2.49, 2, -999.000, 9, -999.000, 9, -999.000, 9, -999.000, 9,   -999.0, 9,   -999.0, 9, -999.0000,   -999.00,   -999.0, 9,   -999.0,  -999.00, 9,   -999.0,   1.5491, 27.7515,   1.9078, 2, 9, 0.39, 0.13, 0.01, 0.016,  -999.00, 9, -999.00, -999.00, 9, -999.00
49NZ20071122, P14, 18, 1, 7, X12044, 9, 20071220, 0032, -29.5733, 176.0825, 4300,   4250.7, 2,   1.9077, 2,  34.6823, 2, -999.0000, 9,    155.1, 2,   -999.0, 9,  -999.00, 9,  -999.00, 9,  -999.00, 9,  -999.00, 9, -999.000, 9, -999.000, 9, -999.000, 9, -999.000, 9,   -999.0, 9,   -999.0, 9, -999.0000,   -999.00,   -999.0, 9,   -999.0,  -999.00, 9,   -999.0,   1.5491, 27.7516,   1.9078, 2, 9, -999.00, -999.00, -999.00, -999.000,  -999.00, 9, -999.00, -999.00, 9, -999.00
49NZ20071122, P14, 18, 1, 6, X12048, 9, 20071220, 0032, -29.5733, 176.0825, 4300,    900.0, 2,   6.0983, 2,  34.3999, 2, -999.0000, 9,    209.1, 2,   -999.0, 9,  -999.00, 9,  -999.00, 9,  -999.00, 9,  -999.00, 9, -999.000, 9, -999.000, 9, -999.000, 9, -999.000, 9,   -999.0, 9,   -999.0, 9, -999.0000,   -999.00,   -999.0, 9,   -999.0,  -999.00, 9,   -999.0,   6.0166, 27.0763,   6.0957, 2, 9, -999.00, -999.00, -999.00, -999.000,  -999.00, 9, -999.00, -999.00, 9, -999.00
49NZ20071122, P14, 18, 1, 5, X12014, 9, 20071220, 0032, -29.5733, 176.0825, 4300,     10.0, 2,  22.6542, 2,  35.6571, 2, -999.0000, 9,    220.8, 2,   -999.0, 9,  -999.00, 9,  -999.00, 9,  -999.00, 9,  -999.00, 9, -999.000, 9, -999.000, 9, -999.000, 9, -999.000, 9,   -999.0, 9,   -999.0, 9, -999.0000,   -999.00,   -999.0, 9,   -999.0,  -999.00, 9,   -999.0,  22.6522, 24.5321,  22.6593, 2, 9, -999.00, -999.00, -999.00, -999.000,  -999.00, 9, -999.00, -999.00, 9, -999.00
49NZ20071122, P14, 18, 1, 4, X12006, 9, 20071220, 0032, -29.5733, 176.0825, 4300,   1199.6, 2,   4.2094, 2,  34.4374, 2, -999.0000, 9,    180.0, 2,   -999.0, 9,  -999.00, 9,  -999.00, 9,  -999.00, 9,  -999.00, 9, -999.000, 9, -999.000, 9, -999.000, 9, -999.000, 9,   -999.0, 9,   -999.0, 9, -999.0000,   -999.00,   -999.0, 9,   -999.0,  -999.00, 9,   -999.0,   4.1151, 27.3266,   4.2095, 2, 9, -999.00, -999.00, -999.00, -999.000,  -999.00, 9, -999.00, -999.00, 9, -999.00
49NZ20071122, P14, 18, 1, 3, X12013, 9, 20071220, 0032, -29.5733, 176.0825, 4300,   3501.1, 2,   1.8509, 2,  34.6813, 2, -999.0000, 9,    154.1, 2,   -999.0, 9,  -999.00, 9,  -999.00, 9,  -999.00, 9,  -999.00, 9, -999.000, 9, -999.000, 9, -999.000, 9, -999.000, 9,   -999.0, 9,   -999.0, 9, -999.0000,   -999.00,   -999.0, 9,   -999.0,  -999.00, 9,   -999.0,   1.5758, 27.7489,   1.8509, 2, 9, -999.00, -999.00, -999.00, -999.000,  -999.00, 9, -999.00, -999.00, 9, -999.00
49NZ20071122, P14, 18, 1, 2, X12002, 9, 20071220, 0032, -29.5733, 176.0825, 4300,   1598.6, 2,   2.8495, 2,  34.5853, 2, -999.0000, 9,    157.2, 2,   -999.0, 9,  -999.00, 9,  -999.00, 9,  -999.00, 9,  -999.00, 9, -999.000, 9, -999.000, 9, -999.000, 9, -999.000, 9,   -999.0, 9,   -999.0, 9, -999.0000,   -999.00,   -999.0, 9,   -999.0,  -999.00, 9,   -999.0,   2.7352, 27.5779,   2.8504, 2, 9, -999.00, -999.00, -999.00, -999.000,  -999.00, 9, -999.00, -999.00, 9, -999.00
49NZ20071122, P14, 18, 1, 1, X12001, 2, 20071220, 0032, -29.5733, 176.0825, 4300,   4358.6, 2,   1.9202, 2,  34.6821, 2,  34.6825, 6,    155.0, 2,    154.8, 2,   123.33, 2,    35.38, 2,     0.00, 2,     2.49, 2,    0.000, 2,    0.001, 2,    0.000, 2, -999.000, 9,   -999.0, 9,   -999.0, 9, -999.0000,   -999.00,   -999.0, 9,   -999.0,  -999.00, 9,   -999.0,   1.5488, 27.7515,   1.9203, 2, 9, 0.39, 0.13, 0.01, 0.016,  -999.00, 9, -999.00, -999.00, 9, -999.00