BOTTLE,20220820CCHSIOAMB
EXPOCODE,SECT_ID,STNNBR,CASTNO,SAMPNO,BTLNBR,BTLNBR_FLAG_W,DATE,TIME,LATITUDE,LONGITUDE,DEPTH,CTDPRS,CTDPRS_FLAG_W,CTDTMP,CTDTMP_FLAG_W,CTDSAL,CTDSAL_FLAG_W,SALNTY,SALNTY_FLAG_W,CTDOXY,CTDOXY_FLAG_W,OXYGEN,OXYGEN_FLAG_W,SILCAT,SILCAT_FLAG_W,NITRAT,NITRAT_FLAG_W,NITRIT,NITRIT_FLAG_W,PHSPHT,PHSPHT_FLAG_W,CFC-11,CFC-11_FLAG_W,CFC-12,CFC-12_FLAG_W,CFC113,CFC113_FLAG_W,CCL4,CCL4_FLAG_W,TCARBN,TCARBN_FLAG_W,ALKALI,ALKALI_FLAG_W,PH_TOT,PH_TMP,DELC14,DELC14_FLAG_W,C14ERR,DELC13,DELC13_FLAG_W,C13ERR,THETA,SIG0,SBE35,SBE35_FLAG_W,PH_TOT_FLAG_W,SILUNC,NRAUNC,NRIUNC,PHPUNC,CS-137,CS-137_FLAG_W,CS137ER,PLUTO,PLUTO_FLAG_W,PLUTOER
,,,,,,,,,,,METERS,DBAR,,ITS-90,,PSS-78,,PSS-78,,UMOL/KG,,UMOL/KG,,UMOL/KG,,UMOL/KG,,UMOL/KG,,UMOL/KG,,PMOL/KG,,PMOL/KG,,PMOL/KG,,PMOL/KG,,UMOL/KG,,UMOL/KG,,,DEG C,/MILLE,,/MILLE,/MILLE,,/MILLE,DEG C,KG/M^3,ITS-90,,,UMOL/KG,UMOL/KG,UMOL/KG,UMOL/KG,DM/.1MG,,BQ/M^3,MBQ/M^3,,MBQ/M^3
49NZ20071122, P14, 6, 1, 36, X12042, 2, 20071222, 0915, -34.4658, 175.2432, 1752,     10.4, 2,  19.1179, 2,  35.3923, 2,  35.4040, 2,    241.0, 2,    239.5, 2,     0.84, 2,     0.25, 2,     0.01, 2,     0.17, 2,    2.310, 2,    1.360, 2,    0.258, 4, -999.000, 9,   -999.0, 9,   -999.0, 9, -999.0000,   -999.00,   -999.0, 9,   -999.0,  -999.00, 9,   -999.0,  19.1160, 25.2913,  19.1176, 2, 9, 0.12, 0.03, 0.01, 0.017,  -999.00, 9, -999.00, -999.00, 9, -999.00
49NZ20071122, P14, 6, 1, 35, X12041, 2, 20071222, 0915, -34.4658, 175.2432, 1752,     51.2, 2,  15.9830, 2,  35.4255, 2,  35.4268, 2,    228.6, 2,    228.6, 2,     2.33, 2,     4.14, 2,     0.31, 2,     0.43, 2,    2.432, 2,    1.398, 2,    0.210, 4, -999.000, 9,   -999.0, 9,   -999.0, 9, -999.0000,   -999.00,   -999.0, 9,   -999.0,  -999.00, 9,   -999.0,  15.9749, 26.0808,  15.9834, 2, 9, 0.12, 0.04, 0.01, 0.013,  -999.00, 9, -999.00, -999.00, 9, -999.00
49NZ20071122, P14, 6, 1, 34, X12016, 2, 20071222, 0915, -34.4658, 175.2432, 1752,    101.5, 2,  14.8288, 2,  35.3587, 2,  35.3555, 2,    212.2, 2,    212.0, 2,     3.33, 2,     7.76, 2,     0.02, 2,     0.64, 2,    2.434, 2,    1.382, 2,    0.164, 4, -999.000, 9,   -999.0, 9,   -999.0, 9, -999.0000,   -999.00,   -999.0, 9,   -999.0,  -999.00, 9,   -999.0,  14.8135, 26.2896,  14.8300, 2, 9, 0.13, 0.05, 0.01, 0.013,  -999.00, 9, -999.00, -999.00, 9, -999.00
49NZ20071122, P14, 6, 1, 33, X12033, 2, 20071222, 0915, -34.4658, 175.2432, 1752,    150.9, 2,  14.1328, 2,  35.2936, 2,  35.2940, 2,    207.0, 2,    207.6, 2,     4.02, 2,     9.25, 2,     0.01, 2,     0.73, 2,    2.344, 2,    1.313, 2,    0.135, 4, -999.000, 9,   -999.0, 9,   -999.0, 9, -999.0000,   -999.00,   -999.0, 9,   -999.0,  -999.00, 9,   -999.0,  14.1108, 26.3906,  14.1350, 2, 9, 0.13, 0.06, 0.01, 0.013,  -999.00, 9, -999.00, -999.00, 9, -999.00
49NZ20071122, P14, 6, 1, 32, X12038, 2, 20071222, 0915, -34.4658, 175.2432, 1752,    198.9, 2,  13.4177, 2,  35.2137, 2,  35.2121, 2,    203.3, 2,    203.2, 2,     4.82, 2,    11.03, 2,     0.00, 2,     0.84, 2,    2.353, 2,    1.316, 2,    0.124, 4, -999.000, 9,   -999.0, 9,   -999.0, 9, -999.0000,   -999.00,   -999.0, 9,   -999.0,  -999.00, 9,   -999.0,  13.3897, 26.4793,  13.4165, 2, 9, 0.13, 0.06, 0.01, 0.013,  -999.00, 9, -999.00, -999.00, 9, -999.00
49NZ20071122, P14, 6, 1, 31, X12003, 2, 20071222, 0915, -34.4658, 175.2432, 1752,    249.6, 2,  12.9203, 2,  35.1588, 2,  35.1573, 6,    200.6, 2,    201.0, 2,     5.51, 2,    12.20, 2,     0.00, 2,     0.91, 2,    2.330, 2,    1.286, 2,    0.110, 4, -999.000, 9,   -999.0, 9,   -999.0, 9, -999.0000,   -999.00,   -999.0, 9,   -999.0,  -999.00, 9,   -999.0,  12.8860, 26.5388,  12.9205, 2, 9, 0.13, 0.07, 0.01, 0.013,  -999.00, 9, -999.00, -999.00, 9, -999.00
49NZ20071122, P14, 6, 1, 30, X12008, 2, 20071222, 0915, -34.4658, 175.2432, 1752,    300.6, 2,  11.9432, 2,  35.0492, 2,  35.0498, 2,    196.5, 2,    196.9, 2,     6.04, 2,    14.36, 2,     0.00, 2,     1.05, 2,    2.337, 2,    1.267, 2,    0.096, 2, -999.000, 9,   -999.0, 9,   -999.0, 9, -999.0000,   -999.00,   -999.0, 9,   -999.0,  -999.00, 9,   -999.0,  11.9039, 26.6457,  11.9425, 2, 9, 0.13, 0.07, 0.01, 0.013,  -999.00, 9, -999.00, -999.00, 9, -999.00
49NZ20071122, P14, 6, 1, 29, X12035, 2, 20071222, 0915, -34.4658, 175.2432, 1752,    400.1, 2,  10.2786, 2,  34.8386, 2,  34.8362, 2,    197.5, 2,    196.3, 2,     8.23, 2,    18.01, 2,     0.00, 2,     1.28, 2,    2.221, 2,    1.167, 2,    0.076, 2, -999.000, 9,   -999.0, 9,   -999.0, 9, -999.0000,   -999.00,   -999.0, 9,   -999.0,  -999.00, 9,   -999.0,  10.2310, 26.7862,  10.2849, 2, 9, 0.14, 0.08, 0.01, 0.014,  -999.00, 9, -999.00, -999.00, 9, -999.00
49NZ20071122, P14, 6, 1, 28, X12034, 2, 20071222, 0915, -34.4658, 175.2432, 1752,    501.0, 2,   9.1981, 2,  34.7162, 2,  34.7158, 6,    197.5, 2,    198.2, 2,    10.85, 2,    20.26, 2,     0.00, 2,     1.43, 2,    1.999, 2,    1.026, 2,    0.082, 2, -999.000, 9,   -999.0, 9,   -999.0, 9, -999.0000,   -999.00,   -999.0, 9,   -999.0,  -999.00, 9,   -999.0,   9.1422, 26.8730,   9.1994, 2, 9, 0.14, 0.09, 0.01, 0.014,  -999.00, 9, -999.00, -999.00, 9, -999.00
49NZ20071122, P14, 6, 1, 27, X12049, 2, 20071222, 0915, -34.4658, 175.2432, 1752,    599.6, 2,   8.3704, 2,  34.6310, 2,  34.6276, 2,    198.3, 2,    198.9, 2,    13.44, 2,    22.16, 2,     0.00, 2,     1.55, 2,    1.766, 2,    0.901, 2,    0.065, 2, -999.000, 9,   -999.0, 9,   -999.0, 9, -999.0000,   -999.00,   -999.0, 9,   -999.0,  -999.00, 9,   -999.0,   8.3068, 26.9377,   8.3704, 2, 9, 0.15, 0.09, 0.01, 0.014,  -999.00, 9, -999.00, -999.00, 9, -999.00
49NZ20071122, P14, 6, 1, 26, X12032, 2, 20071222, 0915, -34.4658, 175.2432, 1752,    699.7, 2,   7.5773, 2,  34.5498, 2,  34.5483, 2,    200.7, 2,    200.4, 2,    15.79, 2,    23.82, 2,     0.00, 2,     1.66, 2,    1.547, 2,    0.776, 2,    0.055, 2, -999.000, 9,   -999.0, 9,   -999.0, 9, -999.0000,   -999.00,   -999.0, 9,   -999.0,  -999.00, 9,   -999.0,   7.5069, 26.9925,   7.5779, 2, 9, 0.15, 0.10, 0.01, 0.014,  -999.00, 9, -999.00, -999.00, 9, -999.00
49NZ20071122, P14, 6, 1, 25, X12043, 2, 20071222, 0915, -34.4658, 175.2432, 1752,    800.1, 2,   6.9233, 2,  34.5155, 2,  34.5158, 2,    195.0, 2,    196.1, 2,    21.31, 2,    25.56, 2,     0.00, 2,     1.78, 2,    1.216, 2,    0.608, 2,    0.039, 2, -999.000, 9,   -999.0, 9,   -999.0, 9, -999.0000,   -999.00,   -999.0, 9,   -999.0,  -999.00, 9,   -999.0,   6.8462, 27.0583,   6.9247, 2, 9, 0.17, 0.10, 0.01, 0.015,  -999.00, 9, -999.00, -999.00, 9, -999.00
49NZ20071122, P14, 6, 1, 24, X12030, 2, 20071222, 0915, -34.4658, 175.2432, 1752,    899.1, 2,   6.1424, 2,  34.4789, 2,  34.4782, 2,    191.8, 2,    192.2, 2,    27.95, 2,    27.49, 2,    -0.01, 2,     1.91, 2,    0.891, 2,    0.453, 2,    0.023, 2, -999.000, 9,   -999.0, 9,   -999.0, 9, -999.0000,   -999.00,   -999.0, 9,   -999.0,  -999.00, 9,   -999.0,   6.0604, 27.1332,   6.1428, 2, 9, 0.18, 0.11, 0.01, 0.015,  -999.00, 9, -999.00, -999.00, 9, -999.00
49NZ20071122, P14, 6, 1, 23, X12027, 2, 20071222, 0915, -34.4658, 175.2432, 1752,   1000.2, 2,   5.6681, 2,  34.4758, 2,  34.4766, 6,    187.5, 2,    186.9, 2,    34.95, 2,    28.73, 2,    -0.01, 2,     2.00, 2,    0.696, 2,    0.353, 2,    0.020, 2, -999.000, 9,   -999.0, 9,   -999.0, 9, -999.0000,   -999.00,   -999.0, 9,   -999.0,  -999.00, 9,   -999.0,   5.5798, 27.1908,   5.6683, 2, 9, 0.20, 0.11, 0.01, 0.015,  -999.00, 9, -999.00, -999.00, 9, -999.00
49NZ20071122, P14, 6, 1, 22, X12028, 2, 20071222, 0915, -34.4658, 175.2432, 1752,   1201.5, 2,   4.3774, 2,  34.4722, 2,  34.4750, 2,    178.3, 2,    176.9, 2,    52.21, 2,    31.69, 2,    -0.01, 2,     2.21, 2,    0.313, 2,    0.159, 2,    0.009, 2, -999.000, 9,   -999.0, 9,   -999.0, 9, -999.0000,   -999.00,   -999.0, 9,   -999.0,  -999.00, 9,   -999.0,   4.2813, 27.3367,   4.3787, 2, 9, 0.23, 0.12, 0.01, 0.016,  -999.00, 9, -999.00, -999.00, 9, -999.00
49NZ20071122, P14, 6, 1, 21, X12009, 2, 20071222, 0915, -34.4658, 175.2432, 1752,   1399.9, 2,   3.6680, 2,  34.5447, 2,  34.5447, 6,    165.7, 2,    165.3, 2,    72.89, 2,    32.98, 2,    -0.01, 2,     2.31, 2,    0.195, 2,    0.098, 2,    0.008, 2, -999.000, 9,   -999.0, 9,   -999.0, 9, -999.0000,   -999.00,   -999.0, 9,   -999.0,  -999.00, 9,   -999.0,   3.5614, 27.4683,   3.6668, 2, 9, 0.28, 0.13, 0.01, 0.016,  -999.00, 9, -999.00, -999.00, 9, -999.00
49NZ20071122, P14, 6, 1, 20, X12026, 2, 20071222, 0915, -34.4658, 175.2432, 1752,   1601.0, 2,   2.9455, 2,  34.5885, 2,  34.5905, 6,    158.9, 2,    158.8, 2,    90.97, 2,    34.24, 2,     0.00, 2,     2.40, 2,    0.085, 2,    0.043, 2,    0.008, 2, -999.000, 9,   -999.0, 9,   -999.0, 9, -999.0000,   -999.00,   -999.0, 9,   -999.0,  -999.00, 9,   -999.0,   2.8298, 27.5720,   2.9462, 2, 9, 0.32, 0.13, 0.01, 0.016,  -999.00, 9, -999.00, -999.00, 9, -999.00
49NZ20071122, P14, 6, 1, 19, X12025, 9, 20071222, 0915, -34.4658, 175.2432, 1752,   1600.6, 2,   2.9493, 2,  34.5880, 2, -999.0000, 9,    158.8, 2,   -999.0, 9,  -999.00, 9,  -999.00, 9,  -999.00, 9,  -999.00, 9, -999.000, 9, -999.000, 9, -999.000, 9, -999.000, 9,   -999.0, 9,   -999.0, 9, -999.0000,   -999.00,   -999.0, 9,   -999.0,  -999.00, 9,   -999.0,   2.8336, 27.5713,   2.9492, 2, 9, -999.00, -999.00, -999.00, -999.000,  -999.00, 9, -999.00, -999.00, 9, -999.00
49NZ20071122, P14, 6, 1, 18, X12024, 9, 20071222, 0915, -34.4658, 175.2432, 1752,     10.3, 2,  19.0965, 2,  35.3912, 2, -999.0000, 9,    240.9, 2,   -999.0, 9,  -999.00, 9,  -999.00, 9,  -999.00, 9,  -999.00, 9, -999.000, 9, -999.000, 9, -999.000, 9, -999.000, 9,   -999.0, 9,   -999.0, 9, -999.0000,   -999.00,   -999.0, 9,   -999.0,  -999.00, 9,   -999.0,  19.0947, 25.2960,  19.0875, 2, 9, -999.00, -999.00, -999.00, -999.000,  -999.00, 9, -999.00, -999.00, 9, -999.00
49NZ20071122, P14, 6, 1, 17, X12023, 9, 20071222, 0915, -34.4658, 175.2432, 1752,     50.9, 2,  15.9863, 2,  35.4256, 2, -999.0000, 9,    228.7, 2,   -999.0, 9,  -999.00, 9,  -999.00, 9,  -999.00, 9,  -999.00, 9, -999.000, 9, -999.000, 9, -999.000, 9, -999.000, 9,   -999.0, 9,   -999.0, 9, -999.0000,   -999.00,   -999.0, 9,   -999.0,  -999.00, 9,   -999.0,  15.9783, 26.0801,  15.9695, 2, 9, -999.00, -999.00, -999.00, -999.000,  -999.00, 9, -999.00, -999.00, 9, -999.00
49NZ20071122, P14, 6, 1, 16, X12022, 9, 20071222, 0915, -34.4658, 175.2432, 1752,    101.5, 2,  14.8292, 2,  35.3584, 2, -999.0000, 9,    212.2, 2,   -999.0, 9,  -999.00, 9,  -999.00, 9,  -999.00, 9,  -999.00, 9, -999.000, 9, -999.000, 9, -999.000, 9, -999.000, 9,   -999.0, 9,   -999.0, 9, -999.0000,   -999.00,   -999.0, 9,   -999.0,  -999.00, 9,   -999.0,  14.8139, 26.2893,  14.8299, 2, 9, -999.00, -999.00, -999.00, -999.000,  -999.00, 9, -999.00, -999.00, 9, -999.00
49NZ20071122, P14, 6, 1, 15, X12021, 9, 20071222, 0915, -34.4658, 175.2432, 1752,    151.0, 2,  14.1338, 2,  35.2936, 2, -999.0000, 9,    207.0, 2,   -999.0, 9,  -999.00, 9,  -999.00, 9,  -999.00, 9,  -999.00, 9, -999.000, 9, -999.000, 9, -999.000, 9, -999.000, 9,   -999.0, 9,   -999.0, 9, -999.0000,   -999.00,   -999.0, 9,   -999.0,  -999.00, 9,   -999.0,  14.1118, 26.3904,  14.1366, 2, 9, -999.00, -999.00, -999.00, -999.000,  -999.00, 9, -999.00, -999.00, 9, -999.00
49NZ20071122, P14, 6, 1, 14, X12020, 9, 20071222, 0915, -34.4658, 175.2432, 1752,    198.9, 2,  13.3226, 2,  35.2065, 2, -999.0000, 9,    203.5, 2,   -999.0, 9,  -999.00, 9,  -999.00, 9,  -999.00, 9,  -999.00, 9, -999.000, 9, -999.000, 9, -999.000, 9, -999.000, 9,   -999.0, 9,   -999.0, 9, -999.0000,   -999.00,   -999.0, 9,   -999.0,  -999.00, 9,   -999.0,  13.2947, 26.4931,  13.3100, 2, 9, -999.00, -999.00, -999.00, -999.000,  -999.00, 9, -999.00, -999.00, 9, -999.00
49NZ20071122, P14, 6, 1, 13, X12019, 9, 20071222, 0915, -34.4658, 175.2432, 1752,    249.1, 2,  12.9282, 2,  35.1589, 2, -999.0000, 9,    200.6, 2,   -999.0, 9,  -999.00, 9,  -999.00, 9,  -999.00, 9,  -999.00, 9, -999.000, 9, -999.000, 9, -999.000, 9, -999.000, 9,   -999.0, 9,   -999.0, 9, -999.0000,   -999.00,   -999.0, 9,   -999.0,  -999.00, 9,   -999.0,  12.8939, 26.5373,  12.9292, 2, 9, -999.00, -999.00, -999.00, -999.000,  -999.00, 9, -999.00, -999.00, 9, -999.00
49NZ20071122, P14, 6, 1, 12, X12040, 9, 20071222, 0915, -34.4658, 175.2432, 1752,    300.0, 2,  11.9507, 2,  35.0498, 2, -999.0000, 9,    196.4, 2,   -999.0, 9,  -999.00, 9,  -999.00, 9,  -999.00, 9,  -999.00, 9, -999.000, 9, -999.000, 9, -999.000, 9, -999.000, 9,   -999.0, 9,   -999.0, 9, -999.0000,   -999.00,   -999.0, 9,   -999.0,  -999.00, 9,   -999.0,  11.9115, 26.6447,  11.9516, 2, 9, -999.00, -999.00, -999.00, -999.000,  -999.00, 9, -999.00, -999.00, 9, -999.00
49NZ20071122, P14, 6, 1, 11, X12047, 9, 20071222, 0915, -34.4658, 175.2432, 1752,    400.5, 2,  10.2958, 2,  34.8395, 2, -999.0000, 9,    197.4, 2,   -999.0, 9,  -999.00, 9,  -999.00, 9,  -999.00, 9,  -999.00, 9, -999.000, 9, -999.000, 9, -999.000, 9, -999.000, 9,   -999.0, 9,   -999.0, 9, -999.0000,   -999.00,   -999.0, 9,   -999.0,  -999.00, 9,   -999.0,  10.2481, 26.7839,  10.2965, 2, 9, -999.00, -999.00, -999.00, -999.000,  -999.00, 9, -999.00, -999.00, 9, -999.00
49NZ20071122, P14, 6, 1, 10, X12012, 9, 20071222, 0915, -34.4658, 175.2432, 1752,    499.0, 2,   9.2074, 2,  34.7171, 2, -999.0000, 9,    197.6, 2,   -999.0, 9,  -999.00, 9,  -999.00, 9,  -999.00, 9,  -999.00, 9, -999.000, 9, -999.000, 9, -999.000, 9, -999.000, 9,   -999.0, 9,   -999.0, 9, -999.0000,   -999.00,   -999.0, 9,   -999.0,  -999.00, 9,   -999.0,   9.1517, 26.8721,   9.2011, 2, 9, -999.00, -999.00, -999.00, -999.000,  -999.00, 9, -999.00, -999.00, 9, -999.00
49NZ20071122, P14, 6, 1, 9, X12015, 9, 20071222, 0915, -34.4658, 175.2432, 1752,    599.3, 2,   8.3770, 2,  34.6313, 2, -999.0000, 9,    198.3, 2,   -999.0, 9,  -999.00, 9,  -999.00, 9,  -999.00, 9,  -999.00, 9, -999.000, 9, -999.000, 9, -999.000, 9, -999.000, 9,   -999.0, 9,   -999.0, 9, -999.0000,   -999.00,   -999.0, 9,   -999.0,  -999.00, 9,   -999.0,   8.3134, 26.9369,   8.3781, 2, 9, -999.00, -999.00, -999.00, -999.000,  -999.00, 9, -999.00, -999.00, 9, -999.00
49NZ20071122, P14, 6, 1, 8, X12046, 9, 20071222, 0915, -34.4658, 175.2432, 1752,    699.1, 2,   7.5769, 2,  34.5495, 2, -999.0000, 9,    200.7, 2,   -999.0, 9,  -999.00, 9,  -999.00, 9,  -999.00, 9,  -999.00, 9, -999.000, 9, -999.000, 9, -999.000, 9, -999.000, 9,   -999.0, 9,   -999.0, 9, -999.0000,   -999.00,   -999.0, 9,   -999.0,  -999.00, 9,   -999.0,   7.5065, 26.9923,   7.5764, 2, 9, -999.00, -999.00, -999.00, -999.000,  -999.00, 9, -999.00, -999.00, 9, -999.00
49NZ20071122, P14, 6, 1, 7, X12044, 9, 20071222, 0915, -34.4658, 175.2432, 1752,    798.2, 2,   6.9258, 2,  34.5150, 2, -999.0000, 9,    195.1, 2,   -999.0, 9,  -999.00, 9,  -999.00, 9,  -999.00, 9,  -999.00, 9, -999.000, 9, -999.000, 9, -999.000, 9, -999.000, 9,   -999.0, 9,   -999.0, 9, -999.0000,   -999.00,   -999.0, 9,   -999.0,  -999.00, 9,   -999.0,   6.8488, 27.0575,   6.9249, 2, 9, -999.00, -999.00, -999.00, -999.000,  -999.00, 9, -999.00, -999.00, 9, -999.00
49NZ20071122, P14, 6, 1, 6, X12048, 9, 20071222, 0915, -34.4658, 175.2432, 1752,    898.7, 2,   6.1413, 2,  34.4789, 2, -999.0000, 9,    191.8, 2,   -999.0, 9,  -999.00, 9,  -999.00, 9,  -999.00, 9,  -999.00, 9, -999.000, 9, -999.000, 9, -999.000, 9, -999.000, 9,   -999.0, 9,   -999.0, 9, -999.0000,   -999.00,   -999.0, 9,   -999.0,  -999.00, 9,   -999.0,   6.0594, 27.1333,   6.1416, 2, 9, -999.00, -999.00, -999.00, -999.000,  -999.00, 9, -999.00, -999.00, 9, -999.00
49NZ20071122, P14, 6, 1, 5, X12014, 9, 20071222, 0915, -34.4658, 175.2432, 1752,   1000.3, 2,   5.6657, 2,  34.4759, 2, -999.0000, 9,    187.5, 2,   -999.0, 9,  -999.00, 9,  -999.00, 9,  -999.00, 9,  -999.00, 9, -999.000, 9, -999.000, 9, -999.000, 9, -999.000, 9,   -999.0, 9,   -999.0, 9, -999.0000,   -999.00,   -999.0, 9,   -999.0,  -999.00, 9,   -999.0,   5.5774, 27.1912,   5.6666, 2, 9, -999.00, -999.00, -999.00, -999.000,  -999.00, 9, -999.00, -999.00, 9, -999.00
49NZ20071122, P14, 6, 1, 4, X12006, 9, 20071222, 0915, -34.4658, 175.2432, 1752,   1201.8, 2,   4.3827, 2,  34.4699, 2, -999.0000, 9,    178.3, 2,   -999.0, 9,  -999.00, 9,  -999.00, 9,  -999.00, 9,  -999.00, 9, -999.000, 9, -999.000, 9, -999.000, 9, -999.000, 9,   -999.0, 9,   -999.0, 9, -999.0000,   -999.00,   -999.0, 9,   -999.0,  -999.00, 9,   -999.0,   4.2865, 27.3343,   4.3825, 2, 9, -999.00, -999.00, -999.00, -999.000,  -999.00, 9, -999.00, -999.00, 9, -999.00
49NZ20071122, P14, 6, 1, 3, X12013, 9, 20071222, 0915, -34.4658, 175.2432, 1752,   1399.4, 2,   3.6629, 2,  34.5450, 2, -999.0000, 9,    165.7, 2,   -999.0, 9,  -999.00, 9,  -999.00, 9,  -999.00, 9,  -999.00, 9, -999.000, 9, -999.000, 9, -999.000, 9, -999.000, 9,   -999.0, 9,   -999.0, 9, -999.0000,   -999.00,   -999.0, 9,   -999.0,  -999.00, 9,   -999.0,   3.5564, 27.4690,   3.6637, 2, 9, -999.00, -999.00, -999.00, -999.000,  -999.00, 9, -999.00, -999.00, 9, -999.00
49NZ20071122, P14, 6, 1, 2, X12002, 9, 20071222, 0915, -34.4658, 175.2432, 1752,   1600.9, 2,   2.9460, 2,  34.5884, 2, -999.0000, 9,    158.9, 2,   -999.0, 9,  -999.00, 9,  -999.00, 9,  -999.00, 9,  -999.00, 9, -999.000, 9, -999.000, 9, -999.000, 9, -999.000, 9,   -999.0, 9,   -999.0, 9, -999.0000,   -999.00,   -999.0, 9,   -999.0,  -999.00, 9,   -999.0,   2.8303, 27.5719,   2.9457, 2, 9, -999.00, -999.00, -999.00, -999.000,  -999.00, 9, -999.00, -999.00, 9, -999.00
49NZ20071122, P14, 6, 1, 1, X12001, 2, 20071222, 0915, -34.4658, 175.2432, 1752,   1754.8, 2,   2.6415, 2,  34.6121, 2,  34.6132, 6,    156.2, 2,    156.3, 2,    99.15, 2,    34.58, 2,     0.00, 2,     2.43, 2,    0.056, 2,    0.030, 2,    0.005, 2, -999.000, 9,   -999.0, 9,   -999.0, 9, -999.0000,   -999.00,   -999.0, 9,   -999.0,  -999.00, 9,   -999.0,   2.5166, 27.6183,   2.6410, 2, 9, 0.34, 0.13, 0.01, 0.016,  -999.00, 9, -999.00, -999.00, 9, -999.00