BOTTLE,20220820CCHSIOAMB
EXPOCODE,SECT_ID,STNNBR,CASTNO,SAMPNO,BTLNBR,BTLNBR_FLAG_W,DATE,TIME,LATITUDE,LONGITUDE,DEPTH,CTDPRS,CTDPRS_FLAG_W,CTDTMP,CTDTMP_FLAG_W,CTDSAL,CTDSAL_FLAG_W,SALNTY,SALNTY_FLAG_W,CTDOXY,CTDOXY_FLAG_W,OXYGEN,OXYGEN_FLAG_W,SILCAT,SILCAT_FLAG_W,NITRAT,NITRAT_FLAG_W,NITRIT,NITRIT_FLAG_W,PHSPHT,PHSPHT_FLAG_W,CFC-11,CFC-11_FLAG_W,CFC-12,CFC-12_FLAG_W,CFC113,CFC113_FLAG_W,CCL4,CCL4_FLAG_W,TCARBN,TCARBN_FLAG_W,ALKALI,ALKALI_FLAG_W,PH_TOT,PH_TMP,DELC14,DELC14_FLAG_W,C14ERR,DELC13,DELC13_FLAG_W,C13ERR,THETA,SIG0,SBE35,SBE35_FLAG_W,PH_TOT_FLAG_W,SILUNC,NRAUNC,NRIUNC,PHPUNC,CS-137,CS-137_FLAG_W,CS137ER,PLUTO,PLUTO_FLAG_W,PLUTOER
,,,,,,,,,,,METERS,DBAR,,ITS-90,,PSS-78,,PSS-78,,UMOL/KG,,UMOL/KG,,UMOL/KG,,UMOL/KG,,UMOL/KG,,UMOL/KG,,PMOL/KG,,PMOL/KG,,PMOL/KG,,PMOL/KG,,UMOL/KG,,UMOL/KG,,,DEG C,/MILLE,,/MILLE,/MILLE,,/MILLE,DEG C,KG/M^3,ITS-90,,,UMOL/KG,UMOL/KG,UMOL/KG,UMOL/KG,DM/.1MG,,BQ/M^3,MBQ/M^3,,MBQ/M^3
49NZ20071122, P14, 41, 1, 36, X12042, 2, 20071215, 0723, -20.3723, 177.6367, 2975,     10.0, 2,  27.1381, 2,  34.9409, 2,  34.9700, 2,    207.4, 2,    206.7, 2,     0.73, 2,     0.06, 2,     0.00, 2,     0.05, 2,    1.589, 2,    0.983, 2,    0.404, 4, -999.000, 9,   1936.4, 2,   2293.5, 2,    8.1440,     25.00,   -999.0, 9,   -999.0,  -999.00, 9,   -999.0,  27.1358, 22.6298,  27.1308, 2, 2, 0.12, 0.03, 0.01, 0.034,  -999.00, 9, -999.00, -999.00, 9, -999.00
49NZ20071122, P14, 41, 1, 35, X12041, 2, 20071215, 0723, -20.3723, 177.6367, 2975,     50.3, 2,  25.3590, 2,  35.1852, 2,  35.1865, 2,    209.8, 2,    208.5, 2,     0.72, 2,     0.05, 2,     0.00, 2,     0.09, 2,    1.712, 2,    1.050, 2,    0.403, 4, -999.000, 9,   1965.8, 6,   2307.8, 2,    8.1194,     25.00,   -999.0, 9,   -999.0,  -999.00, 9,   -999.0,  25.3480, 23.3749,  25.3597, 2, 2, 0.12, 0.03, 0.01, 0.023,  -999.00, 9, -999.00, -999.00, 9, -999.00
49NZ20071122, P14, 41, 1, 34, X12016, 2, 20071215, 0723, -20.3723, 177.6367, 2975,    100.1, 2,  23.3175, 2,  35.5103, 2,  35.5154, 2,    187.9, 2,    188.8, 2,     0.74, 2,     1.03, 2,     0.15, 2,     0.21, 2,    1.897, 2,    1.172, 2,    0.230, 4, -999.000, 9,   2015.8, 2,   2330.2, 6,    8.0603,     25.00,   -999.0, 9,   -999.0,  -999.00, 9,   -999.0,  23.2968, 24.2345,  23.3180, 2, 2, 0.12, 0.04, 0.01, 0.016,  -999.00, 9, -999.00, -999.00, 9, -999.00
49NZ20071122, P14, 41, 1, 33, X12033, 2, 20071215, 0723, -20.3723, 177.6367, 2975,    149.7, 2,  22.0757, 2,  35.7061, 2,  35.7039, 2,    168.6, 2,    170.1, 2,     0.90, 2,     2.98, 2,     0.02, 2,     0.36, 2,    2.010, 2,    1.184, 2,    0.109, 4, -999.000, 9,   2058.4, 2,   2343.9, 2,    8.0087,     25.00,   -999.0, 9,   -999.0,  -999.00, 9,   -999.0,  22.0459, 24.7415,  22.0756, 2, 6, 0.12, 0.04, 0.01, 0.014,  -999.00, 9, -999.00, -999.00, 9, -999.00
49NZ20071122, P14, 41, 1, 32, X12038, 2, 20071215, 0723, -20.3723, 177.6367, 2975,    197.6, 2,  20.7846, 2,  35.6689, 2,  35.6671, 2,    170.2, 2,    169.8, 2,     1.03, 2,     3.92, 2,     0.01, 2,     0.41, 2,    2.118, 2,    1.225, 2,    0.055, 2, -999.000, 9,   2068.8, 2,   2341.0, 2,    7.9835,     25.00,   -999.0, 9,   -999.0,  -999.00, 9,   -999.0,  20.7469, 25.0721,  20.7840, 2, 2, 0.12, 0.04, 0.01, 0.013,  -999.00, 9, -999.00, -999.00, 9, -999.00
49NZ20071122, P14, 41, 1, 31, X12003, 2, 20071215, 0723, -20.3723, 177.6367, 2975,    250.3, 2,  19.0235, 2,  35.5737, 2,  35.5739, 6,    176.4, 2,    176.9, 2,     1.31, 2,     4.64, 2,     0.01, 2,     0.45, 2,    2.234, 2,    1.256, 2,    0.040, 2, -999.000, 9,   2076.8, 2,   2335.0, 2,    7.9597,     25.00,   -999.0, 9,   -999.0,  -999.00, 9,   -999.0,  18.9786, 25.4652,  19.0325, 2, 2, 0.12, 0.05, 0.01, 0.013,  -999.00, 9, -999.00, -999.00, 9, -999.00
49NZ20071122, P14, 41, 1, 30, X12008, 2, 20071215, 0723, -20.3723, 177.6367, 2975,    328.9, 2,  17.0998, 2,  35.5206, 2,  35.5050, 2,    187.8, 2,    189.5, 2,     1.64, 2,     5.90, 2,     0.01, 2,     0.51, 2,    2.346, 2,    1.317, 2,    0.045, 2, -999.000, 9,   2087.5, 2,   2329.3, 2,    7.9351,     25.00,   -999.0, 9,   -999.0,  -999.00, 9,   -999.0,  17.0449, 25.9032,  17.1040, 2, 2, 0.12, 0.05, 0.01, 0.013,  -999.00, 9, -999.00, -999.00, 9, -999.00
49NZ20071122, P14, 41, 1, 29, X12035, 2, 20071215, 0723, -20.3723, 177.6367, 2975,    430.6, 2,  13.5310, 2,  35.0987, 2,  35.0865, 2,    188.8, 2,    189.1, 2,     3.55, 2,    11.43, 2,     0.01, 2,     0.89, 2,    2.346, 2,    1.242, 2,    0.057, 2, -999.000, 9,   2113.0, 2,   2309.0, 2,    7.8487,     25.00,   -999.0, 9,   -999.0,  -999.00, 9,   -999.0,  13.4696, 26.3738,  13.5328, 2, 2, 0.13, 0.06, 0.01, 0.013,  -999.00, 9, -999.00, -999.00, 9, -999.00
49NZ20071122, P14, 41, 1, 28, X12034, 2, 20071215, 0723, -20.3723, 177.6367, 2975,    531.0, 2,  10.2689, 2,  34.7258, 2,  34.7087, 6,    198.2, 2,    198.7, 2,     5.81, 2,    17.40, 2,     0.01, 2,     1.26, 2,    2.243, 2,    1.125, 2,    0.061, 2, -999.000, 9,   2132.0, 2,   2293.0, 2,    7.7750,     25.00,   -999.0, 9,   -999.0,  -999.00, 9,   -999.0,  10.2054, 26.7025,  10.2715, 2, 2, 0.13, 0.08, 0.01, 0.014,  -999.00, 9, -999.00, -999.00, 9, -999.00
49NZ20071122, P14, 41, 1, 27, X12049, 2, 20071215, 0723, -20.3723, 177.6367, 2975,    632.4, 2,   7.3251, 2,  34.4389, 2,  34.4391, 2,    212.8, 2,    213.8, 2,     9.92, 2,    23.04, 2,     0.00, 2,     1.62, 2,    1.842, 2,    0.890, 2,    0.046, 2, -999.000, 9,   2146.5, 2,   2285.2, 2,    7.7231,     25.00,   -999.0, 9,   -999.0,  -999.00, 9,   -999.0,   7.2630, 26.9400,   7.3211, 2, 2, 0.14, 0.10, 0.01, 0.014,  -999.00, 9, -999.00, -999.00, 9, -999.00
49NZ20071122, P14, 41, 1, 26, X12032, 2, 20071215, 0723, -20.3723, 177.6367, 2975,    732.3, 2,   6.2169, 2,  34.3792, 2,  34.3760, 2,    205.9, 2,    206.5, 2,    17.23, 2,    26.66, 2,     0.00, 2,     1.86, 2,    1.077, 6,    0.527, 6,    0.034, 6, -999.000, 9,   2165.4, 6,   2289.3, 2,    7.6882,     25.00,   -999.0, 9,   -999.0,  -999.00, 9,   -999.0,   6.1507, 27.0429,   6.2141, 2, 2, 0.16, 0.11, 0.01, 0.015,  -999.00, 9, -999.00, -999.00, 9, -999.00
49NZ20071122, P14, 41, 1, 25, X12043, 2, 20071215, 0723, -20.3723, 177.6367, 2975,    829.2, 2,   5.4190, 2,  34.3708, 2,  34.3704, 2,    195.2, 2,    194.6, 2,    26.25, 2,    29.30, 2,     0.00, 2,     2.04, 2,    0.584, 2,    0.291, 2,    0.018, 2, -999.000, 9,   2183.6, 2,   2298.2, 6,    7.6593,     25.00,   -999.0, 9,   -999.0,  -999.00, 9,   -999.0,   5.3485, 27.1356,   5.4192, 2, 2, 0.18, 0.11, 0.01, 0.015,  -999.00, 9, -999.00, -999.00, 9, -999.00
49NZ20071122, P14, 41, 1, 24, X12030, 2, 20071215, 0723, -20.3723, 177.6367, 2975,    930.6, 2,   4.7466, 2,  34.3969, 2,  34.3981, 2,    181.3, 2,    181.0, 2,    38.79, 2,    31.42, 2,     0.00, 2,     2.19, 2,    0.282, 2,    0.144, 2,    0.006, 2, -999.000, 9,   2206.3, 2,   2309.7, 2,    7.6326,     25.00,   -999.0, 9,   -999.0,  -999.00, 9,   -999.0,   4.6715, 27.2343,   4.7484, 2, 6, 0.20, 0.12, 0.01, 0.016,  -999.00, 9, -999.00, -999.00, 9, -999.00
49NZ20071122, P14, 41, 1, 23, X12027, 2, 20071215, 0723, -20.3723, 177.6367, 2975,   1071.2, 2,   3.9426, 2,  34.4538, 2,  34.4549, 6,    167.9, 2,    167.9, 2,    57.56, 2,    33.37, 2,     0.00, 2,     2.34, 2,    0.095, 2,    0.048, 2,    0.000, 2, -999.000, 9,   2234.1, 2,   2330.8, 2,    7.6098,     25.00,   -999.0, 9,   -999.0,  -999.00, 9,   -999.0,   3.8615, 27.3659,   3.9434, 2, 2, 0.25, 0.13, 0.01, 0.016,  -999.00, 9, -999.00, -999.00, 9, -999.00
49NZ20071122, P14, 41, 1, 22, X12028, 2, 20071215, 0723, -20.3723, 177.6367, 2975,   1272.5, 2,   3.3584, 2,  34.5236, 2,  34.5245, 2,    156.4, 2,    156.4, 2,    77.78, 2,    34.64, 2,     0.00, 2,     2.42, 2,    0.027, 2,    0.018, 2,    0.000, 2, -999.000, 9,   2260.9, 2,   2355.1, 2,    7.5974,     25.00,   -999.0, 9,   -999.0,  -999.00, 9,   -999.0,   3.2657, 27.4801,   3.3586, 2, 2, 0.29, 0.13, 0.01, 0.016,  -999.00, 9, -999.00, -999.00, 9, -999.00
49NZ20071122, P14, 41, 1, 21, X12009, 2, 20071215, 0723, -20.3723, 177.6367, 2975,   1472.3, 2,   2.9127, 2,  34.5714, 2,  34.5716, 2,    151.5, 2,    151.5, 2,    92.13, 2,    35.06, 2,     0.00, 2,     2.47, 2,    0.009, 2,    0.005, 2,    0.000, 2, -999.000, 9,   2278.3, 2,   2370.8, 2,    7.5915,     25.00,   -999.0, 9,   -999.0,  -999.00, 9,   -999.0,   2.8082, 27.5603,   2.9129, 2, 2, 0.32, 0.13, 0.01, 0.016,  -999.00, 9, -999.00, -999.00, 9, -999.00
49NZ20071122, P14, 41, 1, 20, X12026, 2, 20071215, 0723, -20.3723, 177.6367, 2975,   1669.0, 2,   2.6486, 2,  34.5976, 2,  34.5979, 2,    150.5, 2,    150.3, 2,    99.91, 2,    35.30, 2,     0.00, 2,     2.48, 2,    0.004, 2,    0.004, 2,    0.000, 2, -999.000, 9,   2286.7, 2,   2379.6, 2,    7.5908,     25.00,   -999.0, 9,   -999.0,  -999.00, 9,   -999.0,   2.5309, 27.6055,   2.6486, 2, 6, 0.34, 0.13, 0.01, 0.016,  -999.00, 9, -999.00, -999.00, 9, -999.00
49NZ20071122, P14, 41, 1, 19, X12025, 2, 20071215, 0723, -20.3723, 177.6367, 2975,   1870.4, 2,   2.3470, 2,  34.6271, 2,  34.6272, 2,    150.3, 2,    150.1, 2,   108.21, 2,    35.41, 2,     0.00, 2,     2.49, 2,    0.000, 2,    0.000, 2,    0.000, 2, -999.000, 9,   2295.9, 2,   2389.9, 2,    7.5907,     25.00,   -999.0, 9,   -999.0,  -999.00, 9,   -999.0,   2.2164, 27.6554,   2.3466, 2, 2, 0.36, 0.13, 0.01, 0.016,  -999.00, 9, -999.00, -999.00, 9, -999.00
49NZ20071122, P14, 41, 1, 18, X12024, 2, 20071215, 0723, -20.3723, 177.6367, 2975,   2069.8, 2,   2.2052, 2,  34.6410, 2,  34.6409, 2,    150.3, 2,    150.4, 2,   112.16, 2,    35.49, 2,     0.00, 2,     2.50, 2,    0.000, 2,    0.003, 2,    0.000, 2, -999.000, 9,   2299.7, 2,   2392.4, 2,    7.5913,     25.00,   -999.0, 9,   -999.0,  -999.00, 9,   -999.0,   2.0596, 27.6793,   2.2056, 2, 2, 0.37, 0.13, 0.01, 0.016,  -999.00, 9, -999.00, -999.00, 9, -999.00
49NZ20071122, P14, 41, 1, 17, X12023, 2, 20071215, 0723, -20.3723, 177.6367, 2975,   2271.5, 2,   2.0924, 2,  34.6523, 2,  34.6521, 6,    151.2, 2,    151.2, 2,   115.13, 2,    35.46, 2,     0.00, 2,     2.50, 2,    0.000, 2,    0.000, 2,    0.000, 2, -999.000, 9,   2304.0, 2,   2396.0, 2,    7.5929,     25.00,   -999.0, 9,   -999.0,  -999.00, 9,   -999.0,   1.9310, 27.6986,   2.0927, 2, 2, 0.37, 0.13, 0.01, 0.016,  -999.00, 9, -999.00, -999.00, 9, -999.00
49NZ20071122, P14, 41, 1, 16, X12022, 2, 20071215, 0723, -20.3723, 177.6367, 2975,   2471.0, 2,   1.9993, 2,  34.6618, 2,  34.6617, 2,    152.1, 2,    152.2, 2,   117.26, 2,    35.35, 2,     0.00, 2,     2.49, 2,    0.000, 2,    0.000, 2,    0.000, 2, -999.000, 9,   2305.4, 6,   2399.0, 2,    7.5940,     25.00,   -999.0, 9,   -999.0,  -999.00, 9,   -999.0,   1.8216, 27.7146,   1.9994, 2, 2, 0.38, 0.13, 0.01, 0.016,  -999.00, 9, -999.00, -999.00, 9, -999.00
49NZ20071122, P14, 41, 1, 15, X12021, 2, 20071215, 0723, -20.3723, 177.6367, 2975,   2672.3, 2,   1.9189, 2,  34.6699, 2,  34.6699, 6,    153.3, 2,    153.3, 2,   119.24, 2,    35.32, 2,     0.00, 2,     2.49, 2, -999.000, 9, -999.000, 9, -999.000, 9, -999.000, 9,   2305.6, 2,   2400.1, 6,    7.5947,     25.00,   -999.0, 9,   -999.0,  -999.00, 9,   -999.0,   1.7242, 27.7286,   1.9189, 2, 2, 0.38, 0.13, 0.01, 0.016,  -999.00, 9, -999.00, -999.00, 9, -999.00
49NZ20071122, P14, 41, 1, 14, X12020, 2, 20071215, 0723, -20.3723, 177.6367, 2975,   2871.4, 2,   1.8737, 2,  34.6747, 2,  34.6750, 2,    154.1, 2,    154.0, 2,   120.42, 2,    35.36, 2,     0.00, 2,     2.49, 2,    0.000, 2,    0.001, 2,    0.000, 2, -999.000, 9,   2307.1, 2,   2402.0, 2,    7.5967,     25.00,   -999.0, 9,   -999.0,  -999.00, 9,   -999.0,   1.6611, 27.7372,   1.8737, 2, 2, 0.38, 0.13, 0.01, 0.016,  -999.00, 9, -999.00, -999.00, 9, -999.00
49NZ20071122, P14, 41, 1, 13, X12019, 9, 20071215, 0723, -20.3723, 177.6367, 2975,      9.9, 2,  26.9887, 2,  34.9815, 2, -999.0000, 9,    207.5, 2,   -999.0, 9,  -999.00, 9,  -999.00, 9,  -999.00, 9,  -999.00, 9, -999.000, 9, -999.000, 9, -999.000, 9, -999.000, 9,   -999.0, 9,   -999.0, 9, -999.0000,   -999.00,   -999.0, 9,   -999.0,  -999.00, 9,   -999.0,  26.9864, 22.7081,  26.9965, 2, 9, -999.00, -999.00, -999.00, -999.000,  -999.00, 9, -999.00, -999.00, 9, -999.00
49NZ20071122, P14, 41, 1, 12, X12040, 9, 20071215, 0723, -20.3723, 177.6367, 2975,    327.6, 2,  17.0554, 2,  35.5113, 2, -999.0000, 9,    188.0, 2,   -999.0, 9,  -999.00, 9,  -999.00, 9,  -999.00, 9,  -999.00, 9, -999.000, 9, -999.000, 9, -999.000, 9, -999.000, 9,   -999.0, 9,   -999.0, 9, -999.0000,   -999.00,   -999.0, 9,   -999.0,  -999.00, 9,   -999.0,  17.0008, 25.9066,  17.0420, 2, 9, -999.00, -999.00, -999.00, -999.000,  -999.00, 9, -999.00, -999.00, 9, -999.00
49NZ20071122, P14, 41, 1, 11, X12047, 9, 20071215, 0723, -20.3723, 177.6367, 2975,    430.0, 2,  13.5359, 2,  35.0978, 2, -999.0000, 9,    188.9, 2,   -999.0, 9,  -999.00, 9,  -999.00, 9,  -999.00, 9,  -999.00, 9, -999.000, 9, -999.000, 9, -999.000, 9, -999.000, 9,   -999.0, 9,   -999.0, 9, -999.0000,   -999.00,   -999.0, 9,   -999.0,  -999.00, 9,   -999.0,  13.4746, 26.3721,  13.5363, 2, 9, -999.00, -999.00, -999.00, -999.000,  -999.00, 9, -999.00, -999.00, 9, -999.00
49NZ20071122, P14, 41, 1, 10, X12012, 9, 20071215, 0723, -20.3723, 177.6367, 2975,    530.8, 2,  10.2640, 2,  34.7244, 2, -999.0000, 9,    198.3, 2,   -999.0, 9,  -999.00, 9,  -999.00, 9,  -999.00, 9,  -999.00, 9, -999.000, 9, -999.000, 9, -999.000, 9, -999.000, 9,   -999.0, 9,   -999.0, 9, -999.0000,   -999.00,   -999.0, 9,   -999.0,  -999.00, 9,   -999.0,  10.2006, 26.7023,  10.2657, 2, 9, -999.00, -999.00, -999.00, -999.000,  -999.00, 9, -999.00, -999.00, 9, -999.00
49NZ20071122, P14, 41, 1, 9, X12015, 9, 20071215, 0723, -20.3723, 177.6367, 2975,    630.4, 2,   7.2760, 2,  34.4355, 2, -999.0000, 9,    213.1, 2,   -999.0, 9,  -999.00, 9,  -999.00, 9,  -999.00, 9,  -999.00, 9, -999.000, 9, -999.000, 9, -999.000, 9, -999.000, 9,   -999.0, 9,   -999.0, 9, -999.0000,   -999.00,   -999.0, 9,   -999.0,  -999.00, 9,   -999.0,   7.2144, 26.9442,   7.2810, 2, 9, -999.00, -999.00, -999.00, -999.000,  -999.00, 9, -999.00, -999.00, 9, -999.00
49NZ20071122, P14, 41, 1, 8, X12046, 9, 20071215, 0723, -20.3723, 177.6367, 2975,    730.8, 2,   6.1989, 2,  34.3784, 2, -999.0000, 9,    206.0, 2,   -999.0, 9,  -999.00, 9,  -999.00, 9,  -999.00, 9,  -999.00, 9, -999.000, 9, -999.000, 9, -999.000, 9, -999.000, 9,   -999.0, 9,   -999.0, 9, -999.0000,   -999.00,   -999.0, 9,   -999.0,  -999.00, 9,   -999.0,   6.1329, 27.0445,   6.2008, 2, 9, -999.00, -999.00, -999.00, -999.000,  -999.00, 9, -999.00, -999.00, 9, -999.00
49NZ20071122, P14, 41, 1, 7, X12044, 9, 20071215, 0723, -20.3723, 177.6367, 2975,    829.1, 2,   5.4203, 2,  34.3706, 2, -999.0000, 9,    195.2, 2,   -999.0, 9,  -999.00, 9,  -999.00, 9,  -999.00, 9,  -999.00, 9, -999.000, 9, -999.000, 9, -999.000, 9, -999.000, 9,   -999.0, 9,   -999.0, 9, -999.0000,   -999.00,   -999.0, 9,   -999.0,  -999.00, 9,   -999.0,   5.3498, 27.1353,   5.4207, 2, 9, -999.00, -999.00, -999.00, -999.000,  -999.00, 9, -999.00, -999.00, 9, -999.00
49NZ20071122, P14, 41, 1, 6, X12048, 9, 20071215, 0723, -20.3723, 177.6367, 2975,    930.6, 2,   4.7534, 2,  34.3963, 2, -999.0000, 9,    181.3, 2,   -999.0, 9,  -999.00, 9,  -999.00, 9,  -999.00, 9,  -999.00, 9, -999.000, 9, -999.000, 9, -999.000, 9, -999.000, 9,   -999.0, 9,   -999.0, 9, -999.0000,   -999.00,   -999.0, 9,   -999.0,  -999.00, 9,   -999.0,   4.6783, 27.2331,   4.7547, 2, 9, -999.00, -999.00, -999.00, -999.000,  -999.00, 9, -999.00, -999.00, 9, -999.00
49NZ20071122, P14, 41, 1, 5, X12014, 9, 20071215, 0723, -20.3723, 177.6367, 2975,   1069.8, 2,   3.9540, 2,  34.4533, 2, -999.0000, 9,    167.9, 2,   -999.0, 9,  -999.00, 9,  -999.00, 9,  -999.00, 9,  -999.00, 9, -999.000, 9, -999.000, 9, -999.000, 9, -999.000, 9,   -999.0, 9,   -999.0, 9, -999.0000,   -999.00,   -999.0, 9,   -999.0,  -999.00, 9,   -999.0,   3.8730, 27.3643,   3.9546, 2, 9, -999.00, -999.00, -999.00, -999.000,  -999.00, 9, -999.00, -999.00, 9, -999.00
49NZ20071122, P14, 41, 1, 4, X12006, 9, 20071215, 0723, -20.3723, 177.6367, 2975,   1272.6, 2,   3.3579, 2,  34.5238, 2, -999.0000, 9,    156.3, 2,   -999.0, 9,  -999.00, 9,  -999.00, 9,  -999.00, 9,  -999.00, 9, -999.000, 9, -999.000, 9, -999.000, 9, -999.000, 9,   -999.0, 9,   -999.0, 9, -999.0000,   -999.00,   -999.0, 9,   -999.0,  -999.00, 9,   -999.0,   3.2652, 27.4803,   3.3584, 2, 9, -999.00, -999.00, -999.00, -999.000,  -999.00, 9, -999.00, -999.00, 9, -999.00
49NZ20071122, P14, 41, 1, 3, X12013, 9, 20071215, 0723, -20.3723, 177.6367, 2975,   1471.1, 2,   2.9141, 2,  34.5712, 2, -999.0000, 9,    151.5, 2,   -999.0, 9,  -999.00, 9,  -999.00, 9,  -999.00, 9,  -999.00, 9, -999.000, 9, -999.000, 9, -999.000, 9, -999.000, 9,   -999.0, 9,   -999.0, 9, -999.0000,   -999.00,   -999.0, 9,   -999.0,  -999.00, 9,   -999.0,   2.8096, 27.5600,   2.9140, 2, 9, -999.00, -999.00, -999.00, -999.000,  -999.00, 9, -999.00, -999.00, 9, -999.00
49NZ20071122, P14, 41, 1, 2, X12002, 9, 20071215, 0723, -20.3723, 177.6367, 2975,   1668.6, 2,   2.6479, 2,  34.5977, 2, -999.0000, 9,    150.5, 2,   -999.0, 9,  -999.00, 9,  -999.00, 9,  -999.00, 9,  -999.00, 9, -999.000, 9, -999.000, 9, -999.000, 9, -999.000, 9,   -999.0, 9,   -999.0, 9, -999.0000,   -999.00,   -999.0, 9,   -999.0,  -999.00, 9,   -999.0,   2.5302, 27.6056,   2.6486, 2, 9, -999.00, -999.00, -999.00, -999.000,  -999.00, 9, -999.00, -999.00, 9, -999.00
49NZ20071122, P14, 41, 1, 1, X12001, 2, 20071215, 0723, -20.3723, 177.6367, 2975,   3000.9, 2,   1.8462, 2,  34.6774, 2,  34.6776, 6,    154.5, 2,    154.2, 2,   121.42, 2,    35.33, 2,     0.00, 2,     2.48, 2,    0.000, 2,    0.001, 2,    0.000, 2, -999.000, 9,   2308.6, 2,   2402.6, 2,    7.5961,     25.00,   -999.0, 9,   -999.0,  -999.00, 9,   -999.0,   1.6217, 27.7424,   1.8460, 2, 2, 0.39, 0.13, 0.01, 0.016,  -999.00, 9, -999.00, -999.00, 9, -999.00