BOTTLE,20220820CCHSIOAMB
EXPOCODE,SECT_ID,STNNBR,CASTNO,SAMPNO,BTLNBR,BTLNBR_FLAG_W,DATE,TIME,LATITUDE,LONGITUDE,DEPTH,CTDPRS,CTDPRS_FLAG_W,CTDTMP,CTDTMP_FLAG_W,CTDSAL,CTDSAL_FLAG_W,SALNTY,SALNTY_FLAG_W,CTDOXY,CTDOXY_FLAG_W,OXYGEN,OXYGEN_FLAG_W,SILCAT,SILCAT_FLAG_W,NITRAT,NITRAT_FLAG_W,NITRIT,NITRIT_FLAG_W,PHSPHT,PHSPHT_FLAG_W,CFC-11,CFC-11_FLAG_W,CFC-12,CFC-12_FLAG_W,CFC113,CFC113_FLAG_W,CCL4,CCL4_FLAG_W,TCARBN,TCARBN_FLAG_W,ALKALI,ALKALI_FLAG_W,PH_TOT,PH_TMP,DELC14,DELC14_FLAG_W,C14ERR,DELC13,DELC13_FLAG_W,C13ERR,THETA,SIG0,SBE35,SBE35_FLAG_W,PH_TOT_FLAG_W,SILUNC,NRAUNC,NRIUNC,PHPUNC,CS-137,CS-137_FLAG_W,CS137ER,PLUTO,PLUTO_FLAG_W,PLUTOER
,,,,,,,,,,,METERS,DBAR,,ITS-90,,PSS-78,,PSS-78,,UMOL/KG,,UMOL/KG,,UMOL/KG,,UMOL/KG,,UMOL/KG,,UMOL/KG,,PMOL/KG,,PMOL/KG,,PMOL/KG,,PMOL/KG,,UMOL/KG,,UMOL/KG,,,DEG C,/MILLE,,/MILLE,/MILLE,,/MILLE,DEG C,KG/M^3,ITS-90,,,UMOL/KG,UMOL/KG,UMOL/KG,UMOL/KG,DM/.1MG,,BQ/M^3,MBQ/M^3,,MBQ/M^3
49NZ20071122, P14N, 132, 1, 36, X12042, 2, 20071129, 0707, 2.7468, 178.9990, 5525,     10.4, 2,  27.4881, 2,  35.1346, 2,  35.1357, 2,    204.9, 2,    203.4, 2,     1.68, 2,     2.58, 2,     0.11, 2,     0.38, 2,    1.534, 2,    0.961, 2,    0.183, 4, -999.000, 5,   -999.0, 9,   -999.0, 9, -999.0000,   -999.00,   -999.0, 9,   -999.0,  -999.00, 9,   -999.0,  27.4857, 22.6631,  27.4884, 2, 9, 0.12, 0.04, 0.01, 0.013,  -999.00, 9, -999.00, -999.00, 9, -999.00
49NZ20071122, P14N, 132, 1, 35, X12041, 2, 20071129, 0707, 2.7468, 178.9990, 5525,     49.7, 2,  27.0792, 2,  35.1650, 2,  35.1664, 2,    198.0, 2,    196.0, 2,     1.77, 2,     3.00, 2,     0.26, 2,     0.46, 2,    1.570, 2,    0.961, 2,    0.187, 4,    1.500, 4,   -999.0, 9,   -999.0, 9, -999.0000,   -999.00,   -999.0, 9,   -999.0,  -999.00, 9,   -999.0,  27.0678, 22.8204,  27.0781, 2, 9, 0.12, 0.04, 0.01, 0.013,  -999.00, 9, -999.00, -999.00, 9, -999.00
49NZ20071122, P14N, 132, 1, 34, X12016, 2, 20071129, 0707, 2.7468, 178.9990, 5525,    101.7, 2,  26.7426, 2,  35.1652, 2,  35.1657, 2,    191.8, 2,    190.8, 2,     1.95, 2,     3.58, 2,     0.74, 2,     0.53, 2,    1.589, 2,    0.968, 2,    0.189, 4,    1.449, 4,   -999.0, 9,   -999.0, 9, -999.0000,   -999.00,   -999.0, 9,   -999.0,  -999.00, 9,   -999.0,  26.7194, 22.9315,  26.7413, 2, 9, 0.12, 0.04, 0.00, 0.013,  -999.00, 9, -999.00, -999.00, 9, -999.00
49NZ20071122, P14N, 132, 1, 33, X12033, 2, 20071129, 0707, 2.7468, 178.9990, 5525,    150.1, 2,  26.3424, 2,  35.1478, 2,  35.1468, 2,    183.9, 2,    183.9, 2,     2.39, 2,     4.40, 2,     1.62, 2,     0.59, 2,    1.607, 6,    0.984, 6,    0.138, 4,    1.420, 4,   -999.0, 9,   -999.0, 9, -999.0000,   -999.00,   -999.0, 9,   -999.0,  -999.00, 9,   -999.0,  26.3086, 23.0483,  26.3371, 2, 9, 0.12, 0.05, 0.02, 0.013,  -999.00, 9, -999.00, -999.00, 9, -999.00
49NZ20071122, P14N, 132, 1, 32, X12038, 2, 20071129, 0707, 2.7468, 178.9990, 5525,    199.4, 2,  14.7934, 2,  34.6284, 2,  34.6279, 2,    122.1, 2,    125.8, 2,    16.74, 2,    16.86, 2,     0.01, 2,     1.28, 2,    1.873, 2,    1.032, 2,    0.031, 2,    0.377, 4,   -999.0, 9,   -999.0, 9, -999.0000,   -999.00,   -999.0, 9,   -999.0,  -999.00, 9,   -999.0,  14.7636, 25.7370,  14.8131, 2, 9, 0.16, 0.08, 0.01, 0.014,  -999.00, 9, -999.00, -999.00, 9, -999.00
49NZ20071122, P14N, 132, 1, 31, X12003, 2, 20071129, 0707, 2.7468, 178.9990, 5525,    248.9, 2,  11.8024, 2,  34.8161, 2,  34.8141, 6,     73.6, 2,    106.6, 2,    20.65, 2,    23.92, 2,     0.01, 2,     1.75, 2,    1.168, 2,    0.620, 2,    0.019, 2,    0.231, 4,   -999.0, 9,   -999.0, 9, -999.0000,   -999.00,   -999.0, 9,   -999.0,  -999.00, 9,   -999.0,  11.7703, 26.4899,  11.8012, 2, 9, 0.16, 0.10, 0.01, 0.014,  -999.00, 9, -999.00, -999.00, 9, -999.00
49NZ20071122, P14N, 132, 1, 30, X12008, 2, 20071129, 0707, 2.7468, 178.9990, 5525,    278.2, 2,  11.2582, 2,  34.7987, 2,  34.7968, 2,     82.9, 2,     62.9, 2,    24.60, 2,    29.38, 2,     0.01, 2,     2.10, 2,    0.798, 2,    0.420, 2,    0.015, 2,    0.156, 4,   -999.0, 9,   -999.0, 9, -999.0000,   -999.00,   -999.0, 9,   -999.0,  -999.00, 9,   -999.0,  11.2233, 26.5781,  11.2583, 2, 9, 0.17, 0.12, 0.01, 0.015,  -999.00, 9, -999.00, -999.00, 9, -999.00
49NZ20071122, P14N, 132, 1, 29, X12035, 2, 20071129, 0707, 2.7468, 178.9990, 5525,    370.4, 2,  10.6034, 2,  34.7593, 2,  34.7563, 2,     72.2, 2,     63.4, 2,    26.26, 2,    30.54, 2,     0.01, 2,     2.17, 2,    0.670, 2,    0.350, 2,    0.014, 2,    0.141, 4,   -999.0, 9,   -999.0, 9, -999.0000,   -999.00,   -999.0, 9,   -999.0,  -999.00, 9,   -999.0,  10.5585, 26.6670,  10.6042, 2, 9, 0.18, 0.12, 0.01, 0.015,  -999.00, 9, -999.00, -999.00, 9, -999.00
49NZ20071122, P14N, 132, 1, 28, X12034, 2, 20071129, 0707, 2.7468, 178.9990, 5525,    471.4, 2,   9.4042, 2,  34.6743, 2,  34.6733, 6,     60.4, 2,     79.8, 2,    30.22, 2,    31.13, 2,     0.00, 2,     2.21, 2,    0.556, 2,    0.292, 2,    0.009, 2,    0.189, 4,   -999.0, 9,   -999.0, 9, -999.0000,   -999.00,   -999.0, 9,   -999.0,  -999.00, 9,   -999.0,   9.3510, 26.8062,   9.4052, 2, 9, 0.19, 0.12, 0.01, 0.016,  -999.00, 9, -999.00, -999.00, 9, -999.00
49NZ20071122, P14N, 132, 1, 27, X12049, 2, 20071129, 0707, 2.7468, 178.9990, 5525,    569.3, 2,   8.2236, 2,  34.6165, 2,  34.6143, 2,     72.3, 2,     71.4, 2,    36.90, 2,    34.43, 2,     0.00, 2,     2.44, 2,    0.273, 2,    0.140, 2,    0.005, 2,    0.172, 4,   -999.0, 9,   -999.0, 9, -999.0000,   -999.00,   -999.0, 9,   -999.0,  -999.00, 9,   -999.0,   8.1640, 26.9480,   8.2235, 2, 9, 0.20, 0.13, 0.01, 0.016,  -999.00, 9, -999.00, -999.00, 9, -999.00
49NZ20071122, P14N, 132, 1, 26, X12032, 2, 20071129, 0707, 2.7468, 178.9990, 5525,    670.7, 2,   7.0906, 2,  34.5736, 2,  34.5726, 2,     46.9, 2,     48.3, 2,    49.66, 2,    38.84, 2,     0.01, 2,     2.80, 2,    0.053, 6,    0.029, 6,    0.000, 6,    0.019, 4,   -999.0, 9,   -999.0, 9, -999.0000,   -999.00,   -999.0, 9,   -999.0,  -999.00, 9,   -999.0,   7.0256, 27.0793,   7.0908, 2, 9, 0.23, 0.14, 0.01, 0.017,  -999.00, 9, -999.00, -999.00, 9, -999.00
49NZ20071122, P14N, 132, 1, 25, X12043, 2, 20071129, 0707, 2.7468, 178.9990, 5525,    771.8, 2,   6.2060, 2,  34.5542, 2,  34.5535, 2,     58.8, 2,     58.1, 2,    58.27, 2,    39.69, 2,     0.00, 2,     2.86, 2,    0.022, 2,    0.013, 2,    0.000, 2,    0.061, 4,   -999.0, 9,   -999.0, 9, -999.0000,   -999.00,   -999.0, 9,   -999.0,  -999.00, 9,   -999.0,   6.1358, 27.1830,   6.2080, 2, 9, 0.25, 0.14, 0.01, 0.017,  -999.00, 9, -999.00, -999.00, 9, -999.00
49NZ20071122, P14N, 132, 1, 24, X12030, 2, 20071129, 0707, 2.7468, 178.9990, 5525,    871.1, 2,   5.5010, 2,  34.5469, 2,  34.5467, 2,     68.3, 2,     68.9, 2,    67.49, 2,    39.65, 2,     0.00, 2,     2.85, 2,    0.012, 2,    0.006, 2,    0.000, 2,    0.032, 4,   -999.0, 9,   -999.0, 9, -999.0000,   -999.00,   -999.0, 9,   -999.0,  -999.00, 9,   -999.0,   5.4259, 27.2658,   5.5021, 2, 9, 0.27, 0.14, 0.01, 0.017,  -999.00, 9, -999.00, -999.00, 9, -999.00
49NZ20071122, P14N, 132, 1, 23, X12027, 2, 20071129, 0707, 2.7468, 178.9990, 5525,    970.8, 2,   5.0059, 2,  34.5486, 2,  34.5493, 6,     74.1, 2,     74.8, 2,    76.49, 2,    39.60, 2,     0.00, 2,     2.86, 2,    0.008, 2,    0.003, 2,    0.000, 2,    0.004, 4,   -999.0, 9,   -999.0, 9, -999.0000,   -999.00,   -999.0, 9,   -999.0,  -999.00, 9,   -999.0,   4.9251, 27.3260,   5.0061, 2, 9, 0.29, 0.14, 0.01, 0.017,  -999.00, 9, -999.00, -999.00, 9, -999.00
49NZ20071122, P14N, 132, 1, 22, X12028, 2, 20071129, 0707, 2.7468, 178.9990, 5525,   1129.9, 2,   4.2623, 2,  34.5623, 2,  34.5630, 2,     81.9, 2,     83.3, 2,    90.45, 2,    39.50, 2,     0.00, 2,     2.86, 2,    0.005, 2,    0.002, 2,    0.000, 2,    0.169, 4,   -999.0, 9,   -999.0, 9, -999.0000,   -999.00,   -999.0, 9,   -999.0,  -999.00, 9,   -999.0,   4.1733, 27.4198,   4.2627, 2, 9, 0.32, 0.14, 0.01, 0.017,  -999.00, 9, -999.00, -999.00, 9, -999.00
49NZ20071122, P14N, 132, 1, 21, X12009, 2, 20071129, 0707, 2.7468, 178.9990, 5525,   1331.6, 2,   3.5335, 2,  34.5836, 2,  34.5843, 2,     88.0, 2,     88.7, 2,   106.36, 2,    39.61, 2,     0.00, 2,     2.86, 2,    0.008, 2,    0.003, 2,    0.000, 2,    0.000, 4,   -999.0, 9,   -999.0, 9, -999.0000,   -999.00,   -999.0, 9,   -999.0,  -999.00, 9,   -999.0,   3.4340, 27.5118,   3.5336, 2, 9, 0.35, 0.14, 0.01, 0.017,  -999.00, 9, -999.00, -999.00, 9, -999.00
49NZ20071122, P14N, 132, 1, 20, X12026, 2, 20071129, 0707, 2.7468, 178.9990, 5525,   1530.1, 2,   2.9743, 2,  34.6050, 2,  34.6055, 2,     91.3, 2,     92.0, 2,   119.97, 2,    39.71, 2,     0.00, 2,     2.86, 2,    0.010, 2,    0.007, 2,    0.000, 2,    0.215, 4,   -999.0, 9,   -999.0, 9, -999.0000,   -999.00,   -999.0, 9,   -999.0,  -999.00, 9,   -999.0,   2.8642, 27.5821,   2.9743, 2, 9, 0.38, 0.14, 0.01, 0.017,  -999.00, 9, -999.00, -999.00, 9, -999.00
49NZ20071122, P14N, 132, 1, 19, X12025, 2, 20071129, 0707, 2.7468, 178.9990, 5525,   1732.5, 2,   2.6138, 2,  34.6200, 2,  34.6202, 2,    101.2, 2,    101.9, 2,   126.51, 2,    39.10, 2,     0.00, 2,     2.80, 2, -999.000, 9, -999.000, 9, -999.000, 9,    0.003, 4,   -999.0, 9,   -999.0, 9, -999.0000,   -999.00,   -999.0, 9,   -999.0,  -999.00, 9,   -999.0,   2.4911, 27.6268,   2.6139, 2, 9, 0.40, 0.14, 0.01, 0.017,  -999.00, 9, -999.00, -999.00, 9, -999.00
49NZ20071122, P14N, 132, 1, 18, X12024, 2, 20071129, 0707, 2.7468, 178.9990, 5525,   1932.7, 2,   2.3692, 2,  34.6323, 2,  34.6324, 2,    107.9, 2,    108.0, 2,   131.62, 2,    38.78, 2,     0.00, 2,     2.76, 2, -999.000, 9, -999.000, 9, -999.000, 9,    0.037, 4,   -999.0, 9,   -999.0, 9, -999.0000,   -999.00,   -999.0, 9,   -999.0,  -999.00, 9,   -999.0,   2.2329, 27.6583,   2.3694, 2, 9, 0.41, 0.14, 0.01, 0.017,  -999.00, 9, -999.00, -999.00, 9, -999.00
49NZ20071122, P14N, 132, 1, 17, X12023, 2, 20071129, 0707, 2.7468, 178.9990, 5525,   2131.5, 2,   2.1583, 2,  34.6438, 2,  34.6439, 6,    113.1, 2,    112.4, 2,   136.60, 2,    38.49, 2,     0.00, 2,     2.74, 2,    0.014, 3,    0.011, 3,    0.005, 3,    0.000, 4,   -999.0, 9,   -999.0, 9, -999.0000,   -999.00,   -999.0, 9,   -999.0,  -999.00, 9,   -999.0,   2.0081, 27.6857,   2.1585, 2, 9, 0.42, 0.14, 0.01, 0.017,  -999.00, 9, -999.00, -999.00, 9, -999.00
49NZ20071122, P14N, 132, 1, 16, X12022, 2, 20071129, 0707, 2.7468, 178.9990, 5525,   2332.6, 2,   1.9839, 2,  34.6538, 2,  34.6540, 2,    118.2, 2,    117.6, 2,   140.20, 2,    38.20, 2,     0.00, 2,     2.71, 2, -999.000, 9, -999.000, 9, -999.000, 9,    0.002, 4,   -999.0, 9,   -999.0, 9, -999.0000,   -999.00,   -999.0, 9,   -999.0,  -999.00, 9,   -999.0,   1.8190, 27.7084,   1.9838, 2, 9, 0.43, 0.14, 0.01, 0.017,  -999.00, 9, -999.00, -999.00, 9, -999.00
49NZ20071122, P14N, 132, 1, 15, X12021, 2, 20071129, 0707, 2.7468, 178.9990, 5525,   2530.4, 2,   1.8764, 2,  34.6608, 2,  34.6609, 2,    121.5, 2,    121.0, 2,   143.05, 2,    38.07, 2,     0.00, 2,     2.70, 2, -999.000, 9, -999.000, 9, -999.000, 9,    0.002, 4,   -999.0, 9,   -999.0, 9, -999.0000,   -999.00,   -999.0, 9,   -999.0,  -999.00, 9,   -999.0,   1.6956, 27.7235,   1.8764, 2, 9, 0.43, 0.14, 0.01, 0.017,  -999.00, 9, -999.00, -999.00, 9, -999.00
49NZ20071122, P14N, 132, 1, 14, X12020, 2, 20071129, 0707, 2.7468, 178.9990, 5525,   2729.7, 2,   1.7884, 2,  34.6655, 2,  34.6651, 2,    126.6, 2,    125.9, 2,   143.71, 2,    37.71, 2,     0.00, 2,     2.67, 2,    0.005, 2,    0.004, 2,    0.000, 2,    0.000, 4,   -999.0, 9,   -999.0, 9, -999.0000,   -999.00,   -999.0, 9,   -999.0,  -999.00, 9,   -999.0,   1.5910, 27.7351,   1.7885, 2, 9, 0.44, 0.14, 0.01, 0.017,  -999.00, 9, -999.00, -999.00, 9, -999.00
49NZ20071122, P14N, 132, 1, 13, X12019, 2, 20071129, 0707, 2.7468, 178.9990, 5525,   2931.9, 2,   1.7196, 2,  34.6698, 2,  34.6703, 2,    130.8, 2,    129.9, 2,   144.27, 2,    37.47, 2,     0.00, 2,     2.64, 2, -999.000, 9, -999.000, 9, -999.000, 9,    0.019, 4,   -999.0, 9,   -999.0, 9, -999.0000,   -999.00,   -999.0, 9,   -999.0,  -999.00, 9,   -999.0,   1.5045, 27.7448,   1.7197, 2, 9, 0.44, 0.14, 0.01, 0.017,  -999.00, 9, -999.00, -999.00, 9, -999.00
49NZ20071122, P14N, 132, 1, 12, X12040, 2, 20071129, 0707, 2.7468, 178.9990, 5525,   3171.2, 2,   1.6298, 2,  34.6746, 2,  34.6741, 2,    137.9, 2,    137.9, 2,   142.93, 2,    36.85, 2,     0.00, 2,     2.59, 2, -999.000, 9, -999.000, 9, -999.000, 9,    0.007, 4,   -999.0, 9,   -999.0, 9, -999.0000,   -999.00,   -999.0, 9,   -999.0,  -999.00, 9,   -999.0,   1.3935, 27.7567,   1.6299, 2, 9, 0.43, 0.14, 0.01, 0.016,  -999.00, 9, -999.00, -999.00, 9, -999.00
49NZ20071122, P14N, 132, 1, 11, X12047, 2, 20071129, 0707, 2.7468, 178.9990, 5525,   3420.5, 2,   1.5540, 2,  34.6798, 2,  34.6797, 2,    145.6, 2,    145.7, 2,   141.51, 2,    36.35, 2,     0.00, 2,     2.55, 2,    0.000, 2,    0.000, 2,    0.000, 2,    0.022, 4,   -999.0, 9,   -999.0, 9, -999.0000,   -999.00,   -999.0, 9,   -999.0,  -999.00, 9,   -999.0,   1.2946, 27.7679,   1.5541, 2, 9, 0.43, 0.13, 0.01, 0.016,  -999.00, 9, -999.00, -999.00, 9, -999.00
49NZ20071122, P14N, 132, 1, 10, X12012, 2, 20071129, 0707, 2.7468, 178.9990, 5525,   3669.8, 2,   1.5099, 2,  34.6840, 2,  34.6838, 2,    150.6, 2,    151.8, 2,   139.75, 2,    36.01, 2,     0.00, 2,     2.52, 2, -999.000, 9, -999.000, 9, -999.000, 9,    0.002, 4,   -999.0, 9,   -999.0, 9, -999.0000,   -999.00,   -999.0, 9,   -999.0,  -999.00, 9,   -999.0,   1.2260, 27.7760,   1.5098, 2, 9, 0.43, 0.13, 0.01, 0.016,  -999.00, 9, -999.00, -999.00, 9, -999.00
49NZ20071122, P14N, 132, 1, 9, X12015, 2, 20071129, 0707, 2.7468, 178.9990, 5525,   3921.5, 2,   1.4606, 2,  34.6886, 2,  34.6884, 6,    158.8, 2,    158.8, 2,   137.57, 2,    35.52, 2,     0.00, 2,     2.49, 2, -999.000, 9, -999.000, 9, -999.000, 9,    0.048, 4,   -999.0, 9,   -999.0, 9, -999.0000,   -999.00,   -999.0, 9,   -999.0,  -999.00, 9,   -999.0,   1.1513, 27.7849,   1.4606, 2, 9, 0.42, 0.13, 0.01, 0.016,  -999.00, 9, -999.00, -999.00, 9, -999.00
49NZ20071122, P14N, 132, 1, 8, X12046, 2, 20071129, 0707, 2.7468, 178.9990, 5525,   4169.1, 2,   1.4004, 2,  34.6934, 2,  34.6932, 2,    167.2, 2,    167.3, 2,   134.47, 2,    34.88, 2,     0.00, 2,     2.44, 2,    0.008, 2,    0.003, 2,    0.003, 2,    0.000, 4,   -999.0, 9,   -999.0, 9, -999.0000,   -999.00,   -999.0, 9,   -999.0,  -999.00, 9,   -999.0,   1.0658, 27.7946,   1.4005, 2, 9, 0.41, 0.13, 0.01, 0.016,  -999.00, 9, -999.00, -999.00, 9, -999.00
49NZ20071122, P14N, 132, 1, 7, X12044, 2, 20071129, 0707, 2.7468, 178.9990, 5525,   4421.7, 2,   1.3176, 2,  34.6991, 2,  34.6989, 2,    177.9, 2,    177.7, 2,   130.11, 2,    34.16, 2,     0.00, 2,     2.38, 2,    0.010, 2,    0.006, 2,    0.000, 2,    0.043, 4,   -999.0, 9,   -999.0, 9, -999.0000,   -999.00,   -999.0, 9,   -999.0,  -999.00, 9,   -999.0,   0.9571, 27.8064,   1.3175, 2, 9, 0.41, 0.13, 0.01, 0.016,  -999.00, 9, -999.00, -999.00, 9, -999.00
49NZ20071122, P14N, 132, 1, 6, X12048, 2, 20071129, 0707, 2.7468, 178.9990, 5525,   4670.6, 2,   1.2644, 2,  34.7032, 2,  34.7028, 2,    186.1, 2,    186.0, 2,   125.98, 2,    33.53, 2,     0.00, 2,     2.34, 2,    0.011, 2,    0.007, 2,    0.000, 2, -999.000, 5,   -999.0, 9,   -999.0, 9, -999.0000,   -999.00,   -999.0, 9,   -999.0,  -999.00, 9,   -999.0,   0.8770, 27.8149,   1.2643, 2, 9, 0.40, 0.13, 0.01, 0.016,  -999.00, 9, -999.00, -999.00, 9, -999.00
49NZ20071122, P14N, 132, 1, 5, X12014, 2, 20071129, 0707, 2.7468, 178.9990, 5525,   4920.9, 2,   1.2724, 2,  34.7042, 2,  34.7040, 2,    188.6, 2,    188.5, 2,   124.87, 2,    33.38, 2,     0.00, 2,     2.33, 2,    0.008, 2,    0.005, 2,    0.000, 2,    0.029, 4,   -999.0, 9,   -999.0, 9, -999.0000,   -999.00,   -999.0, 9,   -999.0,  -999.00, 9,   -999.0,   0.8552, 27.8172,   1.2723, 2, 9, 0.39, 0.13, 0.01, 0.016,  -999.00, 9, -999.00, -999.00, 9, -999.00
49NZ20071122, P14N, 132, 1, 4, X12006, 2, 20071129, 0707, 2.7468, 178.9990, 5525,   5169.0, 2,   1.2910, 2,  34.7050, 2,  34.7047, 2,    190.4, 2,    190.2, 2,   123.87, 2,    33.25, 2,     0.00, 2,     2.32, 2,    0.000, 2,    0.000, 2,    0.000, 2,    0.029, 4,   -999.0, 9,   -999.0, 9, -999.0000,   -999.00,   -999.0, 9,   -999.0,  -999.00, 9,   -999.0,   0.8432, 27.8186,   1.2910, 2, 9, 0.39, 0.13, 0.01, 0.016,  -999.00, 9, -999.00, -999.00, 9, -999.00
49NZ20071122, P14N, 132, 1, 3, X12013, 2, 20071129, 0707, 2.7468, 178.9990, 5525,   5420.0, 2,   1.3211, 2,  34.7050, 2,  34.7054, 2,    190.7, 2,    190.5, 2,   123.60, 2,    33.19, 2,     0.00, 2,     2.31, 2,    0.010, 2,    0.006, 2,    0.000, 2,    0.048, 4,   -999.0, 9,   -999.0, 9, -999.0000,   -999.00,   -999.0, 9,   -999.0,  -999.00, 9,   -999.0,   0.8410, 27.8187,   1.3211, 2, 9, 0.39, 0.13, 0.01, 0.016,  -999.00, 9, -999.00, -999.00, 9, -999.00
49NZ20071122, P14N, 132, 1, 2, X12002, 9, 20071129, 0707, 2.7468, 178.9990, 5525,     10.6, 2,  27.4923, 2,  35.1360, 2, -999.0000, 9,    204.8, 2,   -999.0, 9,  -999.00, 9,  -999.00, 9,  -999.00, 9,  -999.00, 9, -999.000, 9, -999.000, 9, -999.000, 9, -999.000, 9,   -999.0, 9,   -999.0, 9, -999.0000,   -999.00,   -999.0, 9,   -999.0,  -999.00, 9,   -999.0,  27.4898, 22.6628,  27.4916, 2, 9, -999.00, -999.00, -999.00, -999.000,  -999.00, 9, -999.00, -999.00, 9, -999.00
49NZ20071122, P14N, 132, 1, 1, X12001, 2, 20071129, 0707, 2.7468, 178.9990, 5525,   5607.3, 2,   1.3440, 2,  34.7050, 2,  34.7050, 6,    190.9, 2,    190.8, 2,   123.45, 2,    33.18, 2,     0.00, 2,     2.31, 2,    0.007, 2,    0.003, 2,    0.000, 2,    0.034, 4,   -999.0, 9,   -999.0, 9, -999.0000,   -999.00,   -999.0, 9,   -999.0,  -999.00, 9,   -999.0,   0.8393, 27.8188,   1.3440, 2, 9, 0.39, 0.13, 0.01, 0.016,  -999.00, 9, -999.00, -999.00, 9, -999.00