BOTTLE,20220820CCHSIOAMB
EXPOCODE,SECT_ID,STNNBR,CASTNO,SAMPNO,BTLNBR,BTLNBR_FLAG_W,DATE,TIME,LATITUDE,LONGITUDE,DEPTH,CTDPRS,CTDPRS_FLAG_W,CTDTMP,CTDTMP_FLAG_W,CTDSAL,CTDSAL_FLAG_W,SALNTY,SALNTY_FLAG_W,CTDOXY,CTDOXY_FLAG_W,OXYGEN,OXYGEN_FLAG_W,SILCAT,SILCAT_FLAG_W,NITRAT,NITRAT_FLAG_W,NITRIT,NITRIT_FLAG_W,PHSPHT,PHSPHT_FLAG_W,CFC-11,CFC-11_FLAG_W,CFC-12,CFC-12_FLAG_W,CFC113,CFC113_FLAG_W,CCL4,CCL4_FLAG_W,TCARBN,TCARBN_FLAG_W,ALKALI,ALKALI_FLAG_W,PH_TOT,PH_TMP,DELC14,DELC14_FLAG_W,C14ERR,DELC13,DELC13_FLAG_W,C13ERR,THETA,SIG0,SBE35,SBE35_FLAG_W,PH_TOT_FLAG_W,SILUNC,NRAUNC,NRIUNC,PHPUNC,CS-137,CS-137_FLAG_W,CS137ER,PLUTO,PLUTO_FLAG_W,PLUTOER
,,,,,,,,,,,METERS,DBAR,,ITS-90,,PSS-78,,PSS-78,,UMOL/KG,,UMOL/KG,,UMOL/KG,,UMOL/KG,,UMOL/KG,,UMOL/KG,,PMOL/KG,,PMOL/KG,,PMOL/KG,,PMOL/KG,,UMOL/KG,,UMOL/KG,,,DEG C,/MILLE,,/MILLE,/MILLE,,/MILLE,DEG C,KG/M^3,ITS-90,,,UMOL/KG,UMOL/KG,UMOL/KG,UMOL/KG,DM/.1MG,,BQ/M^3,MBQ/M^3,,MBQ/M^3
49NZ20071122, P14, 32, 1, 36, X12042, 2, 20071217, 0201, -23.4842, 177.1115, 3996,     10.7, 2,  24.9614, 2,  35.2574, 2,  35.2578, 2,    211.1, 2,    210.2, 2,     0.54, 2,     0.02, 2,     0.01, 2,     0.06, 2,    1.719, 2,    1.058, 2,    0.397, 4, -999.000, 9,   -999.0, 9,   -999.0, 9, -999.0000,   -999.00,   -999.0, 9,   -999.0,  -999.00, 9,   -999.0,  24.9591, 23.5482,  24.9621, 2, 9, 0.12, 0.03, 0.01, 0.030,  -999.00, 9, -999.00, -999.00, 9, -999.00
49NZ20071122, P14, 32, 1, 35, X12041, 2, 20071217, 0201, -23.4842, 177.1115, 3996,     49.8, 2,  23.5408, 2,  35.4614, 2,  35.4613, 2,    215.8, 2,    216.5, 2,     0.47, 2,     0.02, 2,     0.01, 2,     0.06, 2,    1.821, 2,    1.111, 2,    0.433, 4, -999.000, 9,   -999.0, 9,   -999.0, 9, -999.0000,   -999.00,   -999.0, 9,   -999.0,  -999.00, 9,   -999.0,  23.5305, 24.1292,  23.5551, 2, 9, 0.12, 0.03, 0.01, 0.030,  -999.00, 9, -999.00, -999.00, 9, -999.00
49NZ20071122, P14, 32, 1, 34, X12016, 2, 20071217, 0201, -23.4842, 177.1115, 3996,    101.0, 2,  21.0330, 2,  35.6879, 2,  35.6913, 2,    220.7, 2,    215.6, 2,     0.54, 2,     0.19, 2,     0.09, 2,     0.12, 2,    2.035, 2,    1.218, 2,    0.417, 4, -999.000, 9,   -999.0, 9,   -999.0, 9, -999.0000,   -999.00,   -999.0, 9,   -999.0,  -999.00, 9,   -999.0,  21.0136, 25.0140,  21.0230, 2, 9, 0.12, 0.03, 0.01, 0.020,  -999.00, 9, -999.00, -999.00, 9, -999.00
49NZ20071122, P14, 32, 1, 33, X12033, 2, 20071217, 0201, -23.4842, 177.1115, 3996,    150.6, 2,  19.5953, 2,  35.7032, 2,  35.7001, 2,    191.0, 2,    193.1, 2,     0.93, 2,     2.99, 2,     0.04, 2,     0.31, 2,    2.153, 6,    1.260, 6,    0.163, 4, -999.000, 9,   -999.0, 9,   -999.0, 9, -999.0000,   -999.00,   -999.0, 9,   -999.0,  -999.00, 9,   -999.0,  19.5678, 25.4119,  19.5953, 2, 9, 0.12, 0.04, 0.01, 0.014,  -999.00, 9, -999.00, -999.00, 9, -999.00
49NZ20071122, P14, 32, 1, 32, X12038, 2, 20071217, 0201, -23.4842, 177.1115, 3996,    199.0, 2,  18.3074, 2,  35.6596, 2,  35.6570, 2,    192.1, 2,    192.3, 2,     1.15, 2,     4.29, 2,     0.02, 2,     0.40, 2,    2.270, 2,    1.316, 2,    0.097, 2, -999.000, 9,   -999.0, 9,   -999.0, 9, -999.0000,   -999.00,   -999.0, 9,   -999.0,  -999.00, 9,   -999.0,  18.2727, 25.7095,  18.3067, 2, 9, 0.12, 0.04, 0.01, 0.013,  -999.00, 9, -999.00, -999.00, 9, -999.00
49NZ20071122, P14, 32, 1, 31, X12003, 2, 20071217, 0201, -23.4842, 177.1115, 3996,    249.0, 2,  16.9984, 2,  35.5480, 2,  35.5460, 6,    192.5, 2,    192.5, 2,     1.52, 2,     5.80, 2,     0.02, 2,     0.50, 2,    2.347, 2,    1.333, 2,    0.065, 2, -999.000, 9,   -999.0, 9,   -999.0, 9, -999.0000,   -999.00,   -999.0, 9,   -999.0,  -999.00, 9,   -999.0,  16.9571, 25.9452,  16.9987, 2, 9, 0.12, 0.05, 0.01, 0.013,  -999.00, 9, -999.00, -999.00, 9, -999.00
49NZ20071122, P14, 32, 1, 30, X12008, 2, 20071217, 0201, -23.4842, 177.1115, 3996,    331.6, 2,  14.8455, 2,  35.2690, 2,  35.2493, 3,    187.4, 2,    187.6, 2,     2.72, 2,     9.30, 2,     0.01, 2,     0.75, 2,    2.371, 2,    1.295, 2,    0.047, 2, -999.000, 9,   -999.0, 9,   -999.0, 9, -999.0000,   -999.00,   -999.0, 9,   -999.0,  -999.00, 9,   -999.0,  14.7953, 26.2243,  14.8445, 2, 9, 0.12, 0.06, 0.01, 0.013,  -999.00, 9, -999.00, -999.00, 9, -999.00
49NZ20071122, P14, 32, 1, 29, X12035, 2, 20071217, 0201, -23.4842, 177.1115, 3996,    430.0, 2,  11.6598, 2,  34.9161, 2,  34.9146, 2,    194.0, 2,    195.3, 2,     4.39, 2,    14.36, 2,     0.02, 2,     1.06, 2,    2.402, 2,    1.260, 2,    0.068, 2, -999.000, 9,   -999.0, 9,   -999.0, 9, -999.0000,   -999.00,   -999.0, 9,   -999.0,  -999.00, 9,   -999.0,  11.6042, 26.5989,  11.6613, 2, 9, 0.13, 0.07, 0.01, 0.013,  -999.00, 9, -999.00, -999.00, 9, -999.00
49NZ20071122, P14, 32, 1, 28, X12034, 2, 20071217, 0201, -23.4842, 177.1115, 3996,    530.4, 2,   8.9803, 2,  34.6033, 2,  34.6007, 6,    205.2, 2,    205.9, 2,     6.47, 2,    19.52, 2,     0.01, 2,     1.39, 2,    2.218, 2,    1.108, 2,    0.074, 2, -999.000, 9,   -999.0, 9,   -999.0, 9, -999.0000,   -999.00,   -999.0, 9,   -999.0,  -999.00, 9,   -999.0,   8.9219, 26.8199,   8.9817, 2, 9, 0.13, 0.09, 0.01, 0.014,  -999.00, 9, -999.00, -999.00, 9, -999.00
49NZ20071122, P14, 32, 1, 27, X12049, 2, 20071217, 0201, -23.4842, 177.1115, 3996,    630.4, 2,   7.3680, 2,  34.4445, 2,  34.4442, 2,    217.0, 2,    216.8, 2,     8.92, 2,    22.70, 2,     0.01, 2,     1.60, 2,    1.913, 2,    0.930, 2,    0.059, 2, -999.000, 9,   -999.0, 9,   -999.0, 9, -999.0000,   -999.00,   -999.0, 9,   -999.0,  -999.00, 9,   -999.0,   7.3059, 26.9384,   7.3689, 2, 9, 0.14, 0.10, 0.01, 0.014,  -999.00, 9, -999.00, -999.00, 9, -999.00
49NZ20071122, P14, 32, 1, 26, X12032, 2, 20071217, 0201, -23.4842, 177.1115, 3996,    729.7, 2,   6.3837, 2,  34.3867, 2,  34.3857, 2,    207.5, 2,    207.1, 2,    15.80, 2,    26.19, 2,     0.01, 2,     1.83, 2,    1.123, 6,    0.551, 6,    0.038, 6, -999.000, 9,   -999.0, 9,   -999.0, 9, -999.0000,   -999.00,   -999.0, 9,   -999.0,  -999.00, 9,   -999.0,   6.3168, 27.0273,   6.3843, 2, 9, 0.15, 0.11, 0.01, 0.015,  -999.00, 9, -999.00, -999.00, 9, -999.00
49NZ20071122, P14, 32, 1, 25, X12043, 2, 20071217, 0201, -23.4842, 177.1115, 3996,    829.5, 2,   5.5751, 2,  34.3722, 2,  34.3715, 2,    199.9, 2,    197.6, 2,    24.06, 2,    28.81, 2,     0.01, 2,     2.00, 2,    0.629, 2,    0.315, 2,    0.017, 2, -999.000, 9,   -999.0, 9,   -999.0, 9, -999.0000,   -999.00,   -999.0, 9,   -999.0,  -999.00, 9,   -999.0,   5.5036, 27.1181,   5.5754, 2, 9, 0.17, 0.11, 0.01, 0.015,  -999.00, 9, -999.00, -999.00, 9, -999.00
49NZ20071122, P14, 32, 1, 24, X12030, 2, 20071217, 0201, -23.4842, 177.1115, 3996,    929.7, 2,   4.8325, 2,  34.3853, 2,  34.3859, 2,    187.6, 2,    186.6, 2,    35.14, 2,    30.87, 2,     0.01, 2,     2.15, 2,    0.306, 2,    0.156, 2,    0.007, 2, -999.000, 9,   -999.0, 9,   -999.0, 9, -999.0000,   -999.00,   -999.0, 9,   -999.0,  -999.00, 9,   -999.0,   4.7569, 27.2156,   4.8338, 2, 9, 0.20, 0.12, 0.01, 0.015,  -999.00, 9, -999.00, -999.00, 9, -999.00
49NZ20071122, P14, 32, 1, 23, X12027, 2, 20071217, 0201, -23.4842, 177.1115, 3996,   1070.2, 2,   4.1572, 2,  34.4327, 2,  34.4331, 6,    174.7, 2,    173.2, 2,    50.87, 2,    32.74, 2,     0.01, 2,     2.29, 2,    0.128, 2,    0.069, 2,    0.007, 2, -999.000, 9,   -999.0, 9,   -999.0, 9, -999.0000,   -999.00,   -999.0, 9,   -999.0,  -999.00, 9,   -999.0,   4.0745, 27.3271,   4.1572, 2, 9, 0.23, 0.12, 0.01, 0.016,  -999.00, 9, -999.00, -999.00, 9, -999.00
49NZ20071122, P14, 32, 1, 22, X12028, 2, 20071217, 0201, -23.4842, 177.1115, 3996,   1270.3, 2,   3.3457, 2,  34.5218, 2,  34.5231, 3,    160.2, 2,    160.1, 2,    76.46, 2,    34.30, 2,     0.01, 2,     2.40, 2,    0.038, 2,    0.018, 2,    0.000, 2, -999.000, 9,   -999.0, 9,   -999.0, 9, -999.0000,   -999.00,   -999.0, 9,   -999.0,  -999.00, 9,   -999.0,   3.2534, 27.4798,   3.3458, 2, 9, 0.29, 0.13, 0.01, 0.016,  -999.00, 9, -999.00, -999.00, 9, -999.00
49NZ20071122, P14, 32, 1, 21, X12009, 2, 20071217, 0201, -23.4842, 177.1115, 3996,   1470.0, 2,   2.9223, 2,  34.5709, 2,  34.5709, 2,    153.5, 2,    153.5, 2,    90.94, 2,    34.86, 2,     0.01, 2,     2.46, 2,    0.009, 2,    0.007, 2,    0.000, 2, -999.000, 9,   -999.0, 9,   -999.0, 9, -999.0000,   -999.00,   -999.0, 9,   -999.0,  -999.00, 9,   -999.0,   2.8178, 27.5590,   2.9223, 2, 9, 0.32, 0.13, 0.01, 0.016,  -999.00, 9, -999.00, -999.00, 9, -999.00
49NZ20071122, P14, 32, 1, 20, X12026, 2, 20071217, 0201, -23.4842, 177.1115, 3996,   1669.9, 2,   2.6130, 2,  34.6024, 2,  34.6022, 2,    151.5, 2,    151.2, 2,   100.73, 2,    35.14, 2,     0.01, 2,     2.48, 2,    0.004, 2,    0.001, 2,    0.000, 2, -999.000, 9,   -999.0, 9,   -999.0, 9, -999.0000,   -999.00,   -999.0, 9,   -999.0,  -999.00, 9,   -999.0,   2.4956, 27.6123,   2.6131, 2, 9, 0.34, 0.13, 0.01, 0.016,  -999.00, 9, -999.00, -999.00, 9, -999.00
49NZ20071122, P14, 32, 1, 19, X12025, 2, 20071217, 0201, -23.4842, 177.1115, 3996,   1871.1, 2,   2.3890, 2,  34.6243, 2,  34.6241, 2,    150.8, 2,    150.6, 2,   106.94, 2,    35.27, 2,     0.01, 2,     2.50, 2,    0.001, 2,    0.001, 2,    0.000, 2, -999.000, 9,   -999.0, 9,   -999.0, 9, -999.0000,   -999.00,   -999.0, 9,   -999.0,  -999.00, 9,   -999.0,   2.2577, 27.6498,   2.3893, 2, 9, 0.35, 0.13, 0.01, 0.016,  -999.00, 9, -999.00, -999.00, 9, -999.00
49NZ20071122, P14, 32, 1, 18, X12024, 2, 20071217, 0201, -23.4842, 177.1115, 3996,   2070.2, 2,   2.2205, 2,  34.6405, 2,  34.6404, 2,    150.8, 2,    150.7, 2,   111.63, 2,    35.45, 2,     0.01, 2,     2.50, 2,    0.002, 2,    0.001, 2,    0.000, 2, -999.000, 9,   -999.0, 9,   -999.0, 9, -999.0000,   -999.00,   -999.0, 9,   -999.0,  -999.00, 9,   -999.0,   2.0747, 27.6777,   2.2206, 2, 9, 0.36, 0.13, 0.01, 0.016,  -999.00, 9, -999.00, -999.00, 9, -999.00
49NZ20071122, P14, 32, 1, 17, X12023, 2, 20071217, 0201, -23.4842, 177.1115, 3996,   2270.6, 2,   2.1178, 2,  34.6509, 2,  34.6504, 6,    151.1, 2,    151.0, 2,   114.68, 2,    35.46, 2,     0.01, 2,     2.50, 2,    0.001, 2,    0.000, 2,    0.000, 2, -999.000, 9,   -999.0, 9,   -999.0, 9, -999.0000,   -999.00,   -999.0, 9,   -999.0,  -999.00, 9,   -999.0,   1.9561, 27.6955,   2.1178, 2, 9, 0.37, 0.13, 0.01, 0.016,  -999.00, 9, -999.00, -999.00, 9, -999.00
49NZ20071122, P14, 32, 1, 16, X12022, 2, 20071217, 0201, -23.4842, 177.1115, 3996,   2469.6, 2,   2.0111, 2,  34.6617, 2,  34.6616, 2,    152.2, 2,    152.3, 2,   117.10, 2,    35.36, 2,     0.01, 2,     2.49, 2,    0.001, 2,    0.002, 2,    0.000, 2, -999.000, 9,   -999.0, 9,   -999.0, 9, -999.0000,   -999.00,   -999.0, 9,   -999.0,  -999.00, 9,   -999.0,   1.8333, 27.7137,   2.0112, 2, 9, 0.38, 0.13, 0.01, 0.016,  -999.00, 9, -999.00, -999.00, 9, -999.00
49NZ20071122, P14, 32, 1, 15, X12021, 2, 20071217, 0201, -23.4842, 177.1115, 3996,   2669.4, 2,   1.9460, 2,  34.6685, 2,  34.6680, 2,    153.0, 2,    153.3, 2,   118.58, 2,    35.31, 2,     0.01, 2,     2.50, 2, -999.000, 9, -999.000, 9, -999.000, 9, -999.000, 9,   -999.0, 9,   -999.0, 9, -999.0000,   -999.00,   -999.0, 9,   -999.0,  -999.00, 9,   -999.0,   1.7511, 27.7254,   1.9462, 2, 9, 0.38, 0.13, 0.01, 0.016,  -999.00, 9, -999.00, -999.00, 9, -999.00
49NZ20071122, P14, 32, 1, 14, X12020, 2, 20071217, 0201, -23.4842, 177.1115, 3996,   2869.2, 2,   1.8862, 2,  34.6744, 2,  34.6741, 2,    153.9, 2,    154.2, 2,   120.04, 2,    35.34, 2,     0.01, 2,     2.49, 2,    0.003, 2,    0.000, 2,    0.000, 2, -999.000, 9,   -999.0, 9,   -999.0, 9, -999.0000,   -999.00,   -999.0, 9,   -999.0,  -999.00, 9,   -999.0,   1.6736, 27.7361,   1.8862, 2, 9, 0.38, 0.13, 0.01, 0.016,  -999.00, 9, -999.00, -999.00, 9, -999.00
49NZ20071122, P14, 32, 1, 13, X12019, 2, 20071217, 0201, -23.4842, 177.1115, 3996,   3079.4, 2,   1.8506, 2,  34.6781, 2,  34.6779, 2,    154.6, 2,    154.7, 2,   121.32, 2,    35.32, 2,     0.01, 2,     2.49, 2, -999.000, 9, -999.000, 9, -999.000, 9, -999.000, 9,   -999.0, 9,   -999.0, 9, -999.0000,   -999.00,   -999.0, 9,   -999.0,  -999.00, 9,   -999.0,   1.6183, 27.7431,   1.8506, 2, 9, 0.39, 0.13, 0.01, 0.016,  -999.00, 9, -999.00, -999.00, 9, -999.00
49NZ20071122, P14, 32, 1, 12, X12040, 2, 20071217, 0201, -23.4842, 177.1115, 3996,   3330.2, 2,   1.8364, 2,  34.6805, 2,  34.6802, 2,    155.1, 2,    155.2, 2,   122.17, 2,    35.19, 2,     0.01, 2,     2.48, 2,    0.018, 3,    0.011, 3,    0.000, 2, -999.000, 9,   -999.0, 9,   -999.0, 9, -999.0000,   -999.00,   -999.0, 9,   -999.0,  -999.00, 9,   -999.0,   1.5793, 27.7480,   1.8364, 2, 9, 0.39, 0.13, 0.01, 0.016,  -999.00, 9, -999.00, -999.00, 9, -999.00
49NZ20071122, P14, 32, 1, 11, X12047, 2, 20071217, 0201, -23.4842, 177.1115, 3996,   3581.2, 2,   1.8380, 2,  34.6821, 2,  34.6814, 6,    155.3, 2,    155.5, 2,   122.65, 2,    35.20, 2,     0.01, 2,     2.48, 2, -999.000, 9, -999.000, 9, -999.000, 9, -999.000, 9,   -999.0, 9,   -999.0, 9, -999.0000,   -999.00,   -999.0, 9,   -999.0,  -999.00, 9,   -999.0,   1.5549, 27.7510,   1.8380, 2, 9, 0.39, 0.13, 0.01, 0.016,  -999.00, 9, -999.00, -999.00, 9, -999.00
49NZ20071122, P14, 32, 1, 10, X12012, 2, 20071217, 0201, -23.4842, 177.1115, 3996,   3824.1, 2,   1.8491, 2,  34.6827, 2,  34.6827, 2,    155.6, 2,    155.7, 2,   123.06, 2,    35.31, 2,     0.01, 2,     2.48, 2,    0.020, 3,    0.010, 3,    0.000, 2, -999.000, 9,   -999.0, 9,   -999.0, 9, -999.0000,   -999.00,   -999.0, 9,   -999.0,  -999.00, 9,   -999.0,   1.5397, 27.7526,   1.8491, 2, 9, 0.39, 0.13, 0.01, 0.016,  -999.00, 9, -999.00, -999.00, 9, -999.00
49NZ20071122, P14, 32, 1, 9, X12015, 9, 20071217, 0201, -23.4842, 177.1115, 3996,    150.4, 2,  19.5942, 2,  35.7014, 2, -999.0000, 9,    190.9, 2,   -999.0, 9,  -999.00, 9,  -999.00, 9,  -999.00, 9,  -999.00, 9, -999.000, 9, -999.000, 9, -999.000, 9, -999.000, 9,   -999.0, 9,   -999.0, 9, -999.0000,   -999.00,   -999.0, 9,   -999.0,  -999.00, 9,   -999.0,  19.5667, 25.4108,  19.5897, 2, 9, -999.00, -999.00, -999.00, -999.000,  -999.00, 9, -999.00, -999.00, 9, -999.00
49NZ20071122, P14, 32, 1, 8, X12046, 9, 20071217, 0201, -23.4842, 177.1115, 3996,     10.4, 2,  24.9708, 2,  35.2551, 2, -999.0000, 9,    210.2, 2,   -999.0, 9,  -999.00, 9,  -999.00, 9,  -999.00, 9,  -999.00, 9, -999.000, 9, -999.000, 9, -999.000, 9, -999.000, 9,   -999.0, 9,   -999.0, 9, -999.0000,   -999.00,   -999.0, 9,   -999.0,  -999.00, 9,   -999.0,  24.9685, 23.5436,  24.9704, 2, 9, -999.00, -999.00, -999.00, -999.000,  -999.00, 9, -999.00, -999.00, 9, -999.00
49NZ20071122, P14, 32, 1, 7, X12044, 9, 20071217, 0201, -23.4842, 177.1115, 3996,     50.1, 2,  23.5540, 2,  35.4588, 2, -999.0000, 9,    215.7, 2,   -999.0, 9,  -999.00, 9,  -999.00, 9,  -999.00, 9,  -999.00, 9, -999.000, 9, -999.000, 9, -999.000, 9, -999.000, 9,   -999.0, 9,   -999.0, 9, -999.0000,   -999.00,   -999.0, 9,   -999.0,  -999.00, 9,   -999.0,  23.5436, 24.1234,  23.5603, 2, 9, -999.00, -999.00, -999.00, -999.000,  -999.00, 9, -999.00, -999.00, 9, -999.00
49NZ20071122, P14, 32, 1, 6, X12048, 9, 20071217, 0201, -23.4842, 177.1115, 3996,    929.4, 2,   4.8347, 2,  34.3852, 2, -999.0000, 9,    187.6, 2,   -999.0, 9,  -999.00, 9,  -999.00, 9,  -999.00, 9,  -999.00, 9, -999.000, 9, -999.000, 9, -999.000, 9, -999.000, 9,   -999.0, 9,   -999.0, 9, -999.0000,   -999.00,   -999.0, 9,   -999.0,  -999.00, 9,   -999.0,   4.7591, 27.2152,   4.8347, 2, 9, -999.00, -999.00, -999.00, -999.000,  -999.00, 9, -999.00, -999.00, 9, -999.00
49NZ20071122, P14, 32, 1, 5, X12014, 9, 20071217, 0201, -23.4842, 177.1115, 3996,    101.3, 2,  21.0457, 2,  35.6877, 2, -999.0000, 9,    220.7, 2,   -999.0, 9,  -999.00, 9,  -999.00, 9,  -999.00, 9,  -999.00, 9, -999.000, 9, -999.000, 9, -999.000, 9, -999.000, 9,   -999.0, 9,   -999.0, 9, -999.0000,   -999.00,   -999.0, 9,   -999.0,  -999.00, 9,   -999.0,  21.0262, 25.0104,  21.0432, 2, 9, -999.00, -999.00, -999.00, -999.000,  -999.00, 9, -999.00, -999.00, 9, -999.00
49NZ20071122, P14, 32, 1, 4, X12006, 9, 20071217, 0201, -23.4842, 177.1115, 3996,   1269.9, 2,   3.3485, 2,  34.5214, 2, -999.0000, 9,    160.3, 2,   -999.0, 9,  -999.00, 9,  -999.00, 9,  -999.00, 9,  -999.00, 9, -999.000, 9, -999.000, 9, -999.000, 9, -999.000, 9,   -999.0, 9,   -999.0, 9, -999.0000,   -999.00,   -999.0, 9,   -999.0,  -999.00, 9,   -999.0,   3.2562, 27.4792,   3.3482, 2, 9, -999.00, -999.00, -999.00, -999.000,  -999.00, 9, -999.00, -999.00, 9, -999.00
49NZ20071122, P14, 32, 1, 3, X12013, 9, 20071217, 0201, -23.4842, 177.1115, 3996,   3581.1, 2,   1.8380, 2,  34.6822, 2, -999.0000, 9,    155.3, 2,   -999.0, 9,  -999.00, 9,  -999.00, 9,  -999.00, 9,  -999.00, 9, -999.000, 9, -999.000, 9, -999.000, 9, -999.000, 9,   -999.0, 9,   -999.0, 9, -999.0000,   -999.00,   -999.0, 9,   -999.0,  -999.00, 9,   -999.0,   1.5549, 27.7511,   1.8380, 2, 9, -999.00, -999.00, -999.00, -999.000,  -999.00, 9, -999.00, -999.00, 9, -999.00
49NZ20071122, P14, 32, 1, 2, X12002, 9, 20071217, 0201, -23.4842, 177.1115, 3996,   1670.0, 2,   2.6125, 2,  34.6027, 2, -999.0000, 9,    151.5, 2,   -999.0, 9,  -999.00, 9,  -999.00, 9,  -999.00, 9,  -999.00, 9, -999.000, 9, -999.000, 9, -999.000, 9, -999.000, 9,   -999.0, 9,   -999.0, 9, -999.0000,   -999.00,   -999.0, 9,   -999.0,  -999.00, 9,   -999.0,   2.4951, 27.6126,   2.6128, 2, 9, -999.00, -999.00, -999.00, -999.000,  -999.00, 9, -999.00, -999.00, 9, -999.00
49NZ20071122, P14, 32, 1, 1, X12001, 2, 20071217, 0201, -23.4842, 177.1115, 3996,   4052.2, 2,   1.8578, 2,  34.6836, 2,  34.6835, 6,    156.2, 2,    156.3, 2,   123.30, 2,    35.28, 2,     0.00, 2,     2.48, 2,    0.001, 2,    0.001, 2,    0.000, 2, -999.000, 9,   -999.0, 9,   -999.0, 9, -999.0000,   -999.00,   -999.0, 9,   -999.0,  -999.00, 9,   -999.0,   1.5230, 27.7546,   1.8579, 2, 9, 0.39, 0.13, 0.01, 0.016,  -999.00, 9, -999.00, -999.00, 9, -999.00