BOTTLE,20220820CCHSIOAMB
EXPOCODE,SECT_ID,STNNBR,CASTNO,SAMPNO,BTLNBR,BTLNBR_FLAG_W,DATE,TIME,LATITUDE,LONGITUDE,DEPTH,CTDPRS,CTDPRS_FLAG_W,CTDTMP,CTDTMP_FLAG_W,CTDSAL,CTDSAL_FLAG_W,SALNTY,SALNTY_FLAG_W,CTDOXY,CTDOXY_FLAG_W,OXYGEN,OXYGEN_FLAG_W,SILCAT,SILCAT_FLAG_W,NITRAT,NITRAT_FLAG_W,NITRIT,NITRIT_FLAG_W,PHSPHT,PHSPHT_FLAG_W,CFC-11,CFC-11_FLAG_W,CFC-12,CFC-12_FLAG_W,CFC113,CFC113_FLAG_W,CCL4,CCL4_FLAG_W,TCARBN,TCARBN_FLAG_W,ALKALI,ALKALI_FLAG_W,PH_TOT,PH_TMP,DELC14,DELC14_FLAG_W,C14ERR,DELC13,DELC13_FLAG_W,C13ERR,THETA,SIG0,SBE35,SBE35_FLAG_W,PH_TOT_FLAG_W,SILUNC,NRAUNC,NRIUNC,PHPUNC,CS-137,CS-137_FLAG_W,CS137ER,PLUTO,PLUTO_FLAG_W,PLUTOER
,,,,,,,,,,,METERS,DBAR,,ITS-90,,PSS-78,,PSS-78,,UMOL/KG,,UMOL/KG,,UMOL/KG,,UMOL/KG,,UMOL/KG,,UMOL/KG,,PMOL/KG,,PMOL/KG,,PMOL/KG,,PMOL/KG,,UMOL/KG,,UMOL/KG,,,DEG C,/MILLE,,/MILLE,/MILLE,,/MILLE,DEG C,KG/M^3,ITS-90,,,UMOL/KG,UMOL/KG,UMOL/KG,UMOL/KG,DM/.1MG,,BQ/M^3,MBQ/M^3,,MBQ/M^3
49NZ20071122, P14N, 163, 1, 36, X12042, 2, 20071207, 1509, -4.9985, 179.0010, 5546,     10.6, 2,  28.7371, 2,  35.5658, 2,  35.5671, 2,    196.0, 2,    195.2, 2,     1.11, 2,     1.47, 2,     0.12, 2,     0.36, 2,    1.470, 2,    0.919, 2,    0.158, 4, -999.000, 9,   -999.0, 9,   -999.0, 9, -999.0000,   -999.00,   -999.0, 9,   -999.0,  -999.00, 9,   -999.0,  28.7346, 22.5776,  28.7361, 2, 9, 0.12, 0.04, 0.01, 0.014,  -999.00, 9, -999.00, -999.00, 9, -999.00
49NZ20071122, P14N, 163, 1, 35, X12041, 2, 20071207, 1509, -4.9985, 179.0010, 5546,     50.4, 2,  28.4071, 2,  35.6771, 2,  35.6770, 2,    199.9, 2,    196.9, 2,     1.30, 2,     2.41, 2,     0.18, 2,     0.42, 2,    1.498, 2,    0.935, 2,    0.176, 4, -999.000, 9,   -999.0, 9,   -999.0, 9, -999.0000,   -999.00,   -999.0, 9,   -999.0,  -999.00, 9,   -999.0,  28.3951, 22.7739,  28.4069, 2, 9, 0.12, 0.04, 0.01, 0.013,  -999.00, 9, -999.00, -999.00, 9, -999.00
49NZ20071122, P14N, 163, 1, 34, X12016, 2, 20071207, 1509, -4.9985, 179.0010, 5546,    100.6, 2,  27.9650, 2,  35.6565, 2,  35.6554, 2,    197.7, 2,    198.0, 2,     1.50, 2,     3.13, 2,     0.25, 2,     0.49, 2,    1.539, 2,    0.960, 2,    0.157, 4, -999.000, 9,   -999.0, 9,   -999.0, 9, -999.0000,   -999.00,   -999.0, 9,   -999.0,  -999.00, 9,   -999.0,  27.9413, 22.9077,  27.9647, 2, 9, 0.12, 0.04, 0.01, 0.013,  -999.00, 9, -999.00, -999.00, 9, -999.00
49NZ20071122, P14N, 163, 1, 33, X12033, 2, 20071207, 1509, -4.9985, 179.0010, 5546,    151.7, 2,  27.6705, 2,  35.6436, 2,  35.6427, 2,    191.4, 2,    191.9, 2,     1.63, 2,     3.32, 2,     0.39, 2,     0.54, 2,    1.563, 2,    0.961, 2,    0.155, 4, -999.000, 9,   -999.0, 9,   -999.0, 9, -999.0000,   -999.00,   -999.0, 9,   -999.0,  -999.00, 9,   -999.0,  27.6350, 22.9978,  27.6732, 2, 9, 0.12, 0.04, 0.00, 0.013,  -999.00, 9, -999.00, -999.00, 9, -999.00
49NZ20071122, P14N, 163, 1, 32, X12038, 2, 20071207, 1509, -4.9985, 179.0010, 5546,    200.0, 2,  26.1647, 2,  35.8116, 2,  35.8899, 2,    160.9, 2,    158.3, 2,     1.81, 2,     6.68, 2,     0.21, 2,     0.72, 2,    1.726, 2,    1.054, 2,    0.143, 4, -999.000, 9,   -999.0, 9,   -999.0, 9, -999.0000,   -999.00,   -999.0, 9,   -999.0,  -999.00, 9,   -999.0,  26.1197, 23.6083,  26.1629, 2, 9, 0.12, 0.05, 0.01, 0.013,  -999.00, 9, -999.00, -999.00, 9, -999.00
49NZ20071122, P14N, 163, 1, 31, X12003, 2, 20071207, 1509, -4.9985, 179.0010, 5546,    249.9, 2,  15.8737, 2,  35.2776, 2,  35.2630, 6,    105.9, 2,    101.5, 2,     8.63, 2,    17.57, 2,     0.01, 2,     1.47, 2,    1.640, 2,    0.906, 2,    0.037, 2, -999.000, 9,   -999.0, 9,   -999.0, 9, -999.0000,   -999.00,   -999.0, 9,   -999.0,  -999.00, 9,   -999.0,  15.8342, 25.9991,  15.8725, 2, 9, 0.14, 0.08, 0.01, 0.014,  -999.00, 9, -999.00, -999.00, 9, -999.00
49NZ20071122, P14N, 163, 1, 30, X12008, 2, 20071207, 1509, -4.9985, 179.0010, 5546,    301.8, 2,  11.3668, 2,  34.8598, 2,  34.8512, 2,     98.2, 2,    100.8, 2,    17.55, 2,    25.30, 2,     0.01, 2,     1.89, 2,    0.955, 2,    0.502, 2,    0.026, 2, -999.000, 9,   -999.0, 9,   -999.0, 9, -999.0000,   -999.00,   -999.0, 9,   -999.0,  -999.00, 9,   -999.0,  11.3287, 26.6063,  11.3706, 2, 9, 0.16, 0.10, 0.01, 0.015,  -999.00, 9, -999.00, -999.00, 9, -999.00
49NZ20071122, P14N, 163, 1, 29, X12035, 2, 20071207, 1509, -4.9985, 179.0010, 5546,    401.0, 2,   9.1460, 2,  34.6836, 2,  34.6820, 2,    103.1, 2,    104.5, 2,    24.78, 2,    29.58, 2,     0.01, 2,     2.11, 2,    0.584, 2,    0.304, 2,    0.020, 2, -999.000, 9,   -999.0, 9,   -999.0, 9, -999.0000,   -999.00,   -999.0, 9,   -999.0,  -999.00, 9,   -999.0,   9.1017, 26.8540,   9.1467, 2, 9, 0.17, 0.12, 0.01, 0.015,  -999.00, 9, -999.00, -999.00, 9, -999.00
49NZ20071122, P14N, 163, 1, 28, X12034, 2, 20071207, 1509, -4.9985, 179.0010, 5546,    500.8, 2,   7.7460, 2,  34.5944, 2,  34.5943, 6,    115.6, 2,    111.8, 2,    31.08, 2,    31.78, 2,     0.01, 2,     2.26, 2,    0.395, 2,    0.206, 2,    0.006, 2, -999.000, 9,   -999.0, 9,   -999.0, 9, -999.0000,   -999.00,   -999.0, 9,   -999.0,  -999.00, 9,   -999.0,   7.6956, 27.0003,   7.7460, 2, 9, 0.19, 0.12, 0.01, 0.016,  -999.00, 9, -999.00, -999.00, 9, -999.00
49NZ20071122, P14N, 163, 1, 27, X12049, 2, 20071207, 1509, -4.9985, 179.0010, 5546,    600.4, 2,   6.9328, 2,  34.5525, 2,  34.5517, 2,    118.7, 2,    118.1, 2,    36.52, 2,    32.91, 2,     0.01, 2,     2.34, 2,    0.294, 2,    0.151, 2,    0.005, 2, -999.000, 9,   -999.0, 9,   -999.0, 9, -999.0000,   -999.00,   -999.0, 9,   -999.0,  -999.00, 9,   -999.0,   6.8756, 27.0834,   6.9331, 2, 9, 0.20, 0.12, 0.01, 0.016,  -999.00, 9, -999.00, -999.00, 9, -999.00
49NZ20071122, P14N, 163, 1, 26, X12032, 2, 20071207, 1509, -4.9985, 179.0010, 5546,    702.1, 2,   6.1891, 2,  34.5353, 2,  34.5347, 2,    108.7, 2,    107.9, 2,    46.24, 2,    35.20, 2,     0.01, 2,     2.51, 2,    0.154, 2,    0.079, 2,    0.000, 2, -999.000, 9,   -999.0, 9,   -999.0, 9, -999.0000,   -999.00,   -999.0, 9,   -999.0,  -999.00, 9,   -999.0,   6.1257, 27.1694,   6.1899, 2, 9, 0.22, 0.13, 0.01, 0.016,  -999.00, 9, -999.00, -999.00, 9, -999.00
49NZ20071122, P14N, 163, 1, 25, X12043, 2, 20071207, 1509, -4.9985, 179.0010, 5546,    801.4, 2,   5.5644, 2,  34.5228, 2,  34.5223, 2,    116.5, 2,    116.6, 2,    52.53, 2,    35.33, 2,     0.01, 2,     2.52, 2,    0.101, 2,    0.057, 2,    0.000, 2, -999.000, 9,   -999.0, 9,   -999.0, 9, -999.0000,   -999.00,   -999.0, 9,   -999.0,  -999.00, 9,   -999.0,   5.4953, 27.2382,   5.5645, 2, 9, 0.23, 0.13, 0.01, 0.016,  -999.00, 9, -999.00, -999.00, 9, -999.00
49NZ20071122, P14N, 163, 1, 24, X12030, 2, 20071207, 1509, -4.9985, 179.0010, 5546,    901.8, 2,   4.9899, 2,  34.5264, 2,  34.5263, 2,    116.1, 2,    115.3, 2,    62.57, 2,    36.31, 2,     0.01, 2,     2.59, 2,    0.054, 2,    0.031, 2,    0.000, 2, -999.000, 9,   -999.0, 9,   -999.0, 9, -999.0000,   -999.00,   -999.0, 9,   -999.0,  -999.00, 9,   -999.0,   4.9154, 27.3095,   4.9931, 2, 9, 0.26, 0.13, 0.01, 0.016,  -999.00, 9, -999.00, -999.00, 9, -999.00
49NZ20071122, P14N, 163, 1, 23, X12027, 2, 20071207, 1509, -4.9985, 179.0010, 5546,   1000.6, 2,   4.4132, 2,  34.5382, 2,  34.5386, 6,    117.0, 2,    116.0, 2,    74.55, 2,    36.79, 2,     0.01, 2,     2.64, 2,    0.037, 2,    0.021, 2,    0.004, 2, -999.000, 9,   -999.0, 9,   -999.0, 9, -999.0000,   -999.00,   -999.0, 9,   -999.0,  -999.00, 9,   -999.0,   4.3343, 27.3834,   4.4136, 2, 9, 0.28, 0.14, 0.01, 0.017,  -999.00, 9, -999.00, -999.00, 9, -999.00
49NZ20071122, P14N, 163, 1, 22, X12028, 2, 20071207, 1509, -4.9985, 179.0010, 5546,   1199.7, 2,   3.6091, 2,  34.5686, 2,  34.5690, 2,    107.8, 2,    108.5, 2,    93.99, 2,    38.24, 2,     0.01, 2,     2.75, 2,    0.007, 2,    0.006, 2,    0.005, 2, -999.000, 9,   -999.0, 9,   -999.0, 9, -999.0000,   -999.00,   -999.0, 9,   -999.0,  -999.00, 9,   -999.0,   3.5200, 27.4914,   3.6093, 2, 9, 0.33, 0.14, 0.01, 0.017,  -999.00, 9, -999.00, -999.00, 9, -999.00
49NZ20071122, P14N, 163, 1, 21, X12009, 2, 20071207, 1509, -4.9985, 179.0010, 5546,   1400.7, 2,   3.0775, 2,  34.5918, 2,  34.5923, 2,    113.4, 2,    112.4, 2,   106.31, 2,    38.38, 2,     0.01, 2,     2.75, 2,    0.006, 2,    0.003, 2,    0.000, 2, -999.000, 9,   -999.0, 9,   -999.0, 9, -999.0000,   -999.00,   -999.0, 9,   -999.0,  -999.00, 9,   -999.0,   2.9770, 27.5613,   3.0776, 2, 9, 0.35, 0.14, 0.01, 0.017,  -999.00, 9, -999.00, -999.00, 9, -999.00
49NZ20071122, P14N, 163, 1, 20, X12026, 2, 20071207, 1509, -4.9985, 179.0010, 5546,   1600.4, 2,   2.6965, 2,  34.6115, 2,  34.6118, 2,    117.1, 2,    117.1, 2,   115.42, 2,    38.12, 2,     0.01, 2,     2.73, 2,    0.001, 2,    0.000, 2,    0.000, 2, -999.000, 9,   -999.0, 9,   -999.0, 9, -999.0000,   -999.00,   -999.0, 9,   -999.0,  -999.00, 9,   -999.0,   2.5838, 27.6121,   2.6965, 2, 9, 0.37, 0.14, 0.01, 0.017,  -999.00, 9, -999.00, -999.00, 9, -999.00
49NZ20071122, P14N, 163, 1, 19, X12025, 2, 20071207, 1509, -4.9985, 179.0010, 5546,   1801.8, 2,   2.4349, 2,  34.6267, 2,  34.6270, 2,    120.1, 2,    120.2, 2,   122.23, 2,    37.99, 2,     0.01, 2,     2.72, 2,    0.000, 2,    0.000, 2,    0.000, 2, -999.000, 9,   -999.0, 9,   -999.0, 9, -999.0000,   -999.00,   -999.0, 9,   -999.0,  -999.00, 9,   -999.0,   2.3088, 27.6476,   2.4347, 2, 9, 0.39, 0.14, 0.01, 0.017,  -999.00, 9, -999.00, -999.00, 9, -999.00
49NZ20071122, P14N, 163, 1, 18, X12024, 2, 20071207, 1509, -4.9985, 179.0010, 5546,   2001.0, 2,   2.2080, 2,  34.6404, 2,  34.6407, 2,    122.4, 2,    123.0, 2,   128.43, 2,    37.85, 2,     0.01, 2,     2.70, 2, -999.000, 9, -999.000, 9, -999.000, 9, -999.000, 9,   -999.0, 9,   -999.0, 9, -999.0000,   -999.00,   -999.0, 9,   -999.0,  -999.00, 9,   -999.0,   2.0683, 27.6782,   2.2080, 2, 9, 0.40, 0.14, 0.01, 0.017,  -999.00, 9, -999.00, -999.00, 9, -999.00
49NZ20071122, P14N, 163, 1, 17, X12023, 2, 20071207, 1509, -4.9985, 179.0010, 5546,   2201.6, 2,   2.0350, 2,  34.6507, 2,  34.6505, 6,    127.6, 2,    128.1, 2,   131.80, 2,    37.63, 2,     0.01, 2,     2.67, 2,    0.000, 2,    0.001, 2,    0.000, 2, -999.000, 9,   -999.0, 9,   -999.0, 9, -999.0000,   -999.00,   -999.0, 9,   -999.0,  -999.00, 9,   -999.0,   1.8807, 27.7012,   2.0350, 2, 9, 0.41, 0.14, 0.01, 0.017,  -999.00, 9, -999.00, -999.00, 9, -999.00
49NZ20071122, P14N, 163, 1, 16, X12022, 2, 20071207, 1509, -4.9985, 179.0010, 5546,   2400.8, 2,   1.9166, 2,  34.6584, 2,  34.6585, 2,    132.4, 2,    133.1, 2,   133.46, 2,    37.16, 2,     0.01, 2,     2.64, 2, -999.000, 9, -999.000, 9, -999.000, 9, -999.000, 9,   -999.0, 9,   -999.0, 9, -999.0000,   -999.00,   -999.0, 9,   -999.0,  -999.00, 9,   -999.0,   1.7468, 27.7176,   1.9167, 2, 9, 0.41, 0.14, 0.01, 0.017,  -999.00, 9, -999.00, -999.00, 9, -999.00
49NZ20071122, P14N, 163, 1, 15, X12021, 2, 20071207, 1509, -4.9985, 179.0010, 5546,   2600.6, 2,   1.7956, 2,  34.6656, 2,  34.6656, 2,    136.1, 2,    136.8, 2,   135.82, 2,    37.05, 2,     0.01, 2,     2.63, 2, -999.000, 9, -999.000, 9, -999.000, 9, -999.000, 9,   -999.0, 9,   -999.0, 9, -999.0000,   -999.00,   -999.0, 9,   -999.0,  -999.00, 9,   -999.0,   1.6100, 27.7337,   1.7956, 2, 9, 0.42, 0.14, 0.01, 0.017,  -999.00, 9, -999.00, -999.00, 9, -999.00
49NZ20071122, P14N, 163, 1, 14, X12020, 2, 20071207, 1509, -4.9985, 179.0010, 5546,   2800.0, 2,   1.7174, 2,  34.6712, 2,  34.6709, 2,    140.7, 2,    141.5, 2,   136.14, 2,    36.70, 2,     0.01, 2,     2.60, 2,    0.000, 2,    0.000, 2,    0.000, 2, -999.000, 9,   -999.0, 9,   -999.0, 9, -999.0000,   -999.00,   -999.0, 9,   -999.0,  -999.00, 9,   -999.0,   1.5149, 27.7452,   1.7174, 2, 9, 0.42, 0.14, 0.01, 0.016,  -999.00, 9, -999.00, -999.00, 9, -999.00
49NZ20071122, P14N, 163, 1, 13, X12019, 2, 20071207, 1509, -4.9985, 179.0010, 5546,   2999.8, 2,   1.6287, 2,  34.6768, 2,  34.6765, 2,    146.4, 2,    146.8, 2,   136.40, 2,    36.32, 2,     0.01, 2,     2.56, 2, -999.000, 9, -999.000, 9, -999.000, 9, -999.000, 9,   -999.0, 9,   -999.0, 9, -999.0000,   -999.00,   -999.0, 9,   -999.0,  -999.00, 9,   -999.0,   1.4091, 27.7574,   1.6287, 2, 9, 0.42, 0.13, 0.01, 0.016,  -999.00, 9, -999.00, -999.00, 9, -999.00
49NZ20071122, P14N, 163, 1, 12, X12040, 2, 20071207, 1509, -4.9985, 179.0010, 5546,   3250.0, 2,   1.5461, 2,  34.6821, 2,  34.6816, 2,    152.2, 2,    152.8, 2,   136.04, 2,    35.93, 2,     0.01, 2,     2.52, 2, -999.000, 9, -999.000, 9, -999.000, 9, -999.000, 9,   -999.0, 9,   -999.0, 9, -999.0000,   -999.00,   -999.0, 9,   -999.0,  -999.00, 9,   -999.0,   1.3040, 27.7691,   1.5461, 2, 9, 0.42, 0.13, 0.01, 0.016,  -999.00, 9, -999.00, -999.00, 9, -999.00
49NZ20071122, P14N, 163, 1, 11, X12047, 2, 20071207, 1509, -4.9985, 179.0010, 5546,   3500.0, 2,   1.4873, 2,  34.6866, 2,  34.6861, 2,    156.2, 2,    157.5, 2,   136.07, 2,    35.63, 2,     0.01, 2,     2.51, 2,    0.000, 2,    0.000, 2,    0.010, 3, -999.000, 9,   -999.0, 9,   -999.0, 9, -999.0000,   -999.00,   -999.0, 9,   -999.0,  -999.00, 9,   -999.0,   1.2215, 27.7784,   1.4873, 2, 9, 0.42, 0.13, 0.01, 0.016,  -999.00, 9, -999.00, -999.00, 9, -999.00
49NZ20071122, P14N, 163, 1, 10, X12012, 2, 20071207, 1509, -4.9985, 179.0010, 5546,   3749.5, 2,   1.4570, 2,  34.6897, 2,  34.6893, 2,    160.5, 2,    161.2, 2,   135.65, 2,    35.48, 2,     0.01, 2,     2.49, 2, -999.000, 9, -999.000, 9, -999.000, 9, -999.000, 9,   -999.0, 9,   -999.0, 9, -999.0000,   -999.00,   -999.0, 9,   -999.0,  -999.00, 9,   -999.0,   1.1661, 27.7848,   1.4570, 2, 9, 0.42, 0.13, 0.01, 0.016,  -999.00, 9, -999.00, -999.00, 9, -999.00
49NZ20071122, P14N, 163, 1, 9, X12015, 2, 20071207, 1509, -4.9985, 179.0010, 5546,   3999.8, 2,   1.3988, 2,  34.6941, 2,  34.6936, 6,    167.4, 2,    168.5, 2,   133.24, 2,    34.91, 2,     0.01, 2,     2.45, 2,    0.000, 2,    0.000, 2,    0.000, 2, -999.000, 9,   -999.0, 9,   -999.0, 9, -999.0000,   -999.00,   -999.0, 9,   -999.0,  -999.00, 9,   -999.0,   1.0827, 27.7940,   1.3986, 2, 9, 0.41, 0.13, 0.01, 0.016,  -999.00, 9, -999.00, -999.00, 9, -999.00
49NZ20071122, P14N, 163, 1, 8, X12046, 2, 20071207, 1509, -4.9985, 179.0010, 5546,   4249.2, 2,   1.3459, 2,  34.6984, 2,  34.6980, 2,    176.0, 2,    177.2, 2,   128.77, 2,    34.30, 2,     0.01, 2,     2.40, 2,    0.001, 2,    0.000, 2,    0.000, 2, -999.000, 9,   -999.0, 9,   -999.0, 9, -999.0000,   -999.00,   -999.0, 9,   -999.0,  -999.00, 9,   -999.0,   1.0039, 27.8027,   1.3459, 2, 9, 0.40, 0.13, 0.01, 0.016,  -999.00, 9, -999.00, -999.00, 9, -999.00
49NZ20071122, P14N, 163, 1, 7, X12044, 2, 20071207, 1509, -4.9985, 179.0010, 5546,   4500.1, 2,   1.2709, 2,  34.7038, 2,  34.7039, 2,    188.0, 2,    189.1, 2,   122.36, 2,    33.34, 2,     0.01, 2,     2.34, 2,    0.004, 2,    0.004, 2,    0.000, 2, -999.000, 9,   -999.0, 9,   -999.0, 9, -999.0000,   -999.00,   -999.0, 9,   -999.0,  -999.00, 9,   -999.0,   0.9029, 27.8137,   1.2708, 2, 9, 0.39, 0.13, 0.01, 0.016,  -999.00, 9, -999.00, -999.00, 9, -999.00
49NZ20071122, P14N, 163, 1, 6, X12048, 2, 20071207, 1509, -4.9985, 179.0010, 5546,   4751.1, 2,   1.2386, 2,  34.7056, 2,  34.7061, 2,    193.2, 2,    193.6, 2,   121.06, 2,    33.01, 2,     0.01, 2,     2.32, 2,    0.005, 2,    0.004, 2,    0.000, 2, -999.000, 9,   -999.0, 9,   -999.0, 9, -999.0000,   -999.00,   -999.0, 9,   -999.0,  -999.00, 9,   -999.0,   0.8426, 27.8191,   1.2387, 2, 9, 0.39, 0.13, 0.01, 0.016,  -999.00, 9, -999.00, -999.00, 9, -999.00
49NZ20071122, P14N, 163, 1, 5, X12014, 2, 20071207, 1509, -4.9985, 179.0010, 5546,   4999.8, 2,   1.2390, 2,  34.7066, 2,  34.7067, 2,    195.8, 2,    195.9, 2,   120.14, 2,    32.94, 2,     0.01, 2,     2.31, 2,    0.004, 2,    0.005, 2,    0.000, 2, -999.000, 9,   -999.0, 9,   -999.0, 9, -999.0000,   -999.00,   -999.0, 9,   -999.0,  -999.00, 9,   -999.0,   0.8135, 27.8217,   1.2390, 2, 9, 0.38, 0.13, 0.01, 0.016,  -999.00, 9, -999.00, -999.00, 9, -999.00
49NZ20071122, P14N, 163, 1, 4, X12006, 2, 20071207, 1509, -4.9985, 179.0010, 5546,   5249.2, 2,   1.2656, 2,  34.7066, 2,  34.7071, 2,    196.4, 2,    195.9, 2,   120.08, 2,    32.89, 2,     0.01, 2,     2.31, 2,    0.007, 2,    0.003, 2,    0.000, 2, -999.000, 9,   -999.0, 9,   -999.0, 9, -999.0000,   -999.00,   -999.0, 9,   -999.0,  -999.00, 9,   -999.0,   0.8088, 27.8221,   1.2656, 2, 9, 0.38, 0.12, 0.01, 0.016,  -999.00, 9, -999.00, -999.00, 9, -999.00
49NZ20071122, P14N, 163, 1, 3, X12013, 2, 20071207, 1509, -4.9985, 179.0010, 5546,   5499.3, 2,   1.2977, 2,  34.7066, 2,  34.7081, 3,    196.4, 2,    195.9, 2,   119.95, 2,    32.82, 2,     0.01, 2,     2.31, 2,    0.008, 2,    0.005, 2,    0.000, 2, -999.000, 9,   -999.0, 9,   -999.0, 9, -999.0000,   -999.00,   -999.0, 9,   -999.0,  -999.00, 9,   -999.0,   0.8085, 27.8220,   1.2977, 2, 9, 0.38, 0.12, 0.01, 0.016,  -999.00, 9, -999.00, -999.00, 9, -999.00
49NZ20071122, P14N, 163, 1, 2, X12002, 9, 20071207, 1509, -4.9985, 179.0010, 5546,    100.2, 2,  27.9656, 2,  35.6563, 2, -999.0000, 9,    198.2, 2,   -999.0, 9,  -999.00, 9,  -999.00, 9,  -999.00, 9,  -999.00, 9, -999.000, 9, -999.000, 9, -999.000, 9, -999.000, 9,   -999.0, 9,   -999.0, 9, -999.0000,   -999.00,   -999.0, 9,   -999.0,  -999.00, 9,   -999.0,  27.9420, 22.9073,  27.9650, 2, 9, -999.00, -999.00, -999.00, -999.000,  -999.00, 9, -999.00, -999.00, 9, -999.00
49NZ20071122, P14N, 163, 1, 1, X12001, 2, 20071207, 1509, -4.9985, 179.0010, 5546,   5584.8, 2,   1.3089, 2,  34.7064, 2,  34.7067, 6,    196.2, 2,    196.0, 2,   120.14, 2,    32.96, 2,     0.01, 2,     2.31, 2,    0.009, 2,    0.007, 2,    0.000, 2, -999.000, 9,   -999.0, 9,   -999.0, 9, -999.0000,   -999.00,   -999.0, 9,   -999.0,  -999.00, 9,   -999.0,   0.8084, 27.8220,   1.3088, 2, 9, 0.38, 0.13, 0.01, 0.016,  -999.00, 9, -999.00, -999.00, 9, -999.00