BOTTLE,20220820CCHSIOAMB
EXPOCODE,SECT_ID,STNNBR,CASTNO,SAMPNO,BTLNBR,BTLNBR_FLAG_W,DATE,TIME,LATITUDE,LONGITUDE,DEPTH,CTDPRS,CTDPRS_FLAG_W,CTDTMP,CTDTMP_FLAG_W,CTDSAL,CTDSAL_FLAG_W,SALNTY,SALNTY_FLAG_W,CTDOXY,CTDOXY_FLAG_W,OXYGEN,OXYGEN_FLAG_W,SILCAT,SILCAT_FLAG_W,NITRAT,NITRAT_FLAG_W,NITRIT,NITRIT_FLAG_W,PHSPHT,PHSPHT_FLAG_W,CFC-11,CFC-11_FLAG_W,CFC-12,CFC-12_FLAG_W,CFC113,CFC113_FLAG_W,CCL4,CCL4_FLAG_W,TCARBN,TCARBN_FLAG_W,ALKALI,ALKALI_FLAG_W,PH_TOT,PH_TMP,DELC14,DELC14_FLAG_W,C14ERR,DELC13,DELC13_FLAG_W,C13ERR,THETA,SIG0,SBE35,SBE35_FLAG_W,PH_TOT_FLAG_W,SILUNC,NRAUNC,NRIUNC,PHPUNC,CS-137,CS-137_FLAG_W,CS137ER,PLUTO,PLUTO_FLAG_W,PLUTOER
,,,,,,,,,,,METERS,DBAR,,ITS-90,,PSS-78,,PSS-78,,UMOL/KG,,UMOL/KG,,UMOL/KG,,UMOL/KG,,UMOL/KG,,UMOL/KG,,PMOL/KG,,PMOL/KG,,PMOL/KG,,PMOL/KG,,UMOL/KG,,UMOL/KG,,,DEG C,/MILLE,,/MILLE,/MILLE,,/MILLE,DEG C,KG/M^3,ITS-90,,,UMOL/KG,UMOL/KG,UMOL/KG,UMOL/KG,DM/.1MG,,BQ/M^3,MBQ/M^3,,MBQ/M^3
49NZ20071122, P14N, 112, 1, 36, X12042, 2, 20071124, 1349, 7.7487, 179.0115, 5867,     10.7, 2,  28.2852, 2,  34.3533, 2,  34.3538, 2,    195.9, 2,    197.0, 2,     1.13, 2,     0.07, 2,     0.01, 2,     0.17, 2,    1.483, 2,    0.929, 2,    0.231, 4, -999.000, 9,   -999.0, 9,   -999.0, 9, -999.0000,   -999.00,   -999.0, 9,   -999.0,  -999.00, 9,   -999.0,  28.2827, 21.8159,  28.2839, 2, 9, 0.12, 0.03, 0.01, 0.017,  -999.00, 9, -999.00, -999.00, 9, -999.00
49NZ20071122, P14N, 112, 1, 35, X12041, 2, 20071124, 1349, 7.7487, 179.0115, 5867,     50.5, 2,  28.2996, 2,  34.3564, 2,  34.3572, 2,    197.6, 2,    196.8, 2,     1.06, 2,     0.06, 2,     0.01, 2,     0.16, 2,    1.492, 2,    0.927, 2,    0.320, 4, -999.000, 9,   -999.0, 9,   -999.0, 9, -999.0000,   -999.00,   -999.0, 9,   -999.0,  -999.00, 9,   -999.0,  28.2876, 21.8167,  28.2970, 2, 9, 0.12, 0.03, 0.01, 0.017,  -999.00, 9, -999.00, -999.00, 9, -999.00
49NZ20071122, P14N, 112, 1, 34, X12016, 2, 20071124, 1349, 7.7487, 179.0115, 5867,     99.2, 2,  27.1032, 2,  34.7251, 2,  34.7261, 2,    200.0, 2,    195.8, 2,     1.22, 2,     0.28, 2,     0.08, 2,     0.21, 2,    1.626, 2,    1.000, 2,    0.278, 4, -999.000, 9,   -999.0, 9,   -999.0, 9, -999.0000,   -999.00,   -999.0, 9,   -999.0,  -999.00, 9,   -999.0,  27.0804, 22.4850,  27.1010, 2, 9, 0.12, 0.03, 0.01, 0.016,  -999.00, 9, -999.00, -999.00, 9, -999.00
49NZ20071122, P14N, 112, 1, 33, X12033, 2, 20071124, 1349, 7.7487, 179.0115, 5867,    149.8, 2,  18.1950, 2,  34.7040, 2,  34.7030, 2,    164.1, 2,    169.7, 2,     4.54, 2,     5.81, 2,     0.09, 2,     0.58, 2,    2.375, 2,    1.354, 2,    0.084, 2, -999.000, 9,   -999.0, 9,   -999.0, 9, -999.0000,   -999.00,   -999.0, 9,   -999.0,  -999.00, 9,   -999.0,  18.1692, 25.0036,  18.1973, 2, 9, 0.13, 0.05, 0.01, 0.013,  -999.00, 9, -999.00, -999.00, 9, -999.00
49NZ20071122, P14N, 112, 1, 32, X12038, 2, 20071124, 1349, 7.7487, 179.0115, 5867,    198.8, 2,  11.9790, 2,  34.4440, 2,  34.4447, 2,     82.6, 2,     82.7, 2,    21.97, 2,    24.28, 2,     0.01, 2,     1.86, 2,    1.706, 2,    0.888, 2,    0.023, 2, -999.000, 9,   -999.0, 9,   -999.0, 9, -999.0000,   -999.00,   -999.0, 9,   -999.0,  -999.00, 9,   -999.0,  11.9532, 26.1661,  11.9660, 2, 9, 0.17, 0.10, 0.01, 0.015,  -999.00, 9, -999.00, -999.00, 9, -999.00
49NZ20071122, P14N, 112, 1, 31, X12003, 2, 20071124, 1349, 7.7487, 179.0115, 5867,    250.5, 2,  10.3739, 2,  34.6365, 2,  34.6355, 6,     25.7, 2,     25.3, 2,    31.57, 2,    33.77, 2,     0.01, 2,     2.46, 2,    0.468, 2,    0.242, 2,    0.015, 2, -999.000, 9,   -999.0, 9,   -999.0, 9, -999.0000,   -999.00,   -999.0, 9,   -999.0,  -999.00, 9,   -999.0,  10.3442, 26.6088,  10.3751, 2, 9, 0.19, 0.13, 0.01, 0.016,  -999.00, 9, -999.00, -999.00, 9, -999.00
49NZ20071122, P14N, 112, 1, 30, X12008, 2, 20071124, 1349, 7.7487, 179.0115, 5867,    302.6, 2,   9.7030, 2,  34.6450, 2,  34.6442, 2,     30.6, 2,     34.9, 2,    33.65, 2,    34.34, 2,     0.01, 2,     2.46, 2,    0.335, 2,    0.173, 2,    0.009, 2, -999.000, 9,   -999.0, 9,   -999.0, 9, -999.0000,   -999.00,   -999.0, 9,   -999.0,  -999.00, 9,   -999.0,   9.6685, 26.7307,   9.7062, 2, 9, 0.19, 0.13, 0.01, 0.016,  -999.00, 9, -999.00, -999.00, 9, -999.00
49NZ20071122, P14N, 112, 1, 29, X12035, 2, 20071124, 1349, 7.7487, 179.0115, 5867,    402.5, 2,   8.8840, 2,  34.6278, 2,  34.6263, 2,     48.2, 2,     47.8, 2,    36.55, 2,    35.00, 2,     0.01, 2,     2.50, 2,    0.251, 2,    0.131, 2,    0.000, 2, -999.000, 9,   -999.0, 9,   -999.0, 9, -999.0000,   -999.00,   -999.0, 9,   -999.0,  -999.00, 9,   -999.0,   8.8403, 26.8521,   8.8849, 2, 9, 0.20, 0.13, 0.01, 0.016,  -999.00, 9, -999.00, -999.00, 9, -999.00
49NZ20071122, P14N, 112, 1, 28, X12034, 2, 20071124, 1349, 7.7487, 179.0115, 5867,    498.9, 2,   8.0867, 2,  34.5850, 2,  34.5807, 6,     44.7, 2,     43.5, 2,    43.93, 2,    36.63, 2,     0.01, 2,     2.65, 2, -999.000, 9, -999.000, 9, -999.000, 9, -999.000, 9,   -999.0, 9,   -999.0, 9, -999.0000,   -999.00,   -999.0, 9,   -999.0,  -999.00, 9,   -999.0,   8.0352, 26.9426,   8.0830, 2, 9, 0.22, 0.14, 0.01, 0.017,  -999.00, 9, -999.00, -999.00, 9, -999.00
49NZ20071122, P14N, 112, 1, 27, X12049, 2, 20071124, 1349, 7.7487, 179.0115, 5867,    601.0, 2,   7.0796, 2,  34.5546, 2,  34.5532, 2,     35.0, 2,     37.4, 2,    54.35, 2,    39.16, 2,     0.01, 2,     2.85, 2,    0.040, 2,    0.021, 2,    0.010, 2, -999.000, 9,   -999.0, 9,   -999.0, 9, -999.0000,   -999.00,   -999.0, 9,   -999.0,  -999.00, 9,   -999.0,   7.0217, 27.0649,   7.0806, 2, 9, 0.24, 0.14, 0.01, 0.017,  -999.00, 9, -999.00, -999.00, 9, -999.00
49NZ20071122, P14N, 112, 1, 26, X12032, 2, 20071124, 1349, 7.7487, 179.0115, 5867,    700.4, 2,   6.2408, 2,  34.5413, 2,  34.5418, 2,     40.8, 2,     41.5, 2,    62.96, 2,    40.37, 2,     0.01, 2,     2.91, 2, -999.000, 9, -999.000, 9, -999.000, 9, -999.000, 9,   -999.0, 9,   -999.0, 9, -999.0000,   -999.00,   -999.0, 9,   -999.0,  -999.00, 9,   -999.0,   6.1773, 27.1675,   6.2378, 2, 9, 0.26, 0.15, 0.01, 0.017,  -999.00, 9, -999.00, -999.00, 9, -999.00
49NZ20071122, P14N, 112, 1, 25, X12043, 2, 20071124, 1349, 7.7487, 179.0115, 5867,    802.5, 2,   5.7254, 2,  34.5430, 2,  34.5428, 2,     43.5, 2,     43.1, 2,    70.24, 2,    41.43, 2,     0.01, 2,     2.99, 2,    0.013, 2,    0.009, 2,    0.000, 2, -999.000, 9,   -999.0, 9,   -999.0, 9, -999.0000,   -999.00,   -999.0, 9,   -999.0,  -999.00, 9,   -999.0,   5.6552, 27.2347,   5.7253, 2, 9, 0.27, 0.15, 0.01, 0.017,  -999.00, 9, -999.00, -999.00, 9, -999.00
49NZ20071122, P14N, 112, 1, 24, X12030, 2, 20071124, 1349, 7.7487, 179.0115, 5867,    900.5, 2,   5.1457, 2,  34.5444, 2,  34.5435, 2,     52.8, 2,     55.0, 2,    79.65, 2,    41.14, 2,     0.01, 2,     2.96, 2, -999.000, 9, -999.000, 9, -999.000, 9, -999.000, 9,   -999.0, 9,   -999.0, 9, -999.0000,   -999.00,   -999.0, 9,   -999.0,  -999.00, 9,   -999.0,   5.0703, 27.3059,   5.1452, 2, 9, 0.29, 0.15, 0.01, 0.017,  -999.00, 9, -999.00, -999.00, 9, -999.00
49NZ20071122, P14N, 112, 1, 23, X12027, 2, 20071124, 1349, 7.7487, 179.0115, 5867,   1000.5, 2,   4.6082, 2,  34.5512, 2,  34.5510, 6,     58.0, 2,     63.0, 2,    89.51, 2,    40.98, 2,     0.01, 2,     2.95, 2,    0.006, 2,    0.004, 2,    0.000, 2, -999.000, 9,   -999.0, 9,   -999.0, 9, -999.0000,   -999.00,   -999.0, 9,   -999.0,  -999.00, 9,   -999.0,   4.5278, 27.3727,   4.6089, 2, 9, 0.32, 0.15, 0.01, 0.017,  -999.00, 9, -999.00, -999.00, 9, -999.00
49NZ20071122, P14N, 112, 1, 22, X12028, 2, 20071124, 1349, 7.7487, 179.0115, 5867,   1200.6, 2,   3.8639, 2,  34.5735, 2,  34.5739, 2,     65.7, 2,     66.1, 2,   104.81, 2,    41.58, 2,     0.01, 2,     2.99, 2, -999.000, 9, -999.000, 9, -999.000, 9, -999.000, 9,   -999.0, 9,   -999.0, 9, -999.0000,   -999.00,   -999.0, 9,   -999.0,  -999.00, 9,   -999.0,   3.7724, 27.4702,   3.8640, 2, 9, 0.35, 0.15, 0.01, 0.017,  -999.00, 9, -999.00, -999.00, 9, -999.00
49NZ20071122, P14N, 112, 1, 21, X12009, 2, 20071124, 1349, 7.7487, 179.0115, 5867,   1399.9, 2,   3.3909, 2,  34.5888, 2,  34.5895, 2,     71.9, 2,     73.5, 2,   115.31, 2,    41.18, 2,     0.01, 2,     2.96, 2, -999.000, 9, -999.000, 9, -999.000, 9, -999.000, 9,   -999.0, 9,   -999.0, 9, -999.0000,   -999.00,   -999.0, 9,   -999.0,  -999.00, 9,   -999.0,   3.2871, 27.5300,   3.3910, 2, 9, 0.37, 0.15, 0.01, 0.017,  -999.00, 9, -999.00, -999.00, 9, -999.00
49NZ20071122, P14N, 112, 1, 20, X12026, 2, 20071124, 1349, 7.7487, 179.0115, 5867,   1599.4, 2,   2.9272, 2,  34.6052, 2,  34.6059, 2,     83.1, 2,     83.0, 2,   125.17, 2,    40.71, 2,     0.01, 2,     2.91, 2,    0.002, 2,    0.001, 2,    0.000, 2, -999.000, 9,   -999.0, 9,   -999.0, 9, -999.0000,   -999.00,   -999.0, 9,   -999.0,  -999.00, 9,   -999.0,   2.8118, 27.5869,   2.9274, 2, 9, 0.39, 0.15, 0.01, 0.017,  -999.00, 9, -999.00, -999.00, 9, -999.00
49NZ20071122, P14N, 112, 1, 19, X12025, 2, 20071124, 1349, 7.7487, 179.0115, 5867,   1799.8, 2,   2.5175, 2,  34.6232, 2,  34.6240, 2,     92.8, 2,     93.0, 2,   133.65, 2,    40.09, 2,     0.01, 2,     2.85, 2, -999.000, 9, -999.000, 9, -999.000, 9, -999.000, 9,   -999.0, 9,   -999.0, 9, -999.0000,   -999.00,   -999.0, 9,   -999.0,  -999.00, 9,   -999.0,   2.3905, 27.6379,   2.5173, 2, 9, 0.41, 0.15, 0.01, 0.017,  -999.00, 9, -999.00, -999.00, 9, -999.00
49NZ20071122, P14N, 112, 1, 18, X12024, 2, 20071124, 1349, 7.7487, 179.0115, 5867,   2001.2, 2,   2.2459, 2,  34.6378, 2,  34.6382, 2,    100.0, 2,    100.0, 2,   140.13, 2,    39.76, 2,     0.01, 2,     2.81, 2, -999.000, 9, -999.000, 9, -999.000, 9, -999.000, 9,   -999.0, 9,   -999.0, 9, -999.0000,   -999.00,   -999.0, 9,   -999.0,  -999.00, 9,   -999.0,   2.1056, 27.6730,   2.2457, 2, 9, 0.43, 0.14, 0.01, 0.017,  -999.00, 9, -999.00, -999.00, 9, -999.00
49NZ20071122, P14N, 112, 1, 17, X12023, 2, 20071124, 1349, 7.7487, 179.0115, 5867,   2199.5, 2,   2.0749, 2,  34.6486, 2,  34.6492, 2,    106.4, 2,    106.4, 2,   143.68, 2,    39.26, 2,     0.01, 2,     2.77, 2,    0.000, 2,    0.000, 2,    0.000, 2, -999.000, 9,   -999.0, 9,   -999.0, 9, -999.0000,   -999.00,   -999.0, 9,   -999.0,  -999.00, 9,   -999.0,   1.9201, 27.6964,   2.0750, 2, 9, 0.44, 0.14, 0.01, 0.017,  -999.00, 9, -999.00, -999.00, 9, -999.00
49NZ20071122, P14N, 112, 1, 16, X12022, 2, 20071124, 1349, 7.7487, 179.0115, 5867,   2402.1, 2,   1.9348, 2,  34.6567, 2,  34.6570, 2,    112.0, 2,    111.9, 2,   146.16, 2,    38.93, 2,     0.01, 2,     2.74, 2, -999.000, 9, -999.000, 9, -999.000, 9, -999.000, 9,   -999.0, 9,   -999.0, 9, -999.0000,   -999.00,   -999.0, 9,   -999.0,  -999.00, 9,   -999.0,   1.7645, 27.7150,   1.9346, 2, 9, 0.44, 0.14, 0.01, 0.017,  -999.00, 9, -999.00, -999.00, 9, -999.00
49NZ20071122, P14N, 112, 1, 15, X12021, 2, 20071124, 1349, 7.7487, 179.0115, 5867,   2599.7, 2,   1.8437, 2,  34.6633, 2,  34.6632, 6,    116.6, 2,    116.8, 2,   148.03, 2,    38.51, 2,     0.01, 2,     2.72, 2, -999.000, 9, -999.000, 9, -999.000, 9, -999.000, 9,   -999.0, 9,   -999.0, 9, -999.0000,   -999.00,   -999.0, 9,   -999.0,  -999.00, 9,   -999.0,   1.6572, 27.7283,   1.8437, 2, 9, 0.44, 0.14, 0.01, 0.017,  -999.00, 9, -999.00, -999.00, 9, -999.00
49NZ20071122, P14N, 112, 1, 14, X12020, 2, 20071124, 1349, 7.7487, 179.0115, 5867,   2800.1, 2,   1.7700, 2,  34.6673, 2,  34.6671, 2,    121.5, 2,    122.4, 2,   147.73, 2,    38.16, 2,     0.01, 2,     2.68, 2,    0.000, 2,    0.000, 2,    0.000, 2, -999.000, 9,   -999.0, 9,   -999.0, 9, -999.0000,   -999.00,   -999.0, 9,   -999.0,  -999.00, 9,   -999.0,   1.5664, 27.7383,   1.7700, 2, 9, 0.44, 0.14, 0.01, 0.017,  -999.00, 9, -999.00, -999.00, 9, -999.00
49NZ20071122, P14N, 112, 1, 13, X12019, 2, 20071124, 1349, 7.7487, 179.0115, 5867,   3002.1, 2,   1.6988, 2,  34.6708, 2,  34.6708, 2,    128.7, 2,    128.7, 2,   147.05, 2,    37.82, 2,     0.01, 2,     2.65, 2, -999.000, 9, -999.000, 9, -999.000, 9, -999.000, 9,   -999.0, 9,   -999.0, 9, -999.0000,   -999.00,   -999.0, 9,   -999.0,  -999.00, 9,   -999.0,   1.4775, 27.7477,   1.6989, 2, 9, 0.44, 0.14, 0.01, 0.017,  -999.00, 9, -999.00, -999.00, 9, -999.00
49NZ20071122, P14N, 112, 1, 12, X12040, 3, 20071124, 1349, 7.7487, 179.0115, 5867,   3250.1, 2,   1.6183, 2,  34.6762, 2,  34.6751, 3,    136.0, 2,    135.5, 2,   145.66, 2,    37.25, 2,     0.01, 2,     2.60, 2, -999.000, 9, -999.000, 9, -999.000, 9, -999.000, 9,   -999.0, 9,   -999.0, 9, -999.0000,   -999.00,   -999.0, 9,   -999.0,  -999.00, 9,   -999.0,   1.3745, 27.7594,   1.6183, 2, 9, 0.44, 0.14, 0.01, 0.016,  -999.00, 9, -999.00, -999.00, 9, -999.00
49NZ20071122, P14N, 112, 1, 11, X12047, 2, 20071124, 1349, 7.7487, 179.0115, 5867,   3500.6, 2,   1.5634, 2,  34.6800, 2,  34.6797, 2,    144.0, 2,    143.3, 2,   143.25, 2,    36.71, 2,     0.01, 2,     2.56, 2,    0.000, 2,    0.000, 2,    0.000, 2, -999.000, 9,   -999.0, 9,   -999.0, 9, -999.0000,   -999.00,   -999.0, 9,   -999.0,  -999.00, 9,   -999.0,   1.2956, 27.7680,   1.5635, 2, 9, 0.43, 0.14, 0.01, 0.016,  -999.00, 9, -999.00, -999.00, 9, -999.00
49NZ20071122, P14N, 112, 1, 10, X12012, 2, 20071124, 1349, 7.7487, 179.0115, 5867,   3751.1, 2,   1.4713, 2,  34.6866, 2,  34.6865, 2,    152.9, 2,    152.0, 2,   142.33, 2,    36.06, 2,     0.01, 2,     2.52, 2, -999.000, 9, -999.000, 9, -999.000, 9, -999.000, 9,   -999.0, 9,   -999.0, 9, -999.0000,   -999.00,   -999.0, 9,   -999.0,  -999.00, 9,   -999.0,   1.1798, 27.7813,   1.4713, 2, 9, 0.43, 0.13, 0.01, 0.016,  -999.00, 9, -999.00, -999.00, 9, -999.00
49NZ20071122, P14N, 112, 1, 9, X12015, 2, 20071124, 1349, 7.7487, 179.0115, 5867,   4001.3, 2,   1.4102, 2,  34.6911, 2,  34.6907, 2,    161.9, 2,    161.1, 2,   138.83, 2,    35.49, 2,     0.01, 2,     2.47, 2, -999.000, 9, -999.000, 9, -999.000, 9, -999.000, 9,   -999.0, 9,   -999.0, 9, -999.0000,   -999.00,   -999.0, 9,   -999.0,  -999.00, 9,   -999.0,   1.0937, 27.7909,   1.4102, 2, 9, 0.42, 0.13, 0.01, 0.016,  -999.00, 9, -999.00, -999.00, 9, -999.00
49NZ20071122, P14N, 112, 1, 8, X12046, 2, 20071124, 1349, 7.7487, 179.0115, 5867,   4251.3, 2,   1.3494, 2,  34.6960, 2,  34.6957, 2,    171.4, 2,    171.0, 2,   133.94, 2,    34.85, 2,     0.01, 2,     2.42, 2,    0.000, 2,    0.000, 2,    0.000, 2, -999.000, 9,   -999.0, 9,   -999.0, 9, -999.0000,   -999.00,   -999.0, 9,   -999.0,  -999.00, 9,   -999.0,   1.0071, 27.8006,   1.3493, 2, 9, 0.41, 0.13, 0.01, 0.016,  -999.00, 9, -999.00, -999.00, 9, -999.00
49NZ20071122, P14N, 112, 1, 7, X12044, 2, 20071124, 1349, 7.7487, 179.0115, 5867,   4501.9, 2,   1.3077, 2,  34.6997, 2,  34.6994, 6,    179.1, 2,    178.7, 2,   129.60, 2,    34.31, 2,     0.00, 2,     2.38, 2, -999.000, 9, -999.000, 9, -999.000, 9, -999.000, 9,   -999.0, 9,   -999.0, 9, -999.0000,   -999.00,   -999.0, 9,   -999.0,  -999.00, 9,   -999.0,   0.9384, 27.8081,   1.3078, 2, 9, 0.40, 0.13, 0.01, 0.016,  -999.00, 9, -999.00, -999.00, 9, -999.00
49NZ20071122, P14N, 112, 1, 6, X12048, 2, 20071124, 1349, 7.7487, 179.0115, 5867,   4750.7, 2,   1.2978, 2,  34.7020, 2,  34.7019, 2,    184.0, 2,    183.5, 2,   127.16, 2,    33.94, 2,     0.01, 2,     2.35, 2,    0.000, 2,    0.000, 2,    0.000, 2, -999.000, 9,   -999.0, 9,   -999.0, 9, -999.0000,   -999.00,   -999.0, 9,   -999.0,  -999.00, 9,   -999.0,   0.9000, 27.8125,   1.2980, 2, 9, 0.40, 0.13, 0.01, 0.016,  -999.00, 9, -999.00, -999.00, 9, -999.00
49NZ20071122, P14N, 112, 1, 5, X12014, 2, 20071124, 1349, 7.7487, 179.0115, 5867,   5000.4, 2,   1.3014, 2,  34.7034, 2,  34.7037, 2,    187.4, 2,    187.0, 2,   125.31, 2,    33.61, 2,     0.00, 2,     2.33, 2, -999.000, 9, -999.000, 9, -999.000, 9, -999.000, 9,   -999.0, 9,   -999.0, 9, -999.0000,   -999.00,   -999.0, 9,   -999.0,  -999.00, 9,   -999.0,   0.8737, 27.8153,   1.3015, 2, 9, 0.39, 0.13, 0.01, 0.016,  -999.00, 9, -999.00, -999.00, 9, -999.00
49NZ20071122, P14N, 112, 1, 4, X12006, 2, 20071124, 1349, 7.7487, 179.0115, 5867,   5250.6, 2,   1.3215, 2,  34.7040, 2,  34.7039, 2,    188.9, 2,    188.7, 2,   124.50, 2,    33.47, 2,     0.00, 2,     2.33, 2,    0.000, 2,    0.000, 2,    0.000, 2, -999.000, 9,   -999.0, 9,   -999.0, 9, -999.0000,   -999.00,   -999.0, 9,   -999.0,  -999.00, 9,   -999.0,   0.8626, 27.8165,   1.3217, 2, 9, 0.39, 0.13, 0.01, 0.016,  -999.00, 9, -999.00, -999.00, 9, -999.00
49NZ20071122, P14N, 112, 1, 3, X12013, 2, 20071124, 1349, 7.7487, 179.0115, 5867,   5500.8, 2,   1.3442, 2,  34.7045, 2,  34.7040, 2,    190.0, 2,    189.7, 2,   123.89, 2,    33.44, 2,     0.01, 2,     2.33, 2,    0.001, 2,    0.001, 2,    0.000, 2, -999.000, 9,   -999.0, 9,   -999.0, 9, -999.0000,   -999.00,   -999.0, 9,   -999.0,  -999.00, 9,   -999.0,   0.8531, 27.8175,   1.3443, 2, 9, 0.39, 0.13, 0.01, 0.016,  -999.00, 9, -999.00, -999.00, 9, -999.00
49NZ20071122, P14N, 112, 1, 2, X12002, 2, 20071124, 1349, 7.7487, 179.0115, 5867,   5749.9, 2,   1.3738, 2,  34.7046, 2,  34.7047, 2,    190.3, 2,    190.1, 2,   123.91, 2,    33.38, 2,     0.00, 2,     2.32, 2,    0.000, 2,    0.000, 2,    0.000, 2, -999.000, 9,   -999.0, 9,   -999.0, 9, -999.0000,   -999.00,   -999.0, 9,   -999.0,  -999.00, 9,   -999.0,   0.8496, 27.8178,   1.3740, 2, 9, 0.39, 0.13, 0.01, 0.016,  -999.00, 9, -999.00, -999.00, 9, -999.00
49NZ20071122, P14N, 112, 1, 1, X12001, 2, 20071124, 1349, 7.7487, 179.0115, 5867,   5966.1, 2,   1.4006, 2,  34.7047, 2,  34.7045, 6,    190.6, 2,    190.3, 2,   123.65, 2,    33.42, 2,     0.01, 2,     2.32, 2,    0.002, 2,    0.000, 2,    0.000, 2, -999.000, 9,   -999.0, 9,   -999.0, 9, -999.0000,   -999.00,   -999.0, 9,   -999.0,  -999.00, 9,   -999.0,   0.8470, 27.8181,   1.4008, 2, 9, 0.39, 0.13, 0.01, 0.016,  -999.00, 9, -999.00, -999.00, 9, -999.00