BOTTLE,20220820CCHSIOAMB
EXPOCODE,SECT_ID,STNNBR,CASTNO,SAMPNO,BTLNBR,BTLNBR_FLAG_W,DATE,TIME,LATITUDE,LONGITUDE,DEPTH,CTDPRS,CTDPRS_FLAG_W,CTDTMP,CTDTMP_FLAG_W,CTDSAL,CTDSAL_FLAG_W,SALNTY,SALNTY_FLAG_W,CTDOXY,CTDOXY_FLAG_W,OXYGEN,OXYGEN_FLAG_W,SILCAT,SILCAT_FLAG_W,NITRAT,NITRAT_FLAG_W,NITRIT,NITRIT_FLAG_W,PHSPHT,PHSPHT_FLAG_W,CFC-11,CFC-11_FLAG_W,CFC-12,CFC-12_FLAG_W,CFC113,CFC113_FLAG_W,CCL4,CCL4_FLAG_W,TCARBN,TCARBN_FLAG_W,ALKALI,ALKALI_FLAG_W,PH_TOT,PH_TMP,DELC14,DELC14_FLAG_W,C14ERR,DELC13,DELC13_FLAG_W,C13ERR,THETA,SIG0,SBE35,SBE35_FLAG_W,PH_TOT_FLAG_W,SILUNC,NRAUNC,NRIUNC,PHPUNC,CS-137,CS-137_FLAG_W,CS137ER,PLUTO,PLUTO_FLAG_W,PLUTOER
,,,,,,,,,,,METERS,DBAR,,ITS-90,,PSS-78,,PSS-78,,UMOL/KG,,UMOL/KG,,UMOL/KG,,UMOL/KG,,UMOL/KG,,UMOL/KG,,PMOL/KG,,PMOL/KG,,PMOL/KG,,PMOL/KG,,UMOL/KG,,UMOL/KG,,,DEG C,/MILLE,,/MILLE,/MILLE,,/MILLE,DEG C,KG/M^3,ITS-90,,,UMOL/KG,UMOL/KG,UMOL/KG,UMOL/KG,DM/.1MG,,BQ/M^3,MBQ/M^3,,MBQ/M^3
49NZ20071122, P14, 38, 1, 36, X12042, 2, 20071215, 2037, -21.1182, 177.5132, 3355,      9.1, 2,  27.3838, 2,  34.6759, 2,  34.6786, 2,    202.6, 2,    201.6, 2,     0.70, 2,     0.03, 2,     0.00, 2,     0.10, 2,    1.538, 2,    0.944, 2,    0.390, 4, -999.000, 9,   -999.0, 9,   -999.0, 9, -999.0000,   -999.00,   -999.0, 9,   -999.0,  -999.00, 9,   -999.0,  27.3817, 22.3513,  27.3838, 2, 9, 0.12, 0.03, 0.01, 0.022,  -999.00, 9, -999.00, -999.00, 9, -999.00
49NZ20071122, P14, 38, 1, 35, X12041, 2, 20071215, 2037, -21.1182, 177.5132, 3355,     48.9, 2,  26.2008, 2,  35.1370, 2,  35.1481, 2,    206.2, 2,    206.0, 2,     0.64, 2,     0.03, 2,     0.00, 2,     0.10, 2,    1.643, 2,    0.997, 2,    0.448, 4, -999.000, 9,   -999.0, 9,   -999.0, 9, -999.0000,   -999.00,   -999.0, 9,   -999.0,  -999.00, 9,   -999.0,  26.1898, 23.0774,  26.2001, 2, 9, 0.12, 0.03, 0.01, 0.022,  -999.00, 9, -999.00, -999.00, 9, -999.00
49NZ20071122, P14, 38, 1, 34, X12016, 2, 20071215, 2037, -21.1182, 177.5132, 3355,    101.3, 2,  23.4124, 2,  35.4639, 2,  35.4633, 2,    203.5, 2,    205.0, 2,     0.58, 2,     0.03, 2,     0.02, 2,     0.12, 2,    1.851, 2,    1.114, 2,    0.310, 4, -999.000, 9,   -999.0, 9,   -999.0, 9, -999.0000,   -999.00,   -999.0, 9,   -999.0,  -999.00, 9,   -999.0,  23.3914, 24.1718,  23.4127, 2, 9, 0.12, 0.03, 0.01, 0.020,  -999.00, 9, -999.00, -999.00, 9, -999.00
49NZ20071122, P14, 38, 1, 33, X12033, 2, 20071215, 2037, -21.1182, 177.5132, 3355,    149.8, 2,  22.0096, 2,  35.6358, 2,  35.6366, 2,    172.7, 2,    178.5, 2,     0.79, 2,     2.68, 2,     0.04, 2,     0.30, 2,    1.961, 2,    1.163, 2,    0.147, 4, -999.000, 9,   -999.0, 9,   -999.0, 9, -999.0000,   -999.00,   -999.0, 9,   -999.0,  -999.00, 9,   -999.0,  21.9799, 24.7067,  22.0090, 2, 9, 0.12, 0.04, 0.01, 0.014,  -999.00, 9, -999.00, -999.00, 9, -999.00
49NZ20071122, P14, 38, 1, 32, X12038, 2, 20071215, 2037, -21.1182, 177.5132, 3355,    198.9, 2,  20.5285, 2,  35.6639, 2,  35.6631, 2,    175.3, 2,    175.2, 2,     0.94, 2,     3.92, 2,     0.01, 2,     0.37, 2,    2.089, 2,    1.212, 2,    0.083, 2, -999.000, 9,   -999.0, 9,   -999.0, 9, -999.0000,   -999.00,   -999.0, 9,   -999.0,  -999.00, 9,   -999.0,  20.4909, 25.1374,  20.5307, 2, 9, 0.12, 0.04, 0.01, 0.014,  -999.00, 9, -999.00, -999.00, 9, -999.00
49NZ20071122, P14, 38, 1, 31, X12003, 2, 20071215, 2037, -21.1182, 177.5132, 3355,    249.0, 2,  19.1492, 2,  35.6152, 2,  35.6103, 6,    179.1, 2,    179.5, 2,     1.12, 2,     4.51, 2,     0.01, 2,     0.41, 2,    2.212, 2,    1.262, 2,    0.051, 2, -999.000, 9,   -999.0, 9,   -999.0, 9, -999.0000,   -999.00,   -999.0, 9,   -999.0,  -999.00, 9,   -999.0,  19.1043, 25.4647,  19.1546, 2, 9, 0.12, 0.05, 0.01, 0.013,  -999.00, 9, -999.00, -999.00, 9, -999.00
49NZ20071122, P14, 38, 1, 30, X12008, 2, 20071215, 2037, -21.1182, 177.5132, 3355,    330.3, 2,  17.1168, 2,  35.5495, 2,  35.5443, 2,    193.8, 2,    193.4, 2,     1.41, 2,     5.38, 2,     0.01, 2,     0.47, 2,    2.384, 2,    1.349, 2,    0.071, 2, -999.000, 9,   -999.0, 9,   -999.0, 9, -999.0000,   -999.00,   -999.0, 9,   -999.0,  -999.00, 9,   -999.0,  17.0616, 25.9214,  17.1197, 2, 9, 0.12, 0.05, 0.01, 0.013,  -999.00, 9, -999.00, -999.00, 9, -999.00
49NZ20071122, P14, 38, 1, 29, X12035, 2, 20071215, 2037, -21.1182, 177.5132, 3355,    429.2, 2,  13.3418, 2,  35.0842, 2,  35.0637, 3,    189.1, 2,    190.2, 2,     3.57, 2,    11.88, 2,     0.00, 2,     0.91, 2,    2.405, 2,    1.273, 2,    0.049, 2, -999.000, 9,   -999.0, 9,   -999.0, 9, -999.0000,   -999.00,   -999.0, 9,   -999.0,  -999.00, 9,   -999.0,  13.2812, 26.4012,  13.3396, 2, 9, 0.13, 0.07, 0.01, 0.013,  -999.00, 9, -999.00, -999.00, 9, -999.00
49NZ20071122, P14, 38, 1, 28, X12034, 2, 20071215, 2037, -21.1182, 177.5132, 3355,    530.4, 2,   9.0785, 2,  34.5990, 2,  34.5962, 6,    202.2, 2,    202.4, 2,     7.04, 2,    19.68, 2,     0.00, 2,     1.41, 2,    2.135, 2,    1.064, 2,    0.061, 2, -999.000, 9,   -999.0, 9,   -999.0, 9, -999.0000,   -999.00,   -999.0, 9,   -999.0,  -999.00, 9,   -999.0,   9.0198, 26.8010,   9.0789, 2, 9, 0.13, 0.09, 0.01, 0.014,  -999.00, 9, -999.00, -999.00, 9, -999.00
49NZ20071122, P14, 38, 1, 27, X12049, 2, 20071215, 2037, -21.1182, 177.5132, 3355,    631.2, 2,   7.5297, 2,  34.4550, 2,  34.4536, 2,    207.6, 2,    209.0, 2,    10.14, 2,    23.19, 2,     0.00, 2,     1.63, 2,    1.769, 2,    0.866, 2,    0.048, 2, -999.000, 9,   -999.0, 9,   -999.0, 9, -999.0000,   -999.00,   -999.0, 9,   -999.0,  -999.00, 9,   -999.0,   7.4668, 26.9238,   7.5306, 2, 9, 0.14, 0.10, 0.01, 0.014,  -999.00, 9, -999.00, -999.00, 9, -999.00
49NZ20071122, P14, 38, 1, 26, X12032, 2, 20071215, 2037, -21.1182, 177.5132, 3355,    731.9, 2,   6.2042, 2,  34.3736, 2,  34.3733, 2,    209.3, 2,    208.0, 2,    16.68, 2,    26.66, 2,     0.00, 2,     1.86, 2,    1.098, 2,    0.540, 2,    0.022, 2, -999.000, 9,   -999.0, 9,   -999.0, 9, -999.0000,   -999.00,   -999.0, 9,   -999.0,  -999.00, 9,   -999.0,   6.1381, 27.0401,   6.2047, 2, 9, 0.16, 0.11, 0.01, 0.015,  -999.00, 9, -999.00, -999.00, 9, -999.00
49NZ20071122, P14, 38, 1, 25, X12043, 2, 20071215, 2037, -21.1182, 177.5132, 3355,    829.8, 2,   5.3426, 2,  34.3743, 2,  34.3742, 2,    196.4, 2,    193.0, 2,    27.59, 2,    29.63, 2,     0.00, 2,     2.06, 2,    0.521, 2,    0.258, 2,    0.014, 2, -999.000, 9,   -999.0, 9,   -999.0, 9, -999.0000,   -999.00,   -999.0, 9,   -999.0,  -999.00, 9,   -999.0,   5.2725, 27.1474,   5.3435, 2, 9, 0.18, 0.12, 0.01, 0.015,  -999.00, 9, -999.00, -999.00, 9, -999.00
49NZ20071122, P14, 38, 1, 24, X12030, 2, 20071215, 2037, -21.1182, 177.5132, 3355,    930.5, 2,   4.5951, 2,  34.4002, 2,  34.4014, 2,    183.1, 2,    180.5, 2,    40.73, 2,    31.71, 2,     0.00, 2,     2.20, 2,    0.235, 2,    0.121, 2,    0.006, 2, -999.000, 9,   -999.0, 9,   -999.0, 9, -999.0000,   -999.00,   -999.0, 9,   -999.0,  -999.00, 9,   -999.0,   4.5211, 27.2536,   4.5949, 2, 9, 0.21, 0.12, 0.01, 0.016,  -999.00, 9, -999.00, -999.00, 9, -999.00
49NZ20071122, P14, 38, 1, 23, X12027, 2, 20071215, 2037, -21.1182, 177.5132, 3355,   1070.3, 2,   3.9603, 2,  34.4527, 2,  34.4541, 6,    169.2, 2,    168.7, 2,    57.02, 2,    33.32, 2,     0.00, 2,     2.33, 2,    0.096, 2,    0.050, 2,    0.005, 2, -999.000, 9,   -999.0, 9,   -999.0, 9, -999.0000,   -999.00,   -999.0, 9,   -999.0,  -999.00, 9,   -999.0,   3.8792, 27.3632,   3.9606, 2, 9, 0.24, 0.13, 0.01, 0.016,  -999.00, 9, -999.00, -999.00, 9, -999.00
49NZ20071122, P14, 38, 1, 22, X12028, 2, 20071215, 2037, -21.1182, 177.5132, 3355,   1270.2, 2,   3.3338, 2,  34.5265, 2,  34.5277, 2,    156.0, 2,    156.2, 2,    78.55, 2,    34.70, 2,     0.00, 2,     2.43, 2,    0.030, 2,    0.015, 2,    0.000, 2, -999.000, 9,   -999.0, 9,   -999.0, 9, -999.0000,   -999.00,   -999.0, 9,   -999.0,  -999.00, 9,   -999.0,   3.2416, 27.4847,   3.3342, 2, 9, 0.29, 0.13, 0.01, 0.016,  -999.00, 9, -999.00, -999.00, 9, -999.00
49NZ20071122, P14, 38, 1, 21, X12009, 2, 20071215, 2037, -21.1182, 177.5132, 3355,   1470.1, 2,   2.8931, 2,  34.5730, 2,  34.5732, 2,    151.2, 2,    151.0, 2,    92.60, 2,    35.23, 2,     0.00, 2,     2.48, 2,    0.009, 2,    0.004, 2,    0.000, 2, -999.000, 9,   -999.0, 9,   -999.0, 9, -999.0000,   -999.00,   -999.0, 9,   -999.0,  -999.00, 9,   -999.0,   2.7890, 27.5633,   2.8934, 2, 9, 0.32, 0.13, 0.01, 0.016,  -999.00, 9, -999.00, -999.00, 9, -999.00
49NZ20071122, P14, 38, 1, 20, X12026, 3, 20071215, 2037, -21.1182, 177.5132, 3355,   1670.4, 2,   2.6088, 2,  34.6013, 2,  34.6022, 2,    149.8, 2,    150.0, 2,   101.04, 2,    35.51, 2,     0.00, 2,     2.49, 2,    0.004, 2,    0.004, 2,    0.000, 2, -999.000, 9,   -999.0, 9,   -999.0, 9, -999.0000,   -999.00,   -999.0, 9,   -999.0,  -999.00, 9,   -999.0,   2.4915, 27.6118,   2.6091, 2, 9, 0.34, 0.13, 0.01, 0.016,  -999.00, 9, -999.00, -999.00, 9, -999.00
49NZ20071122, P14, 38, 1, 19, X12025, 2, 20071215, 2037, -21.1182, 177.5132, 3355,   1870.6, 2,   2.3795, 2,  34.6240, 2,  34.6246, 2,    149.7, 2,    149.7, 2,   107.85, 2,    35.56, 2,     0.00, 2,     2.50, 2,    0.002, 2,    0.001, 2,    0.000, 2, -999.000, 9,   -999.0, 9,   -999.0, 9, -999.0000,   -999.00,   -999.0, 9,   -999.0,  -999.00, 9,   -999.0,   2.2484, 27.6503,   2.3796, 2, 9, 0.36, 0.13, 0.01, 0.016,  -999.00, 9, -999.00, -999.00, 9, -999.00
49NZ20071122, P14, 38, 1, 18, X12024, 2, 20071215, 2037, -21.1182, 177.5132, 3355,   2071.4, 2,   2.2200, 2,  34.6398, 2,  34.6401, 2,    150.1, 2,    150.1, 2,   112.05, 2,    35.63, 2,     0.00, 2,     2.50, 2,    0.000, 2,    0.000, 2,    0.000, 2, -999.000, 9,   -999.0, 9,   -999.0, 9, -999.0000,   -999.00,   -999.0, 9,   -999.0,  -999.00, 9,   -999.0,   2.0741, 27.6772,   2.2201, 2, 9, 0.37, 0.13, 0.01, 0.016,  -999.00, 9, -999.00, -999.00, 9, -999.00
49NZ20071122, P14, 38, 1, 17, X12023, 2, 20071215, 2037, -21.1182, 177.5132, 3355,   2272.5, 2,   2.0998, 2,  34.6516, 2,  34.6521, 6,    150.8, 2,    150.9, 2,   114.93, 2,    35.63, 2,     0.00, 2,     2.50, 2,    0.002, 2,    0.000, 2,    0.000, 2, -999.000, 9,   -999.0, 9,   -999.0, 9, -999.0000,   -999.00,   -999.0, 9,   -999.0,  -999.00, 9,   -999.0,   1.9382, 27.6974,   2.0999, 2, 9, 0.37, 0.13, 0.01, 0.016,  -999.00, 9, -999.00, -999.00, 9, -999.00
49NZ20071122, P14, 38, 1, 16, X12022, 2, 20071215, 2037, -21.1182, 177.5132, 3355,   2471.7, 2,   1.9982, 2,  34.6621, 2,  34.6624, 2,    152.2, 2,    152.2, 2,   117.36, 2,    35.52, 2,     0.00, 2,     2.49, 2, -999.000, 9, -999.000, 9, -999.000, 9, -999.000, 9,   -999.0, 9,   -999.0, 9, -999.0000,   -999.00,   -999.0, 9,   -999.0,  -999.00, 9,   -999.0,   1.8205, 27.7150,   1.9981, 2, 9, 0.38, 0.13, 0.01, 0.016,  -999.00, 9, -999.00, -999.00, 9, -999.00
49NZ20071122, P14, 38, 1, 15, X12021, 2, 20071215, 2037, -21.1182, 177.5132, 3355,   2671.8, 2,   1.9161, 2,  34.6702, 2,  34.6706, 2,    153.2, 2,    153.4, 2,   119.32, 2,    35.46, 2,     0.00, 2,     2.49, 2,    0.000, 2,    0.000, 2,    0.000, 2, -999.000, 9,   -999.0, 9,   -999.0, 9, -999.0000,   -999.00,   -999.0, 9,   -999.0,  -999.00, 9,   -999.0,   1.7215, 27.7290,   1.9160, 2, 9, 0.38, 0.13, 0.01, 0.016,  -999.00, 9, -999.00, -999.00, 9, -999.00
49NZ20071122, P14, 38, 1, 14, X12020, 2, 20071215, 2037, -21.1182, 177.5132, 3355,   2869.9, 2,   1.8670, 2,  34.6754, 2,  34.6756, 2,    153.9, 2,    154.0, 2,   120.73, 2,    35.48, 2,     0.00, 2,     2.49, 2, -999.000, 9, -999.000, 9, -999.000, 9, -999.000, 9,   -999.0, 9,   -999.0, 9, -999.0000,   -999.00,   -999.0, 9,   -999.0,  -999.00, 9,   -999.0,   1.6547, 27.7383,   1.8670, 2, 9, 0.38, 0.13, 0.01, 0.016,  -999.00, 9, -999.00, -999.00, 9, -999.00
49NZ20071122, P14, 38, 1, 13, X12019, 2, 20071215, 2037, -21.1182, 177.5132, 3355,   3081.1, 2,   1.8338, 2,  34.6790, 2,  34.6792, 6,    154.6, 2,    154.5, 2,   121.78, 2,    35.42, 2,     0.00, 2,     2.49, 2,    0.000, 2,    0.000, 2,    0.000, 2, -999.000, 9,   -999.0, 9,   -999.0, 9, -999.0000,   -999.00,   -999.0, 9,   -999.0,  -999.00, 9,   -999.0,   1.6017, 27.7451,   1.8338, 2, 9, 0.39, 0.13, 0.01, 0.016,  -999.00, 9, -999.00, -999.00, 9, -999.00
49NZ20071122, P14, 38, 1, 12, X12040, 2, 20071215, 2037, -21.1182, 177.5132, 3355,   3330.7, 2,   1.8162, 2,  34.6816, 2,  34.6819, 2,    155.2, 2,    154.8, 2,   122.48, 2,    35.39, 2,     0.00, 2,     2.48, 2, -999.000, 9, -999.000, 9, -999.000, 9, -999.000, 9,   -999.0, 9,   -999.0, 9, -999.0000,   -999.00,   -999.0, 9,   -999.0,  -999.00, 9,   -999.0,   1.5595, 27.7503,   1.8161, 2, 9, 0.39, 0.13, 0.01, 0.016,  -999.00, 9, -999.00, -999.00, 9, -999.00
49NZ20071122, P14, 38, 1, 11, X12047, 9, 20071215, 2037, -21.1182, 177.5132, 3355,      9.2, 2,  27.3842, 2,  34.6770, 2, -999.0000, 9,    202.5, 2,   -999.0, 9,  -999.00, 9,  -999.00, 9,  -999.00, 9,  -999.00, 9, -999.000, 9, -999.000, 9, -999.000, 9, -999.000, 9,   -999.0, 9,   -999.0, 9, -999.0000,   -999.00,   -999.0, 9,   -999.0,  -999.00, 9,   -999.0,  27.3821, 22.3520,  27.3848, 2, 9, -999.00, -999.00, -999.00, -999.000,  -999.00, 9, -999.00, -999.00, 9, -999.00
49NZ20071122, P14, 38, 1, 10, X12012, 9, 20071215, 2037, -21.1182, 177.5132, 3355,    530.8, 2,   9.0801, 2,  34.5989, 2, -999.0000, 9,    202.2, 2,   -999.0, 9,  -999.00, 9,  -999.00, 9,  -999.00, 9,  -999.00, 9, -999.000, 9, -999.000, 9, -999.000, 9, -999.000, 9,   -999.0, 9,   -999.0, 9, -999.0000,   -999.00,   -999.0, 9,   -999.0,  -999.00, 9,   -999.0,   9.0213, 26.8006,   9.0808, 2, 9, -999.00, -999.00, -999.00, -999.000,  -999.00, 9, -999.00, -999.00, 9, -999.00
49NZ20071122, P14, 38, 1, 9, X12015, 9, 20071215, 2037, -21.1182, 177.5132, 3355,    632.6, 2,   7.4975, 2,  34.4529, 2, -999.0000, 9,    207.3, 2,   -999.0, 9,  -999.00, 9,  -999.00, 9,  -999.00, 9,  -999.00, 9, -999.000, 9, -999.000, 9, -999.000, 9, -999.000, 9,   -999.0, 9,   -999.0, 9, -999.0000,   -999.00,   -999.0, 9,   -999.0,  -999.00, 9,   -999.0,   7.4346, 26.9267,   7.5007, 2, 9, -999.00, -999.00, -999.00, -999.000,  -999.00, 9, -999.00, -999.00, 9, -999.00
49NZ20071122, P14, 38, 1, 8, X12046, 9, 20071215, 2037, -21.1182, 177.5132, 3355,    731.7, 2,   6.2057, 2,  34.3738, 2, -999.0000, 9,    209.3, 2,   -999.0, 9,  -999.00, 9,  -999.00, 9,  -999.00, 9,  -999.00, 9, -999.000, 9, -999.000, 9, -999.000, 9, -999.000, 9,   -999.0, 9,   -999.0, 9, -999.0000,   -999.00,   -999.0, 9,   -999.0,  -999.00, 9,   -999.0,   6.1396, 27.0401,   6.2061, 2, 9, -999.00, -999.00, -999.00, -999.000,  -999.00, 9, -999.00, -999.00, 9, -999.00
49NZ20071122, P14, 38, 1, 7, X12044, 9, 20071215, 2037, -21.1182, 177.5132, 3355,    829.3, 2,   5.3449, 2,  34.3742, 2, -999.0000, 9,    196.5, 2,   -999.0, 9,  -999.00, 9,  -999.00, 9,  -999.00, 9,  -999.00, 9, -999.000, 9, -999.000, 9, -999.000, 9, -999.000, 9,   -999.0, 9,   -999.0, 9, -999.0000,   -999.00,   -999.0, 9,   -999.0,  -999.00, 9,   -999.0,   5.2748, 27.1470,   5.3463, 2, 9, -999.00, -999.00, -999.00, -999.000,  -999.00, 9, -999.00, -999.00, 9, -999.00
49NZ20071122, P14, 38, 1, 6, X12048, 9, 20071215, 2037, -21.1182, 177.5132, 3355,    930.4, 2,   4.5987, 2,  34.4000, 2, -999.0000, 9,    183.1, 2,   -999.0, 9,  -999.00, 9,  -999.00, 9,  -999.00, 9,  -999.00, 9, -999.000, 9, -999.000, 9, -999.000, 9, -999.000, 9,   -999.0, 9,   -999.0, 9, -999.0000,   -999.00,   -999.0, 9,   -999.0,  -999.00, 9,   -999.0,   4.5247, 27.2530,   4.5991, 2, 9, -999.00, -999.00, -999.00, -999.000,  -999.00, 9, -999.00, -999.00, 9, -999.00
49NZ20071122, P14, 38, 1, 5, X12014, 9, 20071215, 2037, -21.1182, 177.5132, 3355,   1070.5, 2,   3.9606, 2,  34.4525, 2, -999.0000, 9,    169.2, 2,   -999.0, 9,  -999.00, 9,  -999.00, 9,  -999.00, 9,  -999.00, 9, -999.000, 9, -999.000, 9, -999.000, 9, -999.000, 9,   -999.0, 9,   -999.0, 9, -999.0000,   -999.00,   -999.0, 9,   -999.0,  -999.00, 9,   -999.0,   3.8795, 27.3630,   3.9607, 2, 9, -999.00, -999.00, -999.00, -999.000,  -999.00, 9, -999.00, -999.00, 9, -999.00
49NZ20071122, P14, 38, 1, 4, X12006, 9, 20071215, 2037, -21.1182, 177.5132, 3355,   1270.4, 2,   3.3343, 2,  34.5265, 2, -999.0000, 9,    156.0, 2,   -999.0, 9,  -999.00, 9,  -999.00, 9,  -999.00, 9,  -999.00, 9, -999.000, 9, -999.000, 9, -999.000, 9, -999.000, 9,   -999.0, 9,   -999.0, 9, -999.0000,   -999.00,   -999.0, 9,   -999.0,  -999.00, 9,   -999.0,   3.2420, 27.4846,   3.3343, 2, 9, -999.00, -999.00, -999.00, -999.000,  -999.00, 9, -999.00, -999.00, 9, -999.00
49NZ20071122, P14, 38, 1, 3, X12013, 9, 20071215, 2037, -21.1182, 177.5132, 3355,   1470.1, 2,   2.8939, 2,  34.5730, 2, -999.0000, 9,    151.2, 2,   -999.0, 9,  -999.00, 9,  -999.00, 9,  -999.00, 9,  -999.00, 9, -999.000, 9, -999.000, 9, -999.000, 9, -999.000, 9,   -999.0, 9,   -999.0, 9, -999.0000,   -999.00,   -999.0, 9,   -999.0,  -999.00, 9,   -999.0,   2.7898, 27.5632,   2.8939, 2, 9, -999.00, -999.00, -999.00, -999.000,  -999.00, 9, -999.00, -999.00, 9, -999.00
49NZ20071122, P14, 38, 1, 2, X12002, 9, 20071215, 2037, -21.1182, 177.5132, 3355,   1670.3, 2,   2.6088, 2,  34.6013, 2, -999.0000, 9,    149.8, 2,   -999.0, 9,  -999.00, 9,  -999.00, 9,  -999.00, 9,  -999.00, 9, -999.000, 9, -999.000, 9, -999.000, 9, -999.000, 9,   -999.0, 9,   -999.0, 9, -999.0000,   -999.00,   -999.0, 9,   -999.0,  -999.00, 9,   -999.0,   2.4915, 27.6118,   2.6090, 2, 9, -999.00, -999.00, -999.00, -999.000,  -999.00, 9, -999.00, -999.00, 9, -999.00
49NZ20071122, P14, 38, 1, 1, X12001, 2, 20071215, 2037, -21.1182, 177.5132, 3355,   3387.9, 2,   1.8154, 2,  34.6820, 2,  34.6824, 6,    155.2, 2,    154.9, 2,   123.02, 2,    35.54, 2,     0.00, 2,     2.50, 2,    0.000, 2,    0.000, 2,    0.000, 2, -999.000, 9,   -999.0, 9,   -999.0, 9, -999.0000,   -999.00,   -999.0, 9,   -999.0,  -999.00, 9,   -999.0,   1.5529, 27.7511,   1.8153, 2, 9, 0.39, 0.13, 0.01, 0.016,  -999.00, 9, -999.00, -999.00, 9, -999.00