BOTTLE,20220820CCHSIOAMB
EXPOCODE,SECT_ID,STNNBR,CASTNO,SAMPNO,BTLNBR,BTLNBR_FLAG_W,DATE,TIME,LATITUDE,LONGITUDE,DEPTH,CTDPRS,CTDPRS_FLAG_W,CTDTMP,CTDTMP_FLAG_W,CTDSAL,CTDSAL_FLAG_W,SALNTY,SALNTY_FLAG_W,CTDOXY,CTDOXY_FLAG_W,OXYGEN,OXYGEN_FLAG_W,SILCAT,SILCAT_FLAG_W,NITRAT,NITRAT_FLAG_W,NITRIT,NITRIT_FLAG_W,PHSPHT,PHSPHT_FLAG_W,CFC-11,CFC-11_FLAG_W,CFC-12,CFC-12_FLAG_W,CFC113,CFC113_FLAG_W,CCL4,CCL4_FLAG_W,TCARBN,TCARBN_FLAG_W,ALKALI,ALKALI_FLAG_W,PH_TOT,PH_TMP,DELC14,DELC14_FLAG_W,C14ERR,DELC13,DELC13_FLAG_W,C13ERR,THETA,SIG0,SBE35,SBE35_FLAG_W,PH_TOT_FLAG_W,SILUNC,NRAUNC,NRIUNC,PHPUNC,CS-137,CS-137_FLAG_W,CS137ER,PLUTO,PLUTO_FLAG_W,PLUTOER
,,,,,,,,,,,METERS,DBAR,,ITS-90,,PSS-78,,PSS-78,,UMOL/KG,,UMOL/KG,,UMOL/KG,,UMOL/KG,,UMOL/KG,,UMOL/KG,,PMOL/KG,,PMOL/KG,,PMOL/KG,,PMOL/KG,,UMOL/KG,,UMOL/KG,,,DEG C,/MILLE,,/MILLE,/MILLE,,/MILLE,DEG C,KG/M^3,ITS-90,,,UMOL/KG,UMOL/KG,UMOL/KG,UMOL/KG,DM/.1MG,,BQ/M^3,MBQ/M^3,,MBQ/M^3
49NZ20071122, P14, 23, 1, 36, X12042, 2, 20071219, 0005, -27.4142, 176.4472, 4226,      9.9, 2,  22.5720, 2,  35.5079, 2,  35.5057, 2,    219.6, 2,    219.8, 2,     0.59, 2,     0.04, 2,     0.00, 2,     0.07, 2,    1.963, 2,    1.185, 2,    0.315, 4, -999.000, 9,   2014.1, 2,   2328.4, 2,    8.0591,     25.00,   -999.0, 9,   -999.0,  -999.00, 9,   -999.0,  22.5700, 24.4424,  22.5763, 2, 6, 0.12, 0.03, 0.01, 0.028,  -999.00, 9, -999.00, -999.00, 9, -999.00
49NZ20071122, P14, 23, 1, 35, X12041, 2, 20071219, 0005, -27.4142, 176.4472, 4226,     50.3, 2,  20.9268, 2,  35.7054, 2,  35.7066, 2,    226.7, 2,    227.8, 2,     0.56, 2,     0.03, 2,     0.00, 2,     0.08, 2,    2.085, 2,    1.250, 2,    0.563, 4, -999.000, 9,   2026.8, 6,   2342.6, 2,    8.0554,     25.00,   -999.0, 9,   -999.0,  -999.00, 9,   -999.0,  20.9172, 25.0536,  20.8761, 2, 2, 0.12, 0.03, 0.01, 0.025,  -999.00, 9, -999.00, -999.00, 9, -999.00
49NZ20071122, P14, 23, 1, 34, X12016, 2, 20071219, 0005, -27.4142, 176.4472, 4226,    100.6, 2,  18.6180, 2,  35.7186, 2,  35.7168, 2,    214.5, 2,    216.3, 2,     0.75, 2,     1.02, 2,     0.18, 2,     0.21, 2,    2.261, 2,    1.327, 2,    0.251, 4, -999.000, 9,   2058.8, 2,   2342.4, 6,    8.0023,     25.00,   -999.0, 9,   -999.0,  -999.00, 9,   -999.0,  18.6003, 25.6723,  18.6180, 2, 2, 0.12, 0.04, 0.01, 0.016,  -999.00, 9, -999.00, -999.00, 9, -999.00
49NZ20071122, P14, 23, 1, 33, X12033, 2, 20071219, 0005, -27.4142, 176.4472, 4226,    150.3, 2,  17.7791, 2,  35.6702, 2,  35.6685, 2,    206.7, 2,    207.1, 2,     1.08, 2,     3.29, 2,     0.02, 2,     0.33, 2,    2.329, 6,    1.352, 6,    0.167, 4, -999.000, 9,   2072.5, 2,   2337.5, 2,    7.9741,     25.00,   -999.0, 9,   -999.0,  -999.00, 9,   -999.0,  17.7534, 25.8463,  17.7709, 2, 6, 0.12, 0.04, 0.01, 0.014,  -999.00, 9, -999.00, -999.00, 9, -999.00
49NZ20071122, P14, 23, 1, 32, X12038, 2, 20071219, 0005, -27.4142, 176.4472, 4226,    198.3, 2,  16.9983, 2,  35.5841, 2,  35.5816, 2,    199.6, 2,    200.4, 2,     1.45, 2,     4.90, 2,     0.01, 2,     0.44, 2,    2.389, 2,    1.372, 2,    0.115, 4, -999.000, 9,   2082.7, 2,   2334.3, 2,    7.9479,     25.00,   -999.0, 9,   -999.0,  -999.00, 9,   -999.0,  16.9654, 25.9709,  16.9975, 2, 2, 0.12, 0.05, 0.01, 0.013,  -999.00, 9, -999.00, -999.00, 9, -999.00
49NZ20071122, P14, 23, 1, 31, X12003, 2, 20071219, 0005, -27.4142, 176.4472, 4226,    250.4, 2,  15.7848, 2,  35.4500, 2,  35.4462, 6,    196.8, 2,    197.8, 2,     1.99, 2,     6.88, 2,     0.01, 2,     0.57, 2,    2.470, 2,    1.398, 2,    0.080, 2, -999.000, 9,   2091.8, 2,   2325.8, 2,    7.9145,     25.00,   -999.0, 9,   -999.0,  -999.00, 9,   -999.0,  15.7453, 26.1520,  15.7853, 2, 2, 0.12, 0.05, 0.01, 0.013,  -999.00, 9, -999.00, -999.00, 9, -999.00
49NZ20071122, P14, 23, 1, 30, X12008, 2, 20071219, 0005, -27.4142, 176.4472, 4226,    330.5, 2,  13.6753, 2,  35.1924, 2,  35.1837, 2,    196.9, 2,    197.0, 2,     3.11, 2,    10.43, 2,     0.01, 2,     0.80, 2,    2.475, 2,    1.350, 2,    0.076, 2, -999.000, 9,   2111.7, 2,   2313.5, 2,    7.8600,     25.00,   -999.0, 9,   -999.0,  -999.00, 9,   -999.0,  13.6280, 26.4137,  13.6773, 2, 2, 0.13, 0.06, 0.01, 0.013,  -999.00, 9, -999.00, -999.00, 9, -999.00
49NZ20071122, P14, 23, 1, 29, X12035, 2, 20071219, 0005, -27.4142, 176.4472, 4226,    429.6, 2,  11.6488, 2,  34.9430, 2,  34.9382, 2,    198.6, 2,    198.7, 2,     4.53, 2,    14.29, 2,     0.00, 2,     1.04, 2,    2.500, 2,    1.320, 2,    0.083, 2, -999.000, 9,   2125.5, 2,   2303.4, 2,    7.8108,     25.00,   -999.0, 9,   -999.0,  -999.00, 9,   -999.0,  11.5933, 26.6218,  11.6495, 2, 2, 0.13, 0.07, 0.01, 0.013,  -999.00, 9, -999.00, -999.00, 9, -999.00
49NZ20071122, P14, 23, 1, 28, X12034, 2, 20071219, 0005, -27.4142, 176.4472, 4226,    531.2, 2,   9.4391, 2,  34.6642, 2,  34.6611, 6,    207.4, 2,    208.3, 2,     5.80, 2,    18.32, 2,     0.00, 2,     1.31, 2,    2.518, 2,    1.280, 2,    0.095, 2, -999.000, 9,   2136.5, 2,   2291.8, 2,    7.7654,     25.00,   -999.0, 9,   -999.0,  -999.00, 9,   -999.0,   9.3788, 26.7938,   9.4395, 2, 2, 0.13, 0.08, 0.01, 0.014,  -999.00, 9, -999.00, -999.00, 9, -999.00
49NZ20071122, P14, 23, 1, 27, X12049, 2, 20071219, 0005, -27.4142, 176.4472, 4226,    630.6, 2,   7.9219, 2,  34.4971, 2,  34.4974, 2,    217.1, 2,    217.9, 2,     7.37, 2,    21.28, 2,     0.00, 2,     1.50, 2,    2.358, 2,    1.163, 2,    0.090, 2, -999.000, 9,   2141.3, 2,   2286.8, 2,    7.7401,     25.00,   -999.0, 9,   -999.0,  -999.00, 9,   -999.0,   7.8571, 26.9001,   7.9224, 2, 2, 0.14, 0.09, 0.01, 0.014,  -999.00, 9, -999.00, -999.00, 9, -999.00
49NZ20071122, P14, 23, 1, 26, X12032, 2, 20071219, 0005, -27.4142, 176.4472, 4226,    729.1, 2,   7.0211, 2,  34.4167, 2,  34.4150, 2,    222.0, 2,    222.3, 2,     9.70, 2,    23.45, 2,     0.00, 2,     1.63, 2,    1.950, 6,    0.945, 6,    0.065, 6, -999.000, 9,   2147.0, 6,   2285.9, 2,    7.7249,     25.00,   -999.0, 9,   -999.0,  -999.00, 9,   -999.0,   6.9507, 26.9660,   7.0220, 2, 2, 0.14, 0.10, 0.01, 0.014,  -999.00, 9, -999.00, -999.00, 9, -999.00
49NZ20071122, P14, 23, 1, 25, X12043, 2, 20071219, 0005, -27.4142, 176.4472, 4226,    831.0, 2,   6.2161, 2,  34.3701, 2,  34.3693, 2,    218.2, 2,    217.8, 2,    14.37, 2,    25.79, 2,     0.00, 2,     1.79, 2,    1.313, 2,    0.639, 2,    0.034, 2, -999.000, 9,   2156.7, 2,   2288.6, 6,    7.7042,     25.00,   -999.0, 9,   -999.0,  -999.00, 9,   -999.0,   6.1404, 27.0370,   6.2144, 2, 2, 0.15, 0.11, 0.01, 0.015,  -999.00, 9, -999.00, -999.00, 9, -999.00
49NZ20071122, P14, 23, 1, 24, X12030, 2, 20071219, 0005, -27.4142, 176.4472, 4226,    930.7, 2,   5.4717, 2,  34.3586, 2,  34.3586, 2,    205.5, 2,    205.8, 2,    22.65, 2,    28.34, 2,     0.00, 2,     1.97, 2,    0.753, 2,    0.372, 2,    0.019, 2, -999.000, 9,   2175.8, 2,   2294.6, 2,    7.6740,     25.00,   -999.0, 9,   -999.0,  -999.00, 9,   -999.0,   5.3915, 27.1208,   5.4734, 2, 6, 0.17, 0.11, 0.01, 0.015,  -999.00, 9, -999.00, -999.00, 9, -999.00
49NZ20071122, P14, 23, 1, 23, X12027, 2, 20071219, 0005, -27.4142, 176.4472, 4226,   1069.6, 2,   4.2192, 2,  34.4078, 2,  34.4098, 6,    182.5, 2,    182.3, 2,    45.29, 2,    32.20, 2,     0.00, 2,     2.24, 2,    0.209, 2,    0.106, 2,    0.016, 2, -999.000, 9,   2214.9, 2,   2317.4, 2,    7.6257,     25.00,   -999.0, 9,   -999.0,  -999.00, 9,   -999.0,   4.1361, 27.3009,   4.2189, 2, 2, 0.22, 0.12, 0.01, 0.016,  -999.00, 9, -999.00, -999.00, 9, -999.00
49NZ20071122, P14, 23, 1, 22, X12028, 2, 20071219, 0005, -27.4142, 176.4472, 4226,   1271.1, 2,   3.3857, 2,  34.5161, 2,  34.5176, 2,    165.9, 2,    165.1, 2,    73.08, 2,    33.86, 2,     0.00, 2,     2.38, 2,    0.069, 2,    0.039, 2,    0.003, 2, -999.000, 9,   2252.4, 2,   2350.1, 2,    7.6072,     25.00,   -999.0, 9,   -999.0,  -999.00, 9,   -999.0,   3.2929, 27.4715,   3.3886, 2, 2, 0.28, 0.13, 0.01, 0.016,  -999.00, 9, -999.00, -999.00, 9, -999.00
49NZ20071122, P14, 23, 1, 21, X12009, 2, 20071219, 0005, -27.4142, 176.4472, 4226,   1469.8, 2,   2.8474, 2,  34.5761, 2,  34.5763, 2,    156.7, 2,    156.8, 2,    91.30, 2,    34.73, 2,     0.00, 2,     2.44, 2,    0.019, 2,    0.010, 2,    0.000, 2, -999.000, 9,   2276.7, 2,   2370.5, 2,    7.5979,     25.00,   -999.0, 9,   -999.0,  -999.00, 9,   -999.0,   2.7438, 27.5698,   2.8491, 2, 2, 0.32, 0.13, 0.01, 0.016,  -999.00, 9, -999.00, -999.00, 9, -999.00
49NZ20071122, P14, 23, 1, 20, X12026, 2, 20071219, 0005, -27.4142, 176.4472, 4226,   1670.1, 2,   2.5580, 2,  34.6082, 2,  34.6079, 2,    153.3, 2,    153.4, 2,   101.03, 2,    35.06, 2,     0.00, 2,     2.47, 2,    0.008, 2,    0.004, 2,    0.000, 2, -999.000, 9,   2288.3, 2,   2381.9, 2,    7.5938,     25.00,   -999.0, 9,   -999.0,  -999.00, 9,   -999.0,   2.4413, 27.6216,   2.5580, 2, 2, 0.34, 0.13, 0.01, 0.016,  -999.00, 9, -999.00, -999.00, 9, -999.00
49NZ20071122, P14, 23, 1, 19, X12025, 2, 20071219, 0005, -27.4142, 176.4472, 4226,   1872.0, 2,   2.3199, 2,  34.6315, 2,  34.6310, 2,    152.2, 2,    152.3, 2,   108.31, 2,    35.33, 2,     0.00, 2,     2.49, 2,    0.006, 2,    0.005, 2,    0.000, 2, -999.000, 9,   2295.1, 2,   2389.4, 2,    7.5926,     25.00,   -999.0, 9,   -999.0,  -999.00, 9,   -999.0,   2.1895, 27.6612,   2.3202, 2, 2, 0.36, 0.13, 0.01, 0.016,  -999.00, 9, -999.00, -999.00, 9, -999.00
49NZ20071122, P14, 23, 1, 18, X12024, 2, 20071219, 0005, -27.4142, 176.4472, 4226,   2071.2, 2,   2.1584, 2,  34.6465, 2,  34.6467, 2,    152.0, 2,    152.2, 2,   112.72, 2,    35.43, 2,     0.00, 2,     2.50, 2,    0.002, 2,    0.002, 2,    0.000, 2, -999.000, 9,   2300.6, 2,   2394.1, 2,    7.5925,     25.00,   -999.0, 9,   -999.0,  -999.00, 9,   -999.0,   2.0134, 27.6874,   2.1584, 2, 2, 0.37, 0.13, 0.01, 0.016,  -999.00, 9, -999.00, -999.00, 9, -999.00
49NZ20071122, P14, 23, 1, 17, X12023, 2, 20071219, 0005, -27.4142, 176.4472, 4226,   2270.6, 2,   2.0355, 2,  34.6582, 2,  34.6579, 6,    152.6, 2,    153.0, 2,   115.92, 2,    35.40, 2,     0.00, 2,     2.50, 2,    0.000, 2,    0.001, 2,    0.000, 2, -999.000, 9,   2303.1, 2,   2398.3, 2,    7.5933,     25.00,   -999.0, 9,   -999.0,  -999.00, 9,   -999.0,   1.8751, 27.7076,   2.0355, 2, 2, 0.37, 0.13, 0.01, 0.016,  -999.00, 9, -999.00, -999.00, 9, -999.00
49NZ20071122, P14, 23, 1, 16, X12022, 2, 20071219, 0005, -27.4142, 176.4472, 4226,   2470.5, 2,   1.9488, 2,  34.6667, 2,  34.6665, 2,    153.3, 2,    153.5, 2,   118.12, 2,    35.39, 2,     0.00, 2,     2.50, 2,    0.000, 2,    0.000, 2,    0.000, 2, -999.000, 9,   2305.6, 6,   2401.3, 2,    7.5943,     25.00,   -999.0, 9,   -999.0,  -999.00, 9,   -999.0,   1.7721, 27.7224,   1.9487, 2, 2, 0.38, 0.13, 0.01, 0.016,  -999.00, 9, -999.00, -999.00, 9, -999.00
49NZ20071122, P14, 23, 1, 15, X12021, 2, 20071219, 0005, -27.4142, 176.4472, 4226,   2670.9, 2,   1.8792, 2,  34.6735, 2,  34.6733, 2,    153.8, 2,    154.2, 2,   120.12, 2,    35.38, 2,     0.00, 2,     2.49, 2,    0.000, 2,    0.000, 2,    0.000, 2, -999.000, 9,   2307.8, 2,   2403.4, 6,    7.5959,     25.00,   -999.0, 9,   -999.0,  -999.00, 9,   -999.0,   1.6854, 27.7344,   1.8792, 2, 2, 0.38, 0.13, 0.01, 0.016,  -999.00, 9, -999.00, -999.00, 9, -999.00
49NZ20071122, P14, 23, 1, 14, X12020, 2, 20071219, 0005, -27.4142, 176.4472, 4226,   2869.6, 2,   1.8363, 2,  34.6778, 2,  34.6777, 2,    154.3, 2,    154.7, 2,   121.39, 2,    35.43, 2,     0.00, 2,     2.49, 2, -999.000, 9, -999.000, 9, -999.000, 9, -999.000, 9,   2308.8, 2,   2404.6, 2,    7.5961,     25.00,   -999.0, 9,   -999.0,  -999.00, 9,   -999.0,   1.6247, 27.7424,   1.8362, 2, 6, 0.39, 0.13, 0.01, 0.016,  -999.00, 9, -999.00, -999.00, 9, -999.00
49NZ20071122, P14, 23, 1, 13, X12019, 2, 20071219, 0005, -27.4142, 176.4472, 4226,   3081.9, 2,   1.8267, 2,  34.6797, 2,  34.6795, 2,    154.7, 2,    154.9, 2,   122.11, 2,    35.41, 2,     0.00, 2,     2.50, 2,    0.001, 2,    0.001, 2,    0.000, 2, -999.000, 9,   2308.5, 2,   2405.0, 2,    7.5969,     25.00,   -999.0, 9,   -999.0,  -999.00, 9,   -999.0,   1.5947, 27.7462,   1.8265, 2, 2, 0.39, 0.13, 0.01, 0.016,  -999.00, 9, -999.00, -999.00, 9, -999.00
49NZ20071122, P14, 23, 1, 12, X12040, 2, 20071219, 0005, -27.4142, 176.4472, 4226,   3331.0, 2,   1.8216, 2,  34.6815, 2,  34.6820, 2,    154.9, 2,    155.1, 2,   122.70, 2,    35.34, 2,     0.00, 2,     2.48, 2, -999.000, 9, -999.000, 9, -999.000, 9, -999.000, 9,   2310.3, 2,   2406.2, 2,    7.5979,     25.00,   -999.0, 9,   -999.0,  -999.00, 9,   -999.0,   1.5648, 27.7499,   1.8215, 2, 2, 0.39, 0.13, 0.01, 0.016,  -999.00, 9, -999.00, -999.00, 9, -999.00
49NZ20071122, P14, 23, 1, 11, X12047, 2, 20071219, 0005, -27.4142, 176.4472, 4226,   3579.8, 2,   1.8359, 2,  34.6822, 2,  34.6821, 6,    155.3, 2,    155.4, 2,   123.17, 2,    35.34, 2,     0.00, 2,     2.49, 2,    0.003, 2,    0.003, 2,    0.000, 2, -999.000, 9,   2310.1, 2,   2406.6, 2,    7.5982,     25.00,   -999.0, 9,   -999.0,  -999.00, 9,   -999.0,   1.5530, 27.7512,   1.8358, 2, 2, 0.39, 0.13, 0.01, 0.016,  -999.00, 9, -999.00, -999.00, 9, -999.00
49NZ20071122, P14, 23, 1, 10, X12012, 2, 20071219, 0005, -27.4142, 176.4472, 4226,   3832.1, 2,   1.8515, 2,  34.6826, 2,  34.6827, 2,    155.6, 2,    155.7, 2,   123.46, 2,    35.35, 2,     0.00, 2,     2.49, 2, -999.000, 9, -999.000, 9, -999.000, 9, -999.000, 9,   2309.8, 2,   2407.1, 2,    7.5979,     25.00,   -999.0, 9,   -999.0,  -999.00, 9,   -999.0,   1.5412, 27.7524,   1.8514, 2, 2, 0.39, 0.13, 0.01, 0.016,  -999.00, 9, -999.00, -999.00, 9, -999.00
49NZ20071122, P14, 23, 1, 9, X12015, 2, 20071219, 0005, -27.4142, 176.4472, 4226,   4080.4, 2,   1.8716, 2,  34.6829, 2,  34.6832, 2,    156.0, 2,    156.0, 2,   123.49, 2,    35.41, 2,     0.00, 2,     2.49, 2,    0.014, 3,    0.009, 3,    0.000, 2, -999.000, 9,   2310.2, 2,   2406.3, 2,    7.5979,     25.00,   -999.0, 9,   -999.0,  -999.00, 9,   -999.0,   1.5333, 27.7533,   1.8716, 2, 2, 0.39, 0.13, 0.01, 0.016,  -999.00, 9, -999.00, -999.00, 9, -999.00
49NZ20071122, P14, 23, 1, 8, X12046, 9, 20071219, 0005, -27.4142, 176.4472, 4226,      9.9, 2,  22.5373, 2,  35.5050, 2, -999.0000, 9,    219.8, 2,   -999.0, 9,  -999.00, 9,  -999.00, 9,  -999.00, 9,  -999.00, 9, -999.000, 9, -999.000, 9, -999.000, 9, -999.000, 9,   -999.0, 9,   -999.0, 9, -999.0000,   -999.00,   -999.0, 9,   -999.0,  -999.00, 9,   -999.0,  22.5353, 24.4501,  22.5439, 2, 9, -999.00, -999.00, -999.00, -999.000,  -999.00, 9, -999.00, -999.00, 9, -999.00
49NZ20071122, P14, 23, 1, 7, X12044, 9, 20071219, 0005, -27.4142, 176.4472, 4226,     50.4, 2,  21.0367, 2,  35.7007, 2, -999.0000, 9,    226.6, 2,   -999.0, 9,  -999.00, 9,  -999.00, 9,  -999.00, 9,  -999.00, 9, -999.000, 9, -999.000, 9, -999.000, 9, -999.000, 9,   -999.0, 9,   -999.0, 9, -999.0000,   -999.00,   -999.0, 9,   -999.0,  -999.00, 9,   -999.0,  21.0270, 25.0201,  21.0180, 2, 9, -999.00, -999.00, -999.00, -999.000,  -999.00, 9, -999.00, -999.00, 9, -999.00
49NZ20071122, P14, 23, 1, 6, X12048, 9, 20071219, 0005, -27.4142, 176.4472, 4226,    930.6, 2,   5.4714, 2,  34.3585, 2, -999.0000, 9,    205.5, 2,   -999.0, 9,  -999.00, 9,  -999.00, 9,  -999.00, 9,  -999.00, 9, -999.000, 9, -999.000, 9, -999.000, 9, -999.000, 9,   -999.0, 9,   -999.0, 9, -999.0000,   -999.00,   -999.0, 9,   -999.0,  -999.00, 9,   -999.0,   5.3912, 27.1208,   5.4719, 2, 9, -999.00, -999.00, -999.00, -999.000,  -999.00, 9, -999.00, -999.00, 9, -999.00
49NZ20071122, P14, 23, 1, 5, X12014, 9, 20071219, 0005, -27.4142, 176.4472, 4226,    100.5, 2,  18.6267, 2,  35.7181, 2, -999.0000, 9,    214.6, 2,   -999.0, 9,  -999.00, 9,  -999.00, 9,  -999.00, 9,  -999.00, 9, -999.000, 9, -999.000, 9, -999.000, 9, -999.000, 9,   -999.0, 9,   -999.0, 9, -999.0000,   -999.00,   -999.0, 9,   -999.0,  -999.00, 9,   -999.0,  18.6090, 25.6697,  18.6242, 2, 9, -999.00, -999.00, -999.00, -999.000,  -999.00, 9, -999.00, -999.00, 9, -999.00
49NZ20071122, P14, 23, 1, 4, X12006, 9, 20071219, 0005, -27.4142, 176.4472, 4226,   1271.6, 2,   3.3742, 2,  34.5178, 2, -999.0000, 9,    165.8, 2,   -999.0, 9,  -999.00, 9,  -999.00, 9,  -999.00, 9,  -999.00, 9, -999.000, 9, -999.000, 9, -999.000, 9, -999.000, 9,   -999.0, 9,   -999.0, 9, -999.0000,   -999.00,   -999.0, 9,   -999.0,  -999.00, 9,   -999.0,   3.2815, 27.4740,   3.3736, 2, 9, -999.00, -999.00, -999.00, -999.000,  -999.00, 9, -999.00, -999.00, 9, -999.00
49NZ20071122, P14, 23, 1, 3, X12013, 9, 20071219, 0005, -27.4142, 176.4472, 4226,   3579.8, 2,   1.8358, 2,  34.6823, 2, -999.0000, 9,    155.3, 2,   -999.0, 9,  -999.00, 9,  -999.00, 9,  -999.00, 9,  -999.00, 9, -999.000, 9, -999.000, 9, -999.000, 9, -999.000, 9,   -999.0, 9,   -999.0, 9, -999.0000,   -999.00,   -999.0, 9,   -999.0,  -999.00, 9,   -999.0,   1.5529, 27.7513,   1.8358, 2, 9, -999.00, -999.00, -999.00, -999.000,  -999.00, 9, -999.00, -999.00, 9, -999.00
49NZ20071122, P14, 23, 1, 2, X12002, 9, 20071219, 0005, -27.4142, 176.4472, 4226,   1670.1, 2,   2.5580, 2,  34.6081, 2, -999.0000, 9,    153.3, 2,   -999.0, 9,  -999.00, 9,  -999.00, 9,  -999.00, 9,  -999.00, 9, -999.000, 9, -999.000, 9, -999.000, 9, -999.000, 9,   -999.0, 9,   -999.0, 9, -999.0000,   -999.00,   -999.0, 9,   -999.0,  -999.00, 9,   -999.0,   2.4413, 27.6215,   2.5581, 2, 9, -999.00, -999.00, -999.00, -999.000,  -999.00, 9, -999.00, -999.00, 9, -999.00
49NZ20071122, P14, 23, 1, 1, X12001, 2, 20071219, 0005, -27.4142, 176.4472, 4226,   4283.7, 2,   1.8957, 2,  34.6828, 2,  34.6829, 6,    156.0, 2,    156.0, 2,   123.57, 2,    35.37, 2,     0.00, 2,     2.49, 2,    0.000, 2,    0.000, 2,    0.000, 2, -999.000, 9,   2309.4, 2,   2406.6, 2,    7.5979,     25.00,   -999.0, 9,   -999.0,  -999.00, 9,   -999.0,   1.5336, 27.7531,   1.8957, 2, 2, 0.39, 0.13, 0.01, 0.016,  -999.00, 9, -999.00, -999.00, 9, -999.00