BOTTLE,20220820CCHSIOAMB
EXPOCODE,SECT_ID,STNNBR,CASTNO,SAMPNO,BTLNBR,BTLNBR_FLAG_W,DATE,TIME,LATITUDE,LONGITUDE,DEPTH,CTDPRS,CTDPRS_FLAG_W,CTDTMP,CTDTMP_FLAG_W,CTDSAL,CTDSAL_FLAG_W,SALNTY,SALNTY_FLAG_W,CTDOXY,CTDOXY_FLAG_W,OXYGEN,OXYGEN_FLAG_W,SILCAT,SILCAT_FLAG_W,NITRAT,NITRAT_FLAG_W,NITRIT,NITRIT_FLAG_W,PHSPHT,PHSPHT_FLAG_W,CFC-11,CFC-11_FLAG_W,CFC-12,CFC-12_FLAG_W,CFC113,CFC113_FLAG_W,CCL4,CCL4_FLAG_W,TCARBN,TCARBN_FLAG_W,ALKALI,ALKALI_FLAG_W,PH_TOT,PH_TMP,DELC14,DELC14_FLAG_W,C14ERR,DELC13,DELC13_FLAG_W,C13ERR,THETA,SIG0,SBE35,SBE35_FLAG_W,PH_TOT_FLAG_W,SILUNC,NRAUNC,NRIUNC,PHPUNC,CS-137,CS-137_FLAG_W,CS137ER,PLUTO,PLUTO_FLAG_W,PLUTOER
,,,,,,,,,,,METERS,DBAR,,ITS-90,,PSS-78,,PSS-78,,UMOL/KG,,UMOL/KG,,UMOL/KG,,UMOL/KG,,UMOL/KG,,UMOL/KG,,PMOL/KG,,PMOL/KG,,PMOL/KG,,PMOL/KG,,UMOL/KG,,UMOL/KG,,,DEG C,/MILLE,,/MILLE,/MILLE,,/MILLE,DEG C,KG/M^3,ITS-90,,,UMOL/KG,UMOL/KG,UMOL/KG,UMOL/KG,DM/.1MG,,BQ/M^3,MBQ/M^3,,MBQ/M^3
49NZ20071122, P14N, 110, 1, 36, X12042, 2, 20071124, 0213, 8.2603, 179.0028, 5736,      9.3, 2,  28.1974, 2,  34.2777, 2,  34.2779, 2,    197.3, 2,    197.5, 2,     0.96, 2,     0.04, 2,     0.00, 2,     0.15, 2,    1.484, 2,    0.933, 2,    0.231, 4, -999.000, 9,   -999.0, 9,   -999.0, 9, -999.0000,   -999.00,   -999.0, 9,   -999.0,  -999.00, 9,   -999.0,  28.1952, 21.7878,  28.1963, 2, 9, 0.12, 0.03, 0.01, 0.018,  -999.00, 9, -999.00, -999.00, 9, -999.00
49NZ20071122, P14N, 110, 1, 35, X12041, 2, 20071124, 0213, 8.2603, 179.0028, 5736,     50.1, 2,  28.2160, 2,  34.2769, 2,  34.2789, 2,    197.1, 2,    197.3, 2,     0.89, 2,     0.04, 2,     0.00, 2,     0.15, 2,    1.483, 2,    0.931, 2,    0.263, 4, -999.000, 9,   -999.0, 9,   -999.0, 9, -999.0000,   -999.00,   -999.0, 9,   -999.0,  -999.00, 9,   -999.0,  28.2042, 21.7843,  28.2130, 2, 9, 0.12, 0.03, 0.01, 0.018,  -999.00, 9, -999.00, -999.00, 9, -999.00
49NZ20071122, P14N, 110, 1, 34, X12016, 2, 20071124, 0213, 8.2603, 179.0028, 5736,    100.2, 2,  25.4240, 2,  34.7996, 2,  34.8022, 2,    198.7, 2,    199.7, 2,     1.13, 2,     0.05, 2,     0.02, 2,     0.22, 2,    1.737, 2,    1.072, 2,    0.403, 4, -999.000, 9,   -999.0, 9,   -999.0, 9, -999.0000,   -999.00,   -999.0, 9,   -999.0,  -999.00, 9,   -999.0,  25.4020, 23.0670,  25.4152, 2, 9, 0.12, 0.03, 0.01, 0.015,  -999.00, 9, -999.00, -999.00, 9, -999.00
49NZ20071122, P14N, 110, 1, 33, X12033, 3, 20071124, 0213, 8.2603, 179.0028, 5736,    149.5, 2,  16.3735, 2,  34.5647, 2,  34.5660, 2,    152.7, 2,    157.8, 2,     7.05, 2,     9.31, 2,     0.04, 2,     0.81, 2,    2.461, 6,    1.379, 6,    0.074, 6, -999.000, 9,   -999.0, 9,   -999.0, 9, -999.0000,   -999.00,   -999.0, 9,   -999.0,  -999.00, 9,   -999.0,  16.3496, 25.3325,  16.3745, 2, 9, 0.13, 0.06, 0.01, 0.013,  -999.00, 9, -999.00, -999.00, 9, -999.00
49NZ20071122, P14N, 110, 1, 32, X12038, 2, 20071124, 0213, 8.2603, 179.0028, 5736,    199.2, 2,  11.7391, 2,  34.5288, 2,  34.5512, 2,     44.7, 2,     41.7, 2,    25.59, 2,    29.42, 2,     0.01, 2,     2.23, 2,    1.128, 2,    0.588, 2,    0.023, 2, -999.000, 9,   -999.0, 9,   -999.0, 9, -999.0000,   -999.00,   -999.0, 9,   -999.0,  -999.00, 9,   -999.0,  11.7136, 26.2772,  11.7323, 2, 9, 0.18, 0.12, 0.01, 0.016,  -999.00, 9, -999.00, -999.00, 9, -999.00
49NZ20071122, P14N, 110, 1, 31, X12003, 2, 20071124, 0213, 8.2603, 179.0028, 5736,    249.2, 2,  10.6838, 2,  34.6721, 2,  34.6714, 6,     17.1, 2,     16.5, 2,    30.37, 2,    33.97, 2,     0.01, 2,     2.49, 2,    0.439, 2,    0.228, 2,    0.015, 2, -999.000, 9,   -999.0, 9,   -999.0, 9, -999.0000,   -999.00,   -999.0, 9,   -999.0,  -999.00, 9,   -999.0,  10.6537, 26.5822,  10.6809, 2, 9, 0.19, 0.13, 0.01, 0.016,  -999.00, 9, -999.00, -999.00, 9, -999.00
49NZ20071122, P14N, 110, 1, 30, X12008, 2, 20071124, 0213, 8.2603, 179.0028, 5736,    331.9, 2,   9.7543, 2,  34.6551, 2,  34.6548, 2,     21.8, 2,     21.2, 2,    33.94, 2,    35.36, 2,     0.00, 2,     2.55, 2,    0.245, 2,    0.125, 2,    0.013, 2, -999.000, 9,   -999.0, 9,   -999.0, 9, -999.0000,   -999.00,   -999.0, 9,   -999.0,  -999.00, 9,   -999.0,   9.7163, 26.7306,   9.7606, 2, 9, 0.19, 0.13, 0.01, 0.016,  -999.00, 9, -999.00, -999.00, 9, -999.00
49NZ20071122, P14N, 110, 1, 29, X12035, 2, 20071124, 0213, 8.2603, 179.0028, 5736,    430.4, 2,   8.7345, 2,  34.6151, 2,  34.6146, 2,     36.5, 2,     36.5, 2,    38.59, 2,    36.00, 2,     0.00, 2,     2.60, 2,    0.171, 2,    0.089, 2,    0.006, 2, -999.000, 9,   -999.0, 9,   -999.0, 9, -999.0000,   -999.00,   -999.0, 9,   -999.0,  -999.00, 9,   -999.0,   8.6882, 26.8661,   8.7348, 2, 9, 0.20, 0.13, 0.01, 0.016,  -999.00, 9, -999.00, -999.00, 9, -999.00
49NZ20071122, P14N, 110, 1, 28, X12034, 2, 20071124, 0213, 8.2603, 179.0028, 5736,    530.0, 2,   7.8738, 2,  34.5797, 2,  34.5795, 6,     34.8, 2,     32.9, 2,    46.25, 2,    37.83, 2,     0.00, 2,     2.77, 2,    0.078, 2,    0.039, 2,    0.007, 2, -999.000, 9,   -999.0, 9,   -999.0, 9, -999.0000,   -999.00,   -999.0, 9,   -999.0,  -999.00, 9,   -999.0,   7.8198, 26.9705,   7.8702, 2, 9, 0.22, 0.14, 0.01, 0.017,  -999.00, 9, -999.00, -999.00, 9, -999.00
49NZ20071122, P14N, 110, 1, 27, X12049, 2, 20071124, 0213, 8.2603, 179.0028, 5736,    628.5, 2,   6.8044, 2,  34.5418, 2,  34.5412, 2,     40.9, 2,     41.3, 2,    57.33, 2,    39.16, 2,     0.00, 2,     2.85, 2,    0.040, 2,    0.021, 2,    0.004, 2, -999.000, 9,   -999.0, 9,   -999.0, 9, -999.0000,   -999.00,   -999.0, 9,   -999.0,  -999.00, 9,   -999.0,   6.7451, 27.0927,   6.8058, 2, 9, 0.25, 0.14, 0.01, 0.017,  -999.00, 9, -999.00, -999.00, 9, -999.00
49NZ20071122, P14N, 110, 1, 26, X12032, 2, 20071124, 0213, 8.2603, 179.0028, 5736,    729.6, 2,   6.0152, 2,  34.5318, 2,  34.5317, 2,     46.5, 2,     46.4, 2,    67.36, 2,    40.33, 2,     0.00, 2,     2.91, 2,    0.021, 6,    0.010, 6,    0.000, 6, -999.000, 9,   -999.0, 9,   -999.0, 9, -999.0000,   -999.00,   -999.0, 9,   -999.0,  -999.00, 9,   -999.0,   5.9502, 27.1890,   6.0143, 2, 9, 0.27, 0.15, 0.01, 0.017,  -999.00, 9, -999.00, -999.00, 9, -999.00
49NZ20071122, P14N, 110, 1, 25, X12043, 2, 20071124, 0213, 8.2603, 179.0028, 5736,    830.8, 2,   5.3528, 2,  34.5370, 2,  34.5378, 2,     53.9, 2,     54.0, 2,    76.52, 2,    40.83, 2,     0.00, 2,     2.95, 2,    0.009, 2,    0.005, 2,    0.000, 2, -999.000, 9,   -999.0, 9,   -999.0, 9, -999.0000,   -999.00,   -999.0, 9,   -999.0,  -999.00, 9,   -999.0,   5.2823, 27.2751,   5.3526, 2, 9, 0.29, 0.15, 0.01, 0.017,  -999.00, 9, -999.00, -999.00, 9, -999.00
49NZ20071122, P14N, 110, 1, 24, X12030, 2, 20071124, 0213, 8.2603, 179.0028, 5736,    928.9, 2,   4.8863, 2,  34.5485, 2,  34.5491, 2,     55.8, 2,     55.6, 2,    83.93, 2,    41.45, 2,     0.00, 2,     2.98, 2,    0.001, 2,    0.001, 2,    0.000, 2, -999.000, 9,   -999.0, 9,   -999.0, 9, -999.0000,   -999.00,   -999.0, 9,   -999.0,  -999.00, 9,   -999.0,   4.8101, 27.3391,   4.8839, 2, 9, 0.30, 0.15, 0.01, 0.017,  -999.00, 9, -999.00, -999.00, 9, -999.00
49NZ20071122, P14N, 110, 1, 23, X12027, 2, 20071124, 0213, 8.2603, 179.0028, 5736,   1069.0, 2,   4.3282, 2,  34.5618, 2,  34.5622, 6,     59.8, 2,     59.5, 2,    94.67, 2,    41.66, 2,     0.00, 2,     3.01, 2,    0.004, 2,    0.000, 2,    0.000, 2, -999.000, 9,   -999.0, 9,   -999.0, 9, -999.0000,   -999.00,   -999.0, 9,   -999.0,  -999.00, 9,   -999.0,   4.2440, 27.4119,   4.3279, 2, 9, 0.33, 0.15, 0.01, 0.017,  -999.00, 9, -999.00, -999.00, 9, -999.00
49NZ20071122, P14N, 110, 1, 22, X12028, 2, 20071124, 0213, 8.2603, 179.0028, 5736,   1270.2, 2,   3.6971, 2,  34.5774, 2,  34.5785, 3,     70.6, 2,     70.3, 2,   108.27, 2,    41.09, 2,     0.00, 2,     2.97, 2,    0.000, 2,    0.000, 2,    0.000, 2, -999.000, 9,   -999.0, 9,   -999.0, 9, -999.0000,   -999.00,   -999.0, 9,   -999.0,  -999.00, 9,   -999.0,   3.6012, 27.4904,   3.6978, 2, 9, 0.36, 0.15, 0.01, 0.017,  -999.00, 9, -999.00, -999.00, 9, -999.00
49NZ20071122, P14N, 110, 1, 21, X12009, 2, 20071124, 0213, 8.2603, 179.0028, 5736,   1470.2, 2,   3.1522, 2,  34.5947, 2,  34.5948, 2,     79.9, 2,     80.0, 2,   119.53, 2,    40.70, 2,     0.00, 2,     2.92, 2,    0.000, 2,    0.000, 2,    0.000, 2, -999.000, 9,   -999.0, 9,   -999.0, 9, -999.0000,   -999.00,   -999.0, 9,   -999.0,  -999.00, 9,   -999.0,   3.0451, 27.5574,   3.1523, 2, 9, 0.38, 0.15, 0.01, 0.017,  -999.00, 9, -999.00, -999.00, 9, -999.00
49NZ20071122, P14N, 110, 1, 20, X12026, 2, 20071124, 0213, 8.2603, 179.0028, 5736,   1670.3, 2,   2.7641, 2,  34.6103, 2,  34.6111, 2,     88.3, 2,     87.5, 2,   127.87, 2,    40.19, 2,     0.00, 2,     2.88, 2,    0.000, 2,    0.000, 2,    0.000, 2, -999.000, 9,   -999.0, 9,   -999.0, 9, -999.0000,   -999.00,   -999.0, 9,   -999.0,  -999.00, 9,   -999.0,   2.6448, 27.6058,   2.7655, 2, 9, 0.40, 0.15, 0.01, 0.017,  -999.00, 9, -999.00, -999.00, 9, -999.00
49NZ20071122, P14N, 110, 1, 19, X12025, 2, 20071124, 0213, 8.2603, 179.0028, 5736,   1871.1, 2,   2.4479, 2,  34.6254, 2,  34.6259, 2,     94.7, 2,     94.5, 2,   135.11, 2,    39.91, 2,     0.00, 2,     2.84, 2, -999.000, 9, -999.000, 9, -999.000, 9, -999.000, 9,   -999.0, 9,   -999.0, 9, -999.0000,   -999.00,   -999.0, 9,   -999.0,  -999.00, 9,   -999.0,   2.3158, 27.6459,   2.4478, 2, 9, 0.42, 0.14, 0.01, 0.017,  -999.00, 9, -999.00, -999.00, 9, -999.00
49NZ20071122, P14N, 110, 1, 18, X12024, 2, 20071124, 0213, 8.2603, 179.0028, 5736,   2070.8, 2,   2.1804, 2,  34.6408, 2,  34.6409, 2,    102.0, 2,    102.1, 2,   140.91, 2,    39.44, 2,     0.00, 2,     2.80, 2,    0.002, 2,    0.000, 2,    0.000, 2, -999.000, 9,   -999.0, 9,   -999.0, 9, -999.0000,   -999.00,   -999.0, 9,   -999.0,  -999.00, 9,   -999.0,   2.0351, 27.6811,   2.1809, 2, 9, 0.43, 0.14, 0.01, 0.017,  -999.00, 9, -999.00, -999.00, 9, -999.00
49NZ20071122, P14N, 110, 1, 17, X12023, 2, 20071124, 0213, 8.2603, 179.0028, 5736,   2271.2, 2,   2.0146, 2,  34.6513, 2,  34.6518, 2,    108.3, 2,    108.4, 2,   144.61, 2,    39.17, 2,     0.00, 2,     2.76, 2, -999.000, 9, -999.000, 9, -999.000, 9, -999.000, 9,   -999.0, 9,   -999.0, 9, -999.0000,   -999.00,   -999.0, 9,   -999.0,  -999.00, 9,   -999.0,   1.8546, 27.7037,   2.0149, 2, 9, 0.44, 0.14, 0.01, 0.017,  -999.00, 9, -999.00, -999.00, 9, -999.00
49NZ20071122, P14N, 110, 1, 16, X12022, 2, 20071124, 0213, 8.2603, 179.0028, 5736,   2471.1, 2,   1.9061, 2,  34.6590, 2,  34.6593, 2,    113.3, 2,    113.5, 2,   146.45, 2,    38.76, 2,     0.00, 2,     2.73, 2,    0.000, 2,    0.000, 2,    0.000, 2, -999.000, 9,   -999.0, 9,   -999.0, 9, -999.0000,   -999.00,   -999.0, 9,   -999.0,  -999.00, 9,   -999.0,   1.7302, 27.7194,   1.9063, 2, 9, 0.44, 0.14, 0.01, 0.017,  -999.00, 9, -999.00, -999.00, 9, -999.00
49NZ20071122, P14N, 110, 1, 15, X12021, 2, 20071124, 0213, 8.2603, 179.0028, 5736,   2669.3, 2,   1.8259, 2,  34.6639, 2,  34.6640, 2,    117.8, 2,    117.8, 2,   148.00, 2,    38.42, 2,     0.00, 2,     2.70, 2, -999.000, 9, -999.000, 9, -999.000, 9, -999.000, 9,   -999.0, 9,   -999.0, 9, -999.0000,   -999.00,   -999.0, 9,   -999.0,  -999.00, 9,   -999.0,   1.6334, 27.7306,   1.8260, 2, 9, 0.44, 0.14, 0.01, 0.017,  -999.00, 9, -999.00, -999.00, 9, -999.00
49NZ20071122, P14N, 110, 1, 14, X12020, 2, 20071124, 0213, 8.2603, 179.0028, 5736,   2871.5, 2,   1.7484, 2,  34.6683, 2,  34.6681, 6,    123.1, 2,    122.7, 2,   148.67, 2,    38.14, 2,     0.00, 2,     2.68, 2,    0.001, 2,    0.000, 2,    0.000, 2, -999.000, 9,   -999.0, 9,   -999.0, 9, -999.0000,   -999.00,   -999.0, 9,   -999.0,  -999.00, 9,   -999.0,   1.5385, 27.7411,   1.7485, 2, 9, 0.45, 0.14, 0.01, 0.017,  -999.00, 9, -999.00, -999.00, 9, -999.00
49NZ20071122, P14N, 110, 1, 13, X12019, 2, 20071124, 0213, 8.2603, 179.0028, 5736,   3081.6, 2,   1.6663, 2,  34.6733, 2,  34.6734, 2,    129.1, 2,    129.3, 2,   149.03, 2,    37.72, 2,     0.01, 2,     2.65, 2, -999.000, 9, -999.000, 9, -999.000, 9, -999.000, 9,   -999.0, 9,   -999.0, 9, -999.0000,   -999.00,   -999.0, 9,   -999.0,  -999.00, 9,   -999.0,   1.4380, 27.7525,   1.6664, 2, 9, 0.45, 0.14, 0.01, 0.017,  -999.00, 9, -999.00, -999.00, 9, -999.00
49NZ20071122, P14N, 110, 1, 12, X12040, 2, 20071124, 0213, 8.2603, 179.0028, 5736,   3331.4, 2,   1.5926, 2,  34.6781, 2,  34.6781, 2,    136.8, 2,    136.7, 2,   147.59, 2,    37.22, 2,     0.00, 2,     2.59, 2,    0.001, 2,    0.000, 2,    0.000, 2, -999.000, 9,   -999.0, 9,   -999.0, 9, -999.0000,   -999.00,   -999.0, 9,   -999.0,  -999.00, 9,   -999.0,   1.3413, 27.7632,   1.5926, 2, 9, 0.44, 0.14, 0.01, 0.016,  -999.00, 9, -999.00, -999.00, 9, -999.00
49NZ20071122, P14N, 110, 1, 11, X12047, 2, 20071124, 0213, 8.2603, 179.0028, 5736,   3579.3, 2,   1.5228, 2,  34.6828, 2,  34.6828, 2,    146.6, 2,    145.5, 2,   144.76, 2,    36.59, 2,     0.00, 2,     2.55, 2, -999.000, 9, -999.000, 9, -999.000, 9, -999.000, 9,   -999.0, 9,   -999.0, 9, -999.0000,   -999.00,   -999.0, 9,   -999.0,  -999.00, 9,   -999.0,   1.2479, 27.7736,   1.5230, 2, 9, 0.44, 0.14, 0.01, 0.016,  -999.00, 9, -999.00, -999.00, 9, -999.00
49NZ20071122, P14N, 110, 1, 10, X12012, 2, 20071124, 0213, 8.2603, 179.0028, 5736,   3828.8, 2,   1.4485, 2,  34.6879, 2,  34.6875, 2,    155.0, 2,    155.4, 2,   140.85, 2,    35.91, 2,     0.00, 2,     2.50, 2,    0.009, 2,    0.006, 2,    0.000, 2, -999.000, 9,   -999.0, 9,   -999.0, 9, -999.0000,   -999.00,   -999.0, 9,   -999.0,  -999.00, 9,   -999.0,   1.1494, 27.7845,   1.4487, 2, 9, 0.43, 0.13, 0.01, 0.016,  -999.00, 9, -999.00, -999.00, 9, -999.00
49NZ20071122, P14N, 110, 1, 9, X12015, 2, 20071124, 0213, 8.2603, 179.0028, 5736,   4081.1, 2,   1.3811, 2,  34.6926, 2,  34.6927, 2,    165.6, 2,    165.1, 2,   136.83, 2,    35.26, 2,     0.00, 2,     2.45, 2, -999.000, 9, -999.000, 9, -999.000, 9, -999.000, 9,   -999.0, 9,   -999.0, 9, -999.0000,   -999.00,   -999.0, 9,   -999.0,  -999.00, 9,   -999.0,   1.0567, 27.7945,   1.3811, 2, 9, 0.42, 0.13, 0.01, 0.016,  -999.00, 9, -999.00, -999.00, 9, -999.00
49NZ20071122, P14N, 110, 1, 8, X12046, 2, 20071124, 0213, 8.2603, 179.0028, 5736,   4330.1, 2,   1.3228, 2,  34.6975, 2,  34.6977, 2,    175.2, 2,    175.0, 2,   131.59, 2,    34.46, 2,     0.00, 2,     2.40, 2,    0.013, 2,    0.007, 2,    0.007, 2, -999.000, 9,   -999.0, 9,   -999.0, 9, -999.0000,   -999.00,   -999.0, 9,   -999.0,  -999.00, 9,   -999.0,   0.9725, 27.8041,   1.3228, 2, 9, 0.41, 0.13, 0.01, 0.016,  -999.00, 9, -999.00, -999.00, 9, -999.00
49NZ20071122, P14N, 110, 1, 7, X12044, 2, 20071124, 0213, 8.2603, 179.0028, 5736,   4581.0, 2,   1.3030, 2,  34.7003, 2,  34.7002, 2,    180.5, 2,    180.8, 2,   128.50, 2,    34.13, 2,     0.01, 2,     2.37, 2,    0.013, 2,    0.006, 2,    0.000, 2, -999.000, 9,   -999.0, 9,   -999.0, 9, -999.0000,   -999.00,   -999.0, 9,   -999.0,  -999.00, 9,   -999.0,   0.9248, 27.8095,   1.3033, 2, 9, 0.40, 0.13, 0.01, 0.016,  -999.00, 9, -999.00, -999.00, 9, -999.00
49NZ20071122, P14N, 110, 1, 6, X12048, 2, 20071124, 0213, 8.2603, 179.0028, 5736,   4830.1, 2,   1.3031, 2,  34.7018, 2,  34.7020, 6,    184.2, 2,    184.3, 2,   126.53, 2,    33.72, 2,     0.00, 2,     2.35, 2,    0.001, 2,    0.000, 2,    0.000, 2, -999.000, 9,   -999.0, 9,   -999.0, 9, -999.0000,   -999.00,   -999.0, 9,   -999.0,  -999.00, 9,   -999.0,   0.8957, 27.8126,   1.3032, 2, 9, 0.40, 0.13, 0.01, 0.016,  -999.00, 9, -999.00, -999.00, 9, -999.00
49NZ20071122, P14N, 110, 1, 5, X12014, 2, 20071124, 0213, 8.2603, 179.0028, 5736,   5079.9, 2,   1.3071, 2,  34.7034, 2,  34.7034, 2,    187.8, 2,    187.5, 2,   124.76, 2,    33.51, 2,     0.00, 2,     2.33, 2,    0.013, 2,    0.009, 2,    0.008, 2, -999.000, 9,   -999.0, 9,   -999.0, 9, -999.0000,   -999.00,   -999.0, 9,   -999.0,  -999.00, 9,   -999.0,   0.8696, 27.8156,   1.3073, 2, 9, 0.39, 0.13, 0.01, 0.016,  -999.00, 9, -999.00, -999.00, 9, -999.00
49NZ20071122, P14N, 110, 1, 4, X12006, 2, 20071124, 0213, 8.2603, 179.0028, 5736,   5331.1, 2,   1.3252, 2,  34.7041, 2,  34.7041, 2,    189.7, 2,    189.2, 2,   123.88, 2,    33.47, 2,     0.00, 2,     2.33, 2,    0.012, 2,    0.006, 2,    0.000, 2, -999.000, 9,   -999.0, 9,   -999.0, 9, -999.0000,   -999.00,   -999.0, 9,   -999.0,  -999.00, 9,   -999.0,   0.8561, 27.8170,   1.3255, 2, 9, 0.39, 0.13, 0.01, 0.016,  -999.00, 9, -999.00, -999.00, 9, -999.00
49NZ20071122, P14N, 110, 1, 3, X12013, 2, 20071124, 0213, 8.2603, 179.0028, 5736,   5579.6, 2,   1.3523, 2,  34.7042, 2,  34.7043, 2,    190.4, 2,    189.9, 2,   123.41, 2,    33.47, 2,     0.00, 2,     2.32, 2,    0.006, 2,    0.001, 2,    0.000, 2, -999.000, 9,   -999.0, 9,   -999.0, 9, -999.0000,   -999.00,   -999.0, 9,   -999.0,  -999.00, 9,   -999.0,   0.8509, 27.8174,   1.3525, 2, 9, 0.39, 0.13, 0.01, 0.016,  -999.00, 9, -999.00, -999.00, 9, -999.00
49NZ20071122, P14N, 110, 1, 2, X12002, 9, 20071124, 0213, 8.2603, 179.0028, 5736,      9.6, 2,  28.1993, 2,  34.2773, 2, -999.0000, 9,    197.3, 2,   -999.0, 9,  -999.00, 9,  -999.00, 9,  -999.00, 9,  -999.00, 9, -999.000, 9, -999.000, 9, -999.000, 9, -999.000, 9,   -999.0, 9,   -999.0, 9, -999.0000,   -999.00,   -999.0, 9,   -999.0,  -999.00, 9,   -999.0,  28.1970, 21.7869,  28.1980, 2, 9, -999.00, -999.00, -999.00, -999.000,  -999.00, 9, -999.00, -999.00, 9, -999.00
49NZ20071122, P14N, 110, 1, 1, X12001, 2, 20071124, 0213, 8.2603, 179.0028, 5736,   5921.7, 2,   1.3951, 2,  34.7043, 2,  34.7045, 6,    189.9, 2,    190.2, 2,   123.28, 2,    33.33, 2,     0.00, 2,     2.32, 2,    0.009, 2,    0.007, 2,    0.000, 2, -999.000, 9,   -999.0, 9,   -999.0, 9, -999.0000,   -999.00,   -999.0, 9,   -999.0,  -999.00, 9,   -999.0,   0.8476, 27.8177,   1.3953, 2, 9, 0.39, 0.13, 0.01, 0.016,  -999.00, 9, -999.00, -999.00, 9, -999.00