BOTTLE,20220820CCHSIOAMB
EXPOCODE,SECT_ID,STNNBR,CASTNO,SAMPNO,BTLNBR,BTLNBR_FLAG_W,DATE,TIME,LATITUDE,LONGITUDE,DEPTH,CTDPRS,CTDPRS_FLAG_W,CTDTMP,CTDTMP_FLAG_W,CTDSAL,CTDSAL_FLAG_W,SALNTY,SALNTY_FLAG_W,CTDOXY,CTDOXY_FLAG_W,OXYGEN,OXYGEN_FLAG_W,SILCAT,SILCAT_FLAG_W,NITRAT,NITRAT_FLAG_W,NITRIT,NITRIT_FLAG_W,PHSPHT,PHSPHT_FLAG_W,CFC-11,CFC-11_FLAG_W,CFC-12,CFC-12_FLAG_W,CFC113,CFC113_FLAG_W,CCL4,CCL4_FLAG_W,TCARBN,TCARBN_FLAG_W,ALKALI,ALKALI_FLAG_W,PH_TOT,PH_TMP,DELC14,DELC14_FLAG_W,C14ERR,DELC13,DELC13_FLAG_W,C13ERR,THETA,SIG0,SBE35,SBE35_FLAG_W,PH_TOT_FLAG_W,SILUNC,NRAUNC,NRIUNC,PHPUNC,CS-137,CS-137_FLAG_W,CS137ER,PLUTO,PLUTO_FLAG_W,PLUTOER
,,,,,,,,,,,METERS,DBAR,,ITS-90,,PSS-78,,PSS-78,,UMOL/KG,,UMOL/KG,,UMOL/KG,,UMOL/KG,,UMOL/KG,,UMOL/KG,,PMOL/KG,,PMOL/KG,,PMOL/KG,,PMOL/KG,,UMOL/KG,,UMOL/KG,,,DEG C,/MILLE,,/MILLE,/MILLE,,/MILLE,DEG C,KG/M^3,ITS-90,,,UMOL/KG,UMOL/KG,UMOL/KG,UMOL/KG,DM/.1MG,,BQ/M^3,MBQ/M^3,,MBQ/M^3
49NZ20071122, P14N, 126, 1, 36, X12042, 2, 20071127, 2158, 4.2410, 179.0078, 5581,     11.3, 2,  27.3604, 2,  35.1459, 2,  35.1282, 2,    202.7, 2,    202.3, 2,     1.68, 2,     2.78, 2,     0.14, 2,     0.41, 2,    1.552, 2,    0.966, 2,    0.206, 4, -999.000, 9,   -999.0, 9,   -999.0, 9, -999.0000,   -999.00,   -999.0, 9,   -999.0,  -999.00, 9,   -999.0,  27.3578, 22.7129,  27.3597, 2, 9, 0.12, 0.04, 0.01, 0.013,  -999.00, 9, -999.00, -999.00, 9, -999.00
49NZ20071122, P14N, 126, 1, 35, X12041, 2, 20071127, 2158, 4.2410, 179.0078, 5581,     50.8, 2,  26.9704, 2,  35.1794, 2,  35.1802, 2,    198.7, 2,    198.1, 2,     1.82, 2,     3.23, 2,     0.39, 2,     0.47, 2,    1.575, 2,    0.981, 2,    0.204, 4, -999.000, 9,   -999.0, 9,   -999.0, 9, -999.0000,   -999.00,   -999.0, 9,   -999.0,  -999.00, 9,   -999.0,  26.9588, 22.8661,  26.9696, 2, 9, 0.12, 0.04, 0.00, 0.013,  -999.00, 9, -999.00, -999.00, 9, -999.00
49NZ20071122, P14N, 126, 1, 34, X12016, 2, 20071127, 2158, 4.2410, 179.0078, 5581,    101.0, 2,  26.9761, 2,  35.2192, 2,  35.2223, 2,    195.4, 2,    194.8, 2,     1.88, 2,     3.35, 2,     0.55, 2,     0.49, 2,    1.584, 2,    0.989, 2,    0.199, 4, -999.000, 9,   -999.0, 9,   -999.0, 9, -999.0000,   -999.00,   -999.0, 9,   -999.0,  -999.00, 9,   -999.0,  26.9529, 22.8979,  26.9743, 2, 9, 0.12, 0.04, 0.00, 0.013,  -999.00, 9, -999.00, -999.00, 9, -999.00
49NZ20071122, P14N, 126, 1, 33, X12033, 2, 20071127, 2158, 4.2410, 179.0078, 5581,    150.2, 2,  26.5454, 2,  35.2099, 2,  35.2105, 2,    193.4, 2,    191.7, 2,     2.10, 2,     3.90, 2,     0.86, 2,     0.55, 2,    1.614, 6,    0.995, 6,    0.200, 4, -999.000, 9,   -999.0, 9,   -999.0, 9, -999.0000,   -999.00,   -999.0, 9,   -999.0,  -999.00, 9,   -999.0,  26.5113, 23.0312,  26.5425, 2, 9, 0.12, 0.04, 0.00, 0.013,  -999.00, 9, -999.00, -999.00, 9, -999.00
49NZ20071122, P14N, 126, 1, 32, X12038, 2, 20071127, 2158, 4.2410, 179.0078, 5581,    199.5, 2,  20.0861, 2,  34.8008, 2,  34.7905, 2,    134.1, 2,    135.2, 2,     7.55, 2,    10.60, 2,     0.03, 2,     0.88, 2,    1.967, 2,    1.135, 2,    0.092, 2, -999.000, 9,   -999.0, 9,   -999.0, 9, -999.0000,   -999.00,   -999.0, 9,   -999.0,  -999.00, 9,   -999.0,  20.0491, 24.5968,  20.0653, 2, 9, 0.14, 0.06, 0.01, 0.013,  -999.00, 9, -999.00, -999.00, 9, -999.00
49NZ20071122, P14N, 126, 1, 31, X12003, 2, 20071127, 2158, 4.2410, 179.0078, 5581,    249.2, 2,  12.2095, 2,  34.5503, 2,  34.5549, 6,     90.9, 2,     84.2, 2,    24.27, 2,    24.77, 2,     0.01, 2,     1.84, 2,    1.387, 2,    0.734, 2,    0.027, 2, -999.000, 9,   -999.0, 9,   -999.0, 9, -999.0000,   -999.00,   -999.0, 9,   -999.0,  -999.00, 9,   -999.0,  12.1767, 26.2060,  12.2118, 2, 9, 0.17, 0.10, 0.01, 0.015,  -999.00, 9, -999.00, -999.00, 9, -999.00
49NZ20071122, P14N, 126, 1, 30, X12008, 4, 20071127, 2158, 4.2410, 179.0078, 5581,    282.7, 2,  10.7316, 2,  34.5559, 2,  34.7388, 4,     76.9, 2,    130.8, 4,     8.42, 4,    11.54, 4,     0.03, 4,     0.95, 4,    2.019, 4,    1.151, 4,    0.076, 4, -999.000, 9,   -999.0, 9,   -999.0, 9, -999.0000,   -999.00,   -999.0, 9,   -999.0,  -999.00, 9,   -999.0,  10.6973, 26.4838,  10.7350, 2, 9, 0.14, 0.07, 0.01, 0.013,  -999.00, 9, -999.00, -999.00, 9, -999.00
49NZ20071122, P14N, 126, 1, 29, X12035, 2, 20071127, 2158, 4.2410, 179.0078, 5581,    368.4, 2,   9.1589, 2,  34.6265, 2,  34.6266, 2,     62.5, 2,     80.9, 2,    33.01, 2,    31.30, 2,     0.00, 2,     2.24, 2,    0.564, 2,    0.293, 2,    0.022, 2, -999.000, 9,   -999.0, 9,   -999.0, 9, -999.0000,   -999.00,   -999.0, 9,   -999.0,  -999.00, 9,   -999.0,   9.1182, 26.8067,   9.1579, 2, 9, 0.19, 0.12, 0.01, 0.016,  -999.00, 9, -999.00, -999.00, 9, -999.00
49NZ20071122, P14N, 126, 1, 28, X12034, 2, 20071127, 2158, 4.2410, 179.0078, 5581,    470.9, 2,   8.2669, 2,  34.6072, 2,  34.6053, 6,     79.2, 2,     78.5, 2,    36.64, 2,    33.51, 2,     0.00, 2,     2.39, 2,    0.336, 2,    0.174, 2,    0.019, 2, -999.000, 9,   -999.0, 9,   -999.0, 9, -999.0000,   -999.00,   -999.0, 9,   -999.0,  -999.00, 9,   -999.0,   8.2177, 26.9326,   8.2674, 2, 9, 0.20, 0.13, 0.01, 0.016,  -999.00, 9, -999.00, -999.00, 9, -999.00
49NZ20071122, P14N, 126, 1, 27, X12049, 2, 20071127, 2158, 4.2410, 179.0078, 5581,    570.3, 2,   7.4910, 2,  34.5805, 2,  34.5800, 2,     71.3, 2,     71.3, 2,    42.76, 2,    35.81, 2,     0.00, 2,     2.56, 2,    0.184, 2,    0.096, 2,    0.015, 2, -999.000, 9,   -999.0, 9,   -999.0, 9, -999.0000,   -999.00,   -999.0, 9,   -999.0,  -999.00, 9,   -999.0,   7.4344, 27.0271,   7.4905, 2, 9, 0.21, 0.13, 0.01, 0.016,  -999.00, 9, -999.00, -999.00, 9, -999.00
49NZ20071122, P14N, 126, 1, 26, X12032, 2, 20071127, 2158, 4.2410, 179.0078, 5581,    670.4, 2,   6.7626, 2,  34.5653, 2,  34.5652, 2,     52.6, 2,     50.4, 2,    52.14, 2,    39.41, 2,     0.00, 2,     2.84, 2,    0.045, 6,    0.024, 6,    0.007, 6, -999.000, 9,   -999.0, 9,   -999.0, 9, -999.0000,   -999.00,   -999.0, 9,   -999.0,  -999.00, 9,   -999.0,   6.6993, 27.1175,   6.7633, 2, 9, 0.23, 0.14, 0.01, 0.017,  -999.00, 9, -999.00, -999.00, 9, -999.00
49NZ20071122, P14N, 126, 1, 25, X12043, 2, 20071127, 2158, 4.2410, 179.0078, 5581,    768.9, 2,   5.9919, 2,  34.5508, 2,  34.5507, 2,     62.0, 2,     62.0, 2,    60.34, 2,    39.91, 2,     0.00, 2,     2.86, 2,    0.021, 2,    0.011, 2,    0.003, 2, -999.000, 9,   -999.0, 9,   -999.0, 9, -999.0000,   -999.00,   -999.0, 9,   -999.0,  -999.00, 9,   -999.0,   5.9233, 27.2074,   5.9929, 2, 9, 0.25, 0.14, 0.01, 0.017,  -999.00, 9, -999.00, -999.00, 9, -999.00
49NZ20071122, P14N, 126, 1, 24, X12030, 2, 20071127, 2158, 4.2410, 179.0078, 5581,    868.8, 2,   5.4617, 2,  34.5470, 2,  34.5467, 2,     68.1, 2,     69.2, 2,    67.81, 2,    39.89, 2,     0.00, 2,     2.86, 2,    0.010, 2,    0.009, 2,    0.000, 2, -999.000, 9,   -999.0, 9,   -999.0, 9, -999.0000,   -999.00,   -999.0, 9,   -999.0,  -999.00, 9,   -999.0,   5.3870, 27.2705,   5.4619, 2, 9, 0.27, 0.14, 0.01, 0.017,  -999.00, 9, -999.00, -999.00, 9, -999.00
49NZ20071122, P14N, 126, 1, 23, X12027, 2, 20071127, 2158, 4.2410, 179.0078, 5581,    969.4, 2,   4.9347, 2,  34.5477, 2,  34.5481, 6,     75.1, 2,     80.2, 2,    77.04, 2,    39.23, 2,     0.00, 2,     2.82, 2,    0.022, 2,    0.013, 2,    0.000, 2, -999.000, 9,   -999.0, 9,   -999.0, 9, -999.0000,   -999.00,   -999.0, 9,   -999.0,  -999.00, 9,   -999.0,   4.8546, 27.3334,   4.9350, 2, 9, 0.29, 0.14, 0.01, 0.017,  -999.00, 9, -999.00, -999.00, 9, -999.00
49NZ20071122, P14N, 126, 1, 22, X12028, 2, 20071127, 2158, 4.2410, 179.0078, 5581,   1130.4, 2,   4.3337, 2,  34.5610, 2,  34.5614, 2,     80.7, 2,     76.2, 2,    91.32, 2,    40.09, 2,     0.00, 2,     2.89, 2,    0.013, 2,    0.008, 2,    0.002, 2, -999.000, 9,   -999.0, 9,   -999.0, 9, -999.0000,   -999.00,   -999.0, 9,   -999.0,  -999.00, 9,   -999.0,   4.2441, 27.4113,   4.3336, 2, 9, 0.32, 0.15, 0.01, 0.017,  -999.00, 9, -999.00, -999.00, 9, -999.00
49NZ20071122, P14N, 126, 1, 21, X12009, 2, 20071127, 2158, 4.2410, 179.0078, 5581,   1332.8, 2,   3.5915, 2,  34.5827, 2,  34.5827, 2,     80.2, 2,     80.7, 2,   107.21, 2,    40.40, 2,     0.00, 2,     2.91, 2, -999.000, 9, -999.000, 9, -999.000, 9, -999.000, 9,   -999.0, 9,   -999.0, 9, -999.0000,   -999.00,   -999.0, 9,   -999.0,  -999.00, 9,   -999.0,   3.4913, 27.5055,   3.5918, 2, 9, 0.35, 0.15, 0.01, 0.017,  -999.00, 9, -999.00, -999.00, 9, -999.00
49NZ20071122, P14N, 126, 1, 20, X12026, 2, 20071127, 2158, 4.2410, 179.0078, 5581,   1527.5, 2,   3.0990, 2,  34.6002, 2,  34.6012, 2,     87.9, 2,     87.9, 2,   117.82, 2,    39.99, 2,     0.00, 2,     2.88, 2,    0.004, 2,    0.005, 2,    0.000, 2, -999.000, 9,   -999.0, 9,   -999.0, 9, -999.0000,   -999.00,   -999.0, 9,   -999.0,  -999.00, 9,   -999.0,   2.9876, 27.5671,   3.0987, 2, 9, 0.38, 0.14, 0.01, 0.017,  -999.00, 9, -999.00, -999.00, 9, -999.00
49NZ20071122, P14N, 126, 1, 19, X12025, 2, 20071127, 2158, 4.2410, 179.0078, 5581,   1729.7, 2,   2.7383, 2,  34.6150, 2,  34.6156, 2,     96.1, 2,     96.0, 2,   125.64, 2,    39.76, 2,     0.00, 2,     2.84, 2, -999.000, 9, -999.000, 9, -999.000, 9, -999.000, 9,   -999.0, 9,   -999.0, 9, -999.0000,   -999.00,   -999.0, 9,   -999.0,  -999.00, 9,   -999.0,   2.6142, 27.6122,   2.7380, 2, 9, 0.40, 0.14, 0.01, 0.017,  -999.00, 9, -999.00, -999.00, 9, -999.00
49NZ20071122, P14N, 126, 1, 18, X12024, 2, 20071127, 2158, 4.2410, 179.0078, 5581,   1929.3, 2,   2.4472, 2,  34.6295, 2,  34.6297, 2,    101.4, 2,    101.3, 2,   132.45, 2,    39.41, 2,     0.00, 2,     2.81, 2, -999.000, 9, -999.000, 9, -999.000, 9, -999.000, 9,   -999.0, 9,   -999.0, 9, -999.0000,   -999.00,   -999.0, 9,   -999.0,  -999.00, 9,   -999.0,   2.3101, 27.6497,   2.4473, 2, 9, 0.41, 0.14, 0.01, 0.017,  -999.00, 9, -999.00, -999.00, 9, -999.00
49NZ20071122, P14N, 126, 1, 17, X12023, 2, 20071127, 2158, 4.2410, 179.0078, 5581,   2129.2, 2,   2.1744, 2,  34.6441, 2,  34.6446, 6,    108.4, 2,    108.2, 2,   138.74, 2,    39.06, 2,     0.00, 2,     2.77, 2,    0.004, 2,    0.003, 2,    0.000, 2, -999.000, 9,   -999.0, 9,   -999.0, 9, -999.0000,   -999.00,   -999.0, 9,   -999.0,  -999.00, 9,   -999.0,   2.0242, 27.6846,   2.1743, 2, 9, 0.42, 0.14, 0.01, 0.017,  -999.00, 9, -999.00, -999.00, 9, -999.00
49NZ20071122, P14N, 126, 1, 16, X12022, 2, 20071127, 2158, 4.2410, 179.0078, 5581,   2330.6, 2,   1.9887, 2,  34.6548, 2,  34.6546, 2,    114.7, 2,    114.8, 2,   142.03, 2,    38.66, 2,     0.00, 2,     2.74, 2, -999.000, 9, -999.000, 9, -999.000, 9, -999.000, 9,   -999.0, 9,   -999.0, 9, -999.0000,   -999.00,   -999.0, 9,   -999.0,  -999.00, 9,   -999.0,   1.8238, 27.7089,   1.9891, 2, 9, 0.43, 0.14, 0.01, 0.017,  -999.00, 9, -999.00, -999.00, 9, -999.00
49NZ20071122, P14N, 126, 1, 15, X12021, 2, 20071127, 2158, 4.2410, 179.0078, 5581,   2529.6, 2,   1.8776, 2,  34.6607, 2,  34.6612, 2,    119.9, 2,    120.0, 2,   143.81, 2,    38.25, 2,     0.00, 2,     2.70, 2, -999.000, 9, -999.000, 9, -999.000, 9, -999.000, 9,   -999.0, 9,   -999.0, 9, -999.0000,   -999.00,   -999.0, 9,   -999.0,  -999.00, 9,   -999.0,   1.6969, 27.7233,   1.8777, 2, 9, 0.44, 0.14, 0.01, 0.017,  -999.00, 9, -999.00, -999.00, 9, -999.00
49NZ20071122, P14N, 126, 1, 14, X12020, 2, 20071127, 2158, 4.2410, 179.0078, 5581,   2731.7, 2,   1.7819, 2,  34.6658, 2,  34.6660, 2,    125.4, 2,    125.5, 2,   144.56, 2,    37.91, 2,     0.00, 2,     2.68, 2,    0.000, 2,    0.000, 2,    0.000, 2, -999.000, 9,   -999.0, 9,   -999.0, 9, -999.0000,   -999.00,   -999.0, 9,   -999.0,  -999.00, 9,   -999.0,   1.5844, 27.7357,   1.7819, 2, 9, 0.44, 0.14, 0.01, 0.017,  -999.00, 9, -999.00, -999.00, 9, -999.00
49NZ20071122, P14N, 126, 1, 13, X12019, 2, 20071127, 2158, 4.2410, 179.0078, 5581,   2930.8, 2,   1.7053, 2,  34.6699, 2,  34.6702, 2,    130.7, 2,    131.3, 2,   144.10, 2,    37.48, 2,     0.00, 2,     2.64, 2, -999.000, 9, -999.000, 9, -999.000, 9, -999.000, 9,   -999.0, 9,   -999.0, 9, -999.0000,   -999.00,   -999.0, 9,   -999.0,  -999.00, 9,   -999.0,   1.4907, 27.7459,   1.7053, 2, 9, 0.44, 0.14, 0.01, 0.017,  -999.00, 9, -999.00, -999.00, 9, -999.00
49NZ20071122, P14N, 126, 1, 12, X12040, 2, 20071127, 2158, 4.2410, 179.0078, 5581,   3171.0, 2,   1.6148, 2,  34.6756, 2,  34.6757, 2,    138.5, 2,    138.0, 2,   144.03, 2,    37.00, 2,     0.00, 2,     2.60, 2, -999.000, 9, -999.000, 9, -999.000, 9, -999.000, 9,   -999.0, 9,   -999.0, 9, -999.0000,   -999.00,   -999.0, 9,   -999.0,  -999.00, 9,   -999.0,   1.3789, 27.7586,   1.6148, 2, 9, 0.44, 0.14, 0.01, 0.016,  -999.00, 9, -999.00, -999.00, 9, -999.00
49NZ20071122, P14N, 126, 1, 11, X12047, 2, 20071127, 2158, 4.2410, 179.0078, 5581,   3419.2, 2,   1.5364, 2,  34.6808, 2,  34.6807, 2,    146.6, 2,    146.4, 2,   141.71, 2,    36.50, 2,     0.00, 2,     2.56, 2,    0.003, 2,    0.000, 2,    0.000, 2, -999.000, 9,   -999.0, 9,   -999.0, 9, -999.0000,   -999.00,   -999.0, 9,   -999.0,  -999.00, 9,   -999.0,   1.2776, 27.7699,   1.5364, 2, 9, 0.43, 0.14, 0.01, 0.016,  -999.00, 9, -999.00, -999.00, 9, -999.00
49NZ20071122, P14N, 126, 1, 10, X12012, 2, 20071127, 2158, 4.2410, 179.0078, 5581,   3670.8, 2,   1.4720, 2,  34.6860, 2,  34.6861, 2,    154.8, 2,    155.2, 2,   138.98, 2,    35.92, 2,     0.00, 2,     2.51, 2, -999.000, 9, -999.000, 9, -999.000, 9, -999.000, 9,   -999.0, 9,   -999.0, 9, -999.0000,   -999.00,   -999.0, 9,   -999.0,  -999.00, 9,   -999.0,   1.1889, 27.7803,   1.4719, 2, 9, 0.42, 0.13, 0.01, 0.016,  -999.00, 9, -999.00, -999.00, 9, -999.00
49NZ20071122, P14N, 126, 1, 9, X12015, 2, 20071127, 2158, 4.2410, 179.0078, 5581,   3919.0, 2,   1.4384, 2,  34.6895, 2,  34.6895, 6,    160.7, 2,    160.7, 2,   137.31, 2,    35.44, 2,     0.00, 2,     2.48, 2, -999.000, 9, -999.000, 9, -999.000, 9, -999.000, 9,   -999.0, 9,   -999.0, 9, -999.0000,   -999.00,   -999.0, 9,   -999.0,  -999.00, 9,   -999.0,   1.1299, 27.7871,   1.4380, 2, 9, 0.42, 0.13, 0.01, 0.016,  -999.00, 9, -999.00, -999.00, 9, -999.00
49NZ20071122, P14N, 126, 1, 8, X12046, 2, 20071127, 2158, 4.2410, 179.0078, 5581,   4171.3, 2,   1.3548, 2,  34.6955, 2,  34.6957, 2,    171.2, 2,    171.3, 2,   133.18, 2,    34.79, 2,     0.00, 2,     2.43, 2,    0.000, 2,    0.000, 2,    0.000, 2, -999.000, 9,   -999.0, 9,   -999.0, 9, -999.0000,   -999.00,   -999.0, 9,   -999.0,  -999.00, 9,   -999.0,   1.0212, 27.7993,   1.3547, 2, 9, 0.41, 0.13, 0.01, 0.016,  -999.00, 9, -999.00, -999.00, 9, -999.00
49NZ20071122, P14N, 126, 1, 7, X12044, 2, 20071127, 2158, 4.2410, 179.0078, 5581,   4419.8, 2,   1.2772, 2,  34.7007, 2,  34.7011, 2,    181.3, 2,    181.3, 2,   128.66, 2,    34.10, 2,     0.00, 2,     2.37, 2, -999.000, 9, -999.000, 9, -999.000, 9, -999.000, 9,   -999.0, 9,   -999.0, 9, -999.0000,   -999.00,   -999.0, 9,   -999.0,  -999.00, 9,   -999.0,   0.9182, 27.8103,   1.2771, 2, 9, 0.40, 0.13, 0.01, 0.016,  -999.00, 9, -999.00, -999.00, 9, -999.00
49NZ20071122, P14N, 126, 1, 6, X12048, 2, 20071127, 2158, 4.2410, 179.0078, 5581,   4667.3, 2,   1.2594, 2,  34.7034, 2,  34.7035, 2,    186.9, 2,    186.7, 2,   125.67, 2,    33.64, 2,     0.00, 2,     2.35, 2,    0.006, 2,    0.009, 2,    0.000, 2, -999.000, 9,   -999.0, 9,   -999.0, 9, -999.0000,   -999.00,   -999.0, 9,   -999.0,  -999.00, 9,   -999.0,   0.8725, 27.8154,   1.2594, 2, 9, 0.40, 0.13, 0.01, 0.016,  -999.00, 9, -999.00, -999.00, 9, -999.00
49NZ20071122, P14N, 126, 1, 5, X12014, 2, 20071127, 2158, 4.2410, 179.0078, 5581,   4919.3, 2,   1.2650, 2,  34.7046, 2,  34.7051, 2,    189.9, 2,    189.8, 2,   123.72, 2,    33.37, 2,     0.00, 2,     2.33, 2,    0.003, 2,    0.004, 2,    0.000, 2, -999.000, 9,   -999.0, 9,   -999.0, 9, -999.0000,   -999.00,   -999.0, 9,   -999.0,  -999.00, 9,   -999.0,   0.8483, 27.8179,   1.2649, 2, 9, 0.39, 0.13, 0.01, 0.016,  -999.00, 9, -999.00, -999.00, 9, -999.00
49NZ20071122, P14N, 126, 1, 4, X12006, 2, 20071127, 2158, 4.2410, 179.0078, 5581,   5169.0, 2,   1.2922, 2,  34.7048, 2,  34.7052, 2,    190.4, 2,    190.1, 2,   123.74, 2,    33.43, 2,     0.00, 2,     2.33, 2,    0.000, 2,    0.003, 2,    0.000, 2, -999.000, 9,   -999.0, 9,   -999.0, 9, -999.0000,   -999.00,   -999.0, 9,   -999.0,  -999.00, 9,   -999.0,   0.8443, 27.8183,   1.2921, 2, 9, 0.39, 0.13, 0.01, 0.016,  -999.00, 9, -999.00, -999.00, 9, -999.00
49NZ20071122, P14N, 126, 1, 3, X12013, 2, 20071127, 2158, 4.2410, 179.0078, 5581,   5420.3, 2,   1.3159, 2,  34.7053, 2,  34.7061, 2,    191.8, 2,    191.6, 2,   122.82, 2,    33.19, 2,     0.00, 2,     2.32, 2,    0.005, 2,    0.002, 2,    0.000, 2, -999.000, 9,   -999.0, 9,   -999.0, 9, -999.0000,   -999.00,   -999.0, 9,   -999.0,  -999.00, 9,   -999.0,   0.8360, 27.8193,   1.3159, 2, 9, 0.39, 0.13, 0.01, 0.016,  -999.00, 9, -999.00, -999.00, 9, -999.00
49NZ20071122, P14N, 126, 1, 2, X12002, 9, 20071127, 2158, 4.2410, 179.0078, 5581,     11.5, 2,  27.3633, 2,  35.1441, 2, -999.0000, 9,    202.7, 2,   -999.0, 9,  -999.00, 9,  -999.00, 9,  -999.00, 9,  -999.00, 9, -999.000, 9, -999.000, 9, -999.000, 9, -999.000, 9,   -999.0, 9,   -999.0, 9, -999.0000,   -999.00,   -999.0, 9,   -999.0,  -999.00, 9,   -999.0,  27.3606, 22.7106,  27.3686, 2, 9, -999.00, -999.00, -999.00, -999.000,  -999.00, 9, -999.00, -999.00, 9, -999.00
49NZ20071122, P14N, 126, 1, 1, X12001, 2, 20071127, 2158, 4.2410, 179.0078, 5581,   5670.3, 2,   1.3474, 2,  34.7053, 2,  34.7056, 6,    191.7, 2,    191.8, 2,   122.81, 2,    33.20, 2,     0.00, 2,     2.32, 2,    0.012, 2,    0.007, 2,    0.000, 2, -999.000, 9,   -999.0, 9,   -999.0, 9, -999.0000,   -999.00,   -999.0, 9,   -999.0,  -999.00, 9,   -999.0,   0.8345, 27.8194,   1.3474, 2, 9, 0.39, 0.13, 0.01, 0.016,  -999.00, 9, -999.00, -999.00, 9, -999.00