BOTTLE,20220820CCHSIOAMB
EXPOCODE,SECT_ID,STNNBR,CASTNO,SAMPNO,BTLNBR,BTLNBR_FLAG_W,DATE,TIME,LATITUDE,LONGITUDE,DEPTH,CTDPRS,CTDPRS_FLAG_W,CTDTMP,CTDTMP_FLAG_W,CTDSAL,CTDSAL_FLAG_W,SALNTY,SALNTY_FLAG_W,CTDOXY,CTDOXY_FLAG_W,OXYGEN,OXYGEN_FLAG_W,SILCAT,SILCAT_FLAG_W,NITRAT,NITRAT_FLAG_W,NITRIT,NITRIT_FLAG_W,PHSPHT,PHSPHT_FLAG_W,CFC-11,CFC-11_FLAG_W,CFC-12,CFC-12_FLAG_W,CFC113,CFC113_FLAG_W,CCL4,CCL4_FLAG_W,TCARBN,TCARBN_FLAG_W,ALKALI,ALKALI_FLAG_W,PH_TOT,PH_TMP,DELC14,DELC14_FLAG_W,C14ERR,DELC13,DELC13_FLAG_W,C13ERR,THETA,SIG0,SBE35,SBE35_FLAG_W,PH_TOT_FLAG_W,SILUNC,NRAUNC,NRIUNC,PHPUNC,CS-137,CS-137_FLAG_W,CS137ER,PLUTO,PLUTO_FLAG_W,PLUTOER
,,,,,,,,,,,METERS,DBAR,,ITS-90,,PSS-78,,PSS-78,,UMOL/KG,,UMOL/KG,,UMOL/KG,,UMOL/KG,,UMOL/KG,,UMOL/KG,,PMOL/KG,,PMOL/KG,,PMOL/KG,,PMOL/KG,,UMOL/KG,,UMOL/KG,,,DEG C,/MILLE,,/MILLE,/MILLE,,/MILLE,DEG C,KG/M^3,ITS-90,,,UMOL/KG,UMOL/KG,UMOL/KG,UMOL/KG,DM/.1MG,,BQ/M^3,MBQ/M^3,,MBQ/M^3
49NZ20071122, P14N, 138, 1, 36, X12042, 2, 20071130, 1710, 1.2500, 179.0023, 5429,     10.1, 2,  27.5424, 2,  35.1458, 2,  35.1458, 2,    203.3, 2,    202.4, 2,     1.47, 2,     2.09, 2,     0.17, 2,     0.36, 2,    1.529, 2,    0.977, 2,    0.197, 4, -999.000, 9,   -999.0, 9,   -999.0, 9, -999.0000,   -999.00,   -999.0, 9,   -999.0,  -999.00, 9,   -999.0,  27.5400, 22.6540,  27.5419, 2, 9, 0.12, 0.04, 0.01, 0.014,  -999.00, 9, -999.00, -999.00, 9, -999.00
49NZ20071122, P14N, 138, 1, 35, X12041, 2, 20071130, 1710, 1.2500, 179.0023, 5429,     50.3, 2,  27.0470, 2,  35.1963, 2,  35.1959, 2,    194.4, 2,    197.0, 2,     1.76, 2,     3.21, 2,     0.39, 2,     0.46, 2,    1.555, 2,    0.979, 2,    0.185, 4, -999.000, 9,   -999.0, 9,   -999.0, 9, -999.0000,   -999.00,   -999.0, 9,   -999.0,  -999.00, 9,   -999.0,  27.0354, 22.8543,  27.0458, 2, 9, 0.12, 0.04, 0.00, 0.013,  -999.00, 9, -999.00, -999.00, 9, -999.00
49NZ20071122, P14N, 138, 1, 34, X12016, 2, 20071130, 1710, 1.2500, 179.0023, 5429,     99.8, 2,  26.7960, 2,  35.2521, 2,  35.2521, 2,    187.9, 2,    187.9, 2,     1.98, 2,     3.71, 2,     1.59, 2,     0.54, 2,    1.591, 2,    1.002, 2,    0.180, 4, -999.000, 9,   -999.0, 9,   -999.0, 9, -999.0000,   -999.00,   -999.0, 9,   -999.0,  -999.00, 9,   -999.0,  26.7732, 22.9800,  26.7946, 2, 9, 0.12, 0.04, 0.02, 0.013,  -999.00, 9, -999.00, -999.00, 9, -999.00
49NZ20071122, P14N, 138, 1, 33, X12033, 2, 20071130, 1710, 1.2500, 179.0023, 5429,    149.1, 2,  25.2914, 2,  35.1785, 2,  35.1801, 2,    178.4, 2,    178.9, 2,     2.85, 2,     5.98, 2,     1.28, 2,     0.67, 2,    1.688, 6,    1.038, 6,    0.189, 4, -999.000, 9,   -999.0, 9,   -999.0, 9, -999.0000,   -999.00,   -999.0, 9,   -999.0,  -999.00, 9,   -999.0,  25.2588, 23.3971,  25.2917, 2, 9, 0.13, 0.05, 0.02, 0.013,  -999.00, 9, -999.00, -999.00, 9, -999.00
49NZ20071122, P14N, 138, 1, 32, X12038, 2, 20071130, 1710, 1.2500, 179.0023, 5429,    198.5, 2,  17.3868, 2,  34.8216, 2,  34.8274, 2,    133.3, 2,    133.5, 2,    11.74, 2,    13.71, 2,     0.02, 2,     1.06, 2,    1.926, 2,    1.098, 2,    0.042, 2, -999.000, 9,   -999.0, 9,   -999.0, 9, -999.0000,   -999.00,   -999.0, 9,   -999.0,  -999.00, 9,   -999.0,  17.3536, 25.2928,  17.3894, 2, 9, 0.14, 0.07, 0.01, 0.013,  -999.00, 9, -999.00, -999.00, 9, -999.00
49NZ20071122, P14N, 138, 1, 31, X12003, 2, 20071130, 1710, 1.2500, 179.0023, 5429,    248.9, 2,  12.5507, 2,  34.7085, 2,  34.7117, 6,    122.8, 2,    121.6, 2,    20.95, 2,    21.20, 2,     0.02, 2,     1.56, 2,    1.534, 2,    0.832, 2,    0.026, 2, -999.000, 9,   -999.0, 9,   -999.0, 9, -999.0000,   -999.00,   -999.0, 9,   -999.0,  -999.00, 9,   -999.0,  12.5173, 26.2627,  12.5515, 2, 9, 0.17, 0.09, 0.01, 0.014,  -999.00, 9, -999.00, -999.00, 9, -999.00
49NZ20071122, P14N, 138, 1, 30, X12008, 2, 20071130, 1710, 1.2500, 179.0023, 5429,    280.8, 2,  11.8439, 2,  34.8047, 2,  34.8029, 2,    117.1, 2,    115.3, 2,    20.19, 2,    23.10, 2,     0.01, 2,     1.69, 2,    1.262, 2,    0.679, 2,    0.023, 2, -999.000, 9,   -999.0, 9,   -999.0, 9, -999.0000,   -999.00,   -999.0, 9,   -999.0,  -999.00, 9,   -999.0,  11.8075, 26.4739,  11.8447, 2, 9, 0.16, 0.10, 0.01, 0.014,  -999.00, 9, -999.00, -999.00, 9, -999.00
49NZ20071122, P14N, 138, 1, 29, X12035, 2, 20071130, 1710, 1.2500, 179.0023, 5429,    370.0, 2,  10.7212, 2,  34.7596, 2,  34.7570, 2,    107.2, 2,     99.4, 2,    23.51, 2,    26.76, 2,     0.01, 2,     1.92, 2,    0.929, 2,    0.493, 2,    0.019, 2, -999.000, 9,   -999.0, 9,   -999.0, 9, -999.0000,   -999.00,   -999.0, 9,   -999.0,  -999.00, 9,   -999.0,  10.6761, 26.6464,  10.7218, 2, 9, 0.17, 0.11, 0.01, 0.015,  -999.00, 9, -999.00, -999.00, 9, -999.00
49NZ20071122, P14N, 138, 1, 28, X12034, 2, 20071130, 1710, 1.2500, 179.0023, 5429,    470.4, 2,   9.6235, 2,  34.6894, 2,  34.6850, 6,     61.5, 2,     62.6, 2,    30.58, 2,    32.71, 2,     0.01, 2,     2.31, 2,    0.481, 2,    0.256, 2,    0.014, 2, -999.000, 9,   -999.0, 9,   -999.0, 9, -999.0000,   -999.00,   -999.0, 9,   -999.0,  -999.00, 9,   -999.0,   9.5697, 26.7819,   9.6205, 2, 9, 0.19, 0.12, 0.01, 0.016,  -999.00, 9, -999.00, -999.00, 9, -999.00
49NZ20071122, P14N, 138, 1, 27, X12049, 2, 20071130, 1710, 1.2500, 179.0023, 5429,    571.5, 2,   8.1677, 2,  34.6083, 2,  34.6068, 2,     71.0, 2,     69.5, 2,    37.65, 2,    34.71, 2,     0.01, 2,     2.46, 2,    0.253, 2,    0.132, 2,    0.013, 2, -999.000, 9,   -999.0, 9,   -999.0, 9, -999.0000,   -999.00,   -999.0, 9,   -999.0,  -999.00, 9,   -999.0,   8.1081, 26.9500,   8.1765, 2, 9, 0.20, 0.13, 0.01, 0.016,  -999.00, 9, -999.00, -999.00, 9, -999.00
49NZ20071122, P14N, 138, 1, 26, X12032, 2, 20071130, 1710, 1.2500, 179.0023, 5429,    670.6, 2,   6.9976, 2,  34.5673, 2,  34.5664, 2,     67.5, 2,     66.2, 2,    48.03, 2,    37.33, 2,     0.01, 2,     2.67, 2,    0.105, 6,    0.054, 6,    0.006, 6, -999.000, 9,   -999.0, 9,   -999.0, 9, -999.0000,   -999.00,   -999.0, 9,   -999.0,  -999.00, 9,   -999.0,   6.9331, 27.0871,   6.9984, 2, 9, 0.22, 0.14, 0.01, 0.017,  -999.00, 9, -999.00, -999.00, 9, -999.00
49NZ20071122, P14N, 138, 1, 25, X12043, 2, 20071130, 1710, 1.2500, 179.0023, 5429,    770.8, 2,   5.7955, 2,  34.5437, 2,  34.5434, 2,     76.3, 2,     79.2, 2,    60.88, 2,    38.38, 2,     0.01, 2,     2.75, 2,    0.049, 2,    0.025, 2,    0.005, 2, -999.000, 9,   -999.0, 9,   -999.0, 9, -999.0000,   -999.00,   -999.0, 9,   -999.0,  -999.00, 9,   -999.0,   5.7278, 27.2263,   5.7953, 2, 9, 0.25, 0.14, 0.01, 0.017,  -999.00, 9, -999.00, -999.00, 9, -999.00
49NZ20071122, P14N, 138, 1, 24, X12030, 2, 20071130, 1710, 1.2500, 179.0023, 5429,    870.4, 2,   5.1995, 2,  34.5444, 2,  34.5443, 2,     87.1, 2,     84.7, 2,    69.00, 2,    38.66, 2,     0.01, 2,     2.77, 2,    0.024, 2,    0.011, 2,    0.000, 2, -999.000, 9,   -999.0, 9,   -999.0, 9, -999.0000,   -999.00,   -999.0, 9,   -999.0,  -999.00, 9,   -999.0,   5.1264, 27.2993,   5.2000, 2, 9, 0.27, 0.14, 0.01, 0.017,  -999.00, 9, -999.00, -999.00, 9, -999.00
49NZ20071122, P14N, 138, 1, 23, X12027, 2, 20071130, 1710, 1.2500, 179.0023, 5429,    970.5, 2,   4.8686, 2,  34.5458, 2,  34.5456, 6,     89.0, 2,     91.6, 2,    74.84, 2,    38.31, 2,     0.01, 2,     2.74, 2,    0.022, 2,    0.012, 2,    0.005, 2, -999.000, 9,   -999.0, 9,   -999.0, 9, -999.0000,   -999.00,   -999.0, 9,   -999.0,  -999.00, 9,   -999.0,   4.7889, 27.3393,   4.8686, 2, 9, 0.28, 0.14, 0.01, 0.017,  -999.00, 9, -999.00, -999.00, 9, -999.00
49NZ20071122, P14N, 138, 1, 22, X12028, 2, 20071130, 1710, 1.2500, 179.0023, 5429,   1130.1, 2,   4.2116, 2,  34.5629, 2,  34.5627, 2,     91.3, 2,     87.6, 2,    90.11, 2,    39.33, 2,     0.01, 2,     2.82, 2,    0.009, 2,    0.001, 2,    0.000, 2, -999.000, 9,   -999.0, 9,   -999.0, 9, -999.0000,   -999.00,   -999.0, 9,   -999.0,  -999.00, 9,   -999.0,   4.1231, 27.4256,   4.2140, 2, 9, 0.32, 0.14, 0.01, 0.017,  -999.00, 9, -999.00, -999.00, 9, -999.00
49NZ20071122, P14N, 138, 1, 21, X12009, 2, 20071130, 1710, 1.2500, 179.0023, 5429,   1330.0, 2,   3.5744, 2,  34.5822, 2,  34.5821, 2,     90.6, 2,     90.1, 2,   103.85, 2,    39.67, 2,     0.01, 2,     2.85, 2,    0.001, 2,    0.000, 2,    0.000, 2, -999.000, 9,   -999.0, 9,   -999.0, 9, -999.0000,   -999.00,   -999.0, 9,   -999.0,  -999.00, 9,   -999.0,   3.4746, 27.5067,   3.5744, 2, 9, 0.35, 0.14, 0.01, 0.017,  -999.00, 9, -999.00, -999.00, 9, -999.00
49NZ20071122, P14N, 138, 1, 20, X12026, 2, 20071130, 1710, 1.2500, 179.0023, 5429,   1530.8, 2,   2.9730, 2,  34.6043, 2,  34.6041, 2,     97.6, 2,     97.6, 2,   117.32, 2,    39.37, 2,     0.01, 2,     2.82, 2,    0.000, 2,    0.000, 2,    0.000, 2, -999.000, 9,   -999.0, 9,   -999.0, 9, -999.0000,   -999.00,   -999.0, 9,   -999.0,  -999.00, 9,   -999.0,   2.8628, 27.5817,   2.9731, 2, 9, 0.38, 0.14, 0.01, 0.017,  -999.00, 9, -999.00, -999.00, 9, -999.00
49NZ20071122, P14N, 138, 1, 19, X12025, 2, 20071130, 1710, 1.2500, 179.0023, 5429,   1729.4, 2,   2.5895, 2,  34.6207, 2,  34.6209, 2,    105.9, 2,    106.5, 2,   125.01, 2,    38.79, 2,     0.01, 2,     2.77, 2, -999.000, 9, -999.000, 9, -999.000, 9, -999.000, 9,   -999.0, 9,   -999.0, 9, -999.0000,   -999.00,   -999.0, 9,   -999.0,  -999.00, 9,   -999.0,   2.4674, 27.6294,   2.5895, 2, 9, 0.39, 0.14, 0.01, 0.017,  -999.00, 9, -999.00, -999.00, 9, -999.00
49NZ20071122, P14N, 138, 1, 18, X12024, 2, 20071130, 1710, 1.2500, 179.0023, 5429,   1930.2, 2,   2.3310, 2,  34.6351, 2,  34.6352, 2,    109.4, 2,    109.8, 2,   131.84, 2,    38.82, 2,     0.01, 2,     2.76, 2, -999.000, 9, -999.000, 9, -999.000, 9, -999.000, 9,   -999.0, 9,   -999.0, 9, -999.0000,   -999.00,   -999.0, 9,   -999.0,  -999.00, 9,   -999.0,   2.1955, 27.6636,   2.3310, 2, 9, 0.41, 0.14, 0.01, 0.017,  -999.00, 9, -999.00, -999.00, 9, -999.00
49NZ20071122, P14N, 138, 1, 17, X12023, 2, 20071130, 1710, 1.2500, 179.0023, 5429,   2131.2, 2,   2.1662, 2,  34.6433, 2,  34.6433, 6,    113.1, 2,    114.9, 2,   134.97, 2,    38.53, 2,     0.01, 2,     2.73, 2,    0.000, 2,    0.000, 2,    0.000, 2, -999.000, 9,   -999.0, 9,   -999.0, 9, -999.0000,   -999.00,   -999.0, 9,   -999.0,  -999.00, 9,   -999.0,   2.0159, 27.6847,   2.1662, 2, 9, 0.42, 0.14, 0.01, 0.017,  -999.00, 9, -999.00, -999.00, 9, -999.00
49NZ20071122, P14N, 138, 1, 16, X12022, 2, 20071130, 1710, 1.2500, 179.0023, 5429,   2330.7, 2,   1.9788, 2,  34.6540, 2,  34.6540, 2,    118.1, 2,    119.1, 2,   139.56, 2,    38.35, 2,     0.01, 2,     2.71, 2, -999.000, 9, -999.000, 9, -999.000, 9, -999.000, 9,   -999.0, 9,   -999.0, 9, -999.0000,   -999.00,   -999.0, 9,   -999.0,  -999.00, 9,   -999.0,   1.8141, 27.7089,   1.9789, 2, 9, 0.43, 0.14, 0.01, 0.017,  -999.00, 9, -999.00, -999.00, 9, -999.00
49NZ20071122, P14N, 138, 1, 15, X12021, 2, 20071130, 1710, 1.2500, 179.0023, 5429,   2530.0, 2,   1.8597, 2,  34.6612, 2,  34.6612, 2,    123.0, 2,    124.3, 2,   141.46, 2,    37.98, 2,     0.01, 2,     2.68, 2, -999.000, 9, -999.000, 9, -999.000, 9, -999.000, 9,   -999.0, 9,   -999.0, 9, -999.0000,   -999.00,   -999.0, 9,   -999.0,  -999.00, 9,   -999.0,   1.6793, 27.7250,   1.8597, 2, 9, 0.43, 0.14, 0.01, 0.017,  -999.00, 9, -999.00, -999.00, 9, -999.00
49NZ20071122, P14N, 138, 1, 14, X12020, 2, 20071130, 1710, 1.2500, 179.0023, 5429,   2731.7, 2,   1.7662, 2,  34.6662, 2,  34.6661, 2,    127.8, 2,    129.0, 2,   142.57, 2,    37.70, 2,     0.01, 2,     2.65, 2,    0.000, 2,    0.000, 2,    0.000, 2, -999.000, 9,   -999.0, 9,   -999.0, 9, -999.0000,   -999.00,   -999.0, 9,   -999.0,  -999.00, 9,   -999.0,   1.5691, 27.7372,   1.7662, 2, 9, 0.43, 0.14, 0.01, 0.017,  -999.00, 9, -999.00, -999.00, 9, -999.00
49NZ20071122, P14N, 138, 1, 13, X12019, 2, 20071130, 1710, 1.2500, 179.0023, 5429,   2931.7, 2,   1.6885, 2,  34.6704, 2,  34.6703, 2,    132.3, 2,    134.4, 2,   142.29, 2,    37.30, 2,     0.01, 2,     2.62, 2, -999.000, 9, -999.000, 9, -999.000, 9, -999.000, 9,   -999.0, 9,   -999.0, 9, -999.0000,   -999.00,   -999.0, 9,   -999.0,  -999.00, 9,   -999.0,   1.4741, 27.7475,   1.6885, 2, 9, 0.43, 0.14, 0.01, 0.017,  -999.00, 9, -999.00, -999.00, 9, -999.00
49NZ20071122, P14N, 138, 1, 12, X12040, 2, 20071130, 1710, 1.2500, 179.0023, 5429,   3170.3, 2,   1.6044, 2,  34.6755, 2,  34.6756, 2,    140.2, 2,    141.6, 2,   141.25, 2,    36.79, 2,     0.01, 2,     2.58, 2, -999.000, 9, -999.000, 9, -999.000, 9, -999.000, 9,   -999.0, 9,   -999.0, 9, -999.0000,   -999.00,   -999.0, 9,   -999.0,  -999.00, 9,   -999.0,   1.3688, 27.7592,   1.6044, 2, 9, 0.43, 0.14, 0.01, 0.016,  -999.00, 9, -999.00, -999.00, 9, -999.00
49NZ20071122, P14N, 138, 1, 11, X12047, 2, 20071130, 1710, 1.2500, 179.0023, 5429,   3420.6, 2,   1.5596, 2,  34.6794, 2,  34.6792, 2,    145.1, 2,    146.1, 2,   140.79, 2,    36.48, 2,     0.01, 2,     2.56, 2,    0.000, 2,    0.000, 2,    0.000, 2, -999.000, 9,   -999.0, 9,   -999.0, 9, -999.0000,   -999.00,   -999.0, 9,   -999.0,  -999.00, 9,   -999.0,   1.3001, 27.7672,   1.5596, 2, 9, 0.43, 0.13, 0.01, 0.016,  -999.00, 9, -999.00, -999.00, 9, -999.00
49NZ20071122, P14N, 138, 1, 10, X12012, 2, 20071130, 1710, 1.2500, 179.0023, 5429,   3669.8, 2,   1.5157, 2,  34.6836, 2,  34.6833, 2,    151.3, 2,    151.8, 2,   139.59, 2,    36.11, 2,     0.01, 2,     2.52, 2,    0.000, 2,    0.000, 2,    0.000, 2, -999.000, 9,   -999.0, 9,   -999.0, 9, -999.0000,   -999.00,   -999.0, 9,   -999.0,  -999.00, 9,   -999.0,   1.2316, 27.7753,   1.5158, 2, 9, 0.43, 0.13, 0.01, 0.016,  -999.00, 9, -999.00, -999.00, 9, -999.00
49NZ20071122, P14N, 138, 1, 9, X12015, 2, 20071130, 1710, 1.2500, 179.0023, 5429,   3920.5, 2,   1.4598, 2,  34.6886, 2,  34.6885, 6,    159.1, 2,    159.6, 2,   137.24, 2,    35.64, 2,     0.00, 2,     2.48, 2,    0.000, 2,    0.000, 2,    0.000, 2, -999.000, 9,   -999.0, 9,   -999.0, 9, -999.0000,   -999.00,   -999.0, 9,   -999.0,  -999.00, 9,   -999.0,   1.1506, 27.7850,   1.4597, 2, 9, 0.42, 0.13, 0.01, 0.016,  -999.00, 9, -999.00, -999.00, 9, -999.00
49NZ20071122, P14N, 138, 1, 8, X12046, 2, 20071130, 1710, 1.2500, 179.0023, 5429,   4170.9, 2,   1.4118, 2,  34.6932, 2,  34.6935, 2,    166.2, 2,    167.3, 2,   134.44, 2,    35.13, 2,     0.01, 2,     2.44, 2,    0.000, 2,    0.000, 2,    0.000, 2, -999.000, 9,   -999.0, 9,   -999.0, 9, -999.0000,   -999.00,   -999.0, 9,   -999.0,  -999.00, 9,   -999.0,   1.0766, 27.7937,   1.4118, 2, 9, 0.41, 0.13, 0.01, 0.016,  -999.00, 9, -999.00, -999.00, 9, -999.00
49NZ20071122, P14N, 138, 1, 7, X12044, 2, 20071130, 1710, 1.2500, 179.0023, 5429,   4418.3, 2,   1.3253, 2,  34.6989, 2,  34.6989, 2,    177.4, 2,    178.4, 2,   129.46, 2,    34.21, 2,     0.01, 2,     2.38, 2,    0.001, 2,    0.002, 2,    0.000, 2, -999.000, 9,   -999.0, 9,   -999.0, 9, -999.0000,   -999.00,   -999.0, 9,   -999.0,  -999.00, 9,   -999.0,   0.9650, 27.8057,   1.3252, 2, 9, 0.40, 0.13, 0.01, 0.016,  -999.00, 9, -999.00, -999.00, 9, -999.00
49NZ20071122, P14N, 138, 1, 6, X12048, 2, 20071130, 1710, 1.2500, 179.0023, 5429,   4671.2, 2,   1.2596, 2,  34.7031, 2,  34.7029, 2,    185.6, 2,    186.8, 2,   125.73, 2,    33.65, 2,     0.01, 2,     2.34, 2,    0.000, 2,    0.000, 2,    0.000, 2, -999.000, 9,   -999.0, 9,   -999.0, 9, -999.0000,   -999.00,   -999.0, 9,   -999.0,  -999.00, 9,   -999.0,   0.8723, 27.8152,   1.2594, 2, 9, 0.40, 0.13, 0.01, 0.016,  -999.00, 9, -999.00, -999.00, 9, -999.00
49NZ20071122, P14N, 138, 1, 5, X12014, 2, 20071130, 1710, 1.2500, 179.0023, 5429,   4918.2, 2,   1.2790, 2,  34.7038, 2,  34.7040, 2,    187.9, 2,    187.9, 2,   125.00, 2,    33.57, 2,     0.01, 2,     2.33, 2,    0.000, 2,    0.000, 2,    0.000, 2, -999.000, 9,   -999.0, 9,   -999.0, 9, -999.0000,   -999.00,   -999.0, 9,   -999.0,  -999.00, 9,   -999.0,   0.8619, 27.8164,   1.2790, 2, 9, 0.39, 0.13, 0.01, 0.016,  -999.00, 9, -999.00, -999.00, 9, -999.00
49NZ20071122, P14N, 138, 1, 4, X12006, 2, 20071130, 1710, 1.2500, 179.0023, 5429,   5169.5, 2,   1.2881, 2,  34.7049, 2,  34.7050, 2,    190.4, 2,    190.5, 2,   123.42, 2,    33.44, 2,     0.01, 2,     2.32, 2,    0.000, 2,    0.000, 2,    0.000, 2, -999.000, 9,   -999.0, 9,   -999.0, 9, -999.0000,   -999.00,   -999.0, 9,   -999.0,  -999.00, 9,   -999.0,   0.8403, 27.8187,   1.2882, 2, 9, 0.39, 0.13, 0.01, 0.016,  -999.00, 9, -999.00, -999.00, 9, -999.00
49NZ20071122, P14N, 138, 1, 3, X12013, 2, 20071130, 1710, 1.2500, 179.0023, 5429,   5419.7, 2,   1.3048, 2,  34.7052, 2,  34.7060, 2,    193.1, 2,    192.9, 2,   122.02, 2,    33.15, 2,     0.01, 2,     2.30, 2,    0.002, 2,    0.002, 2,    0.003, 2, -999.000, 9,   -999.0, 9,   -999.0, 9, -999.0000,   -999.00,   -999.0, 9,   -999.0,  -999.00, 9,   -999.0,   0.8254, 27.8199,   1.3048, 2, 9, 0.39, 0.13, 0.01, 0.016,  -999.00, 9, -999.00, -999.00, 9, -999.00
49NZ20071122, P14N, 138, 1, 2, X12002, 9, 20071130, 1710, 1.2500, 179.0023, 5429,    100.2, 2,  26.7975, 2,  35.2522, 2, -999.0000, 9,    188.0, 2,   -999.0, 9,  -999.00, 9,  -999.00, 9,  -999.00, 9,  -999.00, 9, -999.000, 9, -999.000, 9, -999.000, 9, -999.000, 9,   -999.0, 9,   -999.0, 9, -999.0000,   -999.00,   -999.0, 9,   -999.0,  -999.00, 9,   -999.0,  26.7746, 22.9796,  26.7963, 2, 9, -999.00, -999.00, -999.00, -999.000,  -999.00, 9, -999.00, -999.00, 9, -999.00
49NZ20071122, P14N, 138, 1, 1, X12001, 2, 20071130, 1710, 1.2500, 179.0023, 5429,   5542.2, 2,   1.3205, 2,  34.7053, 2,  34.7058, 6,    193.0, 2,    192.9, 2,   122.00, 2,    33.20, 2,     0.01, 2,     2.31, 2,    0.005, 2,    0.003, 2,    0.000, 2, -999.000, 9,   -999.0, 9,   -999.0, 9, -999.0000,   -999.00,   -999.0, 9,   -999.0,  -999.00, 9,   -999.0,   0.8250, 27.8200,   1.3205, 2, 9, 0.39, 0.13, 0.01, 0.016,  -999.00, 9, -999.00, -999.00, 9, -999.00