BOTTLE,20220820CCHSIOAMB
EXPOCODE,SECT_ID,STNNBR,CASTNO,SAMPNO,BTLNBR,BTLNBR_FLAG_W,DATE,TIME,LATITUDE,LONGITUDE,DEPTH,CTDPRS,CTDPRS_FLAG_W,CTDTMP,CTDTMP_FLAG_W,CTDSAL,CTDSAL_FLAG_W,SALNTY,SALNTY_FLAG_W,CTDOXY,CTDOXY_FLAG_W,OXYGEN,OXYGEN_FLAG_W,SILCAT,SILCAT_FLAG_W,NITRAT,NITRAT_FLAG_W,NITRIT,NITRIT_FLAG_W,PHSPHT,PHSPHT_FLAG_W,CFC-11,CFC-11_FLAG_W,CFC-12,CFC-12_FLAG_W,CFC113,CFC113_FLAG_W,CCL4,CCL4_FLAG_W,TCARBN,TCARBN_FLAG_W,ALKALI,ALKALI_FLAG_W,PH_TOT,PH_TMP,DELC14,DELC14_FLAG_W,C14ERR,DELC13,DELC13_FLAG_W,C13ERR,THETA,SIG0,SBE35,SBE35_FLAG_W,PH_TOT_FLAG_W,SILUNC,NRAUNC,NRIUNC,PHPUNC,CS-137,CS-137_FLAG_W,CS137ER,PLUTO,PLUTO_FLAG_W,PLUTOER
,,,,,,,,,,,METERS,DBAR,,ITS-90,,PSS-78,,PSS-78,,UMOL/KG,,UMOL/KG,,UMOL/KG,,UMOL/KG,,UMOL/KG,,UMOL/KG,,PMOL/KG,,PMOL/KG,,PMOL/KG,,PMOL/KG,,UMOL/KG,,UMOL/KG,,,DEG C,/MILLE,,/MILLE,/MILLE,,/MILLE,DEG C,KG/M^3,ITS-90,,,UMOL/KG,UMOL/KG,UMOL/KG,UMOL/KG,DM/.1MG,,BQ/M^3,MBQ/M^3,,MBQ/M^3
49NZ20071122, P14N, 130, 1, 36, X12042, 2, 20071128, 1954, 3.2513, 178.9928, 5350,      9.4, 2,  27.3732, 2,  34.9755, 2,  34.9751, 2,    204.5, 2,    202.5, 2,     1.62, 2,     2.65, 2,     0.11, 2,     0.40, 2,    1.543, 2,    0.974, 2,    0.190, 4, -999.000, 9,   -999.0, 9,   -999.0, 9, -999.0000,   -999.00,   -999.0, 9,   -999.0,  -999.00, 9,   -999.0,  27.3710, 22.5803,  27.3728, 2, 9, 0.12, 0.04, 0.01, 0.013,  -999.00, 9, -999.00, -999.00, 9, -999.00
49NZ20071122, P14N, 130, 1, 35, X12041, 2, 20071128, 1954, 3.2513, 178.9928, 5350,     50.0, 2,  27.0671, 2,  35.1708, 2,  35.1707, 2,    196.2, 2,    195.2, 2,     1.80, 2,     3.10, 2,     0.28, 2,     0.48, 2,    1.546, 2,    0.957, 2,    0.193, 4, -999.000, 9,   -999.0, 9,   -999.0, 9, -999.0000,   -999.00,   -999.0, 9,   -999.0,  -999.00, 9,   -999.0,  27.0556, 22.8286,  27.0694, 2, 9, 0.12, 0.04, 0.01, 0.013,  -999.00, 9, -999.00, -999.00, 9, -999.00
49NZ20071122, P14N, 130, 1, 34, X12016, 2, 20071128, 1954, 3.2513, 178.9928, 5350,    100.2, 2,  26.8393, 2,  35.1908, 2,  35.1925, 2,    197.8, 2,    196.2, 2,     1.89, 2,     3.38, 2,     0.41, 2,     0.50, 2,    1.555, 2,    0.961, 2,    0.215, 4, -999.000, 9,   -999.0, 9,   -999.0, 9, -999.0000,   -999.00,   -999.0, 9,   -999.0,  -999.00, 9,   -999.0,  26.8164, 22.9200,  26.8385, 2, 9, 0.12, 0.04, 0.00, 0.013,  -999.00, 9, -999.00, -999.00, 9, -999.00
49NZ20071122, P14N, 130, 1, 33, X12033, 2, 20071128, 1954, 3.2513, 178.9928, 5350,    150.1, 2,  26.5968, 2,  35.2127, 2,  35.2148, 2,    195.8, 2,    194.6, 2,     2.02, 2,     3.72, 2,     0.54, 2,     0.52, 2,    1.581, 6,    0.990, 6,    0.215, 4, -999.000, 9,   -999.0, 9,   -999.0, 9, -999.0000,   -999.00,   -999.0, 9,   -999.0,  -999.00, 9,   -999.0,  26.5627, 23.0170,  26.5955, 2, 9, 0.12, 0.04, 0.00, 0.013,  -999.00, 9, -999.00, -999.00, 9, -999.00
49NZ20071122, P14N, 130, 1, 32, X12038, 2, 20071128, 1954, 3.2513, 178.9928, 5350,    199.9, 2,  15.4004, 2,  34.6526, 2,  34.6411, 2,    122.4, 2,    126.6, 2,    15.92, 2,    16.48, 2,     0.02, 2,     1.26, 2,    1.911, 2,    1.058, 2,    0.039, 2, -999.000, 9,   -999.0, 9,   -999.0, 9, -999.0000,   -999.00,   -999.0, 9,   -999.0,  -999.00, 9,   -999.0,  15.3697, 25.6225,  15.4144, 2, 9, 0.15, 0.08, 0.01, 0.013,  -999.00, 9, -999.00, -999.00, 9, -999.00
49NZ20071122, P14N, 130, 1, 31, X12003, 2, 20071128, 1954, 3.2513, 178.9928, 5350,    250.4, 2,  11.4039, 2,  34.7572, 2,  34.7620, 6,    111.6, 2,    112.7, 2,    22.31, 2,    24.05, 2,     0.01, 2,     1.75, 2,    1.194, 2,    0.639, 2,    0.023, 2, -999.000, 9,   -999.0, 9,   -999.0, 9, -999.0000,   -999.00,   -999.0, 9,   -999.0,  -999.00, 9,   -999.0,  11.3723, 26.5184,  11.4031, 2, 9, 0.17, 0.10, 0.01, 0.014,  -999.00, 9, -999.00, -999.00, 9, -999.00
49NZ20071122, P14N, 130, 1, 30, X12008, 2, 20071128, 1954, 3.2513, 178.9928, 5350,    299.6, 2,  10.7256, 2,  34.7663, 2,  34.7655, 2,     79.9, 2,     79.3, 2,    24.50, 2,    28.77, 2,     0.01, 2,     2.05, 2,    0.805, 2,    0.426, 2,    0.018, 2, -999.000, 9,   -999.0, 9,   -999.0, 9, -999.0000,   -999.00,   -999.0, 9,   -999.0,  -999.00, 9,   -999.0,  10.6892, 26.6493,  10.7261, 2, 9, 0.17, 0.11, 0.01, 0.015,  -999.00, 9, -999.00, -999.00, 9, -999.00
49NZ20071122, P14N, 130, 1, 29, X12035, 2, 20071128, 1954, 3.2513, 178.9928, 5350,    402.4, 2,   9.7251, 2,  34.7005, 2,  34.7009, 2,     48.8, 2,     78.4, 2,    28.21, 2,    30.77, 2,     0.01, 2,     2.18, 2,    0.602, 2,    0.318, 2,    0.014, 2, -999.000, 9,   -999.0, 9,   -999.0, 9, -999.0000,   -999.00,   -999.0, 9,   -999.0,  -999.00, 9,   -999.0,   9.6789, 26.7724,   9.7261, 2, 9, 0.18, 0.12, 0.01, 0.015,  -999.00, 9, -999.00, -999.00, 9, -999.00
49NZ20071122, P14N, 130, 1, 28, X12034, 2, 20071128, 1954, 3.2513, 178.9928, 5350,    501.1, 2,   8.7901, 2,  34.6246, 2,  34.6236, 6,    103.1, 2,     99.5, 2,    32.18, 2,    30.33, 2,     0.01, 2,     2.17, 2,    0.571, 2,    0.296, 2,    0.010, 2, -999.000, 9,   -999.0, 9,   -999.0, 9, -999.0000,   -999.00,   -999.0, 9,   -999.0,  -999.00, 9,   -999.0,   8.7357, 26.8661,   8.7912, 2, 9, 0.19, 0.12, 0.01, 0.015,  -999.00, 9, -999.00, -999.00, 9, -999.00
49NZ20071122, P14N, 130, 1, 27, X12049, 2, 20071128, 1954, 3.2513, 178.9928, 5350,    600.1, 2,   7.7691, 2,  34.5914, 2,  34.5908, 2,     81.4, 2,     78.6, 2,    39.47, 2,    34.57, 2,     0.00, 2,     2.47, 2,    0.255, 2,    0.134, 2,    0.008, 2, -999.000, 9,   -999.0, 9,   -999.0, 9, -999.0000,   -999.00,   -999.0, 9,   -999.0,  -999.00, 9,   -999.0,   7.7082, 26.9961,   7.7697, 2, 9, 0.21, 0.13, 0.01, 0.016,  -999.00, 9, -999.00, -999.00, 9, -999.00
49NZ20071122, P14N, 130, 1, 26, X12032, 2, 20071128, 1954, 3.2513, 178.9928, 5350,    701.5, 2,   6.7527, 2,  34.5649, 2,  34.5637, 2,     52.2, 2,     52.0, 2,    52.49, 2,    39.27, 2,     0.00, 2,     2.84, 2,    0.051, 6,    0.028, 6,    0.000, 6, -999.000, 9,   -999.0, 9,   -999.0, 9, -999.0000,   -999.00,   -999.0, 9,   -999.0,  -999.00, 9,   -999.0,   6.6864, 27.1189,   6.7530, 2, 9, 0.23, 0.14, 0.01, 0.017,  -999.00, 9, -999.00, -999.00, 9, -999.00
49NZ20071122, P14N, 130, 1, 25, X12043, 2, 20071128, 1954, 3.2513, 178.9928, 5350,    800.8, 2,   5.8104, 2,  34.5493, 2,  34.5489, 2,     61.0, 2,     63.5, 2,    62.67, 2,    40.02, 2,     0.00, 2,     2.88, 2,    0.030, 2,    0.020, 2,    0.000, 2, -999.000, 9,   -999.0, 9,   -999.0, 9, -999.0000,   -999.00,   -999.0, 9,   -999.0,  -999.00, 9,   -999.0,   5.7398, 27.2292,   5.8110, 2, 9, 0.26, 0.14, 0.01, 0.017,  -999.00, 9, -999.00, -999.00, 9, -999.00
49NZ20071122, P14N, 130, 1, 24, X12030, 2, 20071128, 1954, 3.2513, 178.9928, 5350,    897.7, 2,   5.3183, 2,  34.5471, 2,  34.5471, 2,     69.4, 2,     70.1, 2,    70.27, 2,    39.85, 2,     0.00, 2,     2.86, 2,    0.020, 2,    0.014, 2,    0.004, 2, -999.000, 9,   -999.0, 9,   -999.0, 9, -999.0000,   -999.00,   -999.0, 9,   -999.0,  -999.00, 9,   -999.0,   5.2419, 27.2879,   5.3183, 2, 9, 0.27, 0.14, 0.01, 0.017,  -999.00, 9, -999.00, -999.00, 9, -999.00
49NZ20071122, P14N, 130, 1, 23, X12027, 2, 20071128, 1954, 3.2513, 178.9928, 5350,    999.5, 2,   4.9205, 2,  34.5504, 2,  34.5511, 6,     74.1, 2,     74.3, 2,    77.55, 2,    39.88, 2,     0.00, 2,     2.88, 2,    0.018, 2,    0.010, 2,    0.000, 2, -999.000, 9,   -999.0, 9,   -999.0, 9, -999.0000,   -999.00,   -999.0, 9,   -999.0,  -999.00, 9,   -999.0,   4.8378, 27.3374,   4.9220, 2, 9, 0.29, 0.14, 0.01, 0.017,  -999.00, 9, -999.00, -999.00, 9, -999.00
49NZ20071122, P14N, 130, 1, 22, X12028, 2, 20071128, 1954, 3.2513, 178.9928, 5350,   1201.5, 2,   4.1384, 2,  34.5671, 2,  34.5679, 2,     79.1, 2,     78.8, 2,    94.11, 2,    40.05, 2,     0.00, 2,     2.90, 2,    0.008, 2,    0.004, 2,    0.000, 2, -999.000, 9,   -999.0, 9,   -999.0, 9, -999.0000,   -999.00,   -999.0, 9,   -999.0,  -999.00, 9,   -999.0,   4.0443, 27.4372,   4.1386, 2, 9, 0.33, 0.14, 0.01, 0.017,  -999.00, 9, -999.00, -999.00, 9, -999.00
49NZ20071122, P14N, 130, 1, 21, X12009, 2, 20071128, 1954, 3.2513, 178.9928, 5350,   1399.1, 2,   3.4619, 2,  34.5877, 2,  34.5882, 2,     83.3, 2,     83.6, 2,   109.20, 2,    40.20, 2,     0.00, 2,     2.90, 2,    0.000, 2,    0.000, 2,    0.000, 2, -999.000, 9,   -999.0, 9,   -999.0, 9, -999.0000,   -999.00,   -999.0, 9,   -999.0,  -999.00, 9,   -999.0,   3.3574, 27.5224,   3.4619, 2, 9, 0.36, 0.15, 0.01, 0.017,  -999.00, 9, -999.00, -999.00, 9, -999.00
49NZ20071122, P14N, 130, 1, 20, X12026, 2, 20071128, 1954, 3.2513, 178.9928, 5350,   1601.7, 2,   2.8809, 2,  34.6091, 2,  34.6095, 2,     93.1, 2,     93.7, 2,   121.46, 2,    39.74, 2,     0.00, 2,     2.86, 2, -999.000, 9, -999.000, 9, -999.000, 9, -999.000, 9,   -999.0, 9,   -999.0, 9, -999.0000,   -999.00,   -999.0, 9,   -999.0,  -999.00, 9,   -999.0,   2.7659, 27.5942,   2.8809, 2, 9, 0.39, 0.14, 0.01, 0.017,  -999.00, 9, -999.00, -999.00, 9, -999.00
49NZ20071122, P14N, 130, 1, 19, X12025, 2, 20071128, 1954, 3.2513, 178.9928, 5350,   1801.0, 2,   2.5364, 2,  34.6248, 2,  34.6253, 2,    101.2, 2,    100.3, 2,   129.48, 2,    39.45, 2,     0.00, 2,     2.82, 2, -999.000, 9, -999.000, 9, -999.000, 9, -999.000, 9,   -999.0, 9,   -999.0, 9, -999.0000,   -999.00,   -999.0, 9,   -999.0,  -999.00, 9,   -999.0,   2.4090, 27.6376,   2.5364, 2, 9, 0.40, 0.14, 0.01, 0.017,  -999.00, 9, -999.00, -999.00, 9, -999.00
49NZ20071122, P14N, 130, 1, 18, X12024, 2, 20071128, 1954, 3.2513, 178.9928, 5350,   2002.7, 2,   2.2683, 2,  34.6391, 2,  34.6393, 2,    105.6, 2,    105.3, 2,   136.31, 2,    39.06, 2,     0.00, 2,     2.79, 2,    0.000, 2,    0.000, 2,    0.000, 2, -999.000, 9,   -999.0, 9,   -999.0, 9, -999.0000,   -999.00,   -999.0, 9,   -999.0,  -999.00, 9,   -999.0,   2.1275, 27.6723,   2.2683, 2, 9, 0.42, 0.14, 0.01, 0.017,  -999.00, 9, -999.00, -999.00, 9, -999.00
49NZ20071122, P14N, 130, 1, 17, X12023, 2, 20071128, 1954, 3.2513, 178.9928, 5350,   2202.1, 2,   2.0433, 2,  34.6516, 2,  34.6518, 6,    112.2, 2,    111.4, 2,   141.36, 2,    38.79, 2,     0.00, 2,     2.76, 2, -999.000, 9, -999.000, 9, -999.000, 9, -999.000, 9,   -999.0, 9,   -999.0, 9, -999.0000,   -999.00,   -999.0, 9,   -999.0,  -999.00, 9,   -999.0,   1.8888, 27.7013,   2.0434, 2, 9, 0.43, 0.14, 0.01, 0.017,  -999.00, 9, -999.00, -999.00, 9, -999.00
49NZ20071122, P14N, 130, 1, 16, X12022, 2, 20071128, 1954, 3.2513, 178.9928, 5350,   2399.9, 2,   1.9151, 2,  34.6590, 2,  34.6591, 2,    118.2, 2,    117.3, 2,   143.47, 2,    38.38, 2,     0.00, 2,     2.72, 2, -999.000, 9, -999.000, 9, -999.000, 9, -999.000, 9,   -999.0, 9,   -999.0, 9, -999.0000,   -999.00,   -999.0, 9,   -999.0,  -999.00, 9,   -999.0,   1.7454, 27.7183,   1.9150, 2, 9, 0.43, 0.14, 0.01, 0.017,  -999.00, 9, -999.00, -999.00, 9, -999.00
49NZ20071122, P14N, 130, 1, 15, X12021, 2, 20071128, 1954, 3.2513, 178.9928, 5350,   2600.6, 2,   1.8289, 2,  34.6642, 2,  34.6643, 2,    122.0, 2,    122.0, 2,   144.51, 2,    38.09, 2,     0.00, 2,     2.69, 2,    0.000, 2,    0.000, 2,    0.000, 2, -999.000, 9,   -999.0, 9,   -999.0, 9, -999.0000,   -999.00,   -999.0, 9,   -999.0,  -999.00, 9,   -999.0,   1.6426, 27.7301,   1.8290, 2, 9, 0.44, 0.14, 0.01, 0.017,  -999.00, 9, -999.00, -999.00, 9, -999.00
49NZ20071122, P14N, 130, 1, 14, X12020, 2, 20071128, 1954, 3.2513, 178.9928, 5350,   2799.9, 2,   1.7482, 2,  34.6678, 2,  34.6678, 2,    127.7, 2,    128.0, 2,   144.24, 2,    37.70, 2,     0.00, 2,     2.66, 2, -999.000, 9, -999.000, 9, -999.000, 9, -999.000, 9,   -999.0, 9,   -999.0, 9, -999.0000,   -999.00,   -999.0, 9,   -999.0,  -999.00, 9,   -999.0,   1.5451, 27.7403,   1.7483, 2, 9, 0.44, 0.14, 0.01, 0.017,  -999.00, 9, -999.00, -999.00, 9, -999.00
49NZ20071122, P14N, 130, 1, 13, X12019, 2, 20071128, 1954, 3.2513, 178.9928, 5350,   2999.8, 2,   1.6764, 2,  34.6718, 2,  34.6719, 2,    132.7, 2,    133.1, 2,   143.87, 2,    37.27, 2,     0.01, 2,     2.63, 2, -999.000, 9, -999.000, 9, -999.000, 9, -999.000, 9,   -999.0, 9,   -999.0, 9, -999.0000,   -999.00,   -999.0, 9,   -999.0,  -999.00, 9,   -999.0,   1.4558, 27.7500,   1.6764, 2, 9, 0.44, 0.14, 0.01, 0.017,  -999.00, 9, -999.00, -999.00, 9, -999.00
49NZ20071122, P14N, 130, 1, 12, X12040, 2, 20071128, 1954, 3.2513, 178.9928, 5350,   3252.2, 2,   1.5884, 2,  34.6770, 2,  34.6768, 2,    141.4, 2,    141.5, 2,   142.52, 2,    36.69, 2,     0.00, 2,     2.58, 2,    0.000, 2,    0.000, 2,    0.000, 2, -999.000, 9,   -999.0, 9,   -999.0, 9, -999.0000,   -999.00,   -999.0, 9,   -999.0,  -999.00, 9,   -999.0,   1.3451, 27.7621,   1.5883, 2, 9, 0.43, 0.14, 0.01, 0.016,  -999.00, 9, -999.00, -999.00, 9, -999.00
49NZ20071122, P14N, 130, 1, 11, X12047, 2, 20071128, 1954, 3.2513, 178.9928, 5350,   3500.2, 2,   1.5316, 2,  34.6815, 2,  34.6814, 2,    146.7, 2,    147.8, 2,   140.98, 2,    36.33, 2,     0.00, 2,     2.55, 2, -999.000, 9, -999.000, 9, -999.000, 9, -999.000, 9,   -999.0, 9,   -999.0, 9, -999.0000,   -999.00,   -999.0, 9,   -999.0,  -999.00, 9,   -999.0,   1.2646, 27.7714,   1.5316, 2, 9, 0.43, 0.13, 0.01, 0.016,  -999.00, 9, -999.00, -999.00, 9, -999.00
49NZ20071122, P14N, 130, 1, 10, X12012, 2, 20071128, 1954, 3.2513, 178.9928, 5350,   3751.6, 2,   1.4752, 2,  34.6866, 2,  34.6863, 2,    154.7, 2,    155.8, 2,   138.46, 2,    35.76, 2,     0.00, 2,     2.50, 2, -999.000, 9, -999.000, 9, -999.000, 9, -999.000, 9,   -999.0, 9,   -999.0, 9, -999.0000,   -999.00,   -999.0, 9,   -999.0,  -999.00, 9,   -999.0,   1.1836, 27.7811,   1.4752, 2, 9, 0.42, 0.13, 0.01, 0.016,  -999.00, 9, -999.00, -999.00, 9, -999.00
49NZ20071122, P14N, 130, 1, 9, X12015, 2, 20071128, 1954, 3.2513, 178.9928, 5350,   4000.5, 2,   1.4266, 2,  34.6911, 2,  34.6910, 6,    162.2, 2,    163.1, 2,   136.03, 2,    35.20, 2,     0.00, 2,     2.46, 2,    0.003, 2,    0.001, 2,    0.000, 2, -999.000, 9,   -999.0, 9,   -999.0, 9, -999.0000,   -999.00,   -999.0, 9,   -999.0,  -999.00, 9,   -999.0,   1.1097, 27.7897,   1.4266, 2, 9, 0.42, 0.13, 0.01, 0.016,  -999.00, 9, -999.00, -999.00, 9, -999.00
49NZ20071122, P14N, 130, 1, 8, X12046, 2, 20071128, 1954, 3.2513, 178.9928, 5350,   4246.8, 2,   1.3231, 2,  34.6976, 2,  34.6976, 2,    174.4, 2,    174.7, 2,   131.40, 2,    34.43, 2,     0.00, 2,     2.41, 2, -999.000, 9, -999.000, 9, -999.000, 9, -999.000, 9,   -999.0, 9,   -999.0, 9, -999.0000,   -999.00,   -999.0, 9,   -999.0,  -999.00, 9,   -999.0,   0.9821, 27.8035,   1.3232, 2, 9, 0.41, 0.13, 0.01, 0.016,  -999.00, 9, -999.00, -999.00, 9, -999.00
49NZ20071122, P14N, 130, 1, 7, X12044, 2, 20071128, 1954, 3.2513, 178.9928, 5350,   4497.9, 2,   1.2551, 2,  34.7026, 2,  34.7026, 2,    184.2, 2,    185.0, 2,   126.58, 2,    33.75, 2,     0.00, 2,     2.35, 2,    0.000, 2,    0.000, 2,    0.000, 2, -999.000, 9,   -999.0, 9,   -999.0, 9, -999.0000,   -999.00,   -999.0, 9,   -999.0,  -999.00, 9,   -999.0,   0.8879, 27.8138,   1.2551, 2, 9, 0.40, 0.13, 0.01, 0.016,  -999.00, 9, -999.00, -999.00, 9, -999.00
49NZ20071122, P14N, 130, 1, 6, X12048, 2, 20071128, 1954, 3.2513, 178.9928, 5350,   4749.3, 2,   1.2684, 2,  34.7034, 2,  34.7033, 2,    186.7, 2,    186.8, 2,   125.66, 2,    33.52, 2,     0.00, 2,     2.34, 2,    0.000, 2,    0.000, 2,    0.000, 2, -999.000, 9,   -999.0, 9,   -999.0, 9, -999.0000,   -999.00,   -999.0, 9,   -999.0,  -999.00, 9,   -999.0,   0.8717, 27.8154,   1.2683, 2, 9, 0.40, 0.13, 0.01, 0.016,  -999.00, 9, -999.00, -999.00, 9, -999.00
49NZ20071122, P14N, 130, 1, 5, X12014, 2, 20071128, 1954, 3.2513, 178.9928, 5350,   4999.7, 2,   1.2770, 2,  34.7044, 2,  34.7045, 2,    189.5, 2,    189.3, 2,   124.22, 2,    33.41, 2,     0.00, 2,     2.33, 2,    0.000, 2,    0.001, 2,    0.000, 2, -999.000, 9,   -999.0, 9,   -999.0, 9, -999.0000,   -999.00,   -999.0, 9,   -999.0,  -999.00, 9,   -999.0,   0.8502, 27.8177,   1.2769, 2, 9, 0.39, 0.13, 0.01, 0.016,  -999.00, 9, -999.00, -999.00, 9, -999.00
49NZ20071122, P14N, 130, 1, 4, X12006, 2, 20071128, 1954, 3.2513, 178.9928, 5350,   5250.4, 2,   1.3001, 2,  34.7049, 2,  34.7053, 2,    190.6, 2,    190.5, 2,   123.38, 2,    33.27, 2,     0.00, 2,     2.33, 2,    0.000, 2,    0.000, 2,    0.000, 2, -999.000, 9,   -999.0, 9,   -999.0, 9, -999.0000,   -999.00,   -999.0, 9,   -999.0,  -999.00, 9,   -999.0,   0.8419, 27.8186,   1.3001, 2, 9, 0.39, 0.13, 0.01, 0.016,  -999.00, 9, -999.00, -999.00, 9, -999.00
49NZ20071122, P14N, 130, 1, 3, X12013, 9, 20071128, 1954, 3.2513, 178.9928, 5350,      9.6, 2,  27.3737, 2,  34.9770, 2, -999.0000, 9,    204.4, 2,   -999.0, 9,  -999.00, 9,  -999.00, 9,  -999.00, 9,  -999.00, 9, -999.000, 9, -999.000, 9, -999.000, 9, -999.000, 9,   -999.0, 9,   -999.0, 9, -999.0000,   -999.00,   -999.0, 9,   -999.0,  -999.00, 9,   -999.0,  27.3715, 22.5813,  27.3754, 2, 9, -999.00, -999.00, -999.00, -999.000,  -999.00, 9, -999.00, -999.00, 9, -999.00
49NZ20071122, P14N, 130, 1, 2, X12002, 9, 20071128, 1954, 3.2513, 178.9928, 5350,     50.1, 2,  27.0696, 2,  35.1709, 2, -999.0000, 9,    196.2, 2,   -999.0, 9,  -999.00, 9,  -999.00, 9,  -999.00, 9,  -999.00, 9, -999.000, 9, -999.000, 9, -999.000, 9, -999.000, 9,   -999.0, 9,   -999.0, 9, -999.0000,   -999.00,   -999.0, 9,   -999.0,  -999.00, 9,   -999.0,  27.0581, 22.8279,  27.0671, 2, 9, -999.00, -999.00, -999.00, -999.000,  -999.00, 9, -999.00, -999.00, 9, -999.00
49NZ20071122, P14N, 130, 1, 1, X12001, 2, 20071128, 1954, 3.2513, 178.9928, 5350,   5454.9, 2,   1.3227, 2,  34.7051, 2,  34.7055, 6,    191.2, 2,    191.0, 2,   123.02, 2,    33.27, 2,     0.00, 2,     2.33, 2,    0.000, 2,    0.000, 2,    0.000, 2, -999.000, 9,   -999.0, 9,   -999.0, 9, -999.0000,   -999.00,   -999.0, 9,   -999.0,  -999.00, 9,   -999.0,   0.8382, 27.8190,   1.3227, 2, 9, 0.39, 0.13, 0.01, 0.016,  -999.00, 9, -999.00, -999.00, 9, -999.00