BOTTLE,20220820CCHSIOAMB
EXPOCODE,SECT_ID,STNNBR,CASTNO,SAMPNO,BTLNBR,BTLNBR_FLAG_W,DATE,TIME,LATITUDE,LONGITUDE,DEPTH,CTDPRS,CTDPRS_FLAG_W,CTDTMP,CTDTMP_FLAG_W,CTDSAL,CTDSAL_FLAG_W,SALNTY,SALNTY_FLAG_W,CTDOXY,CTDOXY_FLAG_W,OXYGEN,OXYGEN_FLAG_W,SILCAT,SILCAT_FLAG_W,NITRAT,NITRAT_FLAG_W,NITRIT,NITRIT_FLAG_W,PHSPHT,PHSPHT_FLAG_W,CFC-11,CFC-11_FLAG_W,CFC-12,CFC-12_FLAG_W,CFC113,CFC113_FLAG_W,CCL4,CCL4_FLAG_W,TCARBN,TCARBN_FLAG_W,ALKALI,ALKALI_FLAG_W,PH_TOT,PH_TMP,DELC14,DELC14_FLAG_W,C14ERR,DELC13,DELC13_FLAG_W,C13ERR,THETA,SIG0,SBE35,SBE35_FLAG_W,PH_TOT_FLAG_W,SILUNC,NRAUNC,NRIUNC,PHPUNC,CS-137,CS-137_FLAG_W,CS137ER,PLUTO,PLUTO_FLAG_W,PLUTOER
,,,,,,,,,,,METERS,DBAR,,ITS-90,,PSS-78,,PSS-78,,UMOL/KG,,UMOL/KG,,UMOL/KG,,UMOL/KG,,UMOL/KG,,UMOL/KG,,PMOL/KG,,PMOL/KG,,PMOL/KG,,PMOL/KG,,UMOL/KG,,UMOL/KG,,,DEG C,/MILLE,,/MILLE,/MILLE,,/MILLE,DEG C,KG/M^3,ITS-90,,,UMOL/KG,UMOL/KG,UMOL/KG,UMOL/KG,DM/.1MG,,BQ/M^3,MBQ/M^3,,MBQ/M^3
49NZ20071122, P14, 52, 1, 36, X12042, 2, 20071213, 1931, -18.5365, 177.9285, 601,      9.1, 2,  28.3256, 2,  34.6272, 2,  34.6277, 2,    200.5, 2,    200.0, 2,     1.03, 2,     0.08, 2,     0.01, 2,     0.10, 2,    1.510, 2,    0.937, 2,    0.299, 4, -999.000, 9,   1925.2, 2,   2269.8, 2,    8.1356,     25.00,   -999.0, 9,   -999.0,  -999.00, 9,   -999.0,  28.3234, 22.0083,  28.3249, 2, 2, 0.12, 0.03, 0.01, 0.022,  -999.00, 9, -999.00, -999.00, 9, -999.00
49NZ20071122, P14, 52, 1, 35, X12041, 2, 20071213, 1931, -18.5365, 177.9285, 601,     49.7, 2,  27.5886, 2,  34.7476, 2,  34.7537, 2,    202.3, 2,    202.8, 2,     0.83, 2,     0.05, 2,     0.01, 2,     0.08, 2,    1.564, 2,    0.972, 2,    0.340, 4, -999.000, 9,   1931.5, 6,   2277.6, 2,    8.1325,     25.00,   -999.0, 9,   -999.0,  -999.00, 9,   -999.0,  27.5770, 22.3423,  27.5873, 2, 2, 0.12, 0.03, 0.01, 0.024,  -999.00, 9, -999.00, -999.00, 9, -999.00
49NZ20071122, P14, 52, 1, 34, X12016, 2, 20071213, 1931, -18.5365, 177.9285, 601,     99.6, 2,  25.2563, 2,  35.4349, 2,  35.4468, 2,    187.4, 2,    187.0, 2,     0.79, 2,     0.47, 2,     0.16, 2,     0.19, 2,    1.748, 2,    1.057, 2,    0.282, 4, -999.000, 9,   2002.1, 2,   2328.0, 6,    8.0820,     25.00,   -999.0, 9,   -999.0,  -999.00, 9,   -999.0,  25.2345, 23.5983,  25.2586, 2, 2, 0.12, 0.03, 0.01, 0.016,  -999.00, 9, -999.00, -999.00, 9, -999.00
49NZ20071122, P14, 52, 1, 33, X12033, 2, 20071213, 1931, -18.5365, 177.9285, 601,    150.4, 2,  23.1203, 2,  35.7220, 2,  35.7271, 2,    165.0, 2,    165.2, 2,     0.90, 2,     2.87, 2,     0.03, 2,     0.37, 2,    1.944, 6,    1.144, 6,    0.122, 4, -999.000, 9,   2056.2, 2,   2346.3, 2,    8.0150,     25.00,   -999.0, 9,   -999.0,  -999.00, 9,   -999.0,  23.0894, 24.4554,  23.1216, 2, 6, 0.12, 0.04, 0.01, 0.014,  -999.00, 9, -999.00, -999.00, 9, -999.00
49NZ20071122, P14, 52, 1, 32, X12038, 2, 20071213, 1931, -18.5365, 177.9285, 601,    200.7, 2,  20.9450, 2,  35.6864, 2,  35.6812, 2,    164.9, 2,    165.5, 2,     1.11, 2,     4.40, 2,     0.02, 2,     0.45, 2,    2.107, 2,    1.213, 2,    0.046, 2, -999.000, 9,   2075.8, 2,   2342.6, 2,    7.9762,     25.00,   -999.0, 9,   -999.0,  -999.00, 9,   -999.0,  20.9065, 25.0420,  20.9306, 2, 2, 0.12, 0.05, 0.01, 0.013,  -999.00, 9, -999.00, -999.00, 9, -999.00
49NZ20071122, P14, 52, 1, 31, X12003, 2, 20071213, 1931, -18.5365, 177.9285, 601,    249.9, 2,  19.2943, 2,  35.5859, 2,  35.5691, 6,    170.7, 2,    171.7, 2,     1.43, 2,     5.18, 2,     0.01, 2,     0.50, 2,    2.217, 2,    1.246, 2,    0.033, 2, -999.000, 9,   2083.5, 2,   2335.8, 2,    7.9519,     25.00,   -999.0, 9,   -999.0,  -999.00, 9,   -999.0,  19.2490, 25.4050,  19.2902, 2, 2, 0.12, 0.05, 0.01, 0.013,  -999.00, 9, -999.00, -999.00, 9, -999.00
49NZ20071122, P14, 52, 1, 30, X12008, 2, 20071213, 1931, -18.5365, 177.9285, 601,    280.0, 2,  17.8992, 2,  35.4638, 2,  35.4547, 2,    175.5, 2,    175.8, 2,     1.75, 2,     6.09, 2,     0.02, 2,     0.56, 2,    2.266, 2,    1.259, 2,    0.030, 2, -999.000, 9,   2091.3, 2,   2326.8, 2,    7.9309,     25.00,   -999.0, 9,   -999.0,  -999.00, 9,   -999.0,  17.8511, 25.6641,  17.9004, 2, 2, 0.12, 0.05, 0.01, 0.013,  -999.00, 9, -999.00, -999.00, 9, -999.00
49NZ20071122, P14, 52, 1, 29, X12035, 2, 20071213, 1931, -18.5365, 177.9285, 601,    370.4, 2,  14.1862, 2,  35.1018, 2,  35.0885, 2,    179.9, 2,    180.2, 2,     3.84, 2,    11.32, 2,     0.01, 2,     0.90, 2,    2.197, 2,    1.166, 2,    0.028, 2, -999.000, 9,   2112.3, 2,   2309.3, 2,    7.8530,     25.00,   -999.0, 9,   -999.0,  -999.00, 9,   -999.0,  14.1318, 26.2380,  14.1859, 2, 2, 0.13, 0.06, 0.01, 0.013,  -999.00, 9, -999.00, -999.00, 9, -999.00
49NZ20071122, P14, 52, 1, 28, X12034, 2, 20071213, 1931, -18.5365, 177.9285, 601,    470.0, 2,   8.9862, 2,  34.5910, 2,  34.5892, 6,    191.0, 2,    191.7, 2,    10.14, 2,    21.12, 2,     0.01, 2,     1.51, 2,    1.674, 2,    0.835, 2,    0.035, 2, -999.000, 9,   2147.5, 2,   2292.5, 2,    7.7378,     25.00,   -999.0, 9,   -999.0,  -999.00, 9,   -999.0,   8.9347, 26.8083,   8.9877, 2, 2, 0.14, 0.09, 0.01, 0.014,  -999.00, 9, -999.00, -999.00, 9, -999.00
49NZ20071122, P14, 52, 1, 27, X12049, 2, 20071213, 1931, -18.5365, 177.9285, 601,    571.3, 2,   6.7599, 2,  34.4203, 2,  34.4220, 2,    198.1, 2,    198.2, 2,    16.53, 2,    25.89, 2,     0.01, 2,     1.82, 2,    1.122, 2,    0.549, 2,    0.026, 2, -999.000, 9,   2166.9, 2,   2291.1, 2,    7.6926,     25.00,   -999.0, 9,   -999.0,  -999.00, 9,   -999.0,   6.7065, 27.0021,   6.7590, 2, 2, 0.16, 0.11, 0.01, 0.015,  -999.00, 9, -999.00, -999.00, 9, -999.00
49NZ20071122, P14, 52, 1, 19, X12025, 9, 20071213, 1931, -18.5365, 177.9285, 601,    470.3, 2,   8.9950, 2,  34.5924, 2, -999.0000, 9,    191.0, 2,   -999.0, 9,  -999.00, 9,  -999.00, 9,  -999.00, 9,  -999.00, 9, -999.000, 9, -999.000, 9, -999.000, 9, -999.000, 9,   -999.0, 9,   -999.0, 9, -999.0000,   -999.00,   -999.0, 9,   -999.0,  -999.00, 9,   -999.0,   8.9434, 26.8080,   8.9935, 2, 9, -999.00, -999.00, -999.00, -999.000,  -999.00, 9, -999.00, -999.00, 9, -999.00
49NZ20071122, P14, 52, 1, 18, X12024, 9, 20071213, 1931, -18.5365, 177.9285, 601,      9.3, 2,  28.3268, 2,  34.6271, 2, -999.0000, 9,    200.6, 2,   -999.0, 9,  -999.00, 9,  -999.00, 9,  -999.00, 9,  -999.00, 9, -999.000, 9, -999.000, 9, -999.000, 9, -999.000, 9,   -999.0, 9,   -999.0, 9, -999.0000,   -999.00,   -999.0, 9,   -999.0,  -999.00, 9,   -999.0,  28.3246, 22.0079,  28.3256, 2, 9, -999.00, -999.00, -999.00, -999.000,  -999.00, 9, -999.00, -999.00, 9, -999.00
49NZ20071122, P14, 52, 1, 17, X12023, 9, 20071213, 1931, -18.5365, 177.9285, 601,     49.7, 2,  27.5822, 2,  34.7471, 2, -999.0000, 9,    202.2, 2,   -999.0, 9,  -999.00, 9,  -999.00, 9,  -999.00, 9,  -999.00, 9, -999.000, 9, -999.000, 9, -999.000, 9, -999.000, 9,   -999.0, 9,   -999.0, 9, -999.0000,   -999.00,   -999.0, 9,   -999.0,  -999.00, 9,   -999.0,  27.5706, 22.3440,  27.5805, 2, 9, -999.00, -999.00, -999.00, -999.000,  -999.00, 9, -999.00, -999.00, 9, -999.00
49NZ20071122, P14, 52, 1, 16, X12022, 9, 20071213, 1931, -18.5365, 177.9285, 601,     99.4, 2,  25.2218, 2,  35.4414, 2, -999.0000, 9,    185.4, 2,   -999.0, 9,  -999.00, 9,  -999.00, 9,  -999.00, 9,  -999.00, 9, -999.000, 9, -999.000, 9, -999.000, 9, -999.000, 9,   -999.0, 9,   -999.0, 9, -999.0000,   -999.00,   -999.0, 9,   -999.0,  -999.00, 9,   -999.0,  25.2001, 23.6137,  25.2188, 2, 9, -999.00, -999.00, -999.00, -999.000,  -999.00, 9, -999.00, -999.00, 9, -999.00
49NZ20071122, P14, 52, 1, 15, X12021, 9, 20071213, 1931, -18.5365, 177.9285, 601,    150.3, 2,  23.1290, 2,  35.7216, 2, -999.0000, 9,    165.1, 2,   -999.0, 9,  -999.00, 9,  -999.00, 9,  -999.00, 9,  -999.00, 9, -999.000, 9, -999.000, 9, -999.000, 9, -999.000, 9,   -999.0, 9,   -999.0, 9, -999.0000,   -999.00,   -999.0, 9,   -999.0,  -999.00, 9,   -999.0,  23.0981, 24.4526,  23.1259, 2, 9, -999.00, -999.00, -999.00, -999.000,  -999.00, 9, -999.00, -999.00, 9, -999.00
49NZ20071122, P14, 52, 1, 14, X12020, 9, 20071213, 1931, -18.5365, 177.9285, 601,    200.3, 2,  20.8459, 2,  35.6827, 2, -999.0000, 9,    165.1, 2,   -999.0, 9,  -999.00, 9,  -999.00, 9,  -999.00, 9,  -999.00, 9, -999.000, 9, -999.000, 9, -999.000, 9, -999.000, 9,   -999.0, 9,   -999.0, 9, -999.0000,   -999.00,   -999.0, 9,   -999.0,  -999.00, 9,   -999.0,  20.8076, 25.0662,  20.8731, 2, 9, -999.00, -999.00, -999.00, -999.000,  -999.00, 9, -999.00, -999.00, 9, -999.00
49NZ20071122, P14, 52, 1, 13, X12019, 9, 20071213, 1931, -18.5365, 177.9285, 601,    249.6, 2,  19.2657, 2,  35.5818, 2, -999.0000, 9,    170.8, 2,   -999.0, 9,  -999.00, 9,  -999.00, 9,  -999.00, 9,  -999.00, 9, -999.000, 9, -999.000, 9, -999.000, 9, -999.000, 9,   -999.0, 9,   -999.0, 9, -999.0000,   -999.00,   -999.0, 9,   -999.0,  -999.00, 9,   -999.0,  19.2205, 25.4093,  19.2697, 2, 9, -999.00, -999.00, -999.00, -999.000,  -999.00, 9, -999.00, -999.00, 9, -999.00
49NZ20071122, P14, 52, 1, 12, X12040, 9, 20071213, 1931, -18.5365, 177.9285, 601,    280.2, 2,  17.8958, 2,  35.4624, 2, -999.0000, 9,    175.5, 2,   -999.0, 9,  -999.00, 9,  -999.00, 9,  -999.00, 9,  -999.00, 9, -999.000, 9, -999.000, 9, -999.000, 9, -999.000, 9,   -999.0, 9,   -999.0, 9, -999.0000,   -999.00,   -999.0, 9,   -999.0,  -999.00, 9,   -999.0,  17.8476, 25.6639,  17.8955, 2, 9, -999.00, -999.00, -999.00, -999.000,  -999.00, 9, -999.00, -999.00, 9, -999.00
49NZ20071122, P14, 52, 1, 11, X12047, 9, 20071213, 1931, -18.5365, 177.9285, 601,    369.9, 2,  14.1764, 2,  35.1009, 2, -999.0000, 9,    179.9, 2,   -999.0, 9,  -999.00, 9,  -999.00, 9,  -999.00, 9,  -999.00, 9, -999.000, 9, -999.000, 9, -999.000, 9, -999.000, 9,   -999.0, 9,   -999.0, 9, -999.0000,   -999.00,   -999.0, 9,   -999.0,  -999.00, 9,   -999.0,  14.1221, 26.2393,  14.1777, 2, 9, -999.00, -999.00, -999.00, -999.000,  -999.00, 9, -999.00, -999.00, 9, -999.00
49NZ20071122, P14, 52, 1, 10, X12012, 9, 20071213, 1931, -18.5365, 177.9285, 601,    470.3, 2,   8.9975, 2,  34.5921, 2, -999.0000, 9,    191.0, 2,   -999.0, 9,  -999.00, 9,  -999.00, 9,  -999.00, 9,  -999.00, 9, -999.000, 9, -999.000, 9, -999.000, 9, -999.000, 9,   -999.0, 9,   -999.0, 9, -999.0000,   -999.00,   -999.0, 9,   -999.0,  -999.00, 9,   -999.0,   8.9459, 26.8073,   8.9985, 2, 9, -999.00, -999.00, -999.00, -999.000,  -999.00, 9, -999.00, -999.00, 9, -999.00
49NZ20071122, P14, 52, 1, 1, X12001, 2, 20071213, 1931, -18.5365, 177.9285, 601,    620.6, 2,   6.5294, 2,  34.4120, 2,  34.4144, 6,    195.3, 2,    196.8, 2,    18.27, 2,    26.54, 2,     0.01, 2,     1.86, 2,    1.031, 2,    0.506, 2,    0.017, 2, -999.000, 9,   2169.0, 2,   2292.2, 2,    7.6857,     25.00,   -999.0, 9,   -999.0,  -999.00, 9,   -999.0,   6.4723, 27.0269,   6.5153, 2, 2, 0.16, 0.11, 0.01, 0.015,  -999.00, 9, -999.00, -999.00, 9, -999.00