BOTTLE,20220820CCHSIOAMB
EXPOCODE,SECT_ID,STNNBR,CASTNO,SAMPNO,BTLNBR,BTLNBR_FLAG_W,DATE,TIME,LATITUDE,LONGITUDE,DEPTH,CTDPRS,CTDPRS_FLAG_W,CTDTMP,CTDTMP_FLAG_W,CTDSAL,CTDSAL_FLAG_W,SALNTY,SALNTY_FLAG_W,CTDOXY,CTDOXY_FLAG_W,OXYGEN,OXYGEN_FLAG_W,SILCAT,SILCAT_FLAG_W,NITRAT,NITRAT_FLAG_W,NITRIT,NITRIT_FLAG_W,PHSPHT,PHSPHT_FLAG_W,CFC-11,CFC-11_FLAG_W,CFC-12,CFC-12_FLAG_W,CFC113,CFC113_FLAG_W,CCL4,CCL4_FLAG_W,TCARBN,TCARBN_FLAG_W,ALKALI,ALKALI_FLAG_W,PH_TOT,PH_TMP,DELC14,DELC14_FLAG_W,C14ERR,DELC13,DELC13_FLAG_W,C13ERR,THETA,SIG0,SBE35,SBE35_FLAG_W,PH_TOT_FLAG_W,SILUNC,NRAUNC,NRIUNC,PHPUNC,CS-137,CS-137_FLAG_W,CS137ER,PLUTO,PLUTO_FLAG_W,PLUTOER
,,,,,,,,,,,METERS,DBAR,,ITS-90,,PSS-78,,PSS-78,,UMOL/KG,,UMOL/KG,,UMOL/KG,,UMOL/KG,,UMOL/KG,,UMOL/KG,,PMOL/KG,,PMOL/KG,,PMOL/KG,,PMOL/KG,,UMOL/KG,,UMOL/KG,,,DEG C,/MILLE,,/MILLE,/MILLE,,/MILLE,DEG C,KG/M^3,ITS-90,,,UMOL/KG,UMOL/KG,UMOL/KG,UMOL/KG,DM/.1MG,,BQ/M^3,MBQ/M^3,,MBQ/M^3
49NZ20071122, P14, 28, 1, 36, X12042, 2, 20071217, 2252, -25.2347, 176.8073, 4477,     10.3, 2,  23.6068, 2,  35.2769, 2,  35.2787, 2,    215.1, 2,    214.6, 2,     0.52, 2,     0.04, 2,     0.00, 2,     0.07, 2,    1.848, 2,    1.112, 2,    0.257, 4, -999.000, 9,   1988.4, 2,   2315.5, 2,    8.0852,     25.00,   -999.0, 1,   -999.0,  -999.00, 1,   -999.0,  23.6047, 23.9677,  23.6111, 2, 6, 0.12, 0.03, 0.01, 0.028,  -999.00, 9, -999.00, -999.00, 9, -999.00
49NZ20071122, P14, 28, 1, 35, X12041, 2, 20071217, 2252, -25.2347, 176.8073, 4477,     50.2, 2,  23.0034, 2,  35.4367, 2,  35.4494, 2,    219.0, 2,    218.3, 2,     0.48, 2,     0.06, 2,     0.00, 2,     0.06, 2,    1.912, 2,    1.145, 2,    0.308, 4, -999.000, 9,   2002.3, 6,   2325.8, 2,    8.0765,     25.00,   -999.0, 1,   -999.0,  -999.00, 1,   -999.0,  22.9931, 24.2668,  23.0036, 2, 2, 0.12, 0.03, 0.01, 0.029,  -999.00, 9, -999.00, -999.00, 9, -999.00
49NZ20071122, P14, 28, 1, 34, X12016, 2, 20071217, 2252, -25.2347, 176.8073, 4477,    100.1, 2,  20.4269, 2,  35.6903, 2,  35.6921, 2,    216.2, 2,    218.4, 2,     0.54, 2,     0.06, 2,     0.01, 2,     0.11, 2,    2.103, 2,    1.242, 2,    0.276, 4, -999.000, 9,   2034.0, 2,   2341.1, 6,    8.0448,     25.00,   -999.0, 1,   -999.0,  -999.00, 1,   -999.0,  20.4081, 25.1797,  20.4276, 2, 2, 0.12, 0.03, 0.01, 0.021,  -999.00, 9, -999.00, -999.00, 9, -999.00
49NZ20071122, P14, 28, 1, 33, X12033, 2, 20071217, 2252, -25.2347, 176.8073, 4477,    150.2, 2,  19.1099, 2,  35.6962, 2,  35.6944, 2,    195.7, 2,    199.3, 2,     0.77, 2,     2.54, 2,     0.03, 2,     0.28, 2,    2.218, 6,    1.284, 6,    0.148, 4, -999.000, 9,   2061.9, 2,   2341.0, 2,    7.9939,     25.00,   -999.0, 1,   -999.0,  -999.00, 1,   -999.0,  19.0829, 25.5322,  19.1154, 2, 2, 0.12, 0.04, 0.01, 0.014,  -999.00, 9, -999.00, -999.00, 9, -999.00
49NZ20071122, P14, 28, 1, 32, X12038, 2, 20071217, 2252, -25.2347, 176.8073, 4477,    198.5, 2,  18.0013, 2,  35.6248, 2,  35.6214, 2,    195.1, 2,    194.9, 2,     1.07, 2,     4.00, 2,     0.01, 2,     0.38, 2,    2.314, 2,    1.314, 2,    0.077, 2, -999.000, 9,   2074.2, 2,   2335.8, 2,    7.9634,     25.00,   -999.0, 1,   -999.0,  -999.00, 1,   -999.0,  17.9671, 25.7588,  18.0023, 2, 2, 0.12, 0.04, 0.01, 0.013,  -999.00, 9, -999.00, -999.00, 9, -999.00
49NZ20071122, P14, 28, 1, 31, X12003, 2, 20071217, 2252, -25.2347, 176.8073, 4477,    250.2, 2,  16.9753, 2,  35.5374, 2,  35.5358, 6,    194.7, 2,    195.3, 2,     1.35, 2,     5.18, 2,     0.01, 2,     0.47, 2,    2.387, 2,    1.339, 2,    0.066, 2, -999.000, 9,   2082.7, 2,   2330.8, 2,    7.9414,     25.00,   -999.0, 1,   -999.0,  -999.00, 1,   -999.0,  16.9338, 25.9426,  16.9777, 2, 2, 0.12, 0.05, 0.01, 0.013,  -999.00, 9, -999.00, -999.00, 9, -999.00
49NZ20071122, P14, 28, 1, 30, X12008, 2, 20071217, 2252, -25.2347, 176.8073, 4477,    279.8, 2,  16.3780, 2,  35.4764, 2,  35.4701, 2,    194.5, 2,    195.3, 2,     1.57, 2,     5.99, 2,     0.01, 2,     0.52, 2,    2.430, 2,    1.355, 2,    0.058, 2, -999.000, 9,   2087.4, 2,   2326.0, 2,    7.9265,     25.00,   -999.0, 1,   -999.0,  -999.00, 1,   -999.0,  16.3327, 26.0372,  16.3773, 2, 2, 0.12, 0.05, 0.01, 0.013,  -999.00, 9, -999.00, -999.00, 9, -999.00
49NZ20071122, P14, 28, 1, 29, X12035, 2, 20071217, 2252, -25.2347, 176.8073, 4477,    370.6, 2,  13.8223, 2,  35.1641, 2,  35.1598, 2,    192.4, 2,    193.4, 2,     2.82, 2,    10.17, 2,     0.00, 2,     0.80, 2,    2.499, 2,    1.327, 2,    0.055, 2, -999.000, 9,   2109.1, 2,   2313.3, 2,    7.8614,     25.00,   -999.0, 1,   -999.0,  -999.00, 1,   -999.0,  13.7688, 26.3625,  13.8228, 2, 2, 0.13, 0.06, 0.01, 0.013,  -999.00, 9, -999.00, -999.00, 9, -999.00
49NZ20071122, P14, 28, 1, 28, X12034, 2, 20071217, 2252, -25.2347, 176.8073, 4477,    470.5, 2,  10.5934, 2,  34.7727, 2,  34.7666, 6,    200.5, 2,    201.4, 2,     4.79, 2,    16.01, 2,     0.00, 2,     1.18, 2,    2.505, 2,    1.277, 2,    0.071, 2, -999.000, 9,   2128.5, 2,   2296.8, 2,    7.7881,     25.00,   -999.0, 1,   -999.0,  -999.00, 1,   -999.0,  10.5362, 26.6814,  10.5944, 2, 2, 0.13, 0.08, 0.01, 0.013,  -999.00, 9, -999.00, -999.00, 9, -999.00
49NZ20071122, P14, 28, 1, 27, X12049, 2, 20071217, 2252, -25.2347, 176.8073, 4477,    572.0, 2,   8.2721, 2,  34.5211, 2,  34.5207, 2,    212.5, 2,    213.0, 2,     7.19, 2,    20.66, 2,     0.00, 2,     1.47, 2,    2.316, 2,    1.134, 2,    0.077, 2, -999.000, 9,   2140.1, 2,   2287.4, 2,    7.7434,     25.00,   -999.0, 1,   -999.0,  -999.00, 1,   -999.0,   8.2121, 26.8658,   8.2733, 2, 2, 0.13, 0.09, 0.01, 0.014,  -999.00, 9, -999.00, -999.00, 9, -999.00
49NZ20071122, P14, 28, 1, 26, X12032, 2, 20071217, 2252, -25.2347, 176.8073, 4477,    669.1, 2,   7.2049, 2,  34.4262, 2,  34.4209, 2,    219.4, 2,    219.7, 2,     9.44, 2,    23.16, 2,     0.00, 2,     1.62, 2,    1.990, 6,    0.954, 6,    0.059, 6, -999.000, 9,   2148.2, 6,   2286.3, 2,    7.7244,     25.00,   -999.0, 1,   -999.0,  -999.00, 1,   -999.0,   7.1397, 26.9474,   7.2083, 2, 2, 0.14, 0.10, 0.01, 0.014,  -999.00, 9, -999.00, -999.00, 9, -999.00
49NZ20071122, P14, 28, 1, 25, X12043, 2, 20071217, 2252, -25.2347, 176.8073, 4477,    769.9, 2,   6.3031, 2,  34.3720, 2,  34.3711, 2,    215.8, 2,    215.2, 2,    14.15, 2,    25.66, 2,     0.00, 2,     1.79, 2,    1.309, 2,    0.628, 2,    0.043, 2, -999.000, 9,   2157.1, 2,   2288.5, 6,    7.7018,     25.00,   -999.0, 1,   -999.0,  -999.00, 1,   -999.0,   6.2328, 27.0266,   6.3035, 2, 2, 0.15, 0.10, 0.01, 0.015,  -999.00, 9, -999.00, -999.00, 9, -999.00
49NZ20071122, P14, 28, 1, 24, X12030, 2, 20071217, 2252, -25.2347, 176.8073, 4477,    869.6, 2,   5.3525, 2,  34.3575, 2,  34.3576, 2,    204.3, 2,    201.7, 2,    24.30, 2,    28.92, 2,     0.00, 2,     2.01, 2,    0.652, 2,    0.319, 2,    0.016, 2, -999.000, 9,   2178.7, 2,   2295.9, 2,    7.6664,     25.00,   -999.0, 1,   -999.0,  -999.00, 1,   -999.0,   5.2787, 27.1333,   5.3525, 2, 6, 0.17, 0.11, 0.01, 0.015,  -999.00, 9, -999.00, -999.00, 9, -999.00
49NZ20071122, P14, 28, 1, 23, X12027, 2, 20071217, 2252, -25.2347, 176.8073, 4477,    971.5, 2,   4.7019, 2,  34.3827, 2,  34.3834, 6,    189.1, 2,    187.6, 2,    35.93, 2,    31.11, 2,     0.00, 2,     2.17, 2,    0.304, 2,    0.156, 2,    0.007, 2, -999.000, 9,   2200.4, 2,   2309.1, 2,    7.6387,     25.00,   -999.0, 1,   -999.0,  -999.00, 1,   -999.0,   4.6236, 27.2283,   4.7027, 2, 2, 0.20, 0.12, 0.01, 0.015,  -999.00, 9, -999.00, -999.00, 9, -999.00
49NZ20071122, P14, 28, 1, 22, X12028, 2, 20071217, 2252, -25.2347, 176.8073, 4477,   1130.9, 2,   3.8022, 2,  34.4616, 2,  34.4622, 2,    173.5, 2,    170.7, 2,    59.35, 2,    33.24, 2,     0.00, 2,     2.33, 2,    0.089, 2,    0.046, 2,    0.000, 2, -999.000, 9,   2235.5, 2,   2333.6, 2,    7.6118,     25.00,   -999.0, 1,   -999.0,  -999.00, 1,   -999.0,   3.7173, 27.3867,   3.8016, 2, 2, 0.25, 0.13, 0.01, 0.016,  -999.00, 9, -999.00, -999.00, 9, -999.00
49NZ20071122, P14, 28, 1, 21, X12009, 2, 20071217, 2252, -25.2347, 176.8073, 4477,   1329.6, 2,   3.1530, 2,  34.5457, 2,  34.5466, 2,    157.8, 2,    157.3, 2,    83.18, 2,    34.46, 2,     0.00, 2,     2.43, 2,    0.023, 2,    0.012, 2,    0.000, 2, -999.000, 9,   2266.0, 2,   2362.1, 2,    7.5980,     25.00,   -999.0, 1,   -999.0,  -999.00, 1,   -999.0,   3.0577, 27.5171,   3.1531, 2, 2, 0.30, 0.13, 0.01, 0.016,  -999.00, 9, -999.00, -999.00, 9, -999.00
49NZ20071122, P14, 28, 1, 20, X12026, 2, 20071217, 2252, -25.2347, 176.8073, 4477,   1530.3, 2,   2.8084, 2,  34.5841, 2,  34.5846, 2,    153.3, 2,    153.4, 2,    94.64, 2,    35.05, 2,     0.00, 2,     2.47, 2,    0.009, 2,    0.005, 2,    0.000, 2, -999.000, 9,   2279.9, 2,   2374.4, 2,    7.5938,     25.00,   -999.0, 1,   -999.0,  -999.00, 1,   -999.0,   2.7003, 27.5800,   2.8082, 2, 6, 0.33, 0.13, 0.01, 0.016,  -999.00, 9, -999.00, -999.00, 9, -999.00
49NZ20071122, P14, 28, 1, 19, X12025, 2, 20071217, 2252, -25.2347, 176.8073, 4477,   1731.6, 2,   2.5091, 2,  34.6131, 2,  34.6126, 2,    152.1, 2,    152.2, 2,   102.89, 2,    35.18, 2,     0.00, 2,     2.48, 2,    0.005, 2,    0.003, 2,    0.000, 2, -999.000, 9,   2289.6, 2,   2382.5, 2,    7.5919,     25.00,   -999.0, 1,   -999.0,  -999.00, 1,   -999.0,   2.3879, 27.6301,   2.5090, 2, 2, 0.35, 0.13, 0.01, 0.016,  -999.00, 9, -999.00, -999.00, 9, -999.00
49NZ20071122, P14, 28, 1, 18, X12024, 2, 20071217, 2252, -25.2347, 176.8073, 4477,   1932.1, 2,   2.3151, 2,  34.6316, 2,  34.6317, 2,    151.1, 2,    151.2, 2,   108.84, 2,    35.31, 2,     0.00, 2,     2.50, 2,    0.001, 2,    0.001, 2,    0.000, 2, -999.000, 9,   2295.6, 2,   2388.0, 2,    7.5909,     25.00,   -999.0, 1,   -999.0,  -999.00, 1,   -999.0,   2.1797, 27.6621,   2.3151, 2, 2, 0.36, 0.13, 0.01, 0.016,  -999.00, 9, -999.00, -999.00, 9, -999.00
49NZ20071122, P14, 28, 1, 17, X12023, 2, 20071217, 2252, -25.2347, 176.8073, 4477,   2130.7, 2,   2.1779, 2,  34.6447, 2,  34.6444, 6,    150.9, 2,    150.9, 2,   112.80, 2,    35.47, 2,     0.00, 2,     2.51, 2,    0.000, 2,    0.000, 2,    0.000, 2, -999.000, 9,   2300.6, 2,   2394.3, 2,    7.5906,     25.00,   -999.0, 1,   -999.0,  -999.00, 1,   -999.0,   2.0275, 27.6848,   2.1767, 2, 2, 0.37, 0.13, 0.01, 0.016,  -999.00, 9, -999.00, -999.00, 9, -999.00
49NZ20071122, P14, 28, 1, 16, X12022, 2, 20071217, 2252, -25.2347, 176.8073, 4477,   2331.6, 2,   2.0715, 2,  34.6556, 2,  34.6551, 2,    151.5, 2,    151.8, 2,   115.60, 2,    35.43, 2,     0.00, 2,     2.50, 2,    0.000, 2,    0.000, 2,    0.000, 2, -999.000, 9,   2303.5, 6,   2398.3, 2,    7.5915,     25.00,   -999.0, 1,   -999.0,  -999.00, 1,   -999.0,   1.9051, 27.7032,   2.0716, 2, 2, 0.37, 0.13, 0.01, 0.016,  -999.00, 9, -999.00, -999.00, 9, -999.00
49NZ20071122, P14, 28, 1, 15, X12021, 2, 20071217, 2252, -25.2347, 176.8073, 4477,   2531.0, 2,   1.9917, 2,  34.6638, 2,  34.6635, 2,    152.5, 2,    152.7, 2,   117.39, 2,    35.34, 2,     0.00, 2,     2.50, 2,    0.001, 2,    0.000, 2,    0.000, 2, -999.000, 9,   2306.0, 2,   2399.3, 6,    7.5922,     25.00,   -999.0, 1,   -999.0,  -999.00, 1,   -999.0,   1.8087, 27.7173,   1.9917, 2, 2, 0.38, 0.13, 0.01, 0.016,  -999.00, 9, -999.00, -999.00, 9, -999.00
49NZ20071122, P14, 28, 1, 14, X12020, 2, 20071217, 2252, -25.2347, 176.8073, 4477,   2726.5, 2,   1.9210, 2,  34.6708, 2,  34.6708, 2,    153.5, 2,    153.9, 2,   119.15, 2,    35.28, 2,     0.00, 2,     2.49, 2, -999.000, 9, -999.000, 9, -999.000, 9, -999.000, 9,   2307.6, 2,   2402.0, 2,    7.5941,     25.00,   -999.0, 1,   -999.0,  -999.00, 1,   -999.0,   1.7212, 27.7296,   1.9209, 2, 6, 0.38, 0.13, 0.01, 0.016,  -999.00, 9, -999.00, -999.00, 9, -999.00
49NZ20071122, P14, 28, 1, 13, X12019, 2, 20071217, 2252, -25.2347, 176.8073, 4477,   2929.1, 2,   1.8769, 2,  34.6755, 2,  34.6751, 2,    154.1, 2,    154.5, 2,   120.30, 2,    35.30, 2,     0.00, 2,     2.50, 2,    0.000, 2,    0.000, 2,    0.000, 2, -999.000, 9,   2307.4, 2,   2402.6, 2,    7.5945,     25.00,   -999.0, 1,   -999.0,  -999.00, 1,   -999.0,   1.6587, 27.7380,   1.8769, 2, 2, 0.38, 0.13, 0.01, 0.016,  -999.00, 9, -999.00, -999.00, 9, -999.00
49NZ20071122, P14, 28, 1, 12, X12040, 2, 20071217, 2252, -25.2347, 176.8073, 4477,   3170.3, 2,   1.8487, 2,  34.6788, 2,  34.6788, 2,    154.7, 2,    155.1, 2,   121.51, 2,    35.18, 2,     0.00, 2,     2.48, 2, -999.000, 9, -999.000, 9, -999.000, 9, -999.000, 9,   2308.0, 2,   2405.1, 2,    7.5954,     25.00,   -999.0, 1,   -999.0,  -999.00, 1,   -999.0,   1.6074, 27.7445,   1.8487, 2, 2, 0.39, 0.13, 0.01, 0.016,  -999.00, 9, -999.00, -999.00, 9, -999.00
49NZ20071122, P14, 28, 1, 11, X12047, 2, 20071217, 2252, -25.2347, 176.8073, 4477,   3420.9, 2,   1.8387, 2,  34.6812, 2,  34.6807, 2,    155.1, 2,    155.4, 2,   122.25, 2,    35.28, 2,     0.00, 2,     2.49, 2,    0.000, 2,    0.000, 2,    0.000, 2, -999.000, 9,   2307.8, 2,   2405.3, 2,    7.5960,     25.00,   -999.0, 1,   -999.0,  -999.00, 1,   -999.0,   1.5723, 27.7490,   1.8388, 2, 2, 0.39, 0.13, 0.01, 0.016,  -999.00, 9, -999.00, -999.00, 9, -999.00
49NZ20071122, P14, 28, 1, 10, X12012, 2, 20071217, 2252, -25.2347, 176.8073, 4477,   3669.7, 2,   1.8450, 2,  34.6823, 2,  34.6817, 2,    155.5, 2,    155.7, 2,   122.82, 2,    35.29, 2,     0.00, 2,     2.49, 2, -999.000, 9, -999.000, 9, -999.000, 9, -999.000, 9,   2309.0, 2,   2407.2, 2,    7.5972,     25.00,   -999.0, 1,   -999.0,  -999.00, 1,   -999.0,   1.5523, 27.7514,   1.8450, 2, 2, 0.39, 0.13, 0.01, 0.016,  -999.00, 9, -999.00, -999.00, 9, -999.00
49NZ20071122, P14, 28, 1, 9, X12015, 2, 20071217, 2252, -25.2347, 176.8073, 4477,   3920.2, 2,   1.8588, 2,  34.6828, 2,  34.6825, 6,    155.8, 2,    155.9, 2,   123.25, 2,    35.26, 2,     0.00, 2,     2.49, 2,    0.000, 2,    0.000, 2,    0.000, 2, -999.000, 9,   2310.9, 2,   2407.0, 2,    7.5973,     25.00,   -999.0, 1,   -999.0,  -999.00, 1,   -999.0,   1.5386, 27.7528,   1.8588, 2, 2, 0.39, 0.13, 0.01, 0.016,  -999.00, 9, -999.00, -999.00, 9, -999.00
49NZ20071122, P14, 28, 1, 8, X12046, 2, 20071217, 2252, -25.2347, 176.8073, 4477,   4168.9, 2,   1.8798, 2,  34.6831, 2,  34.6831, 2,    156.2, 2,    156.1, 2,   123.35, 2,    35.23, 2,     0.00, 2,     2.49, 2, -999.000, 9, -999.000, 9, -999.000, 9, -999.000, 9,   2309.1, 6,   2406.4, 2,    7.5974,     25.00,   -999.0, 1,   -999.0,  -999.00, 1,   -999.0,   1.5313, 27.7535,   1.8798, 2, 2, 0.39, 0.13, 0.01, 0.016,  -999.00, 9, -999.00, -999.00, 9, -999.00
49NZ20071122, P14, 28, 1, 7, X12044, 2, 20071217, 2252, -25.2347, 176.8073, 4477,   4420.9, 2,   1.9062, 2,  34.6831, 2,  34.6833, 2,    156.4, 2,    156.2, 2,   123.28, 2,    35.25, 2,     0.00, 2,     2.49, 2,    0.000, 2,    0.000, 2,    0.000, 2, -999.000, 9,   2309.9, 2,   2407.0, 6,    7.5972,     25.00,   -999.0, 1,   -999.0,  -999.00, 1,   -999.0,   1.5279, 27.7538,   1.9063, 2, 2, 0.39, 0.13, 0.01, 0.016,  -999.00, 9, -999.00, -999.00, 9, -999.00
49NZ20071122, P14, 28, 1, 6, X12048, 2, 20071217, 2252, -25.2347, 176.8073, 4477,   3920.8, 2,   1.8588, 2,  34.6828, 2, -999.0000, 9,    155.7, 2,   -999.0, 9,  -999.00, 9,  -999.00, 9,  -999.00, 9,  -999.00, 9, -999.000, 9, -999.000, 9, -999.000, 9, -999.000, 9,   -999.0, 9,   -999.0, 9, -999.0000,   -999.00,   -999.0, 9,   -999.0,  -999.00, 9,   -999.0,   1.5386, 27.7528,   1.8589, 2, 9, -999.00, -999.00, -999.00, -999.000,  -999.00, 9, -999.00, -999.00, 9, -999.00
49NZ20071122, P14, 28, 1, 5, X12014, 2, 20071217, 2252, -25.2347, 176.8073, 4477,   3920.6, 2,   1.8588, 2,  34.6827, 2, -999.0000, 9,    155.8, 2,   -999.0, 9,  -999.00, 9,  -999.00, 9,  -999.00, 9,  -999.00, 9, -999.000, 9, -999.000, 9, -999.000, 9, -999.000, 9,   -999.0, 9,   -999.0, 9, -999.0000,   -999.00,   -999.0, 9,   -999.0,  -999.00, 9,   -999.0,   1.5386, 27.7527,   1.8589, 2, 9, -999.00, -999.00, -999.00, -999.000,  -999.00, 9, -999.00, -999.00, 9, -999.00
49NZ20071122, P14, 28, 1, 4, X12006, 2, 20071217, 2252, -25.2347, 176.8073, 4477,   3920.3, 2,   1.8588, 2,  34.6827, 2, -999.0000, 9,    155.8, 2,   -999.0, 9,  -999.00, 9,  -999.00, 9,  -999.00, 9,  -999.00, 9, -999.000, 9, -999.000, 9, -999.000, 9, -999.000, 9,   -999.0, 9,   -999.0, 9, -999.0000,   -999.00,   -999.0, 9,   -999.0,  -999.00, 9,   -999.0,   1.5386, 27.7527,   1.8588, 2, 9, -999.00, -999.00, -999.00, -999.000,  -999.00, 9, -999.00, -999.00, 9, -999.00
49NZ20071122, P14, 28, 1, 3, X12013, 2, 20071217, 2252, -25.2347, 176.8073, 4477,   3920.6, 2,   1.8588, 2,  34.6827, 2, -999.0000, 9,    155.8, 2,   -999.0, 9,  -999.00, 9,  -999.00, 9,  -999.00, 9,  -999.00, 9, -999.000, 9, -999.000, 9, -999.000, 9, -999.000, 9,   -999.0, 9,   -999.0, 9, -999.0000,   -999.00,   -999.0, 9,   -999.0,  -999.00, 9,   -999.0,   1.5386, 27.7527,   1.8588, 2, 9, -999.00, -999.00, -999.00, -999.000,  -999.00, 9, -999.00, -999.00, 9, -999.00
49NZ20071122, P14, 28, 1, 2, X12002, 2, 20071217, 2252, -25.2347, 176.8073, 4477,   3920.6, 2,   1.8588, 2,  34.6828, 2, -999.0000, 9,    155.8, 2,   -999.0, 9,  -999.00, 9,  -999.00, 9,  -999.00, 9,  -999.00, 9, -999.000, 9, -999.000, 9, -999.000, 9, -999.000, 9,   -999.0, 9,   -999.0, 9, -999.0000,   -999.00,   -999.0, 9,   -999.0,  -999.00, 9,   -999.0,   1.5386, 27.7528,   1.8588, 2, 9, -999.00, -999.00, -999.00, -999.000,  -999.00, 9, -999.00, -999.00, 9, -999.00
49NZ20071122, P14, 28, 1, 1, X12001, 2, 20071217, 2252, -25.2347, 176.8073, 4477,   4537.8, 2,   1.9203, 2,  34.6830, 2,  34.6835, 6,    156.3, 2,    156.0, 2,   123.34, 2,    35.26, 2,     0.00, 2,     2.49, 2,    0.000, 2,    0.001, 2,    0.000, 2, -999.000, 9,   2309.6, 2,   2406.5, 2,    7.5979,     25.00,   -999.0, 1,   -999.0,  -999.00, 1,   -999.0,   1.5279, 27.7537,   1.9203, 2, 2, 0.39, 0.13, 0.01, 0.016,  -999.00, 9, -999.00, -999.00, 9, -999.00