BOTTLE,20220820CCHSIOAMB
EXPOCODE,SECT_ID,STNNBR,CASTNO,SAMPNO,BTLNBR,BTLNBR_FLAG_W,DATE,TIME,LATITUDE,LONGITUDE,DEPTH,CTDPRS,CTDPRS_FLAG_W,CTDTMP,CTDTMP_FLAG_W,CTDSAL,CTDSAL_FLAG_W,SALNTY,SALNTY_FLAG_W,CTDOXY,CTDOXY_FLAG_W,OXYGEN,OXYGEN_FLAG_W,SILCAT,SILCAT_FLAG_W,NITRAT,NITRAT_FLAG_W,NITRIT,NITRIT_FLAG_W,PHSPHT,PHSPHT_FLAG_W,CFC-11,CFC-11_FLAG_W,CFC-12,CFC-12_FLAG_W,CFC113,CFC113_FLAG_W,CCL4,CCL4_FLAG_W,TCARBN,TCARBN_FLAG_W,ALKALI,ALKALI_FLAG_W,PH_TOT,PH_TMP,DELC14,DELC14_FLAG_W,C14ERR,DELC13,DELC13_FLAG_W,C13ERR,THETA,SIG0,SBE35,SBE35_FLAG_W,PH_TOT_FLAG_W,SILUNC,NRAUNC,NRIUNC,PHPUNC,CS-137,CS-137_FLAG_W,CS137ER,PLUTO,PLUTO_FLAG_W,PLUTOER
,,,,,,,,,,,METERS,DBAR,,ITS-90,,PSS-78,,PSS-78,,UMOL/KG,,UMOL/KG,,UMOL/KG,,UMOL/KG,,UMOL/KG,,UMOL/KG,,PMOL/KG,,PMOL/KG,,PMOL/KG,,PMOL/KG,,UMOL/KG,,UMOL/KG,,,DEG C,/MILLE,,/MILLE,/MILLE,,/MILLE,DEG C,KG/M^3,ITS-90,,,UMOL/KG,UMOL/KG,UMOL/KG,UMOL/KG,DM/.1MG,,BQ/M^3,MBQ/M^3,,MBQ/M^3
49NZ20071122, P14, 9, 1, 36, X12042, 2, 20071221, 2141, -33.2573, 175.4578, 3737,     10.7, 2,  20.2796, 2,  35.6856, 2,  35.6856, 2,    228.7, 2,    228.8, 2,     0.78, 2,     0.04, 2,     0.01, 2,     0.12, 2,    2.142, 2,    1.277, 2,    0.363, 4, -999.000, 9,   2041.2, 2,   2336.5, 2,    8.0288,     25.00,   -999.0, 9,   -999.0,  -999.00, 9,   -999.0,  20.2776, 25.2110,  20.2805, 2, 2, 0.12, 0.03, 0.01, 0.020,  -999.00, 9, -999.00, -999.00, 9, -999.00
49NZ20071122, P14, 9, 1, 35, X12041, 2, 20071221, 2141, -33.2573, 175.4578, 3737,     50.4, 2,  19.7051, 2,  35.6833, 2,  35.6911, 2,    232.8, 2,    233.6, 2,     0.77, 2,     0.04, 2,     0.01, 2,     0.12, 2,    2.206, 2,    1.309, 2,    0.444, 4, -999.000, 9,   2041.2, 6,   2338.5, 2,    8.0300,     25.00,   -999.0, 9,   -999.0,  -999.00, 9,   -999.0,  19.6959, 25.3632,  19.7060, 2, 2, 0.12, 0.03, 0.01, 0.020,  -999.00, 9, -999.00, -999.00, 9, -999.00
49NZ20071122, P14, 9, 1, 34, X12016, 2, 20071221, 2141, -33.2573, 175.4578, 3737,    100.7, 2,  17.8848, 2,  35.7166, 2,  35.7152, 2,    224.5, 2,    226.4, 2,     0.83, 2,     0.92, 2,     0.26, 2,     0.21, 2,    2.323, 2,    1.366, 2,    0.257, 4, -999.000, 9,   2060.2, 2,   2340.7, 6,    8.0008,     25.00,   -999.0, 9,   -999.0,  -999.00, 9,   -999.0,  17.8675, 25.8538,  17.8859, 2, 2, 0.12, 0.04, 0.01, 0.016,  -999.00, 9, -999.00, -999.00, 9, -999.00
49NZ20071122, P14, 9, 1, 33, X12033, 2, 20071221, 2141, -33.2573, 175.4578, 3737,    152.2, 2,  17.3015, 2,  35.6520, 2,  35.6521, 2,    219.9, 2,    216.5, 2,     1.20, 2,     3.40, 2,     0.02, 2,     0.34, 2,    2.356, 6,    1.368, 6,    0.185, 4, -999.000, 9,   2071.5, 2,   2336.4, 2,    7.9763,     25.00,   -999.0, 9,   -999.0,  -999.00, 9,   -999.0,  17.2760, 25.9485,  17.3028, 2, 6, 0.12, 0.04, 0.01, 0.014,  -999.00, 9, -999.00, -999.00, 9, -999.00
49NZ20071122, P14, 9, 1, 32, X12038, 2, 20071221, 2141, -33.2573, 175.4578, 3737,    199.4, 2,  16.7346, 2,  35.5871, 2,  35.5835, 2,    209.0, 2,    210.5, 2,     1.53, 2,     4.74, 2,     0.02, 2,     0.44, 2,    2.391, 2,    1.389, 2,    0.148, 4, -999.000, 9,   2080.7, 2,   2332.8, 2,    7.9537,     25.00,   -999.0, 9,   -999.0,  -999.00, 9,   -999.0,  16.7019, 26.0358,  16.7344, 2, 2, 0.12, 0.05, 0.01, 0.013,  -999.00, 9, -999.00, -999.00, 9, -999.00
49NZ20071122, P14, 9, 1, 31, X12003, 2, 20071221, 2141, -33.2573, 175.4578, 3737,    249.8, 2,  15.9039, 2,  35.4885, 2,  35.4883, 6,    203.4, 2,    203.3, 2,     2.11, 2,     6.52, 2,     0.02, 2,     0.55, 2,    2.435, 2,    1.388, 2,    0.117, 4, -999.000, 9,   2090.6, 2,   2328.3, 2,    7.9247,     25.00,   -999.0, 9,   -999.0,  -999.00, 9,   -999.0,  15.8643, 26.1546,  15.9048, 2, 2, 0.12, 0.05, 0.01, 0.013,  -999.00, 9, -999.00, -999.00, 9, -999.00
49NZ20071122, P14, 9, 1, 30, X12008, 2, 20071221, 2141, -33.2573, 175.4578, 3737,    300.0, 2,  14.8987, 2,  35.3739, 2,  35.3714, 2,    199.0, 2,    199.3, 2,     2.65, 2,     8.37, 2,     0.02, 2,     0.67, 2,    2.475, 2,    1.383, 2,    0.087, 2, -999.000, 9,   2102.8, 2,   2321.5, 2,    7.8951,     25.00,   -999.0, 9,   -999.0,  -999.00, 9,   -999.0,  14.8532, 26.2926,  14.9009, 2, 2, 0.12, 0.06, 0.01, 0.013,  -999.00, 9, -999.00, -999.00, 9, -999.00
49NZ20071122, P14, 9, 1, 29, X12035, 2, 20071221, 2141, -33.2573, 175.4578, 3737,    399.4, 2,  12.9611, 2,  35.1471, 2,  35.1444, 2,    197.4, 2,    197.3, 2,     4.34, 2,    12.17, 2,     0.02, 2,     0.91, 2,    2.405, 2,    1.311, 2,    0.068, 2, -999.000, 9,   2120.6, 2,   2311.0, 2,    7.8431,     25.00,   -999.0, 9,   -999.0,  -999.00, 9,   -999.0,  12.9058, 26.5258,  12.9603, 2, 2, 0.13, 0.07, 0.01, 0.013,  -999.00, 9, -999.00, -999.00, 9, -999.00
49NZ20071122, P14, 9, 1, 28, X12034, 2, 20071221, 2141, -33.2573, 175.4578, 3737,    499.7, 2,  11.2234, 2,  34.9343, 2,  34.9239, 6,    197.0, 2,    197.0, 2,     6.41, 2,    15.95, 2,     0.01, 2,     1.16, 2,    2.336, 2,    1.236, 2,    0.076, 2, -999.000, 9,   2133.8, 2,   2302.6, 2,    7.7959,     25.00,   -999.0, 9,   -999.0,  -999.00, 9,   -999.0,  11.1602, 26.6952,  11.2240, 2, 2, 0.13, 0.08, 0.01, 0.013,  -999.00, 9, -999.00, -999.00, 9, -999.00
49NZ20071122, P14, 9, 1, 27, X12049, 2, 20071221, 2141, -33.2573, 175.4578, 3737,    602.5, 2,   9.6251, 2,  34.7806, 2,  34.7858, 2,    197.9, 2,    197.7, 2,    11.46, 2,    19.27, 2,     0.01, 2,     1.38, 2,    1.954, 2,    1.023, 2,    0.072, 2, -999.000, 9,   2146.3, 2,   2301.8, 2,    7.7641,     25.00,   -999.0, 9,   -999.0,  -999.00, 9,   -999.0,   9.5556, 26.8556,   9.6264, 2, 2, 0.14, 0.09, 0.01, 0.014,  -999.00, 9, -999.00, -999.00, 9, -999.00
49NZ20071122, P14, 9, 1, 26, X12032, 2, 20071221, 2141, -33.2573, 175.4578, 3737,    701.8, 2,   8.7024, 2,  34.6791, 2,  34.6803, 2,    197.8, 2,    197.8, 2,    13.96, 2,    21.44, 2,     0.01, 2,     1.52, 2,    1.776, 6,    0.913, 6,    0.066, 6, -999.000, 9,   2154.8, 6,   2300.1, 2,    7.7416,     25.00,   -999.0, 9,   -999.0,  -999.00, 9,   -999.0,   8.6258, 26.9261,   8.7036, 2, 2, 0.15, 0.09, 0.01, 0.014,  -999.00, 9, -999.00, -999.00, 9, -999.00
49NZ20071122, P14, 9, 1, 25, X12043, 2, 20071221, 2141, -33.2573, 175.4578, 3737,    800.8, 2,   7.6169, 2,  34.5669, 2,  34.5646, 2,    198.7, 2,    198.0, 2,    17.31, 2,    23.93, 2,     0.01, 2,     1.69, 2,    1.492, 2,    0.748, 2,    0.053, 2, -999.000, 9,   2164.1, 2,   2297.7, 6,    7.7146,     25.00,   -999.0, 9,   -999.0,  -999.00, 9,   -999.0,   7.5355, 27.0019,   7.6180, 2, 2, 0.16, 0.10, 0.01, 0.014,  -999.00, 9, -999.00, -999.00, 9, -999.00
49NZ20071122, P14, 9, 1, 24, X12030, 2, 20071221, 2141, -33.2573, 175.4578, 3737,    901.9, 2,   6.7006, 2,  34.4809, 2,  34.4818, 2,    199.0, 2,    199.9, 2,    20.38, 2,    25.77, 2,     0.01, 2,     1.80, 2,    1.187, 2,    0.590, 2,    0.038, 2, -999.000, 9,   2170.7, 2,   2296.6, 2,    7.6970,     25.00,   -999.0, 9,   -999.0,  -999.00, 9,   -999.0,   6.6146, 27.0623,   6.7028, 2, 6, 0.16, 0.10, 0.01, 0.015,  -999.00, 9, -999.00, -999.00, 9, -999.00
49NZ20071122, P14, 9, 1, 23, X12027, 2, 20071221, 2141, -33.2573, 175.4578, 3737,    998.8, 2,   6.1034, 2,  34.4809, 2,  34.4806, 6,    195.1, 2,    191.3, 2,    28.89, 2,    27.57, 2,     0.01, 2,     1.93, 2,    0.861, 2,    0.430, 2,    0.024, 2, -999.000, 9,   2185.4, 2,   2305.0, 2,    7.6765,     25.00,   -999.0, 9,   -999.0,  -999.00, 9,   -999.0,   6.0119, 27.1410,   6.1035, 2, 2, 0.18, 0.11, 0.01, 0.015,  -999.00, 9, -999.00, -999.00, 9, -999.00
49NZ20071122, P14, 9, 1, 22, X12028, 2, 20071221, 2141, -33.2573, 175.4578, 3737,   1202.6, 2,   4.8896, 2,  34.4599, 2,  34.4607, 2,    182.1, 2,    182.8, 2,    43.46, 2,    30.46, 2,     0.01, 2,     2.13, 2,    0.449, 2,    0.220, 2,    0.014, 2, -999.000, 9,   2211.7, 2,   2316.5, 2,    7.6455,     25.00,   -999.0, 9,   -999.0,  -999.00, 9,   -999.0,   4.7888, 27.2712,   4.8901, 2, 2, 0.21, 0.12, 0.01, 0.015,  -999.00, 9, -999.00, -999.00, 9, -999.00
49NZ20071122, P14, 9, 1, 21, X12009, 2, 20071221, 2141, -33.2573, 175.4578, 3737,   1399.0, 2,   4.1294, 2,  34.4993, 2,  34.5000, 2,    171.5, 2,    172.4, 2,    59.83, 2,    32.18, 2,     0.01, 2,     2.26, 2,    0.259, 2,    0.128, 2,    0.014, 2, -999.000, 9,   2235.0, 2,   2335.5, 2,    7.6248,     25.00,   -999.0, 9,   -999.0,  -999.00, 9,   -999.0,   4.0180, 27.3860,   4.1294, 2, 2, 0.25, 0.12, 0.01, 0.016,  -999.00, 9, -999.00, -999.00, 9, -999.00
49NZ20071122, P14, 9, 1, 20, X12026, 2, 20071221, 2141, -33.2573, 175.4578, 3737,   1599.8, 2,   3.3987, 2,  34.5613, 2,  34.5626, 2,    162.2, 2,    162.3, 2,    79.84, 2,    33.45, 2,     0.01, 2,     2.36, 2,    0.143, 2,    0.071, 2,    0.004, 2, -999.000, 9,   2262.3, 2,   2358.9, 2,    7.6099,     25.00,   -999.0, 9,   -999.0,  -999.00, 9,   -999.0,   3.2777, 27.5090,   3.3989, 2, 6, 0.29, 0.13, 0.01, 0.016,  -999.00, 9, -999.00, -999.00, 9, -999.00
49NZ20071122, P14, 9, 1, 19, X12025, 2, 20071221, 2141, -33.2573, 175.4578, 3737,   1799.6, 2,   2.6539, 2,  34.6141, 2,  34.6136, 2,    156.5, 2,    156.6, 2,    98.60, 2,    34.51, 2,     0.01, 2,     2.44, 2,    0.063, 2,    0.030, 2,    0.000, 2, -999.000, 9,   2285.7, 2,   2378.8, 2,    7.6007,     25.00,   -999.0, 9,   -999.0,  -999.00, 9,   -999.0,   2.5250, 27.6192,   2.6540, 2, 2, 0.34, 0.13, 0.01, 0.016,  -999.00, 9, -999.00, -999.00, 9, -999.00
49NZ20071122, P14, 9, 1, 18, X12024, 2, 20071221, 2141, -33.2573, 175.4578, 3737,   1999.3, 2,   2.2354, 2,  34.6430, 2,  34.6432, 2,    153.9, 2,    153.9, 2,   109.86, 2,    35.12, 2,     0.01, 2,     2.47, 2,    0.019, 2,    0.007, 2,    0.000, 2, -999.000, 9,   2298.6, 2,   2391.0, 2,    7.5956,     25.00,   -999.0, 9,   -999.0,  -999.00, 9,   -999.0,   2.0954, 27.6780,   2.2354, 2, 2, 0.36, 0.13, 0.01, 0.016,  -999.00, 9, -999.00, -999.00, 9, -999.00
49NZ20071122, P14, 9, 1, 17, X12023, 2, 20071221, 2141, -33.2573, 175.4578, 3737,   2200.2, 2,   2.0202, 2,  34.6594, 2,  34.6594, 6,    153.1, 2,    153.0, 2,   115.53, 2,    35.32, 2,     0.01, 2,     2.50, 2,    0.005, 2,    0.003, 2,    0.000, 2, -999.000, 9,   2307.6, 2,   2398.2, 2,    7.5950,     25.00,   -999.0, 9,   -999.0,  -999.00, 9,   -999.0,   1.8662, 27.7093,   2.0201, 2, 2, 0.37, 0.13, 0.01, 0.016,  -999.00, 9, -999.00, -999.00, 9, -999.00
49NZ20071122, P14, 9, 1, 16, X12022, 2, 20071221, 2141, -33.2573, 175.4578, 3737,   2400.2, 2,   1.8916, 2,  34.6704, 2,  34.6703, 2,    153.2, 2,    153.3, 2,   119.10, 2,    35.40, 2,     0.01, 2,     2.49, 2,    0.000, 2,    0.001, 2,    0.000, 2, -999.000, 9,   2311.6, 6,   2401.2, 2,    7.5963,     25.00,   -999.0, 9,   -999.0,  -999.00, 9,   -999.0,   1.7222, 27.7292,   1.8916, 2, 2, 0.38, 0.13, 0.01, 0.016,  -999.00, 9, -999.00, -999.00, 9, -999.00
49NZ20071122, P14, 9, 1, 15, X12021, 2, 20071221, 2141, -33.2573, 175.4578, 3737,   2600.1, 2,   1.8399, 2,  34.6759, 2,  34.6756, 2,    153.3, 2,    153.4, 2,   120.80, 2,    35.43, 2,     0.01, 2,     2.50, 2,    0.000, 2,    0.000, 2,    0.000, 2, -999.000, 9,   2315.3, 2,   2404.5, 6,    7.5971,     25.00,   -999.0, 9,   -999.0,  -999.00, 9,   -999.0,   1.6534, 27.7387,   1.8399, 2, 2, 0.38, 0.13, 0.01, 0.016,  -999.00, 9, -999.00, -999.00, 9, -999.00
49NZ20071122, P14, 9, 1, 14, X12020, 2, 20071221, 2141, -33.2573, 175.4578, 3737,   2800.7, 2,   1.8186, 2,  34.6789, 2,  34.6787, 2,    153.4, 2,    153.6, 2,   121.64, 2,    35.39, 2,     0.01, 2,     2.50, 2,    0.000, 2,    0.000, 2,    0.000, 2, -999.000, 9,   2314.8, 2,   2406.7, 2,    7.5976,     25.00,   -999.0, 9,   -999.0,  -999.00, 9,   -999.0,   1.6139, 27.7441,   1.8186, 2, 6, 0.39, 0.13, 0.01, 0.016,  -999.00, 9, -999.00, -999.00, 9, -999.00
49NZ20071122, P14, 9, 1, 13, X12019, 3, 20071221, 2141, -33.2573, 175.4578, 3737,   2999.7, 2,   1.8179, 2,  34.6803, 2,  34.6800, 2,    153.6, 2,    153.5, 2,   122.24, 2,    35.39, 2,     0.01, 2,     2.50, 2,    0.000, 2,    0.000, 2,    0.000, 2, -999.000, 9,   2316.3, 2,   2407.8, 2,    7.5986,     25.00,   -999.0, 9,   -999.0,  -999.00, 9,   -999.0,   1.5941, 27.7467,   1.8179, 2, 2, 0.39, 0.13, 0.01, 0.016,  -999.00, 9, -999.00, -999.00, 9, -999.00
49NZ20071122, P14, 9, 1, 12, X12040, 3, 20071221, 2141, -33.2573, 175.4578, 3737,   3250.2, 2,   1.8279, 2,  34.6814, 2,  34.6811, 2,    153.6, 2,    153.6, 2,   122.44, 2,    35.39, 2,     0.01, 2,     2.49, 2, -999.000, 9, -999.000, 9, -999.000, 9, -999.000, 9,   2315.1, 2,   2407.8, 2,    7.5991,     25.00,   -999.0, 9,   -999.0,  -999.00, 9,   -999.0,   1.5791, 27.7487,   1.8279, 2, 2, 0.39, 0.13, 0.01, 0.016,  -999.00, 9, -999.00, -999.00, 9, -999.00
49NZ20071122, P14, 9, 1, 11, X12047, 2, 20071221, 2141, -33.2573, 175.4578, 3737,   3500.0, 2,   1.8436, 2,  34.6819, 2,  34.6817, 6,    153.5, 2,    153.5, 2,   122.87, 2,    35.51, 2,     0.01, 2,     2.50, 2,    0.001, 2,    0.001, 2,    0.006, 2, -999.000, 9,   2316.1, 2,   2410.0, 2,    7.5998,     25.00,   -999.0, 9,   -999.0,  -999.00, 9,   -999.0,   1.5688, 27.7499,   1.8436, 2, 2, 0.39, 0.13, 0.01, 0.016,  -999.00, 9, -999.00, -999.00, 9, -999.00
49NZ20071122, P14, 9, 1, 10, X12012, 2, 20071221, 2141, -33.2573, 175.4578, 3737,   3748.6, 2,   1.8662, 2,  34.6821, 2,  34.6819, 2,    153.6, 2,    153.3, 2,   123.07, 2,    35.36, 2,     0.01, 2,     2.50, 2,    0.000, 2,    0.000, 2,    0.000, 2, -999.000, 9,   2315.7, 2,   2410.4, 2,    7.6002,     25.00,   -999.0, 9,   -999.0,  -999.00, 9,   -999.0,   1.5645, 27.7504,   1.8662, 2, 2, 0.39, 0.13, 0.01, 0.016,  -999.00, 9, -999.00, -999.00, 9, -999.00
49NZ20071122, P14, 9, 1, 9, X12015, 9, 20071221, 2141, -33.2573, 175.4578, 3737,     10.7, 2,  20.2786, 2,  35.6856, 2, -999.0000, 9,    228.7, 2,   -999.0, 9,  -999.00, 9,  -999.00, 9,  -999.00, 9,  -999.00, 9, -999.000, 9, -999.000, 9, -999.000, 9, -999.000, 9,   -999.0, 9,   -999.0, 9, -999.0000,   -999.00,   -999.0, 9,   -999.0,  -999.00, 9,   -999.0,  20.2766, 25.2113,  20.2832, 2, 9, -999.00, -999.00, -999.00, -999.000,  -999.00, 9, -999.00, -999.00, 9, -999.00
49NZ20071122, P14, 9, 1, 8, X12046, 9, 20071221, 2141, -33.2573, 175.4578, 3737,     50.5, 2,  19.6968, 2,  35.6836, 2, -999.0000, 9,    232.9, 2,   -999.0, 9,  -999.00, 9,  -999.00, 9,  -999.00, 9,  -999.00, 9, -999.000, 9, -999.000, 9, -999.000, 9, -999.000, 9,   -999.0, 9,   -999.0, 9, -999.0000,   -999.00,   -999.0, 9,   -999.0,  -999.00, 9,   -999.0,  19.6876, 25.3656,  19.6947, 2, 9, -999.00, -999.00, -999.00, -999.000,  -999.00, 9, -999.00, -999.00, 9, -999.00
49NZ20071122, P14, 9, 1, 7, X12044, 9, 20071221, 2141, -33.2573, 175.4578, 3737,    100.4, 2,  17.8766, 2,  35.7155, 2, -999.0000, 9,    224.6, 2,   -999.0, 9,  -999.00, 9,  -999.00, 9,  -999.00, 9,  -999.00, 9, -999.000, 9, -999.000, 9, -999.000, 9, -999.000, 9,   -999.0, 9,   -999.0, 9, -999.0000,   -999.00,   -999.0, 9,   -999.0,  -999.00, 9,   -999.0,  17.8594, 25.8550,  17.8774, 2, 9, -999.00, -999.00, -999.00, -999.000,  -999.00, 9, -999.00, -999.00, 9, -999.00
49NZ20071122, P14, 9, 1, 6, X12048, 9, 20071221, 2141, -33.2573, 175.4578, 3737,    901.6, 2,   6.7016, 2,  34.4810, 2, -999.0000, 9,    199.0, 2,   -999.0, 9,  -999.00, 9,  -999.00, 9,  -999.00, 9,  -999.00, 9, -999.000, 9, -999.000, 9, -999.000, 9, -999.000, 9,   -999.0, 9,   -999.0, 9, -999.0000,   -999.00,   -999.0, 9,   -999.0,  -999.00, 9,   -999.0,   6.6156, 27.0623,   6.7032, 2, 9, -999.00, -999.00, -999.00, -999.000,  -999.00, 9, -999.00, -999.00, 9, -999.00
49NZ20071122, P14, 9, 1, 5, X12014, 9, 20071221, 2141, -33.2573, 175.4578, 3737,    151.8, 2,  17.3027, 2,  35.6519, 2, -999.0000, 9,    220.2, 2,   -999.0, 9,  -999.00, 9,  -999.00, 9,  -999.00, 9,  -999.00, 9, -999.000, 9, -999.000, 9, -999.000, 9, -999.000, 9,   -999.0, 9,   -999.0, 9, -999.0000,   -999.00,   -999.0, 9,   -999.0,  -999.00, 9,   -999.0,  17.2773, 25.9482,  17.3033, 2, 9, -999.00, -999.00, -999.00, -999.000,  -999.00, 9, -999.00, -999.00, 9, -999.00
49NZ20071122, P14, 9, 1, 4, X12006, 9, 20071221, 2141, -33.2573, 175.4578, 3737,   1202.7, 2,   4.8891, 2,  34.4599, 2, -999.0000, 9,    182.1, 2,   -999.0, 9,  -999.00, 9,  -999.00, 9,  -999.00, 9,  -999.00, 9, -999.000, 9, -999.000, 9, -999.000, 9, -999.000, 9,   -999.0, 9,   -999.0, 9, -999.0000,   -999.00,   -999.0, 9,   -999.0,  -999.00, 9,   -999.0,   4.7882, 27.2712,   4.8887, 2, 9, -999.00, -999.00, -999.00, -999.000,  -999.00, 9, -999.00, -999.00, 9, -999.00
49NZ20071122, P14, 9, 1, 3, X12013, 9, 20071221, 2141, -33.2573, 175.4578, 3737,   3499.7, 2,   1.8436, 2,  34.6820, 2, -999.0000, 9,    153.5, 2,   -999.0, 9,  -999.00, 9,  -999.00, 9,  -999.00, 9,  -999.00, 9, -999.000, 9, -999.000, 9, -999.000, 9, -999.000, 9,   -999.0, 9,   -999.0, 9, -999.0000,   -999.00,   -999.0, 9,   -999.0,  -999.00, 9,   -999.0,   1.5689, 27.7499,   1.8436, 2, 9, -999.00, -999.00, -999.00, -999.000,  -999.00, 9, -999.00, -999.00, 9, -999.00
49NZ20071122, P14, 9, 1, 2, X12002, 9, 20071221, 2141, -33.2573, 175.4578, 3737,   1599.7, 2,   3.3985, 2,  34.5614, 2, -999.0000, 9,    162.2, 2,   -999.0, 9,  -999.00, 9,  -999.00, 9,  -999.00, 9,  -999.00, 9, -999.000, 9, -999.000, 9, -999.000, 9, -999.000, 9,   -999.0, 9,   -999.0, 9, -999.0000,   -999.00,   -999.0, 9,   -999.0,  -999.00, 9,   -999.0,   3.2775, 27.5091,   3.3990, 2, 9, -999.00, -999.00, -999.00, -999.000,  -999.00, 9, -999.00, -999.00, 9, -999.00
49NZ20071122, P14, 9, 1, 1, X12001, 3, 20071221, 2141, -33.2573, 175.4578, 3737,   3780.9, 2,   1.8692, 2,  34.6821, 2,  34.6821, 6,    153.5, 2,    153.3, 2,   122.99, 2,    35.44, 2,     0.01, 2,     2.50, 2, -999.000, 5, -999.000, 5, -999.000, 5, -999.000, 9,   2317.2, 2,   2410.4, 2,    7.6002,     25.00,   -999.0, 9,   -999.0,  -999.00, 9,   -999.0,   1.5639, 27.7504,   1.8692, 2, 2, 0.39, 0.13, 0.01, 0.016,  -999.00, 9, -999.00, -999.00, 9, -999.00