BOTTLE,20220820CCHSIOAMB
EXPOCODE,SECT_ID,STNNBR,CASTNO,SAMPNO,BTLNBR,BTLNBR_FLAG_W,DATE,TIME,LATITUDE,LONGITUDE,DEPTH,CTDPRS,CTDPRS_FLAG_W,CTDTMP,CTDTMP_FLAG_W,CTDSAL,CTDSAL_FLAG_W,SALNTY,SALNTY_FLAG_W,CTDOXY,CTDOXY_FLAG_W,OXYGEN,OXYGEN_FLAG_W,SILCAT,SILCAT_FLAG_W,NITRAT,NITRAT_FLAG_W,NITRIT,NITRIT_FLAG_W,PHSPHT,PHSPHT_FLAG_W,CFC-11,CFC-11_FLAG_W,CFC-12,CFC-12_FLAG_W,CFC113,CFC113_FLAG_W,CCL4,CCL4_FLAG_W,TCARBN,TCARBN_FLAG_W,ALKALI,ALKALI_FLAG_W,PH_TOT,PH_TMP,DELC14,DELC14_FLAG_W,C14ERR,DELC13,DELC13_FLAG_W,C13ERR,THETA,SIG0,SBE35,SBE35_FLAG_W,PH_TOT_FLAG_W,SILUNC,NRAUNC,NRIUNC,PHPUNC,CS-137,CS-137_FLAG_W,CS137ER,PLUTO,PLUTO_FLAG_W,PLUTOER
,,,,,,,,,,,METERS,DBAR,,ITS-90,,PSS-78,,PSS-78,,UMOL/KG,,UMOL/KG,,UMOL/KG,,UMOL/KG,,UMOL/KG,,UMOL/KG,,PMOL/KG,,PMOL/KG,,PMOL/KG,,PMOL/KG,,UMOL/KG,,UMOL/KG,,,DEG C,/MILLE,,/MILLE,/MILLE,,/MILLE,DEG C,KG/M^3,ITS-90,,,UMOL/KG,UMOL/KG,UMOL/KG,UMOL/KG,DM/.1MG,,BQ/M^3,MBQ/M^3,,MBQ/M^3
49NZ20071122, P14N, 111, 1, 36, X12042, 2, 20071124, 0755, 8.0018, 179.0050, 5307,     10.3, 2,  28.3115, 2,  34.4257, 2,  34.4254, 2,    198.3, 2,    197.4, 2,     1.15, 2,     0.05, 2,     0.01, 2,     0.16, 2,    1.493, 2,    0.944, 2, -999.000, 5, -999.000, 9,   1928.8, 2,   2262.4, 2,    8.1234,     25.00,   -999.0, 9,   -999.0,  -999.00, 9,   -999.0,  28.3091, 21.8617,  28.3104, 2, 6, 0.12, 0.03, 0.01, 0.018,  -999.00, 9, -999.00, -999.00, 9, -999.00
49NZ20071122, P14N, 111, 1, 35, X12041, 2, 20071124, 0755, 8.0018, 179.0050, 5307,     50.2, 2,  28.3137, 2,  34.4253, 2,  34.4256, 2,    197.6, 2,    197.3, 2,     1.08, 2,     0.04, 2,     0.01, 2,     0.16, 2,    1.497, 2,    0.943, 2, -999.000, 5, -999.000, 9,   1927.7, 6,   2262.5, 2,    8.1229,     25.00,   -999.0, 9,   -999.0,  -999.00, 9,   -999.0,  28.3018, 21.8637,  28.3126, 2, 2, 0.12, 0.03, 0.01, 0.018,  -999.00, 9, -999.00, -999.00, 9, -999.00
49NZ20071122, P14N, 111, 1, 34, X12016, 2, 20071124, 0755, 8.0018, 179.0050, 5307,    101.0, 2,  26.6500, 2,  34.8210, 2,  34.8251, 2,    201.3, 2,    202.7, 2,     1.03, 2,     0.04, 2,     0.01, 2,     0.20, 2,    1.655, 2,    1.025, 2, -999.000, 5, -999.000, 9,   1970.4, 2,   2292.2, 6,    8.0899,     25.00,   -999.0, 9,   -999.0,  -999.00, 9,   -999.0,  26.6271, 22.7014,  26.6444, 2, 2, 0.12, 0.03, 0.01, 0.016,  -999.00, 9, -999.00, -999.00, 9, -999.00
49NZ20071122, P14N, 111, 1, 33, X12033, 2, 20071124, 0755, 8.0018, 179.0050, 5307,    150.8, 2,  17.4181, 2,  34.6441, 2,  34.6377, 2,    164.4, 2,    165.0, 2,     5.61, 2,     7.32, 2,     0.07, 2,     0.67, 2,    2.484, 6,    1.400, 6,    0.084, 6, -999.000, 9,   2081.3, 2,   2276.6, 2,    7.8764,     25.00,   -999.0, 9,   -999.0,  -999.00, 9,   -999.0,  17.3929, 25.1472,  17.4253, 2, 2, 0.13, 0.05, 0.01, 0.013,  -999.00, 9, -999.00, -999.00, 9, -999.00
49NZ20071122, P14N, 111, 1, 32, X12038, 2, 20071124, 0755, 8.0018, 179.0050, 5307,    200.2, 2,  12.1460, 2,  34.4681, 2,  34.4690, 2,     70.5, 2,     72.6, 2,    21.97, 2,    25.04, 2,     0.01, 2,     1.92, 2,    1.649, 2,    0.870, 2,    0.030, 2, -999.000, 9,   2192.1, 2,   2279.4, 2,    7.5972,     25.00,   -999.0, 9,   -999.0,  -999.00, 9,   -999.0,  12.1198, 26.1531,  12.1336, 2, 2, 0.17, 0.10, 0.01, 0.015,  -999.00, 9, -999.00, -999.00, 9, -999.00
49NZ20071122, P14N, 111, 1, 31, X12003, 2, 20071124, 0755, 8.0018, 179.0050, 5307,    250.5, 2,  10.6834, 2,  34.6447, 2,  34.6442, 6,     23.6, 2,     19.5, 2,    30.59, 2,    33.67, 2,     0.01, 2,     2.47, 2,    0.503, 2,    0.268, 2,    0.011, 2, -999.000, 9,   2249.9, 2,   2296.6, 2,    7.4776,     25.00,   -999.0, 9,   -999.0,  -999.00, 9,   -999.0,  10.6531, 26.5609,  10.6841, 2, 2, 0.19, 0.13, 0.01, 0.016,  -999.00, 9, -999.00, -999.00, 9, -999.00
49NZ20071122, P14N, 111, 1, 30, X12008, 2, 20071124, 0755, 8.0018, 179.0050, 5307,    279.4, 2,  10.2042, 2,  34.6396, 2,  34.6402, 2,     21.6, 2,     24.4, 2,    32.36, 2,    34.20, 2,     0.01, 2,     2.48, 2,    0.393, 2,    0.204, 2,    0.011, 2, -999.000, 9,   2251.9, 2,   2300.0, 2,    7.4783,     25.00,   -999.0, 9,   -999.0,  -999.00, 9,   -999.0,  10.1714, 26.6411,  10.2053, 2, 2, 0.19, 0.13, 0.01, 0.016,  -999.00, 9, -999.00, -999.00, 9, -999.00
49NZ20071122, P14N, 111, 1, 29, X12035, 2, 20071124, 0755, 8.0018, 179.0050, 5307,    370.9, 2,   9.2640, 2,  34.6383, 2,  34.6371, 2,     45.5, 2,     44.8, 2,    34.76, 2,    34.31, 2,     0.01, 2,     2.46, 2,    0.301, 2,    0.163, 2,    0.007, 2, -999.000, 9,   2248.0, 2,   2305.3, 2,    7.5036,     25.00,   -999.0, 9,   -999.0,  -999.00, 9,   -999.0,   9.2228, 26.7990,   9.2650, 2, 2, 0.20, 0.13, 0.01, 0.016,  -999.00, 9, -999.00, -999.00, 9, -999.00
49NZ20071122, P14N, 111, 1, 28, X12034, 2, 20071124, 0755, 8.0018, 179.0050, 5307,    468.7, 2,   8.2519, 2,  34.5890, 2,  34.5873, 6,     45.9, 2,     45.2, 2,    42.14, 2,    36.10, 2,     0.01, 2,     2.61, 2,    0.162, 2,    0.088, 2,    0.005, 2, -999.000, 9,   2261.8, 2,   2311.1, 2,    7.4843,     25.00,   -999.0, 9,   -999.0,  -999.00, 9,   -999.0,   8.2030, 26.9205,   8.2527, 2, 2, 0.21, 0.13, 0.01, 0.016,  -999.00, 9, -999.00, -999.00, 9, -999.00
49NZ20071122, P14N, 111, 1, 27, X12049, 2, 20071124, 0755, 8.0018, 179.0050, 5307,    569.7, 2,   7.3646, 2,  34.5584, 2,  34.5578, 2,     39.4, 2,     39.0, 2,    51.06, 2,    38.28, 2,     0.01, 2,     2.79, 2,    0.059, 2,    0.031, 2,    0.004, 2, -999.000, 9,   2280.3, 2,   2319.0, 2,    7.4594,     25.00,   -999.0, 9,   -999.0,  -999.00, 9,   -999.0,   7.3086, 27.0276,   7.3656, 2, 2, 0.23, 0.14, 0.01, 0.017,  -999.00, 9, -999.00, -999.00, 9, -999.00
49NZ20071122, P14N, 111, 1, 26, X12032, 2, 20071124, 0755, 8.0018, 179.0050, 5307,    670.8, 2,   6.6507, 2,  34.5442, 2,  34.5435, 2,     40.5, 2,     40.6, 2,    58.88, 2,    39.64, 2,     0.01, 2,     2.89, 2,    0.029, 6,    0.016, 6,    0.004, 6, -999.000, 9,   2288.9, 6,   2326.6, 2,    7.4483,     25.00,   -999.0, 9,   -999.0,  -999.00, 9,   -999.0,   6.5879, 27.1158,   6.6517, 2, 2, 0.25, 0.14, 0.01, 0.017,  -999.00, 9, -999.00, -999.00, 9, -999.00
49NZ20071122, P14N, 111, 1, 25, X12043, 2, 20071124, 0755, 8.0018, 179.0050, 5307,    771.5, 2,   5.7916, 2,  34.5347, 2,  34.5340, 2,     48.5, 2,     48.7, 2,    69.90, 2,    40.53, 2,     0.01, 2,     2.93, 2,    0.017, 2,    0.009, 2,    0.000, 2, -999.000, 9,   2298.1, 2,   2338.4, 6,    7.4526,     25.00,   -999.0, 9,   -999.0,  -999.00, 9,   -999.0,   5.7239, 27.2196,   5.7919, 2, 2, 0.27, 0.15, 0.01, 0.017,  -999.00, 9, -999.00, -999.00, 9, -999.00
49NZ20071122, P14N, 111, 1, 24, X12030, 2, 20071124, 0755, 8.0018, 179.0050, 5307,    871.1, 2,   5.2894, 2,  34.5427, 2,  34.5417, 2,     52.9, 2,     53.2, 2,    76.86, 2,    40.97, 2,     0.00, 2,     2.94, 2,    0.004, 2,    0.005, 2,    0.000, 2, -999.000, 9,   2306.9, 2,   2346.6, 2,    7.4547,     25.00,   -999.0, 9,   -999.0,  -999.00, 9,   -999.0,   5.2157, 27.2875,   5.2901, 2, 6, 0.29, 0.15, 0.01, 0.017,  -999.00, 9, -999.00, -999.00, 9, -999.00
49NZ20071122, P14N, 111, 1, 23, X12027, 2, 20071124, 0755, 8.0018, 179.0050, 5307,    972.9, 2,   4.6987, 2,  34.5507, 2,  34.5504, 6,     57.7, 2,   -999.0, 5,    87.21, 2,    41.23, 2,     0.00, 2,     2.97, 2,    0.000, 2,    0.000, 2,    0.000, 2, -999.000, 9,   2314.7, 2,   2358.9, 2,    7.4616,     25.00,   -999.0, 9,   -999.0,  -999.00, 9,   -999.0,   4.6200, 27.3621,   4.7014, 2, 2, 0.31, 0.15, 0.01, 0.017,  -999.00, 9, -999.00, -999.00, 9, -999.00
49NZ20071122, P14N, 111, 1, 22, X12028, 2, 20071124, 0755, 8.0018, 179.0050, 5307,   1129.3, 2,   4.1229, 2,  34.5660, 2,  34.5660, 2,     62.0, 2,   -999.0, 5,    99.03, 2,    41.52, 2,     0.01, 2,     3.00, 2,    0.000, 2,    0.000, 2,    0.000, 2, -999.000, 9,   2327.1, 2,   2371.2, 2,    7.4625,     25.00,   -999.0, 9,   -999.0,  -999.00, 9,   -999.0,   4.0352, 27.4372,   4.1228, 2, 2, 0.34, 0.15, 0.01, 0.017,  -999.00, 9, -999.00, -999.00, 9, -999.00
49NZ20071122, P14N, 111, 1, 21, X12009, 2, 20071124, 0755, 8.0018, 179.0050, 5307,   1328.9, 2,   3.5935, 2,  34.5808, 2,  34.5815, 2,     71.9, 2,     71.6, 2,   110.41, 2,    41.18, 2,     0.01, 2,     2.96, 2, -999.000, 9, -999.000, 9, -999.000, 9, -999.000, 9,   2333.7, 2,   2383.9, 2,    7.4739,     25.00,   -999.0, 9,   -999.0,  -999.00, 9,   -999.0,   3.4936, 27.5038,   3.5933, 2, 2, 0.36, 0.15, 0.01, 0.017,  -999.00, 9, -999.00, -999.00, 9, -999.00
49NZ20071122, P14N, 111, 1, 20, X12026, 2, 20071124, 0755, 8.0018, 179.0050, 5307,   1529.3, 2,   3.0969, 2,  34.5980, 2,  34.5980, 2,     80.1, 2,     79.9, 2,   121.39, 2,    40.77, 2,     0.00, 2,     2.93, 2, -999.000, 9, -999.000, 9, -999.000, 9, -999.000, 9,   2341.9, 2,   2392.4, 2,    7.4876,     25.00,   -999.0, 9,   -999.0,  -999.00, 9,   -999.0,   2.9854, 27.5655,   3.0959, 2, 6, 0.39, 0.15, 0.01, 0.017,  -999.00, 9, -999.00, -999.00, 9, -999.00
49NZ20071122, P14N, 111, 1, 19, X12025, 3, 20071124, 0755, 8.0018, 179.0050, 5307,   1730.2, 2,   2.7052, 2,  34.6143, 2,  34.6149, 2,     88.2, 2,     87.9, 2,   129.77, 2,    40.30, 2,     0.00, 2,     2.88, 2,    0.000, 2,    0.000, 2,    0.000, 2, -999.000, 9,   2346.6, 2,   2403.0, 2,    7.5019,     25.00,   -999.0, 9,   -999.0,  -999.00, 9,   -999.0,   2.5815, 27.6145,   2.7055, 2, 2, 0.40, 0.15, 0.01, 0.017,  -999.00, 9, -999.00, -999.00, 9, -999.00
49NZ20071122, P14N, 111, 1, 18, X12024, 2, 20071124, 0755, 8.0018, 179.0050, 5307,   1929.8, 2,   2.4039, 2,  34.6286, 2,  34.6291, 2,     96.2, 2,     95.5, 2,   136.99, 2,    39.93, 2,     0.00, 2,     2.84, 2, -999.000, 9, -999.000, 9, -999.000, 9, -999.000, 9,   2350.5, 2,   2410.8, 2,    7.5119,     25.00,   -999.0, 9,   -999.0,  -999.00, 9,   -999.0,   2.2674, 27.6525,   2.4038, 2, 2, 0.42, 0.14, 0.01, 0.017,  -999.00, 9, -999.00, -999.00, 9, -999.00
49NZ20071122, P14N, 111, 1, 17, X12023, 2, 20071124, 0755, 8.0018, 179.0050, 5307,   2129.3, 2,   2.1731, 2,  34.6424, 2,  34.6421, 6,    103.0, 2,    102.7, 2,   141.43, 2,    39.51, 2,     0.00, 2,     2.80, 2, -999.000, 9, -999.000, 9, -999.000, 9, -999.000, 9,   2353.4, 2,   2417.9, 2,    7.5246,     25.00,   -999.0, 9,   -999.0,  -999.00, 9,   -999.0,   2.0229, 27.6834,   2.1734, 2, 2, 0.43, 0.14, 0.01, 0.017,  -999.00, 9, -999.00, -999.00, 9, -999.00
49NZ20071122, P14N, 111, 1, 16, X12022, 2, 20071124, 0755, 8.0018, 179.0050, 5307,   2329.9, 2,   2.0229, 2,  34.6524, 2,  34.6523, 2,    108.7, 2,    108.6, 2,   144.60, 2,    39.13, 2,     0.00, 2,     2.76, 2,    0.000, 2,    0.000, 2,    0.000, 2, -999.000, 9,   2350.9, 6,   2421.9, 2,    7.5359,     25.00,   -999.0, 9,   -999.0,  -999.00, 9,   -999.0,   1.8575, 27.7044,   2.0229, 2, 2, 0.44, 0.14, 0.01, 0.017,  -999.00, 9, -999.00, -999.00, 9, -999.00
49NZ20071122, P14N, 111, 1, 15, X12021, 2, 20071124, 0755, 8.0018, 179.0050, 5307,   2530.3, 2,   1.9072, 2,  34.6593, 2,  34.6589, 2,    113.3, 2,    113.3, 2,   147.27, 2,    38.84, 2,     0.01, 2,     2.74, 2, -999.000, 9, -999.000, 9, -999.000, 9, -999.000, 9,   2351.9, 2,   2425.0, 6,    7.5438,     25.00,   -999.0, 9,   -999.0,  -999.00, 9,   -999.0,   1.7259, 27.7200,   1.9073, 2, 2, 0.44, 0.14, 0.01, 0.017,  -999.00, 9, -999.00, -999.00, 9, -999.00
49NZ20071122, P14N, 111, 1, 14, X12020, 2, 20071124, 0755, 8.0018, 179.0050, 5307,   2729.9, 2,   1.8274, 2,  34.6645, 2,  34.6646, 2,    118.4, 2,    118.2, 2,   148.19, 2,    38.55, 2,     0.01, 2,     2.71, 2, -999.000, 9, -999.000, 9, -999.000, 9, -999.000, 9,   2350.9, 2,   2426.2, 2,    7.5514,     25.00,   -999.0, 9,   -999.0,  -999.00, 9,   -999.0,   1.6292, 27.7314,   1.8275, 2, 6, 0.45, 0.14, 0.01, 0.017,  -999.00, 9, -999.00, -999.00, 9, -999.00
49NZ20071122, P14N, 111, 1, 13, X12019, 2, 20071124, 0755, 8.0018, 179.0050, 5307,   2932.1, 2,   1.7525, 2,  34.6691, 2,  34.6692, 2,    124.0, 2,    123.6, 2,   148.30, 2,    38.03, 2,     0.00, 2,     2.68, 2,    0.000, 2,    0.000, 2,    0.000, 2, -999.000, 9,   2349.8, 2,   2426.1, 2,    7.5597,     25.00,   -999.0, 9,   -999.0,  -999.00, 9,   -999.0,   1.5367, 27.7419,   1.7525, 2, 2, 0.45, 0.14, 0.01, 0.017,  -999.00, 9, -999.00, -999.00, 9, -999.00
49NZ20071122, P14N, 111, 1, 12, X12040, 3, 20071124, 0755, 8.0018, 179.0050, 5307,   3171.1, 2,   1.6534, 2,  34.6747, 2,  34.6740, 3,    132.0, 2,    131.6, 2,   147.36, 2,    37.42, 2,     0.00, 2,     2.62, 2, -999.000, 9, -999.000, 9, -999.000, 9, -999.000, 9,   2343.5, 2,   2425.5, 2,    7.5723,     25.00,   -999.0, 9,   -999.0,  -999.00, 9,   -999.0,   1.4166, 27.7552,   1.6535, 2, 2, 0.44, 0.14, 0.01, 0.017,  -999.00, 9, -999.00, -999.00, 9, -999.00
49NZ20071122, P14N, 111, 1, 11, X12047, 2, 20071124, 0755, 8.0018, 179.0050, 5307,   3421.3, 2,   1.5731, 2,  34.6793, 2,  34.6793, 2,    139.8, 2,    140.1, 2,   146.19, 2,    36.96, 2,     0.00, 2,     2.59, 2, -999.000, 9, -999.000, 9, -999.000, 9, -999.000, 9,   2335.6, 2,   2422.9, 2,    7.5825,     25.00,   -999.0, 9,   -999.0,  -999.00, 9,   -999.0,   1.3132, 27.7662,   1.5731, 2, 2, 0.44, 0.14, 0.01, 0.016,  -999.00, 9, -999.00, -999.00, 9, -999.00
49NZ20071122, P14N, 111, 1, 10, X12012, 2, 20071124, 0755, 8.0018, 179.0050, 5307,   3670.1, 2,   1.4953, 2,  34.6846, 2,  34.6846, 2,    148.8, 2,    149.3, 2,   143.40, 2,    36.28, 2,     0.00, 2,     2.54, 2,    0.000, 2,    0.000, 2,    0.000, 2, -999.000, 9,   2330.0, 2,   2418.4, 2,    7.5939,     25.00,   -999.0, 9,   -999.0,  -999.00, 9,   -999.0,   1.2117, 27.7775,   1.4953, 2, 2, 0.43, 0.13, 0.01, 0.016,  -999.00, 9, -999.00, -999.00, 9, -999.00
49NZ20071122, P14N, 111, 1, 9, X12015, 2, 20071124, 0755, 8.0018, 179.0050, 5307,   3921.3, 2,   1.4219, 2,  34.6899, 2,  34.6898, 6,    159.2, 2,    159.8, 2,   139.10, 2,    35.54, 2,     0.00, 2,     2.48, 2, -999.000, 9, -999.000, 9, -999.000, 9, -999.000, 9,   2319.0, 2,   2414.3, 2,    7.6043,     25.00,   -999.0, 9,   -999.0,  -999.00, 9,   -999.0,   1.1137, 27.7885,   1.4219, 2, 2, 0.43, 0.13, 0.01, 0.016,  -999.00, 9, -999.00, -999.00, 9, -999.00
49NZ20071122, P14N, 111, 1, 8, X12046, 2, 20071124, 0755, 8.0018, 179.0050, 5307,   4170.1, 2,   1.3633, 2,  34.6945, 2,  34.6949, 2,    168.3, 2,    168.6, 2,   135.19, 2,    34.98, 2,     0.00, 2,     2.44, 2, -999.000, 9, -999.000, 9, -999.000, 9, -999.000, 9,   2309.3, 6,   2408.8, 2,    7.6143,     25.00,   -999.0, 9,   -999.0,  -999.00, 9,   -999.0,   1.0296, 27.7979,   1.3635, 2, 2, 0.42, 0.13, 0.01, 0.016,  -999.00, 9, -999.00, -999.00, 9, -999.00
49NZ20071122, P14N, 111, 1, 7, X12044, 2, 20071124, 0755, 8.0018, 179.0050, 5307,   4421.0, 2,   1.3113, 2,  34.6989, 2,  34.6988, 2,    177.1, 2,    177.5, 2,   130.70, 2,    34.32, 2,     0.00, 2,     2.39, 2,    0.000, 2,    0.000, 2,    0.000, 2, -999.000, 9,   2300.3, 2,   2401.7, 6,    7.6213,     25.00,   -999.0, 9,   -999.0,  -999.00, 9,   -999.0,   0.9511, 27.8066,   1.3114, 2, 2, 0.41, 0.13, 0.01, 0.016,  -999.00, 9, -999.00, -999.00, 9, -999.00
49NZ20071122, P14N, 111, 1, 6, X12048, 2, 20071124, 0755, 8.0018, 179.0050, 5307,   4670.0, 2,   1.2919, 2,  34.7016, 2,  34.7015, 2,    182.6, 2,    183.3, 2,   127.23, 2,    33.90, 2,     0.00, 2,     2.36, 2,    0.000, 2,    0.000, 2,    0.000, 2, -999.000, 9,   2293.7, 2,   2397.4, 2,    7.6266,     25.00,   -999.0, 9,   -999.0,  -999.00, 9,   -999.0,   0.9037, 27.8119,   1.2920, 2, 6, 0.40, 0.13, 0.01, 0.016,  -999.00, 9, -999.00, -999.00, 9, -999.00
49NZ20071122, P14N, 111, 1, 5, X12014, 2, 20071124, 0755, 8.0018, 179.0050, 5307,   4918.0, 2,   1.3063, 2,  34.7026, 2,  34.7025, 2,    185.3, 2,    185.3, 2,   125.95, 2,    33.72, 2,     0.00, 2,     2.35, 2,    0.000, 2,    0.000, 2,    0.000, 2, -999.000, 9,   2291.5, 2,   2395.1, 2,    7.6275,     25.00,   -999.0, 9,   -999.0,  -999.00, 9,   -999.0,   0.8884, 27.8137,   1.3065, 2, 2, 0.40, 0.13, 0.01, 0.016,  -999.00, 9, -999.00, -999.00, 9, -999.00
49NZ20071122, P14N, 111, 1, 4, X12006, 2, 20071124, 0755, 8.0018, 179.0050, 5307,   5170.9, 2,   1.3065, 2,  34.7041, 2,  34.7042, 2,    189.4, 2,    189.3, 2,   123.98, 2,    33.40, 2,     0.00, 2,     2.32, 2, -999.000, 9, -999.000, 9, -999.000, 9, -999.000, 9,   2284.5, 2,   2389.3, 2,    7.6290,     25.00,   -999.0, 9,   -999.0,  -999.00, 9,   -999.0,   0.8579, 27.8169,   1.3067, 2, 2, 0.39, 0.13, 0.01, 0.016,  -999.00, 9, -999.00, -999.00, 9, -999.00
49NZ20071122, P14N, 111, 1, 3, X12013, 9, 20071124, 0755, 8.0018, 179.0050, 5307,   1529.6, 2,   3.0944, 2,  34.5983, 2, -999.0000, 9,     80.2, 2,   -999.0, 9,  -999.00, 9,  -999.00, 9,  -999.00, 9,  -999.00, 9, -999.000, 9, -999.000, 9, -999.000, 9, -999.000, 9,   -999.0, 9,   -999.0, 9, -999.0000,   -999.00,   -999.0, 9,   -999.0,  -999.00, 9,   -999.0,   2.9829, 27.5660,   3.0947, 2, 9, -999.00, -999.00, -999.00, -999.000,  -999.00, 9, -999.00, -999.00, 9, -999.00
49NZ20071122, P14N, 111, 1, 2, X12002, 9, 20071124, 0755, 8.0018, 179.0050, 5307,   1529.6, 2,   3.0948, 2,  34.5982, 2, -999.0000, 9,     80.2, 2,   -999.0, 9,  -999.00, 9,  -999.00, 9,  -999.00, 9,  -999.00, 9, -999.000, 9, -999.000, 9, -999.000, 9, -999.000, 9,   -999.0, 9,   -999.0, 9, -999.0000,   -999.00,   -999.0, 9,   -999.0,  -999.00, 9,   -999.0,   2.9833, 27.5659,   3.0955, 2, 9, -999.00, -999.00, -999.00, -999.000,  -999.00, 9, -999.00, -999.00, 9, -999.00
49NZ20071122, P14N, 111, 1, 1, X12001, 2, 20071124, 0755, 8.0018, 179.0050, 5307,   5374.4, 2,   1.3265, 2,  34.7044, 2,  34.7044, 6,    190.2, 2,    190.0, 2,   123.64, 2,    33.41, 2,     0.00, 2,     2.33, 2,    0.000, 2,    0.002, 2,    0.000, 2, -999.000, 9,   2284.5, 2,   2389.0, 2,    7.6281,     25.00,   -999.0, 9,   -999.0,  -999.00, 9,   -999.0,   0.8520, 27.8175,   1.3266, 2, 2, 0.39, 0.13, 0.01, 0.016,  -999.00, 9, -999.00, -999.00, 9, -999.00