BOTTLE,20220820CCHSIOAMB
EXPOCODE,SECT_ID,STNNBR,CASTNO,SAMPNO,BTLNBR,BTLNBR_FLAG_W,DATE,TIME,LATITUDE,LONGITUDE,DEPTH,CTDPRS,CTDPRS_FLAG_W,CTDTMP,CTDTMP_FLAG_W,CTDSAL,CTDSAL_FLAG_W,SALNTY,SALNTY_FLAG_W,CTDOXY,CTDOXY_FLAG_W,OXYGEN,OXYGEN_FLAG_W,SILCAT,SILCAT_FLAG_W,NITRAT,NITRAT_FLAG_W,NITRIT,NITRIT_FLAG_W,PHSPHT,PHSPHT_FLAG_W,CFC-11,CFC-11_FLAG_W,CFC-12,CFC-12_FLAG_W,CFC113,CFC113_FLAG_W,CCL4,CCL4_FLAG_W,TCARBN,TCARBN_FLAG_W,ALKALI,ALKALI_FLAG_W,PH_TOT,PH_TMP,DELC14,DELC14_FLAG_W,C14ERR,DELC13,DELC13_FLAG_W,C13ERR,THETA,SIG0,SBE35,SBE35_FLAG_W,PH_TOT_FLAG_W,SILUNC,NRAUNC,NRIUNC,PHPUNC,CS-137,CS-137_FLAG_W,CS137ER,PLUTO,PLUTO_FLAG_W,PLUTOER
,,,,,,,,,,,METERS,DBAR,,ITS-90,,PSS-78,,PSS-78,,UMOL/KG,,UMOL/KG,,UMOL/KG,,UMOL/KG,,UMOL/KG,,UMOL/KG,,PMOL/KG,,PMOL/KG,,PMOL/KG,,PMOL/KG,,UMOL/KG,,UMOL/KG,,,DEG C,/MILLE,,/MILLE,/MILLE,,/MILLE,DEG C,KG/M^3,ITS-90,,,UMOL/KG,UMOL/KG,UMOL/KG,UMOL/KG,DM/.1MG,,BQ/M^3,MBQ/M^3,,MBQ/M^3
49NZ20071122, P14N, 184, 1, 36, X12042, 2, 20071212, 0521, -15.4947, 178.9942, 2580,     10.3, 2,  28.9407, 2,  34.5530, 2,  34.5573, 2,    200.9, 2,    198.9, 2,     0.60, 2,     0.06, 2,     0.00, 2,     0.13, 2,    1.492, 2,    0.936, 2,    0.329, 4, -999.000, 9,   1919.3, 2,   2272.3, 2,    8.1476,     25.00,   -999.0, 9,   -999.0,  -999.00, 9,   -999.0,  28.9382, 21.7491,  28.9395, 2, 6, 0.12, 0.03, 0.01, 0.019,  -999.00, 9, -999.00, -999.00, 9, -999.00
49NZ20071122, P14N, 184, 1, 35, X12041, 2, 20071212, 0521, -15.4947, 178.9942, 2580,     50.6, 2,  27.9348, 2,  35.1289, 2,  35.1577, 2,    201.1, 2,    202.1, 2,     0.55, 2,     0.05, 2,     0.00, 2,     0.14, 2,    1.560, 2,    0.972, 2,    0.386, 4, -999.000, 9,   1959.7, 6,   2313.0, 2,    8.1370,     25.00,   -999.0, 9,   -999.0,  -999.00, 9,   -999.0,  27.9229, 22.5168,  27.9328, 2, 2, 0.12, 0.03, 0.01, 0.018,  -999.00, 9, -999.00, -999.00, 9, -999.00
49NZ20071122, P14N, 184, 1, 34, X12016, 2, 20071212, 0521, -15.4947, 178.9942, 2580,    100.9, 2,  25.2638, 2,  35.6894, 2,  35.6993, 2,    183.1, 2,    182.8, 2,     0.56, 2,     0.48, 2,     0.15, 2,     0.25, 2,    1.759, 2,    1.080, 2,    0.224, 4, -999.000, 9,   2026.3, 2,   2347.2, 6,    8.0729,     25.00,   -999.0, 9,   -999.0,  -999.00, 9,   -999.0,  25.2417, 23.7884,  25.2656, 2, 2, 0.12, 0.03, 0.01, 0.015,  -999.00, 9, -999.00, -999.00, 9, -999.00
49NZ20071122, P14N, 184, 1, 33, X12033, 2, 20071212, 0521, -15.4947, 178.9942, 2580,    150.5, 2,  23.9630, 2,  35.9795, 2,  35.9626, 2,    162.5, 2,    161.8, 2,     0.71, 2,     2.58, 2,     0.03, 2,     0.44, 2,    1.882, 6,    1.133, 6,    0.124, 6, -999.000, 9,   2075.5, 2,   2364.7, 2,    8.0151,     25.00,   -999.0, 9,   -999.0,  -999.00, 9,   -999.0,  23.9312, 24.4036,  23.8675, 2, 6, 0.12, 0.04, 0.01, 0.013,  -999.00, 9, -999.00, -999.00, 9, -999.00
49NZ20071122, P14N, 184, 1, 32, X12038, 2, 20071212, 0521, -15.4947, 178.9942, 2580,    202.6, 2,  21.2309, 2,  35.8474, 2,  35.8362, 2,    157.2, 2,    156.4, 2,     1.11, 2,     5.29, 2,     0.01, 2,     0.60, 2,    2.065, 2,    1.197, 2,    0.051, 2, -999.000, 9,   2102.3, 2,   2358.1, 2,    7.9580,     25.00,   -999.0, 9,   -999.0,  -999.00, 9,   -999.0,  21.1916, 25.0867,  21.2344, 2, 2, 0.12, 0.05, 0.01, 0.013,  -999.00, 9, -999.00, -999.00, 9, -999.00
49NZ20071122, P14N, 184, 1, 31, X12003, 2, 20071212, 0521, -15.4947, 178.9942, 2580,    250.0, 2,  19.2077, 2,  35.6069, 2,  35.5962, 6,    161.7, 2,    161.8, 2,     1.62, 2,     6.39, 2,     0.01, 2,     0.66, 2,    2.134, 2,    1.214, 2,    0.031, 2, -999.000, 9,   2105.6, 2,   2341.4, 2,    7.9304,     25.00,   -999.0, 9,   -999.0,  -999.00, 9,   -999.0,  19.1626, 25.4434,  19.2097, 2, 2, 0.12, 0.05, 0.01, 0.013,  -999.00, 9, -999.00, -999.00, 9, -999.00
49NZ20071122, P14N, 184, 1, 30, X12008, 2, 20071212, 0521, -15.4947, 178.9942, 2580,    299.9, 2,  16.5823, 2,  35.3178, 2,  35.2813, 2,    171.3, 2,    171.5, 2,     2.63, 2,     8.44, 2,     0.01, 2,     0.77, 2,    2.170, 2,    1.207, 2,    0.033, 2, -999.000, 9,   2107.5, 2,   2321.7, 2,    7.8895,     25.00,   -999.0, 9,   -999.0,  -999.00, 9,   -999.0,  16.5334, 25.8685,  16.5240, 2, 2, 0.12, 0.06, 0.01, 0.013,  -999.00, 9, -999.00, -999.00, 9, -999.00
49NZ20071122, P14N, 184, 1, 29, X12035, 2, 20071212, 0521, -15.4947, 178.9942, 2580,    402.8, 2,  12.6149, 2,  34.8911, 2,  34.8865, 2,    175.6, 2,    175.6, 2,     5.15, 2,    14.08, 2,     0.01, 2,     1.14, 2,    2.049, 2,    1.076, 2,    0.028, 2, -999.000, 9,   2130.1, 2,   2302.5, 2,    7.8083,     25.00,   -999.0, 9,   -999.0,  -999.00, 9,   -999.0,  12.5602, 26.3959,  12.6179, 2, 2, 0.13, 0.07, 0.01, 0.013,  -999.00, 9, -999.00, -999.00, 9, -999.00
49NZ20071122, P14N, 184, 1, 28, X12034, 2, 20071212, 0521, -15.4947, 178.9942, 2580,    499.6, 2,   8.6554, 2,  34.5486, 2,  34.5404, 6,    175.8, 2,    176.9, 2,    12.43, 2,    23.19, 2,     0.01, 2,     1.71, 2,    1.406, 2,    0.701, 2,    0.027, 2, -999.000, 9,   2165.2, 2,   2291.4, 2,    7.7041,     25.00,   -999.0, 9,   -999.0,  -999.00, 9,   -999.0,   8.6018, 26.8275,   8.6552, 2, 2, 0.15, 0.10, 0.01, 0.014,  -999.00, 9, -999.00, -999.00, 9, -999.00
49NZ20071122, P14N, 184, 1, 27, X12049, 2, 20071212, 0521, -15.4947, 178.9942, 2580,    600.2, 2,   6.6608, 2,  34.4204, 2,  34.4215, 2,    187.1, 2,    186.8, 2,    18.63, 2,    27.12, 2,     0.01, 2,     1.94, 2,    0.903, 2,    0.449, 2,    0.020, 2, -999.000, 9,   2177.1, 2,   2292.0, 2,    7.6725,     25.00,   -999.0, 9,   -999.0,  -999.00, 9,   -999.0,   6.6050, 27.0158,   6.6613, 2, 2, 0.16, 0.11, 0.01, 0.015,  -999.00, 9, -999.00, -999.00, 9, -999.00
49NZ20071122, P14N, 184, 1, 26, X12032, 2, 20071212, 0521, -15.4947, 178.9942, 2580,    702.1, 2,   5.5739, 2,  34.3899, 2,  34.3889, 2,    184.1, 2,    183.0, 2,    27.21, 2,    29.85, 2,     0.00, 2,     2.11, 2,    0.491, 6,    0.249, 6,    0.013, 6, -999.000, 9,   2194.1, 6,   2299.5, 2,    7.6471,     25.00,   -999.0, 9,   -999.0,  -999.00, 9,   -999.0,   5.5140, 27.1308,   5.5770, 2, 2, 0.18, 0.12, 0.01, 0.015,  -999.00, 9, -999.00, -999.00, 9, -999.00
49NZ20071122, P14N, 184, 1, 25, X12043, 2, 20071212, 0521, -15.4947, 178.9942, 2580,    799.9, 2,   4.9259, 2,  34.4011, 2,  34.4021, 2,    173.8, 2,    172.9, 2,    37.89, 2,    31.91, 2,     0.00, 2,     2.25, 2,    0.238, 2,    0.124, 2,    0.000, 2, -999.000, 9,   2211.8, 2,   2310.0, 6,    7.6228,     25.00,   -999.0, 9,   -999.0,  -999.00, 9,   -999.0,   4.8610, 27.2163,   4.9228, 2, 2, 0.20, 0.12, 0.01, 0.016,  -999.00, 9, -999.00, -999.00, 9, -999.00
49NZ20071122, P14N, 184, 1, 24, X12030, 2, 20071212, 0521, -15.4947, 178.9942, 2580,    901.1, 2,   4.4908, 2,  34.4229, 2,  34.4234, 2,    166.5, 2,    166.9, 2,    46.25, 2,    32.92, 2,     0.00, 2,     2.32, 2,    0.130, 2,    0.071, 2,    0.005, 2, -999.000, 9,   2223.4, 2,   2317.9, 2,    7.6099,     25.00,   -999.0, 9,   -999.0,  -999.00, 9,   -999.0,   4.4200, 27.2826,   4.4911, 2, 2, 0.22, 0.12, 0.01, 0.016,  -999.00, 9, -999.00, -999.00, 9, -999.00
49NZ20071122, P14N, 184, 1, 23, X12027, 2, 20071212, 0521, -15.4947, 178.9942, 2580,    999.9, 2,   4.0226, 2,  34.4546, 2,  34.4561, 3,    160.8, 2,    161.0, 2,    57.43, 2,    33.98, 2,     0.00, 2,     2.40, 2,    0.064, 2,    0.033, 2,    0.000, 2, -999.000, 9,   2237.9, 2,   2330.6, 2,    7.5983,     25.00,   -999.0, 9,   -999.0,  -999.00, 9,   -999.0,   3.9469, 27.3578,   4.0216, 2, 2, 0.25, 0.13, 0.01, 0.016,  -999.00, 9, -999.00, -999.00, 9, -999.00
49NZ20071122, P14N, 184, 1, 22, X12028, 2, 20071212, 0521, -15.4947, 178.9942, 2580,   1198.8, 2,   3.3923, 2,  34.5169, 2,  34.5228, 2,    151.4, 2,    150.7, 2,    77.68, 2,    35.09, 2,     0.00, 2,     2.48, 2,    0.017, 2,    0.010, 2,    0.005, 2, -999.000, 9,   2267.6, 2,   2353.2, 2,    7.5863,     25.00,   -999.0, 9,   -999.0,  -999.00, 9,   -999.0,   3.3054, 27.4709,   3.3925, 2, 2, 0.29, 0.13, 0.01, 0.016,  -999.00, 9, -999.00, -999.00, 9, -999.00
49NZ20071122, P14N, 184, 1, 21, X12009, 2, 20071212, 0521, -15.4947, 178.9942, 2580,   1401.8, 2,   2.9743, 2,  34.5612, 2,  34.5602, 6,    147.7, 2,    147.6, 2,    90.38, 2,    35.57, 2,     0.00, 2,     2.52, 2,    0.005, 2,    0.007, 2,    0.000, 2, -999.000, 9,   2281.6, 2,   2366.9, 2,    7.5831,     25.00,   -999.0, 9,   -999.0,  -999.00, 9,   -999.0,   2.8749, 27.5462,   2.9755, 2, 2, 0.32, 0.13, 0.01, 0.016,  -999.00, 9, -999.00, -999.00, 9, -999.00
49NZ20071122, P14N, 184, 1, 20, X12026, 2, 20071212, 0521, -15.4947, 178.9942, 2580,   1597.3, 2,   2.6842, 2,  34.5873, 2,  34.5888, 2,    146.7, 2,    146.8, 2,   100.05, 2,    35.69, 2,     0.00, 2,     2.53, 2,    0.003, 2,    0.005, 2,    0.000, 2, -999.000, 9,   2292.0, 2,   2378.0, 2,    7.5831,     25.00,   -999.0, 9,   -999.0,  -999.00, 9,   -999.0,   2.5720, 27.5937,   2.6839, 2, 6, 0.34, 0.13, 0.01, 0.016,  -999.00, 9, -999.00, -999.00, 9, -999.00
49NZ20071122, P14N, 184, 1, 19, X12025, 2, 20071212, 0521, -15.4947, 178.9942, 2580,   1801.4, 2,   2.5493, 2,  34.6022, 2,  34.6027, 2,    146.0, 2,    145.9, 2,   104.86, 2,    35.81, 2,     0.00, 2,     2.54, 2,    0.001, 2,    0.003, 2,    0.000, 2, -999.000, 9,   2301.1, 2,   2384.1, 2,    7.5831,     25.00,   -999.0, 9,   -999.0,  -999.00, 9,   -999.0,   2.4217, 27.6185,   2.5494, 2, 2, 0.35, 0.13, 0.01, 0.016,  -999.00, 9, -999.00, -999.00, 9, -999.00
49NZ20071122, P14N, 184, 1, 18, X12024, 2, 20071212, 0521, -15.4947, 178.9942, 2580,   2000.3, 2,   2.3916, 2,  34.6190, 2,  34.6195, 2,    145.7, 2,    145.6, 2,   110.11, 2,    35.88, 2,     0.00, 2,     2.54, 2,    0.000, 2,    0.002, 2,    0.000, 2, -999.000, 9,   2304.3, 2,   2390.0, 2,    7.5839,     25.00,   -999.0, 9,   -999.0,  -999.00, 9,   -999.0,   2.2492, 27.6463,   2.3917, 2, 2, 0.36, 0.13, 0.01, 0.016,  -999.00, 9, -999.00, -999.00, 9, -999.00
49NZ20071122, P14N, 184, 1, 17, X12023, 2, 20071212, 0521, -15.4947, 178.9942, 2580,   2201.9, 2,   2.1885, 2,  34.6385, 2,  34.6394, 6,    146.8, 2,    146.8, 2,   115.93, 2,    35.81, 2,     0.00, 2,     2.54, 2,    0.001, 2,    0.000, 2,    0.000, 2, -999.000, 9,   2310.2, 2,   2397.7, 2,    7.5875,     25.00,   -999.0, 9,   -999.0,  -999.00, 9,   -999.0,   2.0317, 27.6796,   2.1885, 2, 2, 0.37, 0.13, 0.01, 0.016,  -999.00, 9, -999.00, -999.00, 9, -999.00
49NZ20071122, P14N, 184, 1, 16, X12022, 2, 20071212, 0521, -15.4947, 178.9942, 2580,   2399.4, 2,   1.9882, 2,  34.6524, 2,  34.6528, 2,    145.9, 2,    145.9, 2,   123.39, 2,    36.08, 2,     0.00, 2,     2.55, 2,    0.000, 2,    0.000, 2,    0.000, 2, -999.000, 9,   2317.8, 6,   2404.9, 2,    7.5865,     25.00,   -999.0, 9,   -999.0,  -999.00, 9,   -999.0,   1.8172, 27.7075,   1.9886, 2, 2, 0.39, 0.13, 0.01, 0.016,  -999.00, 9, -999.00, -999.00, 9, -999.00
49NZ20071122, P14N, 184, 1, 15, X12021, 9, 20071212, 0521, -15.4947, 178.9942, 2580,   1399.6, 2,   2.9793, 2,  34.5606, 2, -999.0000, 9,    147.7, 2,   -999.0, 9,  -999.00, 9,  -999.00, 9,  -999.00, 9,  -999.00, 9, -999.000, 9, -999.000, 9, -999.000, 9, -999.000, 9,   -999.0, 9,   -999.0, 9, -999.0000,   -999.00,   -999.0, 9,   -999.0,  -999.00, 9,   -999.0,   2.8800, 27.5453,   2.9813, 2, 9, -999.00, -999.00, -999.00, -999.000,  -999.00, 9, -999.00, -999.00, 9, -999.00
49NZ20071122, P14N, 184, 1, 14, X12020, 9, 20071212, 0521, -15.4947, 178.9942, 2580,     10.1, 2,  28.9451, 2,  34.5527, 2, -999.0000, 9,    200.8, 2,   -999.0, 9,  -999.00, 9,  -999.00, 9,  -999.00, 9,  -999.00, 9, -999.000, 9, -999.000, 9, -999.000, 9, -999.000, 9,   -999.0, 9,   -999.0, 9, -999.0000,   -999.00,   -999.0, 9,   -999.0,  -999.00, 9,   -999.0,  28.9427, 21.7474,  28.9436, 2, 9, -999.00, -999.00, -999.00, -999.000,  -999.00, 9, -999.00, -999.00, 9, -999.00
49NZ20071122, P14N, 184, 1, 13, X12019, 9, 20071212, 0521, -15.4947, 178.9942, 2580,     50.6, 2,  27.9333, 2,  35.1219, 2, -999.0000, 9,    201.2, 2,   -999.0, 9,  -999.00, 9,  -999.00, 9,  -999.00, 9,  -999.00, 9, -999.000, 9, -999.000, 9, -999.000, 9, -999.000, 9,   -999.0, 9,   -999.0, 9, -999.0000,   -999.00,   -999.0, 9,   -999.0,  -999.00, 9,   -999.0,  27.9214, 22.5120,  27.9332, 2, 9, -999.00, -999.00, -999.00, -999.000,  -999.00, 9, -999.00, -999.00, 9, -999.00
49NZ20071122, P14N, 184, 1, 12, X12040, 9, 20071212, 0521, -15.4947, 178.9942, 2580,    100.7, 2,  25.2633, 2,  35.6882, 2, -999.0000, 9,    183.1, 2,   -999.0, 9,  -999.00, 9,  -999.00, 9,  -999.00, 9,  -999.00, 9, -999.000, 9, -999.000, 9, -999.000, 9, -999.000, 9,   -999.0, 9,   -999.0, 9, -999.0000,   -999.00,   -999.0, 9,   -999.0,  -999.00, 9,   -999.0,  25.2412, 23.7877,  25.2643, 2, 9, -999.00, -999.00, -999.00, -999.000,  -999.00, 9, -999.00, -999.00, 9, -999.00
49NZ20071122, P14N, 184, 1, 11, X12047, 9, 20071212, 0521, -15.4947, 178.9942, 2580,    150.5, 2,  24.0383, 2,  35.9878, 2, -999.0000, 9,    162.2, 2,   -999.0, 9,  -999.00, 9,  -999.00, 9,  -999.00, 9,  -999.00, 9, -999.000, 9, -999.000, 9, -999.000, 9, -999.000, 9,   -999.0, 9,   -999.0, 9, -999.0000,   -999.00,   -999.0, 9,   -999.0,  -999.00, 9,   -999.0,  24.0064, 24.3875,  24.0265, 2, 9, -999.00, -999.00, -999.00, -999.000,  -999.00, 9, -999.00, -999.00, 9, -999.00
49NZ20071122, P14N, 184, 1, 10, X12012, 9, 20071212, 0521, -15.4947, 178.9942, 2580,    201.9, 2,  21.1278, 2,  35.8356, 2, -999.0000, 9,    157.3, 2,   -999.0, 9,  -999.00, 9,  -999.00, 9,  -999.00, 9,  -999.00, 9, -999.000, 9, -999.000, 9, -999.000, 9, -999.000, 9,   -999.0, 9,   -999.0, 9, -999.0000,   -999.00,   -999.0, 9,   -999.0,  -999.00, 9,   -999.0,  21.0888, 25.1059,  21.1194, 2, 9, -999.00, -999.00, -999.00, -999.000,  -999.00, 9, -999.00, -999.00, 9, -999.00
49NZ20071122, P14N, 184, 1, 9, X12015, 9, 20071212, 0521, -15.4947, 178.9942, 2580,    249.5, 2,  19.2241, 2,  35.6072, 2, -999.0000, 9,    161.8, 2,   -999.0, 9,  -999.00, 9,  -999.00, 9,  -999.00, 9,  -999.00, 9, -999.000, 9, -999.000, 9, -999.000, 9, -999.000, 9,   -999.0, 9,   -999.0, 9, -999.0000,   -999.00,   -999.0, 9,   -999.0,  -999.00, 9,   -999.0,  19.1790, 25.4394,  19.2217, 2, 9, -999.00, -999.00, -999.00, -999.000,  -999.00, 9, -999.00, -999.00, 9, -999.00
49NZ20071122, P14N, 184, 1, 8, X12046, 9, 20071212, 0521, -15.4947, 178.9942, 2580,    299.9, 2,  16.1771, 2,  35.2753, 2, -999.0000, 9,    171.2, 2,   -999.0, 9,  -999.00, 9,  -999.00, 9,  -999.00, 9,  -999.00, 9, -999.000, 9, -999.000, 9, -999.000, 9, -999.000, 9,   -999.0, 9,   -999.0, 9, -999.0000,   -999.00,   -999.0, 9,   -999.0,  -999.00, 9,   -999.0,  16.1290, 25.9298,  16.2124, 2, 9, -999.00, -999.00, -999.00, -999.000,  -999.00, 9, -999.00, -999.00, 9, -999.00
49NZ20071122, P14N, 184, 1, 7, X12044, 9, 20071212, 0521, -15.4947, 178.9942, 2580,    402.3, 2,  12.6137, 2,  34.8908, 2, -999.0000, 9,    175.6, 2,   -999.0, 9,  -999.00, 9,  -999.00, 9,  -999.00, 9,  -999.00, 9, -999.000, 9, -999.000, 9, -999.000, 9, -999.000, 9,   -999.0, 9,   -999.0, 9, -999.0000,   -999.00,   -999.0, 9,   -999.0,  -999.00, 9,   -999.0,  12.5591, 26.3959,  12.6162, 2, 9, -999.00, -999.00, -999.00, -999.000,  -999.00, 9, -999.00, -999.00, 9, -999.00
49NZ20071122, P14N, 184, 1, 6, X12048, 9, 20071212, 0521, -15.4947, 178.9942, 2580,    499.7, 2,   8.6543, 2,  34.5477, 2, -999.0000, 9,    175.8, 2,   -999.0, 9,  -999.00, 9,  -999.00, 9,  -999.00, 9,  -999.00, 9, -999.000, 9, -999.000, 9, -999.000, 9, -999.000, 9,   -999.0, 9,   -999.0, 9, -999.0000,   -999.00,   -999.0, 9,   -999.0,  -999.00, 9,   -999.0,   8.6007, 26.8270,   8.6542, 2, 9, -999.00, -999.00, -999.00, -999.000,  -999.00, 9, -999.00, -999.00, 9, -999.00
49NZ20071122, P14N, 184, 1, 5, X12014, 9, 20071212, 0521, -15.4947, 178.9942, 2580,    600.0, 2,   6.6569, 2,  34.4200, 2, -999.0000, 9,    187.1, 2,   -999.0, 9,  -999.00, 9,  -999.00, 9,  -999.00, 9,  -999.00, 9, -999.000, 9, -999.000, 9, -999.000, 9, -999.000, 9,   -999.0, 9,   -999.0, 9, -999.0000,   -999.00,   -999.0, 9,   -999.0,  -999.00, 9,   -999.0,   6.6011, 27.0160,   6.6559, 2, 9, -999.00, -999.00, -999.00, -999.000,  -999.00, 9, -999.00, -999.00, 9, -999.00
49NZ20071122, P14N, 184, 1, 4, X12006, 9, 20071212, 0521, -15.4947, 178.9942, 2580,    700.6, 2,   5.5835, 2,  34.3885, 2, -999.0000, 9,    184.7, 2,   -999.0, 9,  -999.00, 9,  -999.00, 9,  -999.00, 9,  -999.00, 9, -999.000, 9, -999.000, 9, -999.000, 9, -999.000, 9,   -999.0, 9,   -999.0, 9, -999.0000,   -999.00,   -999.0, 9,   -999.0,  -999.00, 9,   -999.0,   5.5237, 27.1285,   5.5849, 2, 9, -999.00, -999.00, -999.00, -999.000,  -999.00, 9, -999.00, -999.00, 9, -999.00
49NZ20071122, P14N, 184, 1, 3, X12013, 9, 20071212, 0521, -15.4947, 178.9942, 2580,    799.4, 2,   4.9025, 2,  34.4016, 2, -999.0000, 9,    173.9, 2,   -999.0, 9,  -999.00, 9,  -999.00, 9,  -999.00, 9,  -999.00, 9, -999.000, 9, -999.000, 9, -999.000, 9, -999.000, 9,   -999.0, 9,   -999.0, 9, -999.0000,   -999.00,   -999.0, 9,   -999.0,  -999.00, 9,   -999.0,   4.8378, 27.2194,   4.8956, 2, 9, -999.00, -999.00, -999.00, -999.000,  -999.00, 9, -999.00, -999.00, 9, -999.00
49NZ20071122, P14N, 184, 1, 2, X12002, 9, 20071212, 0521, -15.4947, 178.9942, 2580,    900.9, 2,   4.4950, 2,  34.4221, 2, -999.0000, 9,    166.5, 2,   -999.0, 9,  -999.00, 9,  -999.00, 9,  -999.00, 9,  -999.00, 9, -999.000, 9, -999.000, 9, -999.000, 9, -999.000, 9,   -999.0, 9,   -999.0, 9, -999.0000,   -999.00,   -999.0, 9,   -999.0,  -999.00, 9,   -999.0,   4.4242, 27.2815,   4.4948, 2, 9, -999.00, -999.00, -999.00, -999.000,  -999.00, 9, -999.00, -999.00, 9, -999.00
49NZ20071122, P14N, 184, 1, 1, X12001, 2, 20071212, 0521, -15.4947, 178.9942, 2580,   2606.1, 2,   1.9197, 2,  34.6573, 2,  34.6581, 6,    145.5, 2,    145.2, 2,   126.38, 2,    36.16, 2,     0.00, 2,     2.56, 2,    0.000, 2,    0.000, 2,    0.003, 2, -999.000, 9,   2318.0, 2,   2407.3, 2,    7.5858,     25.00,   -999.0, 9,   -999.0,  -999.00, 9,   -999.0,   1.7312, 27.7180,   1.9194, 2, 2, 0.40, 0.13, 0.01, 0.016,  -999.00, 9, -999.00, -999.00, 9, -999.00