BOTTLE,20220820CCHSIOAMB
EXPOCODE,SECT_ID,STNNBR,CASTNO,SAMPNO,BTLNBR,BTLNBR_FLAG_W,DATE,TIME,LATITUDE,LONGITUDE,DEPTH,CTDPRS,CTDPRS_FLAG_W,CTDTMP,CTDTMP_FLAG_W,CTDSAL,CTDSAL_FLAG_W,SALNTY,SALNTY_FLAG_W,CTDOXY,CTDOXY_FLAG_W,OXYGEN,OXYGEN_FLAG_W,SILCAT,SILCAT_FLAG_W,NITRAT,NITRAT_FLAG_W,NITRIT,NITRIT_FLAG_W,PHSPHT,PHSPHT_FLAG_W,CFC-11,CFC-11_FLAG_W,CFC-12,CFC-12_FLAG_W,CFC113,CFC113_FLAG_W,CCL4,CCL4_FLAG_W,TCARBN,TCARBN_FLAG_W,ALKALI,ALKALI_FLAG_W,PH_TOT,PH_TMP,DELC14,DELC14_FLAG_W,C14ERR,DELC13,DELC13_FLAG_W,C13ERR,THETA,SIG0,SBE35,SBE35_FLAG_W,PH_TOT_FLAG_W,SILUNC,NRAUNC,NRIUNC,PHPUNC,CS-137,CS-137_FLAG_W,CS137ER,PLUTO,PLUTO_FLAG_W,PLUTOER
,,,,,,,,,,,METERS,DBAR,,ITS-90,,PSS-78,,PSS-78,,UMOL/KG,,UMOL/KG,,UMOL/KG,,UMOL/KG,,UMOL/KG,,UMOL/KG,,PMOL/KG,,PMOL/KG,,PMOL/KG,,PMOL/KG,,UMOL/KG,,UMOL/KG,,,DEG C,/MILLE,,/MILLE,/MILLE,,/MILLE,DEG C,KG/M^3,ITS-90,,,UMOL/KG,UMOL/KG,UMOL/KG,UMOL/KG,DM/.1MG,,BQ/M^3,MBQ/M^3,,MBQ/M^3
49NZ20071122, P14, 12, 1, 36, X12042, 2, 20071221, 0641, -32.1695, 175.6365, 3925,     10.2, 2,  20.3858, 2,  35.6603, 2,  35.6821, 2,    229.9, 2,    229.8, 2,     0.57, 2,     0.02, 2,     0.01, 2,     0.12, 2, -999.000, 9, -999.000, 9, -999.000, 9, -999.000, 9,   -999.0, 9,   -999.0, 9, -999.0000,   -999.00,   -999.0, 9,   -999.0,  -999.00, 9,   -999.0,  20.3839, 25.1633,  20.3924, 2, 9, 0.12, 0.03, 0.01, 0.020,  -999.00, 9, -999.00, -999.00, 9, -999.00
49NZ20071122, P14, 12, 1, 35, X12041, 2, 20071221, 0641, -32.1695, 175.6365, 3925,     50.1, 2,  19.2381, 2,  35.7278, 2,  35.7287, 2,    233.6, 2,    233.8, 2,     0.56, 2,     0.02, 2,     0.01, 2,     0.13, 2, -999.000, 9, -999.000, 9, -999.000, 9, -999.000, 9,   -999.0, 9,   -999.0, 9, -999.0000,   -999.00,   -999.0, 9,   -999.0,  -999.00, 9,   -999.0,  19.2291, 25.5187,  19.2392, 2, 9, 0.12, 0.03, 0.01, 0.019,  -999.00, 9, -999.00, -999.00, 9, -999.00
49NZ20071122, P14, 12, 1, 34, X12016, 2, 20071221, 0641, -32.1695, 175.6365, 3925,    100.7, 2,  17.3798, 2,  35.6309, 2,  35.6265, 2,    210.1, 2,    210.5, 2,     1.14, 2,     3.93, 2,     0.02, 2,     0.38, 2, -999.000, 9, -999.000, 9, -999.000, 9, -999.000, 9,   -999.0, 9,   -999.0, 9, -999.0000,   -999.00,   -999.0, 9,   -999.0,  -999.00, 9,   -999.0,  17.3629, 25.9114,  17.3643, 2, 9, 0.12, 0.04, 0.01, 0.013,  -999.00, 1, -999.00, -999.00, 9, -999.00
49NZ20071122, P14, 12, 1, 33, X12033, 2, 20071221, 0641, -32.1695, 175.6365, 3925,    151.2, 2,  16.7938, 2,  35.5937, 2,  35.5772, 2,    210.1, 2,    208.6, 2,     1.39, 2,     4.97, 2,     0.02, 2,     0.45, 2, -999.000, 9, -999.000, 9, -999.000, 9, -999.000, 9,   -999.0, 9,   -999.0, 9, -999.0000,   -999.00,   -999.0, 9,   -999.0,  -999.00, 9,   -999.0,  16.7690, 26.0250,  16.7697, 2, 9, 0.12, 0.05, 0.01, 0.013,  -999.00, 9, -999.00, -999.00, 9, -999.00
49NZ20071122, P14, 12, 1, 32, X12038, 2, 20071221, 0641, -32.1695, 175.6365, 3925,    200.6, 2,  15.5854, 2,  35.4585, 2,  35.4579, 2,    203.5, 2,    204.1, 2,     2.03, 2,     6.95, 2,     0.01, 2,     0.58, 2, -999.000, 9, -999.000, 9, -999.000, 9, -999.000, 9,   -999.0, 9,   -999.0, 9, -999.0000,   -999.00,   -999.0, 9,   -999.0,  -999.00, 9,   -999.0,  15.5541, 26.2019,  15.5839, 2, 9, 0.12, 0.05, 0.01, 0.013,  -999.00, 1, -999.00, -999.00, 9, -999.00
49NZ20071122, P14, 12, 1, 31, X12003, 2, 20071221, 0641, -32.1695, 175.6365, 3925,    248.5, 2,  14.5632, 2,  35.3467, 2,  35.3342, 6,    199.4, 2,    199.1, 2,     2.93, 2,     9.22, 2,     0.01, 2,     0.72, 2, -999.000, 9, -999.000, 9, -999.000, 9, -999.000, 9,   -999.0, 9,   -999.0, 9, -999.0000,   -999.00,   -999.0, 9,   -999.0,  -999.00, 9,   -999.0,  14.5261, 26.3428,  14.5597, 2, 9, 0.13, 0.06, 0.01, 0.013,  -999.00, 9, -999.00, -999.00, 9, -999.00
49NZ20071122, P14, 12, 1, 30, X12008, 2, 20071221, 0641, -32.1695, 175.6365, 3925,    300.1, 2,  13.5920, 2,  35.2310, 2,  35.2268, 2,    196.4, 2,    196.6, 2,     3.57, 2,    11.04, 2,     0.01, 2,     0.84, 2, -999.000, 9, -999.000, 9, -999.000, 9, -999.000, 9,   -999.0, 9,   -999.0, 9, -999.0000,   -999.00,   -999.0, 9,   -999.0,  -999.00, 9,   -999.0,  13.5492, 26.4598,  13.5928, 2, 9, 0.13, 0.06, 0.01, 0.013,  -999.00, 9, -999.00, -999.00, 9, -999.00
49NZ20071122, P14, 12, 1, 29, X12035, 2, 20071221, 0641, -32.1695, 175.6365, 3925,    399.6, 2,  11.7809, 2,  35.0261, 2,  35.0245, 2,    197.4, 2,    197.4, 2,     6.15, 2,    14.71, 2,     0.01, 2,     1.08, 2, -999.000, 9, -999.000, 9, -999.000, 9, -999.000, 9,   -999.0, 9,   -999.0, 9, -999.0000,   -999.00,   -999.0, 9,   -999.0,  -999.00, 9,   -999.0,  11.7289, 26.6609,  11.7788, 2, 9, 0.13, 0.07, 0.01, 0.013,  -999.00, 1, -999.00, -999.00, 9, -999.00
49NZ20071122, P14, 12, 1, 28, X12034, 2, 20071221, 0641, -32.1695, 175.6365, 3925,    500.6, 2,  10.1442, 2,  34.8183, 2,  34.8159, 6,    197.4, 2,    197.1, 2,     8.27, 2,    18.24, 2,     0.01, 2,     1.30, 2, -999.000, 9, -999.000, 9, -999.000, 9, -999.000, 9,   -999.0, 9,   -999.0, 9, -999.0000,   -999.00,   -999.0, 9,   -999.0,  -999.00, 9,   -999.0,  10.0848, 26.7956,  10.1450, 2, 9, 0.14, 0.08, 0.01, 0.014,  -999.00, 9, -999.00, -999.00, 9, -999.00
49NZ20071122, P14, 12, 1, 27, X12049, 2, 20071221, 0641, -32.1695, 175.6365, 3925,    602.6, 2,   8.3418, 2,  34.5686, 2,  34.5684, 2,    210.4, 2,    210.3, 2,     8.33, 2,    21.12, 2,     0.01, 2,     1.48, 2,    2.469, 2,    1.247, 2,    0.114, 2, -999.000, 9,   -999.0, 9,   -999.0, 9, -999.0000,   -999.00,   -999.0, 9,   -999.0,  -999.00, 9,   -999.0,   8.2781, 26.8931,   8.3415, 2, 9, 0.14, 0.09, 0.01, 0.014,  -999.00, 1, -999.00, -999.00, 9, -999.00
49NZ20071122, P14, 12, 1, 26, X12032, 2, 20071221, 0641, -32.1695, 175.6365, 3925,    700.0, 2,   7.5902, 2,  34.4933, 2,  34.4950, 2,    214.7, 2,    213.7, 2,    10.11, 2,    22.71, 2,     0.01, 2,     1.59, 2,    2.188, 2,    1.079, 2,    0.103, 2, -999.000, 9,   -999.0, 9,   -999.0, 9, -999.0000,   -999.00,   -999.0, 9,   -999.0,  -999.00, 9,   -999.0,   7.5197, 26.9462,   7.5905, 2, 9, 0.14, 0.10, 0.01, 0.014,  -999.00, 9, -999.00, -999.00, 9, -999.00
49NZ20071122, P14, 12, 1, 25, X12043, 2, 20071221, 0641, -32.1695, 175.6365, 3925,    800.4, 2,   6.9298, 2,  34.4486, 2,  34.4498, 2,    212.1, 2,    211.5, 2,    13.70, 2,    24.53, 2,     0.00, 2,     1.71, 2,    1.669, 2,    0.821, 2,    0.062, 2, -999.000, 9,   -999.0, 9,   -999.0, 9, -999.0000,   -999.00,   -999.0, 9,   -999.0,  -999.00, 9,   -999.0,   6.8527, 27.0047,   6.9306, 2, 9, 0.15, 0.10, 0.01, 0.014,  -999.00, 1, -999.00, -999.00, 9, -999.00
49NZ20071122, P14, 12, 1, 24, X12030, 2, 20071221, 0641, -32.1695, 175.6365, 3925,    900.9, 2,   6.2841, 2,  34.4419, 2,  34.4423, 2,    200.2, 2,    201.4, 2,    21.34, 2,    26.61, 2,     0.01, 2,     1.86, 2,    1.076, 2,    0.527, 2,    0.036, 2, -999.000, 9,   -999.0, 9,   -999.0, 9, -999.0000,   -999.00,   -999.0, 9,   -999.0,  -999.00, 9,   -999.0,   6.2010, 27.0859,   6.2848, 2, 9, 0.17, 0.11, 0.01, 0.015,  -999.00, 9, -999.00, -999.00, 9, -999.00
49NZ20071122, P14, 12, 1, 23, X12027, 2, 20071221, 0641, -32.1695, 175.6365, 3925,   1001.0, 2,   5.7499, 2,  34.4551, 2,  34.4586, 3,    191.3, 2,    191.1, 2,    31.14, 2,    28.34, 2,     0.00, 2,     1.98, 2,    0.741, 2,    0.373, 2,    0.024, 2, -999.000, 9,   -999.0, 9,   -999.0, 9, -999.0000,   -999.00,   -999.0, 9,   -999.0,  -999.00, 9,   -999.0,   5.6609, 27.1645,   5.7507, 2, 9, 0.19, 0.11, 0.01, 0.015,  -999.00, 1, -999.00, -999.00, 9, -999.00
49NZ20071122, P14, 12, 1, 22, X12028, 2, 20071221, 0641, -32.1695, 175.6365, 3925,   1201.0, 2,   4.6025, 2,  34.4713, 2,  34.4699, 6,    180.0, 2,    179.3, 2,    49.02, 2,    31.11, 2,     0.00, 2,     2.17, 2,    0.362, 2,    0.181, 2,    0.010, 2, -999.000, 9,   -999.0, 9,   -999.0, 9, -999.0000,   -999.00,   -999.0, 9,   -999.0,  -999.00, 9,   -999.0,   4.5044, 27.3119,   4.6030, 2, 9, 0.23, 0.12, 0.01, 0.015,  -999.00, 9, -999.00, -999.00, 9, -999.00
49NZ20071122, P14, 12, 1, 21, X12009, 2, 20071221, 0641, -32.1695, 175.6365, 3925,   1400.9, 2,   3.7049, 2,  34.5224, 2,  34.5233, 2,    168.0, 2,    167.1, 2,    69.27, 2,    32.93, 2,     0.00, 2,     2.31, 2,    0.169, 2,    0.087, 2,    0.009, 2, -999.000, 9,   -999.0, 9,   -999.0, 9, -999.0000,   -999.00,   -999.0, 9,   -999.0,  -999.00, 9,   -999.0,   3.5978, 27.4469,   3.7051, 2, 9, 0.27, 0.13, 0.01, 0.016,  -999.00, 9, -999.00, -999.00, 9, -999.00
49NZ20071122, P14, 12, 1, 20, X12026, 2, 20071221, 0641, -32.1695, 175.6365, 3925,   1601.4, 2,   3.0098, 2,  34.5734, 2,  34.5735, 2,    160.4, 2,    159.1, 2,    87.50, 2,    34.19, 2,     0.00, 2,     2.40, 2,    0.065, 2,    0.033, 2,    0.003, 2, -999.000, 9,   -999.0, 9,   -999.0, 9, -999.0000,   -999.00,   -999.0, 9,   -999.0,  -999.00, 9,   -999.0,   2.8933, 27.5543,   3.0095, 2, 9, 0.31, 0.13, 0.01, 0.016,  -999.00, 9, -999.00, -999.00, 9, -999.00
49NZ20071122, P14, 12, 1, 19, X12025, 2, 20071221, 0641, -32.1695, 175.6365, 3925,   1801.0, 2,   2.6213, 2,  34.6080, 2,  34.6079, 2,    156.0, 2,    155.5, 2,    98.91, 2,    34.72, 2,     0.00, 2,     2.44, 2,    0.030, 2,    0.016, 2,    0.002, 2, -999.000, 9,   -999.0, 9,   -999.0, 9, -999.0000,   -999.00,   -999.0, 9,   -999.0,  -999.00, 9,   -999.0,   2.4928, 27.6171,   2.6212, 2, 9, 0.34, 0.13, 0.01, 0.016,  -999.00, 9, -999.00, -999.00, 9, -999.00
49NZ20071122, P14, 12, 1, 18, X12024, 2, 20071221, 0641, -32.1695, 175.6365, 3925,   1999.8, 2,   2.3873, 2,  34.6280, 2,  34.6283, 2,    153.6, 2,    153.3, 2,   105.97, 2,    35.00, 2,     0.00, 2,     2.46, 2,    0.012, 2,    0.006, 2,    0.000, 2, -999.000, 9,   -999.0, 9,   -999.0, 9, -999.0000,   -999.00,   -999.0, 9,   -999.0,  -999.00, 9,   -999.0,   2.2450, 27.6538,   2.3873, 2, 9, 0.35, 0.13, 0.01, 0.016,  -999.00, 1, -999.00, -999.00, 9, -999.00
49NZ20071122, P14, 12, 1, 17, X12023, 2, 20071221, 0641, -32.1695, 175.6365, 3925,   2200.5, 2,   2.2019, 2,  34.6443, 2,  34.6443, 6,    152.7, 2,    152.6, 2,   111.19, 2,    35.19, 2,     0.00, 2,     2.48, 2,    0.005, 2,    0.004, 2,    0.000, 2, -999.000, 9,   -999.0, 9,   -999.0, 9, -999.0000,   -999.00,   -999.0, 9,   -999.0,  -999.00, 9,   -999.0,   2.0450, 27.6832,   2.2021, 2, 9, 0.36, 0.13, 0.01, 0.016,  -999.00, 9, -999.00, -999.00, 9, -999.00
49NZ20071122, P14, 12, 1, 16, X12022, 2, 20071221, 0641, -32.1695, 175.6365, 3925,   2400.8, 2,   2.0483, 2,  34.6586, 2,  34.6586, 2,    152.6, 2,    153.0, 2,   115.35, 2,    35.34, 2,     0.00, 2,     2.48, 2,    0.004, 2,    0.003, 2,    0.000, 2, -999.000, 9,   -999.0, 9,   -999.0, 9, -999.0000,   -999.00,   -999.0, 9,   -999.0,  -999.00, 9,   -999.0,   1.8761, 27.7079,   2.0483, 2, 9, 0.37, 0.13, 0.01, 0.016,  -999.00, 9, -999.00, -999.00, 9, -999.00
49NZ20071122, P14, 12, 1, 15, X12021, 2, 20071221, 0641, -32.1695, 175.6365, 3925,   2602.0, 2,   1.9320, 2,  34.6689, 2,  34.6686, 2,    153.2, 2,    153.1, 2,   118.52, 2,    35.37, 2,     0.00, 2,     2.48, 2,    0.003, 2,    0.001, 2,    0.000, 2, -999.000, 9,   -999.0, 9,   -999.0, 9, -999.0000,   -999.00,   -999.0, 9,   -999.0,  -999.00, 9,   -999.0,   1.7436, 27.7263,   1.9321, 2, 9, 0.38, 0.13, 0.01, 0.016,  -999.00, 9, -999.00, -999.00, 9, -999.00
49NZ20071122, P14, 12, 1, 14, X12020, 2, 20071221, 0641, -32.1695, 175.6365, 3925,   2800.2, 2,   1.8667, 2,  34.6753, 2,  34.6753, 2,    153.3, 2,    153.4, 2,   120.65, 2,    35.34, 2,     0.00, 2,     2.49, 2, -999.000, 9, -999.000, 9, -999.000, 9, -999.000, 9,   -999.0, 9,   -999.0, 9, -999.0000,   -999.00,   -999.0, 9,   -999.0,  -999.00, 9,   -999.0,   1.6610, 27.7377,   1.8667, 2, 9, 0.38, 0.13, 0.01, 0.016,  -999.00, 9, -999.00, -999.00, 9, -999.00
49NZ20071122, P14, 12, 1, 13, X12019, 2, 20071221, 0641, -32.1695, 175.6365, 3925,   3000.8, 2,   1.8438, 2,  34.6785, 2,  34.6785, 2,    153.6, 2,    153.4, 2,   121.28, 2,    35.40, 2,     0.00, 2,     2.49, 2,    0.000, 2,    0.000, 2,    0.000, 2, -999.000, 9,   -999.0, 9,   -999.0, 9, -999.0000,   -999.00,   -999.0, 9,   -999.0,  -999.00, 9,   -999.0,   1.6194, 27.7434,   1.8438, 2, 9, 0.39, 0.13, 0.01, 0.016,  -999.00, 1, -999.00, -999.00, 9, -999.00
49NZ20071122, P14, 12, 1, 12, X12040, 2, 20071221, 0641, -32.1695, 175.6365, 3925,   3250.3, 2,   1.8399, 2,  34.6806, 2,  34.6804, 2,    153.6, 2,    153.5, 2,   122.19, 2,    35.23, 2,     0.00, 2,     2.48, 2, -999.000, 9, -999.000, 9, -999.000, 9, -999.000, 9,   -999.0, 9,   -999.0, 9, -999.0000,   -999.00,   -999.0, 9,   -999.0,  -999.00, 9,   -999.0,   1.5908, 27.7472,   1.8399, 2, 9, 0.39, 0.13, 0.01, 0.016,  -999.00, 9, -999.00, -999.00, 9, -999.00
49NZ20071122, P14, 12, 1, 11, X12047, 2, 20071221, 0641, -32.1695, 175.6365, 3925,   3500.6, 2,   1.8517, 2,  34.6814, 2,  34.6812, 6,    153.7, 2,    153.6, 2,   122.44, 2,    35.45, 2,     0.00, 2,     2.48, 2,    0.003, 2,    0.001, 2,    0.000, 2, -999.000, 9,   -999.0, 9,   -999.0, 9, -999.0000,   -999.00,   -999.0, 9,   -999.0,  -999.00, 9,   -999.0,   1.5767, 27.7489,   1.8517, 2, 9, 0.39, 0.13, 0.01, 0.016,  -999.00, 9, -999.00, -999.00, 9, -999.00
49NZ20071122, P14, 12, 1, 10, X12012, 2, 20071221, 0641, -32.1695, 175.6365, 3925,   3749.2, 2,   1.8686, 2,  34.6819, 2,  34.6823, 2,    153.6, 2,    153.4, 2,   122.86, 2,    35.46, 2,     0.00, 2,     2.49, 2, -999.000, 9, -999.000, 9, -999.000, 9, -999.000, 9,   -999.0, 9,   -999.0, 9, -999.0000,   -999.00,   -999.0, 9,   -999.0,  -999.00, 9,   -999.0,   1.5668, 27.7500,   1.8686, 2, 9, 0.39, 0.13, 0.01, 0.016,  -999.00, 9, -999.00, -999.00, 9, -999.00
49NZ20071122, P14, 12, 1, 9, X12015, 2, 20071221, 0641, -32.1695, 175.6365, 3925,   1999.8, 2,   2.3869, 2,  34.6281, 2, -999.0000, 9,    153.6, 2,   -999.0, 9,  -999.00, 9,  -999.00, 9,  -999.00, 9,  -999.00, 9, -999.000, 9, -999.000, 9, -999.000, 9, -999.000, 9,   -999.0, 9,   -999.0, 9, -999.0000,   -999.00,   -999.0, 9,   -999.0,  -999.00, 9,   -999.0,   2.2446, 27.6539,   2.3867, 2, 9, -999.00, -999.00, -999.00, -999.000,  -999.00, 1, -999.00, -999.00, 9, -999.00
49NZ20071122, P14, 12, 1, 8, X12046, 3, 20071221, 0641, -32.1695, 175.6365, 3925,   1999.5, 2,   2.3870, 2,  34.6282, 2, -999.0000, 9,    153.7, 2,   -999.0, 9,  -999.00, 9,  -999.00, 9,  -999.00, 9,  -999.00, 9, -999.000, 9, -999.000, 9, -999.000, 9, -999.000, 9,   -999.0, 9,   -999.0, 9, -999.0000,   -999.00,   -999.0, 9,   -999.0,  -999.00, 9,   -999.0,   2.2447, 27.6540,   2.3870, 2, 9, -999.00, -999.00, -999.00, -999.000,  -999.00, 1, -999.00, -999.00, 9, -999.00
49NZ20071122, P14, 12, 1, 7, X12044, 2, 20071221, 0641, -32.1695, 175.6365, 3925,   3002.2, 2,   1.8441, 2,  34.6784, 2, -999.0000, 9,    153.6, 2,   -999.0, 9,  -999.00, 9,  -999.00, 9,  -999.00, 9,  -999.00, 9, -999.000, 9, -999.000, 9, -999.000, 9, -999.000, 9,   -999.0, 9,   -999.0, 9, -999.0000,   -999.00,   -999.0, 9,   -999.0,  -999.00, 9,   -999.0,   1.6195, 27.7433,   1.8441, 2, 9, -999.00, -999.00, -999.00, -999.000,  -999.00, 1, -999.00, -999.00, 9, -999.00
49NZ20071122, P14, 12, 1, 6, X12048, 2, 20071221, 0641, -32.1695, 175.6365, 3925,   3001.4, 2,   1.8439, 2,  34.6784, 2, -999.0000, 9,    153.6, 2,   -999.0, 9,  -999.00, 9,  -999.00, 9,  -999.00, 9,  -999.00, 9, -999.000, 9, -999.000, 9, -999.000, 9, -999.000, 9,   -999.0, 9,   -999.0, 9, -999.0000,   -999.00,   -999.0, 9,   -999.0,  -999.00, 9,   -999.0,   1.6194, 27.7433,   1.8439, 2, 9, -999.00, -999.00, -999.00, -999.000,  -999.00, 1, -999.00, -999.00, 9, -999.00
49NZ20071122, P14, 12, 1, 5, X12014, 2, 20071221, 0641, -32.1695, 175.6365, 3925,   3001.2, 2,   1.8439, 2,  34.6783, 2, -999.0000, 9,    153.6, 2,   -999.0, 9,  -999.00, 9,  -999.00, 9,  -999.00, 9,  -999.00, 9, -999.000, 9, -999.000, 9, -999.000, 9, -999.000, 9,   -999.0, 9,   -999.0, 9, -999.0000,   -999.00,   -999.0, 9,   -999.0,  -999.00, 9,   -999.0,   1.6194, 27.7432,   1.8439, 2, 9, -999.00, -999.00, -999.00, -999.000,  -999.00, 1, -999.00, -999.00, 9, -999.00
49NZ20071122, P14, 12, 1, 4, X12006, 2, 20071221, 0641, -32.1695, 175.6365, 3925,   3968.5, 2,   1.8863, 2,  34.6821, 2, -999.0000, 9,    153.7, 2,   -999.0, 9,  -999.00, 9,  -999.00, 9,  -999.00, 9,  -999.00, 9, -999.000, 9, -999.000, 9, -999.000, 9, -999.000, 9,   -999.0, 9,   -999.0, 9, -999.0000,   -999.00,   -999.0, 9,   -999.0,  -999.00, 9,   -999.0,   1.5600, 27.7507,   1.8864, 2, 9, -999.00, -999.00, -999.00, -999.000,  -999.00, 1, -999.00, -999.00, 9, -999.00
49NZ20071122, P14, 12, 1, 3, X12013, 2, 20071221, 0641, -32.1695, 175.6365, 3925,   3968.5, 2,   1.8863, 2,  34.6820, 2, -999.0000, 9,    153.7, 2,   -999.0, 9,  -999.00, 9,  -999.00, 9,  -999.00, 9,  -999.00, 9, -999.000, 9, -999.000, 9, -999.000, 9, -999.000, 9,   -999.0, 9,   -999.0, 9, -999.0000,   -999.00,   -999.0, 9,   -999.0,  -999.00, 9,   -999.0,   1.5600, 27.7506,   1.8863, 2, 9, -999.00, -999.00, -999.00, -999.000,  -999.00, 1, -999.00, -999.00, 9, -999.00
49NZ20071122, P14, 12, 1, 2, X12002, 2, 20071221, 0641, -32.1695, 175.6365, 3925,   3968.2, 2,   1.8858, 2,  34.6820, 2, -999.0000, 9,    153.7, 2,   -999.0, 9,  -999.00, 9,  -999.00, 9,  -999.00, 9,  -999.00, 9, -999.000, 9, -999.000, 9, -999.000, 9, -999.000, 9,   -999.0, 9,   -999.0, 9, -999.0000,   -999.00,   -999.0, 9,   -999.0,  -999.00, 9,   -999.0,   1.5596, 27.7506,   1.8859, 2, 9, -999.00, -999.00, -999.00, -999.000,  -999.00, 1, -999.00, -999.00, 9, -999.00
49NZ20071122, P14, 12, 1, 1, X12001, 2, 20071221, 0641, -32.1695, 175.6365, 3925,   3967.7, 2,   1.8859, 2,  34.6820, 2,  34.6823, 6,    153.7, 2,    153.5, 2,   122.87, 2,    35.49, 2,     0.00, 2,     2.49, 2,    0.001, 2,    0.000, 2,    0.000, 2, -999.000, 9,   -999.0, 9,   -999.0, 9, -999.0000,   -999.00,   -999.0, 9,   -999.0,  -999.00, 9,   -999.0,   1.5597, 27.7506,   1.8859, 2, 9, 0.39, 0.13, 0.01, 0.016,  -999.00, 1, -999.00, -999.00, 9, -999.00