BOTTLE,20220820CCHSIOAMB
EXPOCODE,SECT_ID,STNNBR,CASTNO,SAMPNO,BTLNBR,BTLNBR_FLAG_W,DATE,TIME,LATITUDE,LONGITUDE,DEPTH,CTDPRS,CTDPRS_FLAG_W,CTDTMP,CTDTMP_FLAG_W,CTDSAL,CTDSAL_FLAG_W,SALNTY,SALNTY_FLAG_W,CTDOXY,CTDOXY_FLAG_W,OXYGEN,OXYGEN_FLAG_W,SILCAT,SILCAT_FLAG_W,NITRAT,NITRAT_FLAG_W,NITRIT,NITRIT_FLAG_W,PHSPHT,PHSPHT_FLAG_W,CFC-11,CFC-11_FLAG_W,CFC-12,CFC-12_FLAG_W,CFC113,CFC113_FLAG_W,CCL4,CCL4_FLAG_W,TCARBN,TCARBN_FLAG_W,ALKALI,ALKALI_FLAG_W,PH_TOT,PH_TMP,DELC14,DELC14_FLAG_W,C14ERR,DELC13,DELC13_FLAG_W,C13ERR,THETA,SIG0,SBE35,SBE35_FLAG_W,PH_TOT_FLAG_W,SILUNC,NRAUNC,NRIUNC,PHPUNC,CS-137,CS-137_FLAG_W,CS137ER,PLUTO,PLUTO_FLAG_W,PLUTOER
,,,,,,,,,,,METERS,DBAR,,ITS-90,,PSS-78,,PSS-78,,UMOL/KG,,UMOL/KG,,UMOL/KG,,UMOL/KG,,UMOL/KG,,UMOL/KG,,PMOL/KG,,PMOL/KG,,PMOL/KG,,PMOL/KG,,UMOL/KG,,UMOL/KG,,,DEG C,/MILLE,,/MILLE,/MILLE,,/MILLE,DEG C,KG/M^3,ITS-90,,,UMOL/KG,UMOL/KG,UMOL/KG,UMOL/KG,DM/.1MG,,BQ/M^3,MBQ/M^3,,MBQ/M^3
49NZ20071122, P14, 30, 1, 36, X12042, 2, 20071217, 1219, -24.3630, 176.9547, 4448,     10.1, 2,  24.1570, 2,  35.3995, 2,  35.3995, 2,    213.4, 2,    212.6, 2,     0.47, 2,     0.05, 2,     0.00, 2,     0.05, 2,    1.808, 2,    1.095, 2,    0.331, 4, -999.000, 9,   1981.6, 2,   2324.6, 2,    8.1042,     25.00,   -999.0, 9,   -999.0,  -999.00, 9,   -999.0,  24.1549, 23.8978,  24.1559, 2, 2, 0.12, 0.03, 0.01, 0.033,  -999.00, 9, -999.00, -999.00, 9, -999.00
49NZ20071122, P14, 30, 1, 35, X12041, 2, 20071217, 1219, -24.3630, 176.9547, 4448,     49.9, 2,  22.1805, 2,  35.5904, 2,  35.5965, 2,    222.3, 2,    223.0, 2,     0.48, 2,     0.05, 2,     0.00, 2,     0.07, 2,    1.994, 2,    1.204, 2,    0.360, 4, -999.000, 9,   2009.7, 6,   2335.1, 2,    8.0746,     25.00,   -999.0, 9,   -999.0,  -999.00, 9,   -999.0,  22.1706, 24.6185,  22.1871, 2, 2, 0.12, 0.03, 0.01, 0.028,  -999.00, 9, -999.00, -999.00, 9, -999.00
49NZ20071122, P14, 30, 1, 34, X12016, 2, 20071217, 1219, -24.3630, 176.9547, 4448,    100.7, 2,  20.1208, 2,  35.6988, 2,  35.6994, 2,    207.9, 2,    203.4, 2,     0.62, 2,     1.32, 2,     0.06, 2,     0.20, 2,    2.153, 2,    1.263, 2,    0.205, 4, -999.000, 9,   2045.4, 2,   2340.9, 6,    8.0225,     25.00,   -999.0, 9,   -999.0,  -999.00, 9,   -999.0,  20.1021, 25.2679,  20.1188, 2, 2, 0.12, 0.04, 0.01, 0.016,  -999.00, 9, -999.00, -999.00, 9, -999.00
49NZ20071122, P14, 30, 1, 33, X12033, 2, 20071217, 1219, -24.3630, 176.9547, 4448,    150.7, 2,  18.8594, 2,  35.6944, 2,  35.6929, 2,    202.1, 2,    200.0, 2,     0.78, 2,     2.75, 2,     0.02, 2,     0.29, 2,    2.262, 6,    1.314, 6,    0.139, 4, -999.000, 9,   2064.1, 2,   2340.1, 2,    7.9902,     25.00,   -999.0, 9,   -999.0,  -999.00, 9,   -999.0,  18.8326, 25.5949,  18.8599, 2, 6, 0.12, 0.04, 0.01, 0.014,  -999.00, 9, -999.00, -999.00, 9, -999.00
49NZ20071122, P14, 30, 1, 32, X12038, 2, 20071217, 1219, -24.3630, 176.9547, 4448,    199.1, 2,  17.7126, 2,  35.6040, 2,  35.6025, 2,    194.1, 2,    193.9, 2,     1.14, 2,     4.49, 2,     0.01, 2,     0.42, 2,    2.364, 2,    1.340, 2,    0.058, 2, -999.000, 9,   2078.2, 2,   2334.8, 2,    7.9562,     25.00,   -999.0, 9,   -999.0,  -999.00, 9,   -999.0,  17.6786, 25.8139,  17.7134, 2, 2, 0.12, 0.05, 0.01, 0.013,  -999.00, 9, -999.00, -999.00, 9, -999.00
49NZ20071122, P14, 30, 1, 31, X12003, 2, 20071217, 1219, -24.3630, 176.9547, 4448,    248.0, 2,  16.6948, 2,  35.5204, 2,  35.5176, 6,    196.3, 2,    196.4, 2,     1.42, 2,     5.42, 2,     0.01, 2,     0.48, 2,    2.426, 2,    1.364, 2,    0.068, 2, -999.000, 9,   2083.9, 2,   2330.4, 2,    7.9363,     25.00,   -999.0, 9,   -999.0,  -999.00, 9,   -999.0,  16.6542, 25.9959,  16.7075, 2, 2, 0.12, 0.05, 0.01, 0.013,  -999.00, 9, -999.00, -999.00, 9, -999.00
49NZ20071122, P14, 30, 1, 30, X12008, 2, 20071217, 1219, -24.3630, 176.9547, 4448,    302.6, 2,  15.5324, 2,  35.3955, 2,  35.3958, 2,    196.4, 2,    196.2, 2,     1.89, 2,     7.05, 2,     0.01, 2,     0.59, 2,    2.482, 2,    1.382, 2,    0.064, 2, -999.000, 9,   2093.6, 2,   2323.0, 2,    7.9088,     25.00,   -999.0, 9,   -999.0,  -999.00, 9,   -999.0,  15.4852, 26.1689,  15.5287, 2, 2, 0.12, 0.05, 0.01, 0.013,  -999.00, 9, -999.00, -999.00, 9, -999.00
49NZ20071122, P14, 30, 1, 29, X12035, 2, 20071217, 1219, -24.3630, 176.9547, 4448,    400.9, 2,  12.4433, 2,  34.9885, 2,  34.9914, 2,    195.5, 2,    195.2, 2,     3.55, 2,    12.44, 2,     0.01, 2,     0.95, 2,    2.512, 2,    1.314, 2,    0.061, 2, -999.000, 9,   2116.4, 2,   2305.2, 2,    7.8303,     25.00,   -999.0, 9,   -999.0,  -999.00, 9,   -999.0,  12.3893, 26.5050,  12.4439, 2, 2, 0.13, 0.07, 0.01, 0.013,  -999.00, 9, -999.00, -999.00, 9, -999.00
49NZ20071122, P14, 30, 1, 28, X12034, 2, 20071217, 1219, -24.3630, 176.9547, 4448,    499.4, 2,   9.7998, 2,  34.6788, 2,  34.6748, 6,    204.2, 2,    203.9, 2,     5.53, 2,    17.59, 2,     0.00, 2,     1.27, 2,    2.403, 2,    1.212, 2,    0.067, 2, -999.000, 9,   2132.3, 2,   2293.0, 2,    7.7715,     25.00,   -999.0, 9,   -999.0,  -999.00, 9,   -999.0,   9.7419, 26.7448,   9.8011, 2, 2, 0.13, 0.08, 0.01, 0.014,  -999.00, 9, -999.00, -999.00, 9, -999.00
49NZ20071122, P14, 30, 1, 27, X12049, 2, 20071217, 1219, -24.3630, 176.9547, 4448,    601.4, 2,   7.7749, 2,  34.4740, 2,  34.4728, 2,    218.9, 2,    219.4, 2,     7.22, 2,    21.36, 2,     0.01, 2,     1.51, 2,    2.382, 2,    1.156, 2,    0.082, 2, -999.000, 9,   2140.9, 2,   2287.5, 2,    7.7382,     25.00,   -999.0, 9,   -999.0,  -999.00, 9,   -999.0,   7.7139, 26.9030,   7.7763, 2, 2, 0.13, 0.09, 0.01, 0.014,  -999.00, 9, -999.00, -999.00, 9, -999.00
49NZ20071122, P14, 30, 1, 26, X12032, 2, 20071217, 1219, -24.3630, 176.9547, 4448,    700.2, 2,   6.7187, 2,  34.3923, 2,  34.3909, 2,    220.7, 2,    220.1, 2,    10.96, 2,    24.21, 2,     0.00, 2,     1.69, 2,    1.701, 6,    0.814, 6,    0.050, 6, -999.000, 9,   2150.7, 6,   2286.4, 2,    7.7161,     25.00,   -999.0, 9,   -999.0,  -999.00, 9,   -999.0,   6.6529, 26.9873,   6.7191, 2, 2, 0.14, 0.10, 0.01, 0.014,  -999.00, 9, -999.00, -999.00, 9, -999.00
49NZ20071122, P14, 30, 1, 25, X12043, 2, 20071217, 1219, -24.3630, 176.9547, 4448,    799.1, 2,   5.8142, 2,  34.3575, 2,  34.3572, 2,    210.0, 2,    209.4, 2,    18.44, 2,    27.24, 2,     0.00, 2,     1.90, 2,    0.949, 2,    0.463, 2,    0.020, 2, -999.000, 9,   2166.3, 2,   2291.1, 6,    7.6847,     25.00,   -999.0, 9,   -999.0,  -999.00, 9,   -999.0,   5.7440, 27.0770,   5.8149, 2, 2, 0.16, 0.11, 0.01, 0.015,  -999.00, 9, -999.00, -999.00, 9, -999.00
49NZ20071122, P14, 30, 1, 24, X12030, 2, 20071217, 1219, -24.3630, 176.9547, 4448,    898.4, 2,   5.1475, 2,  34.3610, 2,  34.3613, 2,    196.1, 2,    197.7, 2,    27.39, 2,    29.55, 2,     0.00, 2,     2.06, 2,    0.546, 2,    0.269, 2,    0.010, 2, -999.000, 9,   2183.4, 2,   2297.4, 2,    7.6578,     25.00,   -999.0, 9,   -999.0,  -999.00, 9,   -999.0,   5.0725, 27.1602,   5.1493, 2, 6, 0.18, 0.12, 0.01, 0.015,  -999.00, 9, -999.00, -999.00, 9, -999.00
49NZ20071122, P14, 30, 1, 23, X12027, 2, 20071217, 1219, -24.3630, 176.9547, 4448,    999.5, 2,   4.6229, 2,  34.3875, 2,  34.3886, 6,    185.6, 2,    186.6, 2,    37.95, 2,    31.19, 2,     0.00, 2,     2.18, 2,    0.308, 2,    0.155, 2,    0.005, 2, -999.000, 9,   2202.8, 2,   2310.2, 2,    7.6363,     25.00,   -999.0, 9,   -999.0,  -999.00, 9,   -999.0,   4.5427, 27.2411,   4.6245, 2, 2, 0.20, 0.12, 0.01, 0.015,  -999.00, 9, -999.00, -999.00, 9, -999.00
49NZ20071122, P14, 30, 1, 22, X12028, 2, 20071217, 1219, -24.3630, 176.9547, 4448,   1199.7, 2,   3.5739, 2,  34.4891, 2,  34.4901, 2,    166.3, 2,    167.1, 2,    66.51, 2,    33.49, 2,     0.00, 2,     2.35, 2,    0.072, 2,    0.036, 2,    0.000, 2, -999.000, 9,   2243.6, 2,   2338.7, 2,    7.6085,     25.00,   -999.0, 9,   -999.0,  -999.00, 9,   -999.0,   3.4853, 27.4314,   3.5740, 2, 2, 0.27, 0.13, 0.01, 0.016,  -999.00, 9, -999.00, -999.00, 9, -999.00
49NZ20071122, P14, 30, 1, 21, X12009, 2, 20071217, 1219, -24.3630, 176.9547, 4448,   1399.1, 2,   2.9824, 2,  34.5650, 2,  34.5652, 2,    156.7, 2,    156.7, 2,    87.92, 2,    34.47, 2,     0.00, 2,     2.44, 2,    0.023, 2,    0.014, 2,    0.000, 2, -999.000, 9,   2270.5, 2,   2367.2, 2,    7.5975,     25.00,   -999.0, 9,   -999.0,  -999.00, 9,   -999.0,   2.8831, 27.5484,   2.9826, 2, 2, 0.31, 0.13, 0.01, 0.016,  -999.00, 9, -999.00, -999.00, 9, -999.00
49NZ20071122, P14, 30, 1, 20, X12026, 2, 20071217, 1219, -24.3630, 176.9547, 4448,   1602.0, 2,   2.6358, 2,  34.6004, 2,  34.6002, 2,    151.7, 2,    151.6, 2,    99.60, 2,    35.07, 2,     0.00, 2,     2.48, 2,    0.004, 2,    0.002, 2,    0.000, 2, -999.000, 9,   2287.1, 2,   2379.6, 2,    7.5912,     25.00,   -999.0, 9,   -999.0,  -999.00, 9,   -999.0,   2.5238, 27.6084,   2.6358, 2, 6, 0.34, 0.13, 0.01, 0.016,  -999.00, 9, -999.00, -999.00, 9, -999.00
49NZ20071122, P14, 30, 1, 19, X12025, 2, 20071217, 1219, -24.3630, 176.9547, 4448,   1799.9, 2,   2.4255, 2,  34.6207, 2,  34.6203, 2,    150.7, 2,    150.4, 2,   106.07, 2,    35.23, 2,     0.00, 2,     2.49, 2,    0.002, 2,    0.000, 2,    0.000, 2, -999.000, 9,   2292.5, 2,   2387.3, 2,    7.5900,     25.00,   -999.0, 9,   -999.0,  -999.00, 9,   -999.0,   2.2997, 27.6435,   2.4255, 2, 2, 0.35, 0.13, 0.01, 0.016,  -999.00, 9, -999.00, -999.00, 9, -999.00
49NZ20071122, P14, 30, 1, 18, X12024, 2, 20071217, 1219, -24.3630, 176.9547, 4448,   2001.2, 2,   2.2677, 2,  34.6358, 2,  34.6357, 2,    150.7, 2,    150.5, 2,   110.37, 2,    35.26, 2,     0.00, 2,     2.50, 2,    0.000, 2,    0.000, 2,    0.000, 2, -999.000, 9,   2298.0, 2,   2392.4, 2,    7.5905,     25.00,   -999.0, 9,   -999.0,  -999.00, 9,   -999.0,   2.1271, 27.6697,   2.2677, 2, 2, 0.36, 0.13, 0.01, 0.016,  -999.00, 9, -999.00, -999.00, 9, -999.00
49NZ20071122, P14, 30, 1, 17, X12023, 2, 20071217, 1219, -24.3630, 176.9547, 4448,   2199.9, 2,   2.1481, 2,  34.6478, 2,  34.6475, 6,    150.9, 2,    150.9, 2,   113.66, 2,    35.38, 2,     0.01, 2,     2.50, 2,    0.000, 2,    0.000, 2,    0.000, 2, -999.000, 9,   2301.3, 2,   2395.5, 2,    7.5911,     25.00,   -999.0, 9,   -999.0,  -999.00, 9,   -999.0,   1.9921, 27.6902,   2.1479, 2, 2, 0.37, 0.13, 0.01, 0.016,  -999.00, 9, -999.00, -999.00, 9, -999.00
49NZ20071122, P14, 30, 1, 16, X12022, 2, 20071217, 1219, -24.3630, 176.9547, 4448,   2399.8, 2,   2.0436, 2,  34.6584, 2,  34.6583, 2,    151.9, 2,    151.8, 2,   116.20, 2,    35.36, 2,     0.01, 2,     2.50, 2,    0.000, 2,    0.000, 2,    0.000, 2, -999.000, 9,   2303.0, 6,   2398.4, 2,    7.5913,     25.00,   -999.0, 9,   -999.0,  -999.00, 9,   -999.0,   1.8716, 27.7081,   2.0437, 2, 2, 0.37, 0.13, 0.01, 0.016,  -999.00, 9, -999.00, -999.00, 9, -999.00
49NZ20071122, P14, 30, 1, 15, X12021, 2, 20071217, 1219, -24.3630, 176.9547, 4448,   2600.0, 2,   1.9592, 2,  34.6670, 2,  34.6665, 2,    153.1, 2,    152.9, 2,   118.06, 2,    35.26, 2,     0.00, 2,     2.49, 2, -999.000, 9, -999.000, 9, -999.000, 9, -999.000, 9,   2304.4, 2,   2401.1, 2,    7.5931,     25.00,   -999.0, 9,   -999.0,  -999.00, 9,   -999.0,   1.7705, 27.7228,   1.9594, 2, 2, 0.38, 0.13, 0.01, 0.016,  -999.00, 9, -999.00, -999.00, 9, -999.00
49NZ20071122, P14, 30, 1, 14, X12020, 2, 20071217, 1219, -24.3630, 176.9547, 4448,   2799.2, 2,   1.9027, 2,  34.6728, 2,  34.6724, 2,    153.8, 2,    153.9, 2,   119.57, 2,    35.22, 2,     0.00, 2,     2.49, 2,    0.000, 2,    0.000, 2,    0.000, 2, -999.000, 9,   2306.7, 2,   2401.9, 2,    7.5945,     25.00,   -999.0, 9,   -999.0,  -999.00, 9,   -999.0,   1.6964, 27.7330,   1.9026, 2, 6, 0.38, 0.13, 0.01, 0.016,  -999.00, 9, -999.00, -999.00, 9, -999.00
49NZ20071122, P14, 30, 1, 13, X12019, 2, 20071217, 1219, -24.3630, 176.9547, 4448,   2999.4, 2,   1.8594, 2,  34.6770, 2,  34.6768, 2,    154.4, 2,    154.7, 2,   120.45, 2,    35.09, 2,     0.00, 2,     2.49, 2, -999.000, 9, -999.000, 9, -999.000, 9, -999.000, 9,   2307.7, 2,   2404.1, 2,    7.5951,     25.00,   -999.0, 9,   -999.0,  -999.00, 9,   -999.0,   1.6348, 27.7411,   1.8594, 2, 2, 0.38, 0.13, 0.01, 0.016,  -999.00, 9, -999.00, -999.00, 9, -999.00
49NZ20071122, P14, 30, 1, 12, X12040, 2, 20071217, 1219, -24.3630, 176.9547, 4448,   3250.6, 2,   1.8410, 2,  34.6799, 2,  34.6795, 2,    155.0, 2,    155.1, 2,   121.67, 2,    35.09, 2,     0.00, 2,     2.48, 2,    0.000, 2,    0.000, 2,    0.000, 2, -999.000, 9,   2309.1, 2,   2405.0, 2,    7.5958,     25.00,   -999.0, 9,   -999.0,  -999.00, 9,   -999.0,   1.5919, 27.7465,   1.8411, 2, 2, 0.39, 0.13, 0.01, 0.016,  -999.00, 9, -999.00, -999.00, 9, -999.00
49NZ20071122, P14, 30, 1, 11, X12047, 2, 20071217, 1219, -24.3630, 176.9547, 4448,   3499.4, 2,   1.8375, 2,  34.6815, 2,  34.6813, 2,    155.3, 2,    155.4, 2,   122.49, 2,    35.17, 2,     0.00, 2,     2.49, 2, -999.000, 9, -999.000, 9, -999.000, 9, -999.000, 9,   2310.5, 2,   2404.4, 2,    7.5963,     25.00,   -999.0, 9,   -999.0,  -999.00, 9,   -999.0,   1.5629, 27.7500,   1.8375, 2, 2, 0.39, 0.13, 0.01, 0.016,  -999.00, 9, -999.00, -999.00, 9, -999.00
49NZ20071122, P14, 30, 1, 10, X12012, 2, 20071217, 1219, -24.3630, 176.9547, 4448,   3751.9, 2,   1.8462, 2,  34.6825, 2,  34.6821, 2,    155.7, 2,    155.7, 2,   123.11, 2,    35.17, 2,     0.00, 2,     2.48, 2,    0.000, 2,    0.000, 2,    0.000, 2, -999.000, 9,   2309.6, 2,   2406.7, 2,    7.5971,     25.00,   -999.0, 9,   -999.0,  -999.00, 9,   -999.0,   1.5447, 27.7521,   1.8462, 2, 2, 0.39, 0.13, 0.01, 0.016,  -999.00, 9, -999.00, -999.00, 9, -999.00
49NZ20071122, P14, 30, 1, 9, X12015, 2, 20071217, 1219, -24.3630, 176.9547, 4448,   4001.2, 2,   1.8641, 2,  34.6830, 2,  34.6829, 6,    156.0, 2,    155.9, 2,   123.23, 2,    35.05, 2,     0.01, 2,     2.48, 2, -999.000, 9, -999.000, 9, -999.000, 9, -999.000, 9,   2308.5, 2,   2406.5, 2,    7.5981,     25.00,   -999.0, 9,   -999.0,  -999.00, 9,   -999.0,   1.5348, 27.7532,   1.8641, 2, 2, 0.39, 0.13, 0.01, 0.016,  -999.00, 9, -999.00, -999.00, 9, -999.00
49NZ20071122, P14, 30, 1, 8, X12046, 2, 20071217, 1219, -24.3630, 176.9547, 4448,   4250.1, 2,   1.8871, 2,  34.6831, 2,  34.6831, 2,    156.2, 2,    156.0, 2,   123.45, 2,    35.08, 2,     0.00, 2,     2.48, 2,    0.000, 2,    0.001, 2,    0.000, 2, -999.000, 9,   2309.5, 6,   2406.1, 2,    7.5972,     25.00,   -999.0, 9,   -999.0,  -999.00, 9,   -999.0,   1.5291, 27.7537,   1.8871, 2, 2, 0.39, 0.13, 0.01, 0.016,  -999.00, 9, -999.00, -999.00, 9, -999.00
49NZ20071122, P14, 30, 1, 7, X12044, 9, 20071217, 1219, -24.3630, 176.9547, 4448,     10.3, 2,  24.1602, 2,  35.3989, 2, -999.0000, 9,    213.4, 2,   -999.0, 9,  -999.00, 9,  -999.00, 9,  -999.00, 9,  -999.00, 9, -999.000, 9, -999.000, 9, -999.000, 9, -999.000, 9,   -999.0, 9,   -999.0, 9, -999.0000,   -999.00,   -999.0, 9,   -999.0,  -999.00, 9,   -999.0,  24.1580, 23.8964,  24.1602, 2, 9, -999.00, -999.00, -999.00, -999.000,  -999.00, 9, -999.00, -999.00, 9, -999.00
49NZ20071122, P14, 30, 1, 6, X12048, 9, 20071217, 1219, -24.3630, 176.9547, 4448,    898.4, 2,   5.1493, 2,  34.3609, 2, -999.0000, 9,    196.1, 2,   -999.0, 9,  -999.00, 9,  -999.00, 9,  -999.00, 9,  -999.00, 9, -999.000, 9, -999.000, 9, -999.000, 9, -999.000, 9,   -999.0, 9,   -999.0, 9, -999.0000,   -999.00,   -999.0, 9,   -999.0,  -999.00, 9,   -999.0,   5.0743, 27.1599,   5.1509, 2, 9, -999.00, -999.00, -999.00, -999.000,  -999.00, 9, -999.00, -999.00, 9, -999.00
49NZ20071122, P14, 30, 1, 5, X12014, 9, 20071217, 1219, -24.3630, 176.9547, 4448,   1000.0, 2,   4.6263, 2,  34.3872, 2, -999.0000, 9,    185.5, 2,   -999.0, 9,  -999.00, 9,  -999.00, 9,  -999.00, 9,  -999.00, 9, -999.000, 9, -999.000, 9, -999.000, 9, -999.000, 9,   -999.0, 9,   -999.0, 9, -999.0000,   -999.00,   -999.0, 9,   -999.0,  -999.00, 9,   -999.0,   4.5460, 27.2405,   4.6266, 2, 9, -999.00, -999.00, -999.00, -999.000,  -999.00, 9, -999.00, -999.00, 9, -999.00
49NZ20071122, P14, 30, 1, 4, X12006, 9, 20071217, 1219, -24.3630, 176.9547, 4448,   1199.1, 2,   3.5748, 2,  34.4891, 2, -999.0000, 9,    166.3, 2,   -999.0, 9,  -999.00, 9,  -999.00, 9,  -999.00, 9,  -999.00, 9, -999.000, 9, -999.000, 9, -999.000, 9, -999.000, 9,   -999.0, 9,   -999.0, 9, -999.0000,   -999.00,   -999.0, 9,   -999.0,  -999.00, 9,   -999.0,   3.4862, 27.4314,   3.5748, 2, 9, -999.00, -999.00, -999.00, -999.000,  -999.00, 9, -999.00, -999.00, 9, -999.00
49NZ20071122, P14, 30, 1, 3, X12013, 9, 20071217, 1219, -24.3630, 176.9547, 4448,   3500.5, 2,   1.8374, 2,  34.6816, 2, -999.0000, 9,    155.3, 2,   -999.0, 9,  -999.00, 9,  -999.00, 9,  -999.00, 9,  -999.00, 9, -999.000, 9, -999.000, 9, -999.000, 9, -999.000, 9,   -999.0, 9,   -999.0, 9, -999.0000,   -999.00,   -999.0, 9,   -999.0,  -999.00, 9,   -999.0,   1.5627, 27.7501,   1.8374, 2, 9, -999.00, -999.00, -999.00, -999.000,  -999.00, 9, -999.00, -999.00, 9, -999.00
49NZ20071122, P14, 30, 1, 2, X12002, 9, 20071217, 1219, -24.3630, 176.9547, 4448,   1602.1, 2,   2.6355, 2,  34.6004, 2, -999.0000, 9,    151.7, 2,   -999.0, 9,  -999.00, 9,  -999.00, 9,  -999.00, 9,  -999.00, 9, -999.000, 9, -999.000, 9, -999.000, 9, -999.000, 9,   -999.0, 9,   -999.0, 9, -999.0000,   -999.00,   -999.0, 9,   -999.0,  -999.00, 9,   -999.0,   2.5235, 27.6084,   2.6355, 2, 9, -999.00, -999.00, -999.00, -999.000,  -999.00, 9, -999.00, -999.00, 9, -999.00
49NZ20071122, P14, 30, 1, 1, X12001, 2, 20071217, 1219, -24.3630, 176.9547, 4448,   4511.0, 2,   1.9147, 2,  34.6832, 2,  34.6835, 6,    156.4, 2,    156.3, 2,   123.33, 2,    35.15, 2,     0.00, 2,     2.48, 2,    0.018, 3,    0.002, 2,    0.005, 3, -999.000, 9,   2310.7, 2,   2406.6, 2,    7.5968,     25.00,   -999.0, 9,   -999.0,  -999.00, 9,   -999.0,   1.5256, 27.7541,   1.9148, 2, 2, 0.39, 0.13, 0.01, 0.016,  -999.00, 9, -999.00, -999.00, 9, -999.00