BOTTLE,20220820CCHSIOAMB
# Changed PH_FLAG_W to PH_TOT_FLAG_W to match parent param name, Removed all rows that had no pressure value
#BOTTLE,20100901CCHDOSIOCBG
#code : Justin Fields merge_exchange.rb 
#original files copied from HTML directory: 2010-09-01
#original HYD file: /Users/cberys/Work/Data/2010.08.31_P142007_2_PH_header_CBG/working/original_hy1.csv  2010-09-01
EXPOCODE,SECT_ID,STNNBR,CASTNO,SAMPNO,BTLNBR,BTLNBR_FLAG_W,DATE,TIME,LATITUDE,LONGITUDE,DEPTH,CTDPRS,CTDPRS_FLAG_W,CTDTMP,CTDTMP_FLAG_W,CTDSAL,CTDSAL_FLAG_W,SALNTY,SALNTY_FLAG_W,CTDOXY,CTDOXY_FLAG_W,OXYGEN,OXYGEN_FLAG_W,SILCAT,SILCAT_FLAG_W,NITRAT,NITRAT_FLAG_W,NITRIT,NITRIT_FLAG_W,PHSPHT,PHSPHT_FLAG_W,CFC-11,CFC-11_FLAG_W,CFC-12,CFC-12_FLAG_W,CFC113,CFC113_FLAG_W,CCL4,CCL4_FLAG_W,TCARBN,TCARBN_FLAG_W,ALKALI,ALKALI_FLAG_W,PH_TOT,PH_TMP,DELC14,DELC14_FLAG_W,C14ERR,DELC13,DELC13_FLAG_W,C13ERR,THETA,SIG0,SBE35,SBE35_FLAG_W,PH_TOT_FLAG_W,SILUNC,NRAUNC,NRIUNC,PHPUNC,CS-137,CS-137_FLAG_W,CS137ER,PLUTO,PLUTO_FLAG_W,PLUTOER
,,,,,,,,,,,METERS,DBAR,,ITS-90,,PSS-78,,PSS-78,,UMOL/KG,,UMOL/KG,,UMOL/KG,,UMOL/KG,,UMOL/KG,,UMOL/KG,,PMOL/KG,,PMOL/KG,,PMOL/KG,,PMOL/KG,,UMOL/KG,,UMOL/KG,,,DEG C,/MILLE,,/MILLE,/MILLE,,/MILLE,DEG C,KG/M^3,ITS-90,,,UMOL/KG,UMOL/KG,UMOL/KG,UMOL/KG,DM/.1MG,,BQ/M^3,MBQ/M^3,,MBQ/M^3
49NZ20071122, P14N, 109, 2, 36, X12042, 2, 20071123, 1912, 8.5048, 178.9915, 6098,     10.8, 2,  28.2837, 2,  34.2277, 2,  34.2286, 2,    197.2, 2,    197.5, 2,     1.04, 2,     0.07, 2,     0.00, 2,     0.14, 2,    1.499, 2,    0.932, 2,    0.231, 4, -999.000, 9,   1918.5, 2,   2250.0, 2,    8.1266,     25.00,   -999.0, 9,   -999.0,  -999.00, 9,   -999.0,  28.2811, 21.7220,  28.2825, 2, 6, 0.12, 0.03, 0.01, 0.018,  -999.00, 9, -999.00, -999.00, 9, -999.00
49NZ20071122, P14N, 109, 2, 35, X12041, 2, 20071123, 1912, 8.5048, 178.9915, 6098,     51.4, 2,  28.2800, 2,  34.2373, 2,  34.2487, 2,    197.2, 2,    197.7, 2,     0.96, 2,     0.07, 2,     0.00, 2,     0.14, 2,    1.515, 2,    0.947, 2,    0.236, 4, -999.000, 9,   1919.3, 6,   2252.2, 2,    8.1255,     25.00,   -999.0, 9,   -999.0,  -999.00, 9,   -999.0,  28.2678, 21.7336,  28.2747, 2, 2, 0.12, 0.03, 0.01, 0.018,  -999.00, 9, -999.00, -999.00, 9, -999.00
49NZ20071122, P14N, 109, 2, 34, X12016, 2, 20071123, 1912, 8.5048, 178.9915, 6098,    100.1, 2,  22.9515, 2,  34.9184, 2,  34.9115, 2,    191.3, 2,    198.4, 3,     1.64, 2,     0.21, 2,     0.02, 2,     0.20, 2,    2.002, 2,    1.199, 2,    0.211, 4, -999.000, 9,   2020.1, 2,   2304.8, 6,    8.0255,     25.00,   -999.0, 9,   -999.0,  -999.00, 9,   -999.0,  22.9311, 23.8916,  22.9546, 2, 2, 0.12, 0.03, 0.01, 0.016,  -999.00, 9, -999.00, -999.00, 9, -999.00
49NZ20071122, P14N, 109, 2, 33, X12033, 2, 20071123, 1912, 8.5048, 178.9915, 6098,    150.6, 2,  13.9564, 2,  34.4150, 2,  34.4143, 2,    140.1, 2,    142.0, 3,    12.00, 2,    14.31, 2,     0.02, 2,     1.16, 2,    2.493, 6,    1.344, 6,    0.039, 6, -999.000, 9,   2122.5, 2,   2272.7, 2,    7.7661,     25.00,   -999.0, 9,   -999.0,  -999.00, 9,   -999.0,  13.9348, 25.7486,  13.9645, 2, 6, 0.15, 0.07, 0.01, 0.013,  -999.00, 9, -999.00, -999.00, 9, -999.00
49NZ20071122, P14N, 109, 2, 32, X12038, 2, 20071123, 1912, 8.5048, 178.9915, 6098,    200.8, 2,  11.2445, 2,  34.4860, 2,  34.4822, 2,     63.5, 2,     60.9, 3,    26.11, 2,    27.92, 2,     0.01, 2,     2.11, 2,    1.356, 2,    0.693, 2,    0.024, 2, -999.000, 9,   2213.4, 2,   2284.6, 2,    7.5596,     25.00,   -999.0, 9,   -999.0,  -999.00, 9,   -999.0,  11.2195, 26.3354,  11.2451, 2, 2, 0.18, 0.11, 0.01, 0.015,  -999.00, 9, -999.00, -999.00, 9, -999.00
49NZ20071122, P14N, 109, 2, 31, X12003, 2, 20071123, 1912, 8.5048, 178.9915, 6098,    250.7, 2,  10.6069, 2,  34.6811, 2,  34.6800, 6,     15.1, 2,     14.9, 3,    30.90, 2,    34.45, 2,     0.00, 2,     2.50, 2,    0.404, 2,    0.209, 2,    0.012, 2, -999.000, 9,   2258.0, 2,   2300.2, 2,    7.4692,     25.00,   -999.0, 9,   -999.0,  -999.00, 9,   -999.0,  10.5767, 26.6028,  10.6074, 2, 2, 0.19, 0.13, 0.01, 0.016,  -999.00, 9, -999.00, -999.00, 9, -999.00
49NZ20071122, P14N, 109, 2, 30, X12008, 2, 20071123, 1912, 8.5048, 178.9915, 6098,    301.5, 2,   9.8150, 2,  34.6591, 2,  34.6581, 2,     27.7, 2,     28.8, 3,    33.14, 2,    34.61, 2,     0.00, 2,     2.49, 2,    0.320, 2,    0.166, 2,    0.006, 2, -999.000, 9,   2256.8, 2,   2303.9, 2,    7.4843,     25.00,   -999.0, 9,   -999.0,  -999.00, 9,   -999.0,   9.7804, 26.7230,   9.8148, 2, 2, 0.19, 0.13, 0.01, 0.016,  -999.00, 9, -999.00, -999.00, 9, -999.00
49NZ20071122, P14N, 109, 2, 29, X12035, 2, 20071123, 1912, 8.5048, 178.9915, 6098,    400.4, 2,   8.7691, 2,  34.6025, 2,  34.6012, 2,     38.9, 2,     40.0, 3,    39.09, 2,    35.43, 2,     0.00, 2,     2.56, 2,    0.216, 2,    0.111, 2,    0.006, 2, -999.000, 9,   2261.1, 2,   2308.9, 2,    7.4836,     25.00,   -999.0, 9,   -999.0,  -999.00, 9,   -999.0,   8.7260, 26.8503,   8.7704, 2, 2, 0.20, 0.13, 0.01, 0.016,  -999.00, 9, -999.00, -999.00, 9, -999.00
49NZ20071122, P14N, 109, 2, 28, X12034, 2, 20071123, 1912, 8.5048, 178.9915, 6098,    497.3, 2,   7.7965, 2,  34.5627, 2,  34.5621, 6,     44.6, 2,     38.2, 3,    47.53, 2,    37.17, 2,     0.00, 2,     2.73, 2,    0.109, 2,    0.060, 2,    0.005, 2, -999.000, 9,   2275.3, 2,   2315.8, 2,    7.4618,     25.00,   -999.0, 9,   -999.0,  -999.00, 9,   -999.0,   7.7463, 26.9679,   7.7976, 2, 2, 0.22, 0.14, 0.01, 0.017,  -999.00, 9, -999.00, -999.00, 9, -999.00
49NZ20071122, P14N, 109, 2, 27, X12049, 2, 20071123, 1912, 8.5048, 178.9915, 6098,    598.8, 2,   6.7720, 2,  34.5393, 2,  34.5384, 2,     44.4, 2,     44.1, 3,    57.65, 2,    38.93, 2,     0.00, 2,     2.83, 2,    0.057, 2,    0.028, 2,    0.000, 2, -999.000, 9,   2286.9, 2,   2325.9, 2,    7.4594,     25.00,   -999.0, 9,   -999.0,  -999.00, 9,   -999.0,   6.7157, 27.0947,   6.7727, 2, 2, 0.25, 0.14, 0.01, 0.017,  -999.00, 9, -999.00, -999.00, 9, -999.00
49NZ20071122, P14N, 109, 2, 26, X12032, 2, 20071123, 1912, 8.5048, 178.9915, 6098,    700.2, 2,   5.9299, 2,  34.5332, 2,  34.5333, 2,     45.5, 2,     47.0, 3,    67.89, 2,    40.35, 2,     0.00, 2,     2.92, 2,    0.032, 6,    0.020, 6,    0.000, 6, -999.000, 9,   2299.8, 6,   2337.5, 2,    7.4518,     25.00,   -999.0, 9,   -999.0,  -999.00, 9,   -999.0,   5.8681, 27.2005,   5.9307, 2, 2, 0.27, 0.15, 0.01, 0.017,  -999.00, 9, -999.00, -999.00, 9, -999.00
49NZ20071122, P14N, 109, 2, 25, X12043, 2, 20071123, 1912, 8.5048, 178.9915, 6098,    799.9, 2,   5.3324, 2,  34.5382, 2,  34.5383, 2,     51.7, 2,     53.3, 3,    76.60, 2,    40.78, 2,     0.00, 2,     2.94, 2,    0.019, 2,    0.010, 2,    0.000, 2, -999.000, 9,   2307.5, 2,   2346.9, 6,    7.4559,     25.00,   -999.0, 9,   -999.0,  -999.00, 9,   -999.0,   5.2648, 27.2781,   5.3327, 2, 2, 0.29, 0.15, 0.01, 0.017,  -999.00, 9, -999.00, -999.00, 9, -999.00
49NZ20071122, P14N, 109, 2, 24, X12030, 2, 20071123, 1912, 8.5048, 178.9915, 6098,    900.4, 2,   4.8527, 2,  34.5474, 2,  34.5479, 2,     54.5, 2,     56.7, 3,    84.62, 2,    41.08, 2,     0.00, 2,     2.97, 2,    0.017, 2,    0.010, 2,    0.000, 2, -999.000, 9,   2321.0, 3,   2355.3, 2,    7.4574,     25.00,   -999.0, 9,   -999.0,  -999.00, 9,   -999.0,   4.7793, 27.3417,   4.8532, 2, 6, 0.31, 0.15, 0.01, 0.017,  -999.00, 9, -999.00, -999.00, 9, -999.00
49NZ20071122, P14N, 109, 2, 23, X12027, 2, 20071123, 1912, 8.5048, 178.9915, 6098,    997.4, 2,   4.5380, 2,  34.5564, 2,  34.5567, 6,     58.4, 2,     57.6, 3,    90.46, 2,    41.71, 2,     0.00, 2,     3.01, 2,    0.000, 2,    0.000, 2,    0.000, 2, -999.000, 9,   2323.0, 2,   2362.2, 2,    7.4551,     25.00,   -999.0, 9,   -999.0,  -999.00, 9,   -999.0,   4.4584, 27.3844,   4.5380, 2, 2, 0.32, 0.15, 0.01, 0.017,  -999.00, 9, -999.00, -999.00, 9, -999.00
49NZ20071122, P14N, 109, 2, 22, X12028, 2, 20071123, 1912, 8.5048, 178.9915, 6098,   1200.4, 2,   3.8763, 2,  34.5728, 2,  34.5728, 2,     64.7, 2,     66.7, 2,   104.18, 2,    41.36, 2,     0.00, 2,     2.98, 2,    0.001, 2,    0.001, 2,    0.000, 2, -999.000, 9,   2332.4, 2,   2376.8, 2,    7.4684,     25.00,   -999.0, 9,   -999.0,  -999.00, 9,   -999.0,   3.7847, 27.4684,   3.8767, 2, 2, 0.35, 0.15, 0.01, 0.017,  -999.00, 9, -999.00, -999.00, 9, -999.00
49NZ20071122, P14N, 109, 2, 21, X12009, 2, 20071123, 1912, 8.5048, 178.9915, 6098,   1399.7, 2,   3.3466, 2,  34.5881, 2,  34.5900, 3,     76.9, 2,     77.0, 2,   115.40, 2,    40.79, 2,     0.00, 2,     2.93, 2,    0.007, 2,    0.002, 2,    0.000, 2, -999.000, 9,   2340.0, 2,   2389.1, 2,    7.4826,     25.00,   -999.0, 9,   -999.0,  -999.00, 9,   -999.0,   3.2433, 27.5336,   3.3469, 2, 2, 0.37, 0.15, 0.01, 0.017,  -999.00, 9, -999.00, -999.00, 9, -999.00
49NZ20071122, P14N, 109, 2, 20, X12026, 2, 20071123, 1912, 8.5048, 178.9915, 6098,   1602.1, 2,   2.9101, 2,  34.6041, 2,  34.6057, 3,     84.0, 2,     85.0, 2,   124.72, 2,    40.28, 2,     0.00, 2,     2.89, 2,    0.011, 2,    0.007, 2,    0.000, 2, -999.000, 9,   2344.6, 2,   2399.2, 2,    7.4954,     25.00,   -999.0, 9,   -999.0,  -999.00, 9,   -999.0,   2.7947, 27.5876,   2.9102, 2, 6, 0.39, 0.15, 0.01, 0.017,  -999.00, 9, -999.00, -999.00, 9, -999.00
49NZ20071122, P14N, 109, 2, 19, X12025, 2, 20071123, 1912, 8.5048, 178.9915, 6098,   1800.6, 2,   2.5207, 2,  34.6212, 2,  34.6231, 3,     93.5, 2,     93.9, 2,   133.24, 2,    39.86, 2,     0.00, 2,     2.85, 2, -999.000, 9, -999.000, 9, -999.000, 9, -999.000, 9,   2348.4, 2,   2406.9, 2,    7.5091,     25.00,   -999.0, 9,   -999.0,  -999.00, 9,   -999.0,   2.3935, 27.6361,   2.5209, 2, 2, 0.41, 0.14, 0.01, 0.017,  -999.00, 9, -999.00, -999.00, 9, -999.00
49NZ20071122, P14N, 109, 2, 18, X12024, 2, 20071123, 1912, 8.5048, 178.9915, 6098,   2001.3, 2,   2.2633, 2,  34.6362, 2,  34.6374, 3,     99.6, 2,     99.8, 2,   139.49, 2,    39.65, 2,     0.00, 2,     2.82, 2,    0.008, 2,    0.006, 2,    0.000, 2, -999.000, 9,   2353.2, 2,   2414.8, 2,    7.5196,     25.00,   -999.0, 9,   -999.0,  -999.00, 9,   -999.0,   2.1227, 27.6704,   2.2634, 2, 2, 0.43, 0.14, 0.01, 0.017,  -999.00, 9, -999.00, -999.00, 9, -999.00
49NZ20071122, P14N, 109, 2, 17, X12023, 2, 20071123, 1912, 8.5048, 178.9915, 6098,   2202.1, 2,   2.0695, 2,  34.6476, 2,  34.6480, 2,    105.4, 2,    106.1, 2,   143.76, 2,    39.28, 2,     0.00, 2,     2.78, 2, -999.000, 9, -999.000, 9, -999.000, 9, -999.000, 9,   2354.4, 2,   2420.3, 2,    7.5312,     25.00,   -999.0, 9,   -999.0,  -999.00, 9,   -999.0,   1.9146, 27.6960,   2.0697, 2, 2, 0.44, 0.14, 0.01, 0.017,  -999.00, 9, -999.00, -999.00, 9, -999.00
49NZ20071122, P14N, 109, 2, 16, X12022, 2, 20071123, 1912, 8.5048, 178.9915, 6098,   2401.5, 2,   1.9385, 2,  34.6560, 2,  34.6565, 2,    110.9, 2,    111.6, 2,   146.23, 2,    38.92, 2,     0.00, 2,     2.75, 2,    0.007, 2,    0.003, 2,    0.000, 2, -999.000, 9,   2351.4, 6,   2422.9, 2,    7.5400,     25.00,   -999.0, 9,   -999.0,  -999.00, 9,   -999.0,   1.7682, 27.7141,   1.9387, 2, 2, 0.44, 0.14, 0.01, 0.017,  -999.00, 9, -999.00, -999.00, 9, -999.00
49NZ20071122, P14N, 109, 2, 15, X12021, 2, 20071123, 1912, 8.5048, 178.9915, 6098,   2604.0, 2,   1.8573, 2,  34.6619, 2,  34.6620, 2,    115.8, 2,    115.8, 2,   147.89, 2,    38.54, 2,     0.00, 2,     2.72, 2, -999.000, 9, -999.000, 9, -999.000, 9, -999.000, 9,   2352.4, 2,   2426.0, 6,    7.5488,     25.00,   -999.0, 9,   -999.0,  -999.00, 9,   -999.0,   1.6702, 27.7262,   1.8574, 2, 2, 0.44, 0.14, 0.01, 0.017,  -999.00, 9, -999.00, -999.00, 9, -999.00
49NZ20071122, P14N, 109, 2, 14, X12020, 2, 20071123, 1912, 8.5048, 178.9915, 6098,   2800.7, 2,   1.7814, 2,  34.6667, 2,  34.6667, 2,    120.1, 2,    120.6, 2,   148.74, 2,    38.15, 2,     0.00, 2,     2.69, 2,    0.010, 2,    0.007, 2,    0.000, 2, -999.000, 9,   2349.9, 2,   2426.3, 2,    7.5557,     25.00,   -999.0, 9,   -999.0,  -999.00, 9,   -999.0,   1.5775, 27.7370,   1.7815, 2, 6, 0.45, 0.14, 0.01, 0.017,  -999.00, 9, -999.00, -999.00, 9, -999.00
49NZ20071122, P14N, 109, 2, 13, X12019, 2, 20071123, 1912, 8.5048, 178.9915, 6098,   3002.6, 2,   1.6985, 2,  34.6716, 2,  34.6715, 6,    126.3, 2,    126.6, 2,   149.08, 2,    37.87, 2,     0.00, 2,     2.66, 2, -999.000, 9, -999.000, 9, -999.000, 9, -999.000, 9,   2347.3, 2,   2426.5, 2,    7.5644,     25.00,   -999.0, 9,   -999.0,  -999.00, 9,   -999.0,   1.4771, 27.7483,   1.6986, 2, 2, 0.45, 0.14, 0.01, 0.017,  -999.00, 9, -999.00, -999.00, 9, -999.00
49NZ20071122, P14N, 109, 2, 12, X12040, 2, 20071123, 1912, 8.5048, 178.9915, 6098,   3250.1, 2,   1.6176, 2,  34.6767, 2,  34.6770, 2,    134.2, 2,    134.4, 2,   147.54, 2,    37.18, 2,     0.00, 2,     2.60, 2,    0.004, 2,    0.005, 2,    0.000, 2, -999.000, 9,   2341.7, 2,   2424.8, 2,    7.5754,     25.00,   -999.0, 9,   -999.0,  -999.00, 9,   -999.0,   1.3738, 27.7598,   1.6178, 2, 2, 0.44, 0.14, 0.01, 0.016,  -999.00, 9, -999.00, -999.00, 9, -999.00
49NZ20071122, P14N, 109, 2, 11, X12047, 2, 20071123, 1912, 8.5048, 178.9915, 6098,   3499.8, 2,   1.5277, 2,  34.6823, 2,  34.6823, 2,    143.7, 2,    143.9, 2,   145.78, 2,    36.68, 2,     0.00, 2,     2.56, 2, -999.000, 9, -999.000, 9, -999.000, 9, -999.000, 9,   2334.4, 2,   2422.4, 2,    7.5872,     25.00,   -999.0, 9,   -999.0,  -999.00, 9,   -999.0,   1.2609, 27.7723,   1.5280, 2, 2, 0.44, 0.14, 0.01, 0.016,  -999.00, 9, -999.00, -999.00, 9, -999.00
49NZ20071122, P14N, 109, 2, 10, X12012, 2, 20071123, 1912, 8.5048, 178.9915, 6098,   3751.7, 2,   1.4628, 2,  34.6868, 2,  34.6870, 2,    152.3, 2,    152.1, 2,   143.67, 2,    36.15, 2,     0.00, 2,     2.52, 2,    0.001, 2,    0.001, 2,    0.000, 2, -999.000, 9,   2324.5, 2,   2418.8, 2,    7.5970,     25.00,   -999.0, 9,   -999.0,  -999.00, 9,   -999.0,   1.1715, 27.7821,   1.4630, 2, 2, 0.44, 0.13, 0.01, 0.016,  -999.00, 9, -999.00, -999.00, 9, -999.00
49NZ20071122, P14N, 109, 2, 9, X12015, 2, 20071123, 1912, 8.5048, 178.9915, 6098,   3999.4, 2,   1.4028, 2,  34.6911, 2,  34.6913, 2,    162.1, 2,    161.6, 2,   138.45, 2,    35.33, 2,     0.00, 2,     2.47, 2, -999.000, 9, -999.000, 9, -999.000, 9, -999.000, 9,   2315.3, 2,   2412.8, 2,    7.6073,     25.00,   -999.0, 9,   -999.0,  -999.00, 9,   -999.0,   1.0867, 27.7913,   1.4031, 2, 2, 0.42, 0.13, 0.01, 0.016,  -999.00, 9, -999.00, -999.00, 9, -999.00
49NZ20071122, P14N, 109, 2, 8, X12046, 2, 20071123, 1912, 8.5048, 178.9915, 6098,   4250.5, 2,   1.3420, 2,  34.6960, 2,  34.6960, 2,    171.7, 2,    171.5, 2,   133.50, 2,    34.68, 2,     0.00, 2,     2.42, 2,    0.002, 2,    0.001, 2,    0.000, 2, -999.000, 9,   2304.6, 6,   2406.1, 2,    7.6165,     25.00,   -999.0, 9,   -999.0,  -999.00, 9,   -999.0,   1.0000, 27.8011,   1.3422, 2, 2, 0.41, 0.13, 0.01, 0.016,  -999.00, 9, -999.00, -999.00, 9, -999.00
49NZ20071122, P14N, 109, 2, 7, X12044, 2, 20071123, 1912, 8.5048, 178.9915, 6098,   4500.5, 2,   1.3024, 2,  34.6997, 2,  34.7000, 2,    179.5, 2,    179.4, 2,   129.47, 2,    34.19, 2,     0.00, 2,     2.38, 2,    0.001, 2,    0.000, 2,    0.000, 2, -999.000, 9,   2295.2, 2,   2400.4, 6,    7.6236,     25.00,   -999.0, 9,   -999.0,  -999.00, 9,   -999.0,   0.9334, 27.8084,   1.3026, 2, 2, 0.40, 0.13, 0.01, 0.016,  -999.00, 9, -999.00, -999.00, 9, -999.00
49NZ20071122, P14N, 109, 2, 6, X12048, 2, 20071123, 1912, 8.5048, 178.9915, 6098,   4750.7, 2,   1.2976, 2,  34.7017, 2,  34.7016, 2,    183.8, 2,    183.5, 2,   127.12, 2,    33.90, 2,     0.00, 2,     2.36, 2,    0.000, 2,    0.000, 2,    0.000, 2, -999.000, 9,   2292.1, 2,   2396.1, 2,    7.6263,     25.00,   -999.0, 9,   -999.0,  -999.00, 9,   -999.0,   0.8998, 27.8122,   1.2978, 2, 6, 0.40, 0.13, 0.01, 0.016,  -999.00, 9, -999.00, -999.00, 9, -999.00
49NZ20071122, P14N, 109, 2, 5, X12014, 2, 20071123, 1912, 8.5048, 178.9915, 6098,   4999.6, 2,   1.3049, 2,  34.7029, 2,  34.7033, 6,    186.6, 2,    186.5, 2,   125.43, 2,    33.62, 2,     0.00, 2,     2.34, 2,    0.000, 2,    0.000, 2,    0.000, 2, -999.000, 9,   2286.5, 2,   2393.5, 2,    7.6287,     25.00,   -999.0, 9,   -999.0,  -999.00, 9,   -999.0,   0.8772, 27.8147,   1.3050, 2, 2, 0.39, 0.13, 0.01, 0.016,  -999.00, 9, -999.00, -999.00, 9, -999.00
49NZ20071122, P14N, 109, 2, 4, X12006, 2, 20071123, 1912, 8.5048, 178.9915, 6098,   5250.6, 2,   1.3189, 2,  34.7039, 2,  34.7042, 2,    189.1, 2,    188.8, 3,   124.29, 2,    33.51, 2,     0.00, 2,     2.33, 2,    0.000, 2,    0.000, 2,    0.000, 2, -999.000, 9,   2283.9, 2,   2390.8, 2,    7.6281,     25.00,   -999.0, 9,   -999.0,  -999.00, 9,   -999.0,   0.8601, 27.8166,   1.3191, 2, 2, 0.39, 0.13, 0.01, 0.016,  -999.00, 9, -999.00, -999.00, 9, -999.00
49NZ20071122, P14N, 109, 2, 3, X12013, 2, 20071123, 1912, 8.5048, 178.9915, 6098,   5500.5, 2,   1.3424, 2,  34.7043, 2,  34.7040, 2,    190.4, 2,    189.8, 3,   123.55, 2,    33.44, 2,     0.00, 2,     2.33, 2,    0.002, 2,    0.000, 2,    0.000, 2, -999.000, 9,   2283.7, 2,   2389.1, 2,    7.6289,     25.00,   -999.0, 9,   -999.0,  -999.00, 9,   -999.0,   0.8514, 27.8175,   1.3427, 2, 2, 0.39, 0.13, 0.01, 0.016,  -999.00, 9, -999.00, -999.00, 9, -999.00
49NZ20071122, P14N, 109, 2, 2, X12002, 2, 20071123, 1912, 8.5048, 178.9915, 6098,   5749.3, 2,   1.3726, 2,  34.7044, 2,  34.7047, 2,    190.8, 2,    190.2, 3,   123.29, 2,    33.38, 2,     0.00, 2,     2.32, 2,    0.004, 2,    0.003, 2,    0.000, 2, -999.000, 9,   2284.2, 2,   2388.9, 2,    7.6290,     25.00,   -999.0, 9,   -999.0,  -999.00, 9,   -999.0,   0.8485, 27.8177,   1.3728, 2, 2, 0.39, 0.13, 0.01, 0.016,  -999.00, 9, -999.00, -999.00, 9, -999.00
49NZ20071122, P14N, 109, 2, 1, X12001, 5, 20071123, 1912, 8.5048, 178.9915, 6098,   6156.4, 2,   1.4269, 2,  34.7044, 2,  34.7047, 6,    191.0, 2,    190.3, 3,   123.40, 2,    33.31, 2,     0.00, 2,     2.32, 2,    0.009, 2,    0.006, 2,    0.000, 2, -999.000, 9,   2281.5, 2,   2388.9, 2,    7.6295,     25.00,   -999.0, 9,   -999.0,  -999.00, 9,   -999.0,   0.8468, 27.8178,   1.4271, 2, 2, 0.39, 0.13, 0.01, 0.016,  -999.00, 9, -999.00, -999.00, 9, -999.00