BOTTLE,20220820CCHSIOAMB
EXPOCODE,SECT_ID,STNNBR,CASTNO,SAMPNO,BTLNBR,BTLNBR_FLAG_W,DATE,TIME,LATITUDE,LONGITUDE,DEPTH,CTDPRS,CTDPRS_FLAG_W,CTDTMP,CTDTMP_FLAG_W,CTDSAL,CTDSAL_FLAG_W,SALNTY,SALNTY_FLAG_W,CTDOXY,CTDOXY_FLAG_W,OXYGEN,OXYGEN_FLAG_W,SILCAT,SILCAT_FLAG_W,NITRAT,NITRAT_FLAG_W,NITRIT,NITRIT_FLAG_W,PHSPHT,PHSPHT_FLAG_W,CFC-11,CFC-11_FLAG_W,CFC-12,CFC-12_FLAG_W,CFC113,CFC113_FLAG_W,CCL4,CCL4_FLAG_W,TCARBN,TCARBN_FLAG_W,ALKALI,ALKALI_FLAG_W,PH_TOT,PH_TMP,DELC14,DELC14_FLAG_W,C14ERR,DELC13,DELC13_FLAG_W,C13ERR,THETA,SIG0,SBE35,SBE35_FLAG_W,PH_TOT_FLAG_W,SILUNC,NRAUNC,NRIUNC,PHPUNC,CS-137,CS-137_FLAG_W,CS137ER,PLUTO,PLUTO_FLAG_W,PLUTOER
,,,,,,,,,,,METERS,DBAR,,ITS-90,,PSS-78,,PSS-78,,UMOL/KG,,UMOL/KG,,UMOL/KG,,UMOL/KG,,UMOL/KG,,UMOL/KG,,PMOL/KG,,PMOL/KG,,PMOL/KG,,PMOL/KG,,UMOL/KG,,UMOL/KG,,,DEG C,/MILLE,,/MILLE,/MILLE,,/MILLE,DEG C,KG/M^3,ITS-90,,,UMOL/KG,UMOL/KG,UMOL/KG,UMOL/KG,DM/.1MG,,BQ/M^3,MBQ/M^3,,MBQ/M^3
49NZ20071122, P14N, 143, 1, 36, X12042, 2, 20071201, 2214, 0.0017, 179.0012, 5408,     10.2, 2,  27.1862, 2,  35.2102, 2,  35.2118, 2,    197.6, 2,    198.9, 2,     1.81, 2,     2.98, 2,     0.60, 2,     0.45, 2,    1.543, 2,    0.964, 2,    0.200, 4, -999.000, 9,   2012.6, 2,   2317.3, 2,    8.0483,     25.00,   -999.0, 1,   -999.0,  -999.00, 1,   -999.0,  27.1838, 22.8172,  27.1835, 2, 6, 0.12, 0.04, 0.00, 0.013,  -999.00, 9, -999.00, -999.00, 9, -999.00
49NZ20071122, P14N, 143, 1, 35, X12041, 2, 20071201, 2214, 0.0017, 179.0012, 5408,     50.4, 2,  26.5791, 2,  35.3002, 2,  35.3036, 2,    189.7, 2,    190.5, 2,     2.02, 2,     4.19, 2,     0.54, 2,     0.53, 2,    1.580, 2,    0.989, 2,    0.188, 4, -999.000, 9,   2029.9, 6,   2322.1, 2,    8.0271,     25.00,   -999.0, 1,   -999.0,  -999.00, 1,   -999.0,  26.5677, 23.0814,  26.5765, 2, 2, 0.12, 0.04, 0.00, 0.013,  -999.00, 9, -999.00, -999.00, 9, -999.00
49NZ20071122, P14N, 143, 1, 34, X12016, 2, 20071201, 2214, 0.0017, 179.0012, 5408,    100.8, 2,  26.5925, 2,  35.3952, 2,  35.3945, 2,    186.0, 2,    187.8, 2,     1.97, 2,     4.39, 2,     0.48, 2,     0.56, 2,    1.577, 2,    0.975, 2,    0.190, 4, -999.000, 9,   2037.2, 2,   2329.3, 6,    8.0251,     25.00,   -999.0, 1,   -999.0,  -999.00, 1,   -999.0,  26.5696, 23.1524,  26.5928, 2, 2, 0.12, 0.05, 0.00, 0.013,  -999.00, 9, -999.00, -999.00, 9, -999.00
49NZ20071122, P14N, 143, 1, 33, X12033, 2, 20071201, 2214, 0.0017, 179.0012, 5408,    152.0, 2,  25.4797, 2,  35.2285, 2,  35.2385, 2,    150.6, 2,    160.6, 2,     3.07, 2,     6.87, 2,     0.23, 2,     0.66, 2,    1.640, 6,    1.004, 6,    0.128, 3, -999.000, 9,   2049.7, 2,   2316.3, 2,    7.9866,     25.00,   -999.0, 1,   -999.0,  -999.00, 1,   -999.0,  25.4462, 23.3773,  25.5039, 2, 6, 0.13, 0.05, 0.01, 0.013,  -999.00, 9, -999.00, -999.00, 9, -999.00
49NZ20071122, P14N, 143, 1, 32, X12038, 2, 20071201, 2214, 0.0017, 179.0012, 5408,    200.6, 2,  17.8144, 2,  35.2533, 2,  35.2638, 2,    134.6, 2,    134.6, 2,     7.20, 2,    13.00, 2,     0.02, 2,     1.03, 2,    1.835, 2,    1.038, 2,    0.037, 2, -999.000, 9,   2118.3, 2,   2322.7, 2,    7.8591,     25.00,   -999.0, 1,   -999.0,  -999.00, 1,   -999.0,  17.7801, 25.5202,  17.8547, 2, 2, 0.13, 0.07, 0.01, 0.013,  -999.00, 9, -999.00, -999.00, 9, -999.00
49NZ20071122, P14N, 143, 1, 31, X12003, 2, 20071201, 2214, 0.0017, 179.0012, 5408,    249.1, 2,  15.0396, 2,  35.1078, 2,  35.0969, 6,    139.9, 2,    137.8, 2,    10.70, 2,    16.15, 2,     0.01, 2,     1.24, 2,    1.692, 2,    0.939, 2,    0.034, 2, -999.000, 9,   2138.9, 2,   2315.2, 2,    7.8059,     25.00,   -999.0, 1,   -999.0,  -999.00, 1,   -999.0,  15.0017, 26.0547,  15.0403, 2, 2, 0.14, 0.08, 0.01, 0.013,  -999.00, 9, -999.00, -999.00, 9, -999.00
49NZ20071122, P14N, 143, 1, 30, X12008, 2, 20071201, 2214, 0.0017, 179.0012, 5408,    332.9, 2,  11.3544, 2,  34.8100, 2,  34.8092, 2,     84.1, 2,     77.6, 2,    22.76, 2,    27.90, 2,     0.01, 2,     1.99, 2,    0.878, 2,    0.472, 2,    0.017, 2, -999.000, 9,   2210.5, 2,   2305.8, 2,    7.6149,     25.00,   -999.0, 1,   -999.0,  -999.00, 1,   -999.0,  11.3123, 26.5705,  11.3594, 2, 2, 0.17, 0.11, 0.01, 0.015,  -999.00, 9, -999.00, -999.00, 9, -999.00
49NZ20071122, P14N, 143, 1, 29, X12035, 2, 20071201, 2214, 0.0017, 179.0012, 5408,    432.7, 2,   9.5781, 2,  34.6938, 2,  34.6929, 2,     48.4, 2,     47.0, 2,    31.67, 2,    34.33, 2,     0.01, 2,     2.41, 2,    0.386, 2,    0.211, 2,    0.012, 2, -999.000, 9,   2246.8, 2,   2306.3, 2,    7.5111,     25.00,   -999.0, 1,   -999.0,  -999.00, 1,   -999.0,   9.5288, 26.7922,   9.5775, 2, 2, 0.19, 0.13, 0.01, 0.016,  -999.00, 9, -999.00, -999.00, 9, -999.00
49NZ20071122, P14N, 143, 1, 28, X12034, 2, 20071201, 2214, 0.0017, 179.0012, 5408,    532.5, 2,   8.3540, 2,  34.6268, 2,  34.6256, 6,     74.1, 2,     76.8, 2,    34.61, 2,    33.95, 2,     0.01, 2,     2.40, 2,    0.318, 2,    0.169, 2,    0.008, 2, -999.000, 9,   2239.7, 2,   2309.8, 2,    7.5401,     25.00,   -999.0, 1,   -999.0,  -999.00, 1,   -999.0,   8.2978, 26.9358,   8.3542, 2, 2, 0.20, 0.13, 0.01, 0.016,  -999.00, 9, -999.00, -999.00, 9, -999.00
49NZ20071122, P14N, 143, 1, 27, X12049, 2, 20071201, 2214, 0.0017, 179.0012, 5408,    629.4, 2,   7.1534, 2,  34.5791, 2,  34.5778, 2,     65.2, 2,     65.0, 2,    45.46, 2,    37.75, 2,     0.00, 2,     2.68, 2,    0.110, 2,    0.059, 2,    0.000, 2, -999.000, 9,   2263.2, 2,   2318.0, 2,    7.4941,     25.00,   -999.0, 1,   -999.0,  -999.00, 1,   -999.0,   7.0923, 27.0744,   7.1547, 2, 2, 0.22, 0.14, 0.01, 0.017,  -999.00, 9, -999.00, -999.00, 9, -999.00
49NZ20071122, P14N, 143, 1, 26, X12032, 2, 20071201, 2214, 0.0017, 179.0012, 5408,    731.8, 2,   6.2068, 2,  34.5505, 2,  34.5500, 2,     79.9, 2,     79.0, 2,    53.77, 2,    38.02, 2,     0.00, 2,     2.71, 2,    0.068, 6,    0.034, 6,    0.000, 6, -999.000, 9,   2268.2, 6,   2326.7, 2,    7.5056,     25.00,   -999.0, 1,   -999.0,  -999.00, 1,   -999.0,   6.1405, 27.1795,   6.2071, 2, 2, 0.24, 0.14, 0.01, 0.017,  -999.00, 9, -999.00, -999.00, 9, -999.00
49NZ20071122, P14N, 143, 1, 25, X12043, 2, 20071201, 2214, 0.0017, 179.0012, 5408,    829.7, 2,   5.2984, 2,  34.5445, 2,  34.5446, 2,     82.9, 2,     82.9, 2,    67.45, 2,    38.94, 2,     0.00, 2,     2.78, 2,    0.028, 2,    0.014, 2,    0.000, 2, -999.000, 9,   2282.5, 2,   2341.1, 6,    7.5017,     25.00,   -999.0, 1,   -999.0,  -999.00, 1,   -999.0,   5.2284, 27.2874,   5.2984, 2, 2, 0.27, 0.14, 0.01, 0.017,  -999.00, 9, -999.00, -999.00, 9, -999.00
49NZ20071122, P14N, 143, 1, 24, X12030, 2, 20071201, 2214, 0.0017, 179.0012, 5408,    929.9, 2,   4.8379, 2,  34.5481, 2,  34.5496, 3,     85.0, 2,     84.9, 2,    76.65, 2,    39.28, 2,     0.00, 2,     2.80, 2,    0.015, 2,    0.010, 2,    0.005, 2, -999.000, 9,   2292.5, 2,   2351.6, 2,    7.5010,     25.00,   -999.0, 1,   -999.0,  -999.00, 1,   -999.0,   4.7620, 27.3441,   4.8284, 2, 6, 0.29, 0.14, 0.01, 0.017,  -999.00, 9, -999.00, -999.00, 9, -999.00
49NZ20071122, P14N, 143, 1, 23, X12027, 2, 20071201, 2214, 0.0017, 179.0012, 5408,   1070.3, 2,   4.3443, 2,  34.5555, 2,  34.5561, 6,     95.1, 2,     94.3, 2,    84.53, 2,    38.75, 2,     0.00, 2,     2.78, 2,    0.016, 2,    0.009, 2,    0.000, 2, -999.000, 9,   2296.2, 2,   2360.3, 2,    7.5139,     25.00,   -999.0, 1,   -999.0,  -999.00, 1,   -999.0,   4.2598, 27.4052,   4.3429, 2, 2, 0.30, 0.14, 0.01, 0.017,  -999.00, 9, -999.00, -999.00, 9, -999.00
49NZ20071122, P14N, 143, 1, 22, X12028, 2, 20071201, 2214, 0.0017, 179.0012, 5408,   1269.5, 2,   3.6687, 2,  34.5796, 2,  34.5797, 2,     87.5, 2,     87.5, 2,   101.95, 2,    39.90, 2,     0.00, 2,     2.87, 2,    0.003, 2,    0.002, 2,    0.000, 2, -999.000, 9,   2318.2, 2,   2378.4, 2,    7.4997,     25.00,   -999.0, 1,   -999.0,  -999.00, 1,   -999.0,   3.5731, 27.4950,   3.6690, 2, 2, 0.34, 0.14, 0.01, 0.017,  -999.00, 9, -999.00, -999.00, 9, -999.00
49NZ20071122, P14N, 143, 1, 21, X12009, 2, 20071201, 2214, 0.0017, 179.0012, 5408,   1469.4, 2,   3.2048, 2,  34.5953, 2,  34.5962, 3,     95.4, 2,     95.5, 2,   112.40, 2,    39.61, 2,     0.00, 2,     2.84, 2,    0.002, 2,    0.004, 2,    0.000, 2, -999.000, 9,   2326.6, 2,   2391.8, 2,    7.5106,     25.00,   -999.0, 1,   -999.0,  -999.00, 1,   -999.0,   3.0972, 27.5531,   3.1990, 2, 2, 0.37, 0.14, 0.01, 0.017,  -999.00, 9, -999.00, -999.00, 9, -999.00
49NZ20071122, P14N, 143, 1, 20, X12026, 2, 20071201, 2214, 0.0017, 179.0012, 5408,   1669.5, 2,   2.7664, 2,  34.6136, 2,  34.6139, 2,    101.6, 2,    102.4, 2,   121.60, 2,    39.18, 2,     0.00, 2,     2.81, 2,    0.001, 2,    0.001, 2,    0.000, 2, -999.000, 9,   2336.3, 2,   2401.0, 2,    7.5220,     25.00,   -999.0, 1,   -999.0,  -999.00, 1,   -999.0,   2.6471, 27.6082,   2.7661, 2, 6, 0.39, 0.14, 0.01, 0.017,  -999.00, 9, -999.00, -999.00, 9, -999.00
49NZ20071122, P14N, 143, 1, 19, X12025, 2, 20071201, 2214, 0.0017, 179.0012, 5408,   1870.4, 2,   2.4569, 2,  34.6292, 2,  34.6298, 2,    106.6, 2,    106.8, 2,   129.20, 2,    39.05, 2,     0.00, 2,     2.79, 2,    0.003, 2,    0.002, 2,    0.000, 2, -999.000, 9,   2342.9, 2,   2408.4, 2,    7.5288,     25.00,   -999.0, 1,   -999.0,  -999.00, 1,   -999.0,   2.3247, 27.6483,   2.4569, 2, 2, 0.40, 0.14, 0.01, 0.017,  -999.00, 9, -999.00, -999.00, 9, -999.00
49NZ20071122, P14N, 143, 1, 18, X12024, 2, 20071201, 2214, 0.0017, 179.0012, 5408,   2068.6, 2,   2.2344, 2,  34.6403, 2,  34.6406, 2,    113.5, 2,    113.4, 2,   133.21, 2,    38.67, 2,     0.00, 2,     2.75, 2, -999.000, 9, -999.000, 9, -999.000, 9, -999.000, 9,   2342.0, 2,   2413.1, 2,    7.5392,     25.00,   -999.0, 1,   -999.0,  -999.00, 1,   -999.0,   2.0885, 27.6764,   2.2346, 2, 2, 0.41, 0.14, 0.01, 0.017,  -999.00, 9, -999.00, -999.00, 9, -999.00
49NZ20071122, P14N, 143, 1, 17, X12023, 2, 20071201, 2214, 0.0017, 179.0012, 5408,   2270.6, 2,   2.0195, 2,  34.6512, 2,  34.6520, 2,    121.7, 2,    121.1, 2,   137.02, 2,    38.21, 2,     0.00, 2,     2.70, 2, -999.000, 9, -999.000, 9, -999.000, 9, -999.000, 9,   2344.0, 2,   2418.2, 2,    7.5518,     25.00,   -999.0, 1,   -999.0,  -999.00, 1,   -999.0,   1.8594, 27.7032,   2.0197, 2, 2, 0.42, 0.14, 0.01, 0.017,  -999.00, 9, -999.00, -999.00, 9, -999.00
49NZ20071122, P14N, 143, 1, 16, X12022, 2, 20071201, 2214, 0.0017, 179.0012, 5408,   2471.0, 2,   1.9326, 2,  34.6575, 2,  34.6577, 2,    122.5, 2,    122.4, 2,   139.65, 2,    38.12, 2,     0.00, 2,     2.70, 2,    0.000, 2,    0.002, 2,    0.000, 2, -999.000, 9,   2344.6, 6,   2420.5, 2,    7.5540,     25.00,   -999.0, 1,   -999.0,  -999.00, 1,   -999.0,   1.7562, 27.7162,   1.9326, 2, 2, 0.43, 0.14, 0.01, 0.017,  -999.00, 9, -999.00, -999.00, 9, -999.00
49NZ20071122, P14N, 143, 1, 15, X12021, 2, 20071201, 2214, 0.0017, 179.0012, 5408,   2671.0, 2,   1.8118, 2,  34.6644, 2,  34.6646, 2,    127.1, 2,    127.5, 2,   141.57, 2,    37.94, 2,     0.00, 2,     2.67, 2, -999.000, 9, -999.000, 9, -999.000, 9, -999.000, 9,   2343.3, 2,   2422.8, 6,    7.5619,     25.00,   -999.0, 1,   -999.0,  -999.00, 1,   -999.0,   1.6194, 27.7321,   1.8117, 2, 2, 0.43, 0.14, 0.01, 0.017,  -999.00, 9, -999.00, -999.00, 9, -999.00
49NZ20071122, P14N, 143, 1, 14, X12020, 2, 20071201, 2214, 0.0017, 179.0012, 5408,   2870.7, 2,   1.7270, 2,  34.6687, 2,  34.6690, 2,    132.5, 2,    132.6, 2,   141.92, 2,    37.56, 2,     0.00, 2,     2.64, 2, -999.000, 9, -999.000, 9, -999.000, 9, -999.000, 9,   2342.2, 2,   2421.8, 2,    7.5679,     25.00,   -999.0, 1,   -999.0,  -999.00, 1,   -999.0,   1.5176, 27.7430,   1.7269, 2, 6, 0.43, 0.14, 0.01, 0.017,  -999.00, 9, -999.00, -999.00, 9, -999.00
49NZ20071122, P14N, 143, 1, 13, X12019, 2, 20071201, 2214, 0.0017, 179.0012, 5408,   3080.6, 2,   1.6532, 2,  34.6729, 2,  34.6729, 2,    137.7, 2,    137.8, 2,   141.88, 2,    37.17, 2,     0.00, 2,     2.61, 2,    0.000, 2,    0.000, 2,    0.000, 2, -999.000, 9,   2336.3, 2,   2421.8, 2,    7.5752,     25.00,   -999.0, 1,   -999.0,  -999.00, 1,   -999.0,   1.4253, 27.7531,   1.6528, 2, 2, 0.43, 0.14, 0.01, 0.016,  -999.00, 9, -999.00, -999.00, 9, -999.00
49NZ20071122, P14N, 143, 1, 12, X12040, 2, 20071201, 2214, 0.0017, 179.0012, 5408,   3329.3, 2,   1.5928, 2,  34.6770, 2,  34.6771, 2,    143.7, 2,    144.0, 2,   140.49, 2,    36.66, 2,     0.01, 2,     2.56, 2, -999.000, 9, -999.000, 9, -999.000, 9, -999.000, 9,   2331.9, 2,   2420.0, 2,    7.5840,     25.00,   -999.0, 1,   -999.0,  -999.00, 1,   -999.0,   1.3417, 27.7624,   1.5928, 2, 2, 0.43, 0.14, 0.01, 0.016,  -999.00, 9, -999.00, -999.00, 9, -999.00
49NZ20071122, P14N, 143, 1, 11, X12047, 2, 20071201, 2214, 0.0017, 179.0012, 5408,   3581.4, 2,   1.5378, 2,  34.6820, 2,  34.6822, 2,    149.8, 2,    149.9, 2,   139.42, 2,    36.29, 2,     0.00, 2,     2.54, 2, -999.000, 9, -999.000, 9, -999.000, 9, -999.000, 9,   2328.3, 2,   2418.8, 2,    7.5910,     25.00,   -999.0, 1,   -999.0,  -999.00, 1,   -999.0,   1.2623, 27.7719,   1.5378, 2, 2, 0.43, 0.13, 0.01, 0.016,  -999.00, 9, -999.00, -999.00, 9, -999.00
49NZ20071122, P14N, 143, 1, 10, X12012, 2, 20071201, 2214, 0.0017, 179.0012, 5408,   3831.3, 2,   1.4677, 2,  34.6881, 2,  34.6880, 2,    158.1, 2,    158.5, 2,   137.20, 2,    35.73, 2,     0.00, 2,     2.49, 2,    0.000, 2,    0.001, 2,    0.000, 2, -999.000, 9,   2321.3, 2,   2417.2, 2,    7.6023,     25.00,   -999.0, 1,   -999.0,  -999.00, 1,   -999.0,   1.1678, 27.7834,   1.4677, 2, 2, 0.42, 0.13, 0.01, 0.016,  -999.00, 9, -999.00, -999.00, 9, -999.00
49NZ20071122, P14N, 143, 1, 9, X12015, 2, 20071201, 2214, 0.0017, 179.0012, 5408,   4079.0, 2,   1.4054, 2,  34.6933, 2,  34.6934, 6,    166.2, 2,    166.7, 2,   134.76, 2,    35.18, 2,     0.00, 2,     2.45, 2,    0.002, 2,    0.003, 2,    0.000, 2, -999.000, 9,   2312.2, 2,   2413.8, 2,    7.6130,     25.00,   -999.0, 1,   -999.0,  -999.00, 1,   -999.0,   1.0805, 27.7935,   1.4054, 2, 2, 0.42, 0.13, 0.01, 0.016,  -999.00, 9, -999.00, -999.00, 9, -999.00
49NZ20071122, P14N, 143, 1, 8, X12046, 2, 20071201, 2214, 0.0017, 179.0012, 5408,   4329.0, 2,   1.3281, 2,  34.6987, 2,  34.6987, 2,    177.0, 2,    177.2, 2,   129.80, 2,    34.48, 2,     0.00, 2,     2.40, 2,    0.000, 2,    0.000, 2,    0.000, 2, -999.000, 9,   2301.1, 6,   2403.4, 2,    7.6199,     25.00,   -999.0, 1,   -999.0,  -999.00, 1,   -999.0,   0.9778, 27.8047,   1.3281, 2, 2, 0.40, 0.13, 0.01, 0.016,  -999.00, 9, -999.00, -999.00, 9, -999.00
49NZ20071122, P14N, 143, 1, 7, X12044, 2, 20071201, 2214, 0.0017, 179.0012, 5408,   4581.0, 2,   1.2698, 2,  34.7026, 2,  34.7026, 2,    186.2, 2,    186.0, 2,   125.12, 2,    33.72, 2,     0.00, 2,     2.35, 2,    0.001, 2,    0.004, 2,    0.000, 2, -999.000, 9,   2289.7, 2,   2393.9, 6,    7.6232,     25.00,   -999.0, 1,   -999.0,  -999.00, 1,   -999.0,   0.8926, 27.8134,   1.2697, 2, 2, 0.39, 0.13, 0.01, 0.016,  -999.00, 9, -999.00, -999.00, 9, -999.00
49NZ20071122, P14N, 143, 1, 6, X12048, 2, 20071201, 2214, 0.0017, 179.0012, 5408,   4828.5, 2,   1.2550, 2,  34.7047, 2,  34.7050, 2,    190.7, 2,    190.5, 2,   122.99, 2,    33.45, 2,     0.00, 2,     2.33, 2,    0.007, 2,    0.005, 2,    0.000, 2, -999.000, 9,   2285.8, 2,   2388.8, 2,    7.6253,     25.00,   -999.0, 1,   -999.0,  -999.00, 1,   -999.0,   0.8494, 27.8179,   1.2550, 2, 2, 0.39, 0.13, 0.01, 0.016,  -999.00, 9, -999.00, -999.00, 9, -999.00
49NZ20071122, P14N, 143, 1, 5, X12014, 2, 20071201, 2214, 0.0017, 179.0012, 5408,   5079.5, 2,   1.2627, 2,  34.7053, 2,  34.7053, 2,    192.6, 2,    192.6, 2,   122.17, 2,    33.32, 2,     0.00, 2,     2.32, 2,    0.007, 2,    0.007, 2,    0.000, 2, -999.000, 9,   2282.5, 2,   2386.8, 2,    7.6254,     25.00,   -999.0, 1,   -999.0,  -999.00, 1,   -999.0,   0.8268, 27.8199,   1.2627, 2, 2, 0.39, 0.13, 0.01, 0.016,  -999.00, 9, -999.00, -999.00, 9, -999.00
49NZ20071122, P14N, 143, 1, 4, X12006, 2, 20071201, 2214, 0.0017, 179.0012, 5408,   5329.0, 2,   1.2872, 2,  34.7058, 2,  34.7061, 2,    193.6, 2,    193.5, 2,   121.62, 2,    33.21, 2,     0.00, 2,     2.31, 2,    0.009, 2,    0.003, 2,    0.000, 2, -999.000, 9,   2282.0, 2,   2385.6, 2,    7.6255,     25.00,   -999.0, 1,   -999.0,  -999.00, 1,   -999.0,   0.8197, 27.8207,   1.2873, 2, 2, 0.39, 0.13, 0.01, 0.016,  -999.00, 9, -999.00, -999.00, 9, -999.00
49NZ20071122, P14N, 143, 1, 3, X12013, 2, 20071201, 2214, 0.0017, 179.0012, 5408,   5079.5, 2,   1.2627, 2,  34.7054, 2, -999.0000, 9,    192.6, 2,   -999.0, 9,  -999.00, 9,  -999.00, 9,  -999.00, 9,  -999.00, 9, -999.000, 9, -999.000, 9, -999.000, 9, -999.000, 9,   -999.0, 9,   -999.0, 9, -999.0000,   -999.00,   -999.0, 9,   -999.0,  -999.00, 9,   -999.0,   0.8268, 27.8200,   1.2627, 2, 9, -999.00, -999.00, -999.00, -999.000,  -999.00, 9, -999.00, -999.00, 9, -999.00
49NZ20071122, P14N, 143, 1, 2, X12002, 2, 20071201, 2214, 0.0017, 179.0012, 5408,   5079.5, 2,   1.2628, 2,  34.7053, 2, -999.0000, 9,    192.6, 2,   -999.0, 9,  -999.00, 9,  -999.00, 9,  -999.00, 9,  -999.00, 9, -999.000, 9, -999.000, 9, -999.000, 9, -999.000, 9,   -999.0, 9,   -999.0, 9, -999.0000,   -999.00,   -999.0, 9,   -999.0,  -999.00, 9,   -999.0,   0.8269, 27.8199,   1.2627, 2, 9, -999.00, -999.00, -999.00, -999.000,  -999.00, 9, -999.00, -999.00, 9, -999.00
49NZ20071122, P14N, 143, 1, 1, X12001, 2, 20071201, 2214, 0.0017, 179.0012, 5408,   5496.9, 2,   1.3086, 2,  34.7058, 2,  34.7060, 6,    193.8, 2,    193.6, 2,   121.62, 2,    33.19, 2,     0.00, 2,     2.31, 2,    0.005, 2,    0.004, 2,    0.000, 2, -999.000, 9,   2281.1, 2,   2384.5, 2,    7.6257,     25.00,   -999.0, 1,   -999.0,  -999.00, 1,   -999.0,   0.8193, 27.8208,   1.3087, 2, 2, 0.39, 0.13, 0.01, 0.016,  -999.00, 9, -999.00, -999.00, 9, -999.00