BOTTLE,20220820CCHSIOAMB
EXPOCODE,SECT_ID,STNNBR,CASTNO,SAMPNO,BTLNBR,BTLNBR_FLAG_W,DATE,TIME,LATITUDE,LONGITUDE,DEPTH,CTDPRS,CTDPRS_FLAG_W,CTDTMP,CTDTMP_FLAG_W,CTDSAL,CTDSAL_FLAG_W,SALNTY,SALNTY_FLAG_W,CTDOXY,CTDOXY_FLAG_W,OXYGEN,OXYGEN_FLAG_W,SILCAT,SILCAT_FLAG_W,NITRAT,NITRAT_FLAG_W,NITRIT,NITRIT_FLAG_W,PHSPHT,PHSPHT_FLAG_W,CFC-11,CFC-11_FLAG_W,CFC-12,CFC-12_FLAG_W,CFC113,CFC113_FLAG_W,CCL4,CCL4_FLAG_W,TCARBN,TCARBN_FLAG_W,ALKALI,ALKALI_FLAG_W,PH_TOT,PH_TMP,DELC14,DELC14_FLAG_W,C14ERR,DELC13,DELC13_FLAG_W,C13ERR,THETA,SIG0,SBE35,SBE35_FLAG_W,PH_TOT_FLAG_W,SILUNC,NRAUNC,NRIUNC,PHPUNC,CS-137,CS-137_FLAG_W,CS137ER,PLUTO,PLUTO_FLAG_W,PLUTOER
,,,,,,,,,,,METERS,DBAR,,ITS-90,,PSS-78,,PSS-78,,UMOL/KG,,UMOL/KG,,UMOL/KG,,UMOL/KG,,UMOL/KG,,UMOL/KG,,PMOL/KG,,PMOL/KG,,PMOL/KG,,PMOL/KG,,UMOL/KG,,UMOL/KG,,,DEG C,/MILLE,,/MILLE,/MILLE,,/MILLE,DEG C,KG/M^3,ITS-90,,,UMOL/KG,UMOL/KG,UMOL/KG,UMOL/KG,DM/.1MG,,BQ/M^3,MBQ/M^3,,MBQ/M^3
49NZ20071122, P14N, 173, 1, 36, X12042, 2, 20071210, 0201, -10.0058, 178.9975, 4755,     10.1, 2,  29.1493, 2,  34.8973, 2,  34.8984, 2,    195.5, 2,    194.6, 2,     0.65, 2,     0.04, 2,     0.01, 2,     0.19, 2,    1.450, 2,    0.902, 2,    0.235, 4, -999.000, 9,   1941.1, 2,   2297.4, 2,    8.1421,     25.00,   -999.0, 9,   -999.0,  -999.00, 9,   -999.0,  29.1468, 21.9378,  29.1491, 2, 2, 0.12, 0.03, 0.01, 0.016,  -999.00, 9, -999.00, -999.00, 9, -999.00
49NZ20071122, P14N, 173, 1, 35, X12041, 2, 20071210, 0201, -10.0058, 178.9975, 4755,     50.6, 2,  29.1099, 2,  34.9107, 2,  34.9178, 2,    194.8, 2,    194.9, 2,     0.61, 2,     0.04, 2,     0.01, 2,     0.19, 2,    1.439, 2,    0.894, 2,    0.230, 4, -999.000, 9,   1941.7, 6,   2299.3, 2,    8.1425,     25.00,   -999.0, 9,   -999.0,  -999.00, 9,   -999.0,  29.0976, 21.9644,  29.1089, 2, 2, 0.12, 0.03, 0.01, 0.016,  -999.00, 9, -999.00, -999.00, 9, -999.00
49NZ20071122, P14N, 173, 1, 34, X12016, 2, 20071210, 0201, -10.0058, 178.9975, 4755,    101.1, 2,  28.6033, 2,  35.7928, 2,  35.7680, 2,    172.2, 2,    179.5, 2,     0.92, 2,     0.68, 2,     0.13, 2,     0.35, 2,    1.549, 2,    0.957, 2,    0.637, 4, -999.000, 9,   2019.5, 2,   2355.4, 6,    8.0883,     25.00,   -999.0, 9,   -999.0,  -999.00, 9,   -999.0,  28.5790, 22.8000,  28.6173, 2, 2, 0.12, 0.03, 0.01, 0.014,  -999.00, 9, -999.00, -999.00, 9, -999.00
49NZ20071122, P14N, 173, 1, 33, X12033, 2, 20071210, 0201, -10.0058, 178.9975, 4755,    150.2, 2,  25.3503, 2,  36.2532, 2,  36.2527, 2,    146.5, 2,    149.5, 2,     0.97, 2,     3.92, 2,     0.45, 2,     0.59, 2,    1.782, 6,    1.071, 6,    0.174, 4, -999.000, 9,   2092.7, 2,   2385.3, 2,    8.0090,     25.00,   -999.0, 9,   -999.0,  -999.00, 9,   -999.0,  25.3172, 24.1914,  25.3438, 2, 6, 0.12, 0.04, 0.00, 0.013,  -999.00, 9, -999.00, -999.00, 9, -999.00
49NZ20071122, P14N, 173, 1, 32, X12038, 2, 20071210, 0201, -10.0058, 178.9975, 4755,    200.6, 2,  20.8151, 2,  35.8520, 2,  35.8498, 2,    149.1, 2,    148.7, 2,     1.70, 2,     7.09, 2,     0.01, 2,     0.76, 2,    2.071, 2,    1.186, 2,    0.056, 2, -999.000, 9,   2120.2, 2,   2362.7, 2,    7.9285,     25.00,   -999.0, 9,   -999.0,  -999.00, 9,   -999.0,  20.7768, 25.2035,  20.8154, 2, 2, 0.12, 0.05, 0.01, 0.013,  -999.00, 9, -999.00, -999.00, 9, -999.00
49NZ20071122, P14N, 173, 1, 31, X12003, 2, 20071210, 0201, -10.0058, 178.9975, 4755,    248.1, 2,  18.5426, 2,  35.5609, 2,  35.5555, 6,    133.1, 2,    133.9, 2,     3.54, 2,    10.56, 2,     0.01, 2,     1.01, 2,    2.017, 2,    1.129, 2,    0.032, 2, -999.000, 9,   2134.3, 2,   2343.3, 2,    7.8667,     25.00,   -999.0, 9,   -999.0,  -999.00, 9,   -999.0,  18.4989, 25.5772,  18.5166, 2, 2, 0.13, 0.06, 0.01, 0.013,  -999.00, 9, -999.00, -999.00, 9, -999.00
49NZ20071122, P14N, 173, 1, 30, X12008, 2, 20071210, 0201, -10.0058, 178.9975, 4755,    330.6, 2,  13.4063, 2,  34.9935, 2,  34.9779, 2,    104.3, 2,    104.4, 2,    11.22, 2,    20.18, 2,     0.01, 2,     1.64, 2,    1.360, 2,    0.722, 2,    0.016, 2, -999.000, 9,   2174.0, 2,   2310.9, 2,    7.7115,     25.00,   -999.0, 9,   -999.0,  -999.00, 9,   -999.0,  13.3597, 26.3150,  13.4092, 2, 2, 0.14, 0.09, 0.01, 0.014,  -999.00, 9, -999.00, -999.00, 9, -999.00
49NZ20071122, P14N, 173, 1, 29, X12035, 2, 20071210, 0201, -10.0058, 178.9975, 4755,    432.0, 2,   9.4283, 2,  34.6909, 2,  34.6900, 2,    134.4, 2,    135.4, 2,    19.31, 2,    25.79, 2,     0.01, 2,     1.88, 2,    0.863, 2,    0.447, 2,    0.019, 2, -999.000, 9,   2187.0, 2,   2303.5, 2,    7.6684,     25.00,   -999.0, 9,   -999.0,  -999.00, 9,   -999.0,   9.3796, 26.8145,   9.4300, 2, 2, 0.16, 0.10, 0.01, 0.015,  -999.00, 9, -999.00, -999.00, 9, -999.00
49NZ20071122, P14N, 173, 1, 28, X12034, 2, 20071210, 0201, -10.0058, 178.9975, 4755,    529.7, 2,   7.2772, 2,  34.5548, 2,  34.5538, 6,    145.6, 2,    145.3, 2,    29.13, 2,    29.43, 2,     0.00, 2,     2.09, 2,    0.503, 2,    0.263, 2,    0.015, 2, -999.000, 9,   2200.1, 2,   2307.3, 2,    7.6354,     25.00,   -999.0, 9,   -999.0,  -999.00, 9,   -999.0,   7.2256, 27.0366,   7.2776, 2, 2, 0.18, 0.12, 0.01, 0.015,  -999.00, 9, -999.00, -999.00, 9, -999.00
49NZ20071122, P14N, 173, 1, 27, X12049, 2, 20071210, 0201, -10.0058, 178.9975, 4755,    629.3, 2,   6.2995, 2,  34.5250, 2,  34.5246, 2,    120.6, 2,    118.6, 2,    40.52, 2,    34.21, 2,     0.01, 2,     2.41, 2,    0.123, 2,    0.067, 2,    0.010, 2, -999.000, 9,   2232.9, 2,   2314.5, 2,    7.5725,     25.00,   -999.0, 9,   -999.0,  -999.00, 9,   -999.0,   6.2425, 27.1462,   6.2977, 2, 2, 0.21, 0.13, 0.01, 0.016,  -999.00, 9, -999.00, -999.00, 9, -999.00
49NZ20071122, P14N, 173, 1, 26, X12032, 2, 20071210, 0201, -10.0058, 178.9975, 4755,    730.7, 2,   5.6888, 2,  34.5099, 2,  34.5098, 2,    125.1, 2,    126.4, 2,    47.09, 2,    34.39, 2,     0.00, 2,     2.44, 2,    0.108, 6,    0.059, 6,    0.004, 6, -999.000, 9,   2237.6, 6,   2321.3, 2,    7.5756,     25.00,   -999.0, 9,   -999.0,  -999.00, 9,   -999.0,   5.6255, 27.2122,   5.6886, 2, 2, 0.22, 0.13, 0.01, 0.016,  -999.00, 9, -999.00, -999.00, 9, -999.00
49NZ20071122, P14N, 173, 1, 25, X12043, 2, 20071210, 0201, -10.0058, 178.9975, 4755,    830.7, 2,   5.1525, 2,  34.5162, 2,  34.5163, 2,    111.5, 2,    111.2, 2,    57.05, 2,    36.87, 2,     0.00, 2,     2.62, 2,    0.024, 2,    0.013, 2,    0.003, 2, -999.000, 9,   2257.3, 2,   2330.9, 6,    7.5421,     25.00,   -999.0, 9,   -999.0,  -999.00, 9,   -999.0,   5.0833, 27.2820,   5.1517, 2, 2, 0.24, 0.14, 0.01, 0.017,  -999.00, 9, -999.00, -999.00, 9, -999.00
49NZ20071122, P14N, 173, 1, 24, X12030, 2, 20071210, 0201, -10.0058, 178.9975, 4755,    931.1, 2,   4.6602, 2,  34.5219, 2,  34.5228, 2,    113.3, 2,    113.2, 2,    65.46, 2,    37.24, 2,     0.01, 2,     2.64, 2,    0.010, 2,    0.006, 2,    0.000, 2, -999.000, 9,   2266.4, 2,   2339.4, 2,    7.5409,     25.00,   -999.0, 9,   -999.0,  -999.00, 9,   -999.0,   4.5855, 27.3431,   4.6604, 2, 6, 0.26, 0.14, 0.01, 0.017,  -999.00, 9, -999.00, -999.00, 9, -999.00
49NZ20071122, P14N, 173, 1, 23, X12027, 2, 20071210, 0201, -10.0058, 178.9975, 4755,   1071.7, 2,   4.0869, 2,  34.5387, 2,  34.5391, 6,    116.9, 2,    116.5, 2,    76.85, 2,    37.40, 2,     0.01, 2,     2.66, 2,    0.003, 2,    0.003, 2,    0.000, 2, -999.000, 9,   2279.0, 2,   2351.4, 2,    7.5428,     25.00,   -999.0, 9,   -999.0,  -999.00, 9,   -999.0,   4.0045, 27.4187,   4.0867, 2, 2, 0.29, 0.14, 0.01, 0.017,  -999.00, 9, -999.00, -999.00, 9, -999.00
49NZ20071122, P14N, 173, 1, 22, X12028, 2, 20071210, 0201, -10.0058, 178.9975, 4755,   1269.1, 2,   3.4953, 2,  34.5639, 2,  34.5647, 2,    121.3, 2,    121.1, 2,    90.54, 2,    37.36, 2,     0.01, 2,     2.67, 2,    0.002, 2,    0.003, 2,    0.000, 2, -999.000, 9,   2290.5, 2,   2367.4, 2,    7.5489,     25.00,   -999.0, 9,   -999.0,  -999.00, 9,   -999.0,   3.4015, 27.4992,   3.4954, 2, 2, 0.32, 0.14, 0.01, 0.017,  -999.00, 9, -999.00, -999.00, 9, -999.00
49NZ20071122, P14N, 173, 1, 21, X12009, 2, 20071210, 0201, -10.0058, 178.9975, 4755,   1472.4, 2,   2.9336, 2,  34.5902, 2,  34.5896, 3,    126.9, 2,    129.0, 2,   101.83, 2,    37.03, 2,     0.00, 2,     2.64, 2,    0.000, 2,    0.001, 2,    0.000, 2, -999.000, 9,   2300.2, 2,   2379.7, 2,    7.5590,     25.00,   -999.0, 9,   -999.0,  -999.00, 9,   -999.0,   2.8288, 27.5735,   2.9334, 2, 2, 0.34, 0.14, 0.01, 0.017,  -999.00, 9, -999.00, -999.00, 9, -999.00
49NZ20071122, P14N, 173, 1, 20, X12026, 2, 20071210, 0201, -10.0058, 178.9975, 4755,   1669.9, 2,   2.5806, 2,  34.6089, 2,  34.6090, 2,    134.1, 2,    134.4, 2,   109.47, 2,    36.80, 2,     0.00, 2,     2.61, 2,    0.003, 2,    0.005, 2,    0.000, 2, -999.000, 9,   2305.8, 2,   2388.2, 2,    7.5668,     25.00,   -999.0, 9,   -999.0,  -999.00, 9,   -999.0,   2.4636, 27.6203,   2.5806, 2, 6, 0.36, 0.14, 0.01, 0.017,  -999.00, 9, -999.00, -999.00, 9, -999.00
49NZ20071122, P14N, 173, 1, 19, X12025, 2, 20071210, 0201, -10.0058, 178.9975, 4755,   1871.1, 2,   2.3246, 2,  34.6257, 2,  34.6261, 2,    137.6, 2,    138.0, 2,   115.39, 2,    36.62, 2,     0.00, 2,     2.60, 2,    0.004, 2,    0.005, 2,    0.000, 2, -999.000, 9,   2310.2, 2,   2394.5, 2,    7.5718,     25.00,   -999.0, 9,   -999.0,  -999.00, 9,   -999.0,   2.1942, 27.6562,   2.3247, 2, 2, 0.37, 0.14, 0.01, 0.016,  -999.00, 9, -999.00, -999.00, 9, -999.00
49NZ20071122, P14N, 173, 1, 18, X12024, 2, 20071210, 0201, -10.0058, 178.9975, 4755,   2070.0, 2,   2.2123, 2,  34.6346, 2,  34.6346, 2,    138.6, 2,    138.7, 2,   119.15, 2,    36.66, 2,     0.01, 2,     2.60, 2,    0.002, 2,    0.005, 2,    0.000, 2, -999.000, 9,   2312.4, 2,   2400.5, 2,    7.5741,     25.00,   -999.0, 9,   -999.0,  -999.00, 9,   -999.0,   2.0666, 27.6736,   2.2123, 2, 2, 0.38, 0.14, 0.01, 0.016,  -999.00, 9, -999.00, -999.00, 9, -999.00
49NZ20071122, P14N, 173, 1, 17, X12023, 2, 20071210, 0201, -10.0058, 178.9975, 4755,   2272.0, 2,   2.0687, 2,  34.6457, 2,  34.6461, 6,    139.4, 2,    139.4, 2,   123.88, 2,    36.61, 2,     0.00, 2,     2.60, 2,    0.005, 2,    0.003, 2,    0.000, 2, -999.000, 9,   2317.7, 2,   2403.6, 2,    7.5768,     25.00,   -999.0, 9,   -999.0,  -999.00, 9,   -999.0,   1.9077, 27.6951,   2.0687, 2, 2, 0.39, 0.14, 0.01, 0.016,  -999.00, 9, -999.00, -999.00, 9, -999.00
49NZ20071122, P14N, 173, 1, 16, X12022, 2, 20071210, 0201, -10.0058, 178.9975, 4755,   2471.9, 2,   1.9325, 2,  34.6552, 2,  34.6551, 2,    141.8, 2,    141.8, 2,   127.72, 2,    36.56, 2,     0.01, 2,     2.59, 2,    0.000, 2,    0.001, 2,    0.000, 2, -999.000, 9,   2320.1, 6,   2407.5, 2,    7.5797,     25.00,   -999.0, 9,   -999.0,  -999.00, 9,   -999.0,   1.7560, 27.7144,   1.9323, 2, 2, 0.40, 0.14, 0.01, 0.016,  -999.00, 9, -999.00, -999.00, 9, -999.00
49NZ20071122, P14N, 173, 1, 15, X12021, 2, 20071210, 0201, -10.0058, 178.9975, 4755,   2670.2, 2,   1.8442, 2,  34.6617, 2,  34.6618, 2,    141.4, 2,    141.4, 2,   131.38, 2,    36.56, 2,     0.01, 2,     2.59, 2, -999.000, 9, -999.000, 9, -999.000, 9, -999.000, 9,   2323.8, 2,   2411.7, 6,    7.5795,     25.00,   -999.0, 9,   -999.0,  -999.00, 9,   -999.0,   1.6512, 27.7275,   1.8442, 2, 2, 0.41, 0.14, 0.01, 0.016,  -999.00, 9, -999.00, -999.00, 9, -999.00
49NZ20071122, P14N, 173, 1, 14, X12020, 2, 20071210, 0201, -10.0058, 178.9975, 4755,   2869.7, 2,   1.7516, 2,  34.6681, 2,  34.6678, 2,    142.1, 2,    142.0, 2,   134.82, 2,    36.64, 2,     0.00, 2,     2.59, 2, -999.000, 9, -999.000, 9, -999.000, 9, -999.000, 9,   2325.9, 2,   2415.2, 2,    7.5805,     25.00,   -999.0, 9,   -999.0,  -999.00, 9,   -999.0,   1.5418, 27.7408,   1.7514, 2, 6, 0.42, 0.14, 0.01, 0.016,  -999.00, 9, -999.00, -999.00, 9, -999.00
49NZ20071122, P14N, 173, 1, 13, X12019, 2, 20071210, 0201, -10.0058, 178.9975, 4755,   3080.3, 2,   1.6594, 2,  34.6734, 2,  34.6735, 2,    146.3, 2,    145.6, 2,   136.12, 2,    36.38, 2,     0.01, 2,     2.57, 2,    0.000, 2,    0.000, 2,    0.000, 2, -999.000, 9,   2324.8, 2,   2414.6, 2,    7.5856,     25.00,   -999.0, 9,   -999.0,  -999.00, 9,   -999.0,   1.4313, 27.7531,   1.6593, 2, 2, 0.42, 0.13, 0.01, 0.016,  -999.00, 9, -999.00, -999.00, 9, -999.00
49NZ20071122, P14N, 173, 1, 12, X12040, 2, 20071210, 0201, -10.0058, 178.9975, 4755,   3328.9, 2,   1.5760, 2,  34.6796, 2,  34.6797, 2,    152.4, 2,    151.7, 2,   135.47, 2,    35.98, 2,     0.00, 2,     2.52, 2, -999.000, 9, -999.000, 9, -999.000, 9, -999.000, 9,   2321.5, 2,   2413.6, 2,    7.5916,     25.00,   -999.0, 9,   -999.0,  -999.00, 9,   -999.0,   1.3253, 27.7656,   1.5760, 2, 2, 0.42, 0.13, 0.01, 0.016,  -999.00, 9, -999.00, -999.00, 9, -999.00
49NZ20071122, P14N, 173, 1, 11, X12047, 2, 20071210, 0201, -10.0058, 178.9975, 4755,   3579.8, 2,   1.4819, 2,  34.6873, 2,  34.6874, 2,    162.5, 2,    162.1, 2,   132.23, 2,    35.25, 2,     0.00, 2,     2.48, 2, -999.000, 9, -999.000, 9, -999.000, 9, -999.000, 9,   2312.3, 2,   2407.9, 2,    7.6008,     25.00,   -999.0, 9,   -999.0,  -999.00, 9,   -999.0,   1.2080, 27.7800,   1.4820, 2, 2, 0.41, 0.13, 0.01, 0.016,  -999.00, 9, -999.00, -999.00, 9, -999.00
49NZ20071122, P14N, 173, 1, 10, X12012, 2, 20071210, 0201, -10.0058, 178.9975, 4755,   3831.1, 2,   1.4074, 2,  34.6938, 2,  34.6937, 2,    172.8, 2,    172.5, 2,   127.48, 2,    34.42, 2,     0.00, 2,     2.42, 2,    0.007, 2,    0.003, 2,    0.003, 2, -999.000, 9,   2297.8, 2,   2397.6, 2,    7.6082,     25.00,   -999.0, 9,   -999.0,  -999.00, 9,   -999.0,   1.1092, 27.7920,   1.4074, 2, 2, 0.40, 0.13, 0.01, 0.016,  -999.00, 9, -999.00, -999.00, 9, -999.00
49NZ20071122, P14N, 173, 1, 9, X12015, 2, 20071210, 0201, -10.0058, 178.9975, 4755,   4080.0, 2,   1.3269, 2,  34.7002, 2,  34.7002, 6,    182.0, 2,    182.6, 2,   123.42, 2,    33.74, 2,     0.01, 2,     2.37, 2,    0.015, 2,    0.005, 2,    0.000, 2, -999.000, 9,   2286.1, 2,   2388.4, 2,    7.6144,     25.00,   -999.0, 9,   -999.0,  -999.00, 9,   -999.0,   1.0041, 27.8041,   1.3269, 2, 2, 0.39, 0.13, 0.01, 0.016,  -999.00, 9, -999.00, -999.00, 9, -999.00
49NZ20071122, P14N, 173, 1, 8, X12046, 2, 20071210, 0201, -10.0058, 178.9975, 4755,   4330.7, 2,   1.2898, 2,  34.7036, 2,  34.7034, 2,    188.6, 2,    188.5, 2,   121.17, 2,    33.25, 2,     0.01, 2,     2.33, 2,    0.019, 2,    0.009, 2,    0.000, 2, -999.000, 9,   2281.1, 6,   2384.4, 2,    7.6186,     25.00,   -999.0, 9,   -999.0,  -999.00, 9,   -999.0,   0.9404, 27.8111,   1.2899, 2, 2, 0.39, 0.13, 0.01, 0.016,  -999.00, 9, -999.00, -999.00, 9, -999.00
49NZ20071122, P14N, 173, 1, 7, X12044, 2, 20071210, 0201, -10.0058, 178.9975, 4755,   4579.5, 2,   1.2799, 2,  34.7053, 2,  34.7053, 2,    191.9, 2,    191.6, 2,   119.88, 2,    32.99, 2,     0.01, 2,     2.31, 2,    0.011, 2,    0.007, 2,    0.000, 2, -999.000, 9,   2277.6, 2,   2381.1, 6,    7.6208,     25.00,   -999.0, 9,   -999.0,  -999.00, 9,   -999.0,   0.9025, 27.8150,   1.2800, 2, 2, 0.38, 0.13, 0.01, 0.016,  -999.00, 9, -999.00, -999.00, 9, -999.00
49NZ20071122, P14N, 173, 1, 6, X12048, 9, 20071210, 0201, -10.0058, 178.9975, 4755,      9.6, 2,  29.1403, 2,  34.8987, 2, -999.0000, 9,    195.6, 2,   -999.0, 9,  -999.00, 9,  -999.00, 9,  -999.00, 9,  -999.00, 9, -999.000, 9, -999.000, 9, -999.000, 9, -999.000, 9,   -999.0, 9,   -999.0, 9, -999.0000,   -999.00,   -999.0, 9,   -999.0,  -999.00, 9,   -999.0,  29.1380, 21.9418,  29.1386, 2, 9, -999.00, -999.00, -999.00, -999.000,  -999.00, 9, -999.00, -999.00, 9, -999.00
49NZ20071122, P14N, 173, 1, 5, X12014, 9, 20071210, 0201, -10.0058, 178.9975, 4755,     50.2, 2,  29.1141, 2,  34.9137, 2, -999.0000, 9,    194.6, 2,   -999.0, 9,  -999.00, 9,  -999.00, 9,  -999.00, 9,  -999.00, 9, -999.000, 9, -999.000, 9, -999.000, 9, -999.000, 9,   -999.0, 9,   -999.0, 9, -999.0000,   -999.00,   -999.0, 9,   -999.0,  -999.00, 9,   -999.0,  29.1019, 21.9652,  29.1140, 2, 9, -999.00, -999.00, -999.00, -999.000,  -999.00, 9, -999.00, -999.00, 9, -999.00
49NZ20071122, P14N, 173, 1, 4, X12006, 9, 20071210, 0201, -10.0058, 178.9975, 4755,     99.9, 2,  28.6585, 2,  35.7768, 2, -999.0000, 9,    172.9, 2,   -999.0, 9,  -999.00, 9,  -999.00, 9,  -999.00, 9,  -999.00, 9, -999.000, 9, -999.000, 9, -999.000, 9, -999.000, 9,   -999.0, 9,   -999.0, 9, -999.0000,   -999.00,   -999.0, 9,   -999.0,  -999.00, 9,   -999.0,  28.6345, 22.7695,  28.6438, 2, 9, -999.00, -999.00, -999.00, -999.000,  -999.00, 9, -999.00, -999.00, 9, -999.00
49NZ20071122, P14N, 173, 1, 3, X12013, 9, 20071210, 0201, -10.0058, 178.9975, 4755,    150.5, 2,  25.2055, 2,  36.2555, 2, -999.0000, 9,    145.6, 2,   -999.0, 9,  -999.00, 9,  -999.00, 9,  -999.00, 9,  -999.00, 9, -999.000, 9, -999.000, 9, -999.000, 9, -999.000, 9,   -999.0, 9,   -999.0, 9, -999.0000,   -999.00,   -999.0, 9,   -999.0,  -999.00, 9,   -999.0,  25.1725, 24.2376,  25.1133, 2, 9, -999.00, -999.00, -999.00, -999.000,  -999.00, 9, -999.00, -999.00, 9, -999.00
49NZ20071122, P14N, 173, 1, 2, X12002, 9, 20071210, 0201, -10.0058, 178.9975, 4755,    200.2, 2,  20.8318, 2,  35.8529, 2, -999.0000, 9,    149.2, 2,   -999.0, 9,  -999.00, 9,  -999.00, 9,  -999.00, 9,  -999.00, 9, -999.000, 9, -999.000, 9, -999.000, 9, -999.000, 9,   -999.0, 9,   -999.0, 9, -999.0000,   -999.00,   -999.0, 9,   -999.0,  -999.00, 9,   -999.0,  20.7935, 25.1996,  20.8324, 2, 9, -999.00, -999.00, -999.00, -999.000,  -999.00, 9, -999.00, -999.00, 9, -999.00
49NZ20071122, P14N, 173, 1, 1, X12001, 2, 20071210, 0201, -10.0058, 178.9975, 4755,   4819.1, 2,   1.2910, 2,  34.7060, 2,  34.7060, 6,    193.5, 2,    193.0, 2,   119.55, 2,    33.01, 2,     0.01, 2,     2.31, 2,    0.018, 2,    0.013, 2,    0.000, 2, -999.000, 9,   2275.1, 2,   2380.0, 2,    7.6238,     25.00,   -999.0, 9,   -999.0,  -999.00, 9,   -999.0,   0.8853, 27.8167,   1.2910, 2, 2, 0.38, 0.13, 0.01, 0.016,  -999.00, 9, -999.00, -999.00, 9, -999.00