BOTTLE,20220820CCHSIOAMB
EXPOCODE,SECT_ID,STNNBR,CASTNO,SAMPNO,BTLNBR,BTLNBR_FLAG_W,DATE,TIME,LATITUDE,LONGITUDE,DEPTH,CTDPRS,CTDPRS_FLAG_W,CTDTMP,CTDTMP_FLAG_W,CTDSAL,CTDSAL_FLAG_W,SALNTY,SALNTY_FLAG_W,CTDOXY,CTDOXY_FLAG_W,OXYGEN,OXYGEN_FLAG_W,SILCAT,SILCAT_FLAG_W,NITRAT,NITRAT_FLAG_W,NITRIT,NITRIT_FLAG_W,PHSPHT,PHSPHT_FLAG_W,CFC-11,CFC-11_FLAG_W,CFC-12,CFC-12_FLAG_W,CFC113,CFC113_FLAG_W,CCL4,CCL4_FLAG_W,TCARBN,TCARBN_FLAG_W,ALKALI,ALKALI_FLAG_W,PH_TOT,PH_TMP,DELC14,DELC14_FLAG_W,C14ERR,DELC13,DELC13_FLAG_W,C13ERR,THETA,SIG0,SBE35,SBE35_FLAG_W,PH_TOT_FLAG_W,SILUNC,NRAUNC,NRIUNC,PHPUNC,CS-137,CS-137_FLAG_W,CS137ER,PLUTO,PLUTO_FLAG_W,PLUTOER
,,,,,,,,,,,METERS,DBAR,,ITS-90,,PSS-78,,PSS-78,,UMOL/KG,,UMOL/KG,,UMOL/KG,,UMOL/KG,,UMOL/KG,,UMOL/KG,,PMOL/KG,,PMOL/KG,,PMOL/KG,,PMOL/KG,,UMOL/KG,,UMOL/KG,,,DEG C,/MILLE,,/MILLE,/MILLE,,/MILLE,DEG C,KG/M^3,ITS-90,,,UMOL/KG,UMOL/KG,UMOL/KG,UMOL/KG,DM/.1MG,,BQ/M^3,MBQ/M^3,,MBQ/M^3
49NZ20071122, P14N, 148, 1, 36, X12042, 2, 20071204, 0217, -1.2473, 178.9988, 5444,     10.4, 2,  27.3549, 2,  35.3224, 2,  35.3214, 2,    198.2, 2,    198.8, 2,     1.87, 2,     3.57, 2,     0.40, 2,     0.47, 2,    1.629, 2,    0.980, 2,    0.190, 4, -999.000, 9,   -999.0, 9,   -999.0, 9, -999.0000,   -999.00,   -999.0, 9,   -999.0,  -999.00, 9,   -999.0,  27.3525, 22.8474,  27.3562, 2, 9, 0.12, 0.04, 0.00, 0.013,  -999.00, 9, -999.00, -999.00, 9, -999.00
49NZ20071122, P14N, 148, 1, 35, X12041, 2, 20071204, 0217, -1.2473, 178.9988, 5444,     50.2, 2,  27.0759, 2,  35.3670, 2,  35.3708, 2,    197.8, 2,    198.1, 2,     1.78, 2,     3.52, 2,     0.41, 2,     0.47, 2,    1.611, 2,    0.961, 2,    0.162, 4, -999.000, 9,   -999.0, 9,   -999.0, 9, -999.0000,   -999.00,   -999.0, 9,   -999.0,  -999.00, 9,   -999.0,  27.0644, 22.9736,  27.0752, 2, 9, 0.12, 0.04, 0.00, 0.013,  -999.00, 9, -999.00, -999.00, 9, -999.00
49NZ20071122, P14N, 148, 1, 34, X12016, 2, 20071204, 0217, -1.2473, 178.9988, 5444,    100.2, 2,  27.1197, 2,  35.4845, 2,  35.4691, 2,    192.9, 2,    193.7, 2,     1.78, 2,     3.84, 2,     0.49, 2,     0.52, 2,    1.628, 2,    0.979, 2,    0.154, 4, -999.000, 9,   -999.0, 9,   -999.0, 9, -999.0000,   -999.00,   -999.0, 9,   -999.0,  -999.00, 9,   -999.0,  27.0966, 23.0518,  27.1183, 2, 9, 0.12, 0.04, 0.00, 0.013,  -999.00, 9, -999.00, -999.00, 9, -999.00
49NZ20071122, P14N, 148, 1, 33, X12033, 2, 20071204, 0217, -1.2473, 178.9988, 5444,    151.5, 2,  26.2909, 2,  35.7209, 2,  35.7386, 2,    164.2, 2,    165.2, 2,     1.87, 2,     6.54, 2,     0.34, 2,     0.69, 2,    1.688, 6,    1.003, 6,    0.122, 4, -999.000, 9,   -999.0, 9,   -999.0, 9, -999.0000,   -999.00,   -999.0, 9,   -999.0,  -999.00, 9,   -999.0,  26.2567, 23.4969,  26.2890, 2, 9, 0.12, 0.05, 0.00, 0.013,  -999.00, 9, -999.00, -999.00, 9, -999.00
49NZ20071122, P14N, 148, 1, 32, X12038, 2, 20071204, 0217, -1.2473, 178.9988, 5444,    200.5, 2,  18.8598, 2,  35.5094, 2,  35.5017, 2,    129.5, 2,    125.5, 2,     5.20, 2,    12.86, 2,     0.02, 2,     1.06, 2,    1.861, 2,    1.023, 2,    0.047, 2, -999.000, 9,   -999.0, 9,   -999.0, 9, -999.0000,   -999.00,   -999.0, 9,   -999.0,  -999.00, 9,   -999.0,  18.8241, 25.4555,  18.8529, 2, 9, 0.13, 0.07, 0.01, 0.013,  -999.00, 9, -999.00, -999.00, 9, -999.00
49NZ20071122, P14N, 148, 1, 31, X12003, 2, 20071204, 0217, -1.2473, 178.9988, 5444,    251.4, 2,  16.9924, 2,  35.3002, 2,  35.3139, 6,    131.3, 2,    133.1, 2,     6.80, 2,    13.91, 2,     0.01, 2,     1.09, 2,    1.856, 2,    0.992, 2,    0.035, 2, -999.000, 9,   -999.0, 9,   -999.0, 9, -999.0000,   -999.00,   -999.0, 9,   -999.0,  -999.00, 9,   -999.0,  16.9508, 25.7564,  16.9812, 2, 9, 0.13, 0.08, 0.01, 0.013,  -999.00, 9, -999.00, -999.00, 9, -999.00
49NZ20071122, P14N, 148, 1, 30, X12008, 2, 20071204, 0217, -1.2473, 178.9988, 5444,    301.2, 2,  13.6440, 2,  35.0427, 2,  35.0283, 2,    132.0, 2,    131.1, 2,    12.45, 2,    18.85, 2,     0.01, 2,     1.41, 2,    1.525, 2,    0.798, 2,    0.029, 2, -999.000, 9,   -999.0, 9,   -999.0, 9, -999.0000,   -999.00,   -999.0, 9,   -999.0,  -999.00, 9,   -999.0,  13.6010, 26.3034,  13.6456, 2, 9, 0.15, 0.09, 0.01, 0.014,  -999.00, 9, -999.00, -999.00, 9, -999.00
49NZ20071122, P14N, 148, 1, 29, X12035, 2, 20071204, 0217, -1.2473, 178.9988, 5444,    401.7, 2,  10.4682, 2,  34.7553, 2,  34.7531, 2,     55.8, 2,     57.6, 2,    26.68, 2,    31.47, 2,     0.01, 2,     2.22, 2,    0.623, 2,    0.330, 2,    0.010, 2, -999.000, 9,   -999.0, 9,   -999.0, 9, -999.0000,   -999.00,   -999.0, 9,   -999.0,  -999.00, 9,   -999.0,  10.4199, 26.6882,  10.4621, 2, 9, 0.18, 0.12, 0.01, 0.016,  -999.00, 9, -999.00, -999.00, 9, -999.00
49NZ20071122, P14N, 148, 1, 28, X12034, 2, 20071204, 0217, -1.2473, 178.9988, 5444,    502.0, 2,   8.9853, 2,  34.6679, 2,  34.6657, 6,     46.5, 2,     57.3, 2,    32.66, 2,    34.63, 2,     0.00, 2,     2.42, 2,    0.332, 2,    0.174, 2,    0.009, 2, -999.000, 9,   -999.0, 9,   -999.0, 9, -999.0000,   -999.00,   -999.0, 9,   -999.0,  -999.00, 9,   -999.0,   8.9301, 26.8693,   8.9859, 2, 9, 0.19, 0.13, 0.01, 0.016,  -999.00, 9, -999.00, -999.00, 9, -999.00
49NZ20071122, P14N, 148, 1, 27, X12049, 2, 20071204, 0217, -1.2473, 178.9988, 5444,    597.9, 2,   7.6410, 2,  34.5901, 2,  34.5868, 2,     95.7, 2,     95.8, 2,    36.15, 2,    33.73, 2,     0.00, 2,     2.38, 2,    0.308, 2,    0.160, 2,    0.006, 2, -999.000, 9,   -999.0, 9,   -999.0, 9, -999.0000,   -999.00,   -999.0, 9,   -999.0,  -999.00, 9,   -999.0,   7.5809, 27.0136,   7.6409, 2, 9, 0.20, 0.13, 0.01, 0.016,  -999.00, 9, -999.00, -999.00, 9, -999.00
49NZ20071122, P14N, 148, 1, 26, X12032, 2, 20071204, 0217, -1.2473, 178.9988, 5444,    699.8, 2,   6.6906, 2,  34.5604, 2,  34.5590, 2,     79.6, 2,     81.5, 2,    47.37, 2,    36.81, 2,     0.00, 2,     2.62, 2,    0.133, 6,    0.071, 6,    0.005, 6, -999.000, 9,   -999.0, 9,   -999.0, 9, -999.0000,   -999.00,   -999.0, 9,   -999.0,  -999.00, 9,   -999.0,   6.6248, 27.1236,   6.6912, 2, 9, 0.22, 0.14, 0.01, 0.017,  -999.00, 9, -999.00, -999.00, 9, -999.00
49NZ20071122, P14N, 148, 1, 25, X12043, 2, 20071204, 0217, -1.2473, 178.9988, 5444,    800.9, 2,   5.8835, 2,  34.5371, 2,  34.5367, 2,    101.9, 2,     99.5, 2,    55.33, 2,    36.44, 2,     0.01, 2,     2.59, 2,    0.106, 2,    0.055, 2,    0.000, 2, -999.000, 9,   -999.0, 9,   -999.0, 9, -999.0000,   -999.00,   -999.0, 9,   -999.0,  -999.00, 9,   -999.0,   5.8125, 27.2105,   5.8841, 2, 9, 0.24, 0.13, 0.01, 0.016,  -999.00, 9, -999.00, -999.00, 9, -999.00
49NZ20071122, P14N, 148, 1, 24, X12030, 2, 20071204, 0217, -1.2473, 178.9988, 5444,    901.9, 2,   5.0013, 2,  34.5416, 2,  34.5415, 2,     96.3, 2,     95.7, 2,    69.84, 2,    37.84, 2,     0.01, 2,     2.71, 2,    0.044, 2,    0.025, 2,    0.003, 2, -999.000, 9,   -999.0, 9,   -999.0, 9, -999.0000,   -999.00,   -999.0, 9,   -999.0,  -999.00, 9,   -999.0,   4.9267, 27.3202,   5.0014, 2, 9, 0.27, 0.14, 0.01, 0.017,  -999.00, 9, -999.00, -999.00, 9, -999.00
49NZ20071122, P14N, 148, 1, 23, X12027, 2, 20071204, 0217, -1.2473, 178.9988, 5444,    999.4, 2,   4.6781, 2,  34.5475, 2,  34.5474, 6,     94.6, 2,     94.1, 2,    76.83, 2,    38.49, 2,     0.00, 2,     2.75, 2,    0.023, 2,    0.016, 2,    0.000, 2, -999.000, 9,   -999.0, 9,   -999.0, 9, -999.0000,   -999.00,   -999.0, 9,   -999.0,  -999.00, 9,   -999.0,   4.5972, 27.3621,   4.6782, 2, 9, 0.29, 0.14, 0.01, 0.017,  -999.00, 9, -999.00, -999.00, 9, -999.00
49NZ20071122, P14N, 148, 1, 22, X12028, 2, 20071204, 0217, -1.2473, 178.9988, 5444,   1200.7, 2,   3.8459, 2,  34.5708, 2,  34.5711, 2,     93.2, 2,     93.7, 2,    95.69, 2,    39.11, 2,     0.00, 2,     2.80, 2,    0.011, 2,    0.008, 2,    0.000, 2, -999.000, 9,   -999.0, 9,   -999.0, 9, -999.0000,   -999.00,   -999.0, 9,   -999.0,  -999.00, 9,   -999.0,   3.7545, 27.4699,   3.8461, 2, 9, 0.33, 0.14, 0.01, 0.017,  -999.00, 9, -999.00, -999.00, 9, -999.00
49NZ20071122, P14N, 148, 1, 21, X12009, 2, 20071204, 0217, -1.2473, 178.9988, 5444,   1402.6, 2,   3.3798, 2,  34.5837, 2,  34.5839, 2,    103.0, 2,    103.0, 2,   103.20, 2,    38.71, 2,     0.00, 2,     2.77, 2,    0.009, 2,    0.004, 2,    0.000, 2, -999.000, 9,   -999.0, 9,   -999.0, 9, -999.0000,   -999.00,   -999.0, 9,   -999.0,  -999.00, 9,   -999.0,   3.2759, 27.5270,   3.3802, 2, 9, 0.35, 0.14, 0.01, 0.017,  -999.00, 9, -999.00, -999.00, 9, -999.00
49NZ20071122, P14N, 148, 1, 20, X12026, 2, 20071204, 0217, -1.2473, 178.9988, 5444,   1599.9, 2,   2.8468, 2,  34.6090, 2,  34.6091, 2,    103.6, 2,    103.4, 2,   118.43, 2,    39.01, 2,     0.00, 2,     2.78, 2,    0.009, 2,    0.006, 2,    0.000, 2, -999.000, 9,   -999.0, 9,   -999.0, 9, -999.0000,   -999.00,   -999.0, 9,   -999.0,  -999.00, 9,   -999.0,   2.7323, 27.5971,   2.8468, 2, 9, 0.38, 0.14, 0.01, 0.017,  -999.00, 9, -999.00, -999.00, 9, -999.00
49NZ20071122, P14N, 148, 1, 19, X12025, 2, 20071204, 0217, -1.2473, 178.9988, 5444,   1801.5, 2,   2.5167, 2,  34.6247, 2,  34.6248, 2,    110.3, 2,    108.9, 2,   125.99, 2,    38.74, 2,     0.00, 2,     2.75, 2, -999.000, 9, -999.000, 9, -999.000, 9, -999.000, 9,   -999.0, 9,   -999.0, 9, -999.0000,   -999.00,   -999.0, 9,   -999.0,  -999.00, 9,   -999.0,   2.3895, 27.6392,   2.5167, 2, 9, 0.40, 0.14, 0.01, 0.017,  -999.00, 9, -999.00, -999.00, 9, -999.00
49NZ20071122, P14N, 148, 1, 18, X12024, 2, 20071204, 0217, -1.2473, 178.9988, 5444,   2000.5, 2,   2.3379, 2,  34.6355, 2,  34.6360, 2,    109.8, 2,    110.4, 2,   131.77, 2,    38.72, 2,     0.00, 2,     2.75, 2,    0.006, 2,    0.005, 2,    0.000, 2, -999.000, 9,   -999.0, 9,   -999.0, 9, -999.0000,   -999.00,   -999.0, 9,   -999.0,  -999.00, 9,   -999.0,   2.1963, 27.6638,   2.3380, 2, 9, 0.41, 0.14, 0.01, 0.017,  -999.00, 9, -999.00, -999.00, 9, -999.00
49NZ20071122, P14N, 148, 1, 17, X12023, 2, 20071204, 0217, -1.2473, 178.9988, 5444,   2201.3, 2,   2.1068, 2,  34.6467, 2,  34.6467, 6,    117.8, 2,    117.9, 2,   135.32, 2,    38.26, 2,     0.00, 2,     2.71, 2, -999.000, 9, -999.000, 9, -999.000, 9, -999.000, 9,   -999.0, 9,   -999.0, 9, -999.0000,   -999.00,   -999.0, 9,   -999.0,  -999.00, 9,   -999.0,   1.9514, 27.6924,   2.1067, 2, 9, 0.42, 0.14, 0.01, 0.017,  -999.00, 9, -999.00, -999.00, 9, -999.00
49NZ20071122, P14N, 148, 1, 16, X12022, 2, 20071204, 0217, -1.2473, 178.9988, 5444,   2399.4, 2,   1.9829, 2,  34.6545, 2,  34.6545, 2,    123.4, 2,    123.3, 2,   136.88, 2,    37.95, 2,     0.00, 2,     2.68, 2, -999.000, 9, -999.000, 9, -999.000, 9, -999.000, 9,   -999.0, 9,   -999.0, 9, -999.0000,   -999.00,   -999.0, 9,   -999.0,  -999.00, 9,   -999.0,   1.8120, 27.7095,   1.9829, 2, 9, 0.42, 0.14, 0.01, 0.017,  -999.00, 9, -999.00, -999.00, 9, -999.00
49NZ20071122, P14N, 148, 1, 15, X12021, 2, 20071204, 0217, -1.2473, 178.9988, 5444,   2599.9, 2,   1.8660, 2,  34.6614, 2,  34.6616, 2,    125.4, 2,    125.6, 2,   140.41, 2,    37.85, 2,     0.00, 2,     2.66, 2,    0.004, 2,    0.003, 2,    0.000, 2, -999.000, 9,   -999.0, 9,   -999.0, 9, -999.0000,   -999.00,   -999.0, 9,   -999.0,  -999.00, 9,   -999.0,   1.6791, 27.7252,   1.8660, 2, 9, 0.43, 0.14, 0.01, 0.017,  -999.00, 9, -999.00, -999.00, 9, -999.00
49NZ20071122, P14N, 148, 1, 14, X12020, 2, 20071204, 0217, -1.2473, 178.9988, 5444,   2799.7, 2,   1.7584, 2,  34.6662, 2,  34.6662, 2,    132.0, 2,    132.0, 2,   140.77, 2,    37.39, 2,     0.00, 2,     2.63, 2, -999.000, 9, -999.000, 9, -999.000, 9, -999.000, 9,   -999.0, 9,   -999.0, 9, -999.0000,   -999.00,   -999.0, 9,   -999.0,  -999.00, 9,   -999.0,   1.5551, 27.7383,   1.7585, 2, 9, 0.43, 0.14, 0.01, 0.017,  -999.00, 9, -999.00, -999.00, 9, -999.00
49NZ20071122, P14N, 148, 1, 13, X12019, 2, 20071204, 0217, -1.2473, 178.9988, 5444,   3000.1, 2,   1.6687, 2,  34.6715, 2,  34.6714, 2,    136.5, 2,    137.0, 2,   141.33, 2,    37.05, 2,     0.01, 2,     2.60, 2, -999.000, 9, -999.000, 9, -999.000, 9, -999.000, 9,   -999.0, 9,   -999.0, 9, -999.0000,   -999.00,   -999.0, 9,   -999.0,  -999.00, 9,   -999.0,   1.4482, 27.7503,   1.6687, 2, 9, 0.43, 0.14, 0.01, 0.016,  -999.00, 9, -999.00, -999.00, 9, -999.00
49NZ20071122, P14N, 148, 1, 12, X12040, 2, 20071204, 0217, -1.2473, 178.9988, 5444,   3251.8, 2,   1.6042, 2,  34.6758, 2,  34.6758, 2,    142.1, 2,    142.4, 2,   140.87, 2,    36.61, 2,     0.00, 2,     2.57, 2,    0.000, 2,    0.000, 2,    0.000, 2, -999.000, 9,   -999.0, 9,   -999.0, 9, -999.0000,   -999.00,   -999.0, 9,   -999.0,  -999.00, 9,   -999.0,   1.3605, 27.7600,   1.6041, 2, 9, 0.43, 0.14, 0.01, 0.016,  -999.00, 9, -999.00, -999.00, 9, -999.00
49NZ20071122, P14N, 148, 1, 11, X12047, 2, 20071204, 0217, -1.2473, 178.9988, 5444,   3500.0, 2,   1.5335, 2,  34.6818, 2,  34.6812, 2,    149.4, 2,    150.4, 2,   139.03, 2,    36.10, 2,     0.00, 2,     2.52, 2, -999.000, 9, -999.000, 9, -999.000, 9, -999.000, 9,   -999.0, 9,   -999.0, 9, -999.0000,   -999.00,   -999.0, 9,   -999.0,  -999.00, 9,   -999.0,   1.2665, 27.7715,   1.5335, 2, 9, 0.42, 0.13, 0.01, 0.016,  -999.00, 9, -999.00, -999.00, 9, -999.00
49NZ20071122, P14N, 148, 1, 10, X12012, 2, 20071204, 0217, -1.2473, 178.9988, 5444,   3750.1, 2,   1.4741, 2,  34.6881, 2,  34.6878, 2,    157.9, 2,    158.7, 2,   136.81, 2,    35.61, 2,     0.00, 2,     2.48, 2,    0.000, 2,    0.000, 2,    0.000, 2, -999.000, 9,   -999.0, 9,   -999.0, 9, -999.0000,   -999.00,   -999.0, 9,   -999.0,  -999.00, 9,   -999.0,   1.1827, 27.7823,   1.4740, 2, 9, 0.42, 0.13, 0.01, 0.016,  -999.00, 9, -999.00, -999.00, 9, -999.00
49NZ20071122, P14N, 148, 1, 9, X12015, 2, 20071204, 0217, -1.2473, 178.9988, 5444,   4001.4, 2,   1.4360, 2,  34.6918, 2,  34.6915, 6,    162.7, 2,    163.3, 2,   136.22, 2,    35.32, 2,     0.00, 2,     2.45, 2,    0.008, 2,    0.013, 2,    0.000, 2, -999.000, 9,   -999.0, 9,   -999.0, 9, -999.0000,   -999.00,   -999.0, 9,   -999.0,  -999.00, 9,   -999.0,   1.1187, 27.7897,   1.4359, 2, 9, 0.42, 0.13, 0.01, 0.016,  -999.00, 9, -999.00, -999.00, 9, -999.00
49NZ20071122, P14N, 148, 1, 8, X12046, 2, 20071204, 0217, -1.2473, 178.9988, 5444,   4252.1, 2,   1.3420, 2,  34.6978, 2,  34.6976, 2,    174.7, 2,    175.4, 2,   130.83, 2,    34.43, 2,     0.00, 2,     2.38, 2,    0.010, 2,    0.006, 2,    0.000, 2, -999.000, 9,   -999.0, 9,   -999.0, 9, -999.0000,   -999.00,   -999.0, 9,   -999.0,  -999.00, 9,   -999.0,   0.9998, 27.8026,   1.3419, 2, 9, 0.41, 0.13, 0.01, 0.016,  -999.00, 9, -999.00, -999.00, 9, -999.00
49NZ20071122, P14N, 148, 1, 7, X12044, 2, 20071204, 0217, -1.2473, 178.9988, 5444,   4499.2, 2,   1.2759, 2,  34.7020, 2,  34.7020, 2,    183.9, 2,    185.1, 2,   125.68, 2,    33.65, 2,     0.00, 2,     2.34, 2,    0.014, 2,    0.010, 2,    0.000, 2, -999.000, 9,   -999.0, 9,   -999.0, 9, -999.0000,   -999.00,   -999.0, 9,   -999.0,  -999.00, 9,   -999.0,   0.9079, 27.8119,   1.2759, 2, 9, 0.40, 0.13, 0.01, 0.016,  -999.00, 9, -999.00, -999.00, 9, -999.00
49NZ20071122, P14N, 148, 1, 6, X12048, 2, 20071204, 0217, -1.2473, 178.9988, 5444,   4751.2, 2,   1.2484, 2,  34.7044, 2,  34.7039, 2,    190.6, 2,    190.5, 2,   123.09, 2,    33.26, 2,     0.00, 2,     2.31, 2,    0.010, 2,    0.009, 2,    0.000, 2, -999.000, 9,   -999.0, 9,   -999.0, 9, -999.0000,   -999.00,   -999.0, 9,   -999.0,  -999.00, 9,   -999.0,   0.8521, 27.8175,   1.2483, 2, 9, 0.39, 0.13, 0.01, 0.016,  -999.00, 9, -999.00, -999.00, 9, -999.00
49NZ20071122, P14N, 148, 1, 5, X12014, 2, 20071204, 0217, -1.2473, 178.9988, 5444,   4999.8, 2,   1.2548, 2,  34.7054, 2,  34.7053, 2,    192.9, 2,    193.0, 2,   121.91, 2,    33.07, 2,     0.00, 2,     2.30, 2,    0.010, 2,    0.006, 2,    0.000, 2, -999.000, 9,   -999.0, 9,   -999.0, 9, -999.0000,   -999.00,   -999.0, 9,   -999.0,  -999.00, 9,   -999.0,   0.8288, 27.8198,   1.2547, 2, 9, 0.39, 0.13, 0.01, 0.016,  -999.00, 9, -999.00, -999.00, 9, -999.00
49NZ20071122, P14N, 148, 1, 4, X12006, 2, 20071204, 0217, -1.2473, 178.9988, 5444,   5249.3, 2,   1.2759, 2,  34.7058, 2,  34.7056, 2,    194.2, 2,    194.2, 2,   121.29, 2,    32.90, 2,     0.00, 2,     2.30, 2,    0.012, 2,    0.007, 2,    0.000, 2, -999.000, 9,   -999.0, 9,   -999.0, 9, -999.0000,   -999.00,   -999.0, 9,   -999.0,  -999.00, 9,   -999.0,   0.8187, 27.8208,   1.2759, 2, 9, 0.39, 0.12, 0.01, 0.016,  -999.00, 9, -999.00, -999.00, 9, -999.00
49NZ20071122, P14N, 148, 1, 3, X12013, 9, 20071204, 0217, -1.2473, 178.9988, 5444,     10.0, 2,  27.2128, 2,  35.3224, 2, -999.0000, 9,    199.2, 2,   -999.0, 9,  -999.00, 9,  -999.00, 9,  -999.00, 9,  -999.00, 9, -999.000, 9, -999.000, 9, -999.000, 9, -999.000, 9,   -999.0, 9,   -999.0, 9, -999.0000,   -999.00,   -999.0, 9,   -999.0,  -999.00, 9,   -999.0,  27.2105, 22.8931,  27.2041, 2, 9, -999.00, -999.00, -999.00, -999.000,  -999.00, 9, -999.00, -999.00, 9, -999.00
49NZ20071122, P14N, 148, 1, 2, X12002, 9, 20071204, 0217, -1.2473, 178.9988, 5444,     50.2, 2,  27.0760, 2,  35.3670, 2, -999.0000, 9,    197.8, 2,   -999.0, 9,  -999.00, 9,  -999.00, 9,  -999.00, 9,  -999.00, 9, -999.000, 9, -999.000, 9, -999.000, 9, -999.000, 9,   -999.0, 9,   -999.0, 9, -999.0000,   -999.00,   -999.0, 9,   -999.0,  -999.00, 9,   -999.0,  27.0645, 22.9736,  27.0748, 2, 9, -999.00, -999.00, -999.00, -999.000,  -999.00, 9, -999.00, -999.00, 9, -999.00
49NZ20071122, P14N, 148, 1, 1, X12001, 2, 20071204, 0217, -1.2473, 178.9988, 5444,   5528.9, 2,   1.3077, 2,  34.7060, 2,  34.7058, 6,    194.9, 2,    194.8, 2,   120.89, 2,    32.94, 2,     0.00, 2,     2.29, 2,    0.015, 2,    0.010, 2,    0.000, 2, -999.000, 9,   -999.0, 9,   -999.0, 9, -999.0000,   -999.00,   -999.0, 9,   -999.0,  -999.00, 9,   -999.0,   0.8144, 27.8212,   1.3077, 2, 9, 0.38, 0.13, 0.01, 0.016,  -999.00, 9, -999.00, -999.00, 9, -999.00