BOTTLE,20220820CCHSIOAMB
EXPOCODE,SECT_ID,STNNBR,CASTNO,SAMPNO,BTLNBR,BTLNBR_FLAG_W,DATE,TIME,LATITUDE,LONGITUDE,DEPTH,CTDPRS,CTDPRS_FLAG_W,CTDTMP,CTDTMP_FLAG_W,CTDSAL,CTDSAL_FLAG_W,SALNTY,SALNTY_FLAG_W,CTDOXY,CTDOXY_FLAG_W,OXYGEN,OXYGEN_FLAG_W,SILCAT,SILCAT_FLAG_W,NITRAT,NITRAT_FLAG_W,NITRIT,NITRIT_FLAG_W,PHSPHT,PHSPHT_FLAG_W,CFC-11,CFC-11_FLAG_W,CFC-12,CFC-12_FLAG_W,CFC113,CFC113_FLAG_W,CCL4,CCL4_FLAG_W,TCARBN,TCARBN_FLAG_W,ALKALI,ALKALI_FLAG_W,PH_TOT,PH_TMP,DELC14,DELC14_FLAG_W,C14ERR,DELC13,DELC13_FLAG_W,C13ERR,THETA,SIG0,SBE35,SBE35_FLAG_W,PH_TOT_FLAG_W,SILUNC,NRAUNC,NRIUNC,PHPUNC,CS-137,CS-137_FLAG_W,CS137ER,PLUTO,PLUTO_FLAG_W,PLUTOER
,,,,,,,,,,,METERS,DBAR,,ITS-90,,PSS-78,,PSS-78,,UMOL/KG,,UMOL/KG,,UMOL/KG,,UMOL/KG,,UMOL/KG,,UMOL/KG,,PMOL/KG,,PMOL/KG,,PMOL/KG,,PMOL/KG,,UMOL/KG,,UMOL/KG,,,DEG C,/MILLE,,/MILLE,/MILLE,,/MILLE,DEG C,KG/M^3,ITS-90,,,UMOL/KG,UMOL/KG,UMOL/KG,UMOL/KG,DM/.1MG,,BQ/M^3,MBQ/M^3,,MBQ/M^3
49NZ20071122, P14N, 118, 1, 36, X12042, 2, 20071125, 2349, 6.2393, 178.9980, 5793,      9.9, 2,  28.2979, 2,  34.8295, 2,  34.8299, 2,    197.5, 2,    198.0, 2,     1.05, 2,     0.25, 2,     0.04, 2,     0.23, 2,    1.472, 2,    0.921, 2,    0.183, 4, -999.000, 9,   -999.0, 9,   -999.0, 9, -999.0000,   -999.00,   -999.0, 9,   -999.0,  -999.00, 9,   -999.0,  28.2956, 22.1695,  28.2948, 2, 9, 0.12, 0.03, 0.01, 0.015,  -999.00, 9, -999.00, -999.00, 9, -999.00
49NZ20071122, P14N, 118, 1, 35, X12041, 2, 20071125, 2349, 6.2393, 178.9980, 5793,     49.6, 2,  28.2326, 2,  34.8518, 2,  34.8512, 2,    195.0, 2,    197.8, 2,     1.04, 2,     0.23, 2,     0.04, 2,     0.23, 2,    1.460, 2,    0.915, 2,    0.188, 4, -999.000, 9,   -999.0, 9,   -999.0, 9, -999.0000,   -999.00,   -999.0, 9,   -999.0,  -999.00, 9,   -999.0,  28.2208, 22.2109,  28.2318, 2, 9, 0.12, 0.03, 0.01, 0.015,  -999.00, 9, -999.00, -999.00, 9, -999.00
49NZ20071122, P14N, 118, 1, 34, X12016, 2, 20071125, 2349, 6.2393, 178.9980, 5793,    100.7, 2,  28.2244, 2,  34.9241, 2,  34.9251, 2,    196.2, 2,    195.7, 2,     1.10, 2,     0.35, 2,     0.08, 2,     0.26, 2,    1.474, 2,    0.933, 2,    0.186, 4, -999.000, 9,   -999.0, 9,   -999.0, 9, -999.0000,   -999.00,   -999.0, 9,   -999.0,  -999.00, 9,   -999.0,  28.2005, 22.2719,  28.2221, 2, 9, 0.12, 0.03, 0.01, 0.015,  -999.00, 9, -999.00, -999.00, 9, -999.00
49NZ20071122, P14N, 118, 1, 33, X12033, 2, 20071125, 2349, 6.2393, 178.9980, 5793,    149.9, 2,  27.4943, 2,  35.2021, 2,  35.2139, 2,    174.6, 2,    179.7, 2,     1.82, 2,     2.82, 2,     1.12, 2,     0.48, 2,    1.543, 6,    0.955, 6,    0.153, 4, -999.000, 9,   -999.0, 9,   -999.0, 9, -999.0000,   -999.00,   -999.0, 9,   -999.0,  -999.00, 9,   -999.0,  27.4594, 22.7224,  27.4581, 2, 9, 0.12, 0.04, 0.00, 0.013,  -999.00, 9, -999.00, -999.00, 9, -999.00
49NZ20071122, P14N, 118, 1, 32, X12038, 2, 20071125, 2349, 6.2393, 178.9980, 5793,    200.2, 2,  18.1580, 2,  34.6872, 2,  34.6806, 2,    153.4, 2,    154.3, 2,     6.20, 2,     8.34, 2,     0.05, 2,     0.75, 2,    2.258, 2,    1.286, 2,    0.093, 2, -999.000, 9,   -999.0, 9,   -999.0, 9, -999.0000,   -999.00,   -999.0, 9,   -999.0,  -999.00, 9,   -999.0,  18.1235, 25.0020,  18.1580, 2, 9, 0.13, 0.06, 0.01, 0.013,  -999.00, 9, -999.00, -999.00, 9, -999.00
49NZ20071122, P14N, 118, 1, 31, X12003, 2, 20071125, 2349, 6.2393, 178.9980, 5793,    249.9, 2,  12.3785, 2,  34.5728, 2,  34.5715, 6,     48.2, 2,     59.2, 2,    23.47, 2,    26.80, 2,     0.01, 2,     2.02, 2,    1.271, 2,    0.677, 2,    0.029, 2, -999.000, 9,   -999.0, 9,   -999.0, 9, -999.0000,   -999.00,   -999.0, 9,   -999.0,  -999.00, 9,   -999.0,  12.3453, 26.1909,  12.3769, 2, 9, 0.17, 0.11, 0.01, 0.015,  -999.00, 9, -999.00, -999.00, 9, -999.00
49NZ20071122, P14N, 118, 1, 30, X12008, 2, 20071125, 2349, 6.2393, 178.9980, 5793,    299.7, 2,  10.4764, 2,  34.6648, 2,  34.6468, 2,     27.0, 2,     29.2, 2,    34.26, 2,    34.53, 2,     0.01, 2,     2.46, 2,    0.483, 2,    0.249, 2,    0.018, 2, -999.000, 9,   -999.0, 9,   -999.0, 9, -999.0000,   -999.00,   -999.0, 9,   -999.0,  -999.00, 9,   -999.0,  10.4405, 26.6140,  10.4779, 2, 9, 0.19, 0.13, 0.01, 0.016,  -999.00, 9, -999.00, -999.00, 9, -999.00
49NZ20071122, P14N, 118, 1, 29, X12035, 2, 20071125, 2349, 6.2393, 178.9980, 5793,    399.9, 2,   9.2454, 2,  34.6475, 2,  34.6471, 2,     44.4, 2,     44.2, 2,    34.20, 2,    34.58, 2,     0.00, 2,     2.46, 2,    0.292, 2,    0.156, 2,    0.011, 2, -999.000, 9,   -999.0, 9,   -999.0, 9, -999.0000,   -999.00,   -999.0, 9,   -999.0,  -999.00, 9,   -999.0,   9.2009, 26.8097,   9.2490, 2, 9, 0.19, 0.13, 0.01, 0.016,  -999.00, 9, -999.00, -999.00, 9, -999.00
49NZ20071122, P14N, 118, 1, 28, X12034, 2, 20071125, 2349, 6.2393, 178.9980, 5793,    499.8, 2,   8.4535, 2,  34.6134, 2,  34.6123, 6,     31.2, 2,     32.8, 2,    40.68, 2,    36.90, 2,     0.00, 2,     2.67, 2,    0.128, 2,    0.071, 2,    0.010, 2, -999.000, 9,   -999.0, 9,   -999.0, 9, -999.0000,   -999.00,   -999.0, 9,   -999.0,  -999.00, 9,   -999.0,   8.4005, 26.9095,   8.4535, 2, 9, 0.21, 0.14, 0.01, 0.017,  -999.00, 9, -999.00, -999.00, 9, -999.00
49NZ20071122, P14N, 118, 1, 27, X12049, 2, 20071125, 2349, 6.2393, 178.9980, 5793,    600.7, 2,   7.5123, 2,  34.5734, 2,  34.5727, 2,     28.8, 2,     32.5, 2,    49.52, 2,    38.61, 2,     0.00, 2,     2.84, 2,    0.062, 2,    0.034, 2,    0.006, 2, -999.000, 9,   -999.0, 9,   -999.0, 9, -999.0000,   -999.00,   -999.0, 9,   -999.0,  -999.00, 9,   -999.0,   7.4525, 27.0190,   7.5119, 2, 9, 0.23, 0.14, 0.01, 0.017,  -999.00, 9, -999.00, -999.00, 9, -999.00
49NZ20071122, P14N, 118, 1, 26, X12032, 2, 20071125, 2349, 6.2393, 178.9980, 5793,    700.1, 2,   6.4980, 2,  34.5536, 2,  34.5532, 2,     28.8, 2,     28.7, 2,    60.63, 2,    41.37, 2,     0.00, 2,     3.01, 2,    0.022, 6,    0.012, 6,    0.005, 6, -999.000, 9,   -999.0, 9,   -999.0, 9, -999.0000,   -999.00,   -999.0, 9,   -999.0,  -999.00, 9,   -999.0,   6.4332, 27.1438,   6.5046, 2, 9, 0.25, 0.15, 0.01, 0.017,  -999.00, 9, -999.00, -999.00, 9, -999.00
49NZ20071122, P14N, 118, 1, 25, X12043, 2, 20071125, 2349, 6.2393, 178.9980, 5793,    800.9, 2,   5.7312, 2,  34.5457, 2,  34.5456, 2,     45.5, 2,     45.5, 2,    69.08, 2,    41.37, 2,     0.00, 2,     2.98, 2,    0.016, 2,    0.009, 2,    0.000, 2, -999.000, 9,   -999.0, 9,   -999.0, 9, -999.0000,   -999.00,   -999.0, 9,   -999.0,  -999.00, 9,   -999.0,   5.6611, 27.2361,   5.7325, 2, 9, 0.27, 0.15, 0.01, 0.017,  -999.00, 9, -999.00, -999.00, 9, -999.00
49NZ20071122, P14N, 118, 1, 24, X12030, 2, 20071125, 2349, 6.2393, 178.9980, 5793,    899.5, 2,   5.2570, 2,  34.5468, 2,  34.5467, 2,     54.4, 2,     54.3, 2,    76.14, 2,    41.30, 2,     0.00, 2,     2.97, 2,    0.016, 2,    0.007, 2,    0.000, 2, -999.000, 9,   -999.0, 9,   -999.0, 9, -999.0000,   -999.00,   -999.0, 9,   -999.0,  -999.00, 9,   -999.0,   5.1809, 27.2948,   5.2593, 2, 9, 0.29, 0.15, 0.01, 0.017,  -999.00, 9, -999.00, -999.00, 9, -999.00
49NZ20071122, P14N, 118, 1, 23, X12027, 2, 20071125, 2349, 6.2393, 178.9980, 5793,    999.6, 2,   4.8123, 2,  34.5548, 2,  34.5547, 6,     54.1, 2,     53.9, 2,    84.33, 2,    41.88, 2,     0.00, 2,     3.01, 2,    0.000, 2,    0.000, 2,    0.000, 2, -999.000, 9,   -999.0, 9,   -999.0, 9, -999.0000,   -999.00,   -999.0, 9,   -999.0,  -999.00, 9,   -999.0,   4.7304, 27.3530,   4.8141, 2, 9, 0.30, 0.15, 0.01, 0.017,  -999.00, 9, -999.00, -999.00, 9, -999.00
49NZ20071122, P14N, 118, 1, 22, X12028, 2, 20071125, 2349, 6.2393, 178.9980, 5793,   1200.5, 2,   3.9541, 2,  34.5724, 2,  34.5727, 2,     68.9, 2,     67.9, 2,   101.63, 2,    41.22, 2,     0.00, 2,     2.97, 2, -999.000, 9, -999.000, 9, -999.000, 9, -999.000, 9,   -999.0, 9,   -999.0, 9, -999.0000,   -999.00,   -999.0, 9,   -999.0,  -999.00, 9,   -999.0,   3.8618, 27.4603,   3.9543, 2, 9, 0.34, 0.15, 0.01, 0.017,  -999.00, 9, -999.00, -999.00, 9, -999.00
49NZ20071122, P14N, 118, 1, 21, X12009, 2, 20071125, 2349, 6.2393, 178.9980, 5793,   1399.8, 2,   3.3229, 2,  34.5916, 2,  34.5922, 2,     79.6, 2,     79.3, 2,   115.21, 2,    40.69, 2,     0.00, 2,     2.93, 2,    0.000, 2,    0.000, 2,    0.000, 2, -999.000, 9,   -999.0, 9,   -999.0, 9, -999.0000,   -999.00,   -999.0, 9,   -999.0,  -999.00, 9,   -999.0,   3.2198, 27.5386,   3.3230, 2, 9, 0.37, 0.15, 0.01, 0.017,  -999.00, 9, -999.00, -999.00, 9, -999.00
49NZ20071122, P14N, 118, 1, 20, X12026, 2, 20071125, 2349, 6.2393, 178.9980, 5793,   1598.4, 2,   2.9049, 2,  34.6068, 2,  34.6075, 2,     88.7, 2,     88.9, 2,   123.20, 2,    40.15, 2,     0.00, 2,     2.88, 2, -999.000, 9, -999.000, 9, -999.000, 9, -999.000, 9,   -999.0, 9,   -999.0, 9, -999.0000,   -999.00,   -999.0, 9,   -999.0,  -999.00, 9,   -999.0,   2.7899, 27.5902,   2.9051, 2, 9, 0.39, 0.15, 0.01, 0.017,  -999.00, 9, -999.00, -999.00, 9, -999.00
49NZ20071122, P14N, 118, 1, 19, X12025, 2, 20071125, 2349, 6.2393, 178.9980, 5793,   1801.5, 2,   2.5391, 2,  34.6219, 2,  34.6226, 2,     95.1, 2,     94.9, 2,   132.09, 2,    39.83, 2,     0.00, 2,     2.84, 2, -999.000, 9, -999.000, 9, -999.000, 9, -999.000, 9,   -999.0, 9,   -999.0, 9, -999.0000,   -999.00,   -999.0, 9,   -999.0,  -999.00, 9,   -999.0,   2.4116, 27.6351,   2.5391, 2, 9, 0.41, 0.14, 0.01, 0.017,  -999.00, 9, -999.00, -999.00, 9, -999.00
49NZ20071122, P14N, 118, 1, 18, X12024, 2, 20071125, 2349, 6.2393, 178.9980, 5793,   1999.5, 2,   2.2683, 2,  34.6365, 2,  34.6371, 2,    105.1, 2,    104.0, 2,   137.28, 2,    39.22, 2,     0.00, 2,     2.79, 2,    0.000, 2,    0.000, 2,    0.000, 2, -999.000, 9,   -999.0, 9,   -999.0, 9, -999.0000,   -999.00,   -999.0, 9,   -999.0,  -999.00, 9,   -999.0,   2.1278, 27.6702,   2.2683, 2, 9, 0.42, 0.14, 0.01, 0.017,  -999.00, 9, -999.00, -999.00, 9, -999.00
49NZ20071122, P14N, 118, 1, 17, X12023, 2, 20071125, 2349, 6.2393, 178.9980, 5793,   2201.2, 2,   2.0569, 2,  34.6496, 2,  34.6499, 6,    110.0, 2,    109.4, 2,   142.27, 2,    38.98, 2,     0.00, 2,     2.76, 2, -999.000, 9, -999.000, 9, -999.000, 9, -999.000, 9,   -999.0, 9,   -999.0, 9, -999.0000,   -999.00,   -999.0, 9,   -999.0,  -999.00, 9,   -999.0,   1.9023, 27.6987,   2.0568, 2, 9, 0.43, 0.14, 0.01, 0.017,  -999.00, 9, -999.00, -999.00, 9, -999.00
49NZ20071122, P14N, 118, 1, 16, X12022, 2, 20071125, 2349, 6.2393, 178.9980, 5793,   2399.9, 2,   1.9225, 2,  34.6581, 2,  34.6581, 2,    115.5, 2,    114.9, 2,   144.72, 2,    38.67, 2,     0.00, 2,     2.73, 2, -999.000, 9, -999.000, 9, -999.000, 9, -999.000, 9,   -999.0, 9,   -999.0, 9, -999.0000,   -999.00,   -999.0, 9,   -999.0,  -999.00, 9,   -999.0,   1.7526, 27.7169,   1.9227, 2, 9, 0.44, 0.14, 0.01, 0.017,  -999.00, 9, -999.00, -999.00, 9, -999.00
49NZ20071122, P14N, 118, 1, 15, X12021, 2, 20071125, 2349, 6.2393, 178.9980, 5793,   2600.7, 2,   1.8309, 2,  34.6627, 2,  34.6627, 2,    120.6, 2,    120.1, 2,   145.55, 2,    38.22, 2,     0.00, 2,     2.69, 2,    0.000, 2,    0.000, 2,    0.000, 2, -999.000, 9,   -999.0, 9,   -999.0, 9, -999.0000,   -999.00,   -999.0, 9,   -999.0,  -999.00, 9,   -999.0,   1.6446, 27.7288,   1.8309, 2, 9, 0.44, 0.14, 0.01, 0.017,  -999.00, 9, -999.00, -999.00, 9, -999.00
49NZ20071122, P14N, 118, 1, 14, X12020, 2, 20071125, 2349, 6.2393, 178.9980, 5793,   2801.7, 2,   1.7493, 2,  34.6674, 2,  34.6675, 2,    126.5, 2,    126.2, 2,   145.74, 2,    37.86, 2,     0.00, 2,     2.66, 2, -999.000, 9, -999.000, 9, -999.000, 9, -999.000, 9,   -999.0, 9,   -999.0, 9, -999.0000,   -999.00,   -999.0, 9,   -999.0,  -999.00, 9,   -999.0,   1.5460, 27.7399,   1.7493, 2, 9, 0.44, 0.14, 0.01, 0.017,  -999.00, 9, -999.00, -999.00, 9, -999.00
49NZ20071122, P14N, 118, 1, 13, X12019, 2, 20071125, 2349, 6.2393, 178.9980, 5793,   3001.6, 2,   1.6914, 2,  34.6709, 2,  34.6709, 2,    132.4, 2,    130.9, 2,   145.28, 2,    37.65, 2,     0.00, 2,     2.64, 2, -999.000, 9, -999.000, 9, -999.000, 9, -999.000, 9,   -999.0, 9,   -999.0, 9, -999.0000,   -999.00,   -999.0, 9,   -999.0,  -999.00, 9,   -999.0,   1.4703, 27.7482,   1.6914, 2, 9, 0.44, 0.14, 0.01, 0.017,  -999.00, 9, -999.00, -999.00, 9, -999.00
49NZ20071122, P14N, 118, 1, 12, X12040, 2, 20071125, 2349, 6.2393, 178.9980, 5793,   3250.4, 2,   1.6289, 2,  34.6753, 2,  34.6752, 2,    137.4, 2,    137.0, 2,   144.65, 2,    37.04, 2,     0.00, 2,     2.60, 2,    0.000, 2,    0.000, 2,    0.000, 2, -999.000, 9,   -999.0, 9,   -999.0, 9, -999.0000,   -999.00,   -999.0, 9,   -999.0,  -999.00, 9,   -999.0,   1.3848, 27.7579,   1.6289, 2, 9, 0.44, 0.14, 0.01, 0.016,  -999.00, 9, -999.00, -999.00, 9, -999.00
49NZ20071122, P14N, 118, 1, 11, X12047, 2, 20071125, 2349, 6.2393, 178.9980, 5793,   3500.6, 2,   1.5542, 2,  34.6805, 2,  34.6801, 2,    145.4, 2,    144.7, 2,   143.02, 2,    36.60, 2,     0.00, 2,     2.57, 2, -999.000, 9, -999.000, 9, -999.000, 9, -999.000, 9,   -999.0, 9,   -999.0, 9, -999.0000,   -999.00,   -999.0, 9,   -999.0,  -999.00, 9,   -999.0,   1.2866, 27.7690,   1.5543, 2, 9, 0.43, 0.14, 0.01, 0.016,  -999.00, 9, -999.00, -999.00, 9, -999.00
49NZ20071122, P14N, 118, 1, 10, X12012, 2, 20071125, 2349, 6.2393, 178.9980, 5793,   3751.9, 2,   1.4897, 2,  34.6856, 2,  34.6856, 2,    152.9, 2,    152.3, 2,   141.07, 2,    36.17, 2,     0.00, 2,     2.52, 2, -999.000, 9, -999.000, 9, -999.000, 9, -999.000, 9,   -999.0, 9,   -999.0, 9, -999.0000,   -999.00,   -999.0, 9,   -999.0,  -999.00, 9,   -999.0,   1.1977, 27.7793,   1.4896, 2, 9, 0.43, 0.13, 0.01, 0.016,  -999.00, 9, -999.00, -999.00, 9, -999.00
49NZ20071122, P14N, 118, 1, 9, X12015, 2, 20071125, 2349, 6.2393, 178.9980, 5793,   3999.5, 2,   1.3979, 2,  34.6919, 2,  34.6918, 6,    164.0, 2,    163.3, 2,   137.30, 2,    35.33, 2,     0.00, 2,     2.46, 2,    0.007, 2,    0.004, 2,    0.000, 2, -999.000, 9,   -999.0, 9,   -999.0, 9, -999.0000,   -999.00,   -999.0, 9,   -999.0,  -999.00, 9,   -999.0,   1.0819, 27.7923,   1.3977, 2, 9, 0.42, 0.13, 0.01, 0.016,  -999.00, 9, -999.00, -999.00, 9, -999.00
49NZ20071122, P14N, 118, 1, 8, X12046, 2, 20071125, 2349, 6.2393, 178.9980, 5793,   4251.3, 2,   1.3343, 2,  34.6968, 2,  34.6969, 2,    172.9, 2,    172.7, 2,   133.20, 2,    34.66, 2,     0.00, 2,     2.41, 2, -999.000, 9, -999.000, 9, -999.000, 9, -999.000, 9,   -999.0, 9,   -999.0, 9, -999.0000,   -999.00,   -999.0, 9,   -999.0,  -999.00, 9,   -999.0,   0.9925, 27.8022,   1.3343, 2, 9, 0.41, 0.13, 0.01, 0.016,  -999.00, 9, -999.00, -999.00, 9, -999.00
49NZ20071122, P14N, 118, 1, 7, X12044, 2, 20071125, 2349, 6.2393, 178.9980, 5793,   4501.2, 2,   1.2915, 2,  34.7006, 2,  34.7008, 2,    180.8, 2,    181.0, 2,   128.54, 2,    34.05, 2,     0.00, 2,     2.37, 2, -999.000, 9, -999.000, 9, -999.000, 9, -999.000, 9,   -999.0, 9,   -999.0, 9, -999.0000,   -999.00,   -999.0, 9,   -999.0,  -999.00, 9,   -999.0,   0.9228, 27.8099,   1.2914, 2, 9, 0.40, 0.13, 0.01, 0.016,  -999.00, 9, -999.00, -999.00, 9, -999.00
49NZ20071122, P14N, 118, 1, 6, X12048, 2, 20071125, 2349, 6.2393, 178.9980, 5793,   4750.7, 2,   1.2823, 2,  34.7029, 2,  34.7025, 2,    185.8, 2,    185.8, 2,   125.81, 2,    33.65, 2,     0.00, 2,     2.34, 2,    0.000, 2,    0.000, 2,    0.000, 2, -999.000, 9,   -999.0, 9,   -999.0, 9, -999.0000,   -999.00,   -999.0, 9,   -999.0,  -999.00, 9,   -999.0,   0.8850, 27.8142,   1.2823, 2, 9, 0.40, 0.13, 0.01, 0.016,  -999.00, 9, -999.00, -999.00, 9, -999.00
49NZ20071122, P14N, 118, 1, 5, X12014, 2, 20071125, 2349, 6.2393, 178.9980, 5793,   5001.5, 2,   1.2912, 2,  34.7039, 2,  34.7039, 2,    188.0, 2,    188.2, 2,   124.74, 2,    33.46, 2,     0.00, 2,     2.33, 2,    0.005, 2,    0.005, 2,    0.000, 2, -999.000, 9,   -999.0, 9,   -999.0, 9, -999.0000,   -999.00,   -999.0, 9,   -999.0,  -999.00, 9,   -999.0,   0.8637, 27.8164,   1.2911, 2, 9, 0.39, 0.13, 0.01, 0.016,  -999.00, 9, -999.00, -999.00, 9, -999.00
49NZ20071122, P14N, 118, 1, 4, X12006, 2, 20071125, 2349, 6.2393, 178.9980, 5793,   5249.0, 2,   1.3098, 2,  34.7045, 2,  34.7043, 2,    189.4, 2,    189.6, 2,   124.03, 2,    33.38, 2,     0.00, 2,     2.32, 2,    0.012, 2,    0.007, 2,    0.000, 2, -999.000, 9,   -999.0, 9,   -999.0, 9, -999.0000,   -999.00,   -999.0, 9,   -999.0,  -999.00, 9,   -999.0,   0.8515, 27.8176,   1.3098, 2, 9, 0.39, 0.13, 0.01, 0.016,  -999.00, 9, -999.00, -999.00, 9, -999.00
49NZ20071122, P14N, 118, 1, 3, X12013, 2, 20071125, 2349, 6.2393, 178.9980, 5793,   5500.7, 2,   1.3322, 2,  34.7049, 2,  34.7050, 2,    191.0, 2,    191.0, 2,   122.94, 2,    33.33, 2,     0.00, 2,     2.32, 2,    0.011, 2,    0.008, 2,    0.000, 2, -999.000, 9,   -999.0, 9,   -999.0, 9, -999.0000,   -999.00,   -999.0, 9,   -999.0,  -999.00, 9,   -999.0,   0.8415, 27.8186,   1.3322, 2, 9, 0.39, 0.13, 0.01, 0.016,  -999.00, 9, -999.00, -999.00, 9, -999.00
49NZ20071122, P14N, 118, 1, 2, X12002, 2, 20071125, 2349, 6.2393, 178.9980, 5793,   5748.5, 2,   1.3590, 2,  34.7052, 2,  34.7052, 2,    192.0, 2,    191.7, 2,   122.60, 2,    33.27, 2,     0.00, 2,     2.31, 2, -999.000, 9, -999.000, 9, -999.000, 9, -999.000, 9,   -999.0, 9,   -999.0, 9, -999.0000,   -999.00,   -999.0, 9,   -999.0,  -999.00, 9,   -999.0,   0.8355, 27.8192,   1.3590, 2, 9, 0.39, 0.13, 0.01, 0.016,  -999.00, 9, -999.00, -999.00, 9, -999.00
49NZ20071122, P14N, 118, 1, 1, X12001, 2, 20071125, 2349, 6.2393, 178.9980, 5793,   5871.0, 2,   1.3756, 2,  34.7052, 2,  34.7051, 6,    191.7, 2,    191.8, 2,   122.69, 2,    33.18, 2,     0.00, 2,     2.31, 2,    0.006, 2,    0.004, 2,    0.000, 2, -999.000, 9,   -999.0, 9,   -999.0, 9, -999.0000,   -999.00,   -999.0, 9,   -999.0,  -999.00, 9,   -999.0,   0.8355, 27.8192,   1.3756, 2, 9, 0.39, 0.13, 0.01, 0.016,  -999.00, 9, -999.00, -999.00, 9, -999.00