BOTTLE,20220820CCHSIOAMB
EXPOCODE,SECT_ID,STNNBR,CASTNO,SAMPNO,BTLNBR,BTLNBR_FLAG_W,DATE,TIME,LATITUDE,LONGITUDE,DEPTH,CTDPRS,CTDPRS_FLAG_W,CTDTMP,CTDTMP_FLAG_W,CTDSAL,CTDSAL_FLAG_W,SALNTY,SALNTY_FLAG_W,CTDOXY,CTDOXY_FLAG_W,OXYGEN,OXYGEN_FLAG_W,SILCAT,SILCAT_FLAG_W,NITRAT,NITRAT_FLAG_W,NITRIT,NITRIT_FLAG_W,PHSPHT,PHSPHT_FLAG_W,CFC-11,CFC-11_FLAG_W,CFC-12,CFC-12_FLAG_W,CFC113,CFC113_FLAG_W,CCL4,CCL4_FLAG_W,TCARBN,TCARBN_FLAG_W,ALKALI,ALKALI_FLAG_W,PH_TOT,PH_TMP,DELC14,DELC14_FLAG_W,C14ERR,DELC13,DELC13_FLAG_W,C13ERR,THETA,SIG0,SBE35,SBE35_FLAG_W,PH_TOT_FLAG_W,SILUNC,NRAUNC,NRIUNC,PHPUNC,CS-137,CS-137_FLAG_W,CS137ER,PLUTO,PLUTO_FLAG_W,PLUTOER
,,,,,,,,,,,METERS,DBAR,,ITS-90,,PSS-78,,PSS-78,,UMOL/KG,,UMOL/KG,,UMOL/KG,,UMOL/KG,,UMOL/KG,,UMOL/KG,,PMOL/KG,,PMOL/KG,,PMOL/KG,,PMOL/KG,,UMOL/KG,,UMOL/KG,,,DEG C,/MILLE,,/MILLE,/MILLE,,/MILLE,DEG C,KG/M^3,ITS-90,,,UMOL/KG,UMOL/KG,UMOL/KG,UMOL/KG,DM/.1MG,,BQ/M^3,MBQ/M^3,,MBQ/M^3
49NZ20071122, P14N, 181, 1, 36, X12042, 2, 20071211, 1722, -13.9978, 179.0020, 1476,     10.0, 2,  28.9429, 2,  34.5750, 2,  34.5757, 2,    197.2, 2,    195.9, 2,     0.63, 2,     0.04, 2,     0.01, 2,     0.16, 2,    1.466, 2,    0.901, 2,    0.259, 4, -999.000, 9,   1924.7, 2,   2274.6, 2,    8.1455,     25.00,   -999.0, 9,   -999.0,  -999.00, 9,   -999.0,  28.9405, 21.7649,  28.9428, 2, 6, 0.12, 0.03, 0.01, 0.017,  -999.00, 9, -999.00, -999.00, 9, -999.00
49NZ20071122, P14N, 181, 1, 35, X12041, 2, 20071211, 1722, -13.9978, 179.0020, 1476,     49.8, 2,  29.0479, 2,  34.8437, 2,  34.8066, 2,    198.0, 2,    197.0, 2,     0.64, 2,     0.02, 2,     0.01, 2,     0.17, 2,    1.472, 2,    0.915, 2,    0.349, 4, -999.000, 9,   1934.4, 6,   2289.9, 2,    8.1445,     25.00,   -999.0, 9,   -999.0,  -999.00, 9,   -999.0,  29.0358, 21.9347,  29.0504, 2, 2, 0.12, 0.03, 0.01, 0.017,  -999.00, 9, -999.00, -999.00, 9, -999.00
49NZ20071122, P14N, 181, 1, 34, X12016, 2, 20071211, 1722, -13.9978, 179.0020, 1476,    100.6, 2,  27.3713, 2,  36.0307, 2,  36.0332, 2,    178.3, 2,    178.4, 2,     0.70, 2,     0.05, 2,     0.03, 2,     0.30, 2,    1.653, 2,    1.021, 2,    0.520, 4, -999.000, 9,   2039.8, 2,   2372.1, 6,    8.0831,     25.00,   -999.0, 9,   -999.0,  -999.00, 9,   -999.0,  27.3479, 23.3823,  27.3705, 2, 2, 0.12, 0.03, 0.01, 0.014,  -999.00, 9, -999.00, -999.00, 9, -999.00
49NZ20071122, P14N, 181, 1, 33, X12033, 2, 20071211, 1722, -13.9978, 179.0020, 1476,    150.8, 2,  25.2089, 2,  36.2340, 2,  36.2333, 2,    156.6, 2,    155.6, 2,     0.89, 2,     2.88, 2,     0.08, 2,     0.50, 2,    1.807, 6,    1.075, 6,    0.195, 4, -999.000, 9,   2090.2, 2,   2384.3, 2,    8.0185,     25.00,   -999.0, 9,   -999.0,  -999.00, 9,   -999.0,  25.1758, 24.2203,  25.2085, 2, 2, 0.12, 0.04, 0.01, 0.013,  -999.00, 9, -999.00, -999.00, 9, -999.00
49NZ20071122, P14N, 181, 1, 32, X12038, 2, 20071211, 1722, -13.9978, 179.0020, 1476,    198.8, 2,  22.3662, 2,  35.9932, 2,  35.9839, 2,    152.2, 2,    151.2, 2,     0.99, 2,     5.14, 2,     0.02, 2,     0.60, 2,    2.015, 2,    1.153, 2,    0.064, 2, -999.000, 9,   2105.8, 2,   2366.5, 2,    7.9679,     25.00,   -999.0, 9,   -999.0,  -999.00, 9,   -999.0,  22.3262, 24.8805,  22.3671, 2, 2, 0.12, 0.05, 0.01, 0.013,  -999.00, 9, -999.00, -999.00, 9, -999.00
49NZ20071122, P14N, 181, 1, 31, X12003, 2, 20071211, 1722, -13.9978, 179.0020, 1476,    249.7, 2,  19.6231, 2,  35.6922, 2,  35.6831, 6,    146.8, 2,    146.6, 2,     2.26, 2,     8.08, 2,     0.02, 2,     0.81, 2,    2.111, 2,    1.168, 2,    0.031, 2, -999.000, 9,   2121.6, 2,   2349.7, 2,    7.9079,     25.00,   -999.0, 9,   -999.0,  -999.00, 9,   -999.0,  19.5773, 25.4010,  19.6234, 2, 2, 0.12, 0.06, 0.01, 0.013,  -999.00, 9, -999.00, -999.00, 9, -999.00
49NZ20071122, P14N, 181, 1, 30, X12008, 2, 20071211, 1722, -13.9978, 179.0020, 1476,    301.0, 2,  15.8124, 2,  35.2341, 2,  35.2193, 2,    163.5, 2,    163.7, 2,     3.56, 2,    10.21, 2,     0.01, 2,     0.89, 2,    2.134, 2,    1.133, 2,    0.025, 2, -999.000, 9,   2117.5, 3,   2318.3, 2,    7.8644,     25.00,   -999.0, 9,   -999.0,  -999.00, 9,   -999.0,  15.7649, 25.9814,  15.8134, 2, 2, 0.13, 0.06, 0.01, 0.013,  -999.00, 9, -999.00, -999.00, 9, -999.00
49NZ20071122, P14N, 181, 1, 29, X12035, 2, 20071211, 1722, -13.9978, 179.0020, 1476,    400.1, 2,  10.5419, 2,  34.7018, 2,  34.6984, 2,    173.6, 2,    173.8, 2,     8.34, 2,    18.71, 2,     0.01, 2,     1.42, 2,    1.738, 2,    0.870, 2,    0.025, 2, -999.000, 9,   2147.0, 2,   2295.1, 2,    7.7524,     25.00,   -999.0, 9,   -999.0,  -999.00, 9,   -999.0,  10.4936, 26.6336,  10.5443, 2, 2, 0.14, 0.09, 0.01, 0.014,  -999.00, 9, -999.00, -999.00, 9, -999.00
49NZ20071122, P14N, 181, 1, 28, X12034, 2, 20071211, 1722, -13.9978, 179.0020, 1476,    501.6, 2,   7.7114, 2,  34.5367, 2,  34.5361, 6,    155.0, 2,    154.4, 2,    21.87, 2,    27.48, 2,     0.01, 2,     1.97, 2,    0.675, 2,    0.339, 2,    0.009, 2, -999.000, 9,   2190.1, 2,   2299.2, 2,    7.6551,     25.00,   -999.0, 9,   -999.0,  -999.00, 9,   -999.0,   7.6611, 26.9600,   7.7119, 2, 2, 0.17, 0.11, 0.01, 0.015,  -999.00, 9, -999.00, -999.00, 9, -999.00
49NZ20071122, P14N, 181, 1, 27, X12049, 2, 20071211, 1722, -13.9978, 179.0020, 1476,    602.1, 2,   6.4557, 2,  34.4765, 2,  34.4760, 2,    159.5, 2,    158.6, 2,    29.50, 2,    30.00, 2,     0.01, 2,     2.13, 2,    0.420, 2,    0.213, 2,    0.007, 2, -999.000, 9,   2200.8, 2,   2304.5, 2,    7.6342,     25.00,   -999.0, 9,   -999.0,  -999.00, 9,   -999.0,   6.4006, 27.0872,   6.4519, 2, 2, 0.18, 0.12, 0.01, 0.015,  -999.00, 9, -999.00, -999.00, 9, -999.00
49NZ20071122, P14N, 181, 1, 26, X12032, 2, 20071211, 1722, -13.9978, 179.0020, 1476,    702.2, 2,   5.6678, 2,  34.4537, 2,  34.4537, 2,    160.7, 2,    160.2, 2,    36.48, 2,    31.43, 2,     0.01, 2,     2.21, 2,    0.281, 6,    0.147, 6,    0.006, 6, -999.000, 9,   2211.4, 2,   2310.3, 2,    7.6228,     25.00,   -999.0, 9,   -999.0,  -999.00, 9,   -999.0,   5.6073, 27.1700,   5.6683, 2, 2, 0.20, 0.12, 0.01, 0.016,  -999.00, 9, -999.00, -999.00, 9, -999.00
49NZ20071122, P14N, 181, 1, 25, X12043, 2, 20071211, 1722, -13.9978, 179.0020, 1476,    798.2, 2,   5.0484, 2,  34.4583, 2,  34.4588, 2,    155.4, 2,    155.9, 2,    46.17, 2,    32.75, 2,     0.01, 2,     2.32, 2,    0.155, 2,    0.081, 2,    0.006, 2, -999.000, 9,   2229.7, 2,   2318.8, 6,    7.6060,     25.00,   -999.0, 9,   -999.0,  -999.00, 9,   -999.0,   4.9828, 27.2478,   5.0469, 2, 2, 0.22, 0.12, 0.01, 0.016,  -999.00, 9, -999.00, -999.00, 9, -999.00
49NZ20071122, P14N, 181, 1, 24, X12030, 2, 20071211, 1722, -13.9978, 179.0020, 1476,    900.4, 2,   4.4515, 2,  34.4532, 2,  34.4540, 2,    159.4, 2,    159.1, 2,    52.22, 2,    33.37, 2,     0.01, 2,     2.34, 2,    0.093, 2,    0.051, 2,    0.000, 2, -999.000, 9,   2233.6, 2,   2325.3, 2,    7.6027,     25.00,   -999.0, 9,   -999.0,  -999.00, 9,   -999.0,   4.3810, 27.3109,   4.4517, 2, 6, 0.23, 0.13, 0.01, 0.016,  -999.00, 9, -999.00, -999.00, 9, -999.00
49NZ20071122, P14N, 181, 1, 23, X12027, 2, 20071211, 1722, -13.9978, 179.0020, 1476,   1001.1, 2,   4.1277, 2,  34.4747, 2,  34.4768, 6,    153.7, 2,    154.3, 2,    60.54, 2,    34.00, 2,     0.01, 2,     2.40, 2,    0.058, 2,    0.029, 2,    0.000, 2, -999.000, 9,   2245.3, 2,   2333.4, 2,    7.5943,     25.00,   -999.0, 9,   -999.0,  -999.00, 9,   -999.0,   4.0510, 27.3630,   4.1276, 2, 2, 0.25, 0.13, 0.01, 0.016,  -999.00, 9, -999.00, -999.00, 9, -999.00
49NZ20071122, P14N, 181, 1, 22, X12028, 2, 20071211, 1722, -13.9978, 179.0020, 1476,   1200.3, 2,   3.3013, 2,  34.5374, 2,  34.5384, 6,    147.1, 2,    147.0, 2,    82.47, 2,    35.19, 2,     0.01, 2,     2.49, 2,    0.014, 2,    0.010, 2,    0.000, 2, -999.000, 9,   2273.9, 2,   2358.2, 2,    7.5827,     25.00,   -999.0, 9,   -999.0,  -999.00, 9,   -999.0,   3.2151, 27.4958,   3.3009, 2, 2, 0.30, 0.13, 0.01, 0.016,  -999.00, 9, -999.00, -999.00, 9, -999.00
49NZ20071122, P14N, 181, 1, 21, X12009, 2, 20071211, 1722, -13.9978, 179.0020, 1476,   1400.7, 2,   2.8370, 2,  34.5794, 2,  34.5797, 6,    143.7, 2,    144.1, 2,    96.76, 2,    35.80, 2,     0.01, 2,     2.53, 2,    0.003, 2,    0.002, 2,    0.000, 2, -999.000, 9,   2290.3, 2,   2374.4, 2,    7.5803,     25.00,   -999.0, 9,   -999.0,  -999.00, 9,   -999.0,   2.7391, 27.5729,   2.8359, 2, 2, 0.33, 0.13, 0.01, 0.016,  -999.00, 9, -999.00, -999.00, 9, -999.00
49NZ20071122, P14N, 181, 1, 20, X12026, 9, 20071211, 1722, -13.9978, 179.0020, 1476,      9.8, 2,  28.9642, 2,  34.5776, 2, -999.0000, 9,    196.3, 2,   -999.0, 9,  -999.00, 9,  -999.00, 9,  -999.00, 9,  -999.00, 9, -999.000, 9, -999.000, 9, -999.000, 9, -999.000, 9,   -999.0, 9,   -999.0, 9, -999.0000,   -999.00,   -999.0, 9,   -999.0,  -999.00, 9,   -999.0,  28.9618, 21.7597,  28.9680, 2, 9, -999.00, -999.00, -999.00, -999.000,  -999.00, 9, -999.00, -999.00, 9, -999.00
49NZ20071122, P14N, 181, 1, 19, X12025, 9, 20071211, 1722, -13.9978, 179.0020, 1476,     50.5, 2,  29.0738, 2,  34.8546, 2, -999.0000, 9,    198.1, 2,   -999.0, 9,  -999.00, 9,  -999.00, 9,  -999.00, 9,  -999.00, 9, -999.000, 9, -999.000, 9, -999.000, 9, -999.000, 9,   -999.0, 9,   -999.0, 9, -999.0000,   -999.00,   -999.0, 9,   -999.0,  -999.00, 9,   -999.0,  29.0616, 21.9343,  29.0761, 2, 9, -999.00, -999.00, -999.00, -999.000,  -999.00, 9, -999.00, -999.00, 9, -999.00
49NZ20071122, P14N, 181, 1, 18, X12024, 9, 20071211, 1722, -13.9978, 179.0020, 1476,    100.0, 2,  27.3700, 2,  36.0290, 2, -999.0000, 9,    178.9, 2,   -999.0, 9,  -999.00, 9,  -999.00, 9,  -999.00, 9,  -999.00, 9, -999.000, 9, -999.000, 9, -999.000, 9, -999.000, 9,   -999.0, 9,   -999.0, 9, -999.0000,   -999.00,   -999.0, 9,   -999.0,  -999.00, 9,   -999.0,  27.3468, 23.3814,  27.3685, 2, 9, -999.00, -999.00, -999.00, -999.000,  -999.00, 9, -999.00, -999.00, 9, -999.00
49NZ20071122, P14N, 181, 1, 17, X12023, 9, 20071211, 1722, -13.9978, 179.0020, 1476,    249.2, 2,  19.6138, 2,  35.6905, 2, -999.0000, 9,    146.8, 2,   -999.0, 9,  -999.00, 9,  -999.00, 9,  -999.00, 9,  -999.00, 9, -999.000, 9, -999.000, 9, -999.000, 9, -999.000, 9,   -999.0, 9,   -999.0, 9, -999.0000,   -999.00,   -999.0, 9,   -999.0,  -999.00, 9,   -999.0,  19.5681, 25.4021,  19.6071, 2, 9, -999.00, -999.00, -999.00, -999.000,  -999.00, 9, -999.00, -999.00, 9, -999.00
49NZ20071122, P14N, 181, 1, 16, X12022, 9, 20071211, 1722, -13.9978, 179.0020, 1476,    299.5, 2,  15.8293, 2,  35.2350, 2, -999.0000, 9,    163.5, 2,   -999.0, 9,  -999.00, 9,  -999.00, 9,  -999.00, 9,  -999.00, 9, -999.000, 9, -999.000, 9, -999.000, 9, -999.000, 9,   -999.0, 9,   -999.0, 9, -999.0000,   -999.00,   -999.0, 9,   -999.0,  -999.00, 9,   -999.0,  15.7820, 25.9782,  15.8255, 2, 9, -999.00, -999.00, -999.00, -999.000,  -999.00, 9, -999.00, -999.00, 9, -999.00
49NZ20071122, P14N, 181, 1, 15, X12021, 9, 20071211, 1722, -13.9978, 179.0020, 1476,    400.4, 2,  10.5536, 2,  34.7019, 2, -999.0000, 9,    173.6, 2,   -999.0, 9,  -999.00, 9,  -999.00, 9,  -999.00, 9,  -999.00, 9, -999.000, 9, -999.000, 9, -999.000, 9, -999.000, 9,   -999.0, 9,   -999.0, 9, -999.0000,   -999.00,   -999.0, 9,   -999.0,  -999.00, 9,   -999.0,  10.5052, 26.6317,  10.5547, 2, 9, -999.00, -999.00, -999.00, -999.000,  -999.00, 9, -999.00, -999.00, 9, -999.00
49NZ20071122, P14N, 181, 1, 14, X12020, 2, 20071211, 1722, -13.9978, 179.0020, 1476,     10.0, 2,  28.9572, 2,  34.5759, 2, -999.0000, 9,    196.6, 2,   -999.0, 9,  -999.00, 9,  -999.00, 9,  -999.00, 9,  -999.00, 9, -999.000, 9, -999.000, 9, -999.000, 9, -999.000, 9,   -999.0, 9,   -999.0, 9, -999.0000,   -999.00,   -999.0, 9,   -999.0,  -999.00, 9,   -999.0,  28.9548, 21.7608,  28.9598, 2, 9, -999.00, -999.00, -999.00, -999.000,  -999.00, 9, -999.00, -999.00, 9, -999.00
49NZ20071122, P14N, 181, 1, 13, X12019, 9, 20071211, 1722, -13.9978, 179.0020, 1476,     50.5, 2,  29.0776, 2,  34.8477, 2, -999.0000, 9,    198.1, 2,   -999.0, 9,  -999.00, 9,  -999.00, 9,  -999.00, 9,  -999.00, 9, -999.000, 9, -999.000, 9, -999.000, 9, -999.000, 9,   -999.0, 9,   -999.0, 9, -999.0000,   -999.00,   -999.0, 9,   -999.0,  -999.00, 9,   -999.0,  29.0654, 21.9279,  29.0802, 2, 9, -999.00, -999.00, -999.00, -999.000,  -999.00, 9, -999.00, -999.00, 9, -999.00
49NZ20071122, P14N, 181, 1, 12, X12040, 9, 20071211, 1722, -13.9978, 179.0020, 1476,    100.2, 2,  27.3688, 2,  36.0292, 2, -999.0000, 9,    178.6, 2,   -999.0, 9,  -999.00, 9,  -999.00, 9,  -999.00, 9,  -999.00, 9, -999.000, 9, -999.000, 9, -999.000, 9, -999.000, 9,   -999.0, 9,   -999.0, 9, -999.0000,   -999.00,   -999.0, 9,   -999.0,  -999.00, 9,   -999.0,  27.3455, 23.3820,  27.3678, 2, 9, -999.00, -999.00, -999.00, -999.000,  -999.00, 9, -999.00, -999.00, 9, -999.00
49NZ20071122, P14N, 181, 1, 11, X12047, 9, 20071211, 1722, -13.9978, 179.0020, 1476,    150.3, 2,  25.2062, 2,  36.2325, 2, -999.0000, 9,    156.4, 2,   -999.0, 9,  -999.00, 9,  -999.00, 9,  -999.00, 9,  -999.00, 9, -999.000, 9, -999.000, 9, -999.000, 9, -999.000, 9,   -999.0, 9,   -999.0, 9, -999.0000,   -999.00,   -999.0, 9,   -999.0,  -999.00, 9,   -999.0,  25.1732, 24.2199,  25.2028, 2, 9, -999.00, -999.00, -999.00, -999.000,  -999.00, 9, -999.00, -999.00, 9, -999.00
49NZ20071122, P14N, 181, 1, 10, X12012, 9, 20071211, 1722, -13.9978, 179.0020, 1476,    199.1, 2,  22.3891, 2,  35.9937, 2, -999.0000, 9,    152.0, 2,   -999.0, 9,  -999.00, 9,  -999.00, 9,  -999.00, 9,  -999.00, 9, -999.000, 9, -999.000, 9, -999.000, 9, -999.000, 9,   -999.0, 9,   -999.0, 9, -999.0000,   -999.00,   -999.0, 9,   -999.0,  -999.00, 9,   -999.0,  22.3490, 24.8744,  22.3942, 2, 9, -999.00, -999.00, -999.00, -999.000,  -999.00, 9, -999.00, -999.00, 9, -999.00
49NZ20071122, P14N, 181, 1, 9, X12015, 9, 20071211, 1722, -13.9978, 179.0020, 1476,    502.7, 2,   7.7083, 2,  34.5363, 2, -999.0000, 9,    154.9, 2,   -999.0, 9,  -999.00, 9,  -999.00, 9,  -999.00, 9,  -999.00, 9, -999.000, 9, -999.000, 9, -999.000, 9, -999.000, 9,   -999.0, 9,   -999.0, 9, -999.0000,   -999.00,   -999.0, 9,   -999.0,  -999.00, 9,   -999.0,   7.6579, 26.9601,   7.7094, 2, 9, -999.00, -999.00, -999.00, -999.000,  -999.00, 9, -999.00, -999.00, 9, -999.00
49NZ20071122, P14N, 181, 1, 8, X12046, 9, 20071211, 1722, -13.9978, 179.0020, 1476,    602.2, 2,   6.4643, 2,  34.4771, 2, -999.0000, 9,    159.5, 2,   -999.0, 9,  -999.00, 9,  -999.00, 9,  -999.00, 9,  -999.00, 9, -999.000, 9, -999.000, 9, -999.000, 9, -999.000, 9,   -999.0, 9,   -999.0, 9, -999.0000,   -999.00,   -999.0, 9,   -999.0,  -999.00, 9,   -999.0,   6.4092, 27.0865,   6.4639, 2, 9, -999.00, -999.00, -999.00, -999.000,  -999.00, 9, -999.00, -999.00, 9, -999.00
49NZ20071122, P14N, 181, 1, 7, X12044, 9, 20071211, 1722, -13.9978, 179.0020, 1476,    701.6, 2,   5.6711, 2,  34.4537, 2, -999.0000, 9,    160.6, 2,   -999.0, 9,  -999.00, 9,  -999.00, 9,  -999.00, 9,  -999.00, 9, -999.000, 9, -999.000, 9, -999.000, 9, -999.000, 9,   -999.0, 9,   -999.0, 9, -999.0000,   -999.00,   -999.0, 9,   -999.0,  -999.00, 9,   -999.0,   5.6106, 27.1695,   5.6713, 2, 9, -999.00, -999.00, -999.00, -999.000,  -999.00, 9, -999.00, -999.00, 9, -999.00
49NZ20071122, P14N, 181, 1, 6, X12048, 9, 20071211, 1722, -13.9978, 179.0020, 1476,    799.1, 2,   5.0435, 2,  34.4578, 2, -999.0000, 9,    155.4, 2,   -999.0, 9,  -999.00, 9,  -999.00, 9,  -999.00, 9,  -999.00, 9, -999.000, 9, -999.000, 9, -999.000, 9, -999.000, 9,   -999.0, 9,   -999.0, 9, -999.0000,   -999.00,   -999.0, 9,   -999.0,  -999.00, 9,   -999.0,   4.9779, 27.2480,   5.0430, 2, 9, -999.00, -999.00, -999.00, -999.000,  -999.00, 9, -999.00, -999.00, 9, -999.00
49NZ20071122, P14N, 181, 1, 5, X12014, 9, 20071211, 1722, -13.9978, 179.0020, 1476,    900.2, 2,   4.4513, 2,  34.4531, 2, -999.0000, 9,    159.5, 2,   -999.0, 9,  -999.00, 9,  -999.00, 9,  -999.00, 9,  -999.00, 9, -999.000, 9, -999.000, 9, -999.000, 9, -999.000, 9,   -999.0, 9,   -999.0, 9, -999.0000,   -999.00,   -999.0, 9,   -999.0,  -999.00, 9,   -999.0,   4.3808, 27.3108,   4.4515, 2, 9, -999.00, -999.00, -999.00, -999.000,  -999.00, 9, -999.00, -999.00, 9, -999.00
49NZ20071122, P14N, 181, 1, 4, X12006, 9, 20071211, 1722, -13.9978, 179.0020, 1476,   1000.9, 2,   4.1274, 2,  34.4748, 2, -999.0000, 9,    153.7, 2,   -999.0, 9,  -999.00, 9,  -999.00, 9,  -999.00, 9,  -999.00, 9, -999.000, 9, -999.000, 9, -999.000, 9, -999.000, 9,   -999.0, 9,   -999.0, 9, -999.0000,   -999.00,   -999.0, 9,   -999.0,  -999.00, 9,   -999.0,   4.0507, 27.3631,   4.1275, 2, 9, -999.00, -999.00, -999.00, -999.000,  -999.00, 9, -999.00, -999.00, 9, -999.00
49NZ20071122, P14N, 181, 1, 3, X12013, 9, 20071211, 1722, -13.9978, 179.0020, 1476,   1200.1, 2,   3.3031, 2,  34.5372, 2, -999.0000, 9,    147.1, 2,   -999.0, 9,  -999.00, 9,  -999.00, 9,  -999.00, 9,  -999.00, 9, -999.000, 9, -999.000, 9, -999.000, 9, -999.000, 9,   -999.0, 9,   -999.0, 9, -999.0000,   -999.00,   -999.0, 9,   -999.0,  -999.00, 9,   -999.0,   3.2169, 27.4955,   3.3028, 2, 9, -999.00, -999.00, -999.00, -999.000,  -999.00, 9, -999.00, -999.00, 9, -999.00
49NZ20071122, P14N, 181, 1, 2, X12002, 9, 20071211, 1722, -13.9978, 179.0020, 1476,   1400.3, 2,   2.8525, 2,  34.5779, 2, -999.0000, 9,    143.6, 2,   -999.0, 9,  -999.00, 9,  -999.00, 9,  -999.00, 9,  -999.00, 9, -999.000, 9, -999.000, 9, -999.000, 9, -999.000, 9,   -999.0, 9,   -999.0, 9, -999.0000,   -999.00,   -999.0, 9,   -999.0,  -999.00, 9,   -999.0,   2.7545, 27.5703,   2.8522, 2, 9, -999.00, -999.00, -999.00, -999.000,  -999.00, 9, -999.00, -999.00, 9, -999.00
49NZ20071122, P14N, 181, 1, 1, X12001, 2, 20071211, 1722, -13.9978, 179.0020, 1476,   1470.7, 2,   2.7173, 2,  34.5891, 2,  34.5903, 6,    143.6, 2,    143.5, 2,   100.52, 2,    36.40, 2,     0.01, 2,     2.55, 2,    0.000, 2,    0.003, 2,    0.000, 2, -999.000, 9,   2292.8, 2,   2378.5, 2,    7.5799,     25.00,   -999.0, 9,   -999.0,  -999.00, 9,   -999.0,   2.6151, 27.5914,   2.7164, 2, 2, 0.34, 0.13, 0.01, 0.016,  -999.00, 9, -999.00, -999.00, 9, -999.00