BOTTLE,20220820CCHSIOAMB
EXPOCODE,SECT_ID,STNNBR,CASTNO,SAMPNO,BTLNBR,BTLNBR_FLAG_W,DATE,TIME,LATITUDE,LONGITUDE,DEPTH,CTDPRS,CTDPRS_FLAG_W,CTDTMP,CTDTMP_FLAG_W,CTDSAL,CTDSAL_FLAG_W,SALNTY,SALNTY_FLAG_W,CTDOXY,CTDOXY_FLAG_W,OXYGEN,OXYGEN_FLAG_W,SILCAT,SILCAT_FLAG_W,NITRAT,NITRAT_FLAG_W,NITRIT,NITRIT_FLAG_W,PHSPHT,PHSPHT_FLAG_W,CFC-11,CFC-11_FLAG_W,CFC-12,CFC-12_FLAG_W,CFC113,CFC113_FLAG_W,CCL4,CCL4_FLAG_W,TCARBN,TCARBN_FLAG_W,ALKALI,ALKALI_FLAG_W,PH_TOT,PH_TMP,DELC14,DELC14_FLAG_W,C14ERR,DELC13,DELC13_FLAG_W,C13ERR,THETA,SIG0,SBE35,SBE35_FLAG_W,PH_TOT_FLAG_W,SILUNC,NRAUNC,NRIUNC,PHPUNC,CS-137,CS-137_FLAG_W,CS137ER,PLUTO,PLUTO_FLAG_W,PLUTOER
,,,,,,,,,,,METERS,DBAR,,ITS-90,,PSS-78,,PSS-78,,UMOL/KG,,UMOL/KG,,UMOL/KG,,UMOL/KG,,UMOL/KG,,UMOL/KG,,PMOL/KG,,PMOL/KG,,PMOL/KG,,PMOL/KG,,UMOL/KG,,UMOL/KG,,,DEG C,/MILLE,,/MILLE,/MILLE,,/MILLE,DEG C,KG/M^3,ITS-90,,,UMOL/KG,UMOL/KG,UMOL/KG,UMOL/KG,DM/.1MG,,BQ/M^3,MBQ/M^3,,MBQ/M^3
49NZ20071122, P14N, 171, 1, 36, X12042, 2, 20071209, 1415, -9.0032, 178.9987, 5013,      9.7, 2,  29.1846, 2,  34.8242, 2,  34.8259, 2,    194.8, 2,    194.2, 2,     0.73, 2,     0.03, 2,     0.00, 2,     0.19, 2,    1.458, 2,    0.912, 2,    0.203, 4, -999.000, 9,   1939.3, 2,   2292.9, 2,    8.1413,     25.00,   -999.0, 1,   -999.0,  -999.00, 1,   -999.0,  29.1822, 21.8711,  29.1833, 2, 2, 0.12, 0.03, 0.01, 0.016,  -999.00, 9, -999.00, -999.00, 9, -999.00
49NZ20071122, P14N, 171, 1, 35, X12041, 2, 20071209, 1415, -9.0032, 178.9987, 5013,     49.2, 2,  29.2040, 2,  34.9173, 2,  34.9200, 2,    194.6, 2,    194.2, 2,     0.69, 2,     0.02, 2,     0.00, 2,     0.19, 2,    1.454, 2,    0.913, 2,    0.217, 4, -999.000, 9,   1943.8, 2,   2299.4, 2,    8.1407,     25.00,   -999.0, 1,   -999.0,  -999.00, 1,   -999.0,  29.1920, 21.9377,  29.2026, 2, 2, 0.12, 0.03, 0.01, 0.016,  -999.00, 9, -999.00, -999.00, 9, -999.00
49NZ20071122, P14N, 171, 1, 34, X12016, 2, 20071209, 1415, -9.0032, 178.9987, 5013,     99.2, 2,  28.9937, 2,  35.7266, 2,  35.8104, 2,    188.5, 2,    184.4, 2,     0.84, 2,     0.28, 2,     0.05, 2,     0.30, 2,    1.568, 2,    0.977, 2,    0.715, 4, -999.000, 9,   2015.7, 2,   2359.9, 2,    8.1003,     25.00,   -999.0, 1,   -999.0,  -999.00, 1,   -999.0,  28.9697, 22.6199,  28.9911, 2, 2, 0.12, 0.03, 0.01, 0.014,  -999.00, 9, -999.00, -999.00, 9, -999.00
49NZ20071122, P14N, 171, 1, 33, X12033, 2, 20071209, 1415, -9.0032, 178.9987, 5013,    149.5, 2,  25.0721, 2,  36.2394, 2,  36.2288, 2,    142.9, 2,    145.4, 2,     1.12, 2,     5.11, 2,     0.10, 2,     0.62, 2,    1.825, 2,    1.095, 2,    0.119, 2, -999.000, 9,   2099.9, 2,   2383.3, 2,    7.9947,     25.00,   -999.0, 1,   -999.0,  -999.00, 1,   -999.0,  25.0394, 24.2662,  25.1337, 2, 2, 0.12, 0.05, 0.01, 0.013,  -999.00, 9, -999.00, -999.00, 9, -999.00
49NZ20071122, P14N, 171, 1, 32, X12038, 2, 20071209, 1415, -9.0032, 178.9987, 5013,    200.0, 2,  21.8780, 2,  35.9783, 2,  35.9657, 2,    143.9, 2,    143.9, 2,     1.62, 2,     7.11, 2,     0.01, 2,     0.75, 2,    2.025, 2,    1.177, 2,    0.057, 2, -999.000, 9,   2119.3, 2,   2369.1, 2,    7.9393,     25.00,   -999.0, 1,   -999.0,  -999.00, 1,   -999.0,  21.8384, 25.0068,  21.8776, 2, 2, 0.12, 0.05, 0.01, 0.013,  -999.00, 9, -999.00, -999.00, 9, -999.00
49NZ20071122, P14N, 171, 1, 31, X12003, 2, 20071209, 1415, -9.0032, 178.9987, 5013,    252.0, 2,  16.5123, 2,  35.3147, 2,  35.3191, 6,    120.0, 2,    118.8, 2,     6.00, 2,    14.03, 2,     0.01, 2,     1.25, 2,    1.910, 6,    1.054, 6,    0.028, 6, -999.000, 9,   2154.0, 2,   2332.1, 2,    7.8045,     25.00,   -999.0, 1,   -999.0,  -999.00, 1,   -999.0,  16.4714, 25.8806,  16.5164, 2, 2, 0.13, 0.07, 0.01, 0.013,  -999.00, 9, -999.00, -999.00, 9, -999.00
49NZ20071122, P14N, 171, 1, 30, X12008, 2, 20071209, 1415, -9.0032, 178.9987, 5013,    279.3, 2,  14.5646, 2,  35.1122, 2,  35.1017, 2,    103.5, 2,    103.8, 2,     9.39, 2,    18.43, 2,     0.01, 2,     1.53, 2,    1.497, 2,    0.809, 2,    0.020, 2, -999.000, 9,   2172.7, 6,   2317.9, 2,    7.7376,     25.00,   -999.0, 1,   -999.0,  -999.00, 1,   -999.0,  14.5230, 26.1624,  14.5613, 2, 2, 0.14, 0.08, 0.01, 0.014,  -999.00, 9, -999.00, -999.00, 9, -999.00
49NZ20071122, P14N, 171, 1, 29, X12035, 2, 20071209, 1415, -9.0032, 178.9987, 5013,    370.1, 2,  10.3442, 2,  34.7666, 2,  34.7643, 2,    105.1, 2,    103.5, 2,    19.36, 2,    26.89, 2,     0.00, 2,     1.98, 2,    0.739, 2,    0.391, 2,    0.010, 2, -999.000, 9,   2201.0, 2,   2306.1, 6,    7.6375,     25.00,   -999.0, 1,   -999.0,  -999.00, 1,   -999.0,  10.3001, 26.7180,  10.3482, 2, 2, 0.16, 0.11, 0.01, 0.015,  -999.00, 9, -999.00, -999.00, 9, -999.00
49NZ20071122, P14N, 171, 1, 28, X12034, 2, 20071209, 1415, -9.0032, 178.9987, 5013,    469.8, 2,   8.2091, 2,  34.6116, 2,  34.6088, 6,    130.5, 2,    141.7, 2,    24.17, 2,    27.90, 2,     0.00, 2,     1.99, 2,    0.659, 2,    0.350, 2,    0.011, 2, -999.000, 9,   2196.5, 2,   2305.6, 2,    7.6498,     25.00,   -999.0, 1,   -999.0,  -999.00, 1,   -999.0,   8.1603, 26.9447,   8.2125, 2, 2, 0.17, 0.11, 0.01, 0.015,  -999.00, 9, -999.00, -999.00, 9, -999.00
49NZ20071122, P14N, 171, 1, 27, X12049, 2, 20071209, 1415, -9.0032, 178.9987, 5013,    571.7, 2,   6.9301, 2,  34.5423, 2,  34.5415, 2,    138.1, 2,    138.3, 2,    32.83, 2,    30.99, 2,     0.00, 2,     2.19, 2,    0.372, 2,    0.192, 2,    0.004, 2, -999.000, 9,   2211.9, 2,   2309.3, 2,    7.6169,     25.00,   -999.0, 1,   -999.0,  -999.00, 1,   -999.0,   6.8758, 27.0753,   6.9278, 2, 2, 0.19, 0.12, 0.01, 0.015,  -999.00, 9, -999.00, -999.00, 9, -999.00
49NZ20071122, P14N, 171, 1, 26, X12032, 2, 20071209, 1415, -9.0032, 178.9987, 5013,    671.3, 2,   6.0302, 2,  34.5136, 2,  34.5113, 2,    136.3, 2,    138.1, 2,    41.77, 2,    32.72, 2,     0.00, 2,     2.31, 2,    0.218, 6,    0.114, 6,    0.002, 6, -999.000, 9,   2226.2, 6,   2317.4, 2,    7.6000,     25.00,   -999.0, 1,   -999.0,  -999.00, 1,   -999.0,   5.9706, 27.1720,   6.0317, 2, 2, 0.21, 0.12, 0.01, 0.016,  -999.00, 9, -999.00, -999.00, 9, -999.00
49NZ20071122, P14N, 171, 1, 25, X12043, 2, 20071209, 1415, -9.0032, 178.9987, 5013,    770.8, 2,   5.3907, 2,  34.5044, 2,  34.5044, 2,    132.4, 2,    133.0, 2,    49.70, 2,    34.33, 2,     0.00, 2,     2.43, 2,    0.107, 2,    0.060, 2,    0.000, 2, -999.000, 9,   2241.7, 2,   2324.3, 6,    7.5830,     25.00,   -999.0, 1,   -999.0,  -999.00, 1,   -999.0,   5.3255, 27.2442,   5.3918, 2, 2, 0.23, 0.13, 0.01, 0.016,  -999.00, 9, -999.00, -999.00, 9, -999.00
49NZ20071122, P14N, 171, 1, 24, X12030, 2, 20071209, 1415, -9.0032, 178.9987, 5013,    870.3, 2,   4.9933, 2,  34.5149, 2,  34.5140, 2,    124.4, 2,    126.8, 2,    58.77, 2,    35.51, 2,     0.00, 2,     2.51, 2,    0.055, 2,    0.033, 2,    0.000, 2, -999.000, 9,   2253.6, 2,   2333.3, 2,    7.5678,     25.00,   -999.0, 1,   -999.0,  -999.00, 1,   -999.0,   4.9216, 27.2996,   4.9917, 2, 6, 0.25, 0.13, 0.01, 0.016,  -999.00, 9, -999.00, -999.00, 9, -999.00
49NZ20071122, P14N, 171, 1, 23, X12027, 2, 20071209, 1415, -9.0032, 178.9987, 5013,    971.1, 2,   4.4874, 2,  34.5259, 2,  34.5261, 6,    123.0, 2,    121.0, 2,    68.30, 2,    36.61, 2,     0.00, 2,     2.59, 2,    0.021, 2,    0.012, 2,    0.000, 2, -999.000, 9,   2268.8, 2,   2343.6, 2,    7.5537,     25.00,   -999.0, 1,   -999.0,  -999.00, 1,   -999.0,   4.4105, 27.3654,   4.4883, 2, 2, 0.27, 0.14, 0.01, 0.016,  -999.00, 9, -999.00, -999.00, 9, -999.00
49NZ20071122, P14N, 171, 1, 22, X12028, 2, 20071209, 1415, -9.0032, 178.9987, 5013,   1132.6, 2,   3.9102, 2,  34.5431, 2,  34.5438, 2,    121.8, 2,    122.0, 2,    79.75, 2,    36.90, 2,     0.00, 2,     2.63, 2,    0.005, 2,    0.004, 2,    0.000, 2, -999.000, 9,   2283.0, 2,   2356.0, 2,    7.5518,     25.00,   -999.0, 1,   -999.0,  -999.00, 1,   -999.0,   3.8241, 27.4407,   3.9111, 2, 2, 0.29, 0.14, 0.01, 0.017,  -999.00, 9, -999.00, -999.00, 9, -999.00
49NZ20071122, P14N, 171, 1, 21, X12009, 2, 20071209, 1415, -9.0032, 178.9987, 5013,   1330.9, 2,   3.3043, 2,  34.5713, 2,  34.5722, 2,    125.5, 2,    125.3, 2,    94.03, 2,    37.23, 2,     0.00, 2,     2.64, 2,    0.004, 2,    0.002, 2,    0.000, 2, -999.000, 9,   2295.1, 2,   2371.2, 2,    7.5555,     25.00,   -999.0, 1,   -999.0,  -999.00, 1,   -999.0,   3.2072, 27.5236,   3.3045, 2, 2, 0.33, 0.14, 0.01, 0.017,  -999.00, 9, -999.00, -999.00, 9, -999.00
49NZ20071122, P14N, 171, 1, 20, X12026, 2, 20071209, 1415, -9.0032, 178.9987, 5013,   1530.4, 2,   2.8324, 2,  34.5961, 2,  34.5967, 2,    128.7, 2,    128.3, 2,   104.65, 2,    37.23, 2,     0.00, 2,     2.64, 2,    0.000, 2,    0.000, 2,    0.000, 2, -999.000, 9,   2305.6, 2,   2383.4, 2,    7.5583,     25.00,   -999.0, 1,   -999.0,  -999.00, 1,   -999.0,   2.7239, 27.5875,   2.8326, 2, 6, 0.35, 0.14, 0.01, 0.017,  -999.00, 9, -999.00, -999.00, 9, -999.00
49NZ20071122, P14N, 171, 1, 19, X12025, 2, 20071209, 1415, -9.0032, 178.9987, 5013,   1731.7, 2,   2.5064, 2,  34.6165, 2,  34.6163, 2,    131.2, 2,    130.9, 2,   112.90, 2,    37.09, 2,     0.00, 2,     2.64, 2,    0.000, 2,    0.000, 2,    0.000, 2, -999.000, 9,   2313.3, 2,   2393.1, 2,    7.5629,     25.00,   -999.0, 1,   -999.0,  -999.00, 1,   -999.0,   2.3852, 27.6330,   2.5068, 2, 2, 0.37, 0.14, 0.01, 0.017,  -999.00, 9, -999.00, -999.00, 9, -999.00
49NZ20071122, P14N, 171, 1, 18, X12024, 2, 20071209, 1415, -9.0032, 178.9987, 5013,   1929.7, 2,   2.2954, 2,  34.6308, 2,  34.6314, 2,    133.5, 2,    133.1, 2,   118.93, 2,    37.13, 2,     0.00, 2,     2.62, 2,    0.000, 2,    0.001, 2,    0.000, 2, -999.000, 9,   2318.0, 2,   2398.8, 2,    7.5683,     25.00,   -999.0, 1,   -999.0,  -999.00, 1,   -999.0,   2.1605, 27.6630,   2.2953, 2, 2, 0.38, 0.14, 0.01, 0.017,  -999.00, 9, -999.00, -999.00, 9, -999.00
49NZ20071122, P14N, 171, 1, 17, X12023, 2, 20071209, 1415, -9.0032, 178.9987, 5013,   2129.8, 2,   2.1198, 2,  34.6428, 2,  34.6429, 6,    137.2, 2,    136.7, 2,   123.13, 2,    36.88, 2,     0.00, 2,     2.61, 2,    0.000, 2,    0.000, 2,    0.000, 2, -999.000, 9,   2320.7, 2,   2403.7, 2,    7.5728,     25.00,   -999.0, 1,   -999.0,  -999.00, 1,   -999.0,   1.9704, 27.6878,   2.1200, 2, 2, 0.39, 0.14, 0.01, 0.016,  -999.00, 9, -999.00, -999.00, 9, -999.00
49NZ20071122, P14N, 171, 1, 16, X12022, 2, 20071209, 1415, -9.0032, 178.9987, 5013,   2331.8, 2,   1.9547, 2,  34.6543, 2,  34.6545, 2,    138.6, 2,    139.4, 2,   127.59, 2,    36.88, 2,     0.00, 2,     2.60, 2, -999.000, 9, -999.000, 9, -999.000, 9, -999.000, 9,   2323.9, 6,   2408.6, 2,    7.5782,     25.00,   -999.0, 1,   -999.0,  -999.00, 1,   -999.0,   1.7903, 27.7111,   1.9547, 2, 2, 0.40, 0.14, 0.01, 0.016,  -999.00, 9, -999.00, -999.00, 9, -999.00
49NZ20071122, P14N, 171, 1, 15, X12021, 2, 20071209, 1415, -9.0032, 178.9987, 5013,   2530.2, 2,   1.8529, 2,  34.6620, 2,  34.6621, 2,    140.2, 2,    139.9, 2,   131.34, 2,    36.83, 2,     0.00, 2,     2.59, 2,    0.000, 2,    0.000, 2,    0.000, 2, -999.000, 9,   2325.8, 2,   2412.7, 6,    7.5782,     25.00,   -999.0, 1,   -999.0,  -999.00, 1,   -999.0,   1.6726, 27.7262,   1.8529, 2, 2, 0.41, 0.14, 0.01, 0.016,  -999.00, 9, -999.00, -999.00, 9, -999.00
49NZ20071122, P14N, 171, 1, 14, X12020, 2, 20071209, 1415, -9.0032, 178.9987, 5013,   2731.3, 2,   1.7771, 2,  34.6673, 2,  34.6675, 2,    141.2, 2,    141.4, 2,   133.87, 2,    36.70, 2,     0.00, 2,     2.58, 2, -999.000, 9, -999.000, 9, -999.000, 9, -999.000, 9,   2328.3, 2,   2414.0, 2,    7.5811,     25.00,   -999.0, 1,   -999.0,  -999.00, 1,   -999.0,   1.5798, 27.7374,   1.7771, 2, 6, 0.41, 0.14, 0.01, 0.016,  -999.00, 9, -999.00, -999.00, 9, -999.00
49NZ20071122, P14N, 171, 1, 13, X12019, 2, 20071209, 1415, -9.0032, 178.9987, 5013,   2929.7, 2,   1.7199, 2,  34.6712, 2,  34.6714, 2,    143.3, 2,    143.4, 2,   134.86, 2,    36.60, 2,     0.00, 2,     2.58, 2, -999.000, 9, -999.000, 9, -999.000, 9, -999.000, 9,   2327.6, 2,   2415.6, 2,    7.5841,     25.00,   -999.0, 1,   -999.0,  -999.00, 1,   -999.0,   1.5050, 27.7459,   1.7199, 2, 2, 0.42, 0.14, 0.01, 0.016,  -999.00, 9, -999.00, -999.00, 9, -999.00
49NZ20071122, P14N, 171, 1, 12, X12040, 2, 20071209, 1415, -9.0032, 178.9987, 5013,   3170.3, 2,   1.6444, 2,  34.6765, 2,  34.6766, 2,    147.7, 2,    147.8, 2,   135.18, 2,    36.32, 2,     0.00, 2,     2.54, 2,    0.000, 2,    0.000, 2,    0.004, 2, -999.000, 9,   2326.4, 2,   2416.4, 2,    7.5901,     25.00,   -999.0, 1,   -999.0,  -999.00, 1,   -999.0,   1.4079, 27.7572,   1.6445, 2, 2, 0.42, 0.13, 0.01, 0.016,  -999.00, 9, -999.00, -999.00, 9, -999.00
49NZ20071122, P14N, 171, 1, 11, X12047, 2, 20071209, 1415, -9.0032, 178.9987, 5013,   3421.8, 2,   1.5816, 2,  34.6800, 2,  34.6801, 2,    150.1, 2,    150.9, 2,   136.31, 2,    36.09, 2,     0.00, 2,     2.53, 2, -999.000, 9, -999.000, 9, -999.000, 9, -999.000, 9,   2325.5, 2,   2414.7, 2,    7.5913,     25.00,   -999.0, 1,   -999.0,  -999.00, 1,   -999.0,   1.3214, 27.7662,   1.5817, 2, 2, 0.42, 0.13, 0.01, 0.016,  -999.00, 9, -999.00, -999.00, 9, -999.00
49NZ20071122, P14N, 171, 1, 10, X12012, 2, 20071209, 1415, -9.0032, 178.9987, 5013,   3670.8, 2,   1.4957, 2,  34.6874, 2,  34.6874, 2,    160.5, 2,    162.1, 2,   131.18, 2,    35.24, 2,     0.00, 2,     2.47, 2,    0.003, 2,    0.002, 2,    0.000, 2, -999.000, 9,   2314.3, 2,   2407.5, 2,    7.6009,     25.00,   -999.0, 1,   -999.0,  -999.00, 1,   -999.0,   1.2120, 27.7798,   1.4958, 2, 2, 0.41, 0.13, 0.01, 0.016,  -999.00, 9, -999.00, -999.00, 9, -999.00
49NZ20071122, P14N, 171, 1, 9, X12015, 2, 20071209, 1415, -9.0032, 178.9987, 5013,   3918.8, 2,   1.3988, 2,  34.6949, 2,  34.6951, 6,    172.9, 2,    174.1, 2,   126.61, 2,    34.40, 2,     0.00, 2,     2.41, 2,    0.008, 2,    0.006, 2,    0.000, 2, -999.000, 9,   2299.0, 2,   2396.7, 2,    7.6092,     25.00,   -999.0, 1,   -999.0,  -999.00, 1,   -999.0,   1.0914, 27.7941,   1.3989, 2, 2, 0.40, 0.13, 0.01, 0.016,  -999.00, 9, -999.00, -999.00, 9, -999.00
49NZ20071122, P14N, 171, 1, 8, X12046, 2, 20071209, 1415, -9.0032, 178.9987, 5013,   4170.9, 2,   1.3085, 2,  34.7020, 2,  34.7024, 2,    184.5, 2,    185.4, 2,   122.07, 2,    33.53, 2,     0.00, 2,     2.34, 2,    0.016, 2,    0.008, 2,    0.000, 2, -999.000, 9,   2288.5, 6,   2385.6, 2,    7.6167,     25.00,   -999.0, 1,   -999.0,  -999.00, 1,   -999.0,   0.9763, 27.8075,   1.3086, 2, 2, 0.39, 0.13, 0.01, 0.016,  -999.00, 9, -999.00, -999.00, 9, -999.00
49NZ20071122, P14N, 171, 1, 7, X12044, 2, 20071209, 1415, -9.0032, 178.9987, 5013,   4422.2, 2,   1.2734, 2,  34.7053, 2,  34.7057, 2,    191.0, 2,    191.3, 2,   119.37, 2,    33.17, 2,     0.00, 2,     2.32, 2,    0.021, 2,    0.011, 2,    0.000, 2, -999.000, 9,   2281.4, 2,   2380.6, 6,    7.6191,     25.00,   -999.0, 1,   -999.0,  -999.00, 1,   -999.0,   0.9142, 27.8142,   1.2735, 2, 2, 0.38, 0.13, 0.01, 0.016,  -999.00, 9, -999.00, -999.00, 9, -999.00
49NZ20071122, P14N, 171, 1, 6, X12048, 2, 20071209, 1415, -9.0032, 178.9987, 5013,   4669.8, 2,   1.2717, 2,  34.7063, 2,  34.7067, 2,    193.4, 2,    193.4, 2,   118.92, 2,    32.88, 2,     0.00, 2,     2.30, 2,    0.019, 2,    0.009, 2,    0.000, 2, -999.000, 9,   2278.2, 2,   2379.0, 2,    7.6208,     25.00,   -999.0, 1,   -999.0,  -999.00, 1,   -999.0,   0.8841, 27.8169,   1.2718, 2, 6, 0.38, 0.12, 0.01, 0.016,  -999.00, 9, -999.00, -999.00, 9, -999.00
49NZ20071122, P14N, 171, 1, 5, X12014, 2, 20071209, 1415, -9.0032, 178.9987, 5013,   4918.8, 2,   1.2802, 2,  34.7066, 2,  34.7074, 2,    194.5, 2,    194.4, 2,   118.76, 2,    32.91, 2,     0.00, 2,     2.30, 2,    0.020, 2,    0.011, 2,    0.000, 2, -999.000, 9,   2281.3, 2,   2379.2, 2,    7.6219,     25.00,   -999.0, 1,   -999.0,  -999.00, 1,   -999.0,   0.8630, 27.8186,   1.2801, 2, 2, 0.38, 0.12, 0.01, 0.016,  -999.00, 9, -999.00, -999.00, 9, -999.00
49NZ20071122, P14N, 171, 1, 4, X12006, 2, 20071209, 1415, -9.0032, 178.9987, 5013,   4917.6, 2,   1.2805, 2,  34.7065, 2, -999.0000, 9,    194.4, 2,   -999.0, 9,  -999.00, 9,  -999.00, 9,  -999.00, 9,  -999.00, 9, -999.000, 9, -999.000, 9, -999.000, 9, -999.000, 9,   -999.0, 9,   -999.0, 9, -999.0000,   -999.00,   -999.0, 9,   -999.0,  -999.00, 9,   -999.0,   0.8634, 27.8185,   1.2805, 2, 9, -999.00, -999.00, -999.00, -999.000,  -999.00, 9, -999.00, -999.00, 9, -999.00
49NZ20071122, P14N, 171, 1, 3, X12013, 2, 20071209, 1415, -9.0032, 178.9987, 5013,   4918.8, 2,   1.2799, 2,  34.7066, 2, -999.0000, 9,    194.5, 2,   -999.0, 9,  -999.00, 9,  -999.00, 9,  -999.00, 9,  -999.00, 9, -999.000, 9, -999.000, 9, -999.000, 9, -999.000, 9,   -999.0, 9,   -999.0, 9, -999.0000,   -999.00,   -999.0, 9,   -999.0,  -999.00, 9,   -999.0,   0.8627, 27.8186,   1.2800, 2, 9, -999.00, -999.00, -999.00, -999.000,  -999.00, 9, -999.00, -999.00, 9, -999.00
49NZ20071122, P14N, 171, 1, 2, X12002, 2, 20071209, 1415, -9.0032, 178.9987, 5013,   4918.2, 2,   1.2803, 2,  34.7066, 2, -999.0000, 9,    194.5, 2,   -999.0, 9,  -999.00, 9,  -999.00, 9,  -999.00, 9,  -999.00, 9, -999.000, 9, -999.000, 9, -999.000, 9, -999.000, 9,   -999.0, 9,   -999.0, 9, -999.0000,   -999.00,   -999.0, 9,   -999.0,  -999.00, 9,   -999.0,   0.8632, 27.8186,   1.2804, 2, 9, -999.00, -999.00, -999.00, -999.000,  -999.00, 9, -999.00, -999.00, 9, -999.00
49NZ20071122, P14N, 171, 1, 1, X12001, 2, 20071209, 1415, -9.0032, 178.9987, 5013,   5084.2, 2,   1.2931, 2,  34.7066, 2,  34.7070, 6,    194.8, 2,    194.6, 2,   119.16, 2,    32.97, 2,     0.00, 2,     2.30, 2,    0.019, 2,    0.007, 2,    0.000, 2, -999.000, 9,   2284.5, 2,   2378.7, 2,    7.6216,     25.00,   -999.0, 1,   -999.0,  -999.00, 1,   -999.0,   0.8555, 27.8190,   1.2933, 2, 2, 0.38, 0.13, 0.01, 0.016,  -999.00, 9, -999.00, -999.00, 9, -999.00