BOTTLE,20220820CCHSIOAMB
EXPOCODE,SECT_ID,STNNBR,CASTNO,SAMPNO,BTLNBR,BTLNBR_FLAG_W,DATE,TIME,LATITUDE,LONGITUDE,DEPTH,CTDPRS,CTDPRS_FLAG_W,CTDTMP,CTDTMP_FLAG_W,CTDSAL,CTDSAL_FLAG_W,SALNTY,SALNTY_FLAG_W,CTDOXY,CTDOXY_FLAG_W,OXYGEN,OXYGEN_FLAG_W,SILCAT,SILCAT_FLAG_W,NITRAT,NITRAT_FLAG_W,NITRIT,NITRIT_FLAG_W,PHSPHT,PHSPHT_FLAG_W,CFC-11,CFC-11_FLAG_W,CFC-12,CFC-12_FLAG_W,CFC113,CFC113_FLAG_W,CCL4,CCL4_FLAG_W,TCARBN,TCARBN_FLAG_W,ALKALI,ALKALI_FLAG_W,PH_TOT,PH_TMP,DELC14,DELC14_FLAG_W,C14ERR,DELC13,DELC13_FLAG_W,C13ERR,THETA,SIG0,SBE35,SBE35_FLAG_W,PH_TOT_FLAG_W,SILUNC,NRAUNC,NRIUNC,PHPUNC,CS-137,CS-137_FLAG_W,CS137ER,PLUTO,PLUTO_FLAG_W,PLUTOER
,,,,,,,,,,,METERS,DBAR,,ITS-90,,PSS-78,,PSS-78,,UMOL/KG,,UMOL/KG,,UMOL/KG,,UMOL/KG,,UMOL/KG,,UMOL/KG,,PMOL/KG,,PMOL/KG,,PMOL/KG,,PMOL/KG,,UMOL/KG,,UMOL/KG,,,DEG C,/MILLE,,/MILLE,/MILLE,,/MILLE,DEG C,KG/M^3,ITS-90,,,UMOL/KG,UMOL/KG,UMOL/KG,UMOL/KG,DM/.1MG,,BQ/M^3,MBQ/M^3,,MBQ/M^3
49NZ20071122, P14, 33, 1, 36, X12042, 2, 20071216, 2102, -23.0650, 177.1823, 4359,      9.4, 2,  24.9437, 2,  35.2195, 2,  35.2195, 2,    211.3, 2,    210.2, 2,     0.62, 2,     0.08, 2,     0.01, 2,     0.06, 2,    1.723, 2,    1.052, 2,    0.397, 4, -999.000, 9,   1970.4, 2,   2313.9, 2,    8.1110,     25.00,   -999.0, 9,   -999.0,  -999.00, 9,   -999.0,  24.9417, 23.5248,  24.9433, 2, 6, 0.12, 0.03, 0.01, 0.031,  -999.00, 9, -999.00, -999.00, 9, -999.00
49NZ20071122, P14, 33, 1, 35, X12041, 2, 20071216, 2102, -23.0650, 177.1823, 4359,     49.4, 2,  23.2993, 2,  35.4963, 2,  35.4973, 2,    220.4, 2,    220.0, 2,     0.57, 2,     0.05, 2,     0.01, 2,     0.05, 2,    1.851, 2,    1.126, 2,    0.479, 4, -999.000, 9,   1993.8, 6,   2329.2, 2,    8.0948,     25.00,   -999.0, 9,   -999.0,  -999.00, 9,   -999.0,  23.2891, 24.2262,  23.2986, 2, 2, 0.12, 0.03, 0.01, 0.034,  -999.00, 9, -999.00, -999.00, 9, -999.00
49NZ20071122, P14, 33, 1, 34, X12016, 2, 20071216, 2102, -23.0650, 177.1823, 4359,     99.5, 2,  21.1371, 2,  35.6868, 2,  35.6855, 2,    206.5, 2,    204.8, 2,     0.67, 2,     0.93, 2,     0.17, 2,     0.16, 2,    2.028, 2,    1.210, 2,    0.275, 4, -999.000, 9,   2035.6, 2,   2341.1, 6,    8.0403,     25.00,   -999.0, 9,   -999.0,  -999.00, 9,   -999.0,  21.1179, 24.9847,  21.1492, 2, 2, 0.12, 0.04, 0.01, 0.017,  -999.00, 9, -999.00, -999.00, 9, -999.00
49NZ20071122, P14, 33, 1, 33, X12033, 2, 20071216, 2102, -23.0650, 177.1823, 4359,    150.1, 2,  19.8427, 2,  35.7256, 2,  35.7248, 2,    197.7, 2,    204.1, 2,     0.74, 2,     1.59, 2,     0.08, 2,     0.21, 2,    2.147, 6,    1.265, 6,    0.235, 4, -999.000, 9,   2052.3, 2,   2341.8, 2,    8.0145,     25.00,   -999.0, 9,   -999.0,  -999.00, 9,   -999.0,  19.8150, 25.3642,  19.8428, 2, 6, 0.12, 0.04, 0.01, 0.016,  -999.00, 9, -999.00, -999.00, 9, -999.00
49NZ20071122, P14, 33, 1, 32, X12038, 2, 20071216, 2102, -23.0650, 177.1823, 4359,    198.3, 2,  18.3848, 2,  35.6826, 2,  35.6810, 2,    203.4, 2,    199.4, 2,     1.04, 2,     3.50, 2,     0.02, 2,     0.33, 2,    2.258, 2,    1.300, 2,    0.126, 2, -999.000, 9,   2070.3, 2,   2338.8, 2,    7.9794,     25.00,   -999.0, 9,   -999.0,  -999.00, 9,   -999.0,  18.3501, 25.7078,  18.4016, 2, 2, 0.12, 0.04, 0.01, 0.014,  -999.00, 9, -999.00, -999.00, 9, -999.00
49NZ20071122, P14, 33, 1, 31, X12003, 2, 20071216, 2102, -23.0650, 177.1823, 4359,    250.1, 2,  17.0246, 2,  35.5200, 2,  35.5224, 6,    190.1, 2,    189.4, 2,     1.63, 2,     5.88, 2,     0.01, 2,     0.50, 2,    2.343, 2,    1.315, 2,    0.052, 2, -999.000, 9,   2084.1, 2,   2330.2, 2,    7.9365,     25.00,   -999.0, 9,   -999.0,  -999.00, 9,   -999.0,  16.9831, 25.9175,  17.0253, 2, 2, 0.12, 0.05, 0.01, 0.013,  -999.00, 9, -999.00, -999.00, 9, -999.00
49NZ20071122, P14, 33, 1, 30, X12008, 2, 20071216, 2102, -23.0650, 177.1823, 4359,    300.1, 2,  16.1732, 2,  35.4630, 2,  35.4550, 2,    193.1, 2,    192.4, 2,     2.06, 2,     7.04, 2,     0.01, 2,     0.57, 2,    2.397, 2,    1.340, 2,    0.055, 2, -999.000, 9,   2091.2, 2,   2326.4, 2,    7.9181,     25.00,   -999.0, 9,   -999.0,  -999.00, 9,   -999.0,  16.1250, 26.0751,  16.1770, 2, 2, 0.12, 0.05, 0.01, 0.013,  -999.00, 9, -999.00, -999.00, 9, -999.00
49NZ20071122, P14, 33, 1, 29, X12035, 2, 20071216, 2102, -23.0650, 177.1823, 4359,    399.3, 2,  13.6466, 2,  35.1788, 2,  35.1689, 2,    192.8, 2,    192.7, 2,     3.37, 2,    11.07, 2,     0.01, 2,     0.84, 2,    2.479, 2,    1.334, 2,    0.064, 2, -999.000, 9,   2111.8, 2,   2312.9, 2,    7.8548,     25.00,   -999.0, 9,   -999.0,  -999.00, 9,   -999.0,  13.5894, 26.4112,  13.6503, 2, 2, 0.13, 0.06, 0.01, 0.013,  -999.00, 9, -999.00, -999.00, 9, -999.00
49NZ20071122, P14, 33, 1, 28, X12034, 2, 20071216, 2102, -23.0650, 177.1823, 4359,    499.2, 2,   9.9828, 2,  34.7081, 2,  34.6989, 6,    202.8, 2,    202.9, 2,     5.46, 2,    17.43, 2,     0.01, 2,     1.25, 2,    2.444, 2,    1.234, 2,    0.075, 2, -999.000, 9,   2132.2, 2,   2293.9, 2,    7.7742,     25.00,   -999.0, 9,   -999.0,  -999.00, 9,   -999.0,   9.9243, 26.7369,   9.9824, 2, 2, 0.13, 0.08, 0.01, 0.013,  -999.00, 9, -999.00, -999.00, 9, -999.00
49NZ20071122, P14, 33, 1, 27, X12049, 2, 20071216, 2102, -23.0650, 177.1823, 4359,    598.9, 2,   7.8092, 2,  34.4787, 2,  34.4723, 2,    211.4, 2,    211.6, 2,     8.82, 2,    22.17, 2,     0.01, 2,     1.56, 2,    2.016, 2,    0.984, 2,    0.071, 2, -999.000, 9,   2145.0, 2,   2286.5, 2,    7.7294,     25.00,   -999.0, 9,   -999.0,  -999.00, 9,   -999.0,   7.7483, 26.9016,   7.8079, 2, 2, 0.14, 0.09, 0.01, 0.014,  -999.00, 9, -999.00, -999.00, 9, -999.00
49NZ20071122, P14, 33, 1, 26, X12032, 2, 20071216, 2102, -23.0650, 177.1823, 4359,    700.0, 2,   6.7925, 2,  34.3978, 2,  34.3960, 2,    218.9, 2,    218.4, 2,    11.20, 2,    24.21, 2,     0.01, 2,     1.69, 2,    1.686, 6,    0.810, 6,    0.049, 6, -999.000, 9,   2149.3, 6,   2286.1, 2,    7.7158,     25.00,   -999.0, 9,   -999.0,  -999.00, 9,   -999.0,   6.7263, 26.9817,   6.7922, 2, 2, 0.14, 0.10, 0.01, 0.014,  -999.00, 9, -999.00, -999.00, 9, -999.00
49NZ20071122, P14, 33, 1, 25, X12043, 2, 20071216, 2102, -23.0650, 177.1823, 4359,    799.2, 2,   5.9348, 2,  34.3565, 2,  34.3556, 2,    212.5, 2,    211.5, 2,    17.07, 2,    26.96, 2,     0.01, 2,     1.88, 2,    1.037, 2,    0.504, 2,    0.019, 2, -999.000, 9,   2165.2, 2,   2291.3, 6,    7.6893,     25.00,   -999.0, 9,   -999.0,  -999.00, 9,   -999.0,   5.8639, 27.0613,   5.9353, 2, 2, 0.16, 0.11, 0.01, 0.015,  -999.00, 9, -999.00, -999.00, 9, -999.00
49NZ20071122, P14, 33, 1, 24, X12030, 2, 20071216, 2102, -23.0650, 177.1823, 4359,    899.9, 2,   5.3384, 2,  34.3590, 2,  34.3604, 2,    199.2, 2,    198.0, 2,    25.62, 2,    29.14, 2,     0.01, 2,     2.02, 2,    0.598, 2,    0.295, 2,    0.014, 2, -999.000, 9,   2183.5, 2,   2296.8, 2,    7.6617,     25.00,   -999.0, 9,   -999.0,  -999.00, 9,   -999.0,   5.2620, 27.1365,   5.3375, 2, 6, 0.18, 0.11, 0.01, 0.015,  -999.00, 9, -999.00, -999.00, 9, -999.00
49NZ20071122, P14, 33, 1, 23, X12027, 2, 20071216, 2102, -23.0650, 177.1823, 4359,   1000.8, 2,   4.5421, 2,  34.4031, 2,  34.4046, 6,    182.1, 2,    179.9, 2,    41.86, 2,    31.78, 2,     0.00, 2,     2.22, 2,    0.229, 2,    0.119, 2,    0.009, 2, -999.000, 9,   2210.6, 2,   2314.4, 2,    7.6291,     25.00,   -999.0, 9,   -999.0,  -999.00, 9,   -999.0,   4.4624, 27.2622,   4.5389, 2, 2, 0.21, 0.12, 0.01, 0.016,  -999.00, 9, -999.00, -999.00, 9, -999.00
49NZ20071122, P14, 33, 1, 22, X12028, 2, 20071216, 2102, -23.0650, 177.1823, 4359,   1201.6, 2,   3.5712, 2,  34.4946, 2,  34.4936, 2,    165.2, 2,    164.0, 2,    68.28, 2,    33.92, 2,     0.01, 2,     2.37, 2,    0.056, 2,    0.031, 2,    0.000, 2, -999.000, 9,   2247.8, 2,   2343.8, 2,    7.6048,     25.00,   -999.0, 9,   -999.0,  -999.00, 9,   -999.0,   3.4824, 27.4361,   3.5708, 2, 2, 0.27, 0.13, 0.01, 0.016,  -999.00, 9, -999.00, -999.00, 9, -999.00
49NZ20071122, P14, 33, 1, 21, X12009, 2, 20071216, 2102, -23.0650, 177.1823, 4359,   1400.8, 2,   3.0778, 2,  34.5554, 2,  34.5565, 2,    157.0, 2,    156.2, 2,    86.01, 2,    34.66, 2,     0.01, 2,     2.43, 2,    0.016, 2,    0.009, 2,    0.000, 2, -999.000, 9,   2268.1, 2,   2364.1, 2,    7.5974,     25.00,   -999.0, 9,   -999.0,  -999.00, 9,   -999.0,   2.9774, 27.5322,   3.0776, 2, 2, 0.31, 0.13, 0.01, 0.016,  -999.00, 9, -999.00, -999.00, 9, -999.00
49NZ20071122, P14, 33, 1, 20, X12026, 2, 20071216, 2102, -23.0650, 177.1823, 4359,   1599.0, 2,   2.6543, 2,  34.5984, 2,  34.5978, 2,    152.1, 2,    151.8, 2,    99.06, 2,    35.08, 2,     0.01, 2,     2.48, 2,    0.003, 2,    0.001, 2,    0.000, 2, -999.000, 9,   2284.7, 2,   2379.5, 2,    7.5923,     25.00,   -999.0, 9,   -999.0,  -999.00, 9,   -999.0,   2.5423, 27.6052,   2.6544, 2, 6, 0.34, 0.13, 0.01, 0.016,  -999.00, 9, -999.00, -999.00, 9, -999.00
49NZ20071122, P14, 33, 1, 19, X12025, 2, 20071216, 2102, -23.0650, 177.1823, 4359,   1799.6, 2,   2.4239, 2,  34.6205, 2,  34.6203, 2,    150.9, 2,    150.8, 2,   105.97, 2,    35.36, 2,     0.01, 2,     2.49, 2,    0.000, 2,    0.000, 2,    0.000, 2, -999.000, 9,   2293.7, 2,   2387.2, 2,    7.5915,     25.00,   -999.0, 9,   -999.0,  -999.00, 9,   -999.0,   2.2982, 27.6435,   2.4240, 2, 2, 0.35, 0.13, 0.01, 0.016,  -999.00, 9, -999.00, -999.00, 9, -999.00
49NZ20071122, P14, 33, 1, 18, X12024, 2, 20071216, 2102, -23.0650, 177.1823, 4359,   2000.4, 2,   2.2775, 2,  34.6351, 2,  34.6350, 2,    150.5, 2,    150.6, 2,   110.38, 2,    35.39, 2,     0.01, 2,     2.50, 2,    0.000, 2,    0.000, 2,    0.000, 2, -999.000, 9,   2298.1, 2,   2392.1, 2,    7.5903,     25.00,   -999.0, 9,   -999.0,  -999.00, 9,   -999.0,   2.1368, 27.6684,   2.2777, 2, 2, 0.36, 0.13, 0.01, 0.016,  -999.00, 9, -999.00, -999.00, 9, -999.00
49NZ20071122, P14, 33, 1, 17, X12023, 2, 20071216, 2102, -23.0650, 177.1823, 4359,   2199.4, 2,   2.1336, 2,  34.6489, 2,  34.6486, 6,    151.0, 2,    150.9, 2,   114.19, 2,    35.44, 2,     0.01, 2,     2.50, 2,    0.000, 2,    0.000, 2,    0.000, 2, -999.000, 9,   2302.7, 2,   2396.5, 2,    7.5912,     25.00,   -999.0, 9,   -999.0,  -999.00, 9,   -999.0,   1.9779, 27.6922,   2.1337, 2, 2, 0.37, 0.13, 0.01, 0.016,  -999.00, 9, -999.00, -999.00, 9, -999.00
49NZ20071122, P14, 33, 1, 16, X12022, 2, 20071216, 2102, -23.0650, 177.1823, 4359,   2401.3, 2,   2.0306, 2,  34.6595, 2,  34.6589, 2,    152.1, 2,    152.1, 2,   116.60, 2,    35.44, 2,     0.01, 2,     2.50, 2,    0.000, 2,    0.000, 2,    0.000, 2, -999.000, 9,   2304.1, 6,   2398.5, 2,    7.5920,     25.00,   -999.0, 9,   -999.0,  -999.00, 9,   -999.0,   1.8587, 27.7100,   2.0308, 2, 2, 0.38, 0.13, 0.01, 0.016,  -999.00, 9, -999.00, -999.00, 9, -999.00
49NZ20071122, P14, 33, 1, 15, X12021, 2, 20071216, 2102, -23.0650, 177.1823, 4359,   2599.5, 2,   1.9580, 2,  34.6668, 2,  34.6670, 2,    153.1, 2,    153.2, 2,   117.86, 2,    35.32, 2,     0.01, 2,     2.49, 2, -999.000, 9, -999.000, 9, -999.000, 9, -999.000, 9,   2303.9, 2,   2400.4, 6,    7.5940,     25.00,   -999.0, 9,   -999.0,  -999.00, 9,   -999.0,   1.7693, 27.7227,   1.9580, 2, 2, 0.38, 0.13, 0.01, 0.016,  -999.00, 9, -999.00, -999.00, 9, -999.00
49NZ20071122, P14, 33, 1, 14, X12020, 2, 20071216, 2102, -23.0650, 177.1823, 4359,   2802.0, 2,   1.8875, 2,  34.6741, 2,  34.6738, 2,    154.0, 2,    154.3, 2,   119.45, 2,    35.27, 2,     0.01, 2,     2.49, 2,    0.000, 2,    0.001, 2,    0.000, 2, -999.000, 9,   2304.4, 2,   2401.8, 2,    7.5949,     25.00,   -999.0, 9,   -999.0,  -999.00, 9,   -999.0,   1.6812, 27.7352,   1.8877, 2, 2, 0.38, 0.13, 0.01, 0.016,  -999.00, 9, -999.00, -999.00, 9, -999.00
49NZ20071122, P14, 33, 1, 13, X12019, 3, 20071216, 2102, -23.0650, 177.1823, 4359,   3000.1, 2,   1.8589, 2,  34.6773, 2,  34.6771, 2,    154.5, 2,    154.8, 2,   120.82, 2,    35.32, 2,     0.01, 2,     2.48, 2, -999.000, 9, -999.000, 9, -999.000, 9, -999.000, 9,   2307.0, 2,   2403.6, 2,    7.5951,     25.00,   -999.0, 9,   -999.0,  -999.00, 9,   -999.0,   1.6342, 27.7413,   1.8590, 2, 2, 0.38, 0.13, 0.01, 0.016,  -999.00, 9, -999.00, -999.00, 9, -999.00
49NZ20071122, P14, 33, 1, 12, X12040, 2, 20071216, 2102, -23.0650, 177.1823, 4359,   3249.8, 2,   1.8341, 2,  34.6803, 2,  34.6802, 2,    155.0, 2,    155.2, 2,   121.71, 2,    35.20, 2,     0.00, 2,     2.47, 2,    0.000, 2,    0.000, 2,    0.000, 2, -999.000, 9,   2307.8, 2,   2404.9, 2,    7.5968,     25.00,   -999.0, 9,   -999.0,  -999.00, 9,   -999.0,   1.5852, 27.7473,   1.8341, 2, 2, 0.39, 0.13, 0.01, 0.016,  -999.00, 9, -999.00, -999.00, 9, -999.00
49NZ20071122, P14, 33, 1, 11, X12047, 2, 20071216, 2102, -23.0650, 177.1823, 4359,   3500.4, 2,   1.8322, 2,  34.6819, 2,  34.6816, 2,    155.4, 2,    155.6, 2,   122.51, 2,    35.32, 2,     0.00, 2,     2.48, 2, -999.000, 9, -999.000, 9, -999.000, 9, -999.000, 9,   2308.1, 2,   2405.0, 2,    7.5975,     25.00,   -999.0, 9,   -999.0,  -999.00, 9,   -999.0,   1.5577, 27.7507,   1.8322, 2, 2, 0.39, 0.13, 0.01, 0.016,  -999.00, 9, -999.00, -999.00, 9, -999.00
49NZ20071122, P14, 33, 1, 10, X12012, 2, 20071216, 2102, -23.0650, 177.1823, 4359,   3751.2, 2,   1.8410, 2,  34.6829, 2,  34.6824, 2,    155.7, 2,    155.9, 2,   123.13, 2,    35.22, 2,     0.01, 2,     2.48, 2,    0.000, 2,    0.000, 2,    0.000, 2, -999.000, 9,   2309.8, 2,   2406.4, 2,    7.5978,     25.00,   -999.0, 9,   -999.0,  -999.00, 9,   -999.0,   1.5397, 27.7528,   1.8410, 2, 2, 0.39, 0.13, 0.01, 0.016,  -999.00, 9, -999.00, -999.00, 9, -999.00
49NZ20071122, P14, 33, 1, 9, X12015, 2, 20071216, 2102, -23.0650, 177.1823, 4359,   4001.5, 2,   1.8595, 2,  34.6834, 2,  34.6831, 6,    156.1, 2,    156.1, 2,   123.39, 2,    35.25, 2,     0.01, 2,     2.48, 2, -999.000, 9, -999.000, 9, -999.000, 9, -999.000, 9,   2307.8, 2,   2406.3, 2,    7.5986,     25.00,   -999.0, 9,   -999.0,  -999.00, 9,   -999.0,   1.5303, 27.7539,   1.8596, 2, 2, 0.39, 0.13, 0.01, 0.016,  -999.00, 9, -999.00, -999.00, 9, -999.00
49NZ20071122, P14, 33, 1, 8, X12046, 2, 20071216, 2102, -23.0650, 177.1823, 4359,   4249.9, 2,   1.8833, 2,  34.6835, 2,  34.6834, 2,    156.2, 2,    156.2, 2,   123.19, 2,    35.27, 2,     0.00, 2,     2.49, 2,    0.000, 2,    0.000, 2,    0.000, 2, -999.000, 9,   2310.2, 6,   2406.7, 2,    7.5984,     25.00,   -999.0, 9,   -999.0,  -999.00, 9,   -999.0,   1.5255, 27.7543,   1.8834, 2, 2, 0.39, 0.13, 0.01, 0.016,  -999.00, 9, -999.00, -999.00, 9, -999.00
49NZ20071122, P14, 33, 1, 7, X12044, 9, 20071216, 2102, -23.0650, 177.1823, 4359,      9.6, 2,  24.9283, 2,  35.2198, 2, -999.0000, 9,    210.2, 2,   -999.0, 9,  -999.00, 9,  -999.00, 9,  -999.00, 9,  -999.00, 9, -999.000, 9, -999.000, 9, -999.000, 9, -999.000, 9,   -999.0, 9,   -999.0, 9, -999.0000,   -999.00,   -999.0, 9,   -999.0,  -999.00, 9,   -999.0,  24.9262, 23.5298,  24.9283, 2, 9, -999.00, -999.00, -999.00, -999.000,  -999.00, 9, -999.00, -999.00, 9, -999.00
49NZ20071122, P14, 33, 1, 6, X12048, 9, 20071216, 2102, -23.0650, 177.1823, 4359,    900.2, 2,   5.3409, 2,  34.3591, 2, -999.0000, 9,    199.1, 2,   -999.0, 9,  -999.00, 9,  -999.00, 9,  -999.00, 9,  -999.00, 9, -999.000, 9, -999.000, 9, -999.000, 9, -999.000, 9,   -999.0, 9,   -999.0, 9, -999.0000,   -999.00,   -999.0, 9,   -999.0,  -999.00, 9,   -999.0,   5.2644, 27.1362,   5.3408, 2, 9, -999.00, -999.00, -999.00, -999.000,  -999.00, 9, -999.00, -999.00, 9, -999.00
49NZ20071122, P14, 33, 1, 5, X12014, 9, 20071216, 2102, -23.0650, 177.1823, 4359,     49.6, 2,  23.3040, 2,  35.4947, 2, -999.0000, 9,    220.4, 2,   -999.0, 9,  -999.00, 9,  -999.00, 9,  -999.00, 9,  -999.00, 9, -999.000, 9, -999.000, 9, -999.000, 9, -999.000, 9,   -999.0, 9,   -999.0, 9, -999.0000,   -999.00,   -999.0, 9,   -999.0,  -999.00, 9,   -999.0,  23.2938, 24.2237,  23.3035, 2, 9, -999.00, -999.00, -999.00, -999.000,  -999.00, 9, -999.00, -999.00, 9, -999.00
49NZ20071122, P14, 33, 1, 4, X12006, 9, 20071216, 2102, -23.0650, 177.1823, 4359,   1202.1, 2,   3.5761, 2,  34.4934, 2, -999.0000, 9,    165.2, 2,   -999.0, 9,  -999.00, 9,  -999.00, 9,  -999.00, 9,  -999.00, 9, -999.000, 9, -999.000, 9, -999.000, 9, -999.000, 9,   -999.0, 9,   -999.0, 9, -999.0000,   -999.00,   -999.0, 9,   -999.0,  -999.00, 9,   -999.0,   3.4873, 27.4347,   3.5786, 2, 9, -999.00, -999.00, -999.00, -999.000,  -999.00, 9, -999.00, -999.00, 9, -999.00
49NZ20071122, P14, 33, 1, 3, X12013, 9, 20071216, 2102, -23.0650, 177.1823, 4359,   3500.3, 2,   1.8322, 2,  34.6820, 2, -999.0000, 9,    155.4, 2,   -999.0, 9,  -999.00, 9,  -999.00, 9,  -999.00, 9,  -999.00, 9, -999.000, 9, -999.000, 9, -999.000, 9, -999.000, 9,   -999.0, 9,   -999.0, 9, -999.0000,   -999.00,   -999.0, 9,   -999.0,  -999.00, 9,   -999.0,   1.5577, 27.7508,   1.8321, 2, 9, -999.00, -999.00, -999.00, -999.000,  -999.00, 9, -999.00, -999.00, 9, -999.00
49NZ20071122, P14, 33, 1, 2, X12002, 9, 20071216, 2102, -23.0650, 177.1823, 4359,   1599.6, 2,   2.6542, 2,  34.5983, 2, -999.0000, 9,    152.1, 2,   -999.0, 9,  -999.00, 9,  -999.00, 9,  -999.00, 9,  -999.00, 9, -999.000, 9, -999.000, 9, -999.000, 9, -999.000, 9,   -999.0, 9,   -999.0, 9, -999.0000,   -999.00,   -999.0, 9,   -999.0,  -999.00, 9,   -999.0,   2.5422, 27.6051,   2.6543, 2, 9, -999.00, -999.00, -999.00, -999.000,  -999.00, 9, -999.00, -999.00, 9, -999.00
49NZ20071122, P14, 33, 1, 1, X12001, 2, 20071216, 2102, -23.0650, 177.1823, 4359,   4414.4, 2,   1.8969, 2,  34.6838, 2,  34.6838, 6,    156.7, 2,    156.3, 2,   123.42, 2,    35.22, 2,     0.00, 2,     2.48, 2,    0.000, 2,    0.000, 2,    0.000, 2, -999.000, 9,   2308.1, 2,   2405.8, 2,    7.5980,     25.00,   -999.0, 9,   -999.0,  -999.00, 9,   -999.0,   1.5197, 27.7550,   1.8970, 2, 2, 0.39, 0.13, 0.01, 0.016,  -999.00, 9, -999.00, -999.00, 9, -999.00