BOTTLE,20220820CCHSIOAMB
EXPOCODE,SECT_ID,STNNBR,CASTNO,SAMPNO,BTLNBR,BTLNBR_FLAG_W,DATE,TIME,LATITUDE,LONGITUDE,DEPTH,CTDPRS,CTDPRS_FLAG_W,CTDTMP,CTDTMP_FLAG_W,CTDSAL,CTDSAL_FLAG_W,SALNTY,SALNTY_FLAG_W,CTDOXY,CTDOXY_FLAG_W,OXYGEN,OXYGEN_FLAG_W,SILCAT,SILCAT_FLAG_W,NITRAT,NITRAT_FLAG_W,NITRIT,NITRIT_FLAG_W,PHSPHT,PHSPHT_FLAG_W,CFC-11,CFC-11_FLAG_W,CFC-12,CFC-12_FLAG_W,CFC113,CFC113_FLAG_W,CCL4,CCL4_FLAG_W,TCARBN,TCARBN_FLAG_W,ALKALI,ALKALI_FLAG_W,PH_TOT,PH_TMP,DELC14,DELC14_FLAG_W,C14ERR,DELC13,DELC13_FLAG_W,C13ERR,THETA,SIG0,SBE35,SBE35_FLAG_W,PH_TOT_FLAG_W,SILUNC,NRAUNC,NRIUNC,PHPUNC,CS-137,CS-137_FLAG_W,CS137ER,PLUTO,PLUTO_FLAG_W,PLUTOER
,,,,,,,,,,,METERS,DBAR,,ITS-90,,PSS-78,,PSS-78,,UMOL/KG,,UMOL/KG,,UMOL/KG,,UMOL/KG,,UMOL/KG,,UMOL/KG,,PMOL/KG,,PMOL/KG,,PMOL/KG,,PMOL/KG,,UMOL/KG,,UMOL/KG,,,DEG C,/MILLE,,/MILLE,/MILLE,,/MILLE,DEG C,KG/M^3,ITS-90,,,UMOL/KG,UMOL/KG,UMOL/KG,UMOL/KG,DM/.1MG,,BQ/M^3,MBQ/M^3,,MBQ/M^3
49NZ20071122, P14N, 123, 1, 36, X12042, 2, 20071127, 0434, 4.9965, 178.9947, 6127,      9.3, 2,  28.3214, 2,  34.8967, 2,  34.8977, 2,    197.6, 2,    196.8, 2,     1.23, 2,     0.64, 2,     0.10, 2,     0.25, 2,    1.479, 2,    0.932, 2,    0.192, 4, -999.000, 9,   1964.7, 2,   2294.4, 2,    8.0979,     25.00,   -999.0, 9,   -999.0,  -999.00, 9,   -999.0,  28.3192, 22.2123,  28.3209, 2, 6, 0.12, 0.03, 0.01, 0.015,  -999.00, 9, -999.00, -999.00, 9, -999.00
49NZ20071122, P14N, 123, 1, 35, X12041, 2, 20071127, 0434, 4.9965, 178.9947, 6127,     49.6, 2,  27.5889, 2,  35.0873, 2,  35.0851, 2,    194.3, 2,    194.1, 2,     1.60, 2,     1.93, 2,     0.46, 2,     0.35, 2,    1.539, 2,    0.961, 2,    0.187, 4, -999.000, 9,   1994.5, 6,   2307.2, 2,    8.0665,     25.00,   -999.0, 9,   -999.0,  -999.00, 9,   -999.0,  27.5773, 22.5978,  27.5970, 2, 2, 0.12, 0.04, 0.00, 0.014,  -999.00, 9, -999.00, -999.00, 9, -999.00
49NZ20071122, P14N, 123, 1, 34, X12016, 2, 20071127, 0434, 4.9965, 178.9947, 6127,    101.6, 2,  27.0824, 2,  35.1520, 2,  35.1496, 2,    196.4, 2,    196.9, 2,     1.79, 2,     3.05, 2,     0.44, 2,     0.43, 2,    1.561, 2,    0.957, 2,    0.190, 4, -999.000, 9,   2008.2, 2,   2312.3, 6,    8.0486,     25.00,   -999.0, 9,   -999.0,  -999.00, 9,   -999.0,  27.0590, 22.8134,  27.0812, 2, 2, 0.12, 0.04, 0.00, 0.013,  -999.00, 9, -999.00, -999.00, 9, -999.00
49NZ20071122, P14N, 123, 1, 33, X12033, 2, 20071127, 0434, 4.9965, 178.9947, 6127,    149.9, 2,  27.0624, 2,  35.3355, 2,  35.3336, 2,    184.8, 2,    185.9, 2,     1.97, 2,     3.83, 2,     0.68, 2,     0.51, 2,    1.555, 6,    0.960, 6,    0.159, 4, -999.000, 9,   2025.1, 2,   2323.5, 2,    8.0342,     25.00,   -999.0, 9,   -999.0,  -999.00, 9,   -999.0,  27.0279, 22.9616,  27.0603, 2, 2, 0.12, 0.04, 0.00, 0.013,  -999.00, 9, -999.00, -999.00, 9, -999.00
49NZ20071122, P14N, 123, 1, 32, X12038, 2, 20071127, 0434, 4.9965, 178.9947, 6127,    199.5, 2,  19.7510, 2,  34.7338, 2,  34.7253, 2,    138.8, 2,    138.1, 2,     7.54, 2,     9.94, 2,     0.02, 2,     0.83, 2,    2.025, 2,    1.142, 2,    0.097, 2, -999.000, 9,   2085.8, 2,   2287.5, 2,    7.8712,     25.00,   -999.0, 9,   -999.0,  -999.00, 9,   -999.0,  19.7145, 24.6335,  19.7346, 2, 2, 0.14, 0.06, 0.01, 0.013,  -999.00, 9, -999.00, -999.00, 9, -999.00
49NZ20071122, P14N, 123, 1, 31, X12003, 2, 20071127, 0434, 4.9965, 178.9947, 6127,    249.0, 2,  11.4664, 2,  34.5472, 2,  34.5457, 6,     97.0, 2,     94.3, 2,    26.67, 2,    25.07, 2,     0.01, 2,     1.84, 2,    1.323, 2,    0.691, 2,    0.020, 2, -999.000, 9,   2188.0, 2,   2292.5, 2,    7.6405,     25.00,   -999.0, 9,   -999.0,  -999.00, 9,   -999.0,  11.4349, 26.3434,  11.4730, 2, 2, 0.18, 0.10, 0.01, 0.015,  -999.00, 9, -999.00, -999.00, 9, -999.00
49NZ20071122, P14N, 123, 1, 30, X12008, 2, 20071127, 0434, 4.9965, 178.9947, 6127,    279.6, 2,  10.4683, 2,  34.6213, 2,  34.6230, 2,     64.0, 2,     61.2, 2,    30.40, 2,    30.30, 2,     0.01, 2,     2.20, 2,    0.732, 2,    0.383, 2,    0.008, 2, -999.000, 9,   2224.2, 2,   2300.5, 2,    7.5588,     25.00,   -999.0, 9,   -999.0,  -999.00, 9,   -999.0,  10.4349, 26.5811,  10.4710, 2, 2, 0.19, 0.12, 0.01, 0.016,  -999.00, 9, -999.00, -999.00, 9, -999.00
49NZ20071122, P14N, 123, 1, 29, X12035, 2, 20071127, 0434, 4.9965, 178.9947, 6127,    372.1, 2,   9.0707, 2,  34.6255, 2,  34.6254, 2,     78.1, 2,     81.1, 2,    33.28, 2,    31.24, 2,     0.01, 2,     2.24, 2,    0.526, 2,    0.273, 2,    0.014, 2, -999.000, 9,   2225.1, 2,   2307.2, 2,    7.5696,     25.00,   -999.0, 9,   -999.0,  -999.00, 9,   -999.0,   9.0299, 26.8201,   9.0722, 2, 2, 0.19, 0.12, 0.01, 0.016,  -999.00, 9, -999.00, -999.00, 9, -999.00
49NZ20071122, P14N, 123, 1, 28, X12034, 2, 20071127, 0434, 4.9965, 178.9947, 6127,    469.4, 2,   8.1420, 2,  34.6022, 2,  34.6006, 6,     77.2, 2,     76.4, 2,    37.65, 2,    33.92, 2,     0.01, 2,     2.42, 2,    0.282, 2,    0.148, 2,    0.000, 2, -999.000, 9,   2240.9, 2,   2310.6, 2,    7.5394,     25.00,   -999.0, 9,   -999.0,  -999.00, 9,   -999.0,   8.0934, 26.9474,   8.1437, 2, 2, 0.20, 0.13, 0.01, 0.016,  -999.00, 9, -999.00, -999.00, 9, -999.00
49NZ20071122, P14N, 123, 1, 27, X12049, 2, 20071127, 0434, 4.9965, 178.9947, 6127,    570.8, 2,   7.3856, 2,  34.5763, 2,  34.5759, 2,     73.1, 2,     72.7, 2,    43.38, 2,    35.72, 2,     0.01, 2,     2.56, 2,    0.163, 2,    0.089, 2,    0.005, 2, -999.000, 9,   2252.3, 2,   2316.6, 2,    7.5185,     25.00,   -999.0, 9,   -999.0,  -999.00, 9,   -999.0,   7.3294, 27.0388,   7.3852, 2, 2, 0.21, 0.13, 0.01, 0.016,  -999.00, 9, -999.00, -999.00, 9, -999.00
49NZ20071122, P14N, 123, 1, 26, X12032, 2, 20071127, 0434, 4.9965, 178.9947, 6127,    669.5, 2,   6.6785, 2,  34.5584, 2,  34.5574, 2,     59.8, 2,     59.7, 2,    52.69, 2,    38.48, 2,     0.01, 2,     2.77, 2,    0.062, 6,    0.034, 6,    0.004, 6, -999.000, 9,   2273.1, 6,   2322.9, 2,    7.4826,     25.00,   -999.0, 9,   -999.0,  -999.00, 9,   -999.0,   6.6157, 27.1233,   6.6790, 2, 2, 0.23, 0.14, 0.01, 0.017,  -999.00, 9, -999.00, -999.00, 9, -999.00
49NZ20071122, P14N, 123, 1, 25, X12043, 2, 20071127, 0434, 4.9965, 178.9947, 6127,    770.4, 2,   5.8808, 2,  34.5444, 2,  34.5442, 2,     68.4, 2,     72.4, 2,    61.23, 2,    38.64, 2,     0.01, 2,     2.78, 2,    0.041, 2,    0.019, 2,    0.005, 2, -999.000, 9,   2277.3, 2,   2333.4, 6,    7.4935,     25.00,   -999.0, 9,   -999.0,  -999.00, 9,   -999.0,   5.8127, 27.2163,   5.8814, 2, 2, 0.25, 0.14, 0.01, 0.017,  -999.00, 9, -999.00, -999.00, 9, -999.00
49NZ20071122, P14N, 123, 1, 24, X12030, 2, 20071127, 0434, 4.9965, 178.9947, 6127,    871.4, 2,   5.3882, 2,  34.5442, 2,  34.5439, 2,     63.0, 2,     71.5, 2,    69.87, 2,    39.40, 2,     0.01, 2,     2.83, 2,    0.026, 2,    0.016, 2,    0.000, 2, -999.000, 9,   2291.8, 2,   2341.8, 2,    7.4867,     25.00,   -999.0, 9,   -999.0,  -999.00, 9,   -999.0,   5.3138, 27.2770,   5.3883, 2, 6, 0.27, 0.14, 0.01, 0.017,  -999.00, 9, -999.00, -999.00, 9, -999.00
49NZ20071122, P14N, 123, 1, 23, X12027, 2, 20071127, 0434, 4.9965, 178.9947, 6127,    970.1, 2,   5.0179, 2,  34.5485, 2,  34.5482, 6,     76.2, 2,     76.1, 2,    75.45, 2,    39.48, 2,     0.01, 2,     2.85, 2,    0.017, 2,    0.010, 2,    0.000, 2, -999.000, 9,   -999.0, 5,   2348.5, 2,    7.4911,     25.00,   -999.0, 9,   -999.0,  -999.00, 9,   -999.0,   4.9371, 27.3246,   5.0183, 2, 2, 0.28, 0.14, 0.01, 0.017,  -999.00, 9, -999.00, -999.00, 9, -999.00
49NZ20071122, P14N, 123, 1, 22, X12028, 2, 20071127, 0434, 4.9965, 178.9947, 6127,   1129.8, 2,   4.3588, 2,  34.5607, 2,  34.5606, 2,     75.2, 2,     74.7, 2,    91.26, 2,    40.17, 2,     0.01, 2,     2.90, 2,    0.012, 2,    0.007, 2,    0.000, 2, -999.000, 9,   2312.8, 2,   2365.3, 2,    7.4852,     25.00,   -999.0, 9,   -999.0,  -999.00, 9,   -999.0,   4.2690, 27.4084,   4.3587, 2, 2, 0.32, 0.15, 0.01, 0.017,  -999.00, 9, -999.00, -999.00, 9, -999.00
49NZ20071122, P14N, 123, 1, 21, X12009, 2, 20071127, 0434, 4.9965, 178.9947, 6127,   1331.6, 2,   3.6443, 2,  34.5818, 2,  34.5815, 2,     76.8, 2,     77.3, 2,   106.81, 2,    40.56, 2,     0.01, 2,     2.93, 2,    0.009, 2,    0.004, 2,    0.000, 2, -999.000, 9,   2329.7, 2,   2381.5, 2,    7.4846,     25.00,   -999.0, 9,   -999.0,  -999.00, 9,   -999.0,   3.5437, 27.4996,   3.6447, 2, 2, 0.35, 0.15, 0.01, 0.017,  -999.00, 9, -999.00, -999.00, 9, -999.00
49NZ20071122, P14N, 123, 1, 20, X12026, 2, 20071127, 0434, 4.9965, 178.9947, 6127,   1530.1, 2,   3.1276, 2,  34.5988, 2,  34.5990, 2,     88.8, 2,     88.9, 2,   116.90, 2,    39.98, 2,     0.01, 2,     2.88, 2,    0.000, 2,    0.001, 2,    0.000, 2, -999.000, 9,   2334.3, 2,   2393.3, 2,    7.5019,     25.00,   -999.0, 9,   -999.0,  -999.00, 9,   -999.0,   3.0157, 27.5634,   3.1278, 2, 6, 0.38, 0.14, 0.01, 0.017,  -999.00, 9, -999.00, -999.00, 9, -999.00
49NZ20071122, P14N, 123, 1, 19, X12025, 2, 20071127, 0434, 4.9965, 178.9947, 6127,   1729.2, 2,   2.7018, 2,  34.6160, 2,  34.6160, 2,     95.8, 2,     97.5, 2,   125.80, 2,    39.57, 2,     0.01, 2,     2.83, 2, -999.000, 9, -999.000, 9, -999.000, 9, -999.000, 9,   2337.9, 2,   2402.6, 2,    7.5145,     25.00,   -999.0, 9,   -999.0,  -999.00, 9,   -999.0,   2.5783, 27.6161,   2.7017, 2, 2, 0.40, 0.14, 0.01, 0.017,  -999.00, 9, -999.00, -999.00, 9, -999.00
49NZ20071122, P14N, 123, 1, 18, X12024, 2, 20071127, 0434, 4.9965, 178.9947, 6127,   1929.2, 2,   2.4128, 2,  34.6299, 2,  34.6299, 2,    101.5, 2,    101.3, 2,   133.13, 2,    39.28, 2,     0.01, 2,     2.81, 2, -999.000, 9, -999.000, 9, -999.000, 9, -999.000, 9,   2346.7, 2,   2410.8, 2,    7.5211,     25.00,   -999.0, 9,   -999.0,  -999.00, 9,   -999.0,   2.2762, 27.6528,   2.4128, 2, 2, 0.41, 0.14, 0.01, 0.017,  -999.00, 9, -999.00, -999.00, 9, -999.00
49NZ20071122, P14N, 123, 1, 17, X12023, 2, 20071127, 0434, 4.9965, 178.9947, 6127,   2128.7, 2,   2.1852, 2,  34.6426, 2,  34.6425, 6,    106.6, 2,    106.5, 2,   138.72, 2,    38.97, 2,     0.01, 2,     2.78, 2,    0.000, 2,    0.000, 2,    0.000, 2, -999.000, 9,   2350.1, 2,   2417.2, 2,    7.5304,     25.00,   -999.0, 9,   -999.0,  -999.00, 9,   -999.0,   2.0348, 27.6825,   2.1855, 2, 2, 0.42, 0.14, 0.01, 0.017,  -999.00, 9, -999.00, -999.00, 9, -999.00
49NZ20071122, P14N, 123, 1, 16, X12022, 2, 20071127, 0434, 4.9965, 178.9947, 6127,   2331.9, 2,   2.0061, 2,  34.6535, 2,  34.6533, 2,    111.8, 2,    111.8, 2,   142.89, 2,    38.78, 2,     0.01, 2,     2.75, 2, -999.000, 9, -999.000, 9, -999.000, 9, -999.000, 9,   2350.5, 6,   2422.1, 2,    7.5387,     25.00,   -999.0, 9,   -999.0,  -999.00, 9,   -999.0,   1.8408, 27.7065,   2.0065, 2, 2, 0.43, 0.14, 0.01, 0.017,  -999.00, 9, -999.00, -999.00, 9, -999.00
49NZ20071122, P14N, 123, 1, 15, X12021, 2, 20071127, 0434, 4.9965, 178.9947, 6127,   2529.1, 2,   1.8973, 2,  34.6603, 2,  34.6602, 2,    116.1, 2,    116.5, 2,   145.00, 2,    38.43, 2,     0.01, 2,     2.72, 2, -999.000, 9, -999.000, 9, -999.000, 9, -999.000, 9,   2351.1, 2,   2424.1, 6,    7.5473,     25.00,   -999.0, 9,   -999.0,  -999.00, 9,   -999.0,   1.7163, 27.7215,   1.8974, 2, 2, 0.44, 0.14, 0.01, 0.017,  -999.00, 9, -999.00, -999.00, 9, -999.00
49NZ20071122, P14N, 123, 1, 14, X12020, 2, 20071127, 0434, 4.9965, 178.9947, 6127,   2730.4, 2,   1.7967, 2,  34.6658, 2,  34.6655, 2,    121.7, 2,    123.1, 2,   145.58, 2,    37.95, 2,     0.01, 2,     2.68, 2,    0.002, 2,    0.000, 2,    0.000, 2, -999.000, 9,   2347.7, 2,   2424.6, 2,    7.5574,     25.00,   -999.0, 9,   -999.0,  -999.00, 9,   -999.0,   1.5991, 27.7347,   1.7966, 2, 6, 0.44, 0.14, 0.01, 0.017,  -999.00, 9, -999.00, -999.00, 9, -999.00
49NZ20071122, P14N, 123, 1, 13, X12019, 2, 20071127, 0434, 4.9965, 178.9947, 6127,   2930.4, 2,   1.7196, 2,  34.6700, 2,  34.6694, 2,    128.3, 2,    128.6, 2,   145.45, 2,    37.62, 2,     0.01, 2,     2.66, 2, -999.000, 9, -999.000, 9, -999.000, 9, -999.000, 9,   2345.1, 2,   2424.4, 2,    7.5653,     25.00,   -999.0, 9,   -999.0,  -999.00, 9,   -999.0,   1.5047, 27.7450,   1.7197, 2, 2, 0.44, 0.14, 0.01, 0.017,  -999.00, 9, -999.00, -999.00, 9, -999.00
49NZ20071122, P14N, 123, 1, 12, X12040, 2, 20071127, 0434, 4.9965, 178.9947, 6127,   3171.3, 2,   1.6247, 2,  34.6752, 2,  34.6750, 2,    135.7, 2,    137.1, 2,   143.81, 2,    36.94, 2,     0.01, 2,     2.59, 2, -999.000, 9, -999.000, 9, -999.000, 9, -999.000, 9,   2338.4, 2,   2422.1, 2,    7.5770,     25.00,   -999.0, 9,   -999.0,  -999.00, 9,   -999.0,   1.3885, 27.7576,   1.6247, 2, 2, 0.44, 0.14, 0.01, 0.016,  -999.00, 9, -999.00, -999.00, 9, -999.00
49NZ20071122, P14N, 123, 1, 11, X12047, 2, 20071127, 0434, 4.9965, 178.9947, 6127,   3420.7, 2,   1.5614, 2,  34.6798, 2,  34.6795, 2,    143.1, 2,    144.3, 2,   142.38, 2,    36.51, 2,     0.00, 2,     2.57, 2,    0.000, 2,    0.000, 2,    0.000, 2, -999.000, 9,   2331.1, 2,   2420.6, 2,    7.5858,     25.00,   -999.0, 9,   -999.0,  -999.00, 9,   -999.0,   1.3018, 27.7674,   1.5614, 2, 2, 0.43, 0.14, 0.01, 0.016,  -999.00, 9, -999.00, -999.00, 9, -999.00
49NZ20071122, P14N, 123, 1, 10, X12012, 2, 20071127, 0434, 4.9965, 178.9947, 6127,   3670.4, 2,   1.4949, 2,  34.6849, 2,  34.6847, 2,    149.8, 2,    151.9, 2,   140.46, 2,    35.89, 2,     0.00, 2,     2.53, 2, -999.000, 9, -999.000, 9, -999.000, 9, -999.000, 9,   2324.5, 2,   2418.0, 2,    7.5952,     25.00,   -999.0, 9,   -999.0,  -999.00, 9,   -999.0,   1.2113, 27.7778,   1.4948, 2, 2, 0.43, 0.13, 0.01, 0.016,  -999.00, 9, -999.00, -999.00, 9, -999.00
49NZ20071122, P14N, 123, 1, 9, X12015, 2, 20071127, 0434, 4.9965, 178.9947, 6127,   3919.7, 2,   1.4243, 2,  34.6904, 2,  34.6898, 6,    157.8, 2,    160.7, 2,   137.78, 2,    35.44, 2,     0.01, 2,     2.48, 2, -999.000, 9, -999.000, 9, -999.000, 9, -999.000, 9,   2318.4, 2,   2414.4, 2,    7.6054,     25.00,   -999.0, 9,   -999.0,  -999.00, 9,   -999.0,   1.1162, 27.7887,   1.4244, 2, 2, 0.42, 0.13, 0.01, 0.016,  -999.00, 9, -999.00, -999.00, 9, -999.00
49NZ20071122, P14N, 123, 1, 8, X12046, 2, 20071127, 0434, 4.9965, 178.9947, 6127,   4171.0, 2,   1.3402, 2,  34.6962, 2,  34.6960, 2,    168.8, 2,    171.1, 2,   133.68, 2,    34.66, 2,     0.01, 2,     2.42, 2,    0.003, 2,    0.002, 2,    0.000, 2, -999.000, 9,   2306.1, 6,   2407.0, 2,    7.6151,     25.00,   -999.0, 9,   -999.0,  -999.00, 9,   -999.0,   1.0071, 27.8008,   1.3403, 2, 2, 0.41, 0.13, 0.01, 0.016,  -999.00, 9, -999.00, -999.00, 9, -999.00
49NZ20071122, P14N, 123, 1, 7, X12044, 2, 20071127, 0434, 4.9965, 178.9947, 6127,   4419.8, 2,   1.2670, 2,  34.7016, 2,  34.7013, 2,    178.9, 2,    182.5, 2,   127.62, 2,    33.77, 2,     0.00, 2,     2.37, 2,    0.000, 2,    0.000, 2,    0.005, 2, -999.000, 9,   2293.0, 2,   2398.4, 6,    7.6240,     25.00,   -999.0, 9,   -999.0,  -999.00, 9,   -999.0,   0.9083, 27.8116,   1.2669, 2, 2, 0.40, 0.13, 0.01, 0.016,  -999.00, 9, -999.00, -999.00, 9, -999.00
49NZ20071122, P14N, 123, 1, 6, X12048, 3, 20071127, 0434, 4.9965, 178.9947, 6127,   4670.3, 2,   1.2608, 2,  34.7037, 2,  34.7033, 2,    186.2, 2,    187.0, 2,   124.80, 2,    33.43, 2,     0.00, 2,     2.34, 2,    0.005, 2,    0.004, 2,    0.000, 2, -999.000, 9,   2289.7, 2,   2393.7, 2,    7.6276,     25.00,   -999.0, 9,   -999.0,  -999.00, 9,   -999.0,   0.8736, 27.8156,   1.2609, 2, 6, 0.39, 0.13, 0.01, 0.016,  -999.00, 9, -999.00, -999.00, 9, -999.00
49NZ20071122, P14N, 123, 1, 5, X12014, 2, 20071127, 0434, 4.9965, 178.9947, 6127,   4919.2, 2,   1.2725, 2,  34.7045, 2,  34.7039, 2,    188.1, 2,    188.8, 2,   124.26, 2,    33.36, 2,     0.01, 2,     2.33, 2,    0.004, 2,    0.001, 2,    0.000, 2, -999.000, 9,   2285.4, 2,   2392.3, 2,    7.6280,     25.00,   -999.0, 9,   -999.0,  -999.00, 9,   -999.0,   0.8555, 27.8174,   1.2725, 2, 2, 0.39, 0.13, 0.01, 0.016,  -999.00, 9, -999.00, -999.00, 9, -999.00
49NZ20071122, P14N, 123, 1, 4, X12006, 2, 20071127, 0434, 4.9965, 178.9947, 6127,   5170.0, 2,   1.2965, 2,  34.7049, 2,  34.7041, 2,    189.5, 2,    189.8, 2,   123.50, 2,    33.26, 2,     0.01, 2,     2.32, 2,    0.003, 2,    0.001, 2,    0.000, 2, -999.000, 9,   2283.6, 2,   2390.8, 2,    7.6276,     25.00,   -999.0, 9,   -999.0,  -999.00, 9,   -999.0,   0.8484, 27.8181,   1.2965, 2, 2, 0.39, 0.13, 0.01, 0.016,  -999.00, 9, -999.00, -999.00, 9, -999.00
49NZ20071122, P14N, 123, 1, 3, X12013, 2, 20071127, 0434, 4.9965, 178.9947, 6127,   5419.3, 2,   1.3202, 2,  34.7054, 2,  34.7050, 2,    190.9, 2,    190.9, 2,   122.85, 2,    33.13, 2,     0.01, 2,     2.32, 2,    0.003, 2,    0.003, 2,    0.000, 2, -999.000, 9,   2280.8, 2,   2388.6, 2,    7.6281,     25.00,   -999.0, 9,   -999.0,  -999.00, 9,   -999.0,   0.8403, 27.8191,   1.3203, 2, 2, 0.39, 0.13, 0.01, 0.016,  -999.00, 9, -999.00, -999.00, 9, -999.00
49NZ20071122, P14N, 123, 1, 2, X12002, 2, 20071127, 0434, 4.9965, 178.9947, 6127,   5670.1, 2,   1.3507, 2,  34.7054, 2,  34.7051, 2,    191.5, 2,    191.4, 2,   122.72, 2,    33.14, 2,     0.01, 2,     2.31, 2,    0.004, 2,    0.003, 2,    0.000, 2, -999.000, 9,   2281.6, 2,   2387.7, 2,    7.6291,     25.00,   -999.0, 9,   -999.0,  -999.00, 9,   -999.0,   0.8377, 27.8192,   1.3508, 2, 2, 0.39, 0.13, 0.01, 0.016,  -999.00, 9, -999.00, -999.00, 9, -999.00
49NZ20071122, P14N, 123, 1, 1, X12001, 2, 20071127, 0434, 4.9965, 178.9947, 6127,   6211.4, 2,   1.4208, 2,  34.7055, 2,  34.7052, 6,    192.1, 2,    192.1, 2,   122.27, 2,    33.08, 2,     0.00, 2,     2.31, 2,    0.004, 2,    0.004, 2,    0.000, 2, -999.000, 9,   2280.0, 2,   2386.4, 2,    7.6283,     25.00,   -999.0, 9,   -999.0,  -999.00, 9,   -999.0,   0.8335, 27.8196,   1.4209, 2, 2, 0.39, 0.13, 0.01, 0.016,  -999.00, 9, -999.00, -999.00, 9, -999.00