BOTTLE,20220820CCHSIOAMB
EXPOCODE,SECT_ID,STNNBR,CASTNO,SAMPNO,BTLNBR,BTLNBR_FLAG_W,DATE,TIME,LATITUDE,LONGITUDE,DEPTH,CTDPRS,CTDPRS_FLAG_W,CTDTMP,CTDTMP_FLAG_W,CTDSAL,CTDSAL_FLAG_W,SALNTY,SALNTY_FLAG_W,CTDOXY,CTDOXY_FLAG_W,OXYGEN,OXYGEN_FLAG_W,SILCAT,SILCAT_FLAG_W,NITRAT,NITRAT_FLAG_W,NITRIT,NITRIT_FLAG_W,PHSPHT,PHSPHT_FLAG_W,CFC-11,CFC-11_FLAG_W,CFC-12,CFC-12_FLAG_W,CFC113,CFC113_FLAG_W,CCL4,CCL4_FLAG_W,TCARBN,TCARBN_FLAG_W,ALKALI,ALKALI_FLAG_W,PH_TOT,PH_TMP,DELC14,DELC14_FLAG_W,C14ERR,DELC13,DELC13_FLAG_W,C13ERR,THETA,SIG0,SBE35,SBE35_FLAG_W,PH_TOT_FLAG_W,SILUNC,NRAUNC,NRIUNC,PHPUNC,CS-137,CS-137_FLAG_W,CS137ER,PLUTO,PLUTO_FLAG_W,PLUTOER
,,,,,,,,,,,METERS,DBAR,,ITS-90,,PSS-78,,PSS-78,,UMOL/KG,,UMOL/KG,,UMOL/KG,,UMOL/KG,,UMOL/KG,,UMOL/KG,,PMOL/KG,,PMOL/KG,,PMOL/KG,,PMOL/KG,,UMOL/KG,,UMOL/KG,,,DEG C,/MILLE,,/MILLE,/MILLE,,/MILLE,DEG C,KG/M^3,ITS-90,,,UMOL/KG,UMOL/KG,UMOL/KG,UMOL/KG,DM/.1MG,,BQ/M^3,MBQ/M^3,,MBQ/M^3
49NZ20071122, P14N, 155, 1, 36, X12042, 2, 20071205, 1742, -2.9850, 178.9960, 5477,      8.9, 2,  27.8644, 2,  35.6427, 2,  35.6427, 2,    202.4, 2,    201.0, 2,     1.59, 2,     3.17, 2,     0.20, 2,     0.48, 2,    1.554, 2,    0.943, 2,    0.172, 4, -999.000, 9,   -999.0, 9,   -999.0, 9, -999.0000,   -999.00,   -999.0, 9,   -999.0,  -999.00, 9,   -999.0,  27.8623, 22.9231,  27.8646, 2, 9, 0.12, 0.04, 0.01, 0.013,  -999.00, 9, -999.00, -999.00, 9, -999.00
49NZ20071122, P14N, 155, 1, 35, X12041, 2, 20071205, 1742, -2.9850, 178.9960, 5477,     50.6, 2,  27.8723, 2,  35.6478, 2,  35.6492, 2,    200.2, 2,    201.0, 2,     1.57, 2,     3.18, 2,     0.21, 2,     0.49, 2,    1.552, 2,    0.941, 2,    0.167, 4, -999.000, 9,   -999.0, 9,   -999.0, 9, -999.0000,   -999.00,   -999.0, 9,   -999.0,  -999.00, 9,   -999.0,  27.8604, 22.9276,  27.8704, 2, 9, 0.12, 0.04, 0.01, 0.013,  -999.00, 9, -999.00, -999.00, 9, -999.00
49NZ20071122, P14N, 155, 1, 34, X12016, 2, 20071205, 1742, -2.9850, 178.9960, 5477,    100.3, 2,  27.4249, 2,  35.6344, 2,  35.6352, 2,    192.2, 2,    195.4, 2,     1.62, 2,     3.55, 2,     0.38, 2,     0.53, 2,    1.574, 2,    0.952, 2,    0.166, 4, -999.000, 9,   -999.0, 9,   -999.0, 9, -999.0000,   -999.00,   -999.0, 9,   -999.0,  -999.00, 9,   -999.0,  27.4016, 23.0665,  27.4239, 2, 9, 0.12, 0.04, 0.00, 0.013,  -999.00, 9, -999.00, -999.00, 9, -999.00
49NZ20071122, P14N, 155, 1, 33, X12033, 2, 20071205, 1742, -2.9850, 178.9960, 5477,    149.4, 2,  26.9790, 2,  35.5903, 2,  35.5917, 2,    186.4, 2,    186.7, 2,     2.01, 2,     4.22, 2,     1.19, 2,     0.64, 2,    1.618, 6,    0.969, 6,    0.170, 4, -999.000, 9,   -999.0, 9,   -999.0, 9, -999.0000,   -999.00,   -999.0, 9,   -999.0,  -999.00, 9,   -999.0,  26.9447, 23.1802,  26.9801, 2, 9, 0.12, 0.04, 0.02, 0.013,  -999.00, 9, -999.00, -999.00, 9, -999.00
49NZ20071122, P14N, 155, 1, 32, X12038, 2, 20071205, 1742, -2.9850, 178.9960, 5477,    199.7, 2,  25.3569, 2,  35.8023, 2,  35.8128, 2,    160.9, 2,    159.6, 2,     2.07, 2,     7.19, 2,     0.28, 2,     0.76, 2,    1.750, 2,    1.039, 2,    0.144, 4, -999.000, 9,   -999.0, 9,   -999.0, 9, -999.0000,   -999.00,   -999.0, 9,   -999.0,  -999.00, 9,   -999.0,  25.3130, 23.8519,  25.3579, 2, 9, 0.12, 0.05, 0.01, 0.013,  -999.00, 9, -999.00, -999.00, 9, -999.00
49NZ20071122, P14N, 155, 1, 31, X12003, 2, 20071205, 1742, -2.9850, 178.9960, 5477,    249.9, 2,  14.8915, 2,  35.1791, 2,  35.1687, 6,     99.0, 2,     94.8, 2,    10.49, 2,    19.64, 2,     0.02, 2,     1.59, 2,    1.520, 2,    0.818, 2,    0.022, 2, -999.000, 9,   -999.0, 9,   -999.0, 9, -999.0000,   -999.00,   -999.0, 9,   -999.0,  -999.00, 9,   -999.0,  14.8537, 26.1422,  14.8931, 2, 9, 0.14, 0.09, 0.01, 0.014,  -999.00, 9, -999.00, -999.00, 9, -999.00
49NZ20071122, P14N, 155, 1, 30, X12008, 2, 20071205, 1742, -2.9850, 178.9960, 5477,    330.2, 2,  10.5140, 2,  34.7916, 2,  34.7897, 2,     86.7, 2,     88.1, 2,    21.15, 2,    28.17, 2,     0.01, 2,     2.05, 2,    0.739, 2,    0.386, 2,    0.020, 2, -999.000, 9,   -999.0, 9,   -999.0, 9, -999.0000,   -999.00,   -999.0, 9,   -999.0,  -999.00, 9,   -999.0,  10.4743, 26.7070,  10.5149, 2, 9, 0.17, 0.11, 0.01, 0.015,  -999.00, 9, -999.00, -999.00, 9, -999.00
49NZ20071122, P14N, 155, 1, 29, X12035, 2, 20071205, 1742, -2.9850, 178.9960, 5477,    429.6, 2,   9.2512, 2,  34.6911, 2,  34.6877, 2,     82.3, 2,     82.4, 2,    27.08, 2,    31.56, 2,     0.01, 2,     2.25, 2,    0.469, 2,    0.244, 2,    0.017, 2, -999.000, 9,   -999.0, 9,   -999.0, 9, -999.0000,   -999.00,   -999.0, 9,   -999.0,  -999.00, 9,   -999.0,   9.2033, 26.8435,   9.2525, 2, 9, 0.18, 0.12, 0.01, 0.016,  -999.00, 9, -999.00, -999.00, 9, -999.00
49NZ20071122, P14N, 155, 1, 28, X12034, 2, 20071205, 1742, -2.9850, 178.9960, 5477,    528.9, 2,   8.2247, 2,  34.6315, 2,  34.6292, 6,     73.3, 2,     72.3, 2,    33.22, 2,    34.83, 2,     0.01, 2,     2.46, 2,    0.254, 2,    0.134, 2,    0.015, 2, -999.000, 9,   -999.0, 9,   -999.0, 9, -999.0000,   -999.00,   -999.0, 9,   -999.0,  -999.00, 9,   -999.0,   8.1694, 26.9589,   8.2247, 2, 9, 0.19, 0.13, 0.01, 0.016,  -999.00, 9, -999.00, -999.00, 9, -999.00
49NZ20071122, P14N, 155, 1, 27, X12049, 2, 20071205, 1742, -2.9850, 178.9960, 5477,    630.2, 2,   7.1422, 2,  34.5849, 2,  34.5833, 2,     56.4, 2,     58.7, 2,    43.70, 2,    38.65, 2,     0.01, 2,     2.73, 2,    0.078, 2,    0.043, 2,    0.010, 2, -999.000, 9,   -999.0, 9,   -999.0, 9, -999.0000,   -999.00,   -999.0, 9,   -999.0,  -999.00, 9,   -999.0,   7.0811, 27.0805,   7.1439, 2, 9, 0.22, 0.14, 0.01, 0.017,  -999.00, 9, -999.00, -999.00, 9, -999.00
49NZ20071122, P14N, 155, 1, 26, X12032, 2, 20071205, 1742, -2.9850, 178.9960, 5477,    728.8, 2,   6.1532, 2,  34.5491, 2,  34.5472, 2,     80.6, 2,     81.5, 2,    51.73, 2,    38.16, 2,     0.01, 2,     2.72, 2,    0.053, 6,    0.030, 6,    0.006, 6, -999.000, 9,   -999.0, 9,   -999.0, 9, -999.0000,   -999.00,   -999.0, 9,   -999.0,  -999.00, 9,   -999.0,   6.0875, 27.1852,   6.1545, 2, 9, 0.23, 0.14, 0.01, 0.017,  -999.00, 9, -999.00, -999.00, 9, -999.00
49NZ20071122, P14N, 155, 1, 25, X12043, 2, 20071205, 1742, -2.9850, 178.9960, 5477,    830.0, 2,   5.2406, 2,  34.5354, 2,  34.5354, 2,     94.9, 2,     96.9, 2,    62.74, 2,    37.76, 2,     0.01, 2,     2.71, 2,    0.039, 2,    0.020, 2,    0.008, 2, -999.000, 9,   -999.0, 9,   -999.0, 9, -999.0000,   -999.00,   -999.0, 9,   -999.0,  -999.00, 9,   -999.0,   5.1709, 27.2870,   5.2412, 2, 9, 0.26, 0.14, 0.01, 0.017,  -999.00, 9, -999.00, -999.00, 9, -999.00
49NZ20071122, P14N, 155, 1, 24, X12030, 2, 20071205, 1742, -2.9850, 178.9960, 5477,    930.6, 2,   4.7513, 2,  34.5422, 2,  34.5426, 2,     98.5, 2,     96.0, 2,    72.87, 2,    38.25, 2,     0.01, 2,     2.75, 2,    0.015, 2,    0.008, 2,    0.010, 2, -999.000, 9,   -999.0, 9,   -999.0, 9, -999.0000,   -999.00,   -999.0, 9,   -999.0,  -999.00, 9,   -999.0,   4.6759, 27.3492,   4.7513, 2, 9, 0.28, 0.14, 0.01, 0.017,  -999.00, 9, -999.00, -999.00, 9, -999.00
49NZ20071122, P14N, 155, 1, 23, X12027, 2, 20071205, 1742, -2.9850, 178.9960, 5477,   1071.9, 2,   4.2028, 2,  34.5515, 2,  34.5516, 6,    103.1, 2,    105.2, 2,    82.25, 2,    37.86, 2,     0.01, 2,     2.73, 2,    0.012, 2,    0.006, 2,    0.004, 2, -999.000, 9,   -999.0, 9,   -999.0, 9, -999.0000,   -999.00,   -999.0, 9,   -999.0,  -999.00, 9,   -999.0,   4.1194, 27.4169,   4.2032, 2, 9, 0.30, 0.14, 0.01, 0.017,  -999.00, 9, -999.00, -999.00, 9, -999.00
49NZ20071122, P14N, 155, 1, 22, X12028, 2, 20071205, 1742, -2.9850, 178.9960, 5477,   1270.0, 2,   3.6247, 2,  34.5711, 2,  34.5717, 2,    105.0, 2,    107.4, 2,    95.30, 2,    38.17, 2,     0.00, 2,     2.75, 2,    0.002, 2,    0.001, 2,    0.000, 2, -999.000, 9,   -999.0, 9,   -999.0, 9, -999.0000,   -999.00,   -999.0, 9,   -999.0,  -999.00, 9,   -999.0,   3.5296, 27.4925,   3.6247, 2, 9, 0.33, 0.14, 0.01, 0.017,  -999.00, 9, -999.00, -999.00, 9, -999.00
49NZ20071122, P14N, 155, 1, 21, X12009, 2, 20071205, 1742, -2.9850, 178.9960, 5477,   1470.1, 2,   3.0519, 2,  34.5973, 2,  34.5974, 2,    108.9, 2,    106.8, 2,   110.17, 2,    38.53, 2,     0.01, 2,     2.78, 2,    0.000, 2,    0.000, 2,    0.000, 2, -999.000, 9,   -999.0, 9,   -999.0, 9, -999.0000,   -999.00,   -999.0, 9,   -999.0,  -999.00, 9,   -999.0,   2.9459, 27.5685,   3.0520, 2, 9, 0.36, 0.14, 0.01, 0.017,  -999.00, 9, -999.00, -999.00, 9, -999.00
49NZ20071122, P14N, 155, 1, 20, X12026, 2, 20071205, 1742, -2.9850, 178.9960, 5477,   1673.1, 2,   2.6118, 2,  34.6173, 2,  34.6178, 2,    115.3, 2,    115.0, 2,   119.25, 2,    38.14, 2,     0.01, 2,     2.74, 2,    0.000, 2,    0.000, 2,    0.000, 2, -999.000, 9,   -999.0, 9,   -999.0, 9, -999.0000,   -999.00,   -999.0, 9,   -999.0,  -999.00, 9,   -999.0,   2.4941, 27.6244,   2.6119, 2, 9, 0.38, 0.14, 0.01, 0.017,  -999.00, 9, -999.00, -999.00, 9, -999.00
49NZ20071122, P14N, 155, 1, 19, X12025, 2, 20071205, 1742, -2.9850, 178.9960, 5477,   1872.2, 2,   2.2942, 2,  34.6363, 2,  34.6362, 2,    115.1, 2,    114.4, 2,   129.79, 2,    38.35, 2,     0.00, 2,     2.75, 2,    0.000, 2,    0.000, 2,    0.000, 2, -999.000, 9,   -999.0, 9,   -999.0, 9, -999.0000,   -999.00,   -999.0, 9,   -999.0,  -999.00, 9,   -999.0,   2.1641, 27.6672,   2.2943, 2, 9, 0.40, 0.14, 0.01, 0.017,  -999.00, 9, -999.00, -999.00, 9, -999.00
49NZ20071122, P14N, 155, 1, 18, X12024, 2, 20071205, 1742, -2.9850, 178.9960, 5477,   2071.7, 2,   2.1044, 2,  34.6463, 2,  34.6468, 2,    119.6, 2,    119.2, 2,   134.00, 2,    38.08, 2,     0.00, 2,     2.72, 2, -999.000, 9, -999.000, 9, -999.000, 9, -999.000, 9,   -999.0, 9,   -999.0, 9, -999.0000,   -999.00,   -999.0, 9,   -999.0,  -999.00, 9,   -999.0,   1.9602, 27.6915,   2.1044, 2, 9, 0.41, 0.14, 0.01, 0.017,  -999.00, 9, -999.00, -999.00, 9, -999.00
49NZ20071122, P14N, 155, 1, 17, X12023, 2, 20071205, 1742, -2.9850, 178.9960, 5477,   2271.8, 2,   2.0034, 2,  34.6528, 2,  34.6529, 6,    122.1, 2,    122.1, 2,   136.35, 2,    37.92, 2,     0.01, 2,     2.71, 2, -999.000, 9, -999.000, 9, -999.000, 9, -999.000, 9,   -999.0, 9,   -999.0, 9, -999.0000,   -999.00,   -999.0, 9,   -999.0,  -999.00, 9,   -999.0,   1.8435, 27.7057,   2.0034, 2, 9, 0.42, 0.14, 0.01, 0.017,  -999.00, 9, -999.00, -999.00, 9, -999.00
49NZ20071122, P14N, 155, 1, 16, X12022, 2, 20071205, 1742, -2.9850, 178.9960, 5477,   2470.7, 2,   1.9305, 2,  34.6569, 2,  34.6569, 2,    124.4, 2,    124.8, 2,   137.88, 2,    37.80, 2,     0.01, 2,     2.70, 2,    0.000, 2,    0.000, 2,    0.000, 2, -999.000, 9,   -999.0, 9,   -999.0, 9, -999.0000,   -999.00,   -999.0, 9,   -999.0,  -999.00, 9,   -999.0,   1.7541, 27.7159,   1.9305, 2, 9, 0.42, 0.14, 0.01, 0.017,  -999.00, 9, -999.00, -999.00, 9, -999.00
49NZ20071122, P14N, 155, 1, 15, X12021, 2, 20071205, 1742, -2.9850, 178.9960, 5477,   2670.4, 2,   1.8646, 2,  34.6609, 2,  34.6619, 3,    129.7, 2,    129.3, 2,   137.98, 2,    37.46, 2,     0.01, 2,     2.67, 2, -999.000, 9, -999.000, 9, -999.000, 9, -999.000, 9,   -999.0, 9,   -999.0, 9, -999.0000,   -999.00,   -999.0, 9,   -999.0,  -999.00, 9,   -999.0,   1.6712, 27.7254,   1.8647, 2, 9, 0.42, 0.14, 0.01, 0.017,  -999.00, 9, -999.00, -999.00, 9, -999.00
49NZ20071122, P14N, 155, 1, 14, X12020, 2, 20071205, 1742, -2.9850, 178.9960, 5477,   2870.6, 2,   1.7646, 2,  34.6671, 2,  34.6671, 2,    133.7, 2,    134.9, 2,   138.72, 2,    37.11, 2,     0.01, 2,     2.64, 2, -999.000, 9, -999.000, 9, -999.000, 9, -999.000, 9,   -999.0, 9,   -999.0, 9, -999.0000,   -999.00,   -999.0, 9,   -999.0,  -999.00, 9,   -999.0,   1.5544, 27.7390,   1.7645, 2, 9, 0.42, 0.14, 0.01, 0.017,  -999.00, 9, -999.00, -999.00, 9, -999.00
49NZ20071122, P14N, 155, 1, 13, X12019, 2, 20071205, 1742, -2.9850, 178.9960, 5477,   3081.2, 2,   1.6772, 2,  34.6730, 2,  34.6728, 2,    140.3, 2,    140.4, 2,   139.13, 2,    36.78, 2,     0.00, 2,     2.61, 2,    0.000, 2,    0.000, 2,    0.000, 2, -999.000, 9,   -999.0, 9,   -999.0, 9, -999.0000,   -999.00,   -999.0, 9,   -999.0,  -999.00, 9,   -999.0,   1.4487, 27.7515,   1.6772, 2, 9, 0.43, 0.14, 0.01, 0.016,  -999.00, 9, -999.00, -999.00, 9, -999.00
49NZ20071122, P14N, 155, 1, 12, X12040, 2, 20071205, 1742, -2.9850, 178.9960, 5477,   3331.7, 2,   1.5629, 2,  34.6802, 2,  34.6799, 2,    148.7, 2,    148.9, 2,   138.22, 2,    36.15, 2,     0.00, 2,     2.55, 2, -999.000, 9, -999.000, 9, -999.000, 9, -999.000, 9,   -999.0, 9,   -999.0, 9, -999.0000,   -999.00,   -999.0, 9,   -999.0,  -999.00, 9,   -999.0,   1.3122, 27.7670,   1.5629, 2, 9, 0.42, 0.13, 0.01, 0.016,  -999.00, 9, -999.00, -999.00, 9, -999.00
49NZ20071122, P14N, 155, 1, 11, X12047, 2, 20071205, 1742, -2.9850, 178.9960, 5477,   3583.1, 2,   1.4936, 2,  34.6864, 2,  34.6859, 2,    156.5, 2,    157.2, 2,   136.05, 2,    35.59, 2,     0.00, 2,     2.51, 2, -999.000, 9, -999.000, 9, -999.000, 9, -999.000, 9,   -999.0, 9,   -999.0, 9, -999.0000,   -999.00,   -999.0, 9,   -999.0,  -999.00, 9,   -999.0,   1.2191, 27.7785,   1.4936, 2, 9, 0.42, 0.13, 0.01, 0.016,  -999.00, 9, -999.00, -999.00, 9, -999.00
49NZ20071122, P14N, 155, 1, 10, X12012, 2, 20071205, 1742, -2.9850, 178.9960, 5477,   3830.6, 2,   1.4279, 2,  34.6912, 2,  34.6911, 2,    163.3, 2,    163.4, 2,   135.07, 2,    35.18, 2,     0.00, 2,     2.48, 2,    0.000, 2,    0.000, 2,    0.003, 2, -999.000, 9,   -999.0, 9,   -999.0, 9, -999.0000,   -999.00,   -999.0, 9,   -999.0,  -999.00, 9,   -999.0,   1.1292, 27.7885,   1.4280, 2, 9, 0.42, 0.13, 0.01, 0.016,  -999.00, 9, -999.00, -999.00, 9, -999.00
49NZ20071122, P14N, 155, 1, 9, X12015, 2, 20071205, 1742, -2.9850, 178.9960, 5477,   4081.2, 2,   1.3720, 2,  34.6955, 2,  34.6955, 6,    170.4, 2,    170.9, 2,   132.24, 2,    34.77, 2,     0.00, 2,     2.44, 2,    0.000, 2,    0.000, 2,    0.000, 2, -999.000, 9,   -999.0, 9,   -999.0, 9, -999.0000,   -999.00,   -999.0, 9,   -999.0,  -999.00, 9,   -999.0,   1.0478, 27.7975,   1.3720, 2, 9, 0.41, 0.13, 0.01, 0.016,  -999.00, 9, -999.00, -999.00, 9, -999.00
49NZ20071122, P14N, 155, 1, 8, X12046, 2, 20071205, 1742, -2.9850, 178.9960, 5477,   4330.9, 2,   1.3268, 2,  34.6990, 2,  34.6988, 2,    177.3, 2,    177.9, 2,   129.12, 2,    34.19, 2,     0.00, 2,     2.40, 2,    0.000, 2,    0.000, 2,    0.000, 2, -999.000, 9,   -999.0, 9,   -999.0, 9, -999.0000,   -999.00,   -999.0, 9,   -999.0,  -999.00, 9,   -999.0,   0.9763, 27.8051,   1.3268, 2, 9, 0.40, 0.13, 0.01, 0.016,  -999.00, 9, -999.00, -999.00, 9, -999.00
49NZ20071122, P14N, 155, 1, 7, X12044, 2, 20071205, 1742, -2.9850, 178.9960, 5477,   4581.6, 2,   1.2846, 2,  34.7024, 2,  34.7021, 2,    186.1, 2,    186.1, 2,   124.44, 2,    33.49, 2,     0.00, 2,     2.36, 2,    0.002, 2,    0.001, 2,    0.000, 2, -999.000, 9,   -999.0, 9,   -999.0, 9, -999.0000,   -999.00,   -999.0, 9,   -999.0,  -999.00, 9,   -999.0,   0.9069, 27.8123,   1.2846, 2, 9, 0.39, 0.13, 0.01, 0.016,  -999.00, 9, -999.00, -999.00, 9, -999.00
49NZ20071122, P14N, 155, 1, 6, X12048, 2, 20071205, 1742, -2.9850, 178.9960, 5477,   4830.7, 2,   1.2361, 2,  34.7056, 2,  34.7053, 2,    193.5, 2,    193.7, 2,   120.74, 2,    33.02, 2,     0.00, 2,     2.33, 2,    0.006, 2,    0.004, 2,    0.000, 2, -999.000, 9,   -999.0, 9,   -999.0, 9, -999.0000,   -999.00,   -999.0, 9,   -999.0,  -999.00, 9,   -999.0,   0.8309, 27.8199,   1.2361, 2, 9, 0.38, 0.13, 0.01, 0.016,  -999.00, 9, -999.00, -999.00, 9, -999.00
49NZ20071122, P14N, 155, 1, 5, X12014, 2, 20071205, 1742, -2.9850, 178.9960, 5477,   5078.9, 2,   1.2516, 2,  34.7060, 2,  34.7057, 2,    195.0, 2,    195.1, 2,   120.29, 2,    32.87, 2,     0.00, 2,     2.31, 2,    0.005, 2,    0.006, 2,    0.000, 2, -999.000, 9,   -999.0, 9,   -999.0, 9, -999.0000,   -999.00,   -999.0, 9,   -999.0,  -999.00, 9,   -999.0,   0.8161, 27.8211,   1.2516, 2, 9, 0.38, 0.12, 0.01, 0.016,  -999.00, 9, -999.00, -999.00, 9, -999.00
49NZ20071122, P14N, 155, 1, 4, X12006, 2, 20071205, 1742, -2.9850, 178.9960, 5477,   5329.5, 2,   1.2765, 2,  34.7062, 2,  34.7062, 2,    195.5, 2,    195.6, 2,   120.23, 2,    32.82, 2,     0.00, 2,     2.31, 2,    0.005, 2,    0.004, 2,    0.000, 2, -999.000, 9,   -999.0, 9,   -999.0, 9, -999.0000,   -999.00,   -999.0, 9,   -999.0,  -999.00, 9,   -999.0,   0.8094, 27.8217,   1.2766, 2, 9, 0.38, 0.12, 0.01, 0.016,  -999.00, 9, -999.00, -999.00, 9, -999.00
49NZ20071122, P14N, 155, 1, 3, X12013, 9, 20071205, 1742, -2.9850, 178.9960, 5477,      8.9, 2,  27.8649, 2,  35.6427, 2, -999.0000, 9,    202.4, 2,   -999.0, 9,  -999.00, 9,  -999.00, 9,  -999.00, 9,  -999.00, 9, -999.000, 9, -999.000, 9, -999.000, 9, -999.000, 9,   -999.0, 9,   -999.0, 9, -999.0000,   -999.00,   -999.0, 9,   -999.0,  -999.00, 9,   -999.0,  27.8628, 22.9229,  27.8653, 2, 9, -999.00, -999.00, -999.00, -999.000,  -999.00, 9, -999.00, -999.00, 9, -999.00
49NZ20071122, P14N, 155, 1, 2, X12002, 9, 20071205, 1742, -2.9850, 178.9960, 5477,     50.3, 2,  27.8758, 2,  35.6477, 2, -999.0000, 9,    200.4, 2,   -999.0, 9,  -999.00, 9,  -999.00, 9,  -999.00, 9,  -999.00, 9, -999.000, 9, -999.000, 9, -999.000, 9, -999.000, 9,   -999.0, 9,   -999.0, 9, -999.0000,   -999.00,   -999.0, 9,   -999.0,  -999.00, 9,   -999.0,  27.8640, 22.9263,  27.8758, 2, 9, -999.00, -999.00, -999.00, -999.000,  -999.00, 9, -999.00, -999.00, 9, -999.00
49NZ20071122, P14N, 155, 1, 1, X12001, 2, 20071205, 1742, -2.9850, 178.9960, 5477,   5549.3, 2,   1.3053, 2,  34.7061, 2,  34.7062, 6,    195.7, 2,    195.4, 2,   120.22, 2,    32.87, 2,     0.00, 2,     2.31, 2,    0.006, 2,    0.004, 2,    0.000, 2, -999.000, 9,   -999.0, 9,   -999.0, 9, -999.0000,   -999.00,   -999.0, 9,   -999.0,  -999.00, 9,   -999.0,   0.8095, 27.8216,   1.3053, 2, 9, 0.38, 0.12, 0.01, 0.016,  -999.00, 9, -999.00, -999.00, 9, -999.00