BOTTLE,20220820CCHSIOAMB
EXPOCODE,SECT_ID,STNNBR,CASTNO,SAMPNO,BTLNBR,BTLNBR_FLAG_W,DATE,TIME,LATITUDE,LONGITUDE,DEPTH,CTDPRS,CTDPRS_FLAG_W,CTDTMP,CTDTMP_FLAG_W,CTDSAL,CTDSAL_FLAG_W,SALNTY,SALNTY_FLAG_W,CTDOXY,CTDOXY_FLAG_W,OXYGEN,OXYGEN_FLAG_W,SILCAT,SILCAT_FLAG_W,NITRAT,NITRAT_FLAG_W,NITRIT,NITRIT_FLAG_W,PHSPHT,PHSPHT_FLAG_W,CFC-11,CFC-11_FLAG_W,CFC-12,CFC-12_FLAG_W,CFC113,CFC113_FLAG_W,CCL4,CCL4_FLAG_W,TCARBN,TCARBN_FLAG_W,ALKALI,ALKALI_FLAG_W,PH_TOT,PH_TMP,DELC14,DELC14_FLAG_W,C14ERR,DELC13,DELC13_FLAG_W,C13ERR,THETA,SIG0,SBE35,SBE35_FLAG_W,PH_TOT_FLAG_W,SILUNC,NRAUNC,NRIUNC,PHPUNC,CS-137,CS-137_FLAG_W,CS137ER,PLUTO,PLUTO_FLAG_W,PLUTOER
,,,,,,,,,,,METERS,DBAR,,ITS-90,,PSS-78,,PSS-78,,UMOL/KG,,UMOL/KG,,UMOL/KG,,UMOL/KG,,UMOL/KG,,UMOL/KG,,PMOL/KG,,PMOL/KG,,PMOL/KG,,PMOL/KG,,UMOL/KG,,UMOL/KG,,,DEG C,/MILLE,,/MILLE,/MILLE,,/MILLE,DEG C,KG/M^3,ITS-90,,,UMOL/KG,UMOL/KG,UMOL/KG,UMOL/KG,DM/.1MG,,BQ/M^3,MBQ/M^3,,MBQ/M^3
49NZ20071122, P14N, 180, 1, 36, X12042, 2, 20071211, 1308, -13.4933, 179.0045, 3148,     10.3, 2,  29.2859, 2,  34.7461, 2,  34.7418, 2,    196.6, 2,    194.2, 2,     0.66, 2,     0.07, 2,     0.01, 2,     0.17, 2,    1.438, 2,    0.892, 2,    0.206, 4, -999.000, 9,   1928.9, 2,   2286.5, 2,    8.1467,     25.00,   -999.0, 1,   -999.0,  -999.00, 1,   -999.0,  29.2834, 21.7785,  29.2861, 2, 6, 0.12, 0.03, 0.01, 0.017,  -999.00, 9, -999.00, -999.00, 9, -999.00
49NZ20071122, P14N, 180, 1, 35, X12041, 2, 20071211, 1308, -13.4933, 179.0045, 3148,     50.9, 2,  29.0720, 2,  34.7723, 2,  34.7784, 2,    196.7, 2,    195.2, 2,     0.61, 2,     0.06, 2,     0.01, 2,     0.16, 2,    1.445, 2,    0.906, 2,    0.247, 4, -999.000, 9,   1930.6, 6,   2289.6, 2,    8.1476,     25.00,   -999.0, 1,   -999.0,  -999.00, 1,   -999.0,  29.0597, 21.8732,  29.0706, 2, 2, 0.12, 0.03, 0.01, 0.017,  -999.00, 9, -999.00, -999.00, 9, -999.00
49NZ20071122, P14N, 180, 1, 34, X12016, 2, 20071211, 1308, -13.4933, 179.0045, 3148,     99.8, 2,  28.7151, 2,  35.4475, 2,  35.4680, 2,    193.9, 2,    194.6, 2,     0.72, 2,     0.05, 2,     0.00, 2,     0.20, 2,    1.501, 2,    0.939, 2,    0.556, 4, -999.000, 9,   1978.1, 2,   2335.5, 6,    8.1322,     25.00,   -999.0, 1,   -999.0,  -999.00, 1,   -999.0,  28.6911, 22.5032,  28.7191, 2, 2, 0.12, 0.03, 0.01, 0.016,  -999.00, 9, -999.00, -999.00, 9, -999.00
49NZ20071122, P14N, 180, 1, 33, X12033, 2, 20071211, 1308, -13.4933, 179.0045, 3148,    150.3, 2,  25.1883, 2,  36.2437, 2,  36.2425, 2,    154.6, 2,    155.8, 2,     0.91, 2,     2.92, 2,     0.05, 2,     0.50, 2,    1.780, 6,    1.084, 6,    0.177, 4, -999.000, 9,   2086.5, 2,   2385.1, 2,    8.0186,     25.00,   -999.0, 1,   -999.0,  -999.00, 1,   -999.0,  25.1554, 24.2339,  25.1857, 2, 6, 0.12, 0.04, 0.01, 0.013,  -999.00, 9, -999.00, -999.00, 9, -999.00
49NZ20071122, P14N, 180, 1, 32, X12038, 2, 20071211, 1308, -13.4933, 179.0045, 3148,    200.4, 2,  22.5273, 2,  36.0500, 2,  36.0423, 2,    149.6, 2,    149.6, 2,     1.18, 2,     5.60, 2,     0.01, 2,     0.65, 2,    1.970, 2,    1.156, 2,    0.080, 2, -999.000, 9,   2107.6, 2,   2372.7, 2,    7.9627,     25.00,   -999.0, 1,   -999.0,  -999.00, 1,   -999.0,  22.4868, 24.8778,  22.5277, 2, 2, 0.12, 0.05, 0.01, 0.013,  -999.00, 9, -999.00, -999.00, 9, -999.00
49NZ20071122, P14N, 180, 1, 31, X12003, 2, 20071211, 1308, -13.4933, 179.0045, 3148,    249.3, 2,  19.3984, 2,  35.6625, 2,  35.6402, 6,    155.9, 2,    146.2, 2,     2.44, 2,     8.41, 2,     0.01, 2,     0.83, 2,    2.071, 2,    1.175, 2,    0.046, 2, -999.000, 9,   2121.4, 2,   2347.1, 2,    7.9012,     25.00,   -999.0, 1,   -999.0,  -999.00, 1,   -999.0,  19.3531, 25.4367,  19.4033, 2, 2, 0.12, 0.06, 0.01, 0.013,  -999.00, 9, -999.00, -999.00, 9, -999.00
49NZ20071122, P14N, 180, 1, 30, X12008, 2, 20071211, 1308, -13.4933, 179.0045, 3148,    280.8, 2,  17.3319, 2,  35.4018, 2,  35.3963, 2,    162.2, 2,    162.7, 2,     2.51, 2,     8.21, 2,     0.01, 2,     0.75, 2,    2.150, 2,    1.198, 2,    0.032, 2, -999.000, 9,   2109.4, 3,   2328.8, 2,    7.8970,     25.00,   -999.0, 1,   -999.0,  -999.00, 1,   -999.0,  17.2847, 25.7545,  17.3325, 2, 2, 0.12, 0.06, 0.01, 0.013,  -999.00, 9, -999.00, -999.00, 9, -999.00
49NZ20071122, P14N, 180, 1, 29, X12035, 2, 20071211, 1308, -13.4933, 179.0045, 3148,    370.6, 2,  11.8923, 2,  34.8263, 2,  34.8125, 2,    141.5, 2,    147.5, 2,     9.63, 2,    18.64, 2,     0.00, 2,     1.46, 2,    1.533, 2,    0.797, 2,    0.030, 2, -999.000, 9,   2153.7, 2,   2301.3, 2,    7.7445,     25.00,   -999.0, 1,   -999.0,  -999.00, 1,   -999.0,  11.8440, 26.4839,  11.8769, 2, 2, 0.14, 0.08, 0.01, 0.014,  -999.00, 9, -999.00, -999.00, 9, -999.00
49NZ20071122, P14N, 180, 1, 28, X12034, 2, 20071211, 1308, -13.4933, 179.0045, 3148,    470.4, 2,   8.1488, 2,  34.5689, 2,  34.5673, 6,    144.7, 2,    143.8, 2,    21.65, 2,    27.42, 2,     0.00, 2,     1.98, 2,    0.656, 2,    0.336, 2,    0.015, 2, -999.000, 9,   2192.8, 2,   2299.7, 2,    7.6488,     25.00,   -999.0, 1,   -999.0,  -999.00, 1,   -999.0,   8.1001, 26.9202,   8.1485, 2, 2, 0.17, 0.11, 0.01, 0.015,  -999.00, 9, -999.00, -999.00, 9, -999.00
49NZ20071122, P14N, 180, 1, 27, X12049, 2, 20071211, 1308, -13.4933, 179.0045, 3148,    571.7, 2,   6.5696, 2,  34.4912, 2,  34.4909, 2,    154.6, 2,    152.5, 2,    30.23, 2,    30.39, 2,     0.00, 2,     2.13, 2,    0.389, 2,    0.201, 2,    0.013, 2, -999.000, 9,   2204.2, 2,   2305.8, 2,    7.6287,     25.00,   -999.0, 1,   -999.0,  -999.00, 1,   -999.0,   6.5169, 27.0834,   6.5704, 2, 2, 0.19, 0.12, 0.01, 0.015,  -999.00, 9, -999.00, -999.00, 9, -999.00
49NZ20071122, P14N, 180, 1, 26, X12032, 2, 20071211, 1308, -13.4933, 179.0045, 3148,    671.0, 2,   5.7828, 2,  34.4776, 2,  34.4762, 2,    149.9, 2,    149.0, 2,    39.30, 2,    32.20, 2,     0.00, 2,     2.26, 2,    0.222, 6,    0.116, 6,    0.012, 6, -999.000, 9,   2219.5, 6,   2312.9, 2,    7.6087,     25.00,   -999.0, 1,   -999.0,  -999.00, 1,   -999.0,   5.7245, 27.1744,   5.7830, 2, 2, 0.21, 0.12, 0.01, 0.016,  -999.00, 9, -999.00, -999.00, 9, -999.00
49NZ20071122, P14N, 180, 1, 25, X12043, 2, 20071211, 1308, -13.4933, 179.0045, 3148,    771.5, 2,   5.1758, 2,  34.4741, 2,  34.4740, 2,    149.9, 2,    149.6, 2,    46.79, 2,    33.17, 2,     0.00, 2,     2.33, 2,    0.150, 2,    0.078, 2,    0.004, 2, -999.000, 9,   2227.4, 2,   2319.5, 6,    7.6013,     25.00,   -999.0, 1,   -999.0,  -999.00, 1,   -999.0,   5.1118, 27.2453,   5.1756, 2, 2, 0.22, 0.13, 0.01, 0.016,  -999.00, 9, -999.00, -999.00, 9, -999.00
49NZ20071122, P14N, 180, 1, 24, X12030, 2, 20071211, 1308, -13.4933, 179.0045, 3148,    871.3, 2,   4.6480, 2,  34.4838, 2,  34.4841, 2,    149.2, 2,    148.4, 2,    55.79, 2,    33.92, 2,     0.00, 2,     2.38, 2,    0.088, 2,    0.048, 2,    0.000, 2, -999.000, 9,   2241.8, 2,   2329.9, 2,    7.5935,     25.00,   -999.0, 1,   -999.0,  -999.00, 1,   -999.0,   4.5786, 27.3136,   4.6487, 2, 6, 0.24, 0.13, 0.01, 0.016,  -999.00, 9, -999.00, -999.00, 9, -999.00
49NZ20071122, P14N, 180, 1, 23, X12027, 2, 20071211, 1308, -13.4933, 179.0045, 3148,    970.4, 2,   4.2395, 2,  34.5036, 2,  34.5050, 6,    143.4, 2,    142.7, 2,    65.36, 2,    34.91, 2,     0.00, 2,     2.46, 2,    0.042, 2,    0.021, 2,    0.003, 2, -999.000, 9,   2254.1, 2,   2340.5, 2,    7.5827,     25.00,   -999.0, 1,   -999.0,  -999.00, 1,   -999.0,   4.1645, 27.3740,   4.2397, 2, 2, 0.26, 0.13, 0.01, 0.016,  -999.00, 9, -999.00, -999.00, 9, -999.00
49NZ20071122, P14N, 180, 1, 22, X12028, 2, 20071211, 1308, -13.4933, 179.0045, 3148,   1130.2, 2,   3.6949, 2,  34.5279, 2,  34.5286, 2,    142.1, 2,    142.2, 2,    76.80, 2,    35.47, 2,     0.00, 2,     2.50, 2,    0.015, 2,    0.010, 2,    0.000, 2, -999.000, 9,   2268.1, 2,   2351.8, 2,    7.5765,     25.00,   -999.0, 1,   -999.0,  -999.00, 1,   -999.0,   3.6109, 27.4501,   3.6951, 2, 2, 0.29, 0.13, 0.01, 0.016,  -999.00, 9, -999.00, -999.00, 9, -999.00
49NZ20071122, P14N, 180, 1, 21, X12009, 2, 20071211, 1308, -13.4933, 179.0045, 3148,   1330.7, 2,   3.1529, 2,  34.5601, 2,  34.5611, 2,    142.1, 2,    142.2, 2,    89.70, 2,    35.88, 2,     0.00, 2,     2.53, 2,    0.003, 2,    0.002, 2,    0.000, 2, -999.000, 9,   2280.5, 2,   2366.3, 2,    7.5766,     25.00,   -999.0, 1,   -999.0,  -999.00, 1,   -999.0,   3.0574, 27.5286,   3.1531, 2, 2, 0.32, 0.13, 0.01, 0.016,  -999.00, 9, -999.00, -999.00, 9, -999.00
49NZ20071122, P14N, 180, 1, 20, X12026, 2, 20071211, 1308, -13.4933, 179.0045, 3148,   1531.2, 2,   2.7892, 2,  34.5874, 2,  34.5869, 2,    142.0, 2,    142.1, 2,    99.44, 2,    36.00, 2,     0.00, 2,     2.54, 2,    0.000, 2,    0.003, 2,    0.000, 2, -999.000, 9,   2294.6, 2,   2377.4, 2,    7.5767,     25.00,   -999.0, 1,   -999.0,  -999.00, 1,   -999.0,   2.6812, 27.5843,   2.7892, 2, 6, 0.34, 0.13, 0.01, 0.016,  -999.00, 9, -999.00, -999.00, 9, -999.00
49NZ20071122, P14N, 180, 1, 19, X12025, 2, 20071211, 1308, -13.4933, 179.0045, 3148,   1730.9, 2,   2.5482, 2,  34.6057, 2,  34.6057, 2,    142.8, 2,    142.9, 2,   106.24, 2,    36.20, 2,     0.00, 2,     2.55, 2,    0.000, 2,    0.000, 2,    0.000, 2, -999.000, 9,   2299.5, 2,   2384.6, 2,    7.5780,     25.00,   -999.0, 1,   -999.0,  -999.00, 1,   -999.0,   2.4266, 27.6209,   2.5477, 2, 2, 0.35, 0.13, 0.01, 0.016,  -999.00, 9, -999.00, -999.00, 9, -999.00
49NZ20071122, P14N, 180, 1, 18, X12024, 2, 20071211, 1308, -13.4933, 179.0045, 3148,   1930.0, 2,   2.3543, 2,  34.6218, 2,  34.6214, 2,    143.7, 2,    143.4, 2,   112.21, 2,    36.10, 2,     0.00, 2,     2.55, 2,    0.000, 2,    0.000, 2,    0.000, 2, -999.000, 9,   2305.9, 2,   2391.4, 2,    7.5809,     25.00,   -999.0, 1,   -999.0,  -999.00, 1,   -999.0,   2.2185, 27.6511,   2.3542, 2, 2, 0.37, 0.13, 0.01, 0.016,  -999.00, 9, -999.00, -999.00, 9, -999.00
49NZ20071122, P14N, 180, 1, 17, X12023, 2, 20071211, 1308, -13.4933, 179.0045, 3148,   2132.1, 2,   2.1806, 2,  34.6359, 2,  34.6356, 6,    144.3, 2,    144.2, 2,   117.68, 2,    36.14, 2,     0.00, 2,     2.55, 2,    0.000, 2,    0.000, 2,    0.000, 2, -999.000, 9,   2310.5, 2,   2396.8, 2,    7.5825,     25.00,   -999.0, 1,   -999.0,  -999.00, 1,   -999.0,   2.0300, 27.6776,   2.1806, 2, 2, 0.38, 0.13, 0.01, 0.016,  -999.00, 9, -999.00, -999.00, 9, -999.00
49NZ20071122, P14N, 180, 1, 16, X12022, 2, 20071211, 1308, -13.4933, 179.0045, 3148,   2330.0, 2,   2.0359, 2,  34.6467, 2,  34.6466, 2,    145.0, 2,    144.9, 2,   122.16, 2,    36.24, 2,     0.00, 2,     2.55, 2,    0.000, 2,    0.000, 2,    0.005, 2, -999.000, 9,   2313.2, 6,   2401.5, 2,    7.5838,     25.00,   -999.0, 1,   -999.0,  -999.00, 1,   -999.0,   1.8703, 27.6988,   2.0359, 2, 2, 0.39, 0.13, 0.01, 0.016,  -999.00, 9, -999.00, -999.00, 9, -999.00
49NZ20071122, P14N, 180, 1, 15, X12021, 2, 20071211, 1308, -13.4933, 179.0045, 3148,   2529.5, 2,   1.8985, 2,  34.6568, 2,  34.6571, 2,    146.6, 2,    146.7, 2,   126.24, 2,    36.06, 2,     0.00, 2,     2.54, 2,    0.000, 2,    0.000, 2,    0.000, 2, -999.000, 9,   2314.5, 2,   2405.6, 6,    7.5852,     25.00,   -999.0, 1,   -999.0,  -999.00, 1,   -999.0,   1.7174, 27.7186,   1.8987, 2, 2, 0.40, 0.13, 0.01, 0.016,  -999.00, 9, -999.00, -999.00, 9, -999.00
49NZ20071122, P14N, 180, 1, 14, X12020, 2, 20071211, 1308, -13.4933, 179.0045, 3148,   2730.0, 2,   1.7769, 2,  34.6651, 2,  34.6651, 2,    148.4, 2,    148.1, 2,   129.32, 2,    36.22, 2,     0.00, 2,     2.53, 2,    0.000, 2,    0.000, 2,    0.000, 2, -999.000, 9,   2318.4, 2,   2408.3, 2,    7.5877,     25.00,   -999.0, 1,   -999.0,  -999.00, 1,   -999.0,   1.5797, 27.7356,   1.7768, 2, 2, 0.40, 0.13, 0.01, 0.016,  -999.00, 9, -999.00, -999.00, 9, -999.00
49NZ20071122, P14N, 180, 1, 13, X12019, 2, 20071211, 1308, -13.4933, 179.0045, 3148,   2931.5, 2,   1.7501, 2,  34.6679, 2,  34.6679, 6,    149.1, 2,    149.0, 2,   130.44, 2,    36.09, 2,     0.00, 2,     2.53, 2,    0.000, 2,    0.000, 2,    0.000, 2, -999.000, 9,   2318.9, 2,   2408.9, 2,    7.5887,     25.00,   -999.0, 1,   -999.0,  -999.00, 1,   -999.0,   1.5344, 27.7411,   1.7499, 2, 2, 0.41, 0.13, 0.01, 0.016,  -999.00, 9, -999.00, -999.00, 9, -999.00
49NZ20071122, P14N, 180, 1, 12, X12040, 9, 20071211, 1308, -13.4933, 179.0045, 3148,     10.5, 2,  29.2984, 2,  34.7367, 2, -999.0000, 9,    196.4, 2,   -999.0, 9,  -999.00, 9,  -999.00, 9,  -999.00, 9,  -999.00, 9, -999.000, 9, -999.000, 9, -999.000, 9, -999.000, 9,   -999.0, 9,   -999.0, 9, -999.0000,   -999.00,   -999.0, 9,   -999.0,  -999.00, 9,   -999.0,  29.2958, 21.7673,  29.3001, 2, 9, -999.00, -999.00, -999.00, -999.000,  -999.00, 9, -999.00, -999.00, 9, -999.00
49NZ20071122, P14N, 180, 1, 11, X12047, 9, 20071211, 1308, -13.4933, 179.0045, 3148,     50.9, 2,  29.0718, 2,  34.7718, 2, -999.0000, 9,    196.7, 2,   -999.0, 9,  -999.00, 9,  -999.00, 9,  -999.00, 9,  -999.00, 9, -999.000, 9, -999.000, 9, -999.000, 9, -999.000, 9,   -999.0, 9,   -999.0, 9, -999.0000,   -999.00,   -999.0, 9,   -999.0,  -999.00, 9,   -999.0,  29.0595, 21.8729,  29.0705, 2, 9, -999.00, -999.00, -999.00, -999.000,  -999.00, 9, -999.00, -999.00, 9, -999.00
49NZ20071122, P14N, 180, 1, 10, X12012, 9, 20071211, 1308, -13.4933, 179.0045, 3148,     99.6, 2,  28.6892, 2,  35.4528, 2, -999.0000, 9,    194.1, 2,   -999.0, 9,  -999.00, 9,  -999.00, 9,  -999.00, 9,  -999.00, 9, -999.000, 9, -999.000, 9, -999.000, 9, -999.000, 9,   -999.0, 9,   -999.0, 9, -999.0000,   -999.00,   -999.0, 9,   -999.0,  -999.00, 9,   -999.0,  28.6653, 22.5158,  28.6800, 2, 9, -999.00, -999.00, -999.00, -999.000,  -999.00, 9, -999.00, -999.00, 9, -999.00
49NZ20071122, P14N, 180, 1, 9, X12015, 9, 20071211, 1308, -13.4933, 179.0045, 3148,    151.1, 2,  25.1668, 2,  36.2429, 2, -999.0000, 9,    154.6, 2,   -999.0, 9,  -999.00, 9,  -999.00, 9,  -999.00, 9,  -999.00, 9, -999.000, 9, -999.000, 9, -999.000, 9, -999.000, 9,   -999.0, 9,   -999.0, 9, -999.0000,   -999.00,   -999.0, 9,   -999.0,  -999.00, 9,   -999.0,  25.1337, 24.2399,  25.1675, 2, 9, -999.00, -999.00, -999.00, -999.000,  -999.00, 9, -999.00, -999.00, 9, -999.00
49NZ20071122, P14N, 180, 1, 8, X12046, 9, 20071211, 1308, -13.4933, 179.0045, 3148,    200.1, 2,  22.5320, 2,  36.0490, 2, -999.0000, 9,    149.6, 2,   -999.0, 9,  -999.00, 9,  -999.00, 9,  -999.00, 9,  -999.00, 9, -999.000, 9, -999.000, 9, -999.000, 9, -999.000, 9,   -999.0, 9,   -999.0, 9, -999.0000,   -999.00,   -999.0, 9,   -999.0,  -999.00, 9,   -999.0,  22.4915, 24.8757,  22.5318, 2, 9, -999.00, -999.00, -999.00, -999.000,  -999.00, 9, -999.00, -999.00, 9, -999.00
49NZ20071122, P14N, 180, 1, 7, X12044, 9, 20071211, 1308, -13.4933, 179.0045, 3148,    249.6, 2,  19.3567, 2,  35.6560, 2, -999.0000, 9,    155.9, 2,   -999.0, 9,  -999.00, 9,  -999.00, 9,  -999.00, 9,  -999.00, 9, -999.000, 9, -999.000, 9, -999.000, 9, -999.000, 9,   -999.0, 9,   -999.0, 9, -999.0000,   -999.00,   -999.0, 9,   -999.0,  -999.00, 9,   -999.0,  19.3114, 25.4425,  19.3534, 2, 9, -999.00, -999.00, -999.00, -999.000,  -999.00, 9, -999.00, -999.00, 9, -999.00
49NZ20071122, P14N, 180, 1, 6, X12048, 9, 20071211, 1308, -13.4933, 179.0045, 3148,    280.3, 2,  17.3463, 2,  35.4028, 2, -999.0000, 9,    162.1, 2,   -999.0, 9,  -999.00, 9,  -999.00, 9,  -999.00, 9,  -999.00, 9, -999.000, 9, -999.000, 9, -999.000, 9, -999.000, 9,   -999.0, 9,   -999.0, 9, -999.0000,   -999.00,   -999.0, 9,   -999.0,  -999.00, 9,   -999.0,  17.2992, 25.7517,  17.3426, 2, 9, -999.00, -999.00, -999.00, -999.000,  -999.00, 9, -999.00, -999.00, 9, -999.00
49NZ20071122, P14N, 180, 1, 5, X12014, 9, 20071211, 1308, -13.4933, 179.0045, 3148,    370.3, 2,  11.8900, 2,  34.8247, 2, -999.0000, 9,    141.6, 2,   -999.0, 9,  -999.00, 9,  -999.00, 9,  -999.00, 9,  -999.00, 9, -999.000, 9, -999.000, 9, -999.000, 9, -999.000, 9,   -999.0, 9,   -999.0, 9, -999.0000,   -999.00,   -999.0, 9,   -999.0,  -999.00, 9,   -999.0,  11.8417, 26.4831,  11.9046, 2, 9, -999.00, -999.00, -999.00, -999.000,  -999.00, 9, -999.00, -999.00, 9, -999.00
49NZ20071122, P14N, 180, 1, 4, X12006, 9, 20071211, 1308, -13.4933, 179.0045, 3148,    470.5, 2,   8.1505, 2,  34.5686, 2, -999.0000, 9,    144.7, 2,   -999.0, 9,  -999.00, 9,  -999.00, 9,  -999.00, 9,  -999.00, 9, -999.000, 9, -999.000, 9, -999.000, 9, -999.000, 9,   -999.0, 9,   -999.0, 9, -999.0000,   -999.00,   -999.0, 9,   -999.0,  -999.00, 9,   -999.0,   8.1018, 26.9197,   8.1497, 2, 9, -999.00, -999.00, -999.00, -999.000,  -999.00, 9, -999.00, -999.00, 9, -999.00
49NZ20071122, P14N, 180, 1, 3, X12013, 9, 20071211, 1308, -13.4933, 179.0045, 3148,    571.1, 2,   6.5777, 2,  34.4916, 2, -999.0000, 9,    154.8, 2,   -999.0, 9,  -999.00, 9,  -999.00, 9,  -999.00, 9,  -999.00, 9, -999.000, 9, -999.000, 9, -999.000, 9, -999.000, 9,   -999.0, 9,   -999.0, 9, -999.0000,   -999.00,   -999.0, 9,   -999.0,  -999.00, 9,   -999.0,   6.5250, 27.0827,   6.5788, 2, 9, -999.00, -999.00, -999.00, -999.000,  -999.00, 9, -999.00, -999.00, 9, -999.00
49NZ20071122, P14N, 180, 1, 2, X12002, 9, 20071211, 1308, -13.4933, 179.0045, 3148,    670.7, 2,   5.7810, 2,  34.4774, 2, -999.0000, 9,    150.0, 2,   -999.0, 9,  -999.00, 9,  -999.00, 9,  -999.00, 9,  -999.00, 9, -999.000, 9, -999.000, 9, -999.000, 9, -999.000, 9,   -999.0, 9,   -999.0, 9, -999.0000,   -999.00,   -999.0, 9,   -999.0,  -999.00, 9,   -999.0,   5.7227, 27.1744,   5.7817, 2, 9, -999.00, -999.00, -999.00, -999.000,  -999.00, 9, -999.00, -999.00, 9, -999.00
49NZ20071122, P14N, 180, 1, 1, X12001, 2, 20071211, 1308, -13.4933, 179.0045, 3148,   3087.3, 2,   1.7475, 2,  34.6689, 2,  34.6688, 6,    149.2, 2,    149.1, 2,   130.61, 2,    36.01, 2,     0.01, 2,     2.54, 2,    0.000, 2,    0.000, 2,    0.000, 2, -999.000, 9,   -999.0, 5,   2409.1, 2,    7.5891,     25.00,   -999.0, 1,   -999.0,  -999.00, 1,   -999.0,   1.5168, 27.7432,   1.7475, 2, 2, 0.41, 0.13, 0.01, 0.016,  -999.00, 9, -999.00, -999.00, 9, -999.00