BOTTLE,20220820CCHSIOAMB
EXPOCODE,SECT_ID,STNNBR,CASTNO,SAMPNO,BTLNBR,BTLNBR_FLAG_W,DATE,TIME,LATITUDE,LONGITUDE,DEPTH,CTDPRS,CTDPRS_FLAG_W,CTDTMP,CTDTMP_FLAG_W,CTDSAL,CTDSAL_FLAG_W,SALNTY,SALNTY_FLAG_W,CTDOXY,CTDOXY_FLAG_W,OXYGEN,OXYGEN_FLAG_W,SILCAT,SILCAT_FLAG_W,NITRAT,NITRAT_FLAG_W,NITRIT,NITRIT_FLAG_W,PHSPHT,PHSPHT_FLAG_W,CFC-11,CFC-11_FLAG_W,CFC-12,CFC-12_FLAG_W,CFC113,CFC113_FLAG_W,CCL4,CCL4_FLAG_W,TCARBN,TCARBN_FLAG_W,ALKALI,ALKALI_FLAG_W,PH_TOT,PH_TMP,DELC14,DELC14_FLAG_W,C14ERR,DELC13,DELC13_FLAG_W,C13ERR,THETA,SIG0,SBE35,SBE35_FLAG_W,PH_TOT_FLAG_W,SILUNC,NRAUNC,NRIUNC,PHPUNC,CS-137,CS-137_FLAG_W,CS137ER,PLUTO,PLUTO_FLAG_W,PLUTOER
,,,,,,,,,,,METERS,DBAR,,ITS-90,,PSS-78,,PSS-78,,UMOL/KG,,UMOL/KG,,UMOL/KG,,UMOL/KG,,UMOL/KG,,UMOL/KG,,PMOL/KG,,PMOL/KG,,PMOL/KG,,PMOL/KG,,UMOL/KG,,UMOL/KG,,,DEG C,/MILLE,,/MILLE,/MILLE,,/MILLE,DEG C,KG/M^3,ITS-90,,,UMOL/KG,UMOL/KG,UMOL/KG,UMOL/KG,DM/.1MG,,BQ/M^3,MBQ/M^3,,MBQ/M^3
49NZ20071122, P14N, 174, 1, 36, X12042, 2, 20071210, 0733, -10.5087, 178.9968, 4454,     11.0, 2,  29.2003, 2,  34.9518, 2,  34.9520, 2,    195.8, 2,    194.4, 2,     0.74, 2,     0.03, 2,     0.01, 2,     0.19, 2,    1.442, 2,    0.898, 2,    0.222, 4, -999.000, 9,   -999.0, 9,   -999.0, 9, -999.0000,   -999.00,   -999.0, 9,   -999.0,  -999.00, 9,   -999.0,  29.1976, 21.9617,  29.2015, 2, 9, 0.12, 0.03, 0.01, 0.016,  -999.00, 9, -999.00, -999.00, 9, -999.00
49NZ20071122, P14N, 174, 1, 35, X12041, 2, 20071210, 0733, -10.5087, 178.9968, 4454,     50.1, 2,  29.1330, 2,  34.9688, 2,  34.9691, 2,    194.5, 2,    194.5, 2,     0.69, 2,     0.02, 2,     0.01, 2,     0.20, 2,    1.436, 2,    0.901, 2,    0.234, 4, -999.000, 9,   -999.0, 9,   -999.0, 9, -999.0000,   -999.00,   -999.0, 9,   -999.0,  -999.00, 9,   -999.0,  29.1208, 22.0002,  29.1323, 2, 9, 0.12, 0.03, 0.01, 0.016,  -999.00, 9, -999.00, -999.00, 9, -999.00
49NZ20071122, P14N, 174, 1, 34, X12016, 2, 20071210, 0733, -10.5087, 178.9968, 4454,    101.7, 2,  28.0753, 2,  35.9007, 2,  35.8882, 2,    167.0, 2,    170.8, 2,     1.07, 2,     1.16, 2,     0.22, 2,     0.40, 2,    1.588, 2,    0.998, 2,    0.552, 4, -999.000, 9,   -999.0, 9,   -999.0, 9, -999.0000,   -999.00,   -999.0, 9,   -999.0,  -999.00, 9,   -999.0,  28.0512, 23.0553,  28.0763, 2, 9, 0.12, 0.04, 0.01, 0.013,  -999.00, 9, -999.00, -999.00, 9, -999.00
49NZ20071122, P14N, 174, 1, 33, X12033, 2, 20071210, 0733, -10.5087, 178.9968, 4454,    150.8, 2,  25.0846, 2,  36.2632, 2,  36.2594, 2,    154.1, 2,    150.8, 2,     1.04, 2,     3.86, 2,     0.31, 2,     0.57, 2,    1.783, 2,    1.083, 2,    0.155, 4, -999.000, 9,   -999.0, 9,   -999.0, 9, -999.0000,   -999.00,   -999.0, 9,   -999.0,  -999.00, 9,   -999.0,  25.0516, 24.2804,  25.0797, 2, 9, 0.12, 0.04, 0.01, 0.013,  -999.00, 9, -999.00, -999.00, 9, -999.00
49NZ20071122, P14N, 174, 1, 32, X12038, 2, 20071210, 0733, -10.5087, 178.9968, 4454,    198.8, 2,  21.9158, 2,  35.9837, 2,  35.9750, 2,    144.0, 2,    145.0, 2,     1.53, 2,     6.90, 2,     0.02, 2,     0.74, 2,    1.998, 2,    1.170, 2,    0.080, 2, -999.000, 9,   -999.0, 9,   -999.0, 9, -999.0000,   -999.00,   -999.0, 9,   -999.0,  -999.00, 9,   -999.0,  21.8764, 25.0003,  21.9163, 2, 9, 0.12, 0.05, 0.01, 0.013,  -999.00, 9, -999.00, -999.00, 9, -999.00
49NZ20071122, P14N, 174, 1, 31, X12003, 2, 20071210, 0733, -10.5087, 178.9968, 4454,    248.4, 2,  17.9731, 2,  35.4920, 2,  35.4648, 6,    130.4, 2,    130.4, 2,     4.29, 2,    11.68, 2,     0.01, 2,     1.07, 2,    1.967, 2,    1.105, 2,    0.035, 2, -999.000, 9,   -999.0, 9,   -999.0, 9, -999.0000,   -999.00,   -999.0, 9,   -999.0,  -999.00, 9,   -999.0,  17.9303, 25.6662,  17.9511, 2, 9, 0.13, 0.07, 0.01, 0.013,  -999.00, 9, -999.00, -999.00, 9, -999.00
49NZ20071122, P14N, 174, 1, 30, X12008, 2, 20071210, 0733, -10.5087, 178.9968, 4454,    278.6, 2,  15.4364, 2,  35.2080, 2,  35.1962, 2,    116.4, 2,    116.4, 2,     7.44, 2,    16.01, 2,     0.01, 2,     1.35, 2,    1.699, 2,    0.918, 2,    0.019, 2, -999.000, 9,   -999.0, 9,   -999.0, 9, -999.0000,   -999.00,   -999.0, 9,   -999.0,  -999.00, 9,   -999.0,  15.3932, 26.0451,  15.4359, 2, 9, 0.14, 0.08, 0.01, 0.014,  -999.00, 9, -999.00, -999.00, 9, -999.00
49NZ20071122, P14N, 174, 1, 29, X12035, 2, 20071210, 0733, -10.5087, 178.9968, 4454,    371.7, 2,  10.5781, 2,  34.7451, 2,  34.7461, 2,    117.7, 2,    117.6, 2,    16.26, 2,    24.33, 2,     0.01, 2,     1.84, 2,    0.909, 2,    0.473, 2,    0.012, 2, -999.000, 9,   -999.0, 9,   -999.0, 9, -999.0000,   -999.00,   -999.0, 9,   -999.0,  -999.00, 9,   -999.0,  10.5332, 26.6604,  10.5674, 2, 9, 0.15, 0.10, 0.01, 0.015,  -999.00, 9, -999.00, -999.00, 9, -999.00
49NZ20071122, P14N, 174, 1, 28, X12034, 2, 20071210, 0733, -10.5087, 178.9968, 4454,    469.3, 2,   7.9204, 2,  34.5906, 2,  34.5883, 6,    125.1, 2,    125.8, 2,    27.05, 2,    30.12, 2,     0.01, 2,     2.13, 2,    0.377, 2,    0.200, 2,    0.006, 2, -999.000, 9,   -999.0, 9,   -999.0, 9, -999.0000,   -999.00,   -999.0, 9,   -999.0,  -999.00, 9,   -999.0,   7.8726, 26.9713,   7.9206, 2, 9, 0.18, 0.12, 0.01, 0.015,  -999.00, 9, -999.00, -999.00, 9, -999.00
49NZ20071122, P14N, 174, 1, 27, X12049, 2, 20071210, 0733, -10.5087, 178.9968, 4454,    569.5, 2,   6.6057, 2,  34.5322, 2,  34.5326, 2,    128.2, 2,    126.5, 2,    36.31, 2,    32.73, 2,     0.01, 2,     2.30, 2,    0.197, 2,    0.105, 2,    0.007, 2, -999.000, 9,   -999.0, 9,   -999.0, 9, -999.0000,   -999.00,   -999.0, 9,   -999.0,  -999.00, 9,   -999.0,   6.5530, 27.1109,   6.6052, 2, 9, 0.20, 0.12, 0.01, 0.016,  -999.00, 9, -999.00, -999.00, 9, -999.00
49NZ20071122, P14N, 174, 1, 26, X12032, 2, 20071210, 0733, -10.5087, 178.9968, 4454,    670.5, 2,   5.8975, 2,  34.5151, 2,  34.5154, 2,    125.1, 2,    123.2, 2,    44.61, 2,    34.40, 2,     0.01, 2,     2.43, 2,    0.106, 2,    0.058, 2,    0.005, 2, -999.000, 9,   -999.0, 9,   -999.0, 9, -999.0000,   -999.00,   -999.0, 9,   -999.0,  -999.00, 9,   -999.0,   5.8386, 27.1899,   5.8976, 2, 9, 0.22, 0.13, 0.01, 0.016,  -999.00, 9, -999.00, -999.00, 9, -999.00
49NZ20071122, P14N, 174, 1, 25, X12043, 2, 20071210, 0733, -10.5087, 178.9968, 4454,    770.9, 2,   5.4797, 2,  34.5153, 2,  34.5150, 2,    114.8, 2,    114.3, 2,    51.51, 2,    36.08, 2,     0.01, 2,     2.55, 2,    0.041, 2,    0.024, 2,    0.000, 2, -999.000, 9,   -999.0, 9,   -999.0, 9, -999.0000,   -999.00,   -999.0, 9,   -999.0,  -999.00, 9,   -999.0,   5.4139, 27.2421,   5.4799, 2, 9, 0.23, 0.13, 0.01, 0.016,  -999.00, 9, -999.00, -999.00, 9, -999.00
49NZ20071122, P14N, 174, 1, 24, X12030, 2, 20071210, 0733, -10.5087, 178.9968, 4454,    870.8, 2,   4.9387, 2,  34.5180, 2,  34.5179, 2,    113.3, 2,    112.7, 2,    60.18, 2,    37.03, 2,     0.01, 2,     2.61, 2,    0.013, 2,    0.009, 2,    0.000, 2, -999.000, 9,   -999.0, 9,   -999.0, 9, -999.0000,   -999.00,   -999.0, 9,   -999.0,  -999.00, 9,   -999.0,   4.8674, 27.3083,   4.9390, 2, 9, 0.25, 0.14, 0.01, 0.017,  -999.00, 9, -999.00, -999.00, 9, -999.00
49NZ20071122, P14N, 174, 1, 23, X12027, 2, 20071210, 0733, -10.5087, 178.9968, 4454,    972.1, 2,   4.5492, 2,  34.5238, 2,  34.5241, 6,    115.4, 2,    115.2, 2,    67.01, 2,    37.27, 2,     0.01, 2,     2.64, 2,    0.010, 2,    0.005, 2,    0.000, 2, -999.000, 9,   -999.0, 9,   -999.0, 9, -999.0000,   -999.00,   -999.0, 9,   -999.0,  -999.00, 9,   -999.0,   4.4717, 27.3571,   4.5478, 2, 9, 0.27, 0.14, 0.01, 0.017,  -999.00, 9, -999.00, -999.00, 9, -999.00
49NZ20071122, P14N, 174, 1, 22, X12028, 2, 20071210, 0733, -10.5087, 178.9968, 4454,   1130.5, 2,   4.0099, 2,  34.5400, 2,  34.5409, 2,    118.8, 2,    118.7, 2,    78.34, 2,    37.36, 2,     0.01, 2,     2.65, 2,    0.001, 2,    0.002, 2,    0.000, 2, -999.000, 9,   -999.0, 9,   -999.0, 9, -999.0000,   -999.00,   -999.0, 9,   -999.0,  -999.00, 9,   -999.0,   3.9231, 27.4282,   4.0100, 2, 9, 0.29, 0.14, 0.01, 0.017,  -999.00, 9, -999.00, -999.00, 9, -999.00
49NZ20071122, P14N, 174, 1, 21, X12009, 2, 20071210, 0733, -10.5087, 178.9968, 4454,   1330.0, 2,   3.4249, 2,  34.5666, 2,  34.5674, 2,    122.1, 2,    122.0, 2,    91.92, 2,    37.49, 2,     0.01, 2,     2.66, 2,    0.013, 2,    0.009, 2,    0.000, 2, -999.000, 9,   -999.0, 9,   -999.0, 9, -999.0000,   -999.00,   -999.0, 9,   -999.0,  -999.00, 9,   -999.0,   3.3267, 27.5086,   3.4249, 2, 9, 0.32, 0.14, 0.01, 0.017,  -999.00, 9, -999.00, -999.00, 9, -999.00
49NZ20071122, P14N, 174, 1, 20, X12026, 2, 20071210, 0733, -10.5087, 178.9968, 4454,   1531.4, 2,   2.8342, 2,  34.5915, 2,  34.5920, 2,    133.6, 2,    133.0, 2,   102.33, 2,    36.81, 2,     0.01, 2,     2.60, 2,    0.009, 2,    0.005, 2,    0.000, 2, -999.000, 9,   -999.0, 9,   -999.0, 9, -999.0000,   -999.00,   -999.0, 9,   -999.0,  -999.00, 9,   -999.0,   2.7256, 27.5837,   2.8342, 2, 9, 0.34, 0.14, 0.01, 0.016,  -999.00, 9, -999.00, -999.00, 9, -999.00
49NZ20071122, P14N, 174, 1, 19, X12025, 2, 20071210, 0733, -10.5087, 178.9968, 4454,   1731.7, 2,   2.5181, 2,  34.6110, 2,  34.6112, 2,    136.5, 2,    137.1, 2,   109.29, 2,    36.78, 2,     0.01, 2,     2.59, 2,    0.008, 2,    0.007, 2,    0.000, 2, -999.000, 9,   -999.0, 9,   -999.0, 9, -999.0000,   -999.00,   -999.0, 9,   -999.0,  -999.00, 9,   -999.0,   2.3968, 27.6276,   2.5192, 2, 9, 0.36, 0.14, 0.01, 0.016,  -999.00, 9, -999.00, -999.00, 9, -999.00
49NZ20071122, P14N, 174, 1, 18, X12024, 2, 20071210, 0733, -10.5087, 178.9968, 4454,   1930.7, 2,   2.3527, 2,  34.6241, 2,  34.6244, 2,    137.3, 2,    137.5, 2,   114.59, 2,    36.68, 2,     0.01, 2,     2.58, 2,    0.008, 2,    0.006, 2,    0.000, 2, -999.000, 9,   -999.0, 9,   -999.0, 9, -999.0000,   -999.00,   -999.0, 9,   -999.0,  -999.00, 9,   -999.0,   2.2169, 27.6530,   2.3527, 2, 9, 0.37, 0.14, 0.01, 0.016,  -999.00, 9, -999.00, -999.00, 9, -999.00
49NZ20071122, P14N, 174, 1, 17, X12023, 2, 20071210, 0733, -10.5087, 178.9968, 4454,   2129.0, 2,   2.1826, 2,  34.6375, 2,  34.6381, 6,    137.5, 2,    137.6, 2,   120.62, 2,    36.80, 2,     0.01, 2,     2.59, 2,    0.007, 2,    0.007, 2,    0.000, 2, -999.000, 9,   -999.0, 9,   -999.0, 9, -999.0000,   -999.00,   -999.0, 9,   -999.0,  -999.00, 9,   -999.0,   2.0323, 27.6787,   2.1826, 2, 9, 0.38, 0.14, 0.01, 0.016,  -999.00, 9, -999.00, -999.00, 9, -999.00
49NZ20071122, P14N, 174, 1, 16, X12022, 2, 20071210, 0733, -10.5087, 178.9968, 4454,   2332.0, 2,   2.0348, 2,  34.6472, 2,  34.6476, 2,    141.9, 2,    141.9, 2,   123.85, 2,    36.55, 2,     0.01, 2,     2.57, 2, -999.000, 9, -999.000, 9, -999.000, 9, -999.000, 9,   -999.0, 9,   -999.0, 9, -999.0000,   -999.00,   -999.0, 9,   -999.0,  -999.00, 9,   -999.0,   1.8690, 27.6993,   2.0348, 2, 9, 0.39, 0.14, 0.01, 0.016,  -999.00, 9, -999.00, -999.00, 9, -999.00
49NZ20071122, P14N, 174, 1, 15, X12021, 2, 20071210, 0733, -10.5087, 178.9968, 4454,   2529.9, 2,   1.8945, 2,  34.6570, 2,  34.6572, 2,    142.3, 2,    143.3, 2,   128.21, 2,    36.63, 2,     0.01, 2,     2.56, 2,    0.000, 2,    0.000, 2,    0.000, 2, -999.000, 9,   -999.0, 9,   -999.0, 9, -999.0000,   -999.00,   -999.0, 9,   -999.0,  -999.00, 9,   -999.0,   1.7135, 27.7191,   1.8944, 2, 9, 0.40, 0.14, 0.01, 0.016,  -999.00, 9, -999.00, -999.00, 9, -999.00
49NZ20071122, P14N, 174, 1, 14, X12020, 2, 20071210, 0733, -10.5087, 178.9968, 4454,   2731.3, 2,   1.7984, 2,  34.6637, 2,  34.6640, 2,    141.6, 2,    140.2, 2,   133.65, 2,    36.76, 2,     0.01, 2,     2.58, 2, -999.000, 9, -999.000, 9, -999.000, 9, -999.000, 9,   -999.0, 9,   -999.0, 9, -999.0000,   -999.00,   -999.0, 9,   -999.0,  -999.00, 9,   -999.0,   1.6007, 27.7329,   1.7984, 2, 9, 0.41, 0.14, 0.01, 0.016,  -999.00, 9, -999.00, -999.00, 9, -999.00
49NZ20071122, P14N, 174, 1, 13, X12019, 2, 20071210, 0733, -10.5087, 178.9968, 4454,   2931.9, 2,   1.6933, 2,  34.6702, 2,  34.6703, 2,    144.2, 2,    144.3, 2,   135.25, 2,    36.64, 2,     0.01, 2,     2.57, 2, -999.000, 9, -999.000, 9, -999.000, 9, -999.000, 9,   -999.0, 9,   -999.0, 9, -999.0000,   -999.00,   -999.0, 9,   -999.0,  -999.00, 9,   -999.0,   1.4788, 27.7470,   1.6934, 2, 9, 0.42, 0.14, 0.01, 0.016,  -999.00, 9, -999.00, -999.00, 9, -999.00
49NZ20071122, P14N, 174, 1, 12, X12040, 2, 20071210, 0733, -10.5087, 178.9968, 4454,   3169.7, 2,   1.6062, 2,  34.6766, 2,  34.6765, 2,    149.3, 2,    149.2, 2,   135.09, 2,    36.15, 2,     0.01, 2,     2.53, 2,    0.000, 2,    0.000, 2,    0.000, 2, -999.000, 9,   -999.0, 9,   -999.0, 9, -999.0000,   -999.00,   -999.0, 9,   -999.0,  -999.00, 9,   -999.0,   1.3706, 27.7600,   1.6062, 2, 9, 0.42, 0.13, 0.01, 0.016,  -999.00, 9, -999.00, -999.00, 9, -999.00
49NZ20071122, P14N, 174, 1, 11, X12047, 2, 20071210, 0733, -10.5087, 178.9968, 4454,   3422.3, 2,   1.5207, 2,  34.6832, 2,  34.6832, 2,    156.9, 2,    156.6, 2,   133.94, 2,    35.76, 2,     0.01, 2,     2.49, 2, -999.000, 9, -999.000, 9, -999.000, 9, -999.000, 9,   -999.0, 9,   -999.0, 9, -999.0000,   -999.00,   -999.0, 9,   -999.0,  -999.00, 9,   -999.0,   1.2619, 27.7729,   1.5207, 2, 9, 0.41, 0.13, 0.01, 0.016,  -999.00, 9, -999.00, -999.00, 9, -999.00
49NZ20071122, P14N, 174, 1, 10, X12012, 2, 20071210, 0733, -10.5087, 178.9968, 4454,   3671.0, 2,   1.4405, 2,  34.6900, 2,  34.6901, 2,    166.8, 2,    166.3, 2,   130.48, 2,    35.10, 2,     0.01, 2,     2.44, 2,    0.000, 2,    0.000, 2,    0.000, 2, -999.000, 9,   -999.0, 9,   -999.0, 9, -999.0000,   -999.00,   -999.0, 9,   -999.0,  -999.00, 9,   -999.0,   1.1582, 27.7856,   1.4405, 2, 9, 0.41, 0.13, 0.01, 0.016,  -999.00, 9, -999.00, -999.00, 9, -999.00
49NZ20071122, P14N, 174, 1, 9, X12015, 2, 20071210, 0733, -10.5087, 178.9968, 4454,   3920.1, 2,   1.3613, 2,  34.6966, 2,  34.6972, 6,    177.5, 2,    177.4, 2,   125.51, 2,    34.19, 2,     0.01, 2,     2.38, 2,    0.013, 2,    0.007, 2,    0.000, 2, -999.000, 9,   -999.0, 9,   -999.0, 9, -999.0000,   -999.00,   -999.0, 9,   -999.0,  -999.00, 9,   -999.0,   1.0548, 27.7979,   1.3614, 2, 9, 0.40, 0.13, 0.01, 0.016,  -999.00, 9, -999.00, -999.00, 9, -999.00
49NZ20071122, P14N, 174, 1, 8, X12046, 2, 20071210, 0733, -10.5087, 178.9968, 4454,   4169.5, 2,   1.3392, 2,  34.6996, 2,  34.7001, 2,    182.5, 2,    182.3, 2,   123.54, 2,    33.89, 2,     0.01, 2,     2.35, 2,    0.016, 2,    0.013, 2,    0.000, 2, -999.000, 9,   -999.0, 9,   -999.0, 9, -999.0000,   -999.00,   -999.0, 9,   -999.0,  -999.00, 9,   -999.0,   1.0063, 27.8036,   1.3393, 2, 9, 0.39, 0.13, 0.01, 0.016,  -999.00, 9, -999.00, -999.00, 9, -999.00
49NZ20071122, P14N, 174, 1, 7, X12044, 2, 20071210, 0733, -10.5087, 178.9968, 4454,   4419.2, 2,   1.2927, 2,  34.7034, 2,  34.7041, 2,    189.3, 2,    189.1, 2,   120.80, 2,    33.45, 2,     0.01, 2,     2.32, 2,    0.020, 2,    0.012, 2,    0.000, 2, -999.000, 9,   -999.0, 9,   -999.0, 9, -999.0000,   -999.00,   -999.0, 9,   -999.0,  -999.00, 9,   -999.0,   0.9332, 27.8115,   1.2927, 2, 9, 0.38, 0.13, 0.01, 0.016,  -999.00, 9, -999.00, -999.00, 9, -999.00
49NZ20071122, P14N, 174, 1, 6, X12048, 9, 20071210, 0733, -10.5087, 178.9968, 4454,     11.4, 2,  29.1629, 2,  34.9516, 2, -999.0000, 9,    196.4, 2,   -999.0, 9,  -999.00, 9,  -999.00, 9,  -999.00, 9,  -999.00, 9, -999.000, 9, -999.000, 9, -999.000, 9, -999.000, 9,   -999.0, 9,   -999.0, 9, -999.0000,   -999.00,   -999.0, 9,   -999.0,  -999.00, 9,   -999.0,  29.1601, 21.9741,  29.1605, 2, 9, -999.00, -999.00, -999.00, -999.000,  -999.00, 9, -999.00, -999.00, 9, -999.00
49NZ20071122, P14N, 174, 1, 5, X12014, 9, 20071210, 0733, -10.5087, 178.9968, 4454,     50.4, 2,  29.1346, 2,  34.9692, 2, -999.0000, 9,    194.2, 2,   -999.0, 9,  -999.00, 9,  -999.00, 9,  -999.00, 9,  -999.00, 9, -999.000, 9, -999.000, 9, -999.000, 9, -999.000, 9,   -999.0, 9,   -999.0, 9, -999.0000,   -999.00,   -999.0, 9,   -999.0,  -999.00, 9,   -999.0,  29.1224, 22.0000,  29.1341, 2, 9, -999.00, -999.00, -999.00, -999.000,  -999.00, 9, -999.00, -999.00, 9, -999.00
49NZ20071122, P14N, 174, 1, 4, X12006, 9, 20071210, 0733, -10.5087, 178.9968, 4454,    100.2, 2,  28.0697, 2,  35.8932, 2, -999.0000, 9,    167.4, 2,   -999.0, 9,  -999.00, 9,  -999.00, 9,  -999.00, 9,  -999.00, 9, -999.000, 9, -999.000, 9, -999.000, 9, -999.000, 9,   -999.0, 9,   -999.0, 9, -999.0000,   -999.00,   -999.0, 9,   -999.0,  -999.00, 9,   -999.0,  28.0460, 23.0514,  28.0410, 2, 9, -999.00, -999.00, -999.00, -999.000,  -999.00, 9, -999.00, -999.00, 9, -999.00
49NZ20071122, P14N, 174, 1, 3, X12013, 9, 20071210, 0733, -10.5087, 178.9968, 4454,    149.8, 2,  25.0555, 2,  36.2708, 2, -999.0000, 9,    154.0, 2,   -999.0, 9,  -999.00, 9,  -999.00, 9,  -999.00, 9,  -999.00, 9, -999.000, 9, -999.000, 9, -999.000, 9, -999.000, 9,   -999.0, 9,   -999.0, 9, -999.0000,   -999.00,   -999.0, 9,   -999.0,  -999.00, 9,   -999.0,  25.0228, 24.2950,  25.0583, 2, 9, -999.00, -999.00, -999.00, -999.000,  -999.00, 9, -999.00, -999.00, 9, -999.00
49NZ20071122, P14N, 174, 1, 2, X12002, 9, 20071210, 0733, -10.5087, 178.9968, 4454,    198.1, 2,  21.8356, 2,  35.9742, 2, -999.0000, 9,    144.7, 2,   -999.0, 9,  -999.00, 9,  -999.00, 9,  -999.00, 9,  -999.00, 9, -999.000, 9, -999.000, 9, -999.000, 9, -999.000, 9,   -999.0, 9,   -999.0, 9, -999.0000,   -999.00,   -999.0, 9,   -999.0,  -999.00, 9,   -999.0,  21.7964, 25.0155,  21.7994, 2, 9, -999.00, -999.00, -999.00, -999.000,  -999.00, 9, -999.00, -999.00, 9, -999.00
49NZ20071122, P14N, 174, 1, 1, X12001, 2, 20071210, 0733, -10.5087, 178.9968, 4454,   4517.6, 2,   1.2883, 2,  34.7041, 2,  34.7049, 6,    190.4, 2,    190.4, 2,   120.52, 2,    33.28, 2,     0.01, 2,     2.31, 2,    0.012, 2,    0.006, 2,    0.000, 2, -999.000, 9,   -999.0, 9,   -999.0, 9, -999.0000,   -999.00,   -999.0, 9,   -999.0,  -999.00, 9,   -999.0,   0.9178, 27.8130,   1.2883, 2, 9, 0.38, 0.13, 0.01, 0.016,  -999.00, 9, -999.00, -999.00, 9, -999.00