BOTTLE,20220820CCHSIOAMB
EXPOCODE,SECT_ID,STNNBR,CASTNO,SAMPNO,BTLNBR,BTLNBR_FLAG_W,DATE,TIME,LATITUDE,LONGITUDE,DEPTH,CTDPRS,CTDPRS_FLAG_W,CTDTMP,CTDTMP_FLAG_W,CTDSAL,CTDSAL_FLAG_W,SALNTY,SALNTY_FLAG_W,CTDOXY,CTDOXY_FLAG_W,OXYGEN,OXYGEN_FLAG_W,SILCAT,SILCAT_FLAG_W,NITRAT,NITRAT_FLAG_W,NITRIT,NITRIT_FLAG_W,PHSPHT,PHSPHT_FLAG_W,CFC-11,CFC-11_FLAG_W,CFC-12,CFC-12_FLAG_W,CFC113,CFC113_FLAG_W,CCL4,CCL4_FLAG_W,TCARBN,TCARBN_FLAG_W,ALKALI,ALKALI_FLAG_W,PH_TOT,PH_TMP,DELC14,DELC14_FLAG_W,C14ERR,DELC13,DELC13_FLAG_W,C13ERR,THETA,SIG0,SBE35,SBE35_FLAG_W,PH_TOT_FLAG_W,SILUNC,NRAUNC,NRIUNC,PHPUNC,CS-137,CS-137_FLAG_W,CS137ER,PLUTO,PLUTO_FLAG_W,PLUTOER
,,,,,,,,,,,METERS,DBAR,,ITS-90,,PSS-78,,PSS-78,,UMOL/KG,,UMOL/KG,,UMOL/KG,,UMOL/KG,,UMOL/KG,,UMOL/KG,,PMOL/KG,,PMOL/KG,,PMOL/KG,,PMOL/KG,,UMOL/KG,,UMOL/KG,,,DEG C,/MILLE,,/MILLE,/MILLE,,/MILLE,DEG C,KG/M^3,ITS-90,,,UMOL/KG,UMOL/KG,UMOL/KG,UMOL/KG,DM/.1MG,,BQ/M^3,MBQ/M^3,,MBQ/M^3
49NZ20071122, P14N, 131, 1, 36, X12042, 2, 20071129, 0128, 2.9982, 179.0088, 5514,     10.5, 2,  27.4545, 2,  35.1243, 2,  35.1253, 2,    203.5, 2,    203.4, 2,     1.74, 2,     2.66, 2,     0.12, 2,     0.39, 2,    1.528, 2,    0.967, 2,    0.180, 4, -999.000, 9,   1999.6, 2,   2310.8, 2,    8.0662,     25.00,   -999.0, 9,   -999.0,  -999.00, 9,   -999.0,  27.4521, 22.6662,  27.4532, 2, 6, 0.12, 0.04, 0.01, 0.013,  -999.00, 9, -999.00, -999.00, 9, -999.00
49NZ20071122, P14N, 131, 1, 35, X12041, 2, 20071129, 0128, 2.9982, 179.0088, 5514,     50.8, 2,  27.0550, 2,  35.1681, 2,  35.1683, 2,    196.0, 2,    195.1, 2,     1.86, 2,     3.12, 2,     0.29, 2,     0.48, 2,    1.553, 2,    0.979, 2,    0.188, 4, -999.000, 9,   2014.3, 6,   2313.3, 2,    8.0445,     25.00,   -999.0, 9,   -999.0,  -999.00, 9,   -999.0,  27.0433, 22.8305,  27.0537, 2, 2, 0.12, 0.04, 0.01, 0.013,  -999.00, 9, -999.00, -999.00, 9, -999.00
49NZ20071122, P14N, 131, 1, 34, X12016, 2, 20071129, 0128, 2.9982, 179.0088, 5514,    101.8, 2,  26.7246, 2,  35.1616, 2,  35.1609, 2,    190.8, 2,    191.7, 2,     2.02, 2,     3.60, 2,     0.77, 2,     0.53, 2,    1.583, 2,    0.995, 2,    0.189, 4, -999.000, 9,   2022.8, 2,   2312.7, 6,    8.0295,     25.00,   -999.0, 9,   -999.0,  -999.00, 9,   -999.0,  26.7014, 22.9345,  26.7246, 2, 2, 0.12, 0.04, 0.00, 0.013,  -999.00, 9, -999.00, -999.00, 9, -999.00
49NZ20071122, P14N, 131, 1, 33, X12033, 2, 20071129, 0128, 2.9982, 179.0088, 5514,    151.3, 2,  26.4509, 2,  35.2049, 2,  35.2069, 2,    192.5, 2,    192.1, 2,     2.14, 2,     3.99, 2,     0.74, 2,     0.54, 2,    1.601, 6,    1.006, 6,    0.195, 4, -999.000, 9,   2028.7, 2,   2315.4, 2,    8.0234,     25.00,   -999.0, 9,   -999.0,  -999.00, 9,   -999.0,  26.4167, 23.0572,  26.4495, 2, 6, 0.12, 0.04, 0.00, 0.013,  -999.00, 9, -999.00, -999.00, 9, -999.00
49NZ20071122, P14N, 131, 1, 32, X12038, 2, 20071129, 0128, 2.9982, 179.0088, 5514,    200.1, 2,  17.1637, 2,  34.7927, 2,  34.7449, 2,    127.6, 2,    129.6, 2,    14.36, 2,    15.31, 2,     0.02, 2,     1.18, 2,    1.916, 2,    1.091, 2,    0.037, 2, -999.000, 9,   2121.0, 2,   2291.4, 2,    7.8069,     25.00,   -999.0, 9,   -999.0,  -999.00, 9,   -999.0,  17.1305, 25.3241,  17.1746, 2, 2, 0.15, 0.08, 0.01, 0.013,  -999.00, 9, -999.00, -999.00, 9, -999.00
49NZ20071122, P14N, 131, 1, 31, X12003, 2, 20071129, 0128, 2.9982, 179.0088, 5514,    249.6, 2,  11.4946, 2,  34.7853, 2,  34.7863, 6,    112.6, 2,    112.3, 2,    21.55, 2,    23.97, 2,     0.01, 2,     1.76, 2,    1.131, 2,    0.612, 2,    0.021, 2, -999.000, 9,   2181.6, 2,   2306.0, 2,    7.6842,     25.00,   -999.0, 9,   -999.0,  -999.00, 9,   -999.0,  11.4629, 26.5235,  11.4949, 2, 2, 0.17, 0.10, 0.01, 0.015,  -999.00, 9, -999.00, -999.00, 9, -999.00
49NZ20071122, P14N, 131, 1, 30, X12008, 2, 20071129, 0128, 2.9982, 179.0088, 5514,    334.0, 2,  10.5770, 2,  34.7584, 2,  34.7580, 2,     71.2, 2,     68.4, 2,    25.76, 2,    30.03, 2,     0.01, 2,     2.14, 2,    0.679, 2,    0.371, 2,    0.013, 2, -999.000, 9,   2221.4, 2,   2305.1, 2,    7.5798,     25.00,   -999.0, 9,   -999.0,  -999.00, 9,   -999.0,  10.5367, 26.6701,  10.5780, 2, 2, 0.18, 0.12, 0.01, 0.015,  -999.00, 9, -999.00, -999.00, 9, -999.00
49NZ20071122, P14N, 131, 1, 29, X12035, 2, 20071129, 0128, 2.9982, 179.0088, 5514,    431.2, 2,   9.3995, 2,  34.6797, 2,  34.6791, 2,     81.3, 2,     81.3, 2,    29.63, 2,    31.08, 2,     0.01, 2,     2.21, 2,    0.537, 2,    0.289, 2,    0.011, 2, -999.000, 9,   2225.1, 2,   2305.3, 2,    7.5759,     25.00,   -999.0, 9,   -999.0,  -999.00, 9,   -999.0,   9.3510, 26.8104,   9.4000, 2, 2, 0.18, 0.12, 0.01, 0.016,  -999.00, 9, -999.00, -999.00, 9, -999.00
49NZ20071122, P14N, 131, 1, 28, X12034, 2, 20071129, 0128, 2.9982, 179.0088, 5514,    529.9, 2,   8.3654, 2,  34.6129, 2,  34.6125, 6,     79.7, 2,     89.4, 2,    34.72, 2,    32.17, 2,     0.01, 2,     2.30, 2,    0.400, 2,    0.215, 2,    0.010, 2, -999.000, 9,   2228.0, 2,   2308.8, 2,    7.5674,     25.00,   -999.0, 9,   -999.0,  -999.00, 9,   -999.0,   8.3095, 26.9231,   8.3658, 2, 2, 0.20, 0.12, 0.01, 0.016,  -999.00, 9, -999.00, -999.00, 9, -999.00
49NZ20071122, P14N, 131, 1, 27, X12049, 2, 20071129, 0128, 2.9982, 179.0088, 5514,    630.0, 2,   7.3783, 2,  34.5788, 2,  34.5772, 2,     71.0, 2,     68.7, 2,    44.52, 2,    36.28, 2,     0.01, 2,     2.61, 2,    0.146, 2,    0.079, 2,    0.009, 2, -999.000, 9,   2257.1, 2,   2315.6, 2,    7.5090,     25.00,   -999.0, 9,   -999.0,  -999.00, 9,   -999.0,   7.3161, 27.0426,   7.3792, 2, 2, 0.22, 0.13, 0.01, 0.016,  -999.00, 9, -999.00, -999.00, 9, -999.00
49NZ20071122, P14N, 131, 1, 26, X12032, 2, 20071129, 0128, 2.9982, 179.0088, 5514,    730.8, 2,   6.3555, 2,  34.5564, 2,  34.5555, 2,     56.4, 2,     57.1, 2,    56.62, 2,    39.54, 2,     0.01, 2,     2.86, 2,    0.035, 6,    0.022, 6,    0.007, 6, -999.000, 9,   2280.8, 6,   2326.9, 2,    7.4698,     25.00,   -999.0, 9,   -999.0,  -999.00, 9,   -999.0,   6.2884, 27.1650,   6.3564, 2, 2, 0.24, 0.14, 0.01, 0.017,  -999.00, 9, -999.00, -999.00, 9, -999.00
49NZ20071122, P14N, 131, 1, 25, X12043, 2, 20071129, 0128, 2.9982, 179.0088, 5514,    832.1, 2,   5.6521, 2,  34.5479, 2,  34.5477, 2,     65.2, 2,     65.9, 2,    65.08, 2,    39.79, 2,     0.01, 2,     2.87, 2,    0.018, 2,    0.011, 2,    0.005, 2, -999.000, 9,   2286.3, 2,   2335.9, 6,    7.4778,     25.00,   -999.0, 9,   -999.0,  -999.00, 9,   -999.0,   5.5796, 27.2478,   5.6521, 2, 2, 0.26, 0.14, 0.01, 0.017,  -999.00, 9, -999.00, -999.00, 9, -999.00
49NZ20071122, P14N, 131, 1, 24, X12030, 2, 20071129, 0128, 2.9982, 179.0088, 5514,    931.1, 2,   5.2016, 2,  34.5478, 2,  34.5478, 2,     71.0, 2,     71.6, 2,    72.59, 2,    39.78, 2,     0.01, 2,     2.86, 2,    0.009, 2,    0.006, 2,    0.000, 2, -999.000, 9,   2294.6, 2,   2345.1, 2,    7.4831,     25.00,   -999.0, 9,   -999.0,  -999.00, 9,   -999.0,   5.1230, 27.3024,   5.2018, 2, 6, 0.28, 0.14, 0.01, 0.017,  -999.00, 9, -999.00, -999.00, 9, -999.00
49NZ20071122, P14N, 131, 1, 23, X12027, 2, 20071129, 0128, 2.9982, 179.0088, 5514,   1070.2, 2,   4.5775, 2,  34.5567, 2,  34.5572, 6,     75.8, 2,     76.0, 2,    84.97, 2,    40.06, 2,     0.01, 2,     2.89, 2,    0.003, 2,    0.003, 2,    0.000, 2, -999.000, 9,   2307.3, 2,   2358.3, 2,    7.4864,     25.00,   -999.0, 9,   -999.0,  -999.00, 9,   -999.0,   4.4911, 27.3811,   4.5780, 2, 2, 0.31, 0.14, 0.01, 0.017,  -999.00, 9, -999.00, -999.00, 9, -999.00
49NZ20071122, P14N, 131, 1, 22, X12028, 2, 20071129, 0128, 2.9982, 179.0088, 5514,   1272.8, 2,   3.8257, 2,  34.5755, 2,  34.5758, 2,     83.4, 2,     82.8, 2,   100.77, 2,    39.99, 2,     0.01, 2,     2.90, 2,    0.001, 2,    0.003, 2,    0.000, 2, -999.000, 9,   2320.0, 2,   2375.6, 2,    7.4941,     25.00,   -999.0, 9,   -999.0,  -999.00, 9,   -999.0,   3.7284, 27.4762,   3.8260, 2, 2, 0.34, 0.14, 0.01, 0.017,  -999.00, 9, -999.00, -999.00, 9, -999.00
49NZ20071122, P14N, 131, 1, 21, X12009, 2, 20071129, 0128, 2.9982, 179.0088, 5514,   1472.4, 2,   3.2741, 2,  34.5934, 2,  34.5938, 2,     90.7, 2,     90.7, 2,   112.30, 2,    39.73, 2,     0.01, 2,     2.86, 2,    0.000, 2,    0.001, 2,    0.000, 2, -999.000, 9,   2328.6, 2,   2388.2, 2,    7.5055,     25.00,   -999.0, 9,   -999.0,  -999.00, 9,   -999.0,   3.1654, 27.5452,   3.2743, 2, 2, 0.37, 0.14, 0.01, 0.017,  -999.00, 9, -999.00, -999.00, 9, -999.00
49NZ20071122, P14N, 131, 1, 20, X12026, 2, 20071129, 0128, 2.9982, 179.0088, 5514,   1673.4, 2,   2.7491, 2,  34.6148, 2,  34.6147, 2,     98.1, 2,     97.1, 2,   124.15, 2,    39.39, 2,     0.01, 2,     2.84, 2,    0.011, 3,    0.010, 3,    0.000, 2, -999.000, 9,   2339.6, 2,   2401.7, 2,    7.5142,     25.00,   -999.0, 9,   -999.0,  -999.00, 9,   -999.0,   2.6297, 27.6107,   2.7491, 2, 6, 0.39, 0.14, 0.01, 0.017,  -999.00, 9, -999.00, -999.00, 9, -999.00
49NZ20071122, P14N, 131, 1, 19, X12025, 2, 20071129, 0128, 2.9982, 179.0088, 5514,   1872.9, 2,   2.4385, 2,  34.6288, 2,  34.6290, 2,    107.6, 2,    107.0, 2,   129.89, 2,    38.90, 2,     0.01, 2,     2.78, 2,    0.000, 2,    0.001, 2,    0.000, 2, -999.000, 9,   2340.0, 3,   2406.9, 2,    7.5302,     25.00,   -999.0, 9,   -999.0,  -999.00, 9,   -999.0,   2.3063, 27.6495,   2.4386, 2, 2, 0.40, 0.14, 0.01, 0.017,  -999.00, 9, -999.00, -999.00, 9, -999.00
49NZ20071122, P14N, 131, 1, 18, X12024, 2, 20071129, 0128, 2.9982, 179.0088, 5514,   2072.3, 2,   2.2274, 2,  34.6412, 2,  34.6416, 2,    107.9, 2,    106.6, 2,   137.03, 2,    39.00, 2,     0.01, 2,     2.78, 2, -999.000, 9, -999.000, 9, -999.000, 9, -999.000, 9,   2348.3, 2,   2415.0, 2,    7.5300,     25.00,   -999.0, 9,   -999.0,  -999.00, 9,   -999.0,   2.0813, 27.6777,   2.2275, 2, 2, 0.42, 0.14, 0.01, 0.017,  -999.00, 9, -999.00, -999.00, 9, -999.00
49NZ20071122, P14N, 131, 1, 17, X12023, 2, 20071129, 0128, 2.9982, 179.0088, 5514,   2269.6, 2,   2.0294, 2,  34.6512, 2,  34.6516, 6,    116.9, 2,    115.7, 2,   139.57, 2,    38.40, 2,     0.01, 2,     2.73, 2, -999.000, 9, -999.000, 9, -999.000, 9, -999.000, 9,   2346.9, 2,   2419.9, 2,    7.5451,     25.00,   -999.0, 9,   -999.0,  -999.00, 9,   -999.0,   1.8692, 27.7025,   2.0294, 2, 2, 0.43, 0.14, 0.01, 0.017,  -999.00, 9, -999.00, -999.00, 9, -999.00
49NZ20071122, P14N, 131, 1, 16, X12022, 2, 20071129, 0128, 2.9982, 179.0088, 5514,   2471.3, 2,   1.9029, 2,  34.6590, 2,  34.6588, 2,    120.5, 2,    119.6, 2,   142.76, 2,    38.16, 2,     0.00, 2,     2.71, 2,    0.001, 2,    0.001, 2,    0.000, 2, -999.000, 9,   2346.9, 6,   2421.6, 2,    7.5515,     25.00,   -999.0, 9,   -999.0,  -999.00, 9,   -999.0,   1.7270, 27.7197,   1.9029, 2, 2, 0.43, 0.14, 0.01, 0.017,  -999.00, 9, -999.00, -999.00, 9, -999.00
49NZ20071122, P14N, 131, 1, 15, X12021, 2, 20071129, 0128, 2.9982, 179.0088, 5514,   2669.0, 2,   1.8044, 2,  34.6648, 2,  34.6645, 2,    125.2, 2,    124.8, 2,   143.53, 2,    37.83, 2,     0.00, 2,     2.68, 2, -999.000, 9, -999.000, 9, -999.000, 9, -999.000, 9,   2344.0, 2,   2423.7, 6,    7.5589,     25.00,   -999.0, 9,   -999.0,  -999.00, 9,   -999.0,   1.6123, 27.7329,   1.8044, 2, 2, 0.43, 0.14, 0.01, 0.017,  -999.00, 9, -999.00, -999.00, 9, -999.00
49NZ20071122, P14N, 131, 1, 14, X12020, 2, 20071129, 0128, 2.9982, 179.0088, 5514,   2872.1, 2,   1.7277, 2,  34.6692, 2,  34.6691, 2,    129.7, 2,    128.9, 2,   144.71, 2,    37.63, 2,     0.01, 2,     2.66, 2, -999.000, 9, -999.000, 9, -999.000, 9, -999.000, 9,   2341.4, 2,   2422.7, 2,    7.5643,     25.00,   -999.0, 9,   -999.0,  -999.00, 9,   -999.0,   1.5182, 27.7434,   1.7278, 2, 6, 0.44, 0.14, 0.01, 0.017,  -999.00, 9, -999.00, -999.00, 9, -999.00
49NZ20071122, P14N, 131, 1, 13, X12019, 2, 20071129, 0128, 2.9982, 179.0088, 5514,   3081.6, 2,   1.6301, 2,  34.6740, 2,  34.6739, 2,    138.1, 2,    137.3, 2,   143.46, 2,    37.18, 2,     0.01, 2,     2.62, 2,    0.000, 2,    0.000, 2,    0.000, 2, -999.000, 9,   2337.6, 2,   2421.9, 2,    7.5752,     25.00,   -999.0, 9,   -999.0,  -999.00, 9,   -999.0,   1.4026, 27.7556,   1.6300, 2, 2, 0.43, 0.14, 0.01, 0.017,  -999.00, 9, -999.00, -999.00, 9, -999.00
49NZ20071122, P14N, 131, 1, 12, X12040, 2, 20071129, 0128, 2.9982, 179.0088, 5514,   3331.0, 2,   1.5624, 2,  34.6789, 2,  34.6788, 2,    144.2, 2,    144.2, 2,   141.86, 2,    36.42, 2,     0.01, 2,     2.57, 2, -999.000, 9, -999.000, 9, -999.000, 9, -999.000, 9,   2333.6, 2,   2419.5, 2,    7.5847,     25.00,   -999.0, 9,   -999.0,  -999.00, 9,   -999.0,   1.3118, 27.7660,   1.5623, 2, 2, 0.43, 0.13, 0.01, 0.016,  -999.00, 9, -999.00, -999.00, 9, -999.00
49NZ20071122, P14N, 131, 1, 11, X12047, 2, 20071129, 0128, 2.9982, 179.0088, 5514,   3581.1, 2,   1.5116, 2,  34.6833, 2,  34.6831, 2,    150.6, 2,    150.8, 2,   140.05, 2,    36.00, 2,     0.01, 2,     2.54, 2, -999.000, 9, -999.000, 9, -999.000, 9, -999.000, 9,   2326.9, 2,   2416.8, 2,    7.5932,     25.00,   -999.0, 9,   -999.0,  -999.00, 9,   -999.0,   1.2368, 27.7747,   1.5116, 2, 2, 0.43, 0.13, 0.01, 0.016,  -999.00, 9, -999.00, -999.00, 9, -999.00
49NZ20071122, P14N, 131, 1, 10, X12012, 2, 20071129, 0128, 2.9982, 179.0088, 5514,   3831.8, 2,   1.4745, 2,  34.6871, 2,  34.6867, 2,    156.2, 2,    156.4, 2,   138.53, 2,    35.57, 2,     0.01, 2,     2.51, 2,    0.001, 2,    0.002, 2,    0.000, 2, -999.000, 9,   2321.3, 2,   2415.0, 2,    7.5996,     25.00,   -999.0, 9,   -999.0,  -999.00, 9,   -999.0,   1.1744, 27.7821,   1.4746, 2, 2, 0.42, 0.13, 0.01, 0.016,  -999.00, 9, -999.00, -999.00, 9, -999.00
49NZ20071122, P14N, 131, 1, 9, X12015, 2, 20071129, 0128, 2.9982, 179.0088, 5514,   4081.2, 2,   1.4273, 2,  34.6914, 2,  34.6912, 6,    163.1, 2,    163.5, 2,   136.29, 2,    35.09, 2,     0.01, 2,     2.47, 2, -999.000, 9, -999.000, 9, -999.000, 9, -999.000, 9,   2314.9, 2,   2411.4, 2,    7.6078,     25.00,   -999.0, 9,   -999.0,  -999.00, 9,   -999.0,   1.1016, 27.7905,   1.4272, 2, 2, 0.42, 0.13, 0.01, 0.016,  -999.00, 9, -999.00, -999.00, 9, -999.00
49NZ20071122, P14N, 131, 1, 8, X12046, 2, 20071129, 0128, 2.9982, 179.0088, 5514,   4329.9, 2,   1.3164, 2,  34.6985, 2,  34.6983, 2,    174.8, 2,    176.3, 2,   131.00, 2,    34.27, 2,     0.01, 2,     2.41, 2, -999.000, 9, -999.000, 9, -999.000, 9, -999.000, 9,   2301.9, 6,   2403.2, 2,    7.6194,     25.00,   -999.0, 9,   -999.0,  -999.00, 9,   -999.0,   0.9663, 27.8053,   1.3164, 2, 2, 0.41, 0.13, 0.01, 0.016,  -999.00, 9, -999.00, -999.00, 9, -999.00
49NZ20071122, P14N, 131, 1, 7, X12044, 2, 20071129, 0128, 2.9982, 179.0088, 5514,   4579.8, 2,   1.2569, 2,  34.7032, 2,  34.7031, 2,    185.1, 2,    185.5, 2,   126.47, 2,    33.59, 2,     0.01, 2,     2.35, 2,    0.000, 2,    0.001, 2,    0.000, 2, -999.000, 9,   2293.9, 2,   2395.8, 6,    7.6269,     25.00,   -999.0, 9,   -999.0,  -999.00, 9,   -999.0,   0.8802, 27.8147,   1.2569, 2, 2, 0.40, 0.13, 0.01, 0.016,  -999.00, 9, -999.00, -999.00, 9, -999.00
49NZ20071122, P14N, 131, 1, 6, X12048, 2, 20071129, 0128, 2.9982, 179.0088, 5514,   4830.0, 2,   1.2659, 2,  34.7041, 2,  34.7040, 2,    188.1, 2,    188.0, 2,   125.14, 2,    33.41, 2,     0.00, 2,     2.34, 2,    0.000, 2,    0.000, 2,    0.000, 2, -999.000, 9,   2290.6, 2,   2393.4, 2,    7.6281,     25.00,   -999.0, 9,   -999.0,  -999.00, 9,   -999.0,   0.8598, 27.8167,   1.2658, 2, 2, 0.39, 0.13, 0.01, 0.016,  -999.00, 9, -999.00, -999.00, 9, -999.00
49NZ20071122, P14N, 131, 1, 5, X12014, 2, 20071129, 0128, 2.9982, 179.0088, 5514,   5080.8, 2,   1.2832, 2,  34.7048, 2,  34.7045, 2,    189.8, 2,    189.7, 2,   124.04, 2,    33.32, 2,     0.01, 2,     2.34, 2,    0.000, 2,    0.000, 2,    0.000, 2, -999.000, 9,   2288.1, 2,   2390.4, 2,    7.6284,     25.00,   -999.0, 9,   -999.0,  -999.00, 9,   -999.0,   0.8464, 27.8182,   1.2833, 2, 2, 0.39, 0.13, 0.01, 0.016,  -999.00, 9, -999.00, -999.00, 9, -999.00
49NZ20071122, P14N, 131, 1, 4, X12006, 2, 20071129, 0128, 2.9982, 179.0088, 5514,   5329.3, 2,   1.3096, 2,  34.7050, 2,  34.7049, 2,    190.7, 2,    190.5, 2,   123.47, 2,    33.28, 2,     0.01, 2,     2.33, 2,    0.003, 2,    0.003, 2,    0.000, 2, -999.000, 9,   2285.4, 2,   2389.0, 2,    7.6282,     25.00,   -999.0, 9,   -999.0,  -999.00, 9,   -999.0,   0.8413, 27.8187,   1.3096, 2, 2, 0.39, 0.13, 0.01, 0.016,  -999.00, 9, -999.00, -999.00, 9, -999.00
49NZ20071122, P14N, 131, 1, 3, X12013, 9, 20071129, 0128, 2.9982, 179.0088, 5514,     10.5, 2,  27.4565, 2,  35.1240, 2, -999.0000, 9,    203.5, 2,   -999.0, 9,  -999.00, 9,  -999.00, 9,  -999.00, 9,  -999.00, 9, -999.000, 9, -999.000, 9, -999.000, 9, -999.000, 9,   -999.0, 9,   -999.0, 9, -999.0000,   -999.00,   -999.0, 9,   -999.0,  -999.00, 9,   -999.0,  27.4541, 22.6653,  27.4560, 2, 9, -999.00, -999.00, -999.00, -999.000,  -999.00, 9, -999.00, -999.00, 9, -999.00
49NZ20071122, P14N, 131, 1, 2, X12002, 9, 20071129, 0128, 2.9982, 179.0088, 5514,     51.1, 2,  27.0556, 2,  35.1679, 2, -999.0000, 9,    196.1, 2,   -999.0, 9,  -999.00, 9,  -999.00, 9,  -999.00, 9,  -999.00, 9, -999.000, 9, -999.000, 9, -999.000, 9, -999.000, 9,   -999.0, 9,   -999.0, 9, -999.0000,   -999.00,   -999.0, 9,   -999.0,  -999.00, 9,   -999.0,  27.0439, 22.8302,  27.0548, 2, 9, -999.00, -999.00, -999.00, -999.000,  -999.00, 9, -999.00, -999.00, 9, -999.00
49NZ20071122, P14N, 131, 1, 1, X12001, 2, 20071129, 0128, 2.9982, 179.0088, 5514,   5599.0, 2,   1.3431, 2,  34.7050, 2,  34.7052, 6,    190.8, 2,    190.6, 2,   123.41, 2,    33.21, 2,     0.01, 2,     2.33, 2,    0.005, 2,    0.005, 2,    0.000, 2, -999.000, 9,   2284.6, 2,   2389.1, 2,    7.6282,     25.00,   -999.0, 9,   -999.0,  -999.00, 9,   -999.0,   0.8395, 27.8188,   1.3431, 2, 2, 0.39, 0.13, 0.01, 0.016,  -999.00, 9, -999.00, -999.00, 9, -999.00