BOTTLE,20220820CCHSIOAMB
EXPOCODE,SECT_ID,STNNBR,CASTNO,SAMPNO,BTLNBR,BTLNBR_FLAG_W,DATE,TIME,LATITUDE,LONGITUDE,DEPTH,CTDPRS,CTDPRS_FLAG_W,CTDTMP,CTDTMP_FLAG_W,CTDSAL,CTDSAL_FLAG_W,SALNTY,SALNTY_FLAG_W,CTDOXY,CTDOXY_FLAG_W,OXYGEN,OXYGEN_FLAG_W,SILCAT,SILCAT_FLAG_W,NITRAT,NITRAT_FLAG_W,NITRIT,NITRIT_FLAG_W,PHSPHT,PHSPHT_FLAG_W,CFC-11,CFC-11_FLAG_W,CFC-12,CFC-12_FLAG_W,CFC113,CFC113_FLAG_W,CCL4,CCL4_FLAG_W,TCARBN,TCARBN_FLAG_W,ALKALI,ALKALI_FLAG_W,PH_TOT,PH_TMP,DELC14,DELC14_FLAG_W,C14ERR,DELC13,DELC13_FLAG_W,C13ERR,THETA,SIG0,SBE35,SBE35_FLAG_W,PH_TOT_FLAG_W,SILUNC,NRAUNC,NRIUNC,PHPUNC,CS-137,CS-137_FLAG_W,CS137ER,PLUTO,PLUTO_FLAG_W,PLUTOER
,,,,,,,,,,,METERS,DBAR,,ITS-90,,PSS-78,,PSS-78,,UMOL/KG,,UMOL/KG,,UMOL/KG,,UMOL/KG,,UMOL/KG,,UMOL/KG,,PMOL/KG,,PMOL/KG,,PMOL/KG,,PMOL/KG,,UMOL/KG,,UMOL/KG,,,DEG C,/MILLE,,/MILLE,/MILLE,,/MILLE,DEG C,KG/M^3,ITS-90,,,UMOL/KG,UMOL/KG,UMOL/KG,UMOL/KG,DM/.1MG,,BQ/M^3,MBQ/M^3,,MBQ/M^3
49NZ20071122, P14N, 114, 1, 36, X12042, 2, 20071125, 0128, 7.2372, 179.0043, 5540,     10.1, 2,  28.4689, 2,  34.6275, 2,  34.6275, 2,    195.5, 2,    196.7, 2,     1.23, 2,     0.12, 2,     0.02, 2,     0.19, 2,    1.461, 2,    0.925, 2,    0.234, 4, -999.000, 9,   -999.0, 9,   -999.0, 9, -999.0000,   -999.00,   -999.0, 9,   -999.0,  -999.00, 9,   -999.0,  28.4665, 21.9614,  28.4680, 2, 9, 0.12, 0.03, 0.01, 0.016,  -999.00, 9, -999.00, -999.00, 9, -999.00
49NZ20071122, P14N, 114, 1, 35, X12041, 2, 20071125, 0128, 7.2372, 179.0043, 5540,     53.4, 2,  28.4434, 2,  34.6731, 2,  34.6709, 2,    196.0, 2,    195.8, 2,     1.33, 2,     0.13, 2,     0.03, 2,     0.20, 2,    1.473, 2,    0.934, 2,    0.234, 4, -999.000, 9,   -999.0, 9,   -999.0, 9, -999.0000,   -999.00,   -999.0, 9,   -999.0,  -999.00, 9,   -999.0,  28.4307, 22.0076,  28.4417, 2, 9, 0.12, 0.03, 0.01, 0.016,  -999.00, 9, -999.00, -999.00, 9, -999.00
49NZ20071122, P14N, 114, 1, 34, X12016, 2, 20071125, 0128, 7.2372, 179.0043, 5540,     98.0, 2,  28.1104, 2,  34.8616, 2,  34.8626, 2,    183.3, 2,    189.9, 2,     1.48, 2,     0.74, 2,     0.22, 2,     0.27, 2,    1.511, 2,    0.949, 2,    0.258, 4, -999.000, 9,   -999.0, 9,   -999.0, 9, -999.0000,   -999.00,   -999.0, 9,   -999.0,  -999.00, 9,   -999.0,  28.0872, 22.2620,  28.1079, 2, 9, 0.12, 0.03, 0.01, 0.014,  -999.00, 9, -999.00, -999.00, 9, -999.00
49NZ20071122, P14N, 114, 1, 33, X12033, 2, 20071125, 0128, 7.2372, 179.0043, 5540,    149.6, 2,  22.4466, 2,  34.7850, 2,  34.7831, 2,    154.9, 2,    161.7, 2,     4.06, 2,     4.63, 2,     0.19, 2,     0.52, 2,    1.910, 6,    1.137, 6,    0.207, 4, -999.000, 9,   -999.0, 9,   -999.0, 9, -999.0000,   -999.00,   -999.0, 9,   -999.0,  -999.00, 9,   -999.0,  22.4166, 23.9371,  22.4688, 2, 9, 0.13, 0.05, 0.01, 0.013,  -999.00, 9, -999.00, -999.00, 9, -999.00
49NZ20071122, P14N, 114, 1, 32, X12038, 2, 20071125, 0128, 7.2372, 179.0043, 5540,    199.6, 2,  12.6791, 2,  34.4269, 2,  34.4395, 2,     97.2, 2,     89.9, 2,    19.85, 2,    22.64, 2,     0.01, 2,     1.76, 2,    1.843, 2,    0.975, 2,    0.041, 2, -999.000, 9,   -999.0, 9,   -999.0, 9, -999.0000,   -999.00,   -999.0, 9,   -999.0,  -999.00, 9,   -999.0,  12.6522, 26.0178,  12.6788, 2, 9, 0.16, 0.10, 0.01, 0.015,  -999.00, 9, -999.00, -999.00, 9, -999.00
49NZ20071122, P14N, 114, 1, 31, X12003, 2, 20071125, 0128, 7.2372, 179.0043, 5540,    250.7, 2,  10.8576, 2,  34.6522, 2,  34.6539, 6,     24.9, 2,     20.3, 2,    29.88, 2,    33.36, 2,     0.01, 2,     2.46, 2,    0.542, 2,    0.286, 2,    0.018, 2, -999.000, 9,   -999.0, 9,   -999.0, 9, -999.0000,   -999.00,   -999.0, 9,   -999.0,  -999.00, 9,   -999.0,  10.8270, 26.5358,  10.8653, 2, 9, 0.18, 0.13, 0.01, 0.016,  -999.00, 9, -999.00, -999.00, 9, -999.00
49NZ20071122, P14N, 114, 1, 30, X12008, 2, 20071125, 0128, 7.2372, 179.0043, 5540,    279.9, 2,  10.1758, 2,  34.6559, 2,  34.6536, 2,     52.5, 2,     42.0, 2,    31.40, 2,    32.73, 2,     0.01, 2,     2.36, 2,    0.510, 2,    0.264, 2,    0.019, 2, -999.000, 9,   -999.0, 9,   -999.0, 9, -999.0000,   -999.00,   -999.0, 9,   -999.0,  -999.00, 9,   -999.0,  10.1430, 26.6587,  10.1770, 2, 9, 0.19, 0.12, 0.01, 0.016,  -999.00, 9, -999.00, -999.00, 9, -999.00
49NZ20071122, P14N, 114, 1, 29, X12035, 2, 20071125, 0128, 7.2372, 179.0043, 5540,    370.8, 2,   9.2078, 2,  34.6514, 2,  34.6505, 2,     37.0, 2,     40.2, 2,    34.85, 2,    35.01, 2,     0.01, 2,     2.50, 2,    0.276, 2,    0.151, 2,    0.014, 2, -999.000, 9,   -999.0, 9,   -999.0, 9, -999.0000,   -999.00,   -999.0, 9,   -999.0,  -999.00, 9,   -999.0,   9.1667, 26.8183,   9.2137, 2, 9, 0.20, 0.13, 0.01, 0.016,  -999.00, 9, -999.00, -999.00, 9, -999.00
49NZ20071122, P14N, 114, 1, 28, X12034, 2, 20071125, 0128, 7.2372, 179.0043, 5540,    470.3, 2,   8.3833, 2,  34.6111, 2,  34.6099, 6,     75.4, 2,     75.4, 2,    36.27, 2,    33.57, 2,     0.01, 2,     2.38, 2,    0.326, 2,    0.171, 2,    0.010, 2, -999.000, 9,   -999.0, 9,   -999.0, 9, -999.0000,   -999.00,   -999.0, 9,   -999.0,  -999.00, 9,   -999.0,   8.3338, 26.9179,   8.3819, 2, 9, 0.20, 0.13, 0.01, 0.016,  -999.00, 9, -999.00, -999.00, 9, -999.00
49NZ20071122, P14N, 114, 1, 27, X12049, 2, 20071125, 0128, 7.2372, 179.0043, 5540,    569.5, 2,   7.7133, 2,  34.5828, 2,  34.5813, 2,     61.0, 2,     57.8, 2,    43.71, 2,    36.21, 2,     0.01, 2,     2.61, 2,    0.149, 2,    0.078, 2,    0.008, 2, -999.000, 9,   -999.0, 9,   -999.0, 9, -999.0000,   -999.00,   -999.0, 9,   -999.0,  -999.00, 9,   -999.0,   7.6558, 26.9970,   7.7139, 2, 9, 0.22, 0.13, 0.01, 0.017,  -999.00, 9, -999.00, -999.00, 9, -999.00
49NZ20071122, P14N, 114, 1, 26, X12032, 2, 20071125, 0128, 7.2372, 179.0043, 5540,    669.0, 2,   6.8144, 2,  34.5546, 2,  34.5525, 2,     32.2, 2,     34.6, 2,    57.21, 2,    40.08, 2,     0.00, 2,     2.93, 2,    0.024, 6,    0.014, 6,    0.006, 6, -999.000, 9,   -999.0, 9,   -999.0, 9, -999.0000,   -999.00,   -999.0, 9,   -999.0,  -999.00, 9,   -999.0,   6.7510, 27.1020,   6.8178, 2, 9, 0.24, 0.15, 0.01, 0.017,  -999.00, 9, -999.00, -999.00, 9, -999.00
49NZ20071122, P14N, 114, 1, 25, X12043, 2, 20071125, 0128, 7.2372, 179.0043, 5540,    771.0, 2,   6.0555, 2,  34.5439, 2,  34.5430, 2,     38.4, 2,     37.9, 2,    66.20, 2,    41.41, 2,     0.01, 2,     2.99, 2,    0.010, 2,    0.007, 2,    0.000, 2, -999.000, 9,   -999.0, 9,   -999.0, 9, -999.0000,   -999.00,   -999.0, 9,   -999.0,  -999.00, 9,   -999.0,   5.9863, 27.1940,   6.0556, 2, 9, 0.26, 0.15, 0.01, 0.017,  -999.00, 9, -999.00, -999.00, 9, -999.00
49NZ20071122, P14N, 114, 1, 24, X12030, 2, 20071125, 0128, 7.2372, 179.0043, 5540,    870.1, 2,   5.3793, 2,  34.5469, 2,  34.5463, 2,     43.0, 2,     43.7, 2,    75.59, 2,    42.11, 2,     0.01, 2,     3.03, 2,    0.002, 2,    0.000, 2,    0.000, 2, -999.000, 9,   -999.0, 9,   -999.0, 9, -999.0000,   -999.00,   -999.0, 9,   -999.0,  -999.00, 9,   -999.0,   5.3051, 27.2802,   5.3790, 2, 9, 0.29, 0.15, 0.01, 0.018,  -999.00, 9, -999.00, -999.00, 9, -999.00
49NZ20071122, P14N, 114, 1, 23, X12027, 2, 20071125, 0128, 7.2372, 179.0043, 5540,    970.3, 2,   4.8318, 2,  34.5512, 2,  34.5515, 6,     51.8, 2,     52.9, 2,    85.11, 2,    41.85, 2,     0.01, 2,     3.01, 2,    0.000, 2,    0.000, 2,    0.000, 2, -999.000, 9,   -999.0, 9,   -999.0, 9, -999.0000,   -999.00,   -999.0, 9,   -999.0,  -999.00, 9,   -999.0,   4.7523, 27.3477,   4.8314, 2, 9, 0.31, 0.15, 0.01, 0.017,  -999.00, 9, -999.00, -999.00, 9, -999.00
49NZ20071122, P14N, 114, 1, 22, X12028, 2, 20071125, 0128, 7.2372, 179.0043, 5540,   1132.3, 2,   4.2097, 2,  34.5658, 2,  34.5663, 2,     61.0, 2,     61.1, 2,    96.80, 2,    41.70, 2,     0.01, 2,     3.02, 2, -999.000, 9, -999.000, 9, -999.000, 9, -999.000, 9,   -999.0, 9,   -999.0, 9, -999.0000,   -999.00,   -999.0, 9,   -999.0,  -999.00, 9,   -999.0,   4.1210, 27.4281,   4.2100, 2, 9, 0.33, 0.15, 0.01, 0.017,  -999.00, 9, -999.00, -999.00, 9, -999.00
49NZ20071122, P14N, 114, 1, 21, X12009, 2, 20071125, 0128, 7.2372, 179.0043, 5540,   1331.6, 2,   3.5372, 2,  34.5848, 2,  34.5854, 2,     69.9, 2,     69.5, 2,   111.82, 2,    41.33, 2,     0.01, 2,     2.99, 2, -999.000, 9, -999.000, 9, -999.000, 9, -999.000, 9,   -999.0, 9,   -999.0, 9, -999.0000,   -999.00,   -999.0, 9,   -999.0,  -999.00, 9,   -999.0,   3.4377, 27.5124,   3.5378, 2, 9, 0.36, 0.15, 0.01, 0.017,  -999.00, 9, -999.00, -999.00, 9, -999.00
49NZ20071122, P14N, 114, 1, 20, X12026, 2, 20071125, 0128, 7.2372, 179.0043, 5540,   1529.2, 2,   3.0083, 2,  34.6022, 2,  34.6025, 2,     83.0, 2,     82.9, 2,   122.49, 2,    40.54, 2,     0.01, 2,     2.91, 2,    0.000, 2,    0.000, 2,    0.000, 2, -999.000, 9,   -999.0, 9,   -999.0, 9, -999.0000,   -999.00,   -999.0, 9,   -999.0,  -999.00, 9,   -999.0,   2.8979, 27.5768,   3.0081, 2, 9, 0.39, 0.15, 0.01, 0.017,  -999.00, 9, -999.00, -999.00, 9, -999.00
49NZ20071122, P14N, 114, 1, 19, X12025, 2, 20071125, 0128, 7.2372, 179.0043, 5540,   1730.8, 2,   2.6059, 2,  34.6184, 2,  34.6189, 2,     92.8, 2,     92.6, 2,   130.77, 2,    39.94, 2,     0.01, 2,     2.85, 2, -999.000, 9, -999.000, 9, -999.000, 9, -999.000, 9,   -999.0, 9,   -999.0, 9, -999.0000,   -999.00,   -999.0, 9,   -999.0,  -999.00, 9,   -999.0,   2.4835, 27.6262,   2.6058, 2, 9, 0.41, 0.14, 0.01, 0.017,  -999.00, 9, -999.00, -999.00, 9, -999.00
49NZ20071122, P14N, 114, 1, 18, X12024, 2, 20071125, 0128, 7.2372, 179.0043, 5540,   1930.7, 2,   2.3321, 2,  34.6328, 2,  34.6327, 2,    101.5, 2,    101.8, 2,   136.36, 2,    39.29, 2,     0.01, 2,     2.81, 2, -999.000, 9, -999.000, 9, -999.000, 9, -999.000, 9,   -999.0, 9,   -999.0, 9, -999.0000,   -999.00,   -999.0, 9,   -999.0,  -999.00, 9,   -999.0,   2.1966, 27.6617,   2.3322, 2, 9, 0.42, 0.14, 0.01, 0.017,  -999.00, 9, -999.00, -999.00, 9, -999.00
49NZ20071122, P14N, 114, 1, 17, X12023, 2, 20071125, 0128, 7.2372, 179.0043, 5540,   2129.0, 2,   2.0898, 2,  34.6470, 2,  34.6475, 2,    107.6, 2,    107.7, 2,   142.14, 2,    39.13, 2,     0.01, 2,     2.77, 2,    0.008, 2,    0.007, 2,    0.000, 2, -999.000, 9,   -999.0, 9,   -999.0, 9, -999.0000,   -999.00,   -999.0, 9,   -999.0,  -999.00, 9,   -999.0,   1.9409, 27.6935,   2.0901, 2, 9, 0.43, 0.14, 0.01, 0.017,  -999.00, 9, -999.00, -999.00, 9, -999.00
49NZ20071122, P14N, 114, 1, 16, X12022, 2, 20071125, 0128, 7.2372, 179.0043, 5540,   2330.9, 2,   1.9475, 2,  34.6560, 2,  34.6559, 6,    113.0, 2,    112.4, 2,   145.33, 2,    38.75, 2,     0.01, 2,     2.75, 2, -999.000, 9, -999.000, 9, -999.000, 9, -999.000, 9,   -999.0, 9,   -999.0, 9, -999.0000,   -999.00,   -999.0, 9,   -999.0,  -999.00, 9,   -999.0,   1.7833, 27.7130,   1.9474, 2, 9, 0.44, 0.14, 0.01, 0.017,  -999.00, 9, -999.00, -999.00, 9, -999.00
49NZ20071122, P14N, 114, 1, 15, X12021, 2, 20071125, 0128, 7.2372, 179.0043, 5540,   2531.1, 2,   1.8533, 2,  34.6617, 2,  34.6611, 2,    118.2, 2,    117.9, 2,   146.06, 2,    38.35, 2,     0.01, 2,     2.70, 2, -999.000, 9, -999.000, 9, -999.000, 9, -999.000, 9,   -999.0, 9,   -999.0, 9, -999.0000,   -999.00,   -999.0, 9,   -999.0,  -999.00, 9,   -999.0,   1.6729, 27.7259,   1.8536, 2, 9, 0.44, 0.14, 0.01, 0.017,  -999.00, 9, -999.00, -999.00, 9, -999.00
49NZ20071122, P14N, 114, 1, 14, X12020, 2, 20071125, 0128, 7.2372, 179.0043, 5540,   2731.9, 2,   1.7734, 2,  34.6664, 2,  34.6661, 2,    123.5, 2,    123.2, 2,   146.98, 2,    38.08, 2,     0.01, 2,     2.68, 2,    0.006, 2,    0.004, 2,    0.000, 2, -999.000, 9,   -999.0, 9,   -999.0, 9, -999.0000,   -999.00,   -999.0, 9,   -999.0,  -999.00, 9,   -999.0,   1.5761, 27.7369,   1.7733, 2, 9, 0.44, 0.14, 0.01, 0.017,  -999.00, 9, -999.00, -999.00, 9, -999.00
49NZ20071122, P14N, 114, 1, 13, X12019, 2, 20071125, 0128, 7.2372, 179.0043, 5540,   2931.7, 2,   1.7111, 2,  34.6702, 2,  34.6700, 2,    127.8, 2,    127.7, 2,   147.00, 2,    37.75, 2,     0.00, 2,     2.65, 2, -999.000, 9, -999.000, 9, -999.000, 9, -999.000, 9,   -999.0, 9,   -999.0, 9, -999.0000,   -999.00,   -999.0, 9,   -999.0,  -999.00, 9,   -999.0,   1.4962, 27.7457,   1.7112, 2, 9, 0.44, 0.14, 0.01, 0.017,  -999.00, 9, -999.00, -999.00, 9, -999.00
49NZ20071122, P14N, 114, 1, 12, X12040, 2, 20071125, 0128, 7.2372, 179.0043, 5540,   3170.7, 2,   1.6313, 2,  34.6749, 2,  34.6744, 2,    134.9, 2,    134.8, 2,   146.05, 2,    37.27, 2,     0.01, 2,     2.61, 2, -999.000, 9, -999.000, 9, -999.000, 9, -999.000, 9,   -999.0, 9,   -999.0, 9, -999.0000,   -999.00,   -999.0, 9,   -999.0,  -999.00, 9,   -999.0,   1.3950, 27.7569,   1.6314, 2, 9, 0.44, 0.14, 0.01, 0.016,  -999.00, 9, -999.00, -999.00, 9, -999.00
49NZ20071122, P14N, 114, 1, 11, X12047, 2, 20071125, 0128, 7.2372, 179.0043, 5540,   3420.4, 2,   1.5552, 2,  34.6800, 2,  34.6796, 2,    142.7, 2,    142.5, 2,   145.01, 2,    36.71, 2,     0.01, 2,     2.57, 2,    0.000, 2,    0.000, 2,    0.000, 2, -999.000, 9,   -999.0, 9,   -999.0, 9, -999.0000,   -999.00,   -999.0, 9,   -999.0,  -999.00, 9,   -999.0,   1.2958, 27.7680,   1.5551, 2, 9, 0.44, 0.14, 0.01, 0.016,  -999.00, 9, -999.00, -999.00, 9, -999.00
49NZ20071122, P14N, 114, 1, 10, X12012, 2, 20071125, 0128, 7.2372, 179.0043, 5540,   3670.2, 2,   1.4860, 2,  34.6851, 2,  34.6847, 2,    151.4, 2,    151.5, 2,   141.62, 2,    36.09, 2,     0.01, 2,     2.53, 2, -999.000, 9, -999.000, 9, -999.000, 9, -999.000, 9,   -999.0, 9,   -999.0, 9, -999.0000,   -999.00,   -999.0, 9,   -999.0,  -999.00, 9,   -999.0,   1.2026, 27.7786,   1.4860, 2, 9, 0.43, 0.13, 0.01, 0.016,  -999.00, 9, -999.00, -999.00, 9, -999.00
49NZ20071122, P14N, 114, 1, 9, X12015, 2, 20071125, 0128, 7.2372, 179.0043, 5540,   3920.1, 2,   1.4192, 2,  34.6902, 2,  34.6900, 2,    160.2, 2,    160.3, 2,   138.51, 2,    35.46, 2,     0.01, 2,     2.48, 2, -999.000, 9, -999.000, 9, -999.000, 9, -999.000, 9,   -999.0, 9,   -999.0, 9, -999.0000,   -999.00,   -999.0, 9,   -999.0,  -999.00, 9,   -999.0,   1.1112, 27.7890,   1.4193, 2, 9, 0.42, 0.13, 0.01, 0.016,  -999.00, 9, -999.00, -999.00, 9, -999.00
49NZ20071122, P14N, 114, 1, 8, X12046, 2, 20071125, 0128, 7.2372, 179.0043, 5540,   4170.7, 2,   1.3560, 2,  34.6950, 2,  34.6949, 6,    169.4, 2,    169.5, 2,   134.59, 2,    34.82, 2,     0.01, 2,     2.43, 2,    0.003, 2,    0.004, 2,    0.000, 2, -999.000, 9,   -999.0, 9,   -999.0, 9, -999.0000,   -999.00,   -999.0, 9,   -999.0,  -999.00, 9,   -999.0,   1.0225, 27.7987,   1.3560, 2, 9, 0.42, 0.13, 0.01, 0.016,  -999.00, 9, -999.00, -999.00, 9, -999.00
49NZ20071122, P14N, 114, 1, 7, X12044, 2, 20071125, 0128, 7.2372, 179.0043, 5540,   4420.1, 2,   1.3170, 2,  34.6985, 2,  34.6979, 3,    177.3, 2,    176.8, 2,   130.92, 2,    34.26, 2,     0.01, 2,     2.39, 2, -999.000, 9, -999.000, 9, -999.000, 9, -999.000, 9,   -999.0, 9,   -999.0, 9, -999.0000,   -999.00,   -999.0, 9,   -999.0,  -999.00, 9,   -999.0,   0.9567, 27.8060,   1.3170, 2, 9, 0.41, 0.13, 0.01, 0.016,  -999.00, 9, -999.00, -999.00, 9, -999.00
49NZ20071122, P14N, 114, 1, 6, X12048, 2, 20071125, 0128, 7.2372, 179.0043, 5540,   4669.3, 2,   1.2935, 2,  34.7015, 2,  34.7015, 2,    183.1, 2,    183.2, 2,   127.35, 2,    33.85, 2,     0.01, 2,     2.36, 2,    0.000, 2,    0.000, 2,    0.000, 2, -999.000, 9,   -999.0, 9,   -999.0, 9, -999.0000,   -999.00,   -999.0, 9,   -999.0,  -999.00, 9,   -999.0,   0.9053, 27.8117,   1.2935, 2, 9, 0.40, 0.13, 0.01, 0.016,  -999.00, 9, -999.00, -999.00, 9, -999.00
49NZ20071122, P14N, 114, 1, 5, X12014, 2, 20071125, 0128, 7.2372, 179.0043, 5540,   4921.8, 2,   1.2979, 2,  34.7029, 2,  34.7028, 2,    186.5, 2,    186.5, 2,   125.11, 2,    33.57, 2,     0.01, 2,     2.34, 2,    0.000, 2,    0.000, 2,    0.000, 2, -999.000, 9,   -999.0, 9,   -999.0, 9, -999.0000,   -999.00,   -999.0, 9,   -999.0,  -999.00, 9,   -999.0,   0.8798, 27.8146,   1.2979, 2, 9, 0.39, 0.13, 0.01, 0.016,  -999.00, 9, -999.00, -999.00, 9, -999.00
49NZ20071122, P14N, 114, 1, 4, X12006, 2, 20071125, 0128, 7.2372, 179.0043, 5540,   5170.5, 2,   1.3096, 2,  34.7040, 2,  34.7038, 2,    188.9, 2,    188.7, 2,   124.15, 2,    33.32, 2,     0.01, 2,     2.33, 2,    0.007, 2,    0.005, 2,    0.000, 2, -999.000, 9,   -999.0, 9,   -999.0, 9, -999.0000,   -999.00,   -999.0, 9,   -999.0,  -999.00, 9,   -999.0,   0.8610, 27.8166,   1.3097, 2, 9, 0.39, 0.13, 0.01, 0.016,  -999.00, 9, -999.00, -999.00, 9, -999.00
49NZ20071122, P14N, 114, 1, 3, X12013, 2, 20071125, 0128, 7.2372, 179.0043, 5540,   5420.4, 2,   1.3307, 2,  34.7045, 2,  34.7048, 2,    190.3, 2,    189.9, 2,   123.39, 2,    33.31, 2,     0.00, 2,     2.32, 2,    1.473, 4,    0.924, 4,    0.147, 4, -999.000, 9,   -999.0, 9,   -999.0, 9, -999.0000,   -999.00,   -999.0, 9,   -999.0,  -999.00, 9,   -999.0,   0.8502, 27.8177,   1.3308, 2, 9, 0.39, 0.13, 0.01, 0.016,  -999.00, 9, -999.00, -999.00, 9, -999.00
49NZ20071122, P14N, 114, 1, 2, X12002, 9, 20071125, 0128, 7.2372, 179.0043, 5540,      9.6, 2,  28.4667, 2,  34.6274, 2, -999.0000, 9,    196.2, 2,   -999.0, 9,  -999.00, 9,  -999.00, 9,  -999.00, 9,  -999.00, 9, -999.000, 9, -999.000, 9, -999.000, 9, -999.000, 9,   -999.0, 9,   -999.0, 9, -999.0000,   -999.00,   -999.0, 9,   -999.0,  -999.00, 9,   -999.0,  28.4644, 21.9620,  28.4652, 2, 9, -999.00, -999.00, -999.00, -999.000,  -999.00, 9, -999.00, -999.00, 9, -999.00
49NZ20071122, P14N, 114, 1, 1, X12001, 2, 20071125, 0128, 7.2372, 179.0043, 5540,   5630.1, 2,   1.3540, 2,  34.7046, 2,  34.7049, 6,    190.7, 2,    190.2, 2,   123.40, 2,    33.30, 2,     0.01, 2,     2.31, 2,    0.010, 2,    0.007, 2,    0.000, 2, -999.000, 9,   -999.0, 9,   -999.0, 9, -999.0000,   -999.00,   -999.0, 9,   -999.0,  -999.00, 9,   -999.0,   0.8460, 27.8181,   1.3542, 2, 9, 0.39, 0.13, 0.01, 0.016,  -999.00, 9, -999.00, -999.00, 9, -999.00