BOTTLE,20220820CCHSIOAMB
EXPOCODE,SECT_ID,STNNBR,CASTNO,SAMPNO,BTLNBR,BTLNBR_FLAG_W,DATE,TIME,LATITUDE,LONGITUDE,DEPTH,CTDPRS,CTDPRS_FLAG_W,CTDTMP,CTDTMP_FLAG_W,CTDSAL,CTDSAL_FLAG_W,SALNTY,SALNTY_FLAG_W,CTDOXY,CTDOXY_FLAG_W,OXYGEN,OXYGEN_FLAG_W,SILCAT,SILCAT_FLAG_W,NITRAT,NITRAT_FLAG_W,NITRIT,NITRIT_FLAG_W,PHSPHT,PHSPHT_FLAG_W,CFC-11,CFC-11_FLAG_W,CFC-12,CFC-12_FLAG_W,CFC113,CFC113_FLAG_W,CCL4,CCL4_FLAG_W,TCARBN,TCARBN_FLAG_W,ALKALI,ALKALI_FLAG_W,PH_TOT,PH_TMP,DELC14,DELC14_FLAG_W,C14ERR,DELC13,DELC13_FLAG_W,C13ERR,THETA,SIG0,SBE35,SBE35_FLAG_W,PH_TOT_FLAG_W,SILUNC,NRAUNC,NRIUNC,PHPUNC,CS-137,CS-137_FLAG_W,CS137ER,PLUTO,PLUTO_FLAG_W,PLUTOER
,,,,,,,,,,,METERS,DBAR,,ITS-90,,PSS-78,,PSS-78,,UMOL/KG,,UMOL/KG,,UMOL/KG,,UMOL/KG,,UMOL/KG,,UMOL/KG,,PMOL/KG,,PMOL/KG,,PMOL/KG,,PMOL/KG,,UMOL/KG,,UMOL/KG,,,DEG C,/MILLE,,/MILLE,/MILLE,,/MILLE,DEG C,KG/M^3,ITS-90,,,UMOL/KG,UMOL/KG,UMOL/KG,UMOL/KG,DM/.1MG,,BQ/M^3,MBQ/M^3,,MBQ/M^3
49NZ20071122, P14N, 139, 1, 36, X12042, 2, 20071130, 2259, 1.0053, 178.9958, 5728,     10.4, 2,  27.5306, 2,  35.1595, 2,  35.1598, 2,    202.0, 2,    202.3, 2,     1.59, 2,     2.31, 2,     0.24, 2,     0.37, 2,    1.541, 2,    0.980, 2,    0.210, 4, -999.000, 9,   1998.5, 2,   2313.2, 2,    8.0662,     25.00,   -999.0, 9,   -999.0,  -999.00, 9,   -999.0,  27.5282, 22.6681,  27.5304, 2, 6, 0.12, 0.04, 0.01, 0.014,  -999.00, 9, -999.00, -999.00, 9, -999.00
49NZ20071122, P14N, 139, 1, 35, X12041, 2, 20071130, 2259, 1.0053, 178.9958, 5728,     50.5, 2,  26.9395, 2,  35.2199, 2,  35.2207, 2,    190.5, 2,    192.9, 2,     1.91, 2,     3.44, 2,     0.64, 2,     0.50, 2,    1.578, 2,    0.996, 2,    0.186, 4, -999.000, 9,   2019.6, 6,   2317.3, 2,    8.0349,     25.00,   -999.0, 9,   -999.0,  -999.00, 9,   -999.0,  26.9279, 22.9064,  26.9385, 2, 2, 0.12, 0.04, 0.00, 0.013,  -999.00, 9, -999.00, -999.00, 9, -999.00
49NZ20071122, P14N, 139, 1, 34, X12016, 2, 20071130, 2259, 1.0053, 178.9958, 5728,     99.9, 2,  26.5039, 2,  35.2084, 2,  35.1990, 2,    178.2, 2,    179.9, 2,     2.45, 2,     4.92, 2,     1.10, 2,     0.58, 2,    1.608, 2,    0.997, 2,    0.160, 4, -999.000, 9,   2030.1, 2,   2313.9, 6,    8.0089,     25.00,   -999.0, 9,   -999.0,  -999.00, 9,   -999.0,  26.4813, 23.0395,  26.5173, 2, 2, 0.12, 0.05, 0.00, 0.013,  -999.00, 9, -999.00, -999.00, 9, -999.00
49NZ20071122, P14N, 139, 1, 33, X12033, 2, 20071130, 2259, 1.0053, 178.9958, 5728,    151.0, 2,  25.1638, 2,  35.1756, 2,  35.1854, 2,    168.1, 2,    175.2, 2,     3.18, 2,     6.43, 2,     0.91, 2,     0.67, 2,    1.677, 6,    1.030, 6,    0.185, 4, -999.000, 9,   2046.6, 2,   2315.4, 2,    7.9808,     25.00,   -999.0, 9,   -999.0,  -999.00, 9,   -999.0,  25.1309, 23.4341,  25.1745, 2, 6, 0.13, 0.05, 0.00, 0.013,  -999.00, 9, -999.00, -999.00, 9, -999.00
49NZ20071122, P14N, 139, 1, 32, X12038, 2, 20071130, 2259, 1.0053, 178.9958, 5728,    201.6, 2,  17.9422, 2,  34.9825, 2,  34.9874, 2,    135.8, 2,    135.6, 2,     9.39, 2,    12.58, 2,     0.02, 2,     0.98, 2,    1.923, 2,    1.097, 2,    0.046, 2, -999.000, 9,   2104.3, 2,   2305.6, 2,    7.8583,     25.00,   -999.0, 9,   -999.0,  -999.00, 9,   -999.0,  17.9077, 25.2814,  17.9179, 2, 2, 0.14, 0.07, 0.01, 0.013,  -999.00, 9, -999.00, -999.00, 9, -999.00
49NZ20071122, P14N, 139, 1, 31, X12003, 2, 20071130, 2259, 1.0053, 178.9958, 5728,    250.6, 2,  13.1410, 2,  34.7434, 2,  34.7416, 6,    125.3, 2,    124.3, 2,    19.69, 2,    20.00, 2,     0.01, 2,     1.49, 2,    1.584, 2,    0.861, 2,    0.033, 2, -999.000, 9,   2151.1, 2,   2300.3, 2,    7.7373,     25.00,   -999.0, 9,   -999.0,  -999.00, 9,   -999.0,  13.1063, 26.1727,  13.1440, 2, 2, 0.16, 0.09, 0.01, 0.014,  -999.00, 9, -999.00, -999.00, 9, -999.00
49NZ20071122, P14N, 139, 1, 30, X12008, 2, 20071130, 2259, 1.0053, 178.9958, 5728,    299.7, 2,  11.8534, 2,  34.7738, 2,  34.7763, 2,    119.2, 2,    118.1, 2,    21.05, 2,    22.77, 2,     0.01, 2,     1.67, 2,    1.293, 2,    0.699, 2,    0.022, 2, -999.000, 9,   2172.6, 2,   2305.4, 2,    7.7014,     25.00,   -999.0, 9,   -999.0,  -999.00, 9,   -999.0,  11.8145, 26.4487,  11.8548, 2, 2, 0.17, 0.10, 0.01, 0.014,  -999.00, 9, -999.00, -999.00, 9, -999.00
49NZ20071122, P14N, 139, 1, 29, X12035, 2, 20071130, 2259, 1.0053, 178.9958, 5728,    404.1, 2,  10.5710, 2,  34.7504, 2,  34.7497, 2,     64.7, 2,     55.8, 2,    27.31, 2,    31.37, 2,     0.00, 2,     2.22, 2,    0.636, 2,    0.340, 2,    0.015, 2, -999.000, 9,   2226.3, 2,   2304.6, 2,    7.5522,     25.00,   -999.0, 9,   -999.0,  -999.00, 9,   -999.0,  10.5221, 26.6665,  10.5723, 2, 2, 0.18, 0.12, 0.01, 0.016,  -999.00, 9, -999.00, -999.00, 9, -999.00
49NZ20071122, P14N, 139, 1, 28, X12034, 2, 20071130, 2259, 1.0053, 178.9958, 5728,    499.6, 2,   9.2162, 2,  34.6665, 2,  34.6547, 6,     67.8, 2,     60.8, 2,    33.53, 2,    33.86, 2,     0.00, 2,     2.39, 2,    0.368, 2,    0.196, 2,    0.009, 2, -999.000, 9,   2239.6, 2,   2307.7, 2,    7.5268,     25.00,   -999.0, 9,   -999.0,  -999.00, 9,   -999.0,   9.1604, 26.8311,   9.2158, 2, 2, 0.19, 0.13, 0.01, 0.016,  -999.00, 9, -999.00, -999.00, 9, -999.00
49NZ20071122, P14N, 139, 1, 27, X12049, 2, 20071130, 2259, 1.0053, 178.9958, 5728,    603.1, 2,   7.7142, 2,  34.5920, 2,  34.5909, 2,     72.8, 2,     74.4, 2,    40.46, 2,    35.16, 2,     0.00, 2,     2.50, 2,    0.221, 2,    0.118, 2,    0.004, 2, -999.000, 9,   2245.7, 2,   2315.2, 2,    7.5255,     25.00,   -999.0, 9,   -999.0,  -999.00, 9,   -999.0,   7.6532, 27.0045,   7.7146, 2, 2, 0.21, 0.13, 0.01, 0.016,  -999.00, 9, -999.00, -999.00, 9, -999.00
49NZ20071122, P14N, 139, 1, 26, X12032, 2, 20071130, 2259, 1.0053, 178.9958, 5728,    700.5, 2,   6.4830, 2,  34.5541, 2,  34.5530, 2,     70.8, 2,     73.3, 2,    52.81, 2,    37.73, 2,     0.00, 2,     2.70, 2,    0.087, 6,    0.047, 6,    0.000, 6, -999.000, 9,   2263.4, 6,   2325.5, 2,    7.5008,     25.00,   -999.0, 9,   -999.0,  -999.00, 9,   -999.0,   6.4182, 27.1461,   6.4832, 2, 2, 0.24, 0.14, 0.01, 0.017,  -999.00, 9, -999.00, -999.00, 9, -999.00
49NZ20071122, P14N, 139, 1, 25, X12043, 2, 20071130, 2259, 1.0053, 178.9958, 5728,    801.0, 2,   5.3971, 2,  34.5425, 2,  34.5421, 2,     86.3, 2,     87.6, 2,    65.45, 2,    38.11, 2,     0.00, 2,     2.73, 2,    0.037, 2,    0.023, 2,    0.000, 2, -999.000, 9,   2273.9, 2,   2338.6, 6,    7.5113,     25.00,   -999.0, 9,   -999.0,  -999.00, 9,   -999.0,   5.3290, 27.2739,   5.3966, 2, 2, 0.26, 0.14, 0.01, 0.017,  -999.00, 9, -999.00, -999.00, 9, -999.00
49NZ20071122, P14N, 139, 1, 24, X12030, 2, 20071130, 2259, 1.0053, 178.9958, 5728,    900.8, 2,   5.1037, 2,  34.5440, 2,  34.5433, 2,     89.6, 2,     89.4, 2,    70.41, 2,    38.32, 2,     0.00, 2,     2.74, 2,    0.031, 2,    0.022, 2,    0.000, 2, -999.000, 9,   2280.0, 2,   2344.5, 2,    7.5123,     25.00,   -999.0, 9,   -999.0,  -999.00, 9,   -999.0,   5.0285, 27.3104,   5.1036, 2, 6, 0.27, 0.14, 0.01, 0.017,  -999.00, 9, -999.00, -999.00, 9, -999.00
49NZ20071122, P14N, 139, 1, 23, X12027, 2, 20071130, 2259, 1.0053, 178.9958, 5728,   1001.4, 2,   4.8679, 2,  34.5499, 2,  34.5492, 6,     83.3, 2,     83.7, 2,    76.14, 2,    39.14, 2,     0.00, 2,     2.81, 2,    0.288, 4,    0.750, 4,    0.080, 4, -999.000, 9,   2290.5, 2,   2350.6, 2,    7.4998,     25.00,   -999.0, 9,   -999.0,  -999.00, 9,   -999.0,   4.7854, 27.3429,   4.8681, 2, 2, 0.29, 0.14, 0.01, 0.017,  -999.00, 9, -999.00, -999.00, 9, -999.00
49NZ20071122, P14N, 139, 1, 22, X12028, 2, 20071130, 2259, 1.0053, 178.9958, 5728,   1200.7, 2,   4.0621, 2,  34.5671, 2,  34.5669, 2,     88.5, 2,     88.3, 2,    93.52, 2,    39.41, 2,     0.00, 2,     2.84, 2,    0.001, 2,    0.001, 2,    0.000, 2, -999.000, 9,   2305.8, 2,   2369.6, 2,    7.5040,     25.00,   -999.0, 9,   -999.0,  -999.00, 9,   -999.0,   3.9688, 27.4450,   4.0627, 2, 2, 0.32, 0.14, 0.01, 0.017,  -999.00, 9, -999.00, -999.00, 9, -999.00
49NZ20071122, P14N, 139, 1, 21, X12009, 2, 20071130, 2259, 1.0053, 178.9958, 5728,   1401.9, 2,   3.3094, 2,  34.5912, 2,  34.5916, 2,     94.6, 2,     94.9, 2,   109.77, 2,    39.46, 2,     0.00, 2,     2.83, 2,    0.004, 2,    0.003, 2,    0.000, 2, -999.000, 9,   2323.2, 2,   2388.3, 2,    7.5111,     25.00,   -999.0, 9,   -999.0,  -999.00, 9,   -999.0,   3.2063, 27.5396,   3.3106, 2, 2, 0.36, 0.14, 0.01, 0.017,  -999.00, 9, -999.00, -999.00, 9, -999.00
49NZ20071122, P14N, 139, 1, 20, X12026, 2, 20071130, 2259, 1.0053, 178.9958, 5728,   1602.7, 2,   2.8840, 2,  34.6094, 2,  34.6093, 2,     98.7, 2,     98.5, 2,   119.74, 2,    39.38, 2,     0.00, 2,     2.83, 2,    0.000, 2,    0.000, 2,    0.000, 2, -999.000, 9,   2329.3, 2,   2398.4, 2,    7.5166,     25.00,   -999.0, 9,   -999.0,  -999.00, 9,   -999.0,   2.7689, 27.5941,   2.8839, 2, 2, 0.38, 0.14, 0.01, 0.017,  -999.00, 9, -999.00, -999.00, 9, -999.00
49NZ20071122, P14N, 139, 1, 19, X12025, 2, 20071130, 2259, 1.0053, 178.9958, 5728,   1799.5, 2,   2.5209, 2,  34.6251, 2,  34.6254, 2,    107.9, 2,    107.4, 2,   127.21, 2,    38.84, 2,     0.00, 2,     2.77, 2, -999.000, 9, -999.000, 9, -999.000, 9, -999.000, 9,   2335.0, 2,   2407.7, 2,    7.5296,     25.00,   -999.0, 9,   -999.0,  -999.00, 9,   -999.0,   2.3938, 27.6391,   2.5205, 2, 2, 0.40, 0.14, 0.01, 0.017,  -999.00, 9, -999.00, -999.00, 9, -999.00
49NZ20071122, P14N, 139, 1, 18, X12024, 2, 20071130, 2259, 1.0053, 178.9958, 5728,   2000.9, 2,   2.2973, 2,  34.6374, 2,  34.6371, 2,    111.0, 2,    110.5, 2,   132.77, 2,    38.75, 2,     0.00, 2,     2.76, 2,    0.002, 2,    0.003, 2,    0.000, 2, -999.000, 9,   2339.6, 2,   2412.7, 2,    7.5350,     25.00,   -999.0, 9,   -999.0,  -999.00, 9,   -999.0,   2.1563, 27.6686,   2.2973, 2, 2, 0.41, 0.14, 0.01, 0.017,  -999.00, 9, -999.00, -999.00, 9, -999.00
49NZ20071122, P14N, 139, 1, 17, X12023, 2, 20071130, 2259, 1.0053, 178.9958, 5728,   2202.8, 2,   2.1063, 2,  34.6470, 2,  34.6470, 6,    116.9, 2,    116.8, 2,   136.17, 2,    38.38, 2,     0.00, 2,     2.72, 2, -999.000, 9, -999.000, 9, -999.000, 9, -999.000, 9,   2339.6, 2,   2415.7, 2,    7.5450,     25.00,   -999.0, 9,   -999.0,  -999.00, 9,   -999.0,   1.9507, 27.6927,   2.1062, 2, 2, 0.42, 0.14, 0.01, 0.017,  -999.00, 9, -999.00, -999.00, 9, -999.00
49NZ20071122, P14N, 139, 1, 16, X12022, 2, 20071130, 2259, 1.0053, 178.9958, 5728,   2399.8, 2,   1.9045, 2,  34.6585, 2,  34.6583, 2,    122.2, 2,    122.3, 2,   140.45, 2,    38.06, 2,     0.00, 2,     2.69, 2, -999.000, 9, -999.000, 9, -999.000, 9, -999.000, 9,   2340.4, 6,   2421.2, 2,    7.5541,     25.00,   -999.0, 9,   -999.0,  -999.00, 9,   -999.0,   1.7350, 27.7186,   1.9045, 2, 2, 0.43, 0.14, 0.01, 0.017,  -999.00, 9, -999.00, -999.00, 9, -999.00
49NZ20071122, P14N, 139, 1, 15, X12021, 2, 20071130, 2259, 1.0053, 178.9958, 5728,   2600.9, 2,   1.8473, 2,  34.6627, 2,  34.6625, 2,    124.5, 2,    125.0, 2,   141.55, 2,    37.85, 2,     0.00, 2,     2.68, 2,    0.000, 2,    0.001, 2,    0.000, 2, -999.000, 9,   2340.7, 2,   2422.5, 6,    7.5580,     25.00,   -999.0, 9,   -999.0,  -999.00, 9,   -999.0,   1.6606, 27.7277,   1.8474, 2, 2, 0.43, 0.14, 0.01, 0.017,  -999.00, 9, -999.00, -999.00, 9, -999.00
49NZ20071122, P14N, 139, 1, 14, X12020, 2, 20071130, 2259, 1.0053, 178.9958, 5728,   2800.7, 2,   1.7767, 2,  34.6663, 2,  34.6657, 2,    129.1, 2,    128.8, 2,   142.39, 2,    37.61, 2,     0.00, 2,     2.66, 2, -999.000, 9, -999.000, 9, -999.000, 9, -999.000, 9,   2340.4, 2,   2422.8, 2,    7.5635,     25.00,   -999.0, 9,   -999.0,  -999.00, 9,   -999.0,   1.5729, 27.7370,   1.7769, 2, 6, 0.43, 0.14, 0.01, 0.017,  -999.00, 9, -999.00, -999.00, 9, -999.00
49NZ20071122, P14N, 139, 1, 13, X12019, 2, 20071130, 2259, 1.0053, 178.9958, 5728,   3000.8, 2,   1.6979, 2,  34.6707, 2,  34.6703, 2,    133.7, 2,    133.8, 2,   142.71, 2,    37.36, 2,     0.01, 2,     2.63, 2, -999.000, 9, -999.000, 9, -999.000, 9, -999.000, 9,   2337.8, 2,   2422.8, 2,    7.5696,     25.00,   -999.0, 9,   -999.0,  -999.00, 9,   -999.0,   1.4767, 27.7476,   1.6979, 2, 2, 0.43, 0.14, 0.01, 0.017,  -999.00, 9, -999.00, -999.00, 9, -999.00
49NZ20071122, P14N, 139, 1, 12, X12040, 2, 20071130, 2259, 1.0053, 178.9958, 5728,   3250.4, 2,   1.6035, 2,  34.6765, 2,  34.6763, 2,    142.5, 2,    142.3, 2,   141.11, 2,    36.71, 2,     0.01, 2,     2.57, 2,    0.000, 2,    0.000, 2,    0.000, 2, -999.000, 9,   2331.5, 2,   2420.0, 2,    7.5819,     25.00,   -999.0, 9,   -999.0,  -999.00, 9,   -999.0,   1.3600, 27.7607,   1.6036, 2, 2, 0.43, 0.14, 0.01, 0.016,  -999.00, 9, -999.00, -999.00, 9, -999.00
49NZ20071122, P14N, 139, 1, 11, X12047, 2, 20071130, 2259, 1.0053, 178.9958, 5728,   3500.3, 2,   1.5489, 2,  34.6810, 2,  34.6844, 4,    148.0, 2,    148.2, 2,   140.17, 2,    36.36, 2,     0.01, 2,     2.55, 2, -999.000, 9, -999.000, 9, -999.000, 9, -999.000, 9,   2322.5, 4,   2418.5, 2,    7.5962,     25.00,   -999.0, 9,   -999.0,  -999.00, 9,   -999.0,   1.2815, 27.7698,   1.5489, 2, 3, 0.43, 0.13, 0.01, 0.016,  -999.00, 9, -999.00, -999.00, 9, -999.00
49NZ20071122, P14N, 139, 1, 10, X12012, 2, 20071130, 2259, 1.0053, 178.9958, 5728,   3750.5, 2,   1.5082, 2,  34.6850, 2,  34.6846, 2,    155.1, 2,    153.6, 2,   138.93, 2,    35.93, 2,     0.00, 2,     2.52, 2,    0.004, 2,    0.003, 2,    0.000, 2, -999.000, 9,   2321.1, 2,   2417.9, 2,    7.5964,     25.00,   -999.0, 9,   -999.0,  -999.00, 9,   -999.0,   1.2158, 27.7776,   1.5082, 2, 2, 0.42, 0.13, 0.01, 0.016,  -999.00, 9, -999.00, -999.00, 9, -999.00
49NZ20071122, P14N, 139, 1, 9, X12015, 2, 20071130, 2259, 1.0053, 178.9958, 5728,   3999.5, 2,   1.4562, 2,  34.6901, 2,  34.6897, 6,    161.4, 2,    161.0, 2,   136.67, 2,    35.46, 2,     0.00, 2,     2.48, 2,    0.001, 2,    0.001, 2,    0.000, 2, -999.000, 9,   2313.8, 2,   2415.4, 2,    7.6055,     25.00,   -999.0, 9,   -999.0,  -999.00, 9,   -999.0,   1.1386, 27.7870,   1.4563, 2, 2, 0.42, 0.13, 0.01, 0.016,  -999.00, 9, -999.00, -999.00, 9, -999.00
49NZ20071122, P14N, 139, 1, 8, X12046, 2, 20071130, 2259, 1.0053, 178.9958, 5728,   4249.8, 2,   1.3908, 2,  34.6954, 2,  34.6951, 2,    170.4, 2,    170.1, 2,   133.41, 2,    34.85, 2,     0.00, 2,     2.43, 2,    0.003, 2,    0.001, 2,    0.000, 2, -999.000, 9,   2307.8, 6,   2410.9, 2,    7.6144,     25.00,   -999.0, 9,   -999.0,  -999.00, 9,   -999.0,   1.0475, 27.7974,   1.3909, 2, 2, 0.41, 0.13, 0.01, 0.016,  -999.00, 9, -999.00, -999.00, 9, -999.00
49NZ20071122, P14N, 139, 1, 7, X12044, 2, 20071130, 2259, 1.0053, 178.9958, 5728,   4499.6, 2,   1.3213, 2,  34.6999, 2,  34.6997, 2,    179.4, 2,    179.4, 2,   129.03, 2,    34.09, 2,     0.00, 2,     2.38, 2,    0.005, 2,    0.005, 2,    0.000, 2, -999.000, 9,   2298.1, 2,   2401.8, 6,    7.6206,     25.00,   -999.0, 9,   -999.0,  -999.00, 9,   -999.0,   0.9518, 27.8074,   1.3213, 2, 2, 0.40, 0.13, 0.01, 0.016,  -999.00, 9, -999.00, -999.00, 9, -999.00
49NZ20071122, P14N, 139, 1, 6, X12048, 2, 20071130, 2259, 1.0053, 178.9958, 5728,   4749.4, 2,   1.2541, 2,  34.7046, 2,  34.7042, 2,    189.2, 2,    189.1, 2,   124.21, 2,    33.39, 2,     0.00, 2,     2.33, 2,    0.002, 2,    0.001, 2,    0.000, 2, -999.000, 9,   2286.8, 2,   2391.5, 2,    7.6263,     25.00,   -999.0, 9,   -999.0,  -999.00, 9,   -999.0,   0.8578, 27.8173,   1.2541, 2, 6, 0.39, 0.13, 0.01, 0.016,  -999.00, 9, -999.00, -999.00, 9, -999.00
49NZ20071122, P14N, 139, 1, 5, X12014, 2, 20071130, 2259, 1.0053, 178.9958, 5728,   4999.0, 2,   1.2588, 2,  34.7055, 2,  34.7057, 2,    191.7, 2,    191.9, 2,   122.67, 2,    33.18, 2,     0.00, 2,     2.31, 2,    0.002, 2,    0.002, 2,    0.000, 2, -999.000, 9,   2283.0, 2,   2388.8, 2,    7.6266,     25.00,   -999.0, 9,   -999.0,  -999.00, 9,   -999.0,   0.8327, 27.8197,   1.2588, 2, 2, 0.39, 0.13, 0.01, 0.016,  -999.00, 9, -999.00, -999.00, 9, -999.00
49NZ20071122, P14N, 139, 1, 4, X12006, 2, 20071130, 2259, 1.0053, 178.9958, 5728,   5249.4, 2,   1.2839, 2,  34.7058, 2,  34.7057, 2,    192.9, 2,    192.7, 2,   122.23, 2,    33.13, 2,     0.00, 2,     2.31, 2,    0.001, 2,    0.001, 2,    0.000, 2, -999.000, 9,   2278.4, 2,   2388.7, 2,    7.6261,     25.00,   -999.0, 9,   -999.0,  -999.00, 9,   -999.0,   0.8264, 27.8203,   1.2839, 2, 2, 0.39, 0.13, 0.01, 0.016,  -999.00, 9, -999.00, -999.00, 9, -999.00
49NZ20071122, P14N, 139, 1, 3, X12013, 2, 20071130, 2259, 1.0053, 178.9958, 5728,   5500.5, 2,   1.3150, 2,  34.7058, 2,  34.7063, 2,    193.1, 2,    192.9, 2,   122.04, 2,    33.11, 2,     0.01, 2,     2.31, 2,    0.007, 2,    0.006, 2,    0.000, 2, -999.000, 9,   2280.3, 2,   2386.4, 2,    7.6266,     25.00,   -999.0, 9,   -999.0,  -999.00, 9,   -999.0,   0.8250, 27.8204,   1.3150, 2, 2, 0.39, 0.13, 0.01, 0.016,  -999.00, 9, -999.00, -999.00, 9, -999.00
49NZ20071122, P14N, 139, 1, 2, X12002, 2, 20071130, 2259, 1.0053, 178.9958, 5728,   5748.8, 2,   1.3463, 2,  34.7059, 2,  34.7063, 2,    193.4, 2,    193.2, 2,   122.02, 2,    33.14, 2,     0.00, 2,     2.31, 2, -999.000, 9, -999.000, 9, -999.000, 9, -999.000, 9,   2278.6, 2,   2385.9, 2,    7.6267,     25.00,   -999.0, 9,   -999.0,  -999.00, 9,   -999.0,   0.8233, 27.8206,   1.3463, 2, 2, 0.39, 0.13, 0.01, 0.016,  -999.00, 9, -999.00, -999.00, 9, -999.00
49NZ20071122, P14N, 139, 1, 1, X12001, 2, 20071130, 2259, 1.0053, 178.9958, 5728,   5815.0, 2,   1.3548, 2,  34.7059, 2,  34.7060, 6,    193.4, 2,    193.4, 2,   122.04, 2,    33.10, 2,     0.01, 2,     2.31, 2,    0.005, 2,    0.003, 2,    0.000, 2, -999.000, 9,   2277.4, 2,   2385.8, 2,    7.6268,     25.00,   -999.0, 9,   -999.0,  -999.00, 9,   -999.0,   0.8228, 27.8206,   1.3548, 2, 2, 0.39, 0.13, 0.01, 0.016,  -999.00, 9, -999.00, -999.00, 9, -999.00