BOTTLE,20220820CCHSIOAMB
EXPOCODE,SECT_ID,STNNBR,CASTNO,SAMPNO,BTLNBR,BTLNBR_FLAG_W,DATE,TIME,LATITUDE,LONGITUDE,DEPTH,CTDPRS,CTDPRS_FLAG_W,CTDTMP,CTDTMP_FLAG_W,CTDSAL,CTDSAL_FLAG_W,SALNTY,SALNTY_FLAG_W,CTDOXY,CTDOXY_FLAG_W,OXYGEN,OXYGEN_FLAG_W,SILCAT,SILCAT_FLAG_W,NITRAT,NITRAT_FLAG_W,NITRIT,NITRIT_FLAG_W,PHSPHT,PHSPHT_FLAG_W,CFC-11,CFC-11_FLAG_W,CFC-12,CFC-12_FLAG_W,CFC113,CFC113_FLAG_W,CCL4,CCL4_FLAG_W,TCARBN,TCARBN_FLAG_W,ALKALI,ALKALI_FLAG_W,PH_TOT,PH_TMP,DELC14,DELC14_FLAG_W,C14ERR,DELC13,DELC13_FLAG_W,C13ERR,THETA,SIG0,SBE35,SBE35_FLAG_W,PH_TOT_FLAG_W,SILUNC,NRAUNC,NRIUNC,PHPUNC,CS-137,CS-137_FLAG_W,CS137ER,PLUTO,PLUTO_FLAG_W,PLUTOER
,,,,,,,,,,,METERS,DBAR,,ITS-90,,PSS-78,,PSS-78,,UMOL/KG,,UMOL/KG,,UMOL/KG,,UMOL/KG,,UMOL/KG,,UMOL/KG,,PMOL/KG,,PMOL/KG,,PMOL/KG,,PMOL/KG,,UMOL/KG,,UMOL/KG,,,DEG C,/MILLE,,/MILLE,/MILLE,,/MILLE,DEG C,KG/M^3,ITS-90,,,UMOL/KG,UMOL/KG,UMOL/KG,UMOL/KG,DM/.1MG,,BQ/M^3,MBQ/M^3,,MBQ/M^3
49NZ20071122, P14, 5, 1, 36, X12042, 2, 20071222, 1230, -34.8262, 175.1848, 1440,      9.4, 2,  19.9641, 2,  35.6600, 2,  35.6609, 2,    231.2, 2,    230.6, 2,     0.81, 2,     0.06, 2,     0.01, 2,     0.12, 2,    2.179, 2,    1.303, 2,    0.341, 4, -999.000, 9,   2040.3, 2,   2338.8, 2,    8.0329,     25.00,   -999.0, 9,   -999.0,  -999.00, 9,   -999.0,  19.9624, 25.2752,  19.9639, 2, 6, 0.12, 0.03, 0.01, 0.020,  -999.00, 9, -999.00, -999.00, 9, -999.00
49NZ20071122, P14, 5, 1, 35, X12041, 2, 20071222, 1230, -34.8262, 175.1848, 1440,     49.5, 2,  18.0389, 2,  35.5855, 2,  35.5858, 2,    235.7, 2,    236.6, 2,     1.16, 2,     0.68, 2,     0.10, 2,     0.20, 2,    2.341, 2,    1.377, 2,    0.268, 4, -999.000, 9,   2054.8, 6,   2335.5, 2,    8.0050,     25.00,   -999.0, 9,   -999.0,  -999.00, 9,   -999.0,  18.0304, 25.7131,  18.0385, 2, 2, 0.12, 0.03, 0.01, 0.016,  -999.00, 9, -999.00, -999.00, 9, -999.00
49NZ20071122, P14, 5, 1, 34, X12016, 2, 20071222, 1230, -34.8262, 175.1848, 1440,    100.2, 2,  16.3606, 2,  35.5046, 2,  35.5036, 2,    219.1, 2,    220.5, 2,     1.88, 2,     4.38, 2,     0.03, 2,     0.42, 2,    2.457, 2,    1.421, 2,    0.211, 4, -999.000, 9,   2076.9, 2,   2330.1, 6,    7.9517,     25.00,   -999.0, 9,   -999.0,  -999.00, 9,   -999.0,  16.3445, 26.0562,  16.3611, 2, 2, 0.12, 0.05, 0.01, 0.013,  -999.00, 9, -999.00, -999.00, 9, -999.00
49NZ20071122, P14, 5, 1, 33, X12033, 2, 20071222, 1230, -34.8262, 175.1848, 1440,    150.7, 2,  15.3292, 2,  35.4160, 2,  35.4171, 2,    213.5, 2,    215.2, 2,     2.70, 2,     6.50, 2,     0.02, 2,     0.55, 2,    2.482, 6,    1.425, 6,    0.170, 4, -999.000, 9,   2088.6, 2,   2325.6, 2,    7.9217,     25.00,   -999.0, 9,   -999.0,  -999.00, 9,   -999.0,  15.3060, 26.2249,  15.3192, 2, 6, 0.12, 0.05, 0.01, 0.013,  -999.00, 9, -999.00, -999.00, 9, -999.00
49NZ20071122, P14, 5, 1, 32, X12038, 2, 20071222, 1230, -34.8262, 175.1848, 1440,    198.8, 2,  14.5359, 2,  35.3332, 2,  35.3281, 2,    206.8, 2,    207.2, 2,     3.64, 2,     8.60, 2,     0.01, 2,     0.69, 2,    2.404, 2,    1.356, 2,    0.149, 4, -999.000, 9,   2100.4, 2,   2320.8, 2,    7.8926,     25.00,   -999.0, 9,   -999.0,  -999.00, 9,   -999.0,  14.5063, 26.3366,  14.5370, 2, 2, 0.13, 0.06, 0.01, 0.013,  -999.00, 9, -999.00, -999.00, 9, -999.00
49NZ20071122, P14, 5, 1, 31, X12003, 2, 20071222, 1230, -34.8262, 175.1848, 1440,    251.3, 2,  13.0449, 2,  35.1716, 2,  35.1690, 6,    199.7, 2,    199.8, 2,     4.63, 2,    11.68, 2,     0.01, 2,     0.88, 2,    2.449, 2,    1.358, 2,    0.101, 4, -999.000, 9,   2117.5, 2,   2313.3, 2,    7.8465,     25.00,   -999.0, 9,   -999.0,  -999.00, 9,   -999.0,  13.0101, 26.5238,  13.0481, 2, 2, 0.13, 0.07, 0.01, 0.013,  -999.00, 9, -999.00, -999.00, 9, -999.00
49NZ20071122, P14, 5, 1, 30, X12008, 2, 20071222, 1230, -34.8262, 175.1848, 1440,    330.6, 2,  11.7445, 2,  35.0015, 2,  35.0043, 2,    201.1, 2,    199.6, 2,     5.43, 2,    14.11, 2,     0.01, 2,     1.03, 2,    2.516, 2,    1.368, 2,    0.085, 2, -999.000, 9,   2128.2, 2,   2306.2, 2,    7.8126,     25.00,   -999.0, 9,   -999.0,  -999.00, 9,   -999.0,  11.7017, 26.6470,  11.7444, 2, 2, 0.13, 0.07, 0.01, 0.013,  -999.00, 9, -999.00, -999.00, 9, -999.00
49NZ20071122, P14, 5, 1, 29, X12035, 2, 20071222, 1230, -34.8262, 175.1848, 1440,    432.3, 2,  10.6162, 2,  34.8846, 2,  34.8790, 2,    195.9, 2,    195.6, 2,     8.13, 2,    17.40, 2,     0.01, 2,     1.25, 2,    2.232, 2,    1.184, 2,    0.075, 2, -999.000, 9,   2139.4, 2,   2302.7, 2,    7.7806,     25.00,   -999.0, 9,   -999.0,  -999.00, 9,   -999.0,  10.5636, 26.7638,  10.6171, 2, 2, 0.14, 0.08, 0.01, 0.013,  -999.00, 9, -999.00, -999.00, 9, -999.00
49NZ20071122, P14, 5, 1, 28, X12034, 2, 20071222, 1230, -34.8262, 175.1848, 1440,    530.5, 2,   8.8165, 2,  34.6447, 2,  34.6443, 6,    202.9, 2,    203.0, 2,     9.75, 2,    20.70, 2,     0.01, 2,     1.46, 2,    2.204, 2,    1.123, 2,    0.090, 2, -999.000, 9,   2146.7, 2,   2293.3, 2,    7.7429,     25.00,   -999.0, 9,   -999.0,  -999.00, 9,   -999.0,   8.7587, 26.8782,   8.8137, 2, 2, 0.14, 0.09, 0.01, 0.014,  -999.00, 9, -999.00, -999.00, 9, -999.00
49NZ20071122, P14, 5, 1, 27, X12049, 2, 20071222, 1230, -34.8262, 175.1848, 1440,    629.8, 2,   7.9010, 2,  34.5364, 2,  34.5398, 2,    204.8, 2,    209.1, 2,    10.90, 2,    22.28, 2,     0.01, 2,     1.57, 2,    2.123, 2,    1.056, 2,    0.085, 2, -999.000, 9,   2149.9, 2,   2290.9, 2,    7.7288,     25.00,   -999.0, 9,   -999.0,  -999.00, 9,   -999.0,   7.8364, 26.9340,   7.9033, 2, 2, 0.14, 0.10, 0.01, 0.014,  -999.00, 9, -999.00, -999.00, 9, -999.00
49NZ20071122, P14, 5, 1, 26, X12032, 2, 20071222, 1230, -34.8262, 175.1848, 1440,    730.8, 2,   7.1311, 2,  34.4757, 2,  34.4754, 2,    208.4, 2,    209.2, 2,    14.11, 2,    24.17, 2,     0.01, 2,     1.69, 2,    1.690, 6,    0.833, 6,    0.064, 6, -999.000, 9,   2157.5, 6,   2291.3, 2,    7.7140,     25.00,   -999.0, 9,   -999.0,  -999.00, 9,   -999.0,   7.0599, 26.9975,   7.1302, 2, 2, 0.15, 0.10, 0.01, 0.014,  -999.00, 9, -999.00, -999.00, 9, -999.00
49NZ20071122, P14, 5, 1, 25, X12043, 2, 20071222, 1230, -34.8262, 175.1848, 1440,    831.3, 2,   6.3335, 2,  34.4193, 2,  34.4198, 2,    206.0, 2,    207.4, 2,    18.28, 2,    26.14, 2,     0.00, 2,     1.82, 2,    1.269, 2,    0.620, 2,    0.046, 2, -999.000, 9,   2166.3, 2,   2292.9, 6,    7.6948,     25.00,   -999.0, 9,   -999.0,  -999.00, 9,   -999.0,   6.2570, 27.0608,   6.3339, 2, 2, 0.16, 0.11, 0.01, 0.015,  -999.00, 9, -999.00, -999.00, 9, -999.00
49NZ20071122, P14, 5, 1, 24, X12030, 2, 20071222, 1230, -34.8262, 175.1848, 1440,    931.6, 2,   5.9073, 2,  34.4355, 2,  34.4361, 2,    196.6, 2,    197.4, 2,    25.88, 2,    27.58, 2,     0.01, 2,     1.92, 2,    0.885, 2,    0.438, 2,    0.023, 2, -999.000, 9,   2178.4, 2,   2300.2, 2,    7.6776,     25.00,   -999.0, 9,   -999.0,  -999.00, 9,   -999.0,   5.8239, 27.1287,   5.9074, 2, 2, 0.18, 0.11, 0.01, 0.015,  -999.00, 9, -999.00, -999.00, 9, -999.00
49NZ20071122, P14, 5, 1, 23, X12027, 2, 20071222, 1230, -34.8262, 175.1848, 1440,   1070.6, 2,   5.1499, 2,  34.4287, 2,  34.4302, 6,    189.2, 2,    189.6, 2,    35.38, 2,    29.66, 2,     0.00, 2,     2.07, 2,    0.558, 2,    0.280, 2,    0.019, 2, -999.000, 9,   2198.5, 2,   2308.1, 2,    7.6537,     25.00,   -999.0, 9,   -999.0,  -999.00, 9,   -999.0,   5.0591, 27.2155,   5.1496, 2, 2, 0.20, 0.12, 0.01, 0.015,  -999.00, 9, -999.00, -999.00, 9, -999.00
49NZ20071122, P14, 5, 1, 22, X12028, 2, 20071222, 1230, -34.8262, 175.1848, 1440,   1271.5, 2,   3.9512, 2,  34.4821, 2,  34.4836, 6,    173.8, 2,    173.3, 2,    59.56, 2,    32.38, 2,     0.01, 2,     2.27, 2,    0.213, 2,    0.107, 2,    0.008, 2, -999.000, 9,   2233.2, 2,   2334.4, 2,    7.6206,     25.00,   -999.0, 9,   -999.0,  -999.00, 9,   -999.0,   3.8529, 27.3892,   3.9514, 2, 2, 0.25, 0.12, 0.01, 0.016,  -999.00, 9, -999.00, -999.00, 9, -999.00
49NZ20071122, P14, 5, 1, 19, X12025, 9, 20071222, 1230, -34.8262, 175.1848, 1440,   1450.0, 2,   3.3779, 2,  34.5423, 2, -999.0000, 9,    164.0, 2,   -999.0, 9,  -999.00, 9,  -999.00, 9,  -999.00, 9,  -999.00, 9, -999.000, 9, -999.000, 9, -999.000, 9, -999.000, 9,   -999.0, 9,   -999.0, 9, -999.0000,   -999.00,   -999.0, 9,   -999.0,  -999.00, 9,   -999.0,   3.2701, 27.4946,   3.3775, 2, 9, -999.00, -999.00, -999.00, -999.000,  -999.00, 9, -999.00, -999.00, 9, -999.00
49NZ20071122, P14, 5, 1, 18, X12024, 9, 20071222, 1230, -34.8262, 175.1848, 1440,      9.5, 2,  19.9659, 2,  35.6591, 2, -999.0000, 9,    231.2, 2,   -999.0, 9,  -999.00, 9,  -999.00, 9,  -999.00, 9,  -999.00, 9, -999.000, 9, -999.000, 9, -999.000, 9, -999.000, 9,   -999.0, 9,   -999.0, 9, -999.0000,   -999.00,   -999.0, 9,   -999.0,  -999.00, 9,   -999.0,  19.9641, 25.2741,  19.9658, 2, 9, -999.00, -999.00, -999.00, -999.000,  -999.00, 9, -999.00, -999.00, 9, -999.00
49NZ20071122, P14, 5, 1, 17, X12023, 9, 20071222, 1230, -34.8262, 175.1848, 1440,     48.9, 2,  18.0190, 2,  35.5835, 2, -999.0000, 9,    235.8, 2,   -999.0, 9,  -999.00, 9,  -999.00, 9,  -999.00, 9,  -999.00, 9, -999.000, 9, -999.000, 9, -999.000, 9, -999.000, 9,   -999.0, 9,   -999.0, 9, -999.0000,   -999.00,   -999.0, 9,   -999.0,  -999.00, 9,   -999.0,  18.0106, 25.7164,  18.0203, 2, 9, -999.00, -999.00, -999.00, -999.000,  -999.00, 9, -999.00, -999.00, 9, -999.00
49NZ20071122, P14, 5, 1, 16, X12022, 9, 20071222, 1230, -34.8262, 175.1848, 1440,     99.5, 2,  16.3600, 2,  35.5036, 2, -999.0000, 9,    219.2, 2,   -999.0, 9,  -999.00, 9,  -999.00, 9,  -999.00, 9,  -999.00, 9, -999.000, 9, -999.000, 9, -999.000, 9, -999.000, 9,   -999.0, 9,   -999.0, 9, -999.0000,   -999.00,   -999.0, 9,   -999.0,  -999.00, 9,   -999.0,  16.3440, 26.0556,  16.3607, 2, 9, -999.00, -999.00, -999.00, -999.000,  -999.00, 9, -999.00, -999.00, 9, -999.00
49NZ20071122, P14, 5, 1, 15, X12021, 9, 20071222, 1230, -34.8262, 175.1848, 1440,    151.2, 2,  15.3051, 2,  35.4139, 2, -999.0000, 9,    213.5, 2,   -999.0, 9,  -999.00, 9,  -999.00, 9,  -999.00, 9,  -999.00, 9, -999.000, 9, -999.000, 9, -999.000, 9, -999.000, 9,   -999.0, 9,   -999.0, 9, -999.0000,   -999.00,   -999.0, 9,   -999.0,  -999.00, 9,   -999.0,  15.2818, 26.2287,  15.3088, 2, 9, -999.00, -999.00, -999.00, -999.000,  -999.00, 9, -999.00, -999.00, 9, -999.00
49NZ20071122, P14, 5, 1, 14, X12020, 9, 20071222, 1230, -34.8262, 175.1848, 1440,    198.8, 2,  14.5280, 2,  35.3316, 2, -999.0000, 9,    206.9, 2,   -999.0, 9,  -999.00, 9,  -999.00, 9,  -999.00, 9,  -999.00, 9, -999.000, 9, -999.000, 9, -999.000, 9, -999.000, 9,   -999.0, 9,   -999.0, 9, -999.0000,   -999.00,   -999.0, 9,   -999.0,  -999.00, 9,   -999.0,  14.4985, 26.3371,  14.5294, 2, 9, -999.00, -999.00, -999.00, -999.000,  -999.00, 9, -999.00, -999.00, 9, -999.00
49NZ20071122, P14, 5, 1, 13, X12019, 9, 20071222, 1230, -34.8262, 175.1848, 1440,    249.9, 2,  13.0777, 2,  35.1744, 2, -999.0000, 9,    199.2, 2,   -999.0, 9,  -999.00, 9,  -999.00, 9,  -999.00, 9,  -999.00, 9, -999.000, 9, -999.000, 9, -999.000, 9, -999.000, 9,   -999.0, 9,   -999.0, 9, -999.0000,   -999.00,   -999.0, 9,   -999.0,  -999.00, 9,   -999.0,  13.0431, 26.5194,  13.0732, 2, 9, -999.00, -999.00, -999.00, -999.000,  -999.00, 9, -999.00, -999.00, 9, -999.00
49NZ20071122, P14, 5, 1, 12, X12040, 9, 20071222, 1230, -34.8262, 175.1848, 1440,    330.5, 2,  11.7363, 2,  34.9990, 2, -999.0000, 9,    201.2, 2,   -999.0, 9,  -999.00, 9,  -999.00, 9,  -999.00, 9,  -999.00, 9, -999.000, 9, -999.000, 9, -999.000, 9, -999.000, 9,   -999.0, 9,   -999.0, 9, -999.0000,   -999.00,   -999.0, 9,   -999.0,  -999.00, 9,   -999.0,  11.6936, 26.6466,  11.7368, 2, 9, -999.00, -999.00, -999.00, -999.000,  -999.00, 9, -999.00, -999.00, 9, -999.00
49NZ20071122, P14, 5, 1, 11, X12047, 9, 20071222, 1230, -34.8262, 175.1848, 1440,    431.9, 2,  10.6202, 2,  34.8844, 2, -999.0000, 9,    196.0, 2,   -999.0, 9,  -999.00, 9,  -999.00, 9,  -999.00, 9,  -999.00, 9, -999.000, 9, -999.000, 9, -999.000, 9, -999.000, 9,   -999.0, 9,   -999.0, 9, -999.0000,   -999.00,   -999.0, 9,   -999.0,  -999.00, 9,   -999.0,  10.5676, 26.7630,  10.6216, 2, 9, -999.00, -999.00, -999.00, -999.000,  -999.00, 9, -999.00, -999.00, 9, -999.00
49NZ20071122, P14, 5, 1, 10, X12012, 9, 20071222, 1230, -34.8262, 175.1848, 1440,    530.3, 2,   8.8344, 2,  34.6452, 2, -999.0000, 9,    202.8, 2,   -999.0, 9,  -999.00, 9,  -999.00, 9,  -999.00, 9,  -999.00, 9, -999.000, 9, -999.000, 9, -999.000, 9, -999.000, 9,   -999.0, 9,   -999.0, 9, -999.0000,   -999.00,   -999.0, 9,   -999.0,  -999.00, 9,   -999.0,   8.7766, 26.8758,   8.8350, 2, 9, -999.00, -999.00, -999.00, -999.000,  -999.00, 9, -999.00, -999.00, 9, -999.00
49NZ20071122, P14, 5, 1, 9, X12015, 9, 20071222, 1230, -34.8262, 175.1848, 1440,    628.6, 2,   7.9051, 2,  34.5373, 2, -999.0000, 9,    204.5, 2,   -999.0, 9,  -999.00, 9,  -999.00, 9,  -999.00, 9,  -999.00, 9, -999.000, 9, -999.000, 9, -999.000, 9, -999.000, 9,   -999.0, 9,   -999.0, 9, -999.0000,   -999.00,   -999.0, 9,   -999.0,  -999.00, 9,   -999.0,   7.8406, 26.9341,   7.9041, 2, 9, -999.00, -999.00, -999.00, -999.000,  -999.00, 9, -999.00, -999.00, 9, -999.00
49NZ20071122, P14, 5, 1, 8, X12046, 9, 20071222, 1230, -34.8262, 175.1848, 1440,    729.8, 2,   7.1457, 2,  34.4771, 2, -999.0000, 9,    208.2, 2,   -999.0, 9,  -999.00, 9,  -999.00, 9,  -999.00, 9,  -999.00, 9, -999.000, 9, -999.000, 9, -999.000, 9, -999.000, 9,   -999.0, 9,   -999.0, 9, -999.0000,   -999.00,   -999.0, 9,   -999.0,  -999.00, 9,   -999.0,   7.0745, 26.9965,   7.1460, 2, 9, -999.00, -999.00, -999.00, -999.000,  -999.00, 9, -999.00, -999.00, 9, -999.00
49NZ20071122, P14, 5, 1, 7, X12044, 9, 20071222, 1230, -34.8262, 175.1848, 1440,    830.4, 2,   6.3346, 2,  34.4191, 2, -999.0000, 9,    206.1, 2,   -999.0, 9,  -999.00, 9,  -999.00, 9,  -999.00, 9,  -999.00, 9, -999.000, 9, -999.000, 9, -999.000, 9, -999.000, 9,   -999.0, 9,   -999.0, 9, -999.0000,   -999.00,   -999.0, 9,   -999.0,  -999.00, 9,   -999.0,   6.2582, 27.0605,   6.3349, 2, 9, -999.00, -999.00, -999.00, -999.000,  -999.00, 9, -999.00, -999.00, 9, -999.00
49NZ20071122, P14, 5, 1, 6, X12048, 9, 20071222, 1230, -34.8262, 175.1848, 1440,    931.7, 2,   5.9077, 2,  34.4354, 2, -999.0000, 9,    196.6, 2,   -999.0, 9,  -999.00, 9,  -999.00, 9,  -999.00, 9,  -999.00, 9, -999.000, 9, -999.000, 9, -999.000, 9, -999.000, 9,   -999.0, 9,   -999.0, 9, -999.0000,   -999.00,   -999.0, 9,   -999.0,  -999.00, 9,   -999.0,   5.8242, 27.1286,   5.9081, 2, 9, -999.00, -999.00, -999.00, -999.000,  -999.00, 9, -999.00, -999.00, 9, -999.00
49NZ20071122, P14, 5, 1, 5, X12014, 9, 20071222, 1230, -34.8262, 175.1848, 1440,   1070.4, 2,   5.1469, 2,  34.4293, 2, -999.0000, 9,    189.2, 2,   -999.0, 9,  -999.00, 9,  -999.00, 9,  -999.00, 9,  -999.00, 9, -999.000, 9, -999.000, 9, -999.000, 9, -999.000, 9,   -999.0, 9,   -999.0, 9, -999.0000,   -999.00,   -999.0, 9,   -999.0,  -999.00, 9,   -999.0,   5.0561, 27.2163,   5.1471, 2, 9, -999.00, -999.00, -999.00, -999.000,  -999.00, 9, -999.00, -999.00, 9, -999.00
49NZ20071122, P14, 5, 1, 4, X12006, 9, 20071222, 1230, -34.8262, 175.1848, 1440,   1271.5, 2,   3.9518, 2,  34.4819, 2, -999.0000, 9,    173.8, 2,   -999.0, 9,  -999.00, 9,  -999.00, 9,  -999.00, 9,  -999.00, 9, -999.000, 9, -999.000, 9, -999.000, 9, -999.000, 9,   -999.0, 9,   -999.0, 9, -999.0000,   -999.00,   -999.0, 9,   -999.0,  -999.00, 9,   -999.0,   3.8535, 27.3890,   3.9525, 2, 9, -999.00, -999.00, -999.00, -999.000,  -999.00, 9, -999.00, -999.00, 9, -999.00
49NZ20071122, P14, 5, 1, 1, X12001, 2, 20071222, 1230, -34.8262, 175.1848, 1440,   1450.0, 2,   3.3798, 2,  34.5422, 2,  34.5427, 6,    164.0, 2,    164.0, 2,    76.86, 2,    33.45, 2,     0.01, 2,     2.35, 2,    0.131, 2,    0.066, 2,    0.007, 2, -999.000, 9,   2260.1, 2,   2354.1, 2,    7.6088,     25.00,   -999.0, 9,   -999.0,  -999.00, 9,   -999.0,   3.2720, 27.4943,   3.3788, 2, 2, 0.29, 0.13, 0.01, 0.016,  -999.00, 9, -999.00, -999.00, 9, -999.00