BOTTLE,20220820CCHSIOAMB
EXPOCODE,SECT_ID,STNNBR,CASTNO,SAMPNO,BTLNBR,BTLNBR_FLAG_W,DATE,TIME,LATITUDE,LONGITUDE,DEPTH,CTDPRS,CTDPRS_FLAG_W,CTDTMP,CTDTMP_FLAG_W,CTDSAL,CTDSAL_FLAG_W,SALNTY,SALNTY_FLAG_W,CTDOXY,CTDOXY_FLAG_W,OXYGEN,OXYGEN_FLAG_W,SILCAT,SILCAT_FLAG_W,NITRAT,NITRAT_FLAG_W,NITRIT,NITRIT_FLAG_W,PHSPHT,PHSPHT_FLAG_W,CFC-11,CFC-11_FLAG_W,CFC-12,CFC-12_FLAG_W,CFC113,CFC113_FLAG_W,CCL4,CCL4_FLAG_W,TCARBN,TCARBN_FLAG_W,ALKALI,ALKALI_FLAG_W,PH_TOT,PH_TMP,DELC14,DELC14_FLAG_W,C14ERR,DELC13,DELC13_FLAG_W,C13ERR,THETA,SIG0,SBE35,SBE35_FLAG_W,PH_TOT_FLAG_W,SILUNC,NRAUNC,NRIUNC,PHPUNC,CS-137,CS-137_FLAG_W,CS137ER,PLUTO,PLUTO_FLAG_W,PLUTOER
,,,,,,,,,,,METERS,DBAR,,ITS-90,,PSS-78,,PSS-78,,UMOL/KG,,UMOL/KG,,UMOL/KG,,UMOL/KG,,UMOL/KG,,UMOL/KG,,PMOL/KG,,PMOL/KG,,PMOL/KG,,PMOL/KG,,UMOL/KG,,UMOL/KG,,,DEG C,/MILLE,,/MILLE,/MILLE,,/MILLE,DEG C,KG/M^3,ITS-90,,,UMOL/KG,UMOL/KG,UMOL/KG,UMOL/KG,DM/.1MG,,BQ/M^3,MBQ/M^3,,MBQ/M^3
49NZ20071122, P14N, 135, 1, 36, X12042, 2, 20071129, 2359, 1.9980, 178.9912, 5571,     10.7, 2,  27.5256, 2,  35.1301, 2,  35.1333, 2,    204.5, 2,    204.8, 2,     1.63, 2,     2.56, 2,     0.11, 2,     0.37, 2,    1.532, 2,    0.965, 2,    0.191, 4, -999.000, 9,   2000.3, 2,   2311.9, 2,    8.0665,     25.00,   -999.0, 9,   -999.0,  -999.00, 9,   -999.0,  27.5231, 22.6476,  27.5065, 2, 6, 0.12, 0.04, 0.01, 0.014,  -999.00, 9, -999.00, -999.00, 9, -999.00
49NZ20071122, P14N, 135, 1, 35, X12041, 2, 20071129, 2359, 1.9980, 178.9912, 5571,     51.2, 2,  27.0061, 2,  35.1823, 2,  35.1818, 2,    197.2, 2,    196.7, 2,     1.78, 2,     3.17, 2,     0.36, 2,     0.46, 2,    1.571, 2,    0.992, 2,    0.208, 4, -999.000, 9,   2014.6, 6,   2315.1, 2,    8.0440,     25.00,   -999.0, 9,   -999.0,  -999.00, 9,   -999.0,  26.9944, 22.8569,  27.0050, 2, 2, 0.12, 0.04, 0.00, 0.013,  -999.00, 9, -999.00, -999.00, 9, -999.00
49NZ20071122, P14N, 135, 1, 34, X12016, 2, 20071129, 2359, 1.9980, 178.9912, 5571,    101.1, 2,  26.8664, 2,  35.2413, 2,  35.2412, 2,    190.4, 2,    190.6, 2,     1.87, 2,     3.51, 2,     0.74, 2,     0.51, 2,    1.588, 2,    0.996, 2,    0.186, 4, -999.000, 9,   2025.5, 2,   2318.8, 6,    8.0299,     25.00,   -999.0, 9,   -999.0,  -999.00, 9,   -999.0,  26.8433, 22.9495,  26.8646, 2, 2, 0.12, 0.04, 0.00, 0.013,  -999.00, 9, -999.00, -999.00, 9, -999.00
49NZ20071122, P14N, 135, 1, 33, X12033, 2, 20071129, 2359, 1.9980, 178.9912, 5571,    150.5, 2,  25.1603, 2,  35.1180, 2,  35.1140, 2,    160.7, 2,    161.2, 2,     3.60, 2,     7.75, 2,     0.07, 2,     0.68, 2,    1.696, 6,    1.033, 6,    0.150, 3, -999.000, 9,   2049.9, 2,   2307.6, 2,    7.9724,     25.00,   -999.0, 9,   -999.0,  -999.00, 9,   -999.0,  25.1275, 23.3915,  25.1566, 2, 2, 0.13, 0.05, 0.01, 0.013,  -999.00, 9, -999.00, -999.00, 9, -999.00
49NZ20071122, P14N, 135, 1, 32, X12038, 2, 20071129, 2359, 1.9980, 178.9912, 5571,    203.5, 2,  14.1317, 2,  34.6616, 2,  34.6765, 2,    126.1, 2,    126.9, 2,    17.06, 2,    17.21, 2,     0.01, 2,     1.29, 2,    1.858, 2,    1.027, 2,    0.032, 2, -999.000, 9,   2134.9, 2,   2294.3, 2,    7.7719,     25.00,   -999.0, 9,   -999.0,  -999.00, 9,   -999.0,  14.1022, 25.9040,  14.1032, 2, 2, 0.16, 0.08, 0.01, 0.014,  -999.00, 9, -999.00, -999.00, 9, -999.00
49NZ20071122, P14N, 135, 1, 31, X12003, 2, 20071129, 2359, 1.9980, 178.9912, 5571,    248.9, 2,  11.8850, 2,  34.8318, 2,  34.8286, 6,    107.6, 2,    102.8, 2,    20.26, 2,    24.39, 2,     0.00, 2,     1.76, 2,    1.134, 2,    0.617, 2,    0.021, 2, -999.000, 9,   2185.9, 2,   2307.2, 2,    7.6758,     25.00,   -999.0, 9,   -999.0,  -999.00, 9,   -999.0,  11.8527, 26.4865,  11.8870, 2, 2, 0.16, 0.10, 0.01, 0.015,  -999.00, 9, -999.00, -999.00, 9, -999.00
49NZ20071122, P14N, 135, 1, 30, X12008, 2, 20071129, 2359, 1.9980, 178.9912, 5571,    282.2, 2,  11.5697, 2,  34.8211, 2,  34.8170, 2,     74.1, 2,     73.8, 2,    22.75, 2,    27.99, 2,     0.00, 2,     2.00, 2,    0.900, 2,    0.490, 2,    0.017, 2, -999.000, 9,   2209.9, 2,   2306.2, 2,    7.6123,     25.00,   -999.0, 9,   -999.0,  -999.00, 9,   -999.0,  11.5337, 26.5382,  11.5702, 2, 2, 0.17, 0.11, 0.01, 0.015,  -999.00, 9, -999.00, -999.00, 9, -999.00
49NZ20071122, P14N, 135, 1, 29, X12035, 2, 20071129, 2359, 1.9980, 178.9912, 5571,    371.5, 2,  10.6606, 2,  34.7570, 2,  34.7547, 2,     57.9, 2,     57.7, 2,    26.68, 2,    31.16, 2,     0.00, 2,     2.20, 2,    0.636, 2,    0.343, 2,    0.020, 2, -999.000, 9,   2228.3, 2,   2305.5, 2,    7.5578,     25.00,   -999.0, 9,   -999.0,  -999.00, 9,   -999.0,  10.6155, 26.6551,  10.6495, 2, 2, 0.18, 0.12, 0.01, 0.016,  -999.00, 9, -999.00, -999.00, 9, -999.00
49NZ20071122, P14N, 135, 1, 28, X12034, 2, 20071129, 2359, 1.9980, 178.9912, 5571,    469.6, 2,   9.8024, 2,  34.7101, 2,  34.7086, 6,     48.5, 2,     52.4, 2,    29.98, 2,    33.27, 2,     0.00, 2,     2.34, 2,    0.448, 2,    0.239, 2,    0.010, 2, -999.000, 9,   2239.4, 2,   2306.4, 2,    7.5270,     25.00,   -999.0, 9,   -999.0,  -999.00, 9,   -999.0,   9.7480, 26.7683,   9.8016, 2, 2, 0.18, 0.13, 0.01, 0.016,  -999.00, 9, -999.00, -999.00, 9, -999.00
49NZ20071122, P14N, 135, 1, 27, X12049, 2, 20071129, 2359, 1.9980, 178.9912, 5571,    571.3, 2,   8.6964, 2,  34.6342, 2,  34.6338, 2,     78.0, 2,     78.4, 2,    33.70, 2,    32.86, 2,     0.00, 2,     2.33, 2,    0.401, 6,    0.214, 6,    0.008, 6, -999.000, 9,   2235.1, 2,   2308.7, 2,    7.5537,     25.00,   -999.0, 9,   -999.0,  -999.00, 9,   -999.0,   8.6346, 26.8895,   8.6923, 2, 2, 0.19, 0.12, 0.01, 0.016,  -999.00, 9, -999.00, -999.00, 9, -999.00
49NZ20071122, P14N, 135, 1, 26, X12032, 2, 20071129, 2359, 1.9980, 178.9912, 5571,    670.0, 2,   7.3068, 2,  34.5796, 2,  34.5779, 2,     46.9, 2,     47.4, 2,    47.89, 2,    38.66, 2,     0.00, 2,     2.79, 2,    0.070, 2,    0.039, 2,    0.007, 2, -999.000, 9,   2274.9, 6,   2319.3, 2,    7.4661,     25.00,   -999.0, 9,   -999.0,  -999.00, 9,   -999.0,   7.2408, 27.0540,   7.3078, 2, 2, 0.22, 0.14, 0.01, 0.017,  -999.00, 9, -999.00, -999.00, 9, -999.00
49NZ20071122, P14N, 135, 1, 25, X12043, 2, 20071129, 2359, 1.9980, 178.9912, 5571,    771.0, 2,   5.9725, 2,  34.5492, 2,  34.5495, 2,     62.3, 2,     63.6, 2,    61.03, 2,    39.85, 2,     0.00, 2,     2.85, 2,    0.028, 2,    0.019, 2,    0.004, 2, -999.000, 9,   2284.6, 2,   2332.6, 6,    7.4753,     25.00,   -999.0, 9,   -999.0,  -999.00, 9,   -999.0,   5.9038, 27.2086,   5.9687, 2, 2, 0.25, 0.14, 0.01, 0.017,  -999.00, 9, -999.00, -999.00, 9, -999.00
49NZ20071122, P14N, 135, 1, 24, X12030, 2, 20071129, 2359, 1.9980, 178.9912, 5571,    872.0, 2,   5.2439, 2,  34.5431, 2,  34.5429, 2,     87.6, 2,     87.8, 2,    68.66, 2,    38.13, 2,     0.01, 2,     2.73, 2,    0.040, 2,    0.023, 2,    0.000, 2, -999.000, 9,   2281.4, 3,   2342.0, 2,    7.5115,     25.00,   -999.0, 9,   -999.0,  -999.00, 9,   -999.0,   5.1704, 27.2931,   5.2439, 2, 6, 0.27, 0.14, 0.01, 0.017,  -999.00, 9, -999.00, -999.00, 9, -999.00
49NZ20071122, P14N, 135, 1, 23, X12027, 2, 20071129, 2359, 1.9980, 178.9912, 5571,    968.9, 2,   4.8718, 2,  34.5496, 2,  34.5493, 6,     81.6, 2,     82.2, 2,    77.42, 2,    39.24, 2,     0.00, 2,     2.81, 2,    0.014, 2,    0.010, 2,    0.000, 2, -999.000, 9,   2295.6, 2,   2351.8, 2,    7.4986,     25.00,   -999.0, 9,   -999.0,  -999.00, 9,   -999.0,   4.7922, 27.3420,   4.8713, 2, 2, 0.29, 0.14, 0.01, 0.017,  -999.00, 9, -999.00, -999.00, 9, -999.00
49NZ20071122, P14N, 135, 1, 22, X12028, 2, 20071129, 2359, 1.9980, 178.9912, 5571,   1131.3, 2,   4.2152, 2,  34.5629, 2,  34.5626, 2,     86.8, 2,     86.4, 2,    90.42, 2,    39.46, 2,     0.00, 2,     2.84, 2,    0.006, 2,    0.004, 2,    0.000, 2, -999.000, 9,   2305.5, 2,   2366.0, 2,    7.5020,     25.00,   -999.0, 9,   -999.0,  -999.00, 9,   -999.0,   4.1265, 27.4252,   4.2154, 2, 2, 0.32, 0.14, 0.01, 0.017,  -999.00, 9, -999.00, -999.00, 9, -999.00
49NZ20071122, P14N, 135, 1, 21, X12009, 2, 20071129, 2359, 1.9980, 178.9912, 5571,   1330.1, 2,   3.5662, 2,  34.5830, 2,  34.5832, 2,     87.1, 2,     86.8, 2,   106.04, 2,    39.94, 2,     0.00, 2,     2.88, 2,    0.004, 2,    0.003, 2,    0.000, 2, -999.000, 9,   2323.5, 2,   2381.9, 2,    7.4991,     25.00,   -999.0, 9,   -999.0,  -999.00, 9,   -999.0,   3.4665, 27.5082,   3.5664, 2, 2, 0.35, 0.14, 0.01, 0.017,  -999.00, 9, -999.00, -999.00, 9, -999.00
49NZ20071122, P14N, 135, 1, 20, X12026, 2, 20071129, 2359, 1.9980, 178.9912, 5571,   1533.7, 2,   2.9904, 2,  34.6037, 2,  34.6038, 2,     95.5, 2,     95.5, 2,   117.99, 2,    39.54, 2,     0.00, 2,     2.84, 2,    0.002, 2,    0.001, 2,    0.000, 2, -999.000, 9,   2335.8, 2,   2395.5, 2,    7.5120,     25.00,   -999.0, 9,   -999.0,  -999.00, 9,   -999.0,   2.8798, 27.5797,   2.9905, 2, 6, 0.38, 0.14, 0.01, 0.017,  -999.00, 9, -999.00, -999.00, 9, -999.00
49NZ20071122, P14N, 135, 1, 19, X12025, 2, 20071129, 2359, 1.9980, 178.9912, 5571,   1732.2, 2,   2.6132, 2,  34.6199, 2,  34.6199, 2,    105.3, 2,    105.5, 2,   124.95, 2,    38.96, 2,     0.00, 2,     2.78, 2, -999.000, 9, -999.000, 9, -999.000, 9, -999.000, 9,   2336.1, 2,   2402.9, 2,    7.5276,     25.00,   -999.0, 9,   -999.0,  -999.00, 9,   -999.0,   2.4906, 27.6268,   2.6132, 2, 2, 0.39, 0.14, 0.01, 0.017,  -999.00, 9, -999.00, -999.00, 9, -999.00
49NZ20071122, P14N, 135, 1, 18, X12024, 2, 20071129, 2359, 1.9980, 178.9912, 5571,   1931.9, 2,   2.3402, 2,  34.6339, 2,  34.6339, 2,    108.6, 2,    108.9, 2,   132.07, 2,    38.94, 2,     0.00, 2,     2.77, 2, -999.000, 9, -999.000, 9, -999.000, 9, -999.000, 9,   2340.5, 2,   2410.9, 2,    7.5329,     25.00,   -999.0, 9,   -999.0,  -999.00, 9,   -999.0,   2.2044, 27.6619,   2.3403, 2, 2, 0.41, 0.14, 0.01, 0.017,  -999.00, 9, -999.00, -999.00, 9, -999.00
49NZ20071122, P14N, 135, 1, 17, X12023, 2, 20071129, 2359, 1.9980, 178.9912, 5571,   2130.2, 2,   2.1648, 2,  34.6433, 2,  34.6433, 6,    114.3, 2,    114.8, 2,   134.92, 2,    38.59, 2,     0.00, 2,     2.73, 2,    0.002, 2,    0.001, 2,    0.000, 2, -999.000, 9,   2341.2, 2,   2414.2, 2,    7.5425,     25.00,   -999.0, 9,   -999.0,  -999.00, 9,   -999.0,   2.0146, 27.6848,   2.1649, 2, 2, 0.42, 0.14, 0.01, 0.017,  -999.00, 9, -999.00, -999.00, 9, -999.00
49NZ20071122, P14N, 135, 1, 16, X12022, 2, 20071129, 2359, 1.9980, 178.9912, 5571,   2329.5, 2,   1.9892, 2,  34.6536, 2,  34.6538, 2,    118.6, 2,    118.3, 2,   139.88, 2,    38.41, 2,     0.00, 2,     2.72, 2, -999.000, 9, -999.000, 9, -999.000, 9, -999.000, 9,   2342.8, 6,   2419.5, 2,    7.5486,     25.00,   -999.0, 9,   -999.0,  -999.00, 9,   -999.0,   1.8244, 27.7078,   1.9892, 2, 2, 0.43, 0.14, 0.01, 0.017,  -999.00, 9, -999.00, -999.00, 9, -999.00
49NZ20071122, P14N, 135, 1, 15, X12021, 2, 20071129, 2359, 1.9980, 178.9912, 5571,   2530.5, 2,   1.8783, 2,  34.6611, 2,  34.6611, 2,    121.6, 2,    121.5, 2,   142.45, 2,    38.24, 2,     0.00, 2,     2.70, 2, -999.000, 9, -999.000, 9, -999.000, 9, -999.000, 9,   2344.6, 2,   2422.7, 6,    7.5542,     25.00,   -999.0, 9,   -999.0,  -999.00, 9,   -999.0,   1.6975, 27.7236,   1.8784, 2, 2, 0.43, 0.14, 0.01, 0.017,  -999.00, 9, -999.00, -999.00, 9, -999.00
49NZ20071122, P14N, 135, 1, 14, X12020, 2, 20071129, 2359, 1.9980, 178.9912, 5571,   2731.1, 2,   1.7939, 2,  34.6654, 2,  34.6651, 2,    126.3, 2,    126.5, 2,   143.03, 2,    37.83, 2,     0.00, 2,     2.67, 2,    0.004, 2,    0.002, 2,    0.000, 2, -999.000, 9,   2342.6, 2,   2423.3, 2,    7.5609,     25.00,   -999.0, 9,   -999.0,  -999.00, 9,   -999.0,   1.5963, 27.7346,   1.7939, 2, 6, 0.43, 0.14, 0.01, 0.017,  -999.00, 9, -999.00, -999.00, 9, -999.00
49NZ20071122, P14N, 135, 1, 13, X12019, 2, 20071129, 2359, 1.9980, 178.9912, 5571,   2930.7, 2,   1.7175, 2,  34.6693, 2,  34.6687, 2,    132.0, 2,    132.5, 2,   142.60, 2,    37.50, 2,     0.00, 2,     2.64, 2, -999.000, 9, -999.000, 9, -999.000, 9, -999.000, 9,   2341.1, 2,   2422.3, 2,    7.5689,     25.00,   -999.0, 9,   -999.0,  -999.00, 9,   -999.0,   1.5026, 27.7446,   1.7174, 2, 2, 0.43, 0.14, 0.01, 0.017,  -999.00, 9, -999.00, -999.00, 9, -999.00
49NZ20071122, P14N, 135, 1, 12, X12040, 2, 20071129, 2359, 1.9980, 178.9912, 5571,   3171.3, 2,   1.6543, 2,  34.6734, 2,  34.6730, 2,    137.3, 2,    137.5, 2,   142.27, 2,    37.09, 2,     0.00, 2,     2.60, 2, -999.000, 9, -999.000, 9, -999.000, 9, -999.000, 9,   2335.4, 2,   2421.7, 2,    7.5757,     25.00,   -999.0, 9,   -999.0,  -999.00, 9,   -999.0,   1.4175, 27.7540,   1.6544, 2, 2, 0.43, 0.14, 0.01, 0.016,  -999.00, 9, -999.00, -999.00, 9, -999.00
49NZ20071122, P14N, 135, 1, 11, X12047, 2, 20071129, 2359, 1.9980, 178.9912, 5571,   3420.8, 2,   1.5673, 2,  34.6793, 2,  34.6789, 2,    145.5, 2,    145.4, 2,   141.25, 2,    36.48, 2,     0.00, 2,     2.56, 2,    0.000, 2,    0.000, 2,    0.000, 2, -999.000, 9,   2329.0, 2,   2420.2, 2,    7.5860,     25.00,   -999.0, 9,   -999.0,  -999.00, 9,   -999.0,   1.3076, 27.7666,   1.5673, 2, 2, 0.43, 0.13, 0.01, 0.016,  -999.00, 9, -999.00, -999.00, 9, -999.00
49NZ20071122, P14N, 135, 1, 10, X12012, 2, 20071129, 2359, 1.9980, 178.9912, 5571,   3672.1, 2,   1.5167, 2,  34.6838, 2,  34.6830, 2,    151.4, 2,    151.4, 2,   139.82, 2,    36.18, 2,     0.00, 2,     2.53, 2, -999.000, 9, -999.000, 9, -999.000, 9, -999.000, 9,   2324.5, 2,   2418.7, 2,    7.5938,     25.00,   -999.0, 9,   -999.0,  -999.00, 9,   -999.0,   1.2323, 27.7754,   1.5168, 2, 2, 0.43, 0.13, 0.01, 0.016,  -999.00, 9, -999.00, -999.00, 9, -999.00
49NZ20071122, P14N, 135, 1, 9, X12015, 2, 20071129, 2359, 1.9980, 178.9912, 5571,   3921.6, 2,   1.4521, 2,  34.6894, 2,  34.6889, 6,    160.7, 2,    160.0, 2,   137.06, 2,    35.59, 2,     0.00, 2,     2.49, 2, -999.000, 9, -999.000, 9, -999.000, 9, -999.000, 9,   2315.7, 2,   2415.7, 2,    7.6044,     25.00,   -999.0, 9,   -999.0,  -999.00, 9,   -999.0,   1.1430, 27.7861,   1.4521, 2, 2, 0.42, 0.13, 0.01, 0.016,  -999.00, 9, -999.00, -999.00, 9, -999.00
49NZ20071122, P14N, 135, 1, 8, X12046, 2, 20071129, 2359, 1.9980, 178.9912, 5571,   4170.4, 2,   1.3974, 2,  34.6940, 2,  34.6939, 2,    168.6, 2,    168.0, 2,   134.09, 2,    34.94, 2,     0.00, 2,     2.44, 2,    0.000, 2,    0.000, 2,    0.000, 2, -999.000, 9,   2311.7, 6,   2409.9, 2,    7.6127,     25.00,   -999.0, 9,   -999.0,  -999.00, 9,   -999.0,   1.0627, 27.7953,   1.3974, 2, 2, 0.41, 0.13, 0.01, 0.016,  -999.00, 9, -999.00, -999.00, 9, -999.00
49NZ20071122, P14N, 135, 1, 7, X12044, 2, 20071129, 2359, 1.9980, 178.9912, 5571,   4419.9, 2,   1.3183, 2,  34.6991, 2,  34.6992, 2,    177.7, 2,    177.7, 2,   130.05, 2,    34.30, 2,     0.00, 2,     2.39, 2,    0.002, 2,    0.003, 2,    0.000, 2, -999.000, 9,   2301.4, 2,   2403.1, 6,    7.6205,     25.00,   -999.0, 9,   -999.0,  -999.00, 9,   -999.0,   0.9580, 27.8063,   1.3183, 2, 2, 0.41, 0.13, 0.01, 0.016,  -999.00, 9, -999.00, -999.00, 9, -999.00
49NZ20071122, P14N, 135, 1, 6, X12048, 2, 20071129, 2359, 1.9980, 178.9912, 5571,   4671.2, 2,   1.2585, 2,  34.7036, 2,  34.7038, 2,    186.6, 2,    186.5, 2,   125.59, 2,    33.68, 2,     0.00, 2,     2.34, 2,    0.001, 2,    0.001, 2,    0.000, 2, -999.000, 9,   2291.1, 2,   2396.1, 2,    7.6276,     25.00,   -999.0, 9,   -999.0,  -999.00, 9,   -999.0,   0.8712, 27.8156,   1.2584, 2, 6, 0.40, 0.13, 0.01, 0.016,  -999.00, 9, -999.00, -999.00, 9, -999.00
49NZ20071122, P14N, 135, 1, 5, X12014, 2, 20071129, 2359, 1.9980, 178.9912, 5571,   4922.4, 2,   1.2626, 2,  34.7049, 2,  34.7049, 2,    189.9, 2,    189.7, 2,   124.10, 2,    33.41, 2,     0.00, 2,     2.32, 2,    0.005, 2,    0.005, 2,    0.000, 2, -999.000, 9,   2284.5, 2,   2392.0, 2,    7.6278,     25.00,   -999.0, 9,   -999.0,  -999.00, 9,   -999.0,   0.8456, 27.8184,   1.2626, 2, 2, 0.39, 0.13, 0.01, 0.016,  -999.00, 9, -999.00, -999.00, 9, -999.00
49NZ20071122, P14N, 135, 1, 4, X12006, 2, 20071129, 2359, 1.9980, 178.9912, 5571,   5169.4, 2,   1.2878, 2,  34.7052, 2,  34.7055, 2,    190.8, 2,    190.5, 2,   123.49, 2,    33.32, 2,     0.00, 2,     2.33, 2,    0.003, 2,    0.005, 2,    0.000, 2, -999.000, 9,   2281.6, 2,   2390.9, 2,    7.6280,     25.00,   -999.0, 9,   -999.0,  -999.00, 9,   -999.0,   0.8400, 27.8189,   1.2878, 2, 2, 0.39, 0.13, 0.01, 0.016,  -999.00, 9, -999.00, -999.00, 9, -999.00
49NZ20071122, P14N, 135, 1, 3, X12013, 2, 20071129, 2359, 1.9980, 178.9912, 5571,   5421.2, 2,   1.3134, 2,  34.7054, 2,  34.7060, 2,    191.9, 2,    191.4, 2,   122.83, 2,    33.28, 2,     0.00, 2,     2.31, 2,    0.005, 2,    0.003, 2,    0.000, 2, -999.000, 9,   2283.1, 2,   2388.4, 2,    7.6280,     25.00,   -999.0, 9,   -999.0,  -999.00, 9,   -999.0,   0.8335, 27.8196,   1.3135, 2, 2, 0.39, 0.13, 0.01, 0.016,  -999.00, 9, -999.00, -999.00, 9, -999.00
49NZ20071122, P14N, 135, 1, 2, X12002, 9, 20071129, 2359, 1.9980, 178.9912, 5571,     10.8, 2,  27.4880, 2,  35.1314, 2, -999.0000, 9,    205.1, 2,   -999.0, 9,  -999.00, 9,  -999.00, 9,  -999.00, 9,  -999.00, 9, -999.000, 9, -999.000, 9, -999.000, 9, -999.000, 9,   -999.0, 9,   -999.0, 9, -999.0000,   -999.00,   -999.0, 9,   -999.0,  -999.00, 9,   -999.0,  27.4855, 22.6607,  27.4875, 2, 9, -999.00, -999.00, -999.00, -999.000,  -999.00, 9, -999.00, -999.00, 9, -999.00
49NZ20071122, P14N, 135, 1, 1, X12001, 2, 20071129, 2359, 1.9980, 178.9912, 5571,   5663.0, 2,   1.3424, 2,  34.7054, 2,  34.7055, 6,    192.1, 2,    191.9, 2,   122.64, 2,    33.20, 2,     0.00, 2,     2.32, 2,    0.006, 2,    0.004, 2,    0.000, 2, -999.000, 9,   2283.4, 2,   2388.4, 2,    7.6281,     25.00,   -999.0, 9,   -999.0,  -999.00, 9,   -999.0,   0.8306, 27.8197,   1.3424, 2, 2, 0.39, 0.13, 0.01, 0.016,  -999.00, 9, -999.00, -999.00, 9, -999.00