BOTTLE,20220820CCHSIOAMB
EXPOCODE,SECT_ID,STNNBR,CASTNO,SAMPNO,BTLNBR,BTLNBR_FLAG_W,DATE,TIME,LATITUDE,LONGITUDE,DEPTH,CTDPRS,CTDPRS_FLAG_W,CTDTMP,CTDTMP_FLAG_W,CTDSAL,CTDSAL_FLAG_W,SALNTY,SALNTY_FLAG_W,CTDOXY,CTDOXY_FLAG_W,OXYGEN,OXYGEN_FLAG_W,SILCAT,SILCAT_FLAG_W,NITRAT,NITRAT_FLAG_W,NITRIT,NITRIT_FLAG_W,PHSPHT,PHSPHT_FLAG_W,CFC-11,CFC-11_FLAG_W,CFC-12,CFC-12_FLAG_W,CFC113,CFC113_FLAG_W,CCL4,CCL4_FLAG_W,TCARBN,TCARBN_FLAG_W,ALKALI,ALKALI_FLAG_W,PH_TOT,PH_TMP,DELC14,DELC14_FLAG_W,C14ERR,DELC13,DELC13_FLAG_W,C13ERR,THETA,SIG0,SBE35,SBE35_FLAG_W,PH_TOT_FLAG_W,SILUNC,NRAUNC,NRIUNC,PHPUNC,CS-137,CS-137_FLAG_W,CS137ER,PLUTO,PLUTO_FLAG_W,PLUTOER
,,,,,,,,,,,METERS,DBAR,,ITS-90,,PSS-78,,PSS-78,,UMOL/KG,,UMOL/KG,,UMOL/KG,,UMOL/KG,,UMOL/KG,,UMOL/KG,,PMOL/KG,,PMOL/KG,,PMOL/KG,,PMOL/KG,,UMOL/KG,,UMOL/KG,,,DEG C,/MILLE,,/MILLE,/MILLE,,/MILLE,DEG C,KG/M^3,ITS-90,,,UMOL/KG,UMOL/KG,UMOL/KG,UMOL/KG,DM/.1MG,,BQ/M^3,MBQ/M^3,,MBQ/M^3
49NZ20071122, P14, 40, 1, 36, X12042, 2, 20071215, 1135, -20.6287, 177.5923, 3084,     11.3, 2,  26.7604, 2,  35.0359, 2,  35.0376, 2,    206.6, 2,    205.9, 2,     0.53, 2,     0.06, 2,     0.00, 2,     0.05, 2,    1.610, 2,    0.996, 2,    0.422, 4, -999.000, 9,   -999.0, 9,   -999.0, 9, -999.0000,   -999.00,   -999.0, 9,   -999.0,  -999.00, 9,   -999.0,  26.7578, 22.8220,  26.7603, 2, 9, 0.12, 0.03, 0.01, 0.032,  -999.00, 9, -999.00, -999.00, 9, -999.00
49NZ20071122, P14, 40, 1, 35, X12041, 2, 20071215, 1135, -20.6287, 177.5923, 3084,     50.7, 2,  25.9401, 2,  35.0870, 2,  35.1086, 2,    209.1, 2,    208.9, 2,     0.52, 2,     0.07, 2,     0.00, 2,     0.08, 2, -999.000, 9, -999.000, 9, -999.000, 9, -999.000, 9,   -999.0, 9,   -999.0, 9, -999.0000,   -999.00,   -999.0, 9,   -999.0,  -999.00, 9,   -999.0,  25.9288, 23.1211,  25.9391, 2, 9, 0.12, 0.03, 0.01, 0.025,  -999.00, 9, -999.00, -999.00, 9, -999.00
49NZ20071122, P14, 40, 1, 34, X12016, 2, 20071215, 1135, -20.6287, 177.5923, 3084,    100.7, 2,  23.6311, 2,  35.4063, 2,  35.4294, 2,    203.4, 2,    203.2, 2,     0.52, 2,     0.25, 2,     0.04, 2,     0.14, 2,    1.870, 2,    1.134, 2,    0.328, 4, -999.000, 9,   -999.0, 9,   -999.0, 9, -999.0000,   -999.00,   -999.0, 9,   -999.0,  -999.00, 9,   -999.0,  23.6101, 24.0641,  23.6301, 2, 9, 0.12, 0.03, 0.01, 0.019,  -999.00, 9, -999.00, -999.00, 9, -999.00
49NZ20071122, P14, 40, 1, 33, X12033, 2, 20071215, 1135, -20.6287, 177.5923, 3084,    150.4, 2,  22.2097, 2,  35.6190, 2,  35.6208, 2,    177.2, 2,    177.7, 2,     0.70, 2,     2.58, 2,     0.03, 2,     0.30, 2, -999.000, 9, -999.000, 9, -999.000, 9, -999.000, 9,   -999.0, 9,   -999.0, 9, -999.0000,   -999.00,   -999.0, 9,   -999.0,  -999.00, 9,   -999.0,  22.1797, 24.6376,  22.2117, 2, 9, 0.12, 0.04, 0.01, 0.014,  -999.00, 9, -999.00, -999.00, 9, -999.00
49NZ20071122, P14, 40, 1, 32, X12038, 2, 20071215, 1135, -20.6287, 177.5923, 3084,    201.4, 2,  20.4768, 2,  35.6603, 2,  35.6594, 2,    174.8, 2,    176.4, 2,     0.82, 2,     3.65, 2,     0.01, 2,     0.37, 2,    2.120, 2,    1.241, 2,    0.090, 2, -999.000, 9,   -999.0, 9,   -999.0, 9, -999.0000,   -999.00,   -999.0, 9,   -999.0,  -999.00, 9,   -999.0,  20.4388, 25.1486,  20.4836, 2, 9, 0.12, 0.04, 0.01, 0.014,  -999.00, 9, -999.00, -999.00, 9, -999.00
49NZ20071122, P14, 40, 1, 31, X12003, 2, 20071215, 1135, -20.6287, 177.5923, 3084,    249.9, 2,  18.8564, 2,  35.5660, 2,  35.5602, 6,    177.6, 2,    178.2, 2,     1.17, 2,     4.74, 2,     0.01, 2,     0.46, 2,    2.266, 2,    1.277, 2,    0.030, 2, -999.000, 9,   -999.0, 9,   -999.0, 9, -999.0000,   -999.00,   -999.0, 9,   -999.0,  -999.00, 9,   -999.0,  18.8119, 25.5019,  18.8562, 2, 9, 0.12, 0.05, 0.01, 0.013,  -999.00, 9, -999.00, -999.00, 9, -999.00
49NZ20071122, P14, 40, 1, 30, X12008, 2, 20071215, 1135, -20.6287, 177.5923, 3084,    281.5, 2,  18.1541, 2,  35.5443, 2,  35.5497, 2,    188.9, 2,    183.6, 2,     1.26, 2,     5.07, 2,     0.01, 2,     0.47, 2,    2.293, 2,    1.291, 2,    0.048, 2, -999.000, 9,   -999.0, 9,   -999.0, 9, -999.0000,   -999.00,   -999.0, 9,   -999.0,  -999.00, 9,   -999.0,  18.1052, 25.6630,  18.1543, 2, 9, 0.12, 0.05, 0.01, 0.013,  -999.00, 9, -999.00, -999.00, 9, -999.00
49NZ20071122, P14, 40, 1, 29, X12035, 2, 20071215, 1135, -20.6287, 177.5923, 3084,    369.3, 2,  16.3246, 2,  35.4499, 2,  35.4347, 2,    190.0, 2,    190.5, 2,     1.88, 2,     7.02, 2,     0.01, 2,     0.59, 2,    2.385, 2,    1.329, 2,    0.055, 2, -999.000, 9,   -999.0, 9,   -999.0, 9, -999.0000,   -999.00,   -999.0, 9,   -999.0,  -999.00, 9,   -999.0,  16.2649, 26.0327,  16.2993, 2, 9, 0.12, 0.05, 0.01, 0.013,  -999.00, 9, -999.00, -999.00, 9, -999.00
49NZ20071122, P14, 40, 1, 28, X12034, 2, 20071215, 1135, -20.6287, 177.5923, 3084,    472.7, 2,  11.4561, 2,  34.8505, 2,  34.8406, 6,    192.8, 2,    193.3, 2,     4.81, 2,    15.14, 2,     0.00, 2,     1.13, 2,    2.277, 2,    1.175, 2,    0.046, 2, -999.000, 9,   -999.0, 9,   -999.0, 9, -999.0000,   -999.00,   -999.0, 9,   -999.0,  -999.00, 9,   -999.0,  11.3956, 26.5866,  11.4623, 2, 9, 0.13, 0.08, 0.01, 0.013,  -999.00, 9, -999.00, -999.00, 9, -999.00
49NZ20071122, P14, 40, 1, 27, X12049, 2, 20071215, 1135, -20.6287, 177.5923, 3084,    571.7, 2,   8.8200, 2,  34.5714, 2,  34.5633, 2,    203.6, 2,    205.1, 2,     7.25, 2,    20.14, 2,     0.00, 2,     1.45, 2,    2.178, 2,    1.075, 2,    0.061, 2, -999.000, 9,   -999.0, 9,   -999.0, 9, -999.0000,   -999.00,   -999.0, 9,   -999.0,  -999.00, 9,   -999.0,   8.7577, 26.8210,   8.8199, 2, 9, 0.13, 0.09, 0.01, 0.014,  -999.00, 9, -999.00, -999.00, 9, -999.00
49NZ20071122, P14, 40, 1, 26, X12032, 2, 20071215, 1135, -20.6287, 177.5923, 3084,    671.3, 2,   6.8342, 2,  34.4070, 2,  34.4054, 2,    212.7, 2,    211.3, 2,    12.63, 2,    24.68, 2,     0.00, 2,     1.73, 2,    1.544, 2,    0.746, 2,    0.043, 2, -999.000, 9,   -999.0, 9,   -999.0, 9, -999.0000,   -999.00,   -999.0, 9,   -999.0,  -999.00, 9,   -999.0,   6.7706, 26.9830,   6.8324, 2, 9, 0.15, 0.10, 0.01, 0.014,  -999.00, 9, -999.00, -999.00, 9, -999.00
49NZ20071122, P14, 40, 1, 25, X12043, 2, 20071215, 1135, -20.6287, 177.5923, 3084,    769.4, 2,   5.8153, 2,  34.3681, 2,  34.3669, 2,    202.8, 2,    201.8, 2,    21.00, 2,    28.06, 2,     0.00, 2,     1.96, 2,    0.856, 2,    0.417, 2,    0.018, 2, -999.000, 9,   -999.0, 9,   -999.0, 9, -999.0000,   -999.00,   -999.0, 9,   -999.0,  -999.00, 9,   -999.0,   5.7479, 27.0849,   5.8152, 2, 9, 0.17, 0.11, 0.01, 0.015,  -999.00, 9, -999.00, -999.00, 9, -999.00
49NZ20071122, P14, 40, 1, 24, X12030, 2, 20071215, 1135, -20.6287, 177.5923, 3084,    870.0, 2,   4.8730, 2,  34.3737, 2,  34.3756, 2,    191.6, 2,    189.0, 2,    33.19, 2,    30.65, 2,     0.00, 2,     2.14, 2,    0.395, 2,    0.199, 2,    0.009, 2, -999.000, 9,   -999.0, 9,   -999.0, 9, -999.0000,   -999.00,   -999.0, 9,   -999.0,  -999.00, 9,   -999.0,   4.8024, 27.2012,   4.8725, 2, 9, 0.19, 0.12, 0.01, 0.015,  -999.00, 9, -999.00, -999.00, 9, -999.00
49NZ20071122, P14, 40, 1, 23, X12027, 2, 20071215, 1135, -20.6287, 177.5923, 3084,    972.2, 2,   4.2675, 2,  34.4111, 2,  34.4117, 6,    180.3, 2,    177.9, 2,    45.62, 2,    32.40, 2,     0.00, 2,     2.26, 2,    0.189, 2,    0.100, 2,    0.006, 2, -999.000, 9,   -999.0, 9,   -999.0, 9, -999.0000,   -999.00,   -999.0, 9,   -999.0,  -999.00, 9,   -999.0,   4.1923, 27.2976,   4.2687, 2, 9, 0.22, 0.12, 0.01, 0.016,  -999.00, 9, -999.00, -999.00, 9, -999.00
49NZ20071122, P14, 40, 1, 22, X12028, 2, 20071215, 1135, -20.6287, 177.5923, 3084,   1131.1, 2,   3.6852, 2,  34.4820, 2,  34.4836, 2,    163.6, 2,    163.1, 2,    65.69, 2,    33.99, 2,     0.00, 2,     2.38, 2,    0.064, 2,    0.035, 2,    0.000, 2, -999.000, 9,   -999.0, 9,   -999.0, 9, -999.0000,   -999.00,   -999.0, 9,   -999.0,  -999.00, 9,   -999.0,   3.6013, 27.4145,   3.6854, 2, 9, 0.26, 0.13, 0.01, 0.016,  -999.00, 9, -999.00, -999.00, 9, -999.00
49NZ20071122, P14, 40, 1, 21, X12009, 2, 20071215, 1135, -20.6287, 177.5923, 3084,   1331.7, 2,   3.1175, 2,  34.5500, 2,  34.5515, 2,    153.6, 2,    153.3, 2,    85.60, 2,    34.88, 2,     0.00, 2,     2.45, 2,    0.017, 2,    0.010, 2,    0.000, 2, -999.000, 9,   -999.0, 9,   -999.0, 9, -999.0000,   -999.00,   -999.0, 9,   -999.0,  -999.00, 9,   -999.0,   3.0223, 27.5238,   3.1169, 2, 9, 0.31, 0.13, 0.01, 0.016,  -999.00, 9, -999.00, -999.00, 9, -999.00
49NZ20071122, P14, 40, 1, 20, X12026, 2, 20071215, 1135, -20.6287, 177.5923, 3084,   1530.2, 2,   2.7898, 2,  34.5833, 2,  34.5837, 2,    150.8, 2,    150.6, 2,    95.68, 2,    35.29, 2,     0.00, 2,     2.48, 2,    0.007, 2,    0.006, 2,    0.000, 2, -999.000, 9,   -999.0, 9,   -999.0, 9, -999.0000,   -999.00,   -999.0, 9,   -999.0,  -999.00, 9,   -999.0,   2.6819, 27.5809,   2.7898, 2, 9, 0.33, 0.13, 0.01, 0.016,  -999.00, 9, -999.00, -999.00, 9, -999.00
49NZ20071122, P14, 40, 1, 19, X12025, 2, 20071215, 1135, -20.6287, 177.5923, 3084,   1731.3, 2,   2.5311, 2,  34.6088, 2,  34.6096, 2,    149.9, 2,    150.2, 2,   103.30, 2,    35.42, 2,     0.00, 2,     2.50, 2,    0.004, 2,    0.002, 2,    0.000, 2, -999.000, 9,   -999.0, 9,   -999.0, 9, -999.0000,   -999.00,   -999.0, 9,   -999.0,  -999.00, 9,   -999.0,   2.4097, 27.6248,   2.5317, 2, 9, 0.35, 0.13, 0.01, 0.016,  -999.00, 9, -999.00, -999.00, 9, -999.00
49NZ20071122, P14, 40, 1, 18, X12024, 2, 20071215, 1135, -20.6287, 177.5923, 3084,   1932.1, 2,   2.2807, 2,  34.6331, 2,  34.6336, 2,    150.1, 2,    150.2, 2,   110.13, 2,    35.48, 2,     0.00, 2,     2.50, 2, -999.000, 9, -999.000, 9, -999.000, 9, -999.000, 9,   -999.0, 9,   -999.0, 9, -999.0000,   -999.00,   -999.0, 9,   -999.0,  -999.00, 9,   -999.0,   2.1458, 27.6661,   2.2805, 2, 9, 0.36, 0.13, 0.01, 0.016,  -999.00, 9, -999.00, -999.00, 9, -999.00
49NZ20071122, P14, 40, 1, 17, X12023, 2, 20071215, 1135, -20.6287, 177.5923, 3084,   2132.0, 2,   2.1371, 2,  34.6473, 2,  34.6473, 6,    150.7, 2,    151.0, 2,   113.93, 2,    35.42, 2,    -0.01, 2,     2.50, 2,    0.000, 2,    0.001, 2,    0.000, 2, -999.000, 9,   -999.0, 9,   -999.0, 9, -999.0000,   -999.00,   -999.0, 9,   -999.0,  -999.00, 9,   -999.0,   1.9872, 27.6901,   2.1371, 2, 9, 0.37, 0.13, 0.01, 0.016,  -999.00, 9, -999.00, -999.00, 9, -999.00
49NZ20071122, P14, 40, 1, 16, X12022, 2, 20071215, 1135, -20.6287, 177.5923, 3084,   2328.8, 2,   2.0515, 2,  34.6562, 2,  34.6566, 2,    151.4, 2,    151.5, 2,   116.06, 2,    35.55, 2,     0.00, 2,     2.50, 2, -999.000, 9, -999.000, 9, -999.000, 9, -999.000, 9,   -999.0, 9,   -999.0, 9, -999.0000,   -999.00,   -999.0, 9,   -999.0,  -999.00, 9,   -999.0,   1.8857, 27.7052,   2.0515, 2, 9, 0.37, 0.13, 0.01, 0.016,  -999.00, 9, -999.00, -999.00, 9, -999.00
49NZ20071122, P14, 40, 1, 15, X12021, 2, 20071215, 1135, -20.6287, 177.5923, 3084,   2531.3, 2,   1.9684, 2,  34.6646, 2,  34.6650, 2,    152.4, 2,    152.7, 2,   118.08, 2,    35.46, 2,     0.00, 2,     2.49, 2,    0.002, 2,    0.000, 2,    0.000, 2, -999.000, 9,   -999.0, 9,   -999.0, 9, -999.0000,   -999.00,   -999.0, 9,   -999.0,  -999.00, 9,   -999.0,   1.7858, 27.7197,   1.9684, 2, 9, 0.38, 0.13, 0.01, 0.016,  -999.00, 9, -999.00, -999.00, 9, -999.00
49NZ20071122, P14, 40, 1, 14, X12020, 2, 20071215, 1135, -20.6287, 177.5923, 3084,   2730.7, 2,   1.9059, 2,  34.6711, 2,  34.6712, 6,    153.4, 2,    153.5, 2,   119.61, 2,    35.43, 2,    -0.01, 2,     2.49, 2, -999.000, 9, -999.000, 9, -999.000, 9, -999.000, 9,   -999.0, 9,   -999.0, 9, -999.0000,   -999.00,   -999.0, 9,   -999.0,  -999.00, 9,   -999.0,   1.7060, 27.7310,   1.9048, 2, 9, 0.38, 0.13, 0.01, 0.016,  -999.00, 9, -999.00, -999.00, 9, -999.00
49NZ20071122, P14, 40, 1, 13, X12019, 2, 20071215, 1135, -20.6287, 177.5923, 3084,   2929.3, 2,   1.8608, 2,  34.6759, 2,  34.6764, 2,    154.2, 2,    154.4, 2,   120.97, 2,    35.40, 2,     0.00, 2,     2.49, 2,    0.000, 2,    0.000, 2,    0.000, 2, -999.000, 9,   -999.0, 9,   -999.0, 9, -999.0000,   -999.00,   -999.0, 9,   -999.0,  -999.00, 9,   -999.0,   1.6429, 27.7395,   1.8609, 2, 9, 0.39, 0.13, 0.01, 0.016,  -999.00, 9, -999.00, -999.00, 9, -999.00
49NZ20071122, P14, 40, 1, 12, X12040, 9, 20071215, 1135, -20.6287, 177.5923, 3084,     11.7, 2,  26.7599, 2,  35.0380, 2, -999.0000, 9,    207.0, 2,   -999.0, 9,  -999.00, 9,  -999.00, 9,  -999.00, 9,  -999.00, 9, -999.000, 9, -999.000, 9, -999.000, 9, -999.000, 9,   -999.0, 9,   -999.0, 9, -999.0000,   -999.00,   -999.0, 9,   -999.0,  -999.00, 9,   -999.0,  26.7572, 22.8237,  26.7600, 2, 9, -999.00, -999.00, -999.00, -999.000,  -999.00, 9, -999.00, -999.00, 9, -999.00
49NZ20071122, P14, 40, 1, 11, X12047, 9, 20071215, 1135, -20.6287, 177.5923, 3084,    370.1, 2,  16.1965, 2,  35.4381, 2, -999.0000, 9,    189.9, 2,   -999.0, 9,  -999.00, 9,  -999.00, 9,  -999.00, 9,  -999.00, 9, -999.000, 9, -999.000, 9, -999.000, 9, -999.000, 9,   -999.0, 9,   -999.0, 9, -999.0000,   -999.00,   -999.0, 9,   -999.0,  -999.00, 9,   -999.0,  16.1370, 26.0532,  16.1762, 2, 9, -999.00, -999.00, -999.00, -999.000,  -999.00, 9, -999.00, -999.00, 9, -999.00
49NZ20071122, P14, 40, 1, 10, X12012, 9, 20071215, 1135, -20.6287, 177.5923, 3084,    471.7, 2,  11.4846, 2,  34.8530, 2, -999.0000, 9,    192.7, 2,   -999.0, 9,  -999.00, 9,  -999.00, 9,  -999.00, 9,  -999.00, 9, -999.000, 9, -999.000, 9, -999.000, 9, -999.000, 9,   -999.0, 9,   -999.0, 9, -999.0000,   -999.00,   -999.0, 9,   -999.0,  -999.00, 9,   -999.0,  11.4242, 26.5833,  11.4857, 2, 9, -999.00, -999.00, -999.00, -999.000,  -999.00, 9, -999.00, -999.00, 9, -999.00
49NZ20071122, P14, 40, 1, 9, X12015, 9, 20071215, 1135, -20.6287, 177.5923, 3084,    571.8, 2,   8.8140, 2,  34.5699, 2, -999.0000, 9,    203.6, 2,   -999.0, 9,  -999.00, 9,  -999.00, 9,  -999.00, 9,  -999.00, 9, -999.000, 9, -999.000, 9, -999.000, 9, -999.000, 9,   -999.0, 9,   -999.0, 9, -999.0000,   -999.00,   -999.0, 9,   -999.0,  -999.00, 9,   -999.0,   8.7517, 26.8208,   8.8123, 2, 9, -999.00, -999.00, -999.00, -999.000,  -999.00, 9, -999.00, -999.00, 9, -999.00
49NZ20071122, P14, 40, 1, 8, X12046, 9, 20071215, 1135, -20.6287, 177.5923, 3084,    669.6, 2,   6.7759, 2,  34.4034, 2, -999.0000, 9,    213.0, 2,   -999.0, 9,  -999.00, 9,  -999.00, 9,  -999.00, 9,  -999.00, 9, -999.000, 9, -999.000, 9, -999.000, 9, -999.000, 9,   -999.0, 9,   -999.0, 9, -999.0000,   -999.00,   -999.0, 9,   -999.0,  -999.00, 9,   -999.0,   6.7128, 26.9880,   6.7673, 2, 9, -999.00, -999.00, -999.00, -999.000,  -999.00, 9, -999.00, -999.00, 9, -999.00
49NZ20071122, P14, 40, 1, 7, X12044, 9, 20071215, 1135, -20.6287, 177.5923, 3084,    769.1, 2,   5.8373, 2,  34.3678, 2, -999.0000, 9,    202.8, 2,   -999.0, 9,  -999.00, 9,  -999.00, 9,  -999.00, 9,  -999.00, 9, -999.000, 9, -999.000, 9, -999.000, 9, -999.000, 9,   -999.0, 9,   -999.0, 9, -999.0000,   -999.00,   -999.0, 9,   -999.0,  -999.00, 9,   -999.0,   5.7698, 27.0819,   5.8349, 2, 9, -999.00, -999.00, -999.00, -999.000,  -999.00, 9, -999.00, -999.00, 9, -999.00
49NZ20071122, P14, 40, 1, 6, X12048, 9, 20071215, 1135, -20.6287, 177.5923, 3084,    870.5, 2,   4.8740, 2,  34.3736, 2, -999.0000, 9,    191.5, 2,   -999.0, 9,  -999.00, 9,  -999.00, 9,  -999.00, 9,  -999.00, 9, -999.000, 9, -999.000, 9, -999.000, 9, -999.000, 9,   -999.0, 9,   -999.0, 9, -999.0000,   -999.00,   -999.0, 9,   -999.0,  -999.00, 9,   -999.0,   4.8033, 27.2010,   4.8740, 2, 9, -999.00, -999.00, -999.00, -999.000,  -999.00, 9, -999.00, -999.00, 9, -999.00
49NZ20071122, P14, 40, 1, 5, X12014, 9, 20071215, 1135, -20.6287, 177.5923, 3084,    972.0, 2,   4.2622, 2,  34.4110, 2, -999.0000, 9,    180.3, 2,   -999.0, 9,  -999.00, 9,  -999.00, 9,  -999.00, 9,  -999.00, 9, -999.000, 9, -999.000, 9, -999.000, 9, -999.000, 9,   -999.0, 9,   -999.0, 9, -999.0000,   -999.00,   -999.0, 9,   -999.0,  -999.00, 9,   -999.0,   4.1871, 27.2980,   4.2693, 2, 9, -999.00, -999.00, -999.00, -999.000,  -999.00, 9, -999.00, -999.00, 9, -999.00
49NZ20071122, P14, 40, 1, 4, X12006, 9, 20071215, 1135, -20.6287, 177.5923, 3084,   1131.2, 2,   3.6853, 2,  34.4820, 2, -999.0000, 9,    163.6, 2,   -999.0, 9,  -999.00, 9,  -999.00, 9,  -999.00, 9,  -999.00, 9, -999.000, 9, -999.000, 9, -999.000, 9, -999.000, 9,   -999.0, 9,   -999.0, 9, -999.0000,   -999.00,   -999.0, 9,   -999.0,  -999.00, 9,   -999.0,   3.6014, 27.4144,   3.6855, 2, 9, -999.00, -999.00, -999.00, -999.000,  -999.00, 9, -999.00, -999.00, 9, -999.00
49NZ20071122, P14, 40, 1, 3, X12013, 9, 20071215, 1135, -20.6287, 177.5923, 3084,   1330.0, 2,   3.1250, 2,  34.5491, 2, -999.0000, 9,    153.6, 2,   -999.0, 9,  -999.00, 9,  -999.00, 9,  -999.00, 9,  -999.00, 9, -999.000, 9, -999.000, 9, -999.000, 9, -999.000, 9,   -999.0, 9,   -999.0, 9, -999.0000,   -999.00,   -999.0, 9,   -999.0,  -999.00, 9,   -999.0,   3.0299, 27.5224,   3.1248, 2, 9, -999.00, -999.00, -999.00, -999.000,  -999.00, 9, -999.00, -999.00, 9, -999.00
49NZ20071122, P14, 40, 1, 2, X12002, 9, 20071215, 1135, -20.6287, 177.5923, 3084,   1530.1, 2,   2.7899, 2,  34.5833, 2, -999.0000, 9,    150.8, 2,   -999.0, 9,  -999.00, 9,  -999.00, 9,  -999.00, 9,  -999.00, 9, -999.000, 9, -999.000, 9, -999.000, 9, -999.000, 9,   -999.0, 9,   -999.0, 9, -999.0000,   -999.00,   -999.0, 9,   -999.0,  -999.00, 9,   -999.0,   2.6820, 27.5809,   2.7899, 2, 9, -999.00, -999.00, -999.00, -999.000,  -999.00, 9, -999.00, -999.00, 9, -999.00
49NZ20071122, P14, 40, 1, 1, X12001, 2, 20071215, 1135, -20.6287, 177.5923, 3084,   3110.0, 2,   1.8377, 2,  34.6786, 2,  34.6790, 6,    154.7, 2,    154.8, 2,   121.87, 2,    35.41, 2,     0.00, 2,     2.49, 2,    0.001, 2,    0.000, 2,    0.000, 2, -999.000, 9,   -999.0, 9,   -999.0, 9, -999.0000,   -999.00,   -999.0, 9,   -999.0,  -999.00, 9,   -999.0,   1.6027, 27.7447,   1.8378, 2, 9, 0.39, 0.13, 0.01, 0.016,  -999.00, 9, -999.00, -999.00, 9, -999.00