BOTTLE,20220820CCHSIOAMB
EXPOCODE,SECT_ID,STNNBR,CASTNO,SAMPNO,BTLNBR,BTLNBR_FLAG_W,DATE,TIME,LATITUDE,LONGITUDE,DEPTH,CTDPRS,CTDPRS_FLAG_W,CTDTMP,CTDTMP_FLAG_W,CTDSAL,CTDSAL_FLAG_W,SALNTY,SALNTY_FLAG_W,CTDOXY,CTDOXY_FLAG_W,OXYGEN,OXYGEN_FLAG_W,SILCAT,SILCAT_FLAG_W,NITRAT,NITRAT_FLAG_W,NITRIT,NITRIT_FLAG_W,PHSPHT,PHSPHT_FLAG_W,CFC-11,CFC-11_FLAG_W,CFC-12,CFC-12_FLAG_W,CFC113,CFC113_FLAG_W,CCL4,CCL4_FLAG_W,TCARBN,TCARBN_FLAG_W,ALKALI,ALKALI_FLAG_W,PH_TOT,PH_TMP,DELC14,DELC14_FLAG_W,C14ERR,DELC13,DELC13_FLAG_W,C13ERR,THETA,SIG0,SBE35,SBE35_FLAG_W,PH_TOT_FLAG_W,SILUNC,NRAUNC,NRIUNC,PHPUNC,CS-137,CS-137_FLAG_W,CS137ER,PLUTO,PLUTO_FLAG_W,PLUTOER
,,,,,,,,,,,METERS,DBAR,,ITS-90,,PSS-78,,PSS-78,,UMOL/KG,,UMOL/KG,,UMOL/KG,,UMOL/KG,,UMOL/KG,,UMOL/KG,,PMOL/KG,,PMOL/KG,,PMOL/KG,,PMOL/KG,,UMOL/KG,,UMOL/KG,,,DEG C,/MILLE,,/MILLE,/MILLE,,/MILLE,DEG C,KG/M^3,ITS-90,,,UMOL/KG,UMOL/KG,UMOL/KG,UMOL/KG,DM/.1MG,,BQ/M^3,MBQ/M^3,,MBQ/M^3
49NZ20071122, P14, 27, 1, 36, X12042, 2, 20071218, 0400, -25.6677, 176.7340, 4440,     10.4, 2,  23.6190, 2,  35.3664, 2,  35.3694, 2,    214.8, 2,    215.1, 2,     0.65, 2,     0.05, 2,     0.01, 2,     0.06, 2,    1.848, 2,    1.124, 2,    0.290, 4, -999.000, 9,   -999.0, 9,   -999.0, 9, -999.0000,   -999.00,   -999.0, 9,   -999.0,  -999.00, 9,   -999.0,  23.6168, 24.0319,  23.6217, 2, 9, 0.12, 0.03, 0.01, 0.030,  -999.00, 9, -999.00, -999.00, 9, -999.00
49NZ20071122, P14, 27, 1, 35, X12041, 2, 20071218, 0400, -25.6677, 176.7340, 4440,     50.8, 2,  22.7247, 2,  35.4763, 2,  35.5068, 2,    220.4, 2,    221.3, 2,     0.58, 2,     0.04, 2,     0.01, 2,     0.06, 2,    1.931, 2,    1.169, 2,    0.485, 4, -999.000, 9,   -999.0, 9,   -999.0, 9, -999.0000,   -999.00,   -999.0, 9,   -999.0,  -999.00, 9,   -999.0,  22.7144, 24.3771,  22.6818, 2, 9, 0.12, 0.03, 0.01, 0.030,  -999.00, 9, -999.00, -999.00, 9, -999.00
49NZ20071122, P14, 27, 1, 34, X12016, 2, 20071218, 0400, -25.6677, 176.7340, 4440,    101.0, 2,  20.4852, 2,  35.6939, 2,  35.6940, 2,    213.4, 2,    216.4, 2,     0.68, 2,     0.04, 2,     0.01, 2,     0.10, 2,    2.084, 2,    1.244, 2,    0.314, 4, -999.000, 9,   -999.0, 9,   -999.0, 9, -999.0000,   -999.00,   -999.0, 9,   -999.0,  -999.00, 9,   -999.0,  20.4662, 25.1668,  20.4863, 2, 9, 0.12, 0.03, 0.01, 0.022,  -999.00, 9, -999.00, -999.00, 9, -999.00
49NZ20071122, P14, 27, 1, 33, X12033, 2, 20071218, 0400, -25.6677, 176.7340, 4440,    150.6, 2,  19.3728, 2,  35.6945, 2,  35.6932, 2,    199.7, 2,    202.0, 2,     0.82, 2,     1.92, 2,     0.04, 2,     0.23, 2,    2.188, 2,    1.286, 2,    0.212, 4, -999.000, 9,   -999.0, 9,   -999.0, 9, -999.0000,   -999.00,   -999.0, 9,   -999.0,  -999.00, 9,   -999.0,  19.3455, 25.4631,  19.3734, 2, 9, 0.12, 0.04, 0.01, 0.015,  -999.00, 9, -999.00, -999.00, 9, -999.00
49NZ20071122, P14, 27, 1, 32, X12038, 2, 20071218, 0400, -25.6677, 176.7340, 4440,    197.7, 2,  18.5221, 2,  35.6617, 2,  35.6594, 2,    197.7, 2,    198.6, 2,     0.98, 2,     3.08, 2,     0.02, 2,     0.31, 2,    2.266, 2,    1.312, 2,    0.161, 4, -999.000, 9,   -999.0, 9,   -999.0, 9, -999.0000,   -999.00,   -999.0, 9,   -999.0,  -999.00, 9,   -999.0,  18.4873, 25.6573,  18.5277, 2, 9, 0.12, 0.04, 0.01, 0.014,  -999.00, 9, -999.00, -999.00, 9, -999.00
49NZ20071122, P14, 27, 1, 31, X12003, 2, 20071218, 0400, -25.6677, 176.7340, 4440,    254.5, 2,  17.3255, 2,  35.6002, 2,  35.6042, 6,    198.8, 2,    200.0, 2,     1.32, 2,     4.44, 2,     0.02, 2,     0.40, 2,    2.356, 2,    1.342, 2,    0.108, 2, -999.000, 9,   -999.0, 9,   -999.0, 9, -999.0000,   -999.00,   -999.0, 9,   -999.0,  -999.00, 9,   -999.0,  17.2827, 25.9072,  17.3630, 2, 9, 0.12, 0.05, 0.01, 0.013,  -999.00, 9, -999.00, -999.00, 9, -999.00
49NZ20071122, P14, 27, 1, 30, X12008, 2, 20071218, 0400, -25.6677, 176.7340, 4440,    300.2, 2,  16.0451, 2,  35.4415, 2,  35.4238, 2,    195.1, 2,    195.0, 2,     1.96, 2,     6.69, 2,     0.01, 2,     0.55, 2,    2.438, 2,    1.360, 2,    0.071, 2, -999.000, 9,   -999.0, 9,   -999.0, 9, -999.0000,   -999.00,   -999.0, 9,   -999.0,  -999.00, 9,   -999.0,  15.9972, 26.0880,  16.0394, 2, 9, 0.12, 0.05, 0.01, 0.013,  -999.00, 9, -999.00, -999.00, 9, -999.00
49NZ20071122, P14, 27, 1, 29, X12035, 2, 20071218, 0400, -25.6677, 176.7340, 4440,    400.8, 2,  12.9884, 2,  35.0588, 2,  35.0559, 2,    193.6, 2,    193.2, 2,     3.54, 2,    11.86, 2,     0.02, 2,     0.89, 2,    2.388, 2,    1.263, 2,    0.072, 2, -999.000, 9,   -999.0, 9,   -999.0, 9, -999.0000,   -999.00,   -999.0, 9,   -999.0,  -999.00, 9,   -999.0,  12.9329, 26.4519,  12.9876, 2, 9, 0.13, 0.07, 0.01, 0.013,  -999.00, 9, -999.00, -999.00, 9, -999.00
49NZ20071122, P14, 27, 1, 28, X12034, 2, 20071218, 0400, -25.6677, 176.7340, 4440,    499.1, 2,  10.2002, 2,  34.7278, 2,  34.7189, 6,    199.9, 2,    200.1, 2,     5.69, 2,    17.23, 2,     0.01, 2,     1.24, 2,    2.269, 2,    1.145, 2,    0.071, 2, -999.000, 9,   -999.0, 9,   -999.0, 9, -999.0000,   -999.00,   -999.0, 9,   -999.0,  -999.00, 9,   -999.0,  10.1409, 26.7153,  10.2016, 2, 9, 0.13, 0.08, 0.01, 0.013,  -999.00, 9, -999.00, -999.00, 9, -999.00
49NZ20071122, P14, 27, 1, 27, X12049, 2, 20071218, 0400, -25.6677, 176.7340, 4440,    601.9, 2,   8.2894, 2,  34.5230, 2,  34.5201, 2,    208.7, 2,    208.8, 2,     7.98, 2,    21.11, 2,     0.01, 2,     1.48, 2,    2.073, 2,    1.020, 2,    0.071, 2, -999.000, 9,   -999.0, 9,   -999.0, 9, -999.0000,   -999.00,   -999.0, 9,   -999.0,  -999.00, 9,   -999.0,   8.2260, 26.8652,   8.2860, 2, 9, 0.14, 0.09, 0.01, 0.014,  -999.00, 9, -999.00, -999.00, 9, -999.00
49NZ20071122, P14, 27, 1, 26, X12032, 2, 20071218, 0400, -25.6677, 176.7340, 4440,    703.0, 2,   6.7512, 2,  34.3964, 2,  34.3963, 2,    215.8, 2,    215.8, 2,    11.94, 2,    24.47, 2,     0.01, 2,     1.71, 2,    1.545, 2,    0.744, 2,    0.049, 2, -999.000, 9,   -999.0, 9,   -999.0, 9, -999.0000,   -999.00,   -999.0, 9,   -999.0,  -999.00, 9,   -999.0,   6.6849, 26.9862,   6.7486, 2, 9, 0.15, 0.10, 0.01, 0.014,  -999.00, 9, -999.00, -999.00, 9, -999.00
49NZ20071122, P14, 27, 1, 25, X12043, 2, 20071218, 0400, -25.6677, 176.7340, 4440,    802.9, 2,   6.0495, 2,  34.3635, 2,  34.3630, 2,    211.9, 2,    211.6, 2,    16.53, 2,    26.64, 2,     0.01, 2,     1.85, 2,    1.056, 2,    0.517, 2,    0.029, 2, -999.000, 9,   -999.0, 9,   -999.0, 9, -999.0000,   -999.00,   -999.0, 9,   -999.0,  -999.00, 9,   -999.0,   5.9775, 27.0525,   6.0501, 2, 9, 0.16, 0.11, 0.01, 0.015,  -999.00, 9, -999.00, -999.00, 9, -999.00
49NZ20071122, P14, 27, 1, 24, X12030, 2, 20071218, 0400, -25.6677, 176.7340, 4440,    901.2, 2,   5.2634, 2,  34.3620, 2,  34.3623, 2,    199.5, 2,    198.3, 2,    26.33, 2,    29.39, 2,     0.01, 2,     2.04, 2,    0.529, 2,    0.262, 2,    0.015, 2, -999.000, 9,   -999.0, 9,   -999.0, 9, -999.0000,   -999.00,   -999.0, 9,   -999.0,  -999.00, 9,   -999.0,   5.1874, 27.1476,   5.2646, 2, 9, 0.18, 0.12, 0.01, 0.015,  -999.00, 9, -999.00, -999.00, 9, -999.00
49NZ20071122, P14, 27, 1, 23, X12027, 2, 20071218, 0400, -25.6677, 176.7340, 4440,   1001.8, 2,   4.6703, 2,  34.3889, 2,  34.3901, 6,    187.9, 2,    188.2, 2,    37.11, 2,    31.06, 2,     0.01, 2,     2.16, 2,    0.299, 2,    0.153, 2,    0.009, 2, -999.000, 9,   -999.0, 9,   -999.0, 9, -999.0000,   -999.00,   -999.0, 9,   -999.0,  -999.00, 9,   -999.0,   4.5895, 27.2370,   4.6703, 2, 9, 0.20, 0.12, 0.01, 0.015,  -999.00, 9, -999.00, -999.00, 9, -999.00
49NZ20071122, P14, 27, 1, 22, X12028, 2, 20071218, 0400, -25.6677, 176.7340, 4440,   1201.8, 2,   3.6316, 2,  34.4841, 2,  34.4869, 2,    165.1, 2,    166.2, 2,    66.23, 2,    33.75, 2,     0.01, 2,     2.36, 2,    0.061, 2,    0.033, 2,    0.000, 2, -999.000, 9,   -999.0, 9,   -999.0, 9, -999.0000,   -999.00,   -999.0, 9,   -999.0,  -999.00, 9,   -999.0,   3.5423, 27.4219,   3.6321, 2, 9, 0.26, 0.13, 0.01, 0.016,  -999.00, 9, -999.00, -999.00, 9, -999.00
49NZ20071122, P14, 27, 1, 21, X12009, 2, 20071218, 0400, -25.6677, 176.7340, 4440,   1399.2, 2,   2.9993, 2,  34.5632, 2,  34.5641, 2,    155.9, 2,    155.6, 2,    88.31, 2,    34.69, 2,     0.01, 2,     2.44, 2,    0.015, 2,    0.009, 2,    0.000, 2, -999.000, 9,   -999.0, 9,   -999.0, 9, -999.0000,   -999.00,   -999.0, 9,   -999.0,  -999.00, 9,   -999.0,   2.8998, 27.5455,   2.9993, 2, 9, 0.31, 0.13, 0.01, 0.016,  -999.00, 9, -999.00, -999.00, 9, -999.00
49NZ20071122, P14, 27, 1, 20, X12026, 2, 20071218, 0400, -25.6677, 176.7340, 4440,   1599.6, 2,   2.6446, 2,  34.5994, 2,  34.5992, 2,    153.7, 2,    152.8, 2,    99.08, 2,    35.01, 2,     0.01, 2,     2.47, 2,    0.006, 2,    0.003, 2,    0.000, 2, -999.000, 9,   -999.0, 9,   -999.0, 9, -999.0000,   -999.00,   -999.0, 9,   -999.0,  -999.00, 9,   -999.0,   2.5327, 27.6068,   2.6446, 2, 9, 0.34, 0.13, 0.01, 0.016,  -999.00, 9, -999.00, -999.00, 9, -999.00
49NZ20071122, P14, 27, 1, 19, X12025, 2, 20071218, 0400, -25.6677, 176.7340, 4440,   1800.2, 2,   2.4351, 2,  34.6201, 2,  34.6200, 2,    151.6, 2,    151.3, 2,   105.43, 2,    35.16, 2,     0.01, 2,     2.48, 2,    0.003, 2,    0.001, 2,    0.000, 2, -999.000, 9,   -999.0, 9,   -999.0, 9, -999.0000,   -999.00,   -999.0, 9,   -999.0,  -999.00, 9,   -999.0,   2.3092, 27.6422,   2.4351, 2, 9, 0.35, 0.13, 0.01, 0.016,  -999.00, 9, -999.00, -999.00, 9, -999.00
49NZ20071122, P14, 27, 1, 18, X12024, 2, 20071218, 0400, -25.6677, 176.7340, 4440,   2001.0, 2,   2.2590, 2,  34.6371, 2,  34.6366, 2,    151.2, 2,    151.1, 2,   110.54, 2,    35.42, 2,     0.01, 2,     2.50, 2,    0.002, 2,    0.001, 2,    0.000, 2, -999.000, 9,   -999.0, 9,   -999.0, 9, -999.0000,   -999.00,   -999.0, 9,   -999.0,  -999.00, 9,   -999.0,   2.1185, 27.6714,   2.2590, 2, 9, 0.36, 0.13, 0.01, 0.016,  -999.00, 9, -999.00, -999.00, 9, -999.00
49NZ20071122, P14, 27, 1, 17, X12023, 2, 20071218, 0400, -25.6677, 176.7340, 4440,   2201.2, 2,   2.1378, 2,  34.6488, 2,  34.6485, 6,    151.6, 2,    151.5, 2,   113.73, 2,    35.51, 2,     0.01, 2,     2.49, 2,    0.000, 2,    0.000, 2,    0.000, 2, -999.000, 9,   -999.0, 9,   -999.0, 9, -999.0000,   -999.00,   -999.0, 9,   -999.0,  -999.00, 9,   -999.0,   1.9818, 27.6918,   2.1377, 2, 9, 0.37, 0.13, 0.01, 0.016,  -999.00, 9, -999.00, -999.00, 9, -999.00
49NZ20071122, P14, 27, 1, 16, X12022, 2, 20071218, 0400, -25.6677, 176.7340, 4440,   2401.9, 2,   2.0400, 2,  34.6586, 2,  34.6583, 2,    152.2, 2,    152.2, 2,   116.36, 2,    35.43, 2,     0.01, 2,     2.49, 2,    0.001, 2,    0.000, 2,    0.000, 2, -999.000, 9,   -999.0, 9,   -999.0, 9, -999.0000,   -999.00,   -999.0, 9,   -999.0,  -999.00, 9,   -999.0,   1.8679, 27.7085,   2.0398, 2, 9, 0.37, 0.13, 0.01, 0.016,  -999.00, 9, -999.00, -999.00, 9, -999.00
49NZ20071122, P14, 27, 1, 15, X12021, 2, 20071218, 0400, -25.6677, 176.7340, 4440,   2601.7, 2,   1.9579, 2,  34.6670, 2,  34.6665, 2,    153.0, 2,    153.1, 2,   118.31, 2,    35.37, 2,     0.01, 2,     2.49, 2, -999.000, 9, -999.000, 9, -999.000, 9, -999.000, 9,   -999.0, 9,   -999.0, 9, -999.0000,   -999.00,   -999.0, 9,   -999.0,  -999.00, 9,   -999.0,   1.7690, 27.7229,   1.9579, 2, 9, 0.38, 0.13, 0.01, 0.016,  -999.00, 9, -999.00, -999.00, 9, -999.00
49NZ20071122, P14, 27, 1, 14, X12020, 2, 20071218, 0400, -25.6677, 176.7340, 4440,   2799.4, 2,   1.9011, 2,  34.6727, 2,  34.6725, 2,    153.8, 2,    153.9, 2,   119.81, 2,    35.35, 2,     0.01, 2,     2.49, 2,    0.000, 2,    0.000, 2,    0.000, 2, -999.000, 9,   -999.0, 9,   -999.0, 9, -999.0000,   -999.00,   -999.0, 9,   -999.0,  -999.00, 9,   -999.0,   1.6948, 27.7330,   1.9009, 2, 9, 0.38, 0.13, 0.01, 0.016,  -999.00, 9, -999.00, -999.00, 9, -999.00
49NZ20071122, P14, 27, 1, 13, X12019, 2, 20071218, 0400, -25.6677, 176.7340, 4440,   3000.3, 2,   1.8628, 2,  34.6768, 2,  34.6764, 2,    154.3, 2,    154.5, 2,   120.98, 2,    35.47, 2,     0.01, 2,     2.49, 2, -999.000, 9, -999.000, 9, -999.000, 9, -999.000, 9,   -999.0, 9,   -999.0, 9, -999.0000,   -999.00,   -999.0, 9,   -999.0,  -999.00, 9,   -999.0,   1.6380, 27.7407,   1.8627, 2, 9, 0.39, 0.13, 0.01, 0.016,  -999.00, 9, -999.00, -999.00, 9, -999.00
49NZ20071122, P14, 27, 1, 12, X12040, 2, 20071218, 0400, -25.6677, 176.7340, 4440,   3250.0, 2,   1.8404, 2,  34.6798, 2,  34.6794, 2,    154.8, 2,    154.9, 2,   122.09, 2,    35.19, 2,     0.01, 2,     2.48, 2,    0.000, 2,    0.000, 2,    0.000, 2, -999.000, 9,   -999.0, 9,   -999.0, 9, -999.0000,   -999.00,   -999.0, 9,   -999.0,  -999.00, 9,   -999.0,   1.5913, 27.7465,   1.8404, 2, 9, 0.39, 0.13, 0.01, 0.016,  -999.00, 9, -999.00, -999.00, 9, -999.00
49NZ20071122, P14, 27, 1, 11, X12047, 2, 20071218, 0400, -25.6677, 176.7340, 4440,   3500.4, 2,   1.8408, 2,  34.6813, 2,  34.6815, 2,    155.2, 2,    155.3, 2,   122.80, 2,    35.34, 2,     0.01, 2,     2.48, 2, -999.000, 9, -999.000, 9, -999.000, 9, -999.000, 9,   -999.0, 9,   -999.0, 9, -999.0000,   -999.00,   -999.0, 9,   -999.0,  -999.00, 9,   -999.0,   1.5661, 27.7496,   1.8408, 2, 9, 0.39, 0.13, 0.01, 0.016,  -999.00, 9, -999.00, -999.00, 9, -999.00
49NZ20071122, P14, 27, 1, 10, X12012, 2, 20071218, 0400, -25.6677, 176.7340, 4440,   3751.5, 2,   1.8493, 2,  34.6824, 2,  34.6823, 2,    155.5, 2,    155.4, 2,   123.33, 2,    35.28, 2,     0.01, 2,     2.48, 2,    0.000, 2,    0.000, 2,    0.000, 2, -999.000, 9,   -999.0, 9,   -999.0, 9, -999.0000,   -999.00,   -999.0, 9,   -999.0,  -999.00, 9,   -999.0,   1.5477, 27.7518,   1.8493, 2, 9, 0.39, 0.13, 0.01, 0.016,  -999.00, 9, -999.00, -999.00, 9, -999.00
49NZ20071122, P14, 27, 1, 9, X12015, 2, 20071218, 0400, -25.6677, 176.7340, 4440,   4002.3, 2,   1.8662, 2,  34.6827, 2,  34.6831, 6,    155.9, 2,    155.6, 2,   123.54, 2,    35.34, 2,     0.01, 2,     2.48, 2, -999.000, 9, -999.000, 9, -999.000, 9, -999.000, 9,   -999.0, 9,   -999.0, 9, -999.0000,   -999.00,   -999.0, 9,   -999.0,  -999.00, 9,   -999.0,   1.5368, 27.7528,   1.8662, 2, 9, 0.39, 0.13, 0.01, 0.016,  -999.00, 9, -999.00, -999.00, 9, -999.00
49NZ20071122, P14, 27, 1, 8, X12046, 2, 20071218, 0400, -25.6677, 176.7340, 4440,   4251.6, 2,   1.8883, 2,  34.6830, 2,  34.6834, 2,    156.1, 2,    155.9, 2,   123.59, 2,    35.27, 2,     0.01, 2,     2.48, 2,    0.000, 2,    0.000, 2,    0.000, 2, -999.000, 9,   -999.0, 9,   -999.0, 9, -999.0000,   -999.00,   -999.0, 9,   -999.0,  -999.00, 9,   -999.0,   1.5301, 27.7536,   1.8883, 2, 9, 0.39, 0.13, 0.01, 0.016,  -999.00, 9, -999.00, -999.00, 9, -999.00
49NZ20071122, P14, 27, 1, 7, X12044, 9, 20071218, 0400, -25.6677, 176.7340, 4440,     10.3, 2,  23.5149, 2,  35.3694, 2, -999.0000, 9,    215.3, 2,   -999.0, 9,  -999.00, 9,  -999.00, 9,  -999.00, 9,  -999.00, 9, -999.000, 9, -999.000, 9, -999.000, 9, -999.000, 9,   -999.0, 9,   -999.0, 9, -999.0000,   -999.00,   -999.0, 9,   -999.0,  -999.00, 9,   -999.0,  23.5128, 24.0647,  23.5186, 2, 9, -999.00, -999.00, -999.00, -999.000,  -999.00, 9, -999.00, -999.00, 9, -999.00
49NZ20071122, P14, 27, 1, 6, X12048, 9, 20071218, 0400, -25.6677, 176.7340, 4440,    901.1, 2,   5.2680, 2,  34.3617, 2, -999.0000, 9,    199.5, 2,   -999.0, 9,  -999.00, 9,  -999.00, 9,  -999.00, 9,  -999.00, 9, -999.000, 9, -999.000, 9, -999.000, 9, -999.000, 9,   -999.0, 9,   -999.0, 9, -999.0000,   -999.00,   -999.0, 9,   -999.0,  -999.00, 9,   -999.0,   5.1919, 27.1468,   5.2695, 2, 9, -999.00, -999.00, -999.00, -999.000,  -999.00, 9, -999.00, -999.00, 9, -999.00
49NZ20071122, P14, 27, 1, 5, X12014, 9, 20071218, 0400, -25.6677, 176.7340, 4440,    999.8, 2,   4.6297, 2,  34.3916, 2, -999.0000, 9,    188.0, 2,   -999.0, 9,  -999.00, 9,  -999.00, 9,  -999.00, 9,  -999.00, 9, -999.000, 9, -999.000, 9, -999.000, 9, -999.000, 9,   -999.0, 9,   -999.0, 9, -999.0000,   -999.00,   -999.0, 9,   -999.0,  -999.00, 9,   -999.0,   4.5494, 27.2436,   4.6288, 2, 9, -999.00, -999.00, -999.00, -999.000,  -999.00, 9, -999.00, -999.00, 9, -999.00
49NZ20071122, P14, 27, 1, 4, X12006, 9, 20071218, 0400, -25.6677, 176.7340, 4440,   1202.3, 2,   3.6278, 2,  34.4848, 2, -999.0000, 9,    165.0, 2,   -999.0, 9,  -999.00, 9,  -999.00, 9,  -999.00, 9,  -999.00, 9, -999.000, 9, -999.000, 9, -999.000, 9, -999.000, 9,   -999.0, 9,   -999.0, 9, -999.0000,   -999.00,   -999.0, 9,   -999.0,  -999.00, 9,   -999.0,   3.5385, 27.4228,   3.6283, 2, 9, -999.00, -999.00, -999.00, -999.000,  -999.00, 9, -999.00, -999.00, 9, -999.00
49NZ20071122, P14, 27, 1, 3, X12013, 9, 20071218, 0400, -25.6677, 176.7340, 4440,   3499.9, 2,   1.8408, 2,  34.6813, 2, -999.0000, 9,    155.2, 2,   -999.0, 9,  -999.00, 9,  -999.00, 9,  -999.00, 9,  -999.00, 9, -999.000, 9, -999.000, 9, -999.000, 9, -999.000, 9,   -999.0, 9,   -999.0, 9, -999.0000,   -999.00,   -999.0, 9,   -999.0,  -999.00, 9,   -999.0,   1.5661, 27.7496,   1.8408, 2, 9, -999.00, -999.00, -999.00, -999.000,  -999.00, 9, -999.00, -999.00, 9, -999.00
49NZ20071122, P14, 27, 1, 2, X12002, 9, 20071218, 0400, -25.6677, 176.7340, 4440,   1599.6, 2,   2.6445, 2,  34.5994, 2, -999.0000, 9,    153.7, 2,   -999.0, 9,  -999.00, 9,  -999.00, 9,  -999.00, 9,  -999.00, 9, -999.000, 9, -999.000, 9, -999.000, 9, -999.000, 9,   -999.0, 9,   -999.0, 9, -999.0000,   -999.00,   -999.0, 9,   -999.0,  -999.00, 9,   -999.0,   2.5326, 27.6068,   2.6446, 2, 9, -999.00, -999.00, -999.00, -999.000,  -999.00, 9, -999.00, -999.00, 9, -999.00
49NZ20071122, P14, 27, 1, 1, X12001, 2, 20071218, 0400, -25.6677, 176.7340, 4440,   4499.5, 2,   1.9153, 2,  34.6829, 2,  34.6838, 6,    156.3, 2,    155.7, 2,   123.55, 2,    35.23, 2,     0.01, 2,     2.49, 2,    0.001, 2,    0.001, 2,    0.000, 2, -999.000, 9,   -999.0, 9,   -999.0, 9, -999.0000,   -999.00,   -999.0, 9,   -999.0,  -999.00, 9,   -999.0,   1.5275, 27.7537,   1.9154, 2, 9, 0.39, 0.13, 0.01, 0.016,  -999.00, 9, -999.00, -999.00, 9, -999.00