BOTTLE,20220820CCHSIOAMB
EXPOCODE,SECT_ID,STNNBR,CASTNO,SAMPNO,BTLNBR,BTLNBR_FLAG_W,DATE,TIME,LATITUDE,LONGITUDE,DEPTH,CTDPRS,CTDPRS_FLAG_W,CTDTMP,CTDTMP_FLAG_W,CTDSAL,CTDSAL_FLAG_W,SALNTY,SALNTY_FLAG_W,CTDOXY,CTDOXY_FLAG_W,OXYGEN,OXYGEN_FLAG_W,SILCAT,SILCAT_FLAG_W,NITRAT,NITRAT_FLAG_W,NITRIT,NITRIT_FLAG_W,PHSPHT,PHSPHT_FLAG_W,CFC-11,CFC-11_FLAG_W,CFC-12,CFC-12_FLAG_W,CFC113,CFC113_FLAG_W,CCL4,CCL4_FLAG_W,TCARBN,TCARBN_FLAG_W,ALKALI,ALKALI_FLAG_W,PH_TOT,PH_TMP,DELC14,DELC14_FLAG_W,C14ERR,DELC13,DELC13_FLAG_W,C13ERR,THETA,SIG0,SBE35,SBE35_FLAG_W,PH_TOT_FLAG_W,SILUNC,NRAUNC,NRIUNC,PHPUNC,CS-137,CS-137_FLAG_W,CS137ER,PLUTO,PLUTO_FLAG_W,PLUTOER
,,,,,,,,,,,METERS,DBAR,,ITS-90,,PSS-78,,PSS-78,,UMOL/KG,,UMOL/KG,,UMOL/KG,,UMOL/KG,,UMOL/KG,,UMOL/KG,,PMOL/KG,,PMOL/KG,,PMOL/KG,,PMOL/KG,,UMOL/KG,,UMOL/KG,,,DEG C,/MILLE,,/MILLE,/MILLE,,/MILLE,DEG C,KG/M^3,ITS-90,,,UMOL/KG,UMOL/KG,UMOL/KG,UMOL/KG,DM/.1MG,,BQ/M^3,MBQ/M^3,,MBQ/M^3
49NZ20071122, P14N, 183, 1, 36, X12042, 2, 20071212, 0107, -14.9937, 178.9915, 2409,     10.3, 2,  29.0482, 2,  34.7229, 2,  34.7233, 2,    196.4, 2,    197.1, 2,     0.83, 2,     0.07, 2,     0.01, 2,     0.17, 2,    1.470, 2,    0.919, 2,    0.313, 4, -999.000, 9,   -999.0, 9,   -999.0, 9, -999.0000,   -999.00,   -999.0, 9,   -999.0,  -999.00, 9,   -999.0,  29.0457, 21.8407,  29.0429, 2, 9, 0.12, 0.03, 0.01, 0.017,  -999.00, 9, -999.00, -999.00, 9, -999.00
49NZ20071122, P14N, 183, 1, 35, X12041, 2, 20071212, 0107, -14.9937, 178.9915, 2409,     50.4, 2,  28.0789, 2,  35.2244, 2,  35.2157, 2,    199.1, 2,    201.4, 2,     0.81, 2,     0.06, 2,     0.01, 2,     0.15, 2,    1.575, 2,    0.974, 2,    0.584, 4, -999.000, 9,   -999.0, 9,   -999.0, 9, -999.0000,   -999.00,   -999.0, 9,   -999.0,  -999.00, 9,   -999.0,  28.0670, 22.5415,  28.1096, 2, 9, 0.12, 0.03, 0.01, 0.018,  -999.00, 9, -999.00, -999.00, 9, -999.00
49NZ20071122, P14N, 183, 1, 34, X12016, 2, 20071212, 0107, -14.9937, 178.9915, 2409,     99.8, 2,  25.4357, 2,  35.7567, 2,  35.7552, 2,    185.3, 2,    184.7, 2,     0.69, 2,     0.06, 2,     0.01, 2,     0.23, 2,    1.750, 2,    1.063, 2,    0.387, 4, -999.000, 9,   -999.0, 9,   -999.0, 9, -999.0000,   -999.00,   -999.0, 9,   -999.0,  -999.00, 9,   -999.0,  25.4137, 23.7864,  25.4379, 2, 9, 0.12, 0.03, 0.01, 0.015,  -999.00, 1, -999.00, -999.00, 9, -999.00
49NZ20071122, P14N, 183, 1, 33, X12033, 2, 20071212, 0107, -14.9937, 178.9915, 2409,    150.0, 2,  23.8576, 2,  35.8466, 2,  35.8658, 2,    168.3, 2,    167.7, 2,     0.78, 2,     1.94, 2,     0.03, 2,     0.37, 2,    1.890, 2,    1.129, 2,    0.196, 4, -999.000, 9,   -999.0, 9,   -999.0, 9, -999.0000,   -999.00,   -999.0, 9,   -999.0,  -999.00, 9,   -999.0,  23.8260, 24.3340,  23.8578, 2, 9, 0.12, 0.04, 0.01, 0.014,  -999.00, 9, -999.00, -999.00, 9, -999.00
49NZ20071122, P14N, 183, 1, 32, X12038, 2, 20071212, 0107, -14.9937, 178.9915, 2409,    200.2, 2,  21.2646, 2,  35.8136, 2,  35.8058, 2,    158.6, 2,    158.1, 2,     1.14, 2,     4.81, 2,     0.01, 2,     0.55, 2,    2.092, 2,    1.196, 2,    0.062, 2, -999.000, 9,   -999.0, 9,   -999.0, 9, -999.0000,   -999.00,   -999.0, 9,   -999.0,  -999.00, 9,   -999.0,  21.2258, 25.0516,  21.2634, 2, 9, 0.12, 0.05, 0.01, 0.013,  -999.00, 1, -999.00, -999.00, 9, -999.00
49NZ20071122, P14N, 183, 1, 31, X12003, 2, 20071212, 0107, -14.9937, 178.9915, 2409,    248.3, 2,  19.4077, 2,  35.6354, 2,  35.6155, 6,    158.5, 2,    158.4, 2,     1.87, 2,     6.68, 2,     0.01, 2,     0.68, 2,    2.166, 2,    1.207, 2,    0.032, 2, -999.000, 9,   -999.0, 9,   -999.0, 9, -999.0000,   -999.00,   -999.0, 9,   -999.0,  -999.00, 9,   -999.0,  19.3625, 25.4135,  19.4102, 2, 9, 0.12, 0.05, 0.01, 0.013,  -999.00, 9, -999.00, -999.00, 9, -999.00
49NZ20071122, P14N, 183, 1, 30, X12008, 2, 20071212, 0107, -14.9937, 178.9915, 2409,    281.0, 2,  17.8775, 2,  35.4632, 2,  35.4644, 2,    154.1, 2,    155.0, 2,     2.77, 2,     8.46, 2,     0.01, 2,     0.81, 2,    2.141, 2,    1.177, 2,    0.034, 2, -999.000, 9,   -999.0, 9,   -999.0, 9, -999.0000,   -999.00,   -999.0, 9,   -999.0,  -999.00, 9,   -999.0,  17.8292, 25.6690,  17.8786, 2, 9, 0.13, 0.06, 0.01, 0.013,  -999.00, 9, -999.00, -999.00, 9, -999.00
49NZ20071122, P14N, 183, 1, 29, X12035, 2, 20071212, 0107, -14.9937, 178.9915, 2409,    369.9, 2,  13.1138, 2,  34.9417, 2,  34.9419, 2,    144.9, 2,    146.7, 2,     7.74, 2,    16.00, 2,     0.01, 2,     1.31, 2,    1.691, 2,    0.881, 2,    0.025, 2, -999.000, 9,   -999.0, 9,   -999.0, 9, -999.0000,   -999.00,   -999.0, 9,   -999.0,  -999.00, 9,   -999.0,  13.0623, 26.3352,  13.1189, 2, 9, 0.14, 0.08, 0.01, 0.014,  -999.00, 1, -999.00, -999.00, 9, -999.00
49NZ20071122, P14N, 183, 1, 28, X12034, 2, 20071212, 0107, -14.9937, 178.9915, 2409,    471.0, 2,   8.6127, 2,  34.5301, 2,  34.5286, 6,    178.7, 2,    176.1, 2,    12.02, 2,    23.16, 2,     0.01, 2,     1.70, 2,    1.427, 2,    0.703, 2,    0.026, 2, -999.000, 9,   -999.0, 9,   -999.0, 9, -999.0000,   -999.00,   -999.0, 9,   -999.0,  -999.00, 9,   -999.0,   8.5624, 26.8192,   8.6119, 2, 9, 0.15, 0.10, 0.01, 0.014,  -999.00, 9, -999.00, -999.00, 9, -999.00
49NZ20071122, P14N, 183, 1, 27, X12049, 2, 20071212, 0107, -14.9937, 178.9915, 2409,    569.4, 2,   6.4900, 2,  34.3854, 2,  34.3851, 2,    192.5, 2,    194.9, 2,    16.46, 2,    26.88, 2,     0.01, 2,     1.91, 2,    0.996, 2,    0.491, 2,    0.022, 2, -999.000, 9,   -999.0, 9,   -999.0, 9, -999.0000,   -999.00,   -999.0, 9,   -999.0,  -999.00, 9,   -999.0,   6.4380, 27.0104,   6.4904, 2, 9, 0.16, 0.11, 0.01, 0.015,  -999.00, 1, -999.00, -999.00, 9, -999.00
49NZ20071122, P14N, 183, 1, 26, X12032, 2, 20071212, 0107, -14.9937, 178.9915, 2409,    669.9, 2,   5.7060, 2,  34.3787, 2,  34.3778, 2,    185.8, 2,    186.2, 2,    24.60, 2,    29.45, 2,     0.00, 2,     2.08, 2,    0.547, 2,    0.275, 2,    0.009, 2, -999.000, 9,   -999.0, 9,   -999.0, 9, -999.0000,   -999.00,   -999.0, 9,   -999.0,  -999.00, 9,   -999.0,   5.6483, 27.1055,   5.7065, 2, 9, 0.17, 0.12, 0.01, 0.015,  -999.00, 9, -999.00, -999.00, 9, -999.00
49NZ20071122, P14N, 183, 1, 25, X12043, 3, 20071212, 0107, -14.9937, 178.9915, 2409,    768.8, 2,   4.9848, 2,  34.3848, 2,  34.3853, 2,    177.3, 2,    177.5, 2,    34.28, 2,    31.46, 2,     0.00, 2,     2.21, 2,    0.280, 2,    0.143, 2,    0.002, 2, -999.000, 9,   -999.0, 9,   -999.0, 9, -999.0000,   -999.00,   -999.0, 9,   -999.0,  -999.00, 9,   -999.0,   4.9223, 27.1964,   4.9851, 2, 9, 0.19, 0.12, 0.01, 0.016,  -999.00, 1, -999.00, -999.00, 9, -999.00
49NZ20071122, P14N, 183, 1, 24, X12030, 2, 20071212, 0107, -14.9937, 178.9915, 2409,    868.4, 2,   4.4215, 2,  34.4340, 2,  34.4340, 2,    163.6, 2,    164.4, 2,    48.84, 2,    33.07, 2,     0.01, 2,     2.33, 2,    0.114, 2,    0.062, 2,    0.000, 2, -999.000, 9,   -999.0, 9,   -999.0, 9, -999.0000,   -999.00,   -999.0, 9,   -999.0,  -999.00, 9,   -999.0,   4.3539, 27.2986,   4.4221, 2, 9, 0.23, 0.13, 0.01, 0.016,  -999.00, 9, -999.00, -999.00, 9, -999.00
49NZ20071122, P14N, 183, 1, 23, X12027, 2, 20071212, 0107, -14.9937, 178.9915, 2409,    968.1, 2,   4.0580, 2,  34.4582, 2,  34.4602, 2,    159.6, 2,    159.7, 2,    57.86, 2,    33.93, 2,     0.00, 2,     2.39, 2,    0.068, 2,    0.037, 2,    0.000, 2, -999.000, 9,   -999.0, 9,   -999.0, 9, -999.0000,   -999.00,   -999.0, 9,   -999.0,  -999.00, 9,   -999.0,   3.9846, 27.3567,   4.0578, 2, 9, 0.25, 0.13, 0.01, 0.016,  -999.00, 1, -999.00, -999.00, 9, -999.00
49NZ20071122, P14N, 183, 1, 22, X12028, 2, 20071212, 0107, -14.9937, 178.9915, 2409,   1129.7, 2,   3.5222, 2,  34.4963, 2,  34.4999, 6,    156.0, 2,    156.3, 2,    71.39, 2,    34.66, 2,     0.00, 2,     2.44, 2,    0.028, 2,    0.016, 2,    0.000, 2, -999.000, 9,   -999.0, 9,   -999.0, 9, -999.0000,   -999.00,   -999.0, 9,   -999.0,  -999.00, 9,   -999.0,   3.4398, 27.4416,   3.5208, 2, 9, 0.28, 0.13, 0.01, 0.016,  -999.00, 9, -999.00, -999.00, 9, -999.00
49NZ20071122, P14N, 183, 1, 21, X12009, 2, 20071212, 0107, -14.9937, 178.9915, 2409,   1330.3, 2,   3.0952, 2,  34.5399, 2,  34.5404, 2,    152.2, 2,    152.4, 2,    84.20, 2,    35.10, 2,     0.00, 2,     2.48, 2,    0.013, 2,    0.012, 2,    0.000, 2, -999.000, 9,   -999.0, 9,   -999.0, 9, -999.0000,   -999.00,   -999.0, 9,   -999.0,  -999.00, 9,   -999.0,   3.0004, 27.5178,   3.0953, 2, 9, 0.30, 0.13, 0.01, 0.016,  -999.00, 9, -999.00, -999.00, 9, -999.00
49NZ20071122, P14N, 183, 1, 20, X12026, 2, 20071212, 0107, -14.9937, 178.9915, 2409,   1529.7, 2,   2.7773, 2,  34.5822, 2,  34.5829, 6,    145.3, 2,    145.5, 2,    97.91, 2,    35.68, 2,     0.00, 2,     2.53, 2,    0.002, 2,    0.004, 2,    0.000, 2, -999.000, 9,   -999.0, 9,   -999.0, 9, -999.0000,   -999.00,   -999.0, 9,   -999.0,  -999.00, 9,   -999.0,   2.6696, 27.5811,   2.7779, 2, 9, 0.33, 0.13, 0.01, 0.016,  -999.00, 9, -999.00, -999.00, 9, -999.00
49NZ20071122, P14N, 183, 1, 19, X12025, 2, 20071212, 0107, -14.9937, 178.9915, 2409,   1730.7, 2,   2.5596, 2,  34.6019, 2,  34.6021, 2,    145.3, 2,    145.5, 2,   104.72, 2,    35.75, 2,     0.00, 2,     2.53, 2,    0.002, 2,    0.003, 2,    0.000, 2, -999.000, 9,   -999.0, 9,   -999.0, 9, -999.0000,   -999.00,   -999.0, 9,   -999.0,  -999.00, 9,   -999.0,   2.4379, 27.6169,   2.5594, 2, 9, 0.35, 0.13, 0.01, 0.016,  -999.00, 9, -999.00, -999.00, 9, -999.00
49NZ20071122, P14N, 183, 1, 18, X12024, 2, 20071212, 0107, -14.9937, 178.9915, 2409,   1929.4, 2,   2.3847, 2,  34.6201, 2,  34.6205, 2,    145.5, 2,    145.7, 2,   110.06, 2,    35.83, 2,     0.00, 2,     2.54, 2,    0.002, 2,    0.001, 2,    0.000, 2, -999.000, 9,   -999.0, 9,   -999.0, 9, -999.0000,   -999.00,   -999.0, 9,   -999.0,  -999.00, 9,   -999.0,   2.2485, 27.6473,   2.3849, 2, 9, 0.36, 0.13, 0.01, 0.016,  -999.00, 9, -999.00, -999.00, 9, -999.00
49NZ20071122, P14N, 183, 1, 17, X12023, 2, 20071212, 0107, -14.9937, 178.9915, 2409,   2128.5, 2,   2.2145, 2,  34.6378, 2,  34.6382, 6,    147.7, 2,    148.0, 2,   114.12, 2,    35.62, 2,     0.00, 2,     2.53, 2,    0.001, 2,    0.002, 2,    0.000, 2, -999.000, 9,   -999.0, 9,   -999.0, 9, -999.0000,   -999.00,   -999.0, 9,   -999.0,  -999.00, 9,   -999.0,   2.0637, 27.6764,   2.2145, 2, 9, 0.37, 0.13, 0.01, 0.016,  -999.00, 9, -999.00, -999.00, 9, -999.00
49NZ20071122, P14N, 183, 1, 16, X12022, 2, 20071212, 0107, -14.9937, 178.9915, 2409,   2328.7, 2,   2.0960, 2,  34.6456, 2,  34.6461, 2,    146.5, 2,    146.6, 2,   119.47, 2,    35.82, 2,     0.01, 2,     2.54, 2, -999.000, 9, -999.000, 9, -999.000, 9, -999.000, 9,   -999.0, 9,   -999.0, 9, -999.0000,   -999.00,   -999.0, 9,   -999.0,  -999.00, 9,   -999.0,   1.9295, 27.6933,   2.0962, 2, 9, 0.38, 0.13, 0.01, 0.016,  -999.00, 9, -999.00, -999.00, 9, -999.00
49NZ20071122, P14N, 183, 1, 15, X12021, 9, 20071212, 0107, -14.9937, 178.9915, 2409,     10.1, 2,  29.0060, 2,  34.7220, 2, -999.0000, 9,    196.4, 2,   -999.0, 9,  -999.00, 9,  -999.00, 9,  -999.00, 9,  -999.00, 9, -999.000, 9, -999.000, 9, -999.000, 9, -999.000, 9,   -999.0, 9,   -999.0, 9, -999.0000,   -999.00,   -999.0, 9,   -999.0,  -999.00, 9,   -999.0,  29.0036, 21.8542,  29.0015, 2, 9, -999.00, -999.00, -999.00, -999.000,  -999.00, 9, -999.00, -999.00, 9, -999.00
49NZ20071122, P14N, 183, 1, 14, X12020, 9, 20071212, 0107, -14.9937, 178.9915, 2409,     50.1, 2,  28.0786, 2,  35.2219, 2, -999.0000, 9,    199.1, 2,   -999.0, 9,  -999.00, 9,  -999.00, 9,  -999.00, 9,  -999.00, 9, -999.000, 9, -999.000, 9, -999.000, 9, -999.000, 9,   -999.0, 9,   -999.0, 9, -999.0000,   -999.00,   -999.0, 9,   -999.0,  -999.00, 9,   -999.0,  28.0668, 22.5397,  28.0700, 2, 9, -999.00, -999.00, -999.00, -999.000,  -999.00, 9, -999.00, -999.00, 9, -999.00
49NZ20071122, P14N, 183, 1, 13, X12019, 9, 20071212, 0107, -14.9937, 178.9915, 2409,     99.3, 2,  25.3715, 2,  35.7545, 2, -999.0000, 9,    185.0, 2,   -999.0, 9,  -999.00, 9,  -999.00, 9,  -999.00, 9,  -999.00, 9, -999.000, 9, -999.000, 9, -999.000, 9, -999.000, 9,   -999.0, 9,   -999.0, 9, -999.0000,   -999.00,   -999.0, 9,   -999.0,  -999.00, 9,   -999.0,  25.3497, 23.8045,  25.3689, 2, 9, -999.00, -999.00, -999.00, -999.000,  -999.00, 9, -999.00, -999.00, 9, -999.00
49NZ20071122, P14N, 183, 1, 12, X12040, 9, 20071212, 0107, -14.9937, 178.9915, 2409,   1929.6, 2,   2.3857, 2,  34.6199, 2, -999.0000, 9,    145.5, 2,   -999.0, 9,  -999.00, 9,  -999.00, 9,  -999.00, 9,  -999.00, 9, -999.000, 9, -999.000, 9, -999.000, 9, -999.000, 9,   -999.0, 9,   -999.0, 9, -999.0000,   -999.00,   -999.0, 9,   -999.0,  -999.00, 9,   -999.0,   2.2495, 27.6470,   2.3858, 2, 9, -999.00, -999.00, -999.00, -999.000,  -999.00, 9, -999.00, -999.00, 9, -999.00
49NZ20071122, P14N, 183, 1, 11, X12047, 9, 20071212, 0107, -14.9937, 178.9915, 2409,    150.3, 2,  23.8380, 2,  35.8475, 2, -999.0000, 9,    167.8, 2,   -999.0, 9,  -999.00, 9,  -999.00, 9,  -999.00, 9,  -999.00, 9, -999.000, 9, -999.000, 9, -999.000, 9, -999.000, 9,   -999.0, 9,   -999.0, 9, -999.0000,   -999.00,   -999.0, 9,   -999.0,  -999.00, 9,   -999.0,  23.8064, 24.3405,  23.8411, 2, 9, -999.00, -999.00, -999.00, -999.000,  -999.00, 9, -999.00, -999.00, 9, -999.00
49NZ20071122, P14N, 183, 1, 10, X12012, 2, 20071212, 0107, -14.9937, 178.9915, 2409,   1928.9, 2,   2.3846, 2,  34.6200, 2, -999.0000, 9,    145.5, 2,   -999.0, 9,  -999.00, 9,  -999.00, 9,  -999.00, 9,  -999.00, 9, -999.000, 9, -999.000, 9, -999.000, 9, -999.000, 9,   -999.0, 9,   -999.0, 9, -999.0000,   -999.00,   -999.0, 9,   -999.0,  -999.00, 9,   -999.0,   2.2485, 27.6472,   2.3846, 2, 9, -999.00, -999.00, -999.00, -999.000,  -999.00, 1, -999.00, -999.00, 9, -999.00
49NZ20071122, P14N, 183, 1, 9, X12015, 2, 20071212, 0107, -14.9937, 178.9915, 2409,   1929.1, 2,   2.3841, 2,  34.6200, 2, -999.0000, 9,    145.5, 2,   -999.0, 9,  -999.00, 9,  -999.00, 9,  -999.00, 9,  -999.00, 9, -999.000, 9, -999.000, 9, -999.000, 9, -999.000, 9,   -999.0, 9,   -999.0, 9, -999.0000,   -999.00,   -999.0, 9,   -999.0,  -999.00, 9,   -999.0,   2.2480, 27.6472,   2.3841, 2, 9, -999.00, -999.00, -999.00, -999.000,  -999.00, 1, -999.00, -999.00, 9, -999.00
49NZ20071122, P14N, 183, 1, 8, X12046, 2, 20071212, 0107, -14.9937, 178.9915, 2409,   1929.5, 2,   2.3846, 2,  34.6200, 2, -999.0000, 9,    145.5, 2,   -999.0, 9,  -999.00, 9,  -999.00, 9,  -999.00, 9,  -999.00, 9, -999.000, 9, -999.000, 9, -999.000, 9, -999.000, 9,   -999.0, 9,   -999.0, 9, -999.0000,   -999.00,   -999.0, 9,   -999.0,  -999.00, 9,   -999.0,   2.2484, 27.6472,   2.3846, 2, 9, -999.00, -999.00, -999.00, -999.000,  -999.00, 1, -999.00, -999.00, 9, -999.00
49NZ20071122, P14N, 183, 1, 7, X12044, 2, 20071212, 0107, -14.9937, 178.9915, 2409,   1929.5, 2,   2.3839, 2,  34.6200, 2, -999.0000, 9,    145.5, 2,   -999.0, 9,  -999.00, 9,  -999.00, 9,  -999.00, 9,  -999.00, 9, -999.000, 9, -999.000, 9, -999.000, 9, -999.000, 9,   -999.0, 9,   -999.0, 9, -999.0000,   -999.00,   -999.0, 9,   -999.0,  -999.00, 9,   -999.0,   2.2477, 27.6472,   2.3840, 2, 9, -999.00, -999.00, -999.00, -999.000,  -999.00, 1, -999.00, -999.00, 9, -999.00
49NZ20071122, P14N, 183, 1, 6, X12048, 9, 20071212, 0107, -14.9937, 178.9915, 2409,   2398.5, 2,   2.0782, 2,  34.6470, 2, -999.0000, 9,    146.4, 2,   -999.0, 9,  -999.00, 9,  -999.00, 9,  -999.00, 9,  -999.00, 9, -999.000, 9, -999.000, 9, -999.000, 9, -999.000, 9,   -999.0, 9,   -999.0, 9, -999.0000,   -999.00,   -999.0, 9,   -999.0,  -999.00, 9,   -999.0,   1.9057, 27.6963,   2.0778, 2, 9, -999.00, -999.00, -999.00, -999.000,  -999.00, 9, -999.00, -999.00, 9, -999.00
49NZ20071122, P14N, 183, 1, 5, X12014, 2, 20071212, 0107, -14.9937, 178.9915, 2409,   2399.1, 2,   2.0765, 2,  34.6472, 2, -999.0000, 9,    146.3, 2,   -999.0, 9,  -999.00, 9,  -999.00, 9,  -999.00, 9,  -999.00, 9, -999.000, 9, -999.000, 9, -999.000, 9, -999.000, 9,   -999.0, 9,   -999.0, 9, -999.0000,   -999.00,   -999.0, 9,   -999.0,  -999.00, 9,   -999.0,   1.9040, 27.6966,   2.0763, 2, 9, -999.00, -999.00, -999.00, -999.000,  -999.00, 1, -999.00, -999.00, 9, -999.00
49NZ20071122, P14N, 183, 1, 4, X12006, 2, 20071212, 0107, -14.9937, 178.9915, 2409,   2398.3, 2,   2.0832, 2,  34.6465, 2, -999.0000, 9,    146.4, 2,   -999.0, 9,  -999.00, 9,  -999.00, 9,  -999.00, 9,  -999.00, 9, -999.000, 9, -999.000, 9, -999.000, 9, -999.000, 9,   -999.0, 9,   -999.0, 9, -999.0000,   -999.00,   -999.0, 9,   -999.0,  -999.00, 9,   -999.0,   1.9107, 27.6955,   2.0830, 2, 9, -999.00, -999.00, -999.00, -999.000,  -999.00, 1, -999.00, -999.00, 9, -999.00
49NZ20071122, P14N, 183, 1, 3, X12013, 2, 20071212, 0107, -14.9937, 178.9915, 2409,   2398.1, 2,   2.0874, 2,  34.6463, 2, -999.0000, 9,    146.4, 2,   -999.0, 9,  -999.00, 9,  -999.00, 9,  -999.00, 9,  -999.00, 9, -999.000, 9, -999.000, 9, -999.000, 9, -999.000, 9,   -999.0, 9,   -999.0, 9, -999.0000,   -999.00,   -999.0, 9,   -999.0,  -999.00, 9,   -999.0,   1.9148, 27.6950,   2.0865, 2, 9, -999.00, -999.00, -999.00, -999.000,  -999.00, 1, -999.00, -999.00, 9, -999.00
49NZ20071122, P14N, 183, 1, 2, X12002, 2, 20071212, 0107, -14.9937, 178.9915, 2409,   2397.9, 2,   2.0866, 2,  34.6463, 2, -999.0000, 9,    146.4, 2,   -999.0, 9,  -999.00, 9,  -999.00, 9,  -999.00, 9,  -999.00, 9, -999.000, 9, -999.000, 9, -999.000, 9, -999.000, 9,   -999.0, 9,   -999.0, 9, -999.0000,   -999.00,   -999.0, 9,   -999.0,  -999.00, 9,   -999.0,   1.9140, 27.6951,   2.0865, 2, 9, -999.00, -999.00, -999.00, -999.000,  -999.00, 1, -999.00, -999.00, 9, -999.00
49NZ20071122, P14N, 183, 1, 1, X12001, 2, 20071212, 0107, -14.9937, 178.9915, 2409,   2397.8, 2,   2.0830, 2,  34.6465, 2,  34.6472, 6,    146.4, 2,    146.5, 2,   120.24, 2,    35.87, 2,     0.01, 2,     2.55, 2,    0.000, 2,    0.000, 2,    0.000, 2, -999.000, 9,   -999.0, 9,   -999.0, 9, -999.0000,   -999.00,   -999.0, 9,   -999.0,  -999.00, 9,   -999.0,   1.9105, 27.6955,   2.0827, 2, 9, 0.38, 0.13, 0.01, 0.016,  -999.00, 9, -999.00, -999.00, 9, -999.00