BOTTLE,20220820CCHSIOAMB
EXPOCODE,SECT_ID,STNNBR,CASTNO,SAMPNO,BTLNBR,BTLNBR_FLAG_W,DATE,TIME,LATITUDE,LONGITUDE,DEPTH,CTDPRS,CTDPRS_FLAG_W,CTDTMP,CTDTMP_FLAG_W,CTDSAL,CTDSAL_FLAG_W,SALNTY,SALNTY_FLAG_W,CTDOXY,CTDOXY_FLAG_W,OXYGEN,OXYGEN_FLAG_W,SILCAT,SILCAT_FLAG_W,NITRAT,NITRAT_FLAG_W,NITRIT,NITRIT_FLAG_W,PHSPHT,PHSPHT_FLAG_W,CFC-11,CFC-11_FLAG_W,CFC-12,CFC-12_FLAG_W,CFC113,CFC113_FLAG_W,CCL4,CCL4_FLAG_W,TCARBN,TCARBN_FLAG_W,ALKALI,ALKALI_FLAG_W,PH_TOT,PH_TMP,DELC14,DELC14_FLAG_W,C14ERR,DELC13,DELC13_FLAG_W,C13ERR,THETA,SIG0,SBE35,SBE35_FLAG_W,PH_TOT_FLAG_W,SILUNC,NRAUNC,NRIUNC,PHPUNC,CS-137,CS-137_FLAG_W,CS137ER,PLUTO,PLUTO_FLAG_W,PLUTOER
,,,,,,,,,,,METERS,DBAR,,ITS-90,,PSS-78,,PSS-78,,UMOL/KG,,UMOL/KG,,UMOL/KG,,UMOL/KG,,UMOL/KG,,UMOL/KG,,PMOL/KG,,PMOL/KG,,PMOL/KG,,PMOL/KG,,UMOL/KG,,UMOL/KG,,,DEG C,/MILLE,,/MILLE,/MILLE,,/MILLE,DEG C,KG/M^3,ITS-90,,,UMOL/KG,UMOL/KG,UMOL/KG,UMOL/KG,DM/.1MG,,BQ/M^3,MBQ/M^3,,MBQ/M^3
49NZ20071122, P14N, 178, 2, 36, X12042, 2, 20071211, 0508, -12.5122, 179.0160, 3032,     10.5, 2,  29.3055, 2,  34.6980, 2,  34.6972, 2,    194.6, 2,    194.9, 2,     0.98, 2,     0.04, 2,     0.00, 2,     0.17, 2,    1.454, 2,    0.911, 2,    0.237, 4, -999.000, 9,   -999.0, 9,   -999.0, 9, -999.0000,   -999.00,   -999.0, 9,   -999.0,  -999.00, 9,   -999.0,  29.3029, 21.7358,  29.3027, 2, 9, 0.12, 0.03, 0.01, 0.017,  -999.00, 9, -999.00, -999.00, 9, -999.00
49NZ20071122, P14N, 178, 2, 35, X12041, 2, 20071211, 0508, -12.5122, 179.0160, 3032,     50.3, 2,  29.0751, 2,  34.7431, 2,  34.7591, 2,    196.4, 2,    195.7, 2,     1.04, 2,     0.02, 2,     0.01, 2,     0.17, 2,    1.461, 2,    0.911, 2,    0.370, 4, -999.000, 9,   -999.0, 9,   -999.0, 9, -999.0000,   -999.00,   -999.0, 9,   -999.0,  -999.00, 9,   -999.0,  29.0629, 21.8502,  29.0737, 2, 9, 0.12, 0.03, 0.01, 0.017,  -999.00, 9, -999.00, -999.00, 9, -999.00
49NZ20071122, P14N, 178, 2, 34, X12016, 2, 20071211, 0508, -12.5122, 179.0160, 3032,    101.4, 2,  27.4124, 2,  35.8097, 2,  35.8176, 2,    184.6, 2,    184.6, 2,     1.10, 2,     0.02, 2,     0.01, 2,     0.25, 2,    1.632, 2,    1.012, 2,    0.354, 4, -999.000, 9,   -999.0, 9,   -999.0, 9, -999.0000,   -999.00,   -999.0, 9,   -999.0,  -999.00, 9,   -999.0,  27.3888, 23.2027,  27.3976, 2, 9, 0.12, 0.03, 0.01, 0.015,  -999.00, 1, -999.00, -999.00, 9, -999.00
49NZ20071122, P14N, 178, 2, 33, X12033, 2, 20071211, 0508, -12.5122, 179.0160, 3032,    150.3, 2,  24.5712, 2,  36.1600, 2,  36.1574, 2,    148.9, 2,    149.8, 2,     1.40, 2,     3.99, 2,     0.05, 2,     0.55, 2,    1.851, 6,    1.102, 6,    0.122, 6, -999.000, 9,   -999.0, 9,   -999.0, 9, -999.0000,   -999.00,   -999.0, 9,   -999.0,  -999.00, 9,   -999.0,  24.5389, 24.3583,  24.6046, 2, 9, 0.12, 0.04, 0.01, 0.013,  -999.00, 9, -999.00, -999.00, 9, -999.00
49NZ20071122, P14N, 178, 2, 32, X12038, 2, 20071211, 0508, -12.5122, 179.0160, 3032,    199.1, 2,  21.7584, 2,  35.9514, 2,  35.9375, 2,    148.2, 2,    147.5, 2,     1.77, 2,     6.40, 2,     0.01, 2,     0.68, 2,    2.019, 2,    1.164, 2,    0.054, 2, -999.000, 9,   -999.0, 9,   -999.0, 9, -999.0000,   -999.00,   -999.0, 9,   -999.0,  -999.00, 9,   -999.0,  21.7191, 25.0197,  21.7596, 2, 9, 0.12, 0.05, 0.01, 0.013,  -999.00, 1, -999.00, -999.00, 9, -999.00
49NZ20071122, P14N, 178, 2, 31, X12003, 3, 20071211, 0508, -12.5122, 179.0160, 3032,    250.5, 2,  18.5988, 2,  35.5645, 2,  35.5597, 6,    142.7, 2,    142.6, 2,     3.34, 2,     9.44, 2,     0.01, 2,     0.90, 2,    2.069, 2,    1.146, 2,    0.028, 2, -999.000, 9,   -999.0, 9,   -999.0, 9, -999.0000,   -999.00,   -999.0, 9,   -999.0,  -999.00, 9,   -999.0,  18.5546, 25.5660,  18.5944, 2, 9, 0.13, 0.06, 0.01, 0.013,  -999.00, 9, -999.00, -999.00, 9, -999.00
49NZ20071122, P14N, 178, 2, 30, X12008, 2, 20071211, 0508, -12.5122, 179.0160, 3032,    301.4, 2,  15.5122, 2,  35.1937, 2,  35.1662, 2,    136.2, 2,    135.6, 2,     6.42, 2,    13.87, 2,     0.01, 2,     1.19, 2,    1.839, 2,    0.982, 2,    0.020, 2, -999.000, 9,   -999.0, 9,   -999.0, 9, -999.0000,   -999.00,   -999.0, 9,   -999.0,  -999.00, 9,   -999.0,  15.4653, 26.0180,  15.5226, 2, 9, 0.13, 0.07, 0.01, 0.013,  -999.00, 9, -999.00, -999.00, 9, -999.00
49NZ20071122, P14N, 178, 2, 29, X12035, 2, 20071211, 0508, -12.5122, 179.0160, 3032,    399.8, 2,   9.9847, 2,  34.6805, 2,  34.6707, 2,    134.2, 2,    136.6, 2,    15.81, 2,    23.88, 2,     0.01, 2,     1.79, 2,    1.004, 2,    0.508, 2,    0.016, 2, -999.000, 9,   -999.0, 9,   -999.0, 9, -999.0000,   -999.00,   -999.0, 9,   -999.0,  -999.00, 9,   -999.0,   9.9381, 26.7130,   9.9830, 2, 9, 0.15, 0.10, 0.01, 0.015,  -999.00, 1, -999.00, -999.00, 9, -999.00
49NZ20071122, P14N, 178, 2, 28, X12034, 2, 20071211, 0508, -12.5122, 179.0160, 3032,    500.2, 2,   7.3133, 2,  34.5250, 2,  34.5218, 6,    147.2, 2,    147.0, 2,    26.26, 2,    29.18, 2,     0.01, 2,     2.08, 2,    0.485, 2,    0.248, 2,    0.016, 2, -999.000, 9,   -999.0, 9,   -999.0, 9, -999.0000,   -999.00,   -999.0, 9,   -999.0,  -999.00, 9,   -999.0,   7.2646, 27.0076,   7.3137, 2, 9, 0.18, 0.11, 0.01, 0.015,  -999.00, 9, -999.00, -999.00, 9, -999.00
49NZ20071122, P14N, 178, 2, 27, X12049, 2, 20071211, 0508, -12.5122, 179.0160, 3032,    601.5, 2,   6.2756, 2,  34.4658, 2,  34.4642, 2,    156.6, 2,    159.7, 2,    30.24, 2,    30.30, 2,     0.00, 2,     2.14, 2,    0.421, 2,    0.214, 2,    0.014, 2, -999.000, 9,   -999.0, 9,   -999.0, 9, -999.0000,   -999.00,   -999.0, 9,   -999.0,  -999.00, 9,   -999.0,   6.2214, 27.1022,   6.2759, 2, 9, 0.19, 0.12, 0.01, 0.015,  -999.00, 1, -999.00, -999.00, 9, -999.00
49NZ20071122, P14N, 178, 2, 26, X12032, 2, 20071211, 0508, -12.5122, 179.0160, 3032,    699.4, 2,   5.6595, 2,  34.4834, 2,  34.4822, 2,    144.4, 2,    145.1, 2,    41.88, 2,    32.75, 2,     0.01, 2,     2.31, 2,    0.194, 6,    0.105, 6,    0.004, 6, -999.000, 9,   -999.0, 9,   -999.0, 9, -999.0000,   -999.00,   -999.0, 9,   -999.0,  -999.00, 9,   -999.0,   5.5992, 27.1944,   5.6580, 2, 9, 0.21, 0.12, 0.01, 0.016,  -999.00, 9, -999.00, -999.00, 9, -999.00
49NZ20071122, P14N, 178, 2, 25, X12043, 2, 20071211, 0508, -12.5122, 179.0160, 3032,    800.0, 2,   5.0674, 2,  34.4828, 2,  34.4823, 2,    145.3, 2,    144.2, 2,    50.19, 2,    33.80, 2,     0.00, 2,     2.38, 2,    0.125, 2,    0.066, 2,    0.000, 2, -999.000, 9,   -999.0, 9,   -999.0, 9, -999.0000,   -999.00,   -999.0, 9,   -999.0,  -999.00, 9,   -999.0,   5.0015, 27.2650,   5.0738, 2, 9, 0.23, 0.13, 0.01, 0.016,  -999.00, 1, -999.00, -999.00, 9, -999.00
49NZ20071122, P14N, 178, 2, 24, X12030, 2, 20071211, 0508, -12.5122, 179.0160, 3032,    900.2, 2,   4.5967, 2,  34.4979, 2,  34.4988, 2,    138.4, 2,    138.4, 2,    60.18, 2,    34.95, 2,     0.01, 2,     2.46, 2,    0.061, 2,    0.038, 2,    0.000, 2, -999.000, 9,   -999.0, 9,   -999.0, 9, -999.0000,   -999.00,   -999.0, 9,   -999.0,  -999.00, 9,   -999.0,   4.5251, 27.3307,   4.5975, 2, 9, 0.25, 0.13, 0.01, 0.016,  -999.00, 9, -999.00, -999.00, 9, -999.00
49NZ20071122, P14N, 178, 2, 23, X12027, 2, 20071211, 0508, -12.5122, 179.0160, 3032,    999.7, 2,   4.2211, 2,  34.5025, 2,  34.5024, 2,    142.3, 2,    142.4, 2,    65.14, 2,    34.94, 2,     0.01, 2,     2.47, 2,    0.047, 2,    0.028, 2,    0.000, 2, -999.000, 9,   -999.0, 9,   -999.0, 9, -999.0000,   -999.00,   -999.0, 9,   -999.0,  -999.00, 9,   -999.0,   4.1438, 27.3754,   4.2199, 2, 9, 0.26, 0.13, 0.01, 0.016,  -999.00, 1, -999.00, -999.00, 9, -999.00
49NZ20071122, P14N, 178, 2, 22, X12028, 2, 20071211, 0508, -12.5122, 179.0160, 3032,   1200.6, 2,   3.6396, 2,  34.5320, 2,  34.5320, 6,    141.4, 2,    141.4, 2,    78.25, 2,    35.60, 2,     0.01, 2,     2.51, 2,    0.020, 2,    0.012, 2,    0.000, 2, -999.000, 9,   -999.0, 9,   -999.0, 9, -999.0000,   -999.00,   -999.0, 9,   -999.0,  -999.00, 9,   -999.0,   3.5502, 27.4593,   3.6398, 2, 9, 0.29, 0.13, 0.01, 0.016,  -999.00, 9, -999.00, -999.00, 9, -999.00
49NZ20071122, P14N, 178, 2, 21, X12009, 2, 20071211, 0508, -12.5122, 179.0160, 3032,   1400.2, 2,   3.0583, 2,  34.5668, 2,  34.5664, 2,    142.2, 2,    142.3, 2,    91.65, 2,    35.86, 2,     0.01, 2,     2.53, 2,    0.013, 2,    0.010, 2,    0.000, 2, -999.000, 9,   -999.0, 9,   -999.0, 9, -999.0000,   -999.00,   -999.0, 9,   -999.0,  -999.00, 9,   -999.0,   2.9581, 27.5431,   3.0584, 2, 9, 0.32, 0.13, 0.01, 0.016,  -999.00, 9, -999.00, -999.00, 9, -999.00
49NZ20071122, P14N, 178, 2, 20, X12026, 2, 20071211, 0508, -12.5122, 179.0160, 3032,   1599.5, 2,   2.6809, 2,  34.5946, 2,  34.5943, 2,    142.7, 2,    142.8, 2,   101.90, 2,    36.03, 2,     0.01, 2,     2.53, 2,    0.010, 2,    0.011, 2,    0.000, 2, -999.000, 9,   -999.0, 9,   -999.0, 9, -999.0000,   -999.00,   -999.0, 9,   -999.0,  -999.00, 9,   -999.0,   2.5685, 27.5999,   2.6810, 2, 9, 0.34, 0.13, 0.01, 0.016,  -999.00, 9, -999.00, -999.00, 9, -999.00
49NZ20071122, P14N, 178, 2, 19, X12025, 2, 20071211, 0508, -12.5122, 179.0160, 3032,   1800.2, 2,   2.4496, 2,  34.6134, 2,  34.6126, 2,    143.2, 2,    143.4, 2,   108.52, 2,    36.05, 2,     0.01, 2,     2.54, 2,    0.010, 2,    0.008, 2,    0.000, 2, -999.000, 9,   -999.0, 9,   -999.0, 9, -999.0000,   -999.00,   -999.0, 9,   -999.0,  -999.00, 9,   -999.0,   2.3235, 27.6357,   2.4496, 2, 9, 0.36, 0.13, 0.01, 0.016,  -999.00, 9, -999.00, -999.00, 9, -999.00
49NZ20071122, P14N, 178, 2, 18, X12024, 2, 20071211, 0508, -12.5122, 179.0160, 3032,   1999.4, 2,   2.3305, 2,  34.6238, 2,  34.6232, 2,    143.5, 2,    143.8, 2,   112.83, 2,    36.16, 2,     0.01, 2,     2.55, 2,    0.005, 2,    0.007, 2,    0.000, 2, -999.000, 9,   -999.0, 9,   -999.0, 9, -999.0000,   -999.00,   -999.0, 9,   -999.0,  -999.00, 9,   -999.0,   2.1891, 27.6550,   2.3305, 2, 9, 0.37, 0.13, 0.01, 0.016,  -999.00, 9, -999.00, -999.00, 9, -999.00
49NZ20071122, P14N, 178, 2, 17, X12023, 2, 20071211, 0508, -12.5122, 179.0160, 3032,   2204.4, 2,   2.1200, 2,  34.6408, 2,  34.6401, 6,    144.4, 2,    144.6, 2,   119.39, 2,    36.09, 2,     0.01, 2,     2.55, 2, -999.000, 9, -999.000, 9, -999.000, 9, -999.000, 9,   -999.0, 9,   -999.0, 9, -999.0000,   -999.00,   -999.0, 9,   -999.0,  -999.00, 9,   -999.0,   1.9641, 27.6868,   2.1200, 2, 9, 0.38, 0.13, 0.01, 0.016,  -999.00, 9, -999.00, -999.00, 9, -999.00
49NZ20071122, P14N, 178, 2, 16, X12022, 2, 20071211, 0508, -12.5122, 179.0160, 3032,   2399.5, 2,   1.9817, 2,  34.6518, 2,  34.6511, 2,    145.3, 2,    145.9, 2,   123.72, 2,    36.14, 2,     0.00, 2,     2.54, 2,    0.012, 2,    0.006, 2,    0.000, 2, -999.000, 9,   -999.0, 9,   -999.0, 9, -999.0000,   -999.00,   -999.0, 9,   -999.0,  -999.00, 9,   -999.0,   1.8108, 27.7075,   1.9817, 2, 9, 0.39, 0.13, 0.01, 0.016,  -999.00, 9, -999.00, -999.00, 9, -999.00
49NZ20071122, P14N, 178, 2, 15, X12021, 2, 20071211, 0508, -12.5122, 179.0160, 3032,   2600.5, 2,   1.8452, 2,  34.6609, 2,  34.6604, 6,    147.2, 2,    147.7, 2,   127.42, 2,    36.10, 2,     0.00, 2,     2.54, 2, -999.000, 9, -999.000, 9, -999.000, 9, -999.000, 9,   -999.0, 9,   -999.0, 9, -999.0000,   -999.00,   -999.0, 9,   -999.0,  -999.00, 9,   -999.0,   1.6586, 27.7263,   1.8450, 2, 9, 0.40, 0.13, 0.01, 0.016,  -999.00, 9, -999.00, -999.00, 9, -999.00
49NZ20071122, P14N, 178, 2, 14, X12020, 2, 20071211, 0508, -12.5122, 179.0160, 3032,   2800.1, 2,   1.7674, 2,  34.6667, 2,  34.6660, 2,    148.3, 2,    148.7, 2,   129.51, 2,    36.14, 2,     0.01, 2,     2.54, 2,    0.000, 2,    0.000, 2,    0.000, 2, -999.000, 9,   -999.0, 9,   -999.0, 9, -999.0000,   -999.00,   -999.0, 9,   -999.0,  -999.00, 9,   -999.0,   1.5638, 27.7380,   1.7674, 2, 9, 0.40, 0.13, 0.01, 0.016,  -999.00, 9, -999.00, -999.00, 9, -999.00
49NZ20071122, P14N, 178, 2, 13, X12019, 9, 20071211, 0508, -12.5122, 179.0160, 3032,     10.4, 2,  29.3485, 2,  34.6975, 2, -999.0000, 9,    194.7, 2,   -999.0, 9,  -999.00, 9,  -999.00, 9,  -999.00, 9,  -999.00, 9, -999.000, 9, -999.000, 9, -999.000, 9, -999.000, 9,   -999.0, 9,   -999.0, 9, -999.0000,   -999.00,   -999.0, 9,   -999.0,  -999.00, 9,   -999.0,  29.3460, 21.7210,  29.3281, 2, 9, -999.00, -999.00, -999.00, -999.000,  -999.00, 9, -999.00, -999.00, 9, -999.00
49NZ20071122, P14N, 178, 2, 12, X12040, 9, 20071211, 0508, -12.5122, 179.0160, 3032,     50.4, 2,  29.0767, 2,  34.7412, 2, -999.0000, 9,    196.7, 2,   -999.0, 9,  -999.00, 9,  -999.00, 9,  -999.00, 9,  -999.00, 9, -999.000, 9, -999.000, 9, -999.000, 9, -999.000, 9,   -999.0, 9,   -999.0, 9, -999.0000,   -999.00,   -999.0, 9,   -999.0,  -999.00, 9,   -999.0,  29.0645, 21.8482,  29.0747, 2, 9, -999.00, -999.00, -999.00, -999.000,  -999.00, 9, -999.00, -999.00, 9, -999.00
49NZ20071122, P14N, 178, 2, 11, X12047, 9, 20071211, 0508, -12.5122, 179.0160, 3032,   2001.1, 2,   2.3299, 2,  34.6240, 2, -999.0000, 9,    143.5, 2,   -999.0, 9,  -999.00, 9,  -999.00, 9,  -999.00, 9,  -999.00, 9, -999.000, 9, -999.000, 9, -999.000, 9, -999.000, 9,   -999.0, 9,   -999.0, 9, -999.0000,   -999.00,   -999.0, 9,   -999.0,  -999.00, 9,   -999.0,   2.1884, 27.6553,   2.3299, 2, 9, -999.00, -999.00, -999.00, -999.000,  -999.00, 9, -999.00, -999.00, 9, -999.00
49NZ20071122, P14N, 178, 2, 10, X12012, 2, 20071211, 0508, -12.5122, 179.0160, 3032,   2000.9, 2,   2.3299, 2,  34.6240, 2, -999.0000, 9,    143.5, 2,   -999.0, 9,  -999.00, 9,  -999.00, 9,  -999.00, 9,  -999.00, 9, -999.000, 9, -999.000, 9, -999.000, 9, -999.000, 9,   -999.0, 9,   -999.0, 9, -999.0000,   -999.00,   -999.0, 9,   -999.0,  -999.00, 9,   -999.0,   2.1884, 27.6553,   2.3299, 2, 9, -999.00, -999.00, -999.00, -999.000,  -999.00, 1, -999.00, -999.00, 9, -999.00
49NZ20071122, P14N, 178, 2, 9, X12015, 2, 20071211, 0508, -12.5122, 179.0160, 3032,   2000.2, 2,   2.3300, 2,  34.6240, 2, -999.0000, 9,    143.5, 2,   -999.0, 9,  -999.00, 9,  -999.00, 9,  -999.00, 9,  -999.00, 9, -999.000, 9, -999.000, 9, -999.000, 9, -999.000, 9,   -999.0, 9,   -999.0, 9, -999.0000,   -999.00,   -999.0, 9,   -999.0,  -999.00, 9,   -999.0,   2.1886, 27.6553,   2.3300, 2, 9, -999.00, -999.00, -999.00, -999.000,  -999.00, 1, -999.00, -999.00, 9, -999.00
49NZ20071122, P14N, 178, 2, 8, X12046, 2, 20071211, 0508, -12.5122, 179.0160, 3032,   2000.2, 2,   2.3301, 2,  34.6239, 2, -999.0000, 9,    143.5, 2,   -999.0, 9,  -999.00, 9,  -999.00, 9,  -999.00, 9,  -999.00, 9, -999.000, 9, -999.000, 9, -999.000, 9, -999.000, 9,   -999.0, 9,   -999.0, 9, -999.0000,   -999.00,   -999.0, 9,   -999.0,  -999.00, 9,   -999.0,   2.1887, 27.6552,   2.3301, 2, 9, -999.00, -999.00, -999.00, -999.000,  -999.00, 1, -999.00, -999.00, 9, -999.00
49NZ20071122, P14N, 178, 2, 7, X12044, 2, 20071211, 0508, -12.5122, 179.0160, 3032,   1999.3, 2,   2.3304, 2,  34.6239, 2, -999.0000, 9,    143.5, 2,   -999.0, 9,  -999.00, 9,  -999.00, 9,  -999.00, 9,  -999.00, 9, -999.000, 9, -999.000, 9, -999.000, 9, -999.000, 9,   -999.0, 9,   -999.0, 9, -999.0000,   -999.00,   -999.0, 9,   -999.0,  -999.00, 9,   -999.0,   2.1890, 27.6551,   2.3304, 2, 9, -999.00, -999.00, -999.00, -999.000,  -999.00, 1, -999.00, -999.00, 9, -999.00
49NZ20071122, P14N, 178, 2, 6, X12048, 9, 20071211, 0508, -12.5122, 179.0160, 3032,   3047.2, 2,   1.7344, 2,  34.6698, 2, -999.0000, 9,    148.3, 2,   -999.0, 9,  -999.00, 9,  -999.00, 9,  -999.00, 9,  -999.00, 9, -999.000, 9, -999.000, 9, -999.000, 9, -999.000, 9,   -999.0, 9,   -999.0, 9, -999.0000,   -999.00,   -999.0, 9,   -999.0,  -999.00, 9,   -999.0,   1.5079, 27.7446,   1.7342, 2, 9, -999.00, -999.00, -999.00, -999.000,  -999.00, 9, -999.00, -999.00, 9, -999.00
49NZ20071122, P14N, 178, 2, 5, X12014, 2, 20071211, 0508, -12.5122, 179.0160, 3032,   3047.5, 2,   1.7341, 2,  34.6697, 2, -999.0000, 9,    148.3, 2,   -999.0, 9,  -999.00, 9,  -999.00, 9,  -999.00, 9,  -999.00, 9, -999.000, 9, -999.000, 9, -999.000, 9, -999.000, 9,   -999.0, 9,   -999.0, 9, -999.0000,   -999.00,   -999.0, 9,   -999.0,  -999.00, 9,   -999.0,   1.5076, 27.7446,   1.7341, 2, 9, -999.00, -999.00, -999.00, -999.000,  -999.00, 1, -999.00, -999.00, 9, -999.00
49NZ20071122, P14N, 178, 2, 4, X12006, 2, 20071211, 0508, -12.5122, 179.0160, 3032,   3046.7, 2,   1.7350, 2,  34.6697, 2, -999.0000, 9,    148.4, 2,   -999.0, 9,  -999.00, 9,  -999.00, 9,  -999.00, 9,  -999.00, 9, -999.000, 9, -999.000, 9, -999.000, 9, -999.000, 9,   -999.0, 9,   -999.0, 9, -999.0000,   -999.00,   -999.0, 9,   -999.0,  -999.00, 9,   -999.0,   1.5085, 27.7445,   1.7348, 2, 9, -999.00, -999.00, -999.00, -999.000,  -999.00, 1, -999.00, -999.00, 9, -999.00
49NZ20071122, P14N, 178, 2, 3, X12013, 2, 20071211, 0508, -12.5122, 179.0160, 3032,   3046.9, 2,   1.7352, 2,  34.6697, 2, -999.0000, 9,    148.4, 2,   -999.0, 9,  -999.00, 9,  -999.00, 9,  -999.00, 9,  -999.00, 9, -999.000, 9, -999.000, 9, -999.000, 9, -999.000, 9,   -999.0, 9,   -999.0, 9, -999.0000,   -999.00,   -999.0, 9,   -999.0,  -999.00, 9,   -999.0,   1.5087, 27.7445,   1.7348, 2, 9, -999.00, -999.00, -999.00, -999.000,  -999.00, 1, -999.00, -999.00, 9, -999.00
49NZ20071122, P14N, 178, 2, 2, X12002, 2, 20071211, 0508, -12.5122, 179.0160, 3032,   3046.7, 2,   1.7354, 2,  34.6697, 2, -999.0000, 9,    148.4, 2,   -999.0, 9,  -999.00, 9,  -999.00, 9,  -999.00, 9,  -999.00, 9, -999.000, 9, -999.000, 9, -999.000, 9, -999.000, 9,   -999.0, 9,   -999.0, 9, -999.0000,   -999.00,   -999.0, 9,   -999.0,  -999.00, 9,   -999.0,   1.5089, 27.7445,   1.7353, 2, 9, -999.00, -999.00, -999.00, -999.000,  -999.00, 1, -999.00, -999.00, 9, -999.00
49NZ20071122, P14N, 178, 2, 1, X12001, 2, 20071211, 0508, -12.5122, 179.0160, 3032,   3046.7, 2,   1.7357, 2,  34.6697, 2,  34.6690, 6,    148.4, 2,    148.5, 2,   131.03, 2,    36.21, 2,     0.00, 2,     2.54, 2,    0.000, 2,    0.000, 2,    0.000, 2, -999.000, 9,   -999.0, 9,   -999.0, 9, -999.0000,   -999.00,   -999.0, 9,   -999.0,  -999.00, 9,   -999.0,   1.5092, 27.7445,   1.7353, 2, 9, 0.41, 0.13, 0.01, 0.016,  -999.00, 9, -999.00, -999.00, 9, -999.00