BOTTLE,20220820CCHSIOAMB
EXPOCODE,SECT_ID,STNNBR,CASTNO,SAMPNO,BTLNBR,BTLNBR_FLAG_W,DATE,TIME,LATITUDE,LONGITUDE,DEPTH,CTDPRS,CTDPRS_FLAG_W,CTDTMP,CTDTMP_FLAG_W,CTDSAL,CTDSAL_FLAG_W,SALNTY,SALNTY_FLAG_W,CTDOXY,CTDOXY_FLAG_W,OXYGEN,OXYGEN_FLAG_W,SILCAT,SILCAT_FLAG_W,NITRAT,NITRAT_FLAG_W,NITRIT,NITRIT_FLAG_W,PHSPHT,PHSPHT_FLAG_W,CFC-11,CFC-11_FLAG_W,CFC-12,CFC-12_FLAG_W,CFC113,CFC113_FLAG_W,CCL4,CCL4_FLAG_W,TCARBN,TCARBN_FLAG_W,ALKALI,ALKALI_FLAG_W,PH_TOT,PH_TMP,DELC14,DELC14_FLAG_W,C14ERR,DELC13,DELC13_FLAG_W,C13ERR,THETA,SIG0,SBE35,SBE35_FLAG_W,PH_TOT_FLAG_W,SILUNC,NRAUNC,NRIUNC,PHPUNC,CS-137,CS-137_FLAG_W,CS137ER,PLUTO,PLUTO_FLAG_W,PLUTOER
,,,,,,,,,,,METERS,DBAR,,ITS-90,,PSS-78,,PSS-78,,UMOL/KG,,UMOL/KG,,UMOL/KG,,UMOL/KG,,UMOL/KG,,UMOL/KG,,PMOL/KG,,PMOL/KG,,PMOL/KG,,PMOL/KG,,UMOL/KG,,UMOL/KG,,,DEG C,/MILLE,,/MILLE,/MILLE,,/MILLE,DEG C,KG/M^3,ITS-90,,,UMOL/KG,UMOL/KG,UMOL/KG,UMOL/KG,DM/.1MG,,BQ/M^3,MBQ/M^3,,MBQ/M^3
49NZ20071122, P14N, 134, 1, 36, X12042, 2, 20071129, 1804, 2.2465, 178.9945, 5619,     10.4, 2,  27.4676, 2,  35.1232, 2,  35.1238, 2,    203.2, 2,    203.6, 2,     1.58, 2,     2.56, 2,     0.11, 2,     0.39, 2,    1.528, 2,    0.974, 2,    0.189, 4, -999.000, 9,   -999.0, 9,   -999.0, 9, -999.0000,   -999.00,   -999.0, 9,   -999.0,  -999.00, 9,   -999.0,  27.4652, 22.6611,  27.4644, 2, 9, 0.12, 0.04, 0.01, 0.013,  -999.00, 9, -999.00, -999.00, 9, -999.00
49NZ20071122, P14N, 134, 1, 35, X12041, 2, 20071129, 1804, 2.2465, 178.9945, 5619,     50.3, 2,  27.0065, 2,  35.1765, 2,  35.1766, 2,    195.8, 2,    195.3, 2,     1.74, 2,     3.12, 2,     0.34, 2,     0.48, 2,    1.552, 2,    0.965, 2,    0.176, 4, -999.000, 9,   -999.0, 9,   -999.0, 9, -999.0000,   -999.00,   -999.0, 9,   -999.0,  -999.00, 9,   -999.0,  26.9950, 22.8523,  27.0061, 2, 9, 0.12, 0.04, 0.00, 0.013,  -999.00, 9, -999.00, -999.00, 9, -999.00
49NZ20071122, P14N, 134, 1, 34, X12016, 2, 20071129, 1804, 2.2465, 178.9945, 5619,    101.1, 2,  26.8690, 2,  35.2367, 2,  35.2368, 2,    193.4, 2,    192.0, 2,     1.82, 2,     3.50, 2,     0.45, 2,     0.53, 2,    1.572, 2,    0.977, 2,    0.140, 2, -999.000, 9,   -999.0, 9,   -999.0, 9, -999.0000,   -999.00,   -999.0, 9,   -999.0,  -999.00, 9,   -999.0,  26.8459, 22.9452,  26.8675, 2, 9, 0.12, 0.04, 0.00, 0.013,  -999.00, 1, -999.00, -999.00, 9, -999.00
49NZ20071122, P14N, 134, 1, 33, X12033, 2, 20071129, 1804, 2.2465, 178.9945, 5619,    150.8, 2,  26.3302, 2,  35.2456, 2,  35.2386, 2,    166.5, 2,    177.5, 2,     2.58, 2,     5.70, 2,     0.78, 2,     0.62, 2,    1.622, 6,    1.006, 6,    0.139, 6, -999.000, 9,   -999.0, 9,   -999.0, 9, -999.0000,   -999.00,   -999.0, 9,   -999.0,  -999.00, 9,   -999.0,  26.2962, 23.1258,  26.3282, 2, 9, 0.12, 0.05, 0.00, 0.013,  -999.00, 9, -999.00, -999.00, 9, -999.00
49NZ20071122, P14N, 134, 1, 32, X12038, 2, 20071129, 1804, 2.2465, 178.9945, 5619,    201.6, 2,  17.0660, 2,  34.8473, 2,  34.8512, 2,    128.7, 2,    129.4, 2,    11.82, 2,    14.21, 2,     0.02, 2,     1.11, 2,    1.898, 2,    1.072, 2,    0.031, 2, -999.000, 9,   -999.0, 9,   -999.0, 9, -999.0000,   -999.00,   -999.0, 9,   -999.0,  -999.00, 9,   -999.0,  17.0327, 25.3893,  17.0814, 2, 9, 0.15, 0.07, 0.01, 0.013,  -999.00, 1, -999.00, -999.00, 9, -999.00
49NZ20071122, P14N, 134, 1, 31, X12003, 2, 20071129, 1804, 2.2465, 178.9945, 5619,    248.2, 2,  12.0261, 2,  34.8395, 2,  34.8378, 6,     97.1, 2,    107.2, 2,    19.51, 2,    23.64, 2,     0.01, 2,     1.74, 2,    1.226, 2,    0.656, 2,    0.016, 2, -999.000, 9,   -999.0, 9,   -999.0, 9, -999.0000,   -999.00,   -999.0, 9,   -999.0,  -999.00, 9,   -999.0,  11.9937, 26.4656,  12.0264, 2, 9, 0.16, 0.10, 0.01, 0.014,  -999.00, 9, -999.00, -999.00, 9, -999.00
49NZ20071122, P14N, 134, 1, 30, X12008, 2, 20071129, 1804, 2.2465, 178.9945, 5619,    330.5, 2,  10.9820, 2,  34.7704, 2,  34.7691, 2,     88.0, 2,     91.0, 2,    23.53, 2,    27.15, 2,     0.01, 2,     1.95, 2,    0.932, 2,    0.497, 2,    0.015, 2, -999.000, 9,   -999.0, 9,   -999.0, 9, -999.0000,   -999.00,   -999.0, 9,   -999.0,  -999.00, 9,   -999.0,  10.9411, 26.6074,  10.9828, 2, 9, 0.17, 0.11, 0.01, 0.015,  -999.00, 9, -999.00, -999.00, 9, -999.00
49NZ20071122, P14N, 134, 1, 29, X12035, 2, 20071129, 1804, 2.2465, 178.9945, 5619,    430.8, 2,  10.0567, 2,  34.7194, 2,  34.7173, 2,     86.6, 2,     58.5, 2,    28.68, 2,    32.24, 2,     0.01, 2,     2.27, 2,    0.558, 2,    0.295, 2,    0.011, 2, -999.000, 9,   -999.0, 9,   -999.0, 9, -999.0000,   -999.00,   -999.0, 9,   -999.0,  -999.00, 9,   -999.0,  10.0061, 26.7318,  10.0574, 2, 9, 0.18, 0.12, 0.01, 0.016,  -999.00, 1, -999.00, -999.00, 9, -999.00
49NZ20071122, P14N, 134, 1, 28, X12034, 2, 20071129, 1804, 2.2465, 178.9945, 5619,    528.8, 2,   9.3946, 2,  34.6819, 2,  34.6803, 6,     65.7, 2,     61.0, 2,    31.25, 2,    33.27, 2,     0.01, 2,     2.36, 2,    0.445, 2,    0.239, 2,    0.010, 2, -999.000, 9,   -999.0, 9,   -999.0, 9, -999.0000,   -999.00,   -999.0, 9,   -999.0,  -999.00, 9,   -999.0,   9.3348, 26.8148,   9.3952, 2, 9, 0.19, 0.13, 0.01, 0.016,  -999.00, 9, -999.00, -999.00, 9, -999.00
49NZ20071122, P14N, 134, 1, 27, X12049, 2, 20071129, 1804, 2.2465, 178.9945, 5619,    630.0, 2,   8.1946, 2,  34.6082, 2,  34.6061, 2,     76.2, 2,     75.9, 2,    37.29, 2,    33.99, 2,     0.01, 2,     2.43, 2,    0.305, 2,    0.160, 2,    0.007, 2, -999.000, 9,   -999.0, 9,   -999.0, 9, -999.0000,   -999.00,   -999.0, 9,   -999.0,  -999.00, 9,   -999.0,   8.1285, 26.9468,   8.1949, 2, 9, 0.20, 0.13, 0.01, 0.016,  -999.00, 1, -999.00, -999.00, 9, -999.00
49NZ20071122, P14N, 134, 1, 26, X12032, 3, 20071129, 1804, 2.2465, 178.9945, 5619,    730.1, 2,   6.8485, 2,  34.5686, 2,  34.5680, 2,     49.9, 2,     48.2, 2,    51.56, 2,    39.55, 2,     0.01, 2,     2.85, 2,    0.042, 6,    0.021, 6,    0.000, 6, -999.000, 9,   -999.0, 9,   -999.0, 9, -999.0000,   -999.00,   -999.0, 9,   -999.0,  -999.00, 9,   -999.0,   6.7788, 27.1093,   6.8501, 2, 9, 0.23, 0.14, 0.01, 0.017,  -999.00, 9, -999.00, -999.00, 9, -999.00
49NZ20071122, P14N, 134, 1, 25, X12043, 2, 20071129, 1804, 2.2465, 178.9945, 5619,    831.1, 2,   5.8523, 2,  34.5495, 2,  34.5490, 2,     71.5, 2,     64.0, 2,    62.49, 2,    39.93, 2,     0.01, 2,     2.86, 2,    0.018, 2,    0.008, 2,    0.005, 2, -999.000, 9,   -999.0, 9,   -999.0, 9, -999.0000,   -999.00,   -999.0, 9,   -999.0,  -999.00, 9,   -999.0,   5.7786, 27.2245,   5.8528, 2, 9, 0.26, 0.14, 0.01, 0.017,  -999.00, 1, -999.00, -999.00, 9, -999.00
49NZ20071122, P14N, 134, 1, 24, X12030, 2, 20071129, 1804, 2.2465, 178.9945, 5619,    930.9, 2,   5.1019, 2,  34.5471, 2,  34.5471, 2,     78.7, 2,     77.6, 2,    73.32, 2,    39.38, 2,     0.00, 2,     2.82, 2,    0.009, 2,    0.007, 2,    0.005, 2, -999.000, 9,   -999.0, 9,   -999.0, 9, -999.0000,   -999.00,   -999.0, 9,   -999.0,  -999.00, 9,   -999.0,   5.0240, 27.3134,   5.1026, 2, 9, 0.28, 0.14, 0.01, 0.017,  -999.00, 9, -999.00, -999.00, 9, -999.00
49NZ20071122, P14N, 134, 1, 23, X12027, 2, 20071129, 1804, 2.2465, 178.9945, 5619,   1071.0, 2,   4.5196, 2,  34.5566, 2,  34.5563, 6,     81.2, 2,     80.7, 2,    84.92, 2,    39.71, 2,     0.00, 2,     2.85, 2,    0.003, 2,    0.003, 2,    0.000, 2, -999.000, 9,   -999.0, 9,   -999.0, 9, -999.0000,   -999.00,   -999.0, 9,   -999.0,  -999.00, 9,   -999.0,   4.4336, 27.3874,   4.5213, 2, 9, 0.31, 0.14, 0.01, 0.017,  -999.00, 1, -999.00, -999.00, 9, -999.00
49NZ20071122, P14N, 134, 1, 22, X12028, 2, 20071129, 1804, 2.2465, 178.9945, 5619,   1270.1, 2,   3.8003, 2,  34.5754, 2,  34.5758, 2,     85.6, 2,     85.1, 2,   100.92, 2,    39.85, 2,     0.00, 2,     2.86, 2,    0.001, 2,    0.002, 2,    0.000, 2, -999.000, 9,   -999.0, 9,   -999.0, 9, -999.0000,   -999.00,   -999.0, 9,   -999.0,  -999.00, 9,   -999.0,   3.7034, 27.4787,   3.8008, 2, 9, 0.34, 0.14, 0.01, 0.017,  -999.00, 9, -999.00, -999.00, 9, -999.00
49NZ20071122, P14N, 134, 1, 21, X12009, 2, 20071129, 1804, 2.2465, 178.9945, 5619,   1470.5, 2,   3.2057, 2,  34.5956, 2,  34.5957, 2,     91.4, 2,     91.4, 2,   113.90, 2,    39.74, 2,     0.00, 2,     2.85, 2,    0.000, 2,    0.000, 2,    0.005, 2, -999.000, 9,   -999.0, 9,   -999.0, 9, -999.0000,   -999.00,   -999.0, 9,   -999.0,  -999.00, 9,   -999.0,   3.0980, 27.5532,   3.2058, 2, 9, 0.37, 0.14, 0.01, 0.017,  -999.00, 9, -999.00, -999.00, 9, -999.00
49NZ20071122, P14N, 134, 1, 20, X12026, 2, 20071129, 1804, 2.2465, 178.9945, 5619,   1671.0, 2,   2.7926, 2,  34.6118, 2,  34.6120, 2,    101.3, 2,    101.0, 2,   121.57, 2,    39.26, 2,     0.00, 2,     2.81, 2,    0.000, 2,    0.000, 2,    0.000, 2, -999.000, 9,   -999.0, 9,   -999.0, 9, -999.0000,   -999.00,   -999.0, 9,   -999.0,  -999.00, 9,   -999.0,   2.6728, 27.6046,   2.7925, 2, 9, 0.39, 0.14, 0.01, 0.017,  -999.00, 9, -999.00, -999.00, 9, -999.00
49NZ20071122, P14N, 134, 1, 19, X12025, 2, 20071129, 1804, 2.2465, 178.9945, 5619,   1872.0, 2,   2.4477, 2,  34.6285, 2,  34.6284, 2,    107.0, 2,    106.8, 2,   129.44, 2,    38.97, 2,     0.00, 2,     2.78, 2,    0.183, 4,    0.431, 4,    0.051, 4, -999.000, 9,   -999.0, 9,   -999.0, 9, -999.0000,   -999.00,   -999.0, 9,   -999.0,  -999.00, 9,   -999.0,   2.3155, 27.6485,   2.4477, 2, 9, 0.40, 0.14, 0.01, 0.017,  -999.00, 1, -999.00, -999.00, 9, -999.00
49NZ20071122, P14N, 134, 1, 18, X12024, 2, 20071129, 1804, 2.2465, 178.9945, 5619,   2070.4, 2,   2.2150, 2,  34.6407, 2,  34.6406, 2,    113.5, 2,    113.1, 2,   134.10, 2,    38.52, 2,     0.00, 2,     2.74, 2, -999.000, 9, -999.000, 9, -999.000, 9, -999.000, 9,   -999.0, 9,   -999.0, 9, -999.0000,   -999.00,   -999.0, 9,   -999.0,  -999.00, 9,   -999.0,   2.0692, 27.6783,   2.2152, 2, 9, 0.41, 0.14, 0.01, 0.017,  -999.00, 1, -999.00, -999.00, 9, -999.00
49NZ20071122, P14N, 134, 1, 17, X12023, 2, 20071129, 1804, 2.2465, 178.9945, 5619,   2269.2, 2,   2.0753, 2,  34.6489, 2,  34.6487, 6,    115.9, 2,    115.2, 2,   138.34, 2,    38.54, 2,     0.00, 2,     2.73, 2, -999.000, 9, -999.000, 9, -999.000, 9, -999.000, 9,   -999.0, 9,   -999.0, 9, -999.0000,   -999.00,   -999.0, 9,   -999.0,  -999.00, 9,   -999.0,   1.9144, 27.6971,   2.0755, 2, 9, 0.42, 0.14, 0.01, 0.017,  -999.00, 1, -999.00, -999.00, 9, -999.00
49NZ20071122, P14N, 134, 1, 16, X12022, 2, 20071129, 1804, 2.2465, 178.9945, 5619,   2468.4, 2,   1.9354, 2,  34.6574, 2,  34.6572, 2,    120.9, 2,    120.3, 2,   140.80, 2,    38.28, 2,     0.00, 2,     2.71, 2,    0.000, 2,    0.000, 2,    0.000, 2, -999.000, 9,   -999.0, 9,   -999.0, 9, -999.0000,   -999.00,   -999.0, 9,   -999.0,  -999.00, 9,   -999.0,   1.7592, 27.7159,   1.9355, 2, 9, 0.43, 0.14, 0.01, 0.017,  -999.00, 9, -999.00, -999.00, 9, -999.00
49NZ20071122, P14N, 134, 1, 15, X12021, 2, 20071129, 1804, 2.2465, 178.9945, 5619,   2668.9, 2,   1.8487, 2,  34.6632, 2,  34.6631, 2,    125.2, 2,    123.2, 2,   143.07, 2,    38.04, 2,     0.00, 2,     2.68, 2, -999.000, 9, -999.000, 9, -999.000, 9, -999.000, 9,   -999.0, 9,   -999.0, 9, -999.0000,   -999.00,   -999.0, 9,   -999.0,  -999.00, 9,   -999.0,   1.6558, 27.7283,   1.8487, 2, 9, 0.43, 0.14, 0.01, 0.017,  -999.00, 9, -999.00, -999.00, 9, -999.00
49NZ20071122, P14N, 134, 1, 14, X12020, 2, 20071129, 1804, 2.2465, 178.9945, 5619,   2870.6, 2,   1.7564, 2,  34.6677, 2,  34.6675, 2,    130.8, 2,    129.2, 2,   143.15, 2,    37.68, 2,     0.00, 2,     2.65, 2, -999.000, 9, -999.000, 9, -999.000, 9, -999.000, 9,   -999.0, 9,   -999.0, 9, -999.0000,   -999.00,   -999.0, 9,   -999.0,  -999.00, 9,   -999.0,   1.5464, 27.7401,   1.7564, 2, 9, 0.43, 0.14, 0.01, 0.017,  -999.00, 1, -999.00, -999.00, 9, -999.00
49NZ20071122, P14N, 134, 1, 13, X12019, 2, 20071129, 1804, 2.2465, 178.9945, 5619,   3080.2, 2,   1.6827, 2,  34.6716, 2,  34.6711, 2,    136.3, 2,    134.7, 2,   143.11, 2,    37.28, 2,     0.00, 2,     2.63, 2,    0.000, 2,    0.000, 2,    0.000, 2, -999.000, 9,   -999.0, 9,   -999.0, 9, -999.0000,   -999.00,   -999.0, 9,   -999.0,  -999.00, 9,   -999.0,   1.4541, 27.7500,   1.6827, 2, 9, 0.43, 0.14, 0.01, 0.017,  -999.00, 1, -999.00, -999.00, 9, -999.00
49NZ20071122, P14N, 134, 1, 12, X12040, 2, 20071129, 1804, 2.2465, 178.9945, 5619,   3328.2, 2,   1.5988, 2,  34.6771, 2,  34.6766, 2,    143.3, 2,    141.7, 2,   142.26, 2,    36.80, 2,     0.00, 2,     2.57, 2, -999.000, 9, -999.000, 9, -999.000, 9, -999.000, 9,   -999.0, 9,   -999.0, 9, -999.0000,   -999.00,   -999.0, 9,   -999.0,  -999.00, 9,   -999.0,   1.3476, 27.7620,   1.5988, 2, 9, 0.43, 0.14, 0.01, 0.016,  -999.00, 1, -999.00, -999.00, 9, -999.00
49NZ20071122, P14N, 134, 1, 11, X12047, 2, 20071129, 1804, 2.2465, 178.9945, 5619,   3581.3, 2,   1.5305, 2,  34.6824, 2,  34.6822, 2,    150.8, 2,    149.3, 2,   140.48, 2,    36.32, 2,     0.00, 2,     2.55, 2, -999.000, 9, -999.000, 9, -999.000, 9, -999.000, 9,   -999.0, 9,   -999.0, 9, -999.0000,   -999.00,   -999.0, 9,   -999.0,  -999.00, 9,   -999.0,   1.2552, 27.7727,   1.5304, 2, 9, 0.43, 0.13, 0.01, 0.016,  -999.00, 9, -999.00, -999.00, 9, -999.00
49NZ20071122, P14N, 134, 1, 10, X12012, 2, 20071129, 1804, 2.2465, 178.9945, 5619,   3829.3, 2,   1.4830, 2,  34.6871, 2,  34.6865, 2,    156.7, 2,    156.4, 2,   138.04, 2,    35.78, 2,     0.01, 2,     2.51, 2,    0.005, 2,    0.001, 2,    0.000, 2, -999.000, 9,   -999.0, 9,   -999.0, 9, -999.0000,   -999.00,   -999.0, 9,   -999.0,  -999.00, 9,   -999.0,   1.1829, 27.7816,   1.4831, 2, 9, 0.42, 0.13, 0.01, 0.016,  -999.00, 1, -999.00, -999.00, 9, -999.00
49NZ20071122, P14N, 134, 1, 9, X12015, 2, 20071129, 1804, 2.2465, 178.9945, 5619,   4079.7, 2,   1.4374, 2,  34.6913, 2,  34.6907, 6,    163.7, 2,    162.8, 2,   136.12, 2,    35.46, 2,     0.00, 2,     2.47, 2, -999.000, 9, -999.000, 9, -999.000, 9, -999.000, 9,   -999.0, 9,   -999.0, 9, -999.0000,   -999.00,   -999.0, 9,   -999.0,  -999.00, 9,   -999.0,   1.1115, 27.7898,   1.4376, 2, 9, 0.42, 0.13, 0.01, 0.016,  -999.00, 1, -999.00, -999.00, 9, -999.00
49NZ20071122, P14N, 134, 1, 8, X12046, 2, 20071129, 1804, 2.2465, 178.9945, 5619,   4329.7, 2,   1.3461, 2,  34.6974, 2,  34.6971, 2,    174.4, 2,    174.5, 2,   131.31, 2,    34.61, 2,     0.00, 2,     2.40, 2, -999.000, 9, -999.000, 9, -999.000, 9, -999.000, 9,   -999.0, 9,   -999.0, 9, -999.0000,   -999.00,   -999.0, 9,   -999.0,  -999.00, 9,   -999.0,   0.9952, 27.8025,   1.3461, 2, 9, 0.41, 0.13, 0.01, 0.016,  -999.00, 1, -999.00, -999.00, 9, -999.00
49NZ20071122, P14N, 134, 1, 7, X12044, 2, 20071129, 1804, 2.2465, 178.9945, 5619,   4578.6, 2,   1.2771, 2,  34.7021, 2,  34.7020, 2,    183.5, 2,    183.6, 2,   127.35, 2,    33.87, 2,     0.00, 2,     2.38, 2,    0.000, 2,    0.000, 2,    0.000, 2, -999.000, 9,   -999.0, 9,   -999.0, 9, -999.0000,   -999.00,   -999.0, 9,   -999.0,  -999.00, 9,   -999.0,   0.8999, 27.8126,   1.2770, 2, 9, 0.40, 0.13, 0.01, 0.016,  -999.00, 9, -999.00, -999.00, 9, -999.00
49NZ20071122, P14N, 134, 1, 6, X12048, 2, 20071129, 1804, 2.2465, 178.9945, 5619,   4830.1, 2,   1.2625, 2,  34.7044, 2,  34.7042, 2,    188.6, 2,    188.4, 2,   124.75, 2,    33.63, 2,     0.00, 2,     2.34, 2,    0.000, 2,    0.001, 2,    0.000, 2, -999.000, 9,   -999.0, 9,   -999.0, 9, -999.0000,   -999.00,   -999.0, 9,   -999.0,  -999.00, 9,   -999.0,   0.8565, 27.8172,   1.2624, 2, 9, 0.39, 0.13, 0.01, 0.016,  -999.00, 1, -999.00, -999.00, 9, -999.00
49NZ20071122, P14N, 134, 1, 5, X12014, 2, 20071129, 1804, 2.2465, 178.9945, 5619,   5079.8, 2,   1.2827, 2,  34.7049, 2,  34.7049, 2,    190.0, 2,    189.9, 2,   123.89, 2,    33.40, 2,     0.01, 2,     2.33, 2,    0.000, 2,    0.000, 2,    0.000, 2, -999.000, 9,   -999.0, 9,   -999.0, 9, -999.0000,   -999.00,   -999.0, 9,   -999.0,  -999.00, 9,   -999.0,   0.8461, 27.8183,   1.2826, 2, 9, 0.39, 0.13, 0.01, 0.016,  -999.00, 1, -999.00, -999.00, 9, -999.00
49NZ20071122, P14N, 134, 1, 4, X12006, 2, 20071129, 1804, 2.2465, 178.9945, 5619,   5329.7, 2,   1.3096, 2,  34.7051, 2,  34.7053, 2,    190.9, 2,    190.5, 2,   123.59, 2,    33.40, 2,     0.00, 2,     2.33, 2,    0.000, 2,    0.000, 2,    0.000, 2, -999.000, 9,   -999.0, 9,   -999.0, 9, -999.0000,   -999.00,   -999.0, 9,   -999.0,  -999.00, 9,   -999.0,   0.8413, 27.8187,   1.3096, 2, 9, 0.39, 0.13, 0.01, 0.016,  -999.00, 1, -999.00, -999.00, 9, -999.00
49NZ20071122, P14N, 134, 1, 3, X12013, 2, 20071129, 1804, 2.2465, 178.9945, 5619,   5580.2, 2,   1.3397, 2,  34.7051, 2,  34.7059, 2,    191.2, 2,    190.8, 2,   123.09, 2,    33.26, 2,     0.01, 2,     2.32, 2,    0.000, 2,    0.000, 2,    0.000, 2, -999.000, 9,   -999.0, 9,   -999.0, 9, -999.0000,   -999.00,   -999.0, 9,   -999.0,  -999.00, 9,   -999.0,   0.8387, 27.8190,   1.3397, 2, 9, 0.39, 0.13, 0.01, 0.016,  -999.00, 9, -999.00, -999.00, 9, -999.00
49NZ20071122, P14N, 134, 1, 2, X12002, 2, 20071129, 1804, 2.2465, 178.9945, 5619,   5719.4, 2,   1.3572, 2,  34.7051, 2, -999.0000, 9,    191.1, 2,   -999.0, 9,  -999.00, 9,  -999.00, 9,  -999.00, 9,  -999.00, 9, -999.000, 9, -999.000, 9, -999.000, 9, -999.000, 9,   -999.0, 9,   -999.0, 9, -999.0000,   -999.00,   -999.0, 9,   -999.0,  -999.00, 9,   -999.0,   0.8376, 27.8190,   1.3572, 2, 9, -999.00, -999.00, -999.00, -999.000,  -999.00, 1, -999.00, -999.00, 9, -999.00
49NZ20071122, P14N, 134, 1, 1, X12001, 2, 20071129, 1804, 2.2465, 178.9945, 5619,   5719.1, 2,   1.3571, 2,  34.7052, 2,  34.7054, 6,    191.1, 2,    190.9, 2,   123.11, 2,    33.39, 2,     0.00, 2,     2.33, 2,    0.000, 2,    0.000, 2,    0.000, 2, -999.000, 9,   -999.0, 9,   -999.0, 9, -999.0000,   -999.00,   -999.0, 9,   -999.0,  -999.00, 9,   -999.0,   0.8375, 27.8191,   1.3571, 2, 9, 0.39, 0.13, 0.01, 0.016,  -999.00, 1, -999.00, -999.00, 9, -999.00