BOTTLE,20220820CCHSIOAMB
EXPOCODE,SECT_ID,STNNBR,CASTNO,SAMPNO,BTLNBR,BTLNBR_FLAG_W,DATE,TIME,LATITUDE,LONGITUDE,DEPTH,CTDPRS,CTDPRS_FLAG_W,CTDTMP,CTDTMP_FLAG_W,CTDSAL,CTDSAL_FLAG_W,SALNTY,SALNTY_FLAG_W,CTDOXY,CTDOXY_FLAG_W,OXYGEN,OXYGEN_FLAG_W,SILCAT,SILCAT_FLAG_W,NITRAT,NITRAT_FLAG_W,NITRIT,NITRIT_FLAG_W,PHSPHT,PHSPHT_FLAG_W,CFC-11,CFC-11_FLAG_W,CFC-12,CFC-12_FLAG_W,CFC113,CFC113_FLAG_W,CCL4,CCL4_FLAG_W,TCARBN,TCARBN_FLAG_W,ALKALI,ALKALI_FLAG_W,PH_TOT,PH_TMP,DELC14,DELC14_FLAG_W,C14ERR,DELC13,DELC13_FLAG_W,C13ERR,THETA,SIG0,SBE35,SBE35_FLAG_W,PH_TOT_FLAG_W,SILUNC,NRAUNC,NRIUNC,PHPUNC,CS-137,CS-137_FLAG_W,CS137ER,PLUTO,PLUTO_FLAG_W,PLUTOER
,,,,,,,,,,,METERS,DBAR,,ITS-90,,PSS-78,,PSS-78,,UMOL/KG,,UMOL/KG,,UMOL/KG,,UMOL/KG,,UMOL/KG,,UMOL/KG,,PMOL/KG,,PMOL/KG,,PMOL/KG,,PMOL/KG,,UMOL/KG,,UMOL/KG,,,DEG C,/MILLE,,/MILLE,/MILLE,,/MILLE,DEG C,KG/M^3,ITS-90,,,UMOL/KG,UMOL/KG,UMOL/KG,UMOL/KG,DM/.1MG,,BQ/M^3,MBQ/M^3,,MBQ/M^3
49NZ20071122, P14N, 161, 1, 36, X12042, 2, 20071207, 0346, -4.5078, 179.0088, 5638,     10.6, 2,  28.2433, 2,  35.7061, 2,  35.7060, 2,    200.3, 2,    200.4, 2,     1.53, 2,     3.21, 2,     0.21, 2,     0.48, 2,    1.513, 2,    0.928, 2,    0.169, 4, -999.000, 9,   -999.0, 9,   -999.0, 9, -999.0000,   -999.00,   -999.0, 9,   -999.0,  -999.00, 9,   -999.0,  28.2408, 22.8466,  28.2387, 2, 9, 0.12, 0.04, 0.01, 0.013,  -999.00, 9, -999.00, -999.00, 9, -999.00
49NZ20071122, P14N, 161, 1, 35, X12041, 2, 20071207, 0346, -4.5078, 179.0088, 5638,     50.0, 2,  27.9493, 2,  35.6917, 2,  35.6912, 2,    200.9, 2,    200.7, 2,     1.49, 2,     3.21, 2,     0.20, 2,     0.47, 2,    1.517, 2,    0.939, 2,    0.178, 4, -999.000, 9,   -999.0, 9,   -999.0, 9, -999.0000,   -999.00,   -999.0, 9,   -999.0,  -999.00, 9,   -999.0,  27.9375, 22.9354,  27.9490, 2, 9, 0.12, 0.04, 0.01, 0.013,  -999.00, 9, -999.00, -999.00, 9, -999.00
49NZ20071122, P14N, 161, 1, 34, X12016, 2, 20071207, 0346, -4.5078, 179.0088, 5638,     99.5, 2,  27.5568, 2,  35.6617, 2,  35.6613, 2,    194.0, 2,    195.6, 2,     1.59, 2,     3.55, 2,     0.37, 2,     0.53, 2,    1.539, 2,    0.947, 2,    0.183, 4, -999.000, 9,   -999.0, 9,   -999.0, 9, -999.0000,   -999.00,   -999.0, 9,   -999.0,  -999.00, 9,   -999.0,  27.5336, 23.0443,  27.5561, 2, 9, 0.12, 0.04, 0.00, 0.013,  -999.00, 1, -999.00, -999.00, 9, -999.00
49NZ20071122, P14N, 161, 1, 33, X12033, 2, 20071207, 0346, -4.5078, 179.0088, 5638,    149.9, 2,  27.4289, 2,  35.6413, 2,  35.6321, 2,    185.4, 2,    190.0, 2,     1.80, 2,     3.77, 2,     0.89, 2,     0.58, 2,    1.562, 6,    0.953, 6,    0.172, 4, -999.000, 9,   -999.0, 9,   -999.0, 9, -999.0000,   -999.00,   -999.0, 9,   -999.0,  -999.00, 9,   -999.0,  27.3940, 23.0742,  27.4272, 2, 9, 0.12, 0.04, 0.00, 0.013,  -999.00, 9, -999.00, -999.00, 9, -999.00
49NZ20071122, P14N, 161, 1, 32, X12038, 2, 20071207, 0346, -4.5078, 179.0088, 5638,    199.4, 2,  26.2532, 2,  35.8067, 2,  35.8627, 2,    153.7, 2,    157.7, 2,     1.85, 2,     6.94, 2,     0.16, 2,     0.73, 2,    1.693, 2,    1.029, 2,    0.145, 4, -999.000, 9,   -999.0, 9,   -999.0, 9, -999.0000,   -999.00,   -999.0, 9,   -999.0,  -999.00, 9,   -999.0,  26.2082, 23.5768,  26.2595, 2, 9, 0.12, 0.05, 0.01, 0.013,  -999.00, 1, -999.00, -999.00, 9, -999.00
49NZ20071122, P14N, 161, 1, 31, X12003, 2, 20071207, 0346, -4.5078, 179.0088, 5638,    250.9, 2,  16.1727, 2,  35.2852, 2,  35.2541, 6,    107.1, 2,    107.2, 2,     7.59, 2,    16.19, 2,     0.02, 2,     1.42, 2,    1.738, 2,    0.952, 2,    0.029, 2, -999.000, 9,   -999.0, 9,   -999.0, 9, -999.0000,   -999.00,   -999.0, 9,   -999.0,  -999.00, 9,   -999.0,  16.1325, 25.9366,  16.1799, 2, 9, 0.14, 0.08, 0.01, 0.014,  -999.00, 9, -999.00, -999.00, 9, -999.00
49NZ20071122, P14N, 161, 1, 30, X12008, 2, 20071207, 0346, -4.5078, 179.0088, 5638,    331.1, 2,  10.4145, 2,  34.7834, 2,  34.7760, 2,     92.0, 2,     91.8, 2,    21.43, 2,    28.20, 2,     0.01, 2,     2.04, 2,    0.689, 2,    0.361, 2,    0.014, 2, -999.000, 9,   -999.0, 9,   -999.0, 9, -999.0000,   -999.00,   -999.0, 9,   -999.0,  -999.00, 9,   -999.0,  10.3749, 26.7180,  10.4158, 2, 9, 0.17, 0.11, 0.01, 0.015,  -999.00, 9, -999.00, -999.00, 9, -999.00
49NZ20071122, P14N, 161, 1, 29, X12035, 2, 20071207, 0346, -4.5078, 179.0088, 5638,    430.9, 2,   8.8008, 2,  34.6615, 2,  34.6601, 2,     95.3, 2,     96.2, 2,    27.11, 2,    31.20, 2,     0.01, 2,     2.21, 2,    0.460, 2,    0.242, 2,    0.010, 2, -999.000, 9,   -999.0, 9,   -999.0, 9, -999.0000,   -999.00,   -999.0, 9,   -999.0,  -999.00, 9,   -999.0,   8.7542, 26.8921,   8.8014, 2, 9, 0.18, 0.12, 0.01, 0.016,  -999.00, 1, -999.00, -999.00, 9, -999.00
49NZ20071122, P14N, 161, 1, 28, X12034, 2, 20071207, 0346, -4.5078, 179.0088, 5638,    531.6, 2,   7.6277, 2,  34.5782, 2,  34.5769, 6,    141.9, 2,    134.5, 2,    28.07, 2,    29.90, 2,     0.01, 2,     2.13, 2,    0.533, 2,    0.274, 2,    0.010, 2, -999.000, 9,   -999.0, 9,   -999.0, 9, -999.0000,   -999.00,   -999.0, 9,   -999.0,  -999.00, 9,   -999.0,   7.5745, 27.0051,   7.6288, 2, 9, 0.18, 0.12, 0.01, 0.015,  -999.00, 9, -999.00, -999.00, 9, -999.00
49NZ20071122, P14N, 161, 1, 27, X12049, 2, 20071207, 0346, -4.5078, 179.0088, 5638,    630.6, 2,   6.9093, 2,  34.5518, 2,  34.5534, 2,    104.0, 2,    105.9, 2,    39.09, 2,    34.26, 2,     0.01, 2,     2.44, 2,    0.233, 2,    0.122, 2,    0.014, 2, -999.000, 9,   -999.0, 9,   -999.0, 9, -999.0000,   -999.00,   -999.0, 9,   -999.0,  -999.00, 9,   -999.0,   6.8492, 27.0864,   6.9047, 2, 9, 0.20, 0.13, 0.01, 0.016,  -999.00, 1, -999.00, -999.00, 9, -999.00
49NZ20071122, P14N, 161, 1, 26, X12032, 2, 20071207, 0346, -4.5078, 179.0088, 5638,    729.8, 2,   6.1378, 2,  34.5424, 2,  34.5404, 2,     92.7, 2,     94.7, 2,    49.67, 2,    36.91, 2,     0.01, 2,     2.63, 2,    0.084, 6,    0.045, 6,    0.000, 6, -999.000, 9,   -999.0, 9,   -999.0, 9, -999.0000,   -999.00,   -999.0, 9,   -999.0,  -999.00, 9,   -999.0,   6.0721, 27.1818,   6.1436, 2, 9, 0.23, 0.14, 0.01, 0.017,  -999.00, 9, -999.00, -999.00, 9, -999.00
49NZ20071122, P14N, 161, 1, 25, X12043, 2, 20071207, 0346, -4.5078, 179.0088, 5638,    829.9, 2,   5.4268, 2,  34.5316, 2,  34.5314, 2,    106.8, 2,    102.8, 2,    58.79, 2,    36.93, 2,     0.01, 2,     2.65, 2,    0.056, 2,    0.027, 2,    0.004, 2, -999.000, 9,   -999.0, 9,   -999.0, 9, -999.0000,   -999.00,   -999.0, 9,   -999.0,  -999.00, 9,   -999.0,   5.3559, 27.2621,   5.4270, 2, 9, 0.25, 0.14, 0.01, 0.017,  -999.00, 1, -999.00, -999.00, 9, -999.00
49NZ20071122, P14N, 161, 1, 24, X12030, 2, 20071207, 0346, -4.5078, 179.0088, 5638,    931.9, 2,   4.9801, 2,  34.5350, 2,  34.5343, 2,    103.9, 2,    103.9, 2,    66.25, 2,    37.27, 2,     0.01, 2,     2.66, 2,    0.039, 2,    0.019, 2,    0.000, 2, -999.000, 9,   -999.0, 9,   -999.0, 9, -999.0000,   -999.00,   -999.0, 9,   -999.0,  -999.00, 9,   -999.0,   4.9030, 27.3177,   4.9808, 2, 9, 0.26, 0.14, 0.01, 0.017,  -999.00, 9, -999.00, -999.00, 9, -999.00
49NZ20071122, P14N, 161, 1, 23, X12027, 2, 20071207, 0346, -4.5078, 179.0088, 5638,   1070.1, 2,   4.4310, 2,  34.5371, 2,  34.5370, 2,    120.4, 2,    119.0, 2,    73.48, 2,    36.41, 2,     0.01, 2,     2.61, 2,    0.041, 2,    0.023, 2,    0.000, 2, -999.000, 9,   -999.0, 9,   -999.0, 9, -999.0000,   -999.00,   -999.0, 9,   -999.0,  -999.00, 9,   -999.0,   4.3459, 27.3814,   4.4312, 2, 9, 0.28, 0.13, 0.01, 0.016,  -999.00, 1, -999.00, -999.00, 9, -999.00
49NZ20071122, P14N, 161, 1, 22, X12028, 2, 20071207, 0346, -4.5078, 179.0088, 5638,   1270.6, 2,   3.4402, 2,  34.5751, 2,  34.5756, 6,    112.8, 2,    112.5, 2,    97.32, 2,    38.01, 2,     0.01, 2,     2.73, 2,    0.000, 2,    0.001, 2,    0.000, 2, -999.000, 9,   -999.0, 9,   -999.0, 9, -999.0000,   -999.00,   -999.0, 9,   -999.0,  -999.00, 9,   -999.0,   3.3468, 27.5134,   3.4418, 2, 9, 0.33, 0.14, 0.01, 0.017,  -999.00, 9, -999.00, -999.00, 9, -999.00
49NZ20071122, P14N, 161, 1, 21, X12009, 2, 20071207, 0346, -4.5078, 179.0088, 5638,   1470.7, 2,   2.9425, 2,  34.5981, 2,  34.5978, 2,    116.0, 2,    115.7, 2,   108.76, 2,    38.00, 2,     0.01, 2,     2.72, 2,    0.000, 2,    0.001, 2,    0.000, 2, -999.000, 9,   -999.0, 9,   -999.0, 9, -999.0000,   -999.00,   -999.0, 9,   -999.0,  -999.00, 9,   -999.0,   2.8377, 27.5790,   2.9425, 2, 9, 0.36, 0.14, 0.01, 0.017,  -999.00, 9, -999.00, -999.00, 9, -999.00
49NZ20071122, P14N, 161, 1, 20, X12026, 2, 20071207, 0346, -4.5078, 179.0088, 5638,   1669.9, 2,   2.5818, 2,  34.6176, 2,  34.6179, 2,    119.1, 2,    119.1, 2,   118.07, 2,    37.96, 2,     0.01, 2,     2.72, 2,    0.001, 2,    0.001, 2,    0.000, 2, -999.000, 9,   -999.0, 9,   -999.0, 9, -999.0000,   -999.00,   -999.0, 9,   -999.0,  -999.00, 9,   -999.0,   2.4648, 27.6271,   2.5812, 2, 9, 0.38, 0.14, 0.01, 0.017,  -999.00, 9, -999.00, -999.00, 9, -999.00
49NZ20071122, P14N, 161, 1, 19, X12025, 2, 20071207, 0346, -4.5078, 179.0088, 5638,   1872.6, 2,   2.3079, 2,  34.6343, 2,  34.6341, 2,    120.5, 2,    120.3, 2,   126.38, 2,    38.03, 2,     0.01, 2,     2.71, 2,    0.000, 2,    0.002, 2,    0.000, 2, -999.000, 9,   -999.0, 9,   -999.0, 9, -999.0000,   -999.00,   -999.0, 9,   -999.0,  -999.00, 9,   -999.0,   2.1776, 27.6644,   2.3077, 2, 9, 0.40, 0.14, 0.01, 0.017,  -999.00, 1, -999.00, -999.00, 9, -999.00
49NZ20071122, P14N, 161, 1, 18, X12024, 2, 20071207, 0346, -4.5078, 179.0088, 5638,   2071.6, 2,   2.1355, 2,  34.6447, 2,  34.6440, 2,    124.8, 2,    124.3, 2,   129.94, 2,    37.75, 2,     0.01, 2,     2.69, 2, -999.000, 9, -999.000, 9, -999.000, 9, -999.000, 9,   -999.0, 9,   -999.0, 9, -999.0000,   -999.00,   -999.0, 9,   -999.0,  -999.00, 9,   -999.0,   1.9908, 27.6878,   2.1354, 2, 9, 0.40, 0.14, 0.01, 0.017,  -999.00, 1, -999.00, -999.00, 9, -999.00
49NZ20071122, P14N, 161, 1, 17, X12023, 2, 20071207, 0346, -4.5078, 179.0088, 5638,   2271.9, 2,   1.9836, 2,  34.6537, 2,  34.6530, 2,    128.4, 2,    128.4, 2,   133.20, 2,    37.61, 2,     0.01, 2,     2.67, 2, -999.000, 9, -999.000, 9, -999.000, 9, -999.000, 9,   -999.0, 9,   -999.0, 9, -999.0000,   -999.00,   -999.0, 9,   -999.0,  -999.00, 9,   -999.0,   1.8240, 27.7080,   1.9837, 2, 9, 0.41, 0.14, 0.01, 0.017,  -999.00, 1, -999.00, -999.00, 9, -999.00
49NZ20071122, P14N, 161, 1, 16, X12022, 2, 20071207, 0346, -4.5078, 179.0088, 5638,   2469.4, 2,   1.8683, 2,  34.6608, 2,  34.6599, 6,    132.1, 2,    132.1, 2,   135.59, 2,    37.34, 2,     0.01, 2,     2.64, 2,    0.000, 2,    0.000, 2,    0.000, 2, -999.000, 9,   -999.0, 9,   -999.0, 9, -999.0000,   -999.00,   -999.0, 9,   -999.0,  -999.00, 9,   -999.0,   1.6932, 27.7237,   1.8685, 2, 9, 0.42, 0.14, 0.01, 0.017,  -999.00, 9, -999.00, -999.00, 9, -999.00
49NZ20071122, P14N, 161, 1, 15, X12021, 2, 20071207, 0346, -4.5078, 179.0088, 5638,   2670.1, 2,   1.7655, 2,  34.6670, 2,  34.6670, 2,    136.7, 2,    136.9, 2,   137.02, 2,    37.04, 2,     0.01, 2,     2.62, 2, -999.000, 9, -999.000, 9, -999.000, 9, -999.000, 9,   -999.0, 9,   -999.0, 9, -999.0000,   -999.00,   -999.0, 9,   -999.0,  -999.00, 9,   -999.0,   1.5741, 27.7375,   1.7629, 2, 9, 0.42, 0.14, 0.01, 0.017,  -999.00, 9, -999.00, -999.00, 9, -999.00
49NZ20071122, P14N, 161, 1, 14, X12020, 2, 20071207, 0346, -4.5078, 179.0088, 5638,   2869.6, 2,   1.7012, 2,  34.6714, 2,  34.6707, 2,    139.8, 2,    140.6, 2,   137.56, 2,    36.82, 2,     0.01, 2,     2.60, 2, -999.000, 9, -999.000, 9, -999.000, 9, -999.000, 9,   -999.0, 9,   -999.0, 9, -999.0000,   -999.00,   -999.0, 9,   -999.0,  -999.00, 9,   -999.0,   1.4924, 27.7470,   1.7012, 2, 9, 0.42, 0.14, 0.01, 0.016,  -999.00, 1, -999.00, -999.00, 9, -999.00
49NZ20071122, P14N, 161, 1, 13, X12019, 2, 20071207, 0346, -4.5078, 179.0088, 5638,   3080.0, 2,   1.6161, 2,  34.6777, 2,  34.6771, 2,    147.2, 2,    147.4, 2,   136.88, 2,    36.31, 2,     0.01, 2,     2.56, 2,    0.000, 2,    0.000, 2,    0.000, 2, -999.000, 9,   -999.0, 9,   -999.0, 9, -999.0000,   -999.00,   -999.0, 9,   -999.0,  -999.00, 9,   -999.0,   1.3890, 27.7595,   1.6162, 2, 9, 0.42, 0.13, 0.01, 0.016,  -999.00, 1, -999.00, -999.00, 9, -999.00
49NZ20071122, P14N, 161, 1, 12, X12040, 2, 20071207, 0346, -4.5078, 179.0088, 5638,   3329.9, 2,   1.5232, 2,  34.6839, 2,  34.6833, 2,    153.4, 2,    154.0, 2,   136.52, 2,    35.90, 2,     0.01, 2,     2.52, 2, -999.000, 9, -999.000, 9, -999.000, 9, -999.000, 9,   -999.0, 9,   -999.0, 9, -999.0000,   -999.00,   -999.0, 9,   -999.0,  -999.00, 9,   -999.0,   1.2737, 27.7727,   1.5232, 2, 9, 0.42, 0.13, 0.01, 0.016,  -999.00, 1, -999.00, -999.00, 9, -999.00
49NZ20071122, P14N, 161, 1, 11, X12047, 2, 20071207, 0346, -4.5078, 179.0088, 5638,   3579.6, 2,   1.4790, 2,  34.6877, 2,  34.6871, 2,    158.1, 2,    158.4, 2,   136.07, 2,    35.61, 2,     0.01, 2,     2.50, 2, -999.000, 9, -999.000, 9, -999.000, 9, -999.000, 9,   -999.0, 9,   -999.0, 9, -999.0000,   -999.00,   -999.0, 9,   -999.0,  -999.00, 9,   -999.0,   1.2052, 27.7805,   1.4790, 2, 9, 0.42, 0.13, 0.01, 0.016,  -999.00, 9, -999.00, -999.00, 9, -999.00
49NZ20071122, P14N, 161, 1, 10, X12012, 2, 20071207, 0346, -4.5078, 179.0088, 5638,   3831.3, 2,   1.4207, 2,  34.6920, 2,  34.6915, 2,    163.2, 2,    164.2, 2,   135.23, 2,    35.23, 2,     0.01, 2,     2.47, 2,    0.001, 2,    0.003, 2,    0.000, 2, -999.000, 9,   -999.0, 9,   -999.0, 9, -999.0000,   -999.00,   -999.0, 9,   -999.0,  -999.00, 9,   -999.0,   1.1221, 27.7897,   1.4208, 2, 9, 0.42, 0.13, 0.01, 0.016,  -999.00, 1, -999.00, -999.00, 9, -999.00
49NZ20071122, P14N, 161, 1, 9, X12015, 2, 20071207, 0346, -4.5078, 179.0088, 5638,   4081.4, 2,   1.3764, 2,  34.6958, 2,  34.6954, 2,    169.2, 2,    170.1, 2,   133.07, 2,    34.79, 2,     0.00, 2,     2.44, 2,    0.006, 2,    0.002, 2,    0.000, 2, -999.000, 9,   -999.0, 9,   -999.0, 9, -999.0000,   -999.00,   -999.0, 9,   -999.0,  -999.00, 9,   -999.0,   1.0521, 27.7974,   1.3765, 2, 9, 0.41, 0.13, 0.01, 0.016,  -999.00, 1, -999.00, -999.00, 9, -999.00
49NZ20071122, P14N, 161, 1, 8, X12046, 2, 20071207, 0346, -4.5078, 179.0088, 5638,   4329.3, 2,   1.3341, 2,  34.6991, 2,  34.6988, 2,    176.4, 2,    177.3, 2,   129.59, 2,    34.22, 2,     0.01, 2,     2.40, 2,    0.007, 2,    0.005, 2,    0.000, 2, -999.000, 9,   -999.0, 9,   -999.0, 9, -999.0000,   -999.00,   -999.0, 9,   -999.0,  -999.00, 9,   -999.0,   0.9835, 27.8046,   1.3340, 2, 9, 0.40, 0.13, 0.01, 0.016,  -999.00, 1, -999.00, -999.00, 9, -999.00
49NZ20071122, P14N, 161, 1, 7, X12044, 2, 20071207, 0346, -4.5078, 179.0088, 5638,   4580.4, 2,   1.2813, 2,  34.7039, 2,  34.7035, 6,    188.3, 2,    188.5, 2,   122.60, 2,    33.30, 2,     0.01, 2,     2.34, 2,    0.011, 2,    0.006, 2,    0.000, 2, -999.000, 9,   -999.0, 9,   -999.0, 9, -999.0000,   -999.00,   -999.0, 9,   -999.0,  -999.00, 9,   -999.0,   0.9038, 27.8138,   1.2812, 2, 9, 0.39, 0.13, 0.01, 0.016,  -999.00, 9, -999.00, -999.00, 9, -999.00
49NZ20071122, P14N, 161, 1, 6, X12048, 2, 20071207, 0346, -4.5078, 179.0088, 5638,   4829.1, 2,   1.2298, 2,  34.7062, 2,  34.7059, 2,    194.5, 2,    194.3, 2,   120.79, 2,    33.04, 2,     0.01, 2,     2.32, 2,    0.011, 2,    0.007, 2,    0.000, 2, -999.000, 9,   -999.0, 9,   -999.0, 9, -999.0000,   -999.00,   -999.0, 9,   -999.0,  -999.00, 9,   -999.0,   0.8249, 27.8207,   1.2298, 2, 9, 0.38, 0.13, 0.01, 0.016,  -999.00, 1, -999.00, -999.00, 9, -999.00
49NZ20071122, P14N, 161, 1, 5, X12014, 2, 20071207, 0346, -4.5078, 179.0088, 5638,   5080.7, 2,   1.2444, 2,  34.7067, 2,  34.7066, 2,    195.9, 2,    195.6, 2,   120.23, 2,    32.91, 2,     0.01, 2,     2.31, 2,    0.012, 2,    0.007, 2,    0.000, 2, -999.000, 9,   -999.0, 9,   -999.0, 9, -999.0000,   -999.00,   -999.0, 9,   -999.0,  -999.00, 9,   -999.0,   0.8089, 27.8221,   1.2443, 2, 9, 0.38, 0.12, 0.01, 0.016,  -999.00, 1, -999.00, -999.00, 9, -999.00
49NZ20071122, P14N, 161, 1, 4, X12006, 2, 20071207, 0346, -4.5078, 179.0088, 5638,   5331.1, 2,   1.2761, 2,  34.7066, 2,  34.7065, 2,    196.2, 2,    195.7, 2,   120.24, 2,    32.90, 2,     0.01, 2,     2.31, 2,    0.011, 2,    0.007, 2,    0.000, 2, -999.000, 9,   -999.0, 9,   -999.0, 9, -999.0000,   -999.00,   -999.0, 9,   -999.0,  -999.00, 9,   -999.0,   0.8088, 27.8221,   1.2760, 2, 9, 0.38, 0.12, 0.01, 0.016,  -999.00, 1, -999.00, -999.00, 9, -999.00
49NZ20071122, P14N, 161, 1, 3, X12013, 2, 20071207, 0346, -4.5078, 179.0088, 5638,   5579.8, 2,   1.3059, 2,  34.7067, 2,  34.7073, 2,    196.5, 2,    196.0, 2,   119.84, 2,    32.89, 2,     0.01, 2,     2.31, 2,    0.017, 2,    0.009, 2,    0.000, 2, -999.000, 9,   -999.0, 9,   -999.0, 9, -999.0000,   -999.00,   -999.0, 9,   -999.0,  -999.00, 9,   -999.0,   0.8061, 27.8223,   1.3059, 2, 9, 0.38, 0.12, 0.01, 0.016,  -999.00, 9, -999.00, -999.00, 9, -999.00
49NZ20071122, P14N, 161, 1, 2, X12002, 2, 20071207, 0346, -4.5078, 179.0088, 5638,   5742.6, 2,   1.3268, 2,  34.7065, 2, -999.0000, 9,    196.2, 2,   -999.0, 9,  -999.00, 9,  -999.00, 9,  -999.00, 9,  -999.00, 9, -999.000, 9, -999.000, 9, -999.000, 9, -999.000, 9,   -999.0, 9,   -999.0, 9, -999.0000,   -999.00,   -999.0, 9,   -999.0,  -999.00, 9,   -999.0,   0.8053, 27.8222,   1.3268, 2, 9, -999.00, -999.00, -999.00, -999.000,  -999.00, 1, -999.00, -999.00, 9, -999.00
49NZ20071122, P14N, 161, 1, 1, X12001, 2, 20071207, 0346, -4.5078, 179.0088, 5638,   5742.2, 2,   1.3268, 2,  34.7065, 2,  34.7066, 6,    196.3, 2,    195.9, 2,   120.15, 2,    32.86, 2,     0.01, 2,     2.31, 2,    0.010, 2,    0.006, 2,    0.000, 2, -999.000, 9,   -999.0, 9,   -999.0, 9, -999.0000,   -999.00,   -999.0, 9,   -999.0,  -999.00, 9,   -999.0,   0.8054, 27.8222,   1.3267, 2, 9, 0.38, 0.12, 0.01, 0.016,  -999.00, 1, -999.00, -999.00, 9, -999.00