BOTTLE,20220820CCHSIOAMB
EXPOCODE,SECT_ID,STNNBR,CASTNO,SAMPNO,BTLNBR,BTLNBR_FLAG_W,DATE,TIME,LATITUDE,LONGITUDE,DEPTH,CTDPRS,CTDPRS_FLAG_W,CTDTMP,CTDTMP_FLAG_W,CTDSAL,CTDSAL_FLAG_W,SALNTY,SALNTY_FLAG_W,CTDOXY,CTDOXY_FLAG_W,OXYGEN,OXYGEN_FLAG_W,SILCAT,SILCAT_FLAG_W,NITRAT,NITRAT_FLAG_W,NITRIT,NITRIT_FLAG_W,PHSPHT,PHSPHT_FLAG_W,CFC-11,CFC-11_FLAG_W,CFC-12,CFC-12_FLAG_W,CFC113,CFC113_FLAG_W,CCL4,CCL4_FLAG_W,TCARBN,TCARBN_FLAG_W,ALKALI,ALKALI_FLAG_W,PH_TOT,PH_TMP,DELC14,DELC14_FLAG_W,C14ERR,DELC13,DELC13_FLAG_W,C13ERR,THETA,SIG0,SBE35,SBE35_FLAG_W,PH_TOT_FLAG_W,SILUNC,NRAUNC,NRIUNC,PHPUNC,CS-137,CS-137_FLAG_W,CS137ER,PLUTO,PLUTO_FLAG_W,PLUTOER
,,,,,,,,,,,METERS,DBAR,,ITS-90,,PSS-78,,PSS-78,,UMOL/KG,,UMOL/KG,,UMOL/KG,,UMOL/KG,,UMOL/KG,,UMOL/KG,,PMOL/KG,,PMOL/KG,,PMOL/KG,,PMOL/KG,,UMOL/KG,,UMOL/KG,,,DEG C,/MILLE,,/MILLE,/MILLE,,/MILLE,DEG C,KG/M^3,ITS-90,,,UMOL/KG,UMOL/KG,UMOL/KG,UMOL/KG,DM/.1MG,,BQ/M^3,MBQ/M^3,,MBQ/M^3
49NZ20071122, P14N, 172, 1, 36, X12042, 2, 20071209, 2024, -9.5005, 178.9983, 4589,     11.7, 2,  29.0817, 2,  34.8304, 2,  34.8316, 2,    193.7, 2,    194.6, 2,     0.58, 2,     0.03, 2,     0.01, 2,     0.19, 2,    1.440, 2,    0.912, 2,    0.228, 4, -999.000, 9,   -999.0, 9,   -999.0, 9, -999.0000,   -999.00,   -999.0, 9,   -999.0,  -999.00, 9,   -999.0,  29.0789, 21.9103,  29.0825, 2, 9, 0.12, 0.03, 0.01, 0.016,  -999.00, 9, -999.00, -999.00, 9, -999.00
49NZ20071122, P14N, 172, 1, 35, X12041, 2, 20071209, 2024, -9.5005, 178.9983, 4589,     49.8, 2,  29.2056, 2,  35.0147, 2,  35.0167, 2,    194.8, 2,    194.6, 2,     0.54, 2,     0.02, 2,     0.01, 2,     0.19, 2,    1.430, 2,    0.911, 2,    0.246, 4, -999.000, 9,   -999.0, 9,   -999.0, 9, -999.0000,   -999.00,   -999.0, 9,   -999.0,  -999.00, 9,   -999.0,  29.1935, 22.0103,  29.2053, 2, 9, 0.12, 0.03, 0.01, 0.016,  -999.00, 9, -999.00, -999.00, 9, -999.00
49NZ20071122, P14N, 172, 1, 34, X12016, 5, 20071209, 2024, -9.5005, 178.9983, 4589,    100.1, 2,  28.1630, 2,  35.8364, 2,  35.8762, 2,    165.4, 2,    166.5, 2,     0.94, 2,     1.75, 2,     0.33, 2,     0.43, 2,    1.589, 2,    1.000, 2,    0.464, 4, -999.000, 9,   -999.0, 9,   -999.0, 9, -999.0000,   -999.00,   -999.0, 9,   -999.0,  -999.00, 9,   -999.0,  28.1393, 22.9781,  28.1525, 2, 9, 0.12, 0.04, 0.01, 0.013,  -999.00, 1, -999.00, -999.00, 9, -999.00
49NZ20071122, P14N, 172, 1, 33, X12033, 2, 20071209, 2024, -9.5005, 178.9983, 4589,    150.1, 2,  25.8878, 2,  36.2140, 2,  36.2153, 2,    145.9, 2,    148.7, 2,     0.96, 2,     3.72, 2,     0.56, 2,     0.57, 2,    1.735, 6,    1.072, 6,    0.188, 4, -999.000, 9,   -999.0, 9,   -999.0, 9, -999.0000,   -999.00,   -999.0, 9,   -999.0,  -999.00, 9,   -999.0,  25.8543, 23.9952,  25.8866, 2, 9, 0.12, 0.04, 0.00, 0.013,  -999.00, 9, -999.00, -999.00, 9, -999.00
49NZ20071122, P14N, 172, 1, 32, X12038, 2, 20071209, 2024, -9.5005, 178.9983, 4589,    199.0, 2,  22.4528, 2,  36.0442, 2,  36.0254, 2,    143.7, 2,    143.4, 2,     1.29, 2,     6.76, 2,     0.02, 2,     0.73, 2,    1.965, 2,    1.167, 2,    0.086, 2, -999.000, 9,   -999.0, 9,   -999.0, 9, -999.0000,   -999.00,   -999.0, 9,   -999.0,  -999.00, 9,   -999.0,  22.4126, 24.8946,  22.4276, 2, 9, 0.12, 0.05, 0.01, 0.013,  -999.00, 1, -999.00, -999.00, 9, -999.00
49NZ20071122, P14N, 172, 1, 31, X12003, 2, 20071209, 2024, -9.5005, 178.9983, 4589,    249.2, 2,  18.7470, 2,  35.5890, 2,  35.5782, 6,    132.1, 2,    134.2, 2,     3.24, 2,    10.40, 2,     0.01, 2,     0.98, 2,    1.999, 2,    1.141, 2,    0.035, 2, -999.000, 9,   -999.0, 9,   -999.0, 9, -999.0000,   -999.00,   -999.0, 9,   -999.0,  -999.00, 9,   -999.0,  18.7028, 25.5472,  18.7514, 2, 9, 0.13, 0.06, 0.01, 0.013,  -999.00, 9, -999.00, -999.00, 9, -999.00
49NZ20071122, P14N, 172, 1, 30, X12008, 2, 20071209, 2024, -9.5005, 178.9983, 4589,    300.0, 2,  14.6387, 2,  35.1186, 2,  35.1162, 2,    105.5, 2,    104.9, 2,     9.12, 2,    18.05, 2,     0.01, 2,     1.51, 2,    1.575, 2,    0.861, 2,    0.020, 2, -999.000, 9,   -999.0, 9,   -999.0, 9, -999.0000,   -999.00,   -999.0, 9,   -999.0,  -999.00, 9,   -999.0,  14.5938, 26.1520,  14.6358, 2, 9, 0.14, 0.08, 0.01, 0.014,  -999.00, 9, -999.00, -999.00, 9, -999.00
49NZ20071122, P14N, 172, 1, 29, X12035, 2, 20071209, 2024, -9.5005, 178.9983, 4589,    398.0, 2,  10.2304, 2,  34.7489, 2,  34.7476, 2,    125.0, 2,    130.0, 2,    16.92, 2,    24.48, 2,     0.01, 2,     1.81, 2,    0.945, 2,    0.499, 2,    0.022, 2, -999.000, 9,   -999.0, 9,   -999.0, 9, -999.0000,   -999.00,   -999.0, 9,   -999.0,  -999.00, 9,   -999.0,  10.1832, 26.7244,  10.2299, 2, 9, 0.16, 0.10, 0.01, 0.015,  -999.00, 1, -999.00, -999.00, 9, -999.00
49NZ20071122, P14N, 172, 1, 28, X12034, 2, 20071209, 2024, -9.5005, 178.9983, 4589,    501.0, 2,   7.7360, 2,  34.5694, 2,  34.5679, 6,    145.3, 2,    145.5, 2,    25.25, 2,    28.46, 2,     0.01, 2,     2.03, 2,    0.560, 2,    0.291, 2,    0.012, 2, -999.000, 9,   -999.0, 9,   -999.0, 9, -999.0000,   -999.00,   -999.0, 9,   -999.0,  -999.00, 9,   -999.0,   7.6856, 26.9821,   7.7356, 2, 9, 0.17, 0.11, 0.01, 0.015,  -999.00, 9, -999.00, -999.00, 9, -999.00
49NZ20071122, P14N, 172, 1, 27, X12049, 2, 20071209, 2024, -9.5005, 178.9983, 4589,    601.2, 2,   6.4637, 2,  34.5198, 2,  34.5192, 2,    134.0, 2,    135.0, 2,    36.38, 2,    32.13, 2,     0.01, 2,     2.27, 2,    0.229, 2,    0.124, 2,    0.006, 2, -999.000, 9,   -999.0, 9,   -999.0, 9, -999.0000,   -999.00,   -999.0, 9,   -999.0,  -999.00, 9,   -999.0,   6.4086, 27.1204,   6.4644, 2, 9, 0.20, 0.12, 0.01, 0.016,  -999.00, 1, -999.00, -999.00, 9, -999.00
49NZ20071122, P14N, 172, 1, 26, X12032, 2, 20071209, 2024, -9.5005, 178.9983, 4589,    699.1, 2,   5.7725, 2,  34.5049, 2,  34.5046, 2,    136.0, 2,    135.9, 2,    44.31, 2,    33.35, 2,     0.01, 2,     2.36, 2,    0.150, 6,    0.080, 6,    0.005, 6, -999.000, 9,   -999.0, 9,   -999.0, 9, -999.0000,   -999.00,   -999.0, 9,   -999.0,  -999.00, 9,   -999.0,   5.7116, 27.1976,   5.7701, 2, 9, 0.22, 0.13, 0.01, 0.016,  -999.00, 9, -999.00, -999.00, 9, -999.00
49NZ20071122, P14N, 172, 1, 25, X12043, 2, 20071209, 2024, -9.5005, 178.9983, 4589,    799.2, 2,   5.2681, 2,  34.5068, 2,  34.5075, 2,    131.1, 2,    131.1, 2,    52.51, 2,    34.63, 2,     0.01, 2,     2.45, 2,    0.083, 2,    0.043, 2,    0.000, 2, -999.000, 9,   -999.0, 9,   -999.0, 9, -999.0000,   -999.00,   -999.0, 9,   -999.0,  -999.00, 9,   -999.0,   5.2010, 27.2608,   5.2684, 2, 9, 0.23, 0.13, 0.01, 0.016,  -999.00, 1, -999.00, -999.00, 9, -999.00
49NZ20071122, P14N, 172, 1, 24, X12030, 2, 20071209, 2024, -9.5005, 178.9983, 4589,    901.1, 2,   4.7914, 2,  34.5165, 2,  34.5168, 2,    117.6, 2,    117.4, 2,    61.90, 2,    36.64, 2,     0.01, 2,     2.59, 2,    0.022, 2,    0.012, 2,    0.000, 2, -999.000, 9,   -999.0, 9,   -999.0, 9, -999.0000,   -999.00,   -999.0, 9,   -999.0,  -999.00, 9,   -999.0,   4.7184, 27.3240,   4.7919, 2, 9, 0.26, 0.14, 0.01, 0.016,  -999.00, 9, -999.00, -999.00, 9, -999.00
49NZ20071122, P14N, 172, 1, 23, X12027, 2, 20071209, 2024, -9.5005, 178.9983, 4589,    999.5, 2,   4.3963, 2,  34.5332, 2,  34.5345, 2,    118.5, 2,    118.1, 2,    72.62, 2,    36.78, 2,     0.01, 2,     2.62, 2,    0.020, 2,    0.013, 2,    0.000, 2, -999.000, 9,   -999.0, 9,   -999.0, 9, -999.0000,   -999.00,   -999.0, 9,   -999.0,  -999.00, 9,   -999.0,   4.3176, 27.3813,   4.3961, 2, 9, 0.28, 0.14, 0.01, 0.017,  -999.00, 1, -999.00, -999.00, 9, -999.00
49NZ20071122, P14N, 172, 1, 22, X12028, 2, 20071209, 2024, -9.5005, 178.9983, 4589,   1198.7, 2,   3.6813, 2,  34.5536, 2,  34.5548, 6,    124.0, 2,    123.9, 2,    85.76, 2,    36.91, 2,     0.01, 2,     2.63, 2,    0.002, 2,    0.002, 2,    0.000, 2, -999.000, 9,   -999.0, 9,   -999.0, 9, -999.0000,   -999.00,   -999.0, 9,   -999.0,  -999.00, 9,   -999.0,   3.5917, 27.4724,   3.6794, 2, 9, 0.31, 0.14, 0.01, 0.017,  -999.00, 9, -999.00, -999.00, 9, -999.00
49NZ20071122, P14N, 172, 1, 21, X12009, 2, 20071209, 2024, -9.5005, 178.9983, 4589,   1399.2, 2,   3.1651, 2,  34.5777, 2,  34.5784, 2,    126.5, 2,    126.3, 2,    97.03, 2,    37.17, 2,     0.01, 2,     2.64, 2,    0.000, 2,    0.000, 2,    0.000, 2, -999.000, 9,   -999.0, 9,   -999.0, 9, -999.0000,   -999.00,   -999.0, 9,   -999.0,  -999.00, 9,   -999.0,   3.0638, 27.5421,   3.1648, 2, 9, 0.33, 0.14, 0.01, 0.017,  -999.00, 9, -999.00, -999.00, 9, -999.00
49NZ20071122, P14N, 172, 1, 20, X12026, 2, 20071209, 2024, -9.5005, 178.9983, 4589,   1600.2, 2,   2.7842, 2,  34.5992, 2,  34.6000, 2,    129.5, 2,    128.7, 2,   106.42, 2,    37.17, 2,     0.01, 2,     2.64, 2,    0.000, 2,    0.000, 2,    0.000, 2, -999.000, 9,   -999.0, 9,   -999.0, 9, -999.0000,   -999.00,   -999.0, 9,   -999.0,  -999.00, 9,   -999.0,   2.6705, 27.5946,   2.7842, 2, 9, 0.35, 0.14, 0.01, 0.017,  -999.00, 9, -999.00, -999.00, 9, -999.00
49NZ20071122, P14N, 172, 1, 19, X12025, 2, 20071209, 2024, -9.5005, 178.9983, 4589,   1800.0, 2,   2.4289, 2,  34.6186, 2,  34.6191, 2,    136.7, 2,    136.7, 2,   112.71, 2,    36.73, 2,     0.01, 2,     2.59, 2,    0.000, 2,    0.000, 2,    0.000, 2, -999.000, 9,   -999.0, 9,   -999.0, 9, -999.0000,   -999.00,   -999.0, 9,   -999.0,  -999.00, 9,   -999.0,   2.3031, 27.6416,   2.4289, 2, 9, 0.37, 0.14, 0.01, 0.016,  -999.00, 9, -999.00, -999.00, 9, -999.00
49NZ20071122, P14N, 172, 1, 18, X12024, 2, 20071209, 2024, -9.5005, 178.9983, 4589,   2002.1, 2,   2.1996, 2,  34.6363, 2,  34.6363, 2,    136.0, 2,    136.4, 2,   120.28, 2,    36.83, 2,     0.01, 2,     2.60, 2,    0.000, 2,    0.000, 2,    0.000, 2, -999.000, 9,   -999.0, 9,   -999.0, 9, -999.0000,   -999.00,   -999.0, 9,   -999.0,  -999.00, 9,   -999.0,   2.0599, 27.6756,   2.2001, 2, 9, 0.38, 0.14, 0.01, 0.016,  -999.00, 1, -999.00, -999.00, 9, -999.00
49NZ20071122, P14N, 172, 1, 17, X12023, 2, 20071209, 2024, -9.5005, 178.9983, 4589,   2201.6, 2,   2.0791, 2,  34.6461, 2,  34.6462, 6,    136.9, 2,    136.8, 2,   124.63, 2,    36.92, 2,     0.01, 2,     2.60, 2,    0.000, 2,    0.000, 2,    0.000, 2, -999.000, 9,   -999.0, 9,   -999.0, 9, -999.0000,   -999.00,   -999.0, 9,   -999.0,  -999.00, 9,   -999.0,   1.9241, 27.6941,   2.0792, 2, 9, 0.39, 0.14, 0.01, 0.016,  -999.00, 9, -999.00, -999.00, 9, -999.00
49NZ20071122, P14N, 172, 1, 16, X12022, 2, 20071209, 2024, -9.5005, 178.9983, 4589,   2398.4, 2,   1.9423, 2,  34.6561, 2,  34.6561, 2,    138.7, 2,    138.6, 2,   128.86, 2,    36.81, 2,     0.01, 2,     2.59, 2, -999.000, 9, -999.000, 9, -999.000, 9, -999.000, 9,   -999.0, 9,   -999.0, 9, -999.0000,   -999.00,   -999.0, 9,   -999.0,  -999.00, 9,   -999.0,   1.7722, 27.7139,   1.9423, 2, 9, 0.40, 0.14, 0.01, 0.016,  -999.00, 9, -999.00, -999.00, 9, -999.00
49NZ20071122, P14N, 172, 1, 15, X12021, 2, 20071209, 2024, -9.5005, 178.9983, 4589,   2603.3, 2,   1.8285, 2,  34.6639, 2,  34.6642, 2,    140.6, 2,    141.0, 2,   131.78, 2,    36.72, 2,     0.01, 2,     2.58, 2, -999.000, 9, -999.000, 9, -999.000, 9, -999.000, 9,   -999.0, 9,   -999.0, 9, -999.0000,   -999.00,   -999.0, 9,   -999.0,  -999.00, 9,   -999.0,   1.6420, 27.7300,   1.8287, 2, 9, 0.41, 0.14, 0.01, 0.016,  -999.00, 9, -999.00, -999.00, 9, -999.00
49NZ20071122, P14N, 172, 1, 14, X12020, 2, 20071209, 2024, -9.5005, 178.9983, 4589,   2800.1, 2,   1.7691, 2,  34.6678, 2,  34.6678, 2,    142.7, 2,    142.6, 2,   133.62, 2,    36.57, 2,     0.01, 2,     2.57, 2,    0.000, 2,    0.000, 2,    0.000, 2, -999.000, 9,   -999.0, 9,   -999.0, 9, -999.0000,   -999.00,   -999.0, 9,   -999.0,  -999.00, 9,   -999.0,   1.5655, 27.7388,   1.7690, 2, 9, 0.41, 0.14, 0.01, 0.016,  -999.00, 9, -999.00, -999.00, 9, -999.00
49NZ20071122, P14N, 172, 1, 13, X12019, 2, 20071209, 2024, -9.5005, 178.9983, 4589,   2999.9, 2,   1.6968, 2,  34.6714, 2,  34.6714, 2,    143.6, 2,    143.6, 2,   135.99, 2,    36.59, 2,     0.01, 2,     2.57, 2, -999.000, 9, -999.000, 9, -999.000, 9, -999.000, 9,   -999.0, 9,   -999.0, 9, -999.0000,   -999.00,   -999.0, 9,   -999.0,  -999.00, 9,   -999.0,   1.4757, 27.7483,   1.6969, 2, 9, 0.42, 0.14, 0.01, 0.016,  -999.00, 1, -999.00, -999.00, 9, -999.00
49NZ20071122, P14N, 172, 1, 12, X12040, 2, 20071209, 2024, -9.5005, 178.9983, 4589,   3250.4, 2,   1.6296, 2,  34.6762, 2,  34.6765, 2,    147.9, 2,    147.7, 2,   136.05, 2,    36.28, 2,     0.01, 2,     2.54, 2, -999.000, 9, -999.000, 9, -999.000, 9, -999.000, 9,   -999.0, 9,   -999.0, 9, -999.0000,   -999.00,   -999.0, 9,   -999.0,  -999.00, 9,   -999.0,   1.3855, 27.7586,   1.6297, 2, 9, 0.42, 0.13, 0.01, 0.016,  -999.00, 9, -999.00, -999.00, 9, -999.00
49NZ20071122, P14N, 172, 1, 11, X12047, 2, 20071209, 2024, -9.5005, 178.9983, 4589,   3501.6, 2,   1.5160, 2,  34.6846, 2,  34.6846, 2,    157.3, 2,    157.7, 2,   133.92, 2,    35.58, 2,     0.01, 2,     2.49, 2,    0.000, 2,    0.000, 2,    0.000, 2, -999.000, 9,   -999.0, 9,   -999.0, 9, -999.0000,   -999.00,   -999.0, 9,   -999.0,  -999.00, 9,   -999.0,   1.2493, 27.7749,   1.5162, 2, 9, 0.41, 0.13, 0.01, 0.016,  -999.00, 9, -999.00, -999.00, 9, -999.00
49NZ20071122, P14N, 172, 1, 10, X12012, 2, 20071209, 2024, -9.5005, 178.9983, 4589,   3749.4, 2,   1.4460, 2,  34.6908, 2,  34.6908, 2,    165.7, 2,    167.6, 2,   129.80, 2,    34.88, 2,     0.01, 2,     2.44, 2,    0.003, 2,    0.000, 2,    0.000, 2, -999.000, 9,   -999.0, 9,   -999.0, 9, -999.0000,   -999.00,   -999.0, 9,   -999.0,  -999.00, 9,   -999.0,   1.1554, 27.7864,   1.4458, 2, 9, 0.40, 0.13, 0.01, 0.016,  -999.00, 9, -999.00, -999.00, 9, -999.00
49NZ20071122, P14N, 172, 1, 9, X12015, 2, 20071209, 2024, -9.5005, 178.9983, 4589,   4000.2, 2,   1.3473, 2,  34.6985, 2,  34.6988, 2,    179.6, 2,    180.3, 2,   124.28, 2,    33.94, 2,     0.01, 2,     2.37, 2,    0.008, 2,    0.004, 2,    0.000, 2, -999.000, 9,   -999.0, 9,   -999.0, 9, -999.0000,   -999.00,   -999.0, 9,   -999.0,  -999.00, 9,   -999.0,   1.0326, 27.8009,   1.3473, 2, 9, 0.39, 0.13, 0.01, 0.016,  -999.00, 1, -999.00, -999.00, 9, -999.00
49NZ20071122, P14N, 172, 1, 8, X12046, 2, 20071209, 2024, -9.5005, 178.9983, 4589,   4251.0, 2,   1.2985, 2,  34.7026, 2,  34.7028, 6,    186.5, 2,    187.1, 2,   121.57, 2,    33.42, 2,     0.01, 2,     2.33, 2,    0.011, 2,    0.006, 2,    0.000, 2, -999.000, 9,   -999.0, 9,   -999.0, 9, -999.0000,   -999.00,   -999.0, 9,   -999.0,  -999.00, 9,   -999.0,   0.9577, 27.8092,   1.2986, 2, 9, 0.39, 0.13, 0.01, 0.016,  -999.00, 9, -999.00, -999.00, 9, -999.00
49NZ20071122, P14N, 172, 1, 7, X12044, 2, 20071209, 2024, -9.5005, 178.9983, 4589,   4500.2, 2,   1.2859, 2,  34.7046, 2,  34.7052, 2,    190.8, 2,    190.8, 2,   120.13, 2,    33.16, 2,     0.01, 2,     2.31, 2,    0.013, 2,    0.007, 2,    0.000, 2, -999.000, 9,   -999.0, 9,   -999.0, 9, -999.0000,   -999.00,   -999.0, 9,   -999.0,  -999.00, 9,   -999.0,   0.9174, 27.8134,   1.2860, 2, 9, 0.38, 0.13, 0.01, 0.016,  -999.00, 9, -999.00, -999.00, 9, -999.00
49NZ20071122, P14N, 172, 1, 6, X12048, 2, 20071209, 2024, -9.5005, 178.9983, 4589,   4649.2, 2,   1.2755, 2,  34.7058, 2, -999.0000, 9,    193.2, 2,   -999.0, 9,  -999.00, 9,  -999.00, 9,  -999.00, 9,  -999.00, 9, -999.000, 9, -999.000, 9, -999.000, 9, -999.000, 9,   -999.0, 9,   -999.0, 9, -999.0000,   -999.00,   -999.0, 9,   -999.0,  -999.00, 9,   -999.0,   0.8902, 27.8162,   1.2755, 2, 9, -999.00, -999.00, -999.00, -999.000,  -999.00, 1, -999.00, -999.00, 9, -999.00
49NZ20071122, P14N, 172, 1, 5, X12014, 2, 20071209, 2024, -9.5005, 178.9983, 4589,   2001.3, 2,   2.2012, 2,  34.6361, 2, -999.0000, 9,    136.0, 2,   -999.0, 9,  -999.00, 9,  -999.00, 9,  -999.00, 9,  -999.00, 9, -999.000, 9, -999.000, 9, -999.000, 9, -999.000, 9,   -999.0, 9,   -999.0, 9, -999.0000,   -999.00,   -999.0, 9,   -999.0,  -999.00, 9,   -999.0,   2.0616, 27.6753,   2.2009, 2, 9, -999.00, -999.00, -999.00, -999.000,  -999.00, 1, -999.00, -999.00, 9, -999.00
49NZ20071122, P14N, 172, 1, 4, X12006, 2, 20071209, 2024, -9.5005, 178.9983, 4589,   3000.0, 2,   1.6969, 2,  34.6713, 2, -999.0000, 9,    143.5, 2,   -999.0, 9,  -999.00, 9,  -999.00, 9,  -999.00, 9,  -999.00, 9, -999.000, 9, -999.000, 9, -999.000, 9, -999.000, 9,   -999.0, 9,   -999.0, 9, -999.0000,   -999.00,   -999.0, 9,   -999.0,  -999.00, 9,   -999.0,   1.4758, 27.7482,   1.6970, 2, 9, -999.00, -999.00, -999.00, -999.000,  -999.00, 1, -999.00, -999.00, 9, -999.00
49NZ20071122, P14N, 172, 1, 3, X12013, 2, 20071209, 2024, -9.5005, 178.9983, 4589,   4000.3, 2,   1.3473, 2,  34.6986, 2, -999.0000, 9,    179.6, 2,   -999.0, 9,  -999.00, 9,  -999.00, 9,  -999.00, 9,  -999.00, 9, -999.000, 9, -999.000, 9, -999.000, 9, -999.000, 9,   -999.0, 9,   -999.0, 9, -999.0000,   -999.00,   -999.0, 9,   -999.0,  -999.00, 9,   -999.0,   1.0326, 27.8010,   1.3474, 2, 9, -999.00, -999.00, -999.00, -999.000,  -999.00, 1, -999.00, -999.00, 9, -999.00
49NZ20071122, P14N, 172, 1, 2, X12002, 2, 20071209, 2024, -9.5005, 178.9983, 4589,   4648.9, 2,   1.2755, 2,  34.7057, 2, -999.0000, 9,    193.2, 2,   -999.0, 9,  -999.00, 9,  -999.00, 9,  -999.00, 9,  -999.00, 9, -999.000, 9, -999.000, 9, -999.000, 9, -999.000, 9,   -999.0, 9,   -999.0, 9, -999.0000,   -999.00,   -999.0, 9,   -999.0,  -999.00, 9,   -999.0,   0.8902, 27.8161,   1.2755, 2, 9, -999.00, -999.00, -999.00, -999.000,  -999.00, 1, -999.00, -999.00, 9, -999.00
49NZ20071122, P14N, 172, 1, 1, X12001, 2, 20071209, 2024, -9.5005, 178.9983, 4589,   4649.0, 2,   1.2754, 2,  34.7057, 2,  34.7065, 6,    193.2, 2,    192.7, 2,   119.45, 2,    33.01, 2,     0.01, 2,     2.30, 2,    0.016, 2,    0.010, 2,    0.000, 2, -999.000, 9,   -999.0, 9,   -999.0, 9, -999.0000,   -999.00,   -999.0, 9,   -999.0,  -999.00, 9,   -999.0,   0.8901, 27.8161,   1.2754, 2, 9, 0.38, 0.13, 0.01, 0.016,  -999.00, 1, -999.00, -999.00, 9, -999.00