BOTTLE,20220820CCHSIOAMB
EXPOCODE,SECT_ID,STNNBR,CASTNO,SAMPNO,BTLNBR,BTLNBR_FLAG_W,DATE,TIME,LATITUDE,LONGITUDE,DEPTH,CTDPRS,CTDPRS_FLAG_W,CTDTMP,CTDTMP_FLAG_W,CTDSAL,CTDSAL_FLAG_W,SALNTY,SALNTY_FLAG_W,CTDOXY,CTDOXY_FLAG_W,OXYGEN,OXYGEN_FLAG_W,SILCAT,SILCAT_FLAG_W,NITRAT,NITRAT_FLAG_W,NITRIT,NITRIT_FLAG_W,PHSPHT,PHSPHT_FLAG_W,CFC-11,CFC-11_FLAG_W,CFC-12,CFC-12_FLAG_W,CFC113,CFC113_FLAG_W,CCL4,CCL4_FLAG_W,TCARBN,TCARBN_FLAG_W,ALKALI,ALKALI_FLAG_W,PH_TOT,PH_TMP,DELC14,DELC14_FLAG_W,C14ERR,DELC13,DELC13_FLAG_W,C13ERR,THETA,SIG0,SBE35,SBE35_FLAG_W,PH_TOT_FLAG_W,SILUNC,NRAUNC,NRIUNC,PHPUNC,CS-137,CS-137_FLAG_W,CS137ER,PLUTO,PLUTO_FLAG_W,PLUTOER
,,,,,,,,,,,METERS,DBAR,,ITS-90,,PSS-78,,PSS-78,,UMOL/KG,,UMOL/KG,,UMOL/KG,,UMOL/KG,,UMOL/KG,,UMOL/KG,,PMOL/KG,,PMOL/KG,,PMOL/KG,,PMOL/KG,,UMOL/KG,,UMOL/KG,,,DEG C,/MILLE,,/MILLE,/MILLE,,/MILLE,DEG C,KG/M^3,ITS-90,,,UMOL/KG,UMOL/KG,UMOL/KG,UMOL/KG,DM/.1MG,,BQ/M^3,MBQ/M^3,,MBQ/M^3
49NZ20071122, P14N, 115, 1, 36, X12042, 2, 20071125, 0651, 6.9963, 179.0053, 5518,     10.9, 2,  28.3145, 2,  34.8984, 2,  34.8984, 2,    197.5, 2,    195.9, 2,     1.20, 2,     0.44, 2,     0.09, 2,     0.24, 2,    1.459, 2,    0.910, 2,    0.155, 4, -999.000, 9,   1964.8, 2,   2294.3, 2,    8.1013,     25.00,   -999.0, 9,   -999.0,  -999.00, 9,   -999.0,  28.3119, 22.2160,  28.3139, 2, 6, 0.12, 0.03, 0.01, 0.015,  -999.00, 9, -999.00, -999.00, 9, -999.00
49NZ20071122, P14N, 115, 1, 35, X12041, 2, 20071125, 0651, 6.9963, 179.0053, 5518,     51.5, 2,  28.3276, 2,  34.9143, 2,  34.9144, 2,    196.2, 2,    195.6, 2,     1.18, 2,     0.48, 2,     0.11, 2,     0.25, 2,    1.463, 2,    0.917, 2,    0.172, 4, -999.000, 9,   1968.5, 6,   2295.7, 2,    8.1001,     25.00,   -999.0, 9,   -999.0,  -999.00, 9,   -999.0,  28.3154, 22.2267,  28.3261, 2, 2, 0.12, 0.03, 0.01, 0.015,  -999.00, 9, -999.00, -999.00, 9, -999.00
49NZ20071122, P14N, 115, 1, 34, X12016, 2, 20071125, 0651, 6.9963, 179.0053, 5518,    102.3, 2,  28.2692, 2,  34.9612, 2,  34.9586, 2,    192.5, 2,    193.8, 2,     1.20, 2,     0.65, 2,     0.17, 2,     0.28, 2,    1.472, 2,    0.906, 2,    0.169, 4, -999.000, 9,   1974.9, 2,   2298.4, 6,    8.0935,     25.00,   -999.0, 9,   -999.0,  -999.00, 9,   -999.0,  28.2449, 22.2852,  28.2656, 2, 2, 0.12, 0.03, 0.01, 0.014,  -999.00, 9, -999.00, -999.00, 9, -999.00
49NZ20071122, P14N, 115, 1, 33, X12033, 2, 20071125, 0651, 6.9963, 179.0053, 5518,    150.6, 2,  25.0113, 2,  34.9943, 2,  34.9978, 2,    150.5, 2,    145.2, 2,     3.29, 2,     6.43, 2,     0.05, 2,     0.60, 2,    1.710, 6,    1.030, 6,    0.115, 2, -999.000, 9,   2038.1, 2,   2298.1, 2,    7.9834,     25.00,   -999.0, 9,   -999.0,  -999.00, 9,   -999.0,  24.9786, 23.3434,  25.0125, 2, 6, 0.13, 0.05, 0.01, 0.013,  -999.00, 9, -999.00, -999.00, 9, -999.00
49NZ20071122, P14N, 115, 1, 32, X12038, 2, 20071125, 0651, 6.9963, 179.0053, 5518,    200.0, 2,  14.9882, 2,  34.4803, 2,  34.4798, 2,    131.2, 2,    132.0, 2,    11.31, 2,    14.31, 2,     0.05, 2,     1.18, 2,    2.331, 2,    1.283, 2,    0.062, 2, -999.000, 9,   2122.3, 2,   2276.0, 2,    7.7657,     25.00,   -999.0, 9,   -999.0,  -999.00, 9,   -999.0,  14.9581, 25.5804,  14.9798, 2, 2, 0.14, 0.07, 0.01, 0.013,  -999.00, 9, -999.00, -999.00, 9, -999.00
49NZ20071122, P14N, 115, 1, 31, X12003, 2, 20071125, 0651, 6.9963, 179.0053, 5518,    250.2, 2,  11.2425, 2,  34.6217, 2,  34.6228, 6,     21.6, 2,     26.8, 2,    28.19, 2,    31.94, 2,     0.01, 2,     2.37, 2,    0.743, 2,    0.393, 2,    0.016, 2, -999.000, 9,   2242.0, 2,   2293.3, 2,    7.4994,     25.00,   -999.0, 9,   -999.0,  -999.00, 9,   -999.0,  11.2113, 26.4425,  11.2375, 2, 2, 0.18, 0.12, 0.01, 0.016,  -999.00, 9, -999.00, -999.00, 9, -999.00
49NZ20071122, P14N, 115, 1, 30, X12008, 2, 20071125, 0651, 6.9963, 179.0053, 5518,    300.7, 2,  10.0815, 2,  34.6630, 2,  34.6645, 2,     35.9, 2,     39.6, 2,    31.57, 2,    33.34, 2,     0.01, 2,     2.39, 2,    0.442, 2,    0.232, 2,    0.009, 2, -999.000, 9,   2246.9, 2,   2302.9, 2,    7.5085,     25.00,   -999.0, 9,   -999.0,  -999.00, 9,   -999.0,  10.0464, 26.6808,  10.0804, 2, 2, 0.19, 0.13, 0.01, 0.016,  -999.00, 9, -999.00, -999.00, 9, -999.00
49NZ20071122, P14N, 115, 1, 29, X12035, 2, 20071125, 0651, 6.9963, 179.0053, 5518,    398.8, 2,   9.1229, 2,  34.6466, 2,  34.6457, 2,     40.6, 2,     41.8, 2,    35.07, 2,    35.15, 2,     0.01, 2,     2.51, 2,    0.248, 2,    0.133, 2,    0.007, 2, -999.000, 9,   2254.5, 2,   2306.9, 2,    7.4949,     25.00,   -999.0, 9,   -999.0,  -999.00, 9,   -999.0,   9.0789, 26.8287,   9.1234, 2, 2, 0.20, 0.13, 0.01, 0.016,  -999.00, 9, -999.00, -999.00, 9, -999.00
49NZ20071122, P14N, 115, 1, 28, X12034, 2, 20071125, 0651, 6.9963, 179.0053, 5518,    501.6, 2,   8.2972, 2,  34.6076, 2,  34.6070, 6,     64.4, 2,     68.1, 2,    37.41, 2,    34.38, 2,     0.01, 2,     2.45, 2,    0.267, 2,    0.141, 2,    0.006, 2, -999.000, 9,   2244.6, 3,   2309.9, 2,    7.5290,     25.00,   -999.0, 9,   -999.0,  -999.00, 9,   -999.0,   8.2446, 26.9288,   8.2977, 2, 2, 0.20, 0.13, 0.01, 0.016,  -999.00, 9, -999.00, -999.00, 9, -999.00
49NZ20071122, P14N, 115, 1, 27, X12049, 2, 20071125, 0651, 6.9963, 179.0053, 5518,    600.9, 2,   7.4633, 2,  34.5660, 2,  34.5644, 2,     39.4, 2,     39.5, 2,    49.77, 2,    38.26, 2,     0.01, 2,     2.78, 2,    0.067, 2,    0.030, 2,    0.006, 2, -999.000, 9,   2277.7, 2,   2318.7, 2,    7.4606,     25.00,   -999.0, 9,   -999.0,  -999.00, 9,   -999.0,   7.4037, 27.0201,   7.4606, 2, 2, 0.23, 0.14, 0.01, 0.017,  -999.00, 9, -999.00, -999.00, 9, -999.00
49NZ20071122, P14N, 115, 1, 26, X12032, 2, 20071125, 0651, 6.9963, 179.0053, 5518,    699.0, 2,   6.5238, 2,  34.5468, 2,  34.5461, 2,     35.3, 2,     37.5, 2,    60.38, 2,    40.49, 2,     0.01, 2,     2.94, 2,    0.018, 6,    0.010, 6,    0.000, 6, -999.000, 9,   2293.9, 6,   2328.2, 2,    7.4400,     25.00,   -999.0, 9,   -999.0,  -999.00, 9,   -999.0,   6.4589, 27.1350,   6.5274, 2, 2, 0.25, 0.15, 0.01, 0.017,  -999.00, 9, -999.00, -999.00, 9, -999.00
49NZ20071122, P14N, 115, 1, 25, X12043, 2, 20071125, 0651, 6.9963, 179.0053, 5518,    801.0, 2,   5.8055, 2,  34.5441, 2,  34.5440, 2,     40.1, 2,     39.0, 2,    69.40, 2,    41.89, 2,     0.01, 2,     3.02, 2,    0.002, 2,    0.001, 2,    0.000, 2, -999.000, 9,   2309.2, 2,   2338.5, 6,    7.4320,     25.00,   -999.0, 9,   -999.0,  -999.00, 9,   -999.0,   5.7350, 27.2257,   5.8064, 2, 2, 0.27, 0.15, 0.01, 0.018,  -999.00, 9, -999.00, -999.00, 9, -999.00
49NZ20071122, P14N, 115, 1, 24, X12030, 2, 20071125, 0651, 6.9963, 179.0053, 5518,    898.9, 2,   5.2537, 2,  34.5483, 2,  34.5485, 2,     44.7, 2,     45.4, 2,    77.35, 2,    42.25, 2,     0.01, 2,     3.02, 2,    0.000, 2,    0.000, 2,    0.000, 2, -999.000, 9,   2313.0, 2,   2346.8, 2,    7.4376,     25.00,   -999.0, 9,   -999.0,  -999.00, 9,   -999.0,   5.1777, 27.2964,   5.2540, 2, 6, 0.29, 0.15, 0.01, 0.018,  -999.00, 9, -999.00, -999.00, 9, -999.00
49NZ20071122, P14N, 115, 1, 23, X12027, 2, 20071125, 0651, 6.9963, 179.0053, 5518,    999.1, 2,   4.7922, 2,  34.5543, 2,  34.5540, 6,     52.1, 2,     52.8, 2,    84.92, 2,    42.06, 2,     0.01, 2,     3.03, 2,    0.000, 2,    0.000, 2,    0.000, 2, -999.000, 9,   2317.5, 2,   2355.4, 2,    7.4473,     25.00,   -999.0, 9,   -999.0,  -999.00, 9,   -999.0,   4.7105, 27.3549,   4.7922, 2, 2, 0.31, 0.15, 0.01, 0.018,  -999.00, 9, -999.00, -999.00, 9, -999.00
49NZ20071122, P14N, 115, 1, 22, X12028, 2, 20071125, 0651, 6.9963, 179.0053, 5518,   1199.8, 2,   4.0121, 2,  34.5707, 2,  34.5707, 2,     63.1, 2,     63.1, 2,   101.36, 2,    41.69, 2,     0.01, 2,     3.01, 2,    0.000, 2,    0.000, 2,    0.000, 2, -999.000, 9,   2330.4, 2,   2374.5, 2,    7.4617,     25.00,   -999.0, 9,   -999.0,  -999.00, 9,   -999.0,   3.9193, 27.4530,   4.0132, 2, 2, 0.34, 0.15, 0.01, 0.017,  -999.00, 9, -999.00, -999.00, 9, -999.00
49NZ20071122, P14N, 115, 1, 21, X12009, 2, 20071125, 0651, 6.9963, 179.0053, 5518,   1401.3, 2,   3.3380, 2,  34.5908, 2,  34.5910, 2,     75.5, 2,     75.0, 2,   115.91, 2,    41.20, 2,     0.01, 2,     2.96, 2,    0.000, 2,    0.000, 2,    0.000, 2, -999.000, 9,   2340.0, 2,   2389.5, 2,    7.4789,     25.00,   -999.0, 9,   -999.0,  -999.00, 9,   -999.0,   3.2347, 27.5366,   3.3376, 2, 2, 0.37, 0.15, 0.01, 0.017,  -999.00, 9, -999.00, -999.00, 9, -999.00
49NZ20071122, P14N, 115, 1, 20, X12026, 2, 20071125, 0651, 6.9963, 179.0053, 5518,   1599.9, 2,   2.8625, 2,  34.6077, 2,  34.6077, 2,     87.5, 2,     87.7, 2,   125.20, 2,    40.37, 2,     0.01, 2,     2.89, 2, -999.000, 9, -999.000, 9, -999.000, 9, -999.000, 9,   2346.3, 2,   2399.7, 2,    7.4983,     25.00,   -999.0, 9,   -999.0,  -999.00, 9,   -999.0,   2.7479, 27.5946,   2.8626, 2, 2, 0.39, 0.15, 0.01, 0.017,  -999.00, 9, -999.00, -999.00, 9, -999.00
49NZ20071122, P14N, 115, 1, 19, X12025, 2, 20071125, 0651, 6.9963, 179.0053, 5518,   1799.5, 2,   2.5266, 2,  34.6222, 2,  34.6220, 2,     95.3, 2,     94.6, 2,   132.96, 2,    39.98, 2,     0.01, 2,     2.85, 2, -999.000, 9, -999.000, 9, -999.000, 9, -999.000, 9,   2347.2, 2,   2407.8, 2,    7.5102,     25.00,   -999.0, 9,   -999.0,  -999.00, 9,   -999.0,   2.3995, 27.6364,   2.5266, 2, 2, 0.41, 0.14, 0.01, 0.017,  -999.00, 9, -999.00, -999.00, 9, -999.00
49NZ20071122, P14N, 115, 1, 18, X12024, 2, 20071125, 0651, 6.9963, 179.0053, 5518,   2000.7, 2,   2.2102, 2,  34.6395, 2,  34.6393, 2,    104.1, 2,    104.1, 2,   139.58, 2,    39.46, 2,     0.01, 2,     2.80, 2,    0.000, 2,    0.002, 2,    0.000, 2, -999.000, 9,   2349.5, 2,   2415.7, 2,    7.5258,     25.00,   -999.0, 9,   -999.0,  -999.00, 9,   -999.0,   2.0705, 27.6773,   2.2103, 2, 2, 0.43, 0.14, 0.01, 0.017,  -999.00, 9, -999.00, -999.00, 9, -999.00
49NZ20071122, P14N, 115, 1, 17, X12023, 2, 20071125, 0651, 6.9963, 179.0053, 5518,   2201.0, 2,   2.0322, 2,  34.6506, 2,  34.6502, 2,    109.9, 2,    109.8, 2,   143.27, 2,    39.12, 2,     0.01, 2,     2.77, 2, -999.000, 9, -999.000, 9, -999.000, 9, -999.000, 9,   2352.2, 2,   2420.1, 2,    7.5369,     25.00,   -999.0, 9,   -999.0,  -999.00, 9,   -999.0,   1.8780, 27.7013,   2.0323, 2, 2, 0.43, 0.14, 0.01, 0.017,  -999.00, 9, -999.00, -999.00, 9, -999.00
49NZ20071122, P14N, 115, 1, 16, X12022, 2, 20071125, 0651, 6.9963, 179.0053, 5518,   2399.7, 2,   1.9028, 2,  34.6587, 2,  34.6593, 2,    116.0, 2,    115.7, 2,   145.32, 2,    38.62, 2,     0.01, 2,     2.73, 2, -999.000, 9, -999.000, 9, -999.000, 9, -999.000, 9,   2353.3, 2,   2424.5, 2,    7.5458,     25.00,   -999.0, 9,   -999.0,  -999.00, 9,   -999.0,   1.7333, 27.7189,   1.9029, 2, 2, 0.44, 0.14, 0.01, 0.017,  -999.00, 9, -999.00, -999.00, 9, -999.00
49NZ20071122, P14N, 115, 1, 15, X12021, 2, 20071125, 0651, 6.9963, 179.0053, 5518,   2601.1, 2,   1.8144, 2,  34.6641, 2,  34.6642, 2,    120.4, 2,    120.2, 2,   146.73, 2,    38.33, 2,     0.01, 2,     2.70, 2,    0.007, 3,    0.011, 3,    0.000, 2, -999.000, 9,   2351.6, 2,   2424.8, 6,    7.5538,     25.00,   -999.0, 9,   -999.0,  -999.00, 9,   -999.0,   1.6284, 27.7312,   1.8147, 2, 2, 0.44, 0.14, 0.01, 0.017,  -999.00, 9, -999.00, -999.00, 9, -999.00
49NZ20071122, P14N, 115, 1, 14, X12020, 2, 20071125, 0651, 6.9963, 179.0053, 5518,   2799.1, 2,   1.7400, 2,  34.6680, 2,  34.6680, 2,    126.2, 2,    126.1, 2,   146.33, 2,    37.96, 2,     0.01, 2,     2.67, 2, -999.000, 9, -999.000, 9, -999.000, 9, -999.000, 9,   2349.1, 2,   2424.0, 2,    7.5617,     25.00,   -999.0, 9,   -999.0,  -999.00, 9,   -999.0,   1.5371, 27.7410,   1.7402, 2, 6, 0.44, 0.14, 0.01, 0.017,  -999.00, 9, -999.00, -999.00, 9, -999.00
49NZ20071122, P14N, 115, 1, 13, X12019, 2, 20071125, 0651, 6.9963, 179.0053, 5518,   2999.5, 2,   1.6853, 2,  34.6710, 2,  34.6711, 6,    131.6, 2,    131.4, 2,   145.74, 2,    37.61, 2,     0.01, 2,     2.65, 2, -999.000, 9, -999.000, 9, -999.000, 9, -999.000, 9,   2341.3, 2,   2423.0, 2,    7.5689,     25.00,   -999.0, 9,   -999.0,  -999.00, 9,   -999.0,   1.4645, 27.7488,   1.6853, 2, 2, 0.44, 0.14, 0.01, 0.017,  -999.00, 9, -999.00, -999.00, 9, -999.00
49NZ20071122, P14N, 115, 1, 12, X12040, 2, 20071125, 0651, 6.9963, 179.0053, 5518,   3249.8, 2,   1.6117, 2,  34.6759, 2,  34.6757, 2,    138.9, 2,    138.3, 2,   144.60, 2,    37.01, 2,     0.01, 2,     2.60, 2,    0.000, 2,    0.000, 2,    0.000, 2, -999.000, 9,   2336.8, 2,   2422.1, 2,    7.5784,     25.00,   -999.0, 9,   -999.0,  -999.00, 9,   -999.0,   1.3681, 27.7596,   1.6117, 2, 2, 0.44, 0.14, 0.01, 0.016,  -999.00, 9, -999.00, -999.00, 9, -999.00
49NZ20071122, P14N, 115, 1, 11, X12047, 2, 20071125, 0651, 6.9963, 179.0053, 5518,   3499.5, 2,   1.5614, 2,  34.6799, 2,  34.6797, 2,    144.3, 2,    143.8, 2,   143.51, 2,    36.72, 2,     0.01, 2,     2.57, 2, -999.000, 9, -999.000, 9, -999.000, 9, -999.000, 9,   2334.3, 2,   2421.2, 2,    7.5849,     25.00,   -999.0, 9,   -999.0,  -999.00, 9,   -999.0,   1.2938, 27.7681,   1.5615, 2, 2, 0.43, 0.14, 0.01, 0.016,  -999.00, 9, -999.00, -999.00, 9, -999.00
49NZ20071122, P14N, 115, 1, 10, X12012, 2, 20071125, 0651, 6.9963, 179.0053, 5518,   3749.8, 2,   1.4821, 2,  34.6859, 2,  34.6855, 2,    153.2, 2,    153.0, 2,   141.02, 2,    36.05, 2,     0.01, 2,     2.53, 2, -999.000, 9, -999.000, 9, -999.000, 9, -999.000, 9,   2327.5, 2,   2417.3, 2,    7.5968,     25.00,   -999.0, 9,   -999.0,  -999.00, 9,   -999.0,   1.1905, 27.7800,   1.4820, 2, 2, 0.43, 0.13, 0.01, 0.016,  -999.00, 9, -999.00, -999.00, 9, -999.00
49NZ20071122, P14N, 115, 1, 9, X12015, 2, 20071125, 0651, 6.9963, 179.0053, 5518,   3999.7, 2,   1.4118, 2,  34.6910, 2,  34.6907, 2,    161.9, 2,    161.7, 2,   138.38, 2,    35.52, 2,     0.01, 2,     2.48, 2,    0.000, 2,    0.000, 2,    0.000, 2, -999.000, 9,   2317.0, 2,   2413.0, 2,    7.6063,     25.00,   -999.0, 9,   -999.0,  -999.00, 9,   -999.0,   1.0954, 27.7907,   1.4117, 2, 2, 0.42, 0.13, 0.01, 0.016,  -999.00, 9, -999.00, -999.00, 9, -999.00
49NZ20071122, P14N, 115, 1, 8, X12046, 2, 20071125, 0651, 6.9963, 179.0053, 5518,   4251.8, 2,   1.3384, 2,  34.6964, 2,  34.6960, 2,    171.1, 2,    172.3, 2,   133.32, 2,    34.74, 2,     0.01, 2,     2.42, 2, -999.000, 9, -999.000, 9, -999.000, 9, -999.000, 9,   2308.9, 6,   2406.1, 2,    7.6160,     25.00,   -999.0, 9,   -999.0,  -999.00, 9,   -999.0,   0.9964, 27.8017,   1.3383, 2, 2, 0.41, 0.13, 0.01, 0.016,  -999.00, 9, -999.00, -999.00, 9, -999.00
49NZ20071122, P14N, 115, 1, 7, X12044, 2, 20071125, 0651, 6.9963, 179.0053, 5518,   4499.8, 2,   1.3080, 2,  34.6995, 2,  34.6997, 2,    178.7, 2,    178.9, 2,   130.01, 2,    34.20, 2,     0.01, 2,     2.38, 2,    0.000, 2,    0.000, 2,    0.000, 2, -999.000, 9,   2302.5, 2,   2400.6, 6,    7.6215,     25.00,   -999.0, 9,   -999.0,  -999.00, 9,   -999.0,   0.9389, 27.8079,   1.3080, 2, 2, 0.41, 0.13, 0.01, 0.016,  -999.00, 9, -999.00, -999.00, 9, -999.00
49NZ20071122, P14N, 115, 1, 6, X12048, 2, 20071125, 0651, 6.9963, 179.0053, 5518,   4747.3, 2,   1.3005, 2,  34.7017, 2,  34.7018, 2,    183.6, 2,    183.5, 2,   127.37, 2,    33.94, 2,     0.01, 2,     2.36, 2,    0.000, 2,    0.000, 2,    0.000, 2, -999.000, 9,   2295.5, 2,   2396.2, 2,    7.6248,     25.00,   -999.0, 9,   -999.0,  -999.00, 9,   -999.0,   0.9030, 27.8120,   1.3005, 2, 6, 0.40, 0.13, 0.01, 0.016,  -999.00, 9, -999.00, -999.00, 9, -999.00
49NZ20071122, P14N, 115, 1, 5, X12014, 2, 20071125, 0651, 6.9963, 179.0053, 5518,   4998.2, 2,   1.3027, 2,  34.7033, 2,  34.7034, 6,    187.2, 2,    187.2, 2,   125.00, 2,    33.56, 2,     0.01, 2,     2.34, 2,    0.000, 2,    0.000, 2,    0.000, 2, -999.000, 9,   2290.2, 2,   2391.4, 2,    7.6265,     25.00,   -999.0, 9,   -999.0,  -999.00, 9,   -999.0,   0.8753, 27.8152,   1.3027, 2, 2, 0.39, 0.13, 0.01, 0.016,  -999.00, 9, -999.00, -999.00, 9, -999.00
49NZ20071122, P14N, 115, 1, 4, X12006, 2, 20071125, 0651, 6.9963, 179.0053, 5518,   5249.7, 2,   1.3188, 2,  34.7040, 2,  34.7040, 2,    189.0, 2,    189.0, 2,   124.21, 2,    33.49, 2,     0.01, 2,     2.33, 2,    0.000, 2,    0.000, 2,    0.000, 2, -999.000, 9,   2288.2, 2,   2389.5, 2,    7.6265,     25.00,   -999.0, 9,   -999.0,  -999.00, 9,   -999.0,   0.8601, 27.8167,   1.3189, 2, 2, 0.39, 0.13, 0.01, 0.016,  -999.00, 9, -999.00, -999.00, 9, -999.00
49NZ20071122, P14N, 115, 1, 3, X12013, 2, 20071125, 0651, 6.9963, 179.0053, 5518,   5498.5, 2,   1.3387, 2,  34.7045, 2,  34.7051, 2,    190.5, 2,    190.3, 2,   123.54, 2,    33.37, 2,     0.01, 2,     2.33, 2,    0.000, 2,    0.000, 2,    0.000, 2, -999.000, 9,   2285.0, 2,   2388.4, 2,    7.6278,     25.00,   -999.0, 9,   -999.0,  -999.00, 9,   -999.0,   0.8481, 27.8179,   1.3387, 2, 2, 0.39, 0.13, 0.01, 0.016,  -999.00, 9, -999.00, -999.00, 9, -999.00
49NZ20071122, P14N, 115, 1, 2, X12002, 9, 20071125, 0651, 6.9963, 179.0053, 5518,     11.0, 2,  28.3143, 2,  34.8980, 2, -999.0000, 9,    197.5, 2,   -999.0, 9,  -999.00, 9,  -999.00, 9,  -999.00, 9,  -999.00, 9, -999.000, 9, -999.000, 9, -999.000, 9, -999.000, 9,   -999.0, 9,   -999.0, 9, -999.0000,   -999.00,   -999.0, 9,   -999.0,  -999.00, 9,   -999.0,  28.3117, 22.2157,  28.3130, 2, 9, -999.00, -999.00, -999.00, -999.000,  -999.00, 9, -999.00, -999.00, 9, -999.00
49NZ20071122, P14N, 115, 1, 1, X12001, 2, 20071125, 0651, 6.9963, 179.0053, 5518,   5605.0, 2,   1.3513, 2,  34.7045, 2,  34.7049, 6,    190.5, 2,    190.3, 2,   123.69, 2,    33.39, 2,     0.01, 2,     2.33, 2,    0.002, 2,    0.001, 2,    0.000, 2, -999.000, 9,   2286.4, 2,   2389.0, 2,    7.6283,     25.00,   -999.0, 9,   -999.0,  -999.00, 9,   -999.0,   0.8467, 27.8179,   1.3513, 2, 2, 0.39, 0.13, 0.01, 0.016,  -999.00, 9, -999.00, -999.00, 9, -999.00