BOTTLE,20220820CCHSIOAMB
EXPOCODE,SECT_ID,STNNBR,CASTNO,SAMPNO,BTLNBR,BTLNBR_FLAG_W,DATE,TIME,LATITUDE,LONGITUDE,DEPTH,CTDPRS,CTDPRS_FLAG_W,CTDTMP,CTDTMP_FLAG_W,CTDSAL,CTDSAL_FLAG_W,SALNTY,SALNTY_FLAG_W,CTDOXY,CTDOXY_FLAG_W,OXYGEN,OXYGEN_FLAG_W,SILCAT,SILCAT_FLAG_W,NITRAT,NITRAT_FLAG_W,NITRIT,NITRIT_FLAG_W,PHSPHT,PHSPHT_FLAG_W,CFC-11,CFC-11_FLAG_W,CFC-12,CFC-12_FLAG_W,CFC113,CFC113_FLAG_W,CCL4,CCL4_FLAG_W,TCARBN,TCARBN_FLAG_W,ALKALI,ALKALI_FLAG_W,PH_TOT,PH_TMP,DELC14,DELC14_FLAG_W,C14ERR,DELC13,DELC13_FLAG_W,C13ERR,THETA,SIG0,SBE35,SBE35_FLAG_W,PH_TOT_FLAG_W,SILUNC,NRAUNC,NRIUNC,PHPUNC,CS-137,CS-137_FLAG_W,CS137ER,PLUTO,PLUTO_FLAG_W,PLUTOER
,,,,,,,,,,,METERS,DBAR,,ITS-90,,PSS-78,,PSS-78,,UMOL/KG,,UMOL/KG,,UMOL/KG,,UMOL/KG,,UMOL/KG,,UMOL/KG,,PMOL/KG,,PMOL/KG,,PMOL/KG,,PMOL/KG,,UMOL/KG,,UMOL/KG,,,DEG C,/MILLE,,/MILLE,/MILLE,,/MILLE,DEG C,KG/M^3,ITS-90,,,UMOL/KG,UMOL/KG,UMOL/KG,UMOL/KG,DM/.1MG,,BQ/M^3,MBQ/M^3,,MBQ/M^3
49NZ20071122, P14N, 158, 1, 36, X12042, 2, 20071206, 1019, -3.7483, 178.9978, 5545,     10.8, 2,  27.8630, 2,  35.6788, 2,  35.6789, 2,    202.7, 2,    200.9, 2,     1.49, 2,     3.22, 2,     0.26, 2,     0.47, 2,    1.530, 2,    0.932, 2,    0.160, 4, -999.000, 9,   -999.0, 9,   -999.0, 9, -999.0000,   -999.00,   -999.0, 9,   -999.0,  -999.00, 9,   -999.0,  27.8605, 22.9509,  27.8623, 2, 9, 0.12, 0.04, 0.01, 0.013,  -999.00, 9, -999.00, -999.00, 9, -999.00
49NZ20071122, P14N, 158, 1, 35, X12041, 2, 20071206, 1019, -3.7483, 178.9978, 5545,     50.2, 2,  27.8539, 2,  35.6774, 2,  35.6773, 2,    202.0, 2,    200.6, 2,     1.47, 2,     3.24, 2,     0.26, 2,     0.47, 2,    1.541, 2,    0.954, 2,    0.166, 4, -999.000, 9,   -999.0, 9,   -999.0, 9, -999.0000,   -999.00,   -999.0, 9,   -999.0,  -999.00, 9,   -999.0,  27.8421, 22.9558,  27.8548, 2, 9, 0.12, 0.04, 0.01, 0.013,  -999.00, 9, -999.00, -999.00, 9, -999.00
49NZ20071122, P14N, 158, 1, 34, X12016, 2, 20071206, 1019, -3.7483, 178.9978, 5545,    100.3, 2,  27.5792, 2,  35.6471, 2,  35.6474, 2,    194.3, 2,    195.7, 2,     1.51, 2,     3.50, 2,     0.38, 2,     0.52, 2,    1.556, 2,    0.963, 2,    0.159, 4, -999.000, 9,   -999.0, 9,   -999.0, 9, -999.0000,   -999.00,   -999.0, 9,   -999.0,  -999.00, 9,   -999.0,  27.5558, 23.0262,  27.5786, 2, 9, 0.12, 0.04, 0.00, 0.013,  -999.00, 9, -999.00, -999.00, 9, -999.00
49NZ20071122, P14N, 158, 1, 33, X12033, 2, 20071206, 1019, -3.7483, 178.9978, 5545,    150.9, 2,  27.2805, 2,  35.6194, 2,  35.6164, 2,    187.9, 2,    189.2, 2,     1.80, 2,     3.93, 2,     0.66, 2,     0.59, 2,    1.578, 6,    0.969, 6,    0.166, 4, -999.000, 9,   -999.0, 9,   -999.0, 9, -999.0000,   -999.00,   -999.0, 9,   -999.0,  -999.00, 9,   -999.0,  27.2455, 23.1056,  27.2776, 2, 9, 0.12, 0.04, 0.00, 0.013,  -999.00, 9, -999.00, -999.00, 9, -999.00
49NZ20071122, P14N, 158, 1, 32, X12038, 2, 20071206, 1019, -3.7483, 178.9978, 5545,    199.6, 2,  25.0537, 2,  35.9019, 2,  35.9215, 2,    153.2, 2,    148.9, 2,     2.04, 2,     7.80, 2,     0.04, 2,     0.79, 2,    1.773, 2,    1.075, 2,    0.137, 4, -999.000, 9,   -999.0, 9,   -999.0, 9, -999.0000,   -999.00,   -999.0, 9,   -999.0,  -999.00, 9,   -999.0,  25.0102, 24.0199,  25.0529, 2, 9, 0.12, 0.05, 0.01, 0.013,  -999.00, 9, -999.00, -999.00, 9, -999.00
49NZ20071122, P14N, 158, 1, 31, X12003, 2, 20071206, 1019, -3.7483, 178.9978, 5545,    251.1, 2,  16.5108, 2,  35.3424, 2,  35.3072, 6,     99.7, 2,     98.8, 2,     8.66, 2,    17.81, 2,     0.02, 2,     1.47, 2,    1.628, 2,    0.904, 2,    0.033, 2, -999.000, 9,   -999.0, 9,   -999.0, 9, -999.0000,   -999.00,   -999.0, 9,   -999.0,  -999.00, 9,   -999.0,  16.4700, 25.9022,  16.5082, 2, 9, 0.14, 0.08, 0.01, 0.014,  -999.00, 9, -999.00, -999.00, 9, -999.00
49NZ20071122, P14N, 158, 1, 30, X12008, 2, 20071206, 1019, -3.7483, 178.9978, 5545,    329.7, 2,  10.4178, 2,  34.7812, 2,  34.7771, 2,     88.4, 2,     87.0, 2,    21.86, 2,    28.63, 2,     0.01, 2,     2.06, 2,    0.508, 2,    0.258, 2,    0.019, 2, -999.000, 9,   -999.0, 9,   -999.0, 9, -999.0000,   -999.00,   -999.0, 9,   -999.0,  -999.00, 9,   -999.0,  10.3784, 26.7157,  10.4183, 2, 9, 0.17, 0.11, 0.01, 0.015,  -999.00, 9, -999.00, -999.00, 9, -999.00
49NZ20071122, P14N, 158, 1, 29, X12035, 2, 20071206, 1019, -3.7483, 178.9978, 5545,    431.4, 2,   9.2735, 2,  34.6934, 2,  34.6926, 2,     78.1, 2,     77.8, 2,    27.27, 2,    31.96, 2,     0.01, 2,     2.25, 2,    0.422, 2,    0.228, 2,    0.013, 2, -999.000, 9,   -999.0, 9,   -999.0, 9, -999.0000,   -999.00,   -999.0, 9,   -999.0,  -999.00, 9,   -999.0,   9.2253, 26.8417,   9.2746, 2, 9, 0.18, 0.12, 0.01, 0.016,  -999.00, 9, -999.00, -999.00, 9, -999.00
49NZ20071122, P14N, 158, 1, 28, X12034, 2, 20071206, 1019, -3.7483, 178.9978, 5545,    530.2, 2,   8.2753, 2,  34.6380, 2,  34.6347, 6,     61.3, 2,     57.9, 2,    34.90, 2,    36.33, 2,     0.01, 2,     2.55, 2,    0.181, 2,    0.097, 2,    0.005, 2, -999.000, 9,   -999.0, 9,   -999.0, 9, -999.0000,   -999.00,   -999.0, 9,   -999.0,  -999.00, 9,   -999.0,   8.2197, 26.9564,   8.2746, 2, 9, 0.20, 0.13, 0.01, 0.016,  -999.00, 9, -999.00, -999.00, 9, -999.00
49NZ20071122, P14N, 158, 1, 27, X12049, 2, 20071206, 1019, -3.7483, 178.9978, 5545,    629.7, 2,   7.0117, 2,  34.5827, 2,  34.5840, 3,     62.5, 2,     52.9, 2,    44.94, 2,    39.35, 2,     0.01, 2,     2.77, 2,    0.056, 2,    0.030, 2,    0.003, 2, -999.000, 9,   -999.0, 9,   -999.0, 9, -999.0000,   -999.00,   -999.0, 9,   -999.0,  -999.00, 9,   -999.0,   6.9512, 27.0968,   7.0100, 2, 9, 0.22, 0.14, 0.01, 0.017,  -999.00, 9, -999.00, -999.00, 9, -999.00
49NZ20071122, P14N, 158, 1, 26, X12032, 2, 20071206, 1019, -3.7483, 178.9978, 5545,    731.5, 2,   6.1948, 2,  34.5512, 2,  34.5508, 2,     71.3, 2,     76.2, 2,    51.77, 2,    38.64, 2,     0.01, 2,     2.73, 2,    0.042, 6,    0.022, 6,    0.000, 6, -999.000, 9,   -999.0, 9,   -999.0, 9, -999.0000,   -999.00,   -999.0, 9,   -999.0,  -999.00, 9,   -999.0,   6.1286, 27.1816,   6.1952, 2, 9, 0.23, 0.14, 0.01, 0.017,  -999.00, 9, -999.00, -999.00, 9, -999.00
49NZ20071122, P14N, 158, 1, 25, X12043, 2, 20071206, 1019, -3.7483, 178.9978, 5545,    831.2, 2,   5.3515, 2,  34.5376, 2,  34.5377, 2,     90.8, 2,     91.5, 2,    62.48, 2,    38.32, 2,     0.01, 2,     2.73, 2,    0.029, 2,    0.014, 2,    0.000, 2, -999.000, 9,   -999.0, 9,   -999.0, 9, -999.0000,   -999.00,   -999.0, 9,   -999.0,  -999.00, 9,   -999.0,   5.2810, 27.2757,   5.3534, 2, 9, 0.26, 0.14, 0.01, 0.017,  -999.00, 9, -999.00, -999.00, 9, -999.00
49NZ20071122, P14N, 158, 1, 24, X12030, 2, 20071206, 1019, -3.7483, 178.9978, 5545,    930.6, 2,   4.9278, 2,  34.5384, 2,  34.5384, 2,     98.3, 2,     98.4, 2,    68.72, 2,    37.94, 2,     0.01, 2,     2.70, 2,    0.023, 2,    0.012, 2,    0.000, 2, -999.000, 9,   -999.0, 9,   -999.0, 9, -999.0000,   -999.00,   -999.0, 9,   -999.0,  -999.00, 9,   -999.0,   4.8512, 27.3263,   4.9276, 2, 9, 0.27, 0.14, 0.01, 0.017,  -999.00, 9, -999.00, -999.00, 9, -999.00
49NZ20071122, P14N, 158, 1, 23, X12027, 2, 20071206, 1019, -3.7483, 178.9978, 5545,   1072.4, 2,   4.4187, 2,  34.5493, 2,  34.5495, 6,     97.1, 2,     97.3, 2,    79.74, 2,    38.60, 2,     0.01, 2,     2.76, 2,    0.008, 2,    0.004, 2,    0.000, 2, -999.000, 9,   -999.0, 9,   -999.0, 9, -999.0000,   -999.00,   -999.0, 9,   -999.0,  -999.00, 9,   -999.0,   4.3335, 27.3923,   4.4190, 2, 9, 0.29, 0.14, 0.01, 0.017,  -999.00, 9, -999.00, -999.00, 9, -999.00
49NZ20071122, P14N, 158, 1, 22, X12028, 2, 20071206, 1019, -3.7483, 178.9978, 5545,   1269.8, 2,   3.6730, 2,  34.5671, 2,  34.5678, 2,    114.7, 2,    110.9, 2,    92.78, 2,    37.89, 2,     0.01, 2,     2.71, 2,    0.005, 2,    0.003, 2,    0.000, 2, -999.000, 9,   -999.0, 9,   -999.0, 9, -999.0000,   -999.00,   -999.0, 9,   -999.0,  -999.00, 9,   -999.0,   3.5774, 27.4846,   3.6730, 2, 9, 0.32, 0.14, 0.01, 0.017,  -999.00, 9, -999.00, -999.00, 9, -999.00
49NZ20071122, P14N, 158, 1, 21, X12009, 2, 20071206, 1019, -3.7483, 178.9978, 5545,   1469.7, 2,   3.1209, 2,  34.5941, 2,  34.5949, 2,    105.3, 2,    107.0, 2,   108.45, 2,    38.55, 2,     0.01, 2,     2.76, 2,    0.000, 2,    0.000, 2,    0.000, 2, -999.000, 9,   -999.0, 9,   -999.0, 9, -999.0000,   -999.00,   -999.0, 9,   -999.0,  -999.00, 9,   -999.0,   3.0142, 27.5598,   3.1209, 2, 9, 0.36, 0.14, 0.01, 0.017,  -999.00, 9, -999.00, -999.00, 9, -999.00
49NZ20071122, P14N, 158, 1, 20, X12026, 2, 20071206, 1019, -3.7483, 178.9978, 5545,   1671.6, 2,   2.5277, 2,  34.6199, 2,  34.6205, 2,    120.0, 2,    120.3, 2,   118.87, 2,    37.91, 2,     0.01, 2,     2.69, 2,    0.000, 2,    0.000, 2,    0.000, 2, -999.000, 9,   -999.0, 9,   -999.0, 9, -999.0000,   -999.00,   -999.0, 9,   -999.0,  -999.00, 9,   -999.0,   2.4112, 27.6335,   2.5271, 2, 9, 0.38, 0.14, 0.01, 0.017,  -999.00, 9, -999.00, -999.00, 9, -999.00
49NZ20071122, P14N, 158, 1, 19, X12025, 2, 20071206, 1019, -3.7483, 178.9978, 5545,   1869.3, 2,   2.2969, 2,  34.6346, 2,  34.6351, 2,    117.5, 2,    119.3, 2,   127.20, 2,    38.08, 2,     0.01, 2,     2.70, 2,    0.000, 2,    0.000, 2,    0.000, 2, -999.000, 9,   -999.0, 9,   -999.0, 9, -999.0000,   -999.00,   -999.0, 9,   -999.0,  -999.00, 9,   -999.0,   2.1670, 27.6655,   2.2968, 2, 9, 0.40, 0.14, 0.01, 0.017,  -999.00, 9, -999.00, -999.00, 9, -999.00
49NZ20071122, P14N, 158, 1, 18, X12024, 2, 20071206, 1019, -3.7483, 178.9978, 5545,   2071.0, 2,   2.1525, 2,  34.6431, 2,  34.6437, 2,    120.8, 2,    122.0, 2,   130.75, 2,    38.00, 2,     0.01, 2,     2.69, 2, -999.000, 9, -999.000, 9, -999.000, 9, -999.000, 9,   -999.0, 9,   -999.0, 9, -999.0000,   -999.00,   -999.0, 9,   -999.0,  -999.00, 9,   -999.0,   2.0076, 27.6851,   2.1526, 2, 9, 0.41, 0.14, 0.01, 0.017,  -999.00, 9, -999.00, -999.00, 9, -999.00
49NZ20071122, P14N, 158, 1, 17, X12023, 2, 20071206, 1019, -3.7483, 178.9978, 5545,   2271.5, 2,   2.0076, 2,  34.6521, 2,  34.6519, 6,    126.6, 2,    126.9, 2,   132.97, 2,    37.71, 2,     0.01, 2,     2.66, 2, -999.000, 9, -999.000, 9, -999.000, 9, -999.000, 9,   -999.0, 9,   -999.0, 9, -999.0000,   -999.00,   -999.0, 9,   -999.0,  -999.00, 9,   -999.0,   1.8476, 27.7048,   2.0077, 2, 9, 0.41, 0.14, 0.01, 0.017,  -999.00, 9, -999.00, -999.00, 9, -999.00
49NZ20071122, P14N, 158, 1, 16, X12022, 2, 20071206, 1019, -3.7483, 178.9978, 5545,   2469.4, 2,   1.8759, 2,  34.6599, 2,  34.6600, 2,    131.1, 2,    130.8, 2,   135.95, 2,    37.45, 2,     0.01, 2,     2.64, 2,    0.000, 2,    0.000, 2,    0.000, 2, -999.000, 9,   -999.0, 9,   -999.0, 9, -999.0000,   -999.00,   -999.0, 9,   -999.0,  -999.00, 9,   -999.0,   1.7007, 27.7223,   1.8758, 2, 9, 0.42, 0.14, 0.01, 0.017,  -999.00, 9, -999.00, -999.00, 9, -999.00
49NZ20071122, P14N, 158, 1, 15, X12021, 2, 20071206, 1019, -3.7483, 178.9978, 5545,   2670.7, 2,   1.7902, 2,  34.6656, 2,  34.6656, 2,    134.5, 2,    134.2, 2,   137.80, 2,    37.23, 2,     0.01, 2,     2.62, 2, -999.000, 9, -999.000, 9, -999.000, 9, -999.000, 9,   -999.0, 9,   -999.0, 9, -999.0000,   -999.00,   -999.0, 9,   -999.0,  -999.00, 9,   -999.0,   1.5982, 27.7346,   1.7903, 2, 9, 0.42, 0.14, 0.01, 0.017,  -999.00, 9, -999.00, -999.00, 9, -999.00
49NZ20071122, P14N, 158, 1, 14, X12020, 2, 20071206, 1019, -3.7483, 178.9978, 5545,   2869.2, 2,   1.7250, 2,  34.6698, 2,  34.6699, 2,    137.6, 2,    137.4, 2,   138.77, 2,    37.09, 2,     0.01, 2,     2.60, 2, -999.000, 9, -999.000, 9, -999.000, 9, -999.000, 9,   -999.0, 9,   -999.0, 9, -999.0000,   -999.00,   -999.0, 9,   -999.0,  -999.00, 9,   -999.0,   1.5158, 27.7441,   1.7249, 2, 9, 0.42, 0.14, 0.01, 0.016,  -999.00, 9, -999.00, -999.00, 9, -999.00
49NZ20071122, P14N, 158, 1, 13, X12019, 2, 20071206, 1019, -3.7483, 178.9978, 5545,   3079.1, 2,   1.6630, 2,  34.6750, 2,  34.6746, 2,    144.7, 2,    144.2, 2,   137.48, 2,    36.64, 2,     0.01, 2,     2.56, 2,    0.000, 2,    0.000, 2,    0.000, 2, -999.000, 9,   -999.0, 9,   -999.0, 9, -999.0000,   -999.00,   -999.0, 9,   -999.0,  -999.00, 9,   -999.0,   1.4350, 27.7540,   1.6630, 2, 9, 0.42, 0.14, 0.01, 0.016,  -999.00, 9, -999.00, -999.00, 9, -999.00
49NZ20071122, P14N, 158, 1, 12, X12040, 2, 20071206, 1019, -3.7483, 178.9978, 5545,   3329.0, 2,   1.5614, 2,  34.6815, 2,  34.6814, 2,    151.5, 2,    151.6, 2,   136.62, 2,    36.03, 2,     0.01, 2,     2.51, 2, -999.000, 9, -999.000, 9, -999.000, 9, -999.000, 9,   -999.0, 9,   -999.0, 9, -999.0000,   -999.00,   -999.0, 9,   -999.0,  -999.00, 9,   -999.0,   1.3110, 27.7681,   1.5613, 2, 9, 0.42, 0.13, 0.01, 0.016,  -999.00, 9, -999.00, -999.00, 9, -999.00
49NZ20071122, P14N, 158, 1, 11, X12047, 2, 20071206, 1019, -3.7483, 178.9978, 5545,   3579.8, 2,   1.4796, 2,  34.6865, 2,  34.6861, 2,    157.3, 2,    157.0, 2,   136.59, 2,    35.76, 2,     0.01, 2,     2.49, 2, -999.000, 9, -999.000, 9, -999.000, 9, -999.000, 9,   -999.0, 9,   -999.0, 9, -999.0000,   -999.00,   -999.0, 9,   -999.0,  -999.00, 9,   -999.0,   1.2058, 27.7795,   1.4796, 2, 9, 0.42, 0.13, 0.01, 0.016,  -999.00, 9, -999.00, -999.00, 9, -999.00
49NZ20071122, P14N, 158, 1, 10, X12012, 2, 20071206, 1019, -3.7483, 178.9978, 5545,   3830.0, 2,   1.4227, 2,  34.6917, 2,  34.6915, 2,    164.8, 2,    163.9, 2,   134.94, 2,    35.34, 2,     0.01, 2,     2.46, 2,    0.000, 2,    0.000, 2,    0.000, 2, -999.000, 9,   -999.0, 9,   -999.0, 9, -999.0000,   -999.00,   -999.0, 9,   -999.0,  -999.00, 9,   -999.0,   1.1242, 27.7893,   1.4227, 2, 9, 0.42, 0.13, 0.01, 0.016,  -999.00, 9, -999.00, -999.00, 9, -999.00
49NZ20071122, P14N, 158, 1, 9, X12015, 2, 20071206, 1019, -3.7483, 178.9978, 5545,   4081.8, 2,   1.3657, 2,  34.6958, 2,  34.6957, 6,    171.9, 2,    171.4, 2,   132.21, 2,    34.75, 2,     0.01, 2,     2.41, 2,    0.000, 2,    0.000, 2,    0.000, 2, -999.000, 9,   -999.0, 9,   -999.0, 9, -999.0000,   -999.00,   -999.0, 9,   -999.0,  -999.00, 9,   -999.0,   1.0416, 27.7981,   1.3657, 2, 9, 0.41, 0.13, 0.01, 0.016,  -999.00, 9, -999.00, -999.00, 9, -999.00
49NZ20071122, P14N, 158, 1, 8, X12046, 2, 20071206, 1019, -3.7483, 178.9978, 5545,   4328.3, 2,   1.3076, 2,  34.6999, 2,  34.6997, 2,    181.0, 2,    180.5, 2,   127.48, 2,    34.09, 2,     0.01, 2,     2.37, 2,    0.000, 2,    0.000, 2,    0.000, 2, -999.000, 9,   -999.0, 9,   -999.0, 9, -999.0000,   -999.00,   -999.0, 9,   -999.0,  -999.00, 9,   -999.0,   0.9580, 27.8070,   1.3076, 2, 9, 0.40, 0.13, 0.01, 0.016,  -999.00, 9, -999.00, -999.00, 9, -999.00
49NZ20071122, P14N, 158, 1, 7, X12044, 2, 20071206, 1019, -3.7483, 178.9978, 5545,   4580.9, 2,   1.2655, 2,  34.7034, 2,  34.7032, 2,    188.8, 2,    188.2, 2,   123.41, 2,    33.56, 2,     0.00, 2,     2.33, 2,    0.001, 2,    0.001, 2,    0.000, 2, -999.000, 9,   -999.0, 9,   -999.0, 9, -999.0000,   -999.00,   -999.0, 9,   -999.0,  -999.00, 9,   -999.0,   0.8884, 27.8143,   1.2656, 2, 9, 0.39, 0.13, 0.01, 0.016,  -999.00, 9, -999.00, -999.00, 9, -999.00
49NZ20071122, P14N, 158, 1, 6, X12048, 2, 20071206, 1019, -3.7483, 178.9978, 5545,   4829.5, 2,   1.2407, 2,  34.7055, 2,  34.7057, 2,    193.9, 2,    193.8, 2,   120.56, 2,    33.04, 2,     0.01, 2,     2.29, 2,    0.004, 2,    0.003, 2,    0.000, 2, -999.000, 9,   -999.0, 9,   -999.0, 9, -999.0000,   -999.00,   -999.0, 9,   -999.0,  -999.00, 9,   -999.0,   0.8354, 27.8195,   1.2407, 2, 9, 0.38, 0.13, 0.01, 0.016,  -999.00, 9, -999.00, -999.00, 9, -999.00
49NZ20071122, P14N, 158, 1, 5, X12014, 2, 20071206, 1019, -3.7483, 178.9978, 5545,   5078.9, 2,   1.2489, 2,  34.7063, 2,  34.7065, 2,    195.6, 2,    195.5, 2,   120.03, 2,    32.93, 2,     0.01, 2,     2.29, 2,    0.007, 2,    0.005, 2,    0.000, 2, -999.000, 9,   -999.0, 9,   -999.0, 9, -999.0000,   -999.00,   -999.0, 9,   -999.0,  -999.00, 9,   -999.0,   0.8135, 27.8215,   1.2488, 2, 9, 0.38, 0.12, 0.01, 0.016,  -999.00, 9, -999.00, -999.00, 9, -999.00
49NZ20071122, P14N, 158, 1, 4, X12006, 2, 20071206, 1019, -3.7483, 178.9978, 5545,   5330.0, 2,   1.2775, 2,  34.7063, 2,  34.7066, 2,    195.9, 2,    195.7, 2,   119.97, 2,    32.93, 2,     0.01, 2,     2.29, 2,    0.007, 2,    0.004, 2,    0.000, 2, -999.000, 9,   -999.0, 9,   -999.0, 9, -999.0000,   -999.00,   -999.0, 9,   -999.0,  -999.00, 9,   -999.0,   0.8103, 27.8217,   1.2775, 2, 9, 0.38, 0.12, 0.01, 0.016,  -999.00, 9, -999.00, -999.00, 9, -999.00
49NZ20071122, P14N, 158, 1, 3, X12013, 2, 20071206, 1019, -3.7483, 178.9978, 5545,   5578.2, 2,   1.3090, 2,  34.7063, 2,  34.7074, 3,    196.4, 2,    195.7, 2,   119.96, 2,    32.89, 2,     0.01, 2,     2.29, 2,    0.007, 2,    0.003, 2,    0.000, 2, -999.000, 9,   -999.0, 9,   -999.0, 9, -999.0000,   -999.00,   -999.0, 9,   -999.0,  -999.00, 9,   -999.0,   0.8093, 27.8218,   1.3090, 2, 9, 0.38, 0.12, 0.01, 0.016,  -999.00, 9, -999.00, -999.00, 9, -999.00
49NZ20071122, P14N, 158, 1, 2, X12002, 9, 20071206, 1019, -3.7483, 178.9978, 5545,     10.6, 2,  27.8638, 2,  35.6788, 2, -999.0000, 9,    202.8, 2,   -999.0, 9,  -999.00, 9,  -999.00, 9,  -999.00, 9,  -999.00, 9, -999.000, 9, -999.000, 9, -999.000, 9, -999.000, 9,   -999.0, 9,   -999.0, 9, -999.0000,   -999.00,   -999.0, 9,   -999.0,  -999.00, 9,   -999.0,  27.8613, 22.9506,  27.8638, 2, 9, -999.00, -999.00, -999.00, -999.000,  -999.00, 9, -999.00, -999.00, 9, -999.00
49NZ20071122, P14N, 158, 1, 1, X12001, 2, 20071206, 1019, -3.7483, 178.9978, 5545,   5636.0, 2,   1.3166, 2,  34.7062, 2,  34.7065, 6,    196.3, 2,    195.7, 2,   120.10, 2,    32.93, 2,     0.01, 2,     2.29, 2,    0.008, 2,    0.002, 2,    0.000, 2, -999.000, 9,   -999.0, 9,   -999.0, 9, -999.0000,   -999.00,   -999.0, 9,   -999.0,  -999.00, 9,   -999.0,   0.8093, 27.8217,   1.3166, 2, 9, 0.38, 0.13, 0.01, 0.016,  -999.00, 9, -999.00, -999.00, 9, -999.00