BOTTLE,20220820CCHSIOAMB
EXPOCODE,SECT_ID,STNNBR,CASTNO,SAMPNO,BTLNBR,BTLNBR_FLAG_W,DATE,TIME,LATITUDE,LONGITUDE,DEPTH,CTDPRS,CTDPRS_FLAG_W,CTDTMP,CTDTMP_FLAG_W,CTDSAL,CTDSAL_FLAG_W,SALNTY,SALNTY_FLAG_W,CTDOXY,CTDOXY_FLAG_W,OXYGEN,OXYGEN_FLAG_W,SILCAT,SILCAT_FLAG_W,NITRAT,NITRAT_FLAG_W,NITRIT,NITRIT_FLAG_W,PHSPHT,PHSPHT_FLAG_W,CFC-11,CFC-11_FLAG_W,CFC-12,CFC-12_FLAG_W,CFC113,CFC113_FLAG_W,CCL4,CCL4_FLAG_W,TCARBN,TCARBN_FLAG_W,ALKALI,ALKALI_FLAG_W,PH_TOT,PH_TMP,DELC14,DELC14_FLAG_W,C14ERR,DELC13,DELC13_FLAG_W,C13ERR,THETA,SIG0,SBE35,SBE35_FLAG_W,PH_TOT_FLAG_W,SILUNC,NRAUNC,NRIUNC,PHPUNC,CS-137,CS-137_FLAG_W,CS137ER,PLUTO,PLUTO_FLAG_W,PLUTOER
,,,,,,,,,,,METERS,DBAR,,ITS-90,,PSS-78,,PSS-78,,UMOL/KG,,UMOL/KG,,UMOL/KG,,UMOL/KG,,UMOL/KG,,UMOL/KG,,PMOL/KG,,PMOL/KG,,PMOL/KG,,PMOL/KG,,UMOL/KG,,UMOL/KG,,,DEG C,/MILLE,,/MILLE,/MILLE,,/MILLE,DEG C,KG/M^3,ITS-90,,,UMOL/KG,UMOL/KG,UMOL/KG,UMOL/KG,DM/.1MG,,BQ/M^3,MBQ/M^3,,MBQ/M^3
49NZ20071122, P14N, 182, 1, 36, X12042, 2, 20071211, 2108, -14.5000, 178.9968, 2245,     10.5, 2,  28.8895, 2,  34.4987, 2,  34.4985, 2,    196.3, 2,    197.1, 2,     0.65, 2,     0.05, 2,     0.01, 2,     0.14, 2,    1.479, 2,    0.928, 2,    0.290, 4,    1.382, 4,   -999.0, 9,   -999.0, 9, -999.0000,   -999.00,   -999.0, 9,   -999.0,  -999.00, 9,   -999.0,  28.8870, 21.7254,  28.8896, 2, 9, 0.12, 0.03, 0.01, 0.018,  -999.00, 9, -999.00, -999.00, 9, -999.00
49NZ20071122, P14N, 182, 1, 35, X12041, 2, 20071211, 2108, -14.5000, 178.9968, 2245,     49.9, 2,  28.7143, 2,  34.7175, 2,  34.7488, 2,    198.3, 2,    198.6, 2,     0.63, 2,     0.05, 2,     0.00, 2,     0.15, 2,    1.497, 2,    0.933, 2,    0.361, 4,    1.259, 4,   -999.0, 9,   -999.0, 9, -999.0000,   -999.00,   -999.0, 9,   -999.0,  -999.00, 9,   -999.0,  28.7023, 21.9511,  28.7288, 2, 9, 0.12, 0.03, 0.01, 0.018,  -999.00, 9, -999.00, -999.00, 9, -999.00
49NZ20071122, P14N, 182, 1, 34, X12016, 2, 20071211, 2108, -14.5000, 178.9968, 2245,     99.6, 2,  26.7849, 2,  35.6396, 2,  35.6484, 2,    195.7, 2,    194.3, 2,     0.59, 2,     0.03, 2,     0.01, 2,     0.18, 2,    1.652, 2,    1.017, 2,    0.317, 4,    0.683, 4,   -999.0, 9,   -999.0, 9, -999.0000,   -999.00,   -999.0, 9,   -999.0,  -999.00, 9,   -999.0,  26.7621, 23.2755,  26.7852, 2, 9, 0.12, 0.03, 0.01, 0.017,  -999.00, 9, -999.00, -999.00, 9, -999.00
49NZ20071122, P14N, 182, 1, 33, X12033, 2, 20071211, 2108, -14.5000, 178.9968, 2245,    149.6, 2,  24.8024, 2,  36.0095, 2,  36.0195, 2,    162.4, 2,    163.3, 2,     0.71, 2,     1.65, 2,     0.07, 2,     0.39, 2,    1.807, 2,    1.085, 2,    0.148, 4,    0.261, 4,   -999.0, 9,   -999.0, 9, -999.0000,   -999.00,   -999.0, 9,   -999.0,  -999.00, 9,   -999.0,  24.7700, 24.1744,  24.8034, 2, 9, 0.12, 0.04, 0.01, 0.013,  -999.00, 9, -999.00, -999.00, 9, -999.00
49NZ20071122, P14N, 182, 1, 32, X12038, 2, 20071211, 2108, -14.5000, 178.9968, 2245,    201.6, 2,  22.0194, 2,  35.8707, 2,  35.8684, 2,    160.9, 2,    161.1, 2,     0.81, 2,     3.94, 2,     0.02, 2,     0.50, 2,    1.999, 2,    1.182, 2,    0.018, 2,    0.108, 4,   -999.0, 9,   -999.0, 9, -999.0000,   -999.00,   -999.0, 9,   -999.0,  -999.00, 9,   -999.0,  21.9793, 24.8854,  22.0196, 2, 9, 0.12, 0.04, 0.01, 0.013,  -999.00, 9, -999.00, -999.00, 9, -999.00
49NZ20071122, P14N, 182, 1, 31, X12003, 2, 20071211, 2108, -14.5000, 178.9968, 2245,    249.7, 2,  19.9178, 2,  35.6715, 2,  35.6604, 6,    166.1, 2,    165.9, 2,     1.18, 2,     5.19, 2,     0.01, 2,     0.55, 2,    2.141, 2,    1.233, 2,    0.040, 2,    0.117, 4,   -999.0, 9,   -999.0, 9, -999.0000,   -999.00,   -999.0, 9,   -999.0,  -999.00, 9,   -999.0,  19.8715, 25.3080,  19.9196, 2, 9, 0.12, 0.05, 0.01, 0.013,  -999.00, 9, -999.00, -999.00, 9, -999.00
49NZ20071122, P14N, 182, 1, 30, X12008, 2, 20071211, 2108, -14.5000, 178.9968, 2245,    329.7, 2,  15.0035, 2,  35.1440, 2,  35.1400, 2,    157.9, 2,    158.3, 2,     4.57, 2,    11.89, 2,     0.01, 2,     1.01, 2,    2.002, 2,    1.081, 2,    0.023, 2,    0.212, 4,   -999.0, 9,   -999.0, 9, -999.0000,   -999.00,   -999.0, 9,   -999.0,  -999.00, 9,   -999.0,  14.9533, 26.0933,  15.0076, 2, 9, 0.13, 0.07, 0.01, 0.013,  -999.00, 9, -999.00, -999.00, 9, -999.00
49NZ20071122, P14N, 182, 1, 29, X12035, 2, 20071211, 2108, -14.5000, 178.9968, 2245,    429.2, 2,  10.5535, 2,  34.7030, 2,  34.6858, 2,    173.0, 2,    173.5, 2,     8.44, 2,    19.30, 2,     0.01, 2,     1.45, 2,    1.723, 2,    0.868, 2,    0.021, 2,    0.525, 4,   -999.0, 9,   -999.0, 9, -999.0000,   -999.00,   -999.0, 9,   -999.0,  -999.00, 9,   -999.0,  10.5016, 26.6331,  10.5506, 2, 9, 0.14, 0.09, 0.01, 0.014,  -999.00, 9, -999.00, -999.00, 9, -999.00
49NZ20071122, P14N, 182, 1, 28, X12034, 2, 20071211, 2108, -14.5000, 178.9968, 2245,    528.3, 2,   7.7733, 2,  34.4817, 2,  34.4765, 6,    179.5, 2,    180.4, 2,    14.63, 2,    25.28, 2,     0.00, 2,     1.81, 2,    1.165, 2,    0.576, 2,    0.017, 2,    0.684, 4,   -999.0, 9,   -999.0, 9, -999.0000,   -999.00,   -999.0, 9,   -999.0,  -999.00, 9,   -999.0,   7.7200, 26.9081,   7.7728, 2, 9, 0.15, 0.10, 0.01, 0.015,  -999.00, 9, -999.00, -999.00, 9, -999.00
49NZ20071122, P14N, 182, 1, 27, X12049, 2, 20071211, 2108, -14.5000, 178.9968, 2245,    629.4, 2,   5.9984, 2,  34.3921, 2,  34.3918, 2,    185.9, 2,    185.6, 2,    23.02, 2,    28.96, 2,     0.00, 2,     2.03, 2,    0.638, 2,    0.320, 2,    0.011, 2,    0.330, 4,   -999.0, 9,   -999.0, 9, -999.0000,   -999.00,   -999.0, 9,   -999.0,  -999.00, 9,   -999.0,   5.9430, 27.0795,   6.0000, 2, 9, 0.17, 0.11, 0.01, 0.015,  -999.00, 9, -999.00, -999.00, 9, -999.00
49NZ20071122, P14N, 182, 1, 26, X12032, 2, 20071211, 2108, -14.5000, 178.9968, 2245,    729.3, 2,   5.2056, 2,  34.4173, 2,  34.4170, 2,    171.3, 2,    169.8, 2,    36.76, 2,    31.82, 2,     0.01, 2,     2.22, 2,    0.252, 2,    0.134, 2,    0.006, 2,    0.316, 4,   -999.0, 9,   -999.0, 9, -999.0000,   -999.00,   -999.0, 9,   -999.0,  -999.00, 9,   -999.0,   5.1452, 27.1964,   5.2061, 2, 9, 0.20, 0.12, 0.01, 0.016,  -999.00, 9, -999.00, -999.00, 9, -999.00
49NZ20071122, P14N, 182, 1, 25, X12043, 2, 20071211, 2108, -14.5000, 178.9968, 2245,    830.1, 2,   4.5997, 2,  34.4272, 2,  34.4277, 2,    166.4, 2,    165.6, 2,    45.61, 2,    33.11, 2,     0.00, 2,     2.31, 2,    0.137, 2,    0.073, 2,    0.000, 2,    0.185, 4,   -999.0, 9,   -999.0, 9, -999.0000,   -999.00,   -999.0, 9,   -999.0,  -999.00, 9,   -999.0,   4.5342, 27.2735,   4.6004, 2, 9, 0.22, 0.13, 0.01, 0.016,  -999.00, 9, -999.00, -999.00, 9, -999.00
49NZ20071122, P14N, 182, 1, 24, X12030, 2, 20071211, 2108, -14.5000, 178.9968, 2245,    931.2, 2,   4.0012, 2,  34.4539, 2,  34.4541, 2,    163.1, 2,    162.1, 2,    56.64, 2,    33.76, 2,     0.01, 2,     2.36, 2,    0.066, 2,    0.037, 2,    0.008, 2,    0.262, 4,   -999.0, 9,   -999.0, 9, -999.0000,   -999.00,   -999.0, 9,   -999.0,  -999.00, 9,   -999.0,   3.9313, 27.3588,   4.0015, 2, 9, 0.24, 0.13, 0.01, 0.016,  -999.00, 9, -999.00, -999.00, 9, -999.00
49NZ20071122, P14N, 182, 1, 23, X12027, 2, 20071211, 2108, -14.5000, 178.9968, 2245,   1069.9, 2,   3.6132, 2,  34.4948, 2,  34.4963, 6,    155.1, 2,    155.3, 2,    69.31, 2,    34.75, 2,     0.00, 2,     2.43, 2,    0.029, 2,    0.016, 2,    0.000, 2,    0.304, 4,   -999.0, 9,   -999.0, 9, -999.0000,   -999.00,   -999.0, 9,   -999.0,  -999.00, 9,   -999.0,   3.5349, 27.4311,   3.6143, 2, 9, 0.27, 0.13, 0.01, 0.016,  -999.00, 9, -999.00, -999.00, 9, -999.00
49NZ20071122, P14N, 182, 1, 22, X12028, 2, 20071211, 2108, -14.5000, 178.9968, 2245,   1270.1, 2,   3.1478, 2,  34.5558, 2,  34.5568, 2,    144.9, 2,    144.0, 2,    88.31, 2,    35.83, 2,     0.00, 2,     2.52, 2,    0.008, 2,    0.009, 2,    0.000, 2,    0.032, 4,   -999.0, 9,   -999.0, 9, -999.0000,   -999.00,   -999.0, 9,   -999.0,  -999.00, 9,   -999.0,   3.0573, 27.5253,   3.1478, 2, 9, 0.31, 0.13, 0.01, 0.016,  -999.00, 9, -999.00, -999.00, 9, -999.00
49NZ20071122, P14N, 182, 1, 21, X12009, 2, 20071211, 2108, -14.5000, 178.9968, 2245,   1468.9, 2,   2.8103, 2,  34.5830, 2,  34.5836, 2,    143.4, 2,    143.3, 2,    97.94, 2,    36.05, 2,     0.00, 2,     2.53, 2,    0.002, 2,    0.002, 2,    0.000, 2,    0.000, 4,   -999.0, 9,   -999.0, 9, -999.0000,   -999.00,   -999.0, 9,   -999.0,  -999.00, 9,   -999.0,   2.7072, 27.5785,   2.8105, 2, 9, 0.33, 0.13, 0.01, 0.016,  -999.00, 9, -999.00, -999.00, 9, -999.00
49NZ20071122, P14N, 182, 1, 20, X12026, 2, 20071211, 2108, -14.5000, 178.9968, 2245,   1670.8, 2,   2.5804, 2,  34.6012, 2,  34.6016, 6,    144.0, 2,    143.9, 2,   104.43, 2,    36.09, 2,     0.00, 2,     2.54, 2,    0.000, 2,    0.001, 2,    0.000, 2,    0.000, 4,   -999.0, 9,   -999.0, 9, -999.0000,   -999.00,   -999.0, 9,   -999.0,  -999.00, 9,   -999.0,   2.4634, 27.6141,   2.5806, 2, 9, 0.35, 0.13, 0.01, 0.016,  -999.00, 9, -999.00, -999.00, 9, -999.00
49NZ20071122, P14N, 182, 1, 19, X12025, 2, 20071211, 2108, -14.5000, 178.9968, 2245,   1868.4, 2,   2.4085, 2,  34.6168, 2,  34.6169, 2,    144.0, 2,    143.9, 2,   109.89, 2,    36.11, 2,     0.00, 2,     2.54, 2,    0.000, 2,    0.000, 2,    0.000, 2,    0.000, 4,   -999.0, 9,   -999.0, 9, -999.0000,   -999.00,   -999.0, 9,   -999.0,  -999.00, 9,   -999.0,   2.2772, 27.6422,   2.4086, 2, 9, 0.36, 0.13, 0.01, 0.016,  -999.00, 9, -999.00, -999.00, 9, -999.00
49NZ20071122, P14N, 182, 1, 18, X12024, 2, 20071211, 2108, -14.5000, 178.9968, 2245,   2070.4, 2,   2.2372, 2,  34.6321, 2,  34.6323, 6,    144.9, 2,    144.7, 2,   115.24, 2,    36.02, 2,     0.00, 2,     2.54, 2,    0.000, 2,    0.000, 2,    0.000, 2,    0.000, 4,   -999.0, 9,   -999.0, 9, -999.0000,   -999.00,   -999.0, 9,   -999.0,  -999.00, 9,   -999.0,   2.0911, 27.6697,   2.2372, 2, 9, 0.37, 0.13, 0.01, 0.016,  -999.00, 9, -999.00, -999.00, 9, -999.00
49NZ20071122, P14N, 182, 1, 17, X12023, 9, 20071211, 2108, -14.5000, 178.9968, 2245,     10.4, 2,  28.8953, 2,  34.4985, 2, -999.0000, 9,    197.2, 2,   -999.0, 9,  -999.00, 9,  -999.00, 9,  -999.00, 9,  -999.00, 9, -999.000, 9, -999.000, 9, -999.000, 9, -999.000, 9,   -999.0, 9,   -999.0, 9, -999.0000,   -999.00,   -999.0, 9,   -999.0,  -999.00, 9,   -999.0,  28.8928, 21.7233,  28.8960, 2, 9, -999.00, -999.00, -999.00, -999.000,  -999.00, 9, -999.00, -999.00, 9, -999.00
49NZ20071122, P14N, 182, 1, 16, X12022, 9, 20071211, 2108, -14.5000, 178.9968, 2245,     50.3, 2,  28.7490, 2,  34.7014, 2, -999.0000, 9,    198.1, 2,   -999.0, 9,  -999.00, 9,  -999.00, 9,  -999.00, 9,  -999.00, 9, -999.000, 9, -999.000, 9, -999.000, 9, -999.000, 9,   -999.0, 9,   -999.0, 9, -999.0000,   -999.00,   -999.0, 9,   -999.0,  -999.00, 9,   -999.0,  28.7369, 21.9275,  28.7460, 2, 9, -999.00, -999.00, -999.00, -999.000,  -999.00, 9, -999.00, -999.00, 9, -999.00
49NZ20071122, P14N, 182, 1, 15, X12021, 9, 20071211, 2108, -14.5000, 178.9968, 2245,    100.0, 2,  26.7954, 2,  35.6505, 2, -999.0000, 9,    195.7, 2,   -999.0, 9,  -999.00, 9,  -999.00, 9,  -999.00, 9,  -999.00, 9, -999.000, 9, -999.000, 9, -999.000, 9, -999.000, 9,   -999.0, 9,   -999.0, 9, -999.0000,   -999.00,   -999.0, 9,   -999.0,  -999.00, 9,   -999.0,  26.7725, 23.2804,  26.7951, 2, 9, -999.00, -999.00, -999.00, -999.000,  -999.00, 9, -999.00, -999.00, 9, -999.00
49NZ20071122, P14N, 182, 1, 14, X12020, 9, 20071211, 2108, -14.5000, 178.9968, 2245,    149.8, 2,  24.7767, 2,  36.0124, 2, -999.0000, 9,    162.0, 2,   -999.0, 9,  -999.00, 9,  -999.00, 9,  -999.00, 9,  -999.00, 9, -999.000, 9, -999.000, 9, -999.000, 9, -999.000, 9,   -999.0, 9,   -999.0, 9, -999.0000,   -999.00,   -999.0, 9,   -999.0,  -999.00, 9,   -999.0,  24.7443, 24.1844,  24.7986, 2, 9, -999.00, -999.00, -999.00, -999.000,  -999.00, 9, -999.00, -999.00, 9, -999.00
49NZ20071122, P14N, 182, 1, 13, X12019, 9, 20071211, 2108, -14.5000, 178.9968, 2245,    200.9, 2,  22.0257, 2,  35.8693, 2, -999.0000, 9,    160.5, 2,   -999.0, 9,  -999.00, 9,  -999.00, 9,  -999.00, 9,  -999.00, 9, -999.000, 9, -999.000, 9, -999.000, 9, -999.000, 9,   -999.0, 9,   -999.0, 9, -999.0000,   -999.00,   -999.0, 9,   -999.0,  -999.00, 9,   -999.0,  21.9857, 24.8825,  22.0256, 2, 9, -999.00, -999.00, -999.00, -999.000,  -999.00, 9, -999.00, -999.00, 9, -999.00
49NZ20071122, P14N, 182, 1, 12, X12040, 9, 20071211, 2108, -14.5000, 178.9968, 2245,    249.6, 2,  19.9142, 2,  35.6696, 2, -999.0000, 9,    166.1, 2,   -999.0, 9,  -999.00, 9,  -999.00, 9,  -999.00, 9,  -999.00, 9, -999.000, 9, -999.000, 9, -999.000, 9, -999.000, 9,   -999.0, 9,   -999.0, 9, -999.0000,   -999.00,   -999.0, 9,   -999.0,  -999.00, 9,   -999.0,  19.8680, 25.3075,  19.9130, 2, 9, -999.00, -999.00, -999.00, -999.000,  -999.00, 9, -999.00, -999.00, 9, -999.00
49NZ20071122, P14N, 182, 1, 11, X12047, 9, 20071211, 2108, -14.5000, 178.9968, 2245,    328.7, 2,  15.0356, 2,  35.1466, 2, -999.0000, 9,    157.9, 2,   -999.0, 9,  -999.00, 9,  -999.00, 9,  -999.00, 9,  -999.00, 9, -999.000, 9, -999.000, 9, -999.000, 9, -999.000, 9,   -999.0, 9,   -999.0, 9, -999.0000,   -999.00,   -999.0, 9,   -999.0,  -999.00, 9,   -999.0,  14.9855, 26.0883,  15.0372, 2, 9, -999.00, -999.00, -999.00, -999.000,  -999.00, 9, -999.00, -999.00, 9, -999.00
49NZ20071122, P14N, 182, 1, 10, X12012, 9, 20071211, 2108, -14.5000, 178.9968, 2245,    429.4, 2,  10.5210, 2,  34.7006, 2, -999.0000, 9,    173.1, 2,   -999.0, 9,  -999.00, 9,  -999.00, 9,  -999.00, 9,  -999.00, 9, -999.000, 9, -999.000, 9, -999.000, 9, -999.000, 9,   -999.0, 9,   -999.0, 9, -999.0000,   -999.00,   -999.0, 9,   -999.0,  -999.00, 9,   -999.0,  10.4692, 26.6370,  10.5264, 2, 9, -999.00, -999.00, -999.00, -999.000,  -999.00, 9, -999.00, -999.00, 9, -999.00
49NZ20071122, P14N, 182, 1, 9, X12015, 9, 20071211, 2108, -14.5000, 178.9968, 2245,    527.8, 2,   7.7557, 2,  34.4806, 2, -999.0000, 9,    179.5, 2,   -999.0, 9,  -999.00, 9,  -999.00, 9,  -999.00, 9,  -999.00, 9, -999.000, 9, -999.000, 9, -999.000, 9, -999.000, 9,   -999.0, 9,   -999.0, 9, -999.0000,   -999.00,   -999.0, 9,   -999.0,  -999.00, 9,   -999.0,   7.7025, 26.9098,   7.7613, 2, 9, -999.00, -999.00, -999.00, -999.000,  -999.00, 9, -999.00, -999.00, 9, -999.00
49NZ20071122, P14N, 182, 1, 8, X12046, 9, 20071211, 2108, -14.5000, 178.9968, 2245,    628.7, 2,   6.0050, 2,  34.3915, 2, -999.0000, 9,    186.0, 2,   -999.0, 9,  -999.00, 9,  -999.00, 9,  -999.00, 9,  -999.00, 9, -999.000, 9, -999.000, 9, -999.000, 9, -999.000, 9,   -999.0, 9,   -999.0, 9, -999.0000,   -999.00,   -999.0, 9,   -999.0,  -999.00, 9,   -999.0,   5.9496, 27.0782,   6.0048, 2, 9, -999.00, -999.00, -999.00, -999.000,  -999.00, 9, -999.00, -999.00, 9, -999.00
49NZ20071122, P14N, 182, 1, 7, X12044, 9, 20071211, 2108, -14.5000, 178.9968, 2245,    728.8, 2,   5.2072, 2,  34.4167, 2, -999.0000, 9,    171.3, 2,   -999.0, 9,  -999.00, 9,  -999.00, 9,  -999.00, 9,  -999.00, 9, -999.000, 9, -999.000, 9, -999.000, 9, -999.000, 9,   -999.0, 9,   -999.0, 9, -999.0000,   -999.00,   -999.0, 9,   -999.0,  -999.00, 9,   -999.0,   5.1469, 27.1957,   5.2069, 2, 9, -999.00, -999.00, -999.00, -999.000,  -999.00, 9, -999.00, -999.00, 9, -999.00
49NZ20071122, P14N, 182, 1, 6, X12048, 9, 20071211, 2108, -14.5000, 178.9968, 2245,    828.9, 2,   4.6016, 2,  34.4268, 2, -999.0000, 9,    166.4, 2,   -999.0, 9,  -999.00, 9,  -999.00, 9,  -999.00, 9,  -999.00, 9, -999.000, 9, -999.000, 9, -999.000, 9, -999.000, 9,   -999.0, 9,   -999.0, 9, -999.0000,   -999.00,   -999.0, 9,   -999.0,  -999.00, 9,   -999.0,   4.5362, 27.2730,   4.6011, 2, 9, -999.00, -999.00, -999.00, -999.000,  -999.00, 9, -999.00, -999.00, 9, -999.00
49NZ20071122, P14N, 182, 1, 5, X12014, 9, 20071211, 2108, -14.5000, 178.9968, 2245,    929.4, 2,   4.0016, 2,  34.4537, 2, -999.0000, 9,    163.2, 2,   -999.0, 9,  -999.00, 9,  -999.00, 9,  -999.00, 9,  -999.00, 9, -999.000, 9, -999.000, 9, -999.000, 9, -999.000, 9,   -999.0, 9,   -999.0, 9, -999.0000,   -999.00,   -999.0, 9,   -999.0,  -999.00, 9,   -999.0,   3.9318, 27.3586,   4.0019, 2, 9, -999.00, -999.00, -999.00, -999.000,  -999.00, 9, -999.00, -999.00, 9, -999.00
49NZ20071122, P14N, 182, 1, 4, X12006, 9, 20071211, 2108, -14.5000, 178.9968, 2245,   1070.1, 2,   3.6114, 2,  34.4948, 2, -999.0000, 9,    155.1, 2,   -999.0, 9,  -999.00, 9,  -999.00, 9,  -999.00, 9,  -999.00, 9, -999.000, 9, -999.000, 9, -999.000, 9, -999.000, 9,   -999.0, 9,   -999.0, 9, -999.0000,   -999.00,   -999.0, 9,   -999.0,  -999.00, 9,   -999.0,   3.5331, 27.4313,   3.6116, 2, 9, -999.00, -999.00, -999.00, -999.000,  -999.00, 9, -999.00, -999.00, 9, -999.00
49NZ20071122, P14N, 182, 1, 3, X12013, 9, 20071211, 2108, -14.5000, 178.9968, 2245,   1269.5, 2,   3.1487, 2,  34.5557, 2, -999.0000, 9,    144.9, 2,   -999.0, 9,  -999.00, 9,  -999.00, 9,  -999.00, 9,  -999.00, 9, -999.000, 9, -999.000, 9, -999.000, 9, -999.000, 9,   -999.0, 9,   -999.0, 9, -999.0000,   -999.00,   -999.0, 9,   -999.0,  -999.00, 9,   -999.0,   3.0583, 27.5251,   3.1494, 2, 9, -999.00, -999.00, -999.00, -999.000,  -999.00, 9, -999.00, -999.00, 9, -999.00
49NZ20071122, P14N, 182, 1, 2, X12002, 9, 20071211, 2108, -14.5000, 178.9968, 2245,   1468.3, 2,   2.8106, 2,  34.5827, 2, -999.0000, 9,    143.4, 2,   -999.0, 9,  -999.00, 9,  -999.00, 9,  -999.00, 9,  -999.00, 9, -999.000, 9, -999.000, 9, -999.000, 9, -999.000, 9,   -999.0, 9,   -999.0, 9, -999.0000,   -999.00,   -999.0, 9,   -999.0,  -999.00, 9,   -999.0,   2.7075, 27.5782,   2.8100, 2, 9, -999.00, -999.00, -999.00, -999.000,  -999.00, 9, -999.00, -999.00, 9, -999.00
49NZ20071122, P14N, 182, 1, 1, X12001, 2, 20071211, 2108, -14.5000, 178.9968, 2245,   2303.4, 2,   2.0044, 2,  34.6499, 2,  34.6504, 6,    145.1, 2,    145.0, 2,   123.20, 2,    36.41, 2,     0.00, 2,     2.55, 2,    0.000, 2,    0.000, 2,    0.000, 2,    0.000, 4,   -999.0, 9,   -999.0, 9, -999.0000,   -999.00,   -999.0, 9,   -999.0,  -999.00, 9,   -999.0,   1.8417, 27.7036,   2.0038, 2, 9, 0.39, 0.13, 0.01, 0.016,  -999.00, 9, -999.00, -999.00, 9, -999.00