BOTTLE,20220820CCHSIOAMB
EXPOCODE,SECT_ID,STNNBR,CASTNO,SAMPNO,BTLNBR,BTLNBR_FLAG_W,DATE,TIME,LATITUDE,LONGITUDE,DEPTH,CTDPRS,CTDPRS_FLAG_W,CTDTMP,CTDTMP_FLAG_W,CTDSAL,CTDSAL_FLAG_W,SALNTY,SALNTY_FLAG_W,CTDOXY,CTDOXY_FLAG_W,OXYGEN,OXYGEN_FLAG_W,SILCAT,SILCAT_FLAG_W,NITRAT,NITRAT_FLAG_W,NITRIT,NITRIT_FLAG_W,PHSPHT,PHSPHT_FLAG_W,CFC-11,CFC-11_FLAG_W,CFC-12,CFC-12_FLAG_W,CFC113,CFC113_FLAG_W,CCL4,CCL4_FLAG_W,TCARBN,TCARBN_FLAG_W,ALKALI,ALKALI_FLAG_W,PH_TOT,PH_TMP,DELC14,DELC14_FLAG_W,C14ERR,DELC13,DELC13_FLAG_W,C13ERR,THETA,SIG0,SBE35,SBE35_FLAG_W,PH_TOT_FLAG_W,SILUNC,NRAUNC,NRIUNC,PHPUNC,CS-137,CS-137_FLAG_W,CS137ER,PLUTO,PLUTO_FLAG_W,PLUTOER
,,,,,,,,,,,METERS,DBAR,,ITS-90,,PSS-78,,PSS-78,,UMOL/KG,,UMOL/KG,,UMOL/KG,,UMOL/KG,,UMOL/KG,,UMOL/KG,,PMOL/KG,,PMOL/KG,,PMOL/KG,,PMOL/KG,,UMOL/KG,,UMOL/KG,,,DEG C,/MILLE,,/MILLE,/MILLE,,/MILLE,DEG C,KG/M^3,ITS-90,,,UMOL/KG,UMOL/KG,UMOL/KG,UMOL/KG,DM/.1MG,,BQ/M^3,MBQ/M^3,,MBQ/M^3
49NZ20071122, P14N, 167, 1, 36, X12042, 2, 20071208, 1636, -7.0008, 178.9940, 5467,     10.2, 2,  29.1007, 2,  34.9764, 2,  34.9776, 2,    194.4, 2,    194.4, 2,     0.88, 2,     0.01, 2,     0.01, 2,     0.19, 2,    1.444, 2,    0.891, 2,    0.187, 4,    1.616, 4,   -999.0, 9,   -999.0, 9, -999.0000,   -999.00,   -999.0, 9,   -999.0,  -999.00, 9,   -999.0,  29.0982, 22.0135,  29.1002, 2, 9, 0.12, 0.03, 0.01, 0.016,  -999.00, 9, -999.00, -999.00, 9, -999.00
49NZ20071122, P14N, 167, 1, 35, X12041, 2, 20071208, 1636, -7.0008, 178.9940, 5467,     49.9, 2,  29.3700, 2,  35.3584, 2,  35.3624, 2,    188.3, 2,    190.9, 2,     0.99, 2,     0.15, 2,     0.05, 2,     0.24, 2,    1.466, 2,    0.915, 2,    0.251, 4,    1.234, 4,   -999.0, 9,   -999.0, 9, -999.0000,   -999.00,   -999.0, 9,   -999.0,  -999.00, 9,   -999.0,  29.3578, 22.2130,  29.3695, 2, 9, 0.12, 0.03, 0.01, 0.015,  -999.00, 9, -999.00, -999.00, 9, -999.00
49NZ20071122, P14N, 167, 1, 34, X12016, 2, 20071208, 1636, -7.0008, 178.9940, 5467,    100.1, 2,  28.9582, 2,  35.5942, 2,  35.5959, 2,    189.7, 2,    190.8, 2,     1.03, 2,     1.25, 2,     0.09, 2,     0.36, 2,    1.468, 2,    0.906, 2,    0.150, 4,    1.464, 4,   -999.0, 9,   -999.0, 9, -999.0000,   -999.00,   -999.0, 9,   -999.0,  -999.00, 9,   -999.0,  28.9340, 22.5324,  28.9563, 2, 9, 0.12, 0.04, 0.01, 0.014,  -999.00, 9, -999.00, -999.00, 9, -999.00
49NZ20071122, P14N, 167, 1, 33, X12033, 2, 20071208, 1636, -7.0008, 178.9940, 5467,    150.7, 2,  26.4683, 2,  36.1400, 2,  36.1479, 2,    148.6, 2,    148.4, 2,     1.37, 2,     3.57, 2,     0.72, 2,     0.57, 2,    1.726, 2,    1.054, 2,    0.214, 4,    0.387, 4,   -999.0, 9,   -999.0, 9, -999.0000,   -999.00,   -999.0, 9,   -999.0,  -999.00, 9,   -999.0,  26.4341, 23.7571,  26.4748, 2, 9, 0.12, 0.04, 0.00, 0.013,  -999.00, 9, -999.00, -999.00, 9, -999.00
49NZ20071122, P14N, 167, 1, 32, X12038, 2, 20071208, 1636, -7.0008, 178.9940, 5467,    200.2, 2,  21.6348, 2,  35.9541, 2,  35.9470, 2,    145.9, 2,    145.1, 2,     1.83, 2,     7.35, 2,     0.02, 2,     0.79, 2,    2.037, 2,    1.192, 2,    0.066, 2,    0.410, 4,   -999.0, 9,   -999.0, 9, -999.0000,   -999.00,   -999.0, 9,   -999.0,  -999.00, 9,   -999.0,  21.5955, 25.0562,  21.6355, 2, 9, 0.12, 0.05, 0.01, 0.013,  -999.00, 9, -999.00, -999.00, 9, -999.00
49NZ20071122, P14N, 167, 1, 31, X12003, 2, 20071208, 1636, -7.0008, 178.9940, 5467,    251.7, 2,  16.1329, 2,  35.2791, 2,  35.2728, 6,    106.1, 2,    105.1, 2,     7.65, 2,    16.26, 2,     0.01, 2,     1.42, 2,    1.754, 2,    0.980, 2,    0.043, 2,    0.259, 4,   -999.0, 9,   -999.0, 9, -999.0000,   -999.00,   -999.0, 9,   -999.0,  -999.00, 9,   -999.0,  16.0927, 25.9411,  16.1359, 2, 9, 0.14, 0.08, 0.01, 0.014,  -999.00, 9, -999.00, -999.00, 9, -999.00
49NZ20071122, P14N, 167, 1, 30, X12008, 2, 20071208, 1636, -7.0008, 178.9940, 5467,    331.3, 2,  10.7521, 2,  34.7949, 2,  34.7925, 2,     87.8, 2,     88.2, 2,    19.35, 2,    27.06, 2,     0.01, 2,     2.03, 2,    0.749, 2,    0.396, 2,    0.011, 2,    0.136, 4,   -999.0, 9,   -999.0, 9, -999.0000,   -999.00,   -999.0, 9,   -999.0,  -999.00, 9,   -999.0,  10.7117, 26.6676,  10.7517, 2, 9, 0.16, 0.11, 0.01, 0.015,  -999.00, 9, -999.00, -999.00, 9, -999.00
49NZ20071122, P14N, 167, 1, 29, X12035, 2, 20071208, 1636, -7.0008, 178.9940, 5467,    431.1, 2,   8.3729, 2,  34.6349, 2,  34.6342, 2,    109.3, 2,    109.0, 2,    27.14, 2,    30.64, 2,     0.01, 2,     2.18, 2,    0.391, 2,    0.209, 2,    0.012, 2,    0.162, 4,   -999.0, 9,   -999.0, 9, -999.0000,   -999.00,   -999.0, 9,   -999.0,  -999.00, 9,   -999.0,   8.3276, 26.9375,   8.3793, 2, 9, 0.18, 0.12, 0.01, 0.015,  -999.00, 9, -999.00, -999.00, 9, -999.00
49NZ20071122, P14N, 167, 1, 28, X12034, 2, 20071208, 1636, -7.0008, 178.9940, 5467,    533.0, 2,   7.0299, 2,  34.5614, 2,  34.5618, 6,    111.3, 2,    111.0, 2,    35.66, 2,    33.23, 2,     0.01, 2,     2.35, 2,    0.205, 2,    0.106, 2,    0.004, 2,    0.136, 4,   -999.0, 9,   -999.0, 9, -999.0000,   -999.00,   -999.0, 9,   -999.0,  -999.00, 9,   -999.0,   6.9790, 27.0762,   7.0309, 2, 9, 0.20, 0.13, 0.01, 0.016,  -999.00, 9, -999.00, -999.00, 9, -999.00
49NZ20071122, P14N, 167, 1, 27, X12049, 2, 20071208, 1636, -7.0008, 178.9940, 5467,    628.4, 2,   6.2888, 2,  34.5353, 2,  34.5350, 2,    112.2, 2,    113.1, 2,    43.37, 2,    34.54, 2,     0.01, 2,     2.46, 2,    0.136, 2,    0.072, 2,    0.000, 2,    0.123, 4,   -999.0, 9,   -999.0, 9, -999.0000,   -999.00,   -999.0, 9,   -999.0,  -999.00, 9,   -999.0,   6.2319, 27.1557,   6.2897, 2, 9, 0.21, 0.13, 0.01, 0.016,  -999.00, 9, -999.00, -999.00, 9, -999.00
49NZ20071122, P14N, 167, 1, 26, X12032, 2, 20071208, 1636, -7.0008, 178.9940, 5467,    729.3, 2,   5.6492, 2,  34.5243, 2,  34.5243, 2,    116.3, 2,    115.2, 2,    51.50, 2,    35.54, 2,     0.01, 2,     2.53, 2,    0.083, 2,    0.047, 2,    0.000, 2,    0.107, 4,   -999.0, 9,   -999.0, 9, -999.0000,   -999.00,   -999.0, 9,   -999.0,  -999.00, 9,   -999.0,   5.5862, 27.2284,   5.6496, 2, 9, 0.23, 0.13, 0.01, 0.016,  -999.00, 9, -999.00, -999.00, 9, -999.00
49NZ20071122, P14N, 167, 1, 25, X12043, 2, 20071208, 1636, -7.0008, 178.9940, 5467,    830.3, 2,   5.1117, 2,  34.5302, 2,  34.5301, 2,    110.2, 2,    103.1, 2,    62.04, 2,    37.54, 2,     0.01, 2,     2.67, 2,    0.022, 2,    0.014, 2,    0.000, 2,    0.027, 4,   -999.0, 9,   -999.0, 9, -999.0000,   -999.00,   -999.0, 9,   -999.0,  -999.00, 9,   -999.0,   5.0428, 27.2978,   5.1119, 2, 9, 0.26, 0.14, 0.01, 0.017,  -999.00, 9, -999.00, -999.00, 9, -999.00
49NZ20071122, P14N, 167, 1, 24, X12030, 2, 20071208, 1636, -7.0008, 178.9940, 5467,    931.4, 2,   4.6963, 2,  34.5410, 2,  34.5410, 2,     99.1, 2,     94.2, 2,    72.08, 2,    38.78, 2,     0.01, 2,     2.76, 2,    0.003, 2,    0.002, 2,    0.003, 2,    0.023, 4,   -999.0, 9,   -999.0, 9, -999.0000,   -999.00,   -999.0, 9,   -999.0,  -999.00, 9,   -999.0,   4.6213, 27.3543,   4.6968, 2, 9, 0.28, 0.14, 0.01, 0.017,  -999.00, 9, -999.00, -999.00, 9, -999.00
49NZ20071122, P14N, 167, 1, 23, X12027, 2, 20071208, 1636, -7.0008, 178.9940, 5467,   1072.0, 2,   4.2012, 2,  34.5512, 2,  34.5511, 6,     99.2, 2,    100.0, 2,    81.91, 2,    38.48, 2,     0.01, 2,     2.77, 2,    0.003, 2,    0.001, 2,    0.009, 2,    0.000, 4,   -999.0, 9,   -999.0, 9, -999.0000,   -999.00,   -999.0, 9,   -999.0,  -999.00, 9,   -999.0,   4.1178, 27.4169,   4.2008, 2, 9, 0.30, 0.14, 0.01, 0.017,  -999.00, 9, -999.00, -999.00, 9, -999.00
49NZ20071122, P14N, 167, 1, 22, X12028, 2, 20071208, 1636, -7.0008, 178.9940, 5467,   1271.4, 2,   3.5518, 2,  34.5693, 2,  34.5692, 2,    109.8, 2,    111.1, 2,    93.56, 2,    37.99, 2,     0.01, 2,     2.73, 2,    0.001, 2,    0.000, 2,    0.000, 2,    0.042, 4,   -999.0, 9,   -999.0, 9, -999.0000,   -999.00,   -999.0, 9,   -999.0,  -999.00, 9,   -999.0,   3.4572, 27.4981,   3.5515, 2, 9, 0.32, 0.14, 0.01, 0.017,  -999.00, 9, -999.00, -999.00, 9, -999.00
49NZ20071122, P14N, 167, 1, 21, X12009, 2, 20071208, 1636, -7.0008, 178.9940, 5467,   1469.9, 2,   3.0716, 2,  34.5909, 2,  34.5909, 2,    116.1, 2,    115.5, 2,   104.81, 2,    37.89, 2,     0.01, 2,     2.72, 2,    0.000, 2,    0.000, 2,    0.000, 2,    0.000, 4,   -999.0, 9,   -999.0, 9, -999.0000,   -999.00,   -999.0, 9,   -999.0,  -999.00, 9,   -999.0,   2.9654, 27.5617,   3.0719, 2, 9, 0.35, 0.14, 0.01, 0.017,  -999.00, 9, -999.00, -999.00, 9, -999.00
49NZ20071122, P14N, 167, 1, 20, X12026, 2, 20071208, 1636, -7.0008, 178.9940, 5467,   1670.0, 2,   2.6866, 2,  34.6081, 2,  34.6077, 2,    126.5, 2,    126.1, 2,   111.03, 2,    37.22, 2,     0.01, 2,     2.66, 2,    0.005, 2,    0.002, 2,    0.000, 2,    0.000, 4,   -999.0, 9,   -999.0, 9, -999.0000,   -999.00,   -999.0, 9,   -999.0,  -999.00, 9,   -999.0,   2.5683, 27.6107,   2.6871, 2, 9, 0.36, 0.14, 0.01, 0.017,  -999.00, 9, -999.00, -999.00, 9, -999.00
49NZ20071122, P14N, 167, 1, 19, X12025, 2, 20071208, 1636, -7.0008, 178.9940, 5467,   1871.4, 2,   2.4564, 2,  34.6234, 2,  34.6234, 2,    126.2, 2,    125.9, 2,   118.29, 2,    37.38, 2,     0.01, 2,     2.67, 2,    0.000, 2,    0.001, 2,    0.000, 2,    0.000, 4,   -999.0, 9,   -999.0, 9, -999.0000,   -999.00,   -999.0, 9,   -999.0,  -999.00, 9,   -999.0,   2.3241, 27.6436,   2.4568, 2, 9, 0.38, 0.14, 0.01, 0.017,  -999.00, 9, -999.00, -999.00, 9, -999.00
49NZ20071122, P14N, 167, 1, 18, X12024, 2, 20071208, 1636, -7.0008, 178.9940, 5467,   2071.2, 2,   2.2707, 2,  34.6349, 2,  34.6353, 2,    130.2, 2,    129.5, 2,   122.77, 2,    37.11, 2,     0.01, 2,     2.65, 2, -999.000, 9, -999.000, 9, -999.000, 9,    0.000, 4,   -999.0, 9,   -999.0, 9, -999.0000,   -999.00,   -999.0, 9,   -999.0,  -999.00, 9,   -999.0,   2.1240, 27.6693,   2.2709, 2, 9, 0.39, 0.14, 0.01, 0.017,  -999.00, 9, -999.00, -999.00, 9, -999.00
49NZ20071122, P14N, 167, 1, 17, X12023, 2, 20071208, 1636, -7.0008, 178.9940, 5467,   2270.5, 2,   2.0731, 2,  34.6474, 2,  34.6476, 6,    135.2, 2,    133.2, 2,   127.46, 2,    36.97, 2,     0.01, 2,     2.63, 2, -999.000, 9, -999.000, 9, -999.000, 9,    0.000, 4,   -999.0, 9,   -999.0, 9, -999.0000,   -999.00,   -999.0, 9,   -999.0,  -999.00, 9,   -999.0,   1.9121, 27.6961,   2.0734, 2, 9, 0.40, 0.14, 0.01, 0.017,  -999.00, 9, -999.00, -999.00, 9, -999.00
49NZ20071122, P14N, 167, 1, 16, X12022, 2, 20071208, 1636, -7.0008, 178.9940, 5467,   2471.4, 2,   1.8887, 2,  34.6593, 2,  34.6593, 2,    137.9, 2,    136.1, 2,   132.29, 2,    36.96, 2,     0.01, 2,     2.62, 2,    0.002, 2,    0.000, 2,    0.000, 2,    0.000, 4,   -999.0, 9,   -999.0, 9, -999.0000,   -999.00,   -999.0, 9,   -999.0,  -999.00, 9,   -999.0,   1.7130, 27.7210,   1.8888, 2, 9, 0.41, 0.14, 0.01, 0.017,  -999.00, 9, -999.00, -999.00, 9, -999.00
49NZ20071122, P14N, 167, 1, 15, X12021, 2, 20071208, 1636, -7.0008, 178.9940, 5467,   2669.9, 2,   1.7884, 2,  34.6671, 2,  34.6674, 2,    141.2, 2,    141.0, 2,   133.43, 2,    36.58, 2,     0.01, 2,     2.59, 2, -999.000, 9, -999.000, 9, -999.000, 9,    0.000, 4,   -999.0, 9,   -999.0, 9, -999.0000,   -999.00,   -999.0, 9,   -999.0,  -999.00, 9,   -999.0,   1.5965, 27.7359,   1.7882, 2, 9, 0.41, 0.14, 0.01, 0.016,  -999.00, 9, -999.00, -999.00, 9, -999.00
49NZ20071122, P14N, 167, 1, 14, X12020, 2, 20071208, 1636, -7.0008, 178.9940, 5467,   2870.8, 2,   1.7080, 2,  34.6725, 2,  34.6725, 2,    144.3, 2,    144.6, 2,   134.56, 2,    36.34, 2,     0.01, 2,     2.57, 2, -999.000, 9, -999.000, 9, -999.000, 9,    0.000, 4,   -999.0, 9,   -999.0, 9, -999.0000,   -999.00,   -999.0, 9,   -999.0,  -999.00, 9,   -999.0,   1.4990, 27.7474,   1.7080, 2, 9, 0.42, 0.13, 0.01, 0.016,  -999.00, 9, -999.00, -999.00, 9, -999.00
49NZ20071122, P14N, 167, 1, 13, X12019, 2, 20071208, 1636, -7.0008, 178.9940, 5467,   3081.5, 2,   1.6254, 2,  34.6775, 2,  34.6774, 2,    148.2, 2,    148.2, 2,   135.76, 2,    36.28, 2,     0.01, 2,     2.55, 2,    0.000, 2,    0.000, 2,    0.000, 2,    0.000, 4,   -999.0, 9,   -999.0, 9, -999.0000,   -999.00,   -999.0, 9,   -999.0,  -999.00, 9,   -999.0,   1.3980, 27.7587,   1.6256, 2, 9, 0.42, 0.13, 0.01, 0.016,  -999.00, 9, -999.00, -999.00, 9, -999.00
49NZ20071122, P14N, 167, 1, 12, X12040, 2, 20071208, 1636, -7.0008, 178.9940, 5467,   3329.7, 2,   1.5766, 2,  34.6814, 2,  34.6811, 2,    152.0, 2,    152.4, 2,   135.25, 2,    35.97, 2,     0.01, 2,     2.52, 2, -999.000, 9, -999.000, 9, -999.000, 9,    0.000, 4,   -999.0, 9,   -999.0, 9, -999.0000,   -999.00,   -999.0, 9,   -999.0,  -999.00, 9,   -999.0,   1.3258, 27.7670,   1.5767, 2, 9, 0.42, 0.13, 0.01, 0.016,  -999.00, 9, -999.00, -999.00, 9, -999.00
49NZ20071122, P14N, 167, 1, 11, X12047, 2, 20071208, 1636, -7.0008, 178.9940, 5467,   3581.1, 2,   1.5233, 2,  34.6853, 2,  34.6852, 2,    157.6, 2,    157.9, 2,   134.10, 2,    35.57, 2,     0.01, 2,     2.49, 2, -999.000, 9, -999.000, 9, -999.000, 9,    0.000, 4,   -999.0, 9,   -999.0, 9, -999.0000,   -999.00,   -999.0, 9,   -999.0,  -999.00, 9,   -999.0,   1.2482, 27.7756,   1.5233, 2, 9, 0.41, 0.13, 0.01, 0.016,  -999.00, 9, -999.00, -999.00, 9, -999.00
49NZ20071122, P14N, 167, 1, 10, X12012, 2, 20071208, 1636, -7.0008, 178.9940, 5467,   3833.0, 2,   1.4269, 2,  34.6922, 2,  34.6919, 2,    167.6, 2,    168.2, 2,   130.84, 2,    34.75, 2,     0.01, 2,     2.44, 2,    0.000, 2,    0.001, 2,    0.000, 2,    0.017, 4,   -999.0, 9,   -999.0, 9, -999.0000,   -999.00,   -999.0, 9,   -999.0,  -999.00, 9,   -999.0,   1.1279, 27.7894,   1.4270, 2, 9, 0.41, 0.13, 0.01, 0.016,  -999.00, 9, -999.00, -999.00, 9, -999.00
49NZ20071122, P14N, 167, 1, 9, X12015, 2, 20071208, 1636, -7.0008, 178.9940, 5467,   4080.1, 2,   1.3203, 2,  34.7006, 2,  34.7002, 6,    182.6, 2,    182.7, 2,   123.45, 2,    33.61, 2,     0.01, 2,     2.37, 2, -999.000, 9, -999.000, 9, -999.000, 9,    0.036, 4,   -999.0, 9,   -999.0, 9, -999.0000,   -999.00,   -999.0, 9,   -999.0,  -999.00, 9,   -999.0,   0.9977, 27.8049,   1.3204, 2, 9, 0.39, 0.13, 0.01, 0.016,  -999.00, 9, -999.00, -999.00, 9, -999.00
49NZ20071122, P14N, 167, 1, 8, X12046, 2, 20071208, 1636, -7.0008, 178.9940, 5467,   4330.6, 2,   1.2673, 2,  34.7047, 2,  34.7045, 2,    189.2, 2,    189.9, 2,   120.69, 2,    33.06, 2,     0.01, 2,     2.32, 2,    0.015, 2,    0.009, 2,    0.000, 2,    0.070, 4,   -999.0, 9,   -999.0, 9, -999.0000,   -999.00,   -999.0, 9,   -999.0,  -999.00, 9,   -999.0,   0.9186, 27.8134,   1.2674, 2, 9, 0.38, 0.13, 0.01, 0.016,  -999.00, 9, -999.00, -999.00, 9, -999.00
49NZ20071122, P14N, 167, 1, 7, X12044, 2, 20071208, 1636, -7.0008, 178.9940, 5467,   4581.1, 2,   1.2562, 2,  34.7061, 2,  34.7061, 2,    193.0, 2,    192.9, 2,   119.79, 2,    32.89, 2,     0.01, 2,     2.31, 2,    0.017, 2,    0.008, 2,    0.000, 2,    0.085, 4,   -999.0, 9,   -999.0, 9, -999.0000,   -999.00,   -999.0, 9,   -999.0,  -999.00, 9,   -999.0,   0.8794, 27.8171,   1.2563, 2, 9, 0.38, 0.12, 0.01, 0.016,  -999.00, 9, -999.00, -999.00, 9, -999.00
49NZ20071122, P14N, 167, 1, 6, X12048, 2, 20071208, 1636, -7.0008, 178.9940, 5467,   4829.1, 2,   1.2729, 2,  34.7063, 2,  34.7065, 2,    193.7, 2,    193.7, 2,   119.50, 2,    32.86, 2,     0.01, 2,     2.31, 2,    0.014, 2,    0.008, 2,    0.000, 2,    0.084, 4,   -999.0, 9,   -999.0, 9, -999.0000,   -999.00,   -999.0, 9,   -999.0,  -999.00, 9,   -999.0,   0.8666, 27.8181,   1.2730, 2, 9, 0.38, 0.12, 0.01, 0.016,  -999.00, 9, -999.00, -999.00, 9, -999.00
49NZ20071122, P14N, 167, 1, 5, X12014, 2, 20071208, 1636, -7.0008, 178.9940, 5467,   5078.7, 2,   1.2965, 2,  34.7064, 2,  34.7064, 2,    194.2, 2,    194.3, 2,   119.59, 2,    32.84, 2,     0.01, 2,     2.30, 2,    0.014, 2,    0.006, 2,    0.000, 2,    0.075, 4,   -999.0, 9,   -999.0, 9, -999.0000,   -999.00,   -999.0, 9,   -999.0,  -999.00, 9,   -999.0,   0.8595, 27.8186,   1.2966, 2, 9, 0.38, 0.12, 0.01, 0.016,  -999.00, 9, -999.00, -999.00, 9, -999.00
49NZ20071122, P14N, 167, 1, 4, X12006, 2, 20071208, 1636, -7.0008, 178.9940, 5467,   5329.1, 2,   1.3152, 2,  34.7063, 2,  34.7064, 2,    194.8, 2,    194.8, 2,   119.75, 2,    32.79, 2,     0.01, 2,     2.30, 2,    0.009, 2,    0.005, 2,    0.000, 2,    0.059, 4,   -999.0, 9,   -999.0, 9, -999.0000,   -999.00,   -999.0, 9,   -999.0,  -999.00, 9,   -999.0,   0.8467, 27.8194,   1.3152, 2, 9, 0.38, 0.12, 0.01, 0.016,  -999.00, 9, -999.00, -999.00, 9, -999.00
49NZ20071122, P14N, 167, 1, 3, X12013, 9, 20071208, 1636, -7.0008, 178.9940, 5467,     49.5, 2,  29.3672, 2,  35.3602, 2, -999.0000, 9,    188.3, 2,   -999.0, 9,  -999.00, 9,  -999.00, 9,  -999.00, 9,  -999.00, 9, -999.000, 9, -999.000, 9, -999.000, 9, -999.000, 9,   -999.0, 9,   -999.0, 9, -999.0000,   -999.00,   -999.0, 9,   -999.0,  -999.00, 9,   -999.0,  29.3551, 22.2153,  29.3644, 2, 9, -999.00, -999.00, -999.00, -999.000,  -999.00, 9, -999.00, -999.00, 9, -999.00
49NZ20071122, P14N, 167, 1, 2, X12002, 9, 20071208, 1636, -7.0008, 178.9940, 5467,     99.3, 2,  28.9618, 2,  35.5928, 2, -999.0000, 9,    188.5, 2,   -999.0, 9,  -999.00, 9,  -999.00, 9,  -999.00, 9,  -999.00, 9, -999.000, 9, -999.000, 9, -999.000, 9, -999.000, 9,   -999.0, 9,   -999.0, 9, -999.0000,   -999.00,   -999.0, 9,   -999.0,  -999.00, 9,   -999.0,  28.9378, 22.5301,  28.9588, 2, 9, -999.00, -999.00, -999.00, -999.000,  -999.00, 9, -999.00, -999.00, 9, -999.00
49NZ20071122, P14N, 167, 1, 1, X12001, 2, 20071208, 1636, -7.0008, 178.9940, 5467,   5553.4, 2,   1.3282, 2,  34.7062, 2,  34.7066, 6,    195.3, 2,    195.5, 2,   120.23, 2,    32.91, 2,     0.01, 2,     2.30, 2,    0.005, 2,    0.003, 2,    0.000, 2,    0.054, 4,   -999.0, 9,   -999.0, 9, -999.0000,   -999.00,   -999.0, 9,   -999.0,  -999.00, 9,   -999.0,   0.8310, 27.8204,   1.3283, 2, 9, 0.38, 0.12, 0.01, 0.016,  -999.00, 9, -999.00, -999.00, 9, -999.00