BOTTLE,20220820CCHSIOAMB
EXPOCODE,SECT_ID,STNNBR,CASTNO,SAMPNO,BTLNBR,BTLNBR_FLAG_W,DATE,TIME,LATITUDE,LONGITUDE,DEPTH,CTDPRS,CTDPRS_FLAG_W,CTDTMP,CTDTMP_FLAG_W,CTDSAL,CTDSAL_FLAG_W,SALNTY,SALNTY_FLAG_W,CTDOXY,CTDOXY_FLAG_W,OXYGEN,OXYGEN_FLAG_W,SILCAT,SILCAT_FLAG_W,NITRAT,NITRAT_FLAG_W,NITRIT,NITRIT_FLAG_W,PHSPHT,PHSPHT_FLAG_W,CFC-11,CFC-11_FLAG_W,CFC-12,CFC-12_FLAG_W,CFC113,CFC113_FLAG_W,CCL4,CCL4_FLAG_W,TCARBN,TCARBN_FLAG_W,ALKALI,ALKALI_FLAG_W,PH_TOT,PH_TMP,DELC14,DELC14_FLAG_W,C14ERR,DELC13,DELC13_FLAG_W,C13ERR,THETA,SIG0,SBE35,SBE35_FLAG_W,PH_TOT_FLAG_W,SILUNC,NRAUNC,NRIUNC,PHPUNC,CS-137,CS-137_FLAG_W,CS137ER,PLUTO,PLUTO_FLAG_W,PLUTOER
,,,,,,,,,,,METERS,DBAR,,ITS-90,,PSS-78,,PSS-78,,UMOL/KG,,UMOL/KG,,UMOL/KG,,UMOL/KG,,UMOL/KG,,UMOL/KG,,PMOL/KG,,PMOL/KG,,PMOL/KG,,PMOL/KG,,UMOL/KG,,UMOL/KG,,,DEG C,/MILLE,,/MILLE,/MILLE,,/MILLE,DEG C,KG/M^3,ITS-90,,,UMOL/KG,UMOL/KG,UMOL/KG,UMOL/KG,DM/.1MG,,BQ/M^3,MBQ/M^3,,MBQ/M^3
49NZ20071122, P14N, 113, 1, 36, X12042, 2, 20071124, 1949, 7.4938, 178.9943, 5543,     11.3, 2,  28.4508, 2,  34.5342, 2,  34.5342, 2,    194.9, 2,    196.7, 2,     1.28, 2,     0.05, 2,     0.02, 2,     0.17, 2,    1.473, 2,    0.915, 2,    0.224, 4, -999.000, 9,   1939.1, 2,   2270.0, 2,    8.1181,     25.00,   -999.0, 9,   -999.0,  -999.00, 9,   -999.0,  28.4481, 21.8975,  28.4508, 2, 6, 0.12, 0.03, 0.01, 0.017,  -999.00, 9, -999.00, -999.00, 9, -999.00
49NZ20071122, P14N, 113, 1, 35, X12041, 2, 20071124, 1949, 7.4938, 178.9943, 5543,     52.0, 2,  28.4495, 2,  34.5350, 2,  34.5359, 2,    197.1, 2,    196.5, 2,     1.25, 2,     0.04, 2,     0.02, 2,     0.17, 2,    1.480, 2,    0.929, 2,    0.228, 4, -999.000, 9,   1937.5, 6,   2269.9, 2,    8.1175,     25.00,   -999.0, 9,   -999.0,  -999.00, 9,   -999.0,  28.4371, 21.9017,  28.4479, 2, 2, 0.12, 0.03, 0.01, 0.017,  -999.00, 9, -999.00, -999.00, 9, -999.00
49NZ20071122, P14N, 113, 1, 34, X12016, 2, 20071124, 1949, 7.4938, 178.9943, 5543,     99.5, 2,  28.0847, 2,  34.7684, 2,  34.7651, 2,    187.2, 2,    189.9, 2,     1.52, 2,     0.58, 2,     0.17, 2,     0.25, 2,    1.533, 2,    0.954, 2, -999.000, 5, -999.000, 9,   1967.1, 2,   2284.9, 6,    8.0905,     25.00,   -999.0, 9,   -999.0,  -999.00, 9,   -999.0,  28.0612, 22.2005,  28.0838, 2, 2, 0.12, 0.03, 0.01, 0.015,  -999.00, 9, -999.00, -999.00, 9, -999.00
49NZ20071122, P14N, 113, 1, 33, X12033, 2, 20071124, 1949, 7.4938, 178.9943, 5543,    148.2, 2,  19.6244, 2,  34.8102, 2,  34.8133, 2,    174.5, 2,    176.4, 2,     3.34, 2,     3.50, 2,     0.14, 2,     0.44, 2,    2.275, 6,    1.328, 6,    0.145, 3, -999.000, 9,   2060.6, 2,   2296.2, 2,    7.9370,     25.00,   -999.0, 9,   -999.0,  -999.00, 9,   -999.0,  19.5974, 24.7223,  19.6012, 2, 6, 0.13, 0.04, 0.01, 0.013,  -999.00, 9, -999.00, -999.00, 9, -999.00
49NZ20071122, P14N, 113, 1, 32, X12038, 2, 20071124, 1949, 7.4938, 178.9943, 5543,    200.6, 2,  12.0132, 2,  34.4463, 2,  34.4446, 2,     86.7, 2,     84.0, 2,    21.74, 2,    24.03, 2,     0.01, 2,     1.85, 2,    1.722, 2,    0.908, 2,    0.033, 2, -999.000, 9,   2183.7, 2,   2278.2, 2,    7.6150,     25.00,   -999.0, 9,   -999.0,  -999.00, 9,   -999.0,  11.9872, 26.1614,  12.0123, 2, 2, 0.17, 0.10, 0.01, 0.015,  -999.00, 9, -999.00, -999.00, 9, -999.00
49NZ20071122, P14N, 113, 1, 31, X12003, 2, 20071124, 1949, 7.4938, 178.9943, 5543,    250.4, 2,  10.8730, 2,  34.6616, 2,  34.6608, 6,     17.8, 2,     18.1, 2,    30.09, 2,    33.61, 2,     0.01, 2,     2.46, 2,    0.512, 2,    0.275, 2,    0.016, 2, -999.000, 9,   2249.7, 2,   2297.2, 2,    7.4790,     25.00,   -999.0, 9,   -999.0,  -999.00, 9,   -999.0,  10.8424, 26.5403,  10.8744, 2, 2, 0.19, 0.13, 0.01, 0.016,  -999.00, 9, -999.00, -999.00, 9, -999.00
49NZ20071122, P14N, 113, 1, 30, X12008, 2, 20071124, 1949, 7.4938, 178.9943, 5543,    330.8, 2,   9.5911, 2,  34.6545, 2,  34.6542, 2,     51.0, 2,     53.4, 2,    32.54, 2,    33.05, 2,     0.01, 2,     2.35, 2,    0.423, 2,    0.228, 2,    0.013, 2, -999.000, 9,   2241.1, 2,   2304.8, 2,    7.5269,     25.00,   -999.0, 9,   -999.0,  -999.00, 9,   -999.0,   9.5536, 26.7573,   9.5910, 2, 2, 0.19, 0.13, 0.01, 0.016,  -999.00, 9, -999.00, -999.00, 9, -999.00
49NZ20071122, P14N, 113, 1, 29, X12035, 2, 20071124, 1949, 7.4938, 178.9943, 5543,    433.1, 2,   8.8806, 2,  34.6351, 2,  34.6343, 2,     50.4, 2,     51.5, 2,    35.86, 2,    34.63, 2,     0.00, 2,     2.47, 2,    0.268, 2,    0.146, 2,    0.008, 2, -999.000, 9,   2248.1, 2,   2306.0, 2,    7.5096,     25.00,   -999.0, 9,   -999.0,  -999.00, 9,   -999.0,   8.8335, 26.8589,   8.8814, 2, 2, 0.20, 0.13, 0.01, 0.016,  -999.00, 9, -999.00, -999.00, 9, -999.00
49NZ20071122, P14N, 113, 1, 28, X12034, 2, 20071124, 1949, 7.4938, 178.9943, 5543,    529.8, 2,   8.0017, 2,  34.5971, 2,  34.5949, 6,     38.7, 2,     39.1, 2,    43.70, 2,    37.31, 2,     0.01, 2,     2.71, 2,    0.104, 2,    0.059, 2,    0.007, 2, -999.000, 9,   2268.3, 2,   2310.8, 2,    7.4672,     25.00,   -999.0, 9,   -999.0,  -999.00, 9,   -999.0,   7.9472, 26.9652,   8.0008, 2, 2, 0.22, 0.14, 0.01, 0.017,  -999.00, 9, -999.00, -999.00, 9, -999.00
49NZ20071122, P14N, 113, 1, 27, X12049, 2, 20071124, 1949, 7.4938, 178.9943, 5543,    629.6, 2,   7.1118, 2,  34.5659, 2,  34.5632, 2,     36.0, 2,     32.4, 2,    53.58, 2,    39.56, 2,     0.01, 2,     2.90, 2,    0.031, 2,    0.016, 2,    0.007, 2, -999.000, 9,   2285.6, 2,   2323.0, 2,    7.4411,     25.00,   -999.0, 9,   -999.0,  -999.00, 9,   -999.0,   7.0509, 27.0698,   7.1136, 2, 2, 0.24, 0.14, 0.01, 0.017,  -999.00, 9, -999.00, -999.00, 9, -999.00
49NZ20071122, P14N, 113, 1, 26, X12032, 3, 20071124, 1949, 7.4938, 178.9943, 5543,    728.6, 2,   6.1172, 2,  34.5422, 2,  34.5415, 2,     39.7, 2,     40.7, 2,    64.69, 2,    40.71, 2,     0.00, 2,     2.95, 2,    0.017, 6,    0.011, 6,    0.007, 6, -999.000, 9,   2297.1, 6,   2333.5, 2,    7.4434,     25.00,   -999.0, 9,   -999.0,  -999.00, 9,   -999.0,   6.0517, 27.1844,   6.1238, 2, 2, 0.26, 0.15, 0.01, 0.017,  -999.00, 9, -999.00, -999.00, 9, -999.00
49NZ20071122, P14N, 113, 1, 25, X12043, 2, 20071124, 1949, 7.4938, 178.9943, 5543,    829.9, 2,   5.4715, 2,  34.5427, 2,  34.5424, 2,     46.9, 2,     46.7, 2,    74.30, 2,    41.44, 2,     0.00, 2,     3.00, 2,    0.004, 2,    0.003, 2,    0.004, 2, -999.000, 9,   2305.2, 2,   2343.7, 6,    7.4441,     25.00,   -999.0, 9,   -999.0,  -999.00, 9,   -999.0,   5.4003, 27.2655,   5.4697, 2, 2, 0.28, 0.15, 0.01, 0.017,  -999.00, 9, -999.00, -999.00, 9, -999.00
49NZ20071122, P14N, 113, 1, 24, X12030, 2, 20071124, 1949, 7.4938, 178.9943, 5543,    929.8, 2,   4.8952, 2,  34.5487, 2,  34.5480, 2,     54.6, 2,     54.8, 2,    83.52, 2,    41.42, 2,     0.00, 2,     2.98, 2,    0.000, 2,    0.001, 2,    0.005, 2, -999.000, 9,   2313.8, 2,   2353.5, 2,    7.4533,     25.00,   -999.0, 9,   -999.0,  -999.00, 9,   -999.0,   4.8189, 27.3382,   4.8955, 2, 2, 0.30, 0.15, 0.01, 0.017,  -999.00, 9, -999.00, -999.00, 9, -999.00
49NZ20071122, P14N, 113, 1, 23, X12027, 2, 20071124, 1949, 7.4938, 178.9943, 5543,   1069.6, 2,   4.3816, 2,  34.5591, 2,  34.5591, 6,     60.0, 2,     60.2, 2,    93.93, 2,    41.43, 2,     0.01, 2,     3.00, 2,    0.000, 2,    0.000, 2,    0.006, 2, -999.000, 9,   2323.2, 2,   2366.4, 2,    7.4578,     25.00,   -999.0, 9,   -999.0,  -999.00, 9,   -999.0,   4.2969, 27.4041,   4.3826, 2, 2, 0.33, 0.15, 0.01, 0.017,  -999.00, 9, -999.00, -999.00, 9, -999.00
49NZ20071122, P14N, 113, 1, 22, X12028, 2, 20071124, 1949, 7.4938, 178.9943, 5543,   1270.8, 2,   3.6911, 2,  34.5800, 2,  34.5808, 2,     68.3, 2,     68.6, 2,   108.29, 2,    41.35, 2,     0.01, 2,     2.99, 2,    0.000, 2,    0.000, 2,    0.000, 2, -999.000, 9,   2335.1, 2,   2382.2, 2,    7.4699,     25.00,   -999.0, 9,   -999.0,  -999.00, 9,   -999.0,   3.5952, 27.4931,   3.6914, 2, 2, 0.36, 0.15, 0.01, 0.017,  -999.00, 9, -999.00, -999.00, 9, -999.00
49NZ20071122, P14N, 113, 1, 21, X12009, 2, 20071124, 1949, 7.4938, 178.9943, 5543,   1469.5, 2,   3.1759, 2,  34.5958, 2,  34.5970, 2,     80.1, 2,     80.4, 2,   119.27, 2,    40.60, 2,     0.01, 2,     2.92, 2, -999.000, 9, -999.000, 9, -999.000, 9, -999.000, 9,   2341.2, 2,   2393.4, 2,    7.4878,     25.00,   -999.0, 9,   -999.0,  -999.00, 9,   -999.0,   3.0686, 27.5561,   3.1728, 2, 2, 0.38, 0.15, 0.01, 0.017,  -999.00, 9, -999.00, -999.00, 9, -999.00
49NZ20071122, P14N, 113, 1, 20, X12026, 2, 20071124, 1949, 7.4938, 178.9943, 5543,   1669.4, 2,   2.7059, 2,  34.6144, 2,  34.6149, 2,     90.5, 2,     91.2, 2,   128.40, 2,    39.98, 2,     0.00, 2,     2.86, 2, -999.000, 9, -999.000, 9, -999.000, 9, -999.000, 9,   2345.3, 2,   2403.8, 2,    7.5049,     25.00,   -999.0, 9,   -999.0,  -999.00, 9,   -999.0,   2.5874, 27.6141,   2.7060, 2, 6, 0.40, 0.14, 0.01, 0.017,  -999.00, 9, -999.00, -999.00, 9, -999.00
49NZ20071122, P14N, 113, 1, 19, X12025, 2, 20071124, 1949, 7.4938, 178.9943, 5543,   1870.9, 2,   2.3368, 2,  34.6319, 2,  34.6320, 2,     97.7, 2,     97.9, 2,   137.65, 2,    39.65, 2,     0.00, 2,     2.82, 2,    0.000, 2,    0.000, 2,    0.000, 2, -999.000, 9,   2350.4, 2,   2412.9, 2,    7.5155,     25.00,   -999.0, 9,   -999.0,  -999.00, 9,   -999.0,   2.2063, 27.6602,   2.3369, 2, 2, 0.42, 0.14, 0.01, 0.017,  -999.00, 9, -999.00, -999.00, 9, -999.00
49NZ20071122, P14N, 113, 1, 18, X12024, 2, 20071124, 1949, 7.4938, 178.9943, 5543,   2072.0, 2,   2.1282, 2,  34.6452, 2,  34.6454, 6,    104.2, 2,    104.4, 2,   142.23, 2,    39.26, 2,     0.00, 2,     2.79, 2, -999.000, 9, -999.000, 9, -999.000, 9, -999.000, 9,   2352.1, 2,   2419.6, 2,    7.5282,     25.00,   -999.0, 9,   -999.0,  -999.00, 9,   -999.0,   1.9836, 27.6887,   2.1283, 2, 2, 0.43, 0.14, 0.01, 0.017,  -999.00, 9, -999.00, -999.00, 9, -999.00
49NZ20071122, P14N, 113, 1, 17, X12023, 2, 20071124, 1949, 7.4938, 178.9943, 5543,   2269.8, 2,   1.9984, 2,  34.6528, 2,  34.6530, 2,    110.8, 2,    110.7, 2,   143.94, 2,    38.82, 2,     0.00, 2,     2.75, 2, -999.000, 9, -999.000, 9, -999.000, 9, -999.000, 9,   2349.1, 2,   2420.7, 2,    7.5391,     25.00,   -999.0, 9,   -999.0,  -999.00, 9,   -999.0,   1.8388, 27.7062,   1.9987, 2, 2, 0.44, 0.14, 0.01, 0.017,  -999.00, 9, -999.00, -999.00, 9, -999.00
49NZ20071122, P14N, 113, 1, 16, X12022, 2, 20071124, 1949, 7.4938, 178.9943, 5543,   2471.6, 2,   1.8939, 2,  34.6603, 2,  34.6605, 2,    114.6, 2,    114.5, 2,   146.63, 2,    38.61, 2,     0.00, 2,     2.73, 2,    0.000, 2,    0.000, 2,    0.000, 2, -999.000, 9,   2350.4, 6,   2424.8, 2,    7.5456,     25.00,   -999.0, 9,   -999.0,  -999.00, 9,   -999.0,   1.7181, 27.7213,   1.8939, 2, 2, 0.44, 0.14, 0.01, 0.017,  -999.00, 9, -999.00, -999.00, 9, -999.00
49NZ20071122, P14N, 113, 1, 15, X12021, 2, 20071124, 1949, 7.4938, 178.9943, 5543,   2670.6, 2,   1.8102, 2,  34.6652, 2,  34.6653, 2,    119.7, 2,    119.7, 2,   147.67, 2,    38.33, 2,     0.00, 2,     2.70, 2, -999.000, 9, -999.000, 9, -999.000, 9, -999.000, 9,   2347.9, 2,   2426.2, 6,    7.5529,     25.00,   -999.0, 9,   -999.0,  -999.00, 9,   -999.0,   1.6178, 27.7328,   1.8100, 2, 2, 0.44, 0.14, 0.01, 0.017,  -999.00, 9, -999.00, -999.00, 9, -999.00
49NZ20071122, P14N, 113, 1, 14, X12020, 2, 20071124, 1949, 7.4938, 178.9943, 5543,   2870.1, 2,   1.7497, 2,  34.6687, 2,  34.6684, 2,    125.0, 2,    124.3, 2,   147.42, 2,    37.86, 2,     0.00, 2,     2.67, 2, -999.000, 9, -999.000, 9, -999.000, 9, -999.000, 9,   2347.6, 2,   2425.1, 2,    7.5603,     25.00,   -999.0, 9,   -999.0,  -999.00, 9,   -999.0,   1.5399, 27.7414,   1.7496, 2, 6, 0.44, 0.14, 0.01, 0.017,  -999.00, 9, -999.00, -999.00, 9, -999.00
49NZ20071122, P14N, 113, 1, 13, X12019, 2, 20071124, 1949, 7.4938, 178.9943, 5543,   3081.3, 2,   1.6815, 2,  34.6720, 2,  34.6718, 2,    132.1, 2,    130.7, 2,   146.77, 2,    37.62, 2,     0.01, 2,     2.64, 2,    0.000, 2,    0.000, 2,    0.000, 2, -999.000, 9,   2342.9, 2,   2423.5, 2,    7.5681,     25.00,   -999.0, 9,   -999.0,  -999.00, 9,   -999.0,   1.4529, 27.7504,   1.6815, 2, 2, 0.44, 0.14, 0.01, 0.017,  -999.00, 9, -999.00, -999.00, 9, -999.00
49NZ20071122, P14N, 113, 1, 12, X12040, 2, 20071124, 1949, 7.4938, 178.9943, 5543,   3328.9, 2,   1.5881, 2,  34.6781, 2,  34.6778, 2,    139.5, 2,    138.6, 2,   146.14, 2,    36.98, 2,     0.01, 2,     2.59, 2, -999.000, 9, -999.000, 9, -999.000, 9, -999.000, 9,   2335.6, 2,   2423.6, 2,    7.5806,     25.00,   -999.0, 9,   -999.0,  -999.00, 9,   -999.0,   1.3371, 27.7635,   1.5881, 2, 2, 0.44, 0.14, 0.01, 0.016,  -999.00, 9, -999.00, -999.00, 9, -999.00
49NZ20071122, P14N, 113, 1, 11, X12047, 2, 20071124, 1949, 7.4938, 178.9943, 5543,   3580.7, 2,   1.5134, 2,  34.6831, 2,  34.6831, 2,    148.5, 2,    147.8, 2,   143.07, 2,    36.31, 2,     0.00, 2,     2.54, 2, -999.000, 9, -999.000, 9, -999.000, 9, -999.000, 9,   2327.7, 2,   2419.3, 2,    7.5907,     25.00,   -999.0, 9,   -999.0,  -999.00, 9,   -999.0,   1.2386, 27.7745,   1.5134, 2, 2, 0.43, 0.13, 0.01, 0.016,  -999.00, 9, -999.00, -999.00, 9, -999.00
49NZ20071122, P14N, 113, 1, 10, X12012, 2, 20071124, 1949, 7.4938, 178.9943, 5543,   3829.5, 2,   1.4440, 2,  34.6883, 2,  34.6881, 6,    156.7, 2,    156.8, 2,   140.16, 2,    35.75, 2,     0.00, 2,     2.50, 2,    0.000, 2,    0.003, 2,    0.000, 2, -999.000, 9,   2318.6, 2,   2415.8, 2,    7.6014,     25.00,   -999.0, 9,   -999.0,  -999.00, 9,   -999.0,   1.1450, 27.7851,   1.4439, 2, 2, 0.43, 0.13, 0.01, 0.016,  -999.00, 9, -999.00, -999.00, 9, -999.00
49NZ20071122, P14N, 113, 1, 9, X12015, 5, 20071124, 1949, 7.4938, 178.9943, 5543,   4078.7, 2,   1.3749, 2,  34.6934, 2,  34.6929, 2,    166.6, 2,    166.4, 2,   136.41, 2,    35.05, 2,     0.00, 2,     2.45, 2, -999.000, 9, -999.000, 9, -999.000, 9, -999.000, 9,   2312.0, 2,   2409.7, 2,    7.6113,     25.00,   -999.0, 9,   -999.0,  -999.00, 9,   -999.0,   1.0509, 27.7956,   1.3749, 2, 2, 0.42, 0.13, 0.01, 0.016,  -999.00, 9, -999.00, -999.00, 9, -999.00
49NZ20071122, P14N, 113, 1, 8, X12046, 2, 20071124, 1949, 7.4938, 178.9943, 5543,   4329.7, 2,   1.3261, 2,  34.6977, 2,  34.6973, 2,    175.1, 2,    174.7, 2,   132.31, 2,    34.43, 2,     0.01, 2,     2.41, 2, -999.000, 9, -999.000, 9, -999.000, 9, -999.000, 9,   2301.4, 6,   2404.9, 2,    7.6180,     25.00,   -999.0, 9,   -999.0,  -999.00, 9,   -999.0,   0.9758, 27.8041,   1.3263, 2, 2, 0.41, 0.13, 0.01, 0.016,  -999.00, 9, -999.00, -999.00, 9, -999.00
49NZ20071122, P14N, 113, 1, 7, X12044, 2, 20071124, 1949, 7.4938, 178.9943, 5543,   4578.6, 2,   1.2965, 2,  34.7008, 2,  34.7001, 3,    181.4, 2,    181.4, 2,   128.86, 2,    33.92, 2,     0.01, 2,     2.37, 2,    0.003, 2,    0.002, 2,    0.000, 2, -999.000, 9,   2292.6, 2,   2398.1, 6,    7.6246,     25.00,   -999.0, 9,   -999.0,  -999.00, 9,   -999.0,   0.9187, 27.8103,   1.2966, 2, 2, 0.40, 0.13, 0.01, 0.016,  -999.00, 9, -999.00, -999.00, 9, -999.00
49NZ20071122, P14N, 113, 1, 6, X12048, 2, 20071124, 1949, 7.4938, 178.9943, 5543,   4828.9, 2,   1.2955, 2,  34.7026, 2,  34.7026, 2,    185.1, 2,    185.2, 2,   126.34, 2,    33.68, 2,     0.01, 2,     2.35, 2,    0.006, 2,    0.005, 2,    0.000, 2, -999.000, 9,   2288.1, 2,   2393.9, 2,    7.6271,     25.00,   -999.0, 9,   -999.0,  -999.00, 9,   -999.0,   0.8885, 27.8137,   1.2957, 2, 6, 0.40, 0.13, 0.01, 0.016,  -999.00, 9, -999.00, -999.00, 9, -999.00
49NZ20071122, P14N, 113, 1, 5, X12014, 2, 20071124, 1949, 7.4938, 178.9943, 5543,   5080.2, 2,   1.3057, 2,  34.7036, 2,  34.7038, 2,    187.9, 2,    187.8, 2,   124.81, 2,    33.44, 2,     0.01, 2,     2.34, 2,    0.005, 2,    0.006, 2,    0.000, 2, -999.000, 9,   2285.7, 2,   2391.6, 2,    7.6288,     25.00,   -999.0, 9,   -999.0,  -999.00, 9,   -999.0,   0.8682, 27.8159,   1.3058, 2, 2, 0.39, 0.13, 0.01, 0.016,  -999.00, 9, -999.00, -999.00, 9, -999.00
49NZ20071122, P14N, 113, 1, 4, X12006, 2, 20071124, 1949, 7.4938, 178.9943, 5543,   5330.9, 2,   1.3257, 2,  34.7042, 2,  34.7044, 2,    189.5, 2,    189.2, 2,   124.20, 2,    33.34, 2,     0.00, 2,     2.33, 2,    0.000, 2,    0.001, 2,    0.000, 2, -999.000, 9,   2284.3, 2,   2389.9, 2,    7.6297,     25.00,   -999.0, 9,   -999.0,  -999.00, 9,   -999.0,   0.8566, 27.8171,   1.3258, 2, 2, 0.39, 0.13, 0.01, 0.016,  -999.00, 9, -999.00, -999.00, 9, -999.00
49NZ20071122, P14N, 113, 1, 3, X12013, 2, 20071124, 1949, 7.4938, 178.9943, 5543,   5578.9, 2,   1.3498, 2,  34.7046, 2,  34.7049, 2,    190.5, 2,    190.2, 2,   123.74, 2,    33.30, 2,     0.01, 2,     2.32, 2,    0.001, 2,    0.000, 2,    0.000, 2, -999.000, 9,   2282.2, 2,   2388.7, 2,    7.6310,     25.00,   -999.0, 9,   -999.0,  -999.00, 9,   -999.0,   0.8485, 27.8179,   1.3500, 2, 2, 0.39, 0.13, 0.01, 0.016,  -999.00, 9, -999.00, -999.00, 9, -999.00
49NZ20071122, P14N, 113, 1, 2, X12002, 9, 20071124, 1949, 7.4938, 178.9943, 5543,     11.0, 2,  28.4416, 2,  34.5337, 2, -999.0000, 9,    194.9, 2,   -999.0, 9,  -999.00, 9,  -999.00, 9,  -999.00, 9,  -999.00, 9, -999.000, 9, -999.000, 9, -999.000, 9, -999.000, 9,   -999.0, 9,   -999.0, 9, -999.0000,   -999.00,   -999.0, 9,   -999.0,  -999.00, 9,   -999.0,  28.4390, 21.9001,  28.4414, 2, 9, -999.00, -999.00, -999.00, -999.000,  -999.00, 9, -999.00, -999.00, 9, -999.00
49NZ20071122, P14N, 113, 1, 1, X12001, 2, 20071124, 1949, 7.4938, 178.9943, 5543,   5629.4, 2,   1.3556, 2,  34.7047, 2,  34.7046, 6,    190.3, 2,    190.2, 2,   123.63, 2,    33.26, 2,     0.01, 2,     2.32, 2,    0.004, 2,    0.003, 2,    0.000, 2, -999.000, 9,   2282.3, 2,   2388.7, 2,    7.6319,     25.00,   -999.0, 9,   -999.0,  -999.00, 9,   -999.0,   0.8477, 27.8180,   1.3558, 2, 2, 0.39, 0.13, 0.01, 0.016,  -999.00, 9, -999.00, -999.00, 9, -999.00