BOTTLE,20220820CCHSIOAMB
EXPOCODE,SECT_ID,STNNBR,CASTNO,SAMPNO,BTLNBR,BTLNBR_FLAG_W,DATE,TIME,LATITUDE,LONGITUDE,DEPTH,CTDPRS,CTDPRS_FLAG_W,CTDTMP,CTDTMP_FLAG_W,CTDSAL,CTDSAL_FLAG_W,SALNTY,SALNTY_FLAG_W,CTDOXY,CTDOXY_FLAG_W,OXYGEN,OXYGEN_FLAG_W,SILCAT,SILCAT_FLAG_W,NITRAT,NITRAT_FLAG_W,NITRIT,NITRIT_FLAG_W,PHSPHT,PHSPHT_FLAG_W,CFC-11,CFC-11_FLAG_W,CFC-12,CFC-12_FLAG_W,CFC113,CFC113_FLAG_W,CCL4,CCL4_FLAG_W,TCARBN,TCARBN_FLAG_W,ALKALI,ALKALI_FLAG_W,PH_TOT,PH_TMP,DELC14,DELC14_FLAG_W,C14ERR,DELC13,DELC13_FLAG_W,C13ERR,THETA,SIG0,SBE35,SBE35_FLAG_W,PH_TOT_FLAG_W,SILUNC,NRAUNC,NRIUNC,PHPUNC,CS-137,CS-137_FLAG_W,CS137ER,PLUTO,PLUTO_FLAG_W,PLUTOER
,,,,,,,,,,,METERS,DBAR,,ITS-90,,PSS-78,,PSS-78,,UMOL/KG,,UMOL/KG,,UMOL/KG,,UMOL/KG,,UMOL/KG,,UMOL/KG,,PMOL/KG,,PMOL/KG,,PMOL/KG,,PMOL/KG,,UMOL/KG,,UMOL/KG,,,DEG C,/MILLE,,/MILLE,/MILLE,,/MILLE,DEG C,KG/M^3,ITS-90,,,UMOL/KG,UMOL/KG,UMOL/KG,UMOL/KG,DM/.1MG,,BQ/M^3,MBQ/M^3,,MBQ/M^3
49NZ20071122, P14N, 156, 1, 36, X12042, 2, 20071205, 2319, -3.2407, 178.9962, 5163,      9.1, 2,  28.0355, 2,  35.6861, 2,  35.6854, 2,    200.9, 2,    201.2, 2,     1.47, 2,     3.09, 2,     0.20, 2,     0.46, 2,    1.524, 2,    0.934, 2,    0.180, 4, -999.000, 9,   -999.0, 9,   -999.0, 9, -999.0000,   -999.00,   -999.0, 9,   -999.0,  -999.00, 9,   -999.0,  28.0334, 22.8998,  28.0377, 2, 9, 0.12, 0.04, 0.01, 0.013,  -999.00, 9, -999.00, -999.00, 9, -999.00
49NZ20071122, P14N, 156, 1, 35, X12041, 2, 20071205, 2319, -3.2407, 178.9962, 5163,     49.6, 2,  27.9190, 2,  35.6805, 2,  35.6799, 2,    200.3, 2,    201.3, 2,     1.47, 2,     3.12, 2,     0.21, 2,     0.46, 2,    1.536, 2,    0.946, 2,    0.177, 4, -999.000, 9,   -999.0, 9,   -999.0, 9, -999.0000,   -999.00,   -999.0, 9,   -999.0,  -999.00, 9,   -999.0,  27.9073, 22.9368,  27.9181, 2, 9, 0.12, 0.04, 0.01, 0.013,  -999.00, 9, -999.00, -999.00, 9, -999.00
49NZ20071122, P14N, 156, 1, 34, X12016, 2, 20071205, 2319, -3.2407, 178.9962, 5163,     99.1, 2,  27.4069, 2,  35.6184, 2,  35.6185, 2,    196.4, 2,    196.2, 2,     1.52, 2,     3.54, 2,     0.39, 2,     0.52, 2,    1.566, 2,    0.952, 2,    0.178, 4, -999.000, 9,   -999.0, 9,   -999.0, 9, -999.0000,   -999.00,   -999.0, 9,   -999.0,  -999.00, 9,   -999.0,  27.3839, 23.0602,  27.4057, 2, 9, 0.12, 0.04, 0.00, 0.013,  -999.00, 9, -999.00, -999.00, 9, -999.00
49NZ20071122, P14N, 156, 1, 33, X12033, 2, 20071205, 2319, -3.2407, 178.9962, 5163,    149.4, 2,  26.9381, 2,  35.5976, 2,  35.5977, 2,    186.8, 2,    186.3, 2,     1.81, 2,     4.25, 2,     1.46, 2,     0.62, 2,    1.604, 6,    0.968, 6,    0.164, 4, -999.000, 9,   -999.0, 9,   -999.0, 9, -999.0000,   -999.00,   -999.0, 9,   -999.0,  -999.00, 9,   -999.0,  26.9038, 23.1987,  26.9395, 2, 9, 0.12, 0.04, 0.02, 0.013,  -999.00, 9, -999.00, -999.00, 9, -999.00
49NZ20071122, P14N, 156, 1, 32, X12038, 2, 20071205, 2319, -3.2407, 178.9962, 5163,    200.1, 2,  25.6269, 2,  35.7828, 2,  35.8096, 2,    156.7, 2,    159.5, 2,     1.88, 2,     7.04, 2,     0.30, 2,     0.74, 2,    1.731, 2,    1.034, 2,    0.145, 4, -999.000, 9,   -999.0, 9,   -999.0, 9, -999.0000,   -999.00,   -999.0, 9,   -999.0,  -999.00, 9,   -999.0,  25.5826, 23.7539,  25.6265, 2, 9, 0.12, 0.05, 0.01, 0.013,  -999.00, 9, -999.00, -999.00, 9, -999.00
49NZ20071122, P14N, 156, 1, 31, X12003, 2, 20071205, 2319, -3.2407, 178.9962, 5163,    249.6, 2,  16.1608, 2,  35.3103, 2,  35.2944, 6,     96.2, 2,    100.7, 2,     8.38, 2,    17.33, 2,     0.01, 2,     1.45, 2,    1.666, 2,    0.919, 2,    0.040, 2, -999.000, 9,   -999.0, 9,   -999.0, 9, -999.0000,   -999.00,   -999.0, 9,   -999.0,  -999.00, 9,   -999.0,  16.1209, 25.9586,  16.1611, 2, 9, 0.14, 0.08, 0.01, 0.014,  -999.00, 9, -999.00, -999.00, 9, -999.00
49NZ20071122, P14N, 156, 1, 30, X12008, 2, 20071205, 2319, -3.2407, 178.9962, 5163,    280.2, 2,  13.6513, 2,  35.0645, 2,  35.0415, 2,     87.1, 2,     88.3, 2,    13.65, 2,    22.73, 2,     0.01, 2,     1.76, 2,    1.239, 2,    0.666, 2,    0.026, 2, -999.000, 9,   -999.0, 9,   -999.0, 9, -999.0000,   -999.00,   -999.0, 9,   -999.0,  -999.00, 9,   -999.0,  13.6113, 26.3181,  13.6513, 2, 9, 0.15, 0.10, 0.01, 0.015,  -999.00, 9, -999.00, -999.00, 9, -999.00
49NZ20071122, P14N, 156, 1, 29, X12035, 2, 20071205, 2319, -3.2407, 178.9962, 5163,    370.7, 2,   9.8244, 2,  34.7347, 2,  34.7337, 2,     88.0, 2,     89.4, 2,    23.53, 2,    29.45, 2,     0.01, 2,     2.10, 2,    0.610, 2,    0.320, 2,    0.020, 2, -999.000, 9,   -999.0, 9,   -999.0, 9, -999.0000,   -999.00,   -999.0, 9,   -999.0,  -999.00, 9,   -999.0,   9.7816, 26.7818,   9.8266, 2, 9, 0.17, 0.12, 0.01, 0.015,  -999.00, 9, -999.00, -999.00, 9, -999.00
49NZ20071122, P14N, 156, 1, 28, X12034, 2, 20071205, 2319, -3.2407, 178.9962, 5163,    469.2, 2,   8.7376, 2,  34.6608, 2,  34.6595, 6,     72.1, 2,     76.6, 2,    29.74, 2,    33.26, 2,     0.01, 2,     2.34, 2,    0.348, 2,    0.185, 2,    0.011, 2, -999.000, 9,   -999.0, 9,   -999.0, 9, -999.0000,   -999.00,   -999.0, 9,   -999.0,  -999.00, 9,   -999.0,   8.6870, 26.9021,   8.7377, 2, 9, 0.18, 0.13, 0.01, 0.016,  -999.00, 9, -999.00, -999.00, 9, -999.00
49NZ20071122, P14N, 156, 1, 27, X12049, 2, 20071205, 2319, -3.2407, 178.9962, 5163,    569.5, 2,   7.8031, 2,  34.6124, 2,  34.6113, 2,     64.8, 2,     61.3, 2,    37.62, 2,    36.91, 2,     0.01, 2,     2.59, 2,    0.164, 2,    0.084, 2,    0.009, 2, -999.000, 9,   -999.0, 9,   -999.0, 9, -999.0000,   -999.00,   -999.0, 9,   -999.0,  -999.00, 9,   -999.0,   7.7452, 27.0072,   7.8036, 2, 9, 0.20, 0.14, 0.01, 0.016,  -999.00, 9, -999.00, -999.00, 9, -999.00
49NZ20071122, P14N, 156, 1, 26, X12032, 2, 20071205, 2319, -3.2407, 178.9962, 5163,    671.4, 2,   6.7582, 2,  34.5655, 2,  34.5654, 2,     75.8, 2,     77.4, 2,    43.97, 2,    37.33, 2,     0.01, 2,     2.64, 2,    0.102, 6,    0.054, 6,    0.007, 6, -999.000, 9,   -999.0, 9,   -999.0, 9, -999.0000,   -999.00,   -999.0, 9,   -999.0,  -999.00, 9,   -999.0,   6.6948, 27.1183,   6.7629, 2, 9, 0.22, 0.14, 0.01, 0.017,  -999.00, 9, -999.00, -999.00, 9, -999.00
49NZ20071122, P14N, 156, 1, 25, X12043, 2, 20071205, 2319, -3.2407, 178.9962, 5163,    770.2, 2,   5.9314, 2,  34.5417, 2,  34.5414, 2,     89.1, 2,     87.8, 2,    53.33, 2,    37.87, 2,     0.00, 2,     2.68, 2,    0.060, 2,    0.033, 2,    0.000, 2, -999.000, 9,   -999.0, 9,   -999.0, 9, -999.0000,   -999.00,   -999.0, 9,   -999.0,  -999.00, 9,   -999.0,   5.8630, 27.2078,   5.9315, 2, 9, 0.24, 0.14, 0.01, 0.017,  -999.00, 9, -999.00, -999.00, 9, -999.00
49NZ20071122, P14N, 156, 1, 24, X12030, 2, 20071205, 2319, -3.2407, 178.9962, 5163,    872.7, 2,   5.1769, 2,  34.5374, 2,  34.5370, 2,     96.9, 2,     95.0, 2,    64.49, 2,    38.06, 2,     0.01, 2,     2.71, 2,    0.033, 2,    0.021, 2,    0.000, 2, -999.000, 9,   -999.0, 9,   -999.0, 9, -999.0000,   -999.00,   -999.0, 9,   -999.0,  -999.00, 9,   -999.0,   5.1038, 27.2965,   5.1768, 2, 9, 0.26, 0.14, 0.01, 0.017,  -999.00, 9, -999.00, -999.00, 9, -999.00
49NZ20071122, P14N, 156, 1, 23, X12027, 2, 20071205, 2319, -3.2407, 178.9962, 5163,    971.9, 2,   4.5303, 2,  34.5457, 2,  34.5455, 6,    100.1, 2,     99.5, 2,    76.62, 2,    38.21, 2,     0.00, 2,     2.73, 2,    0.019, 2,    0.013, 2,    0.000, 2, -999.000, 9,   -999.0, 9,   -999.0, 9, -999.0000,   -999.00,   -999.0, 9,   -999.0,  -999.00, 9,   -999.0,   4.4529, 27.3765,   4.5306, 2, 9, 0.29, 0.14, 0.01, 0.017,  -999.00, 9, -999.00, -999.00, 9, -999.00
49NZ20071122, P14N, 156, 1, 22, X12028, 2, 20071205, 2319, -3.2407, 178.9962, 5163,   1130.2, 2,   4.0331, 2,  34.5591, 2,  34.5588, 2,     98.9, 2,    100.7, 2,    87.54, 2,    38.43, 2,     0.00, 2,     2.76, 2,    0.002, 2,    0.000, 2,    0.000, 2, -999.000, 9,   -999.0, 9,   -999.0, 9, -999.0000,   -999.00,   -999.0, 9,   -999.0,  -999.00, 9,   -999.0,   3.9461, 27.4410,   4.0331, 2, 9, 0.31, 0.14, 0.01, 0.017,  -999.00, 9, -999.00, -999.00, 9, -999.00
49NZ20071122, P14N, 156, 1, 21, X12009, 2, 20071205, 2319, -3.2407, 178.9962, 5163,   1328.6, 2,   3.4098, 2,  34.5815, 2,  34.5819, 2,    106.7, 2,    104.4, 2,   101.64, 2,    38.60, 2,     0.01, 2,     2.77, 2,    0.000, 2,    0.000, 2,    0.000, 2, -999.000, 9,   -999.0, 9,   -999.0, 9, -999.0000,   -999.00,   -999.0, 9,   -999.0,  -999.00, 9,   -999.0,   3.3118, 27.5218,   3.4099, 2, 9, 0.34, 0.14, 0.01, 0.017,  -999.00, 9, -999.00, -999.00, 9, -999.00
49NZ20071122, P14N, 156, 1, 20, X12026, 2, 20071205, 2319, -3.2407, 178.9962, 5163,   1530.9, 2,   2.9156, 2,  34.6033, 2,  34.6034, 2,    109.3, 2,    108.6, 2,   113.36, 2,    38.56, 2,     0.00, 2,     2.76, 2,    0.008, 2,    0.005, 2,    0.000, 2, -999.000, 9,   -999.0, 9,   -999.0, 9, -999.0000,   -999.00,   -999.0, 9,   -999.0,  -999.00, 9,   -999.0,   2.8061, 27.5860,   2.9158, 2, 9, 0.37, 0.14, 0.01, 0.017,  -999.00, 9, -999.00, -999.00, 9, -999.00
49NZ20071122, P14N, 156, 1, 19, X12025, 2, 20071205, 2319, -3.2407, 178.9962, 5163,   1731.0, 2,   2.5350, 2,  34.6211, 2,  34.6211, 2,    116.3, 2,    116.7, 2,   120.70, 2,    38.03, 2,     0.00, 2,     2.71, 2,    0.010, 2,    0.010, 2,    0.000, 2, -999.000, 9,   -999.0, 9,   -999.0, 9, -999.0000,   -999.00,   -999.0, 9,   -999.0,  -999.00, 9,   -999.0,   2.4135, 27.6343,   2.5352, 2, 9, 0.38, 0.14, 0.01, 0.017,  -999.00, 9, -999.00, -999.00, 9, -999.00
49NZ20071122, P14N, 156, 1, 18, X12024, 2, 20071205, 2319, -3.2407, 178.9962, 5163,   1930.8, 2,   2.2530, 2,  34.6385, 2,  34.6384, 2,    116.5, 2,    116.4, 2,   130.43, 2,    38.33, 2,     0.00, 2,     2.72, 2, -999.000, 9, -999.000, 9, -999.000, 9, -999.000, 9,   -999.0, 9,   -999.0, 9, -999.0000,   -999.00,   -999.0, 9,   -999.0,  -999.00, 9,   -999.0,   2.1186, 27.6726,   2.2530, 2, 9, 0.41, 0.14, 0.01, 0.017,  -999.00, 9, -999.00, -999.00, 9, -999.00
49NZ20071122, P14N, 156, 1, 17, X12023, 2, 20071205, 2319, -3.2407, 178.9962, 5163,   2131.8, 2,   2.0941, 2,  34.6473, 2,  34.6472, 6,    119.9, 2,    119.1, 2,   134.81, 2,    38.19, 2,     0.00, 2,     2.70, 2,    0.005, 2,    0.003, 2,    0.000, 2, -999.000, 9,   -999.0, 9,   -999.0, 9, -999.0000,   -999.00,   -999.0, 9,   -999.0,  -999.00, 9,   -999.0,   1.9449, 27.6935,   2.0941, 2, 9, 0.42, 0.14, 0.01, 0.017,  -999.00, 9, -999.00, -999.00, 9, -999.00
49NZ20071122, P14N, 156, 1, 16, X12022, 2, 20071205, 2319, -3.2407, 178.9962, 5163,   2331.2, 2,   1.9990, 2,  34.6524, 2,  34.6522, 2,    125.9, 2,    126.1, 2,   134.44, 2,    37.75, 2,     0.00, 2,     2.66, 2, -999.000, 9, -999.000, 9, -999.000, 9, -999.000, 9,   -999.0, 9,   -999.0, 9, -999.0000,   -999.00,   -999.0, 9,   -999.0,  -999.00, 9,   -999.0,   1.8339, 27.7062,   1.9992, 2, 9, 0.41, 0.14, 0.01, 0.017,  -999.00, 9, -999.00, -999.00, 9, -999.00
49NZ20071122, P14N, 156, 1, 15, X12021, 2, 20071205, 2319, -3.2407, 178.9962, 5163,   2529.9, 2,   1.8874, 2,  34.6591, 2,  34.6588, 2,    126.7, 2,    126.7, 2,   138.61, 2,    37.69, 2,     0.00, 2,     2.66, 2, -999.000, 9, -999.000, 9, -999.000, 9, -999.000, 9,   -999.0, 9,   -999.0, 9, -999.0000,   -999.00,   -999.0, 9,   -999.0,  -999.00, 9,   -999.0,   1.7065, 27.7213,   1.8877, 2, 9, 0.42, 0.14, 0.01, 0.017,  -999.00, 9, -999.00, -999.00, 9, -999.00
49NZ20071122, P14N, 156, 1, 14, X12020, 2, 20071205, 2319, -3.2407, 178.9962, 5163,   2728.4, 2,   1.8123, 2,  34.6648, 2,  34.6646, 2,    133.8, 2,    133.2, 2,   138.10, 2,    37.23, 2,     0.00, 2,     2.63, 2,    0.008, 2,    0.005, 2,    0.000, 2, -999.000, 9,   -999.0, 9,   -999.0, 9, -999.0000,   -999.00,   -999.0, 9,   -999.0,  -999.00, 9,   -999.0,   1.6145, 27.7327,   1.8124, 2, 9, 0.42, 0.14, 0.01, 0.017,  -999.00, 9, -999.00, -999.00, 9, -999.00
49NZ20071122, P14N, 156, 1, 13, X12019, 2, 20071205, 2319, -3.2407, 178.9962, 5163,   2929.4, 2,   1.7097, 2,  34.6703, 2,  34.6702, 2,    138.5, 2,    137.8, 2,   139.42, 2,    37.05, 2,     0.01, 2,     2.60, 2, -999.000, 9, -999.000, 9, -999.000, 9, -999.000, 9,   -999.0, 9,   -999.0, 9, -999.0000,   -999.00,   -999.0, 9,   -999.0,  -999.00, 9,   -999.0,   1.4951, 27.7460,   1.7098, 2, 9, 0.43, 0.14, 0.01, 0.016,  -999.00, 9, -999.00, -999.00, 9, -999.00
49NZ20071122, P14N, 156, 1, 12, X12040, 2, 20071205, 2319, -3.2407, 178.9962, 5163,   3169.9, 2,   1.6294, 2,  34.6761, 2,  34.6760, 2,    144.7, 2,    144.5, 2,   138.49, 2,    36.48, 2,     0.01, 2,     2.56, 2, -999.000, 9, -999.000, 9, -999.000, 9, -999.000, 9,   -999.0, 9,   -999.0, 9, -999.0000,   -999.00,   -999.0, 9,   -999.0,  -999.00, 9,   -999.0,   1.3933, 27.7580,   1.6293, 2, 9, 0.42, 0.13, 0.01, 0.016,  -999.00, 9, -999.00, -999.00, 9, -999.00
49NZ20071122, P14N, 156, 1, 11, X12047, 2, 20071205, 2319, -3.2407, 178.9962, 5163,   3419.0, 2,   1.5565, 2,  34.6823, 2,  34.6821, 2,    152.7, 2,    152.2, 2,   136.95, 2,    36.03, 2,     0.01, 2,     2.52, 2,    0.000, 2,    0.000, 2,    0.000, 2, -999.000, 9,   -999.0, 9,   -999.0, 9, -999.0000,   -999.00,   -999.0, 9,   -999.0,  -999.00, 9,   -999.0,   1.2972, 27.7697,   1.5565, 2, 9, 0.42, 0.13, 0.01, 0.016,  -999.00, 9, -999.00, -999.00, 9, -999.00
49NZ20071122, P14N, 156, 1, 10, X12012, 2, 20071205, 2319, -3.2407, 178.9962, 5163,   3669.0, 2,   1.4760, 2,  34.6880, 2,  34.6876, 2,    159.1, 2,    159.2, 2,   136.11, 2,    35.55, 2,     0.01, 2,     2.48, 2,    0.007, 2,    0.002, 2,    0.000, 2, -999.000, 9,   -999.0, 9,   -999.0, 9, -999.0000,   -999.00,   -999.0, 9,   -999.0,  -999.00, 9,   -999.0,   1.1930, 27.7816,   1.4761, 2, 9, 0.42, 0.13, 0.01, 0.016,  -999.00, 9, -999.00, -999.00, 9, -999.00
49NZ20071122, P14N, 156, 1, 9, X12015, 2, 20071205, 2319, -3.2407, 178.9962, 5163,   3920.9, 2,   1.4232, 2,  34.6918, 2,  34.6916, 6,    165.8, 2,    164.9, 2,   134.84, 2,    35.13, 2,     0.00, 2,     2.45, 2,    0.008, 2,    0.006, 2,    0.000, 2, -999.000, 9,   -999.0, 9,   -999.0, 9, -999.0000,   -999.00,   -999.0, 9,   -999.0,  -999.00, 9,   -999.0,   1.1150, 27.7900,   1.4231, 2, 9, 0.42, 0.13, 0.01, 0.016,  -999.00, 9, -999.00, -999.00, 9, -999.00
49NZ20071122, P14N, 156, 1, 8, X12046, 2, 20071205, 2319, -3.2407, 178.9962, 5163,   4170.8, 2,   1.3673, 2,  34.6961, 2,  34.6960, 2,    171.9, 2,    172.0, 2,   132.40, 2,    34.67, 2,     0.01, 2,     2.42, 2,    0.010, 2,    0.006, 2,    0.000, 2, -999.000, 9,   -999.0, 9,   -999.0, 9, -999.0000,   -999.00,   -999.0, 9,   -999.0,  -999.00, 9,   -999.0,   1.0334, 27.7989,   1.3673, 2, 9, 0.41, 0.13, 0.01, 0.016,  -999.00, 9, -999.00, -999.00, 9, -999.00
49NZ20071122, P14N, 156, 1, 7, X12044, 2, 20071205, 2319, -3.2407, 178.9962, 5163,   4418.8, 2,   1.3086, 2,  34.7001, 2,  34.7000, 2,    180.8, 2,    180.7, 2,   128.10, 2,    34.04, 2,     0.01, 2,     2.37, 2,    0.012, 2,    0.010, 2,    0.000, 2, -999.000, 9,   -999.0, 9,   -999.0, 9, -999.0000,   -999.00,   -999.0, 9,   -999.0,  -999.00, 9,   -999.0,   0.9487, 27.8078,   1.3086, 2, 9, 0.40, 0.13, 0.01, 0.016,  -999.00, 9, -999.00, -999.00, 9, -999.00
49NZ20071122, P14N, 156, 1, 6, X12048, 2, 20071205, 2319, -3.2407, 178.9962, 5163,   4670.7, 2,   1.2716, 2,  34.7034, 2,  34.7036, 2,    188.1, 2,    188.8, 2,   123.42, 2,    33.32, 2,     0.00, 2,     2.32, 2,    0.011, 2,    0.006, 2,    0.000, 2, -999.000, 9,   -999.0, 9,   -999.0, 9, -999.0000,   -999.00,   -999.0, 9,   -999.0,  -999.00, 9,   -999.0,   0.8840, 27.8147,   1.2717, 2, 9, 0.39, 0.13, 0.01, 0.016,  -999.00, 9, -999.00, -999.00, 9, -999.00
49NZ20071122, P14N, 156, 1, 5, X12014, 2, 20071205, 2319, -3.2407, 178.9962, 5163,   4919.3, 2,   1.2413, 2,  34.7059, 2,  34.7061, 2,    194.9, 2,    194.7, 2,   120.61, 2,    32.88, 2,     0.00, 2,     2.30, 2,    0.017, 2,    0.010, 2,    0.000, 2, -999.000, 9,   -999.0, 9,   -999.0, 9, -999.0000,   -999.00,   -999.0, 9,   -999.0,  -999.00, 9,   -999.0,   0.8254, 27.8204,   1.2413, 2, 9, 0.38, 0.12, 0.01, 0.016,  -999.00, 9, -999.00, -999.00, 9, -999.00
49NZ20071122, P14N, 156, 1, 4, X12006, 2, 20071205, 2319, -3.2407, 178.9962, 5163,   5170.0, 2,   1.2646, 2,  34.7061, 2,  34.7064, 2,    195.8, 2,    195.5, 2,   120.18, 2,    33.00, 2,     0.01, 2,     2.29, 2,    0.018, 2,    0.010, 2,    0.000, 2, -999.000, 9,   -999.0, 9,   -999.0, 9, -999.0000,   -999.00,   -999.0, 9,   -999.0,  -999.00, 9,   -999.0,   0.8176, 27.8211,   1.2645, 2, 9, 0.38, 0.13, 0.01, 0.016,  -999.00, 9, -999.00, -999.00, 9, -999.00
49NZ20071122, P14N, 156, 1, 3, X12013, 9, 20071205, 2319, -3.2407, 178.9962, 5163,      9.2, 2,  28.0288, 2,  35.6858, 2, -999.0000, 9,    201.1, 2,   -999.0, 9,  -999.00, 9,  -999.00, 9,  -999.00, 9,  -999.00, 9, -999.000, 9, -999.000, 9, -999.000, 9, -999.000, 9,   -999.0, 9,   -999.0, 9, -999.0000,   -999.00,   -999.0, 9,   -999.0,  -999.00, 9,   -999.0,  28.0266, 22.9018,  28.0294, 2, 9, -999.00, -999.00, -999.00, -999.000,  -999.00, 9, -999.00, -999.00, 9, -999.00
49NZ20071122, P14N, 156, 1, 2, X12002, 9, 20071205, 2319, -3.2407, 178.9962, 5163,     49.2, 2,  27.9186, 2,  35.6802, 2, -999.0000, 9,    200.1, 2,   -999.0, 9,  -999.00, 9,  -999.00, 9,  -999.00, 9,  -999.00, 9, -999.000, 9, -999.000, 9, -999.000, 9, -999.000, 9,   -999.0, 9,   -999.0, 9, -999.0000,   -999.00,   -999.0, 9,   -999.0,  -999.00, 9,   -999.0,  27.9070, 22.9367,  27.9176, 2, 9, -999.00, -999.00, -999.00, -999.000,  -999.00, 9, -999.00, -999.00, 9, -999.00
49NZ20071122, P14N, 156, 1, 1, X12001, 2, 20071205, 2319, -3.2407, 178.9962, 5163,   5222.6, 2,   1.2692, 2,  34.7062, 2,  34.7064, 6,    195.8, 2,    195.3, 2,   120.04, 2,    32.92, 2,     0.01, 2,     2.30, 2,    0.016, 2,    0.008, 2,    0.000, 2, -999.000, 9,   -999.0, 9,   -999.0, 9, -999.0000,   -999.00,   -999.0, 9,   -999.0,  -999.00, 9,   -999.0,   0.8155, 27.8213,   1.2692, 2, 9, 0.38, 0.12, 0.01, 0.016,  -999.00, 9, -999.00, -999.00, 9, -999.00