BOTTLE,20220820CCHSIOAMB
EXPOCODE,SECT_ID,STNNBR,CASTNO,SAMPNO,BTLNBR,BTLNBR_FLAG_W,DATE,TIME,LATITUDE,LONGITUDE,DEPTH,CTDPRS,CTDPRS_FLAG_W,CTDTMP,CTDTMP_FLAG_W,CTDSAL,CTDSAL_FLAG_W,SALNTY,SALNTY_FLAG_W,CTDOXY,CTDOXY_FLAG_W,OXYGEN,OXYGEN_FLAG_W,SILCAT,SILCAT_FLAG_W,NITRAT,NITRAT_FLAG_W,NITRIT,NITRIT_FLAG_W,PHSPHT,PHSPHT_FLAG_W,CFC-11,CFC-11_FLAG_W,CFC-12,CFC-12_FLAG_W,CFC113,CFC113_FLAG_W,CCL4,CCL4_FLAG_W,TCARBN,TCARBN_FLAG_W,ALKALI,ALKALI_FLAG_W,PH_TOT,PH_TMP,DELC14,DELC14_FLAG_W,C14ERR,DELC13,DELC13_FLAG_W,C13ERR,THETA,SIG0,SBE35,SBE35_FLAG_W,PH_TOT_FLAG_W,SILUNC,NRAUNC,NRIUNC,PHPUNC,CS-137,CS-137_FLAG_W,CS137ER,PLUTO,PLUTO_FLAG_W,PLUTOER
,,,,,,,,,,,METERS,DBAR,,ITS-90,,PSS-78,,PSS-78,,UMOL/KG,,UMOL/KG,,UMOL/KG,,UMOL/KG,,UMOL/KG,,UMOL/KG,,PMOL/KG,,PMOL/KG,,PMOL/KG,,PMOL/KG,,UMOL/KG,,UMOL/KG,,,DEG C,/MILLE,,/MILLE,/MILLE,,/MILLE,DEG C,KG/M^3,ITS-90,,,UMOL/KG,UMOL/KG,UMOL/KG,UMOL/KG,DM/.1MG,,BQ/M^3,MBQ/M^3,,MBQ/M^3
49NZ20071122, P14N, 169, 1, 36, X12042, 2, 20071209, 0234, -7.9967, 179.0012, 5082,     10.8, 2,  29.3523, 2,  34.9201, 2,  34.9207, 2,    194.3, 2,    194.3, 2,     0.79, 2,     0.05, 2,     0.00, 2,     0.18, 2,    1.439, 2,    0.896, 2,    0.218, 4, -999.000, 9,   1941.5, 2,   2299.4, 2,    8.1408,     25.00,   -999.0, 9,   -999.0,  -999.00, 9,   -999.0,  29.3497, 21.8868,  29.3514, 2, 6, 0.12, 0.03, 0.01, 0.016,  -999.00, 9, -999.00, -999.00, 9, -999.00
49NZ20071122, P14N, 169, 1, 35, X12041, 2, 20071209, 0234, -7.9967, 179.0012, 5082,     50.3, 2,  29.3077, 2,  34.9209, 2,  34.9214, 2,    194.4, 2,    194.3, 2,     0.77, 2,     0.04, 2,     0.00, 2,     0.19, 2,    1.448, 2,    0.907, 2,    0.223, 4, -999.000, 9,   1941.2, 6,   2299.3, 2,    8.1408,     25.00,   -999.0, 9,   -999.0,  -999.00, 9,   -999.0,  29.2954, 21.9057,  29.3063, 2, 2, 0.12, 0.03, 0.01, 0.016,  -999.00, 9, -999.00, -999.00, 9, -999.00
49NZ20071122, P14N, 169, 1, 34, X12016, 2, 20071209, 0234, -7.9967, 179.0012, 5082,    100.3, 2,  28.7530, 2,  35.6473, 2,  35.6696, 2,    176.5, 2,    182.9, 2,     0.91, 2,     0.39, 2,     0.07, 2,     0.30, 2,    1.553, 2,    0.968, 2,    0.685, 4, -999.000, 9,   2008.5, 2,   2348.7, 6,    8.0953,     25.00,   -999.0, 9,   -999.0,  -999.00, 9,   -999.0,  28.7289, 22.6408,  28.7504, 2, 2, 0.12, 0.03, 0.01, 0.014,  -999.00, 9, -999.00, -999.00, 9, -999.00
49NZ20071122, P14N, 169, 1, 33, X12033, 2, 20071209, 0234, -7.9967, 179.0012, 5082,    151.0, 2,  25.2518, 2,  36.2239, 2,  36.2250, 2,    142.3, 2,    144.7, 2,     1.19, 2,     4.72, 2,     0.29, 2,     0.61, 2,    1.798, 6,    1.079, 6,    0.158, 4, -999.000, 9,   2093.5, 2,   2383.3, 2,    8.0002,     25.00,   -999.0, 9,   -999.0,  -999.00, 9,   -999.0,  25.2187, 24.1995,  25.2568, 2, 6, 0.12, 0.05, 0.01, 0.013,  -999.00, 9, -999.00, -999.00, 9, -999.00
49NZ20071122, P14N, 169, 1, 32, X12038, 2, 20071209, 0234, -7.9967, 179.0012, 5082,    199.6, 2,  21.6039, 2,  35.9514, 2,  35.9427, 2,    143.1, 2,    141.9, 2,     1.78, 2,     7.49, 2,     0.01, 2,     0.77, 2,    2.020, 2,    1.171, 2,    0.068, 2, -999.000, 9,   2120.2, 2,   2367.0, 2,    7.9321,     25.00,   -999.0, 9,   -999.0,  -999.00, 9,   -999.0,  21.5647, 25.0627,  21.6038, 2, 2, 0.12, 0.05, 0.01, 0.013,  -999.00, 9, -999.00, -999.00, 9, -999.00
49NZ20071122, P14N, 169, 1, 31, X12003, 2, 20071209, 0234, -7.9967, 179.0012, 5082,    250.1, 2,  17.7478, 2,  35.4540, 2,  35.4226, 6,    127.4, 2,    127.8, 2,     4.66, 2,    12.08, 2,     0.01, 2,     1.11, 2,    1.987, 2,    1.102, 2,    0.032, 2, -999.000, 9,   2142.3, 2,   2336.0, 2,    7.8358,     25.00,   -999.0, 9,   -999.0,  -999.00, 9,   -999.0,  17.7051, 25.6924,  17.7492, 2, 2, 0.13, 0.07, 0.01, 0.013,  -999.00, 9, -999.00, -999.00, 9, -999.00
49NZ20071122, P14N, 169, 1, 30, X12008, 2, 20071209, 0234, -7.9967, 179.0012, 5082,    301.2, 2,  13.0649, 2,  34.9670, 2,  34.9613, 2,     98.5, 2,     98.0, 2,    12.28, 2,    21.22, 2,     0.00, 2,     1.70, 2,    1.274, 2,    0.677, 2,    0.022, 2, -999.000, 9,   2180.9, 2,   2311.3, 2,    7.6940,     25.00,   -999.0, 9,   -999.0,  -999.00, 9,   -999.0,  13.0232, 26.3626,  13.0679, 2, 2, 0.15, 0.09, 0.01, 0.014,  -999.00, 9, -999.00, -999.00, 9, -999.00
49NZ20071122, P14N, 169, 1, 29, X12035, 2, 20071209, 0234, -7.9967, 179.0012, 5082,    399.8, 2,   9.5217, 2,  34.7077, 2,  34.7068, 2,    107.4, 2,    104.2, 2,    22.21, 2,    28.53, 2,     0.00, 2,     2.06, 2,    0.568, 2,    0.294, 2,    0.016, 2, -999.000, 9,   2205.1, 2,   2305.0, 2,    7.6195,     25.00,   -999.0, 9,   -999.0,  -999.00, 9,   -999.0,   9.4764, 26.8117,   9.5206, 2, 2, 0.17, 0.11, 0.01, 0.015,  -999.00, 9, -999.00, -999.00, 9, -999.00
49NZ20071122, P14N, 169, 1, 28, X12034, 2, 20071209, 0234, -7.9967, 179.0012, 5082,    499.4, 2,   7.8485, 2,  34.6021, 2,  34.6009, 6,    111.3, 2,    110.7, 2,    30.06, 2,    31.73, 2,     0.00, 2,     2.23, 2,    0.322, 2,    0.169, 2,    0.006, 2, -999.000, 9,   2216.1, 2,   2307.2, 2,    7.5908,     25.00,   -999.0, 9,   -999.0,  -999.00, 9,   -999.0,   7.7978, 26.9914,   7.8490, 2, 2, 0.19, 0.12, 0.01, 0.016,  -999.00, 9, -999.00, -999.00, 9, -999.00
49NZ20071122, P14N, 169, 1, 27, X12049, 2, 20071209, 0234, -7.9967, 179.0012, 5082,    601.8, 2,   6.9914, 2,  34.5603, 2,  34.5603, 2,    110.1, 2,    109.4, 2,    36.50, 2,    33.59, 2,     0.00, 2,     2.36, 2,    0.196, 2,    0.105, 2,    0.004, 2, -999.000, 9,   2229.8, 2,   2311.5, 2,    7.5720,     25.00,   -999.0, 9,   -999.0,  -999.00, 9,   -999.0,   6.9338, 27.0815,   6.9921, 2, 2, 0.20, 0.13, 0.01, 0.016,  -999.00, 9, -999.00, -999.00, 9, -999.00
49NZ20071122, P14N, 169, 1, 26, X12032, 2, 20071209, 0234, -7.9967, 179.0012, 5082,    702.3, 2,   6.1903, 2,  34.5339, 2,  34.5339, 2,    111.0, 2,    109.7, 2,    44.78, 2,    35.26, 2,     0.00, 2,     2.49, 2,    0.116, 6,    0.062, 6,    0.000, 6, -999.000, 9,   2241.3, 6,   2318.6, 2,    7.5576,     25.00,   -999.0, 9,   -999.0,  -999.00, 9,   -999.0,   6.1269, 27.1681,   6.1908, 2, 2, 0.22, 0.13, 0.01, 0.016,  -999.00, 9, -999.00, -999.00, 9, -999.00
49NZ20071122, P14N, 169, 1, 25, X12043, 2, 20071209, 0234, -7.9967, 179.0012, 5082,    801.4, 2,   5.5593, 2,  34.5302, 2,  34.5300, 2,    103.2, 2,     98.5, 2,    54.98, 2,    37.39, 2,     0.00, 2,     2.65, 2,    0.036, 2,    0.022, 2,    0.000, 2, -999.000, 9,   2259.5, 2,   2328.0, 6,    7.5286,     25.00,   -999.0, 9,   -999.0,  -999.00, 9,   -999.0,   5.4902, 27.2447,   5.5601, 2, 2, 0.24, 0.14, 0.01, 0.017,  -999.00, 9, -999.00, -999.00, 9, -999.00
49NZ20071122, P14N, 169, 1, 24, X12030, 2, 20071209, 0234, -7.9967, 179.0012, 5082,    901.7, 2,   5.1653, 2,  34.5358, 2,  34.5356, 2,     90.9, 2,     90.7, 2,    63.65, 2,    38.70, 2,     0.00, 2,     2.74, 2,    0.017, 2,    0.006, 2,    0.000, 2, -999.000, 9,   2274.8, 2,   2336.1, 2,    7.5105,     25.00,   -999.0, 9,   -999.0,  -999.00, 9,   -999.0,   5.0896, 27.2968,   5.1658, 2, 6, 0.26, 0.14, 0.01, 0.017,  -999.00, 9, -999.00, -999.00, 9, -999.00
49NZ20071122, P14N, 169, 1, 23, X12027, 2, 20071209, 0234, -7.9967, 179.0012, 5082,   1001.9, 2,   4.6175, 2,  34.5360, 2,  34.5356, 6,    103.6, 2,    105.7, 2,    70.77, 2,    37.80, 2,     0.00, 2,     2.69, 2,    0.018, 2,    0.009, 2,    0.000, 2, -999.000, 9,   2277.0, 2,   2344.5, 2,    7.5310,     25.00,   -999.0, 9,   -999.0,  -999.00, 9,   -999.0,   4.5369, 27.3596,   4.6176, 2, 2, 0.27, 0.14, 0.01, 0.017,  -999.00, 9, -999.00, -999.00, 9, -999.00
49NZ20071122, P14N, 169, 1, 22, X12028, 2, 20071209, 0234, -7.9967, 179.0012, 5082,   1200.1, 2,   3.8733, 2,  34.5555, 2,  34.5566, 3,    112.2, 2,    112.4, 2,    86.43, 2,    37.74, 2,     0.00, 2,     2.69, 2,    0.010, 2,    0.007, 2,    0.000, 2, -999.000, 9,   2291.6, 2,   2362.4, 2,    7.5378,     25.00,   -999.0, 9,   -999.0,  -999.00, 9,   -999.0,   3.7818, 27.4550,   3.8738, 2, 2, 0.31, 0.14, 0.01, 0.017,  -999.00, 9, -999.00, -999.00, 9, -999.00
49NZ20071122, P14N, 169, 1, 21, X12009, 2, 20071209, 0234, -7.9967, 179.0012, 5082,   1403.1, 2,   3.2029, 2,  34.5782, 2,  34.5783, 2,    116.8, 2,    125.5, 2,    97.22, 2,    37.08, 2,     0.00, 2,     2.64, 2,    0.009, 2,    0.007, 2,    0.000, 2, -999.000, 9,   2297.2, 2,   2374.6, 2,    7.5554,     25.00,   -999.0, 9,   -999.0,  -999.00, 9,   -999.0,   3.1009, 27.5391,   3.2030, 2, 2, 0.33, 0.14, 0.01, 0.017,  -999.00, 9, -999.00, -999.00, 9, -999.00
49NZ20071122, P14N, 169, 1, 20, X12026, 2, 20071209, 0234, -7.9967, 179.0012, 5082,   1600.6, 2,   2.7868, 2,  34.5979, 2,  34.5978, 2,    131.7, 2,    131.7, 2,   105.18, 2,    36.86, 2,     0.00, 2,     2.61, 2,    0.006, 2,    0.005, 2,    0.000, 2, -999.000, 9,   2302.0, 2,   2384.8, 2,    7.5642,     25.00,   -999.0, 9,   -999.0,  -999.00, 9,   -999.0,   2.6730, 27.5934,   2.7869, 2, 6, 0.35, 0.14, 0.01, 0.016,  -999.00, 9, -999.00, -999.00, 9, -999.00
49NZ20071122, P14N, 169, 1, 19, X12025, 2, 20071209, 0234, -7.9967, 179.0012, 5082,   1802.0, 2,   2.4633, 2,  34.6193, 2,  34.6193, 2,    132.4, 2,    132.3, 2,   114.75, 2,    36.93, 2,     0.00, 2,     2.62, 2,    0.004, 2,    0.002, 2,    0.000, 2, -999.000, 9,   2312.6, 2,   2394.3, 2,    7.5660,     25.00,   -999.0, 9,   -999.0,  -999.00, 9,   -999.0,   2.3368, 27.6393,   2.4635, 2, 2, 0.37, 0.14, 0.01, 0.017,  -999.00, 9, -999.00, -999.00, 9, -999.00
49NZ20071122, P14N, 169, 1, 18, X12024, 2, 20071209, 0234, -7.9967, 179.0012, 5082,   1999.9, 2,   2.2279, 2,  34.6364, 2,  34.6367, 2,    132.5, 2,    130.9, 2,   123.29, 2,    37.23, 2,     0.00, 2,     2.63, 2,    0.003, 2,    0.003, 2,    0.000, 2, -999.000, 9,   2322.9, 2,   2402.3, 2,    7.5655,     25.00,   -999.0, 9,   -999.0,  -999.00, 9,   -999.0,   2.0880, 27.6734,   2.2280, 2, 2, 0.39, 0.14, 0.01, 0.017,  -999.00, 9, -999.00, -999.00, 9, -999.00
49NZ20071122, P14N, 169, 1, 17, X12023, 2, 20071209, 0234, -7.9967, 179.0012, 5082,   2200.4, 2,   2.0522, 2,  34.6477, 2,  34.6477, 6,    134.8, 2,    134.7, 2,   127.09, 2,    36.97, 2,     0.00, 2,     2.61, 2,    0.005, 2,    0.003, 2,    0.000, 2, -999.000, 9,   2324.5, 2,   2407.3, 2,    7.5717,     25.00,   -999.0, 9,   -999.0,  -999.00, 9,   -999.0,   1.8977, 27.6974,   2.0522, 2, 2, 0.40, 0.14, 0.01, 0.016,  -999.00, 9, -999.00, -999.00, 9, -999.00
49NZ20071122, P14N, 169, 1, 16, X12022, 2, 20071209, 0234, -7.9967, 179.0012, 5082,   2400.4, 2,   1.8975, 2,  34.6589, 2,  34.6588, 2,    137.6, 2,    137.4, 2,   131.15, 2,    36.87, 2,     0.00, 2,     2.60, 2, -999.000, 9, -999.000, 9, -999.000, 9, -999.000, 9,   2326.1, 6,   2412.1, 2,    7.5765,     25.00,   -999.0, 9,   -999.0,  -999.00, 9,   -999.0,   1.7280, 27.7195,   1.8976, 2, 2, 0.41, 0.14, 0.01, 0.016,  -999.00, 9, -999.00, -999.00, 9, -999.00
49NZ20071122, P14N, 169, 1, 15, X12021, 2, 20071209, 0234, -7.9967, 179.0012, 5082,   2601.4, 2,   1.8126, 2,  34.6652, 2,  34.6649, 2,    140.1, 2,    140.2, 2,   133.08, 2,    36.79, 2,     0.00, 2,     2.59, 2, -999.000, 9, -999.000, 9, -999.000, 9, -999.000, 9,   2327.4, 2,   2413.4, 6,    7.5807,     25.00,   -999.0, 9,   -999.0,  -999.00, 9,   -999.0,   1.6266, 27.7322,   1.8125, 2, 2, 0.41, 0.14, 0.01, 0.016,  -999.00, 9, -999.00, -999.00, 9, -999.00
49NZ20071122, P14N, 169, 1, 14, X12020, 2, 20071209, 0234, -7.9967, 179.0012, 5082,   2801.7, 2,   1.7084, 2,  34.6710, 2,  34.6708, 2,    142.8, 2,    143.1, 2,   135.36, 2,    36.53, 2,     0.00, 2,     2.57, 2,    0.005, 2,    0.001, 2,    0.000, 2, -999.000, 9,   2328.2, 2,   2415.4, 2,    7.5838,     25.00,   -999.0, 9,   -999.0,  -999.00, 9,   -999.0,   1.5059, 27.7457,   1.7085, 2, 2, 0.42, 0.14, 0.01, 0.016,  -999.00, 9, -999.00, -999.00, 9, -999.00
49NZ20071122, P14N, 169, 1, 13, X12019, 2, 20071209, 0234, -7.9967, 179.0012, 5082,   3000.8, 2,   1.6544, 2,  34.6754, 2,  34.6751, 2,    146.1, 2,    147.0, 2,   135.25, 2,    36.35, 2,     0.00, 2,     2.55, 2, -999.000, 9, -999.000, 9, -999.000, 9, -999.000, 9,   2324.8, 2,   2415.6, 2,    7.5893,     25.00,   -999.0, 9,   -999.0,  -999.00, 9,   -999.0,   1.4341, 27.7545,   1.6545, 2, 2, 0.42, 0.13, 0.01, 0.016,  -999.00, 9, -999.00, -999.00, 9, -999.00
49NZ20071122, P14N, 169, 1, 12, X12040, 2, 20071209, 0234, -7.9967, 179.0012, 5082,   3250.1, 2,   1.6040, 2,  34.6794, 2,  34.6794, 2,    150.1, 2,    151.0, 2,   135.31, 2,    35.97, 2,     0.00, 2,     2.52, 2, -999.000, 9, -999.000, 9, -999.000, 9, -999.000, 9,   2323.7, 2,   2415.1, 2,    7.5942,     25.00,   -999.0, 9,   -999.0,  -999.00, 9,   -999.0,   1.3605, 27.7629,   1.6041, 2, 2, 0.42, 0.13, 0.01, 0.016,  -999.00, 9, -999.00, -999.00, 9, -999.00
49NZ20071122, P14N, 169, 1, 11, X12047, 2, 20071209, 0234, -7.9967, 179.0012, 5082,   3501.6, 2,   1.5283, 2,  34.6841, 2,  34.6838, 2,    155.4, 2,    156.2, 2,   135.00, 2,    35.63, 2,     0.00, 2,     2.50, 2,    0.000, 2,    0.000, 2,    0.003, 2, -999.000, 9,   2319.4, 2,   2412.5, 2,    7.5987,     25.00,   -999.0, 9,   -999.0,  -999.00, 9,   -999.0,   1.2613, 27.7737,   1.5285, 2, 2, 0.42, 0.13, 0.01, 0.016,  -999.00, 9, -999.00, -999.00, 9, -999.00
49NZ20071122, P14N, 169, 1, 10, X12012, 2, 20071209, 0234, -7.9967, 179.0012, 5082,   3749.8, 2,   1.4423, 2,  34.6909, 2,  34.6906, 2,    164.4, 2,    166.4, 2,   131.00, 2,    34.99, 2,     0.00, 2,     2.44, 2, -999.000, 9, -999.000, 9, -999.000, 9, -999.000, 9,   2307.6, 2,   2405.9, 2,    7.6069,     25.00,   -999.0, 9,   -999.0,  -999.00, 9,   -999.0,   1.1517, 27.7867,   1.4424, 2, 2, 0.41, 0.13, 0.01, 0.016,  -999.00, 9, -999.00, -999.00, 9, -999.00
49NZ20071122, P14N, 169, 1, 9, X12015, 2, 20071209, 0234, -7.9967, 179.0012, 5082,   4000.7, 2,   1.3649, 2,  34.6973, 2,  34.6970, 6,    175.9, 2,    177.3, 2,   125.95, 2,    34.09, 2,     0.00, 2,     2.38, 2,    0.009, 2,    0.004, 2,    0.000, 2, -999.000, 9,   2294.6, 2,   2395.4, 2,    7.6134,     25.00,   -999.0, 9,   -999.0,  -999.00, 9,   -999.0,   1.0497, 27.7988,   1.3652, 2, 2, 0.40, 0.13, 0.01, 0.016,  -999.00, 9, -999.00, -999.00, 9, -999.00
49NZ20071122, P14N, 169, 1, 8, X12046, 2, 20071209, 0234, -7.9967, 179.0012, 5082,   4252.7, 2,   1.2854, 2,  34.7034, 2,  34.7032, 2,    187.4, 2,    188.0, 2,   121.25, 2,    33.26, 2,     0.00, 2,     2.32, 2,    0.025, 2,    0.016, 2,    0.000, 2, -999.000, 9,   2281.9, 6,   2384.0, 2,    7.6183,     25.00,   -999.0, 9,   -999.0,  -999.00, 9,   -999.0,   0.9448, 27.8107,   1.2855, 2, 2, 0.39, 0.13, 0.01, 0.016,  -999.00, 9, -999.00, -999.00, 9, -999.00
49NZ20071122, P14N, 169, 1, 7, X12044, 2, 20071209, 0234, -7.9967, 179.0012, 5082,   4499.2, 2,   1.2566, 2,  34.7058, 2,  34.7058, 2,    192.3, 2,    192.4, 2,   119.64, 2,    33.00, 2,     0.00, 2,     2.30, 2,    0.023, 2,    0.011, 2,    0.000, 2, -999.000, 9,   2277.4, 2,   2379.9, 6,    7.6212,     25.00,   -999.0, 9,   -999.0,  -999.00, 9,   -999.0,   0.8892, 27.8163,   1.2566, 2, 2, 0.38, 0.13, 0.01, 0.016,  -999.00, 9, -999.00, -999.00, 9, -999.00
49NZ20071122, P14N, 169, 1, 6, X12048, 2, 20071209, 0234, -7.9967, 179.0012, 5082,   4751.3, 2,   1.2588, 2,  34.7065, 2,  34.7067, 2,    194.2, 2,    194.2, 2,   119.49, 2,    32.82, 2,     0.00, 2,     2.29, 2,    0.023, 2,    0.012, 2,    0.000, 2, -999.000, 9,   2274.9, 2,   2378.8, 2,    7.6218,     25.00,   -999.0, 9,   -999.0,  -999.00, 9,   -999.0,   0.8621, 27.8186,   1.2589, 2, 2, 0.38, 0.12, 0.01, 0.016,  -999.00, 9, -999.00, -999.00, 9, -999.00
49NZ20071122, P14N, 169, 1, 5, X12014, 2, 20071209, 0234, -7.9967, 179.0012, 5082,   5001.1, 2,   1.2701, 2,  34.7066, 2,  34.7068, 2,    195.0, 2,    195.0, 2,   119.55, 2,    32.83, 2,     0.00, 2,     2.29, 2,    0.022, 2,    0.012, 2,    0.000, 2, -999.000, 9,   2275.3, 2,   2378.8, 2, -999.0000,   -999.00,   -999.0, 9,   -999.0,  -999.00, 9,   -999.0,   0.8434, 27.8198,   1.2701, 2, 5, 0.38, 0.12, 0.01, 0.016,  -999.00, 9, -999.00, -999.00, 9, -999.00
49NZ20071122, P14N, 169, 1, 4, X12006, 9, 20071209, 0234, -7.9967, 179.0012, 5082,     10.3, 2,  29.3691, 2,  34.9205, 2, -999.0000, 9,    194.1, 2,   -999.0, 9,  -999.00, 9,  -999.00, 9,  -999.00, 9,  -999.00, 9, -999.000, 9, -999.000, 9, -999.000, 9, -999.000, 9,   -999.0, 9,   -999.0, 9, -999.0000,   -999.00,   -999.0, 9,   -999.0,  -999.00, 9,   -999.0,  29.3666, 21.8814,  29.3710, 2, 9, -999.00, -999.00, -999.00, -999.000,  -999.00, 9, -999.00, -999.00, 9, -999.00
49NZ20071122, P14N, 169, 1, 3, X12013, 9, 20071209, 0234, -7.9967, 179.0012, 5082,     50.3, 2,  29.3083, 2,  34.9206, 2, -999.0000, 9,    194.5, 2,   -999.0, 9,  -999.00, 9,  -999.00, 9,  -999.00, 9,  -999.00, 9, -999.000, 9, -999.000, 9, -999.000, 9, -999.000, 9,   -999.0, 9,   -999.0, 9, -999.0000,   -999.00,   -999.0, 9,   -999.0,  -999.00, 9,   -999.0,  29.2960, 21.9052,  29.3063, 2, 9, -999.00, -999.00, -999.00, -999.000,  -999.00, 9, -999.00, -999.00, 9, -999.00
49NZ20071122, P14N, 169, 1, 2, X12002, 9, 20071209, 0234, -7.9967, 179.0012, 5082,    100.8, 2,  28.7513, 2,  35.6461, 2, -999.0000, 9,    176.3, 2,   -999.0, 9,  -999.00, 9,  -999.00, 9,  -999.00, 9,  -999.00, 9, -999.000, 9, -999.000, 9, -999.000, 9, -999.000, 9,   -999.0, 9,   -999.0, 9, -999.0000,   -999.00,   -999.0, 9,   -999.0,  -999.00, 9,   -999.0,  28.7270, 22.6405,  28.7475, 2, 9, -999.00, -999.00, -999.00, -999.000,  -999.00, 9, -999.00, -999.00, 9, -999.00
49NZ20071122, P14N, 169, 1, 1, X12001, 2, 20071209, 0234, -7.9967, 179.0012, 5082,   5156.8, 2,   1.2839, 2,  34.7065, 2,  34.7069, 6,    195.3, 2,    195.2, 2,   119.61, 2,    32.84, 2,     0.00, 2,     2.29, 2,    0.016, 2,    0.011, 2,    0.000, 2, -999.000, 9,   2272.8, 2,   2379.3, 2, -999.0000,   -999.00,   -999.0, 9,   -999.0,  -999.00, 9,   -999.0,   0.8378, 27.8202,   1.2840, 2, 5, 0.38, 0.12, 0.01, 0.016,  -999.00, 9, -999.00, -999.00, 9, -999.00