BOTTLE,20220820CCHSIOAMB
EXPOCODE,SECT_ID,STNNBR,CASTNO,SAMPNO,BTLNBR,BTLNBR_FLAG_W,DATE,TIME,LATITUDE,LONGITUDE,DEPTH,CTDPRS,CTDPRS_FLAG_W,CTDTMP,CTDTMP_FLAG_W,CTDSAL,CTDSAL_FLAG_W,SALNTY,SALNTY_FLAG_W,CTDOXY,CTDOXY_FLAG_W,OXYGEN,OXYGEN_FLAG_W,SILCAT,SILCAT_FLAG_W,NITRAT,NITRAT_FLAG_W,NITRIT,NITRIT_FLAG_W,PHSPHT,PHSPHT_FLAG_W,CFC-11,CFC-11_FLAG_W,CFC-12,CFC-12_FLAG_W,CFC113,CFC113_FLAG_W,CCL4,CCL4_FLAG_W,TCARBN,TCARBN_FLAG_W,ALKALI,ALKALI_FLAG_W,PH_TOT,PH_TMP,DELC14,DELC14_FLAG_W,C14ERR,DELC13,DELC13_FLAG_W,C13ERR,THETA,SIG0,SBE35,SBE35_FLAG_W,PH_TOT_FLAG_W,SILUNC,NRAUNC,NRIUNC,PHPUNC,CS-137,CS-137_FLAG_W,CS137ER,PLUTO,PLUTO_FLAG_W,PLUTOER
,,,,,,,,,,,METERS,DBAR,,ITS-90,,PSS-78,,PSS-78,,UMOL/KG,,UMOL/KG,,UMOL/KG,,UMOL/KG,,UMOL/KG,,UMOL/KG,,PMOL/KG,,PMOL/KG,,PMOL/KG,,PMOL/KG,,UMOL/KG,,UMOL/KG,,,DEG C,/MILLE,,/MILLE,/MILLE,,/MILLE,DEG C,KG/M^3,ITS-90,,,UMOL/KG,UMOL/KG,UMOL/KG,UMOL/KG,DM/.1MG,,BQ/M^3,MBQ/M^3,,MBQ/M^3
49NZ20071122, P14N, 124, 1, 36, X12042, 2, 20071127, 1036, 4.7487, 179.0013, 5857,     11.3, 2,  27.5826, 2,  34.9034, 2,  34.9027, 2,    199.3, 2,    199.3, 2,     1.55, 2,     1.89, 2,     0.22, 2,     0.35, 2,    1.533, 2,    0.971, 2,    0.186, 4, -999.000, 9,   -999.0, 9,   -999.0, 9, -999.0000,   -999.00,   -999.0, 9,   -999.0,  -999.00, 9,   -999.0,  27.5800, 22.4586,  27.5731, 2, 9, 0.12, 0.04, 0.01, 0.014,  -999.00, 9, -999.00, -999.00, 9, -999.00
49NZ20071122, P14N, 124, 1, 35, X12041, 2, 20071127, 1036, 4.7487, 179.0013, 5857,     52.2, 2,  27.2773, 2,  35.0330, 2,  35.0287, 2,    202.4, 2,    201.3, 2,     1.67, 2,     2.75, 2,     0.26, 2,     0.40, 2,    1.565, 2,    0.994, 2,    0.190, 4, -999.000, 9,   -999.0, 9,   -999.0, 9, -999.0000,   -999.00,   -999.0, 9,   -999.0,  -999.00, 9,   -999.0,  27.2652, 22.6576,  27.2768, 2, 9, 0.12, 0.04, 0.01, 0.013,  -999.00, 9, -999.00, -999.00, 9, -999.00
49NZ20071122, P14N, 124, 1, 34, X12016, 2, 20071127, 1036, 4.7487, 179.0013, 5857,    102.7, 2,  27.1101, 2,  35.1871, 2,  35.1870, 2,    198.5, 2,    196.9, 2,     1.82, 2,     3.12, 2,     0.46, 2,     0.45, 2,    1.565, 2,    0.983, 2,    0.195, 4, -999.000, 9,   -999.0, 9,   -999.0, 9, -999.0000,   -999.00,   -999.0, 9,   -999.0,  -999.00, 9,   -999.0,  27.0865, 22.8310,  27.1087, 2, 9, 0.12, 0.04, 0.00, 0.013,  -999.00, 1, -999.00, -999.00, 9, -999.00
49NZ20071122, P14N, 124, 1, 33, X12033, 2, 20071127, 1036, 4.7487, 179.0013, 5857,    150.8, 2,  27.1171, 2,  35.3038, 2,  35.3061, 2,    191.3, 2,    189.0, 2,     2.01, 2,     3.45, 2,     0.69, 2,     0.51, 2,    1.562, 6,    0.972, 6,    0.177, 4, -999.000, 9,   -999.0, 9,   -999.0, 9, -999.0000,   -999.00,   -999.0, 9,   -999.0,  -999.00, 9,   -999.0,  27.0823, 22.9203,  27.1152, 2, 9, 0.12, 0.04, 0.00, 0.013,  -999.00, 9, -999.00, -999.00, 9, -999.00
49NZ20071122, P14N, 124, 1, 32, X12038, 2, 20071127, 1036, 4.7487, 179.0013, 5857,    199.8, 2,  19.0224, 2,  34.7491, 2,  34.7577, 2,    137.2, 2,    135.9, 2,     8.02, 2,    10.49, 2,     0.02, 2,     0.87, 2,    1.990, 2,    1.147, 2,    0.093, 2, -999.000, 9,   -999.0, 9,   -999.0, 9, -999.0000,   -999.00,   -999.0, 9,   -999.0,  -999.00, 9,   -999.0,  18.9868, 24.8328,  18.8981, 2, 9, 0.14, 0.06, 0.01, 0.013,  -999.00, 1, -999.00, -999.00, 9, -999.00
49NZ20071122, P14N, 124, 1, 31, X12003, 2, 20071127, 1036, 4.7487, 179.0013, 5857,    249.5, 2,  11.4997, 2,  34.5417, 2,  34.5361, 6,     89.4, 2,     86.2, 2,    27.55, 2,    26.09, 2,     0.00, 2,     1.92, 2,    1.259, 2,    0.665, 2,    0.024, 2, -999.000, 9,   -999.0, 9,   -999.0, 9, -999.0000,   -999.00,   -999.0, 9,   -999.0,  -999.00, 9,   -999.0,  11.4681, 26.3330,  11.5048, 2, 9, 0.18, 0.11, 0.01, 0.015,  -999.00, 9, -999.00, -999.00, 9, -999.00
49NZ20071122, P14N, 124, 1, 30, X12008, 2, 20071127, 1036, 4.7487, 179.0013, 5857,    299.8, 2,   9.7882, 2,  34.5926, 2,  34.5921, 2,     74.9, 2,     74.7, 2,    33.10, 2,    30.21, 2,     0.01, 2,     2.19, 2,    0.731, 2,    0.384, 2,    0.018, 2, -999.000, 9,   -999.0, 9,   -999.0, 9, -999.0000,   -999.00,   -999.0, 9,   -999.0,  -999.00, 9,   -999.0,   9.7539, 26.6754,   9.7893, 2, 9, 0.19, 0.12, 0.01, 0.016,  -999.00, 9, -999.00, -999.00, 9, -999.00
49NZ20071122, P14N, 124, 1, 29, X12035, 2, 20071127, 1036, 4.7487, 179.0013, 5857,    400.4, 2,   8.8020, 2,  34.6202, 2,  34.6193, 2,     80.8, 2,     77.6, 2,    34.46, 2,    32.30, 2,     0.00, 2,     2.31, 2,    0.436, 2,    0.227, 2,    0.014, 2, -999.000, 9,   -999.0, 9,   -999.0, 9, -999.0000,   -999.00,   -999.0, 9,   -999.0,  -999.00, 9,   -999.0,   8.7588, 26.8590,   8.8022, 2, 9, 0.19, 0.12, 0.01, 0.016,  -999.00, 1, -999.00, -999.00, 9, -999.00
49NZ20071122, P14N, 124, 1, 28, X12034, 2, 20071127, 1036, 4.7487, 179.0013, 5857,    502.4, 2,   7.9622, 2,  34.5947, 2,  34.5951, 6,     75.8, 2,     77.2, 2,    38.33, 2,    34.20, 2,     0.00, 2,     2.44, 2,    0.266, 2,    0.140, 2,    0.008, 2, -999.000, 9,   -999.0, 9,   -999.0, 9, -999.0000,   -999.00,   -999.0, 9,   -999.0,  -999.00, 9,   -999.0,   7.9108, 26.9688,   7.9633, 2, 9, 0.20, 0.13, 0.01, 0.016,  -999.00, 9, -999.00, -999.00, 9, -999.00
49NZ20071122, P14N, 124, 1, 27, X12049, 2, 20071127, 1036, 4.7487, 179.0013, 5857,    600.3, 2,   7.1997, 2,  34.5695, 2,  34.5686, 2,     79.1, 2,     83.1, 2,    43.25, 2,    35.31, 2,     0.00, 2,     2.52, 2,    0.181, 2,    0.096, 2,    0.008, 2, -999.000, 9,   -999.0, 9,   -999.0, 9, -999.0000,   -999.00,   -999.0, 9,   -999.0,  -999.00, 9,   -999.0,   7.1413, 27.0600,   7.2011, 2, 9, 0.21, 0.13, 0.01, 0.016,  -999.00, 1, -999.00, -999.00, 9, -999.00
49NZ20071122, P14N, 124, 1, 26, X12032, 2, 20071127, 1036, 4.7487, 179.0013, 5857,    700.8, 2,   6.4159, 2,  34.5539, 2,  34.5529, 2,     62.3, 2,     60.7, 2,    55.21, 2,    38.80, 2,     0.00, 2,     2.79, 2,    0.046, 6,    0.025, 6,    0.000, 6, -999.000, 9,   -999.0, 9,   -999.0, 9, -999.0000,   -999.00,   -999.0, 9,   -999.0,  -999.00, 9,   -999.0,   6.3514, 27.1547,   6.4164, 2, 9, 0.24, 0.14, 0.01, 0.017,  -999.00, 9, -999.00, -999.00, 9, -999.00
49NZ20071122, P14N, 124, 1, 25, X12043, 2, 20071127, 1036, 4.7487, 179.0013, 5857,    799.9, 2,   5.8473, 2,  34.5453, 2,  34.5451, 2,     67.3, 2,     66.6, 2,    62.89, 2,    39.39, 2,     0.00, 2,     2.83, 2,    0.024, 2,    0.013, 2,    0.000, 2, -999.000, 9,   -999.0, 9,   -999.0, 9, -999.0000,   -999.00,   -999.0, 9,   -999.0,  -999.00, 9,   -999.0,   5.7766, 27.2215,   5.8478, 2, 9, 0.26, 0.14, 0.01, 0.017,  -999.00, 1, -999.00, -999.00, 9, -999.00
49NZ20071122, P14N, 124, 1, 24, X12030, 2, 20071127, 1036, 4.7487, 179.0013, 5857,    900.7, 2,   5.3630, 2,  34.5464, 2,  34.5456, 2,     72.3, 2,     71.4, 2,    69.39, 2,    39.60, 2,     0.00, 2,     2.83, 2,    0.013, 2,    0.008, 2,    0.000, 2, -999.000, 9,   -999.0, 9,   -999.0, 9, -999.0000,   -999.00,   -999.0, 9,   -999.0,  -999.00, 9,   -999.0,   5.2861, 27.2821,   5.3633, 2, 9, 0.27, 0.14, 0.01, 0.017,  -999.00, 9, -999.00, -999.00, 9, -999.00
49NZ20071122, P14N, 124, 1, 23, X12027, 2, 20071127, 1036, 4.7487, 179.0013, 5857,    999.9, 2,   4.9503, 2,  34.5479, 2,  34.5478, 6,     79.2, 2,     79.1, 2,    77.29, 2,    39.26, 2,     0.00, 2,     2.82, 2,    0.014, 2,    0.006, 2,    0.000, 2, -999.000, 9,   -999.0, 9,   -999.0, 9, -999.0000,   -999.00,   -999.0, 9,   -999.0,  -999.00, 9,   -999.0,   4.8673, 27.3321,   4.9509, 2, 9, 0.29, 0.14, 0.01, 0.017,  -999.00, 1, -999.00, -999.00, 9, -999.00
49NZ20071122, P14N, 124, 1, 22, X12028, 2, 20071127, 1036, 4.7487, 179.0013, 5857,   1200.7, 2,   4.1575, 2,  34.5656, 2,  34.5658, 2,     79.7, 2,     79.5, 2,    94.68, 2,    39.92, 2,     0.00, 2,     2.88, 2,    0.001, 2,    0.001, 2,    0.000, 2, -999.000, 9,   -999.0, 9,   -999.0, 9, -999.0000,   -999.00,   -999.0, 9,   -999.0,  -999.00, 9,   -999.0,   4.0633, 27.4340,   4.1580, 2, 9, 0.33, 0.14, 0.01, 0.017,  -999.00, 9, -999.00, -999.00, 9, -999.00
49NZ20071122, P14N, 124, 1, 21, X12009, 2, 20071127, 1036, 4.7487, 179.0013, 5857,   1401.7, 2,   3.4438, 2,  34.5876, 2,  34.5872, 2,     83.1, 2,     83.0, 2,   110.33, 2,    40.28, 2,     0.00, 2,     2.90, 2,    0.000, 2,    0.000, 2,    0.000, 2, -999.000, 9,   -999.0, 9,   -999.0, 9, -999.0000,   -999.00,   -999.0, 9,   -999.0,  -999.00, 9,   -999.0,   3.3393, 27.5241,   3.4445, 2, 9, 0.36, 0.15, 0.01, 0.017,  -999.00, 9, -999.00, -999.00, 9, -999.00
49NZ20071122, P14N, 124, 1, 20, X12026, 2, 20071127, 1036, 4.7487, 179.0013, 5857,   1602.4, 2,   2.9592, 2,  34.6061, 2,  34.6060, 2,     90.6, 2,     90.8, 2,   120.91, 2,    39.89, 2,     0.00, 2,     2.86, 2, -999.000, 9, -999.000, 9, -999.000, 9, -999.000, 9,   -999.0, 9,   -999.0, 9, -999.0000,   -999.00,   -999.0, 9,   -999.0,  -999.00, 9,   -999.0,   2.8432, 27.5848,   2.9604, 2, 9, 0.38, 0.14, 0.01, 0.017,  -999.00, 9, -999.00, -999.00, 9, -999.00
49NZ20071122, P14N, 124, 1, 19, X12025, 2, 20071127, 1036, 4.7487, 179.0013, 5857,   1800.4, 2,   2.6119, 2,  34.6214, 2,  34.6215, 2,     95.9, 2,     97.9, 2,   128.54, 2,    39.57, 2,     0.00, 2,     2.83, 2, -999.000, 9, -999.000, 9, -999.000, 9, -999.000, 9,   -999.0, 9,   -999.0, 9, -999.0000,   -999.00,   -999.0, 9,   -999.0,  -999.00, 9,   -999.0,   2.4835, 27.6286,   2.6119, 2, 9, 0.40, 0.14, 0.01, 0.017,  -999.00, 1, -999.00, -999.00, 9, -999.00
49NZ20071122, P14N, 124, 1, 18, X12024, 2, 20071127, 1036, 4.7487, 179.0013, 5857,   2000.5, 2,   2.3201, 2,  34.6360, 2,  34.6356, 2,    103.7, 2,    104.6, 2,   135.10, 2,    39.22, 2,     0.00, 2,     2.79, 2,    0.000, 2,    0.000, 2,    0.000, 2, -999.000, 9,   -999.0, 9,   -999.0, 9, -999.0000,   -999.00,   -999.0, 9,   -999.0,  -999.00, 9,   -999.0,   2.1787, 27.6657,   2.3200, 2, 9, 0.42, 0.14, 0.01, 0.017,  -999.00, 1, -999.00, -999.00, 9, -999.00
49NZ20071122, P14N, 124, 1, 17, X12023, 2, 20071127, 1036, 4.7487, 179.0013, 5857,   2201.1, 2,   2.1234, 2,  34.6471, 2,  34.6472, 6,    108.8, 2,    109.3, 2,   139.64, 2,    39.00, 2,     0.00, 2,     2.77, 2, -999.000, 9, -999.000, 9, -999.000, 9, -999.000, 9,   -999.0, 9,   -999.0, 9, -999.0000,   -999.00,   -999.0, 9,   -999.0,  -999.00, 9,   -999.0,   1.9677, 27.6915,   2.1232, 2, 9, 0.43, 0.14, 0.01, 0.017,  -999.00, 1, -999.00, -999.00, 9, -999.00
49NZ20071122, P14N, 124, 1, 16, X12022, 2, 20071127, 1036, 4.7487, 179.0013, 5857,   2402.6, 2,   1.9722, 2,  34.6565, 2,  34.6560, 2,    113.0, 2,    113.3, 2,   144.12, 2,    38.67, 2,     0.00, 2,     2.74, 2, -999.000, 9, -999.000, 9, -999.000, 9, -999.000, 9,   -999.0, 9,   -999.0, 9, -999.0000,   -999.00,   -999.0, 9,   -999.0,  -999.00, 9,   -999.0,   1.8012, 27.7120,   1.9721, 2, 9, 0.44, 0.14, 0.01, 0.017,  -999.00, 9, -999.00, -999.00, 9, -999.00
49NZ20071122, P14N, 124, 1, 15, X12021, 2, 20071127, 1036, 4.7487, 179.0013, 5857,   2601.3, 2,   1.8520, 2,  34.6622, 2,  34.6621, 2,    120.9, 2,    121.9, 2,   143.63, 2,    38.10, 2,     0.00, 2,     2.69, 2,    0.000, 2,    0.000, 2,    0.000, 2, -999.000, 9,   -999.0, 9,   -999.0, 9, -999.0000,   -999.00,   -999.0, 9,   -999.0,  -999.00, 9,   -999.0,   1.6652, 27.7269,   1.8519, 2, 9, 0.43, 0.14, 0.01, 0.017,  -999.00, 9, -999.00, -999.00, 9, -999.00
49NZ20071122, P14N, 124, 1, 14, X12020, 2, 20071127, 1036, 4.7487, 179.0013, 5857,   2798.7, 2,   1.7589, 2,  34.6680, 2,  34.6677, 2,    125.2, 2,    125.4, 2,   145.89, 2,    37.90, 2,     0.00, 2,     2.67, 2, -999.000, 9, -999.000, 9, -999.000, 9, -999.000, 9,   -999.0, 9,   -999.0, 9, -999.0000,   -999.00,   -999.0, 9,   -999.0,  -999.00, 9,   -999.0,   1.5556, 27.7397,   1.7589, 2, 9, 0.44, 0.14, 0.01, 0.017,  -999.00, 1, -999.00, -999.00, 9, -999.00
49NZ20071122, P14N, 124, 1, 13, X12019, 2, 20071127, 1036, 4.7487, 179.0013, 5857,   2999.9, 2,   1.7111, 2,  34.6707, 2,  34.6700, 2,    129.7, 2,    129.8, 2,   145.06, 2,    37.63, 2,     0.00, 2,     2.65, 2, -999.000, 9, -999.000, 9, -999.000, 9, -999.000, 9,   -999.0, 9,   -999.0, 9, -999.0000,   -999.00,   -999.0, 9,   -999.0,  -999.00, 9,   -999.0,   1.4897, 27.7466,   1.7111, 2, 9, 0.44, 0.14, 0.01, 0.017,  -999.00, 1, -999.00, -999.00, 9, -999.00
49NZ20071122, P14N, 124, 1, 12, X12040, 2, 20071127, 1036, 4.7487, 179.0013, 5857,   3249.6, 2,   1.6320, 2,  34.6753, 2,  34.6751, 2,    137.9, 2,    137.3, 2,   143.90, 2,    37.01, 2,     0.00, 2,     2.60, 2,    0.000, 2,    0.000, 2,    0.000, 2, -999.000, 9,   -999.0, 9,   -999.0, 9, -999.0000,   -999.00,   -999.0, 9,   -999.0,  -999.00, 9,   -999.0,   1.3879, 27.7577,   1.6317, 2, 9, 0.44, 0.14, 0.01, 0.016,  -999.00, 1, -999.00, -999.00, 9, -999.00
49NZ20071122, P14N, 124, 1, 11, X12047, 2, 20071127, 1036, 4.7487, 179.0013, 5857,   3499.2, 2,   1.5517, 2,  34.6807, 2,  34.6801, 2,    145.6, 2,    145.7, 2,   142.09, 2,    36.46, 2,     0.00, 2,     2.56, 2, -999.000, 9, -999.000, 9, -999.000, 9, -999.000, 9,   -999.0, 9,   -999.0, 9, -999.0000,   -999.00,   -999.0, 9,   -999.0,  -999.00, 9,   -999.0,   1.2843, 27.7693,   1.5516, 2, 9, 0.43, 0.13, 0.01, 0.016,  -999.00, 9, -999.00, -999.00, 9, -999.00
49NZ20071122, P14N, 124, 1, 10, X12012, 2, 20071127, 1036, 4.7487, 179.0013, 5857,   3749.9, 2,   1.4877, 2,  34.6857, 2,  34.6852, 2,    152.6, 2,    153.3, 2,   140.02, 2,    36.06, 2,     0.00, 2,     2.52, 2, -999.000, 9, -999.000, 9, -999.000, 9, -999.000, 9,   -999.0, 9,   -999.0, 9, -999.0000,   -999.00,   -999.0, 9,   -999.0,  -999.00, 9,   -999.0,   1.1959, 27.7795,   1.4878, 2, 9, 0.43, 0.13, 0.01, 0.016,  -999.00, 1, -999.00, -999.00, 9, -999.00
49NZ20071122, P14N, 124, 1, 9, X12015, 2, 20071127, 1036, 4.7487, 179.0013, 5857,   3999.2, 2,   1.3911, 2,  34.6924, 2,  34.6920, 2,    163.0, 2,    164.6, 2,   136.47, 2,    35.22, 2,     0.00, 2,     2.45, 2,    0.004, 2,    0.001, 2,    0.002, 2, -999.000, 9,   -999.0, 9,   -999.0, 9, -999.0000,   -999.00,   -999.0, 9,   -999.0,  -999.00, 9,   -999.0,   1.0753, 27.7932,   1.3910, 2, 9, 0.42, 0.13, 0.01, 0.016,  -999.00, 1, -999.00, -999.00, 9, -999.00
49NZ20071122, P14N, 124, 1, 8, X12046, 2, 20071127, 1036, 4.7487, 179.0013, 5857,   4248.2, 2,   1.3126, 2,  34.6980, 2,  34.6973, 2,    173.5, 2,    175.3, 2,   131.79, 2,    34.42, 2,     0.00, 2,     2.40, 2, -999.000, 9, -999.000, 9, -999.000, 9, -999.000, 9,   -999.0, 9,   -999.0, 9, -999.0000,   -999.00,   -999.0, 9,   -999.0,  -999.00, 9,   -999.0,   0.9718, 27.8045,   1.3127, 2, 9, 0.41, 0.13, 0.01, 0.016,  -999.00, 1, -999.00, -999.00, 9, -999.00
49NZ20071122, P14N, 124, 1, 7, X12044, 2, 20071127, 1036, 4.7487, 179.0013, 5857,   4498.9, 2,   1.2605, 2,  34.7024, 2,  34.7021, 2,    183.5, 2,    184.2, 2,   127.04, 2,    33.78, 2,     0.00, 2,     2.36, 2, -999.000, 9, -999.000, 9, -999.000, 9, -999.000, 9,   -999.0, 9,   -999.0, 9, -999.0000,   -999.00,   -999.0, 9,   -999.0,  -999.00, 9,   -999.0,   0.8930, 27.8133,   1.2606, 2, 9, 0.40, 0.13, 0.01, 0.016,  -999.00, 9, -999.00, -999.00, 9, -999.00
49NZ20071122, P14N, 124, 1, 6, X12048, 2, 20071127, 1036, 4.7487, 179.0013, 5857,   4749.2, 2,   1.2600, 2,  34.7040, 2,  34.7038, 2,    187.2, 2,    187.8, 2,   124.67, 2,    33.57, 2,     0.00, 2,     2.34, 2,    0.007, 2,    0.004, 2,    0.000, 2, -999.000, 9,   -999.0, 9,   -999.0, 9, -999.0000,   -999.00,   -999.0, 9,   -999.0,  -999.00, 9,   -999.0,   0.8636, 27.8165,   1.2600, 2, 9, 0.39, 0.13, 0.01, 0.016,  -999.00, 1, -999.00, -999.00, 9, -999.00
49NZ20071122, P14N, 124, 1, 5, X12014, 2, 20071127, 1036, 4.7487, 179.0013, 5857,   4999.0, 2,   1.2798, 2,  34.7046, 2,  34.7045, 2,    188.6, 2,    189.3, 2,   124.03, 2,    33.33, 2,     0.00, 2,     2.32, 2,    0.006, 2,    0.006, 2,    0.000, 2, -999.000, 9,   -999.0, 9,   -999.0, 9, -999.0000,   -999.00,   -999.0, 9,   -999.0,  -999.00, 9,   -999.0,   0.8530, 27.8176,   1.2797, 2, 9, 0.39, 0.13, 0.01, 0.016,  -999.00, 1, -999.00, -999.00, 9, -999.00
49NZ20071122, P14N, 124, 1, 4, X12006, 2, 20071127, 1036, 4.7487, 179.0013, 5857,   5249.5, 2,   1.3026, 2,  34.7051, 2,  34.7051, 2,    189.9, 2,    190.3, 2,   123.43, 2,    33.36, 2,     0.00, 2,     2.31, 2,    0.000, 2,    0.000, 2,    0.000, 2, -999.000, 9,   -999.0, 9,   -999.0, 9, -999.0000,   -999.00,   -999.0, 9,   -999.0,  -999.00, 9,   -999.0,   0.8445, 27.8186,   1.3026, 2, 9, 0.39, 0.13, 0.01, 0.016,  -999.00, 1, -999.00, -999.00, 9, -999.00
49NZ20071122, P14N, 124, 1, 3, X12013, 2, 20071127, 1036, 4.7487, 179.0013, 5857,   5499.5, 2,   1.3294, 2,  34.7053, 2,  34.7057, 2,    191.0, 2,    191.3, 2,   122.86, 2,    33.26, 2,     0.00, 2,     2.31, 2,    0.000, 2,    0.001, 2,    0.000, 2, -999.000, 9,   -999.0, 9,   -999.0, 9, -999.0000,   -999.00,   -999.0, 9,   -999.0,  -999.00, 9,   -999.0,   0.8390, 27.8191,   1.3294, 2, 9, 0.39, 0.13, 0.01, 0.016,  -999.00, 9, -999.00, -999.00, 9, -999.00
49NZ20071122, P14N, 124, 1, 2, X12002, 2, 20071127, 1036, 4.7487, 179.0013, 5857,   5748.0, 2,   1.3575, 2,  34.7054, 2,  34.7056, 2,    191.8, 2,    191.9, 2,   122.35, 2,    33.29, 2,     0.00, 2,     2.31, 2,    0.001, 2,    0.001, 2,    0.000, 2, -999.000, 9,   -999.0, 9,   -999.0, 9, -999.0000,   -999.00,   -999.0, 9,   -999.0,  -999.00, 9,   -999.0,   0.8342, 27.8195,   1.3575, 2, 9, 0.39, 0.13, 0.01, 0.016,  -999.00, 1, -999.00, -999.00, 9, -999.00
49NZ20071122, P14N, 124, 1, 1, X12001, 2, 20071127, 1036, 4.7487, 179.0013, 5857,   5952.9, 2,   1.3850, 2,  34.7054, 2,  34.7054, 6,    192.0, 2,    192.0, 2,   122.41, 2,    33.17, 2,     0.01, 2,     2.31, 2,    0.000, 2,    0.000, 2,    0.000, 2, -999.000, 9,   -999.0, 9,   -999.0, 9, -999.0000,   -999.00,   -999.0, 9,   -999.0,  -999.00, 9,   -999.0,   0.8338, 27.8195,   1.3850, 2, 9, 0.39, 0.13, 0.01, 0.016,  -999.00, 1, -999.00, -999.00, 9, -999.00