BOTTLE,20220820CCHSIOAMB
EXPOCODE,SECT_ID,STNNBR,CASTNO,SAMPNO,BTLNBR,BTLNBR_FLAG_W,DATE,TIME,LATITUDE,LONGITUDE,DEPTH,CTDPRS,CTDPRS_FLAG_W,CTDTMP,CTDTMP_FLAG_W,CTDSAL,CTDSAL_FLAG_W,SALNTY,SALNTY_FLAG_W,CTDOXY,CTDOXY_FLAG_W,OXYGEN,OXYGEN_FLAG_W,SILCAT,SILCAT_FLAG_W,NITRAT,NITRAT_FLAG_W,NITRIT,NITRIT_FLAG_W,PHSPHT,PHSPHT_FLAG_W,CFC-11,CFC-11_FLAG_W,CFC-12,CFC-12_FLAG_W,CFC113,CFC113_FLAG_W,CCL4,CCL4_FLAG_W,TCARBN,TCARBN_FLAG_W,ALKALI,ALKALI_FLAG_W,PH_TOT,PH_TMP,DELC14,DELC14_FLAG_W,C14ERR,DELC13,DELC13_FLAG_W,C13ERR,THETA,SIG0,SBE35,SBE35_FLAG_W,PH_TOT_FLAG_W,SILUNC,NRAUNC,NRIUNC,PHPUNC,CS-137,CS-137_FLAG_W,CS137ER,PLUTO,PLUTO_FLAG_W,PLUTOER
,,,,,,,,,,,METERS,DBAR,,ITS-90,,PSS-78,,PSS-78,,UMOL/KG,,UMOL/KG,,UMOL/KG,,UMOL/KG,,UMOL/KG,,UMOL/KG,,PMOL/KG,,PMOL/KG,,PMOL/KG,,PMOL/KG,,UMOL/KG,,UMOL/KG,,,DEG C,/MILLE,,/MILLE,/MILLE,,/MILLE,DEG C,KG/M^3,ITS-90,,,UMOL/KG,UMOL/KG,UMOL/KG,UMOL/KG,DM/.1MG,,BQ/M^3,MBQ/M^3,,MBQ/M^3
49NZ20071122, P14, 7, 1, 36, X12042, 2, 20071222, 0559, -34.1323, 175.3007, 1999,      9.5, 2,  19.4081, 2,  35.4605, 2,  35.4612, 2,    237.6, 2,    237.5, 2,     0.88, 2,     0.08, 2,     0.00, 2,     0.14, 2,    2.307, 2,    1.348, 2,    0.288, 4, -999.000, 9,   2041.6, 2,   2330.2, 2,    8.0182,     25.00,   -999.0, 1,   -999.0,  -999.00, 1,   -999.0,  19.4064, 25.2685,  19.4084, 2, 6, 0.12, 0.03, 0.01, 0.018,  -999.00, 9, -999.00, -999.00, 9, -999.00
49NZ20071122, P14, 7, 1, 35, X12041, 2, 20071222, 0559, -34.1323, 175.3007, 1999,     49.9, 2,  16.2948, 2,  35.4322, 2,  35.4310, 2,    235.4, 2,    233.3, 2,     2.15, 2,     3.33, 2,     0.35, 2,     0.39, 2,    2.473, 2,    1.421, 2,    0.225, 4, -999.000, 9,   2073.0, 6,   2328.1, 2,    7.9581,     25.00,   -999.0, 1,   -999.0,  -999.00, 1,   -999.0,  16.2868, 26.0139,  16.3168, 2, 2, 0.12, 0.04, 0.00, 0.013,  -999.00, 9, -999.00, -999.00, 9, -999.00
49NZ20071122, P14, 7, 1, 34, X12016, 2, 20071222, 0559, -34.1323, 175.3007, 1999,    100.8, 2,  14.3382, 2,  35.2981, 2,  35.2986, 2,    214.6, 2,    213.7, 2,     4.46, 2,     8.56, 2,     0.02, 2,     0.69, 2,    2.409, 2,    1.345, 2,    0.171, 4, -999.000, 9,   2101.0, 2,   2321.4, 6,    7.8965,     25.00,   -999.0, 1,   -999.0,  -999.00, 1,   -999.0,  14.3234, 26.3488,  14.3400, 2, 2, 0.13, 0.06, 0.01, 0.013,  -999.00, 9, -999.00, -999.00, 9, -999.00
49NZ20071122, P14, 7, 1, 33, X12033, 2, 20071222, 0559, -34.1323, 175.3007, 1999,    150.4, 2,  13.7124, 2,  35.2473, 2,  35.2460, 2,    210.5, 2,    204.6, 2,     4.56, 2,    10.28, 2,     0.02, 2,     0.80, 2,    2.436, 6,    1.352, 6,    0.129, 4, -999.000, 9,   2111.8, 2,   2318.2, 2,    7.8726,     25.00,   -999.0, 1,   -999.0,  -999.00, 1,   -999.0,  13.6909, 26.4430,  13.7124, 2, 2, 0.13, 0.06, 0.01, 0.013,  -999.00, 9, -999.00, -999.00, 9, -999.00
49NZ20071122, P14, 7, 1, 32, X12038, 2, 20071222, 0559, -34.1323, 175.3007, 1999,    200.5, 2,  12.9417, 2,  35.1586, 2,  35.1572, 2,    205.6, 2,    204.3, 2,     6.17, 2,    11.92, 2,     0.01, 2,     0.90, 2,    2.354, 2,    1.300, 2,    0.130, 4, -999.000, 9,   2116.3, 2,   2315.1, 2,    7.8537,     25.00,   -999.0, 1,   -999.0,  -999.00, 1,   -999.0,  12.9142, 26.5331,  12.9425, 2, 2, 0.13, 0.07, 0.01, 0.013,  -999.00, 9, -999.00, -999.00, 9, -999.00
49NZ20071122, P14, 7, 1, 31, X12003, 2, 20071222, 0559, -34.1323, 175.3007, 1999,    249.2, 2,  12.4104, 2,  35.1015, 2,  35.0977, 6,    202.9, 2,    201.5, 2,     6.77, 2,    13.23, 2,     0.01, 2,     0.99, 2,    2.325, 2,    1.276, 2,    0.112, 4, -999.000, 9,   2120.9, 2,   2312.7, 2,    7.8367,     25.00,   -999.0, 1,   -999.0,  -999.00, 1,   -999.0,  12.3771, 26.5951,  12.4116, 2, 2, 0.13, 0.07, 0.01, 0.013,  -999.00, 9, -999.00, -999.00, 9, -999.00
49NZ20071122, P14, 7, 1, 30, X12008, 2, 20071222, 0559, -34.1323, 175.3007, 1999,    280.9, 2,  11.9807, 2,  35.0535, 2,  35.0515, 2,    199.2, 2,    198.9, 2,     6.67, 2,    14.21, 2,     0.01, 2,     1.05, 2,    2.367, 2,    1.283, 2,    0.106, 2, -999.000, 9,   2125.3, 2,   2309.8, 2,    7.8214,     25.00,   -999.0, 1,   -999.0,  -999.00, 1,   -999.0,  11.9439, 26.6414,  11.9818, 2, 2, 0.13, 0.07, 0.01, 0.013,  -999.00, 9, -999.00, -999.00, 9, -999.00
49NZ20071122, P14, 7, 1, 29, X12035, 2, 20071222, 0559, -34.1323, 175.3007, 1999,    369.5, 2,  11.0190, 2,  34.9376, 2,  34.9292, 2,    195.9, 2,    196.3, 2,     7.95, 2,    16.55, 2,     0.01, 2,     1.19, 2,    2.297, 2,    1.227, 2,    0.086, 2, -999.000, 9,   2134.0, 2,   2305.0, 2,    7.7921,     25.00,   -999.0, 1,   -999.0,  -999.00, 1,   -999.0,  10.9731, 26.7319,  11.0209, 2, 2, 0.14, 0.08, 0.01, 0.013,  -999.00, 9, -999.00, -999.00, 9, -999.00
49NZ20071122, P14, 7, 1, 28, X12034, 2, 20071222, 0559, -34.1323, 175.3007, 1999,    469.5, 2,   9.4629, 2,  34.7320, 2,  34.7317, 6,    198.6, 2,    199.1, 2,     9.38, 2,    19.51, 2,     0.01, 2,     1.38, 2,    2.203, 2,    1.134, 2,    0.078, 2, -999.000, 9,   2144.1, 2,   2296.8, 2,    7.7575,     25.00,   -999.0, 1,   -999.0,  -999.00, 1,   -999.0,   9.4097, 26.8417,   9.4636, 2, 2, 0.14, 0.09, 0.01, 0.014,  -999.00, 9, -999.00, -999.00, 9, -999.00
49NZ20071122, P14, 7, 1, 27, X12049, 2, 20071222, 0559, -34.1323, 175.3007, 1999,    570.3, 2,   8.4174, 2,  34.6345, 2,  34.6326, 2,    199.0, 2,    199.1, 2,    13.32, 2,    21.88, 2,     0.01, 2,     1.55, 2,    1.850, 2,    0.937, 2,    0.063, 2, -999.000, 9,   2153.8, 2,   2297.1, 2,    7.7342,     25.00,   -999.0, 1,   -999.0,  -999.00, 1,   -999.0,   8.3568, 26.9328,   8.4178, 2, 2, 0.15, 0.09, 0.01, 0.014,  -999.00, 9, -999.00, -999.00, 9, -999.00
49NZ20071122, P14, 7, 1, 26, X12032, 2, 20071222, 0559, -34.1323, 175.3007, 1999,    670.3, 2,   7.4908, 2,  34.5553, 2,  34.5544, 2,    197.7, 2,    197.4, 2,    17.68, 2,    24.13, 2,     0.01, 2,     1.69, 2,    1.503, 6,    0.755, 6,    0.056, 6, -999.000, 9,   2164.8, 6,   2297.8, 2,    7.7121,     25.00,   -999.0, 1,   -999.0,  -999.00, 1,   -999.0,   7.4239, 27.0088,   7.4916, 2, 2, 0.16, 0.10, 0.01, 0.014,  -999.00, 9, -999.00, -999.00, 9, -999.00
49NZ20071122, P14, 7, 1, 25, X12043, 2, 20071222, 0559, -34.1323, 175.3007, 1999,    770.1, 2,   6.9042, 2,  34.5197, 2,  34.5193, 2,    194.9, 2,    195.0, 2,    21.93, 2,    25.57, 2,     0.00, 2,     1.80, 2,    1.237, 2,    0.624, 2,    0.045, 2, -999.000, 9,   2171.6, 2,   2299.9, 6,    7.6972,     25.00,   -999.0, 1,   -999.0,  -999.00, 1,   -999.0,   6.8302, 27.0637,   6.9048, 2, 2, 0.17, 0.10, 0.01, 0.015,  -999.00, 9, -999.00, -999.00, 9, -999.00
49NZ20071122, P14, 7, 1, 24, X12030, 2, 20071222, 0559, -34.1323, 175.3007, 1999,    869.3, 2,   6.3669, 2,  34.4909, 2,  34.4901, 2,    193.0, 2,    193.1, 2,    26.25, 2,    26.87, 2,     0.01, 2,     1.88, 2,    1.014, 2,    0.504, 2,    0.038, 2, -999.000, 9,   2182.1, 2,   2302.8, 2,    7.6840,     25.00,   -999.0, 1,   -999.0,  -999.00, 1,   -999.0,   6.2863, 27.1136,   6.3674, 2, 6, 0.18, 0.11, 0.01, 0.015,  -999.00, 9, -999.00, -999.00, 9, -999.00
49NZ20071122, P14, 7, 1, 23, X12027, 2, 20071222, 0559, -34.1323, 175.3007, 1999,    970.5, 2,   5.7304, 2,  34.4697, 2,  34.4710, 6,    188.9, 2,    188.7, 2,    33.19, 2,    28.44, 2,     0.00, 2,     1.99, 2,    0.752, 2,    0.376, 2,    0.020, 2, -999.000, 9,   2192.8, 2,   2308.9, 2,    7.6668,     25.00,   -999.0, 1,   -999.0,  -999.00, 1,   -999.0,   5.6444, 27.1781,   5.7300, 2, 2, 0.19, 0.11, 0.01, 0.015,  -999.00, 9, -999.00, -999.00, 9, -999.00
49NZ20071122, P14, 7, 1, 22, X12028, 4, 20071222, 0559, -34.1323, 175.3007, 1999,   1130.0, 2,   4.7887, 2,  34.4895, 2, -999.0000, 9,    178.8, 2,    237.6, 4,  -999.00, 9,  -999.00, 9,  -999.00, 9,  -999.00, 9, -999.000, 9, -999.000, 9, -999.000, 9, -999.000, 9,   -999.0, 9,   -999.0, 9, -999.0000,   -999.00,   -999.0, 9,   -999.0,  -999.00, 9,   -999.0,   4.6953, 27.3051,   4.7903, 2, 9, -999.00, -999.00, -999.00, -999.000,  -999.00, 9, -999.00, -999.00, 9, -999.00
49NZ20071122, P14, 7, 1, 21, X12009, 2, 20071222, 0559, -34.1323, 175.3007, 1999,   1330.1, 2,   3.8576, 2,  34.5345, 2,  34.5357, 6,    167.1, 2,    166.2, 2,    69.14, 2,    32.68, 2,     0.00, 2,     2.30, 2,    0.225, 2,    0.112, 2,    0.007, 2, -999.000, 9,   2249.2, 2,   2347.1, 2,    7.6176,     25.00,   -999.0, 1,   -999.0,  -999.00, 1,   -999.0,   3.7551, 27.4409,   3.8579, 2, 2, 0.27, 0.12, 0.01, 0.016,  -999.00, 9, -999.00, -999.00, 9, -999.00
49NZ20071122, P14, 7, 1, 20, X12026, 2, 20071222, 0559, -34.1323, 175.3007, 1999,   1529.4, 2,   3.2968, 2,  34.5717, 2,  34.5738, 2,    161.6, 2,    161.0, 2,    83.36, 2,    33.55, 2,     0.00, 2,     2.37, 2,    0.142, 2,    0.072, 2,    0.009, 2, -999.000, 9,   2265.6, 2,   2362.7, 2,    7.6087,     25.00,   -999.0, 1,   -999.0,  -999.00, 1,   -999.0,   3.1831, 27.5262,   3.2974, 2, 6, 0.30, 0.13, 0.01, 0.016,  -999.00, 9, -999.00, -999.00, 9, -999.00
49NZ20071122, P14, 7, 1, 19, X12025, 2, 20071222, 0559, -34.1323, 175.3007, 1999,   1729.4, 2,   2.7088, 2,  34.6107, 2,  34.6116, 6,    156.9, 2,    156.7, 2,    97.74, 2,    34.37, 2,     0.00, 2,     2.43, 2,    0.072, 2,    0.039, 2,    0.006, 2, -999.000, 9,   2286.1, 2,   2379.1, 2,    7.6015,     25.00,   -999.0, 1,   -999.0,  -999.00, 1,   -999.0,   2.5852, 27.6113,   2.7094, 2, 2, 0.33, 0.13, 0.01, 0.016,  -999.00, 9, -999.00, -999.00, 9, -999.00
49NZ20071122, P14, 7, 1, 18, X12024, 2, 20071222, 0559, -34.1323, 175.3007, 1999,   1930.0, 2,   2.2235, 2,  34.6421, 2,  34.6438, 2,    154.0, 2,    154.0, 2,   110.11, 2,    35.07, 2,     0.00, 2,     2.47, 2, -999.000, 9, -999.000, 9, -999.000, 9, -999.000, 9,   2299.9, 2,   2391.6, 2,    7.5966,     25.00,   -999.0, 1,   -999.0,  -999.00, 1,   -999.0,   2.0896, 27.6778,   2.2239, 2, 2, 0.36, 0.13, 0.01, 0.016,  -999.00, 9, -999.00, -999.00, 9, -999.00
49NZ20071122, P14, 7, 1, 17, X12023, 9, 20071222, 0559, -34.1323, 175.3007, 1999,      9.4, 2,  19.4052, 2,  35.4593, 2, -999.0000, 9,    237.6, 2,   -999.0, 9,  -999.00, 9,  -999.00, 9,  -999.00, 9,  -999.00, 9, -999.000, 9, -999.000, 9, -999.000, 9, -999.000, 9,   -999.0, 9,   -999.0, 9, -999.0000,   -999.00,   -999.0, 9,   -999.0,  -999.00, 9,   -999.0,  19.4035, 25.2683,  19.4061, 2, 9, -999.00, -999.00, -999.00, -999.000,  -999.00, 9, -999.00, -999.00, 9, -999.00
49NZ20071122, P14, 7, 1, 16, X12022, 9, 20071222, 0559, -34.1323, 175.3007, 1999,    101.0, 2,  14.3178, 2,  35.2968, 2, -999.0000, 9,    214.6, 2,   -999.0, 9,  -999.00, 9,  -999.00, 9,  -999.00, 9,  -999.00, 9, -999.000, 9, -999.000, 9, -999.000, 9, -999.000, 9,   -999.0, 9,   -999.0, 9, -999.0000,   -999.00,   -999.0, 9,   -999.0,  -999.00, 9,   -999.0,  14.3030, 26.3522,  14.3219, 2, 9, -999.00, -999.00, -999.00, -999.000,  -999.00, 9, -999.00, -999.00, 9, -999.00
49NZ20071122, P14, 7, 1, 15, X12021, 9, 20071222, 0559, -34.1323, 175.3007, 1999,    150.8, 2,  13.7139, 2,  35.2471, 2, -999.0000, 9,    210.5, 2,   -999.0, 9,  -999.00, 9,  -999.00, 9,  -999.00, 9,  -999.00, 9, -999.000, 9, -999.000, 9, -999.000, 9, -999.000, 9,   -999.0, 9,   -999.0, 9, -999.0000,   -999.00,   -999.0, 9,   -999.0,  -999.00, 9,   -999.0,  13.6924, 26.4426,  13.7152, 2, 9, -999.00, -999.00, -999.00, -999.000,  -999.00, 9, -999.00, -999.00, 9, -999.00
49NZ20071122, P14, 7, 1, 14, X12020, 9, 20071222, 0559, -34.1323, 175.3007, 1999,    200.2, 2,  12.9428, 2,  35.1584, 2, -999.0000, 9,    205.5, 2,   -999.0, 9,  -999.00, 9,  -999.00, 9,  -999.00, 9,  -999.00, 9, -999.000, 9, -999.000, 9, -999.000, 9, -999.000, 9,   -999.0, 9,   -999.0, 9, -999.0000,   -999.00,   -999.0, 9,   -999.0,  -999.00, 9,   -999.0,  12.9153, 26.5327,  12.9429, 2, 9, -999.00, -999.00, -999.00, -999.000,  -999.00, 9, -999.00, -999.00, 9, -999.00
49NZ20071122, P14, 7, 1, 13, X12019, 9, 20071222, 0559, -34.1323, 175.3007, 1999,    249.5, 2,  12.4105, 2,  35.1008, 2, -999.0000, 9,    202.8, 2,   -999.0, 9,  -999.00, 9,  -999.00, 9,  -999.00, 9,  -999.00, 9, -999.000, 9, -999.000, 9, -999.000, 9, -999.000, 9,   -999.0, 9,   -999.0, 9, -999.0000,   -999.00,   -999.0, 9,   -999.0,  -999.00, 9,   -999.0,  12.3771, 26.5945,  12.4119, 2, 9, -999.00, -999.00, -999.00, -999.000,  -999.00, 9, -999.00, -999.00, 9, -999.00
49NZ20071122, P14, 7, 1, 12, X12040, 9, 20071222, 0559, -34.1323, 175.3007, 1999,    279.7, 2,  11.9755, 2,  35.0528, 2, -999.0000, 9,    199.2, 2,   -999.0, 9,  -999.00, 9,  -999.00, 9,  -999.00, 9,  -999.00, 9, -999.000, 9, -999.000, 9, -999.000, 9, -999.000, 9,   -999.0, 9,   -999.0, 9, -999.0000,   -999.00,   -999.0, 9,   -999.0,  -999.00, 9,   -999.0,  11.9389, 26.6418,  11.9750, 2, 9, -999.00, -999.00, -999.00, -999.000,  -999.00, 9, -999.00, -999.00, 9, -999.00
49NZ20071122, P14, 7, 1, 11, X12047, 9, 20071222, 0559, -34.1323, 175.3007, 1999,    369.1, 2,  11.0277, 2,  34.9375, 2, -999.0000, 9,    195.9, 2,   -999.0, 9,  -999.00, 9,  -999.00, 9,  -999.00, 9,  -999.00, 9, -999.000, 9, -999.000, 9, -999.000, 9, -999.000, 9,   -999.0, 9,   -999.0, 9, -999.0000,   -999.00,   -999.0, 9,   -999.0,  -999.00, 9,   -999.0,  10.9818, 26.7302,  11.0307, 2, 9, -999.00, -999.00, -999.00, -999.000,  -999.00, 9, -999.00, -999.00, 9, -999.00
49NZ20071122, P14, 7, 1, 10, X12012, 9, 20071222, 0559, -34.1323, 175.3007, 1999,    469.4, 2,   9.4617, 2,  34.7314, 2, -999.0000, 9,    198.6, 2,   -999.0, 9,  -999.00, 9,  -999.00, 9,  -999.00, 9,  -999.00, 9, -999.000, 9, -999.000, 9, -999.000, 9, -999.000, 9,   -999.0, 9,   -999.0, 9, -999.0000,   -999.00,   -999.0, 9,   -999.0,  -999.00, 9,   -999.0,   9.4085, 26.8414,   9.4622, 2, 9, -999.00, -999.00, -999.00, -999.000,  -999.00, 9, -999.00, -999.00, 9, -999.00
49NZ20071122, P14, 7, 1, 9, X12015, 9, 20071222, 0559, -34.1323, 175.3007, 1999,    570.0, 2,   8.4214, 2,  34.6345, 2, -999.0000, 9,    199.0, 2,   -999.0, 9,  -999.00, 9,  -999.00, 9,  -999.00, 9,  -999.00, 9, -999.000, 9, -999.000, 9, -999.000, 9, -999.000, 9,   -999.0, 9,   -999.0, 9, -999.0000,   -999.00,   -999.0, 9,   -999.0,  -999.00, 9,   -999.0,   8.3609, 26.9322,   8.4207, 2, 9, -999.00, -999.00, -999.00, -999.000,  -999.00, 9, -999.00, -999.00, 9, -999.00
49NZ20071122, P14, 7, 1, 8, X12046, 9, 20071222, 0559, -34.1323, 175.3007, 1999,    670.2, 2,   7.4902, 2,  34.5549, 2, -999.0000, 9,    197.7, 2,   -999.0, 9,  -999.00, 9,  -999.00, 9,  -999.00, 9,  -999.00, 9, -999.000, 9, -999.000, 9, -999.000, 9, -999.000, 9,   -999.0, 9,   -999.0, 9, -999.0000,   -999.00,   -999.0, 9,   -999.0,  -999.00, 9,   -999.0,   7.4233, 27.0086,   7.4910, 2, 9, -999.00, -999.00, -999.00, -999.000,  -999.00, 9, -999.00, -999.00, 9, -999.00
49NZ20071122, P14, 7, 1, 7, X12044, 9, 20071222, 0559, -34.1323, 175.3007, 1999,    769.4, 2,   6.9051, 2,  34.5199, 2, -999.0000, 9,    195.0, 2,   -999.0, 9,  -999.00, 9,  -999.00, 9,  -999.00, 9,  -999.00, 9, -999.000, 9, -999.000, 9, -999.000, 9, -999.000, 9,   -999.0, 9,   -999.0, 9, -999.0000,   -999.00,   -999.0, 9,   -999.0,  -999.00, 9,   -999.0,   6.8312, 27.0637,   6.9054, 2, 9, -999.00, -999.00, -999.00, -999.000,  -999.00, 9, -999.00, -999.00, 9, -999.00
49NZ20071122, P14, 7, 1, 6, X12048, 9, 20071222, 0559, -34.1323, 175.3007, 1999,    869.5, 2,   6.3662, 2,  34.4908, 2, -999.0000, 9,    193.0, 2,   -999.0, 9,  -999.00, 9,  -999.00, 9,  -999.00, 9,  -999.00, 9, -999.000, 9, -999.000, 9, -999.000, 9, -999.000, 9,   -999.0, 9,   -999.0, 9, -999.0000,   -999.00,   -999.0, 9,   -999.0,  -999.00, 9,   -999.0,   6.2856, 27.1136,   6.3665, 2, 9, -999.00, -999.00, -999.00, -999.000,  -999.00, 9, -999.00, -999.00, 9, -999.00
49NZ20071122, P14, 7, 1, 5, X12014, 9, 20071222, 0559, -34.1323, 175.3007, 1999,    970.1, 2,   5.7430, 2,  34.4701, 2, -999.0000, 9,    188.8, 2,   -999.0, 9,  -999.00, 9,  -999.00, 9,  -999.00, 9,  -999.00, 9, -999.000, 9, -999.000, 9, -999.000, 9, -999.000, 9,   -999.0, 9,   -999.0, 9, -999.0000,   -999.00,   -999.0, 9,   -999.0,  -999.00, 9,   -999.0,   5.6570, 27.1768,   5.7438, 2, 9, -999.00, -999.00, -999.00, -999.000,  -999.00, 9, -999.00, -999.00, 9, -999.00
49NZ20071122, P14, 7, 1, 4, X12006, 2, 20071222, 0559, -34.1323, 175.3007, 1999,   1130.1, 2,   4.7917, 2,  34.4892, 2,  34.4903, 2,    178.8, 2,    177.6, 2,    49.12, 2,    30.74, 2,     0.00, 2,     2.15, 2,    0.434, 2,    0.216, 2,    0.010, 2, -999.000, 9,   2218.0, 2,   2325.0, 2,    7.6404,     25.00,   -999.0, 1,   -999.0,  -999.00, 1,   -999.0,   4.6983, 27.3046,   4.7910, 2, 2, 0.23, 0.12, 0.01, 0.015,  -999.00, 9, -999.00, -999.00, 9, -999.00
49NZ20071122, P14, 7, 1, 3, X12013, 9, 20071222, 0559, -34.1323, 175.3007, 1999,   1330.2, 2,   3.8581, 2,  34.5344, 2, -999.0000, 9,    167.1, 2,   -999.0, 9,  -999.00, 9,  -999.00, 9,  -999.00, 9,  -999.00, 9, -999.000, 9, -999.000, 9, -999.000, 9, -999.000, 9,   -999.0, 9,   -999.0, 9, -999.0000,   -999.00,   -999.0, 9,   -999.0,  -999.00, 9,   -999.0,   3.7556, 27.4408,   3.8581, 2, 9, -999.00, -999.00, -999.00, -999.000,  -999.00, 9, -999.00, -999.00, 9, -999.00
49NZ20071122, P14, 7, 1, 2, X12002, 9, 20071222, 0559, -34.1323, 175.3007, 1999,   1529.2, 2,   3.2939, 2,  34.5721, 2, -999.0000, 9,    161.6, 2,   -999.0, 9,  -999.00, 9,  -999.00, 9,  -999.00, 9,  -999.00, 9, -999.000, 9, -999.000, 9, -999.000, 9, -999.000, 9,   -999.0, 9,   -999.0, 9, -999.0000,   -999.00,   -999.0, 9,   -999.0,  -999.00, 9,   -999.0,   3.1802, 27.5268,   3.2963, 2, 9, -999.00, -999.00, -999.00, -999.000,  -999.00, 9, -999.00, -999.00, 9, -999.00
49NZ20071122, P14, 7, 1, 1, X12001, 2, 20071222, 0559, -34.1323, 175.3007, 1999,   2011.6, 2,   2.1358, 2,  34.6490, 2,  34.6501, 6,    153.4, 2,    153.6, 2,   112.31, 2,    35.22, 2,     0.00, 2,     2.48, 2,    0.015, 2,    0.007, 2,    0.000, 2, -999.000, 9,   2303.0, 2,   2394.7, 2,    7.5962,     25.00,   -999.0, 1,   -999.0,  -999.00, 1,   -999.0,   1.9963, 27.6907,   2.1356, 2, 2, 0.37, 0.13, 0.01, 0.016,  -999.00, 9, -999.00, -999.00, 9, -999.00