BOTTLE,20220820CCHSIOAMB
EXPOCODE,SECT_ID,STNNBR,CASTNO,SAMPNO,BTLNBR,BTLNBR_FLAG_W,DATE,TIME,LATITUDE,LONGITUDE,DEPTH,CTDPRS,CTDPRS_FLAG_W,CTDTMP,CTDTMP_FLAG_W,CTDSAL,CTDSAL_FLAG_W,SALNTY,SALNTY_FLAG_W,CTDOXY,CTDOXY_FLAG_W,OXYGEN,OXYGEN_FLAG_W,SILCAT,SILCAT_FLAG_W,NITRAT,NITRAT_FLAG_W,NITRIT,NITRIT_FLAG_W,PHSPHT,PHSPHT_FLAG_W,CFC-11,CFC-11_FLAG_W,CFC-12,CFC-12_FLAG_W,CFC113,CFC113_FLAG_W,CCL4,CCL4_FLAG_W,TCARBN,TCARBN_FLAG_W,ALKALI,ALKALI_FLAG_W,PH_TOT,PH_TMP,DELC14,DELC14_FLAG_W,C14ERR,DELC13,DELC13_FLAG_W,C13ERR,THETA,SIG0,SBE35,SBE35_FLAG_W,PH_TOT_FLAG_W,SILUNC,NRAUNC,NRIUNC,PHPUNC,CS-137,CS-137_FLAG_W,CS137ER,PLUTO,PLUTO_FLAG_W,PLUTOER
,,,,,,,,,,,METERS,DBAR,,ITS-90,,PSS-78,,PSS-78,,UMOL/KG,,UMOL/KG,,UMOL/KG,,UMOL/KG,,UMOL/KG,,UMOL/KG,,PMOL/KG,,PMOL/KG,,PMOL/KG,,PMOL/KG,,UMOL/KG,,UMOL/KG,,,DEG C,/MILLE,,/MILLE,/MILLE,,/MILLE,DEG C,KG/M^3,ITS-90,,,UMOL/KG,UMOL/KG,UMOL/KG,UMOL/KG,DM/.1MG,,BQ/M^3,MBQ/M^3,,MBQ/M^3
49NZ20071122, P14, 14, 1, 36, X12042, 2, 20071220, 2047, -31.3065, 175.7892, 4104,      9.0, 2,  21.5729, 2,  35.6901, 2,  35.6909, 2,    222.6, 2,    222.7, 2,     0.61, 2,     0.05, 2,     0.01, 2,     0.08, 2,    2.021, 2,    1.212, 2,    0.394, 4, -999.000, 9,   -999.0, 9,   -999.0, 9, -999.0000,   -999.00,   -999.0, 9,   -999.0,  -999.00, 9,   -999.0,  21.5711, 24.8622,  21.5729, 2, 9, 0.12, 0.03, 0.01, 0.025,  -999.00, 9, -999.00, -999.00, 9, -999.00
49NZ20071122, P14, 14, 1, 35, X12041, 2, 20071220, 2047, -31.3065, 175.7892, 4104,     50.5, 2,  19.0060, 2,  35.7157, 2,  35.7182, 2,    235.4, 2,    235.5, 2,     0.65, 2,     0.05, 2,     0.01, 2,     0.11, 2,    2.256, 2,    1.340, 2,    0.605, 4, -999.000, 9,   -999.0, 9,   -999.0, 9, -999.0000,   -999.00,   -999.0, 9,   -999.0,  -999.00, 9,   -999.0,  18.9970, 25.5691,  19.0122, 2, 9, 0.12, 0.03, 0.01, 0.020,  -999.00, 9, -999.00, -999.00, 9, -999.00
49NZ20071122, P14, 14, 1, 34, X12016, 2, 20071220, 2047, -31.3065, 175.7892, 4104,    102.1, 2,  17.7796, 2,  35.6802, 2,  35.6804, 2,    209.6, 2,    214.3, 2,     0.97, 2,     2.28, 2,     0.06, 2,     0.28, 2,    2.324, 2,    1.359, 2,    0.212, 4, -999.000, 9,   -999.0, 9,   -999.0, 9, -999.0000,   -999.00,   -999.0, 9,   -999.0,  -999.00, 9,   -999.0,  17.7622, 25.8518,  17.7816, 2, 9, 0.12, 0.04, 0.01, 0.014,  -999.00, 9, -999.00, -999.00, 9, -999.00
49NZ20071122, P14, 14, 1, 33, X12033, 2, 20071220, 2047, -31.3065, 175.7892, 4104,    149.9, 2,  16.6924, 2,  35.5575, 2,  35.5572, 2,    201.4, 2,    201.6, 2,     1.45, 2,     5.16, 2,     0.02, 2,     0.46, 2,    2.399, 6,    1.375, 6,    0.121, 4, -999.000, 9,   -999.0, 9,   -999.0, 9, -999.0000,   -999.00,   -999.0, 9,   -999.0,  -999.00, 9,   -999.0,  16.6679, 26.0211,  16.6928, 2, 9, 0.12, 0.05, 0.01, 0.013,  -999.00, 9, -999.00, -999.00, 9, -999.00
49NZ20071122, P14, 14, 1, 32, X12038, 2, 20071220, 2047, -31.3065, 175.7892, 4104,    199.7, 2,  15.9837, 2,  35.4960, 2,  35.4961, 2,    203.8, 2,    203.5, 2,     1.78, 2,     6.00, 2,     0.02, 2,     0.51, 2,    2.457, 2,    1.396, 2,    0.113, 4, -999.000, 9,   -999.0, 9,   -999.0, 9, -999.0000,   -999.00,   -999.0, 9,   -999.0,  -999.00, 9,   -999.0,  15.9520, 26.1403,  15.9850, 2, 9, 0.12, 0.05, 0.01, 0.013,  -999.00, 9, -999.00, -999.00, 9, -999.00
49NZ20071122, P14, 14, 1, 31, X12003, 2, 20071220, 2047, -31.3065, 175.7892, 4104,    250.0, 2,  15.0124, 2,  35.3828, 2,  35.3825, 6,    200.9, 2,    201.2, 2,     2.32, 2,     7.66, 2,     0.01, 2,     0.62, 2,    2.517, 2,    1.414, 2,    0.102, 2, -999.000, 9,   -999.0, 9,   -999.0, 9, -999.0000,   -999.00,   -999.0, 9,   -999.0,  -999.00, 9,   -999.0,  14.9743, 26.2728,  15.0123, 2, 9, 0.12, 0.05, 0.01, 0.013,  -999.00, 9, -999.00, -999.00, 9, -999.00
49NZ20071122, P14, 14, 1, 30, X12008, 2, 20071220, 2047, -31.3065, 175.7892, 4104,    330.1, 2,  13.4321, 2,  35.1902, 2,  35.1887, 2,    199.0, 2,    198.1, 2,     3.33, 2,    10.76, 2,     0.01, 2,     0.82, 2,    2.515, 2,    1.371, 2,    0.080, 2, -999.000, 9,   -999.0, 9,   -999.0, 9, -999.0000,   -999.00,   -999.0, 9,   -999.0,  -999.00, 9,   -999.0,  13.3854, 26.4620,  13.4330, 2, 9, 0.13, 0.06, 0.01, 0.013,  -999.00, 9, -999.00, -999.00, 9, -999.00
49NZ20071122, P14, 14, 1, 29, X12035, 2, 20071220, 2047, -31.3065, 175.7892, 4104,    428.4, 2,  11.4563, 2,  34.9476, 2,  34.9483, 2,    196.7, 2,    197.2, 2,     5.27, 2,    14.97, 2,     0.01, 2,     1.09, 2,    2.437, 2,    1.287, 2,    0.082, 2, -999.000, 9,   -999.0, 9,   -999.0, 9, -999.0000,   -999.00,   -999.0, 9,   -999.0,  -999.00, 9,   -999.0,  11.4016, 26.6611,  11.4554, 2, 9, 0.13, 0.07, 0.01, 0.013,  -999.00, 9, -999.00, -999.00, 9, -999.00
49NZ20071122, P14, 14, 1, 28, X12034, 2, 20071220, 2047, -31.3065, 175.7892, 4104,    529.4, 2,   9.9207, 2,  34.7668, 2,  34.7669, 6,    200.0, 2,    199.6, 2,     7.46, 2,    18.29, 2,     0.01, 2,     1.30, 2,    2.325, 2,    1.193, 2,    0.082, 2, -999.000, 9,   -999.0, 9,   -999.0, 9, -999.0000,   -999.00,   -999.0, 9,   -999.0,  -999.00, 9,   -999.0,   9.8587, 26.7939,   9.9226, 2, 9, 0.14, 0.08, 0.01, 0.014,  -999.00, 9, -999.00, -999.00, 9, -999.00
49NZ20071122, P14, 14, 1, 27, X12049, 2, 20071220, 2047, -31.3065, 175.7892, 4104,    631.9, 2,   8.6508, 2,  34.6252, 2,  34.6240, 2,    204.4, 2,    203.7, 2,     9.94, 2,    20.96, 2,     0.01, 2,     1.48, 2,    2.104, 2,    1.055, 2,    0.075, 2, -999.000, 9,   -999.0, 9,   -999.0, 9, -999.0000,   -999.00,   -999.0, 9,   -999.0,  -999.00, 9,   -999.0,   8.5824, 26.8906,   8.6512, 2, 9, 0.14, 0.09, 0.01, 0.014,  -999.00, 9, -999.00, -999.00, 9, -999.00
49NZ20071122, P14, 14, 1, 26, X12032, 2, 20071220, 2047, -31.3065, 175.7892, 4104,    731.7, 2,   7.6122, 2,  34.5123, 2,  34.5118, 2,    211.5, 2,    209.5, 2,    11.81, 2,    23.01, 2,     0.01, 2,     1.61, 2,    1.867, 6,    0.917, 6,    0.061, 6, -999.000, 9,   -999.0, 9,   -999.0, 9, -999.0000,   -999.00,   -999.0, 9,   -999.0,  -999.00, 9,   -999.0,   7.5382, 26.9586,   7.6125, 2, 9, 0.14, 0.10, 0.01, 0.014,  -999.00, 9, -999.00, -999.00, 9, -999.00
49NZ20071122, P14, 14, 1, 25, X12043, 2, 20071220, 2047, -31.3065, 175.7892, 4104,    831.3, 2,   6.7674, 2,  34.4362, 2,  34.4359, 2,    213.1, 2,    212.0, 2,    14.33, 2,    24.79, 2,     0.01, 2,     1.73, 2,    1.481, 2,    0.718, 2,    0.049, 2, -999.000, 9,   -999.0, 9,   -999.0, 9, -999.0000,   -999.00,   -999.0, 9,   -999.0,  -999.00, 9,   -999.0,   6.6881, 27.0172,   6.7680, 2, 9, 0.15, 0.10, 0.01, 0.014,  -999.00, 9, -999.00, -999.00, 9, -999.00
49NZ20071122, P14, 14, 1, 24, X12030, 2, 20071220, 2047, -31.3065, 175.7892, 4104,    932.1, 2,   6.0886, 2,  34.4104, 2,  34.4103, 2,    204.3, 2,    205.3, 2,    20.35, 2,    26.79, 2,     0.01, 2,     1.87, 2,    1.014, 2,    0.499, 2,    0.023, 2, -999.000, 9,   -999.0, 9,   -999.0, 9, -999.0000,   -999.00,   -999.0, 9,   -999.0,  -999.00, 9,   -999.0,   6.0039, 27.0862,   6.0892, 2, 9, 0.16, 0.11, 0.01, 0.015,  -999.00, 9, -999.00, -999.00, 9, -999.00
49NZ20071122, P14, 14, 1, 23, X12027, 2, 20071220, 2047, -31.3065, 175.7892, 4104,   1069.9, 2,   5.2460, 2,  34.4324, 2,  34.4337, 6,    189.8, 2,    189.3, 2,    34.88, 2,    29.58, 2,     0.01, 2,     2.06, 2,    0.550, 2,    0.272, 2,    0.012, 2, -999.000, 9,   -999.0, 9,   -999.0, 9, -999.0000,   -999.00,   -999.0, 9,   -999.0,  -999.00, 9,   -999.0,   5.1545, 27.2073,   5.2456, 2, 9, 0.20, 0.12, 0.01, 0.015,  -999.00, 9, -999.00, -999.00, 9, -999.00
49NZ20071122, P14, 14, 1, 22, X12028, 2, 20071220, 2047, -31.3065, 175.7892, 4104,   1271.0, 2,   4.2689, 2,  34.4939, 2,  34.4936, 2,    173.9, 2,    174.1, 2,    56.57, 2,    31.83, 2,     0.01, 2,     2.23, 2,    0.283, 2,    0.142, 2,    0.006, 2, -999.000, 9,   -999.0, 9,   -999.0, 9, -999.0000,   -999.00,   -999.0, 9,   -999.0,  -999.00, 9,   -999.0,   4.1676, 27.3660,   4.2645, 2, 9, 0.24, 0.12, 0.01, 0.016,  -999.00, 9, -999.00, -999.00, 9, -999.00
49NZ20071122, P14, 14, 1, 21, X12009, 2, 20071220, 2047, -31.3065, 175.7892, 4104,   1469.9, 2,   3.4052, 2,  34.5451, 2,  34.5449, 2,    164.0, 2,    164.0, 2,    77.11, 2,    33.48, 2,     0.01, 2,     2.35, 2,    0.121, 2,    0.061, 2,    0.000, 2, -999.000, 9,   -999.0, 9,   -999.0, 9, -999.0000,   -999.00,   -999.0, 9,   -999.0,  -999.00, 9,   -999.0,   3.2954, 27.4944,   3.4051, 2, 9, 0.29, 0.13, 0.01, 0.016,  -999.00, 9, -999.00, -999.00, 9, -999.00
49NZ20071122, P14, 14, 1, 20, X12026, 2, 20071220, 2047, -31.3065, 175.7892, 4104,   1671.2, 2,   2.8098, 2,  34.5890, 2,  34.5890, 2,    158.2, 2,    157.3, 2,    93.14, 2,    34.48, 2,     0.01, 2,     2.43, 2,    0.034, 2,    0.019, 2,    0.000, 2, -999.000, 9,   -999.0, 9,   -999.0, 9, -999.0000,   -999.00,   -999.0, 9,   -999.0,  -999.00, 9,   -999.0,   2.6899, 27.5848,   2.8101, 2, 9, 0.32, 0.13, 0.01, 0.016,  -999.00, 9, -999.00, -999.00, 9, -999.00
49NZ20071122, P14, 14, 1, 19, X12025, 2, 20071220, 2047, -31.3065, 175.7892, 4104,   1871.7, 2,   2.4888, 2,  34.6184, 2,  34.6185, 2,    154.6, 2,    154.0, 2,   103.15, 2,    34.90, 2,     0.01, 2,     2.46, 2,    0.010, 2,    0.005, 2,    0.000, 2, -999.000, 9,   -999.0, 9,   -999.0, 9, -999.0000,   -999.00,   -999.0, 9,   -999.0,  -999.00, 9,   -999.0,   2.3561, 27.6370,   2.4889, 2, 9, 0.35, 0.13, 0.01, 0.016,  -999.00, 9, -999.00, -999.00, 9, -999.00
49NZ20071122, P14, 14, 1, 18, X12024, 2, 20071220, 2047, -31.3065, 175.7892, 4104,   2071.5, 2,   2.3025, 2,  34.6353, 2,  34.6351, 2,    152.9, 2,    153.0, 2,   108.76, 2,    35.20, 2,     0.01, 2,     2.47, 2,    0.006, 2,    0.003, 2,    0.000, 2, -999.000, 9,   -999.0, 9,   -999.0, 9, -999.0000,   -999.00,   -999.0, 9,   -999.0,  -999.00, 9,   -999.0,   2.1553, 27.6671,   2.3027, 2, 9, 0.36, 0.13, 0.01, 0.016,  -999.00, 9, -999.00, -999.00, 9, -999.00
49NZ20071122, P14, 14, 1, 17, X12023, 2, 20071220, 2047, -31.3065, 175.7892, 4104,   2270.1, 2,   2.1557, 2,  34.6485, 2,  34.6484, 6,    152.5, 2,    152.5, 2,   112.84, 2,    35.29, 2,     0.01, 2,     2.48, 2,    0.000, 2,    0.000, 2,    0.000, 2, -999.000, 9,   -999.0, 9,   -999.0, 9, -999.0000,   -999.00,   -999.0, 9,   -999.0,  -999.00, 9,   -999.0,   1.9934, 27.6906,   2.1554, 2, 9, 0.37, 0.13, 0.01, 0.016,  -999.00, 9, -999.00, -999.00, 9, -999.00
49NZ20071122, P14, 14, 1, 16, X12022, 2, 20071220, 2047, -31.3065, 175.7892, 4104,   2470.0, 2,   2.0359, 2,  34.6597, 2,  34.6596, 2,    152.7, 2,    153.0, 2,   116.21, 2,    35.30, 2,     0.01, 2,     2.48, 2,    0.001, 2,    0.000, 2,    0.000, 2, -999.000, 9,   -999.0, 9,   -999.0, 9, -999.0000,   -999.00,   -999.0, 9,   -999.0,  -999.00, 9,   -999.0,   1.8577, 27.7102,   2.0358, 2, 9, 0.37, 0.13, 0.01, 0.016,  -999.00, 9, -999.00, -999.00, 9, -999.00
49NZ20071122, P14, 14, 1, 15, X12021, 2, 20071220, 2047, -31.3065, 175.7892, 4104,   2671.3, 2,   1.9472, 2,  34.6682, 2,  34.6680, 2,    153.1, 2,    153.4, 2,   118.50, 2,    35.37, 2,     0.01, 2,     2.49, 2,    0.000, 2,    0.000, 2,    0.000, 2, -999.000, 9,   -999.0, 9,   -999.0, 9, -999.0000,   -999.00,   -999.0, 9,   -999.0,  -999.00, 9,   -999.0,   1.7521, 27.7251,   1.9472, 2, 9, 0.38, 0.13, 0.01, 0.016,  -999.00, 9, -999.00, -999.00, 9, -999.00
49NZ20071122, P14, 14, 1, 14, X12020, 2, 20071220, 2047, -31.3065, 175.7892, 4104,   2870.8, 2,   1.8837, 2,  34.6743, 2,  34.6742, 2,    153.6, 2,    153.9, 2,   120.37, 2,    35.37, 2,     0.01, 2,     2.49, 2,    0.000, 2,    0.000, 2,    0.000, 2, -999.000, 9,   -999.0, 9,   -999.0, 9, -999.0000,   -999.00,   -999.0, 9,   -999.0,  -999.00, 9,   -999.0,   1.6710, 27.7362,   1.8836, 2, 9, 0.38, 0.13, 0.01, 0.016,  -999.00, 9, -999.00, -999.00, 9, -999.00
49NZ20071122, P14, 14, 1, 13, X12019, 2, 20071220, 2047, -31.3065, 175.7892, 4104,   3079.2, 2,   1.8576, 2,  34.6780, 2,  34.6778, 2,    153.8, 2,    154.0, 2,   121.41, 2,    35.39, 2,     0.01, 2,     2.48, 2, -999.000, 9, -999.000, 9, -999.000, 9, -999.000, 9,   -999.0, 9,   -999.0, 9, -999.0000,   -999.00,   -999.0, 9,   -999.0,  -999.00, 9,   -999.0,   1.6252, 27.7425,   1.8577, 2, 9, 0.39, 0.13, 0.01, 0.016,  -999.00, 9, -999.00, -999.00, 9, -999.00
49NZ20071122, P14, 14, 1, 12, X12040, 2, 20071220, 2047, -31.3065, 175.7892, 4104,   3330.6, 2,   1.8542, 2,  34.6800, 2,  34.6801, 2,    153.9, 2,    154.2, 2,   121.81, 2,    35.28, 2,     0.01, 2,     2.48, 2,    0.000, 2,    0.000, 2,    0.000, 2, -999.000, 9,   -999.0, 9,   -999.0, 9, -999.0000,   -999.00,   -999.0, 9,   -999.0,  -999.00, 9,   -999.0,   1.5966, 27.7463,   1.8543, 2, 9, 0.39, 0.13, 0.01, 0.016,  -999.00, 9, -999.00, -999.00, 9, -999.00
49NZ20071122, P14, 14, 1, 11, X12047, 2, 20071220, 2047, -31.3065, 175.7892, 4104,   3581.8, 2,   1.8618, 2,  34.6813, 2,  34.6812, 6,    153.9, 2,    154.0, 2,   122.31, 2,    35.34, 2,     0.01, 2,     2.48, 2, -999.000, 9, -999.000, 9, -999.000, 9, -999.000, 9,   -999.0, 9,   -999.0, 9, -999.0000,   -999.00,   -999.0, 9,   -999.0,  -999.00, 9,   -999.0,   1.5780, 27.7487,   1.8617, 2, 9, 0.39, 0.13, 0.01, 0.016,  -999.00, 9, -999.00, -999.00, 9, -999.00
49NZ20071122, P14, 14, 1, 10, X12012, 2, 20071220, 2047, -31.3065, 175.7892, 4104,   3830.1, 2,   1.8773, 2,  34.6818, 2,  34.6819, 2,    153.9, 2,    154.1, 2,   123.02, 2,    35.39, 2,     0.00, 2,     2.48, 2,    0.000, 2,    0.000, 2,    0.000, 2, -999.000, 9,   -999.0, 9,   -999.0, 9, -999.0000,   -999.00,   -999.0, 9,   -999.0,  -999.00, 9,   -999.0,   1.5665, 27.7499,   1.8774, 2, 9, 0.39, 0.13, 0.01, 0.016,  -999.00, 9, -999.00, -999.00, 9, -999.00
49NZ20071122, P14, 14, 1, 9, X12015, 2, 20071220, 2047, -31.3065, 175.7892, 4104,   4078.8, 2,   1.8973, 2,  34.6820, 2,  34.6825, 2,    154.2, 2,    154.1, 2,   123.31, 2,    35.42, 2,     0.01, 2,     2.49, 2, -999.000, 9, -999.000, 9, -999.000, 9, -999.000, 9,   -999.0, 9,   -999.0, 9, -999.0000,   -999.00,   -999.0, 9,   -999.0,  -999.00, 9,   -999.0,   1.5584, 27.7507,   1.8973, 2, 9, 0.39, 0.13, 0.01, 0.016,  -999.00, 9, -999.00, -999.00, 9, -999.00
49NZ20071122, P14, 14, 1, 8, X12046, 9, 20071220, 2047, -31.3065, 175.7892, 4104,      9.4, 2,  21.5643, 2,  35.6894, 2, -999.0000, 9,    223.3, 2,   -999.0, 9,  -999.00, 9,  -999.00, 9,  -999.00, 9,  -999.00, 9, -999.000, 9, -999.000, 9, -999.000, 9, -999.000, 9,   -999.0, 9,   -999.0, 9, -999.0000,   -999.00,   -999.0, 9,   -999.0,  -999.00, 9,   -999.0,  21.5625, 24.8640,  21.5642, 2, 9, -999.00, -999.00, -999.00, -999.000,  -999.00, 9, -999.00, -999.00, 9, -999.00
49NZ20071122, P14, 14, 1, 7, X12044, 9, 20071220, 2047, -31.3065, 175.7892, 4104,     49.0, 2,  19.0379, 2,  35.7160, 2, -999.0000, 9,    235.2, 2,   -999.0, 9,  -999.00, 9,  -999.00, 9,  -999.00, 9,  -999.00, 9, -999.000, 9, -999.000, 9, -999.000, 9, -999.000, 9,   -999.0, 9,   -999.0, 9, -999.0000,   -999.00,   -999.0, 9,   -999.0,  -999.00, 9,   -999.0,  19.0291, 25.5611,  19.0322, 2, 9, -999.00, -999.00, -999.00, -999.000,  -999.00, 9, -999.00, -999.00, 9, -999.00
49NZ20071122, P14, 14, 1, 6, X12048, 9, 20071220, 2047, -31.3065, 175.7892, 4104,    932.5, 2,   6.0853, 2,  34.4104, 2, -999.0000, 9,    204.3, 2,   -999.0, 9,  -999.00, 9,  -999.00, 9,  -999.00, 9,  -999.00, 9, -999.000, 9, -999.000, 9, -999.000, 9, -999.000, 9,   -999.0, 9,   -999.0, 9, -999.0000,   -999.00,   -999.0, 9,   -999.0,  -999.00, 9,   -999.0,   6.0006, 27.0867,   6.0862, 2, 9, -999.00, -999.00, -999.00, -999.000,  -999.00, 9, -999.00, -999.00, 9, -999.00
49NZ20071122, P14, 14, 1, 5, X12014, 9, 20071220, 2047, -31.3065, 175.7892, 4104,    100.9, 2,  17.7938, 2,  35.6795, 2, -999.0000, 9,    211.0, 2,   -999.0, 9,  -999.00, 9,  -999.00, 9,  -999.00, 9,  -999.00, 9, -999.000, 9, -999.000, 9, -999.000, 9, -999.000, 9,   -999.0, 9,   -999.0, 9, -999.0000,   -999.00,   -999.0, 9,   -999.0,  -999.00, 9,   -999.0,  17.7766, 25.8478,  17.7937, 2, 9, -999.00, -999.00, -999.00, -999.000,  -999.00, 9, -999.00, -999.00, 9, -999.00
49NZ20071122, P14, 14, 1, 4, X12006, 9, 20071220, 2047, -31.3065, 175.7892, 4104,   1270.8, 2,   4.2949, 2,  34.4942, 2, -999.0000, 9,    173.9, 2,   -999.0, 9,  -999.00, 9,  -999.00, 9,  -999.00, 9,  -999.00, 9, -999.000, 9, -999.000, 9, -999.000, 9, -999.000, 9,   -999.0, 9,   -999.0, 9, -999.0000,   -999.00,   -999.0, 9,   -999.0,  -999.00, 9,   -999.0,   4.1934, 27.3635,   4.2991, 2, 9, -999.00, -999.00, -999.00, -999.000,  -999.00, 9, -999.00, -999.00, 9, -999.00
49NZ20071122, P14, 14, 1, 3, X12013, 9, 20071220, 2047, -31.3065, 175.7892, 4104,   3582.1, 2,   1.8618, 2,  34.6813, 2, -999.0000, 9,    153.9, 2,   -999.0, 9,  -999.00, 9,  -999.00, 9,  -999.00, 9,  -999.00, 9, -999.000, 9, -999.000, 9, -999.000, 9, -999.000, 9,   -999.0, 9,   -999.0, 9, -999.0000,   -999.00,   -999.0, 9,   -999.0,  -999.00, 9,   -999.0,   1.5780, 27.7487,   1.8617, 2, 9, -999.00, -999.00, -999.00, -999.000,  -999.00, 9, -999.00, -999.00, 9, -999.00
49NZ20071122, P14, 14, 1, 2, X12002, 9, 20071220, 2047, -31.3065, 175.7892, 4104,   1670.9, 2,   2.8104, 2,  34.5889, 2, -999.0000, 9,    158.2, 2,   -999.0, 9,  -999.00, 9,  -999.00, 9,  -999.00, 9,  -999.00, 9, -999.000, 9, -999.000, 9, -999.000, 9, -999.000, 9,   -999.0, 9,   -999.0, 9, -999.0000,   -999.00,   -999.0, 9,   -999.0,  -999.00, 9,   -999.0,   2.6905, 27.5847,   2.8105, 2, 9, -999.00, -999.00, -999.00, -999.000,  -999.00, 9, -999.00, -999.00, 9, -999.00
49NZ20071122, P14, 14, 1, 1, X12001, 2, 20071220, 2047, -31.3065, 175.7892, 4104,   4161.1, 2,   1.9027, 2,  34.6822, 2,  34.6824, 6,    154.4, 2,    154.3, 2,   123.31, 2,    35.41, 2,     0.01, 2,     2.49, 2,    0.000, 2,    0.001, 2,    0.000, 2, -999.000, 9,   -999.0, 9,   -999.0, 9, -999.0000,   -999.00,   -999.0, 9,   -999.0,  -999.00, 9,   -999.0,   1.5544, 27.7511,   1.9028, 2, 9, 0.39, 0.13, 0.01, 0.016,  -999.00, 9, -999.00, -999.00, 9, -999.00