BOTTLE,20220820CCHSIOAMB
EXPOCODE,SECT_ID,STNNBR,CASTNO,SAMPNO,BTLNBR,BTLNBR_FLAG_W,DATE,TIME,LATITUDE,LONGITUDE,DEPTH,CTDPRS,CTDPRS_FLAG_W,CTDTMP,CTDTMP_FLAG_W,CTDSAL,CTDSAL_FLAG_W,SALNTY,SALNTY_FLAG_W,CTDOXY,CTDOXY_FLAG_W,OXYGEN,OXYGEN_FLAG_W,SILCAT,SILCAT_FLAG_W,NITRAT,NITRAT_FLAG_W,NITRIT,NITRIT_FLAG_W,PHSPHT,PHSPHT_FLAG_W,CFC-11,CFC-11_FLAG_W,CFC-12,CFC-12_FLAG_W,CFC113,CFC113_FLAG_W,CCL4,CCL4_FLAG_W,TCARBN,TCARBN_FLAG_W,ALKALI,ALKALI_FLAG_W,PH_TOT,PH_TMP,DELC14,DELC14_FLAG_W,C14ERR,DELC13,DELC13_FLAG_W,C13ERR,THETA,SIG0,SBE35,SBE35_FLAG_W,PH_TOT_FLAG_W,SILUNC,NRAUNC,NRIUNC,PHPUNC,CS-137,CS-137_FLAG_W,CS137ER,PLUTO,PLUTO_FLAG_W,PLUTOER
,,,,,,,,,,,METERS,DBAR,,ITS-90,,PSS-78,,PSS-78,,UMOL/KG,,UMOL/KG,,UMOL/KG,,UMOL/KG,,UMOL/KG,,UMOL/KG,,PMOL/KG,,PMOL/KG,,PMOL/KG,,PMOL/KG,,UMOL/KG,,UMOL/KG,,,DEG C,/MILLE,,/MILLE,/MILLE,,/MILLE,DEG C,KG/M^3,ITS-90,,,UMOL/KG,UMOL/KG,UMOL/KG,UMOL/KG,DM/.1MG,,BQ/M^3,MBQ/M^3,,MBQ/M^3
49NZ20071122, P14N, 122, 1, 36, X12042, 2, 20071126, 2215, 5.2465, 178.9938, 5705,     10.9, 2,  28.2714, 2,  34.8638, 2,  34.8645, 2,    196.2, 2,    196.4, 2,     1.12, 2,     0.49, 2,     0.07, 2,     0.25, 2,    1.474, 2,    0.922, 2,    0.179, 4,    1.439, 4,   -999.0, 9,   -999.0, 9, -999.0000,   -999.00,   -999.0, 9,   -999.0,  -999.00, 9,   -999.0,  28.2688, 22.2041,  28.2733, 2, 9, 0.12, 0.03, 0.01, 0.015,  -999.00, 9, -999.00, -999.00, 9, -999.00
49NZ20071122, P14N, 122, 1, 35, X12041, 2, 20071126, 2215, 5.2465, 178.9938, 5705,     50.5, 2,  28.3317, 2,  34.9517, 2,  34.9532, 2,    193.6, 2,    194.7, 2,     1.12, 2,     0.55, 2,     0.08, 2,     0.27, 2,    1.465, 2,    0.919, 2,    0.195, 4,    1.499, 4,   -999.0, 9,   -999.0, 9, -999.0000,   -999.00,   -999.0, 9,   -999.0,  -999.00, 9,   -999.0,  28.3197, 22.2534,  28.3298, 2, 9, 0.12, 0.03, 0.01, 0.015,  -999.00, 9, -999.00, -999.00, 9, -999.00
49NZ20071122, P14N, 122, 1, 34, X12016, 2, 20071126, 2215, 5.2465, 178.9938, 5705,    101.9, 2,  27.3741, 2,  35.1557, 2,  35.1574, 2,    190.7, 2,    189.8, 2,     1.65, 2,     2.30, 2,     0.69, 2,     0.42, 2,    1.533, 2,    0.950, 2,    0.189, 4,    1.344, 4,   -999.0, 9,   -999.0, 9, -999.0000,   -999.00,   -999.0, 9,   -999.0,  -999.00, 9,   -999.0,  27.3505, 22.7226,  27.3727, 2, 9, 0.12, 0.04, 0.00, 0.013,  -999.00, 9, -999.00, -999.00, 9, -999.00
49NZ20071122, P14N, 122, 1, 33, X12033, 2, 20071126, 2215, 5.2465, 178.9938, 5705,    150.2, 2,  26.8022, 2,  35.1562, 2,  35.1508, 2,    174.4, 2,    175.3, 2,     2.27, 2,     3.94, 2,     0.84, 2,     0.50, 2,    1.585, 6,    0.980, 6,    0.155, 4,    1.157, 4,   -999.0, 9,   -999.0, 9, -999.0000,   -999.00,   -999.0, 9,   -999.0,  -999.00, 9,   -999.0,  26.7679, 22.9094,  26.8018, 2, 9, 0.12, 0.04, 0.00, 0.013,  -999.00, 9, -999.00, -999.00, 9, -999.00
49NZ20071122, P14N, 122, 1, 32, X12038, 2, 20071126, 2215, 5.2465, 178.9938, 5705,    199.5, 2,  17.5201, 2,  34.6734, 2,  34.6671, 2,    125.6, 2,    125.4, 2,    10.16, 2,    13.28, 2,     0.02, 2,     1.07, 2,    2.043, 2,    1.158, 2,    0.069, 2,    0.302, 4,   -999.0, 9,   -999.0, 9, -999.0000,   -999.00,   -999.0, 9,   -999.0,  -999.00, 9,   -999.0,  17.4865, 25.1471,  17.5182, 2, 9, 0.14, 0.07, 0.01, 0.013,  -999.00, 9, -999.00, -999.00, 9, -999.00
49NZ20071122, P14N, 122, 1, 31, X12003, 2, 20071126, 2215, 5.2465, 178.9938, 5705,    249.9, 2,  11.3248, 2,  34.5628, 2,  34.5678, 6,     74.0, 2,     69.8, 2,    27.57, 2,    27.89, 2,     0.01, 2,     2.05, 2,    1.094, 2,    0.582, 2,    0.017, 2,    0.176, 4,   -999.0, 9,   -999.0, 9, -999.0000,   -999.00,   -999.0, 9,   -999.0,  -999.00, 9,   -999.0,  11.2935, 26.3816,  11.3219, 2, 9, 0.18, 0.11, 0.01, 0.015,  -999.00, 9, -999.00, -999.00, 9, -999.00
49NZ20071122, P14N, 122, 1, 30, X12008, 2, 20071126, 2215, 5.2465, 178.9938, 5705,    331.2, 2,   9.7425, 2,  34.6362, 2,  34.6361, 2,     87.6, 2,     84.9, 2,    30.84, 2,    29.67, 2,     0.00, 2,     2.14, 2,    0.722, 2,    0.379, 2,    0.014, 2,    0.200, 4,   -999.0, 9,   -999.0, 9, -999.0000,   -999.00,   -999.0, 9,   -999.0,  -999.00, 9,   -999.0,   9.7046, 26.7178,   9.7433, 2, 9, 0.19, 0.12, 0.01, 0.015,  -999.00, 9, -999.00, -999.00, 9, -999.00
49NZ20071122, P14N, 122, 1, 29, X12035, 2, 20071126, 2215, 5.2465, 178.9938, 5705,    431.6, 2,   8.6012, 2,  34.6190, 2,  34.6186, 2,     68.4, 2,     63.4, 2,    36.05, 2,    34.16, 2,     0.00, 2,     2.44, 2,    0.302, 2,    0.155, 2,    0.007, 2, -999.000, 5,   -999.0, 9,   -999.0, 9, -999.0000,   -999.00,   -999.0, 9,   -999.0,  -999.00, 9,   -999.0,   8.5552, 26.8899,   8.6018, 2, 9, 0.20, 0.13, 0.01, 0.016,  -999.00, 9, -999.00, -999.00, 9, -999.00
49NZ20071122, P14N, 122, 1, 28, X12034, 2, 20071126, 2215, 5.2465, 178.9938, 5705,    530.5, 2,   7.7251, 2,  34.5846, 2,  34.5841, 6,     64.3, 2,     63.8, 2,    42.05, 2,    35.87, 2,     0.00, 2,     2.57, 2,    0.179, 2,    0.095, 2,    0.008, 2,    0.071, 4,   -999.0, 9,   -999.0, 9, -999.0000,   -999.00,   -999.0, 9,   -999.0,  -999.00, 9,   -999.0,   7.6717, 26.9960,   7.7256, 2, 9, 0.21, 0.13, 0.01, 0.016,  -999.00, 9, -999.00, -999.00, 9, -999.00
49NZ20071122, P14N, 122, 1, 27, X12049, 2, 20071126, 2215, 5.2465, 178.9938, 5705,    630.0, 2,   7.0503, 2,  34.5668, 2,  34.5658, 2,     61.4, 2,     62.4, 2,    47.96, 2,    37.50, 2,     0.00, 2,     2.69, 2,    0.108, 2,    0.058, 2,    0.005, 2,    0.071, 4,   -999.0, 9,   -999.0, 9, -999.0000,   -999.00,   -999.0, 9,   -999.0,  -999.00, 9,   -999.0,   6.9896, 27.0789,   7.0508, 2, 9, 0.22, 0.14, 0.01, 0.017,  -999.00, 9, -999.00, -999.00, 9, -999.00
49NZ20071122, P14N, 122, 1, 26, X12032, 2, 20071126, 2215, 5.2465, 178.9938, 5705,    730.2, 2,   6.3791, 2,  34.5542, 2,  34.5533, 2,     62.3, 2,     61.5, 2,    55.49, 2,    39.07, 2,     0.00, 2,     2.81, 2,    0.059, 6,    0.032, 6,    0.000, 6,    0.073, 4,   -999.0, 9,   -999.0, 9, -999.0000,   -999.00,   -999.0, 9,   -999.0,  -999.00, 9,   -999.0,   6.3120, 27.1601,   6.3774, 2, 9, 0.24, 0.14, 0.01, 0.017,  -999.00, 9, -999.00, -999.00, 9, -999.00
49NZ20071122, P14N, 122, 1, 25, X12043, 2, 20071126, 2215, 5.2465, 178.9938, 5705,    831.3, 2,   5.7698, 2,  34.5462, 2,  34.5457, 2,     68.6, 2,     68.8, 2,    62.93, 2,    39.45, 2,     0.00, 2,     2.83, 2,    0.028, 2,    0.016, 2,    0.000, 2,    0.040, 4,   -999.0, 9,   -999.0, 9, -999.0000,   -999.00,   -999.0, 9,   -999.0,  -999.00, 9,   -999.0,   5.6966, 27.2321,   5.7706, 2, 9, 0.26, 0.14, 0.01, 0.017,  -999.00, 9, -999.00, -999.00, 9, -999.00
49NZ20071122, P14N, 122, 1, 24, X12030, 2, 20071126, 2215, 5.2465, 178.9938, 5705,    929.4, 2,   5.3008, 2,  34.5456, 2,  34.5454, 2,     58.7, 2,     61.2, 2,    73.97, 2,    40.40, 2,     0.00, 2,     2.90, 2,    0.020, 2,    0.010, 2,    0.000, 2,    0.063, 4,   -999.0, 9,   -999.0, 9, -999.0000,   -999.00,   -999.0, 9,   -999.0,  -999.00, 9,   -999.0,   5.2217, 27.2891,   5.3011, 2, 9, 0.28, 0.15, 0.01, 0.017,  -999.00, 9, -999.00, -999.00, 9, -999.00
49NZ20071122, P14N, 122, 1, 23, X12027, 2, 20071126, 2215, 5.2465, 178.9938, 5705,   1072.1, 2,   4.6060, 2,  34.5545, 2,  34.5551, 6,     74.9, 2,     74.0, 2,    86.18, 2,    40.10, 2,     0.00, 2,     2.88, 2,    0.024, 2,    0.013, 2,    0.000, 2,    0.033, 4,   -999.0, 9,   -999.0, 9, -999.0000,   -999.00,   -999.0, 9,   -999.0,  -999.00, 9,   -999.0,   4.5192, 27.3763,   4.6062, 2, 9, 0.31, 0.15, 0.01, 0.017,  -999.00, 9, -999.00, -999.00, 9, -999.00
49NZ20071122, P14N, 122, 1, 22, X12028, 2, 20071126, 2215, 5.2465, 178.9938, 5705,   1271.5, 2,   3.8602, 2,  34.5758, 2,  34.5764, 2,     72.9, 2,     72.6, 2,   102.37, 2,    40.93, 2,     0.00, 2,     2.96, 2,    0.008, 2,    0.003, 2,    0.000, 2,    0.018, 4,   -999.0, 9,   -999.0, 9, -999.0000,   -999.00,   -999.0, 9,   -999.0,  -999.00, 9,   -999.0,   3.7626, 27.4730,   3.8603, 2, 9, 0.34, 0.15, 0.01, 0.017,  -999.00, 9, -999.00, -999.00, 9, -999.00
49NZ20071122, P14N, 122, 1, 21, X12009, 2, 20071126, 2215, 5.2465, 178.9938, 5705,   1470.5, 2,   3.2959, 2,  34.5928, 2,  34.5936, 2,     85.4, 2,     84.1, 2,   113.77, 2,    40.35, 2,     0.00, 2,     2.90, 2, -999.000, 9, -999.000, 9, -999.000, 9,    0.015, 4,   -999.0, 9,   -999.0, 9, -999.0000,   -999.00,   -999.0, 9,   -999.0,  -999.00, 9,   -999.0,   3.1871, 27.5427,   3.2960, 2, 9, 0.37, 0.15, 0.01, 0.017,  -999.00, 9, -999.00, -999.00, 9, -999.00
49NZ20071122, P14N, 122, 1, 20, X12026, 2, 20071126, 2215, 5.2465, 178.9938, 5705,   1669.4, 2,   2.8434, 2,  34.6100, 2,  34.6106, 2,     94.5, 2,     92.2, 2,   123.34, 2,    39.94, 2,     0.00, 2,     2.86, 2, -999.000, 9, -999.000, 9, -999.000, 9,    0.041, 4,   -999.0, 9,   -999.0, 9, -999.0000,   -999.00,   -999.0, 9,   -999.0,  -999.00, 9,   -999.0,   2.7231, 27.5987,   2.8432, 2, 9, 0.39, 0.14, 0.01, 0.017,  -999.00, 9, -999.00, -999.00, 9, -999.00
49NZ20071122, P14N, 122, 1, 19, X12025, 2, 20071126, 2215, 5.2465, 178.9938, 5705,   1870.0, 2,   2.4902, 2,  34.6259, 2,  34.6273, 3,     99.8, 2,     99.0, 2,   131.71, 2,    39.52, 2,     0.00, 2,     2.82, 2,    0.000, 2,    0.000, 2,    0.000, 2,    0.041, 4,   -999.0, 9,   -999.0, 9, -999.0000,   -999.00,   -999.0, 9,   -999.0,  -999.00, 9,   -999.0,   2.3576, 27.6428,   2.4903, 2, 9, 0.41, 0.14, 0.01, 0.017,  -999.00, 9, -999.00, -999.00, 9, -999.00
49NZ20071122, P14N, 122, 1, 18, X12024, 2, 20071126, 2215, 5.2465, 178.9938, 5705,   2069.2, 2,   2.2371, 2,  34.6395, 2,  34.6400, 2,    105.9, 2,    105.1, 2,   137.28, 2,    39.24, 2,     0.00, 2,     2.78, 2, -999.000, 9, -999.000, 9, -999.000, 9,    0.026, 4,   -999.0, 9,   -999.0, 9, -999.0000,   -999.00,   -999.0, 9,   -999.0,  -999.00, 9,   -999.0,   2.0911, 27.6756,   2.2376, 2, 9, 0.42, 0.14, 0.01, 0.017,  -999.00, 9, -999.00, -999.00, 9, -999.00
49NZ20071122, P14N, 122, 1, 17, X12023, 2, 20071126, 2215, 5.2465, 178.9938, 5705,   2270.8, 2,   2.0419, 2,  34.6517, 2,  34.6516, 6,    109.3, 2,    109.4, 2,   142.63, 2,    39.00, 2,     0.00, 2,     2.75, 2, -999.000, 9, -999.000, 9, -999.000, 9,    0.011, 4,   -999.0, 9,   -999.0, 9, -999.0000,   -999.00,   -999.0, 9,   -999.0,  -999.00, 9,   -999.0,   1.8814, 27.7019,   2.0418, 2, 9, 0.43, 0.14, 0.01, 0.017,  -999.00, 9, -999.00, -999.00, 9, -999.00
49NZ20071122, P14N, 122, 1, 16, X12022, 2, 20071126, 2215, 5.2465, 178.9938, 5705,   2471.3, 2,   1.9165, 2,  34.6592, 2,  34.6595, 2,    114.8, 2,    115.0, 2,   144.99, 2,    38.61, 2,     0.00, 2,     2.73, 2,    0.010, 2,    0.005, 2,    0.000, 2,    0.023, 4,   -999.0, 9,   -999.0, 9, -999.0000,   -999.00,   -999.0, 9,   -999.0,  -999.00, 9,   -999.0,   1.7403, 27.7188,   1.9163, 2, 9, 0.44, 0.14, 0.01, 0.017,  -999.00, 9, -999.00, -999.00, 9, -999.00
49NZ20071122, P14N, 122, 1, 15, X12021, 2, 20071126, 2215, 5.2465, 178.9938, 5705,   2670.5, 2,   1.8000, 2,  34.6656, 2,  34.6654, 2,    121.8, 2,    122.0, 2,   145.63, 2,    38.12, 2,     0.00, 2,     2.69, 2, -999.000, 9, -999.000, 9, -999.000, 9,    0.022, 4,   -999.0, 9,   -999.0, 9, -999.0000,   -999.00,   -999.0, 9,   -999.0,  -999.00, 9,   -999.0,   1.6079, 27.7339,   1.8000, 2, 9, 0.44, 0.14, 0.01, 0.017,  -999.00, 9, -999.00, -999.00, 9, -999.00
49NZ20071122, P14N, 122, 1, 14, X12020, 2, 20071126, 2215, 5.2465, 178.9938, 5705,   2871.9, 2,   1.6973, 2,  34.6705, 2,  34.6704, 2,    129.1, 2,    129.6, 2,   145.16, 2,    37.66, 2,     0.00, 2,     2.64, 2, -999.000, 9, -999.000, 9, -999.000, 9,    0.041, 4,   -999.0, 9,   -999.0, 9, -999.0000,   -999.00,   -999.0, 9,   -999.0,  -999.00, 9,   -999.0,   1.4884, 27.7466,   1.6973, 2, 9, 0.44, 0.14, 0.01, 0.017,  -999.00, 9, -999.00, -999.00, 9, -999.00
49NZ20071122, P14N, 122, 1, 13, X12019, 2, 20071126, 2215, 5.2465, 178.9938, 5705,   3082.0, 2,   1.6366, 2,  34.6742, 2,  34.6742, 2,    135.0, 2,    135.4, 2,   144.40, 2,    37.26, 2,     0.00, 2,     2.62, 2,    0.000, 2,    0.000, 2,    0.000, 2,    0.017, 4,   -999.0, 9,   -999.0, 9, -999.0000,   -999.00,   -999.0, 9,   -999.0,  -999.00, 9,   -999.0,   1.4089, 27.7553,   1.6366, 2, 9, 0.44, 0.14, 0.01, 0.017,  -999.00, 9, -999.00, -999.00, 9, -999.00
49NZ20071122, P14N, 122, 1, 12, X12040, 2, 20071126, 2215, 5.2465, 178.9938, 5705,   3329.1, 2,   1.5726, 2,  34.6783, 2,  34.6786, 2,    142.0, 2,    142.5, 2,   142.35, 2,    36.73, 2,     0.00, 2,     2.57, 2, -999.000, 9, -999.000, 9, -999.000, 9,    0.010, 4,   -999.0, 9,   -999.0, 9, -999.0000,   -999.00,   -999.0, 9,   -999.0,  -999.00, 9,   -999.0,   1.3220, 27.7648,   1.5725, 2, 9, 0.43, 0.14, 0.01, 0.016,  -999.00, 9, -999.00, -999.00, 9, -999.00
49NZ20071122, P14N, 122, 1, 11, X12047, 2, 20071126, 2215, 5.2465, 178.9938, 5705,   3581.3, 2,   1.5248, 2,  34.6825, 2,  34.6822, 2,    148.4, 2,    148.6, 2,   140.95, 2,    36.34, 2,     0.00, 2,     2.54, 2, -999.000, 9, -999.000, 9, -999.000, 9,    0.000, 4,   -999.0, 9,   -999.0, 9, -999.0000,   -999.00,   -999.0, 9,   -999.0,  -999.00, 9,   -999.0,   1.2497, 27.7733,   1.5249, 2, 9, 0.43, 0.13, 0.01, 0.016,  -999.00, 9, -999.00, -999.00, 9, -999.00
49NZ20071122, P14N, 122, 1, 10, X12012, 2, 20071126, 2215, 5.2465, 178.9938, 5705,   3830.2, 2,   1.4571, 2,  34.6879, 2,  34.6875, 2,    157.1, 2,    157.3, 2,   138.24, 2,    35.72, 2,     0.00, 2,     2.50, 2,    0.000, 2,    0.000, 2,    0.000, 2,    0.130, 4,   -999.0, 9,   -999.0, 9, -999.0000,   -999.00,   -999.0, 9,   -999.0,  -999.00, 9,   -999.0,   1.1576, 27.7839,   1.4571, 2, 9, 0.42, 0.13, 0.01, 0.016,  -999.00, 9, -999.00, -999.00, 9, -999.00
49NZ20071122, P14N, 122, 1, 9, X12015, 2, 20071126, 2215, 5.2465, 178.9938, 5705,   4078.9, 2,   1.3733, 2,  34.6936, 2,  34.6936, 6,    165.7, 2,    166.6, 2,   135.51, 2,    35.11, 2,     0.00, 2,     2.45, 2, -999.000, 9, -999.000, 9, -999.000, 9,    0.008, 4,   -999.0, 9,   -999.0, 9, -999.0000,   -999.00,   -999.0, 9,   -999.0,  -999.00, 9,   -999.0,   1.0493, 27.7959,   1.3732, 2, 9, 0.42, 0.13, 0.01, 0.016,  -999.00, 9, -999.00, -999.00, 9, -999.00
49NZ20071122, P14N, 122, 1, 8, X12046, 2, 20071126, 2215, 5.2465, 178.9938, 5705,   4329.3, 2,   1.2851, 2,  34.7000, 2,  34.7000, 2,    178.0, 2,    179.0, 2,   129.48, 2,    34.11, 2,     0.00, 2,     2.38, 2, -999.000, 9, -999.000, 9, -999.000, 9,    0.034, 4,   -999.0, 9,   -999.0, 9, -999.0000,   -999.00,   -999.0, 9,   -999.0,  -999.00, 9,   -999.0,   0.9360, 27.8085,   1.2851, 2, 9, 0.40, 0.13, 0.01, 0.016,  -999.00, 9, -999.00, -999.00, 9, -999.00
49NZ20071122, P14N, 122, 1, 7, X12044, 2, 20071126, 2215, 5.2465, 178.9938, 5705,   4579.5, 2,   1.2675, 2,  34.7026, 2,  34.7027, 2,    185.0, 2,    185.3, 2,   125.76, 2,    33.76, 2,     0.00, 2,     2.35, 2,    0.008, 2,    0.004, 2,    0.000, 2,    0.044, 4,   -999.0, 9,   -999.0, 9, -999.0000,   -999.00,   -999.0, 9,   -999.0,  -999.00, 9,   -999.0,   0.8905, 27.8136,   1.2675, 2, 9, 0.40, 0.13, 0.01, 0.016,  -999.00, 9, -999.00, -999.00, 9, -999.00
49NZ20071122, P14N, 122, 1, 6, X12048, 2, 20071126, 2215, 5.2465, 178.9938, 5705,   4829.0, 2,   1.2698, 2,  34.7040, 2,  34.7035, 2,    187.7, 2,    187.9, 2,   124.59, 2,    33.56, 2,     0.00, 2,     2.33, 2, -999.000, 9, -999.000, 9, -999.000, 9,    0.054, 4,   -999.0, 9,   -999.0, 9, -999.0000,   -999.00,   -999.0, 9,   -999.0,  -999.00, 9,   -999.0,   0.8637, 27.8164,   1.2698, 2, 9, 0.39, 0.13, 0.01, 0.016,  -999.00, 9, -999.00, -999.00, 9, -999.00
49NZ20071122, P14N, 122, 1, 5, X12014, 2, 20071126, 2215, 5.2465, 178.9938, 5705,   5079.4, 2,   1.2887, 2,  34.7046, 2,  34.7046, 2,    189.1, 2,    189.3, 2,   123.69, 2,    33.41, 2,     0.00, 2,     2.33, 2,    0.011, 2,    0.005, 2,    0.000, 2,    0.048, 4,   -999.0, 9,   -999.0, 9, -999.0000,   -999.00,   -999.0, 9,   -999.0,  -999.00, 9,   -999.0,   0.8519, 27.8177,   1.2887, 2, 9, 0.39, 0.13, 0.01, 0.016,  -999.00, 9, -999.00, -999.00, 9, -999.00
49NZ20071122, P14N, 122, 1, 4, X12006, 2, 20071126, 2215, 5.2465, 178.9938, 5705,   5328.6, 2,   1.3136, 2,  34.7048, 2,  34.7052, 2,    190.0, 2,    190.3, 2,   123.27, 2,    33.39, 2,     0.00, 2,     2.32, 2,    0.010, 2,    0.005, 2,    0.000, 2,    0.057, 4,   -999.0, 9,   -999.0, 9, -999.0000,   -999.00,   -999.0, 9,   -999.0,  -999.00, 9,   -999.0,   0.8453, 27.8183,   1.3135, 2, 9, 0.39, 0.13, 0.01, 0.016,  -999.00, 9, -999.00, -999.00, 9, -999.00
49NZ20071122, P14N, 122, 1, 3, X12013, 2, 20071126, 2215, 5.2465, 178.9938, 5705,   5578.6, 2,   1.3387, 2,  34.7052, 2,  34.7056, 2,    191.3, 2,    191.5, 2,   122.06, 2,    33.17, 2,     0.00, 2,     2.31, 2,    0.009, 2,    0.003, 2,    0.000, 2,    0.078, 4,   -999.0, 9,   -999.0, 9, -999.0000,   -999.00,   -999.0, 9,   -999.0,  -999.00, 9,   -999.0,   0.8379, 27.8191,   1.3386, 2, 9, 0.39, 0.13, 0.01, 0.016,  -999.00, 9, -999.00, -999.00, 9, -999.00
49NZ20071122, P14N, 122, 1, 2, X12002, 2, 20071126, 2215, 5.2465, 178.9938, 5705,     11.0, 2,  28.2860, 2,  34.8634, 2, -999.0000, 9,    195.8, 2,   -999.0, 9,  -999.00, 9,  -999.00, 9,  -999.00, 9,  -999.00, 9,    1.475, 2,    0.926, 2,    0.185, 4, -999.000, 9,   -999.0, 9,   -999.0, 9, -999.0000,   -999.00,   -999.0, 9,   -999.0,  -999.00, 9,   -999.0,  28.2834, 22.1990,  28.2844, 2, 9, -999.00, -999.00, -999.00, -999.000,  -999.00, 9, -999.00, -999.00, 9, -999.00
49NZ20071122, P14N, 122, 1, 1, X12001, 2, 20071126, 2215, 5.2465, 178.9938, 5705,   5791.9, 2,   1.3640, 2,  34.7053, 2,  34.7054, 6,    191.8, 2,    191.9, 2,   122.17, 2,    33.29, 2,     0.00, 2,     2.31, 2,    0.011, 2,    0.006, 2,    0.000, 2,    0.076, 4,   -999.0, 9,   -999.0, 9, -999.0000,   -999.00,   -999.0, 9,   -999.0,  -999.00, 9,   -999.0,   0.8347, 27.8194,   1.3640, 2, 9, 0.39, 0.13, 0.01, 0.016,  -999.00, 9, -999.00, -999.00, 9, -999.00