BOTTLE,20220820CCHSIOAMB
EXPOCODE,SECT_ID,STNNBR,CASTNO,SAMPNO,BTLNBR,BTLNBR_FLAG_W,DATE,TIME,LATITUDE,LONGITUDE,DEPTH,CTDPRS,CTDPRS_FLAG_W,CTDTMP,CTDTMP_FLAG_W,CTDSAL,CTDSAL_FLAG_W,SALNTY,SALNTY_FLAG_W,CTDOXY,CTDOXY_FLAG_W,OXYGEN,OXYGEN_FLAG_W,SILCAT,SILCAT_FLAG_W,NITRAT,NITRAT_FLAG_W,NITRIT,NITRIT_FLAG_W,PHSPHT,PHSPHT_FLAG_W,CFC-11,CFC-11_FLAG_W,CFC-12,CFC-12_FLAG_W,CFC113,CFC113_FLAG_W,CCL4,CCL4_FLAG_W,TCARBN,TCARBN_FLAG_W,ALKALI,ALKALI_FLAG_W,PH_TOT,PH_TMP,DELC14,DELC14_FLAG_W,C14ERR,DELC13,DELC13_FLAG_W,C13ERR,THETA,SIG0,SBE35,SBE35_FLAG_W,PH_TOT_FLAG_W,SILUNC,NRAUNC,NRIUNC,PHPUNC,CS-137,CS-137_FLAG_W,CS137ER,PLUTO,PLUTO_FLAG_W,PLUTOER
,,,,,,,,,,,METERS,DBAR,,ITS-90,,PSS-78,,PSS-78,,UMOL/KG,,UMOL/KG,,UMOL/KG,,UMOL/KG,,UMOL/KG,,UMOL/KG,,PMOL/KG,,PMOL/KG,,PMOL/KG,,PMOL/KG,,UMOL/KG,,UMOL/KG,,,DEG C,/MILLE,,/MILLE,/MILLE,,/MILLE,DEG C,KG/M^3,ITS-90,,,UMOL/KG,UMOL/KG,UMOL/KG,UMOL/KG,DM/.1MG,,BQ/M^3,MBQ/M^3,,MBQ/M^3
49NZ20071122, P14N, 137, 1, 36, X12042, 2, 20071130, 1124, 1.5050, 178.9983, 5522,     10.6, 2,  27.6455, 2,  35.1379, 2,  35.1379, 2,    204.9, 2,    203.3, 2,     1.57, 2,     2.18, 2,     0.13, 2,     0.36, 2,    1.530, 2,    0.969, 2,    0.192, 4, -999.000, 9,   1996.9, 2,   2311.7, 2,    8.0707,     25.00,   -999.0, 9,   -999.0,  -999.00, 9,   -999.0,  27.6430, 22.6146,  27.6451, 2, 6, 0.12, 0.04, 0.01, 0.014,  -999.00, 9, -999.00, -999.00, 9, -999.00
49NZ20071122, P14N, 137, 1, 35, X12041, 2, 20071130, 1124, 1.5050, 178.9983, 5522,     50.8, 2,  27.1315, 2,  35.1814, 2,  35.1826, 2,    197.4, 2,    199.1, 2,     1.81, 2,     3.08, 2,     0.31, 2,     0.45, 2,    1.562, 2,    0.987, 2,    0.216, 4, -999.000, 9,   2010.6, 6,   2316.7, 2,    8.0493,     25.00,   -999.0, 9,   -999.0,  -999.00, 9,   -999.0,  27.1198, 22.8161,  27.1322, 2, 2, 0.12, 0.04, 0.01, 0.013,  -999.00, 9, -999.00, -999.00, 9, -999.00
49NZ20071122, P14N, 137, 1, 34, X12016, 2, 20071130, 1124, 1.5050, 178.9983, 5522,     99.5, 2,  26.8476, 2,  35.2401, 2,  35.2417, 2,    190.0, 2,    189.2, 2,     2.03, 2,     3.59, 2,     1.14, 2,     0.53, 2,    1.597, 2,    1.008, 2,    0.189, 4, -999.000, 9,   2027.1, 2,   2317.7, 6,    8.0265,     25.00,   -999.0, 9,   -999.0,  -999.00, 9,   -999.0,  26.8249, 22.9545,  26.8453, 2, 2, 0.12, 0.04, 0.00, 0.013,  -999.00, 9, -999.00, -999.00, 9, -999.00
49NZ20071122, P14N, 137, 1, 33, X12033, 2, 20071130, 1124, 1.5050, 178.9983, 5522,    151.6, 2,  25.5237, 2,  35.1329, 2,  35.1320, 2,    167.8, 2,    167.2, 2,     3.24, 2,     7.03, 2,     0.14, 2,     0.66, 2,    1.677, 6,    1.047, 6,    0.157, 3, -999.000, 9,   2043.0, 2,   2308.9, 2,    7.9837,     25.00,   -999.0, 9,   -999.0,  -999.00, 9,   -999.0,  25.4903, 23.2916,  25.5230, 2, 6, 0.13, 0.05, 0.01, 0.013,  -999.00, 9, -999.00, -999.00, 9, -999.00
49NZ20071122, P14N, 137, 1, 32, X12038, 2, 20071130, 1124, 1.5050, 178.9983, 5522,    200.0, 2,  18.6540, 2,  34.8519, 2,  34.8521, 2,    131.8, 2,    134.6, 2,     9.93, 2,    12.11, 2,     0.03, 2,     0.95, 2,    1.966, 2,    1.134, 2,    0.040, 2, -999.000, 9,   2098.5, 2,   2297.5, 2,    7.8581,     25.00,   -999.0, 9,   -999.0,  -999.00, 9,   -999.0,  18.6188, 25.0046,  18.6623, 2, 2, 0.14, 0.07, 0.01, 0.013,  -999.00, 9, -999.00, -999.00, 9, -999.00
49NZ20071122, P14N, 137, 1, 31, X12003, 2, 20071130, 1124, 1.5050, 178.9983, 5522,    248.9, 2,  12.1822, 2,  34.6948, 2,  34.7004, 6,    119.0, 2,    118.4, 2,    22.27, 2,    22.27, 2,     0.01, 2,     1.64, 2,    1.436, 2,    0.776, 2,    0.021, 2, -999.000, 9,   2167.7, 2,   2300.5, 2,    7.7032,     25.00,   -999.0, 9,   -999.0,  -999.00, 9,   -999.0,  12.1494, 26.3234,  12.1948, 2, 2, 0.17, 0.10, 0.01, 0.014,  -999.00, 9, -999.00, -999.00, 9, -999.00
49NZ20071122, P14N, 137, 1, 30, X12008, 2, 20071130, 1124, 1.5050, 178.9983, 5522,    332.0, 2,  11.1688, 2,  34.7612, 2,  34.7620, 2,    111.5, 2,    110.4, 2,    22.64, 2,    24.73, 2,     0.01, 2,     1.79, 2,    1.117, 2,    0.600, 2,    0.018, 2, -999.000, 9,   2186.1, 2,   2304.6, 2,    7.6722,     25.00,   -999.0, 9,   -999.0,  -999.00, 9,   -999.0,  11.1273, 26.5665,  11.1667, 2, 2, 0.17, 0.10, 0.01, 0.015,  -999.00, 9, -999.00, -999.00, 9, -999.00
49NZ20071122, P14N, 137, 1, 29, X12035, 2, 20071130, 1124, 1.5050, 178.9983, 5522,    431.0, 2,  10.1898, 2,  34.7256, 2,  34.7225, 2,     66.9, 2,     67.2, 2,    27.93, 2,    31.10, 2,     0.01, 2,     2.20, 2,    0.608, 2,    0.327, 2,    0.009, 2, -999.000, 9,   2224.8, 2,   2305.2, 2,    7.5655,     25.00,   -999.0, 9,   -999.0,  -999.00, 9,   -999.0,  10.1388, 26.7139,  10.1914, 2, 2, 0.18, 0.12, 0.01, 0.016,  -999.00, 9, -999.00, -999.00, 9, -999.00
49NZ20071122, P14N, 137, 1, 28, X12034, 2, 20071130, 1124, 1.5050, 178.9983, 5522,    531.2, 2,   8.9220, 2,  34.6437, 2,  34.6410, 6,     70.2, 2,     71.2, 2,    33.57, 2,    33.05, 2,     0.01, 2,     2.33, 2,    0.388, 2,    0.209, 2,    0.008, 2, -999.000, 9,   2236.4, 2,   2308.3, 2,    7.5443,     25.00,   -999.0, 9,   -999.0,  -999.00, 9,   -999.0,   8.8638, 26.8609,   8.9237, 2, 2, 0.19, 0.13, 0.01, 0.016,  -999.00, 9, -999.00, -999.00, 9, -999.00
49NZ20071122, P14N, 137, 1, 27, X12049, 2, 20071130, 1124, 1.5050, 178.9983, 5522,    629.6, 2,   7.6857, 2,  34.5904, 2,  34.5901, 2,     50.6, 2,     58.7, 2,    42.77, 2,    36.73, 2,     0.01, 2,     2.62, 2,    0.143, 2,    0.075, 2,    0.006, 2, -999.000, 9,   2259.1, 2,   2315.2, 2,    7.4972,     25.00,   -999.0, 9,   -999.0,  -999.00, 9,   -999.0,   7.6221, 27.0078,   7.6921, 2, 2, 0.21, 0.14, 0.01, 0.017,  -999.00, 9, -999.00, -999.00, 9, -999.00
49NZ20071122, P14N, 137, 1, 26, X12032, 2, 20071130, 1124, 1.5050, 178.9983, 5522,    730.7, 2,   6.4432, 2,  34.5551, 2,  34.5542, 2,     65.5, 2,     65.6, 2,    54.63, 2,    38.78, 2,     0.01, 2,     2.77, 2,    0.052, 6,    0.028, 6,    0.000, 6, -999.000, 9,   2273.6, 6,   2325.4, 2,    7.4862,     25.00,   -999.0, 9,   -999.0,  -999.00, 9,   -999.0,   6.3757, 27.1525,   6.4441, 2, 2, 0.24, 0.14, 0.01, 0.017,  -999.00, 9, -999.00, -999.00, 9, -999.00
49NZ20071122, P14N, 137, 1, 25, X12043, 2, 20071130, 1124, 1.5050, 178.9983, 5522,    829.6, 2,   5.4273, 2,  34.5433, 2,  34.5434, 2,     81.6, 2,     81.0, 2,    67.45, 2,    38.71, 2,     0.01, 2,     2.78, 2,    0.028, 2,    0.015, 2,    0.000, 2, -999.000, 9,   2281.0, 2,   2340.2, 6,    7.5016,     25.00,   -999.0, 9,   -999.0,  -999.00, 9,   -999.0,   5.3565, 27.2712,   5.4277, 2, 2, 0.27, 0.14, 0.01, 0.017,  -999.00, 9, -999.00, -999.00, 9, -999.00
49NZ20071122, P14N, 137, 1, 24, X12030, 2, 20071130, 1124, 1.5050, 178.9983, 5522,    931.9, 2,   5.0452, 2,  34.5444, 2,  34.5446, 2,     89.2, 2,     88.8, 2,    71.63, 2,    38.42, 2,     0.01, 2,     2.76, 2,    0.019, 2,    0.010, 2,    0.000, 2, -999.000, 9,   2282.7, 2,   2346.4, 2,    7.5114,     25.00,   -999.0, 9,   -999.0,  -999.00, 9,   -999.0,   4.9676, 27.3178,   5.0453, 2, 2, 0.28, 0.14, 0.01, 0.017,  -999.00, 9, -999.00, -999.00, 9, -999.00
49NZ20071122, P14N, 137, 1, 23, X12027, 2, 20071130, 1124, 1.5050, 178.9983, 5522,   1070.6, 2,   4.5796, 2,  34.5538, 2,  34.5544, 6,     86.4, 2,     86.1, 2,    83.29, 2,    39.18, 2,     0.01, 2,     2.81, 2,    0.004, 2,    0.003, 2,    0.000, 2, -999.000, 9,   2297.7, 2,   2358.3, 2,    7.5037,     25.00,   -999.0, 9,   -999.0,  -999.00, 9,   -999.0,   4.4932, 27.3786,   4.5799, 2, 2, 0.30, 0.14, 0.01, 0.017,  -999.00, 9, -999.00, -999.00, 9, -999.00
49NZ20071122, P14N, 137, 1, 22, X12028, 2, 20071130, 1124, 1.5050, 178.9983, 5522,   1274.2, 2,   3.8476, 2,  34.5729, 2,  34.5728, 2,     89.4, 2,     90.2, 2,    98.04, 2,    39.43, 2,     0.00, 2,     2.83, 2,    0.000, 2,    0.000, 2,    0.000, 2, -999.000, 9,   2312.1, 2,   2374.1, 2,    7.5068,     25.00,   -999.0, 9,   -999.0,  -999.00, 9,   -999.0,   3.7499, 27.4720,   3.8481, 2, 2, 0.33, 0.14, 0.01, 0.017,  -999.00, 9, -999.00, -999.00, 9, -999.00
49NZ20071122, P14N, 137, 1, 21, X12009, 2, 20071130, 1124, 1.5050, 178.9983, 5522,   1473.6, 2,   3.2444, 2,  34.5935, 2,  34.5934, 2,     94.8, 2,     93.9, 2,   112.17, 2,    39.53, 2,     0.01, 2,     2.83, 2,    0.000, 2,    0.000, 2,    0.000, 2, -999.000, 9,   2326.1, 2,   2389.3, 2,    7.5102,     25.00,   -999.0, 9,   -999.0,  -999.00, 9,   -999.0,   3.1360, 27.5480,   3.2445, 2, 2, 0.37, 0.14, 0.01, 0.017,  -999.00, 9, -999.00, -999.00, 9, -999.00
49NZ20071122, P14N, 137, 1, 20, X12026, 2, 20071130, 1124, 1.5050, 178.9983, 5522,   1670.2, 2,   2.8216, 2,  34.6110, 2,  34.6113, 2,    102.0, 2,    101.4, 2,   120.96, 2,    39.22, 2,     0.01, 2,     2.81, 2,    0.000, 2,    0.000, 2,    0.000, 2, -999.000, 9,   2330.6, 2,   2399.3, 2,    7.5209,     25.00,   -999.0, 9,   -999.0,  -999.00, 9,   -999.0,   2.7015, 27.6014,   2.8220, 2, 2, 0.39, 0.14, 0.01, 0.017,  -999.00, 9, -999.00, -999.00, 9, -999.00
49NZ20071122, P14N, 137, 1, 19, X12025, 2, 20071130, 1124, 1.5050, 178.9983, 5522,   1871.0, 2,   2.4456, 2,  34.6280, 2,  34.6287, 2,    108.0, 2,    107.7, 2,   129.47, 2,    38.87, 2,     0.00, 2,     2.77, 2,    0.000, 2,    0.000, 2,    0.000, 2, -999.000, 9,   2337.7, 2,   2408.7, 2,    7.5279,     25.00,   -999.0, 9,   -999.0,  -999.00, 9,   -999.0,   2.3135, 27.6482,   2.4457, 2, 2, 0.40, 0.14, 0.01, 0.017,  -999.00, 9, -999.00, -999.00, 9, -999.00
49NZ20071122, P14N, 137, 1, 18, X12024, 2, 20071130, 1124, 1.5050, 178.9983, 5522,   2070.6, 2,   2.2212, 2,  34.6404, 2,  34.6409, 2,    113.9, 2,    113.3, 2,   134.05, 2,    38.49, 2,     0.01, 2,     2.74, 2, -999.000, 9, -999.000, 9, -999.000, 9, -999.000, 9,   2339.1, 2,   2413.2, 2,    7.5381,     25.00,   -999.0, 9,   -999.0,  -999.00, 9,   -999.0,   2.0753, 27.6775,   2.2208, 2, 2, 0.41, 0.14, 0.01, 0.017,  -999.00, 9, -999.00, -999.00, 9, -999.00
49NZ20071122, P14N, 137, 1, 17, X12023, 2, 20071130, 1124, 1.5050, 178.9983, 5522,   2271.0, 2,   2.0694, 2,  34.6488, 2,  34.6491, 6,    116.4, 2,    116.2, 2,   138.18, 2,    38.51, 2,     0.01, 2,     2.73, 2, -999.000, 9, -999.000, 9, -999.000, 9, -999.000, 9,   2341.8, 2,   2417.9, 2,    7.5446,     25.00,   -999.0, 9,   -999.0,  -999.00, 9,   -999.0,   1.9085, 27.6975,   2.0694, 2, 2, 0.42, 0.14, 0.01, 0.017,  -999.00, 9, -999.00, -999.00, 9, -999.00
49NZ20071122, P14N, 137, 1, 16, X12022, 2, 20071130, 1124, 1.5050, 178.9983, 5522,   2470.8, 2,   1.9050, 2,  34.6586, 2,  34.6585, 2,    121.8, 2,    121.4, 2,   141.55, 2,    38.22, 2,     0.01, 2,     2.70, 2,    0.000, 2,    0.000, 2,    0.000, 2, -999.000, 9,   2341.0, 6,   2421.2, 2,    7.5590,     25.00,   -999.0, 9,   -999.0,  -999.00, 9,   -999.0,   1.7291, 27.7192,   1.9050, 2, 3, 0.43, 0.14, 0.01, 0.017,  -999.00, 9, -999.00, -999.00, 9, -999.00
49NZ20071122, P14N, 137, 1, 15, X12021, 2, 20071130, 1124, 1.5050, 178.9983, 5522,   2671.5, 2,   1.8138, 2,  34.6639, 2,  34.6639, 2,    125.7, 2,    125.8, 2,   142.60, 2,    37.87, 2,     0.01, 2,     2.67, 2, -999.000, 9, -999.000, 9, -999.000, 9, -999.000, 9,   2340.1, 2,   2422.9, 6,    7.5588,     25.00,   -999.0, 9,   -999.0,  -999.00, 9,   -999.0,   1.6213, 27.7315,   1.8138, 2, 2, 0.43, 0.14, 0.01, 0.017,  -999.00, 9, -999.00, -999.00, 9, -999.00
49NZ20071122, P14N, 137, 1, 14, X12020, 2, 20071130, 1124, 1.5050, 178.9983, 5522,   2870.1, 2,   1.7297, 2,  34.6686, 2,  34.6688, 2,    130.3, 2,    131.3, 2,   142.69, 2,    37.58, 2,     0.01, 2,     2.64, 2, -999.000, 9, -999.000, 9, -999.000, 9, -999.000, 9,   2337.9, 2,   2422.3, 2,    7.5671,     25.00,   -999.0, 9,   -999.0,  -999.00, 9,   -999.0,   1.5203, 27.7427,   1.7295, 2, 6, 0.43, 0.14, 0.01, 0.017,  -999.00, 9, -999.00, -999.00, 9, -999.00
49NZ20071122, P14N, 137, 1, 13, X12019, 2, 20071130, 1124, 1.5050, 178.9983, 5522,   3081.4, 2,   1.6421, 2,  34.6733, 2,  34.6734, 2,    137.5, 2,    137.8, 2,   142.04, 2,    37.01, 2,     0.01, 2,     2.60, 2,    0.000, 2,    0.000, 2,    0.000, 2, -999.000, 9,   2334.6, 2,   2421.3, 2,    7.5758,     25.00,   -999.0, 9,   -999.0,  -999.00, 9,   -999.0,   1.4143, 27.7542,   1.6421, 2, 2, 0.43, 0.14, 0.01, 0.016,  -999.00, 9, -999.00, -999.00, 9, -999.00
49NZ20071122, P14N, 137, 1, 12, X12040, 2, 20071130, 1124, 1.5050, 178.9983, 5522,   3331.1, 2,   1.5795, 2,  34.6778, 2,  34.6779, 2,    143.4, 2,    143.5, 2,   141.58, 2,    36.65, 2,     0.01, 2,     2.57, 2, -999.000, 9, -999.000, 9, -999.000, 9, -999.000, 9,   2330.1, 2,   2421.1, 2,    7.5831,     25.00,   -999.0, 9,   -999.0,  -999.00, 9,   -999.0,   1.3285, 27.7640,   1.5795, 2, 2, 0.43, 0.14, 0.01, 0.016,  -999.00, 9, -999.00, -999.00, 9, -999.00
49NZ20071122, P14N, 137, 1, 11, X12047, 2, 20071130, 1124, 1.5050, 178.9983, 5522,   3580.8, 2,   1.5310, 2,  34.6823, 2,  34.6823, 2,    149.5, 2,    150.1, 2,   139.88, 2,    36.19, 2,     0.01, 2,     2.54, 2, -999.000, 9, -999.000, 9, -999.000, 9, -999.000, 9,   2324.2, 2,   2418.7, 2,    7.5920,     25.00,   -999.0, 9,   -999.0,  -999.00, 9,   -999.0,   1.2558, 27.7726,   1.5310, 2, 2, 0.43, 0.13, 0.01, 0.016,  -999.00, 9, -999.00, -999.00, 9, -999.00
49NZ20071122, P14N, 137, 1, 10, X12012, 2, 20071130, 1124, 1.5050, 178.9983, 5522,   3830.2, 2,   1.4631, 2,  34.6879, 2,  34.6879, 2,    156.6, 2,    158.2, 2,   137.85, 2,    35.65, 2,     0.01, 2,     2.49, 2,    0.000, 2,    0.000, 2,    0.000, 2, -999.000, 9,   2317.9, 2,   2415.6, 2,    7.6024,     25.00,   -999.0, 9,   -999.0,  -999.00, 9,   -999.0,   1.1635, 27.7835,   1.4631, 2, 2, 0.42, 0.13, 0.01, 0.016,  -999.00, 9, -999.00, -999.00, 9, -999.00
49NZ20071122, P14N, 137, 1, 9, X12015, 2, 20071130, 1124, 1.5050, 178.9983, 5522,   4079.9, 2,   1.4119, 2,  34.6924, 2,  34.6927, 6,    165.3, 2,    165.6, 2,   134.99, 2,    35.20, 2,     0.01, 2,     2.45, 2, -999.000, 9, -999.000, 9, -999.000, 9, -999.000, 9,   2309.2, 2,   2412.7, 2,    7.6104,     25.00,   -999.0, 9,   -999.0,  -999.00, 9,   -999.0,   1.0867, 27.7924,   1.4118, 2, 2, 0.42, 0.13, 0.01, 0.016,  -999.00, 9, -999.00, -999.00, 9, -999.00
49NZ20071122, P14N, 137, 1, 8, X12046, 2, 20071130, 1124, 1.5050, 178.9983, 5522,   4328.5, 2,   1.3472, 2,  34.6973, 2,  34.6971, 2,    173.6, 2,    174.6, 2,   131.06, 2,    34.50, 2,     0.01, 2,     2.40, 2,    0.000, 2,    0.000, 2,    0.000, 2, -999.000, 9,   2301.1, 6,   2405.0, 2,    7.6174,     25.00,   -999.0, 9,   -999.0,  -999.00, 9,   -999.0,   0.9964, 27.8023,   1.3473, 2, 2, 0.41, 0.13, 0.01, 0.016,  -999.00, 9, -999.00, -999.00, 9, -999.00
49NZ20071122, P14N, 137, 1, 7, X12044, 2, 20071130, 1124, 1.5050, 178.9983, 5522,   4579.2, 2,   1.2806, 2,  34.7016, 2,  34.7019, 2,    183.1, 2,    183.4, 2,   127.32, 2,    33.95, 2,     0.01, 2,     2.36, 2,    0.000, 2,    0.000, 2,    0.000, 2, -999.000, 9,   2290.0, 2,   2398.9, 6,    7.6240,     25.00,   -999.0, 9,   -999.0,  -999.00, 9,   -999.0,   0.9033, 27.8119,   1.2804, 2, 2, 0.40, 0.13, 0.01, 0.016,  -999.00, 9, -999.00, -999.00, 9, -999.00
49NZ20071122, P14N, 137, 1, 6, X12048, 2, 20071130, 1124, 1.5050, 178.9983, 5522,   4830.2, 2,   1.2514, 2,  34.7047, 2,  34.7047, 2,    189.5, 2,    189.8, 2,   124.15, 2,    33.46, 2,     0.01, 2,     2.33, 2,    0.000, 2,    0.000, 2,    0.000, 2, -999.000, 9,   2284.6, 2,   2391.5, 2,    7.6275,     25.00,   -999.0, 9,   -999.0,  -999.00, 9,   -999.0,   0.8457, 27.8181,   1.2514, 2, 6, 0.39, 0.13, 0.01, 0.016,  -999.00, 9, -999.00, -999.00, 9, -999.00
49NZ20071122, P14N, 137, 1, 5, X12014, 2, 20071130, 1124, 1.5050, 178.9983, 5522,   5079.6, 2,   1.2782, 2,  34.7047, 2,  34.7051, 2,    190.3, 2,    190.3, 2,   123.81, 2,    33.36, 2,     0.01, 2,     2.32, 2,    0.000, 2,    0.000, 2,    0.000, 2, -999.000, 9,   2282.3, 2,   2391.3, 2,    7.6278,     25.00,   -999.0, 9,   -999.0,  -999.00, 9,   -999.0,   0.8417, 27.8184,   1.2781, 2, 2, 0.39, 0.13, 0.01, 0.016,  -999.00, 9, -999.00, -999.00, 9, -999.00
49NZ20071122, P14N, 137, 1, 4, X12006, 2, 20071130, 1124, 1.5050, 178.9983, 5522,   5330.0, 2,   1.2977, 2,  34.7054, 2,  34.7055, 2,    192.3, 2,    192.2, 2,   122.65, 2,    33.26, 2,     0.01, 2,     2.31, 2,    0.000, 2,    0.000, 2,    0.000, 2, -999.000, 9,   2279.1, 2,   2388.4, 2,    7.6271,     25.00,   -999.0, 9,   -999.0,  -999.00, 9,   -999.0,   0.8297, 27.8197,   1.2978, 2, 2, 0.39, 0.13, 0.01, 0.016,  -999.00, 9, -999.00, -999.00, 9, -999.00
49NZ20071122, P14N, 137, 1, 3, X12013, 9, 20071130, 1124, 1.5050, 178.9983, 5522,     10.6, 2,  27.6389, 2,  35.1381, 2, -999.0000, 9,    204.9, 2,   -999.0, 9,  -999.00, 9,  -999.00, 9,  -999.00, 9,  -999.00, 9, -999.000, 9, -999.000, 9, -999.000, 9, -999.000, 9,   -999.0, 9,   -999.0, 9, -999.0000,   -999.00,   -999.0, 9,   -999.0,  -999.00, 9,   -999.0,  27.6364, 22.6169,  27.6355, 2, 9, -999.00, -999.00, -999.00, -999.000,  -999.00, 9, -999.00, -999.00, 9, -999.00
49NZ20071122, P14N, 137, 1, 2, X12002, 9, 20071130, 1124, 1.5050, 178.9983, 5522,     50.6, 2,  27.1136, 2,  35.1828, 2, -999.0000, 9,    197.5, 2,   -999.0, 9,  -999.00, 9,  -999.00, 9,  -999.00, 9,  -999.00, 9, -999.000, 9, -999.000, 9, -999.000, 9, -999.000, 9,   -999.0, 9,   -999.0, 9, -999.0000,   -999.00,   -999.0, 9,   -999.0,  -999.00, 9,   -999.0,  27.1020, 22.8228,  27.1118, 2, 9, -999.00, -999.00, -999.00, -999.000,  -999.00, 9, -999.00, -999.00, 9, -999.00
49NZ20071122, P14N, 137, 1, 1, X12001, 2, 20071130, 1124, 1.5050, 178.9983, 5522,   5605.5, 2,   1.3297, 2,  34.7053, 2,  34.7058, 6,    192.9, 2,    192.6, 2,   122.30, 2,    33.32, 2,     0.01, 2,     2.31, 2,    0.000, 2,    0.000, 2,    0.000, 2, -999.000, 9,   2276.7, 2,   2386.5, 2,    7.6267,     25.00,   -999.0, 9,   -999.0,  -999.00, 9,   -999.0,   0.8258, 27.8199,   1.3296, 2, 2, 0.39, 0.13, 0.01, 0.016,  -999.00, 9, -999.00, -999.00, 9, -999.00