BOTTLE,20220820CCHSIOAMB
EXPOCODE,SECT_ID,STNNBR,CASTNO,SAMPNO,BTLNBR,BTLNBR_FLAG_W,DATE,TIME,LATITUDE,LONGITUDE,DEPTH,CTDPRS,CTDPRS_FLAG_W,CTDTMP,CTDTMP_FLAG_W,CTDSAL,CTDSAL_FLAG_W,SALNTY,SALNTY_FLAG_W,CTDOXY,CTDOXY_FLAG_W,OXYGEN,OXYGEN_FLAG_W,SILCAT,SILCAT_FLAG_W,NITRAT,NITRAT_FLAG_W,NITRIT,NITRIT_FLAG_W,PHSPHT,PHSPHT_FLAG_W,CFC-11,CFC-11_FLAG_W,CFC-12,CFC-12_FLAG_W,CFC113,CFC113_FLAG_W,CCL4,CCL4_FLAG_W,TCARBN,TCARBN_FLAG_W,ALKALI,ALKALI_FLAG_W,PH_TOT,PH_TMP,DELC14,DELC14_FLAG_W,C14ERR,DELC13,DELC13_FLAG_W,C13ERR,THETA,SIG0,SBE35,SBE35_FLAG_W,PH_TOT_FLAG_W,SILUNC,NRAUNC,NRIUNC,PHPUNC,CS-137,CS-137_FLAG_W,CS137ER,PLUTO,PLUTO_FLAG_W,PLUTOER
,,,,,,,,,,,METERS,DBAR,,ITS-90,,PSS-78,,PSS-78,,UMOL/KG,,UMOL/KG,,UMOL/KG,,UMOL/KG,,UMOL/KG,,UMOL/KG,,PMOL/KG,,PMOL/KG,,PMOL/KG,,PMOL/KG,,UMOL/KG,,UMOL/KG,,,DEG C,/MILLE,,/MILLE,/MILLE,,/MILLE,DEG C,KG/M^3,ITS-90,,,UMOL/KG,UMOL/KG,UMOL/KG,UMOL/KG,DM/.1MG,,BQ/M^3,MBQ/M^3,,MBQ/M^3
49NZ20071122, P14N, 185, 1, 36, X12042, 2, 20071212, 0911, -15.9752, 178.9977, 1474,     10.0, 2,  28.8992, 2,  34.4229, 2,  34.4256, 2,    203.8, 2,    200.5, 2,     0.97, 2,     0.04, 2,     0.00, 2,     0.09, 2,    1.470, 2,    0.928, 2,    0.245, 4, -999.000, 9,   1910.2, 2,   2257.7, 2,    8.1448,     25.00,   -999.0, 9,   -999.0,  -999.00, 9,   -999.0,  28.8968, 21.6652,  28.8973, 2, 2, 0.12, 0.03, 0.01, 0.023,  -999.00, 9, -999.00, -999.00, 9, -999.00
49NZ20071122, P14N, 185, 1, 35, X12041, 2, 20071212, 0911, -15.9752, 178.9977, 1474,     50.5, 2,  28.0944, 2,  34.7325, 2,  34.8097, 2,    198.1, 2,    198.3, 2,     0.67, 2,     0.03, 2,     0.00, 2,     0.12, 2,    1.528, 2,    0.947, 2,    0.294, 4, -999.000, 9,   1940.3, 6,   2286.9, 2,    8.1332,     25.00,   -999.0, 9,   -999.0,  -999.00, 9,   -999.0,  28.0825, 22.1665,  28.0830, 2, 2, 0.12, 0.03, 0.01, 0.020,  -999.00, 9, -999.00, -999.00, 9, -999.00
49NZ20071122, P14N, 185, 1, 34, X12016, 2, 20071212, 0911, -15.9752, 178.9977, 1474,    100.5, 2,  25.1439, 2,  35.6971, 2,  35.7133, 2,    178.8, 2,    178.4, 2,     0.68, 2,     0.66, 2,     0.12, 2,     0.25, 2,    1.767, 2,    1.083, 2,    0.233, 4, -999.000, 9,   2032.1, 2,   2347.5, 6,    8.0638,     25.00,   -999.0, 9,   -999.0,  -999.00, 9,   -999.0,  25.1220, 23.8309,  25.1442, 2, 2, 0.12, 0.03, 0.01, 0.015,  -999.00, 9, -999.00, -999.00, 9, -999.00
49NZ20071122, P14N, 185, 1, 33, X12033, 2, 20071212, 0911, -15.9752, 178.9977, 1474,    150.6, 2,  23.3627, 2,  35.7782, 2,  35.7743, 2,    167.3, 2,    167.5, 2,     0.86, 2,     2.38, 2,     0.02, 2,     0.35, 2,    1.911, 6,    1.152, 6,    0.139, 6, -999.000, 9,   2057.7, 2,   2350.0, 2,    8.0192,     25.00,   -999.0, 9,   -999.0,  -999.00, 9,   -999.0,  23.3315, 24.4276,  23.3445, 2, 6, 0.12, 0.04, 0.01, 0.014,  -999.00, 9, -999.00, -999.00, 9, -999.00
49NZ20071122, P14N, 185, 1, 32, X12038, 2, 20071212, 0911, -15.9752, 178.9977, 1474,    200.1, 2,  21.8162, 2,  35.7582, 2,  35.7638, 2,    166.4, 2,    165.7, 2,     0.89, 2,     3.48, 2,     0.01, 2,     0.43, 2,    2.011, 2,    1.190, 2,    0.077, 2, -999.000, 9,   2076.8, 2,   2349.1, 2,    7.9913,     25.00,   -999.0, 9,   -999.0,  -999.00, 9,   -999.0,  21.7767, 24.8566,  21.8113, 2, 2, 0.12, 0.04, 0.01, 0.013,  -999.00, 9, -999.00, -999.00, 9, -999.00
49NZ20071122, P14N, 185, 1, 31, X12003, 2, 20071212, 0911, -15.9752, 178.9977, 1474,    250.4, 2,  19.3834, 2,  35.5870, 2,  35.5832, 6,    171.5, 2,    170.9, 2,     1.34, 2,     4.98, 2,     0.00, 2,     0.50, 2,    2.138, 2,    1.235, 2,    0.040, 2, -999.000, 9,   2085.0, 2,   2337.0, 2,    7.9542,     25.00,   -999.0, 9,   -999.0,  -999.00, 9,   -999.0,  19.3379, 25.3829,  19.3846, 2, 2, 0.12, 0.05, 0.01, 0.013,  -999.00, 9, -999.00, -999.00, 9, -999.00
49NZ20071122, P14N, 185, 1, 30, X12008, 2, 20071212, 0911, -15.9752, 178.9977, 1474,    328.8, 2,  16.6720, 2,  35.3280, 2,  35.3203, 2,    175.0, 2,    173.9, 2,     2.56, 2,     7.85, 2,     0.00, 2,     0.70, 2,    2.174, 2,    1.215, 2,    0.030, 2, -999.000, 9,   2099.1, 2,   2322.8, 2,    7.9008,     25.00,   -999.0, 9,   -999.0,  -999.00, 9,   -999.0,  16.6182, 25.8565,  16.6748, 2, 2, 0.12, 0.05, 0.01, 0.013,  -999.00, 9, -999.00, -999.00, 9, -999.00
49NZ20071122, P14N, 185, 1, 29, X12035, 2, 20071212, 0911, -15.9752, 178.9977, 1474,    430.0, 2,  11.8528, 2,  34.8324, 2,  34.8144, 2,    173.4, 2,    173.9, 2,     7.10, 2,    16.44, 2,     0.00, 2,     1.26, 2,    1.860, 2,    0.964, 2,    0.031, 2, -999.000, 9,   2135.6, 2,   2300.2, 2,    7.7828,     25.00,   -999.0, 9,   -999.0,  -999.00, 9,   -999.0,  11.7967, 26.4976,  11.8507, 2, 2, 0.13, 0.08, 0.01, 0.014,  -999.00, 9, -999.00, -999.00, 9, -999.00
49NZ20071122, P14N, 185, 1, 28, X12034, 2, 20071212, 0911, -15.9752, 178.9977, 1474,    529.6, 2,   7.8747, 2,  34.5076, 2,  34.5012, 6,    174.6, 2,    176.7, 2,    15.99, 2,    25.13, 2,     0.00, 2,     1.80, 2,    1.142, 2,    0.571, 2,    0.022, 2, -999.000, 9,   2170.0, 2,   2293.5, 2,    7.6865,     25.00,   -999.0, 9,   -999.0,  -999.00, 9,   -999.0,   7.8208, 26.9137,   7.8754, 2, 2, 0.15, 0.10, 0.01, 0.015,  -999.00, 9, -999.00, -999.00, 9, -999.00
49NZ20071122, P14N, 185, 1, 27, X12049, 2, 20071212, 0911, -15.9752, 178.9977, 1474,    628.5, 2,   5.9545, 2,  34.3901, 2,  34.3898, 2,    189.4, 2,    187.7, 2,    23.62, 2,    28.74, 2,     0.00, 2,     2.02, 2,    0.638, 2,    0.323, 2,    0.011, 2, -999.000, 9,   2183.5, 2,   2295.1, 2,    7.6588,     25.00,   -999.0, 9,   -999.0,  -999.00, 9,   -999.0,   5.8994, 27.0834,   5.9561, 2, 2, 0.17, 0.11, 0.01, 0.015,  -999.00, 9, -999.00, -999.00, 9, -999.00
49NZ20071122, P14N, 185, 1, 26, X12032, 2, 20071212, 0911, -15.9752, 178.9977, 1474,    731.2, 2,   5.3698, 2,  34.3997, 2,  34.4003, 2,    177.0, 2,    177.2, 2,    32.11, 2,    30.74, 2,     0.00, 2,     2.16, 2,    0.366, 6,    0.191, 6,    0.012, 6, -999.000, 9,   2198.6, 6,   2303.9, 2,    7.6355,     25.00,   -999.0, 9,   -999.0,  -999.00, 9,   -999.0,   5.3084, 27.1632,   5.3697, 2, 2, 0.19, 0.12, 0.01, 0.015,  -999.00, 9, -999.00, -999.00, 9, -999.00
49NZ20071122, P14N, 185, 1, 25, X12043, 2, 20071212, 0911, -15.9752, 178.9977, 1474,    830.2, 2,   4.6027, 2,  34.4155, 2,  34.4178, 2,    170.2, 2,    168.7, 2,    44.37, 2,    32.65, 2,     0.00, 2,     2.29, 2,    0.147, 2,    0.080, 2,    0.012, 2, -999.000, 9,   2221.7, 2,   2315.8, 6,    7.6128,     25.00,   -999.0, 9,   -999.0,  -999.00, 9,   -999.0,   4.5372, 27.2639,   4.6038, 2, 2, 0.22, 0.12, 0.01, 0.016,  -999.00, 9, -999.00, -999.00, 9, -999.00
49NZ20071122, P14N, 185, 1, 24, X12030, 2, 20071212, 0911, -15.9752, 178.9977, 1474,    930.2, 2,   4.1023, 2,  34.4426, 2,  34.4445, 2,    164.2, 2,    163.5, 2,    54.48, 2,    33.61, 2,     0.00, 2,     2.35, 2,    0.072, 2,    0.041, 2,    0.000, 2, -999.000, 9,   2233.2, 2,   2324.1, 2,    7.6015,     25.00,   -999.0, 9,   -999.0,  -999.00, 9,   -999.0,   4.0318, 27.3394,   4.1025, 2, 6, 0.24, 0.13, 0.01, 0.016,  -999.00, 9, -999.00, -999.00, 9, -999.00
49NZ20071122, P14N, 185, 1, 23, X12027, 2, 20071212, 0911, -15.9752, 178.9977, 1474,   1069.6, 2,   3.6423, 2,  34.4814, 2,  34.4859, 6,    159.0, 2,    158.7, 2,    67.18, 2,    34.38, 2,     0.00, 2,     2.41, 2,    0.035, 2,    0.023, 2,    0.000, 2, -999.000, 9,   2249.6, 2,   2340.1, 2,    7.5938,     25.00,   -999.0, 9,   -999.0,  -999.00, 9,   -999.0,   3.5638, 27.4176,   3.6422, 2, 2, 0.27, 0.13, 0.01, 0.016,  -999.00, 9, -999.00, -999.00, 9, -999.00
49NZ20071122, P14N, 185, 1, 22, X12028, 2, 20071212, 0911, -15.9752, 178.9977, 1474,   1272.1, 2,   3.1756, 2,  34.5359, 2,  34.5385, 6,    151.5, 2,    150.8, 2,    83.56, 2,    35.13, 2,     0.00, 2,     2.48, 2,    0.012, 2,    0.008, 2,    0.000, 2, -999.000, 9,   2274.0, 2,   2359.2, 2,    7.5856,     25.00,   -999.0, 9,   -999.0,  -999.00, 9,   -999.0,   3.0847, 27.5068,   3.1754, 2, 2, 0.30, 0.13, 0.01, 0.016,  -999.00, 9, -999.00, -999.00, 9, -999.00
49NZ20071122, P14N, 185, 1, 19, X12025, 9, 20071212, 0911, -15.9752, 178.9977, 1474,   1474.5, 2,   2.8325, 2,  34.5725, 2, -999.0000, 9,    147.0, 2,   -999.0, 9,  -999.00, 9,  -999.00, 9,  -999.00, 9,  -999.00, 9, -999.000, 9, -999.000, 9, -999.000, 9, -999.000, 9,   -999.0, 9,   -999.0, 9, -999.0000,   -999.00,   -999.0, 9,   -999.0,  -999.00, 9,   -999.0,   2.7287, 27.5682,   2.8320, 2, 9, -999.00, -999.00, -999.00, -999.000,  -999.00, 9, -999.00, -999.00, 9, -999.00
49NZ20071122, P14N, 185, 1, 18, X12024, 9, 20071212, 0911, -15.9752, 178.9977, 1474,      9.9, 2,  28.8981, 2,  34.4230, 2, -999.0000, 9,    203.8, 2,   -999.0, 9,  -999.00, 9,  -999.00, 9,  -999.00, 9,  -999.00, 9, -999.000, 9, -999.000, 9, -999.000, 9, -999.000, 9,   -999.0, 9,   -999.0, 9, -999.0000,   -999.00,   -999.0, 9,   -999.0,  -999.00, 9,   -999.0,  28.8957, 21.6656,  28.8977, 2, 9, -999.00, -999.00, -999.00, -999.000,  -999.00, 9, -999.00, -999.00, 9, -999.00
49NZ20071122, P14N, 185, 1, 17, X12023, 9, 20071212, 0911, -15.9752, 178.9977, 1474,     50.3, 2,  28.0981, 2,  34.7262, 2, -999.0000, 9,    198.0, 2,   -999.0, 9,  -999.00, 9,  -999.00, 9,  -999.00, 9,  -999.00, 9, -999.000, 9, -999.000, 9, -999.000, 9, -999.000, 9,   -999.0, 9,   -999.0, 9, -999.0000,   -999.00,   -999.0, 9,   -999.0,  -999.00, 9,   -999.0,  28.0862, 22.1605,  28.0930, 2, 9, -999.00, -999.00, -999.00, -999.000,  -999.00, 9, -999.00, -999.00, 9, -999.00
49NZ20071122, P14N, 185, 1, 16, X12022, 9, 20071212, 0911, -15.9752, 178.9977, 1474,    100.2, 2,  25.1442, 2,  35.6967, 2, -999.0000, 9,    178.8, 2,   -999.0, 9,  -999.00, 9,  -999.00, 9,  -999.00, 9,  -999.00, 9, -999.000, 9, -999.000, 9, -999.000, 9, -999.000, 9,   -999.0, 9,   -999.0, 9, -999.0000,   -999.00,   -999.0, 9,   -999.0,  -999.00, 9,   -999.0,  25.1223, 23.8305,  25.1419, 2, 9, -999.00, -999.00, -999.00, -999.000,  -999.00, 9, -999.00, -999.00, 9, -999.00
49NZ20071122, P14N, 185, 1, 15, X12021, 9, 20071212, 0911, -15.9752, 178.9977, 1474,    150.5, 2,  23.1112, 2,  35.7747, 2, -999.0000, 9,    166.6, 2,   -999.0, 9,  -999.00, 9,  -999.00, 9,  -999.00, 9,  -999.00, 9, -999.000, 9, -999.000, 9, -999.000, 9, -999.000, 9,   -999.0, 9,   -999.0, 9, -999.0000,   -999.00,   -999.0, 9,   -999.0,  -999.00, 9,   -999.0,  23.0803, 24.4980,  23.1097, 2, 9, -999.00, -999.00, -999.00, -999.000,  -999.00, 9, -999.00, -999.00, 9, -999.00
49NZ20071122, P14N, 185, 1, 14, X12020, 9, 20071212, 0911, -15.9752, 178.9977, 1474,    199.3, 2,  21.7297, 2,  35.7645, 2, -999.0000, 9,    166.2, 2,   -999.0, 9,  -999.00, 9,  -999.00, 9,  -999.00, 9,  -999.00, 9, -999.000, 9, -999.000, 9, -999.000, 9, -999.000, 9,   -999.0, 9,   -999.0, 9, -999.0000,   -999.00,   -999.0, 9,   -999.0,  -999.00, 9,   -999.0,  21.6905, 24.8856,  21.7268, 2, 9, -999.00, -999.00, -999.00, -999.000,  -999.00, 9, -999.00, -999.00, 9, -999.00
49NZ20071122, P14N, 185, 1, 13, X12019, 9, 20071212, 0911, -15.9752, 178.9977, 1474,    250.1, 2,  19.3878, 2,  35.5866, 2, -999.0000, 9,    171.4, 2,   -999.0, 9,  -999.00, 9,  -999.00, 9,  -999.00, 9,  -999.00, 9, -999.000, 9, -999.000, 9, -999.000, 9, -999.000, 9,   -999.0, 9,   -999.0, 9, -999.0000,   -999.00,   -999.0, 9,   -999.0,  -999.00, 9,   -999.0,  19.3423, 25.3815,  19.3875, 2, 9, -999.00, -999.00, -999.00, -999.000,  -999.00, 9, -999.00, -999.00, 9, -999.00
49NZ20071122, P14N, 185, 1, 12, X12040, 9, 20071212, 0911, -15.9752, 178.9977, 1474,    328.7, 2,  16.6692, 2,  35.3268, 2, -999.0000, 9,    175.0, 2,   -999.0, 9,  -999.00, 9,  -999.00, 9,  -999.00, 9,  -999.00, 9, -999.000, 9, -999.000, 9, -999.000, 9, -999.000, 9,   -999.0, 9,   -999.0, 9, -999.0000,   -999.00,   -999.0, 9,   -999.0,  -999.00, 9,   -999.0,  16.6154, 25.8562,  16.6727, 2, 9, -999.00, -999.00, -999.00, -999.000,  -999.00, 9, -999.00, -999.00, 9, -999.00
49NZ20071122, P14N, 185, 1, 11, X12047, 9, 20071212, 0911, -15.9752, 178.9977, 1474,    429.1, 2,  11.7620, 2,  34.8218, 2, -999.0000, 9,    173.6, 2,   -999.0, 9,  -999.00, 9,  -999.00, 9,  -999.00, 9,  -999.00, 9, -999.000, 9, -999.000, 9, -999.000, 9, -999.000, 9,   -999.0, 9,   -999.0, 9, -999.0000,   -999.00,   -999.0, 9,   -999.0,  -999.00, 9,   -999.0,  11.7063, 26.5064,  11.7466, 2, 9, -999.00, -999.00, -999.00, -999.000,  -999.00, 9, -999.00, -999.00, 9, -999.00
49NZ20071122, P14N, 185, 1, 10, X12012, 9, 20071212, 0911, -15.9752, 178.9977, 1474,    529.8, 2,   7.8724, 2,  34.5066, 2, -999.0000, 9,    174.6, 2,   -999.0, 9,  -999.00, 9,  -999.00, 9,  -999.00, 9,  -999.00, 9, -999.000, 9, -999.000, 9, -999.000, 9, -999.000, 9,   -999.0, 9,   -999.0, 9, -999.0000,   -999.00,   -999.0, 9,   -999.0,  -999.00, 9,   -999.0,   7.8185, 26.9132,   7.8744, 2, 9, -999.00, -999.00, -999.00, -999.000,  -999.00, 9, -999.00, -999.00, 9, -999.00
49NZ20071122, P14N, 185, 1, 9, X12015, 9, 20071212, 0911, -15.9752, 178.9977, 1474,    628.3, 2,   5.9659, 2,  34.3912, 2, -999.0000, 9,    189.4, 2,   -999.0, 9,  -999.00, 9,  -999.00, 9,  -999.00, 9,  -999.00, 9, -999.000, 9, -999.000, 9, -999.000, 9, -999.000, 9,   -999.0, 9,   -999.0, 9, -999.0000,   -999.00,   -999.0, 9,   -999.0,  -999.00, 9,   -999.0,   5.9107, 27.0828,   5.9663, 2, 9, -999.00, -999.00, -999.00, -999.000,  -999.00, 9, -999.00, -999.00, 9, -999.00
49NZ20071122, P14N, 185, 1, 8, X12046, 9, 20071212, 0911, -15.9752, 178.9977, 1474,    729.2, 2,   5.3916, 2,  34.3999, 2, -999.0000, 9,    177.2, 2,   -999.0, 9,  -999.00, 9,  -999.00, 9,  -999.00, 9,  -999.00, 9, -999.000, 9, -999.000, 9, -999.000, 9, -999.000, 9,   -999.0, 9,   -999.0, 9, -999.0000,   -999.00,   -999.0, 9,   -999.0,  -999.00, 9,   -999.0,   5.3302, 27.1608,   5.3899, 2, 9, -999.00, -999.00, -999.00, -999.000,  -999.00, 9, -999.00, -999.00, 9, -999.00
49NZ20071122, P14N, 185, 1, 7, X12044, 9, 20071212, 0911, -15.9752, 178.9977, 1474,    830.0, 2,   4.5989, 2,  34.4156, 2, -999.0000, 9,    170.2, 2,   -999.0, 9,  -999.00, 9,  -999.00, 9,  -999.00, 9,  -999.00, 9, -999.000, 9, -999.000, 9, -999.000, 9, -999.000, 9,   -999.0, 9,   -999.0, 9, -999.0000,   -999.00,   -999.0, 9,   -999.0,  -999.00, 9,   -999.0,   4.5334, 27.2644,   4.6003, 2, 9, -999.00, -999.00, -999.00, -999.000,  -999.00, 9, -999.00, -999.00, 9, -999.00
49NZ20071122, P14N, 185, 1, 6, X12048, 9, 20071212, 0911, -15.9752, 178.9977, 1474,    929.4, 2,   4.1022, 2,  34.4425, 2, -999.0000, 9,    164.2, 2,   -999.0, 9,  -999.00, 9,  -999.00, 9,  -999.00, 9,  -999.00, 9, -999.000, 9, -999.000, 9, -999.000, 9, -999.000, 9,   -999.0, 9,   -999.0, 9, -999.0000,   -999.00,   -999.0, 9,   -999.0,  -999.00, 9,   -999.0,   4.0317, 27.3394,   4.1022, 2, 9, -999.00, -999.00, -999.00, -999.000,  -999.00, 9, -999.00, -999.00, 9, -999.00
49NZ20071122, P14N, 185, 1, 5, X12014, 9, 20071212, 0911, -15.9752, 178.9977, 1474,   1068.8, 2,   3.6429, 2,  34.4810, 2, -999.0000, 9,    159.0, 2,   -999.0, 9,  -999.00, 9,  -999.00, 9,  -999.00, 9,  -999.00, 9, -999.000, 9, -999.000, 9, -999.000, 9, -999.000, 9,   -999.0, 9,   -999.0, 9, -999.0000,   -999.00,   -999.0, 9,   -999.0,  -999.00, 9,   -999.0,   3.5645, 27.4172,   3.6426, 2, 9, -999.00, -999.00, -999.00, -999.000,  -999.00, 9, -999.00, -999.00, 9, -999.00
49NZ20071122, P14N, 185, 1, 4, X12006, 9, 20071212, 0911, -15.9752, 178.9977, 1474,   1270.5, 2,   3.1758, 2,  34.5357, 2, -999.0000, 9,    151.5, 2,   -999.0, 9,  -999.00, 9,  -999.00, 9,  -999.00, 9,  -999.00, 9, -999.000, 9, -999.000, 9, -999.000, 9, -999.000, 9,   -999.0, 9,   -999.0, 9, -999.0000,   -999.00,   -999.0, 9,   -999.0,  -999.00, 9,   -999.0,   3.0851, 27.5066,   3.1752, 2, 9, -999.00, -999.00, -999.00, -999.000,  -999.00, 9, -999.00, -999.00, 9, -999.00
49NZ20071122, P14N, 185, 1, 1, X12001, 2, 20071212, 0911, -15.9752, 178.9977, 1474,   1474.4, 2,   2.8327, 2,  34.5724, 2,  34.5736, 6,    147.0, 2,    147.1, 2,    95.33, 2,    35.57, 2,     0.00, 2,     2.52, 2,    0.002, 2,    0.004, 2,    0.000, 2, -999.000, 9,   2284.7, 2,   2372.8, 2,    7.5841,     25.00,   -999.0, 9,   -999.0,  -999.00, 9,   -999.0,   2.7289, 27.5681,   2.8320, 2, 2, 0.33, 0.13, 0.01, 0.016,  -999.00, 9, -999.00, -999.00, 9, -999.00