BOTTLE,20220820CCHSIOAMB
EXPOCODE,SECT_ID,STNNBR,CASTNO,SAMPNO,BTLNBR,BTLNBR_FLAG_W,DATE,TIME,LATITUDE,LONGITUDE,DEPTH,CTDPRS,CTDPRS_FLAG_W,CTDTMP,CTDTMP_FLAG_W,CTDSAL,CTDSAL_FLAG_W,SALNTY,SALNTY_FLAG_W,CTDOXY,CTDOXY_FLAG_W,OXYGEN,OXYGEN_FLAG_W,SILCAT,SILCAT_FLAG_W,NITRAT,NITRAT_FLAG_W,NITRIT,NITRIT_FLAG_W,PHSPHT,PHSPHT_FLAG_W,CFC-11,CFC-11_FLAG_W,CFC-12,CFC-12_FLAG_W,CFC113,CFC113_FLAG_W,CCL4,CCL4_FLAG_W,TCARBN,TCARBN_FLAG_W,ALKALI,ALKALI_FLAG_W,PH_TOT,PH_TMP,DELC14,DELC14_FLAG_W,C14ERR,DELC13,DELC13_FLAG_W,C13ERR,THETA,SIG0,SBE35,SBE35_FLAG_W,PH_TOT_FLAG_W,SILUNC,NRAUNC,NRIUNC,PHPUNC,CS-137,CS-137_FLAG_W,CS137ER,PLUTO,PLUTO_FLAG_W,PLUTOER
,,,,,,,,,,,METERS,DBAR,,ITS-90,,PSS-78,,PSS-78,,UMOL/KG,,UMOL/KG,,UMOL/KG,,UMOL/KG,,UMOL/KG,,UMOL/KG,,PMOL/KG,,PMOL/KG,,PMOL/KG,,PMOL/KG,,UMOL/KG,,UMOL/KG,,,DEG C,/MILLE,,/MILLE,/MILLE,,/MILLE,DEG C,KG/M^3,ITS-90,,,UMOL/KG,UMOL/KG,UMOL/KG,UMOL/KG,DM/.1MG,,BQ/M^3,MBQ/M^3,,MBQ/M^3
49NZ20071122, P14N, 157, 1, 36, X12042, 2, 20071206, 0450, -3.4955, 179.0032, 5220,     10.2, 2,  27.9469, 2,  35.6873, 2,  35.6872, 2,    201.0, 2,    201.4, 2,     1.50, 2,     3.18, 2,     0.23, 2,     0.45, 2,    1.522, 2,    0.940, 2,    0.169, 4, -999.000, 9,   2025.3, 2,   2343.5, 2,    8.0689,     25.00,   -999.0, 9,   -999.0,  -999.00, 9,   -999.0,  27.9445, 22.9298,  27.9477, 2, 6, 0.12, 0.04, 0.01, 0.013,  -999.00, 9, -999.00, -999.00, 9, -999.00
49NZ20071122, P14N, 157, 1, 35, X12041, 2, 20071206, 0450, -3.4955, 179.0032, 5220,     50.6, 2,  27.8551, 2,  35.6759, 2,  35.6745, 2,    200.9, 2,    200.9, 2,     1.46, 2,     3.23, 2,     0.25, 2,     0.46, 2,    1.524, 2,    0.941, 2,    0.186, 4, -999.000, 9,   2025.7, 6,   2343.1, 2,    8.0662,     25.00,   -999.0, 9,   -999.0,  -999.00, 9,   -999.0,  27.8432, 22.9543,  27.8540, 2, 2, 0.12, 0.04, 0.01, 0.013,  -999.00, 9, -999.00, -999.00, 9, -999.00
49NZ20071122, P14N, 157, 1, 34, X12016, 2, 20071206, 0450, -3.4955, 179.0032, 5220,    100.5, 2,  27.5173, 2,  35.6417, 2,  35.6410, 2,    193.5, 2,    194.7, 2,     1.55, 2,     3.56, 2,     0.44, 2,     0.52, 2,    1.554, 2,    0.953, 2,    0.159, 4, -999.000, 9,   2031.2, 2,   2346.4, 6,    8.0512,     25.00,   -999.0, 9,   -999.0,  -999.00, 9,   -999.0,  27.4939, 23.0422,  27.5156, 2, 2, 0.12, 0.04, 0.00, 0.013,  -999.00, 9, -999.00, -999.00, 9, -999.00
49NZ20071122, P14N, 157, 1, 33, X12033, 2, 20071206, 0450, -3.4955, 179.0032, 5220,    150.9, 2,  26.9581, 2,  35.5972, 2,  35.5988, 2,    186.6, 2,    186.4, 2,     1.84, 2,     4.31, 2,     1.41, 2,     0.62, 2,    1.610, 6,    0.980, 6,    0.174, 4, -999.000, 9,   2046.5, 2,   2342.0, 2,    8.0241,     25.00,   -999.0, 9,   -999.0,  -999.00, 9,   -999.0,  26.9234, 23.1921,  26.9565, 2, 6, 0.12, 0.04, 0.00, 0.013,  -999.00, 9, -999.00, -999.00, 9, -999.00
49NZ20071122, P14N, 157, 1, 32, X12038, 2, 20071206, 0450, -3.4955, 179.0032, 5220,    200.6, 2,  23.3975, 2,  35.9741, 2,  35.9503, 2,    142.0, 2,    138.5, 2,     2.49, 2,     8.97, 2,     0.04, 2,     0.88, 2,    1.883, 2,    1.120, 2,    0.115, 2, -999.000, 9,   2116.7, 2,   2367.4, 2,    7.9382,     25.00,   -999.0, 9,   -999.0,  -999.00, 9,   -999.0,  23.3558, 24.5690,  23.4025, 2, 2, 0.12, 0.06, 0.01, 0.013,  -999.00, 9, -999.00, -999.00, 9, -999.00
49NZ20071122, P14N, 157, 1, 31, X12003, 2, 20071206, 0450, -3.4955, 179.0032, 5220,    252.3, 2,  15.6547, 2,  35.2652, 2,  35.2578, 6,     95.1, 2,     95.3, 2,     9.65, 2,    18.85, 2,     0.02, 2,     1.52, 2,    1.575, 2,    0.870, 2,    0.026, 2, -999.000, 9,   2173.3, 2,   2326.6, 2,    7.7464,     25.00,   -999.0, 9,   -999.0,  -999.00, 9,   -999.0,  15.6152, 26.0393,  15.6215, 2, 2, 0.14, 0.09, 0.01, 0.014,  -999.00, 9, -999.00, -999.00, 9, -999.00
49NZ20071122, P14N, 157, 1, 30, X12008, 2, 20071206, 0450, -3.4955, 179.0032, 5220,    301.3, 2,  12.5504, 2,  34.9669, 2,  34.9593, 2,     84.1, 2,     85.7, 2,    15.92, 2,    24.81, 2,     0.01, 2,     1.86, 2,    1.045, 2,    0.558, 2,    0.014, 2, -999.000, 9,   2194.4, 2,   2312.2, 2,    7.6603,     25.00,   -999.0, 9,   -999.0,  -999.00, 9,   -999.0,  12.5098, 26.4647,  12.5504, 2, 2, 0.15, 0.10, 0.01, 0.015,  -999.00, 9, -999.00, -999.00, 9, -999.00
49NZ20071122, P14N, 157, 1, 29, X12035, 2, 20071206, 0450, -3.4955, 179.0032, 5220,    399.8, 2,   9.3775, 2,  34.7002, 2,  34.6977, 2,     78.6, 2,     78.6, 2,    26.94, 2,    31.65, 2,     0.01, 2,     2.23, 2,    0.453, 2,    0.237, 2,    0.011, 2, -999.000, 9,   2223.8, 2,   2302.5, 2,    7.5704,     25.00,   -999.0, 9,   -999.0,  -999.00, 9,   -999.0,   9.3326, 26.8295,   9.3785, 2, 2, 0.18, 0.12, 0.01, 0.016,  -999.00, 9, -999.00, -999.00, 9, -999.00
49NZ20071122, P14N, 157, 1, 28, X12034, 2, 20071206, 0450, -3.4955, 179.0032, 5220,    500.5, 2,   8.2952, 2,  34.6346, 2,  34.6327, 6,     94.3, 2,     77.8, 2,    32.00, 2,    34.21, 2,     0.01, 2,     2.40, 2,    0.287, 2,    0.155, 2,    0.010, 2, -999.000, 9,   2235.8, 2,   2306.9, 2,    7.5407,     25.00,   -999.0, 9,   -999.0,  -999.00, 9,   -999.0,   8.2427, 26.9502,   8.2966, 2, 2, 0.19, 0.13, 0.01, 0.016,  -999.00, 9, -999.00, -999.00, 9, -999.00
49NZ20071122, P14N, 157, 1, 27, X12049, 2, 20071206, 0450, -3.4955, 179.0032, 5220,    601.0, 2,   7.1152, 2,  34.5800, 2,  34.5783, 2,     64.8, 2,     69.3, 2,    42.19, 2,    37.61, 2,     0.01, 2,     2.65, 2,    0.105, 2,    0.058, 2,    0.007, 2, -999.000, 9,   2257.1, 2,   2313.7, 2,    7.5010,     25.00,   -999.0, 9,   -999.0,  -999.00, 9,   -999.0,   7.0571, 27.0800,   7.1151, 2, 2, 0.21, 0.14, 0.01, 0.017,  -999.00, 9, -999.00, -999.00, 9, -999.00
49NZ20071122, P14N, 157, 1, 26, X12032, 2, 20071206, 0450, -3.4955, 179.0032, 5220,    700.4, 2,   6.1764, 2,  34.5491, 2,  34.5479, 2,     77.1, 2,     81.6, 2,    51.25, 2,    38.10, 2,     0.01, 2,     2.70, 2,    0.058, 6,    0.030, 6,    0.005, 6, -999.000, 9,   2262.8, 6,   2322.7, 2,    7.5079,     25.00,   -999.0, 9,   -999.0,  -999.00, 9,   -999.0,   6.1132, 27.1819,   6.1773, 2, 2, 0.23, 0.14, 0.01, 0.017,  -999.00, 9, -999.00, -999.00, 9, -999.00
49NZ20071122, P14N, 157, 1, 25, X12043, 2, 20071206, 0450, -3.4955, 179.0032, 5220,    800.3, 2,   5.4064, 2,  34.5394, 2,  34.5392, 2,     85.9, 2,     88.5, 2,    62.06, 2,    38.50, 2,     0.01, 2,     2.74, 2,    0.025, 2,    0.014, 2,    0.000, 2, -999.000, 9,   2273.9, 2,   2334.0, 6,    7.5102,     25.00,   -999.0, 9,   -999.0,  -999.00, 9,   -999.0,   5.3384, 27.2703,   5.4067, 2, 2, 0.26, 0.14, 0.01, 0.017,  -999.00, 9, -999.00, -999.00, 9, -999.00
49NZ20071122, P14N, 157, 1, 24, X12030, 2, 20071206, 0450, -3.4955, 179.0032, 5220,    903.6, 2,   4.8099, 2,  34.5399, 2,  34.5400, 2,     97.7, 2,     98.9, 2,    70.66, 2,    37.90, 2,     0.01, 2,     2.71, 2,    0.027, 2,    0.018, 2,    0.000, 2, -999.000, 9,   2276.9, 2,   2344.1, 2,    7.5244,     25.00,   -999.0, 9,   -999.0,  -999.00, 9,   -999.0,   4.7365, 27.3406,   4.8101, 2, 6, 0.27, 0.14, 0.01, 0.017,  -999.00, 9, -999.00, -999.00, 9, -999.00
49NZ20071122, P14N, 157, 1, 23, X12027, 2, 20071206, 0450, -3.4955, 179.0032, 5220,   1000.3, 2,   4.5160, 2,  34.5470, 2,  34.5482, 6,     97.8, 2,     97.2, 2,    77.92, 2,    38.47, 2,     0.01, 2,     2.75, 2,    0.017, 2,    0.013, 2,    0.000, 2, -999.000, 9,   2288.3, 2,   2352.4, 2,    7.5201,     25.00,   -999.0, 9,   -999.0,  -999.00, 9,   -999.0,   4.4363, 27.3794,   4.5161, 2, 2, 0.29, 0.14, 0.01, 0.017,  -999.00, 9, -999.00, -999.00, 9, -999.00
49NZ20071122, P14N, 157, 1, 22, X12028, 2, 20071206, 0450, -3.4955, 179.0032, 5220,   1201.0, 2,   3.8401, 2,  34.5653, 2,  34.5654, 2,    102.5, 2,    103.2, 2,    91.58, 2,    38.44, 2,     0.01, 2,     2.75, 2,    0.011, 2,    0.010, 2,    0.000, 2, -999.000, 9,   2298.2, 2,   2368.1, 2,    7.5269,     25.00,   -999.0, 9,   -999.0,  -999.00, 9,   -999.0,   3.7488, 27.4661,   3.8401, 2, 2, 0.32, 0.14, 0.01, 0.017,  -999.00, 9, -999.00, -999.00, 9, -999.00
49NZ20071122, P14N, 157, 1, 21, X12009, 2, 20071206, 0450, -3.4955, 179.0032, 5220,   1400.0, 2,   3.2747, 2,  34.5839, 2,  34.5855, 3,    108.8, 2,    110.8, 2,   103.00, 2,    38.16, 2,     0.01, 2,     2.73, 2,    0.008, 2,    0.005, 2,    0.000, 2, -999.000, 9,   2307.6, 2,   2381.0, 2,    7.5363,     25.00,   -999.0, 9,   -999.0,  -999.00, 9,   -999.0,   3.1722, 27.5370,   3.2748, 2, 2, 0.35, 0.14, 0.01, 0.017,  -999.00, 9, -999.00, -999.00, 9, -999.00
49NZ20071122, P14N, 157, 1, 20, X12026, 2, 20071206, 0450, -3.4955, 179.0032, 5220,   1600.6, 2,   2.7944, 2,  34.6090, 2,  34.6096, 2,    111.4, 2,    111.1, 2,   116.07, 2,    38.47, 2,     0.01, 2,     2.75, 2,    0.007, 2,    0.005, 2,    0.005, 2, -999.000, 9,   -999.0, 5,   2394.7, 2,    7.5367,     25.00,   -999.0, 9,   -999.0,  -999.00, 9,   -999.0,   2.6805, 27.6016,   2.7946, 2, 6, 0.37, 0.14, 0.01, 0.017,  -999.00, 9, -999.00, -999.00, 9, -999.00
49NZ20071122, P14N, 157, 1, 19, X12025, 2, 20071206, 0450, -3.4955, 179.0032, 5220,   1800.2, 2,   2.3815, 2,  34.6309, 2,  34.6311, 2,    114.8, 2,    115.3, 2,   126.55, 2,    38.35, 2,     0.01, 2,     2.73, 2,    0.003, 2,    0.002, 2,    0.000, 2, -999.000, 9,   -999.0, 5,   2406.6, 2,    7.5444,     25.00,   -999.0, 9,   -999.0,  -999.00, 9,   -999.0,   2.2563, 27.6552,   2.3816, 2, 2, 0.40, 0.14, 0.01, 0.017,  -999.00, 9, -999.00, -999.00, 9, -999.00
49NZ20071122, P14N, 157, 1, 18, X12024, 2, 20071206, 0450, -3.4955, 179.0032, 5220,   2000.1, 2,   2.1760, 2,  34.6422, 2,  34.6425, 2,    120.4, 2,    119.6, 2,   131.15, 2,    38.16, 2,     0.01, 2,     2.70, 2,    0.004, 2,    0.005, 2,    0.000, 2, -999.000, 9,   -999.0, 5,   2411.8, 2,    7.5508,     25.00,   -999.0, 9,   -999.0,  -999.00, 9,   -999.0,   2.0368, 27.6821,   2.1761, 2, 2, 0.41, 0.14, 0.01, 0.017,  -999.00, 9, -999.00, -999.00, 9, -999.00
49NZ20071122, P14N, 157, 1, 17, X12023, 2, 20071206, 0450, -3.4955, 179.0032, 5220,   2200.2, 2,   2.0684, 2,  34.6488, 2,  34.6489, 6,    120.0, 2,    120.0, 2,   135.22, 2,    38.24, 2,     0.01, 2,     2.70, 2, -999.000, 9, -999.000, 9, -999.000, 9, -999.000, 9,   -999.0, 5,   2414.8, 2,    7.5522,     25.00,   -999.0, 9,   -999.0,  -999.00, 9,   -999.0,   1.9137, 27.6971,   2.0684, 2, 2, 0.42, 0.14, 0.01, 0.017,  -999.00, 9, -999.00, -999.00, 9, -999.00
49NZ20071122, P14N, 157, 1, 16, X12022, 2, 20071206, 0450, -3.4955, 179.0032, 5220,   2400.4, 2,   1.9200, 2,  34.6571, 2,  34.6570, 2,    128.6, 2,    128.7, 2,   135.56, 2,    37.62, 2,     0.01, 2,     2.66, 2, -999.000, 9, -999.000, 9, -999.000, 9, -999.000, 9,   -999.0, 5,   2416.7, 2,    7.5645,     25.00,   -999.0, 9,   -999.0,  -999.00, 9,   -999.0,   1.7501, 27.7164,   1.9200, 2, 2, 0.42, 0.14, 0.01, 0.017,  -999.00, 9, -999.00, -999.00, 9, -999.00
49NZ20071122, P14N, 157, 1, 15, X12021, 2, 20071206, 0450, -3.4955, 179.0032, 5220,   2600.3, 2,   1.8381, 2,  34.6624, 2,  34.6623, 2,    131.1, 2,    131.3, 2,   137.54, 2,    37.52, 2,     0.01, 2,     2.64, 2,    0.002, 2,    0.003, 2,    0.000, 2, -999.000, 9,   -999.0, 5,   2418.2, 6,    7.5686,     25.00,   -999.0, 9,   -999.0,  -999.00, 9,   -999.0,   1.6517, 27.7281,   1.8380, 2, 2, 0.42, 0.14, 0.01, 0.017,  -999.00, 9, -999.00, -999.00, 9, -999.00
49NZ20071122, P14N, 157, 1, 14, X12020, 2, 20071206, 0450, -3.4955, 179.0032, 5220,   2801.6, 2,   1.7610, 2,  34.6677, 2,  34.6678, 2,    135.7, 2,    135.2, 2,   138.50, 2,    37.12, 2,     0.01, 2,     2.62, 2, -999.000, 9, -999.000, 9, -999.000, 9, -999.000, 9,   -999.0, 5,   2419.3, 2,    7.5732,     25.00,   -999.0, 9,   -999.0,  -999.00, 9,   -999.0,   1.5574, 27.7393,   1.7610, 2, 6, 0.42, 0.14, 0.01, 0.017,  -999.00, 9, -999.00, -999.00, 9, -999.00
49NZ20071122, P14N, 157, 1, 13, X12019, 2, 20071206, 0450, -3.4955, 179.0032, 5220,   3000.0, 2,   1.6727, 2,  34.6736, 2,  34.6733, 2,    141.0, 2,    141.7, 2,   138.30, 2,    36.79, 2,     0.01, 2,     2.59, 2, -999.000, 9, -999.000, 9, -999.000, 9, -999.000, 9,   -999.0, 5,   2418.7, 2,    7.5821,     25.00,   -999.0, 9,   -999.0,  -999.00, 9,   -999.0,   1.4521, 27.7517,   1.6726, 2, 2, 0.42, 0.14, 0.01, 0.016,  -999.00, 9, -999.00, -999.00, 9, -999.00
49NZ20071122, P14N, 157, 1, 12, X12040, 2, 20071206, 0450, -3.4955, 179.0032, 5220,   3250.3, 2,   1.5892, 2,  34.6796, 2,  34.6794, 2,    149.1, 2,    149.0, 2,   137.31, 2,    36.18, 2,     0.01, 2,     2.54, 2,    0.000, 2,    0.000, 2,    0.000, 2, -999.000, 9,   -999.0, 5,   2417.7, 2,    7.5919,     25.00,   -999.0, 9,   -999.0,  -999.00, 9,   -999.0,   1.3460, 27.7641,   1.5891, 2, 2, 0.42, 0.13, 0.01, 0.016,  -999.00, 9, -999.00, -999.00, 9, -999.00
49NZ20071122, P14N, 157, 1, 11, X12047, 2, 20071206, 0450, -3.4955, 179.0032, 5220,   3500.8, 2,   1.5106, 2,  34.6852, 2,  34.6846, 2,    155.9, 2,    155.9, 2,   136.33, 2,    35.72, 2,     0.01, 2,     2.50, 2, -999.000, 9, -999.000, 9, -999.000, 9, -999.000, 9,   -999.0, 5,   2417.5, 2,    7.6013,     25.00,   -999.0, 9,   -999.0,  -999.00, 9,   -999.0,   1.2441, 27.7758,   1.5108, 2, 2, 0.42, 0.13, 0.01, 0.016,  -999.00, 9, -999.00, -999.00, 9, -999.00
49NZ20071122, P14N, 157, 1, 10, X12012, 2, 20071206, 0450, -3.4955, 179.0032, 5220,   3749.1, 2,   1.4412, 2,  34.6902, 2,  34.6899, 2,    161.5, 2,    162.3, 2,   135.09, 2,    35.38, 2,     0.01, 2,     2.47, 2,    0.007, 2,    0.005, 2,    0.000, 2, -999.000, 9,   -999.0, 5,   2414.0, 2,    7.6079,     25.00,   -999.0, 9,   -999.0,  -999.00, 9,   -999.0,   1.1507, 27.7862,   1.4411, 2, 2, 0.42, 0.13, 0.01, 0.016,  -999.00, 9, -999.00, -999.00, 9, -999.00
49NZ20071122, P14N, 157, 1, 9, X12015, 2, 20071206, 0450, -3.4955, 179.0032, 5220,   3998.8, 2,   1.3897, 2,  34.6943, 2,  34.6942, 6,    167.8, 2,    168.4, 2,   133.27, 2,    34.97, 2,     0.01, 2,     2.44, 2,    0.006, 2,    0.004, 2,    0.000, 2, -999.000, 9,   -999.0, 5,   2410.8, 2,    7.6150,     25.00,   -999.0, 9,   -999.0,  -999.00, 9,   -999.0,   1.0740, 27.7947,   1.3896, 2, 2, 0.41, 0.13, 0.01, 0.016,  -999.00, 9, -999.00, -999.00, 9, -999.00
49NZ20071122, P14N, 157, 1, 8, X12046, 2, 20071206, 0450, -3.4955, 179.0032, 5220,   4250.9, 2,   1.3337, 2,  34.6981, 2,  34.6976, 2,    176.0, 2,    176.1, 2,   130.26, 2,    34.39, 2,     0.01, 2,     2.39, 2,    0.007, 2,    0.006, 2,    0.000, 2, -999.000, 9,   -999.0, 5,   2404.1, 2,    7.6188,     25.00,   -999.0, 9,   -999.0,  -999.00, 9,   -999.0,   0.9919, 27.8033,   1.3336, 2, 2, 0.41, 0.13, 0.01, 0.016,  -999.00, 9, -999.00, -999.00, 9, -999.00
49NZ20071122, P14N, 157, 1, 7, X12044, 2, 20071206, 0450, -3.4955, 179.0032, 5220,   4500.1, 2,   1.2665, 2,  34.7028, 2,  34.7027, 2,    185.6, 2,    186.7, 2,   124.36, 2,    33.65, 2,     0.01, 2,     2.34, 2,    0.005, 2,    0.002, 2,    0.000, 2, -999.000, 9,   -999.0, 5,   2390.9, 6,    7.6219,     25.00,   -999.0, 9,   -999.0,  -999.00, 9,   -999.0,   0.8987, 27.8132,   1.2664, 2, 2, 0.39, 0.13, 0.01, 0.016,  -999.00, 9, -999.00, -999.00, 9, -999.00
49NZ20071122, P14N, 157, 1, 6, X12048, 2, 20071206, 0450, -3.4955, 179.0032, 5220,   4747.9, 2,   1.2235, 2,  34.7058, 2,  34.7058, 2,    194.0, 2,    194.3, 2,   120.42, 2,    33.05, 2,     0.01, 2,     2.30, 2,    0.014, 2,    0.008, 2,    0.000, 2, -999.000, 9,   -999.0, 5,   2381.0, 2,    7.6229,     25.00,   -999.0, 9,   -999.0,  -999.00, 9,   -999.0,   0.8284, 27.8202,   1.2235, 2, 2, 0.38, 0.13, 0.01, 0.016,  -999.00, 9, -999.00, -999.00, 9, -999.00
49NZ20071122, P14N, 157, 1, 5, X12014, 2, 20071206, 0450, -3.4955, 179.0032, 5220,   5000.7, 2,   1.2423, 2,  34.7063, 2,  34.7063, 2,    195.8, 2,    195.5, 2,   119.98, 2,    32.86, 2,     0.01, 2,     2.30, 2,    0.014, 2,    0.007, 2,    0.000, 2, -999.000, 9,   -999.0, 5,   2379.4, 2,    7.6241,     25.00,   -999.0, 9,   -999.0,  -999.00, 9,   -999.0,   0.8166, 27.8213,   1.2422, 2, 2, 0.38, 0.12, 0.01, 0.016,  -999.00, 9, -999.00, -999.00, 9, -999.00
49NZ20071122, P14N, 157, 1, 4, X12006, 9, 20071206, 0450, -3.4955, 179.0032, 5220,     10.0, 2,  27.9525, 2,  35.6872, 2, -999.0000, 9,    201.3, 2,   -999.0, 9,  -999.00, 9,  -999.00, 9,  -999.00, 9,  -999.00, 9, -999.000, 9, -999.000, 9, -999.000, 9, -999.000, 9,   -999.0, 9,   -999.0, 9, -999.0000,   -999.00,   -999.0, 9,   -999.0,  -999.00, 9,   -999.0,  27.9501, 22.9279,  27.9519, 2, 9, -999.00, -999.00, -999.00, -999.000,  -999.00, 9, -999.00, -999.00, 9, -999.00
49NZ20071122, P14N, 157, 1, 3, X12013, 9, 20071206, 0450, -3.4955, 179.0032, 5220,     50.5, 2,  27.8573, 2,  35.6762, 2, -999.0000, 9,    200.8, 2,   -999.0, 9,  -999.00, 9,  -999.00, 9,  -999.00, 9,  -999.00, 9, -999.000, 9, -999.000, 9, -999.000, 9, -999.000, 9,   -999.0, 9,   -999.0, 9, -999.0000,   -999.00,   -999.0, 9,   -999.0,  -999.00, 9,   -999.0,  27.8454, 22.9538,  27.8563, 2, 9, -999.00, -999.00, -999.00, -999.000,  -999.00, 9, -999.00, -999.00, 9, -999.00
49NZ20071122, P14N, 157, 1, 2, X12002, 9, 20071206, 0450, -3.4955, 179.0032, 5220,    100.1, 2,  27.5131, 2,  35.6413, 2, -999.0000, 9,    193.5, 2,   -999.0, 9,  -999.00, 9,  -999.00, 9,  -999.00, 9,  -999.00, 9, -999.000, 9, -999.000, 9, -999.000, 9, -999.000, 9,   -999.0, 9,   -999.0, 9, -999.0000,   -999.00,   -999.0, 9,   -999.0,  -999.00, 9,   -999.0,  27.4898, 23.0432,  27.5116, 2, 9, -999.00, -999.00, -999.00, -999.000,  -999.00, 9, -999.00, -999.00, 9, -999.00
49NZ20071122, P14N, 157, 1, 1, X12001, 2, 20071206, 0450, -3.4955, 179.0032, 5220,   5299.1, 2,   1.2732, 2,  34.7063, 2,  34.7063, 6,    196.1, 2,    195.5, 2,   120.12, 2,    32.97, 2,     0.01, 2,     2.31, 2,    0.017, 2,    0.010, 2,    0.000, 2, -999.000, 9,   2270.3, 2,   2379.3, 2,    7.6255,     25.00,   -999.0, 9,   -999.0,  -999.00, 9,   -999.0,   0.8100, 27.8218,   1.2732, 2, 2, 0.38, 0.13, 0.01, 0.016,  -999.00, 9, -999.00, -999.00, 9, -999.00