BOTTLE,20220820CCHSIOAMB
EXPOCODE,SECT_ID,STNNBR,CASTNO,SAMPNO,BTLNBR,BTLNBR_FLAG_W,DATE,TIME,LATITUDE,LONGITUDE,DEPTH,CTDPRS,CTDPRS_FLAG_W,CTDTMP,CTDTMP_FLAG_W,CTDSAL,CTDSAL_FLAG_W,SALNTY,SALNTY_FLAG_W,CTDOXY,CTDOXY_FLAG_W,OXYGEN,OXYGEN_FLAG_W,SILCAT,SILCAT_FLAG_W,NITRAT,NITRAT_FLAG_W,NITRIT,NITRIT_FLAG_W,PHSPHT,PHSPHT_FLAG_W,CFC-11,CFC-11_FLAG_W,CFC-12,CFC-12_FLAG_W,CFC113,CFC113_FLAG_W,CCL4,CCL4_FLAG_W,TCARBN,TCARBN_FLAG_W,ALKALI,ALKALI_FLAG_W,PH_TOT,PH_TMP,DELC14,DELC14_FLAG_W,C14ERR,DELC13,DELC13_FLAG_W,C13ERR,THETA,SIG0,SBE35,SBE35_FLAG_W,PH_TOT_FLAG_W,SILUNC,NRAUNC,NRIUNC,PHPUNC,CS-137,CS-137_FLAG_W,CS137ER,PLUTO,PLUTO_FLAG_W,PLUTOER
,,,,,,,,,,,METERS,DBAR,,ITS-90,,PSS-78,,PSS-78,,UMOL/KG,,UMOL/KG,,UMOL/KG,,UMOL/KG,,UMOL/KG,,UMOL/KG,,PMOL/KG,,PMOL/KG,,PMOL/KG,,PMOL/KG,,UMOL/KG,,UMOL/KG,,,DEG C,/MILLE,,/MILLE,/MILLE,,/MILLE,DEG C,KG/M^3,ITS-90,,,UMOL/KG,UMOL/KG,UMOL/KG,UMOL/KG,DM/.1MG,,BQ/M^3,MBQ/M^3,,MBQ/M^3
49NZ20071122, P14N, 128, 1, 36, X12042, 2, 20071128, 0857, 3.7433, 179.0003, 5504,     10.6, 2,  27.3940, 2,  35.1203, 2,  35.1227, 2,    204.0, 2,    202.7, 2,     1.61, 2,     2.70, 2,     0.13, 2,     0.40, 2,    1.537, 2,    0.966, 2,    0.182, 4, -999.000, 9,   -999.0, 9,   -999.0, 9, -999.0000,   -999.00,   -999.0, 9,   -999.0,  -999.00, 9,   -999.0,  27.3915, 22.6827,  27.3904, 2, 9, 0.12, 0.04, 0.01, 0.013,  -999.00, 9, -999.00, -999.00, 9, -999.00
49NZ20071122, P14N, 128, 1, 35, X12041, 2, 20071128, 0857, 3.7433, 179.0003, 5504,     50.7, 2,  27.1325, 2,  35.1568, 2,  35.1567, 2,    197.3, 2,    197.5, 2,     1.72, 2,     3.01, 2,     0.23, 2,     0.45, 2,    1.557, 2,    0.970, 2,    0.188, 4, -999.000, 9,   -999.0, 9,   -999.0, 9, -999.0000,   -999.00,   -999.0, 9,   -999.0,  -999.00, 9,   -999.0,  27.1208, 22.7972,  27.1303, 2, 9, 0.12, 0.04, 0.01, 0.013,  -999.00, 9, -999.00, -999.00, 9, -999.00
49NZ20071122, P14N, 128, 1, 34, X12016, 2, 20071128, 0857, 3.7433, 179.0003, 5504,    102.2, 2,  26.7698, 2,  35.1795, 2,  35.1803, 2,    195.6, 2,    195.5, 2,     1.90, 2,     3.47, 2,     0.51, 2,     0.49, 2,    1.568, 2,    0.975, 2,    0.192, 4, -999.000, 9,   -999.0, 9,   -999.0, 9, -999.0000,   -999.00,   -999.0, 9,   -999.0,  -999.00, 9,   -999.0,  26.7465, 22.9337,  26.7684, 2, 9, 0.12, 0.04, 0.00, 0.013,  -999.00, 9, -999.00, -999.00, 9, -999.00
49NZ20071122, P14N, 128, 1, 33, X12033, 2, 20071128, 0857, 3.7433, 179.0003, 5504,    150.8, 2,  26.7849, 2,  35.1997, 2,  35.2013, 2,    198.4, 2,    196.3, 2,     1.94, 2,     3.46, 2,     0.44, 2,     0.48, 2,    1.583, 6,    0.987, 6,    0.189, 4, -999.000, 9,   -999.0, 9,   -999.0, 9, -999.0000,   -999.00,   -999.0, 9,   -999.0,  -999.00, 9,   -999.0,  26.7505, 22.9477,  26.7828, 2, 9, 0.12, 0.04, 0.00, 0.013,  -999.00, 9, -999.00, -999.00, 9, -999.00
49NZ20071122, P14N, 128, 1, 32, X12038, 2, 20071128, 0857, 3.7433, 179.0003, 5504,    200.5, 2,  18.4059, 2,  34.8058, 2,  34.7813, 2,    129.2, 2,    131.1, 2,     9.89, 2,    12.41, 2,     0.03, 2,     0.97, 2,    1.964, 2,    1.116, 2,    0.047, 2, -999.000, 9,   -999.0, 9,   -999.0, 9, -999.0000,   -999.00,   -999.0, 9,   -999.0,  -999.00, 9,   -999.0,  18.3710, 25.0314,  18.4113, 2, 9, 0.14, 0.07, 0.01, 0.013,  -999.00, 9, -999.00, -999.00, 9, -999.00
49NZ20071122, P14N, 128, 1, 31, X12003, 2, 20071128, 0857, 3.7433, 179.0003, 5504,    249.4, 2,  11.3370, 2,  34.6320, 2,  34.6311, 6,    120.7, 2,    119.5, 2,    25.84, 2,    23.21, 2,     0.01, 2,     1.70, 2,    1.383, 2,    0.735, 2,    0.023, 2, -999.000, 9,   -999.0, 9,   -999.0, 9, -999.0000,   -999.00,   -999.0, 9,   -999.0,  -999.00, 9,   -999.0,  11.3057, 26.4332,  11.3355, 2, 9, 0.18, 0.10, 0.01, 0.014,  -999.00, 9, -999.00, -999.00, 9, -999.00
49NZ20071122, P14N, 128, 1, 30, X12008, 2, 20071128, 0857, 3.7433, 179.0003, 5504,    331.1, 2,  10.0855, 2,  34.7020, 2,  34.7048, 2,     76.9, 2,     94.7, 2,    26.89, 2,    28.36, 2,     0.02, 2,     2.02, 2,    0.820, 2,    0.429, 2,    0.018, 2, -999.000, 9,   -999.0, 9,   -999.0, 9, -999.0000,   -999.00,   -999.0, 9,   -999.0,  -999.00, 9,   -999.0,  10.0468, 26.7112,  10.0837, 2, 9, 0.18, 0.11, 0.01, 0.015,  -999.00, 9, -999.00, -999.00, 9, -999.00
49NZ20071122, P14N, 128, 1, 29, X12035, 2, 20071128, 0857, 3.7433, 179.0003, 5504,    429.1, 2,   9.0461, 2,  34.6427, 2,  34.6418, 2,    103.5, 2,    103.9, 2,    30.00, 2,    29.48, 2,     0.01, 2,     2.09, 2,    0.653, 2,    0.340, 2,    0.015, 2, -999.000, 9,   -999.0, 9,   -999.0, 9, -999.0000,   -999.00,   -999.0, 9,   -999.0,  -999.00, 9,   -999.0,   8.9989, 26.8385,   9.0467, 2, 9, 0.19, 0.12, 0.01, 0.015,  -999.00, 9, -999.00, -999.00, 9, -999.00
49NZ20071122, P14N, 128, 1, 28, X12034, 2, 20071128, 0857, 3.7433, 179.0003, 5504,    530.4, 2,   8.2139, 2,  34.6052, 2,  34.6037, 6,     78.5, 2,     77.9, 2,    36.86, 2,    33.62, 2,     0.01, 2,     2.38, 2,    0.312, 2,    0.165, 2,    0.009, 2, -999.000, 9,   -999.0, 9,   -999.0, 9, -999.0000,   -999.00,   -999.0, 9,   -999.0,  -999.00, 9,   -999.0,   8.1585, 26.9399,   8.2148, 2, 9, 0.20, 0.13, 0.01, 0.016,  -999.00, 9, -999.00, -999.00, 9, -999.00
49NZ20071122, P14N, 128, 1, 27, X12049, 2, 20071128, 0857, 3.7433, 179.0003, 5504,    629.9, 2,   7.1671, 2,  34.5729, 2,  34.5721, 2,     62.5, 2,     62.4, 2,    46.54, 2,    37.45, 2,     0.01, 2,     2.67, 2,    0.111, 2,    0.057, 2,    0.005, 2, -999.000, 9,   -999.0, 9,   -999.0, 9, -999.0000,   -999.00,   -999.0, 9,   -999.0,  -999.00, 9,   -999.0,   7.1059, 27.0676,   7.1675, 2, 9, 0.22, 0.14, 0.01, 0.017,  -999.00, 9, -999.00, -999.00, 9, -999.00
49NZ20071122, P14N, 128, 1, 26, X12032, 2, 20071128, 0857, 3.7433, 179.0003, 5504,    731.1, 2,   6.1897, 2,  34.5535, 2,  34.5530, 2,     58.8, 2,     59.6, 2,    57.73, 2,    39.81, 2,     0.01, 2,     2.85, 2,    0.026, 6,    0.015, 6,    0.000, 6, -999.000, 9,   -999.0, 9,   -999.0, 9, -999.0000,   -999.00,   -999.0, 9,   -999.0,  -999.00, 9,   -999.0,   6.1235, 27.1840,   6.1901, 2, 9, 0.25, 0.14, 0.01, 0.017,  -999.00, 9, -999.00, -999.00, 9, -999.00
49NZ20071122, P14N, 128, 1, 25, X12043, 2, 20071128, 0857, 3.7433, 179.0003, 5504,    830.9, 2,   5.6124, 2,  34.5478, 2,  34.5478, 2,     65.1, 2,     65.7, 2,    65.60, 2,    40.09, 2,     0.01, 2,     2.86, 2,    0.011, 2,    0.008, 2,    0.000, 2, -999.000, 9,   -999.0, 9,   -999.0, 9, -999.0000,   -999.00,   -999.0, 9,   -999.0,  -999.00, 9,   -999.0,   5.5403, 27.2525,   5.6128, 2, 9, 0.26, 0.15, 0.01, 0.017,  -999.00, 9, -999.00, -999.00, 9, -999.00
49NZ20071122, P14N, 128, 1, 24, X12030, 2, 20071128, 0857, 3.7433, 179.0003, 5504,    929.3, 2,   5.0078, 2,  34.5492, 2,  34.5492, 2,     73.9, 2,     73.4, 2,    75.54, 2,    39.93, 2,     0.01, 2,     2.86, 2,    0.005, 2,    0.005, 2,    0.000, 2, -999.000, 9,   -999.0, 9,   -999.0, 9, -999.0000,   -999.00,   -999.0, 9,   -999.0,  -999.00, 9,   -999.0,   4.9307, 27.3259,   5.0083, 2, 9, 0.29, 0.14, 0.01, 0.017,  -999.00, 9, -999.00, -999.00, 9, -999.00
49NZ20071122, P14N, 128, 1, 23, X12027, 2, 20071128, 0857, 3.7433, 179.0003, 5504,   1070.4, 2,   4.3844, 2,  34.5602, 2,  34.5602, 6,     78.4, 2,     78.4, 2,    87.95, 2,    40.10, 2,     0.01, 2,     2.88, 2,    0.004, 2,    0.003, 2,    0.000, 2, -999.000, 9,   -999.0, 9,   -999.0, 9, -999.0000,   -999.00,   -999.0, 9,   -999.0,  -999.00, 9,   -999.0,   4.2996, 27.4047,   4.3840, 2, 9, 0.31, 0.15, 0.01, 0.017,  -999.00, 9, -999.00, -999.00, 9, -999.00
49NZ20071122, P14N, 128, 1, 22, X12028, 2, 20071128, 0857, 3.7433, 179.0003, 5504,   1269.3, 2,   3.7702, 2,  34.5773, 2,  34.5777, 2,     81.5, 2,     80.6, 2,   102.41, 2,    40.22, 2,     0.01, 2,     2.90, 2,    0.000, 2,    0.001, 2,    0.000, 2, -999.000, 9,   -999.0, 9,   -999.0, 9, -999.0000,   -999.00,   -999.0, 9,   -999.0,  -999.00, 9,   -999.0,   3.6737, 27.4831,   3.7704, 2, 9, 0.34, 0.15, 0.01, 0.017,  -999.00, 9, -999.00, -999.00, 9, -999.00
49NZ20071122, P14N, 128, 1, 21, X12009, 2, 20071128, 0857, 3.7433, 179.0003, 5504,   1469.9, 2,   3.2234, 2,  34.5961, 2,  34.5960, 2,     87.1, 2,     86.2, 2,   114.81, 2,    40.27, 2,     0.01, 2,     2.89, 2, -999.000, 9, -999.000, 9, -999.000, 9, -999.000, 9,   -999.0, 9,   -999.0, 9, -999.0000,   -999.00,   -999.0, 9,   -999.0,  -999.00, 9,   -999.0,   3.1155, 27.5520,   3.2233, 2, 9, 0.37, 0.15, 0.01, 0.017,  -999.00, 9, -999.00, -999.00, 9, -999.00
49NZ20071122, P14N, 128, 1, 20, X12026, 2, 20071128, 0857, 3.7433, 179.0003, 5504,   1670.6, 2,   2.7118, 2,  34.6163, 2,  34.6164, 2,     96.6, 2,     96.6, 2,   125.34, 2,    39.78, 2,     0.01, 2,     2.83, 2, -999.000, 9, -999.000, 9, -999.000, 9, -999.000, 9,   -999.0, 9,   -999.0, 9, -999.0000,   -999.00,   -999.0, 9,   -999.0,  -999.00, 9,   -999.0,   2.5931, 27.6151,   2.7120, 2, 9, 0.39, 0.14, 0.01, 0.017,  -999.00, 9, -999.00, -999.00, 9, -999.00
49NZ20071122, P14N, 128, 1, 19, X12025, 2, 20071128, 0857, 3.7433, 179.0003, 5504,   1870.8, 2,   2.4785, 2,  34.6278, 2,  34.6284, 2,    101.8, 2,    101.4, 2,   131.19, 2,    39.46, 2,     0.01, 2,     2.80, 2,    0.000, 2,    0.000, 2,    0.000, 2, -999.000, 9,   -999.0, 9,   -999.0, 9, -999.0000,   -999.00,   -999.0, 9,   -999.0,  -999.00, 9,   -999.0,   2.3460, 27.6454,   2.4784, 2, 9, 0.41, 0.14, 0.01, 0.017,  -999.00, 9, -999.00, -999.00, 9, -999.00
49NZ20071122, P14N, 128, 1, 18, X12024, 2, 20071128, 0857, 3.7433, 179.0003, 5504,   2070.8, 2,   2.2260, 2,  34.6412, 2,  34.6418, 2,    106.0, 2,    105.8, 2,   138.04, 2,    39.19, 2,     0.01, 2,     2.77, 2, -999.000, 9, -999.000, 9, -999.000, 9, -999.000, 9,   -999.0, 9,   -999.0, 9, -999.0000,   -999.00,   -999.0, 9,   -999.0,  -999.00, 9,   -999.0,   2.0800, 27.6778,   2.2252, 2, 9, 0.42, 0.14, 0.01, 0.017,  -999.00, 9, -999.00, -999.00, 9, -999.00
49NZ20071122, P14N, 128, 1, 17, X12023, 2, 20071128, 0857, 3.7433, 179.0003, 5504,   2268.8, 2,   1.9813, 2,  34.6549, 2,  34.6552, 6,    114.3, 2,    114.4, 2,   142.21, 2,    38.60, 2,     0.01, 2,     2.73, 2, -999.000, 9, -999.000, 9, -999.000, 9, -999.000, 9,   -999.0, 9,   -999.0, 9, -999.0000,   -999.00,   -999.0, 9,   -999.0,  -999.00, 9,   -999.0,   1.8220, 27.7091,   1.9810, 2, 9, 0.43, 0.14, 0.01, 0.017,  -999.00, 9, -999.00, -999.00, 9, -999.00
49NZ20071122, P14N, 128, 1, 16, X12022, 2, 20071128, 0857, 3.7433, 179.0003, 5504,   2470.8, 2,   1.8938, 2,  34.6608, 2,  34.6610, 2,    116.3, 2,    117.4, 2,   144.75, 2,    38.57, 2,     0.01, 2,     2.71, 2,    0.000, 2,    0.000, 2,    0.000, 2, -999.000, 9,   -999.0, 9,   -999.0, 9, -999.0000,   -999.00,   -999.0, 9,   -999.0,  -999.00, 9,   -999.0,   1.7181, 27.7218,   1.8938, 2, 9, 0.44, 0.14, 0.01, 0.017,  -999.00, 9, -999.00, -999.00, 9, -999.00
49NZ20071122, P14N, 128, 1, 15, X12021, 2, 20071128, 0857, 3.7433, 179.0003, 5504,   2670.8, 2,   1.7976, 2,  34.6655, 2,  34.6655, 2,    123.4, 2,    123.7, 2,   144.76, 2,    37.93, 2,     0.01, 2,     2.66, 2, -999.000, 9, -999.000, 9, -999.000, 9, -999.000, 9,   -999.0, 9,   -999.0, 9, -999.0000,   -999.00,   -999.0, 9,   -999.0,  -999.00, 9,   -999.0,   1.6055, 27.7340,   1.7975, 2, 9, 0.44, 0.14, 0.01, 0.017,  -999.00, 9, -999.00, -999.00, 9, -999.00
49NZ20071122, P14N, 128, 1, 14, X12020, 2, 20071128, 0857, 3.7433, 179.0003, 5504,   2869.5, 2,   1.7172, 2,  34.6695, 2,  34.6697, 2,    128.6, 2,    129.9, 2,   144.22, 2,    37.58, 2,     0.01, 2,     2.63, 2, -999.000, 9, -999.000, 9, -999.000, 9, -999.000, 9,   -999.0, 9,   -999.0, 9, -999.0000,   -999.00,   -999.0, 9,   -999.0,  -999.00, 9,   -999.0,   1.5081, 27.7443,   1.7171, 2, 9, 0.44, 0.14, 0.01, 0.017,  -999.00, 9, -999.00, -999.00, 9, -999.00
49NZ20071122, P14N, 128, 1, 13, X12019, 2, 20071128, 0857, 3.7433, 179.0003, 5504,   3080.2, 2,   1.6382, 2,  34.6738, 2,  34.6738, 2,    134.1, 2,    135.9, 2,   144.21, 2,    37.33, 2,     0.01, 2,     2.60, 2,    0.000, 2,    0.000, 2,    0.000, 2, -999.000, 9,   -999.0, 9,   -999.0, 9, -999.0000,   -999.00,   -999.0, 9,   -999.0,  -999.00, 9,   -999.0,   1.4106, 27.7549,   1.6380, 2, 9, 0.44, 0.14, 0.01, 0.016,  -999.00, 9, -999.00, -999.00, 9, -999.00
49NZ20071122, P14N, 128, 1, 12, X12040, 2, 20071128, 0857, 3.7433, 179.0003, 5504,   3328.5, 2,   1.5788, 2,  34.6778, 2,  34.6781, 2,    141.9, 2,    142.7, 2,   142.51, 2,    36.68, 2,     0.01, 2,     2.56, 2, -999.000, 9, -999.000, 9, -999.000, 9, -999.000, 9,   -999.0, 9,   -999.0, 9, -999.0000,   -999.00,   -999.0, 9,   -999.0,  -999.00, 9,   -999.0,   1.3281, 27.7640,   1.5791, 2, 9, 0.43, 0.14, 0.01, 0.016,  -999.00, 9, -999.00, -999.00, 9, -999.00
49NZ20071122, P14N, 128, 1, 11, X12047, 2, 20071128, 0857, 3.7433, 179.0003, 5504,   3580.0, 2,   1.5109, 2,  34.6832, 2,  34.6834, 2,    149.5, 2,    150.6, 2,   140.56, 2,    36.25, 2,     0.01, 2,     2.52, 2, -999.000, 9, -999.000, 9, -999.000, 9, -999.000, 9,   -999.0, 9,   -999.0, 9, -999.0000,   -999.00,   -999.0, 9,   -999.0,  -999.00, 9,   -999.0,   1.2363, 27.7747,   1.5108, 2, 9, 0.43, 0.13, 0.01, 0.016,  -999.00, 9, -999.00, -999.00, 9, -999.00
49NZ20071122, P14N, 128, 1, 10, X12012, 2, 20071128, 0857, 3.7433, 179.0003, 5504,   3829.1, 2,   1.4448, 2,  34.6885, 2,  34.6887, 2,    157.4, 2,    159.2, 2,   137.63, 2,    35.61, 2,     0.01, 2,     2.48, 2,    0.009, 2,    0.006, 2,    0.000, 2, -999.000, 9,   -999.0, 9,   -999.0, 9, -999.0000,   -999.00,   -999.0, 9,   -999.0,  -999.00, 9,   -999.0,   1.1458, 27.7852,   1.4446, 2, 9, 0.42, 0.13, 0.01, 0.016,  -999.00, 9, -999.00, -999.00, 9, -999.00
49NZ20071122, P14N, 128, 1, 9, X12015, 2, 20071128, 0857, 3.7433, 179.0003, 5504,   4080.6, 2,   1.3611, 2,  34.6945, 2,  34.6949, 6,    167.9, 2,    169.6, 2,   134.03, 2,    34.93, 2,     0.01, 2,     2.42, 2, -999.000, 9, -999.000, 9, -999.000, 9, -999.000, 9,   -999.0, 9,   -999.0, 9, -999.0000,   -999.00,   -999.0, 9,   -999.0,  -999.00, 9,   -999.0,   1.0373, 27.7974,   1.3611, 2, 9, 0.41, 0.13, 0.01, 0.016,  -999.00, 9, -999.00, -999.00, 9, -999.00
49NZ20071122, P14N, 128, 1, 8, X12046, 2, 20071128, 0857, 3.7433, 179.0003, 5504,   4330.5, 2,   1.2795, 2,  34.7003, 2,  34.7004, 2,    179.9, 2,    180.2, 2,   128.94, 2,    34.15, 2,     0.01, 2,     2.36, 2, -999.000, 9, -999.000, 9, -999.000, 9, -999.000, 9,   -999.0, 9,   -999.0, 9, -999.0000,   -999.00,   -999.0, 9,   -999.0,  -999.00, 9,   -999.0,   0.9305, 27.8091,   1.2797, 2, 9, 0.40, 0.13, 0.01, 0.016,  -999.00, 9, -999.00, -999.00, 9, -999.00
49NZ20071122, P14N, 128, 1, 7, X12044, 2, 20071128, 0857, 3.7433, 179.0003, 5504,   4580.3, 2,   1.2588, 2,  34.7028, 2,  34.7026, 2,    185.7, 2,    185.6, 2,   126.23, 2,    33.73, 2,     0.01, 2,     2.33, 2,    0.007, 2,    0.004, 2,    0.000, 2, -999.000, 9,   -999.0, 9,   -999.0, 9, -999.0000,   -999.00,   -999.0, 9,   -999.0,  -999.00, 9,   -999.0,   0.8820, 27.8143,   1.2587, 2, 9, 0.40, 0.13, 0.01, 0.016,  -999.00, 9, -999.00, -999.00, 9, -999.00
49NZ20071122, P14N, 128, 1, 6, X12048, 2, 20071128, 0857, 3.7433, 179.0003, 5504,   4830.5, 2,   1.2660, 2,  34.7040, 2,  34.7039, 2,    188.1, 2,    188.2, 2,   124.78, 2,    33.52, 2,     0.01, 2,     2.32, 2,    0.007, 2,    0.004, 2,    0.000, 2, -999.000, 9,   -999.0, 9,   -999.0, 9, -999.0000,   -999.00,   -999.0, 9,   -999.0,  -999.00, 9,   -999.0,   0.8598, 27.8167,   1.2660, 2, 9, 0.39, 0.13, 0.01, 0.016,  -999.00, 9, -999.00, -999.00, 9, -999.00
49NZ20071122, P14N, 128, 1, 5, X12014, 2, 20071128, 0857, 3.7433, 179.0003, 5504,   5079.9, 2,   1.2841, 2,  34.7046, 2,  34.7045, 2,    190.1, 2,    189.9, 2,   123.83, 2,    33.40, 2,     0.01, 2,     2.31, 2,    0.004, 2,    0.003, 2,    0.000, 2, -999.000, 9,   -999.0, 9,   -999.0, 9, -999.0000,   -999.00,   -999.0, 9,   -999.0,  -999.00, 9,   -999.0,   0.8474, 27.8180,   1.2841, 2, 9, 0.39, 0.13, 0.01, 0.016,  -999.00, 9, -999.00, -999.00, 9, -999.00
49NZ20071122, P14N, 128, 1, 4, X12006, 2, 20071128, 0857, 3.7433, 179.0003, 5504,   5329.7, 2,   1.3070, 2,  34.7051, 2,  34.7048, 2,    191.3, 2,    191.2, 2,   122.99, 2,    33.31, 2,     0.01, 2,     2.31, 2,    0.011, 2,    0.005, 2,    0.000, 2, -999.000, 9,   -999.0, 9,   -999.0, 9, -999.0000,   -999.00,   -999.0, 9,   -999.0,  -999.00, 9,   -999.0,   0.8388, 27.8189,   1.3070, 2, 9, 0.39, 0.13, 0.01, 0.016,  -999.00, 9, -999.00, -999.00, 9, -999.00
49NZ20071122, P14N, 128, 1, 3, X12013, 9, 20071128, 0857, 3.7433, 179.0003, 5504,     10.8, 2,  27.3876, 2,  35.1261, 2, -999.0000, 9,    204.9, 2,   -999.0, 9,  -999.00, 9,  -999.00, 9,  -999.00, 9,  -999.00, 9, -999.000, 9, -999.000, 9, -999.000, 9, -999.000, 9,   -999.0, 9,   -999.0, 9, -999.0000,   -999.00,   -999.0, 9,   -999.0,  -999.00, 9,   -999.0,  27.3851, 22.6892,  27.3938, 2, 9, -999.00, -999.00, -999.00, -999.000,  -999.00, 9, -999.00, -999.00, 9, -999.00
49NZ20071122, P14N, 128, 1, 2, X12002, 9, 20071128, 0857, 3.7433, 179.0003, 5504,     51.2, 2,  27.1271, 2,  35.1580, 2, -999.0000, 9,    197.5, 2,   -999.0, 9,  -999.00, 9,  -999.00, 9,  -999.00, 9,  -999.00, 9, -999.000, 9, -999.000, 9, -999.000, 9, -999.000, 9,   -999.0, 9,   -999.0, 9, -999.0000,   -999.00,   -999.0, 9,   -999.0,  -999.00, 9,   -999.0,  27.1153, 22.7999,  27.1285, 2, 9, -999.00, -999.00, -999.00, -999.000,  -999.00, 9, -999.00, -999.00, 9, -999.00
49NZ20071122, P14N, 128, 1, 1, X12001, 2, 20071128, 0857, 3.7433, 179.0003, 5504,   5586.2, 2,   1.3379, 2,  34.7050, 2,  34.7049, 6,    191.8, 2,    191.6, 2,   122.73, 2,    33.33, 2,     0.01, 2,     2.31, 2,    0.000, 2,    0.000, 2,    0.000, 2, -999.000, 9,   -999.0, 9,   -999.0, 9, -999.0000,   -999.00,   -999.0, 9,   -999.0,  -999.00, 9,   -999.0,   0.8362, 27.8190,   1.3379, 2, 9, 0.39, 0.13, 0.01, 0.016,  -999.00, 9, -999.00, -999.00, 9, -999.00