BOTTLE,20220820CCHSIOAMB
EXPOCODE,SECT_ID,STNNBR,CASTNO,SAMPNO,BTLNBR,BTLNBR_FLAG_W,DATE,TIME,LATITUDE,LONGITUDE,DEPTH,CTDPRS,CTDPRS_FLAG_W,CTDTMP,CTDTMP_FLAG_W,CTDSAL,CTDSAL_FLAG_W,SALNTY,SALNTY_FLAG_W,CTDOXY,CTDOXY_FLAG_W,OXYGEN,OXYGEN_FLAG_W,SILCAT,SILCAT_FLAG_W,NITRAT,NITRAT_FLAG_W,NITRIT,NITRIT_FLAG_W,PHSPHT,PHSPHT_FLAG_W,CFC-11,CFC-11_FLAG_W,CFC-12,CFC-12_FLAG_W,CFC113,CFC113_FLAG_W,CCL4,CCL4_FLAG_W,TCARBN,TCARBN_FLAG_W,ALKALI,ALKALI_FLAG_W,PH_TOT,PH_TMP,DELC14,DELC14_FLAG_W,C14ERR,DELC13,DELC13_FLAG_W,C13ERR,THETA,SIG0,SBE35,SBE35_FLAG_W,PH_TOT_FLAG_W,SILUNC,NRAUNC,NRIUNC,PHPUNC,CS-137,CS-137_FLAG_W,CS137ER,PLUTO,PLUTO_FLAG_W,PLUTOER
,,,,,,,,,,,METERS,DBAR,,ITS-90,,PSS-78,,PSS-78,,UMOL/KG,,UMOL/KG,,UMOL/KG,,UMOL/KG,,UMOL/KG,,UMOL/KG,,PMOL/KG,,PMOL/KG,,PMOL/KG,,PMOL/KG,,UMOL/KG,,UMOL/KG,,,DEG C,/MILLE,,/MILLE,/MILLE,,/MILLE,DEG C,KG/M^3,ITS-90,,,UMOL/KG,UMOL/KG,UMOL/KG,UMOL/KG,DM/.1MG,,BQ/M^3,MBQ/M^3,,MBQ/M^3
49NZ20071122, P14N, 175, 1, 36, X12042, 2, 20071210, 1245, -11.0035, 178.9993, 3116,     10.2, 2,  29.1048, 2,  34.8860, 2,  34.8944, 2,    193.4, 2,    194.3, 2,     0.72, 2,     0.06, 2,     0.01, 2,     0.18, 2,    1.444, 2,    0.892, 2,    0.205, 4, -999.000, 9,   1937.2, 2,   2297.0, 2,    8.1455,     25.00,   -999.0, 9,   -999.0,  -999.00, 9,   -999.0,  29.1023, 21.9442,  29.1043, 2, 6, 0.12, 0.03, 0.01, 0.017,  -999.00, 9, -999.00, -999.00, 9, -999.00
49NZ20071122, P14N, 175, 1, 35, X12041, 2, 20071210, 1245, -11.0035, 178.9993, 3116,     49.7, 2,  29.2589, 2,  35.1947, 2,  35.2076, 2,    194.6, 2,    195.4, 2,     0.68, 2,     0.05, 2,     0.01, 2,     0.19, 2,    1.435, 2,    0.882, 2,    0.287, 4, -999.000, 9,   1955.5, 6,   2319.8, 2,    8.1448,     25.00,   -999.0, 9,   -999.0,  -999.00, 9,   -999.0,  29.2468, 22.1275,  29.2586, 2, 2, 0.12, 0.03, 0.01, 0.016,  -999.00, 9, -999.00, -999.00, 9, -999.00
49NZ20071122, P14N, 175, 1, 34, X12016, 2, 20071210, 1245, -11.0035, 178.9993, 3116,    100.9, 2,  27.9299, 2,  35.9669, 2,  35.9780, 2,    170.4, 2,    169.4, 2,     0.97, 2,     1.27, 2,     0.25, 2,     0.39, 2,    1.598, 2,    0.973, 2,    0.544, 4, -999.000, 9,   2044.5, 2,   2368.9, 6,    8.0672,     25.00,   -999.0, 9,   -999.0,  -999.00, 9,   -999.0,  27.9061, 23.1528,  27.9278, 2, 2, 0.12, 0.04, 0.01, 0.013,  -999.00, 9, -999.00, -999.00, 9, -999.00
49NZ20071122, P14N, 175, 1, 33, X12033, 2, 20071210, 1245, -11.0035, 178.9993, 3116,    150.7, 2,  25.2390, 2,  36.2524, 2,  36.2498, 2,    144.3, 2,    144.3, 2,     1.11, 2,     5.02, 2,     0.20, 2,     0.62, 2,    1.777, 6,    1.051, 6,    0.140, 4, -999.000, 9,   2097.5, 2,   2383.7, 2,    8.0000,     25.00,   -999.0, 9,   -999.0,  -999.00, 9,   -999.0,  25.2059, 24.2250,  25.2515, 2, 2, 0.12, 0.05, 0.01, 0.013,  -999.00, 9, -999.00, -999.00, 9, -999.00
49NZ20071122, P14N, 175, 1, 32, X12038, 2, 20071210, 1245, -11.0035, 178.9993, 3116,    199.3, 2,  22.4257, 2,  36.0540, 2,  36.0394, 2,    145.0, 2,    145.3, 2,     1.36, 2,     6.55, 2,     0.02, 2,     0.71, 2,    1.981, 2,    1.144, 2,    0.069, 2, -999.000, 9,   2116.0, 2,   2372.9, 2,    7.9509,     25.00,   -999.0, 9,   -999.0,  -999.00, 9,   -999.0,  22.3855, 24.9097,  22.4462, 2, 2, 0.12, 0.05, 0.01, 0.013,  -999.00, 9, -999.00, -999.00, 9, -999.00
49NZ20071122, P14N, 175, 1, 31, X12003, 2, 20071210, 1245, -11.0035, 178.9993, 3116,    249.0, 2,  17.6917, 2,  35.4576, 2,  35.4432, 6,    130.3, 2,    130.0, 2,     4.36, 2,    11.79, 2,     0.01, 2,     1.08, 2,    1.982, 2,    1.079, 2,    0.027, 2, -999.000, 9,   2137.6, 2,   2336.0, 2,    7.8443,     25.00,   -999.0, 9,   -999.0,  -999.00, 9,   -999.0,  17.6493, 25.7089,  17.6970, 2, 2, 0.13, 0.07, 0.01, 0.013,  -999.00, 9, -999.00, -999.00, 9, -999.00
49NZ20071122, P14N, 175, 1, 30, X12008, 2, 20071210, 1245, -11.0035, 178.9993, 3116,    300.8, 2,  14.1718, 2,  35.0631, 2,  35.0545, 2,    115.2, 2,    114.4, 2,     9.17, 2,    17.60, 2,     0.01, 2,     1.47, 2,    1.563, 2,    0.826, 2,    0.025, 2, -999.000, 9,   2164.2, 2,   2315.0, 2,    7.7470,     25.00,   -999.0, 9,   -999.0,  -999.00, 9,   -999.0,  14.1278, 26.2089,  14.1697, 2, 2, 0.14, 0.08, 0.01, 0.014,  -999.00, 9, -999.00, -999.00, 9, -999.00
49NZ20071122, P14N, 175, 1, 29, X12035, 2, 20071210, 1245, -11.0035, 178.9993, 3116,    400.3, 2,  10.1202, 2,  34.7140, 2,  34.7080, 2,    118.0, 2,    119.0, 2,    17.84, 2,    25.48, 2,     0.01, 2,     1.90, 2,    0.808, 2,    0.417, 2,    0.010, 2, -999.000, 9,   2190.0, 2,   2298.1, 2,    7.6564,     25.00,   -999.0, 9,   -999.0,  -999.00, 9,   -999.0,  10.0731, 26.7161,  10.1209, 2, 2, 0.16, 0.10, 0.01, 0.015,  -999.00, 9, -999.00, -999.00, 9, -999.00
49NZ20071122, P14N, 175, 1, 28, X12034, 2, 20071210, 1245, -11.0035, 178.9993, 3116,    499.6, 2,   7.8973, 2,  34.5842, 2,  34.5795, 6,    126.9, 2,    127.7, 2,    26.76, 2,    29.97, 2,     0.01, 2,     2.12, 2,    0.632, 4,    0.814, 4,    0.077, 4, -999.000, 9,   2206.4, 2,   2305.3, 2,    7.6179,     25.00,   -999.0, 9,   -999.0,  -999.00, 9,   -999.0,   7.8464, 26.9701,   7.8995, 2, 2, 0.18, 0.12, 0.01, 0.015,  -999.00, 9, -999.00, -999.00, 9, -999.00
49NZ20071122, P14N, 175, 1, 27, X12049, 2, 20071210, 1245, -11.0035, 178.9993, 3116,    601.0, 2,   6.4571, 2,  34.5185, 2,  34.5162, 2,    131.7, 2,    132.1, 2,    36.12, 2,    32.43, 2,     0.01, 2,     2.29, 2,    0.215, 2,    0.113, 2,    0.007, 2, -999.000, 9,   2219.2, 2,   2311.0, 2,    7.5966,     25.00,   -999.0, 9,   -999.0,  -999.00, 9,   -999.0,   6.4021, 27.1201,   6.4573, 2, 2, 0.20, 0.12, 0.01, 0.016,  -999.00, 9, -999.00, -999.00, 9, -999.00
49NZ20071122, P14N, 175, 1, 26, X12032, 2, 20071210, 1245, -11.0035, 178.9993, 3116,    700.6, 2,   5.7760, 2,  34.4983, 2,  34.4969, 2,    132.1, 2,    135.2, 2,    42.83, 2,    33.49, 2,     0.01, 2,     2.36, 2,    0.154, 6,    0.085, 6,    0.004, 6, -999.000, 9,   2227.5, 6,   2317.4, 2,    7.5892,     25.00,   -999.0, 9,   -999.0,  -999.00, 9,   -999.0,   5.7150, 27.1920,   5.7763, 2, 2, 0.21, 0.13, 0.01, 0.016,  -999.00, 9, -999.00, -999.00, 9, -999.00
49NZ20071122, P14N, 175, 1, 25, X12043, 2, 20071210, 1245, -11.0035, 178.9993, 3116,    801.4, 2,   5.4195, 2,  34.5174, 2,  34.5165, 2,    113.8, 2,    115.8, 2,    52.88, 2,    36.53, 2,     0.01, 2,     2.58, 2,    0.025, 2,    0.016, 2,    0.000, 2, -999.000, 9,   2251.2, 2,   2326.3, 6,    7.5455,     25.00,   -999.0, 9,   -999.0,  -999.00, 9,   -999.0,   5.3513, 27.2514,   5.4204, 2, 2, 0.24, 0.14, 0.01, 0.016,  -999.00, 9, -999.00, -999.00, 9, -999.00
49NZ20071122, P14N, 175, 1, 24, X12030, 2, 20071210, 1245, -11.0035, 178.9993, 3116,    901.0, 2,   4.8671, 2,  34.5181, 2,  34.5173, 2,    114.5, 2,    114.3, 2,    60.94, 2,    36.88, 2,     0.01, 2,     2.61, 2,    0.014, 2,    0.008, 2,    0.000, 2, -999.000, 9,   2261.5, 2,   2334.1, 2,    7.5444,     25.00,   -999.0, 9,   -999.0,  -999.00, 9,   -999.0,   4.7936, 27.3168,   4.8673, 2, 6, 0.25, 0.14, 0.01, 0.016,  -999.00, 9, -999.00, -999.00, 9, -999.00
49NZ20071122, P14N, 175, 1, 23, X12027, 2, 20071210, 1245, -11.0035, 178.9993, 3116,   1000.2, 2,   4.4141, 2,  34.5296, 2,  34.5296, 6,    114.2, 2,    113.7, 2,    70.20, 2,    37.41, 2,     0.01, 2,     2.65, 2,    0.001, 2,    0.000, 2,    0.000, 2, -999.000, 9,   2271.5, 2,   2345.4, 2,    7.5400,     25.00,   -999.0, 9,   -999.0,  -999.00, 9,   -999.0,   4.3352, 27.3765,   4.4148, 2, 2, 0.27, 0.14, 0.01, 0.017,  -999.00, 9, -999.00, -999.00, 9, -999.00
49NZ20071122, P14N, 175, 1, 22, X12028, 2, 20071210, 1245, -11.0035, 178.9993, 3116,   1200.1, 2,   3.6780, 2,  34.5562, 2,  34.5564, 2,    119.8, 2,    119.9, 2,    85.69, 2,    37.24, 2,     0.01, 2,     2.65, 2,    0.000, 2,    0.000, 2,    0.000, 2, -999.000, 9,   2288.0, 2,   2362.7, 2,    7.5470,     25.00,   -999.0, 9,   -999.0,  -999.00, 9,   -999.0,   3.5883, 27.4748,   3.6777, 2, 2, 0.31, 0.14, 0.01, 0.017,  -999.00, 9, -999.00, -999.00, 9, -999.00
49NZ20071122, P14N, 175, 1, 21, X12009, 2, 20071210, 1245, -11.0035, 178.9993, 3116,   1401.7, 2,   3.2253, 2,  34.5769, 2,  34.5765, 2,    123.8, 2,    124.1, 2,    95.92, 2,    37.32, 2,     0.01, 2,     2.65, 2,    0.000, 2,    0.000, 2,    0.000, 2, -999.000, 9,   2297.5, 2,   2372.3, 2,    7.5514,     25.00,   -999.0, 9,   -999.0,  -999.00, 9,   -999.0,   3.1232, 27.5359,   3.2254, 2, 2, 0.33, 0.14, 0.01, 0.017,  -999.00, 9, -999.00, -999.00, 9, -999.00
49NZ20071122, P14N, 175, 1, 20, X12026, 2, 20071210, 1245, -11.0035, 178.9993, 3116,   1601.9, 2,   2.7803, 2,  34.5933, 2,  34.5929, 2,    137.0, 2,    137.2, 2,   101.82, 2,    36.49, 2,     0.01, 2,     2.58, 2,    0.000, 2,    0.000, 2,    0.000, 2, -999.000, 9,   2295.9, 2,   2380.5, 2,    7.5700,     25.00,   -999.0, 9,   -999.0,  -999.00, 9,   -999.0,   2.6665, 27.5903,   2.7803, 2, 6, 0.34, 0.13, 0.01, 0.016,  -999.00, 9, -999.00, -999.00, 9, -999.00
49NZ20071122, P14N, 175, 1, 19, X12025, 2, 20071210, 1245, -11.0035, 178.9993, 3116,   1800.9, 2,   2.4746, 2,  34.6137, 2,  34.6130, 2,    139.7, 2,    140.1, 2,   109.54, 2,    36.49, 2,     0.01, 2,     2.57, 2,    0.000, 2,    0.001, 2,    0.000, 2, -999.000, 9,   2302.9, 2,   2389.4, 2,    7.5746,     25.00,   -999.0, 9,   -999.0,  -999.00, 9,   -999.0,   2.3481, 27.6339,   2.4747, 2, 2, 0.36, 0.13, 0.01, 0.016,  -999.00, 9, -999.00, -999.00, 9, -999.00
49NZ20071122, P14N, 175, 1, 18, X12024, 2, 20071210, 1245, -11.0035, 178.9993, 3116,   1997.0, 2,   2.2677, 2,  34.6300, 2,  34.6298, 2,    140.0, 2,    140.5, 2,   116.16, 2,    36.58, 2,     0.01, 2,     2.58, 2,    0.000, 2,    0.000, 2,    0.000, 2, -999.000, 9,   2311.1, 2,   2396.1, 2,    7.5763,     25.00,   -999.0, 9,   -999.0,  -999.00, 9,   -999.0,   2.1275, 27.6650,   2.2673, 2, 2, 0.37, 0.14, 0.01, 0.016,  -999.00, 9, -999.00, -999.00, 9, -999.00
49NZ20071122, P14N, 175, 1, 17, X12023, 2, 20071210, 1245, -11.0035, 178.9993, 3116,   2199.3, 2,   2.1222, 2,  34.6411, 2,  34.6410, 6,    141.6, 2,    141.7, 2,   120.78, 2,    36.46, 2,     0.01, 2,     2.57, 2,    0.000, 2,    0.000, 2,    0.000, 2, -999.000, 9,   2314.7, 2,   2401.4, 2,    7.5790,     25.00,   -999.0, 9,   -999.0,  -999.00, 9,   -999.0,   1.9667, 27.6868,   2.1222, 2, 2, 0.38, 0.13, 0.01, 0.016,  -999.00, 9, -999.00, -999.00, 9, -999.00
49NZ20071122, P14N, 175, 1, 16, X12022, 2, 20071210, 1245, -11.0035, 178.9993, 3116,   2400.2, 2,   1.9698, 2,  34.6524, 2,  34.6522, 2,    142.7, 2,    143.3, 2,   124.95, 2,    36.39, 2,     0.01, 2,     2.57, 2,    0.000, 2,    0.000, 2,    0.000, 2, -999.000, 9,   2317.2, 6,   2404.6, 2,    7.5813,     25.00,   -999.0, 9,   -999.0,  -999.00, 9,   -999.0,   1.7991, 27.7089,   1.9697, 2, 2, 0.39, 0.13, 0.01, 0.016,  -999.00, 9, -999.00, -999.00, 9, -999.00
49NZ20071122, P14N, 175, 1, 15, X12021, 2, 20071210, 1245, -11.0035, 178.9993, 3116,   2601.3, 2,   1.8622, 2,  34.6599, 2,  34.6595, 2,    145.1, 2,    145.2, 2,   128.10, 2,    36.24, 2,     0.01, 2,     2.56, 2,    0.000, 2,    0.000, 2,    0.000, 2, -999.000, 9,   2316.8, 2,   2408.0, 6,    7.5832,     25.00,   -999.0, 9,   -999.0,  -999.00, 9,   -999.0,   1.6752, 27.7243,   1.8622, 2, 2, 0.40, 0.13, 0.01, 0.016,  -999.00, 9, -999.00, -999.00, 9, -999.00
49NZ20071122, P14N, 175, 1, 14, X12020, 2, 20071210, 1245, -11.0035, 178.9993, 3116,   2800.1, 2,   1.7256, 2,  34.6684, 2,  34.6682, 2,    145.1, 2,    145.2, 2,   132.97, 2,    36.43, 2,     0.01, 2,     2.56, 2,    0.000, 2,    0.000, 2,    0.000, 2, -999.000, 9,   2323.6, 2,   2412.3, 2,    7.5837,     25.00,   -999.0, 9,   -999.0,  -999.00, 9,   -999.0,   1.5229, 27.7424,   1.7256, 2, 6, 0.41, 0.13, 0.01, 0.016,  -999.00, 9, -999.00, -999.00, 9, -999.00
49NZ20071122, P14N, 175, 1, 13, X12019, 2, 20071210, 1245, -11.0035, 178.9993, 3116,   3002.4, 2,   1.6586, 2,  34.6732, 2,  34.6730, 6,    146.8, 2,    147.2, 2,   134.55, 2,    36.45, 2,     0.01, 2,     2.56, 2,    0.000, 2,    0.000, 2,    0.000, 2, -999.000, 9,   2325.1, 2,   2413.6, 2,    7.5860,     25.00,   -999.0, 9,   -999.0,  -999.00, 9,   -999.0,   1.4381, 27.7524,   1.6585, 2, 2, 0.42, 0.13, 0.01, 0.016,  -999.00, 9, -999.00, -999.00, 9, -999.00
49NZ20071122, P14N, 175, 1, 12, X12040, 9, 20071210, 1245, -11.0035, 178.9993, 3116,     10.3, 2,  29.1036, 2,  34.8890, 2, -999.0000, 9,    193.4, 2,   -999.0, 9,  -999.00, 9,  -999.00, 9,  -999.00, 9,  -999.00, 9, -999.000, 9, -999.000, 9, -999.000, 9, -999.000, 9,   -999.0, 9,   -999.0, 9, -999.0000,   -999.00,   -999.0, 9,   -999.0,  -999.00, 9,   -999.0,  29.1011, 21.9469,  29.1023, 2, 9, -999.00, -999.00, -999.00, -999.000,  -999.00, 9, -999.00, -999.00, 9, -999.00
49NZ20071122, P14N, 175, 1, 11, X12047, 9, 20071210, 1245, -11.0035, 178.9993, 3116,     50.0, 2,  29.2642, 2,  35.1858, 2, -999.0000, 9,    195.0, 2,   -999.0, 9,  -999.00, 9,  -999.00, 9,  -999.00, 9,  -999.00, 9, -999.000, 9, -999.000, 9, -999.000, 9, -999.000, 9,   -999.0, 9,   -999.0, 9, -999.0000,   -999.00,   -999.0, 9,   -999.0,  -999.00, 9,   -999.0,  29.2520, 22.1190,  29.2624, 2, 9, -999.00, -999.00, -999.00, -999.000,  -999.00, 9, -999.00, -999.00, 9, -999.00
49NZ20071122, P14N, 175, 1, 10, X12012, 9, 20071210, 1245, -11.0035, 178.9993, 3116,    100.8, 2,  27.9356, 2,  35.9658, 2, -999.0000, 9,    170.5, 2,   -999.0, 9,  -999.00, 9,  -999.00, 9,  -999.00, 9,  -999.00, 9, -999.000, 9, -999.000, 9, -999.000, 9, -999.000, 9,   -999.0, 9,   -999.0, 9, -999.0000,   -999.00,   -999.0, 9,   -999.0,  -999.00, 9,   -999.0,  27.9118, 23.1501,  27.9339, 2, 9, -999.00, -999.00, -999.00, -999.000,  -999.00, 9, -999.00, -999.00, 9, -999.00
49NZ20071122, P14N, 175, 1, 9, X12015, 9, 20071210, 1245, -11.0035, 178.9993, 3116,    150.1, 2,  25.2147, 2,  36.2505, 2, -999.0000, 9,    144.5, 2,   -999.0, 9,  -999.00, 9,  -999.00, 9,  -999.00, 9,  -999.00, 9, -999.000, 9, -999.000, 9, -999.000, 9, -999.000, 9,   -999.0, 9,   -999.0, 9, -999.0000,   -999.00,   -999.0, 9,   -999.0,  -999.00, 9,   -999.0,  25.1818, 24.2309,  25.2000, 2, 9, -999.00, -999.00, -999.00, -999.000,  -999.00, 9, -999.00, -999.00, 9, -999.00
49NZ20071122, P14N, 175, 1, 8, X12046, 9, 20071210, 1245, -11.0035, 178.9993, 3116,    199.3, 2,  22.4795, 2,  36.0579, 2, -999.0000, 9,    145.9, 2,   -999.0, 9,  -999.00, 9,  -999.00, 9,  -999.00, 9,  -999.00, 9, -999.000, 9, -999.000, 9, -999.000, 9, -999.000, 9,   -999.0, 9,   -999.0, 9, -999.0000,   -999.00,   -999.0, 9,   -999.0,  -999.00, 9,   -999.0,  22.4392, 24.8974,  22.4894, 2, 9, -999.00, -999.00, -999.00, -999.000,  -999.00, 9, -999.00, -999.00, 9, -999.00
49NZ20071122, P14N, 175, 1, 7, X12044, 9, 20071210, 1245, -11.0035, 178.9993, 3116,    249.1, 2,  17.6992, 2,  35.4567, 2, -999.0000, 9,    130.3, 2,   -999.0, 9,  -999.00, 9,  -999.00, 9,  -999.00, 9,  -999.00, 9, -999.000, 9, -999.000, 9, -999.000, 9, -999.000, 9,   -999.0, 9,   -999.0, 9, -999.0000,   -999.00,   -999.0, 9,   -999.0,  -999.00, 9,   -999.0,  17.6567, 25.7063,  17.6984, 2, 9, -999.00, -999.00, -999.00, -999.000,  -999.00, 9, -999.00, -999.00, 9, -999.00
49NZ20071122, P14N, 175, 1, 6, X12048, 9, 20071210, 1245, -11.0035, 178.9993, 3116,    300.5, 2,  14.1789, 2,  35.0627, 2, -999.0000, 9,    115.2, 2,   -999.0, 9,  -999.00, 9,  -999.00, 9,  -999.00, 9,  -999.00, 9, -999.000, 9, -999.000, 9, -999.000, 9, -999.000, 9,   -999.0, 9,   -999.0, 9, -999.0000,   -999.00,   -999.0, 9,   -999.0,  -999.00, 9,   -999.0,  14.1349, 26.2071,  14.1804, 2, 9, -999.00, -999.00, -999.00, -999.000,  -999.00, 9, -999.00, -999.00, 9, -999.00
49NZ20071122, P14N, 175, 1, 5, X12014, 9, 20071210, 1245, -11.0035, 178.9993, 3116,    400.2, 2,  10.1197, 2,  34.7119, 2, -999.0000, 9,    118.0, 2,   -999.0, 9,  -999.00, 9,  -999.00, 9,  -999.00, 9,  -999.00, 9, -999.000, 9, -999.000, 9, -999.000, 9, -999.000, 9,   -999.0, 9,   -999.0, 9, -999.0000,   -999.00,   -999.0, 9,   -999.0,  -999.00, 9,   -999.0,  10.0726, 26.7146,  10.1177, 2, 9, -999.00, -999.00, -999.00, -999.000,  -999.00, 9, -999.00, -999.00, 9, -999.00
49NZ20071122, P14N, 175, 1, 4, X12006, 9, 20071210, 1245, -11.0035, 178.9993, 3116,    499.8, 2,   7.8831, 2,  34.5836, 2, -999.0000, 9,    126.8, 2,   -999.0, 9,  -999.00, 9,  -999.00, 9,  -999.00, 9,  -999.00, 9, -999.000, 9, -999.000, 9, -999.000, 9, -999.000, 9,   -999.0, 9,   -999.0, 9, -999.0000,   -999.00,   -999.0, 9,   -999.0,  -999.00, 9,   -999.0,   7.8323, 26.9717,   7.8825, 2, 9, -999.00, -999.00, -999.00, -999.000,  -999.00, 9, -999.00, -999.00, 9, -999.00
49NZ20071122, P14N, 175, 1, 3, X12013, 9, 20071210, 1245, -11.0035, 178.9993, 3116,    599.4, 2,   6.4640, 2,  34.5181, 2, -999.0000, 9,    131.0, 2,   -999.0, 9,  -999.00, 9,  -999.00, 9,  -999.00, 9,  -999.00, 9, -999.000, 9, -999.000, 9, -999.000, 9, -999.000, 9,   -999.0, 9,   -999.0, 9, -999.0000,   -999.00,   -999.0, 9,   -999.0,  -999.00, 9,   -999.0,   6.4091, 27.1189,   6.4644, 2, 9, -999.00, -999.00, -999.00, -999.000,  -999.00, 9, -999.00, -999.00, 9, -999.00
49NZ20071122, P14N, 175, 1, 2, X12002, 9, 20071210, 1245, -11.0035, 178.9993, 3116,    699.5, 2,   5.7682, 2,  34.4978, 2, -999.0000, 9,    132.5, 2,   -999.0, 9,  -999.00, 9,  -999.00, 9,  -999.00, 9,  -999.00, 9, -999.000, 9, -999.000, 9, -999.000, 9, -999.000, 9,   -999.0, 9,   -999.0, 9, -999.0000,   -999.00,   -999.0, 9,   -999.0,  -999.00, 9,   -999.0,   5.7073, 27.1925,   5.7677, 2, 9, -999.00, -999.00, -999.00, -999.000,  -999.00, 9, -999.00, -999.00, 9, -999.00
49NZ20071122, P14N, 175, 1, 1, X12001, 2, 20071210, 1245, -11.0035, 178.9993, 3116,   3132.5, 2,   1.6033, 2,  34.6770, 2,  34.6766, 6,    149.9, 2,    150.0, 2,   134.51, 2,    36.26, 2,     0.01, 2,     2.54, 2,    0.000, 2,    0.000, 2,    0.000, 2, -999.000, 9,   2321.3, 2,   2412.0, 2,    7.5893,     25.00,   -999.0, 9,   -999.0,  -999.00, 9,   -999.0,   1.3714, 27.7602,   1.6031, 2, 2, 0.41, 0.13, 0.01, 0.016,  -999.00, 9, -999.00, -999.00, 9, -999.00