BOTTLE,20220820CCHSIOAMB
EXPOCODE,SECT_ID,STNNBR,CASTNO,SAMPNO,BTLNBR,BTLNBR_FLAG_W,DATE,TIME,LATITUDE,LONGITUDE,DEPTH,CTDPRS,CTDPRS_FLAG_W,CTDTMP,CTDTMP_FLAG_W,CTDSAL,CTDSAL_FLAG_W,SALNTY,SALNTY_FLAG_W,CTDOXY,CTDOXY_FLAG_W,OXYGEN,OXYGEN_FLAG_W,SILCAT,SILCAT_FLAG_W,NITRAT,NITRAT_FLAG_W,NITRIT,NITRIT_FLAG_W,PHSPHT,PHSPHT_FLAG_W,CFC-11,CFC-11_FLAG_W,CFC-12,CFC-12_FLAG_W,CFC113,CFC113_FLAG_W,CCL4,CCL4_FLAG_W,TCARBN,TCARBN_FLAG_W,ALKALI,ALKALI_FLAG_W,PH_TOT,PH_TMP,DELC14,DELC14_FLAG_W,C14ERR,DELC13,DELC13_FLAG_W,C13ERR,THETA,SIG0,SBE35,SBE35_FLAG_W,PH_TOT_FLAG_W,SILUNC,NRAUNC,NRIUNC,PHPUNC,CS-137,CS-137_FLAG_W,CS137ER,PLUTO,PLUTO_FLAG_W,PLUTOER
,,,,,,,,,,,METERS,DBAR,,ITS-90,,PSS-78,,PSS-78,,UMOL/KG,,UMOL/KG,,UMOL/KG,,UMOL/KG,,UMOL/KG,,UMOL/KG,,PMOL/KG,,PMOL/KG,,PMOL/KG,,PMOL/KG,,UMOL/KG,,UMOL/KG,,,DEG C,/MILLE,,/MILLE,/MILLE,,/MILLE,DEG C,KG/M^3,ITS-90,,,UMOL/KG,UMOL/KG,UMOL/KG,UMOL/KG,DM/.1MG,,BQ/M^3,MBQ/M^3,,MBQ/M^3
49NZ20071122, P14N, 121, 1, 36, X12042, 2, 20071126, 1619, 5.4915, 178.9988, 5742,      9.5, 2,  28.2552, 2,  34.8049, 2,  34.8049, 2,    196.9, 2,    196.4, 2,     1.24, 2,     0.37, 2,     0.05, 2,     0.23, 2,    1.467, 2,    0.912, 2,    0.168, 4, -999.000, 9,   1960.2, 2,   2288.8, 2,    8.1049,     25.00,   -999.0, 9,   -999.0,  -999.00, 9,   -999.0,  28.2529, 22.1651,  28.2531, 2, 2, 0.12, 0.03, 0.01, 0.015,  -999.00, 9, -999.00, -999.00, 9, -999.00
49NZ20071122, P14N, 121, 1, 35, X12041, 2, 20071126, 1619, 5.4915, 178.9988, 5742,     50.0, 2,  28.3171, 2,  34.8426, 2,  34.8522, 2,    195.5, 2,    195.9, 2,     1.24, 2,     0.31, 2,     0.05, 2,     0.23, 2,    1.477, 2,    0.928, 2,    0.175, 4, -999.000, 9,   1961.5, 6,   2291.5, 2,    8.1036,     25.00,   -999.0, 9,   -999.0,  -999.00, 9,   -999.0,  28.3052, 22.1762,  28.3159, 2, 2, 0.12, 0.03, 0.01, 0.015,  -999.00, 9, -999.00, -999.00, 9, -999.00
49NZ20071122, P14N, 121, 1, 34, X12016, 2, 20071126, 1619, 5.4915, 178.9988, 5742,    100.6, 2,  28.2278, 2,  35.0381, 2,  35.0340, 2,    188.1, 2,    191.5, 2,     1.40, 2,     0.89, 2,     0.21, 2,     0.31, 2,    1.496, 2,    0.929, 2,    0.181, 4, -999.000, 9,   1982.3, 2,   2303.8, 6,    8.0845,     25.00,   -999.0, 9,   -999.0,  -999.00, 9,   -999.0,  28.2039, 22.3565,  28.2256, 2, 2, 0.12, 0.04, 0.01, 0.014,  -999.00, 9, -999.00, -999.00, 9, -999.00
49NZ20071122, P14N, 121, 1, 33, X12033, 2, 20071126, 1619, 5.4915, 178.9988, 5742,    150.4, 2,  26.8430, 2,  35.1102, 2,  35.1096, 2,    168.4, 2,    170.7, 2,     2.41, 2,     4.04, 2,     0.50, 2,     0.49, 2,    1.607, 6,    0.990, 6,    0.143, 4, -999.000, 9,   2019.4, 2,   2307.2, 2,    8.0276,     25.00,   -999.0, 9,   -999.0,  -999.00, 9,   -999.0,  26.8086, 22.8618,  26.8384, 2, 6, 0.12, 0.04, 0.00, 0.013,  -999.00, 9, -999.00, -999.00, 9, -999.00
49NZ20071122, P14N, 121, 1, 32, X12038, 2, 20071126, 1619, 5.4915, 178.9988, 5742,    198.9, 2,  18.9979, 2,  34.7184, 2,  34.7165, 2,    148.3, 2,    144.0, 2,     2.42, 2,     4.05, 2,     0.50, 2,     0.49, 2,    2.110, 2,    1.207, 2,    0.118, 2, -999.000, 9,   2083.6, 2,   2286.5, 2,    7.8727,     25.00,   -999.0, 9,   -999.0,  -999.00, 9,   -999.0,  18.9625, 24.8155,  18.9683, 2, 2, 0.12, 0.04, 0.00, 0.013,  -999.00, 9, -999.00, -999.00, 9, -999.00
49NZ20071122, P14N, 121, 1, 31, X12003, 2, 20071126, 1619, 5.4915, 178.9988, 5742,    248.6, 2,  12.4975, 2,  34.5605, 2,  34.5622, 6,     68.5, 2,     70.3, 2,    23.51, 2,    25.80, 2,     0.01, 2,     1.92, 2,    1.346, 2,    0.718, 2,    0.024, 2, -999.000, 9,   2195.8, 2,   2288.2, 2,    7.6089,     25.00,   -999.0, 9,   -999.0,  -999.00, 9,   -999.0,  12.4643, 26.1582,  12.5023, 2, 2, 0.17, 0.11, 0.01, 0.015,  -999.00, 9, -999.00, -999.00, 9, -999.00
49NZ20071122, P14N, 121, 1, 30, X12008, 2, 20071126, 1619, 5.4915, 178.9988, 5742,    302.1, 2,  10.2957, 2,  34.5943, 2,  34.5909, 2,     80.1, 2,     72.2, 2,    31.42, 2,    29.56, 2,     0.01, 2,     2.15, 2,    0.839, 2,    0.444, 2,    0.015, 2, -999.000, 9,   2216.3, 2,   2300.7, 2,    7.5765,     25.00,   -999.0, 9,   -999.0,  -999.00, 9,   -999.0,  10.2600, 26.5905,  10.2956, 2, 2, 0.19, 0.12, 0.01, 0.015,  -999.00, 9, -999.00, -999.00, 9, -999.00
49NZ20071122, P14N, 121, 1, 29, X12035, 2, 20071126, 1619, 5.4915, 178.9988, 5742,    399.9, 2,   9.0875, 2,  34.6332, 2,  34.6329, 2,     58.9, 2,     60.3, 2,    34.50, 2,    33.42, 2,     0.01, 2,     2.38, 2,    0.383, 2,    0.207, 2,    0.015, 2, -999.000, 9,   2242.7, 2,   2306.7, 2,    7.5294,     25.00,   -999.0, 9,   -999.0,  -999.00, 9,   -999.0,   9.0435, 26.8239,   9.0874, 2, 2, 0.19, 0.13, 0.01, 0.016,  -999.00, 9, -999.00, -999.00, 9, -999.00
49NZ20071122, P14N, 121, 1, 28, X12034, 2, 20071126, 1619, 5.4915, 178.9988, 5742,    500.3, 2,   8.2860, 2,  34.6063, 2,  34.6058, 6,     49.9, 2,     70.6, 2,    37.51, 2,    34.15, 2,     0.01, 2,     2.43, 2,    0.283, 2,    0.150, 2,    0.007, 2, -999.000, 9,   2243.4, 2,   2311.2, 2,    7.5327,     25.00,   -999.0, 9,   -999.0,  -999.00, 9,   -999.0,   8.2336, 26.9295,   8.2860, 2, 2, 0.20, 0.13, 0.01, 0.016,  -999.00, 9, -999.00, -999.00, 9, -999.00
49NZ20071122, P14N, 121, 1, 27, X12049, 2, 20071126, 1619, 5.4915, 178.9988, 5742,    600.4, 2,   7.4653, 2,  34.5767, 2,  34.5760, 2,     52.7, 2,     66.8, 2,    44.13, 2,    36.20, 2,     0.00, 2,     2.60, 2,    0.156, 2,    0.083, 2,    0.004, 2, -999.000, 9,   2257.5, 2,   2315.8, 2,    7.5100,     25.00,   -999.0, 9,   -999.0,  -999.00, 9,   -999.0,   7.4057, 27.0283,   7.4657, 2, 2, 0.22, 0.13, 0.01, 0.016,  -999.00, 9, -999.00, -999.00, 9, -999.00
49NZ20071122, P14N, 121, 1, 26, X12032, 2, 20071126, 1619, 5.4915, 178.9988, 5742,    701.3, 2,   6.5950, 2,  34.5542, 2,  34.5534, 2,     44.1, 2,     40.3, 2,    57.86, 2,    40.14, 2,     0.00, 2,     2.91, 2,    0.025, 6,    0.014, 6,    0.000, 6, -999.000, 9,   2290.1, 6,   2327.6, 2,    7.4460,     25.00,   -999.0, 9,   -999.0,  -999.00, 9,   -999.0,   6.5295, 27.1315,   6.5967, 2, 2, 0.25, 0.15, 0.01, 0.017,  -999.00, 9, -999.00, -999.00, 9, -999.00
49NZ20071122, P14N, 121, 1, 25, X12043, 2, 20071126, 1619, 5.4915, 178.9988, 5742,    800.1, 2,   6.0810, 2,  34.5464, 2,  34.5463, 2,     48.3, 2,     51.8, 2,    62.80, 2,    40.23, 2,     0.00, 2,     2.90, 2,    0.025, 2,    0.015, 2,    0.000, 2, -999.000, 9,   2291.4, 2,   2332.8, 6,    7.4596,     25.00,   -999.0, 9,   -999.0,  -999.00, 9,   -999.0,   6.0089, 27.1931,   6.0813, 2, 2, 0.26, 0.15, 0.01, 0.017,  -999.00, 9, -999.00, -999.00, 9, -999.00
49NZ20071122, P14N, 121, 1, 24, X12030, 2, 20071126, 1619, 5.4915, 178.9988, 5742,    899.6, 2,   5.3847, 2,  34.5438, 2,  34.5442, 2,     62.3, 2,     70.1, 2,    70.77, 2,    39.51, 2,     0.00, 2,     2.83, 2,    0.015, 2,    0.010, 2,    0.000, 2, -999.000, 9,   2289.0, 2,   2342.4, 2,    7.4843,     25.00,   -999.0, 9,   -999.0,  -999.00, 9,   -999.0,   5.3077, 27.2774,   5.3836, 2, 6, 0.27, 0.14, 0.01, 0.017,  -999.00, 9, -999.00, -999.00, 9, -999.00
49NZ20071122, P14N, 121, 1, 23, X12027, 2, 20071126, 1619, 5.4915, 178.9988, 5742,   1001.0, 2,   4.8892, 2,  34.5505, 2,  34.5510, 6,     63.1, 2,     62.3, 2,    82.33, 2,    40.95, 2,     0.00, 2,     2.94, 2,    0.000, 2,    0.003, 2,    0.000, 2, -999.000, 9,   2306.9, 2,   2354.1, 2,    7.4662,     25.00,   -999.0, 9,   -999.0,  -999.00, 9,   -999.0,   4.8066, 27.3410,   4.8895, 2, 2, 0.30, 0.15, 0.01, 0.017,  -999.00, 9, -999.00, -999.00, 9, -999.00
49NZ20071122, P14N, 121, 1, 22, X12028, 2, 20071126, 1619, 5.4915, 178.9988, 5742,   1199.5, 2,   4.0731, 2,  34.5692, 2,  34.5701, 2,     68.7, 2,     69.9, 2,    98.37, 2,    41.01, 2,     0.01, 2,     2.96, 2,    0.000, 2,    0.000, 2,    0.000, 2, -999.000, 9,   2322.3, 2,   2372.2, 2,    7.4744,     25.00,   -999.0, 9,   -999.0,  -999.00, 9,   -999.0,   3.9798, 27.4456,   4.0731, 2, 2, 0.34, 0.15, 0.01, 0.017,  -999.00, 9, -999.00, -999.00, 9, -999.00
49NZ20071122, P14N, 121, 1, 21, X12009, 2, 20071126, 1619, 5.4915, 178.9988, 5742,   1401.9, 2,   3.4581, 2,  34.5880, 2,  34.5882, 2,     77.9, 2,     76.8, 2,   111.79, 2,    40.88, 2,     0.00, 2,     2.94, 2,    0.000, 2,    0.000, 2,    0.000, 2, -999.000, 9,   2333.1, 2,   2385.5, 2,    7.4812,     25.00,   -999.0, 9,   -999.0,  -999.00, 9,   -999.0,   3.3534, 27.5230,   3.4579, 2, 2, 0.36, 0.15, 0.01, 0.017,  -999.00, 9, -999.00, -999.00, 9, -999.00
49NZ20071122, P14N, 121, 1, 20, X12026, 2, 20071126, 1619, 5.4915, 178.9988, 5742,   1599.5, 2,   2.9841, 2,  34.6045, 2,  34.6052, 2,     89.2, 2,     88.4, 2,   121.45, 2,    40.19, 2,     0.01, 2,     2.88, 2, -999.000, 9, -999.000, 9, -999.000, 9, -999.000, 9,   2339.3, 2,   2397.5, 2,    7.5008,     25.00,   -999.0, 9,   -999.0,  -999.00, 9,   -999.0,   2.8680, 27.5813,   2.9847, 2, 6, 0.39, 0.15, 0.01, 0.017,  -999.00, 9, -999.00, -999.00, 9, -999.00
49NZ20071122, P14N, 121, 1, 19, X12025, 2, 20071126, 1619, 5.4915, 178.9988, 5742,   1801.3, 2,   2.6224, 2,  34.6197, 2,  34.6202, 2,     97.1, 2,     96.7, 2,   128.68, 2,    39.77, 2,     0.00, 2,     2.84, 2, -999.000, 9, -999.000, 9, -999.000, 9, -999.000, 9,   2342.4, 2,   2405.6, 2,    7.5136,     25.00,   -999.0, 9,   -999.0,  -999.00, 9,   -999.0,   2.4938, 27.6264,   2.6228, 2, 2, 0.40, 0.14, 0.01, 0.017,  -999.00, 9, -999.00, -999.00, 9, -999.00
49NZ20071122, P14N, 121, 1, 18, X12024, 2, 20071126, 1619, 5.4915, 178.9988, 5742,   1998.7, 2,   2.3408, 2,  34.6340, 2,  34.6346, 2,    102.0, 2,    101.6, 2,   135.70, 2,    39.52, 2,     0.00, 2,     2.81, 2,    0.000, 2,    0.000, 2,    0.000, 2, -999.000, 9,   2347.6, 2,   2413.5, 2,    7.5225,     25.00,   -999.0, 9,   -999.0,  -999.00, 9,   -999.0,   2.1993, 27.6624,   2.3407, 2, 2, 0.42, 0.14, 0.01, 0.017,  -999.00, 9, -999.00, -999.00, 9, -999.00
49NZ20071122, P14N, 121, 1, 17, X12023, 2, 20071126, 1619, 5.4915, 178.9988, 5742,   2200.7, 2,   2.0987, 2,  34.6475, 2,  34.6480, 6,    108.1, 2,    108.4, 2,   141.21, 2,    39.07, 2,     0.00, 2,     2.76, 2, -999.000, 9, -999.000, 9, -999.000, 9, -999.000, 9,   2348.0, 2,   2419.8, 2,    7.5348,     25.00,   -999.0, 9,   -999.0,  -999.00, 9,   -999.0,   1.9434, 27.6938,   2.0987, 2, 2, 0.43, 0.14, 0.01, 0.017,  -999.00, 9, -999.00, -999.00, 9, -999.00
49NZ20071122, P14N, 121, 1, 16, X12022, 2, 20071126, 1619, 5.4915, 178.9988, 5742,   2400.1, 2,   1.9312, 2,  34.6583, 2,  34.6584, 2,    113.8, 2,    114.0, 2,   145.11, 2,    38.76, 2,     0.00, 2,     2.73, 2, -999.000, 9, -999.000, 9, -999.000, 9, -999.000, 9,   2350.1, 6,   2423.9, 2,    7.5437,     25.00,   -999.0, 9,   -999.0,  -999.00, 9,   -999.0,   1.7612, 27.7165,   1.9311, 2, 2, 0.44, 0.14, 0.01, 0.017,  -999.00, 9, -999.00, -999.00, 9, -999.00
49NZ20071122, P14N, 121, 1, 15, X12021, 2, 20071126, 1619, 5.4915, 178.9988, 5742,   2600.3, 2,   1.8326, 2,  34.6636, 2,  34.6636, 2,    119.5, 2,    120.2, 2,   145.58, 2,    38.47, 2,     0.00, 2,     2.70, 2,    0.000, 2,    0.000, 2,    0.000, 2, -999.000, 9,   2345.2, 2,   2425.0, 6,    7.5535,     25.00,   -999.0, 9,   -999.0,  -999.00, 9,   -999.0,   1.6463, 27.7294,   1.8328, 2, 2, 0.44, 0.14, 0.01, 0.017,  -999.00, 9, -999.00, -999.00, 9, -999.00
49NZ20071122, P14N, 121, 1, 14, X12020, 2, 20071126, 1619, 5.4915, 178.9988, 5742,   2799.6, 2,   1.7495, 2,  34.6681, 2,  34.6682, 2,    125.2, 2,    125.7, 2,   145.71, 2,    37.97, 2,     0.00, 2,     2.67, 2, -999.000, 9, -999.000, 9, -999.000, 9, -999.000, 9,   2341.8, 2,   2425.7, 2,    7.5616,     25.00,   -999.0, 9,   -999.0,  -999.00, 9,   -999.0,   1.5463, 27.7405,   1.7495, 2, 6, 0.44, 0.14, 0.01, 0.017,  -999.00, 9, -999.00, -999.00, 9, -999.00
49NZ20071122, P14N, 121, 1, 13, X12019, 2, 20071126, 1619, 5.4915, 178.9988, 5742,   3001.1, 2,   1.6727, 2,  34.6721, 2,  34.6720, 2,    131.6, 2,    132.3, 2,   144.95, 2,    37.61, 2,     0.00, 2,     2.63, 2, -999.000, 9, -999.000, 9, -999.000, 9, -999.000, 9,   2340.1, 2,   2423.6, 2,    7.5705,     25.00,   -999.0, 9,   -999.0,  -999.00, 9,   -999.0,   1.4520, 27.7505,   1.6727, 2, 2, 0.44, 0.14, 0.01, 0.017,  -999.00, 9, -999.00, -999.00, 9, -999.00
49NZ20071122, P14N, 121, 1, 12, X12040, 2, 20071126, 1619, 5.4915, 178.9988, 5742,   3251.6, 2,   1.6178, 2,  34.6756, 2,  34.6756, 2,    138.0, 2,    138.2, 2,   143.83, 2,    37.03, 2,     0.00, 2,     2.59, 2,    0.000, 2,    0.000, 2,    0.000, 2, -999.000, 9,   2335.1, 2,   2422.1, 2,    7.5777,     25.00,   -999.0, 9,   -999.0,  -999.00, 9,   -999.0,   1.3738, 27.7589,   1.6177, 2, 2, 0.44, 0.14, 0.01, 0.016,  -999.00, 9, -999.00, -999.00, 9, -999.00
49NZ20071122, P14N, 121, 1, 11, X12047, 2, 20071126, 1619, 5.4915, 178.9988, 5742,   3500.8, 2,   1.5454, 2,  34.6808, 2,  34.6805, 2,    145.7, 2,    145.5, 2,   142.69, 2,    36.61, 2,     0.00, 2,     2.56, 2, -999.000, 9, -999.000, 9, -999.000, 9, -999.000, 9,   2330.6, 2,   2420.1, 2,    7.5862,     25.00,   -999.0, 9,   -999.0,  -999.00, 9,   -999.0,   1.2780, 27.7698,   1.5454, 2, 2, 0.43, 0.14, 0.01, 0.016,  -999.00, 9, -999.00, -999.00, 9, -999.00
49NZ20071122, P14N, 121, 1, 10, X12012, 2, 20071126, 1619, 5.4915, 178.9988, 5742,   3750.0, 2,   1.4809, 2,  34.6860, 2,  34.6856, 2,    153.5, 2,    153.7, 2,   140.26, 2,    36.11, 2,     0.00, 2,     2.51, 2, -999.000, 9, -999.000, 9, -999.000, 9, -999.000, 9,   2321.4, 2,   2417.0, 2,    7.5968,     25.00,   -999.0, 9,   -999.0,  -999.00, 9,   -999.0,   1.1893, 27.7802,   1.4810, 2, 2, 0.43, 0.13, 0.01, 0.016,  -999.00, 9, -999.00, -999.00, 9, -999.00
49NZ20071122, P14N, 121, 1, 9, X12015, 2, 20071126, 1619, 5.4915, 178.9988, 5742,   4000.6, 2,   1.4113, 2,  34.6912, 2,  34.6910, 6,    161.7, 2,    162.1, 2,   137.77, 2,    35.50, 2,     0.00, 2,     2.47, 2,    0.000, 2,    0.000, 2,    0.000, 2, -999.000, 9,   2315.8, 2,   2413.8, 2,    7.6070,     25.00,   -999.0, 9,   -999.0,  -999.00, 9,   -999.0,   1.0948, 27.7909,   1.4113, 2, 2, 0.42, 0.13, 0.01, 0.016,  -999.00, 9, -999.00, -999.00, 9, -999.00
49NZ20071122, P14N, 121, 1, 8, X12046, 2, 20071126, 1619, 5.4915, 178.9988, 5742,   4249.1, 2,   1.3394, 2,  34.6966, 2,  34.6964, 2,    172.0, 2,    172.0, 2,   133.30, 2,    34.78, 2,     0.00, 2,     2.42, 2, -999.000, 9, -999.000, 9, -999.000, 9, -999.000, 9,   2304.4, 6,   2406.7, 2,    7.6151,     25.00,   -999.0, 9,   -999.0,  -999.00, 9,   -999.0,   0.9977, 27.8017,   1.3394, 2, 2, 0.41, 0.13, 0.01, 0.016,  -999.00, 9, -999.00, -999.00, 9, -999.00
49NZ20071122, P14N, 121, 1, 7, X12044, 2, 20071126, 1619, 5.4915, 178.9988, 5742,   4499.5, 2,   1.2775, 2,  34.7014, 2,  34.7014, 2,    182.0, 2,    182.3, 2,   127.88, 2,    33.93, 2,     0.00, 2,     2.37, 2,    0.000, 2,    0.000, 2,    0.000, 2, -999.000, 9,   2292.4, 2,   2398.7, 6,    7.6240,     25.00,   -999.0, 9,   -999.0,  -999.00, 9,   -999.0,   0.9094, 27.8114,   1.2774, 2, 2, 0.40, 0.13, 0.01, 0.016,  -999.00, 9, -999.00, -999.00, 9, -999.00
49NZ20071122, P14N, 121, 1, 6, X12048, 2, 20071126, 1619, 5.4915, 178.9988, 5742,   4749.0, 2,   1.2734, 2,  34.7033, 2,  34.7032, 2,    186.8, 2,    186.8, 2,   125.43, 2,    33.70, 2,     0.00, 2,     2.34, 2,    0.000, 2,    0.000, 2,    0.000, 2, -999.000, 9,   2288.2, 2,   2393.9, 2,    7.6271,     25.00,   -999.0, 9,   -999.0,  -999.00, 9,   -999.0,   0.8766, 27.8151,   1.2734, 2, 6, 0.39, 0.13, 0.01, 0.016,  -999.00, 9, -999.00, -999.00, 9, -999.00
49NZ20071122, P14N, 121, 1, 5, X12014, 2, 20071126, 1619, 5.4915, 178.9988, 5742,   5000.4, 2,   1.2801, 2,  34.7045, 2,  34.7044, 2,    188.8, 2,    189.4, 2,   124.29, 2,    33.57, 2,     0.00, 2,     2.33, 2,    0.000, 2,    0.000, 2,    0.000, 2, -999.000, 9,   2285.3, 2,   2391.9, 2,    7.6281,     25.00,   -999.0, 9,   -999.0,  -999.00, 9,   -999.0,   0.8531, 27.8175,   1.2801, 2, 2, 0.39, 0.13, 0.01, 0.016,  -999.00, 9, -999.00, -999.00, 9, -999.00
49NZ20071122, P14N, 121, 1, 4, X12006, 2, 20071126, 1619, 5.4915, 178.9988, 5742,   5250.1, 2,   1.3030, 2,  34.7049, 2,  34.7051, 2,    190.2, 2,    190.4, 2,   123.36, 2,    33.47, 2,     0.00, 2,     2.32, 2,    0.000, 2,    0.000, 2,    0.000, 2, -999.000, 9,   2283.5, 2,   2390.0, 2,    7.6282,     25.00,   -999.0, 9,   -999.0,  -999.00, 9,   -999.0,   0.8448, 27.8184,   1.3029, 2, 2, 0.39, 0.13, 0.01, 0.016,  -999.00, 9, -999.00, -999.00, 9, -999.00
49NZ20071122, P14N, 121, 1, 3, X12013, 2, 20071126, 1619, 5.4915, 178.9988, 5742,   5499.8, 2,   1.3291, 2,  34.7052, 2,  34.7057, 2,    191.3, 2,    191.2, 2,   122.70, 2,    33.38, 2,     0.00, 2,     2.32, 2,    0.000, 2,    0.001, 2,    0.000, 2, -999.000, 9,   2282.0, 2,   2387.8, 2,    7.6282,     25.00,   -999.0, 9,   -999.0,  -999.00, 9,   -999.0,   0.8387, 27.8190,   1.3291, 2, 2, 0.39, 0.13, 0.01, 0.016,  -999.00, 9, -999.00, -999.00, 9, -999.00
49NZ20071122, P14N, 121, 1, 2, X12002, 2, 20071126, 1619, 5.4915, 178.9988, 5742,      9.4, 2,  28.2506, 2,  34.8041, 2, -999.0000, 9,    197.0, 2,   -999.0, 9,  -999.00, 9,  -999.00, 9,  -999.00, 9,  -999.00, 9,    1.467, 2,    0.922, 2,    0.176, 4, -999.000, 9,   -999.0, 9,   -999.0, 9, -999.0000,   -999.00,   -999.0, 9,   -999.0,  -999.00, 9,   -999.0,  28.2484, 22.1660,  28.2502, 2, 9, -999.00, -999.00, -999.00, -999.000,  -999.00, 9, -999.00, -999.00, 9, -999.00
49NZ20071122, P14N, 121, 1, 1, X12001, 2, 20071126, 1619, 5.4915, 178.9988, 5742,   5858.3, 2,   1.3737, 2,  34.7052, 2,  34.7055, 6,    191.9, 2,    191.9, 2,   122.62, 2,    33.36, 2,     0.00, 2,     2.32, 2,    0.000, 2,    0.000, 2,    0.000, 2, -999.000, 9,   2281.4, 2,   2387.0, 2,    7.6270,     25.00,   -999.0, 9,   -999.0,  -999.00, 9,   -999.0,   0.8354, 27.8192,   1.3737, 2, 2, 0.39, 0.13, 0.01, 0.016,  -999.00, 9, -999.00, -999.00, 9, -999.00