BOTTLE,20220820CCHSIOAMB
EXPOCODE,SECT_ID,STNNBR,CASTNO,SAMPNO,BTLNBR,BTLNBR_FLAG_W,DATE,TIME,LATITUDE,LONGITUDE,DEPTH,CTDPRS,CTDPRS_FLAG_W,CTDTMP,CTDTMP_FLAG_W,CTDSAL,CTDSAL_FLAG_W,SALNTY,SALNTY_FLAG_W,CTDOXY,CTDOXY_FLAG_W,OXYGEN,OXYGEN_FLAG_W,SILCAT,SILCAT_FLAG_W,NITRAT,NITRAT_FLAG_W,NITRIT,NITRIT_FLAG_W,PHSPHT,PHSPHT_FLAG_W,CFC-11,CFC-11_FLAG_W,CFC-12,CFC-12_FLAG_W,CFC113,CFC113_FLAG_W,CCL4,CCL4_FLAG_W,TCARBN,TCARBN_FLAG_W,ALKALI,ALKALI_FLAG_W,PH_TOT,PH_TMP,DELC14,DELC14_FLAG_W,C14ERR,DELC13,DELC13_FLAG_W,C13ERR,THETA,SIG0,SBE35,SBE35_FLAG_W,PH_TOT_FLAG_W,SILUNC,NRAUNC,NRIUNC,PHPUNC,CS-137,CS-137_FLAG_W,CS137ER,PLUTO,PLUTO_FLAG_W,PLUTOER
,,,,,,,,,,,METERS,DBAR,,ITS-90,,PSS-78,,PSS-78,,UMOL/KG,,UMOL/KG,,UMOL/KG,,UMOL/KG,,UMOL/KG,,UMOL/KG,,PMOL/KG,,PMOL/KG,,PMOL/KG,,PMOL/KG,,UMOL/KG,,UMOL/KG,,,DEG C,/MILLE,,/MILLE,/MILLE,,/MILLE,DEG C,KG/M^3,ITS-90,,,UMOL/KG,UMOL/KG,UMOL/KG,UMOL/KG,DM/.1MG,,BQ/M^3,MBQ/M^3,,MBQ/M^3
49NZ20071122, P14N, 151, 1, 36, X12042, 2, 20071204, 1909, -1.9980, 179.0033, 5442,      9.4, 2,  27.5084, 2,  35.4862, 2,  35.4862, 2,    199.7, 2,    201.4, 2,     1.56, 2,     3.30, 2,     0.31, 2,     0.46, 2,    1.568, 2,    0.969, 2,    0.166, 4, -999.000, 9,   2023.4, 2,   2335.7, 2,    8.0557,     25.00,   -999.0, 9,   -999.0,  -999.00, 9,   -999.0,  27.5062, 22.9211,  27.5082, 2, 6, 0.12, 0.04, 0.01, 0.013,  -999.00, 9, -999.00, -999.00, 9, -999.00
49NZ20071122, P14N, 151, 1, 35, X12041, 2, 20071204, 1909, -1.9980, 179.0033, 5442,     49.7, 2,  27.5165, 2,  35.5020, 2,  35.5027, 2,    200.5, 2,    200.8, 2,     1.56, 2,     3.31, 2,     0.31, 2,     0.46, 2,    1.557, 2,    0.941, 2,    0.190, 4, -999.000, 9,   2025.3, 6,   2337.3, 2,    8.0557,     25.00,   -999.0, 9,   -999.0,  -999.00, 9,   -999.0,  27.5049, 22.9334,  27.5152, 2, 2, 0.12, 0.04, 0.01, 0.013,  -999.00, 9, -999.00, -999.00, 9, -999.00
49NZ20071122, P14N, 151, 1, 34, X12016, 2, 20071204, 1909, -1.9980, 179.0033, 5442,    100.0, 2,  27.2046, 2,  35.5095, 2,  35.4987, 2,    195.3, 2,    198.6, 2,     1.63, 2,     3.67, 2,     0.38, 2,     0.51, 2,    1.597, 2,    0.972, 2,    0.184, 4, -999.000, 9,   2032.7, 2,   2336.0, 6,    8.0399,     25.00,   -999.0, 9,   -999.0,  -999.00, 9,   -999.0,  27.1815, 23.0434,  27.2025, 2, 2, 0.12, 0.04, 0.00, 0.013,  -999.00, 9, -999.00, -999.00, 9, -999.00
49NZ20071122, P14N, 151, 1, 33, X12033, 2, 20071204, 1909, -1.9980, 179.0033, 5442,    149.7, 2,  26.6853, 2,  35.6509, 2,  35.6877, 2,    173.8, 2,    173.3, 2,     1.68, 2,     5.35, 2,     1.33, 2,     0.67, 2,    1.646, 6,    0.998, 6,    0.151, 4, -999.000, 9,   2060.7, 2,   2347.7, 2,    8.0089,     25.00,   -999.0, 9,   -999.0,  -999.00, 9,   -999.0,  26.6512, 23.3193,  26.6865, 2, 6, 0.12, 0.05, 0.00, 0.013,  -999.00, 9, -999.00, -999.00, 9, -999.00
49NZ20071122, P14N, 151, 1, 32, X12038, 2, 20071204, 1909, -1.9980, 179.0033, 5442,    200.2, 2,  20.8658, 2,  35.8161, 2,  35.8006, 2,    126.9, 2,    124.6, 2,     3.23, 2,    11.08, 2,     0.03, 2,     1.02, 2,    1.913, 2,    1.105, 2,    0.063, 2, -999.000, 9,   2136.9, 2,   2358.6, 2,    7.8867,     25.00,   -999.0, 9,   -999.0,  -999.00, 9,   -999.0,  20.8275, 25.1624,  20.8590, 2, 2, 0.13, 0.06, 0.01, 0.013,  -999.00, 9, -999.00, -999.00, 9, -999.00
49NZ20071122, P14N, 151, 1, 31, X12003, 2, 20071204, 1909, -1.9980, 179.0033, 5442,    249.2, 2,  14.9355, 2,  35.1947, 2,  35.1910, 6,    118.6, 2,    119.8, 2,     9.66, 2,    18.13, 2,     0.01, 2,     1.41, 2,    1.574, 2,    0.858, 2,    0.022, 2, -999.000, 9,   2159.5, 2,   2322.1, 2,    7.7735,     25.00,   -999.0, 9,   -999.0,  -999.00, 9,   -999.0,  14.8977, 26.1446,  14.9340, 2, 2, 0.14, 0.08, 0.01, 0.014,  -999.00, 9, -999.00, -999.00, 9, -999.00
49NZ20071122, P14N, 151, 1, 30, X12008, 2, 20071204, 1909, -1.9980, 179.0033, 5442,    301.5, 2,  11.7156, 2,  34.8581, 2,  34.8576, 2,    113.3, 2,    110.5, 2,    18.54, 2,    23.92, 2,     0.01, 2,     1.74, 2,    1.147, 2,    0.605, 2,    0.014, 2, -999.000, 9,   2182.6, 2,   2308.4, 2,    7.6856,     25.00,   -999.0, 9,   -999.0,  -999.00, 9,   -999.0,  11.6768, 26.5401,  11.7209, 2, 2, 0.16, 0.10, 0.01, 0.014,  -999.00, 9, -999.00, -999.00, 9, -999.00
49NZ20071122, P14N, 151, 1, 29, X12035, 2, 20071204, 1909, -1.9980, 179.0033, 5442,    400.0, 2,  10.0436, 2,  34.7346, 2,  34.7294, 2,     81.0, 2,     82.3, 2,    25.41, 2,    30.14, 2,     0.01, 2,     2.13, 2,    0.660, 2,    0.342, 2,    0.009, 2, -999.000, 9,   2218.1, 2,   2305.8, 2,    7.5877,     25.00,   -999.0, 9,   -999.0,  -999.00, 9,   -999.0,   9.9967, 26.7452,  10.0452, 2, 2, 0.17, 0.12, 0.01, 0.015,  -999.00, 9, -999.00, -999.00, 9, -999.00
49NZ20071122, P14N, 151, 1, 28, X12034, 2, 20071204, 1909, -1.9980, 179.0033, 5442,    500.2, 2,   8.9095, 2,  34.6629, 2,  34.6625, 6,     86.9, 2,     87.8, 2,    28.94, 2,    31.71, 2,     0.01, 2,     2.24, 2,    0.477, 2,    0.250, 2,    0.006, 2, -999.000, 9,   2226.6, 2,   2306.7, 2,    7.5732,     25.00,   -999.0, 9,   -999.0,  -999.00, 9,   -999.0,   8.8548, 26.8773,   8.9108, 2, 2, 0.18, 0.12, 0.01, 0.016,  -999.00, 9, -999.00, -999.00, 9, -999.00
49NZ20071122, P14N, 151, 1, 27, X12049, 2, 20071204, 1909, -1.9980, 179.0033, 5442,    600.8, 2,   7.4925, 2,  34.5951, 2,  34.5902, 2,     65.2, 2,     68.9, 2,    40.23, 2,    37.07, 2,     0.01, 2,     2.61, 2,    0.136, 2,    0.070, 2,    0.000, 2, -999.000, 9,   2257.2, 2,   2313.6, 2,    7.5037,     25.00,   -999.0, 9,   -999.0,  -999.00, 9,   -999.0,   7.4327, 27.0388,   7.4933, 2, 2, 0.21, 0.14, 0.01, 0.016,  -999.00, 9, -999.00, -999.00, 9, -999.00
49NZ20071122, P14N, 151, 1, 26, X12032, 2, 20071204, 1909, -1.9980, 179.0033, 5442,    699.4, 2,   6.1466, 2,  34.5419, 2,  34.5414, 2,     96.0, 2,     95.1, 2,    50.09, 2,    36.70, 2,     0.00, 2,     2.61, 2,    0.112, 6,    0.058, 6,    0.004, 6, -999.000, 9,   2257.7, 6,   2323.3, 2,    7.5303,     25.00,   -999.0, 9,   -999.0,  -999.00, 9,   -999.0,   6.0837, 27.1800,   6.1469, 2, 2, 0.23, 0.14, 0.01, 0.016,  -999.00, 9, -999.00, -999.00, 9, -999.00
49NZ20071122, P14N, 151, 1, 25, X12043, 2, 20071204, 1909, -1.9980, 179.0033, 5442,    799.2, 2,   5.4376, 2,  34.5354, 2,  34.5351, 2,    100.0, 2,     98.6, 2,    59.73, 2,    37.22, 2,     0.01, 2,     2.65, 2,    0.062, 2,    0.031, 2,    0.000, 2, -999.000, 9,   2267.9, 2,   2333.7, 6,    7.5279,     25.00,   -999.0, 9,   -999.0,  -999.00, 9,   -999.0,   5.3695, 27.2634,   5.4381, 2, 2, 0.25, 0.14, 0.01, 0.017,  -999.00, 9, -999.00, -999.00, 9, -999.00
49NZ20071122, P14N, 151, 1, 24, X12030, 2, 20071204, 1909, -1.9980, 179.0033, 5442,    900.0, 2,   5.0091, 2,  34.5393, 2,  34.5391, 2,     95.6, 2,     95.2, 2,    67.89, 2,    38.30, 2,     0.00, 2,     2.72, 2,    0.029, 2,    0.017, 2,    0.000, 2, -999.000, 9,   2279.6, 2,   2342.7, 2,    7.5168,     25.00,   -999.0, 9,   -999.0,  -999.00, 9,   -999.0,   4.9347, 27.3175,   5.0104, 2, 6, 0.27, 0.14, 0.01, 0.017,  -999.00, 9, -999.00, -999.00, 9, -999.00
49NZ20071122, P14N, 151, 1, 23, X12027, 2, 20071204, 1909, -1.9980, 179.0033, 5442,    998.7, 2,   4.5888, 2,  34.5435, 2,  34.5435, 6,    102.4, 2,    101.6, 2,    74.81, 2,    37.90, 2,     0.00, 2,     2.70, 2,    0.022, 2,    0.014, 2,    0.000, 2, -999.000, 9,   2284.9, 2,   2349.8, 2,    7.5248,     25.00,   -999.0, 9,   -999.0,  -999.00, 9,   -999.0,   4.5087, 27.3687,   4.5896, 2, 2, 0.28, 0.14, 0.01, 0.017,  -999.00, 9, -999.00, -999.00, 9, -999.00
49NZ20071122, P14N, 151, 1, 22, X12028, 2, 20071204, 1909, -1.9980, 179.0033, 5442,   1199.1, 2,   3.8819, 2,  34.5630, 2,  34.5637, 2,    105.1, 2,    104.2, 2,    90.29, 2,    38.37, 2,     0.00, 2,     2.75, 2,    0.012, 2,    0.005, 2,    0.000, 2, -999.000, 9,   2301.7, 2,   2367.9, 2,    7.5264,     25.00,   -999.0, 9,   -999.0,  -999.00, 9,   -999.0,   3.7904, 27.4600,   3.8819, 2, 2, 0.32, 0.14, 0.01, 0.017,  -999.00, 9, -999.00, -999.00, 9, -999.00
49NZ20071122, P14N, 151, 1, 21, X12009, 2, 20071204, 1909, -1.9980, 179.0033, 5442,   1398.7, 2,   3.2753, 2,  34.5869, 2,  34.5871, 2,    105.8, 2,    105.7, 2,   104.52, 2,    38.64, 2,     0.00, 2,     2.77, 2,    0.005, 2,    0.003, 2,    0.000, 2, -999.000, 9,   2314.5, 2,   2382.4, 2,    7.5263,     25.00,   -999.0, 9,   -999.0,  -999.00, 9,   -999.0,   3.1729, 27.5393,   3.2756, 2, 2, 0.35, 0.14, 0.01, 0.017,  -999.00, 9, -999.00, -999.00, 9, -999.00
49NZ20071122, P14N, 151, 1, 20, X12026, 2, 20071204, 1909, -1.9980, 179.0033, 5442,   1601.0, 2,   2.7628, 2,  34.6101, 2,  34.6099, 2,    112.0, 2,    112.3, 2,   115.97, 2,    38.44, 2,     0.00, 2,     2.75, 2,    0.003, 2,    0.004, 2,    0.000, 2, -999.000, 9,   2323.1, 2,   2394.1, 2,    7.5362,     25.00,   -999.0, 9,   -999.0,  -999.00, 9,   -999.0,   2.6493, 27.6053,   2.7628, 2, 2, 0.37, 0.14, 0.01, 0.017,  -999.00, 9, -999.00, -999.00, 9, -999.00
49NZ20071122, P14N, 151, 1, 19, X12025, 2, 20071204, 1909, -1.9980, 179.0033, 5442,   1799.7, 2,   2.4235, 2,  34.6288, 2,  34.6290, 2,    115.0, 2,    114.7, 2,   125.14, 2,    38.45, 2,     0.00, 2,     2.74, 2,    0.008, 2,    0.007, 2,    0.000, 2, -999.000, 9,   2334.4, 2,   2405.4, 2,    7.5401,     25.00,   -999.0, 9,   -999.0,  -999.00, 9,   -999.0,   2.2977, 27.6501,   2.4233, 2, 2, 0.39, 0.14, 0.01, 0.017,  -999.00, 9, -999.00, -999.00, 9, -999.00
49NZ20071122, P14N, 151, 1, 18, X12024, 2, 20071204, 1909, -1.9980, 179.0033, 5442,   1999.0, 2,   2.2373, 2,  34.6405, 2,  34.6404, 2,    115.9, 2,    115.7, 2,   131.28, 2,    38.49, 2,     0.00, 2,     2.73, 2,    0.000, 2,    0.000, 2,    0.000, 2, -999.000, 9,   2340.6, 2,   2411.2, 2,    7.5427,     25.00,   -999.0, 9,   -999.0,  -999.00, 9,   -999.0,   2.0973, 27.6759,   2.2374, 2, 2, 0.41, 0.14, 0.01, 0.017,  -999.00, 9, -999.00, -999.00, 9, -999.00
49NZ20071122, P14N, 151, 1, 17, X12023, 2, 20071204, 1909, -1.9980, 179.0033, 5442,   2198.2, 2,   2.0668, 2,  34.6496, 2,  34.6496, 6,    120.2, 2,    119.9, 2,   135.29, 2,    38.27, 2,     0.00, 2,     2.71, 2, -999.000, 9, -999.000, 9, -999.000, 9, -999.000, 9,   2342.7, 2,   2415.7, 2,    7.5496,     25.00,   -999.0, 9,   -999.0,  -999.00, 9,   -999.0,   1.9123, 27.6979,   2.0669, 2, 2, 0.42, 0.14, 0.01, 0.017,  -999.00, 9, -999.00, -999.00, 9, -999.00
49NZ20071122, P14N, 151, 1, 16, X12022, 2, 20071204, 1909, -1.9980, 179.0033, 5442,   2399.7, 2,   1.9585, 2,  34.6559, 2,  34.6559, 2,    123.1, 2,    123.1, 2,   137.75, 2,    38.07, 2,     0.00, 2,     2.69, 2, -999.000, 9, -999.000, 9, -999.000, 9, -999.000, 9,   2342.1, 6,   2418.8, 2,    7.5544,     25.00,   -999.0, 9,   -999.0,  -999.00, 9,   -999.0,   1.7880, 27.7125,   1.9586, 2, 2, 0.42, 0.14, 0.01, 0.017,  -999.00, 9, -999.00, -999.00, 9, -999.00
49NZ20071122, P14N, 151, 1, 15, X12021, 2, 20071204, 1909, -1.9980, 179.0033, 5442,   2599.0, 2,   1.9057, 2,  34.6591, 2,  34.6589, 2,    124.8, 2,    125.3, 2,   138.89, 2,    37.88, 2,     0.00, 2,     2.68, 2,    0.000, 2,    0.000, 2,    0.000, 2, -999.000, 9,   2338.9, 2,   2420.0, 6,    7.5576,     25.00,   -999.0, 9,   -999.0,  -999.00, 9,   -999.0,   1.7181, 27.7204,   1.9057, 2, 2, 0.42, 0.14, 0.01, 0.017,  -999.00, 9, -999.00, -999.00, 9, -999.00
49NZ20071122, P14N, 151, 1, 14, X12020, 2, 20071204, 1909, -1.9980, 179.0033, 5442,   2799.5, 2,   1.7993, 2,  34.6648, 2,  34.6644, 2,    132.5, 2,    132.5, 2,   138.68, 2,    37.42, 2,     0.00, 2,     2.64, 2, -999.000, 9, -999.000, 9, -999.000, 9, -999.000, 9,   2338.0, 2,   2419.5, 2,    7.5677,     25.00,   -999.0, 9,   -999.0,  -999.00, 9,   -999.0,   1.5951, 27.7342,   1.7993, 2, 6, 0.42, 0.14, 0.01, 0.017,  -999.00, 9, -999.00, -999.00, 9, -999.00
49NZ20071122, P14N, 151, 1, 13, X12019, 2, 20071204, 1909, -1.9980, 179.0033, 5442,   3001.4, 2,   1.6797, 2,  34.6708, 2,  34.6704, 2,    137.7, 2,    137.9, 2,   140.11, 2,    37.13, 2,     0.00, 2,     2.61, 2, -999.000, 9, -999.000, 9, -999.000, 9, -999.000, 9,   2334.2, 2,   2420.6, 2,    7.5748,     25.00,   -999.0, 9,   -999.0,  -999.00, 9,   -999.0,   1.4588, 27.7490,   1.6797, 2, 2, 0.43, 0.14, 0.01, 0.016,  -999.00, 9, -999.00, -999.00, 9, -999.00
49NZ20071122, P14N, 151, 1, 12, X12040, 2, 20071204, 1909, -1.9980, 179.0033, 5442,   3249.8, 2,   1.6101, 2,  34.6768, 2,  34.6769, 2,    145.1, 2,    145.1, 2,   138.68, 2,    36.60, 2,     0.00, 2,     2.56, 2,    0.000, 2,    0.000, 2,    0.000, 2, -999.000, 9,   2329.5, 2,   2419.2, 2,    7.5852,     25.00,   -999.0, 9,   -999.0,  -999.00, 9,   -999.0,   1.3665, 27.7604,   1.6101, 2, 2, 0.42, 0.14, 0.01, 0.016,  -999.00, 9, -999.00, -999.00, 9, -999.00
49NZ20071122, P14N, 151, 1, 11, X12047, 2, 20071204, 1909, -1.9980, 179.0033, 5442,   3500.5, 2,   1.5216, 2,  34.6829, 2,  34.6831, 2,    152.1, 2,    152.3, 2,   138.23, 2,    36.06, 2,     0.00, 2,     2.52, 2, -999.000, 9, -999.000, 9, -999.000, 9, -999.000, 9,   2325.1, 2,   2418.7, 2,    7.5942,     25.00,   -999.0, 9,   -999.0,  -999.00, 9,   -999.0,   1.2549, 27.7732,   1.5215, 2, 2, 0.42, 0.13, 0.01, 0.016,  -999.00, 9, -999.00, -999.00, 9, -999.00
49NZ20071122, P14N, 151, 1, 10, X12012, 2, 20071204, 1909, -1.9980, 179.0033, 5442,   3751.4, 2,   1.4795, 2,  34.6879, 2,  34.6874, 2,    158.4, 2,    158.4, 2,   136.86, 2,    35.71, 2,     0.00, 2,     2.49, 2,    0.000, 2,    0.001, 2,    0.000, 2, -999.000, 9,   2321.5, 2,   2416.7, 2,    7.6033,     25.00,   -999.0, 9,   -999.0,  -999.00, 9,   -999.0,   1.1878, 27.7818,   1.4795, 2, 2, 0.42, 0.13, 0.01, 0.016,  -999.00, 9, -999.00, -999.00, 9, -999.00
49NZ20071122, P14N, 151, 1, 9, X12015, 2, 20071204, 1909, -1.9980, 179.0033, 5442,   4001.2, 2,   1.4141, 2,  34.6930, 2,  34.6928, 6,    165.2, 2,    165.4, 2,   135.36, 2,    35.27, 2,     0.00, 2,     2.46, 2,    0.000, 2,    0.000, 2,    0.000, 2, -999.000, 9,   2312.9, 2,   2416.9, 2,    7.6123,     25.00,   -999.0, 9,   -999.0,  -999.00, 9,   -999.0,   1.0974, 27.7921,   1.4140, 2, 2, 0.42, 0.13, 0.01, 0.016,  -999.00, 9, -999.00, -999.00, 9, -999.00
49NZ20071122, P14N, 151, 1, 8, X12046, 2, 20071204, 1909, -1.9980, 179.0033, 5442,   4248.8, 2,   1.3489, 2,  34.6975, 2,  34.6972, 2,    175.2, 2,    174.7, 2,   131.10, 2,    34.55, 2,     0.00, 2,     2.40, 2,    0.000, 2,    0.000, 2,    0.000, 2, -999.000, 9,   2304.3, 6,   2407.0, 2,    7.6181,     25.00,   -999.0, 9,   -999.0,  -999.00, 9,   -999.0,   1.0069, 27.8018,   1.3489, 2, 2, 0.41, 0.13, 0.01, 0.016,  -999.00, 9, -999.00, -999.00, 9, -999.00
49NZ20071122, P14N, 151, 1, 7, X12044, 2, 20071204, 1909, -1.9980, 179.0033, 5442,   4500.6, 2,   1.2898, 2,  34.7016, 2,  34.7016, 2,    183.7, 2,    183.7, 2,   126.27, 2,    33.91, 2,     0.00, 2,     2.36, 2,    0.003, 2,    0.002, 2,    0.000, 2, -999.000, 9,   2291.9, 2,   2397.0, 6,    7.6219,     25.00,   -999.0, 9,   -999.0,  -999.00, 9,   -999.0,   0.9212, 27.8107,   1.2898, 2, 2, 0.40, 0.13, 0.01, 0.016,  -999.00, 9, -999.00, -999.00, 9, -999.00
49NZ20071122, P14N, 151, 1, 6, X12048, 2, 20071204, 1909, -1.9980, 179.0033, 5442,   4750.1, 2,   1.2474, 2,  34.7047, 2,  34.7046, 2,    191.5, 2,    191.5, 2,   122.05, 2,    33.32, 2,     0.00, 2,     2.32, 2,    0.001, 2,    0.002, 2,    0.000, 2, -999.000, 9,   2281.7, 2,   2385.9, 2,    7.6231,     25.00,   -999.0, 9,   -999.0,  -999.00, 9,   -999.0,   0.8513, 27.8178,   1.2473, 2, 6, 0.39, 0.13, 0.01, 0.016,  -999.00, 9, -999.00, -999.00, 9, -999.00
49NZ20071122, P14N, 151, 1, 5, X12014, 2, 20071204, 1909, -1.9980, 179.0033, 5442,   5000.1, 2,   1.2489, 2,  34.7057, 2,  34.7055, 2,    194.1, 2,    194.1, 2,   120.99, 2,    33.14, 2,     0.00, 2,     2.30, 2,    0.005, 2,    0.003, 2,    0.000, 2, -999.000, 9,   2277.9, 2,   2383.1, 2,    7.6242,     25.00,   -999.0, 9,   -999.0,  -999.00, 9,   -999.0,   0.8230, 27.8204,   1.2489, 2, 2, 0.39, 0.13, 0.01, 0.016,  -999.00, 9, -999.00, -999.00, 9, -999.00
49NZ20071122, P14N, 151, 1, 4, X12006, 2, 20071204, 1909, -1.9980, 179.0033, 5442,   5251.5, 2,   1.2716, 2,  34.7061, 2,  34.7061, 2,    195.1, 2,    195.0, 2,   120.37, 2,    33.04, 2,     0.00, 2,     2.30, 2,    0.004, 2,    0.003, 2,    0.000, 2, -999.000, 9,   2273.9, 2,   2380.8, 2,    7.6237,     25.00,   -999.0, 9,   -999.0,  -999.00, 9,   -999.0,   0.8143, 27.8213,   1.2715, 2, 2, 0.38, 0.13, 0.01, 0.016,  -999.00, 9, -999.00, -999.00, 9, -999.00
49NZ20071122, P14N, 151, 1, 3, X12013, 9, 20071204, 1909, -1.9980, 179.0033, 5442,     49.7, 2,  27.5158, 2,  35.5017, 2, -999.0000, 9,    200.5, 2,   -999.0, 9,  -999.00, 9,  -999.00, 9,  -999.00, 9,  -999.00, 9, -999.000, 9, -999.000, 9, -999.000, 9, -999.000, 9,   -999.0, 9,   -999.0, 9, -999.0000,   -999.00,   -999.0, 9,   -999.0,  -999.00, 9,   -999.0,  27.5042, 22.9334,  27.5153, 2, 9, -999.00, -999.00, -999.00, -999.000,  -999.00, 9, -999.00, -999.00, 9, -999.00
49NZ20071122, P14N, 151, 1, 2, X12002, 9, 20071204, 1909, -1.9980, 179.0033, 5442,    100.4, 2,  27.2108, 2,  35.5139, 2, -999.0000, 9,    195.2, 2,   -999.0, 9,  -999.00, 9,  -999.00, 9,  -999.00, 9,  -999.00, 9, -999.000, 9, -999.000, 9, -999.000, 9, -999.000, 9,   -999.0, 9,   -999.0, 9, -999.0000,   -999.00,   -999.0, 9,   -999.0,  -999.00, 9,   -999.0,  27.1876, 23.0447,  27.2099, 2, 9, -999.00, -999.00, -999.00, -999.000,  -999.00, 9, -999.00, -999.00, 9, -999.00
49NZ20071122, P14N, 151, 1, 1, X12001, 2, 20071204, 1909, -1.9980, 179.0033, 5442,   5527.3, 2,   1.3035, 2,  34.7063, 2,  34.7062, 6,    195.7, 2,    195.5, 2,   120.28, 2,    33.02, 2,     0.00, 2,     2.30, 2,    0.006, 2,    0.001, 2,    0.000, 2, -999.000, 9,   2277.7, 2,   2381.3, 2,    7.6238,     25.00,   -999.0, 9,   -999.0,  -999.00, 9,   -999.0,   0.8105, 27.8217,   1.3036, 2, 2, 0.38, 0.13, 0.01, 0.016,  -999.00, 9, -999.00, -999.00, 9, -999.00