BOTTLE,20220820CCHSIOAMB
EXPOCODE,SECT_ID,STNNBR,CASTNO,SAMPNO,BTLNBR,BTLNBR_FLAG_W,DATE,TIME,LATITUDE,LONGITUDE,DEPTH,CTDPRS,CTDPRS_FLAG_W,CTDTMP,CTDTMP_FLAG_W,CTDSAL,CTDSAL_FLAG_W,SALNTY,SALNTY_FLAG_W,CTDOXY,CTDOXY_FLAG_W,OXYGEN,OXYGEN_FLAG_W,SILCAT,SILCAT_FLAG_W,NITRAT,NITRAT_FLAG_W,NITRIT,NITRIT_FLAG_W,PHSPHT,PHSPHT_FLAG_W,CFC-11,CFC-11_FLAG_W,CFC-12,CFC-12_FLAG_W,CFC113,CFC113_FLAG_W,CCL4,CCL4_FLAG_W,TCARBN,TCARBN_FLAG_W,ALKALI,ALKALI_FLAG_W,PH_TOT,PH_TMP,DELC14,DELC14_FLAG_W,C14ERR,DELC13,DELC13_FLAG_W,C13ERR,THETA,SIG0,SBE35,SBE35_FLAG_W,PH_TOT_FLAG_W,SILUNC,NRAUNC,NRIUNC,PHPUNC,CS-137,CS-137_FLAG_W,CS137ER,PLUTO,PLUTO_FLAG_W,PLUTOER
,,,,,,,,,,,METERS,DBAR,,ITS-90,,PSS-78,,PSS-78,,UMOL/KG,,UMOL/KG,,UMOL/KG,,UMOL/KG,,UMOL/KG,,UMOL/KG,,PMOL/KG,,PMOL/KG,,PMOL/KG,,PMOL/KG,,UMOL/KG,,UMOL/KG,,,DEG C,/MILLE,,/MILLE,/MILLE,,/MILLE,DEG C,KG/M^3,ITS-90,,,UMOL/KG,UMOL/KG,UMOL/KG,UMOL/KG,DM/.1MG,,BQ/M^3,MBQ/M^3,,MBQ/M^3
49NZ20071122, P14N, 177, 1, 36, X12042, 2, 20071210, 2148, -12.0043, 179.0085, 2572,     11.0, 2,  28.9861, 2,  34.5333, 2,  34.5326, 2,    195.9, 2,    195.8, 2,     0.59, 2,     0.06, 2,     0.01, 2,     0.16, 2,    1.468, 2,    0.916, 2,    0.247, 4, -999.000, 9,   1919.7, 2,   2271.0, 2,    8.1447,     25.00,   -999.0, 9,   -999.0,  -999.00, 9,   -999.0,  28.9834, 21.7192,  29.0045, 2, 6, 0.12, 0.03, 0.01, 0.017,  -999.00, 9, -999.00, -999.00, 9, -999.00
49NZ20071122, P14N, 177, 1, 35, X12041, 2, 20071210, 2148, -12.0043, 179.0085, 2572,     50.1, 2,  29.2268, 2,  35.1426, 2,  35.1117, 2,    199.1, 2,    197.2, 2,     0.63, 2,     0.04, 2,     0.01, 2,     0.19, 2,    1.469, 2,    0.915, 2,    0.459, 4, -999.000, 9,   1950.4, 6,   2311.3, 2,    8.1422,     25.00,   -999.0, 9,   -999.0,  -999.00, 9,   -999.0,  29.2146, 22.0992,  29.2288, 2, 2, 0.12, 0.03, 0.01, 0.016,  -999.00, 9, -999.00, -999.00, 9, -999.00
49NZ20071122, P14N, 177, 1, 34, X12016, 2, 20071210, 2148, -12.0043, 179.0085, 2572,    101.5, 2,  27.7046, 2,  36.0472, 2,  36.0490, 2,    176.6, 2,    177.1, 2,     0.72, 2,     0.18, 2,     0.04, 2,     0.32, 2,    1.628, 2,    1.009, 2,    0.620, 4, -999.000, 9,   2041.1, 2,   2374.5, 6,    8.0811,     25.00,   -999.0, 9,   -999.0,  -999.00, 9,   -999.0,  27.6808, 23.2868,  27.7012, 2, 2, 0.12, 0.03, 0.01, 0.014,  -999.00, 9, -999.00, -999.00, 9, -999.00
49NZ20071122, P14N, 177, 1, 33, X12033, 2, 20071210, 2148, -12.0043, 179.0085, 2572,    151.1, 2,  24.6109, 2,  36.1153, 2,  36.0828, 2,    154.1, 2,    156.0, 2,     0.81, 2,     3.15, 2,     0.05, 2,     0.48, 2,    1.850, 6,    1.107, 6,    0.164, 4, -999.000, 9,   2080.5, 2,   2371.6, 2,    8.0143,     25.00,   -999.0, 9,   -999.0,  -999.00, 9,   -999.0,  24.5784, 24.3125,  24.6104, 2, 6, 0.12, 0.04, 0.01, 0.013,  -999.00, 9, -999.00, -999.00, 9, -999.00
49NZ20071122, P14N, 177, 1, 32, X12038, 2, 20071210, 2148, -12.0043, 179.0085, 2572,    201.5, 2,  21.6083, 2,  35.8850, 2,  35.8831, 2,    153.6, 2,    153.7, 2,     1.03, 2,     5.31, 2,     0.01, 2,     0.59, 2,    2.064, 2,    1.186, 2,    0.050, 2, -999.000, 9,   2099.5, 2,   2358.2, 2,    7.9620,     25.00,   -999.0, 9,   -999.0,  -999.00, 9,   -999.0,  21.5687, 25.0111,  21.6081, 2, 2, 0.12, 0.05, 0.01, 0.013,  -999.00, 9, -999.00, -999.00, 9, -999.00
49NZ20071122, P14N, 177, 1, 31, X12003, 2, 20071210, 2148, -12.0043, 179.0085, 2572,    249.5, 2,  18.2710, 2,  35.5207, 2,  35.5183, 6,    144.8, 2,    145.6, 2,     2.96, 2,     9.39, 2,     0.01, 2,     0.89, 2,    2.083, 2,    1.149, 2,    0.027, 2, -999.000, 9,   2123.5, 2,   2338.5, 2,    7.8836,     25.00,   -999.0, 9,   -999.0,  -999.00, 9,   -999.0,  18.2275, 25.6144,  18.2713, 2, 2, 0.13, 0.06, 0.01, 0.013,  -999.00, 9, -999.00, -999.00, 9, -999.00
49NZ20071122, P14N, 177, 1, 30, X12008, 2, 20071210, 2148, -12.0043, 179.0085, 2572,    279.6, 2,  16.7106, 2,  35.3332, 2,  35.3237, 2,    144.3, 2,    148.3, 2,     3.94, 2,    10.71, 2,     0.01, 2,     0.97, 2,    2.041, 2,    1.105, 2,    0.018, 2, -999.000, 9,   2124.0, 3,   2326.1, 2,    7.8589,     25.00,   -999.0, 9,   -999.0,  -999.00, 9,   -999.0,  16.6648, 25.8495,  16.7129, 2, 2, 0.13, 0.06, 0.01, 0.013,  -999.00, 9, -999.00, -999.00, 9, -999.00
49NZ20071122, P14N, 177, 1, 29, X12035, 2, 20071210, 2148, -12.0043, 179.0085, 2572,    369.7, 2,  11.2689, 2,  34.8060, 2,  34.8012, 2,    108.7, 2,    108.6, 2,    15.41, 2,    23.81, 2,     0.01, 2,     1.83, 2,    0.977, 2,    0.507, 2,    0.014, 2, -999.000, 9,   2187.8, 2,   2305.2, 2,    7.6679,     25.00,   -999.0, 9,   -999.0,  -999.00, 9,   -999.0,  11.2223, 26.5840,  11.2611, 2, 2, 0.15, 0.10, 0.01, 0.015,  -999.00, 9, -999.00, -999.00, 9, -999.00
49NZ20071122, P14N, 177, 1, 28, X12034, 2, 20071210, 2148, -12.0043, 179.0085, 2572,    470.0, 2,   8.1032, 2,  34.5905, 2,  34.5880, 6,    131.3, 2,    130.4, 2,    24.72, 2,    28.95, 2,     0.01, 2,     2.08, 2,    0.483, 2,    0.251, 2,    0.010, 2, -999.000, 9,   2201.0, 2,   2304.0, 2,    7.6279,     25.00,   -999.0, 9,   -999.0,  -999.00, 9,   -999.0,   8.0547, 26.9440,   8.1063, 2, 2, 0.17, 0.11, 0.01, 0.015,  -999.00, 9, -999.00, -999.00, 9, -999.00
49NZ20071122, P14N, 177, 1, 27, X12049, 2, 20071210, 2148, -12.0043, 179.0085, 2572,    571.8, 2,   6.4249, 2,  34.4821, 2,  34.4815, 2,    156.1, 2,    156.7, 2,    30.30, 2,    30.24, 2,     0.01, 2,     2.13, 2,    0.407, 2,    0.207, 2,    0.012, 2, -999.000, 9,   2202.1, 2,   2306.5, 2,    7.6319,     25.00,   -999.0, 9,   -999.0,  -999.00, 9,   -999.0,   6.3728, 27.0953,   6.4254, 2, 2, 0.19, 0.12, 0.01, 0.015,  -999.00, 9, -999.00, -999.00, 9, -999.00
49NZ20071122, P14N, 177, 1, 26, X12032, 2, 20071210, 2148, -12.0043, 179.0085, 2572,    671.4, 2,   5.6040, 2,  34.4752, 2,  34.4745, 2,    150.7, 2,    150.5, 2,    40.70, 2,    32.33, 2,     0.00, 2,     2.28, 2,    0.221, 6,    0.118, 6,    0.000, 6, -999.000, 9,   2219.0, 6,   2315.1, 2,    7.6106,     25.00,   -999.0, 9,   -999.0,  -999.00, 9,   -999.0,   5.5466, 27.1944,   5.6042, 2, 2, 0.21, 0.12, 0.01, 0.016,  -999.00, 9, -999.00, -999.00, 9, -999.00
49NZ20071122, P14N, 177, 1, 25, X12043, 2, 20071210, 2148, -12.0043, 179.0085, 2572,    769.0, 2,   5.0002, 2,  34.4829, 2,  34.4822, 2,    145.6, 2,    145.8, 2,    50.71, 2,    33.74, 2,     0.01, 2,     2.38, 2,    0.115, 2,    0.060, 2,    0.000, 2, -999.000, 9,   2235.4, 2,   2325.4, 6,    7.5946,     25.00,   -999.0, 9,   -999.0,  -999.00, 9,   -999.0,   4.9374, 27.2725,   5.0003, 2, 2, 0.23, 0.13, 0.01, 0.016,  -999.00, 9, -999.00, -999.00, 9, -999.00
49NZ20071122, P14N, 177, 1, 24, X12030, 2, 20071210, 2148, -12.0043, 179.0085, 2572,    871.5, 2,   4.6353, 2,  34.4951, 2,  34.4940, 2,    141.9, 2,    140.7, 2,    57.83, 2,    34.62, 2,     0.01, 2,     2.44, 2,    0.072, 2,    0.037, 2,    0.000, 2, -999.000, 9,   2244.6, 2,   2332.7, 2,    7.5829,     25.00,   -999.0, 9,   -999.0,  -999.00, 9,   -999.0,   4.5659, 27.3239,   4.6355, 2, 2, 0.25, 0.13, 0.01, 0.016,  -999.00, 9, -999.00, -999.00, 9, -999.00
49NZ20071122, P14N, 177, 1, 23, X12027, 2, 20071210, 2148, -12.0043, 179.0085, 2572,    968.7, 2,   4.2712, 2,  34.5143, 2,  34.5138, 6,    134.6, 2,    134.4, 2,    67.06, 2,    35.56, 2,     0.00, 2,     2.51, 2,    0.032, 2,    0.018, 2,    0.000, 2, -999.000, 9,   2259.3, 2,   2342.0, 2,    7.5708,     25.00,   -999.0, 9,   -999.0,  -999.00, 9,   -999.0,   4.1961, 27.3792,   4.2714, 2, 2, 0.27, 0.13, 0.01, 0.016,  -999.00, 9, -999.00, -999.00, 9, -999.00
49NZ20071122, P14N, 177, 1, 22, X12028, 2, 20071210, 2148, -12.0043, 179.0085, 2572,   1128.6, 2,   3.7921, 2,  34.5351, 2,  34.5353, 2,    134.1, 2,    134.1, 2,    77.76, 2,    36.05, 2,     0.01, 2,     2.55, 2,    0.016, 2,    0.011, 2,    0.002, 2, -999.000, 9,   2271.5, 2,   2354.8, 2,    7.5688,     25.00,   -999.0, 9,   -999.0,  -999.00, 9,   -999.0,   3.7074, 27.4462,   3.7921, 2, 2, 0.29, 0.13, 0.01, 0.016,  -999.00, 9, -999.00, -999.00, 9, -999.00
49NZ20071122, P14N, 177, 1, 21, X12009, 2, 20071210, 2148, -12.0043, 179.0085, 2572,   1330.6, 2,   3.1401, 2,  34.5622, 2,  34.5622, 2,    141.3, 2,    141.5, 2,    89.97, 2,    35.89, 2,     0.00, 2,     2.54, 2,    0.009, 2,    0.007, 2,    0.000, 2, -999.000, 9,   2280.9, 2,   2366.6, 2,    7.5761,     25.00,   -999.0, 9,   -999.0,  -999.00, 9,   -999.0,   3.0448, 27.5315,   3.1400, 2, 2, 0.32, 0.13, 0.01, 0.016,  -999.00, 9, -999.00, -999.00, 9, -999.00
49NZ20071122, P14N, 177, 1, 20, X12026, 2, 20071210, 2148, -12.0043, 179.0085, 2572,   1529.7, 2,   2.8040, 2,  34.5887, 2,  34.5883, 2,    139.1, 2,    139.2, 2,    99.71, 2,    36.20, 2,     0.00, 2,     2.56, 2,    0.005, 2,    0.005, 2,    0.000, 2, -999.000, 9,   2293.4, 2,   2378.1, 2,    7.5727,     25.00,   -999.0, 9,   -999.0,  -999.00, 9,   -999.0,   2.6959, 27.5840,   2.8041, 2, 6, 0.34, 0.13, 0.01, 0.016,  -999.00, 9, -999.00, -999.00, 9, -999.00
49NZ20071122, P14N, 177, 1, 19, X12025, 2, 20071210, 2148, -12.0043, 179.0085, 2572,   1732.3, 2,   2.5145, 2,  34.6074, 2,  34.6068, 2,    143.0, 2,    143.2, 2,   106.34, 2,    36.07, 2,     0.00, 2,     2.55, 2,    0.004, 2,    0.005, 2,    0.000, 2, -999.000, 9,   2298.4, 2,   2384.6, 2,    7.5791,     25.00,   -999.0, 9,   -999.0,  -999.00, 9,   -999.0,   2.3932, 27.6251,   2.5147, 2, 2, 0.35, 0.13, 0.01, 0.016,  -999.00, 9, -999.00, -999.00, 9, -999.00
49NZ20071122, P14N, 177, 1, 18, X12024, 2, 20071210, 2148, -12.0043, 179.0085, 2572,   1927.5, 2,   2.2468, 2,  34.6293, 2,  34.6290, 2,    143.6, 2,    143.7, 2,   114.93, 2,    36.14, 2,     0.00, 2,     2.55, 2,    0.003, 2,    0.004, 2,    0.000, 2, -999.000, 9,   2306.1, 2,   2394.5, 2,    7.5810,     25.00,   -999.0, 9,   -999.0,  -999.00, 9,   -999.0,   2.1128, 27.6657,   2.2460, 2, 2, 0.37, 0.13, 0.01, 0.016,  -999.00, 9, -999.00, -999.00, 9, -999.00
49NZ20071122, P14N, 177, 1, 17, X12023, 2, 20071210, 2148, -12.0043, 179.0085, 2572,   2128.9, 2,   2.0622, 2,  34.6438, 2,  34.6436, 6,    144.8, 2,    144.8, 2,   120.77, 2,    36.10, 2,     0.01, 2,     2.55, 2,    0.000, 2,    0.002, 2,    0.000, 2, -999.000, 9,   2311.0, 2,   2400.9, 2,    7.5846,     25.00,   -999.0, 9,   -999.0,  -999.00, 9,   -999.0,   1.9138, 27.6931,   2.0622, 2, 2, 0.38, 0.13, 0.01, 0.016,  -999.00, 9, -999.00, -999.00, 9, -999.00
49NZ20071122, P14N, 177, 1, 16, X12022, 2, 20071210, 2148, -12.0043, 179.0085, 2572,   2330.4, 2,   1.9134, 2,  34.6546, 2,  34.6546, 2,    145.8, 2,    145.9, 2,   124.92, 2,    36.10, 2,     0.01, 2,     2.55, 2,    0.003, 2,    0.002, 2,    0.000, 2, -999.000, 9,   2316.5, 6,   2405.2, 2,    7.5857,     25.00,   -999.0, 9,   -999.0,  -999.00, 9,   -999.0,   1.7499, 27.7144,   1.9133, 2, 2, 0.39, 0.13, 0.01, 0.016,  -999.00, 9, -999.00, -999.00, 9, -999.00
49NZ20071122, P14N, 177, 1, 15, X12021, 2, 20071210, 2148, -12.0043, 179.0085, 2572,   2529.2, 2,   1.8315, 2,  34.6607, 2,  34.6610, 6,    147.3, 2,    147.4, 2,   127.44, 2,    36.03, 2,     0.00, 2,     2.54, 2, -999.000, 9, -999.000, 9, -999.000, 9, -999.000, 9,   2318.7, 2,   2407.4, 6,    7.5870,     25.00,   -999.0, 9,   -999.0,  -999.00, 9,   -999.0,   1.6517, 27.7267,   1.8313, 2, 2, 0.40, 0.13, 0.01, 0.016,  -999.00, 9, -999.00, -999.00, 9, -999.00
49NZ20071122, P14N, 177, 1, 14, X12020, 9, 20071210, 2148, -12.0043, 179.0085, 2572,     11.0, 2,  28.9577, 2,  34.5327, 2, -999.0000, 9,    196.8, 2,   -999.0, 9,  -999.00, 9,  -999.00, 9,  -999.00, 9,  -999.00, 9, -999.000, 9, -999.000, 9, -999.000, 9, -999.000, 9,   -999.0, 9,   -999.0, 9, -999.0000,   -999.00,   -999.0, 9,   -999.0,  -999.00, 9,   -999.0,  28.9550, 21.7283,  28.9640, 2, 9, -999.00, -999.00, -999.00, -999.000,  -999.00, 9, -999.00, -999.00, 9, -999.00
49NZ20071122, P14N, 177, 1, 13, X12019, 9, 20071210, 2148, -12.0043, 179.0085, 2572,    279.3, 2,  16.7167, 2,  35.3323, 2, -999.0000, 9,    144.3, 2,   -999.0, 9,  -999.00, 9,  -999.00, 9,  -999.00, 9,  -999.00, 9, -999.000, 9, -999.000, 9, -999.000, 9, -999.000, 9,   -999.0, 9,   -999.0, 9, -999.0000,   -999.00,   -999.0, 9,   -999.0,  -999.00, 9,   -999.0,  16.6709, 25.8473,  16.7187, 2, 9, -999.00, -999.00, -999.00, -999.000,  -999.00, 9, -999.00, -999.00, 9, -999.00
49NZ20071122, P14N, 177, 1, 12, X12040, 9, 20071210, 2148, -12.0043, 179.0085, 2572,    369.0, 2,  11.1418, 2,  34.7963, 2, -999.0000, 9,    108.9, 2,   -999.0, 9,  -999.00, 9,  -999.00, 9,  -999.00, 9,  -999.00, 9, -999.000, 9, -999.000, 9, -999.000, 9, -999.000, 9,   -999.0, 9,   -999.0, 9, -999.0000,   -999.00,   -999.0, 9,   -999.0,  -999.00, 9,   -999.0,  11.0957, 26.5996,  11.1385, 2, 9, -999.00, -999.00, -999.00, -999.000,  -999.00, 9, -999.00, -999.00, 9, -999.00
49NZ20071122, P14N, 177, 1, 11, X12047, 9, 20071210, 2148, -12.0043, 179.0085, 2572,    469.4, 2,   8.1166, 2,  34.5908, 2, -999.0000, 9,    131.3, 2,   -999.0, 9,  -999.00, 9,  -999.00, 9,  -999.00, 9,  -999.00, 9, -999.000, 9, -999.000, 9, -999.000, 9, -999.000, 9,   -999.0, 9,   -999.0, 9, -999.0000,   -999.00,   -999.0, 9,   -999.0,  -999.00, 9,   -999.0,   8.0681, 26.9422,   8.1184, 2, 9, -999.00, -999.00, -999.00, -999.000,  -999.00, 9, -999.00, -999.00, 9, -999.00
49NZ20071122, P14N, 177, 1, 10, X12012, 9, 20071210, 2148, -12.0043, 179.0085, 2572,    571.9, 2,   6.4259, 2,  34.4820, 2, -999.0000, 9,    156.1, 2,   -999.0, 9,  -999.00, 9,  -999.00, 9,  -999.00, 9,  -999.00, 9, -999.000, 9, -999.000, 9, -999.000, 9, -999.000, 9,   -999.0, 9,   -999.0, 9, -999.0000,   -999.00,   -999.0, 9,   -999.0,  -999.00, 9,   -999.0,   6.3738, 27.0951,   6.4266, 2, 9, -999.00, -999.00, -999.00, -999.000,  -999.00, 9, -999.00, -999.00, 9, -999.00
49NZ20071122, P14N, 177, 1, 9, X12015, 9, 20071210, 2148, -12.0043, 179.0085, 2572,    670.2, 2,   5.6089, 2,  34.4749, 2, -999.0000, 9,    150.7, 2,   -999.0, 9,  -999.00, 9,  -999.00, 9,  -999.00, 9,  -999.00, 9, -999.000, 9, -999.000, 9, -999.000, 9, -999.000, 9,   -999.0, 9,   -999.0, 9, -999.0000,   -999.00,   -999.0, 9,   -999.0,  -999.00, 9,   -999.0,   5.5516, 27.1935,   5.6085, 2, 9, -999.00, -999.00, -999.00, -999.000,  -999.00, 9, -999.00, -999.00, 9, -999.00
49NZ20071122, P14N, 177, 1, 8, X12046, 9, 20071210, 2148, -12.0043, 179.0085, 2572,    768.4, 2,   4.9975, 2,  34.4823, 2, -999.0000, 9,    145.6, 2,   -999.0, 9,  -999.00, 9,  -999.00, 9,  -999.00, 9,  -999.00, 9, -999.000, 9, -999.000, 9, -999.000, 9, -999.000, 9,   -999.0, 9,   -999.0, 9, -999.0000,   -999.00,   -999.0, 9,   -999.0,  -999.00, 9,   -999.0,   4.9348, 27.2723,   4.9978, 2, 9, -999.00, -999.00, -999.00, -999.000,  -999.00, 9, -999.00, -999.00, 9, -999.00
49NZ20071122, P14N, 177, 1, 7, X12044, 9, 20071210, 2148, -12.0043, 179.0085, 2572,    869.4, 2,   4.6350, 2,  34.4938, 2, -999.0000, 9,    142.1, 2,   -999.0, 9,  -999.00, 9,  -999.00, 9,  -999.00, 9,  -999.00, 9, -999.000, 9, -999.000, 9, -999.000, 9, -999.000, 9,   -999.0, 9,   -999.0, 9, -999.0000,   -999.00,   -999.0, 9,   -999.0,  -999.00, 9,   -999.0,   4.5658, 27.3229,   4.6352, 2, 9, -999.00, -999.00, -999.00, -999.000,  -999.00, 9, -999.00, -999.00, 9, -999.00
49NZ20071122, P14N, 177, 1, 6, X12048, 9, 20071210, 2148, -12.0043, 179.0085, 2572,    968.8, 2,   4.2712, 2,  34.5142, 2, -999.0000, 9,    134.6, 2,   -999.0, 9,  -999.00, 9,  -999.00, 9,  -999.00, 9,  -999.00, 9, -999.000, 9, -999.000, 9, -999.000, 9, -999.000, 9,   -999.0, 9,   -999.0, 9, -999.0000,   -999.00,   -999.0, 9,   -999.0,  -999.00, 9,   -999.0,   4.1961, 27.3791,   4.2711, 2, 9, -999.00, -999.00, -999.00, -999.000,  -999.00, 9, -999.00, -999.00, 9, -999.00
49NZ20071122, P14N, 177, 1, 5, X12014, 9, 20071210, 2148, -12.0043, 179.0085, 2572,   1128.7, 2,   3.7930, 2,  34.5350, 2, -999.0000, 9,    134.1, 2,   -999.0, 9,  -999.00, 9,  -999.00, 9,  -999.00, 9,  -999.00, 9, -999.000, 9, -999.000, 9, -999.000, 9, -999.000, 9,   -999.0, 9,   -999.0, 9, -999.0000,   -999.00,   -999.0, 9,   -999.0,  -999.00, 9,   -999.0,   3.7083, 27.4460,   3.7932, 2, 9, -999.00, -999.00, -999.00, -999.000,  -999.00, 9, -999.00, -999.00, 9, -999.00
49NZ20071122, P14N, 177, 1, 4, X12006, 9, 20071210, 2148, -12.0043, 179.0085, 2572,   1329.7, 2,   3.1383, 2,  34.5624, 2, -999.0000, 9,    141.3, 2,   -999.0, 9,  -999.00, 9,  -999.00, 9,  -999.00, 9,  -999.00, 9, -999.000, 9, -999.000, 9, -999.000, 9, -999.000, 9,   -999.0, 9,   -999.0, 9, -999.0000,   -999.00,   -999.0, 9,   -999.0,  -999.00, 9,   -999.0,   3.0431, 27.5318,   3.1377, 2, 9, -999.00, -999.00, -999.00, -999.000,  -999.00, 9, -999.00, -999.00, 9, -999.00
49NZ20071122, P14N, 177, 1, 3, X12013, 9, 20071210, 2148, -12.0043, 179.0085, 2572,   1529.5, 2,   2.8049, 2,  34.5888, 2, -999.0000, 9,    139.1, 2,   -999.0, 9,  -999.00, 9,  -999.00, 9,  -999.00, 9,  -999.00, 9, -999.000, 9, -999.000, 9, -999.000, 9, -999.000, 9,   -999.0, 9,   -999.0, 9, -999.0000,   -999.00,   -999.0, 9,   -999.0,  -999.00, 9,   -999.0,   2.6968, 27.5840,   2.8049, 2, 9, -999.00, -999.00, -999.00, -999.000,  -999.00, 9, -999.00, -999.00, 9, -999.00
49NZ20071122, P14N, 177, 1, 2, X12002, 9, 20071210, 2148, -12.0043, 179.0085, 2572,   1732.0, 2,   2.5160, 2,  34.6071, 2, -999.0000, 9,    143.0, 2,   -999.0, 9,  -999.00, 9,  -999.00, 9,  -999.00, 9,  -999.00, 9, -999.000, 9, -999.000, 9, -999.000, 9, -999.000, 9,   -999.0, 9,   -999.0, 9, -999.0000,   -999.00,   -999.0, 9,   -999.0,  -999.00, 9,   -999.0,   2.3947, 27.6247,   2.5161, 2, 9, -999.00, -999.00, -999.00, -999.000,  -999.00, 9, -999.00, -999.00, 9, -999.00
49NZ20071122, P14N, 177, 1, 1, X12001, 2, 20071210, 2148, -12.0043, 179.0085, 2572,   2597.7, 2,   1.7828, 2,  34.6639, 2,  34.6638, 6,    148.0, 2,    148.1, 2,   128.81, 2,    36.03, 2,     0.01, 2,     2.54, 2,    0.000, 2,    0.001, 2,    0.000, 2, -999.000, 9,   2317.5, 2,   2408.6, 2,    7.5882,     25.00,   -999.0, 9,   -999.0,  -999.00, 9,   -999.0,   1.5977, 27.7333,   1.7828, 2, 2, 0.40, 0.13, 0.01, 0.016,  -999.00, 9, -999.00, -999.00, 9, -999.00