BOTTLE,20220820CCHSIOAMB
EXPOCODE,SECT_ID,STNNBR,CASTNO,SAMPNO,BTLNBR,BTLNBR_FLAG_W,DATE,TIME,LATITUDE,LONGITUDE,DEPTH,CTDPRS,CTDPRS_FLAG_W,CTDTMP,CTDTMP_FLAG_W,CTDSAL,CTDSAL_FLAG_W,SALNTY,SALNTY_FLAG_W,CTDOXY,CTDOXY_FLAG_W,OXYGEN,OXYGEN_FLAG_W,SILCAT,SILCAT_FLAG_W,NITRAT,NITRAT_FLAG_W,NITRIT,NITRIT_FLAG_W,PHSPHT,PHSPHT_FLAG_W,CFC-11,CFC-11_FLAG_W,CFC-12,CFC-12_FLAG_W,CFC113,CFC113_FLAG_W,CCL4,CCL4_FLAG_W,TCARBN,TCARBN_FLAG_W,ALKALI,ALKALI_FLAG_W,PH_TOT,PH_TMP,DELC14,DELC14_FLAG_W,C14ERR,DELC13,DELC13_FLAG_W,C13ERR,THETA,SIG0,SBE35,SBE35_FLAG_W,PH_TOT_FLAG_W,SILUNC,NRAUNC,NRIUNC,PHPUNC,CS-137,CS-137_FLAG_W,CS137ER,PLUTO,PLUTO_FLAG_W,PLUTOER
,,,,,,,,,,,METERS,DBAR,,ITS-90,,PSS-78,,PSS-78,,UMOL/KG,,UMOL/KG,,UMOL/KG,,UMOL/KG,,UMOL/KG,,UMOL/KG,,PMOL/KG,,PMOL/KG,,PMOL/KG,,PMOL/KG,,UMOL/KG,,UMOL/KG,,,DEG C,/MILLE,,/MILLE,/MILLE,,/MILLE,DEG C,KG/M^3,ITS-90,,,UMOL/KG,UMOL/KG,UMOL/KG,UMOL/KG,DM/.1MG,,BQ/M^3,MBQ/M^3,,MBQ/M^3
49NZ20071122, P14, 22, 1, 36, X12042, 2, 20071219, 0505, -27.8367, 176.3652, 4349,     10.8, 2,  23.0533, 2,  35.2583, 2,  35.2584, 2,    217.5, 2,    218.5, 2,     0.22, 2,     0.04, 2,     0.00, 2,     0.06, 2,    1.949, 2,    1.160, 2,    0.279, 4, -999.000, 9,   -999.0, 9,   -999.0, 9, -999.0000,   -999.00,   -999.0, 9,   -999.0,  -999.00, 9,   -999.0,  23.0511, 24.1148,  23.0533, 2, 9, 0.12, 0.03, 0.01, 0.030,  -999.00, 9, -999.00, -999.00, 9, -999.00
49NZ20071122, P14, 22, 1, 35, X12041, 2, 20071219, 0505, -27.8367, 176.3652, 4349,     50.1, 2,  21.7199, 2,  35.6027, 2,  35.6130, 2,    223.2, 2,    223.8, 2,     0.22, 2,     0.04, 2,     0.00, 2,     0.08, 2,    2.022, 2,    1.211, 2,    0.346, 4, -999.000, 9,   -999.0, 9,   -999.0, 9, -999.0000,   -999.00,   -999.0, 9,   -999.0,  -999.00, 9,   -999.0,  21.7101, 24.7570,  21.7158, 2, 9, 0.12, 0.03, 0.01, 0.026,  -999.00, 9, -999.00, -999.00, 9, -999.00
49NZ20071122, P14, 22, 1, 34, X12016, 2, 20071219, 0505, -27.8367, 176.3652, 4349,    100.8, 2,  18.8761, 2,  35.7018, 2,  35.6989, 2,    214.6, 2,    213.4, 2,     0.43, 2,     0.97, 2,     0.11, 2,     0.20, 2,    2.259, 2,    1.311, 2,    0.198, 4, -999.000, 9,   -999.0, 9,   -999.0, 9, -999.0000,   -999.00,   -999.0, 9,   -999.0,  -999.00, 9,   -999.0,  18.8582, 25.5940,  18.8767, 2, 9, 0.12, 0.04, 0.01, 0.016,  -999.00, 1, -999.00, -999.00, 9, -999.00
49NZ20071122, P14, 22, 1, 33, X12033, 2, 20071219, 0505, -27.8367, 176.3652, 4349,    151.4, 2,  17.8290, 2,  35.6467, 2,  35.6474, 2,    203.4, 2,    203.5, 2,     0.71, 2,     3.44, 2,     0.02, 2,     0.35, 2,    2.349, 6,    1.348, 6,    0.130, 4, -999.000, 9,   -999.0, 9,   -999.0, 9, -999.0000,   -999.00,   -999.0, 9,   -999.0,  -999.00, 9,   -999.0,  17.8031, 25.8161,  17.8299, 2, 9, 0.12, 0.04, 0.01, 0.014,  -999.00, 9, -999.00, -999.00, 9, -999.00
49NZ20071122, P14, 22, 1, 32, X12038, 2, 20071219, 0505, -27.8367, 176.3652, 4349,    198.7, 2,  16.9279, 2,  35.5725, 2,  35.5627, 2,    200.3, 2,    199.4, 2,     1.12, 2,     5.17, 2,     0.01, 2,     0.46, 2,    2.410, 2,    1.369, 2,    0.089, 2, -999.000, 9,   -999.0, 9,   -999.0, 9, -999.0000,   -999.00,   -999.0, 9,   -999.0,  -999.00, 9,   -999.0,  16.8951, 25.9788,  16.9282, 2, 9, 0.12, 0.05, 0.01, 0.013,  -999.00, 1, -999.00, -999.00, 9, -999.00
49NZ20071122, P14, 22, 1, 31, X12003, 2, 20071219, 0505, -27.8367, 176.3652, 4349,    249.0, 2,  15.9493, 2,  35.4608, 2,  35.4520, 6,    197.5, 2,    197.6, 2,     1.63, 2,     6.77, 2,     0.01, 2,     0.57, 2,    2.473, 2,    1.388, 2,    0.078, 2, -999.000, 9,   -999.0, 9,   -999.0, 9, -999.0000,   -999.00,   -999.0, 9,   -999.0,  -999.00, 9,   -999.0,  15.9098, 26.1228,  15.9507, 2, 9, 0.12, 0.05, 0.01, 0.013,  -999.00, 9, -999.00, -999.00, 9, -999.00
49NZ20071122, P14, 22, 1, 30, X12008, 2, 20071219, 0505, -27.8367, 176.3652, 4349,    281.2, 2,  15.0634, 2,  35.3747, 2,  35.3692, 2,    197.5, 2,    197.4, 2,     2.09, 2,     8.18, 2,     0.01, 2,     0.66, 2,    2.510, 2,    1.387, 2,    0.068, 2, -999.000, 9,   -999.0, 9,   -999.0, 9, -999.0000,   -999.00,   -999.0, 9,   -999.0,  -999.00, 9,   -999.0,  15.0205, 26.2565,  15.0647, 2, 9, 0.12, 0.06, 0.01, 0.013,  -999.00, 9, -999.00, -999.00, 9, -999.00
49NZ20071122, P14, 22, 1, 29, X12035, 2, 20071219, 0505, -27.8367, 176.3652, 4349,    371.9, 2,  12.9675, 2,  35.1159, 2,  35.1223, 2,    196.6, 2,    197.1, 2,     3.29, 2,    11.66, 2,     0.01, 2,     0.88, 2,    2.560, 2,    1.374, 2,    0.071, 2, -999.000, 9,   -999.0, 9,   -999.0, 9, -999.0000,   -999.00,   -999.0, 9,   -999.0,  -999.00, 9,   -999.0,  12.9160, 26.4996,  12.9691, 2, 9, 0.13, 0.07, 0.01, 0.013,  -999.00, 1, -999.00, -999.00, 9, -999.00
49NZ20071122, P14, 22, 1, 28, X12034, 2, 20071219, 0505, -27.8367, 176.3652, 4349,    469.0, 2,  10.7810, 2,  34.8224, 2,  34.8072, 6,    201.9, 2,    202.5, 2,     4.53, 2,    15.90, 2,     0.00, 2,     1.15, 2,    2.594, 2,    1.335, 2,    0.085, 2, -999.000, 9,   -999.0, 9,   -999.0, 9, -999.0000,   -999.00,   -999.0, 9,   -999.0,  -999.00, 9,   -999.0,  10.7233, 26.6870,  10.7783, 2, 9, 0.13, 0.08, 0.01, 0.013,  -999.00, 9, -999.00, -999.00, 9, -999.00
49NZ20071122, P14, 22, 1, 27, X12049, 2, 20071219, 0505, -27.8367, 176.3652, 4349,    573.8, 2,   8.6599, 2,  34.5739, 2,  34.5769, 2,    212.2, 2,    212.1, 2,     6.09, 2,    19.80, 2,     0.00, 2,     1.40, 2,    2.509, 2,    1.240, 2,    0.091, 2, -999.000, 9,   -999.0, 9,   -999.0, 9, -999.0000,   -999.00,   -999.0, 9,   -999.0,  -999.00, 9,   -999.0,   8.5980, 26.8480,   8.6611, 2, 9, 0.13, 0.09, 0.01, 0.014,  -999.00, 1, -999.00, -999.00, 9, -999.00
49NZ20071122, P14, 22, 1, 26, X12032, 2, 20071219, 0505, -27.8367, 176.3652, 4349,    670.4, 2,   7.5332, 2,  34.4582, 2,  34.4580, 2,    218.9, 2,    220.5, 2,     7.81, 2,    22.18, 2,     0.00, 2,     1.55, 2,    2.277, 2,    1.104, 2,    0.077, 2, -999.000, 9,   -999.0, 9,   -999.0, 9, -999.0000,   -999.00,   -999.0, 9,   -999.0,  -999.00, 9,   -999.0,   7.4662, 26.9263,   7.5347, 2, 9, 0.14, 0.09, 0.01, 0.014,  -999.00, 9, -999.00, -999.00, 9, -999.00
49NZ20071122, P14, 22, 1, 25, X12043, 2, 20071219, 0505, -27.8367, 176.3652, 4349,    769.5, 2,   6.4900, 2,  34.3848, 2,  34.3819, 2,    221.2, 2,    219.9, 2,    12.50, 2,    25.06, 2,     0.00, 2,     1.74, 2,    1.556, 2,    0.747, 2,    0.049, 2, -999.000, 9,   -999.0, 9,   -999.0, 9, -999.0000,   -999.00,   -999.0, 9,   -999.0,  -999.00, 9,   -999.0,   6.4186, 27.0125,   6.4918, 2, 9, 0.15, 0.10, 0.01, 0.014,  -999.00, 1, -999.00, -999.00, 9, -999.00
49NZ20071122, P14, 22, 1, 24, X12030, 2, 20071219, 0505, -27.8367, 176.3652, 4349,    871.4, 2,   5.6911, 2,  34.3594, 2,  34.3589, 2,    211.2, 2,    210.3, 2,    19.39, 2,    27.58, 2,     0.00, 2,     1.91, 2,    0.947, 2,    0.459, 2,    0.024, 2, -999.000, 9,   -999.0, 9,   -999.0, 9, -999.0000,   -999.00,   -999.0, 9,   -999.0,  -999.00, 9,   -999.0,   5.6149, 27.0944,   5.6927, 2, 9, 0.16, 0.11, 0.01, 0.015,  -999.00, 9, -999.00, -999.00, 9, -999.00
49NZ20071122, P14, 22, 1, 23, X12027, 2, 20071219, 0505, -27.8367, 176.3652, 4349,    970.0, 2,   5.2317, 2,  34.3808, 2,  34.3811, 2,    197.9, 2,    197.7, 2,    28.10, 2,    29.39, 2,     0.00, 2,     2.04, 2,    0.588, 2,    0.288, 2,    0.016, 2, -999.000, 9,   -999.0, 9,   -999.0, 9, -999.0000,   -999.00,   -999.0, 9,   -999.0,  -999.00, 9,   -999.0,   5.1496, 27.1670,   5.2318, 2, 9, 0.18, 0.12, 0.01, 0.015,  -999.00, 1, -999.00, -999.00, 9, -999.00
49NZ20071122, P14, 22, 1, 22, X12028, 2, 20071219, 0505, -27.8367, 176.3652, 4349,   1133.2, 2,   3.9685, 2,  34.4414, 2,  34.4433, 6,    177.0, 2,    176.6, 2,    53.28, 2,    32.78, 2,     0.00, 2,     2.29, 2,    0.163, 2,    0.083, 2,    0.010, 2, -999.000, 9,   -999.0, 9,   -999.0, 9, -999.0000,   -999.00,   -999.0, 9,   -999.0,  -999.00, 9,   -999.0,   3.8820, 27.3540,   3.9696, 2, 9, 0.24, 0.12, 0.01, 0.016,  -999.00, 9, -999.00, -999.00, 9, -999.00
49NZ20071122, P14, 22, 1, 21, X12009, 2, 20071219, 0505, -27.8367, 176.3652, 4349,   1331.7, 2,   3.2600, 2,  34.5325, 2,  34.5337, 2,    162.4, 2,    163.6, 2,    77.00, 2,    33.96, 2,     0.00, 2,     2.38, 2,    0.074, 2,    0.036, 2,    0.004, 2, -999.000, 9,   -999.0, 9,   -999.0, 9, -999.0000,   -999.00,   -999.0, 9,   -999.0,  -999.00, 9,   -999.0,   3.1634, 27.4968,   3.2602, 2, 9, 0.29, 0.13, 0.01, 0.016,  -999.00, 9, -999.00, -999.00, 9, -999.00
49NZ20071122, P14, 22, 1, 20, X12026, 2, 20071219, 0505, -27.8367, 176.3652, 4349,   1530.6, 2,   2.7691, 2,  34.5893, 2,  34.5900, 2,    156.4, 2,    156.6, 2,    93.98, 2,    34.71, 2,     0.00, 2,     2.44, 2,    0.029, 2,    0.014, 2,    0.000, 2, -999.000, 9,   -999.0, 9,   -999.0, 9, -999.0000,   -999.00,   -999.0, 9,   -999.0,  -999.00, 9,   -999.0,   2.6614, 27.5875,   2.7692, 2, 9, 0.33, 0.13, 0.01, 0.016,  -999.00, 9, -999.00, -999.00, 9, -999.00
49NZ20071122, P14, 22, 1, 19, X12025, 2, 20071219, 0505, -27.8367, 176.3652, 4349,   1730.7, 2,   2.4518, 2,  34.6183, 2,  34.6182, 2,    152.5, 2,    152.3, 2,   104.01, 2,    35.20, 2,     0.00, 2,     2.48, 2,    0.005, 2,    0.003, 2,    0.000, 2, -999.000, 9,   -999.0, 9,   -999.0, 9, -999.0000,   -999.00,   -999.0, 9,   -999.0,  -999.00, 9,   -999.0,   2.3314, 27.6390,   2.4519, 2, 9, 0.35, 0.13, 0.01, 0.016,  -999.00, 9, -999.00, -999.00, 9, -999.00
49NZ20071122, P14, 22, 1, 18, X12024, 2, 20071219, 0505, -27.8367, 176.3652, 4349,   1930.5, 2,   2.2616, 2,  34.6367, 2,  34.6366, 2,    152.3, 2,    152.2, 2,   109.27, 2,    35.35, 2,     0.00, 2,     2.49, 2, -999.000, 9, -999.000, 9, -999.000, 9, -999.000, 9,   -999.0, 9,   -999.0, 9, -999.0000,   -999.00,   -999.0, 9,   -999.0,  -999.00, 9,   -999.0,   2.1271, 27.6705,   2.2616, 2, 9, 0.36, 0.13, 0.01, 0.016,  -999.00, 1, -999.00, -999.00, 9, -999.00
49NZ20071122, P14, 22, 1, 17, X12023, 2, 20071219, 0505, -27.8367, 176.3652, 4349,   2130.8, 2,   2.1235, 2,  34.6500, 2,  34.6493, 6,    152.4, 2,    152.2, 2,   112.98, 2,    35.40, 2,     0.00, 2,     2.50, 2,    0.001, 2,    0.000, 2,    0.000, 2, -999.000, 9,   -999.0, 9,   -999.0, 9, -999.0000,   -999.00,   -999.0, 9,   -999.0,  -999.00, 9,   -999.0,   1.9739, 27.6933,   2.1235, 2, 9, 0.37, 0.13, 0.01, 0.016,  -999.00, 9, -999.00, -999.00, 9, -999.00
49NZ20071122, P14, 22, 1, 16, X12022, 2, 20071219, 0505, -27.8367, 176.3652, 4349,   2331.1, 2,   2.0119, 2,  34.6606, 2,  34.6606, 2,    152.8, 2,    152.8, 2,   116.15, 2,    35.36, 2,     0.00, 2,     2.50, 2, -999.000, 9, -999.000, 9, -999.000, 9, -999.000, 9,   -999.0, 9,   -999.0, 9, -999.0000,   -999.00,   -999.0, 9,   -999.0,  -999.00, 9,   -999.0,   1.8466, 27.7117,   2.0119, 2, 9, 0.37, 0.13, 0.01, 0.016,  -999.00, 9, -999.00, -999.00, 9, -999.00
49NZ20071122, P14, 22, 1, 15, X12021, 2, 20071219, 0505, -27.8367, 176.3652, 4349,   2531.8, 2,   1.9182, 2,  34.6695, 2,  34.6694, 2,    153.5, 2,    153.6, 2,   118.51, 2,    35.43, 2,     0.00, 2,     2.49, 2,    0.000, 2,    0.000, 2,    0.000, 2, -999.000, 9,   -999.0, 9,   -999.0, 9, -999.0000,   -999.00,   -999.0, 9,   -999.0,  -999.00, 9,   -999.0,   1.7365, 27.7274,   1.9182, 2, 9, 0.38, 0.13, 0.01, 0.016,  -999.00, 9, -999.00, -999.00, 9, -999.00
49NZ20071122, P14, 22, 1, 14, X12020, 2, 20071219, 0505, -27.8367, 176.3652, 4349,   2729.3, 2,   1.8824, 2,  34.6737, 2,  34.6737, 2,    153.9, 2,    153.9, 2,   119.92, 2,    35.37, 2,     0.00, 2,     2.49, 2, -999.000, 9, -999.000, 9, -999.000, 9, -999.000, 9,   -999.0, 9,   -999.0, 9, -999.0000,   -999.00,   -999.0, 9,   -999.0,  -999.00, 9,   -999.0,   1.6831, 27.7348,   1.8825, 2, 9, 0.38, 0.13, 0.01, 0.016,  -999.00, 9, -999.00, -999.00, 9, -999.00
49NZ20071122, P14, 22, 1, 13, X12019, 2, 20071219, 0505, -27.8367, 176.3652, 4349,   2933.0, 2,   1.8441, 2,  34.6779, 2,  34.6779, 2,    154.1, 2,    154.3, 2,   121.18, 2,    35.34, 2,     0.00, 2,     2.49, 2,    0.001, 2,    0.000, 2,    0.000, 2, -999.000, 9,   -999.0, 9,   -999.0, 9, -999.0000,   -999.00,   -999.0, 9,   -999.0,  -999.00, 9,   -999.0,   1.6262, 27.7424,   1.8440, 2, 9, 0.39, 0.13, 0.01, 0.016,  -999.00, 1, -999.00, -999.00, 9, -999.00
49NZ20071122, P14, 22, 1, 12, X12040, 2, 20071219, 0505, -27.8367, 176.3652, 4349,   3171.2, 2,   1.8327, 2,  34.6800, 2,  34.6801, 2,    154.7, 2,    154.7, 2,   121.91, 2,    35.35, 2,     0.00, 2,     2.48, 2, -999.000, 9, -999.000, 9, -999.000, 9, -999.000, 9,   -999.0, 9,   -999.0, 9, -999.0000,   -999.00,   -999.0, 9,   -999.0,  -999.00, 9,   -999.0,   1.5917, 27.7467,   1.8327, 2, 9, 0.39, 0.13, 0.01, 0.016,  -999.00, 9, -999.00, -999.00, 9, -999.00
49NZ20071122, P14, 22, 1, 11, X12047, 2, 20071219, 0505, -27.8367, 176.3652, 4349,   3421.8, 2,   1.8337, 2,  34.6813, 2,  34.6810, 2,    155.1, 2,    155.2, 2,   122.39, 2,    35.30, 2,     0.00, 2,     2.48, 2,    0.000, 2,    0.000, 2,    0.000, 2, -999.000, 9,   -999.0, 9,   -999.0, 9, -999.0000,   -999.00,   -999.0, 9,   -999.0,  -999.00, 9,   -999.0,   1.5673, 27.7495,   1.8337, 2, 9, 0.39, 0.13, 0.01, 0.016,  -999.00, 9, -999.00, -999.00, 9, -999.00
49NZ20071122, P14, 22, 1, 10, X12012, 2, 20071219, 0505, -27.8367, 176.3652, 4349,   3669.7, 2,   1.8432, 2,  34.6823, 2,  34.6823, 2,    155.4, 2,    155.3, 2,   122.85, 2,    35.36, 2,     0.00, 2,     2.49, 2, -999.000, 9, -999.000, 9, -999.000, 9, -999.000, 9,   -999.0, 9,   -999.0, 9, -999.0000,   -999.00,   -999.0, 9,   -999.0,  -999.00, 9,   -999.0,   1.5506, 27.7515,   1.8432, 2, 9, 0.39, 0.13, 0.01, 0.016,  -999.00, 9, -999.00, -999.00, 9, -999.00
49NZ20071122, P14, 22, 1, 9, X12015, 2, 20071219, 0505, -27.8367, 176.3652, 4349,   3922.7, 2,   1.8597, 2,  34.6828, 2,  34.6828, 2,    155.5, 2,    155.5, 2,   123.22, 2,    35.34, 2,     0.00, 2,     2.49, 2,    0.000, 2,    0.000, 2,    0.000, 2, -999.000, 9,   -999.0, 9,   -999.0, 9, -999.0000,   -999.00,   -999.0, 9,   -999.0,  -999.00, 9,   -999.0,   1.5392, 27.7528,   1.8598, 2, 9, 0.39, 0.13, 0.01, 0.016,  -999.00, 1, -999.00, -999.00, 9, -999.00
49NZ20071122, P14, 22, 1, 8, X12046, 2, 20071219, 0505, -27.8367, 176.3652, 4349,   4169.1, 2,   1.8837, 2,  34.6827, 2,  34.6830, 6,    155.9, 2,    155.7, 2,   123.20, 2,    35.39, 2,     0.00, 2,     2.49, 2, -999.000, 9, -999.000, 9, -999.000, 9, -999.000, 9,   -999.0, 9,   -999.0, 9, -999.0000,   -999.00,   -999.0, 9,   -999.0,  -999.00, 9,   -999.0,   1.5351, 27.7529,   1.8836, 2, 9, 0.39, 0.13, 0.01, 0.016,  -999.00, 9, -999.00, -999.00, 9, -999.00
49NZ20071122, P14, 22, 1, 7, X12044, 2, 20071219, 0505, -27.8367, 176.3652, 4349,   4413.3, 2,   1.9111, 2,  34.6827, 2, -999.0000, 9,    155.9, 2,   -999.0, 9,  -999.00, 9,  -999.00, 9,  -999.00, 9,  -999.00, 9, -999.000, 9, -999.000, 9, -999.000, 9, -999.000, 9,   -999.0, 9,   -999.0, 9, -999.0000,   -999.00,   -999.0, 9,   -999.0,  -999.00, 9,   -999.0,   1.5336, 27.7531,   1.9112, 2, 9, -999.00, -999.00, -999.00, -999.000,  -999.00, 1, -999.00, -999.00, 9, -999.00
49NZ20071122, P14, 22, 1, 6, X12048, 2, 20071219, 0505, -27.8367, 176.3652, 4349,   4413.2, 2,   1.9111, 2,  34.6827, 2, -999.0000, 9,    155.9, 2,   -999.0, 9,  -999.00, 9,  -999.00, 9,  -999.00, 9,  -999.00, 9, -999.000, 9, -999.000, 9, -999.000, 9, -999.000, 9,   -999.0, 9,   -999.0, 9, -999.0000,   -999.00,   -999.0, 9,   -999.0,  -999.00, 9,   -999.0,   1.5336, 27.7531,   1.9111, 2, 9, -999.00, -999.00, -999.00, -999.000,  -999.00, 1, -999.00, -999.00, 9, -999.00
49NZ20071122, P14, 22, 1, 5, X12014, 2, 20071219, 0505, -27.8367, 176.3652, 4349,   1930.5, 2,   2.2612, 2,  34.6368, 2, -999.0000, 9,    152.3, 2,   -999.0, 9,  -999.00, 9,  -999.00, 9,  -999.00, 9,  -999.00, 9, -999.000, 9, -999.000, 9, -999.000, 9, -999.000, 9,   -999.0, 9,   -999.0, 9, -999.0000,   -999.00,   -999.0, 9,   -999.0,  -999.00, 9,   -999.0,   2.1267, 27.6706,   2.2612, 2, 9, -999.00, -999.00, -999.00, -999.000,  -999.00, 1, -999.00, -999.00, 9, -999.00
49NZ20071122, P14, 22, 1, 4, X12006, 2, 20071219, 0505, -27.8367, 176.3652, 4349,   2933.4, 2,   1.8444, 2,  34.6779, 2, -999.0000, 9,    154.1, 2,   -999.0, 9,  -999.00, 9,  -999.00, 9,  -999.00, 9,  -999.00, 9, -999.000, 9, -999.000, 9, -999.000, 9, -999.000, 9,   -999.0, 9,   -999.0, 9, -999.0000,   -999.00,   -999.0, 9,   -999.0,  -999.00, 9,   -999.0,   1.6265, 27.7424,   1.8444, 2, 9, -999.00, -999.00, -999.00, -999.000,  -999.00, 1, -999.00, -999.00, 9, -999.00
49NZ20071122, P14, 22, 1, 3, X12013, 2, 20071219, 0505, -27.8367, 176.3652, 4349,   3922.4, 2,   1.8598, 2,  34.6826, 2, -999.0000, 9,    155.5, 2,   -999.0, 9,  -999.00, 9,  -999.00, 9,  -999.00, 9,  -999.00, 9, -999.000, 9, -999.000, 9, -999.000, 9, -999.000, 9,   -999.0, 9,   -999.0, 9, -999.0000,   -999.00,   -999.0, 9,   -999.0,  -999.00, 9,   -999.0,   1.5394, 27.7526,   1.8598, 2, 9, -999.00, -999.00, -999.00, -999.000,  -999.00, 1, -999.00, -999.00, 9, -999.00
49NZ20071122, P14, 22, 1, 2, X12002, 2, 20071219, 0505, -27.8367, 176.3652, 4349,   4413.4, 2,   1.9110, 2,  34.6828, 2, -999.0000, 9,    155.9, 2,   -999.0, 9,  -999.00, 9,  -999.00, 9,  -999.00, 9,  -999.00, 9, -999.000, 9, -999.000, 9, -999.000, 9, -999.000, 9,   -999.0, 9,   -999.0, 9, -999.0000,   -999.00,   -999.0, 9,   -999.0,  -999.00, 9,   -999.0,   1.5335, 27.7532,   1.9111, 2, 9, -999.00, -999.00, -999.00, -999.000,  -999.00, 1, -999.00, -999.00, 9, -999.00
49NZ20071122, P14, 22, 1, 1, X12001, 2, 20071219, 0505, -27.8367, 176.3652, 4349,   4413.2, 2,   1.9110, 2,  34.6827, 2,  34.6830, 6,    155.9, 2,    155.7, 2,   123.26, 2,    35.38, 2,     0.00, 2,     2.49, 2,    0.002, 2,    0.000, 2,    0.000, 2, -999.000, 9,   -999.0, 9,   -999.0, 9, -999.0000,   -999.00,   -999.0, 9,   -999.0,  -999.00, 9,   -999.0,   1.5335, 27.7531,   1.9110, 2, 9, 0.39, 0.13, 0.01, 0.016,  -999.00, 1, -999.00, -999.00, 9, -999.00