BOTTLE,20220820CCHSIOAMB
EXPOCODE,SECT_ID,STNNBR,CASTNO,SAMPNO,BTLNBR,BTLNBR_FLAG_W,DATE,TIME,LATITUDE,LONGITUDE,DEPTH,CTDPRS,CTDPRS_FLAG_W,CTDTMP,CTDTMP_FLAG_W,CTDSAL,CTDSAL_FLAG_W,SALNTY,SALNTY_FLAG_W,CTDOXY,CTDOXY_FLAG_W,OXYGEN,OXYGEN_FLAG_W,SILCAT,SILCAT_FLAG_W,NITRAT,NITRAT_FLAG_W,NITRIT,NITRIT_FLAG_W,PHSPHT,PHSPHT_FLAG_W,CFC-11,CFC-11_FLAG_W,CFC-12,CFC-12_FLAG_W,CFC113,CFC113_FLAG_W,CCL4,CCL4_FLAG_W,TCARBN,TCARBN_FLAG_W,ALKALI,ALKALI_FLAG_W,PH_TOT,PH_TMP,DELC14,DELC14_FLAG_W,C14ERR,DELC13,DELC13_FLAG_W,C13ERR,THETA,SIG0,SBE35,SBE35_FLAG_W,PH_TOT_FLAG_W,SILUNC,NRAUNC,NRIUNC,PHPUNC,CS-137,CS-137_FLAG_W,CS137ER,PLUTO,PLUTO_FLAG_W,PLUTOER
,,,,,,,,,,,METERS,DBAR,,ITS-90,,PSS-78,,PSS-78,,UMOL/KG,,UMOL/KG,,UMOL/KG,,UMOL/KG,,UMOL/KG,,UMOL/KG,,PMOL/KG,,PMOL/KG,,PMOL/KG,,PMOL/KG,,UMOL/KG,,UMOL/KG,,,DEG C,/MILLE,,/MILLE,/MILLE,,/MILLE,DEG C,KG/M^3,ITS-90,,,UMOL/KG,UMOL/KG,UMOL/KG,UMOL/KG,DM/.1MG,,BQ/M^3,MBQ/M^3,,MBQ/M^3
49NZ20071122, P14, 47, 1, 36, X12042, 2, 20071214, 0444, -19.0475, 177.6410, 2518,     10.6, 2,  28.2680, 2,  34.6856, 2,  34.6853, 2,    203.0, 2,    201.9, 2,     0.83, 2,     0.05, 2,     0.00, 2,     0.10, 2,    1.518, 2,    0.939, 2,    0.336, 4, -999.000, 9,   -999.0, 9,   -999.0, 9, -999.0000,   -999.00,   -999.0, 9,   -999.0,  -999.00, 9,   -999.0,  28.2655, 22.0713,  28.2691, 2, 9, 0.12, 0.03, 0.01, 0.022,  -999.00, 9, -999.00, -999.00, 9, -999.00
49NZ20071122, P14, 47, 1, 35, X12041, 2, 20071214, 0444, -19.0475, 177.6410, 2518,     51.0, 2,  26.8292, 2,  35.0972, 2,  35.1131, 2,    206.5, 2,    205.5, 2,     0.63, 2,     0.04, 2,     0.00, 2,     0.12, 2,    1.638, 2,    1.005, 2,    0.482, 4, -999.000, 9,   -999.0, 9,   -999.0, 9, -999.0000,   -999.00,   -999.0, 9,   -999.0,  -999.00, 9,   -999.0,  26.8176, 22.8491,  26.8329, 2, 9, 0.12, 0.03, 0.01, 0.020,  -999.00, 9, -999.00, -999.00, 9, -999.00
49NZ20071122, P14, 47, 1, 34, X12016, 2, 20071214, 0444, -19.0475, 177.6410, 2518,    101.2, 2,  24.8797, 2,  35.5528, 2,  35.5645, 2,    185.2, 2,    187.3, 2,     0.55, 2,     0.35, 2,     0.16, 2,     0.20, 2,    1.781, 2,    1.075, 2,    0.287, 4, -999.000, 9,   -999.0, 9,   -999.0, 9, -999.0000,   -999.00,   -999.0, 9,   -999.0,  -999.00, 9,   -999.0,  24.8578, 23.8024,  24.8883, 2, 9, 0.12, 0.03, 0.01, 0.016,  -999.00, 9, -999.00, -999.00, 9, -999.00
49NZ20071122, P14, 47, 1, 33, X12033, 2, 20071214, 0444, -19.0475, 177.6410, 2518,    151.1, 2,  22.8698, 2,  35.6791, 2,  35.6858, 2,    168.1, 2,    168.8, 2,     0.74, 2,     2.62, 2,     0.02, 2,     0.35, 2,    1.958, 6,    1.153, 6,    0.137, 4, -999.000, 9,   -999.0, 9,   -999.0, 9, -999.0000,   -999.00,   -999.0, 9,   -999.0,  -999.00, 9,   -999.0,  22.8390, 24.4953,  22.8593, 2, 9, 0.12, 0.04, 0.01, 0.014,  -999.00, 9, -999.00, -999.00, 9, -999.00
49NZ20071122, P14, 47, 1, 32, X12038, 2, 20071214, 0444, -19.0475, 177.6410, 2518,    200.3, 2,  20.9449, 2,  35.7066, 2,  35.7008, 2,    167.2, 2,    167.4, 2,     0.88, 2,     3.97, 2,     0.01, 2,     0.44, 2,    2.115, 2,    1.208, 2,    0.056, 2, -999.000, 9,   -999.0, 9,   -999.0, 9, -999.0000,   -999.00,   -999.0, 9,   -999.0,  -999.00, 9,   -999.0,  20.9065, 25.0574,  20.9492, 2, 9, 0.12, 0.04, 0.01, 0.013,  -999.00, 9, -999.00, -999.00, 9, -999.00
49NZ20071122, P14, 47, 1, 31, X12003, 2, 20071214, 0444, -19.0475, 177.6410, 2518,    249.3, 2,  19.2514, 2,  35.5859, 2,  35.5731, 6,    173.4, 2,    173.7, 2,     1.19, 2,     4.79, 2,     0.01, 2,     0.49, 2,    2.221, 2,    1.252, 2,    0.029, 2, -999.000, 9,   -999.0, 9,   -999.0, 9, -999.0000,   -999.00,   -999.0, 9,   -999.0,  -999.00, 9,   -999.0,  19.2063, 25.4161,  19.2507, 2, 9, 0.12, 0.05, 0.01, 0.013,  -999.00, 9, -999.00, -999.00, 9, -999.00
49NZ20071122, P14, 47, 1, 30, X12008, 2, 20071214, 0444, -19.0475, 177.6410, 2518,    331.4, 2,  17.0580, 2,  35.3919, 2,  35.3810, 2,    179.3, 2,    179.8, 2,     1.81, 2,     6.61, 2,     0.01, 2,     0.60, 2,    2.311, 2,    1.259, 2,    0.035, 2, -999.000, 9,   -999.0, 9,   -999.0, 9, -999.0000,   -999.00,   -999.0, 9,   -999.0,  -999.00, 9,   -999.0,  17.0028, 25.8144,  17.0585, 2, 9, 0.12, 0.05, 0.01, 0.013,  -999.00, 9, -999.00, -999.00, 9, -999.00
49NZ20071122, P14, 47, 1, 29, X12035, 2, 20071214, 0444, -19.0475, 177.6410, 2518,    430.6, 2,  11.5883, 2,  34.8395, 2,  34.8312, 2,    188.4, 2,    188.2, 2,     5.43, 2,    15.37, 2,     0.01, 2,     1.16, 2,    2.098, 2,    1.067, 2,    0.044, 2, -999.000, 9,   -999.0, 9,   -999.0, 9, -999.0000,   -999.00,   -999.0, 9,   -999.0,  -999.00, 9,   -999.0,  11.5329, 26.5526,  11.5906, 2, 9, 0.13, 0.08, 0.01, 0.013,  -999.00, 9, -999.00, -999.00, 9, -999.00
49NZ20071122, P14, 47, 1, 28, X12034, 2, 20071214, 0444, -19.0475, 177.6410, 2518,    530.1, 2,   8.7082, 2,  34.5538, 2,  34.5550, 6,    197.3, 2,    195.8, 2,     8.83, 2,    21.03, 2,     0.01, 2,     1.52, 2,    1.826, 2,    0.896, 2,    0.038, 2, -999.000, 9,   -999.0, 9,   -999.0, 9, -999.0000,   -999.00,   -999.0, 9,   -999.0,  -999.00, 9,   -999.0,   8.6510, 26.8239,   8.6996, 2, 9, 0.14, 0.09, 0.01, 0.014,  -999.00, 9, -999.00, -999.00, 9, -999.00
49NZ20071122, P14, 47, 1, 27, X12049, 2, 20071214, 0444, -19.0475, 177.6410, 2518,    630.0, 2,   6.9242, 2,  34.4243, 2,  34.4226, 2,    199.3, 2,    199.8, 2,    14.85, 2,    25.43, 2,     0.00, 2,     1.80, 2,    1.230, 2,    0.593, 2,    0.030, 2, -999.000, 9,   -999.0, 9,   -999.0, 9, -999.0000,   -999.00,   -999.0, 9,   -999.0,  -999.00, 9,   -999.0,   6.8643, 26.9839,   6.9260, 2, 9, 0.15, 0.10, 0.01, 0.015,  -999.00, 9, -999.00, -999.00, 9, -999.00
49NZ20071122, P14, 47, 1, 26, X12032, 2, 20071214, 0444, -19.0475, 177.6410, 2518,    731.1, 2,   5.6452, 2,  34.3736, 2,  34.3752, 2,    197.0, 2,    196.1, 2,    24.12, 2,    28.66, 2,     0.00, 2,     2.01, 2,    0.665, 6,    0.328, 6,    0.012, 6, -999.000, 9,   -999.0, 9,   -999.0, 9, -999.0000,   -999.00,   -999.0, 9,   -999.0,  -999.00, 9,   -999.0,   5.5823, 27.1096,   5.6454, 2, 9, 0.17, 0.11, 0.01, 0.015,  -999.00, 9, -999.00, -999.00, 9, -999.00
49NZ20071122, P14, 47, 1, 25, X12043, 2, 20071214, 0444, -19.0475, 177.6410, 2518,    830.0, 2,   5.0945, 2,  34.3972, 2,  34.3981, 2,    182.4, 2,    182.2, 2,    34.52, 2,    30.73, 2,     0.00, 2,     2.16, 2,    0.367, 2,    0.185, 2,    0.009, 2, -999.000, 9,   -999.0, 9,   -999.0, 9, -999.0000,   -999.00,   -999.0, 9,   -999.0,  -999.00, 9,   -999.0,   5.0259, 27.1943,   5.0969, 2, 9, 0.19, 0.12, 0.01, 0.015,  -999.00, 9, -999.00, -999.00, 9, -999.00
49NZ20071122, P14, 47, 1, 24, X12030, 2, 20071214, 0444, -19.0475, 177.6410, 2518,    930.0, 2,   4.5151, 2,  34.4263, 2,  34.4271, 2,    171.0, 2,    171.6, 2,    46.28, 2,    32.46, 2,     0.00, 2,     2.26, 2,    0.182, 2,    0.092, 2,    0.000, 2, -999.000, 9,   -999.0, 9,   -999.0, 9, -999.0000,   -999.00,   -999.0, 9,   -999.0,  -999.00, 9,   -999.0,   4.4417, 27.2829,   4.5153, 2, 9, 0.22, 0.12, 0.01, 0.016,  -999.00, 9, -999.00, -999.00, 9, -999.00
49NZ20071122, P14, 47, 1, 23, X12027, 2, 20071214, 0444, -19.0475, 177.6410, 2518,   1069.4, 2,   3.8848, 2,  34.4738, 2,  34.4755, 6,    161.2, 2,    160.8, 2,    62.71, 2,    33.92, 2,     0.00, 2,     2.38, 2,    0.064, 2,    0.034, 2,    0.000, 2, -999.000, 9,   -999.0, 9,   -999.0, 9, -999.0000,   -999.00,   -999.0, 9,   -999.0,  -999.00, 9,   -999.0,   3.8043, 27.3876,   3.8842, 2, 9, 0.26, 0.13, 0.01, 0.016,  -999.00, 9, -999.00, -999.00, 9, -999.00
49NZ20071122, P14, 47, 1, 22, X12028, 2, 20071214, 0444, -19.0475, 177.6410, 2518,   1271.1, 2,   3.3560, 2,  34.5261, 2,  34.5276, 2,    152.7, 2,    152.8, 2,    79.16, 2,    34.88, 2,     0.00, 2,     2.46, 2,    0.022, 2,    0.014, 2,    0.000, 2, -999.000, 9,   -999.0, 9,   -999.0, 9, -999.0000,   -999.00,   -999.0, 9,   -999.0,  -999.00, 9,   -999.0,   3.2635, 27.4823,   3.3546, 2, 9, 0.29, 0.13, 0.01, 0.016,  -999.00, 9, -999.00, -999.00, 9, -999.00
49NZ20071122, P14, 47, 1, 21, X12009, 2, 20071214, 0444, -19.0475, 177.6410, 2518,   1470.6, 2,   2.9352, 2,  34.5689, 2,  34.5699, 2,    149.7, 2,    149.6, 2,    92.55, 2,    35.30, 2,     0.00, 2,     2.50, 2,    0.008, 2,    0.003, 2,    0.000, 2, -999.000, 9,   -999.0, 9,   -999.0, 9, -999.0000,   -999.00,   -999.0, 9,   -999.0,  -999.00, 9,   -999.0,   2.8306, 27.5563,   2.9343, 2, 9, 0.32, 0.13, 0.01, 0.016,  -999.00, 9, -999.00, -999.00, 9, -999.00
49NZ20071122, P14, 47, 1, 20, X12026, 2, 20071214, 0444, -19.0475, 177.6410, 2518,   1669.9, 2,   2.6270, 2,  34.5985, 2,  34.5991, 6,    148.9, 2,    148.7, 2,   101.40, 2,    35.45, 2,     0.00, 2,     2.51, 2,    0.005, 2,    0.004, 2,    0.000, 2, -999.000, 9,   -999.0, 9,   -999.0, 9, -999.0000,   -999.00,   -999.0, 9,   -999.0,  -999.00, 9,   -999.0,   2.5095, 27.6080,   2.6270, 2, 9, 0.34, 0.13, 0.01, 0.016,  -999.00, 9, -999.00, -999.00, 9, -999.00
49NZ20071122, P14, 47, 1, 19, X12025, 2, 20071214, 0444, -19.0475, 177.6410, 2518,   1870.9, 2,   2.3803, 2,  34.6213, 2,  34.6223, 2,    147.8, 2,    148.1, 2,   108.98, 2,    35.60, 2,     0.00, 2,     2.52, 2,    0.001, 2,    0.001, 2,    0.000, 2, -999.000, 9,   -999.0, 9,   -999.0, 9, -999.0000,   -999.00,   -999.0, 9,   -999.0,  -999.00, 9,   -999.0,   2.2492, 27.6481,   2.3801, 2, 9, 0.36, 0.13, 0.01, 0.016,  -999.00, 9, -999.00, -999.00, 9, -999.00
49NZ20071122, P14, 47, 1, 18, X12024, 2, 20071214, 0444, -19.0475, 177.6410, 2518,   2071.4, 2,   2.2130, 2,  34.6373, 2,  34.6381, 6,    148.8, 2,    148.7, 2,   113.55, 2,    35.56, 2,     0.00, 2,     2.52, 2,    0.015, 2,    0.009, 2,    0.000, 2, -999.000, 9,   -999.0, 9,   -999.0, 9, -999.0000,   -999.00,   -999.0, 9,   -999.0,  -999.00, 9,   -999.0,   2.0672, 27.6758,   2.2131, 2, 9, 0.37, 0.13, 0.01, 0.016,  -999.00, 9, -999.00, -999.00, 9, -999.00
49NZ20071122, P14, 47, 1, 17, X12023, 2, 20071214, 0444, -19.0475, 177.6410, 2518,   2269.9, 2,   2.1295, 2,  34.6466, 2,  34.6471, 2,    149.5, 2,    149.5, 2,   115.55, 2,    35.55, 2,     0.00, 2,     2.52, 2,    0.002, 2,    0.001, 2,    0.000, 2, -999.000, 9,   -999.0, 9,   -999.0, 9, -999.0000,   -999.00,   -999.0, 9,   -999.0,  -999.00, 9,   -999.0,   1.9676, 27.6911,   2.1295, 2, 9, 0.37, 0.13, 0.01, 0.016,  -999.00, 9, -999.00, -999.00, 9, -999.00
49NZ20071122, P14, 47, 1, 16, X12022, 2, 20071214, 0444, -19.0475, 177.6410, 2518,   2469.6, 2,   2.0537, 2,  34.6548, 2,  34.6556, 2,    149.8, 2,    149.7, 2,   117.69, 2,    35.62, 2,     0.00, 2,     2.51, 2,    0.002, 2,    0.000, 2,    0.000, 2, -999.000, 9,   -999.0, 9,   -999.0, 9, -999.0000,   -999.00,   -999.0, 9,   -999.0,  -999.00, 9,   -999.0,   1.8752, 27.7049,   2.0537, 2, 9, 0.38, 0.13, 0.01, 0.016,  -999.00, 9, -999.00, -999.00, 9, -999.00
49NZ20071122, P14, 47, 1, 15, X12021, 9, 20071214, 0444, -19.0475, 177.6410, 2518,     10.8, 2,  28.2703, 2,  34.6851, 2, -999.0000, 9,    203.0, 2,   -999.0, 9,  -999.00, 9,  -999.00, 9,  -999.00, 9,  -999.00, 9, -999.000, 9, -999.000, 9, -999.000, 9, -999.000, 9,   -999.0, 9,   -999.0, 9, -999.0000,   -999.00,   -999.0, 9,   -999.0,  -999.00, 9,   -999.0,  28.2677, 22.0701,  28.2696, 2, 9, -999.00, -999.00, -999.00, -999.000,  -999.00, 9, -999.00, -999.00, 9, -999.00
49NZ20071122, P14, 47, 1, 14, X12020, 9, 20071214, 0444, -19.0475, 177.6410, 2518,     50.8, 2,  26.7881, 2,  35.1095, 2, -999.0000, 9,    207.3, 2,   -999.0, 9,  -999.00, 9,  -999.00, 9,  -999.00, 9,  -999.00, 9, -999.000, 9, -999.000, 9, -999.000, 9, -999.000, 9,   -999.0, 9,   -999.0, 9, -999.0000,   -999.00,   -999.0, 9,   -999.0,  -999.00, 9,   -999.0,  26.7765, 22.8714,  26.7767, 2, 9, -999.00, -999.00, -999.00, -999.000,  -999.00, 9, -999.00, -999.00, 9, -999.00
49NZ20071122, P14, 47, 1, 13, X12019, 9, 20071214, 0444, -19.0475, 177.6410, 2518,    101.3, 2,  24.7766, 2,  35.5577, 2, -999.0000, 9,    185.5, 2,   -999.0, 9,  -999.00, 9,  -999.00, 9,  -999.00, 9,  -999.00, 9, -999.000, 9, -999.000, 9, -999.000, 9, -999.000, 9,   -999.0, 9,   -999.0, 9, -999.0000,   -999.00,   -999.0, 9,   -999.0,  -999.00, 9,   -999.0,  24.7547, 23.8373,  24.7368, 2, 9, -999.00, -999.00, -999.00, -999.000,  -999.00, 9, -999.00, -999.00, 9, -999.00
49NZ20071122, P14, 47, 1, 12, X12040, 9, 20071214, 0444, -19.0475, 177.6410, 2518,    151.1, 2,  22.8631, 2,  35.6765, 2, -999.0000, 9,    168.2, 2,   -999.0, 9,  -999.00, 9,  -999.00, 9,  -999.00, 9,  -999.00, 9, -999.000, 9, -999.000, 9, -999.000, 9, -999.000, 9,   -999.0, 9,   -999.0, 9, -999.0000,   -999.00,   -999.0, 9,   -999.0,  -999.00, 9,   -999.0,  22.8323, 24.4952,  22.8348, 2, 9, -999.00, -999.00, -999.00, -999.000,  -999.00, 9, -999.00, -999.00, 9, -999.00
49NZ20071122, P14, 47, 1, 11, X12047, 9, 20071214, 0444, -19.0475, 177.6410, 2518,    199.2, 2,  20.9609, 2,  35.7058, 2, -999.0000, 9,    166.8, 2,   -999.0, 9,  -999.00, 9,  -999.00, 9,  -999.00, 9,  -999.00, 9, -999.000, 9, -999.000, 9, -999.000, 9, -999.000, 9,   -999.0, 9,   -999.0, 9, -999.0000,   -999.00,   -999.0, 9,   -999.0,  -999.00, 9,   -999.0,  20.9227, 25.0524,  20.9551, 2, 9, -999.00, -999.00, -999.00, -999.000,  -999.00, 9, -999.00, -999.00, 9, -999.00
49NZ20071122, P14, 47, 1, 10, X12012, 9, 20071214, 0444, -19.0475, 177.6410, 2518,    249.4, 2,  19.2294, 2,  35.5822, 2, -999.0000, 9,    173.4, 2,   -999.0, 9,  -999.00, 9,  -999.00, 9,  -999.00, 9,  -999.00, 9, -999.000, 9, -999.000, 9, -999.000, 9, -999.000, 9,   -999.0, 9,   -999.0, 9, -999.0000,   -999.00,   -999.0, 9,   -999.0,  -999.00, 9,   -999.0,  19.1843, 25.4189,  19.2202, 2, 9, -999.00, -999.00, -999.00, -999.000,  -999.00, 9, -999.00, -999.00, 9, -999.00
49NZ20071122, P14, 47, 1, 9, X12015, 9, 20071214, 0444, -19.0475, 177.6410, 2518,    329.8, 2,  17.0334, 2,  35.3896, 2, -999.0000, 9,    179.8, 2,   -999.0, 9,  -999.00, 9,  -999.00, 9,  -999.00, 9,  -999.00, 9, -999.000, 9, -999.000, 9, -999.000, 9, -999.000, 9,   -999.0, 9,   -999.0, 9, -999.0000,   -999.00,   -999.0, 9,   -999.0,  -999.00, 9,   -999.0,  16.9786, 25.8184,  17.0265, 2, 9, -999.00, -999.00, -999.00, -999.000,  -999.00, 9, -999.00, -999.00, 9, -999.00
49NZ20071122, P14, 47, 1, 8, X12046, 9, 20071214, 0444, -19.0475, 177.6410, 2518,    430.4, 2,  11.5607, 2,  34.8371, 2, -999.0000, 9,    188.5, 2,   -999.0, 9,  -999.00, 9,  -999.00, 9,  -999.00, 9,  -999.00, 9, -999.000, 9, -999.000, 9, -999.000, 9, -999.000, 9,   -999.0, 9,   -999.0, 9, -999.0000,   -999.00,   -999.0, 9,   -999.0,  -999.00, 9,   -999.0,  11.5054, 26.5559,  11.5791, 2, 9, -999.00, -999.00, -999.00, -999.000,  -999.00, 9, -999.00, -999.00, 9, -999.00
49NZ20071122, P14, 47, 1, 7, X12044, 9, 20071214, 0444, -19.0475, 177.6410, 2518,    529.5, 2,   8.6863, 2,  34.5532, 2, -999.0000, 9,    197.4, 2,   -999.0, 9,  -999.00, 9,  -999.00, 9,  -999.00, 9,  -999.00, 9, -999.000, 9, -999.000, 9, -999.000, 9, -999.000, 9,   -999.0, 9,   -999.0, 9, -999.0000,   -999.00,   -999.0, 9,   -999.0,  -999.00, 9,   -999.0,   8.6292, 26.8268,   8.6782, 2, 9, -999.00, -999.00, -999.00, -999.000,  -999.00, 9, -999.00, -999.00, 9, -999.00
49NZ20071122, P14, 47, 1, 6, X12048, 9, 20071214, 0444, -19.0475, 177.6410, 2518,    929.7, 2,   4.5173, 2,  34.4261, 2, -999.0000, 9,    171.1, 2,   -999.0, 9,  -999.00, 9,  -999.00, 9,  -999.00, 9,  -999.00, 9, -999.000, 9, -999.000, 9, -999.000, 9, -999.000, 9,   -999.0, 9,   -999.0, 9, -999.0000,   -999.00,   -999.0, 9,   -999.0,  -999.00, 9,   -999.0,   4.4439, 27.2825,   4.5182, 2, 9, -999.00, -999.00, -999.00, -999.000,  -999.00, 9, -999.00, -999.00, 9, -999.00
49NZ20071122, P14, 47, 1, 5, X12014, 9, 20071214, 0444, -19.0475, 177.6410, 2518,   1069.8, 2,   3.8683, 2,  34.4755, 2, -999.0000, 9,    161.2, 2,   -999.0, 9,  -999.00, 9,  -999.00, 9,  -999.00, 9,  -999.00, 9, -999.000, 9, -999.000, 9, -999.000, 9, -999.000, 9,   -999.0, 9,   -999.0, 9, -999.0000,   -999.00,   -999.0, 9,   -999.0,  -999.00, 9,   -999.0,   3.7879, 27.3906,   3.8640, 2, 9, -999.00, -999.00, -999.00, -999.000,  -999.00, 9, -999.00, -999.00, 9, -999.00
49NZ20071122, P14, 47, 1, 4, X12006, 9, 20071214, 0444, -19.0475, 177.6410, 2518,   1271.0, 2,   3.3613, 2,  34.5255, 2, -999.0000, 9,    152.7, 2,   -999.0, 9,  -999.00, 9,  -999.00, 9,  -999.00, 9,  -999.00, 9, -999.000, 9, -999.000, 9, -999.000, 9, -999.000, 9,   -999.0, 9,   -999.0, 9, -999.0000,   -999.00,   -999.0, 9,   -999.0,  -999.00, 9,   -999.0,   3.2687, 27.4813,   3.3607, 2, 9, -999.00, -999.00, -999.00, -999.000,  -999.00, 9, -999.00, -999.00, 9, -999.00
49NZ20071122, P14, 47, 1, 3, X12013, 9, 20071214, 0444, -19.0475, 177.6410, 2518,   1470.1, 2,   2.9204, 2,  34.5703, 2, -999.0000, 9,    149.7, 2,   -999.0, 9,  -999.00, 9,  -999.00, 9,  -999.00, 9,  -999.00, 9, -999.000, 9, -999.000, 9, -999.000, 9, -999.000, 9,   -999.0, 9,   -999.0, 9, -999.0000,   -999.00,   -999.0, 9,   -999.0,  -999.00, 9,   -999.0,   2.8160, 27.5587,   2.9238, 2, 9, -999.00, -999.00, -999.00, -999.000,  -999.00, 9, -999.00, -999.00, 9, -999.00
49NZ20071122, P14, 47, 1, 2, X12002, 9, 20071214, 0444, -19.0475, 177.6410, 2518,   1669.5, 2,   2.6251, 2,  34.5987, 2, -999.0000, 9,    148.9, 2,   -999.0, 9,  -999.00, 9,  -999.00, 9,  -999.00, 9,  -999.00, 9, -999.000, 9, -999.000, 9, -999.000, 9, -999.000, 9,   -999.0, 9,   -999.0, 9, -999.0000,   -999.00,   -999.0, 9,   -999.0,  -999.00, 9,   -999.0,   2.5076, 27.6084,   2.6250, 2, 9, -999.00, -999.00, -999.00, -999.000,  -999.00, 9, -999.00, -999.00, 9, -999.00
49NZ20071122, P14, 47, 1, 1, X12001, 2, 20071214, 0444, -19.0475, 177.6410, 2518,   2537.2, 2,   2.0502, 2,  34.6556, 2,  34.6564, 6,    149.9, 2,    149.8, 2,   118.06, 2,    35.54, 2,     0.00, 2,     2.52, 2,    0.000, 2,    0.002, 2,    0.004, 2, -999.000, 9,   -999.0, 9,   -999.0, 9, -999.0000,   -999.00,   -999.0, 9,   -999.0,  -999.00, 9,   -999.0,   1.8656, 27.7063,   2.0499, 2, 9, 0.38, 0.13, 0.01, 0.016,  -999.00, 9, -999.00, -999.00, 9, -999.00