BOTTLE,20220820CCHSIOAMB
EXPOCODE,SECT_ID,STNNBR,CASTNO,SAMPNO,BTLNBR,BTLNBR_FLAG_W,DATE,TIME,LATITUDE,LONGITUDE,DEPTH,CTDPRS,CTDPRS_FLAG_W,CTDTMP,CTDTMP_FLAG_W,CTDSAL,CTDSAL_FLAG_W,SALNTY,SALNTY_FLAG_W,CTDOXY,CTDOXY_FLAG_W,OXYGEN,OXYGEN_FLAG_W,SILCAT,SILCAT_FLAG_W,NITRAT,NITRAT_FLAG_W,NITRIT,NITRIT_FLAG_W,PHSPHT,PHSPHT_FLAG_W,CFC-11,CFC-11_FLAG_W,CFC-12,CFC-12_FLAG_W,CFC113,CFC113_FLAG_W,CCL4,CCL4_FLAG_W,TCARBN,TCARBN_FLAG_W,ALKALI,ALKALI_FLAG_W,PH_TOT,PH_TMP,DELC14,DELC14_FLAG_W,C14ERR,DELC13,DELC13_FLAG_W,C13ERR,THETA,SIG0,SBE35,SBE35_FLAG_W,PH_TOT_FLAG_W,SILUNC,NRAUNC,NRIUNC,PHPUNC,CS-137,CS-137_FLAG_W,CS137ER,PLUTO,PLUTO_FLAG_W,PLUTOER
,,,,,,,,,,,METERS,DBAR,,ITS-90,,PSS-78,,PSS-78,,UMOL/KG,,UMOL/KG,,UMOL/KG,,UMOL/KG,,UMOL/KG,,UMOL/KG,,PMOL/KG,,PMOL/KG,,PMOL/KG,,PMOL/KG,,UMOL/KG,,UMOL/KG,,,DEG C,/MILLE,,/MILLE,/MILLE,,/MILLE,DEG C,KG/M^3,ITS-90,,,UMOL/KG,UMOL/KG,UMOL/KG,UMOL/KG,DM/.1MG,,BQ/M^3,MBQ/M^3,,MBQ/M^3
49NZ20071122, P14N, 146, 1, 36, X12042, 2, 20071203, 1454, -0.7408, 179.0063, 5478,     10.8, 2,  26.9374, 2,  35.2549, 2,  35.2546, 2,    198.7, 2,    197.8, 2,     1.98, 2,     3.38, 2,     0.47, 2,     0.46, 2,    1.614, 2,    0.966, 2,    0.177, 4, -999.000, 9,   -999.0, 9,   -999.0, 9, -999.0000,   -999.00,   -999.0, 9,   -999.0,  -999.00, 9,   -999.0,  26.9349, 22.9305,  26.9368, 2, 9, 0.12, 0.04, 0.00, 0.013,  -999.00, 9, -999.00, -999.00, 9, -999.00
49NZ20071122, P14N, 146, 1, 35, X12041, 2, 20071203, 1454, -0.7408, 179.0063, 5478,     50.4, 2,  26.8616, 2,  35.3357, 2,  35.3440, 2,    195.2, 2,    194.7, 2,     1.95, 2,     3.68, 2,     0.50, 2,     0.49, 2,    1.613, 2,    0.971, 2,    0.165, 4, -999.000, 9,   -999.0, 9,   -999.0, 9, -999.0000,   -999.00,   -999.0, 9,   -999.0,  -999.00, 9,   -999.0,  26.8501, 23.0185,  26.8605, 2, 9, 0.12, 0.04, 0.00, 0.013,  -999.00, 9, -999.00, -999.00, 9, -999.00
49NZ20071122, P14N, 146, 1, 34, X12016, 2, 20071203, 1454, -0.7408, 179.0063, 5478,    100.4, 2,  27.2086, 2,  35.6200, 2,  35.6159, 2,    189.0, 2,    188.6, 2,     1.75, 2,     3.91, 2,     0.83, 2,     0.55, 2,    1.592, 2,    0.953, 2,    0.162, 4, -999.000, 9,   -999.0, 9,   -999.0, 9, -999.0000,   -999.00,   -999.0, 9,   -999.0,  -999.00, 9,   -999.0,  27.1854, 23.1254,  27.2082, 2, 9, 0.12, 0.04, 0.00, 0.013,  -999.00, 9, -999.00, -999.00, 9, -999.00
49NZ20071122, P14N, 146, 1, 33, X12033, 2, 20071203, 1454, -0.7408, 179.0063, 5478,    151.0, 2,  23.9674, 2,  35.3410, 2,  35.3641, 2,    136.0, 2,    136.6, 2,     3.63, 2,     8.90, 2,     0.04, 2,     0.77, 2,    1.775, 6,    1.028, 6,    0.082, 6, -999.000, 9,   -999.0, 9,   -999.0, 9, -999.0000,   -999.00,   -999.0, 9,   -999.0,  -999.00, 9,   -999.0,  23.9356, 23.9186,  23.9650, 2, 9, 0.13, 0.06, 0.01, 0.013,  -999.00, 9, -999.00, -999.00, 9, -999.00
49NZ20071122, P14N, 146, 1, 32, X12038, 2, 20071203, 1454, -0.7408, 179.0063, 5478,    201.7, 2,  18.4509, 2,  35.3782, 2,  35.3834, 2,    132.4, 2,    132.0, 2,     5.91, 2,    12.64, 2,     0.02, 2,     1.02, 2,    1.869, 2,    1.030, 2,    0.034, 2, -999.000, 9,   -999.0, 9,   -999.0, 9, -999.0000,   -999.00,   -999.0, 9,   -999.0,  -999.00, 9,   -999.0,  18.4156, 25.4583,  18.4515, 2, 9, 0.13, 0.07, 0.01, 0.013,  -999.00, 9, -999.00, -999.00, 9, -999.00
49NZ20071122, P14N, 146, 1, 31, X12003, 2, 20071203, 1454, -0.7408, 179.0063, 5478,    251.0, 2,  14.5913, 2,  35.1194, 2,  35.0947, 6,    134.7, 2,    134.0, 2,    11.10, 2,    17.29, 2,     0.01, 2,     1.32, 2,    1.658, 2,    0.883, 2,    0.020, 2, -999.000, 9,   -999.0, 9,   -999.0, 9, -999.0000,   -999.00,   -999.0, 9,   -999.0,  -999.00, 9,   -999.0,  14.5539, 26.1613,  14.5837, 2, 9, 0.14, 0.08, 0.01, 0.014,  -999.00, 9, -999.00, -999.00, 9, -999.00
49NZ20071122, P14N, 146, 1, 30, X12008, 2, 20071203, 1454, -0.7408, 179.0063, 5478,    329.5, 2,  12.2225, 2,  34.8843, 2,  34.8710, 2,    120.9, 2,    113.8, 2,    18.18, 2,    22.83, 2,     0.01, 2,     1.67, 2,    1.291, 2,    0.670, 2,    0.015, 2, -999.000, 9,   -999.0, 9,   -999.0, 9, -999.0000,   -999.00,   -999.0, 9,   -999.0,  -999.00, 9,   -999.0,  12.1788, 26.4649,  12.2133, 2, 9, 0.16, 0.10, 0.01, 0.014,  -999.00, 9, -999.00, -999.00, 9, -999.00
49NZ20071122, P14N, 146, 1, 29, X12035, 2, 20071203, 1454, -0.7408, 179.0063, 5478,    430.4, 2,  10.3610, 2,  34.7436, 2,  34.7378, 2,     52.1, 2,     54.0, 2,    28.18, 2,    32.12, 2,     0.01, 2,     2.27, 2,    0.587, 2,    0.312, 2,    0.010, 2, -999.000, 9,   -999.0, 9,   -999.0, 9, -999.0000,   -999.00,   -999.0, 9,   -999.0,  -999.00, 9,   -999.0,  10.3095, 26.6984,  10.3595, 2, 9, 0.18, 0.12, 0.01, 0.016,  -999.00, 9, -999.00, -999.00, 9, -999.00
49NZ20071122, P14N, 146, 1, 28, X12034, 2, 20071203, 1454, -0.7408, 179.0063, 5478,    529.6, 2,   8.3664, 2,  34.6325, 2,  34.6287, 6,     81.9, 2,     82.4, 2,    33.26, 2,    33.44, 2,     0.01, 2,     2.36, 2,    0.348, 2,    0.183, 2,    0.008, 2, -999.000, 9,   -999.0, 9,   -999.0, 9, -999.0000,   -999.00,   -999.0, 9,   -999.0,  -999.00, 9,   -999.0,   8.3105, 26.9383,   8.3668, 2, 9, 0.19, 0.13, 0.01, 0.016,  -999.00, 9, -999.00, -999.00, 9, -999.00
49NZ20071122, P14N, 146, 1, 27, X12049, 2, 20071203, 1454, -0.7408, 179.0063, 5478,    630.6, 2,   7.2012, 2,  34.5793, 2,  34.5783, 2,     71.2, 2,     72.3, 2,    43.85, 2,    36.79, 2,     0.01, 2,     2.62, 2,    0.157, 2,    0.085, 2,    0.004, 2, -999.000, 9,   -999.0, 9,   -999.0, 9, -999.0000,   -999.00,   -999.0, 9,   -999.0,  -999.00, 9,   -999.0,   7.1397, 27.0679,   7.2007, 2, 9, 0.22, 0.14, 0.01, 0.017,  -999.00, 9, -999.00, -999.00, 9, -999.00
49NZ20071122, P14N, 146, 1, 26, X12032, 2, 20071203, 1454, -0.7408, 179.0063, 5478,    729.8, 2,   6.2982, 2,  34.5457, 2,  34.5445, 2,     97.2, 2,     94.9, 2,    49.45, 2,    36.18, 2,     0.00, 2,     2.58, 2,    0.137, 6,    0.073, 6,    0.005, 6, -999.000, 9,   -999.0, 9,   -999.0, 9, -999.0000,   -999.00,   -999.0, 9,   -999.0,  -999.00, 9,   -999.0,   6.2316, 27.1639,   6.2975, 2, 9, 0.23, 0.13, 0.01, 0.016,  -999.00, 9, -999.00, -999.00, 9, -999.00
49NZ20071122, P14N, 146, 1, 25, X12043, 2, 20071203, 1454, -0.7408, 179.0063, 5478,    830.5, 2,   5.5508, 2,  34.5403, 2,  34.5401, 2,     92.3, 2,     91.7, 2,    61.85, 2,    37.50, 2,     0.01, 2,     2.69, 2,    0.051, 2,    0.030, 2,    0.000, 2, -999.000, 9,   -999.0, 9,   -999.0, 9, -999.0000,   -999.00,   -999.0, 9,   -999.0,  -999.00, 9,   -999.0,   5.4791, 27.2541,   5.5514, 2, 9, 0.26, 0.14, 0.01, 0.017,  -999.00, 9, -999.00, -999.00, 9, -999.00
49NZ20071122, P14N, 146, 1, 24, X12030, 2, 20071203, 1454, -0.7408, 179.0063, 5478,    929.1, 2,   5.1182, 2,  34.5460, 2,  34.5460, 2,     84.3, 2,     84.3, 2,    71.08, 2,    38.85, 2,     0.00, 2,     2.78, 2,    0.013, 2,    0.010, 2,    0.000, 2, -999.000, 9,   -999.0, 9,   -999.0, 9, -999.0000,   -999.00,   -999.0, 9,   -999.0,  -999.00, 9,   -999.0,   5.0404, 27.3106,   5.1174, 2, 9, 0.28, 0.14, 0.01, 0.017,  -999.00, 9, -999.00, -999.00, 9, -999.00
49NZ20071122, P14N, 146, 1, 23, X12027, 2, 20071203, 1454, -0.7408, 179.0063, 5478,   1070.1, 2,   4.4333, 2,  34.5542, 2,  34.5551, 6,     92.9, 2,     93.2, 2,    83.54, 2,    38.64, 2,     0.00, 2,     2.78, 2,    0.008, 4,    0.005, 4,    0.000, 4, -999.000, 9,   -999.0, 9,   -999.0, 9, -999.0000,   -999.00,   -999.0, 9,   -999.0,  -999.00, 9,   -999.0,   4.3481, 27.3947,   4.4331, 2, 9, 0.30, 0.14, 0.01, 0.017,  -999.00, 9, -999.00, -999.00, 9, -999.00
49NZ20071122, P14N, 146, 1, 22, X12028, 2, 20071203, 1454, -0.7408, 179.0063, 5478,   1268.3, 2,   3.7028, 2,  34.5774, 2,  34.5771, 2,     91.1, 2,     90.6, 2,   100.01, 2,    39.48, 2,     0.00, 2,     2.85, 2, -999.000, 5, -999.000, 5, -999.000, 5, -999.000, 9,   -999.0, 9,   -999.0, 9, -999.0000,   -999.00,   -999.0, 9,   -999.0,  -999.00, 9,   -999.0,   3.6070, 27.4899,   3.7030, 2, 9, 0.34, 0.14, 0.01, 0.017,  -999.00, 9, -999.00, -999.00, 9, -999.00
49NZ20071122, P14N, 146, 1, 21, X12009, 2, 20071203, 1454, -0.7408, 179.0063, 5478,   1469.6, 2,   3.1517, 2,  34.5970, 2,  34.5973, 2,     99.8, 2,     97.6, 2,   112.72, 2,    39.26, 2,     0.00, 2,     2.83, 2,    0.000, 2,    0.000, 2,    0.000, 2, -999.000, 9,   -999.0, 9,   -999.0, 9, -999.0000,   -999.00,   -999.0, 9,   -999.0,  -999.00, 9,   -999.0,   3.0446, 27.5593,   3.1521, 2, 9, 0.37, 0.14, 0.01, 0.017,  -999.00, 9, -999.00, -999.00, 9, -999.00
49NZ20071122, P14N, 146, 1, 20, X12026, 2, 20071203, 1454, -0.7408, 179.0063, 5478,   1670.5, 2,   2.7623, 2,  34.6135, 2,  34.6137, 2,    104.8, 2,    103.8, 2,   121.32, 2,    39.00, 2,     0.00, 2,     2.79, 2,    0.000, 2,    0.000, 2,    0.000, 2, -999.000, 9,   -999.0, 9,   -999.0, 9, -999.0000,   -999.00,   -999.0, 9,   -999.0,  -999.00, 9,   -999.0,   2.6430, 27.6085,   2.7616, 2, 9, 0.39, 0.14, 0.01, 0.017,  -999.00, 9, -999.00, -999.00, 9, -999.00
49NZ20071122, P14N, 146, 1, 19, X12025, 2, 20071203, 1454, -0.7408, 179.0063, 5478,   1871.0, 2,   2.4680, 2,  34.6285, 2,  34.6290, 2,    108.6, 2,    108.0, 2,   128.64, 2,    38.82, 2,     0.00, 2,     2.77, 2,    0.000, 2,    0.000, 2,    0.000, 2, -999.000, 9,   -999.0, 9,   -999.0, 9, -999.0000,   -999.00,   -999.0, 9,   -999.0,  -999.00, 9,   -999.0,   2.3356, 27.6468,   2.4681, 2, 9, 0.40, 0.14, 0.01, 0.017,  -999.00, 9, -999.00, -999.00, 9, -999.00
49NZ20071122, P14N, 146, 1, 18, X12024, 2, 20071203, 1454, -0.7408, 179.0063, 5478,   2069.9, 2,   2.2025, 2,  34.6415, 2,  34.6421, 2,    115.4, 2,    114.7, 2,   133.74, 2,    38.44, 2,     0.00, 2,     2.74, 2, -999.000, 9, -999.000, 9, -999.000, 9, -999.000, 9,   -999.0, 9,   -999.0, 9, -999.0000,   -999.00,   -999.0, 9,   -999.0,  -999.00, 9,   -999.0,   2.0570, 27.6799,   2.2025, 2, 9, 0.41, 0.14, 0.01, 0.017,  -999.00, 9, -999.00, -999.00, 9, -999.00
49NZ20071122, P14N, 146, 1, 17, X12023, 2, 20071203, 1454, -0.7408, 179.0063, 5478,   2270.8, 2,   2.0215, 2,  34.6515, 2,  34.6517, 6,    119.9, 2,    120.5, 2,   137.00, 2,    38.04, 2,     0.00, 2,     2.70, 2, -999.000, 9, -999.000, 9, -999.000, 9, -999.000, 9,   -999.0, 9,   -999.0, 9, -999.0000,   -999.00,   -999.0, 9,   -999.0,  -999.00, 9,   -999.0,   1.8614, 27.7034,   2.0217, 2, 9, 0.42, 0.14, 0.01, 0.017,  -999.00, 9, -999.00, -999.00, 9, -999.00
49NZ20071122, P14N, 146, 1, 16, X12022, 2, 20071203, 1454, -0.7408, 179.0063, 5478,   2471.0, 2,   1.8876, 2,  34.6592, 2,  34.6593, 2,    125.0, 2,    125.6, 2,   139.17, 2,    37.80, 2,     0.00, 2,     2.68, 2,    0.000, 2,    0.000, 2,    0.000, 2, -999.000, 9,   -999.0, 9,   -999.0, 9, -999.0000,   -999.00,   -999.0, 9,   -999.0,  -999.00, 9,   -999.0,   1.7120, 27.7210,   1.8876, 2, 9, 0.43, 0.14, 0.01, 0.017,  -999.00, 9, -999.00, -999.00, 9, -999.00
49NZ20071122, P14N, 146, 1, 15, X12021, 2, 20071203, 1454, -0.7408, 179.0063, 5478,   2670.3, 2,   1.8189, 2,  34.6637, 2,  34.6637, 2,    126.7, 2,    127.8, 2,   141.18, 2,    37.64, 2,     0.00, 2,     2.66, 2, -999.000, 9, -999.000, 9, -999.000, 9, -999.000, 9,   -999.0, 9,   -999.0, 9, -999.0000,   -999.00,   -999.0, 9,   -999.0,  -999.00, 9,   -999.0,   1.6264, 27.7310,   1.8189, 2, 9, 0.43, 0.14, 0.01, 0.017,  -999.00, 9, -999.00, -999.00, 9, -999.00
49NZ20071122, P14N, 146, 1, 14, X12020, 2, 20071203, 1454, -0.7408, 179.0063, 5478,   2870.8, 2,   1.7032, 2,  34.6693, 2,  34.6694, 2,    133.9, 2,    134.3, 2,   141.57, 2,    37.22, 2,     0.00, 2,     2.63, 2, -999.000, 9, -999.000, 9, -999.000, 9, -999.000, 9,   -999.0, 9,   -999.0, 9, -999.0000,   -999.00,   -999.0, 9,   -999.0,  -999.00, 9,   -999.0,   1.4943, 27.7452,   1.7032, 2, 9, 0.43, 0.14, 0.01, 0.017,  -999.00, 9, -999.00, -999.00, 9, -999.00
49NZ20071122, P14N, 146, 1, 13, X12019, 2, 20071203, 1454, -0.7408, 179.0063, 5478,   3080.0, 2,   1.6450, 2,  34.6731, 2,  34.6729, 2,    138.3, 2,    138.8, 2,   141.52, 2,    36.93, 2,     0.00, 2,     2.60, 2,    0.001, 2,    0.000, 2,    0.000, 2, -999.000, 9,   -999.0, 9,   -999.0, 9, -999.0000,   -999.00,   -999.0, 9,   -999.0,  -999.00, 9,   -999.0,   1.4173, 27.7539,   1.6450, 2, 9, 0.43, 0.14, 0.01, 0.016,  -999.00, 9, -999.00, -999.00, 9, -999.00
49NZ20071122, P14N, 146, 1, 12, X12040, 2, 20071203, 1454, -0.7408, 179.0063, 5478,   3330.3, 2,   1.5780, 2,  34.6779, 2,  34.6778, 2,    144.3, 2,    145.5, 2,   140.00, 2,    36.38, 2,     0.00, 2,     2.56, 2, -999.000, 9, -999.000, 9, -999.000, 9, -999.000, 9,   -999.0, 9,   -999.0, 9, -999.0000,   -999.00,   -999.0, 9,   -999.0,  -999.00, 9,   -999.0,   1.3271, 27.7641,   1.5780, 2, 9, 0.43, 0.13, 0.01, 0.016,  -999.00, 9, -999.00, -999.00, 9, -999.00
49NZ20071122, P14N, 146, 1, 11, X12047, 2, 20071203, 1454, -0.7408, 179.0063, 5478,   3581.3, 2,   1.5184, 2,  34.6833, 2,  34.6833, 2,    150.7, 2,    152.5, 2,   138.61, 2,    35.90, 2,     0.00, 2,     2.52, 2, -999.000, 9, -999.000, 9, -999.000, 9, -999.000, 9,   -999.0, 9,   -999.0, 9, -999.0000,   -999.00,   -999.0, 9,   -999.0,  -999.00, 9,   -999.0,   1.2434, 27.7743,   1.5184, 2, 9, 0.42, 0.13, 0.01, 0.016,  -999.00, 9, -999.00, -999.00, 9, -999.00
49NZ20071122, P14N, 146, 1, 10, X12012, 2, 20071203, 1454, -0.7408, 179.0063, 5478,   3830.2, 2,   1.4669, 2,  34.6885, 2,  34.6884, 2,    158.9, 2,    159.2, 2,   136.96, 2,    35.55, 2,     0.00, 2,     2.49, 2,    0.000, 2,    0.000, 2,    0.000, 2, -999.000, 9,   -999.0, 9,   -999.0, 9, -999.0000,   -999.00,   -999.0, 9,   -999.0,  -999.00, 9,   -999.0,   1.1672, 27.7837,   1.4669, 2, 9, 0.42, 0.13, 0.01, 0.016,  -999.00, 9, -999.00, -999.00, 9, -999.00
49NZ20071122, P14N, 146, 1, 9, X12015, 2, 20071203, 1454, -0.7408, 179.0063, 5478,   4080.3, 2,   1.4201, 2,  34.6927, 2,  34.6927, 6,    165.0, 2,    165.6, 2,   135.15, 2,    35.11, 2,     0.00, 2,     2.45, 2,    0.000, 2,    0.000, 2,    0.000, 2, -999.000, 9,   -999.0, 9,   -999.0, 9, -999.0000,   -999.00,   -999.0, 9,   -999.0,  -999.00, 9,   -999.0,   1.0947, 27.7921,   1.4201, 2, 9, 0.42, 0.13, 0.01, 0.016,  -999.00, 9, -999.00, -999.00, 9, -999.00
49NZ20071122, P14N, 146, 1, 8, X12046, 2, 20071203, 1454, -0.7408, 179.0063, 5478,   4329.4, 2,   1.3121, 2,  34.6995, 2,  34.6991, 2,    177.3, 2,    179.2, 2,   128.93, 2,    34.16, 2,     0.00, 2,     2.38, 2,    0.000, 2,    0.000, 2,    0.000, 2, -999.000, 9,   -999.0, 9,   -999.0, 9, -999.0000,   -999.00,   -999.0, 9,   -999.0,  -999.00, 9,   -999.0,   0.9622, 27.8064,   1.3121, 2, 9, 0.40, 0.13, 0.01, 0.016,  -999.00, 9, -999.00, -999.00, 9, -999.00
49NZ20071122, P14N, 146, 1, 7, X12044, 2, 20071203, 1454, -0.7408, 179.0063, 5478,   4580.7, 2,   1.2479, 2,  34.7038, 2,  34.7040, 2,    188.5, 2,    189.2, 2,   123.52, 2,    33.40, 2,     0.00, 2,     2.33, 2,    0.001, 2,    0.000, 2,    0.000, 2, -999.000, 9,   -999.0, 9,   -999.0, 9, -999.0000,   -999.00,   -999.0, 9,   -999.0,  -999.00, 9,   -999.0,   0.8714, 27.8158,   1.2479, 2, 9, 0.39, 0.13, 0.01, 0.016,  -999.00, 9, -999.00, -999.00, 9, -999.00
49NZ20071122, P14N, 146, 1, 6, X12048, 2, 20071203, 1454, -0.7408, 179.0063, 5478,   4829.9, 2,   1.2481, 2,  34.6803, 3,  34.7045, 2,    191.3, 2,    191.0, 2,   123.18, 2,    33.30, 2,     0.00, 2,     2.32, 2,    0.001, 2,    0.000, 2,    0.000, 2, -999.000, 9,   -999.0, 9,   -999.0, 9, -999.0000,   -999.00,   -999.0, 9,   -999.0,  -999.00, 9,   -999.0,   0.8427, 27.7987,   1.2481, 2, 9, 0.39, 0.13, 0.01, 0.016,  -999.00, 9, -999.00, -999.00, 9, -999.00
49NZ20071122, P14N, 146, 1, 5, X12014, 2, 20071203, 1454, -0.7408, 179.0063, 5478,   5079.7, 2,   1.2641, 2,  34.7053, 2,  34.7053, 2,    192.5, 2,    192.6, 2,   122.29, 2,    33.10, 2,     0.00, 2,     2.31, 2,    0.003, 2,    0.000, 2,    0.000, 2, -999.000, 9,   -999.0, 9,   -999.0, 9, -999.0000,   -999.00,   -999.0, 9,   -999.0,  -999.00, 9,   -999.0,   0.8281, 27.8198,   1.2641, 2, 9, 0.39, 0.13, 0.01, 0.016,  -999.00, 9, -999.00, -999.00, 9, -999.00
49NZ20071122, P14N, 146, 1, 4, X12006, 2, 20071203, 1454, -0.7408, 179.0063, 5478,   5329.3, 2,   1.2869, 2,  34.7057, 2,  34.7058, 2,    193.7, 2,    193.8, 2,   121.67, 2,    33.02, 2,     0.00, 2,     2.30, 2,    0.003, 2,    0.001, 2,    0.000, 2, -999.000, 9,   -999.0, 9,   -999.0, 9, -999.0000,   -999.00,   -999.0, 9,   -999.0,  -999.00, 9,   -999.0,   0.8194, 27.8206,   1.2869, 2, 9, 0.39, 0.13, 0.01, 0.016,  -999.00, 9, -999.00, -999.00, 9, -999.00
49NZ20071122, P14N, 146, 1, 3, X12013, 9, 20071203, 1454, -0.7408, 179.0063, 5478,     10.6, 2,  26.9336, 2,  35.2560, 2, -999.0000, 9,    198.6, 2,   -999.0, 9,  -999.00, 9,  -999.00, 9,  -999.00, 9,  -999.00, 9, -999.000, 9, -999.000, 9, -999.000, 9, -999.000, 9,   -999.0, 9,   -999.0, 9, -999.0000,   -999.00,   -999.0, 9,   -999.0,  -999.00, 9,   -999.0,  26.9312, 22.9326,  26.9341, 2, 9, -999.00, -999.00, -999.00, -999.000,  -999.00, 9, -999.00, -999.00, 9, -999.00
49NZ20071122, P14N, 146, 1, 2, X12002, 9, 20071203, 1454, -0.7408, 179.0063, 5478,     50.2, 2,  26.8618, 2,  35.3379, 2, -999.0000, 9,    195.1, 2,   -999.0, 9,  -999.00, 9,  -999.00, 9,  -999.00, 9,  -999.00, 9, -999.000, 9, -999.000, 9, -999.000, 9, -999.000, 9,   -999.0, 9,   -999.0, 9, -999.0000,   -999.00,   -999.0, 9,   -999.0,  -999.00, 9,   -999.0,  26.8503, 23.0201,  26.8617, 2, 9, -999.00, -999.00, -999.00, -999.000,  -999.00, 9, -999.00, -999.00, 9, -999.00
49NZ20071122, P14N, 146, 1, 1, X12001, 2, 20071203, 1454, -0.7408, 179.0063, 5478,   5533.3, 2,   1.3134, 2,  34.7057, 2,  34.7058, 6,    193.8, 2,    193.7, 2,   121.60, 2,    33.06, 2,     0.01, 2,     2.31, 2,    0.000, 2,    0.000, 2,    0.000, 2, -999.000, 9,   -999.0, 9,   -999.0, 9, -999.0000,   -999.00,   -999.0, 9,   -999.0,  -999.00, 9,   -999.0,   0.8193, 27.8207,   1.3134, 2, 9, 0.39, 0.13, 0.01, 0.016,  -999.00, 9, -999.00, -999.00, 9, -999.00