BOTTLE,20220820CCHSIOAMB
EXPOCODE,SECT_ID,STNNBR,CASTNO,SAMPNO,BTLNBR,BTLNBR_FLAG_W,DATE,TIME,LATITUDE,LONGITUDE,DEPTH,CTDPRS,CTDPRS_FLAG_W,CTDTMP,CTDTMP_FLAG_W,CTDSAL,CTDSAL_FLAG_W,SALNTY,SALNTY_FLAG_W,CTDOXY,CTDOXY_FLAG_W,OXYGEN,OXYGEN_FLAG_W,SILCAT,SILCAT_FLAG_W,NITRAT,NITRAT_FLAG_W,NITRIT,NITRIT_FLAG_W,PHSPHT,PHSPHT_FLAG_W,CFC-11,CFC-11_FLAG_W,CFC-12,CFC-12_FLAG_W,CFC113,CFC113_FLAG_W,CCL4,CCL4_FLAG_W,TCARBN,TCARBN_FLAG_W,ALKALI,ALKALI_FLAG_W,PH_TOT,PH_TMP,DELC14,DELC14_FLAG_W,C14ERR,DELC13,DELC13_FLAG_W,C13ERR,THETA,SIG0,SBE35,SBE35_FLAG_W,PH_TOT_FLAG_W,SILUNC,NRAUNC,NRIUNC,PHPUNC,CS-137,CS-137_FLAG_W,CS137ER,PLUTO,PLUTO_FLAG_W,PLUTOER
,,,,,,,,,,,METERS,DBAR,,ITS-90,,PSS-78,,PSS-78,,UMOL/KG,,UMOL/KG,,UMOL/KG,,UMOL/KG,,UMOL/KG,,UMOL/KG,,PMOL/KG,,PMOL/KG,,PMOL/KG,,PMOL/KG,,UMOL/KG,,UMOL/KG,,,DEG C,/MILLE,,/MILLE,/MILLE,,/MILLE,DEG C,KG/M^3,ITS-90,,,UMOL/KG,UMOL/KG,UMOL/KG,UMOL/KG,DM/.1MG,,BQ/M^3,MBQ/M^3,,MBQ/M^3
49NZ20071122, P14N, 168, 1, 36, X12042, 2, 20071208, 2154, -7.5000, 178.9960, 2156,      9.6, 2,  29.2856, 2,  35.0321, 2,  35.0323, 2,    193.3, 2,    194.4, 2,     0.70, 2,     0.06, 2,     0.00, 2,     0.20, 2,    1.427, 2,    0.898, 2,    0.193, 4, -999.000, 9,   1948.9, 2,   2306.4, 2,    8.1382,     25.00,   -999.0, 9,   -999.0,  -999.00, 9,   -999.0,  29.2833, 21.9932,  29.2894, 2, 6, 0.12, 0.03, 0.01, 0.016,  -999.00, 9, -999.00, -999.00, 9, -999.00
49NZ20071122, P14N, 168, 1, 35, X12041, 2, 20071208, 2154, -7.5000, 178.9960, 2156,     50.5, 2,  29.2437, 2,  35.3167, 2,  35.2814, 2,    197.8, 2,    196.0, 2,     0.64, 2,     0.07, 2,     0.01, 2,     0.21, 2,    1.425, 2,    0.892, 2,    0.195, 4, -999.000, 9,   1967.7, 6,   2323.9, 2,    8.1323,     25.00,   -999.0, 9,   -999.0,  -999.00, 9,   -999.0,  29.2314, 22.2243,  29.2438, 2, 2, 0.12, 0.03, 0.01, 0.016,  -999.00, 9, -999.00, -999.00, 9, -999.00
49NZ20071122, P14N, 168, 1, 34, X12016, 2, 20071208, 2154, -7.5000, 178.9960, 2156,    101.0, 2,  28.7301, 2,  35.6618, 2,  35.6649, 2,    172.9, 2,    174.0, 2,     1.10, 2,     1.88, 2,     0.77, 2,     0.45, 2,    1.490, 2,    0.930, 2,    0.219, 4, -999.000, 9,   2024.0, 2,   2348.3, 6,    8.0723,     25.00,   -999.0, 9,   -999.0,  -999.00, 9,   -999.0,  28.7058, 22.6594,  28.7275, 2, 2, 0.12, 0.04, 0.00, 0.013,  -999.00, 9, -999.00, -999.00, 9, -999.00
49NZ20071122, P14N, 168, 1, 33, X12033, 2, 20071208, 2154, -7.5000, 178.9960, 2156,    150.9, 2,  26.6146, 2,  36.1703, 2,  36.1666, 2,    148.3, 2,    150.2, 2,     1.14, 2,     3.45, 2,     0.74, 2,     0.55, 2,    1.664, 6,    1.024, 6,    0.213, 4, -999.000, 9,   2074.9, 2,   2379.3, 2,    8.0287,     25.00,   -999.0, 9,   -999.0,  -999.00, 9,   -999.0,  26.5802, 23.7336,  26.6041, 2, 6, 0.12, 0.04, 0.00, 0.013,  -999.00, 9, -999.00, -999.00, 9, -999.00
49NZ20071122, P14N, 168, 1, 32, X12038, 2, 20071208, 2154, -7.5000, 178.9960, 2156,    200.6, 2,  22.9054, 2,  36.1002, 2,  36.0729, 2,    144.3, 2,    145.1, 2,     1.34, 2,     6.65, 2,     0.01, 2,     0.72, 2,    1.941, 2,    1.154, 2,    0.097, 2, -999.000, 9,   2115.0, 2,   2376.8, 2,    7.9538,     25.00,   -999.0, 9,   -999.0,  -999.00, 9,   -999.0,  22.8643, 24.8075,  22.9047, 2, 2, 0.12, 0.05, 0.01, 0.013,  -999.00, 9, -999.00, -999.00, 9, -999.00
49NZ20071122, P14N, 168, 1, 31, X12003, 2, 20071208, 2154, -7.5000, 178.9960, 2156,    249.3, 2,  17.5910, 2,  35.4377, 2,  35.3820, 6,    115.4, 2,    114.0, 2,     5.91, 2,    14.26, 2,     0.01, 2,     1.27, 2,    1.862, 2,    1.048, 2,    0.040, 2, -999.000, 9,   2155.7, 2,   2334.1, 2,    7.8027,     25.00,   -999.0, 9,   -999.0,  -999.00, 9,   -999.0,  17.5487, 25.7181,  17.5629, 2, 2, 0.13, 0.07, 0.01, 0.014,  -999.00, 9, -999.00, -999.00, 9, -999.00
49NZ20071122, P14N, 168, 1, 30, X12008, 2, 20071208, 2154, -7.5000, 178.9960, 2156,    279.4, 2,  14.2989, 2,  35.0766, 2,  35.0666, 2,     92.6, 2,     94.5, 2,    10.47, 2,    19.64, 2,     0.00, 2,     1.63, 2,    1.502, 2,    0.814, 2,    0.030, 2, -999.000, 9,   2181.1, 2,   2316.9, 2,    7.7100,     25.00,   -999.0, 9,   -999.0,  -999.00, 9,   -999.0,  14.2578, 26.1917,  14.2878, 2, 2, 0.14, 0.09, 0.01, 0.014,  -999.00, 9, -999.00, -999.00, 9, -999.00
49NZ20071122, P14N, 168, 1, 29, X12035, 2, 20071208, 2154, -7.5000, 178.9960, 2156,    371.1, 2,   9.7912, 2,  34.7279, 2,  34.7248, 2,     96.4, 2,     96.4, 2,    22.00, 2,    28.75, 2,     0.00, 2,     2.08, 2,    0.565, 2,    0.299, 2,    0.012, 2, -999.000, 9,   2208.3, 2,   2305.5, 2,    7.6112,     25.00,   -999.0, 9,   -999.0,  -999.00, 9,   -999.0,   9.7485, 26.7821,   9.7918, 2, 2, 0.17, 0.11, 0.01, 0.015,  -999.00, 9, -999.00, -999.00, 9, -999.00
49NZ20071122, P14N, 168, 1, 28, X12034, 2, 20071208, 2154, -7.5000, 178.9960, 2156,    469.8, 2,   8.1822, 2,  34.6220, 2,  34.6187, 6,    111.2, 2,    110.5, 2,    28.04, 2,    31.07, 2,     0.00, 2,     2.19, 2,    0.353, 2,    0.185, 2,    0.012, 2, -999.000, 9,   2215.7, 2,   2306.3, 2,    7.5972,     25.00,   -999.0, 9,   -999.0,  -999.00, 9,   -999.0,   8.1334, 26.9569,   8.1820, 2, 2, 0.18, 0.12, 0.01, 0.016,  -999.00, 9, -999.00, -999.00, 9, -999.00
49NZ20071122, P14N, 168, 1, 27, X12049, 2, 20071208, 2154, -7.5000, 178.9960, 2156,    570.7, 2,   7.0024, 2,  34.5599, 2,  34.5592, 2,    112.9, 2,    110.9, 2,    36.01, 2,    33.45, 2,     0.00, 2,     2.36, 2,    0.193, 2,    0.103, 2,    0.011, 2, -999.000, 9,   2230.6, 2,   2311.8, 2,    7.5734,     25.00,   -999.0, 9,   -999.0,  -999.00, 9,   -999.0,   6.9479, 27.0793,   7.0132, 2, 2, 0.20, 0.13, 0.01, 0.016,  -999.00, 9, -999.00, -999.00, 9, -999.00
49NZ20071122, P14N, 168, 1, 26, X12032, 2, 20071208, 2154, -7.5000, 178.9960, 2156,    671.9, 2,   6.2036, 2,  34.5327, 2,  34.5332, 2,    111.7, 2,    112.8, 2,    44.22, 2,    34.86, 2,     0.00, 2,     2.47, 2,    0.133, 6,    0.073, 6,    0.007, 6, -999.000, 9,   2240.6, 6,   2318.1, 2,    7.5622,     25.00,   -999.0, 9,   -999.0,  -999.00, 9,   -999.0,   6.1430, 27.1651,   6.2040, 2, 2, 0.22, 0.13, 0.01, 0.016,  -999.00, 9, -999.00, -999.00, 9, -999.00
49NZ20071122, P14N, 168, 1, 25, X12043, 2, 20071208, 2154, -7.5000, 178.9960, 2156,    771.3, 2,   5.6332, 2,  34.5280, 2,  34.5283, 2,    110.4, 2,    103.1, 2,    53.17, 2,    36.91, 2,     0.00, 2,     2.61, 2,    0.055, 2,    0.032, 2,    0.001, 2, -999.000, 9,   2257.2, 2,   2327.1, 6,    7.5366,     25.00,   -999.0, 9,   -999.0,  -999.00, 9,   -999.0,   5.5665, 27.2337,   5.6326, 2, 2, 0.24, 0.14, 0.01, 0.017,  -999.00, 9, -999.00, -999.00, 9, -999.00
49NZ20071122, P14N, 168, 1, 24, X12030, 2, 20071208, 2154, -7.5000, 178.9960, 2156,    869.9, 2,   5.0537, 2,  34.5363, 2,  34.5365, 2,     92.2, 2,     91.5, 2,    65.21, 2,    38.81, 2,     0.00, 2,     2.75, 2,    0.019, 2,    0.013, 2,    0.000, 2, -999.000, 9,   2276.4, 2,   2338.8, 2,    7.5107,     25.00,   -999.0, 9,   -999.0,  -999.00, 9,   -999.0,   4.9816, 27.3097,   5.0539, 2, 6, 0.26, 0.14, 0.01, 0.017,  -999.00, 9, -999.00, -999.00, 9, -999.00
49NZ20071122, P14N, 168, 1, 23, X12027, 2, 20071208, 2154, -7.5000, 178.9960, 2156,    970.0, 2,   4.6420, 2,  34.5395, 2,  34.5395, 6,     99.1, 2,     97.7, 2,    71.75, 2,    38.55, 2,     0.00, 2,     2.74, 2,    0.017, 2,    0.010, 2,    0.000, 2, -999.000, 9,   2281.7, 2,   2346.1, 2,    7.5176,     25.00,   -999.0, 9,   -999.0,  -999.00, 9,   -999.0,   4.5640, 27.3594,   4.6415, 2, 2, 0.28, 0.14, 0.01, 0.017,  -999.00, 9, -999.00, -999.00, 9, -999.00
49NZ20071122, P14N, 168, 1, 22, X12028, 2, 20071208, 2154, -7.5000, 178.9960, 2156,   1130.2, 2,   4.1427, 2,  34.5473, 2,  34.5479, 2,    110.0, 2,    109.1, 2,    80.41, 2,    37.93, 2,     0.00, 2,     2.71, 2,    0.012, 2,    0.010, 2,    0.000, 2, -999.000, 9,   2284.9, 3,   2356.0, 2,    7.5336,     25.00,   -999.0, 9,   -999.0,  -999.00, 9,   -999.0,   4.0548, 27.4203,   4.1427, 2, 2, 0.30, 0.14, 0.01, 0.017,  -999.00, 9, -999.00, -999.00, 9, -999.00
49NZ20071122, P14N, 168, 1, 21, X12009, 2, 20071208, 2154, -7.5000, 178.9960, 2156,   1328.8, 2,   3.4256, 2,  34.5734, 2,  34.5748, 6,    114.4, 2,    113.4, 2,    96.35, 2,    38.03, 2,     0.00, 2,     2.72, 2,    0.008, 2,    0.006, 2,    0.000, 2, -999.000, 9,   2302.4, 2,   2373.6, 2,    7.5381,     25.00,   -999.0, 9,   -999.0,  -999.00, 9,   -999.0,   3.3275, 27.5139,   3.4263, 2, 2, 0.33, 0.14, 0.01, 0.017,  -999.00, 9, -999.00, -999.00, 9, -999.00
49NZ20071122, P14N, 168, 1, 20, X12026, 2, 20071208, 2154, -7.5000, 178.9960, 2156,   1530.2, 2,   2.9656, 2,  34.5920, 2,  34.5928, 2,    122.8, 2,    123.1, 2,   104.32, 2,    37.47, 2,     0.00, 2,     2.67, 2,    0.010, 2,    0.007, 2,    0.000, 2, -999.000, 9,   2306.4, 2,   2382.8, 2,    7.5519,     25.00,   -999.0, 9,   -999.0,  -999.00, 9,   -999.0,   2.8556, 27.5725,   2.9657, 2, 2, 0.35, 0.14, 0.01, 0.017,  -999.00, 9, -999.00, -999.00, 9, -999.00
49NZ20071122, P14N, 168, 1, 19, X12025, 2, 20071208, 2154, -7.5000, 178.9960, 2156,   1730.5, 2,   2.6144, 2,  34.6101, 2,  34.6116, 2,    129.9, 2,    129.9, 2,   111.44, 2,    37.09, 2,     0.00, 2,     2.63, 2,    0.000, 2,    0.000, 2,    0.000, 2, -999.000, 9,   2310.4, 2,   2391.2, 2,    7.5621,     25.00,   -999.0, 9,   -999.0,  -999.00, 9,   -999.0,   2.4919, 27.6188,   2.6148, 2, 2, 0.36, 0.14, 0.01, 0.017,  -999.00, 9, -999.00, -999.00, 9, -999.00
49NZ20071122, P14N, 168, 1, 18, X12024, 2, 20071208, 2154, -7.5000, 178.9960, 2156,   1932.2, 2,   2.3502, 2,  34.6270, 2,  34.6276, 6,    132.3, 2,    132.0, 2,   118.18, 2,    37.06, 2,     0.00, 2,     2.62, 2,    0.000, 2,    0.000, 2,    0.000, 2, -999.000, 9,   2316.5, 2,   2398.5, 2,    7.5656,     25.00,   -999.0, 9,   -999.0,  -999.00, 9,   -999.0,   2.2143, 27.6556,   2.3499, 2, 2, 0.38, 0.14, 0.01, 0.017,  -999.00, 9, -999.00, -999.00, 9, -999.00
49NZ20071122, P14N, 168, 1, 17, X12023, 9, 20071208, 2154, -7.5000, 178.9960, 2156,      9.5, 2,  29.2739, 2,  35.0330, 2, -999.0000, 9,    193.6, 2,   -999.0, 9,  -999.00, 9,  -999.00, 9,  -999.00, 9,  -999.00, 9, -999.000, 9, -999.000, 9, -999.000, 9, -999.000, 9,   -999.0, 9,   -999.0, 9, -999.0000,   -999.00,   -999.0, 9,   -999.0,  -999.00, 9,   -999.0,  29.2716, 21.9978,  29.2785, 2, 9, -999.00, -999.00, -999.00, -999.000,  -999.00, 9, -999.00, -999.00, 9, -999.00
49NZ20071122, P14N, 168, 1, 16, X12022, 9, 20071208, 2154, -7.5000, 178.9960, 2156,     49.9, 2,  29.2332, 2,  35.3105, 2, -999.0000, 9,    197.8, 2,   -999.0, 9,  -999.00, 9,  -999.00, 9,  -999.00, 9,  -999.00, 9, -999.000, 9, -999.000, 9, -999.000, 9, -999.000, 9,   -999.0, 9,   -999.0, 9, -999.0000,   -999.00,   -999.0, 9,   -999.0,  -999.00, 9,   -999.0,  29.2211, 22.2231,  29.2318, 2, 9, -999.00, -999.00, -999.00, -999.000,  -999.00, 9, -999.00, -999.00, 9, -999.00
49NZ20071122, P14N, 168, 1, 15, X12021, 9, 20071208, 2154, -7.5000, 178.9960, 2156,    100.7, 2,  28.7042, 2,  35.6654, 2, -999.0000, 9,    172.7, 2,   -999.0, 9,  -999.00, 9,  -999.00, 9,  -999.00, 9,  -999.00, 9, -999.000, 9, -999.000, 9, -999.000, 9, -999.000, 9,   -999.0, 9,   -999.0, 9, -999.0000,   -999.00,   -999.0, 9,   -999.0,  -999.00, 9,   -999.0,  28.6800, 22.6706,  28.6999, 2, 9, -999.00, -999.00, -999.00, -999.000,  -999.00, 9, -999.00, -999.00, 9, -999.00
49NZ20071122, P14N, 168, 1, 14, X12020, 9, 20071208, 2154, -7.5000, 178.9960, 2156,    150.7, 2,  26.6938, 2,  36.1605, 2, -999.0000, 9,    148.2, 2,   -999.0, 9,  -999.00, 9,  -999.00, 9,  -999.00, 9,  -999.00, 9, -999.000, 9, -999.000, 9, -999.000, 9, -999.000, 9,   -999.0, 9,   -999.0, 9, -999.0000,   -999.00,   -999.0, 9,   -999.0,  -999.00, 9,   -999.0,  26.6594, 23.7010,  26.6905, 2, 9, -999.00, -999.00, -999.00, -999.000,  -999.00, 9, -999.00, -999.00, 9, -999.00
49NZ20071122, P14N, 168, 1, 13, X12019, 9, 20071208, 2154, -7.5000, 178.9960, 2156,    200.3, 2,  22.8963, 2,  36.0952, 2, -999.0000, 9,    144.4, 2,   -999.0, 9,  -999.00, 9,  -999.00, 9,  -999.00, 9,  -999.00, 9, -999.000, 9, -999.000, 9, -999.000, 9, -999.000, 9,   -999.0, 9,   -999.0, 9, -999.0000,   -999.00,   -999.0, 9,   -999.0,  -999.00, 9,   -999.0,  22.8553, 24.8063,  22.8933, 2, 9, -999.00, -999.00, -999.00, -999.000,  -999.00, 9, -999.00, -999.00, 9, -999.00
49NZ20071122, P14N, 168, 1, 12, X12040, 9, 20071208, 2154, -7.5000, 178.9960, 2156,    249.1, 2,  17.1995, 2,  35.3924, 2, -999.0000, 9,    111.2, 2,   -999.0, 9,  -999.00, 9,  -999.00, 9,  -999.00, 9,  -999.00, 9, -999.000, 9, -999.000, 9, -999.000, 9, -999.000, 9,   -999.0, 9,   -999.0, 9, -999.0000,   -999.00,   -999.0, 9,   -999.0,  -999.00, 9,   -999.0,  17.1579, 25.7778,  17.1846, 2, 9, -999.00, -999.00, -999.00, -999.000,  -999.00, 9, -999.00, -999.00, 9, -999.00
49NZ20071122, P14N, 168, 1, 11, X12047, 9, 20071208, 2154, -7.5000, 178.9960, 2156,    279.6, 2,  14.3035, 2,  35.0750, 2, -999.0000, 9,     92.7, 2,   -999.0, 9,  -999.00, 9,  -999.00, 9,  -999.00, 9,  -999.00, 9, -999.000, 9, -999.000, 9, -999.000, 9, -999.000, 9,   -999.0, 9,   -999.0, 9, -999.0000,   -999.00,   -999.0, 9,   -999.0,  -999.00, 9,   -999.0,  14.2624, 26.1895,  14.2615, 2, 9, -999.00, -999.00, -999.00, -999.000,  -999.00, 9, -999.00, -999.00, 9, -999.00
49NZ20071122, P14N, 168, 1, 10, X12012, 9, 20071208, 2154, -7.5000, 178.9960, 2156,    370.0, 2,   9.7681, 2,  34.7263, 2, -999.0000, 9,     96.5, 2,   -999.0, 9,  -999.00, 9,  -999.00, 9,  -999.00, 9,  -999.00, 9, -999.000, 9, -999.000, 9, -999.000, 9, -999.000, 9,   -999.0, 9,   -999.0, 9, -999.0000,   -999.00,   -999.0, 9,   -999.0,  -999.00, 9,   -999.0,   9.7256, 26.7847,   9.7620, 2, 9, -999.00, -999.00, -999.00, -999.000,  -999.00, 9, -999.00, -999.00, 9, -999.00
49NZ20071122, P14N, 168, 1, 9, X12015, 9, 20071208, 2154, -7.5000, 178.9960, 2156,    469.5, 2,   8.1950, 2,  34.6218, 2, -999.0000, 9,    111.2, 2,   -999.0, 9,  -999.00, 9,  -999.00, 9,  -999.00, 9,  -999.00, 9, -999.000, 9, -999.000, 9, -999.000, 9, -999.000, 9,   -999.0, 9,   -999.0, 9, -999.0000,   -999.00,   -999.0, 9,   -999.0,  -999.00, 9,   -999.0,   8.1462, 26.9548,   8.1949, 2, 9, -999.00, -999.00, -999.00, -999.000,  -999.00, 9, -999.00, -999.00, 9, -999.00
49NZ20071122, P14N, 168, 1, 8, X12046, 9, 20071208, 2154, -7.5000, 178.9960, 2156,    570.5, 2,   6.9818, 2,  34.5578, 2, -999.0000, 9,    112.9, 2,   -999.0, 9,  -999.00, 9,  -999.00, 9,  -999.00, 9,  -999.00, 9, -999.000, 9, -999.000, 9, -999.000, 9, -999.000, 9,   -999.0, 9,   -999.0, 9, -999.0000,   -999.00,   -999.0, 9,   -999.0,  -999.00, 9,   -999.0,   6.9274, 27.0805,   6.9814, 2, 9, -999.00, -999.00, -999.00, -999.000,  -999.00, 9, -999.00, -999.00, 9, -999.00
49NZ20071122, P14N, 168, 1, 7, X12044, 9, 20071208, 2154, -7.5000, 178.9960, 2156,    671.4, 2,   6.2040, 2,  34.5326, 2, -999.0000, 9,    111.8, 2,   -999.0, 9,  -999.00, 9,  -999.00, 9,  -999.00, 9,  -999.00, 9, -999.000, 9, -999.000, 9, -999.000, 9, -999.000, 9,   -999.0, 9,   -999.0, 9, -999.0000,   -999.00,   -999.0, 9,   -999.0,  -999.00, 9,   -999.0,   6.1435, 27.1650,   6.2043, 2, 9, -999.00, -999.00, -999.00, -999.000,  -999.00, 9, -999.00, -999.00, 9, -999.00
49NZ20071122, P14N, 168, 1, 6, X12048, 9, 20071208, 2154, -7.5000, 178.9960, 2156,    770.4, 2,   5.6432, 2,  34.5276, 2, -999.0000, 9,    110.9, 2,   -999.0, 9,  -999.00, 9,  -999.00, 9,  -999.00, 9,  -999.00, 9, -999.000, 9, -999.000, 9, -999.000, 9, -999.000, 9,   -999.0, 9,   -999.0, 9, -999.0000,   -999.00,   -999.0, 9,   -999.0,  -999.00, 9,   -999.0,   5.5765, 27.2322,   5.6435, 2, 9, -999.00, -999.00, -999.00, -999.000,  -999.00, 9, -999.00, -999.00, 9, -999.00
49NZ20071122, P14N, 168, 1, 5, X12014, 9, 20071208, 2154, -7.5000, 178.9960, 2156,    869.1, 2,   5.0535, 2,  34.5361, 2, -999.0000, 9,     92.3, 2,   -999.0, 9,  -999.00, 9,  -999.00, 9,  -999.00, 9,  -999.00, 9, -999.000, 9, -999.000, 9, -999.000, 9, -999.000, 9,   -999.0, 9,   -999.0, 9, -999.0000,   -999.00,   -999.0, 9,   -999.0,  -999.00, 9,   -999.0,   4.9815, 27.3096,   5.0546, 2, 9, -999.00, -999.00, -999.00, -999.000,  -999.00, 9, -999.00, -999.00, 9, -999.00
49NZ20071122, P14N, 168, 1, 4, X12006, 9, 20071208, 2154, -7.5000, 178.9960, 2156,    970.4, 2,   4.6326, 2,  34.5402, 2, -999.0000, 9,     99.0, 2,   -999.0, 9,  -999.00, 9,  -999.00, 9,  -999.00, 9,  -999.00, 9, -999.000, 9, -999.000, 9, -999.000, 9, -999.000, 9,   -999.0, 9,   -999.0, 9, -999.0000,   -999.00,   -999.0, 9,   -999.0,  -999.00, 9,   -999.0,   4.5546, 27.3610,   4.6324, 2, 9, -999.00, -999.00, -999.00, -999.000,  -999.00, 9, -999.00, -999.00, 9, -999.00
49NZ20071122, P14N, 168, 1, 3, X12013, 9, 20071208, 2154, -7.5000, 178.9960, 2156,   1329.3, 2,   3.4271, 2,  34.5734, 2, -999.0000, 9,    114.4, 2,   -999.0, 9,  -999.00, 9,  -999.00, 9,  -999.00, 9,  -999.00, 9, -999.000, 9, -999.000, 9, -999.000, 9, -999.000, 9,   -999.0, 9,   -999.0, 9, -999.0000,   -999.00,   -999.0, 9,   -999.0,  -999.00, 9,   -999.0,   3.3289, 27.5138,   3.4281, 2, 9, -999.00, -999.00, -999.00, -999.000,  -999.00, 9, -999.00, -999.00, 9, -999.00
49NZ20071122, P14N, 168, 1, 2, X12002, 9, 20071208, 2154, -7.5000, 178.9960, 2156,   1729.5, 2,   2.6157, 2,  34.6098, 2, -999.0000, 9,    129.8, 2,   -999.0, 9,  -999.00, 9,  -999.00, 9,  -999.00, 9,  -999.00, 9, -999.000, 9, -999.000, 9, -999.000, 9, -999.000, 9,   -999.0, 9,   -999.0, 9, -999.0000,   -999.00,   -999.0, 9,   -999.0,  -999.00, 9,   -999.0,   2.4933, 27.6185,   2.6166, 2, 9, -999.00, -999.00, -999.00, -999.000,  -999.00, 9, -999.00, -999.00, 9, -999.00
49NZ20071122, P14N, 168, 1, 1, X12001, 2, 20071208, 2154, -7.5000, 178.9960, 2156,   2153.8, 2,   2.1176, 2,  34.6426, 2,  34.6439, 6,    134.4, 2,    134.4, 2,   124.65, 2,    37.09, 2,     0.00, 2,     2.61, 2,    0.000, 2,    0.000, 2,    0.000, 2, -999.000, 9,   2321.4, 2,   2405.4, 2,    7.5701,     25.00,   -999.0, 9,   -999.0,  -999.00, 9,   -999.0,   1.9661, 27.6880,   2.1174, 2, 2, 0.39, 0.14, 0.01, 0.017,  -999.00, 9, -999.00, -999.00, 9, -999.00