BOTTLE,20220820CCHSIOAMB
EXPOCODE,SECT_ID,STNNBR,CASTNO,SAMPNO,BTLNBR,BTLNBR_FLAG_W,DATE,TIME,LATITUDE,LONGITUDE,DEPTH,CTDPRS,CTDPRS_FLAG_W,CTDTMP,CTDTMP_FLAG_W,CTDSAL,CTDSAL_FLAG_W,SALNTY,SALNTY_FLAG_W,CTDOXY,CTDOXY_FLAG_W,OXYGEN,OXYGEN_FLAG_W,SILCAT,SILCAT_FLAG_W,NITRAT,NITRAT_FLAG_W,NITRIT,NITRIT_FLAG_W,PHSPHT,PHSPHT_FLAG_W,CFC-11,CFC-11_FLAG_W,CFC-12,CFC-12_FLAG_W,CFC113,CFC113_FLAG_W,CCL4,CCL4_FLAG_W,TCARBN,TCARBN_FLAG_W,ALKALI,ALKALI_FLAG_W,PH_TOT,PH_TMP,DELC14,DELC14_FLAG_W,C14ERR,DELC13,DELC13_FLAG_W,C13ERR,THETA,SIG0,SBE35,SBE35_FLAG_W,PH_TOT_FLAG_W,SILUNC,NRAUNC,NRIUNC,PHPUNC,CS-137,CS-137_FLAG_W,CS137ER,PLUTO,PLUTO_FLAG_W,PLUTOER
,,,,,,,,,,,METERS,DBAR,,ITS-90,,PSS-78,,PSS-78,,UMOL/KG,,UMOL/KG,,UMOL/KG,,UMOL/KG,,UMOL/KG,,UMOL/KG,,PMOL/KG,,PMOL/KG,,PMOL/KG,,PMOL/KG,,UMOL/KG,,UMOL/KG,,,DEG C,/MILLE,,/MILLE,/MILLE,,/MILLE,DEG C,KG/M^3,ITS-90,,,UMOL/KG,UMOL/KG,UMOL/KG,UMOL/KG,DM/.1MG,,BQ/M^3,MBQ/M^3,,MBQ/M^3
49NZ20071122, P14, 44, 1, 36, X12042, 2, 20071214, 1735, -19.6340, 177.3642, 2545,     10.6, 2,  27.7653, 2,  34.6856, 2,  34.6860, 2,    204.9, 2,    204.9, 2,     0.89, 2,     0.05, 2,     0.01, 2,     0.05, 2,    1.540, 2,    0.952, 2,    0.307, 4, -999.000, 9,   1917.4, 2,   2271.7, 2,    8.1479,     25.00,   -999.0, 9,   -999.0,  -999.00, 9,   -999.0,  27.7628, 22.2355,  27.7646, 2, 6, 0.12, 0.03, 0.01, 0.033,  -999.00, 9, -999.00, -999.00, 9, -999.00
49NZ20071122, P14, 44, 1, 35, X12041, 2, 20071214, 1735, -19.6340, 177.3642, 2545,     51.0, 2,  26.4781, 2,  35.1333, 2,  35.1312, 2,    203.5, 2,    204.4, 2,     0.74, 2,     0.04, 2,     0.01, 2,     0.09, 2,    1.647, 2,    1.016, 2,    0.422, 4, -999.000, 9,   1958.1, 6,   2303.5, 2,    8.1217,     25.00,   -999.0, 9,   -999.0,  -999.00, 9,   -999.0,  26.4666, 22.9876,  26.4771, 2, 2, 0.12, 0.03, 0.01, 0.024,  -999.00, 9, -999.00, -999.00, 9, -999.00
49NZ20071122, P14, 44, 1, 34, X12016, 2, 20071214, 1735, -19.6340, 177.3642, 2545,    100.6, 2,  24.8951, 2,  35.4340, 2,  35.4491, 2,    190.1, 2,    190.0, 2,     0.63, 2,     0.34, 2,     0.28, 2,     0.19, 2,    1.767, 2,    1.074, 2,    0.294, 4, -999.000, 9,   2000.3, 2,   2328.1, 6,    8.0854,     25.00,   -999.0, 9,   -999.0,  -999.00, 9,   -999.0,  24.8733, 23.7078,  24.8939, 2, 2, 0.12, 0.03, 0.01, 0.016,  -999.00, 9, -999.00, -999.00, 9, -999.00
49NZ20071122, P14, 44, 1, 33, X12033, 2, 20071214, 1735, -19.6340, 177.3642, 2545,    151.3, 2,  22.9286, 2,  35.6721, 2,  35.6779, 2,    169.4, 2,    168.9, 2,     0.77, 2,     2.56, 2,     0.04, 2,     0.34, 2,    1.951, 6,    1.158, 6,    0.124, 4, -999.000, 9,   2049.3, 2,   2342.4, 2,    8.0207,     25.00,   -999.0, 9,   -999.0,  -999.00, 9,   -999.0,  22.8977, 24.4730,  22.9307, 2, 6, 0.12, 0.04, 0.01, 0.014,  -999.00, 9, -999.00, -999.00, 9, -999.00
49NZ20071122, P14, 44, 1, 32, X12038, 2, 20071214, 1735, -19.6340, 177.3642, 2545,    200.2, 2,  21.2017, 2,  35.6604, 2,  35.6551, 2,    169.3, 2,    169.2, 2,     0.88, 2,     3.86, 2,     0.02, 2,     0.39, 2,    2.094, 2,    1.219, 2,    0.063, 2, -999.000, 9,   2066.1, 2,   2339.1, 2,    7.9897,     25.00,   -999.0, 9,   -999.0,  -999.00, 9,   -999.0,  21.1630, 24.9522,  21.2075, 2, 2, 0.12, 0.04, 0.01, 0.013,  -999.00, 9, -999.00, -999.00, 9, -999.00
49NZ20071122, P14, 44, 1, 31, X12003, 2, 20071214, 1735, -19.6340, 177.3642, 2545,    250.2, 2,  19.5212, 2,  35.6024, 2,  35.5898, 6,    174.9, 2,    175.4, 2,     1.10, 2,     4.46, 2,     0.02, 2,     0.44, 2,    2.218, 2,    1.263, 2,    0.039, 2, -999.000, 9,   2078.2, 2,   2336.1, 2,    7.9641,     25.00,   -999.0, 9,   -999.0,  -999.00, 9,   -999.0,  19.4755, 25.3590,  19.5067, 2, 2, 0.12, 0.05, 0.01, 0.013,  -999.00, 9, -999.00, -999.00, 9, -999.00
49NZ20071122, P14, 44, 1, 30, X12008, 2, 20071214, 1735, -19.6340, 177.3642, 2545,    330.4, 2,  16.7290, 2,  35.3931, 2,  35.3869, 2,    184.0, 2,    183.9, 2,     1.82, 2,     6.56, 2,     0.02, 2,     0.59, 2,    2.334, 2,    1.287, 2,    0.036, 2, -999.000, 9,   2091.6, 2,   2323.9, 2,    7.9189,     25.00,   -999.0, 9,   -999.0,  -999.00, 9,   -999.0,  16.6747, 25.8932,  16.7293, 2, 2, 0.12, 0.05, 0.01, 0.013,  -999.00, 9, -999.00, -999.00, 9, -999.00
49NZ20071122, P14, 44, 1, 29, X12035, 2, 20071214, 1735, -19.6340, 177.3642, 2545,    431.5, 2,  13.4479, 2,  35.0435, 2,  35.0403, 2,    186.6, 2,    186.2, 2,     3.68, 2,    11.57, 2,     0.02, 2,     0.92, 2,    2.296, 2,    1.212, 2,    0.041, 2, -999.000, 9,   2113.5, 2,   2307.7, 2,    7.8452,     25.00,   -999.0, 9,   -999.0,  -999.00, 9,   -999.0,  13.3867, 26.3481,  13.4512, 2, 2, 0.13, 0.07, 0.01, 0.013,  -999.00, 9, -999.00, -999.00, 9, -999.00
49NZ20071122, P14, 44, 1, 28, X12034, 2, 20071214, 1735, -19.6340, 177.3642, 2545,    529.2, 2,   9.2229, 2,  34.6078, 2,  34.5996, 6,    198.5, 2,    198.8, 2,     7.62, 2,    19.73, 2,     0.01, 2,     1.42, 2,    1.998, 2,    0.994, 2,    0.052, 2, -999.000, 9,   2142.8, 2,   2290.7, 2,    7.7507,     25.00,   -999.0, 9,   -999.0,  -999.00, 9,   -999.0,   9.1637, 26.7847,   9.2258, 2, 2, 0.14, 0.09, 0.01, 0.014,  -999.00, 9, -999.00, -999.00, 9, -999.00
49NZ20071122, P14, 44, 1, 27, X12049, 2, 20071214, 1735, -19.6340, 177.3642, 2545,    633.2, 2,   6.9457, 2,  34.4246, 2,  34.4244, 2,    200.3, 2,    199.8, 2,    14.59, 2,    25.27, 2,     0.01, 2,     1.78, 2,    1.265, 2,    0.619, 2,    0.023, 2, -999.000, 9,   2164.0, 2,   2288.4, 2,    7.6968,     25.00,   -999.0, 9,   -999.0,  -999.00, 9,   -999.0,   6.8853, 26.9812,   6.9457, 2, 2, 0.15, 0.10, 0.01, 0.015,  -999.00, 9, -999.00, -999.00, 9, -999.00
49NZ20071122, P14, 44, 1, 26, X12032, 2, 20071214, 1735, -19.6340, 177.3642, 2545,    731.9, 2,   5.8654, 2,  34.3810, 2,  34.3804, 2,    196.6, 2,    196.7, 2,    22.03, 2,    28.07, 2,     0.01, 2,     1.96, 2,    0.774, 6,    0.384, 6,    0.016, 6, -999.000, 9,   2179.0, 6,   2294.1, 2,    7.6703,     25.00,   -999.0, 9,   -999.0,  -999.00, 9,   -999.0,   5.8012, 27.0885,   5.8663, 2, 2, 0.17, 0.11, 0.01, 0.015,  -999.00, 9, -999.00, -999.00, 9, -999.00
49NZ20071122, P14, 44, 1, 25, X12043, 2, 20071214, 1735, -19.6340, 177.3642, 2545,    830.2, 2,   5.0648, 2,  34.4045, 2,  34.4059, 2,    177.2, 2,    177.3, 2,    36.58, 2,    31.23, 2,     0.01, 2,     2.18, 2,    0.299, 2,    0.153, 2,    0.004, 2, -999.000, 9,   2206.7, 2,   2308.2, 6,    7.6321,     25.00,   -999.0, 9,   -999.0,  -999.00, 9,   -999.0,   4.9964, 27.2035,   5.0652, 2, 2, 0.20, 0.12, 0.01, 0.015,  -999.00, 9, -999.00, -999.00, 9, -999.00
49NZ20071122, P14, 44, 1, 24, X12030, 2, 20071214, 1735, -19.6340, 177.3642, 2545,    930.3, 2,   4.5053, 2,  34.4279, 2,  34.4294, 2,    171.2, 2,    171.2, 2,    47.02, 2,    32.37, 2,     0.01, 2,     2.26, 2,    0.173, 2,    0.091, 2,    0.000, 2, -999.000, 9,   2220.3, 2,   2318.7, 2,    7.6190,     25.00,   -999.0, 9,   -999.0,  -999.00, 9,   -999.0,   4.4319, 27.2853,   4.5058, 2, 6, 0.22, 0.12, 0.01, 0.016,  -999.00, 9, -999.00, -999.00, 9, -999.00
49NZ20071122, P14, 44, 1, 23, X12027, 2, 20071214, 1735, -19.6340, 177.3642, 2545,   1070.1, 2,   3.9770, 2,  34.4669, 2,  34.4674, 6,    162.3, 2,    162.0, 2,    60.06, 2,    33.68, 2,     0.01, 2,     2.36, 2,    0.073, 2,    0.038, 2,    0.003, 2, -999.000, 9,   2241.0, 2,   2332.6, 2,    7.6028,     25.00,   -999.0, 9,   -999.0,  -999.00, 9,   -999.0,   3.8957, 27.3728,   3.9770, 2, 2, 0.25, 0.13, 0.01, 0.016,  -999.00, 9, -999.00, -999.00, 9, -999.00
49NZ20071122, P14, 44, 1, 22, X12028, 2, 20071214, 1735, -19.6340, 177.3642, 2545,   1271.5, 2,   3.3660, 2,  34.5251, 2,  34.5256, 2,    153.9, 2,    154.1, 2,    78.47, 2,    34.84, 2,     0.01, 2,     2.44, 2,    0.026, 2,    0.014, 2,    0.000, 2, -999.000, 9,   2264.5, 2,   2353.5, 2,    7.5934,     25.00,   -999.0, 9,   -999.0,  -999.00, 9,   -999.0,   3.2733, 27.4806,   3.3662, 2, 2, 0.29, 0.13, 0.01, 0.016,  -999.00, 9, -999.00, -999.00, 9, -999.00
49NZ20071122, P14, 44, 1, 21, X12009, 2, 20071214, 1735, -19.6340, 177.3642, 2545,   1470.0, 2,   2.9188, 2,  34.5702, 2,  34.5709, 6,    150.1, 2,    149.9, 2,    92.49, 2,    35.33, 2,     0.01, 2,     2.48, 2,    0.010, 2,    0.004, 2,    0.000, 2, -999.000, 9,   2281.9, 2,   2370.4, 2,    7.5889,     25.00,   -999.0, 9,   -999.0,  -999.00, 9,   -999.0,   2.8144, 27.5588,   2.9190, 2, 2, 0.32, 0.13, 0.01, 0.016,  -999.00, 9, -999.00, -999.00, 9, -999.00
49NZ20071122, P14, 44, 1, 20, X12026, 2, 20071214, 1735, -19.6340, 177.3642, 2545,   1671.1, 2,   2.6693, 2,  34.5951, 2,  34.5952, 2,    149.5, 2,    149.5, 2,    99.81, 2,    35.42, 2,     0.01, 2,     2.49, 2,    0.005, 2,    0.004, 2,    0.000, 2, -999.000, 9,   2288.4, 2,   2379.3, 2,    7.5893,     25.00,   -999.0, 9,   -999.0,  -999.00, 9,   -999.0,   2.5511, 27.6017,   2.6695, 2, 2, 0.34, 0.13, 0.01, 0.016,  -999.00, 9, -999.00, -999.00, 9, -999.00
49NZ20071122, P14, 44, 1, 19, X12025, 2, 20071214, 1735, -19.6340, 177.3642, 2545,   1871.0, 2,   2.3919, 2,  34.6215, 2,  34.6217, 2,    149.0, 2,    149.1, 2,   107.88, 2,    35.60, 2,     0.01, 2,     2.50, 2,    0.002, 2,    0.000, 2,    0.000, 2, -999.000, 9,   2298.3, 2,   2387.7, 2,    7.5892,     25.00,   -999.0, 9,   -999.0,  -999.00, 9,   -999.0,   2.2606, 27.6473,   2.3919, 2, 2, 0.36, 0.13, 0.01, 0.016,  -999.00, 9, -999.00, -999.00, 9, -999.00
49NZ20071122, P14, 44, 1, 18, X12024, 2, 20071214, 1735, -19.6340, 177.3642, 2545,   2070.3, 2,   2.2146, 2,  34.6382, 2,  34.6392, 2,    149.6, 2,    149.6, 2,   112.95, 2,    35.63, 2,     0.01, 2,     2.50, 2,    0.002, 2,    0.001, 2,    0.000, 2, -999.000, 9,   2301.5, 2,   2393.5, 2,    7.5902,     25.00,   -999.0, 9,   -999.0,  -999.00, 9,   -999.0,   2.0688, 27.6764,   2.2148, 2, 2, 0.37, 0.13, 0.01, 0.016,  -999.00, 9, -999.00, -999.00, 9, -999.00
49NZ20071122, P14, 44, 1, 17, X12023, 2, 20071214, 1735, -19.6340, 177.3642, 2545,   2271.3, 2,   2.0600, 2,  34.6525, 2,  34.6530, 6,    149.8, 2,    149.8, 2,   117.51, 2,    35.62, 2,     0.01, 2,     2.51, 2,    0.000, 2,    0.000, 2,    0.000, 2, -999.000, 9,   2307.6, 2,   2398.6, 2,    7.5916,     25.00,   -999.0, 9,   -999.0,  -999.00, 9,   -999.0,   1.8992, 27.7012,   2.0599, 2, 2, 0.38, 0.13, 0.01, 0.016,  -999.00, 9, -999.00, -999.00, 9, -999.00
49NZ20071122, P14, 44, 1, 16, X12022, 2, 20071214, 1735, -19.6340, 177.3642, 2545,   2470.2, 2,   2.0166, 2,  34.6579, 2,  34.6583, 2,    150.3, 2,    150.3, 2,   118.85, 2,    35.64, 2,     0.01, 2,     2.50, 2,    0.000, 2,    0.000, 2,    0.000, 2, -999.000, 9,   2308.6, 6,   2400.5, 2,    7.5913,     25.00,   -999.0, 9,   -999.0,  -999.00, 9,   -999.0,   1.8387, 27.7102,   2.0166, 2, 2, 0.38, 0.13, 0.01, 0.016,  -999.00, 9, -999.00, -999.00, 9, -999.00
49NZ20071122, P14, 44, 1, 15, X12021, 9, 20071214, 1735, -19.6340, 177.3642, 2545,     10.2, 2,  27.7617, 2,  34.6856, 2, -999.0000, 9,    205.0, 2,   -999.0, 9,  -999.00, 9,  -999.00, 9,  -999.00, 9,  -999.00, 9, -999.000, 9, -999.000, 9, -999.000, 9, -999.000, 9,   -999.0, 9,   -999.0, 9, -999.0000,   -999.00,   -999.0, 9,   -999.0,  -999.00, 9,   -999.0,  27.7593, 22.2366,  27.7612, 2, 9, -999.00, -999.00, -999.00, -999.000,  -999.00, 9, -999.00, -999.00, 9, -999.00
49NZ20071122, P14, 44, 1, 14, X12020, 9, 20071214, 1735, -19.6340, 177.3642, 2545,    199.6, 2,  21.1298, 2,  35.6566, 2, -999.0000, 9,    169.6, 2,   -999.0, 9,  -999.00, 9,  -999.00, 9,  -999.00, 9,  -999.00, 9, -999.000, 9, -999.000, 9, -999.000, 9, -999.000, 9,   -999.0, 9,   -999.0, 9, -999.0000,   -999.00,   -999.0, 9,   -999.0,  -999.00, 9,   -999.0,  21.0913, 24.9689,  21.1585, 2, 9, -999.00, -999.00, -999.00, -999.000,  -999.00, 9, -999.00, -999.00, 9, -999.00
49NZ20071122, P14, 44, 1, 13, X12019, 9, 20071214, 1735, -19.6340, 177.3642, 2545,    250.9, 2,  19.5015, 2,  35.6007, 2, -999.0000, 9,    174.9, 2,   -999.0, 9,  -999.00, 9,  -999.00, 9,  -999.00, 9,  -999.00, 9, -999.000, 9, -999.000, 9, -999.000, 9, -999.000, 9,   -999.0, 9,   -999.0, 9, -999.0000,   -999.00,   -999.0, 9,   -999.0,  -999.00, 9,   -999.0,  19.4557, 25.3628,  19.5016, 2, 9, -999.00, -999.00, -999.00, -999.000,  -999.00, 9, -999.00, -999.00, 9, -999.00
49NZ20071122, P14, 44, 1, 12, X12040, 9, 20071214, 1735, -19.6340, 177.3642, 2545,    330.7, 2,  16.7295, 2,  35.3934, 2, -999.0000, 9,    184.0, 2,   -999.0, 9,  -999.00, 9,  -999.00, 9,  -999.00, 9,  -999.00, 9, -999.000, 9, -999.000, 9, -999.000, 9, -999.000, 9,   -999.0, 9,   -999.0, 9, -999.0000,   -999.00,   -999.0, 9,   -999.0,  -999.00, 9,   -999.0,  16.6752, 25.8933,  16.7305, 2, 9, -999.00, -999.00, -999.00, -999.000,  -999.00, 9, -999.00, -999.00, 9, -999.00
49NZ20071122, P14, 44, 1, 11, X12047, 9, 20071214, 1735, -19.6340, 177.3642, 2545,    432.2, 2,  13.3642, 2,  35.0350, 2, -999.0000, 9,    186.5, 2,   -999.0, 9,  -999.00, 9,  -999.00, 9,  -999.00, 9,  -999.00, 9, -999.000, 9, -999.000, 9, -999.000, 9, -999.000, 9,   -999.0, 9,   -999.0, 9, -999.0000,   -999.00,   -999.0, 9,   -999.0,  -999.00, 9,   -999.0,  13.3031, 26.3586,  13.3736, 2, 9, -999.00, -999.00, -999.00, -999.000,  -999.00, 9, -999.00, -999.00, 9, -999.00
49NZ20071122, P14, 44, 1, 10, X12012, 9, 20071214, 1735, -19.6340, 177.3642, 2545,    529.3, 2,   9.2309, 2,  34.6087, 2, -999.0000, 9,    198.5, 2,   -999.0, 9,  -999.00, 9,  -999.00, 9,  -999.00, 9,  -999.00, 9, -999.000, 9, -999.000, 9, -999.000, 9, -999.000, 9,   -999.0, 9,   -999.0, 9, -999.0000,   -999.00,   -999.0, 9,   -999.0,  -999.00, 9,   -999.0,   9.1717, 26.7841,   9.2308, 2, 9, -999.00, -999.00, -999.00, -999.000,  -999.00, 9, -999.00, -999.00, 9, -999.00
49NZ20071122, P14, 44, 1, 9, X12015, 9, 20071214, 1735, -19.6340, 177.3642, 2545,    631.7, 2,   6.9476, 2,  34.4250, 2, -999.0000, 9,    200.5, 2,   -999.0, 9,  -999.00, 9,  -999.00, 9,  -999.00, 9,  -999.00, 9, -999.000, 9, -999.000, 9, -999.000, 9, -999.000, 9,   -999.0, 9,   -999.0, 9, -999.0000,   -999.00,   -999.0, 9,   -999.0,  -999.00, 9,   -999.0,   6.8874, 26.9813,   6.9478, 2, 9, -999.00, -999.00, -999.00, -999.000,  -999.00, 9, -999.00, -999.00, 9, -999.00
49NZ20071122, P14, 44, 1, 8, X12046, 9, 20071214, 1735, -19.6340, 177.3642, 2545,    731.3, 2,   5.8715, 2,  34.3810, 2, -999.0000, 9,    196.5, 2,   -999.0, 9,  -999.00, 9,  -999.00, 9,  -999.00, 9,  -999.00, 9, -999.000, 9, -999.000, 9, -999.000, 9, -999.000, 9,   -999.0, 9,   -999.0, 9, -999.0000,   -999.00,   -999.0, 9,   -999.0,  -999.00, 9,   -999.0,   5.8073, 27.0877,   5.8714, 2, 9, -999.00, -999.00, -999.00, -999.000,  -999.00, 9, -999.00, -999.00, 9, -999.00
49NZ20071122, P14, 44, 1, 7, X12044, 9, 20071214, 1735, -19.6340, 177.3642, 2545,    831.0, 2,   5.0674, 2,  34.4044, 2, -999.0000, 9,    177.2, 2,   -999.0, 9,  -999.00, 9,  -999.00, 9,  -999.00, 9,  -999.00, 9, -999.000, 9, -999.000, 9, -999.000, 9, -999.000, 9,   -999.0, 9,   -999.0, 9, -999.0000,   -999.00,   -999.0, 9,   -999.0,  -999.00, 9,   -999.0,   4.9989, 27.2032,   5.0681, 2, 9, -999.00, -999.00, -999.00, -999.000,  -999.00, 9, -999.00, -999.00, 9, -999.00
49NZ20071122, P14, 44, 1, 6, X12048, 9, 20071214, 1735, -19.6340, 177.3642, 2545,    930.5, 2,   4.5051, 2,  34.4278, 2, -999.0000, 9,    171.2, 2,   -999.0, 9,  -999.00, 9,  -999.00, 9,  -999.00, 9,  -999.00, 9, -999.000, 9, -999.000, 9, -999.000, 9, -999.000, 9,   -999.0, 9,   -999.0, 9, -999.0000,   -999.00,   -999.0, 9,   -999.0,  -999.00, 9,   -999.0,   4.4317, 27.2852,   4.5049, 2, 9, -999.00, -999.00, -999.00, -999.000,  -999.00, 9, -999.00, -999.00, 9, -999.00
49NZ20071122, P14, 44, 1, 5, X12014, 9, 20071214, 1735, -19.6340, 177.3642, 2545,   1070.2, 2,   3.9772, 2,  34.4669, 2, -999.0000, 9,    162.3, 2,   -999.0, 9,  -999.00, 9,  -999.00, 9,  -999.00, 9,  -999.00, 9, -999.000, 9, -999.000, 9, -999.000, 9, -999.000, 9,   -999.0, 9,   -999.0, 9, -999.0000,   -999.00,   -999.0, 9,   -999.0,  -999.00, 9,   -999.0,   3.8959, 27.3728,   3.9777, 2, 9, -999.00, -999.00, -999.00, -999.000,  -999.00, 9, -999.00, -999.00, 9, -999.00
49NZ20071122, P14, 44, 1, 4, X12006, 9, 20071214, 1735, -19.6340, 177.3642, 2545,   1271.8, 2,   3.3662, 2,  34.5250, 2, -999.0000, 9,    153.9, 2,   -999.0, 9,  -999.00, 9,  -999.00, 9,  -999.00, 9,  -999.00, 9, -999.000, 9, -999.000, 9, -999.000, 9, -999.000, 9,   -999.0, 9,   -999.0, 9, -999.0000,   -999.00,   -999.0, 9,   -999.0,  -999.00, 9,   -999.0,   3.2735, 27.4805,   3.3662, 2, 9, -999.00, -999.00, -999.00, -999.000,  -999.00, 9, -999.00, -999.00, 9, -999.00
49NZ20071122, P14, 44, 1, 3, X12013, 9, 20071214, 1735, -19.6340, 177.3642, 2545,   1470.5, 2,   2.9185, 2,  34.5703, 2, -999.0000, 9,    150.1, 2,   -999.0, 9,  -999.00, 9,  -999.00, 9,  -999.00, 9,  -999.00, 9, -999.000, 9, -999.000, 9, -999.000, 9, -999.000, 9,   -999.0, 9,   -999.0, 9, -999.0000,   -999.00,   -999.0, 9,   -999.0,  -999.00, 9,   -999.0,   2.8141, 27.5589,   2.9186, 2, 9, -999.00, -999.00, -999.00, -999.000,  -999.00, 9, -999.00, -999.00, 9, -999.00
49NZ20071122, P14, 44, 1, 2, X12002, 9, 20071214, 1735, -19.6340, 177.3642, 2545,   1671.5, 2,   2.6688, 2,  34.5952, 2, -999.0000, 9,    149.5, 2,   -999.0, 9,  -999.00, 9,  -999.00, 9,  -999.00, 9,  -999.00, 9, -999.000, 9, -999.000, 9, -999.000, 9, -999.000, 9,   -999.0, 9,   -999.0, 9, -999.0000,   -999.00,   -999.0, 9,   -999.0,  -999.00, 9,   -999.0,   2.5506, 27.6019,   2.6690, 2, 9, -999.00, -999.00, -999.00, -999.000,  -999.00, 9, -999.00, -999.00, 9, -999.00
49NZ20071122, P14, 44, 1, 1, X12001, 2, 20071214, 1735, -19.6340, 177.3642, 2545,   2527.5, 2,   2.0067, 2,  34.6591, 2,  34.6600, 6,    150.2, 2,    150.4, 2,   119.20, 2,    35.68, 2,     0.01, 2,     2.51, 2,    0.001, 2,    0.000, 2,    0.000, 2, -999.000, 9,   2309.7, 2,   2400.1, 2,    7.5927,     25.00,   -999.0, 9,   -999.0,  -999.00, 9,   -999.0,   1.8238, 27.7124,   2.0065, 2, 2, 0.38, 0.13, 0.01, 0.016,  -999.00, 9, -999.00, -999.00, 9, -999.00