BOTTLE,20220820CCHSIOAMB
EXPOCODE,SECT_ID,STNNBR,CASTNO,SAMPNO,BTLNBR,BTLNBR_FLAG_W,DATE,TIME,LATITUDE,LONGITUDE,DEPTH,CTDPRS,CTDPRS_FLAG_W,CTDTMP,CTDTMP_FLAG_W,CTDSAL,CTDSAL_FLAG_W,SALNTY,SALNTY_FLAG_W,CTDOXY,CTDOXY_FLAG_W,OXYGEN,OXYGEN_FLAG_W,SILCAT,SILCAT_FLAG_W,NITRAT,NITRAT_FLAG_W,NITRIT,NITRIT_FLAG_W,PHSPHT,PHSPHT_FLAG_W,CFC-11,CFC-11_FLAG_W,CFC-12,CFC-12_FLAG_W,CFC113,CFC113_FLAG_W,CCL4,CCL4_FLAG_W,TCARBN,TCARBN_FLAG_W,ALKALI,ALKALI_FLAG_W,PH_TOT,PH_TMP,DELC14,DELC14_FLAG_W,C14ERR,DELC13,DELC13_FLAG_W,C13ERR,THETA,SIG0,SBE35,SBE35_FLAG_W,PH_TOT_FLAG_W,SILUNC,NRAUNC,NRIUNC,PHPUNC,CS-137,CS-137_FLAG_W,CS137ER,PLUTO,PLUTO_FLAG_W,PLUTOER
,,,,,,,,,,,METERS,DBAR,,ITS-90,,PSS-78,,PSS-78,,UMOL/KG,,UMOL/KG,,UMOL/KG,,UMOL/KG,,UMOL/KG,,UMOL/KG,,PMOL/KG,,PMOL/KG,,PMOL/KG,,PMOL/KG,,UMOL/KG,,UMOL/KG,,,DEG C,/MILLE,,/MILLE,/MILLE,,/MILLE,DEG C,KG/M^3,ITS-90,,,UMOL/KG,UMOL/KG,UMOL/KG,UMOL/KG,DM/.1MG,,BQ/M^3,MBQ/M^3,,MBQ/M^3
49NZ20071122, P14N, 160, 1, 36, X12042, 2, 20071206, 2153, -4.2582, 178.9943, 5631,     10.0, 2,  27.9460, 2,  35.6966, 2,  35.6965, 2,    201.1, 2,    200.2, 2,     1.47, 2,     3.20, 2,     0.23, 2,     0.47, 2,    1.532, 2,    0.953, 2,    0.177, 4, -999.000, 9,   2028.0, 2,   2350.2, 2,    8.0684,     25.00,   -999.0, 1,   -999.0,  -999.00, 1,   -999.0,  27.9436, 22.9370,  27.9457, 2, 2, 0.12, 0.04, 0.01, 0.013,  -999.00, 9, -999.00, -999.00, 9, -999.00
49NZ20071122, P14N, 160, 1, 35, X12041, 2, 20071206, 2153, -4.2582, 178.9943, 5631,     50.2, 2,  27.8989, 2,  35.6946, 2,  35.6942, 2,    198.8, 2,    200.1, 2,     1.51, 2,     3.20, 2,     0.23, 2,     0.48, 2,    1.528, 2,    0.951, 2,    0.168, 4, -999.000, 9,   2029.7, 6,   2349.6, 2,    8.0683,     25.00,   -999.0, 1,   -999.0,  -999.00, 1,   -999.0,  27.8871, 22.9541,  27.8975, 2, 2, 0.12, 0.04, 0.01, 0.013,  -999.00, 9, -999.00, -999.00, 9, -999.00
49NZ20071122, P14N, 160, 1, 34, X12016, 2, 20071206, 2153, -4.2582, 178.9943, 5631,    100.5, 2,  27.5560, 2,  35.6441, 2,  35.6444, 2,    196.5, 2,    195.4, 2,     1.52, 2,     3.50, 2,     0.32, 2,     0.52, 2,    1.546, 2,    0.956, 2,    0.168, 4, -999.000, 9,   2034.5, 2,   2347.7, 6,    8.0540,     25.00,   -999.0, 1,   -999.0,  -999.00, 1,   -999.0,  27.5325, 23.0314,  27.5535, 2, 2, 0.12, 0.04, 0.01, 0.013,  -999.00, 9, -999.00, -999.00, 9, -999.00
49NZ20071122, P14N, 160, 1, 33, X12033, 2, 20071206, 2153, -4.2582, 178.9943, 5631,    150.4, 2,  27.0766, 2,  35.5982, 2,  35.5959, 2,    185.7, 2,    187.1, 2,     1.77, 2,     4.15, 2,     1.12, 2,     0.61, 2,    1.596, 6,    0.971, 6,    0.175, 4, -999.000, 9,   2048.0, 2,   2343.4, 2,    8.0283,     25.00,   -999.0, 1,   -999.0,  -999.00, 1,   -999.0,  27.0419, 23.1550,  27.0730, 2, 6, 0.12, 0.04, 0.00, 0.013,  -999.00, 9, -999.00, -999.00, 9, -999.00
49NZ20071122, P14N, 160, 1, 32, X12038, 2, 20071206, 2153, -4.2582, 178.9943, 5631,    199.1, 2,  25.6027, 2,  35.9025, 2,  35.9358, 2,    153.0, 2,    151.0, 2,     1.90, 2,     7.42, 2,     0.05, 2,     0.77, 2,    1.751, 2,    1.053, 2,    0.155, 4, -999.000, 9,   2091.8, 2,   2366.0, 2,    7.9827,     25.00,   -999.0, 1,   -999.0,  -999.00, 1,   -999.0,  25.5586, 23.8518,  25.6105, 2, 2, 0.12, 0.05, 0.01, 0.013,  -999.00, 9, -999.00, -999.00, 9, -999.00
49NZ20071122, P14N, 160, 1, 31, X12003, 2, 20071206, 2153, -4.2582, 178.9943, 5631,    250.8, 2,  14.8214, 2,  35.1470, 2,  35.1240, 6,     98.3, 2,     98.3, 2,    10.05, 2,    18.98, 2,     0.02, 2,     1.57, 2,    1.554, 2,    0.844, 2,    0.021, 2, -999.000, 9,   2178.0, 2,   2320.1, 2,    7.7288,     25.00,   -999.0, 1,   -999.0,  -999.00, 1,   -999.0,  14.7836, 26.1327,  14.8295, 2, 2, 0.14, 0.09, 0.01, 0.014,  -999.00, 9, -999.00, -999.00, 9, -999.00
49NZ20071122, P14N, 160, 1, 30, X12008, 2, 20071206, 2153, -4.2582, 178.9943, 5631,    299.4, 2,  10.7694, 2,  34.8130, 2,  34.8091, 2,     97.6, 2,     90.6, 2,    20.29, 2,    27.43, 2,     0.01, 2,     1.99, 2,    0.789, 2,    0.411, 2,    0.016, 2, -999.000, 9,   2206.7, 2,   2306.4, 2,    7.6264,     25.00,   -999.0, 1,   -999.0,  -999.00, 1,   -999.0,  10.7329, 26.6780,  10.7680, 2, 2, 0.16, 0.11, 0.01, 0.015,  -999.00, 9, -999.00, -999.00, 9, -999.00
49NZ20071122, P14N, 160, 1, 29, X12035, 2, 20071206, 2153, -4.2582, 178.9943, 5631,    399.7, 2,   9.0633, 2,  34.6783, 2,  34.6755, 2,     94.3, 2,    101.7, 2,    25.42, 2,    30.02, 2,     0.01, 2,     2.13, 2,    0.549, 2,    0.285, 2,    0.016, 2, -999.000, 9,   2213.9, 2,   2305.8, 2,    7.6024,     25.00,   -999.0, 1,   -999.0,  -999.00, 1,   -999.0,   9.0194, 26.8631,   9.0626, 2, 2, 0.17, 0.12, 0.01, 0.015,  -999.00, 9, -999.00, -999.00, 9, -999.00
49NZ20071122, P14N, 160, 1, 28, X12034, 2, 20071206, 2153, -4.2582, 178.9943, 5631,    501.4, 2,   8.1686, 2,  34.6208, 2,  34.6184, 6,     98.1, 2,    104.0, 2,    29.65, 2,    31.75, 2,     0.02, 2,     2.24, 2,    0.405, 2,    0.209, 2,    0.014, 2, -999.000, 9,   2220.6, 2,   2305.7, 2,    7.5838,     25.00,   -999.0, 1,   -999.0,  -999.00, 1,   -999.0,   8.1165, 26.9585,   8.1691, 2, 2, 0.18, 0.12, 0.01, 0.016,  -999.00, 9, -999.00, -999.00, 9, -999.00
49NZ20071122, P14N, 160, 1, 27, X12049, 2, 20071206, 2153, -4.2582, 178.9943, 5631,    600.0, 2,   7.2266, 2,  34.5866, 2,  34.5854, 2,     62.7, 2,     63.1, 2,    42.19, 2,    37.97, 2,     0.01, 2,     2.68, 2,    0.102, 2,    0.055, 2,    0.004, 2, -999.000, 9,   2261.7, 2,   2314.0, 2,    7.4890,     25.00,   -999.0, 1,   -999.0,  -999.00, 1,   -999.0,   7.1681, 27.0697,   7.2271, 2, 2, 0.21, 0.14, 0.01, 0.017,  -999.00, 9, -999.00, -999.00, 9, -999.00
49NZ20071122, P14N, 160, 1, 26, X12032, 2, 20071206, 2153, -4.2582, 178.9943, 5631,    700.7, 2,   6.4130, 2,  34.5620, 2,  34.5599, 2,     63.7, 2,     65.1, 2,    51.51, 2,    39.40, 2,     0.01, 2,     2.79, 2,    0.046, 6,    0.024, 6,    0.000, 6, -999.000, 9,   2274.4, 6,   2323.1, 2,    7.4801,     25.00,   -999.0, 1,   -999.0,  -999.00, 1,   -999.0,   6.3485, 27.1615,   6.4134, 2, 2, 0.23, 0.14, 0.01, 0.017,  -999.00, 9, -999.00, -999.00, 9, -999.00
49NZ20071122, P14N, 160, 1, 25, X12043, 2, 20071206, 2153, -4.2582, 178.9943, 5631,    800.7, 2,   5.6893, 2,  34.5426, 2,  34.5417, 2,     82.8, 2,     84.0, 2,    58.13, 2,    38.60, 2,     0.01, 2,     2.74, 2,    0.038, 2,    0.017, 2,    0.000, 2, -999.000, 9,   2273.4, 2,   2330.2, 6,    7.5054,     25.00,   -999.0, 1,   -999.0,  -999.00, 1,   -999.0,   5.6195, 27.2388,   5.6901, 2, 2, 0.25, 0.14, 0.01, 0.017,  -999.00, 9, -999.00, -999.00, 9, -999.00
49NZ20071122, P14N, 160, 1, 24, X12030, 2, 20071206, 2153, -4.2582, 178.9943, 5631,    899.0, 2,   5.1682, 2,  34.5376, 2,  34.5372, 2,     95.1, 2,     95.2, 2,    65.10, 2,    38.00, 2,     0.01, 2,     2.71, 2,    0.028, 2,    0.018, 2,    0.000, 2, -999.000, 9,   2276.0, 2,   2338.2, 2,    7.5186,     25.00,   -999.0, 1,   -999.0,  -999.00, 1,   -999.0,   5.0928, 27.2979,   5.1683, 2, 6, 0.26, 0.14, 0.01, 0.017,  -999.00, 9, -999.00, -999.00, 9, -999.00
49NZ20071122, P14N, 160, 1, 23, X12027, 2, 20071206, 2153, -4.2582, 178.9943, 5631,   1000.1, 2,   4.5528, 2,  34.5403, 2,  34.5388, 6,    107.6, 2,    111.6, 2,    73.71, 2,    37.00, 2,     0.01, 2,     2.65, 2,    0.041, 2,    0.024, 2,    0.000, 2, -999.000, 9,   2277.9, 2,   2348.8, 2,    7.5419,     25.00,   -999.0, 1,   -999.0,  -999.00, 1,   -999.0,   4.4728, 27.3701,   4.5546, 2, 2, 0.28, 0.14, 0.01, 0.017,  -999.00, 9, -999.00, -999.00, 9, -999.00
49NZ20071122, P14N, 160, 1, 22, X12028, 2, 20071206, 2153, -4.2582, 178.9943, 5631,   1201.1, 2,   3.7791, 2,  34.5611, 2,  34.5620, 2,    115.0, 2,    113.7, 2,    89.42, 2,    37.59, 2,     0.01, 2,     2.69, 2,    0.015, 2,    0.008, 2,    0.000, 2, -999.000, 9,   2295.2, 2,   2366.5, 2,    7.5406,     25.00,   -999.0, 1,   -999.0,  -999.00, 1,   -999.0,   3.6883, 27.4688,   3.7794, 2, 2, 0.32, 0.14, 0.01, 0.017,  -999.00, 9, -999.00, -999.00, 9, -999.00
49NZ20071122, P14N, 160, 1, 21, X12009, 2, 20071206, 2153, -4.2582, 178.9943, 5631,   1399.5, 2,   3.0867, 2,  34.5911, 2,  34.5916, 2,    114.0, 2,    114.1, 2,   105.68, 2,    38.08, 2,     0.01, 2,     2.72, 2,    0.009, 2,    0.007, 2,    0.000, 2, -999.000, 9,   2312.2, 2,   2384.2, 2,    7.5390,     25.00,   -999.0, 1,   -999.0,  -999.00, 1,   -999.0,   2.9862, 27.5599,   3.0859, 2, 2, 0.35, 0.14, 0.01, 0.017,  -999.00, 9, -999.00, -999.00, 9, -999.00
49NZ20071122, P14N, 160, 1, 20, X12026, 2, 20071206, 2153, -4.2582, 178.9943, 5631,   1600.3, 2,   2.6727, 2,  34.6125, 2,  34.6127, 2,    118.3, 2,    118.2, 2,   115.88, 2,    37.95, 2,     0.01, 2,     2.71, 2,    0.006, 2,    0.005, 2,    0.000, 2, -999.000, 9,   2321.5, 2,   2393.7, 2,    7.5454,     25.00,   -999.0, 1,   -999.0,  -999.00, 1,   -999.0,   2.5603, 27.6149,   2.6721, 2, 6, 0.37, 0.14, 0.01, 0.017,  -999.00, 9, -999.00, -999.00, 9, -999.00
49NZ20071122, P14N, 160, 1, 19, X12025, 2, 20071206, 2153, -4.2582, 178.9943, 5631,   1799.7, 2,   2.3409, 2,  34.6319, 2,  34.6319, 2,    120.7, 2,    120.8, 2,   124.90, 2,    37.92, 2,     0.01, 2,     2.70, 2,    0.010, 2,    0.007, 2,    0.000, 2, -999.000, 9,   2329.8, 2,   2404.9, 2,    7.5501,     25.00,   -999.0, 1,   -999.0,  -999.00, 1,   -999.0,   2.2163, 27.6594,   2.3410, 2, 2, 0.39, 0.14, 0.01, 0.017,  -999.00, 9, -999.00, -999.00, 9, -999.00
49NZ20071122, P14N, 160, 1, 18, X12024, 2, 20071206, 2153, -4.2582, 178.9943, 5631,   1999.2, 2,   2.1781, 2,  34.6422, 2,  34.6421, 2,    122.4, 2,    121.7, 2,   130.16, 2,    37.97, 2,     0.01, 2,     2.70, 2,    0.008, 2,    0.007, 2,    0.000, 2, -999.000, 9,   2334.7, 2,   2411.1, 2,    7.5523,     25.00,   -999.0, 1,   -999.0,  -999.00, 1,   -999.0,   2.0390, 27.6820,   2.1780, 2, 2, 0.41, 0.14, 0.01, 0.017,  -999.00, 9, -999.00, -999.00, 9, -999.00
49NZ20071122, P14N, 160, 1, 17, X12023, 2, 20071206, 2153, -4.2582, 178.9943, 5631,   2199.9, 2,   2.0391, 2,  34.6505, 2,  34.6504, 6,    125.1, 2,    125.4, 2,   133.07, 2,    37.75, 2,     0.01, 2,     2.67, 2, -999.000, 9, -999.000, 9, -999.000, 9, -999.000, 9,   2335.3, 2,   2413.2, 2,    7.5582,     25.00,   -999.0, 1,   -999.0,  -999.00, 1,   -999.0,   1.8849, 27.7007,   2.0390, 2, 2, 0.41, 0.14, 0.01, 0.017,  -999.00, 9, -999.00, -999.00, 9, -999.00
49NZ20071122, P14N, 160, 1, 16, X12022, 2, 20071206, 2153, -4.2582, 178.9943, 5631,   2399.2, 2,   1.8965, 2,  34.6591, 2,  34.6589, 2,    128.9, 2,    130.4, 2,   135.69, 2,    37.37, 2,     0.01, 2,     2.64, 2, -999.000, 9, -999.000, 9, -999.000, 9, -999.000, 9,   2334.1, 6,   2416.4, 2,    7.5659,     25.00,   -999.0, 1,   -999.0,  -999.00, 1,   -999.0,   1.7272, 27.7197,   1.8964, 2, 2, 0.42, 0.14, 0.01, 0.017,  -999.00, 9, -999.00, -999.00, 9, -999.00
49NZ20071122, P14N, 160, 1, 15, X12021, 2, 20071206, 2153, -4.2582, 178.9943, 5631,   2599.5, 2,   1.8175, 2,  34.6645, 2,  34.6643, 2,    133.0, 2,    132.8, 2,   137.66, 2,    37.31, 2,     0.01, 2,     2.63, 2,    0.008, 2,    0.004, 2,    0.000, 2, -999.000, 9,   2333.8, 2,   2418.9, 6,    7.5691,     25.00,   -999.0, 1,   -999.0,  -999.00, 1,   -999.0,   1.6315, 27.7312,   1.8174, 2, 2, 0.42, 0.14, 0.01, 0.017,  -999.00, 9, -999.00, -999.00, 9, -999.00
49NZ20071122, P14N, 160, 1, 14, X12020, 2, 20071206, 2153, -4.2582, 178.9943, 5631,   2798.7, 2,   1.7442, 2,  34.6691, 2,  34.6689, 2,    137.8, 2,    137.5, 2,   137.95, 2,    37.04, 2,     0.01, 2,     2.61, 2, -999.000, 9, -999.000, 9, -999.000, 9, -999.000, 9,   2331.3, 2,   2418.7, 2,    7.5757,     25.00,   -999.0, 1,   -999.0,  -999.00, 1,   -999.0,   1.5412, 27.7416,   1.7444, 2, 6, 0.42, 0.14, 0.01, 0.016,  -999.00, 9, -999.00, -999.00, 9, -999.00
49NZ20071122, P14N, 160, 1, 13, X12019, 2, 20071206, 2153, -4.2582, 178.9943, 5631,   3002.1, 2,   1.6748, 2,  34.6739, 2,  34.6734, 2,    143.6, 2,    142.8, 2,   137.52, 2,    36.65, 2,     0.01, 2,     2.57, 2, -999.000, 9, -999.000, 9, -999.000, 9, -999.000, 9,   2329.4, 2,   2418.9, 2,    7.5833,     25.00,   -999.0, 1,   -999.0,  -999.00, 1,   -999.0,   1.4540, 27.7519,   1.6749, 2, 2, 0.42, 0.14, 0.01, 0.016,  -999.00, 9, -999.00, -999.00, 9, -999.00
49NZ20071122, P14N, 160, 1, 12, X12040, 2, 20071206, 2153, -4.2582, 178.9943, 5631,   3248.5, 2,   1.5757, 2,  34.6810, 2,  34.6807, 2,    151.4, 2,    150.8, 2,   136.48, 2,    36.06, 2,     0.01, 2,     2.53, 2,    0.000, 2,    0.000, 2,    0.000, 2, -999.000, 9,   2322.8, 2,   2417.9, 2,    7.5954,     25.00,   -999.0, 1,   -999.0,  -999.00, 1,   -999.0,   1.3330, 27.7661,   1.5756, 2, 2, 0.42, 0.13, 0.01, 0.016,  -999.00, 9, -999.00, -999.00, 9, -999.00
49NZ20071122, P14N, 160, 1, 11, X12047, 2, 20071206, 2153, -4.2582, 178.9943, 5631,   3500.4, 2,   1.4936, 2,  34.6867, 2,  34.6858, 2,    157.4, 2,    156.9, 2,   136.11, 2,    35.76, 2,     0.01, 2,     2.50, 2, -999.000, 9, -999.000, 9, -999.000, 9, -999.000, 9,   2321.4, 2,   2416.6, 2,    7.6020,     25.00,   -999.0, 1,   -999.0,  -999.00, 1,   -999.0,   1.2276, 27.7781,   1.4936, 2, 2, 0.42, 0.13, 0.01, 0.016,  -999.00, 9, -999.00, -999.00, 9, -999.00
49NZ20071122, P14N, 160, 1, 10, X12012, 2, 20071206, 2153, -4.2582, 178.9943, 5631,   3748.7, 2,   1.4469, 2,  34.6904, 2,  34.6898, 2,    161.2, 2,    161.5, 2,   136.12, 2,    35.44, 2,     0.01, 2,     2.47, 2,    0.003, 2,    0.002, 2,    0.000, 2, -999.000, 9,   2318.0, 2,   2415.5, 2,    7.6075,     25.00,   -999.0, 1,   -999.0,  -999.00, 1,   -999.0,   1.1563, 27.7860,   1.4468, 2, 2, 0.42, 0.13, 0.01, 0.016,  -999.00, 9, -999.00, -999.00, 9, -999.00
49NZ20071122, P14N, 160, 1, 9, X12015, 2, 20071206, 2153, -4.2582, 178.9943, 5631,   4000.1, 2,   1.4048, 2,  34.6940, 2,  34.6934, 6,    167.1, 2,    167.2, 2,   134.29, 2,    34.97, 2,     0.01, 2,     2.44, 2,    0.004, 2,    0.002, 2,    0.000, 2, -999.000, 9,   2310.7, 2,   2412.5, 2,    7.6138,     25.00,   -999.0, 1,   -999.0,  -999.00, 1,   -999.0,   1.0885, 27.7935,   1.4047, 2, 2, 0.41, 0.13, 0.01, 0.016,  -999.00, 9, -999.00, -999.00, 9, -999.00
49NZ20071122, P14N, 160, 1, 8, X12046, 2, 20071206, 2153, -4.2582, 178.9943, 5631,   4249.8, 2,   1.3324, 2,  34.6989, 2,  34.6984, 2,    176.8, 2,    177.4, 2,   129.47, 2,    34.24, 2,     0.01, 2,     2.39, 2,    0.007, 2,    0.004, 2,    0.000, 2, -999.000, 9,   2300.3, 6,   2402.7, 2,    7.6189,     25.00,   -999.0, 1,   -999.0,  -999.00, 1,   -999.0,   0.9908, 27.8040,   1.3323, 2, 2, 0.40, 0.13, 0.01, 0.016,  -999.00, 9, -999.00, -999.00, 9, -999.00
49NZ20071122, P14N, 160, 1, 7, X12044, 2, 20071206, 2153, -4.2582, 178.9943, 5631,   4499.3, 2,   1.2955, 2,  34.7018, 2,  34.7016, 2,    183.8, 2,    184.0, 2,   125.98, 2,    33.77, 2,     0.01, 2,     2.35, 2,    0.007, 2,    0.005, 2,    0.000, 2, -999.000, 9,   2291.8, 2,   2395.8, 6,    7.6213,     25.00,   -999.0, 1,   -999.0,  -999.00, 1,   -999.0,   0.9269, 27.8106,   1.2951, 2, 2, 0.40, 0.13, 0.01, 0.016,  -999.00, 9, -999.00, -999.00, 9, -999.00
49NZ20071122, P14N, 160, 1, 6, X12048, 2, 20071206, 2153, -4.2582, 178.9943, 5631,   4751.6, 2,   1.2441, 2,  34.7062, 2,  34.7058, 2,    194.1, 2,    194.2, 2,   120.11, 2,    32.93, 2,     0.01, 2,     2.30, 2,    0.015, 2,    0.013, 2,    0.000, 2, -999.000, 9,   2275.9, 2,   2380.4, 2,    7.6224,     25.00,   -999.0, 1,   -999.0,  -999.00, 1,   -999.0,   0.8479, 27.8193,   1.2440, 2, 6, 0.38, 0.13, 0.01, 0.016,  -999.00, 9, -999.00, -999.00, 9, -999.00
49NZ20071122, P14N, 160, 1, 5, X12014, 2, 20071206, 2153, -4.2582, 178.9943, 5631,   5000.9, 2,   1.2400, 2,  34.7069, 2,  34.7062, 2,    196.1, 2,    195.9, 2,   120.11, 2,    32.83, 2,     0.01, 2,     2.29, 2,    0.018, 2,    0.011, 2,    0.000, 2, -999.000, 9,   2273.9, 2,   2379.6, 2,    7.6236,     25.00,   -999.0, 1,   -999.0,  -999.00, 1,   -999.0,   0.8143, 27.8219,   1.2399, 2, 2, 0.38, 0.12, 0.01, 0.016,  -999.00, 9, -999.00, -999.00, 9, -999.00
49NZ20071122, P14N, 160, 1, 4, X12006, 2, 20071206, 2153, -4.2582, 178.9943, 5631,   5248.1, 2,   1.2658, 2,  34.7069, 2,  34.7066, 2,    196.3, 2,    196.1, 2,   120.04, 2,    32.84, 2,     0.01, 2,     2.29, 2,    0.020, 2,    0.018, 2,    0.000, 2, -999.000, 9,   2273.3, 2,   2379.6, 2,    7.6242,     25.00,   -999.0, 1,   -999.0,  -999.00, 1,   -999.0,   0.8091, 27.8223,   1.2658, 2, 2, 0.38, 0.12, 0.01, 0.016,  -999.00, 9, -999.00, -999.00, 9, -999.00
49NZ20071122, P14N, 160, 1, 3, X12013, 2, 20071206, 2153, -4.2582, 178.9943, 5631,   5499.4, 2,   1.2960, 2,  34.7067, 2,  34.7072, 3,    196.4, 2,    195.9, 2,   119.97, 2,    32.85, 2,     0.01, 2,     2.29, 2,    0.016, 2,    0.011, 2,    0.000, 2, -999.000, 9,   2273.9, 2,   2379.3, 2,    7.6245,     25.00,   -999.0, 1,   -999.0,  -999.00, 1,   -999.0,   0.8068, 27.8222,   1.2960, 2, 2, 0.38, 0.12, 0.01, 0.016,  -999.00, 9, -999.00, -999.00, 9, -999.00
49NZ20071122, P14N, 160, 1, 2, X12002, 2, 20071206, 2153, -4.2582, 178.9943, 5631,   5001.5, 2,   1.2402, 2,  34.7068, 2, -999.0000, 9,    196.1, 2,   -999.0, 9,  -999.00, 9,  -999.00, 9,  -999.00, 9,  -999.00, 9, -999.000, 9, -999.000, 9, -999.000, 9, -999.000, 9,   -999.0, 9,   -999.0, 9, -999.0000,   -999.00,   -999.0, 9,   -999.0,  -999.00, 9,   -999.0,   0.8145, 27.8218,   1.2400, 2, 9, -999.00, -999.00, -999.00, -999.000,  -999.00, 9, -999.00, -999.00, 9, -999.00
49NZ20071122, P14N, 160, 1, 1, X12001, 2, 20071206, 2153, -4.2582, 178.9943, 5631,   5723.7, 2,   1.3239, 2,  34.7065, 2,  34.7064, 6,    196.4, 2,    195.7, 2,   120.38, 2,    32.85, 2,     0.01, 2,     2.29, 2,    0.014, 2,    0.009, 2,    0.000, 2, -999.000, 9,   2275.9, 2,   2380.4, 2,    7.6243,     25.00,   -999.0, 1,   -999.0,  -999.00, 1,   -999.0,   0.8050, 27.8222,   1.3239, 2, 2, 0.38, 0.12, 0.01, 0.016,  -999.00, 9, -999.00, -999.00, 9, -999.00