BOTTLE,20220820CCHSIOAMB
EXPOCODE,SECT_ID,STNNBR,CASTNO,SAMPNO,BTLNBR,BTLNBR_FLAG_W,DATE,TIME,LATITUDE,LONGITUDE,DEPTH,CTDPRS,CTDPRS_FLAG_W,CTDTMP,CTDTMP_FLAG_W,CTDSAL,CTDSAL_FLAG_W,SALNTY,SALNTY_FLAG_W,CTDOXY,CTDOXY_FLAG_W,OXYGEN,OXYGEN_FLAG_W,SILCAT,SILCAT_FLAG_W,NITRAT,NITRAT_FLAG_W,NITRIT,NITRIT_FLAG_W,PHSPHT,PHSPHT_FLAG_W,CFC-11,CFC-11_FLAG_W,CFC-12,CFC-12_FLAG_W,CFC113,CFC113_FLAG_W,CCL4,CCL4_FLAG_W,TCARBN,TCARBN_FLAG_W,ALKALI,ALKALI_FLAG_W,PH_TOT,PH_TMP,DELC14,DELC14_FLAG_W,C14ERR,DELC13,DELC13_FLAG_W,C13ERR,THETA,SIG0,SBE35,SBE35_FLAG_W,PH_TOT_FLAG_W,SILUNC,NRAUNC,NRIUNC,PHPUNC,CS-137,CS-137_FLAG_W,CS137ER,PLUTO,PLUTO_FLAG_W,PLUTOER
,,,,,,,,,,,METERS,DBAR,,ITS-90,,PSS-78,,PSS-78,,UMOL/KG,,UMOL/KG,,UMOL/KG,,UMOL/KG,,UMOL/KG,,UMOL/KG,,PMOL/KG,,PMOL/KG,,PMOL/KG,,PMOL/KG,,UMOL/KG,,UMOL/KG,,,DEG C,/MILLE,,/MILLE,/MILLE,,/MILLE,DEG C,KG/M^3,ITS-90,,,UMOL/KG,UMOL/KG,UMOL/KG,UMOL/KG,DM/.1MG,,BQ/M^3,MBQ/M^3,,MBQ/M^3
49NZ20071122, P14, 10, 1, 36, X12042, 2, 20071221, 1633, -32.8168, 175.5278, 3835,      9.3, 2,  20.2330, 2,  35.6990, 2,  35.6991, 2,    229.2, 2,    228.7, 2,     0.61, 2,     0.05, 2,     0.01, 2,     0.11, 2, -999.000, 9, -999.000, 9, -999.000, 9, -999.000, 9,   -999.0, 9,   -999.0, 9, -999.0000,   -999.00,   -999.0, 9,   -999.0,  -999.00, 9,   -999.0,  20.2313, 25.2336,  20.2336, 2, 9, 0.12, 0.03, 0.01, 0.021,  -999.00, 9, -999.00, -999.00, 9, -999.00
49NZ20071122, P14, 10, 1, 35, X12041, 2, 20071221, 1633, -32.8168, 175.5278, 3835,     49.4, 2,  19.4256, 2,  35.7046, 2,  35.7054, 2,    234.0, 2,    234.1, 2,     0.58, 2,     0.03, 2,     0.01, 2,     0.12, 2, -999.000, 9, -999.000, 9, -999.000, 9, -999.000, 9,   -999.0, 9,   -999.0, 9, -999.0000,   -999.00,   -999.0, 9,   -999.0,  -999.00, 9,   -999.0,  19.4166, 25.4524,  19.4245, 2, 9, 0.12, 0.03, 0.01, 0.020,  -999.00, 9, -999.00, -999.00, 9, -999.00
49NZ20071122, P14, 10, 1, 34, X12016, 2, 20071221, 1633, -32.8168, 175.5278, 3835,     99.5, 2,  17.7689, 2,  35.7079, 2,  35.7081, 2,    222.7, 2,    225.4, 2,     0.70, 2,     1.17, 2,     0.23, 2,     0.23, 2, -999.000, 9, -999.000, 9, -999.000, 9, -999.000, 9,   -999.0, 9,   -999.0, 9, -999.0000,   -999.00,   -999.0, 9,   -999.0,  -999.00, 9,   -999.0,  17.7519, 25.8756,  17.7697, 2, 9, 0.12, 0.04, 0.01, 0.015,  -999.00, 9, -999.00, -999.00, 9, -999.00
49NZ20071122, P14, 10, 1, 33, X12033, 2, 20071221, 1633, -32.8168, 175.5278, 3835,    149.7, 2,  17.4425, 2,  35.6851, 2,  35.6856, 2,    220.0, 2,    220.8, 2,     0.86, 2,     2.75, 2,     0.02, 2,     0.30, 2, -999.000, 9, -999.000, 9, -999.000, 9, -999.000, 9,   -999.0, 9,   -999.0, 9, -999.0000,   -999.00,   -999.0, 9,   -999.0,  -999.00, 9,   -999.0,  17.4173, 25.9398,  17.4433, 2, 9, 0.12, 0.04, 0.01, 0.014,  -999.00, 9, -999.00, -999.00, 9, -999.00
49NZ20071122, P14, 10, 1, 32, X12038, 2, 20071221, 1633, -32.8168, 175.5278, 3835,    199.1, 2,  16.9070, 2,  35.6120, 2,  35.6108, 2,    212.8, 2,    213.3, 2,     1.22, 2,     4.15, 2,     0.02, 2,     0.39, 2, -999.000, 9, -999.000, 9, -999.000, 9, -999.000, 9,   -999.0, 9,   -999.0, 9, -999.0000,   -999.00,   -999.0, 9,   -999.0,  -999.00, 9,   -999.0,  16.8741, 26.0142,  16.9098, 2, 9, 0.12, 0.04, 0.01, 0.013,  -999.00, 9, -999.00, -999.00, 9, -999.00
49NZ20071122, P14, 10, 1, 31, X12003, 2, 20071221, 1633, -32.8168, 175.5278, 3835,    249.7, 2,  15.6806, 2,  35.4585, 2,  35.4586, 6,    199.5, 2,    200.3, 2,     2.04, 2,     6.96, 2,     0.02, 2,     0.59, 2, -999.000, 9, -999.000, 9, -999.000, 9, -999.000, 9,   -999.0, 9,   -999.0, 9, -999.0000,   -999.00,   -999.0, 9,   -999.0,  -999.00, 9,   -999.0,  15.6414, 26.1822,  15.6924, 2, 9, 0.12, 0.05, 0.01, 0.013,  -999.00, 9, -999.00, -999.00, 9, -999.00
49NZ20071122, P14, 10, 1, 30, X12008, 2, 20071221, 1633, -32.8168, 175.5278, 3835,    281.5, 2,  14.8553, 2,  35.3731, 2,  35.3717, 2,    197.8, 2,    198.3, 2,     2.64, 2,     8.57, 2,     0.02, 2,     0.69, 2, -999.000, 9, -999.000, 9, -999.000, 9, -999.000, 9,   -999.0, 9,   -999.0, 9, -999.0000,   -999.00,   -999.0, 9,   -999.0,  -999.00, 9,   -999.0,  14.8127, 26.3008,  14.8584, 2, 9, 0.12, 0.06, 0.01, 0.013,  -999.00, 9, -999.00, -999.00, 9, -999.00
49NZ20071122, P14, 10, 1, 29, X12035, 2, 20071221, 1633, -32.8168, 175.5278, 3835,    371.5, 2,  13.1501, 2,  35.1748, 2,  35.1767, 2,    196.6, 2,    196.6, 2,     3.94, 2,    11.67, 2,     0.01, 2,     0.89, 2,    2.439, 2,    1.337, 2,    0.070, 2, -999.000, 9,   -999.0, 9,   -999.0, 9, -999.0000,   -999.00,   -999.0, 9,   -999.0,  -999.00, 9,   -999.0,  13.0982, 26.5086,  13.1509, 2, 9, 0.13, 0.07, 0.01, 0.013,  -999.00, 9, -999.00, -999.00, 9, -999.00
49NZ20071122, P14, 10, 1, 28, X12034, 2, 20071221, 1633, -32.8168, 175.5278, 3835,    470.1, 2,  11.4378, 2,  34.9673, 2,  34.9669, 6,    196.8, 2,    196.5, 2,     5.92, 2,    15.28, 2,     0.01, 2,     1.12, 2, -999.000, 9, -999.000, 9, -999.000, 9, -999.000, 9,   -999.0, 9,   -999.0, 9, -999.0000,   -999.00,   -999.0, 9,   -999.0,  -999.00, 9,   -999.0,  11.3777, 26.6808,  11.4382, 2, 9, 0.13, 0.08, 0.01, 0.013,  -999.00, 9, -999.00, -999.00, 9, -999.00
49NZ20071122, P14, 10, 1, 27, X12049, 2, 20071221, 1633, -32.8168, 175.5278, 3835,    569.5, 2,  10.1569, 2,  34.8334, 2,  34.8270, 2,    196.7, 2,    197.1, 2,     9.60, 2,    18.28, 2,     0.01, 2,     1.32, 2,    2.071, 2,    1.090, 2,    0.076, 2, -999.000, 9,   -999.0, 9,   -999.0, 9, -999.0000,   -999.00,   -999.0, 9,   -999.0,  -999.00, 9,   -999.0,  10.0891, 26.8066,  10.1579, 2, 9, 0.14, 0.08, 0.01, 0.014,  -999.00, 9, -999.00, -999.00, 9, -999.00
49NZ20071122, P14, 10, 1, 26, X12032, 2, 20071221, 1633, -32.8168, 175.5278, 3835,    668.5, 2,   8.6837, 2,  34.6466, 2,  34.6447, 2,    200.3, 2,    199.8, 2,    11.15, 2,    21.24, 2,     0.01, 2,     1.51, 2,    1.954, 2,    0.991, 2,    0.071, 2, -999.000, 9,   -999.0, 9,   -999.0, 9, -999.0000,   -999.00,   -999.0, 9,   -999.0,  -999.00, 9,   -999.0,   8.6110, 26.9029,   8.6836, 2, 9, 0.14, 0.09, 0.01, 0.014,  -999.00, 9, -999.00, -999.00, 9, -999.00
49NZ20071122, P14, 10, 1, 25, X12043, 2, 20071221, 1633, -32.8168, 175.5278, 3835,    769.9, 2,   7.5859, 2,  34.5356, 2,  34.5363, 2,    202.8, 2,    202.8, 2,    14.64, 2,    23.52, 2,     0.01, 2,     1.66, 2,    1.632, 2,    0.816, 2,    0.064, 2, -999.000, 9,   -999.0, 9,   -999.0, 9, -999.0000,   -999.00,   -999.0, 9,   -999.0,  -999.00, 9,   -999.0,   7.5080, 26.9812,   7.5863, 2, 9, 0.15, 0.10, 0.01, 0.014,  -999.00, 9, -999.00, -999.00, 9, -999.00
49NZ20071122, P14, 10, 1, 24, X12030, 2, 20071221, 1633, -32.8168, 175.5278, 3835,    871.2, 2,   6.8286, 2,  34.5065, 2,  34.5061, 2,    196.6, 2,    196.5, 2,    21.42, 2,    25.53, 2,     0.01, 2,     1.79, 2,    1.180, 2,    0.590, 2,    0.038, 2, -999.000, 9,   -999.0, 9,   -999.0, 9, -999.0000,   -999.00,   -999.0, 9,   -999.0,  -999.00, 9,   -999.0,   6.7448, 27.0649,   6.8290, 2, 9, 0.17, 0.10, 0.01, 0.015,  -999.00, 9, -999.00, -999.00, 9, -999.00
49NZ20071122, P14, 10, 1, 23, X12027, 2, 20071221, 1633, -32.8168, 175.5278, 3835,    971.7, 2,   6.1614, 2,  34.4840, 2,  34.4840, 6,    194.2, 2,    191.5, 2,    28.01, 2,    27.29, 2,     0.01, 2,     1.92, 2,    0.890, 2,    0.445, 2,    0.031, 2, -999.000, 9,   -999.0, 9,   -999.0, 9, -999.0000,   -999.00,   -999.0, 9,   -999.0,  -999.00, 9,   -999.0,   6.0722, 27.1357,   6.1618, 2, 9, 0.18, 0.11, 0.01, 0.015,  -999.00, 9, -999.00, -999.00, 9, -999.00
49NZ20071122, P14, 10, 1, 22, X12028, 2, 20071221, 1633, -32.8168, 175.5278, 3835,   1130.1, 2,   5.1265, 2,  34.4662, 2,  34.4670, 2,    184.5, 2,    183.7, 2,    40.58, 2,    29.86, 2,     0.01, 2,     2.09, 2,    0.503, 2,    0.251, 2,    0.015, 2, -999.000, 9,   -999.0, 9,   -999.0, 9, -999.0000,   -999.00,   -999.0, 9,   -999.0,  -999.00, 9,   -999.0,   5.0303, 27.2485,   5.1276, 2, 9, 0.21, 0.12, 0.01, 0.015,  -999.00, 9, -999.00, -999.00, 9, -999.00
49NZ20071122, P14, 10, 1, 21, X12009, 2, 20071221, 1633, -32.8168, 175.5278, 3835,   1333.8, 2,   4.0519, 2,  34.4957, 2,  34.4959, 2,    172.7, 2,    172.6, 2,    59.87, 2,    32.24, 2,     0.01, 2,     2.26, 2,    0.234, 2,    0.117, 2,    0.007, 2, -999.000, 9,   -999.0, 9,   -999.0, 9, -999.0000,   -999.00,   -999.0, 9,   -999.0,  -999.00, 9,   -999.0,   3.9472, 27.3905,   4.0519, 2, 9, 0.25, 0.12, 0.01, 0.016,  -999.00, 9, -999.00, -999.00, 9, -999.00
49NZ20071122, P14, 10, 1, 20, X12026, 2, 20071221, 1633, -32.8168, 175.5278, 3835,   1533.5, 2,   3.3211, 2,  34.5441, 2,  34.5437, 2,    164.1, 2,    163.5, 2,    77.77, 2,    33.62, 2,     0.01, 2,     2.37, 2,    0.096, 2,    0.047, 2,    0.000, 2, -999.000, 9,   -999.0, 9,   -999.0, 9, -999.0000,   -999.00,   -999.0, 9,   -999.0,  -999.00, 9,   -999.0,   3.2068, 27.5019,   3.3218, 2, 9, 0.29, 0.13, 0.01, 0.016,  -999.00, 9, -999.00, -999.00, 9, -999.00
49NZ20071122, P14, 10, 1, 19, X12025, 2, 20071221, 1633, -32.8168, 175.5278, 3835,   1730.4, 2,   2.8237, 2,  34.5909, 2,  34.5908, 2,    157.8, 2,    157.6, 2,    92.92, 2,    34.38, 2,     0.01, 2,     2.42, 2,    0.046, 2,    0.022, 2,    0.000, 2, -999.000, 9,   -999.0, 9,   -999.0, 9, -999.0000,   -999.00,   -999.0, 9,   -999.0,  -999.00, 9,   -999.0,   2.6985, 27.5856,   2.8239, 2, 9, 0.32, 0.13, 0.01, 0.016,  -999.00, 9, -999.00, -999.00, 9, -999.00
49NZ20071122, P14, 10, 1, 18, X12024, 2, 20071221, 1633, -32.8168, 175.5278, 3835,   1930.9, 2,   2.4800, 2,  34.6199, 2,  34.6200, 2,    154.5, 2,    154.5, 2,   103.28, 2,    34.88, 2,     0.01, 2,     2.46, 2,    0.014, 2,    0.007, 2,    0.000, 2, -999.000, 9,   -999.0, 9,   -999.0, 9, -999.0000,   -999.00,   -999.0, 9,   -999.0,  -999.00, 9,   -999.0,   2.3423, 27.6393,   2.4801, 2, 9, 0.35, 0.13, 0.01, 0.016,  -999.00, 9, -999.00, -999.00, 9, -999.00
49NZ20071122, P14, 10, 1, 17, X12023, 2, 20071221, 1633, -32.8168, 175.5278, 3835,   2129.3, 2,   2.2549, 2,  34.6395, 2,  34.6397, 6,    152.7, 2,    153.1, 2,   109.86, 2,    35.10, 2,     0.01, 2,     2.48, 2,    0.004, 2,    0.003, 2,    0.000, 2, -999.000, 9,   -999.0, 9,   -999.0, 9, -999.0000,   -999.00,   -999.0, 9,   -999.0,  -999.00, 9,   -999.0,   2.1034, 27.6746,   2.2551, 2, 9, 0.36, 0.13, 0.01, 0.016,  -999.00, 9, -999.00, -999.00, 9, -999.00
49NZ20071122, P14, 10, 1, 16, X12022, 2, 20071221, 1633, -32.8168, 175.5278, 3835,   2329.0, 2,   2.0900, 2,  34.6544, 2,  34.6543, 2,    152.8, 2,    153.0, 2,   114.40, 2,    35.26, 2,     0.01, 2,     2.49, 2,    0.001, 2,    0.002, 2,    0.000, 2, -999.000, 9,   -999.0, 9,   -999.0, 9, -999.0000,   -999.00,   -999.0, 9,   -999.0,  -999.00, 9,   -999.0,   1.9235, 27.7008,   2.0902, 2, 9, 0.37, 0.13, 0.01, 0.016,  -999.00, 9, -999.00, -999.00, 9, -999.00
49NZ20071122, P14, 10, 1, 15, X12021, 2, 20071221, 1633, -32.8168, 175.5278, 3835,   2530.7, 2,   1.9629, 2,  34.6657, 2,  34.6656, 2,    152.9, 2,    153.4, 2,   117.69, 2,    35.29, 2,     0.01, 2,     2.49, 2, -999.000, 9, -999.000, 9, -999.000, 9, -999.000, 9,   -999.0, 9,   -999.0, 9, -999.0000,   -999.00,   -999.0, 9,   -999.0,  -999.00, 9,   -999.0,   1.7805, 27.7210,   1.9628, 2, 9, 0.38, 0.13, 0.01, 0.016,  -999.00, 9, -999.00, -999.00, 9, -999.00
49NZ20071122, P14, 10, 1, 14, X12020, 2, 20071221, 1633, -32.8168, 175.5278, 3835,   2729.4, 2,   1.8750, 2,  34.6740, 2,  34.6738, 2,    153.4, 2,    154.0, 2,   120.23, 2,    35.29, 2,     0.01, 2,     2.49, 2,    0.000, 2,    0.000, 2,    0.000, 2, -999.000, 9,   -999.0, 9,   -999.0, 9, -999.0000,   -999.00,   -999.0, 9,   -999.0,  -999.00, 9,   -999.0,   1.6758, 27.7356,   1.8751, 2, 9, 0.38, 0.13, 0.01, 0.016,  -999.00, 9, -999.00, -999.00, 9, -999.00
49NZ20071122, P14, 10, 1, 13, X12019, 2, 20071221, 1633, -32.8168, 175.5278, 3835,   2933.4, 2,   1.8421, 2,  34.6781, 2,  34.6782, 2,    153.4, 2,    153.8, 2,   121.36, 2,    35.38, 2,     0.01, 2,     2.49, 2, -999.000, 9, -999.000, 9, -999.000, 9, -999.000, 9,   -999.0, 9,   -999.0, 9, -999.0000,   -999.00,   -999.0, 9,   -999.0,  -999.00, 9,   -999.0,   1.6242, 27.7427,   1.8423, 2, 9, 0.39, 0.13, 0.01, 0.016,  -999.00, 9, -999.00, -999.00, 9, -999.00
49NZ20071122, P14, 10, 1, 12, X12040, 2, 20071221, 1633, -32.8168, 175.5278, 3835,   3170.0, 2,   1.8384, 2,  34.6800, 2,  34.6801, 2,    153.7, 2,    153.8, 2,   121.68, 2,    35.24, 2,     0.01, 2,     2.48, 2, -999.000, 9, -999.000, 9, -999.000, 9, -999.000, 9,   -999.0, 9,   -999.0, 9, -999.0000,   -999.00,   -999.0, 9,   -999.0,  -999.00, 9,   -999.0,   1.5974, 27.7462,   1.8385, 2, 9, 0.39, 0.13, 0.01, 0.016,  -999.00, 9, -999.00, -999.00, 9, -999.00
49NZ20071122, P14, 10, 1, 11, X12047, 2, 20071221, 1633, -32.8168, 175.5278, 3835,   3420.9, 2,   1.8465, 2,  34.6812, 2,  34.6811, 6,    153.7, 2,    154.1, 2,   122.41, 2,    35.33, 2,     0.01, 2,     2.49, 2, -999.000, 9, -999.000, 9, -999.000, 9, -999.000, 9,   -999.0, 9,   -999.0, 9, -999.0000,   -999.00,   -999.0, 9,   -999.0,  -999.00, 9,   -999.0,   1.5799, 27.7484,   1.8465, 2, 9, 0.39, 0.13, 0.01, 0.016,  -999.00, 9, -999.00, -999.00, 9, -999.00
49NZ20071122, P14, 10, 1, 10, X12012, 2, 20071221, 1633, -32.8168, 175.5278, 3835,   3670.8, 2,   1.8613, 2,  34.6819, 2,  34.6820, 2,    153.5, 2,    153.9, 2,   122.86, 2,    35.39, 2,     0.01, 2,     2.49, 2, -999.000, 9, -999.000, 9, -999.000, 9, -999.000, 9,   -999.0, 9,   -999.0, 9, -999.0000,   -999.00,   -999.0, 9,   -999.0,  -999.00, 9,   -999.0,   1.5681, 27.7499,   1.8614, 2, 9, 0.39, 0.13, 0.01, 0.016,  -999.00, 9, -999.00, -999.00, 9, -999.00
49NZ20071122, P14, 10, 1, 9, X12015, 9, 20071221, 1633, -32.8168, 175.5278, 3835,    199.1, 2,  16.9097, 2,  35.6124, 2, -999.0000, 9,    212.8, 2,   -999.0, 9,  -999.00, 9,  -999.00, 9,  -999.00, 9,  -999.00, 9, -999.000, 9, -999.000, 9, -999.000, 9, -999.000, 9,   -999.0, 9,   -999.0, 9, -999.0000,   -999.00,   -999.0, 9,   -999.0,  -999.00, 9,   -999.0,  16.8768, 26.0138,  16.9106, 2, 9, -999.00, -999.00, -999.00, -999.000,  -999.00, 9, -999.00, -999.00, 9, -999.00
49NZ20071122, P14, 10, 1, 8, X12046, 9, 20071221, 1633, -32.8168, 175.5278, 3835,     49.6, 2,  19.4049, 2,  35.7053, 2, -999.0000, 9,    234.1, 2,   -999.0, 9,  -999.00, 9,  -999.00, 9,  -999.00, 9,  -999.00, 9, -999.000, 9, -999.000, 9, -999.000, 9, -999.000, 9,   -999.0, 9,   -999.0, 9, -999.0000,   -999.00,   -999.0, 9,   -999.0,  -999.00, 9,   -999.0,  19.3959, 25.4583,  19.4104, 2, 9, -999.00, -999.00, -999.00, -999.000,  -999.00, 9, -999.00, -999.00, 9, -999.00
49NZ20071122, P14, 10, 1, 7, X12044, 9, 20071221, 1633, -32.8168, 175.5278, 3835,     99.6, 2,  17.7682, 2,  35.7079, 2, -999.0000, 9,    222.7, 2,   -999.0, 9,  -999.00, 9,  -999.00, 9,  -999.00, 9,  -999.00, 9, -999.000, 9, -999.000, 9, -999.000, 9, -999.000, 9,   -999.0, 9,   -999.0, 9, -999.0000,   -999.00,   -999.0, 9,   -999.0,  -999.00, 9,   -999.0,  17.7512, 25.8758,  17.7688, 2, 9, -999.00, -999.00, -999.00, -999.000,  -999.00, 9, -999.00, -999.00, 9, -999.00
49NZ20071122, P14, 10, 1, 6, X12048, 9, 20071221, 1633, -32.8168, 175.5278, 3835,    871.4, 2,   6.8253, 2,  34.5062, 2, -999.0000, 9,    196.5, 2,   -999.0, 9,  -999.00, 9,  -999.00, 9,  -999.00, 9,  -999.00, 9, -999.000, 9, -999.000, 9, -999.000, 9, -999.000, 9,   -999.0, 9,   -999.0, 9, -999.0000,   -999.00,   -999.0, 9,   -999.0,  -999.00, 9,   -999.0,   6.7415, 27.0651,   6.8260, 2, 9, -999.00, -999.00, -999.00, -999.000,  -999.00, 9, -999.00, -999.00, 9, -999.00
49NZ20071122, P14, 10, 1, 5, X12014, 9, 20071221, 1633, -32.8168, 175.5278, 3835,    150.0, 2,  17.4431, 2,  35.6851, 2, -999.0000, 9,    220.1, 2,   -999.0, 9,  -999.00, 9,  -999.00, 9,  -999.00, 9,  -999.00, 9, -999.000, 9, -999.000, 9, -999.000, 9, -999.000, 9,   -999.0, 9,   -999.0, 9, -999.0000,   -999.00,   -999.0, 9,   -999.0,  -999.00, 9,   -999.0,  17.4178, 25.9396,  17.4426, 2, 9, -999.00, -999.00, -999.00, -999.000,  -999.00, 9, -999.00, -999.00, 9, -999.00
49NZ20071122, P14, 10, 1, 4, X12006, 9, 20071221, 1633, -32.8168, 175.5278, 3835,   1130.1, 2,   5.1323, 2,  34.4663, 2, -999.0000, 9,    184.5, 2,   -999.0, 9,  -999.00, 9,  -999.00, 9,  -999.00, 9,  -999.00, 9, -999.000, 9, -999.000, 9, -999.000, 9, -999.000, 9,   -999.0, 9,   -999.0, 9, -999.0000,   -999.00,   -999.0, 9,   -999.0,  -999.00, 9,   -999.0,   5.0360, 27.2480,   5.1326, 2, 9, -999.00, -999.00, -999.00, -999.000,  -999.00, 9, -999.00, -999.00, 9, -999.00
49NZ20071122, P14, 10, 1, 3, X12013, 9, 20071221, 1633, -32.8168, 175.5278, 3835,   3421.4, 2,   1.8465, 2,  34.6812, 2, -999.0000, 9,    153.7, 2,   -999.0, 9,  -999.00, 9,  -999.00, 9,  -999.00, 9,  -999.00, 9, -999.000, 9, -999.000, 9, -999.000, 9, -999.000, 9,   -999.0, 9,   -999.0, 9, -999.0000,   -999.00,   -999.0, 9,   -999.0,  -999.00, 9,   -999.0,   1.5798, 27.7485,   1.8465, 2, 9, -999.00, -999.00, -999.00, -999.000,  -999.00, 9, -999.00, -999.00, 9, -999.00
49NZ20071122, P14, 10, 1, 2, X12002, 9, 20071221, 1633, -32.8168, 175.5278, 3835,   1532.0, 2,   3.3262, 2,  34.5438, 2, -999.0000, 9,    164.2, 2,   -999.0, 9,  -999.00, 9,  -999.00, 9,  -999.00, 9,  -999.00, 9, -999.000, 9, -999.000, 9, -999.000, 9, -999.000, 9,   -999.0, 9,   -999.0, 9, -999.0000,   -999.00,   -999.0, 9,   -999.0,  -999.00, 9,   -999.0,   3.2120, 27.5012,   3.3265, 2, 9, -999.00, -999.00, -999.00, -999.000,  -999.00, 9, -999.00, -999.00, 9, -999.00
49NZ20071122, P14, 10, 1, 1, X12001, 2, 20071221, 1633, -32.8168, 175.5278, 3835,   3875.7, 2,   1.8767, 2,  34.6820, 2,  34.6823, 6,    153.6, 2,    154.1, 2,   123.03, 2,    35.40, 2,     0.01, 2,     2.50, 2,    0.000, 2,    0.000, 2,    0.000, 2, -999.000, 9,   -999.0, 9,   -999.0, 9, -999.0000,   -999.00,   -999.0, 9,   -999.0,  -999.00, 9,   -999.0,   1.5609, 27.7505,   1.8768, 2, 9, 0.39, 0.13, 0.01, 0.016,  -999.00, 9, -999.00, -999.00, 9, -999.00