BOTTLE,20220820CCHSIOAMB
EXPOCODE,SECT_ID,STNNBR,CASTNO,SAMPNO,BTLNBR,BTLNBR_FLAG_W,DATE,TIME,LATITUDE,LONGITUDE,DEPTH,CTDPRS,CTDPRS_FLAG_W,CTDTMP,CTDTMP_FLAG_W,CTDSAL,CTDSAL_FLAG_W,SALNTY,SALNTY_FLAG_W,CTDOXY,CTDOXY_FLAG_W,OXYGEN,OXYGEN_FLAG_W,SILCAT,SILCAT_FLAG_W,NITRAT,NITRAT_FLAG_W,NITRIT,NITRIT_FLAG_W,PHSPHT,PHSPHT_FLAG_W,CFC-11,CFC-11_FLAG_W,CFC-12,CFC-12_FLAG_W,CFC113,CFC113_FLAG_W,CCL4,CCL4_FLAG_W,TCARBN,TCARBN_FLAG_W,ALKALI,ALKALI_FLAG_W,PH_TOT,PH_TMP,DELC14,DELC14_FLAG_W,C14ERR,DELC13,DELC13_FLAG_W,C13ERR,THETA,SIG0,SBE35,SBE35_FLAG_W,PH_TOT_FLAG_W,SILUNC,NRAUNC,NRIUNC,PHPUNC,CS-137,CS-137_FLAG_W,CS137ER,PLUTO,PLUTO_FLAG_W,PLUTOER
,,,,,,,,,,,METERS,DBAR,,ITS-90,,PSS-78,,PSS-78,,UMOL/KG,,UMOL/KG,,UMOL/KG,,UMOL/KG,,UMOL/KG,,UMOL/KG,,PMOL/KG,,PMOL/KG,,PMOL/KG,,PMOL/KG,,UMOL/KG,,UMOL/KG,,,DEG C,/MILLE,,/MILLE,/MILLE,,/MILLE,DEG C,KG/M^3,ITS-90,,,UMOL/KG,UMOL/KG,UMOL/KG,UMOL/KG,DM/.1MG,,BQ/M^3,MBQ/M^3,,MBQ/M^3
49NZ20071122, P14, 19, 1, 36, X12042, 2, 20071219, 1959, -29.1527, 176.1505, 3333,      9.1, 2,  22.8248, 2,  35.5103, 2,  35.5119, 2,    216.4, 2,    218.7, 2,     0.57, 2,     0.08, 2,     0.00, 2,     0.06, 2,    1.948, 2,    1.166, 2,    0.289, 4, -999.000, 9,   2013.9, 2,   2329.7, 2,    8.0647,     25.00,   -999.0, 9,   -999.0,  -999.00, 9,   -999.0,  22.8230, 24.3717,  22.8108, 2, 2, 0.12, 0.03, 0.01, 0.030,  -999.00, 9, -999.00, -999.00, 9, -999.00
49NZ20071122, P14, 19, 1, 35, X12041, 2, 20071219, 1959, -29.1527, 176.1505, 3333,     49.0, 2,  20.8816, 2,  35.6699, 2,  35.6677, 2,    221.5, 2,    223.3, 2,     0.58, 2,     0.05, 2,     0.00, 2,     0.09, 2,    2.080, 2,    1.233, 2,    0.348, 4, -999.000, 9,   2027.2, 6,   2339.9, 2,    8.0532,     25.00,   -999.0, 9,   -999.0,  -999.00, 9,   -999.0,  20.8722, 25.0388,  20.8789, 2, 2, 0.12, 0.03, 0.01, 0.024,  -999.00, 9, -999.00, -999.00, 9, -999.00
49NZ20071122, P14, 19, 1, 34, X12016, 2, 20071219, 1959, -29.1527, 176.1505, 3333,     99.5, 2,  19.1613, 2,  35.7691, 2,  35.7662, 2,    219.9, 2,    225.9, 2,     0.68, 2,     0.27, 2,     0.07, 2,     0.15, 2,    2.227, 2,    1.307, 2,    0.297, 4, -999.000, 9,   2048.1, 2,   2346.1, 6,    8.0241,     25.00,   -999.0, 9,   -999.0,  -999.00, 9,   -999.0,  19.1434, 25.5724,  19.1615, 2, 2, 0.12, 0.03, 0.01, 0.018,  -999.00, 9, -999.00, -999.00, 9, -999.00
49NZ20071122, P14, 19, 1, 33, X12033, 2, 20071219, 1959, -29.1527, 176.1505, 3333,    149.6, 2,  18.2462, 2,  35.7011, 2,  35.7005, 2,    210.8, 2,    207.7, 2,     0.94, 2,     2.86, 2,     0.02, 2,     0.30, 2,    2.287, 6,    1.319, 6,    0.158, 4, -999.000, 9,   2065.9, 2,   2340.3, 2,    7.9869,     25.00,   -999.0, 9,   -999.0,  -999.00, 9,   -999.0,  18.2202, 25.7544,  18.2472, 2, 6, 0.12, 0.04, 0.01, 0.014,  -999.00, 9, -999.00, -999.00, 9, -999.00
49NZ20071122, P14, 19, 1, 32, X12038, 2, 20071219, 1959, -29.1527, 176.1505, 3333,    200.4, 2,  17.5033, 2,  35.6348, 2,  35.6323, 2,    202.9, 2,    202.5, 2,     1.27, 2,     4.36, 2,     0.02, 2,     0.40, 2,    2.338, 2,    1.334, 2,    0.111, 4, -999.000, 9,   2075.6, 2,   2337.4, 2,    7.9634,     25.00,   -999.0, 9,   -999.0,  -999.00, 9,   -999.0,  17.4694, 25.8886,  17.5041, 2, 2, 0.12, 0.05, 0.01, 0.013,  -999.00, 9, -999.00, -999.00, 9, -999.00
49NZ20071122, P14, 19, 1, 31, X12003, 2, 20071219, 1959, -29.1527, 176.1505, 3333,    248.3, 2,  16.6895, 2,  35.5543, 2,  35.5505, 6,    197.3, 2,    198.4, 2,     1.65, 2,     5.90, 2,     0.01, 2,     0.50, 2,    2.387, 2,    1.337, 2,    0.083, 2, -999.000, 9,   2087.0, 2,   2331.9, 2,    7.9383,     25.00,   -999.0, 9,   -999.0,  -999.00, 9,   -999.0,  16.6488, 26.0232,  16.6922, 2, 2, 0.12, 0.05, 0.01, 0.013,  -999.00, 9, -999.00, -999.00, 9, -999.00
49NZ20071122, P14, 19, 1, 30, X12008, 2, 20071219, 1959, -29.1527, 176.1505, 3333,    278.9, 2,  15.9837, 2,  35.4830, 2,  35.4786, 2,    196.2, 2,    197.0, 2,     2.10, 2,     7.03, 2,     0.01, 2,     0.57, 2,    2.422, 2,    1.351, 2,    0.076, 2, -999.000, 9,   2092.5, 2,   2328.0, 2,    7.9190,     25.00,   -999.0, 9,   -999.0,  -999.00, 9,   -999.0,  15.9393, 26.1332,  15.9888, 2, 2, 0.12, 0.05, 0.01, 0.013,  -999.00, 9, -999.00, -999.00, 9, -999.00
49NZ20071122, P14, 19, 1, 29, X12035, 2, 20071219, 1959, -29.1527, 176.1505, 3333,    371.2, 2,  13.9889, 2,  35.2591, 2,  35.2597, 2,    196.7, 2,    196.8, 2,     3.23, 2,    10.20, 2,     0.01, 2,     0.78, 2,    2.494, 2,    1.362, 2,    0.065, 2, -999.000, 9,   2109.7, 2,   2318.2, 2,    7.8692,     25.00,   -999.0, 9,   -999.0,  -999.00, 9,   -999.0,  13.9348, 26.4012,  13.9908, 2, 2, 0.13, 0.06, 0.01, 0.013,  -999.00, 9, -999.00, -999.00, 9, -999.00
49NZ20071122, P14, 19, 1, 28, X12034, 2, 20071219, 1959, -29.1527, 176.1505, 3333,    471.4, 2,  11.7644, 2,  34.9849, 2,  34.9841, 6,    197.8, 2,    197.9, 2,     4.97, 2,    14.33, 2,     0.01, 2,     1.04, 2,    2.523, 2,    1.328, 2,    0.075, 2, -999.000, 9,   2126.7, 2,   2305.9, 2,    7.8133,     25.00,   -999.0, 9,   -999.0,  -999.00, 9,   -999.0,  11.7030, 26.6338,  11.7634, 2, 2, 0.13, 0.07, 0.01, 0.013,  -999.00, 9, -999.00, -999.00, 9, -999.00
49NZ20071122, P14, 19, 1, 27, X12049, 2, 20071219, 1959, -29.1527, 176.1505, 3333,    569.9, 2,   9.6616, 2,  34.7178, 2,  34.7133, 2,    203.4, 2,    204.0, 2,     6.81, 2,    18.51, 2,     0.00, 2,     1.32, 2,    2.475, 2,    1.261, 2,    0.091, 2, -999.000, 9,   2140.1, 2,   2295.9, 2,    7.7651,     25.00,   -999.0, 9,   -999.0,  -999.00, 9,   -999.0,   9.5958, 26.7998,   9.6631, 2, 2, 0.13, 0.08, 0.01, 0.014,  -999.00, 9, -999.00, -999.00, 9, -999.00
49NZ20071122, P14, 19, 1, 26, X12032, 2, 20071219, 1959, -29.1527, 176.1505, 3333,    669.7, 2,   8.2685, 2,  34.5597, 2,  34.5561, 2,    209.5, 2,    210.2, 2,     8.71, 2,    21.28, 2,     0.00, 2,     1.50, 2,    2.231, 6,    1.101, 6,    0.078, 6, -999.000, 9,   2145.0, 6,   2290.9, 2,    7.7389,     25.00,   -999.0, 9,   -999.0,  -999.00, 9,   -999.0,   8.1978, 26.8983,   8.2708, 2, 2, 0.14, 0.09, 0.01, 0.014,  -999.00, 9, -999.00, -999.00, 9, -999.00
49NZ20071122, P14, 19, 1, 25, X12043, 2, 20071219, 1959, -29.1527, 176.1505, 3333,    769.7, 2,   7.2504, 2,  34.4580, 2,  34.4579, 2,    214.8, 2,    215.7, 2,    10.86, 2,    23.32, 2,     0.00, 2,     1.63, 2,    1.905, 2,    0.926, 2,    0.059, 2, -999.000, 9,   2149.9, 2,   2288.9, 6,    7.7231,     25.00,   -999.0, 9,   -999.0,  -999.00, 9,   -999.0,   7.1745, 26.9675,   7.2495, 2, 2, 0.14, 0.10, 0.01, 0.014,  -999.00, 9, -999.00, -999.00, 9, -999.00
49NZ20071122, P14, 19, 1, 24, X12030, 2, 20071219, 1959, -29.1527, 176.1505, 3333,    869.1, 2,   6.4758, 2,  34.4075, 2,  34.4065, 2,    212.1, 2,    213.4, 2,    15.33, 2,    25.36, 2,     0.00, 2,     1.77, 2,    1.379, 2,    0.669, 2,    0.040, 2, -999.000, 9,   2158.7, 2,   2288.6, 2,    7.7048,     25.00,   -999.0, 9,   -999.0,  -999.00, 9,   -999.0,   6.3947, 27.0336,   6.4820, 2, 6, 0.15, 0.10, 0.01, 0.015,  -999.00, 9, -999.00, -999.00, 9, -999.00
49NZ20071122, P14, 19, 1, 23, X12027, 2, 20071219, 1959, -29.1527, 176.1505, 3333,    969.4, 2,   5.7643, 2,  34.3894, 2,  34.3895, 6,    204.0, 2,    204.7, 2,    22.35, 2,    27.67, 2,     0.00, 2,     1.93, 2,    0.880, 2,    0.426, 2,    0.021, 2, -999.000, 9,   2176.4, 2,   2295.4, 2,    7.6803,     25.00,   -999.0, 9,   -999.0,  -999.00, 9,   -999.0,   5.6783, 27.1104,   5.7665, 2, 2, 0.17, 0.11, 0.01, 0.015,  -999.00, 9, -999.00, -999.00, 9, -999.00
49NZ20071122, P14, 19, 1, 22, X12028, 2, 20071219, 1959, -29.1527, 176.1505, 3333,   1129.9, 2,   4.6437, 2,  34.3955, 2,  34.3969, 2,    186.9, 2,    187.6, 2,    38.30, 2,    30.99, 2,     0.00, 2,     2.17, 2,    0.310, 2,    0.157, 2,    0.009, 2, -999.000, 9,   2204.0, 2,   2310.5, 2,    7.6397,     25.00,   -999.0, 9,   -999.0,  -999.00, 9,   -999.0,   4.5518, 27.2464,   4.6431, 2, 2, 0.20, 0.12, 0.01, 0.015,  -999.00, 9, -999.00, -999.00, 9, -999.00
49NZ20071122, P14, 19, 1, 21, X12009, 2, 20071219, 1959, -29.1527, 176.1505, 3333,   1329.9, 2,   3.6065, 2,  34.4945, 2,  34.4968, 2,    168.9, 2,    169.2, 2,    66.27, 2,    33.37, 2,     0.00, 2,     2.33, 2,    0.116, 2,    0.057, 2,    0.000, 2, -999.000, 9,   2243.2, 2,   2340.7, 2,    7.6115,     25.00,   -999.0, 9,   -999.0,  -999.00, 9,   -999.0,   3.5066, 27.4337,   3.6075, 2, 2, 0.26, 0.13, 0.01, 0.016,  -999.00, 9, -999.00, -999.00, 9, -999.00
49NZ20071122, P14, 19, 1, 20, X12026, 2, 20071219, 1959, -29.1527, 176.1505, 3333,   1530.8, 2,   2.9840, 2,  34.5696, 2,  34.5692, 2,    159.5, 2,    159.8, 2,    86.89, 2,    34.26, 2,     0.00, 2,     2.41, 2,    0.058, 2,    0.026, 2,    0.000, 2, -999.000, 9,   2269.8, 2,   2368.5, 2,    7.6021,     25.00,   -999.0, 9,   -999.0,  -999.00, 9,   -999.0,   2.8738, 27.5529,   2.9844, 2, 6, 0.31, 0.13, 0.01, 0.016,  -999.00, 9, -999.00, -999.00, 9, -999.00
49NZ20071122, P14, 19, 1, 19, X12025, 2, 20071219, 1959, -29.1527, 176.1505, 3333,   1732.1, 2,   2.5720, 2,  34.6100, 2,  34.6101, 2,    155.0, 2,    155.2, 2,   100.13, 2,    34.76, 2,     0.00, 2,     2.45, 2,    0.020, 2,    0.011, 2,    0.000, 2, -999.000, 9,   2287.5, 2,   2382.2, 2,    7.5969,     25.00,   -999.0, 9,   -999.0,  -999.00, 9,   -999.0,   2.4500, 27.6224,   2.5726, 2, 2, 0.34, 0.13, 0.01, 0.016,  -999.00, 9, -999.00, -999.00, 9, -999.00
49NZ20071122, P14, 19, 1, 18, X12024, 2, 20071219, 1959, -29.1527, 176.1505, 3333,   1932.6, 2,   2.3501, 2,  34.6299, 2,  34.6306, 2,    153.2, 2,    153.6, 2,   107.03, 2,    35.11, 2,     0.00, 2,     2.47, 2,    0.009, 2,    0.004, 2,    0.000, 2, -999.000, 9,   2295.3, 2,   2389.3, 2,    7.5948,     25.00,   -999.0, 9,   -999.0,  -999.00, 9,   -999.0,   2.2141, 27.6579,   2.3502, 2, 2, 0.35, 0.13, 0.01, 0.016,  -999.00, 9, -999.00, -999.00, 9, -999.00
49NZ20071122, P14, 19, 1, 17, X12023, 2, 20071219, 1959, -29.1527, 176.1505, 3333,   2129.8, 2,   2.1764, 2,  34.6455, 2,  34.6457, 6,    152.5, 2,    152.9, 2,   111.76, 2,    35.15, 2,     0.00, 2,     2.48, 2,    0.003, 2,    0.000, 2,    0.000, 2, -999.000, 9,   2300.4, 2,   2395.9, 2,    7.5941,     25.00,   -999.0, 9,   -999.0,  -999.00, 9,   -999.0,   2.0261, 27.6856,   2.1765, 2, 2, 0.36, 0.13, 0.01, 0.016,  -999.00, 9, -999.00, -999.00, 9, -999.00
49NZ20071122, P14, 19, 1, 16, X12022, 2, 20071219, 1959, -29.1527, 176.1505, 3333,   2330.2, 2,   2.0464, 2,  34.6574, 2,  34.6573, 2,    152.8, 2,    153.1, 2,   115.31, 2,    35.32, 2,     0.00, 2,     2.49, 2,    0.001, 2,    0.000, 2,    0.000, 2, -999.000, 9,   2302.6, 2,   2398.1, 2,    7.5936,     25.00,   -999.0, 9,   -999.0,  -999.00, 9,   -999.0,   1.8806, 27.7065,   2.0460, 2, 2, 0.37, 0.13, 0.01, 0.016,  -999.00, 9, -999.00, -999.00, 9, -999.00
49NZ20071122, P14, 19, 1, 15, X12021, 2, 20071219, 1959, -29.1527, 176.1505, 3333,   2530.5, 2,   1.9666, 2,  34.6652, 2,  34.6654, 2,    153.3, 2,    153.6, 2,   117.20, 2,    35.19, 2,     0.00, 2,     2.48, 2,    0.000, 2,    0.001, 2,    0.000, 2, -999.000, 9,   2305.1, 2,   2401.8, 6,    7.5941,     25.00,   -999.0, 9,   -999.0,  -999.00, 9,   -999.0,   1.7841, 27.7203,   1.9668, 2, 2, 0.38, 0.13, 0.01, 0.016,  -999.00, 9, -999.00, -999.00, 9, -999.00
49NZ20071122, P14, 19, 1, 14, X12020, 2, 20071219, 1959, -29.1527, 176.1505, 3333,   2729.6, 2,   1.8934, 2,  34.6722, 2,  34.6725, 2,    153.8, 2,    154.3, 2,   119.53, 2,    35.32, 2,     0.00, 2,     2.49, 2,    0.001, 2,    0.000, 2,    0.000, 2, -999.000, 9,   2309.4, 2,   2404.4, 2,    7.5959,     25.00,   -999.0, 9,   -999.0,  -999.00, 9,   -999.0,   1.6939, 27.7328,   1.8934, 2, 6, 0.38, 0.13, 0.01, 0.016,  -999.00, 9, -999.00, -999.00, 9, -999.00
49NZ20071122, P14, 19, 1, 13, X12019, 2, 20071219, 1959, -29.1527, 176.1505, 3333,   2931.6, 2,   1.8566, 2,  34.6764, 2,  34.6765, 6,    154.1, 2,    154.6, 2,   120.91, 2,    35.35, 2,     0.01, 2,     2.48, 2,    0.000, 2,    0.000, 2,    0.000, 2, -999.000, 9,   2311.1, 2,   2406.4, 2,    7.5967,     25.00,   -999.0, 9,   -999.0,  -999.00, 9,   -999.0,   1.6386, 27.7402,   1.8565, 2, 2, 0.39, 0.13, 0.01, 0.016,  -999.00, 9, -999.00, -999.00, 9, -999.00
49NZ20071122, P14, 19, 1, 12, X12040, 2, 20071219, 1959, -29.1527, 176.1505, 3333,   3170.9, 2,   1.8479, 2,  34.6788, 2,  34.6790, 2,    154.4, 2,    154.8, 2,   121.62, 2,    35.22, 2,     0.00, 2,     2.47, 2,    0.001, 2,    0.001, 2,    0.000, 2, -999.000, 9,   2311.2, 2,   2407.5, 2,    7.5978,     25.00,   -999.0, 9,   -999.0,  -999.00, 9,   -999.0,   1.6066, 27.7446,   1.8479, 2, 2, 0.39, 0.13, 0.01, 0.016,  -999.00, 9, -999.00, -999.00, 9, -999.00
49NZ20071122, P14, 19, 1, 11, X12047, 9, 20071219, 1959, -29.1527, 176.1505, 3333,      9.4, 2,  22.7597, 2,  35.5135, 2, -999.0000, 9,    217.3, 2,   -999.0, 9,  -999.00, 9,  -999.00, 9,  -999.00, 9,  -999.00, 9, -999.000, 9, -999.000, 9, -999.000, 9, -999.000, 9,   -999.0, 9,   -999.0, 9, -999.0000,   -999.00,   -999.0, 9,   -999.0,  -999.00, 9,   -999.0,  22.7578, 24.3928,  22.8008, 2, 9, -999.00, -999.00, -999.00, -999.000,  -999.00, 9, -999.00, -999.00, 9, -999.00
49NZ20071122, P14, 19, 1, 10, X12012, 9, 20071219, 1959, -29.1527, 176.1505, 3333,     49.6, 2,  20.8104, 2,  35.6797, 2, -999.0000, 9,    221.1, 2,   -999.0, 9,  -999.00, 9,  -999.00, 9,  -999.00, 9,  -999.00, 9, -999.000, 9, -999.000, 9, -999.000, 9, -999.000, 9,   -999.0, 9,   -999.0, 9, -999.0000,   -999.00,   -999.0, 9,   -999.0,  -999.00, 9,   -999.0,  20.8010, 25.0656,  20.8230, 2, 9, -999.00, -999.00, -999.00, -999.000,  -999.00, 9, -999.00, -999.00, 9, -999.00
49NZ20071122, P14, 19, 1, 9, X12015, 9, 20071219, 1959, -29.1527, 176.1505, 3333,   3364.9, 2,   1.8520, 2,  34.6797, 2, -999.0000, 9,    154.5, 2,   -999.0, 9,  -999.00, 9,  -999.00, 9,  -999.00, 9,  -999.00, 9, -999.000, 9, -999.000, 9, -999.000, 9, -999.000, 9,   -999.0, 9,   -999.0, 9, -999.0000,   -999.00,   -999.0, 9,   -999.0,  -999.00, 9,   -999.0,   1.5910, 27.7465,   1.8519, 2, 9, -999.00, -999.00, -999.00, -999.000,  -999.00, 9, -999.00, -999.00, 9, -999.00
49NZ20071122, P14, 19, 1, 8, X12046, 9, 20071219, 1959, -29.1527, 176.1505, 3333,    670.2, 2,   8.2785, 2,  34.5603, 2, -999.0000, 9,    209.4, 2,   -999.0, 9,  -999.00, 9,  -999.00, 9,  -999.00, 9,  -999.00, 9, -999.000, 9, -999.000, 9, -999.000, 9, -999.000, 9,   -999.0, 9,   -999.0, 9, -999.0000,   -999.00,   -999.0, 9,   -999.0,  -999.00, 9,   -999.0,   8.2077, 26.8973,   8.2791, 2, 9, -999.00, -999.00, -999.00, -999.000,  -999.00, 9, -999.00, -999.00, 9, -999.00
49NZ20071122, P14, 19, 1, 7, X12044, 9, 20071219, 1959, -29.1527, 176.1505, 3333,    769.3, 2,   7.2467, 2,  34.4578, 2, -999.0000, 9,    214.8, 2,   -999.0, 9,  -999.00, 9,  -999.00, 9,  -999.00, 9,  -999.00, 9, -999.000, 9, -999.000, 9, -999.000, 9, -999.000, 9,   -999.0, 9,   -999.0, 9, -999.0000,   -999.00,   -999.0, 9,   -999.0,  -999.00, 9,   -999.0,   7.1709, 26.9679,   7.2454, 2, 9, -999.00, -999.00, -999.00, -999.000,  -999.00, 9, -999.00, -999.00, 9, -999.00
49NZ20071122, P14, 19, 1, 6, X12048, 9, 20071219, 1959, -29.1527, 176.1505, 3333,    869.5, 2,   6.4810, 2,  34.4078, 2, -999.0000, 9,    212.1, 2,   -999.0, 9,  -999.00, 9,  -999.00, 9,  -999.00, 9,  -999.00, 9, -999.000, 9, -999.000, 9, -999.000, 9, -999.000, 9,   -999.0, 9,   -999.0, 9, -999.0000,   -999.00,   -999.0, 9,   -999.0,  -999.00, 9,   -999.0,   6.3998, 27.0331,   6.4822, 2, 9, -999.00, -999.00, -999.00, -999.000,  -999.00, 9, -999.00, -999.00, 9, -999.00
49NZ20071122, P14, 19, 1, 5, X12014, 9, 20071219, 1959, -29.1527, 176.1505, 3333,    969.7, 2,   5.7418, 2,  34.3892, 2, -999.0000, 9,    203.9, 2,   -999.0, 9,  -999.00, 9,  -999.00, 9,  -999.00, 9,  -999.00, 9, -999.000, 9, -999.000, 9, -999.000, 9, -999.000, 9,   -999.0, 9,   -999.0, 9, -999.0000,   -999.00,   -999.0, 9,   -999.0,  -999.00, 9,   -999.0,   5.6560, 27.1130,   5.7419, 2, 9, -999.00, -999.00, -999.00, -999.000,  -999.00, 9, -999.00, -999.00, 9, -999.00
49NZ20071122, P14, 19, 1, 4, X12006, 9, 20071219, 1959, -29.1527, 176.1505, 3333,   1129.8, 2,   4.6400, 2,  34.3958, 2, -999.0000, 9,    186.8, 2,   -999.0, 9,  -999.00, 9,  -999.00, 9,  -999.00, 9,  -999.00, 9, -999.000, 9, -999.000, 9, -999.000, 9, -999.000, 9,   -999.0, 9,   -999.0, 9, -999.0000,   -999.00,   -999.0, 9,   -999.0,  -999.00, 9,   -999.0,   4.5481, 27.2471,   4.6410, 2, 9, -999.00, -999.00, -999.00, -999.000,  -999.00, 9, -999.00, -999.00, 9, -999.00
49NZ20071122, P14, 19, 1, 3, X12013, 9, 20071219, 1959, -29.1527, 176.1505, 3333,   1329.4, 2,   3.5948, 2,  34.4958, 2, -999.0000, 9,    168.9, 2,   -999.0, 9,  -999.00, 9,  -999.00, 9,  -999.00, 9,  -999.00, 9, -999.000, 9, -999.000, 9, -999.000, 9, -999.000, 9,   -999.0, 9,   -999.0, 9, -999.0000,   -999.00,   -999.0, 9,   -999.0,  -999.00, 9,   -999.0,   3.4951, 27.4358,   3.5983, 2, 9, -999.00, -999.00, -999.00, -999.000,  -999.00, 9, -999.00, -999.00, 9, -999.00
49NZ20071122, P14, 19, 1, 2, X12002, 9, 20071219, 1959, -29.1527, 176.1505, 3333,   1530.6, 2,   2.9793, 2,  34.5703, 2, -999.0000, 9,    159.5, 2,   -999.0, 9,  -999.00, 9,  -999.00, 9,  -999.00, 9,  -999.00, 9, -999.000, 9, -999.000, 9, -999.000, 9, -999.000, 9,   -999.0, 9,   -999.0, 9, -999.0000,   -999.00,   -999.0, 9,   -999.0,  -999.00, 9,   -999.0,   2.8692, 27.5539,   2.9791, 2, 9, -999.00, -999.00, -999.00, -999.000,  -999.00, 9, -999.00, -999.00, 9, -999.00
49NZ20071122, P14, 19, 1, 1, X12001, 2, 20071219, 1959, -29.1527, 176.1505, 3333,   3364.3, 2,   1.8521, 2,  34.6797, 2,  34.6800, 6,    154.5, 2,    154.7, 2,   122.11, 2,    35.26, 2,     0.00, 2,     2.49, 2,    0.001, 2,    0.000, 2,    0.000, 2, -999.000, 9,   2310.8, 2,   2408.0, 2,    7.5981,     25.00,   -999.0, 9,   -999.0,  -999.00, 9,   -999.0,   1.5912, 27.7464,   1.8521, 2, 2, 0.39, 0.13, 0.01, 0.016,  -999.00, 9, -999.00, -999.00, 9, -999.00