BOTTLE,20220820CCHSIOAMB
EXPOCODE,SECT_ID,STNNBR,CASTNO,SAMPNO,BTLNBR,BTLNBR_FLAG_W,DATE,TIME,LATITUDE,LONGITUDE,DEPTH,CTDPRS,CTDPRS_FLAG_W,CTDTMP,CTDTMP_FLAG_W,CTDSAL,CTDSAL_FLAG_W,SALNTY,SALNTY_FLAG_W,CTDOXY,CTDOXY_FLAG_W,OXYGEN,OXYGEN_FLAG_W,SILCAT,SILCAT_FLAG_W,NITRAT,NITRAT_FLAG_W,NITRIT,NITRIT_FLAG_W,PHSPHT,PHSPHT_FLAG_W,CFC-11,CFC-11_FLAG_W,CFC-12,CFC-12_FLAG_W,CFC113,CFC113_FLAG_W,CCL4,CCL4_FLAG_W,TCARBN,TCARBN_FLAG_W,ALKALI,ALKALI_FLAG_W,PH_TOT,PH_TMP,DELC14,DELC14_FLAG_W,C14ERR,DELC13,DELC13_FLAG_W,C13ERR,THETA,SIG0,SBE35,SBE35_FLAG_W,PH_TOT_FLAG_W,SILUNC,NRAUNC,NRIUNC,PHPUNC,CS-137,CS-137_FLAG_W,CS137ER,PLUTO,PLUTO_FLAG_W,PLUTOER
,,,,,,,,,,,METERS,DBAR,,ITS-90,,PSS-78,,PSS-78,,UMOL/KG,,UMOL/KG,,UMOL/KG,,UMOL/KG,,UMOL/KG,,UMOL/KG,,PMOL/KG,,PMOL/KG,,PMOL/KG,,PMOL/KG,,UMOL/KG,,UMOL/KG,,,DEG C,/MILLE,,/MILLE,/MILLE,,/MILLE,DEG C,KG/M^3,ITS-90,,,UMOL/KG,UMOL/KG,UMOL/KG,UMOL/KG,DM/.1MG,,BQ/M^3,MBQ/M^3,,MBQ/M^3
49NZ20071122, P14N, 116, 1, 36, X12042, 2, 20071125, 1225, 6.7423, 179.0082, 5679,      9.2, 2,  28.1887, 2,  34.8847, 2,  34.8850, 2,    198.1, 2,    197.0, 2,     1.32, 2,     0.27, 2,     0.06, 2,     0.26, 2,    1.479, 2,    0.937, 2,    0.177, 4, -999.000, 9,   -999.0, 9,   -999.0, 9, -999.0000,   -999.00,   -999.0, 9,   -999.0,  -999.00, 9,   -999.0,  28.1865, 22.2468,  28.1884, 2, 9, 0.12, 0.03, 0.01, 0.015,  -999.00, 9, -999.00, -999.00, 9, -999.00
49NZ20071122, P14N, 116, 1, 35, X12041, 2, 20071125, 1225, 6.7423, 179.0082, 5679,     49.3, 2,  28.2056, 2,  34.8860, 2,  34.8864, 2,    198.5, 2,    197.0, 2,     1.19, 2,     0.26, 2,     0.06, 2,     0.26, 2,    1.476, 2,    0.931, 2,    0.169, 4, -999.000, 9,   -999.0, 9,   -999.0, 9, -999.0000,   -999.00,   -999.0, 9,   -999.0,  -999.00, 9,   -999.0,  28.1939, 22.2454,  28.2042, 2, 9, 0.12, 0.03, 0.01, 0.015,  -999.00, 9, -999.00, -999.00, 9, -999.00
49NZ20071122, P14N, 116, 1, 34, X12016, 2, 20071125, 1225, 6.7423, 179.0082, 5679,    102.2, 2,  28.1149, 2,  35.0242, 2,  35.0252, 2,    187.8, 2,    189.8, 2,     1.53, 2,     0.98, 2,     0.34, 2,     0.34, 2,    1.508, 2,    0.963, 2,    0.189, 4, -999.000, 9,   -999.0, 9,   -999.0, 9, -999.0000,   -999.00,   -999.0, 9,   -999.0,  -999.00, 9,   -999.0,  28.0907, 22.3831,  28.1130, 2, 9, 0.12, 0.04, 0.00, 0.014,  -999.00, 1, -999.00, -999.00, 9, -999.00
49NZ20071122, P14N, 116, 1, 33, X12033, 2, 20071125, 1225, 6.7423, 179.0082, 5679,    149.0, 2,  26.3276, 2,  35.0368, 2,  35.0406, 2,    160.2, 2,    160.3, 2,     2.76, 2,     4.92, 2,     0.07, 2,     0.54, 2,    1.633, 6,    1.011, 6,    0.141, 4, -999.000, 9,   -999.0, 9,   -999.0, 9, -999.0000,   -999.00,   -999.0, 9,   -999.0,  -999.00, 9,   -999.0,  26.2940, 22.9691,  26.3382, 2, 9, 0.13, 0.05, 0.01, 0.013,  -999.00, 9, -999.00, -999.00, 9, -999.00
49NZ20071122, P14N, 116, 1, 32, X12038, 2, 20071125, 1225, 6.7423, 179.0082, 5679,    200.4, 2,  15.6990, 2,  34.5369, 2,  34.5521, 2,    131.8, 2,    141.3, 2,     9.12, 2,    11.83, 2,     0.09, 2,     1.02, 2,    2.325, 2,    1.311, 2,    0.073, 2, -999.000, 9,   -999.0, 9,   -999.0, 9, -999.0000,   -999.00,   -999.0, 9,   -999.0,  -999.00, 9,   -999.0,  15.6678, 25.4666,  15.7378, 2, 9, 0.14, 0.07, 0.01, 0.013,  -999.00, 1, -999.00, -999.00, 9, -999.00
49NZ20071122, P14N, 116, 1, 31, X12003, 2, 20071125, 1225, 6.7423, 179.0082, 5679,    250.2, 2,  11.4664, 2,  34.5881, 2,  34.5924, 6,     32.1, 2,     33.1, 2,    27.10, 2,    30.78, 2,     0.02, 2,     2.32, 2,    0.922, 2,    0.488, 2,    0.017, 2, -999.000, 9,   -999.0, 9,   -999.0, 9, -999.0000,   -999.00,   -999.0, 9,   -999.0,  -999.00, 9,   -999.0,  11.4348, 26.3753,  11.4656, 2, 9, 0.18, 0.12, 0.01, 0.016,  -999.00, 9, -999.00, -999.00, 9, -999.00
49NZ20071122, P14N, 116, 1, 30, X12008, 2, 20071125, 1225, 6.7423, 179.0082, 5679,    330.4, 2,   9.7854, 2,  34.6706, 2,  34.6694, 2,     39.8, 2,     39.6, 2,    32.24, 2,    33.88, 2,     0.01, 2,     2.43, 2,    0.387, 2,    0.206, 2,    0.014, 2, -999.000, 9,   -999.0, 9,   -999.0, 9, -999.0000,   -999.00,   -999.0, 9,   -999.0,  -999.00, 9,   -999.0,   9.7475, 26.7375,   9.7873, 2, 9, 0.19, 0.13, 0.01, 0.016,  -999.00, 9, -999.00, -999.00, 9, -999.00
49NZ20071122, P14N, 116, 1, 29, X12035, 2, 20071125, 1225, 6.7423, 179.0082, 5679,    429.9, 2,   8.9417, 2,  34.6349, 2,  34.6336, 2,     55.7, 2,     51.8, 2,    35.45, 2,    34.51, 2,     0.01, 2,     2.48, 2,    0.297, 2,    0.158, 2,    0.009, 2, -999.000, 9,   -999.0, 9,   -999.0, 9, -999.0000,   -999.00,   -999.0, 9,   -999.0,  -999.00, 9,   -999.0,   8.8948, 26.8490,   8.9418, 2, 9, 0.20, 0.13, 0.01, 0.016,  -999.00, 1, -999.00, -999.00, 9, -999.00
49NZ20071122, P14N, 116, 1, 28, X12034, 2, 20071125, 1225, 6.7423, 179.0082, 5679,    530.3, 2,   8.2202, 2,  34.6059, 2,  34.6043, 6,     38.2, 2,     38.2, 2,    41.76, 2,    36.96, 2,     0.01, 2,     2.69, 2,    0.121, 2,    0.062, 2,    0.000, 2, -999.000, 9,   -999.0, 9,   -999.0, 9, -999.0000,   -999.00,   -999.0, 9,   -999.0,  -999.00, 9,   -999.0,   8.1648, 26.9396,   8.2191, 2, 9, 0.21, 0.14, 0.01, 0.017,  -999.00, 9, -999.00, -999.00, 9, -999.00
49NZ20071122, P14N, 116, 1, 27, X12049, 2, 20071125, 1225, 6.7423, 179.0082, 5679,    630.1, 2,   7.1950, 2,  34.5701, 2,  34.5691, 2,     27.8, 2,     28.0, 2,    52.67, 2,    39.81, 2,     0.01, 2,     2.93, 2,    0.026, 2,    0.014, 2,    0.000, 2, -999.000, 9,   -999.0, 9,   -999.0, 9, -999.0000,   -999.00,   -999.0, 9,   -999.0,  -999.00, 9,   -999.0,   7.1336, 27.0615,   7.1956, 2, 9, 0.23, 0.14, 0.01, 0.017,  -999.00, 1, -999.00, -999.00, 9, -999.00
49NZ20071122, P14N, 116, 1, 26, X12032, 2, 20071125, 1225, 6.7423, 179.0082, 5679,    731.6, 2,   6.2192, 2,  34.5518, 2,  34.5506, 2,     30.7, 2,     31.5, 2,    63.50, 2,    41.77, 2,     0.01, 2,     3.03, 2,    0.007, 6,    0.002, 6,    0.000, 6, -999.000, 9,   -999.0, 9,   -999.0, 9, -999.0000,   -999.00,   -999.0, 9,   -999.0,  -999.00, 9,   -999.0,   6.1528, 27.1790,   6.2159, 2, 9, 0.26, 0.15, 0.01, 0.018,  -999.00, 9, -999.00, -999.00, 9, -999.00
49NZ20071122, P14N, 116, 1, 25, X12043, 2, 20071125, 1225, 6.7423, 179.0082, 5679,    830.6, 2,   5.5512, 2,  34.5471, 2,  34.5464, 2,     44.4, 2,     45.9, 2,    71.68, 2,    41.76, 2,     0.01, 2,     3.00, 2,    0.003, 2,    0.000, 2,    0.000, 2, -999.000, 9,   -999.0, 9,   -999.0, 9, -999.0000,   -999.00,   -999.0, 9,   -999.0,  -999.00, 9,   -999.0,   5.4795, 27.2594,   5.5515, 2, 9, 0.28, 0.15, 0.01, 0.017,  -999.00, 1, -999.00, -999.00, 9, -999.00
49NZ20071122, P14N, 116, 1, 24, X12030, 2, 20071125, 1225, 6.7423, 179.0082, 5679,    930.9, 2,   4.9967, 2,  34.5512, 2,  34.5507, 2,     53.2, 2,     55.7, 2,    80.50, 2,    41.36, 2,     0.01, 2,     2.98, 2,    0.000, 2,    0.000, 2,    0.000, 2, -999.000, 9,   -999.0, 9,   -999.0, 9, -999.0000,   -999.00,   -999.0, 9,   -999.0,  -999.00, 9,   -999.0,   4.9196, 27.3287,   4.9980, 2, 9, 0.30, 0.15, 0.01, 0.017,  -999.00, 9, -999.00, -999.00, 9, -999.00
49NZ20071122, P14N, 116, 1, 23, X12027, 2, 20071125, 1225, 6.7423, 179.0082, 5679,   1071.5, 2,   4.4280, 2,  34.5612, 2,  34.5611, 6,     56.8, 2,     57.1, 2,    92.09, 2,    41.85, 2,     0.01, 2,     3.02, 2,    0.000, 2,    0.000, 2,    0.000, 2, -999.000, 9,   -999.0, 9,   -999.0, 9, -999.0000,   -999.00,   -999.0, 9,   -999.0,  -999.00, 9,   -999.0,   4.3427, 27.4008,   4.4276, 2, 9, 0.32, 0.15, 0.01, 0.018,  -999.00, 1, -999.00, -999.00, 9, -999.00
49NZ20071122, P14N, 116, 1, 22, X12028, 2, 20071125, 1225, 6.7423, 179.0082, 5679,   1270.5, 2,   3.7352, 2,  34.5790, 2,  34.5791, 2,     66.5, 2,     66.1, 2,   107.40, 2,    41.58, 2,     0.01, 2,     3.00, 2,    0.000, 2,    0.000, 2,    0.000, 2, -999.000, 9,   -999.0, 9,   -999.0, 9, -999.0000,   -999.00,   -999.0, 9,   -999.0,  -999.00, 9,   -999.0,   3.6389, 27.4879,   3.7354, 2, 9, 0.36, 0.15, 0.01, 0.017,  -999.00, 9, -999.00, -999.00, 9, -999.00
49NZ20071122, P14N, 116, 1, 21, X12009, 2, 20071125, 1225, 6.7423, 179.0082, 5679,   1472.9, 2,   3.0805, 2,  34.5996, 2,  34.5997, 2,     80.4, 2,     80.0, 2,   120.94, 2,    40.70, 2,     0.01, 2,     2.93, 2, -999.000, 9, -999.000, 9, -999.000, 9, -999.000, 9,   -999.0, 9,   -999.0, 9, -999.0000,   -999.00,   -999.0, 9,   -999.0,  -999.00, 9,   -999.0,   2.9740, 27.5678,   3.0806, 2, 9, 0.39, 0.15, 0.01, 0.017,  -999.00, 9, -999.00, -999.00, 9, -999.00
49NZ20071122, P14N, 116, 1, 20, X12026, 2, 20071125, 1225, 6.7423, 179.0082, 5679,   1672.1, 2,   2.6633, 2,  34.6162, 2,  34.6162, 6,     92.0, 2,     92.5, 2,   128.84, 2,    39.91, 2,     0.01, 2,     2.86, 2, -999.000, 9, -999.000, 9, -999.000, 9, -999.000, 9,   -999.0, 9,   -999.0, 9, -999.0000,   -999.00,   -999.0, 9,   -999.0,  -999.00, 9,   -999.0,   2.5451, 27.6191,   2.6631, 2, 9, 0.40, 0.14, 0.01, 0.017,  -999.00, 9, -999.00, -999.00, 9, -999.00
49NZ20071122, P14N, 116, 1, 19, X12025, 2, 20071125, 1225, 6.7423, 179.0082, 5679,   1872.6, 2,   2.3710, 2,  34.6302, 2,  34.6302, 2,     99.9, 2,     99.0, 2,   135.26, 2,    39.52, 2,     0.01, 2,     2.82, 2,    0.000, 2,    0.000, 2,    0.000, 2, -999.000, 9,   -999.0, 9,   -999.0, 9, -999.0000,   -999.00,   -999.0, 9,   -999.0,  -999.00, 9,   -999.0,   2.2398, 27.6560,   2.3710, 2, 9, 0.42, 0.14, 0.01, 0.017,  -999.00, 1, -999.00, -999.00, 9, -999.00
49NZ20071122, P14N, 116, 1, 18, X12024, 2, 20071125, 1225, 6.7423, 179.0082, 5679,   2071.3, 2,   2.1427, 2,  34.6440, 2,  34.6444, 2,    106.6, 2,    105.8, 2,   140.69, 2,    39.17, 2,     0.01, 2,     2.79, 2, -999.000, 9, -999.000, 9, -999.000, 9, -999.000, 9,   -999.0, 9,   -999.0, 9, -999.0000,   -999.00,   -999.0, 9,   -999.0,  -999.00, 9,   -999.0,   1.9980, 27.6866,   2.1427, 2, 9, 0.43, 0.14, 0.01, 0.017,  -999.00, 1, -999.00, -999.00, 9, -999.00
49NZ20071122, P14N, 116, 1, 17, X12023, 2, 20071125, 1225, 6.7423, 179.0082, 5679,   2272.2, 2,   1.9989, 2,  34.6537, 2,  34.6539, 2,    111.1, 2,    110.2, 2,   143.83, 2,    38.96, 2,     0.01, 2,     2.76, 2, -999.000, 9, -999.000, 9, -999.000, 9, -999.000, 9,   -999.0, 9,   -999.0, 9, -999.0000,   -999.00,   -999.0, 9,   -999.0,  -999.00, 9,   -999.0,   1.8390, 27.7068,   1.9989, 2, 9, 0.44, 0.14, 0.01, 0.017,  -999.00, 1, -999.00, -999.00, 9, -999.00
49NZ20071122, P14N, 116, 1, 16, X12022, 2, 20071125, 1225, 6.7423, 179.0082, 5679,   2471.7, 2,   1.8915, 2,  34.6604, 2,  34.6607, 2,    116.3, 2,    115.4, 2,   145.69, 2,    38.64, 2,     0.01, 2,     2.73, 2,    0.000, 2,    0.000, 2,    0.000, 2, -999.000, 9,   -999.0, 9,   -999.0, 9, -999.0000,   -999.00,   -999.0, 9,   -999.0,  -999.00, 9,   -999.0,   1.7158, 27.7216,   1.8914, 2, 9, 0.44, 0.14, 0.01, 0.017,  -999.00, 9, -999.00, -999.00, 9, -999.00
49NZ20071122, P14N, 116, 1, 15, X12021, 2, 20071125, 1225, 6.7423, 179.0082, 5679,   2670.4, 2,   1.8232, 2,  34.6645, 2,  34.6644, 2,    121.2, 2,    120.0, 2,   146.12, 2,    38.23, 2,     0.01, 2,     2.70, 2, -999.000, 9, -999.000, 9, -999.000, 9, -999.000, 9,   -999.0, 9,   -999.0, 9, -999.0000,   -999.00,   -999.0, 9,   -999.0,  -999.00, 9,   -999.0,   1.6306, 27.7313,   1.8231, 2, 9, 0.44, 0.14, 0.01, 0.017,  -999.00, 9, -999.00, -999.00, 9, -999.00
49NZ20071122, P14N, 116, 1, 14, X12020, 2, 20071125, 1225, 6.7423, 179.0082, 5679,   2872.2, 2,   1.7322, 2,  34.6690, 2,  34.6692, 2,    127.6, 2,    126.5, 2,   146.14, 2,    37.83, 2,     0.01, 2,     2.66, 2, -999.000, 9, -999.000, 9, -999.000, 9, -999.000, 9,   -999.0, 9,   -999.0, 9, -999.0000,   -999.00,   -999.0, 9,   -999.0,  -999.00, 9,   -999.0,   1.5226, 27.7429,   1.7321, 2, 9, 0.44, 0.14, 0.01, 0.017,  -999.00, 1, -999.00, -999.00, 9, -999.00
49NZ20071122, P14N, 116, 1, 13, X12019, 2, 20071125, 1225, 6.7423, 179.0082, 5679,   3079.9, 2,   1.6491, 2,  34.6734, 2,  34.6734, 2,    134.9, 2,    134.1, 2,   144.81, 2,    37.28, 2,     0.01, 2,     2.64, 2,    0.000, 2,    0.000, 2,    0.000, 2, -999.000, 9,   -999.0, 9,   -999.0, 9, -999.0000,   -999.00,   -999.0, 9,   -999.0,  -999.00, 9,   -999.0,   1.4213, 27.7537,   1.6491, 2, 9, 0.44, 0.14, 0.01, 0.017,  -999.00, 1, -999.00, -999.00, 9, -999.00
49NZ20071122, P14N, 116, 1, 12, X12040, 2, 20071125, 1225, 6.7423, 179.0082, 5679,   3331.6, 2,   1.5841, 2,  34.6780, 2,  34.6779, 2,    141.1, 2,    140.4, 2,   144.06, 2,    36.81, 2,     0.01, 2,     2.58, 2, -999.000, 9, -999.000, 9, -999.000, 9, -999.000, 9,   -999.0, 9,   -999.0, 9, -999.0000,   -999.00,   -999.0, 9,   -999.0,  -999.00, 9,   -999.0,   1.3330, 27.7638,   1.5839, 2, 9, 0.44, 0.14, 0.01, 0.016,  -999.00, 1, -999.00, -999.00, 9, -999.00
49NZ20071122, P14N, 116, 1, 11, X12047, 2, 20071125, 1225, 6.7423, 179.0082, 5679,   3581.6, 2,   1.5191, 2,  34.6828, 2,  34.6828, 2,    148.8, 2,    148.0, 2,   142.27, 2,    36.39, 2,     0.01, 2,     2.55, 2, -999.000, 9, -999.000, 9, -999.000, 9, -999.000, 9,   -999.0, 9,   -999.0, 9, -999.0000,   -999.00,   -999.0, 9,   -999.0,  -999.00, 9,   -999.0,   1.2441, 27.7739,   1.5190, 2, 9, 0.43, 0.13, 0.01, 0.016,  -999.00, 9, -999.00, -999.00, 9, -999.00
49NZ20071122, P14N, 116, 1, 10, X12012, 2, 20071125, 1225, 6.7423, 179.0082, 5679,   3832.0, 2,   1.4641, 2,  34.6875, 2,  34.6873, 2,    155.5, 2,    155.0, 2,   140.26, 2,    35.89, 2,     0.01, 2,     2.51, 2,    0.000, 2,    0.000, 2,    0.000, 2, -999.000, 9,   -999.0, 9,   -999.0, 9, -999.0000,   -999.00,   -999.0, 9,   -999.0,  -999.00, 9,   -999.0,   1.1643, 27.7831,   1.4640, 2, 9, 0.43, 0.13, 0.01, 0.016,  -999.00, 1, -999.00, -999.00, 9, -999.00
49NZ20071122, P14N, 116, 1, 9, X12015, 2, 20071125, 1225, 6.7423, 179.0082, 5679,   4080.6, 2,   1.4024, 2,  34.6921, 2,  34.6922, 2,    164.4, 2,    163.6, 2,   136.83, 2,    35.22, 2,     0.01, 2,     2.46, 2, -999.000, 9, -999.000, 9, -999.000, 9, -999.000, 9,   -999.0, 9,   -999.0, 9, -999.0000,   -999.00,   -999.0, 9,   -999.0,  -999.00, 9,   -999.0,   1.0774, 27.7928,   1.4023, 2, 9, 0.42, 0.13, 0.01, 0.016,  -999.00, 1, -999.00, -999.00, 9, -999.00
49NZ20071122, P14N, 116, 1, 8, X12046, 2, 20071125, 1225, 6.7423, 179.0082, 5679,   4331.2, 2,   1.3245, 2,  34.6978, 2,  34.6976, 2,    175.1, 2,    174.8, 2,   131.78, 2,    34.44, 2,     0.02, 2,     2.40, 2, -999.000, 9, -999.000, 9, -999.000, 9, -999.000, 9,   -999.0, 9,   -999.0, 9, -999.0000,   -999.00,   -999.0, 9,   -999.0,  -999.00, 9,   -999.0,   0.9740, 27.8042,   1.3245, 2, 9, 0.41, 0.13, 0.01, 0.016,  -999.00, 1, -999.00, -999.00, 9, -999.00
49NZ20071122, P14N, 116, 1, 7, X12044, 2, 20071125, 1225, 6.7423, 179.0082, 5679,   4581.4, 2,   1.2892, 2,  34.7013, 2,  34.7015, 2,    182.9, 2,    182.2, 2,   127.64, 2,    33.94, 2,     0.01, 2,     2.37, 2,    0.000, 2,    0.000, 2,    0.000, 2, -999.000, 9,   -999.0, 9,   -999.0, 9, -999.0000,   -999.00,   -999.0, 9,   -999.0,  -999.00, 9,   -999.0,   0.9113, 27.8112,   1.2891, 2, 9, 0.40, 0.13, 0.01, 0.016,  -999.00, 9, -999.00, -999.00, 9, -999.00
49NZ20071122, P14N, 116, 1, 6, X12048, 2, 20071125, 1225, 6.7423, 179.0082, 5679,   4831.0, 2,   1.2867, 2,  34.7032, 2,  34.7033, 2,    186.7, 2,    186.5, 2,   125.03, 2,    33.60, 2,     0.01, 2,     2.35, 2, -999.000, 9, -999.000, 9, -999.000, 9, -999.000, 9,   -999.0, 9,   -999.0, 9, -999.0000,   -999.00,   -999.0, 9,   -999.0,  -999.00, 9,   -999.0,   0.8798, 27.8148,   1.2867, 2, 9, 0.39, 0.13, 0.01, 0.016,  -999.00, 1, -999.00, -999.00, 9, -999.00
49NZ20071122, P14N, 116, 1, 5, X12014, 2, 20071125, 1225, 6.7423, 179.0082, 5679,   5079.9, 2,   1.2954, 2,  34.7041, 2,  34.7042, 2,    189.0, 2,    188.8, 2,   124.03, 2,    33.43, 2,     0.01, 2,     2.33, 2,    0.000, 2,    0.000, 2,    0.000, 2, -999.000, 9,   -999.0, 9,   -999.0, 9, -999.0000,   -999.00,   -999.0, 9,   -999.0,  -999.00, 9,   -999.0,   0.8583, 27.8169,   1.2953, 2, 9, 0.39, 0.13, 0.01, 0.016,  -999.00, 1, -999.00, -999.00, 9, -999.00
49NZ20071122, P14N, 116, 1, 4, X12006, 2, 20071125, 1225, 6.7423, 179.0082, 5679,   5331.4, 2,   1.3150, 2,  34.7047, 2,  34.7050, 2,    190.5, 2,    190.2, 2,   123.38, 2,    33.34, 2,     0.01, 2,     2.33, 2,    0.001, 2,    0.000, 2,    0.000, 2, -999.000, 9,   -999.0, 9,   -999.0, 9, -999.0000,   -999.00,   -999.0, 9,   -999.0,  -999.00, 9,   -999.0,   0.8463, 27.8181,   1.3150, 2, 9, 0.39, 0.13, 0.01, 0.016,  -999.00, 1, -999.00, -999.00, 9, -999.00
49NZ20071122, P14N, 116, 1, 3, X12013, 2, 20071125, 1225, 6.7423, 179.0082, 5679,   5580.6, 2,   1.3427, 2,  34.7050, 2,  34.7055, 6,    191.2, 2,    191.0, 2,   122.85, 2,    33.27, 2,     0.01, 2,     2.32, 2,    0.001, 2,    0.001, 2,    0.000, 2, -999.000, 9,   -999.0, 9,   -999.0, 9, -999.0000,   -999.00,   -999.0, 9,   -999.0,  -999.00, 9,   -999.0,   0.8415, 27.8187,   1.3426, 2, 9, 0.39, 0.13, 0.01, 0.016,  -999.00, 9, -999.00, -999.00, 9, -999.00
49NZ20071122, P14N, 116, 1, 2, X12002, 2, 20071125, 1225, 6.7423, 179.0082, 5679,   5768.6, 2,   1.3669, 2,  34.7050, 2, -999.0000, 9,    191.2, 2,   -999.0, 9,  -999.00, 9,  -999.00, 9,  -999.00, 9,  -999.00, 9, -999.000, 9, -999.000, 9, -999.000, 9, -999.000, 9,   -999.0, 9,   -999.0, 9, -999.0000,   -999.00,   -999.0, 9,   -999.0,  -999.00, 9,   -999.0,   0.8405, 27.8187,   1.3670, 2, 9, -999.00, -999.00, -999.00, -999.000,  -999.00, 1, -999.00, -999.00, 9, -999.00
49NZ20071122, P14N, 116, 1, 1, X12001, 2, 20071125, 1225, 6.7423, 179.0082, 5679,   5769.1, 2,   1.3670, 2,  34.7050, 2,  34.7052, 6,    191.1, 2,    190.9, 2,   122.70, 2,    33.20, 2,     0.01, 2,     2.32, 2,    0.002, 2,    0.000, 2,    0.000, 2, -999.000, 9,   -999.0, 9,   -999.0, 9, -999.0000,   -999.00,   -999.0, 9,   -999.0,  -999.00, 9,   -999.0,   0.8406, 27.8187,   1.3671, 2, 9, 0.39, 0.13, 0.01, 0.016,  -999.00, 1, -999.00, -999.00, 9, -999.00