BOTTLE,20220820CCHSIOAMB
EXPOCODE,SECT_ID,STNNBR,CASTNO,SAMPNO,BTLNBR,BTLNBR_FLAG_W,DATE,TIME,LATITUDE,LONGITUDE,DEPTH,CTDPRS,CTDPRS_FLAG_W,CTDTMP,CTDTMP_FLAG_W,CTDSAL,CTDSAL_FLAG_W,SALNTY,SALNTY_FLAG_W,CTDOXY,CTDOXY_FLAG_W,OXYGEN,OXYGEN_FLAG_W,SILCAT,SILCAT_FLAG_W,NITRAT,NITRAT_FLAG_W,NITRIT,NITRIT_FLAG_W,PHSPHT,PHSPHT_FLAG_W,CFC-11,CFC-11_FLAG_W,CFC-12,CFC-12_FLAG_W,CFC113,CFC113_FLAG_W,CCL4,CCL4_FLAG_W,TCARBN,TCARBN_FLAG_W,ALKALI,ALKALI_FLAG_W,PH_TOT,PH_TMP,DELC14,DELC14_FLAG_W,C14ERR,DELC13,DELC13_FLAG_W,C13ERR,THETA,SIG0,SBE35,SBE35_FLAG_W,PH_TOT_FLAG_W,SILUNC,NRAUNC,NRIUNC,PHPUNC,CS-137,CS-137_FLAG_W,CS137ER,PLUTO,PLUTO_FLAG_W,PLUTOER
,,,,,,,,,,,METERS,DBAR,,ITS-90,,PSS-78,,PSS-78,,UMOL/KG,,UMOL/KG,,UMOL/KG,,UMOL/KG,,UMOL/KG,,UMOL/KG,,PMOL/KG,,PMOL/KG,,PMOL/KG,,PMOL/KG,,UMOL/KG,,UMOL/KG,,,DEG C,/MILLE,,/MILLE,/MILLE,,/MILLE,DEG C,KG/M^3,ITS-90,,,UMOL/KG,UMOL/KG,UMOL/KG,UMOL/KG,DM/.1MG,,BQ/M^3,MBQ/M^3,,MBQ/M^3
49NZ20071122, P14N, 170, 1, 36, X12042, 2, 20071209, 0822, -8.5038, 178.7483, 4837,     10.2, 2,  29.4064, 2,  34.9152, 2,  34.9159, 2,    194.2, 2,    194.0, 2,     0.71, 2,     0.04, 2,     0.01, 2,     0.20, 2,    1.413, 2,    0.883, 2,    0.231, 4, -999.000, 9,   1942.8, 2,   2297.5, 2,    8.1396,     25.00,   -999.0, 9,   -999.0,  -999.00, 9,   -999.0,  29.4039, 21.8649,  29.4000, 2, 6, 0.12, 0.03, 0.01, 0.016,  -999.00, 9, -999.00, -999.00, 9, -999.00
49NZ20071122, P14N, 170, 1, 35, X12041, 2, 20071209, 0822, -8.5038, 178.7483, 4837,     50.5, 2,  29.3141, 2,  34.9468, 2,  34.9489, 2,    196.0, 2,    194.0, 2,     0.72, 2,     0.03, 2,     0.01, 2,     0.19, 2,    1.422, 2,    0.892, 2,    0.367, 4, -999.000, 9,   1944.1, 6,   2300.0, 2,    8.1408,     25.00,   -999.0, 9,   -999.0,  -999.00, 9,   -999.0,  29.3018, 21.9230,  29.3120, 2, 2, 0.12, 0.03, 0.01, 0.016,  -999.00, 9, -999.00, -999.00, 9, -999.00
49NZ20071122, P14N, 170, 1, 34, X12016, 2, 20071209, 0822, -8.5038, 178.7483, 4837,    100.8, 2,  28.8760, 2,  35.6178, 2,  35.6154, 2,    171.1, 2,    184.2, 2,     0.86, 2,     0.31, 2,     0.05, 2,     0.30, 2,    1.530, 2,    0.969, 2,    0.267, 4, -999.000, 9,   2005.3, 2,   2345.3, 6,    8.0975,     25.00,   -999.0, 9,   -999.0,  -999.00, 9,   -999.0,  28.8517, 22.5777,  28.8746, 2, 2, 0.12, 0.03, 0.01, 0.014,  -999.00, 9, -999.00, -999.00, 9, -999.00
49NZ20071122, P14N, 170, 1, 33, X12033, 2, 20071209, 0822, -8.5038, 178.7483, 4837,    152.0, 2,  25.2032, 2,  36.1962, 2,  36.2011, 2,    144.4, 2,    145.2, 2,     1.08, 2,     4.60, 2,     0.18, 2,     0.61, 2,    1.785, 6,    1.084, 6,    0.132, 4, -999.000, 9,   2093.5, 2,   2380.8, 2,    8.0009,     25.00,   -999.0, 9,   -999.0,  -999.00, 9,   -999.0,  25.1699, 24.1936,  25.2032, 2, 6, 0.12, 0.05, 0.01, 0.013,  -999.00, 9, -999.00, -999.00, 9, -999.00
49NZ20071122, P14N, 170, 1, 32, X12038, 2, 20071209, 0822, -8.5038, 178.7483, 4837,    199.9, 2,  22.2681, 2,  36.0210, 2,  35.9966, 2,    142.2, 2,    142.9, 2,     1.55, 2,     7.00, 2,     0.02, 2,     0.75, 2,    1.975, 2,    1.166, 2,    0.063, 2, -999.000, 9,   2117.7, 2,   2370.5, 2,    7.9423,     25.00,   -999.0, 9,   -999.0,  -999.00, 9,   -999.0,  22.2280, 24.9294,  22.2713, 2, 2, 0.12, 0.05, 0.01, 0.013,  -999.00, 9, -999.00, -999.00, 9, -999.00
49NZ20071122, P14N, 170, 1, 31, X12003, 2, 20071209, 0822, -8.5038, 178.7483, 4837,    251.1, 2,  17.6706, 2,  35.4542, 2,  35.4656, 6,    122.1, 2,    126.7, 2,     4.46, 2,    11.95, 2,     0.02, 2,     1.11, 2,    1.944, 2,    1.105, 2,    0.033, 2, -999.000, 9,   2141.9, 2,   2338.2, 2,    7.8402,     25.00,   -999.0, 9,   -999.0,  -999.00, 9,   -999.0,  17.6278, 25.7115,  17.6758, 2, 2, 0.13, 0.07, 0.01, 0.013,  -999.00, 9, -999.00, -999.00, 9, -999.00
49NZ20071122, P14N, 170, 1, 30, X12008, 2, 20071209, 0822, -8.5038, 178.7483, 4837,    331.4, 2,  12.2319, 2,  34.9114, 2,  34.9049, 2,     99.1, 2,     97.7, 2,    14.42, 2,    23.27, 2,     0.01, 2,     1.80, 2,    1.076, 2,    0.570, 2,    0.020, 2, -999.000, 9,   2188.9, 2,   2309.5, 2,    7.6728,     25.00,   -999.0, 9,   -999.0,  -999.00, 9,   -999.0,  12.1879, 26.4842,  12.2281, 2, 2, 0.15, 0.10, 0.01, 0.015,  -999.00, 9, -999.00, -999.00, 9, -999.00
49NZ20071122, P14N, 170, 1, 29, X12035, 2, 20071209, 0822, -8.5038, 178.7483, 4837,    430.8, 2,   8.9435, 2,  34.6712, 2,  34.6702, 2,    109.8, 2,    107.7, 2,    24.31, 2,    29.52, 2,     0.01, 2,     2.11, 2,    0.468, 2,    0.246, 2,    0.008, 2, -999.000, 9,   2203.5, 2,   2304.6, 2,    7.6112,     25.00,   -999.0, 9,   -999.0,  -999.00, 9,   -999.0,   8.8964, 26.8772,   8.9421, 2, 2, 0.17, 0.12, 0.01, 0.015,  -999.00, 9, -999.00, -999.00, 9, -999.00
49NZ20071122, P14N, 170, 1, 28, X12034, 2, 20071209, 0822, -8.5038, 178.7483, 4837,    530.0, 2,   7.6007, 2,  34.5887, 2,  34.5862, 6,    111.5, 2,    111.3, 2,    31.53, 2,    32.13, 2,     0.01, 2,     2.27, 2,    0.257, 2,    0.140, 2,    0.007, 2, -999.000, 9,   2220.2, 2,   2308.5, 2,    7.5856,     25.00,   -999.0, 9,   -999.0,  -999.00, 9,   -999.0,   7.5478, 27.0173,   7.6019, 2, 2, 0.19, 0.12, 0.01, 0.016,  -999.00, 9, -999.00, -999.00, 9, -999.00
49NZ20071122, P14N, 170, 1, 27, X12049, 2, 20071209, 0822, -8.5038, 178.7483, 4837,    629.1, 2,   6.8134, 2,  34.5531, 2,  34.5521, 2,    110.3, 2,    109.0, 2,    38.18, 2,    34.05, 2,     0.01, 2,     2.40, 2,    0.155, 2,    0.083, 2,    0.000, 2, -999.000, 9,   2233.4, 2,   2312.7, 2,    7.5659,     25.00,   -999.0, 9,   -999.0,  -999.00, 9,   -999.0,   6.7539, 27.1004,   6.8135, 2, 2, 0.20, 0.13, 0.01, 0.016,  -999.00, 9, -999.00, -999.00, 9, -999.00
49NZ20071122, P14N, 170, 1, 26, X12032, 2, 20071209, 0822, -8.5038, 178.7483, 4837,    730.6, 2,   5.9553, 2,  34.5277, 2,  34.5276, 2,    111.7, 2,    110.8, 2,    47.08, 2,    35.55, 2,     0.01, 2,     2.52, 2,    0.080, 6,    0.044, 6,    0.003, 6, -999.000, 9,   2244.6, 6,   2320.9, 2,    7.5535,     25.00,   -999.0, 9,   -999.0,  -999.00, 9,   -999.0,   5.8905, 27.1933,   5.9556, 2, 2, 0.22, 0.13, 0.01, 0.016,  -999.00, 9, -999.00, -999.00, 9, -999.00
49NZ20071122, P14N, 170, 1, 25, X12043, 2, 20071209, 0822, -8.5038, 178.7483, 4837,    828.9, 2,   5.3045, 2,  34.5238, 2,  34.5237, 2,    109.6, 2,    109.1, 2,    56.88, 2,    36.73, 2,     0.01, 2,     2.60, 2,    0.036, 2,    0.023, 2,    0.000, 2, -999.000, 9,   2259.1, 2,   2330.2, 6,    7.5427,     25.00,   -999.0, 9,   -999.0,  -999.00, 9,   -999.0,   5.2345, 27.2703,   5.3048, 2, 2, 0.24, 0.14, 0.01, 0.016,  -999.00, 9, -999.00, -999.00, 9, -999.00
49NZ20071122, P14N, 170, 1, 24, X12030, 2, 20071209, 0822, -8.5038, 178.7483, 4837,    931.7, 2,   4.8016, 2,  34.5273, 2,  34.5277, 2,    110.7, 2,    111.2, 2,    65.27, 2,    37.05, 2,     0.01, 2,     2.63, 2,    0.020, 2,    0.012, 2,    0.000, 2, -999.000, 9,   2266.8, 2,   2339.9, 2,    7.5410,     25.00,   -999.0, 9,   -999.0,  -999.00, 9,   -999.0,   4.7258, 27.3318,   4.8023, 2, 6, 0.26, 0.14, 0.01, 0.017,  -999.00, 9, -999.00, -999.00, 9, -999.00
49NZ20071122, P14N, 170, 1, 23, X12027, 2, 20071209, 0822, -8.5038, 178.7483, 4837,   1070.1, 2,   4.2149, 2,  34.5353, 2,  34.5357, 6,    122.3, 2,    121.6, 2,    74.54, 2,    36.62, 2,     0.01, 2,     2.60, 2,    0.015, 2,    0.008, 2,    0.000, 2, -999.000, 9,   2271.8, 2,   2350.1, 2,    7.5532,     25.00,   -999.0, 9,   -999.0,  -999.00, 9,   -999.0,   4.1316, 27.4028,   4.2139, 2, 2, 0.28, 0.14, 0.01, 0.016,  -999.00, 9, -999.00, -999.00, 9, -999.00
49NZ20071122, P14N, 170, 1, 22, X12028, 2, 20071209, 0822, -8.5038, 178.7483, 4837,   1271.2, 2,   3.5458, 2,  34.5593, 2,  34.5595, 2,    124.7, 2,    125.0, 2,    88.02, 2,    36.88, 2,     0.01, 2,     2.62, 2,    0.016, 2,    0.009, 2,    0.000, 2, -999.000, 9,   2285.3, 2,   2365.2, 2,    7.5555,     25.00,   -999.0, 9,   -999.0,  -999.00, 9,   -999.0,   3.4513, 27.4907,   3.5463, 2, 2, 0.31, 0.14, 0.01, 0.017,  -999.00, 9, -999.00, -999.00, 9, -999.00
49NZ20071122, P14N, 170, 1, 21, X12009, 2, 20071209, 0822, -8.5038, 178.7483, 4837,   1468.7, 2,   2.9622, 2,  34.5874, 2,  34.5881, 2,    129.9, 2,    129.7, 2,   100.75, 2,    36.96, 2,     0.01, 2,     2.62, 2,    0.011, 2,    0.005, 2,    0.000, 2, -999.000, 9,   2298.8, 2,   2379.9, 2,    7.5604,     25.00,   -999.0, 9,   -999.0,  -999.00, 9,   -999.0,   2.8574, 27.5687,   2.9619, 2, 2, 0.34, 0.14, 0.01, 0.017,  -999.00, 9, -999.00, -999.00, 9, -999.00
49NZ20071122, P14N, 170, 1, 20, X12026, 2, 20071209, 0822, -8.5038, 178.7483, 4837,   1670.3, 2,   2.6072, 2,  34.6103, 2,  34.6109, 2,    130.2, 2,    130.0, 2,   110.78, 2,    37.13, 2,     0.01, 2,     2.63, 2,    0.008, 2,    0.005, 2,    0.000, 2, -999.000, 9,   2309.3, 2,   2389.5, 2,    7.5607,     25.00,   -999.0, 9,   -999.0,  -999.00, 9,   -999.0,   2.4899, 27.6192,   2.6071, 2, 6, 0.36, 0.14, 0.01, 0.017,  -999.00, 9, -999.00, -999.00, 9, -999.00
49NZ20071122, P14N, 170, 1, 19, X12025, 2, 20071209, 0822, -8.5038, 178.7483, 4837,   1869.7, 2,   2.3410, 2,  34.6276, 2,  34.6278, 2,    132.6, 2,    132.4, 2,   117.79, 2,    37.00, 2,     0.01, 2,     2.62, 2,    0.008, 2,    0.005, 2,    0.000, 2, -999.000, 9,   2317.2, 2,   2397.0, 2,    7.5658,     25.00,   -999.0, 9,   -999.0,  -999.00, 9,   -999.0,   2.2105, 27.6564,   2.3409, 2, 2, 0.38, 0.14, 0.01, 0.017,  -999.00, 9, -999.00, -999.00, 9, -999.00
49NZ20071122, P14N, 170, 1, 18, X12024, 2, 20071209, 0822, -8.5038, 178.7483, 4837,   2070.1, 2,   2.1645, 2,  34.6403, 2,  34.6405, 2,    134.2, 2,    134.3, 2,   122.95, 2,    37.03, 2,     0.01, 2,     2.62, 2,    0.007, 2,    0.005, 2,    0.000, 2, -999.000, 9,   2321.4, 2,   2403.1, 2,    7.5681,     25.00,   -999.0, 9,   -999.0,  -999.00, 9,   -999.0,   2.0195, 27.6820,   2.1647, 2, 2, 0.39, 0.14, 0.01, 0.017,  -999.00, 9, -999.00, -999.00, 9, -999.00
49NZ20071122, P14N, 170, 1, 17, X12023, 2, 20071209, 0822, -8.5038, 178.7483, 4837,   2271.1, 2,   2.0132, 2,  34.6508, 2,  34.6510, 6,    136.6, 2,    136.6, 2,   126.97, 2,    37.04, 2,     0.01, 2,     2.60, 2, -999.000, 9, -999.000, 9, -999.000, 9, -999.000, 9,   2323.7, 2,   2408.3, 2,    7.5727,     25.00,   -999.0, 9,   -999.0,  -999.00, 9,   -999.0,   1.8532, 27.7034,   2.0134, 2, 2, 0.40, 0.14, 0.01, 0.016,  -999.00, 9, -999.00, -999.00, 9, -999.00
49NZ20071122, P14N, 170, 1, 16, X12022, 2, 20071209, 0822, -8.5038, 178.7483, 4837,   2471.6, 2,   1.9027, 2,  34.6591, 2,  34.6591, 2,    137.2, 2,    137.4, 2,   130.99, 2,    36.89, 2,     0.01, 2,     2.60, 2,    0.003, 2,    0.003, 2,    0.000, 2, -999.000, 9,   2326.1, 6,   2411.6, 2,    7.5744,     25.00,   -999.0, 9,   -999.0,  -999.00, 9,   -999.0,   1.7268, 27.7198,   1.9028, 2, 2, 0.41, 0.14, 0.01, 0.016,  -999.00, 9, -999.00, -999.00, 9, -999.00
49NZ20071122, P14N, 170, 1, 15, X12021, 2, 20071209, 0822, -8.5038, 178.7483, 4837,   2671.0, 2,   1.7922, 2,  34.6664, 2,  34.6667, 2,    141.4, 2,    141.0, 2,   133.27, 2,    36.69, 2,     0.01, 2,     2.58, 2, -999.000, 9, -999.000, 9, -999.000, 9, -999.000, 9,   2326.3, 2,   2414.2, 6,    7.5794,     25.00,   -999.0, 9,   -999.0,  -999.00, 9,   -999.0,   1.6002, 27.7351,   1.7925, 2, 2, 0.41, 0.14, 0.01, 0.016,  -999.00, 9, -999.00, -999.00, 9, -999.00
49NZ20071122, P14N, 170, 1, 14, X12020, 2, 20071209, 0822, -8.5038, 178.7483, 4837,   2870.7, 2,   1.7140, 2,  34.6722, 2,  34.6724, 2,    144.8, 2,    144.6, 2,   134.23, 2,    36.57, 2,     0.01, 2,     2.57, 2, -999.000, 9, -999.000, 9, -999.000, 9, -999.000, 9,   2325.2, 2,   2415.8, 2,    7.5854,     25.00,   -999.0, 9,   -999.0,  -999.00, 9,   -999.0,   1.5049, 27.7467,   1.7140, 2, 6, 0.41, 0.14, 0.01, 0.016,  -999.00, 9, -999.00, -999.00, 9, -999.00
49NZ20071122, P14N, 170, 1, 13, X12019, 2, 20071209, 0822, -8.5038, 178.7483, 4837,   3081.2, 2,   1.6407, 2,  34.6766, 2,  34.6764, 2,    148.6, 2,    148.4, 2,   134.89, 2,    36.32, 2,     0.01, 2,     2.54, 2,    0.000, 2,    0.000, 2,    0.000, 2, -999.000, 9,   2326.5, 2,   2414.8, 2,    7.5898,     25.00,   -999.0, 9,   -999.0,  -999.00, 9,   -999.0,   1.4130, 27.7570,   1.6408, 2, 2, 0.42, 0.13, 0.01, 0.016,  -999.00, 9, -999.00, -999.00, 9, -999.00
49NZ20071122, P14N, 170, 1, 12, X12040, 2, 20071209, 0822, -8.5038, 178.7483, 4837,   3330.7, 2,   1.5825, 2,  34.6803, 2,  34.6801, 2,    151.6, 2,    152.1, 2,   134.93, 2,    35.77, 2,     0.01, 2,     2.52, 2, -999.000, 9, -999.000, 9, -999.000, 9, -999.000, 9,   2323.1, 2,   2413.7, 2,    7.5936,     25.00,   -999.0, 9,   -999.0,  -999.00, 9,   -999.0,   1.3315, 27.7657,   1.5826, 2, 2, 0.42, 0.13, 0.01, 0.016,  -999.00, 9, -999.00, -999.00, 9, -999.00
49NZ20071122, P14N, 170, 1, 11, X12047, 2, 20071209, 0822, -8.5038, 178.7483, 4837,   3580.5, 2,   1.5239, 2,  34.6846, 2,  34.6850, 2,    157.9, 2,    158.0, 2,   134.04, 2,    35.56, 2,     0.01, 2,     2.49, 2, -999.000, 9, -999.000, 9, -999.000, 9, -999.000, 9,   2318.3, 2,   2411.5, 2,    7.5986,     25.00,   -999.0, 9,   -999.0,  -999.00, 9,   -999.0,   1.2489, 27.7750,   1.5239, 2, 2, 0.41, 0.13, 0.01, 0.016,  -999.00, 9, -999.00, -999.00, 9, -999.00
49NZ20071122, P14N, 170, 1, 10, X12012, 2, 20071209, 0822, -8.5038, 178.7483, 4837,   3831.0, 2,   1.4480, 2,  34.6910, 2,  34.6908, 2,    167.1, 2,    167.0, 2,   130.52, 2,    34.88, 2,     0.01, 2,     2.44, 2,    0.005, 2,    0.002, 2,    0.000, 2, -999.000, 9,   2305.7, 2,   2404.5, 2,    7.6056,     25.00,   -999.0, 9,   -999.0,  -999.00, 9,   -999.0,   1.1487, 27.7870,   1.4481, 2, 2, 0.41, 0.13, 0.01, 0.016,  -999.00, 9, -999.00, -999.00, 9, -999.00
49NZ20071122, P14N, 170, 1, 9, X12015, 2, 20071209, 0822, -8.5038, 178.7483, 4837,   4080.2, 2,   1.3476, 2,  34.6988, 2,  34.6990, 6,    180.0, 2,    180.6, 2,   124.00, 2,    33.86, 2,     0.01, 2,     2.37, 2, -999.000, 9, -999.000, 9, -999.000, 9, -999.000, 9,   2291.3, 2,   2391.0, 2,    7.6138,     25.00,   -999.0, 9,   -999.0,  -999.00, 9,   -999.0,   1.0242, 27.8017,   1.3476, 2, 2, 0.39, 0.13, 0.01, 0.016,  -999.00, 9, -999.00, -999.00, 9, -999.00
49NZ20071122, P14N, 170, 1, 8, X12046, 2, 20071209, 0822, -8.5038, 178.7483, 4837,   4330.5, 2,   1.2847, 2,  34.7036, 2,  34.7040, 2,    188.8, 2,    188.9, 2,   120.53, 2,    33.32, 2,     0.01, 2,     2.32, 2,    0.023, 2,    0.014, 2,    0.000, 2, -999.000, 9,   2280.6, 6,   2383.4, 2,    7.6180,     25.00,   -999.0, 9,   -999.0,  -999.00, 9,   -999.0,   0.9355, 27.8114,   1.2847, 2, 2, 0.38, 0.13, 0.01, 0.016,  -999.00, 9, -999.00, -999.00, 9, -999.00
49NZ20071122, P14N, 170, 1, 7, X12044, 2, 20071209, 0822, -8.5038, 178.7483, 4837,   4580.1, 2,   1.2692, 2,  34.7055, 2,  34.7061, 2,    192.2, 2,    192.4, 2,   119.44, 2,    32.99, 2,     0.01, 2,     2.30, 2,    0.022, 2,    0.012, 2,    0.000, 2, -999.000, 9,   2276.8, 2,   2380.1, 6,    7.6202,     25.00,   -999.0, 9,   -999.0,  -999.00, 9,   -999.0,   0.8921, 27.8158,   1.2692, 2, 2, 0.38, 0.13, 0.01, 0.016,  -999.00, 9, -999.00, -999.00, 9, -999.00
49NZ20071122, P14N, 170, 1, 6, X12048, 2, 20071209, 0822, -8.5038, 178.7483, 4837,   4830.0, 2,   1.2651, 2,  34.7063, 2,  34.7071, 2,    194.5, 2,    194.4, 2,   119.18, 2,    32.85, 2,     0.01, 2,     2.29, 2,    0.026, 2,    0.014, 2,    0.000, 2, -999.000, 9,   2276.7, 2,   2378.6, 2,    7.6221,     25.00,   -999.0, 9,   -999.0,  -999.00, 9,   -999.0,   0.8590, 27.8186,   1.2652, 2, 2, 0.38, 0.12, 0.01, 0.016,  -999.00, 9, -999.00, -999.00, 9, -999.00
49NZ20071122, P14N, 170, 1, 5, X12014, 9, 20071209, 0822, -8.5038, 178.7483, 4837,     10.2, 2,  29.3993, 2,  34.9148, 2, -999.0000, 9,    194.2, 2,   -999.0, 9,  -999.00, 9,  -999.00, 9,  -999.00, 9,  -999.00, 9, -999.000, 9, -999.000, 9, -999.000, 9, -999.000, 9,   -999.0, 9,   -999.0, 9, -999.0000,   -999.00,   -999.0, 9,   -999.0,  -999.00, 9,   -999.0,  29.3968, 21.8670,  29.3982, 2, 9, -999.00, -999.00, -999.00, -999.000,  -999.00, 9, -999.00, -999.00, 9, -999.00
49NZ20071122, P14N, 170, 1, 4, X12006, 9, 20071209, 0822, -8.5038, 178.7483, 4837,     50.2, 2,  29.3178, 2,  34.9482, 2, -999.0000, 9,    196.1, 2,   -999.0, 9,  -999.00, 9,  -999.00, 9,  -999.00, 9,  -999.00, 9, -999.000, 9, -999.000, 9, -999.000, 9, -999.000, 9,   -999.0, 9,   -999.0, 9, -999.0000,   -999.00,   -999.0, 9,   -999.0,  -999.00, 9,   -999.0,  29.3056, 21.9228,  29.3189, 2, 9, -999.00, -999.00, -999.00, -999.000,  -999.00, 9, -999.00, -999.00, 9, -999.00
49NZ20071122, P14N, 170, 1, 3, X12013, 9, 20071209, 0822, -8.5038, 178.7483, 4837,    100.3, 2,  28.8271, 2,  35.6292, 2, -999.0000, 9,    172.1, 2,   -999.0, 9,  -999.00, 9,  -999.00, 9,  -999.00, 9,  -999.00, 9, -999.000, 9, -999.000, 9, -999.000, 9, -999.000, 9,   -999.0, 9,   -999.0, 9, -999.0000,   -999.00,   -999.0, 9,   -999.0,  -999.00, 9,   -999.0,  28.8029, 22.6025,  28.8250, 2, 9, -999.00, -999.00, -999.00, -999.000,  -999.00, 9, -999.00, -999.00, 9, -999.00
49NZ20071122, P14N, 170, 1, 2, X12002, 9, 20071209, 0822, -8.5038, 178.7483, 4837,    150.8, 2,  25.2664, 2,  36.1906, 2, -999.0000, 9,    144.0, 2,   -999.0, 9,  -999.00, 9,  -999.00, 9,  -999.00, 9,  -999.00, 9, -999.000, 9, -999.000, 9, -999.000, 9, -999.000, 9,   -999.0, 9,   -999.0, 9, -999.0000,   -999.00,   -999.0, 9,   -999.0,  -999.00, 9,   -999.0,  25.2333, 24.1698,  25.2652, 2, 9, -999.00, -999.00, -999.00, -999.000,  -999.00, 9, -999.00, -999.00, 9, -999.00
49NZ20071122, P14N, 170, 1, 1, X12001, 2, 20071209, 0822, -8.5038, 178.7483, 4837,   4902.4, 2,   1.2643, 2,  34.7064, 2,  34.7070, 6,    194.7, 2,    194.7, 2,   119.19, 2,    32.93, 2,     0.01, 2,     2.30, 2,    0.020, 2,    0.014, 2,    0.000, 2, -999.000, 9,   2275.0, 2,   2379.7, 2,    7.6232,     25.00,   -999.0, 9,   -999.0,  -999.00, 9,   -999.0,   0.8496, 27.8193,   1.2643, 2, 2, 0.38, 0.12, 0.01, 0.016,  -999.00, 9, -999.00, -999.00, 9, -999.00