BOTTLE,20220820CCHSIOAMB
EXPOCODE,SECT_ID,STNNBR,CASTNO,SAMPNO,BTLNBR,BTLNBR_FLAG_W,DATE,TIME,LATITUDE,LONGITUDE,DEPTH,CTDPRS,CTDPRS_FLAG_W,CTDTMP,CTDTMP_FLAG_W,CTDSAL,CTDSAL_FLAG_W,SALNTY,SALNTY_FLAG_W,CTDOXY,CTDOXY_FLAG_W,OXYGEN,OXYGEN_FLAG_W,SILCAT,SILCAT_FLAG_W,NITRAT,NITRAT_FLAG_W,NITRIT,NITRIT_FLAG_W,PHSPHT,PHSPHT_FLAG_W,CFC-11,CFC-11_FLAG_W,CFC-12,CFC-12_FLAG_W,CFC113,CFC113_FLAG_W,CCL4,CCL4_FLAG_W,TCARBN,TCARBN_FLAG_W,ALKALI,ALKALI_FLAG_W,PH_TOT,PH_TMP,DELC14,DELC14_FLAG_W,C14ERR,DELC13,DELC13_FLAG_W,C13ERR,THETA,SIG0,SBE35,SBE35_FLAG_W,PH_TOT_FLAG_W,SILUNC,NRAUNC,NRIUNC,PHPUNC,CS-137,CS-137_FLAG_W,CS137ER,PLUTO,PLUTO_FLAG_W,PLUTOER
,,,,,,,,,,,METERS,DBAR,,ITS-90,,PSS-78,,PSS-78,,UMOL/KG,,UMOL/KG,,UMOL/KG,,UMOL/KG,,UMOL/KG,,UMOL/KG,,PMOL/KG,,PMOL/KG,,PMOL/KG,,PMOL/KG,,UMOL/KG,,UMOL/KG,,,DEG C,/MILLE,,/MILLE,/MILLE,,/MILLE,DEG C,KG/M^3,ITS-90,,,UMOL/KG,UMOL/KG,UMOL/KG,UMOL/KG,DM/.1MG,,BQ/M^3,MBQ/M^3,,MBQ/M^3
49NZ20071122, P14, 24, 1, 36, X12042, 2, 20071218, 1912, -26.9792, 176.5268, 4399,      9.7, 2,  23.9931, 2,  35.4583, 2,  35.4592, 2,    212.8, 2,    213.2, 2,     0.73, 2,     0.05, 2,     0.00, 2,     0.06, 2,    1.834, 2,    1.106, 2,    0.280, 4, -999.000, 9,   -999.0, 9,   -999.0, 9, -999.0000,   -999.00,   -999.0, 9,   -999.0,  -999.00, 9,   -999.0,  23.9911, 23.9910,  23.9902, 2, 9, 0.12, 0.03, 0.01, 0.030,  -999.00, 9, -999.00, -999.00, 9, -999.00
49NZ20071122, P14, 24, 1, 35, X12041, 2, 20071218, 1912, -26.9792, 176.5268, 4399,     50.3, 2,  20.8935, 2,  35.7932, 2,  35.7921, 2,    224.0, 2,    225.0, 2,     0.70, 2,     0.04, 2,     0.00, 2,     0.09, 2,    2.092, 2,    1.243, 2,    0.371, 4, -999.000, 9,   -999.0, 9,   -999.0, 9, -999.0000,   -999.00,   -999.0, 9,   -999.0,  -999.00, 9,   -999.0,  20.8839, 25.1296,  20.8951, 2, 9, 0.12, 0.03, 0.01, 0.023,  -999.00, 9, -999.00, -999.00, 9, -999.00
49NZ20071122, P14, 24, 1, 34, X12016, 2, 20071218, 1912, -26.9792, 176.5268, 4399,     99.9, 2,  19.3590, 2,  35.7061, 2,  35.7064, 2,    201.4, 2,    200.3, 2,     0.86, 2,     2.23, 2,     0.03, 2,     0.26, 2,    2.221, 2,    1.294, 2,    0.181, 4, -999.000, 9,   -999.0, 9,   -999.0, 9, -999.0000,   -999.00,   -999.0, 9,   -999.0,  -999.00, 9,   -999.0,  19.3409, 25.4731,  19.3611, 2, 9, 0.12, 0.04, 0.01, 0.015,  -999.00, 9, -999.00, -999.00, 9, -999.00
49NZ20071122, P14, 24, 1, 33, X12033, 2, 20071218, 1912, -26.9792, 176.5268, 4399,    150.5, 2,  18.4122, 2,  35.7173, 2,  35.7167, 2,    210.3, 2,    208.5, 2,     1.03, 2,     2.69, 2,     0.01, 2,     0.29, 2,    2.293, 6,    1.328, 6,    0.146, 4, -999.000, 9,   -999.0, 9,   -999.0, 9, -999.0000,   -999.00,   -999.0, 9,   -999.0,  -999.00, 9,   -999.0,  18.3858, 25.7254,  18.4124, 2, 9, 0.12, 0.04, 0.01, 0.014,  -999.00, 9, -999.00, -999.00, 9, -999.00
49NZ20071122, P14, 24, 1, 32, X12038, 2, 20071218, 1912, -26.9792, 176.5268, 4399,    199.9, 2,  17.6264, 2,  35.6472, 2,  35.6404, 2,    206.3, 2,    203.2, 2,     1.33, 2,     4.17, 2,     0.01, 2,     0.39, 2,    2.351, 2,    1.343, 2,    0.105, 2, -999.000, 9,   -999.0, 9,   -999.0, 9, -999.0000,   -999.00,   -999.0, 9,   -999.0,  -999.00, 9,   -999.0,  17.5924, 25.8681,  17.6262, 2, 9, 0.12, 0.04, 0.01, 0.013,  -999.00, 9, -999.00, -999.00, 9, -999.00
49NZ20071122, P14, 24, 1, 31, X12003, 2, 20071218, 1912, -26.9792, 176.5268, 4399,    249.7, 2,  16.6042, 2,  35.5264, 2,  35.5249, 6,    194.7, 2,    194.5, 2,     1.87, 2,     6.25, 2,     0.00, 2,     0.53, 2,    2.397, 2,    1.336, 2,    0.066, 2, -999.000, 9,   -999.0, 9,   -999.0, 9, -999.0000,   -999.00,   -999.0, 9,   -999.0,  -999.00, 9,   -999.0,  16.5634, 26.0218,  16.6057, 2, 9, 0.12, 0.05, 0.01, 0.013,  -999.00, 9, -999.00, -999.00, 9, -999.00
49NZ20071122, P14, 24, 1, 30, X12008, 2, 20071218, 1912, -26.9792, 176.5268, 4399,    301.0, 2,  15.3797, 2,  35.3928, 2,  35.3930, 2,    193.6, 2,    193.8, 2,     2.47, 2,     7.97, 2,     0.00, 2,     0.64, 2,    2.449, 2,    1.348, 2,    0.046, 2, -999.000, 9,   -999.0, 9,   -999.0, 9, -999.0000,   -999.00,   -999.0, 9,   -999.0,  -999.00, 9,   -999.0,  15.3330, 26.2010,  15.3807, 2, 9, 0.12, 0.06, 0.01, 0.013,  -999.00, 9, -999.00, -999.00, 9, -999.00
49NZ20071122, P14, 24, 1, 29, X12035, 2, 20071218, 1912, -26.9792, 176.5268, 4399,    400.3, 2,  13.5218, 2,  35.1914, 2,  35.1865, 2,    194.7, 2,    195.4, 2,     3.65, 2,    11.13, 2,     0.00, 2,     0.85, 2,    2.507, 2,    1.352, 2,    0.063, 2, -999.000, 9,   -999.0, 9,   -999.0, 9, -999.0000,   -999.00,   -999.0, 9,   -999.0,  -999.00, 9,   -999.0,  13.4648, 26.4466,  13.5206, 2, 9, 0.13, 0.06, 0.01, 0.013,  -999.00, 9, -999.00, -999.00, 9, -999.00
49NZ20071122, P14, 24, 1, 28, X12034, 2, 20071218, 1912, -26.9792, 176.5268, 4399,    499.5, 2,  11.3506, 2,  34.9333, 2,  34.9262, 6,    197.6, 2,    198.2, 2,     5.54, 2,    15.27, 2,     0.00, 2,     1.11, 2,    2.502, 2,    1.316, 2,    0.077, 2, -999.000, 9,   -999.0, 9,   -999.0, 9, -999.0000,   -999.00,   -999.0, 9,   -999.0,  -999.00, 9,   -999.0,  11.2870, 26.6712,  11.3507, 2, 9, 0.13, 0.08, 0.01, 0.013,  -999.00, 9, -999.00, -999.00, 9, -999.00
49NZ20071122, P14, 24, 1, 27, X12049, 2, 20071218, 1912, -26.9792, 176.5268, 4399,    600.6, 2,   8.9838, 2,  34.6356, 2,  34.6351, 2,    206.0, 2,    206.3, 2,     7.68, 2,    19.71, 2,     0.00, 2,     1.40, 2,    2.320, 2,    1.160, 2,    0.078, 2, -999.000, 9,   -999.0, 9,   -999.0, 9, -999.0000,   -999.00,   -999.0, 9,   -999.0,  -999.00, 9,   -999.0,   8.9174, 26.8460,   8.9849, 2, 9, 0.14, 0.09, 0.01, 0.014,  -999.00, 9, -999.00, -999.00, 9, -999.00
49NZ20071122, P14, 24, 1, 26, X12032, 2, 20071218, 1912, -26.9792, 176.5268, 4399,    699.5, 2,   7.3954, 2,  34.4609, 2,  34.4606, 2,    215.4, 2,    216.3, 2,     9.85, 2,    22.76, 2,     0.00, 2,     1.60, 2,    1.964, 2,    0.951, 2,    0.067, 2, -999.000, 9,   -999.0, 9,   -999.0, 9, -999.0000,   -999.00,   -999.0, 9,   -999.0,  -999.00, 9,   -999.0,   7.3260, 26.9485,   7.3961, 2, 9, 0.14, 0.10, 0.01, 0.014,  -999.00, 9, -999.00, -999.00, 9, -999.00
49NZ20071122, P14, 24, 1, 25, X12043, 2, 20071218, 1912, -26.9792, 176.5268, 4399,    801.6, 2,   6.4902, 2,  34.3974, 2,  34.3966, 2,    214.5, 2,    214.9, 2,    14.10, 2,    25.27, 2,     0.00, 2,     1.76, 2,    1.377, 2,    0.662, 2,    0.031, 2, -999.000, 9,   -999.0, 9,   -999.0, 9, -999.0000,   -999.00,   -999.0, 9,   -999.0,  -999.00, 9,   -999.0,   6.4157, 27.0228,   6.4906, 2, 9, 0.15, 0.10, 0.01, 0.015,  -999.00, 9, -999.00, -999.00, 9, -999.00
49NZ20071122, P14, 24, 1, 24, X12030, 2, 20071218, 1912, -26.9792, 176.5268, 4399,    901.8, 2,   5.7791, 2,  34.3757, 2,  34.3747, 2,    204.8, 2,    207.2, 2,    20.73, 2,    27.38, 2,     0.00, 2,     1.91, 2,    0.885, 2,    0.435, 2,    0.025, 2, -999.000, 9,   -999.0, 9,   -999.0, 9, -999.0000,   -999.00,   -999.0, 9,   -999.0,  -999.00, 9,   -999.0,   5.6995, 27.0969,   5.7793, 2, 9, 0.16, 0.11, 0.01, 0.015,  -999.00, 9, -999.00, -999.00, 9, -999.00
49NZ20071122, P14, 24, 1, 23, X12027, 2, 20071218, 1912, -26.9792, 176.5268, 4399,   1000.3, 2,   5.0648, 2,  34.3785, 2,  34.3789, 6,    194.0, 2,    195.3, 2,    30.57, 2,    29.81, 2,     0.00, 2,     2.08, 2,    0.492, 2,    0.241, 2,    0.015, 2, -999.000, 9,   -999.0, 9,   -999.0, 9, -999.0000,   -999.00,   -999.0, 9,   -999.0,  -999.00, 9,   -999.0,   4.9812, 27.1847,   5.0649, 2, 9, 0.19, 0.12, 0.01, 0.015,  -999.00, 9, -999.00, -999.00, 9, -999.00
49NZ20071122, P14, 24, 1, 22, X12028, 2, 20071218, 1912, -26.9792, 176.5268, 4399,   1201.2, 2,   3.8601, 2,  34.4654, 2,  34.4674, 2,    173.9, 2,    173.0, 2,    59.11, 2,    32.89, 2,    -0.01, 2,     2.31, 2,    0.136, 2,    0.071, 2,    0.009, 2, -999.000, 9,   -999.0, 9,   -999.0, 9, -999.0000,   -999.00,   -999.0, 9,   -999.0,  -999.00, 9,   -999.0,   3.7688, 27.3845,   3.8613, 2, 9, 0.25, 0.12, 0.01, 0.016,  -999.00, 9, -999.00, -999.00, 9, -999.00
49NZ20071122, P14, 24, 1, 21, X12009, 2, 20071218, 1912, -26.9792, 176.5268, 4399,   1399.7, 2,   3.0833, 2,  34.5460, 2,  34.5465, 2,    161.1, 2,    160.3, 2,    82.93, 2,    34.24, 2,     0.00, 2,     2.42, 2,    0.035, 2,    0.016, 2,    0.000, 2, -999.000, 9,   -999.0, 9,   -999.0, 9, -999.0000,   -999.00,   -999.0, 9,   -999.0,  -999.00, 9,   -999.0,   2.9829, 27.5242,   3.0831, 2, 9, 0.30, 0.13, 0.01, 0.016,  -999.00, 9, -999.00, -999.00, 9, -999.00
49NZ20071122, P14, 24, 1, 20, X12026, 2, 20071218, 1912, -26.9792, 176.5268, 4399,   1600.4, 2,   2.6656, 2,  34.5968, 2,  34.5972, 2,    154.9, 2,    154.5, 2,    97.88, 2,    34.91, 2,     0.00, 2,     2.47, 2,    0.010, 2,    0.006, 2,    0.000, 2, -999.000, 9,   -999.0, 9,   -999.0, 9, -999.0000,   -999.00,   -999.0, 9,   -999.0,  -999.00, 9,   -999.0,   2.5534, 27.6029,   2.6651, 2, 9, 0.33, 0.13, 0.01, 0.016,  -999.00, 9, -999.00, -999.00, 9, -999.00
49NZ20071122, P14, 24, 1, 19, X12025, 2, 20071218, 1912, -26.9792, 176.5268, 4399,   1800.1, 2,   2.4200, 2,  34.6215, 2,  34.6210, 2,    152.8, 2,    152.7, 2,   105.37, 2,    35.09, 2,     0.00, 2,     2.48, 2,    0.006, 2,    0.001, 2,    0.000, 2, -999.000, 9,   -999.0, 9,   -999.0, 9, -999.0000,   -999.00,   -999.0, 9,   -999.0,  -999.00, 9,   -999.0,   2.2943, 27.6446,   2.4193, 2, 9, 0.35, 0.13, 0.01, 0.016,  -999.00, 9, -999.00, -999.00, 9, -999.00
49NZ20071122, P14, 24, 1, 18, X12024, 2, 20071218, 1912, -26.9792, 176.5268, 4399,   2001.3, 2,   2.2103, 2,  34.6416, 2,  34.6408, 2,    152.1, 2,    152.1, 2,   111.45, 2,    35.21, 2,     0.00, 2,     2.49, 2, -999.000, 9, -999.000, 9, -999.000, 9, -999.000, 9,   -999.0, 9,   -999.0, 9, -999.0000,   -999.00,   -999.0, 9,   -999.0,  -999.00, 9,   -999.0,   2.0705, 27.6789,   2.2111, 2, 9, 0.36, 0.13, 0.01, 0.016,  -999.00, 9, -999.00, -999.00, 9, -999.00
49NZ20071122, P14, 24, 1, 17, X12023, 2, 20071218, 1912, -26.9792, 176.5268, 4399,   2201.2, 2,   2.0847, 2,  34.6535, 2,  34.6534, 6,    152.0, 2,    152.4, 2,   115.04, 2,    35.34, 2,     0.00, 2,     2.50, 2,    0.001, 2,    0.000, 2,    0.000, 2, -999.000, 9,   -999.0, 9,   -999.0, 9, -999.0000,   -999.00,   -999.0, 9,   -999.0,  -999.00, 9,   -999.0,   1.9296, 27.6997,   2.0851, 2, 9, 0.37, 0.13, 0.01, 0.016,  -999.00, 9, -999.00, -999.00, 9, -999.00
49NZ20071122, P14, 24, 1, 16, X12022, 2, 20071218, 1912, -26.9792, 176.5268, 4399,   2400.3, 2,   2.0019, 2,  34.6618, 2,  34.6615, 2,    152.6, 2,    152.9, 2,   117.23, 2,    35.32, 2,    -0.01, 2,     2.50, 2, -999.000, 9, -999.000, 9, -999.000, 9, -999.000, 9,   -999.0, 9,   -999.0, 9, -999.0000,   -999.00,   -999.0, 9,   -999.0,  -999.00, 9,   -999.0,   1.8306, 27.7140,   2.0021, 2, 9, 0.38, 0.13, 0.01, 0.016,  -999.00, 9, -999.00, -999.00, 9, -999.00
49NZ20071122, P14, 24, 1, 15, X12021, 2, 20071218, 1912, -26.9792, 176.5268, 4399,   2599.7, 2,   1.9221, 2,  34.6696, 2,  34.6695, 2,    153.4, 2,    153.8, 2,   119.20, 2,    35.27, 2,     0.00, 2,     2.49, 2,    0.000, 2,    0.000, 2,    0.000, 2, -999.000, 9,   -999.0, 9,   -999.0, 9, -999.0000,   -999.00,   -999.0, 9,   -999.0,  -999.00, 9,   -999.0,   1.7341, 27.7276,   1.9222, 2, 9, 0.38, 0.13, 0.01, 0.016,  -999.00, 9, -999.00, -999.00, 9, -999.00
49NZ20071122, P14, 24, 1, 14, X12020, 2, 20071218, 1912, -26.9792, 176.5268, 4399,   2800.1, 2,   1.8829, 2,  34.6739, 2,  34.6737, 2,    153.9, 2,    154.3, 2,   120.51, 2,    35.24, 2,    -0.01, 2,     2.49, 2, -999.000, 9, -999.000, 9, -999.000, 9, -999.000, 9,   -999.0, 9,   -999.0, 9, -999.0000,   -999.00,   -999.0, 9,   -999.0,  -999.00, 9,   -999.0,   1.6769, 27.7354,   1.8829, 2, 9, 0.38, 0.13, 0.01, 0.016,  -999.00, 9, -999.00, -999.00, 9, -999.00
49NZ20071122, P14, 24, 1, 13, X12019, 2, 20071218, 1912, -26.9792, 176.5268, 4399,   2998.9, 2,   1.8508, 2,  34.6774, 2,  34.6772, 2,    154.5, 2,    154.8, 2,   121.55, 2,    35.25, 2,     0.00, 2,     2.49, 2,    0.000, 2,    0.000, 2,    0.000, 2, -999.000, 9,   -999.0, 9,   -999.0, 9, -999.0000,   -999.00,   -999.0, 9,   -999.0,  -999.00, 9,   -999.0,   1.6264, 27.7420,   1.8508, 2, 9, 0.39, 0.13, 0.01, 0.016,  -999.00, 9, -999.00, -999.00, 9, -999.00
49NZ20071122, P14, 24, 1, 12, X12040, 2, 20071218, 1912, -26.9792, 176.5268, 4399,   3251.7, 2,   1.8349, 2,  34.6801, 2,  34.6799, 2,    155.0, 2,    155.2, 2,   122.30, 2,    35.13, 2,     0.00, 2,     2.48, 2, -999.000, 9, -999.000, 9, -999.000, 9, -999.000, 9,   -999.0, 9,   -999.0, 9, -999.0000,   -999.00,   -999.0, 9,   -999.0,  -999.00, 9,   -999.0,   1.5858, 27.7471,   1.8347, 2, 9, 0.39, 0.13, 0.01, 0.016,  -999.00, 9, -999.00, -999.00, 9, -999.00
49NZ20071122, P14, 24, 1, 11, X12047, 2, 20071218, 1912, -26.9792, 176.5268, 4399,   3503.1, 2,   1.8382, 2,  34.6816, 2,  34.6814, 2,    155.1, 2,    155.5, 2,   123.02, 2,    35.25, 2,     0.00, 2,     2.49, 2,    0.003, 2,    0.000, 2,    0.000, 2, -999.000, 9,   -999.0, 9,   -999.0, 9, -999.0000,   -999.00,   -999.0, 9,   -999.0,  -999.00, 9,   -999.0,   1.5632, 27.7500,   1.8381, 2, 9, 0.39, 0.13, 0.01, 0.016,  -999.00, 9, -999.00, -999.00, 9, -999.00
49NZ20071122, P14, 24, 1, 10, X12012, 2, 20071218, 1912, -26.9792, 176.5268, 4399,   3750.7, 2,   1.8501, 2,  34.6822, 2,  34.6821, 2,    155.4, 2,    155.7, 2,   123.40, 2,    35.25, 2,     0.00, 2,     2.49, 2, -999.000, 9, -999.000, 9, -999.000, 9, -999.000, 9,   -999.0, 9,   -999.0, 9, -999.0000,   -999.00,   -999.0, 9,   -999.0,  -999.00, 9,   -999.0,   1.5486, 27.7516,   1.8500, 2, 9, 0.39, 0.13, 0.01, 0.016,  -999.00, 9, -999.00, -999.00, 9, -999.00
49NZ20071122, P14, 24, 1, 9, X12015, 2, 20071218, 1912, -26.9792, 176.5268, 4399,   3999.3, 2,   1.8676, 2,  34.6827, 2,  34.6829, 6,    155.8, 2,    155.8, 2,   123.69, 2,    35.20, 2,     0.00, 2,     2.48, 2,    0.001, 2,    0.000, 2,    0.000, 2, -999.000, 9,   -999.0, 9,   -999.0, 9, -999.0000,   -999.00,   -999.0, 9,   -999.0,  -999.00, 9,   -999.0,   1.5385, 27.7527,   1.8676, 2, 9, 0.39, 0.13, 0.01, 0.016,  -999.00, 9, -999.00, -999.00, 9, -999.00
49NZ20071122, P14, 24, 1, 8, X12046, 2, 20071218, 1912, -26.9792, 176.5268, 4399,   4250.8, 2,   1.8902, 2,  34.6827, 2,  34.6832, 2,    156.0, 2,    156.1, 2,   123.86, 2,    35.22, 2,     0.00, 2,     2.49, 2, -999.000, 9, -999.000, 9, -999.000, 9, -999.000, 9,   -999.0, 9,   -999.0, 9, -999.0000,   -999.00,   -999.0, 9,   -999.0,  -999.00, 9,   -999.0,   1.5321, 27.7532,   1.8902, 2, 9, 0.39, 0.13, 0.01, 0.016,  -999.00, 9, -999.00, -999.00, 9, -999.00
49NZ20071122, P14, 24, 1, 7, X12044, 9, 20071218, 1912, -26.9792, 176.5268, 4399,   4250.6, 2,   1.8902, 2,  34.6828, 2, -999.0000, 9,    156.0, 2,   -999.0, 9,  -999.00, 9,  -999.00, 9,  -999.00, 9,  -999.00, 9, -999.000, 9, -999.000, 9, -999.000, 9, -999.000, 9,   -999.0, 9,   -999.0, 9, -999.0000,   -999.00,   -999.0, 9,   -999.0,  -999.00, 9,   -999.0,   1.5321, 27.7533,   1.8903, 2, 9, -999.00, -999.00, -999.00, -999.000,  -999.00, 9, -999.00, -999.00, 9, -999.00
49NZ20071122, P14, 24, 1, 6, X12048, 9, 20071218, 1912, -26.9792, 176.5268, 4399,    901.9, 2,   5.7799, 2,  34.3755, 2, -999.0000, 9,    204.8, 2,   -999.0, 9,  -999.00, 9,  -999.00, 9,  -999.00, 9,  -999.00, 9, -999.000, 9, -999.000, 9, -999.000, 9, -999.000, 9,   -999.0, 9,   -999.0, 9, -999.0000,   -999.00,   -999.0, 9,   -999.0,  -999.00, 9,   -999.0,   5.7003, 27.0966,   5.7793, 2, 9, -999.00, -999.00, -999.00, -999.000,  -999.00, 9, -999.00, -999.00, 9, -999.00
49NZ20071122, P14, 24, 1, 5, X12014, 9, 20071218, 1912, -26.9792, 176.5268, 4399,     10.4, 2,  23.9750, 2,  35.4573, 2, -999.0000, 9,    212.5, 2,   -999.0, 9,  -999.00, 9,  -999.00, 9,  -999.00, 9,  -999.00, 9, -999.000, 9, -999.000, 9, -999.000, 9, -999.000, 9,   -999.0, 9,   -999.0, 9, -999.0000,   -999.00,   -999.0, 9,   -999.0,  -999.00, 9,   -999.0,  23.9728, 23.9957,  23.9748, 2, 9, -999.00, -999.00, -999.00, -999.000,  -999.00, 9, -999.00, -999.00, 9, -999.00
49NZ20071122, P14, 24, 1, 4, X12006, 9, 20071218, 1912, -26.9792, 176.5268, 4399,   1201.0, 2,   3.8479, 2,  34.4659, 2, -999.0000, 9,    173.9, 2,   -999.0, 9,  -999.00, 9,  -999.00, 9,  -999.00, 9,  -999.00, 9, -999.000, 9, -999.000, 9, -999.000, 9, -999.000, 9,   -999.0, 9,   -999.0, 9, -999.0000,   -999.00,   -999.0, 9,   -999.0,  -999.00, 9,   -999.0,   3.7567, 27.3861,   3.8489, 2, 9, -999.00, -999.00, -999.00, -999.000,  -999.00, 9, -999.00, -999.00, 9, -999.00
49NZ20071122, P14, 24, 1, 3, X12013, 9, 20071218, 1912, -26.9792, 176.5268, 4399,   3503.0, 2,   1.8381, 2,  34.6816, 2, -999.0000, 9,    155.1, 2,   -999.0, 9,  -999.00, 9,  -999.00, 9,  -999.00, 9,  -999.00, 9, -999.000, 9, -999.000, 9, -999.000, 9, -999.000, 9,   -999.0, 9,   -999.0, 9, -999.0000,   -999.00,   -999.0, 9,   -999.0,  -999.00, 9,   -999.0,   1.5632, 27.7500,   1.8381, 2, 9, -999.00, -999.00, -999.00, -999.000,  -999.00, 9, -999.00, -999.00, 9, -999.00
49NZ20071122, P14, 24, 1, 2, X12002, 9, 20071218, 1912, -26.9792, 176.5268, 4399,   1600.1, 2,   2.6641, 2,  34.5971, 2, -999.0000, 9,    154.9, 2,   -999.0, 9,  -999.00, 9,  -999.00, 9,  -999.00, 9,  -999.00, 9, -999.000, 9, -999.000, 9, -999.000, 9, -999.000, 9,   -999.0, 9,   -999.0, 9, -999.0000,   -999.00,   -999.0, 9,   -999.0,  -999.00, 9,   -999.0,   2.5519, 27.6033,   2.6640, 2, 9, -999.00, -999.00, -999.00, -999.000,  -999.00, 9, -999.00, -999.00, 9, -999.00
49NZ20071122, P14, 24, 1, 1, X12001, 2, 20071218, 1912, -26.9792, 176.5268, 4399,   4458.9, 2,   1.9111, 2,  34.6829, 2,  34.6833, 6,    156.2, 2,    156.0, 2,   123.84, 2,    35.23, 2,     0.00, 2,     2.49, 2,    0.000, 2,    0.000, 2,    0.000, 2, -999.000, 9,   -999.0, 9,   -999.0, 9, -999.0000,   -999.00,   -999.0, 9,   -999.0,  -999.00, 9,   -999.0,   1.5282, 27.7537,   1.9113, 2, 9, 0.39, 0.13, 0.01, 0.016,  -999.00, 9, -999.00, -999.00, 9, -999.00