BOTTLE,20220820CCHSIOAMB
EXPOCODE,SECT_ID,STNNBR,CASTNO,SAMPNO,BTLNBR,BTLNBR_FLAG_W,DATE,TIME,LATITUDE,LONGITUDE,DEPTH,CTDPRS,CTDPRS_FLAG_W,CTDTMP,CTDTMP_FLAG_W,CTDSAL,CTDSAL_FLAG_W,SALNTY,SALNTY_FLAG_W,CTDOXY,CTDOXY_FLAG_W,OXYGEN,OXYGEN_FLAG_W,SILCAT,SILCAT_FLAG_W,NITRAT,NITRAT_FLAG_W,NITRIT,NITRIT_FLAG_W,PHSPHT,PHSPHT_FLAG_W,CFC-11,CFC-11_FLAG_W,CFC-12,CFC-12_FLAG_W,CFC113,CFC113_FLAG_W,CCL4,CCL4_FLAG_W,TCARBN,TCARBN_FLAG_W,ALKALI,ALKALI_FLAG_W,PH_TOT,PH_TMP,DELC14,DELC14_FLAG_W,C14ERR,DELC13,DELC13_FLAG_W,C13ERR,THETA,SIG0,SBE35,SBE35_FLAG_W,PH_TOT_FLAG_W,SILUNC,NRAUNC,NRIUNC,PHPUNC,CS-137,CS-137_FLAG_W,CS137ER,PLUTO,PLUTO_FLAG_W,PLUTOER
,,,,,,,,,,,METERS,DBAR,,ITS-90,,PSS-78,,PSS-78,,UMOL/KG,,UMOL/KG,,UMOL/KG,,UMOL/KG,,UMOL/KG,,UMOL/KG,,PMOL/KG,,PMOL/KG,,PMOL/KG,,PMOL/KG,,UMOL/KG,,UMOL/KG,,,DEG C,/MILLE,,/MILLE,/MILLE,,/MILLE,DEG C,KG/M^3,ITS-90,,,UMOL/KG,UMOL/KG,UMOL/KG,UMOL/KG,DM/.1MG,,BQ/M^3,MBQ/M^3,,MBQ/M^3
49NZ20071122, P14N, 154, 1, 36, X12042, 2, 20071205, 1150, -2.7460, 178.9987, 5500,      9.2, 2,  27.7088, 2,  35.5543, 2,  35.5537, 2,    200.4, 2,    201.4, 2,     1.71, 2,     3.26, 2,     0.22, 2,     0.47, 2,    1.587, 2,    0.952, 2,    0.155, 4, -999.000, 9,   2025.1, 2,   2340.6, 2,    8.0594,     25.00,   -999.0, 9,   -999.0,  -999.00, 9,   -999.0,  27.7066, 22.9073,  27.7098, 2, 6, 0.12, 0.04, 0.01, 0.013,  -999.00, 9, -999.00, -999.00, 9, -999.00
49NZ20071122, P14N, 154, 1, 35, X12041, 2, 20071205, 1150, -2.7460, 178.9987, 5500,     49.7, 2,  27.7867, 2,  35.6541, 2,  35.6538, 2,    198.1, 2,    199.7, 2,     1.56, 2,     3.25, 2,     0.20, 2,     0.48, 2,    1.565, 2,    0.925, 2,    0.156, 4, -999.000, 9,   2029.5, 6,   2348.5, 2,    8.0639,     25.00,   -999.0, 9,   -999.0,  -999.00, 9,   -999.0,  27.7750, 22.9602,  27.7859, 2, 2, 0.12, 0.04, 0.01, 0.013,  -999.00, 9, -999.00, -999.00, 9, -999.00
49NZ20071122, P14N, 154, 1, 34, X12016, 2, 20071205, 1150, -2.7460, 178.9987, 5500,     99.7, 2,  27.3822, 2,  35.6297, 2,  35.6299, 2,    195.0, 2,    195.9, 2,     1.59, 2,     3.57, 2,     0.47, 2,     0.53, 2,    1.595, 2,    0.959, 2,    0.153, 4, -999.000, 9,   2035.0, 2,   2345.4, 6,    8.0502,     25.00,   -999.0, 9,   -999.0,  -999.00, 9,   -999.0,  27.3590, 23.0767,  27.3808, 2, 2, 0.12, 0.04, 0.00, 0.013,  -999.00, 9, -999.00, -999.00, 9, -999.00
49NZ20071122, P14N, 154, 1, 33, X12033, 2, 20071205, 1150, -2.7460, 178.9987, 5500,    150.2, 2,  27.2388, 2,  35.6218, 2,  35.6211, 2,    182.2, 2,    188.9, 2,     1.69, 2,     3.90, 2,     1.14, 2,     0.58, 2,    1.624, 6,    0.974, 6,    0.142, 4, -999.000, 9,   2043.5, 2,   2344.7, 2,    8.0350,     25.00,   -999.0, 9,   -999.0,  -999.00, 9,   -999.0,  27.2040, 23.1208,  27.2363, 2, 6, 0.12, 0.04, 0.00, 0.013,  -999.00, 9, -999.00, -999.00, 9, -999.00
49NZ20071122, P14N, 154, 1, 32, X12038, 2, 20071205, 1150, -2.7460, 178.9987, 5500,    199.9, 2,  24.3195, 2,  35.9547, 2,  35.9672, 2,    145.1, 2,    141.8, 2,     2.08, 2,     8.36, 2,     0.03, 2,     0.84, 2,    1.852, 2,    1.087, 2,    0.113, 2, -999.000, 9,   2107.8, 2,   2368.1, 2,    7.9555,     25.00,   -999.0, 9,   -999.0,  -999.00, 9,   -999.0,  24.2768, 24.2817,  24.3270, 2, 2, 0.12, 0.06, 0.01, 0.013,  -999.00, 9, -999.00, -999.00, 9, -999.00
49NZ20071122, P14N, 154, 1, 31, X12003, 2, 20071205, 1150, -2.7460, 178.9987, 5500,    250.1, 2,  16.4602, 2,  35.3339, 2,  35.3179, 6,    105.6, 2,    107.9, 2,     7.16, 2,    15.88, 2,     0.02, 2,     1.37, 2,    1.793, 2,    0.976, 2,    0.026, 2, -999.000, 9,   2161.8, 2,   2330.4, 2,    7.7822,     25.00,   -999.0, 9,   -999.0,  -999.00, 9,   -999.0,  16.4197, 25.9075,  16.4664, 2, 2, 0.13, 0.08, 0.01, 0.014,  -999.00, 9, -999.00, -999.00, 9, -999.00
49NZ20071122, P14N, 154, 1, 30, X12008, 2, 20071205, 1150, -2.7460, 178.9987, 5500,    301.9, 2,  12.4115, 2,  34.9581, 2,  34.9549, 2,    107.4, 2,    109.2, 2,    14.62, 2,    22.82, 2,     0.01, 2,     1.70, 2,    1.222, 2,    0.638, 2,    0.014, 2, -999.000, 9,   2181.3, 2,   2311.5, 2,    7.6987,     25.00,   -999.0, 9,   -999.0,  -999.00, 9,   -999.0,  12.3711, 26.4849,  12.4208, 2, 2, 0.15, 0.10, 0.01, 0.014,  -999.00, 9, -999.00, -999.00, 9, -999.00
49NZ20071122, P14N, 154, 1, 29, X12035, 2, 20071205, 1150, -2.7460, 178.9987, 5500,    400.9, 2,   9.7720, 2,  34.7280, 2,  34.7272, 2,     83.7, 2,     83.6, 2,    24.74, 2,    30.19, 2,     0.01, 2,     2.15, 2,    0.572, 2,    0.290, 2,    0.009, 2, -999.000, 9,   2218.7, 2,   2304.8, 2,    7.5893,     25.00,   -999.0, 9,   -999.0,  -999.00, 9,   -999.0,   9.7258, 26.7860,   9.7729, 2, 2, 0.17, 0.12, 0.01, 0.015,  -999.00, 9, -999.00, -999.00, 9, -999.00
49NZ20071122, P14N, 154, 1, 28, X12034, 2, 20071205, 1150, -2.7460, 178.9987, 5500,    499.9, 2,   8.6919, 2,  34.6545, 2,  34.6517, 6,     75.4, 2,     83.4, 2,    29.97, 2,    32.75, 2,     0.00, 2,     2.31, 2,    0.378, 2,    0.195, 2,    0.004, 2, -999.000, 9,   2230.2, 2,   2306.7, 2,    7.5596,     25.00,   -999.0, 9,   -999.0,  -999.00, 9,   -999.0,   8.6380, 26.9049,   8.6924, 2, 2, 0.18, 0.12, 0.01, 0.016,  -999.00, 9, -999.00, -999.00, 9, -999.00
49NZ20071122, P14N, 154, 1, 27, X12049, 2, 20071205, 1150, -2.7460, 178.9987, 5500,    599.5, 2,   7.3617, 2,  34.5931, 2,  34.5909, 2,     66.8, 2,     61.4, 2,    41.32, 2,    37.97, 2,     0.00, 2,     2.67, 2,    0.101, 2,    0.053, 2,    0.000, 2, -999.000, 9,   2260.8, 2,   2314.2, 2,    7.4916,     25.00,   -999.0, 9,   -999.0,  -999.00, 9,   -999.0,   7.3027, 27.0559,   7.3620, 2, 2, 0.21, 0.14, 0.01, 0.017,  -999.00, 9, -999.00, -999.00, 9, -999.00
49NZ20071122, P14N, 154, 1, 26, X12032, 2, 20071205, 1150, -2.7460, 178.9987, 5500,    699.9, 2,   6.4258, 2,  34.5590, 2,  34.5573, 2,     75.8, 2,     71.1, 2,    49.75, 2,    38.73, 2,     0.00, 2,     2.74, 2,    0.046, 6,    0.026, 6,    0.000, 6, -999.000, 9,   2266.2, 6,   2322.1, 2,    7.4925,     25.00,   -999.0, 9,   -999.0,  -999.00, 9,   -999.0,   6.3614, 27.1575,   6.4264, 2, 2, 0.23, 0.14, 0.01, 0.017,  -999.00, 9, -999.00, -999.00, 9, -999.00
49NZ20071122, P14N, 154, 1, 25, X12043, 2, 20071205, 1150, -2.7460, 178.9987, 5500,    800.4, 2,   5.6504, 2,  34.5386, 2,  34.5383, 2,     90.5, 2,     90.5, 2,    57.48, 2,    38.01, 2,     0.00, 2,     2.71, 2,    0.035, 2,    0.019, 2,    0.000, 2, -999.000, 9,   2268.4, 2,   2330.3, 6,    7.5160,     25.00,   -999.0, 9,   -999.0,  -999.00, 9,   -999.0,   5.5809, 27.2404,   5.6504, 2, 2, 0.25, 0.14, 0.01, 0.017,  -999.00, 9, -999.00, -999.00, 9, -999.00
49NZ20071122, P14N, 154, 1, 24, X12030, 2, 20071205, 1150, -2.7460, 178.9987, 5500,    901.1, 2,   5.0658, 2,  34.5370, 2,  34.5366, 2,    100.8, 2,     97.6, 2,    66.29, 2,    37.87, 2,     0.00, 2,     2.70, 2,    0.028, 2,    0.014, 2,    0.006, 2, -999.000, 9,   2272.9, 2,   2339.7, 2,    7.5225,     25.00,   -999.0, 9,   -999.0,  -999.00, 9,   -999.0,   4.9909, 27.3092,   5.0660, 2, 6, 0.26, 0.14, 0.01, 0.017,  -999.00, 9, -999.00, -999.00, 9, -999.00
49NZ20071122, P14N, 154, 1, 23, X12027, 2, 20071205, 1150, -2.7460, 178.9987, 5500,    997.7, 2,   4.6622, 2,  34.5397, 2,  34.5409, 6,    103.8, 2,    105.1, 2,    73.33, 2,    37.61, 2,     0.00, 2,     2.69, 2,    0.030, 2,    0.015, 2,    0.000, 2, -999.000, 9,   2278.5, 2,   2347.5, 2,    7.5322,     25.00,   -999.0, 9,   -999.0,  -999.00, 9,   -999.0,   4.5816, 27.3577,   4.6619, 2, 2, 0.28, 0.14, 0.01, 0.017,  -999.00, 9, -999.00, -999.00, 9, -999.00
49NZ20071122, P14N, 154, 1, 22, X12028, 2, 20071205, 1150, -2.7460, 178.9987, 5500,   1199.4, 2,   3.9185, 2,  34.5582, 2,  34.5584, 2,    111.2, 2,    110.8, 2,    87.54, 2,    37.62, 2,     0.00, 2,     2.69, 2,    0.016, 2,    0.008, 2,    0.000, 2, -999.000, 9,   2292.6, 2,   2364.7, 2,    7.5392,     25.00,   -999.0, 9,   -999.0,  -999.00, 9,   -999.0,   3.8266, 27.4525,   3.9185, 2, 2, 0.31, 0.14, 0.01, 0.017,  -999.00, 9, -999.00, -999.00, 9, -999.00
49NZ20071122, P14N, 154, 1, 21, X12009, 2, 20071205, 1150, -2.7460, 178.9987, 5500,   1399.1, 2,   3.3139, 2,  34.5839, 2,  34.5847, 2,    109.9, 2,    110.2, 2,   102.89, 2,    38.17, 2,     0.00, 2,     2.73, 2,    0.001, 2,    0.003, 2,    0.000, 2, -999.000, 9,   2310.8, 2,   2380.3, 2,    7.5360,     25.00,   -999.0, 9,   -999.0,  -999.00, 9,   -999.0,   3.2110, 27.5333,   3.3140, 2, 2, 0.35, 0.14, 0.01, 0.017,  -999.00, 9, -999.00, -999.00, 9, -999.00
49NZ20071122, P14N, 154, 1, 20, X12026, 2, 20071205, 1150, -2.7460, 178.9987, 5500,   1601.3, 2,   2.7664, 2,  34.6085, 2,  34.6094, 2,    115.1, 2,    115.1, 2,   115.03, 2,    38.20, 2,     0.00, 2,     2.73, 2,    0.001, 2,    0.000, 2,    0.000, 2, -999.000, 9,   2319.0, 2,   2394.6, 2,    7.5405,     25.00,   -999.0, 9,   -999.0,  -999.00, 9,   -999.0,   2.6528, 27.6037,   2.7663, 2, 2, 0.37, 0.14, 0.01, 0.017,  -999.00, 9, -999.00, -999.00, 9, -999.00
49NZ20071122, P14N, 154, 1, 19, X12025, 2, 20071205, 1150, -2.7460, 178.9987, 5500,   1799.5, 2,   2.3955, 2,  34.6294, 2,  34.6302, 2,    117.1, 2,    116.8, 2,   125.39, 2,    38.22, 2,     0.00, 2,     2.72, 2,    0.000, 2,    0.000, 2,    0.000, 2, -999.000, 9,   2330.8, 2,   2405.6, 2,    7.5449,     25.00,   -999.0, 9,   -999.0,  -999.00, 9,   -999.0,   2.2701, 27.6529,   2.3954, 2, 2, 0.39, 0.14, 0.01, 0.017,  -999.00, 9, -999.00, -999.00, 9, -999.00
49NZ20071122, P14N, 154, 1, 18, X12024, 2, 20071205, 1150, -2.7460, 178.9987, 5500,   2002.1, 2,   2.1617, 2,  34.6439, 2,  34.6442, 2,    117.8, 2,    117.6, 2,   132.94, 2,    38.27, 2,     0.00, 2,     2.72, 2,    0.000, 2,    0.000, 2,    0.000, 2, -999.000, 9,   2338.7, 2,   2412.8, 2,    7.5475,     25.00,   -999.0, 9,   -999.0,  -999.00, 9,   -999.0,   2.0226, 27.6846,   2.1618, 2, 2, 0.41, 0.14, 0.01, 0.017,  -999.00, 9, -999.00, -999.00, 9, -999.00
49NZ20071122, P14N, 154, 1, 17, X12023, 2, 20071205, 1150, -2.7460, 178.9987, 5500,   2202.6, 2,   2.0162, 2,  34.6516, 2,  34.6519, 6,    122.4, 2,    122.0, 2,   135.75, 2,    38.00, 2,     0.00, 2,     2.70, 2, -999.000, 9, -999.000, 9, -999.000, 9, -999.000, 9,   2338.2, 2,   2416.7, 2,    7.5549,     25.00,   -999.0, 9,   -999.0,  -999.00, 9,   -999.0,   1.8621, 27.7033,   2.0162, 2, 2, 0.42, 0.14, 0.01, 0.017,  -999.00, 9, -999.00, -999.00, 9, -999.00
49NZ20071122, P14N, 154, 1, 16, X12022, 2, 20071205, 1150, -2.7460, 178.9987, 5500,   2401.5, 2,   1.9231, 2,  34.6571, 2,  34.6572, 2,    124.1, 2,    124.3, 2,   138.35, 2,    37.91, 2,     0.00, 2,     2.68, 2, -999.000, 9, -999.000, 9, -999.000, 9, -999.000, 9,   2339.9, 6,   2419.3, 2,    7.5582,     25.00,   -999.0, 9,   -999.0,  -999.00, 9,   -999.0,   1.7531, 27.7161,   1.9233, 2, 2, 0.42, 0.14, 0.01, 0.017,  -999.00, 9, -999.00, -999.00, 9, -999.00
49NZ20071122, P14N, 154, 1, 15, X12021, 2, 20071205, 1150, -2.7460, 178.9987, 5500,   2600.6, 2,   1.8794, 2,  34.6599, 2,  34.6601, 2,    126.7, 2,    126.7, 2,   139.17, 2,    37.72, 2,     0.00, 2,     2.67, 2,    0.000, 2,    0.000, 2,    0.000, 2, -999.000, 9,   2339.7, 2,   2419.7, 6,    7.5601,     25.00,   -999.0, 9,   -999.0,  -999.00, 9,   -999.0,   1.6922, 27.7230,   1.8793, 2, 2, 0.43, 0.14, 0.01, 0.017,  -999.00, 9, -999.00, -999.00, 9, -999.00
49NZ20071122, P14N, 154, 1, 14, X12020, 2, 20071205, 1150, -2.7460, 178.9987, 5500,   2800.4, 2,   1.7847, 2,  34.6658, 2,  34.6660, 2,    133.7, 2,    133.8, 2,   138.71, 2,    37.22, 2,     0.00, 2,     2.63, 2, -999.000, 9, -999.000, 9, -999.000, 9, -999.000, 9,   2333.8, 2,   2420.0, 2,    7.5691,     25.00,   -999.0, 9,   -999.0,  -999.00, 9,   -999.0,   1.5808, 27.7360,   1.7847, 2, 2, 0.42, 0.14, 0.01, 0.017,  -999.00, 9, -999.00, -999.00, 9, -999.00
49NZ20071122, P14N, 154, 1, 13, X12019, 2, 20071205, 1150, -2.7460, 178.9987, 5500,   3000.2, 2,   1.6947, 2,  34.6716, 2,  34.6717, 2,    138.3, 2,    139.2, 2,   139.02, 2,    36.94, 2,     0.00, 2,     2.60, 2, -999.000, 9, -999.000, 9, -999.000, 9, -999.000, 9,   2332.8, 2,   2419.5, 2,    7.5773,     25.00,   -999.0, 9,   -999.0,  -999.00, 9,   -999.0,   1.4736, 27.7485,   1.6947, 2, 2, 0.42, 0.14, 0.01, 0.016,  -999.00, 9, -999.00, -999.00, 9, -999.00
49NZ20071122, P14N, 154, 1, 12, X12040, 2, 20071205, 1150, -2.7460, 178.9987, 5500,   3250.4, 2,   1.5775, 2,  34.6789, 2,  34.6792, 2,    147.7, 2,    147.7, 2,   138.31, 2,    36.30, 2,     0.00, 2,     2.55, 2,    0.002, 2,    0.000, 2,    0.000, 2, -999.000, 9,   2327.5, 2,   2418.3, 2,    7.5903,     25.00,   -999.0, 9,   -999.0,  -999.00, 9,   -999.0,   1.3346, 27.7644,   1.5775, 2, 2, 0.42, 0.13, 0.01, 0.016,  -999.00, 9, -999.00, -999.00, 9, -999.00
49NZ20071122, P14N, 154, 1, 11, X12047, 2, 20071205, 1150, -2.7460, 178.9987, 5500,   3500.3, 2,   1.5047, 2,  34.6838, 2,  34.6839, 2,    152.4, 2,    153.2, 2,   138.38, 2,    36.03, 2,     0.00, 2,     2.52, 2, -999.000, 9, -999.000, 9, -999.000, 9, -999.000, 9,   2323.6, 2,   2417.7, 2,    7.5968,     25.00,   -999.0, 9,   -999.0,  -999.00, 9,   -999.0,   1.2384, 27.7751,   1.5046, 2, 2, 0.42, 0.13, 0.01, 0.016,  -999.00, 9, -999.00, -999.00, 9, -999.00
49NZ20071122, P14N, 154, 1, 10, X12012, 2, 20071205, 1150, -2.7460, 178.9987, 5500,   3750.2, 2,   1.4458, 2,  34.6897, 2,  34.6896, 2,    160.3, 2,    160.6, 2,   136.66, 2,    35.50, 2,     0.00, 2,     2.47, 2,    0.000, 2,    0.000, 2,    0.000, 2, -999.000, 9,   2317.3, 2,   2417.0, 2,    7.6081,     25.00,   -999.0, 9,   -999.0,  -999.00, 9,   -999.0,   1.1551, 27.7855,   1.4458, 2, 2, 0.42, 0.13, 0.01, 0.016,  -999.00, 9, -999.00, -999.00, 9, -999.00
49NZ20071122, P14N, 154, 1, 9, X12015, 2, 20071205, 1150, -2.7460, 178.9987, 5500,   3999.8, 2,   1.3863, 2,  34.6943, 2,  34.6945, 6,    167.1, 2,    167.5, 2,   134.65, 2,    35.04, 2,     0.00, 2,     2.44, 2,    0.000, 2,    0.000, 2,    0.000, 2, -999.000, 9,   2311.0, 2,   2413.1, 2,    7.6152,     25.00,   -999.0, 9,   -999.0,  -999.00, 9,   -999.0,   1.0706, 27.7950,   1.3862, 2, 2, 0.42, 0.13, 0.01, 0.016,  -999.00, 9, -999.00, -999.00, 9, -999.00
49NZ20071122, P14N, 154, 1, 8, X12046, 2, 20071205, 1150, -2.7460, 178.9987, 5500,   4250.0, 2,   1.3183, 2,  34.6988, 2,  34.6990, 2,    175.1, 2,    177.6, 2,   129.77, 2,    34.30, 2,     0.00, 2,     2.39, 2,    0.000, 2,    0.000, 2,    0.000, 2, -999.000, 9,   2299.2, 6,   2402.8, 2,    7.6201,     25.00,   -999.0, 9,   -999.0,  -999.00, 9,   -999.0,   0.9771, 27.8049,   1.3182, 2, 2, 0.40, 0.13, 0.01, 0.016,  -999.00, 9, -999.00, -999.00, 9, -999.00
49NZ20071122, P14N, 154, 1, 7, X12044, 2, 20071205, 1150, -2.7460, 178.9987, 5500,   4500.2, 2,   1.3090, 2,  34.7006, 2,  34.7007, 2,    181.5, 2,    181.6, 2,   127.67, 2,    33.95, 2,     0.00, 2,     2.37, 2,    0.000, 2,    0.000, 2,    0.000, 2, -999.000, 9,   2293.9, 2,   2398.4, 6,    7.6229,     25.00,   -999.0, 9,   -999.0,  -999.00, 9,   -999.0,   0.9399, 27.8087,   1.3090, 2, 2, 0.40, 0.13, 0.01, 0.016,  -999.00, 9, -999.00, -999.00, 9, -999.00
49NZ20071122, P14N, 154, 1, 6, X12048, 2, 20071205, 1150, -2.7460, 178.9987, 5500,   4751.2, 2,   1.2543, 2,  34.7045, 2,  34.7046, 2,    190.8, 2,    191.0, 2,   122.45, 2,    33.23, 2,     0.00, 2,     2.32, 2,    0.004, 2,    0.000, 2,    0.000, 2, -999.000, 9,   2280.4, 2,   2386.5, 2,    7.6242,     25.00,   -999.0, 9,   -999.0,  -999.00, 9,   -999.0,   0.8578, 27.8172,   1.2543, 2, 6, 0.39, 0.13, 0.01, 0.016,  -999.00, 9, -999.00, -999.00, 9, -999.00
49NZ20071122, P14N, 154, 1, 5, X12014, 2, 20071205, 1150, -2.7460, 178.9987, 5500,   5000.2, 2,   1.2454, 2,  34.7060, 2,  34.7059, 2,    195.0, 2,    195.0, 2,   120.72, 2,    32.98, 2,     0.00, 2,     2.30, 2,    0.007, 2,    0.002, 2,    0.000, 2, -999.000, 9,   2274.4, 2,   2380.1, 2,    7.6235,     25.00,   -999.0, 9,   -999.0,  -999.00, 9,   -999.0,   0.8196, 27.8209,   1.2454, 2, 2, 0.38, 0.13, 0.01, 0.016,  -999.00, 9, -999.00, -999.00, 9, -999.00
49NZ20071122, P14N, 154, 1, 4, X12006, 2, 20071205, 1150, -2.7460, 178.9987, 5500,   5250.0, 2,   1.2691, 2,  34.7062, 2,  34.7064, 2,    195.4, 2,    195.5, 2,   120.46, 2,    32.89, 2,     0.00, 2,     2.29, 2,    0.006, 2,    0.004, 2,    0.000, 2, -999.000, 9,   2274.0, 2,   2380.3, 2,    7.6240,     25.00,   -999.0, 9,   -999.0,  -999.00, 9,   -999.0,   0.8121, 27.8215,   1.2691, 2, 2, 0.38, 0.12, 0.01, 0.016,  -999.00, 9, -999.00, -999.00, 9, -999.00
49NZ20071122, P14N, 154, 1, 3, X12013, 2, 20071205, 1150, -2.7460, 178.9987, 5500,   5499.2, 2,   1.2991, 2,  34.7062, 2,  34.7073, 2,    195.8, 2,    195.7, 2,   120.39, 2,    32.88, 2,     0.00, 2,     2.29, 2,    0.010, 2,    0.003, 2,    0.000, 2, -999.000, 9,   2273.3, 2,   2380.3, 2,    7.6244,     25.00,   -999.0, 9,   -999.0,  -999.00, 9,   -999.0,   0.8098, 27.8217,   1.2991, 2, 2, 0.38, 0.12, 0.01, 0.016,  -999.00, 9, -999.00, -999.00, 9, -999.00
49NZ20071122, P14N, 154, 1, 2, X12002, 9, 20071205, 1150, -2.7460, 178.9987, 5500,      9.4, 2,  27.6906, 2,  35.5540, 2, -999.0000, 9,    201.2, 2,   -999.0, 9,  -999.00, 9,  -999.00, 9,  -999.00, 9,  -999.00, 9, -999.000, 9, -999.000, 9, -999.000, 9, -999.000, 9,   -999.0, 9,   -999.0, 9, -999.0000,   -999.00,   -999.0, 9,   -999.0,  -999.00, 9,   -999.0,  27.6884, 22.9131,  27.6779, 2, 9, -999.00, -999.00, -999.00, -999.000,  -999.00, 9, -999.00, -999.00, 9, -999.00
49NZ20071122, P14N, 154, 1, 1, X12001, 2, 20071205, 1150, -2.7460, 178.9987, 5500,   5588.7, 2,   1.3109, 2,  34.7061, 2,  34.7064, 6,    195.7, 2,    195.9, 2,   120.49, 2,    32.90, 2,     0.00, 2,     2.30, 2,    0.007, 2,    0.003, 2,    0.000, 2, -999.000, 9,   2273.3, 2,   2380.0, 2,    7.6241,     25.00,   -999.0, 9,   -999.0,  -999.00, 9,   -999.0,   0.8098, 27.8216,   1.3108, 2, 2, 0.38, 0.12, 0.01, 0.016,  -999.00, 9, -999.00, -999.00, 9, -999.00