BOTTLE,20220820CCHSIOAMB
EXPOCODE,SECT_ID,STNNBR,CASTNO,SAMPNO,BTLNBR,BTLNBR_FLAG_W,DATE,TIME,LATITUDE,LONGITUDE,DEPTH,CTDPRS,CTDPRS_FLAG_W,CTDTMP,CTDTMP_FLAG_W,CTDSAL,CTDSAL_FLAG_W,SALNTY,SALNTY_FLAG_W,CTDOXY,CTDOXY_FLAG_W,OXYGEN,OXYGEN_FLAG_W,SILCAT,SILCAT_FLAG_W,NITRAT,NITRAT_FLAG_W,NITRIT,NITRIT_FLAG_W,PHSPHT,PHSPHT_FLAG_W,CFC-11,CFC-11_FLAG_W,CFC-12,CFC-12_FLAG_W,CFC113,CFC113_FLAG_W,CCL4,CCL4_FLAG_W,TCARBN,TCARBN_FLAG_W,ALKALI,ALKALI_FLAG_W,PH_TOT,PH_TMP,DELC14,DELC14_FLAG_W,C14ERR,DELC13,DELC13_FLAG_W,C13ERR,THETA,SIG0,SBE35,SBE35_FLAG_W,PH_TOT_FLAG_W,SILUNC,NRAUNC,NRIUNC,PHPUNC,CS-137,CS-137_FLAG_W,CS137ER,PLUTO,PLUTO_FLAG_W,PLUTOER
,,,,,,,,,,,METERS,DBAR,,ITS-90,,PSS-78,,PSS-78,,UMOL/KG,,UMOL/KG,,UMOL/KG,,UMOL/KG,,UMOL/KG,,UMOL/KG,,PMOL/KG,,PMOL/KG,,PMOL/KG,,PMOL/KG,,UMOL/KG,,UMOL/KG,,,DEG C,/MILLE,,/MILLE,/MILLE,,/MILLE,DEG C,KG/M^3,ITS-90,,,UMOL/KG,UMOL/KG,UMOL/KG,UMOL/KG,DM/.1MG,,BQ/M^3,MBQ/M^3,,MBQ/M^3
49NZ20071122, P14N, 179, 1, 36, X12042, 2, 20071211, 0913, -12.9990, 178.9925, 1556,      9.2, 2,  29.4947, 2,  34.7403, 2,  34.7378, 2,    196.4, 2,    194.8, 2,     0.79, 2,     0.04, 2,     0.01, 2,     0.17, 2,    1.443, 2,    0.903, 2,    0.248, 4, -999.000, 9,   1930.3, 2,   2286.5, 2,    8.1454,     25.00,   -999.0, 9,   -999.0,  -999.00, 9,   -999.0,  29.4924, 21.7038,  29.4944, 2, 2, 0.12, 0.03, 0.01, 0.017,  -999.00, 9, -999.00, -999.00, 9, -999.00
49NZ20071122, P14N, 179, 1, 35, X12041, 2, 20071211, 0913, -12.9990, 178.9925, 1556,     49.8, 2,  29.0712, 2,  34.7507, 2,  34.7503, 2,    196.7, 2,    195.7, 2,     0.73, 2,     0.02, 2,     0.00, 2,     0.16, 2,    1.447, 2,    0.908, 2,    0.241, 4, -999.000, 9,   1931.3, 6,   2286.9, 2,    8.1460,     25.00,   -999.0, 9,   -999.0,  -999.00, 9,   -999.0,  29.0591, 21.8571,  29.0697, 2, 2, 0.12, 0.03, 0.01, 0.017,  -999.00, 9, -999.00, -999.00, 9, -999.00
49NZ20071122, P14N, 179, 1, 34, X12016, 2, 20071211, 0913, -12.9990, 178.9925, 1556,    100.1, 2,  28.4751, 2,  35.6132, 2,  35.6581, 2,    187.8, 2,    190.3, 2,     0.80, 2,     0.06, 2,     0.01, 2,     0.23, 2,    1.562, 2,    0.969, 2,    0.794, 4, -999.000, 9,   1997.8, 2,   2347.4, 6,    8.1119,     25.00,   -999.0, 9,   -999.0,  -999.00, 9,   -999.0,  28.4512, 22.7073,  28.5395, 2, 2, 0.12, 0.03, 0.01, 0.015,  -999.00, 9, -999.00, -999.00, 9, -999.00
49NZ20071122, P14N, 179, 1, 33, X12033, 2, 20071211, 0913, -12.9990, 178.9925, 1556,    150.6, 2,  24.1444, 2,  36.0648, 2,  36.0795, 2,    155.3, 2,    153.3, 2,     1.04, 2,     3.51, 2,     0.06, 2,     0.51, 2,    1.865, 6,    1.110, 6,    0.162, 4, -999.000, 9,   2087.1, 2,   2372.8, 2,    8.0038,     25.00,   -999.0, 9,   -999.0,  -999.00, 9,   -999.0,  24.1124, 24.4143,  24.1443, 2, 6, 0.12, 0.04, 0.01, 0.013,  -999.00, 9, -999.00, -999.00, 9, -999.00
49NZ20071122, P14N, 179, 1, 32, X12038, 2, 20071211, 0913, -12.9990, 178.9925, 1556,    199.7, 2,  21.6797, 2,  35.9400, 2,  35.9283, 2,    146.6, 2,    146.4, 2,     1.59, 2,     6.61, 2,     0.02, 2,     0.70, 2,    2.035, 2,    1.168, 2,    0.060, 2, -999.000, 9,   2113.5, 2,   2364.8, 2,    7.9445,     25.00,   -999.0, 9,   -999.0,  -999.00, 9,   -999.0,  21.6404, 25.0330,  21.6899, 2, 2, 0.12, 0.05, 0.01, 0.013,  -999.00, 9, -999.00, -999.00, 9, -999.00
49NZ20071122, P14N, 179, 1, 31, X12003, 2, 20071211, 0913, -12.9990, 178.9925, 1556,    250.1, 2,  18.4272, 2,  35.5419, 2,  35.5369, 6,    142.0, 2,    142.2, 2,     3.25, 2,     9.62, 2,     0.01, 2,     0.92, 2,    2.063, 2,    1.139, 2,    0.038, 2, -999.000, 9,   2124.6, 2,   2341.2, 2,    7.8800,     25.00,   -999.0, 9,   -999.0,  -999.00, 9,   -999.0,  18.3833, 25.5917,  18.4282, 2, 2, 0.13, 0.06, 0.01, 0.013,  -999.00, 9, -999.00, -999.00, 9, -999.00
49NZ20071122, P14N, 179, 1, 30, X12008, 2, 20071211, 0913, -12.9990, 178.9925, 1556,    330.6, 2,  13.2366, 2,  34.9597, 2,  34.9533, 2,    125.8, 2,    125.3, 2,     9.84, 2,    18.18, 2,     0.00, 2,     1.48, 2,    1.470, 2,    0.775, 2,    0.016, 2, -999.000, 9,   2161.4, 2,   2309.7, 2,    7.7438,     25.00,   -999.0, 9,   -999.0,  -999.00, 9,   -999.0,  13.1904, 26.3232,  13.2374, 2, 2, 0.14, 0.08, 0.01, 0.014,  -999.00, 9, -999.00, -999.00, 9, -999.00
49NZ20071122, P14N, 179, 1, 29, X12035, 2, 20071211, 0913, -12.9990, 178.9925, 1556,    431.4, 2,   9.1960, 2,  34.6199, 2,  34.6176, 2,    144.8, 2,    145.8, 2,    16.41, 2,    24.69, 2,     0.00, 2,     1.82, 2,    0.968, 2,    0.490, 2,    0.014, 2, -999.000, 9,   2178.2, 2,   2297.7, 2,    7.6760,     25.00,   -999.0, 9,   -999.0,  -999.00, 9,   -999.0,   9.1481, 26.7967,   9.2009, 2, 2, 0.16, 0.10, 0.01, 0.015,  -999.00, 9, -999.00, -999.00, 9, -999.00
49NZ20071122, P14N, 179, 1, 28, X12034, 2, 20071211, 0913, -12.9990, 178.9925, 1556,    531.1, 2,   7.3216, 2,  34.5084, 2,  34.5127, 6,    169.5, 2,    154.4, 2,    24.05, 2,    28.45, 2,     0.00, 2,     2.03, 2,    0.605, 2,    0.307, 2,    0.011, 2, -999.000, 9,   2193.1, 2,   2299.7, 2,    7.6449,     25.00,   -999.0, 9,   -999.0,  -999.00, 9,   -999.0,   7.2698, 26.9938,   7.3180, 2, 2, 0.17, 0.11, 0.01, 0.015,  -999.00, 9, -999.00, -999.00, 9, -999.00
49NZ20071122, P14N, 179, 1, 27, X12049, 2, 20071211, 0913, -12.9990, 178.9925, 1556,    632.3, 2,   6.4015, 2,  34.4943, 2,  34.4936, 2,    147.1, 2,    147.0, 2,    33.17, 2,    31.04, 2,     0.00, 2,     2.19, 2,    0.308, 2,    0.159, 2,    0.008, 2, -999.000, 9,   2208.5, 2,   2307.2, 2,    7.6177,     25.00,   -999.0, 9,   -999.0,  -999.00, 9,   -999.0,   6.3438, 27.1087,   6.4022, 2, 2, 0.19, 0.12, 0.01, 0.016,  -999.00, 9, -999.00, -999.00, 9, -999.00
49NZ20071122, P14N, 179, 1, 26, X12032, 2, 20071211, 0913, -12.9990, 178.9925, 1556,    730.5, 2,   5.5169, 2,  34.4801, 2,  34.4797, 2,    145.3, 2,    145.4, 2,    43.36, 2,    32.98, 2,     0.00, 2,     2.32, 2,    0.165, 6,    0.087, 6,    0.004, 6, -999.000, 9,   2225.6, 6,   2316.8, 2,    7.6001,     25.00,   -999.0, 9,   -999.0,  -999.00, 9,   -999.0,   5.4546, 27.2094,   5.5173, 2, 2, 0.21, 0.13, 0.01, 0.016,  -999.00, 9, -999.00, -999.00, 9, -999.00
49NZ20071122, P14N, 179, 1, 25, X12043, 2, 20071211, 0913, -12.9990, 178.9925, 1556,    832.0, 2,   4.7960, 2,  34.4704, 2,  34.4698, 2,    151.0, 2,    150.9, 2,    51.05, 2,    33.61, 2,     0.01, 2,     2.37, 2,    0.112, 2,    0.061, 2,    0.000, 2, -999.000, 9,   2232.3, 2,   2324.7, 6,    7.5974,     25.00,   -999.0, 9,   -999.0,  -999.00, 9,   -999.0,   4.7290, 27.2862,   4.7974, 2, 2, 0.23, 0.13, 0.01, 0.016,  -999.00, 9, -999.00, -999.00, 9, -999.00
49NZ20071122, P14N, 179, 1, 24, X12030, 2, 20071211, 0913, -12.9990, 178.9925, 1556,    928.7, 2,   4.4364, 2,  34.4892, 2,  34.4911, 2,    145.9, 2,    145.2, 2,    59.93, 2,    34.38, 2,     0.00, 2,     2.42, 2,    0.065, 2,    0.039, 2,    0.000, 2, -999.000, 9,   2246.3, 2,   2334.1, 2,    7.5873,     25.00,   -999.0, 9,   -999.0,  -999.00, 9,   -999.0,   4.3635, 27.3414,   4.4365, 2, 6, 0.25, 0.13, 0.01, 0.016,  -999.00, 9, -999.00, -999.00, 9, -999.00
49NZ20071122, P14N, 179, 1, 23, X12027, 2, 20071211, 0913, -12.9990, 178.9925, 1556,   1069.6, 2,   3.8913, 2,  34.5135, 2,  34.5145, 6,    143.7, 2,    143.9, 2,    71.41, 2,    35.10, 2,     0.00, 2,     2.48, 2,    0.020, 2,    0.016, 2,    0.000, 2, -999.000, 9,   2258.9, 2,   2347.0, 2,    7.5811,     25.00,   -999.0, 9,   -999.0,  -999.00, 9,   -999.0,   3.8107, 27.4186,   3.8910, 2, 2, 0.28, 0.13, 0.01, 0.016,  -999.00, 9, -999.00, -999.00, 9, -999.00
49NZ20071122, P14N, 179, 1, 22, X12028, 2, 20071211, 0913, -12.9990, 178.9925, 1556,   1269.3, 2,   3.2361, 2,  34.5551, 2,  34.5557, 6,    141.6, 2,    141.8, 2,    87.40, 2,    35.71, 2,     0.00, 2,     2.53, 2,    0.008, 2,    0.009, 2,    0.004, 2, -999.000, 9,   2279.0, 2,   2363.9, 2,    7.5769,     25.00,   -999.0, 9,   -999.0,  -999.00, 9,   -999.0,   3.1448, 27.5166,   3.2360, 2, 2, 0.31, 0.13, 0.01, 0.016,  -999.00, 9, -999.00, -999.00, 9, -999.00
49NZ20071122, P14N, 179, 1, 21, X12009, 2, 20071211, 0913, -12.9990, 178.9925, 1556,   1471.5, 2,   2.8003, 2,  34.5844, 2,  34.5849, 6,    142.4, 2,    142.4, 2,    98.57, 2,    35.84, 2,     0.01, 2,     2.54, 2,    0.164, 4,    0.352, 4,    0.051, 4, -999.000, 9,   2291.7, 2,   2376.3, 2,    7.5778,     25.00,   -999.0, 9,   -999.0,  -999.00, 9,   -999.0,   2.6971, 27.5805,   2.7999, 2, 2, 0.34, 0.13, 0.01, 0.016,  -999.00, 9, -999.00, -999.00, 9, -999.00
49NZ20071122, P14N, 179, 1, 20, X12026, 9, 20071211, 0913, -12.9990, 178.9925, 1556,      9.5, 2,  29.4474, 2,  34.7348, 2, -999.0000, 9,    196.4, 2,   -999.0, 9,  -999.00, 9,  -999.00, 9,  -999.00, 9,  -999.00, 9, -999.000, 9, -999.000, 9, -999.000, 9, -999.000, 9,   -999.0, 9,   -999.0, 9, -999.0000,   -999.00,   -999.0, 9,   -999.0,  -999.00, 9,   -999.0,  29.4451, 21.7156,  29.4331, 2, 9, -999.00, -999.00, -999.00, -999.000,  -999.00, 9, -999.00, -999.00, 9, -999.00
49NZ20071122, P14N, 179, 1, 19, X12025, 9, 20071211, 0913, -12.9990, 178.9925, 1556,     49.4, 2,  29.0710, 2,  34.7511, 2, -999.0000, 9,    196.7, 2,   -999.0, 9,  -999.00, 9,  -999.00, 9,  -999.00, 9,  -999.00, 9, -999.000, 9, -999.000, 9, -999.000, 9, -999.000, 9,   -999.0, 9,   -999.0, 9, -999.0000,   -999.00,   -999.0, 9,   -999.0,  -999.00, 9,   -999.0,  29.0590, 21.8575,  29.0693, 2, 9, -999.00, -999.00, -999.00, -999.000,  -999.00, 9, -999.00, -999.00, 9, -999.00
49NZ20071122, P14N, 179, 1, 18, X12024, 9, 20071211, 0913, -12.9990, 178.9925, 1556,    100.3, 2,  28.0818, 2,  35.7501, 2, -999.0000, 9,    188.4, 2,   -999.0, 9,  -999.00, 9,  -999.00, 9,  -999.00, 9,  -999.00, 9, -999.000, 9, -999.000, 9, -999.000, 9, -999.000, 9,   -999.0, 9,   -999.0, 9, -999.0000,   -999.00,   -999.0, 9,   -999.0,  -999.00, 9,   -999.0,  28.0581, 22.9398,  28.0909, 2, 9, -999.00, -999.00, -999.00, -999.000,  -999.00, 9, -999.00, -999.00, 9, -999.00
49NZ20071122, P14N, 179, 1, 17, X12023, 9, 20071211, 0913, -12.9990, 178.9925, 1556,    149.8, 2,  24.2389, 2,  36.0818, 2, -999.0000, 9,    153.9, 2,   -999.0, 9,  -999.00, 9,  -999.00, 9,  -999.00, 9,  -999.00, 9, -999.000, 9, -999.000, 9, -999.000, 9, -999.000, 9,   -999.0, 9,   -999.0, 9, -999.0000,   -999.00,   -999.0, 9,   -999.0,  -999.00, 9,   -999.0,  24.2070, 24.3989,  24.2263, 2, 9, -999.00, -999.00, -999.00, -999.000,  -999.00, 9, -999.00, -999.00, 9, -999.00
49NZ20071122, P14N, 179, 1, 16, X12022, 9, 20071211, 0913, -12.9990, 178.9925, 1556,    249.0, 2,  18.4246, 2,  35.5416, 2, -999.0000, 9,    142.2, 2,   -999.0, 9,  -999.00, 9,  -999.00, 9,  -999.00, 9,  -999.00, 9, -999.000, 9, -999.000, 9, -999.000, 9, -999.000, 9,   -999.0, 9,   -999.0, 9, -999.0000,   -999.00,   -999.0, 9,   -999.0,  -999.00, 9,   -999.0,  18.3809, 25.5921,  18.4282, 2, 9, -999.00, -999.00, -999.00, -999.000,  -999.00, 9, -999.00, -999.00, 9, -999.00
49NZ20071122, P14N, 179, 1, 15, X12021, 9, 20071211, 0913, -12.9990, 178.9925, 1556,    199.5, 2,  21.5706, 2,  35.9284, 2, -999.0000, 9,    146.1, 2,   -999.0, 9,  -999.00, 9,  -999.00, 9,  -999.00, 9,  -999.00, 9, -999.000, 9, -999.000, 9, -999.000, 9, -999.000, 9,   -999.0, 9,   -999.0, 9, -999.0000,   -999.00,   -999.0, 9,   -999.0,  -999.00, 9,   -999.0,  21.5315, 25.0545,  21.5765, 2, 9, -999.00, -999.00, -999.00, -999.000,  -999.00, 9, -999.00, -999.00, 9, -999.00
49NZ20071122, P14N, 179, 1, 14, X12020, 9, 20071211, 0913, -12.9990, 178.9925, 1556,    329.9, 2,  13.1897, 2,  34.9527, 2, -999.0000, 9,    125.9, 2,   -999.0, 9,  -999.00, 9,  -999.00, 9,  -999.00, 9,  -999.00, 9, -999.000, 9, -999.000, 9, -999.000, 9, -999.000, 9,   -999.0, 9,   -999.0, 9, -999.0000,   -999.00,   -999.0, 9,   -999.0,  -999.00, 9,   -999.0,  13.1437, 26.3273,  13.1744, 2, 9, -999.00, -999.00, -999.00, -999.000,  -999.00, 9, -999.00, -999.00, 9, -999.00
49NZ20071122, P14N, 179, 1, 13, X12019, 9, 20071211, 0913, -12.9990, 178.9925, 1556,    429.9, 2,   9.2528, 2,  34.6222, 2, -999.0000, 9,    144.1, 2,   -999.0, 9,  -999.00, 9,  -999.00, 9,  -999.00, 9,  -999.00, 9, -999.000, 9, -999.000, 9, -999.000, 9, -999.000, 9,   -999.0, 9,   -999.0, 9, -999.0000,   -999.00,   -999.0, 9,   -999.0,  -999.00, 9,   -999.0,   9.2049, 26.7893,   9.2537, 2, 9, -999.00, -999.00, -999.00, -999.000,  -999.00, 9, -999.00, -999.00, 9, -999.00
49NZ20071122, P14N, 179, 1, 12, X12040, 9, 20071211, 0913, -12.9990, 178.9925, 1556,    530.5, 2,   7.3223, 2,  34.5144, 2, -999.0000, 9,    168.7, 2,   -999.0, 9,  -999.00, 9,  -999.00, 9,  -999.00, 9,  -999.00, 9, -999.000, 9, -999.000, 9, -999.000, 9, -999.000, 9,   -999.0, 9,   -999.0, 9, -999.0000,   -999.00,   -999.0, 9,   -999.0,  -999.00, 9,   -999.0,   7.2705, 26.9984,   7.3237, 2, 9, -999.00, -999.00, -999.00, -999.000,  -999.00, 9, -999.00, -999.00, 9, -999.00
49NZ20071122, P14N, 179, 1, 11, X12047, 9, 20071211, 0913, -12.9990, 178.9925, 1556,    730.4, 2,   5.5172, 2,  34.4797, 2, -999.0000, 9,    145.3, 2,   -999.0, 9,  -999.00, 9,  -999.00, 9,  -999.00, 9,  -999.00, 9, -999.000, 9, -999.000, 9, -999.000, 9, -999.000, 9,   -999.0, 9,   -999.0, 9, -999.0000,   -999.00,   -999.0, 9,   -999.0,  -999.00, 9,   -999.0,   5.4549, 27.2090,   5.5174, 2, 9, -999.00, -999.00, -999.00, -999.000,  -999.00, 9, -999.00, -999.00, 9, -999.00
49NZ20071122, P14N, 179, 1, 10, X12012, 9, 20071211, 0913, -12.9990, 178.9925, 1556,    730.2, 2,   5.5155, 2,  34.4793, 2, -999.0000, 9,    145.3, 2,   -999.0, 9,  -999.00, 9,  -999.00, 9,  -999.00, 9,  -999.00, 9, -999.000, 9, -999.000, 9, -999.000, 9, -999.000, 9,   -999.0, 9,   -999.0, 9, -999.0000,   -999.00,   -999.0, 9,   -999.0,  -999.00, 9,   -999.0,   5.4532, 27.2089,   5.5143, 2, 9, -999.00, -999.00, -999.00, -999.000,  -999.00, 9, -999.00, -999.00, 9, -999.00
49NZ20071122, P14N, 179, 1, 9, X12015, 9, 20071211, 0913, -12.9990, 178.9925, 1556,    832.1, 2,   4.7977, 2,  34.4705, 2, -999.0000, 9,    151.0, 2,   -999.0, 9,  -999.00, 9,  -999.00, 9,  -999.00, 9,  -999.00, 9, -999.000, 9, -999.000, 9, -999.000, 9, -999.000, 9,   -999.0, 9,   -999.0, 9, -999.0000,   -999.00,   -999.0, 9,   -999.0,  -999.00, 9,   -999.0,   4.7307, 27.2861,   4.7977, 2, 9, -999.00, -999.00, -999.00, -999.000,  -999.00, 9, -999.00, -999.00, 9, -999.00
49NZ20071122, P14N, 179, 1, 8, X12046, 9, 20071211, 0913, -12.9990, 178.9925, 1556,    830.8, 2,   4.8013, 2,  34.4701, 2, -999.0000, 9,    151.0, 2,   -999.0, 9,  -999.00, 9,  -999.00, 9,  -999.00, 9,  -999.00, 9, -999.000, 9, -999.000, 9, -999.000, 9, -999.000, 9,   -999.0, 9,   -999.0, 9, -999.0000,   -999.00,   -999.0, 9,   -999.0,  -999.00, 9,   -999.0,   4.7344, 27.2854,   4.8016, 2, 9, -999.00, -999.00, -999.00, -999.000,  -999.00, 9, -999.00, -999.00, 9, -999.00
49NZ20071122, P14N, 179, 1, 7, X12044, 9, 20071211, 0913, -12.9990, 178.9925, 1556,    928.5, 2,   4.4367, 2,  34.4890, 2, -999.0000, 9,    145.9, 2,   -999.0, 9,  -999.00, 9,  -999.00, 9,  -999.00, 9,  -999.00, 9, -999.000, 9, -999.000, 9, -999.000, 9, -999.000, 9,   -999.0, 9,   -999.0, 9, -999.0000,   -999.00,   -999.0, 9,   -999.0,  -999.00, 9,   -999.0,   4.3638, 27.3412,   4.4368, 2, 9, -999.00, -999.00, -999.00, -999.000,  -999.00, 9, -999.00, -999.00, 9, -999.00
49NZ20071122, P14N, 179, 1, 6, X12048, 9, 20071211, 0913, -12.9990, 178.9925, 1556,   1068.9, 2,   3.8948, 2,  34.5132, 2, -999.0000, 9,    143.7, 2,   -999.0, 9,  -999.00, 9,  -999.00, 9,  -999.00, 9,  -999.00, 9, -999.000, 9, -999.000, 9, -999.000, 9, -999.000, 9,   -999.0, 9,   -999.0, 9, -999.0000,   -999.00,   -999.0, 9,   -999.0,  -999.00, 9,   -999.0,   3.8142, 27.4180,   3.8947, 2, 9, -999.00, -999.00, -999.00, -999.000,  -999.00, 9, -999.00, -999.00, 9, -999.00
49NZ20071122, P14N, 179, 1, 5, X12014, 9, 20071211, 0913, -12.9990, 178.9925, 1556,   1269.3, 2,   3.2362, 2,  34.5550, 2, -999.0000, 9,    141.6, 2,   -999.0, 9,  -999.00, 9,  -999.00, 9,  -999.00, 9,  -999.00, 9, -999.000, 9, -999.000, 9, -999.000, 9, -999.000, 9,   -999.0, 9,   -999.0, 9, -999.0000,   -999.00,   -999.0, 9,   -999.0,  -999.00, 9,   -999.0,   3.1449, 27.5165,   3.2360, 2, 9, -999.00, -999.00, -999.00, -999.000,  -999.00, 9, -999.00, -999.00, 9, -999.00
49NZ20071122, P14N, 179, 1, 4, X12006, 9, 20071211, 0913, -12.9990, 178.9925, 1556,   1268.5, 2,   3.2365, 2,  34.5550, 2, -999.0000, 9,    141.6, 2,   -999.0, 9,  -999.00, 9,  -999.00, 9,  -999.00, 9,  -999.00, 9, -999.000, 9, -999.000, 9, -999.000, 9, -999.000, 9,   -999.0, 9,   -999.0, 9, -999.0000,   -999.00,   -999.0, 9,   -999.0,  -999.00, 9,   -999.0,   3.1453, 27.5165,   3.2362, 2, 9, -999.00, -999.00, -999.00, -999.000,  -999.00, 9, -999.00, -999.00, 9, -999.00
49NZ20071122, P14N, 179, 1, 3, X12013, 9, 20071211, 0913, -12.9990, 178.9925, 1556,   1471.1, 2,   2.8008, 2,  34.5843, 2, -999.0000, 9,    142.4, 2,   -999.0, 9,  -999.00, 9,  -999.00, 9,  -999.00, 9,  -999.00, 9, -999.000, 9, -999.000, 9, -999.000, 9, -999.000, 9,   -999.0, 9,   -999.0, 9, -999.0000,   -999.00,   -999.0, 9,   -999.0,  -999.00, 9,   -999.0,   2.6976, 27.5804,   2.8003, 2, 9, -999.00, -999.00, -999.00, -999.000,  -999.00, 9, -999.00, -999.00, 9, -999.00
49NZ20071122, P14N, 179, 1, 2, X12002, 9, 20071211, 0913, -12.9990, 178.9925, 1556,   1470.5, 2,   2.8006, 2,  34.5843, 2, -999.0000, 9,    142.5, 2,   -999.0, 9,  -999.00, 9,  -999.00, 9,  -999.00, 9,  -999.00, 9, -999.000, 9, -999.000, 9, -999.000, 9, -999.000, 9,   -999.0, 9,   -999.0, 9, -999.0000,   -999.00,   -999.0, 9,   -999.0,  -999.00, 9,   -999.0,   2.6974, 27.5804,   2.8001, 2, 9, -999.00, -999.00, -999.00, -999.000,  -999.00, 9, -999.00, -999.00, 9, -999.00
49NZ20071122, P14N, 179, 1, 1, X12001, 2, 20071211, 0913, -12.9990, 178.9925, 1556,   1560.6, 2,   2.7202, 2,  34.5901, 2,  34.5908, 6,    142.6, 2,    142.8, 2,   100.70, 2,    35.95, 2,     0.01, 2,     2.54, 2,    0.000, 2,    0.002, 2,    0.002, 2, -999.000, 9,   2290.8, 2,   2378.4, 2,    7.5777,     25.00,   -999.0, 9,   -999.0,  -999.00, 9,   -999.0,   2.6106, 27.5927,   2.7192, 2, 2, 0.34, 0.13, 0.01, 0.016,  -999.00, 9, -999.00, -999.00, 9, -999.00