BOTTLE,20220820CCHSIOAMB
EXPOCODE,SECT_ID,STNNBR,CASTNO,SAMPNO,BTLNBR,BTLNBR_FLAG_W,DATE,TIME,LATITUDE,LONGITUDE,DEPTH,CTDPRS,CTDPRS_FLAG_W,CTDTMP,CTDTMP_FLAG_W,CTDSAL,CTDSAL_FLAG_W,SALNTY,SALNTY_FLAG_W,CTDOXY,CTDOXY_FLAG_W,OXYGEN,OXYGEN_FLAG_W,SILCAT,SILCAT_FLAG_W,NITRAT,NITRAT_FLAG_W,NITRIT,NITRIT_FLAG_W,PHSPHT,PHSPHT_FLAG_W,CFC-11,CFC-11_FLAG_W,CFC-12,CFC-12_FLAG_W,CFC113,CFC113_FLAG_W,CCL4,CCL4_FLAG_W,TCARBN,TCARBN_FLAG_W,ALKALI,ALKALI_FLAG_W,PH_TOT,PH_TMP,DELC14,DELC14_FLAG_W,C14ERR,DELC13,DELC13_FLAG_W,C13ERR,THETA,SIG0,SBE35,SBE35_FLAG_W,PH_TOT_FLAG_W,SILUNC,NRAUNC,NRIUNC,PHPUNC,CS-137,CS-137_FLAG_W,CS137ER,PLUTO,PLUTO_FLAG_W,PLUTOER
,,,,,,,,,,,METERS,DBAR,,ITS-90,,PSS-78,,PSS-78,,UMOL/KG,,UMOL/KG,,UMOL/KG,,UMOL/KG,,UMOL/KG,,UMOL/KG,,PMOL/KG,,PMOL/KG,,PMOL/KG,,PMOL/KG,,UMOL/KG,,UMOL/KG,,,DEG C,/MILLE,,/MILLE,/MILLE,,/MILLE,DEG C,KG/M^3,ITS-90,,,UMOL/KG,UMOL/KG,UMOL/KG,UMOL/KG,DM/.1MG,,BQ/M^3,MBQ/M^3,,MBQ/M^3
49NZ20071122, P14N, 133, 1, 36, X12042, 2, 20071129, 1235, 2.4970, 179.0017, 4876,     10.5, 2,  27.4341, 2,  35.1412, 2,  35.1427, 2,    204.4, 2,    202.9, 2,     1.61, 2,     2.61, 2,     0.12, 2,     0.39, 2,    1.541, 2,    0.970, 2,    0.199, 4, -999.000, 9,   2001.3, 2,   2312.5, 2,    8.0643,     25.00,   -999.0, 9,   -999.0,  -999.00, 9,   -999.0,  27.4317, 22.6855,  27.4330, 2, 2, 0.12, 0.04, 0.01, 0.013,  -999.00, 9, -999.00, -999.00, 9, -999.00
49NZ20071122, P14N, 133, 1, 35, X12041, 2, 20071129, 1235, 2.4970, 179.0017, 4876,     50.5, 2,  27.0416, 2,  35.1697, 2,  35.1710, 2,    196.9, 2,    196.1, 2,     1.77, 2,     3.07, 2,     0.30, 2,     0.46, 2,    1.575, 2,    0.976, 2,    0.200, 4, -999.000, 9,   2014.5, 6,   2315.0, 2,    8.0451,     25.00,   -999.0, 9,   -999.0,  -999.00, 9,   -999.0,  27.0300, 22.8360,  27.0400, 2, 2, 0.12, 0.04, 0.01, 0.013,  -999.00, 9, -999.00, -999.00, 9, -999.00
49NZ20071122, P14N, 133, 1, 34, X12016, 2, 20071129, 1235, 2.4970, 179.0017, 4876,    100.7, 2,  26.8131, 2,  35.1863, 2,  35.1885, 2,    190.7, 2,    192.4, 2,     1.94, 2,     3.57, 2,     0.73, 2,     0.53, 2,    1.605, 2,    0.990, 2,    0.182, 4, -999.000, 9,   2025.1, 2,   2315.6, 6,    8.0292,     25.00,   -999.0, 9,   -999.0,  -999.00, 9,   -999.0,  26.7901, 22.9250,  26.8118, 2, 2, 0.12, 0.04, 0.00, 0.013,  -999.00, 9, -999.00, -999.00, 9, -999.00
49NZ20071122, P14N, 133, 1, 33, X12033, 2, 20071129, 1235, 2.4970, 179.0017, 4876,    150.5, 2,  26.7097, 2,  35.2810, 2,  35.2772, 2,    182.8, 2,    185.3, 2,     2.14, 2,     4.13, 2,     1.39, 2,     0.56, 2,    1.618, 6,    1.000, 6,    0.170, 4, -999.000, 9,   2035.0, 2,   2318.7, 2,    8.0176,     25.00,   -999.0, 9,   -999.0,  -999.00, 9,   -999.0,  26.6754, 23.0328,  26.7076, 2, 6, 0.12, 0.04, 0.02, 0.013,  -999.00, 9, -999.00, -999.00, 9, -999.00
49NZ20071122, P14N, 133, 1, 32, X12038, 2, 20071129, 1235, 2.4970, 179.0017, 4876,    200.2, 2,  16.1609, 2,  34.7653, 2,  34.7262, 2,    129.5, 2,    128.4, 2,    14.70, 2,    15.61, 2,     0.02, 2,     1.19, 2,    1.926, 2,    1.072, 2,    0.034, 2, -999.000, 9,   2125.1, 2,   2293.8, 2,    7.7953,     25.00,   -999.0, 9,   -999.0,  -999.00, 9,   -999.0,  16.1290, 25.5375,  16.1376, 2, 2, 0.15, 0.08, 0.01, 0.013,  -999.00, 9, -999.00, -999.00, 9, -999.00
49NZ20071122, P14N, 133, 1, 31, X12003, 2, 20071129, 1235, 2.4970, 179.0017, 4876,    249.1, 2,  11.7674, 2,  34.8243, 2,  34.8251, 6,     90.2, 2,     92.9, 2,    21.17, 2,    25.53, 2,     0.01, 2,     1.85, 2,    1.045, 2,    0.558, 2,    0.017, 2, -999.000, 9,   2195.8, 2,   2306.3, 2,    7.6533,     25.00,   -999.0, 9,   -999.0,  -999.00, 9,   -999.0,  11.7353, 26.5029,  11.7645, 2, 2, 0.17, 0.10, 0.01, 0.015,  -999.00, 9, -999.00, -999.00, 9, -999.00
49NZ20071122, P14N, 133, 1, 30, X12008, 2, 20071129, 1235, 2.4970, 179.0017, 4876,    298.9, 2,  11.2483, 2,  34.7956, 2,  34.7930, 2,     73.2, 2,     64.7, 2,    24.55, 2,    29.30, 2,     0.00, 2,     2.09, 2,    0.808, 2,    0.432, 2,    0.012, 2, -999.000, 9,   2217.9, 2,   2305.2, 2,    7.5858,     25.00,   -999.0, 9,   -999.0,  -999.00, 9,   -999.0,  11.2108, 26.5779,  11.2549, 2, 2, 0.17, 0.11, 0.01, 0.015,  -999.00, 9, -999.00, -999.00, 9, -999.00
49NZ20071122, P14N, 133, 1, 29, X12035, 2, 20071129, 1235, 2.4970, 179.0017, 4876,    400.0, 2,  10.3082, 2,  34.7254, 2,  34.7246, 2,     72.2, 2,     80.1, 2,    26.88, 2,    29.47, 2,     0.01, 2,     2.10, 2,    0.721, 2,    0.385, 2,    0.010, 2, -999.000, 9,   2214.7, 2,   2306.8, 2,    7.5934,     25.00,   -999.0, 9,   -999.0,  -999.00, 9,   -999.0,  10.2606, 26.6927,  10.3105, 2, 2, 0.18, 0.12, 0.01, 0.015,  -999.00, 9, -999.00, -999.00, 9, -999.00
49NZ20071122, P14N, 133, 1, 28, X12034, 2, 20071129, 1235, 2.4970, 179.0017, 4876,    502.3, 2,   9.1557, 2,  34.6589, 2,  34.6582, 6,     67.3, 2,     67.3, 2,    32.42, 2,    32.97, 2,     0.01, 2,     2.33, 2,    0.402, 2,    0.216, 2,    0.009, 2, -999.000, 9,   2238.0, 2,   2307.2, 2,    7.5416,     25.00,   -999.0, 9,   -999.0,  -999.00, 9,   -999.0,   9.0998, 26.8350,   9.1563, 2, 2, 0.19, 0.13, 0.01, 0.016,  -999.00, 9, -999.00, -999.00, 9, -999.00
49NZ20071122, P14N, 133, 1, 27, X12049, 2, 20071129, 1235, 2.4970, 179.0017, 4876,    602.9, 2,   8.0207, 2,  34.5972, 2,  34.5971, 2,     80.4, 2,     80.9, 2,    37.82, 2,    33.75, 2,     0.00, 2,     2.40, 2,    0.289, 2,    0.156, 2,    0.007, 2, -999.000, 9,   2239.7, 2,   2311.4, 2,    7.5438,     25.00,   -999.0, 9,   -999.0,  -999.00, 9,   -999.0,   7.9584, 26.9637,   8.0217, 2, 2, 0.20, 0.13, 0.01, 0.016,  -999.00, 9, -999.00, -999.00, 9, -999.00
49NZ20071122, P14N, 133, 1, 26, X12032, 2, 20071129, 1235, 2.4970, 179.0017, 4876,    702.4, 2,   6.9103, 2,  34.5695, 2,  34.5693, 2,     47.4, 2,     48.0, 2,    51.11, 2,    39.21, 2,     0.01, 2,     2.83, 2,    0.042, 6,    0.023, 6,    0.006, 6, -999.000, 9,   2279.1, 6,   2321.7, 2,    7.4603,     25.00,   -999.0, 9,   -999.0,  -999.00, 9,   -999.0,   6.8430, 27.1012,   6.9124, 2, 2, 0.23, 0.14, 0.01, 0.017,  -999.00, 9, -999.00, -999.00, 9, -999.00
49NZ20071122, P14N, 133, 1, 25, X12043, 2, 20071129, 1235, 2.4970, 179.0017, 4876,    798.7, 2,   6.0584, 2,  34.5506, 2,  34.5509, 2,     61.9, 2,     60.7, 2,    60.07, 2,    39.77, 2,     0.00, 2,     2.86, 2,    0.019, 2,    0.008, 2,    0.005, 2, -999.000, 9,   2285.6, 2,   2330.8, 6,    7.4702,     25.00,   -999.0, 9,   -999.0,  -999.00, 9,   -999.0,   5.9865, 27.1993,   6.0529, 2, 2, 0.25, 0.14, 0.01, 0.017,  -999.00, 9, -999.00, -999.00, 9, -999.00
49NZ20071122, P14N, 133, 1, 24, X12030, 2, 20071129, 1235, 2.4970, 179.0017, 4876,    901.3, 2,   5.3170, 2,  34.5460, 2,  34.5464, 2,     74.5, 2,     73.1, 2,    70.95, 2,    39.58, 2,     0.00, 2,     2.84, 2,    0.012, 2,    0.006, 2,    0.004, 2, -999.000, 9,   2290.5, 2,   2343.2, 2,    7.4846,     25.00,   -999.0, 9,   -999.0,  -999.00, 9,   -999.0,   5.2403, 27.2872,   5.3194, 2, 6, 0.28, 0.14, 0.01, 0.017,  -999.00, 9, -999.00, -999.00, 9, -999.00
49NZ20071122, P14N, 133, 1, 23, X12027, 2, 20071129, 1235, 2.4970, 179.0017, 4876,   1001.2, 2,   4.7541, 2,  34.5518, 2,  34.5515, 6,     79.4, 2,     78.9, 2,    80.45, 2,    39.58, 2,     0.00, 2,     2.85, 2,    0.002, 2,    0.002, 2,    0.000, 2, -999.000, 9,   2298.2, 2,   2354.6, 2,    7.4915,     25.00,   -999.0, 9,   -999.0,  -999.00, 9,   -999.0,   4.6725, 27.3571,   4.7542, 2, 2, 0.30, 0.14, 0.01, 0.017,  -999.00, 9, -999.00, -999.00, 9, -999.00
49NZ20071122, P14N, 133, 1, 22, X12028, 2, 20071129, 1235, 2.4970, 179.0017, 4876,   1202.9, 2,   3.8875, 2,  34.5727, 2,  34.5726, 2,     84.7, 2,     84.9, 2,    98.28, 2,    39.77, 2,     0.00, 2,     2.88, 2,    0.000, 2,    0.000, 2,    0.000, 2, -999.000, 9,   2316.6, 2,   2374.2, 2,    7.4969,     25.00,   -999.0, 9,   -999.0,  -999.00, 9,   -999.0,   3.7956, 27.4672,   3.8869, 2, 2, 0.34, 0.14, 0.01, 0.017,  -999.00, 9, -999.00, -999.00, 9, -999.00
49NZ20071122, P14N, 133, 1, 21, X12009, 2, 20071129, 1235, 2.4970, 179.0017, 4876,   1400.5, 2,   3.3094, 2,  34.5915, 2,  34.5925, 2,     90.2, 2,     90.2, 2,   111.90, 2,    39.72, 2,     0.00, 2,     2.87, 2,    0.000, 2,    0.000, 2,    0.000, 2, -999.000, 9,   2328.0, 2,   2389.0, 2,    7.5025,     25.00,   -999.0, 9,   -999.0,  -999.00, 9,   -999.0,   3.2064, 27.5398,   3.3113, 2, 2, 0.37, 0.14, 0.01, 0.017,  -999.00, 9, -999.00, -999.00, 9, -999.00
49NZ20071122, P14N, 133, 1, 20, X12026, 2, 20071129, 1235, 2.4970, 179.0017, 4876,   1600.0, 2,   2.8639, 2,  34.6092, 2,  34.6096, 2,     95.6, 2,     95.7, 2,   122.05, 2,    39.58, 2,     0.00, 2,     2.85, 2,    0.000, 2,    0.000, 2,    0.000, 2, -999.000, 9,   2336.2, 2,   2399.7, 2,    7.5103,     25.00,   -999.0, 9,   -999.0,  -999.00, 9,   -999.0,   2.7492, 27.5957,   2.8639, 2, 6, 0.39, 0.14, 0.01, 0.017,  -999.00, 9, -999.00, -999.00, 9, -999.00
49NZ20071122, P14N, 133, 1, 19, X12025, 2, 20071129, 1235, 2.4970, 179.0017, 4876,   1800.6, 2,   2.5473, 2,  34.6230, 2,  34.6234, 2,    104.4, 2,    104.5, 2,   127.72, 2,    38.99, 2,     0.00, 2,     2.80, 2, -999.000, 9, -999.000, 9, -999.000, 9, -999.000, 9,   2337.0, 2,   2406.2, 2,    7.5245,     25.00,   -999.0, 9,   -999.0,  -999.00, 9,   -999.0,   2.4198, 27.6353,   2.5474, 2, 2, 0.40, 0.14, 0.01, 0.017,  -999.00, 9, -999.00, -999.00, 9, -999.00
49NZ20071122, P14N, 133, 1, 18, X12024, 2, 20071129, 1235, 2.4970, 179.0017, 4876,   2001.6, 2,   2.2995, 2,  34.6358, 2,  34.6365, 2,    109.7, 2,    110.2, 2,   133.17, 2,    38.73, 2,     0.00, 2,     2.76, 2,    0.000, 2,    0.000, 2,    0.000, 2, -999.000, 9,   2341.3, 2,   2411.3, 2,    7.5339,     25.00,   -999.0, 9,   -999.0,  -999.00, 9,   -999.0,   2.1584, 27.6672,   2.2995, 2, 2, 0.41, 0.14, 0.01, 0.017,  -999.00, 9, -999.00, -999.00, 9, -999.00
49NZ20071122, P14N, 133, 1, 17, X12023, 2, 20071129, 1235, 2.4970, 179.0017, 4876,   2202.8, 2,   2.0382, 2,  34.6503, 2,  34.6508, 6,    114.2, 2,    115.5, 2,   139.42, 2,    38.42, 2,     0.00, 2,     2.74, 2, -999.000, 9, -999.000, 9, -999.000, 9, -999.000, 9,   2343.4, 2,   2418.7, 2,    7.5439,     25.00,   -999.0, 9,   -999.0,  -999.00, 9,   -999.0,   1.8838, 27.7006,   2.0377, 2, 2, 0.43, 0.14, 0.01, 0.017,  -999.00, 9, -999.00, -999.00, 9, -999.00
49NZ20071122, P14N, 133, 1, 16, X12022, 2, 20071129, 1235, 2.4970, 179.0017, 4876,   2401.4, 2,   1.9014, 2,  34.6585, 2,  34.6587, 2,    119.2, 2,    121.2, 2,   141.40, 2,    38.09, 2,     0.00, 2,     2.71, 2, -999.000, 9, -999.000, 9, -999.000, 9, -999.000, 9,   2345.8, 6,   2421.5, 2,    7.5529,     25.00,   -999.0, 9,   -999.0,  -999.00, 9,   -999.0,   1.7318, 27.7189,   1.9014, 2, 2, 0.43, 0.14, 0.01, 0.017,  -999.00, 9, -999.00, -999.00, 9, -999.00
49NZ20071122, P14N, 133, 1, 15, X12021, 2, 20071129, 1235, 2.4970, 179.0017, 4876,   2600.8, 2,   1.8035, 2,  34.6646, 2,  34.6647, 2,    123.6, 2,    124.1, 2,   144.11, 2,    37.96, 2,     0.00, 2,     2.68, 2,    0.000, 2,    0.000, 2,    0.000, 2, -999.000, 9,   2344.5, 2,   2425.0, 6,    7.5574,     25.00,   -999.0, 9,   -999.0,  -999.00, 9,   -999.0,   1.6177, 27.7323,   1.8035, 2, 2, 0.44, 0.14, 0.01, 0.017,  -999.00, 9, -999.00, -999.00, 9, -999.00
49NZ20071122, P14N, 133, 1, 14, X12020, 2, 20071129, 1235, 2.4970, 179.0017, 4876,   2802.6, 2,   1.7321, 2,  34.6680, 2,  34.6683, 2,    129.2, 2,    130.3, 2,   143.34, 2,    37.49, 2,     0.00, 2,     2.65, 2, -999.000, 9, -999.000, 9, -999.000, 9, -999.000, 9,   2341.8, 2,   2423.7, 2,    7.5661,     25.00,   -999.0, 9,   -999.0,  -999.00, 9,   -999.0,   1.5290, 27.7416,   1.7321, 2, 6, 0.43, 0.14, 0.01, 0.017,  -999.00, 9, -999.00, -999.00, 9, -999.00
49NZ20071122, P14N, 133, 1, 13, X12019, 2, 20071129, 1235, 2.4970, 179.0017, 4876,   3001.8, 2,   1.6773, 2,  34.6712, 2,  34.6709, 2,    134.1, 2,    134.5, 2,   143.10, 2,    37.32, 2,     0.00, 2,     2.63, 2, -999.000, 9, -999.000, 9, -999.000, 9, -999.000, 9,   2337.2, 2,   2423.1, 2,    7.5710,     25.00,   -999.0, 9,   -999.0,  -999.00, 9,   -999.0,   1.4565, 27.7495,   1.6773, 2, 2, 0.43, 0.14, 0.01, 0.017,  -999.00, 9, -999.00, -999.00, 9, -999.00
49NZ20071122, P14N, 133, 1, 12, X12040, 2, 20071129, 1235, 2.4970, 179.0017, 4876,   3251.1, 2,   1.5953, 2,  34.6765, 2,  34.6762, 2,    140.6, 2,    141.2, 2,   142.46, 2,    36.73, 2,     0.00, 2,     2.58, 2,    0.000, 2,    0.000, 2,    0.000, 2, -999.000, 9,   2333.4, 2,   2421.1, 2,    7.5806,     25.00,   -999.0, 9,   -999.0,  -999.00, 9,   -999.0,   1.3519, 27.7612,   1.5952, 2, 2, 0.43, 0.14, 0.01, 0.016,  -999.00, 9, -999.00, -999.00, 9, -999.00
49NZ20071122, P14N, 133, 1, 11, X12047, 2, 20071129, 1235, 2.4970, 179.0017, 4876,   3500.0, 2,   1.5276, 2,  34.6817, 2,  34.6817, 2,    148.3, 2,    149.2, 2,   140.50, 2,    36.21, 2,     0.00, 2,     2.54, 2, -999.000, 9, -999.000, 9, -999.000, 9, -999.000, 9,   2326.9, 2,   2419.5, 2,    7.5903,     25.00,   -999.0, 9,   -999.0,  -999.00, 9,   -999.0,   1.2608, 27.7718,   1.5276, 2, 2, 0.43, 0.13, 0.01, 0.016,  -999.00, 9, -999.00, -999.00, 9, -999.00
49NZ20071122, P14N, 133, 1, 10, X12012, 2, 20071129, 1235, 2.4970, 179.0017, 4876,   3749.2, 2,   1.4975, 2,  34.6851, 2,  34.6848, 2,    153.2, 2,    153.7, 2,   139.35, 2,    35.93, 2,     0.00, 2,     2.52, 2, -999.000, 9, -999.000, 9, -999.000, 9, -999.000, 9,   2322.2, 2,   2418.0, 2,    7.5970,     25.00,   -999.0, 9,   -999.0,  -999.00, 9,   -999.0,   1.2055, 27.7784,   1.4975, 2, 2, 0.43, 0.13, 0.01, 0.016,  -999.00, 9, -999.00, -999.00, 9, -999.00
49NZ20071122, P14N, 133, 1, 9, X12015, 2, 20071129, 1235, 2.4970, 179.0017, 4876,   4001.8, 2,   1.4418, 2,  34.6900, 2,  34.6897, 6,    161.2, 2,    161.4, 2,   136.83, 2,    35.40, 2,     0.00, 2,     2.48, 2,    0.000, 2,    0.000, 2,    0.000, 2, -999.000, 9,   2316.7, 2,   2414.5, 2,    7.6060,     25.00,   -999.0, 9,   -999.0,  -999.00, 9,   -999.0,   1.1243, 27.7879,   1.4417, 2, 2, 0.42, 0.13, 0.01, 0.016,  -999.00, 9, -999.00, -999.00, 9, -999.00
49NZ20071122, P14N, 133, 1, 8, X12046, 2, 20071129, 1235, 2.4970, 179.0017, 4876,   4250.4, 2,   1.3566, 2,  34.6961, 2,  34.6963, 2,    172.0, 2,    172.5, 2,   132.23, 2,    34.60, 2,     0.00, 2,     2.42, 2,    0.000, 2,    0.000, 2,    0.000, 2, -999.000, 9,   2305.0, 6,   2407.4, 2,    7.6165,     25.00,   -999.0, 9,   -999.0,  -999.00, 9,   -999.0,   1.0142, 27.8002,   1.3565, 2, 2, 0.41, 0.13, 0.01, 0.016,  -999.00, 9, -999.00, -999.00, 9, -999.00
49NZ20071122, P14N, 133, 1, 7, X12044, 2, 20071129, 1235, 2.4970, 179.0017, 4876,   4500.5, 2,   1.2695, 2,  34.7017, 2,  34.7017, 2,    183.0, 2,    183.4, 2,   127.49, 2,    33.79, 2,     0.00, 2,     2.36, 2,    0.000, 2,    0.000, 2,    0.000, 2, -999.000, 9,   2292.4, 2,   2398.4, 6,    7.6252,     25.00,   -999.0, 9,   -999.0,  -999.00, 9,   -999.0,   0.9015, 27.8122,   1.2696, 2, 2, 0.40, 0.13, 0.01, 0.016,  -999.00, 9, -999.00, -999.00, 9, -999.00
49NZ20071122, P14N, 133, 1, 6, X12048, 2, 20071129, 1235, 2.4970, 179.0017, 4876,   4752.1, 2,   1.2635, 2,  34.7035, 2,  34.7035, 2,    187.1, 2,    187.4, 2,   125.49, 2,    33.53, 2,     0.00, 2,     2.34, 2,    0.000, 2,    0.000, 2,    0.000, 2, -999.000, 9,   2287.6, 2,   2396.0, 2,    7.6272,     25.00,   -999.0, 9,   -999.0,  -999.00, 9,   -999.0,   0.8666, 27.8158,   1.2634, 2, 6, 0.40, 0.13, 0.01, 0.016,  -999.00, 9, -999.00, -999.00, 9, -999.00
49NZ20071122, P14N, 133, 1, 5, X12014, 9, 20071129, 1235, 2.4970, 179.0017, 4876,     10.7, 2,  27.4271, 2,  35.1443, 2, -999.0000, 9,    204.4, 2,   -999.0, 9,  -999.00, 9,  -999.00, 9,  -999.00, 9,  -999.00, 9, -999.000, 9, -999.000, 9, -999.000, 9, -999.000, 9,   -999.0, 9,   -999.0, 9, -999.0000,   -999.00,   -999.0, 9,   -999.0,  -999.00, 9,   -999.0,  27.4246, 22.6901,  27.4263, 2, 9, -999.00, -999.00, -999.00, -999.000,  -999.00, 9, -999.00, -999.00, 9, -999.00
49NZ20071122, P14N, 133, 1, 4, X12006, 9, 20071129, 1235, 2.4970, 179.0017, 4876,     50.8, 2,  27.0424, 2,  35.1699, 2, -999.0000, 9,    196.9, 2,   -999.0, 9,  -999.00, 9,  -999.00, 9,  -999.00, 9,  -999.00, 9, -999.000, 9, -999.000, 9, -999.000, 9, -999.000, 9,   -999.0, 9,   -999.0, 9, -999.0000,   -999.00,   -999.0, 9,   -999.0,  -999.00, 9,   -999.0,  27.0307, 22.8359,  27.0419, 2, 9, -999.00, -999.00, -999.00, -999.000,  -999.00, 9, -999.00, -999.00, 9, -999.00
49NZ20071122, P14N, 133, 1, 3, X12013, 9, 20071129, 1235, 2.4970, 179.0017, 4876,    100.7, 2,  26.8164, 2,  35.1859, 2, -999.0000, 9,    190.8, 2,   -999.0, 9,  -999.00, 9,  -999.00, 9,  -999.00, 9,  -999.00, 9, -999.000, 9, -999.000, 9, -999.000, 9, -999.000, 9,   -999.0, 9,   -999.0, 9, -999.0000,   -999.00,   -999.0, 9,   -999.0,  -999.00, 9,   -999.0,  26.7934, 22.9237,  26.8149, 2, 9, -999.00, -999.00, -999.00, -999.000,  -999.00, 9, -999.00, -999.00, 9, -999.00
49NZ20071122, P14N, 133, 1, 2, X12002, 9, 20071129, 1235, 2.4970, 179.0017, 4876,    149.7, 2,  26.6935, 2,  35.2790, 2, -999.0000, 9,    182.8, 2,   -999.0, 9,  -999.00, 9,  -999.00, 9,  -999.00, 9,  -999.00, 9, -999.000, 9, -999.000, 9, -999.000, 9, -999.000, 9,   -999.0, 9,   -999.0, 9, -999.0000,   -999.00,   -999.0, 9,   -999.0,  -999.00, 9,   -999.0,  26.6594, 23.0364,  26.6882, 2, 9, -999.00, -999.00, -999.00, -999.000,  -999.00, 9, -999.00, -999.00, 9, -999.00
49NZ20071122, P14N, 133, 1, 1, X12001, 2, 20071129, 1235, 2.4970, 179.0017, 4876,   4913.0, 2,   1.2690, 2,  34.7041, 2,  34.7045, 6,    188.8, 2,    189.0, 2,   124.70, 2,    33.44, 2,     0.00, 2,     2.34, 2,    0.000, 2,    0.000, 2,    0.000, 2, -999.000, 9,   2285.7, 2,   2392.5, 2,    7.6274,     25.00,   -999.0, 9,   -999.0,  -999.00, 9,   -999.0,   0.8529, 27.8173,   1.2689, 2, 2, 0.39, 0.13, 0.01, 0.016,  -999.00, 9, -999.00, -999.00, 9, -999.00