BOTTLE,20220820CCHSIOAMB
EXPOCODE,SECT_ID,STNNBR,CASTNO,SAMPNO,BTLNBR,BTLNBR_FLAG_W,DATE,TIME,LATITUDE,LONGITUDE,DEPTH,CTDPRS,CTDPRS_FLAG_W,CTDTMP,CTDTMP_FLAG_W,CTDSAL,CTDSAL_FLAG_W,SALNTY,SALNTY_FLAG_W,CTDOXY,CTDOXY_FLAG_W,OXYGEN,OXYGEN_FLAG_W,SILCAT,SILCAT_FLAG_W,NITRAT,NITRAT_FLAG_W,NITRIT,NITRIT_FLAG_W,PHSPHT,PHSPHT_FLAG_W,CFC-11,CFC-11_FLAG_W,CFC-12,CFC-12_FLAG_W,CFC113,CFC113_FLAG_W,CCL4,CCL4_FLAG_W,TCARBN,TCARBN_FLAG_W,ALKALI,ALKALI_FLAG_W,PH_TOT,PH_TMP,DELC14,DELC14_FLAG_W,C14ERR,DELC13,DELC13_FLAG_W,C13ERR,THETA,SIG0,SBE35,SBE35_FLAG_W,PH_TOT_FLAG_W,SILUNC,NRAUNC,NRIUNC,PHPUNC,CS-137,CS-137_FLAG_W,CS137ER,PLUTO,PLUTO_FLAG_W,PLUTOER
,,,,,,,,,,,METERS,DBAR,,ITS-90,,PSS-78,,PSS-78,,UMOL/KG,,UMOL/KG,,UMOL/KG,,UMOL/KG,,UMOL/KG,,UMOL/KG,,PMOL/KG,,PMOL/KG,,PMOL/KG,,PMOL/KG,,UMOL/KG,,UMOL/KG,,,DEG C,/MILLE,,/MILLE,/MILLE,,/MILLE,DEG C,KG/M^3,ITS-90,,,UMOL/KG,UMOL/KG,UMOL/KG,UMOL/KG,DM/.1MG,,BQ/M^3,MBQ/M^3,,MBQ/M^3
49NZ20071122, P14N, 140, 2, 36, X12042, 2, 20071201, 0513, 0.7428, 178.9878, 5520,     10.8, 2,  27.5721, 2,  35.1726, 2,  35.1731, 2,    202.8, 2,    202.1, 2,     1.67, 2,     2.39, 2,     0.29, 2,     0.38, 2,    1.526, 2,    0.944, 2,    0.190, 4, -999.000, 9,   -999.0, 9,   -999.0, 9, -999.0000,   -999.00,   -999.0, 9,   -999.0,  -999.00, 9,   -999.0,  27.5696, 22.6646,  27.5712, 2, 9, 0.12, 0.04, 0.01, 0.013,  -999.00, 9, -999.00, -999.00, 9, -999.00
49NZ20071122, P14N, 140, 2, 35, X12041, 2, 20071201, 0513, 0.7428, 178.9878, 5520,     50.0, 2,  26.8168, 2,  35.2574, 2,  35.2561, 2,    188.3, 2,    188.9, 2,     2.10, 2,     3.71, 2,     1.39, 2,     0.53, 2,    1.581, 2,    0.970, 2,    0.173, 4, -999.000, 9,   -999.0, 9,   -999.0, 9, -999.0000,   -999.00,   -999.0, 9,   -999.0,  -999.00, 9,   -999.0,  26.8054, 22.9737,  26.8162, 2, 9, 0.12, 0.04, 0.00, 0.013,  -999.00, 9, -999.00, -999.00, 9, -999.00
49NZ20071122, P14N, 140, 2, 34, X12016, 2, 20071201, 0513, 0.7428, 178.9878, 5520,    101.0, 2,  26.1919, 2,  35.2614, 2,  35.2625, 2,    181.2, 2,    186.6, 2,     2.42, 2,     4.60, 2,     0.50, 2,     0.57, 2,    1.612, 2,    0.988, 2,    0.140, 4, -999.000, 9,   -999.0, 9,   -999.0, 9, -999.0000,   -999.00,   -999.0, 9,   -999.0,  -999.00, 9,   -999.0,  26.1692, 23.1776,  26.1909, 2, 9, 0.12, 0.05, 0.00, 0.013,  -999.00, 9, -999.00, -999.00, 9, -999.00
49NZ20071122, P14N, 140, 2, 33, X12033, 2, 20071201, 0513, 0.7428, 178.9878, 5520,    152.8, 2,  25.6748, 2,  35.2180, 2,  35.2180, 2,    163.6, 2,    171.5, 2,     3.06, 2,     6.51, 2,     0.41, 2,     0.64, 2,    1.636, 6,    0.996, 6,    0.143, 4, -999.000, 9,   -999.0, 9,   -999.0, 9, -999.0000,   -999.00,   -999.0, 9,   -999.0,  -999.00, 9,   -999.0,  25.6410, 23.3094,  25.6569, 2, 9, 0.13, 0.05, 0.00, 0.013,  -999.00, 9, -999.00, -999.00, 9, -999.00
49NZ20071122, P14N, 140, 2, 32, X12038, 2, 20071201, 0513, 0.7428, 178.9878, 5520,    201.3, 2,  18.9064, 2,  35.1178, 2,  35.1157, 2,    135.6, 2,    134.9, 2,     7.56, 2,    11.81, 2,     0.01, 2,     0.93, 2,    1.899, 2,    1.087, 2,    0.040, 2, -999.000, 9,   -999.0, 9,   -999.0, 9, -999.0000,   -999.00,   -999.0, 9,   -999.0,  -999.00, 9,   -999.0,  18.8706, 25.1442,  18.9098, 2, 9, 0.14, 0.07, 0.01, 0.013,  -999.00, 9, -999.00, -999.00, 9, -999.00
49NZ20071122, P14N, 140, 2, 31, X12003, 2, 20071201, 0513, 0.7428, 178.9878, 5520,    248.0, 2,  13.1494, 2,  34.8425, 2,  34.8368, 6,    125.7, 2,    125.7, 2,    17.94, 2,    20.05, 2,     0.01, 2,     1.49, 2,    1.494, 2,    0.803, 2,    0.025, 2, -999.000, 9,   -999.0, 9,   -999.0, 9, -999.0000,   -999.00,   -999.0, 9,   -999.0,  -999.00, 9,   -999.0,  13.1150, 26.2477,  13.1520, 2, 9, 0.16, 0.09, 0.01, 0.014,  -999.00, 9, -999.00, -999.00, 9, -999.00
49NZ20071122, P14N, 140, 2, 30, X12008, 2, 20071201, 0513, 0.7428, 178.9878, 5520,    330.5, 2,  11.6662, 2,  34.7797, 2,  34.7782, 2,    110.3, 2,    111.1, 2,    21.52, 2,    23.86, 2,     0.01, 2,     1.74, 2,    1.188, 2,    0.622, 2,    0.014, 2, -999.000, 9,   -999.0, 9,   -999.0, 9, -999.0000,   -999.00,   -999.0, 9,   -999.0,  -999.00, 9,   -999.0,  11.6237, 26.4891,  11.6677, 2, 9, 0.17, 0.10, 0.01, 0.014,  -999.00, 9, -999.00, -999.00, 9, -999.00
49NZ20071122, P14N, 140, 2, 29, X12035, 2, 20071201, 0513, 0.7428, 178.9878, 5520,    429.9, 2,   9.9963, 2,  34.7151, 2,  34.7061, 2,     66.0, 2,     65.1, 2,    29.05, 2,    31.79, 2,     0.01, 2,     2.25, 2,    0.563, 2,    0.292, 2,    0.005, 2, -999.000, 9,   -999.0, 9,   -999.0, 9, -999.0000,   -999.00,   -999.0, 9,   -999.0,  -999.00, 9,   -999.0,   9.9460, 26.7387,   9.9971, 2, 9, 0.18, 0.12, 0.01, 0.016,  -999.00, 9, -999.00, -999.00, 9, -999.00
49NZ20071122, P14N, 140, 2, 28, X12034, 2, 20071201, 0513, 0.7428, 178.9878, 5520,    531.6, 2,   8.3958, 2,  34.6261, 2,  34.6233, 6,     63.8, 2,     63.8, 2,    36.40, 2,    35.01, 2,     0.01, 2,     2.47, 2,    0.262, 2,    0.135, 2,    0.006, 2, -999.000, 9,   -999.0, 9,   -999.0, 9, -999.0000,   -999.00,   -999.0, 9,   -999.0,  -999.00, 9,   -999.0,   8.3396, 26.9288,   8.3975, 2, 9, 0.20, 0.13, 0.01, 0.016,  -999.00, 9, -999.00, -999.00, 9, -999.00
49NZ20071122, P14N, 140, 2, 27, X12049, 2, 20071201, 0513, 0.7428, 178.9878, 5520,    631.0, 2,   7.1840, 2,  34.5771, 2,  34.5755, 2,     71.1, 2,     70.9, 2,    44.64, 2,    36.80, 2,     0.00, 2,     2.61, 2,    0.137, 2,    0.071, 2,    0.004, 2, -999.000, 9,   -999.0, 9,   -999.0, 9, -999.0000,   -999.00,   -999.0, 9,   -999.0,  -999.00, 9,   -999.0,   7.1226, 27.0686,   7.1840, 2, 9, 0.22, 0.14, 0.01, 0.017,  -999.00, 9, -999.00, -999.00, 9, -999.00
49NZ20071122, P14N, 140, 2, 26, X12032, 2, 20071201, 0513, 0.7428, 178.9878, 5520,    730.2, 2,   6.1663, 2,  34.5472, 2,  34.5462, 2,     84.9, 2,     84.6, 2,    54.81, 2,    37.34, 2,     0.00, 2,     2.66, 2,    0.086, 6,    0.042, 6,    0.000, 6, -999.000, 9,   -999.0, 9,   -999.0, 9, -999.0000,   -999.00,   -999.0, 9,   -999.0,  -999.00, 9,   -999.0,   6.1004, 27.1820,   6.1663, 2, 9, 0.24, 0.14, 0.01, 0.017,  -999.00, 9, -999.00, -999.00, 9, -999.00
49NZ20071122, P14N, 140, 2, 25, X12043, 2, 20071201, 0513, 0.7428, 178.9878, 5520,    832.0, 2,   5.3300, 2,  34.5455, 2,  34.5449, 2,     81.8, 2,     81.3, 2,    67.12, 2,    39.05, 2,     0.00, 2,     2.80, 2,    0.020, 2,    0.008, 2,    0.000, 2, -999.000, 9,   -999.0, 9,   -999.0, 9, -999.0000,   -999.00,   -999.0, 9,   -999.0,  -999.00, 9,   -999.0,   5.2595, 27.2845,   5.3307, 2, 9, 0.27, 0.14, 0.01, 0.017,  -999.00, 9, -999.00, -999.00, 9, -999.00
49NZ20071122, P14N, 140, 2, 24, X12030, 2, 20071201, 0513, 0.7428, 178.9878, 5520,    930.1, 2,   5.0634, 2,  34.5460, 2,  34.5457, 2,     87.0, 2,     85.6, 2,    71.83, 2,    38.81, 2,     0.00, 2,     2.78, 2,    0.015, 2,    0.007, 2,    0.000, 2, -999.000, 9,   -999.0, 9,   -999.0, 9, -999.0000,   -999.00,   -999.0, 9,   -999.0,  -999.00, 9,   -999.0,   4.9859, 27.3170,   5.0640, 2, 9, 0.28, 0.14, 0.01, 0.017,  -999.00, 9, -999.00, -999.00, 9, -999.00
49NZ20071122, P14N, 140, 2, 23, X12027, 2, 20071201, 0513, 0.7428, 178.9878, 5520,   1074.0, 2,   4.5335, 2,  34.5530, 2,  34.5534, 6,     90.6, 2,     91.2, 2,    82.41, 2,    38.69, 2,     0.01, 2,     2.78, 2,    0.015, 2,    0.006, 2,    0.005, 2, -999.000, 9,   -999.0, 9,   -999.0, 9, -999.0000,   -999.00,   -999.0, 9,   -999.0,  -999.00, 9,   -999.0,   4.4472, 27.3830,   4.5342, 2, 9, 0.30, 0.14, 0.01, 0.017,  -999.00, 9, -999.00, -999.00, 9, -999.00
49NZ20071122, P14N, 140, 2, 22, X12028, 2, 20071201, 0513, 0.7428, 178.9878, 5520,   1270.3, 2,   3.6630, 2,  34.5789, 2,  34.5793, 2,     89.8, 2,     90.0, 2,   101.49, 2,    39.48, 2,     0.00, 2,     2.84, 2,    0.000, 2,    0.000, 2,    0.005, 2, -999.000, 9,   -999.0, 9,   -999.0, 9, -999.0000,   -999.00,   -999.0, 9,   -999.0,  -999.00, 9,   -999.0,   3.5674, 27.4950,   3.6634, 2, 9, 0.34, 0.14, 0.01, 0.017,  -999.00, 9, -999.00, -999.00, 9, -999.00
49NZ20071122, P14N, 140, 2, 21, X12009, 2, 20071201, 0513, 0.7428, 178.9878, 5520,   1470.5, 2,   3.0650, 2,  34.6014, 2,  34.6014, 2,     95.4, 2,     95.6, 2,   115.44, 2,    39.51, 2,     0.01, 2,     2.84, 2,    0.042, 3,    0.023, 3,    0.000, 2, -999.000, 9,   -999.0, 9,   -999.0, 9, -999.0000,   -999.00,   -999.0, 9,   -999.0,  -999.00, 9,   -999.0,   2.9588, 27.5706,   3.0648, 2, 9, 0.37, 0.14, 0.01, 0.017,  -999.00, 9, -999.00, -999.00, 9, -999.00
49NZ20071122, P14N, 140, 2, 20, X12026, 2, 20071201, 0513, 0.7428, 178.9878, 5520,   1673.4, 2,   2.7559, 2,  34.6139, 2,  34.6137, 2,    102.8, 2,    103.0, 2,   121.09, 2,    39.07, 2,     0.01, 2,     2.79, 2,    0.007, 2,    0.005, 2,    0.000, 2, -999.000, 9,   -999.0, 9,   -999.0, 9, -999.0000,   -999.00,   -999.0, 9,   -999.0,  -999.00, 9,   -999.0,   2.6364, 27.6094,   2.7553, 2, 9, 0.39, 0.14, 0.01, 0.017,  -999.00, 9, -999.00, -999.00, 9, -999.00
49NZ20071122, P14N, 140, 2, 19, X12025, 2, 20071201, 0513, 0.7428, 178.9878, 5520,   1870.2, 2,   2.4269, 2,  34.6308, 2,  34.6316, 2,    106.9, 2,    107.0, 2,   130.02, 2,    38.99, 2,     0.00, 2,     2.77, 2,    0.018, 3,    0.018, 3,    0.000, 2, -999.000, 9,   -999.0, 9,   -999.0, 9, -999.0000,   -999.00,   -999.0, 9,   -999.0,  -999.00, 9,   -999.0,   2.2951, 27.6520,   2.4269, 2, 9, 0.41, 0.14, 0.01, 0.017,  -999.00, 9, -999.00, -999.00, 9, -999.00
49NZ20071122, P14N, 140, 2, 18, X12024, 2, 20071201, 0513, 0.7428, 178.9878, 5520,   2072.4, 2,   2.2372, 2,  34.6402, 2,  34.6402, 2,    113.5, 2,    114.0, 2,   133.29, 2,    38.49, 2,     0.00, 2,     2.73, 2, -999.000, 9, -999.000, 9, -999.000, 9, -999.000, 9,   -999.0, 9,   -999.0, 9, -999.0000,   -999.00,   -999.0, 9,   -999.0,  -999.00, 9,   -999.0,   2.0909, 27.6761,   2.2372, 2, 9, 0.41, 0.14, 0.01, 0.017,  -999.00, 9, -999.00, -999.00, 9, -999.00
49NZ20071122, P14N, 140, 2, 17, X12023, 2, 20071201, 0513, 0.7428, 178.9878, 5520,   2272.4, 2,   2.0333, 2,  34.6506, 2,  34.6504, 6,    119.6, 2,    119.8, 2,   136.78, 2,    38.22, 2,     0.00, 2,     2.70, 2, -999.000, 9, -999.000, 9, -999.000, 9, -999.000, 9,   -999.0, 9,   -999.0, 9, -999.0000,   -999.00,   -999.0, 9,   -999.0,  -999.00, 9,   -999.0,   1.8728, 27.7017,   2.0335, 2, 9, 0.42, 0.14, 0.01, 0.017,  -999.00, 9, -999.00, -999.00, 9, -999.00
49NZ20071122, P14N, 140, 2, 16, X12022, 2, 20071201, 0513, 0.7428, 178.9878, 5520,   2469.5, 2,   1.9015, 2,  34.6594, 2,  34.6593, 2,    123.1, 2,    122.8, 2,   140.51, 2,    38.00, 2,     0.00, 2,     2.68, 2,    0.002, 2,    0.002, 2,    0.000, 2, -999.000, 9,   -999.0, 9,   -999.0, 9, -999.0000,   -999.00,   -999.0, 9,   -999.0,  -999.00, 9,   -999.0,   1.7258, 27.7200,   1.9016, 2, 9, 0.43, 0.14, 0.01, 0.017,  -999.00, 9, -999.00, -999.00, 9, -999.00
49NZ20071122, P14N, 140, 2, 15, X12021, 2, 20071201, 0513, 0.7428, 178.9878, 5520,   2672.5, 2,   1.8255, 2,  34.6637, 2,  34.6636, 2,    127.0, 2,    127.0, 2,   141.47, 2,    37.82, 2,     0.00, 2,     2.66, 2, -999.000, 9, -999.000, 9, -999.000, 9, -999.000, 9,   -999.0, 9,   -999.0, 9, -999.0000,   -999.00,   -999.0, 9,   -999.0,  -999.00, 9,   -999.0,   1.6327, 27.7305,   1.8255, 2, 9, 0.43, 0.14, 0.01, 0.017,  -999.00, 9, -999.00, -999.00, 9, -999.00
49NZ20071122, P14N, 140, 2, 14, X12020, 2, 20071201, 0513, 0.7428, 178.9878, 5520,   2873.0, 2,   1.7345, 2,  34.6687, 2,  34.6686, 2,    131.7, 2,    131.8, 2,   142.28, 2,    37.41, 2,     0.00, 2,     2.64, 2, -999.000, 9, -999.000, 9, -999.000, 9, -999.000, 9,   -999.0, 9,   -999.0, 9, -999.0000,   -999.00,   -999.0, 9,   -999.0,  -999.00, 9,   -999.0,   1.5247, 27.7425,   1.7345, 2, 9, 0.43, 0.14, 0.01, 0.017,  -999.00, 9, -999.00, -999.00, 9, -999.00
49NZ20071122, P14N, 140, 2, 13, X12019, 2, 20071201, 0513, 0.7428, 178.9878, 5520,   3079.6, 2,   1.6350, 2,  34.6739, 2,  34.6737, 2,    139.0, 2,    139.1, 2,   141.45, 2,    36.96, 2,     0.00, 2,     2.60, 2,    0.000, 2,    0.000, 2,    0.000, 2, -999.000, 9,   -999.0, 9,   -999.0, 9, -999.0000,   -999.00,   -999.0, 9,   -999.0,  -999.00, 9,   -999.0,   1.4076, 27.7552,   1.6350, 2, 9, 0.43, 0.14, 0.01, 0.016,  -999.00, 9, -999.00, -999.00, 9, -999.00
49NZ20071122, P14N, 140, 2, 12, X12040, 2, 20071201, 0513, 0.7428, 178.9878, 5520,   3330.4, 2,   1.5784, 2,  34.6779, 2,  34.6777, 2,    143.5, 2,    143.9, 2,   141.21, 2,    36.56, 2,     0.01, 2,     2.56, 2, -999.000, 9, -999.000, 9, -999.000, 9, -999.000, 9,   -999.0, 9,   -999.0, 9, -999.0000,   -999.00,   -999.0, 9,   -999.0,  -999.00, 9,   -999.0,   1.3275, 27.7641,   1.5785, 2, 9, 0.43, 0.14, 0.01, 0.016,  -999.00, 9, -999.00, -999.00, 9, -999.00
49NZ20071122, P14N, 140, 2, 11, X12047, 2, 20071201, 0513, 0.7428, 178.9878, 5520,   3579.8, 2,   1.5278, 2,  34.6827, 2,  34.6824, 2,    150.1, 2,    150.5, 2,   139.36, 2,    36.17, 2,     0.00, 2,     2.53, 2, -999.000, 9, -999.000, 9, -999.000, 9, -999.000, 9,   -999.0, 9,   -999.0, 9, -999.0000,   -999.00,   -999.0, 9,   -999.0,  -999.00, 9,   -999.0,   1.2528, 27.7731,   1.5279, 2, 9, 0.43, 0.13, 0.01, 0.016,  -999.00, 9, -999.00, -999.00, 9, -999.00
49NZ20071122, P14N, 140, 2, 10, X12012, 2, 20071201, 0513, 0.7428, 178.9878, 5520,   3830.2, 2,   1.4767, 2,  34.6876, 2,  34.6872, 2,    157.6, 2,    157.5, 2,   137.66, 2,    35.66, 2,     0.01, 2,     2.49, 2,    0.008, 2,    0.006, 2,    0.000, 2, -999.000, 9,   -999.0, 9,   -999.0, 9, -999.0000,   -999.00,   -999.0, 9,   -999.0,  -999.00, 9,   -999.0,   1.1767, 27.7824,   1.4768, 2, 9, 0.42, 0.13, 0.01, 0.016,  -999.00, 9, -999.00, -999.00, 9, -999.00
49NZ20071122, P14N, 140, 2, 9, X12015, 2, 20071201, 0513, 0.7428, 178.9878, 5520,   4080.5, 2,   1.4275, 2,  34.6921, 2,  34.6923, 6,    164.3, 2,    164.5, 2,   135.59, 2,    35.20, 2,     0.00, 2,     2.45, 2,    0.011, 2,    0.006, 2,    0.000, 2, -999.000, 9,   -999.0, 9,   -999.0, 9, -999.0000,   -999.00,   -999.0, 9,   -999.0,  -999.00, 9,   -999.0,   1.1018, 27.7911,   1.4275, 2, 9, 0.42, 0.13, 0.01, 0.016,  -999.00, 9, -999.00, -999.00, 9, -999.00
49NZ20071122, P14N, 140, 2, 8, X12046, 2, 20071201, 0513, 0.7428, 178.9878, 5520,   4331.1, 2,   1.3545, 2,  34.6974, 2,  34.6973, 2,    174.1, 2,    174.2, 2,   131.05, 2,    34.52, 2,     0.00, 2,     2.40, 2,    0.013, 2,    0.009, 2,    0.000, 2, -999.000, 9,   -999.0, 9,   -999.0, 9, -999.0000,   -999.00,   -999.0, 9,   -999.0,  -999.00, 9,   -999.0,   1.0031, 27.8020,   1.3545, 2, 9, 0.41, 0.13, 0.01, 0.016,  -999.00, 9, -999.00, -999.00, 9, -999.00
49NZ20071122, P14N, 140, 2, 7, X12044, 2, 20071201, 0513, 0.7428, 178.9878, 5520,   4582.8, 2,   1.2776, 2,  34.7024, 2,  34.7024, 2,    184.4, 2,    185.0, 2,   125.91, 2,    33.72, 2,     0.00, 2,     2.35, 2,    0.008, 2,    0.006, 2,    0.000, 2, -999.000, 9,   -999.0, 9,   -999.0, 9, -999.0000,   -999.00,   -999.0, 9,   -999.0,  -999.00, 9,   -999.0,   0.8999, 27.8128,   1.2776, 2, 9, 0.40, 0.13, 0.01, 0.016,  -999.00, 9, -999.00, -999.00, 9, -999.00
49NZ20071122, P14N, 140, 2, 6, X12048, 2, 20071201, 0513, 0.7428, 178.9878, 5520,   4831.3, 2,   1.2474, 2,  34.7050, 2,  34.7048, 2,    190.4, 2,    190.5, 2,   123.40, 2,    33.32, 2,     0.01, 2,     2.32, 2,    0.014, 2,    0.011, 2,    0.000, 2, -999.000, 9,   -999.0, 9,   -999.0, 9, -999.0000,   -999.00,   -999.0, 9,   -999.0,  -999.00, 9,   -999.0,   0.8417, 27.8186,   1.2475, 2, 9, 0.39, 0.13, 0.01, 0.016,  -999.00, 9, -999.00, -999.00, 9, -999.00
49NZ20071122, P14N, 140, 2, 5, X12014, 2, 20071201, 0513, 0.7428, 178.9878, 5520,   5079.8, 2,   1.2659, 2,  34.7055, 2,  34.7055, 2,    192.1, 2,    192.1, 2,   122.57, 2,    33.16, 2,     0.01, 2,     2.31, 2,    0.006, 2,    0.005, 2,    0.000, 2, -999.000, 9,   -999.0, 9,   -999.0, 9, -999.0000,   -999.00,   -999.0, 9,   -999.0,  -999.00, 9,   -999.0,   0.8298, 27.8199,   1.2660, 2, 9, 0.39, 0.13, 0.01, 0.016,  -999.00, 9, -999.00, -999.00, 9, -999.00
49NZ20071122, P14N, 140, 2, 4, X12006, 2, 20071201, 0513, 0.7428, 178.9878, 5520,   5329.8, 2,   1.2906, 2,  34.7057, 2,  34.7060, 2,    193.2, 2,    193.2, 2,   121.75, 2,    33.18, 2,     0.00, 2,     2.30, 2,    0.008, 2,    0.007, 2,    0.000, 2, -999.000, 9,   -999.0, 9,   -999.0, 9, -999.0000,   -999.00,   -999.0, 9,   -999.0,  -999.00, 9,   -999.0,   0.8229, 27.8204,   1.2906, 2, 9, 0.39, 0.13, 0.01, 0.016,  -999.00, 9, -999.00, -999.00, 9, -999.00
49NZ20071122, P14N, 140, 2, 3, X12013, 9, 20071201, 0513, 0.7428, 178.9878, 5520,     10.9, 2,  27.5685, 2,  35.1723, 2, -999.0000, 9,    202.7, 2,   -999.0, 9,  -999.00, 9,  -999.00, 9,  -999.00, 9,  -999.00, 9, -999.000, 9, -999.000, 9, -999.000, 9, -999.000, 9,   -999.0, 9,   -999.0, 9, -999.0000,   -999.00,   -999.0, 9,   -999.0,  -999.00, 9,   -999.0,  27.5660, 22.6655,  27.5658, 2, 9, -999.00, -999.00, -999.00, -999.000,  -999.00, 9, -999.00, -999.00, 9, -999.00
49NZ20071122, P14N, 140, 2, 2, X12002, 9, 20071201, 0513, 0.7428, 178.9878, 5520,     50.0, 2,  26.8176, 2,  35.2571, 2, -999.0000, 9,    188.3, 2,   -999.0, 9,  -999.00, 9,  -999.00, 9,  -999.00, 9,  -999.00, 9, -999.000, 9, -999.000, 9, -999.000, 9, -999.000, 9,   -999.0, 9,   -999.0, 9, -999.0000,   -999.00,   -999.0, 9,   -999.0,  -999.00, 9,   -999.0,  26.8062, 22.9733,  26.8166, 2, 9, -999.00, -999.00, -999.00, -999.000,  -999.00, 9, -999.00, -999.00, 9, -999.00
49NZ20071122, P14N, 140, 2, 1, X12001, 2, 20071201, 0513, 0.7428, 178.9878, 5520,   5599.3, 2,   1.3239, 2,  34.7058, 2,  34.7058, 6,    193.5, 2,    193.5, 2,   121.73, 2,    33.14, 2,     0.00, 2,     2.31, 2,    0.001, 2,    0.000, 2,    0.000, 2, -999.000, 9,   -999.0, 9,   -999.0, 9, -999.0000,   -999.00,   -999.0, 9,   -999.0,  -999.00, 9,   -999.0,   0.8210, 27.8206,   1.3239, 2, 9, 0.39, 0.13, 0.01, 0.016,  -999.00, 9, -999.00, -999.00, 9, -999.00