BOTTLE,20220820CCHSIOAMB
EXPOCODE,SECT_ID,STNNBR,CASTNO,SAMPNO,BTLNBR,BTLNBR_FLAG_W,DATE,TIME,LATITUDE,LONGITUDE,DEPTH,CTDPRS,CTDPRS_FLAG_W,CTDTMP,CTDTMP_FLAG_W,CTDSAL,CTDSAL_FLAG_W,SALNTY,SALNTY_FLAG_W,CTDOXY,CTDOXY_FLAG_W,OXYGEN,OXYGEN_FLAG_W,SILCAT,SILCAT_FLAG_W,NITRAT,NITRAT_FLAG_W,NITRIT,NITRIT_FLAG_W,PHSPHT,PHSPHT_FLAG_W,CFC-11,CFC-11_FLAG_W,CFC-12,CFC-12_FLAG_W,CFC113,CFC113_FLAG_W,CCL4,CCL4_FLAG_W,TCARBN,TCARBN_FLAG_W,ALKALI,ALKALI_FLAG_W,PH_TOT,PH_TMP,DELC14,DELC14_FLAG_W,C14ERR,DELC13,DELC13_FLAG_W,C13ERR,THETA,SIG0,SBE35,SBE35_FLAG_W,PH_TOT_FLAG_W,SILUNC,NRAUNC,NRIUNC,PHPUNC,CS-137,CS-137_FLAG_W,CS137ER,PLUTO,PLUTO_FLAG_W,PLUTOER
,,,,,,,,,,,METERS,DBAR,,ITS-90,,PSS-78,,PSS-78,,UMOL/KG,,UMOL/KG,,UMOL/KG,,UMOL/KG,,UMOL/KG,,UMOL/KG,,PMOL/KG,,PMOL/KG,,PMOL/KG,,PMOL/KG,,UMOL/KG,,UMOL/KG,,,DEG C,/MILLE,,/MILLE,/MILLE,,/MILLE,DEG C,KG/M^3,ITS-90,,,UMOL/KG,UMOL/KG,UMOL/KG,UMOL/KG,DM/.1MG,,BQ/M^3,MBQ/M^3,,MBQ/M^3
49NZ20071122, P14, 29, 1, 36, X12042, 2, 20071217, 1742, -24.7948, 176.8847, 4444,     10.5, 2,  23.4479, 2,  35.1869, 2,  35.1880, 2,    216.1, 2,    214.9, 2,     0.53, 2,     0.02, 2,     0.01, 2,     0.06, 2,    1.865, 2,    1.141, 2,    0.256, 4, -999.000, 9,   -999.0, 9,   -999.0, 9, -999.0000,   -999.00,   -999.0, 9,   -999.0,  -999.00, 9,   -999.0,  23.4457, 23.9460,  23.4477, 2, 9, 0.12, 0.03, 0.01, 0.031,  -999.00, 9, -999.00, -999.00, 9, -999.00
49NZ20071122, P14, 29, 1, 35, X12041, 2, 20071217, 1742, -24.7948, 176.8847, 4444,     49.7, 2,  22.3205, 2,  35.5098, 2,  35.5137, 2,    222.7, 2,    222.7, 2,     0.56, 2,     0.01, 2,     0.01, 2,     0.06, 2,    1.971, 2,    1.200, 2,    0.512, 4, -999.000, 9,   -999.0, 9,   -999.0, 9, -999.0000,   -999.00,   -999.0, 9,   -999.0,  -999.00, 9,   -999.0,  22.3106, 24.5177,  22.3138, 2, 9, 0.12, 0.03, 0.01, 0.029,  -999.00, 9, -999.00, -999.00, 9, -999.00
49NZ20071122, P14, 29, 1, 34, X12016, 2, 20071217, 1742, -24.7948, 176.8847, 4444,    100.6, 2,  19.8574, 2,  35.7026, 2,  35.7020, 2,    202.9, 2,    205.0, 2,     0.76, 2,     1.21, 2,     0.14, 2,     0.20, 2,    2.157, 2,    1.278, 2,    0.244, 4, -999.000, 9,   -999.0, 9,   -999.0, 9, -999.0000,   -999.00,   -999.0, 9,   -999.0,  -999.00, 9,   -999.0,  19.8388, 25.3404,  19.8585, 2, 9, 0.12, 0.04, 0.01, 0.016,  -999.00, 1, -999.00, -999.00, 9, -999.00
49NZ20071122, P14, 29, 1, 33, X12033, 2, 20071217, 1742, -24.7948, 176.8847, 4444,    150.2, 2,  18.9055, 2,  35.6900, 2,  35.6872, 2,    200.4, 2,    201.5, 2,     0.88, 2,     2.48, 2,     0.03, 2,     0.27, 2,    2.243, 6,    1.314, 6,    0.182, 4, -999.000, 9,   -999.0, 9,   -999.0, 9, -999.0000,   -999.00,   -999.0, 9,   -999.0,  -999.00, 9,   -999.0,  18.8787, 25.5797,  18.9089, 2, 9, 0.12, 0.04, 0.01, 0.015,  -999.00, 9, -999.00, -999.00, 9, -999.00
49NZ20071122, P14, 29, 1, 32, X12038, 2, 20071217, 1742, -24.7948, 176.8847, 4444,    198.6, 2,  17.9421, 2,  35.6367, 2,  35.6356, 2,    199.8, 2,    199.2, 2,     1.07, 2,     3.65, 2,     0.01, 2,     0.35, 2,    2.321, 2,    1.345, 2,    0.128, 4, -999.000, 9,   -999.0, 9,   -999.0, 9, -999.0000,   -999.00,   -999.0, 9,   -999.0,  -999.00, 9,   -999.0,  17.9079, 25.7826,  17.9425, 2, 9, 0.12, 0.04, 0.01, 0.014,  -999.00, 1, -999.00, -999.00, 9, -999.00
49NZ20071122, P14, 29, 1, 31, X12003, 2, 20071217, 1742, -24.7948, 176.8847, 4444,    247.6, 2,  16.7752, 2,  35.5221, 2,  35.5221, 6,    197.0, 2,    195.9, 2,     1.48, 2,     5.36, 2,     0.01, 2,     0.47, 2,    2.405, 2,    1.370, 2,    0.071, 2, -999.000, 9,   -999.0, 9,   -999.0, 9, -999.0000,   -999.00,   -999.0, 9,   -999.0,  -999.00, 9,   -999.0,  16.7345, 25.9781,  16.7763, 2, 9, 0.12, 0.05, 0.01, 0.013,  -999.00, 9, -999.00, -999.00, 9, -999.00
49NZ20071122, P14, 29, 1, 30, X12008, 2, 20071217, 1742, -24.7948, 176.8847, 4444,    329.7, 2,  14.8769, 2,  35.2977, 2,  35.2893, 2,    194.9, 2,    194.9, 2,     2.29, 2,     8.17, 2,     0.01, 2,     0.67, 2,    2.494, 2,    1.377, 2,    0.057, 2, -999.000, 9,   -999.0, 9,   -999.0, 9, -999.0000,   -999.00,   -999.0, 9,   -999.0,  -999.00, 9,   -999.0,  14.8269, 26.2396,  14.8801, 2, 9, 0.12, 0.06, 0.01, 0.013,  -999.00, 9, -999.00, -999.00, 9, -999.00
49NZ20071122, P14, 29, 1, 29, X12035, 2, 20071217, 1742, -24.7948, 176.8847, 4444,    429.5, 2,  11.8766, 2,  34.9338, 2,  34.9293, 2,    196.9, 2,    196.3, 2,     4.04, 2,    13.79, 2,     0.01, 2,     1.03, 2,    2.442, 2,    1.281, 2,    0.066, 2, -999.000, 9,   -999.0, 9,   -999.0, 9, -999.0000,   -999.00,   -999.0, 9,   -999.0,  -999.00, 9,   -999.0,  11.8204, 26.5719,  11.8754, 2, 9, 0.13, 0.07, 0.01, 0.013,  -999.00, 1, -999.00, -999.00, 9, -999.00
49NZ20071122, P14, 29, 1, 28, X12034, 2, 20071217, 1742, -24.7948, 176.8847, 4444,    529.4, 2,   9.3819, 2,  34.6404, 2,  34.6350, 6,    208.5, 2,    207.9, 2,     5.72, 2,    18.37, 2,     0.01, 2,     1.32, 2,    2.414, 2,    1.220, 2,    0.071, 2, -999.000, 9,   -999.0, 9,   -999.0, 9, -999.0000,   -999.00,   -999.0, 9,   -999.0,  -999.00, 9,   -999.0,   9.3221, 26.7844,   9.3726, 2, 9, 0.13, 0.08, 0.01, 0.014,  -999.00, 9, -999.00, -999.00, 9, -999.00
49NZ20071122, P14, 29, 1, 27, X12049, 2, 20071217, 1742, -24.7948, 176.8847, 4444,    628.7, 2,   7.4703, 2,  34.4481, 2,  34.4453, 2,    218.4, 2,    219.1, 2,     8.43, 2,    22.36, 2,     0.01, 2,     1.58, 2,    2.082, 2,    1.017, 2,    0.073, 2, -999.000, 9,   -999.0, 9,   -999.0, 9, -999.0000,   -999.00,   -999.0, 9,   -999.0,  -999.00, 9,   -999.0,   7.4079, 26.9267,   7.4717, 2, 9, 0.14, 0.10, 0.01, 0.014,  -999.00, 1, -999.00, -999.00, 9, -999.00
49NZ20071122, P14, 29, 1, 26, X12032, 2, 20071217, 1742, -24.7948, 176.8847, 4444,    729.2, 2,   6.4397, 2,  34.3788, 2,  34.3781, 2,    219.3, 2,    216.8, 2,    13.11, 2,    25.27, 2,     0.01, 2,     1.77, 2,    1.381, 6,    0.675, 6,    0.039, 6, -999.000, 9,   -999.0, 9,   -999.0, 9, -999.0000,   -999.00,   -999.0, 9,   -999.0,  -999.00, 9,   -999.0,   6.3725, 27.0137,   6.4403, 2, 9, 0.15, 0.10, 0.01, 0.015,  -999.00, 9, -999.00, -999.00, 9, -999.00
49NZ20071122, P14, 29, 1, 25, X12043, 2, 20071217, 1742, -24.7948, 176.8847, 4444,    830.0, 2,   5.7000, 2,  34.3603, 2,  34.3595, 2,    206.8, 2,    206.9, 2,    20.11, 2,    27.87, 2,     0.01, 2,     1.94, 2,    0.831, 2,    0.410, 2,    0.021, 2, -999.000, 9,   -999.0, 9,   -999.0, 9, -999.0000,   -999.00,   -999.0, 9,   -999.0,  -999.00, 9,   -999.0,   5.6276, 27.0936,   5.7002, 2, 9, 0.16, 0.11, 0.01, 0.015,  -999.00, 1, -999.00, -999.00, 9, -999.00
49NZ20071122, P14, 29, 1, 24, X12030, 2, 20071217, 1742, -24.7948, 176.8847, 4444,    930.4, 2,   5.1064, 2,  34.3734, 2,  34.3745, 2,    195.0, 2,    196.1, 2,    29.15, 2,    29.68, 2,     0.01, 2,     2.07, 2,    0.500, 2,    0.250, 2,    0.015, 2, -999.000, 9,   -999.0, 9,   -999.0, 9, -999.0000,   -999.00,   -999.0, 9,   -999.0,  -999.00, 9,   -999.0,   5.0288, 27.1752,   5.1061, 2, 9, 0.18, 0.12, 0.01, 0.015,  -999.00, 9, -999.00, -999.00, 9, -999.00
49NZ20071122, P14, 29, 1, 23, X12027, 2, 20071217, 1742, -24.7948, 176.8847, 4444,   1070.5, 2,   4.1000, 2,  34.4245, 2,  34.4260, 2,    178.8, 2,    178.1, 2,    49.28, 2,    32.49, 2,     0.01, 2,     2.27, 2,    0.159, 2,    0.083, 2,    0.004, 2, -999.000, 9,   -999.0, 9,   -999.0, 9, -999.0000,   -999.00,   -999.0, 9,   -999.0,  -999.00, 9,   -999.0,   4.0178, 27.3265,   4.1001, 2, 9, 0.23, 0.12, 0.01, 0.016,  -999.00, 1, -999.00, -999.00, 9, -999.00
49NZ20071122, P14, 29, 1, 22, X12028, 2, 20071217, 1742, -24.7948, 176.8847, 4444,   1270.2, 2,   3.3379, 2,  34.5164, 2,  34.5183, 6,    162.7, 2,    163.1, 2,    74.61, 2,    34.07, 2,     0.01, 2,     2.40, 2,    0.043, 2,    0.022, 2,    0.000, 2, -999.000, 9,   -999.0, 9,   -999.0, 9, -999.0000,   -999.00,   -999.0, 9,   -999.0,  -999.00, 9,   -999.0,   3.2456, 27.4762,   3.3380, 2, 9, 0.28, 0.13, 0.01, 0.016,  -999.00, 9, -999.00, -999.00, 9, -999.00
49NZ20071122, P14, 29, 1, 21, X12009, 2, 20071217, 1742, -24.7948, 176.8847, 4444,   1470.3, 2,   2.8375, 2,  34.5806, 2,  34.5815, 2,    154.5, 2,    154.7, 2,    92.82, 2,    34.81, 2,     0.01, 2,     2.47, 2,    0.012, 2,    0.005, 2,    0.000, 2, -999.000, 9,   -999.0, 9,   -999.0, 9, -999.0000,   -999.00,   -999.0, 9,   -999.0,  -999.00, 9,   -999.0,   2.7340, 27.5742,   2.8374, 2, 9, 0.32, 0.13, 0.01, 0.016,  -999.00, 9, -999.00, -999.00, 9, -999.00
49NZ20071122, P14, 29, 1, 20, X12026, 2, 20071217, 1742, -24.7948, 176.8847, 4444,   1671.1, 2,   2.5470, 2,  34.6094, 2,  34.6094, 2,    151.8, 2,    151.9, 2,   101.97, 2,    35.16, 2,     0.01, 2,     2.49, 2,    0.004, 2,    0.002, 2,    0.000, 2, -999.000, 9,   -999.0, 9,   -999.0, 9, -999.0000,   -999.00,   -999.0, 9,   -999.0,  -999.00, 9,   -999.0,   2.4304, 27.6235,   2.5470, 2, 9, 0.34, 0.13, 0.01, 0.016,  -999.00, 9, -999.00, -999.00, 9, -999.00
49NZ20071122, P14, 29, 1, 19, X12025, 2, 20071217, 1742, -24.7948, 176.8847, 4444,   1870.3, 2,   2.3651, 2,  34.6268, 2,  34.6272, 2,    150.9, 2,    150.9, 2,   107.53, 2,    35.35, 2,     0.01, 2,     2.50, 2,    0.002, 2,    0.000, 2,    0.000, 2, -999.000, 9,   -999.0, 9,   -999.0, 9, -999.0000,   -999.00,   -999.0, 9,   -999.0,  -999.00, 9,   -999.0,   2.2342, 27.6537,   2.3649, 2, 9, 0.36, 0.13, 0.01, 0.016,  -999.00, 9, -999.00, -999.00, 9, -999.00
49NZ20071122, P14, 29, 1, 18, X12024, 2, 20071217, 1742, -24.7948, 176.8847, 4444,   2069.2, 2,   2.2123, 2,  34.6415, 2,  34.6416, 2,    151.2, 2,    151.0, 2,   111.64, 2,    35.40, 2,     0.01, 2,     2.51, 2,    0.001, 2,    0.000, 2,    0.000, 2, -999.000, 9,   -999.0, 9,   -999.0, 9, -999.0000,   -999.00,   -999.0, 9,   -999.0,  -999.00, 9,   -999.0,   2.0667, 27.6792,   2.2123, 2, 9, 0.36, 0.13, 0.01, 0.016,  -999.00, 1, -999.00, -999.00, 9, -999.00
49NZ20071122, P14, 29, 1, 17, X12023, 2, 20071217, 1742, -24.7948, 176.8847, 4444,   2270.5, 2,   2.0929, 2,  34.6532, 2,  34.6531, 6,    151.4, 2,    151.3, 2,   114.94, 2,    35.48, 2,     0.01, 2,     2.52, 2,    0.001, 2,    0.000, 2,    0.000, 2, -999.000, 9,   -999.0, 9,   -999.0, 9, -999.0000,   -999.00,   -999.0, 9,   -999.0,  -999.00, 9,   -999.0,   1.9316, 27.6992,   2.0929, 2, 9, 0.37, 0.13, 0.01, 0.016,  -999.00, 9, -999.00, -999.00, 9, -999.00
49NZ20071122, P14, 29, 1, 16, X12022, 2, 20071217, 1742, -24.7948, 176.8847, 4444,   2471.7, 2,   1.9965, 2,  34.6630, 2,  34.6627, 2,    152.4, 2,    152.6, 2,   117.19, 2,    35.45, 2,     0.01, 2,     2.51, 2,    0.000, 2,    0.000, 2,    0.000, 2, -999.000, 9,   -999.0, 9,   -999.0, 9, -999.0000,   -999.00,   -999.0, 9,   -999.0,  -999.00, 9,   -999.0,   1.8188, 27.7158,   1.9965, 2, 9, 0.38, 0.13, 0.01, 0.016,  -999.00, 9, -999.00, -999.00, 9, -999.00
49NZ20071122, P14, 29, 1, 15, X12021, 2, 20071217, 1742, -24.7948, 176.8847, 4444,   2670.3, 2,   1.9309, 2,  34.6698, 2,  34.6694, 2,    153.4, 2,    153.6, 2,   118.71, 2,    35.39, 2,     0.01, 2,     2.50, 2, -999.000, 9, -999.000, 9, -999.000, 9, -999.000, 9,   -999.0, 9,   -999.0, 9, -999.0000,   -999.00,   -999.0, 9,   -999.0,  -999.00, 9,   -999.0,   1.7362, 27.7276,   1.9311, 2, 9, 0.38, 0.13, 0.01, 0.016,  -999.00, 9, -999.00, -999.00, 9, -999.00
49NZ20071122, P14, 29, 1, 14, X12020, 2, 20071217, 1742, -24.7948, 176.8847, 4444,   2871.3, 2,   1.8856, 2,  34.6744, 2,  34.6739, 2,    154.0, 2,    154.2, 2,   120.06, 2,    35.36, 2,     0.01, 2,     2.50, 2,    0.000, 2,    0.001, 2,    0.000, 2, -999.000, 9,   -999.0, 9,   -999.0, 9, -999.0000,   -999.00,   -999.0, 9,   -999.0,  -999.00, 9,   -999.0,   1.6728, 27.7361,   1.8856, 2, 9, 0.38, 0.13, 0.01, 0.016,  -999.00, 9, -999.00, -999.00, 9, -999.00
49NZ20071122, P14, 29, 1, 13, X12019, 2, 20071217, 1742, -24.7948, 176.8847, 4444,   3079.6, 2,   1.8537, 2,  34.6780, 2,  34.6776, 2,    154.6, 2,    154.8, 2,   121.19, 2,    35.36, 2,     0.01, 2,     2.50, 2, -999.000, 9, -999.000, 9, -999.000, 9, -999.000, 9,   -999.0, 9,   -999.0, 9, -999.0000,   -999.00,   -999.0, 9,   -999.0,  -999.00, 9,   -999.0,   1.6213, 27.7428,   1.8537, 2, 9, 0.39, 0.13, 0.01, 0.016,  -999.00, 1, -999.00, -999.00, 9, -999.00
49NZ20071122, P14, 29, 1, 12, X12040, 2, 20071217, 1742, -24.7948, 176.8847, 4444,   3331.6, 2,   1.8381, 2,  34.6804, 2,  34.6801, 2,    155.1, 2,    155.2, 2,   121.99, 2,    35.22, 2,     0.01, 2,     2.48, 2,    0.000, 2,    0.000, 2,    0.000, 2, -999.000, 9,   -999.0, 9,   -999.0, 9, -999.0000,   -999.00,   -999.0, 9,   -999.0,  -999.00, 9,   -999.0,   1.5808, 27.7478,   1.8381, 2, 9, 0.39, 0.13, 0.01, 0.016,  -999.00, 9, -999.00, -999.00, 9, -999.00
49NZ20071122, P14, 29, 1, 11, X12047, 2, 20071217, 1742, -24.7948, 176.8847, 4444,   3580.9, 2,   1.8415, 2,  34.6819, 2,  34.6817, 6,    155.3, 2,    155.3, 2,   122.73, 2,    35.26, 2,     0.01, 2,     2.48, 2, -999.000, 9, -999.000, 9, -999.000, 9, -999.000, 9,   -999.0, 9,   -999.0, 9, -999.0000,   -999.00,   -999.0, 9,   -999.0,  -999.00, 9,   -999.0,   1.5583, 27.7506,   1.8416, 2, 9, 0.39, 0.13, 0.01, 0.016,  -999.00, 9, -999.00, -999.00, 9, -999.00
49NZ20071122, P14, 29, 1, 10, X12012, 2, 20071217, 1742, -24.7948, 176.8847, 4444,   3830.9, 2,   1.8525, 2,  34.6827, 2,  34.6824, 2,    155.7, 2,    155.6, 2,   123.16, 2,    35.29, 2,     0.01, 2,     2.49, 2,    0.000, 2,    0.002, 2,    0.000, 2, -999.000, 9,   -999.0, 9,   -999.0, 9, -999.0000,   -999.00,   -999.0, 9,   -999.0,  -999.00, 9,   -999.0,   1.5423, 27.7524,   1.8525, 2, 9, 0.39, 0.13, 0.01, 0.016,  -999.00, 9, -999.00, -999.00, 9, -999.00
49NZ20071122, P14, 29, 1, 9, X12015, 2, 20071217, 1742, -24.7948, 176.8847, 4444,   4081.5, 2,   1.8719, 2,  34.6830, 2,  34.6832, 2,    156.0, 2,    156.0, 2,   123.21, 2,    35.25, 2,     0.01, 2,     2.49, 2, -999.000, 9, -999.000, 9, -999.000, 9, -999.000, 9,   -999.0, 9,   -999.0, 9, -999.0000,   -999.00,   -999.0, 9,   -999.0,  -999.00, 9,   -999.0,   1.5335, 27.7533,   1.8719, 2, 9, 0.39, 0.13, 0.01, 0.016,  -999.00, 1, -999.00, -999.00, 9, -999.00
49NZ20071122, P14, 29, 1, 8, X12046, 2, 20071217, 1742, -24.7948, 176.8847, 4444,   4329.9, 2,   1.8956, 2,  34.6831, 2,  34.6832, 2,    156.3, 2,    156.1, 2,   123.32, 2,    35.27, 2,     0.01, 2,     2.49, 2,    0.000, 2,    0.001, 2,    0.000, 2, -999.000, 9,   -999.0, 9,   -999.0, 9, -999.0000,   -999.00,   -999.0, 9,   -999.0,  -999.00, 9,   -999.0,   1.5282, 27.7538,   1.8957, 2, 9, 0.39, 0.13, 0.01, 0.016,  -999.00, 9, -999.00, -999.00, 9, -999.00
49NZ20071122, P14, 29, 1, 7, X12044, 2, 20071217, 1742, -24.7948, 176.8847, 4444,   4525.3, 2,   1.9178, 2,  34.6832, 2, -999.0000, 9,    156.3, 2,   -999.0, 9,  -999.00, 9,  -999.00, 9,  -999.00, 9,  -999.00, 9, -999.000, 9, -999.000, 9, -999.000, 9, -999.000, 9,   -999.0, 9,   -999.0, 9, -999.0000,   -999.00,   -999.0, 9,   -999.0,  -999.00, 9,   -999.0,   1.5269, 27.7540,   1.9179, 2, 9, -999.00, -999.00, -999.00, -999.000,  -999.00, 1, -999.00, -999.00, 9, -999.00
49NZ20071122, P14, 29, 1, 6, X12048, 2, 20071217, 1742, -24.7948, 176.8847, 4444,   2069.0, 2,   2.2124, 2,  34.6415, 2, -999.0000, 9,    151.2, 2,   -999.0, 9,  -999.00, 9,  -999.00, 9,  -999.00, 9,  -999.00, 9, -999.000, 9, -999.000, 9, -999.000, 9, -999.000, 9,   -999.0, 9,   -999.0, 9, -999.0000,   -999.00,   -999.0, 9,   -999.0,  -999.00, 9,   -999.0,   2.0668, 27.6792,   2.2123, 2, 9, -999.00, -999.00, -999.00, -999.000,  -999.00, 1, -999.00, -999.00, 9, -999.00
49NZ20071122, P14, 29, 1, 5, X12014, 2, 20071217, 1742, -24.7948, 176.8847, 4444,   3079.9, 2,   1.8536, 2,  34.6781, 2, -999.0000, 9,    154.6, 2,   -999.0, 9,  -999.00, 9,  -999.00, 9,  -999.00, 9,  -999.00, 9, -999.000, 9, -999.000, 9, -999.000, 9, -999.000, 9,   -999.0, 9,   -999.0, 9, -999.0000,   -999.00,   -999.0, 9,   -999.0,  -999.00, 9,   -999.0,   1.6212, 27.7429,   1.8537, 2, 9, -999.00, -999.00, -999.00, -999.000,  -999.00, 1, -999.00, -999.00, 9, -999.00
49NZ20071122, P14, 29, 1, 4, X12006, 2, 20071217, 1742, -24.7948, 176.8847, 4444,   4081.0, 2,   1.8718, 2,  34.6830, 2, -999.0000, 9,    156.1, 2,   -999.0, 9,  -999.00, 9,  -999.00, 9,  -999.00, 9,  -999.00, 9, -999.000, 9, -999.000, 9, -999.000, 9, -999.000, 9,   -999.0, 9,   -999.0, 9, -999.0000,   -999.00,   -999.0, 9,   -999.0,  -999.00, 9,   -999.0,   1.5334, 27.7534,   1.8719, 2, 9, -999.00, -999.00, -999.00, -999.000,  -999.00, 1, -999.00, -999.00, 9, -999.00
49NZ20071122, P14, 29, 1, 3, X12013, 2, 20071217, 1742, -24.7948, 176.8847, 4444,   4525.4, 2,   1.9178, 2,  34.6831, 2, -999.0000, 9,    156.3, 2,   -999.0, 9,  -999.00, 9,  -999.00, 9,  -999.00, 9,  -999.00, 9, -999.000, 9, -999.000, 9, -999.000, 9, -999.000, 9,   -999.0, 9,   -999.0, 9, -999.0000,   -999.00,   -999.0, 9,   -999.0,  -999.00, 9,   -999.0,   1.5269, 27.7539,   1.9180, 2, 9, -999.00, -999.00, -999.00, -999.000,  -999.00, 1, -999.00, -999.00, 9, -999.00
49NZ20071122, P14, 29, 1, 2, X12002, 2, 20071217, 1742, -24.7948, 176.8847, 4444,   4525.8, 2,   1.9179, 2,  34.6831, 2, -999.0000, 9,    156.3, 2,   -999.0, 9,  -999.00, 9,  -999.00, 9,  -999.00, 9,  -999.00, 9, -999.000, 9, -999.000, 9, -999.000, 9, -999.000, 9,   -999.0, 9,   -999.0, 9, -999.0000,   -999.00,   -999.0, 9,   -999.0,  -999.00, 9,   -999.0,   1.5270, 27.7539,   1.9180, 2, 9, -999.00, -999.00, -999.00, -999.000,  -999.00, 1, -999.00, -999.00, 9, -999.00
49NZ20071122, P14, 29, 1, 1, X12001, 2, 20071217, 1742, -24.7948, 176.8847, 4444,   4525.8, 2,   1.9180, 2,  34.6830, 2,  34.6835, 6,    156.3, 2,    155.9, 2,   123.43, 2,    35.34, 2,     0.01, 2,     2.49, 2,    0.000, 2,    0.000, 2,    0.000, 2, -999.000, 9,   -999.0, 9,   -999.0, 9, -999.0000,   -999.00,   -999.0, 9,   -999.0,  -999.00, 9,   -999.0,   1.5271, 27.7538,   1.9181, 2, 9, 0.39, 0.13, 0.01, 0.016,  -999.00, 1, -999.00, -999.00, 9, -999.00