BOTTLE,20220820CCHSIOAMB
EXPOCODE,SECT_ID,STNNBR,CASTNO,SAMPNO,BTLNBR,BTLNBR_FLAG_W,DATE,TIME,LATITUDE,LONGITUDE,DEPTH,CTDPRS,CTDPRS_FLAG_W,CTDTMP,CTDTMP_FLAG_W,CTDSAL,CTDSAL_FLAG_W,SALNTY,SALNTY_FLAG_W,CTDOXY,CTDOXY_FLAG_W,OXYGEN,OXYGEN_FLAG_W,SILCAT,SILCAT_FLAG_W,NITRAT,NITRAT_FLAG_W,NITRIT,NITRIT_FLAG_W,PHSPHT,PHSPHT_FLAG_W,CFC-11,CFC-11_FLAG_W,CFC-12,CFC-12_FLAG_W,CFC113,CFC113_FLAG_W,CCL4,CCL4_FLAG_W,TCARBN,TCARBN_FLAG_W,ALKALI,ALKALI_FLAG_W,PH_TOT,PH_TMP,DELC14,DELC14_FLAG_W,C14ERR,DELC13,DELC13_FLAG_W,C13ERR,THETA,SIG0,SBE35,SBE35_FLAG_W,PH_TOT_FLAG_W,SILUNC,NRAUNC,NRIUNC,PHPUNC,CS-137,CS-137_FLAG_W,CS137ER,PLUTO,PLUTO_FLAG_W,PLUTOER
,,,,,,,,,,,METERS,DBAR,,ITS-90,,PSS-78,,PSS-78,,UMOL/KG,,UMOL/KG,,UMOL/KG,,UMOL/KG,,UMOL/KG,,UMOL/KG,,PMOL/KG,,PMOL/KG,,PMOL/KG,,PMOL/KG,,UMOL/KG,,UMOL/KG,,,DEG C,/MILLE,,/MILLE,/MILLE,,/MILLE,DEG C,KG/M^3,ITS-90,,,UMOL/KG,UMOL/KG,UMOL/KG,UMOL/KG,DM/.1MG,,BQ/M^3,MBQ/M^3,,MBQ/M^3
49NZ20071122, P14N, 165, 1, 36, X12042, 2, 20071208, 0432, -6.0088, 179.0070, 5403,     10.3, 2,  29.3666, 2,  35.3054, 2,  35.3059, 2,    197.2, 2,    195.0, 2,     0.72, 2,     0.06, 2,     0.01, 2,     0.23, 2,    1.432, 2,    0.893, 2,    0.189, 4, -999.000, 9,   -999.0, 9,   -999.0, 9, -999.0000,   -999.00,   -999.0, 9,   -999.0,  -999.00, 9,   -999.0,  29.3641, 22.1711,  29.3668, 2, 9, 0.12, 0.03, 0.01, 0.015,  -999.00, 9, -999.00, -999.00, 9, -999.00
49NZ20071122, P14N, 165, 1, 35, X12041, 2, 20071208, 0432, -6.0088, 179.0070, 5403,     49.9, 2,  29.2522, 2,  35.3568, 2,  35.3588, 2,    197.3, 2,    194.8, 2,     0.69, 2,     0.08, 2,     0.01, 2,     0.23, 2,    1.423, 2,    0.881, 2,    0.173, 4, -999.000, 9,   -999.0, 9,   -999.0, 9, -999.0000,   -999.00,   -999.0, 9,   -999.0,  -999.00, 9,   -999.0,  29.2400, 22.2515,  29.2517, 2, 9, 0.12, 0.03, 0.01, 0.015,  -999.00, 9, -999.00, -999.00, 9, -999.00
49NZ20071122, P14N, 165, 1, 34, X12016, 2, 20071208, 0432, -6.0088, 179.0070, 5403,    100.3, 2,  29.2646, 2,  35.4487, 2,  35.4634, 2,    189.6, 2,    190.7, 2,     0.76, 2,     0.41, 2,     0.07, 2,     0.29, 2,    1.441, 2,    0.898, 2,    0.183, 4, -999.000, 9,   -999.0, 9,   -999.0, 9, -999.0000,   -999.00,   -999.0, 9,   -999.0,  -999.00, 9,   -999.0,  29.2401, 22.3204,  29.2616, 2, 9, 0.12, 0.03, 0.01, 0.014,  -999.00, 9, -999.00, -999.00, 9, -999.00
49NZ20071122, P14N, 165, 1, 33, X12033, 2, 20071208, 0432, -6.0088, 179.0070, 5403,    151.5, 2,  27.8594, 2,  35.8600, 2,  35.8743, 2,    153.2, 2,    157.3, 2,     1.30, 2,     2.91, 2,     0.98, 2,     0.54, 2,    1.591, 6,    0.988, 6,    0.226, 4, -999.000, 9,   -999.0, 9,   -999.0, 9, -999.0000,   -999.00,   -999.0, 9,   -999.0,  -999.00, 9,   -999.0,  27.8237, 23.0992,  27.8622, 2, 9, 0.12, 0.04, 0.00, 0.013,  -999.00, 9, -999.00, -999.00, 9, -999.00
49NZ20071122, P14N, 165, 1, 32, X12038, 2, 20071208, 0432, -6.0088, 179.0070, 5403,    201.5, 2,  23.4997, 2,  36.1662, 2,  36.1642, 2,    146.7, 2,    146.3, 2,     1.22, 2,     5.99, 2,     0.02, 2,     0.69, 2,    1.918, 2,    1.143, 2,    0.094, 2, -999.000, 9,   -999.0, 9,   -999.0, 9, -999.0000,   -999.00,   -999.0, 9,   -999.0,  -999.00, 9,   -999.0,  23.4577, 24.6849,  23.5016, 2, 9, 0.12, 0.05, 0.01, 0.013,  -999.00, 9, -999.00, -999.00, 9, -999.00
49NZ20071122, P14N, 165, 1, 31, X12003, 2, 20071208, 0432, -6.0088, 179.0070, 5403,    250.7, 2,  19.4188, 2,  35.6637, 2,  35.6577, 6,    133.5, 2,    138.4, 2,     2.83, 2,     9.43, 2,     0.01, 2,     0.94, 2,    2.071, 2,    1.187, 2,    0.042, 2, -999.000, 9,   -999.0, 9,   -999.0, 9, -999.0000,   -999.00,   -999.0, 9,   -999.0,  -999.00, 9,   -999.0,  19.3732, 25.4323,  19.4166, 2, 9, 0.13, 0.06, 0.01, 0.013,  -999.00, 9, -999.00, -999.00, 9, -999.00
49NZ20071122, P14N, 165, 1, 30, X12008, 2, 20071208, 0432, -6.0088, 179.0070, 5403,    279.9, 2,  15.6999, 2,  35.2186, 2,  35.1954, 2,    102.0, 2,    103.5, 2,     8.03, 2,    16.86, 2,     0.01, 2,     1.47, 2,    1.734, 2,    0.957, 2,    0.032, 2, -999.000, 9,   -999.0, 9,   -999.0, 9, -999.0000,   -999.00,   -999.0, 9,   -999.0,  -999.00, 9,   -999.0,  15.6560, 25.9942,  15.7004, 2, 9, 0.14, 0.08, 0.01, 0.014,  -999.00, 9, -999.00, -999.00, 9, -999.00
49NZ20071122, P14N, 165, 1, 29, X12035, 2, 20071208, 0432, -6.0088, 179.0070, 5403,    372.4, 2,   9.8078, 2,  34.7309, 2,  34.7319, 2,    100.9, 2,     99.4, 2,    21.39, 2,    28.27, 2,     0.01, 2,     2.06, 2,    0.622, 2,    0.325, 2,    0.009, 2, -999.000, 9,   -999.0, 9,   -999.0, 9, -999.0000,   -999.00,   -999.0, 9,   -999.0,  -999.00, 9,   -999.0,   9.7649, 26.7817,   9.8166, 2, 9, 0.17, 0.11, 0.01, 0.015,  -999.00, 9, -999.00, -999.00, 9, -999.00
49NZ20071122, P14N, 165, 1, 28, X12034, 2, 20071208, 0432, -6.0088, 179.0070, 5403,    470.9, 2,   7.8865, 2,  34.6050, 2,  34.6033, 6,    111.1, 2,    109.9, 2,    29.73, 2,    31.76, 2,     0.00, 2,     2.24, 2,    0.321, 2,    0.170, 2,    0.008, 2, -999.000, 9,   -999.0, 9,   -999.0, 9, -999.0000,   -999.00,   -999.0, 9,   -999.0,  -999.00, 9,   -999.0,   7.8387, 26.9876,   7.8873, 2, 9, 0.18, 0.12, 0.01, 0.016,  -999.00, 9, -999.00, -999.00, 9, -999.00
49NZ20071122, P14N, 165, 1, 27, X12049, 2, 20071208, 0432, -6.0088, 179.0070, 5403,    572.6, 2,   6.8277, 2,  34.5543, 2,  34.5535, 2,    109.4, 2,    108.7, 2,    37.86, 2,    34.08, 2,     0.00, 2,     2.41, 2,    0.167, 2,    0.089, 2,    0.005, 2, -999.000, 9,   -999.0, 9,   -999.0, 9, -999.0000,   -999.00,   -999.0, 9,   -999.0,  -999.00, 9,   -999.0,   6.7737, 27.0987,   6.8282, 2, 9, 0.20, 0.13, 0.01, 0.016,  -999.00, 9, -999.00, -999.00, 9, -999.00
49NZ20071122, P14N, 165, 1, 26, X12032, 2, 20071208, 0432, -6.0088, 179.0070, 5403,    671.4, 2,   6.0305, 2,  34.5341, 2,  34.5325, 2,    104.7, 2,    104.9, 2,    47.37, 2,    36.03, 2,     0.00, 2,     2.55, 2,    0.075, 6,    0.040, 6,    0.004, 6, -999.000, 9,   -999.0, 9,   -999.0, 9, -999.0000,   -999.00,   -999.0, 9,   -999.0,  -999.00, 9,   -999.0,   5.9708, 27.1882,   6.0307, 2, 9, 0.22, 0.13, 0.01, 0.016,  -999.00, 9, -999.00, -999.00, 9, -999.00
49NZ20071122, P14N, 165, 1, 25, X12043, 2, 20071208, 0432, -6.0088, 179.0070, 5403,    772.4, 2,   5.3655, 2,  34.5253, 2,  34.5247, 2,    111.0, 2,    110.2, 2,    56.26, 2,    36.42, 2,     0.00, 2,     2.59, 2,    0.058, 2,    0.035, 2,    0.000, 2, -999.000, 9,   -999.0, 9,   -999.0, 9, -999.0000,   -999.00,   -999.0, 9,   -999.0,  -999.00, 9,   -999.0,   5.3002, 27.2637,   5.3663, 2, 9, 0.24, 0.13, 0.01, 0.016,  -999.00, 9, -999.00, -999.00, 9, -999.00
49NZ20071122, P14N, 165, 1, 24, X12030, 2, 20071208, 0432, -6.0088, 179.0070, 5403,    871.1, 2,   4.9006, 2,  34.5312, 2,  34.5307, 2,    109.1, 2,    107.6, 2,    65.48, 2,    37.30, 2,     0.00, 2,     2.65, 2,    0.035, 2,    0.018, 2,    0.000, 2, -999.000, 9,   -999.0, 9,   -999.0, 9, -999.0000,   -999.00,   -999.0, 9,   -999.0,  -999.00, 9,   -999.0,   4.8295, 27.3231,   4.9009, 2, 9, 0.26, 0.14, 0.01, 0.017,  -999.00, 9, -999.00, -999.00, 9, -999.00
49NZ20071122, P14N, 165, 1, 23, X12027, 2, 20071208, 0432, -6.0088, 179.0070, 5403,    970.1, 2,   4.4470, 2,  34.5414, 2,  34.5412, 6,    106.7, 2,    106.2, 2,    75.02, 2,    37.81, 2,     0.00, 2,     2.71, 2,    0.021, 2,    0.015, 2,    0.000, 2, -999.000, 9,   -999.0, 9,   -999.0, 9, -999.0000,   -999.00,   -999.0, 9,   -999.0,  -999.00, 9,   -999.0,   4.3704, 27.3821,   4.4475, 2, 9, 0.28, 0.14, 0.01, 0.017,  -999.00, 9, -999.00, -999.00, 9, -999.00
49NZ20071122, P14N, 165, 1, 22, X12028, 2, 20071208, 0432, -6.0088, 179.0070, 5403,   1131.3, 2,   3.8796, 2,  34.5606, 2,  34.5603, 2,    104.0, 2,    103.7, 2,    88.50, 2,    38.46, 2,     0.00, 2,     2.76, 2,    0.006, 2,    0.006, 2,    0.000, 2, -999.000, 9,   -999.0, 9,   -999.0, 9, -999.0000,   -999.00,   -999.0, 9,   -999.0,  -999.00, 9,   -999.0,   3.7938, 27.4577,   3.8802, 2, 9, 0.31, 0.14, 0.01, 0.017,  -999.00, 9, -999.00, -999.00, 9, -999.00
49NZ20071122, P14N, 165, 1, 21, X12009, 2, 20071208, 0432, -6.0088, 179.0070, 5403,   1330.4, 2,   3.3128, 2,  34.5819, 2,  34.5825, 2,    110.1, 2,    109.8, 2,   101.07, 2,    38.36, 2,     0.00, 2,     2.75, 2,    0.003, 2,    0.004, 2,    0.000, 2, -999.000, 9,   -999.0, 9,   -999.0, 9, -999.0000,   -999.00,   -999.0, 9,   -999.0,  -999.00, 9,   -999.0,   3.2157, 27.5313,   3.3131, 2, 9, 0.34, 0.14, 0.01, 0.017,  -999.00, 9, -999.00, -999.00, 9, -999.00
49NZ20071122, P14N, 165, 1, 20, X12026, 2, 20071208, 0432, -6.0088, 179.0070, 5403,   1530.0, 2,   2.8334, 2,  34.6048, 2,  34.6047, 2,    114.8, 2,    114.7, 2,   112.18, 2,    38.18, 2,     0.00, 2,     2.73, 2,    0.000, 2,    0.001, 2,    0.000, 2, -999.000, 9,   -999.0, 9,   -999.0, 9, -999.0000,   -999.00,   -999.0, 9,   -999.0,  -999.00, 9,   -999.0,   2.7249, 27.5944,   2.8332, 2, 9, 0.37, 0.14, 0.01, 0.017,  -999.00, 9, -999.00, -999.00, 9, -999.00
49NZ20071122, P14N, 165, 1, 19, X12025, 2, 20071208, 0432, -6.0088, 179.0070, 5403,   1730.6, 2,   2.5582, 2,  34.6206, 2,  34.6202, 2,    116.9, 2,    116.6, 2,   119.42, 2,    38.07, 2,     0.00, 2,     2.72, 2,    0.000, 2,    0.000, 2,    0.000, 2, -999.000, 9,   -999.0, 9,   -999.0, 9, -999.0000,   -999.00,   -999.0, 9,   -999.0,  -999.00, 9,   -999.0,   2.4364, 27.6319,   2.5584, 2, 9, 0.38, 0.14, 0.01, 0.017,  -999.00, 9, -999.00, -999.00, 9, -999.00
49NZ20071122, P14N, 165, 1, 18, X12024, 2, 20071208, 0432, -6.0088, 179.0070, 5403,   1931.4, 2,   2.2929, 2,  34.6354, 2,  34.6352, 2,    121.9, 2,    121.7, 2,   125.78, 2,    37.95, 2,     0.00, 2,     2.70, 2,    0.003, 2,    0.001, 2,    0.000, 2, -999.000, 9,   -999.0, 9,   -999.0, 9, -999.0000,   -999.00,   -999.0, 9,   -999.0,  -999.00, 9,   -999.0,   2.1579, 27.6669,   2.2929, 2, 9, 0.40, 0.14, 0.01, 0.017,  -999.00, 9, -999.00, -999.00, 9, -999.00
49NZ20071122, P14N, 165, 1, 17, X12023, 2, 20071208, 0432, -6.0088, 179.0070, 5403,   2132.2, 2,   2.1092, 2,  34.6464, 2,  34.6461, 6,    124.9, 2,    125.5, 2,   130.35, 2,    37.75, 2,     0.00, 2,     2.68, 2, -999.000, 9, -999.000, 9, -999.000, 9, -999.000, 9,   -999.0, 9,   -999.0, 9, -999.0000,   -999.00,   -999.0, 9,   -999.0,  -999.00, 9,   -999.0,   1.9597, 27.6916,   2.1093, 2, 9, 0.41, 0.14, 0.01, 0.017,  -999.00, 9, -999.00, -999.00, 9, -999.00
49NZ20071122, P14N, 165, 1, 16, X12022, 2, 20071208, 0432, -6.0088, 179.0070, 5403,   2332.0, 2,   1.9679, 2,  34.6547, 2,  34.6547, 2,    130.5, 2,    130.6, 2,   132.48, 2,    37.38, 2,     0.00, 2,     2.65, 2, -999.000, 9, -999.000, 9, -999.000, 9, -999.000, 9,   -999.0, 9,   -999.0, 9, -999.0000,   -999.00,   -999.0, 9,   -999.0,  -999.00, 9,   -999.0,   1.8033, 27.7104,   1.9679, 2, 9, 0.41, 0.14, 0.01, 0.017,  -999.00, 9, -999.00, -999.00, 9, -999.00
49NZ20071122, P14N, 165, 1, 15, X12021, 2, 20071208, 0432, -6.0088, 179.0070, 5403,   2529.3, 2,   1.8706, 2,  34.6620, 2,  34.6621, 2,    135.7, 2,    135.9, 2,   133.08, 2,    37.06, 2,     0.00, 2,     2.62, 2,    0.005, 2,    0.002, 2,    0.000, 2, -999.000, 9,   -999.0, 9,   -999.0, 9, -999.0000,   -999.00,   -999.0, 9,   -999.0,  -999.00, 9,   -999.0,   1.6900, 27.7249,   1.8707, 2, 9, 0.41, 0.14, 0.01, 0.017,  -999.00, 9, -999.00, -999.00, 9, -999.00
49NZ20071122, P14N, 165, 1, 14, X12020, 2, 20071208, 0432, -6.0088, 179.0070, 5403,   2730.2, 2,   1.7818, 2,  34.6683, 2,  34.6681, 2,    139.8, 2,    139.8, 2,   134.57, 2,    36.84, 2,     0.00, 2,     2.60, 2, -999.000, 9, -999.000, 9, -999.000, 9, -999.000, 9,   -999.0, 9,   -999.0, 9, -999.0000,   -999.00,   -999.0, 9,   -999.0,  -999.00, 9,   -999.0,   1.5845, 27.7378,   1.7819, 2, 9, 0.42, 0.14, 0.01, 0.016,  -999.00, 9, -999.00, -999.00, 9, -999.00
49NZ20071122, P14N, 165, 1, 13, X12019, 2, 20071208, 0432, -6.0088, 179.0070, 5403,   2930.7, 2,   1.6806, 2,  34.6738, 2,  34.6736, 2,    143.6, 2,    143.4, 2,   136.52, 2,    36.62, 2,     0.00, 2,     2.58, 2, -999.000, 9, -999.000, 9, -999.000, 9, -999.000, 9,   -999.0, 9,   -999.0, 9, -999.0000,   -999.00,   -999.0, 9,   -999.0,  -999.00, 9,   -999.0,   1.4665, 27.7508,   1.6808, 2, 9, 0.42, 0.14, 0.01, 0.016,  -999.00, 9, -999.00, -999.00, 9, -999.00
49NZ20071122, P14N, 165, 1, 12, X12040, 2, 20071208, 0432, -6.0088, 179.0070, 5403,   3169.8, 2,   1.6073, 2,  34.6790, 2,  34.6788, 2,    149.7, 2,    149.7, 2,   135.63, 2,    36.20, 2,     0.00, 2,     2.54, 2,    0.000, 2,    0.000, 2,    0.000, 2, -999.000, 9,   -999.0, 9,   -999.0, 9, -999.0000,   -999.00,   -999.0, 9,   -999.0,  -999.00, 9,   -999.0,   1.3717, 27.7618,   1.6075, 2, 9, 0.42, 0.13, 0.01, 0.016,  -999.00, 9, -999.00, -999.00, 9, -999.00
49NZ20071122, P14N, 165, 1, 11, X12047, 2, 20071208, 0432, -6.0088, 179.0070, 5403,   3419.5, 2,   1.5259, 2,  34.6844, 2,  34.6838, 2,    154.9, 2,    155.2, 2,   135.68, 2,    35.91, 2,     0.00, 2,     2.52, 2, -999.000, 9, -999.000, 9, -999.000, 9, -999.000, 9,   -999.0, 9,   -999.0, 9, -999.0000,   -999.00,   -999.0, 9,   -999.0,  -999.00, 9,   -999.0,   1.2673, 27.7735,   1.5261, 2, 9, 0.42, 0.13, 0.01, 0.016,  -999.00, 9, -999.00, -999.00, 9, -999.00
49NZ20071122, P14N, 165, 1, 10, X12012, 2, 20071208, 0432, -6.0088, 179.0070, 5403,   3670.5, 2,   1.4763, 2,  34.6881, 2,  34.6874, 2,    159.5, 2,    159.3, 2,   135.45, 2,    35.53, 2,     0.00, 2,     2.49, 2, -999.000, 9, -999.000, 9, -999.000, 9, -999.000, 9,   -999.0, 9,   -999.0, 9, -999.0000,   -999.00,   -999.0, 9,   -999.0,  -999.00, 9,   -999.0,   1.1931, 27.7816,   1.4765, 2, 9, 0.42, 0.13, 0.01, 0.016,  -999.00, 9, -999.00, -999.00, 9, -999.00
49NZ20071122, P14N, 165, 1, 9, X12015, 2, 20071208, 0432, -6.0088, 179.0070, 5403,   3921.1, 2,   1.4307, 2,  34.6921, 2,  34.6912, 6,    165.9, 2,    166.0, 2,   132.73, 2,    35.07, 2,     0.00, 2,     2.45, 2,    0.002, 2,    0.002, 2,    0.004, 2, -999.000, 9,   -999.0, 9,   -999.0, 9, -999.0000,   -999.00,   -999.0, 9,   -999.0,  -999.00, 9,   -999.0,   1.1222, 27.7897,   1.4309, 2, 9, 0.41, 0.13, 0.01, 0.016,  -999.00, 9, -999.00, -999.00, 9, -999.00
49NZ20071122, P14N, 165, 1, 8, X12046, 2, 20071208, 0432, -6.0088, 179.0070, 5403,   4168.8, 2,   1.3345, 2,  34.6993, 2,  34.6988, 2,    179.9, 2,    180.3, 2,   125.40, 2,    34.03, 2,     0.00, 2,     2.38, 2, -999.000, 5, -999.000, 5, -999.000, 5, -999.000, 9,   -999.0, 9,   -999.0, 9, -999.0000,   -999.00,   -999.0, 9,   -999.0,  -999.00, 9,   -999.0,   1.0018, 27.8036,   1.3345, 2, 9, 0.39, 0.13, 0.01, 0.016,  -999.00, 9, -999.00, -999.00, 9, -999.00
49NZ20071122, P14N, 165, 1, 7, X12044, 2, 20071208, 0432, -6.0088, 179.0070, 5403,   4420.9, 2,   1.2513, 2,  34.7046, 2,  34.7040, 2,    190.3, 2,    190.3, 2,   121.11, 2,    33.24, 2,     0.00, 2,     2.32, 2,    0.017, 2,    0.008, 2,    0.000, 2, -999.000, 9,   -999.0, 9,   -999.0, 9, -999.0000,   -999.00,   -999.0, 9,   -999.0,  -999.00, 9,   -999.0,   0.8929, 27.8151,   1.2514, 2, 9, 0.39, 0.13, 0.01, 0.016,  -999.00, 9, -999.00, -999.00, 9, -999.00
49NZ20071122, P14N, 165, 1, 6, X12048, 2, 20071208, 0432, -6.0088, 179.0070, 5403,   4670.0, 2,   1.2388, 2,  34.7061, 2,  34.7061, 2,    193.7, 2,    193.5, 2,   119.99, 2,    33.05, 2,     0.00, 2,     2.31, 2,    0.017, 2,    0.008, 2,    0.000, 2, -999.000, 9,   -999.0, 9,   -999.0, 9, -999.0000,   -999.00,   -999.0, 9,   -999.0,  -999.00, 9,   -999.0,   0.8523, 27.8188,   1.2388, 2, 9, 0.38, 0.13, 0.01, 0.016,  -999.00, 9, -999.00, -999.00, 9, -999.00
49NZ20071122, P14N, 165, 1, 5, X12014, 2, 20071208, 0432, -6.0088, 179.0070, 5403,   4921.0, 2,   1.2471, 2,  34.7063, 2,  34.7064, 2,    195.2, 2,    194.8, 2,   119.85, 2,    32.96, 2,     0.00, 2,     2.31, 2,    0.018, 2,    0.008, 2,    0.000, 2, -999.000, 9,   -999.0, 9,   -999.0, 9, -999.0000,   -999.00,   -999.0, 9,   -999.0,  -999.00, 9,   -999.0,   0.8308, 27.8204,   1.2471, 2, 9, 0.38, 0.13, 0.01, 0.016,  -999.00, 9, -999.00, -999.00, 9, -999.00
49NZ20071122, P14N, 165, 1, 4, X12006, 2, 20071208, 0432, -6.0088, 179.0070, 5403,   5168.8, 2,   1.2719, 2,  34.7065, 2,  34.7064, 2,    195.5, 2,    195.2, 2,   119.90, 2,    32.92, 2,     0.00, 2,     2.30, 2,    0.011, 2,    0.007, 2,    0.000, 2, -999.000, 9,   -999.0, 9,   -999.0, 9, -999.0000,   -999.00,   -999.0, 9,   -999.0,  -999.00, 9,   -999.0,   0.8248, 27.8210,   1.2720, 2, 9, 0.38, 0.12, 0.01, 0.016,  -999.00, 9, -999.00, -999.00, 9, -999.00
49NZ20071122, P14N, 165, 1, 3, X12013, 2, 20071208, 0432, -6.0088, 179.0070, 5403,   5418.8, 2,   1.3003, 2,  34.7065, 2,  34.7078, 3,    195.8, 2,    195.4, 2,   119.67, 2,    32.87, 2,     0.00, 2,     2.30, 2,    0.014, 2,    0.008, 2,    0.000, 2, -999.000, 9,   -999.0, 9,   -999.0, 9, -999.0000,   -999.00,   -999.0, 9,   -999.0,  -999.00, 9,   -999.0,   0.8211, 27.8212,   1.3004, 2, 9, 0.38, 0.12, 0.01, 0.016,  -999.00, 9, -999.00, -999.00, 9, -999.00
49NZ20071122, P14N, 165, 1, 2, X12002, 9, 20071208, 0432, -6.0088, 179.0070, 5403,     10.3, 2,  29.3584, 2,  35.3057, 2, -999.0000, 9,    196.4, 2,   -999.0, 9,  -999.00, 9,  -999.00, 9,  -999.00, 9,  -999.00, 9, -999.000, 9, -999.000, 9, -999.000, 9, -999.000, 9,   -999.0, 9,   -999.0, 9, -999.0000,   -999.00,   -999.0, 9,   -999.0,  -999.00, 9,   -999.0,  29.3559, 22.1741,  29.3584, 2, 9, -999.00, -999.00, -999.00, -999.000,  -999.00, 9, -999.00, -999.00, 9, -999.00
49NZ20071122, P14N, 165, 1, 1, X12001, 2, 20071208, 0432, -6.0088, 179.0070, 5403,   5491.0, 2,   1.3069, 2,  34.7065, 2,  34.7066, 6,    195.8, 2,    195.4, 2,   119.84, 2,    32.92, 2,     0.00, 2,     2.30, 2,    0.013, 2,    0.008, 2,    0.000, 2, -999.000, 9,   -999.0, 9,   -999.0, 9, -999.0000,   -999.00,   -999.0, 9,   -999.0,  -999.00, 9,   -999.0,   0.8184, 27.8213,   1.3070, 2, 9, 0.38, 0.12, 0.01, 0.016,  -999.00, 9, -999.00, -999.00, 9, -999.00