BOTTLE,20220820CCHSIOAMB
EXPOCODE,SECT_ID,STNNBR,CASTNO,SAMPNO,BTLNBR,BTLNBR_FLAG_W,DATE,TIME,LATITUDE,LONGITUDE,DEPTH,CTDPRS,CTDPRS_FLAG_W,CTDTMP,CTDTMP_FLAG_W,CTDSAL,CTDSAL_FLAG_W,SALNTY,SALNTY_FLAG_W,CTDOXY,CTDOXY_FLAG_W,OXYGEN,OXYGEN_FLAG_W,SILCAT,SILCAT_FLAG_W,NITRAT,NITRAT_FLAG_W,NITRIT,NITRIT_FLAG_W,PHSPHT,PHSPHT_FLAG_W,CFC-11,CFC-11_FLAG_W,CFC-12,CFC-12_FLAG_W,CFC113,CFC113_FLAG_W,CCL4,CCL4_FLAG_W,TCARBN,TCARBN_FLAG_W,ALKALI,ALKALI_FLAG_W,PH_TOT,PH_TMP,DELC14,DELC14_FLAG_W,C14ERR,DELC13,DELC13_FLAG_W,C13ERR,THETA,SIG0,SBE35,SBE35_FLAG_W,PH_TOT_FLAG_W,SILUNC,NRAUNC,NRIUNC,PHPUNC,CS-137,CS-137_FLAG_W,CS137ER,PLUTO,PLUTO_FLAG_W,PLUTOER
,,,,,,,,,,,METERS,DBAR,,ITS-90,,PSS-78,,PSS-78,,UMOL/KG,,UMOL/KG,,UMOL/KG,,UMOL/KG,,UMOL/KG,,UMOL/KG,,PMOL/KG,,PMOL/KG,,PMOL/KG,,PMOL/KG,,UMOL/KG,,UMOL/KG,,,DEG C,/MILLE,,/MILLE,/MILLE,,/MILLE,DEG C,KG/M^3,ITS-90,,,UMOL/KG,UMOL/KG,UMOL/KG,UMOL/KG,DM/.1MG,,BQ/M^3,MBQ/M^3,,MBQ/M^3
49NZ20071122, P14, 46, 1, 36, X12042, 2, 20071214, 0847, -19.2115, 177.5775, 3011,     10.1, 2,  27.9676, 2,  34.7046, 2,  34.7049, 2,    209.8, 2,    206.7, 2,     0.60, 2,     0.01, 2,     0.01, 2,     0.05, 2,    1.529, 2,    0.942, 2,    0.317, 4, -999.000, 9,   -999.0, 9,   -999.0, 9, -999.0000,   -999.00,   -999.0, 9,   -999.0,  -999.00, 9,   -999.0,  27.9652, 22.1839,  27.9658, 2, 9, 0.12, 0.03, 0.01, 0.036,  -999.00, 9, -999.00, -999.00, 9, -999.00
49NZ20071122, P14, 46, 1, 35, X12041, 2, 20071214, 0847, -19.2115, 177.5775, 3011,     50.0, 2,  26.4584, 2,  34.9942, 2,  34.9958, 2,    206.6, 2,    206.4, 2,     0.55, 2,     0.01, 2,     0.01, 2,     0.07, 2,    1.628, 2,    1.003, 2,    0.498, 4, -999.000, 9,   -999.0, 9,   -999.0, 9, -999.0000,   -999.00,   -999.0, 9,   -999.0,  -999.00, 9,   -999.0,  26.4471, 22.8888,  26.4549, 2, 9, 0.12, 0.03, 0.01, 0.028,  -999.00, 9, -999.00, -999.00, 9, -999.00
49NZ20071122, P14, 46, 1, 34, X12016, 2, 20071214, 0847, -19.2115, 177.5775, 3011,    100.0, 2,  24.8969, 2,  35.4687, 2,  35.5070, 2,    186.9, 2,    185.1, 2,     0.50, 2,     0.67, 2,     0.15, 2,     0.21, 2,    1.403, 2,    0.846, 2,    0.235, 4, -999.000, 9,   -999.0, 9,   -999.0, 9, -999.0000,   -999.00,   -999.0, 9,   -999.0,  -999.00, 9,   -999.0,  24.8752, 23.7335,  24.8992, 2, 9, 0.12, 0.03, 0.01, 0.016,  -999.00, 1, -999.00, -999.00, 9, -999.00
49NZ20071122, P14, 46, 1, 33, X12033, 2, 20071214, 0847, -19.2115, 177.5775, 3011,    149.8, 2,  23.3462, 2,  35.7352, 2,  35.7342, 2,    172.5, 2,    167.9, 2,     0.60, 2,     2.23, 2,     0.04, 2,     0.34, 2,    1.924, 6,    1.138, 6,    0.159, 4, -999.000, 9,   -999.0, 9,   -999.0, 9, -999.0000,   -999.00,   -999.0, 9,   -999.0,  -999.00, 9,   -999.0,  23.3152, 24.3998,  23.3544, 2, 9, 0.12, 0.04, 0.01, 0.014,  -999.00, 9, -999.00, -999.00, 9, -999.00
49NZ20071122, P14, 46, 1, 32, X12038, 2, 20071214, 0847, -19.2115, 177.5775, 3011,    199.0, 2,  21.2958, 2,  35.7196, 2,  35.7093, 2,    166.8, 2,    167.3, 2,     0.78, 2,     3.72, 2,     0.02, 2,     0.42, 2,    2.097, 2,    1.208, 2,    0.067, 2, -999.000, 9,   -999.0, 9,   -999.0, 9, -999.0000,   -999.00,   -999.0, 9,   -999.0,  -999.00, 9,   -999.0,  21.2572, 24.9714,  21.2938, 2, 9, 0.12, 0.04, 0.01, 0.013,  -999.00, 1, -999.00, -999.00, 9, -999.00
49NZ20071122, P14, 46, 1, 31, X12003, 2, 20071214, 0847, -19.2115, 177.5775, 3011,    249.7, 2,  18.8763, 2,  35.5556, 2,  35.5541, 6,    175.8, 2,    175.8, 2,     1.09, 2,     4.83, 2,     0.01, 2,     0.49, 2,    2.244, 2,    1.259, 2,    0.035, 2, -999.000, 9,   -999.0, 9,   -999.0, 9, -999.0000,   -999.00,   -999.0, 9,   -999.0,  -999.00, 9,   -999.0,  18.8318, 25.4888,  18.8701, 2, 9, 0.12, 0.05, 0.01, 0.013,  -999.00, 9, -999.00, -999.00, 9, -999.00
49NZ20071122, P14, 46, 1, 30, X12008, 2, 20071214, 0847, -19.2115, 177.5775, 3011,    281.2, 2,  17.5077, 2,  35.4328, 2,  35.4287, 2,    178.1, 2,    178.4, 2,     1.49, 2,     6.04, 2,     0.01, 2,     0.56, 2,    2.284, 2,    1.258, 2,    0.039, 2, -999.000, 9,   -999.0, 9,   -999.0, 9, -999.0000,   -999.00,   -999.0, 9,   -999.0,  -999.00, 9,   -999.0,  17.4601, 25.7358,  17.5178, 2, 9, 0.12, 0.05, 0.01, 0.013,  -999.00, 9, -999.00, -999.00, 9, -999.00
49NZ20071122, P14, 46, 1, 29, X12035, 2, 20071214, 0847, -19.2115, 177.5775, 3011,    369.6, 2,  14.3034, 2,  35.0968, 2,  35.0922, 2,    180.6, 2,    180.1, 2,     3.30, 2,    10.62, 2,     0.01, 2,     0.88, 2,    2.256, 2,    1.188, 2,    0.041, 2, -999.000, 9,   -999.0, 9,   -999.0, 9, -999.0000,   -999.00,   -999.0, 9,   -999.0,  -999.00, 9,   -999.0,  14.2489, 26.2093,  14.3181, 2, 9, 0.13, 0.06, 0.01, 0.013,  -999.00, 1, -999.00, -999.00, 9, -999.00
49NZ20071122, P14, 46, 1, 28, X12034, 2, 20071214, 0847, -19.2115, 177.5775, 3011,    471.0, 2,  10.2409, 2,  34.7003, 2,  34.6989, 6,    191.6, 2,    191.6, 2,     6.61, 2,    17.89, 2,     0.01, 2,     1.32, 2,    2.009, 2,    1.003, 2,    0.040, 2, -999.000, 9,   -999.0, 9,   -999.0, 9, -999.0000,   -999.00,   -999.0, 9,   -999.0,  -999.00, 9,   -999.0,  10.1849, 26.6862,  10.2473, 2, 9, 0.13, 0.08, 0.01, 0.014,  -999.00, 9, -999.00, -999.00, 9, -999.00
49NZ20071122, P14, 46, 1, 27, X12049, 2, 20071214, 0847, -19.2115, 177.5775, 3011,    568.5, 2,   7.4097, 2,  34.4465, 2,  34.4446, 2,    202.9, 2,    202.7, 2,    11.72, 2,    23.95, 2,     0.01, 2,     1.70, 2,    1.552, 2,    0.754, 2,    0.042, 2, -999.000, 9,   -999.0, 9,   -999.0, 9, -999.0000,   -999.00,   -999.0, 9,   -999.0,  -999.00, 9,   -999.0,   7.3538, 26.9332,   7.4095, 2, 9, 0.14, 0.10, 0.01, 0.014,  -999.00, 1, -999.00, -999.00, 9, -999.00
49NZ20071122, P14, 46, 1, 26, X12032, 2, 20071214, 0847, -19.2115, 177.5775, 3011,    669.3, 2,   6.0629, 2,  34.3885, 2,  34.3883, 2,    204.7, 2,    197.2, 2,    20.50, 2,    27.60, 2,     0.01, 2,     1.93, 2,    0.866, 2,    0.427, 2,    0.022, 2, -999.000, 9,   -999.0, 9,   -999.0, 9, -999.0000,   -999.00,   -999.0, 9,   -999.0,  -999.00, 9,   -999.0,   6.0034, 27.0690,   6.0634, 2, 9, 0.16, 0.11, 0.01, 0.015,  -999.00, 9, -999.00, -999.00, 9, -999.00
49NZ20071122, P14, 46, 1, 25, X12043, 2, 20071214, 0847, -19.2115, 177.5775, 3011,    770.9, 2,   5.2751, 2,  34.3916, 2,  34.3916, 2,    191.1, 2,    186.8, 2,    30.90, 2,    30.00, 2,     0.01, 2,     2.10, 2,    0.479, 2,    0.245, 2,    0.006, 2, -999.000, 9,   -999.0, 9,   -999.0, 9, -999.0000,   -999.00,   -999.0, 9,   -999.0,  -999.00, 9,   -999.0,   5.2107, 27.1683,   5.2790, 2, 9, 0.19, 0.12, 0.01, 0.015,  -999.00, 1, -999.00, -999.00, 9, -999.00
49NZ20071122, P14, 46, 1, 24, X12030, 2, 20071214, 0847, -19.2115, 177.5775, 3011,    870.8, 2,   4.7228, 2,  34.4104, 2,  34.4111, 2,    179.1, 2,    176.9, 2,    41.09, 2,    31.71, 2,     0.00, 2,     2.22, 2,    0.258, 2,    0.135, 2,    0.000, 2, -999.000, 9,   -999.0, 9,   -999.0, 9, -999.0000,   -999.00,   -999.0, 9,   -999.0,  -999.00, 9,   -999.0,   4.6530, 27.2470,   4.7232, 2, 9, 0.21, 0.12, 0.01, 0.016,  -999.00, 9, -999.00, -999.00, 9, -999.00
49NZ20071122, P14, 46, 1, 23, X12027, 2, 20071214, 0847, -19.2115, 177.5775, 3011,    968.5, 2,   4.3072, 2,  34.4421, 2,  34.4436, 2,    168.9, 2,    166.4, 2,    51.89, 2,    33.12, 2,     0.01, 2,     2.32, 2,    0.124, 2,    0.064, 2,    0.000, 2, -999.000, 9,   -999.0, 9,   -999.0, 9, -999.0000,   -999.00,   -999.0, 9,   -999.0,  -999.00, 9,   -999.0,   4.2320, 27.3180,   4.3095, 2, 9, 0.23, 0.13, 0.01, 0.016,  -999.00, 1, -999.00, -999.00, 9, -999.00
49NZ20071122, P14, 46, 1, 22, X12028, 2, 20071214, 0847, -19.2115, 177.5775, 3011,   1129.3, 2,   3.7600, 2,  34.4866, 2,  34.4886, 6,    157.9, 2,    157.6, 2,    66.61, 2,    34.35, 2,     0.01, 2,     2.41, 2,    0.046, 2,    0.022, 2,    0.000, 2, -999.000, 9,   -999.0, 9,   -999.0, 9, -999.0000,   -999.00,   -999.0, 9,   -999.0,  -999.00, 9,   -999.0,   3.6756, 27.4108,   3.7609, 2, 9, 0.27, 0.13, 0.01, 0.016,  -999.00, 9, -999.00, -999.00, 9, -999.00
49NZ20071122, P14, 46, 1, 21, X12009, 2, 20071214, 0847, -19.2115, 177.5775, 3011,   1331.6, 2,   3.2069, 2,  34.5422, 2,  34.5439, 2,    151.3, 2,    150.8, 2,    84.23, 2,    35.15, 2,     0.00, 2,     2.47, 2,    0.013, 2,    0.009, 2,    0.000, 2, -999.000, 9,   -999.0, 9,   -999.0, 9, -999.0000,   -999.00,   -999.0, 9,   -999.0,  -999.00, 9,   -999.0,   3.1108, 27.5094,   3.2073, 2, 9, 0.30, 0.13, 0.01, 0.016,  -999.00, 9, -999.00, -999.00, 9, -999.00
49NZ20071122, P14, 46, 1, 20, X12026, 2, 20071214, 0847, -19.2115, 177.5775, 3011,   1530.6, 2,   2.7880, 2,  34.5829, 2,  34.5830, 2,    148.3, 2,    147.7, 2,    96.91, 2,    35.54, 2,     0.00, 2,     2.50, 2,    0.006, 2,    0.005, 2,    0.000, 2, -999.000, 9,   -999.0, 9,   -999.0, 9, -999.0000,   -999.00,   -999.0, 9,   -999.0,  -999.00, 9,   -999.0,   2.6801, 27.5808,   2.7881, 2, 9, 0.33, 0.13, 0.01, 0.016,  -999.00, 9, -999.00, -999.00, 9, -999.00
49NZ20071122, P14, 46, 1, 19, X12025, 2, 20071214, 0847, -19.2115, 177.5775, 3011,   1730.6, 2,   2.5484, 2,  34.6058, 2,  34.6061, 2,    147.5, 2,    147.5, 2,   104.34, 2,    35.68, 2,     0.00, 2,     2.52, 2, -999.000, 9, -999.000, 9, -999.000, 9, -999.000, 9,   -999.0, 9,   -999.0, 9, -999.0000,   -999.00,   -999.0, 9,   -999.0,  -999.00, 9,   -999.0,   2.4268, 27.6210,   2.5485, 2, 9, 0.35, 0.13, 0.01, 0.016,  -999.00, 9, -999.00, -999.00, 9, -999.00
49NZ20071122, P14, 46, 1, 18, X12024, 2, 20071214, 0847, -19.2115, 177.5775, 3011,   1931.1, 2,   2.3753, 2,  34.6225, 2,  34.6227, 2,    148.0, 2,    148.0, 2,   109.16, 2,    35.68, 2,     0.01, 2,     2.52, 2,    0.002, 2,    0.003, 2,    0.000, 2, -999.000, 9,   -999.0, 9,   -999.0, 9, -999.0000,   -999.00,   -999.0, 9,   -999.0,  -999.00, 9,   -999.0,   2.2391, 27.6499,   2.3752, 2, 9, 0.36, 0.13, 0.01, 0.016,  -999.00, 9, -999.00, -999.00, 9, -999.00
49NZ20071122, P14, 46, 1, 17, X12023, 2, 20071214, 0847, -19.2115, 177.5775, 3011,   2130.6, 2,   2.1895, 2,  34.6408, 2,  34.6409, 6,    149.3, 2,    149.3, 2,   113.67, 2,    35.60, 2,     0.00, 2,     2.51, 2, -999.000, 9, -999.000, 9, -999.000, 9, -999.000, 9,   -999.0, 9,   -999.0, 9, -999.0000,   -999.00,   -999.0, 9,   -999.0,  -999.00, 9,   -999.0,   2.0389, 27.6808,   2.1897, 2, 9, 0.37, 0.13, 0.01, 0.016,  -999.00, 9, -999.00, -999.00, 9, -999.00
49NZ20071122, P14, 46, 1, 16, X12022, 2, 20071214, 0847, -19.2115, 177.5775, 3011,   2330.6, 2,   2.0860, 2,  34.6510, 2,  34.6512, 2,    149.8, 2,    149.7, 2,   116.74, 2,    35.57, 2,     0.00, 2,     2.51, 2,    0.000, 2,    0.001, 2,    0.000, 2, -999.000, 9,   -999.0, 9,   -999.0, 9, -999.0000,   -999.00,   -999.0, 9,   -999.0,  -999.00, 9,   -999.0,   1.9195, 27.6984,   2.0861, 2, 9, 0.38, 0.13, 0.01, 0.016,  -999.00, 9, -999.00, -999.00, 9, -999.00
49NZ20071122, P14, 46, 1, 15, X12021, 2, 20071214, 0847, -19.2115, 177.5775, 3011,   2530.4, 2,   2.0401, 2,  34.6568, 2,  34.6569, 2,    150.0, 2,    150.0, 2,   118.17, 2,    35.66, 2,     0.00, 2,     2.52, 2, -999.000, 9, -999.000, 9, -999.000, 9, -999.000, 9,   -999.0, 9,   -999.0, 9, -999.0000,   -999.00,   -999.0, 9,   -999.0,  -999.00, 9,   -999.0,   1.8563, 27.7080,   2.0402, 2, 9, 0.38, 0.13, 0.01, 0.016,  -999.00, 9, -999.00, -999.00, 9, -999.00
49NZ20071122, P14, 46, 1, 14, X12020, 2, 20071214, 0847, -19.2115, 177.5775, 3011,   2729.6, 2,   2.0007, 2,  34.6617, 2,  34.6617, 6,    150.2, 2,    150.2, 2,   119.55, 2,    35.64, 2,     0.01, 2,     2.51, 2,    0.001, 2,    0.001, 2,    0.000, 2, -999.000, 9,   -999.0, 9,   -999.0, 9, -999.0000,   -999.00,   -999.0, 9,   -999.0,  -999.00, 9,   -999.0,   1.7990, 27.7163,   2.0007, 2, 9, 0.38, 0.13, 0.01, 0.016,  -999.00, 9, -999.00, -999.00, 9, -999.00
49NZ20071122, P14, 46, 1, 13, X12019, 2, 20071214, 0847, -19.2115, 177.5775, 3011,   2928.7, 2,   1.9997, 2,  34.6636, 2,  34.6635, 2,    150.9, 2,    150.5, 2,   119.89, 2,    35.54, 2,     0.00, 2,     2.51, 2, -999.000, 9, -999.000, 9, -999.000, 9, -999.000, 9,   -999.0, 9,   -999.0, 9, -999.0000,   -999.00,   -999.0, 9,   -999.0,  -999.00, 9,   -999.0,   1.7790, 27.7194,   1.9997, 2, 9, 0.38, 0.13, 0.01, 0.016,  -999.00, 9, -999.00, -999.00, 9, -999.00
49NZ20071122, P14, 46, 1, 12, X12040, 9, 20071214, 0847, -19.2115, 177.5775, 3011,     10.1, 2,  27.9693, 2,  34.7042, 2, -999.0000, 9,    209.7, 2,   -999.0, 9,  -999.00, 9,  -999.00, 9,  -999.00, 9,  -999.00, 9, -999.000, 9, -999.000, 9, -999.000, 9, -999.000, 9,   -999.0, 9,   -999.0, 9, -999.0000,   -999.00,   -999.0, 9,   -999.0,  -999.00, 9,   -999.0,  27.9669, 22.1830,  27.9679, 2, 9, -999.00, -999.00, -999.00, -999.000,  -999.00, 9, -999.00, -999.00, 9, -999.00
49NZ20071122, P14, 46, 1, 11, X12047, 9, 20071214, 0847, -19.2115, 177.5775, 3011,   1930.9, 2,   2.3741, 2,  34.6227, 2, -999.0000, 9,    148.0, 2,   -999.0, 9,  -999.00, 9,  -999.00, 9,  -999.00, 9,  -999.00, 9, -999.000, 9, -999.000, 9, -999.000, 9, -999.000, 9,   -999.0, 9,   -999.0, 9, -999.0000,   -999.00,   -999.0, 9,   -999.0,  -999.00, 9,   -999.0,   2.2380, 27.6502,   2.3739, 2, 9, -999.00, -999.00, -999.00, -999.000,  -999.00, 9, -999.00, -999.00, 9, -999.00
49NZ20071122, P14, 46, 1, 10, X12012, 2, 20071214, 0847, -19.2115, 177.5775, 3011,   1931.0, 2,   2.3744, 2,  34.6227, 2, -999.0000, 9,    148.0, 2,   -999.0, 9,  -999.00, 9,  -999.00, 9,  -999.00, 9,  -999.00, 9, -999.000, 9, -999.000, 9, -999.000, 9, -999.000, 9,   -999.0, 9,   -999.0, 9, -999.0000,   -999.00,   -999.0, 9,   -999.0,  -999.00, 9,   -999.0,   2.2382, 27.6502,   2.3744, 2, 9, -999.00, -999.00, -999.00, -999.000,  -999.00, 1, -999.00, -999.00, 9, -999.00
49NZ20071122, P14, 46, 1, 9, X12015, 2, 20071214, 0847, -19.2115, 177.5775, 3011,   1931.3, 2,   2.3745, 2,  34.6226, 2, -999.0000, 9,    148.0, 2,   -999.0, 9,  -999.00, 9,  -999.00, 9,  -999.00, 9,  -999.00, 9, -999.000, 9, -999.000, 9, -999.000, 9, -999.000, 9,   -999.0, 9,   -999.0, 9, -999.0000,   -999.00,   -999.0, 9,   -999.0,  -999.00, 9,   -999.0,   2.2383, 27.6501,   2.3745, 2, 9, -999.00, -999.00, -999.00, -999.000,  -999.00, 1, -999.00, -999.00, 9, -999.00
49NZ20071122, P14, 46, 1, 8, X12046, 2, 20071214, 0847, -19.2115, 177.5775, 3011,   1930.1, 2,   2.3750, 2,  34.6226, 2, -999.0000, 9,    147.9, 2,   -999.0, 9,  -999.00, 9,  -999.00, 9,  -999.00, 9,  -999.00, 9, -999.000, 9, -999.000, 9, -999.000, 9, -999.000, 9,   -999.0, 9,   -999.0, 9, -999.0000,   -999.00,   -999.0, 9,   -999.0,  -999.00, 9,   -999.0,   2.2389, 27.6500,   2.3751, 2, 9, -999.00, -999.00, -999.00, -999.000,  -999.00, 1, -999.00, -999.00, 9, -999.00
49NZ20071122, P14, 46, 1, 7, X12044, 2, 20071214, 0847, -19.2115, 177.5775, 3011,   1930.6, 2,   2.3749, 2,  34.6225, 2, -999.0000, 9,    148.0, 2,   -999.0, 9,  -999.00, 9,  -999.00, 9,  -999.00, 9,  -999.00, 9, -999.000, 9, -999.000, 9, -999.000, 9, -999.000, 9,   -999.0, 9,   -999.0, 9, -999.0000,   -999.00,   -999.0, 9,   -999.0,  -999.00, 9,   -999.0,   2.2388, 27.6500,   2.3749, 2, 9, -999.00, -999.00, -999.00, -999.000,  -999.00, 1, -999.00, -999.00, 9, -999.00
49NZ20071122, P14, 46, 1, 6, X12048, 9, 20071214, 0847, -19.2115, 177.5775, 3011,   3039.2, 2,   2.0095, 2,  34.6637, 2, -999.0000, 9,    150.5, 2,   -999.0, 9,  -999.00, 9,  -999.00, 9,  -999.00, 9,  -999.00, 9, -999.000, 9, -999.000, 9, -999.000, 9, -999.000, 9,   -999.0, 9,   -999.0, 9, -999.0000,   -999.00,   -999.0, 9,   -999.0,  -999.00, 9,   -999.0,   1.7777, 27.7196,   2.0094, 2, 9, -999.00, -999.00, -999.00, -999.000,  -999.00, 9, -999.00, -999.00, 9, -999.00
49NZ20071122, P14, 46, 1, 5, X12014, 2, 20071214, 0847, -19.2115, 177.5775, 3011,   3038.9, 2,   2.0095, 2,  34.6638, 2, -999.0000, 9,    150.5, 2,   -999.0, 9,  -999.00, 9,  -999.00, 9,  -999.00, 9,  -999.00, 9, -999.000, 9, -999.000, 9, -999.000, 9, -999.000, 9,   -999.0, 9,   -999.0, 9, -999.0000,   -999.00,   -999.0, 9,   -999.0,  -999.00, 9,   -999.0,   1.7777, 27.7196,   2.0094, 2, 9, -999.00, -999.00, -999.00, -999.000,  -999.00, 1, -999.00, -999.00, 9, -999.00
49NZ20071122, P14, 46, 1, 4, X12006, 2, 20071214, 0847, -19.2115, 177.5775, 3011,   3038.5, 2,   2.0095, 2,  34.6637, 2, -999.0000, 9,    150.6, 2,   -999.0, 9,  -999.00, 9,  -999.00, 9,  -999.00, 9,  -999.00, 9, -999.000, 9, -999.000, 9, -999.000, 9, -999.000, 9,   -999.0, 9,   -999.0, 9, -999.0000,   -999.00,   -999.0, 9,   -999.0,  -999.00, 9,   -999.0,   1.7778, 27.7196,   2.0094, 2, 9, -999.00, -999.00, -999.00, -999.000,  -999.00, 1, -999.00, -999.00, 9, -999.00
49NZ20071122, P14, 46, 1, 3, X12013, 2, 20071214, 0847, -19.2115, 177.5775, 3011,   3038.7, 2,   2.0095, 2,  34.6637, 2, -999.0000, 9,    150.5, 2,   -999.0, 9,  -999.00, 9,  -999.00, 9,  -999.00, 9,  -999.00, 9, -999.000, 9, -999.000, 9, -999.000, 9, -999.000, 9,   -999.0, 9,   -999.0, 9, -999.0000,   -999.00,   -999.0, 9,   -999.0,  -999.00, 9,   -999.0,   1.7778, 27.7196,   2.0095, 2, 9, -999.00, -999.00, -999.00, -999.000,  -999.00, 1, -999.00, -999.00, 9, -999.00
49NZ20071122, P14, 46, 1, 2, X12002, 2, 20071214, 0847, -19.2115, 177.5775, 3011,   3037.7, 2,   2.0095, 2,  34.6638, 2, -999.0000, 9,    150.7, 2,   -999.0, 9,  -999.00, 9,  -999.00, 9,  -999.00, 9,  -999.00, 9, -999.000, 9, -999.000, 9, -999.000, 9, -999.000, 9,   -999.0, 9,   -999.0, 9, -999.0000,   -999.00,   -999.0, 9,   -999.0,  -999.00, 9,   -999.0,   1.7779, 27.7196,   2.0094, 2, 9, -999.00, -999.00, -999.00, -999.000,  -999.00, 1, -999.00, -999.00, 9, -999.00
49NZ20071122, P14, 46, 1, 1, X12001, 2, 20071214, 0847, -19.2115, 177.5775, 3011,   3037.7, 2,   2.0096, 2,  34.6637, 2,  34.6639, 6,    150.7, 2,    150.3, 2,   119.93, 2,    35.51, 2,     0.00, 2,     2.51, 2,    0.000, 2,    0.000, 2,    0.010, 4, -999.000, 9,   -999.0, 9,   -999.0, 9, -999.0000,   -999.00,   -999.0, 9,   -999.0,  -999.00, 9,   -999.0,   1.7780, 27.7195,   2.0095, 2, 9, 0.38, 0.13, 0.01, 0.016,  -999.00, 9, -999.00, -999.00, 9, -999.00