BOTTLE,20220820CCHSIOAMB
EXPOCODE,SECT_ID,STNNBR,CASTNO,SAMPNO,BTLNBR,BTLNBR_FLAG_W,DATE,TIME,LATITUDE,LONGITUDE,DEPTH,CTDPRS,CTDPRS_FLAG_W,CTDTMP,CTDTMP_FLAG_W,CTDSAL,CTDSAL_FLAG_W,SALNTY,SALNTY_FLAG_W,CTDOXY,CTDOXY_FLAG_W,OXYGEN,OXYGEN_FLAG_W,SILCAT,SILCAT_FLAG_W,NITRAT,NITRAT_FLAG_W,NITRIT,NITRIT_FLAG_W,PHSPHT,PHSPHT_FLAG_W,CFC-11,CFC-11_FLAG_W,CFC-12,CFC-12_FLAG_W,CFC113,CFC113_FLAG_W,CCL4,CCL4_FLAG_W,TCARBN,TCARBN_FLAG_W,ALKALI,ALKALI_FLAG_W,PH_TOT,PH_TMP,DELC14,DELC14_FLAG_W,C14ERR,DELC13,DELC13_FLAG_W,C13ERR,THETA,SIG0,SBE35,SBE35_FLAG_W,PH_TOT_FLAG_W,SILUNC,NRAUNC,NRIUNC,PHPUNC,CS-137,CS-137_FLAG_W,CS137ER,PLUTO,PLUTO_FLAG_W,PLUTOER
,,,,,,,,,,,METERS,DBAR,,ITS-90,,PSS-78,,PSS-78,,UMOL/KG,,UMOL/KG,,UMOL/KG,,UMOL/KG,,UMOL/KG,,UMOL/KG,,PMOL/KG,,PMOL/KG,,PMOL/KG,,PMOL/KG,,UMOL/KG,,UMOL/KG,,,DEG C,/MILLE,,/MILLE,/MILLE,,/MILLE,DEG C,KG/M^3,ITS-90,,,UMOL/KG,UMOL/KG,UMOL/KG,UMOL/KG,DM/.1MG,,BQ/M^3,MBQ/M^3,,MBQ/M^3
49NZ20071122, P14N, 136, 1, 36, X12042, 2, 20071130, 0537, 1.7517, 178.9943, 5546,     10.4, 2,  27.6562, 2,  35.1339, 2,  35.1343, 2,    205.7, 2,    204.5, 2,     1.65, 2,     2.46, 2,     0.11, 2,     0.38, 2,    1.517, 2,    0.957, 2,    0.195, 4, -999.000, 9,   -999.0, 9,   -999.0, 9, -999.0000,   -999.00,   -999.0, 9,   -999.0,  -999.00, 9,   -999.0,  27.6538, 22.6081,  27.6566, 2, 9, 0.12, 0.04, 0.01, 0.014,  -999.00, 9, -999.00, -999.00, 9, -999.00
49NZ20071122, P14N, 136, 1, 35, X12041, 2, 20071130, 0537, 1.7517, 178.9943, 5546,     50.1, 2,  26.9997, 2,  35.1914, 2,  35.1912, 2,    197.8, 2,    196.4, 2,     1.84, 2,     3.22, 2,     0.40, 2,     0.48, 2,    1.558, 2,    0.963, 2,    0.190, 4, -999.000, 9,   -999.0, 9,   -999.0, 9, -999.0000,   -999.00,   -999.0, 9,   -999.0,  -999.00, 9,   -999.0,  26.9882, 22.8657,  26.9983, 2, 9, 0.12, 0.04, 0.00, 0.013,  -999.00, 9, -999.00, -999.00, 9, -999.00
49NZ20071122, P14N, 136, 1, 34, X12016, 2, 20071130, 0537, 1.7517, 178.9943, 5546,    100.4, 2,  26.8233, 2,  35.2542, 2,  35.2533, 2,    188.7, 2,    188.2, 2,     1.98, 2,     3.68, 2,     1.42, 2,     0.54, 2,    1.580, 2,    0.978, 2,    0.180, 4, -999.000, 9,   -999.0, 9,   -999.0, 9, -999.0000,   -999.00,   -999.0, 9,   -999.0,  -999.00, 9,   -999.0,  26.8004, 22.9729,  26.8219, 2, 9, 0.12, 0.04, 0.02, 0.013,  -999.00, 9, -999.00, -999.00, 9, -999.00
49NZ20071122, P14N, 136, 1, 33, X12033, 2, 20071130, 0537, 1.7517, 178.9943, 5546,    150.6, 2,  25.2103, 2,  35.1127, 2,  35.1098, 2,    162.6, 2,    162.6, 2,     3.54, 2,     7.57, 2,     0.09, 2,     0.69, 2,    1.659, 6,    1.008, 6,    0.134, 6, -999.000, 9,   -999.0, 9,   -999.0, 9, -999.0000,   -999.00,   -999.0, 9,   -999.0,  -999.00, 9,   -999.0,  25.1774, 23.3723,  25.2109, 2, 9, 0.13, 0.05, 0.01, 0.013,  -999.00, 9, -999.00, -999.00, 9, -999.00
49NZ20071122, P14N, 136, 1, 32, X12038, 2, 20071130, 0537, 1.7517, 178.9943, 5546,    200.2, 2,  15.0717, 2,  34.6836, 2,  34.6909, 2,    129.3, 2,    127.7, 2,    16.30, 2,    16.79, 2,     0.02, 2,     1.27, 2,    1.844, 2,    1.010, 2,    0.032, 2, -999.000, 9,   -999.0, 9,   -999.0, 9, -999.0000,   -999.00,   -999.0, 9,   -999.0,  -999.00, 9,   -999.0,  15.0414, 25.7189,  15.0805, 2, 9, 0.15, 0.08, 0.01, 0.014,  -999.00, 9, -999.00, -999.00, 9, -999.00
49NZ20071122, P14N, 136, 1, 31, X12003, 2, 20071130, 0537, 1.7517, 178.9943, 5546,    250.2, 2,  11.8227, 2,  34.7885, 2,  34.7932, 6,    117.6, 2,    111.9, 2,    20.73, 2,    23.44, 2,     0.01, 2,     1.71, 2,    1.229, 2,    0.661, 2,    0.023, 2, -999.000, 9,   -999.0, 9,   -999.0, 9, -999.0000,   -999.00,   -999.0, 9,   -999.0,  -999.00, 9,   -999.0,  11.7904, 26.4647,  11.8211, 2, 9, 0.16, 0.10, 0.01, 0.014,  -999.00, 9, -999.00, -999.00, 9, -999.00
49NZ20071122, P14N, 136, 1, 30, X12008, 2, 20071130, 0537, 1.7517, 178.9943, 5546,    299.2, 2,  11.4305, 2,  34.8123, 2,  34.8102, 2,     74.4, 2,     69.7, 2,    23.26, 2,    28.51, 2,     0.01, 2,     2.03, 2,    0.863, 2,    0.463, 2,    0.019, 2, -999.000, 9,   -999.0, 9,   -999.0, 9, -999.0000,   -999.00,   -999.0, 9,   -999.0,  -999.00, 9,   -999.0,  11.3926, 26.5575,  11.4310, 2, 9, 0.17, 0.11, 0.01, 0.015,  -999.00, 9, -999.00, -999.00, 9, -999.00
49NZ20071122, P14N, 136, 1, 29, X12035, 2, 20071130, 0537, 1.7517, 178.9943, 5546,    400.9, 2,  10.4505, 2,  34.7444, 2,  34.7401, 2,     55.9, 2,     59.0, 2,    27.35, 2,    31.42, 2,     0.01, 2,     2.21, 2,    0.619, 2,    0.324, 2,    0.012, 2, -999.000, 9,   -999.0, 9,   -999.0, 9, -999.0000,   -999.00,   -999.0, 9,   -999.0,  -999.00, 9,   -999.0,  10.4023, 26.6829,  10.4507, 2, 9, 0.18, 0.12, 0.01, 0.016,  -999.00, 9, -999.00, -999.00, 9, -999.00
49NZ20071122, P14N, 136, 1, 28, X12034, 2, 20071130, 0537, 1.7517, 178.9943, 5546,    500.3, 2,   9.3945, 2,  34.6766, 2,  34.6742, 6,     68.6, 2,     68.7, 2,    31.01, 2,    32.54, 2,     0.01, 2,     2.29, 2,    0.478, 2,    0.249, 2,    0.010, 2, -999.000, 9,   -999.0, 9,   -999.0, 9, -999.0000,   -999.00,   -999.0, 9,   -999.0,  -999.00, 9,   -999.0,   9.3380, 26.8101,   9.3946, 2, 9, 0.19, 0.12, 0.01, 0.016,  -999.00, 9, -999.00, -999.00, 9, -999.00
49NZ20071122, P14N, 136, 1, 27, X12049, 2, 20071130, 0537, 1.7517, 178.9943, 5546,    598.9, 2,   8.0958, 2,  34.6049, 2,  34.6033, 2,     73.8, 2,     73.9, 2,    37.95, 2,    34.49, 2,     0.01, 2,     2.44, 2,    0.275, 2,    0.143, 2,    0.010, 2, -999.000, 9,   -999.0, 9,   -999.0, 9, -999.0000,   -999.00,   -999.0, 9,   -999.0,  -999.00, 9,   -999.0,   8.0335, 26.9585,   8.0970, 2, 9, 0.20, 0.13, 0.01, 0.016,  -999.00, 9, -999.00, -999.00, 9, -999.00
49NZ20071122, P14N, 136, 1, 26, X12032, 2, 20071130, 0537, 1.7517, 178.9943, 5546,    700.5, 2,   6.7321, 2,  34.5640, 2,  34.5624, 2,     53.4, 2,     53.3, 2,    52.59, 2,    39.34, 2,     0.01, 2,     2.82, 2,    0.053, 6,    0.032, 6,    0.007, 6, -999.000, 9,   -999.0, 9,   -999.0, 9, -999.0000,   -999.00,   -999.0, 9,   -999.0,  -999.00, 9,   -999.0,   6.6660, 27.1210,   6.7326, 2, 9, 0.23, 0.14, 0.01, 0.017,  -999.00, 9, -999.00, -999.00, 9, -999.00
49NZ20071122, P14N, 136, 1, 25, X12043, 2, 20071130, 0537, 1.7517, 178.9943, 5546,    799.8, 2,   5.6979, 2,  34.5442, 2,  34.5438, 2,     78.7, 2,     78.3, 2,    62.49, 2,    38.65, 2,     0.01, 2,     2.76, 2,    0.051, 2,    0.031, 2,    0.006, 2, -999.000, 9,   -999.0, 9,   -999.0, 9, -999.0000,   -999.00,   -999.0, 9,   -999.0,  -999.00, 9,   -999.0,   5.6281, 27.2390,   5.6981, 2, 9, 0.26, 0.14, 0.01, 0.017,  -999.00, 9, -999.00, -999.00, 9, -999.00
49NZ20071122, P14N, 136, 1, 24, X12030, 2, 20071130, 0537, 1.7517, 178.9943, 5546,    899.8, 2,   5.1501, 2,  34.5445, 2,  34.5442, 2,     87.5, 2,     85.4, 2,    70.90, 2,    38.54, 2,     0.01, 2,     2.75, 2,    0.041, 2,    0.022, 2,    0.004, 2, -999.000, 9,   -999.0, 9,   -999.0, 9, -999.0000,   -999.00,   -999.0, 9,   -999.0,  -999.00, 9,   -999.0,   5.0747, 27.3054,   5.1507, 2, 9, 0.27, 0.14, 0.01, 0.017,  -999.00, 9, -999.00, -999.00, 9, -999.00
49NZ20071122, P14N, 136, 1, 23, X12027, 2, 20071130, 0537, 1.7517, 178.9943, 5546,   1002.1, 2,   4.7869, 2,  34.5489, 2,  34.5491, 6,     88.4, 2,     88.3, 2,    77.61, 2,    38.62, 2,     0.01, 2,     2.77, 2,    0.030, 2,    0.018, 2,    0.004, 2, -999.000, 9,   -999.0, 9,   -999.0, 9, -999.0000,   -999.00,   -999.0, 9,   -999.0,  -999.00, 9,   -999.0,   4.7050, 27.3512,   4.7870, 2, 9, 0.29, 0.14, 0.01, 0.017,  -999.00, 9, -999.00, -999.00, 9, -999.00
49NZ20071122, P14N, 136, 1, 22, X12028, 2, 20071130, 0537, 1.7517, 178.9943, 5546,   1203.2, 2,   4.0291, 2,  34.5679, 2,  34.5680, 2,     86.6, 2,     86.7, 2,    94.60, 2,    39.56, 2,     0.01, 2,     2.84, 2,    0.014, 2,    0.009, 2,    0.000, 2, -999.000, 9,   -999.0, 9,   -999.0, 9, -999.0000,   -999.00,   -999.0, 9,   -999.0,  -999.00, 9,   -999.0,   3.9358, 27.4491,   4.0309, 2, 9, 0.33, 0.14, 0.01, 0.017,  -999.00, 9, -999.00, -999.00, 9, -999.00
49NZ20071122, P14N, 136, 1, 21, X12009, 2, 20071130, 0537, 1.7517, 178.9943, 5546,   1402.1, 2,   3.4065, 2,  34.5875, 2,  34.5874, 2,     93.2, 2,     93.3, 2,   107.94, 2,    39.48, 2,     0.01, 2,     2.83, 2,    0.015, 2,    0.008, 2,    0.000, 2, -999.000, 9,   -999.0, 9,   -999.0, 9, -999.0000,   -999.00,   -999.0, 9,   -999.0,  -999.00, 9,   -999.0,   3.3024, 27.5275,   3.4066, 2, 9, 0.36, 0.14, 0.01, 0.017,  -999.00, 9, -999.00, -999.00, 9, -999.00
49NZ20071122, P14N, 136, 1, 20, X12026, 2, 20071130, 0537, 1.7517, 178.9943, 5546,   1601.0, 2,   2.8840, 2,  34.6082, 2,  34.6087, 2,    100.2, 2,    100.0, 2,   119.09, 2,    39.25, 2,     0.01, 2,     2.80, 2,    0.006, 2,    0.004, 2,    0.000, 2, -999.000, 9,   -999.0, 9,   -999.0, 9, -999.0000,   -999.00,   -999.0, 9,   -999.0,  -999.00, 9,   -999.0,   2.7690, 27.5932,   2.8842, 2, 9, 0.38, 0.14, 0.01, 0.017,  -999.00, 9, -999.00, -999.00, 9, -999.00
49NZ20071122, P14N, 136, 1, 19, X12025, 2, 20071130, 0537, 1.7517, 178.9943, 5546,   1801.1, 2,   2.5342, 2,  34.6237, 2,  34.6235, 2,    107.0, 2,    106.7, 2,   126.80, 2,    38.98, 2,     0.01, 2,     2.77, 2, -999.000, 9, -999.000, 9, -999.000, 9, -999.000, 9,   -999.0, 9,   -999.0, 9, -999.0000,   -999.00,   -999.0, 9,   -999.0,  -999.00, 9,   -999.0,   2.4068, 27.6369,   2.5348, 2, 9, 0.40, 0.14, 0.01, 0.017,  -999.00, 9, -999.00, -999.00, 9, -999.00
49NZ20071122, P14N, 136, 1, 18, X12024, 2, 20071130, 0537, 1.7517, 178.9943, 5546,   1999.8, 2,   2.2572, 2,  34.6382, 2,  34.6387, 2,    111.5, 2,    111.7, 2,   133.30, 2,    38.78, 2,     0.01, 2,     2.74, 2,    0.000, 2,    0.000, 2,    0.000, 2, -999.000, 9,   -999.0, 9,   -999.0, 9, -999.0000,   -999.00,   -999.0, 9,   -999.0,  -999.00, 9,   -999.0,   2.1169, 27.6725,   2.2572, 2, 9, 0.41, 0.14, 0.01, 0.017,  -999.00, 9, -999.00, -999.00, 9, -999.00
49NZ20071122, P14N, 136, 1, 17, X12023, 2, 20071130, 0537, 1.7517, 178.9943, 5546,   2200.9, 2,   2.0953, 2,  34.6471, 2,  34.6471, 6,    117.1, 2,    117.0, 2,   136.25, 2,    38.43, 2,     0.01, 2,     2.71, 2, -999.000, 9, -999.000, 9, -999.000, 9, -999.000, 9,   -999.0, 9,   -999.0, 9, -999.0000,   -999.00,   -999.0, 9,   -999.0,  -999.00, 9,   -999.0,   1.9401, 27.6937,   2.0953, 2, 9, 0.42, 0.14, 0.01, 0.017,  -999.00, 9, -999.00, -999.00, 9, -999.00
49NZ20071122, P14N, 136, 1, 16, X12022, 2, 20071130, 0537, 1.7517, 178.9943, 5546,   2401.3, 2,   1.9445, 2,  34.6561, 2,  34.6562, 2,    120.1, 2,    120.1, 2,   140.53, 2,    38.26, 2,     0.01, 2,     2.70, 2, -999.000, 9, -999.000, 9, -999.000, 9, -999.000, 9,   -999.0, 9,   -999.0, 9, -999.0000,   -999.00,   -999.0, 9,   -999.0,  -999.00, 9,   -999.0,   1.7741, 27.7138,   1.9444, 2, 9, 0.43, 0.14, 0.01, 0.017,  -999.00, 9, -999.00, -999.00, 9, -999.00
49NZ20071122, P14N, 136, 1, 15, X12021, 2, 20071130, 0537, 1.7517, 178.9943, 5546,   2600.7, 2,   1.8447, 2,  34.6627, 2,  34.6627, 2,    123.6, 2,    123.6, 2,   142.61, 2,    38.12, 2,     0.01, 2,     2.68, 2,    0.007, 2,    0.006, 2,    0.000, 2, -999.000, 9,   -999.0, 9,   -999.0, 9, -999.0000,   -999.00,   -999.0, 9,   -999.0,  -999.00, 9,   -999.0,   1.6581, 27.7278,   1.8446, 2, 9, 0.43, 0.14, 0.01, 0.017,  -999.00, 9, -999.00, -999.00, 9, -999.00
49NZ20071122, P14N, 136, 1, 14, X12020, 2, 20071130, 0537, 1.7517, 178.9943, 5546,   2802.5, 2,   1.7702, 2,  34.6664, 2,  34.6659, 2,    128.9, 2,    128.4, 2,   142.82, 2,    37.70, 2,     0.01, 2,     2.65, 2, -999.000, 9, -999.000, 9, -999.000, 9, -999.000, 9,   -999.0, 9,   -999.0, 9, -999.0000,   -999.00,   -999.0, 9,   -999.0,  -999.00, 9,   -999.0,   1.5664, 27.7376,   1.7701, 2, 9, 0.43, 0.14, 0.01, 0.017,  -999.00, 9, -999.00, -999.00, 9, -999.00
49NZ20071122, P14N, 136, 1, 13, X12019, 2, 20071130, 0537, 1.7517, 178.9943, 5546,   3001.6, 2,   1.6954, 2,  34.6705, 2,  34.6703, 2,    133.7, 2,    133.8, 2,   142.77, 2,    37.33, 2,     0.01, 2,     2.62, 2, -999.000, 9, -999.000, 9, -999.000, 9, -999.000, 9,   -999.0, 9,   -999.0, 9, -999.0000,   -999.00,   -999.0, 9,   -999.0,  -999.00, 9,   -999.0,   1.4742, 27.7477,   1.6954, 2, 9, 0.43, 0.14, 0.01, 0.017,  -999.00, 9, -999.00, -999.00, 9, -999.00
49NZ20071122, P14N, 136, 1, 12, X12040, 2, 20071130, 0537, 1.7517, 178.9943, 5546,   3251.2, 2,   1.6261, 2,  34.6750, 2,  34.6745, 2,    140.0, 2,    139.8, 2,   141.64, 2,    36.83, 2,     0.01, 2,     2.58, 2,    0.000, 2,    0.000, 2,    0.000, 2, -999.000, 9,   -999.0, 9,   -999.0, 9, -999.0000,   -999.00,   -999.0, 9,   -999.0,  -999.00, 9,   -999.0,   1.3820, 27.7579,   1.6262, 2, 9, 0.43, 0.14, 0.01, 0.016,  -999.00, 9, -999.00, -999.00, 9, -999.00
49NZ20071122, P14N, 136, 1, 11, X12047, 2, 20071130, 0537, 1.7517, 178.9943, 5546,   3502.1, 2,   1.5708, 2,  34.6794, 2,  34.6790, 2,    146.4, 2,    145.7, 2,   140.94, 2,    36.45, 2,     0.01, 2,     2.55, 2, -999.000, 9, -999.000, 9, -999.000, 9, -999.000, 9,   -999.0, 9,   -999.0, 9, -999.0000,   -999.00,   -999.0, 9,   -999.0,  -999.00, 9,   -999.0,   1.3027, 27.7670,   1.5709, 2, 9, 0.43, 0.13, 0.01, 0.016,  -999.00, 9, -999.00, -999.00, 9, -999.00
49NZ20071122, P14N, 136, 1, 10, X12012, 2, 20071130, 0537, 1.7517, 178.9943, 5546,   3749.6, 2,   1.5080, 2,  34.6848, 2,  34.6844, 2,    153.5, 2,    153.0, 2,   139.42, 2,    36.01, 2,     0.01, 2,     2.51, 2, -999.000, 9, -999.000, 9, -999.000, 9, -999.000, 9,   -999.0, 9,   -999.0, 9, -999.0000,   -999.00,   -999.0, 9,   -999.0,  -999.00, 9,   -999.0,   1.2157, 27.7775,   1.5080, 2, 9, 0.43, 0.13, 0.01, 0.016,  -999.00, 9, -999.00, -999.00, 9, -999.00
49NZ20071122, P14N, 136, 1, 9, X12015, 2, 20071130, 0537, 1.7517, 178.9943, 5546,   4000.8, 2,   1.4548, 2,  34.6897, 2,  34.6893, 6,    161.3, 2,    160.8, 2,   136.54, 2,    35.52, 2,     0.01, 2,     2.47, 2,    0.007, 4,    0.005, 4,    0.005, 4, -999.000, 9,   -999.0, 9,   -999.0, 9, -999.0000,   -999.00,   -999.0, 9,   -999.0,  -999.00, 9,   -999.0,   1.1371, 27.7868,   1.4549, 2, 9, 0.42, 0.13, 0.01, 0.016,  -999.00, 9, -999.00, -999.00, 9, -999.00
49NZ20071122, P14N, 136, 1, 8, X12046, 2, 20071130, 0537, 1.7517, 178.9943, 5546,   4249.9, 2,   1.3860, 2,  34.6949, 2,  34.6945, 2,    170.3, 2,    169.8, 2,   133.19, 2,    34.94, 2,     0.01, 2,     2.42, 2, -999.000, 9, -999.000, 9, -999.000, 9, -999.000, 9,   -999.0, 9,   -999.0, 9, -999.0000,   -999.00,   -999.0, 9,   -999.0,  -999.00, 9,   -999.0,   1.0428, 27.7973,   1.3859, 2, 9, 0.41, 0.13, 0.01, 0.016,  -999.00, 9, -999.00, -999.00, 9, -999.00
49NZ20071122, P14N, 136, 1, 7, X12044, 2, 20071130, 0537, 1.7517, 178.9943, 5546,   4499.9, 2,   1.3059, 2,  34.7001, 2,  34.7000, 2,    180.5, 2,    180.1, 2,   128.80, 2,    34.17, 2,     0.01, 2,     2.37, 2,    0.000, 2,    0.000, 2,    0.000, 2, -999.000, 9,   -999.0, 9,   -999.0, 9, -999.0000,   -999.00,   -999.0, 9,   -999.0,  -999.00, 9,   -999.0,   0.9369, 27.8086,   1.3059, 2, 9, 0.40, 0.13, 0.01, 0.016,  -999.00, 9, -999.00, -999.00, 9, -999.00
49NZ20071122, P14N, 136, 1, 6, X12048, 2, 20071130, 0537, 1.7517, 178.9943, 5546,   4749.4, 2,   1.2552, 2,  34.7040, 2,  34.7038, 2,    188.3, 2,    188.3, 2,   124.84, 2,    33.54, 2,     0.01, 2,     2.33, 2,    0.007, 2,    0.006, 2,    0.000, 2, -999.000, 9,   -999.0, 9,   -999.0, 9, -999.0000,   -999.00,   -999.0, 9,   -999.0,  -999.00, 9,   -999.0,   0.8589, 27.8167,   1.2551, 2, 9, 0.39, 0.13, 0.01, 0.016,  -999.00, 9, -999.00, -999.00, 9, -999.00
49NZ20071122, P14N, 136, 1, 5, X12014, 2, 20071130, 0537, 1.7517, 178.9943, 5546,   5000.8, 2,   1.2657, 2,  34.7052, 2,  34.7048, 2,    190.8, 2,    190.7, 2,   123.22, 2,    33.37, 2,     0.01, 2,     2.31, 2,    0.008, 2,    0.005, 2,    0.000, 2, -999.000, 9,   -999.0, 9,   -999.0, 9, -999.0000,   -999.00,   -999.0, 9,   -999.0,  -999.00, 9,   -999.0,   0.8392, 27.8190,   1.2657, 2, 9, 0.39, 0.13, 0.01, 0.016,  -999.00, 9, -999.00, -999.00, 9, -999.00
49NZ20071122, P14N, 136, 1, 4, X12006, 2, 20071130, 0537, 1.7517, 178.9943, 5546,   5249.6, 2,   1.2901, 2,  34.7053, 2,  34.7052, 2,    191.7, 2,    191.8, 2,   122.70, 2,    33.21, 2,     0.01, 2,     2.31, 2,    0.009, 2,    0.008, 2,    0.000, 2, -999.000, 9,   -999.0, 9,   -999.0, 9, -999.0000,   -999.00,   -999.0, 9,   -999.0,  -999.00, 9,   -999.0,   0.8324, 27.8195,   1.2901, 2, 9, 0.39, 0.13, 0.01, 0.016,  -999.00, 9, -999.00, -999.00, 9, -999.00
49NZ20071122, P14N, 136, 1, 3, X12013, 2, 20071130, 0537, 1.7517, 178.9943, 5546,   5499.7, 2,   1.3171, 2,  34.7055, 2,  34.7058, 2,    193.0, 2,    192.5, 2,   122.14, 2,    33.05, 2,     0.01, 2,     2.30, 2,    0.011, 2,    0.008, 2,    0.000, 2, -999.000, 9,   -999.0, 9,   -999.0, 9, -999.0000,   -999.00,   -999.0, 9,   -999.0,  -999.00, 9,   -999.0,   0.8271, 27.8200,   1.3171, 2, 9, 0.39, 0.13, 0.01, 0.016,  -999.00, 9, -999.00, -999.00, 9, -999.00
49NZ20071122, P14N, 136, 1, 2, X12002, 9, 20071130, 0537, 1.7517, 178.9943, 5546,     10.3, 2,  27.6198, 2,  35.1334, 2, -999.0000, 9,    205.6, 2,   -999.0, 9,  -999.00, 9,  -999.00, 9,  -999.00, 9,  -999.00, 9, -999.000, 9, -999.000, 9, -999.000, 9, -999.000, 9,   -999.0, 9,   -999.0, 9, -999.0000,   -999.00,   -999.0, 9,   -999.0,  -999.00, 9,   -999.0,  27.6174, 22.6196,  27.6274, 2, 9, -999.00, -999.00, -999.00, -999.000,  -999.00, 9, -999.00, -999.00, 9, -999.00
49NZ20071122, P14N, 136, 1, 1, X12001, 2, 20071130, 0537, 1.7517, 178.9943, 5546,   5626.6, 2,   1.3334, 2,  34.7054, 2,  34.7055, 6,    193.0, 2,    192.6, 2,   122.02, 2,    33.27, 2,     0.01, 2,     2.31, 2,    0.010, 2,    0.008, 2,    0.000, 2, -999.000, 9,   -999.0, 9,   -999.0, 9, -999.0000,   -999.00,   -999.0, 9,   -999.0,  -999.00, 9,   -999.0,   0.8266, 27.8200,   1.3334, 2, 9, 0.39, 0.13, 0.01, 0.016,  -999.00, 9, -999.00, -999.00, 9, -999.00