BOTTLE,20220820CCHSIOAMB
EXPOCODE,SECT_ID,STNNBR,CASTNO,SAMPNO,BTLNBR,BTLNBR_FLAG_W,DATE,TIME,LATITUDE,LONGITUDE,DEPTH,CTDPRS,CTDPRS_FLAG_W,CTDTMP,CTDTMP_FLAG_W,CTDSAL,CTDSAL_FLAG_W,SALNTY,SALNTY_FLAG_W,CTDOXY,CTDOXY_FLAG_W,OXYGEN,OXYGEN_FLAG_W,SILCAT,SILCAT_FLAG_W,NITRAT,NITRAT_FLAG_W,NITRIT,NITRIT_FLAG_W,PHSPHT,PHSPHT_FLAG_W,CFC-11,CFC-11_FLAG_W,CFC-12,CFC-12_FLAG_W,CFC113,CFC113_FLAG_W,CCL4,CCL4_FLAG_W,TCARBN,TCARBN_FLAG_W,ALKALI,ALKALI_FLAG_W,PH_TOT,PH_TMP,DELC14,DELC14_FLAG_W,C14ERR,DELC13,DELC13_FLAG_W,C13ERR,THETA,SIG0,SBE35,SBE35_FLAG_W,PH_TOT_FLAG_W,SILUNC,NRAUNC,NRIUNC,PHPUNC,CS-137,CS-137_FLAG_W,CS137ER,PLUTO,PLUTO_FLAG_W,PLUTOER
,,,,,,,,,,,METERS,DBAR,,ITS-90,,PSS-78,,PSS-78,,UMOL/KG,,UMOL/KG,,UMOL/KG,,UMOL/KG,,UMOL/KG,,UMOL/KG,,PMOL/KG,,PMOL/KG,,PMOL/KG,,PMOL/KG,,UMOL/KG,,UMOL/KG,,,DEG C,/MILLE,,/MILLE,/MILLE,,/MILLE,DEG C,KG/M^3,ITS-90,,,UMOL/KG,UMOL/KG,UMOL/KG,UMOL/KG,DM/.1MG,,BQ/M^3,MBQ/M^3,,MBQ/M^3
49NZ20071122, P14N, 166, 1, 36, X12042, 2, 20071208, 1031, -6.4958, 178.9972, 5352,     10.6, 2,  29.1552, 2,  34.9528, 2,  34.9541, 2,    196.0, 2,    194.4, 2,     0.73, 2,     0.05, 2,     0.01, 2,     0.20, 2,    1.444, 2,    0.887, 2,    0.172, 4, -999.000, 9,   1944.7, 2,   2301.3, 2,    8.1404,     25.00,   -999.0, 9,   -999.0,  -999.00, 9,   -999.0,  29.1526, 21.9775,  29.1545, 2, 6, 0.12, 0.03, 0.01, 0.016,  -999.00, 9, -999.00, -999.00, 9, -999.00
49NZ20071122, P14N, 166, 1, 35, X12041, 2, 20071208, 1031, -6.4958, 178.9972, 5352,     50.8, 2,  29.2636, 2,  35.3539, 2,  35.3560, 2,    193.4, 2,    194.0, 2,     0.71, 2,     0.12, 2,     0.02, 2,     0.23, 2,    1.447, 2,    0.904, 2,    0.156, 4, -999.000, 9,   1971.0, 6,   2328.4, 2,    8.1301,     25.00,   -999.0, 9,   -999.0,  -999.00, 9,   -999.0,  29.2512, 22.2455,  29.2623, 2, 2, 0.12, 0.03, 0.01, 0.015,  -999.00, 9, -999.00, -999.00, 9, -999.00
49NZ20071122, P14N, 166, 1, 34, X12016, 2, 20071208, 1031, -6.4958, 178.9972, 5352,    101.1, 2,  29.0197, 2,  35.5990, 2,  35.5998, 2,    191.1, 2,    192.6, 2,     0.84, 2,     0.82, 2,     0.07, 2,     0.32, 2,    1.455, 2,    0.899, 2,    0.177, 4, -999.000, 9,   1996.4, 2,   2346.1, 6,    8.1107,     25.00,   -999.0, 9,   -999.0,  -999.00, 9,   -999.0,  28.9952, 22.5155,  29.0186, 2, 2, 0.12, 0.04, 0.01, 0.014,  -999.00, 9, -999.00, -999.00, 9, -999.00
49NZ20071122, P14N, 166, 1, 33, X12033, 2, 20071208, 1031, -6.4958, 178.9972, 5352,    150.1, 2,  27.5551, 2,  35.9461, 2,  35.9588, 2,    150.0, 2,    152.3, 2,     1.27, 2,     3.57, 2,     0.96, 2,     0.57, 2,    1.617, 6,    0.990, 6,    0.148, 4, -999.000, 9,   2058.0, 2,   2364.8, 2,    8.0377,     25.00,   -999.0, 9,   -999.0,  -999.00, 9,   -999.0,  27.5200, 23.2629,  27.5490, 2, 6, 0.12, 0.04, 0.00, 0.013,  -999.00, 9, -999.00, -999.00, 9, -999.00
49NZ20071122, P14N, 166, 1, 32, X12038, 2, 20071208, 1031, -6.4958, 178.9972, 5352,    199.8, 2,  24.4013, 2,  36.2085, 2,  36.2004, 2,    143.6, 2,    145.7, 2,     1.11, 2,     5.30, 2,     0.12, 2,     0.64, 2,    1.852, 2,    1.107, 2,    0.114, 2, -999.000, 9,   2101.9, 2,   2382.0, 2,    7.9857,     25.00,   -999.0, 9,   -999.0,  -999.00, 9,   -999.0,  24.3585, 24.4494,  24.4059, 2, 2, 0.12, 0.05, 0.01, 0.013,  -999.00, 9, -999.00, -999.00, 9, -999.00
49NZ20071122, P14N, 166, 1, 31, X12003, 2, 20071208, 1031, -6.4958, 178.9972, 5352,    250.5, 2,  19.1663, 2,  35.6272, 2,  35.5780, 6,    129.5, 2,    133.1, 2,     3.48, 2,    10.62, 2,     0.02, 2,     1.02, 2,    2.034, 2,    1.174, 2,    0.032, 2, -999.000, 9,   2135.8, 2,   2346.6, 2,    7.8630,     25.00,   -999.0, 9,   -999.0,  -999.00, 9,   -999.0,  19.1211, 25.4696,  19.1840, 2, 2, 0.13, 0.06, 0.01, 0.013,  -999.00, 9, -999.00, -999.00, 9, -999.00
49NZ20071122, P14N, 166, 1, 30, X12008, 2, 20071208, 1031, -6.4958, 178.9972, 5352,    301.2, 2,  14.1975, 2,  35.0668, 2,  35.0510, 2,     86.9, 2,     91.6, 2,    11.13, 2,    20.29, 2,     0.01, 2,     1.67, 2,    1.466, 2,    0.792, 2,    0.020, 2, -999.000, 9,   2182.1, 2,   2316.4, 2,    7.7005,     25.00,   -999.0, 9,   -999.0,  -999.00, 9,   -999.0,  14.1534, 26.2064,  14.1965, 2, 2, 0.14, 0.09, 0.01, 0.014,  -999.00, 9, -999.00, -999.00, 9, -999.00
49NZ20071122, P14N, 166, 1, 29, X12035, 2, 20071208, 1031, -6.4958, 178.9972, 5352,    400.1, 2,   9.0451, 2,  34.6777, 2,  34.6740, 2,    107.9, 2,    104.9, 2,    24.54, 2,    29.82, 2,     0.01, 2,     2.12, 2,    0.460, 2,    0.238, 2,    0.008, 2, -999.000, 9,   2207.9, 2,   2304.5, 2,    7.6071,     25.00,   -999.0, 9,   -999.0,  -999.00, 9,   -999.0,   9.0012, 26.8656,   9.0449, 2, 2, 0.17, 0.12, 0.01, 0.015,  -999.00, 9, -999.00, -999.00, 9, -999.00
49NZ20071122, P14N, 166, 1, 28, X12034, 2, 20071208, 1031, -6.4958, 178.9972, 5352,    500.5, 2,   7.5721, 2,  34.5876, 2,  34.5853, 6,    112.1, 2,    110.9, 2,    31.92, 2,    32.42, 2,     0.01, 2,     2.27, 2,    0.269, 2,    0.145, 2,    0.004, 2, -999.000, 9,   2218.0, 2,   2307.9, 2,    7.5843,     25.00,   -999.0, 9,   -999.0,  -999.00, 9,   -999.0,   7.5224, 27.0201,   7.5767, 2, 2, 0.19, 0.12, 0.01, 0.016,  -999.00, 9, -999.00, -999.00, 9, -999.00
49NZ20071122, P14N, 166, 1, 27, X12049, 2, 20071208, 1031, -6.4958, 178.9972, 5352,    598.6, 2,   6.5950, 2,  34.5459, 2,  34.5452, 2,    108.3, 2,    108.7, 2,    40.51, 2,    34.69, 2,     0.01, 2,     2.43, 2,    0.134, 2,    0.070, 2,    0.000, 2, -999.000, 9,   2234.4, 2,   2314.2, 2,    7.5615,     25.00,   -999.0, 9,   -999.0,  -999.00, 9,   -999.0,   6.5395, 27.1236,   6.5947, 2, 2, 0.21, 0.13, 0.01, 0.016,  -999.00, 9, -999.00, -999.00, 9, -999.00
49NZ20071122, P14N, 166, 1, 26, X12032, 2, 20071208, 1031, -6.4958, 178.9972, 5352,    699.9, 2,   5.8520, 2,  34.5314, 2,  34.5307, 2,    104.2, 2,    103.7, 2,    50.54, 2,    36.54, 2,     0.01, 2,     2.58, 2,    0.060, 6,    0.032, 6,    0.000, 6, -999.000, 9,   2251.2, 6,   2323.7, 2,    7.5400,     25.00,   -999.0, 9,   -999.0,  -999.00, 9,   -999.0,   5.7906, 27.2088,   5.8503, 2, 2, 0.23, 0.14, 0.01, 0.016,  -999.00, 9, -999.00, -999.00, 9, -999.00
49NZ20071122, P14N, 166, 1, 25, X12043, 2, 20071208, 1031, -6.4958, 178.9972, 5352,    799.8, 2,   5.1877, 2,  34.5280, 2,  34.5305, 3,    102.7, 2,    101.3, 2,    61.49, 2,    37.75, 2,     0.01, 2,     2.68, 2,    0.035, 2,    0.019, 2,    0.000, 2, -999.000, 9,   2264.6, 2,   2334.6, 6,    7.5267,     25.00,   -999.0, 9,   -999.0,  -999.00, 9,   -999.0,   5.1210, 27.2870,   5.1875, 2, 2, 0.25, 0.14, 0.01, 0.017,  -999.00, 9, -999.00, -999.00, 9, -999.00
49NZ20071122, P14N, 166, 1, 24, X12030, 2, 20071208, 1031, -6.4958, 178.9972, 5352,    900.4, 2,   4.7917, 2,  34.5333, 2,  34.5333, 2,    109.9, 2,    107.9, 2,    67.93, 2,    37.37, 2,     0.01, 2,     2.65, 2,    0.028, 2,    0.014, 2,    0.000, 2, -999.000, 9,   2269.2, 2,   2342.6, 2,    7.5362,     25.00,   -999.0, 9,   -999.0,  -999.00, 9,   -999.0,   4.7187, 27.3373,   4.7918, 2, 6, 0.27, 0.14, 0.01, 0.017,  -999.00, 9, -999.00, -999.00, 9, -999.00
49NZ20071122, P14N, 166, 1, 23, X12027, 2, 20071208, 1031, -6.4958, 178.9972, 5352,   1001.1, 2,   4.3765, 2,  34.5448, 2,  34.5452, 6,    102.4, 2,    102.3, 2,    77.46, 2,    38.42, 2,     0.01, 2,     2.73, 2,    0.010, 2,    0.001, 2,    0.000, 2, -999.000, 9,   2285.2, 2,   2352.4, 2,    7.5237,     25.00,   -999.0, 9,   -999.0,  -999.00, 9,   -999.0,   4.2978, 27.3926,   4.3735, 2, 2, 0.29, 0.14, 0.01, 0.017,  -999.00, 9, -999.00, -999.00, 9, -999.00
49NZ20071122, P14N, 166, 1, 22, X12028, 2, 20071208, 1031, -6.4958, 178.9972, 5352,   1200.1, 2,   3.7309, 2,  34.5663, 2,  34.5667, 2,    105.1, 2,    104.4, 2,    92.46, 2,    38.65, 2,     0.01, 2,     2.75, 2,    0.000, 2,    0.000, 2,    0.000, 2, -999.000, 9,   2299.3, 2,   2368.6, 2,    7.5250,     25.00,   -999.0, 9,   -999.0,  -999.00, 9,   -999.0,   3.6407, 27.4777,   3.7320, 2, 2, 0.32, 0.14, 0.01, 0.017,  -999.00, 9, -999.00, -999.00, 9, -999.00
49NZ20071122, P14N, 166, 1, 21, X12009, 2, 20071208, 1031, -6.4958, 178.9972, 5352,   1401.1, 2,   3.2252, 2,  34.5867, 2,  34.5871, 2,    110.1, 2,    109.3, 2,   103.91, 2,    38.56, 2,     0.01, 2,     2.75, 2,    0.000, 2,    0.000, 2,    0.000, 2, -999.000, 9,   2308.8, 2,   2381.3, 2,    7.5312,     25.00,   -999.0, 9,   -999.0,  -999.00, 9,   -999.0,   3.1231, 27.5438,   3.2256, 2, 2, 0.35, 0.14, 0.01, 0.017,  -999.00, 9, -999.00, -999.00, 9, -999.00
49NZ20071122, P14N, 166, 1, 20, X12026, 2, 20071208, 1031, -6.4958, 178.9972, 5352,   1599.3, 2,   2.7957, 2,  34.6072, 2,  34.6071, 2,    115.3, 2,    114.5, 2,   113.66, 2,    38.41, 2,     0.01, 2,     2.73, 2,    0.000, 2,    0.000, 2,    0.000, 2, -999.000, 9,   2318.4, 2,   2392.0, 2,    7.5390,     25.00,   -999.0, 9,   -999.0,  -999.00, 9,   -999.0,   2.6819, 27.6000,   2.7959, 2, 2, 0.37, 0.14, 0.01, 0.017,  -999.00, 9, -999.00, -999.00, 9, -999.00
49NZ20071122, P14N, 166, 1, 19, X12025, 2, 20071208, 1031, -6.4958, 178.9972, 5352,   1800.3, 2,   2.4925, 2,  34.6231, 2,  34.6234, 2,    120.7, 2,    120.7, 2,   120.14, 2,    38.04, 2,     0.01, 2,     2.69, 2,    0.000, 2,    0.000, 2,    0.000, 2, -999.000, 9,   2321.1, 2,   2399.6, 2,    7.5492,     25.00,   -999.0, 9,   -999.0,  -999.00, 9,   -999.0,   2.3658, 27.6399,   2.4926, 2, 2, 0.38, 0.14, 0.01, 0.017,  -999.00, 9, -999.00, -999.00, 9, -999.00
49NZ20071122, P14N, 166, 1, 18, X12024, 2, 20071208, 1031, -6.4958, 178.9972, 5352,   2000.6, 2,   2.2686, 2,  34.6361, 2,  34.6360, 2,    124.9, 2,    126.0, 2,   124.93, 2,    37.70, 2,     0.01, 2,     2.67, 2, -999.000, 9, -999.000, 9, -999.000, 9, -999.000, 9,   2326.4, 2,   2404.8, 2,    7.5569,     25.00,   -999.0, 9,   -999.0,  -999.00, 9,   -999.0,   2.1280, 27.6698,   2.2686, 2, 2, 0.39, 0.14, 0.01, 0.017,  -999.00, 9, -999.00, -999.00, 9, -999.00
49NZ20071122, P14N, 166, 1, 17, X12023, 2, 20071208, 1031, -6.4958, 178.9972, 5352,   2200.6, 2,   2.0692, 2,  34.6483, 2,  34.6483, 6,    128.5, 2,    129.7, 2,   129.55, 2,    37.56, 2,     0.01, 2,     2.64, 2,    0.000, 2,    0.000, 2,    0.000, 2, -999.000, 9,   2327.4, 2,   2409.8, 2,    7.5639,     25.00,   -999.0, 9,   -999.0,  -999.00, 9,   -999.0,   1.9144, 27.6966,   2.0694, 2, 2, 0.40, 0.14, 0.01, 0.017,  -999.00, 9, -999.00, -999.00, 9, -999.00
49NZ20071122, P14N, 166, 1, 16, X12022, 2, 20071208, 1031, -6.4958, 178.9972, 5352,   2401.0, 2,   1.9333, 2,  34.6567, 2,  34.6567, 2,    133.3, 2,    133.6, 2,   132.26, 2,    37.42, 2,     0.01, 2,     2.63, 2, -999.000, 9, -999.000, 9, -999.000, 9, -999.000, 9,   2327.0, 6,   2413.2, 2,    7.5697,     25.00,   -999.0, 9,   -999.0,  -999.00, 9,   -999.0,   1.7632, 27.7150,   1.9334, 2, 2, 0.41, 0.14, 0.01, 0.017,  -999.00, 9, -999.00, -999.00, 9, -999.00
49NZ20071122, P14N, 166, 1, 15, X12021, 2, 20071208, 1031, -6.4958, 178.9972, 5352,   2599.3, 2,   1.8270, 2,  34.6645, 2,  34.6645, 2,    136.7, 2,    137.2, 2,   134.51, 2,    37.17, 2,     0.01, 2,     2.60, 2, -999.000, 9, -999.000, 9, -999.000, 9, -999.000, 9,   2329.7, 2,   2415.6, 6,    7.5757,     25.00,   -999.0, 9,   -999.0,  -999.00, 9,   -999.0,   1.6409, 27.7305,   1.8268, 2, 2, 0.41, 0.14, 0.01, 0.016,  -999.00, 9, -999.00, -999.00, 9, -999.00
49NZ20071122, P14N, 166, 1, 14, X12020, 2, 20071208, 1031, -6.4958, 178.9972, 5352,   2800.6, 2,   1.7287, 2,  34.6707, 2,  34.6707, 2,    140.5, 2,    141.4, 2,   135.95, 2,    36.85, 2,     0.01, 2,     2.58, 2,    0.000, 4,    0.000, 4,    0.000, 4, -999.000, 9,   2326.8, 2,   2416.6, 2,    7.5811,     25.00,   -999.0, 9,   -999.0,  -999.00, 9,   -999.0,   1.5259, 27.7440,   1.7288, 2, 6, 0.42, 0.14, 0.01, 0.016,  -999.00, 9, -999.00, -999.00, 9, -999.00
49NZ20071122, P14N, 166, 1, 13, X12019, 2, 20071208, 1031, -6.4958, 178.9972, 5352,   3000.5, 2,   1.6547, 2,  34.6756, 2,  34.6756, 2,    145.4, 2,    146.2, 2,   135.90, 2,    36.53, 2,     0.01, 2,     2.55, 2, -999.000, 9, -999.000, 9, -999.000, 9, -999.000, 9,   2325.7, 2,   2416.6, 2,    7.5874,     25.00,   -999.0, 9,   -999.0,  -999.00, 9,   -999.0,   1.4345, 27.7546,   1.6547, 2, 2, 0.42, 0.14, 0.01, 0.016,  -999.00, 9, -999.00, -999.00, 9, -999.00
49NZ20071122, P14N, 166, 1, 12, X12040, 2, 20071208, 1031, -6.4958, 178.9972, 5352,   3249.4, 2,   1.5925, 2,  34.6804, 2,  34.6801, 2,    150.4, 2,    151.4, 2,   135.52, 2,    36.09, 2,     0.01, 2,     2.52, 2, -999.000, 9, -999.000, 9, -999.000, 9, -999.000, 9,   2321.2, 2,   2416.0, 2,    7.5944,     25.00,   -999.0, 9,   -999.0,  -999.00, 9,   -999.0,   1.3493, 27.7645,   1.5925, 2, 2, 0.42, 0.13, 0.01, 0.016,  -999.00, 9, -999.00, -999.00, 9, -999.00
49NZ20071122, P14N, 166, 1, 11, X12047, 2, 20071208, 1031, -6.4958, 178.9972, 5352,   3499.6, 2,   1.5333, 2,  34.6841, 2,  34.6838, 2,    154.7, 2,    155.5, 2,   135.32, 2,    35.97, 2,     0.01, 2,     2.50, 2,    0.000, 2,    0.000, 2,    0.000, 2, -999.000, 9,   2317.8, 2,   2414.2, 2,    7.5977,     25.00,   -999.0, 9,   -999.0,  -999.00, 9,   -999.0,   1.2664, 27.7733,   1.5334, 2, 2, 0.42, 0.13, 0.01, 0.016,  -999.00, 9, -999.00, -999.00, 9, -999.00
49NZ20071122, P14N, 166, 1, 10, X12012, 2, 20071208, 1031, -6.4958, 178.9972, 5352,   3750.0, 2,   1.4700, 2,  34.6893, 2,  34.6890, 2,    163.0, 2,    163.6, 2,   132.54, 2,    35.29, 2,     0.01, 2,     2.46, 2, -999.000, 9, -999.000, 9, -999.000, 9, -999.000, 9,   2309.8, 2,   2408.8, 2,    7.6055,     25.00,   -999.0, 9,   -999.0,  -999.00, 9,   -999.0,   1.1787, 27.7836,   1.4701, 2, 2, 0.41, 0.13, 0.01, 0.016,  -999.00, 9, -999.00, -999.00, 9, -999.00
49NZ20071122, P14N, 166, 1, 9, X12015, 2, 20071208, 1031, -6.4958, 178.9972, 5352,   4000.0, 2,   1.3660, 2,  34.6973, 2,  34.6972, 6,    176.7, 2,    177.4, 2,   125.93, 2,    34.19, 2,     0.01, 2,     2.38, 2,    0.018, 2,    0.008, 2,    0.000, 2, -999.000, 9,   2294.1, 2,   2394.9, 2,    7.6127,     25.00,   -999.0, 9,   -999.0,  -999.00, 9,   -999.0,   1.0508, 27.7987,   1.3659, 2, 2, 0.40, 0.13, 0.01, 0.016,  -999.00, 9, -999.00, -999.00, 9, -999.00
49NZ20071122, P14N, 166, 1, 8, X12046, 2, 20071208, 1031, -6.4958, 178.9972, 5352,   4249.5, 2,   1.2773, 2,  34.7036, 2,  34.7032, 2,    188.1, 2,    188.3, 2,   121.21, 2,    33.40, 2,     0.01, 2,     2.32, 2,    0.026, 2,    0.011, 2,    0.000, 2, -999.000, 9,   2281.0, 6,   2384.1, 2,    7.6183,     25.00,   -999.0, 9,   -999.0,  -999.00, 9,   -999.0,   0.9373, 27.8113,   1.2773, 2, 2, 0.39, 0.13, 0.01, 0.016,  -999.00, 9, -999.00, -999.00, 9, -999.00
49NZ20071122, P14N, 166, 1, 7, X12044, 2, 20071208, 1031, -6.4958, 178.9972, 5352,   4500.3, 2,   1.2441, 2,  34.7060, 2,  34.7057, 2,    192.8, 2,    192.9, 2,   119.82, 2,    33.15, 2,     0.01, 2,     2.30, 2,    0.013, 2,    0.006, 2,    0.000, 2, -999.000, 9,   2274.0, 2,   2380.7, 6,    7.6198,     25.00,   -999.0, 9,   -999.0,  -999.00, 9,   -999.0,   0.8769, 27.8172,   1.2440, 2, 2, 0.38, 0.13, 0.01, 0.016,  -999.00, 9, -999.00, -999.00, 9, -999.00
49NZ20071122, P14N, 166, 1, 6, X12048, 2, 20071208, 1031, -6.4958, 178.9972, 5352,   4748.8, 2,   1.2547, 2,  34.7062, 2,  34.7059, 2,    194.0, 2,    193.8, 2,   119.85, 2,    33.04, 2,     0.01, 2,     2.29, 2,    0.012, 2,    0.005, 2,    0.000, 2, -999.000, 9,   2273.8, 2,   2380.4, 2,    7.6208,     25.00,   -999.0, 9,   -999.0,  -999.00, 9,   -999.0,   0.8585, 27.8186,   1.2548, 2, 6, 0.38, 0.13, 0.01, 0.016,  -999.00, 9, -999.00, -999.00, 9, -999.00
49NZ20071122, P14N, 166, 1, 5, X12014, 2, 20071208, 1031, -6.4958, 178.9972, 5352,   4998.8, 2,   1.2672, 2,  34.7064, 2,  34.7061, 2,    194.8, 2,    194.5, 2,   119.98, 2,    33.01, 2,     0.01, 2,     2.29, 2,    0.010, 2,    0.003, 2,    0.000, 2, -999.000, 9,   2274.9, 2,   2379.6, 2,    7.6220,     25.00,   -999.0, 9,   -999.0,  -999.00, 9,   -999.0,   0.8409, 27.8198,   1.2673, 2, 2, 0.38, 0.13, 0.01, 0.016,  -999.00, 9, -999.00, -999.00, 9, -999.00
49NZ20071122, P14N, 166, 1, 4, X12006, 2, 20071208, 1031, -6.4958, 178.9972, 5352,   5248.6, 2,   1.2896, 2,  34.7063, 2,  34.7062, 2,    195.2, 2,    194.8, 2,   120.02, 2,    33.09, 2,     0.01, 2,     2.29, 2,    0.009, 2,    0.003, 2,    0.000, 2, -999.000, 9,   2273.9, 2,   2380.5, 2,    7.6236,     25.00,   -999.0, 9,   -999.0,  -999.00, 9,   -999.0,   0.8320, 27.8203,   1.2897, 2, 2, 0.38, 0.13, 0.01, 0.016,  -999.00, 9, -999.00, -999.00, 9, -999.00
49NZ20071122, P14N, 166, 1, 3, X12013, 9, 20071208, 1031, -6.4958, 178.9972, 5352,     10.5, 2,  29.1554, 2,  34.9529, 2, -999.0000, 9,    196.0, 2,   -999.0, 9,  -999.00, 9,  -999.00, 9,  -999.00, 9,  -999.00, 9, -999.000, 9, -999.000, 9, -999.000, 9, -999.000, 9,   -999.0, 9,   -999.0, 9, -999.0000,   -999.00,   -999.0, 9,   -999.0,  -999.00, 9,   -999.0,  29.1529, 21.9775,  29.1543, 2, 9, -999.00, -999.00, -999.00, -999.000,  -999.00, 9, -999.00, -999.00, 9, -999.00
49NZ20071122, P14N, 166, 1, 2, X12002, 9, 20071208, 1031, -6.4958, 178.9972, 5352,     50.9, 2,  29.2640, 2,  35.3539, 2, -999.0000, 9,    193.4, 2,   -999.0, 9,  -999.00, 9,  -999.00, 9,  -999.00, 9,  -999.00, 9, -999.000, 9, -999.000, 9, -999.000, 9, -999.000, 9,   -999.0, 9,   -999.0, 9, -999.0000,   -999.00,   -999.0, 9,   -999.0,  -999.00, 9,   -999.0,  29.2516, 22.2454,  29.2623, 2, 9, -999.00, -999.00, -999.00, -999.000,  -999.00, 9, -999.00, -999.00, 9, -999.00
49NZ20071122, P14N, 166, 1, 1, X12001, 2, 20071208, 1031, -6.4958, 178.9972, 5352,   5427.6, 2,   1.3113, 2,  34.7064, 2,  34.7062, 6,    195.2, 2,    195.1, 2,   120.11, 2,    33.09, 2,     0.01, 2,     2.30, 2,    0.000, 4, -999.000, 5,    0.000, 4, -999.000, 9,   2275.4, 2,   2380.2, 2,    7.6228,     25.00,   -999.0, 9,   -999.0,  -999.00, 9,   -999.0,   0.8306, 27.8205,   1.3114, 2, 2, 0.38, 0.13, 0.01, 0.016,  -999.00, 9, -999.00, -999.00, 9, -999.00