BOTTLE,20220820CCHSIOAMB
EXPOCODE,SECT_ID,STNNBR,CASTNO,BTLNBR,BTLNBR_FLAG_W,DATE,TIME,LATITUDE,LONGITUDE,DEPTH,CTDPRS,CTDTMP,CTDSAL,SALNTY,SALNTY_FLAG_W,CTDOXY,CTDOXY_FLAG_W,OXYGEN,OXYGEN_FLAG_W,SILCAT,SILCAT_FLAG_W,NITRAT,NITRAT_FLAG_W,NITRIT,NITRIT_FLAG_W,PHSPHT,PHSPHT_FLAG_W,CFC-11,CFC-11_FLAG_W,CFC-12,CFC-12_FLAG_W,CFC113,CFC113_FLAG_W,CCL4,CCL4_FLAG_W,DELC14,DELC14_FLAG_W,DELC13,DELC13_FLAG_W,TCARBN,TCARBN_FLAG_W,ALKALI,ALKALI_FLAG_W,PH,PH_FLAG_W,FCO2,FCO2_FLAG_W,FCO2TMP,TON,TON_FLAG_W,FCO2IN,C14ERR,TOC,TOC_FLAG_W
,,,,,,,,,,,DBAR,ITS-90,PSS-78,PSS-78,,UMOL/KG,,UMOL/KG,,UMOL/KG,,UMOL/KG,,UMOL/KG,,UMOL/KG,,PMOL/KG,,PMOL/KG,,PMOL/KG,,PMOL/KG,,/MILLE,,/MILLE,,UMOL/KG,,UMOL/KG,,,,UATM,,DEG C,UMOL/KG,,UATM,/MILLE,UMOL/KG,
31RBOACES24N_2,  AR01,    92,  1,     36,2,19980217,0142, 25.7592, -70.2348, 5515,      7.1,  24.2690,  36.6080,  36.6070,2,    215.1,2,     210.7,2,     0.90,2,     0.10,2,     0.00,2,     0.00,2,    1.862,2,    1.087,2,    0.151,2,    1.936,2,   -999.0,9,     1.29,2,   2028.5,2,   2391.5,2,   8.1115,2,   268.1,2,   20.0, -999.00,9,   317.3,  -999.0,   72.60,2
31RBOACES24N_2,  AR01,    92,  1,     35,2,19980217,0142, 25.7592, -70.2348, 5515,     50.5,  24.2960,  36.6310,  36.6310,2,    211.1,2,     210.7,2,     0.90,2,     0.10,2,     0.01,2,     0.01,2,    1.868,2,    1.084,2,    0.148,2, -999.000,9,   -999.0,9,  -999.00,9,   2029.3,2,   2393.2,2,   8.1086,2,  -999.0,9, -999.0, -999.00,9,  -999.0,  -999.0,   73.19,2
31RBOACES24N_2,  AR01,    92,  1,     34,2,19980217,0142, 25.7592, -70.2348, 5515,     99.3,  24.0750,  36.9890,  37.0100,2,    199.6,2,     199.6,2,     0.70,2,     0.39,2,     0.02,2,     0.02,2,    1.960,2,    1.124,2,    0.167,2, -999.000,9,   -999.0,9,  -999.00,9,   2070.0,2,   2415.9,2,   8.0751,2,   303.5,2,   20.0, -999.00,9,   356.3,  -999.0,   66.23,2
31RBOACES24N_2,  AR01,    92,  1,     33,3,19980217,0142, 25.7592, -70.2348, 5515,    150.2,  22.0290,  37.0070,  37.0090,2,    190.1,2,     197.9,2,     0.60,2,     0.78,2,     0.05,2,     0.03,2,    2.111,2,    1.204,2,    0.111,2, -999.000,9,   -999.0,9,  -999.00,9,   2092.5,2,   2413.8,2,   8.0336,2,  -999.0,9, -999.0, -999.00,9,  -999.0,  -999.0,   59.27,2
31RBOACES24N_2,  AR01,    92,  1,     32,2,19980217,0142, 25.7592, -70.2348, 5515,    201.1,  20.1210,  36.8370,  36.8270,2,    178.4,2,     188.0,2,     0.80,2,     1.95,2,     0.02,2,     0.07,2,    2.222,6,    1.248,6,    0.055,6, -999.000,9,   -999.0,9,  -999.00,9,   2108.7,2,   2404.2,2,   7.9949,2,   378.8,2,   20.0, -999.00,9,   380.5,  -999.0,   52.82,2
31RBOACES24N_2,  AR01,    92,  1,     31,2,19980217,0142, 25.7592, -70.2348, 5515,    225.2,  19.2700,  36.7070,  36.7040,2,    186.7,2,     184.3,2,     1.10,2,     3.61,2,     0.01,2,     0.15,2,    2.228,2,    1.236,2,    0.022,2, -999.000,9,   -999.0,9,  -999.00,9,   -999.0,9,   -999.0,9,-999.0000,9,  -999.0,9, -999.0, -999.00,9,  -999.0,  -999.0,   49.40,2
31RBOACES24N_2,  AR01,    92,  1,     30,2,19980217,0142, 25.7592, -70.2348, 5515,    249.8,  18.7850,  36.6290,  36.6320,2,    182.1,2,     194.0,2,     1.00,2,     3.32,2,     0.01,2,     0.13,2,    2.303,2,    1.270,2,    0.020,2, -999.000,9,   -999.0,9,  -999.00,9,   -999.0,9,   -999.0,9,-999.0000,9,  -999.0,9, -999.0, -999.00,9,  -999.0,  -999.0,   49.01,2
31RBOACES24N_2,  AR01,    92,  1,     29,2,19980217,0142, 25.7592, -70.2348, 5515,    275.6,  18.4930,  36.5920,  36.5940,2,    194.9,2,     195.2,2,     1.20,2,     4.00,2,     0.01,2,     0.17,2,    2.290,2,    1.264,2,    0.020,2, -999.000,9,   -999.0,9,  -999.00,9,   2103.0,2,   2388.0,2,   7.9845,2,   388.6,2,   20.0, -999.00,9,   365.6,  -999.0,   47.74,2
31RBOACES24N_2,  AR01,    92,  1,     28,2,19980217,0142, 25.7592, -70.2348, 5515,    300.1,  18.2870,  36.5630,  36.5660,2,    197.8,2,     199.2,2,     1.20,2,     4.00,2,     0.01,2,     0.18,2,    2.317,2,    1.278,2,    0.022,2, -999.000,9,   -999.0,9,  -999.00,9,   -999.0,9,   -999.0,9,-999.0000,9,  -999.0,9, -999.0, -999.00,9,  -999.0,  -999.0, -999.00,9
31RBOACES24N_2,  AR01,    92,  1,     27,2,19980217,0142, 25.7592, -70.2348, 5515,    350.8,  17.9390,  36.5100,  36.5090,2,    199.0,2,     198.6,2,     1.50,2,     4.88,2,     0.01,2,     0.23,2,    2.279,2,    1.239,2,    0.030,3, -999.000,9,   -999.0,9,  -999.00,9,   2102.2,2,   2384.8,2,   7.9843,2,   396.0,2,   20.0, -999.00,9,   364.4,  -999.0,   47.35,2
31RBOACES24N_2,  AR01,    92,  1,     26,2,19980217,0142, 25.7592, -70.2348, 5515,    401.4,  17.5490,  36.4450,  36.4450,2,    192.6,2,     193.0,2,     1.80,2,     6.05,2,     0.01,2,     0.30,2,    2.207,6,    1.188,6,    0.026,6, -999.000,9,   -999.0,9,  -999.00,9,   -999.0,9,   -999.0,9,-999.0000,9,  -999.0,9, -999.0, -999.00,9,  -999.0,  -999.0, -999.00,9
31RBOACES24N_2,  AR01,    92,  1,     25,2,19980217,0142, 25.7592, -70.2348, 5515,    450.0,  16.9040,  36.3330,  36.3390,2,    188.0,2,     189.1,2,     2.20,2,     7.32,2,     0.01,2,     0.39,2,    2.145,2,    1.142,2,    0.025,2, -999.000,9,   -999.0,9,  -999.00,9,   -999.0,9,   -999.0,9,-999.0000,9,  -999.0,9, -999.0, -999.00,9,  -999.0,  -999.0,   45.10,2
31RBOACES24N_2,  AR01,    92,  1,     24,2,19980217,0142, 25.7592, -70.2348, 5515,    501.9,  16.0650,  36.1940,  36.1960,2,    183.7,2,     184.5,2,     2.90,2,     9.08,2,     0.01,2,     0.50,2,    2.061,2,    1.087,2,    0.028,2, -999.000,9,   -999.0,9,  -999.00,9,   2125.4,2,   2365.1,2,-999.0000,9,   469.6,2,   20.0, -999.00,9,   400.2,  -999.0, -999.00,9
31RBOACES24N_2,  AR01,    92,  1,     23,2,19980217,0142, 25.7592, -70.2348, 5515,    551.3,  15.0630,  36.0270,  36.0260,2,    181.4,2,     179.1,2,     3.90,2,    11.22,2,     0.01,2,     0.64,2,    1.875,2,    0.977,2,    0.029,2, -999.000,9,   -999.0,9,  -999.00,9,   -999.0,9,   -999.0,9,-999.0000,9,  -999.0,9, -999.0, -999.00,9,  -999.0,  -999.0,   43.24,2
31RBOACES24N_2,  AR01,    92,  1,     22,2,19980217,0142, 25.7592, -70.2348, 5515,    650.9,  13.0320,  35.7210,  35.7230,2,    167.6,2,     164.9,2,     6.40,2,    15.81,2,     0.01,2,     0.95,2,    1.380,2,    0.711,2,    0.026,2, -999.000,9,   -999.0,9,  -999.00,9,   2153.3,2,   2343.0,2,   7.8112,2,   608.0,2,   20.0, -999.00,9,   457.1,  -999.0, -999.00,9
31RBOACES24N_2,  AR01,    92,  1,     21,2,19980217,0142, 25.7592, -70.2348, 5515,    750.8,  11.0070,  35.4370,  35.4430,2,    154.0,2,     151.9,2,    10.20,2,    20.70,2,     0.01,2,     1.28,2,    0.769,2,    0.394,2,    0.015,2, -999.000,9,   -999.0,9,  -999.00,9,   2173.5,2,   -999.0,9,-999.0000,9,   724.2,2,   20.0, -999.00,9,   500.4,  -999.0,   41.67,2
31RBOACES24N_2,  AR01,    92,  1,     20,2,19980217,0142, 25.7592, -70.2348, 5515,    851.3,   9.1110,  35.2260,  35.2240,2,    154.4,2,     152.8,2,    13.80,2,    23.34,2,     0.01,2,     1.50,2,    0.508,2,    0.261,2,    0.009,2, -999.000,9,   -999.0,9,  -999.00,9,   -999.0,9,   2330.5,2,   7.7404,2,  -999.0,9, -999.0, -999.00,9,  -999.0,  -999.0, -999.00,9
31RBOACES24N_2,  AR01,    92,  1,     19,2,19980217,0142, 25.7592, -70.2348, 5515,    953.1,   7.6450,  35.1290,  35.1300,2,    163.0,2,     167.5,2,    15.40,2,    23.73,2,     0.01,2,     1.55,2,    0.399,2,    0.201,2,    0.010,2, -999.000,9,   -999.0,9,  -999.00,9,   2188.5,6,   2321.4,2,   7.6818,2,   837.0,2,   20.0, -999.00,9,   500.1,  -999.0,   41.17,2
31RBOACES24N_2,  AR01,    92,  1,     18,2,19980217,0142, 25.7592, -70.2348, 5515,   1150.9,   5.8730,  35.0700,  35.0710,2,    205.4,2,     204.8,2,    15.50,2,    21.98,2,     0.01,2,     1.45,2,    0.266,2,    0.140,2,    0.004,2, -999.000,9,   -999.0,9,  -999.00,9,   2181.5,2,   2320.0,2,   7.6983,2,   794.0,2,   20.0, -999.00,9,   436.8,  -999.0, -999.00,9
31RBOACES24N_2,  AR01,    92,  1,     17,2,19980217,0142, 25.7592, -70.2348, 5515,   1351.6,   5.0650,  35.0750,  35.0750,2,    236.8,2,     237.5,2,    13.60,2,    19.24,2,     0.01,2,     1.28,2,    0.443,2,    0.225,2,    0.011,2, -999.000,9,   -999.0,9,  -999.00,9,   -999.0,9,   -999.0,9,-999.0000,9,  -999.0,9, -999.0, -999.00,9,  -999.0,  -999.0,   41.26,2
31RBOACES24N_2,  AR01,    92,  1,     16,2,19980217,0142, 25.7592, -70.2348, 5515,   1551.6,   4.5880,  35.0630,  35.0630,2,    248.7,2,     248.8,2,    14.30,2,    18.75,2,     0.01,2,     1.24,2,    0.302,6,    0.159,6,    0.008,6, -999.000,9,   -999.0,9,  -999.00,9,   2166.3,2,   2317.2,2,   7.7351,2,   731.3,2,   20.0, -999.00,9,   377.7,  -999.0, -999.00,9
31RBOACES24N_2,  AR01,    92,  1,     15,2,19980217,0142, 25.7592, -70.2348, 5515,   1743.9,   4.1550,  35.0310,  35.0320,2,    256.7,2,     255.5,2,    15.20,2,    18.46,2,     0.01,2,     1.23,2,    0.238,2,    0.127,2,    0.009,2, -999.000,9,   -999.0,9,  -999.00,9,   -999.0,9,   -999.0,9,-999.0000,9,  -999.0,9, -999.0, -999.00,9,  -999.0,  -999.0, -999.00,9
31RBOACES24N_2,  AR01,    92,  1,     14,2,19980217,0142, 25.7592, -70.2348, 5515,   1953.1,   3.7480,  34.9990,  34.9990,2,    260.1,2,     261.9,2,    16.50,2,    18.26,2,     0.01,2,     1.22,2,    0.216,6,    0.113,6,    0.005,6, -999.000,9,   -999.0,9,  -999.00,9,   2162.6,2,   2315.4,2,   7.7407,2,   716.4,2,   20.0, -999.00,9,   355.1,  -999.0, -999.00,9
31RBOACES24N_2,  AR01,    92,  1,     13,9,19980217,0142, 25.7592, -70.2348, 5515,   2142.2,   3.5110,  34.9900,  34.9910,2,    260.0,2,    -999.0,9,  -999.00,9,  -999.00,9,  -999.00,9,  -999.00,9, -999.000,9, -999.000,9, -999.000,9, -999.000,9,   -999.0,9,  -999.00,9,   -999.0,9,   -999.0,9,-999.0000,9,  -999.0,9, -999.0, -999.00,9,  -999.0,  -999.0, -999.00,9
31RBOACES24N_2,  AR01,    92,  1,     12,2,19980217,0142, 25.7592, -70.2348, 5515,   2350.6,   3.2810,  34.9740,  34.9750,2,    260.6,2,     261.0,6,    22.00,2,    18.85,2,     0.01,2,     1.27,2,    0.076,2,    0.042,2,    0.010,2, -999.000,9,   -999.0,9,  -999.00,9,   2167.3,2,   2322.7,2,   7.7393,2,   726.9,2,   20.0, -999.00,9,   352.0,  -999.0, -999.00,9
31RBOACES24N_2,  AR01,    92,  1,     11,2,19980217,0142, 25.7592, -70.2348, 5515,   2549.2,   3.0900,  34.9600,  34.9610,2,    259.0,2,     259.9,2,    25.20,2,    19.24,2,     0.01,2,     1.30,2,    0.053,2,    0.027,2,    0.003,2, -999.000,9,   -999.0,9,  -999.00,9,   2171.9,2,   2325.6,2,   7.7391,2,  -999.0,9, -999.0, -999.00,9,  -999.0,  -999.0,   41.35,2
31RBOACES24N_2,  AR01,    92,  1,     10,2,19980217,0142, 25.7592, -70.2348, 5515,   2747.4,   2.9350,  34.9490,  34.9490,2,    257.6,2,     259.2,2,    28.00,2,    19.63,2,     0.01,2,     1.33,2,    0.020,2,    0.013,2,    0.011,2,    0.241,2,   -999.0,9,  -999.00,9,   -999.0,9,   -999.0,9,-999.0000,9,  -999.0,9, -999.0, -999.00,9,  -999.0,  -999.0, -999.00,9
31RBOACES24N_2,  AR01,    92,  1,      9,2,19980217,0142, 25.7592, -70.2348, 5515,   2950.1,   2.7940,  34.9380,  34.9380,2,    259.7,2,     261.2,2,    29.00,2,    19.54,2,     0.01,2,     1.33,2,    0.039,2,    0.019,2,   -0.001,2,    0.243,2,   -999.0,9,  -999.00,9,   2173.4,2,   2329.3,2,   7.7383,2,   719.4,2,   20.0, -999.00,9,   339.4,  -999.0, -999.00,9
31RBOACES24N_2,  AR01,    92,  1,      8,2,19980217,0142, 25.7592, -70.2348, 5515,   3116.3,   2.6880,  34.9280,  34.9280,2,    264.0,2,     264.8,2,    28.20,2,    19.05,2,     0.01,2,     1.31,2,    0.097,2,    0.049,2,    0.012,2,    0.360,2,   -999.0,9,  -999.00,9,   2171.3,2,   2326.5,2,-999.0000,5,  -999.0,9, -999.0, -999.00,9,  -999.0,  -999.0, -999.00,9
31RBOACES24N_2,  AR01,    92,  1,      7,2,19980217,0142, 25.7592, -70.2348, 5515,   3415.9,   2.5120,  34.9150,  34.9150,2,    271.7,2,     271.1,2,    26.20,2,    18.36,2,     0.01,2,     1.26,2,    0.245,2,    0.122,2,    0.009,2,    0.670,2,   -999.0,9,  -999.00,9,   2167.2,2,   2322.3,2,   7.7368,2,  -999.0,9, -999.0, -999.00,9,  -999.0,  -999.0, -999.00,9
31RBOACES24N_2,  AR01,    92,  1,      6,2,19980217,0142, 25.7592, -70.2348, 5515,   3751.7,   2.3780,  34.9060,  34.9060,2,    274.4,2,     273.1,2,    26.50,2,    18.07,2,     0.01,2,     1.24,2,    0.385,2,    0.191,2,    0.014,2,    0.920,2,   -999.0,9,  -999.00,9,   2169.2,2,   2322.6,2,   7.7371,2,   725.7,2,   20.0, -999.00,9,   336.0,  -999.0, -999.00,9
31RBOACES24N_2,  AR01,    92,  1,      5,2,19980217,0142, 25.7592, -70.2348, 5515,   4049.5,   2.3240,  34.8990,  34.9000,2,    273.7,2,     272.3,2,    28.90,2,    18.36,2,     0.01,2,     1.26,2,    0.315,2,    0.171,2,    0.015,2,    0.654,6,   -999.0,9,  -999.00,9,   2170.5,2,   2325.4,2,   7.7360,2,  -999.0,9, -999.0, -999.00,9,  -999.0,  -999.0, -999.00,9
31RBOACES24N_2,  AR01,    92,  1,      4,2,19980217,0142, 25.7592, -70.2348, 5515,   4452.8,   2.2940,  34.8940,  34.8940,2,    272.2,2,     270.7,2,    31.60,2,    18.75,2,     0.01,2,     1.29,2,    0.337,2,    0.172,2,    0.026,2,    0.837,2,   -999.0,9,  -999.00,9,   2174.8,2,   2327.7,2,   7.7328,2,  -999.0,9, -999.0, -999.00,9,  -999.0,  -999.0, -999.00,9
31RBOACES24N_2,  AR01,    92,  1,      3,2,19980217,0142, 25.7592, -70.2348, 5515,   4849.3,   2.2730,  34.8860,  34.8850,2,    269.2,2,     266.9,2,    36.00,2,    19.44,2,     0.01,2,     1.34,2,    0.216,2,    0.114,2,    0.022,2,    0.620,2,   -999.0,9,  -999.00,9,   -999.0,9,   -999.0,9,-999.0000,9,  -999.0,9, -999.0, -999.00,9,  -999.0,  -999.0, -999.00,9
31RBOACES24N_2,  AR01,    92,  1,      2,2,19980217,0142, 25.7592, -70.2348, 5515,   5250.2,   2.1790,  34.8680,  34.8680,2,    260.6,2,     260.1,2,    46.10,2,    21.10,2,     0.01,2,     1.46,2,    0.073,2,    0.047,2,    0.015,2, -999.000,9,   -999.0,9,  -999.00,9,   -999.0,9,   -999.0,9,-999.0000,9,  -999.0,9, -999.0, -999.00,9,  -999.0,  -999.0, -999.00,9
31RBOACES24N_2,  AR01,    92,  1,      1,2,19980217,0142, 25.7592, -70.2348, 5515,   5605.9,   2.0680,  34.8470,  34.8480,2,    251.8,2,     253.8,6,    55.80,6,    22.57,6,     0.01,6,     1.57,6,    0.029,2,    0.026,2,    0.006,2,    0.193,2,   -999.0,9,  -999.00,9,   2202.0,2,   2348.5,2,   7.7105,2,   793.3,2,   20.0, -999.00,9,   360.4,  -999.0, -999.00,9