BOTTLE,20220820CCHSIOAMB
EXPOCODE,SECT_ID,STNNBR,CASTNO,BTLNBR,BTLNBR_FLAG_W,DATE,TIME,LATITUDE,LONGITUDE,DEPTH,CTDPRS,CTDTMP,CTDSAL,SALNTY,SALNTY_FLAG_W,CTDOXY,CTDOXY_FLAG_W,OXYGEN,OXYGEN_FLAG_W,SILCAT,SILCAT_FLAG_W,NITRAT,NITRAT_FLAG_W,NITRIT,NITRIT_FLAG_W,PHSPHT,PHSPHT_FLAG_W,CFC-11,CFC-11_FLAG_W,CFC-12,CFC-12_FLAG_W,CFC113,CFC113_FLAG_W,CCL4,CCL4_FLAG_W,DELC14,DELC14_FLAG_W,DELC13,DELC13_FLAG_W,TCARBN,TCARBN_FLAG_W,ALKALI,ALKALI_FLAG_W,PH,PH_FLAG_W,FCO2,FCO2_FLAG_W,FCO2TMP,TON,TON_FLAG_W,FCO2IN,C14ERR,TOC,TOC_FLAG_W
,,,,,,,,,,,DBAR,ITS-90,PSS-78,PSS-78,,UMOL/KG,,UMOL/KG,,UMOL/KG,,UMOL/KG,,UMOL/KG,,UMOL/KG,,PMOL/KG,,PMOL/KG,,PMOL/KG,,PMOL/KG,,/MILLE,,/MILLE,,UMOL/KG,,UMOL/KG,,,,UATM,,DEG C,UMOL/KG,,UATM,/MILLE,UMOL/KG,
31RBOACES24N_2,  AR01,     6,  1,     30,2,19980124,1309, 27.6215, -14.2235, -999,      2.5,  19.5540,  36.7510,  36.7500,2,    230.6,2,     231.7,2,     0.60,2,     0.10,2,     0.02,2,  -999.00,5, -999.000,9, -999.000,9, -999.000,9, -999.000,9,   -999.0,9,     1.32,2,   2096.4,6,   2412.8,2,   8.0172,2,   361.6,6,   20.0,    4.31,2,   355.3,  -999.0,   62.56,2
31RBOACES24N_2,  AR01,     6,  1,     31,2,19980124,1309, 27.6215, -14.2235, -999,      2.9,  19.5590,  36.7510,  36.7500,2,    230.6,2,     230.4,2,     0.60,2,     0.10,2,     0.02,2,     0.00,2, -999.000,9, -999.000,9, -999.000,9, -999.000,9,   -999.0,9,  -999.00,9,   -999.0,9,   2408.3,2,   8.0175,2,  -999.0,9, -999.0, -999.00,9,  -999.0,  -999.0, -999.00,9
31RBOACES24N_2,  AR01,     6,  1,     29,2,19980124,1309, 27.6215, -14.2235, -999,     19.7,  19.5480,  36.7500,  36.7490,2,    230.4,2,     231.5,2,     0.50,2,     0.10,2,     0.02,2,     0.00,2, -999.000,9, -999.000,9, -999.000,9, -999.000,9,   -999.0,9,  -999.00,9,   -999.0,9,   -999.0,9,   8.0175,6,  -999.0,9, -999.0,    4.36,2,  -999.0,  -999.0,   62.95,2
31RBOACES24N_2,  AR01,     6,  1,     28,2,19980124,1309, 27.6215, -14.2235, -999,     40.0,  19.5480,  36.7500,  36.7500,2,    230.7,2,     231.5,2,     0.50,2,     0.10,2,     0.02,2,     0.00,2, -999.000,9, -999.000,9, -999.000,9, -999.000,9,   -999.0,9,  -999.00,9,   -999.0,9,   -999.0,9,   8.0174,6,  -999.0,9, -999.0, -999.00,9,  -999.0,  -999.0,   63.53,2
31RBOACES24N_2,  AR01,     6,  1,     27,2,19980124,1309, 27.6215, -14.2235, -999,     58.1,  19.5420,  36.7490,  36.7490,2,    229.8,2,     231.0,2,     0.50,2,     0.10,2,     0.01,2,     0.01,2, -999.000,9, -999.000,9, -999.000,9, -999.000,9,   -999.0,9,  -999.00,9,   -999.0,9,   -999.0,9,-999.0000,9,  -999.0,9, -999.0,    4.16,2,  -999.0,  -999.0,   64.51,2
31RBOACES24N_2,  AR01,     6,  1,     26,2,19980124,1309, 27.6215, -14.2235, -999,     81.0,  19.5400,  36.7480,  36.7480,2,    229.7,2,     231.3,2,     0.40,2,     0.10,2,     0.02,2,     0.01,2, -999.000,9, -999.000,9, -999.000,9, -999.000,9,   -999.0,9,  -999.00,9,   -999.0,9,   -999.0,9,-999.0000,9,  -999.0,9, -999.0,    4.27,2,  -999.0,  -999.0,   65.09,2
31RBOACES24N_2,  AR01,     6,  1,     25,2,19980124,1309, 27.6215, -14.2235, -999,     99.6,  19.5320,  36.7450,  36.7470,2,    230.4,2,     230.8,2,     0.60,2,     0.10,2,     0.02,2,     0.03,2, -999.000,9, -999.000,9, -999.000,9, -999.000,9,   -999.0,9,  -999.00,9,   -999.0,9,   -999.0,9,-999.0000,9,  -999.0,9, -999.0,    4.87,2,  -999.0,  -999.0,   62.46,2
31RBOACES24N_2,  AR01,     6,  1,     24,2,19980124,1309, 27.6215, -14.2235, -999,    127.9,  18.0250,  36.5170,  36.5140,2,    204.7,2,     199.2,2,     1.70,2,     4.58,2,     0.03,2,     0.27,2, -999.000,9, -999.000,9, -999.000,9, -999.000,9,   -999.0,9,  -999.00,9,   -999.0,9,   -999.0,9,-999.0000,9,  -999.0,9, -999.0,    7.97,2,  -999.0,  -999.0,   54.66,2
31RBOACES24N_2,  AR01,     6,  1,     23,2,19980124,1309, 27.6215, -14.2235, -999,    160.0,  17.2580,  36.4510,  36.4420,2,    193.4,2,     194.9,2,     1.90,2,     5.95,2,     0.01,2,     0.31,2, -999.000,9, -999.000,9, -999.000,9, -999.000,9,   -999.0,9,  -999.00,9,   -999.0,9,   -999.0,9,-999.0000,9,  -999.0,9, -999.0,    8.44,2,  -999.0,  -999.0,   52.41,2
31RBOACES24N_2,  AR01,     6,  1,     22,2,19980124,1309, 27.6215, -14.2235, -999,    187.8,  16.4100,  36.3270,  36.3190,2,    188.6,2,     189.6,2,     2.40,2,     7.61,2,     0.01,2,     0.41,2, -999.000,9, -999.000,9, -999.000,9, -999.000,9,   -999.0,9,  -999.00,9,   -999.0,9,   -999.0,9,-999.0000,9,  -999.0,9, -999.0, -999.00,9,  -999.0,  -999.0, -999.00,9
31RBOACES24N_2,  AR01,     6,  1,     21,3,19980124,1309, 27.6215, -14.2235, -999,    228.2,  15.7790,  36.2260,  36.2240,2,    185.0,2,    -999.0,9,     3.00,2,     9.27,2,     0.00,2,     0.50,2, -999.000,9, -999.000,9, -999.000,9, -999.000,9,   -999.0,9,  -999.00,9,   -999.0,9,   -999.0,9,-999.0000,9,  -999.0,9, -999.0, -999.00,9,  -999.0,  -999.0, -999.00,9
31RBOACES24N_2,  AR01,     6,  1,     20,2,19980124,1309, 27.6215, -14.2235, -999,    266.2,  15.1750,  36.1310,  36.1290,2,    181.4,2,     184.3,2,     3.30,2,    10.15,2,     0.01,2,     0.58,2, -999.000,9, -999.000,9, -999.000,9, -999.000,9,   -999.0,9,  -999.00,9,   -999.0,9,   -999.0,9,-999.0000,9,  -999.0,9, -999.0, -999.00,9,  -999.0,  -999.0, -999.00,9
31RBOACES24N_2,  AR01,     6,  1,     19,2,19980124,1309, 27.6215, -14.2235, -999,    304.3,  14.5990,  36.0410,  36.0390,2,    184.3,2,     184.3,2,     3.80,2,    10.83,2,     0.01,2,     0.64,2, -999.000,9, -999.000,9, -999.000,9, -999.000,9,   -999.0,9,  -999.00,9,   -999.0,9,   -999.0,9,-999.0000,9,  -999.0,9, -999.0, -999.00,9,  -999.0,  -999.0,   48.98,2
31RBOACES24N_2,  AR01,     6,  1,     18,2,19980124,1309, 27.6215, -14.2235, -999,    359.8,  13.6500,  35.8920,  35.8900,2,    178.9,2,     169.6,2,     5.10,2,    14.15,2,     0.00,2,     0.82,2, -999.000,9, -999.000,9, -999.000,9, -999.000,9,   -999.0,9,  -999.00,9,   -999.0,9,   -999.0,9,-999.0000,9,  -999.0,9, -999.0, -999.00,9,  -999.0,  -999.0, -999.00,9
31RBOACES24N_2,  AR01,     6,  1,     17,2,19980124,1309, 27.6215, -14.2235, -999,    404.2,  13.2090,  35.8270,  35.8260,2,    169.7,2,     169.0,2,     5.60,2,    14.93,2,     0.00,2,     0.87,2, -999.000,9, -999.000,9, -999.000,9, -999.000,9,   -999.0,9,  -999.00,9,   -999.0,9,   -999.0,9,-999.0000,9,  -999.0,9, -999.0,   17.47,2,  -999.0,  -999.0,   48.88,2
31RBOACES24N_2,  AR01,     6,  1,     16,2,19980124,1309, 27.6215, -14.2235, -999,    451.0,  12.4510,  35.7170,  35.7170,2,    163.8,2,     161.5,2,     6.80,2,    16.88,2,     0.00,2,     1.01,2, -999.000,9, -999.000,9, -999.000,9, -999.000,9,   -999.0,9,  -999.00,9,   -999.0,9,   -999.0,9,-999.0000,9,  -999.0,9, -999.0, -999.00,9,  -999.0,  -999.0, -999.00,9
31RBOACES24N_2,  AR01,     6,  1,     15,2,19980124,1309, 27.6215, -14.2235, -999,    500.1,  11.7760,  35.6250,  35.6240,2,    158.3,2,     155.9,2,     8.40,2,    18.94,2,     0.00,2,     1.14,2, -999.000,9, -999.000,9, -999.000,9, -999.000,9,   -999.0,9,  -999.00,9,   -999.0,9,   -999.0,9,-999.0000,9,  -999.0,9, -999.0, -999.00,9,  -999.0,  -999.0,   44.59,2
31RBOACES24N_2,  AR01,     6,  1,     14,2,19980124,1309, 27.6215, -14.2235, -999,    553.7,  11.1770,  35.5530,  35.5540,2,    159.0,2,     153.3,2,     9.60,2,    20.11,2,     0.00,2,     1.23,2, -999.000,9, -999.000,9, -999.000,9, -999.000,9,   -999.0,9,  -999.00,9,   -999.0,9,   -999.0,9,-999.0000,9,  -999.0,9, -999.0, -999.00,9,  -999.0,  -999.0, -999.00,9
31RBOACES24N_2,  AR01,     6,  1,     13,2,19980124,1309, 27.6215, -14.2235, -999,    594.8,  10.5960,  35.4740,  35.4750,2,    145.7,2,     142.9,2,    11.60,2,    22.35,2,     0.00,2,     1.37,2, -999.000,9, -999.000,9, -999.000,9, -999.000,9,   -999.0,9,  -999.00,9,   -999.0,9,   -999.0,9,-999.0000,9,  -999.0,9, -999.0,   24.61,2,  -999.0,  -999.0,   44.29,2
31RBOACES24N_2,  AR01,     6,  1,     12,2,19980124,1309, 27.6215, -14.2235, -999,    649.8,   9.8240,  35.3710,  35.3700,2,    132.4,2,     129.4,2,    14.40,2,    25.28,2,     0.00,2,     1.56,2, -999.000,9, -999.000,9, -999.000,9, -999.000,9,   -999.0,9,  -999.00,9,   -999.0,9,   -999.0,9,-999.0000,9,  -999.0,9, -999.0, -999.00,9,  -999.0,  -999.0, -999.00,9
31RBOACES24N_2,  AR01,     6,  1,     11,2,19980124,1309, 27.6215, -14.2235, -999,    701.4,   9.4200,  35.3240,  35.3230,2,    124.7,2,     126.4,2,    15.50,2,    26.26,2,     0.00,2,     1.63,2, -999.000,9, -999.000,9, -999.000,9, -999.000,9,   -999.0,9,  -999.00,9,   -999.0,9,   -999.0,9,-999.0000,9,  -999.0,9, -999.0,   28.22,2,  -999.0,  -999.0,   43.80,2
31RBOACES24N_2,  AR01,     6,  1,     10,2,19980124,1309, 27.6215, -14.2235, -999,    789.6,   8.4770,  35.2410,  35.2400,2,    123.4,2,     127.8,2,    17.60,2,    27.63,2,     0.00,2,     1.75,2, -999.000,9, -999.000,9, -999.000,9, -999.000,9,   -999.0,9,  -999.00,9,   -999.0,9,   -999.0,9,-999.0000,9,  -999.0,9, -999.0,   29.31,2,  -999.0,  -999.0,   43.22,2
31RBOACES24N_2,  AR01,     6,  1,      9,2,19980124,1309, 27.6215, -14.2235, -999,    849.9,   8.1190,  35.2210,  35.2190,2,    130.1,2,     131.8,2,    18.00,2,    27.63,2,     0.00,2,     1.76,2, -999.000,9, -999.000,9, -999.000,9, -999.000,9,   -999.0,9,  -999.00,9,   -999.0,9,   -999.0,9,-999.0000,9,  -999.0,9, -999.0,   29.46,2,  -999.0,  -999.0, -999.00,9
31RBOACES24N_2,  AR01,     6,  1,      8,2,19980124,1309, 27.6215, -14.2235, -999,    922.4,   7.7080,  35.2040,  35.2030,2,    137.1,2,     138.0,2,    18.40,2,    27.24,2,     0.00,2,     1.76,2, -999.000,9, -999.000,9, -999.000,9, -999.000,9,   -999.0,9,  -999.00,9,   -999.0,9,   -999.0,9,-999.0000,9,  -999.0,9, -999.0, -999.00,9,  -999.0,  -999.0,   42.73,2
31RBOACES24N_2,  AR01,     6,  1,      7,2,19980124,1309, 27.6215, -14.2235, -999,    998.3,   7.4840,  35.2360,  35.2350,2,    148.6,2,     149.7,2,    18.60,2,    25.97,2,     0.01,2,     1.71,2, -999.000,9, -999.000,9, -999.000,9, -999.000,9,   -999.0,9,  -999.00,9,   -999.0,9,   -999.0,9,-999.0000,9,  -999.0,9, -999.0,   28.09,2,  -999.0,  -999.0,   42.24,2
31RBOACES24N_2,  AR01,     6,  1,      6,2,19980124,1309, 27.6215, -14.2235, -999,   1096.6,   7.2210,  35.2670,  35.2670,2,    161.5,2,     162.0,2,    18.90,2,    24.80,2,     0.00,2,     1.61,2, -999.000,9, -999.000,9, -999.000,9, -999.000,9,   -999.0,9,  -999.00,9,   -999.0,9,   -999.0,9,-999.0000,9,  -999.0,9, -999.0,   26.98,2,  -999.0,  -999.0,   42.43,2
31RBOACES24N_2,  AR01,     6,  1,      5,2,19980124,1309, 27.6215, -14.2235, -999,   1200.0,   6.7570,  35.2720,  35.2740,2,    174.5,2,     175.7,2,    19.80,2,    23.82,2,     0.00,2,     1.55,2, -999.000,9, -999.000,9, -999.000,9, -999.000,9,   -999.0,9,  -999.00,9,   -999.0,9,   -999.0,9,-999.0000,9,  -999.0,9, -999.0,   26.24,2,  -999.0,  -999.0,   42.72,2
31RBOACES24N_2,  AR01,     6,  1,      4,2,19980124,1309, 27.6215, -14.2235, -999,   1402.5,   6.0900,  35.2640,  35.2640,2,    196.4,2,     196.0,2,    21.40,2,    22.36,2,     0.00,2,     1.46,2, -999.000,9, -999.000,9, -999.000,9, -999.000,9,   -999.0,9,  -999.00,9,   -999.0,9,   -999.0,9,-999.0000,9,  -999.0,9, -999.0,   25.08,2,  -999.0,  -999.0,   42.52,2
31RBOACES24N_2,  AR01,     6,  1,      3,2,19980124,1309, 27.6215, -14.2235, -999,   1597.5,   5.4190,  35.2300,  35.2290,2,    213.8,2,     213.3,2,    22.60,2,    21.38,2,     0.00,2,     1.40,2, -999.000,9, -999.000,9, -999.000,9, -999.000,9,   -999.0,9,  -999.00,9,   -999.0,9,   -999.0,9,-999.0000,9,  -999.0,9, -999.0,   23.71,2,  -999.0,  -999.0,   42.52,2
31RBOACES24N_2,  AR01,     6,  1,      2,2,19980124,1309, 27.6215, -14.2235, -999,   1800.3,   4.5650,  35.1280,  35.1290,2,    222.2,2,     221.1,2,    26.20,2,    21.58,2,     0.00,2,     1.45,2, -999.000,9, -999.000,9, -999.000,9, -999.000,9,   -999.0,9,  -999.00,9,   -999.0,9,   -999.0,9,-999.0000,9,  -999.0,9, -999.0,   23.85,2,  -999.0,  -999.0,   42.71,2
31RBOACES24N_2,  AR01,     6,  1,      1,2,19980124,1309, 27.6215, -14.2235, -999,   2035.1,   3.8980,  35.0470,  35.0480,2,    223.5,2,     223.8,2,    30.40,2,    22.07,2,     0.00,2,     1.49,2, -999.000,9, -999.000,9, -999.000,9, -999.000,9,   -999.0,9,  -999.00,9,   -999.0,9,   -999.0,9,-999.0000,9,  -999.0,9, -999.0,   24.80,2,  -999.0,  -999.0,   43.00,2