BOTTLE,20220820CCHSIOAMB
EXPOCODE,SECT_ID,STNNBR,CASTNO,BTLNBR,BTLNBR_FLAG_W,DATE,TIME,LATITUDE,LONGITUDE,DEPTH,CTDPRS,CTDTMP,CTDSAL,SALNTY,SALNTY_FLAG_W,CTDOXY,CTDOXY_FLAG_W,OXYGEN,OXYGEN_FLAG_W,SILCAT,SILCAT_FLAG_W,NITRAT,NITRAT_FLAG_W,NITRIT,NITRIT_FLAG_W,PHSPHT,PHSPHT_FLAG_W,CFC-11,CFC-11_FLAG_W,CFC-12,CFC-12_FLAG_W,CFC113,CFC113_FLAG_W,CCL4,CCL4_FLAG_W,DELC14,DELC14_FLAG_W,DELC13,DELC13_FLAG_W,TCARBN,TCARBN_FLAG_W,ALKALI,ALKALI_FLAG_W,PH,PH_FLAG_W,FCO2,FCO2_FLAG_W,FCO2TMP,TON,TON_FLAG_W,FCO2IN,C14ERR,TOC,TOC_FLAG_W
,,,,,,,,,,,DBAR,ITS-90,PSS-78,PSS-78,,UMOL/KG,,UMOL/KG,,UMOL/KG,,UMOL/KG,,UMOL/KG,,UMOL/KG,,PMOL/KG,,PMOL/KG,,PMOL/KG,,PMOL/KG,,/MILLE,,/MILLE,,UMOL/KG,,UMOL/KG,,,,UATM,,DEG C,UMOL/KG,,UATM,/MILLE,UMOL/KG,
31RBOACES24N_2,  AR01,    75,  1,     36,2,19980212,0125, 24.4997, -58.8670, 5920,      5.3,  23.7450,  36.8550,  36.8550,2,    213.7,2,     215.8,2,     0.70,2,     0.39,2,     0.00,2,     0.01,2, -999.000,9, -999.000,9, -999.000,9, -999.000,9,   -999.0,9,  -999.00,9,   2041.7,6,   2406.7,2,   8.1043,2,   276.1,6,   20.0, -999.00,9,   320.3,  -999.0, -999.00,9
31RBOACES24N_2,  AR01,    75,  1,     35,2,19980212,0125, 24.4997, -58.8670, 5920,     48.0,  23.7580,  36.8530,  36.8540,2,    214.2,2,     213.7,6,     0.70,2,     0.39,2,     0.00,2,     0.02,2, -999.000,9, -999.000,9, -999.000,9, -999.000,9,   -999.0,9,  -999.00,9,   -999.0,9,   -999.0,9,-999.0000,9,  -999.0,9, -999.0, -999.00,9,  -999.0,  -999.0, -999.00,9
31RBOACES24N_2,  AR01,    75,  1,     34,3,19980212,0125, 24.4997, -58.8670, 5920,    103.1,  22.6380,  36.9930,  36.9990,2,    215.5,2,     219.1,2,     0.50,2,     0.39,2,     0.00,2,     0.02,2, -999.000,9, -999.000,9, -999.000,9, -999.000,9,   -999.0,9,  -999.00,9,   2070.0,2,   2412.0,2,   8.0692,2,   307.6,2,   20.0, -999.00,9,   341.5,  -999.0, -999.00,9
31RBOACES24N_2,  AR01,    75,  1,     33,2,19980212,0125, 24.4997, -58.8670, 5920,    150.0,  20.3770,  36.8540,  36.8550,2,    195.6,2,     198.7,2,     0.50,2,     1.07,2,     0.02,2,     0.03,2, -999.000,9, -999.000,9, -999.000,9, -999.000,9,   -999.0,9,  -999.00,9,   2098.4,2,   2405.6,2,   8.0130,2,   360.4,2,   20.0, -999.00,9,   365.7,  -999.0, -999.00,9
31RBOACES24N_2,  AR01,    75,  1,     32,2,19980212,0125, 24.4997, -58.8670, 5920,    198.3,  19.2090,  36.7160,  36.7160,2,    191.8,2,     194.1,2,     0.90,2,     2.44,2,     0.01,2,     0.07,2, -999.000,9, -999.000,9, -999.000,9, -999.000,9,   -999.0,9,  -999.00,9,   -999.0,9,   -999.0,9,-999.0000,9,  -999.0,9, -999.0, -999.00,9,  -999.0,  -999.0, -999.00,9
31RBOACES24N_2,  AR01,    75,  1,     31,2,19980212,0125, 24.4997, -58.8670, 5920,    226.3,  18.7800,  36.6470,  36.6430,2,    195.0,2,     196.6,2,     1.00,2,     3.22,2,     0.01,2,     0.10,2, -999.000,9, -999.000,9, -999.000,9, -999.000,9,   -999.0,9,  -999.00,9,   2103.9,2,   2391.1,2,   7.9867,2,   388.6,2,   20.0, -999.00,9,   370.0,  -999.0, -999.00,9
31RBOACES24N_2,  AR01,    75,  1,     30,2,19980212,0125, 24.4997, -58.8670, 5920,    250.7,  18.4690,  36.5950,  36.5970,2,    198.2,2,     199.5,2,     1.10,2,     3.61,2,     0.00,2,     0.13,2, -999.000,9, -999.000,9, -999.000,9, -999.000,9,   -999.0,9,  -999.00,9,   -999.0,9,   -999.0,9,-999.0000,9,  -999.0,9, -999.0, -999.00,9,  -999.0,  -999.0, -999.00,9
31RBOACES24N_2,  AR01,    75,  1,     29,2,19980212,0125, 24.4997, -58.8670, 5920,    274.5,  18.2190,  36.5560,  36.5560,2,    200.5,2,     201.2,2,     1.30,2,     4.20,2,     0.00,2,     0.16,2, -999.000,9, -999.000,9, -999.000,9, -999.000,9,   -999.0,9,  -999.00,9,   2101.6,2,   2389.8,2,   7.9823,2,   388.2,2,   20.0, -999.00,9,   361.2,  -999.0, -999.00,9
31RBOACES24N_2,  AR01,    75,  1,     28,2,19980212,0125, 24.4997, -58.8670, 5920,    300.1,  18.0320,  36.5270,  36.5240,2,    202.1,2,     201.9,2,     1.30,2,     4.59,2,     0.00,2,     0.19,2, -999.000,9, -999.000,9, -999.000,9, -999.000,9,   -999.0,9,  -999.00,9,   -999.0,9,   -999.0,9,-999.0000,9,  -999.0,9, -999.0, -999.00,9,  -999.0,  -999.0, -999.00,9
31RBOACES24N_2,  AR01,    75,  1,     27,2,19980212,0125, 24.4997, -58.8670, 5920,    347.3,  17.6080,  36.4570,  36.4660,2,    198.5,2,     195.8,2,     1.60,2,     5.76,2,     0.00,2,     0.25,2, -999.000,9, -999.000,9, -999.000,9, -999.000,9,   -999.0,9,  -999.00,9,   2109.8,2,   2381.4,2,   7.9623,2,   415.1,2,   20.0, -999.00,9,   376.7,  -999.0, -999.00,9
31RBOACES24N_2,  AR01,    75,  1,     26,2,19980212,0125, 24.4997, -58.8670, 5920,    395.9,  16.8850,  36.3380,  36.3390,2,    192.7,2,     190.7,2,     2.00,2,     7.42,2,     0.00,2,     0.35,2, -999.000,9, -999.000,9, -999.000,9, -999.000,9,   -999.0,9,  -999.00,9,   -999.0,9,   -999.0,9,-999.0000,9,  -999.0,9, -999.0, -999.00,9,  -999.0,  -999.0, -999.00,9
31RBOACES24N_2,  AR01,    75,  1,     25,2,19980212,0125, 24.4997, -58.8670, 5920,    448.7,  15.9490,  36.1850,  36.2030,2,    188.7,2,     187.0,2,     2.70,2,     9.08,2,     0.00,2,     0.46,2, -999.000,9, -999.000,9, -999.000,9, -999.000,9,   -999.0,9,  -999.00,9,   2125.4,2,   2366.8,2,   7.9113,2,   467.3,2,   20.0, -999.00,9,   395.5,  -999.0, -999.00,9
31RBOACES24N_2,  AR01,    75,  1,     24,2,19980212,0125, 24.4997, -58.8670, 5920,    499.4,  15.1290,  36.0530,  36.0500,2,    183.1,2,     181.8,2,     3.50,2,    10.93,2,     0.00,2,     0.59,2, -999.000,9, -999.000,9, -999.000,9, -999.000,9,   -999.0,9,  -999.00,9,   -999.0,9,   -999.0,9,-999.0000,9,  -999.0,9, -999.0, -999.00,9,  -999.0,  -999.0, -999.00,9
31RBOACES24N_2,  AR01,    75,  1,     23,3,19980212,0125, 24.4997, -58.8670, 5920,    599.4,  13.1070,  35.7490,  35.7510,2,    171.8,2,     170.8,2,     5.80,2,    15.23,2,     0.00,2,     0.86,2, -999.000,9, -999.000,9, -999.000,9, -999.000,9,   -999.0,9,  -999.00,9,   -999.0,9,   -999.0,9,-999.0000,9,  -999.0,9, -999.0, -999.00,9,  -999.0,  -999.0, -999.00,9
31RBOACES24N_2,  AR01,    75,  1,     22,2,19980212,0125, 24.4997, -58.8670, 5920,    697.5,  11.1650,  35.4760,  35.4790,2,    161.1,2,     158.9,2,     9.30,2,    19.92,2,     0.00,2,     1.18,2, -999.000,9, -999.000,9, -999.000,9, -999.000,9,   -999.0,9,  -999.00,9,   2168.3,2,   2332.4,2,   7.7532,2,   684.0,2,   20.0, -999.00,9,   474.6,  -999.0, -999.00,9
31RBOACES24N_2,  AR01,    75,  1,     21,2,19980212,0125, 24.4997, -58.8670, 5920,    794.1,   9.8230,  35.3280,  35.3360,2,    155.6,2,     155.9,2,    11.80,2,    22.46,2,     0.00,2,     1.36,2, -999.000,9, -999.000,9, -999.000,9, -999.000,9,   -999.0,9,  -999.00,9,   2178.8,2,   -999.0,9,-999.0000,9,  -999.0,9, -999.0, -999.00,9,  -999.0,  -999.0, -999.00,9
31RBOACES24N_2,  AR01,    75,  1,     20,2,19980212,0125, 24.4997, -58.8670, 5920,    847.3,   8.7220,  35.2050,  35.2040,2,    153.6,2,     152.2,2,    14.60,2,    24.81,2,     0.00,2,     1.54,2, -999.000,9, -999.000,9, -999.000,9, -999.000,9,   -999.0,9,  -999.00,9,   2187.7,2,   2317.3,2,-999.0000,9,   815.0,2,   20.0, -999.00,9,   510.0,  -999.0, -999.00,9
31RBOACES24N_2,  AR01,    75,  1,     19,2,19980212,0125, 24.4997, -58.8670, 5920,    901.0,   7.7710,  35.1110,  35.1150,2,    155.7,2,     155.9,2,    16.50,2,    25.78,2,     0.00,2,     1.63,2, -999.000,9, -999.000,9, -999.000,9, -999.000,9,   -999.0,9,  -999.00,9,   -999.0,9,   -999.0,9,-999.0000,9,  -999.0,9, -999.0, -999.00,9,  -999.0,  -999.0, -999.00,9
31RBOACES24N_2,  AR01,    75,  1,     18,2,19980212,0125, 24.4997, -58.8670, 5920,   1049.2,   6.5030,  35.0550,  35.0580,2,    178.0,2,     178.2,2,    17.40,2,    24.81,2,     0.00,2,     1.58,2, -999.000,9, -999.000,9, -999.000,9, -999.000,9,   -999.0,9,  -999.00,9,   2189.7,6,   2320.8,2,   7.6720,2,   855.4,2,   20.0, -999.00,9,   485.0,  -999.0, -999.00,9
31RBOACES24N_2,  AR01,    75,  1,     17,2,19980212,0125, 24.4997, -58.8670, 5920,   1249.1,   5.4480,  35.0730,  35.0720,2,    221.9,2,     221.1,2,    14.70,2,    20.80,2,     0.00,2,     1.34,2, -999.000,9, -999.000,9, -999.000,9, -999.000,9,   -999.0,9,  -999.00,9,   -999.0,9,   -999.0,9,-999.0000,9,  -999.0,9, -999.0, -999.00,9,  -999.0,  -999.0, -999.00,9
31RBOACES24N_2,  AR01,    75,  1,     16,2,19980212,0125, 24.4997, -58.8670, 5920,   1449.5,   4.9250,  35.0780,  35.0770,2,    243.1,2,     241.0,2,    14.00,2,    18.85,2,     0.00,2,     1.24,2, -999.000,9, -999.000,9, -999.000,9, -999.000,9,   -999.0,9,  -999.00,9,   2167.0,2,   2318.9,2,   7.7263,2,   730.0,2,   20.0, -999.00,9,   381.9,  -999.0, -999.00,9
31RBOACES24N_2,  AR01,    75,  1,     15,2,19980212,0125, 24.4997, -58.8670, 5920,   1652.9,   4.4020,  35.0540,  35.0540,2,    252.2,2,     252.3,2,    14.80,2,    18.17,2,     0.00,2,     1.21,2, -999.000,9, -999.000,9, -999.000,9, -999.000,9,   -999.0,9,  -999.00,9,   -999.0,9,   -999.0,9,-999.0000,9,  -999.0,9, -999.0, -999.00,9,  -999.0,  -999.0, -999.00,9
31RBOACES24N_2,  AR01,    75,  1,     14,2,19980212,0125, 24.4997, -58.8670, 5920,   1848.6,   4.0560,  35.0390,  35.0390,2,    253.1,2,     254.3,2,    17.30,2,    18.17,2,     0.00,2,     1.23,2, -999.000,9, -999.000,9, -999.000,9, -999.000,9,   -999.0,9,  -999.00,9,   -999.0,9,   -999.0,9,-999.0000,9,  -999.0,9, -999.0, -999.00,9,  -999.0,  -999.0, -999.00,9
31RBOACES24N_2,  AR01,    75,  1,     13,2,19980212,0125, 24.4997, -58.8670, 5920,   1999.5,   3.7680,  35.0210,  35.0200,2,    254.2,2,     255.3,2,    20.00,2,    18.17,2,     0.00,2,     1.26,2, -999.000,9, -999.000,9, -999.000,9, -999.000,9,   -999.0,9,  -999.00,9,   2167.5,2,   2323.1,2,   7.7346,2,   720.8,2,   20.0, -999.00,9,   356.1,  -999.0, -999.00,9
31RBOACES24N_2,  AR01,    75,  1,     12,2,19980212,0125, 24.4997, -58.8670, 5920,   2187.6,   3.4910,  34.9980,  34.9990,2,    254.0,2,     254.9,2,    23.40,2,    18.26,2,     0.00,2,     1.28,2, -999.000,9, -999.000,9, -999.000,9, -999.000,9,   -999.0,9,  -999.00,9,   -999.0,9,   -999.0,9,-999.0000,9,  -999.0,9, -999.0, -999.00,9,  -999.0,  -999.0, -999.00,9
31RBOACES24N_2,  AR01,    75,  1,     11,2,19980212,0125, 24.4997, -58.8670, 5920,   2390.7,   3.2460,  34.9780,  34.9780,2,    254.8,2,     256.1,2,    26.20,2,    18.56,2,     0.00,2,     1.30,2, -999.000,9, -999.000,9, -999.000,9, -999.000,9,   -999.0,9,  -999.00,9,   -999.0,9,   -999.0,9,-999.0000,9,  -999.0,9, -999.0, -999.00,9,  -999.0,  -999.0, -999.00,9
31RBOACES24N_2,  AR01,    75,  1,     10,2,19980212,0125, 24.4997, -58.8670, 5920,   2601.1,   3.0490,  34.9610,  34.9610,2,    255.5,2,     258.1,2,    28.90,2,    18.75,2,     0.00,2,     1.32,2, -999.000,9, -999.000,9, -999.000,9, -999.000,9,   -999.0,9,  -999.00,9,   -999.0,9,   -999.0,9,-999.0000,9,  -999.0,9, -999.0, -999.00,9,  -999.0,  -999.0, -999.00,9
31RBOACES24N_2,  AR01,    75,  1,      9,2,19980212,0125, 24.4997, -58.8670, 5920,   2948.4,   2.8160,  34.9390,  34.9400,2,    256.4,2,     257.9,2,    32.00,2,    18.85,2,     0.00,2,     1.34,2, -999.000,9, -999.000,9, -999.000,9, -999.000,9,   -999.0,9,  -999.00,9,   2178.8,2,   2333.1,2,   7.7344,2,   730.6,2,   20.0, -999.00,9,   344.2,  -999.0, -999.00,9
31RBOACES24N_2,  AR01,    75,  1,      8,2,19980212,0125, 24.4997, -58.8670, 5920,   3249.2,   2.6390,  34.9250,  34.9240,2,    261.4,2,     261.8,2,    32.20,2,    18.56,2,     0.00,2,     1.32,2, -999.000,9, -999.000,9, -999.000,9, -999.000,9,   -999.0,9,  -999.00,9,   -999.0,9,   -999.0,9,-999.0000,9,  -999.0,9, -999.0, -999.00,9,  -999.0,  -999.0, -999.00,9
31RBOACES24N_2,  AR01,    75,  1,      7,2,19980212,0125, 24.4997, -58.8670, 5920,   3650.4,   2.4380,  34.9070,  34.9060,2,    262.0,2,     261.9,2,    36.30,2,    18.85,2,     0.00,2,     1.36,2, -999.000,9, -999.000,9, -999.000,9, -999.000,9,   -999.0,9,  -999.00,9,   -999.0,9,   -999.0,9,-999.0000,9,  -999.0,9, -999.0, -999.00,9,  -999.0,  -999.0, -999.00,9
31RBOACES24N_2,  AR01,    75,  1,      6,2,19980212,0125, 24.4997, -58.8670, 5920,   4051.0,   2.3290,  34.8990,  34.8990,2,    267.6,2,     268.2,2,    33.20,2,    18.36,2,     0.00,2,     1.30,2, -999.000,9, -999.000,9, -999.000,9, -999.000,9,   -999.0,9,  -999.00,9,   2174.8,2,   2329.5,2,   7.7352,2,  -999.0,9, -999.0, -999.00,9,  -999.0,  -999.0, -999.00,9
31RBOACES24N_2,  AR01,    75,  1,      5,2,19980212,0125, 24.4997, -58.8670, 5920,   4400.9,   2.2810,  34.8910,  34.8910,2,    267.7,2,     267.6,2,    35.80,2,    18.75,2,     0.00,2,     1.34,2, -999.000,9, -999.000,9, -999.000,9, -999.000,9,   -999.0,9,  -999.00,9,   2176.7,2,   -999.0,9,-999.0000,9,   727.6,2,   20.0, -999.00,9,   333.2,  -999.0, -999.00,9
31RBOACES24N_2,  AR01,    75,  1,      4,2,19980212,0125, 24.4997, -58.8670, 5920,   4750.2,   2.2320,  34.8820,  34.8820,2,    265.4,2,     264.8,2,    40.30,2,    19.44,2,     0.00,2,     1.39,2, -999.000,9, -999.000,9, -999.000,9, -999.000,9,   -999.0,9,  -999.00,9,   2182.4,2,   2334.9,2,   7.7272,2,  -999.0,9, -999.0, -999.00,9,  -999.0,  -999.0, -999.00,9
31RBOACES24N_2,  AR01,    75,  1,      3,2,19980212,0125, 24.4997, -58.8670, 5920,   5001.3,   2.1310,  34.8650,  34.8660,2,    260.4,2,     260.5,2,    47.20,2,    20.71,2,     0.00,2,     1.46,2, -999.000,9, -999.000,9, -999.000,9, -999.000,9,   -999.0,9,  -999.00,9,   -999.0,9,   -999.0,9,-999.0000,9,  -999.0,9, -999.0, -999.00,9,  -999.0,  -999.0, -999.00,9
31RBOACES24N_2,  AR01,    75,  1,      2,2,19980212,0125, 24.4997, -58.8670, 5920,   5499.6,   2.0240,  34.8450,  34.8460,2,    253.9,2,     254.5,2,    56.60,2,    22.08,2,     0.00,2,     1.57,2, -999.000,9, -999.000,9, -999.000,9, -999.000,9,   -999.0,9,  -999.00,9,   -999.0,9,   -999.0,9,-999.0000,9,  -999.0,9, -999.0, -999.00,9,  -999.0,  -999.0, -999.00,9
31RBOACES24N_2,  AR01,    75,  1,      1,2,19980212,0125, 24.4997, -58.8670, 5920,   6014.3,   2.0690,  34.8410,  34.8430,2,    252.2,2,     253.6,2,    57.80,6,    22.27,6,     0.00,6,     1.58,6, -999.000,9, -999.000,9, -999.000,9, -999.000,9,   -999.0,9,  -999.00,9,   2203.1,2,   2347.8,2,   7.7027,2,   795.2,2,   20.0, -999.00,9,   361.0,  -999.0, -999.00,9