BOTTLE,20220820CCHSIOAMB
EXPOCODE,SECT_ID,STNNBR,CASTNO,BTLNBR,BTLNBR_FLAG_W,DATE,TIME,LATITUDE,LONGITUDE,DEPTH,CTDPRS,CTDTMP,CTDSAL,SALNTY,SALNTY_FLAG_W,CTDOXY,CTDOXY_FLAG_W,OXYGEN,OXYGEN_FLAG_W,SILCAT,SILCAT_FLAG_W,NITRAT,NITRAT_FLAG_W,NITRIT,NITRIT_FLAG_W,PHSPHT,PHSPHT_FLAG_W,CFC-11,CFC-11_FLAG_W,CFC-12,CFC-12_FLAG_W,CFC113,CFC113_FLAG_W,CCL4,CCL4_FLAG_W,DELC14,DELC14_FLAG_W,DELC13,DELC13_FLAG_W,TCARBN,TCARBN_FLAG_W,ALKALI,ALKALI_FLAG_W,PH,PH_FLAG_W,FCO2,FCO2_FLAG_W,FCO2TMP,TON,TON_FLAG_W,FCO2IN,C14ERR,TOC,TOC_FLAG_W
,,,,,,,,,,,DBAR,ITS-90,PSS-78,PSS-78,,UMOL/KG,,UMOL/KG,,UMOL/KG,,UMOL/KG,,UMOL/KG,,UMOL/KG,,PMOL/KG,,PMOL/KG,,PMOL/KG,,PMOL/KG,,/MILLE,,/MILLE,,UMOL/KG,,UMOL/KG,,,,UATM,,DEG C,UMOL/KG,,UATM,/MILLE,UMOL/KG,
31RBOACES24N_2,  AR01,   103,  1,     36,2,19980219,1326, 26.4997, -74.2505, 4553,      3.7,  21.9380,  36.6390,  36.6380,2,    220.7,2,     222.4,6,     0.70,2,     0.00,2,     0.00,2,     0.00,2, -999.000,9, -999.000,9, -999.000,9, -999.000,9,   -999.0,9,  -999.00,9,   2045.9,2,   2399.9,2,   8.0772,6,   297.7,6,   20.0, -999.00,9,   321.6,  -999.0, -999.00,9
31RBOACES24N_2,  AR01,   103,  1,     35,2,19980219,1326, 26.4997, -74.2505, 4553,     49.9,  21.5620,  36.6330,  36.6320,2,    221.6,2,     220.7,2,     0.70,2,     0.00,2,     0.00,2,     0.01,2, -999.000,9, -999.000,9, -999.000,9, -999.000,9,   -999.0,9,  -999.00,9,   -999.0,9,   -999.0,9,-999.0000,9,  -999.0,9, -999.0, -999.00,9,  -999.0,  -999.0, -999.00,9
31RBOACES24N_2,  AR01,   103,  1,     34,2,19980219,1326, 26.4997, -74.2505, 4553,     99.6,  21.1320,  36.6820,  36.6820,2,    218.5,2,     213.1,2,     0.70,2,     0.39,2,     0.12,2,     0.01,2, -999.000,9, -999.000,9, -999.000,9, -999.000,9,   -999.0,9,  -999.00,9,   -999.0,9,   -999.0,9,-999.0000,9,  -999.0,9, -999.0, -999.00,9,  -999.0,  -999.0, -999.00,9
31RBOACES24N_2,  AR01,   103,  1,     33,2,19980219,1326, 26.4997, -74.2505, 4553,    145.4,  20.2500,  36.7700,  36.7690,2,    199.0,2,     197.8,2,     0.70,2,     1.37,2,     0.02,2,     0.04,2, -999.000,9, -999.000,9, -999.000,9, -999.000,9,   -999.0,9,  -999.00,9,   -999.0,9,   -999.0,9,-999.0000,9,  -999.0,9, -999.0, -999.00,9,  -999.0,  -999.0, -999.00,9
31RBOACES24N_2,  AR01,   103,  1,     32,2,19980219,1326, 26.4997, -74.2505, 4553,    200.5,  19.0380,  36.6650,  36.6620,2,    193.6,2,     192.8,2,     0.90,2,     2.93,2,     0.01,2,     0.09,2, -999.000,9, -999.000,9, -999.000,9, -999.000,9,   -999.0,9,  -999.00,9,   -999.0,9,   -999.0,9,-999.0000,9,  -999.0,9, -999.0, -999.00,9,  -999.0,  -999.0, -999.00,9
31RBOACES24N_2,  AR01,   103,  1,     31,2,19980219,1326, 26.4997, -74.2505, 4553,    224.8,  18.6940,  36.6170,  36.6160,2,    195.5,2,     196.3,2,     1.00,2,     3.32,2,     0.01,2,     0.12,2, -999.000,9, -999.000,9, -999.000,9, -999.000,9,   -999.0,9,  -999.00,9,   -999.0,9,   -999.0,9,-999.0000,9,  -999.0,9, -999.0, -999.00,9,  -999.0,  -999.0, -999.00,9
31RBOACES24N_2,  AR01,   103,  1,     30,2,19980219,1326, 26.4997, -74.2505, 4553,    247.4,  18.4390,  36.5810,  36.5800,2,    198.1,2,     201.6,2,     1.10,2,     3.61,2,     0.01,2,     0.14,2, -999.000,9, -999.000,9, -999.000,9, -999.000,9,   -999.0,9,  -999.00,9,   -999.0,9,   -999.0,9,-999.0000,9,  -999.0,9, -999.0, -999.00,9,  -999.0,  -999.0, -999.00,9
31RBOACES24N_2,  AR01,   103,  1,     29,2,19980219,1326, 26.4997, -74.2505, 4553,    274.9,  18.2920,  36.5640,  36.5630,2,    208.3,2,     207.0,2,     1.10,2,     3.51,2,     0.01,2,     0.14,2, -999.000,9, -999.000,9, -999.000,9, -999.000,9,   -999.0,9,  -999.00,9,   -999.0,9,   -999.0,9,-999.0000,9,  -999.0,9, -999.0, -999.00,9,  -999.0,  -999.0, -999.00,9
31RBOACES24N_2,  AR01,   103,  1,     28,2,19980219,1326, 26.4997, -74.2505, 4553,    299.4,  18.2030,  36.5560,  36.5560,2,    209.8,2,     208.9,2,     1.10,2,     3.41,2,     0.01,2,     0.14,2, -999.000,9, -999.000,9, -999.000,9, -999.000,9,   -999.0,9,  -999.00,9,   -999.0,9,   -999.0,9,-999.0000,9,  -999.0,9, -999.0, -999.00,9,  -999.0,  -999.0, -999.00,9
31RBOACES24N_2,  AR01,   103,  1,     27,2,19980219,1326, 26.4997, -74.2505, 4553,    349.1,  18.0350,  36.5330,  36.5330,2,    209.9,2,     208.2,2,     1.30,2,     3.80,2,     0.01,2,     0.18,2, -999.000,9, -999.000,9, -999.000,9, -999.000,9,   -999.0,9,  -999.00,9,   -999.0,9,   -999.0,9,-999.0000,9,  -999.0,9, -999.0, -999.00,9,  -999.0,  -999.0, -999.00,9
31RBOACES24N_2,  AR01,   103,  1,     26,2,19980219,1326, 26.4997, -74.2505, 4553,    400.0,  17.7930,  36.4880,  36.4900,2,    204.2,2,     202.5,2,     1.50,2,     4.78,2,     0.01,2,     0.22,2, -999.000,9, -999.000,9, -999.000,9, -999.000,9,   -999.0,9,  -999.00,9,   -999.0,9,   -999.0,9,-999.0000,9,  -999.0,9, -999.0, -999.00,9,  -999.0,  -999.0, -999.00,9
31RBOACES24N_2,  AR01,   103,  1,     25,2,19980219,1326, 26.4997, -74.2505, 4553,    449.3,  17.2500,  36.3890,  36.3980,2,    191.6,2,     192.3,2,     2.00,2,     6.54,2,     0.01,2,     0.33,2, -999.000,9, -999.000,9, -999.000,9, -999.000,9,   -999.0,9,  -999.00,9,   -999.0,9,   -999.0,9,-999.0000,9,  -999.0,9, -999.0, -999.00,9,  -999.0,  -999.0, -999.00,9
31RBOACES24N_2,  AR01,   103,  1,     24,2,19980219,1326, 26.4997, -74.2505, 4553,    499.6,  16.1930,  36.2050,  36.2130,2,    186.0,2,     182.8,2,     2.90,2,     9.07,2,     0.01,2,     0.49,2, -999.000,9, -999.000,9, -999.000,9, -999.000,9,   -999.0,9,  -999.00,9,   -999.0,9,   -999.0,9,-999.0000,9,  -999.0,9, -999.0, -999.00,9,  -999.0,  -999.0, -999.00,9
31RBOACES24N_2,  AR01,   103,  1,     23,2,19980219,1326, 26.4997, -74.2505, 4553,    550.3,  15.3480,  36.0630,  36.0720,2,    180.7,2,     178.1,2,     3.70,2,    10.83,2,     0.01,2,     0.61,2, -999.000,9, -999.000,9, -999.000,9, -999.000,9,   -999.0,9,  -999.00,9,   -999.0,9,   -999.0,9,-999.0000,9,  -999.0,9, -999.0, -999.00,9,  -999.0,  -999.0, -999.00,9
31RBOACES24N_2,  AR01,   103,  1,     22,2,19980219,1326, 26.4997, -74.2505, 4553,    599.4,  14.5060,  35.9260,  35.9200,2,    173.6,2,     173.5,2,     4.80,2,    12.69,2,     0.01,2,     0.74,2, -999.000,9, -999.000,9, -999.000,9, -999.000,9,   -999.0,9,  -999.00,9,   -999.0,9,   -999.0,9,-999.0000,9,  -999.0,9, -999.0, -999.00,9,  -999.0,  -999.0, -999.00,9
31RBOACES24N_2,  AR01,   103,  1,     21,2,19980219,1326, 26.4997, -74.2505, 4553,    649.8,  13.2580,  35.7420,  35.7470,2,    168.2,2,     167.6,2,     6.20,2,    15.23,2,     0.01,2,     0.91,2, -999.000,9, -999.000,9, -999.000,9, -999.000,9,   -999.0,9,  -999.00,9,   -999.0,9,   -999.0,9,-999.0000,9,  -999.0,9, -999.0, -999.00,9,  -999.0,  -999.0, -999.00,9
31RBOACES24N_2,  AR01,   103,  1,     20,2,19980219,1326, 26.4997, -74.2505, 4553,    699.9,  12.3780,  35.6250,  35.6300,2,    160.3,2,     160.6,2,     7.40,2,    17.28,2,     0.00,2,     1.05,2, -999.000,9, -999.000,9, -999.000,9, -999.000,9,   -999.0,9,  -999.00,9,   -999.0,9,   -999.0,9,-999.0000,9,  -999.0,9, -999.0, -999.00,9,  -999.0,  -999.0, -999.00,9
31RBOACES24N_2,  AR01,   103,  1,     19,2,19980219,1326, 26.4997, -74.2505, 4553,    749.4,  11.1850,  35.4670,  35.4680,2,    156.5,2,     154.8,2,     9.60,2,    19.91,2,     0.00,2,     1.23,2, -999.000,9, -999.000,9, -999.000,9, -999.000,9,   -999.0,9,  -999.00,9,   -999.0,9,   -999.0,9,-999.0000,9,  -999.0,9, -999.0, -999.00,9,  -999.0,  -999.0, -999.00,9
31RBOACES24N_2,  AR01,   103,  1,     18,2,19980219,1326, 26.4997, -74.2505, 4553,    798.3,  10.1700,  35.3310,  35.3380,2,    151.6,2,     150.7,2,    11.70,2,    22.06,2,     0.00,2,     1.38,2, -999.000,9, -999.000,9, -999.000,9, -999.000,9,   -999.0,9,  -999.00,9,   -999.0,9,   -999.0,9,-999.0000,9,  -999.0,9, -999.0, -999.00,9,  -999.0,  -999.0, -999.00,9
31RBOACES24N_2,  AR01,   103,  1,     17,2,19980219,1326, 26.4997, -74.2505, 4553,    900.3,   8.4180,  35.1580,  35.1620,2,    154.6,2,     154.6,2,    14.80,2,    24.02,2,     0.00,2,     1.56,2, -999.000,9, -999.000,9, -999.000,9, -999.000,9,   -999.0,9,  -999.00,9,   -999.0,9,   -999.0,9,-999.0000,9,  -999.0,9, -999.0, -999.00,9,  -999.0,  -999.0, -999.00,9
31RBOACES24N_2,  AR01,   103,  1,     16,2,19980219,1326, 26.4997, -74.2505, 4553,   1100.3,   6.2100,  35.0850,  35.0880,2,    199.1,2,     201.6,2,    14.50,2,    21.58,2,     0.00,2,     1.41,2, -999.000,9, -999.000,9, -999.000,9, -999.000,9,   -999.0,9,  -999.00,9,   -999.0,9,   -999.0,9,-999.0000,9,  -999.0,9, -999.0, -999.00,9,  -999.0,  -999.0, -999.00,9
31RBOACES24N_2,  AR01,   103,  1,     15,2,19980219,1326, 26.4997, -74.2505, 4553,   1300.6,   5.1160,  35.0680,  35.0680,2,    237.1,2,     237.5,2,    13.00,2,    19.04,2,     0.00,2,     1.26,2, -999.000,9, -999.000,9, -999.000,9, -999.000,9,   -999.0,9,  -999.00,9,   -999.0,9,   -999.0,9,-999.0000,9,  -999.0,9, -999.0, -999.00,9,  -999.0,  -999.0, -999.00,9
31RBOACES24N_2,  AR01,   103,  1,     14,2,19980219,1326, 26.4997, -74.2505, 4553,   1500.2,   4.4100,  35.0170,  35.0170,2,    254.2,2,     256.7,2,    12.60,2,    18.16,2,     0.00,2,     1.20,2, -999.000,9, -999.000,9, -999.000,9, -999.000,9,   -999.0,9,  -999.00,9,   -999.0,9,   -999.0,9,-999.0000,9,  -999.0,9, -999.0, -999.00,9,  -999.0,  -999.0, -999.00,9
31RBOACES24N_2,  AR01,   103,  1,     13,2,19980219,1326, 26.4997, -74.2505, 4553,   1697.4,   3.9810,  34.9800,  34.9790,2,    266.4,2,     266.5,2,    12.70,2,    17.68,2,     0.00,2,     1.18,2, -999.000,9, -999.000,9, -999.000,9, -999.000,9,   -999.0,9,  -999.00,9,   -999.0,9,   -999.0,9,-999.0000,9,  -999.0,9, -999.0, -999.00,9,  -999.0,  -999.0, -999.00,9
31RBOACES24N_2,  AR01,   103,  1,     12,2,19980219,1326, 26.4997, -74.2505, 4553,   1899.2,   3.7930,  34.9730,  34.9740,2,    268.4,2,     268.3,2,    13.60,2,    17.68,2,     0.00,2,     1.18,2, -999.000,9, -999.000,9, -999.000,9, -999.000,9,   -999.0,9,  -999.00,9,   -999.0,9,   -999.0,9,-999.0000,9,  -999.0,9, -999.0, -999.00,9,  -999.0,  -999.0, -999.00,9
31RBOACES24N_2,  AR01,   103,  1,     11,2,19980219,1326, 26.4997, -74.2505, 4553,   2098.7,   3.6000,  34.9680,  34.9680,2,    268.6,2,     269.5,2,    16.90,2,    17.97,2,     0.00,2,     1.20,2, -999.000,9, -999.000,9, -999.000,9, -999.000,9,   -999.0,9,  -999.00,9,   -999.0,9,   -999.0,9,-999.0000,9,  -999.0,9, -999.0, -999.00,9,  -999.0,  -999.0, -999.00,9
31RBOACES24N_2,  AR01,   103,  1,     10,2,19980219,1326, 26.4997, -74.2505, 4553,   2290.8,   3.4620,  34.9720,  34.9710,2,    266.9,2,     267.2,2,    14.80,2,    17.68,2,     0.01,2,     1.18,2, -999.000,9, -999.000,9, -999.000,9, -999.000,9,   -999.0,9,  -999.00,9,   -999.0,9,   -999.0,9,-999.0000,9,  -999.0,9, -999.0, -999.00,9,  -999.0,  -999.0, -999.00,9
31RBOACES24N_2,  AR01,   103,  1,      9,2,19980219,1326, 26.4997, -74.2505, 4553,   2491.3,   3.2520,  34.9580,  34.9580,2,    268.2,2,     269.1,2,    17.90,2,    17.68,2,     0.00,2,     1.20,2, -999.000,9, -999.000,9, -999.000,9, -999.000,9,   -999.0,9,  -999.00,9,   -999.0,9,   -999.0,9,-999.0000,9,  -999.0,9, -999.0, -999.00,9,  -999.0,  -999.0, -999.00,9
31RBOACES24N_2,  AR01,   103,  1,      8,2,19980219,1326, 26.4997, -74.2505, 4553,   2699.8,   3.0430,  34.9470,  34.9470,2,    269.1,2,     270.1,2,    19.20,2,    17.77,2,     0.01,2,     1.20,2, -999.000,9, -999.000,9, -999.000,9, -999.000,9,   -999.0,9,  -999.00,9,   -999.0,9,   -999.0,9,-999.0000,9,  -999.0,9, -999.0, -999.00,9,  -999.0,  -999.0, -999.00,9
31RBOACES24N_2,  AR01,   103,  1,      7,2,19980219,1326, 26.4997, -74.2505, 4553,   2898.4,   2.8690,  34.9380,  34.9370,2,    269.1,2,     271.3,2,    20.70,2,    17.68,2,     0.01,2,     1.21,2, -999.000,9, -999.000,9, -999.000,9, -999.000,9,   -999.0,9,  -999.00,9,   -999.0,9,   -999.0,9,-999.0000,9,  -999.0,9, -999.0, -999.00,9,  -999.0,  -999.0, -999.00,9
31RBOACES24N_2,  AR01,   103,  1,      6,2,19980219,1326, 26.4997, -74.2505, 4553,   3197.7,   2.6110,  34.9200,  34.9210,2,    275.0,2,     274.5,2,    21.40,2,    17.38,2,     0.01,2,     1.19,2, -999.000,9, -999.000,9, -999.000,9, -999.000,9,   -999.0,9,  -999.00,9,   -999.0,9,   -999.0,9,-999.0000,9,  -999.0,9, -999.0, -999.00,9,  -999.0,  -999.0, -999.00,9
31RBOACES24N_2,  AR01,   103,  1,      5,2,19980219,1326, 26.4997, -74.2505, 4553,   3496.2,   2.4180,  34.9090,  34.9080,2,    274.4,2,     275.4,2,    23.70,2,    17.58,2,     0.01,2,     1.20,2, -999.000,9, -999.000,9, -999.000,9, -999.000,9,   -999.0,9,  -999.00,9,   -999.0,9,   -999.0,9,-999.0000,9,  -999.0,9, -999.0, -999.00,9,  -999.0,  -999.0, -999.00,9
31RBOACES24N_2,  AR01,   103,  1,      4,2,19980219,1326, 26.4997, -74.2505, 4553,   3799.8,   2.3100,  34.9010,  34.9000,2,    273.1,2,     274.1,2,    26.40,2,    17.77,2,     0.01,2,     1.23,2, -999.000,9, -999.000,9, -999.000,9, -999.000,9,   -999.0,9,  -999.00,9,   -999.0,9,   -999.0,9,-999.0000,9,  -999.0,9, -999.0, -999.00,9,  -999.0,  -999.0, -999.00,9
31RBOACES24N_2,  AR01,   103,  1,      3,2,19980219,1326, 26.4997, -74.2505, 4553,   4099.3,   2.2660,  34.8950,  34.8940,2,    272.6,2,     272.3,2,    29.50,2,    18.26,2,     0.01,2,     1.26,2, -999.000,9, -999.000,9, -999.000,9, -999.000,9,   -999.0,9,  -999.00,9,   -999.0,9,   -999.0,9,-999.0000,9,  -999.0,9, -999.0, -999.00,9,  -999.0,  -999.0, -999.00,9
31RBOACES24N_2,  AR01,   103,  1,      2,2,19980219,1326, 26.4997, -74.2505, 4553,   4388.9,   2.2370,  34.8880,  34.8890,2,    269.5,2,     268.9,2,    33.40,2,    18.95,2,     0.01,2,     1.31,2, -999.000,9, -999.000,9, -999.000,9, -999.000,9,   -999.0,9,  -999.00,9,   -999.0,9,   -999.0,9,-999.0000,9,  -999.0,9, -999.0, -999.00,9,  -999.0,  -999.0, -999.00,9
31RBOACES24N_2,  AR01,   103,  1,      1,2,19980219,1326, 26.4997, -74.2505, 4553,   4605.0,   2.2020,  34.8800,  34.8810,2,    263.9,2,     264.6,2,    38.50,6,    19.73,6,     0.01,6,     1.38,6, -999.000,9, -999.000,9, -999.000,9, -999.000,9,   -999.0,9,  -999.00,9,   -999.0,9,   -999.0,9,-999.0000,9,  -999.0,9, -999.0, -999.00,9,  -999.0,  -999.0, -999.00,9