BOTTLE,20220820CCHSIOAMB
EXPOCODE,SECT_ID,STNNBR,CASTNO,BTLNBR,BTLNBR_FLAG_W,DATE,TIME,LATITUDE,LONGITUDE,DEPTH,CTDPRS,CTDTMP,CTDSAL,SALNTY,SALNTY_FLAG_W,CTDOXY,CTDOXY_FLAG_W,OXYGEN,OXYGEN_FLAG_W,SILCAT,SILCAT_FLAG_W,NITRAT,NITRAT_FLAG_W,NITRIT,NITRIT_FLAG_W,PHSPHT,PHSPHT_FLAG_W,CFC-11,CFC-11_FLAG_W,CFC-12,CFC-12_FLAG_W,CFC113,CFC113_FLAG_W,CCL4,CCL4_FLAG_W,DELC14,DELC14_FLAG_W,DELC13,DELC13_FLAG_W,TCARBN,TCARBN_FLAG_W,ALKALI,ALKALI_FLAG_W,PH,PH_FLAG_W,FCO2,FCO2_FLAG_W,FCO2TMP,TON,TON_FLAG_W,FCO2IN,C14ERR,TOC,TOC_FLAG_W
,,,,,,,,,,,DBAR,ITS-90,PSS-78,PSS-78,,UMOL/KG,,UMOL/KG,,UMOL/KG,,UMOL/KG,,UMOL/KG,,UMOL/KG,,PMOL/KG,,PMOL/KG,,PMOL/KG,,PMOL/KG,,/MILLE,,/MILLE,,UMOL/KG,,UMOL/KG,,,,UATM,,DEG C,UMOL/KG,,UATM,/MILLE,UMOL/KG,
31RBOACES24N_2,  AR01,    74,  1,     36,2,19980211,1803, 24.4998, -58.1335, 5835,      6.9,  24.6120,  36.8120,  36.8120,2,    211.3,2,     212.4,2,     0.80,2,     0.00,2,     0.00,2,     0.01,2,    1.848,2,    1.073,2,    0.157,2, -999.000,9,   -999.0,9,     1.41,2,   2033.7,6,   2404.9,2,   8.1146,2,   265.5,2,   20.0,    4.23,2,   318.4,  -999.0,   73.48,2
31RBOACES24N_2,  AR01,    74,  1,     35,2,19980211,1803, 24.4998, -58.1335, 5835,     40.9,  24.4740,  36.8340,  36.8340,2,    210.8,2,     212.4,2,     0.80,2,     0.00,2,     0.00,2,     0.01,2,    1.840,2,    1.063,2,    0.145,2, -999.000,9,   -999.0,9,  -999.00,9,   2034.6,2,   2402.3,2,   8.1094,2,   267.4,2,   20.0,    4.28,2,   319.0,  -999.0,   73.18,2
31RBOACES24N_2,  AR01,    74,  1,     34,2,19980211,1803, 24.4998, -58.1335, 5835,     90.8,  24.1810,  36.9410,  36.9530,2,    215.1,2,     216.0,2,     0.60,2,     0.00,2,     0.00,2,     0.01,2,    1.940,2,    1.109,2,    0.175,2, -999.000,9,   -999.0,9,  -999.00,9,   2049.2,2,   2412.9,2,   8.1012,2,   277.5,2,   20.0,    4.20,2,   327.3,  -999.0,   70.82,2
31RBOACES24N_2,  AR01,    74,  1,     33,2,19980211,1803, 24.4998, -58.1335, 5835,    139.8,  21.8340,  37.0740,  37.0650,2,    197.5,2,     200.9,2,     0.50,2,     0.49,2,     0.03,2,     0.02,2,    2.136,2,    1.215,2,    0.131,2, -999.000,9,   -999.0,9,  -999.00,9,   2096.2,2,   2418.4,2,   8.0369,2,   304.3,3,   20.0,    4.19,2,   327.4,  -999.0,   55.86,2
31RBOACES24N_2,  AR01,    74,  1,     32,2,19980211,1803, 24.4998, -58.1335, 5835,    190.4,  19.4960,  36.7400,  36.7400,2,    197.7,2,     201.0,2,     0.70,2,     1.27,2,     0.01,2,     0.04,2,    2.286,6,    1.283,6,    0.078,6, -999.000,9,   -999.0,9,  -999.00,9,   2098.0,2,   2398.6,2,   8.0047,2,   369.3,2,   20.0,    4.63,2,   361.8,  -999.0,   53.11,2
31RBOACES24N_2,  AR01,    74,  1,     31,2,19980211,1803, 24.4998, -58.1335, 5835,    211.5,  19.0120,  36.6710,  36.6710,2,    197.4,2,     201.0,2,     0.80,2,     1.95,2,     0.01,2,     0.07,2,    2.316,2,    1.301,2,    0.051,2, -999.000,9,   -999.0,9,  -999.00,9,   2099.3,2,   2392.8,2,   7.9987,2,   353.2,3,   20.0,    5.34,2,   339.4,  -999.0,   51.06,2
31RBOACES24N_2,  AR01,    74,  1,     30,2,19980211,1803, 24.4998, -58.1335, 5835,    240.4,  18.5560,  36.6020,  36.6040,2,    200.1,2,     203.9,2,     1.00,2,     2.83,2,     0.00,2,     0.12,2,    2.353,2,    1.307,2,    0.057,2, -999.000,9,   -999.0,9,  -999.00,9,   2096.7,2,   2389.2,2,   7.9953,2,   353.4,3,   20.0,    6.81,2,   333.3,  -999.0,   49.88,2
31RBOACES24N_2,  AR01,    74,  1,     29,2,19980211,1803, 24.4998, -58.1335, 5835,    265.1,  18.3000,  36.5630,  36.5650,2,    203.6,2,     206.6,2,     1.10,2,     3.32,2,     0.00,2,     0.15,2,    2.369,2,    1.317,2,    0.038,2, -999.000,9,   -999.0,9,  -999.00,9,   2095.9,2,   2385.6,2,   7.9930,2,  -999.0,9, -999.0, -999.00,9,  -999.0,  -999.0,   48.03,2
31RBOACES24N_2,  AR01,    74,  1,     28,2,19980211,1803, 24.4998, -58.1335, 5835,    288.5,  18.1460,  36.5420,  36.5420,2,    204.5,2,     206.7,2,     1.20,2,     3.71,2,     0.00,2,     0.17,2,    2.344,2,    1.302,2,    0.029,2, -999.000,9,   -999.0,9,  -999.00,9,   2093.2,2,   2384.8,2,   7.9918,2,   384.3,2,   20.0, -999.00,9,   356.6,  -999.0, -999.00,9
31RBOACES24N_2,  AR01,    74,  1,     27,2,19980211,1803, 24.4998, -58.1335, 5835,    355.6,  17.7200,  36.4770,  36.4760,2,    201.1,2,     201.3,2,     1.60,2,     4.88,2,     0.00,2,     0.25,2,    2.280,2,    1.243,2,    0.033,2, -999.000,9,   -999.0,9,  -999.00,9,   2103.3,2,   2380.5,2,   7.9709,2,  -999.0,9, -999.0,    7.85,2,  -999.0,  -999.0,   47.35,2
31RBOACES24N_2,  AR01,    74,  1,     26,2,19980211,1803, 24.4998, -58.1335, 5835,    416.1,  16.7170,  36.3160,  36.3170,2,    192.4,2,     191.4,2,     2.30,2,     7.32,2,     0.00,2,     0.40,2,    2.185,2,    1.168,2,    0.033,2, -999.000,9,   -999.0,9,  -999.00,9,   2118.2,2,   2374.0,2,   7.9330,2,   438.5,2,   20.0, -999.00,9,   384.0,  -999.0, -999.00,9
31RBOACES24N_2,  AR01,    74,  1,     25,2,19980211,1803, 24.4998, -58.1335, 5835,    475.7,  15.5820,  36.1300,  36.1340,2,    187.4,2,     184.7,2,     3.20,2,     9.66,2,     0.00,2,     0.55,2,    2.087,2,    1.107,2,    0.028,2, -999.000,9,   -999.0,9,  -999.00,9,   2128.1,2,   2362.7,2,   7.8946,2,  -999.0,9, -999.0, -999.00,9,  -999.0,  -999.0,   45.39,2
31RBOACES24N_2,  AR01,    74,  1,     24,2,19980211,1803, 24.4998, -58.1335, 5835,    551.0,  14.3090,  35.9350,  35.9520,2,    178.2,2,     177.6,2,     4.30,2,    12.10,2,     0.00,2,     0.71,2,    1.894,2,    0.991,2,    0.024,2, -999.000,9,   -999.0,9,  -999.00,9,   2137.4,2,   2352.5,2,   7.8592,2,   534.2,2,   20.0, -999.00,9,   423.3,  -999.0, -999.00,9
31RBOACES24N_2,  AR01,    74,  1,     23,2,19980211,1803, 24.4998, -58.1335, 5835,    640.0,  12.8410,  35.7100,  35.7110,2,    170.6,2,     169.1,2,     6.30,2,    15.62,2,     0.00,2,     0.93,2,    1.391,2,    0.716,2,    0.019,2, -999.000,9,   -999.0,9,  -999.00,9,   2151.9,2,   -999.0,5,   7.8078,2,   603.4,2,   20.0, -999.00,9,   449.8,  -999.0,   43.62,2
31RBOACES24N_2,  AR01,    74,  1,     22,2,19980211,1803, 24.4998, -58.1335, 5835,    750.5,  10.5470,  35.3830,  35.3870,2,    150.2,2,     149.5,2,    11.20,2,    21.68,2,     0.00,2,     1.36,2,    0.618,2,    0.326,2,    0.011,2, -999.000,9,   -999.0,9,  -999.00,9,   2175.8,2,   -999.0,5,   7.7247,2,   744.8,2,   20.0, -999.00,9,   504.6,  -999.0, -999.00,9
31RBOACES24N_2,  AR01,    74,  1,     21,2,19980211,1803, 24.4998, -58.1335, 5835,    799.6,   9.9220,  35.3180,  35.3190,2,    153.4,2,     151.2,2,    12.50,2,    22.56,2,     0.00,2,     1.43,2, -999.000,9, -999.000,9, -999.000,9, -999.000,9,   -999.0,9,  -999.00,9,   2180.4,2,   2329.4,2,   7.7125,2,   765.0,2,   20.0,   24.47,2,   504.5,  -999.0,   42.54,2
31RBOACES24N_2,  AR01,    74,  1,     20,2,19980211,1803, 24.4998, -58.1335, 5835,    850.2,   9.3260,  35.2710,  35.2620,2,    152.5,2,     154.2,2,    13.80,2,    23.15,2,     0.00,2,     1.48,2,    0.388,2,    0.209,2,    0.007,2, -999.000,9,   -999.0,9,  -999.00,9,   2182.5,2,   2324.8,2,   7.7006,2,   792.9,2,   20.0, -999.00,9,   509.8,  -999.0, -999.00,9
31RBOACES24N_2,  AR01,    74,  1,     19,2,19980211,1803, 24.4998, -58.1335, 5835,    924.6,   7.9580,  35.1300,  35.1260,2,    155.2,2,     155.9,2,    16.60,2,    25.00,2,     0.00,2,     1.63,2,    0.220,2,    0.119,2,    0.010,2, -999.000,9,   -999.0,9,  -999.00,9,   2189.7,2,   2323.0,2,   7.6708,2,   846.6,2,   20.0, -999.00,9,   513.1,  -999.0,   41.66,2
31RBOACES24N_2,  AR01,    74,  1,     18,2,19980211,1803, 24.4998, -58.1335, 5835,   1001.0,   6.9610,  35.0650,  35.0660,2,    166.0,2,     167.3,2,    17.80,2,    25.10,2,     0.00,2,     1.66,2,    0.165,2,    0.087,2,    0.011,2, -999.000,9,   -999.0,9,  -999.00,9,   2188.8,6,   -999.0,5,   7.6667,2,   865.8,2,   20.0, -999.00,9,   502.1,  -999.0, -999.00,9
31RBOACES24N_2,  AR01,    74,  1,     17,2,19980211,1803, 24.4998, -58.1335, 5835,   1199.5,   5.8010,  35.0760,  35.0760,2,    208.1,2,     206.7,6,    16.10,2,    21.68,2,     0.00,2,     1.45,2,    0.208,2,    0.113,2,    0.011,2, -999.000,9,   -999.0,9,  -999.00,9,   2178.4,2,   -999.0,9,   7.6997,2,   793.5,2,   20.0,   23.63,2,   434.9,  -999.0,   41.45,2
31RBOACES24N_2,  AR01,    74,  1,     16,2,19980211,1803, 24.4998, -58.1335, 5835,   1399.1,   4.9630,  35.0660,  35.0660,2,    241.0,2,     240.3,2,    14.00,2,    19.05,2,     0.00,2,     1.27,2,    0.355,6,    0.184,6,    0.011,6, -999.000,9,   -999.0,9,  -999.00,9,   2167.6,2,   -999.0,9,   7.7263,2,   739.6,2,   20.0, -999.00,9,   388.9,  -999.0, -999.00,9
31RBOACES24N_2,  AR01,    74,  1,     15,2,19980211,1803, 24.4998, -58.1335, 5835,   1599.2,   4.4890,  35.0540,  35.0550,2,    251.6,2,     251.4,2,    14.70,2,    18.56,2,     0.00,2,     1.24,2,    0.218,2,    0.117,2,    0.012,2, -999.000,9,   -999.0,9,  -999.00,9,   2165.2,2,   -999.0,9,   7.7338,2,   717.0,2,   20.0, -999.00,9,   368.2,  -999.0,   41.93,2
31RBOACES24N_2,  AR01,    74,  1,     14,2,19980211,1803, 24.4998, -58.1335, 5835,   1802.7,   4.1670,  35.0470,  35.0470,2,    253.4,2,     253.4,2,    17.20,2,    18.66,2,     0.00,2,     1.25,2,    0.096,2,    0.057,2,    0.007,2, -999.000,9,   -999.0,9,  -999.00,9,   2164.7,2,   -999.0,9,   7.7382,2,   720.7,2,   20.0, -999.00,9,   364.4,  -999.0, -999.00,9
31RBOACES24N_2,  AR01,    74,  1,     13,2,19980211,1803, 24.4998, -58.1335, 5835,   1998.3,   3.7450,  35.0190,  35.0190,2,    254.3,2,     255.4,2,    20.80,2,    18.95,2,     0.00,2,     1.28,2,    0.024,2,    0.017,2,    0.005,2, -999.000,9,   -999.0,9,  -999.00,9,   2169.8,2,   -999.0,9,   7.7375,2,   716.5,2,   20.0, -999.00,9,   354.6,  -999.0,   45.14,3
31RBOACES24N_2,  AR01,    74,  1,     12,2,19980211,1803, 24.4998, -58.1335, 5835,   2248.0,   3.4110,  34.9900,  34.9910,2,    256.1,2,     257.1,2,    23.70,2,    19.24,2,     0.00,2,     1.30,2,    0.010,2,    0.006,2,    0.004,2, -999.000,9,   -999.0,9,  -999.00,9,   2170.1,2,   -999.0,9,   7.7382,2,   721.8,2,   20.0, -999.00,9,   351.4,  -999.0, -999.00,9
31RBOACES24N_2,  AR01,    74,  1,     11,2,19980211,1803, 24.4998, -58.1335, 5835,   2500.2,   3.1280,  34.9660,  34.9660,2,    257.0,2,     257.9,2,    27.00,2,    19.54,2,     0.00,2,     1.33,2,    0.007,2,    0.005,2,    0.000,2, -999.000,9,   -999.0,9,  -999.00,9,   2174.3,2,   2331.7,2,   7.7377,2,   718.9,2,   20.0,   21.44,2,   344.9,  -999.0,   40.96,2
31RBOACES24N_2,  AR01,    74,  1,     10,2,19980211,1803, 24.4998, -58.1335, 5835,   2761.2,   2.9320,  34.9490,  34.9500,2,    257.2,2,     258.2,2,    29.70,2,    19.73,2,     0.00,2,     1.35,2,    0.003,2,    0.001,2,    0.004,2, -999.000,9,   -999.0,9,  -999.00,9,   2175.9,2,   -999.0,9,   7.7364,2,   726.4,2,   20.0, -999.00,9,   345.1,  -999.0, -999.00,9
31RBOACES24N_2,  AR01,    74,  1,      9,2,19980211,1803, 24.4998, -58.1335, 5835,   3000.3,   2.8000,  34.9380,  34.9370,2,    259.2,2,     259.7,2,    31.60,2,    19.73,2,     0.00,2,     1.36,2,    0.008,2,    0.002,2,    0.006,2, -999.000,9,   -999.0,9,  -999.00,9,   2176.8,2,   -999.0,9,   7.7345,2,   714.2,2,   20.0, -999.00,9,   336.7,  -999.0,   41.15,2
31RBOACES24N_2,  AR01,    74,  1,      8,2,19980211,1803, 24.4998, -58.1335, 5835,   3300.1,   2.6140,  34.9220,  34.9220,2,    260.1,2,     261.5,2,    34.30,2,    19.93,2,     0.00,2,     1.37,2,    0.005,2,    0.001,2,    0.000,2,    0.132,2,   -999.0,9,  -999.00,9,   2179.1,2,   -999.0,9,   7.7363,2,   725.5,2,   20.0, -999.00,9,   339.0,  -999.0, -999.00,9
31RBOACES24N_2,  AR01,    74,  1,      7,2,19980211,1803, 24.4998, -58.1335, 5835,   3599.6,   2.4850,  34.9100,  34.9110,2,    261.3,2,     263.6,2,    34.80,2,    19.73,2,     0.00,2,     1.36,2,    0.026,2,    0.013,2,    0.003,2, -999.000,9,   -999.0,9,  -999.00,9,   2176.2,2,   -999.0,5,   7.7336,2,   728.4,2,   20.0, -999.00,9,   338.3,  -999.0,   41.06,2
31RBOACES24N_2,  AR01,    74,  1,      6,2,19980211,1803, 24.4998, -58.1335, 5835,   3900.0,   2.3650,  34.8990,  34.8990,2,    264.0,2,     264.3,2,    37.00,2,    19.83,2,     0.00,2,     1.37,2,    0.023,2,    0.015,2,    0.001,2,    0.197,2,   -999.0,9,  -999.00,9,   2177.2,2,   -999.0,9,   7.7334,2,   730.5,6,   20.0, -999.00,9,   337.1,  -999.0, -999.00,9
31RBOACES24N_2,  AR01,    74,  1,      5,2,19980211,1803, 24.4998, -58.1335, 5835,   4201.7,   2.2940,  34.8910,  34.8920,2,    264.1,2,     265.1,2,    37.90,2,    19.83,2,     0.00,2,     1.37,2,    0.032,6,    0.018,6,    0.012,6,    0.237,2,   -999.0,9,  -999.00,9,   2179.5,2,   -999.0,5,   7.7313,2,  -999.0,9, -999.0, -999.00,9,  -999.0,  -999.0,   42.90,2
31RBOACES24N_2,  AR01,    74,  1,      4,2,19980211,1803, 24.4998, -58.1335, 5835,   4500.0,   2.2480,  34.8870,  34.8870,2,    266.5,2,     266.1,2,    38.50,2,    19.73,2,     0.00,2,     1.37,2,    0.059,2,    0.037,2,    0.003,2,    0.327,6,   -999.0,9,  -999.00,9,   2180.2,2,   -999.0,9,   7.7306,2,  -999.0,9, -999.0, -999.00,9,  -999.0,  -999.0, -999.00,9
31RBOACES24N_2,  AR01,    74,  1,      3,2,19980211,1803, 24.4998, -58.1335, 5835,   4898.5,   2.1300,  34.8680,  34.8680,2,    260.8,2,     261.1,2,    46.70,2,    21.00,2,     0.00,2,     1.46,2,    0.039,2,    0.023,2,    0.006,2,    0.251,2,   -999.0,9,  -999.00,9,   2188.0,2,   -999.0,5,   7.7212,2,   764.6,2,   20.0, -999.00,9,   348.6,  -999.0,   41.25,2
31RBOACES24N_2,  AR01,    74,  1,      2,2,19980211,1803, 24.4998, -58.1335, 5835,   5401.7,   2.0060,  34.8450,  34.8450,2,    252.9,2,     254.3,2,    57.00,2,    22.57,2,     0.00,2,     1.58,2,    0.024,2,    0.021,2,    0.008,2,    0.188,2,   -999.0,9,  -999.00,9,   2202.1,2,   -999.0,9,   7.7070,2,   790.7,2,   20.0, -999.00,9,   357.9,  -999.0, -999.00,9
31RBOACES24N_2,  AR01,    74,  1,      1,2,19980211,1803, 24.4998, -58.1335, 5835,   5931.6,   2.0560,  34.8410,  34.8420,2,    252.1,2,     253.6,2,    58.10,6,    22.76,6,     0.00,6,     1.60,6,    0.030,2,    0.021,2,    0.004,2,    0.207,2,   -999.0,9,  -999.00,9,   2204.2,2,   -999.0,5,   7.7043,2,   794.3,2,   20.0,   24.60,2,   360.4,  -999.0,   40.96,2