BOTTLE,20220820CCHSIOAMB
EXPOCODE,SECT_ID,STNNBR,CASTNO,BTLNBR,BTLNBR_FLAG_W,DATE,TIME,LATITUDE,LONGITUDE,DEPTH,CTDPRS,CTDTMP,CTDSAL,SALNTY,SALNTY_FLAG_W,CTDOXY,CTDOXY_FLAG_W,OXYGEN,OXYGEN_FLAG_W,SILCAT,SILCAT_FLAG_W,NITRAT,NITRAT_FLAG_W,NITRIT,NITRIT_FLAG_W,PHSPHT,PHSPHT_FLAG_W,CFC-11,CFC-11_FLAG_W,CFC-12,CFC-12_FLAG_W,CFC113,CFC113_FLAG_W,CCL4,CCL4_FLAG_W,DELC14,DELC14_FLAG_W,DELC13,DELC13_FLAG_W,TCARBN,TCARBN_FLAG_W,ALKALI,ALKALI_FLAG_W,PH,PH_FLAG_W,FCO2,FCO2_FLAG_W,FCO2TMP,TON,TON_FLAG_W,FCO2IN,C14ERR,TOC,TOC_FLAG_W
,,,,,,,,,,,DBAR,ITS-90,PSS-78,PSS-78,,UMOL/KG,,UMOL/KG,,UMOL/KG,,UMOL/KG,,UMOL/KG,,UMOL/KG,,PMOL/KG,,PMOL/KG,,PMOL/KG,,PMOL/KG,,/MILLE,,/MILLE,,UMOL/KG,,UMOL/KG,,,,UATM,,DEG C,UMOL/KG,,UATM,/MILLE,UMOL/KG,
31RBOACES24N_2,  AR01,   108,  1,     36,2,19980220,1149, 26.5002, -75.5002, 4688,      3.8,  22.4250,  36.6680,  36.6670,2,    218.0,2,     218.5,2,     0.40,2,     0.00,3,     0.01,2,     0.01,2,    2.045,2,    1.176,2,    0.167,2,    2.100,2,   -999.0,9,     1.18,2,   2042.2,2,   2396.9,2,   8.0860,2,   289.3,2,   20.0, -999.00,9,   318.6,  -999.0, -999.00,9
31RBOACES24N_2,  AR01,   108,  1,     35,2,19980220,1149, 26.5002, -75.5002, 4688,     48.0,  22.1140,  36.6720,  36.6760,2,    218.0,2,     218.2,6,     0.40,2,     0.00,3,     0.01,2,     0.01,2,    2.039,2,    1.172,2,    0.163,2, -999.000,9,   -999.0,9,  -999.00,9,   -999.0,9,   -999.0,9,-999.0000,9,  -999.0,9, -999.0, -999.00,9,  -999.0,  -999.0, -999.00,9
31RBOACES24N_2,  AR01,   108,  1,     34,2,19980220,1149, 26.5002, -75.5002, 4688,     74.8,  21.8860,  36.6820,  36.6820,2,    217.6,2,     215.8,2,     0.40,2,     0.10,3,     0.04,2,     0.02,2,    2.052,2,    1.176,2,    0.159,2, -999.000,9,   -999.0,9,  -999.00,9,   2048.8,2,   2410.1,2,   8.0777,2,   304.7,2,   20.0, -999.00,9,   328.5,  -999.0, -999.00,9
31RBOACES24N_2,  AR01,   108,  1,     33,2,19980220,1149, 26.5002, -75.5002, 4688,    100.8,  21.6750,  36.6700,  36.6700,2,    214.5,2,     216.0,2,     0.40,2,     0.00,3,     0.07,2,     0.02,2,    2.079,2,    1.191,2,    0.161,2, -999.000,9,   -999.0,9,  -999.00,9,   2049.7,2,   2397.2,2,   8.0753,2,   299.2,2,   20.0, -999.00,9,   320.1,  -999.0, -999.00,9
31RBOACES24N_2,  AR01,   108,  1,     32,2,19980220,1149, 26.5002, -75.5002, 4688,    150.7,  21.1690,  36.7820,  36.7890,2,    207.4,2,     207.0,2,     0.30,2,     0.59,3,     0.05,2,     0.03,2,    2.182,2,    1.237,2,    0.132,2, -999.000,9,   -999.0,9,  -999.00,9,   2076.7,2,   -999.0,9,   8.0429,2,   327.2,2,   20.0, -999.00,9,   343.0,  -999.0, -999.00,9
31RBOACES24N_2,  AR01,   108,  1,     31,2,19980220,1149, 26.5002, -75.5002, 4688,    173.5,  20.3320,  36.8050,  36.7930,2,    206.6,2,     200.1,2,     0.30,2,     0.88,3,     0.02,2,     0.04,2,    2.234,2,    1.264,2,    0.087,2, -999.000,9,   -999.0,9,  -999.00,9,   -999.0,9,   -999.0,9,-999.0000,9,  -999.0,9, -999.0, -999.00,9,  -999.0,  -999.0, -999.00,9
31RBOACES24N_2,  AR01,   108,  1,     30,2,19980220,1149, 26.5002, -75.5002, 4688,    200.6,  19.5580,  36.7230,  36.7230,2,    195.7,2,     196.0,2,     0.50,2,     1.46,3,     0.02,2,     0.06,2,    2.262,2,    1.263,2,    0.055,2, -999.000,9,   -999.0,9,  -999.00,9,   -999.0,9,   -999.0,9,-999.0000,9,  -999.0,9, -999.0, -999.00,9,  -999.0,  -999.0, -999.00,9
31RBOACES24N_2,  AR01,   108,  1,     29,2,19980220,1149, 26.5002, -75.5002, 4688,    224.9,  19.1350,  36.6720,  36.6720,2,    192.1,2,     196.7,2,     0.60,2,     2.05,3,     0.01,2,     0.09,2, -999.000,9, -999.000,9, -999.000,9, -999.000,9,   -999.0,9,  -999.00,9,   2101.5,2,   -999.0,5,   7.9983,2,   372.0,2,   20.0, -999.00,9,   359.3,  -999.0, -999.00,9
31RBOACES24N_2,  AR01,   108,  1,     28,2,19980220,1149, 26.5002, -75.5002, 4688,    249.9,  18.8490,  36.6330,  36.6320,2,    196.4,2,     199.0,2,     0.60,2,     2.44,3,     0.01,2,     0.11,2,    2.317,2,    1.286,2,    0.034,2, -999.000,9,   -999.0,9,  -999.00,9,   -999.0,9,   -999.0,9,-999.0000,9,  -999.0,9, -999.0, -999.00,9,  -999.0,  -999.0, -999.00,9
31RBOACES24N_2,  AR01,   108,  1,     27,2,19980220,1149, 26.5002, -75.5002, 4688,    269.6,  18.6370,  36.6040,  36.6070,2,    198.1,2,     200.3,2,     0.70,2,     2.73,3,     0.01,2,     0.13,2, -999.000,9, -999.000,9, -999.000,9, -999.000,9,   -999.0,9,  -999.00,9,   2098.3,2,   2391.7,2,   7.9964,2,  -999.0,9, -999.0, -999.00,9,  -999.0,  -999.0, -999.00,9
31RBOACES24N_2,  AR01,   108,  1,     26,2,19980220,1149, 26.5002, -75.5002, 4688,    300.1,  18.4680,  36.5860,  36.5860,2,    198.0,2,     198.3,2,     0.80,2,     3.32,3,     0.01,2,     0.16,2,    2.321,6,    1.271,6,    0.022,6, -999.000,9,   -999.0,9,  -999.00,9,   -999.0,9,   -999.0,9,-999.0000,9,  -999.0,9, -999.0, -999.00,9,  -999.0,  -999.0, -999.00,9
31RBOACES24N_2,  AR01,   108,  1,     25,2,19980220,1149, 26.5002, -75.5002, 4688,    349.7,  18.2040,  36.5490,  36.5470,2,    203.8,2,     201.6,2,     1.00,2,     3.61,3,     0.01,2,     0.19,2, -999.000,9, -999.000,9, -999.000,9, -999.000,9,   -999.0,9,  -999.00,9,   2100.4,2,   2388.4,2,   7.9877,2,   389.2,2,   20.0, -999.00,9,   362.0,  -999.0, -999.00,9
31RBOACES24N_2,  AR01,   108,  1,     24,2,19980220,1149, 26.5002, -75.5002, 4688,    400.1,  17.9760,  36.5150,  36.5160,2,    201.9,2,     202.5,2,     1.10,2,     4.00,3,     0.01,2,     0.22,2,    2.294,2,    1.253,2,    0.024,2, -999.000,9,   -999.0,9,  -999.00,9,   -999.0,9,   -999.0,9,-999.0000,9,  -999.0,9, -999.0, -999.00,9,  -999.0,  -999.0, -999.00,9
31RBOACES24N_2,  AR01,   108,  1,     23,2,19980220,1149, 26.5002, -75.5002, 4688,    448.9,  17.5800,  36.4450,  36.4570,2,    192.7,2,     194.6,2,     1.50,2,     5.17,3,     0.01,2,     0.29,2, -999.000,9, -999.000,9, -999.000,9, -999.000,9,   -999.0,9,  -999.00,9,   -999.0,9,   -999.0,9,-999.0000,9,  -999.0,9, -999.0, -999.00,9,  -999.0,  -999.0, -999.00,9
31RBOACES24N_2,  AR01,   108,  1,     22,2,19980220,1149, 26.5002, -75.5002, 4688,    550.3,  16.1300,  36.1960,  36.1920,2,    179.5,2,     179.5,2,     2.70,2,     8.78,3,     0.01,2,     0.53,2,    1.953,2,    1.030,2,    0.026,2, -999.000,9,   -999.0,9,  -999.00,9,   2129.1,2,   2369.4,2,   7.9062,2,   471.2,2,   20.0, -999.00,9,   402.6,  -999.0, -999.00,9
31RBOACES24N_2,  AR01,   108,  1,     21,2,19980220,1149, 26.5002, -75.5002, 4688,    649.7,  14.0310,  35.8590,  35.8710,2,    170.3,2,     169.0,2,     5.00,2,    12.78,3,     0.01,2,     0.82,2,    1.599,2,    0.829,2,    0.026,2, -999.000,9,   -999.0,9,  -999.00,9,   2146.6,2,   2353.4,2,   7.8405,2,  -999.0,9, -999.0, -999.00,9,  -999.0,  -999.0, -999.00,9
31RBOACES24N_2,  AR01,   108,  1,     20,2,19980220,1149, 26.5002, -75.5002, 4688,    749.1,  12.4390,  35.6260,  35.6140,2,    162.6,2,     160.6,2,     7.50,2,    16.30,3,     0.01,2,     1.07,2, -999.000,9, -999.000,9, -999.000,9, -999.000,9,   -999.0,9,  -999.00,9,   2161.3,2,   -999.0,5,   7.7854,2,   651.1,2,   20.0, -999.00,9,   477.5,  -999.0, -999.00,9
31RBOACES24N_2,  AR01,   108,  1,     19,2,19980220,1149, 26.5002, -75.5002, 4688,    849.3,   9.8790,  35.3110,  35.3150,2,    155.7,2,     154.3,2,    11.70,2,    20.50,3,     0.01,2,     1.39,2,    0.729,2,    0.374,2,    0.019,2, -999.000,9,   -999.0,9,  -999.00,9,   2180.1,2,   2327.8,2,   7.7176,2,   758.8,2,   20.0, -999.00,9,   499.4,  -999.0, -999.00,9
31RBOACES24N_2,  AR01,   108,  1,     18,2,19980220,1149, 26.5002, -75.5002, 4688,    990.0,   7.6090,  35.1200,  35.1170,2,    169.0,2,     167.3,2,    15.30,2,    22.36,3,     0.01,2,     1.56,2,    0.422,2,    0.219,2,    0.008,2, -999.000,9,   -999.0,9,  -999.00,9,   2188.8,6,   2325.0,2,   7.6811,2,   835.2,2,   20.0, -999.00,9,   498.1,  -999.0, -999.00,9
31RBOACES24N_2,  AR01,   108,  1,     17,2,19980220,1149, 26.5002, -75.5002, 4688,   1199.5,   5.7280,  35.0880,  35.0900,2,    215.7,2,     217.2,2,    13.80,2,    19.23,3,     0.01,2,     1.35,2,    0.554,2,    0.279,2,    0.017,2, -999.000,9,   -999.0,9,  -999.00,9,   2176.9,2,   -999.0,5,   7.7090,2,   775.8,2,   20.0, -999.00,9,   423.6,  -999.0, -999.00,9
31RBOACES24N_2,  AR01,   108,  1,     16,2,19980220,1149, 26.5002, -75.5002, 4688,   1399.5,   4.7360,  35.0310,  35.0310,2,    248.6,2,     248.5,2,    12.60,2,    17.57,3,     0.01,2,     1.24,2,    0.971,6,    0.476,6,    0.039,6, -999.000,9,   -999.0,9,  -999.00,9,   -999.0,9,   -999.0,9,-999.0000,9,  -999.0,9, -999.0, -999.00,9,  -999.0,  -999.0, -999.00,9
31RBOACES24N_2,  AR01,   108,  1,     15,2,19980220,1149, 26.5002, -75.5002, 4688,   1599.6,   4.2640,  35.0090,  35.0060,2,    259.8,2,     260.4,2,    12.90,2,    17.09,3,     0.01,2,     1.20,2,    0.806,2,    0.398,2,    0.030,2, -999.000,9,   -999.0,9,  -999.00,9,   2163.7,2,   2323.5,2,   7.7307,2,   733.2,2,   20.0, -999.00,9,   373.1,  -999.0, -999.00,9
31RBOACES24N_2,  AR01,   108,  1,     14,2,19980220,1149, 26.5002, -75.5002, 4688,   1800.5,   3.9510,  34.9900,  34.9900,2,    265.5,2,     264.9,2,    13.80,2,    16.99,3,     0.01,2,     1.20,2,    0.670,2,    0.334,2,    0.026,2, -999.000,9,   -999.0,9,  -999.00,9,   2162.0,2,   2319.9,2,   7.7359,2,  -999.0,9, -999.0, -999.00,9,  -999.0,  -999.0, -999.00,9
31RBOACES24N_2,  AR01,   108,  1,     13,2,19980220,1149, 26.5002, -75.5002, 4688,   2000.0,   3.6630,  34.9680,  34.9680,2,    267.7,2,     269.4,2,    14.50,2,    16.89,3,     0.01,2,     1.19,2,    0.735,2,    0.362,2,    0.033,2, -999.000,9,   -999.0,9,  -999.00,9,   -999.0,9,   -999.0,9,-999.0000,9,  -999.0,9, -999.0, -999.00,9,  -999.0,  -999.0, -999.00,9
31RBOACES24N_2,  AR01,   108,  1,     12,2,19980220,1149, 26.5002, -75.5002, 4688,   2200.7,   3.5610,  34.9800,  34.9790,2,    266.1,2,     265.9,2,    16.80,2,    17.38,3,     0.01,2,     1.21,2, -999.000,9, -999.000,9, -999.000,9, -999.000,9,   -999.0,9,  -999.00,9,   2163.2,2,   -999.0,5,   7.7388,2,  -999.0,9, -999.0, -999.00,9,  -999.0,  -999.0, -999.00,9
31RBOACES24N_2,  AR01,   108,  1,     11,2,19980220,1149, 26.5002, -75.5002, 4688,   2398.8,   3.3500,  34.9670,  34.9680,2,    266.4,2,     267.4,2,    18.20,2,    17.28,3,     0.01,2,     1.23,2,    0.250,2,    0.128,2,    0.014,2,    0.759,2,   -999.0,9,  -999.00,9,   2162.4,2,   -999.0,9,   7.7396,2,   722.1,2,   20.0, -999.00,9,   351.0,  -999.0, -999.00,9
31RBOACES24N_2,  AR01,   108,  1,     10,2,19980220,1149, 26.5002, -75.5002, 4688,   2593.0,   3.1520,  34.9540,  34.9530,2,    268.9,2,     269.0,2,    18.90,2,    17.19,3,     0.01,2,     1.22,2, -999.000,9, -999.000,9, -999.000,9, -999.000,9,   -999.0,9,  -999.00,9,   -999.0,9,   -999.0,9,-999.0000,9,  -999.0,9, -999.0, -999.00,9,  -999.0,  -999.0, -999.00,9
31RBOACES24N_2,  AR01,   108,  1,      9,2,19980220,1149, 26.5002, -75.5002, 4688,   2798.2,   2.9540,  34.9420,  34.9410,2,    270.4,2,     271.4,2,    19.70,2,    16.99,3,     0.01,2,     1.21,2, -999.000,9, -999.000,9, -999.000,9,    0.871,2,   -999.0,9,  -999.00,9,   2162.2,2,   -999.0,5,   7.7392,2,  -999.0,9, -999.0, -999.00,9,  -999.0,  -999.0, -999.00,9
31RBOACES24N_2,  AR01,   108,  1,      8,2,19980220,1149, 26.5002, -75.5002, 4688,   3000.7,   2.7890,  34.9330,  34.9330,2,    271.6,2,     272.5,2,    20.80,2,    16.99,3,     0.01,2,     1.21,2,    0.404,2,    0.198,2,    0.011,2,    0.998,2,   -999.0,9,  -999.00,9,   -999.0,9,   -999.0,9,-999.0000,9,  -999.0,9, -999.0, -999.00,9,  -999.0,  -999.0, -999.00,9
31RBOACES24N_2,  AR01,   108,  1,      7,2,19980220,1149, 26.5002, -75.5002, 4688,   3249.0,   2.6190,  34.9220,  34.9220,2,    274.8,2,     274.5,2,    21.80,2,    16.99,3,     0.01,2,     1.20,2,    0.462,2,    0.225,2,    0.019,2,    1.097,2,   -999.0,9,  -999.00,9,   2163.5,2,   -999.0,5,   7.7387,2,  -999.0,9, -999.0, -999.00,9,  -999.0,  -999.0, -999.00,9
31RBOACES24N_2,  AR01,   108,  1,      6,2,19980220,1149, 26.5002, -75.5002, 4688,   3496.7,   2.4540,  34.9130,  34.9110,2,    274.4,2,     275.3,2,    23.50,2,    16.99,3,     0.01,2,     1.21,2,    0.524,2,    0.261,2,    0.026,2,    1.117,2,   -999.0,9,  -999.00,9,   2165.3,2,   2328.2,2,   7.7365,2,   722.0,2,   20.0, -999.00,9,   335.7,  -999.0, -999.00,9
31RBOACES24N_2,  AR01,   108,  1,      5,2,19980220,1149, 26.5002, -75.5002, 4688,   3747.6,   2.3400,  34.9040,  34.9030,2,    274.9,2,     274.9,2,    25.90,2,    17.28,3,     0.01,2,     1.23,2,    0.553,2,    0.272,2,    0.032,2,    1.120,2,   -999.0,9,  -999.00,9,   2168.5,2,   -999.0,9,   7.7345,2,  -999.0,9, -999.0, -999.00,9,  -999.0,  -999.0, -999.00,9
31RBOACES24N_2,  AR01,   108,  1,      4,2,19980220,1149, 26.5002, -75.5002, 4688,   3968.7,   2.3020,  34.8990,  34.8990,2,    273.6,2,     273.4,2,    27.70,2,    17.58,3,     0.01,2,     1.24,2,    0.543,2,    0.270,2,    0.031,2,    1.088,2,   -999.0,9,  -999.00,9,   -999.0,9,   -999.0,9,-999.0000,9,  -999.0,9, -999.0, -999.00,9,  -999.0,  -999.0, -999.00,9
31RBOACES24N_2,  AR01,   108,  1,      3,2,19980220,1149, 26.5002, -75.5002, 4688,   4248.6,   2.2670,  34.8940,  34.8920,2,    272.1,2,     271.8,2,    30.80,2,    18.16,3,     0.01,2,     1.28,2,    0.462,2,    0.227,2,    0.028,2,    0.979,2,   -999.0,9,  -999.00,9,   2174.3,2,   2330.8,2,   7.7324,2,  -999.0,9, -999.0, -999.00,9,  -999.0,  -999.0, -999.00,9
31RBOACES24N_2,  AR01,   108,  1,      2,2,19980220,1149, 26.5002, -75.5002, 4688,   4476.1,   2.2510,  34.8900,  34.8890,2,    269.4,2,     268.9,2,    33.70,2,    18.75,3,     0.01,2,     1.31,2,    0.343,2,    0.178,2,    0.028,2,    0.808,2,   -999.0,9,  -999.00,9,   2178.4,2,   -999.0,9,   7.7314,2,  -999.0,9, -999.0, -999.00,9,  -999.0,  -999.0, -999.00,9
31RBOACES24N_2,  AR01,   108,  1,      1,2,19980220,1149, 26.5002, -75.5002, 4688,   4751.4,   2.2150,  34.8800,  34.8800,2,    264.0,2,     262.9,2,    39.20,6,    19.72,3,     0.01,6,     1.38,6,    0.228,2,    0.129,2,    0.021,2,    0.599,2,   -999.0,9,  -999.00,9,   2187.4,2,   -999.0,5,   7.7278,2,   748.1,6,   20.0, -999.00,9,   342.8,  -999.0, -999.00,9