BOTTLE,20220820CCHSIOAMB
EXPOCODE,SECT_ID,STNNBR,CASTNO,BTLNBR,BTLNBR_FLAG_W,DATE,TIME,LATITUDE,LONGITUDE,DEPTH,CTDPRS,CTDTMP,CTDSAL,SALNTY,SALNTY_FLAG_W,CTDOXY,CTDOXY_FLAG_W,OXYGEN,OXYGEN_FLAG_W,SILCAT,SILCAT_FLAG_W,NITRAT,NITRAT_FLAG_W,NITRIT,NITRIT_FLAG_W,PHSPHT,PHSPHT_FLAG_W,CFC-11,CFC-11_FLAG_W,CFC-12,CFC-12_FLAG_W,CFC113,CFC113_FLAG_W,CCL4,CCL4_FLAG_W,DELC14,DELC14_FLAG_W,DELC13,DELC13_FLAG_W,TCARBN,TCARBN_FLAG_W,ALKALI,ALKALI_FLAG_W,PH,PH_FLAG_W,FCO2,FCO2_FLAG_W,FCO2TMP,TON,TON_FLAG_W,FCO2IN,C14ERR,TOC,TOC_FLAG_W
,,,,,,,,,,,DBAR,ITS-90,PSS-78,PSS-78,,UMOL/KG,,UMOL/KG,,UMOL/KG,,UMOL/KG,,UMOL/KG,,UMOL/KG,,PMOL/KG,,PMOL/KG,,PMOL/KG,,PMOL/KG,,/MILLE,,/MILLE,,UMOL/KG,,UMOL/KG,,,,UATM,,DEG C,UMOL/KG,,UATM,/MILLE,UMOL/KG,
31RBOACES24N_2,  AR01,    42,  1,     36,2,19980203,0636, 24.5002, -39.2480, 5191,      3.4,  24.1640,  37.4980,  37.4990,2,    210.4,2,     210.4,2,     0.10,2,     0.00,2,     0.00,2,  -999.00,5,    1.841,2,    1.070,2,    0.149,2, -999.000,9,     77.1,2,     1.55,2,   2076.3,6,   2459.2,2,   8.0973,2,   309.4,3,   20.0, -999.00,9,   364.4,     4.0,   72.55,2
31RBOACES24N_2,  AR01,    42,  1,     35,2,19980203,0636, 24.5002, -39.2480, 5191,     49.2,  24.1830,  37.4950,  37.4980,2,    210.0,2,     210.6,6,     0.10,2,     0.00,2,     0.00,2,  -999.00,5,    1.845,2,    1.071,2,    0.170,2, -999.000,9,     73.3,2,     1.48,2,   2076.8,2,   2459.5,2,   8.0977,2,   231.5,2,   20.0, -999.00,9,   273.3,     3.0,   72.55,2
31RBOACES24N_2,  AR01,    42,  1,     34,2,19980203,0636, 24.5002, -39.2480, 5191,    101.0,  22.7560,  37.2880,  37.2780,2,    212.1,2,     214.8,2,     0.10,2,     0.00,2,     0.01,2,  -999.00,5,    2.070,6,    1.191,6,    0.181,6, -999.000,9,     89.7,2,     1.33,2,   2094.1,2,   -999.0,9,   8.0622,2,   269.4,2,   20.0, -999.00,9,   300.8,     3.3,   66.29,2
31RBOACES24N_2,  AR01,    42,  1,     33,2,19980203,0636, 24.5002, -39.2480, 5191,    150.2,  20.5800,  37.0090,  37.0290,2,    214.3,2,     213.3,2,     0.10,2,     0.10,2,     0.07,2,  -999.00,5,    2.218,2,    1.273,2,    0.150,2, -999.000,9,    104.8,2,     1.18,2,   2098.8,2,   2430.5,2,   8.0285,2,   291.9,2,   20.0, -999.00,9,   298.5,     4.6,   55.35,2
31RBOACES24N_2,  AR01,    42,  1,     32,2,19980203,0636, 24.5002, -39.2480, 5191,    191.1,  19.4990,  36.8560,  36.8630,2,    201.0,2,     203.6,2,     0.20,2,     1.46,2,     0.01,2,  -999.00,5,    2.259,2,    1.300,2,    0.128,2, -999.000,9,   -999.0,9,     1.01,2,   2105.9,2,   -999.0,9,   7.9978,2,   317.2,2,   20.0, -999.00,9,   310.8,  -999.0,   54.95,2
31RBOACES24N_2,  AR01,    42,  1,     31,2,19980203,0636, 24.5002, -39.2480, 5191,    220.9,  18.5430,  36.6950,  36.7110,2,    195.3,2,     190.5,2,     0.70,2,     3.30,2,     0.01,2,  -999.00,5,    2.298,2,    1.297,2,    0.046,2, -999.000,9,    102.8,2,     0.97,2,   2110.5,2,   -999.0,9,   7.9797,2,   339.3,2,   20.0, -999.00,9,   319.5,     4.1,   51.83,2
31RBOACES24N_2,  AR01,    42,  1,     30,2,19980203,0636, 24.5002, -39.2480, 5191,    249.4,  18.0260,  36.5890,  36.5890,2,    194.6,2,     197.3,2,     0.80,2,     4.27,2,     0.00,2,  -999.00,5,    2.313,2,    1.298,2,    0.034,2, -999.000,9,     88.5,2,     0.91,2,   2109.9,2,   2401.5,2,   7.9688,2,   356.4,2,   20.0, -999.00,9,   329.2,     3.5,   50.95,2
31RBOACES24N_2,  AR01,    42,  1,     29,2,19980203,0636, 24.5002, -39.2480, 5191,    270.1,  17.7000,  36.5200,  36.5240,2,    195.4,2,     197.1,2,     1.00,2,     4.95,2,     0.00,2,  -999.00,5,    2.311,2,    1.297,2,    0.031,2, -999.000,9,    100.2,2,     0.93,2,   2112.1,2,   -999.0,5,   7.9570,2,   411.9,2,   20.0, -999.00,9,   375.3,     3.3, -999.00,9
31RBOACES24N_2,  AR01,    42,  1,     28,2,19980203,0636, 24.5002, -39.2480, 5191,    297.9,  17.2590,  36.4350,  36.4430,2,    195.1,2,     195.8,2,     1.30,2,     5.73,2,     0.00,2,  -999.00,5,    2.334,2,    1.287,2,    0.030,2, -999.000,9,     92.0,2,     0.86,2,   2114.5,2,   -999.0,5,   7.9459,2,   425.4,2,   20.0, -999.00,9,   380.4,     3.0,   50.17,2
31RBOACES24N_2,  AR01,    42,  1,     27,2,19980203,0636, 24.5002, -39.2480, 5191,    351.2,  16.4740,  36.2930,  36.3030,2,    196.0,2,     196.4,2,     1.70,2,     7.09,2,     0.00,2,  -999.00,5,    2.308,2,    1.263,2,    0.033,2, -999.000,9,     89.1,2,     0.87,2,   2116.7,2,   -999.0,5,   7.9226,2,   444.0,2,   20.0, -999.00,9,   384.8,     3.0, -999.00,9
31RBOACES24N_2,  AR01,    42,  1,     26,2,19980203,0636, 24.5002, -39.2480, 5191,    400.8,  15.6880,  36.1720,  36.1710,2,    190.5,2,     190.4,2,     2.30,2,     8.84,2,     0.00,2,  -999.00,5,    2.270,6,    1.229,6,    0.029,6, -999.000,9,     81.0,2,     0.79,2,   2126.9,2,   2371.0,2,   7.9039,2,   475.9,2,   20.0, -999.00,9,   399.4,     3.3,   49.48,2
31RBOACES24N_2,  AR01,    42,  1,     25,2,19980203,0636, 24.5002, -39.2480, 5191,    447.0,  14.7480,  36.0230,  36.1710,2,    187.2,2,     187.2,2,     2.90,2,    10.49,2,     0.00,2,  -999.00,5,    2.169,2,    1.158,2,    0.025,2, -999.000,9,     61.2,2,     0.87,2,   2131.3,2,   -999.0,5,   7.8773,2,   507.6,2,   20.0, -999.00,9,   409.6,     3.1,   48.59,2
31RBOACES24N_2,  AR01,    42,  1,     24,2,19980203,0636, 24.5002, -39.2480, 5191,    499.1,  13.8820,  35.8950,  35.8890,2,    183.0,2,     182.4,2,     3.70,2,    12.44,2,     0.00,2,  -999.00,5,    2.086,2,    1.089,2,    0.028,2, -999.000,9,     58.6,2,     0.73,2,   2142.2,2,   2361.6,2,   7.8468,2,   549.1,3,   20.0, -999.00,9,   427.6,     3.2, -999.00,9
31RBOACES24N_2,  AR01,    42,  1,     23,2,19980203,0636, 24.5002, -39.2480, 5191,    598.6,  12.3170,  35.6750,  35.6750,2,    180.4,2,     176.6,2,     5.20,2,    15.65,2,     0.00,2,  -999.00,5,    1.766,2,    0.886,2,    0.022,2, -999.000,9,     34.4,2,     0.69,2,   2153.1,2,   2346.7,2,   7.7977,2,   625.0,2,   20.0, -999.00,9,   456.0,     2.7,   45.96,2
31RBOACES24N_2,  AR01,    42,  1,     22,2,19980203,0636, 24.5002, -39.2480, 5191,    700.3,  11.0550,  35.5220,  35.5190,2,    169.9,2,     165.5,2,     7.80,2,    18.96,2,     0.00,2,  -999.00,5,    1.114,2,    0.545,2,    0.018,2, -999.000,9,      6.4,2,     0.74,2,   2165.1,2,   -999.0,5,   7.7557,2,   689.4,2,   20.0, -999.00,9,   476.8,     2.6, -999.00,9
31RBOACES24N_2,  AR01,    42,  1,     21,2,19980203,0636, 24.5002, -39.2480, 5191,    798.8,   9.3750,  35.3290,  35.3320,2,    150.3,2,     148.0,2,    12.40,2,    23.53,2,     0.00,2,  -999.00,5,    0.393,2,    0.177,2,    0.004,2, -999.000,9,    -44.9,6,     0.68,2,   2184.6,2,   2331.7,2,   7.6979,2,   805.3,2,   20.0, -999.00,9,   519.6,     2.0,   44.29,2
31RBOACES24N_2,  AR01,    42,  1,     20,2,19980203,0636, 24.5002, -39.2480, 5191,    900.2,   8.3290,  35.2430,  35.2400,2,    150.5,2,     152.4,2,    14.80,2,    24.80,2,     0.00,2,  -999.00,5,    0.219,2,    0.092,2,    0.002,2, -999.000,9,    -50.2,2,     0.74,2,   2190.2,2,   -999.0,5,   7.6800,2,   841.0,2,   20.0, -999.00,9,   518.3,     3.2, -999.00,9
31RBOACES24N_2,  AR01,    42,  1,     19,2,19980203,0636, 24.5002, -39.2480, 5191,   1001.2,   6.8630,  35.0900,  35.0900,2,    162.6,2,     163.8,2,    17.50,2,    25.87,2,     0.00,2,  -999.00,5,    0.082,2,    0.042,2,    0.003,2, -999.000,9,    -89.0,2,     0.74,2,   2194.4,6,   2321.7,2,   7.6680,2,   875.9,2,   20.0, -999.00,9,   506.1,     2.4,   42.14,2
31RBOACES24N_2,  AR01,    42,  1,     18,2,19980203,0636, 24.5002, -39.2480, 5191,   1200.1,   5.8300,  35.0800,  35.0780,2,    186.8,2,     192.8,2,    17.30,2,    23.73,2,     0.00,2,  -999.00,5,    0.059,2,    0.029,2,    0.002,2, -999.000,9,    -91.2,2,     0.85,2,   2183.8,2,   -999.0,9,   7.6866,2,   828.0,2,   20.0, -999.00,9,   455.3,     2.8, -999.00,9
31RBOACES24N_2,  AR01,    42,  1,     17,2,19980203,0636, 24.5002, -39.2480, 5191,   1397.8,   5.2240,  35.0980,  35.0970,2,    211.2,2,     214.6,2,    16.80,2,    21.79,2,     0.00,2,  -999.00,5, -999.000,9, -999.000,9, -999.000,9, -999.000,9,    -85.6,2,     0.89,2,   2175.7,2,   2323.3,2,   7.7073,2,  -999.0,9, -999.0, -999.00,9,  -999.0,     2.4,   42.13,2
31RBOACES24N_2,  AR01,    42,  1,     16,2,19980203,0636, 24.5002, -39.2480, 5191,   1599.6,   5.0070,  35.1390,  35.1390,2,    223.9,2,     223.3,2,    17.60,2,    20.81,2,     0.00,2,  -999.00,5,    0.025,2,    0.006,2,    0.001,2, -999.000,9,    -96.5,2,     0.90,2,   2174.6,2,   2330.4,2,   7.7252,2,   750.3,2,   20.0, -999.00,9,   395.3,     2.9, -999.00,9
31RBOACES24N_2,  AR01,    42,  1,     15,2,19980203,0636, 24.5002, -39.2480, 5191,   1800.5,   4.4350,  35.0920,  35.0920,2,    232.9,2,     233.8,2,    19.20,2,    20.42,2,     0.00,2,  -999.00,5, -999.000,9, -999.000,9, -999.000,9, -999.000,9,    -76.7,2,     1.00,2,   2173.3,2,   2331.3,2,   7.7302,2,  -999.0,9, -999.0, -999.00,9,  -999.0,     3.1,   41.84,2
31RBOACES24N_2,  AR01,    42,  1,     14,2,19980203,0636, 24.5002, -39.2480, 5191,   1999.4,   3.8840,  35.0410,  35.0400,2,    242.0,2,     242.5,2,    21.50,2,    20.23,2,     0.00,2,  -999.00,5,    0.004,2,    0.001,2,    0.000,2, -999.000,9,   -104.2,2,     0.95,2,   2171.3,2,   2325.1,2,   7.7331,2,   742.9,6,   20.0, -999.00,9,   370.7,     2.6, -999.00,9
31RBOACES24N_2,  AR01,    42,  1,     13,2,19980203,0636, 24.5002, -39.2480, 5191,   2200.6,   3.5690,  35.0050,  35.0060,2,    244.6,2,     244.8,2,    23.90,2,    20.52,2,     0.00,2,  -999.00,5, -999.000,9, -999.000,9, -999.000,9, -999.000,9,   -100.5,2,     1.08,2,   2173.4,2,   -999.0,9,-999.0000,9,  -999.0,9, -999.0, -999.00,9,  -999.0,     2.7,   42.32,2
31RBOACES24N_2,  AR01,    42,  1,     12,2,19980203,0636, 24.5002, -39.2480, 5191,   2400.4,   3.2910,  34.9840,  34.9850,2,    243.5,2,     246.7,2,    26.70,2,    20.72,2,     0.00,2,  -999.00,5,    0.001,2,   -0.003,2,    0.000,2, -999.000,9,   -108.4,2,     0.97,2,   2177.2,2,   -999.0,9,-999.0000,9,   736.9,2,   20.0, -999.00,9,   356.7,     3.6, -999.00,9
31RBOACES24N_2,  AR01,    42,  1,     11,2,19980203,0636, 24.5002, -39.2480, 5191,   2597.7,   3.1010,  34.9680,  34.9700,2,    245.1,2,     245.8,2,    29.40,2,    20.91,2,     0.00,2,  -999.00,5, -999.000,9, -999.000,9, -999.000,9, -999.000,9,   -102.0,2,     1.03,2,   2181.4,2,   -999.0,9,   7.7305,2,  -999.0,9, -999.0, -999.00,9,  -999.0,     3.2,   41.74,2
31RBOACES24N_2,  AR01,    42,  1,     10,2,19980203,0636, 24.5002, -39.2480, 5191,   2799.8,   2.9680,  34.9570,  34.9580,2,    244.8,2,     246.2,2,    31.80,2,    21.01,2,     0.00,2,  -999.00,5,   -0.002,2,   -0.002,2,   -0.004,2, -999.000,9,   -119.0,2,     0.94,2,   2183.2,2,   -999.0,9,-999.0000,9,   742.3,2,   20.0, -999.00,9,   353.5,     3.0, -999.00,9
31RBOACES24N_2,  AR01,    42,  1,      9,2,19980203,0636, 24.5002, -39.2480, 5191,   2999.4,   2.8390,  34.9450,  34.9460,2,    244.6,2,     246.2,2,    33.70,2,    21.20,2,     0.00,2,  -999.00,5, -999.000,9, -999.000,9, -999.000,9, -999.000,9,   -115.0,2,     0.96,2,   2186.2,2,   2343.5,2,   7.7285,2,  -999.0,9, -999.0, -999.00,9,  -999.0,     3.0,   41.74,2
31RBOACES24N_2,  AR01,    42,  1,      8,2,19980203,0636, 24.5002, -39.2480, 5191,   3223.9,   2.7170,  34.9340,  34.9340,2,    245.3,2,     246.7,2,    35.90,2,    21.40,2,     0.00,2,  -999.00,5,   -0.001,2,   -0.002,2,    0.001,2, -999.000,9,   -126.8,2,     0.92,2,   2188.4,2,   -999.0,9,-999.0000,9,   748.3,2,   20.0, -999.00,9,   351.7,     2.7, -999.00,9
31RBOACES24N_2,  AR01,    42,  1,      7,2,19980203,0636, 24.5002, -39.2480, 5191,   3496.3,   2.5730,  34.9180,  34.9190,2,    248.3,2,     248.1,2,    38.80,2,    21.59,2,     0.00,2,  -999.00,5, -999.000,9, -999.000,9, -999.000,9, -999.000,9,   -126.9,2,     0.94,2,   2190.7,2,   2345.2,2,   7.7266,2,  -999.0,9, -999.0, -999.00,9,  -999.0,     2.8,   41.93,2
31RBOACES24N_2,  AR01,    42,  1,      6,2,19980203,0636, 24.5002, -39.2480, 5191,   3750.1,   2.4960,  34.9090,  34.9090,2,    249.2,2,     248.1,2,    40.70,2,    21.79,2,     0.00,2,  -999.00,5,   -0.001,2,   -0.003,2,    0.000,2, -999.000,9,   -129.8,2,     0.92,2,   2191.8,2,   -999.0,9,-999.0000,9,   749.9,2,   20.0, -999.00,9,   348.3,     3.5, -999.00,9
31RBOACES24N_2,  AR01,    42,  1,      5,2,19980203,0636, 24.5002, -39.2480, 5191,   3999.4,   2.4580,  34.9030,  34.9030,2,    249.1,2,     249.2,2,    41.80,2,    21.79,2,     0.00,2,  -999.00,5,    0.000,2,    0.000,2,    0.000,2, -999.000,9,   -112.7,2,     0.97,2,   2193.3,2,   2345.1,2,   7.7271,2,  -999.0,9, -999.0, -999.00,9,  -999.0,     2.7,   41.83,2
31RBOACES24N_2,  AR01,    42,  1,      4,2,19980203,0636, 24.5002, -39.2480, 5191,   4299.9,   2.3990,  34.8950,  34.8940,2,    249.4,2,     249.5,2,    43.70,2,    21.98,2,     0.00,2,  -999.00,5,   -0.001,6,   -0.001,6,    0.001,6, -999.000,9,   -129.1,2,     0.86,2,   2193.6,2,   -999.0,9,-999.0000,9,   754.6,2,   20.0, -999.00,9,   348.6,     2.3,   41.83,2
31RBOACES24N_2,  AR01,    42,  1,      3,2,19980203,0636, 24.5002, -39.2480, 5191,   4599.1,   2.3890,  34.8900,  34.8890,2,    249.1,2,     250.1,2,    44.60,2,    22.08,2,     0.00,2,  -999.00,5,   -0.001,2,   -0.001,2,   -0.001,2, -999.000,9,   -117.8,2,     0.95,2,   2195.6,2,   2346.4,2,   7.7235,2,  -999.0,9, -999.0, -999.00,9,  -999.0,     2.9,   41.35,2
31RBOACES24N_2,  AR01,    42,  1,      2,2,19980203,0636, 24.5002, -39.2480, 5191,   4900.3,   2.3890,  34.8860,  34.8850,2,    248.8,2,     250.3,2,    45.50,2,    22.18,2,     0.00,2,  -999.00,5,    0.000,2,    0.003,2,   -0.002,2, -999.000,9,   -129.1,2,     0.87,2,   2197.8,2,   -999.0,9,-999.0000,9,  -999.0,9, -999.0, -999.00,9,  -999.0,     2.6,   41.83,2
31RBOACES24N_2,  AR01,    42,  1,      1,2,19980203,0636, 24.5002, -39.2480, 5191,   5259.6,   2.4060,  34.8830,  34.8830,2,    250.3,2,     250.7,2,    46.10,6,    22.18,6,     0.00,6,  -999.00,5,    0.002,2,    0.002,2,   -0.004,2, -999.000,9,   -117.2,2,     0.90,2,   2197.0,2,   2347.2,2,   7.7257,2,   766.8,2,   20.0, -999.00,9,   354.4,     2.8,   41.83,2