BOTTLE,20220820CCHSIOAMB
EXPOCODE,SECT_ID,STNNBR,CASTNO,BTLNBR,BTLNBR_FLAG_W,DATE,TIME,LATITUDE,LONGITUDE,DEPTH,CTDPRS,CTDTMP,CTDSAL,SALNTY,SALNTY_FLAG_W,CTDOXY,CTDOXY_FLAG_W,OXYGEN,OXYGEN_FLAG_W,SILCAT,SILCAT_FLAG_W,NITRAT,NITRAT_FLAG_W,NITRIT,NITRIT_FLAG_W,PHSPHT,PHSPHT_FLAG_W,CFC-11,CFC-11_FLAG_W,CFC-12,CFC-12_FLAG_W,CFC113,CFC113_FLAG_W,CCL4,CCL4_FLAG_W,DELC14,DELC14_FLAG_W,DELC13,DELC13_FLAG_W,TCARBN,TCARBN_FLAG_W,ALKALI,ALKALI_FLAG_W,PH,PH_FLAG_W,FCO2,FCO2_FLAG_W,FCO2TMP,TON,TON_FLAG_W,FCO2IN,C14ERR,TOC,TOC_FLAG_W
,,,,,,,,,,,DBAR,ITS-90,PSS-78,PSS-78,,UMOL/KG,,UMOL/KG,,UMOL/KG,,UMOL/KG,,UMOL/KG,,UMOL/KG,,PMOL/KG,,PMOL/KG,,PMOL/KG,,PMOL/KG,,/MILLE,,/MILLE,,UMOL/KG,,UMOL/KG,,,,UATM,,DEG C,UMOL/KG,,UATM,/MILLE,UMOL/KG,
31RBOACES24N_2,  AR01,    97,  1,     36,2,19980218,0635, 26.5005, -72.1002, 5281,      4.0,  23.1400,  36.7860,  36.7850,2,    213.5,2,     214.4,2,     0.60,2,     0.00,2,     0.00,2,     0.00,2, -999.000,9, -999.000,9, -999.000,9, -999.000,9,   -999.0,9,  -999.00,9,   2039.2,2,   -999.0,5,   8.0918,2,   280.1,2,   20.0, -999.00,9,   317.3,  -999.0, -999.00,9
31RBOACES24N_2,  AR01,    97,  1,     35,2,19980218,0635, 26.5005, -72.1002, 5281,     45.6,  23.1510,  36.7870,  36.7860,2,    212.9,2,     214.6,2,     0.60,2,     0.00,2,     0.00,2,     0.01,2, -999.000,9, -999.000,9, -999.000,9, -999.000,9,   -999.0,9,  -999.00,9,   -999.0,9,   -999.0,9,-999.0000,9,  -999.0,9, -999.0, -999.00,9,  -999.0,  -999.0, -999.00,9
31RBOACES24N_2,  AR01,    97,  1,     34,2,19980218,0635, 26.5005, -72.1002, 5281,     88.0,  23.0710,  36.7740,  36.7740,2,    213.2,2,     214.6,2,     0.60,2,     0.00,2,     0.00,2,     0.01,2, -999.000,9, -999.000,9, -999.000,9, -999.000,9,   -999.0,9,  -999.00,9,   2039.8,2,   2397.4,2,   8.0981,2,   280.5,2,   20.0, -999.00,9,   316.9,  -999.0, -999.00,9
31RBOACES24N_2,  AR01,    97,  1,     33,2,19980218,0635, 26.5005, -72.1002, 5281,    133.8,  22.2890,  36.9700,  36.9630,2,    210.7,2,     205.5,2,     0.50,2,     0.29,2,     0.05,2,     0.01,2, -999.000,9, -999.000,9, -999.000,9, -999.000,9,   -999.0,9,  -999.00,9,   2076.6,2,   2412.1,2,   8.0407,2,   323.4,2,   20.0, -999.00,9,   354.2,  -999.0, -999.00,9
31RBOACES24N_2,  AR01,    97,  1,     32,2,19980218,0635, 26.5005, -72.1002, 5281,    179.6,  20.4920,  36.8150,  36.8140,2,    195.9,2,     198.7,2,     0.50,2,     0.98,2,     0.02,2,     0.03,2, -999.000,9, -999.000,9, -999.000,9, -999.000,9,   -999.0,9,  -999.00,9,   -999.0,9,   -999.0,9,-999.0000,9,  -999.0,9, -999.0, -999.00,9,  -999.0,  -999.0, -999.00,9
31RBOACES24N_2,  AR01,    97,  1,     31,2,19980218,0635, 26.5005, -72.1002, 5281,    200.2,  19.8080,  36.7410,  36.7420,2,    196.2,2,     198.7,2,     0.60,2,     1.37,2,     0.02,2,     0.04,2, -999.000,9, -999.000,9, -999.000,9, -999.000,9,   -999.0,9,  -999.00,9,   -999.0,9,   -999.0,9,-999.0000,9,  -999.0,9, -999.0, -999.00,9,  -999.0,  -999.0, -999.00,9
31RBOACES24N_2,  AR01,    97,  1,     30,2,19980218,0635, 26.5005, -72.1002, 5281,    223.9,  19.1830,  36.6720,  36.6740,2,    193.9,2,     197.6,2,     0.80,2,     2.15,2,     0.01,2,     0.07,2, -999.000,9, -999.000,9, -999.000,9, -999.000,9,   -999.0,9,  -999.00,9,   -999.0,9,   -999.0,9,-999.0000,9,  -999.0,9, -999.0, -999.00,9,  -999.0,  -999.0, -999.00,9
31RBOACES24N_2,  AR01,    97,  1,     29,2,19980218,0635, 26.5005, -72.1002, 5281,    250.1,  18.7290,  36.6160,  36.6190,2,    195.7,2,     200.9,2,     0.90,2,     2.83,2,     0.01,2,     0.11,2, -999.000,9, -999.000,9, -999.000,9, -999.000,9,   -999.0,9,  -999.00,9,   2093.1,2,   2390.2,2,   7.9990,2,   376.2,2,   20.0, -999.00,9,   357.3,  -999.0, -999.00,9
31RBOACES24N_2,  AR01,    97,  1,     28,2,19980218,0635, 26.5005, -72.1002, 5281,    271.7,  18.5290,  36.5920,  36.5900,2,    198.7,2,     204.4,2,     0.90,2,     3.12,2,     0.01,2,     0.12,2, -999.000,9, -999.000,9, -999.000,9, -999.000,9,   -999.0,9,  -999.00,9,   -999.0,9,   -999.0,9,-999.0000,9,  -999.0,9, -999.0, -999.00,9,  -999.0,  -999.0, -999.00,9
31RBOACES24N_2,  AR01,    97,  1,     27,2,19980218,0635, 26.5005, -72.1002, 5281,    298.9,  18.3570,  36.5710,  36.5710,2,    201.7,2,     206.1,2,     1.00,2,     3.32,2,     0.01,2,     0.14,2, -999.000,9, -999.000,9, -999.000,9, -999.000,9,   -999.0,9,  -999.00,9,   -999.0,9,   -999.0,9,-999.0000,9,  -999.0,9, -999.0, -999.00,9,  -999.0,  -999.0, -999.00,9
31RBOACES24N_2,  AR01,    97,  1,     26,2,19980218,0635, 26.5005, -72.1002, 5281,    348.5,  18.1190,  36.5410,  36.5410,2,    204.6,2,     207.0,2,     1.20,2,     3.80,2,     0.01,2,     0.17,2, -999.000,9, -999.000,9, -999.000,9, -999.000,9,   -999.0,9,  -999.00,9,   -999.0,9,   -999.0,9,-999.0000,9,  -999.0,9, -999.0, -999.00,9,  -999.0,  -999.0, -999.00,9
31RBOACES24N_2,  AR01,    97,  1,     25,2,19980218,0635, 26.5005, -72.1002, 5281,    400.1,  17.8980,  36.5080,  36.5090,2,    205.8,2,     205.6,2,     1.30,2,     4.29,2,     0.01,2,     0.20,2, -999.000,9, -999.000,9, -999.000,9, -999.000,9,   -999.0,9,  -999.00,9,   2096.2,2,   2384.0,2,   7.9839,2,   388.1,2,   20.0, -999.00,9,   356.4,  -999.0, -999.00,9
31RBOACES24N_2,  AR01,    97,  1,     24,2,19980218,0635, 26.5005, -72.1002, 5281,    450.3,  17.1950,  36.3830,  36.3900,2,    195.0,2,     191.3,2,     2.00,2,     6.73,2,     0.01,2,     0.34,2, -999.000,9, -999.000,9, -999.000,9, -999.000,9,   -999.0,9,  -999.00,9,   -999.0,9,   -999.0,9,-999.0000,9,  -999.0,9, -999.0, -999.00,9,  -999.0,  -999.0, -999.00,9
31RBOACES24N_2,  AR01,    97,  1,     23,2,19980218,0635, 26.5005, -72.1002, 5281,    500.0,  16.4910,  36.2560,  36.2520,2,    187.3,2,     182.8,2,     2.60,2,     8.68,2,     0.01,2,     0.47,2, -999.000,9, -999.000,9, -999.000,9, -999.000,9,   -999.0,9,  -999.00,9,   -999.0,9,   -999.0,9,-999.0000,9,  -999.0,9, -999.0, -999.00,9,  -999.0,  -999.0, -999.00,9
31RBOACES24N_2,  AR01,    97,  1,     22,2,19980218,0635, 26.5005, -72.1002, 5281,    543.6,  15.7190,  36.1230,  36.1160,2,    180.8,2,     177.7,2,     3.40,2,    10.44,2,     0.01,2,     0.59,2, -999.000,9, -999.000,9, -999.000,9, -999.000,9,   -999.0,9,  -999.00,9,   2129.2,2,   2363.9,2,   7.8941,2,   488.8,2,   20.0, -999.00,9,   410.7,  -999.0, -999.00,9
31RBOACES24N_2,  AR01,    97,  1,     21,2,19980218,0635, 26.5005, -72.1002, 5281,    600.8,  14.5360,  35.9490,  35.9550,2,    178.1,2,     176.2,2,     4.20,2,    12.20,2,     0.01,2,     0.71,2, -999.000,9, -999.000,9, -999.000,9, -999.000,9,   -999.0,9,  -999.00,9,   -999.0,9,   -999.0,9,-999.0000,9,  -999.0,9, -999.0, -999.00,9,  -999.0,  -999.0, -999.00,9
31RBOACES24N_2,  AR01,    97,  1,     20,2,19980218,0635, 26.5005, -72.1002, 5281,    700.2,  12.6950,  35.6710,  35.6720,2,    164.3,2,     164.8,2,     6.80,2,    16.49,2,     0.01,2,     1.00,2, -999.000,9, -999.000,9, -999.000,9, -999.000,9,   -999.0,9,  -999.00,9,   -999.0,9,   -999.0,9,-999.0000,9,  -999.0,9, -999.0, -999.00,9,  -999.0,  -999.0, -999.00,9
31RBOACES24N_2,  AR01,    97,  1,     19,2,19980218,0635, 26.5005, -72.1002, 5281,    748.9,  11.9020,  35.5760,  35.5810,2,    163.1,2,     165.1,2,     7.70,2,    17.67,2,     0.01,2,     1.08,2, -999.000,9, -999.000,9, -999.000,9, -999.000,9,   -999.0,9,  -999.00,9,   2158.4,2,   2336.1,2,   7.7828,2,   647.3,2,   20.0, -999.00,9,   464.0,  -999.0, -999.00,9
31RBOACES24N_2,  AR01,    97,  1,     18,2,19980218,0635, 26.5005, -72.1002, 5281,    801.5,  10.8380,  35.4190,  35.4220,2,    149.3,2,     150.8,2,    10.30,2,    20.89,2,     0.01,2,     1.31,2, -999.000,9, -999.000,9, -999.000,9, -999.000,9,   -999.0,9,  -999.00,9,   -999.0,9,   -999.0,9,-999.0000,9,  -999.0,9, -999.0, -999.00,9,  -999.0,  -999.0, -999.00,9
31RBOACES24N_2,  AR01,    97,  1,     17,2,19980218,0635, 26.5005, -72.1002, 5281,    848.5,  10.0690,  35.3180,  35.3170,2,    149.0,2,     146.9,2,    12.20,2,    22.84,2,     0.01,2,     1.44,2, -999.000,9, -999.000,9, -999.000,9, -999.000,9,   -999.0,9,  -999.00,9,   2178.5,2,   2326.2,2,   7.7107,2,   780.6,2,   20.0, -999.00,9,   518.4,  -999.0, -999.00,9
31RBOACES24N_2,  AR01,    97,  1,     16,2,19980218,0635, 26.5005, -72.1002, 5281,    899.1,   8.9240,  35.1910,  35.1940,2,    148.1,2,     149.8,6,    14.40,2,    24.31,2,     0.01,2,     1.56,2, -999.000,9, -999.000,9, -999.000,9, -999.000,9,   -999.0,9,  -999.00,9,   2187.4,6,   2321.8,2,   7.6855,2,   830.1,2,   20.0, -999.00,9,   524.9,  -999.0, -999.00,9
31RBOACES24N_2,  AR01,    97,  1,     15,3,19980218,0635, 26.5005, -72.1002, 5281,    998.3,   7.3200,  35.0740,-999.0000,9,    159.8,2,    -999.0,9,  -999.00,9,  -999.00,9,  -999.00,9,  -999.00,9, -999.000,9, -999.000,9, -999.000,9, -999.000,9,   -999.0,9,  -999.00,9,   -999.0,9,   -999.0,9,-999.0000,9,  -999.0,9, -999.0, -999.00,9,  -999.0,  -999.0, -999.00,9
31RBOACES24N_2,  AR01,    97,  1,     14,2,19980218,0635, 26.5005, -72.1002, 5281,   1249.5,   5.4300,  35.0720,  35.0730,2,    228.6,2,     227.7,2,    13.30,2,    19.72,2,     0.01,2,     1.31,2, -999.000,9, -999.000,9, -999.000,9, -999.000,9,   -999.0,9,  -999.00,9,   2171.2,2,   2320.3,2,-999.0000,9,   770.9,2,   20.0, -999.00,9,   415.1,  -999.0, -999.00,9
31RBOACES24N_2,  AR01,    97,  1,     13,2,19980218,0635, 26.5005, -72.1002, 5281,   1498.2,   4.3980,  35.0120,  35.0110,2,    255.7,2,     257.1,2,    12.60,2,    18.16,2,     0.01,2,     1.21,2, -999.000,9, -999.000,9, -999.000,9, -999.000,9,   -999.0,9,  -999.00,9,   2160.6,2,   -999.0,5,   7.7294,2,   733.7,2,   20.0, -999.00,9,   375.8,  -999.0, -999.00,9
31RBOACES24N_2,  AR01,    97,  1,     12,2,19980218,0635, 26.5005, -72.1002, 5281,   1749.5,   3.9570,  34.9820,  34.9820,2,    264.6,2,     266.0,2,    13.20,2,    17.87,2,     0.01,2,     1.19,2, -999.000,9, -999.000,9, -999.000,9, -999.000,9,   -999.0,9,  -999.00,9,   -999.0,9,   -999.0,9,-999.0000,9,  -999.0,9, -999.0, -999.00,9,  -999.0,  -999.0, -999.00,9
31RBOACES24N_2,  AR01,    97,  1,     11,2,19980218,0635, 26.5005, -72.1002, 5281,   1998.0,   3.8120,  35.0010,  35.0010,2,    260.1,2,     262.2,2,    15.90,2,    18.26,2,     0.01,2,     1.22,2, -999.000,9, -999.000,9, -999.000,9, -999.000,9,   -999.0,9,  -999.00,9,   2161.1,2,   2325.9,2,-999.0000,9,   725.6,6,   20.0, -999.00,9,   361.1,  -999.0, -999.00,9
31RBOACES24N_2,  AR01,    97,  1,     10,2,19980218,0635, 26.5005, -72.1002, 5281,   2299.1,   3.3670,  34.9670,  34.9680,2,    265.3,2,     267.2,2,    17.80,2,    18.16,2,     0.01,2,     1.21,2, -999.000,9, -999.000,9, -999.000,9, -999.000,9,   -999.0,9,  -999.00,9,   -999.0,9,   -999.0,9,-999.0000,9,  -999.0,9, -999.0, -999.00,9,  -999.0,  -999.0, -999.00,9
31RBOACES24N_2,  AR01,    97,  1,      9,2,19980218,0635, 26.5005, -72.1002, 5281,   2596.6,   3.0690,  34.9500,  34.9510,2,    266.0,2,     268.5,2,    19.70,2,    18.16,2,     0.01,2,     1.23,2, -999.000,9, -999.000,9, -999.000,9, -999.000,9,   -999.0,9,  -999.00,9,   -999.0,9,   -999.0,9,-999.0000,9,  -999.0,9, -999.0, -999.00,9,  -999.0,  -999.0, -999.00,9
31RBOACES24N_2,  AR01,    97,  1,      8,2,19980218,0635, 26.5005, -72.1002, 5281,   2950.3,   2.7940,  34.9340,  34.9340,2,    268.2,2,     270.5,2,    21.70,2,    18.16,2,     0.01,2,     1.23,2, -999.000,9, -999.000,9, -999.000,9, -999.000,9,   -999.0,9,  -999.00,9,   -999.0,9,   -999.0,9,-999.0000,9,  -999.0,9, -999.0, -999.00,9,  -999.0,  -999.0, -999.00,9
31RBOACES24N_2,  AR01,    97,  1,      7,2,19980218,0635, 26.5005, -72.1002, 5281,   3248.6,   2.5740,  34.9210,  34.9200,2,    271.0,2,     272.4,2,    23.40,2,    18.07,2,     0.01,2,     1.23,2, -999.000,9, -999.000,9, -999.000,9, -999.000,9,   -999.0,9,  -999.00,9,   -999.0,9,   -999.0,9,-999.0000,9,  -999.0,9, -999.0, -999.00,9,  -999.0,  -999.0, -999.00,9
31RBOACES24N_2,  AR01,    97,  1,      6,2,19980218,0635, 26.5005, -72.1002, 5281,   3599.5,   2.4180,  34.9080,  34.9080,2,    274.1,2,     275.1,2,    23.70,2,    17.67,2,     0.01,2,     1.21,2, -999.000,9, -999.000,9, -999.000,9, -999.000,9,   -999.0,9,  -999.00,9,   -999.0,9,   -999.0,9,-999.0000,9,  -999.0,9, -999.0, -999.00,9,  -999.0,  -999.0, -999.00,9
31RBOACES24N_2,  AR01,    97,  1,      5,2,19980218,0635, 26.5005, -72.1002, 5281,   3946.8,   2.3340,  34.9010,  34.9000,2,    273.1,2,     274.4,2,    26.30,2,    17.97,2,     0.01,2,     1.24,2, -999.000,9, -999.000,9, -999.000,9, -999.000,9,   -999.0,9,  -999.00,9,   -999.0,9,   -999.0,9,-999.0000,9,  -999.0,9, -999.0, -999.00,9,  -999.0,  -999.0, -999.00,9
31RBOACES24N_2,  AR01,    97,  1,      4,2,19980218,0635, 26.5005, -72.1002, 5281,   4298.8,   2.3060,  34.8970,  34.8950,2,    270.4,2,     272.2,2,    29.20,2,    18.36,2,     0.01,2,     1.27,2, -999.000,9, -999.000,9, -999.000,9, -999.000,9,   -999.0,9,  -999.00,9,   -999.0,9,   -999.0,9,-999.0000,9,  -999.0,9, -999.0, -999.00,9,  -999.0,  -999.0, -999.00,9
31RBOACES24N_2,  AR01,    97,  1,      3,2,19980218,0635, 26.5005, -72.1002, 5281,   4648.4,   2.2910,  34.8910,  34.8900,2,    268.5,2,     269.5,2,    32.20,2,    18.85,2,     0.01,2,     1.31,2, -999.000,9, -999.000,9, -999.000,9, -999.000,9,   -999.0,9,  -999.00,9,   -999.0,9,   -999.0,9,-999.0000,9,  -999.0,9, -999.0, -999.00,9,  -999.0,  -999.0, -999.00,9
31RBOACES24N_2,  AR01,    97,  1,      2,2,19980218,0635, 26.5005, -72.1002, 5281,   4997.8,   2.2490,  34.8800,  34.8800,2,    263.8,2,     265.3,2,    37.90,2,    19.82,2,     0.01,2,     1.37,2, -999.000,9, -999.000,9, -999.000,9, -999.000,9,   -999.0,9,  -999.00,9,   -999.0,9,   -999.0,9,-999.0000,9,  -999.0,9, -999.0, -999.00,9,  -999.0,  -999.0, -999.00,9
31RBOACES24N_2,  AR01,    97,  1,      1,2,19980218,0635, 26.5005, -72.1002, 5281,   5352.3,   2.0930,  34.8550,  34.8550,2,    251.0,2,     256.6,2,    51.20,6,    21.97,6,     0.01,6,     1.54,6, -999.000,9, -999.000,9, -999.000,9, -999.000,9,   -999.0,9,  -999.00,9,   -999.0,9,   -999.0,9,-999.0000,9,  -999.0,9, -999.0, -999.00,9,  -999.0,  -999.0, -999.00,9