BOTTLE,20220820CCHSIOAMB
EXPOCODE,SECT_ID,STNNBR,CASTNO,BTLNBR,BTLNBR_FLAG_W,DATE,TIME,LATITUDE,LONGITUDE,DEPTH,CTDPRS,CTDTMP,CTDSAL,SALNTY,SALNTY_FLAG_W,CTDOXY,CTDOXY_FLAG_W,OXYGEN,OXYGEN_FLAG_W,SILCAT,SILCAT_FLAG_W,NITRAT,NITRAT_FLAG_W,NITRIT,NITRIT_FLAG_W,PHSPHT,PHSPHT_FLAG_W,CFC-11,CFC-11_FLAG_W,CFC-12,CFC-12_FLAG_W,CFC113,CFC113_FLAG_W,CCL4,CCL4_FLAG_W,DELC14,DELC14_FLAG_W,DELC13,DELC13_FLAG_W,TCARBN,TCARBN_FLAG_W,ALKALI,ALKALI_FLAG_W,PH,PH_FLAG_W,FCO2,FCO2_FLAG_W,FCO2TMP,TON,TON_FLAG_W,FCO2IN,C14ERR,TOC,TOC_FLAG_W
,,,,,,,,,,,DBAR,ITS-90,PSS-78,PSS-78,,UMOL/KG,,UMOL/KG,,UMOL/KG,,UMOL/KG,,UMOL/KG,,UMOL/KG,,PMOL/KG,,PMOL/KG,,PMOL/KG,,PMOL/KG,,/MILLE,,/MILLE,,UMOL/KG,,UMOL/KG,,,,UATM,,DEG C,UMOL/KG,,UATM,/MILLE,UMOL/KG,
31RBOACES24N_2,  AR01,    85,  1,     36,2,19980215,0128, 24.4998, -66.1997, 5332,      4.3,  24.9980,  36.4460,  36.4540,2,    207.7,2,     211.4,2,     0.90,2,     0.20,2,     0.00,2,     0.01,2, -999.000,9, -999.000,9, -999.000,9, -999.000,9,   -999.0,9,  -999.00,9,   2017.7,6,   -999.0,5,   8.1160,2,   271.0,2,   20.0, -999.00,9,   329.8,  -999.0, -999.00,9
31RBOACES24N_2,  AR01,    85,  1,     35,2,19980215,0128, 24.4998, -66.1997, 5332,     36.2,  24.7070,  36.5570,  36.5640,2,    208.7,2,     210.0,6,     0.90,2,     0.20,2,     0.00,2,     0.01,2, -999.000,9, -999.000,9, -999.000,9, -999.000,9,   -999.0,9,  -999.00,9,   -999.0,9,   -999.0,9,-999.0000,9,  -999.0,9, -999.0, -999.00,9,  -999.0,  -999.0, -999.00,9
31RBOACES24N_2,  AR01,    85,  1,     34,2,19980215,0128, 24.4998, -66.1997, 5332,     71.3,  24.3720,  36.7060,  36.7080,2,    209.8,2,     211.6,2,     0.80,2,     0.20,2,     0.01,2,     0.01,2, -999.000,9, -999.000,9, -999.000,9, -999.000,9,   -999.0,9,  -999.00,9,   2034.5,2,   2396.8,2,   8.1000,2,   275.7,2,   20.0, -999.00,9,   327.5,  -999.0, -999.00,9
31RBOACES24N_2,  AR01,    85,  1,     33,2,19980215,0128, 24.4998, -66.1997, 5332,    104.9,  23.6890,  37.0040,  37.0090,2,    198.2,2,     202.0,2,     0.60,2,     0.49,2,     0.10,2,     0.02,2, -999.000,9, -999.000,9, -999.000,9, -999.000,9,   -999.0,9,  -999.00,9,   2074.3,2,   2415.6,2,   8.0590,2,   308.7,2,   20.0, -999.00,9,   357.2,  -999.0, -999.00,9
31RBOACES24N_2,  AR01,    85,  1,     32,2,19980215,0128, 24.4998, -66.1997, 5332,    159.1,  21.7380,  37.0050,  36.9810,2,    184.4,2,     191.2,2,     0.60,2,     1.27,2,     0.02,2,     0.04,2, -999.000,9, -999.000,9, -999.000,9, -999.000,9,   -999.0,9,  -999.00,9,   2100.3,2,   -999.0,5,   8.0265,2,   346.6,2,   20.0, -999.00,9,   371.6,  -999.0, -999.00,9
31RBOACES24N_2,  AR01,    85,  1,     31,2,19980215,0128, 24.4998, -66.1997, 5332,    208.5,  20.5340,  36.9190,  36.9230,2,    176.1,2,     178.0,2,     0.90,2,     3.22,2,     0.01,2,     0.13,2, -999.000,9, -999.000,9, -999.000,9, -999.000,9,   -999.0,9,  -999.00,9,   -999.0,9,   -999.0,9,-999.0000,9,  -999.0,9, -999.0, -999.00,9,  -999.0,  -999.0, -999.00,9
31RBOACES24N_2,  AR01,    85,  1,     30,2,19980215,0128, 24.4998, -66.1997, 5332,    232.6,  19.6700,  36.7790,  36.7920,2,    187.2,2,     185.2,2,     0.90,2,     3.02,2,     0.01,2,     0.12,2, -999.000,9, -999.000,9, -999.000,9, -999.000,9,   -999.0,9,  -999.00,9,   -999.0,9,   -999.0,9,-999.0000,9,  -999.0,9, -999.0, -999.00,9,  -999.0,  -999.0, -999.00,9
31RBOACES24N_2,  AR01,    85,  1,     29,2,19980215,0128, 24.4998, -66.1997, 5332,    260.7,  19.0150,  36.6850,  36.6930,2,    185.9,2,     188.0,2,     1.00,2,     3.80,2,     0.01,2,     0.15,2, -999.000,9, -999.000,9, -999.000,9, -999.000,9,   -999.0,9,  -999.00,9,   2112.8,2,   2394.7,2,   7.9727,2,   395.5,2,   20.0, -999.00,9,   380.0,  -999.0, -999.00,9
31RBOACES24N_2,  AR01,    85,  1,     28,2,19980215,0128, 24.4998, -66.1997, 5332,    285.2,  18.6260,  36.6270,  36.6280,2,    188.6,2,     191.6,2,     1.10,2,     4.29,2,     0.01,2,     0.18,2, -999.000,9, -999.000,9, -999.000,9, -999.000,9,   -999.0,9,  -999.00,9,   -999.0,9,   -999.0,9,-999.0000,9,  -999.0,9, -999.0, -999.00,9,  -999.0,  -999.0, -999.00,9
31RBOACES24N_2,  AR01,    85,  1,     27,3,19980215,0128, 24.4998, -66.1997, 5332,    310.2,  18.2390,  36.5590,  36.5650,2,    192.5,2,     186.5,2,     1.60,2,     5.66,2,     0.01,2,     0.28,2, -999.000,9, -999.000,9, -999.000,9, -999.000,9,   -999.0,9,  -999.00,9,   -999.0,9,   -999.0,9,-999.0000,9,  -999.0,9, -999.0, -999.00,9,  -999.0,  -999.0, -999.00,9
31RBOACES24N_2,  AR01,    85,  1,     26,2,19980215,0128, 24.4998, -66.1997, 5332,    369.7,  17.5910,  36.4640,  36.4600,2,    188.9,2,     184.2,2,     1.90,2,     7.03,2,     0.01,2,     0.36,2, -999.000,9, -999.000,9, -999.000,9, -999.000,9,   -999.0,9,  -999.00,9,   -999.0,9,   -999.0,9,-999.0000,9,  -999.0,9, -999.0, -999.00,9,  -999.0,  -999.0, -999.00,9
31RBOACES24N_2,  AR01,    85,  1,     25,2,19980215,0128, 24.4998, -66.1997, 5332,    429.9,  16.5830,  36.2870,  36.2980,2,    180.7,2,     177.0,2,     2.60,2,     9.08,2,     0.01,2,     0.50,2, -999.000,9, -999.000,9, -999.000,9, -999.000,9,   -999.0,9,  -999.00,9,   2131.3,2,   2371.2,2,   7.9082,2,   467.7,2,   20.0, -999.00,9,   407.2,  -999.0, -999.00,9
31RBOACES24N_2,  AR01,    85,  1,     24,2,19980215,0128, 24.4998, -66.1997, 5332,    489.3,  15.5280,  36.1000,  36.0950,2,    171.6,2,     162.2,2,     3.90,2,    12.30,2,     0.01,2,     0.72,2, -999.000,9, -999.000,9, -999.000,9, -999.000,9,   -999.0,9,  -999.00,9,   -999.0,9,   -999.0,9,-999.0000,9,  -999.0,9, -999.0, -999.00,9,  -999.0,  -999.0, -999.00,9
31RBOACES24N_2,  AR01,    85,  1,     23,2,19980215,0128, 24.4998, -66.1997, 5332,    586.9,  13.5910,  35.7860,  35.8090,2,    167.6,2,     159.6,2,     5.80,2,    15.42,2,     0.01,2,     0.92,2, -999.000,9, -999.000,9, -999.000,9, -999.000,9,   -999.0,9,  -999.00,9,   -999.0,9,   -999.0,9,-999.0000,9,  -999.0,9, -999.0, -999.00,9,  -999.0,  -999.0, -999.00,9
31RBOACES24N_2,  AR01,    85,  1,     22,2,19980215,0128, 24.4998, -66.1997, 5332,    691.2,  11.6500,  35.5250,  35.5320,2,    166.3,2,     160.8,2,     8.60,2,    18.65,2,     0.01,2,     1.16,2, -999.000,9, -999.000,9, -999.000,9, -999.000,9,   -999.0,9,  -999.00,9,   2166.7,2,   2334.7,2,   7.7619,2,   660.9,2,   20.0, -999.00,9,   468.3,  -999.0, -999.00,9
31RBOACES24N_2,  AR01,    85,  1,     21,2,19980215,0128, 24.4998, -66.1997, 5332,    790.4,   9.8790,  35.3030,  35.3130,2,    150.4,2,     151.3,2,    12.20,2,    22.46,2,     0.00,2,     1.44,2, -999.000,9, -999.000,9, -999.000,9, -999.000,9,   -999.0,9,  -999.00,9,   -999.0,9,   -999.0,9,-999.0000,9,  -999.0,9, -999.0, -999.00,9,  -999.0,  -999.0, -999.00,9
31RBOACES24N_2,  AR01,    85,  1,     20,2,19980215,0128, 24.4998, -66.1997, 5332,    889.6,   8.1990,  35.1000,  35.1000,2,    147.4,2,     147.2,2,    16.50,2,    25.88,2,     0.00,2,     1.71,2, -999.000,9, -999.000,9, -999.000,9, -999.000,9,   -999.0,9,  -999.00,9,   2197.8,2,   2319.0,2,   7.6572,2,   884.8,2,   20.0, -999.00,9,   543.0,  -999.0, -999.00,9
31RBOACES24N_2,  AR01,    85,  1,     19,2,19980215,0128, 24.4998, -66.1997, 5332,    989.2,   7.0940,  35.0600,  35.0610,2,    165.4,2,     163.9,2,    17.30,2,    25.30,2,     0.00,2,     1.67,2, -999.000,9, -999.000,9, -999.000,9, -999.000,9,   -999.0,9,  -999.00,9,   2195.7,6,   2321.0,2,   7.6634,2,   864.7,2,   20.0, -999.00,9,   504.5,  -999.0, -999.00,9
31RBOACES24N_2,  AR01,    85,  1,     18,2,19980215,0128, 24.4998, -66.1997, 5332,   1097.6,   6.3300,  35.0580,  35.0570,2,    186.9,2,     187.5,2,    16.60,2,    23.44,2,     0.00,2,     1.56,2, -999.000,9, -999.000,9, -999.000,9, -999.000,9,   -999.0,9,  -999.00,9,   2190.4,2,   2320.1,2,   7.6795,2,   826.1,2,   20.0, -999.00,9,   464.6,  -999.0, -999.00,9
31RBOACES24N_2,  AR01,    85,  1,     17,2,19980215,0128, 24.4998, -66.1997, 5332,   1299.8,   5.1950,  35.0600,  35.0320,2,    233.3,2,     233.0,2,    13.60,2,    19.63,2,     0.00,2,     1.31,2, -999.000,9, -999.000,9, -999.000,9, -999.000,9,   -999.0,9,  -999.00,9,   -999.0,9,   -999.0,9,-999.0000,9,  -999.0,9, -999.0, -999.00,9,  -999.0,  -999.0, -999.00,9
31RBOACES24N_2,  AR01,    85,  1,     16,2,19980215,0128, 24.4998, -66.1997, 5332,   1498.7,   4.5580,  35.0310,  35.0320,2,    253.7,2,     253.6,2,    12.80,2,    18.46,2,     0.00,2,     1.22,2, -999.000,9, -999.000,9, -999.000,9, -999.000,9,   -999.0,9,  -999.00,9,   2166.3,2,   2314.2,2,   7.7297,2,   730.5,2,   20.0, -999.00,9,   376.8,  -999.0, -999.00,9
31RBOACES24N_2,  AR01,    85,  1,     15,2,19980215,0128, 24.4998, -66.1997, 5332,   1696.3,   4.1340,  35.0090,  35.0090,2,    263.0,2,     262.3,2,    13.50,2,    18.07,2,     0.00,2,     1.21,2, -999.000,9, -999.000,9, -999.000,9, -999.000,9,   -999.0,9,  -999.00,9,   -999.0,9,   -999.0,9,-999.0000,9,  -999.0,9, -999.0, -999.00,9,  -999.0,  -999.0, -999.00,9
31RBOACES24N_2,  AR01,    85,  1,     14,2,19980215,0128, 24.4998, -66.1997, 5332,   1900.9,   3.8960,  35.0060,  35.0070,2,    263.1,2,     262.9,2,    15.40,2,    18.17,2,     0.00,2,     1.22,2, -999.000,9, -999.000,9, -999.000,9, -999.000,9,   -999.0,9,  -999.00,9,   -999.0,9,   -999.0,9,-999.0000,9,  -999.0,9, -999.0, -999.00,9,  -999.0,  -999.0, -999.00,9
31RBOACES24N_2,  AR01,    85,  1,     13,2,19980215,0128, 24.4998, -66.1997, 5332,   2100.6,   3.6630,  35.0020,  35.0030,2,    260.9,2,     260.9,2,    18.70,2,    18.66,2,     0.00,2,     1.26,2, -999.000,9, -999.000,9, -999.000,9, -999.000,9,   -999.0,9,  -999.00,9,   2166.8,2,   2321.5,2,   7.7398,2,   720.4,6,   20.0, -999.00,9,   355.4,  -999.0, -999.00,9
31RBOACES24N_2,  AR01,    85,  1,     12,2,19980215,0128, 24.4998, -66.1997, 5332,   2300.2,   3.4330,  34.9870,  34.9880,2,    261.9,2,     261.3,2,    21.00,2,    18.75,2,     0.00,2,     1.27,2, -999.000,9, -999.000,9, -999.000,9, -999.000,9,   -999.0,9,  -999.00,9,   -999.0,9,   -999.0,9,-999.0000,9,  -999.0,9, -999.0, -999.00,9,  -999.0,  -999.0, -999.00,9
31RBOACES24N_2,  AR01,    85,  1,     11,2,19980215,0128, 24.4998, -66.1997, 5332,   2499.4,   3.2180,  34.9720,  34.9720,2,    260.4,2,     260.3,2,    24.30,2,    19.15,2,     0.00,2,     1.30,2, -999.000,9, -999.000,9, -999.000,9, -999.000,9,   -999.0,9,  -999.00,9,   -999.0,9,   -999.0,9,-999.0000,9,  -999.0,9, -999.0, -999.00,9,  -999.0,  -999.0, -999.00,9
31RBOACES24N_2,  AR01,    85,  1,     10,2,19980215,0128, 24.4998, -66.1997, 5332,   2690.7,   3.0460,  34.9590,  34.9590,2,    260.0,2,     262.2,2,    26.70,2,    19.44,2,     0.00,2,     1.33,2, -999.000,9, -999.000,9, -999.000,9, -999.000,9,   -999.0,9,  -999.00,9,   -999.0,9,   -999.0,9,-999.0000,9,  -999.0,9, -999.0, -999.00,9,  -999.0,  -999.0, -999.00,9
31RBOACES24N_2,  AR01,    85,  1,      9,2,19980215,0128, 24.4998, -66.1997, 5332,   2903.4,   2.8970,  34.9460,  34.9470,2,    259.9,2,     260.6,2,    28.70,2,    19.54,2,     0.01,2,     1.34,2, -999.000,9, -999.000,9, -999.000,9, -999.000,9,   -999.0,9,  -999.00,9,   2175.9,2,   2330.8,2,   7.7387,2,   729.4,2,   20.0, -999.00,9,   346.1,  -999.0, -999.00,9
31RBOACES24N_2,  AR01,    85,  1,      8,2,19980215,0128, 24.4998, -66.1997, 5332,   3102.0,   2.7510,  34.9340,  34.9330,2,    262.8,2,     262.7,2,    29.70,2,    19.44,2,     0.00,2,     1.33,2, -999.000,9, -999.000,9, -999.000,9, -999.000,9,   -999.0,9,  -999.00,9,   -999.0,9,   -999.0,9,-999.0000,9,  -999.0,9, -999.0, -999.00,9,  -999.0,  -999.0, -999.00,9
31RBOACES24N_2,  AR01,    85,  1,      7,2,19980215,0128, 24.4998, -66.1997, 5332,   3399.7,   2.5850,  34.9200,  34.9200,2,    265.0,2,     265.2,2,    30.90,2,    19.34,2,     0.01,2,     1.33,2, -999.000,9, -999.000,9, -999.000,9, -999.000,9,   -999.0,9,  -999.00,9,   -999.0,9,   -999.0,9,-999.0000,9,  -999.0,9, -999.0, -999.00,9,  -999.0,  -999.0, -999.00,9
31RBOACES24N_2,  AR01,    85,  1,      6,2,19980215,0128, 24.4998, -66.1997, 5332,   3699.8,   2.4380,  34.9100,  34.9090,2,    269.9,2,     268.5,2,    30.50,2,    18.85,2,     0.01,2,     1.31,2, -999.000,9, -999.000,9, -999.000,9, -999.000,9,   -999.0,9,  -999.00,9,   -999.0,9,   -999.0,9,-999.0000,9,  -999.0,9, -999.0, -999.00,9,  -999.0,  -999.0, -999.00,9
31RBOACES24N_2,  AR01,    85,  1,      5,2,19980215,0128, 24.4998, -66.1997, 5332,   4000.1,   2.3510,  34.9020,  34.9020,2,    268.6,2,     271.5,2,    30.80,2,    18.76,2,     0.01,2,     1.30,2, -999.000,9, -999.000,9, -999.000,9, -999.000,9,   -999.0,9,  -999.00,9,   -999.0,9,   2326.5,2,   7.7396,2,   723.3,2,   20.0, -999.00,9,   333.8,  -999.0, -999.00,9
31RBOACES24N_2,  AR01,    85,  1,      4,2,19980215,0128, 24.4998, -66.1997, 5332,   4301.1,   2.3040,  34.8960,  34.8960,2,    271.1,2,     270.7,2,    32.90,2,    19.05,2,     0.01,2,     1.32,2, -999.000,9, -999.000,9, -999.000,9, -999.000,9,   -999.0,9,  -999.00,9,   -999.0,9,   -999.0,9,-999.0000,9,  -999.0,9, -999.0, -999.00,9,  -999.0,  -999.0, -999.00,9
31RBOACES24N_2,  AR01,    85,  1,      3,2,19980215,0128, 24.4998, -66.1997, 5332,   4600.9,   2.2480,  34.8860,  34.8870,2,    268.9,2,     268.0,2,    36.80,2,    19.54,2,     0.01,2,     1.36,2, -999.000,9, -999.000,9, -999.000,9, -999.000,9,   -999.0,9,  -999.00,9,   -999.0,9,   -999.0,9,-999.0000,9,  -999.0,9, -999.0, -999.00,9,  -999.0,  -999.0, -999.00,9
31RBOACES24N_2,  AR01,    85,  1,      2,2,19980215,0128, 24.4998, -66.1997, 5332,   5000.2,   2.1430,  34.8670,  34.8680,2,    262.7,2,     261.8,2,    46.10,2,    21.00,2,     0.01,2,     1.46,2, -999.000,9, -999.000,9, -999.000,9, -999.000,9,   -999.0,9,  -999.00,9,   2174.3,3,   -999.0,9,-999.0000,9,  -999.0,9, -999.0, -999.00,9,  -999.0,  -999.0, -999.00,9
31RBOACES24N_2,  AR01,    85,  1,      1,2,19980215,0128, 24.4998, -66.1997, 5332,   5428.0,   2.0780,  34.8520,  34.8530,2,    257.1,2,     257.1,2,    53.30,6,    22.18,6,     0.01,6,     1.55,6, -999.000,9, -999.000,9, -999.000,9, -999.000,9,   -999.0,9,  -999.00,9,   2200.5,2,   2348.6,2,   7.7141,2,   774.2,2,   20.0, -999.00,9,   351.5,  -999.0, -999.00,9