BOTTLE,20220820CCHSIOAMB
EXPOCODE,SECT_ID,STNNBR,CASTNO,BTLNBR,BTLNBR_FLAG_W,DATE,TIME,LATITUDE,LONGITUDE,DEPTH,CTDPRS,CTDTMP,CTDSAL,SALNTY,SALNTY_FLAG_W,CTDOXY,CTDOXY_FLAG_W,OXYGEN,OXYGEN_FLAG_W,SILCAT,SILCAT_FLAG_W,NITRAT,NITRAT_FLAG_W,NITRIT,NITRIT_FLAG_W,PHSPHT,PHSPHT_FLAG_W,CFC-11,CFC-11_FLAG_W,CFC-12,CFC-12_FLAG_W,CFC113,CFC113_FLAG_W,CCL4,CCL4_FLAG_W,DELC14,DELC14_FLAG_W,DELC13,DELC13_FLAG_W,TCARBN,TCARBN_FLAG_W,ALKALI,ALKALI_FLAG_W,PH,PH_FLAG_W,FCO2,FCO2_FLAG_W,FCO2TMP,TON,TON_FLAG_W,FCO2IN,C14ERR,TOC,TOC_FLAG_W
,,,,,,,,,,,DBAR,ITS-90,PSS-78,PSS-78,,UMOL/KG,,UMOL/KG,,UMOL/KG,,UMOL/KG,,UMOL/KG,,UMOL/KG,,PMOL/KG,,PMOL/KG,,PMOL/KG,,PMOL/KG,,/MILLE,,/MILLE,,UMOL/KG,,UMOL/KG,,,,UATM,,DEG C,UMOL/KG,,UATM,/MILLE,UMOL/KG,
31RBOACES24N_2,  AR01,   115,  1,     36,2,19980221,1911, 26.5000, -76.5168, 4848,      4.3,  23.5790,  36.4430,  36.4480,2,    211.0,2,     215.7,2,     1.40,3,     0.00,2,     0.00,2,     0.00,2, -999.000,9, -999.000,9, -999.000,9, -999.000,9,   -999.0,9,     1.25,2,   2035.5,2,   2387.5,6,   8.0843,6,   289.3,6,   20.0, -999.00,9,   333.4,  -999.0, -999.00,9
31RBOACES24N_2,  AR01,   115,  1,     35,2,19980221,1911, 26.5000, -76.5168, 4848,     47.7,  23.0510,  36.5950,  36.6130,2,    208.0,2,     211.1,6,  -999.00,5,     0.00,2,     0.08,2,     0.00,2, -999.000,9, -999.000,9, -999.000,9, -999.000,9,   -999.0,9,  -999.00,9,   -999.0,9,   -999.0,9,-999.0000,9,  -999.0,9, -999.0, -999.00,9,  -999.0,  -999.0, -999.00,9
31RBOACES24N_2,  AR01,   115,  1,     34,2,19980221,1911, 26.5000, -76.5168, 4848,    101.1,  22.1030,  36.6560,  36.6570,2,    214.6,2,     216.4,2,     1.60,3,     0.10,2,     0.02,2,     0.00,2, -999.000,9, -999.000,9, -999.000,9, -999.000,9,   -999.0,9,  -999.00,9,   -999.0,9,   -999.0,9,-999.0000,9,  -999.0,9, -999.0, -999.00,9,  -999.0,  -999.0, -999.00,9
31RBOACES24N_2,  AR01,   115,  1,     33,2,19980221,1911, 26.5000, -76.5168, 4848,    126.5,  21.9070,  36.6620,  36.6620,2,    213.0,2,     218.7,2,     1.60,3,     0.00,2,     0.00,2,     0.02,2, -999.000,9, -999.000,9, -999.000,9, -999.000,9,   -999.0,9,  -999.00,9,   -999.0,9,   -999.0,9,-999.0000,9,  -999.0,9, -999.0, -999.00,9,  -999.0,  -999.0, -999.00,9
31RBOACES24N_2,  AR01,   115,  1,     32,2,19980221,1911, 26.5000, -76.5168, 4848,    173.7,  21.4450,  36.9000,  36.9020,2,    198.1,2,     198.4,2,     1.50,3,     0.68,2,     0.02,2,     0.02,2, -999.000,9, -999.000,9, -999.000,9, -999.000,9,   -999.0,9,  -999.00,9,   -999.0,9,   -999.0,9,-999.0000,9,  -999.0,9, -999.0, -999.00,9,  -999.0,  -999.0, -999.00,9
31RBOACES24N_2,  AR01,   115,  1,     31,2,19980221,1911, 26.5000, -76.5168, 4848,    216.3,  19.8020,  36.7420,  36.7460,2,    195.9,2,     197.5,2,     1.70,3,     1.37,2,     0.01,2,     0.03,2, -999.000,9, -999.000,9, -999.000,9, -999.000,9,   -999.0,9,  -999.00,9,   -999.0,9,   -999.0,9,-999.0000,9,  -999.0,9, -999.0, -999.00,9,  -999.0,  -999.0, -999.00,9
31RBOACES24N_2,  AR01,   115,  1,     30,2,19980221,1911, 26.5000, -76.5168, 4848,    241.3,  19.2990,  36.6870,  36.6820,2,    197.2,2,     199.3,2,     1.70,3,     1.85,2,     0.01,2,     0.05,2, -999.000,9, -999.000,9, -999.000,9, -999.000,9,   -999.0,9,  -999.00,9,   -999.0,9,   -999.0,9,-999.0000,9,  -999.0,9, -999.0, -999.00,9,  -999.0,  -999.0, -999.00,9
31RBOACES24N_2,  AR01,   115,  1,     29,2,19980221,1911, 26.5000, -76.5168, 4848,    266.8,  18.6920,  36.6120,  36.6080,2,    199.6,2,     203.3,2,     1.70,3,     2.83,2,     0.01,2,     0.10,2, -999.000,9, -999.000,9, -999.000,9, -999.000,9,   -999.0,9,  -999.00,9,   -999.0,9,   -999.0,9,-999.0000,9,  -999.0,9, -999.0, -999.00,9,  -999.0,  -999.0, -999.00,9
31RBOACES24N_2,  AR01,   115,  1,     28,2,19980221,1911, 26.5000, -76.5168, 4848,    290.8,  18.3940,  36.5770,  36.5750,2,    201.8,2,     206.5,2,     1.90,3,     3.22,2,     0.01,2,     0.12,2, -999.000,9, -999.000,9, -999.000,9, -999.000,9,   -999.0,9,  -999.00,9,   -999.0,9,   -999.0,9,-999.0000,9,  -999.0,9, -999.0, -999.00,9,  -999.0,  -999.0, -999.00,9
31RBOACES24N_2,  AR01,   115,  1,     27,2,19980221,1911, 26.5000, -76.5168, 4848,    319.6,  18.2330,  36.5600,  36.5610,2,    206.6,2,     209.4,2,     2.50,3,     3.22,2,     0.01,2,     0.14,2, -999.000,9, -999.000,9, -999.000,9, -999.000,9,   -999.0,9,  -999.00,9,   -999.0,9,   -999.0,9,-999.0000,9,  -999.0,9, -999.0, -999.00,9,  -999.0,  -999.0, -999.00,9
31RBOACES24N_2,  AR01,   115,  1,     26,2,19980221,1911, 26.5000, -76.5168, 4848,    351.5,  18.1550,  36.5530,  36.5510,2,    208.6,2,     211.0,2,     3.20,3,     3.32,2,     0.01,2,     0.15,2, -999.000,9, -999.000,9, -999.000,9, -999.000,9,   -999.0,9,  -999.00,9,   -999.0,9,   -999.0,9,-999.0000,9,  -999.0,9, -999.0, -999.00,9,  -999.0,  -999.0, -999.00,9
31RBOACES24N_2,  AR01,   115,  1,     25,2,19980221,1911, 26.5000, -76.5168, 4848,    402.4,  18.0340,  36.5360,  36.5370,2,    211.0,2,     210.7,2,     3.20,3,     3.61,2,     0.01,2,     0.16,2, -999.000,9, -999.000,9, -999.000,9, -999.000,9,   -999.0,9,  -999.00,9,   -999.0,9,   -999.0,9,-999.0000,9,  -999.0,9, -999.0, -999.00,9,  -999.0,  -999.0, -999.00,9
31RBOACES24N_2,  AR01,   115,  1,     24,2,19980221,1911, 26.5000, -76.5168, 4848,    450.1,  17.7040,  36.4750,  36.4740,2,    204.4,2,     204.0,2,     3.40,3,     4.78,2,     0.00,2,     0.23,2, -999.000,9, -999.000,9, -999.000,9, -999.000,9,   -999.0,9,  -999.00,9,   -999.0,9,   -999.0,9,-999.0000,9,  -999.0,9, -999.0, -999.00,9,  -999.0,  -999.0, -999.00,9
31RBOACES24N_2,  AR01,   115,  1,     23,2,19980221,1911, 26.5000, -76.5168, 4848,    499.9,  16.7350,  36.2990,  36.3120,2,    186.7,2,     185.6,2,     4.30,3,     7.80,2,     0.00,2,     0.42,2, -999.000,9, -999.000,9, -999.000,9, -999.000,9,   -999.0,9,  -999.00,9,   -999.0,9,   -999.0,9,-999.0000,9,  -999.0,9, -999.0, -999.00,9,  -999.0,  -999.0, -999.00,9
31RBOACES24N_2,  AR01,   115,  1,     22,2,19980221,1911, 26.5000, -76.5168, 4848,    601.8,  14.6710,  35.9610,  35.9620,2,    170.3,2,     168.1,2,     6.40,3,    12.88,2,     0.00,2,     0.75,2, -999.000,9, -999.000,9, -999.000,9, -999.000,9,   -999.0,9,  -999.00,9,   -999.0,9,   -999.0,9,-999.0000,9,  -999.0,9, -999.0, -999.00,9,  -999.0,  -999.0, -999.00,9
31RBOACES24N_2,  AR01,   115,  1,     21,2,19980221,1911, 26.5000, -76.5168, 4848,    700.6,  11.9980,  35.5680,  35.5750,2,    157.1,2,     154.1,2,    10.10,3,    18.54,2,     0.00,2,     1.14,2, -999.000,9, -999.000,9, -999.000,9, -999.000,9,   -999.0,9,  -999.00,9,   -999.0,9,   -999.0,9,-999.0000,9,  -999.0,9, -999.0, -999.00,9,  -999.0,  -999.0, -999.00,9
31RBOACES24N_2,  AR01,   115,  1,     20,2,19980221,1911, 26.5000, -76.5168, 4848,    800.3,  10.1280,  35.3220,  35.3290,2,    148.7,2,     149.7,2,    13.80,3,    22.25,2,     0.00,2,     1.41,2, -999.000,9, -999.000,9, -999.000,9, -999.000,9,   -999.0,9,  -999.00,9,   -999.0,9,   -999.0,9,-999.0000,9,  -999.0,9, -999.0, -999.00,9,  -999.0,  -999.0, -999.00,9
31RBOACES24N_2,  AR01,   115,  1,     19,2,19980221,1911, 26.5000, -76.5168, 4848,    900.2,   8.3660,  35.1480,  35.1480,2,    153.9,2,     153.0,2,    17.30,3,    24.60,2,     0.00,2,     1.60,2, -999.000,9, -999.000,9, -999.000,9, -999.000,9,   -999.0,9,  -999.00,9,   -999.0,9,   -999.0,9,-999.0000,9,  -999.0,9, -999.0, -999.00,9,  -999.0,  -999.0, -999.00,9
31RBOACES24N_2,  AR01,   115,  1,     18,2,19980221,1911, 26.5000, -76.5168, 4848,    997.8,   6.8880,  35.0850,  35.0800,2,    174.1,2,     175.3,2,    17.80,3,    23.82,2,     0.00,2,     1.57,2, -999.000,9, -999.000,9, -999.000,9, -999.000,9,   -999.0,9,  -999.00,9,   -999.0,9,   -999.0,9,-999.0000,9,  -999.0,9, -999.0, -999.00,9,  -999.0,  -999.0, -999.00,9
31RBOACES24N_2,  AR01,   115,  1,     17,2,19980221,1911, 26.5000, -76.5168, 4848,   1201.9,   5.3340,  35.0660,  35.0660,2,    229.1,2,     230.9,2,    14.90,3,    19.33,2,     0.00,2,     1.30,2, -999.000,9, -999.000,9, -999.000,9, -999.000,9,   -999.0,9,  -999.00,9,   -999.0,9,   -999.0,9,-999.0000,9,  -999.0,9, -999.0, -999.00,9,  -999.0,  -999.0, -999.00,9
31RBOACES24N_2,  AR01,   115,  1,     16,2,19980221,1911, 26.5000, -76.5168, 4848,   1400.8,   4.4810,  35.0100,  35.0100,2,    255.0,2,     255.1,2,    14.40,3,    18.06,2,     0.00,2,     1.21,2, -999.000,9, -999.000,9, -999.000,9, -999.000,9,   -999.0,9,  -999.00,9,   -999.0,9,   -999.0,9,-999.0000,9,  -999.0,9, -999.0, -999.00,9,  -999.0,  -999.0, -999.00,9
31RBOACES24N_2,  AR01,   115,  1,     15,2,19980221,1911, 26.5000, -76.5168, 4848,   1599.7,   4.1810,  34.9970,  34.9980,2,    262.3,2,     231.6,4,    14.80,3,    17.77,2,     0.00,2,     1.19,2, -999.000,9, -999.000,9, -999.000,9, -999.000,9,   -999.0,9,  -999.00,9,   -999.0,9,   -999.0,9,-999.0000,9,  -999.0,9, -999.0, -999.00,9,  -999.0,  -999.0, -999.00,9
31RBOACES24N_2,  AR01,   115,  1,     14,2,19980221,1911, 26.5000, -76.5168, 4848,   1801.9,   4.0030,  34.9910,  34.9910,2,    264.0,2,     216.6,4,    15.40,3,    17.77,2,     0.00,2,     1.19,2, -999.000,9, -999.000,9, -999.000,9, -999.000,9,   -999.0,9,  -999.00,9,   -999.0,9,   -999.0,9,-999.0000,9,  -999.0,9, -999.0, -999.00,9,  -999.0,  -999.0, -999.00,9
31RBOACES24N_2,  AR01,   115,  1,     13,2,19980221,1911, 26.5000, -76.5168, 4848,   2000.9,   3.6360,  34.9520,  34.9530,2,    271.7,2,     255.1,4,    15.60,3,    17.38,2,     0.00,2,     1.17,2, -999.000,9, -999.000,9, -999.000,9, -999.000,9,   -999.0,9,  -999.00,9,   -999.0,9,   -999.0,9,-999.0000,9,  -999.0,9, -999.0, -999.00,9,  -999.0,  -999.0, -999.00,9
31RBOACES24N_2,  AR01,   115,  1,     12,2,19980221,1911, 26.5000, -76.5168, 4848,   2201.2,   3.5200,  34.9650,  34.9530,2,    269.3,2,     267.9,2,    17.40,2,    17.57,2,     0.00,2,     1.19,2, -999.000,9, -999.000,9, -999.000,9, -999.000,9,   -999.0,9,  -999.00,9,   -999.0,9,   -999.0,9,-999.0000,9,  -999.0,9, -999.0, -999.00,9,  -999.0,  -999.0, -999.00,9
31RBOACES24N_2,  AR01,   115,  1,     11,2,19980221,1911, 26.5000, -76.5168, 4848,   2400.4,   3.3810,  34.9650,  34.9660,2,    267.4,2,     254.2,4,    18.90,2,    17.77,2,     0.00,2,     1.20,2, -999.000,9, -999.000,9, -999.000,9, -999.000,9,   -999.0,9,  -999.00,9,   -999.0,9,   -999.0,9,-999.0000,9,  -999.0,9, -999.0, -999.00,9,  -999.0,  -999.0, -999.00,9
31RBOACES24N_2,  AR01,   115,  1,     10,2,19980221,1911, 26.5000, -76.5168, 4848,   2600.8,   3.1690,  34.9540,  34.9540,2,    268.4,2,     244.9,4,    20.00,2,    17.77,2,     0.00,2,     1.21,2, -999.000,9, -999.000,9, -999.000,9, -999.000,9,   -999.0,9,  -999.00,9,   -999.0,9,   -999.0,9,-999.0000,9,  -999.0,9, -999.0, -999.00,9,  -999.0,  -999.0, -999.00,9
31RBOACES24N_2,  AR01,   115,  1,      9,2,19980221,1911, 26.5000, -76.5168, 4848,   2798.9,   2.9540,  34.9390,  34.9390,2,    270.9,2,     244.6,4,    20.40,2,    17.48,2,     0.00,2,     1.19,2, -999.000,9, -999.000,9, -999.000,9, -999.000,9,   -999.0,9,  -999.00,9,   -999.0,9,   -999.0,9,-999.0000,9,  -999.0,9, -999.0, -999.00,9,  -999.0,  -999.0, -999.00,9
31RBOACES24N_2,  AR01,   115,  1,      8,2,19980221,1911, 26.5000, -76.5168, 4848,   2984.5,   2.8110,  34.9320,  34.9330,2,    272.5,2,     245.2,4,    21.30,2,    17.48,2,     0.00,2,     1.19,2, -999.000,9, -999.000,9, -999.000,9, -999.000,9,   -999.0,9,  -999.00,9,   -999.0,9,   -999.0,9,-999.0000,9,  -999.0,9, -999.0, -999.00,9,  -999.0,  -999.0, -999.00,9
31RBOACES24N_2,  AR01,   115,  1,      7,2,19980221,1911, 26.5000, -76.5168, 4848,   3199.8,   2.6580,  34.9230,  34.9230,2,    274.7,2,     269.9,2,    21.90,2,    17.38,2,     0.00,2,     1.19,2, -999.000,9, -999.000,9, -999.000,9, -999.000,9,   -999.0,9,  -999.00,9,   -999.0,9,   -999.0,9,-999.0000,9,  -999.0,9, -999.0, -999.00,9,  -999.0,  -999.0, -999.00,9
31RBOACES24N_2,  AR01,   115,  1,      6,2,19980221,1911, 26.5000, -76.5168, 4848,   3395.7,   2.5130,  34.9150,  34.9140,2,    275.9,2,     260.8,4,    22.80,2,    17.28,2,     0.00,2,     1.19,2, -999.000,9, -999.000,9, -999.000,9, -999.000,9,   -999.0,9,  -999.00,9,   -999.0,9,   -999.0,9,-999.0000,9,  -999.0,9, -999.0, -999.00,9,  -999.0,  -999.0, -999.00,9
31RBOACES24N_2,  AR01,   115,  1,      5,2,19980221,1911, 26.5000, -76.5168, 4848,   3699.7,   2.3820,  34.9050,  34.9050,2,    274.6,2,     252.9,4,    25.00,2,    17.48,2,     0.00,2,     1.21,2, -999.000,9, -999.000,9, -999.000,9, -999.000,9,   -999.0,9,  -999.00,9,   -999.0,9,   -999.0,9,-999.0000,9,  -999.0,9, -999.0, -999.00,9,  -999.0,  -999.0, -999.00,9
31RBOACES24N_2,  AR01,   115,  1,      4,2,19980221,1911, 26.5000, -76.5168, 4848,   3998.9,   2.3250,  34.9000,  34.9000,2,    274.5,2,     264.1,4,    27.10,2,    17.77,2,     0.00,2,     1.23,2, -999.000,9, -999.000,9, -999.000,9, -999.000,9,   -999.0,9,  -999.00,9,   -999.0,9,   -999.0,9,-999.0000,9,  -999.0,9, -999.0, -999.00,9,  -999.0,  -999.0, -999.00,9
31RBOACES24N_2,  AR01,   115,  1,      3,2,19980221,1911, 26.5000, -76.5168, 4848,   4299.0,   2.3050,  34.8960,  34.8950,2,    272.9,2,     271.4,2,    29.30,2,    18.16,2,     0.00,2,     1.25,2, -999.000,9, -999.000,9, -999.000,9, -999.000,9,   -999.0,9,  -999.00,9,   -999.0,9,   -999.0,9,-999.0000,9,  -999.0,9, -999.0, -999.00,9,  -999.0,  -999.0, -999.00,9
31RBOACES24N_2,  AR01,   115,  1,      2,2,19980221,1911, 26.5000, -76.5168, 4848,   4600.4,   2.2960,  34.8920,  34.8920,2,    270.9,2,     245.1,4,    31.70,2,    18.55,2,     0.00,2,     1.28,2, -999.000,9, -999.000,9, -999.000,9, -999.000,9,   -999.0,9,  -999.00,9,   -999.0,9,   -999.0,9,-999.0000,9,  -999.0,9, -999.0, -999.00,9,  -999.0,  -999.0, -999.00,9
31RBOACES24N_2,  AR01,   115,  1,      1,2,19980221,1911, 26.5000, -76.5168, 4848,   4918.5,   2.1990,  34.8750,  34.8760,2,    261.8,2,     261.9,2,    41.70,6,    20.21,6,     0.01,6,     1.41,6, -999.000,9, -999.000,9, -999.000,9, -999.000,9,   -999.0,9,  -999.00,9,   -999.0,9,   -999.0,9,-999.0000,9,  -999.0,9, -999.0, -999.00,9,  -999.0,  -999.0, -999.00,9