BOTTLE,20220820CCHSIOAMB
EXPOCODE,SECT_ID,STNNBR,CASTNO,BTLNBR,BTLNBR_FLAG_W,DATE,TIME,LATITUDE,LONGITUDE,DEPTH,CTDPRS,CTDTMP,CTDSAL,SALNTY,SALNTY_FLAG_W,CTDOXY,CTDOXY_FLAG_W,OXYGEN,OXYGEN_FLAG_W,SILCAT,SILCAT_FLAG_W,NITRAT,NITRAT_FLAG_W,NITRIT,NITRIT_FLAG_W,PHSPHT,PHSPHT_FLAG_W,CFC-11,CFC-11_FLAG_W,CFC-12,CFC-12_FLAG_W,CFC113,CFC113_FLAG_W,CCL4,CCL4_FLAG_W,DELC14,DELC14_FLAG_W,DELC13,DELC13_FLAG_W,TCARBN,TCARBN_FLAG_W,ALKALI,ALKALI_FLAG_W,PH,PH_FLAG_W,FCO2,FCO2_FLAG_W,FCO2TMP,TON,TON_FLAG_W,FCO2IN,C14ERR,TOC,TOC_FLAG_W
,,,,,,,,,,,DBAR,ITS-90,PSS-78,PSS-78,,UMOL/KG,,UMOL/KG,,UMOL/KG,,UMOL/KG,,UMOL/KG,,UMOL/KG,,PMOL/KG,,PMOL/KG,,PMOL/KG,,PMOL/KG,,/MILLE,,/MILLE,,UMOL/KG,,UMOL/KG,,,,UATM,,DEG C,UMOL/KG,,UATM,/MILLE,UMOL/KG,
31RBOACES24N_2,  AR01,    91,  1,     36,2,19980216,1932, 25.3835, -69.8668, 5547,      4.5,  23.9040,  36.7270,  36.7270,2,    215.5,2,     212.6,2,     0.60,2,     0.10,2,     0.00,2,     0.00,2, -999.000,9, -999.000,9, -999.000,9, -999.000,9,   -999.0,9,  -999.00,9,   2038.1,6,   2403.8,6,   8.1051,6,   283.8,6,   20.0, -999.00,9,   331.0,  -999.0, -999.00,9
31RBOACES24N_2,  AR01,    91,  1,     35,2,19980216,1932, 25.3835, -69.8668, 5547,     60.4,  23.6300,  36.7220,  36.7240,2,    212.9,2,     213.0,2,     0.60,2,     0.10,2,     0.00,2,     0.01,2, -999.000,9, -999.000,9, -999.000,9, -999.000,9,   -999.0,9,  -999.00,9,   -999.0,9,   -999.0,9,-999.0000,9,  -999.0,9, -999.0, -999.00,9,  -999.0,  -999.0, -999.00,9
31RBOACES24N_2,  AR01,    91,  1,     34,2,19980216,1932, 25.3835, -69.8668, 5547,     91.0,  23.4970,  36.7200,  36.7200,2,    213.6,2,     213.4,2,     0.60,2,     0.10,2,     0.00,2,     0.01,2, -999.000,9, -999.000,9, -999.000,9, -999.000,9,   -999.0,9,  -999.00,9,   -999.0,9,   -999.0,9,-999.0000,9,  -999.0,9, -999.0, -999.00,9,  -999.0,  -999.0, -999.00,9
31RBOACES24N_2,  AR01,    91,  1,     33,2,19980216,1932, 25.3835, -69.8668, 5547,    130.3,  22.9560,  36.7370,  36.7480,2,    200.4,2,     214.4,3,     0.50,2,     0.10,2,     0.01,2,     0.01,2, -999.000,9, -999.000,9, -999.000,9, -999.000,9,   -999.0,9,  -999.00,9,   -999.0,9,   -999.0,9,-999.0000,9,  -999.0,9, -999.0, -999.00,9,  -999.0,  -999.0, -999.00,9
31RBOACES24N_2,  AR01,    91,  1,     32,2,19980216,1932, 25.3835, -69.8668, 5547,    170.2,  21.5610,  36.9230,  36.9030,2,    204.5,2,     207.0,2,     0.40,2,     0.49,2,     0.03,2,     0.02,2, -999.000,9, -999.000,9, -999.000,9, -999.000,9,   -999.0,9,  -999.00,9,   -999.0,9,   -999.0,9,-999.0000,9,  -999.0,9, -999.0, -999.00,9,  -999.0,  -999.0, -999.00,9
31RBOACES24N_2,  AR01,    91,  1,     31,2,19980216,1932, 25.3835, -69.8668, 5547,    201.6,  19.7690,  36.7640,  36.7540,2,    198.0,2,     196.4,2,     0.60,2,     1.66,2,     0.01,2,     0.05,2, -999.000,9, -999.000,9, -999.000,9, -999.000,9,   -999.0,9,  -999.00,9,   -999.0,9,   -999.0,9,-999.0000,9,  -999.0,9, -999.0, -999.00,9,  -999.0,  -999.0, -999.00,9
31RBOACES24N_2,  AR01,    91,  1,     30,2,19980216,1932, 25.3835, -69.8668, 5547,    226.1,  19.1680,  36.6790,  36.6660,2,    196.8,2,     198.6,2,     0.70,2,     2.34,2,     0.01,2,     0.07,2, -999.000,9, -999.000,9, -999.000,9, -999.000,9,   -999.0,9,  -999.00,9,   -999.0,9,   -999.0,9,-999.0000,9,  -999.0,9, -999.0, -999.00,9,  -999.0,  -999.0, -999.00,9
31RBOACES24N_2,  AR01,    91,  1,     29,2,19980216,1932, 25.3835, -69.8668, 5547,    249.5,  18.6880,  36.6120,  36.6110,2,    200.6,2,     202.8,2,     0.80,2,     2.83,2,     0.01,2,     0.11,2, -999.000,9, -999.000,9, -999.000,9, -999.000,9,   -999.0,9,  -999.00,9,   -999.0,9,   -999.0,9,-999.0000,9,  -999.0,9, -999.0, -999.00,9,  -999.0,  -999.0, -999.00,9
31RBOACES24N_2,  AR01,    91,  1,     28,2,19980216,1932, 25.3835, -69.8668, 5547,    270.3,  18.4310,  36.5790,  36.5790,2,    202.4,2,     204.7,2,     1.00,2,     3.41,2,     0.01,2,     0.14,2, -999.000,9, -999.000,9, -999.000,9, -999.000,9,   -999.0,9,  -999.00,9,   -999.0,9,   -999.0,9,-999.0000,9,  -999.0,9, -999.0, -999.00,9,  -999.0,  -999.0, -999.00,9
31RBOACES24N_2,  AR01,    91,  1,     27,2,19980216,1932, 25.3835, -69.8668, 5547,    299.6,  18.1690,  36.5530,  36.5540,2,    206.7,2,     209.8,2,     1.10,2,     3.51,2,     0.01,2,     0.15,2, -999.000,9, -999.000,9, -999.000,9, -999.000,9,   -999.0,9,  -999.00,9,   -999.0,9,   -999.0,9,-999.0000,9,  -999.0,9, -999.0, -999.00,9,  -999.0,  -999.0, -999.00,9
31RBOACES24N_2,  AR01,    91,  1,     26,2,19980216,1932, 25.3835, -69.8668, 5547,    350.6,  17.9460,  36.5200,  36.5200,2,    211.7,2,     208.7,6,     1.20,2,     4.00,2,     0.01,2,     0.19,2, -999.000,9, -999.000,9, -999.000,9, -999.000,9,   -999.0,9,  -999.00,9,   -999.0,9,   -999.0,9,-999.0000,9,  -999.0,9, -999.0, -999.00,9,  -999.0,  -999.0, -999.00,9
31RBOACES24N_2,  AR01,    91,  1,     25,2,19980216,1932, 25.3835, -69.8668, 5547,    400.3,  17.5100,  36.4400,  36.4370,2,    206.7,2,     198.6,2,     1.70,2,     5.76,2,     0.01,2,     0.29,2, -999.000,9, -999.000,9, -999.000,9, -999.000,9,   -999.0,9,  -999.00,9,   -999.0,9,   -999.0,9,-999.0000,9,  -999.0,9, -999.0, -999.00,9,  -999.0,  -999.0, -999.00,9
31RBOACES24N_2,  AR01,    91,  1,     24,2,19980216,1932, 25.3835, -69.8668, 5547,    493.4,  15.9270,  36.1690,  36.1610,2,    186.9,2,     177.0,2,     3.20,2,    10.25,2,     0.01,2,     0.57,2, -999.000,9, -999.000,9, -999.000,9, -999.000,9,   -999.0,9,  -999.00,9,   -999.0,9,   -999.0,9,-999.0000,9,  -999.0,9, -999.0, -999.00,9,  -999.0,  -999.0, -999.00,9
31RBOACES24N_2,  AR01,    91,  1,     23,2,19980216,1932, 25.3835, -69.8668, 5547,    600.5,  13.4600,  35.7640,  35.7710,2,    154.7,2,     152.5,2,     6.10,2,    16.40,2,     0.01,2,     0.98,2, -999.000,9, -999.000,9, -999.000,9, -999.000,9,   -999.0,9,  -999.00,9,   -999.0,9,   -999.0,9,-999.0000,9,  -999.0,9, -999.0, -999.00,9,  -999.0,  -999.0, -999.00,9
31RBOACES24N_2,  AR01,    91,  1,     22,2,19980216,1932, 25.3835, -69.8668, 5547,    700.8,  11.7580,  35.5570,  35.5600,2,    164.7,2,     162.6,2,     8.00,2,    18.16,2,     0.01,2,     1.11,2, -999.000,9, -999.000,9, -999.000,9, -999.000,9,   -999.0,9,  -999.00,9,   -999.0,9,   -999.0,9,-999.0000,9,  -999.0,9, -999.0, -999.00,9,  -999.0,  -999.0, -999.00,9
31RBOACES24N_2,  AR01,    91,  1,     21,2,19980216,1932, 25.3835, -69.8668, 5547,    800.0,   9.8490,  35.2960,  35.2970,2,    153.8,2,     151.5,2,    12.20,2,    22.66,2,     0.01,2,     1.44,2, -999.000,9, -999.000,9, -999.000,9, -999.000,9,   -999.0,9,  -999.00,9,   -999.0,9,   -999.0,9,-999.0000,9,  -999.0,9, -999.0, -999.00,9,  -999.0,  -999.0, -999.00,9
31RBOACES24N_2,  AR01,    91,  1,     20,2,19980216,1932, 25.3835, -69.8668, 5547,    900.3,   8.0470,  35.1450,  35.1490,2,    162.1,2,     161.3,2,    14.70,2,    24.03,2,     0.01,2,     1.56,2, -999.000,9, -999.000,9, -999.000,9, -999.000,9,   -999.0,9,  -999.00,9,   -999.0,9,   -999.0,9,-999.0000,9,  -999.0,9, -999.0, -999.00,9,  -999.0,  -999.0, -999.00,9
31RBOACES24N_2,  AR01,    91,  1,     19,2,19980216,1932, 25.3835, -69.8668, 5547,    995.4,   6.7530,  35.0570,  35.0560,2,    173.3,2,     173.1,2,    16.80,2,    24.81,2,     0.01,2,     1.63,2, -999.000,9, -999.000,9, -999.000,9, -999.000,9,   -999.0,9,  -999.00,9,   -999.0,9,   -999.0,9,-999.0000,9,  -999.0,9, -999.0, -999.00,9,  -999.0,  -999.0, -999.00,9
31RBOACES24N_2,  AR01,    91,  1,     18,2,19980216,1932, 25.3835, -69.8668, 5547,   1096.8,   6.0710,  35.0780,  35.0750,2,    198.7,2,     198.5,2,    15.30,2,    22.46,2,     0.01,2,     1.48,2, -999.000,9, -999.000,9, -999.000,9, -999.000,9,   -999.0,9,  -999.00,9,   -999.0,9,   -999.0,9,-999.0000,9,  -999.0,9, -999.0, -999.00,9,  -999.0,  -999.0, -999.00,9
31RBOACES24N_2,  AR01,    91,  1,     17,2,19980216,1932, 25.3835, -69.8668, 5547,   1299.6,   5.2780,  35.1000,  35.0990,2,    234.0,2,     231.6,2,    13.50,2,    19.63,2,     0.01,2,     1.30,2, -999.000,9, -999.000,9, -999.000,9, -999.000,9,   -999.0,9,  -999.00,9,   -999.0,9,   -999.0,9,-999.0000,9,  -999.0,9, -999.0, -999.00,9,  -999.0,  -999.0, -999.00,9
31RBOACES24N_2,  AR01,    91,  1,     16,2,19980216,1932, 25.3835, -69.8668, 5547,   1499.5,   4.5140,  35.0440,  35.0450,2,    252.9,2,     252.1,2,    13.00,2,    18.56,2,     0.00,2,     1.23,2, -999.000,9, -999.000,9, -999.000,9, -999.000,9,   -999.0,9,  -999.00,9,   -999.0,9,   -999.0,9,-999.0000,9,  -999.0,9, -999.0, -999.00,9,  -999.0,  -999.0, -999.00,9
31RBOACES24N_2,  AR01,    91,  1,     15,2,19980216,1932, 25.3835, -69.8668, 5547,   1698.6,   4.0900,  35.0190,  35.0180,2,    259.9,2,     259.3,2,    14.20,2,    18.36,2,     0.00,2,     1.22,2, -999.000,9, -999.000,9, -999.000,9, -999.000,9,   -999.0,9,  -999.00,9,   -999.0,9,   -999.0,9,-999.0000,9,  -999.0,9, -999.0, -999.00,9,  -999.0,  -999.0, -999.00,9
31RBOACES24N_2,  AR01,    91,  1,     14,2,19980216,1932, 25.3835, -69.8668, 5547,   1896.9,   3.8240,  35.0070,  35.0070,2,    260.1,2,     261.1,2,    16.10,2,    18.46,2,     0.01,2,     1.23,2, -999.000,9, -999.000,9, -999.000,9, -999.000,9,   -999.0,9,  -999.00,9,   -999.0,9,   -999.0,9,-999.0000,9,  -999.0,9, -999.0, -999.00,9,  -999.0,  -999.0, -999.00,9
31RBOACES24N_2,  AR01,    91,  1,     13,2,19980216,1932, 25.3835, -69.8668, 5547,   2099.8,   3.5650,  34.9950,  34.9950,2,    260.5,2,     260.5,2,    18.70,2,    18.75,2,     0.01,2,     1.25,2, -999.000,9, -999.000,9, -999.000,9, -999.000,9,   -999.0,9,  -999.00,9,   -999.0,9,   -999.0,9,-999.0000,9,  -999.0,9, -999.0, -999.00,9,  -999.0,  -999.0, -999.00,9
31RBOACES24N_2,  AR01,    91,  1,     12,2,19980216,1932, 25.3835, -69.8668, 5547,   2298.7,   3.3340,  34.9790,  34.9790,2,    260.3,2,     260.8,2,    21.30,2,    18.95,2,     0.01,2,     1.28,2, -999.000,9, -999.000,9, -999.000,9, -999.000,9,   -999.0,9,  -999.00,9,   -999.0,9,   -999.0,9,-999.0000,9,  -999.0,9, -999.0, -999.00,9,  -999.0,  -999.0, -999.00,9
31RBOACES24N_2,  AR01,    91,  1,     11,2,19980216,1932, 25.3835, -69.8668, 5547,   2488.8,   3.1530,  34.9650,  34.9650,2,    260.5,2,     261.5,2,    23.40,2,    19.14,2,     0.01,2,     1.31,2, -999.000,9, -999.000,9, -999.000,9, -999.000,9,   -999.0,9,  -999.00,9,   -999.0,9,   -999.0,9,-999.0000,9,  -999.0,9, -999.0, -999.00,9,  -999.0,  -999.0, -999.00,9
31RBOACES24N_2,  AR01,    91,  1,     10,2,19980216,1932, 25.3835, -69.8668, 5547,   2689.9,   2.9920,  34.9530,  34.9530,2,    258.4,2,     259.7,2,    26.50,2,    19.54,2,     0.01,2,     1.32,2, -999.000,9, -999.000,9, -999.000,9, -999.000,9,   -999.0,9,  -999.00,9,   -999.0,9,   -999.0,9,-999.0000,9,  -999.0,9, -999.0, -999.00,9,  -999.0,  -999.0, -999.00,9
31RBOACES24N_2,  AR01,    91,  1,      9,2,19980216,1932, 25.3835, -69.8668, 5547,   2899.1,   2.8520,  34.9410,  34.9420,2,    260.1,2,     260.8,2,    28.10,2,    19.63,2,     0.01,2,     1.33,2, -999.000,9, -999.000,9, -999.000,9, -999.000,9,   -999.0,9,  -999.00,9,   -999.0,9,   -999.0,9,-999.0000,9,  -999.0,9, -999.0, -999.00,9,  -999.0,  -999.0, -999.00,9
31RBOACES24N_2,  AR01,    91,  1,      8,2,19980216,1932, 25.3835, -69.8668, 5547,   3199.3,   2.6630,  34.9270,  34.9260,2,    264.7,2,     265.2,2,    28.00,2,    19.24,2,     0.01,2,     1.31,2, -999.000,9, -999.000,9, -999.000,9, -999.000,9,   -999.0,9,  -999.00,9,   -999.0,9,   -999.0,9,-999.0000,9,  -999.0,9, -999.0, -999.00,9,  -999.0,  -999.0, -999.00,9
31RBOACES24N_2,  AR01,    91,  1,      7,2,19980216,1932, 25.3835, -69.8668, 5547,   3501.6,   2.4930,  34.9150,  34.9150,2,    271.5,2,     271.8,2,    25.50,2,    18.17,2,     0.01,2,     1.25,2, -999.000,9, -999.000,9, -999.000,9, -999.000,9,   -999.0,9,  -999.00,9,   -999.0,9,   -999.0,9,-999.0000,9,  -999.0,9, -999.0, -999.00,9,  -999.0,  -999.0, -999.00,9
31RBOACES24N_2,  AR01,    91,  1,      6,2,19980216,1932, 25.3835, -69.8668, 5547,   3798.0,   2.3840,  34.9060,  34.9060,2,    273.8,2,     273.6,2,    26.10,2,    18.07,2,     0.01,2,     1.24,2, -999.000,9, -999.000,9, -999.000,9, -999.000,9,   -999.0,9,  -999.00,9,   -999.0,9,   -999.0,9,-999.0000,9,  -999.0,9, -999.0, -999.00,9,  -999.0,  -999.0, -999.00,9
31RBOACES24N_2,  AR01,    91,  1,      5,2,19980216,1932, 25.3835, -69.8668, 5547,   4098.5,   2.3310,  34.9010,  34.9000,2,    273.5,2,     272.8,2,    28.00,2,    18.27,2,     0.01,2,     1.26,2, -999.000,9, -999.000,9, -999.000,9, -999.000,9,   -999.0,9,  -999.00,9,   -999.0,9,   -999.0,9,-999.0000,9,  -999.0,9, -999.0, -999.00,9,  -999.0,  -999.0, -999.00,9
31RBOACES24N_2,  AR01,    91,  1,      4,2,19980216,1932, 25.3835, -69.8668, 5547,   4399.1,   2.3010,  34.8950,  34.8960,2,    272.0,2,     270.7,2,    30.30,2,    18.56,2,     0.01,2,     1.28,2, -999.000,9, -999.000,9, -999.000,9, -999.000,9,   -999.0,9,  -999.00,9,   -999.0,9,   -999.0,9,-999.0000,9,  -999.0,9, -999.0, -999.00,9,  -999.0,  -999.0, -999.00,9
31RBOACES24N_2,  AR01,    91,  1,      3,2,19980216,1932, 25.3835, -69.8668, 5547,   4798.4,   2.2480,  34.8850,  34.8840,2,    268.2,2,     266.0,2,    36.50,2,    19.63,2,     0.01,2,     1.36,2, -999.000,9, -999.000,9, -999.000,9, -999.000,9,   -999.0,9,  -999.00,9,   -999.0,9,   -999.0,9,-999.0000,9,  -999.0,9, -999.0, -999.00,9,  -999.0,  -999.0, -999.00,9
31RBOACES24N_2,  AR01,    91,  1,      2,2,19980216,1932, 25.3835, -69.8668, 5547,   5198.8,   2.1470,  34.8650,  34.8650,2,    260.2,2,     259.4,2,    46.70,2,    21.30,2,     0.01,2,     1.48,2, -999.000,9, -999.000,9, -999.000,9, -999.000,9,   -999.0,9,  -999.00,9,   -999.0,9,   -999.0,9,-999.0000,9,  -999.0,9, -999.0, -999.00,9,  -999.0,  -999.0, -999.00,9
31RBOACES24N_2,  AR01,    91,  1,      1,2,19980216,1932, 25.3835, -69.8668, 5547,   5619.4,   2.0550,  34.8460,  34.8460,2,    252.0,2,     253.6,2,    55.50,2,    22.66,2,     0.01,6,     1.58,6, -999.000,9, -999.000,9, -999.000,9, -999.000,9,   -999.0,9,  -999.00,9,   -999.0,9,   -999.0,9,-999.0000,9,  -999.0,9, -999.0, -999.00,9,  -999.0,  -999.0, -999.00,9