BOTTLE,20220820CCHSIOAMB
EXPOCODE,SECT_ID,STNNBR,CASTNO,BTLNBR,BTLNBR_FLAG_W,DATE,TIME,LATITUDE,LONGITUDE,DEPTH,CTDPRS,CTDTMP,CTDSAL,SALNTY,SALNTY_FLAG_W,CTDOXY,CTDOXY_FLAG_W,OXYGEN,OXYGEN_FLAG_W,SILCAT,SILCAT_FLAG_W,NITRAT,NITRAT_FLAG_W,NITRIT,NITRIT_FLAG_W,PHSPHT,PHSPHT_FLAG_W,CFC-11,CFC-11_FLAG_W,CFC-12,CFC-12_FLAG_W,CFC113,CFC113_FLAG_W,CCL4,CCL4_FLAG_W,DELC14,DELC14_FLAG_W,DELC13,DELC13_FLAG_W,TCARBN,TCARBN_FLAG_W,ALKALI,ALKALI_FLAG_W,PH,PH_FLAG_W,FCO2,FCO2_FLAG_W,FCO2TMP,TON,TON_FLAG_W,FCO2IN,C14ERR,TOC,TOC_FLAG_W
,,,,,,,,,,,DBAR,ITS-90,PSS-78,PSS-78,,UMOL/KG,,UMOL/KG,,UMOL/KG,,UMOL/KG,,UMOL/KG,,UMOL/KG,,PMOL/KG,,PMOL/KG,,PMOL/KG,,PMOL/KG,,/MILLE,,/MILLE,,UMOL/KG,,UMOL/KG,,,,UATM,,DEG C,UMOL/KG,,UATM,/MILLE,UMOL/KG,
31RBOACES24N_2,  AR01,    22,  1,     36,2,19980128,0549, 24.5000, -23.4837, 5017,      4.2,  22.0340,  37.1210,  37.1200,2,    221.8,2,     218.6,2,     0.80,2,     0.00,2,     0.01,2,  -999.00,5,    2.056,2,    1.385,2,    0.169,2, -999.000,9,   -999.0,9,  -999.00,9,   2096.7,6,   2437.3,2,   8.0433,2,   333.9,2,   20.0,    6.32,2,   362.0,  -999.0,   65.12,2
31RBOACES24N_2,  AR01,    22,  1,     35,2,19980128,0549, 24.5000, -23.4837, 5017,     49.2,  22.0420,  37.1200,  37.1210,2,    215.6,2,     218.9,2,     0.70,2,     0.00,2,     0.01,2,  -999.00,5,    2.085,2,    1.393,2,    0.155,2, -999.000,9,   -999.0,9,  -999.00,9,   2099.4,2,   2437.8,2,   8.0403,2,   333.1,2,   20.0,    4.27,2,   361.4,  -999.0,   63.46,2
31RBOACES24N_2,  AR01,    22,  1,     34,2,19980128,0549, 24.5000, -23.4837, 5017,     99.2,  22.0560,  37.1200,  37.1210,2,    215.4,2,     218.7,2,     0.70,2,     0.00,2,     0.01,2,  -999.00,5,    2.088,6,    1.401,6,    0.157,6, -999.000,9,   -999.0,9,  -999.00,9,   2100.9,2,   2428.0,2,   8.0400,2,   333.8,2,   20.0,    4.34,2,   362.3,  -999.0,   62.88,2
31RBOACES24N_2,  AR01,    22,  1,     33,2,19980128,0549, 24.5000, -23.4837, 5017,    130.5,  21.8860,  37.0850,  37.1050,2,    202.8,2,     218.1,2,     0.70,2,     0.19,2,     0.01,2,  -999.00,5, -999.000,9, -999.000,9, -999.000,9, -999.000,9,   -999.0,9,  -999.00,9,   2100.8,2,   -999.0,9,   8.0366,2,   336.7,2,   20.0,    4.49,2,   363.1,  -999.0,   63.07,2
31RBOACES24N_2,  AR01,    22,  1,     32,2,19980128,0549, 24.5000, -23.4837, 5017,    161.5,  19.8550,  36.9170,  36.9210,2,    192.7,2,     205.4,2,     1.00,2,     1.95,2,     0.03,2,  -999.00,5, -999.000,9, -999.000,9, -999.000,9, -999.000,9,   -999.0,9,  -999.00,9,   2121.3,2,   2413.6,2,   7.9883,2,   386.6,2,   20.0, -999.00,9,   384.2,  -999.0,   58.07,2
31RBOACES24N_2,  AR01,    22,  1,     31,2,19980128,0549, 24.5000, -23.4837, 5017,    199.9,  18.0370,  36.5700,  36.5810,2,    175.5,2,     182.6,2,     2.00,2,     6.24,2,     0.01,2,  -999.00,5,    2.299,2,    1.295,2,    0.079,2, -999.000,9,   -999.0,9,  -999.00,9,   2140.1,3,   -999.0,9,-999.0000,5,   456.8,2,   20.0,    9.43,2,   421.8,  -999.0,   51.83,2
31RBOACES24N_2,  AR01,    22,  1,     30,2,19980128,0549, 24.5000, -23.4837, 5017,    249.8,  16.9330,  36.4070,  36.4070,2,    189.7,2,     194.1,2,     2.00,2,     6.34,2,     0.01,2,  -999.00,5, -999.000,9, -999.000,9, -999.000,9, -999.000,9,   -999.0,9,  -999.00,9,   2128.6,2,   2381.8,2,   7.9331,2,   438.3,2,   20.0, -999.00,9,   387.0,  -999.0,   50.85,2
31RBOACES24N_2,  AR01,    22,  1,     29,2,19980128,0549, 24.5000, -23.4837, 5017,    302.1,  15.9310,  36.2070,  36.2080,2,    155.5,2,     157.4,2,     3.70,2,    11.90,2,     0.01,2,  -999.00,5,    2.191,2,    1.224,2,    0.018,2, -999.000,9,   -999.0,9,  -999.00,9,   2156.7,2,   2376.6,2,-999.0000,5,   542.0,2,   20.0,   15.46,2,   459.7,  -999.0,   50.45,2
31RBOACES24N_2,  AR01,    22,  1,     28,2,19980128,0549, 24.5000, -23.4837, 5017,    350.9,  15.2320,  36.1180,  36.1180,2,    168.8,2,     166.1,2,     3.70,2,    11.81,2,     0.01,2,  -999.00,5, -999.000,9, -999.000,9, -999.000,9, -999.000,9,   -999.0,9,  -999.00,9,   2152.2,2,   2365.7,2,   7.8516,2,   541.8,2,   20.0, -999.00,9,   446.4,  -999.0, -999.00,9
31RBOACES24N_2,  AR01,    22,  1,     27,2,19980128,0549, 24.5000, -23.4837, 5017,    401.2,  14.3470,  35.9890,  35.9950,2,    172.0,2,     175.9,2,     4.10,2,    12.00,2,     0.00,2,  -999.00,5,    2.245,2,    1.178,2,    0.024,2, -999.000,9,   -999.0,9,  -999.00,9,   2149.1,2,   2367.1,2,   7.8465,2,   549.4,2,   20.0,   14.93,2,   436.0,  -999.0,   46.65,2
31RBOACES24N_2,  AR01,    22,  1,     26,2,19980128,0549, 24.5000, -23.4837, 5017,    448.9,  13.3020,  35.7970,  35.7950,2,    136.7,2,     135.3,2,     6.30,2,    18.25,2,     0.00,2,  -999.00,5, -999.000,9, -999.000,9, -999.000,9, -999.000,9,   -999.0,9,  -999.00,9,   2178.5,3,   -999.0,9,-999.0000,5,   691.3,6,   20.0, -999.00,9,   526.3,  -999.0, -999.00,9
31RBOACES24N_2,  AR01,    22,  1,     25,2,19980128,0549, 24.5000, -23.4837, 5017,    500.3,  12.6500,  35.7220,  35.7250,2,    160.1,2,     162.7,2,     6.10,2,    16.30,2,     0.00,2,  -999.00,5, -999.000,9, -999.000,9, -999.000,9, -999.000,9,   -999.0,9,  -999.00,9,   2165.2,2,   2341.5,2,   7.7822,2,   649.1,2,   20.0,   19.36,2,   480.4,  -999.0,   46.15,2
31RBOACES24N_2,  AR01,    22,  1,     24,2,19980128,0549, 24.5000, -23.4837, 5017,    548.0,  11.8340,  35.5970,  35.6030,2,    148.6,2,     143.6,2,     7.80,2,    19.81,2,     0.00,2,  -999.00,5, -999.000,9, -999.000,9, -999.000,9, -999.000,9,   -999.0,9,  -999.00,9,   2180.1,2,   2340.6,2,   7.7352,2,   737.2,2,   20.0, -999.00,9,   528.0,  -999.0, -999.00,9
31RBOACES24N_2,  AR01,    22,  1,     23,2,19980128,0549, 24.5000, -23.4837, 5017,    652.2,  10.6390,  35.4660,  35.4680,2,    142.9,2,     142.5,2,     9.90,2,    21.96,2,     0.00,2,  -999.00,5,    0.930,2,    0.477,2,   -0.005,2, -999.000,9,   -999.0,9,  -999.00,9,   2186.1,2,   2328.3,2,   7.7067,2,   783.5,2,   20.0, -999.00,9,   533.5,  -999.0,   43.61,2
31RBOACES24N_2,  AR01,    22,  1,     22,2,19980128,0549, 24.5000, -23.4837, 5017,    750.1,   9.5480,  35.3490,  35.3510,2,    130.6,2,     130.6,2,    13.40,2,    25.09,2,     0.01,2,  -999.00,5, -999.000,9, -999.000,9, -999.000,9, -999.000,9,   -999.0,9,  -999.00,9,   2197.8,2,   2330.9,2,   7.6675,2,   870.1,2,   20.0,   27.56,2,   566.6,  -999.0, -999.00,9
31RBOACES24N_2,  AR01,    22,  1,     21,2,19980128,0549, 24.5000, -23.4837, 5017,    848.6,   8.4820,  35.2480,  35.2480,2,    130.4,2,     130.2,2,    16.70,2,    27.04,2,     0.01,2,  -999.00,5,    0.215,2,    0.102,2,   -0.003,2, -999.000,9,   -999.0,9,  -999.00,9,   2205.8,2,   -999.0,5,   7.6442,2,   931.6,2,   20.0, -999.00,9,   579.7,  -999.0,   42.73,2
31RBOACES24N_2,  AR01,    22,  1,     20,2,19980128,0549, 24.5000, -23.4837, 5017,    951.4,   7.7010,  35.2040,  35.2040,2,    141.3,2,     140.4,2,    18.30,2,    26.85,2,     0.00,2,  -999.00,5, -999.000,9, -999.000,9, -999.000,9, -999.000,9,   -999.0,9,  -999.00,9,   2207.5,6,   -999.0,9,   7.6457,2,   926.2,2,   20.0, -999.00,9,   556.5,  -999.0, -999.00,9
31RBOACES24N_2,  AR01,    22,  1,     19,2,19980128,0549, 24.5000, -23.4837, 5017,   1146.9,   6.9950,  35.2260,  35.2250,2,    166.3,2,     163.9,2,    18.70,2,    25.09,2,     0.00,2,  -999.00,5,    0.108,2,    0.045,2,    0.000,2, -999.000,9,   -999.0,9,  -999.00,9,   2199.5,2,   -999.0,5,   7.6734,2,   862.1,2,   20.0,   28.15,2,   500.2,  -999.0,   42.04,2
31RBOACES24N_2,  AR01,    22,  1,     18,2,19980128,0549, 24.5000, -23.4837, 5017,   1348.6,   6.2560,  35.2390,  35.2390,2,    184.6,2,     185.6,2,    19.40,2,    23.24,2,     0.00,2,  -999.00,5, -999.000,9, -999.000,9, -999.000,9, -999.000,9,   -999.0,9,  -999.00,9,   2194.5,2,   2334.9,2,-999.0000,9,   814.1,2,   20.0, -999.00,9,   455.5,  -999.0, -999.00,9
31RBOACES24N_2,  AR01,    22,  1,     17,2,19980128,0549, 24.5000, -23.4837, 5017,   1548.8,   5.3510,  35.1800,  35.1810,2,    205.8,2,     204.8,2,    20.70,2,    22.26,2,     0.00,2,  -999.00,5,    0.030,6,    0.010,6,   -0.004,6, -999.000,9,   -999.0,9,  -999.00,9,   2188.8,2,   -999.0,9,   7.7068,2,   791.5,2,   20.0,   25.01,2,   423.9,  -999.0,   41.55,2
31RBOACES24N_2,  AR01,    22,  1,     16,2,19980128,0549, 24.5000, -23.4837, 5017,   1750.7,   4.6880,  35.1210,  35.1210,2,    218.2,2,     217.9,2,    21.90,2,    21.48,2,     0.00,2,  -999.00,5, -999.000,9, -999.000,9, -999.000,9, -999.000,9,   -999.0,9,  -999.00,9,   2185.8,2,   2340.1,3,   7.7124,2,  -999.0,9, -999.0, -999.00,9,  -999.0,  -999.0, -999.00,9
31RBOACES24N_2,  AR01,    22,  1,     15,2,19980128,0549, 24.5000, -23.4837, 5017,   2050.0,   3.9090,  35.0440,  35.0450,2,    229.2,2,     229.9,2,    25.10,2,    21.29,2,     0.00,2,  -999.00,5,    0.007,2,   -0.005,2,   -0.004,2, -999.000,9,   -999.0,9,  -999.00,9,   2185.2,2,   2335.4,2,   7.7208,2,   765.8,2,   20.0,   23.96,2,   382.4,  -999.0,   41.64,2
31RBOACES24N_2,  AR01,    22,  1,     14,2,19980128,0549, 24.5000, -23.4837, 5017,   2150.2,   3.7730,  35.0350,  35.0350,2,    232.8,2,     233.3,2,    25.80,2,    21.09,2,     0.00,2,  -999.00,5, -999.000,9, -999.000,9, -999.000,9, -999.000,9,   -999.0,9,  -999.00,9,   2184.6,2,   2337.8,2,   7.7189,2,  -999.0,9, -999.0, -999.00,9,  -999.0,  -999.0, -999.00,9
31RBOACES24N_2,  AR01,    22,  1,     13,2,19980128,0549, 24.5000, -23.4837, 5017,   2349.7,   3.5240,  35.0110,  35.0110,2,    237.0,2,     236.5,2,    27.60,2,    20.99,2,     0.00,2,  -999.00,5,    0.012,2,   -0.006,2,   -0.003,2, -999.000,9,   -999.0,9,  -999.00,9,   2185.4,2,   2333.4,2,-999.0000,9,   762.3,2,   20.0, -999.00,9,   373.5,  -999.0,   42.03,2
31RBOACES24N_2,  AR01,    22,  1,     12,2,19980128,0549, 24.5000, -23.4837, 5017,   2542.0,   3.3050,  34.9910,  34.9920,2,    243.0,2,     241.6,2,    29.20,2,    20.80,2,     0.00,2,  -999.00,5, -999.000,9, -999.000,9, -999.000,9, -999.000,9,   -999.0,9,  -999.00,9,   2185.7,2,   2335.2,2,   7.7251,2,  -999.0,9, -999.0, -999.00,9,  -999.0,  -999.0,   41.54,2
31RBOACES24N_2,  AR01,    22,  1,     11,2,19980128,0549, 24.5000, -23.4837, 5017,   2750.4,   3.0520,  34.9690,  34.9690,2,    244.5,2,     246.0,2,    31.40,2,    20.70,2,     0.00,2,  -999.00,5,    0.004,2,    0.002,2,   -0.004,2, -999.000,9,   -999.0,9,  -999.00,9,   2186.5,2,   2342.1,2,   7.7236,2,   747.1,2,   20.0, -999.00,9,   357.1,  -999.0,   41.35,2
31RBOACES24N_2,  AR01,    22,  1,     10,2,19980128,0549, 24.5000, -23.4837, 5017,   2946.9,   2.8620,  34.9500,  34.9510,2,    248.7,2,     246.8,2,    34.60,2,    21.00,2,     0.00,2,  -999.00,5, -999.000,9, -999.000,9, -999.000,9, -999.000,9,   -999.0,9,  -999.00,9,   2191.9,2,   2341.9,2,   7.7296,2,  -999.0,9, -999.0, -999.00,9,  -999.0,  -999.0, -999.00,9
31RBOACES24N_2,  AR01,    22,  1,      9,2,19980128,0549, 24.5000, -23.4837, 5017,   3200.3,   2.6950,  34.9340,  34.9340,2,    250.2,2,     249.6,2,    36.80,2,    21.09,2,     0.00,2,  -999.00,5,    0.004,2,    0.004,2,    0.000,2, -999.000,9,   -999.0,9,  -999.00,9,   2194.5,2,   2345.0,2,   7.7304,2,   747.1,2,   20.0, -999.00,9,   350.4,  -999.0,   41.25,2
31RBOACES24N_2,  AR01,    22,  1,      8,2,19980128,0549, 24.5000, -23.4837, 5017,   3445.9,   2.5530,  34.9190,  34.9190,2,    249.6,2,     249.4,2,    40.50,2,    21.48,2,     0.00,2,  -999.00,5, -999.000,9, -999.000,9, -999.000,9, -999.000,9,   -999.0,9,  -999.00,9,   2194.7,2,   2345.6,2,   7.7298,2,  -999.0,9, -999.0, -999.00,9,  -999.0,  -999.0,   41.35,2
31RBOACES24N_2,  AR01,    22,  1,      7,2,19980128,0549, 24.5000, -23.4837, 5017,   3699.1,   2.4750,  34.9090,  34.9090,2,    250.1,2,     249.7,2,    43.10,2,    21.78,2,     0.00,2,  -999.00,5,    0.006,2,    0.021,4,   -0.003,2, -999.000,9,   -999.0,9,  -999.00,9,   2194.7,2,   2352.4,2,   7.7275,2,   749.4,2,   20.0, -999.00,9,   347.3,  -999.0, -999.00,9
31RBOACES24N_2,  AR01,    22,  1,      6,2,19980128,0549, 24.5000, -23.4837, 5017,   3950.3,   2.4260,  34.9020,  34.9020,2,    250.1,2,     249.6,2,    44.70,2,    21.88,2,     0.00,2,  -999.00,5, -999.000,9, -999.000,9, -999.000,9, -999.000,9,   -999.0,9,  -999.00,9,   2196.4,2,   2348.0,2,   7.7289,2,  -999.0,9, -999.0, -999.00,9,  -999.0,  -999.0,   41.44,2
31RBOACES24N_2,  AR01,    22,  1,      5,2,19980128,0549, 24.5000, -23.4837, 5017,   4200.5,   2.3920,  34.8950,  34.8950,2,    249.7,2,     250.2,2,    45.20,2,    22.27,3,     0.00,2,  -999.00,5,    0.004,6,   -0.001,6,    0.001,6, -999.000,9,   -999.0,9,  -999.00,9,   2197.6,2,   2350.8,2,   7.7271,2,   752.5,2,   20.0, -999.00,9,   347.2,  -999.0, -999.00,9
31RBOACES24N_2,  AR01,    22,  1,      4,2,19980128,0549, 24.5000, -23.4837, 5017,   4451.2,   2.3800,  34.8910,  34.8910,2,    249.1,2,     249.8,2,    45.80,2,    21.97,2,     0.00,2,  -999.00,5, -999.000,9, -999.000,9, -999.000,9, -999.000,9,   -999.0,9,  -999.00,9,   2202.5,2,   2354.6,2,-999.0000,9,  -999.0,9, -999.0, -999.00,9,  -999.0,  -999.0,   41.64,2
31RBOACES24N_2,  AR01,    22,  1,      3,2,19980128,0549, 24.5000, -23.4837, 5017,   4598.3,   2.3820,  34.8890,  34.8890,2,    249.4,2,     249.8,2,    45.90,2,    21.78,3,     0.00,2,  -999.00,5, -999.000,9, -999.000,9, -999.000,9, -999.000,9,   -999.0,9,  -999.00,9,   2202.3,2,   2354.4,2,   7.7259,2,   756.9,2,   20.0, -999.00,9,   349.0,  -999.0, -999.00,9
31RBOACES24N_2,  AR01,    22,  1,      2,2,19980128,0549, 24.5000, -23.4837, 5017,   4815.8,   2.3990,  34.8890,  34.8880,2,    249.9,2,     248.8,2,    46.10,2,    21.97,2,     0.00,2,  -999.00,5,    0.012,2,    0.003,2,   -0.005,2, -999.000,9,   -999.0,9,  -999.00,9,   2201.9,2,   2358.4,2,   7.7266,2,  -999.0,9, -999.0, -999.00,9,  -999.0,  -999.0,   41.83,2
31RBOACES24N_2,  AR01,    22,  1,      1,2,19980128,0549, 24.5000, -23.4837, 5017,   5091.0,   2.4350,  34.8880,  34.8890,2,    249.9,2,     250.0,2,    46.50,6,    22.07,6,     0.00,6,  -999.00,5,    0.011,2,   -0.002,2,   -0.005,2, -999.000,9,   -999.0,9,  -999.00,9,   2201.8,2,   2358.3,2,   7.7256,2,   760.5,2,   20.0, -999.00,9,   351.7,  -999.0,   41.54,2