BOTTLE,20220820CCHSIOAMB
EXPOCODE,SECT_ID,STNNBR,CASTNO,BTLNBR,BTLNBR_FLAG_W,DATE,TIME,LATITUDE,LONGITUDE,DEPTH,CTDPRS,CTDTMP,CTDSAL,SALNTY,SALNTY_FLAG_W,CTDOXY,CTDOXY_FLAG_W,OXYGEN,OXYGEN_FLAG_W,SILCAT,SILCAT_FLAG_W,NITRAT,NITRAT_FLAG_W,NITRIT,NITRIT_FLAG_W,PHSPHT,PHSPHT_FLAG_W,CFC-11,CFC-11_FLAG_W,CFC-12,CFC-12_FLAG_W,CFC113,CFC113_FLAG_W,CCL4,CCL4_FLAG_W,DELC14,DELC14_FLAG_W,DELC13,DELC13_FLAG_W,TCARBN,TCARBN_FLAG_W,ALKALI,ALKALI_FLAG_W,PH,PH_FLAG_W,FCO2,FCO2_FLAG_W,FCO2TMP,TON,TON_FLAG_W,FCO2IN,C14ERR,TOC,TOC_FLAG_W
,,,,,,,,,,,DBAR,ITS-90,PSS-78,PSS-78,,UMOL/KG,,UMOL/KG,,UMOL/KG,,UMOL/KG,,UMOL/KG,,UMOL/KG,,PMOL/KG,,PMOL/KG,,PMOL/KG,,PMOL/KG,,/MILLE,,/MILLE,,UMOL/KG,,UMOL/KG,,,,UATM,,DEG C,UMOL/KG,,UATM,/MILLE,UMOL/KG,
31RBOACES24N_2,  AR01,    14,  1,     32,2,19980126,0558, 26.1663, -18.8173, 3495,      3.0,  21.0400,  36.8430,  36.8440,2,    225.3,2,     220.3,2,     0.90,2,     0.59,2,     0.14,2,     0.09,2,    2.159,6,    1.221,6,    0.172,6, -999.000,9,   -999.0,9,     1.39,2,   2100.1,6,   2416.8,2,   8.0189,2,   353.9,2,   20.0,    5.24,2,   368.9,  -999.0,   64.43,2
31RBOACES24N_2,  AR01,    14,  1,     31,2,19980126,0558, 26.1663, -18.8173, 3495,     29.5,  21.0290,  36.8400,  36.8410,2,    217.4,2,     218.7,2,     0.80,2,     0.49,2,     0.13,2,     0.09,2,    2.153,2,    1.215,2,    0.163,2, -999.000,9,     86.7,2,     1.40,2,   2099.5,2,   2412.2,2,   8.0204,2,   354.4,2,   20.0,    4.83,2,   369.3,     3.3,   61.41,2
31RBOACES24N_2,  AR01,    14,  1,     30,2,19980126,0558, 26.1663, -18.8173, 3495,     54.5,  21.0300,  36.8460,  36.8480,2,    216.4,2,     220.9,2,     0.80,2,     0.59,2,     0.10,2,     0.11,2,    2.196,2,    1.225,2,    0.170,2, -999.000,9,     81.4,2,     1.43,2,   2102.0,2,   -999.0,9,   8.0196,2,   354.0,2,   20.0,    4.84,2,   368.8,     3.3,   60.63,2
31RBOACES24N_2,  AR01,    14,  1,     29,2,19980126,0558, 26.1663, -18.8173, 3495,     89.3,  20.6300,  36.7700,  36.7300,2,    186.9,2,     200.0,2,     1.30,2,     3.61,2,     0.07,2,     0.27,2,    2.188,2,    1.255,2,    0.173,2, -999.000,9,     64.5,2,     1.14,2,   2120.8,3,   2409.9,2,-999.0000,5,   403.7,2,   20.0,    7.84,2,   414.1,     3.3,   58.48,2
31RBOACES24N_2,  AR01,    14,  1,     27,2,19980126,0558, 26.1663, -18.8173, 3495,    145.0,  18.0220,  36.5260,  36.5200,2,    161.0,2,     160.2,2,     2.70,2,     8.68,2,     0.01,2,     0.51,2,    2.238,2,    1.229,2,    0.078,2, -999.000,9,   -999.0,9,     0.78,2,   2150.0,2,   -999.0,9,-999.0000,5,   490.9,2,   20.0,   12.02,2,   453.5,  -999.0,   48.32,2
31RBOACES24N_2,  AR01,    14,  1,     28,2,19980126,0558, 26.1663, -18.8173, 3495,    146.0,  17.9740,  36.5260,  36.5320,2,    161.5,2,     159.3,2,     2.60,2,     8.59,2,     0.01,2,     0.50,2,    2.216,2,    1.208,2,    0.099,2, -999.000,9,     75.5,6,     0.81,2,   2149.4,2,   2390.5,2,-999.0000,5,   488.6,2,   20.0,   11.52,2,   450.4,     2.6,   53.58,2
31RBOACES24N_2,  AR01,    14,  1,     26,2,19980126,0558, 26.1663, -18.8173, 3495,    179.5,  17.1920,  36.4190,  36.4130,2,    157.2,2,     163.5,2,     2.90,2,     9.46,2,     0.01,2,     0.55,2,    2.261,2,    1.217,2,    0.058,2, -999.000,9,     68.2,2,     0.77,2,   2149.3,2,   2381.5,2,-999.0000,5,   508.7,2,   20.0,   12.22,2,   454.3,     4.4,   46.86,2
31RBOACES24N_2,  AR01,    14,  1,     25,2,19980126,0558, 26.1663, -18.8173, 3495,    209.1,  16.0790,  36.1890,  36.1970,2,    136.6,2,     138.5,2,     4.50,2,    13.76,2,     0.01,2,     0.80,2,    2.053,2,    1.129,2,    0.026,2, -999.000,9,     72.5,2,     0.62,2,   2167.1,3,   2367.9,2,-999.0000,5,   576.7,2,   20.0,   16.32,2,   492.6,     3.8,   47.05,2
31RBOACES24N_2,  AR01,    14,  1,     24,2,19980126,0558, 26.1663, -18.8173, 3495,    247.7,  15.3500,  36.0480,  36.0500,2,    117.4,2,     120.4,2,     5.50,2,    16.79,2,     0.01,2,     0.98,2,    1.948,2,    1.057,2,    0.023,2, -999.000,9,     68.9,2,     0.53,2,   2179.2,3,   -999.0,9,-999.0000,5,   649.4,2,   20.0,   19.55,2,   538.7,     3.6, -999.00,9
31RBOACES24N_2,  AR01,    14,  1,     23,2,19980126,0558, 26.1663, -18.8173, 3495,    299.5,  14.9070,  36.0510,  36.0540,2,    153.9,2,     149.8,2,     4.60,2,    14.05,2,     0.01,2,     0.81,2,    2.150,2,    1.136,2,    0.022,2, -999.000,9,     71.1,2,     0.64,2,   2162.7,2,   2366.5,2,-999.0000,5,   587.7,2,   20.0,   16.56,2,   478.1,     2.8,   47.33,2
31RBOACES24N_2,  AR01,    14,  1,     22,2,19980126,0558, 26.1663, -18.8173, 3495,    350.5,  14.3160,  35.9860,  35.9850,2,    170.4,2,     179.8,2,     4.40,2,    12.49,2,     0.01,2,     0.73,2,    2.277,2,    1.190,2,    0.017,2, -999.000,9,     58.3,2,     0.71,2,   2151.8,2,   -999.0,9,   7.8399,2,   559.1,2,   20.0, -999.00,9,   443.7,     3.0, -999.00,9
31RBOACES24N_2,  AR01,    14,  1,     21,2,19980126,0558, 26.1663, -18.8173, 3495,    400.5,  13.6090,  35.8770,  35.8780,2,    180.3,2,     179.5,2,     4.70,2,    12.98,2,     0.01,2,     0.77,2,    2.241,2,    1.141,2,    0.030,2, -999.000,9,     62.7,2,     0.79,2,   2149.1,2,   -999.0,9,   7.8302,2,   569.5,2,   20.0,   15.59,2,   438.7,     3.2,   46.25,2
31RBOACES24N_2,  AR01,    14,  1,     20,2,19980126,0558, 26.1663, -18.8173, 3495,    499.0,  12.3070,  35.6720,  35.6640,2,    143.5,2,     148.2,2,     7.60,2,    18.94,2,     0.00,2,     1.21,2,    1.692,2,    0.876,2,    0.020,2, -999.000,9,     42.5,2,     0.60,2,   2174.7,2,   -999.0,5,   7.7504,2,   699.4,2,   20.0, -999.00,9,   510.8,     3.6, -999.00,9
31RBOACES24N_2,  AR01,    14,  1,     19,2,19980126,0558, 26.1663, -18.8173, 3495,    598.5,  10.9370,  35.4960,  35.5030,2,    145.0,2,     144.2,2,    10.00,2,    21.38,2,     0.00,2,     1.32,2,    1.208,2,    0.592,2,    0.009,2, -999.000,9,      0.6,2,     0.62,2,   2183.4,2,   2333.1,2,   7.7177,2,   766.1,2,   20.0,   23.70,2,   528.6,     2.8,   44.68,2
31RBOACES24N_2,  AR01,    14,  1,     18,2,19980126,0558, 26.1663, -18.8173, 3495,    698.8,   9.8580,  35.3710,  35.3740,2,    127.0,2,     128.6,2,    13.30,2,    24.90,2,     0.00,2,     1.55,2,    0.669,2,    0.338,2,    0.000,2, -999.000,9,    -36.0,2,     0.57,2,   2201.3,2,   2334.1,2,   7.6704,2,   870.0,2,   20.0, -999.00,9,   574.5,     2.5, -999.00,9
31RBOACES24N_2,  AR01,    14,  1,     17,2,19980126,0558, 26.1663, -18.8173, 3495,    799.9,   8.8240,  35.2670,  35.2640,2,    124.8,2,     122.6,2,    16.30,2,    27.34,2,     0.00,2,     1.73,2,    0.325,2,    0.159,2,    0.000,2, -999.000,9,    -54.6,2,     0.58,2,   2211.4,2,   2326.5,2,   7.6355,2,   950.8,6,   20.0,   29.21,2,   601.6,     3.2,   42.15,2
31RBOACES24N_2,  AR01,    14,  1,     16,2,19980126,0558, 26.1663, -18.8173, 3495,    899.4,   8.3400,  35.2520,  35.2410,2,    129.3,2,     132.3,2,    17.60,2,    27.25,2,     0.00,2,     1.74,2,    0.226,2,    0.114,2,    0.000,2, -999.000,9,    -71.4,6,     0.63,6,   2209.9,2,   2329.8,2,   7.6433,2,   928.4,2,   20.0, -999.00,9,   574.2,     2.1, -999.00,9
31RBOACES24N_2,  AR01,    14,  1,     15,2,19980126,0558, 26.1663, -18.8173, 3495,   1001.8,   7.7330,  35.2590,  35.2590,2,    147.0,2,     148.7,2,    18.40,2,    25.78,2,     0.00,2,     1.67,2,    0.169,2,    0.080,2,    0.000,2, -999.000,9,    -94.0,2,     0.72,2,   2209.5,6,   2335.7,2,   7.6591,2,   882.4,2,   20.0,   27.68,2,   529.9,     2.5,   42.14,2
31RBOACES24N_2,  AR01,    14,  1,     14,2,19980126,0558, 26.1663, -18.8173, 3495,   1098.5,   7.2270,  35.2530,  35.2500,2,    156.9,2,     157.4,2,    19.20,2,    25.49,2,     0.00,2,     1.65,2,    0.118,2,    0.064,2,    0.000,2, -999.000,9,    -90.4,2,     0.74,2,   2204.8,2,   2335.0,2,-999.0000,9,   868.0,2,   20.0, -999.00,9,   509.1,     3.4, -999.00,9
31RBOACES24N_2,  AR01,    14,  1,     13,2,19980126,0558, 26.1663, -18.8173, 3495,   1199.0,   7.0150,  35.3030,  35.3020,2,    171.1,2,     172.0,2,    18.90,2,    23.83,2,     0.00,2,     1.55,2,    0.137,2,    0.065,2,    0.000,2, -999.000,9,    -66.7,2,     0.82,2,   2200.8,2,   -999.0,9,   7.6916,2,   820.6,2,   20.0,   25.74,2,   475.7,     5.9,   42.13,2
31RBOACES24N_2,  AR01,    14,  1,     12,2,19980126,0558, 26.1663, -18.8173, 3495,   1292.3,   6.5550,  35.2820,  35.2810,2,    180.4,2,     181.1,2,    19.60,2,    23.34,2,     0.00,2,     1.52,2,    0.089,2,    0.051,2,    0.000,2, -999.000,9,    -94.3,2,     0.83,2,   2201.4,2,   2342.3,2,   7.6967,2,  -999.0,9, -999.0, -999.00,9,  -999.0,     4.0, -999.00,9
31RBOACES24N_2,  AR01,    14,  1,     11,2,19980126,0558, 26.1663, -18.8173, 3495,   1498.9,   5.4850,  35.1980,  35.2000,2,    200.3,2,     199.8,2,    21.70,2,    22.56,2,     0.00,2,     1.49,2,    0.049,2,    0.033,2,    0.000,2, -999.000,9,    -89.9,2,     0.87,2,   2192.7,2,   2336.2,2,   7.7049,2,   787.0,2,   20.0,   24.56,2,   424.3,     2.6,   42.13,2
31RBOACES24N_2,  AR01,    14,  1,     10,2,19980126,0558, 26.1663, -18.8173, 3495,   1699.7,   4.7350,  35.1210,  35.1220,2,    212.1,2,     210.7,2,    24.00,2,    22.27,2,     0.00,2,     1.49,2,    0.018,2,    0.020,2,    0.000,2, -999.000,9,   -999.0,9,     0.89,2,   2191.4,2,   2336.0,2,   7.7078,2,  -999.0,9, -999.0, -999.00,9,  -999.0,  -999.0, -999.00,9
31RBOACES24N_2,  AR01,    14,  1,      9,2,19980126,0558, 26.1663, -18.8173, 3495,   1900.6,   4.3900,  35.0950,  35.0950,2,    218.4,2,     217.9,2,    25.50,2,    21.68,2,     0.00,2,     1.48,2, -999.000,9, -999.000,9, -999.000,9, -999.000,9,   -117.2,2,     0.90,2,   2191.2,2,   -999.0,9,   7.7132,2,   777.9,2,   20.0,   23.58,2,   397.8,     2.7,   41.54,2
31RBOACES24N_2,  AR01,    14,  1,      8,2,19980126,0558, 26.1663, -18.8173, 3495,   2101.1,   3.9860,  35.0590,  35.0590,2,    224.3,2,     224.4,2,    27.80,2,    21.59,2,     0.00,2,     1.47,2, -999.000,9, -999.000,9, -999.000,9, -999.000,9,   -999.0,9,     0.95,2,   2188.9,2,   2338.3,2,   7.7169,2,  -999.0,9, -999.0, -999.00,9,  -999.0,  -999.0, -999.00,9
31RBOACES24N_2,  AR01,    14,  1,      7,2,19980126,0558, 26.1663, -18.8173, 3495,   2283.6,   3.6730,  35.0290,  35.0310,2,    228.8,2,     227.9,2,    30.10,2,    21.49,2,     0.00,2,     1.47,2, -999.000,9, -999.000,9, -999.000,9, -999.000,9,   -102.0,2,     0.87,2,   2193.2,2,   2339.8,2,-999.0000,9,   773.0,2,   20.0,   23.35,2,   381.6,     2.4,   42.71,2
31RBOACES24N_2,  AR01,    14,  1,      6,2,19980126,0558, 26.1663, -18.8173, 3495,   2497.8,   3.2890,  34.9900,  34.9890,2,    231.6,2,     231.8,2,    33.50,2,    21.59,2,     0.00,2,     1.48,2,    0.001,6,    0.001,2,    0.000,6, -999.000,9,   -113.3,2,     0.87,2,   2196.8,2,   2347.4,2,   7.7197,2,  -999.0,9, -999.0,   23.49,2,  -999.0,     2.7,   41.64,2
31RBOACES24N_2,  AR01,    14,  1,      5,2,19980126,0558, 26.1663, -18.8173, 3495,   2697.8,   3.1090,  34.9720,  34.9720,2,    233.8,2,     233.3,2,    35.50,2,    21.88,2,     0.00,2,     1.49,2, -999.000,9, -999.000,9, -999.000,9, -999.000,9,   -123.0,2,     0.91,2,   2200.5,2,   2345.8,2,   7.7192,2,   771.6,2,   20.0,   23.47,2,   370.1,     2.5,   42.22,2
31RBOACES24N_2,  AR01,    14,  1,      4,2,19980126,0558, 26.1663, -18.8173, 3495,   2894.7,   2.9060,  34.9510,  34.9510,2,    234.9,2,     234.1,2,    38.30,2,    21.88,2,     0.00,2,     1.51,2,    0.009,2,    0.005,2,    0.000,2, -999.000,9,   -109.5,2,     0.93,2,   2201.8,2,   2348.5,2,   7.7182,2,  -999.0,9, -999.0,   23.76,2,  -999.0,     2.3,   42.13,2
31RBOACES24N_2,  AR01,    14,  1,      3,2,19980126,0558, 26.1663, -18.8173, 3495,   3099.6,   2.7480,  34.9350,  34.9350,2,    234.3,2,     234.9,2,    41.00,2,    22.08,2,     0.00,2,     1.52,2, -999.000,9, -999.000,9, -999.000,9, -999.000,9,   -114.2,2,     0.85,2,   2205.8,2,   2356.5,2,   7.7195,2,   780.1,2,   20.0,   24.04,2,   367.3,     2.9,   41.93,2
31RBOACES24N_2,  AR01,    14,  1,      2,2,19980126,0558, 26.1663, -18.8173, 3495,   3285.2,   2.6300,  34.9230,  34.9240,2,    233.6,2,     233.4,2,    43.90,2,    22.37,2,     0.00,2,     1.53,2,   -0.003,2,    0.003,2,    0.000,2, -999.000,9,   -115.3,2,     0.88,2,   2210.0,2,   2358.9,2,   7.7202,2,  -999.0,9, -999.0,   24.36,2,  -999.0,     2.9,   41.93,2
31RBOACES24N_2,  AR01,    14,  1,      1,2,19980126,0558, 26.1663, -18.8173, 3495,   3532.0,   2.4460,  34.9050,  34.9060,2,    236.3,2,     237.9,2,    47.50,6,    22.76,6,     0.00,6,     1.54,6,   -0.002,2,   -0.005,2,    0.000,2, -999.000,9,   -131.5,2,     0.87,2,   2212.2,2,   2362.0,2,   7.7234,2,   771.8,2,   20.0,   24.68,2,   357.2,     2.6,   41.83,2