BOTTLE,20220820CCHSIOAMB
EXPOCODE,SECT_ID,STNNBR,CASTNO,BTLNBR,BTLNBR_FLAG_W,DATE,TIME,LATITUDE,LONGITUDE,DEPTH,CTDPRS,CTDTMP,CTDSAL,SALNTY,SALNTY_FLAG_W,CTDOXY,CTDOXY_FLAG_W,OXYGEN,OXYGEN_FLAG_W,SILCAT,SILCAT_FLAG_W,NITRAT,NITRAT_FLAG_W,NITRIT,NITRIT_FLAG_W,PHSPHT,PHSPHT_FLAG_W,CFC-11,CFC-11_FLAG_W,CFC-12,CFC-12_FLAG_W,CFC113,CFC113_FLAG_W,CCL4,CCL4_FLAG_W,DELC14,DELC14_FLAG_W,DELC13,DELC13_FLAG_W,TCARBN,TCARBN_FLAG_W,ALKALI,ALKALI_FLAG_W,PH,PH_FLAG_W,FCO2,FCO2_FLAG_W,FCO2TMP,TON,TON_FLAG_W,FCO2IN,C14ERR,TOC,TOC_FLAG_W
,,,,,,,,,,,DBAR,ITS-90,PSS-78,PSS-78,,UMOL/KG,,UMOL/KG,,UMOL/KG,,UMOL/KG,,UMOL/KG,,UMOL/KG,,PMOL/KG,,PMOL/KG,,PMOL/KG,,PMOL/KG,,/MILLE,,/MILLE,,UMOL/KG,,UMOL/KG,,,,UATM,,DEG C,UMOL/KG,,UATM,/MILLE,UMOL/KG,
31RBOACES24N_2,  AR01,    57,  1,     36,2,19980206,1653, 24.5005, -47.6838, 3954,      5.0,  24.1940,  37.4720,  37.4720,2,    212.0,2,     212.1,2,  -999.00,5,  -999.00,5,     0.00,4,  -999.00,5, -999.000,9, -999.000,9, -999.000,9, -999.000,9,   -999.0,9,  -999.00,9,   2072.2,6,   2453.7,2,   8.1010,2,   278.4,6,   20.0, -999.00,9,   329.9,  -999.0, -999.00,9
31RBOACES24N_2,  AR01,    57,  1,     35,2,19980206,1653, 24.5005, -47.6838, 3954,     40.5,  24.1830,  37.4710,  37.4720,2,    213.6,2,     212.6,2,     0.70,2,     0.00,2,     0.00,2,     0.00,2, -999.000,9, -999.000,9, -999.000,9, -999.000,9,   -999.0,9,  -999.00,9,   -999.0,9,   -999.0,9,-999.0000,9,  -999.0,9, -999.0, -999.00,9,  -999.0,  -999.0, -999.00,9
31RBOACES24N_2,  AR01,    57,  1,     34,2,19980206,1653, 24.5005, -47.6838, 3954,     91.7,  22.9190,  37.2870,  37.2840,2,    213.4,2,     215.4,2,     0.70,2,     0.00,2,     0.00,2,     0.00,2, -999.000,9, -999.000,9, -999.000,9, -999.000,9,   -999.0,9,  -999.00,9,   2086.3,2,   -999.0,5,   8.0674,6,  -999.0,9, -999.0, -999.00,9,  -999.0,  -999.0, -999.00,9
31RBOACES24N_2,  AR01,    57,  1,     33,2,19980206,1653, 24.5005, -47.6838, 3954,    142.3,  20.9620,  37.1100,  37.1090,2,    202.9,2,     200.2,2,     0.80,2,     0.98,2,     0.03,2,     0.04,2, -999.000,9, -999.000,9, -999.000,9, -999.000,9,   -999.0,9,  -999.00,9,   -999.0,9,   -999.0,9,-999.0000,9,  -999.0,9, -999.0, -999.00,9,  -999.0,  -999.0, -999.00,9
31RBOACES24N_2,  AR01,    57,  1,     32,2,19980206,1653, 24.5005, -47.6838, 3954,    190.7,  19.9800,  36.9470,  36.9320,2,    194.5,2,     195.6,2,     1.00,2,     2.15,2,     0.02,2,     0.08,2, -999.000,9, -999.000,9, -999.000,9, -999.000,9,   -999.0,9,  -999.00,9,   -999.0,9,   -999.0,9,-999.0000,9,  -999.0,9, -999.0, -999.00,9,  -999.0,  -999.0, -999.00,9
31RBOACES24N_2,  AR01,    57,  1,     31,2,19980206,1653, 24.5005, -47.6838, 3954,    215.0,  19.0800,  36.7790,  36.7730,2,    196.1,2,     190.6,2,     1.30,2,     3.71,2,     0.01,2,     0.16,2, -999.000,9, -999.000,9, -999.000,9, -999.000,9,   -999.0,9,  -999.00,9,   -999.0,9,   -999.0,9,-999.0000,9,  -999.0,9, -999.0, -999.00,9,  -999.0,  -999.0, -999.00,9
31RBOACES24N_2,  AR01,    57,  1,     30,2,19980206,1653, 24.5005, -47.6838, 3954,    235.6,  18.5170,  36.6700,  36.6670,2,    187.3,2,     188.3,2,     1.60,2,     4.68,2,     0.01,2,     0.22,2, -999.000,9, -999.000,9, -999.000,9, -999.000,9,   -999.0,9,  -999.00,9,   2120.0,2,   2396.7,2,   7.9639,2,  -999.0,9, -999.0, -999.00,9,  -999.0,  -999.0, -999.00,9
31RBOACES24N_2,  AR01,    57,  1,     29,2,19980206,1653, 24.5005, -47.6838, 3954,    265.1,  17.8610,  36.5370,  36.5320,2,    185.6,2,     190.3,2,     1.80,2,     5.56,2,     0.00,2,     0.27,2, -999.000,9, -999.000,9, -999.000,9, -999.000,9,   -999.0,9,  -999.00,9,   -999.0,9,   -999.0,9,-999.0000,9,  -999.0,9, -999.0, -999.00,9,  -999.0,  -999.0, -999.00,9
31RBOACES24N_2,  AR01,    57,  1,     28,2,19980206,1653, 24.5005, -47.6838, 3954,    291.8,  17.3700,  36.4550,  36.4560,2,    184.0,2,     182.3,6,     2.10,2,     7.22,2,     0.00,2,     0.37,2, -999.000,9, -999.000,9, -999.000,9, -999.000,9,   -999.0,9,  -999.00,9,   -999.0,9,   -999.0,9,-999.0000,9,  -999.0,9, -999.0, -999.00,9,  -999.0,  -999.0, -999.00,9
31RBOACES24N_2,  AR01,    57,  1,     27,2,19980206,1653, 24.5005, -47.6838, 3954,    341.9,  16.5500,  36.3070,  36.3070,2,    179.3,2,     185.3,2,     2.60,2,     8.10,2,     0.00,2,     0.43,2, -999.000,9, -999.000,9, -999.000,9, -999.000,9,   -999.0,9,  -999.00,9,   2126.5,2,   2376.1,2,   7.9183,2,  -999.0,9, -999.0, -999.00,9,  -999.0,  -999.0, -999.00,9
31RBOACES24N_2,  AR01,    57,  1,     26,2,19980206,1653, 24.5005, -47.6838, 3954,    390.2,  15.6610,  36.1640,  36.1660,2,    178.2,2,     174.9,2,     3.40,2,    10.44,2,     0.00,2,     0.58,2, -999.000,9, -999.000,9, -999.000,9, -999.000,9,   -999.0,9,  -999.00,9,   -999.0,9,   -999.0,9,-999.0000,9,  -999.0,9, -999.0, -999.00,9,  -999.0,  -999.0, -999.00,9
31RBOACES24N_2,  AR01,    57,  1,     25,2,19980206,1653, 24.5005, -47.6838, 3954,    440.6,  14.6460,  35.9900,  36.0230,2,    181.3,2,    -999.0,9,     4.00,2,    11.52,2,     0.00,2,     0.65,2, -999.000,9, -999.000,9, -999.000,9, -999.000,9,   -999.0,9,  -999.00,9,   -999.0,9,   -999.0,9,-999.0000,9,  -999.0,9, -999.0, -999.00,9,  -999.0,  -999.0, -999.00,9
31RBOACES24N_2,  AR01,    57,  1,     24,2,19980206,1653, 24.5005, -47.6838, 3954,    551.1,  12.9480,  35.7450,  35.7410,2,    169.8,2,     167.8,2,     6.10,2,    15.62,2,     0.01,2,     0.90,2, -999.000,9, -999.000,9, -999.000,9, -999.000,9,   -999.0,9,  -999.00,9,   2155.6,2,   2347.9,2,   7.8069,2,  -999.0,9, -999.0, -999.00,9,  -999.0,  -999.0, -999.00,9
31RBOACES24N_2,  AR01,    57,  1,     23,2,19980206,1653, 24.5005, -47.6838, 3954,    650.3,  11.4070,  35.5400,  35.5420,2,    165.9,2,     163.8,2,     8.50,2,    18.36,2,     0.00,2,     1.11,2, -999.000,9, -999.000,9, -999.000,9, -999.000,9,   -999.0,9,  -999.00,9,   -999.0,9,   -999.0,9,-999.0000,9,  -999.0,9, -999.0, -999.00,9,  -999.0,  -999.0, -999.00,9
31RBOACES24N_2,  AR01,    57,  1,     22,2,19980206,1653, 24.5005, -47.6838, 3954,    750.0,   9.7100,  35.3470,  35.3360,2,    157.2,2,     153.2,2,    12.60,2,    22.66,2,     0.00,2,     1.41,2, -999.000,9, -999.000,9, -999.000,9, -999.000,9,   -999.0,9,  -999.00,9,   -999.0,9,   -999.0,9,-999.0000,9,  -999.0,9, -999.0, -999.00,9,  -999.0,  -999.0, -999.00,9
31RBOACES24N_2,  AR01,    57,  1,     21,2,19980206,1653, 24.5005, -47.6838, 3954,    851.1,   8.3600,  35.1920,  35.2010,2,    152.6,2,     151.0,2,    15.40,2,    24.81,2,     0.01,2,     1.58,2, -999.000,9, -999.000,9, -999.000,9, -999.000,9,   -999.0,9,  -999.00,9,   -999.0,9,   -999.0,9,-999.0000,9,  -999.0,9, -999.0, -999.00,9,  -999.0,  -999.0, -999.00,9
31RBOACES24N_2,  AR01,    57,  1,     20,2,19980206,1653, 24.5005, -47.6838, 3954,    951.2,   7.2280,  35.0890,  35.0870,2,    159.1,2,     157.8,2,    18.10,2,    26.18,2,     0.01,2,     1.69,2, -999.000,9, -999.000,9, -999.000,9, -999.000,9,   -999.0,9,  -999.00,9,   -999.0,9,   -999.0,9,-999.0000,9,  -999.0,9, -999.0, -999.00,9,  -999.0,  -999.0, -999.00,9
31RBOACES24N_2,  AR01,    57,  1,     19,2,19980206,1653, 24.5005, -47.6838, 3954,   1050.5,   6.3580,  35.0450,  35.0470,2,    175.9,2,     172.7,2,    18.60,2,    25.40,2,     0.00,2,     1.66,2, -999.000,9, -999.000,9, -999.000,9, -999.000,9,   -999.0,9,  -999.00,9,   2193.9,6,   2326.7,2,   7.6655,2,  -999.0,9, -999.0, -999.00,9,  -999.0,  -999.0, -999.00,9
31RBOACES24N_2,  AR01,    57,  1,     18,2,19980206,1653, 24.5005, -47.6838, 3954,   1150.7,   5.7480,  35.0260,  35.0250,2,    192.4,2,     190.5,2,    18.20,2,    24.13,2,     0.00,2,     1.58,2, -999.000,9, -999.000,9, -999.000,9, -999.000,9,   -999.0,9,  -999.00,9,   -999.0,9,   -999.0,9,-999.0000,9,  -999.0,9, -999.0, -999.00,9,  -999.0,  -999.0, -999.00,9
31RBOACES24N_2,  AR01,    57,  1,     17,2,19980206,1653, 24.5005, -47.6838, 3954,   1250.9,   5.3630,  35.0390,  35.0390,2,    209.9,2,     209.1,2,    17.20,2,    22.66,2,     0.00,2,     1.48,2, -999.000,9, -999.000,9, -999.000,9, -999.000,9,   -999.0,9,  -999.00,9,   2183.4,2,   -999.0,9,   7.6949,2,  -999.0,9, -999.0, -999.00,9,  -999.0,  -999.0, -999.00,9
31RBOACES24N_2,  AR01,    57,  1,     16,2,19980206,1653, 24.5005, -47.6838, 3954,   1352.0,   5.1490,  35.0580,  35.0570,2,    221.1,2,     219.2,2,    16.30,2,    21.49,2,     0.00,2,     1.40,2, -999.000,9, -999.000,9, -999.000,9, -999.000,9,   -999.0,9,  -999.00,9,   -999.0,9,   -999.0,9,-999.0000,9,  -999.0,9, -999.0, -999.00,9,  -999.0,  -999.0, -999.00,9
31RBOACES24N_2,  AR01,    57,  1,     15,2,19980206,1653, 24.5005, -47.6838, 3954,   1449.5,   4.8540,  35.0550,  35.0540,2,    230.3,2,     229.4,2,    16.30,2,    20.71,2,     0.00,2,     1.35,2, -999.000,9, -999.000,9, -999.000,9, -999.000,9,   -999.0,9,  -999.00,9,   2175.1,2,   -999.0,9,   7.7170,2,  -999.0,9, -999.0, -999.00,9,  -999.0,  -999.0, -999.00,9
31RBOACES24N_2,  AR01,    57,  1,     14,2,19980206,1653, 24.5005, -47.6838, 3954,   1551.2,   4.7980,  35.0750,  35.0740,2,    235.0,2,     233.0,2,    16.50,2,    20.22,2,     0.00,2,     1.33,2, -999.000,9, -999.000,9, -999.000,9, -999.000,9,   -999.0,9,  -999.00,9,   -999.0,9,   -999.0,9,-999.0000,9,  -999.0,9, -999.0, -999.00,9,  -999.0,  -999.0, -999.00,9
31RBOACES24N_2,  AR01,    57,  1,     13,2,19980206,1653, 24.5005, -47.6838, 3954,   1650.4,   4.5020,  35.0740,  35.0740,2,    240.3,2,     240.9,2,    17.80,2,    19.64,2,     0.00,2,     1.29,2, -999.000,9, -999.000,9, -999.000,9, -999.000,9,   -999.0,9,  -999.00,9,   2173.5,2,   2326.7,2,   7.7300,2,  -999.0,9, -999.0, -999.00,9,  -999.0,  -999.0, -999.00,9
31RBOACES24N_2,  AR01,    57,  1,     12,2,19980206,1653, 24.5005, -47.6838, 3954,   1851.1,   4.0000,  35.0410,  35.0410,2,    248.9,2,     248.1,2,    19.80,2,    19.44,2,     0.00,2,     1.28,2, -999.000,9, -999.000,9, -999.000,9, -999.000,9,   -999.0,9,  -999.00,9,   -999.0,9,   -999.0,9,-999.0000,9,  -999.0,9, -999.0, -999.00,9,  -999.0,  -999.0, -999.00,9
31RBOACES24N_2,  AR01,    57,  1,     11,2,19980206,1653, 24.5005, -47.6838, 3954,   2050.9,   3.6180,  35.0100,  35.0100,2,    250.9,2,     251.0,2,    23.10,2,    19.64,2,     0.00,2,     1.31,2, -999.000,9, -999.000,9, -999.000,9, -999.000,9,   -999.0,9,  -999.00,9,   2174.2,2,   -999.0,5,   7.7336,2,  -999.0,9, -999.0, -999.00,9,  -999.0,  -999.0, -999.00,9
31RBOACES24N_2,  AR01,    57,  1,     10,2,19980206,1653, 24.5005, -47.6838, 3954,   2250.3,   3.3090,  34.9840,  34.9840,2,    251.8,2,     251.7,2,    26.40,2,    20.03,2,     0.00,2,     1.35,3, -999.000,9, -999.000,9, -999.000,9, -999.000,9,   -999.0,9,  -999.00,9,   -999.0,9,   -999.0,9,-999.0000,9,  -999.0,9, -999.0, -999.00,9,  -999.0,  -999.0, -999.00,9
31RBOACES24N_2,  AR01,    57,  1,      9,2,19980206,1653, 24.5005, -47.6838, 3954,   2450.1,   3.1470,  34.9700,  34.9700,2,    252.4,2,     252.7,2,    28.50,2,    20.13,2,     0.00,2,     1.35,2, -999.000,9, -999.000,9, -999.000,9, -999.000,9,   -999.0,9,  -999.00,9,   -999.0,9,   -999.0,9,-999.0000,9,  -999.0,9, -999.0, -999.00,9,  -999.0,  -999.0, -999.00,9
31RBOACES24N_2,  AR01,    57,  1,      8,2,19980206,1653, 24.5005, -47.6838, 3954,   2648.1,   2.9620,  34.9540,  34.9540,2,    252.7,2,     253.3,2,    31.20,2,    20.32,2,     0.00,2,     1.37,2, -999.000,9, -999.000,9, -999.000,9, -999.000,9,   -999.0,9,  -999.00,9,   -999.0,9,   -999.0,9,-999.0000,9,  -999.0,9, -999.0, -999.00,9,  -999.0,  -999.0, -999.00,9
31RBOACES24N_2,  AR01,    57,  1,      7,2,19980206,1653, 24.5005, -47.6838, 3954,   2850.6,   2.8820,  34.9460,  34.9460,2,    253.3,2,     253.2,2,    32.40,2,    20.42,2,     0.00,2,     1.38,2, -999.000,9, -999.000,9, -999.000,9, -999.000,9,   -999.0,9,  -999.00,9,   -999.0,9,   -999.0,9,-999.0000,9,  -999.0,9, -999.0, -999.00,9,  -999.0,  -999.0, -999.00,9
31RBOACES24N_2,  AR01,    57,  1,      6,2,19980206,1653, 24.5005, -47.6838, 3954,   3050.4,   2.7740,  34.9350,  34.9350,2,    253.4,2,     252.7,2,    32.60,2,    20.52,2,     0.00,2,     1.38,2, -999.000,9, -999.000,9, -999.000,9, -999.000,9,   -999.0,9,  -999.00,9,   2185.9,2,   2338.6,2,   7.7314,2,  -999.0,9, -999.0, -999.00,9,  -999.0,  -999.0, -999.00,9
31RBOACES24N_2,  AR01,    57,  1,      5,2,19980206,1653, 24.5005, -47.6838, 3954,   3248.9,   2.6800,  34.9270,  34.9260,2,    256.5,2,     256.5,2,    35.20,2,    20.52,2,     0.00,2,     1.39,2, -999.000,9, -999.000,9, -999.000,9, -999.000,9,   -999.0,9,  -999.00,9,   -999.0,9,   -999.0,9,-999.0000,9,  -999.0,9, -999.0, -999.00,9,  -999.0,  -999.0, -999.00,9
31RBOACES24N_2,  AR01,    57,  1,      4,2,19980206,1653, 24.5005, -47.6838, 3954,   3450.4,   2.5730,  34.9160,  34.9160,2,    256.9,2,     256.6,2,    37.00,2,    20.71,2,     0.00,2,     1.38,3, -999.000,9, -999.000,9, -999.000,9, -999.000,9,   -999.0,9,  -999.00,9,   2185.2,2,   2332.3,3,   7.7314,2,  -999.0,9, -999.0, -999.00,9,  -999.0,  -999.0, -999.00,9
31RBOACES24N_2,  AR01,    57,  1,      3,2,19980206,1653, 24.5005, -47.6838, 3954,   3649.9,   2.4660,  34.9060,  34.9050,2,    257.8,2,     257.8,2,    39.20,2,    20.91,2,     0.00,2,     1.42,2, -999.000,9, -999.000,9, -999.000,9, -999.000,9,   -999.0,9,  -999.00,9,   -999.0,9,   -999.0,9,-999.0000,9,  -999.0,9, -999.0, -999.00,9,  -999.0,  -999.0, -999.00,9
31RBOACES24N_2,  AR01,    57,  1,      2,2,19980206,1653, 24.5005, -47.6838, 3954,   3848.0,   2.3560,  34.8960,  34.8950,2,    258.1,2,     258.1,2,    40.90,2,    20.91,2,     0.00,2,     1.43,2, -999.000,9, -999.000,9, -999.000,9, -999.000,9,   -999.0,9,  -999.00,9,   2188.0,2,   2343.4,2,   7.7283,2,  -999.0,9, -999.0, -999.00,9,  -999.0,  -999.0, -999.00,9
31RBOACES24N_2,  AR01,    57,  1,      1,2,19980206,1653, 24.5005, -47.6838, 3954,   4117.3,   2.2940,  34.8880,  34.8880,2,    258.4,2,     258.7,2,    42.70,6,    21.10,6,     0.00,6,     1.45,6, -999.000,9, -999.000,9, -999.000,9, -999.000,9,   -999.0,9,  -999.00,9,   -999.0,9,   -999.0,9,-999.0000,9,  -999.0,9, -999.0, -999.00,9,  -999.0,  -999.0, -999.00,9