BOTTLE,20220820CCHSIOAMB
EXPOCODE,SECT_ID,STNNBR,CASTNO,BTLNBR,BTLNBR_FLAG_W,DATE,TIME,LATITUDE,LONGITUDE,DEPTH,CTDPRS,CTDTMP,CTDSAL,SALNTY,SALNTY_FLAG_W,CTDOXY,CTDOXY_FLAG_W,OXYGEN,OXYGEN_FLAG_W,SILCAT,SILCAT_FLAG_W,NITRAT,NITRAT_FLAG_W,NITRIT,NITRIT_FLAG_W,PHSPHT,PHSPHT_FLAG_W,CFC-11,CFC-11_FLAG_W,CFC-12,CFC-12_FLAG_W,CFC113,CFC113_FLAG_W,CCL4,CCL4_FLAG_W,DELC14,DELC14_FLAG_W,DELC13,DELC13_FLAG_W,TCARBN,TCARBN_FLAG_W,ALKALI,ALKALI_FLAG_W,PH,PH_FLAG_W,FCO2,FCO2_FLAG_W,FCO2TMP,TON,TON_FLAG_W,FCO2IN,C14ERR,TOC,TOC_FLAG_W
,,,,,,,,,,,DBAR,ITS-90,PSS-78,PSS-78,,UMOL/KG,,UMOL/KG,,UMOL/KG,,UMOL/KG,,UMOL/KG,,UMOL/KG,,PMOL/KG,,PMOL/KG,,PMOL/KG,,PMOL/KG,,/MILLE,,/MILLE,,UMOL/KG,,UMOL/KG,,,,UATM,,DEG C,UMOL/KG,,UATM,/MILLE,UMOL/KG,
31RBOACES24N_2,  AR01,    99,  1,     36,2,19980218,1701, 26.5000, -72.8503, 5136,      5.4,  23.5750,  36.7810,  36.7800,2,    212.9,2,     214.7,2,  -999.00,5,     0.00,2,     0.00,2,     0.01,2, -999.000,9, -999.000,9, -999.000,9, -999.000,9,   -999.0,9,     1.29,2,   2042.8,6,   2422.6,3,   8.0997,6,   285.4,6,   20.0, -999.00,9,   328.8,  -999.0, -999.00,9
31RBOACES24N_2,  AR01,    99,  1,     35,2,19980218,1701, 26.5000, -72.8503, 5136,     51.0,  23.3140,  36.7880,  36.7880,2,    214.5,2,     214.9,2,  -999.00,5,     0.00,2,     0.00,2,     0.01,2, -999.000,9, -999.000,9, -999.000,9, -999.000,9,   -999.0,9,  -999.00,9,   -999.0,9,   -999.0,9,-999.0000,9,  -999.0,9, -999.0, -999.00,9,  -999.0,  -999.0, -999.00,9
31RBOACES24N_2,  AR01,    99,  1,     34,2,19980218,1701, 26.5000, -72.8503, 5136,     99.8,  23.1590,  36.8040,  36.8110,2,    212.7,2,     213.6,2,  -999.00,5,     0.00,2,     0.01,2,     0.02,2, -999.000,9, -999.000,9, -999.000,9, -999.000,9,   -999.0,9,  -999.00,9,   -999.0,9,   -999.0,9,-999.0000,9,  -999.0,9, -999.0, -999.00,9,  -999.0,  -999.0, -999.00,9
31RBOACES24N_2,  AR01,    99,  1,     33,2,19980218,1701, 26.5000, -72.8503, 5136,    152.7,  20.9400,  36.8560,  36.8530,2,    199.5,2,     201.3,2,  -999.00,5,     0.59,2,     0.03,2,     0.03,2, -999.000,9, -999.000,9, -999.000,9, -999.000,9,   -999.0,9,  -999.00,9,   -999.0,9,   -999.0,9,-999.0000,9,  -999.0,9, -999.0, -999.00,9,  -999.0,  -999.0, -999.00,9
31RBOACES24N_2,  AR01,    99,  1,     32,2,19980218,1701, 26.5000, -72.8503, 5136,    201.3,  19.5330,  36.7060,  36.6980,2,    198.1,2,     199.0,2,     1.70,3,     1.76,2,     0.01,2,     0.06,2, -999.000,9, -999.000,9, -999.000,9, -999.000,9,   -999.0,9,  -999.00,9,   -999.0,9,   -999.0,9,-999.0000,9,  -999.0,9, -999.0, -999.00,9,  -999.0,  -999.0, -999.00,9
31RBOACES24N_2,  AR01,    99,  1,     31,2,19980218,1701, 26.5000, -72.8503, 5136,    224.5,  18.9710,  36.6430,  36.6420,2,    198.8,2,     199.6,2,     1.80,3,     2.44,2,     0.01,2,     0.09,2, -999.000,9, -999.000,9, -999.000,9, -999.000,9,   -999.0,9,  -999.00,9,   -999.0,9,   -999.0,9,-999.0000,9,  -999.0,9, -999.0, -999.00,9,  -999.0,  -999.0, -999.00,9
31RBOACES24N_2,  AR01,    99,  1,     30,2,19980218,1701, 26.5000, -72.8503, 5136,    250.6,  18.6570,  36.6090,  36.6060,2,    199.5,2,     200.7,2,     1.80,3,     2.93,2,     0.01,2,     0.11,2, -999.000,9, -999.000,9, -999.000,9, -999.000,9,   -999.0,9,  -999.00,9,   -999.0,9,   -999.0,9,-999.0000,9,  -999.0,9, -999.0, -999.00,9,  -999.0,  -999.0, -999.00,9
31RBOACES24N_2,  AR01,    99,  1,     29,2,19980218,1701, 26.5000, -72.8503, 5136,    275.3,  18.4740,  36.5850,  36.5840,2,    205.4,2,     204.4,2,     1.80,3,     3.12,2,     0.01,2,     0.12,2, -999.000,9, -999.000,9, -999.000,9, -999.000,9,   -999.0,9,  -999.00,9,   -999.0,9,   -999.0,9,-999.0000,9,  -999.0,9, -999.0, -999.00,9,  -999.0,  -999.0, -999.00,9
31RBOACES24N_2,  AR01,    99,  1,     28,2,19980218,1701, 26.5000, -72.8503, 5136,    301.1,  18.3110,  36.5620,  36.5630,2,    207.2,2,     207.2,2,     1.80,3,     3.22,2,     0.01,2,     0.14,2, -999.000,9, -999.000,9, -999.000,9, -999.000,9,   -999.0,9,  -999.00,9,   -999.0,9,   -999.0,9,-999.0000,9,  -999.0,9, -999.0, -999.00,9,  -999.0,  -999.0, -999.00,9
31RBOACES24N_2,  AR01,    99,  1,     27,2,19980218,1701, 26.5000, -72.8503, 5136,    350.1,  18.0790,  36.5350,  36.5340,2,    207.6,2,     208.3,2,     2.00,3,     3.61,2,     0.01,2,     0.17,2, -999.000,9, -999.000,9, -999.000,9, -999.000,9,   -999.0,9,  -999.00,9,   -999.0,9,   -999.0,9,-999.0000,9,  -999.0,9, -999.0, -999.00,9,  -999.0,  -999.0, -999.00,9
31RBOACES24N_2,  AR01,    99,  1,     26,2,19980218,1701, 26.5000, -72.8503, 5136,    401.0,  17.6910,  36.4680,  36.4680,2,    203.8,2,     199.7,2,     2.00,3,     5.07,2,     0.01,2,     0.24,2, -999.000,9, -999.000,9, -999.000,9, -999.000,9,   -999.0,9,  -999.00,9,   -999.0,9,   -999.0,9,-999.0000,9,  -999.0,9, -999.0, -999.00,9,  -999.0,  -999.0, -999.00,9
31RBOACES24N_2,  AR01,    99,  1,     25,2,19980218,1701, 26.5000, -72.8503, 5136,    450.6,  17.1940,  36.3830,  36.3770,2,    193.9,2,     192.0,2,     2.40,3,     6.63,2,     0.01,2,     0.33,2, -999.000,9, -999.000,9, -999.000,9, -999.000,9,   -999.0,9,  -999.00,9,   -999.0,9,   -999.0,9,-999.0000,9,  -999.0,9, -999.0, -999.00,9,  -999.0,  -999.0, -999.00,9
31RBOACES24N_2,  AR01,    99,  1,     24,2,19980218,1701, 26.5000, -72.8503, 5136,    500.3,  16.3580,  36.2450,  36.2450,2,    183.4,2,     182.6,2,     2.80,3,     8.68,2,     0.01,2,     0.47,2, -999.000,9, -999.000,9, -999.000,9, -999.000,9,   -999.0,9,  -999.00,9,   -999.0,9,   -999.0,9,-999.0000,9,  -999.0,9, -999.0, -999.00,9,  -999.0,  -999.0, -999.00,9
31RBOACES24N_2,  AR01,    99,  1,     23,2,19980218,1701, 26.5000, -72.8503, 5136,    540.7,  15.6860,  36.1330,  36.1290,2,    183.7,2,     179.7,2,     3.40,3,    10.05,2,     0.01,2,     0.56,2, -999.000,9, -999.000,9, -999.000,9, -999.000,9,   -999.0,9,  -999.00,9,   -999.0,9,   -999.0,9,-999.0000,9,  -999.0,9, -999.0, -999.00,9,  -999.0,  -999.0, -999.00,9
31RBOACES24N_2,  AR01,    99,  1,     22,2,19980218,1701, 26.5000, -72.8503, 5136,    599.7,  14.4490,  35.9280,  35.9150,2,    174.8,2,     172.9,2,     4.90,3,    12.79,2,     0.01,2,     0.74,2, -999.000,9, -999.000,9, -999.000,9, -999.000,9,   -999.0,9,  -999.00,9,   -999.0,9,   -999.0,9,-999.0000,9,  -999.0,9, -999.0, -999.00,9,  -999.0,  -999.0, -999.00,9
31RBOACES24N_2,  AR01,    99,  1,     21,2,19980218,1701, 26.5000, -72.8503, 5136,    700.4,  12.4210,  35.6320,  35.6280,2,    159.7,2,     160.2,2,     7.50,2,    17.38,2,     0.01,2,     1.04,2, -999.000,9, -999.000,9, -999.000,9, -999.000,9,   -999.0,9,  -999.00,9,   -999.0,9,   -999.0,9,-999.0000,9,  -999.0,9, -999.0, -999.00,9,  -999.0,  -999.0, -999.00,9
31RBOACES24N_2,  AR01,    99,  1,     20,2,19980218,1701, 26.5000, -72.8503, 5136,    799.3,  10.3790,  35.3620,  35.3670,2,    151.5,2,     152.2,2,    11.10,2,    21.58,2,     0.01,2,     1.34,2, -999.000,9, -999.000,9, -999.000,9, -999.000,9,   -999.0,9,  -999.00,9,   -999.0,9,   -999.0,9,-999.0000,9,  -999.0,9, -999.0, -999.00,9,  -999.0,  -999.0, -999.00,9
31RBOACES24N_2,  AR01,    99,  1,     19,2,19980218,1701, 26.5000, -72.8503, 5136,    901.8,   8.4200,  35.1490,  35.1490,2,    153.9,2,     152.0,2,    15.40,2,    24.71,2,     0.01,2,     1.59,2, -999.000,9, -999.000,9, -999.000,9, -999.000,9,   -999.0,9,  -999.00,9,   -999.0,9,   -999.0,9,-999.0000,9,  -999.0,9, -999.0, -999.00,9,  -999.0,  -999.0, -999.00,9
31RBOACES24N_2,  AR01,    99,  1,     18,2,19980218,1701, 26.5000, -72.8503, 5136,   1001.0,   7.2620,  35.1040,  35.1020,2,    170.1,2,     174.5,2,    15.50,2,    23.44,2,     0.01,2,     1.53,2, -999.000,9, -999.000,9, -999.000,9, -999.000,9,   -999.0,9,  -999.00,9,   -999.0,9,   -999.0,9,-999.0000,9,  -999.0,9, -999.0, -999.00,9,  -999.0,  -999.0, -999.00,9
31RBOACES24N_2,  AR01,    99,  1,     17,2,19980218,1701, 26.5000, -72.8503, 5136,   1199.8,   5.5120,  35.0780,  35.0780,2,    222.7,2,     225.6,2,    13.30,2,    19.73,2,     0.01,2,     1.30,2, -999.000,9, -999.000,9, -999.000,9, -999.000,9,   -999.0,9,  -999.00,9,   -999.0,9,   -999.0,9,-999.0000,9,  -999.0,9, -999.0, -999.00,9,  -999.0,  -999.0, -999.00,9
31RBOACES24N_2,  AR01,    99,  1,     16,2,19980218,1701, 26.5000, -72.8503, 5136,   1398.5,   4.6410,  35.0310,  35.0310,2,    250.6,2,     251.5,2,    12.50,2,    18.26,2,     0.00,2,     1.21,2, -999.000,9, -999.000,9, -999.000,9, -999.000,9,   -999.0,9,  -999.00,9,   -999.0,9,   -999.0,9,-999.0000,9,  -999.0,9, -999.0, -999.00,9,  -999.0,  -999.0, -999.00,9
31RBOACES24N_2,  AR01,    99,  1,     15,2,19980218,1701, 26.5000, -72.8503, 5136,   1600.9,   4.0970,  34.9900,  34.9910,2,    262.1,2,     264.0,2,    12.70,2,    17.78,2,     0.01,2,     1.17,2, -999.000,9, -999.000,9, -999.000,9, -999.000,9,   -999.0,9,  -999.00,9,   -999.0,9,   -999.0,9,-999.0000,9,  -999.0,9, -999.0, -999.00,9,  -999.0,  -999.0, -999.00,9
31RBOACES24N_2,  AR01,    99,  1,     14,2,19980218,1701, 26.5000, -72.8503, 5136,   1801.3,   3.8540,  34.9740,  34.9740,2,    268.6,2,     268.3,2,    13.20,2,    17.58,2,     0.00,2,     1.17,2, -999.000,9, -999.000,9, -999.000,9, -999.000,9,   -999.0,9,  -999.00,9,   -999.0,9,   -999.0,9,-999.0000,9,  -999.0,9, -999.0, -999.00,9,  -999.0,  -999.0, -999.00,9
31RBOACES24N_2,  AR01,    99,  1,     13,2,19980218,1701, 26.5000, -72.8503, 5136,   2000.0,   3.6560,  34.9700,  34.9690,2,    268.4,2,     269.2,2,    14.50,2,    17.58,2,     0.01,2,     1.17,2, -999.000,9, -999.000,9, -999.000,9, -999.000,9,   -999.0,9,  -999.00,9,   -999.0,9,   -999.0,9,-999.0000,9,  -999.0,9, -999.0, -999.00,9,  -999.0,  -999.0, -999.00,9
31RBOACES24N_2,  AR01,    99,  1,     12,2,19980218,1701, 26.5000, -72.8503, 5136,   2200.0,   3.5060,  34.9690,  34.9700,2,    266.6,2,     268.5,2,    15.90,2,    17.68,2,     0.01,2,     1.18,2, -999.000,9, -999.000,9, -999.000,9, -999.000,9,   -999.0,9,  -999.00,9,   -999.0,9,   -999.0,9,-999.0000,9,  -999.0,9, -999.0, -999.00,9,  -999.0,  -999.0, -999.00,9
31RBOACES24N_2,  AR01,    99,  1,     11,2,19980218,1701, 26.5000, -72.8503, 5136,   2400.0,   3.2840,  34.9600,  34.9590,2,    268.1,2,     269.0,2,    17.50,2,    17.68,2,     0.01,2,     1.19,2, -999.000,9, -999.000,9, -999.000,9, -999.000,9,   -999.0,9,  -999.00,9,   -999.0,9,   -999.0,9,-999.0000,9,  -999.0,9, -999.0, -999.00,9,  -999.0,  -999.0, -999.00,9
31RBOACES24N_2,  AR01,    99,  1,     10,2,19980218,1701, 26.5000, -72.8503, 5136,   2600.7,   3.1010,  34.9500,  34.9490,2,    270.7,2,     270.1,2,    18.90,2,    17.68,2,     0.01,2,     1.19,2, -999.000,9, -999.000,9, -999.000,9, -999.000,9,   -999.0,9,  -999.00,9,   -999.0,9,   -999.0,9,-999.0000,9,  -999.0,9, -999.0, -999.00,9,  -999.0,  -999.0, -999.00,9
31RBOACES24N_2,  AR01,    99,  1,      9,2,19980218,1701, 26.5000, -72.8503, 5136,   2799.2,   2.9390,  34.9410,  34.9410,2,    270.1,2,     271.3,2,    20.00,2,    17.68,2,     0.01,2,     1.20,2, -999.000,9, -999.000,9, -999.000,9, -999.000,9,   -999.0,9,  -999.00,9,   -999.0,9,   -999.0,9,-999.0000,9,  -999.0,9, -999.0, -999.00,9,  -999.0,  -999.0, -999.00,9
31RBOACES24N_2,  AR01,    99,  1,      8,2,19980218,1701, 26.5000, -72.8503, 5136,   3000.3,   2.7850,  34.9320,  34.9320,2,    271.8,2,     272.9,2,    20.60,2,    17.58,2,     0.01,2,     1.19,2, -999.000,9, -999.000,9, -999.000,9, -999.000,9,   -999.0,9,  -999.00,9,   -999.0,9,   -999.0,9,-999.0000,9,  -999.0,9, -999.0, -999.00,9,  -999.0,  -999.0, -999.00,9
31RBOACES24N_2,  AR01,    99,  1,      7,2,19980218,1701, 26.5000, -72.8503, 5136,   3291.5,   2.5820,  34.9190,  34.9180,2,    272.5,2,     274.9,2,    21.80,2,    17.39,2,     0.01,2,     1.19,2, -999.000,9, -999.000,9, -999.000,9, -999.000,9,   -999.0,9,  -999.00,9,   -999.0,9,   -999.0,9,-999.0000,9,  -999.0,9, -999.0, -999.00,9,  -999.0,  -999.0, -999.00,9
31RBOACES24N_2,  AR01,    99,  1,      6,2,19980218,1701, 26.5000, -72.8503, 5136,   3593.7,   2.4330,  34.9080,  34.9080,2,    277.5,2,     276.1,2,    23.30,2,    17.39,2,     0.01,2,     1.19,2, -999.000,9, -999.000,9, -999.000,9, -999.000,9,   -999.0,9,  -999.00,9,   -999.0,9,   -999.0,9,-999.0000,9,  -999.0,9, -999.0, -999.00,9,  -999.0,  -999.0, -999.00,9
31RBOACES24N_2,  AR01,    99,  1,      5,2,19980218,1701, 26.5000, -72.8503, 5136,   3900.4,   2.3440,  34.9020,  34.9010,2,    280.2,2,     275.5,2,    25.70,2,    17.68,2,     0.01,2,     1.21,2, -999.000,9, -999.000,9, -999.000,9, -999.000,9,   -999.0,9,  -999.00,9,   -999.0,9,   -999.0,9,-999.0000,9,  -999.0,9, -999.0, -999.00,9,  -999.0,  -999.0, -999.00,9
31RBOACES24N_2,  AR01,    99,  1,      4,2,19980218,1701, 26.5000, -72.8503, 5136,   4198.8,   2.3130,  34.8970,  34.8970,2,    272.3,2,     276.0,2,    28.10,2,    17.97,2,     0.01,2,     1.24,2, -999.000,9, -999.000,9, -999.000,9, -999.000,9,   -999.0,9,  -999.00,9,   -999.0,9,   -999.0,9,-999.0000,9,  -999.0,9, -999.0, -999.00,9,  -999.0,  -999.0, -999.00,9
31RBOACES24N_2,  AR01,    99,  1,      3,2,19980218,1701, 26.5000, -72.8503, 5136,   4499.8,   2.2880,  34.8920,  34.8910,2,    272.3,2,     271.6,2,    30.90,2,    18.46,2,     0.01,2,     1.27,2, -999.000,9, -999.000,9, -999.000,9, -999.000,9,   -999.0,9,  -999.00,9,   -999.0,9,   -999.0,9,-999.0000,9,  -999.0,9, -999.0, -999.00,9,  -999.0,  -999.0, -999.00,9
31RBOACES24N_2,  AR01,    99,  1,      2,2,19980218,1701, 26.5000, -72.8503, 5136,   4900.1,   2.2320,  34.8800,  34.8790,2,    269.7,2,     265.4,2,    38.80,2,    19.73,2,     0.01,2,     1.37,2, -999.000,9, -999.000,9, -999.000,9, -999.000,9,   -999.0,9,  -999.00,9,   -999.0,9,   -999.0,9,-999.0000,9,  -999.0,9, -999.0, -999.00,9,  -999.0,  -999.0, -999.00,9
31RBOACES24N_2,  AR01,    99,  1,      1,2,19980218,1701, 26.5000, -72.8503, 5136,   5214.9,   2.0700,  34.8550,  34.8530,2,    254.5,2,     256.4,6,    52.00,6,    21.88,6,     0.01,6,     1.53,6, -999.000,9, -999.000,9, -999.000,9, -999.000,9,   -999.0,9,  -999.00,9,   -999.0,9,   -999.0,9,-999.0000,9,  -999.0,9, -999.0, -999.00,9,  -999.0,  -999.0, -999.00,9