BOTTLE,20220820CCHSIOAMB
EXPOCODE,SECT_ID,STNNBR,CASTNO,BTLNBR,BTLNBR_FLAG_W,DATE,TIME,LATITUDE,LONGITUDE,DEPTH,CTDPRS,CTDTMP,CTDSAL,SALNTY,SALNTY_FLAG_W,CTDOXY,CTDOXY_FLAG_W,OXYGEN,OXYGEN_FLAG_W,SILCAT,SILCAT_FLAG_W,NITRAT,NITRAT_FLAG_W,NITRIT,NITRIT_FLAG_W,PHSPHT,PHSPHT_FLAG_W,CFC-11,CFC-11_FLAG_W,CFC-12,CFC-12_FLAG_W,CFC113,CFC113_FLAG_W,CCL4,CCL4_FLAG_W,DELC14,DELC14_FLAG_W,DELC13,DELC13_FLAG_W,TCARBN,TCARBN_FLAG_W,ALKALI,ALKALI_FLAG_W,PH,PH_FLAG_W,FCO2,FCO2_FLAG_W,FCO2TMP,TON,TON_FLAG_W,FCO2IN,C14ERR,TOC,TOC_FLAG_W
,,,,,,,,,,,DBAR,ITS-90,PSS-78,PSS-78,,UMOL/KG,,UMOL/KG,,UMOL/KG,,UMOL/KG,,UMOL/KG,,UMOL/KG,,PMOL/KG,,PMOL/KG,,PMOL/KG,,PMOL/KG,,/MILLE,,/MILLE,,UMOL/KG,,UMOL/KG,,,,UATM,,DEG C,UMOL/KG,,UATM,/MILLE,UMOL/KG,
31RBOACES24N_2,  AR01,   114,  1,     36,2,19980221,1430, 26.5048, -76.4223, 4848,      3.5,  22.6470,  36.6620,  36.6630,2,    215.0,2,     217.4,2,     0.60,2,     0.00,2,     0.00,2,     0.00,2,    2.009,2,    1.160,2,    0.165,2,    2.124,2,   -999.0,9,  -999.00,9,   2040.5,6,   2396.8,2,   8.0895,2,   285.0,2,   20.0, -999.00,9,   316.6,  -999.0,   65.93,2
31RBOACES24N_2,  AR01,   114,  1,     35,2,19980221,1430, 26.5048, -76.4223, 4848,     35.7,  22.5180,  36.6560,  36.6560,2,    215.8,2,     207.0,4,     0.60,2,     0.00,2,     0.00,2,     0.00,2,    2.008,2,    1.160,2,    0.159,2, -999.000,9,   -999.0,9,  -999.00,9,   2038.8,2,   2392.2,2,-999.0000,9,  -999.0,9, -999.0, -999.00,9,  -999.0,  -999.0,   65.34,2
31RBOACES24N_2,  AR01,   114,  1,     34,2,19980221,1430, 26.5048, -76.4223, 4848,     69.5,  22.1670,  36.6600,  36.6590,2,    217.1,2,     202.5,4,     0.60,2,     0.00,2,     0.00,2,     0.01,2, -999.000,9, -999.000,9, -999.000,9, -999.000,9,     81.2,2,     1.25,2,   2047.4,2,   2398.5,2,   8.0844,2,   289.8,2,   20.0, -999.00,9,   315.9,     3.1,   64.66,2
31RBOACES24N_2,  AR01,   114,  1,     33,2,19980221,1430, 26.5048, -76.4223, 4848,    103.9,  22.0710,  36.6720,  36.6720,2,    217.6,2,     214.6,2,     0.50,2,     0.00,2,     0.00,2,     0.01,2,    2.088,2,    1.198,2,    0.166,2, -999.000,9,   -999.0,9,  -999.00,9,   2045.0,2,   2398.3,2,   8.0814,2,   291.5,2,   20.0, -999.00,9,   316.6,  -999.0,   63.19,2
31RBOACES24N_2,  AR01,   114,  1,     32,2,19980221,1430, 26.5048, -76.4223, 4848,    139.3,  21.9700,  36.6850,  36.6830,2,    217.6,2,     214.3,2,     0.50,2,     0.00,2,     0.01,2,     0.01,2, -999.000,9, -999.000,9, -999.000,9, -999.000,9,   -999.0,9,  -999.00,9,   2047.5,2,   2394.0,2,   8.0786,2,  -999.0,9, -999.0, -999.00,9,  -999.0,  -999.0,   62.70,2
31RBOACES24N_2,  AR01,   114,  1,     31,2,19980221,1430, 26.5048, -76.4223, 4848,    176.0,  21.5540,  36.6850,  36.6870,2,    212.2,2,     210.0,2,     0.50,2,     0.00,2,     0.06,2,     0.03,2,    2.090,2,    1.203,2,    0.161,2, -999.000,9,     98.4,2,     1.18,2,   2052.5,2,   -999.0,9,   8.0709,2,   302.9,2,   20.0, -999.00,9,   322.3,     3.1,   61.91,2
31RBOACES24N_2,  AR01,   114,  1,     30,2,19980221,1430, 26.5048, -76.4223, 4848,    211.6,  20.3180,  36.7850,  36.7830,2,    198.1,2,     201.9,2,     0.50,2,     0.98,2,     0.02,2,     0.03,2, -999.000,9, -999.000,9, -999.000,9, -999.000,9,   -999.0,9,  -999.00,9,   2088.8,2,   2404.8,2,   8.0215,2,   351.3,2,   20.0, -999.00,9,   355.8,  -999.0,   54.97,2
31RBOACES24N_2,  AR01,   114,  1,     29,2,19980221,1430, 26.5048, -76.4223, 4848,    225.6,  19.9430,  36.7660,  36.7640,2,    196.3,2,     198.3,2,     0.40,2,     1.37,2,     0.02,2,     0.05,2,    2.252,2,    1.270,2,    0.080,2, -999.000,9,   -999.0,9,  -999.00,9,   2093.3,2,   -999.0,9,   8.0112,2,   358.6,2,   20.0, -999.00,9,   357.8,  -999.0,   52.82,2
31RBOACES24N_2,  AR01,   114,  1,     28,2,19980221,1430, 26.5048, -76.4223, 4848,    251.7,  19.2930,  36.6880,  36.6850,2,    193.2,2,     191.5,2,     0.50,2,     2.24,2,     0.01,2,     0.07,2, -999.000,9, -999.000,9, -999.000,9, -999.000,9,     96.3,2,     0.95,2,   2096.3,2,   2403.1,2,-999.0000,9,  -999.0,9, -999.0, -999.00,9,  -999.0,     3.4, -999.00,9
31RBOACES24N_2,  AR01,   114,  1,     27,2,19980221,1430, 26.5048, -76.4223, 4848,    275.5,  18.6960,  36.6120,  36.6210,2,    193.0,2,     200.6,2,     0.70,2,     2.83,2,     0.01,2,     0.10,2,    2.297,2,    1.285,2,    0.037,2, -999.000,9,   -999.0,9,  -999.00,9,   2095.0,2,   -999.0,9,   7.9980,2,   372.0,2,   20.0, -999.00,9,   353.0,  -999.0,   47.55,2
31RBOACES24N_2,  AR01,   114,  1,     26,2,19980221,1430, 26.5048, -76.4223, 4848,    299.7,  18.4570,  36.5830,  36.5820,2,    203.8,2,     200.2,2,     0.70,2,     3.12,2,     0.01,2,     0.12,2,    2.342,2,    1.309,2,    0.043,2, -999.000,9,     88.8,2,     1.23,2,   2090.9,2,   2389.5,2,   8.0012,2,   375.4,2,   20.0, -999.00,9,   352.7,     3.3, -999.00,9
31RBOACES24N_2,  AR01,   114,  1,     25,2,19980221,1430, 26.5048, -76.4223, 4848,    350.9,  18.2900,  36.5780,  36.5780,2,    212.7,2,     209.1,2,     0.70,2,     2.83,2,     0.01,2,     0.12,2,    2.348,2,    1.320,2,    0.057,2, -999.000,9,   -999.0,9,  -999.00,9,   2088.6,2,   2394.8,2,-999.0000,9,  -999.0,9, -999.0, -999.00,9,  -999.0,  -999.0,   45.98,2
31RBOACES24N_2,  AR01,   114,  1,     24,2,19980221,1430, 26.5048, -76.4223, 4848,    400.8,  18.1210,  36.5520,  36.5540,2,    211.3,2,     209.8,2,     0.80,2,     3.22,2,     0.01,2,     0.14,2,    2.369,6,    1.328,6,    0.059,6, -999.000,9,     86.2,2,     0.96,6,   2091.2,2,   2386.3,2,   8.0002,2,   370.4,2,   20.0, -999.00,9,   343.3,     3.1, -999.00,9
31RBOACES24N_2,  AR01,   114,  1,     23,2,19980221,1430, 26.5048, -76.4223, 4848,    446.6,  17.8900,  36.5060,  36.5110,2,    210.1,2,     206.3,2,     1.10,2,     4.10,2,     0.01,2,     0.20,2,    2.307,2,    1.275,2,    0.049,2, -999.000,9,   -999.0,9,  -999.00,9,   2096.8,2,   2390.8,2,   7.9856,2,  -999.0,9, -999.0, -999.00,9,  -999.0,  -999.0,   41.89,2
31RBOACES24N_2,  AR01,   114,  1,     22,3,19980221,1430, 26.5048, -76.4223, 4848,    501.4,  17.0370,  36.3500,  36.3500,2,    190.6,2,     185.2,2,     2.00,2,     7.22,2,     0.00,2,     0.38,2, -999.000,9, -999.000,9, -999.000,9, -999.000,9,   -999.0,9,  -999.00,9,   2114.4,2,   2374.0,2,   7.9407,2,   438.3,2,   20.0, -999.00,9,   388.7,  -999.0, -999.00,9
31RBOACES24N_2,  AR01,   114,  1,     21,3,19980221,1430, 26.5048, -76.4223, 4848,    550.5,  16.2100,  36.2120,  36.2140,2,    180.6,2,     179.0,2,     2.60,2,     9.07,2,     0.00,2,     0.50,2,    1.990,2,    1.053,2,    0.024,2, -999.000,9,     72.5,2,     0.90,2,   2122.9,2,   2377.6,2,-999.0000,9,  -999.0,9, -999.0, -999.00,9,  -999.0,     4.6,   41.59,2
31RBOACES24N_2,  AR01,   114,  1,     20,2,19980221,1430, 26.5048, -76.4223, 4848,    650.6,  13.6020,  35.8020,  35.8020,2,    168.6,2,     157.0,3,     5.50,2,    14.74,2,     0.01,2,     0.87,2, -999.000,9, -999.000,9, -999.000,9, -999.000,9,   -999.0,9,  -999.00,9,   2147.3,2,   -999.0,9,   7.8250,2,   586.1,2,   20.0, -999.00,9,   451.3,  -999.0, -999.00,9
31RBOACES24N_2,  AR01,   114,  1,     19,2,19980221,1430, 26.5048, -76.4223, 4848,    748.1,  11.3360,  35.4810,  35.4850,2,    161.3,2,     154.6,2,     9.20,2,    19.62,2,     0.00,2,     1.21,2,    0.894,2,    0.467,2,    0.007,2, -999.000,9,   -999.0,9,  -999.00,9,   2165.5,2,   -999.0,5,   7.7528,2,   695.5,2,   20.0, -999.00,9,   486.8,  -999.0,   41.28,2
31RBOACES24N_2,  AR01,   114,  1,     18,2,19980221,1430, 26.5048, -76.4223, 4848,    849.3,   9.5130,  35.2640,  35.2640,2,    151.1,2,     149.6,2,    13.00,2,    23.24,2,     0.00,2,     1.47,2, -999.000,9, -999.000,9, -999.000,9, -999.000,9,    -46.7,2,     0.74,2,   2181.2,2,   -999.0,5,   7.7008,2,   801.1,2,   20.0, -999.00,9,   519.6,     2.7, -999.00,9
31RBOACES24N_2,  AR01,   114,  1,     17,2,19980221,1430, 26.5048, -76.4223, 4848,    951.5,   7.7320,  35.0940,  35.0950,2,    157.2,2,     156.7,2,    16.40,2,    25.10,2,     0.00,2,     1.63,2,    0.295,2,    0.153,2,    0.005,2, -999.000,9,   -999.0,9,  -999.00,9,   2182.0,3,   -999.0,5,   7.6671,2,   864.8,2,   20.0, -999.00,9,   519.4,  -999.0, -999.00,9
31RBOACES24N_2,  AR01,   114,  1,     16,2,19980221,1430, 26.5048, -76.4223, 4848,   1052.9,   6.6010,  35.0740,  35.0750,2,    183.8,2,     184.3,2,    15.50,2,    23.15,2,     0.00,2,     1.51,2, -999.000,9, -999.000,9, -999.000,9, -999.000,9,   -999.0,9,  -999.00,9,   2187.8,6,   2325.7,2,   7.6838,2,   834.5,2,   20.0, -999.00,9,   475.5,  -999.0, -999.00,9
31RBOACES24N_2,  AR01,   114,  1,     15,2,19980221,1430, 26.5048, -76.4223, 4848,   1149.8,   5.9540,  35.0790,  35.0820,2,    206.1,2,     207.0,2,    14.40,2,    21.29,2,     0.00,2,     1.39,2,    0.432,2,    0.216,2,    0.013,2, -999.000,9,    -69.9,2,     0.84,2,   2177.0,2,   -999.0,9,   7.7040,2,  -999.0,9, -999.0, -999.00,9,  -999.0,     2.9,   41.55,2
31RBOACES24N_2,  AR01,   114,  1,     14,2,19980221,1430, 26.5048, -76.4223, 4848,   1349.7,   4.8280,  35.0400,  35.0430,2,    246.3,2,     242.2,2,    12.40,2,    18.65,2,     0.00,2,     1.23,2, -999.000,9, -999.000,9, -999.000,9, -999.000,9,    -57.6,2,     0.95,2,   2167.5,2,   -999.0,9,   7.7235,2,   744.0,2,   20.0, -999.00,9,   389.1,     2.8, -999.00,9
31RBOACES24N_2,  AR01,   114,  1,     13,2,19980221,1430, 26.5048, -76.4223, 4848,   1546.3,   4.1820,  34.9860,  34.9870,2,    262.7,2,     253.8,2,    12.20,2,    17.87,2,     0.00,2,     1.17,2,    1.245,6,    0.609,6,    0.055,6, -999.000,9,    -38.8,2,     0.95,2,   2163.4,2,   2309.7,2,   7.7274,2,  -999.0,9, -999.0, -999.00,9,  -999.0,     3.6,   41.94,2
31RBOACES24N_2,  AR01,   114,  1,     12,2,19980221,1430, 26.5048, -76.4223, 4848,   1746.4,   3.9740,  34.9800,  34.9820,2,    267.7,2,     234.3,4,    12.90,2,    17.78,2,     0.00,2,     1.17,2,    0.943,2,    0.464,2,    0.040,2, -999.000,9,    -55.0,2,     0.98,2,   2161.0,2,   2318.6,2,   7.7326,2,   730.5,2,   20.0, -999.00,9,   366.6,     2.9, -999.00,9
31RBOACES24N_2,  AR01,   114,  1,     11,2,19980221,1430, 26.5048, -76.4223, 4848,   1948.3,   3.7550,  34.9740,  34.9740,2,    268.3,2,     257.5,4,    14.10,2,    17.78,2,     0.00,2,     1.17,2, -999.000,9, -999.000,9, -999.000,9, -999.000,9,   -999.0,9,  -999.00,9,   2159.8,2,   2311.1,2,   7.7350,2,  -999.0,9, -999.0, -999.00,9,  -999.0,  -999.0,   41.54,2
31RBOACES24N_2,  AR01,   114,  1,     10,2,19980221,1430, 26.5048, -76.4223, 4848,   2148.7,   3.5870,  34.9710,  34.9720,2,    267.1,2,     267.8,2,    15.40,2,    17.87,2,     0.01,2,     1.18,2,    0.529,2,    0.264,2,    0.017,2, -999.000,9,    -73.6,2,     0.99,2,   2161.2,2,   -999.0,9,   7.7370,2,   714.8,2,   20.0, -999.00,9,   351.6,     3.5, -999.00,9
31RBOACES24N_2,  AR01,   114,  1,      9,2,19980221,1430, 26.5048, -76.4223, 4848,   2399.5,   3.3260,  34.9620,  34.9620,2,    267.3,2,     250.0,4,    17.60,2,    17.97,2,     0.00,2,     1.19,2, -999.000,9, -999.000,9, -999.000,9, -999.000,9,   -999.0,9,  -999.00,9,   2162.7,2,   -999.0,9,-999.0000,9,  -999.0,9, -999.0, -999.00,9,  -999.0,  -999.0,   42.03,2
31RBOACES24N_2,  AR01,   114,  1,      8,2,19980221,1430, 26.5048, -76.4223, 4848,   2649.9,   3.0790,  34.9490,  34.9500,2,    268.5,2,     256.7,4,    19.00,2,    17.87,2,     0.01,2,     1.19,2,    0.340,2,    0.171,2,    0.012,2,    0.847,2,    -75.4,2,     1.02,2,   2163.2,2,   -999.0,9,   7.7398,2,   714.6,2,   20.0, -999.00,9,   342.8,     2.5, -999.00,9
31RBOACES24N_2,  AR01,   114,  1,      7,2,19980221,1430, 26.5048, -76.4223, 4848,   2900.9,   2.8660,  34.9370,  34.9360,2,    271.1,2,     269.6,2,    19.40,2,    17.68,2,     0.01,2,     1.18,2, -999.000,9, -999.000,9, -999.000,9, -999.000,9,   -999.0,9,  -999.00,9,   2163.8,2,   2316.5,2,-999.0000,9,  -999.0,9, -999.0, -999.00,9,  -999.0,  -999.0,   41.45,2
31RBOACES24N_2,  AR01,   114,  1,      6,2,19980221,1430, 26.5048, -76.4223, 4848,   3200.7,   2.6370,  34.9220,  34.9240,2,    274.6,2,     260.6,4,    20.00,2,    17.29,2,     0.01,2,     1.18,2,    0.563,2,    0.277,2,    0.021,2,    1.128,6,    -74.2,2,     1.03,2,   2157.6,2,   -999.0,9,   7.7370,2,  -999.0,9, -999.0, -999.00,9,  -999.0,     3.3, -999.00,9
31RBOACES24N_2,  AR01,   114,  1,      5,2,19980221,1430, 26.5048, -76.4223, 4848,   3496.6,   2.4550,  34.9120,  34.9110,2,    275.7,2,     272.7,2,    22.00,2,    17.39,2,     0.01,2,     1.19,2, -999.000,9, -999.000,9, -999.000,9,    1.238,2,   -999.0,9,     1.04,2,   2164.7,2,   2324.8,2,   7.7354,2,   724.3,2,   20.0, -999.00,9,   337.1,  -999.0, -999.00,9
31RBOACES24N_2,  AR01,   114,  1,      4,2,19980221,1430, 26.5048, -76.4223, 4848,   3789.8,   2.3420,  34.9030,  34.9030,2,    275.2,2,     268.4,4,    24.40,2,    17.68,2,     0.01,2,     1.23,2,    0.667,2,    0.326,2,    0.032,2,    1.241,6,    -79.9,2,     1.00,2,   2170.9,2,   -999.0,9,-999.0000,9,  -999.0,9, -999.0, -999.00,9,  -999.0,     3.1, -999.00,9
31RBOACES24N_2,  AR01,   114,  1,      3,2,19980221,1430, 26.5048, -76.4223, 4848,   4099.6,   2.3010,  34.8980,  34.8980,2,    273.1,2,     272.7,2,    27.30,2,    18.07,2,     0.01,2,     1.25,2,    0.590,2,    0.289,2,    0.026,2,    1.119,2,    -81.9,2,     1.00,2,   2174.1,2,   -999.0,5,   7.7327,2,   735.0,6,   20.0, -999.00,9,   339.1,     2.8,   41.74,2
31RBOACES24N_2,  AR01,   114,  1,      2,2,19980221,1430, 26.5048, -76.4223, 4848,   4496.3,   2.2680,  34.8910,  34.8910,2,    270.3,2,     266.1,2,    31.80,2,    18.75,2,     0.01,2,     1.29,2,    0.524,6,    0.259,6,    0.028,6,    0.884,2,   -999.0,9,  -999.00,9,   2180.0,2,   -999.0,9,   7.7310,2,   732.7,2,   20.0, -999.00,9,   337.0,  -999.0, -999.00,9
31RBOACES24N_2,  AR01,   114,  1,      1,2,19980221,1430, 26.5048, -76.4223, 4848,   4910.5,   2.1880,  34.8750,  34.8760,2,    261.2,2,     260.2,2,    41.50,2,    20.41,2,     0.01,2,     1.41,2,    0.165,2,    0.097,2,    0.019,2,    0.484,2,   -107.0,2,     0.94,2,   2191.8,2,   -999.0,9,   7.7248,2,   758.4,2,   20.0, -999.00,9,   347.1,     2.8,   41.83,2