BOTTLE,20220820CCHSIOAMB
EXPOCODE,SECT_ID,STNNBR,CASTNO,BTLNBR,BTLNBR_FLAG_W,DATE,TIME,LATITUDE,LONGITUDE,DEPTH,CTDPRS,CTDTMP,CTDSAL,SALNTY,SALNTY_FLAG_W,CTDOXY,CTDOXY_FLAG_W,OXYGEN,OXYGEN_FLAG_W,SILCAT,SILCAT_FLAG_W,NITRAT,NITRAT_FLAG_W,NITRIT,NITRIT_FLAG_W,PHSPHT,PHSPHT_FLAG_W,CFC-11,CFC-11_FLAG_W,CFC-12,CFC-12_FLAG_W,CFC113,CFC113_FLAG_W,CCL4,CCL4_FLAG_W,DELC14,DELC14_FLAG_W,DELC13,DELC13_FLAG_W,TCARBN,TCARBN_FLAG_W,ALKALI,ALKALI_FLAG_W,PH,PH_FLAG_W,FCO2,FCO2_FLAG_W,FCO2TMP,TON,TON_FLAG_W,FCO2IN,C14ERR,TOC,TOC_FLAG_W
,,,,,,,,,,,DBAR,ITS-90,PSS-78,PSS-78,,UMOL/KG,,UMOL/KG,,UMOL/KG,,UMOL/KG,,UMOL/KG,,UMOL/KG,,PMOL/KG,,PMOL/KG,,PMOL/KG,,PMOL/KG,,/MILLE,,/MILLE,,UMOL/KG,,UMOL/KG,,,,UATM,,DEG C,UMOL/KG,,UATM,/MILLE,UMOL/KG,
31RBOACES24N_2,  AR01,    12,  1,     36,2,19980125,2003, 26.5165, -17.8663, 3662,      3.5,  21.0200,  37.0820,  37.0850,2,    224.2,2,     221.7,2,  -999.00,5,     0.00,2,     0.00,4,  -999.00,5, -999.000,9, -999.000,9, -999.000,9, -999.000,9,   -999.0,9,     1.39,2,   2098.4,6,   2422.8,2,   8.0368,6,   339.8,2,   20.0, -999.00,9,   354.0,  -999.0, -999.00,9
31RBOACES24N_2,  AR01,    12,  1,     35,2,19980125,2003, 26.5165, -17.8663, 3662,     21.1,  21.0320,  37.0810,  37.0810,2,    222.9,2,     222.9,2,  -999.00,5,     0.00,2,     0.00,2,  -999.00,5, -999.000,9, -999.000,9, -999.000,9, -999.000,9,   -999.0,9,  -999.00,9,   -999.0,9,   -999.0,9,-999.0000,9,  -999.0,9, -999.0, -999.00,9,  -999.0,  -999.0, -999.00,9
31RBOACES24N_2,  AR01,    12,  1,     34,2,19980125,2003, 26.5165, -17.8663, 3662,     44.4,  21.0300,  37.0810,  37.0800,2,    221.3,2,     222.3,2,     0.60,2,     0.00,2,     0.00,2,  -999.00,5, -999.000,9, -999.000,9, -999.000,9, -999.000,9,   -999.0,9,  -999.00,9,   -999.0,9,   -999.0,9,-999.0000,9,  -999.0,9, -999.0, -999.00,9,  -999.0,  -999.0, -999.00,9
31RBOACES24N_2,  AR01,    12,  1,     33,2,19980125,2003, 26.5165, -17.8663, 3662,     68.0,  21.0310,  37.0800,  37.0810,2,    221.2,2,     222.4,2,     0.60,2,     0.10,2,     0.00,2,  -999.00,5, -999.000,9, -999.000,9, -999.000,9, -999.000,9,   -999.0,9,  -999.00,9,   -999.0,9,   -999.0,9,-999.0000,9,  -999.0,9, -999.0, -999.00,9,  -999.0,  -999.0, -999.00,9
31RBOACES24N_2,  AR01,    12,  1,     32,2,19980125,2003, 26.5165, -17.8663, 3662,     99.4,  20.9810,  37.0660,  37.0450,2,    218.0,2,     221.5,2,     0.50,2,     0.20,2,     0.01,2,  -999.00,5, -999.000,9, -999.000,9, -999.000,9, -999.000,9,   -999.0,9,  -999.00,9,   -999.0,9,   -999.0,9,-999.0000,9,  -999.0,9, -999.0, -999.00,9,  -999.0,  -999.0, -999.00,9
31RBOACES24N_2,  AR01,    12,  1,     31,2,19980125,2003, 26.5165, -17.8663, 3662,    149.5,  17.7010,  36.5210,  36.5200,2,    207.2,2,     210.6,2,     0.90,2,     2.63,2,     0.01,2,  -999.00,5, -999.000,9, -999.000,9, -999.000,9, -999.000,9,   -999.0,9,  -999.00,9,   -999.0,9,   -999.0,9,-999.0000,9,  -999.0,9, -999.0, -999.00,9,  -999.0,  -999.0, -999.00,9
31RBOACES24N_2,  AR01,    12,  1,     30,2,19980125,2003, 26.5165, -17.8663, 3662,    198.6,  16.7720,  36.3650,  36.3680,2,    193.0,2,     171.0,2,     2.80,2,     8.88,2,     0.01,2,  -999.00,5, -999.000,9, -999.000,9, -999.000,9, -999.000,9,   -999.0,9,  -999.00,9,   -999.0,9,   -999.0,9,-999.0000,9,  -999.0,9, -999.0, -999.00,9,  -999.0,  -999.0, -999.00,9
31RBOACES24N_2,  AR01,    12,  1,     29,2,19980125,2003, 26.5165, -17.8663, 3662,    250.2,  15.8680,  36.2450,  36.2440,2,    195.7,2,     196.2,2,     2.30,2,     7.42,2,     0.01,2,  -999.00,5, -999.000,9, -999.000,9, -999.000,9, -999.000,9,   -999.0,9,  -999.00,9,   -999.0,9,   -999.0,9,-999.0000,9,  -999.0,9, -999.0, -999.00,9,  -999.0,  -999.0, -999.00,9
31RBOACES24N_2,  AR01,    12,  1,     28,2,19980125,2003, 26.5165, -17.8663, 3662,    299.2,  14.9010,  36.0890,  36.0850,2,    191.5,2,     194.1,2,     3.00,2,     9.17,2,     0.00,2,  -999.00,5, -999.000,9, -999.000,9, -999.000,9, -999.000,9,   -999.0,9,  -999.00,9,   -999.0,9,   -999.0,9,-999.0000,9,  -999.0,9, -999.0, -999.00,9,  -999.0,  -999.0, -999.00,9
31RBOACES24N_2,  AR01,    12,  1,     27,2,19980125,2003, 26.5165, -17.8663, 3662,    350.8,  14.0460,  35.9580,  35.9570,2,    189.9,2,     187.2,2,     3.90,2,    11.32,2,     0.00,2,  -999.00,5, -999.000,9, -999.000,9, -999.000,9, -999.000,9,   -999.0,9,  -999.00,9,   -999.0,9,   -999.0,9,-999.0000,9,  -999.0,9, -999.0, -999.00,9,  -999.0,  -999.0, -999.00,9
31RBOACES24N_2,  AR01,    12,  1,     26,2,19980125,2003, 26.5165, -17.8663, 3662,    398.2,  13.4900,  35.8720,  35.8650,2,    186.7,2,     184.3,2,     4.50,2,    12.59,2,     0.00,2,  -999.00,5, -999.000,9, -999.000,9, -999.000,9, -999.000,9,   -999.0,9,  -999.00,9,   -999.0,9,   -999.0,9,-999.0000,9,  -999.0,9, -999.0, -999.00,9,  -999.0,  -999.0, -999.00,9
31RBOACES24N_2,  AR01,    12,  1,     25,2,19980125,2003, 26.5165, -17.8663, 3662,    448.8,  12.8060,  35.7590,  35.7530,2,    174.6,2,     163.4,2,     6.20,2,    15.91,2,     0.00,2,  -999.00,5, -999.000,9, -999.000,9, -999.000,9, -999.000,9,   -999.0,9,  -999.00,9,   -999.0,9,   -999.0,9,-999.0000,9,  -999.0,9, -999.0, -999.00,9,  -999.0,  -999.0, -999.00,9
31RBOACES24N_2,  AR01,    12,  1,     24,2,19980125,2003, 26.5165, -17.8663, 3662,    500.1,  12.0210,  35.6460,  35.6430,2,    158.2,2,     158.8,2,     7.10,2,    17.86,2,     0.00,2,  -999.00,5, -999.000,9, -999.000,9, -999.000,9, -999.000,9,   -999.0,9,  -999.00,9,   -999.0,9,   -999.0,9,-999.0000,9,  -999.0,9, -999.0, -999.00,9,  -999.0,  -999.0, -999.00,9
31RBOACES24N_2,  AR01,    12,  1,     23,2,19980125,2003, 26.5165, -17.8663, 3662,    550.2,  11.2950,  35.5480,  35.5450,2,    157.3,2,     148.5,2,     8.70,2,    20.21,2,     0.00,2,  -999.00,5, -999.000,9, -999.000,9, -999.000,9, -999.000,9,   -999.0,9,  -999.00,9,   -999.0,9,   -999.0,9,-999.0000,9,  -999.0,9, -999.0, -999.00,9,  -999.0,  -999.0, -999.00,9
31RBOACES24N_2,  AR01,    12,  1,     22,2,19980125,2003, 26.5165, -17.8663, 3662,    623.8,  10.4890,  35.4580,  35.4580,2,    150.4,2,     142.8,2,    10.70,2,    22.07,2,     0.00,2,  -999.00,5, -999.000,9, -999.000,9, -999.000,9, -999.000,9,   -999.0,9,  -999.00,9,   -999.0,9,   -999.0,9,-999.0000,9,  -999.0,9, -999.0, -999.00,9,  -999.0,  -999.0, -999.00,9
31RBOACES24N_2,  AR01,    12,  1,     21,2,19980125,2003, 26.5165, -17.8663, 3662,    699.4,   9.7620,  35.3940,  35.3960,2,    141.5,2,     140.4,2,    12.90,2,    23.53,2,     0.00,2,  -999.00,5, -999.000,9, -999.000,9, -999.000,9, -999.000,9,   -999.0,9,  -999.00,9,   -999.0,9,   -999.0,9,-999.0000,9,  -999.0,9, -999.0, -999.00,9,  -999.0,  -999.0, -999.00,9
31RBOACES24N_2,  AR01,    12,  1,     20,2,19980125,2003, 26.5165, -17.8663, 3662,    774.4,   8.9490,  35.3190,  35.3180,2,    136.4,2,     135.1,2,    15.00,2,    25.49,2,     0.00,2,  -999.00,5, -999.000,9, -999.000,9, -999.000,9, -999.000,9,   -999.0,9,  -999.00,9,   -999.0,9,   -999.0,9,-999.0000,9,  -999.0,9, -999.0, -999.00,9,  -999.0,  -999.0, -999.00,9
31RBOACES24N_2,  AR01,    12,  1,     19,2,19980125,2003, 26.5165, -17.8663, 3662,    850.5,   8.2750,  35.2480,  35.2470,2,    136.6,2,     133.8,2,    17.10,2,    26.76,2,     0.00,2,  -999.00,5, -999.000,9, -999.000,9, -999.000,9, -999.000,9,   -999.0,9,  -999.00,9,   -999.0,9,   -999.0,9,-999.0000,9,  -999.0,9, -999.0, -999.00,9,  -999.0,  -999.0, -999.00,9
31RBOACES24N_2,  AR01,    12,  1,     18,2,19980125,2003, 26.5165, -17.8663, 3662,    923.5,   7.8200,  35.2290,  35.2270,2,    138.3,2,     140.7,2,    18.20,2,    26.66,2,     0.00,2,  -999.00,5, -999.000,9, -999.000,9, -999.000,9, -999.000,9,   -999.0,9,  -999.00,9,   -999.0,9,   -999.0,9,-999.0000,9,  -999.0,9, -999.0, -999.00,9,  -999.0,  -999.0, -999.00,9
31RBOACES24N_2,  AR01,    12,  1,     17,2,19980125,2003, 26.5165, -17.8663, 3662,   1025.0,   7.4860,  35.2520,  35.2520,2,    149.4,2,     152.0,2,    18.60,2,    25.68,2,     0.00,2,  -999.00,5, -999.000,9, -999.000,9, -999.000,9, -999.000,9,   -999.0,9,  -999.00,9,   -999.0,9,   -999.0,9,-999.0000,9,  -999.0,9, -999.0, -999.00,9,  -999.0,  -999.0, -999.00,9
31RBOACES24N_2,  AR01,    12,  1,     16,2,19980125,2003, 26.5165, -17.8663, 3662,   1125.3,   7.2490,  35.2940,  35.2930,2,    161.3,2,     163.7,2,    18.50,2,    24.12,2,     0.00,2,  -999.00,5, -999.000,9, -999.000,9, -999.000,9, -999.000,9,   -999.0,9,  -999.00,9,   -999.0,9,   -999.0,9,-999.0000,9,  -999.0,9, -999.0, -999.00,9,  -999.0,  -999.0, -999.00,9
31RBOACES24N_2,  AR01,    12,  1,     15,2,19980125,2003, 26.5165, -17.8663, 3662,   1224.4,   6.9820,  35.3110,  35.3060,2,    175.1,2,     174.7,2,    18.50,2,    23.34,2,     0.00,2,  -999.00,5, -999.000,9, -999.000,9, -999.000,9, -999.000,9,   -999.0,9,  -999.00,9,   -999.0,9,   -999.0,9,-999.0000,9,  -999.0,9, -999.0, -999.00,9,  -999.0,  -999.0, -999.00,9
31RBOACES24N_2,  AR01,    12,  1,     14,2,19980125,2003, 26.5165, -17.8663, 3662,   1325.9,   6.2890,  35.2480,  35.2490,2,    183.8,2,     182.2,2,    19.70,2,    23.34,2,     0.00,2,  -999.00,5, -999.000,9, -999.000,9, -999.000,9, -999.000,9,   -999.0,9,  -999.00,9,   -999.0,9,   -999.0,9,-999.0000,9,  -999.0,9, -999.0, -999.00,9,  -999.0,  -999.0, -999.00,9
31RBOACES24N_2,  AR01,    12,  1,     13,2,19980125,2003, 26.5165, -17.8663, 3662,   1450.0,   5.6650,  35.1920,  35.1920,2,    193.6,2,     192.0,2,    20.60,2,    23.14,2,     0.00,2,  -999.00,5, -999.000,9, -999.000,9, -999.000,9, -999.000,9,   -999.0,9,  -999.00,9,   -999.0,9,   -999.0,9,-999.0000,9,  -999.0,9, -999.0, -999.00,9,  -999.0,  -999.0, -999.00,9
31RBOACES24N_2,  AR01,    12,  1,     12,2,19980125,2003, 26.5165, -17.8663, 3662,   1574.5,   5.2040,  35.1680,  35.1700,2,    204.5,2,     203.6,2,    21.80,2,    22.07,2,     0.00,2,  -999.00,5, -999.000,9, -999.000,9, -999.000,9, -999.000,9,   -999.0,9,  -999.00,9,   -999.0,9,   -999.0,9,-999.0000,9,  -999.0,9, -999.0, -999.00,9,  -999.0,  -999.0, -999.00,9
31RBOACES24N_2,  AR01,    12,  1,     11,2,19980125,2003, 26.5165, -17.8663, 3662,   1699.5,   4.9360,  35.1540,  35.1530,2,    212.0,2,     211.0,2,    22.90,2,    21.78,2,     0.00,2,  -999.00,5, -999.000,9, -999.000,9, -999.000,9, -999.000,9,   -999.0,9,  -999.00,9,   -999.0,9,   -999.0,9,-999.0000,9,  -999.0,9, -999.0, -999.00,9,  -999.0,  -999.0, -999.00,9
31RBOACES24N_2,  AR01,    12,  1,     10,2,19980125,2003, 26.5165, -17.8663, 3662,   1823.7,   4.5550,  35.1240,  35.1230,2,    217.9,2,     218.0,2,    24.60,2,    21.48,2,     0.00,2,  -999.00,5, -999.000,9, -999.000,9, -999.000,9, -999.000,9,   -999.0,9,  -999.00,9,   -999.0,9,   -999.0,9,-999.0000,9,  -999.0,9, -999.0, -999.00,9,  -999.0,  -999.0, -999.00,9
31RBOACES24N_2,  AR01,    12,  1,      9,2,19980125,2003, 26.5165, -17.8663, 3662,   1999.5,   4.1720,  35.0850,  35.0860,2,    223.1,2,     223.3,2,    26.70,2,    21.29,2,     0.00,2,  -999.00,5, -999.000,9, -999.000,9, -999.000,9, -999.000,9,   -999.0,9,  -999.00,9,   -999.0,9,   -999.0,9,-999.0000,9,  -999.0,9, -999.0, -999.00,9,  -999.0,  -999.0, -999.00,9
31RBOACES24N_2,  AR01,    12,  1,      8,2,19980125,2003, 26.5165, -17.8663, 3662,   2167.7,   3.8070,  35.0470,  35.0490,2,    227.0,2,     227.4,2,    29.10,2,    21.49,2,     0.00,2,  -999.00,5, -999.000,9, -999.000,9, -999.000,9, -999.000,9,   -999.0,9,  -999.00,9,   -999.0,9,   -999.0,9,-999.0000,9,  -999.0,9, -999.0, -999.00,9,  -999.0,  -999.0, -999.00,9
31RBOACES24N_2,  AR01,    12,  1,      7,2,19980125,2003, 26.5165, -17.8663, 3662,   2348.1,   3.4710,  35.0100,  35.0110,2,    229.2,2,     229.9,2,    32.00,2,    21.49,2,     0.00,2,  -999.00,5, -999.000,9, -999.000,9, -999.000,9, -999.000,9,   -999.0,9,  -999.00,9,   -999.0,9,   -999.0,9,-999.0000,9,  -999.0,9, -999.0, -999.00,9,  -999.0,  -999.0, -999.00,9
31RBOACES24N_2,  AR01,    12,  1,      6,2,19980125,2003, 26.5165, -17.8663, 3662,   2549.9,   3.1880,  34.9800,  34.9820,2,    231.7,2,     231.8,2,    34.80,2,    21.78,2,     0.00,2,  -999.00,5, -999.000,9, -999.000,9, -999.000,9, -999.000,9,   -999.0,9,  -999.00,9,   -999.0,9,   -999.0,9,-999.0000,9,  -999.0,9, -999.0, -999.00,9,  -999.0,  -999.0, -999.00,9
31RBOACES24N_2,  AR01,    12,  1,      5,2,19980125,2003, 26.5165, -17.8663, 3662,   2747.3,   2.9650,  34.9580,  34.9580,2,    232.9,2,     219.7,4,  -999.00,5,    21.88,2,     0.00,2,  -999.00,5, -999.000,9, -999.000,9, -999.000,9, -999.000,9,   -999.0,9,  -999.00,9,   -999.0,9,   -999.0,9,-999.0000,9,  -999.0,9, -999.0, -999.00,9,  -999.0,  -999.0, -999.00,9
31RBOACES24N_2,  AR01,    12,  1,      4,2,19980125,2003, 26.5165, -17.8663, 3662,   2949.7,   2.7980,  34.9400,  34.9420,2,    233.8,2,     234.0,2,    40.00,2,    21.88,2,     0.00,2,  -999.00,5, -999.000,9, -999.000,9, -999.000,9, -999.000,9,   -999.0,9,  -999.00,9,   -999.0,9,   -999.0,9,-999.0000,9,  -999.0,9, -999.0, -999.00,9,  -999.0,  -999.0, -999.00,9
31RBOACES24N_2,  AR01,    12,  1,      3,2,19980125,2003, 26.5165, -17.8663, 3662,   3198.2,   2.6460,  34.9250,  34.9260,2,    233.5,2,     234.0,2,    41.20,2,    22.27,2,     0.00,2,  -999.00,5, -999.000,9, -999.000,9, -999.000,9, -999.000,9,   -999.0,9,  -999.00,9,   -999.0,9,   -999.0,9,-999.0000,9,  -999.0,9, -999.0, -999.00,9,  -999.0,  -999.0, -999.00,9
31RBOACES24N_2,  AR01,    12,  1,      2,2,19980125,2003, 26.5165, -17.8663, 3662,   3448.1,   2.5430,  34.9140,  34.9160,2,    233.6,2,     234.4,2,    43.30,2,    22.37,2,     0.00,2,  -999.00,5, -999.000,9, -999.000,9, -999.000,9, -999.000,9,   -999.0,9,  -999.00,9,   -999.0,9,   -999.0,9,-999.0000,9,  -999.0,9, -999.0, -999.00,9,  -999.0,  -999.0, -999.00,9
31RBOACES24N_2,  AR01,    12,  1,      1,2,19980125,2003, 26.5165, -17.8663, 3662,   3701.7,   2.4460,  34.9030,  34.9040,2,    237.4,2,     238.8,2,    45.00,6,    22.37,6,     0.00,6,  -999.00,5, -999.000,9, -999.000,9, -999.000,9, -999.000,9,   -999.0,9,  -999.00,9,   -999.0,9,   -999.0,9,-999.0000,9,  -999.0,9, -999.0, -999.00,9,  -999.0,  -999.0, -999.00,9