BOTTLE,20220820CCHSIOAMB
EXPOCODE,SECT_ID,STNNBR,CASTNO,BTLNBR,BTLNBR_FLAG_W,DATE,TIME,LATITUDE,LONGITUDE,DEPTH,CTDPRS,CTDTMP,CTDSAL,SALNTY,SALNTY_FLAG_W,CTDOXY,CTDOXY_FLAG_W,OXYGEN,OXYGEN_FLAG_W,SILCAT,SILCAT_FLAG_W,NITRAT,NITRAT_FLAG_W,NITRIT,NITRIT_FLAG_W,PHSPHT,PHSPHT_FLAG_W,CFC-11,CFC-11_FLAG_W,CFC-12,CFC-12_FLAG_W,CFC113,CFC113_FLAG_W,CCL4,CCL4_FLAG_W,DELC14,DELC14_FLAG_W,DELC13,DELC13_FLAG_W,TCARBN,TCARBN_FLAG_W,ALKALI,ALKALI_FLAG_W,PH,PH_FLAG_W,FCO2,FCO2_FLAG_W,FCO2TMP,TON,TON_FLAG_W,FCO2IN,C14ERR,TOC,TOC_FLAG_W
,,,,,,,,,,,DBAR,ITS-90,PSS-78,PSS-78,,UMOL/KG,,UMOL/KG,,UMOL/KG,,UMOL/KG,,UMOL/KG,,UMOL/KG,,PMOL/KG,,PMOL/KG,,PMOL/KG,,PMOL/KG,,/MILLE,,/MILLE,,UMOL/KG,,UMOL/KG,,,,UATM,,DEG C,UMOL/KG,,UATM,/MILLE,UMOL/KG,
31RBOACES24N_2,  AR01,    31,  1,     36,2,19980130,2034, 24.4998, -30.2668, 5650,      5.2,  22.9540,  37.5500,  37.5500,2,    214.9,2,     215.7,2,     1.40,2,     0.00,2,     0.00,2,  -999.00,5,    1.993,2,    1.154,2,    0.156,2, -999.000,9,     85.7,2,     1.47,2,   2100.9,2,   -999.0,5,   8.0689,2,   309.9,2,   20.0, -999.00,9,   348.5,     3.0, -999.00,9
31RBOACES24N_2,  AR01,    31,  1,     35,2,19980130,2034, 24.4998, -30.2668, 5650,     40.3,  22.9160,  37.5480,  37.5490,2,    212.2,2,     215.6,2,     1.20,2,     0.00,2,     0.00,2,  -999.00,5,    1.982,2,    1.138,2,    0.180,2, -999.000,9,     82.8,2,     1.49,2,   2101.5,6,   -999.0,5,   8.0703,2,   308.8,2,   20.0, -999.00,9,   346.8,     3.3, -999.00,9
31RBOACES24N_2,  AR01,    31,  1,     34,2,19980130,2034, 24.4998, -30.2668, 5650,     91.5,  22.8950,  37.5420,  37.5420,2,    211.8,2,     215.5,2,     1.20,2,     0.00,2,     0.00,2,  -999.00,5,    1.959,2,    1.132,2,    0.158,2, -999.000,9,     90.0,2,     1.54,2,   2102.4,2,   -999.0,5,   8.0674,2,   312.3,2,   20.0, -999.00,9,   350.4,     2.9, -999.00,9
31RBOACES24N_2,  AR01,    31,  1,     33,2,19980130,2034, 24.4998, -30.2668, 5650,    140.3,  20.2600,  37.0290,  37.0130,2,    204.5,2,     209.2,2,     1.20,2,     0.68,2,     0.03,2,  -999.00,5,    2.246,2,    1.280,2,    0.150,2, -999.000,9,     93.7,2,     1.11,2,   2110.8,2,   2415.9,2,   8.0062,2,   365.8,2,   20.0, -999.00,9,   369.6,     2.9, -999.00,9
31RBOACES24N_2,  AR01,    31,  1,     32,2,19980130,2034, 24.4998, -30.2668, 5650,    201.4,  18.3800,  36.6620,  36.6630,2,    198.0,2,     202.9,2,     1.60,2,     3.12,2,     0.01,2,  -999.00,5,    2.322,2,    1.313,2,    0.058,2, -999.000,9,     91.1,2,     0.94,2,   2110.3,2,   -999.0,5,   7.9813,2,   395.2,2,   20.0, -999.00,9,   370.0,     4.3, -999.00,9
31RBOACES24N_2,  AR01,    31,  1,     31,2,19980130,2034, 24.4998, -30.2668, 5650,    225.0,  17.8770,  36.5610,  36.5510,2,    198.5,2,     202.4,2,     1.70,2,     4.20,2,     0.01,2,  -999.00,5, -999.000,9, -999.000,9, -999.000,9, -999.000,9,     88.8,2,     0.87,2,   -999.0,9,   -999.0,9,-999.0000,9,  -999.0,9, -999.0, -999.00,9,  -999.0,     3.8, -999.00,9
31RBOACES24N_2,  AR01,    31,  1,     30,2,19980130,2034, 24.4998, -30.2668, 5650,    250.7,  17.4650,  36.4790,  36.4750,2,    199.9,2,     202.5,2,     2.00,2,     4.78,2,     0.01,2,  -999.00,5,    2.372,6,    1.317,6,    0.039,6, -999.000,9,    107.7,2,     0.90,2,   2111.9,2,   2382.9,2,   7.9614,2,   415.5,2,   20.0, -999.00,9,   374.8,     3.1, -999.00,9
31RBOACES24N_2,  AR01,    31,  1,     29,2,19980130,2034, 24.4998, -30.2668, 5650,    260.5,  17.3230,  36.4560,  36.4560,2,    200.3,2,     204.1,2,  -999.00,9,  -999.00,9,  -999.00,9,  -999.00,9, -999.000,9, -999.000,9, -999.000,9, -999.000,9,   -999.0,9,  -999.00,9,   -999.0,9,   -999.0,9,-999.0000,9,  -999.0,9, -999.0, -999.00,9,  -999.0,  -999.0, -999.00,9
31RBOACES24N_2,  AR01,    31,  1,     28,2,19980130,2034, 24.4998, -30.2668, 5650,    299.4,  16.7940,  36.3600,  36.3570,2,    199.9,2,     199.2,2,     2.20,2,     6.05,2,     0.01,2,  -999.00,5,    2.386,2,    1.320,2,    0.034,2, -999.000,9,     84.7,2,     0.94,2,   2117.4,2,   2375.6,2,   7.9425,2,   440.8,2,   20.0, -999.00,9,   387.0,     3.5, -999.00,9
31RBOACES24N_2,  AR01,    31,  1,     27,2,19980130,2034, 24.4998, -30.2668, 5650,    352.4,  15.9650,  36.2210,  36.2220,2,    198.1,2,     199.0,2,     2.70,2,     7.51,2,     0.00,2,  -999.00,5, -999.000,9, -999.000,9, -999.000,9, -999.000,9,     82.2,2,     0.82,2,   -999.0,9,   -999.0,9,-999.0000,9,  -999.0,9, -999.0, -999.00,9,  -999.0,     3.1, -999.00,9
31RBOACES24N_2,  AR01,    31,  1,     26,2,19980130,2034, 24.4998, -30.2668, 5650,    400.4,  15.3890,  36.1290,  36.1190,2,    196.4,2,     196.8,2,     3.10,2,     8.59,2,     0.01,2,  -999.00,5,    2.341,2,    1.271,2,    0.032,2, -999.000,9,     86.4,2,     0.88,2,   2126.7,2,   2363.9,2,   7.9083,2,   473.3,2,   20.0, -999.00,9,   392.0,     2.9, -999.00,9
31RBOACES24N_2,  AR01,    31,  1,     25,2,19980130,2034, 24.4998, -30.2668, 5650,    450.8,  14.4800,  35.9930,  35.9850,2,    198.8,2,     196.6,2,     3.80,2,    10.05,2,     0.00,2,  -999.00,5, -999.000,9, -999.000,9, -999.000,9, -999.000,9,     83.5,2,     0.84,2,   -999.0,9,   -999.0,9,-999.0000,9,  -999.0,9, -999.0, -999.00,9,  -999.0,     3.9, -999.00,9
31RBOACES24N_2,  AR01,    31,  1,     24,2,19980130,2034, 24.4998, -30.2668, 5650,    501.4,  13.4820,  35.8390,  35.8420,2,    195.6,2,     194.9,2,     4.60,2,    11.91,2,     0.00,2,  -999.00,5,    2.292,2,    1.193,2,    0.027,2, -999.000,9,     70.4,2,    -3.48,4,   2140.5,2,   2347.3,2,   7.8508,2,   539.7,2,   20.0, -999.00,9,   413.0,     3.2, -999.00,9
31RBOACES24N_2,  AR01,    31,  1,     23,2,19980130,2034, 24.4998, -30.2668, 5650,    551.3,  12.6300,  35.7210,  35.7190,2,    189.7,2,     186.7,2,     5.40,2,    14.06,2,     0.00,2,  -999.00,5, -999.000,9, -999.000,9, -999.000,9, -999.000,9,   -999.0,9,     0.83,2,   -999.0,9,   -999.0,9,-999.0000,9,  -999.0,9, -999.0, -999.00,9,  -999.0,  -999.0, -999.00,9
31RBOACES24N_2,  AR01,    31,  1,     22,2,19980130,2034, 24.4998, -30.2668, 5650,    601.7,  11.8650,  35.6230,  35.6180,2,    186.6,2,     181.6,2,     6.30,2,    16.01,2,     0.00,2,  -999.00,5, -999.000,9, -999.000,9, -999.000,9, -999.000,9,     27.5,6,     0.74,2,   2155.1,2,   2335.5,2,   7.8013,2,  -999.0,9, -999.0, -999.00,9,  -999.0,     8.9, -999.00,9
31RBOACES24N_2,  AR01,    31,  1,     21,2,19980130,2034, 24.4998, -30.2668, 5650,    698.9,  10.2940,  35.4590,  35.4600,2,    165.9,2,     159.6,2,    10.20,2,    20.70,2,     0.00,2,  -999.00,5,    0.853,2,    0.412,2,    0.011,2, -999.000,9,    -11.0,2,     0.75,2,   2177.6,2,   2331.5,2,   7.7322,2,   738.1,2,   20.0, -999.00,9,   494.2,     3.8, -999.00,9
31RBOACES24N_2,  AR01,    31,  1,     20,2,19980130,2034, 24.4998, -30.2668, 5650,    800.8,   9.0850,  35.3350,  35.3350,2,    147.3,2,     146.8,2,    13.90,2,    24.32,2,     0.00,2,  -999.00,5, -999.000,9, -999.000,9, -999.000,9, -999.000,9,    -57.5,2,     0.73,2,   -999.0,9,   -999.0,9,-999.0000,9,  -999.0,9, -999.0, -999.00,9,  -999.0,     2.7, -999.00,9
31RBOACES24N_2,  AR01,    31,  1,     19,2,19980130,2034, 24.4998, -30.2668, 5650,    901.2,   7.8740,  35.2170,  35.2150,2,    146.8,2,     147.8,2,    16.90,2,    26.08,2,     0.00,2,  -999.00,5, -999.000,9, -999.000,9, -999.000,9, -999.000,9,    -81.5,2,     0.72,2,   -999.0,9,   -999.0,9,-999.0000,9,  -999.0,9, -999.0, -999.00,9,  -999.0,     3.0, -999.00,9
31RBOACES24N_2,  AR01,    31,  1,     18,2,19980130,2034, 24.4998, -30.2668, 5650,   1000.3,   6.9520,  35.1410,  35.1420,2,    154.8,2,     159.1,2,    18.60,2,    26.37,2,     0.00,2,  -999.00,5,    0.064,2,    0.025,2,    0.001,2, -999.000,9,   -999.0,9,     0.77,2,   2200.6,6,   2324.6,2,   7.6553,2,   885.5,2,   20.0, -999.00,9,   513.3,  -999.0, -999.00,9
31RBOACES24N_2,  AR01,    31,  1,     17,2,19980130,2034, 24.4998, -30.2668, 5650,   1102.7,   6.4560,  35.1340,  35.1330,2,    167.9,2,     170.8,2,    18.70,2,    25.39,2,     0.00,2,  -999.00,5, -999.000,9, -999.000,9, -999.000,9, -999.000,9,    -88.1,2,     0.79,2,   -999.0,9,   -999.0,9,-999.0000,9,  -999.0,9, -999.0, -999.00,9,  -999.0,     2.8, -999.00,9
31RBOACES24N_2,  AR01,    31,  1,     16,2,19980130,2034, 24.4998, -30.2668, 5650,   1300.6,   6.0040,  35.1770,  35.1750,2,    189.7,2,     191.7,2,    18.10,2,    23.44,2,     0.00,2,  -999.00,5, -999.000,9, -999.000,9, -999.000,9, -999.000,9,    -86.8,2,     0.78,2,   -999.0,9,   -999.0,9,-999.0000,9,  -999.0,9, -999.0, -999.00,9,  -999.0,     2.9, -999.00,9
31RBOACES24N_2,  AR01,    31,  1,     15,2,19980130,2034, 24.4998, -30.2668, 5650,   1501.1,   5.4090,  35.1710,  35.1710,2,    208.8,2,     208.9,2,    18.60,2,    22.17,2,     0.00,2,  -999.00,5, -999.000,9, -999.000,9, -999.000,9, -999.000,9,   -101.0,2,     0.87,2,   2185.0,2,   2331.9,2,   7.7127,2,  -999.0,9, -999.0, -999.00,9,  -999.0,     2.5, -999.00,9
31RBOACES24N_2,  AR01,    31,  1,     14,2,19980130,2034, 24.4998, -30.2668, 5650,   1700.1,   4.7680,  35.1290,  35.1290,2,    224.1,2,     223.6,2,    20.30,2,    21.39,2,     0.00,2,  -999.00,5, -999.000,9, -999.000,9, -999.000,9, -999.000,9,    -91.6,2,     0.96,2,   -999.0,9,   -999.0,9,-999.0000,9,  -999.0,9, -999.0, -999.00,9,  -999.0,     2.5, -999.00,9
31RBOACES24N_2,  AR01,    31,  1,     13,2,19980130,2034, 24.4998, -30.2668, 5650,   1897.7,   4.2790,  35.0860,  35.0860,2,    233.1,2,     231.8,2,    22.00,2,    21.10,2,     0.00,2,  -999.00,5,    0.018,2,    0.009,2,    0.001,2, -999.000,9,    -89.6,2,     0.96,2,   -999.0,9,   -999.0,9,-999.0000,9,  -999.0,9, -999.0, -999.00,9,  -999.0,     2.8, -999.00,9
31RBOACES24N_2,  AR01,    31,  1,     12,2,19980130,2034, 24.4998, -30.2668, 5650,   2098.1,   3.8450,  35.0480,  35.0470,2,    239.9,2,     240.3,2,    23.80,2,    20.90,2,     0.00,2,  -999.00,5,    0.001,2,    0.004,2,   -0.004,2, -999.000,9,   -102.1,2,     0.99,2,   2176.8,2,   2330.3,2,   7.7320,2,   739.4,2,   20.0, -999.00,9,   367.7,     2.7, -999.00,9
31RBOACES24N_2,  AR01,    31,  1,     11,2,19980130,2034, 24.4998, -30.2668, 5650,   2301.3,   3.4750,  35.0110,  35.0110,2,    244.1,2,     244.8,2,    26.00,2,    20.80,2,     0.00,2,  -999.00,5, -999.000,9, -999.000,9, -999.000,9, -999.000,9,   -112.3,2,     0.93,2,   -999.0,9,   -999.0,9,-999.0000,9,  -999.0,9, -999.0, -999.00,9,  -999.0,     3.1, -999.00,9
31RBOACES24N_2,  AR01,    31,  1,     10,2,19980130,2034, 24.4998, -30.2668, 5650,   2501.6,   3.2320,  34.9880,  34.9930,2,    247.0,2,     246.2,2,    27.40,2,    20.71,2,     0.00,2,  -999.00,5, -999.000,9, -999.000,9, -999.000,9, -999.000,9,   -115.5,2,     1.00,2,   2179.8,2,   2333.6,2,   7.7322,2,  -999.0,9, -999.0, -999.00,9,  -999.0,     3.0, -999.00,9
31RBOACES24N_2,  AR01,    31,  1,      9,2,19980130,2034, 24.4998, -30.2668, 5650,   2700.6,   3.0230,  34.9680,  34.9680,2,    248.5,2,     248.8,2,    30.80,2,    20.90,2,     0.00,2,  -999.00,5, -999.000,9, -999.000,9, -999.000,9, -999.000,9,   -120.5,2,     0.93,2,   -999.0,9,   -999.0,9,-999.0000,9,  -999.0,9, -999.0, -999.00,9,  -999.0,     3.3, -999.00,9
31RBOACES24N_2,  AR01,    31,  1,      8,2,19980130,2034, 24.4998, -30.2668, 5650,   2899.2,   2.8270,  34.9490,  34.9480,2,    248.5,2,     248.7,2,    34.00,2,    21.00,2,     0.00,2,  -999.00,5, -999.000,9, -999.000,9, -999.000,9, -999.000,9,   -129.2,2,     0.98,2,   2185.9,2,   2342.2,2,   7.7308,2,   744.9,2,   20.0, -999.00,9,   351.9,     2.8, -999.00,9
31RBOACES24N_2,  AR01,    31,  1,      7,2,19980130,2034, 24.4998, -30.2668, 5650,   3297.4,   2.5790,  34.9230,  34.9230,2,    248.8,2,     248.4,2,    39.10,2,    21.49,2,     0.00,2,  -999.00,5, -999.000,9, -999.000,9, -999.000,9, -999.000,9,   -999.0,9,  -999.00,9,   -999.0,9,   -999.0,9,-999.0000,9,  -999.0,9, -999.0, -999.00,9,  -999.0,  -999.0, -999.00,9
31RBOACES24N_2,  AR01,    31,  1,      6,2,19980130,2034, 24.4998, -30.2668, 5650,   3700.2,   2.4500,  34.9080,  34.9070,2,    247.3,2,     249.3,2,    43.10,2,    22.08,3,     0.00,2,  -999.00,5, -999.000,9, -999.000,9, -999.000,9, -999.000,9,   -999.0,9,  -999.00,9,   -999.0,9,   -999.0,9,-999.0000,9,  -999.0,9, -999.0, -999.00,9,  -999.0,  -999.0, -999.00,9
31RBOACES24N_2,  AR01,    31,  1,      5,2,19980130,2034, 24.4998, -30.2668, 5650,   4099.6,   2.3890,  34.8970,  34.8970,2,    247.1,2,     248.7,2,    45.40,2,    22.27,3,     0.00,2,  -999.00,5, -999.000,9, -999.000,9, -999.000,9, -999.000,9,   -999.0,9,  -999.00,9,   2197.0,2,   -999.0,5,   7.7282,2,   754.6,2,   20.0, -999.00,9,   348.1,  -999.0, -999.00,9
31RBOACES24N_2,  AR01,    31,  1,      4,3,19980130,2034, 24.4998, -30.2668, 5650,   4475.4,   2.3770,  34.8910,  34.8910,2,    246.4,2,     248.3,2,    46.80,2,    22.47,3,     0.00,2,  -999.00,5, -999.000,9, -999.000,9, -999.000,9, -999.000,9,   -999.0,9,  -999.00,9,   -999.0,9,   -999.0,9,-999.0000,9,  -999.0,9, -999.0, -999.00,9,  -999.0,  -999.0, -999.00,9
31RBOACES24N_2,  AR01,    31,  1,      3,2,19980130,2034, 24.4998, -30.2668, 5650,   4900.6,   2.3900,  34.8860,  34.8860,2,    248.2,2,     249.2,2,    47.80,2,    22.57,3,     0.00,2,  -999.00,5, -999.000,9, -999.000,9, -999.000,9, -999.000,9,   -999.0,9,  -999.00,9,   -999.0,9,   -999.0,9,-999.0000,9,  -999.0,9, -999.0, -999.00,9,  -999.0,  -999.0, -999.00,9
31RBOACES24N_2,  AR01,    31,  1,      2,2,19980130,2034, 24.4998, -30.2668, 5650,   5300.0,   2.4330,  34.8850,  34.8850,2,    249.1,2,     249.8,2,    48.20,2,    22.76,3,     0.00,2,  -999.00,5, -999.000,9, -999.000,9, -999.000,9, -999.000,9,   -999.0,9,  -999.00,9,   -999.0,9,   -999.0,9,-999.0000,9,  -999.0,9, -999.0, -999.00,9,  -999.0,  -999.0, -999.00,9
31RBOACES24N_2,  AR01,    31,  1,      1,2,19980130,2034, 24.4998, -30.2668, 5650,   5715.3,   2.4840,  34.8840,  34.8850,2,    249.4,2,     249.0,2,    48.10,6,    22.47,6,     0.00,6,  -999.00,5, -999.000,9, -999.000,9, -999.000,9, -999.000,9,   -999.0,9,  -999.00,9,   2199.2,2,   2357.2,2,   7.7234,2,   708.9,3,   20.0, -999.00,9,   327.3,  -999.0, -999.00,9