BOTTLE,20220820CCHSIOAMB
EXPOCODE,SECT_ID,STNNBR,CASTNO,BTLNBR,BTLNBR_FLAG_W,DATE,TIME,LATITUDE,LONGITUDE,DEPTH,CTDPRS,CTDTMP,CTDSAL,SALNTY,SALNTY_FLAG_W,CTDOXY,CTDOXY_FLAG_W,OXYGEN,OXYGEN_FLAG_W,SILCAT,SILCAT_FLAG_W,NITRAT,NITRAT_FLAG_W,NITRIT,NITRIT_FLAG_W,PHSPHT,PHSPHT_FLAG_W,CFC-11,CFC-11_FLAG_W,CFC-12,CFC-12_FLAG_W,CFC113,CFC113_FLAG_W,CCL4,CCL4_FLAG_W,DELC14,DELC14_FLAG_W,DELC13,DELC13_FLAG_W,TCARBN,TCARBN_FLAG_W,ALKALI,ALKALI_FLAG_W,PH,PH_FLAG_W,FCO2,FCO2_FLAG_W,FCO2TMP,TON,TON_FLAG_W,FCO2IN,C14ERR,TOC,TOC_FLAG_W
,,,,,,,,,,,DBAR,ITS-90,PSS-78,PSS-78,,UMOL/KG,,UMOL/KG,,UMOL/KG,,UMOL/KG,,UMOL/KG,,UMOL/KG,,PMOL/KG,,PMOL/KG,,PMOL/KG,,PMOL/KG,,/MILLE,,/MILLE,,UMOL/KG,,UMOL/KG,,,,UATM,,DEG C,UMOL/KG,,UATM,/MILLE,UMOL/KG,
31RBOACES24N_2,  AR01,   106,  1,     36,2,19980220,0233, 26.5003, -75.0837, 4629,      3.6,  22.3760,  36.6690,  36.6670,2,    217.8,2,     218.3,2,     0.70,2,     0.00,2,     0.00,2,     0.01,2,    2.046,2,    1.173,2,    0.158,2,    2.121,4,     84.8,2,     1.23,2,   2041.5,6,   2392.8,3,   8.0742,2,   287.1,2,   20.0, -999.00,9,   315.5,     3.6,   65.59,2
31RBOACES24N_2,  AR01,   106,  1,     35,2,19980220,0233, 26.5003, -75.0837, 4629,     29.2,  22.2350,  36.6620,  36.6610,2,    218.7,2,     218.1,6,     0.70,2,     0.00,2,     0.00,2,     0.01,2, -999.000,9, -999.000,9, -999.000,9, -999.000,9,     87.8,2,     1.27,2,   2042.5,2,   2391.2,3,-999.0000,9,   291.6,2,   20.0, -999.00,9,   318.7,     3.4,   64.98,2
31RBOACES24N_2,  AR01,   106,  1,     34,2,19980220,0233, 26.5003, -75.0837, 4629,     79.0,  21.9240,  36.6640,  36.6630,2,    219.1,2,     218.7,2,     0.70,2,     0.00,2,     0.00,2,     0.02,2,    2.063,2,    1.181,2,    0.163,2, -999.000,9,     74.1,2,     1.21,2,   2045.3,2,   2393.0,3,   8.0843,2,   293.2,2,   20.0, -999.00,9,   316.6,     4.5,   63.37,2
31RBOACES24N_2,  AR01,   106,  1,     33,2,19980220,0233, 26.5003, -75.0837, 4629,    129.7,  21.7300,  36.6490,  36.6500,2,    216.8,2,     216.6,2,     0.70,2,     0.10,2,     0.04,2,     0.02,2, -999.000,9, -999.000,9, -999.000,9, -999.000,9,     79.2,2,     1.22,2,   2048.0,2,   2391.1,3,-999.0000,9,   300.8,2,   20.0, -999.00,9,   322.3,     4.0,   61.55,2
31RBOACES24N_2,  AR01,   106,  1,     32,2,19980220,0233, 26.5003, -75.0837, 4629,    180.4,  21.2550,  36.7770,  36.7880,2,    198.7,2,     201.2,2,     0.70,2,     0.78,2,     0.05,2,     0.03,2,    2.161,2,    1.225,2,    0.107,2, -999.000,9,     73.9,2,     1.04,2,   2079.4,2,   2400.3,3,   8.0373,2,   335.0,2,   20.0, -999.00,9,   352.1,     3.3,   56.51,2
31RBOACES24N_2,  AR01,   106,  1,     31,2,19980220,0233, 26.5003, -75.0837, 4629,    209.8,  20.4800,  36.7940,  36.7740,2,    192.0,2,     198.0,2,     0.80,2,     1.17,2,     0.02,2,     0.05,2,    2.233,2,    1.255,2,    0.083,2, -999.000,9,    102.8,2,     0.91,2,   2092.6,2,   2399.6,3,   8.0157,2,   357.6,2,   20.0, -999.00,9,   364.4,     3.1,   54.19,2
31RBOACES24N_2,  AR01,   106,  1,     30,2,19980220,0233, 26.5003, -75.0837, 4629,    232.3,  19.5510,  36.7180,  36.7140,2,    194.2,2,     192.8,2,     0.90,2,     2.05,2,     0.01,2,     0.07,2, -999.000,9, -999.000,9, -999.000,9, -999.000,9,     92.2,2,     0.87,2,   2102.1,2,   2397.7,3,   7.9987,2,   382.5,2,   20.0, -999.00,9,   375.5,     3.2,   52.88,2
31RBOACES24N_2,  AR01,   106,  1,     29,2,19980220,0233, 26.5003, -75.0837, 4629,    259.5,  19.0840,  36.6630,  36.6630,2,    192.4,2,     195.1,2,     1.00,2,     2.54,2,     0.01,2,     0.10,2,    2.287,2,    1.270,2,    0.034,2, -999.000,9,    107.2,2,     0.92,2,   2100.1,2,   2392.0,3,   7.9958,2,  -999.0,9, -999.0, -999.00,9,  -999.0,     2.9,   51.26,2
31RBOACES24N_2,  AR01,   106,  1,     28,2,19980220,0233, 26.5003, -75.0837, 4629,    285.3,  18.6910,  36.6110,  36.6080,2,    194.0,2,     197.8,2,     1.10,2,     3.12,2,     0.01,2,     0.13,2,    2.313,2,    1.276,2,    0.028,2, -999.000,9,    105.5,2,     1.02,2,   -999.0,9,   2389.4,3,   7.9919,2,   386.2,2,   20.0, -999.00,9,   366.3,     3.3, -999.00,9
31RBOACES24N_2,  AR01,   106,  1,     27,2,19980220,0233, 26.5003, -75.0837, 4629,    324.3,  18.3570,  36.5670,  36.5660,2,    199.0,2,     201.6,2,     1.20,2,     3.61,2,     0.01,2,     0.16,2,    2.352,2,    1.293,2,    0.028,2, -999.000,9,    105.9,2,     0.94,2,   2096.8,6,   2386.3,3,   7.9919,2,   384.0,2,   20.0, -999.00,9,   359.4,     3.1,   48.84,2
31RBOACES24N_2,  AR01,   106,  1,     26,2,19980220,0233, 26.5003, -75.0837, 4629,    375.1,  18.0980,  36.5320,  36.5310,2,    202.8,2,     203.2,2,     1.40,2,     4.10,2,     0.01,2,     0.20,2,    2.324,2,    1.267,2,    0.024,2, -999.000,9,     94.4,2,     0.88,2,   2097.0,2,   2385.7,3,   7.9879,2,   382.4,2,   20.0, -999.00,9,   354.0,     3.8, -999.00,9
31RBOACES24N_2,  AR01,   106,  1,     25,2,19980220,0233, 26.5003, -75.0837, 4629,    449.3,  17.5470,  36.4400,  36.4490,2,    194.7,2,     194.4,2,     1.90,2,     5.66,2,     0.01,2,     0.30,2, -999.000,9, -999.000,9, -999.000,9, -999.000,9,     91.0,2,     0.86,2,   2107.8,2,   2378.9,3,-999.0000,9,   412.9,2,   20.0, -999.00,9,   373.9,     3.3,   47.33,2
31RBOACES24N_2,  AR01,   106,  1,     24,2,19980220,0233, 26.5003, -75.0837, 4629,    499.9,  16.9050,  36.3280,  36.3300,2,    186.3,2,     185.0,2,     2.40,2,     7.61,2,     0.01,2,     0.42,2,    2.068,2,    1.099,2,    0.024,2, -999.000,9,     95.1,2,     0.88,2,   2118.1,2,   2375.5,3,   7.9362,2,   441.9,2,   20.0, -999.00,9,   389.7,     3.7, -999.00,9
31RBOACES24N_2,  AR01,   106,  1,     23,2,19980220,0233, 26.5003, -75.0837, 4629,    549.4,  16.2380,  36.2120,  36.2150,2,    181.3,2,     180.8,2,     3.00,2,     9.07,2,     0.01,2,     0.51,2, -999.000,9, -999.000,9, -999.000,9, -999.000,9,     86.6,2,     0.94,2,   2124.6,2,   2367.6,3,   7.9109,2,  -999.0,9, -999.0, -999.00,9,  -999.0,     3.1,   45.91,2
31RBOACES24N_2,  AR01,   106,  1,     22,2,19980220,0233, 26.5003, -75.0837, 4629,    599.8,  15.1640,  36.0380,  36.0480,2,    175.5,2,     174.9,2,     4.00,2,    11.32,2,     0.01,2,     0.66,2,    1.818,2,    0.945,2,    0.019,2, -999.000,9,     66.5,2,     0.79,2,   2134.4,2,   2361.2,3,   7.8788,2,   508.9,2,   20.0, -999.00,9,   418.0,     3.2, -999.00,9
31RBOACES24N_2,  AR01,   106,  1,     21,2,19980220,0233, 26.5003, -75.0837, 4629,    648.8,  14.2600,  35.8980,  35.9060,2,    170.7,2,     169.6,2,     5.10,2,    13.27,2,     0.01,2,     0.79,2,    1.644,2,    0.852,2,    0.024,2, -999.000,9,     65.1,2,     0.77,2,   2142.0,2,   2351.0,3,-999.0000,9,  -999.0,9, -999.0, -999.00,9,  -999.0,     3.0,   45.11,2
31RBOACES24N_2,  AR01,   106,  1,     20,2,19980220,0233, 26.5003, -75.0837, 4629,    746.8,  12.3120,  35.6000,  35.6080,2,    164.8,2,     163.6,2,     7.80,2,    17.08,2,     0.01,2,     1.06,2,    1.343,2,    0.690,2,    0.026,2, -999.000,9,     12.6,6,     0.76,6,   2157.2,2,   2341.8,3,   7.7893,2,   637.8,2,   20.0, -999.00,9,   464.6,     2.6, -999.00,9
31RBOACES24N_2,  AR01,   106,  1,     19,2,19980220,0233, 26.5003, -75.0837, 4629,    849.7,   9.8390,  35.3080,  35.3110,2,    159.1,2,     157.9,2,    11.90,2,    21.58,2,     0.01,2,     1.38,2, -999.000,9, -999.000,9, -999.000,9, -999.000,9,    -28.7,2,     0.69,2,   2176.2,2,   2325.8,3,   7.7210,2,   754.1,2,   20.0, -999.00,9,   495.6,     3.3,   42.79,2
31RBOACES24N_2,  AR01,   106,  1,     18,2,19980220,0233, 26.5003, -75.0837, 4629,    950.0,   7.7650,  35.0870,  35.0890,2,    155.5,2,     154.3,2,    16.80,2,    25.49,2,     0.01,2,     1.67,2,    0.269,6,    0.142,6,    0.003,6, -999.000,9,    -72.0,2,     0.71,2,   2192.6,6,   2322.3,3,-999.0000,9,   874.9,2,   20.0, -999.00,9,   526.4,     2.9, -999.00,9
31RBOACES24N_2,  AR01,   106,  1,     17,2,19980220,0233, 26.5003, -75.0837, 4629,   1048.1,   6.8720,  35.0770,  35.0760,2,    175.8,2,     176.0,2,    16.30,2,    23.83,2,     0.01,2,     1.58,2,    0.328,2,    0.173,2,    0.014,2, -999.000,9,   -999.0,9,     0.81,2,   2188.5,2,   2318.9,3,   7.6783,2,   847.3,2,   20.0, -999.00,9,   488.8,  -999.0,   42.89,2
31RBOACES24N_2,  AR01,   106,  1,     16,2,19980220,0233, 26.5003, -75.0837, 4629,   1198.5,   5.6220,  35.0800,  35.0800,2,    220.1,2,     221.6,2,    13.70,2,    20.12,2,     0.01,2,     1.34,2, -999.000,9, -999.000,9, -999.000,9, -999.000,9,    -67.4,6,     0.91,2,   2173.7,2,   2322.3,3,   7.7132,2,   772.3,2,   20.0, -999.00,9,   419.6,     1.9, -999.00,9
31RBOACES24N_2,  AR01,   106,  1,     15,2,19980220,0233, 26.5003, -75.0837, 4629,   1400.7,   4.7770,  35.0510,  35.0520,2,    248.0,2,     246.7,2,    13.00,2,    18.55,2,     0.01,2,     1.25,2,    0.682,2,    0.337,2,    0.017,2, -999.000,9,    -46.6,6,     0.88,2,   2164.9,2,   2315.8,3,   7.7292,2,  -999.0,9, -999.0, -999.00,9,  -999.0,     2.0,   42.89,2
31RBOACES24N_2,  AR01,   106,  1,     14,2,19980220,0233, 26.5003, -75.0837, 4629,   1600.4,   4.2110,  34.9990,  35.0000,2,    262.2,2,     261.6,2,    12.90,2,    17.87,2,     0.01,2,     1.21,2,    0.876,2,    0.431,2,    0.037,2, -999.000,9,    -45.5,2,     0.89,2,   2160.3,2,   2318.4,3,   7.7341,2,   726.1,2,   20.0, -999.00,9,   368.4,     2.5, -999.00,9
31RBOACES24N_2,  AR01,   106,  1,     13,2,19980220,0233, 26.5003, -75.0837, 4629,   1800.6,   3.8590,  34.9730,  34.9750,2,    266.8,2,     267.6,2,    13.40,2,    17.68,2,     0.01,2,     1.19,2,    0.903,2,    0.443,2,    0.038,2, -999.000,9,    -54.1,2,     0.99,2,   2159.4,2,   2317.1,3,   7.7358,2,  -999.0,9, -999.0, -999.00,9,  -999.0,     2.9,   42.99,2
31RBOACES24N_2,  AR01,   106,  1,     12,2,19980220,0233, 26.5003, -75.0837, 4629,   2000.8,   3.7510,  34.9860,  34.9870,2,    265.6,2,     265.3,2,    15.20,2,    17.87,2,     0.01,2,     1.21,2,    0.424,2,    0.211,2,    0.016,2,    1.044,6,    -70.8,2,     1.01,2,   2159.6,2,   2320.8,3,   7.7375,2,  -999.0,9, -999.0, -999.00,9,  -999.0,     2.6, -999.00,9
31RBOACES24N_2,  AR01,   106,  1,     11,2,19980220,0233, 26.5003, -75.0837, 4629,   2200.3,   3.5310,  34.9740,  34.9740,2,    266.4,2,     267.2,2,    16.50,2,    17.77,2,     0.01,2,     1.21,2, -999.000,9, -999.000,9, -999.000,9,    0.954,2,    -77.1,2,     1.04,2,   2160.0,2,   2314.8,3,   7.7387,2,   714.5,2,   20.0, -999.00,9,   350.4,     3.0,   42.99,2
31RBOACES24N_2,  AR01,   106,  1,     10,2,19980220,0233, 26.5003, -75.0837, 4629,   2399.8,   3.3350,  34.9650,  34.9660,2,    267.8,2,     267.6,2,    18.00,2,    17.87,2,     0.01,2,     1.22,2,    0.310,2,    0.158,2,    0.010,2, -999.000,9,    -77.4,2,     1.00,2,   2161.1,2,   -999.0,9,   7.7393,2,  -999.0,9, -999.0, -999.00,9,  -999.0,     3.3, -999.00,9
31RBOACES24N_2,  AR01,   106,  1,      9,2,19980220,0233, 26.5003, -75.0837, 4629,   2589.2,   3.1390,  34.9540,  34.9530,2,    268.9,2,     269.2,2,    19.00,2,    17.77,2,     0.01,2,     1.22,2,    0.325,2,    0.162,2,    0.008,2,    0.809,2,    -96.0,6,     1.01,2,   2161.5,2,   2319.9,3,-999.0000,9,  -999.0,9, -999.0, -999.00,9,  -999.0,     2.0,   42.89,2
31RBOACES24N_2,  AR01,   106,  1,      8,2,19980220,0233, 26.5003, -75.0837, 4629,   2799.3,   2.9070,  34.9390,  34.9380,2,    271.2,2,     271.9,2,    19.90,2,    17.58,2,     0.01,2,     1.21,2, -999.000,9, -999.000,9, -999.000,9, -999.000,9,    -73.9,2,     0.94,2,   2160.4,2,   -999.0,9,   7.7367,2,   716.7,2,   20.0, -999.00,9,   341.0,     2.8, -999.00,9
31RBOACES24N_2,  AR01,   106,  1,      7,2,19980220,0233, 26.5003, -75.0837, 4629,   3000.7,   2.7340,  34.9290,  34.9290,2,    273.6,2,     273.5,2,    20.60,2,    17.48,2,     0.01,2,     1.20,2,    0.518,2,    0.252,2,    0.017,2,    1.035,2,    -82.1,2,     1.06,2,   2160.6,2,   2316.2,3,-999.0000,9,  -999.0,9, -999.0, -999.00,9,  -999.0,     3.5,   42.99,2
31RBOACES24N_2,  AR01,   106,  1,      6,2,19980220,0233, 26.5003, -75.0837, 4629,   3201.0,   2.6010,  34.9210,  34.9220,2,    274.6,2,     274.3,2,    22.00,2,    17.38,2,     0.01,2,     1.21,2, -999.000,9, -999.000,9, -999.000,9,    1.006,2,    -72.3,2,     0.99,2,   2161.6,2,   -999.0,9,-999.0000,5,  -999.0,9, -999.0, -999.00,9,  -999.0,     2.9, -999.00,9
31RBOACES24N_2,  AR01,   106,  1,      5,2,19980220,0233, 26.5003, -75.0837, 4629,   3501.7,   2.4260,  34.9100,  34.9100,2,    275.9,2,     275.5,2,    23.60,2,    17.38,2,     0.01,2,     1.22,2,    0.617,2,    0.299,2,    0.028,2,    1.189,2,    -64.6,2,     1.00,2,   2163.9,2,   2324.3,3,   7.7362,2,   720.7,2,   20.0, -999.00,9,   334.6,     2.5,   42.89,2
31RBOACES24N_2,  AR01,   106,  1,      4,2,19980220,0233, 26.5003, -75.0837, 4629,   3799.3,   2.3370,  34.9030,  34.9020,2,    275.0,2,     274.5,2,    25.90,2,    17.58,2,     0.01,2,     1.23,2, -999.000,9, -999.000,9, -999.000,9, -999.000,9,    -72.0,2,     0.96,2,   2167.1,2,   -999.0,9,-999.0000,9,  -999.0,9, -999.0, -999.00,9,  -999.0,     3.1, -999.00,9
31RBOACES24N_2,  AR01,   106,  1,      3,2,19980220,0233, 26.5003, -75.0837, 4629,   4100.9,   2.2670,  34.8950,  34.8940,2,    271.5,2,     271.4,2,    30.50,2,    18.17,2,     0.01,2,     1.29,2,    0.519,2,    0.254,2,    0.031,2,    1.022,2,    -84.3,2,     1.03,2,   2173.2,2,   2325.9,3,   7.7319,2,  -999.0,9, -999.0, -999.00,9,  -999.0,     3.0,   43.19,2
31RBOACES24N_2,  AR01,   106,  1,      2,2,19980220,0233, 26.5003, -75.0837, 4629,   4390.0,   2.2070,  34.8860,  34.8840,2,    266.8,2,     266.5,2,    36.40,2,    19.24,2,     0.01,2,     1.36,2,    0.318,2,    0.164,2,    0.032,2,    0.714,2,    -92.3,2,     0.97,2,   2181.0,2,   -999.0,9,   7.7292,2,   739.0,2,   20.0, -999.00,9,   338.6,     2.5, -999.00,9
31RBOACES24N_2,  AR01,   106,  1,      1,2,19980220,0233, 26.5003, -75.0837, 4629,   4675.7,   2.1620,  34.8750,  34.9050,2,    262.0,2,     272.6,3,    27.20,3,    17.87,3,     0.01,6,     1.26,6,    0.514,4,    0.255,4,    0.032,4,    1.032,2,    -74.6,2,     0.97,2,   2169.6,3,   2324.6,3,   7.7342,2,   730.8,2,   20.0, -999.00,9,   334.8,     4.7,   44.50,3