BOTTLE,20220820CCHSIOAMB
EXPOCODE,SECT_ID,STNNBR,CASTNO,BTLNBR,BTLNBR_FLAG_W,DATE,TIME,LATITUDE,LONGITUDE,DEPTH,CTDPRS,CTDTMP,CTDSAL,SALNTY,SALNTY_FLAG_W,CTDOXY,CTDOXY_FLAG_W,OXYGEN,OXYGEN_FLAG_W,SILCAT,SILCAT_FLAG_W,NITRAT,NITRAT_FLAG_W,NITRIT,NITRIT_FLAG_W,PHSPHT,PHSPHT_FLAG_W,CFC-11,CFC-11_FLAG_W,CFC-12,CFC-12_FLAG_W,CFC113,CFC113_FLAG_W,CCL4,CCL4_FLAG_W,DELC14,DELC14_FLAG_W,DELC13,DELC13_FLAG_W,TCARBN,TCARBN_FLAG_W,ALKALI,ALKALI_FLAG_W,PH,PH_FLAG_W,FCO2,FCO2_FLAG_W,FCO2TMP,TON,TON_FLAG_W,FCO2IN,C14ERR,TOC,TOC_FLAG_W
,,,,,,,,,,,DBAR,ITS-90,PSS-78,PSS-78,,UMOL/KG,,UMOL/KG,,UMOL/KG,,UMOL/KG,,UMOL/KG,,UMOL/KG,,PMOL/KG,,PMOL/KG,,PMOL/KG,,PMOL/KG,,/MILLE,,/MILLE,,UMOL/KG,,UMOL/KG,,,,UATM,,DEG C,UMOL/KG,,UATM,/MILLE,UMOL/KG,
31RBOACES24N_2,  AR01,    27,  1,     36,2,19980129,1558, 24.4993, -27.1500, 5534,      3.7,  22.6240,  37.4040,  37.4040,2,    218.1,2,     217.4,6,     1.20,2,     0.00,2,     0.00,2,  -999.00,5, -999.000,9, -999.000,9, -999.000,9, -999.000,9,   -999.0,9,  -999.00,9,   2097.3,2,   2442.9,2,   8.0646,2,   318.4,6,   20.0, -999.00,9,   353.4,  -999.0, -999.00,9
31RBOACES24N_2,  AR01,    27,  1,     35,2,19980129,1558, 24.4993, -27.1500, 5534,     50.5,  22.5510,  37.4130,  37.4160,2,    216.4,2,     218.3,2,     0.90,2,     0.00,2,     0.00,2,  -999.00,5, -999.000,9, -999.000,9, -999.000,9, -999.000,9,   -999.0,9,  -999.00,9,   2099.2,6,   2444.6,2,   8.0645,2,   315.2,2,   20.0, -999.00,9,   348.9,  -999.0, -999.00,9
31RBOACES24N_2,  AR01,    27,  1,     34,2,19980129,1558, 24.4993, -27.1500, 5534,     99.6,  22.2520,  37.4150,  37.4170,2,    217.8,2,     219.8,2,     0.80,2,     0.00,2,     0.00,2,  -999.00,5, -999.000,9, -999.000,9, -999.000,9, -999.000,9,   -999.0,9,  -999.00,9,   2099.7,2,   2443.0,2,   8.0584,2,   320.1,2,   20.0, -999.00,9,   350.1,  -999.0, -999.00,9
31RBOACES24N_2,  AR01,    27,  1,     33,2,19980129,1558, 24.4993, -27.1500, 5534,    149.5,  19.4030,  36.8300,  36.8340,2,    209.6,2,     216.0,2,     0.90,2,     0.39,2,     0.04,2,  -999.00,5, -999.000,9, -999.000,9, -999.000,9, -999.000,9,   -999.0,9,  -999.00,9,   -999.0,9,   -999.0,9,-999.0000,9,  -999.0,9, -999.0, -999.00,9,  -999.0,  -999.0, -999.00,9
31RBOACES24N_2,  AR01,    27,  1,     32,2,19980129,1558, 24.4993, -27.1500, 5534,    199.7,  17.9890,  36.5940,  36.5890,2,    202.4,2,     206.2,2,     1.20,2,     3.32,2,     0.00,2,  -999.00,5, -999.000,9, -999.000,9, -999.000,9, -999.000,9,   -999.0,9,  -999.00,9,   2108.7,2,   2387.1,2,   7.9742,2,   400.8,2,   20.0, -999.00,9,   369.3,  -999.0, -999.00,9
31RBOACES24N_2,  AR01,    27,  1,     31,2,19980129,1558, 24.4993, -27.1500, 5534,    225.0,  17.3600,  36.4810,  36.4740,2,    203.2,2,     205.4,2,     1.50,2,     4.59,2,     0.00,2,  -999.00,5, -999.000,9, -999.000,9, -999.000,9, -999.000,9,   -999.0,9,  -999.00,9,   -999.0,9,   -999.0,9,-999.0000,9,  -999.0,9, -999.0, -999.00,9,  -999.0,  -999.0, -999.00,9
31RBOACES24N_2,  AR01,    27,  1,     30,2,19980129,1558, 24.4993, -27.1500, 5534,    252.3,  16.8070,  36.3780,  36.3770,2,    202.6,2,     202.1,2,     1.70,2,     5.56,2,     0.00,2,  -999.00,5, -999.000,9, -999.000,9, -999.000,9, -999.000,9,   -999.0,9,  -999.00,9,   2115.5,2,   2377.4,2,   7.9462,2,  -999.0,9, -999.0, -999.00,9,  -999.0,  -999.0, -999.00,9
31RBOACES24N_2,  AR01,    27,  1,     29,2,19980129,1558, 24.4993, -27.1500, 5534,    274.3,  16.4910,  36.3280,  36.3270,2,    202.1,2,     202.1,2,     1.90,2,     6.05,2,     0.00,2,  -999.00,5, -999.000,9, -999.000,9, -999.000,9, -999.000,9,   -999.0,9,  -999.00,9,   -999.0,9,   -999.0,9,-999.0000,9,  -999.0,9, -999.0, -999.00,9,  -999.0,  -999.0, -999.00,9
31RBOACES24N_2,  AR01,    27,  1,     28,2,19980129,1558, 24.4993, -27.1500, 5534,    300.2,  16.1570,  36.2720,  36.2720,2,    201.5,2,     200.5,2,     2.00,2,     6.83,2,     0.00,2,  -999.00,5, -999.000,9, -999.000,9, -999.000,9, -999.000,9,   -999.0,9,  -999.00,9,   2120.6,2,   2371.3,2,   7.9265,2,   450.2,2,   20.0, -999.00,9,   384.9,  -999.0, -999.00,9
31RBOACES24N_2,  AR01,    27,  1,     27,2,19980129,1558, 24.4993, -27.1500, 5534,    352.3,  15.2890,  36.1310,  36.1300,2,    195.8,2,     195.3,2,  -999.00,5,     8.69,2,     0.00,2,  -999.00,5, -999.000,9, -999.000,9, -999.000,9, -999.000,9,   -999.0,9,  -999.00,9,   -999.0,9,   -999.0,9,-999.0000,9,  -999.0,9, -999.0, -999.00,9,  -999.0,  -999.0, -999.00,9
31RBOACES24N_2,  AR01,    27,  1,     26,2,19980129,1558, 24.4993, -27.1500, 5534,    400.9,  14.2760,  35.9680,  35.9750,2,    195.0,2,     192.6,2,     3.50,2,    10.45,2,     0.00,2,  -999.00,5, -999.000,9, -999.000,9, -999.000,9, -999.000,9,   -999.0,9,  -999.00,9,   2134.9,2,   2355.3,2,   7.8720,2,  -999.0,9, -999.0, -999.00,9,  -999.0,  -999.0, -999.00,9
31RBOACES24N_2,  AR01,    27,  1,     25,2,19980129,1558, 24.4993, -27.1500, 5534,    450.1,  13.4610,  35.8460,  35.8460,2,    193.5,2,     190.5,2,     4.10,2,    12.11,2,     0.00,2,  -999.00,5, -999.000,9, -999.000,9, -999.000,9, -999.000,9,   -999.0,9,  -999.00,9,   -999.0,9,   -999.0,9,-999.0000,9,  -999.0,9, -999.0, -999.00,9,  -999.0,  -999.0, -999.00,9
31RBOACES24N_2,  AR01,    27,  1,     24,2,19980129,1558, 24.4993, -27.1500, 5534,    500.4,  12.6860,  35.7310,  35.7300,2,    192.8,2,     188.4,2,     5.10,2,    13.86,2,     0.00,2,  -999.00,5, -999.000,9, -999.000,9, -999.000,9, -999.000,9,   -999.0,9,  -999.00,9,   2148.7,2,   -999.0,9,   7.8243,2,   585.1,2,   20.0, -999.00,9,   432.9,  -999.0, -999.00,9
31RBOACES24N_2,  AR01,    27,  1,     23,2,19980129,1558, 24.4993, -27.1500, 5534,    550.4,  12.0370,  35.6450,  35.6460,2,    189.9,2,     184.6,2,     6.10,2,    15.23,2,     0.00,2,  -999.00,5, -999.000,9, -999.000,9, -999.000,9, -999.000,9,   -999.0,9,  -999.00,9,   -999.0,9,   -999.0,9,-999.0000,9,  -999.0,9, -999.0, -999.00,9,  -999.0,  -999.0, -999.00,9
31RBOACES24N_2,  AR01,    27,  1,     22,2,19980129,1558, 24.4993, -27.1500, 5534,    652.2,  10.8270,  35.5120,  35.5120,2,    177.6,2,     172.6,2,     8.30,2,    18.46,2,     0.00,2,  -999.00,5, -999.000,9, -999.000,9, -999.000,9, -999.000,9,   -999.0,9,  -999.00,9,   2168.8,2,   2330.6,2,   7.7597,2,   691.1,2,   20.0, -999.00,9,   473.1,  -999.0, -999.00,9
31RBOACES24N_2,  AR01,    27,  1,     21,2,19980129,1558, 24.4993, -27.1500, 5534,    751.6,   9.5170,  35.3930,  35.3930,2,    162.0,2,     156.9,2,  -999.00,5,    22.46,2,     0.00,2,  -999.00,5, -999.000,9, -999.000,9, -999.000,9, -999.000,9,   -999.0,9,  -999.00,9,   -999.0,9,   -999.0,9,-999.0000,9,  -999.0,9, -999.0, -999.00,9,  -999.0,  -999.0, -999.00,9
31RBOACES24N_2,  AR01,    27,  1,     20,2,19980129,1558, 24.4993, -27.1500, 5534,    852.8,   8.5260,  35.3100,  35.3100,2,    153.2,2,     153.4,2,    14.50,2,    24.03,2,     0.00,2,  -999.00,5, -999.000,9, -999.000,9, -999.000,9, -999.000,9,   -999.0,9,  -999.00,9,   -999.0,9,   -999.0,9,-999.0000,9,  -999.0,9, -999.0, -999.00,9,  -999.0,  -999.0, -999.00,9
31RBOACES24N_2,  AR01,    27,  1,     19,2,19980129,1558, 24.4993, -27.1500, 5534,    917.8,   7.9850,  35.2710,  35.2700,2,    156.8,2,     156.3,2,    15.80,2,    24.51,2,     0.00,2,  -999.00,5, -999.000,9, -999.000,9, -999.000,9, -999.000,9,   -999.0,9,  -999.00,9,   2198.1,6,   -999.0,9,   7.6804,2,   841.7,2,   20.0, -999.00,9,   510.4,  -999.0, -999.00,9
31RBOACES24N_2,  AR01,    27,  1,     18,2,19980129,1558, 24.4993, -27.1500, 5534,   1051.6,   7.2180,  35.2460,  35.2460,2,    169.0,2,     166.3,2,    16.90,2,    23.83,2,     0.00,2,  -999.00,5, -999.000,9, -999.000,9, -999.000,9, -999.000,9,   -999.0,9,  -999.00,9,   -999.0,9,   -999.0,9,-999.0000,9,  -999.0,9, -999.0, -999.00,9,  -999.0,  -999.0, -999.00,9
31RBOACES24N_2,  AR01,    27,  1,     17,2,19980129,1558, 24.4993, -27.1500, 5534,   1151.8,   6.8750,  35.2500,  35.2520,2,    181.2,2,     176.7,2,    17.00,2,    23.54,2,     0.00,2,  -999.00,5, -999.000,9, -999.000,9, -999.000,9, -999.000,9,   -999.0,9,  -999.00,9,   2196.1,2,   2334.1,2,   7.6921,2,   817.2,2,   20.0, -999.00,9,   470.6,  -999.0, -999.00,9
31RBOACES24N_2,  AR01,    27,  1,     16,2,19980129,1558, 24.4993, -27.1500, 5534,   1351.6,   5.9410,  35.2130,  35.2120,2,    200.9,2,     198.9,2,    17.90,2,    22.17,2,     0.00,2,  -999.00,5, -999.000,9, -999.000,9, -999.000,9, -999.000,9,   -999.0,9,  -999.00,9,   -999.0,9,   -999.0,9,-999.0000,9,  -999.0,9, -999.0, -999.00,9,  -999.0,  -999.0, -999.00,9
31RBOACES24N_2,  AR01,    27,  1,     15,2,19980129,1558, 24.4993, -27.1500, 5534,   1601.1,   5.0120,  35.1580,  35.1590,2,    219.3,2,     219.9,2,    19.50,2,  -999.00,5,     0.00,2,  -999.00,5, -999.000,9, -999.000,9, -999.000,9, -999.000,9,   -999.0,9,  -999.00,9,   2184.4,2,   2339.6,2,   7.7208,2,  -999.0,9, -999.0, -999.00,9,  -999.0,  -999.0, -999.00,9
31RBOACES24N_2,  AR01,    27,  1,     14,2,19980129,1558, 24.4993, -27.1500, 5534,   1848.3,   4.3180,  35.0960,  35.0950,2,    228.7,2,     231.5,2,    22.00,2,    20.71,2,     0.00,2,  -999.00,5, -999.000,9, -999.000,9, -999.000,9, -999.000,9,   -999.0,9,  -999.00,9,   -999.0,9,   -999.0,9,-999.0000,9,  -999.0,9, -999.0, -999.00,9,  -999.0,  -999.0, -999.00,9
31RBOACES24N_2,  AR01,    27,  1,     13,2,19980129,1558, 24.4993, -27.1500, 5534,   2101.9,   3.7330,  35.0380,  35.0380,2,    238.3,2,     242.0,2,    24.40,2,    20.22,2,     0.00,2,  -999.00,5, -999.000,9, -999.000,9, -999.000,9, -999.000,9,   -999.0,9,  -999.00,9,   2180.0,2,   2331.5,2,   7.7312,2,   738.6,2,   20.0, -999.00,9,   365.2,  -999.0, -999.00,9
31RBOACES24N_2,  AR01,    27,  1,     12,2,19980129,1558, 24.4993, -27.1500, 5534,   2353.3,   3.3380,  34.9990,  34.9990,2,    245.8,2,     247.3,2,    27.60,2,    20.12,2,     0.00,2,  -999.00,5, -999.000,9, -999.000,9, -999.000,9, -999.000,9,   -999.0,9,  -999.00,9,   -999.0,9,   -999.0,9,-999.0000,9,  -999.0,9, -999.0, -999.00,9,  -999.0,  -999.0, -999.00,9
31RBOACES24N_2,  AR01,    27,  1,     11,2,19980129,1558, 24.4993, -27.1500, 5534,   2599.8,   3.0500,  34.9700,  34.9710,2,    249.6,2,     249.7,2,    31.00,2,    20.42,2,     0.00,2,  -999.00,5, -999.000,9, -999.000,9, -999.000,9, -999.000,9,   -999.0,9,  -999.00,9,   2184.0,2,   -999.0,5,   7.7327,2,  -999.0,9, -999.0, -999.00,9,  -999.0,  -999.0, -999.00,9
31RBOACES24N_2,  AR01,    27,  1,     10,2,19980129,1558, 24.4993, -27.1500, 5534,   2799.5,   2.8530,  34.9520,  34.9510,2,    250.3,2,     250.5,2,    34.00,2,    20.52,2,     0.00,2,  -999.00,5, -999.000,9, -999.000,9, -999.000,9, -999.000,9,   -999.0,9,  -999.00,9,   -999.0,9,   -999.0,9,-999.0000,9,  -999.0,9, -999.0, -999.00,9,  -999.0,  -999.0, -999.00,9
31RBOACES24N_2,  AR01,    27,  1,      9,2,19980129,1558, 24.4993, -27.1500, 5534,   3098.4,   2.6570,  34.9320,  34.9310,2,    249.1,2,     250.2,2,    38.00,2,    21.20,2,     0.00,2,  -999.00,5, -999.000,9, -999.000,9, -999.000,9, -999.000,9,   -999.0,9,  -999.00,9,   2191.7,2,   -999.0,9,   7.7309,2,   744.2,2,   20.0, -999.00,9,   348.2,  -999.0, -999.00,9
31RBOACES24N_2,  AR01,    27,  1,      8,2,19980129,1558, 24.4993, -27.1500, 5534,   3399.4,   2.5410,  34.9180,  34.9180,2,    248.4,2,     248.9,2,    40.40,2,    21.39,2,     0.00,2,  -999.00,5, -999.000,9, -999.000,9, -999.000,9, -999.000,9,   -999.0,9,  -999.00,9,   -999.0,9,   -999.0,9,-999.0000,9,  -999.0,9, -999.0, -999.00,9,  -999.0,  -999.0, -999.00,9
31RBOACES24N_2,  AR01,    27,  1,      7,2,19980129,1558, 24.4993, -27.1500, 5534,   3699.3,   2.4640,  34.9090,  34.9080,2,    247.5,2,     249.0,2,    42.60,2,    21.59,2,     0.00,2,  -999.00,5, -999.000,9, -999.000,9, -999.000,9, -999.000,9,   -999.0,9,  -999.00,9,   -999.0,9,   -999.0,9,-999.0000,9,  -999.0,9, -999.0, -999.00,9,  -999.0,  -999.0, -999.00,9
31RBOACES24N_2,  AR01,    27,  1,      6,2,19980129,1558, 24.4993, -27.1500, 5534,   4001.2,   2.4130,  34.9010,  34.9000,2,    247.2,2,     248.7,2,  -999.00,9,  -999.00,9,  -999.00,9,  -999.00,9, -999.000,9, -999.000,9, -999.000,9, -999.000,9,   -999.0,9,  -999.00,9,   2198.1,2,   -999.0,5,   7.7283,2,   750.5,2,   20.0, -999.00,9,   346.5,  -999.0, -999.00,9
31RBOACES24N_2,  AR01,    27,  1,      5,2,19980129,1558, 24.4993, -27.1500, 5534,   4302.0,   2.3870,  34.8940,  34.8930,2,    246.7,2,     249.5,2,    45.90,2,    21.98,2,     0.00,2,  -999.00,5, -999.000,9, -999.000,9, -999.000,9, -999.000,9,   -999.0,9,  -999.00,9,   -999.0,9,   -999.0,9,-999.0000,9,  -999.0,9, -999.0, -999.00,9,  -999.0,  -999.0, -999.00,9
31RBOACES24N_2,  AR01,    27,  1,      4,2,19980129,1558, 24.4993, -27.1500, 5534,   4601.9,   2.3820,  34.8900,  34.8890,2,    249.1,2,     249.6,2,    47.10,2,    21.98,2,     0.00,2,  -999.00,5, -999.000,9, -999.000,9, -999.000,9, -999.000,9,   -999.0,9,  -999.00,9,   -999.0,9,   -999.0,9,-999.0000,9,  -999.0,9, -999.0, -999.00,9,  -999.0,  -999.0, -999.00,9
31RBOACES24N_2,  AR01,    27,  1,      3,2,19980129,1558, 24.4993, -27.1500, 5534,   4898.7,   2.3980,  34.8870,  34.8870,2,    248.6,2,     250.1,2,    47.80,2,    22.18,2,     0.00,2,  -999.00,5, -999.000,9, -999.000,9, -999.000,9, -999.000,9,   -999.0,9,  -999.00,9,   2201.9,2,   2358.3,2,   7.7270,2,   754.2,2,   20.0, -999.00,9,   347.8,  -999.0, -999.00,9
31RBOACES24N_2,  AR01,    27,  1,      2,2,19980129,1558, 24.4993, -27.1500, 5534,   5202.2,   2.4280,  34.8860,  34.8860,2,    249.8,2,     249.4,2,    48.10,2,    22.08,2,     0.00,2,  -999.00,5, -999.000,9, -999.000,9, -999.000,9, -999.000,9,   -999.0,9,  -999.00,9,   -999.0,9,   -999.0,9,-999.0000,9,  -999.0,9, -999.0, -999.00,9,  -999.0,  -999.0, -999.00,9
31RBOACES24N_2,  AR01,    27,  1,      1,2,19980129,1558, 24.4993, -27.1500, 5534,   5628.0,   2.4820,  34.8850,  34.9250,2,    250.7,2,     249.0,2,    39.60,3,    21.30,3,     0.00,2,  -999.00,5, -999.000,9, -999.000,9, -999.000,9, -999.000,9,   -999.0,9,  -999.00,9,   2194.1,2,   -999.0,9,   7.7281,2,   754.5,2,   20.0, -999.00,9,   350.3,  -999.0, -999.00,9