BOTTLE,20220820CCHSIOAMB
EXPOCODE,SECT_ID,STNNBR,CASTNO,BTLNBR,BTLNBR_FLAG_W,DATE,TIME,LATITUDE,LONGITUDE,DEPTH,CTDPRS,CTDTMP,CTDSAL,SALNTY,SALNTY_FLAG_W,CTDOXY,CTDOXY_FLAG_W,OXYGEN,OXYGEN_FLAG_W,SILCAT,SILCAT_FLAG_W,NITRAT,NITRAT_FLAG_W,NITRIT,NITRIT_FLAG_W,PHSPHT,PHSPHT_FLAG_W,CFC-11,CFC-11_FLAG_W,CFC-12,CFC-12_FLAG_W,CFC113,CFC113_FLAG_W,CCL4,CCL4_FLAG_W,DELC14,DELC14_FLAG_W,DELC13,DELC13_FLAG_W,TCARBN,TCARBN_FLAG_W,ALKALI,ALKALI_FLAG_W,PH,PH_FLAG_W,FCO2,FCO2_FLAG_W,FCO2TMP,TON,TON_FLAG_W,FCO2IN,C14ERR,TOC,TOC_FLAG_W
,,,,,,,,,,,DBAR,ITS-90,PSS-78,PSS-78,,UMOL/KG,,UMOL/KG,,UMOL/KG,,UMOL/KG,,UMOL/KG,,UMOL/KG,,PMOL/KG,,PMOL/KG,,PMOL/KG,,PMOL/KG,,/MILLE,,/MILLE,,UMOL/KG,,UMOL/KG,,,,UATM,,DEG C,UMOL/KG,,UATM,/MILLE,UMOL/KG,
31RBOACES24N_2,  AR01,     7,  1,     31,2,19980124,1759, 27.4332, -14.8500, 2589,      3.1,  19.5120,  36.7580,  36.7590,2,    235.3,2,     234.7,2,     0.70,2,     0.00,2,     0.00,2,     0.00,2,    2.353,2,    1.313,2,    0.186,2, -999.000,9,     93.9,2,  -999.00,9,   2096.4,6,   2405.5,2,   8.0162,2,   357.1,2,   20.0, -999.00,9,   350.2,     3.3, -999.00,9
31RBOACES24N_2,  AR01,     7,  1,     30,2,19980124,1759, 27.4332, -14.8500, 2589,     20.2,  19.4860,  36.7510,  36.7510,2,    233.8,2,     232.9,2,     0.40,2,     0.10,2,     0.00,2,     0.01,2,    2.330,2,    1.314,2,    0.172,2, -999.000,9,     84.1,2,  -999.00,9,   2095.5,2,   2404.5,2,   8.0150,2,   357.8,2,   20.0, -999.00,9,   350.5,     2.9, -999.00,9
31RBOACES24N_2,  AR01,     7,  1,     29,2,19980124,1759, 27.4332, -14.8500, 2589,     41.2,  19.4470,  36.7430,  36.7420,2,    233.4,2,     233.8,2,     0.40,2,     0.10,2,     0.01,2,     0.02,2, -999.000,9, -999.000,9, -999.000,9, -999.000,9,   -999.0,9,  -999.00,9,   2096.0,2,   2408.1,2,   8.0120,2,   359.7,2,   20.0, -999.00,9,   351.8,  -999.0, -999.00,9
31RBOACES24N_2,  AR01,     7,  1,     28,2,19980124,1759, 27.4332, -14.8500, 2589,     56.1,  19.3880,  36.7360,  36.7350,2,    232.8,2,     233.6,2,     0.40,2,     0.20,2,     0.02,2,     0.03,2,    2.348,6,    1.324,6,    0.178,6, -999.000,9,     83.7,2,  -999.00,9,   2097.4,2,   2404.0,2,   8.0133,2,   362.4,2,   20.0, -999.00,9,   353.6,     3.0, -999.00,9
31RBOACES24N_2,  AR01,     7,  1,     27,2,19980124,1759, 27.4332, -14.8500, 2589,     76.9,  19.3420,  36.7250,  36.7170,2,    231.3,2,     232.0,2,     0.50,2,     0.20,2,     0.07,2,     0.04,2, -999.000,9, -999.000,9, -999.000,9, -999.000,9,     89.9,2,  -999.00,9,   2104.6,2,   2405.9,2,   8.0076,2,   366.9,2,   20.0, -999.00,9,   357.4,     3.9, -999.00,9
31RBOACES24N_2,  AR01,     7,  1,     26,2,19980124,1759, 27.4332, -14.8500, 2589,    100.1,  18.7060,  36.6120,  36.6130,2,    227.2,2,     229.5,2,     0.70,2,     0.78,2,     0.30,2,     0.12,2,    2.411,2,    1.352,2,    0.190,2, -999.000,9,     89.0,2,  -999.00,9,   2122.5,2,   -999.0,9,   7.9862,2,   390.0,2,   20.0, -999.00,9,   370.2,     3.3, -999.00,9
31RBOACES24N_2,  AR01,     7,  1,     25,2,19980124,1759, 27.4332, -14.8500, 2589,    125.2,  17.9630,  36.5280,  36.5290,2,    197.4,2,     202.3,2,     1.70,6,     4.39,6,     0.04,6,     0.27,6, -999.000,9, -999.000,9, -999.000,9, -999.000,9,   -999.0,9,  -999.00,9,   2125.3,2,   2389.3,2,   7.9450,2,   436.2,2,   20.0, -999.00,9,   402.0,  -999.0, -999.00,9
31RBOACES24N_2,  AR01,     7,  1,     24,2,19980124,1759, 27.4332, -14.8500, 2589,    151.4,  17.0000,  36.4240,  36.4020,2,    192.4,2,     194.8,2,     2.00,2,     6.34,2,     0.01,2,     0.35,2,    2.459,2,    1.347,2,    0.080,2, -999.000,9,     86.3,2,  -999.00,9,   2130.7,2,   2381.6,2,   7.9236,2,   462.3,2,   20.0, -999.00,9,   409.5,     2.8, -999.00,9
31RBOACES24N_2,  AR01,     7,  1,     23,2,19980124,1759, 27.4332, -14.8500, 2589,    166.6,  16.5030,  36.3440,  36.3390,2,    190.3,2,     192.5,2,     2.00,2,     7.12,2,     0.01,2,     0.40,2, -999.000,9, -999.000,9, -999.000,9, -999.000,9,     91.9,2,  -999.00,9,   2135.6,2,   2377.4,2,-999.0000,9,   464.1,2,   20.0, -999.00,9,   402.8,     3.0, -999.00,9
31RBOACES24N_2,  AR01,     7,  1,     22,2,19980124,1759, 27.4332, -14.8500, 2589,    198.4,  15.9210,  36.2510,  36.2500,2,    186.8,2,     188.3,2,     2.40,2,     8.39,2,     0.00,2,     0.48,2,    2.406,2,    1.295,2,    0.048,2, -999.000,9,     89.5,2,  -999.00,9,   2142.2,2,   2374.6,3,   7.8960,2,   485.3,2,   20.0, -999.00,9,   411.5,     3.3, -999.00,9
31RBOACES24N_2,  AR01,     7,  1,     21,2,19980124,1759, 27.4332, -14.8500, 2589,    250.2,  15.0590,  36.1150,  36.1160,2,    183.5,2,     183.8,2,     3.10,2,    10.15,2,     0.00,2,     0.59,2, -999.000,9, -999.000,9, -999.000,9, -999.000,9,     79.2,2,  -999.00,9,   -999.0,9,   -999.0,9,   7.8699,2,   520.4,2,   20.0, -999.00,9,   425.5,     3.3, -999.00,9
31RBOACES24N_2,  AR01,     7,  1,     20,2,19980124,1759, 27.4332, -14.8500, 2589,    297.8,  14.1090,  35.9710,  35.9640,2,    182.5,2,     183.3,2,     4.00,2,    11.91,2,     0.00,2,     0.70,2,    2.325,2,    1.241,2,    0.038,2, -999.000,9,     71.5,2,  -999.00,9,   2147.4,2,   -999.0,9,   7.8444,2,   551.8,2,   20.0, -999.00,9,   433.7,     3.2, -999.00,9
31RBOACES24N_2,  AR01,     7,  1,     19,2,19980124,1759, 27.4332, -14.8500, 2589,    350.0,  13.3750,  35.8600,  35.8650,2,    179.9,2,     179.7,2,     4.80,2,    13.47,2,     0.00,2,     0.79,2, -999.000,9, -999.000,9, -999.000,9, -999.000,9,     59.7,2,  -999.00,9,   2153.1,2,   -999.0,9,   7.8246,2,   558.1,2,   20.0, -999.00,9,   425.3,     3.0, -999.00,9
31RBOACES24N_2,  AR01,     7,  1,     18,2,19980124,1759, 27.4332, -14.8500, 2589,    399.9,  12.7420,  35.7660,  35.7650,2,    175.4,2,     173.3,2,     5.90,2,    15.32,2,     0.00,2,     0.91,2,    2.083,2,    1.084,2,    0.031,2, -999.000,9,     41.8,2,  -999.00,9,   2159.0,2,   2346.8,2,   7.7986,2,   626.6,2,   20.0, -999.00,9,   465.4,     2.8, -999.00,9
31RBOACES24N_2,  AR01,     7,  1,     17,2,19980124,1759, 27.4332, -14.8500, 2589,    473.7,  11.9250,  35.6500,  35.6600,2,    166.5,2,     164.4,2,     7.40,2,    17.57,2,     0.00,2,     1.05,2, -999.000,9, -999.000,9, -999.000,9, -999.000,9,     29.5,2,  -999.00,9,   2166.6,2,   -999.0,9,   7.7662,2,   685.0,2,   20.0, -999.00,9,   492.0,     2.9, -999.00,9
31RBOACES24N_2,  AR01,     7,  1,     16,2,19980124,1759, 27.4332, -14.8500, 2589,    550.3,  11.1990,  35.5530,  35.5540,2,    156.0,2,     153.9,2,     9.30,2,    20.11,2,     0.00,2,     1.22,2,    1.435,2,    0.739,2,    0.022,2, -999.000,9,     16.2,6,  -999.00,9,   2178.1,2,   -999.0,9,   7.7329,2,   731.5,2,   20.0, -999.00,9,   509.7,     2.3, -999.00,9
31RBOACES24N_2,  AR01,     7,  1,     15,2,19980124,1759, 27.4332, -14.8500, 2589,    620.2,  10.4480,  35.4600,  35.4590,2,    146.6,2,     143.9,2,    11.20,2,    22.55,2,     0.00,2,     1.39,2, -999.000,9, -999.000,9, -999.000,9, -999.000,9,     -2.2,2,  -999.00,9,   2187.4,2,   2334.5,2,   7.7022,2,   796.5,2,   20.0, -999.00,9,   538.2,     3.3, -999.00,9
31RBOACES24N_2,  AR01,     7,  1,     14,2,19980124,1759, 27.4332, -14.8500, 2589,    698.3,   9.7820,  35.3920,  35.3940,2,    142.9,2,     140.5,2,    12.60,2,    23.82,2,     0.00,2,     1.49,2,    0.814,6,    0.414,6,    0.018,6, -999.000,9,    -23.9,2,  -999.00,9,   2193.1,2,   -999.0,9,   7.6838,2,   837.2,2,   20.0, -999.00,9,   550.3,     3.4, -999.00,9
31RBOACES24N_2,  AR01,     7,  1,     13,2,19980124,1759, 27.4332, -14.8500, 2589,    773.3,   8.8800,  35.2890,  35.2920,2,    130.4,2,     131.6,2,    15.20,2,    26.26,2,     0.00,2,     1.67,2, -999.000,9, -999.000,9, -999.000,9, -999.000,9,    -49.9,2,  -999.00,9,   2204.8,2,   -999.0,9,   7.6510,2,   920.3,2,   20.0, -999.00,9,   582.9,     2.5, -999.00,9
31RBOACES24N_2,  AR01,     7,  1,     12,2,19980124,1759, 27.4332, -14.8500, 2589,    849.1,   8.4090,  35.2970,  35.3070,2,    143.1,2,     143.1,2,    15.80,2,    25.29,2,     0.00,2,     1.63,2,    0.394,2,    0.193,2,    0.001,2, -999.000,9,    -55.5,2,  -999.00,9,   2203.9,2,   2332.9,2,   7.6644,2,   881.1,6,   20.0, -999.00,9,   545.5,     2.8, -999.00,9
31RBOACES24N_2,  AR01,     7,  1,     11,2,19980124,1759, 27.4332, -14.8500, 2589,    949.5,   7.9890,  35.2930,  35.2910,2,    149.6,2,     150.5,2,    17.30,2,    25.29,2,     0.00,2,     1.63,2, -999.000,9, -999.000,9, -999.000,9, -999.000,9,    -66.5,2,  -999.00,9,   2205.5,2,   -999.0,9,   7.6670,2,   880.6,3,   20.0, -999.00,9,   535.0,     3.0, -999.00,9
31RBOACES24N_2,  AR01,     7,  1,     10,2,19980124,1759, 27.4332, -14.8500, 2589,   1049.2,   7.5000,  35.3040,  35.3050,2,    161.9,2,     162.8,2,    18.00,2,    24.51,2,     0.00,2,     1.59,2,    0.220,2,    0.121,2,    0.001,2, -999.000,9,    -70.4,2,  -999.00,9,   2202.8,6,   -999.0,9,   7.6806,2,   850.1,2,   20.0, -999.00,9,   504.5,     2.5, -999.00,9
31RBOACES24N_2,  AR01,     7,  1,      9,2,19980124,1759, 27.4332, -14.8500, 2589,   1150.3,   7.2370,  35.3160,  35.3200,2,    172.3,2,     171.8,2,    18.40,2,    23.73,2,     0.00,2,     1.54,2, -999.000,9, -999.000,9, -999.000,9, -999.000,9,    -73.3,2,  -999.00,9,   2203.6,2,   2341.2,2,   7.6896,2,   836.6,2,   20.0, -999.00,9,   490.1,     2.5, -999.00,9
31RBOACES24N_2,  AR01,     7,  1,      8,2,19980124,1759, 27.4332, -14.8500, 2589,   1248.2,   6.9080,  35.3300,  35.3290,2,    183.9,2,     183.1,2,    18.60,2,    22.85,2,     0.00,2,     1.49,2,    0.196,2,    0.095,2,    0.001,2, -999.000,9,    -75.3,2,  -999.00,9,   2200.9,2,   2350.0,2,   7.7027,2,   799.8,2,   20.0, -999.00,9,   460.8,     3.0, -999.00,9
31RBOACES24N_2,  AR01,     7,  1,      7,2,19980124,1759, 27.4332, -14.8500, 2589,   1399.4,   6.5100,  35.3330,  35.3340,2,    197.7,2,     196.1,2,    18.60,2,    21.68,2,     0.00,2,     1.41,2, -999.000,9, -999.000,9, -999.000,9, -999.000,9,    -77.4,2,  -999.00,9,   2197.7,2,   -999.0,9,   7.7158,2,   770.7,2,   20.0, -999.00,9,   435.5,     2.8, -999.00,9
31RBOACES24N_2,  AR01,     7,  1,      6,2,19980124,1759, 27.4332, -14.8500, 2589,   1549.5,   5.8400,  35.2770,  35.2800,2,    208.8,2,     207.3,2,    19.60,2,    21.09,2,     0.00,2,     1.40,2,    0.138,2,    0.087,2,    0.008,2, -999.000,9,    -81.7,2,  -999.00,9,   2193.6,2,   2347.5,2,   7.7214,2,   761.4,2,   20.0, -999.00,9,   416.8,     3.2, -999.00,9
31RBOACES24N_2,  AR01,     7,  1,      5,2,19980124,1759, 27.4332, -14.8500, 2589,   1699.0,   5.2430,  35.2110,  35.2090,2,    217.1,2,     216.2,2,    21.80,2,    21.09,2,     0.00,2,     1.41,2, -999.000,9, -999.000,9, -999.000,9, -999.000,9,    -96.1,2,  -999.00,9,   2192.6,2,   2348.9,2,   7.7200,2,   761.3,3,   20.0, -999.00,9,   405.2,     2.6, -999.00,9
31RBOACES24N_2,  AR01,     7,  1,      4,2,19980124,1759, 27.4332, -14.8500, 2589,   1899.3,   4.4580,  35.1250,  35.1250,2,    225.8,2,     225.4,2,    24.80,2,    20.99,2,     0.00,2,     1.42,2,    0.050,2,    0.026,2,    0.000,2, -999.000,9,   -101.8,2,  -999.00,9,   2192.0,2,   2344.2,2,   7.7213,2,   760.8,2,   20.0, -999.00,9,   389.9,     3.2, -999.00,9
31RBOACES24N_2,  AR01,     7,  1,      3,2,19980124,1759, 27.4332, -14.8500, 2589,   2100.2,   3.9560,  35.0660,  35.0640,2,    229.6,2,     229.3,2,  -999.00,9,  -999.00,9,  -999.00,9,  -999.00,9, -999.000,9, -999.000,9, -999.000,9, -999.000,9,   -114.8,2,  -999.00,9,   2194.1,2,   2337.5,2,   7.7190,2,   767.9,2,   20.0, -999.00,9,   381.9,     3.9, -999.00,9
31RBOACES24N_2,  AR01,     7,  1,      2,2,19980124,1759, 27.4332, -14.8500, 2589,   2298.4,   3.5070,  35.0120,  35.0120,2,    230.2,2,     229.8,2,    32.10,2,    21.78,2,     0.00,2,     1.49,2,    0.027,2,    0.002,2,    0.000,2, -999.000,9,   -108.0,2,  -999.00,9,   2198.3,2,   -999.0,9,   7.7128,2,   774.6,2,   20.0, -999.00,9,   379.1,     3.2, -999.00,9
31RBOACES24N_2,  AR01,     7,  1,      1,2,19980124,1759, 27.4332, -14.8500, 2589,   2608.0,   3.0800,  34.9670,  34.9680,2,    231.8,2,     231.8,2,  -999.00,9,  -999.00,9,  -999.00,9,  -999.00,9,    0.010,2,    0.007,2,    0.002,2, -999.000,9,   -121.7,2,  -999.00,9,   2204.2,2,   -999.0,9,   7.7126,2,   788.1,2,   20.0, -999.00,9,   375.6,     3.1, -999.00,9