BOTTLE,20220820CCHSIOAMB
EXPOCODE,SECT_ID,STNNBR,CASTNO,BTLNBR,BTLNBR_FLAG_W,DATE,TIME,LATITUDE,LONGITUDE,DEPTH,CTDPRS,CTDTMP,CTDSAL,SALNTY,SALNTY_FLAG_W,CTDOXY,CTDOXY_FLAG_W,OXYGEN,OXYGEN_FLAG_W,SILCAT,SILCAT_FLAG_W,NITRAT,NITRAT_FLAG_W,NITRIT,NITRIT_FLAG_W,PHSPHT,PHSPHT_FLAG_W,CFC-11,CFC-11_FLAG_W,CFC-12,CFC-12_FLAG_W,CFC113,CFC113_FLAG_W,CCL4,CCL4_FLAG_W,DELC14,DELC14_FLAG_W,DELC13,DELC13_FLAG_W,TCARBN,TCARBN_FLAG_W,ALKALI,ALKALI_FLAG_W,PH,PH_FLAG_W,FCO2,FCO2_FLAG_W,FCO2TMP,TON,TON_FLAG_W,FCO2IN,C14ERR,TOC,TOC_FLAG_W
,,,,,,,,,,,DBAR,ITS-90,PSS-78,PSS-78,,UMOL/KG,,UMOL/KG,,UMOL/KG,,UMOL/KG,,UMOL/KG,,UMOL/KG,,PMOL/KG,,PMOL/KG,,PMOL/KG,,PMOL/KG,,/MILLE,,/MILLE,,UMOL/KG,,UMOL/KG,,,,UATM,,DEG C,UMOL/KG,,UATM,/MILLE,UMOL/KG,
31RBOACES24N_2,  AR01,    53,  1,     36,2,19980205,2101, 24.4995, -45.4840, 3109,      6.2,  24.1800,  37.4520,  37.4520,2,    211.2,2,     211.7,2,     0.70,2,     0.00,2,     0.00,2,     0.00,2, -999.000,9, -999.000,9, -999.000,9, -999.000,9,   -999.0,9,  -999.00,9,   2071.9,2,   2444.0,2,   8.1034,2,   267.9,3,   20.0, -999.00,9,   316.1,  -999.0, -999.00,9
31RBOACES24N_2,  AR01,    53,  1,     35,3,19980205,2101, 24.4995, -45.4840, 3109,     51.7,  24.1880,  37.4540,  37.4540,2,    211.1,2,     211.6,2,     0.70,2,     0.00,2,     0.00,2,     0.00,2, -999.000,9, -999.000,9, -999.000,9, -999.000,9,   -999.0,9,  -999.00,9,   2071.3,6,   2444.0,2,   8.1024,2,   258.9,3,   20.0, -999.00,9,   305.5,  -999.0, -999.00,9
31RBOACES24N_2,  AR01,    53,  1,     34,2,19980205,2101, 24.4995, -45.4840, 3109,    102.1,  24.0720,  37.4330,  37.4190,2,    211.9,2,     212.5,2,     0.70,2,     0.00,2,     0.00,2,     0.01,2, -999.000,9, -999.000,9, -999.000,9, -999.000,9,   -999.0,9,  -999.00,9,   -999.0,9,   -999.0,9,-999.0000,9,  -999.0,9, -999.0, -999.00,9,  -999.0,  -999.0, -999.00,9
31RBOACES24N_2,  AR01,    53,  1,     33,2,19980205,2101, 24.4995, -45.4840, 3109,    149.6,  20.1720,  36.9290,  36.9280,2,    201.0,2,     201.9,2,     0.90,2,     1.07,2,     0.02,2,     0.04,2, -999.000,9, -999.000,9, -999.000,9, -999.000,9,   -999.0,9,  -999.00,9,   -999.0,9,   -999.0,9,-999.0000,9,  -999.0,9, -999.0, -999.00,9,  -999.0,  -999.0, -999.00,9
31RBOACES24N_2,  AR01,    53,  1,     32,2,19980205,2101, 24.4995, -45.4840, 3109,    201.0,  18.5570,  36.6460,  36.6530,2,    196.5,2,     199.5,2,     1.30,2,     3.22,2,     0.01,2,     0.12,2, -999.000,9, -999.000,9, -999.000,9, -999.000,9,   -999.0,9,  -999.00,9,   2101.7,2,   2392.4,2,   7.9906,2,   365.7,3,   20.0, -999.00,9,   344.8,  -999.0, -999.00,9
31RBOACES24N_2,  AR01,    53,  1,     31,2,19980205,2101, 24.4995, -45.4840, 3109,    225.9,  18.1390,  36.5690,  36.5680,2,    198.1,2,     200.1,2,     1.50,2,     4.10,2,     0.00,2,     0.17,2, -999.000,9, -999.000,9, -999.000,9, -999.000,9,   -999.0,9,  -999.00,9,   -999.0,9,   -999.0,9,-999.0000,9,  -999.0,9, -999.0, -999.00,9,  -999.0,  -999.0, -999.00,9
31RBOACES24N_2,  AR01,    53,  1,     30,2,19980205,2101, 24.4995, -45.4840, 3109,    250.5,  17.7160,  36.4950,  36.4960,2,    198.0,2,     197.9,2,     1.80,2,     4.98,2,     0.00,2,     0.24,2, -999.000,9, -999.000,9, -999.000,9, -999.000,9,   -999.0,9,  -999.00,9,   2106.1,2,   2380.2,2,   7.9675,2,   391.3,3,   20.0, -999.00,9,   356.7,  -999.0, -999.00,9
31RBOACES24N_2,  AR01,    53,  1,     29,2,19980205,2101, 24.4995, -45.4840, 3109,    276.1,  17.4080,  36.4440,  36.4340,2,    197.7,2,     196.7,2,     2.00,2,     5.76,2,     0.00,2,     0.28,2, -999.000,9, -999.000,9, -999.000,9, -999.000,9,   -999.0,9,  -999.00,9,   -999.0,9,   -999.0,9,-999.0000,9,  -999.0,9, -999.0, -999.00,9,  -999.0,  -999.0, -999.00,9
31RBOACES24N_2,  AR01,    53,  1,     28,2,19980205,2101, 24.4995, -45.4840, 3109,    300.6,  16.9420,  36.3660,  36.3590,2,    195.5,2,     196.4,2,     2.20,2,     6.44,2,     0.00,2,     0.33,2, -999.000,9, -999.000,9, -999.000,9, -999.000,9,   -999.0,9,  -999.00,9,   -999.0,9,   2374.1,2,   7.9435,2,   444.2,3,   20.0, -999.00,9,   392.5,  -999.0, -999.00,9
31RBOACES24N_2,  AR01,    53,  1,     27,2,19980205,2101, 24.4995, -45.4840, 3109,    351.7,  16.1470,  36.2350,  36.2380,2,    194.9,2,     193.9,2,     2.70,2,     7.90,2,     0.00,2,     0.42,2, -999.000,9, -999.000,9, -999.000,9, -999.000,9,   -999.0,9,  -999.00,9,   -999.0,9,   -999.0,9,-999.0000,9,  -999.0,9, -999.0, -999.00,9,  -999.0,  -999.0, -999.00,9
31RBOACES24N_2,  AR01,    53,  1,     26,2,19980205,2101, 24.4995, -45.4840, 3109,    401.2,  15.4130,  36.1120,  36.1100,2,    190.2,2,     186.8,2,     3.50,2,     9.76,2,     0.00,2,     0.54,2, -999.000,9, -999.000,9, -999.000,9, -999.000,9,   -999.0,9,  -999.00,9,   2129.0,2,   2357.3,2,   7.8955,2,   462.1,3,   20.0, -999.00,9,   383.3,  -999.0, -999.00,9
31RBOACES24N_2,  AR01,    53,  1,     25,2,19980205,2101, 24.4995, -45.4840, 3109,    451.1,  14.5790,  35.9780,  35.9750,2,    179.1,2,     176.8,2,     4.40,2,    12.10,2,     0.00,2,     0.68,2, -999.000,9, -999.000,9, -999.000,9, -999.000,9,   -999.0,9,  -999.00,9,   -999.0,9,   -999.0,9,-999.0000,9,  -999.0,9, -999.0, -999.00,9,  -999.0,  -999.0, -999.00,9
31RBOACES24N_2,  AR01,    53,  1,     24,2,19980205,2101, 24.4995, -45.4840, 3109,    501.3,  13.5230,  35.8190,  35.8190,2,    175.9,2,     174.2,2,     5.50,2,    14.06,2,     0.00,2,     0.80,2, -999.000,9, -999.000,9, -999.000,9, -999.000,9,   -999.0,9,  -999.00,9,   -999.0,9,   -999.0,9,-999.0000,9,  -999.0,9, -999.0, -999.00,9,  -999.0,  -999.0, -999.00,9
31RBOACES24N_2,  AR01,    53,  1,     23,2,19980205,2101, 24.4995, -45.4840, 3109,    552.0,  12.7170,  35.7070,  35.7070,2,    174.5,2,     172.7,2,     6.40,2,    15.52,2,     0.00,2,     0.90,2, -999.000,9, -999.000,9, -999.000,9, -999.000,9,   -999.0,9,  -999.00,9,   -999.0,9,   -999.0,9,-999.0000,9,  -999.0,9, -999.0, -999.00,9,  -999.0,  -999.0, -999.00,9
31RBOACES24N_2,  AR01,    53,  1,     22,2,19980205,2101, 24.4995, -45.4840, 3109,    600.9,  12.0560,  35.6210,  35.6210,2,    172.7,2,     170.2,2,     7.30,2,    16.89,2,     0.00,2,     0.99,2, -999.000,9, -999.000,9, -999.000,9, -999.000,9,   -999.0,9,  -999.00,9,   2158.6,2,   2336.8,2,   7.7917,2,   600.2,3,   20.0, -999.00,9,   432.5,  -999.0, -999.00,9
31RBOACES24N_2,  AR01,    53,  1,     21,2,19980205,2101, 24.4995, -45.4840, 3109,    680.3,  10.9100,  35.4820,  35.4820,2,    165.5,2,     163.9,2,     9.40,2,    19.43,2,     0.00,2,     1.17,2, -999.000,9, -999.000,9, -999.000,9, -999.000,9,   -999.0,9,  -999.00,9,   -999.0,9,   -999.0,9,-999.0000,9,  -999.0,9, -999.0, -999.00,9,  -999.0,  -999.0, -999.00,9
31RBOACES24N_2,  AR01,    53,  1,     20,2,19980205,2101, 24.4995, -45.4840, 3109,    799.0,   9.0340,  35.2660,  35.2670,2,    153.0,2,     152.6,2,    13.90,2,    23.63,2,     0.00,2,     1.48,2, -999.000,9, -999.000,9, -999.000,9, -999.000,9,   -999.0,9,  -999.00,9,   2187.4,2,   -999.0,9,   7.6966,2,   768.2,3,   20.0, -999.00,9,   486.9,  -999.0, -999.00,9
31RBOACES24N_2,  AR01,    53,  1,     19,2,19980205,2101, 24.4995, -45.4840, 3109,    900.5,   7.5750,  35.0940,  35.0940,2,    151.5,2,     151.4,2,    17.60,2,    26.37,2,     0.00,2,     1.69,2, -999.000,9, -999.000,9, -999.000,9, -999.000,9,   -999.0,9,  -999.00,9,   2197.6,2,   -999.0,9,   7.6590,2,   851.9,3,   20.0, -999.00,9,   507.3,  -999.0, -999.00,9
31RBOACES24N_2,  AR01,    53,  1,     18,2,19980205,2101, 24.4995, -45.4840, 3109,   1000.8,   6.6770,  35.0310,  35.0330,2,    163.2,2,     163.2,6,    18.80,2,    26.27,2,     0.00,2,     1.70,2, -999.000,9, -999.000,9, -999.000,9, -999.000,9,   -999.0,9,  -999.00,9,   2197.6,6,   2324.9,2,   7.6550,2,   855.7,3,   20.0, -999.00,9,   489.5,  -999.0, -999.00,9
31RBOACES24N_2,  AR01,    53,  1,     17,2,19980205,2101, 24.4995, -45.4840, 3109,   1101.3,   5.8720,  34.9990,  34.9990,2,    181.5,2,     181.3,2,    19.00,2,    25.00,2,     0.00,2,     1.65,2, -999.000,9, -999.000,9, -999.000,9, -999.000,9,   -999.0,9,  -999.00,9,   -999.0,9,   -999.0,9,-999.0000,9,  -999.0,9, -999.0, -999.00,9,  -999.0,  -999.0, -999.00,9
31RBOACES24N_2,  AR01,    53,  1,     16,2,19980205,2101, 24.4995, -45.4840, 3109,   1201.1,   5.6300,  35.0160,  35.0170,2,    193.9,2,     193.8,2,    18.30,2,    23.93,2,     0.00,2,     1.57,2, -999.000,9, -999.000,9, -999.000,9, -999.000,9,   -999.0,9,  -999.00,9,   2187.9,2,   -999.0,5,   7.6769,2,   802.4,3,   20.0, -999.00,9,   436.2,  -999.0, -999.00,9
31RBOACES24N_2,  AR01,    53,  1,     15,2,19980205,2101, 24.4995, -45.4840, 3109,   1298.4,   5.2710,  35.0300,  35.0310,2,    209.8,2,     210.4,2,    17.20,2,    22.37,2,     0.00,2,     1.47,2, -999.000,9, -999.000,9, -999.000,9, -999.000,9,   -999.0,9,  -999.00,9,   -999.0,9,   -999.0,9,-999.0000,9,  -999.0,9, -999.0, -999.00,9,  -999.0,  -999.0, -999.00,9
31RBOACES24N_2,  AR01,    53,  1,     14,2,19980205,2101, 24.4995, -45.4840, 3109,   1400.3,   4.9890,  35.0550,  35.0540,2,    225.7,2,     226.2,2,    16.20,2,    20.80,2,     0.00,2,     1.36,2, -999.000,9, -999.000,9, -999.000,9, -999.000,9,   -999.0,9,  -999.00,9,   -999.0,9,   -999.0,9,-999.0000,9,  -999.0,9, -999.0, -999.00,9,  -999.0,  -999.0, -999.00,9
31RBOACES24N_2,  AR01,    53,  1,     13,2,19980205,2101, 24.4995, -45.4840, 3109,   1499.4,   4.8090,  35.0660,  35.0650,2,    232.7,2,     233.3,2,    16.10,2,    20.22,2,     0.00,2,     1.33,2, -999.000,9, -999.000,9, -999.000,9, -999.000,9,   -999.0,9,  -999.00,9,   2173.4,2,   2329.5,2,   7.7221,2,   713.8,3,   20.0, -999.00,9,   371.8,  -999.0, -999.00,9
31RBOACES24N_2,  AR01,    53,  1,     12,2,19980205,2101, 24.4995, -45.4840, 3109,   1601.9,   4.6840,  35.0740,  35.0740,2,    236.4,2,     236.7,2,    16.80,2,    19.92,2,     0.00,2,     1.31,2, -999.000,9, -999.000,9, -999.000,9, -999.000,9,   -999.0,9,  -999.00,9,   -999.0,9,   -999.0,9,-999.0000,9,  -999.0,9, -999.0, -999.00,9,  -999.0,  -999.0, -999.00,9
31RBOACES24N_2,  AR01,    53,  1,     11,2,19980205,2101, 24.4995, -45.4840, 3109,   1700.6,   4.4120,  35.0630,  35.0630,2,    240.9,2,     241.0,2,    17.90,2,    19.73,2,     0.00,2,     1.30,2, -999.000,9, -999.000,9, -999.000,9, -999.000,9,   -999.0,9,  -999.00,9,   -999.0,9,   -999.0,9,-999.0000,9,  -999.0,9, -999.0, -999.00,9,  -999.0,  -999.0, -999.00,9
31RBOACES24N_2,  AR01,    53,  1,     10,2,19980205,2101, 24.4995, -45.4840, 3109,   1798.9,   4.0740,  35.0370,  35.0370,2,    243.3,2,     243.4,2,    19.70,2,    19.92,2,     0.00,2,     1.31,2, -999.000,9, -999.000,9, -999.000,9, -999.000,9,   -999.0,9,  -999.00,9,   -999.0,9,   -999.0,9,-999.0000,9,  -999.0,9, -999.0, -999.00,9,  -999.0,  -999.0, -999.00,9
31RBOACES24N_2,  AR01,    53,  1,      9,2,19980205,2101, 24.4995, -45.4840, 3109,   1900.4,   3.8870,  35.0260,  35.0260,2,    246.9,2,     247.0,2,    20.90,2,    19.73,2,     0.00,2,     1.30,2, -999.000,9, -999.000,9, -999.000,9, -999.000,9,   -999.0,9,  -999.00,9,   -999.0,9,   -999.0,9,-999.0000,9,  -999.0,9, -999.0, -999.00,9,  -999.0,  -999.0, -999.00,9
31RBOACES24N_2,  AR01,    53,  1,      8,2,19980205,2101, 24.4995, -45.4840, 3109,   1999.5,   3.7470,  35.0160,  35.0170,2,    248.2,2,     248.0,2,    22.10,2,    19.73,2,     0.00,2,     1.31,2, -999.000,9, -999.000,9, -999.000,9, -999.000,9,   -999.0,9,  -999.00,9,   2172.3,2,   2330.1,2,   7.7333,2,   711.8,3,   20.0, -999.00,9,   352.1,  -999.0, -999.00,9
31RBOACES24N_2,  AR01,    53,  1,      7,2,19980205,2101, 24.4995, -45.4840, 3109,   2099.8,   3.5390,  35.0010,  35.0010,2,    249.6,2,     249.9,2,    23.80,2,    19.83,2,     0.00,2,     1.32,2, -999.000,9, -999.000,9, -999.000,9, -999.000,9,   -999.0,9,  -999.00,9,   -999.0,9,   -999.0,9,-999.0000,9,  -999.0,9, -999.0, -999.00,9,  -999.0,  -999.0, -999.00,9
31RBOACES24N_2,  AR01,    53,  1,      6,2,19980205,2101, 24.4995, -45.4840, 3109,   2299.8,   3.3280,  34.9850,  34.9850,2,    248.6,2,     249.7,2,    26.50,2,    20.12,2,     0.00,2,     1.35,2, -999.000,9, -999.000,9, -999.000,9, -999.000,9,   -999.0,9,  -999.00,9,   -999.0,9,   -999.0,9,-999.0000,9,  -999.0,9, -999.0, -999.00,9,  -999.0,  -999.0, -999.00,9
31RBOACES24N_2,  AR01,    53,  1,      5,2,19980205,2101, 24.4995, -45.4840, 3109,   2500.2,   3.0780,  34.9660,  34.9650,2,    250.7,2,     250.6,2,    29.70,2,    20.32,2,     0.00,2,     1.36,2, -999.000,9, -999.000,9, -999.000,9, -999.000,9,   -999.0,9,  -999.00,9,   -999.0,9,   -999.0,9,-999.0000,9,  -999.0,9, -999.0, -999.00,9,  -999.0,  -999.0, -999.00,9
31RBOACES24N_2,  AR01,    53,  1,      4,2,19980205,2101, 24.4995, -45.4840, 3109,   2702.0,   2.8580,  34.9470,  34.9470,2,    250.3,2,     250.9,2,    33.20,2,    20.61,2,     0.00,2,     1.39,2, -999.000,9, -999.000,9, -999.000,9, -999.000,9,   -999.0,9,  -999.00,9,   -999.0,9,   -999.0,9,-999.0000,9,  -999.0,9, -999.0, -999.00,9,  -999.0,  -999.0, -999.00,9
31RBOACES24N_2,  AR01,    53,  1,      3,2,19980205,2101, 24.4995, -45.4840, 3109,   2901.6,   2.7800,  34.9390,  34.9390,2,    251.2,2,     251.6,2,    34.80,2,    20.71,2,     0.00,2,     1.40,2, -999.000,9, -999.000,9, -999.000,9, -999.000,9,   -999.0,9,  -999.00,9,   -999.0,9,   -999.0,9,-999.0000,9,  -999.0,9, -999.0, -999.00,9,  -999.0,  -999.0, -999.00,9
31RBOACES24N_2,  AR01,    53,  1,      2,2,19980205,2101, 24.4995, -45.4840, 3109,   3100.0,   2.7240,  34.9320,  34.9320,2,    251.7,2,     251.0,2,    36.10,2,    20.81,2,     0.00,2,     1.41,2, -999.000,9, -999.000,9, -999.000,9, -999.000,9,   -999.0,9,  -999.00,9,   -999.0,9,   -999.0,9,-999.0000,9,  -999.0,9, -999.0, -999.00,9,  -999.0,  -999.0, -999.00,9
31RBOACES24N_2,  AR01,    53,  1,      1,2,19980205,2101, 24.4995, -45.4840, 3109,   3344.1,   2.7190,  34.9290,  34.9300,2,    251.6,2,     251.5,2,    36.70,6,    21.00,6,     0.00,6,     1.41,6, -999.000,9, -999.000,9, -999.000,9, -999.000,9,   -999.0,9,  -999.00,9,   2187.0,2,   2344.2,2,   7.7303,2,   719.9,3,   20.0, -999.00,9,   337.6,  -999.0, -999.00,9