BOTTLE,20220820CCHSIOAMB
EXPOCODE,SECT_ID,STNNBR,CASTNO,BTLNBR,BTLNBR_FLAG_W,DATE,TIME,LATITUDE,LONGITUDE,DEPTH,CTDPRS,CTDTMP,CTDSAL,SALNTY,SALNTY_FLAG_W,CTDOXY,CTDOXY_FLAG_W,OXYGEN,OXYGEN_FLAG_W,SILCAT,SILCAT_FLAG_W,NITRAT,NITRAT_FLAG_W,NITRIT,NITRIT_FLAG_W,PHSPHT,PHSPHT_FLAG_W,CFC-11,CFC-11_FLAG_W,CFC-12,CFC-12_FLAG_W,CFC113,CFC113_FLAG_W,CCL4,CCL4_FLAG_W,DELC14,DELC14_FLAG_W,DELC13,DELC13_FLAG_W,TCARBN,TCARBN_FLAG_W,ALKALI,ALKALI_FLAG_W,PH,PH_FLAG_W,FCO2,FCO2_FLAG_W,FCO2TMP,TON,TON_FLAG_W,FCO2IN,C14ERR,TOC,TOC_FLAG_W
,,,,,,,,,,,DBAR,ITS-90,PSS-78,PSS-78,,UMOL/KG,,UMOL/KG,,UMOL/KG,,UMOL/KG,,UMOL/KG,,UMOL/KG,,PMOL/KG,,PMOL/KG,,PMOL/KG,,PMOL/KG,,/MILLE,,/MILLE,,UMOL/KG,,UMOL/KG,,,,UATM,,DEG C,UMOL/KG,,UATM,/MILLE,UMOL/KG,
31RBOACES24N_2,  AR01,    82,  1,     36,2,19980214,0403, 24.5000, -64.0000, 5834,      4.3,  24.0460,  36.7970,  36.7970,2,    216.3,2,     214.2,2,     0.80,2,     0.10,2,     0.00,2,     0.01,2,    1.892,2,    1.097,2,    0.156,2, -999.000,9,     95.2,2,  -999.00,9,   2036.6,6,   2407.9,2,   8.1049,2,   273.0,2,   20.0,    4.42,2,   320.3,     2.9,   71.22,2
31RBOACES24N_2,  AR01,    82,  1,     35,2,19980214,0403, 24.5000, -64.0000, 5834,     37.6,  24.0290,  36.7940,  36.7940,2,    213.7,2,     214.5,6,     0.80,2,     0.10,2,     0.00,2,     0.01,2,    1.892,2,    1.096,2,    0.159,2, -999.000,9,     87.5,2,  -999.00,9,   2037.8,2,   2407.1,2,-999.0000,9,   274.4,2,   20.0,    4.44,2,   321.8,     3.1,   71.32,2
31RBOACES24N_2,  AR01,    82,  1,     34,2,19980214,0403, 24.5000, -64.0000, 5834,     79.3,  23.1940,  37.0310,  37.0310,2,    217.9,2,     218.8,2,     0.50,2,     0.10,2,     0.00,2,     0.01,2,    2.083,2,    1.183,2,    0.179,2, -999.000,9,     91.8,2,  -999.00,9,   2071.1,2,   2427.3,2,   8.0727,2,   303.1,2,   20.0,    4.48,2,   343.8,     4.0,   62.02,2
31RBOACES24N_2,  AR01,    82,  1,     33,2,19980214,0403, 24.5000, -64.0000, 5834,    119.0,  21.3630,  36.9450,  36.9540,2,    205.5,2,     208.1,2,     0.50,2,     0.39,2,     0.04,2,     0.02,2,    2.161,2,    1.231,2,    0.143,2, -999.000,9,    100.9,2,  -999.00,9,   2088.7,2,   2418.8,2,   8.0403,2,   336.5,2,   20.0,    5.12,2,   355.4,     3.5,   57.61,2
31RBOACES24N_2,  AR01,    82,  1,     32,2,19980214,0403, 24.5000, -64.0000, 5834,    200.0,  18.9120,  36.6400,  36.6320,2,    200.1,2,     204.1,2,     0.80,2,     2.44,2,     0.01,2,     0.09,2,    2.334,6,    1.306,6,    0.056,6, -999.000,9,     64.8,2,  -999.00,9,   2096.4,2,   2396.1,2,   7.9990,2,   373.3,2,   20.0,    5.89,2,   357.3,     3.5,   49.69,2
31RBOACES24N_2,  AR01,    82,  1,     31,2,19980214,0403, 24.5000, -64.0000, 5834,    224.8,  18.5600,  36.5990,  36.5990,2,    204.4,2,     205.2,2,     1.00,2,     2.93,2,     0.01,2,     0.12,2,    2.363,2,    1.314,2,    0.045,2, -999.000,9,     83.4,2,  -999.00,9,   2095.3,2,   2393.0,2,   7.9948,2,   378.7,2,   20.0,    6.66,2,   357.3,     4.5,   49.20,2
31RBOACES24N_2,  AR01,    82,  1,     30,2,19980214,0403, 24.5000, -64.0000, 5834,    248.4,  18.4040,  36.5770,  36.5780,2,    202.2,2,     204.5,2,     1.10,2,     3.32,2,     0.01,2,     0.14,2,    2.361,2,    1.303,2,    0.043,2, -999.000,9,     79.0,2,  -999.00,9,   2095.7,2,   -999.0,9,   8.0006,2,  -999.0,9, -999.0,    6.95,2,  -999.0,     3.0,   48.71,2
31RBOACES24N_2,  AR01,    82,  1,     29,2,19980214,0403, 24.5000, -64.0000, 5834,    274.8,  18.2280,  36.5530,  36.5530,2,    204.1,2,     205.2,2,     1.20,2,     3.71,2,     0.00,2,     0.16,2,    2.341,2,    1.291,2,    0.036,2, -999.000,9,     95.3,2,  -999.00,9,   2096.7,2,   -999.0,9,   7.9921,2,   385.1,2,   20.0,    7.30,2,   358.5,     3.3,   48.03,2
31RBOACES24N_2,  AR01,    82,  1,     28,2,19980214,0403, 24.5000, -64.0000, 5834,    300.0,  18.0410,  36.5280,  36.5260,2,    205.0,2,     204.7,2,     1.30,2,     4.20,2,     0.00,2,     0.20,2,    2.321,2,    1.269,2,    0.030,2, -999.000,9,     80.0,2,  -999.00,9,   2099.4,2,   2390.8,2,   7.9884,2,  -999.0,9, -999.0, -999.00,9,  -999.0,     3.1, -999.00,9
31RBOACES24N_2,  AR01,    82,  1,     27,2,19980214,0403, 24.5000, -64.0000, 5834,    347.4,  17.6750,  36.4700,  36.4680,2,    202.7,2,     200.2,2,     1.60,2,     5.17,2,     0.00,2,     0.26,2,    2.254,2,    1.220,2,    0.038,2, -999.000,9,     94.5,2,  -999.00,9,   2105.7,2,   -999.0,9,   7.9636,2,   406.5,2,   20.0,    8.81,2,   370.0,     3.4,   48.22,2
31RBOACES24N_2,  AR01,    82,  1,     26,2,19980214,0403, 24.5000, -64.0000, 5834,    400.2,  17.0670,  36.3640,  36.3610,2,    199.3,2,     193.3,2,     2.00,2,     6.73,2,     0.00,2,     0.36,2,    2.175,2,    1.161,2,    0.032,2, -999.000,9,     86.8,2,  -999.00,9,   2113.7,2,   2385.1,2,   7.9422,2,  -999.0,9, -999.0, -999.00,9,  -999.0,     3.0, -999.00,9
31RBOACES24N_2,  AR01,    82,  1,     25,2,19980214,0403, 24.5000, -64.0000, 5834,    448.1,  16.3320,  36.2420,  36.2520,2,    189.7,2,     187.6,2,     2.60,2,     8.30,2,     0.00,2,     0.45,2,    2.105,2,    1.115,2,    0.026,2, -999.000,9,     74.5,2,  -999.00,9,   2119.6,2,   2379.5,2,-999.0000,9,   455.6,3,   20.0,   11.95,2,   392.5,     2.9,   45.78,2
31RBOACES24N_2,  AR01,    82,  1,     24,2,19980214,0403, 24.5000, -64.0000, 5834,    499.6,  15.2650,  36.0670,  36.0680,2,    186.8,2,     182.5,2,     3.60,2,    10.44,2,     0.00,2,     0.60,2,    1.965,2,    1.029,2,    0.025,2, -999.000,9,     72.6,2,  -999.00,9,   2130.3,2,   2364.2,2,   7.8860,2,  -999.0,9, -999.0, -999.00,9,  -999.0,     3.2, -999.00,9
31RBOACES24N_2,  AR01,    82,  1,     23,2,19980214,0403, 24.5000, -64.0000, 5834,    551.1,  14.1530,  35.8920,  35.9050,2,    181.0,2,     179.3,2,     4.60,2,    12.40,2,     0.00,2,     0.73,2,    1.798,2,    0.927,2,    0.020,2, -999.000,9,     94.0,6,  -999.00,9,   2137.9,2,   -999.0,9,   7.8524,2,   539.9,2,   20.0,   15.17,2,   425.3,     2.2,   44.41,2
31RBOACES24N_2,  AR01,    82,  1,     22,2,19980214,0403, 24.5000, -64.0000, 5834,    598.3,  13.0480,  35.7230,  35.7320,2,    178.4,2,     168.9,2,     6.30,2,    15.23,2,     0.00,2,     0.92,2,    1.451,2,    0.747,2,    0.026,2, -999.000,9,     20.1,2,  -999.00,9,   2150.2,2,   2345.1,2,   7.8158,2,  -999.0,9, -999.0, -999.00,9,  -999.0,     3.0, -999.00,9
31RBOACES24N_2,  AR01,    82,  1,     21,2,19980214,0403, 24.5000, -64.0000, 5834,    697.7,  11.3580,  35.5050,  35.5100,2,    168.2,2,     162.8,2,     8.90,2,    18.65,2,     0.00,2,     1.16,2,    0.952,6,    0.488,6,    0.012,6, -999.000,9,    -15.8,2,  -999.00,9,   2163.6,2,   2340.1,2,-999.0000,9,   686.3,3,   20.0, -999.00,9,   480.8,     3.0,   44.01,2
31RBOACES24N_2,  AR01,    82,  1,     20,2,19980214,0403, 24.5000, -64.0000, 5834,    800.4,   9.5950,  35.2890,  35.2930,2,    156.7,2,     153.2,2,    12.70,2,    22.66,2,     0.00,2,     1.44,2,    0.480,2,    0.247,2,    0.011,2, -999.000,9,    -68.2,2,  -999.00,9,   2180.6,2,   2328.2,2,   7.7051,2,  -999.0,9, -999.0, -999.00,9,  -999.0,     4.0, -999.00,9
31RBOACES24N_2,  AR01,    82,  1,     19,2,19980214,0403, 24.5000, -64.0000, 5834,    846.5,   8.7570,  35.1910,  35.1920,2,    152.8,2,     151.5,2,    14.70,2,    24.22,2,     0.00,2,     1.56,2,    0.342,2,    0.179,2,   -0.001,2, -999.000,9,    -59.8,2,  -999.00,9,   2187.2,2,   2323.2,2,   7.6772,2,   830.6,2,   20.0,   26.89,2,   521.2,     3.2,   41.56,2
31RBOACES24N_2,  AR01,    82,  1,     17,2,19980214,0403, 24.5000, -64.0000, 5834,    901.6,   7.7970,  35.1050,  35.1080,2,    155.4,2,     155.7,2,    16.40,2,    25.20,2,     0.00,2,     1.64,2,    0.250,2,    0.129,2,    0.004,2, -999.000,9,    -64.1,2,  -999.00,9,   -999.0,9,   2319.9,2,   7.6661,2,   869.2,2,   20.0, -999.00,9,   524.0,     3.6,   41.66,2
31RBOACES24N_2,  AR01,    82,  1,     18,2,19980214,0403, 24.5000, -64.0000, 5834,    901.9,   7.8970,  35.1110,  35.1110,2,    155.4,2,     155.0,2,    16.30,2,    25.20,2,     0.00,2,     1.64,2,    0.253,2,    0.131,2,    0.013,2, -999.000,9,    -61.4,6,  -999.00,9,   2187.3,2,   -999.0,5,   7.6674,2,   868.8,2,   20.0, -999.00,9,   525.7,     7.4, -999.00,9
31RBOACES24N_2,  AR01,    82,  1,     16,2,19980214,0403, 24.5000, -64.0000, 5834,   1048.6,   6.4580,  35.0650,  35.0630,2,    184.2,2,     184.4,2,    16.70,2,    23.54,2,     0.00,2,     1.57,2,    0.237,2,    0.119,2,    0.003,2, -999.000,9,    -89.5,2,  -999.00,9,   2187.9,6,   2321.7,2,   7.6770,2,   840.5,6,   20.0, -999.00,9,   475.8,     2.9, -999.00,9
31RBOACES24N_2,  AR01,    82,  1,     15,2,19980214,0403, 24.5000, -64.0000, 5834,   1244.5,   5.4490,  35.0880,  35.0880,2,    225.8,2,     225.0,2,    14.30,2,    20.12,2,     0.00,2,     1.34,2,    0.338,2,    0.176,2,    0.013,2, -999.000,9,    -77.8,2,  -999.00,9,   2173.6,2,   2319.3,2,-999.0000,9,   753.4,2,   20.0,   22.72,2,   405.6,     2.9,   41.65,2
31RBOACES24N_2,  AR01,    82,  1,     14,2,19980214,0403, 24.5000, -64.0000, 5834,   1450.1,   4.7790,  35.0710,  35.0710,2,    247.2,2,     245.9,2,    13.90,2,    18.85,2,     0.00,2,     1.25,2,    0.317,2,    0.163,2,    0.006,2, -999.000,9,    -61.8,2,  -999.00,9,   2166.5,2,   2318.9,2,   7.7295,2,   724.2,2,   20.0, -999.00,9,   377.3,     2.7, -999.00,9
31RBOACES24N_2,  AR01,    82,  1,     13,2,19980214,0403, 24.5000, -64.0000, 5834,   1625.6,   4.4400,  35.0580,  35.0590,2,    254.2,2,     251.9,2,    14.90,2,    18.66,2,     0.00,2,     1.24,2,    0.219,6,    0.115,6,    0.008,6, -999.000,9,    -62.6,2,  -999.00,9,   2165.1,2,   2319.7,2,   7.7354,2,  -999.0,9, -999.0, -999.00,9,  -999.0,     3.0,   41.35,2
31RBOACES24N_2,  AR01,    82,  1,     12,2,19980214,0403, 24.5000, -64.0000, 5834,   1848.9,   4.0170,  35.0350,  35.0360,2,    255.4,2,     255.3,2,    17.60,2,    18.76,2,     0.00,2,     1.26,2,    0.066,2,    0.041,2,    0.007,2, -999.000,9,    -79.3,2,  -999.00,9,   2166.0,2,   2323.3,2,-999.0000,5,  -999.0,9, -999.0, -999.00,9,  -999.0,     3.1, -999.00,9
31RBOACES24N_2,  AR01,    82,  1,     11,2,19980214,0403, 24.5000, -64.0000, 5834,   2046.8,   3.6650,  35.0120,  35.0130,2,    256.6,2,     256.9,2,    20.70,2,    19.05,2,     0.00,2,     1.28,2,    0.031,2,    0.018,2,    0.004,2, -999.000,9,    -94.5,2,  -999.00,9,   2169.4,2,   2324.7,2,   7.7400,2,   714.5,2,   20.0,   21.34,2,   352.2,     2.9,   41.93,2
31RBOACES24N_2,  AR01,    82,  1,     10,2,19980214,0403, 24.5000, -64.0000, 5834,   2231.1,   3.3970,  34.9900,  34.9910,2,    257.4,2,     257.5,2,    23.70,2,    19.24,2,     0.00,2,     1.31,2,    0.017,2,    0.009,2,    0.003,2, -999.000,9,   -999.0,9,  -999.00,9,   -999.0,9,   -999.0,9,-999.0000,9,  -999.0,9, -999.0, -999.00,9,  -999.0,  -999.0, -999.00,9
31RBOACES24N_2,  AR01,    82,  1,      9,2,19980214,0403, 24.5000, -64.0000, 5834,   2545.7,   3.0680,  34.9600,  34.9620,2,    260.2,2,     260.8,2,    26.10,2,    19.24,2,     0.00,2,     1.31,2,    0.029,2,    0.018,2,    0.004,2, -999.000,9,    -93.0,2,  -999.00,9,   2171.5,2,   2328.2,2,   7.7371,2,  -999.0,9, -999.0,   22.15,2,  -999.0,     2.6,   41.45,2
31RBOACES24N_2,  AR01,    82,  1,      8,2,19980214,0403, 24.5000, -64.0000, 5834,   2844.2,   2.8390,  34.9410,  34.9420,2,    262.7,2,     263.9,2,    27.60,2,    19.15,2,     0.00,2,     1.31,2,    0.072,2,    0.028,2,    0.005,2, -999.000,9,    -87.0,2,  -999.00,9,   2170.7,2,   -999.0,9,-999.0000,9,   717.2,2,   20.0, -999.00,9,   339.3,     2.7, -999.00,9
31RBOACES24N_2,  AR01,    82,  1,      7,2,19980214,0403, 24.5000, -64.0000, 5834,   3147.4,   2.6560,  34.9270,  34.9280,2,    265.5,2,     264.8,2,    30.40,2,    19.44,2,     0.00,2,     1.33,2,    0.051,2,    0.022,2,    0.007,2, -999.000,9,   -109.1,2,  -999.00,9,   2171.4,2,   2328.7,2,-999.0000,9,  -999.0,9, -999.0, -999.00,9,  -999.0,     2.6,   43.20,2
31RBOACES24N_2,  AR01,    82,  1,      6,2,19980214,0403, 24.5000, -64.0000, 5834,   3449.1,   2.5000,  34.9150,  34.9150,2,    267.9,2,     267.1,2,    31.50,2,    19.25,2,     0.00,2,     1.33,2,    0.061,6,    0.029,6,    0.004,6, -999.000,9,    -90.5,2,  -999.00,9,   2173.9,2,   -999.0,9,-999.0000,9,  -999.0,9, -999.0, -999.00,9,  -999.0,     2.6, -999.00,9
31RBOACES24N_2,  AR01,    82,  1,      5,2,19980214,0403, 24.5000, -64.0000, 5834,   3837.9,   2.3600,  34.9040,  34.9050,2,    273.3,2,     271.6,2,    30.60,2,    18.66,2,     0.00,2,     1.30,2,    0.142,2,    0.070,2,    0.009,2, -999.000,9,    -91.0,2,  -999.00,9,   2171.1,2,   2328.0,2,   7.7381,2,   724.2,2,   20.0, -999.00,9,   334.6,     2.8,   41.93,2
31RBOACES24N_2,  AR01,    82,  1,      4,2,19980214,0403, 24.5000, -64.0000, 5834,   4341.1,   2.2830,  34.8940,  34.8940,2,    271.9,2,     270.8,2,    33.00,2,    18.85,2,     0.00,2,     1.31,2,    0.160,2,    0.079,2,    0.013,2, -999.000,9,    -90.5,2,  -999.00,9,   2174.8,2,   -999.0,9,-999.0000,9,  -999.0,9, -999.0, -999.00,9,  -999.0,     2.9, -999.00,9
31RBOACES24N_2,  AR01,    82,  1,      3,2,19980214,0403, 24.5000, -64.0000, 5834,   4847.2,   2.1690,  34.8730,  34.8740,2,    264.8,2,     263.4,2,    44.00,2,    20.61,2,     0.00,2,     1.44,2,    0.056,2,    0.032,2,    0.007,2, -999.000,9,    -99.3,2,  -999.00,9,   2187.8,2,   2339.1,2,   7.7232,2,  -999.0,9, -999.0,   23.52,2,  -999.0,     3.6,   41.93,2
31RBOACES24N_2,  AR01,    82,  1,      2,2,19980214,0403, 24.5000, -64.0000, 5834,   5349.6,   2.0270,  34.8480,  34.8500,2,    255.0,2,     256.2,2,    55.40,2,    22.27,2,     0.00,2,     1.57,2,    0.028,2,    0.022,2,    0.007,2, -999.000,9,   -117.4,2,  -999.00,9,   2200.7,2,   -999.0,9,-999.0000,9,   786.5,2,   20.0, -999.00,9,   356.4,     3.0, -999.00,9
31RBOACES24N_2,  AR01,    82,  1,      1,2,19980214,0403, 24.5000, -64.0000, 5834,   5861.6,   2.0650,  34.8430,  34.8440,2,    255.1,2,     254.8,2,    57.50,6,    22.57,6,     0.00,6,     1.59,6,    0.030,2,    0.021,2,    0.001,2, -999.000,9,   -117.0,2,  -999.00,9,   2203.8,2,   2348.1,2,   7.7048,2,   785.8,6,   20.0, -999.00,9,   356.6,     3.3,   41.64,2