BOTTLE,20220820CCHSIOAMB
EXPOCODE,SECT_ID,STNNBR,CASTNO,BTLNBR,BTLNBR_FLAG_W,DATE,TIME,LATITUDE,LONGITUDE,DEPTH,CTDPRS,CTDTMP,CTDSAL,SALNTY,SALNTY_FLAG_W,CTDOXY,CTDOXY_FLAG_W,OXYGEN,OXYGEN_FLAG_W,SILCAT,SILCAT_FLAG_W,NITRAT,NITRAT_FLAG_W,NITRIT,NITRIT_FLAG_W,PHSPHT,PHSPHT_FLAG_W,CFC-11,CFC-11_FLAG_W,CFC-12,CFC-12_FLAG_W,CFC113,CFC113_FLAG_W,CCL4,CCL4_FLAG_W,DELC14,DELC14_FLAG_W,DELC13,DELC13_FLAG_W,TCARBN,TCARBN_FLAG_W,ALKALI,ALKALI_FLAG_W,PH,PH_FLAG_W,FCO2,FCO2_FLAG_W,FCO2TMP,TON,TON_FLAG_W,FCO2IN,C14ERR,TOC,TOC_FLAG_W
,,,,,,,,,,,DBAR,ITS-90,PSS-78,PSS-78,,UMOL/KG,,UMOL/KG,,UMOL/KG,,UMOL/KG,,UMOL/KG,,UMOL/KG,,PMOL/KG,,PMOL/KG,,PMOL/KG,,PMOL/KG,,/MILLE,,/MILLE,,UMOL/KG,,UMOL/KG,,,,UATM,,DEG C,UMOL/KG,,UATM,/MILLE,UMOL/KG,
31RBOACES24N_2,  AR01,   126,  1,     21,2,19980223,1720, 27.0130, -79.6050,  667,      3.3,  26.5890,  36.1310,-999.0000,9,    211.0,2,     201.9,2,  -999.00,9,  -999.00,9,  -999.00,9,  -999.00,9, -999.000,9, -999.000,9, -999.000,9, -999.000,9,   -999.0,9,  -999.00,9,   2011.0,6,   2361.7,6,   8.1005,2,   278.1,6,   20.0,    4.40,2,   360.4,  -999.0,   63.10,2
31RBOACES24N_2,  AR01,   126,  1,     20,2,19980223,1720, 27.0130, -79.6050,  667,     25.3,  26.5900,  36.1290,  36.1310,2,    201.1,2,     201.7,2,     1.40,2,     0.10,2,     0.01,2,     0.01,2, -999.000,9, -999.000,9, -999.000,9, -999.000,9,   -999.0,9,  -999.00,9,   -999.0,9,   -999.0,9,-999.0000,9,  -999.0,9, -999.0, -999.00,9,  -999.0,  -999.0, -999.00,9
31RBOACES24N_2,  AR01,   126,  1,     19,2,19980223,1720, 27.0130, -79.6050,  667,     51.7,  25.5230,  36.1580,  36.1580,2,    196.8,2,     206.2,2,     1.30,2,     0.10,2,     0.00,2,     0.01,2, -999.000,9, -999.000,9, -999.000,9, -999.000,9,   -999.0,9,  -999.00,9,   -999.0,9,   -999.0,9,-999.0000,9,  -999.0,9, -999.0,    4.34,2,  -999.0,  -999.0,   62.89,2
31RBOACES24N_2,  AR01,   126,  1,     18,2,19980223,1720, 27.0130, -79.6050,  667,     76.0,  25.2640,  36.1790,  36.1750,2,    189.1,2,     202.7,2,     1.30,2,     0.10,2,     0.16,2,     0.02,2, -999.000,9, -999.000,9, -999.000,9, -999.000,9,   -999.0,9,  -999.00,9,   -999.0,9,   -999.0,9,-999.0000,9,  -999.0,9, -999.0, -999.00,9,  -999.0,  -999.0, -999.00,9
31RBOACES24N_2,  AR01,   126,  1,     17,2,19980223,1720, 27.0130, -79.6050,  667,    100.1,  24.8940,  36.3060,  36.3340,2,    175.0,2,     190.0,2,     1.30,2,     1.17,2,     0.14,2,     0.06,2, -999.000,9, -999.000,9, -999.000,9, -999.000,9,   -999.0,9,  -999.00,9,   -999.0,9,   -999.0,9,-999.0000,9,  -999.0,9, -999.0,    5.73,2,  -999.0,  -999.0,   56.91,2
31RBOACES24N_2,  AR01,   126,  1,     16,2,19980223,1720, 27.0130, -79.6050,  667,    124.6,  23.6040,  36.8760,  36.8800,2,    165.0,2,     168.8,2,     1.60,2,     3.02,2,     0.02,2,     0.16,2, -999.000,9, -999.000,9, -999.000,9, -999.000,9,   -999.0,9,  -999.00,9,   -999.0,9,   -999.0,9,-999.0000,9,  -999.0,9, -999.0, -999.00,9,  -999.0,  -999.0, -999.00,9
31RBOACES24N_2,  AR01,   126,  1,     15,3,19980223,1720, 27.0130, -79.6050,  667,    150.9,  21.9700,  36.9310,  36.9320,2,    158.4,2,     164.4,2,     1.80,2,     4.19,2,     0.02,2,     0.21,2, -999.000,9, -999.000,9, -999.000,9, -999.000,9,   -999.0,9,  -999.00,9,   -999.0,9,   -999.0,9,-999.0000,9,  -999.0,9, -999.0,    6.76,2,  -999.0,  -999.0,   54.30,2
31RBOACES24N_2,  AR01,   126,  1,     14,2,19980223,1720, 27.0130, -79.6050,  667,    175.3,  20.5660,  36.8340,  36.8360,2,    155.9,2,     161.1,2,     2.00,2,     5.36,2,     0.01,2,     0.27,2, -999.000,9, -999.000,9, -999.000,9, -999.000,9,   -999.0,9,  -999.00,9,   -999.0,9,   -999.0,9,-999.0000,9,  -999.0,9, -999.0, -999.00,9,  -999.0,  -999.0, -999.00,9
31RBOACES24N_2,  AR01,   126,  1,     13,2,19980223,1720, 27.0130, -79.6050,  667,    200.2,  19.3110,  36.6810,  36.6770,2,    153.9,2,     158.6,2,     2.40,2,     7.02,2,     0.01,2,     0.36,2, -999.000,9, -999.000,9, -999.000,9, -999.000,9,   -999.0,9,  -999.00,9,   -999.0,9,   -999.0,9,-999.0000,9,  -999.0,9, -999.0,   10.65,2,  -999.0,  -999.0,   50.67,2
31RBOACES24N_2,  AR01,   126,  1,     12,2,19980223,1720, 27.0130, -79.6050,  667,    225.2,  17.8590,  36.4620,  36.4630,2,    151.4,2,     162.3,4,     3.00,2,     8.68,2,     0.01,2,     0.46,2, -999.000,9, -999.000,9, -999.000,9, -999.000,9,   -999.0,9,  -999.00,9,   -999.0,9,   -999.0,9,-999.0000,9,  -999.0,9, -999.0, -999.00,9,  -999.0,  -999.0, -999.00,9
31RBOACES24N_2,  AR01,   126,  1,     11,2,19980223,1720, 27.0130, -79.6050,  667,    250.8,  17.1050,  36.3330,  36.3330,2,    150.2,2,     156.9,2,     3.70,2,    10.34,2,     0.01,2,     0.58,2, -999.000,9, -999.000,9, -999.000,9, -999.000,9,   -999.0,9,  -999.00,9,   -999.0,9,   -999.0,9,-999.0000,9,  -999.0,9, -999.0,   13.93,2,  -999.0,  -999.0,   48.71,2
31RBOACES24N_2,  AR01,   126,  1,     10,2,19980223,1720, 27.0130, -79.6050,  667,    273.6,  16.4140,  36.2090,  36.2100,2,    145.1,2,     149.8,2,     4.50,2,    12.20,2,     0.01,2,     0.70,2, -999.000,9, -999.000,9, -999.000,9, -999.000,9,   -999.0,9,  -999.00,9,   -999.0,9,   -999.0,9,-999.0000,9,  -999.0,9, -999.0, -999.00,9,  -999.0,  -999.0, -999.00,9
31RBOACES24N_2,  AR01,   126,  1,      9,2,19980223,1720, 27.0130, -79.6050,  667,    300.1,  15.6930,  36.0850,  36.0830,2,    141.0,2,     145.3,2,     5.30,2,    13.86,2,     0.00,2,     0.81,2, -999.000,9, -999.000,9, -999.000,9, -999.000,9,   -999.0,9,  -999.00,9,   -999.0,9,   -999.0,9,-999.0000,9,  -999.0,9, -999.0, -999.00,9,  -999.0,  -999.0, -999.00,9
31RBOACES24N_2,  AR01,   126,  1,      8,2,19980223,1720, 27.0130, -79.6050,  667,    325.9,  14.5410,  35.8860,  35.8860,2,    126.9,2,     133.1,2,     7.20,2,    17.08,2,     0.01,2,     1.02,2, -999.000,9, -999.000,9, -999.000,9, -999.000,9,   -999.0,9,  -999.00,9,   -999.0,9,   -999.0,9,-999.0000,9,  -999.0,9, -999.0, -999.00,9,  -999.0,  -999.0, -999.00,9
31RBOACES24N_2,  AR01,   126,  1,      7,2,19980223,1720, 27.0130, -79.6050,  667,    352.6,  13.4410,  35.7040,  35.7040,2,    123.2,2,     130.0,2,     8.50,2,    19.13,2,     0.01,2,     1.18,2, -999.000,9, -999.000,9, -999.000,9, -999.000,9,   -999.0,9,  -999.00,9,   -999.0,9,   -999.0,9,-999.0000,9,  -999.0,9, -999.0,   22.71,2,  -999.0,  -999.0,   45.38,2
31RBOACES24N_2,  AR01,   126,  1,      6,2,19980223,1720, 27.0130, -79.6050,  667,    400.8,  11.8930,  35.4580,  35.4500,2,    124.1,2,     124.9,2,    10.80,2,    22.45,2,     0.00,2,     1.41,2, -999.000,9, -999.000,9, -999.000,9, -999.000,9,   -999.0,9,  -999.00,9,   -999.0,9,   -999.0,9,-999.0000,9,  -999.0,9, -999.0, -999.00,9,  -999.0,  -999.0, -999.00,9
31RBOACES24N_2,  AR01,   126,  1,      5,2,19980223,1720, 27.0130, -79.6050,  667,    452.1,  10.4650,  35.2410,  35.2390,2,    122.2,2,     123.2,6,    13.30,2,    25.29,2,     0.01,2,     1.60,2, -999.000,9, -999.000,9, -999.000,9, -999.000,9,   -999.0,9,  -999.00,9,   -999.0,9,   -999.0,9,-999.0000,9,  -999.0,9, -999.0, -999.00,9,  -999.0,  -999.0, -999.00,9
31RBOACES24N_2,  AR01,   126,  1,      4,2,19980223,1720, 27.0130, -79.6050,  667,    502.6,   8.6340,  35.0300,  35.0240,2,    123.0,2,     122.5,2,    17.50,2,    28.42,2,     0.01,2,     1.85,2, -999.000,9, -999.000,9, -999.000,9, -999.000,9,   -999.0,9,  -999.00,9,   -999.0,9,   -999.0,9,-999.0000,9,  -999.0,9, -999.0, -999.00,9,  -999.0,  -999.0, -999.00,9
31RBOACES24N_2,  AR01,   126,  1,      3,2,19980223,1720, 27.0130, -79.6050,  667,    543.8,   7.9390,  34.9610,  34.9620,2,    126.2,2,     126.4,2,    19.00,2,    29.20,2,     0.01,2,     1.91,2, -999.000,9, -999.000,9, -999.000,9, -999.000,9,   -999.0,9,  -999.00,9,   -999.0,9,   -999.0,9,-999.0000,9,  -999.0,9, -999.0, -999.00,9,  -999.0,  -999.0,   42.83,2
31RBOACES24N_2,  AR01,   126,  1,      2,2,19980223,1720, 27.0130, -79.6050,  667,    599.3,   6.4120,  34.9060,  34.9070,2,    145.9,2,     148.0,2,    22.80,2,  -999.00,5,     0.01,2,     1.92,2, -999.000,9, -999.000,9, -999.000,9, -999.000,9,   -999.0,9,  -999.00,9,   -999.0,9,   -999.0,9,-999.0000,9,  -999.0,9, -999.0, -999.00,9,  -999.0,  -999.0, -999.00,9
31RBOACES24N_2,  AR01,   126,  1,      1,2,19980223,1720, 27.0130, -79.6050,  667,    666.0,   6.0520,  34.9010,  34.8990,2,    153.0,2,     151.6,2,    23.80,6,    28.42,6,     0.01,6,     1.91,6, -999.000,9, -999.000,9, -999.000,9, -999.000,9,   -999.0,9,  -999.00,9,   -999.0,9,   -999.0,9,-999.0000,9,  -999.0,9, -999.0,   32.42,2,  -999.0,  -999.0,   41.85,2
31RBOACES24N_2,  AR01,   127,  1,     20,2,19980223,1906, 27.0203, -79.6743,  547,      4.3,  25.9320,  36.1980,  36.1990,2,    206.6,2,     204.9,2,     1.20,2,     0.00,2,     0.00,2,     0.00,2, -999.000,9, -999.000,9, -999.000,9, -999.000,9,   -999.0,9,     1.38,2,   2016.7,6,   2378.2,6,   8.0959,2,   281.4,6,   20.0, -999.00,9,   355.7,  -999.0, -999.00,9
31RBOACES24N_2,  AR01,   127,  1,     19,2,19980223,1906, 27.0203, -79.6743,  547,     25.6,  25.7340,  36.2130,  36.2140,2,    205.3,2,     205.5,2,     1.10,2,     0.00,2,     0.00,2,     0.00,2, -999.000,9, -999.000,9, -999.000,9, -999.000,9,   -999.0,9,  -999.00,9,   -999.0,9,   -999.0,9,-999.0000,9,  -999.0,9, -999.0, -999.00,9,  -999.0,  -999.0, -999.00,9
31RBOACES24N_2,  AR01,   127,  1,     18,2,19980223,1906, 27.0203, -79.6743,  547,     51.3,  25.6190,  36.2220,  36.2240,2,    205.2,2,     205.4,2,     1.10,2,     0.00,2,     0.00,2,     0.01,2, -999.000,9, -999.000,9, -999.000,9, -999.000,9,   -999.0,9,  -999.00,9,   -999.0,9,   -999.0,9,-999.0000,9,  -999.0,9, -999.0, -999.00,9,  -999.0,  -999.0, -999.00,9
31RBOACES24N_2,  AR01,   127,  1,     17,2,19980223,1906, 27.0203, -79.6743,  547,     75.8,  25.2270,  36.5550,  36.5680,2,    202.8,2,     180.2,3,     1.30,2,     1.66,2,     0.11,2,     0.08,2, -999.000,9, -999.000,9, -999.000,9, -999.000,9,   -999.0,9,  -999.00,9,   -999.0,9,   -999.0,9,-999.0000,9,  -999.0,9, -999.0, -999.00,9,  -999.0,  -999.0, -999.00,9
31RBOACES24N_2,  AR01,   127,  1,     16,2,19980223,1906, 27.0203, -79.6743,  547,    100.3,  24.4630,  36.8000,  36.8000,2,    168.2,2,     168.2,2,     1.30,2,     2.54,2,     0.03,2,     0.11,2, -999.000,9, -999.000,9, -999.000,9, -999.000,9,   -999.0,9,  -999.00,9,   -999.0,9,   -999.0,9,-999.0000,9,  -999.0,9, -999.0, -999.00,9,  -999.0,  -999.0, -999.00,9
31RBOACES24N_2,  AR01,   127,  1,     15,2,19980223,1906, 27.0203, -79.6743,  547,    100.6,  24.4560,  36.7980,  36.8030,2,    168.2,2,     168.4,2,     1.30,2,     2.54,2,     0.03,2,     0.12,2, -999.000,9, -999.000,9, -999.000,9, -999.000,9,   -999.0,9,  -999.00,9,   -999.0,9,   -999.0,9,-999.0000,9,  -999.0,9, -999.0, -999.00,9,  -999.0,  -999.0, -999.00,9
31RBOACES24N_2,  AR01,   127,  1,     14,2,19980223,1906, 27.0203, -79.6743,  547,    125.3,  21.5500,  36.5250,  36.2560,2,    200.3,2,     206.3,2,     1.30,2,     1.27,2,     0.49,2,     0.10,2, -999.000,9, -999.000,9, -999.000,9, -999.000,9,   -999.0,9,  -999.00,9,   -999.0,9,   -999.0,9,-999.0000,9,  -999.0,9, -999.0, -999.00,9,  -999.0,  -999.0, -999.00,9
31RBOACES24N_2,  AR01,   127,  1,     13,2,19980223,1906, 27.0203, -79.6743,  547,    150.1,  21.1050,  36.8590,  36.8600,2,    155.8,2,     159.1,2,     2.00,2,     5.46,2,     0.01,2,     0.26,2, -999.000,9, -999.000,9, -999.000,9, -999.000,9,   -999.0,9,  -999.00,9,   -999.0,9,   -999.0,9,-999.0000,9,  -999.0,9, -999.0, -999.00,9,  -999.0,  -999.0, -999.00,9
31RBOACES24N_2,  AR01,   127,  1,     12,2,19980223,1906, 27.0203, -79.6743,  547,    175.6,  19.5220,  36.6860,  36.6870,2,    151.7,2,     155.6,2,     2.40,2,     7.32,2,     0.01,2,     0.37,2, -999.000,9, -999.000,9, -999.000,9, -999.000,9,   -999.0,9,  -999.00,9,   -999.0,9,   -999.0,9,-999.0000,9,  -999.0,9, -999.0, -999.00,9,  -999.0,  -999.0, -999.00,9
31RBOACES24N_2,  AR01,   127,  1,     11,2,19980223,1906, 27.0203, -79.6743,  547,    198.5,  18.7670,  36.5930,  36.5990,2,    150.8,2,     154.2,2,     2.70,2,     8.19,2,     0.01,2,     0.42,2, -999.000,9, -999.000,9, -999.000,9, -999.000,9,   -999.0,9,  -999.00,9,   -999.0,9,   -999.0,9,-999.0000,9,  -999.0,9, -999.0, -999.00,9,  -999.0,  -999.0, -999.00,9
31RBOACES24N_2,  AR01,   127,  1,     10,2,19980223,1906, 27.0203, -79.6743,  547,    220.2,  18.1380,  36.5070,  36.5200,2,    152.6,2,     159.1,2,     2.80,2,     8.49,2,     0.01,2,     0.44,2, -999.000,9, -999.000,9, -999.000,9, -999.000,9,   -999.0,9,  -999.00,9,   -999.0,9,   -999.0,9,-999.0000,9,  -999.0,9, -999.0, -999.00,9,  -999.0,  -999.0, -999.00,9
31RBOACES24N_2,  AR01,   127,  1,      9,2,19980223,1906, 27.0203, -79.6743,  547,    250.1,  17.0650,  36.2980,  36.2960,2,    142.2,2,     148.1,2,     4.40,2,    11.61,2,     0.01,2,     0.64,2, -999.000,9, -999.000,9, -999.000,9, -999.000,9,   -999.0,9,  -999.00,9,   -999.0,9,   -999.0,9,-999.0000,9,  -999.0,9, -999.0, -999.00,9,  -999.0,  -999.0, -999.00,9
31RBOACES24N_2,  AR01,   127,  1,      8,2,19980223,1906, 27.0203, -79.6743,  547,    274.5,  15.6190,  36.0610,  36.0620,2,    131.4,2,     134.1,2,     6.20,2,    15.22,2,     0.01,2,     0.88,2, -999.000,9, -999.000,9, -999.000,9, -999.000,9,   -999.0,9,  -999.00,9,   -999.0,9,   -999.0,9,-999.0000,9,  -999.0,9, -999.0, -999.00,9,  -999.0,  -999.0, -999.00,9
31RBOACES24N_2,  AR01,   127,  1,      7,2,19980223,1906, 27.0203, -79.6743,  547,    301.2,  14.3460,  35.8530,  35.8680,2,    126.8,2,     130.2,2,     7.70,2,    17.57,2,     0.01,2,     1.05,2, -999.000,9, -999.000,9, -999.000,9, -999.000,9,   -999.0,9,  -999.00,9,   -999.0,9,   -999.0,9,-999.0000,9,  -999.0,9, -999.0, -999.00,9,  -999.0,  -999.0, -999.00,9
31RBOACES24N_2,  AR01,   127,  1,      6,2,19980223,1906, 27.0203, -79.6743,  547,    325.4,  13.6760,  35.7440,  35.7320,2,    127.2,2,     130.5,2,     8.50,2,    18.94,2,     0.01,2,     1.14,2, -999.000,9, -999.000,9, -999.000,9, -999.000,9,   -999.0,9,  -999.00,9,   -999.0,9,   -999.0,9,-999.0000,9,  -999.0,9, -999.0, -999.00,9,  -999.0,  -999.0, -999.00,9
31RBOACES24N_2,  AR01,   127,  1,      5,2,19980223,1906, 27.0203, -79.6743,  547,    352.0,  12.4980,  35.5560,  35.5540,2,    124.6,2,     127.6,2,    10.20,2,    21.19,2,     0.00,2,     1.30,2, -999.000,9, -999.000,9, -999.000,9, -999.000,9,   -999.0,9,  -999.00,9,   -999.0,9,   -999.0,9,-999.0000,9,  -999.0,9, -999.0, -999.00,9,  -999.0,  -999.0, -999.00,9
31RBOACES24N_2,  AR01,   127,  1,      4,2,19980223,1906, 27.0203, -79.6743,  547,    401.1,  10.5580,  35.2980,  35.2860,2,    123.1,2,     127.3,6,    14.50,2,    24.90,2,     0.01,2,     1.57,2, -999.000,9, -999.000,9, -999.000,9, -999.000,9,   -999.0,9,  -999.00,9,   -999.0,9,   -999.0,9,-999.0000,9,  -999.0,9, -999.0, -999.00,9,  -999.0,  -999.0, -999.00,9
31RBOACES24N_2,  AR01,   127,  1,      3,2,19980223,1906, 27.0203, -79.6743,  547,    452.0,   8.5200,  35.0490,  35.0480,2,    125.6,2,     127.7,2,    18.70,2,    28.03,2,     0.01,2,     1.81,2, -999.000,9, -999.000,9, -999.000,9, -999.000,9,   -999.0,9,  -999.00,9,   -999.0,9,   -999.0,9,-999.0000,9,  -999.0,9, -999.0, -999.00,9,  -999.0,  -999.0, -999.00,9
31RBOACES24N_2,  AR01,   127,  1,      2,2,19980223,1906, 27.0203, -79.6743,  547,    501.3,   6.1810,  34.9010,  34.8990,2,    149.7,2,     149.0,2,    24.30,2,    28.81,2,     0.00,2,     1.92,2, -999.000,9, -999.000,9, -999.000,9, -999.000,9,   -999.0,9,  -999.00,9,   -999.0,9,   -999.0,9,-999.0000,9,  -999.0,9, -999.0, -999.00,9,  -999.0,  -999.0, -999.00,9
31RBOACES24N_2,  AR01,   127,  1,      1,2,19980223,1906, 27.0203, -79.6743,  547,    530.4,   5.9790,  34.9000,  34.8990,2,    155.3,2,     152.7,2,    24.50,2,    28.42,6,     0.01,6,     1.92,6, -999.000,9, -999.000,9, -999.000,9, -999.000,9,   -999.0,9,  -999.00,9,   -999.0,9,   -999.0,9,-999.0000,9,  -999.0,9, -999.0, -999.00,9,  -999.0,  -999.0, -999.00,9