BOTTLE,20220820CCHSIOAMB
EXPOCODE,SECT_ID,STNNBR,CASTNO,BTLNBR,BTLNBR_FLAG_W,DATE,TIME,LATITUDE,LONGITUDE,DEPTH,CTDPRS,CTDTMP,CTDSAL,SALNTY,SALNTY_FLAG_W,CTDOXY,CTDOXY_FLAG_W,OXYGEN,OXYGEN_FLAG_W,SILCAT,SILCAT_FLAG_W,NITRAT,NITRAT_FLAG_W,NITRIT,NITRIT_FLAG_W,PHSPHT,PHSPHT_FLAG_W,CFC-11,CFC-11_FLAG_W,CFC-12,CFC-12_FLAG_W,CFC113,CFC113_FLAG_W,CCL4,CCL4_FLAG_W,DELC14,DELC14_FLAG_W,DELC13,DELC13_FLAG_W,TCARBN,TCARBN_FLAG_W,ALKALI,ALKALI_FLAG_W,PH,PH_FLAG_W,FCO2,FCO2_FLAG_W,FCO2TMP,TON,TON_FLAG_W,FCO2IN,C14ERR,TOC,TOC_FLAG_W
,,,,,,,,,,,DBAR,ITS-90,PSS-78,PSS-78,,UMOL/KG,,UMOL/KG,,UMOL/KG,,UMOL/KG,,UMOL/KG,,UMOL/KG,,PMOL/KG,,PMOL/KG,,PMOL/KG,,PMOL/KG,,/MILLE,,/MILLE,,UMOL/KG,,UMOL/KG,,,,UATM,,DEG C,UMOL/KG,,UATM,/MILLE,UMOL/KG,
31RBOACES24N_2,  AR01,    88,  1,     36,2,19980215,2303, 24.4998, -68.4005, 5712,      4.9,  24.2980,  36.6480,  36.6570,2,    207.8,2,     211.7,2,     1.00,2,     0.29,2,     0.00,2,     0.01,2,    1.866,2,    1.076,2,    0.147,2,    1.903,2,   -999.0,9,     1.35,2,   2032.7,6,   -999.0,5,   8.1039,6,   275.1,6,   20.0, -999.00,9,   325.9,  -999.0,   71.04,2
31RBOACES24N_2,  AR01,    88,  1,     35,2,19980215,2303, 24.4998, -68.4005, 5712,     35.9,  24.3160,  36.6460,  36.6480,2,    210.8,2,     211.7,2,     1.00,2,     0.29,2,     0.00,2,     0.01,2, -999.000,9, -999.000,9, -999.000,9, -999.000,9,   -999.0,9,  -999.00,9,   -999.0,9,   -999.0,9,-999.0000,9,  -999.0,9, -999.0, -999.00,9,  -999.0,  -999.0,   71.33,2
31RBOACES24N_2,  AR01,    88,  1,     34,2,19980215,2303, 24.4998, -68.4005, 5712,     70.1,  24.0670,  36.6570,  36.6590,2,    210.0,2,     212.9,2,     0.90,2,     0.29,2,     0.00,2,     0.01,2,    1.911,2,    1.102,2,    0.166,2, -999.000,9,   -999.0,9,  -999.00,9,   -999.0,9,   -999.0,9,-999.0000,9,  -999.0,9, -999.0, -999.00,9,  -999.0,  -999.0,   68.11,2
31RBOACES24N_2,  AR01,    88,  1,     33,2,19980215,2303, 24.4998, -68.4005, 5712,    110.5,  22.7880,  37.0100,  37.0180,2,    191.5,2,     188.0,2,     1.00,2,     1.95,2,     0.03,2,     0.08,2,    2.019,2,    1.150,2,    0.093,2,    0.463,6,   -999.0,9,  -999.00,9,   -999.0,9,   -999.0,9,-999.0000,9,  -999.0,9, -999.0, -999.00,9,  -999.0,  -999.0,   59.19,2
31RBOACES24N_2,  AR01,    88,  1,     32,2,19980215,2303, 24.4998, -68.4005, 5712,    162.9,  20.5300,  36.8880,  36.8850,2,    179.4,2,     179.1,2,     1.20,2,     3.32,2,     0.01,2,     0.13,2,    2.151,2,    1.204,2,    0.037,2, -999.000,9,   -999.0,9,  -999.00,9,   -999.0,9,   -999.0,9,-999.0000,9,  -999.0,9, -999.0, -999.00,9,  -999.0,  -999.0,   52.92,2
31RBOACES24N_2,  AR01,    88,  1,     31,2,19980215,2303, 24.4998, -68.4005, 5712,    196.1,  19.3630,  36.7220,  36.7160,2,    183.3,2,     184.1,2,     1.40,2,     3.90,2,     0.01,2,     0.16,2,    2.220,6,    1.223,6,    0.030,6, -999.000,9,   -999.0,9,  -999.00,9,   -999.0,9,   -999.0,9,-999.0000,9,  -999.0,9, -999.0, -999.00,9,  -999.0,  -999.0,   50.28,2
31RBOACES24N_2,  AR01,    88,  1,     30,2,19980215,2303, 24.4998, -68.4005, 5712,    225.3,  18.7810,  36.6460,  36.6400,2,    182.8,2,     185.8,2,     1.60,2,     4.68,2,     0.01,2,     0.21,2, -999.000,9, -999.000,9, -999.000,9, -999.000,9,   -999.0,9,  -999.00,9,   -999.0,9,   -999.0,9,-999.0000,9,  -999.0,9, -999.0, -999.00,9,  -999.0,  -999.0,   47.94,2
31RBOACES24N_2,  AR01,    88,  1,     29,2,19980215,2303, 24.4998, -68.4005, 5712,    250.8,  18.4000,  36.5930,  36.5890,2,    187.8,2,     185.9,2,     1.70,2,     5.56,2,     0.01,2,     0.26,2,    2.235,2,    1.217,2,    0.018,2,    0.356,2,   -999.0,9,  -999.00,9,   -999.0,9,   -999.0,9,-999.0000,9,  -999.0,9, -999.0, -999.00,9,  -999.0,  -999.0, -999.00,9
31RBOACES24N_2,  AR01,    88,  1,     28,2,19980215,2303, 24.4998, -68.4005, 5712,    275.8,  18.0970,  36.5410,  36.5420,2,    194.8,2,     195.3,2,     1.70,2,     5.07,2,     0.01,2,     0.24,2, -999.000,9, -999.000,9, -999.000,9, -999.000,9,   -999.0,9,  -999.00,9,   -999.0,9,   -999.0,9,-999.0000,9,  -999.0,9, -999.0, -999.00,9,  -999.0,  -999.0, -999.00,9
31RBOACES24N_2,  AR01,    88,  1,     27,2,19980215,2303, 24.4998, -68.4005, 5712,    302.4,  17.8450,  36.4960,  36.4960,2,    190.2,2,     195.4,2,     1.80,2,     5.56,2,     0.01,2,     0.27,2,    2.243,2,    1.215,2,    0.027,2, -999.000,9,   -999.0,9,  -999.00,9,   -999.0,9,   -999.0,9,-999.0000,9,  -999.0,9, -999.0, -999.00,9,  -999.0,  -999.0,   45.59,2
31RBOACES24N_2,  AR01,    88,  1,     26,2,19980215,2303, 24.4998, -68.4005, 5712,    350.4,  16.8610,  36.3280,  36.3270,2,    181.3,2,     179.2,2,     2.70,2,     8.59,2,     0.01,2,     0.46,2, -999.000,9, -999.000,9, -999.000,9, -999.000,9,   -999.0,9,  -999.00,9,   -999.0,9,   -999.0,9,-999.0000,9,  -999.0,9, -999.0, -999.00,9,  -999.0,  -999.0, -999.00,9
31RBOACES24N_2,  AR01,    88,  1,     25,2,19980215,2303, 24.4998, -68.4005, 5712,    399.9,  15.7040,  36.1330,  36.1400,2,    176.2,2,     173.7,2,     3.60,2,    10.83,2,     0.00,2,     0.61,2,    1.930,2,    1.018,2,    0.024,2,    0.384,2,   -999.0,9,  -999.00,9,   -999.0,9,   -999.0,9,-999.0000,9,  -999.0,9, -999.0, -999.00,9,  -999.0,  -999.0,   45.00,2
31RBOACES24N_2,  AR01,    88,  1,     24,2,19980215,2303, 24.4998, -68.4005, 5712,    451.3,  14.6170,  35.9420,  35.9420,2,    154.4,2,     158.7,6,     5.20,2,    14.25,2,     0.01,2,     0.84,2, -999.000,9, -999.000,9, -999.000,9, -999.000,9,   -999.0,9,  -999.00,9,   -999.0,9,   -999.0,9,-999.0000,9,  -999.0,9, -999.0, -999.00,9,  -999.0,  -999.0, -999.00,9
31RBOACES24N_2,  AR01,    88,  1,     23,2,19980215,2303, 24.4998, -68.4005, 5712,    500.9,  13.8560,  35.8510,  35.8500,2,    174.0,2,     175.2,2,     5.20,2,    13.57,2,     0.00,2,     0.79,2,    1.671,2,    0.866,2,    0.025,2, -999.000,9,   -999.0,9,  -999.00,9,   -999.0,9,   -999.0,9,-999.0000,9,  -999.0,9, -999.0, -999.00,9,  -999.0,  -999.0,   43.92,2
31RBOACES24N_2,  AR01,    88,  1,     22,2,19980215,2303, 24.4998, -68.4005, 5712,    600.0,  11.7030,  35.5310,  35.5380,2,    157.1,2,     157.1,2,     8.80,2,    18.84,2,     0.00,2,     1.16,2,    1.008,2,    0.520,2,    0.015,2, -999.000,9,   -999.0,9,  -999.00,9,   -999.0,9,   -999.0,9,-999.0000,9,  -999.0,9, -999.0, -999.00,9,  -999.0,  -999.0, -999.00,9
31RBOACES24N_2,  AR01,    88,  1,     21,2,19980215,2303, 24.4998, -68.4005, 5712,    694.6,  10.0010,  35.3070,  35.3070,2,    149.1,2,     147.9,2,    12.50,2,    22.75,2,     0.00,2,     1.45,2, -999.000,9, -999.000,9, -999.000,9, -999.000,9,   -999.0,9,  -999.00,9,   -999.0,9,   -999.0,9,-999.0000,9,  -999.0,9, -999.0, -999.00,9,  -999.0,  -999.0,   41.67,2
31RBOACES24N_2,  AR01,    88,  1,     20,2,19980215,2303, 24.4998, -68.4005, 5712,    800.0,   8.1550,  35.1110,  35.1090,2,    149.7,2,     150.8,2,    16.40,2,    25.59,2,     0.01,2,     1.67,2,    0.277,2,    0.149,2,    0.011,2,    0.217,2,   -999.0,9,  -999.00,9,   -999.0,9,   -999.0,9,-999.0000,9,  -999.0,9, -999.0, -999.00,9,  -999.0,  -999.0, -999.00,9
31RBOACES24N_2,  AR01,    88,  1,     19,2,19980215,2303, 24.4998, -68.4005, 5712,    900.1,   6.9860,  35.0740,  35.0750,2,    172.0,2,     173.1,2,    16.40,2,    24.22,2,     0.01,2,     1.59,2,    0.329,2,    0.167,2,    0.007,2, -999.000,9,   -999.0,9,  -999.00,9,   -999.0,9,   -999.0,9,-999.0000,9,  -999.0,9, -999.0, -999.00,9,  -999.0,  -999.0,   41.36,2
31RBOACES24N_2,  AR01,    88,  1,     18,2,19980215,2303, 24.4998, -68.4005, 5712,   1000.2,   6.0690,  35.0810,  35.0800,2,    203.8,2,     204.6,2,    14.70,2,    21.58,2,     0.00,2,     1.43,2,    0.475,2,    0.235,2,    0.009,2, -999.000,9,   -999.0,9,  -999.00,9,   -999.0,9,   -999.0,9,-999.0000,9,  -999.0,9, -999.0, -999.00,9,  -999.0,  -999.0, -999.00,9
31RBOACES24N_2,  AR01,    88,  1,     17,2,19980215,2303, 24.4998, -68.4005, 5712,   1200.0,   4.8880,  35.0450,  35.0460,2,    244.1,2,     243.3,2,    13.10,2,    18.85,2,     0.00,2,     1.26,2,    0.711,6,    0.352,6,    0.021,6, -999.000,9,   -999.0,9,  -999.00,9,   -999.0,9,   -999.0,9,-999.0000,9,  -999.0,9, -999.0, -999.00,9,  -999.0,  -999.0,   41.64,2
31RBOACES24N_2,  AR01,    88,  1,     16,2,19980215,2303, 24.4998, -68.4005, 5712,   1400.1,   4.2680,  35.0050,  35.0060,2,    260.8,2,     260.2,2,    12.80,2,    18.16,2,     0.00,2,     1.21,2,    0.798,2,    0.393,2,    0.027,2, -999.000,9,   -999.0,9,  -999.00,9,   -999.0,9,   -999.0,9,-999.0000,9,  -999.0,9, -999.0, -999.00,9,  -999.0,  -999.0, -999.00,9
31RBOACES24N_2,  AR01,    88,  1,     15,2,19980215,2303, 24.4998, -68.4005, 5712,   1601.6,   3.9340,  34.9840,  34.9840,2,    266.6,2,     266.8,2,    13.40,2,    17.87,2,     0.00,2,     1.19,2,    0.753,2,    0.368,2,    0.023,2,    1.453,2,   -999.0,9,  -999.00,9,   -999.0,9,   -999.0,9,-999.0000,9,  -999.0,9, -999.0, -999.00,9,  -999.0,  -999.0, -999.00,9
31RBOACES24N_2,  AR01,    88,  1,     14,2,19980215,2303, 24.4998, -68.4005, 5712,   1800.0,   3.7200,  34.9810,  34.9810,2,    267.6,2,     267.7,2,    14.70,2,    17.87,2,     0.00,2,     1.20,2, -999.000,9, -999.000,9, -999.000,9, -999.000,9,   -999.0,9,  -999.00,9,   -999.0,9,   -999.0,9,-999.0000,9,  -999.0,9, -999.0, -999.00,9,  -999.0,  -999.0, -999.00,9
31RBOACES24N_2,  AR01,    88,  1,     13,2,19980215,2303, 24.4998, -68.4005, 5712,   2001.9,   3.5390,  34.9760,  34.9770,2,    267.3,2,     267.5,2,    16.30,2,    17.87,2,     0.00,2,     1.21,2,    0.338,2,    0.171,2,    0.014,2, -999.000,9,   -999.0,9,  -999.00,9,   -999.0,9,   -999.0,9,-999.0000,9,  -999.0,9, -999.0, -999.00,9,  -999.0,  -999.0, -999.00,9
31RBOACES24N_2,  AR01,    88,  1,     12,2,19980215,2303, 24.4998, -68.4005, 5712,   2201.2,   3.3050,  34.9650,  34.9660,2,    267.3,2,     268.3,2,    18.10,2,    17.87,2,     0.00,2,     1.22,2,    0.269,2,    0.138,2,    0.012,2, -999.000,9,   -999.0,9,  -999.00,9,   -999.0,9,   -999.0,9,-999.0000,9,  -999.0,9, -999.0, -999.00,9,  -999.0,  -999.0, -999.00,9
31RBOACES24N_2,  AR01,    88,  1,     11,2,19980215,2303, 24.4998, -68.4005, 5712,   2400.4,   3.2080,  34.9710,  34.9700,2,    260.6,2,     261.1,2,    23.30,2,    19.04,2,     0.00,2,     1.29,2,    0.053,2,    0.029,2,    0.009,2,    0.366,2,   -999.0,9,  -999.00,9,   -999.0,9,   -999.0,9,-999.0000,9,  -999.0,9, -999.0, -999.00,9,  -999.0,  -999.0,   42.71,2
31RBOACES24N_2,  AR01,    88,  1,     10,2,19980215,2303, 24.4998, -68.4005, 5712,   2598.9,   2.9990,  34.9520,  34.9520,2,    264.9,2,     264.9,2,    23.40,2,    18.75,2,     0.00,2,     1.27,2,    0.130,2,    0.067,2,    0.006,2, -999.000,9,   -999.0,9,  -999.00,9,   -999.0,9,   -999.0,9,-999.0000,9,  -999.0,9, -999.0, -999.00,9,  -999.0,  -999.0, -999.00,9
31RBOACES24N_2,  AR01,    88,  1,      9,2,19980215,2303, 24.4998, -68.4005, 5712,   2797.6,   2.8330,  34.9360,  34.9370,2,    270.0,2,     271.3,2,    21.60,2,    18.07,2,     0.00,2,     1.23,2,    0.313,2,    0.156,2,    0.009,2, -999.000,9,   -999.0,9,  -999.00,9,   -999.0,9,   -999.0,9,-999.0000,9,  -999.0,9, -999.0, -999.00,9,  -999.0,  -999.0, -999.00,9
31RBOACES24N_2,  AR01,    88,  1,      8,2,19980215,2303, 24.4998, -68.4005, 5712,   3001.2,   2.7240,  34.9300,  34.9310,2,    268.2,2,     268.5,2,    25.00,2,    18.56,2,     0.01,2,     1.27,2,    0.202,2,    0.101,2,    0.007,2,    0.555,2,   -999.0,9,  -999.00,9,   -999.0,9,   -999.0,9,-999.0000,9,  -999.0,9, -999.0, -999.00,9,  -999.0,  -999.0, -999.00,9
31RBOACES24N_2,  AR01,    88,  1,      7,2,19980215,2303, 24.4998, -68.4005, 5712,   3401.3,   2.5080,  34.9150,  34.9150,2,    270.9,2,     272.4,2,    25.90,2,    18.26,2,     0.01,2,     1.25,2,    0.310,2,    0.155,2,    0.019,2,    0.738,2,   -999.0,9,  -999.00,9,   -999.0,9,   -999.0,9,-999.0000,9,  -999.0,9, -999.0, -999.00,9,  -999.0,  -999.0, -999.00,9
31RBOACES24N_2,  AR01,    88,  1,      6,2,19980215,2303, 24.4998, -68.4005, 5712,   3800.6,   2.3630,  34.9040,  34.9040,2,    271.3,2,     272.5,2,    28.50,2,    18.46,2,     0.00,2,     1.27,2,    0.218,2,    0.111,2,    0.008,2,    0.677,2,   -999.0,9,  -999.00,9,   -999.0,9,   -999.0,9,-999.0000,9,  -999.0,9, -999.0, -999.00,9,  -999.0,  -999.0, -999.00,9
31RBOACES24N_2,  AR01,    88,  1,      5,2,19980215,2303, 24.4998, -68.4005, 5712,   4199.4,   2.2970,  34.8970,  34.8960,2,    271.6,2,     271.5,2,    30.90,2,    18.75,2,     0.01,2,     1.29,2,    0.178,2,    0.095,2,    0.010,2,    0.644,2,   -999.0,9,  -999.00,9,   -999.0,9,   -999.0,9,-999.0000,9,  -999.0,9, -999.0, -999.00,9,  -999.0,  -999.0, -999.00,9
31RBOACES24N_2,  AR01,    88,  1,      4,2,19980215,2303, 24.4998, -68.4005, 5712,   4600.7,   2.2560,  34.8880,  34.8880,2,    268.6,2,     268.0,2,    35.50,2,    19.44,2,     0.01,2,     1.34,2,    0.144,2,    0.078,2,    0.012,2,    0.533,6,   -999.0,9,  -999.00,9,   -999.0,9,   -999.0,9,-999.0000,9,  -999.0,9, -999.0, -999.00,9,  -999.0,  -999.0, -999.00,9
31RBOACES24N_2,  AR01,    88,  1,      3,2,19980215,2303, 24.4998, -68.4005, 5712,   5001.6,   2.1540,  34.8680,  34.8690,2,    261.6,2,     262.1,2,    45.20,2,    21.00,2,     0.01,2,     1.46,2,    0.028,2,    0.023,2,    0.006,2,    0.281,2,   -999.0,9,  -999.00,9,   -999.0,9,   -999.0,9,-999.0000,9,  -999.0,9, -999.0, -999.00,9,  -999.0,  -999.0, -999.00,9
31RBOACES24N_2,  AR01,    88,  1,      2,2,19980215,2303, 24.4998, -68.4005, 5712,   5400.5,   2.0550,  34.8500,  34.8510,2,    254.9,2,     255.7,2,    53.90,2,    22.27,2,     0.01,2,     1.55,2,    0.028,2,    0.025,2,    0.009,2,    0.181,2,   -999.0,9,  -999.00,9,   -999.0,9,   -999.0,9,-999.0000,9,  -999.0,9, -999.0, -999.00,9,  -999.0,  -999.0, -999.00,9
31RBOACES24N_2,  AR01,    88,  1,      1,2,19980215,2303, 24.4998, -68.4005, 5712,   5813.6,   2.0710,  34.8450,  34.8460,2,    253.0,2,     254.3,2,    56.20,6,    22.76,6,     0.01,6,     1.59,6,    0.063,3,    0.040,3,    0.007,3,    0.180,2,   -999.0,9,  -999.00,9,   -999.0,9,   -999.0,9,-999.0000,9,  -999.0,9, -999.0, -999.00,9,  -999.0,  -999.0, -999.00,9