BOTTLE,20220820CCHSIOAMB
EXPOCODE,SECT_ID,STNNBR,CASTNO,BTLNBR,BTLNBR_FLAG_W,DATE,TIME,LATITUDE,LONGITUDE,DEPTH,CTDPRS,CTDTMP,CTDSAL,SALNTY,SALNTY_FLAG_W,CTDOXY,CTDOXY_FLAG_W,OXYGEN,OXYGEN_FLAG_W,SILCAT,SILCAT_FLAG_W,NITRAT,NITRAT_FLAG_W,NITRIT,NITRIT_FLAG_W,PHSPHT,PHSPHT_FLAG_W,CFC-11,CFC-11_FLAG_W,CFC-12,CFC-12_FLAG_W,CFC113,CFC113_FLAG_W,CCL4,CCL4_FLAG_W,DELC14,DELC14_FLAG_W,DELC13,DELC13_FLAG_W,TCARBN,TCARBN_FLAG_W,ALKALI,ALKALI_FLAG_W,PH,PH_FLAG_W,FCO2,FCO2_FLAG_W,FCO2TMP,TON,TON_FLAG_W,FCO2IN,C14ERR,TOC,TOC_FLAG_W
,,,,,,,,,,,DBAR,ITS-90,PSS-78,PSS-78,,UMOL/KG,,UMOL/KG,,UMOL/KG,,UMOL/KG,,UMOL/KG,,UMOL/KG,,PMOL/KG,,PMOL/KG,,PMOL/KG,,PMOL/KG,,/MILLE,,/MILLE,,UMOL/KG,,UMOL/KG,,,,UATM,,DEG C,UMOL/KG,,UATM,/MILLE,UMOL/KG,
31RBOACES24N_2,  AR01,    35,  1,     36,2,19980201,0325, 24.4983, -33.5667, 6237,      4.3,  22.6640,  37.3860,  37.3860,2,    217.9,2,     219.0,2,     0.70,2,     0.00,2,     0.00,2,  -999.00,5,    2.038,2,    1.168,2,    0.157,2, -999.000,9,   -999.0,9,     1.37,2,   2088.8,2,   2439.6,2,   8.0701,2,   305.6,2,   20.0, -999.00,9,   339.7,  -999.0, -999.00,9
31RBOACES24N_2,  AR01,    35,  1,     35,2,19980201,0325, 24.4983, -33.5667, 6237,     39.2,  22.6850,  37.3900,  37.3920,2,    218.8,2,     216.1,2,     0.60,2,     0.00,2,     0.00,2,  -999.00,5, -999.000,9, -999.000,9, -999.000,9, -999.000,9,   -999.0,9,  -999.00,9,   2089.9,6,   2439.6,2,   8.0704,2,   305.4,2,   20.0, -999.00,9,   339.8,  -999.0, -999.00,9
31RBOACES24N_2,  AR01,    35,  1,     34,2,19980201,0325, 24.4983, -33.5667, 6237,     78.1,  22.3430,  37.3160,  37.2430,2,    218.3,2,     218.4,2,     0.60,2,     0.00,2,     0.00,2,  -999.00,5, -999.000,9, -999.000,9, -999.000,9, -999.000,9,   -999.0,9,  -999.00,9,   -999.0,9,   -999.0,9,-999.0000,9,  -999.0,9, -999.0, -999.00,9,  -999.0,  -999.0, -999.00,9
31RBOACES24N_2,  AR01,    35,  1,     33,2,19980201,0325, 24.4983, -33.5667, 6237,    120.0,  19.4210,  36.8120,  36.8290,2,    210.8,2,     211.3,2,     0.70,2,     0.59,2,     0.02,2,  -999.00,5,    2.309,6,    1.316,6,    0.140,6, -999.000,9,   -999.0,9,  -999.00,9,   2099.0,2,   2403.5,2,   8.0097,2,   361.3,2,   20.0, -999.00,9,   352.9,  -999.0, -999.00,9
31RBOACES24N_2,  AR01,    35,  1,     32,2,19980201,0325, 24.4983, -33.5667, 6237,    158.6,  18.6710,  36.6700,  36.6700,2,    204.3,2,     205.7,2,     0.80,2,     2.24,2,     0.01,2,  -999.00,5, -999.000,9, -999.000,9, -999.000,9, -999.000,9,   -999.0,9,  -999.00,9,   -999.0,9,   -999.0,9,-999.0000,9,  -999.0,9, -999.0, -999.00,9,  -999.0,  -999.0, -999.00,9
31RBOACES24N_2,  AR01,    35,  1,     31,2,19980201,0325, 24.4983, -33.5667, 6237,    202.1,  18.0460,  36.5490,  36.5530,2,    202.3,2,     204.6,2,     1.20,2,     3.80,2,     0.01,2,  -999.00,5,    2.333,2,    1.304,2,    0.044,2, -999.000,9,   -999.0,9,  -999.00,9,   2103.4,2,   2385.4,2,   7.9748,2,   390.8,2,   20.0, -999.00,9,   361.1,  -999.0, -999.00,9
31RBOACES24N_2,  AR01,    35,  1,     30,2,19980201,0325, 24.4983, -33.5667, 6237,    221.8,  17.6820,  36.4850,  36.4930,2,    201.3,2,     202.9,2,     1.50,2,     4.49,2,     0.00,2,  -999.00,5, -999.000,9, -999.000,9, -999.000,9, -999.000,9,   -999.0,9,  -999.00,9,   -999.0,9,   -999.0,9,-999.0000,9,  -999.0,9, -999.0, -999.00,9,  -999.0,  -999.0, -999.00,9
31RBOACES24N_2,  AR01,    35,  1,     29,2,19980201,0325, 24.4983, -33.5667, 6237,    250.1,  17.2410,  36.4100,  36.4090,2,    200.5,2,     201.3,2,     1.60,2,     5.46,2,     0.00,2,  -999.00,5, -999.000,9, -999.000,9, -999.000,9, -999.000,9,   -999.0,9,  -999.00,9,   2110.4,2,   2379.1,2,   7.9531,2,   417.6,2,   20.0, -999.00,9,   373.4,  -999.0, -999.00,9
31RBOACES24N_2,  AR01,    35,  1,     28,2,19980201,0325, 24.4983, -33.5667, 6237,    275.3,  16.9330,  36.3580,  36.3550,2,    200.0,2,     200.7,2,     1.90,2,     6.05,2,     0.00,2,  -999.00,5, -999.000,9, -999.000,9, -999.000,9, -999.000,9,   -999.0,9,  -999.00,9,   -999.0,9,   -999.0,9,-999.0000,9,  -999.0,9, -999.0, -999.00,9,  -999.0,  -999.0, -999.00,9
31RBOACES24N_2,  AR01,    35,  1,     27,2,19980201,0325, 24.4983, -33.5667, 6237,    301.5,  16.4670,  36.2860,  36.2910,2,    199.2,2,     199.4,2,     2.00,2,     6.73,2,     0.00,2,  -999.00,5,    2.320,2,    1.279,2,    0.030,2, -999.000,9,   -999.0,9,  -999.00,9,   2114.5,2,   2372.1,2,   7.9319,2,   439.0,2,   20.0, -999.00,9,   380.4,  -999.0, -999.00,9
31RBOACES24N_2,  AR01,    35,  1,     26,2,19980201,0325, 24.4983, -33.5667, 6237,    350.1,  15.7570,  36.1730,  36.1850,2,    196.8,2,     197.9,2,     2.50,2,     8.00,2,     0.01,2,  -999.00,5, -999.000,9, -999.000,9, -999.000,9, -999.000,9,   -999.0,9,  -999.00,9,   -999.0,9,   -999.0,9,-999.0000,9,  -999.0,9, -999.0, -999.00,9,  -999.0,  -999.0, -999.00,9
31RBOACES24N_2,  AR01,    35,  1,     25,2,19980201,0325, 24.4983, -33.5667, 6237,    399.1,  15.0290,  36.0530,  36.0590,2,    193.6,2,     193.9,2,     2.90,2,     9.47,2,     0.00,2,  -999.00,5,    2.245,2,    1.201,2,    0.034,2, -999.000,9,   -999.0,9,  -999.00,9,   2128.2,2,   2358.2,2,   7.8914,2,   486.9,2,   20.0, -999.00,9,   397.4,  -999.0, -999.00,9
31RBOACES24N_2,  AR01,    35,  1,     24,2,19980201,0325, 24.4983, -33.5667, 6237,    500.7,  12.9650,  35.7530,  35.7570,2,    186.3,2,     184.3,2,     5.20,2,    13.67,2,     0.00,2,  -999.00,5, -999.000,9, -999.000,9, -999.000,9, -999.000,9,   -999.0,9,  -999.00,9,   2143.7,2,   2344.6,2,   7.8276,2,   576.8,2,   20.0, -999.00,9,   431.9,  -999.0, -999.00,9
31RBOACES24N_2,  AR01,    35,  1,     23,2,19980201,0325, 24.4983, -33.5667, 6237,    599.8,  11.6510,  35.5880,  35.5880,2,    177.7,2,     176.1,2,     7.10,2,    16.60,2,     0.00,2,  -999.00,5,    1.481,2,    0.749,2,    0.020,2, -999.000,9,   -999.0,9,  -999.00,9,   2155.3,2,   2336.3,2,   7.7854,2,   636.3,2,   20.0, -999.00,9,   450.9,  -999.0, -999.00,9
31RBOACES24N_2,  AR01,    35,  1,     22,2,19980201,0325, 24.4983, -33.5667, 6237,    699.8,  10.3150,  35.4480,  35.4530,2,    162.7,2,     163.1,2,     9.80,2,    20.02,2,     0.00,2,  -999.00,5, -999.000,9, -999.000,9, -999.000,9, -999.000,9,   -999.0,9,  -999.00,9,   -999.0,9,   -999.0,9,-999.0000,9,  -999.0,9, -999.0, -999.00,9,  -999.0,  -999.0, -999.00,9
31RBOACES24N_2,  AR01,    35,  1,     21,2,19980201,0325, 24.4983, -33.5667, 6237,    799.2,   9.3090,  35.3530,  35.3510,2,    154.4,2,     154.1,2,    12.70,2,    22.85,2,     0.00,2,  -999.00,5,    0.403,2,    0.187,2,    0.003,2, -999.000,9,   -999.0,9,  -999.00,9,   2186.4,2,   2329.2,2,   7.7043,2,   789.8,2,   20.0, -999.00,9,   507.6,  -999.0, -999.00,9
31RBOACES24N_2,  AR01,    35,  1,     20,2,19980201,0325, 24.4983, -33.5667, 6237,    899.0,   8.3370,  35.2560,  35.2600,2,    150.0,2,     151.0,2,    15.20,2,    24.80,2,     0.00,2,  -999.00,5, -999.000,9, -999.000,9, -999.000,9, -999.000,9,   -999.0,9,  -999.00,9,   -999.0,9,   -999.0,9,-999.0000,9,  -999.0,9, -999.0, -999.00,9,  -999.0,  -999.0, -999.00,9
31RBOACES24N_2,  AR01,    35,  1,     19,2,19980201,0325, 24.4983, -33.5667, 6237,   1051.1,   7.0040,  35.1700,  35.1690,2,    167.4,2,     167.3,2,    17.40,2,    24.90,2,     0.00,2,  -999.00,5,    0.087,2,    0.037,2,    0.000,2, -999.000,9,   -999.0,9,  -999.00,9,   2195.6,6,   2326.2,2,   7.6739,2,   850.8,2,   20.0, -999.00,9,   493.9,  -999.0, -999.00,9
31RBOACES24N_2,  AR01,    35,  1,     18,2,19980201,0325, 24.4983, -33.5667, 6237,   1250.3,   6.2670,  35.2030,  35.2040,2,    190.6,2,     189.1,2,    17.50,2,    22.95,2,     0.00,2,  -999.00,5,    0.055,6,    0.025,6,   -0.009,6, -999.000,9,   -999.0,9,  -999.00,9,   -999.0,9,   -999.0,9,-999.0000,9,  -999.0,9, -999.0, -999.00,9,  -999.0,  -999.0, -999.00,9
31RBOACES24N_2,  AR01,    35,  1,     17,2,19980201,0325, 24.4983, -33.5667, 6237,   1449.3,   5.6170,  35.1960,  35.1970,2,    206.8,2,     208.6,6,    17.80,2,    21.58,2,     0.00,2,  -999.00,5,    0.037,2,    0.021,2,   -0.003,2, -999.000,9,   -999.0,9,  -999.00,9,   -999.0,9,   -999.0,9,-999.0000,9,  -999.0,9, -999.0, -999.00,9,  -999.0,  -999.0, -999.00,9
31RBOACES24N_2,  AR01,    35,  1,     16,9,19980201,0325, 24.4983, -33.5667, 6237,   1642.9,   4.7970,  35.1230,  35.1260,2,    220.8,2,    -999.0,9,  -999.00,9,  -999.00,9,  -999.00,9,  -999.00,9, -999.000,9, -999.000,9, -999.000,9, -999.000,9,   -999.0,9,  -999.00,9,   -999.0,9,   -999.0,9,-999.0000,9,  -999.0,9, -999.0, -999.00,9,  -999.0,  -999.0, -999.00,9
31RBOACES24N_2,  AR01,    35,  1,     15,2,19980201,0325, 24.4983, -33.5667, 6237,   1848.1,   4.2100,  35.0780,  35.0780,2,    231.5,2,     234.6,2,    21.60,2,    20.51,2,     0.00,2,  -999.00,5, -999.000,9, -999.000,9, -999.000,9, -999.000,9,   -999.0,9,  -999.00,9,   -999.0,9,   -999.0,9,-999.0000,9,  -999.0,9, -999.0, -999.00,9,  -999.0,  -999.0, -999.00,9
31RBOACES24N_2,  AR01,    35,  1,     14,2,19980201,0325, 24.4983, -33.5667, 6237,   2048.9,   3.8060,  35.0410,  35.0400,2,    237.0,2,     241.1,2,    23.50,2,    20.41,2,     0.00,2,  -999.00,5,    0.001,2,    0.001,2,   -0.007,2, -999.000,9,   -999.0,9,  -999.00,9,   2175.8,2,   2330.5,2,   7.7269,2,   737.6,2,   20.0, -999.00,9,   366.2,  -999.0, -999.00,9
31RBOACES24N_2,  AR01,    35,  1,     13,2,19980201,0325, 24.4983, -33.5667, 6237,   2298.9,   3.3760,  35.0010,  35.0000,2,    243.2,2,     246.2,2,    27.00,2,    20.51,2,     0.00,2,  -999.00,5, -999.000,9, -999.000,9, -999.000,9, -999.000,9,   -999.0,9,  -999.00,9,   -999.0,9,   -999.0,9,-999.0000,9,  -999.0,9, -999.0, -999.00,9,  -999.0,  -999.0, -999.00,9
31RBOACES24N_2,  AR01,    35,  1,     12,2,19980201,0325, 24.4983, -33.5667, 6237,   2550.1,   3.1200,  34.9760,  34.9750,2,    245.0,2,     246.7,2,    30.30,2,    20.71,2,     0.00,2,  -999.00,5,   -0.002,2,    0.000,2,   -0.005,2, -999.000,9,   -999.0,9,  -999.00,9,   -999.0,9,   -999.0,9,-999.0000,9,  -999.0,9, -999.0, -999.00,9,  -999.0,  -999.0, -999.00,9
31RBOACES24N_2,  AR01,    35,  1,     11,2,19980201,0325, 24.4983, -33.5667, 6237,   2800.1,   2.8890,  34.9530,  34.9540,2,    246.1,2,     247.1,2,    33.30,2,    21.10,2,     0.00,2,  -999.00,5, -999.000,9, -999.000,9, -999.000,9, -999.000,9,   -999.0,9,  -999.00,9,   -999.0,9,   -999.0,9,-999.0000,9,  -999.0,9, -999.0, -999.00,9,  -999.0,  -999.0, -999.00,9
31RBOACES24N_2,  AR01,    35,  1,     10,2,19980201,0325, 24.4983, -33.5667, 6237,   3041.4,   2.7170,  34.9360,  34.9360,2,    246.3,2,     248.8,2,    36.00,2,    21.29,2,     0.00,2,  -999.00,5,   -0.002,2,    0.001,2,   -0.008,2, -999.000,9,   -999.0,9,  -999.00,9,   2190.7,2,   2347.7,2,   7.7281,2,   743.6,2,   20.0, -999.00,9,   349.3,  -999.0, -999.00,9
31RBOACES24N_2,  AR01,    35,  1,      9,2,19980201,0325, 24.4983, -33.5667, 6237,   3301.5,   2.5990,  34.9240,  34.9240,2,    245.8,2,     247.3,2,    38.40,2,    21.39,2,     0.00,2,  -999.00,5, -999.000,9, -999.000,9, -999.000,9, -999.000,9,   -999.0,9,  -999.00,9,   -999.0,9,   -999.0,9,-999.0000,9,  -999.0,9, -999.0, -999.00,9,  -999.0,  -999.0, -999.00,9
31RBOACES24N_2,  AR01,    35,  1,      8,2,19980201,0325, 24.4983, -33.5667, 6237,   3549.8,   2.5260,  34.9150,  34.9140,2,    247.6,2,     248.2,2,    40.20,2,    21.59,2,     0.00,2,  -999.00,5,   -0.003,2,    0.002,2,   -0.006,2, -999.000,9,   -999.0,9,  -999.00,9,   -999.0,9,   -999.0,9,-999.0000,9,  -999.0,9, -999.0, -999.00,9,  -999.0,  -999.0, -999.00,9
31RBOACES24N_2,  AR01,    35,  1,      7,2,19980201,0325, 24.4983, -33.5667, 6237,   3948.7,   2.4310,  34.9010,  34.9010,2,    249.0,2,     249.1,2,    42.70,2,    21.68,2,     0.00,2,  -999.00,5, -999.000,9, -999.000,9, -999.000,9, -999.000,9,   -999.0,9,  -999.00,9,   2195.6,2,   2347.2,2,   7.7228,2,   748.3,2,   20.0, -999.00,9,   346.1,  -999.0, -999.00,9
31RBOACES24N_2,  AR01,    35,  1,      6,2,19980201,0325, 24.4983, -33.5667, 6237,   4338.8,   2.4020,  34.8940,  34.8940,2,    249.5,2,     249.1,2,    44.50,2,    21.98,2,     0.00,2,  -999.00,5,   -0.001,2,   -0.001,2,   -0.004,2, -999.000,9,   -999.0,9,  -999.00,9,   -999.0,9,   -999.0,9,-999.0000,9,  -999.0,9, -999.0, -999.00,9,  -999.0,  -999.0, -999.00,9
31RBOACES24N_2,  AR01,    35,  1,      5,2,19980201,0325, 24.4983, -33.5667, 6237,   4748.8,   2.3910,  34.8890,  34.8880,2,    249.7,2,     249.7,2,    46.10,2,    22.17,2,     0.00,2,  -999.00,5, -999.000,9, -999.000,9, -999.000,9, -999.000,9,   -999.0,9,  -999.00,9,   -999.0,9,   -999.0,9,-999.0000,9,  -999.0,9, -999.0, -999.00,9,  -999.0,  -999.0, -999.00,9
31RBOACES24N_2,  AR01,    35,  1,      4,3,19980201,0325, 24.4983, -33.5667, 6237,   5150.6,   2.3860,  34.8820,  34.8820,2,    250.3,2,     250.9,2,    46.90,2,  -999.00,5,     0.00,2,  -999.00,5,   -0.001,6,    0.004,6,   -0.003,6, -999.000,9,   -999.0,9,  -999.00,9,   2197.8,2,   2351.1,2,   7.7215,2,   761.1,2,   20.0, -999.00,9,   351.2,  -999.0, -999.00,9
31RBOACES24N_2,  AR01,    35,  1,      3,2,19980201,0325, 24.4983, -33.5667, 6237,   5521.0,   2.4160,  34.8810,  34.8790,2,    251.8,2,     251.3,2,    47.30,2,    22.07,2,     0.00,2,  -999.00,5, -999.000,9, -999.000,9, -999.000,9, -999.000,9,   -999.0,9,  -999.00,9,   -999.0,9,   -999.0,9,-999.0000,9,  -999.0,9, -999.0, -999.00,9,  -999.0,  -999.0, -999.00,9
31RBOACES24N_2,  AR01,    35,  1,      2,2,19980201,0325, 24.4983, -33.5667, 6237,   5943.6,   2.4670,  34.8790,  34.8780,2,    252.5,2,     251.9,2,    47.70,2,    22.07,2,     0.00,2,  -999.00,5,    0.000,2,    0.004,2,   -0.001,2, -999.000,9,   -999.0,9,  -999.00,9,   -999.0,9,   -999.0,9,-999.0000,9,  -999.0,9, -999.0, -999.00,9,  -999.0,  -999.0, -999.00,9
31RBOACES24N_2,  AR01,    35,  1,      1,2,19980201,0325, 24.4983, -33.5667, 6237,   6361.9,   2.5250,  34.8790,  34.8780,2,    254.2,2,     252.0,2,    47.80,6,    22.17,6,     0.00,6,  -999.00,5,    0.000,2,    0.000,2,   -0.003,2, -999.000,9,   -999.0,9,  -999.00,9,   2197.2,2,   2347.2,2,   7.7214,2,   768.6,2,   20.0, -999.00,9,   357.2,  -999.0, -999.00,9