BOTTLE,20220820CCHSIOAMB
EXPOCODE,SECT_ID,STNNBR,CASTNO,BTLNBR,BTLNBR_FLAG_W,DATE,TIME,LATITUDE,LONGITUDE,DEPTH,CTDPRS,CTDTMP,CTDSAL,SALNTY,SALNTY_FLAG_W,CTDOXY,CTDOXY_FLAG_W,OXYGEN,OXYGEN_FLAG_W,SILCAT,SILCAT_FLAG_W,NITRAT,NITRAT_FLAG_W,NITRIT,NITRIT_FLAG_W,PHSPHT,PHSPHT_FLAG_W,CFC-11,CFC-11_FLAG_W,CFC-12,CFC-12_FLAG_W,CFC113,CFC113_FLAG_W,CCL4,CCL4_FLAG_W,DELC14,DELC14_FLAG_W,DELC13,DELC13_FLAG_W,TCARBN,TCARBN_FLAG_W,ALKALI,ALKALI_FLAG_W,PH,PH_FLAG_W,FCO2,FCO2_FLAG_W,FCO2TMP,TON,TON_FLAG_W,FCO2IN,C14ERR,TOC,TOC_FLAG_W
,,,,,,,,,,,DBAR,ITS-90,PSS-78,PSS-78,,UMOL/KG,,UMOL/KG,,UMOL/KG,,UMOL/KG,,UMOL/KG,,UMOL/KG,,PMOL/KG,,PMOL/KG,,PMOL/KG,,PMOL/KG,,/MILLE,,/MILLE,,UMOL/KG,,UMOL/KG,,,,UATM,,DEG C,UMOL/KG,,UATM,/MILLE,UMOL/KG,
31RBOACES24N_2,  AR01,    71,  1,     36,2,19980210,1937, 24.5000, -55.9332, 6463,      5.8,  24.1460,  36.9730,  36.9720,2,    213.1,2,     212.9,2,     0.90,2,     0.00,2,     0.00,2,     0.00,2, -999.000,9, -999.000,9, -999.000,9, -999.000,9,     61.7,2,     1.29,2,   2046.5,6,   2417.5,2,   8.1083,2,   282.2,2,   20.0, -999.00,9,   332.3,     4.7, -999.00,9
31RBOACES24N_2,  AR01,    71,  1,     35,2,19980210,1937, 24.5000, -55.9332, 6463,     51.7,  24.1210,  36.9780,  36.9790,2,    212.4,2,     213.2,2,     1.00,2,     0.00,2,     0.00,2,     0.00,2, -999.000,9, -999.000,9, -999.000,9, -999.000,9,     74.4,2,     2.66,4,   -999.0,9,   -999.0,9,   8.1077,2,  -999.0,9, -999.0, -999.00,9,  -999.0,     2.8, -999.00,9
31RBOACES24N_2,  AR01,    71,  1,     34,2,19980210,1937, 24.5000, -55.9332, 6463,     99.4,  23.1320,  37.0520,  37.0540,2,    216.5,2,     216.6,2,     0.70,2,     0.00,2,     0.00,2,     0.00,2, -999.000,9, -999.000,9, -999.000,9, -999.000,9,     86.8,2,     1.25,2,   2064.4,2,   2418.0,2,   8.0850,2,   300.3,2,   20.0, -999.00,9,   340.0,     3.4, -999.00,9
31RBOACES24N_2,  AR01,    71,  1,     33,2,19980210,1937, 24.5000, -55.9332, 6463,    151.3,  20.8430,  36.9320,  36.9370,2,    200.5,2,     201.8,2,     0.70,2,     0.49,2,     0.02,2,     0.02,2, -999.000,9, -999.000,9, -999.000,9, -999.000,9,    100.5,2,     1.02,2,   -999.0,9,   -999.0,9,   8.0238,2,  -999.0,9, -999.0, -999.00,9,  -999.0,     4.6, -999.00,9
31RBOACES24N_2,  AR01,    71,  1,     32,2,19980210,1937, 24.5000, -55.9332, 6463,    211.7,  19.1980,  36.7200,  36.7190,2,    194.0,2,     195.7,2,     1.00,2,     2.24,2,     0.01,2,     0.08,2, -999.000,9, -999.000,9, -999.000,9, -999.000,9,     75.8,2,     0.91,2,   2107.0,2,   2396.2,2,   7.9902,2,   396.3,2,   20.0, -999.00,9,   383.7,     3.6, -999.00,9
31RBOACES24N_2,  AR01,    71,  1,     31,2,19980210,1937, 24.5000, -55.9332, 6463,    235.0,  18.6810,  36.6370,  36.6370,2,    200.0,2,     197.7,2,     1.30,2,     3.12,2,     0.00,2,     0.13,2, -999.000,9, -999.000,9, -999.000,9, -999.000,9,   -999.0,9,     0.86,2,   2105.0,2,   2392.2,2,   7.9863,2,   394.9,2,   20.0, -999.00,9,   374.4,  -999.0, -999.00,9
31RBOACES24N_2,  AR01,    71,  1,     30,2,19980210,1937, 24.5000, -55.9332, 6463,    250.8,  18.4300,  36.5870,  36.5860,2,    204.8,2,     201.6,2,     1.10,2,     3.32,2,     0.00,2,     0.15,2, -999.000,9, -999.000,9, -999.000,9, -999.000,9,     83.8,2,     0.87,2,   2099.0,2,   2388.1,2,-999.0000,5,   388.0,2,   20.0, -999.00,9,   364.3,     4.5, -999.00,9
31RBOACES24N_2,  AR01,    71,  1,     29,2,19980210,1937, 24.5000, -55.9332, 6463,    285.5,  18.1360,  36.5440,  36.5440,2,    203.1,2,     203.9,2,     1.40,2,     3.80,2,     0.00,2,     0.19,2, -999.000,9, -999.000,9, -999.000,9, -999.000,9,     87.8,2,     1.08,2,   2099.4,2,   2392.3,2,   7.9864,2,   392.4,2,   20.0, -999.00,9,   363.9,     3.2, -999.00,9
31RBOACES24N_2,  AR01,    71,  1,     28,2,19980210,1937, 24.5000, -55.9332, 6463,    335.8,  17.7620,  36.4830,  36.4800,2,    195.8,2,     197.6,2,     1.70,2,     5.07,2,     0.00,2,     0.26,2, -999.000,9, -999.000,9, -999.000,9, -999.000,9,     81.7,2,     0.88,2,   -999.0,9,   -999.0,9,-999.0000,9,  -999.0,9, -999.0, -999.00,9,  -999.0,     2.9, -999.00,9
31RBOACES24N_2,  AR01,    71,  1,     27,2,19980210,1937, 24.5000, -55.9332, 6463,    386.1,  16.7430,  36.3240,  36.3440,2,    189.9,2,     187.8,2,     2.30,2,     7.32,2,     0.00,2,     0.40,2, -999.000,9, -999.000,9, -999.000,9, -999.000,9,     88.7,6,     0.84,6,   -999.0,9,   -999.0,9,-999.0000,9,  -999.0,9, -999.0, -999.00,9,  -999.0,     2.4, -999.00,9
31RBOACES24N_2,  AR01,    71,  1,     26,2,19980210,1937, 24.5000, -55.9332, 6463,    436.9,  16.0980,  36.2120,  36.2170,2,    186.4,2,     184.3,6,     2.90,2,     8.78,2,     0.00,2,     0.50,2, -999.000,9, -999.000,9, -999.000,9, -999.000,9,     89.7,2,     0.71,2,   -999.0,9,   -999.0,9,-999.0000,9,  -999.0,9, -999.0, -999.00,9,  -999.0,     2.9, -999.00,9
31RBOACES24N_2,  AR01,    71,  1,     25,2,19980210,1937, 24.5000, -55.9332, 6463,    482.2,  15.3200,  36.0810,  36.0830,2,    181.5,2,     180.0,2,     3.60,2,    10.44,2,     0.00,2,     0.61,2, -999.000,9, -999.000,9, -999.000,9, -999.000,9,     77.8,2,     0.82,2,   2134.2,2,   2365.0,2,   7.8843,2,   498.6,2,   20.0, -999.00,9,   411.7,     3.3, -999.00,9
31RBOACES24N_2,  AR01,    71,  1,     24,2,19980210,1937, 24.5000, -55.9332, 6463,    580.8,  13.1310,  35.7540,  35.7480,2,    168.4,2,     168.0,2,     6.10,2,    15.03,2,     0.00,2,     0.92,2, -999.000,9, -999.000,9, -999.000,9, -999.000,9,     57.3,2,     0.73,2,   -999.0,9,   -999.0,9,-999.0000,9,  -999.0,9, -999.0, -999.00,9,  -999.0,     3.3, -999.00,9
31RBOACES24N_2,  AR01,    71,  1,     23,2,19980210,1937, 24.5000, -55.9332, 6463,    683.4,  11.3690,  35.5100,  35.5050,2,    159.6,2,     159.6,2,     9.00,2,    19.04,2,     0.00,2,     1.19,2, -999.000,9, -999.000,9, -999.000,9, -999.000,9,     -4.3,2,     0.63,2,   2169.2,2,   2337.6,2,   7.7582,2,   677.6,2,   20.0, -999.00,9,   474.7,     3.8, -999.00,9
31RBOACES24N_2,  AR01,    71,  1,     22,2,19980210,1937, 24.5000, -55.9332, 6463,    786.6,   9.7320,  35.3170,  35.3030,2,    157.3,2,     155.4,2,    12.50,2,    22.36,2,     0.00,2,     1.43,2, -999.000,9, -999.000,9, -999.000,9, -999.000,9,    -48.5,2,     0.91,3,   2182.6,2,   2331.0,2,   7.7112,2,   769.4,2,   20.0, -999.00,9,   503.2,     3.9, -999.00,9
31RBOACES24N_2,  AR01,    71,  1,     21,2,19980210,1937, 24.5000, -55.9332, 6463,    850.5,   8.3600,  35.1630,  35.1590,2,    153.3,2,     152.3,2,    15.50,2,    25.00,2,     0.00,2,     1.62,2, -999.000,9, -999.000,9, -999.000,9, -999.000,9,    -71.3,2,     0.68,2,   2191.1,2,   2326.8,2,   7.6761,2,   860.3,2,   20.0, -999.00,9,   531.3,     2.8, -999.00,9
31RBOACES24N_2,  AR01,    71,  1,     20,2,19980210,1937, 24.5000, -55.9332, 6463,    949.5,   7.1750,  35.0430,  35.0430,2,    156.8,2,     157.5,2,    18.20,2,    26.17,2,     0.00,2,     1.73,2, -999.000,9, -999.000,9, -999.000,9, -999.000,9,   -999.0,9,     0.71,2,   -999.0,9,   -999.0,9,-999.0000,9,  -999.0,9, -999.0, -999.00,9,  -999.0,  -999.0, -999.00,9
31RBOACES24N_2,  AR01,    71,  1,     19,2,19980210,1937, 24.5000, -55.9332, 6463,   1049.3,   6.2760,  35.0280,  35.0250,2,    176.2,2,     178.7,2,    18.30,2,    24.80,2,     0.00,2,     1.66,2, -999.000,9, -999.000,9, -999.000,9, -999.000,9,   -100.4,2,     0.75,2,   2190.8,6,   2317.5,2,   7.6667,2,   876.1,2,   20.0, -999.00,9,   492.6,     2.8, -999.00,9
31RBOACES24N_2,  AR01,    71,  1,     18,2,19980210,1937, 24.5000, -55.9332, 6463,   1246.9,   5.4230,  35.0700,  35.0690,2,    221.3,2,     222.5,2,    14.80,2,    20.41,2,     0.00,2,     1.37,2, -999.000,9, -999.000,9, -999.000,9, -999.000,9,    -74.0,2,     1.06,2,   -999.0,9,   -999.0,9,-999.0000,9,  -999.0,9, -999.0, -999.00,9,  -999.0,     4.9, -999.00,9
31RBOACES24N_2,  AR01,    71,  1,     17,2,19980210,1937, 24.5000, -55.9332, 6463,   1451.8,   4.7740,  35.0580,  35.0590,2,    244.8,2,     244.0,2,    14.10,2,    19.04,2,     0.00,2,     1.28,2, -999.000,9, -999.000,9, -999.000,9, -999.000,9,   -118.1,3,     0.92,2,   2165.8,2,   2316.9,2,   7.7286,2,   748.2,2,   20.0, -999.00,9,   390.2,     4.7, -999.00,9
31RBOACES24N_2,  AR01,    71,  1,     16,2,19980210,1937, 24.5000, -55.9332, 6463,   1650.5,   4.3300,  35.0460,  35.0460,2,    252.8,2,     252.1,2,    15.20,2,    18.75,2,     0.00,2,     1.26,2, -999.000,9, -999.000,9, -999.000,9, -999.000,9,   -999.0,9,     0.91,2,   -999.0,9,   -999.0,9,-999.0000,9,  -999.0,9, -999.0, -999.00,9,  -999.0,  -999.0, -999.00,9
31RBOACES24N_2,  AR01,    71,  1,     15,2,19980210,1937, 24.5000, -55.9332, 6463,   1848.4,   4.0060,  35.0330,  35.0320,2,    254.4,2,     254.9,2,    17.40,2,    18.75,2,     0.00,2,     1.27,2, -999.000,9, -999.000,9, -999.000,9, -999.000,9,   -113.9,2,     0.96,2,   -999.0,9,   -999.0,9,-999.0000,9,  -999.0,9, -999.0, -999.00,9,  -999.0,     2.5, -999.00,9
31RBOACES24N_2,  AR01,    71,  1,     14,2,19980210,1937, 24.5000, -55.9332, 6463,   2047.8,   3.6790,  35.0100,  35.0090,2,    256.8,2,     257.3,2,    20.10,2,    18.95,2,     0.00,2,     1.28,2, -999.000,9, -999.000,9, -999.000,9, -999.000,9,    -92.7,2,     0.99,2,   -999.0,9,   -999.0,9,-999.0000,9,  -999.0,9, -999.0, -999.00,9,  -999.0,     5.1, -999.00,9
31RBOACES24N_2,  AR01,    71,  1,     13,2,19980210,1937, 24.5000, -55.9332, 6463,   2249.0,   3.4120,  34.9900,  34.9900,2,    256.9,2,     256.8,2,    23.30,2,    19.34,2,     0.00,2,     1.31,2, -999.000,9, -999.000,9, -999.000,9, -999.000,9,    -91.1,2,     0.95,2,   2170.8,2,   2327.1,2,   7.7390,2,  -999.0,9, -999.0, -999.00,9,  -999.0,     2.3, -999.00,9
31RBOACES24N_2,  AR01,    71,  1,     12,2,19980210,1937, 24.5000, -55.9332, 6463,   2449.4,   3.1590,  34.9690,  34.9690,2,    257.4,2,     257.2,2,    26.70,2,    19.63,2,     0.00,2,     1.34,2, -999.000,9, -999.000,9, -999.000,9, -999.000,9,    -94.3,2,     0.98,2,   -999.0,9,   -999.0,9,-999.0000,9,  -999.0,9, -999.0, -999.00,9,  -999.0,     2.4, -999.00,9
31RBOACES24N_2,  AR01,    71,  1,     11,2,19980210,1937, 24.5000, -55.9332, 6463,   2648.1,   2.9980,  34.9550,  34.9570,2,    257.8,2,     258.2,2,    28.60,2,    19.83,2,     0.00,2,     1.35,2, -999.000,9, -999.000,9, -999.000,9, -999.000,9,   -119.0,2,     0.95,2,   2172.5,2,   2333.8,2,   7.7373,2,   719.8,2,   20.0, -999.00,9,   343.0,     3.0, -999.00,9
31RBOACES24N_2,  AR01,    71,  1,     10,2,19980210,1937, 24.5000, -55.9332, 6463,   2949.4,   2.8010,  34.9380,  34.9380,2,    260.3,2,     259.8,2,    31.00,2,    19.83,2,     0.00,2,     1.36,2, -999.000,9, -999.000,9, -999.000,9, -999.000,9,    -92.6,2,     0.96,2,   -999.0,9,   -999.0,9,-999.0000,9,  -999.0,9, -999.0, -999.00,9,  -999.0,     3.0, -999.00,9
31RBOACES24N_2,  AR01,    71,  1,      9,2,19980210,1937, 24.5000, -55.9332, 6463,   3254.0,   2.6600,  34.9250,  34.9260,2,    261.4,2,     261.0,2,    32.70,2,    19.92,2,     0.00,2,     1.37,2, -999.000,9, -999.000,9, -999.000,9, -999.000,9,   -112.6,2,     0.94,2,   2175.1,2,   2337.3,2,   7.7375,2,  -999.0,9, -999.0, -999.00,9,  -999.0,     5.5, -999.00,9
31RBOACES24N_2,  AR01,    71,  1,      8,2,19980210,1937, 24.5000, -55.9332, 6463,   3549.0,   2.4950,  34.9110,  34.9110,2,    263.4,2,     241.0,4,    34.90,2,    20.02,2,     0.00,2,     1.37,2, -999.000,9, -999.000,9, -999.000,9, -999.000,9,    -98.2,2,     0.98,2,   -999.0,9,   -999.0,9,-999.0000,9,  -999.0,9, -999.0, -999.00,9,  -999.0,     3.1, -999.00,9
31RBOACES24N_2,  AR01,    71,  1,      7,2,19980210,1937, 24.5000, -55.9332, 6463,   3849.9,   2.3680,  34.9010,  34.9000,2,    266.1,2,     265.5,2,    35.30,2,    19.73,2,     0.00,2,     1.36,2, -999.000,9, -999.000,9, -999.000,9, -999.000,9,   -999.0,9,     1.49,3,   -999.0,9,   -999.0,9,-999.0000,9,  -999.0,9, -999.0, -999.00,9,  -999.0,  -999.0, -999.00,9
31RBOACES24N_2,  AR01,    71,  1,      6,2,19980210,1937, 24.5000, -55.9332, 6463,   4249.7,   2.2940,  34.8940,  34.8960,2,    270.7,2,     268.4,2,    34.60,2,    19.44,2,     0.00,2,     1.35,2, -999.000,9, -999.000,9, -999.000,9, -999.000,9,    -90.1,2,     0.48,4,   2174.8,2,   2337.9,2,   7.7353,2,   724.4,2,   20.0, -999.00,9,   333.1,     2.8, -999.00,9
31RBOACES24N_2,  AR01,    71,  1,      5,2,19980210,1937, 24.5000, -55.9332, 6463,   4545.8,   2.2490,  34.8870,  34.8860,2,    268.6,2,     266.7,2,    37.50,2,    19.83,2,     0.00,2,     1.37,2, -999.000,9, -999.000,9, -999.000,9, -999.000,9,    -94.6,2,     0.97,2,   -999.0,9,   -999.0,9,-999.0000,9,  -999.0,9, -999.0, -999.00,9,  -999.0,     2.5, -999.00,9
31RBOACES24N_2,  AR01,    71,  1,      4,2,19980210,1937, 24.5000, -55.9332, 6463,   5050.2,   2.0730,  34.8580,  34.8590,2,    259.4,2,     255.8,2,    50.60,2,    21.78,2,     0.00,2,     1.52,2, -999.000,9, -999.000,9, -999.000,9, -999.000,9,   -120.5,2,     0.83,2,   2193.4,2,   -999.0,5,   7.7157,6,   784.7,2,   20.0, -999.00,9,   356.9,     2.8, -999.00,9
31RBOACES24N_2,  AR01,    71,  1,      3,2,19980210,1937, 24.5000, -55.9332, 6463,   5547.7,   2.0140,  34.8430,  34.8420,2,    253.7,2,     254.5,2,    57.40,2,    22.76,2,     0.00,2,     1.59,2, -999.000,9, -999.000,9, -999.000,9, -999.000,9,   -106.4,2,     0.82,2,   -999.0,9,   -999.0,9,-999.0000,9,  -999.0,9, -999.0, -999.00,9,  -999.0,     3.0, -999.00,9
31RBOACES24N_2,  AR01,    71,  1,      2,2,19980210,1937, 24.5000, -55.9332, 6463,   6049.7,   2.0790,  34.8420,  34.8420,2,    254.6,2,     252.7,2,    57.70,2,    22.85,2,     0.00,2,     1.60,2, -999.000,9, -999.000,9, -999.000,9, -999.000,9,   -135.2,2,     0.80,2,   -999.0,9,   -999.0,9,-999.0000,9,   794.8,6,   20.0, -999.00,9,   361.1,     2.9, -999.00,9
31RBOACES24N_2,  AR01,    71,  1,      1,2,19980210,1937, 24.5000, -55.9332, 6463,   6594.1,   2.1590,  34.8420,  34.8430,2,    255.5,2,     254.4,2,    57.70,2,    22.85,6,     0.00,6,     1.60,6, -999.000,9, -999.000,9, -999.000,9, -999.000,9,   -136.9,2,     0.84,2,   2202.7,2,   -999.0,5,   7.7046,2,   793.4,2,   20.0, -999.00,9,   361.9,     6.3, -999.00,9