BOTTLE,20220820CCHSIOAMB
EXPOCODE,SECT_ID,STNNBR,CASTNO,BTLNBR,BTLNBR_FLAG_W,DATE,TIME,LATITUDE,LONGITUDE,DEPTH,CTDPRS,CTDTMP,CTDSAL,SALNTY,SALNTY_FLAG_W,CTDOXY,CTDOXY_FLAG_W,OXYGEN,OXYGEN_FLAG_W,SILCAT,SILCAT_FLAG_W,NITRAT,NITRAT_FLAG_W,NITRIT,NITRIT_FLAG_W,PHSPHT,PHSPHT_FLAG_W,CFC-11,CFC-11_FLAG_W,CFC-12,CFC-12_FLAG_W,CFC113,CFC113_FLAG_W,CCL4,CCL4_FLAG_W,DELC14,DELC14_FLAG_W,DELC13,DELC13_FLAG_W,TCARBN,TCARBN_FLAG_W,ALKALI,ALKALI_FLAG_W,PH,PH_FLAG_W,FCO2,FCO2_FLAG_W,FCO2TMP,TON,TON_FLAG_W,FCO2IN,C14ERR,TOC,TOC_FLAG_W
,,,,,,,,,,,DBAR,ITS-90,PSS-78,PSS-78,,UMOL/KG,,UMOL/KG,,UMOL/KG,,UMOL/KG,,UMOL/KG,,UMOL/KG,,PMOL/KG,,PMOL/KG,,PMOL/KG,,PMOL/KG,,/MILLE,,/MILLE,,UMOL/KG,,UMOL/KG,,,,UATM,,DEG C,UMOL/KG,,UATM,/MILLE,UMOL/KG,
31RBOACES24N_2,  AR01,    33,  1,     36,2,19980131,1149, 24.4998, -31.9163, 5998,      3.2,  23.0780,  37.5660,  37.5650,2,    214.1,2,     215.5,2,     0.50,2,     0.00,2,     0.00,2,  -999.00,5, -999.000,9, -999.000,9, -999.000,9,    1.957,2,   -999.0,9,     1.44,2,   2100.3,2,   2458.5,2,   8.0717,2,   308.6,2,   20.0, -999.00,9,   348.6,  -999.0, -999.00,9
31RBOACES24N_2,  AR01,    33,  1,     35,2,19980131,1149, 24.4998, -31.9163, 5998,     61.0,  22.9310,  37.5510,  37.5520,2,    218.4,2,     215.4,2,     0.50,2,     0.00,2,     0.00,2,  -999.00,5, -999.000,9, -999.000,9, -999.000,9,    1.911,6,   -999.0,9,  -999.00,9,   2100.6,6,   2464.1,2,   8.0698,2,   310.1,2,   20.0, -999.00,9,   348.2,  -999.0, -999.00,9
31RBOACES24N_2,  AR01,    33,  1,     34,2,19980131,1149, 24.4998, -31.9163, 5998,    110.5,  22.7670,  37.5160,  37.5130,2,    217.6,2,     216.1,2,     0.50,2,     0.00,2,     0.00,2,  -999.00,5, -999.000,9, -999.000,9, -999.000,9,    1.833,2,   -999.0,9,  -999.00,9,   2101.3,2,   2454.0,2,   8.0651,2,   312.8,2,   20.0, -999.00,9,   349.1,  -999.0, -999.00,9
31RBOACES24N_2,  AR01,    33,  1,     33,2,19980131,1149, 24.4998, -31.9163, 5998,    150.9,  20.5370,  37.0830,  37.0800,2,    212.7,2,     215.4,2,     0.60,2,     0.29,2,     0.04,2,  -999.00,5, -999.000,9, -999.000,9, -999.000,9, -999.000,9,   -999.0,9,  -999.00,9,   2107.1,2,   2431.1,2,   8.0214,2,   354.1,2,   20.0, -999.00,9,   361.8,  -999.0, -999.00,9
31RBOACES24N_2,  AR01,    33,  1,     32,2,19980131,1149, 24.4998, -31.9163, 5998,    200.0,  18.8240,  36.7590,  36.7600,2,    201.9,2,     204.1,2,     1.00,2,     2.44,2,     0.01,2,  -999.00,5, -999.000,9, -999.000,9, -999.000,9,    0.942,2,   -999.0,9,  -999.00,9,   2111.8,2,   2405.6,2,   7.9855,2,   389.2,2,   20.0, -999.00,9,   370.4,  -999.0, -999.00,9
31RBOACES24N_2,  AR01,    33,  1,     31,2,19980131,1149, 24.4998, -31.9163, 5998,    225.6,  18.3080,  36.6560,  36.6580,2,    201.7,2,     202.2,2,     1.10,2,     3.41,2,     0.01,2,  -999.00,5, -999.000,9, -999.000,9, -999.000,9, -999.000,9,   -999.0,9,  -999.00,9,   -999.0,9,   -999.0,9,-999.0000,9,  -999.0,9, -999.0, -999.00,9,  -999.0,  -999.0, -999.00,9
31RBOACES24N_2,  AR01,    33,  1,     30,2,19980131,1149, 24.4998, -31.9163, 5998,    248.6,  17.7930,  36.5500,  36.5540,2,    200.0,2,     200.8,2,     1.50,2,     4.29,2,     0.00,2,  -999.00,5, -999.000,9, -999.000,9, -999.000,9,    0.696,2,   -999.0,9,  -999.00,9,   2112.1,2,   2395.0,2,   7.9655,2,   410.3,2,   20.0, -999.00,9,   375.3,  -999.0, -999.00,9
31RBOACES24N_2,  AR01,    33,  1,     29,2,19980131,1149, 24.4998, -31.9163, 5998,    268.8,  17.4040,  36.4770,  36.4780,2,    195.1,2,     199.0,2,     1.60,2,     5.07,2,     0.00,2,  -999.00,5, -999.000,9, -999.000,9, -999.000,9, -999.000,9,   -999.0,9,  -999.00,9,   -999.0,9,   -999.0,9,-999.0000,9,  -999.0,9, -999.0, -999.00,9,  -999.0,  -999.0, -999.00,9
31RBOACES24N_2,  AR01,    33,  1,     28,2,19980131,1149, 24.4998, -31.9163, 5998,    298.9,  16.9840,  36.4160,  36.4170,2,    191.8,2,     193.2,2,     1.90,2,     6.24,2,     0.00,2,  -999.00,5, -999.000,9, -999.000,9, -999.000,9,    0.562,2,   -999.0,9,  -999.00,9,   2123.6,2,   2388.7,2,   7.9348,2,   448.5,2,   20.0, -999.00,9,   397.0,  -999.0, -999.00,9
31RBOACES24N_2,  AR01,    33,  1,     27,2,19980131,1149, 24.4998, -31.9163, 5998,    348.0,  15.9490,  36.2300,  36.2300,2,    184.1,2,     192.4,2,     2.50,2,     8.10,2,     0.00,2,  -999.00,5, -999.000,9, -999.000,9, -999.000,9, -999.000,9,   -999.0,9,  -999.00,9,   -999.0,9,   -999.0,9,-999.0000,9,  -999.0,9, -999.0, -999.00,9,  -999.0,  -999.0, -999.00,9
31RBOACES24N_2,  AR01,    33,  1,     26,2,19980131,1149, 24.4998, -31.9163, 5998,    400.2,  15.2620,  36.1240,  36.1190,2,    188.1,2,     178.4,2,     3.40,2,    10.54,2,     0.00,2,  -999.00,5, -999.000,9, -999.000,9, -999.000,9,    0.451,6,   -999.0,9,  -999.00,9,   2140.9,2,   2369.6,2,   7.8740,6,   514.7,2,   20.0, -999.00,9,   424.4,  -999.0, -999.00,9
31RBOACES24N_2,  AR01,    33,  1,     25,2,19980131,1149, 24.4998, -31.9163, 5998,    452.1,  14.0630,  35.9310,  35.9360,2,    191.7,2,     183.5,2,     4.10,2,    11.81,2,     0.00,2,  -999.00,5, -999.000,9, -999.000,9, -999.000,9, -999.000,9,   -999.0,9,  -999.00,9,   -999.0,9,   -999.0,9,-999.0000,9,  -999.0,9, -999.0, -999.00,9,  -999.0,  -999.0, -999.00,9
31RBOACES24N_2,  AR01,    33,  1,     24,2,19980131,1149, 24.4998, -31.9163, 5998,    499.4,  13.1710,  35.8010,  35.8040,2,    191.3,2,     186.4,2,     4.80,2,    12.98,2,     0.00,2,  -999.00,5, -999.000,9, -999.000,9, -999.000,9,    0.522,2,   -999.0,9,  -999.00,9,   2144.6,2,   2353.7,2,   7.8366,2,  -999.0,9, -999.0, -999.00,9,  -999.0,  -999.0, -999.00,9
31RBOACES24N_2,  AR01,    33,  1,     23,2,19980131,1149, 24.4998, -31.9163, 5998,    552.0,  12.4500,  35.6990,  35.6970,2,    188.3,2,     184.3,2,     5.60,2,    14.64,2,     0.00,2,  -999.00,5, -999.000,9, -999.000,9, -999.000,9, -999.000,9,   -999.0,9,  -999.00,9,   -999.0,9,   -999.0,9,-999.0000,9,  -999.0,9, -999.0, -999.00,9,  -999.0,  -999.0, -999.00,9
31RBOACES24N_2,  AR01,    33,  1,     22,2,19980131,1149, 24.4998, -31.9163, 5998,    601.2,  11.8040,  35.6130,  35.6130,2,    183.8,2,     180.9,2,     6.50,2,    16.11,2,     0.00,2,  -999.00,5, -999.000,9, -999.000,9, -999.000,9,    0.501,2,   -999.0,9,  -999.00,9,   2156.4,2,   -999.0,5,   7.7904,2,   635.4,2,   20.0, -999.00,9,   453.8,  -999.0, -999.00,9
31RBOACES24N_2,  AR01,    33,  1,     21,2,19980131,1149, 24.4998, -31.9163, 5998,    699.2,  10.5110,  35.4750,  35.4830,2,    162.6,2,     162.1,2,     9.60,2,    20.11,2,     0.00,2,  -999.00,5, -999.000,9, -999.000,9, -999.000,9, -999.000,9,   -999.0,9,  -999.00,9,   -999.0,9,   -999.0,9,-999.0000,9,  -999.0,9, -999.0, -999.00,9,  -999.0,  -999.0, -999.00,9
31RBOACES24N_2,  AR01,    33,  1,     20,2,19980131,1149, 24.4998, -31.9163, 5998,    800.5,   8.9770,  35.3040,  35.3070,2,    145.2,2,     141.7,2,    14.20,2,    25.00,2,     0.00,2,  -999.00,5, -999.000,9, -999.000,9, -999.000,9,    0.105,2,   -999.0,9,  -999.00,9,   2195.5,2,   -999.0,5,   7.6778,2,   853.0,2,   20.0, -999.00,9,   541.4,  -999.0, -999.00,9
31RBOACES24N_2,  AR01,    33,  1,     19,2,19980131,1149, 24.4998, -31.9163, 5998,    900.2,   7.6720,  35.1790,  35.1770,2,    146.9,2,     148.6,2,    17.10,2,    26.27,2,     0.00,2,  -999.00,5, -999.000,9, -999.000,9, -999.000,9, -999.000,9,   -999.0,9,  -999.00,9,   -999.0,9,   -999.0,9,-999.0000,9,  -999.0,9, -999.0, -999.00,9,  -999.0,  -999.0, -999.00,9
31RBOACES24N_2,  AR01,    33,  1,     18,2,19980131,1149, 24.4998, -31.9163, 5998,   1049.0,   6.5990,  35.1100,  35.1110,2,    164.8,2,     166.0,2,    18.60,2,    25.78,2,     0.00,2,  -999.00,5, -999.000,9, -999.000,9, -999.000,9, -999.000,9,   -999.0,9,  -999.00,9,   2199.0,6,   -999.0,5,   7.6632,2,   884.6,2,   20.0, -999.00,9,   504.9,  -999.0, -999.00,9
31RBOACES24N_2,  AR01,    33,  1,     17,2,19980131,1149, 24.4998, -31.9163, 5998,   1252.0,   5.9170,  35.1320,  35.1310,2,    192.7,2,     190.9,2,    18.20,2,    23.64,2,     0.00,2,  -999.00,5, -999.000,9, -999.000,9, -999.000,9,    0.074,2,   -999.0,9,  -999.00,9,   -999.0,9,   -999.0,9,-999.0000,9,  -999.0,9, -999.0, -999.00,9,  -999.0,  -999.0, -999.00,9
31RBOACES24N_2,  AR01,    33,  1,     16,2,19980131,1149, 24.4998, -31.9163, 5998,   1451.0,   5.4580,  35.1550,  35.1530,2,    210.8,2,     208.9,2,    18.10,2,    21.88,2,     0.00,2,  -999.00,5, -999.000,9, -999.000,9, -999.000,9, -999.000,9,   -999.0,9,  -999.00,9,   2183.8,2,   -999.0,5,   7.7104,2,  -999.0,9, -999.0, -999.00,9,  -999.0,  -999.0, -999.00,9
31RBOACES24N_2,  AR01,    33,  1,     15,2,19980131,1149, 24.4998, -31.9163, 5998,   1651.4,   4.8990,  35.1400,  35.1370,2,    224.5,2,     222.4,2,    19.40,2,    21.00,2,     0.00,2,  -999.00,5, -999.000,9, -999.000,9, -999.000,9, -999.000,9,   -999.0,9,  -999.00,9,   -999.0,9,   -999.0,9,-999.0000,9,  -999.0,9, -999.0, -999.00,9,  -999.0,  -999.0, -999.00,9
31RBOACES24N_2,  AR01,    33,  1,     14,2,19980131,1149, 24.4998, -31.9163, 5998,   1851.4,   4.3340,  35.0900,  35.0900,2,    232.4,2,     232.0,2,    21.10,2,    20.80,2,     0.00,2,  -999.00,5, -999.000,9, -999.000,9, -999.000,9, -999.000,9,   -999.0,9,  -999.00,9,   -999.0,9,   -999.0,9,-999.0000,9,  -999.0,9, -999.0, -999.00,9,  -999.0,  -999.0, -999.00,9
31RBOACES24N_2,  AR01,    33,  1,     13,2,19980131,1149, 24.4998, -31.9163, 5998,   2046.5,   3.9310,  35.0550,  35.0550,2,    240.8,2,     239.6,2,    22.80,2,    20.32,2,     0.00,2,  -999.00,5, -999.000,9, -999.000,9, -999.000,9,    0.060,2,   -999.0,9,  -999.00,9,   2177.4,2,   -999.0,9,   7.7311,2,   740.4,2,   20.0, -999.00,9,   370.0,  -999.0, -999.00,9
31RBOACES24N_2,  AR01,    33,  1,     12,2,19980131,1149, 24.4998, -31.9163, 5998,   2252.2,   3.5670,  35.0200,  35.0210,2,    247.6,2,     245.3,2,    24.80,2,    20.32,2,     0.00,2,  -999.00,5, -999.000,9, -999.000,9, -999.000,9, -999.000,9,   -999.0,9,  -999.00,9,   -999.0,9,   -999.0,9,-999.0000,9,  -999.0,9, -999.0, -999.00,9,  -999.0,  -999.0, -999.00,9
31RBOACES24N_2,  AR01,    33,  1,     11,2,19980131,1149, 24.4998, -31.9163, 5998,   2450.8,   3.2230,  34.9880,  34.9880,2,    251.1,2,     249.4,2,    27.80,2,    20.32,2,     0.00,2,  -999.00,5, -999.000,9, -999.000,9, -999.000,9, -999.000,9,   -999.0,9,  -999.00,9,   2179.1,2,   -999.0,5,   7.7336,2,  -999.0,9, -999.0, -999.00,9,  -999.0,  -999.0, -999.00,9
31RBOACES24N_2,  AR01,    33,  1,     10,2,19980131,1149, 24.4998, -31.9163, 5998,   2650.8,   2.9840,  34.9650,  34.9640,2,    250.8,2,     248.6,2,    31.50,2,    20.71,2,     0.00,2,  -999.00,5, -999.000,9, -999.000,9, -999.000,9, -999.000,9,   -999.0,9,  -999.00,9,   -999.0,9,   -999.0,9,-999.0000,9,  -999.0,9, -999.0, -999.00,9,  -999.0,  -999.0, -999.00,9
31RBOACES24N_2,  AR01,    33,  1,      9,2,19980131,1149, 24.4998, -31.9163, 5998,   2851.7,   2.8110,  34.9470,  34.9460,2,    252.1,2,     249.0,2,    34.40,2,    20.90,2,     0.00,2,  -999.00,5, -999.000,9, -999.000,9, -999.000,9,    0.019,2,   -999.0,9,  -999.00,9,   -999.0,9,   -999.0,9,-999.0000,9,  -999.0,9, -999.0, -999.00,9,  -999.0,  -999.0, -999.00,9
31RBOACES24N_2,  AR01,    33,  1,      8,2,19980131,1149, 24.4998, -31.9163, 5998,   3049.4,   2.6860,  34.9350,  34.9340,2,    251.3,2,     248.5,2,    36.80,2,    21.20,2,     0.00,2,  -999.00,5, -999.000,9, -999.000,9, -999.000,9, -999.000,9,   -999.0,9,  -999.00,9,   2189.8,2,   -999.0,5,   7.7316,2,   748.4,2,   20.0, -999.00,9,   351.1,  -999.0, -999.00,9
31RBOACES24N_2,  AR01,    33,  1,      7,3,19980131,1149, 24.4998, -31.9163, 5998,   3539.3,   2.5020,  34.9140,  34.9130,2,    251.6,2,     249.7,2,    41.00,2,    21.59,2,     0.00,2,  -999.00,5, -999.000,9, -999.000,9, -999.000,9, -999.000,9,   -999.0,9,  -999.00,9,   -999.0,9,   -999.0,9,-999.0000,9,  -999.0,9, -999.0, -999.00,9,  -999.0,  -999.0, -999.00,9
31RBOACES24N_2,  AR01,    33,  1,      6,2,19980131,1149, 24.4998, -31.9163, 5998,   3948.8,   2.4370,  34.9030,  34.9030,2,    248.4,2,     249.2,2,    42.90,2,    21.88,2,     0.00,2,  -999.00,5, -999.000,9, -999.000,9, -999.000,9, -999.000,9,   -999.0,9,  -999.00,9,   2195.8,2,   -999.0,5,   7.7277,2,   755.4,2,   20.0, -999.00,9,   349.7,  -999.0, -999.00,9
31RBOACES24N_2,  AR01,    33,  1,      5,2,19980131,1149, 24.4998, -31.9163, 5998,   4348.5,   2.3950,  34.8940,  34.8930,2,    248.6,2,     248.8,2,    44.70,2,    21.88,2,     0.00,2,  -999.00,5, -999.000,9, -999.000,9, -999.000,9,    0.005,2,   -999.0,9,  -999.00,9,   -999.0,9,   -999.0,9,-999.0000,9,  -999.0,9, -999.0, -999.00,9,  -999.0,  -999.0, -999.00,9
31RBOACES24N_2,  AR01,    33,  1,      4,2,19980131,1149, 24.4998, -31.9163, 5998,   4735.3,   2.3930,  34.8890,  34.8880,2,    249.0,2,     248.6,2,    45.80,2,  -999.00,5,     0.00,2,  -999.00,5, -999.000,9, -999.000,9, -999.000,9, -999.000,9,   -999.0,9,  -999.00,9,   -999.0,9,   -999.0,9,-999.0000,9,  -999.0,9, -999.0, -999.00,9,  -999.0,  -999.0, -999.00,9
31RBOACES24N_2,  AR01,    33,  1,      3,2,19980131,1149, 24.4998, -31.9163, 5998,   5099.0,   2.4080,  34.8860,  34.8840,2,    248.1,2,     249.3,2,    46.50,2,    21.98,2,     0.00,2,  -999.00,5, -999.000,9, -999.000,9, -999.000,9, -999.000,9,   -999.0,9,  -999.00,9,   -999.0,9,   -999.0,9,-999.0000,9,  -999.0,9, -999.0, -999.00,9,  -999.0,  -999.0, -999.00,9
31RBOACES24N_2,  AR01,    33,  1,      2,2,19980131,1149, 24.4998, -31.9163, 5998,   5498.7,   2.4460,  34.8840,  34.8830,2,    251.0,2,     249.9,2,    47.00,2,    22.08,2,     0.00,2,  -999.00,5, -999.000,9, -999.000,9, -999.000,9, -999.000,9,   -999.0,9,  -999.00,9,   -999.0,9,   -999.0,9,-999.0000,9,  -999.0,9, -999.0, -999.00,9,  -999.0,  -999.0, -999.00,9
31RBOACES24N_2,  AR01,    33,  1,      1,2,19980131,1149, 24.4998, -31.9163, 5998,   6043.5,   2.5110,  34.8820,  34.8830,2,    251.3,2,     250.7,6,    47.30,6,    22.17,6,     0.00,6,  -999.00,5, -999.000,9, -999.000,9, -999.000,9,    0.030,6,   -999.0,9,  -999.00,9,   2199.0,2,   -999.0,5,   7.7225,2,   770.1,2,   20.0, -999.00,9,   357.7,  -999.0, -999.00,9