BOTTLE,20220820CCHSIOAMB
EXPOCODE,SECT_ID,STNNBR,CASTNO,BTLNBR,BTLNBR_FLAG_W,DATE,TIME,LATITUDE,LONGITUDE,DEPTH,CTDPRS,CTDTMP,CTDSAL,SALNTY,SALNTY_FLAG_W,CTDOXY,CTDOXY_FLAG_W,OXYGEN,OXYGEN_FLAG_W,SILCAT,SILCAT_FLAG_W,NITRAT,NITRAT_FLAG_W,NITRIT,NITRIT_FLAG_W,PHSPHT,PHSPHT_FLAG_W,CFC-11,CFC-11_FLAG_W,CFC-12,CFC-12_FLAG_W,CFC113,CFC113_FLAG_W,CCL4,CCL4_FLAG_W,DELC14,DELC14_FLAG_W,DELC13,DELC13_FLAG_W,TCARBN,TCARBN_FLAG_W,ALKALI,ALKALI_FLAG_W,PH,PH_FLAG_W,FCO2,FCO2_FLAG_W,FCO2TMP,TON,TON_FLAG_W,FCO2IN,C14ERR,TOC,TOC_FLAG_W
,,,,,,,,,,,DBAR,ITS-90,PSS-78,PSS-78,,UMOL/KG,,UMOL/KG,,UMOL/KG,,UMOL/KG,,UMOL/KG,,UMOL/KG,,PMOL/KG,,PMOL/KG,,PMOL/KG,,PMOL/KG,,/MILLE,,/MILLE,,UMOL/KG,,UMOL/KG,,,,UATM,,DEG C,UMOL/KG,,UATM,/MILLE,UMOL/KG,
31RBOACES24N_2,  AR01,    39,  1,     36,2,19980202,0933, 24.4995, -36.8665, 5181,      4.3,  23.8170,  37.5750,  37.5740,3,    214.3,3,     212.8,2,     1.00,3,     0.00,2,     0.00,2,  -999.00,5,    1.872,2,    1.085,2,    0.149,2,    1.752,2,   -999.0,9,     1.59,2,   2090.3,6,   -999.0,9,   8.0834,2,   295.5,2,   20.0, -999.00,9,   343.5,  -999.0, -999.00,9
31RBOACES24N_2,  AR01,    39,  1,     35,2,19980202,0933, 24.4995, -36.8665, 5181,     49.5,  23.7870,  37.5690,  37.5670,3,    212.2,3,     213.2,2,     1.10,3,     0.00,2,     0.00,2,  -999.00,5, -999.000,9, -999.000,9, -999.000,9, -999.000,9,   -999.0,9,  -999.00,9,   -999.0,9,   -999.0,9,-999.0000,9,  -999.0,9, -999.0, -999.00,9,  -999.0,  -999.0, -999.00,9
31RBOACES24N_2,  AR01,    39,  1,     34,2,19980202,0933, 24.4995, -36.8665, 5181,     89.7,  22.6320,  37.3380,  37.3150,3,    216.8,3,     217.6,2,     1.20,3,     0.00,2,     0.00,2,  -999.00,5,    2.078,2,    1.190,2,    0.163,2, -999.000,9,   -999.0,9,  -999.00,9,   2099.3,2,   -999.0,9,   8.0504,2,   324.0,2,   20.0, -999.00,9,   363.1,  -999.0, -999.00,9
31RBOACES24N_2,  AR01,    39,  1,     33,2,19980202,0933, 24.4995, -36.8665, 5181,    150.3,  20.1330,  36.9910,  36.9830,3,    203.2,3,     207.1,2,     1.40,3,     0.88,2,     0.02,2,  -999.00,5,    2.241,2,    1.283,2,    0.136,2,    1.134,2,   -999.0,9,  -999.00,9,   2107.4,2,   -999.0,9,   8.0105,2,   362.5,2,   20.0, -999.00,9,   364.5,  -999.0, -999.00,9
31RBOACES24N_2,  AR01,    39,  1,     32,2,19980202,0933, 24.4995, -36.8665, 5181,    200.2,  18.7740,  36.7350,  36.7260,3,    200.2,3,     200.2,2,     1.80,3,     2.93,2,     0.00,2,  -999.00,5, -999.000,9, -999.000,9, -999.000,9, -999.000,9,   -999.0,9,  -999.00,9,   2110.6,2,   -999.0,9,   7.9823,2,   389.4,2,   20.0, -999.00,9,   370.4,  -999.0, -999.00,9
31RBOACES24N_2,  AR01,    39,  1,     31,2,19980202,0933, 24.4995, -36.8665, 5181,    225.5,  18.2660,  36.6290,  36.6250,3,    200.5,3,     200.8,2,     2.00,3,     3.61,2,     0.00,2,  -999.00,5,    2.323,2,    1.305,2,    0.052,2,    0.731,2,   -999.0,9,  -999.00,9,   -999.0,9,   -999.0,9,-999.0000,9,  -999.0,9, -999.0, -999.00,9,  -999.0,  -999.0, -999.00,9
31RBOACES24N_2,  AR01,    39,  1,     30,2,19980202,0933, 24.4995, -36.8665, 5181,    250.3,  17.7520,  36.5400,  36.5440,3,    198.6,3,     194.8,2,     2.50,3,     5.07,2,     0.00,2,  -999.00,5, -999.000,9, -999.000,9, -999.000,9, -999.000,9,   -999.0,9,  -999.00,9,   2116.1,2,   -999.0,9,   7.9506,2,   418.3,2,   20.0, -999.00,9,   383.2,  -999.0, -999.00,9
31RBOACES24N_2,  AR01,    39,  1,     29,2,19980202,0933, 24.4995, -36.8665, 5181,    265.0,  17.4790,  36.4820,  36.4710,3,    196.7,3,     196.4,2,     2.60,3,     5.56,2,     0.00,2,  -999.00,5,    2.316,2,    1.281,2,    0.030,2,    0.566,6,   -999.0,9,  -999.00,9,   -999.0,9,   -999.0,9,-999.0000,9,  -999.0,9, -999.0, -999.00,9,  -999.0,  -999.0, -999.00,9
31RBOACES24N_2,  AR01,    39,  1,     28,2,19980202,0933, 24.4995, -36.8665, 5181,    302.5,  16.7330,  36.3640,  36.3600,3,    198.2,3,     197.3,2,     3.10,3,     6.54,2,     0.00,2,  -999.00,5, -999.000,9, -999.000,9, -999.000,9, -999.000,9,   -999.0,9,  -999.00,9,   2119.3,2,   -999.0,9,   7.9365,2,   439.5,2,   20.0, -999.00,9,   385.4,  -999.0, -999.00,9
31RBOACES24N_2,  AR01,    39,  1,     27,2,19980202,0933, 24.4995, -36.8665, 5181,    350.3,  16.2800,  36.2980,  36.2840,3,    199.2,3,     193.6,2,     3.70,3,     7.61,2,     0.00,2,  -999.00,5,    2.359,2,    1.271,2,    0.030,2,    0.493,2,   -999.0,9,  -999.00,9,   -999.0,9,   -999.0,9,-999.0000,9,  -999.0,9, -999.0, -999.00,9,  -999.0,  -999.0, -999.00,9
31RBOACES24N_2,  AR01,    39,  1,     26,2,19980202,0933, 24.4995, -36.8665, 5181,    397.2,  15.1840,  36.0980,  36.1020,3,    193.1,3,     190.1,2,     4.50,3,     9.57,2,     0.00,2,  -999.00,5, -999.000,9, -999.000,9, -999.000,9, -999.000,9,   -999.0,9,  -999.00,9,   2132.1,2,   -999.0,9,   7.8864,2,   493.7,2,   20.0, -999.00,9,   405.6,  -999.0, -999.00,9
31RBOACES24N_2,  AR01,    39,  1,     25,2,19980202,0933, 24.4995, -36.8665, 5181,    450.3,  14.1160,  35.9350,  35.9240,3,    192.0,3,     188.4,2,     5.40,3,    11.52,2,     0.00,2,  -999.00,5, -999.000,9, -999.000,9, -999.000,9, -999.000,9,   -999.0,9,  -999.00,9,   -999.0,9,   -999.0,9,-999.0000,9,  -999.0,9, -999.0, -999.00,9,  -999.0,  -999.0, -999.00,9
31RBOACES24N_2,  AR01,    39,  1,     24,2,19980202,0933, 24.4995, -36.8665, 5181,    499.1,  13.3380,  35.8190,  35.8130,3,    189.6,3,     185.9,2,     6.00,3,    12.99,2,     0.00,2,  -999.00,5,    2.049,6,    1.063,6,    0.032,6,    0.522,2,   -999.0,9,  -999.00,9,   2144.6,2,   -999.0,9,   7.8380,2,   567.0,2,   20.0, -999.00,9,   431.4,  -999.0, -999.00,9
31RBOACES24N_2,  AR01,    39,  1,     23,2,19980202,0933, 24.4995, -36.8665, 5181,    549.2,  12.5980,  35.7110,  35.7150,3,    187.7,3,     180.9,2,     6.70,3,    14.65,2,     0.00,2,  -999.00,5, -999.000,9, -999.000,9, -999.000,9, -999.000,9,   -999.0,9,  -999.00,9,   -999.0,9,   -999.0,9,-999.0000,9,  -999.0,9, -999.0, -999.00,9,  -999.0,  -999.0, -999.00,9
31RBOACES24N_2,  AR01,    39,  1,     22,2,19980202,0933, 24.4995, -36.8665, 5181,    600.4,  11.7640,  35.6030,  35.5890,3,    177.9,3,     166.6,2,     8.60,3,    17.87,2,     0.00,2,  -999.00,5, -999.000,9, -999.000,9, -999.000,9, -999.000,9,   -999.0,9,  -999.00,9,   2163.7,2,   -999.0,9,   7.7663,2,   666.1,2,   20.0, -999.00,9,   475.5,  -999.0, -999.00,9
31RBOACES24N_2,  AR01,    39,  1,     21,2,19980202,0933, 24.4995, -36.8665, 5181,    649.4,  10.9000,  35.5010,  35.4940,3,    165.3,3,     156.8,2,    10.50,3,    20.31,2,     0.00,2,  -999.00,5, -999.000,9, -999.000,9, -999.000,9, -999.000,9,   -999.0,9,  -999.00,9,   -999.0,9,   -999.0,9,-999.0000,9,  -999.0,9, -999.0, -999.00,9,  -999.0,  -999.0, -999.00,9
31RBOACES24N_2,  AR01,    39,  1,     20,2,19980202,0933, 24.4995, -36.8665, 5181,    700.1,  10.3120,  35.4350,  35.4290,3,    157.0,3,     151.7,2,    11.90,3,    21.88,2,     0.00,2,  -999.00,5,    0.661,2,    0.304,2,    0.006,2,    0.229,2,   -999.0,9,  -999.00,9,   -999.0,9,   -999.0,9,-999.0000,9,  -999.0,9, -999.0, -999.00,9,  -999.0,  -999.0, -999.00,9
31RBOACES24N_2,  AR01,    39,  1,     19,2,19980202,0933, 24.4995, -36.8665, 5181,    799.9,   9.2910,  35.3360,  35.3340,3,    149.0,3,     147.8,2,    14.60,3,    23.74,2,     0.00,2,  -999.00,5, -999.000,9, -999.000,9, -999.000,9, -999.000,9,   -999.0,9,  -999.00,9,   2189.3,2,   -999.0,9,   7.6914,2,   810.3,2,   20.0, -999.00,9,   520.4,  -999.0, -999.00,9
31RBOACES24N_2,  AR01,    39,  1,     18,2,19980202,0933, 24.4995, -36.8665, 5181,    899.8,   8.1310,  35.2110,  35.2110,3,    149.7,3,     148.5,2,    17.50,3,    25.69,2,     0.00,2,  -999.00,5,    0.146,2,    0.058,2,    0.002,2, -999.000,9,   -999.0,9,  -999.00,9,   -999.0,9,   -999.0,9,-999.0000,9,  -999.0,9, -999.0, -999.00,9,  -999.0,  -999.0, -999.00,9
31RBOACES24N_2,  AR01,    39,  1,     17,2,19980202,0933, 24.4995, -36.8665, 5181,   1097.7,   6.4260,  35.0770,  35.0760,3,    170.3,3,     163.1,2,    20.10,3,    25.89,2,     0.00,2,  -999.00,5,    0.040,2,    0.020,2,   -0.002,2,    0.077,2,   -999.0,9,  -999.00,9,   2197.5,6,   -999.0,9,   7.6608,2,   877.8,2,   20.0, -999.00,9,   496.9,  -999.0, -999.00,9
31RBOACES24N_2,  AR01,    39,  1,     16,2,19980202,0933, 24.4995, -36.8665, 5181,   1298.5,   5.7120,  35.1030,  35.1020,3,    199.0,3,     196.1,2,    19.10,3,    23.45,2,     0.00,2,  -999.00,5,    0.029,2,    0.012,2,    0.006,2, -999.000,9,   -999.0,9,  -999.00,9,   -999.0,9,   -999.0,9,-999.0000,9,  -999.0,9, -999.0, -999.00,9,  -999.0,  -999.0, -999.00,9
31RBOACES24N_2,  AR01,    39,  1,     15,2,19980202,0933, 24.4995, -36.8665, 5181,   1499.5,   5.1990,  35.1160,  35.1160,3,    215.0,3,     214.3,2,    18.10,3,    21.79,2,     0.00,2,  -999.00,5, -999.000,9, -999.000,9, -999.000,9, -999.000,9,   -999.0,9,  -999.00,9,   2181.0,2,   -999.0,9,   7.7057,2,   773.9,2,   20.0, -999.00,9,   411.7,  -999.0, -999.00,9
31RBOACES24N_2,  AR01,    39,  1,     14,2,19980202,0933, 24.4995, -36.8665, 5181,   1697.7,   4.6620,  35.0970,  35.0960,3,    230.3,3,     228.3,2,    17.90,2,    20.91,2,     0.00,2,  -999.00,5, -999.000,9, -999.000,9, -999.000,9, -999.000,9,   -999.0,9,  -999.00,9,   -999.0,9,   -999.0,9,-999.0000,9,  -999.0,9, -999.0, -999.00,9,  -999.0,  -999.0, -999.00,9
31RBOACES24N_2,  AR01,    39,  1,     13,2,19980202,0933, 24.4995, -36.8665, 5181,   1898.5,   4.3160,  35.0810,  35.0810,3,    235.9,3,     232.9,2,    19.60,2,    20.81,2,     0.00,2,  -999.00,5,    0.002,2,    0.000,2,    0.004,2,    0.055,2,   -999.0,9,  -999.00,9,   -999.0,9,   -999.0,9,-999.0000,9,  -999.0,9, -999.0, -999.00,9,  -999.0,  -999.0, -999.00,9
31RBOACES24N_2,  AR01,    39,  1,     12,2,19980202,0933, 24.4995, -36.8665, 5181,   2096.9,   3.8720,  35.0430,  35.0440,3,    241.9,3,     241.1,2,    21.70,2,    20.52,2,     0.00,2,  -999.00,5, -999.000,9, -999.000,9, -999.000,9, -999.000,9,   -999.0,9,  -999.00,9,   2174.5,2,   -999.0,9,   7.7310,2,   735.1,6,   20.0, -999.00,9,   366.4,  -999.0, -999.00,9
31RBOACES24N_2,  AR01,    39,  1,     11,2,19980202,0933, 24.4995, -36.8665, 5181,   2303.9,   3.4950,  35.0080,  35.0090,3,    245.9,3,     244.6,2,    24.40,2,    20.61,2,     0.00,2,  -999.00,5, -999.000,9, -999.000,9, -999.000,9, -999.000,9,   -999.0,9,  -999.00,9,   -999.0,9,   -999.0,9,-999.0000,9,  -999.0,9, -999.0, -999.00,9,  -999.0,  -999.0, -999.00,9
31RBOACES24N_2,  AR01,    39,  1,     10,2,19980202,0933, 24.4995, -36.8665, 5181,   2502.3,   3.2350,  34.9840,  34.9860,3,    246.8,3,     246.2,2,    27.40,2,    20.81,2,     0.00,2,  -999.00,5,    0.000,2,    0.000,2,    0.001,2,    0.022,6,   -999.0,9,  -999.00,9,   -999.0,9,   -999.0,9,-999.0000,9,  -999.0,9, -999.0, -999.00,9,  -999.0,  -999.0, -999.00,9
31RBOACES24N_2,  AR01,    39,  1,      9,2,19980202,0933, 24.4995, -36.8665, 5181,   2700.7,   2.9930,  34.9620,  34.9610,3,    247.8,3,     246.5,2,    30.80,2,    21.01,2,     0.00,2,  -999.00,5, -999.000,9, -999.000,9, -999.000,9, -999.000,9,   -999.0,9,  -999.00,9,   -999.0,9,   -999.0,9,-999.0000,9,  -999.0,9, -999.0, -999.00,9,  -999.0,  -999.0, -999.00,9
31RBOACES24N_2,  AR01,    39,  1,      8,2,19980202,0933, 24.4995, -36.8665, 5181,   3101.9,   2.7370,  34.9370,  34.9380,3,    247.4,3,     246.8,2,    35.30,2,    21.30,2,     0.00,2,  -999.00,5, -999.000,9, -999.000,9, -999.000,9, -999.000,9,   -999.0,9,  -999.00,9,   2189.8,2,   -999.0,9,   7.7246,2,  -999.0,9, -999.0, -999.00,9,  -999.0,  -999.0, -999.00,9
31RBOACES24N_2,  AR01,    39,  1,      7,2,19980202,0933, 24.4995, -36.8665, 5181,   3496.1,   2.5460,  34.9140,  34.9160,3,    250.1,3,     247.9,2,    39.30,2,    21.79,2,     0.00,2,  -999.00,5,    0.001,6,   -0.004,6,   -0.001,6,   -0.005,2,   -999.0,9,  -999.00,9,   -999.0,9,   -999.0,9,-999.0000,9,  -999.0,9, -999.0, -999.00,9,  -999.0,  -999.0, -999.00,9
31RBOACES24N_2,  AR01,    39,  1,      6,2,19980202,0933, 24.4995, -36.8665, 5181,   3995.1,   2.4410,  34.9000,  34.9020,3,    251.1,3,     249.4,2,    42.00,2,    21.98,2,     0.00,2,  -999.00,5, -999.000,9, -999.000,9, -999.000,9, -999.000,9,   -999.0,9,  -999.00,9,   2195.4,2,   -999.0,9,   7.7274,2,   754.7,2,   20.0, -999.00,9,   349.5,  -999.0, -999.00,9
31RBOACES24N_2,  AR01,    39,  1,      5,2,19980202,0933, 24.4995, -36.8665, 5181,   4601.1,   2.3860,  34.8890,  34.8890,3,    252.4,3,     250.5,2,    44.70,2,    22.08,2,     0.00,2,  -999.00,5,    0.000,2,   -0.002,2,    0.002,2,    0.027,2,   -999.0,9,  -999.00,9,   -999.0,9,   -999.0,9,-999.0000,9,  -999.0,9, -999.0, -999.00,9,  -999.0,  -999.0, -999.00,9
31RBOACES24N_2,  AR01,    39,  1,      2,2,19980202,0933, 24.4995, -36.8665, 5181,   5405.4,   2.4180,  34.8820,  34.8810,3,    251.8,3,     252.0,2,    47.00,2,    22.18,2,     0.00,2,  -999.00,5, -999.000,9, -999.000,9, -999.000,9, -999.000,9,   -999.0,9,  -999.00,9,   -999.0,9,   -999.0,9,-999.0000,9,  -999.0,9, -999.0, -999.00,9,  -999.0,  -999.0, -999.00,9
31RBOACES24N_2,  AR01,    39,  1,      4,2,19980202,0933, 24.4995, -36.8665, 5181,   5405.4,   2.4180,  34.8820,  34.8820,3,    251.8,3,     251.3,2,    47.80,3,    22.28,2,     0.00,2,  -999.00,5, -999.000,9, -999.000,9, -999.000,9, -999.000,9,   -999.0,9,  -999.00,9,   -999.0,9,   -999.0,9,-999.0000,9,  -999.0,9, -999.0, -999.00,9,  -999.0,  -999.0, -999.00,9
31RBOACES24N_2,  AR01,    39,  1,      3,2,19980202,0933, 24.4995, -36.8665, 5181,   5405.6,   2.4180,  34.8820,  34.8830,3,    251.8,3,     251.5,2,    46.80,2,    22.18,2,     0.00,2,  -999.00,5, -999.000,9, -999.000,9, -999.000,9, -999.000,9,   -999.0,9,  -999.00,9,   -999.0,9,   -999.0,9,-999.0000,9,  -999.0,9, -999.0, -999.00,9,  -999.0,  -999.0, -999.00,9
31RBOACES24N_2,  AR01,    39,  1,      1,2,19980202,0933, 24.4995, -36.8665, 5181,   5405.8,   2.4180,  34.8830,  34.8820,3,    251.8,3,     251.4,2,    47.10,6,    22.18,6,     0.00,6,  -999.00,5,    0.001,2,    0.007,2,    0.001,2,    0.028,2,   -999.0,9,  -999.00,9,   2199.8,2,   -999.0,9,   7.7222,2,   771.4,2,   20.0, -999.00,9,   356.7,  -999.0, -999.00,9