BOTTLE,20220820CCHSIOAMB
EXPOCODE,SECT_ID,STNNBR,CASTNO,BTLNBR,BTLNBR_FLAG_W,DATE,TIME,LATITUDE,LONGITUDE,DEPTH,CTDPRS,CTDTMP,CTDSAL,SALNTY,SALNTY_FLAG_W,CTDOXY,CTDOXY_FLAG_W,OXYGEN,OXYGEN_FLAG_W,SILCAT,SILCAT_FLAG_W,NITRAT,NITRAT_FLAG_W,NITRIT,NITRIT_FLAG_W,PHSPHT,PHSPHT_FLAG_W,CFC-11,CFC-11_FLAG_W,CFC-12,CFC-12_FLAG_W,CFC113,CFC113_FLAG_W,CCL4,CCL4_FLAG_W,DELC14,DELC14_FLAG_W,DELC13,DELC13_FLAG_W,TCARBN,TCARBN_FLAG_W,ALKALI,ALKALI_FLAG_W,PH,PH_FLAG_W,FCO2,FCO2_FLAG_W,FCO2TMP,TON,TON_FLAG_W,FCO2IN,C14ERR,TOC,TOC_FLAG_W
,,,,,,,,,,,DBAR,ITS-90,PSS-78,PSS-78,,UMOL/KG,,UMOL/KG,,UMOL/KG,,UMOL/KG,,UMOL/KG,,UMOL/KG,,PMOL/KG,,PMOL/KG,,PMOL/KG,,PMOL/KG,,/MILLE,,/MILLE,,UMOL/KG,,UMOL/KG,,,,UATM,,DEG C,UMOL/KG,,UATM,/MILLE,UMOL/KG,
31RBOACES24N_2,  AR01,    29,  1,     35,2,19980130,0559, 24.4993, -28.6167, 5670,      3.5,  22.5640,  37.5230,  37.5240,2,    221.7,2,     216.9,2,     0.60,2,     0.00,2,     0.00,2,  -999.00,5,    1.975,2,    1.142,2,    0.179,2, -999.000,9,   -999.0,9,  -999.00,9,   -999.0,9,   -999.0,9,-999.0000,9,  -999.0,9, -999.0, -999.00,9,  -999.0,  -999.0, -999.00,9
31RBOACES24N_2,  AR01,    29,  1,     36,2,19980130,0559, 24.4993, -28.6167, 5670,      4.8,  22.5670,  37.5230,  37.5230,2,    220.4,2,     217.0,6,     0.60,2,     0.00,2,     0.00,2,  -999.00,5, -999.000,9, -999.000,9, -999.000,9, -999.000,9,   -999.0,9,  -999.00,9,   2101.5,6,   2448.8,2,   8.0648,2,  -999.0,9, -999.0, -999.00,9,  -999.0,  -999.0, -999.00,9
31RBOACES24N_2,  AR01,    29,  1,     34,2,19980130,0559, 24.4993, -28.6167, 5670,     38.8,  22.5700,  37.5220,  37.5240,2,    214.6,2,     216.7,2,     0.70,2,     0.00,2,     0.00,2,  -999.00,5,    2.016,2,    1.168,2,    0.167,2, -999.000,9,   -999.0,9,  -999.00,9,   -999.0,9,   -999.0,9,-999.0000,9,  -999.0,9, -999.0, -999.00,9,  -999.0,  -999.0, -999.00,9
31RBOACES24N_2,  AR01,    29,  1,     33,2,19980130,0559, 24.4993, -28.6167, 5670,     89.9,  22.5760,  37.5170,  37.5220,2,    214.1,2,     216.8,2,     0.70,2,     0.00,2,     0.00,2,  -999.00,5, -999.000,9, -999.000,9, -999.000,9, -999.000,9,   -999.0,9,  -999.00,9,   2099.8,2,   2446.8,2,   8.0640,2,  -999.0,9, -999.0, -999.00,9,  -999.0,  -999.0, -999.00,9
31RBOACES24N_2,  AR01,    29,  1,     32,2,19980130,0559, 24.4993, -28.6167, 5670,    159.7,  19.2340,  36.8290,  36.8350,2,    200.4,2,     206.7,2,     0.90,2,     1.27,2,     0.02,2,  -999.00,5,    2.328,2,    1.320,2,    0.120,2, -999.000,9,   -999.0,9,  -999.00,9,   -999.0,9,   -999.0,9,-999.0000,9,  -999.0,9, -999.0, -999.00,9,  -999.0,  -999.0, -999.00,9
31RBOACES24N_2,  AR01,    29,  1,     31,2,19980130,0559, 24.4993, -28.6167, 5670,    200.7,  18.1730,  36.6200,  36.6280,2,    198.3,2,     201.9,2,     1.30,2,     3.51,2,     0.01,2,  -999.00,5, -999.000,9, -999.000,9, -999.000,9, -999.000,9,   -999.0,9,  -999.00,9,   2108.5,2,   2391.5,2,   7.9749,2,  -999.0,9, -999.0, -999.00,9,  -999.0,  -999.0, -999.00,9
31RBOACES24N_2,  AR01,    29,  1,     30,2,19980130,0559, 24.4993, -28.6167, 5670,    220.8,  17.7470,  36.5290,  36.5270,2,    198.2,2,     200.6,2,     1.60,2,     4.49,2,     0.01,2,  -999.00,5,    2.362,2,    1.317,2,    0.040,2, -999.000,9,   -999.0,9,  -999.00,9,   -999.0,9,   -999.0,9,-999.0000,9,  -999.0,9, -999.0, -999.00,9,  -999.0,  -999.0, -999.00,9
31RBOACES24N_2,  AR01,    29,  1,     29,2,19980130,0559, 24.4993, -28.6167, 5670,    249.4,  17.3630,  36.4530,  36.4520,2,    197.3,2,     199.6,2,     1.80,2,     5.27,2,     0.01,2,  -999.00,5, -999.000,9, -999.000,9, -999.000,9, -999.000,9,   -999.0,9,  -999.00,9,   -999.0,9,   -999.0,9,-999.0000,9,  -999.0,9, -999.0, -999.00,9,  -999.0,  -999.0, -999.00,9
31RBOACES24N_2,  AR01,    29,  1,     28,2,19980130,0559, 24.4993, -28.6167, 5670,    274.3,  16.8340,  36.3650,  36.3620,2,    195.9,2,     198.0,2,     2.10,2,     6.34,2,     0.01,2,  -999.00,5, -999.000,9, -999.000,9, -999.000,9, -999.000,9,   -999.0,9,  -999.00,9,   -999.0,9,   -999.0,9,-999.0000,9,  -999.0,9, -999.0, -999.00,9,  -999.0,  -999.0, -999.00,9
31RBOACES24N_2,  AR01,    29,  1,     27,2,19980130,0559, 24.4993, -28.6167, 5670,    300.0,  16.4470,  36.3060,  36.3070,2,    194.5,2,     195.1,2,     2.40,2,     7.22,2,     0.01,2,  -999.00,5,    2.372,2,    1.291,2,    0.026,2, -999.000,9,   -999.0,9,  -999.00,9,   2120.1,2,   2374.1,2,   7.9262,2,  -999.0,9, -999.0, -999.00,9,  -999.0,  -999.0, -999.00,9
31RBOACES24N_2,  AR01,    29,  1,     26,2,19980130,0559, 24.4993, -28.6167, 5670,    350.4,  15.7580,  36.2090,  36.2050,2,    186.7,2,     187.6,2,     2.90,2,     8.98,2,     0.01,2,  -999.00,5, -999.000,9, -999.000,9, -999.000,9, -999.000,9,   -999.0,9,  -999.00,9,   -999.0,9,   -999.0,9,-999.0000,9,  -999.0,9, -999.0, -999.00,9,  -999.0,  -999.0, -999.00,9
31RBOACES24N_2,  AR01,    29,  1,     25,2,19980130,0559, 24.4993, -28.6167, 5670,    399.1,  14.8790,  36.0660,  36.0710,2,    184.5,2,     184.5,2,     3.50,2,    10.44,2,     0.00,2,  -999.00,5,    2.245,2,    1.198,2,    0.027,2, -999.000,9,   -999.0,9,  -999.00,9,   2138.3,2,   2360.0,2,   7.8747,2,  -999.0,9, -999.0, -999.00,9,  -999.0,  -999.0, -999.00,9
31RBOACES24N_2,  AR01,    29,  1,     24,2,19980130,0559, 24.4993, -28.6167, 5670,    500.1,  12.9770,  35.7730,  35.7810,2,    180.3,2,     178.8,2,     5.20,2,    14.06,2,     0.00,2,  -999.00,5, -999.000,9, -999.000,9, -999.000,9, -999.000,9,   -999.0,9,  -999.00,9,   -999.0,9,   -999.0,9,-999.0000,9,  -999.0,9, -999.0, -999.00,9,  -999.0,  -999.0, -999.00,9
31RBOACES24N_2,  AR01,    29,  1,     23,2,19980130,0559, 24.4993, -28.6167, 5670,    598.3,  11.5570,  35.5860,  35.5910,2,    179.2,2,     177.2,2,     7.00,2,    16.69,2,     0.00,2,  -999.00,5,    1.609,6,    0.826,6,    0.015,6, -999.000,9,   -999.0,9,  -999.00,9,   2160.5,2,   2336.0,2,   7.7799,2,  -999.0,9, -999.0, -999.00,9,  -999.0,  -999.0, -999.00,9
31RBOACES24N_2,  AR01,    29,  1,     22,2,19980130,0559, 24.4993, -28.6167, 5670,    698.6,  10.2340,  35.4320,  35.4330,2,    151.3,2,     146.0,2,    11.20,2,    22.26,2,     0.00,2,  -999.00,5, -999.000,9, -999.000,9, -999.000,9, -999.000,9,   -999.0,9,  -999.00,9,   -999.0,9,   -999.0,9,-999.0000,9,  -999.0,9, -999.0, -999.00,9,  -999.0,  -999.0, -999.00,9
31RBOACES24N_2,  AR01,    29,  1,     21,2,19980130,0559, 24.4993, -28.6167, 5670,    800.3,   8.8850,  35.2880,  35.2950,2,    135.6,2,     135.5,2,    15.10,2,    25.68,2,     0.00,2,  -999.00,5,    0.267,2,    0.133,2,    0.000,2, -999.000,9,   -999.0,9,  -999.00,9,   2203.2,2,   2327.0,2,   7.6668,2,  -999.0,9, -999.0, -999.00,9,  -999.0,  -999.0, -999.00,9
31RBOACES24N_2,  AR01,    29,  1,     20,2,19980130,0559, 24.4993, -28.6167, 5670,    899.9,   7.8750,  35.2000,  35.1990,2,    137.1,2,     140.6,2,    17.80,2,    26.85,2,     0.00,2,  -999.00,5, -999.000,9, -999.000,9, -999.000,9, -999.000,9,   -999.0,9,  -999.00,9,   -999.0,9,   -999.0,9,-999.0000,9,  -999.0,9, -999.0, -999.00,9,  -999.0,  -999.0, -999.00,9
31RBOACES24N_2,  AR01,    29,  1,     19,2,19980130,0559, 24.4993, -28.6167, 5670,    999.2,   7.2120,  35.1670,  35.1640,2,    150.4,2,     153.5,2,    18.70,2,    26.27,2,     0.00,2,  -999.00,5,    0.077,2,    0.043,2,   -0.008,2, -999.000,9,   -999.0,9,  -999.00,9,   -999.0,9,   2327.3,2,-999.0000,9,  -999.0,9, -999.0, -999.00,9,  -999.0,  -999.0, -999.00,9
31RBOACES24N_2,  AR01,    29,  1,     18,2,19980130,0559, 24.4993, -28.6167, 5670,   1149.5,   6.5300,  35.1710,  35.1700,2,    172.5,2,     173.2,2,    18.80,2,    24.80,2,     0.00,2,  -999.00,5, -999.000,9, -999.000,9, -999.000,9, -999.000,9,   -999.0,9,  -999.00,9,   2199.8,6,   -999.0,9,   7.6693,2,  -999.0,9, -999.0, -999.00,9,  -999.0,  -999.0, -999.00,9
31RBOACES24N_2,  AR01,    29,  1,     17,2,19980130,0559, 24.4993, -28.6167, 5670,   1299.7,   5.9860,  35.1770,  35.1770,2,    189.7,2,     189.9,2,    18.90,2,    23.34,2,     0.00,2,  -999.00,5,    0.035,2,    0.020,2,    0.003,2, -999.000,9,   -999.0,9,  -999.00,9,   -999.0,9,   -999.0,9,-999.0000,9,  -999.0,9, -999.0, -999.00,9,  -999.0,  -999.0, -999.00,9
31RBOACES24N_2,  AR01,    29,  1,     16,2,19980130,0559, 24.4993, -28.6167, 5670,   1500.8,   5.3600,  35.1680,  35.1690,2,    207.7,2,     207.5,2,    19.60,2,    22.07,2,     0.00,2,  -999.00,5, -999.000,9, -999.000,9, -999.000,9, -999.000,9,   -999.0,9,  -999.00,9,   2189.3,2,   -999.0,9,-999.0000,9,  -999.0,9, -999.0, -999.00,9,  -999.0,  -999.0, -999.00,9
31RBOACES24N_2,  AR01,    29,  1,     15,2,19980130,0559, 24.4993, -28.6167, 5670,   1697.9,   4.7260,  35.1200,  35.1190,2,    220.9,2,     221.0,2,    21.20,2,    21.48,2,     0.00,2,  -999.00,5, -999.000,9, -999.000,9, -999.000,9, -999.000,9,   -999.0,9,  -999.00,9,   -999.0,9,   -999.0,9,-999.0000,9,  -999.0,9, -999.0, -999.00,9,  -999.0,  -999.0, -999.00,9
31RBOACES24N_2,  AR01,    29,  1,     14,2,19980130,0559, 24.4993, -28.6167, 5670,   1896.5,   4.2210,  35.0730,  35.0360,2,    229.9,2,     229.6,2,    23.00,2,    21.19,2,     0.00,2,  -999.00,5, -999.000,9, -999.000,9, -999.000,9, -999.000,9,   -999.0,9,  -999.00,9,   2183.8,2,   2330.1,2,   7.7217,2,  -999.0,9, -999.0, -999.00,9,  -999.0,  -999.0, -999.00,9
31RBOACES24N_2,  AR01,    29,  1,     13,2,19980130,0559, 24.4993, -28.6167, 5670,   2101.3,   3.7850,  35.0360,  35.0120,2,    237.3,2,     237.8,2,    24.90,2,    20.61,3,     0.00,2,  -999.00,5,    0.002,2,   -0.008,2,   -0.004,2, -999.000,9,   -999.0,9,  -999.00,9,   -999.0,9,   -999.0,9,-999.0000,9,  -999.0,9, -999.0, -999.00,9,  -999.0,  -999.0, -999.00,9
31RBOACES24N_2,  AR01,    29,  1,     12,2,19980130,0559, 24.4993, -28.6167, 5670,   2298.3,   3.4960,  35.0110,  35.0110,2,    242.8,2,     242.3,2,    26.80,2,    20.80,2,     0.01,2,  -999.00,5, -999.000,9, -999.000,9, -999.000,9, -999.000,9,   -999.0,9,  -999.00,9,   -999.0,9,   -999.0,9,-999.0000,9,  -999.0,9, -999.0, -999.00,9,  -999.0,  -999.0, -999.00,9
31RBOACES24N_2,  AR01,    29,  1,     11,2,19980130,0559, 24.4993, -28.6167, 5670,   2500.2,   3.2330,  34.9870,  34.9880,2,    245.5,2,     245.8,2,    28.80,2,    20.70,2,     0.01,2,  -999.00,5, -999.000,9, -999.000,9, -999.000,9, -999.000,9,   -999.0,9,  -999.00,9,   2184.5,2,   -999.0,9,-999.0000,9,  -999.0,9, -999.0, -999.00,9,  -999.0,  -999.0, -999.00,9
31RBOACES24N_2,  AR01,    29,  1,     10,2,19980130,0559, 24.4993, -28.6167, 5670,   2699.0,   3.0340,  34.9690,  34.9700,2,    249.7,2,     248.7,2,    30.60,2,    20.61,2,     0.01,2,  -999.00,5, -999.000,9, -999.000,9, -999.000,9, -999.000,9,   -999.0,9,  -999.00,9,   -999.0,9,   -999.0,9,-999.0000,9,  -999.0,9, -999.0, -999.00,9,  -999.0,  -999.0, -999.00,9
31RBOACES24N_2,  AR01,    29,  1,      9,2,19980130,0559, 24.4993, -28.6167, 5670,   2901.3,   2.8290,  34.9490,  34.9490,2,    249.6,2,     248.9,2,    33.80,2,    20.90,2,     0.00,2,  -999.00,5, -999.000,9, -999.000,9, -999.000,9, -999.000,9,   -999.0,9,  -999.00,9,   2189.7,2,   2342.5,2,   7.7319,2,  -999.0,9, -999.0, -999.00,9,  -999.0,  -999.0, -999.00,9
31RBOACES24N_2,  AR01,    29,  1,      8,2,19980130,0559, 24.4993, -28.6167, 5670,   3097.8,   2.6800,  34.9340,  34.9340,2,    249.1,2,     248.8,2,    36.60,2,    21.10,2,     0.00,2,  -999.00,5,   -0.001,2,   -0.006,2,    0.000,2, -999.000,9,   -999.0,9,  -999.00,9,   -999.0,9,   -999.0,9,-999.0000,9,  -999.0,9, -999.0, -999.00,9,  -999.0,  -999.0, -999.00,9
31RBOACES24N_2,  AR01,    29,  1,      7,2,19980130,0559, 24.4993, -28.6167, 5670,   3401.7,   2.5410,  34.9190,  34.9190,2,    248.5,2,     248.4,2,    40.20,2,    21.59,2,     0.00,2,  -999.00,5, -999.000,9, -999.000,9, -999.000,9, -999.000,9,   -999.0,9,  -999.00,9,   2195.4,2,   -999.0,9,-999.0000,9,  -999.0,9, -999.0, -999.00,9,  -999.0,  -999.0, -999.00,9
31RBOACES24N_2,  AR01,    29,  1,      6,2,19980130,0559, 24.4993, -28.6167, 5670,   3699.8,   2.4660,  34.9080,  34.9090,2,    248.2,2,     248.7,2,    42.70,2,    21.78,2,     0.00,2,  -999.00,5, -999.000,9, -999.000,9, -999.000,9, -999.000,9,   -999.0,9,  -999.00,9,   -999.0,9,   -999.0,9,-999.0000,9,  -999.0,9, -999.0, -999.00,9,  -999.0,  -999.0, -999.00,9
31RBOACES24N_2,  AR01,    29,  1,      5,2,19980130,0559, 24.4993, -28.6167, 5670,   3997.4,   2.4240,  34.9010,  34.9010,2,    247.6,2,     248.9,2,    44.40,2,    21.98,2,     0.00,2,  -999.00,5,   -0.002,2,   -0.003,2,   -0.006,2, -999.000,9,   -999.0,9,  -999.00,9,   -999.0,9,   -999.0,9,-999.0000,9,  -999.0,9, -999.0, -999.00,9,  -999.0,  -999.0, -999.00,9
31RBOACES24N_2,  AR01,    29,  1,      4,2,19980130,0559, 24.4993, -28.6167, 5670,   4298.4,   2.3930,  34.8950,  34.8950,2,    248.3,2,     248.3,2,    46.30,2,    22.17,2,     0.00,2,  -999.00,5, -999.000,9, -999.000,9, -999.000,9, -999.000,9,   -999.0,9,  -999.00,9,   2201.7,2,   2350.2,2,   7.7269,2,  -999.0,9, -999.0, -999.00,9,  -999.0,  -999.0, -999.00,9
31RBOACES24N_2,  AR01,    29,  1,      3,2,19980130,0559, 24.4993, -28.6167, 5670,   4689.5,   2.3860,  34.8890,  34.8890,2,    248.3,2,     249.0,2,    47.80,2,    22.27,2,     0.00,2,  -999.00,5, -999.000,9, -999.000,9, -999.000,9, -999.000,9,   -999.0,9,  -999.00,9,   -999.0,9,   -999.0,9,-999.0000,9,  -999.0,9, -999.0, -999.00,9,  -999.0,  -999.0, -999.00,9
31RBOACES24N_2,  AR01,    29,  1,      2,2,19980130,0559, 24.4993, -28.6167, 5670,   5197.4,   2.4270,  34.8860,  34.8860,2,    249.5,2,     249.6,2,    48.60,2,    22.27,2,     0.01,2,  -999.00,5,    0.002,6,   -0.004,6,   -0.004,6, -999.000,9,   -999.0,9,  -999.00,9,   -999.0,9,   -999.0,9,-999.0000,9,  -999.0,9, -999.0, -999.00,9,  -999.0,  -999.0, -999.00,9
31RBOACES24N_2,  AR01,    29,  1,      1,2,19980130,0559, 24.4993, -28.6167, 5670,   5759.6,   2.4940,  34.8850,  34.8850,2,    250.7,2,     249.9,2,    49.00,6,    22.37,6,     0.01,6,  -999.00,5,    0.001,2,    0.001,2,    0.000,2, -999.000,9,   -999.0,9,  -999.00,9,   2204.6,2,   2355.0,2,   7.7260,2,  -999.0,9, -999.0, -999.00,9,  -999.0,  -999.0, -999.00,9