BOTTLE,20220820CCHSIOAMB
EXPOCODE,SECT_ID,STNNBR,CASTNO,BTLNBR,BTLNBR_FLAG_W,DATE,TIME,LATITUDE,LONGITUDE,DEPTH,CTDPRS,CTDTMP,CTDSAL,SALNTY,SALNTY_FLAG_W,CTDOXY,CTDOXY_FLAG_W,OXYGEN,OXYGEN_FLAG_W,SILCAT,SILCAT_FLAG_W,NITRAT,NITRAT_FLAG_W,NITRIT,NITRIT_FLAG_W,PHSPHT,PHSPHT_FLAG_W,CFC-11,CFC-11_FLAG_W,CFC-12,CFC-12_FLAG_W,CFC113,CFC113_FLAG_W,CCL4,CCL4_FLAG_W,DELC14,DELC14_FLAG_W,DELC13,DELC13_FLAG_W,TCARBN,TCARBN_FLAG_W,ALKALI,ALKALI_FLAG_W,PH,PH_FLAG_W,FCO2,FCO2_FLAG_W,FCO2TMP,TON,TON_FLAG_W,FCO2IN,C14ERR,TOC,TOC_FLAG_W
,,,,,,,,,,,DBAR,ITS-90,PSS-78,PSS-78,,UMOL/KG,,UMOL/KG,,UMOL/KG,,UMOL/KG,,UMOL/KG,,UMOL/KG,,PMOL/KG,,PMOL/KG,,PMOL/KG,,PMOL/KG,,/MILLE,,/MILLE,,UMOL/KG,,UMOL/KG,,,,UATM,,DEG C,UMOL/KG,,UATM,/MILLE,UMOL/KG,
31RBOACES24N_2,  AR01,    72,  1,     36,2,19980211,0308, 24.4997, -56.6667, 6012,      4.1,  23.9070,  36.9740,  36.9760,2,    213.8,2,     212.9,2,     0.60,2,     0.00,2,     0.00,2,     0.00,2,    1.893,2,    1.097,2,    0.155,2,    2.066,2,   -999.0,9,     1.36,2,   2046.1,6,   2414.5,2,   8.1043,2,   275.4,6,   20.0, -999.00,9,   321.4,  -999.0,   78.91,2
31RBOACES24N_2,  AR01,    72,  1,     35,2,19980211,0308, 24.4997, -56.6667, 6012,     50.4,  23.9910,  37.0500,  37.0700,2,    214.6,2,     213.1,2,     0.60,2,     0.00,2,     0.00,2,     0.00,2, -999.000,9, -999.000,9, -999.000,9,    1.934,6,   -999.0,9,  -999.00,9,   -999.0,9,   -999.0,9,-999.0000,9,  -999.0,9, -999.0, -999.00,9,  -999.0,  -999.0,   77.84,2
31RBOACES24N_2,  AR01,    72,  1,     34,2,19980211,0308, 24.4997, -56.6667, 6012,    101.2,  22.5020,  37.0100,  36.9990,2,    218.6,2,     218.6,2,     0.40,2,     0.00,2,     0.01,2,     0.01,2,    2.103,2,    1.198,2,    0.176,2, -999.000,9,   -999.0,9,  -999.00,9,   -999.0,9,   -999.0,9,-999.0000,9,  -999.0,9, -999.0, -999.00,9,  -999.0,  -999.0,   65.91,2
31RBOACES24N_2,  AR01,    72,  1,     33,2,19980211,0308, 24.4997, -56.6667, 6012,    152.0,  20.0370,  36.7970,  36.8020,2,    209.2,2,     208.1,2,     0.50,2,     0.39,2,     0.03,2,     0.02,2,    2.266,2,    1.281,2,    0.136,2,    1.035,2,   -999.0,9,  -999.00,9,   -999.0,9,   -999.0,9,-999.0000,9,  -999.0,9, -999.0, -999.00,9,  -999.0,  -999.0,   57.89,2
31RBOACES24N_2,  AR01,    72,  1,     32,2,19980211,0308, 24.4997, -56.6667, 6012,    200.1,  18.9600,  36.6820,  36.6790,2,    189.9,2,     193.5,2,     0.90,2,     2.73,2,     0.01,2,     0.11,2,    2.313,2,    1.282,2,    0.030,2, -999.000,9,   -999.0,9,  -999.00,9,   -999.0,9,   -999.0,9,-999.0000,9,  -999.0,9, -999.0, -999.00,9,  -999.0,  -999.0,   51.15,2
31RBOACES24N_2,  AR01,    72,  1,     31,2,19980211,0308, 24.4997, -56.6667, 6012,    224.5,  18.4640,  36.6000,  36.6020,2,    192.5,2,     198.1,2,     1.10,2,     3.32,2,     0.00,2,     0.15,2,    2.323,2,    1.287,2,    0.024,2,    0.435,2,   -999.0,9,  -999.00,9,   -999.0,9,   -999.0,9,-999.0000,9,  -999.0,9, -999.0, -999.00,9,  -999.0,  -999.0, -999.00,9
31RBOACES24N_2,  AR01,    72,  1,     30,2,19980211,0308, 24.4997, -56.6667, 6012,    248.7,  18.2630,  36.5690,  36.5670,2,    198.6,2,     198.9,2,     1.20,2,     3.81,2,     0.00,2,     0.18,2,    2.321,2,    1.277,2,    0.025,2, -999.000,9,   -999.0,9,  -999.00,9,   -999.0,9,   -999.0,9,-999.0000,9,  -999.0,9, -999.0, -999.00,9,  -999.0,  -999.0,   49.01,2
31RBOACES24N_2,  AR01,    72,  1,     29,2,19980211,0308, 24.4997, -56.6667, 6012,    272.8,  18.1190,  36.5440,  36.5440,2,    199.4,2,     200.9,2,     1.30,2,     3.90,2,     0.00,2,     0.19,2,    2.314,2,    1.275,2,    0.026,2,    0.447,2,   -999.0,9,  -999.00,9,   -999.0,9,   -999.0,9,-999.0000,9,  -999.0,9, -999.0, -999.00,9,  -999.0,  -999.0, -999.00,9
31RBOACES24N_2,  AR01,    72,  1,     28,2,19980211,0308, 24.4997, -56.6667, 6012,    302.2,  17.9300,  36.5170,  36.5210,2,    200.4,2,     198.4,2,     1.40,2,     4.49,2,     0.00,2,     0.23,2,    2.288,2,    1.254,2,    0.025,2, -999.000,9,   -999.0,9,  -999.00,9,   -999.0,9,   -999.0,9,-999.0000,9,  -999.0,9, -999.0, -999.00,9,  -999.0,  -999.0, -999.00,9
31RBOACES24N_2,  AR01,    72,  1,     27,2,19980211,0308, 24.4997, -56.6667, 6012,    350.1,  17.4110,  36.4320,  36.4390,2,    190.4,2,     188.4,2,     1.90,2,     6.05,2,     0.00,2,     0.33,2,    2.214,2,    1.191,2,    0.022,2, -999.000,9,   -999.0,9,  -999.00,9,   -999.0,9,   -999.0,9,-999.0000,9,  -999.0,9, -999.0, -999.00,9,  -999.0,  -999.0,   47.64,2
31RBOACES24N_2,  AR01,    72,  1,     26,2,19980211,0308, 24.4997, -56.6667, 6012,    399.1,  16.7400,  36.3180,  36.3180,2,    185.3,2,     183.4,2,     2.30,2,     7.71,2,     0.00,2,     0.44,2,    2.105,2,    1.117,2,    0.021,2, -999.000,9,   -999.0,9,  -999.00,9,   -999.0,9,   -999.0,9,-999.0000,9,  -999.0,9, -999.0, -999.00,9,  -999.0,  -999.0, -999.00,9
31RBOACES24N_2,  AR01,    72,  1,     25,2,19980211,0308, 24.4997, -56.6667, 6012,    448.6,  15.8150,  36.1700,  36.1700,2,    184.0,2,     184.1,2,     3.00,2,     8.98,2,     0.00,2,     0.53,2,    2.085,2,    1.110,2,    0.024,2,    0.433,2,   -999.0,9,  -999.00,9,   -999.0,9,   -999.0,9,-999.0000,9,  -999.0,9, -999.0, -999.00,9,  -999.0,  -999.0, -999.00,9
31RBOACES24N_2,  AR01,    72,  1,     24,2,19980211,0308, 24.4997, -56.6667, 6012,    500.0,  14.8740,  36.0140,  36.0160,2,    177.7,2,     179.6,2,     3.80,2,    10.93,2,     0.00,2,     0.65,2,    1.989,2,    1.047,2,    0.023,2, -999.000,9,   -999.0,9,  -999.00,9,   -999.0,9,   -999.0,9,-999.0000,9,  -999.0,9, -999.0, -999.00,9,  -999.0,  -999.0, -999.00,9
31RBOACES24N_2,  AR01,    72,  1,     23,2,19980211,0308, 24.4997, -56.6667, 6012,    597.1,  13.0360,  35.7350,  35.7360,2,    169.1,2,     168.4,2,     6.10,2,    15.13,2,     0.00,2,     0.92,2,    1.431,2,    0.744,2,    0.013,2, -999.000,9,   -999.0,9,  -999.00,9,   -999.0,9,   -999.0,9,-999.0000,9,  -999.0,9, -999.0, -999.00,9,  -999.0,  -999.0,   44.99,2
31RBOACES24N_2,  AR01,    72,  1,     22,2,19980211,0308, 24.4997, -56.6667, 6012,    698.5,  11.1360,  35.4890,  35.4860,2,    161.5,2,     158.4,2,     9.20,2,    19.24,2,     0.00,2,     1.21,2,    0.853,2,    0.443,2,    0.007,2,    0.281,2,   -999.0,9,  -999.00,9,   -999.0,9,   -999.0,9,-999.0000,9,  -999.0,9, -999.0, -999.00,9,  -999.0,  -999.0, -999.00,9
31RBOACES24N_2,  AR01,    72,  1,     21,3,19980211,0308, 24.4997, -56.6667, 6012,    798.8,   9.0140,  35.2080,  35.2170,2,    148.7,2,     147.0,2,    14.40,2,    24.22,2,     0.00,2,     1.56,2,    0.333,6,    0.179,6,    0.006,6, -999.000,9,   -999.0,9,  -999.00,9,   -999.0,9,   -999.0,9,-999.0000,9,  -999.0,9, -999.0, -999.00,9,  -999.0,  -999.0, -999.00,9
31RBOACES24N_2,  AR01,    72,  1,     20,2,19980211,0308, 24.4997, -56.6667, 6012,    900.6,   7.3790,  35.0200,  35.0230,2,    147.0,2,     146.4,2,    18.40,2,    27.25,2,     0.00,2,     1.79,2,    0.142,2,    0.080,2,    0.006,2, -999.000,9,   -999.0,9,  -999.00,9,   -999.0,9,   -999.0,9,-999.0000,9,  -999.0,9, -999.0, -999.00,9,  -999.0,  -999.0, -999.00,9
31RBOACES24N_2,  AR01,    72,  1,     19,2,19980211,0308, 24.4997, -56.6667, 6012,    999.6,   6.8060,  35.0410,  35.0440,2,    165.1,2,     167.1,2,    17.70,2,    25.20,2,     0.00,2,     1.67,2,    0.163,2,    0.088,2,    0.007,2, -999.000,9,   -999.0,9,  -999.00,9,   -999.0,9,   -999.0,9,-999.0000,9,  -999.0,9, -999.0, -999.00,9,  -999.0,  -999.0,   43.31,2
31RBOACES24N_2,  AR01,    72,  1,     18,2,19980211,0308, 24.4997, -56.6667, 6012,   1101.7,   6.0550,  35.0540,  35.0520,2,    186.5,2,     193.4,2,    16.50,2,    22.86,2,     0.00,2,     1.53,2,    0.229,2,    0.125,2,    0.001,2, -999.000,9,   -999.0,9,  -999.00,9,   -999.0,9,   -999.0,9,-999.0000,9,  -999.0,9, -999.0, -999.00,9,  -999.0,  -999.0, -999.00,9
31RBOACES24N_2,  AR01,    72,  1,     17,2,19980211,0308, 24.4997, -56.6667, 6012,   1199.7,   5.7340,  35.0880,  35.0870,2,    211.1,2,     209.5,2,    15.60,2,    21.29,2,     0.00,2,     1.43,2,    0.212,2,    0.113,2,    0.004,2,    0.451,6,   -999.0,9,  -999.00,9,   -999.0,9,   -999.0,9,-999.0000,9,  -999.0,9, -999.0, -999.00,9,  -999.0,  -999.0, -999.00,9
31RBOACES24N_2,  AR01,    72,  1,     16,2,19980211,0308, 24.4997, -56.6667, 6012,   1397.6,   4.9430,  35.0710,  35.0700,2,    239.9,2,     238.4,2,    14.20,2,    19.15,2,     0.00,2,     1.28,2,    0.286,2,    0.148,2,    0.013,2, -999.000,9,   -999.0,9,  -999.00,9,   -999.0,9,   -999.0,9,-999.0000,9,  -999.0,9, -999.0, -999.00,9,  -999.0,  -999.0, -999.00,9
31RBOACES24N_2,  AR01,    72,  1,     15,2,19980211,0308, 24.4997, -56.6667, 6012,   1604.5,   4.4670,  35.0600,  35.0600,2,    251.3,2,     248.9,2,    15.00,2,    18.56,2,     0.00,2,     1.25,2,    0.176,2,    0.098,2,    0.006,2, -999.000,9,   -999.0,9,  -999.00,9,   -999.0,9,   -999.0,9,-999.0000,9,  -999.0,9, -999.0, -999.00,9,  -999.0,  -999.0,   41.35,2
31RBOACES24N_2,  AR01,    72,  1,     14,2,19980211,0308, 24.4997, -56.6667, 6012,   1795.6,   4.0580,  35.0350,  35.0340,2,    255.5,2,     254.1,2,    16.90,2,    18.46,2,     0.00,2,     1.25,2,    0.069,2,    0.043,2,    0.009,2,    0.342,6,   -999.0,9,  -999.00,9,   -999.0,9,   -999.0,9,-999.0000,9,  -999.0,9, -999.0, -999.00,9,  -999.0,  -999.0, -999.00,9
31RBOACES24N_2,  AR01,    72,  1,     13,2,19980211,0308, 24.4997, -56.6667, 6012,   1996.3,   3.7790,  35.0190,  35.0190,2,    254.2,2,     253.1,2,    20.30,2,    18.95,2,     0.01,2,     1.29,2,    0.022,2,    0.013,2,    0.010,2, -999.000,9,   -999.0,9,  -999.00,9,   -999.0,9,   -999.0,9,-999.0000,9,  -999.0,9, -999.0, -999.00,9,  -999.0,  -999.0, -999.00,9
31RBOACES24N_2,  AR01,    72,  1,     12,2,19980211,0308, 24.4997, -56.6667, 6012,   2200.0,   3.4630,  34.9960,  34.9960,2,    254.8,2,     253.8,2,    23.80,2,    19.24,2,     0.01,2,     1.32,2, -999.000,9, -999.000,9, -999.000,9, -999.000,9,   -999.0,9,  -999.00,9,   -999.0,9,   -999.0,9,-999.0000,9,  -999.0,9, -999.0, -999.00,9,  -999.0,  -999.0, -999.00,9
31RBOACES24N_2,  AR01,    72,  1,     11,2,19980211,0308, 24.4997, -56.6667, 6012,   2395.5,   3.2120,  34.9750,  34.9750,2,    254.8,2,     254.7,2,    26.80,2,    19.44,2,     0.01,2,     1.34,2,    0.008,2,    0.009,2,   -0.006,2,    0.229,2,   -999.0,9,  -999.00,9,   -999.0,9,   -999.0,9,-999.0000,9,  -999.0,9, -999.0, -999.00,9,  -999.0,  -999.0,   41.06,2
31RBOACES24N_2,  AR01,    72,  1,     10,2,19980211,0308, 24.4997, -56.6667, 6012,   2597.2,   3.0130,  34.9570,  34.9570,2,    256.6,2,     256.7,2,    28.60,2,    19.54,2,     0.01,2,     1.35,2, -999.000,9, -999.000,9, -999.000,9, -999.000,9,   -999.0,9,  -999.00,9,   -999.0,9,   -999.0,9,-999.0000,9,  -999.0,9, -999.0, -999.00,9,  -999.0,  -999.0, -999.00,9
31RBOACES24N_2,  AR01,    72,  1,      9,2,19980211,0308, 24.4997, -56.6667, 6012,   2800.7,   2.8750,  34.9460,  34.9450,2,    257.0,2,     257.6,2,    30.50,2,    19.64,2,     0.01,2,     1.36,2,    0.006,2,    0.002,2,   -0.003,2,    0.165,2,   -999.0,9,  -999.00,9,   -999.0,9,   -999.0,9,-999.0000,9,  -999.0,9, -999.0, -999.00,9,  -999.0,  -999.0, -999.00,9
31RBOACES24N_2,  AR01,    72,  1,      8,2,19980211,0308, 24.4997, -56.6667, 6012,   3000.2,   2.7660,  34.9350,  34.9350,2,    259.9,2,     259.8,2,    30.90,2,    19.44,2,     0.01,2,     1.35,2,    0.014,2,    0.007,2,   -0.001,2,    0.166,2,   -999.0,9,  -999.00,9,   -999.0,9,   -999.0,9,-999.0000,9,  -999.0,9, -999.0, -999.00,9,  -999.0,  -999.0, -999.00,9
31RBOACES24N_2,  AR01,    72,  1,      7,2,19980211,0308, 24.4997, -56.6667, 6012,   3398.9,   2.5310,  34.9150,  34.9150,2,    262.6,2,     262.4,2,    33.60,2,    19.54,2,     0.01,2,     1.36,2,    0.023,2,    0.013,2,    0.006,2,    0.189,2,   -999.0,9,  -999.00,9,   -999.0,9,   -999.0,9,-999.0000,9,  -999.0,9, -999.0, -999.00,9,  -999.0,  -999.0,   41.25,2
31RBOACES24N_2,  AR01,    72,  1,      6,2,19980211,0308, 24.4997, -56.6667, 6012,   3783.2,   2.3780,  34.9020,  34.9010,2,    263.5,2,     263.9,2,    35.70,2,    19.54,2,     0.01,2,     1.37,2,    0.028,2,    0.021,2,   -0.003,2,    0.231,2,   -999.0,9,  -999.00,9,   -999.0,9,   -999.0,9,-999.0000,9,  -999.0,9, -999.0, -999.00,9,  -999.0,  -999.0, -999.00,9
31RBOACES24N_2,  AR01,    72,  1,      5,2,19980211,0308, 24.4997, -56.6667, 6012,   4198.2,   2.3020,  34.8970,  34.8960,2,    270.3,2,     269.0,2,    33.10,2,    18.76,2,     0.01,2,     1.32,2,    0.093,2,    0.057,2,    0.008,2,    0.422,2,   -999.0,9,  -999.00,9,   -999.0,9,   -999.0,9,-999.0000,9,  -999.0,9, -999.0, -999.00,9,  -999.0,  -999.0, -999.00,9
31RBOACES24N_2,  AR01,    72,  1,      4,2,19980211,0308, 24.4997, -56.6667, 6012,   4598.2,   2.2610,  34.8890,  34.8870,2,    269.2,2,     266.6,2,    36.70,2,    19.34,2,     0.01,2,     1.36,2,    0.075,2,    0.046,2,    0.004,2,    0.407,6,   -999.0,9,  -999.00,9,   -999.0,9,   -999.0,9,-999.0000,9,  -999.0,9, -999.0, -999.00,9,  -999.0,  -999.0, -999.00,9
31RBOACES24N_2,  AR01,    72,  1,      3,2,19980211,0308, 24.4997, -56.6667, 6012,   4999.1,   2.1360,  34.8680,  34.8650,2,    260.5,2,     259.6,2,    47.10,2,    21.01,2,     0.01,2,     1.48,2,    0.035,2,    0.028,2,    0.001,2,    0.250,2,   -999.0,9,  -999.00,9,   -999.0,9,   -999.0,9,-999.0000,9,  -999.0,9, -999.0, -999.00,9,  -999.0,  -999.0,   41.06,2
31RBOACES24N_2,  AR01,    72,  1,      2,9,19980211,0308, 24.4997, -56.6667, 6012,   5499.1,   2.0080,  34.8430,-999.0000,9,    252.0,2,    -999.0,9,  -999.00,9,  -999.00,9,  -999.00,9,  -999.00,9, -999.000,9, -999.000,9, -999.000,9, -999.000,9,   -999.0,9,  -999.00,9,   -999.0,9,   -999.0,9,-999.0000,9,  -999.0,9, -999.0, -999.00,9,  -999.0,  -999.0, -999.00,9
31RBOACES24N_2,  AR01,    72,  1,      1,2,19980211,0308, 24.4997, -56.6667, 6012,   6127.9,   2.0850,  34.8420,  34.8420,2,    253.0,2,     252.8,6,    58.30,6,    22.67,6,     0.01,6,     1.60,6,    0.031,2,    0.025,2,    0.000,2,    0.204,6,   -999.0,9,  -999.00,9,   -999.0,9,   2352.8,2,-999.0000,9,  -999.0,9, -999.0, -999.00,9,  -999.0,  -999.0,   41.15,2