BOTTLE,20220820CCHSIOAMB
EXPOCODE,SECT_ID,STNNBR,CASTNO,BTLNBR,BTLNBR_FLAG_W,DATE,TIME,LATITUDE,LONGITUDE,DEPTH,CTDPRS,CTDTMP,CTDSAL,SALNTY,SALNTY_FLAG_W,CTDOXY,CTDOXY_FLAG_W,OXYGEN,OXYGEN_FLAG_W,SILCAT,SILCAT_FLAG_W,NITRAT,NITRAT_FLAG_W,NITRIT,NITRIT_FLAG_W,PHSPHT,PHSPHT_FLAG_W,CFC-11,CFC-11_FLAG_W,CFC-12,CFC-12_FLAG_W,CFC113,CFC113_FLAG_W,CCL4,CCL4_FLAG_W,DELC14,DELC14_FLAG_W,DELC13,DELC13_FLAG_W,TCARBN,TCARBN_FLAG_W,ALKALI,ALKALI_FLAG_W,PH,PH_FLAG_W,FCO2,FCO2_FLAG_W,FCO2TMP,TON,TON_FLAG_W,FCO2IN,C14ERR,TOC,TOC_FLAG_W
,,,,,,,,,,,DBAR,ITS-90,PSS-78,PSS-78,,UMOL/KG,,UMOL/KG,,UMOL/KG,,UMOL/KG,,UMOL/KG,,UMOL/KG,,PMOL/KG,,PMOL/KG,,PMOL/KG,,PMOL/KG,,/MILLE,,/MILLE,,UMOL/KG,,UMOL/KG,,,,UATM,,DEG C,UMOL/KG,,UATM,/MILLE,UMOL/KG,
31RBOACES24N_2,  AR01,   102,  1,     36,2,19980219,0848, 26.4913, -73.9670, 4665,      4.6,  21.9850,  36.6720,  36.6680,2,    218.2,2,     220.3,2,     0.70,2,     0.00,2,     0.00,2,     0.00,2,    2.093,2,    1.204,2,    0.174,2,    2.141,2,     87.5,2,  -999.00,9,   2047.7,6,   -999.0,5,   8.0789,2,   297.1,2,   20.0, -999.00,9,   321.5,     3.7,   63.38,2
31RBOACES24N_2,  AR01,   102,  1,     35,2,19980219,0848, 26.4913, -73.9670, 4665,     17.2,  21.8650,  36.6750,  36.6740,2,    219.9,2,     220.5,2,     0.70,2,     0.00,2,     0.00,2,     0.00,2, -999.000,9, -999.000,9, -999.000,9, -999.000,9,     90.5,2,  -999.00,9,   2046.4,2,   2411.2,2,-999.0000,9,  -999.0,9, -999.0, -999.00,9,  -999.0,     3.3,   63.67,2
31RBOACES24N_2,  AR01,   102,  1,     34,2,19980219,0848, 26.4913, -73.9670, 4665,     50.2,  21.3080,  36.6450,  36.6440,2,    220.5,2,     219.8,2,     0.70,2,     0.00,2,     0.00,2,     0.00,2, -999.000,9, -999.000,9, -999.000,9, -999.000,9,     92.0,2,  -999.00,9,   2050.2,2,   2394.5,2,   8.0740,2,   299.3,2,   20.0, -999.00,9,   315.4,     3.3,   60.84,2
31RBOACES24N_2,  AR01,   102,  1,     33,2,19980219,0848, 26.4913, -73.9670, 4665,     75.1,  21.1930,  36.6410,  36.6400,2,    220.8,2,     219.8,2,     0.70,2,     0.00,2,     0.01,2,     0.00,2,    2.125,2,    1.213,2,    0.161,2, -999.000,9,     95.2,6,  -999.00,9,   2050.6,2,   2394.6,2,   8.0713,2,   304.6,2,   20.0, -999.00,9,   319.5,     2.5,   56.35,2
31RBOACES24N_2,  AR01,   102,  1,     32,2,19980219,0848, 26.4913, -73.9670, 4665,     99.6,  20.9720,  36.7800,  36.7770,2,    216.4,2,     202.5,2,     0.70,2,     0.78,2,     0.05,2,     0.02,2,    2.177,2,    1.237,2,    0.107,2, -999.000,9,     92.1,2,  -999.00,9,   2080.6,2,   2402.7,2,   8.0360,2,   340.5,2,   20.0, -999.00,9,   353.9,     3.4,   53.32,2
31RBOACES24N_2,  AR01,   102,  1,     31,2,19980219,0848, 26.4913, -73.9670, 4665,    124.3,  19.9580,  36.7390,  36.7430,2,    197.8,2,     202.1,2,     0.70,2,     1.27,2,     0.02,2,     0.04,2,    2.266,2,    1.288,2,    0.096,2, -999.000,9,   -999.0,9,  -999.00,9,   2090.1,2,   2399.8,2,   8.0141,2,   355.3,2,   20.0, -999.00,9,   354.6,  -999.0,   51.36,2
31RBOACES24N_2,  AR01,   102,  1,     30,2,19980219,0848, 26.4913, -73.9670, 4665,    150.1,  19.4960,  36.7100,  36.6480,2,    202.9,2,     201.5,2,     0.80,2,     1.56,2,     0.02,2,     0.04,2,    2.290,2,    1.291,2,    0.080,2, -999.000,9,    105.1,2,  -999.00,9,   2093.5,6,   2397.8,2,   8.0108,2,   364.0,2,   20.0, -999.00,9,   356.7,     4.8,   48.53,2
31RBOACES24N_2,  AR01,   102,  1,     29,2,19980219,0848, 26.4913, -73.9670, 4665,    176.0,  18.9740,  36.6470,  36.6480,2,    197.9,2,     200.2,2,     0.90,2,     2.44,2,     0.01,2,     0.08,2,    2.303,2,    1.288,2,    0.049,2, -999.000,9,    104.4,2,  -999.00,9,   -999.0,9,   2395.5,2,   7.9997,2,   380.0,2,   20.0, -999.00,9,   364.4,     3.1,   48.91,2
31RBOACES24N_2,  AR01,   102,  1,     28,2,19980219,0848, 26.4913, -73.9670, 4665,    200.4,  18.7080,  36.6140,  36.6150,2,    204.5,2,     205.0,2,     1.00,2,     2.73,2,     0.01,2,     0.10,2,    2.318,2,    1.294,2,    0.046,2, -999.000,9,    100.9,2,  -999.00,9,   2089.9,2,   2392.0,2,   8.0026,2,  -999.0,9, -999.0, -999.00,9,  -999.0,     3.3, -999.00,9
31RBOACES24N_2,  AR01,   102,  1,     27,2,19980219,0848, 26.4913, -73.9670, 4665,    245.3,  18.3300,  36.5720,  36.5710,2,    207.0,2,     209.3,2,     1.10,2,     3.12,2,     0.01,2,     0.12,2,    2.356,2,    1.314,2,    0.052,2, -999.000,9,     97.7,2,  -999.00,9,   2089.7,2,   2389.8,2,   8.0032,2,   368.4,2,   20.0, -999.00,9,   344.3,     3.1,   46.96,2
31RBOACES24N_2,  AR01,   102,  1,     26,2,19980219,0848, 26.4913, -73.9670, 4665,    299.4,  18.1440,  36.5510,  36.5500,2,    211.2,2,     210.1,2,     1.20,2,     3.51,2,     0.01,2,     0.15,2,    2.354,2,    1.310,2,    0.050,2,    0.596,2,     92.3,2,  -999.00,9,   2091.2,2,   2387.9,2,   7.9974,2,  -999.0,9, -999.0, -999.00,9,  -999.0,     3.3, -999.00,9
31RBOACES24N_2,  AR01,   102,  1,     25,2,19980219,0848, 26.4913, -73.9670, 4665,    349.1,  18.0000,  36.5300,  36.5320,2,    212.7,2,     210.3,2,     1.30,2,     3.80,2,     0.01,2,     0.17,2,    2.336,2,    1.295,2,    0.052,2, -999.000,9,     99.9,2,  -999.00,9,   2092.2,2,   2397.4,2,-999.0000,9,   376.1,6,   20.0, -999.00,9,   346.9,     2.9,   45.69,2
31RBOACES24N_2,  AR01,   102,  1,     24,2,19980219,0848, 26.4913, -73.9670, 4665,    398.7,  17.6030,  36.4540,  36.4550,2,    205.6,2,     199.8,2,     1.80,2,     5.36,2,     0.01,2,     0.26,2,    2.197,6,    1.196,6,    0.041,6, -999.000,9,    103.2,2,  -999.00,9,   2101.8,2,   -999.0,5,   7.9705,2,  -999.0,9, -999.0, -999.00,9,  -999.0,     3.4, -999.00,9
31RBOACES24N_2,  AR01,   102,  1,     23,2,19980219,0848, 26.4913, -73.9670, 4665,    500.8,  16.3640,  36.2370,  36.2460,2,    185.4,2,     183.9,2,     2.80,2,     8.68,2,     0.01,2,     0.47,2,    2.028,2,    1.081,2,    0.027,2, -999.000,9,     97.3,2,  -999.00,9,   2121.0,2,   -999.0,5,   7.9197,2,   457.4,2,   20.0, -999.00,9,   394.2,     3.4,   43.64,2
31RBOACES24N_2,  AR01,   102,  1,     22,2,19980219,0848, 26.4913, -73.9670, 4665,    599.4,  14.5320,  35.9420,  35.9390,2,    174.3,2,     173.4,2,     4.60,2,    12.69,2,     0.01,2,     0.73,2, -999.000,9, -999.000,9, -999.000,9, -999.000,9,     72.4,6,  -999.00,9,   2139.1,2,   -999.0,5,   7.8588,2,  -999.0,9, -999.0, -999.00,9,  -999.0,     5.3, -999.00,9
31RBOACES24N_2,  AR01,   102,  1,     21,2,19980219,0848, 26.4913, -73.9670, 4665,    694.0,  12.5630,  35.6500,  35.6540,2,    163.1,2,     162.3,2,     7.10,2,    16.98,2,     0.01,2,     1.03,2,    1.208,2,    0.623,2,    0.011,2, -999.000,9,     30.6,2,  -999.00,9,   2158.1,2,   2359.2,2,-999.0000,9,   629.6,2,   20.0, -999.00,9,   463.2,     3.1,   42.45,2
31RBOACES24N_2,  AR01,   102,  1,     20,2,19980219,0848, 26.4913, -73.9670, 4665,    800.0,  10.1740,  35.3360,  35.3410,2,    149.5,2,     150.1,2,    11.70,2,    22.06,2,     0.01,2,     1.40,2,    0.613,2,    0.324,2,    0.008,2, -999.000,9,    -22.1,2,  -999.00,9,   2178.7,2,   -999.0,5,   7.7176,2,   764.9,2,   20.0, -999.00,9,   509.5,     4.0, -999.00,9
31RBOACES24N_2,  AR01,   102,  1,     19,2,19980219,0848, 26.4913, -73.9670, 4665,    900.5,   8.5080,  35.1460,  35.1480,2,    148.3,2,     148.4,2,    15.50,2,    25.00,2,     0.00,2,     1.62,2,    0.309,2,    0.167,2,    0.007,2,    0.219,2,    -55.6,2,  -999.00,9,   2191.3,2,   2323.5,2,   7.6693,2,   859.9,2,   20.0, -999.00,9,   533.7,     3.6,   42.05,2
31RBOACES24N_2,  AR01,   102,  1,     18,2,19980219,0848, 26.4913, -73.9670, 4665,    998.5,   7.4090,  35.1050,  35.1080,2,    167.3,2,     168.9,2,    15.60,2,    23.73,2,     0.01,2,     1.56,2,    0.394,2,    0.205,2,    0.016,2, -999.000,9,    -67.1,2,  -999.00,9,   2187.3,6,   2322.8,2,   7.6799,2,   844.0,2,   20.0, -999.00,9,   498.2,     3.1, -999.00,9
31RBOACES24N_2,  AR01,   102,  1,     17,2,19980219,0848, 26.4913, -73.9670, 4665,   1199.2,   5.5130,  35.0830,  35.0820,2,    223.6,2,     224.1,2,    13.80,2,    19.92,2,     0.01,2,     1.32,2,    0.509,2,    0.257,2,    0.015,2, -999.000,9,    -51.7,2,  -999.00,9,   2173.8,2,   -999.0,5,   7.7147,2,   762.1,2,   20.0, -999.00,9,   410.7,     2.7,   42.04,2
31RBOACES24N_2,  AR01,   102,  1,     16,2,19980219,0848, 26.4913, -73.9670, 4665,   1400.3,   4.6720,  35.0340,  35.0340,2,    250.2,2,     250.1,2,    12.70,2,    18.45,2,     0.01,2,     1.23,2,    0.835,2,    0.417,2,    0.032,2,    1.404,2,    -52.7,2,  -999.00,9,   2166.4,2,   2321.6,2,   7.7258,2,  -999.0,9, -999.0, -999.00,9,  -999.0,     3.2, -999.00,9
31RBOACES24N_2,  AR01,   102,  1,     15,2,19980219,0848, 26.4913, -73.9670, 4665,   1597.1,   4.1490,  34.9900,  34.9920,2,    263.4,2,     262.6,2,    12.70,2,    17.87,2,     0.01,2,     1.19,2,    0.989,6,    0.485,6,    0.043,6, -999.000,9,    -46.3,2,  -999.00,9,   2160.8,2,   2310.9,2,   7.7326,2,   723.3,2,   20.0, -999.00,9,   364.4,     2.5,   41.06,2
31RBOACES24N_2,  AR01,   102,  1,     14,2,19980219,0848, 26.4913, -73.9670, 4665,   1793.2,   3.8730,  34.9750,  34.9760,2,    267.9,2,     267.5,2,    13.40,2,    17.67,2,     0.01,2,     1.18,2,    0.878,2,    0.432,2,    0.035,2, -999.000,9,    -50.1,2,  -999.00,9,   2159.9,2,   2315.9,2,   7.7355,2,  -999.0,9, -999.0, -999.00,9,  -999.0,     3.1, -999.00,9
31RBOACES24N_2,  AR01,   102,  1,     13,2,19980219,0848, 26.4913, -73.9670, 4665,   1999.5,   3.7070,  34.9740,  34.9760,2,    267.9,2,     268.0,2,    14.60,2,    17.77,2,     0.01,2,     1.19,2,    0.629,2,    0.317,2,    0.026,2,    1.265,2,    -44.0,2,  -999.00,9,   2159.9,2,   2311.8,2,   7.7379,2,   717.3,2,   20.0, -999.00,9,   353.4,     3.2,   40.77,2
31RBOACES24N_2,  AR01,   102,  1,     12,2,19980219,0848, 26.4913, -73.9670, 4665,   2200.8,   3.5140,  34.9700,  34.9700,2,    268.3,2,     268.3,2,    16.00,2,    17.77,2,     0.01,2,     1.20,2, -999.000,9, -999.000,9, -999.000,9, -999.000,9,    -64.7,2,  -999.00,9,   2160.1,2,   -999.0,9,   7.7377,2,  -999.0,9, -999.0, -999.00,9,  -999.0,     2.8, -999.00,9
31RBOACES24N_2,  AR01,   102,  1,     11,2,19980219,0848, 26.4913, -73.9670, 4665,   2400.8,   3.3000,  34.9600,  34.9610,2,    268.4,2,     268.7,2,    17.70,2,    17.77,2,     0.01,2,     1.21,2,    0.384,2,    0.196,2,    0.015,2, -999.000,9,    -59.7,2,  -999.00,9,   2160.4,2,   -999.0,9,   7.7392,2,   717.5,2,   20.0, -999.00,9,   346.3,     2.6,   40.96,2
31RBOACES24N_2,  AR01,   102,  1,     10,2,19980219,0848, 26.4913, -73.9670, 4665,   2599.7,   3.1490,  34.9510,  34.9520,2,    269.0,2,     270.1,2,    18.60,2,    17.77,2,     0.01,2,     1.20,2,    0.388,2,    0.196,2,    0.021,2,    0.902,2,    -78.6,2,  -999.00,9,   2161.7,2,   -999.0,9,   7.7380,2,  -999.0,9, -999.0, -999.00,9,  -999.0,     3.1, -999.00,9
31RBOACES24N_2,  AR01,   102,  1,      9,2,19980219,0848, 26.4913, -73.9670, 4665,   2799.8,   2.9700,  34.9410,  34.9430,2,    270.6,2,     271.6,2,    19.50,2,    17.67,2,     0.01,2,     1.20,2,    0.407,2,    0.197,2,    0.018,2, -999.000,9,    -64.2,2,  -999.00,9,   2162.0,2,   2315.4,2,-999.0000,9,   720.5,2,   20.0, -999.00,9,   341.9,     2.9,   40.96,2
31RBOACES24N_2,  AR01,   102,  1,      8,2,19980219,0848, 26.4913, -73.9670, 4665,   2999.0,   2.8240,  34.9330,  34.9340,2,    271.1,2,     272.7,2,    20.40,2,    17.68,2,     0.01,2,     1.20,2,    0.455,2,    0.225,2,    0.018,2,    0.949,2,    -75.6,2,  -999.00,9,   2161.8,2,   -999.0,9,   7.7389,2,  -999.0,9, -999.0, -999.00,9,  -999.0,     2.6, -999.00,9
31RBOACES24N_2,  AR01,   102,  1,      7,2,19980219,0848, 26.4913, -73.9670, 4665,   3249.3,   2.6450,  34.9220,  34.9230,2,    274.1,2,     274.5,2,    21.40,2,    17.58,2,     0.01,2,     1.20,2,    0.473,2,    0.235,2,    0.017,2, -999.000,9,    -63.5,2,  -999.00,9,   2162.2,2,   2321.8,2,-999.0000,9,   725.5,2,   20.0, -999.00,9,   338.7,     2.5,   40.96,2
31RBOACES24N_2,  AR01,   102,  1,      6,2,19980219,0848, 26.4913, -73.9670, 4665,   3498.0,   2.4650,  34.9110,  34.9120,2,    275.3,2,     275.6,2,    23.00,2,    17.58,2,     0.01,2,     1.20,2,    0.567,2,    0.281,2,    0.021,2,    1.135,6,    -60.6,2,  -999.00,9,   2163.7,2,   -999.0,9,   7.7370,2,  -999.0,9, -999.0, -999.00,9,  -999.0,     2.9, -999.00,9
31RBOACES24N_2,  AR01,   102,  1,      5,2,19980219,0848, 26.4913, -73.9670, 4665,   3746.9,   2.3600,  34.9030,  34.9040,2,    274.6,2,     275.3,2,    25.30,2,    17.68,2,     0.01,2,     1.22,2,    0.583,2,    0.285,2,    0.023,2,    1.143,2,    -68.1,2,  -999.00,9,   2165.6,2,   2320.7,2,   7.7350,2,  -999.0,9, -999.0, -999.00,9,  -999.0,     2.5,   41.64,2
31RBOACES24N_2,  AR01,   102,  1,      4,2,19980219,0848, 26.4913, -73.9670, 4665,   3999.3,   2.2970,  34.8970,  34.8980,2,    273.6,2,     273.6,2,    27.70,2,    18.07,2,     0.01,2,     1.24,2,    0.563,2,    0.278,2,    0.029,2,    1.105,2,    -72.2,2,  -999.00,9,   2169.6,2,   -999.0,9,-999.0000,9,   736.9,2,   20.0, -999.00,9,   337.9,     2.9, -999.00,9
31RBOACES24N_2,  AR01,   102,  1,      3,2,19980219,0848, 26.4913, -73.9670, 4665,   4248.1,   2.2700,  34.8930,  34.8940,2,    270.9,2,     271.5,2,    30.60,2,    18.55,2,     0.01,2,     1.27,2,    0.416,2,    0.210,2,    0.020,2, -999.000,9,    -83.7,2,  -999.00,9,   2173.0,2,   -999.0,5,   7.7308,2,  -999.0,9, -999.0, -999.00,9,  -999.0,     2.8,   41.64,2
31RBOACES24N_2,  AR01,   102,  1,      2,2,19980219,0848, 26.4913, -73.9670, 4665,   4492.2,   2.2440,  34.8870,  34.8880,2,    268.4,2,     268.3,2,    34.00,2,    19.04,2,     0.01,2,     1.31,2,    0.367,2,    0.187,2,    0.030,2,    0.811,2,    -81.6,2,  -999.00,9,   2177.9,2,   -999.0,9,   7.7310,2,  -999.0,9, -999.0, -999.00,9,  -999.0,     3.6, -999.00,9
31RBOACES24N_2,  AR01,   102,  1,      1,2,19980219,0848, 26.4913, -73.9670, 4665,   4712.7,   2.2120,  34.8800,  34.8810,2,    263.3,2,     264.5,2,    38.80,6,    19.92,6,     0.01,6,     1.38,6,    0.238,2,    0.138,2,    0.024,2,    0.604,2,    -96.8,2,  -999.00,9,   2184.2,2,   2337.1,2,   7.7262,2,   748.4,2,   20.0, -999.00,9,   341.2,     2.6,   41.54,2