BOTTLE,20220820CCHSIOAMB
EXPOCODE,SECT_ID,STNNBR,CASTNO,BTLNBR,BTLNBR_FLAG_W,DATE,TIME,LATITUDE,LONGITUDE,DEPTH,CTDPRS,CTDTMP,CTDSAL,SALNTY,SALNTY_FLAG_W,CTDOXY,CTDOXY_FLAG_W,OXYGEN,OXYGEN_FLAG_W,SILCAT,SILCAT_FLAG_W,NITRAT,NITRAT_FLAG_W,NITRIT,NITRIT_FLAG_W,PHSPHT,PHSPHT_FLAG_W,CFC-11,CFC-11_FLAG_W,CFC-12,CFC-12_FLAG_W,CFC113,CFC113_FLAG_W,CCL4,CCL4_FLAG_W,DELC14,DELC14_FLAG_W,DELC13,DELC13_FLAG_W,TCARBN,TCARBN_FLAG_W,ALKALI,ALKALI_FLAG_W,PH,PH_FLAG_W,FCO2,FCO2_FLAG_W,FCO2TMP,TON,TON_FLAG_W,FCO2IN,C14ERR,TOC,TOC_FLAG_W
,,,,,,,,,,,DBAR,ITS-90,PSS-78,PSS-78,,UMOL/KG,,UMOL/KG,,UMOL/KG,,UMOL/KG,,UMOL/KG,,UMOL/KG,,PMOL/KG,,PMOL/KG,,PMOL/KG,,PMOL/KG,,/MILLE,,/MILLE,,UMOL/KG,,UMOL/KG,,,,UATM,,DEG C,UMOL/KG,,UATM,/MILLE,UMOL/KG,
31RBOACES24N_2,  AR01,    86,  1,     36,2,19980215,0856, 24.4997, -66.9328, 5730,      3.6,  24.8740,  36.5020,  36.5020,2,    211.3,2,     210.6,2,     0.90,2,     0.20,2,     0.00,2,     0.00,2,    1.814,2,    1.053,2,    0.141,2, -999.000,9,    112.8,2,     1.31,2,   2018.4,6,   2393.1,2,   8.1133,2,   265.3,2,   20.0, -999.00,9,   323.6,     3.7,   70.96,2
31RBOACES24N_2,  AR01,    86,  1,     35,2,19980215,0856, 24.4997, -66.9328, 5730,     29.8,  24.8040,  36.5500,  36.5540,2,    209.6,2,     210.7,2,     0.80,2,     0.20,2,     0.00,2,     0.00,2, -999.000,9, -999.000,9, -999.000,9, -999.000,9,     80.0,2,     1.43,2,   2020.9,2,   2396.8,2,-999.0000,9,  -999.0,9, -999.0, -999.00,9,  -999.0,     4.1,   71.74,2
31RBOACES24N_2,  AR01,    86,  1,     34,2,19980215,0856, 24.4997, -66.9328, 5730,     79.8,  24.7120,  36.6680,  36.7150,2,    209.8,2,     210.6,2,     0.70,2,     0.20,2,     0.00,2,     0.00,2,    1.883,2,    1.079,2,    0.160,2, -999.000,9,   -999.0,9,     1.28,2,   2034.5,2,   2406.4,2,   8.0993,2,   276.7,2,   20.0, -999.00,9,   333.0,  -999.0,   68.80,2
31RBOACES24N_2,  AR01,    86,  1,     33,2,19980215,0856, 24.4997, -66.9328, 5730,    152.1,  21.3340,  36.8800,  36.8880,2,    194.7,2,     197.6,2,     0.50,2,     0.98,2,     0.02,2,     0.02,2,    2.149,2,    1.221,2,    0.084,2, -999.000,9,     88.7,2,     1.11,2,   2088.5,2,   2415.7,2,   8.0297,2,   343.3,2,   20.0, -999.00,9,   362.6,     2.9,   56.54,2
31RBOACES24N_2,  AR01,    86,  1,     32,2,19980215,0856, 24.4997, -66.9328, 5730,    202.3,  19.7070,  36.7410,  36.7410,2,    192.6,2,     194.1,2,     0.70,2,     2.05,2,     0.01,2,     0.05,2,    2.255,2,    1.255,2,    0.048,2, -999.000,9,    111.6,2,     0.89,2,   2097.1,2,   -999.0,5,   8.0004,2,   372.1,2,   20.0, -999.00,9,   367.6,     2.6,   51.55,2
31RBOACES24N_2,  AR01,    86,  1,     31,2,19980215,0856, 24.4997, -66.9328, 5730,    224.9,  19.1330,  36.6760,  36.6760,2,    192.0,2,     193.7,2,     0.80,2,     2.93,2,     0.01,2,     0.09,2,    2.276,2,    1.265,2,    0.023,2, -999.000,9,   -999.0,9,     1.05,2,   2100.5,2,   -999.0,5,   7.9914,2,  -999.0,9, -999.0, -999.00,9,  -999.0,  -999.0,   51.16,2
31RBOACES24N_2,  AR01,    86,  1,     30,2,19980215,0856, 24.4997, -66.9328, 5730,    251.4,  18.6910,  36.6180,  36.6190,2,    194.1,2,     196.7,2,     1.10,2,     3.61,2,     0.01,2,     0.13,2,    2.295,6,    1.265,6,    0.024,6, -999.000,9,    124.2,2,     0.90,2,   2098.9,2,   -999.0,5,   7.9885,2,   381.4,2,   20.0, -999.00,9,   361.6,     3.4,   51.35,2
31RBOACES24N_2,  AR01,    86,  1,     29,2,19980215,0856, 24.4997, -66.9328, 5730,    264.8,  18.5400,  36.5990,  36.5990,2,    196.3,2,     198.3,2,     1.00,2,     3.81,2,     0.00,2,     0.14,2,    2.290,2,    1.256,2,    0.022,2, -999.000,9,     92.2,2,     1.09,2,   2097.1,2,   2407.8,2,-999.0000,9,  -999.0,9, -999.0, -999.00,9,  -999.0,     3.3,   48.62,2
31RBOACES24N_2,  AR01,    86,  1,     28,2,19980215,0856, 24.4997, -66.9328, 5730,    302.0,  18.2330,  36.5540,  36.5560,2,    202.1,2,     201.7,2,     1.20,2,     4.20,2,     0.01,2,     0.17,2,    2.319,2,    1.276,2,    0.024,2, -999.000,9,     94.7,2,     1.11,2,   2096.2,2,   -999.0,5,   7.9848,2,   384.6,2,   20.0, -999.00,9,   357.9,     3.0, -999.00,9
31RBOACES24N_2,  AR01,    86,  1,     27,3,19980215,0856, 24.4997, -66.9328, 5730,    335.4,  17.9050,  36.5040,  36.5100,2,    200.5,2,     199.4,2,     1.40,2,     4.98,2,     0.01,2,     0.23,2,    2.261,2,    1.229,2,    0.023,2, -999.000,9,    102.2,2,     0.87,2,   2101.0,2,   -999.0,5,   7.9716,2,  -999.0,9, -999.0, -999.00,9,  -999.0,     3.1,   47.05,2
31RBOACES24N_2,  AR01,    86,  1,     26,2,19980215,0856, 24.4997, -66.9328, 5730,    400.1,  16.9610,  36.3440,  36.3470,2,    183.5,2,     185.5,2,     2.20,2,     7.81,2,     0.00,2,     0.40,2,    2.105,2,    1.118,2,    0.028,2, -999.000,9,     98.7,2,     0.84,2,   2117.3,2,   2376.6,2,   7.9322,2,   446.3,6,   20.0, -999.00,9,   394.4,     2.3, -999.00,9
31RBOACES24N_2,  AR01,    86,  1,     25,2,19980215,0856, 24.4997, -66.9328, 5730,    449.5,  16.0920,  36.1990,  36.2060,2,    184.2,2,     181.4,2,     2.80,2,     9.47,2,     0.00,2,     0.51,2,    2.014,2,    1.061,2,    0.022,2, -999.000,9,     62.5,2,     0.96,2,   2126.5,2,   2382.5,2,-999.0000,9,  -999.0,9, -999.0, -999.00,9,  -999.0,     3.2,   42.56,2
31RBOACES24N_2,  AR01,    86,  1,     24,2,19980215,0856, 24.4997, -66.9328, 5730,    498.8,  14.9670,  36.0120,  36.0170,2,    178.0,2,     174.2,2,     4.00,2,    12.01,2,     0.01,2,     0.68,2,    1.768,2,    0.925,2,    0.021,2, -999.000,9,     68.2,2,     0.75,2,   2136.5,2,   2359.9,2,   7.8684,2,   519.4,2,   20.0, -999.00,9,   423.1,     3.7, -999.00,9
31RBOACES24N_2,  AR01,    86,  1,     23,2,19980215,0856, 24.4997, -66.9328, 5730,    548.6,  13.8800,  35.8380,  35.8420,2,    166.3,2,     163.2,2,     5.40,2,    14.84,2,     0.00,2,     0.86,2, -999.000,9, -999.000,9, -999.000,9, -999.000,9,     55.7,2,     0.74,6,   2149.3,2,   2347.9,2,-999.0000,9,  -999.0,9, -999.0, -999.00,9,  -999.0,     2.3,   42.36,2
31RBOACES24N_2,  AR01,    86,  1,     22,2,19980215,0856, 24.4997, -66.9328, 5730,    600.2,  12.8130,  35.6750,  35.6790,2,    158.2,2,     158.8,2,     6.80,2,    17.09,2,     0.00,2,     1.03,2,    1.259,2,    0.650,2,    0.015,2, -999.000,9,    174.7,4,     0.70,2,   2157.5,2,   2343.3,2,   7.7904,2,   629.6,2,   20.0, -999.00,9,   469.0,     3.6, -999.00,9
31RBOACES24N_2,  AR01,    86,  1,     21,2,19980215,0856, 24.4997, -66.9328, 5730,    698.6,  10.7450,  35.3970,  35.3950,2,    151.5,2,     149.0,2,    10.70,2,    21.69,2,     0.00,2,     1.34,2,    0.683,2,    0.359,2,    0.015,2, -999.000,9,    -29.9,2,     0.88,2,   2175.7,2,   2325.6,2,-999.0000,9,  -999.0,9, -999.0, -999.00,9,  -999.0,     3.0,   41.38,2
31RBOACES24N_2,  AR01,    86,  1,     20,2,19980215,0856, 24.4997, -66.9328, 5730,    798.6,   8.8120,  35.1610,  35.1740,2,    142.1,2,     142.2,2,    14.90,2,    25.50,2,     0.00,2,     1.62,2,    0.284,2,    0.157,2,    0.004,2, -999.000,9,    -72.5,2,     0.82,2,   2192.3,2,   2322.5,2,   7.6715,2,   861.1,2,   20.0, -999.00,9,   543.5,     2.3, -999.00,9
31RBOACES24N_2,  AR01,    86,  1,     19,2,19980215,0856, 24.4997, -66.9328, 5730,    850.0,   7.9200,  35.0400,  35.0420,2,    142.1,2,     141.4,2,    17.60,2,    27.46,2,     0.00,2,     1.77,2,    0.202,2,    0.109,2,    0.000,2, -999.000,9,    -79.4,2,     0.66,2,   2199.1,2,   -999.0,9,   7.6423,2,   934.4,2,   20.0, -999.00,9,   567.8,     2.9,   41.47,2
31RBOACES24N_2,  AR01,    86,  1,     18,2,19980215,0856, 24.4997, -66.9328, 5730,    900.8,   7.4250,  35.0100,  35.0080,2,    146.1,2,     145.9,2,    18.60,2,    27.66,2,     0.00,2,     1.80,2,    0.159,2,    0.087,2,    0.006,2, -999.000,9,    -89.4,2,     0.80,2,   2201.2,2,   -999.0,9,   7.6386,2,   937.3,2,   20.0, -999.00,9,   556.8,     1.8, -999.00,9
31RBOACES24N_2,  AR01,    86,  1,     17,2,19980215,0856, 24.4997, -66.9328, 5730,    999.0,   6.4210,  34.9340,  34.9410,2,    160.7,2,     157.7,2,    20.30,2,    27.75,2,     0.00,2,     1.83,2,    0.133,2,    0.069,2,    0.003,2, -999.000,9,    -68.3,2,     0.69,2,   2202.1,6,   -999.0,9,   7.6303,2,   962.8,2,   20.0, -999.00,9,   547.5,     1.8,   41.56,2
31RBOACES24N_2,  AR01,    86,  1,     16,2,19980215,0856, 24.4997, -66.9328, 5730,   1100.3,   6.1250,  34.9960,  35.0040,2,    177.2,2,     181.2,2,    18.00,2,    24.92,2,     0.00,2,     1.64,2,    0.246,2,    0.127,2,    0.009,2, -999.000,9,   -999.0,9,  -999.00,9,   2192.2,2,   2323.4,2,   7.6648,2,   864.7,2,   20.0, -999.00,9,   482.3,  -999.0, -999.00,9
31RBOACES24N_2,  AR01,    86,  1,     15,2,19980215,0856, 24.4997, -66.9328, 5730,   1300.8,   5.2460,  35.0570,  35.0590,2,    233.2,2,     231.6,2,    13.40,2,    19.74,2,     0.00,2,     1.30,2,    0.610,2,    0.298,2,    0.022,2, -999.000,9,    -69.8,2,     0.88,2,   2173.1,2,   -999.0,9,   7.7129,2,  -999.0,9, -999.0, -999.00,9,  -999.0,     2.0,   42.72,2
31RBOACES24N_2,  AR01,    86,  1,     14,2,19980215,0856, 24.4997, -66.9328, 5730,   1499.3,   4.4770,  35.0190,  35.0200,2,    256.4,2,     256.7,2,    12.50,2,    18.37,2,     0.00,2,     1.21,2,    0.793,6,    0.389,6,    0.030,6, -999.000,9,    -57.7,2,     1.06,2,   2164.8,2,   -999.0,5,   7.7278,2,   738.3,2,   20.0, -999.00,9,   379.5,     2.9, -999.00,9
31RBOACES24N_2,  AR01,    86,  1,     13,2,19980215,0856, 24.4997, -66.9328, 5730,   1748.5,   4.0060,  34.9940,  34.9960,2,    265.4,2,     265.2,2,    13.30,2,    17.98,2,     0.00,2,     1.19,2,    0.639,2,    0.318,2,    0.023,2, -999.000,9,    -71.3,2,     1.16,2,   2160.8,2,   -999.0,5,   7.7352,2,  -999.0,9, -999.0, -999.00,9,  -999.0,     2.6,   44.37,3
31RBOACES24N_2,  AR01,    86,  1,     12,2,19980215,0856, 24.4997, -66.9328, 5730,   2000.4,   3.7220,  34.9840,  34.9860,2,    266.7,2,     266.9,2,    15.00,2,    18.08,2,     0.00,2,     1.20,2,    0.394,2,    0.200,2,    0.012,2, -999.000,9,    -61.8,2,     0.98,2,   2161.7,2,   -999.0,9,   7.7364,2,   717.8,2,   20.0, -999.00,9,   355.6,     2.2, -999.00,9
31RBOACES24N_2,  AR01,    86,  1,     11,2,19980215,0856, 24.4997, -66.9328, 5730,   2249.6,   3.4490,  34.9770,  34.9790,2,    263.4,2,     267.0,2,    17.90,2,    18.27,2,     0.00,2,     1.22,2,    0.190,2,    0.099,2,    0.007,2, -999.000,9,    -84.8,2,     1.04,2,   2163.7,2,   2317.8,2,   7.7381,2,  -999.0,9, -999.0, -999.00,9,  -999.0,     2.3,   41.74,2
31RBOACES24N_2,  AR01,    86,  1,     10,2,19980215,0856, 24.4997, -66.9328, 5730,   2499.1,   3.1930,  34.9600,  34.9610,2,    264.1,2,     268.2,2,    19.50,2,    18.27,2,     0.00,2,     1.22,2,    0.203,2,    0.105,2,    0.013,2, -999.000,9,    -73.9,2,     1.13,2,   2164.9,2,   -999.0,9,   7.7390,2,   719.2,2,   20.0, -999.00,9,   347.1,     2.5, -999.00,9
31RBOACES24N_2,  AR01,    86,  1,      9,9,19980215,0856, 24.4997, -66.9328, 5730,   2747.5,   2.9970,  34.9520,-999.0000,9,    262.4,2,    -999.0,9,  -999.00,9,  -999.00,9,  -999.00,9,  -999.00,9, -999.000,9, -999.000,9, -999.000,9, -999.000,9,   -999.0,9,  -999.00,9,   -999.0,9,   -999.0,9,-999.0000,9,  -999.0,9, -999.0, -999.00,9,  -999.0,  -999.0, -999.00,9
31RBOACES24N_2,  AR01,    86,  1,      8,2,19980215,0856, 24.4997, -66.9328, 5730,   2997.6,   2.8400,  34.9410,  34.9410,2,    263.6,2,     263.9,2,    27.30,2,    19.35,2,     0.00,2,     1.31,2,    0.070,2,    0.034,2,    0.010,2, -999.000,9,    -98.7,2,     1.24,2,   2173.0,2,   -999.0,9,   7.7378,2,   718.1,2,   20.0, -999.00,9,   340.4,     1.8, -999.00,9
31RBOACES24N_2,  AR01,    86,  1,      7,2,19980215,0856, 24.4997, -66.9328, 5730,   3399.8,   2.5830,  34.9190,  34.9210,2,    268.5,2,     269.1,2,    28.00,2,    18.96,2,     0.00,2,     1.29,2,    0.129,2,    0.065,2,    0.000,2, -999.000,9,   -999.0,9,  -999.00,9,   2171.5,2,   2327.0,2,-999.0000,9,  -999.0,9, -999.0, -999.00,9,  -999.0,  -999.0,   41.35,2
31RBOACES24N_2,  AR01,    86,  1,      6,2,19980215,0856, 24.4997, -66.9328, 5730,   3798.6,   2.4170,  34.9080,  34.9080,2,    270.6,2,     271.2,2,    29.50,2,    18.86,2,     0.00,2,     1.29,2,    0.140,2,    0.070,2,    0.003,2, -999.000,9,   -999.0,9,  -999.00,9,   2172.2,2,   -999.0,9,   7.7367,2,   730.8,2,   20.0, -999.00,9,   339.0,  -999.0, -999.00,9
31RBOACES24N_2,  AR01,    86,  1,      5,2,19980215,0856, 24.4997, -66.9328, 5730,   4196.4,   2.3280,  34.8990,  34.8990,2,    271.2,2,     271.5,2,    31.40,2,    18.96,2,     0.00,2,     1.30,2,    0.121,6,    0.068,6,    0.005,6, -999.000,9,   -999.0,9,  -999.00,9,   2174.3,2,   2327.9,2,   7.7357,2,  -999.0,9, -999.0, -999.00,9,  -999.0,  -999.0,   41.54,2
31RBOACES24N_2,  AR01,    86,  1,      4,2,19980215,0856, 24.4997, -66.9328, 5730,   4581.9,   2.2760,  34.8900,  34.8900,2,    269.6,2,     269.3,2,    34.80,2,    19.45,2,     0.00,2,     1.34,2,    0.110,2,    0.057,2,    0.009,2, -999.000,9,   -999.0,9,  -999.00,9,   2178.1,2,   -999.0,9,-999.0000,9,   741.0,2,   20.0, -999.00,9,   341.2,  -999.0, -999.00,9
31RBOACES24N_2,  AR01,    86,  1,      3,2,19980215,0856, 24.4997, -66.9328, 5730,   4997.5,   2.1840,  34.8730,  34.8740,2,    264.0,2,     263.7,2,    43.10,2,    20.72,2,     0.00,2,     1.43,2,    0.061,2,    0.038,2,    0.005,2, -999.000,9,   -999.0,9,  -999.00,9,   2187.7,2,   2340.9,2,   7.7230,2,  -999.0,9, -999.0, -999.00,9,  -999.0,  -999.0,   41.44,2
31RBOACES24N_2,  AR01,    86,  1,      2,2,19980215,0856, 24.4997, -66.9328, 5730,   5385.6,   2.0890,  34.8550,  34.8560,2,    257.6,2,     257.8,2,    51.70,2,    22.09,2,     0.01,2,     1.53,2,    0.032,2,    0.025,2,    0.009,2, -999.000,9,   -999.0,9,  -999.00,9,   2198.3,2,   -999.0,9,   7.7142,2,   782.8,2,   20.0, -999.00,9,   356.9,  -999.0, -999.00,9
31RBOACES24N_2,  AR01,    86,  1,      1,2,19980215,0856, 24.4997, -66.9328, 5730,   5815.6,   2.0880,  34.8470,  34.8470,2,    254.6,2,     255.7,6,    55.30,6,    22.67,6,     0.00,6,     1.56,6,    0.025,2,    0.021,2,    0.004,2, -999.000,9,   -999.0,9,  -999.00,9,   2202.6,2,   2351.6,2,   7.7085,2,   792.9,6,   20.0, -999.00,9,   360.8,  -999.0,   41.64,2