BOTTLE,20220820CCHSIOAMB
EXPOCODE,SECT_ID,STNNBR,CASTNO,BTLNBR,BTLNBR_FLAG_W,DATE,TIME,LATITUDE,LONGITUDE,DEPTH,CTDPRS,CTDTMP,CTDSAL,SALNTY,SALNTY_FLAG_W,CTDOXY,CTDOXY_FLAG_W,OXYGEN,OXYGEN_FLAG_W,SILCAT,SILCAT_FLAG_W,NITRAT,NITRAT_FLAG_W,NITRIT,NITRIT_FLAG_W,PHSPHT,PHSPHT_FLAG_W,CFC-11,CFC-11_FLAG_W,CFC-12,CFC-12_FLAG_W,CFC113,CFC113_FLAG_W,CCL4,CCL4_FLAG_W,DELC14,DELC14_FLAG_W,DELC13,DELC13_FLAG_W,TCARBN,TCARBN_FLAG_W,ALKALI,ALKALI_FLAG_W,PH,PH_FLAG_W,FCO2,FCO2_FLAG_W,FCO2TMP,TON,TON_FLAG_W,FCO2IN,C14ERR,TOC,TOC_FLAG_W
,,,,,,,,,,,DBAR,ITS-90,PSS-78,PSS-78,,UMOL/KG,,UMOL/KG,,UMOL/KG,,UMOL/KG,,UMOL/KG,,UMOL/KG,,PMOL/KG,,PMOL/KG,,PMOL/KG,,PMOL/KG,,/MILLE,,/MILLE,,UMOL/KG,,UMOL/KG,,,,UATM,,DEG C,UMOL/KG,,UATM,/MILLE,UMOL/KG,
31RBOACES24N_2,  AR01,    94,  1,     36,2,19980217,1423, 26.5005, -71.0000, 5491,      4.4,  23.7750,  36.7570,  36.7560,2,    214.7,2,     212.9,2,     0.80,2,     0.10,2,     0.00,2,     0.00,2,    1.899,2,    1.099,2,    0.155,2,    1.968,2,     85.6,2,     1.27,2,   2034.8,6,   2402.8,2,   8.1051,2,   276.9,2,   20.0, -999.00,9,   321.5,     2.9,   67.70,2
31RBOACES24N_2,  AR01,    94,  1,     35,2,19980217,1423, 26.5005, -71.0000, 5491,     41.5,  23.6840,  36.7660,  36.7670,2,    211.5,2,     213.4,2,     0.60,2,     0.00,2,     0.00,2,     0.00,2,    1.917,2,    1.103,2,    0.171,2, -999.000,9,     69.2,2,     1.24,2,   2037.5,2,   2411.2,2,   8.1038,2,   278.2,2,   20.0, -999.00,9,   321.8,     3.2,   67.90,2
31RBOACES24N_2,  AR01,    94,  1,     34,2,19980217,1423, 26.5005, -71.0000, 5491,     77.2,  23.4360,  36.8860,  36.8840,2,    212.6,2,     213.2,2,     0.50,2,     0.00,2,     0.00,2,     0.00,2,    1.984,2,    1.130,2,    0.172,2, -999.000,9,     74.8,2,     1.20,2,   2053.5,2,   2418.1,2,   8.0865,2,   292.6,2,   20.0, -999.00,9,   335.2,     3.6,   61.84,2
31RBOACES24N_2,  AR01,    94,  1,     33,2,19980217,1423, 26.5005, -71.0000, 5491,    115.6,  22.7040,  36.8010,  36.8550,2,    213.8,2,     213.0,2,     0.40,2,     0.00,2,     0.02,2,     0.01,2,    2.011,2,    1.155,2,    0.160,2, -999.000,9,     77.5,2,     1.15,2,   2056.1,2,   2408.7,2,   8.0813,2,   298.0,2,   20.0, -999.00,9,   331.8,     2.9,   58.80,2
31RBOACES24N_2,  AR01,    94,  1,     32,2,19980217,1423, 26.5005, -71.0000, 5491,    157.3,  21.5700,  37.0000,  36.9960,2,    197.7,2,     195.4,2,     0.40,2,     0.59,2,     0.02,2,     0.02,2,    2.153,2,    1.221,2,    0.114,2, -999.000,9,     79.2,2,     1.00,2,   2096.4,2,   2417.6,2,   8.0285,2,   347.8,2,   20.0, -999.00,9,   370.3,     3.5,   56.34,2
31RBOACES24N_2,  AR01,    94,  1,     31,2,19980217,1423, 26.5005, -71.0000, 5491,    201.1,  19.9280,  36.7900,  36.7910,2,    193.3,2,     193.7,2,     0.50,2,     1.37,2,     0.00,2,     0.04,2,    2.246,2,    1.262,2,    0.070,2, -999.000,9,     77.3,2,     0.90,2,   2100.5,2,   2409.7,2,   8.0035,2,   373.9,2,   20.0, -999.00,9,   372.8,     3.8,   52.62,2
31RBOACES24N_2,  AR01,    94,  1,     30,2,19980217,1423, 26.5005, -71.0000, 5491,    224.6,  19.4890,  36.7280,  36.7260,2,    198.3,2,     197.1,2,     0.60,2,     1.56,2,     0.00,2,     0.04,2,    2.288,2,    1.275,2,    0.053,2, -999.000,9,     80.2,2,     0.92,2,   2098.6,2,   -999.0,9,   8.0032,2,   374.1,6,   20.0, -999.00,9,   366.6,     2.5,   50.48,2
31RBOACES24N_2,  AR01,    94,  1,     29,2,19980217,1423, 26.5005, -71.0000, 5491,    245.9,  19.1970,  36.7100,  36.7090,2,    190.4,2,     190.4,2,     0.70,2,     2.73,2,     0.00,2,     0.08,2,    2.292,2,    1.269,2,    0.027,2, -999.000,9,     92.9,2,     0.81,2,   2107.0,2,   -999.0,5,   7.9858,2,   391.0,2,   20.0, -999.00,9,   378.6,     3.1,   49.11,2
31RBOACES24N_2,  AR01,    94,  1,     28,2,19980217,1423, 26.5005, -71.0000, 5491,    269.8,  18.6520,  36.6110,  36.6120,2,    192.9,2,     197.3,2,     0.90,2,     3.22,2,     0.00,2,     0.11,2,    2.319,2,    1.271,2,    0.029,2, -999.000,9,     95.3,2,     0.90,2,   2100.0,2,   -999.0,9,-999.0000,9,   388.5,2,   20.0, -999.00,9,   368.0,     4.1, -999.00,9
31RBOACES24N_2,  AR01,    94,  1,     27,2,19980217,1423, 26.5005, -71.0000, 5491,    299.6,  18.3600,  36.5730,  36.5730,2,    198.5,2,     200.1,2,     1.00,2,     3.71,2,     0.00,2,     0.14,2,    2.319,2,    1.267,2,    0.028,2, -999.000,9,     85.2,2,     0.88,2,   2098.6,2,   2396.0,2,   7.9890,2,   384.1,2,   20.0, -999.00,9,   359.5,     3.3,   47.84,2
31RBOACES24N_2,  AR01,    94,  1,     26,2,19980217,1423, 26.5005, -71.0000, 5491,    349.8,  18.0850,  36.5330,  36.5300,2,    201.4,2,     202.2,2,     1.20,2,     4.20,2,     0.00,2,     0.18,2,    2.312,6,    1.261,6,    0.027,6, -999.000,9,     89.8,2,     0.85,2,   2098.8,2,   -999.0,9,   7.9846,2,   390.7,2,   20.0, -999.00,9,   361.6,     3.6, -999.00,9
31RBOACES24N_2,  AR01,    94,  1,     25,2,19980217,1423, 26.5005, -71.0000, 5491,    401.1,  17.7350,  36.4760,  36.4780,2,    196.2,2,     196.7,2,     1.40,2,     5.27,2,     0.00,2,     0.24,2,    2.320,2,    1.253,2,    0.030,2, -999.000,9,     79.0,2,     0.85,2,   2105.3,2,   2391.7,2,-999.0000,9,   403.3,2,   20.0, -999.00,9,   368.0,     3.7,   44.62,2
31RBOACES24N_2,  AR01,    94,  1,     24,2,19980217,1423, 26.5005, -71.0000, 5491,    497.8,  16.3290,  36.2400,  36.2400,2,    185.8,2,     184.2,2,     2.50,2,     8.59,2,     0.00,2,     0.43,2,    2.081,2,    1.104,2,    0.028,2, -999.000,9,     77.0,6,     0.85,6,   2123.0,2,   2376.6,2,   7.9163,2,   462.2,2,   20.0, -999.00,9,   398.1,     5.4, -999.00,9
31RBOACES24N_2,  AR01,    94,  1,     23,2,19980217,1423, 26.5005, -71.0000, 5491,    598.5,  14.3690,  35.9110,  35.9110,2,    173.4,2,     170.6,2,     4.60,2,    13.08,2,     0.00,2,     0.73,2,    1.658,2,    0.860,2,    0.021,2, -999.000,9,     50.3,2,     0.77,2,   2140.5,2,   2360.5,2,   7.8516,2,   545.9,2,   20.0, -999.00,9,   433.8,     3.6,   42.46,2
31RBOACES24N_2,  AR01,    94,  1,     22,2,19980217,1423, 26.5005, -71.0000, 5491,    698.3,  12.4380,  35.6390,  35.6380,2,    166.9,2,     163.0,2,     7.00,2,    16.89,2,     0.00,2,     0.99,2,    1.191,2,    0.615,2,    0.018,2, -999.000,9,     -1.6,2,     0.72,2,   2154.9,2,   -999.0,5,   7.7938,2,   634.7,2,   20.0, -999.00,9,   465.3,     3.7, -999.00,9
31RBOACES24N_2,  AR01,    94,  1,     21,2,19980217,1423, 26.5005, -71.0000, 5491,    798.5,  10.4940,  35.3760,  35.3740,2,    153.1,2,     152.4,2,    10.80,2,    21.29,2,     0.00,2,     1.32,2,    0.684,2,    0.355,2,    0.016,2, -999.000,9,    -27.4,2,     0.64,2,   2175.4,2,   2355.7,3,-999.0000,9,   737.7,2,   20.0, -999.00,9,   498.9,     3.1,   42.06,2
31RBOACES24N_2,  AR01,    94,  1,     20,2,19980217,1423, 26.5005, -71.0000, 5491,    849.6,   9.4850,  35.2520,  35.2580,2,    149.4,2,     148.9,2,    12.90,2,    23.34,2,     0.00,2,     1.46,2,    0.492,2,    0.261,2,    0.010,2, -999.000,9,    -51.7,2,     0.67,2,   2185.6,2,   -999.0,5,   7.6989,2,   791.1,2,   20.0, -999.00,9,   512.3,     3.0, -999.00,9
31RBOACES24N_2,  AR01,    94,  1,     19,2,19980217,1423, 26.5005, -71.0000, 5491,    900.0,   8.6270,  35.1680,  35.1690,2,    150.2,2,     151.1,2,    14.60,2,    24.42,2,     0.00,2,     1.55,2,    0.374,2,    0.196,2,    0.009,2, -999.000,9,    -68.6,2,     0.71,2,   2190.9,2,   -999.0,5,   7.6807,2,   837.6,2,   20.0, -999.00,9,   523.2,     2.5,   41.27,2
31RBOACES24N_2,  AR01,    94,  1,     18,2,19980217,1423, 26.5005, -71.0000, 5491,    951.5,   7.8480,  35.1020,  35.1030,2,    155.3,2,     155.2,2,    15.90,2,    25.00,2,     0.00,2,     1.62,2,    0.300,2,    0.159,2,    0.005,2, -999.000,9,   -999.0,9,     0.66,2,   2192.9,6,   -999.0,5,   7.6683,2,   862.7,2,   20.0, -999.00,9,   520.7,  -999.0, -999.00,9
31RBOACES24N_2,  AR01,    94,  1,     17,2,19980217,1423, 26.5005, -71.0000, 5491,   1049.3,   6.7470,  35.0710,  35.0700,2,    177.8,2,     178.4,2,    15.90,2,    23.73,2,     0.00,2,     1.54,2,    0.314,2,    0.164,2,    0.008,2, -999.000,9,    -85.9,2,     0.75,2,   2190.0,2,   -999.0,9,   7.6778,2,   838.0,2,   20.0, -999.00,9,   480.8,     3.0,   41.65,2
31RBOACES24N_2,  AR01,    94,  1,     16,2,19980217,1423, 26.5005, -71.0000, 5491,   1218.1,   5.5970,  35.0800,  35.0790,2,    220.2,2,     220.4,2,    13.60,2,    20.31,2,     0.00,2,     1.31,2,    0.510,2,    0.258,2,    0.014,2, -999.000,9,    -81.4,2,     0.82,2,   2175.5,2,   -999.0,5,   7.7105,2,   761.9,2,   20.0, -999.00,9,   413.2,     3.2, -999.00,9
31RBOACES24N_2,  AR01,    94,  1,     15,2,19980217,1423, 26.5005, -71.0000, 5491,   1449.6,   4.6300,  35.0370,  35.0360,2,    251.1,2,     251.1,2,    12.50,2,    18.46,2,     0.00,2,     1.19,2,    0.770,6,    0.381,6,    0.033,6, -999.000,9,    -79.5,2,     0.87,2,   2161.5,2,   -999.0,9,   7.7298,2,   739.2,2,   20.0, -999.00,9,   382.9,     2.7,   41.25,2
31RBOACES24N_2,  AR01,    94,  1,     14,2,19980217,1423, 26.5005, -71.0000, 5491,   1649.3,   4.0940,  34.9920,  34.9920,2,    263.6,2,     263.7,2,    12.70,2,    17.87,2,     0.00,2,     1.16,2,    0.811,2,    0.403,2,    0.030,2, -999.000,9,    -77.2,2,     0.94,2,   2160.9,2,   2313.8,2,   7.7333,2,  -999.0,9, -999.0, -999.00,9,  -999.0,     8.5, -999.00,9
31RBOACES24N_2,  AR01,    94,  1,     13,2,19980217,1423, 26.5005, -71.0000, 5491,   1850.1,   3.8630,  34.9880,  34.9890,2,    265.5,2,     265.4,2,    14.00,2,    17.87,2,     0.00,2,     1.16,2,    0.568,2,    0.283,2,    0.030,2, -999.000,9,    -72.1,2,     0.96,2,   2160.8,2,   2320.6,2,   7.7365,2,   713.8,2,   20.0, -999.00,9,   355.8,     3.1,   41.54,2
31RBOACES24N_2,  AR01,    94,  1,     12,2,19980217,1423, 26.5005, -71.0000, 5491,   2051.5,   3.5880,  34.9710,  34.9700,2,    268.2,2,     268.2,2,    15.10,2,    17.78,2,     0.00,2,     1.16,2,    0.545,2,    0.272,2,    0.032,2, -999.000,9,    -78.6,2,     0.95,2,   2161.2,2,   2314.9,2,   7.7372,2,  -999.0,9, -999.0, -999.00,9,  -999.0,     2.6, -999.00,9
31RBOACES24N_2,  AR01,    94,  1,     11,2,19980217,1423, 26.5005, -71.0000, 5491,   2298.0,   3.3480,  34.9640,  34.9650,2,    268.2,2,     267.8,2,    17.20,2,    17.87,2,     0.00,2,     1.17,2,    0.351,2,    0.178,2,    0.015,2, -999.000,9,   -999.0,9,     0.96,2,   2162.2,2,   2324.2,3,   7.7400,2,  -999.0,9, -999.0, -999.00,9,  -999.0,  -999.0,   41.93,2
31RBOACES24N_2,  AR01,    94,  1,     10,2,19980217,1423, 26.5005, -71.0000, 5491,   2549.1,   3.1320,  34.9560,  34.9560,2,    267.0,2,     267.1,2,    19.90,2,    18.17,2,     0.00,2,     1.20,2,    0.196,2,    0.102,2,    0.007,2,    0.633,2,    -90.6,2,     0.99,2,   2163.0,2,   -999.0,9,   7.7417,2,   706.4,2,   20.0, -999.00,9,   339.4,     3.1, -999.00,9
31RBOACES24N_2,  AR01,    94,  1,      9,2,19980217,1423, 26.5005, -71.0000, 5491,   2800.4,   2.9050,  34.9420,  34.9420,2,    266.2,2,     268.8,2,    21.50,2,    18.07,2,     0.00,2,     1.20,2,    0.232,2,    0.120,2,    0.009,2,    0.653,2,    -85.7,2,     0.93,2,   2163.7,2,   2323.0,2,   7.7405,2,  -999.0,9, -999.0, -999.00,9,  -999.0,     2.4,   41.25,2
31RBOACES24N_2,  AR01,    94,  1,      8,2,19980217,1423, 26.5005, -71.0000, 5491,   3040.7,   2.7370,  34.9310,  34.9310,2,    270.1,2,     269.6,2,    23.10,2,    18.17,2,     0.00,2,     1.20,2,    0.247,2,    0.126,2,    0.012,2,    0.637,2,   -110.7,2,     1.02,2,   2166.2,2,   -999.0,9,   7.7406,2,   720.9,2,   20.0, -999.00,9,   339.8,     3.0, -999.00,9
31RBOACES24N_2,  AR01,    94,  1,      7,2,19980217,1423, 26.5005, -71.0000, 5491,   3350.3,   2.5590,  34.9190,  34.9190,2,    273.3,2,     271.8,2,    23.80,2,    17.97,2,     0.00,2,     1.20,2,    0.317,2,    0.158,2,    0.012,2,    0.783,2,   -108.1,2,     1.01,2,   2167.6,2,   2333.8,3,-999.0000,9,   715.6,2,   20.0, -999.00,9,   334.2,     2.6,   41.15,2
31RBOACES24N_2,  AR01,    94,  1,      6,2,19980217,1423, 26.5005, -71.0000, 5491,   3648.3,   2.4300,  34.9100,  34.9100,2,    272.4,2,     273.2,2,    25.30,2,    17.88,2,     0.00,2,     1.20,2,    0.421,2,    0.201,2,    0.024,2,    0.883,6,   -101.4,2,     0.94,2,   2167.0,2,   -999.0,9,   7.7385,2,  -999.0,9, -999.0, -999.00,9,  -999.0,     3.5, -999.00,9
31RBOACES24N_2,  AR01,    94,  1,      5,2,19980217,1423, 26.5005, -71.0000, 5491,   4050.2,   2.3530,  34.9020,  34.9030,2,    274.3,2,     272.4,2,    27.50,2,    18.07,2,     0.00,2,     1.22,2,    0.324,6,    0.165,6,    0.020,6,    0.836,2,   -999.0,9,     0.94,2,   2171.1,2,   2330.1,2,   7.7362,2,  -999.0,9, -999.0, -999.00,9,  -999.0,  -999.0,   41.83,2
31RBOACES24N_2,  AR01,    94,  1,      4,2,19980217,1423, 26.5005, -71.0000, 5491,   4448.7,   2.3220,  34.8960,  34.8960,2,    273.3,2,     270.9,2,    29.80,2,    18.56,2,     0.00,2,     1.25,2,    0.287,2,    0.150,2,    0.019,2,    0.774,2,   -101.1,2,     0.91,2,   2173.2,2,   -999.0,9,-999.0000,9,  -999.0,9, -999.0, -999.00,9,  -999.0,     3.0, -999.00,9
31RBOACES24N_2,  AR01,    94,  1,      3,2,19980217,1423, 26.5005, -71.0000, 5491,   4840.3,   2.3060,  34.8900,  34.8890,2,    271.6,2,     268.9,2,    32.70,2,    18.95,2,     0.00,2,     1.28,2,    0.317,2,    0.164,2,    0.027,2,    0.781,2,   -120.2,2,     0.90,2,   2177.7,2,   2335.0,2,   7.7321,2,   733.1,6,   20.0, -999.00,9,   337.8,     3.3,   41.54,2
31RBOACES24N_2,  AR01,    94,  1,      2,2,19980217,1423, 26.5005, -71.0000, 5491,   5248.1,   2.2380,  34.8760,  34.8750,2,    265.2,2,     262.8,2,    41.30,2,    20.42,2,     0.01,2,     1.38,2,    0.157,2,    0.092,2,    0.024,2,    0.465,2,   -105.9,2,     0.90,2,   2186.9,2,   -999.0,9,   7.7271,2,   746.6,2,   20.0, -999.00,9,   342.3,     2.4, -999.00,9
31RBOACES24N_2,  AR01,    94,  1,      1,2,19980217,1423, 26.5005, -71.0000, 5491,   5579.3,   2.1050,  34.8530,  34.8530,2,    254.2,2,     255.9,6,    52.70,6,    22.17,6,     0.01,6,     1.52,6,    0.032,2,    0.029,2,    0.013,2,    0.199,2,   -110.6,2,     0.88,2,   2199.1,2,   -999.0,5,   7.7151,2,   778.3,2,   20.0, -999.00,9,   354.2,     2.8,   41.06,2