BOTTLE,20220820CCHSIOAMB
EXPOCODE,SECT_ID,STNNBR,CASTNO,BTLNBR,BTLNBR_FLAG_W,DATE,TIME,LATITUDE,LONGITUDE,DEPTH,CTDPRS,CTDTMP,CTDSAL,SALNTY,SALNTY_FLAG_W,CTDOXY,CTDOXY_FLAG_W,OXYGEN,OXYGEN_FLAG_W,SILCAT,SILCAT_FLAG_W,NITRAT,NITRAT_FLAG_W,NITRIT,NITRIT_FLAG_W,PHSPHT,PHSPHT_FLAG_W,CFC-11,CFC-11_FLAG_W,CFC-12,CFC-12_FLAG_W,CFC113,CFC113_FLAG_W,CCL4,CCL4_FLAG_W,DELC14,DELC14_FLAG_W,DELC13,DELC13_FLAG_W,TCARBN,TCARBN_FLAG_W,ALKALI,ALKALI_FLAG_W,PH,PH_FLAG_W,FCO2,FCO2_FLAG_W,FCO2TMP,TON,TON_FLAG_W,FCO2IN,C14ERR,TOC,TOC_FLAG_W
,,,,,,,,,,,DBAR,ITS-90,PSS-78,PSS-78,,UMOL/KG,,UMOL/KG,,UMOL/KG,,UMOL/KG,,UMOL/KG,,UMOL/KG,,PMOL/KG,,PMOL/KG,,PMOL/KG,,PMOL/KG,,/MILLE,,/MILLE,,UMOL/KG,,UMOL/KG,,,,UATM,,DEG C,UMOL/KG,,UATM,/MILLE,UMOL/KG,
31RBOACES24N_2,  AR01,    16,  1,     36,2,19980126,1623, 25.8002, -19.9002, 4018,      3.5,  20.5780,  36.5480,  36.5520,2,    239.2,2,     243.5,2,  -999.00,5,     0.20,2,     0.07,2,     0.13,2,    2.173,2,    1.253,2,    0.185,2, -999.000,9,   -999.0,9,     1.49,2,   2083.4,6,   2402.0,2,   8.0279,6,   353.5,2,   20.0, -999.00,9,   361.8,  -999.0, -999.00,9
31RBOACES24N_2,  AR01,    16,  1,     35,2,19980126,1623, 25.8002, -19.9002, 4018,     25.2,  21.0030,  36.8470,  36.8560,2,    233.3,2,     223.4,2,  -999.00,5,     0.10,2,     0.04,2,     0.06,2, -999.000,9, -999.000,9, -999.000,9, -999.000,9,   -999.0,9,  -999.00,9,   -999.0,9,   -999.0,9,-999.0000,9,  -999.0,9, -999.0, -999.00,9,  -999.0,  -999.0, -999.00,9
31RBOACES24N_2,  AR01,    16,  1,     34,2,19980126,1623, 25.8002, -19.9002, 4018,     50.9,  21.0890,  36.8890,  36.8960,2,    224.1,2,     221.6,2,  -999.00,5,     0.00,2,     0.06,2,     0.06,2,    2.060,2,    1.219,2,    0.173,2, -999.000,9,   -999.0,9,  -999.00,9,   -999.0,9,   -999.0,9,-999.0000,9,  -999.0,9, -999.0, -999.00,9,  -999.0,  -999.0, -999.00,9
31RBOACES24N_2,  AR01,    16,  1,     33,2,19980126,1623, 25.8002, -19.9002, 4018,     75.2,  21.1040,  36.8990,  36.9000,2,    222.6,2,     220.2,2,  -999.00,5,     0.20,2,     0.10,2,     0.08,2, -999.000,9, -999.000,9, -999.000,9, -999.000,9,   -999.0,9,  -999.00,9,   -999.0,9,   -999.0,9,-999.0000,9,  -999.0,9, -999.0, -999.00,9,  -999.0,  -999.0, -999.00,9
31RBOACES24N_2,  AR01,    16,  1,     32,2,19980126,1623, 25.8002, -19.9002, 4018,    101.6,  20.0660,  36.8270,  36.7770,2,    218.0,2,     201.3,2,  -999.00,5,     3.22,2,     0.10,2,     0.21,2,    2.146,2,    1.270,2,    0.167,2, -999.000,9,   -999.0,9,  -999.00,9,   -999.0,9,   -999.0,9,-999.0000,9,  -999.0,9, -999.0, -999.00,9,  -999.0,  -999.0, -999.00,9
31RBOACES24N_2,  AR01,    16,  1,     31,2,19980126,1623, 25.8002, -19.9002, 4018,    148.1,  18.1990,  36.6490,  36.6490,2,    202.8,2,     199.5,2,  -999.00,5,     3.61,2,     0.02,2,     0.19,2, -999.000,9, -999.000,9, -999.000,9, -999.000,9,   -999.0,9,  -999.00,9,   -999.0,9,   -999.0,9,-999.0000,9,  -999.0,9, -999.0, -999.00,9,  -999.0,  -999.0, -999.00,9
31RBOACES24N_2,  AR01,    16,  1,     30,2,19980126,1623, 25.8002, -19.9002, 4018,    198.8,  17.1200,  36.4560,  36.4630,2,    188.5,2,     189.3,2,  -999.00,5,     6.34,2,     0.01,2,     0.35,2,    2.286,6,    1.304,6,    0.050,6, -999.000,9,   -999.0,9,  -999.00,9,   -999.0,9,   -999.0,9,-999.0000,9,  -999.0,9, -999.0, -999.00,9,  -999.0,  -999.0, -999.00,9
31RBOACES24N_2,  AR01,    16,  1,     29,2,19980126,1623, 25.8002, -19.9002, 4018,    248.5,  15.8330,  36.2350,  36.2360,2,    197.2,2,     197.6,2,  -999.00,5,     7.42,2,     0.01,2,     0.42,2, -999.000,9, -999.000,9, -999.000,9, -999.000,9,   -999.0,9,  -999.00,9,   -999.0,9,   -999.0,9,-999.0000,9,  -999.0,9, -999.0, -999.00,9,  -999.0,  -999.0, -999.00,9
31RBOACES24N_2,  AR01,    16,  1,     28,2,19980126,1623, 25.8002, -19.9002, 4018,    297.7,  15.3060,  36.1460,  36.1450,2,    197.3,2,     197.9,2,  -999.00,5,     8.30,2,     0.01,2,     0.48,2,    2.384,2,    1.303,2,    0.029,2, -999.000,9,   -999.0,9,  -999.00,9,   -999.0,9,   -999.0,9,-999.0000,9,  -999.0,9, -999.0, -999.00,9,  -999.0,  -999.0, -999.00,9
31RBOACES24N_2,  AR01,    16,  1,     27,2,19980126,1623, 25.8002, -19.9002, 4018,    348.4,  14.4140,  36.0060,  36.0050,2,    194.0,2,     193.5,2,  -999.00,5,    10.15,2,     0.01,2,     0.59,2, -999.000,9, -999.000,9, -999.000,9, -999.000,9,   -999.0,9,  -999.00,9,   -999.0,9,   -999.0,9,-999.0000,9,  -999.0,9, -999.0, -999.00,9,  -999.0,  -999.0, -999.00,9
31RBOACES24N_2,  AR01,    16,  1,     26,2,19980126,1623, 25.8002, -19.9002, 4018,    399.3,  13.5720,  35.8770,  35.8590,2,    191.0,2,     186.9,2,  -999.00,5,    12.49,2,     0.00,2,     0.74,2,    2.240,2,    1.178,2,    0.000,2, -999.000,9,   -999.0,9,  -999.00,9,   -999.0,9,   -999.0,9,-999.0000,9,  -999.0,9, -999.0, -999.00,9,  -999.0,  -999.0, -999.00,9
31RBOACES24N_2,  AR01,    16,  1,     25,2,19980126,1623, 25.8002, -19.9002, 4018,    447.0,  12.5690,  35.7290,  35.7270,2,    178.0,2,     173.2,2,  -999.00,5,    15.33,2,     0.00,2,     0.92,2, -999.000,9, -999.000,9, -999.000,9, -999.000,9,   -999.0,9,  -999.00,9,   -999.0,9,   -999.0,9,-999.0000,9,  -999.0,9, -999.0, -999.00,9,  -999.0,  -999.0, -999.00,9
31RBOACES24N_2,  AR01,    16,  1,     24,2,19980126,1623, 25.8002, -19.9002, 4018,    499.6,  12.0300,  35.6530,  35.6440,2,    174.4,2,     170.4,2,  -999.00,5,    16.79,2,     0.00,2,     1.01,2,    1.857,2,    0.910,2,    0.000,2, -999.000,9,   -999.0,9,  -999.00,9,   -999.0,9,   -999.0,9,-999.0000,9,  -999.0,9, -999.0, -999.00,9,  -999.0,  -999.0, -999.00,9
31RBOACES24N_2,  AR01,    16,  1,     23,2,19980126,1623, 25.8002, -19.9002, 4018,    599.5,  10.5460,  35.4550,  35.4530,2,    142.2,2,     140.0,2,  -999.00,5,    22.17,2,     0.00,2,     1.38,2,    0.937,2,    0.455,2,    0.005,2, -999.000,9,   -999.0,9,  -999.00,9,   -999.0,9,   -999.0,9,-999.0000,9,  -999.0,9, -999.0, -999.00,9,  -999.0,  -999.0, -999.00,9
31RBOACES24N_2,  AR01,    16,  1,     22,2,19980126,1623, 25.8002, -19.9002, 4018,    699.6,   9.2910,  35.3000,  35.2980,2,    120.1,2,     121.1,2,  -999.00,5,    26.66,2,     0.00,2,     1.68,2,    0.409,2,    0.181,3,    0.000,2, -999.000,9,   -999.0,9,  -999.00,9,   -999.0,9,   -999.0,9,-999.0000,9,  -999.0,9, -999.0, -999.00,9,  -999.0,  -999.0, -999.00,9
31RBOACES24N_2,  AR01,    16,  1,     21,2,19980126,1623, 25.8002, -19.9002, 4018,    799.4,   8.2200,  35.1840,  35.1810,2,    117.8,2,     120.0,2,  -999.00,5,    28.71,2,     0.00,2,     1.86,2,    0.211,2,    0.085,2,    0.000,2, -999.000,9,   -999.0,9,  -999.00,9,   -999.0,9,   -999.0,9,-999.0000,9,  -999.0,9, -999.0, -999.00,9,  -999.0,  -999.0, -999.00,9
31RBOACES24N_2,  AR01,    16,  1,     20,2,19980126,1623, 25.8002, -19.9002, 4018,    898.4,   7.7090,  35.1550,  35.1530,2,    125.4,2,     127.2,2,  -999.00,5,    28.52,2,     0.00,2,     1.86,2, -999.000,9, -999.000,9, -999.000,9, -999.000,9,   -999.0,9,  -999.00,9,   -999.0,9,   -999.0,9,-999.0000,9,  -999.0,9, -999.0, -999.00,9,  -999.0,  -999.0, -999.00,9
31RBOACES24N_2,  AR01,    16,  1,     19,2,19980126,1623, 25.8002, -19.9002, 4018,    999.5,   7.2770,  35.1730,  35.1700,2,    140.0,2,     143.5,2,  -999.00,5,    27.25,2,     0.01,2,     1.78,2,    0.141,6,    0.048,2,    0.000,6, -999.000,9,   -999.0,9,  -999.00,9,   -999.0,9,   -999.0,9,-999.0000,9,  -999.0,9, -999.0, -999.00,9,  -999.0,  -999.0, -999.00,9
31RBOACES24N_2,  AR01,    16,  1,     18,2,19980126,1623, 25.8002, -19.9002, 4018,   1151.8,   7.1510,  35.2850,  35.2840,2,    166.2,2,     167.0,2,  -999.00,5,    23.93,2,     0.01,2,     1.59,2, -999.000,9, -999.000,9, -999.000,9, -999.000,9,   -999.0,9,  -999.00,9,   -999.0,9,   -999.0,9,-999.0000,9,  -999.0,9, -999.0, -999.00,9,  -999.0,  -999.0, -999.00,9
31RBOACES24N_2,  AR01,    16,  1,     17,2,19980126,1623, 25.8002, -19.9002, 4018,   1300.5,   6.3580,  35.2400,  35.2370,2,    182.0,2,    -999.0,9,  -999.00,5,    23.34,2,     0.01,2,     1.56,2,    0.111,2,    0.030,2,    0.000,2, -999.000,9,   -999.0,9,  -999.00,9,   -999.0,9,   -999.0,9,-999.0000,9,  -999.0,9, -999.0, -999.00,9,  -999.0,  -999.0, -999.00,9
31RBOACES24N_2,  AR01,    16,  1,     16,2,19980126,1623, 25.8002, -19.9002, 4018,   1444.8,   5.8780,  35.2230,  35.2190,2,    196.4,2,     194.2,2,  -999.00,5,    22.36,2,     0.00,2,     1.51,2, -999.000,9, -999.000,9, -999.000,9, -999.000,9,   -999.0,9,  -999.00,9,   -999.0,9,   -999.0,9,-999.0000,9,  -999.0,9, -999.0, -999.00,9,  -999.0,  -999.0, -999.00,9
31RBOACES24N_2,  AR01,    16,  1,     15,2,19980126,1623, 25.8002, -19.9002, 4018,   1598.9,   5.2700,  35.1890,  35.1870,2,    208.7,2,     208.2,2,  -999.00,5,    21.97,2,     0.00,2,     1.45,2,    0.091,2,    0.015,3,    0.015,4, -999.000,9,   -999.0,9,  -999.00,9,   -999.0,9,   -999.0,9,-999.0000,9,  -999.0,9, -999.0, -999.00,9,  -999.0,  -999.0, -999.00,9
31RBOACES24N_2,  AR01,    16,  1,     14,3,19980126,1623, 25.8002, -19.9002, 4018,   1750.0,   4.7550,  35.1400,  35.1390,2,    215.8,2,     216.6,2,  -999.00,5,    21.58,2,     0.00,2,     1.44,2, -999.000,9, -999.000,9, -999.000,9, -999.000,9,   -999.0,9,  -999.00,9,   -999.0,9,   -999.0,9,-999.0000,9,  -999.0,9, -999.0, -999.00,9,  -999.0,  -999.0, -999.00,9
31RBOACES24N_2,  AR01,    16,  1,     13,2,19980126,1623, 25.8002, -19.9002, 4018,   1902.1,   4.2330,  35.0820,  35.0830,2,    220.9,2,     223.1,2,  -999.00,5,    21.59,2,     0.00,2,     1.46,2, -999.000,9, -999.000,9, -999.000,9, -999.000,9,   -999.0,9,  -999.00,9,   -999.0,9,   -999.0,9,-999.0000,9,  -999.0,9, -999.0, -999.00,9,  -999.0,  -999.0, -999.00,9
31RBOACES24N_2,  AR01,    16,  1,     12,2,19980126,1623, 25.8002, -19.9002, 4018,   2048.0,   3.9660,  35.0570,  35.0560,2,    226.4,2,     227.3,2,  -999.00,5,    21.49,2,     0.00,2,     1.45,2, -999.000,9, -999.000,9, -999.000,9, -999.000,9,   -999.0,9,  -999.00,9,   -999.0,9,   -999.0,9,-999.0000,9,  -999.0,9, -999.0, -999.00,9,  -999.0,  -999.0, -999.00,9
31RBOACES24N_2,  AR01,    16,  1,     11,2,19980126,1623, 25.8002, -19.9002, 4018,   2197.3,   3.6860,  35.0290,  35.0280,2,    229.2,2,     231.7,2,  -999.00,5,    21.49,2,     0.00,2,     1.46,2,    0.026,2,    0.010,2,    0.000,2, -999.000,9,   -999.0,9,  -999.00,9,   -999.0,9,   -999.0,9,-999.0000,9,  -999.0,9, -999.0, -999.00,9,  -999.0,  -999.0, -999.00,9
31RBOACES24N_2,  AR01,    16,  1,     10,2,19980126,1623, 25.8002, -19.9002, 4018,   2349.0,   3.5170,  35.0120,  35.0110,2,    232.0,2,     233.5,2,  -999.00,5,    21.39,2,     0.00,2,     1.46,2, -999.000,9, -999.000,9, -999.000,9, -999.000,9,   -999.0,9,  -999.00,9,   -999.0,9,   -999.0,9,-999.0000,9,  -999.0,9, -999.0, -999.00,9,  -999.0,  -999.0, -999.00,9
31RBOACES24N_2,  AR01,    16,  1,      9,2,19980126,1623, 25.8002, -19.9002, 4018,   2497.7,   3.3340,  34.9930,  34.9930,2,    234.5,2,     235.8,2,  -999.00,5,    21.49,2,     0.00,2,     1.46,2, -999.000,9, -999.000,9, -999.000,9, -999.000,9,   -999.0,9,  -999.00,9,   -999.0,9,   -999.0,9,-999.0000,9,  -999.0,9, -999.0, -999.00,9,  -999.0,  -999.0, -999.00,9
31RBOACES24N_2,  AR01,    16,  1,      8,2,19980126,1623, 25.8002, -19.9002, 4018,   2651.4,   3.1990,  34.9790,  34.9780,2,    235.9,2,     237.0,2,  -999.00,5,    21.59,2,     0.00,2,     1.50,2,    0.016,2,    0.005,2,    0.000,2, -999.000,9,   -999.0,9,  -999.00,9,   -999.0,9,   -999.0,9,-999.0000,9,  -999.0,9, -999.0, -999.00,9,  -999.0,  -999.0, -999.00,9
31RBOACES24N_2,  AR01,    16,  1,      7,3,19980126,1623, 25.8002, -19.9002, 4018,   2793.2,   3.0750,  34.9690,  34.9680,2,    238.8,2,     239.2,2,  -999.00,5,    21.39,2,     0.00,2,     1.48,2, -999.000,9, -999.000,9, -999.000,9, -999.000,9,   -999.0,9,  -999.00,9,   -999.0,9,   -999.0,9,-999.0000,9,  -999.0,9, -999.0, -999.00,9,  -999.0,  -999.0, -999.00,9
31RBOACES24N_2,  AR01,    16,  1,      6,2,19980126,1623, 25.8002, -19.9002, 4018,   2998.4,   2.8520,  34.9450,  34.9440,2,    237.3,2,     238.8,2,  -999.00,5,    21.69,2,     0.00,2,     1.50,2, -999.000,9, -999.000,9, -999.000,9, -999.000,9,   -999.0,9,  -999.00,9,   -999.0,9,   -999.0,9,-999.0000,9,  -999.0,9, -999.0, -999.00,9,  -999.0,  -999.0, -999.00,9
31RBOACES24N_2,  AR01,    16,  1,      5,2,19980126,1623, 25.8002, -19.9002, 4018,   3199.6,   2.7130,  34.9310,  34.9300,2,    235.3,2,     237.2,2,  -999.00,5,    21.98,2,     0.00,2,     1.52,2,    0.021,2,    0.004,3,    0.000,2, -999.000,9,   -999.0,9,  -999.00,9,   -999.0,9,   -999.0,9,-999.0000,9,  -999.0,9, -999.0, -999.00,9,  -999.0,  -999.0, -999.00,9
31RBOACES24N_2,  AR01,    16,  1,      4,2,19980126,1623, 25.8002, -19.9002, 4018,   3400.5,   2.5850,  34.9170,  34.9160,2,    232.6,2,     235.2,2,  -999.00,5,    22.37,2,     0.00,2,     1.55,2, -999.000,9, -999.000,9, -999.000,9, -999.000,9,   -999.0,9,  -999.00,9,   -999.0,9,   -999.0,9,-999.0000,9,  -999.0,9, -999.0, -999.00,9,  -999.0,  -999.0, -999.00,9
31RBOACES24N_2,  AR01,    16,  1,      3,2,19980126,1623, 25.8002, -19.9002, 4018,   3602.0,   2.4900,  34.9080,  34.9070,2,    234.3,2,     237.0,2,  -999.00,5,    22.57,2,     0.00,2,     1.58,2, -999.000,9, -999.000,9, -999.000,9, -999.000,9,   -999.0,9,  -999.00,9,   -999.0,9,   -999.0,9,-999.0000,9,  -999.0,9, -999.0, -999.00,9,  -999.0,  -999.0, -999.00,9
31RBOACES24N_2,  AR01,    16,  1,      2,2,19980126,1623, 25.8002, -19.9002, 4018,   3800.8,   2.4290,  34.9010,  34.9010,2,    237.7,2,     239.2,2,  -999.00,5,    22.47,2,     0.00,2,     1.55,2,    0.014,2,    0.008,2,    0.000,2, -999.000,9,   -999.0,9,  -999.00,9,   -999.0,9,   -999.0,9,-999.0000,9,  -999.0,9, -999.0, -999.00,9,  -999.0,  -999.0, -999.00,9
31RBOACES24N_2,  AR01,    16,  1,      1,2,19980126,1623, 25.8002, -19.9002, 4018,   4064.2,   2.3840,  34.8940,  34.8940,2,    245.1,2,     244.9,2,  -999.00,5,    22.37,6,     0.00,6,     1.54,6,    0.005,2,    0.001,3,    0.068,4, -999.000,9,   -999.0,9,  -999.00,9,   -999.0,9,   -999.0,9,-999.0000,9,  -999.0,9, -999.0, -999.00,9,  -999.0,  -999.0, -999.00,9