BOTTLE,20220820CCHSIOAMB
EXPOCODE,SECT_ID,STNNBR,CASTNO,BTLNBR,BTLNBR_FLAG_W,DATE,TIME,LATITUDE,LONGITUDE,DEPTH,CTDPRS,CTDTMP,CTDSAL,SALNTY,SALNTY_FLAG_W,CTDOXY,CTDOXY_FLAG_W,OXYGEN,OXYGEN_FLAG_W,SILCAT,SILCAT_FLAG_W,NITRAT,NITRAT_FLAG_W,NITRIT,NITRIT_FLAG_W,PHSPHT,PHSPHT_FLAG_W,CFC-11,CFC-11_FLAG_W,CFC-12,CFC-12_FLAG_W,CFC113,CFC113_FLAG_W,CCL4,CCL4_FLAG_W,DELC14,DELC14_FLAG_W,DELC13,DELC13_FLAG_W,TCARBN,TCARBN_FLAG_W,ALKALI,ALKALI_FLAG_W,PH,PH_FLAG_W,FCO2,FCO2_FLAG_W,FCO2TMP,TON,TON_FLAG_W,FCO2IN,C14ERR,TOC,TOC_FLAG_W
,,,,,,,,,,,DBAR,ITS-90,PSS-78,PSS-78,,UMOL/KG,,UMOL/KG,,UMOL/KG,,UMOL/KG,,UMOL/KG,,UMOL/KG,,PMOL/KG,,PMOL/KG,,PMOL/KG,,PMOL/KG,,/MILLE,,/MILLE,,UMOL/KG,,UMOL/KG,,,,UATM,,DEG C,UMOL/KG,,UATM,/MILLE,UMOL/KG,
31RBOACES24N_2,  AR01,    45,  1,     36,2,19980204,0118, 24.4997, -41.0830, 5167,      3.7,  23.5640,  37.4090,  37.4080,2,    216.0,2,     214.8,2,     0.60,2,     0.00,2,     0.00,2,  -999.00,5, -999.000,9, -999.000,9, -999.000,9, -999.000,9,   -999.0,9,  -999.00,9,   2080.2,6,   -999.0,5,   8.0904,2,   244.0,3,   20.0, -999.00,9,   281.2,  -999.0, -999.00,9
31RBOACES24N_2,  AR01,    45,  1,     35,2,19980204,0118, 24.4997, -41.0830, 5167,     30.0,  23.5710,  37.4100,  37.4100,2,    213.5,2,     213.0,6,     0.50,2,     0.00,2,     0.00,2,  -999.00,5, -999.000,9, -999.000,9, -999.000,9, -999.000,9,   -999.0,9,  -999.00,9,   -999.0,9,   -999.0,9,-999.0000,9,  -999.0,9, -999.0, -999.00,9,  -999.0,  -999.0, -999.00,9
31RBOACES24N_2,  AR01,    45,  1,     34,2,19980204,0118, 24.4997, -41.0830, 5167,     78.7,  23.4430,  37.3900,  37.3910,2,    213.7,2,     214.4,2,     0.50,2,     0.00,2,     0.00,2,  -999.00,5, -999.000,9, -999.000,9, -999.000,9, -999.000,9,   -999.0,9,  -999.00,9,   2082.8,2,   2439.9,2,   8.0865,2,   253.2,3,   20.0, -999.00,9,   290.4,  -999.0, -999.00,9
31RBOACES24N_2,  AR01,    45,  1,     33,2,19980204,0118, 24.4997, -41.0830, 5167,    127.5,  21.4010,  37.3030,  37.2990,2,    204.6,2,     206.5,2,     0.40,2,     0.49,2,     0.03,2,  -999.00,5, -999.000,9, -999.000,9, -999.000,9, -999.000,9,   -999.0,9,  -999.00,9,   2115.6,2,   2431.4,2,   8.0234,2,   303.5,3,   20.0, -999.00,9,   321.0,  -999.0, -999.00,9
31RBOACES24N_2,  AR01,    45,  1,     32,2,19980204,0118, 24.4997, -41.0830, 5167,    164.9,  19.7870,  36.9350,  36.9260,2,    203.7,2,     202.8,2,     0.60,2,     1.37,2,     0.02,2,  -999.00,5, -999.000,9, -999.000,9, -999.000,9, -999.000,9,   -999.0,9,  -999.00,9,   -999.0,9,   -999.0,9,-999.0000,9,  -999.0,9, -999.0, -999.00,9,  -999.0,  -999.0, -999.00,9
31RBOACES24N_2,  AR01,    45,  1,     31,2,19980204,0118, 24.4997, -41.0830, 5167,    198.1,  19.0520,  36.7990,  36.8000,2,    197.3,2,     198.8,2,     0.60,2,     2.63,2,     0.01,2,  -999.00,5, -999.000,9, -999.000,9, -999.000,9, -999.000,9,   -999.0,9,  -999.00,9,   2112.5,2,   2402.0,2,   7.9888,2,   344.4,3,   20.0, -999.00,9,   331.5,  -999.0, -999.00,9
31RBOACES24N_2,  AR01,    45,  1,     30,2,19980204,0118, 24.4997, -41.0830, 5167,    224.4,  18.2850,  36.6440,  36.6370,2,    198.8,2,     197.5,2,     0.90,2,     3.90,2,     0.01,2,  -999.00,5, -999.000,9, -999.000,9, -999.000,9, -999.000,9,   -999.0,9,  -999.00,9,   -999.0,9,   -999.0,9,-999.0000,9,  -999.0,9, -999.0, -999.00,9,  -999.0,  -999.0, -999.00,9
31RBOACES24N_2,  AR01,    45,  1,     29,2,19980204,0118, 24.4997, -41.0830, 5167,    250.2,  17.9060,  36.5690,  36.5720,2,    197.0,2,     196.3,2,     1.00,2,     4.59,2,     0.00,2,  -999.00,5, -999.000,9, -999.000,9, -999.000,9, -999.000,9,   -999.0,9,  -999.00,9,   2113.2,2,   -999.0,9,-999.0000,9,   374.0,3,   20.0, -999.00,9,   343.5,  -999.0, -999.00,9
31RBOACES24N_2,  AR01,    45,  1,     28,2,19980204,0118, 24.4997, -41.0830, 5167,    275.9,  17.4100,  36.4750,  36.4720,2,    192.8,2,     193.5,2,     1.30,2,     5.66,2,     0.00,2,  -999.00,5, -999.000,9, -999.000,9, -999.000,9, -999.000,9,   -999.0,9,  -999.00,9,   -999.0,9,   -999.0,9,-999.0000,9,  -999.0,9, -999.0, -999.00,9,  -999.0,  -999.0, -999.00,9
31RBOACES24N_2,  AR01,    45,  1,     27,2,19980204,0118, 24.4997, -41.0830, 5167,    298.9,  16.8730,  36.3830,  36.3910,2,    191.2,2,     190.5,2,     1.60,2,     6.73,2,     0.00,2,  -999.00,5, -999.000,9, -999.000,9, -999.000,9, -999.000,9,   -999.0,9,  -999.00,9,   2121.3,2,   2376.3,2,   7.9344,2,   410.3,3,   20.0, -999.00,9,   361.2,  -999.0, -999.00,9
31RBOACES24N_2,  AR01,    45,  1,     26,2,19980204,0118, 24.4997, -41.0830, 5167,    350.1,  16.2110,  36.2700,  36.2790,2,    193.4,2,     189.0,2,     2.00,2,     7.90,2,     0.00,2,  -999.00,5, -999.000,9, -999.000,9, -999.000,9, -999.000,9,   -999.0,9,  -999.00,9,   -999.0,9,   -999.0,9,-999.0000,9,  -999.0,9, -999.0, -999.00,9,  -999.0,  -999.0, -999.00,9
31RBOACES24N_2,  AR01,    45,  1,     25,2,19980204,0118, 24.4997, -41.0830, 5167,    399.5,  15.0910,  36.0850,  36.0950,2,    193.5,2,     190.5,2,     2.50,2,     9.37,2,     0.00,2,  -999.00,5, -999.000,9, -999.000,9, -999.000,9, -999.000,9,   -999.0,9,  -999.00,9,   2129.8,2,   2360.8,2,-999.0000,9,   475.6,3,   20.0, -999.00,9,   389.3,  -999.0, -999.00,9
31RBOACES24N_2,  AR01,    45,  1,     24,2,19980204,0118, 24.4997, -41.0830, 5167,    449.0,  14.2520,  35.9560,  35.9540,2,    190.0,2,     187.3,2,     3.30,2,    10.93,2,     0.00,2,  -999.00,5, -999.000,9, -999.000,9, -999.000,9, -999.000,9,   -999.0,9,  -999.00,9,   -999.0,9,   -999.0,9,-999.0000,9,  -999.0,9, -999.0, -999.00,9,  -999.0,  -999.0, -999.00,9
31RBOACES24N_2,  AR01,    45,  1,     23,2,19980204,0118, 24.4997, -41.0830, 5167,    498.5,  13.4990,  35.8450,  35.8470,2,    188.3,2,     185.1,2,     3.80,2,    12.40,2,     0.00,2,  -999.00,5, -999.000,9, -999.000,9, -999.000,9, -999.000,9,   -999.0,9,  -999.00,9,   2143.3,2,   2345.7,2,   7.8379,2,   504.3,3,   20.0, -999.00,9,   386.0,  -999.0, -999.00,9
31RBOACES24N_2,  AR01,    45,  1,     22,2,19980204,0118, 24.4997, -41.0830, 5167,    598.9,  12.0200,  35.6420,  35.6420,2,    180.4,2,     177.1,2,     5.60,2,    15.82,2,     0.00,2,  -999.00,5, -999.000,9, -999.000,9, -999.000,9, -999.000,9,   -999.0,9,  -999.00,9,   2157.5,2,   -999.0,9,-999.0000,9,  -999.0,9, -999.0, -999.00,9,  -999.0,  -999.0, -999.00,9
31RBOACES24N_2,  AR01,    45,  1,     21,2,19980204,0118, 24.4997, -41.0830, 5167,    699.9,  10.5710,  35.4720,  35.4750,2,    163.4,2,     157.9,2,     8.90,2,  -999.00,5,     0.00,2,  -999.00,5, -999.000,9, -999.000,9, -999.000,9, -999.000,9,   -999.0,9,  -999.00,9,   -999.0,9,   -999.0,9,-999.0000,9,  -999.0,9, -999.0, -999.00,9,  -999.0,  -999.0, -999.00,9
31RBOACES24N_2,  AR01,    45,  1,     20,2,19980204,0118, 24.4997, -41.0830, 5167,    800.7,   9.4060,  35.3480,  35.3540,2,    148.2,2,     145.1,2,    12.10,2,    23.44,2,     0.00,2,  -999.00,5, -999.000,9, -999.000,9, -999.000,9, -999.000,9,   -999.0,9,  -999.00,9,   2191.0,2,   2328.8,2,   7.6935,2,   749.9,3,   20.0, -999.00,9,   483.1,  -999.0, -999.00,9
31RBOACES24N_2,  AR01,    45,  1,     19,2,19980204,0118, 24.4997, -41.0830, 5167,    900.2,   8.2150,  35.2190,  35.2150,2,    146.8,2,     147.3,2,    15.00,2,    25.20,2,     0.00,2,  -999.00,5, -999.000,9, -999.000,9, -999.000,9, -999.000,9,   -999.0,9,  -999.00,9,   -999.0,9,   -999.0,9,-999.0000,9,  -999.0,9, -999.0, -999.00,9,  -999.0,  -999.0, -999.00,9
31RBOACES24N_2,  AR01,    45,  1,     18,2,19980204,0118, 24.4997, -41.0830, 5167,   1050.7,   6.8270,  35.1010,  35.1050,2,    165.7,2,     164.4,2,    17.10,2,    25.49,2,     0.00,2,  -999.00,5, -999.000,9, -999.000,9, -999.000,9, -999.000,9,   -999.0,9,  -999.00,9,   2198.0,6,   -999.0,5,   7.6633,2,   806.1,3,   20.0, -999.00,9,   463.1,  -999.0, -999.00,9
31RBOACES24N_2,  AR01,    45,  1,     17,2,19980204,0118, 24.4997, -41.0830, 5167,   1248.6,   5.5130,  35.0380,  35.0370,2,    195.1,2,     196.3,2,    17.30,2,    23.44,2,     0.00,2,  -999.00,5, -999.000,9, -999.000,9, -999.000,9, -999.000,9,   -999.0,9,  -999.00,9,   -999.0,9,   -999.0,9,-999.0000,9,  -999.0,9, -999.0, -999.00,9,  -999.0,  -999.0, -999.00,9
31RBOACES24N_2,  AR01,    45,  1,     16,2,19980204,0118, 24.4997, -41.0830, 5167,   1443.7,   5.0540,  35.0460,  35.0460,2,    212.9,2,     213.6,2,    16.80,2,    22.07,2,     0.00,2,  -999.00,5, -999.000,9, -999.000,9, -999.000,9, -999.000,9,   -999.0,9,  -999.00,9,   2180.6,2,   2320.4,2,   7.7003,2,  -999.0,9, -999.0, -999.00,9,  -999.0,  -999.0, -999.00,9
31RBOACES24N_2,  AR01,    45,  1,     15,2,19980204,0118, 24.4997, -41.0830, 5167,   1650.6,   4.4550,  35.0360,  35.0350,2,    228.5,2,     229.9,2,    17.80,2,    21.10,2,     0.00,2,  -999.00,5, -999.000,9, -999.000,9, -999.000,9, -999.000,9,   -999.0,9,  -999.00,9,   -999.0,9,   -999.0,9,-999.0000,9,  -999.0,9, -999.0, -999.00,9,  -999.0,  -999.0, -999.00,9
31RBOACES24N_2,  AR01,    45,  1,     14,2,19980204,0118, 24.4997, -41.0830, 5167,   1848.9,   4.1220,  35.0280,  35.0280,2,    236.4,2,     237.8,2,    19.10,2,    20.51,2,     0.00,2,  -999.00,5, -999.000,9, -999.000,9, -999.000,9, -999.000,9,   -999.0,9,  -999.00,9,   -999.0,9,   -999.0,9,-999.0000,9,  -999.0,9, -999.0, -999.00,9,  -999.0,  -999.0, -999.00,9
31RBOACES24N_2,  AR01,    45,  1,     13,2,19980204,0118, 24.4997, -41.0830, 5167,   2050.1,   3.7360,  35.0070,  35.0080,2,    242.6,2,     244.0,2,    21.70,2,    20.32,2,     0.00,2,  -999.00,5, -999.000,9, -999.000,9, -999.000,9, -999.000,9,   -999.0,9,  -999.00,9,   2173.7,2,   2320.6,2,   7.7287,2,   685.9,3,   20.0, -999.00,9,   338.5,  -999.0, -999.00,9
31RBOACES24N_2,  AR01,    45,  1,     12,2,19980204,0118, 24.4997, -41.0830, 5167,   2249.8,   3.4480,  34.9900,  34.9900,2,    246.2,2,     246.4,2,    24.20,2,    20.22,2,     0.00,2,  -999.00,5, -999.000,9, -999.000,9, -999.000,9, -999.000,9,   -999.0,9,  -999.00,9,   -999.0,9,   -999.0,9,-999.0000,9,  -999.0,9, -999.0, -999.00,9,  -999.0,  -999.0, -999.00,9
31RBOACES24N_2,  AR01,    45,  1,     11,2,19980204,0118, 24.4997, -41.0830, 5167,   2448.5,   3.2760,  34.9780,  34.9770,2,    248.4,2,     248.2,2,    26.10,2,    20.22,2,     0.00,2,  -999.00,5, -999.000,9, -999.000,9, -999.000,9, -999.000,9,   -999.0,9,  -999.00,9,   -999.0,9,   -999.0,9,-999.0000,9,  -999.0,9, -999.0, -999.00,9,  -999.0,  -999.0, -999.00,9
31RBOACES24N_2,  AR01,    45,  1,     10,2,19980204,0118, 24.4997, -41.0830, 5167,   2648.8,   3.0790,  34.9630,  34.9630,2,    248.9,2,     251.1,2,    28.60,2,    20.41,2,     0.00,2,  -999.00,5, -999.000,9, -999.000,9, -999.000,9, -999.000,9,   -999.0,9,  -999.00,9,   -999.0,9,   -999.0,9,-999.0000,9,  -999.0,9, -999.0, -999.00,9,  -999.0,  -999.0, -999.00,9
31RBOACES24N_2,  AR01,    45,  1,      9,2,19980204,0118, 24.4997, -41.0830, 5167,   2850.5,   2.9110,  34.9510,  34.9500,2,    249.8,2,     249.8,2,    31.60,2,  -999.00,5,     0.00,2,  -999.00,5, -999.000,9, -999.000,9, -999.000,9, -999.000,9,   -999.0,9,  -999.00,9,   -999.0,9,   -999.0,9,-999.0000,9,  -999.0,9, -999.0, -999.00,9,  -999.0,  -999.0, -999.00,9
31RBOACES24N_2,  AR01,    45,  1,      8,2,19980204,0118, 24.4997, -41.0830, 5167,   3145.5,   2.7470,  34.9350,  34.9350,2,    249.5,2,     249.4,2,    34.60,2,    20.90,2,     0.00,2,  -999.00,5, -999.000,9, -999.000,9, -999.000,9, -999.000,9,   -999.0,9,  -999.00,9,   2188.2,2,   2339.0,2,   7.7308,2,  -999.0,9, -999.0, -999.00,9,  -999.0,  -999.0, -999.00,9
31RBOACES24N_2,  AR01,    45,  1,      7,2,19980204,0118, 24.4997, -41.0830, 5167,   3448.1,   2.5570,  34.9160,  34.9160,2,    250.2,2,     249.1,2,    38.60,2,    21.29,2,     0.00,2,  -999.00,5, -999.000,9, -999.000,9, -999.000,9, -999.000,9,   -999.0,9,  -999.00,9,   -999.0,9,   -999.0,9,-999.0000,9,  -999.0,9, -999.0, -999.00,9,  -999.0,  -999.0, -999.00,9
31RBOACES24N_2,  AR01,    45,  1,      6,2,19980204,0118, 24.4997, -41.0830, 5167,   3749.6,   2.4750,  34.9070,  34.9060,2,    251.0,2,     249.5,2,    40.50,2,    21.49,2,     0.00,2,  -999.00,5, -999.000,9, -999.000,9, -999.000,9, -999.000,9,   -999.0,9,  -999.00,9,   -999.0,9,   -999.0,9,-999.0000,9,  -999.0,9, -999.0, -999.00,9,  -999.0,  -999.0, -999.00,9
31RBOACES24N_2,  AR01,    45,  1,      5,2,19980204,0118, 24.4997, -41.0830, 5167,   4050.8,   2.4270,  34.8980,  34.8990,2,    250.4,2,     250.1,2,    42.30,2,    21.59,2,     0.00,2,  -999.00,5, -999.000,9, -999.000,9, -999.000,9, -999.000,9,   -999.0,9,  -999.00,9,   2196.4,2,   2342.4,2,   7.7287,2,   706.0,3,   20.0, -999.00,9,   325.6,  -999.0, -999.00,9
31RBOACES24N_2,  AR01,    45,  1,      4,2,19980204,0118, 24.4997, -41.0830, 5167,   4350.4,   2.4190,  34.8950,  34.8950,2,    250.4,2,     250.2,2,    43.30,2,    21.69,2,     0.00,2,  -999.00,5, -999.000,9, -999.000,9, -999.000,9, -999.000,9,   -999.0,9,  -999.00,9,   -999.0,9,   -999.0,9,-999.0000,9,  -999.0,9, -999.0, -999.00,9,  -999.0,  -999.0, -999.00,9
31RBOACES24N_2,  AR01,    45,  1,      3,2,19980204,0118, 24.4997, -41.0830, 5167,   4650.5,   2.4200,  34.8920,  34.8910,2,    250.8,2,     250.3,2,    44.00,2,    21.78,2,     0.00,2,  -999.00,5, -999.000,9, -999.000,9, -999.000,9, -999.000,9,   -999.0,9,  -999.00,9,   -999.0,9,   -999.0,9,-999.0000,9,  -999.0,9, -999.0, -999.00,9,  -999.0,  -999.0, -999.00,9
31RBOACES24N_2,  AR01,    45,  1,      2,2,19980204,0118, 24.4997, -41.0830, 5167,   4950.2,   2.4310,  34.8890,  34.8890,2,    250.5,2,     250.3,2,    44.60,2,    21.88,2,     0.00,2,  -999.00,5, -999.000,9, -999.000,9, -999.000,9, -999.000,9,   -999.0,9,  -999.00,9,   -999.0,9,   -999.0,9,-999.0000,9,  -999.0,9, -999.0, -999.00,9,  -999.0,  -999.0, -999.00,9
31RBOACES24N_2,  AR01,    45,  1,      1,2,19980204,0118, 24.4997, -41.0830, 5167,   5240.9,   2.4670,  34.8890,  34.8880,2,    250.2,2,     250.7,2,    44.90,6,    21.88,6,     0.00,6,  -999.00,5, -999.000,9, -999.000,9, -999.000,9, -999.000,9,   -999.0,9,  -999.00,9,   2197.2,2,   2346.5,2,   7.7229,2,   731.9,3,   20.0, -999.00,9,   338.5,  -999.0, -999.00,9