BOTTLE,20220820CCHSIOAMB
EXPOCODE,SECT_ID,STNNBR,CASTNO,BTLNBR,BTLNBR_FLAG_W,DATE,TIME,LATITUDE,LONGITUDE,DEPTH,CTDPRS,CTDTMP,CTDSAL,SALNTY,SALNTY_FLAG_W,CTDOXY,CTDOXY_FLAG_W,OXYGEN,OXYGEN_FLAG_W,SILCAT,SILCAT_FLAG_W,NITRAT,NITRAT_FLAG_W,NITRIT,NITRIT_FLAG_W,PHSPHT,PHSPHT_FLAG_W,CFC-11,CFC-11_FLAG_W,CFC-12,CFC-12_FLAG_W,CFC113,CFC113_FLAG_W,CCL4,CCL4_FLAG_W,DELC14,DELC14_FLAG_W,DELC13,DELC13_FLAG_W,TCARBN,TCARBN_FLAG_W,ALKALI,ALKALI_FLAG_W,PH,PH_FLAG_W,FCO2,FCO2_FLAG_W,FCO2TMP,TON,TON_FLAG_W,FCO2IN,C14ERR,TOC,TOC_FLAG_W
,,,,,,,,,,,DBAR,ITS-90,PSS-78,PSS-78,,UMOL/KG,,UMOL/KG,,UMOL/KG,,UMOL/KG,,UMOL/KG,,UMOL/KG,,PMOL/KG,,PMOL/KG,,PMOL/KG,,PMOL/KG,,/MILLE,,/MILLE,,UMOL/KG,,UMOL/KG,,,,UATM,,DEG C,UMOL/KG,,UATM,/MILLE,UMOL/KG,
31RBOACES24N_2,  AR01,    19,  1,     36,2,19980127,0920, 25.2500, -21.4827, 4580,      4.8,  21.9730,  37.3010,  37.3000,2,    224.9,2,     220.1,2,     0.60,2,     0.10,2,     0.00,2,     0.01,2,    2.101,2,    1.429,2,    0.176,2, -999.000,9,   -999.0,9,  -999.00,9,   2101.0,6,   2442.4,2,   8.0488,2,   323.6,2,   20.0, -999.00,9,   350.1,  -999.0, -999.00,9
31RBOACES24N_2,  AR01,    19,  1,     35,2,19980127,0920, 25.2500, -21.4827, 4580,     50.5,  21.9850,  37.3000,  37.3010,2,    217.2,2,     219.8,2,     0.60,2,     0.10,2,     0.00,2,     0.01,2,    2.107,2,    1.411,2,    0.187,2, -999.000,9,   -999.0,9,  -999.00,9,   -999.0,9,   -999.0,9,-999.0000,9,  -999.0,9, -999.0, -999.00,9,  -999.0,  -999.0, -999.00,9
31RBOACES24N_2,  AR01,    19,  1,     34,2,19980127,0920, 25.2500, -21.4827, 4580,     98.6,  21.9860,  37.2920,  37.2770,2,    217.4,2,     219.9,2,     0.60,2,     0.10,2,     0.00,2,     0.02,2,    2.067,2,    1.416,2,    0.152,2, -999.000,9,   -999.0,9,  -999.00,9,   2101.6,2,   2433.6,2,   8.0459,2,   330.4,2,   20.0, -999.00,9,   357.6,  -999.0, -999.00,9
31RBOACES24N_2,  AR01,    19,  1,     33,2,19980127,0920, 25.2500, -21.4827, 4580,    150.8,  18.8940,  36.7880,  36.8000,2,    208.7,2,     211.9,2,     0.60,2,     1.17,2,     0.02,2,     0.07,2, -999.000,9, -999.000,9, -999.000,9, -999.000,9,   -999.0,9,  -999.00,9,   -999.0,9,   -999.0,9,-999.0000,9,  -999.0,9, -999.0, -999.00,9,  -999.0,  -999.0, -999.00,9
31RBOACES24N_2,  AR01,    19,  1,     32,2,19980127,0920, 25.2500, -21.4827, 4580,    198.0,  17.9300,  36.6100,  36.6070,2,    202.4,2,     203.9,2,     1.10,2,     3.61,2,     0.01,2,     0.20,2,    2.434,2,    1.343,2,    0.069,2, -999.000,9,   -999.0,9,  -999.00,9,   -999.0,9,   -999.0,9,-999.0000,9,  -999.0,9, -999.0, -999.00,9,  -999.0,  -999.0, -999.00,9
31RBOACES24N_2,  AR01,    19,  1,     31,2,19980127,0920, 25.2500, -21.4827, 4580,    239.0,  16.7500,  36.3840,  36.3820,2,    199.6,2,     200.9,2,     1.60,2,     5.76,2,     0.01,2,     0.33,2, -999.000,9, -999.000,9, -999.000,9, -999.000,9,   -999.0,9,  -999.00,9,   2119.7,2,   2384.9,2,   7.9480,2,   439.5,2,   20.0, -999.00,9,   385.1,  -999.0, -999.00,9
31RBOACES24N_2,  AR01,    19,  1,     30,2,19980127,0920, 25.2500, -21.4827, 4580,    278.7,  15.8080,  36.2290,  36.2290,2,    198.7,2,     197.9,2,     2.10,2,     7.42,2,     0.00,2,     0.44,2, -999.000,9, -999.000,9, -999.000,9, -999.000,9,   -999.0,9,  -999.00,9,   -999.0,9,   -999.0,9,-999.0000,9,  -999.0,9, -999.0, -999.00,9,  -999.0,  -999.0, -999.00,9
31RBOACES24N_2,  AR01,    19,  1,     29,2,19980127,0920, 25.2500, -21.4827, 4580,    319.0,  15.0970,  36.1160,  36.1170,2,    195.5,2,     195.2,2,     2.70,2,     8.88,2,     0.00,2,     0.53,2,    2.444,6,    1.310,6,    0.029,6, -999.000,9,   -999.0,9,  -999.00,9,   -999.0,9,   -999.0,9,-999.0000,9,  -999.0,9, -999.0, -999.00,9,  -999.0,  -999.0, -999.00,9
31RBOACES24N_2,  AR01,    19,  1,     28,2,19980127,0920, 25.2500, -21.4827, 4580,    338.7,  14.7850,  36.0670,  36.0610,2,    194.5,2,     193.7,2,     2.80,2,     9.56,2,     0.00,2,     0.57,2, -999.000,9, -999.000,9, -999.000,9, -999.000,9,   -999.0,9,  -999.00,9,   -999.0,9,   -999.0,9,-999.0000,9,  -999.0,9, -999.0, -999.00,9,  -999.0,  -999.0, -999.00,9
31RBOACES24N_2,  AR01,    19,  1,     27,2,19980127,0920, 25.2500, -21.4827, 4580,    399.8,  13.8900,  35.9220,  35.9220,2,    183.8,2,     183.2,2,     3.90,2,    12.01,2,     0.00,2,     0.73,2, -999.000,9, -999.000,9, -999.000,9, -999.000,9,   -999.0,9,  -999.00,9,   -999.0,9,   -999.0,9,-999.0000,9,  -999.0,9, -999.0, -999.00,9,  -999.0,  -999.0, -999.00,9
31RBOACES24N_2,  AR01,    19,  1,     26,2,19980127,0920, 25.2500, -21.4827, 4580,    446.7,  12.8630,  35.7690,  35.7770,2,    180.1,2,     173.8,2,     5.10,2,    14.54,2,     0.00,2,     0.87,2,    2.098,2,    1.083,2,    0.029,2, -999.000,9,   -999.0,9,  -999.00,9,   -999.0,9,   -999.0,9,-999.0000,9,  -999.0,9, -999.0, -999.00,9,  -999.0,  -999.0, -999.00,9
31RBOACES24N_2,  AR01,    19,  1,     25,2,19980127,0920, 25.2500, -21.4827, 4580,    499.5,  12.0070,  35.6410,  35.6600,2,    161.5,2,     163.7,2,     6.50,2,    17.28,2,     0.00,2,     1.03,2, -999.000,9, -999.000,9, -999.000,9, -999.000,9,   -999.0,9,  -999.00,9,   -999.0,9,   -999.0,9,-999.0000,9,  -999.0,9, -999.0, -999.00,9,  -999.0,  -999.0, -999.00,9
31RBOACES24N_2,  AR01,    19,  1,     24,2,19980127,0920, 25.2500, -21.4827, 4580,    560.2,  11.3330,  35.5510,  35.5550,2,    150.6,2,     153.6,2,     8.00,2,    19.72,2,     0.00,2,     1.19,2,    1.430,2,    0.707,2,    0.016,2, -999.000,9,   -999.0,9,  -999.00,9,   2177.8,2,   2331.4,2,   7.7365,2,   725.9,2,   20.0, -999.00,9,   508.5,  -999.0, -999.00,9
31RBOACES24N_2,  AR01,    19,  1,     23,2,19980127,0920, 25.2500, -21.4827, 4580,    623.4,  10.3930,  35.4150,  35.4270,2,    126.3,2,     126.7,2,    11.20,2,    24.12,2,     0.01,2,     1.50,2, -999.000,9, -999.000,9, -999.000,9, -999.000,9,   -999.0,9,  -999.00,9,   -999.0,9,   -999.0,9,-999.0000,9,  -999.0,9, -999.0, -999.00,9,  -999.0,  -999.0, -999.00,9
31RBOACES24N_2,  AR01,    19,  1,     22,2,19980127,0920, 25.2500, -21.4827, 4580,    698.5,   9.8100,  35.3500,  35.3530,2,    114.5,2,     122.9,2,    12.80,2,    25.68,2,     0.00,2,     1.59,2,    0.639,2,    0.317,2,    0.012,2, -999.000,9,   -999.0,9,  -999.00,9,   -999.0,9,   -999.0,9,-999.0000,9,  -999.0,9, -999.0, -999.00,9,  -999.0,  -999.0, -999.00,9
31RBOACES24N_2,  AR01,    19,  1,     21,2,19980127,0920, 25.2500, -21.4827, 4580,    776.6,   8.8680,  35.2660,  35.2680,2,    121.1,2,     123.4,2,    15.40,2,    27.05,2,     0.01,2,     1.70,2, -999.000,9, -999.000,9, -999.000,9, -999.000,9,   -999.0,9,  -999.00,9,   2210.5,2,   2330.0,2,   7.6383,2,   943.7,2,   20.0, -999.00,9,   597.9,  -999.0, -999.00,9
31RBOACES24N_2,  AR01,    19,  1,     20,2,19980127,0920, 25.2500, -21.4827, 4580,    845.2,   8.3190,  35.2200,  35.2210,2,    126.8,2,     126.3,2,    17.10,2,    27.73,2,     0.00,2,     1.76,2,    0.243,2,    0.121,2,   -0.002,2, -999.000,9,   -999.0,9,  -999.00,9,   -999.0,9,   -999.0,9,-999.0000,9,  -999.0,9, -999.0, -999.00,9,  -999.0,  -999.0, -999.00,9
31RBOACES24N_2,  AR01,    19,  1,     19,2,19980127,0920, 25.2500, -21.4827, 4580,    923.6,   7.5960,  35.1610,  35.1580,2,    136.4,2,     131.3,2,    18.80,2,    28.13,2,     0.00,2,     1.82,2, -999.000,9, -999.000,9, -999.000,9, -999.000,9,   -999.0,9,  -999.00,9,   -999.0,9,   -999.0,9,-999.0000,9,  -999.0,9, -999.0, -999.00,9,  -999.0,  -999.0, -999.00,9
31RBOACES24N_2,  AR01,    19,  1,     18,2,19980127,0920, 25.2500, -21.4827, 4580,    999.7,   7.1640,  35.1580,  35.1570,2,    146.3,2,     143.0,2,    19.50,2,    27.44,2,     0.00,2,     1.78,2,    0.119,2,    0.163,4,    0.001,2, -999.000,9,   -999.0,9,  -999.00,9,   2212.8,6,   2331.4,2,   7.6370,2,   953.0,6,   20.0, -999.00,9,   559.3,  -999.0, -999.00,9
31RBOACES24N_2,  AR01,    19,  1,     17,2,19980127,0920, 25.2500, -21.4827, 4580,   1100.6,   6.8000,  35.1740,  35.1710,2,    158.8,2,     156.0,2,  -999.00,5,    26.37,2,     0.00,2,     1.71,2, -999.000,9, -999.000,9, -999.000,9, -999.000,9,   -999.0,9,  -999.00,9,   -999.0,9,   -999.0,9,-999.0000,9,  -999.0,9, -999.0, -999.00,9,  -999.0,  -999.0, -999.00,9
31RBOACES24N_2,  AR01,    19,  1,     16,2,19980127,0920, 25.2500, -21.4827, 4580,   1288.1,   6.2370,  35.2100,  35.2080,2,    183.5,2,     180.6,2,    19.90,2,    24.02,2,     0.00,2,     1.58,2,    0.066,2,    0.041,2,    0.000,2, -999.000,9,   -999.0,9,  -999.00,9,   -999.0,9,   -999.0,9,-999.0000,9,  -999.0,9, -999.0, -999.00,9,  -999.0,  -999.0, -999.00,9
31RBOACES24N_2,  AR01,    19,  1,     15,2,19980127,0920, 25.2500, -21.4827, 4580,   1498.1,   5.3340,  35.1650,  35.1640,2,    201.8,2,     202.1,2,    20.90,2,    22.56,2,     0.00,2,     1.51,2, -999.000,9, -999.000,9, -999.000,9, -999.000,9,   -999.0,9,  -999.00,9,   -999.0,9,   -999.0,9,-999.0000,9,  -999.0,9, -999.0, -999.00,9,  -999.0,  -999.0, -999.00,9
31RBOACES24N_2,  AR01,    19,  1,     14,2,19980127,0920, 25.2500, -21.4827, 4580,   1691.0,   4.6480,  35.1050,  35.1060,2,    212.7,2,     214.8,2,    22.50,2,    21.88,2,     0.00,2,     1.47,2,    0.024,2,    0.012,2,    0.015,3, -999.000,9,   -999.0,9,  -999.00,9,   -999.0,9,   -999.0,9,-999.0000,9,  -999.0,9, -999.0, -999.00,9,  -999.0,  -999.0, -999.00,9
31RBOACES24N_2,  AR01,    19,  1,     13,2,19980127,0920, 25.2500, -21.4827, 4580,   1896.9,   4.1410,  35.0650,  35.0650,2,    223.3,2,     224.0,2,    24.30,2,    21.49,2,     0.00,2,     1.45,2, -999.000,9, -999.000,9, -999.000,9, -999.000,9,   -999.0,9,  -999.00,9,   2189.6,2,   2338.1,2,   7.7103,2,   774.1,2,   20.0, -999.00,9,   390.4,  -999.0,   42.03,2
31RBOACES24N_2,  AR01,    19,  1,     12,2,19980127,0920, 25.2500, -21.4827, 4580,   2098.6,   3.7410,  35.0280,  35.0290,2,    230.3,2,     230.5,2,    26.60,2,    21.29,2,     0.00,2,     1.45,2, -999.000,9, -999.000,9, -999.000,9, -999.000,9,   -999.0,9,  -999.00,9,   -999.0,9,   -999.0,9,-999.0000,9,  -999.0,9, -999.0, -999.00,9,  -999.0,  -999.0, -999.00,9
31RBOACES24N_2,  AR01,    19,  1,     11,2,19980127,0920, 25.2500, -21.4827, 4580,   2300.4,   3.5070,  35.0090,  35.0090,2,    232.7,2,     233.9,2,    28.80,2,    21.29,2,     0.00,2,     1.45,2,    0.011,2,   -0.003,2,   -0.004,2, -999.000,9,   -999.0,9,  -999.00,9,   -999.0,9,   -999.0,9,-999.0000,9,  -999.0,9, -999.0, -999.00,9,  -999.0,  -999.0, -999.00,9
31RBOACES24N_2,  AR01,    19,  1,     10,2,19980127,0920, 25.2500, -21.4827, 4580,   2495.1,   3.2790,  34.9880,  34.9880,2,    236.4,2,     236.9,2,    31.00,2,    21.20,2,     0.00,2,     1.45,2, -999.000,9, -999.000,9, -999.000,9, -999.000,9,   -999.0,9,  -999.00,9,   -999.0,9,   -999.0,9,-999.0000,9,  -999.0,9, -999.0, -999.00,9,  -999.0,  -999.0, -999.00,9
31RBOACES24N_2,  AR01,    19,  1,      9,2,19980127,0920, 25.2500, -21.4827, 4580,   2698.5,   3.0930,  34.9690,  34.9690,2,    237.6,2,     237.6,2,    33.60,2,    21.29,2,     0.00,2,     1.47,2, -999.000,9, -999.000,9, -999.000,9, -999.000,9,   -999.0,9,  -999.00,9,   -999.0,9,   -999.0,9,-999.0000,9,  -999.0,9, -999.0, -999.00,9,  -999.0,  -999.0, -999.00,9
31RBOACES24N_2,  AR01,    19,  1,      8,2,19980127,0920, 25.2500, -21.4827, 4580,   2900.3,   2.9160,  34.9530,  34.9530,2,    239.7,2,     240.1,2,    35.80,2,    21.29,2,     0.00,2,     1.47,2,    0.009,2,    0.001,2,   -0.003,2, -999.000,9,   -999.0,9,  -999.00,9,   2197.5,2,   -999.0,5,   7.7208,2,   764.8,2,   20.0, -999.00,9,   362.6,  -999.0, -999.00,9
31RBOACES24N_2,  AR01,    19,  1,      7,2,19980127,0920, 25.2500, -21.4827, 4580,   3125.8,   2.7560,  34.9360,  34.9360,2,    237.3,2,     238.7,2,    39.30,2,    21.59,2,     0.00,2,     1.49,2, -999.000,9, -999.000,9, -999.000,9, -999.000,9,   -999.0,9,  -999.00,9,   -999.0,9,   -999.0,9,-999.0000,9,  -999.0,9, -999.0, -999.00,9,  -999.0,  -999.0, -999.00,9
31RBOACES24N_2,  AR01,    19,  1,      6,2,19980127,0920, 25.2500, -21.4827, 4580,   3372.6,   2.6290,  34.9240,  34.9240,2,    238.4,2,     239.9,2,    41.40,2,    21.78,2,     0.00,2,     1.50,2, -999.000,9, -999.000,9, -999.000,9, -999.000,9,   -999.0,9,  -999.00,9,   -999.0,9,   -999.0,9,-999.0000,9,  -999.0,9, -999.0, -999.00,9,  -999.0,  -999.0, -999.00,9
31RBOACES24N_2,  AR01,    19,  1,      5,2,19980127,0920, 25.2500, -21.4827, 4580,   3647.9,   2.5090,  34.9130,  34.9130,2,    244.6,2,     246.0,2,    42.30,2,    21.78,2,     0.00,2,     1.50,2,    0.008,6,    0.005,6,    0.001,6, -999.000,9,   -999.0,9,  -999.00,9,   -999.0,9,   -999.0,9,-999.0000,9,  -999.0,9, -999.0, -999.00,9,  -999.0,  -999.0, -999.00,9
31RBOACES24N_2,  AR01,    19,  1,      4,2,19980127,0920, 25.2500, -21.4827, 4580,   3903.6,   2.4400,  34.9030,  34.9040,2,    247.5,2,     247.6,2,    43.20,2,    21.88,2,     0.00,2,     1.50,2, -999.000,9, -999.000,9, -999.000,9, -999.000,9,   -999.0,9,  -999.00,9,   2200.4,2,   2351.4,2,   7.7288,2,   752.9,2,   20.0, -999.00,9,   347.7,  -999.0, -999.00,9
31RBOACES24N_2,  AR01,    19,  1,      3,2,19980127,0920, 25.2500, -21.4827, 4580,   4153.1,   2.4060,  34.8980,  34.8970,2,    248.6,2,     249.0,2,    43.60,2,    21.98,2,     0.00,2,     1.51,2, -999.000,9, -999.000,9, -999.000,9, -999.000,9,   -999.0,9,  -999.00,9,   -999.0,9,   -999.0,9,-999.0000,9,  -999.0,9, -999.0, -999.00,9,  -999.0,  -999.0, -999.00,9
31RBOACES24N_2,  AR01,    19,  1,      2,2,19980127,0920, 25.2500, -21.4827, 4580,   4399.6,   2.3960,  34.8920,  34.8940,2,    248.0,2,     247.9,2,    44.40,2,    22.17,2,     0.00,2,     1.52,2,    0.004,2,    0.005,2,    0.000,2, -999.000,9,   -999.0,9,  -999.00,9,   -999.0,9,   -999.0,9,-999.0000,9,  -999.0,9, -999.0, -999.00,9,  -999.0,  -999.0, -999.00,9
31RBOACES24N_2,  AR01,    19,  1,      1,2,19980127,0920, 25.2500, -21.4827, 4580,   4646.1,   2.4110,  34.8910,  34.8910,2,    248.7,2,     248.8,2,    45.60,6,    22.17,6,     0.00,6,     1.52,6,    0.003,2,    0.016,4,   -0.001,2, -999.000,9,   -999.0,9,  -999.00,9,   2201.7,2,   -999.0,5,   7.7264,2,   762.2,2,   20.0, -999.00,9,   351.1,  -999.0, -999.00,9