BOTTLE,20220820CCHSIOAMB
EXPOCODE,SECT_ID,STNNBR,CASTNO,BTLNBR,BTLNBR_FLAG_W,DATE,TIME,LATITUDE,LONGITUDE,DEPTH,CTDPRS,CTDTMP,CTDSAL,SALNTY,SALNTY_FLAG_W,CTDOXY,CTDOXY_FLAG_W,OXYGEN,OXYGEN_FLAG_W,SILCAT,SILCAT_FLAG_W,NITRAT,NITRAT_FLAG_W,NITRIT,NITRIT_FLAG_W,PHSPHT,PHSPHT_FLAG_W,CFC-11,CFC-11_FLAG_W,CFC-12,CFC-12_FLAG_W,CFC113,CFC113_FLAG_W,CCL4,CCL4_FLAG_W,DELC14,DELC14_FLAG_W,DELC13,DELC13_FLAG_W,TCARBN,TCARBN_FLAG_W,ALKALI,ALKALI_FLAG_W,PH,PH_FLAG_W,FCO2,FCO2_FLAG_W,FCO2TMP,TON,TON_FLAG_W,FCO2IN,C14ERR,TOC,TOC_FLAG_W
,,,,,,,,,,,DBAR,ITS-90,PSS-78,PSS-78,,UMOL/KG,,UMOL/KG,,UMOL/KG,,UMOL/KG,,UMOL/KG,,UMOL/KG,,PMOL/KG,,PMOL/KG,,PMOL/KG,,PMOL/KG,,/MILLE,,/MILLE,,UMOL/KG,,UMOL/KG,,,,UATM,,DEG C,UMOL/KG,,UATM,/MILLE,UMOL/KG,
31RBOACES24N_2,  AR01,    64,  1,     36,2,19980208,1721, 24.5005, -51.5332, 5284,      6.1,  23.4140,  37.2460,  37.2470,2,    214.2,2,     216.2,2,  -999.00,9,  -999.00,9,  -999.00,9,  -999.00,9,    1.948,2,    1.130,2,    0.175,2,    1.986,2,   -999.0,9,     1.34,2,   2069.1,2,   2429.1,6,   8.0901,6,  -999.0,9, -999.0, -999.00,9,  -999.0,  -999.0, -999.00,9
31RBOACES24N_2,  AR01,    64,  1,     35,2,19980208,1721, 24.5005, -51.5332, 5284,     41.6,  23.1990,  37.2430,  37.2450,2,    215.7,2,     216.8,2,  -999.00,5,     0.00,2,     0.00,2,     0.00,2,    1.970,2,    1.129,2,    0.166,2,    2.011,2,   -999.0,9,  -999.00,9,   -999.0,9,   -999.0,9,-999.0000,9,  -999.0,9, -999.0, -999.00,9,  -999.0,  -999.0, -999.00,9
31RBOACES24N_2,  AR01,    64,  1,     34,2,19980208,1721, 24.5005, -51.5332, 5284,     91.2,  20.6710,  36.8950,  36.8910,2,    214.6,2,     215.2,2,  -999.00,5,     0.00,2,     0.00,2,     0.00,2,    2.230,2,    1.277,2,    0.153,2, -999.000,9,   -999.0,9,  -999.00,9,   -999.0,9,   -999.0,9,-999.0000,9,  -999.0,9, -999.0, -999.00,9,  -999.0,  -999.0, -999.00,9
31RBOACES24N_2,  AR01,    64,  1,     33,2,19980208,1721, 24.5005, -51.5332, 5284,    140.6,  19.1270,  36.6840,  36.6870,2,    200.5,2,     203.9,2,  -999.00,5,     1.17,2,     0.02,2,     0.02,2,    2.309,2,    1.299,2,    0.118,2,    0.844,6,   -999.0,9,  -999.00,9,   -999.0,9,   -999.0,9,-999.0000,9,  -999.0,9, -999.0, -999.00,9,  -999.0,  -999.0, -999.00,9
31RBOACES24N_2,  AR01,    64,  1,     32,2,19980208,1721, 24.5005, -51.5332, 5284,    190.7,  18.4010,  36.5930,  36.5880,2,    203.8,2,     204.7,2,  -999.00,5,     3.12,2,     0.00,2,     0.12,2,    2.331,2,    1.316,2,    0.053,2, -999.000,9,   -999.0,9,  -999.00,9,   -999.0,9,   -999.0,9,-999.0000,9,  -999.0,9, -999.0, -999.00,9,  -999.0,  -999.0, -999.00,9
31RBOACES24N_2,  AR01,    64,  1,     31,2,19980208,1721, 24.5005, -51.5332, 5284,    214.3,  18.2080,  36.5530,  36.5540,2,    207.7,2,     207.5,2,  -999.00,5,     3.42,2,     0.00,2,     0.14,2,    2.335,2,    1.319,2,    0.051,2, -999.000,9,   -999.0,9,  -999.00,9,   -999.0,9,   -999.0,9,-999.0000,9,  -999.0,9, -999.0, -999.00,9,  -999.0,  -999.0, -999.00,9
31RBOACES24N_2,  AR01,    64,  1,     30,2,19980208,1721, 24.5005, -51.5332, 5284,    239.2,  18.0560,  36.5340,  36.5360,2,    207.3,2,     209.2,2,  -999.00,5,     3.61,2,     0.00,2,     0.15,2,    2.353,2,    1.319,2,    0.051,2,    0.658,2,   -999.0,9,  -999.00,9,   -999.0,9,   -999.0,9,-999.0000,9,  -999.0,9, -999.0, -999.00,9,  -999.0,  -999.0, -999.00,9
31RBOACES24N_2,  AR01,    64,  1,     29,2,19980208,1721, 24.5005, -51.5332, 5284,    263.9,  17.9510,  36.5210,  36.5190,2,    211.2,2,     211.4,2,  -999.00,5,     3.71,2,     0.00,2,     0.16,2, -999.000,9, -999.000,9, -999.000,9, -999.000,9,   -999.0,9,  -999.00,9,   -999.0,9,   -999.0,9,-999.0000,9,  -999.0,9, -999.0, -999.00,9,  -999.0,  -999.0, -999.00,9
31RBOACES24N_2,  AR01,    64,  1,     28,2,19980208,1721, 24.5005, -51.5332, 5284,    288.9,  17.8070,  36.5010,  36.5010,2,    211.1,2,     212.5,2,  -999.00,5,     3.90,2,     0.00,2,     0.18,2,    2.348,2,    1.321,2,    0.068,2, -999.000,9,   -999.0,9,  -999.00,9,   -999.0,9,   -999.0,9,-999.0000,9,  -999.0,9, -999.0, -999.00,9,  -999.0,  -999.0, -999.00,9
31RBOACES24N_2,  AR01,    64,  1,     27,2,19980208,1721, 24.5005, -51.5332, 5284,    358.4,  17.0810,  36.3680,  36.3710,2,    199.6,2,     199.9,2,  -999.00,5,     6.05,2,     0.00,2,     0.31,2,    2.243,2,    1.242,2,    0.052,2,    0.595,2,   -999.0,9,  -999.00,9,   -999.0,9,   -999.0,9,-999.0000,9,  -999.0,9, -999.0, -999.00,9,  -999.0,  -999.0, -999.00,9
31RBOACES24N_2,  AR01,    64,  1,     26,2,19980208,1721, 24.5005, -51.5332, 5284,    430.2,  16.0040,  36.1950,  36.1930,2,    191.9,2,     189.6,2,  -999.00,5,     8.49,2,     0.00,2,     0.47,2,    2.179,2,    1.172,2,    0.036,2, -999.000,9,   -999.0,9,  -999.00,9,   -999.0,9,   -999.0,9,-999.0000,9,  -999.0,9, -999.0, -999.00,9,  -999.0,  -999.0, -999.00,9
31RBOACES24N_2,  AR01,    64,  1,     25,2,19980208,1721, 24.5005, -51.5332, 5284,    500.8,  14.4070,  35.9500,  35.9560,2,    188.0,2,     184.8,2,  -999.00,5,    11.33,2,     0.00,2,     0.66,2,    2.002,2,    1.062,2,    0.029,2, -999.000,9,   -999.0,9,  -999.00,9,   -999.0,9,   -999.0,9,-999.0000,9,  -999.0,9, -999.0, -999.00,9,  -999.0,  -999.0, -999.00,9
31RBOACES24N_2,  AR01,    64,  1,     24,2,19980208,1721, 24.5005, -51.5332, 5284,    599.0,  12.6260,  35.6900,  35.6890,2,    174.3,2,     174.4,2,  -999.00,5,    15.23,2,     0.00,2,     0.92,2,    1.531,2,    0.789,2,    0.026,2,    0.397,2,   -999.0,9,  -999.00,9,   -999.0,9,   -999.0,9,-999.0000,9,  -999.0,9, -999.0, -999.00,9,  -999.0,  -999.0, -999.00,9
31RBOACES24N_2,  AR01,    64,  1,     23,2,19980208,1721, 24.5005, -51.5332, 5284,    699.1,  10.5900,  35.4200,  35.4180,2,    161.9,2,     160.1,2,  -999.00,5,    20.22,2,     0.00,2,     1.27,2, -999.000,9, -999.000,9, -999.000,9, -999.000,9,   -999.0,9,  -999.00,9,   -999.0,9,   -999.0,9,-999.0000,9,  -999.0,9, -999.0, -999.00,9,  -999.0,  -999.0, -999.00,9
31RBOACES24N_2,  AR01,    64,  1,     22,2,19980208,1721, 24.5005, -51.5332, 5284,    800.4,   8.7360,  35.2010,  35.2030,2,    151.0,2,     150.4,2,  -999.00,5,    24.23,2,     0.00,2,     1.57,2,    0.297,2,    0.163,2,    0.011,2,    0.165,2,   -999.0,9,  -999.00,9,   -999.0,9,   -999.0,9,-999.0000,9,  -999.0,9, -999.0, -999.00,9,  -999.0,  -999.0, -999.00,9
31RBOACES24N_2,  AR01,    64,  1,     21,2,19980208,1721, 24.5005, -51.5332, 5284,    899.9,   7.6250,  35.0960,  35.0940,2,    152.8,2,     152.3,2,  -999.00,5,    25.89,2,     0.00,2,     1.70,2, -999.000,9, -999.000,9, -999.000,9, -999.000,9,   -999.0,9,  -999.00,9,   -999.0,9,   -999.0,9,-999.0000,9,  -999.0,9, -999.0, -999.00,9,  -999.0,  -999.0, -999.00,9
31RBOACES24N_2,  AR01,    64,  1,     20,2,19980208,1721, 24.5005, -51.5332, 5284,   1001.8,   6.6790,  35.0390,  35.0390,2,    164.9,2,     164.7,2,  -999.00,5,    25.79,2,     0.00,2,     1.71,2,    0.097,2,    0.058,2,    0.005,2, -999.000,9,   -999.0,9,  -999.00,9,   -999.0,9,   -999.0,9,-999.0000,9,  -999.0,9, -999.0, -999.00,9,  -999.0,  -999.0, -999.00,9
31RBOACES24N_2,  AR01,    64,  1,     19,2,19980208,1721, 24.5005, -51.5332, 5284,   1203.1,   5.5650,  35.0380,  35.0390,2,    205.2,2,     204.5,2,  -999.00,5,    22.37,2,     0.00,2,     1.50,2,    0.143,2,    0.084,2,    0.002,2,    0.371,2,   -999.0,9,  -999.00,9,   -999.0,9,   -999.0,9,-999.0000,9,  -999.0,9, -999.0, -999.00,9,  -999.0,  -999.0, -999.00,9
31RBOACES24N_2,  AR01,    64,  1,     18,2,19980208,1721, 24.5005, -51.5332, 5284,   1400.1,   4.9000,  35.0640,  35.0640,2,    233.6,2,     236.4,2,  -999.00,5,    19.64,2,     0.00,2,     1.31,2,    0.168,6,    0.091,6,    0.006,6, -999.000,9,   -999.0,9,  -999.00,9,   -999.0,9,   -999.0,9,-999.0000,9,  -999.0,9, -999.0, -999.00,9,  -999.0,  -999.0, -999.00,9
31RBOACES24N_2,  AR01,    64,  1,     17,2,19980208,1721, 24.5005, -51.5332, 5284,   1598.8,   4.4960,  35.0600,  35.0600,2,    247.1,2,     247.3,2,  -999.00,5,    18.86,2,     0.00,2,     1.26,2,    0.174,2,    0.089,2,    0.011,2, -999.000,9,   -999.0,9,  -999.00,9,   -999.0,9,   -999.0,9,-999.0000,9,  -999.0,9, -999.0, -999.00,9,  -999.0,  -999.0, -999.00,9
31RBOACES24N_2,  AR01,    64,  1,     16,2,19980208,1721, 24.5005, -51.5332, 5284,   1799.1,   4.1890,  35.0570,  35.0570,2,    247.9,2,     247.6,2,  -999.00,5,    19.15,2,     0.00,2,     1.28,2,    0.083,2,    0.048,2,    0.009,2,    0.402,2,   -999.0,9,  -999.00,9,   -999.0,9,   -999.0,9,-999.0000,9,  -999.0,9, -999.0, -999.00,9,  -999.0,  -999.0, -999.00,9
31RBOACES24N_2,  AR01,    64,  1,     15,2,19980208,1721, 24.5005, -51.5332, 5284,   2000.5,   3.6990,  35.0180,  35.0190,2,    251.8,2,     252.5,2,  -999.00,5,    19.15,2,     0.00,2,     1.29,2,    0.064,2,    0.039,2,    0.012,2, -999.000,9,   -999.0,9,  -999.00,9,   -999.0,9,   -999.0,9,-999.0000,9,  -999.0,9, -999.0, -999.00,9,  -999.0,  -999.0, -999.00,9
31RBOACES24N_2,  AR01,    64,  1,     14,2,19980208,1721, 24.5005, -51.5332, 5284,   2199.7,   3.4360,  34.9950,  34.9950,2,    254.0,2,     254.9,2,  -999.00,5,    19.15,2,     0.00,2,     1.30,2,    0.063,2,    0.034,2,    0.015,2, -999.000,9,   -999.0,9,  -999.00,9,   -999.0,9,   -999.0,9,-999.0000,9,  -999.0,9, -999.0, -999.00,9,  -999.0,  -999.0, -999.00,9
31RBOACES24N_2,  AR01,    64,  1,     13,2,19980208,1721, 24.5005, -51.5332, 5284,   2399.2,   3.1950,  34.9740,  34.9740,2,    255.2,2,     255.4,2,  -999.00,5,    19.44,2,     0.00,2,     1.33,2,    0.038,2,    0.026,2,    0.002,2,    0.334,2,   -999.0,9,  -999.00,9,   -999.0,9,   -999.0,9,-999.0000,9,  -999.0,9, -999.0, -999.00,9,  -999.0,  -999.0, -999.00,9
31RBOACES24N_2,  AR01,    64,  1,     12,2,19980208,1721, 24.5005, -51.5332, 5284,   2599.7,   2.9930,  34.9560,  34.9560,2,    254.5,2,     255.7,2,  -999.00,5,    19.83,2,     0.00,2,     1.35,2, -999.000,9, -999.000,9, -999.000,9, -999.000,9,   -999.0,9,  -999.00,9,   -999.0,9,   -999.0,9,-999.0000,9,  -999.0,9, -999.0, -999.00,9,  -999.0,  -999.0, -999.00,9
31RBOACES24N_2,  AR01,    64,  1,     11,2,19980208,1721, 24.5005, -51.5332, 5284,   2799.3,   2.8560,  34.9430,  34.9430,2,    255.0,2,     256.0,2,  -999.00,5,    20.03,2,     0.00,2,     1.37,2, -999.000,9, -999.000,9, -999.000,9, -999.000,9,   -999.0,9,  -999.00,9,   -999.0,9,   -999.0,9,-999.0000,9,  -999.0,9, -999.0, -999.00,9,  -999.0,  -999.0, -999.00,9
31RBOACES24N_2,  AR01,    64,  1,     10,2,19980208,1721, 24.5005, -51.5332, 5284,   2999.6,   2.7530,  34.9340,  34.9330,2,    256.0,2,     256.0,2,  -999.00,5,    20.23,2,     0.00,2,     1.39,2,    0.011,2,    0.007,2,    0.004,2,    0.155,2,   -999.0,9,  -999.00,9,   -999.0,9,   -999.0,9,-999.0000,9,  -999.0,9, -999.0, -999.00,9,  -999.0,  -999.0, -999.00,9
31RBOACES24N_2,  AR01,    64,  1,      9,2,19980208,1721, 24.5005, -51.5332, 5284,   3199.3,   2.6450,  34.9240,  34.9240,2,    254.8,2,     256.8,2,  -999.00,5,    20.32,2,     0.00,2,     1.40,2, -999.000,9, -999.000,9, -999.000,9, -999.000,9,   -999.0,9,  -999.00,9,   -999.0,9,   -999.0,9,-999.0000,9,  -999.0,9, -999.0, -999.00,9,  -999.0,  -999.0, -999.00,9
31RBOACES24N_2,  AR01,    64,  1,      8,2,19980208,1721, 24.5005, -51.5332, 5284,   3500.5,   2.4250,  34.9060,  34.9050,2,    259.9,2,     259.7,2,  -999.00,5,    20.42,2,     0.00,2,     1.41,2,    0.005,2,    0.001,2,    0.004,2,    0.122,2,   -999.0,9,  -999.00,9,   -999.0,9,   -999.0,9,-999.0000,9,  -999.0,9, -999.0, -999.00,9,  -999.0,  -999.0, -999.00,9
31RBOACES24N_2,  AR01,    64,  1,      7,2,19980208,1721, 24.5005, -51.5332, 5284,   3800.9,   2.3110,  34.8940,  34.8920,2,    260.1,2,     259.2,2,  -999.00,5,    20.72,2,     0.00,2,     1.43,2, -999.000,9, -999.000,9, -999.000,9, -999.000,9,   -999.0,9,  -999.00,9,   -999.0,9,   -999.0,9,-999.0000,9,  -999.0,9, -999.0, -999.00,9,  -999.0,  -999.0, -999.00,9
31RBOACES24N_2,  AR01,    64,  1,      6,2,19980208,1721, 24.5005, -51.5332, 5284,   4099.6,   2.2180,  34.8830,  34.8820,2,    259.2,2,     259.0,2,  -999.00,5,    21.01,2,     0.00,2,     1.46,2,    0.007,2,    0.009,2,    0.009,2,    0.127,2,   -999.0,9,  -999.00,9,   -999.0,9,   -999.0,9,-999.0000,9,  -999.0,9, -999.0, -999.00,9,  -999.0,  -999.0, -999.00,9
31RBOACES24N_2,  AR01,    64,  1,      5,2,19980208,1721, 24.5005, -51.5332, 5284,   4391.8,   2.1440,  34.8710,  34.8710,2,    258.0,2,     258.4,2,  -999.00,5,    21.40,2,     0.00,2,     1.49,2,    0.007,2,    0.003,2,    0.008,2,    0.120,2,   -999.0,9,  -999.00,9,   -999.0,9,   -999.0,9,-999.0000,9,  -999.0,9, -999.0, -999.00,9,  -999.0,  -999.0, -999.00,9
31RBOACES24N_2,  AR01,    64,  1,      4,2,19980208,1721, 24.5005, -51.5332, 5284,   4700.1,   2.1060,  34.8650,  34.8640,2,    257.2,2,     256.7,2,  -999.00,5,    21.79,2,     0.00,2,     1.51,2,    0.007,2,    0.006,2,    0.007,2,    0.115,2,   -999.0,9,  -999.00,9,   -999.0,9,   -999.0,9,-999.0000,9,  -999.0,9, -999.0, -999.00,9,  -999.0,  -999.0, -999.00,9
31RBOACES24N_2,  AR01,    64,  1,      3,2,19980208,1721, 24.5005, -51.5332, 5284,   4997.3,   2.0920,  34.8590,  34.8580,2,    255.9,2,     257.1,6,  -999.00,5,    21.99,2,     0.00,2,     1.53,2,    0.010,2,    0.008,2,    0.006,2, -999.000,9,   -999.0,9,  -999.00,9,   -999.0,9,   -999.0,9,-999.0000,9,  -999.0,9, -999.0, -999.00,9,  -999.0,  -999.0, -999.00,9
31RBOACES24N_2,  AR01,    64,  1,      1,2,19980208,1721, 24.5005, -51.5332, 5284,   5363.1,   2.1260,  34.8570,  34.8550,2,    255.6,2,     256.0,2,  -999.00,5,    22.08,6,     0.00,6,     1.54,6,    0.014,2,    0.009,2,    0.006,2,    0.126,6,   -999.0,9,  -999.00,9,   -999.0,9,   -999.0,9,-999.0000,9,   733.8,6,   20.0, -999.00,9,   333.0,  -999.0, -999.00,9
31RBOACES24N_2,  AR01,    64,  1,      2,2,19980208,1721, 24.5005, -51.5332, 5284,   5363.7,   2.1260,  34.8580,-999.0000,9,    255.6,2,    -999.0,9,  -999.00,9,  -999.00,9,  -999.00,9,  -999.00,9, -999.000,1, -999.000,1, -999.000,1,    0.131,6,   -999.0,9,  -999.00,9,   -999.0,9,   -999.0,9,-999.0000,9,  -999.0,9, -999.0, -999.00,9,  -999.0,  -999.0, -999.00,9