BOTTLE,20220820CCHSIOAMB
EXPOCODE,SECT_ID,STNNBR,CASTNO,BTLNBR,BTLNBR_FLAG_W,DATE,TIME,LATITUDE,LONGITUDE,DEPTH,CTDPRS,CTDTMP,CTDSAL,SALNTY,SALNTY_FLAG_W,CTDOXY,CTDOXY_FLAG_W,OXYGEN,OXYGEN_FLAG_W,SILCAT,SILCAT_FLAG_W,NITRAT,NITRAT_FLAG_W,NITRIT,NITRIT_FLAG_W,PHSPHT,PHSPHT_FLAG_W,CFC-11,CFC-11_FLAG_W,CFC-12,CFC-12_FLAG_W,CFC113,CFC113_FLAG_W,CCL4,CCL4_FLAG_W,DELC14,DELC14_FLAG_W,DELC13,DELC13_FLAG_W,TCARBN,TCARBN_FLAG_W,ALKALI,ALKALI_FLAG_W,PH,PH_FLAG_W,FCO2,FCO2_FLAG_W,FCO2TMP,TON,TON_FLAG_W,FCO2IN,C14ERR,TOC,TOC_FLAG_W
,,,,,,,,,,,DBAR,ITS-90,PSS-78,PSS-78,,UMOL/KG,,UMOL/KG,,UMOL/KG,,UMOL/KG,,UMOL/KG,,UMOL/KG,,PMOL/KG,,PMOL/KG,,PMOL/KG,,PMOL/KG,,/MILLE,,/MILLE,,UMOL/KG,,UMOL/KG,,,,UATM,,DEG C,UMOL/KG,,UATM,/MILLE,UMOL/KG,
31RBOACES24N_2,  AR01,   112,  1,     36,2,19980221,0521, 26.4995, -76.2000, 4819,      3.2,  22.7730,  36.6450,  36.6440,2,    218.1,2,     217.0,2,     0.90,2,     0.00,2,     0.00,2,     0.00,2,    1.989,2,    1.148,2,    0.158,2,    2.117,2,   -999.0,9,  -999.00,9,   2038.8,2,   -999.0,5,   8.0822,2,   283.8,2,   20.0, -999.00,9,   316.8,  -999.0,   63.79,2
31RBOACES24N_2,  AR01,   112,  1,     35,2,19980221,0521, 26.4995, -76.2000, 4819,     23.9,  22.7620,  36.6500,  36.6510,2,    217.3,2,     217.4,6,     0.90,2,     0.00,2,     0.00,2,     0.00,2, -999.000,9, -999.000,9, -999.000,9, -999.000,9,   -999.0,9,  -999.00,9,   -999.0,9,   -999.0,9,-999.0000,9,  -999.0,9, -999.0, -999.00,9,  -999.0,  -999.0,   64.18,2
31RBOACES24N_2,  AR01,   112,  1,     34,2,19980221,0521, 26.4995, -76.2000, 4819,     49.5,  22.1610,  36.6580,  36.6590,2,    218.9,2,     217.1,2,     0.90,2,     0.00,2,     0.01,2,     0.01,2,    2.028,2,    1.169,2,    0.165,2, -999.000,9,   -999.0,9,  -999.00,9,   2042.3,2,   2392.6,2,   8.0830,2,   292.0,2,   20.0, -999.00,9,   318.3,  -999.0,   66.41,2
31RBOACES24N_2,  AR01,   112,  1,     33,2,19980221,0521, 26.4995, -76.2000, 4819,     75.4,  22.0750,  36.6520,  36.6520,2,    217.2,2,     217.1,2,     1.00,2,     0.00,2,     0.01,2,     0.01,2, -999.000,9, -999.000,9, -999.000,9, -999.000,9,   -999.0,9,  -999.00,9,   -999.0,9,   -999.0,9,-999.0000,9,  -999.0,9, -999.0, -999.00,9,  -999.0,  -999.0,   64.85,2
31RBOACES24N_2,  AR01,   112,  1,     32,2,19980221,0521, 26.4995, -76.2000, 4819,    100.0,  21.9550,  36.6570,  36.6580,2,    217.0,2,     217.7,2,     1.00,2,     0.00,2,     0.01,2,     0.01,2,    2.044,2,    1.178,2,    0.161,2, -999.000,9,   -999.0,9,  -999.00,9,   2044.9,2,   2401.2,2,   8.0822,2,   295.5,2,   20.0, -999.00,9,   319.5,  -999.0,   61.34,2
31RBOACES24N_2,  AR01,   112,  1,     31,2,19980221,0521, 26.4995, -76.2000, 4819,    127.0,  21.7730,  36.6520,  36.6550,2,    217.7,2,     218.4,2,     1.00,2,     0.10,2,     0.01,2,     0.02,2, -999.000,9, -999.000,9, -999.000,9, -999.000,9,   -999.0,9,  -999.00,9,   2045.3,2,   -999.0,9,   8.0795,2,   298.4,2,   20.0, -999.00,9,   320.4,  -999.0,   59.19,2
31RBOACES24N_2,  AR01,   112,  1,     30,2,19980221,0521, 26.4995, -76.2000, 4819,    149.2,  21.6130,  36.6520,  36.6530,2,    217.6,2,     218.5,2,     1.00,2,     0.00,2,     0.01,2,     0.02,2,    2.074,6,    1.190,6,    0.164,6, -999.000,9,   -999.0,9,  -999.00,9,   1845.0,3,   2408.5,2,   8.0777,2,   299.1,2,   20.0, -999.00,9,   318.9,  -999.0, -999.00,9
31RBOACES24N_2,  AR01,   112,  1,     29,2,19980221,0521, 26.4995, -76.2000, 4819,    174.7,  21.2670,  36.7870,  36.7730,2,    212.0,2,     210.9,2,     1.00,2,     0.29,2,     0.07,2,     0.02,2, -999.000,9, -999.000,9, -999.000,9, -999.000,9,   -999.0,9,  -999.00,9,   -999.0,9,   -999.0,9,-999.0000,9,  -999.0,9, -999.0, -999.00,9,  -999.0,  -999.0,   54.30,2
31RBOACES24N_2,  AR01,   112,  1,     28,2,19980221,0521, 26.4995, -76.2000, 4819,    200.2,  20.1050,  36.8300,  36.8230,2,    210.7,2,     210.5,2,     1.00,2,     0.59,2,     0.02,2,     0.04,2,    2.247,2,    1.277,2,    0.149,2, -999.000,9,   -999.0,9,  -999.00,9,   2087.8,2,   -999.0,5,   8.0331,2,  -999.0,9, -999.0, -999.00,9,  -999.0,  -999.0, -999.00,9
31RBOACES24N_2,  AR01,   112,  1,     27,2,19980221,0521, 26.4995, -76.2000, 4819,    249.0,  19.5140,  36.7310,  36.7350,2,    208.3,2,     205.4,2,     1.30,2,     1.17,2,     0.01,2,     0.06,2, -999.000,9, -999.000,9, -999.000,9, -999.000,9,   -999.0,9,  -999.00,9,   2086.8,2,   2397.0,2,   8.0189,2,   355.0,2,   20.0, -999.00,9,   347.3,  -999.0,   49.11,2
31RBOACES24N_2,  AR01,   112,  1,     26,2,19980221,0521, 26.4995, -76.2000, 4819,    299.7,  18.4890,  36.5850,  36.5890,2,    199.1,2,     199.9,2,     1.50,2,     3.32,2,     0.01,2,     0.14,2,    2.317,2,    1.283,2,    0.033,2, -999.000,9,   -999.0,9,  -999.00,9,   -999.0,9,   -999.0,9,-999.0000,9,  -999.0,9, -999.0, -999.00,9,  -999.0,  -999.0, -999.00,9
31RBOACES24N_2,  AR01,   112,  1,     25,2,19980221,0521, 26.4995, -76.2000, 4819,    349.8,  18.2170,  36.5520,  36.5530,2,    205.3,2,     204.4,2,     1.60,2,     3.61,2,     0.01,2,     0.17,2, -999.000,9, -999.000,9, -999.000,9, -999.000,9,   -999.0,9,  -999.00,9,   2094.4,2,   2388.3,2,   7.9940,2,  -999.0,9, -999.0, -999.00,9,  -999.0,  -999.0, -999.00,9
31RBOACES24N_2,  AR01,   112,  1,     24,2,19980221,0521, 26.4995, -76.2000, 4819,    399.0,  18.0880,  36.5410,  36.5420,2,    212.8,2,     209.3,2,     1.60,2,     3.51,2,     0.01,2,     0.18,2,    2.334,2,    1.294,2,    0.055,2, -999.000,9,   -999.0,9,  -999.00,9,   -999.0,9,   -999.0,9,-999.0000,9,  -999.0,9, -999.0, -999.00,9,  -999.0,  -999.0, -999.00,9
31RBOACES24N_2,  AR01,   112,  1,     23,2,19980221,0521, 26.4995, -76.2000, 4819,    498.8,  17.2040,  36.3800,  36.3800,2,    191.7,2,     191.2,2,     2.40,2,     6.63,2,     0.00,2,     0.36,2, -999.000,9, -999.000,9, -999.000,9, -999.000,9,   -999.0,9,  -999.00,9,   2110.9,2,   2375.9,2,   7.9474,2,   430.7,2,   20.0, -999.00,9,   384.6,  -999.0,   43.84,2
31RBOACES24N_2,  AR01,   112,  1,     22,2,19980221,0521, 26.4995, -76.2000, 4819,    600.4,  15.2320,  36.0470,  36.0480,2,    175.9,2,     179.2,2,     4.10,2,    10.73,2,     0.00,2,     0.63,2,    1.894,2,    0.997,2,    0.023,2, -999.000,9,   -999.0,9,  -999.00,9,   2131.0,2,   2361.5,2,   7.8851,2,  -999.0,9, -999.0, -999.00,9,  -999.0,  -999.0, -999.00,9
31RBOACES24N_2,  AR01,   112,  1,     21,2,19980221,0521, 26.4995, -76.2000, 4819,    700.4,  13.1040,  35.7300,  35.7350,2,    166.2,2,     162.9,2,     6.50,2,    15.52,2,     0.00,2,     0.94,2, -999.000,9, -999.000,9, -999.000,9, -999.000,9,   -999.0,9,  -999.00,9,   2152.6,2,   2342.5,2,   7.8124,2,  -999.0,9, -999.0, -999.00,9,  -999.0,  -999.0, -999.00,9
31RBOACES24N_2,  AR01,   112,  1,     20,2,19980221,0521, 26.4995, -76.2000, 4819,    791.4,  10.7440,  35.4160,  35.4220,2,    157.3,2,     154.5,2,    10.40,2,    20.31,2,     0.00,2,     1.28,2,    0.758,2,    0.391,2,    0.008,2, -999.000,9,   -999.0,9,  -999.00,9,   2171.9,2,   2331.7,2,-999.0000,9,  -999.0,9, -999.0, -999.00,9,  -999.0,  -999.0, -999.00,9
31RBOACES24N_2,  AR01,   112,  1,     19,2,19980221,0521, 26.4995, -76.2000, 4819,    901.4,   8.5520,  35.1520,  35.1550,2,    149.3,2,     148.2,2,    15.40,2,    24.61,2,     0.00,2,     1.61,2, -999.000,9, -999.000,9, -999.000,9, -999.000,9,   -999.0,9,  -999.00,9,   2189.3,2,   2320.2,2,   7.6753,2,   727.3,3,   20.0, -999.00,9,   450.5,  -999.0,   41.47,2
31RBOACES24N_2,  AR01,   112,  1,     18,2,19980221,0521, 26.4995, -76.2000, 4819,    999.4,   7.4530,  35.0910,  35.0940,2,    167.7,2,     162.9,2,    16.30,2,    24.41,2,     0.00,2,     1.61,2,    0.331,6,    0.167,6,    0.006,6, -999.000,9,   -999.0,9,  -999.00,9,   2190.4,6,   2319.9,2,   7.6698,2,   857.5,2,   20.0, -999.00,9,   508.6,  -999.0, -999.00,9
31RBOACES24N_2,  AR01,   112,  1,     17,2,19980221,0521, 26.4995, -76.2000, 4819,   1200.0,   5.7590,  35.0850,  35.0850,2,    217.1,2,     214.0,2,    14.50,2,    20.31,2,     0.00,2,     1.37,2,    0.436,2,    0.220,2,    0.011,2, -999.000,9,   -999.0,9,  -999.00,9,   2176.0,2,   2318.3,2,   7.7072,2,   778.2,2,   20.0, -999.00,9,   425.7,  -999.0, -999.00,9
31RBOACES24N_2,  AR01,   112,  1,     16,2,19980221,0521, 26.4995, -76.2000, 4819,   1401.0,   4.6710,  35.0260,  35.0260,2,    250.8,2,     248.5,2,    12.80,2,    18.16,2,     0.00,2,     1.22,2,    0.974,2,    0.475,2,    0.039,2, -999.000,9,   -999.0,9,  -999.00,9,   -999.0,9,   -999.0,9,-999.0000,9,  -999.0,9, -999.0, -999.00,9,  -999.0,  -999.0,   41.55,2
31RBOACES24N_2,  AR01,   112,  1,     15,2,19980221,0521, 26.4995, -76.2000, 4819,   1598.9,   4.1880,  34.9920,  34.9940,2,    261.9,2,     261.8,2,    12.80,2,    17.68,2,     0.00,2,     1.19,2,    1.037,2,    0.507,2,    0.040,2, -999.000,9,   -999.0,9,  -999.00,9,   2160.1,2,   2306.4,2,   7.7323,2,   740.6,2,   20.0, -999.00,9,   375.9,  -999.0,   41.64,2
31RBOACES24N_2,  AR01,   112,  1,     14,2,19980221,0521, 26.4995, -76.2000, 4819,   1800.2,   3.9440,  34.9790,  34.9790,2,    266.8,2,     258.8,4,    13.30,2,    17.48,2,     0.00,2,     1.18,2, -999.000,9, -999.000,9, -999.000,9, -999.000,9,   -999.0,9,  -999.00,9,   -999.0,9,   -999.0,9,-999.0000,9,  -999.0,9, -999.0, -999.00,9,  -999.0,  -999.0,   41.16,2
31RBOACES24N_2,  AR01,   112,  1,     13,2,19980221,0521, 26.4995, -76.2000, 4819,   2000.2,   3.7230,  34.9730,  34.9720,2,    269.0,2,     268.7,2,    14.40,2,    17.38,2,     0.00,2,     1.18,2,    0.742,2,    0.365,2,    0.029,2,    1.410,2,   -999.0,9,  -999.00,9,   -999.0,9,   -999.0,9,-999.0000,9,  -999.0,9, -999.0, -999.00,9,  -999.0,  -999.0, -999.00,9
31RBOACES24N_2,  AR01,   112,  1,     12,2,19980221,0521, 26.4995, -76.2000, 4819,   2194.9,   3.5660,  34.9730,  34.9740,2,    266.8,2,     267.5,2,    16.00,2,    17.48,2,     0.00,2,     1.20,2, -999.000,9, -999.000,9, -999.000,9, -999.000,9,   -999.0,9,  -999.00,9,   2159.1,2,   2314.1,2,   7.7382,2,   730.9,2,   20.0, -999.00,9,   359.7,  -999.0, -999.00,9
31RBOACES24N_2,  AR01,   112,  1,     11,2,19980221,0521, 26.4995, -76.2000, 4819,   2400.0,   3.3700,  34.9660,  34.9660,2,    267.8,2,     267.8,2,    17.70,2,    17.78,2,     0.00,2,     1.20,2,    0.326,2,    0.168,2,    0.010,2,    0.863,2,   -999.0,9,  -999.00,9,   -999.0,9,   -999.0,9,-999.0000,9,  -999.0,9, -999.0, -999.00,9,  -999.0,  -999.0, -999.00,9
31RBOACES24N_2,  AR01,   112,  1,     10,2,19980221,0521, 26.4995, -76.2000, 4819,   2599.8,   3.1650,  34.9540,  34.9550,2,    267.9,2,     269.2,2,    18.90,2,    17.68,2,     0.00,2,     1.21,2,    0.291,2,    0.147,2,    0.011,2,    0.775,2,   -999.0,9,  -999.00,9,   -999.0,9,   -999.0,9,-999.0000,9,  -999.0,9, -999.0, -999.00,9,  -999.0,  -999.0, -999.00,9
31RBOACES24N_2,  AR01,   112,  1,      9,2,19980221,0521, 26.4995, -76.2000, 4819,   2800.7,   2.9540,  34.9410,  34.9420,2,    270.5,2,     271.5,2,    19.70,2,    17.48,2,     0.00,2,     1.20,2, -999.000,9, -999.000,9, -999.000,9, -999.000,9,   -999.0,9,  -999.00,9,   2161.8,2,   2317.6,2,   7.7396,2,   727.1,2,   20.0, -999.00,9,   347.0,  -999.0, -999.00,9
31RBOACES24N_2,  AR01,   112,  1,      8,2,19980221,0521, 26.4995, -76.2000, 4819,   3001.8,   2.7840,  34.9310,  34.9320,2,    273.8,2,     273.4,2,    20.30,2,    17.38,2,     0.00,2,     1.19,2,    0.473,2,    0.229,2,    0.017,2,    0.972,2,   -999.0,9,  -999.00,9,   -999.0,9,   -999.0,9,-999.0000,9,  -999.0,9, -999.0, -999.00,9,  -999.0,  -999.0, -999.00,9
31RBOACES24N_2,  AR01,   112,  1,      7,2,19980221,0521, 26.4995, -76.2000, 4819,   3250.8,   2.5760,  34.9190,  34.9190,2,    276.1,2,     275.5,2,    21.60,2,    17.29,2,     0.00,2,     1.19,2, -999.000,9, -999.000,9, -999.000,9, -999.000,9,   -999.0,9,  -999.00,9,   -999.0,9,   -999.0,9,-999.0000,9,  -999.0,9, -999.0, -999.00,9,  -999.0,  -999.0, -999.00,9
31RBOACES24N_2,  AR01,   112,  1,      6,2,19980221,0521, 26.4995, -76.2000, 4819,   3495.2,   2.4220,  34.9090,  34.9090,2,    276.1,2,     275.7,2,    23.40,2,    17.29,2,     0.00,2,     1.20,2,    0.643,2,    0.315,2,    0.027,2,    1.223,2,   -999.0,9,  -999.00,9,   -999.0,9,   -999.0,9,-999.0000,9,  -999.0,9, -999.0, -999.00,9,  -999.0,  -999.0,   41.44,2
31RBOACES24N_2,  AR01,   112,  1,      5,2,19980221,0521, 26.4995, -76.2000, 4819,   3731.0,   2.3600,  34.9040,  34.9050,2,    275.1,2,     275.4,2,    25.20,2,    17.39,2,     0.00,2,     1.21,2,    0.627,2,    0.301,2,    0.032,2,    1.216,2,   -999.0,9,  -999.00,9,   2166.5,2,   2319.4,2,   7.7334,2,   733.4,2,   20.0, -999.00,9,   339.7,  -999.0,   41.44,2
31RBOACES24N_2,  AR01,   112,  1,      4,2,19980221,0521, 26.4995, -76.2000, 4819,   3998.1,   2.3120,  34.8980,  34.8980,2,    274.8,2,     274.3,2,    27.20,2,    17.78,2,     0.00,2,     1.23,2,    0.633,2,    0.310,2,    0.036,2,    1.205,2,   -999.0,9,  -999.00,9,   -999.0,9,   -999.0,9,-999.0000,9,  -999.0,9, -999.0, -999.00,9,  -999.0,  -999.0,   41.64,2
31RBOACES24N_2,  AR01,   112,  1,      3,2,19980221,0521, 26.4995, -76.2000, 4819,   4211.7,   2.2930,  34.8960,  34.8960,2,    273.8,2,     272.9,2,    28.90,2,    18.07,2,     0.00,2,     1.26,2,    0.554,2,    0.272,2,    0.024,2,    1.082,2,   -999.0,9,  -999.00,9,   2171.2,2,   2327.5,2,   7.7304,2,  -999.0,9, -999.0, -999.00,9,  -999.0,  -999.0, -999.00,9
31RBOACES24N_2,  AR01,   112,  1,      2,2,19980221,0521, 26.4995, -76.2000, 4819,   4493.9,   2.2720,  34.8900,  34.8910,2,    270.8,2,     270.3,2,    32.10,2,    18.56,2,     0.00,2,     1.29,2,    0.435,2,    0.220,2,    0.026,2,    0.908,2,   -999.0,9,  -999.00,9,   -999.0,9,   -999.0,9,-999.0000,9,  -999.0,9, -999.0, -999.00,9,  -999.0,  -999.0, -999.00,9
31RBOACES24N_2,  AR01,   112,  1,      1,2,19980221,0521, 26.4995, -76.2000, 4819,   4888.7,   2.2100,  34.8770,  34.8770,2,    263.0,2,     263.7,2,    40.60,6,    20.02,6,     0.01,6,     1.40,6,    0.200,2,    0.111,2,    0.022,2,    0.538,2,   -999.0,9,  -999.00,9,   2188.7,2,   2341.4,2,   7.7258,2,   752.7,2,   20.0, -999.00,9,   344.9,  -999.0, -999.00,9