BOTTLE,20220820CCHSIOAMB
EXPOCODE,SECT_ID,STNNBR,CASTNO,BTLNBR,BTLNBR_FLAG_W,DATE,TIME,LATITUDE,LONGITUDE,DEPTH,CTDPRS,CTDTMP,CTDSAL,SALNTY,SALNTY_FLAG_W,CTDOXY,CTDOXY_FLAG_W,OXYGEN,OXYGEN_FLAG_W,SILCAT,SILCAT_FLAG_W,NITRAT,NITRAT_FLAG_W,NITRIT,NITRIT_FLAG_W,PHSPHT,PHSPHT_FLAG_W,CFC-11,CFC-11_FLAG_W,CFC-12,CFC-12_FLAG_W,CFC113,CFC113_FLAG_W,CCL4,CCL4_FLAG_W,DELC14,DELC14_FLAG_W,DELC13,DELC13_FLAG_W,TCARBN,TCARBN_FLAG_W,ALKALI,ALKALI_FLAG_W,PH,PH_FLAG_W,FCO2,FCO2_FLAG_W,FCO2TMP,TON,TON_FLAG_W,FCO2IN,C14ERR,TOC,TOC_FLAG_W
,,,,,,,,,,,DBAR,ITS-90,PSS-78,PSS-78,,UMOL/KG,,UMOL/KG,,UMOL/KG,,UMOL/KG,,UMOL/KG,,UMOL/KG,,PMOL/KG,,PMOL/KG,,PMOL/KG,,PMOL/KG,,/MILLE,,/MILLE,,UMOL/KG,,UMOL/KG,,,,UATM,,DEG C,UMOL/KG,,UATM,/MILLE,UMOL/KG,
31RBOACES24N_2,  AR01,    15,  1,     36,2,19980126,1051, 25.9828, -19.3653, 3731,      4.1,  20.7100,  36.6940,  36.6910,2,    232.8,2,     233.7,2,     0.70,3,     0.10,2,     0.03,2,     0.09,2, -999.000,9, -999.000,9, -999.000,9, -999.000,9,   -999.0,9,  -999.00,9,   2086.9,6,   2402.7,2,   8.0294,2,   344.1,2,   20.0, -999.00,9,   354.0,  -999.0, -999.00,9
31RBOACES24N_2,  AR01,    15,  1,     35,2,19980126,1051, 25.9828, -19.3653, 3731,     23.8,  20.7020,  36.6920,  36.7010,2,    232.5,2,     233.2,2,     1.10,3,     0.10,2,     0.03,2,     0.08,2, -999.000,9, -999.000,9, -999.000,9, -999.000,9,   -999.0,9,  -999.00,9,   -999.0,9,   -999.0,9,-999.0000,9,  -999.0,9, -999.0, -999.00,9,  -999.0,  -999.0, -999.00,9
31RBOACES24N_2,  AR01,    15,  1,     34,2,19980126,1051, 25.9828, -19.3653, 3731,     49.0,  21.4380,  37.0580,  37.0610,2,    220.7,2,     222.5,2,     1.30,3,     0.00,2,     0.00,2,     0.02,2, -999.000,9, -999.000,9, -999.000,9, -999.000,9,   -999.0,9,  -999.00,9,   2096.6,2,   -999.0,9,   8.0369,2,   339.3,2,   20.0, -999.00,9,   359.3,  -999.0, -999.00,9
31RBOACES24N_2,  AR01,    15,  1,     33,2,19980126,1051, 25.9828, -19.3653, 3731,     70.5,  21.4820,  37.0770,  37.0780,2,    220.1,2,     218.7,2,     2.20,3,     0.00,2,     0.00,2,     0.03,2, -999.000,9, -999.000,9, -999.000,9, -999.000,9,   -999.0,9,  -999.00,9,   -999.0,9,   -999.0,9,-999.0000,9,  -999.0,9, -999.0, -999.00,9,  -999.0,  -999.0, -999.00,9
31RBOACES24N_2,  AR01,    15,  1,     32,2,19980126,1051, 25.9828, -19.3653, 3731,     99.2,  21.2320,  37.0120,  37.0100,2,    218.8,2,     215.0,2,     2.10,3,     0.78,2,     0.03,2,     0.07,2, -999.000,9, -999.000,9, -999.000,9, -999.000,9,   -999.0,9,  -999.00,9,   2104.1,2,   2419.9,2,   8.0228,2,  -999.0,9, -999.0, -999.00,9,  -999.0,  -999.0, -999.00,9
31RBOACES24N_2,  AR01,    15,  1,     31,2,19980126,1051, 25.9828, -19.3653, 3731,    124.3,  18.9430,  36.7020,  36.7080,2,    182.7,2,     191.2,2,     2.40,3,     4.19,2,     0.02,2,     0.25,2, -999.000,9, -999.000,9, -999.000,9, -999.000,9,   -999.0,9,  -999.00,9,   2127.1,2,   2401.7,2,   7.9528,2,   425.4,2,   20.0, -999.00,9,   407.7,  -999.0, -999.00,9
31RBOACES24N_2,  AR01,    15,  1,     30,2,19980126,1051, 25.9828, -19.3653, 3731,    169.4,  17.8840,  36.5750,  36.5610,2,    189.6,2,     186.4,2,     2.70,3,     5.75,2,     0.01,2,     0.33,2, -999.000,9, -999.000,9, -999.000,9, -999.000,9,   -999.0,9,  -999.00,9,   2130.4,2,   2392.5,2,   7.9335,2,  -999.0,9, -999.0, -999.00,9,  -999.0,  -999.0, -999.00,9
31RBOACES24N_2,  AR01,    15,  1,     29,3,19980126,1051, 25.9828, -19.3653, 3731,    197.9,  17.1480,  36.4400,  36.4310,2,    176.6,2,     175.7,2,     3.40,3,     8.00,2,     0.01,2,     0.45,2, -999.000,9, -999.000,9, -999.000,9, -999.000,9,   -999.0,9,  -999.00,9,   -999.0,9,   -999.0,9,-999.0000,9,  -999.0,9, -999.0, -999.00,9,  -999.0,  -999.0, -999.00,9
31RBOACES24N_2,  AR01,    15,  1,     28,2,19980126,1051, 25.9828, -19.3653, 3731,    222.1,  16.5850,  36.3450,  36.3340,2,    174.1,2,     175.7,2,     3.50,3,     8.78,2,     0.01,2,     0.51,2, -999.000,9, -999.000,9, -999.000,9, -999.000,9,   -999.0,9,  -999.00,9,   2139.7,2,   -999.0,9,   7.8937,2,   488.2,2,   20.0, -999.00,9,   425.4,  -999.0, -999.00,9
31RBOACES24N_2,  AR01,    15,  1,     27,2,19980126,1051, 25.9828, -19.3653, 3731,    274.3,  15.5420,  36.1790,  36.1750,2,    173.2,2,     174.5,2,     4.10,3,    10.34,2,     0.00,2,     0.60,2, -999.000,9, -999.000,9, -999.000,9, -999.000,9,   -999.0,9,  -999.00,9,   2143.1,2,   2374.6,2,   7.8718,2,   519.8,2,   20.0, -999.00,9,   433.6,  -999.0, -999.00,9
31RBOACES24N_2,  AR01,    15,  1,     26,2,19980126,1051, 25.9828, -19.3653, 3731,    322.6,  14.7180,  36.0530,  36.0510,2,    184.3,2,     183.7,2,     4.40,3,    10.54,2,     0.00,2,     0.62,2, -999.000,9, -999.000,9, -999.000,9, -999.000,9,   -999.0,9,  -999.00,9,   -999.0,9,   -999.0,9,-999.0000,9,  -999.0,9, -999.0, -999.00,9,  -999.0,  -999.0, -999.00,9
31RBOACES24N_2,  AR01,    15,  1,     25,2,19980126,1051, 25.9828, -19.3653, 3731,    368.9,  14.0640,  35.9500,  35.9460,2,    186.7,2,     185.0,2,     4.70,3,    11.51,2,     0.00,2,     0.68,2, -999.000,9, -999.000,9, -999.000,9, -999.000,9,   -999.0,9,  -999.00,9,   2143.5,2,   -999.0,9,   7.8527,2,   550.8,2,   20.0, -999.00,9,   431.9,  -999.0, -999.00,9
31RBOACES24N_2,  AR01,    15,  1,     24,2,19980126,1051, 25.9828, -19.3653, 3731,    424.2,  13.0730,  35.8020,  35.8020,2,    181.8,2,     180.0,2,     5.70,3,    13.66,2,     0.00,2,     0.81,2, -999.000,9, -999.000,9, -999.000,9, -999.000,9,   -999.0,9,  -999.00,9,   -999.0,9,   -999.0,9,-999.0000,9,  -999.0,9, -999.0, -999.00,9,  -999.0,  -999.0, -999.00,9
31RBOACES24N_2,  AR01,    15,  1,     23,2,19980126,1051, 25.9828, -19.3653, 3731,    473.7,  12.4180,  35.7040,  35.7050,2,    174.6,2,     169.3,2,     6.90,3,    16.01,2,     0.00,2,     0.96,2, -999.000,9, -999.000,9, -999.000,9, -999.000,9,   -999.0,9,  -999.00,9,   2162.4,2,   2347.4,2,   7.7897,2,   632.6,2,   20.0, -999.00,9,   462.9,  -999.0, -999.00,9
31RBOACES24N_2,  AR01,    15,  1,     22,2,19980126,1051, 25.9828, -19.3653, 3731,    525.0,  11.9020,  35.6300,  35.6320,2,    167.7,2,     164.7,2,  -999.00,5,    17.47,2,     0.00,2,     1.06,2, -999.000,9, -999.000,9, -999.000,9, -999.000,9,   -999.0,9,  -999.00,9,   -999.0,9,   -999.0,9,-999.0000,9,  -999.0,9, -999.0, -999.00,9,  -999.0,  -999.0, -999.00,9
31RBOACES24N_2,  AR01,    15,  1,     21,2,19980126,1051, 25.9828, -19.3653, 3731,    586.0,  10.9800,  35.5120,  35.5190,2,    155.4,2,     151.7,2,    10.20,3,    20.40,2,     0.00,2,     1.25,2, -999.000,9, -999.000,9, -999.000,9, -999.000,9,   -999.0,9,  -999.00,9,   2179.7,2,   -999.0,9,   7.7313,2,   735.1,2,   20.0, -999.00,9,   506.6,  -999.0, -999.00,9
31RBOACES24N_2,  AR01,    15,  1,     20,2,19980126,1051, 25.9828, -19.3653, 3731,    694.4,   9.7490,  35.3510,  35.3580,2,    125.0,2,     125.3,2,    14.40,2,    25.48,2,     0.00,2,     1.60,2, -999.000,9, -999.000,9, -999.000,9, -999.000,9,   -999.0,9,  -999.00,9,   -999.0,9,   -999.0,9,-999.0000,9,  -999.0,9, -999.0, -999.00,9,  -999.0,  -999.0, -999.00,9
31RBOACES24N_2,  AR01,    15,  1,     19,2,19980126,1051, 25.9828, -19.3653, 3731,    800.0,   8.5010,  35.2440,  35.2440,2,    125.9,2,     126.3,2,    17.80,2,    27.44,2,     0.00,2,     1.77,2, -999.000,9, -999.000,9, -999.000,9, -999.000,9,   -999.0,9,  -999.00,9,   2209.7,2,   2329.4,2,   7.6399,2,   949.2,2,   20.0, -999.00,9,   591.4,  -999.0, -999.00,9
31RBOACES24N_2,  AR01,    15,  1,     18,2,19980126,1051, 25.9828, -19.3653, 3731,    903.6,   7.8290,  35.1810,  35.1820,2,    128.8,2,     130.0,2,    19.60,2,    28.02,2,     0.00,2,     1.83,2, -999.000,9, -999.000,9, -999.000,9, -999.000,9,   -999.0,9,  -999.00,9,   -999.0,9,   -999.0,9,-999.0000,9,  -999.0,9, -999.0, -999.00,9,  -999.0,  -999.0, -999.00,9
31RBOACES24N_2,  AR01,    15,  1,     17,2,19980126,1051, 25.9828, -19.3653, 3731,    999.7,   7.3930,  35.1820,  35.1820,2,    141.7,2,     141.0,2,    20.40,2,    27.34,2,     0.00,2,     1.79,2, -999.000,9, -999.000,9, -999.000,9, -999.000,9,   -999.0,9,  -999.00,9,   2209.1,6,   2335.5,3,   7.6422,2,   938.2,2,   20.0, -999.00,9,   555.9,  -999.0, -999.00,9
31RBOACES24N_2,  AR01,    15,  1,     16,2,19980126,1051, 25.9828, -19.3653, 3731,   1097.8,   6.9120,  35.1790,  35.1740,2,    153.9,2,     153.8,2,    20.40,2,    26.66,2,     0.00,2,     1.75,2, -999.000,9, -999.000,9, -999.000,9, -999.000,9,   -999.0,9,  -999.00,9,   -999.0,9,   -999.0,9,-999.0000,9,  -999.0,9, -999.0, -999.00,9,  -999.0,  -999.0, -999.00,9
31RBOACES24N_2,  AR01,    15,  1,     15,2,19980126,1051, 25.9828, -19.3653, 3731,   1197.1,   6.7670,  35.2410,  35.2350,2,    167.2,2,     168.4,2,    19.50,2,    24.70,2,     0.00,2,     1.64,2, -999.000,9, -999.000,9, -999.000,9, -999.000,9,   -999.0,9,  -999.00,9,   -999.0,9,   -999.0,9,-999.0000,9,  -999.0,9, -999.0, -999.00,9,  -999.0,  -999.0, -999.00,9
31RBOACES24N_2,  AR01,    15,  1,     14,2,19980126,1051, 25.9828, -19.3653, 3731,   1299.1,   6.4460,  35.2520,  35.2540,2,    179.8,2,     179.4,2,    19.80,2,    23.43,2,     0.00,2,     1.57,2, -999.000,9, -999.000,9, -999.000,9, -999.000,9,   -999.0,9,  -999.00,9,   -999.0,9,   -999.0,9,-999.0000,9,  -999.0,9, -999.0, -999.00,9,  -999.0,  -999.0, -999.00,9
31RBOACES24N_2,  AR01,    15,  1,     13,2,19980126,1051, 25.9828, -19.3653, 3731,   1400.2,   6.1170,  35.2520,  35.2520,2,    190.9,2,     189.4,2,    20.30,2,    22.55,2,     0.00,2,     1.52,2, -999.000,9, -999.000,9, -999.000,9, -999.000,9,   -999.0,9,  -999.00,9,   -999.0,9,   -999.0,9,-999.0000,9,  -999.0,9, -999.0, -999.00,9,  -999.0,  -999.0, -999.00,9
31RBOACES24N_2,  AR01,    15,  1,     12,2,19980126,1051, 25.9828, -19.3653, 3731,   1499.4,   5.7930,  35.2300,  35.2290,2,    197.9,2,     194.1,2,    20.80,2,    22.26,2,     0.00,2,     1.50,2, -999.000,9, -999.000,9, -999.000,9, -999.000,9,   -999.0,9,  -999.00,9,   2193.7,2,   -999.0,9,   7.7061,2,   784.0,2,   20.0, -999.00,9,   427.3,  -999.0, -999.00,9
31RBOACES24N_2,  AR01,    15,  1,     11,2,19980126,1051, 25.9828, -19.3653, 3731,   1697.5,   4.9840,  35.1670,  35.1660,2,    212.7,2,     212.2,2,    23.40,2,    21.48,2,     0.00,2,     1.47,2, -999.000,9, -999.000,9, -999.000,9, -999.000,9,   -999.0,9,  -999.00,9,   -999.0,9,   -999.0,9,-999.0000,9,  -999.0,9, -999.0, -999.00,9,  -999.0,  -999.0, -999.00,9
31RBOACES24N_2,  AR01,    15,  1,     10,2,19980126,1051, 25.9828, -19.3653, 3731,   1901.2,   4.3760,  35.1070,  35.1070,2,    222.0,2,     221.4,2,    25.70,2,    21.29,2,     0.00,2,     1.46,2, -999.000,9, -999.000,9, -999.000,9, -999.000,9,   -999.0,9,  -999.00,9,   2189.7,2,   2338.5,2,   7.7186,2,  -999.0,9, -999.0, -999.00,9,  -999.0,  -999.0, -999.00,9
31RBOACES24N_2,  AR01,    15,  1,      9,2,19980126,1051, 25.9828, -19.3653, 3731,   2099.2,   3.8880,  35.0540,  35.0540,2,    226.8,2,     227.7,2,    27.90,2,    21.38,2,     0.00,2,     1.48,2, -999.000,9, -999.000,9, -999.000,9, -999.000,9,   -999.0,9,  -999.00,9,   -999.0,9,   -999.0,9,-999.0000,9,  -999.0,9, -999.0, -999.00,9,  -999.0,  -999.0, -999.00,9
31RBOACES24N_2,  AR01,    15,  1,      8,2,19980126,1051, 25.9828, -19.3653, 3731,   2300.9,   3.5650,  35.0160,  35.0160,2,    232.8,2,     168.5,4,    29.50,2,    21.29,2,     0.00,2,     1.47,2, -999.000,9, -999.000,9, -999.000,9, -999.000,9,   -999.0,9,  -999.00,9,   -999.0,9,   -999.0,9,-999.0000,9,  -999.0,9, -999.0, -999.00,9,  -999.0,  -999.0, -999.00,9
31RBOACES24N_2,  AR01,    15,  1,      7,2,19980126,1051, 25.9828, -19.3653, 3731,   2502.2,   3.2700,  34.9870,  34.9880,2,    234.7,2,     233.8,2,    32.90,2,    21.39,2,     0.00,2,     1.49,2, -999.000,9, -999.000,9, -999.000,9, -999.000,9,   -999.0,9,  -999.00,9,   2194.3,2,   -999.0,5,   7.7197,2,   763.6,2,   20.0, -999.00,9,   368.0,  -999.0, -999.00,9
31RBOACES24N_2,  AR01,    15,  1,      6,2,19980126,1051, 25.9828, -19.3653, 3731,   2657.6,   3.1040,  34.9710,  34.9720,2,    236.8,2,     235.8,2,    34.60,2,    21.39,2,     0.00,2,     1.50,2, -999.000,9, -999.000,9, -999.000,9, -999.000,9,   -999.0,9,  -999.00,9,   -999.0,9,   -999.0,9,-999.0000,9,  -999.0,9, -999.0, -999.00,9,  -999.0,  -999.0, -999.00,9
31RBOACES24N_2,  AR01,    15,  1,      5,2,19980126,1051, 25.9828, -19.3653, 3731,   2898.4,   2.8930,  34.9500,  34.9500,2,    237.8,2,     237.0,2,    37.50,2,    21.68,2,     0.00,2,     1.52,2, -999.000,9, -999.000,9, -999.000,9, -999.000,9,   -999.0,9,  -999.00,9,   -999.0,9,   -999.0,9,-999.0000,9,  -999.0,9, -999.0, -999.00,9,  -999.0,  -999.0, -999.00,9
31RBOACES24N_2,  AR01,    15,  1,      4,2,19980126,1051, 25.9828, -19.3653, 3731,   3097.9,   2.7260,  34.9330,  34.9340,2,    235.3,2,     234.7,2,    41.40,2,    21.97,2,     0.00,2,     1.54,2, -999.000,9, -999.000,9, -999.000,9, -999.000,9,   -999.0,9,  -999.00,9,   2206.5,2,   2357.5,2,   7.7187,2,   768.4,2,   20.0, -999.00,9,   360.2,  -999.0, -999.00,9
31RBOACES24N_2,  AR01,    15,  1,      3,2,19980126,1051, 25.9828, -19.3653, 3731,   3299.0,   2.6320,  34.9230,  34.9250,2,    235.1,2,     235.5,2,    42.80,2,    22.17,2,     0.00,2,     1.55,2, -999.000,9, -999.000,9, -999.000,9, -999.000,9,   -999.0,9,  -999.00,9,   -999.0,9,   -999.0,9,-999.0000,9,  -999.0,9, -999.0, -999.00,9,  -999.0,  -999.0, -999.00,9
31RBOACES24N_2,  AR01,    15,  1,      2,2,19980126,1051, 25.9828, -19.3653, 3731,   3499.0,   2.5480,  34.9140,  34.9160,2,    234.6,2,     235.0,2,    44.30,2,    22.36,2,     0.00,2,     1.57,2, -999.000,9, -999.000,9, -999.000,9, -999.000,9,   -999.0,9,  -999.00,9,   2212.1,2,   -999.0,9,   7.7212,2,  -999.0,9, -999.0, -999.00,9,  -999.0,  -999.0, -999.00,9
31RBOACES24N_2,  AR01,    15,  1,      1,2,19980126,1051, 25.9828, -19.3653, 3731,   3764.3,   2.4140,  34.9000,  34.9000,2,    238.5,2,     238.4,2,    46.30,6,    22.46,6,     0.00,6,     1.58,6, -999.000,9, -999.000,9, -999.000,9, -999.000,9,   -999.0,9,  -999.00,9,   2213.9,2,   2366.4,2,   7.7234,2,   767.4,2,   20.0, -999.00,9,   353.5,  -999.0, -999.00,9