BOTTLE,20220820CCHSIOAMB
EXPOCODE,SECT_ID,STNNBR,CASTNO,BTLNBR,BTLNBR_FLAG_W,DATE,TIME,LATITUDE,LONGITUDE,DEPTH,CTDPRS,CTDTMP,CTDSAL,SALNTY,SALNTY_FLAG_W,CTDOXY,CTDOXY_FLAG_W,OXYGEN,OXYGEN_FLAG_W,SILCAT,SILCAT_FLAG_W,NITRAT,NITRAT_FLAG_W,NITRIT,NITRIT_FLAG_W,PHSPHT,PHSPHT_FLAG_W,CFC-11,CFC-11_FLAG_W,CFC-12,CFC-12_FLAG_W,CFC113,CFC113_FLAG_W,CCL4,CCL4_FLAG_W,DELC14,DELC14_FLAG_W,DELC13,DELC13_FLAG_W,TCARBN,TCARBN_FLAG_W,ALKALI,ALKALI_FLAG_W,PH,PH_FLAG_W,FCO2,FCO2_FLAG_W,FCO2TMP,TON,TON_FLAG_W,FCO2IN,C14ERR,TOC,TOC_FLAG_W
,,,,,,,,,,,DBAR,ITS-90,PSS-78,PSS-78,,UMOL/KG,,UMOL/KG,,UMOL/KG,,UMOL/KG,,UMOL/KG,,UMOL/KG,,PMOL/KG,,PMOL/KG,,PMOL/KG,,PMOL/KG,,/MILLE,,/MILLE,,UMOL/KG,,UMOL/KG,,,,UATM,,DEG C,UMOL/KG,,UATM,/MILLE,UMOL/KG,
31RBOACES24N_2,  AR01,     9,  1,     32,2,19980125,0432, 27.0325, -16.1145, 3488,      3.7,  20.4690,  36.9000,  36.9000,2,    234.0,2,     227.3,2,     0.10,2,     0.10,2,     0.01,2,     0.01,2,    2.262,2,    1.298,2,    0.175,2, -999.000,9,   -999.0,9,  -999.00,9,   2097.8,6,   -999.0,9,   8.0278,2,   364.4,2,   20.0, -999.00,9,   371.3,  -999.0, -999.00,9
31RBOACES24N_2,  AR01,     9,  1,     31,2,19980125,0432, 27.0325, -16.1145, 3488,     27.9,  20.4770,  36.9010,  36.9010,2,    224.5,2,     227.4,2,     0.10,2,     0.10,2,     0.02,2,     0.01,2,    2.275,2,    1.320,2,    0.204,2, -999.000,9,   -999.0,9,  -999.00,9,   -999.0,9,   -999.0,9,-999.0000,9,  -999.0,9, -999.0, -999.00,9,  -999.0,  -999.0, -999.00,9
31RBOACES24N_2,  AR01,     9,  1,     30,2,19980125,0432, 27.0325, -16.1145, 3488,     56.3,  20.4800,  36.9000,  36.9010,2,    225.6,2,     227.5,2,     0.10,2,     0.10,2,     0.02,2,     0.02,2,    2.253,6,    1.306,6,    0.174,6, -999.000,9,   -999.0,9,  -999.00,9,   -999.0,9,   -999.0,9,-999.0000,9,  -999.0,9, -999.0, -999.00,9,  -999.0,  -999.0, -999.00,9
31RBOACES24N_2,  AR01,     9,  1,     29,2,19980125,0432, 27.0325, -16.1145, 3488,     84.2,  20.4860,  36.9000,  36.9010,2,    225.7,2,     227.3,2,     0.10,2,     0.10,2,     0.01,2,     0.02,2,    2.271,2,    1.302,2,    0.189,2, -999.000,9,   -999.0,9,  -999.00,9,   -999.0,9,   -999.0,9,-999.0000,9,  -999.0,9, -999.0, -999.00,9,  -999.0,  -999.0, -999.00,9
31RBOACES24N_2,  AR01,     9,  1,     28,2,19980125,0432, 27.0325, -16.1145, 3488,    107.2,  20.4790,  36.8940,  36.8980,2,    225.7,2,     227.0,2,     0.10,2,     0.10,2,     0.02,2,     0.02,2,    2.241,2,    1.305,2,    0.169,2, -999.000,9,   -999.0,9,  -999.00,9,   -999.0,9,   -999.0,9,-999.0000,9,  -999.0,9, -999.0, -999.00,9,  -999.0,  -999.0, -999.00,9
31RBOACES24N_2,  AR01,     9,  1,     27,2,19980125,0432, 27.0325, -16.1145, 3488,    147.9,  18.4570,  36.6200,  36.6210,2,    194.7,2,     196.4,2,     1.00,2,     4.49,2,     0.02,2,     0.26,2,    2.373,2,    1.348,2,    0.112,2, -999.000,9,   -999.0,9,  -999.00,9,   -999.0,9,   -999.0,9,-999.0000,9,  -999.0,9, -999.0, -999.00,9,  -999.0,  -999.0, -999.00,9
31RBOACES24N_2,  AR01,     9,  1,     26,2,19980125,0432, 27.0325, -16.1145, 3488,    174.8,  17.4020,  36.4850,  36.4780,2,    191.7,2,     193.8,2,     1.40,2,     5.95,2,     0.01,2,     0.34,2,    2.433,2,    1.378,2,    0.081,2, -999.000,9,   -999.0,9,  -999.00,9,   -999.0,9,   -999.0,9,-999.0000,9,  -999.0,9, -999.0, -999.00,9,  -999.0,  -999.0, -999.00,9
31RBOACES24N_2,  AR01,     9,  1,     25,2,19980125,0432, 27.0325, -16.1145, 3488,    209.4,  16.5900,  36.3650,  36.3680,2,    192.6,2,     193.4,2,     1.80,2,     6.83,2,     0.01,2,     0.39,2,    2.427,2,    1.375,2,    0.067,2, -999.000,9,   -999.0,9,  -999.00,9,   -999.0,9,   -999.0,9,-999.0000,9,  -999.0,9, -999.0, -999.00,9,  -999.0,  -999.0, -999.00,9
31RBOACES24N_2,  AR01,     9,  1,     24,2,19980125,0432, 27.0325, -16.1145, 3488,    247.8,  15.8680,  36.2430,  36.2160,2,    192.9,2,     194.7,2,     2.20,2,     8.10,2,     0.01,2,     0.48,2,    2.470,2,    1.371,2,    0.050,2, -999.000,9,   -999.0,9,  -999.00,9,   -999.0,9,   -999.0,9,-999.0000,9,  -999.0,9, -999.0, -999.00,9,  -999.0,  -999.0, -999.00,9
31RBOACES24N_2,  AR01,     9,  1,     23,2,19980125,0432, 27.0325, -16.1145, 3488,    299.1,  14.7420,  36.0660,  36.0700,2,    190.5,2,     188.3,2,     3.10,2,    10.25,2,     0.00,2,     0.61,2,    2.415,2,    1.339,2,    0.033,2, -999.000,9,   -999.0,9,  -999.00,9,   -999.0,9,   -999.0,9,-999.0000,9,  -999.0,9, -999.0, -999.00,9,  -999.0,  -999.0, -999.00,9
31RBOACES24N_2,  AR01,     9,  1,     22,2,19980125,0432, 27.0325, -16.1145, 3488,    351.9,  13.8960,  35.9380,  35.9350,2,    186.0,2,     181.9,2,     4.00,2,    12.49,2,     0.00,2,     0.75,2, -999.000,9, -999.000,9,    0.045,2, -999.000,9,   -999.0,9,  -999.00,9,   -999.0,9,   -999.0,9,-999.0000,9,  -999.0,9, -999.0, -999.00,9,  -999.0,  -999.0, -999.00,9
31RBOACES24N_2,  AR01,     9,  1,     21,2,19980125,0432, 27.0325, -16.1145, 3488,    398.2,  13.2630,  35.8350,  35.8380,2,    181.1,2,     176.6,2,     4.70,2,    14.06,2,     0.00,2,     0.84,2,    2.194,2,    1.181,2,    0.032,2, -999.000,9,   -999.0,9,  -999.00,9,   -999.0,9,   -999.0,9,-999.0000,9,  -999.0,9, -999.0, -999.00,9,  -999.0,  -999.0, -999.00,9
31RBOACES24N_2,  AR01,     9,  1,     20,2,19980125,0432, 27.0325, -16.1145, 3488,    496.8,  11.8840,  35.6320,  35.6350,2,    160.7,2,     155.7,2,     7.50,2,    18.65,2,     0.00,2,     1.15,2,    1.673,2,    0.893,2,    0.018,2, -999.000,9,   -999.0,9,  -999.00,9,   -999.0,9,   -999.0,9,-999.0000,9,  -999.0,9, -999.0, -999.00,9,  -999.0,  -999.0, -999.00,9
31RBOACES24N_2,  AR01,     9,  1,     19,2,19980125,0432, 27.0325, -16.1145, 3488,    599.6,  10.9540,  35.5150,  35.5130,2,    150.6,2,     147.3,2,     9.80,2,    21.19,2,     0.00,2,     1.33,2,    1.289,2,    0.683,2,    0.015,2, -999.000,9,   -999.0,9,  -999.00,9,   -999.0,9,   -999.0,9,-999.0000,9,  -999.0,9, -999.0, -999.00,9,  -999.0,  -999.0, -999.00,9
31RBOACES24N_2,  AR01,     9,  1,     18,2,19980125,0432, 27.0325, -16.1145, 3488,    698.8,   9.5820,  35.3470,  35.3480,2,    132.5,2,     128.6,2,    13.80,2,    25.49,2,     0.00,2,  -999.00,5,    0.691,2,    0.346,2,    0.009,2, -999.000,9,   -999.0,9,  -999.00,9,   -999.0,9,   -999.0,9,-999.0000,9,  -999.0,9, -999.0, -999.00,9,  -999.0,  -999.0, -999.00,9
31RBOACES24N_2,  AR01,     9,  1,     17,2,19980125,0432, 27.0325, -16.1145, 3488,    799.4,   8.8810,  35.2900,  35.2900,2,    129.4,2,     130.7,2,    15.70,2,    26.37,2,     0.00,2,     1.70,2,    0.470,2,    0.238,2,    0.008,2, -999.000,9,   -999.0,9,  -999.00,9,   -999.0,9,   -999.0,9,-999.0000,9,  -999.0,9, -999.0, -999.00,9,  -999.0,  -999.0, -999.00,9
31RBOACES24N_2,  AR01,     9,  1,     16,2,19980125,0432, 27.0325, -16.1145, 3488,    899.6,   8.1370,  35.2530,  35.2550,2,    136.8,2,     139.7,2,    17.50,2,    26.56,2,     0.00,2,     1.73,2,    0.282,2,    0.138,2,    0.001,2, -999.000,9,   -999.0,9,  -999.00,9,   -999.0,9,   -999.0,9,-999.0000,9,  -999.0,9, -999.0, -999.00,9,  -999.0,  -999.0, -999.00,9
31RBOACES24N_2,  AR01,     9,  1,     15,2,19980125,0432, 27.0325, -16.1145, 3488,   1001.7,   7.5560,  35.2550,  35.2540,2,    149.7,2,     152.1,2,    18.60,2,    25.98,2,     0.00,2,     1.70,2,    0.208,2,    0.110,2,   -0.001,2, -999.000,9,   -999.0,9,  -999.00,9,   -999.0,9,   -999.0,9,-999.0000,9,  -999.0,9, -999.0, -999.00,9,  -999.0,  -999.0, -999.00,9
31RBOACES24N_2,  AR01,     9,  1,     14,2,19980125,0432, 27.0325, -16.1145, 3488,   1098.4,   7.3320,  35.2820,  35.2820,2,    161.4,2,     161.3,2,    18.60,2,    24.80,2,     0.00,2,     1.64,2,    0.181,2,    0.102,2,    0.000,2, -999.000,9,   -999.0,9,  -999.00,9,   -999.0,9,   -999.0,9,-999.0000,9,  -999.0,9, -999.0, -999.00,9,  -999.0,  -999.0, -999.00,9
31RBOACES24N_2,  AR01,     9,  1,     13,2,19980125,0432, 27.0325, -16.1145, 3488,   1199.0,   6.7450,  35.2680,  35.2680,2,    172.7,2,     174.0,2,    19.10,2,    23.92,2,     0.00,2,     1.59,2,    0.141,2,    0.079,2,   -0.002,2, -999.000,9,   -999.0,9,  -999.00,9,   -999.0,9,   -999.0,9,-999.0000,9,  -999.0,9, -999.0, -999.00,9,  -999.0,  -999.0, -999.00,9
31RBOACES24N_2,  AR01,     9,  1,     12,2,19980125,0432, 27.0325, -16.1145, 3488,   1398.8,   5.8830,  35.2290,  35.2280,2,    195.0,2,     194.7,2,    20.40,2,    22.75,2,     0.00,2,     1.52,2,    0.099,2,    0.058,2,   -0.002,2, -999.000,9,   -999.0,9,  -999.00,9,   -999.0,9,   -999.0,9,-999.0000,9,  -999.0,9, -999.0, -999.00,9,  -999.0,  -999.0, -999.00,9
31RBOACES24N_2,  AR01,     9,  1,     11,2,19980125,0432, 27.0325, -16.1145, 3488,   1597.1,   5.2490,  35.1870,  35.1830,2,    207.4,2,     208.7,2,    21.70,2,    22.07,2,     0.00,2,     1.48,2, -999.000,9, -999.000,9, -999.000,9, -999.000,9,   -999.0,9,  -999.00,9,   -999.0,9,   -999.0,9,-999.0000,9,  -999.0,9, -999.0, -999.00,9,  -999.0,  -999.0, -999.00,9
31RBOACES24N_2,  AR01,     9,  1,     10,2,19980125,0432, 27.0325, -16.1145, 3488,   1800.9,   4.5120,  35.1140,  35.1140,2,    219.4,2,     218.9,2,    24.20,2,    21.97,2,     0.00,2,     1.48,2,    0.032,2,    0.022,2,   -0.004,2, -999.000,9,   -999.0,9,  -999.00,9,   -999.0,9,   -999.0,9,-999.0000,9,  -999.0,9, -999.0, -999.00,9,  -999.0,  -999.0, -999.00,9
31RBOACES24N_2,  AR01,     9,  1,      9,2,19980125,0432, 27.0325, -16.1145, 3488,   1999.1,   4.0830,  35.0690,  35.0690,2,    224.8,2,     224.3,2,    26.60,2,    21.68,2,     0.00,2,     1.48,2, -999.000,9, -999.000,9, -999.000,9, -999.000,9,   -999.0,9,  -999.00,9,   -999.0,9,   -999.0,9,-999.0000,9,  -999.0,9, -999.0, -999.00,9,  -999.0,  -999.0, -999.00,9
31RBOACES24N_2,  AR01,     9,  1,      8,2,19980125,0432, 27.0325, -16.1145, 3488,   2192.4,   3.6950,  35.0280,  35.0300,2,    226.8,2,     227.3,2,    30.20,2,    21.78,2,     0.00,2,     1.49,2,    0.024,2,    0.009,2,    0.000,2, -999.000,9,   -999.0,9,  -999.00,9,   -999.0,9,   -999.0,9,-999.0000,9,  -999.0,9, -999.0, -999.00,9,  -999.0,  -999.0, -999.00,9
31RBOACES24N_2,  AR01,     9,  1,      7,2,19980125,0432, 27.0325, -16.1145, 3488,   2398.1,   3.4060,  34.9990,  34.9980,2,    229.3,2,     229.4,2,    33.10,2,    21.88,2,     0.00,2,     1.50,2, -999.000,9, -999.000,9, -999.000,9, -999.000,9,   -999.0,9,  -999.00,9,   -999.0,9,   -999.0,9,-999.0000,9,  -999.0,9, -999.0, -999.00,9,  -999.0,  -999.0, -999.00,9
31RBOACES24N_2,  AR01,     9,  1,      6,2,19980125,0432, 27.0325, -16.1145, 3488,   2598.7,   3.1300,  34.9710,  34.9710,2,    232.7,2,     232.8,2,    35.90,2,    21.98,2,     0.00,2,     1.51,2,    0.012,6,    0.012,6,    0.000,6, -999.000,9,   -999.0,9,  -999.00,9,   -999.0,9,   -999.0,9,-999.0000,9,  -999.0,9, -999.0, -999.00,9,  -999.0,  -999.0, -999.00,9
31RBOACES24N_2,  AR01,     9,  1,      5,2,19980125,0432, 27.0325, -16.1145, 3488,   2799.8,   2.9640,  34.9550,  34.9550,2,    234.1,2,     233.9,2,    38.40,2,    22.17,2,     0.00,2,     1.51,2, -999.000,9, -999.000,9, -999.000,9, -999.000,9,   -999.0,9,  -999.00,9,   -999.0,9,   -999.0,9,-999.0000,9,  -999.0,9, -999.0, -999.00,9,  -999.0,  -999.0, -999.00,9
31RBOACES24N_2,  AR01,     9,  1,      4,2,19980125,0432, 27.0325, -16.1145, 3488,   2988.9,   2.7690,  34.9370,  34.9370,2,    234.5,2,     235.1,2,    40.70,2,    22.46,2,     0.00,2,     1.53,2,    0.006,2,    0.009,2,   -0.003,2, -999.000,9,   -999.0,9,  -999.00,9,   -999.0,9,   -999.0,9,-999.0000,9,  -999.0,9, -999.0, -999.00,9,  -999.0,  -999.0, -999.00,9
31RBOACES24N_2,  AR01,     9,  1,      3,2,19980125,0432, 27.0325, -16.1145, 3488,   3200.0,   2.6470,  34.9240,  34.9250,2,    235.0,2,     235.0,2,    42.10,2,    22.56,2,     0.00,2,     1.54,2, -999.000,9, -999.000,9, -999.000,9, -999.000,9,   -999.0,9,  -999.00,9,   -999.0,9,   -999.0,9,-999.0000,9,  -999.0,9, -999.0, -999.00,9,  -999.0,  -999.0, -999.00,9
31RBOACES24N_2,  AR01,     9,  1,      2,2,19980125,0432, 27.0325, -16.1145, 3488,   3399.8,   2.5700,  34.9170,  34.9180,2,    234.7,2,     233.8,2,    43.00,2,    22.66,2,     0.00,2,     1.55,2,    0.014,2,    0.012,2,    0.000,2, -999.000,9,   -999.0,9,  -999.00,9,   -999.0,9,   -999.0,9,-999.0000,9,  -999.0,9, -999.0, -999.00,9,  -999.0,  -999.0, -999.00,9
31RBOACES24N_2,  AR01,     9,  1,      1,2,19980125,0432, 27.0325, -16.1145, 3488,   3524.5,   2.5790,  34.9160,  34.9160,2,    234.6,2,     234.1,2,    43.70,6,    22.56,6,     0.00,6,     1.55,6,    0.012,2,    0.000,2,    0.000,2, -999.000,9,   -999.0,9,  -999.00,9,   -999.0,9,   -999.0,9,-999.0000,9,  -999.0,9, -999.0, -999.00,9,  -999.0,  -999.0, -999.00,9