BOTTLE,20220820CCHSIOAMB
EXPOCODE,SECT_ID,STNNBR,CASTNO,BTLNBR,BTLNBR_FLAG_W,DATE,TIME,LATITUDE,LONGITUDE,DEPTH,CTDPRS,CTDTMP,CTDSAL,SALNTY,SALNTY_FLAG_W,CTDOXY,CTDOXY_FLAG_W,OXYGEN,OXYGEN_FLAG_W,SILCAT,SILCAT_FLAG_W,NITRAT,NITRAT_FLAG_W,NITRIT,NITRIT_FLAG_W,PHSPHT,PHSPHT_FLAG_W,CFC-11,CFC-11_FLAG_W,CFC-12,CFC-12_FLAG_W,CFC113,CFC113_FLAG_W,CCL4,CCL4_FLAG_W,DELC14,DELC14_FLAG_W,DELC13,DELC13_FLAG_W,TCARBN,TCARBN_FLAG_W,ALKALI,ALKALI_FLAG_W,PH,PH_FLAG_W,FCO2,FCO2_FLAG_W,FCO2TMP,TON,TON_FLAG_W,FCO2IN,C14ERR,TOC,TOC_FLAG_W
,,,,,,,,,,,DBAR,ITS-90,PSS-78,PSS-78,,UMOL/KG,,UMOL/KG,,UMOL/KG,,UMOL/KG,,UMOL/KG,,UMOL/KG,,PMOL/KG,,PMOL/KG,,PMOL/KG,,PMOL/KG,,/MILLE,,/MILLE,,UMOL/KG,,UMOL/KG,,,,UATM,,DEG C,UMOL/KG,,UATM,/MILLE,UMOL/KG,
31RBOACES24N_2,  AR01,   107,  1,     36,2,19980220,0732, 26.4997, -75.3002, 4638,      3.6,  22.4390,  36.6660,  36.6650,2,    218.1,2,     218.1,2,     0.70,2,     0.00,2,     0.00,2,     0.01,2, -999.000,9, -999.000,9, -999.000,9, -999.000,9,   -999.0,9,     1.21,2,   2041.6,6,   2394.1,6,   8.0876,6,   292.8,6,   20.0, -999.00,9,   322.6,  -999.0, -999.00,9
31RBOACES24N_2,  AR01,   107,  1,     35,2,19980220,0732, 26.4997, -75.3002, 4638,     32.8,  22.1650,  36.6630,  36.6620,2,    218.7,2,     218.9,2,     0.70,2,     0.00,2,     0.00,2,     0.01,2, -999.000,9, -999.000,9, -999.000,9, -999.000,9,   -999.0,9,  -999.00,9,   -999.0,9,   -999.0,9,-999.0000,9,  -999.0,9, -999.0, -999.00,9,  -999.0,  -999.0, -999.00,9
31RBOACES24N_2,  AR01,   107,  1,     34,2,19980220,0732, 26.4997, -75.3002, 4638,     67.7,  21.9260,  36.6430,  36.6420,2,    217.8,2,     218.9,2,     0.70,2,     0.00,2,     0.01,2,     0.01,2, -999.000,9, -999.000,9, -999.000,9, -999.000,9,   -999.0,9,  -999.00,9,   -999.0,9,   -999.0,9,-999.0000,9,  -999.0,9, -999.0, -999.00,9,  -999.0,  -999.0, -999.00,9
31RBOACES24N_2,  AR01,   107,  1,     33,2,19980220,0732, 26.4997, -75.3002, 4638,    104.2,  21.7600,  36.6570,  36.6520,2,    215.1,2,     216.3,2,     0.70,2,     0.00,2,     0.07,2,     0.01,2, -999.000,9, -999.000,9, -999.000,9, -999.000,9,   -999.0,9,  -999.00,9,   -999.0,9,   -999.0,9,-999.0000,9,  -999.0,9, -999.0, -999.00,9,  -999.0,  -999.0, -999.00,9
31RBOACES24N_2,  AR01,   107,  1,     32,2,19980220,0732, 26.4997, -75.3002, 4638,    140.6,  21.4210,  36.6920,  36.6950,2,    214.9,2,     214.3,2,     0.70,2,     0.20,2,     0.10,2,     0.01,2, -999.000,9, -999.000,9, -999.000,9, -999.000,9,   -999.0,9,  -999.00,9,   -999.0,9,   -999.0,9,-999.0000,9,  -999.0,9, -999.0, -999.00,9,  -999.0,  -999.0, -999.00,9
31RBOACES24N_2,  AR01,   107,  1,     31,2,19980220,0732, 26.4997, -75.3002, 4638,    174.2,  20.8070,  36.8170,  36.8070,2,    205.1,2,     203.5,2,     0.70,2,     0.78,2,     0.04,2,     0.03,2, -999.000,9, -999.000,9, -999.000,9, -999.000,9,   -999.0,9,  -999.00,9,   -999.0,9,   -999.0,9,-999.0000,9,  -999.0,9, -999.0, -999.00,9,  -999.0,  -999.0, -999.00,9
31RBOACES24N_2,  AR01,   107,  1,     30,2,19980220,0732, 26.4997, -75.3002, 4638,    199.7,  20.1010,  36.7780,  36.7800,2,    199.6,2,     194.5,2,     0.70,2,     1.46,2,     0.02,2,     0.05,2, -999.000,9, -999.000,9, -999.000,9, -999.000,9,   -999.0,9,  -999.00,9,   -999.0,9,   -999.0,9,-999.0000,9,  -999.0,9, -999.0, -999.00,9,  -999.0,  -999.0, -999.00,9
31RBOACES24N_2,  AR01,   107,  1,     29,2,19980220,0732, 26.4997, -75.3002, 4638,    213.8,  19.7050,  36.7210,  36.7160,2,    191.3,2,     196.9,2,     0.80,2,     1.85,2,     0.02,2,     0.06,2, -999.000,9, -999.000,9, -999.000,9, -999.000,9,   -999.0,9,  -999.00,9,   -999.0,9,   -999.0,9,-999.0000,9,  -999.0,9, -999.0, -999.00,9,  -999.0,  -999.0, -999.00,9
31RBOACES24N_2,  AR01,   107,  1,     28,2,19980220,0732, 26.4997, -75.3002, 4638,    249.2,  19.0570,  36.6600,  36.6550,2,    194.3,2,     194.5,2,     0.90,2,     2.83,2,     0.01,2,     0.10,2, -999.000,9, -999.000,9, -999.000,9, -999.000,9,   -999.0,9,  -999.00,9,   -999.0,9,   -999.0,9,-999.0000,9,  -999.0,9, -999.0, -999.00,9,  -999.0,  -999.0, -999.00,9
31RBOACES24N_2,  AR01,   107,  1,     27,2,19980220,0732, 26.4997, -75.3002, 4638,    271.3,  18.6800,  36.6130,  36.6140,2,    195.8,2,     196.8,2,     1.00,2,     3.32,2,     0.01,2,     0.13,2, -999.000,9, -999.000,9, -999.000,9, -999.000,9,   -999.0,9,  -999.00,9,   -999.0,9,   -999.0,9,-999.0000,9,  -999.0,9, -999.0, -999.00,9,  -999.0,  -999.0, -999.00,9
31RBOACES24N_2,  AR01,   107,  1,     26,2,19980220,0732, 26.4997, -75.3002, 4638,    297.2,  18.4380,  36.5810,  36.5760,2,    203.0,2,     200.2,2,     1.20,2,     3.71,2,     0.01,2,     0.16,2, -999.000,9, -999.000,9, -999.000,9, -999.000,9,   -999.0,9,  -999.00,9,   -999.0,9,   -999.0,9,-999.0000,9,  -999.0,9, -999.0, -999.00,9,  -999.0,  -999.0, -999.00,9
31RBOACES24N_2,  AR01,   107,  1,     25,2,19980220,0732, 26.4997, -75.3002, 4638,    343.7,  18.2360,  36.5530,  36.5520,2,    206.7,2,     202.5,2,     1.20,2,     4.00,2,     0.01,2,     0.18,2, -999.000,9, -999.000,9, -999.000,9, -999.000,9,   -999.0,9,  -999.00,9,   -999.0,9,   -999.0,9,-999.0000,9,  -999.0,9, -999.0, -999.00,9,  -999.0,  -999.0, -999.00,9
31RBOACES24N_2,  AR01,   107,  1,     24,2,19980220,0732, 26.4997, -75.3002, 4638,    397.4,  18.0290,  36.5230,  36.5240,2,    203.1,2,     201.8,2,     1.40,2,     4.49,2,     0.01,2,     0.21,2, -999.000,9, -999.000,9, -999.000,9, -999.000,9,   -999.0,9,  -999.00,9,   -999.0,9,   -999.0,9,-999.0000,9,  -999.0,9, -999.0, -999.00,9,  -999.0,  -999.0, -999.00,9
31RBOACES24N_2,  AR01,   107,  1,     23,2,19980220,0732, 26.4997, -75.3002, 4638,    448.5,  17.6260,  36.4550,  36.4590,2,    197.0,2,     197.2,2,     1.70,2,     5.56,2,     0.01,2,     0.28,2, -999.000,9, -999.000,9, -999.000,9, -999.000,9,   -999.0,9,  -999.00,9,   -999.0,9,   -999.0,9,-999.0000,9,  -999.0,9, -999.0, -999.00,9,  -999.0,  -999.0, -999.00,9
31RBOACES24N_2,  AR01,   107,  1,     22,2,19980220,0732, 26.4997, -75.3002, 4638,    499.3,  16.8250,  36.3150,  36.3190,2,    187.9,2,     184.9,2,     2.40,2,     7.90,2,     0.01,2,     0.42,2, -999.000,9, -999.000,9, -999.000,9, -999.000,9,   -999.0,9,  -999.00,9,   -999.0,9,   -999.0,9,-999.0000,9,  -999.0,9, -999.0, -999.00,9,  -999.0,  -999.0, -999.00,9
31RBOACES24N_2,  AR01,   107,  1,     21,2,19980220,0732, 26.4997, -75.3002, 4638,    550.2,  15.9930,  36.1740,  36.1800,2,    182.3,2,     179.7,2,     3.10,2,     9.66,2,     0.01,2,     0.54,2, -999.000,9, -999.000,9, -999.000,9, -999.000,9,   -999.0,9,  -999.00,9,   -999.0,9,   -999.0,9,-999.0000,9,  -999.0,9, -999.0, -999.00,9,  -999.0,  -999.0, -999.00,9
31RBOACES24N_2,  AR01,   107,  1,     20,2,19980220,0732, 26.4997, -75.3002, 4638,    651.5,  14.0810,  35.8700,  35.8700,2,    172.4,2,     168.8,2,     5.20,2,    13.86,2,     0.01,2,     0.82,2, -999.000,9, -999.000,9, -999.000,9, -999.000,9,   -999.0,9,  -999.00,9,   -999.0,9,   -999.0,9,-999.0000,9,  -999.0,9, -999.0, -999.00,9,  -999.0,  -999.0, -999.00,9
31RBOACES24N_2,  AR01,   107,  1,     19,2,19980220,0732, 26.4997, -75.3002, 4638,    748.6,  11.9960,  35.5630,  35.5650,2,    163.9,2,     162.4,2,     8.20,2,    17.76,2,     0.01,2,     1.10,2, -999.000,9, -999.000,9, -999.000,9, -999.000,9,   -999.0,9,  -999.00,9,   -999.0,9,   -999.0,9,-999.0000,9,  -999.0,9, -999.0, -999.00,9,  -999.0,  -999.0, -999.00,9
31RBOACES24N_2,  AR01,   107,  1,     18,2,19980220,0732, 26.4997, -75.3002, 4638,    849.0,   9.7950,  35.3040,  35.3150,2,    159.7,2,     158.0,2,    11.70,2,    21.48,2,     0.01,2,     1.37,2, -999.000,9, -999.000,9, -999.000,9, -999.000,9,   -999.0,9,  -999.00,9,   -999.0,9,   -999.0,9,-999.0000,9,  -999.0,9, -999.0, -999.00,9,  -999.0,  -999.0, -999.00,9
31RBOACES24N_2,  AR01,   107,  1,     17,2,19980220,0732, 26.4997, -75.3002, 4638,    949.1,   8.0080,  35.1300,  35.1320,2,    158.3,2,     157.7,2,    15.40,2,    24.31,2,     0.01,2,     1.59,2, -999.000,9, -999.000,9, -999.000,9, -999.000,9,   -999.0,9,  -999.00,9,   -999.0,9,   -999.0,9,-999.0000,9,  -999.0,9, -999.0, -999.00,9,  -999.0,  -999.0, -999.00,9
31RBOACES24N_2,  AR01,   107,  1,     16,2,19980220,0732, 26.4997, -75.3002, 4638,   1146.3,   6.0770,  35.0850,  35.0830,2,    202.1,2,     203.5,2,    14.70,2,    21.58,2,     0.01,2,     1.43,2, -999.000,9, -999.000,9, -999.000,9, -999.000,9,   -999.0,9,  -999.00,9,   -999.0,9,   -999.0,9,-999.0000,9,  -999.0,9, -999.0, -999.00,9,  -999.0,  -999.0, -999.00,9
31RBOACES24N_2,  AR01,   107,  1,     15,2,19980220,0732, 26.4997, -75.3002, 4638,   1341.6,   4.9130,  35.0450,  35.0450,2,    242.0,2,     242.8,2,    12.70,2,    18.75,2,     0.01,2,     1.25,2, -999.000,9, -999.000,9, -999.000,9, -999.000,9,   -999.0,9,  -999.00,9,   -999.0,9,   -999.0,9,-999.0000,9,  -999.0,9, -999.0, -999.00,9,  -999.0,  -999.0, -999.00,9
31RBOACES24N_2,  AR01,   107,  1,     14,2,19980220,0732, 26.4997, -75.3002, 4638,   1548.2,   4.2870,  35.0000,  34.9990,2,    260.7,2,     260.2,6,    12.50,2,    17.97,2,     0.01,2,     1.20,2, -999.000,9, -999.000,9, -999.000,9, -999.000,9,   -999.0,9,  -999.00,9,   -999.0,9,   -999.0,9,-999.0000,9,  -999.0,9, -999.0, -999.00,9,  -999.0,  -999.0, -999.00,9
31RBOACES24N_2,  AR01,   107,  1,     13,9,19980220,0732, 26.4997, -75.3002, 4638,   1744.7,   3.9780,  34.9800,  34.9820,2,    266.1,2,    -999.0,9,  -999.00,9,  -999.00,9,  -999.00,9,  -999.00,9, -999.000,9, -999.000,9, -999.000,9, -999.000,9,   -999.0,9,  -999.00,9,   -999.0,9,   -999.0,9,-999.0000,9,  -999.0,9, -999.0, -999.00,9,  -999.0,  -999.0, -999.00,9
31RBOACES24N_2,  AR01,   107,  1,     12,2,19980220,0732, 26.4997, -75.3002, 4638,   1941.8,   3.7580,  34.9720,  34.9710,2,    268.1,2,     268.8,2,    13.90,2,    17.58,2,     0.01,2,     1.19,2, -999.000,9, -999.000,9, -999.000,9, -999.000,9,   -999.0,9,  -999.00,9,   -999.0,9,   -999.0,9,-999.0000,9,  -999.0,9, -999.0, -999.00,9,  -999.0,  -999.0, -999.00,9
31RBOACES24N_2,  AR01,   107,  1,     11,2,19980220,0732, 26.4997, -75.3002, 4638,   2147.4,   3.6000,  34.9750,  34.9740,2,    267.3,2,     267.8,2,    15.50,2,    17.77,2,     0.01,2,     1.20,2, -999.000,9, -999.000,9, -999.000,9, -999.000,9,   -999.0,9,  -999.00,9,   -999.0,9,   -999.0,9,-999.0000,9,  -999.0,9, -999.0, -999.00,9,  -999.0,  -999.0, -999.00,9
31RBOACES24N_2,  AR01,   107,  1,     10,2,19980220,0732, 26.4997, -75.3002, 4638,   2348.8,   3.3790,  34.9640,  34.9640,2,    268.4,2,     268.8,2,    17.00,2,    17.77,2,     0.01,2,     1.21,2, -999.000,9, -999.000,9, -999.000,9, -999.000,9,   -999.0,9,  -999.00,9,   -999.0,9,   -999.0,9,-999.0000,9,  -999.0,9, -999.0, -999.00,9,  -999.0,  -999.0, -999.00,9
31RBOACES24N_2,  AR01,   107,  1,      9,2,19980220,0732, 26.4997, -75.3002, 4638,   2547.3,   3.1770,  34.9550,  34.9550,2,    268.6,2,     269.2,2,    18.70,2,    17.77,2,     0.01,2,     1.22,2, -999.000,9, -999.000,9, -999.000,9, -999.000,9,   -999.0,9,  -999.00,9,   -999.0,9,   -999.0,9,-999.0000,9,  -999.0,9, -999.0, -999.00,9,  -999.0,  -999.0, -999.00,9
31RBOACES24N_2,  AR01,   107,  1,      8,2,19980220,0732, 26.4997, -75.3002, 4638,   2749.4,   2.9870,  34.9440,  34.9430,2,    269.9,2,     271.2,2,    19.50,2,    17.67,2,     0.01,2,     1.21,2, -999.000,9, -999.000,9, -999.000,9, -999.000,9,   -999.0,9,  -999.00,9,   -999.0,9,   -999.0,9,-999.0000,9,  -999.0,9, -999.0, -999.00,9,  -999.0,  -999.0, -999.00,9
31RBOACES24N_2,  AR01,   107,  1,      7,2,19980220,0732, 26.4997, -75.3002, 4638,   2932.1,   2.8070,  34.9320,  34.9320,2,    272.2,2,     273.3,2,    20.10,2,    17.48,2,     0.01,2,     1.20,2, -999.000,9, -999.000,9, -999.000,9, -999.000,9,   -999.0,9,  -999.00,9,   -999.0,9,   -999.0,9,-999.0000,9,  -999.0,9, -999.0, -999.00,9,  -999.0,  -999.0, -999.00,9
31RBOACES24N_2,  AR01,   107,  1,      6,2,19980220,0732, 26.4997, -75.3002, 4638,   3194.3,   2.6400,  34.9230,  34.9220,2,    274.9,2,     274.9,2,    21.10,2,    17.28,2,     0.01,2,     1.20,2, -999.000,9, -999.000,9, -999.000,9, -999.000,9,   -999.0,9,  -999.00,9,   -999.0,9,   -999.0,9,-999.0000,9,  -999.0,9, -999.0, -999.00,9,  -999.0,  -999.0, -999.00,9
31RBOACES24N_2,  AR01,   107,  1,      5,2,19980220,0732, 26.4997, -75.3002, 4638,   3539.8,   2.4250,  34.9100,  34.9080,2,    275.4,2,     275.1,2,    24.10,2,    17.48,2,     0.01,2,     1.22,2, -999.000,9, -999.000,9, -999.000,9, -999.000,9,   -999.0,9,  -999.00,9,   -999.0,9,   -999.0,9,-999.0000,9,  -999.0,9, -999.0, -999.00,9,  -999.0,  -999.0, -999.00,9
31RBOACES24N_2,  AR01,   107,  1,      4,2,19980220,0732, 26.4997, -75.3002, 4638,   3798.5,   2.3290,  34.9020,  34.9020,2,    274.5,2,     274.4,2,    26.30,2,    17.77,2,     0.01,2,     1.24,2, -999.000,9, -999.000,9, -999.000,9, -999.000,9,   -999.0,9,  -999.00,9,   -999.0,9,   -999.0,9,-999.0000,9,  -999.0,9, -999.0, -999.00,9,  -999.0,  -999.0, -999.00,9
31RBOACES24N_2,  AR01,   107,  1,      3,2,19980220,0732, 26.4997, -75.3002, 4638,   4131.3,   2.2650,  34.8940,  34.8940,2,    272.6,2,     271.8,2,    29.90,2,    18.16,2,     0.01,2,     1.27,2, -999.000,9, -999.000,9, -999.000,9, -999.000,9,   -999.0,9,  -999.00,9,   -999.0,9,   -999.0,9,-999.0000,9,  -999.0,9, -999.0, -999.00,9,  -999.0,  -999.0, -999.00,9
31RBOACES24N_2,  AR01,   107,  1,      2,2,19980220,0732, 26.4997, -75.3002, 4638,   4395.3,   2.2350,  34.8880,  34.8880,2,    269.2,2,     268.6,2,    34.00,2,    18.94,2,     0.01,2,     1.32,2, -999.000,9, -999.000,9, -999.000,9, -999.000,9,   -999.0,9,  -999.00,9,   -999.0,9,   -999.0,9,-999.0000,9,  -999.0,9, -999.0, -999.00,9,  -999.0,  -999.0, -999.00,9
31RBOACES24N_2,  AR01,   107,  1,      1,2,19980220,0732, 26.4997, -75.3002, 4638,   4705.3,   2.1750,  34.8750,  34.8750,2,    262.5,2,     262.8,6,    41.60,6,    20.12,6,     0.01,6,     1.42,6, -999.000,9, -999.000,9, -999.000,9, -999.000,9,   -999.0,9,  -999.00,9,   -999.0,9,   -999.0,9,-999.0000,5,  -999.0,9, -999.0, -999.00,9,  -999.0,  -999.0, -999.00,9