BOTTLE,20220820CCHSIOAMB
EXPOCODE,SECT_ID,STNNBR,CASTNO,BTLNBR,BTLNBR_FLAG_W,DATE,TIME,LATITUDE,LONGITUDE,DEPTH,CTDPRS,CTDTMP,CTDSAL,SALNTY,SALNTY_FLAG_W,CTDOXY,CTDOXY_FLAG_W,OXYGEN,OXYGEN_FLAG_W,SILCAT,SILCAT_FLAG_W,NITRAT,NITRAT_FLAG_W,NITRIT,NITRIT_FLAG_W,PHSPHT,PHSPHT_FLAG_W,CFC-11,CFC-11_FLAG_W,CFC-12,CFC-12_FLAG_W,CFC113,CFC113_FLAG_W,CCL4,CCL4_FLAG_W,DELC14,DELC14_FLAG_W,DELC13,DELC13_FLAG_W,TCARBN,TCARBN_FLAG_W,ALKALI,ALKALI_FLAG_W,PH,PH_FLAG_W,FCO2,FCO2_FLAG_W,FCO2TMP,TON,TON_FLAG_W,FCO2IN,C14ERR,TOC,TOC_FLAG_W
,,,,,,,,,,,DBAR,ITS-90,PSS-78,PSS-78,,UMOL/KG,,UMOL/KG,,UMOL/KG,,UMOL/KG,,UMOL/KG,,UMOL/KG,,PMOL/KG,,PMOL/KG,,PMOL/KG,,PMOL/KG,,/MILLE,,/MILLE,,UMOL/KG,,UMOL/KG,,,,UATM,,DEG C,UMOL/KG,,UATM,/MILLE,UMOL/KG,
31RBOACES24N_2,  AR01,    67,  1,     36,2,19980209,1324, 24.4992, -53.1832, 5527,      5.0,  24.3850,  37.0400,  37.0410,2,    212.5,2,     212.1,2,  -999.00,5,     0.00,2,     0.00,2,     0.01,2, -999.000,9, -999.000,9, -999.000,9, -999.000,9,   -999.0,9,  -999.00,9,   2050.1,6,   2426.3,2,   8.1114,2,   261.1,3,   20.0, -999.00,9,   310.5,  -999.0, -999.00,9
31RBOACES24N_2,  AR01,    67,  1,     35,2,19980209,1324, 24.4992, -53.1832, 5527,     40.8,  24.4620,  37.1860,  37.1870,2,    211.3,2,     212.1,2,  -999.00,5,     0.00,2,     0.00,2,     0.01,2, -999.000,9, -999.000,9, -999.000,9, -999.000,9,   -999.0,9,  -999.00,9,   -999.0,9,   -999.0,9,   8.1109,2,  -999.0,9, -999.0, -999.00,9,  -999.0,  -999.0, -999.00,9
31RBOACES24N_2,  AR01,    67,  1,     34,2,19980209,1324, 24.4992, -53.1832, 5527,     80.9,  24.4760,  37.2760,  37.2630,2,    210.8,2,     212.3,2,  -999.00,5,     0.00,2,     0.00,2,     0.01,2, -999.000,9, -999.000,9, -999.000,9, -999.000,9,   -999.0,9,  -999.00,9,   2063.8,2,   2440.2,2,   8.1055,2,   268.2,2,   20.0, -999.00,9,   320.0,  -999.0, -999.00,9
31RBOACES24N_2,  AR01,    67,  1,     33,2,19980209,1324, 24.4992, -53.1832, 5527,    142.4,  21.6070,  37.0500,  37.0470,2,    206.4,2,     207.4,2,  -999.00,5,     0.10,2,     0.04,2,     0.02,2, -999.000,9, -999.000,9, -999.000,9, -999.000,9,   -999.0,9,  -999.00,9,   -999.0,9,   -999.0,9,   8.0424,2,  -999.0,9, -999.0, -999.00,9,  -999.0,  -999.0, -999.00,9
31RBOACES24N_2,  AR01,    67,  1,     32,2,19980209,1324, 24.4992, -53.1832, 5527,    199.4,  19.5850,  36.7620,  36.7640,2,    196.3,2,     197.3,2,  -999.00,5,     0.98,2,     0.01,2,     0.05,2, -999.000,9, -999.000,9, -999.000,9, -999.000,9,   -999.0,9,  -999.00,9,   2105.9,2,   2405.6,2,   7.9989,2,  -999.0,9, -999.0, -999.00,9,  -999.0,  -999.0, -999.00,9
31RBOACES24N_2,  AR01,    67,  1,     31,2,19980209,1324, 24.4992, -53.1832, 5527,    224.5,  18.9840,  36.6790,  36.6820,2,    195.1,2,     195.4,2,  -999.00,5,     1.95,2,     0.00,2,     0.09,2, -999.000,9, -999.000,9, -999.000,9, -999.000,9,   -999.0,9,  -999.00,9,   -999.0,9,   -999.0,9,   7.9898,2,  -999.0,9, -999.0, -999.00,9,  -999.0,  -999.0, -999.00,9
31RBOACES24N_2,  AR01,    67,  1,     30,2,19980209,1324, 24.4992, -53.1832, 5527,    247.5,  18.5820,  36.6170,  36.6180,2,    196.0,2,     198.5,2,  -999.00,5,     2.73,2,     0.00,2,     0.14,2, -999.000,9, -999.000,9, -999.000,9, -999.000,9,   -999.0,9,  -999.00,9,   2105.2,2,   2393.9,2,   7.9853,2,   380.8,6,   20.0, -999.00,9,   359.6,  -999.0, -999.00,9
31RBOACES24N_2,  AR01,    67,  1,     29,2,19980209,1324, 24.4992, -53.1832, 5527,    273.3,  18.3160,  36.5820,  36.5780,2,    199.9,2,     198.1,2,  -999.00,5,     3.42,2,     0.00,2,     0.19,2, -999.000,9, -999.000,9, -999.000,9, -999.000,9,   -999.0,9,  -999.00,9,   -999.0,9,   -999.0,9,   7.9781,2,  -999.0,9, -999.0, -999.00,9,  -999.0,  -999.0, -999.00,9
31RBOACES24N_2,  AR01,    67,  1,     28,2,19980209,1324, 24.4992, -53.1832, 5527,    301.2,  18.0110,  36.5290,  36.5270,2,    200.5,2,     201.3,2,  -999.00,5,     3.71,2,     0.00,2,     0.21,2, -999.000,9, -999.000,9, -999.000,9, -999.000,9,   -999.0,9,  -999.00,9,   2105.5,2,   2388.8,2,   7.9761,2,  -999.0,9, -999.0, -999.00,9,  -999.0,  -999.0, -999.00,9
31RBOACES24N_2,  AR01,    67,  1,     27,2,19980209,1324, 24.4992, -53.1832, 5527,    349.5,  17.2830,  36.4100,  36.4130,2,    195.5,2,     192.5,2,  -999.00,5,     5.56,2,     0.00,2,     0.32,2, -999.000,9, -999.000,9, -999.000,9, -999.000,9,   -999.0,9,  -999.00,9,   -999.0,9,   -999.0,9,   7.9473,2,  -999.0,9, -999.0, -999.00,9,  -999.0,  -999.0, -999.00,9
31RBOACES24N_2,  AR01,    67,  1,     26,2,19980209,1324, 24.4992, -53.1832, 5527,    399.9,  16.4300,  36.2690,  36.2690,2,    190.9,2,     177.6,3,  -999.00,5,     7.32,2,     0.00,2,     0.44,2, -999.000,9, -999.000,9, -999.000,9, -999.000,9,   -999.0,9,  -999.00,9,   2124.8,2,   2376.8,2,   7.9208,2,   438.9,2,   20.0, -999.00,9,   379.6,  -999.0, -999.00,9
31RBOACES24N_2,  AR01,    67,  1,     25,2,19980209,1324, 24.4992, -53.1832, 5527,    450.0,  15.7880,  36.1650,  36.1640,2,    187.4,2,     183.2,2,  -999.00,5,     8.69,2,     0.00,2,     0.53,2, -999.000,9, -999.000,9, -999.000,9, -999.000,9,   -999.0,9,  -999.00,9,   -999.0,9,   -999.0,9,   7.8993,2,  -999.0,9, -999.0, -999.00,9,  -999.0,  -999.0, -999.00,9
31RBOACES24N_2,  AR01,    67,  1,     24,2,19980209,1324, 24.4992, -53.1832, 5527,    498.0,  14.6940,  35.9880,  35.9930,2,    182.7,2,     178.6,2,  -999.00,5,    10.84,2,     0.00,2,     0.67,2, -999.000,9, -999.000,9, -999.000,9, -999.000,9,   -999.0,9,  -999.00,9,   2140.2,2,   2358.8,2,   7.8684,2,  -999.0,9, -999.0, -999.00,9,  -999.0,  -999.0, -999.00,9
31RBOACES24N_2,  AR01,    67,  1,     23,2,19980209,1324, 24.4992, -53.1832, 5527,    550.3,  13.9790,  35.8770,  35.8650,2,    179.6,2,     176.1,2,  -999.00,5,    12.50,2,     0.00,2,     0.77,2, -999.000,9, -999.000,9, -999.000,9, -999.000,9,   -999.0,9,  -999.00,9,   -999.0,9,   -999.0,9,   7.8483,2,  -999.0,9, -999.0, -999.00,9,  -999.0,  -999.0, -999.00,9
31RBOACES24N_2,  AR01,    67,  1,     22,2,19980209,1324, 24.4992, -53.1832, 5527,    652.5,  11.9470,  35.5930,  35.6070,2,    168.8,2,     167.2,2,  -999.00,5,    16.51,2,     0.00,2,     1.04,2, -999.000,9, -999.000,9, -999.000,9, -999.000,9,   -999.0,9,  -999.00,9,   2160.5,2,   2344.5,2,   7.7858,2,   626.1,2,   20.0, -999.00,9,   449.1,  -999.0, -999.00,9
31RBOACES24N_2,  AR01,    67,  1,     21,2,19980209,1324, 24.4992, -53.1832, 5527,    751.5,  10.2870,  35.3720,  35.3790,2,    155.2,2,     152.3,2,  -999.00,5,    21.30,2,     0.00,2,     1.36,2, -999.000,9, -999.000,9, -999.000,9, -999.000,9,   -999.0,9,  -999.00,9,   -999.0,9,   -999.0,9,   7.7237,2,  -999.0,9, -999.0, -999.00,9,  -999.0,  -999.0, -999.00,9
31RBOACES24N_2,  AR01,    67,  1,     20,2,19980209,1324, 24.4992, -53.1832, 5527,    801.8,   9.6120,  35.2870,  35.2870,2,    151.9,2,     149.7,2,  -999.00,5,    22.86,2,     0.00,2,     1.48,2, -999.000,9, -999.000,9, -999.000,9, -999.000,9,   -999.0,9,  -999.00,9,   2187.5,2,   2330.8,2,   7.7030,2,   784.3,6,   20.0, -999.00,9,   510.0,  -999.0, -999.00,9
31RBOACES24N_2,  AR01,    67,  1,     19,2,19980209,1324, 24.4992, -53.1832, 5527,    849.9,   8.7600,  35.2020,  35.1960,2,    153.1,2,     150.8,2,    14.70,3,    24.23,2,     0.00,2,     1.58,2, -999.000,9, -999.000,9, -999.000,9, -999.000,9,   -999.0,9,  -999.00,9,   -999.0,9,   -999.0,9,   7.6829,2,  -999.0,9, -999.0, -999.00,9,  -999.0,  -999.0, -999.00,9
31RBOACES24N_2,  AR01,    67,  1,     18,2,19980209,1324, 24.4992, -53.1832, 5527,    951.4,   7.1700,  35.0550,  35.0550,2,    159.3,2,     160.2,2,    17.50,2,    25.50,2,     0.00,2,     1.71,2, -999.000,9, -999.000,9, -999.000,9, -999.000,9,   -999.0,9,  -999.00,9,   -999.0,9,   -999.0,9,   7.6586,2,  -999.0,9, -999.0, -999.00,9,  -999.0,  -999.0, -999.00,9
31RBOACES24N_2,  AR01,    67,  1,     17,2,19980209,1324, 24.4992, -53.1832, 5527,   1151.1,   5.8600,  35.0570,  35.0560,2,    197.4,2,     201.2,2,    16.00,2,    22.08,2,     0.00,2,     1.50,2, -999.000,9, -999.000,9, -999.000,9, -999.000,9,   -999.0,9,  -999.00,9,   2185.1,6,   2322.0,2,   7.6918,2,   815.8,2,   20.0, -999.00,9,   448.8,  -999.0, -999.00,9
31RBOACES24N_2,  AR01,    67,  1,     16,2,19980209,1324, 24.4992, -53.1832, 5527,   1350.4,   5.2390,  35.0800,  35.0790,2,    231.2,2,     228.2,2,    14.50,2,    19.74,2,     0.00,2,     1.34,2, -999.000,9, -999.000,9, -999.000,9, -999.000,9,   -999.0,9,  -999.00,9,   -999.0,9,   -999.0,9,   7.7174,2,  -999.0,9, -999.0, -999.00,9,  -999.0,  -999.0, -999.00,9
31RBOACES24N_2,  AR01,    67,  1,     15,2,19980209,1324, 24.4992, -53.1832, 5527,   1547.8,   4.6140,  35.0590,  35.0600,2,    247.1,2,     246.3,2,    14.60,2,    18.56,2,     0.00,2,     1.27,2, -999.000,9, -999.000,9, -999.000,9, -999.000,9,   -999.0,9,  -999.00,9,   2169.1,2,   2322.7,2,   7.7299,2,  -999.0,9, -999.0, -999.00,9,  -999.0,  -999.0, -999.00,9
31RBOACES24N_2,  AR01,    67,  1,     14,2,19980209,1324, 24.4992, -53.1832, 5527,   1749.0,   4.2150,  35.0620,  35.0620,2,    247.6,2,     248.1,2,    18.10,2,    18.86,2,     0.00,2,     1.28,2, -999.000,9, -999.000,9, -999.000,9, -999.000,9,   -999.0,9,  -999.00,9,   -999.0,9,   -999.0,9,   7.7360,2,  -999.0,9, -999.0, -999.00,9,  -999.0,  -999.0, -999.00,9
31RBOACES24N_2,  AR01,    67,  1,     13,2,19980209,1324, 24.4992, -53.1832, 5527,   1951.0,   3.7690,  35.0260,  35.0250,2,    252.7,2,     252.6,2,    20.80,2,    18.96,2,     0.00,2,     1.29,2, -999.000,9, -999.000,9, -999.000,9, -999.000,9,   -999.0,9,  -999.00,9,   2173.6,2,   2333.1,2,   7.7371,2,   725.5,6,   20.0, -999.00,9,   359.6,  -999.0, -999.00,9
31RBOACES24N_2,  AR01,    67,  1,     12,2,19980209,1324, 24.4992, -53.1832, 5527,   2198.4,   3.3310,  34.9860,  34.9850,2,    255.1,2,     255.5,2,    24.80,2,    19.05,2,     0.00,2,     1.32,2, -999.000,9, -999.000,9, -999.000,9, -999.000,9,   -999.0,9,  -999.00,9,   -999.0,9,   -999.0,9,   7.7360,2,  -999.0,9, -999.0, -999.00,9,  -999.0,  -999.0, -999.00,9
31RBOACES24N_2,  AR01,    67,  1,     11,2,19980209,1324, 24.4992, -53.1832, 5527,   2448.6,   3.0900,  34.9640,  34.9640,2,    255.8,2,     256.2,2,    27.90,2,    19.45,2,     0.00,2,     1.34,2, -999.000,9, -999.000,9, -999.000,9, -999.000,9,   -999.0,9,  -999.00,9,   2179.3,2,   -999.0,9,   7.7361,2,  -999.0,9, -999.0, -999.00,9,  -999.0,  -999.0, -999.00,9
31RBOACES24N_2,  AR01,    67,  1,     10,2,19980209,1324, 24.4992, -53.1832, 5527,   2699.5,   2.9450,  34.9500,  34.9500,2,    256.6,2,     256.4,2,    29.80,2,    19.54,2,     0.00,2,     1.36,2, -999.000,9, -999.000,9, -999.000,9, -999.000,9,   -999.0,9,  -999.00,9,   -999.0,9,   -999.0,9,   7.7356,2,  -999.0,9, -999.0, -999.00,9,  -999.0,  -999.0, -999.00,9
31RBOACES24N_2,  AR01,    67,  1,      9,2,19980209,1324, 24.4992, -53.1832, 5527,   2947.7,   2.7710,  34.9360,  34.9350,2,    259.0,2,     258.2,2,    32.20,2,    19.64,2,     0.00,2,     1.38,2, -999.000,9, -999.000,9, -999.000,9, -999.000,9,   -999.0,9,  -999.00,9,   2181.5,2,   2341.2,2,   7.7349,2,  -999.0,9, -999.0, -999.00,9,  -999.0,  -999.0, -999.00,9
31RBOACES24N_2,  AR01,    67,  1,      8,3,19980209,1324, 24.4992, -53.1832, 5527,   3197.5,   2.6290,  34.9230,  34.9230,2,    259.6,2,     258.7,2,    34.60,2,    19.84,2,     0.00,2,     1.39,2, -999.000,9, -999.000,9, -999.000,9, -999.000,9,   -999.0,9,  -999.00,9,   -999.0,9,   -999.0,9,   7.7337,2,  -999.0,9, -999.0, -999.00,9,  -999.0,  -999.0, -999.00,9
31RBOACES24N_2,  AR01,    67,  1,      7,2,19980209,1324, 24.4992, -53.1832, 5527,   3598.3,   2.4030,  34.9020,  34.9010,2,    261.3,2,     259.8,2,    39.00,2,    20.13,2,     0.00,2,     1.42,2, -999.000,9, -999.000,9, -999.000,9, -999.000,9,   -999.0,9,  -999.00,9,   -999.0,9,   -999.0,9,   7.7297,2,  -999.0,9, -999.0, -999.00,9,  -999.0,  -999.0, -999.00,9
31RBOACES24N_2,  AR01,    67,  1,      6,2,19980209,1324, 24.4992, -53.1832, 5527,   3999.4,   2.2510,  34.8870,  34.8860,2,    260.7,2,     251.9,4,    42.50,2,    20.42,2,     0.00,2,     1.45,2, -999.000,9, -999.000,9, -999.000,9, -999.000,9,   -999.0,9,  -999.00,9,   2191.9,2,   2341.6,2,   7.7273,2,   743.6,6,   20.0, -999.00,9,   340.9,  -999.0, -999.00,9
31RBOACES24N_2,  AR01,    67,  1,      5,2,19980209,1324, 24.4992, -53.1832, 5527,   4399.1,   2.1310,  34.8710,  34.8700,2,    259.7,2,     257.0,2,    46.90,2,    21.11,2,     0.00,2,     1.49,2, -999.000,9, -999.000,9, -999.000,9, -999.000,9,   -999.0,9,  -999.00,9,   -999.0,9,   -999.0,9,   7.7212,2,  -999.0,9, -999.0, -999.00,9,  -999.0,  -999.0, -999.00,9
31RBOACES24N_2,  AR01,    67,  1,      4,2,19980209,1324, 24.4992, -53.1832, 5527,   4797.1,   2.0740,  34.8600,  34.8590,2,    257.6,2,     257.1,2,    50.80,2,    21.50,2,     0.00,2,     1.53,2, -999.000,9, -999.000,9, -999.000,9, -999.000,9,   -999.0,9,  -999.00,9,   -999.0,9,   -999.0,9,   7.7157,2,  -999.0,9, -999.0, -999.00,9,  -999.0,  -999.0, -999.00,9
31RBOACES24N_2,  AR01,    67,  1,      3,2,19980209,1324, 24.4992, -53.1832, 5527,   5188.1,   2.0550,  34.8520,  34.8520,2,    256.3,2,     255.6,2,    53.60,2,    22.09,2,     0.00,2,     1.56,2, -999.000,9, -999.000,9, -999.000,9, -999.000,9,   -999.0,9,  -999.00,9,   -999.0,9,   -999.0,9,   7.7107,2,  -999.0,9, -999.0, -999.00,9,  -999.0,  -999.0, -999.00,9
31RBOACES24N_2,  AR01,    67,  1,      2,2,19980209,1324, 24.4992, -53.1832, 5527,   5604.4,   2.0840,  34.8490,-999.0000,9,    255.8,2,    -999.0,9,  -999.00,9,  -999.00,9,  -999.00,9,  -999.00,9, -999.000,1, -999.000,1, -999.000,1, -999.000,1,   -999.0,9,  -999.00,9,   -999.0,9,   -999.0,9,-999.0000,9,  -999.0,9, -999.0, -999.00,9,  -999.0,  -999.0, -999.00,9
31RBOACES24N_2,  AR01,    67,  1,      1,2,19980209,1324, 24.4992, -53.1832, 5527,   5605.2,   2.0830,  34.8500,  34.8510,2,    255.8,2,     255.2,6,    54.80,6,    22.28,6,     0.00,6,     1.58,6, -999.000,9, -999.000,9, -999.000,9, -999.000,9,   -999.0,9,  -999.00,9,   2204.0,2,   -999.0,9,   7.7106,2,   783.4,2,   20.0, -999.00,9,   356.0,  -999.0, -999.00,9