BOTTLE,20220820CCHSIOAMB
EXPOCODE,SECT_ID,STNNBR,CASTNO,BTLNBR,BTLNBR_FLAG_W,DATE,TIME,LATITUDE,LONGITUDE,DEPTH,CTDPRS,CTDTMP,CTDSAL,SALNTY,SALNTY_FLAG_W,CTDOXY,CTDOXY_FLAG_W,OXYGEN,OXYGEN_FLAG_W,SILCAT,SILCAT_FLAG_W,NITRAT,NITRAT_FLAG_W,NITRIT,NITRIT_FLAG_W,PHSPHT,PHSPHT_FLAG_W,CFC-11,CFC-11_FLAG_W,CFC-12,CFC-12_FLAG_W,CFC113,CFC113_FLAG_W,CCL4,CCL4_FLAG_W,DELC14,DELC14_FLAG_W,DELC13,DELC13_FLAG_W,TCARBN,TCARBN_FLAG_W,ALKALI,ALKALI_FLAG_W,PH,PH_FLAG_W,FCO2,FCO2_FLAG_W,FCO2TMP,TON,TON_FLAG_W,FCO2IN,C14ERR,TOC,TOC_FLAG_W
,,,,,,,,,,,DBAR,ITS-90,PSS-78,PSS-78,,UMOL/KG,,UMOL/KG,,UMOL/KG,,UMOL/KG,,UMOL/KG,,UMOL/KG,,PMOL/KG,,PMOL/KG,,PMOL/KG,,PMOL/KG,,/MILLE,,/MILLE,,UMOL/KG,,UMOL/KG,,,,UATM,,DEG C,UMOL/KG,,UATM,/MILLE,UMOL/KG,
31RBOACES24N_2,  AR01,    30,  1,     36,2,19980130,1317, 24.4993, -29.4328, 5524,      3.2,  22.4830,  37.4400,  37.4460,2,    216.6,2,     218.7,6,     0.30,2,     0.00,2,     0.00,2,  -999.00,5,    1.992,2,    1.164,2,    0.168,2, -999.000,9,   -999.0,9,     0.67,3,   2097.4,2,   2452.9,2,   8.0622,2,   316.5,2,   20.0,    3.62,2,   349.3,  -999.0,   68.04,2
31RBOACES24N_2,  AR01,    30,  1,     35,2,19980130,1317, 24.4993, -29.4328, 5524,     46.8,  22.3160,  37.4200,  37.4220,2,    216.5,2,     217.0,2,     0.30,2,     0.00,2,     0.00,2,  -999.00,5,    2.015,6,    1.167,6,    0.176,6, -999.000,9,   -999.0,9,  -999.00,9,   2098.8,6,   2449.2,2,   8.0604,2,   317.5,2,   20.0,    3.81,2,   348.2,  -999.0,   67.25,2
31RBOACES24N_2,  AR01,    30,  1,     34,2,19980130,1317, 24.4993, -29.4328, 5524,     98.7,  22.2670,  37.4030,  37.4040,2,    216.9,2,     218.2,2,     0.30,2,     0.00,2,     0.00,2,  -999.00,5,    2.010,2,    1.162,2,    0.167,2, -999.000,9,   -999.0,9,  -999.00,9,   2097.6,2,   2442.8,2,   8.0582,2,   319.5,2,   20.0,    3.76,2,   349.6,  -999.0,   67.64,2
31RBOACES24N_2,  AR01,    30,  1,     33,2,19980130,1317, 24.4993, -29.4328, 5524,    148.3,  20.2380,  37.0350,  37.0290,2,    207.7,2,     210.7,2,     0.30,2,     0.49,2,     0.02,2,  -999.00,5,    2.235,2,    1.277,2,    0.147,2, -999.000,9,   -999.0,9,  -999.00,9,   2108.9,2,   2425.0,2,   8.0135,2,   361.9,2,   20.0,    4.26,2,   365.2,  -999.0,   58.95,2
31RBOACES24N_2,  AR01,    30,  1,     32,2,19980130,1317, 24.4993, -29.4328, 5524,    202.5,  18.3130,  36.6520,  36.6530,2,    201.3,2,     202.8,2,     0.90,2,     3.22,2,     0.00,2,  -999.00,5,    2.336,2,    1.314,2,    0.058,2, -999.000,9,   -999.0,9,  -999.00,9,   2109.6,2,   2399.3,2,   7.9796,2,   393.1,2,   20.0,    6.51,2,   367.3,  -999.0,   53.87,2
31RBOACES24N_2,  AR01,    30,  1,     31,2,19980130,1317, 24.4993, -29.4328, 5524,    222.1,  17.9530,  36.5750,  36.5750,2,    201.1,2,     202.3,2,     1.00,2,     3.90,2,     0.00,2,  -999.00,5,    2.380,2,    1.318,2,    0.043,2, -999.000,9,   -999.0,9,  -999.00,9,   2108.8,2,   2396.8,2,   7.9737,2,   401.7,2,   20.0, -999.00,9,   369.8,  -999.0,   50.75,2
31RBOACES24N_2,  AR01,    30,  1,     30,2,19980130,1317, 24.4993, -29.4328, 5524,    248.3,  17.5860,  36.5100,  36.5140,2,    195.7,2,     198.6,2,     1.30,2,     4.78,2,     0.00,2,  -999.00,5,    2.353,2,    1.299,2,    0.027,2, -999.000,9,   -999.0,9,  -999.00,9,   2115.2,2,   2391.1,2,   7.9580,2,   418.4,6,   20.0,    8.28,2,   379.4,  -999.0,   54.55,2
31RBOACES24N_2,  AR01,    30,  1,     29,2,19980130,1317, 24.4993, -29.4328, 5524,    272.0,  17.2360,  36.4540,  36.4470,2,    200.7,2,     195.1,2,     1.40,2,     5.85,2,     0.00,2,  -999.00,5,    2.399,2,    1.308,2,    0.027,2, -999.000,9,   -999.0,9,  -999.00,9,   2120.4,2,   2386.6,2,   7.9420,2,  -999.0,9, -999.0, -999.00,9,  -999.0,  -999.0, -999.00,9
31RBOACES24N_2,  AR01,    30,  1,     28,2,19980130,1317, 24.4993, -29.4328, 5524,    299.0,  16.4330,  36.3180,  36.3180,2,    197.7,2,     192.8,2,     2.00,2,     7.32,2,     0.00,2,  -999.00,5,    2.370,6,    1.293,6,    0.031,6, -999.000,9,   -999.0,9,  -999.00,9,   2127.1,2,   2381.5,2,   7.9218,2,   453.9,2,   20.0, -999.00,9,   392.7,  -999.0,   48.02,2
31RBOACES24N_2,  AR01,    30,  1,     27,2,19980130,1317, 24.4993, -29.4328, 5524,    349.3,  15.3900,  36.1450,  36.1560,2,    187.4,2,     190.1,2,     2.60,2,     9.08,2,     0.00,2,  -999.00,5,    2.337,2,    1.255,2,    0.034,2, -999.000,9,   -999.0,9,  -999.00,9,   2131.6,2,   2372.3,2,   7.8946,2,   483.0,2,   20.0, -999.00,9,   400.3,  -999.0, -999.00,9
31RBOACES24N_2,  AR01,    30,  1,     26,2,19980130,1317, 24.4993, -29.4328, 5524,    400.7,  14.4410,  35.9960,  35.9900,2,    184.3,2,     186.3,2,     3.50,2,    11.22,2,     0.00,2,  -999.00,5,    2.274,2,    1.204,2,    0.026,2, -999.000,9,   -999.0,9,  -999.00,9,   2140.2,2,   2363.2,2,   7.8632,2,   519.3,2,   20.0, -999.00,9,   413.8,  -999.0,   46.26,2
31RBOACES24N_2,  AR01,    30,  1,     25,2,19980130,1317, 24.4993, -29.4328, 5524,    476.6,  13.3670,  35.8270,  35.8160,2,    196.6,2,     194.3,2,     4.20,2,    12.40,2,     0.00,2,  -999.00,5,    2.239,2,    1.181,2,    0.044,2, -999.000,9,   -999.0,9,  -999.00,9,   2141.3,2,   2355.7,2,   7.8479,2,  -999.0,9, -999.0, -999.00,9,  -999.0,  -999.0,   44.69,2
31RBOACES24N_2,  AR01,    30,  1,     24,2,19980130,1317, 24.4993, -29.4328, 5524,    551.5,  12.1840,  35.6660,  35.6590,2,    189.7,2,     184.8,2,     5.70,2,    15.23,2,     0.00,2,  -999.00,5,    1.898,2,    0.974,2,    0.023,2, -999.000,9,   -999.0,9,  -999.00,9,   2152.0,2,   2341.1,2,   7.8073,2,   605.1,2,   20.0, -999.00,9,   439.0,  -999.0, -999.00,9
31RBOACES24N_2,  AR01,    30,  1,     23,2,19980130,1317, 24.4993, -29.4328, 5524,    626.4,  11.2120,  35.5460,  35.5420,2,    175.5,2,     167.7,2,     7.80,2,    18.75,2,     0.00,2,  -999.00,5,    1.301,2,    0.673,2,    0.016,2, -999.000,9,   -999.0,9,  -999.00,9,   2168.6,2,   2340.5,2,   7.7602,2,  -999.0,9, -999.0,   21.05,2,  -999.0,  -999.0,   42.93,2
31RBOACES24N_2,  AR01,    30,  1,     22,2,19980130,1317, 24.4993, -29.4328, 5524,    700.4,   9.9150,  35.3990,  35.3990,2,    151.7,2,     143.6,2,    11.60,2,    23.53,2,     0.00,2,  -999.00,5,    0.523,2,    0.261,2,    0.003,2, -999.000,9,   -999.0,9,  -999.00,9,   2187.9,2,   2332.8,2,   7.6993,2,   791.2,2,   20.0, -999.00,9,   522.1,  -999.0, -999.00,9
31RBOACES24N_2,  AR01,    30,  1,     21,2,19980130,1317, 24.4993, -29.4328, 5524,    771.1,   9.3110,  35.3510,  35.3520,2,    145.2,2,     144.8,2,    13.00,2,    24.22,2,     0.00,2,  -999.00,5,    0.385,2,    0.184,2,   -0.003,2, -999.000,9,   -999.0,9,  -999.00,9,   2193.6,2,   2331.7,2,   7.6901,2,  -999.0,9, -999.0, -999.00,9,  -999.0,  -999.0,   41.56,2
31RBOACES24N_2,  AR01,    30,  1,     20,2,19980130,1317, 24.4993, -29.4328, 5524,    848.8,   8.3830,  35.2660,  35.2670,2,    144.9,2,     144.1,2,    15.30,2,    25.59,2,     0.00,2,  -999.00,5,    0.199,2,    0.097,2,    0.004,2, -999.000,9,   -999.0,9,  -999.00,9,   2200.5,2,   2335.1,2,   7.6690,2,   862.7,2,   20.0, -999.00,9,   533.2,  -999.0, -999.00,9
31RBOACES24N_2,  AR01,    30,  1,     19,2,19980130,1317, 24.4993, -29.4328, 5524,    922.6,   7.8600,  35.2340,  35.2370,2,    148.5,2,     151.3,2,    16.30,2,    25.78,2,     0.00,2,  -999.00,5,    0.143,6,    0.078,6,   -0.001,6, -999.000,9,   -999.0,9,  -999.00,9,   2198.8,2,   2326.7,2,   7.6705,2,  -999.0,9, -999.0, -999.00,9,  -999.0,  -999.0,   41.65,2
31RBOACES24N_2,  AR01,    30,  1,     18,2,19980130,1317, 24.4993, -29.4328, 5524,   1000.2,   7.0940,  35.1760,  35.1710,2,    157.5,2,     160.4,2,    17.80,2,    25.88,2,     0.00,2,  -999.00,5,    0.077,2,    0.039,2,   -0.001,2, -999.000,9,   -999.0,9,  -999.00,9,   2200.1,6,   2332.2,2,   7.6679,2,   872.6,6,   20.0, -999.00,9,   509.1,  -999.0, -999.00,9
31RBOACES24N_2,  AR01,    30,  1,     17,2,19980130,1317, 24.4993, -29.4328, 5524,   1201.9,   6.3670,  35.1950,  35.1960,2,    179.8,2,     182.2,2,    17.90,2,    23.83,2,     0.00,2,  -999.00,5,    0.051,2,    0.028,2,   -0.004,2, -999.000,9,   -999.0,9,  -999.00,9,   2194.8,2,   2331.7,2,   7.6887,2,   826.4,2,   20.0,   25.92,2,   465.3,  -999.0,   41.74,2
31RBOACES24N_2,  AR01,    30,  1,     16,2,19980130,1317, 24.4993, -29.4328, 5524,   1399.6,   5.7780,  35.2020,  35.2020,2,    199.9,2,     200.8,2,    18.10,2,    22.27,2,     0.00,2,  -999.00,5,    0.034,2,    0.020,2,   -0.004,2, -999.000,9,   -999.0,9,  -999.00,9,   2188.7,2,   2331.2,2,   7.7078,2,   783.4,2,   20.0, -999.00,9,   428.4,  -999.0, -999.00,9
31RBOACES24N_2,  AR01,    30,  1,     15,2,19980130,1317, 24.4993, -29.4328, 5524,   1600.0,   5.1200,  35.1520,  35.1530,2,    216.2,2,     215.8,2,    19.10,2,    21.58,2,     0.00,2,  -999.00,5,    0.012,2,    0.004,2,    0.000,2, -999.000,9,   -999.0,9,  -999.00,9,   2184.4,2,   2335.0,2,   7.7169,2,   764.6,2,   20.0, -999.00,9,   405.1,  -999.0,   41.64,2
31RBOACES24N_2,  AR01,    30,  1,     14,2,19980130,1317, 24.4993, -29.4328, 5524,   1799.6,   4.5520,  35.1130,  35.1130,2,    229.5,2,     226.0,2,    21.00,2,    21.19,2,     0.00,2,  -999.00,5,    0.009,2,    0.001,2,    0.001,2, -999.000,9,   -999.0,9,  -999.00,9,   2182.4,2,   2336.3,2,   7.7237,2,   752.9,2,   20.0, -999.00,9,   387.9,  -999.0, -999.00,9
31RBOACES24N_2,  AR01,    30,  1,     13,2,19980130,1317, 24.4993, -29.4328, 5524,   2001.3,   4.0920,  35.0700,  35.0690,2,    236.5,2,     235.7,2,    22.60,2,    20.71,3,     0.00,2,  -999.00,5,    0.002,2,    0.001,2,    0.003,2, -999.000,9,   -999.0,9,  -999.00,9,   2180.4,2,   -999.0,5,   7.7290,2,   741.5,2,   20.0, -999.00,9,   373.4,  -999.0,   41.45,2
31RBOACES24N_2,  AR01,    30,  1,     12,2,19980130,1317, 24.4993, -29.4328, 5524,   2251.4,   3.6000,  35.0240,  35.0240,2,    244.6,2,     244.6,2,    25.10,2,    20.71,2,     0.00,2,  -999.00,5,    0.000,2,    0.003,2,    0.000,2, -999.000,9,   -999.0,9,  -999.00,9,   2179.4,2,   -999.0,9,   7.7321,2,   738.8,2,   20.0, -999.00,9,   363.2,  -999.0, -999.00,9
31RBOACES24N_2,  AR01,    30,  1,     11,2,19980130,1317, 24.4993, -29.4328, 5524,   2500.8,   3.2280,  34.9880,  34.9880,2,    248.9,2,     247.6,2,    28.50,2,    20.51,2,     0.00,2,  -999.00,5,   -0.001,2,   -0.004,2,   -0.004,2, -999.000,9,   -999.0,9,  -999.00,9,   2181.8,2,   2341.4,2,   7.7335,2,   739.5,2,   20.0,   22.79,2,   356.8,  -999.0,   41.54,2
31RBOACES24N_2,  AR01,    30,  1,     10,2,19980130,1317, 24.4993, -29.4328, 5524,   2749.4,   2.9470,  34.9610,  34.9610,2,    250.2,2,     251.0,2,    31.60,2,    20.71,2,     0.00,2,  -999.00,5,   -0.001,2,    0.003,2,    0.000,2, -999.000,9,   -999.0,9,  -999.00,9,   2185.6,2,   -999.0,9,   7.7336,2,   741.2,2,   20.0, -999.00,9,   352.5,  -999.0, -999.00,9
31RBOACES24N_2,  AR01,    30,  1,      9,2,19980130,1317, 24.4993, -29.4328, 5524,   3000.1,   2.7240,  34.9390,  34.9390,2,    250.4,2,     249.2,2,    35.30,2,    21.00,2,     0.00,2,  -999.00,5,   -0.002,2,   -0.003,2,   -0.003,2, -999.000,9,   -999.0,9,  -999.00,9,   2189.8,2,   2346.9,2,   7.7315,2,   749.0,2,   20.0, -999.00,9,   352.2,  -999.0,   41.54,2
31RBOACES24N_2,  AR01,    30,  1,      8,2,19980130,1317, 24.4993, -29.4328, 5524,   3283.5,   2.5980,  34.9260,  34.9250,2,    249.9,2,     248.6,2,    38.10,2,    21.20,2,     0.00,2,  -999.00,5,   -0.001,2,   -0.001,2,   -0.005,2, -999.000,9,   -999.0,9,  -999.00,9,   2192.8,2,   -999.0,9,   7.7311,2,   744.1,2,   20.0, -999.00,9,   347.3,  -999.0, -999.00,9
31RBOACES24N_2,  AR01,    30,  1,      7,2,19980130,1317, 24.4993, -29.4328, 5524,   3700.5,   2.4700,  34.9100,  34.9100,2,    248.7,2,     248.6,2,    41.60,2,    21.49,2,     0.00,2,  -999.00,5,    0.000,2,   -0.001,2,   -0.005,2, -999.000,9,   -999.0,9,  -999.00,9,   2195.9,2,   -999.0,9,   7.7287,2,   746.7,2,   20.0,   23.62,2,   346.1,  -999.0,   41.74,2
31RBOACES24N_2,  AR01,    30,  1,      6,2,19980130,1317, 24.4993, -29.4328, 5524,   4000.8,   2.4140,  34.9010,  34.9000,2,    248.1,2,     248.3,2,    43.90,2,    22.17,3,     0.00,2,  -999.00,5,    0.000,2,   -0.003,2,   -0.004,2, -999.000,9,   -999.0,9,  -999.00,9,   2196.9,2,   -999.0,9,   7.7289,2,   757.8,2,   20.0, -999.00,9,   350.3,  -999.0, -999.00,9
31RBOACES24N_2,  AR01,    30,  1,      5,2,19980130,1317, 24.4993, -29.4328, 5524,   4299.8,   2.3850,  34.8940,  34.8940,2,    247.6,2,     248.5,2,    45.40,2,    22.57,3,     0.00,2,  -999.00,5,   -0.001,2,   -0.004,2,   -0.003,2, -999.000,9,   -999.0,9,  -999.00,9,   2198.4,2,   2356.7,2,   7.7278,2,   750.6,2,   20.0, -999.00,9,   346.2,  -999.0,   41.35,2
31RBOACES24N_2,  AR01,    30,  1,      4,3,19980130,1317, 24.4993, -29.4328, 5524,   4699.7,   2.3830,  34.8890,  34.8880,2,    248.3,2,     248.9,2,    46.70,2,    22.66,3,     0.00,2,  -999.00,5,   -0.001,2,    0.002,2,    0.000,2, -999.000,9,   -999.0,9,  -999.00,9,   2199.4,2,   -999.0,9,   7.7280,2,   752.8,2,   20.0, -999.00,9,   347.1,  -999.0,   41.54,2
31RBOACES24N_2,  AR01,    30,  1,      3,2,19980130,1317, 24.4993, -29.4328, 5524,   4999.5,   2.4000,  34.8860,  34.8860,2,    249.1,2,     248.9,2,    47.40,2,    22.66,3,     0.00,2,  -999.00,5,   -0.002,2,   -0.004,2,   -0.003,2, -999.000,9,   -999.0,9,  -999.00,9,   2200.2,2,   -999.0,9,   7.7257,2,   754.0,2,   20.0, -999.00,9,   347.9,  -999.0,   41.74,2
31RBOACES24N_2,  AR01,    30,  1,      2,2,19980130,1317, 24.4993, -29.4328, 5524,   5297.6,   2.4330,  34.8860,  34.8850,2,    249.7,2,     249.9,2,    47.50,2,    22.18,2,     0.00,2,  -999.00,5,   -0.002,2,    0.001,2,    0.000,2, -999.000,9,   -999.0,9,  -999.00,9,   2199.2,2,   -999.0,9,   7.7265,2,   755.8,2,   20.0, -999.00,9,   349.4,  -999.0,   41.64,2
31RBOACES24N_2,  AR01,    30,  1,      1,2,19980130,1317, 24.4993, -29.4328, 5524,   5645.1,   2.4710,  34.8840,  34.8860,2,    250.6,2,     249.7,2,    48.20,6,    22.66,3,     0.00,6,  -999.00,5,    0.000,6,   -0.003,6,   -0.003,6, -999.000,9,   -999.0,9,  -999.00,9,   2199.0,2,   2355.3,2,   7.7245,2,   758.5,3,   20.0,   24.36,2,   351.2,  -999.0,   41.93,2