BOTTLE,20220820CCHSIOAMB
EXPOCODE,SECT_ID,STNNBR,CASTNO,BTLNBR,BTLNBR_FLAG_W,DATE,TIME,LATITUDE,LONGITUDE,DEPTH,CTDPRS,CTDTMP,CTDSAL,SALNTY,SALNTY_FLAG_W,CTDOXY,CTDOXY_FLAG_W,OXYGEN,OXYGEN_FLAG_W,SILCAT,SILCAT_FLAG_W,NITRAT,NITRAT_FLAG_W,NITRIT,NITRIT_FLAG_W,PHSPHT,PHSPHT_FLAG_W,CFC-11,CFC-11_FLAG_W,CFC-12,CFC-12_FLAG_W,CFC113,CFC113_FLAG_W,CCL4,CCL4_FLAG_W,DELC14,DELC14_FLAG_W,DELC13,DELC13_FLAG_W,TCARBN,TCARBN_FLAG_W,ALKALI,ALKALI_FLAG_W,PH,PH_FLAG_W,FCO2,FCO2_FLAG_W,FCO2TMP,TON,TON_FLAG_W,FCO2IN,C14ERR,TOC,TOC_FLAG_W
,,,,,,,,,,,DBAR,ITS-90,PSS-78,PSS-78,,UMOL/KG,,UMOL/KG,,UMOL/KG,,UMOL/KG,,UMOL/KG,,UMOL/KG,,PMOL/KG,,PMOL/KG,,PMOL/KG,,PMOL/KG,,/MILLE,,/MILLE,,UMOL/KG,,UMOL/KG,,,,UATM,,DEG C,UMOL/KG,,UATM,/MILLE,UMOL/KG,
31RBOACES24N_2,  AR01,    34,  1,     36,2,19980131,1921, 24.5003, -32.7325, 6233,      4.9,  23.2790,  37.5440,  37.5450,2,    221.3,2,     243.8,2,     1.00,2,     0.00,2,     0.00,2,  -999.00,5,    1.932,2,    1.118,2,    0.156,2, -999.000,9,    100.0,2,  -999.00,9,   2096.8,2,   2451.6,2,-999.0000,9,   302.9,2,   20.0, -999.00,9,   345.0,     2.9,   71.17,2
31RBOACES24N_2,  AR01,    34,  1,     35,2,19980131,1921, 24.5003, -32.7325, 6233,     56.5,  23.2140,  37.5650,  37.5660,2,    219.7,2,     214.8,2,     0.90,2,     0.00,2,     0.00,2,  -999.00,5,    1.927,2,    1.119,2,    0.177,2, -999.000,9,     85.1,2,  -999.00,9,   2099.1,2,   -999.0,5,   8.0747,2,  -999.0,9, -999.0, -999.00,9,  -999.0,     3.9,   71.26,2
31RBOACES24N_2,  AR01,    34,  1,     34,2,19980131,1921, 24.5003, -32.7325, 6233,    105.5,  23.0410,  37.5590,  37.5470,2,    220.3,2,     215.4,2,     0.70,2,     0.00,2,     0.00,2,  -999.00,5,    1.961,6,    1.137,6,    0.169,6, -999.000,9,     97.8,2,  -999.00,9,   2101.2,2,   2450.7,2,   8.0567,2,   314.5,2,   20.0, -999.00,9,   354.8,     3.5,   70.38,2
31RBOACES24N_2,  AR01,    34,  1,     33,2,19980131,1921, 24.5003, -32.7325, 6233,    156.0,  20.0490,  36.9840,  36.9770,2,    214.9,2,     215.3,2,     0.60,2,     0.68,2,     0.03,2,  -999.00,5,    2.261,2,    1.288,2,    0.151,2, -999.000,9,     97.6,2,  -999.00,9,   2110.4,2,   2414.1,2,   7.9989,2,   371.6,2,   20.0, -999.00,9,   372.2,     3.2,   58.66,2
31RBOACES24N_2,  AR01,    34,  1,     32,2,19980131,1921, 24.5003, -32.7325, 6233,    206.2,  18.5430,  36.7090,  36.6980,2,    203.7,2,     209.7,2,     1.00,2,     3.12,2,     0.01,2,  -999.00,5,    2.350,2,    1.319,2,    0.086,2, -999.000,9,     98.5,2,  -999.00,9,   2113.4,2,   2394.8,2,   7.9743,2,   399.1,2,   20.0, -999.00,9,   376.4,     4.7,   53.88,2
31RBOACES24N_2,  AR01,    34,  1,     31,2,19980131,1921, 24.5003, -32.7325, 6233,    228.6,  17.7530,  36.5380,  36.5400,2,    202.6,2,     200.9,2,     1.20,2,     4.59,2,     0.00,2,  -999.00,5, -999.000,9, -999.000,9, -999.000,9, -999.000,9,     97.1,2,  -999.00,9,   2113.7,2,   2385.8,2,   7.9613,2,   414.3,2,   20.0, -999.00,9,   379.1,     3.3,   51.34,2
31RBOACES24N_2,  AR01,    34,  1,     30,2,19980131,1921, 24.5003, -32.7325, 6233,    256.2,  16.9770,  36.3850,  36.3720,2,    204.7,2,     199.4,2,     1.60,2,     5.56,2,     0.00,2,  -999.00,5,    2.376,2,    1.312,2,    0.039,2, -999.000,9,     81.9,2,  -999.00,9,   2113.0,2,   2375.9,2,   7.9473,2,   424.4,2,   20.0, -999.00,9,   375.4,     3.3,   54.36,2
31RBOACES24N_2,  AR01,    34,  1,     29,2,19980131,1921, 24.5003, -32.7325, 6233,    280.4,  16.6140,  36.3240,  36.3190,2,    204.3,2,     201.5,2,     1.70,2,     6.44,2,     0.00,2,  -999.00,5, -999.000,9, -999.000,9, -999.000,9, -999.000,9,     85.4,2,  -999.00,9,   2117.2,2,   2374.2,2,   7.9290,2,   439.2,2,   20.0, -999.00,9,   382.7,     3.8,   49.87,2
31RBOACES24N_2,  AR01,    34,  1,     28,2,19980131,1921, 24.5003, -32.7325, 6233,    316.1,  16.1030,  36.2380,  36.2340,2,    204.2,2,     199.9,2,     1.90,2,     7.32,2,     0.00,2,  -999.00,5,    2.347,2,    1.275,2,    0.034,2, -999.000,9,     85.5,2,  -999.00,9,   2118.5,2,   2370.7,2,   7.9273,2,   449.5,2,   20.0, -999.00,9,   383.5,     3.6, -999.00,9
31RBOACES24N_2,  AR01,    34,  1,     27,2,19980131,1921, 24.5003, -32.7325, 6233,    366.6,  15.2870,  36.1080,  36.1050,2,    201.8,2,     199.2,2,  -999.00,5,     8.69,2,     0.00,2,  -999.00,5,    2.346,2,    1.264,2,    0.037,2, -999.000,9,     80.9,2,  -999.00,9,   2124.2,2,   2362.3,2,   7.9008,2,   476.0,2,   20.0, -999.00,9,   392.8,     3.3,   46.94,2
31RBOACES24N_2,  AR01,    34,  1,     26,2,19980131,1921, 24.5003, -32.7325, 6233,    415.4,  14.3090,  35.9560,  35.9610,2,    202.2,2,     197.1,2,  -999.00,5,    10.35,2,     0.00,2,  -999.00,5,    2.303,2,    1.217,2,    0.029,2, -999.000,9,     77.1,2,  -999.00,9,   2130.6,2,   2355.0,2,   7.8792,2,   507.7,2,   20.0, -999.00,9,   402.0,     3.6, -999.00,9
31RBOACES24N_2,  AR01,    34,  1,     25,2,19980131,1921, 24.5003, -32.7325, 6233,    465.9,  13.4030,  35.8250,  35.8250,2,    197.2,2,     195.6,2,     4.30,2,    12.49,2,     0.00,2,  -999.00,5,    2.136,2,    1.112,2,    0.032,2, -999.000,9,     51.0,2,  -999.00,9,   2140.7,2,   2348.1,2,   7.8428,2,   554.1,2,   20.0, -999.00,9,   422.5,     3.2,   45.38,2
31RBOACES24N_2,  AR01,    34,  1,     24,2,19980131,1921, 24.5003, -32.7325, 6233,    513.6,  12.3290,  35.6830,  35.6850,2,    191.8,2,     189.2,2,     5.50,2,    15.13,2,     0.00,2,  -999.00,5,    1.823,2,    0.933,2,    0.018,2, -999.000,9,   -999.0,9,  -999.00,9,   2152.5,2,   2339.2,2,   7.8057,2,   602.2,2,   20.0, -999.00,9,   439.0,  -999.0, -999.00,9
31RBOACES24N_2,  AR01,    34,  1,     23,2,19980131,1921, 24.5003, -32.7325, 6233,    600.7,  11.3620,  35.5630,  35.5660,2,    183.1,2,     180.4,2,     7.20,2,    17.57,2,     0.00,2,  -999.00,5,    1.421,2,    0.712,2,    0.023,2, -999.000,9,     19.3,2,  -999.00,9,   2162.7,2,   2334.4,2,   7.7719,2,   658.2,2,   20.0, -999.00,9,   460.8,     2.7,   44.59,2
31RBOACES24N_2,  AR01,    34,  1,     22,2,19980131,1921, 24.5003, -32.7325, 6233,    701.1,  10.1790,  35.4440,  35.4440,2,    170.4,2,     173.1,2,    10.20,2,    21.09,2,     0.00,2,  -999.00,5,    0.751,2,    0.355,2,    0.005,2, -999.000,9,    -25.5,6,  -999.00,9,   2179.1,2,   2330.9,2,   7.7263,2,   736.6,2,   20.0, -999.00,9,   490.6,    13.2, -999.00,9
31RBOACES24N_2,  AR01,    34,  1,     21,2,19980131,1921, 24.5003, -32.7325, 6233,    801.1,   9.2020,  35.3520,  35.3490,2,    155.7,2,     157.8,2,    13.20,2,    23.44,2,     0.00,2,  -999.00,5,    0.367,6,    0.171,6,    0.004,6, -999.000,9,    -71.0,2,  -999.00,9,   2189.3,2,   2330.7,2,   7.6945,2,   802.4,2,   20.0, -999.00,9,   513.0,     2.7,   43.31,2
31RBOACES24N_2,  AR01,    34,  1,     20,2,19980131,1921, 24.5003, -32.7325, 6233,    900.3,   7.9300,  35.2270,  35.2320,2,    154.2,2,     152.1,2,    15.90,2,    24.90,2,     0.00,2,  -999.00,5,    0.147,2,    0.066,2,    0.006,2, -999.000,9,    -67.8,2,  -999.00,9,   2195.7,2,   2327.8,2,   7.6724,2,   840.9,2,   20.0, -999.00,9,   508.7,     2.4, -999.00,9
31RBOACES24N_2,  AR01,    34,  1,     19,2,19980131,1921, 24.5003, -32.7325, 6233,   1001.0,   7.1110,  35.1580,  35.1550,2,    162.8,2,     162.0,2,    17.80,2,    25.39,2,     0.00,2,  -999.00,5,    0.073,2,    0.035,2,   -0.002,2, -999.000,9,    -80.7,2,  -999.00,9,   2201.9,2,   2326.9,2,   7.6703,2,   862.3,2,   20.0, -999.00,9,   503.2,     2.6,   42.53,2
31RBOACES24N_2,  AR01,    34,  1,     18,2,19980131,1921, 24.5003, -32.7325, 6233,   1201.2,   6.1370,  35.1640,  35.1630,2,    188.6,2,     188.5,2,    17.70,2,    23.34,2,     0.00,2,  -999.00,5,    0.044,2,    0.019,2,    0.008,2, -999.000,9,   -116.7,3,  -999.00,9,   2194.4,2,   2327.8,2,   7.6927,2,   814.5,2,   20.0, -999.00,9,   453.4,     2.1, -999.00,9
31RBOACES24N_2,  AR01,    34,  1,     17,2,19980131,1921, 24.5003, -32.7325, 6233,   1400.1,   5.5700,  35.1600,  35.1590,2,    206.0,2,     205.1,2,    17.70,2,    22.07,2,     0.00,2,  -999.00,5,    0.022,2,    0.013,2,   -0.006,2, -999.000,9,    -93.8,2,  -999.00,9,   2189.1,2,   2328.1,2,   7.7073,2,   779.9,2,   20.0, -999.00,9,   422.1,     2.9,   41.94,2
31RBOACES24N_2,  AR01,    34,  1,     16,2,19980131,1921, 24.5003, -32.7325, 6233,   1601.1,   4.9530,  35.1270,  35.1260,2,    220.6,2,     219.8,2,    18.80,2,    21.19,2,     0.00,2,  -999.00,5,    0.007,2,    0.003,2,   -0.003,2, -999.000,9,   -100.3,2,  -999.00,9,   2183.7,2,   2328.0,2,   7.7190,2,   761.8,2,   20.0, -999.00,9,   400.0,     2.1, -999.00,9
31RBOACES24N_2,  AR01,    34,  1,     15,2,19980131,1921, 24.5003, -32.7325, 6233,   1801.2,   4.3930,  35.0880,  35.0880,2,    231.3,2,     229.6,2,    20.70,2,    20.71,2,     0.00,2,  -999.00,5,    0.000,2,   -0.001,2,    0.001,2, -999.000,9,    -92.8,2,  -999.00,9,   2181.7,2,   2328.7,2,-999.0000,5,   755.9,2,   20.0, -999.00,9,   386.4,     3.0,   42.22,2
31RBOACES24N_2,  AR01,    34,  1,     14,2,19980131,1921, 24.5003, -32.7325, 6233,   2001.7,   4.0210,  35.0600,  35.0600,2,    236.8,2,     236.1,2,    22.60,2,    20.61,2,     0.00,2,  -999.00,5,    0.000,2,    0.000,2,   -0.003,2, -999.000,9,   -112.1,2,  -999.00,9,   2180.9,2,   2329.5,2,   7.7287,2,   746.4,6,   20.0, -999.00,9,   374.5,     3.6, -999.00,9
31RBOACES24N_2,  AR01,    34,  1,     13,2,19980131,1921, 24.5003, -32.7325, 6233,   2198.3,   3.5930,  35.0230,  35.0220,2,    244.5,2,     243.9,6,    24.80,2,    20.32,2,     0.00,2,  -999.00,5,   -0.001,2,    0.001,2,   -0.006,2, -999.000,9,   -114.9,2,  -999.00,9,   2180.8,2,   2331.1,2,   7.7318,2,  -999.0,9, -999.0, -999.00,9,  -999.0,     2.5,   41.54,2
31RBOACES24N_2,  AR01,    34,  1,     12,2,19980131,1921, 24.5003, -32.7325, 6233,   2401.3,   3.3460,  34.9980,  34.9980,2,    248.1,2,     246.0,2,    27.00,2,    20.32,2,     0.00,2,  -999.00,5, -999.000,9, -999.000,9, -999.000,9, -999.000,9,   -101.0,2,  -999.00,9,   -999.0,9,   -999.0,9,   7.7308,2,   741.1,6,   20.0, -999.00,9,   359.6,     3.8, -999.00,9
31RBOACES24N_2,  AR01,    34,  1,     11,2,19980131,1921, 24.5003, -32.7325, 6233,   2601.1,   3.0720,  34.9730,  34.9720,2,    248.4,2,     247.6,2,    30.60,2,    20.41,2,     0.00,2,  -999.00,5, -999.000,9, -999.000,9, -999.000,9, -999.000,9,   -100.8,2,  -999.00,9,   2185.8,2,   2336.1,2,   7.7316,2,  -999.0,9, -999.0, -999.00,9,  -999.0,     3.9,   41.74,2
31RBOACES24N_2,  AR01,    34,  1,     10,2,19980131,1921, 24.5003, -32.7325, 6233,   2799.1,   2.8860,  34.9540,  34.9550,2,    249.7,2,     247.9,2,    33.20,2,    20.90,2,     0.00,2,  -999.00,5,   -0.002,2,   -0.001,2,   -0.007,2, -999.000,9,   -116.1,2,  -999.00,9,   2189.7,2,   -999.0,9,   7.7309,2,   750.0,2,   20.0, -999.00,9,   355.4,     3.0, -999.00,9
31RBOACES24N_2,  AR01,    34,  1,      9,2,19980131,1921, 24.5003, -32.7325, 6233,   3000.3,   2.7400,  34.9400,  34.9400,2,    249.3,2,     248.3,2,    35.80,2,    21.10,2,     0.00,2,  -999.00,5, -999.000,9, -999.000,9, -999.000,9, -999.000,9,   -125.3,2,  -999.00,9,   2191.4,2,   2341.9,2,   7.7299,2,   752.7,2,   20.0, -999.00,9,   354.0,     2.5,   41.93,2
31RBOACES24N_2,  AR01,    34,  1,      8,2,19980131,1921, 24.5003, -32.7325, 6233,   3384.8,   2.5540,  34.9200,  34.9200,2,    247.9,2,     247.2,2,    39.70,2,    21.39,2,     0.00,2,  -999.00,5,   -0.002,2,    0.002,2,   -0.001,2, -999.000,9,   -105.8,2,  -999.00,9,   2195.3,2,   -999.0,9,   7.7313,2,   750.0,2,   20.0, -999.00,9,   349.2,     2.3, -999.00,9
31RBOACES24N_2,  AR01,    34,  1,      7,2,19980131,1921, 24.5003, -32.7325, 6233,   3800.8,   2.4380,  34.9050,  34.9040,2,    248.0,2,     248.2,2,    42.60,2,    21.69,2,     0.00,2,  -999.00,5, -999.000,9, -999.000,9, -999.000,9, -999.000,9,   -122.9,2,  -999.00,9,   2195.7,2,   2347.7,2,   7.7283,2,   750.7,2,   20.0, -999.00,9,   347.3,     2.5,   41.25,2
31RBOACES24N_2,  AR01,    34,  1,      6,2,19980131,1921, 24.5003, -32.7325, 6233,   4201.5,   2.3980,  34.8960,  34.8970,2,    248.2,2,     248.7,2,    44.40,2,    21.88,2,     0.00,2,  -999.00,5,   -0.001,2,    0.000,2,   -0.003,2, -999.000,9,   -118.8,2,  -999.00,9,   2197.2,2,   -999.0,9,   7.7226,2,   756.9,2,   20.0, -999.00,9,   349.5,     2.6, -999.00,9
31RBOACES24N_2,  AR01,    34,  1,      5,2,19980131,1921, 24.5003, -32.7325, 6233,   4589.4,   2.3900,  34.8910,  34.8900,2,    248.5,2,     249.0,2,    45.80,2,    21.98,2,     0.00,2,  -999.00,5, -999.000,9, -999.000,9, -999.000,9, -999.000,9,   -128.4,2,  -999.00,9,   2198.7,2,   2351.3,2,   7.7228,2,   757.1,2,   20.0, -999.00,9,   349.3,     2.0,   41.25,2
31RBOACES24N_2,  AR01,    34,  1,      4,2,19980131,1921, 24.5003, -32.7325, 6233,   5001.2,   2.4000,  34.8870,  34.8860,2,    249.9,2,     249.2,2,    46.70,2,    21.98,2,     0.00,2,  -999.00,5,   -0.001,2,    0.000,2,   -0.001,2, -999.000,9,   -132.6,2,  -999.00,9,   2199.1,2,   -999.0,9,   7.7250,2,   760.2,2,   20.0, -999.00,9,   350.9,     2.6,   41.93,2
31RBOACES24N_2,  AR01,    34,  1,      3,2,19980131,1921, 24.5003, -32.7325, 6233,   5394.5,   2.4230,  34.8840,  34.8830,2,    253.0,2,     250.3,2,    47.40,2,    22.17,2,     0.00,2,  -999.00,5, -999.000,9, -999.000,9, -999.000,9, -999.000,9,   -117.4,2,  -999.00,9,   2198.5,2,   -999.0,5,   7.7213,2,   763.7,2,   20.0, -999.00,9,   352.9,     2.7,   41.15,2
31RBOACES24N_2,  AR01,    34,  1,      2,2,19980131,1921, 24.5003, -32.7325, 6233,   5799.8,   2.4640,  34.8810,  34.8800,2,    253.6,2,     251.1,2,    48.00,2,    22.17,2,     0.00,2,  -999.00,5,    0.000,2,    0.000,2,    0.003,2, -999.000,9,   -123.9,2,  -999.00,9,   2197.8,2,   -999.0,9,   7.7233,2,   764.2,2,   20.0, -999.00,9,   353.9,     2.9,   41.44,2
31RBOACES24N_2,  AR01,    34,  1,      1,2,19980131,1921, 24.5003, -32.7325, 6233,   6276.0,   2.5260,  34.8800,  34.8820,2,    256.0,2,     252.0,2,    48.30,6,    22.17,6,     0.00,6,  -999.00,5,    0.001,2,    0.002,2,   -0.003,2, -999.000,9,   -113.9,2,  -999.00,9,   2197.7,2,   2355.5,3,   7.7205,2,   766.8,2,   20.0, -999.00,9,   356.2,     2.9,   41.93,2