BOTTLE,20220820CCHSIOAMB
EXPOCODE,SECT_ID,STNNBR,CASTNO,BTLNBR,BTLNBR_FLAG_W,DATE,TIME,LATITUDE,LONGITUDE,DEPTH,CTDPRS,CTDTMP,CTDSAL,SALNTY,SALNTY_FLAG_W,CTDOXY,CTDOXY_FLAG_W,OXYGEN,OXYGEN_FLAG_W,SILCAT,SILCAT_FLAG_W,NITRAT,NITRAT_FLAG_W,NITRIT,NITRIT_FLAG_W,PHSPHT,PHSPHT_FLAG_W,CFC-11,CFC-11_FLAG_W,CFC-12,CFC-12_FLAG_W,CFC113,CFC113_FLAG_W,CCL4,CCL4_FLAG_W,DELC14,DELC14_FLAG_W,DELC13,DELC13_FLAG_W,TCARBN,TCARBN_FLAG_W,ALKALI,ALKALI_FLAG_W,PH,PH_FLAG_W,FCO2,FCO2_FLAG_W,FCO2TMP,TON,TON_FLAG_W,FCO2IN,C14ERR,TOC,TOC_FLAG_W
,,,,,,,,,,,DBAR,ITS-90,PSS-78,PSS-78,,UMOL/KG,,UMOL/KG,,UMOL/KG,,UMOL/KG,,UMOL/KG,,UMOL/KG,,PMOL/KG,,PMOL/KG,,PMOL/KG,,PMOL/KG,,/MILLE,,/MILLE,,UMOL/KG,,UMOL/KG,,,,UATM,,DEG C,UMOL/KG,,UATM,/MILLE,UMOL/KG,
31RBOACES24N_2,  AR01,    24,  1,     36,2,19980128,1903, 24.4998, -24.9500, 5255,      3.3,  22.0510,  37.1100,  37.1140,2,    221.1,2,     221.3,2,     0.80,2,     0.00,2,     0.01,2,  -999.00,5,    2.227,2,    1.435,2,    0.160,2, -999.000,9,   -999.0,9,  -999.00,9,   2096.2,6,   2428.8,6,   8.0412,6,   338.1,6,   20.0, -999.00,9,   366.8,  -999.0, -999.00,9
31RBOACES24N_2,  AR01,    24,  1,     35,2,19980128,1903, 24.4998, -24.9500, 5255,     48.8,  22.0300,  37.1060,  37.1080,2,    217.3,2,     218.8,2,     0.60,2,     0.00,2,     0.00,2,  -999.00,5,    2.247,6,    1.407,6,    0.163,6, -999.000,9,   -999.0,9,  -999.00,9,   -999.0,9,   -999.0,9,-999.0000,9,  -999.0,9, -999.0, -999.00,9,  -999.0,  -999.0, -999.00,9
31RBOACES24N_2,  AR01,    24,  1,     34,2,19980128,1903, 24.4998, -24.9500, 5255,    100.9,  22.1270,  37.1440,  37.1460,2,    214.2,2,     188.6,3,     0.60,2,     0.10,2,     0.01,2,  -999.00,5,    2.220,2,    1.416,2,    0.162,2, -999.000,9,   -999.0,9,  -999.00,9,   -999.0,9,   -999.0,9,-999.0000,9,  -999.0,9, -999.0, -999.00,9,  -999.0,  -999.0, -999.00,9
31RBOACES24N_2,  AR01,    24,  1,     33,2,19980128,1903, 24.4998, -24.9500, 5255,    150.6,  19.2220,  36.8340,  36.8320,2,    197.2,2,     198.3,2,     1.10,2,     2.54,2,     0.02,2,  -999.00,5,    2.526,2,    1.482,4,    0.131,2, -999.000,9,   -999.0,9,  -999.00,9,   -999.0,9,   -999.0,9,-999.0000,9,  -999.0,9, -999.0, -999.00,9,  -999.0,  -999.0, -999.00,9
31RBOACES24N_2,  AR01,    24,  1,     32,2,19980128,1903, 24.4998, -24.9500, 5255,    201.4,  17.9810,  36.6090,  36.5960,2,    191.9,2,     194.7,2,     1.40,2,     4.39,2,     0.01,2,  -999.00,5,    2.600,2,    1.307,2,    0.051,2, -999.000,9,   -999.0,9,  -999.00,9,   -999.0,9,   -999.0,9,-999.0000,9,  -999.0,9, -999.0, -999.00,9,  -999.0,  -999.0, -999.00,9
31RBOACES24N_2,  AR01,    24,  1,     31,2,19980128,1903, 24.4998, -24.9500, 5255,    224.4,  17.1920,  36.4480,  36.4370,2,    185.6,2,     185.3,2,     2.00,2,     6.63,2,     0.01,2,  -999.00,5,    2.617,2,    1.287,2,    0.063,2, -999.000,9,   -999.0,9,  -999.00,9,   -999.0,9,   -999.0,9,-999.0000,9,  -999.0,9, -999.0, -999.00,9,  -999.0,  -999.0, -999.00,9
31RBOACES24N_2,  AR01,    24,  1,     30,2,19980128,1903, 24.4998, -24.9500, 5255,    272.4,  15.8770,  36.1700,  36.1690,2,    142.1,2,     150.5,2,     3.90,2,    12.49,2,     0.01,2,  -999.00,5,    2.302,2,    1.148,2,    0.027,2, -999.000,9,   -999.0,9,  -999.00,9,   -999.0,9,   -999.0,9,-999.0000,9,  -999.0,9, -999.0, -999.00,9,  -999.0,  -999.0, -999.00,9
31RBOACES24N_2,  AR01,    24,  1,     29,2,19980128,1903, 24.4998, -24.9500, 5255,    300.3,  15.1100,  36.0280,  36.0280,2,    134.1,2,     127.5,2,     5.30,2,    16.30,2,     0.00,2,  -999.00,5,    2.114,2,    1.045,2,    0.023,2, -999.000,9,   -999.0,9,  -999.00,9,   -999.0,9,   -999.0,9,-999.0000,9,  -999.0,9, -999.0, -999.00,9,  -999.0,  -999.0, -999.00,9
31RBOACES24N_2,  AR01,    24,  1,     28,2,19980128,1903, 24.4998, -24.9500, 5255,    346.2,  14.4950,  35.9770,  35.9770,2,    127.3,2,     142.7,3,  -999.00,5,    15.42,2,     0.00,2,  -999.00,5,    2.200,2,    1.123,2,    0.019,2, -999.000,9,   -999.0,9,  -999.00,9,   -999.0,9,   -999.0,9,-999.0000,9,  -999.0,9, -999.0, -999.00,9,  -999.0,  -999.0, -999.00,9
31RBOACES24N_2,  AR01,    24,  1,     27,2,19980128,1903, 24.4998, -24.9500, 5255,    400.1,  13.4710,  35.8180,  35.8080,2,    113.7,2,     125.8,2,     6.80,2,    18.94,2,     0.00,2,  -999.00,5,    1.902,2,    0.908,2,    0.013,2, -999.000,9,   -999.0,9,  -999.00,9,   -999.0,9,   -999.0,9,-999.0000,9,  -999.0,9, -999.0, -999.00,9,  -999.0,  -999.0, -999.00,9
31RBOACES24N_2,  AR01,    24,  1,     26,2,19980128,1903, 24.4998, -24.9500, 5255,    447.8,  12.8450,  35.7480,  35.7540,2,    155.2,2,     153.6,2,     6.10,2,    16.89,2,     0.00,2,  -999.00,5,    1.938,2,    0.915,2,    0.016,2, -999.000,9,   -999.0,9,  -999.00,9,   -999.0,9,   -999.0,9,-999.0000,9,  -999.0,9, -999.0, -999.00,9,  -999.0,  -999.0, -999.00,9
31RBOACES24N_2,  AR01,    24,  1,     25,2,19980128,1903, 24.4998, -24.9500, 5255,    499.0,  12.0170,  35.6200,  35.6200,2,    149.6,2,     139.8,2,     7.90,2,    20.01,2,     0.00,2,  -999.00,5,    1.533,2,    0.720,2,    0.014,2, -999.000,9,   -999.0,9,  -999.00,9,   -999.0,9,   -999.0,9,-999.0000,9,  -999.0,9, -999.0, -999.00,9,  -999.0,  -999.0, -999.00,9
31RBOACES24N_2,  AR01,    24,  1,     24,2,19980128,1903, 24.4998, -24.9500, 5255,    600.6,  10.6490,  35.4370,  35.4270,2,    118.5,2,     119.3,2,    11.40,2,    24.80,2,     0.00,2,  -999.00,5,    0.755,2,    0.378,2,    0.003,2, -999.000,9,   -999.0,9,  -999.00,9,   -999.0,9,   -999.0,9,-999.0000,9,  -999.0,9, -999.0, -999.00,9,  -999.0,  -999.0, -999.00,9
31RBOACES24N_2,  AR01,    24,  1,     23,2,19980128,1903, 24.4998, -24.9500, 5255,    701.2,   9.5670,  35.3220,  35.3240,2,    114.0,2,     120.7,2,    13.80,2,    26.46,2,     0.00,2,  -999.00,5,    0.412,2,    0.230,2,   -0.003,2, -999.000,9,   -999.0,9,  -999.00,9,   -999.0,9,   -999.0,9,-999.0000,9,  -999.0,9, -999.0, -999.00,9,  -999.0,  -999.0, -999.00,9
31RBOACES24N_2,  AR01,    24,  1,     22,2,19980128,1903, 24.4998, -24.9500, 5255,    799.2,   8.3890,  35.1730,  35.1770,2,    114.1,2,     115.6,2,    16.90,2,    28.90,2,     0.00,2,  -999.00,5,    0.144,6,    0.085,6,   -0.001,6, -999.000,9,   -999.0,9,  -999.00,9,   -999.0,9,   -999.0,9,-999.0000,9,  -999.0,9, -999.0, -999.00,9,  -999.0,  -999.0, -999.00,9
31RBOACES24N_2,  AR01,    24,  1,     21,2,19980128,1903, 24.4998, -24.9500, 5255,    900.3,   8.0490,  35.2170,  35.2120,2,    133.9,2,     135.3,2,    17.00,2,  -999.00,5,     0.00,2,  -999.00,5,    0.143,2,    0.080,2,   -0.001,2, -999.000,9,   -999.0,9,  -999.00,9,   -999.0,9,   -999.0,9,-999.0000,9,  -999.0,9, -999.0, -999.00,9,  -999.0,  -999.0, -999.00,9
31RBOACES24N_2,  AR01,    24,  1,     20,2,19980128,1903, 24.4998, -24.9500, 5255,    999.2,   7.5430,  35.2110,  35.2110,2,    147.2,2,     146.4,2,    17.50,2,    26.37,2,     0.00,2,  -999.00,5,    0.133,2,    0.071,2,   -0.004,2, -999.000,9,   -999.0,9,  -999.00,9,   -999.0,9,   -999.0,9,-999.0000,9,  -999.0,9, -999.0, -999.00,9,  -999.0,  -999.0, -999.00,9
31RBOACES24N_2,  AR01,    24,  1,     19,2,19980128,1903, 24.4998, -24.9500, 5255,   1199.8,   6.7020,  35.2330,  35.2330,2,    173.5,2,     172.2,2,    18.00,2,    24.31,2,     0.00,2,  -999.00,5, -999.000,9, -999.000,9, -999.000,9, -999.000,9,   -999.0,9,  -999.00,9,   -999.0,9,   -999.0,9,-999.0000,9,  -999.0,9, -999.0, -999.00,9,  -999.0,  -999.0, -999.00,9
31RBOACES24N_2,  AR01,    24,  1,     18,2,19980128,1903, 24.4998, -24.9500, 5255,   1401.2,   5.9780,  35.2170,  35.2180,2,    195.2,2,     191.1,2,    18.50,2,    22.75,2,     0.00,2,  -999.00,5,    0.054,6,    0.031,6,   -0.005,6, -999.000,9,   -999.0,9,  -999.00,9,   -999.0,9,   -999.0,9,-999.0000,9,  -999.0,9, -999.0, -999.00,9,  -999.0,  -999.0, -999.00,9
31RBOACES24N_2,  AR01,    24,  1,     17,2,19980128,1903, 24.4998, -24.9500, 5255,   1598.9,   5.1190,  35.1470,  35.1480,2,    210.2,2,     207.5,2,    20.20,2,    22.17,2,     0.00,2,  -999.00,5, -999.000,9, -999.000,9, -999.000,9, -999.000,9,   -999.0,9,  -999.00,9,   -999.0,9,   -999.0,9,-999.0000,9,  -999.0,9, -999.0, -999.00,9,  -999.0,  -999.0, -999.00,9
31RBOACES24N_2,  AR01,    24,  1,     16,2,19980128,1903, 24.4998, -24.9500, 5255,   1798.0,   4.5120,  35.0980,  35.0990,2,    221.2,2,     220.3,2,    22.10,2,    21.48,2,     0.00,2,  -999.00,5, -999.000,9, -999.000,9, -999.000,9, -999.000,9,   -999.0,9,  -999.00,9,   -999.0,9,   -999.0,9,-999.0000,9,  -999.0,9, -999.0, -999.00,9,  -999.0,  -999.0, -999.00,9
31RBOACES24N_2,  AR01,    24,  1,     15,2,19980128,1903, 24.4998, -24.9500, 5255,   2000.5,   4.0320,  35.0560,  35.0560,2,    229.2,2,     229.2,2,    24.10,2,    21.09,2,     0.00,2,  -999.00,5,    0.006,2,    0.007,2,   -0.009,2, -999.000,9,   -999.0,9,  -999.00,9,   -999.0,9,   -999.0,9,-999.0000,9,  -999.0,9, -999.0, -999.00,9,  -999.0,  -999.0, -999.00,9
31RBOACES24N_2,  AR01,    24,  1,     14,2,19980128,1903, 24.4998, -24.9500, 5255,   2197.4,   3.6600,  35.0230,  35.0230,2,    232.2,2,     233.9,2,    26.80,2,    21.00,2,     0.00,2,  -999.00,5, -999.000,9, -999.000,9, -999.000,9, -999.000,9,   -999.0,9,  -999.00,9,   -999.0,9,   -999.0,9,-999.0000,9,  -999.0,9, -999.0, -999.00,9,  -999.0,  -999.0, -999.00,9
31RBOACES24N_2,  AR01,    24,  1,     13,2,19980128,1903, 24.4998, -24.9500, 5255,   2402.5,   3.3950,  35.0000,  35.0000,2,    239.8,2,     238.4,2,    28.40,2,    21.00,2,     0.00,2,  -999.00,5, -999.000,9, -999.000,9, -999.000,9, -999.000,9,   -999.0,9,  -999.00,9,   -999.0,9,   -999.0,9,-999.0000,9,  -999.0,9, -999.0, -999.00,9,  -999.0,  -999.0, -999.00,9
31RBOACES24N_2,  AR01,    24,  1,     12,2,19980128,1903, 24.4998, -24.9500, 5255,   2593.4,   3.1780,  34.9800,  34.9800,2,    245.3,2,     242.8,2,    30.00,2,    20.90,2,     0.00,2,  -999.00,5,    0.001,2,   -0.001,2,   -0.010,2, -999.000,9,   -999.0,9,  -999.00,9,   -999.0,9,   -999.0,9,-999.0000,9,  -999.0,9, -999.0, -999.00,9,  -999.0,  -999.0, -999.00,9
31RBOACES24N_2,  AR01,    24,  1,     11,2,19980128,1903, 24.4998, -24.9500, 5255,   2798.2,   2.9570,  34.9610,  34.9610,2,    251.4,2,     249.7,2,    32.00,2,    20.80,2,     0.00,2,  -999.00,5, -999.000,9, -999.000,9, -999.000,9, -999.000,9,   -999.0,9,  -999.00,9,   -999.0,9,   -999.0,9,-999.0000,9,  -999.0,9, -999.0, -999.00,9,  -999.0,  -999.0, -999.00,9
31RBOACES24N_2,  AR01,    24,  1,     10,2,19980128,1903, 24.4998, -24.9500, 5255,   3001.4,   2.7700,  34.9410,  34.9420,2,    250.1,2,     248.0,2,    35.70,2,    21.00,2,     0.00,2,  -999.00,5, -999.000,9, -999.000,9, -999.000,9, -999.000,9,   -999.0,9,  -999.00,9,   -999.0,9,   -999.0,9,-999.0000,9,  -999.0,9, -999.0, -999.00,9,  -999.0,  -999.0, -999.00,9
31RBOACES24N_2,  AR01,    24,  1,      9,2,19980128,1903, 24.4998, -24.9500, 5255,   3300.7,   2.5830,  34.9230,  34.9230,2,    250.7,2,     248.6,2,    39.30,2,    21.49,2,     0.00,2,  -999.00,5,    0.003,2,    0.006,2,   -0.009,2, -999.000,9,   -999.0,9,  -999.00,9,   -999.0,9,   -999.0,9,-999.0000,9,  -999.0,9, -999.0, -999.00,9,  -999.0,  -999.0, -999.00,9
31RBOACES24N_2,  AR01,    24,  1,      8,2,19980128,1903, 24.4998, -24.9500, 5255,   3550.7,   2.5000,  34.9120,  34.9130,2,    249.2,2,     249.7,2,    40.50,2,    21.59,2,     0.00,2,  -999.00,5, -999.000,9, -999.000,9, -999.000,9, -999.000,9,   -999.0,9,  -999.00,9,   -999.0,9,   -999.0,9,-999.0000,9,  -999.0,9, -999.0, -999.00,9,  -999.0,  -999.0, -999.00,9
31RBOACES24N_2,  AR01,    24,  1,      7,2,19980128,1903, 24.4998, -24.9500, 5255,   3801.4,   2.4390,  34.9040,  34.9040,2,    249.4,2,     249.2,2,    42.00,2,    21.68,2,     0.00,2,  -999.00,5, -999.000,9, -999.000,9, -999.000,9, -999.000,9,   -999.0,9,  -999.00,9,   -999.0,9,   -999.0,9,-999.0000,9,  -999.0,9, -999.0, -999.00,9,  -999.0,  -999.0, -999.00,9
31RBOACES24N_2,  AR01,    24,  1,      6,2,19980128,1903, 24.4998, -24.9500, 5255,   4050.0,   2.4040,  34.8980,  34.8980,2,    250.5,2,     249.4,2,    43.10,2,    21.68,2,     0.00,2,  -999.00,5,    0.003,2,    0.001,2,   -0.008,2, -999.000,9,   -999.0,9,  -999.00,9,   -999.0,9,   -999.0,9,-999.0000,9,  -999.0,9, -999.0, -999.00,9,  -999.0,  -999.0, -999.00,9
31RBOACES24N_2,  AR01,    24,  1,      5,2,19980128,1903, 24.4998, -24.9500, 5255,   4301.4,   2.3840,  34.8940,  34.8940,2,    250.4,2,     249.4,2,    44.40,2,    21.88,2,     0.00,2,  -999.00,5, -999.000,9, -999.000,9, -999.000,9, -999.000,9,   -999.0,9,  -999.00,9,   -999.0,9,   -999.0,9,-999.0000,9,  -999.0,9, -999.0, -999.00,9,  -999.0,  -999.0, -999.00,9
31RBOACES24N_2,  AR01,    24,  1,      4,2,19980128,1903, 24.4998, -24.9500, 5255,   4550.1,   2.3810,  34.8910,  34.8900,2,    249.4,2,     248.8,2,    45.30,2,    21.98,2,     0.00,2,  -999.00,5,    0.003,2,   -0.003,2,   -0.008,2, -999.000,9,   -999.0,9,  -999.00,9,   -999.0,9,   -999.0,9,-999.0000,9,  -999.0,9, -999.0, -999.00,9,  -999.0,  -999.0, -999.00,9
31RBOACES24N_2,  AR01,    24,  1,      3,2,19980128,1903, 24.4998, -24.9500, 5255,   4797.9,   2.3970,  34.8890,  34.8880,2,    249.3,2,     248.5,2,    45.90,2,    21.88,2,     0.00,2,  -999.00,5, -999.000,9, -999.000,9, -999.000,9, -999.000,9,   -999.0,9,  -999.00,9,   -999.0,9,   -999.0,9,-999.0000,9,  -999.0,9, -999.0, -999.00,9,  -999.0,  -999.0, -999.00,9
31RBOACES24N_2,  AR01,    24,  1,      2,2,19980128,1903, 24.4998, -24.9500, 5255,   5050.6,   2.4260,  34.8880,  34.8890,2,    249.8,2,     247.1,2,    45.70,2,    22.17,2,     0.00,2,  -999.00,5,    0.002,2,   -0.003,2,   -0.008,2, -999.000,9,   -999.0,9,  -999.00,9,   -999.0,9,   -999.0,9,-999.0000,9,  -999.0,9, -999.0, -999.00,9,  -999.0,  -999.0, -999.00,9
31RBOACES24N_2,  AR01,    24,  1,      1,2,19980128,1903, 24.4998, -24.9500, 5255,   5330.7,   2.4590,  34.8870,  34.8870,2,    249.4,2,     248.8,2,    46.50,6,    22.07,6,     0.01,6,  -999.00,5,    0.002,6,    0.001,6,   -0.002,6, -999.000,9,   -999.0,9,  -999.00,9,   -999.0,9,   -999.0,9,-999.0000,9,  -999.0,9, -999.0, -999.00,9,  -999.0,  -999.0, -999.00,9