BOTTLE,20220820CCHSIOAMB
EXPOCODE,SECT_ID,STNNBR,CASTNO,BTLNBR,BTLNBR_FLAG_W,DATE,TIME,LATITUDE,LONGITUDE,DEPTH,CTDPRS,CTDTMP,CTDSAL,SALNTY,SALNTY_FLAG_W,CTDOXY,CTDOXY_FLAG_W,OXYGEN,OXYGEN_FLAG_W,SILCAT,SILCAT_FLAG_W,NITRAT,NITRAT_FLAG_W,NITRIT,NITRIT_FLAG_W,PHSPHT,PHSPHT_FLAG_W,CFC-11,CFC-11_FLAG_W,CFC-12,CFC-12_FLAG_W,CFC113,CFC113_FLAG_W,CCL4,CCL4_FLAG_W,DELC14,DELC14_FLAG_W,DELC13,DELC13_FLAG_W,TCARBN,TCARBN_FLAG_W,ALKALI,ALKALI_FLAG_W,PH,PH_FLAG_W,FCO2,FCO2_FLAG_W,FCO2TMP,TON,TON_FLAG_W,FCO2IN,C14ERR,TOC,TOC_FLAG_W
,,,,,,,,,,,DBAR,ITS-90,PSS-78,PSS-78,,UMOL/KG,,UMOL/KG,,UMOL/KG,,UMOL/KG,,UMOL/KG,,UMOL/KG,,PMOL/KG,,PMOL/KG,,PMOL/KG,,PMOL/KG,,/MILLE,,/MILLE,,UMOL/KG,,UMOL/KG,,,,UATM,,DEG C,UMOL/KG,,UATM,/MILLE,UMOL/KG,
31RBOACES24N_2,  AR01,    40,  1,     36,2,19980202,1650, 24.4998, -37.6832, 5499,      3.8,  24.0640,  37.5350,  37.5370,2,    208.2,2,     214.2,2,     0.50,2,     0.00,2,     0.00,2,  -999.00,5,    1.889,2,    1.080,2,    0.150,2, -999.000,9,   -999.0,9,     1.54,2,   2087.9,6,   2463.1,2,   8.0901,2,   312.1,3,   20.0, -999.00,9,   366.3,  -999.0,   71.47,2
31RBOACES24N_2,  AR01,    40,  1,     35,3,19980202,1650, 24.4998, -37.6832, 5499,     51.9,  23.9890,  37.5460,  37.5460,2,    211.8,2,     212.6,2,     0.50,2,     0.00,2,     0.00,2,  -999.00,5,    1.880,2,    1.079,2,    0.179,2, -999.000,9,   -999.0,9,  -999.00,9,   -999.0,9,   2459.8,2,   8.0895,2,  -999.0,9, -999.0, -999.00,9,  -999.0,  -999.0,   70.50,2
31RBOACES24N_2,  AR01,    40,  1,     34,2,19980202,1650, 24.4998, -37.6832, 5499,     99.9,  23.7740,  37.4990,  37.4680,2,    212.2,2,     210.0,2,     0.50,2,     0.00,2,     0.02,2,  -999.00,5,    1.938,2,    1.118,2,    0.149,2, -999.000,9,   -999.0,9,  -999.00,9,   -999.0,9,   -999.0,9,-999.0000,9,  -999.0,9, -999.0, -999.00,9,  -999.0,  -999.0,   64.74,2
31RBOACES24N_2,  AR01,    40,  1,     33,2,19980202,1650, 24.4998, -37.6832, 5499,    140.4,  21.1630,  37.1510,  37.1550,2,    212.5,2,     212.8,2,     0.50,2,     0.29,2,     0.06,2,  -999.00,5,    2.191,2,    1.246,2,    0.164,2, -999.000,9,   -999.0,9,  -999.00,9,   -999.0,9,   2436.7,2,   8.0289,2,  -999.0,9, -999.0, -999.00,9,  -999.0,  -999.0,   55.45,2
31RBOACES24N_2,  AR01,    40,  1,     32,2,19980202,1650, 24.4998, -37.6832, 5499,    177.3,  20.0030,  36.9930,  36.9930,2,    198.2,2,     213.6,2,     0.80,2,     1.95,2,     0.02,2,  -999.00,5,    2.261,2,    1.283,2,    0.120,2, -999.000,9,   -999.0,9,  -999.00,9,   -999.0,9,   -999.0,9,-999.0000,9,  -999.0,9, -999.0, -999.00,9,  -999.0,  -999.0,   53.59,2
31RBOACES24N_2,  AR01,    40,  1,     31,2,19980202,1650, 24.4998, -37.6832, 5499,    210.1,  19.1250,  36.8280,  36.8520,2,    195.3,2,     197.3,2,     0.90,2,     2.05,2,     0.01,2,  -999.00,5, -999.000,9, -999.000,9, -999.000,9, -999.000,9,   -999.0,9,  -999.00,9,   -999.0,9,   2420.9,2,   7.9876,2,  -999.0,9, -999.0, -999.00,9,  -999.0,  -999.0,   50.95,2
31RBOACES24N_2,  AR01,    40,  1,     30,2,19980202,1650, 24.4998, -37.6832, 5499,    233.4,  18.1410,  36.6130,  36.6140,2,    198.3,2,     199.7,2,     1.30,2,     3.81,2,     0.01,2,  -999.00,5,    2.326,2,    1.303,2,    0.049,2, -999.000,9,   -999.0,9,  -999.00,9,   -999.0,9,   -999.0,9,-999.0000,9,  -999.0,9, -999.0, -999.00,9,  -999.0,  -999.0, -999.00,9
31RBOACES24N_2,  AR01,    40,  1,     29,2,19980202,1650, 24.4998, -37.6832, 5499,    260.9,  17.6420,  36.5120,  36.4990,2,    195.8,2,     199.2,2,     1.50,2,     4.78,2,     0.00,2,  -999.00,5, -999.000,9, -999.000,9, -999.000,9, -999.000,9,   -999.0,9,  -999.00,9,   -999.0,9,   2398.3,2,   7.9619,2,  -999.0,9, -999.0, -999.00,9,  -999.0,  -999.0,   47.44,2
31RBOACES24N_2,  AR01,    40,  1,     28,2,19980202,1650, 24.4998, -37.6832, 5499,    285.1,  17.1730,  36.4370,  36.4380,2,    193.8,2,     199.1,2,     1.60,2,     5.66,2,     0.00,2,  -999.00,5,    2.360,6,    1.297,6,    0.030,6, -999.000,9,   -999.0,9,  -999.00,9,   -999.0,9,   -999.0,9,-999.0000,9,  -999.0,9, -999.0, -999.00,9,  -999.0,  -999.0, -999.00,9
31RBOACES24N_2,  AR01,    40,  1,     27,2,19980202,1650, 24.4998, -37.6832, 5499,    325.2,  16.7290,  36.3560,  36.3520,2,    195.1,2,     196.1,2,     2.00,2,     6.64,2,     0.00,2,  -999.00,5, -999.000,9, -999.000,9, -999.000,9, -999.000,9,   -999.0,9,  -999.00,9,   -999.0,9,   2385.3,2,   7.9333,2,  -999.0,9, -999.0, -999.00,9,  -999.0,  -999.0,   45.29,2
31RBOACES24N_2,  AR01,    40,  1,     26,2,19980202,1650, 24.4998, -37.6832, 5499,    376.3,  15.7460,  36.1870,  36.1920,2,    194.3,2,     194.3,2,     2.60,2,     8.20,2,     0.00,2,  -999.00,5,    2.312,2,    1.240,2,    0.029,2, -999.000,9,   -999.0,9,  -999.00,9,   -999.0,9,   -999.0,9,-999.0000,9,  -999.0,9, -999.0, -999.00,9,  -999.0,  -999.0, -999.00,9
31RBOACES24N_2,  AR01,    40,  1,     25,2,19980202,1650, 24.4998, -37.6832, 5499,    425.2,  14.9510,  36.0570,  36.0580,2,    192.2,2,     193.7,2,     3.30,2,     9.66,2,     0.00,2,  -999.00,5, -999.000,9, -999.000,9, -999.000,9, -999.000,9,   -999.0,9,  -999.00,9,   -999.0,9,   2373.2,2,   7.8899,2,  -999.0,9, -999.0, -999.00,9,  -999.0,  -999.0,   44.70,2
31RBOACES24N_2,  AR01,    40,  1,     24,2,19980202,1650, 24.4998, -37.6832, 5499,    476.5,  14.1480,  35.9250,  35.9270,2,    188.0,2,     191.3,2,     4.00,2,    11.32,2,     0.00,2,  -999.00,5,    2.142,2,    1.115,2,    0.031,2, -999.000,9,   -999.0,9,  -999.00,9,   -999.0,9,   -999.0,9,-999.0000,9,  -999.0,9, -999.0, -999.00,9,  -999.0,  -999.0, -999.00,9
31RBOACES24N_2,  AR01,    40,  1,     23,2,19980202,1650, 24.4998, -37.6832, 5499,    550.7,  12.6850,  35.7170,  35.7170,2,    183.5,2,     187.7,2,     5.60,2,    14.45,2,     0.00,2,  -999.00,5, -999.000,9, -999.000,9, -999.000,9, -999.000,9,   -999.0,9,  -999.00,9,   -999.0,9,   2350.5,2,   7.8175,2,  -999.0,9, -999.0, -999.00,9,  -999.0,  -999.0,   44.79,2
31RBOACES24N_2,  AR01,    40,  1,     22,2,19980202,1650, 24.4998, -37.6832, 5499,    648.5,  11.3000,  35.5530,  35.5530,2,    174.6,2,     180.8,2,     7.60,2,    17.87,2,     0.00,2,  -999.00,5,    1.307,6,    0.641,6,    0.021,6, -999.000,9,   -999.0,9,  -999.00,9,   -999.0,9,   -999.0,9,-999.0000,9,  -999.0,9, -999.0, -999.00,9,  -999.0,  -999.0, -999.00,9
31RBOACES24N_2,  AR01,    40,  1,     21,2,19980202,1650, 24.4998, -37.6832, 5499,    750.6,  10.2930,  35.4480,  35.4530,2,    160.8,2,     170.4,2,    10.20,2,    20.61,2,     0.00,2,  -999.00,5, -999.000,9, -999.000,9, -999.000,9, -999.000,9,   -999.0,9,  -999.00,9,   -999.0,9,   2341.7,2,   7.7314,2,  -999.0,9, -999.0, -999.00,9,  -999.0,  -999.0,   42.15,2
31RBOACES24N_2,  AR01,    40,  1,     20,2,19980202,1650, 24.4998, -37.6832, 5499,    850.3,   9.1150,  35.3290,  35.3300,2,    152.5,2,     159.6,2,    13.60,2,    23.44,2,     0.00,2,  -999.00,5,    0.347,2,    0.153,2,    0.008,2, -999.000,9,   -999.0,9,  -999.00,9,   -999.0,9,   -999.0,9,-999.0000,9,  -999.0,9, -999.0, -999.00,9,  -999.0,  -999.0, -999.00,9
31RBOACES24N_2,  AR01,    40,  1,     19,2,19980202,1650, 24.4998, -37.6832, 5499,    949.0,   8.0370,  35.2380,  35.2360,2,    158.8,2,     151.1,2,    15.90,2,    25.00,2,     0.00,2,  -999.00,5, -999.000,9, -999.000,9, -999.000,9, -999.000,9,   -999.0,9,  -999.00,9,   -999.0,9,   2335.6,2,   7.6768,2,  -999.0,9, -999.0, -999.00,9,  -999.0,  -999.0, -999.00,9
31RBOACES24N_2,  AR01,    40,  1,     18,2,19980202,1650, 24.4998, -37.6832, 5499,   1051.3,   6.8450,  35.1460,  35.1460,2,    171.1,2,    -999.0,9,    17.70,2,    25.01,2,     0.00,2,  -999.00,5,    0.078,2,    0.032,2,    0.003,2, -999.000,9,   -999.0,9,  -999.00,9,   -999.0,9,   -999.0,9,-999.0000,9,  -999.0,9, -999.0, -999.00,9,  -999.0,  -999.0, -999.00,9
31RBOACES24N_2,  AR01,    40,  1,     17,2,19980202,1650, 24.4998, -37.6832, 5499,   1248.7,   5.8650,  35.1210,  35.1200,2,    193.6,2,     186.4,2,    17.90,2,    23.44,2,     0.00,2,  -999.00,5,    0.034,2,    0.018,2,    0.000,2, -999.000,9,   -999.0,9,  -999.00,9,   -999.0,9,   2335.7,3,   7.6919,2,  -999.0,9, -999.0, -999.00,9,  -999.0,  -999.0, -999.00,9
31RBOACES24N_2,  AR01,    40,  1,     16,2,19980202,1650, 24.4998, -37.6832, 5499,   1448.6,   5.2380,  35.1250,  35.1240,2,    214.8,2,     213.9,6,    17.90,2,    21.59,2,     0.00,2,  -999.00,5, -999.000,9, -999.000,9, -999.000,9, -999.000,9,   -999.0,9,  -999.00,9,   -999.0,9,   -999.0,9,-999.0000,9,  -999.0,9, -999.0, -999.00,9,  -999.0,  -999.0, -999.00,9
31RBOACES24N_2,  AR01,    40,  1,     15,2,19980202,1650, 24.4998, -37.6832, 5499,   1651.8,   4.7110,  35.1060,  35.1050,2,    228.5,2,     226.9,2,    18.90,2,    20.71,2,     0.00,2,  -999.00,5,    0.009,2,    0.007,2,    0.008,2, -999.000,9,   -999.0,9,  -999.00,9,   -999.0,9,   2334.8,3,   7.7244,2,  -999.0,9, -999.0, -999.00,9,  -999.0,  -999.0, -999.00,9
31RBOACES24N_2,  AR01,    40,  1,     14,2,19980202,1650, 24.4998, -37.6832, 5499,   1850.8,   4.1970,  35.0670,  35.0680,2,    238.2,2,     237.4,2,    20.30,2,    20.22,2,     0.00,2,  -999.00,5, -999.000,9, -999.000,9, -999.000,9, -999.000,9,   -999.0,9,  -999.00,9,   -999.0,9,   -999.0,9,-999.0000,9,  -999.0,9, -999.0, -999.00,9,  -999.0,  -999.0, -999.00,9
31RBOACES24N_2,  AR01,    40,  1,     13,2,19980202,1650, 24.4998, -37.6832, 5499,   2048.0,   3.8400,  35.0330,  35.0330,2,    243.9,2,     242.5,2,    22.30,2,    20.22,2,     0.00,2,  -999.00,5,    0.006,2,    0.001,2,    0.001,2, -999.000,9,   -999.0,9,  -999.00,9,   -999.0,9,   2338.6,3,   7.7314,2,  -999.0,9, -999.0, -999.00,9,  -999.0,  -999.0, -999.00,9
31RBOACES24N_2,  AR01,    40,  1,     12,2,19980202,1650, 24.4998, -37.6832, 5499,   2251.0,   3.4790,  35.0010,  35.0000,2,    245.9,2,     244.6,2,    25.40,2,    20.42,2,     0.00,2,  -999.00,5, -999.000,9, -999.000,9, -999.000,9, -999.000,9,   -999.0,9,  -999.00,9,   -999.0,9,   -999.0,9,-999.0000,9,  -999.0,9, -999.0, -999.00,9,  -999.0,  -999.0, -999.00,9
31RBOACES24N_2,  AR01,    40,  1,     11,2,19980202,1650, 24.4998, -37.6832, 5499,   2448.2,   3.2390,  34.9810,  34.9800,2,    246.8,2,     245.4,2,    28.10,2,    20.71,2,     0.00,2,  -999.00,5,    0.000,2,   -0.004,2,   -0.002,2, -999.000,9,   -999.0,9,  -999.00,9,   -999.0,9,   -999.0,9,-999.0000,9,  -999.0,9, -999.0, -999.00,9,  -999.0,  -999.0, -999.00,9
31RBOACES24N_2,  AR01,    40,  1,     10,2,19980202,1650, 24.4998, -37.6832, 5499,   2649.0,   3.0430,  34.9650,  34.9630,2,    247.2,2,     247.8,2,    30.90,2,    20.81,2,     0.00,2,  -999.00,5, -999.000,9, -999.000,9, -999.000,9, -999.000,9,   -999.0,9,  -999.00,9,   -999.0,9,   -999.0,9,-999.0000,9,  -999.0,9, -999.0, -999.00,9,  -999.0,  -999.0, -999.00,9
31RBOACES24N_2,  AR01,    40,  1,      9,2,19980202,1650, 24.4998, -37.6832, 5499,   2848.8,   2.8650,  34.9500,  34.9490,2,    247.0,2,     246.4,2,    33.70,2,    21.00,2,     0.00,2,  -999.00,5, -999.000,9, -999.000,9, -999.000,9, -999.000,9,   -999.0,9,  -999.00,9,   -999.0,9,   -999.0,9,-999.0000,9,  -999.0,9, -999.0, -999.00,9,  -999.0,  -999.0, -999.00,9
31RBOACES24N_2,  AR01,    40,  1,      8,2,19980202,1650, 24.4998, -37.6832, 5499,   3051.7,   2.7400,  34.9370,  34.9370,2,    247.2,2,     246.5,2,    35.50,2,    21.20,2,     0.00,2,  -999.00,5,   -0.001,2,    0.001,2,    0.005,2, -999.000,9,   -999.0,9,  -999.00,9,   -999.0,9,   2351.7,3,   7.7288,2,  -999.0,9, -999.0, -999.00,9,  -999.0,  -999.0, -999.00,9
31RBOACES24N_2,  AR01,    40,  1,      7,2,19980202,1650, 24.4998, -37.6832, 5499,   3419.4,   2.5660,  34.9190,  34.9190,2,    247.9,2,     247.3,2,    39.20,2,    21.39,2,     0.00,2,  -999.00,5, -999.000,9, -999.000,9, -999.000,9, -999.000,9,   -999.0,9,  -999.00,9,   -999.0,9,   -999.0,9,-999.0000,9,  -999.0,9, -999.0, -999.00,9,  -999.0,  -999.0, -999.00,9
31RBOACES24N_2,  AR01,    40,  1,      6,2,19980202,1650, 24.4998, -37.6832, 5499,   3741.5,   2.4780,  34.9070,  34.9070,2,    248.4,2,     248.3,2,    41.00,2,    21.49,2,     0.00,2,  -999.00,5, -999.000,9, -999.000,9, -999.000,9, -999.000,9,   -999.0,9,  -999.00,9,   -999.0,9,   -999.0,9,-999.0000,9,  -999.0,9, -999.0, -999.00,9,  -999.0,  -999.0, -999.00,9
31RBOACES24N_2,  AR01,    40,  1,      5,2,19980202,1650, 24.4998, -37.6832, 5499,   4050.7,   2.4300,  34.9000,  34.9000,2,    249.1,2,     248.8,2,    43.00,2,    21.69,2,     0.00,2,  -999.00,5,    0.000,2,   -0.001,2,   -0.001,2, -999.000,9,   -999.0,9,  -999.00,9,   -999.0,9,   -999.0,9,   7.7266,2,  -999.0,9, -999.0, -999.00,9,  -999.0,  -999.0, -999.00,9
31RBOACES24N_2,  AR01,    40,  1,      4,2,19980202,1650, 24.4998, -37.6832, 5499,   4298.7,   2.4020,  34.8950,  34.8950,2,    249.1,2,     249.2,2,    44.50,2,    21.69,2,     0.00,2,  -999.00,5, -999.000,9, -999.000,9, -999.000,9, -999.000,9,   -999.0,9,  -999.00,9,   -999.0,9,   -999.0,9,-999.0000,9,  -999.0,9, -999.0, -999.00,9,  -999.0,  -999.0, -999.00,9
31RBOACES24N_2,  AR01,    40,  1,      3,2,19980202,1650, 24.4998, -37.6832, 5499,   4752.0,   2.3780,  34.8870,  34.8860,2,    250.7,2,     250.5,2,    45.80,2,    21.88,2,     0.00,2,  -999.00,5,    0.001,2,   -0.001,2,    0.002,2, -999.000,9,   -999.0,9,  -999.00,9,   -999.0,9,   -999.0,9,-999.0000,9,  -999.0,9, -999.0, -999.00,9,  -999.0,  -999.0, -999.00,9
31RBOACES24N_2,  AR01,    40,  1,      2,2,19980202,1650, 24.4998, -37.6832, 5499,   5151.2,   2.3960,  34.8830,  34.8830,2,    252.6,2,     250.6,2,    46.70,2,    21.88,2,     0.00,2,  -999.00,5,    0.001,2,   -0.001,2,    0.000,2, -999.000,9,   -999.0,9,  -999.00,9,   -999.0,9,   -999.0,9,-999.0000,9,  -999.0,9, -999.0, -999.00,9,  -999.0,  -999.0, -999.00,9
31RBOACES24N_2,  AR01,    40,  1,      1,2,19980202,1650, 24.4998, -37.6832, 5499,   5555.2,   2.4100,  34.8790,  34.8790,2,    252.1,2,     251.4,2,    47.40,6,    21.98,6,     0.00,6,  -999.00,5,    0.002,6,    0.002,6,   -0.001,6, -999.000,9,   -999.0,9,  -999.00,9,   -999.0,9,   2354.3,3,   7.7203,2,  -999.0,9, -999.0, -999.00,9,  -999.0,  -999.0, -999.00,9