BOTTLE,20220820CCHSIOAMB
EXPOCODE,SECT_ID,STNNBR,CASTNO,BTLNBR,BTLNBR_FLAG_W,DATE,TIME,LATITUDE,LONGITUDE,DEPTH,CTDPRS,CTDTMP,CTDSAL,SALNTY,SALNTY_FLAG_W,CTDOXY,CTDOXY_FLAG_W,OXYGEN,OXYGEN_FLAG_W,SILCAT,SILCAT_FLAG_W,NITRAT,NITRAT_FLAG_W,NITRIT,NITRIT_FLAG_W,PHSPHT,PHSPHT_FLAG_W,CFC-11,CFC-11_FLAG_W,CFC-12,CFC-12_FLAG_W,CFC113,CFC113_FLAG_W,CCL4,CCL4_FLAG_W,DELC14,DELC14_FLAG_W,DELC13,DELC13_FLAG_W,TCARBN,TCARBN_FLAG_W,ALKALI,ALKALI_FLAG_W,PH,PH_FLAG_W,FCO2,FCO2_FLAG_W,FCO2TMP,TON,TON_FLAG_W,FCO2IN,C14ERR,TOC,TOC_FLAG_W
,,,,,,,,,,,DBAR,ITS-90,PSS-78,PSS-78,,UMOL/KG,,UMOL/KG,,UMOL/KG,,UMOL/KG,,UMOL/KG,,UMOL/KG,,PMOL/KG,,PMOL/KG,,PMOL/KG,,PMOL/KG,,/MILLE,,/MILLE,,UMOL/KG,,UMOL/KG,,,,UATM,,DEG C,UMOL/KG,,UATM,/MILLE,UMOL/KG,
31RBOACES24N_2,  AR01,    81,  1,     36,2,19980213,2051, 24.4985, -63.2642, 5843,      4.2,  24.9740,  36.4350,  36.4350,2,    207.2,2,     209.9,2,     0.90,2,     0.10,2,     0.00,2,     0.00,2, -999.000,9, -999.000,9, -999.000,9, -999.000,9,   -999.0,9,     1.37,2,   2016.1,6,   2381.1,2,   8.1166,2,   263.4,2,   20.0, -999.00,9,   320.4,  -999.0, -999.00,9
31RBOACES24N_2,  AR01,    81,  1,     35,2,19980213,2051, 24.4985, -63.2642, 5843,     41.5,  24.4360,  36.7710,  36.7930,2,    210.6,2,     209.9,2,     0.70,2,     0.10,2,     0.00,2,     0.00,2, -999.000,9, -999.000,9, -999.000,9, -999.000,9,   -999.0,9,  -999.00,9,   -999.0,9,   -999.0,9,-999.0000,9,  -999.0,9, -999.0, -999.00,9,  -999.0,  -999.0, -999.00,9
31RBOACES24N_2,  AR01,    81,  1,     34,2,19980213,2051, 24.4985, -63.2642, 5843,     82.6,  23.6400,  36.7630,  36.7430,2,    216.6,2,     214.2,2,     0.70,2,     0.10,2,     0.00,2,     0.00,2, -999.000,9, -999.000,9, -999.000,9, -999.000,9,   -999.0,9,  -999.00,9,   2038.9,2,   2398.6,2,   8.1007,2,   275.7,2,   20.0, -999.00,9,   318.4,  -999.0, -999.00,9
31RBOACES24N_2,  AR01,    81,  1,     33,2,19980213,2051, 24.4985, -63.2642, 5843,    121.0,  22.0440,  36.8940,  36.8980,2,    200.8,2,     209.6,2,     0.50,2,     0.20,2,     0.03,2,     0.01,2, -999.000,9, -999.000,9, -999.000,9, -999.000,9,   -999.0,9,  -999.00,9,   2076.0,2,   2408.4,2,   8.0552,2,   318.2,2,   20.0, -999.00,9,   345.1,  -999.0, -999.00,9
31RBOACES24N_2,  AR01,    81,  1,     32,2,19980213,2051, 24.4985, -63.2642, 5843,    169.3,  20.1080,  36.8150,  36.8290,2,    194.0,2,     197.3,2,     0.50,2,     0.88,2,     0.01,2,     0.03,2, -999.000,9, -999.000,9, -999.000,9, -999.000,9,   -999.0,9,  -999.00,9,   -999.0,9,   -999.0,9,-999.0000,9,  -999.0,9, -999.0, -999.00,9,  -999.0,  -999.0, -999.00,9
31RBOACES24N_2,  AR01,    81,  1,     31,2,19980213,2051, 24.4985, -63.2642, 5843,    203.8,  19.1330,  36.6770,  36.6770,2,    195.4,2,     200.4,2,     0.70,2,     1.66,2,     0.01,2,     0.06,2, -999.000,9, -999.000,9, -999.000,9, -999.000,9,   -999.0,9,  -999.00,9,   2097.4,2,   2394.9,2,   8.0009,2,   371.6,2,   20.0, -999.00,9,   358.8,  -999.0, -999.00,9
31RBOACES24N_2,  AR01,    81,  1,     30,2,19980213,2051, 24.4985, -63.2642, 5843,    241.4,  18.4850,  36.5880,  36.5870,2,    200.4,2,     203.3,2,     1.00,2,     2.93,2,     0.00,2,     0.12,2, -999.000,9, -999.000,9, -999.000,9, -999.000,9,   -999.0,9,  -999.00,9,   -999.0,9,   -999.0,9,-999.0000,9,  -999.0,9, -999.0, -999.00,9,  -999.0,  -999.0, -999.00,9
31RBOACES24N_2,  AR01,    81,  1,     29,2,19980213,2051, 24.4985, -63.2642, 5843,    269.8,  18.2970,  36.5620,  36.5620,2,    202.2,2,     204.5,2,     1.00,2,     3.22,2,     0.00,2,     0.15,2, -999.000,9, -999.000,9, -999.000,9, -999.000,9,   -999.0,9,  -999.00,9,   -999.0,9,   -999.0,9,-999.0000,9,  -999.0,9, -999.0, -999.00,9,  -999.0,  -999.0, -999.00,9
31RBOACES24N_2,  AR01,    81,  1,     28,2,19980213,2051, 24.4985, -63.2642, 5843,    295.2,  18.1450,  36.5440,  36.5450,2,    205.6,2,     207.9,2,     1.10,2,     3.32,2,     0.00,2,     0.16,2, -999.000,9, -999.000,9, -999.000,9, -999.000,9,   -999.0,9,  -999.00,9,   2094.2,2,   2385.4,2,   7.9948,2,   378.9,2,   20.0, -999.00,9,   351.4,  -999.0, -999.00,9
31RBOACES24N_2,  AR01,    81,  1,     27,2,19980213,2051, 24.4985, -63.2642, 5843,    355.3,  17.7960,  36.4890,  36.4860,2,    209.0,2,     203.1,2,     1.60,2,     4.29,2,     0.00,2,     0.22,2, -999.000,9, -999.000,9, -999.000,9, -999.000,9,   -999.0,9,  -999.00,9,   -999.0,9,   -999.0,9,-999.0000,9,  -999.0,9, -999.0, -999.00,9,  -999.0,  -999.0, -999.00,9
31RBOACES24N_2,  AR01,    81,  1,     26,2,19980213,2051, 24.4985, -63.2642, 5843,    416.5,  17.0480,  36.3580,  36.3580,2,    197.8,2,     190.3,2,     2.00,2,     6.54,2,     0.00,2,     0.36,2, -999.000,9, -999.000,9, -999.000,9, -999.000,9,   -999.0,9,  -999.00,9,   -999.0,9,   -999.0,9,-999.0000,9,  -999.0,9, -999.0, -999.00,9,  -999.0,  -999.0, -999.00,9
31RBOACES24N_2,  AR01,    81,  1,     25,2,19980213,2051, 24.4985, -63.2642, 5843,    477.5,  16.0450,  36.2050,  36.1970,2,    183.3,2,     180.1,2,     2.90,2,     9.08,2,     0.00,2,     0.52,2, -999.000,9, -999.000,9, -999.000,9, -999.000,9,   -999.0,9,  -999.00,9,   2130.1,2,   2367.6,2,   7.9002,2,   475.0,2,   20.0, -999.00,9,   404.5,  -999.0, -999.00,9
31RBOACES24N_2,  AR01,    81,  1,     24,2,19980213,2051, 24.4985, -63.2642, 5843,    575.0,  13.9880,  35.8680,  35.8690,2,    180.7,2,     174.5,2,     4.80,2,    12.89,2,     0.00,2,     0.77,2, -999.000,9, -999.000,9, -999.000,9, -999.000,9,   -999.0,9,  -999.00,9,   -999.0,9,   -999.0,9,-999.0000,9,  -999.0,9, -999.0, -999.00,9,  -999.0,  -999.0, -999.00,9
31RBOACES24N_2,  AR01,    81,  1,     23,2,19980213,2051, 24.4985, -63.2642, 5843,    673.3,  11.7080,  35.5370,  35.5540,2,    158.8,2,     157.5,2,     8.30,2,    18.36,2,     0.00,2,     1.12,2, -999.000,9, -999.000,9, -999.000,9, -999.000,9,   -999.0,9,  -999.00,9,   2165.7,2,   2334.4,2,   7.7702,2,   670.0,2,   20.0, -999.00,9,   476.3,  -999.0, -999.00,9
31RBOACES24N_2,  AR01,    81,  1,     22,2,19980213,2051, 24.4985, -63.2642, 5843,    774.8,   9.5830,  35.2590,  35.2560,2,    145.4,2,     146.3,2,    13.30,2,    23.54,2,     0.00,2,     1.49,2, -999.000,9, -999.000,9, -999.000,9, -999.000,9,   -999.0,9,  -999.00,9,   -999.0,9,   -999.0,9,-999.0000,9,  -999.0,9, -999.0, -999.00,9,  -999.0,  -999.0, -999.00,9
31RBOACES24N_2,  AR01,    81,  1,     21,2,19980213,2051, 24.4985, -63.2642, 5843,    873.9,   8.0510,  35.1010,  35.1030,2,    145.6,2,     148.5,2,    16.40,2,    25.59,2,     0.00,2,     1.66,2, -999.000,9, -999.000,9, -999.000,9, -999.000,9,   -999.0,9,  -999.00,9,   2195.1,2,   2324.2,2,   7.6625,2,   884.8,2,   20.0, -999.00,9,   539.5,  -999.0, -999.00,9
31RBOACES24N_2,  AR01,    81,  1,     20,2,19980213,2051, 24.4985, -63.2642, 5843,    974.6,   7.0170,  35.0390,  35.0370,2,    164.9,2,     163.4,2,    17.60,2,    25.40,2,     0.00,2,     1.67,2, -999.000,9, -999.000,9, -999.000,9, -999.000,9,   -999.0,9,  -999.00,9,   -999.0,9,   -999.0,9,-999.0000,9,  -999.0,9, -999.0, -999.00,9,  -999.0,  -999.0, -999.00,9
31RBOACES24N_2,  AR01,    81,  1,     19,2,19980213,2051, 24.4985, -63.2642, 5843,   1076.6,   6.2410,  35.0300,  35.0310,2,    185.5,2,     185.4,6,    17.10,2,    23.64,2,     0.00,2,     1.57,2, -999.000,9, -999.000,9, -999.000,9, -999.000,9,   -999.0,9,  -999.00,9,   2189.0,6,   2319.3,2,   7.6758,2,   855.3,2,   20.0, -999.00,9,   479.8,  -999.0, -999.00,9
31RBOACES24N_2,  AR01,    81,  1,     18,2,19980213,2051, 24.4985, -63.2642, 5843,   1275.6,   5.1370,  35.0520,  35.0530,2,    234.1,2,     233.9,2,    13.50,2,    19.24,2,     0.00,2,     1.28,2, -999.000,9, -999.000,9, -999.000,9, -999.000,9,   -999.0,9,  -999.00,9,   -999.0,9,   -999.0,9,-999.0000,9,  -999.0,9, -999.0, -999.00,9,  -999.0,  -999.0, -999.00,9
31RBOACES24N_2,  AR01,    81,  1,     17,2,19980213,2051, 24.4985, -63.2642, 5843,   1473.2,   4.5260,  35.0270,  35.0270,2,    253.1,2,     253.3,2,    12.80,2,    18.07,2,     0.00,2,     1.20,2, -999.000,9, -999.000,9, -999.000,9, -999.000,9,   -999.0,9,  -999.00,9,   -999.0,9,   -999.0,9,-999.0000,9,  -999.0,9, -999.0, -999.00,9,  -999.0,  -999.0, -999.00,9
31RBOACES24N_2,  AR01,    81,  1,     16,2,19980213,2051, 24.4985, -63.2642, 5843,   1673.7,   4.1170,  35.0090,  35.0090,2,    260.0,2,     261.4,2,    13.70,2,    17.78,2,     0.00,2,     1.19,2, -999.000,9, -999.000,9, -999.000,9, -999.000,9,   -999.0,9,  -999.00,9,   2162.3,2,   2313.2,2,   7.7351,2,  -999.0,9, -999.0, -999.00,9,  -999.0,  -999.0, -999.00,9
31RBOACES24N_2,  AR01,    81,  1,     15,2,19980213,2051, 24.4985, -63.2642, 5843,   1872.4,   3.8530,  35.0010,  35.0000,2,    262.7,2,     263.6,2,    15.20,2,    17.78,2,     0.00,2,     1.20,2, -999.000,9, -999.000,9, -999.000,9, -999.000,9,   -999.0,9,  -999.00,9,   -999.0,9,   -999.0,9,-999.0000,9,  -999.0,9, -999.0, -999.00,9,  -999.0,  -999.0, -999.00,9
31RBOACES24N_2,  AR01,    81,  1,     14,2,19980213,2051, 24.4985, -63.2642, 5843,   2076.5,   3.6170,  34.9960,  34.9970,2,    260.1,2,     261.5,2,    18.20,2,    18.07,2,     0.00,2,     1.23,2, -999.000,9, -999.000,9, -999.000,9, -999.000,9,   -999.0,9,  -999.00,9,   2165.1,2,   2318.9,2,   7.7405,2,   718.6,2,   20.0, -999.00,9,   353.8,  -999.0, -999.00,9
31RBOACES24N_2,  AR01,    81,  1,     13,2,19980213,2051, 24.4985, -63.2642, 5843,   2275.6,   3.3910,  34.9850,  34.9860,2,    258.2,2,     258.9,2,    21.90,2,    18.66,2,     0.00,2,     1.27,2, -999.000,9, -999.000,9, -999.000,9, -999.000,9,   -999.0,9,  -999.00,9,   -999.0,9,   -999.0,9,-999.0000,9,  -999.0,9, -999.0, -999.00,9,  -999.0,  -999.0, -999.00,9
31RBOACES24N_2,  AR01,    81,  1,     12,2,19980213,2051, 24.4985, -63.2642, 5843,   2476.9,   3.2090,  34.9720,  34.9730,2,    257.3,2,     258.1,2,    25.00,2,    19.05,2,     0.00,2,     1.30,2, -999.000,9, -999.000,9, -999.000,9, -999.000,9,   -999.0,9,  -999.00,9,   -999.0,9,   -999.0,9,-999.0000,9,  -999.0,9, -999.0, -999.00,9,  -999.0,  -999.0, -999.00,9
31RBOACES24N_2,  AR01,    81,  1,     11,2,19980213,2051, 24.4985, -63.2642, 5843,   2676.2,   2.9760,  34.9500,  34.9510,2,    261.4,2,     263.1,2,    25.00,2,    18.66,2,     0.00,2,     1.27,2, -999.000,9, -999.000,9, -999.000,9, -999.000,9,   -999.0,9,  -999.00,9,   2171.2,2,   2324.1,2,   7.7399,2,  -999.0,9, -999.0, -999.00,9,  -999.0,  -999.0, -999.00,9
31RBOACES24N_2,  AR01,    81,  1,     10,2,19980213,2051, 24.4985, -63.2642, 5843,   2875.9,   2.8500,  34.9410,  34.9410,2,    262.1,2,     263.9,2,    26.30,2,    18.76,2,     0.00,2,     1.28,2, -999.000,9, -999.000,9, -999.000,9, -999.000,9,   -999.0,9,  -999.00,9,   -999.0,9,   -999.0,9,-999.0000,9,  -999.0,9, -999.0, -999.00,9,  -999.0,  -999.0, -999.00,9
31RBOACES24N_2,  AR01,    81,  1,      9,2,19980213,2051, 24.4985, -63.2642, 5843,   3075.4,   2.7230,  34.9310,  34.9310,2,    264.4,2,     266.1,2,    27.10,2,    18.56,2,     0.00,2,     1.27,2,    0.110,2,    0.057,2,    0.000,2, -999.000,9,   -999.0,9,  -999.00,9,   2170.4,2,   2328.0,2,   7.7386,2,   720.4,2,   20.0, -999.00,9,   339.0,  -999.0, -999.00,9
31RBOACES24N_2,  AR01,    81,  1,      8,2,19980213,2051, 24.4985, -63.2642, 5843,   3375.7,   2.5550,  34.9180,  34.9180,2,    266.1,2,     266.1,2,    30.10,2,    18.95,2,     0.00,2,     1.30,2,    0.073,6,    0.039,6,    0.006,6, -999.000,9,   -999.0,9,  -999.00,9,   -999.0,9,   -999.0,9,-999.0000,9,  -999.0,9, -999.0, -999.00,9,  -999.0,  -999.0, -999.00,9
31RBOACES24N_2,  AR01,    81,  1,      7,2,19980213,2051, 24.4985, -63.2642, 5843,   3677.6,   2.4330,  34.9100,  34.9090,2,    270.6,2,     271.0,2,    28.10,2,    18.17,2,     0.00,2,     1.25,2,    0.193,2,    0.100,2,    0.009,2, -999.000,9,   -999.0,9,  -999.00,9,   -999.0,9,   -999.0,9,-999.0000,9,  -999.0,9, -999.0, -999.00,9,  -999.0,  -999.0, -999.00,9
31RBOACES24N_2,  AR01,    81,  1,      6,2,19980213,2051, 24.4985, -63.2642, 5843,   3965.8,   2.3580,  34.9030,  34.9040,2,    271.7,2,     271.8,2,    28.90,2,    18.17,2,     0.00,2,     1.26,2,    0.211,2,    0.107,2,    0.015,2, -999.000,9,   -999.0,9,  -999.00,9,   2170.4,2,   2324.3,2,   7.7376,2,   736.2,6,   20.0, -999.00,9,   340.6,  -999.0, -999.00,9
31RBOACES24N_2,  AR01,    81,  1,      5,2,19980213,2051, 24.4985, -63.2642, 5843,   4374.6,   2.2960,  34.8940,  34.8940,2,    268.4,2,     268.6,2,    33.90,2,    18.95,2,     0.00,2,     1.31,2, -999.000,9, -999.000,9, -999.000,9, -999.000,9,   -999.0,9,  -999.00,9,   2175.6,2,   -999.0,9,-999.0000,9,  -999.0,9, -999.0, -999.00,9,  -999.0,  -999.0, -999.00,9
31RBOACES24N_2,  AR01,    81,  1,      4,2,19980213,2051, 24.4985, -63.2642, 5843,   4775.6,   2.2520,  34.8850,  34.8850,2,    267.7,2,     266.5,2,    37.00,2,    19.34,2,     0.00,2,     1.34,2, -999.000,9, -999.000,9, -999.000,9, -999.000,9,   -999.0,9,  -999.00,9,   2180.8,2,   2335.7,2,   7.7301,2,  -999.0,9, -999.0, -999.00,9,  -999.0,  -999.0, -999.00,9
31RBOACES24N_2,  AR01,    81,  1,      3,2,19980213,2051, 24.4985, -63.2642, 5843,   5131.7,   2.1230,  34.8630,  34.8630,2,    259.4,2,     259.6,2,    48.30,2,    21.10,2,     0.00,2,     1.47,2, -999.000,9, -999.000,9, -999.000,9, -999.000,9,   -999.0,9,  -999.00,9,   -999.0,9,   -999.0,9,-999.0000,9,  -999.0,9, -999.0, -999.00,9,  -999.0,  -999.0, -999.00,9
31RBOACES24N_2,  AR01,    81,  1,      2,2,19980213,2051, 24.4985, -63.2642, 5843,   5571.4,   2.0340,  34.8450,  34.8450,2,    253.0,2,     254.4,2,    56.30,2,    22.47,2,     0.00,2,     1.57,2, -999.000,9, -999.000,9, -999.000,9, -999.000,9,   -999.0,9,  -999.00,9,   -999.0,9,   -999.0,9,-999.0000,9,  -999.0,9, -999.0, -999.00,9,  -999.0,  -999.0, -999.00,9
31RBOACES24N_2,  AR01,    81,  1,      1,2,19980213,2051, 24.4985, -63.2642, 5843,   5912.2,   2.0600,  34.8420,  34.8420,2,    251.9,2,     253.7,2,    57.50,6,    22.67,6,     0.00,6,     1.58,6, -999.000,9, -999.000,9, -999.000,9, -999.000,9,   -999.0,9,  -999.00,9,   2204.6,2,   2350.5,2,   7.7056,2,   788.6,2,   20.0, -999.00,9,   357.8,  -999.0, -999.00,9