BOTTLE,20220820CCHSIOAMB
EXPOCODE,SECT_ID,STNNBR,CASTNO,BTLNBR,BTLNBR_FLAG_W,DATE,TIME,LATITUDE,LONGITUDE,DEPTH,CTDPRS,CTDTMP,CTDSAL,SALNTY,SALNTY_FLAG_W,CTDOXY,CTDOXY_FLAG_W,OXYGEN,OXYGEN_FLAG_W,SILCAT,SILCAT_FLAG_W,NITRAT,NITRAT_FLAG_W,NITRIT,NITRIT_FLAG_W,PHSPHT,PHSPHT_FLAG_W,CFC-11,CFC-11_FLAG_W,CFC-12,CFC-12_FLAG_W,CFC113,CFC113_FLAG_W,CCL4,CCL4_FLAG_W,DELC14,DELC14_FLAG_W,DELC13,DELC13_FLAG_W,TCARBN,TCARBN_FLAG_W,ALKALI,ALKALI_FLAG_W,PH,PH_FLAG_W,FCO2,FCO2_FLAG_W,FCO2TMP,TON,TON_FLAG_W,FCO2IN,C14ERR,TOC,TOC_FLAG_W
,,,,,,,,,,,DBAR,ITS-90,PSS-78,PSS-78,,UMOL/KG,,UMOL/KG,,UMOL/KG,,UMOL/KG,,UMOL/KG,,UMOL/KG,,PMOL/KG,,PMOL/KG,,PMOL/KG,,PMOL/KG,,/MILLE,,/MILLE,,UMOL/KG,,UMOL/KG,,,,UATM,,DEG C,UMOL/KG,,UATM,/MILLE,UMOL/KG,
31RBOACES24N_2,  AR01,    50,  1,     36,2,19980205,0528, 24.4995, -43.8332, 3759,      5.2,  24.0300,  37.4950,  37.4940,2,    214.0,2,     213.1,2,     0.40,2,     0.00,2,     0.00,2,  -999.00,5,    1.885,2,    1.089,2,    0.153,2, -999.000,9,     95.4,2,  -999.00,9,   2077.0,6,   2446.7,2,   8.0909,2,   256.0,3,   20.0,    5.84,2,   300.3,     3.3,   82.98,2
31RBOACES24N_2,  AR01,    50,  1,     35,2,19980205,0528, 24.4995, -43.8332, 3759,     44.9,  24.0450,  37.4940,  37.4960,2,    210.3,2,     210.3,2,     0.40,2,     0.00,2,     0.00,2,  -999.00,5,    1.881,2,    1.078,2,    0.178,2, -999.000,9,    107.4,2,  -999.00,9,   2077.3,2,   2457.3,2,   8.0922,2,  -999.0,9, -999.0,    4.60,2,  -999.0,     3.0,   82.79,2
31RBOACES24N_2,  AR01,    50,  1,     34,2,19980205,0528, 24.4995, -43.8332, 3759,     90.6,  22.7480,  37.2390,  37.2290,2,    209.9,2,     216.4,2,     0.40,2,     0.00,2,     0.01,2,  -999.00,5,    2.055,2,    1.170,2,    0.190,2, -999.000,9,     92.2,2,  -999.00,9,   2082.6,2,   2425.1,2,   8.0652,2,   282.6,3,   20.0,    4.18,2,   316.2,     3.6,   79.46,2
31RBOACES24N_2,  AR01,    50,  1,     33,2,19980205,0528, 24.4995, -43.8332, 3759,    137.2,  20.2540,  36.9260,  36.9230,2,    212.9,2,     206.7,2,     0.60,2,     0.68,2,     0.05,2,  -999.00,5,    2.262,2,    1.281,2,    0.138,2, -999.000,9,    105.7,2,  -999.00,9,   2100.4,2,   -999.0,9,   8.0148,2,   329.9,3,   20.0,    4.40,2,   333.2,     3.7,   65.78,2
31RBOACES24N_2,  AR01,    50,  1,     32,2,19980205,0528, 24.4995, -43.8332, 3759,    181.5,  19.2410,  36.7770,  36.7980,2,    192.7,2,     199.9,2,     0.80,2,     2.15,2,     0.01,2,  -999.00,5,    2.270,2,    1.280,2,    0.090,2, -999.000,9,     96.2,2,  -999.00,9,   2105.6,2,   2404.9,2,   7.9951,2,  -999.0,9, -999.0,    5.43,2,  -999.0,     2.9,   63.33,2
31RBOACES24N_2,  AR01,    50,  1,     31,2,19980205,0528, 24.4995, -43.8332, 3759,    225.5,  18.3400,  36.6090,  36.6070,2,    200.4,2,     204.3,2,     1.00,2,     3.32,2,     0.00,2,  -999.00,5,    2.269,2,    1.222,2,    0.000,2, -999.000,9,    106.3,2,  -999.00,9,   2099.7,2,   -999.0,9,   7.9876,2,   359.8,3,   20.0, -999.00,9,   336.5,     4.1,   61.77,2
31RBOACES24N_2,  AR01,    50,  1,     30,2,19980205,0528, 24.4995, -43.8332, 3759,    249.1,  17.8990,  36.5240,  36.5240,2,    202.8,2,     205.3,2,     1.30,2,     4.10,2,     0.00,2,  -999.00,5,    2.310,6,    1.269,6,    0.023,6, -999.000,9,   -999.0,9,  -999.00,9,   2100.5,2,   2398.8,2,   7.9848,2,  -999.0,9, -999.0,    7.34,2,  -999.0,  -999.0,   60.50,2
31RBOACES24N_2,  AR01,    50,  1,     29,2,19980205,0528, 24.4995, -43.8332, 3759,    275.1,  17.6830,  36.4900,  36.4900,2,    201.3,2,     200.2,2,     1.40,2,     4.68,2,     0.00,2,  -999.00,5,    2.400,2,    1.327,2,    0.038,2, -999.000,9,     95.4,2,  -999.00,9,   2103.7,2,   -999.0,9,   7.9704,2,  -999.0,9, -999.0,    7.92,2,  -999.0,     4.1,   59.72,2
31RBOACES24N_2,  AR01,    50,  1,     28,2,19980205,0528, 24.4995, -43.8332, 3759,    301.8,  17.5160,  36.4680,  36.4670,2,    196.8,2,     199.7,2,     1.50,2,     5.17,2,     0.00,2,  -999.00,5,    2.349,2,    1.284,2,    0.038,2, -999.000,9,   -999.0,9,  -999.00,9,   2108.4,2,   -999.0,5,   7.9627,2,   385.4,3,   20.0, -999.00,9,   348.3,  -999.0, -999.00,9
31RBOACES24N_2,  AR01,    50,  1,     27,2,19980205,0528, 24.4995, -43.8332, 3759,    344.0,  16.6450,  36.3260,  36.3430,2,    195.8,2,     195.7,2,     2.00,2,     6.73,2,     0.00,2,  -999.00,5,    2.323,2,    1.266,2,    0.040,2, -999.000,9,     81.1,2,  -999.00,9,   2116.0,2,   -999.0,9,   7.9368,2,  -999.0,9, -999.0,    9.91,2,  -999.0,     3.8,   57.08,2
31RBOACES24N_2,  AR01,    50,  1,     26,2,19980205,0528, 24.4995, -43.8332, 3759,    397.9,  16.0400,  36.2300,  36.2360,2,    193.0,2,     193.2,2,     2.40,2,     8.00,2,     0.00,2,  -999.00,5,    2.313,2,    1.241,2,    0.033,2, -999.000,9,   -999.0,9,  -999.00,9,   2121.3,2,   2368.9,2,   7.9190,2,  -999.0,9, -999.0, -999.00,9,  -999.0,  -999.0, -999.00,9
31RBOACES24N_2,  AR01,    50,  1,     25,2,19980205,0528, 24.4995, -43.8332, 3759,    449.4,  14.7720,  36.0180,  36.0190,2,    189.8,2,     188.1,2,     3.50,2,    10.54,2,     0.00,2,  -999.00,5,    2.173,2,    1.149,2,    0.034,2, -999.000,9,     75.6,2,  -999.00,9,   2129.1,2,   -999.0,9,   7.8776,2,   474.6,3,   20.0, -999.00,9,   383.2,     3.4, -999.00,9
31RBOACES24N_2,  AR01,    50,  1,     24,2,19980205,0528, 24.4995, -43.8332, 3759,    500.7,  14.1070,  35.9210,  35.9200,2,    187.1,2,     186.2,2,     4.00,2,    11.81,2,     0.00,2,  -999.00,5,    2.122,2,    1.109,2,    0.029,2, -999.000,9,     68.2,2,  -999.00,9,   2135.5,2,   2348.1,2,   7.8603,2,  -999.0,9, -999.0, -999.00,9,  -999.0,     2.9, -999.00,9
31RBOACES24N_2,  AR01,    50,  1,     23,2,19980205,0528, 24.4995, -43.8332, 3759,    548.2,  13.3630,  35.8160,  35.8180,2,    184.3,2,     184.5,2,     4.60,2,    13.18,2,     0.00,2,  -999.00,5,    2.001,2,    1.030,2,    0.016,2, -999.000,9,     60.0,2,  -999.00,9,   2140.9,2,   -999.0,9,   7.8311,2,  -999.0,9, -999.0,   16.22,2,  -999.0,     3.5,   55.99,2
31RBOACES24N_2,  AR01,    50,  1,     22,2,19980205,0528, 24.4995, -43.8332, 3759,    600.8,  12.5310,  35.7050,  35.7120,2,    181.9,2,     180.5,2,     5.50,2,    14.74,2,     0.00,2,  -999.00,5,    1.796,2,    0.911,2,    0.017,2, -999.000,9,     46.0,2,  -999.00,9,   2151.2,2,   2340.2,2,   7.8144,2,   573.6,3,   20.0, -999.00,9,   421.7,     3.5, -999.00,9
31RBOACES24N_2,  AR01,    50,  1,     21,2,19980205,0528, 24.4995, -43.8332, 3759,    648.7,  11.6050,  35.5810,  35.5930,2,    178.1,2,     174.9,2,     6.90,2,    16.89,2,     0.00,2,  -999.00,5,    1.464,2,    0.743,2,    0.027,2, -999.000,9,     25.2,2,  -999.00,9,   2158.6,2,   -999.0,9,-999.0000,9,  -999.0,9, -999.0, -999.00,9,  -999.0,     3.1, -999.00,9
31RBOACES24N_2,  AR01,    50,  1,     20,2,19980205,0528, 24.4995, -43.8332, 3759,    700.6,  10.7460,  35.4830,  35.4830,2,    162.8,2,     162.3,2,     9.20,2,    19.82,2,     0.00,2,  -999.00,5,    0.920,6,    0.465,6,    0.009,6, -999.000,9,     -7.2,2,  -999.00,9,   2171.1,2,   2328.9,2,   7.7481,2,   707.3,3,   20.0, -999.00,9,   482.9,     3.5, -999.00,9
31RBOACES24N_2,  AR01,    50,  1,     19,2,19980205,0528, 24.4995, -43.8332, 3759,    753.2,   9.9610,  35.4040,  35.4100,2,    161.2,2,     154.6,2,    10.80,2,    21.29,2,     0.00,2,  -999.00,5,    0.655,2,    0.331,2,    0.009,2, -999.000,9,    -27.9,2,  -999.00,9,   2178.1,2,   -999.0,9,-999.0000,9,   697.4,3,   20.0,   23.63,2,   459.7,     3.6, -999.00,9
31RBOACES24N_2,  AR01,    50,  1,     18,2,19980205,0528, 24.4995, -43.8332, 3759,    801.9,   9.1170,  35.3110,  35.3150,2,    155.4,2,     154.5,2,    13.10,2,    23.24,2,     0.00,2,  -999.00,5,    0.386,2,    0.186,2,    0.006,2, -999.000,9,    -50.6,2,  -999.00,9,   2188.1,2,   2329.6,2,   7.6993,2,   747.9,3,   20.0, -999.00,9,   475.4,     3.3, -999.00,9
31RBOACES24N_2,  AR01,    50,  1,     17,2,19980205,0528, 24.4995, -43.8332, 3759,    853.4,   8.5500,  35.2510,  35.2520,2,    153.6,2,     153.9,2,    14.60,2,    24.22,2,     0.00,2,  -999.00,5,    0.268,2,    0.135,2,    0.015,2, -999.000,9,    -65.4,2,  -999.00,9,   2188.4,2,   -999.0,9,   7.6861,2,  -999.0,9, -999.0, -999.00,9,  -999.0,     3.1, -999.00,9
31RBOACES24N_2,  AR01,    50,  1,     16,2,19980205,0528, 24.4995, -43.8332, 3759,    902.4,   8.0330,  35.1970,  35.1950,2,    156.0,2,     155.9,2,    15.70,2,    24.91,2,     0.00,2,  -999.00,5,    0.193,2,    0.093,2,    0.006,2, -999.000,9,    -64.9,2,  -999.00,9,   2192.2,2,   2319.3,2,   7.6770,2,   795.9,3,   20.0, -999.00,9,   482.8,     2.9,   43.90,2
31RBOACES24N_2,  AR01,    50,  1,     15,2,19980205,0528, 24.4995, -43.8332, 3759,   1101.1,   6.1900,  35.0620,  35.0620,2,    181.4,2,     180.3,2,    18.00,2,    24.81,2,     0.00,2,  -999.00,5,    0.080,2,    0.039,2,    0.000,2, -999.000,9,    -78.1,2,  -999.00,9,   2191.4,6,   -999.0,9,-999.0000,9,  -999.0,9, -999.0, -999.00,9,  -999.0,     3.6, -999.00,9
31RBOACES24N_2,  AR01,    50,  1,     14,2,19980205,0528, 24.4995, -43.8332, 3759,   1302.7,   5.3050,  35.0470,  35.0460,2,    212.5,2,     210.1,2,    16.80,2,    22.37,2,     0.00,2,  -999.00,5,    0.095,2,    0.045,2,    0.003,2, -999.000,9,    -72.5,2,  -999.00,9,   2179.4,2,   2320.6,2,   7.6998,2,  -999.0,9, -999.0, -999.00,9,  -999.0,     2.9, -999.00,9
31RBOACES24N_2,  AR01,    50,  1,     13,2,19980205,0528, 24.4995, -43.8332, 3759,   1500.1,   4.9470,  35.0730,  35.0720,2,    231.7,2,     229.0,2,    16.00,2,    20.61,2,     0.00,2,  -999.00,5, -999.000,9, -999.000,9, -999.000,9, -999.000,9,   -101.6,2,  -999.00,9,   2173.2,2,   -999.0,9,-999.0000,9,   712.3,3,   20.0,   23.35,2,   373.5,     2.9,   42.33,2
31RBOACES24N_2,  AR01,    50,  1,     12,2,19980205,0528, 24.4995, -43.8332, 3759,   1700.7,   4.4760,  35.0670,  35.0660,2,    242.5,2,     239.5,2,    17.50,2,    19.93,2,     0.00,2,  -999.00,5,    0.095,2,    0.049,2,    0.000,2, -999.000,9,    -82.1,2,  -999.00,9,   2170.5,2,   2319.4,2,   7.7284,2,  -999.0,9, -999.0, -999.00,9,  -999.0,     2.9, -999.00,9
31RBOACES24N_2,  AR01,    50,  1,     11,2,19980205,0528, 24.4995, -43.8332, 3759,   1900.4,   4.0510,  35.0400,  35.0400,2,    247.2,2,     246.0,2,    19.60,2,    19.83,2,     0.00,2,  -999.00,5, -999.000,9, -999.000,9, -999.000,9, -999.000,9,    -87.4,2,  -999.00,9,   2170.5,2,   -999.0,9,-999.0000,9,  -999.0,9, -999.0, -999.00,9,  -999.0,     3.1, -999.00,9
31RBOACES24N_2,  AR01,    50,  1,     10,2,19980205,0528, 24.4995, -43.8332, 3759,   2099.4,   3.5910,  35.0060,  35.0060,2,    250.1,2,     251.5,2,    23.00,2,    19.93,2,     0.00,2,  -999.00,5,    0.041,2,    0.023,2,    0.000,2, -999.000,9,    -99.9,2,  -999.00,9,   2171.9,2,   2325.5,2,   7.7318,2,   694.1,3,   20.0, -999.00,9,   340.3,     3.1, -999.00,9
31RBOACES24N_2,  AR01,    50,  1,      9,2,19980205,0528, 24.4995, -43.8332, 3759,   2300.2,   3.3300,  34.9840,  34.9850,2,    249.5,2,     251.0,2,    25.90,2,    20.12,2,     0.00,2,  -999.00,5,    0.022,2,    0.012,2,    0.002,2, -999.000,9,    -82.8,2,  -999.00,9,   2173.5,2,   -999.0,9,-999.0000,9,  -999.0,9, -999.0, -999.00,9,  -999.0,     2.6,   42.03,2
31RBOACES24N_2,  AR01,    50,  1,      8,9,19980205,0528, 24.4995, -43.8332, 3759,   2499.5,   3.1030,  34.9670,-999.0000,9,    251.3,2,    -999.0,9,  -999.00,9,  -999.00,9,  -999.00,9,  -999.00,9, -999.000,9, -999.000,9, -999.000,9, -999.000,9,   -999.0,9,  -999.00,9,   -999.0,9,   -999.0,9,-999.0000,9,  -999.0,9, -999.0, -999.00,9,  -999.0,  -999.0, -999.00,9
31RBOACES24N_2,  AR01,    50,  1,      7,2,19980205,0528, 24.4995, -43.8332, 3759,   2700.2,   2.9030,  34.9510,  34.9520,2,    250.2,2,     249.8,2,    32.20,2,    20.71,2,     0.00,2,  -999.00,5, -999.000,9, -999.000,9, -999.000,9, -999.000,9,   -105.4,2,  -999.00,9,   2183.0,2,   -999.0,9,-999.0000,9,  -999.0,9, -999.0, -999.00,9,  -999.0,     2.8, -999.00,9
31RBOACES24N_2,  AR01,    50,  1,      6,2,19980205,0528, 24.4995, -43.8332, 3759,   2900.1,   2.7550,  34.9390,  34.9380,2,    249.3,2,     248.7,2,    35.10,2,    21.10,2,     0.00,2,  -999.00,5,    0.003,2,   -0.001,2,    0.002,2, -999.000,9,   -110.3,2,  -999.00,9,   2186.7,2,   -999.0,5,   7.7293,2,  -999.0,9, -999.0, -999.00,9,  -999.0,     3.1, -999.00,9
31RBOACES24N_2,  AR01,    50,  1,      5,2,19980205,0528, 24.4995, -43.8332, 3759,   3091.6,   2.6520,  34.9270,  34.9280,2,    250.8,2,     249.7,2,    37.20,2,    21.20,2,     0.00,2,  -999.00,5, -999.000,9, -999.000,9, -999.000,9, -999.000,9,   -107.6,2,  -999.00,9,   2187.9,2,   -999.0,9,-999.0000,9,   704.4,3,   20.0, -999.00,9,   328.9,     2.5,   41.74,2
31RBOACES24N_2,  AR01,    50,  1,      4,2,19980205,0528, 24.4995, -43.8332, 3759,   3349.5,   2.5740,  34.9190,  34.9180,2,    248.2,2,     250.0,2,    39.20,2,    21.39,2,     0.00,2,  -999.00,5,    0.002,2,    0.000,2,    0.002,2, -999.000,9,   -999.0,9,  -999.00,9,   2189.8,2,   2342.1,2,   7.7353,2,  -999.0,9, -999.0, -999.00,9,  -999.0,  -999.0, -999.00,9
31RBOACES24N_2,  AR01,    50,  1,      3,2,19980205,0528, 24.4995, -43.8332, 3759,   3595.4,   2.5500,  34.9140,  34.9140,2,    247.1,2,     251.5,2,    40.00,2,    21.39,2,     0.00,2,  -999.00,5,    0.003,2,    0.001,2,    0.002,2, -999.000,9,   -999.0,9,  -999.00,9,   2190.3,2,   -999.0,9,-999.0000,9,  -999.0,9, -999.0, -999.00,9,  -999.0,  -999.0, -999.00,9
31RBOACES24N_2,  AR01,    50,  1,      1,2,19980205,0528, 24.4995, -43.8332, 3759,   3799.5,   2.5430,  34.9100,  34.9110,2,    245.4,2,     250.5,6,    40.50,6,    21.49,6,     0.00,6,  -999.00,5,    0.001,6,    0.001,6,    0.001,2, -999.000,9,   -999.0,9,  -999.00,9,   2191.5,2,   2348.3,2,-999.0000,9,   764.4,3,   20.0, -999.00,9,   356.2,  -999.0,   41.64,2
31RBOACES24N_2,  AR01,    50,  1,      2,2,19980205,0528, 24.4995, -43.8332, 3759,   3799.7,   2.5420,  34.9110,-999.0000,9,    245.5,2,    -999.0,9,  -999.00,9,  -999.00,9,  -999.00,9,  -999.00,9, -999.000,1, -999.000,1, -999.000,1, -999.000,9,   -999.0,9,  -999.00,9,   -999.0,9,   -999.0,9,-999.0000,9,  -999.0,9, -999.0, -999.00,9,  -999.0,  -999.0, -999.00,9