BOTTLE,20220820CCHSIOAMB
EXPOCODE,SECT_ID,STNNBR,CASTNO,BTLNBR,BTLNBR_FLAG_W,DATE,TIME,LATITUDE,LONGITUDE,DEPTH,CTDPRS,CTDTMP,CTDSAL,SALNTY,SALNTY_FLAG_W,CTDOXY,CTDOXY_FLAG_W,OXYGEN,OXYGEN_FLAG_W,SILCAT,SILCAT_FLAG_W,NITRAT,NITRAT_FLAG_W,NITRIT,NITRIT_FLAG_W,PHSPHT,PHSPHT_FLAG_W,CFC-11,CFC-11_FLAG_W,CFC-12,CFC-12_FLAG_W,CFC113,CFC113_FLAG_W,CCL4,CCL4_FLAG_W,DELC14,DELC14_FLAG_W,DELC13,DELC13_FLAG_W,TCARBN,TCARBN_FLAG_W,ALKALI,ALKALI_FLAG_W,PH,PH_FLAG_W,FCO2,FCO2_FLAG_W,FCO2TMP,TON,TON_FLAG_W,FCO2IN,C14ERR,TOC,TOC_FLAG_W
,,,,,,,,,,,DBAR,ITS-90,PSS-78,PSS-78,,UMOL/KG,,UMOL/KG,,UMOL/KG,,UMOL/KG,,UMOL/KG,,UMOL/KG,,PMOL/KG,,PMOL/KG,,PMOL/KG,,PMOL/KG,,/MILLE,,/MILLE,,UMOL/KG,,UMOL/KG,,,,UATM,,DEG C,UMOL/KG,,UATM,/MILLE,UMOL/KG,
31RBOACES24N_2,  AR01,    54,  1,     36,2,19980206,0152, 24.5000, -46.0337, 2724,      4.9,  24.1780,  37.4560,  37.4560,2,    214.5,2,     211.6,2,     1.10,2,     0.00,2,     0.00,2,     0.00,2,    1.874,2,    1.077,2,    0.151,2, -999.000,9,   -999.0,9,     1.49,2,   2075.1,2,   -999.0,9,   8.0977,2,   272.3,3,   20.0, -999.00,9,   321.1,  -999.0,   73.53,2
31RBOACES24N_2,  AR01,    54,  1,     35,2,19980206,0152, 24.5000, -46.0337, 2724,     39.8,  24.1870,  37.4560,  37.4610,2,    211.5,2,     211.7,2,     1.00,2,     0.00,2,     0.00,2,     0.01,2,    1.889,2,    1.083,2,    0.159,2, -999.000,9,   -999.0,9,  -999.00,9,   2072.8,6,   2444.6,2,   8.1014,2,  -999.0,9, -999.0, -999.00,9,  -999.0,  -999.0,   71.97,2
31RBOACES24N_2,  AR01,    54,  1,     34,2,19980206,0152, 24.5000, -46.0337, 2724,     80.7,  24.1720,  37.4720,  37.4010,2,    215.2,2,     212.8,2,     0.80,2,     0.00,2,     0.00,2,     0.01,2,    1.937,6,    1.105,6,    0.182,6, -999.000,9,   -999.0,9,  -999.00,9,   2080.4,2,   2441.0,2,   8.0857,2,   278.9,3,   20.0, -999.00,9,   328.8,  -999.0,   69.05,2
31RBOACES24N_2,  AR01,    54,  1,     33,2,19980206,0152, 24.5000, -46.0337, 2724,    120.8,  21.4370,  37.0860,  37.0870,2,    208.7,2,     213.2,2,     0.80,2,     0.10,2,     0.06,2,     0.02,2,    2.187,2,    1.228,2,    0.149,2, -999.000,9,   -999.0,9,  -999.00,9,   2097.8,2,   -999.0,9,   8.0362,2,   316.1,3,   20.0, -999.00,9,   334.7,  -999.0,   58.97,2
31RBOACES24N_2,  AR01,    54,  1,     32,2,19980206,0152, 24.5000, -46.0337, 2724,    170.6,  19.4790,  36.8280,  36.8220,2,    197.8,2,     199.8,2,     1.00,2,     1.95,2,     0.01,2,     0.08,2,    2.306,2,    1.284,2,    0.086,2, -999.000,9,   -999.0,9,  -999.00,9,   2109.7,2,   2398.5,2,-999.0000,9,  -999.0,9, -999.0, -999.00,9,  -999.0,  -999.0,   54.27,2
31RBOACES24N_2,  AR01,    54,  1,     31,2,19980206,0152, 24.5000, -46.0337, 2724,    216.3,  18.4260,  36.6210,  36.6210,2,    198.7,2,     200.6,2,     1.20,2,     3.41,2,     0.01,2,     0.15,2,    2.321,2,    1.298,2,    0.040,2, -999.000,9,   -999.0,9,  -999.00,9,   2106.4,2,   -999.0,9,-999.0000,9,   365.8,3,   20.0, -999.00,9,   343.0,  -999.0,   53.49,2
31RBOACES24N_2,  AR01,    54,  1,     30,2,19980206,0152, 24.5000, -46.0337, 2724,    230.0,  18.1950,  36.5790,  36.5820,2,    198.7,2,     200.9,2,     1.20,2,     3.80,2,     0.01,2,     0.17,2,    2.346,2,    1.298,2,    0.038,2, -999.000,9,   -999.0,9,  -999.00,9,   2106.6,2,   2387.1,2,-999.0000,9,  -999.0,9, -999.0, -999.00,9,  -999.0,  -999.0, -999.00,9
31RBOACES24N_2,  AR01,    54,  1,     29,2,19980206,0152, 24.5000, -46.0337, 2724,    260.2,  17.8070,  36.5110,  36.5100,2,    200.0,2,     200.2,2,     1.50,2,     4.68,2,     0.01,2,     0.23,2,    2.314,2,    1.277,2,    0.037,2, -999.000,9,   -999.0,9,  -999.00,9,   2110.0,2,   -999.0,9,-999.0000,9,  -999.0,9, -999.0, -999.00,9,  -999.0,  -999.0,   51.34,2
31RBOACES24N_2,  AR01,    54,  1,     28,2,19980206,0152, 24.5000, -46.0337, 2724,    285.4,  17.4120,  36.4500,  36.4580,2,    199.2,2,     196.6,2,     1.60,2,     5.56,2,     0.00,2,     0.28,2,    2.306,6,    1.262,6,    0.031,6, -999.000,9,   -999.0,9,  -999.00,9,   2114.6,2,   -999.0,5,   7.9622,2,   396.5,3,   20.0, -999.00,9,   356.9,  -999.0, -999.00,9
31RBOACES24N_2,  AR01,    54,  1,     27,2,19980206,0152, 24.5000, -46.0337, 2724,    320.3,  16.8040,  36.3520,  36.3600,2,    193.8,2,     190.0,2,     2.00,2,     7.22,2,     0.00,2,     0.37,2,    2.292,2,    1.236,2,    0.031,2, -999.000,9,   -999.0,9,  -999.00,9,   2122.7,2,   -999.0,9,-999.0000,9,  -999.0,9, -999.0, -999.00,9,  -999.0,  -999.0,   47.05,2
31RBOACES24N_2,  AR01,    54,  1,     26,2,19980206,0152, 24.5000, -46.0337, 2724,    369.7,  15.9410,  36.1980,  36.2040,2,    186.7,2,     181.7,2,     2.70,2,     9.37,2,     0.00,2,     0.51,2,    2.111,2,    1.123,2,    0.030,2, -999.000,9,   -999.0,9,  -999.00,9,   2131.7,2,   2367.8,2,   7.9001,2,  -999.0,9, -999.0, -999.00,9,  -999.0,  -999.0, -999.00,9
31RBOACES24N_2,  AR01,    54,  1,     25,2,19980206,0152, 24.5000, -46.0337, 2724,    420.5,  15.3330,  36.0970,  36.0970,2,    181.5,2,     179.7,2,     3.10,2,    10.64,2,     0.00,2,     0.59,2,    2.069,2,    1.083,2,    0.031,2, -999.000,9,   -999.0,9,  -999.00,9,   2137.0,2,   -999.0,9,-999.0000,9,   486.4,3,   20.0, -999.00,9,   402.2,  -999.0,   46.26,2
31RBOACES24N_2,  AR01,    54,  1,     24,2,19980206,0152, 24.5000, -46.0337, 2724,    471.4,  14.4160,  35.9510,  35.9530,2,    178.0,2,     176.5,2,     4.10,2,    12.30,2,     0.00,2,     0.70,2,    1.952,2,    1.005,2,    0.024,2, -999.000,9,   -999.0,9,  -999.00,9,   2139.9,2,   2359.4,2,   7.8549,2,  -999.0,9, -999.0, -999.00,9,  -999.0,  -999.0, -999.00,9
31RBOACES24N_2,  AR01,    54,  1,     23,2,19980206,0152, 24.5000, -46.0337, 2724,    515.9,  13.5590,  35.8160,  35.8310,2,    175.7,2,     174.6,2,     4.90,2,    13.76,2,     0.00,2,     0.80,2,    1.751,2,    0.915,2,    0.019,2, -999.000,9,   -999.0,9,  -999.00,9,   2145.8,2,   -999.0,9,-999.0000,9,  -999.0,9, -999.0, -999.00,9,  -999.0,  -999.0,   44.89,2
31RBOACES24N_2,  AR01,    54,  1,     22,2,19980206,0152, 24.5000, -46.0337, 2724,    620.7,  11.7240,  35.5790,  35.5840,2,    171.6,2,     168.5,2,     7.20,2,    17.47,2,     0.00,2,     1.04,2,    1.211,2,    0.619,2,    0.017,2, -999.000,9,   -999.0,9,  -999.00,9,   2157.3,2,   2335.4,2,   7.7773,2,   654.9,3,   20.0, -999.00,9,   466.1,  -999.0, -999.00,9
31RBOACES24N_2,  AR01,    54,  1,     21,3,19980206,0152, 24.5000, -46.0337, 2724,    718.7,  10.2050,  35.3970,  35.4010,2,    160.5,2,     158.6,2,    10.30,2,    21.09,2,     0.00,2,     1.29,2,    0.652,2,    0.341,2,    0.006,2, -999.000,9,   -999.0,9,  -999.00,9,   2173.9,2,   -999.0,9,-999.0000,9,  -999.0,9, -999.0, -999.00,9,  -999.0,  -999.0,   44.39,2
31RBOACES24N_2,  AR01,    54,  1,     20,2,19980206,0152, 24.5000, -46.0337, 2724,    819.1,   8.4260,  35.1960,  35.2000,2,    151.3,2,     150.6,2,    14.70,2,    24.90,2,     0.00,2,     1.58,2,    0.245,2,    0.127,2,    0.003,2, -999.000,9,   -999.0,9,  -999.00,9,   2189.8,2,   2327.1,2,   7.6764,2,   826.9,2,   20.0, -999.00,9,   511.3,  -999.0, -999.00,9
31RBOACES24N_2,  AR01,    54,  1,     19,2,19980206,0152, 24.5000, -46.0337, 2724,    919.9,   7.1330,  35.0600,  35.0590,2,    155.3,2,     155.6,2,    17.90,2,    26.56,2,     0.00,2,     1.72,2,    0.103,2,    0.061,2,    0.006,2, -999.000,9,   -999.0,9,  -999.00,9,   2195.3,2,   -999.0,9,   7.6549,2,   899.5,2,   20.0, -999.00,9,   526.3,  -999.0,   41.46,2
31RBOACES24N_2,  AR01,    54,  1,     18,2,19980206,0152, 24.5000, -46.0337, 2724,   1018.5,   6.3650,  35.0030,  35.0020,2,    165.6,2,     165.4,2,    18.80,2,    26.56,2,     0.00,2,     1.73,2,    0.073,2,    0.039,2,    0.004,2, -999.000,9,   -999.0,9,  -999.00,9,   2196.6,6,   2317.9,2,   7.6490,2,   905.8,2,   20.0, -999.00,9,   512.1,  -999.0, -999.00,9
31RBOACES24N_2,  AR01,    54,  1,     17,2,19980206,0152, 24.5000, -46.0337, 2724,   1119.1,   5.8430,  35.0080,  35.0060,2,    181.9,2,     184.2,2,    17.90,2,    24.81,2,     0.00,2,     1.64,2, -999.000,9, -999.000,9, -999.000,9, -999.000,9,   -999.0,9,  -999.00,9,   2190.6,2,   -999.0,9,   7.6697,2,  -999.0,9, -999.0, -999.00,9,  -999.0,  -999.0,   41.65,2
31RBOACES24N_2,  AR01,    54,  1,     16,2,19980206,0152, 24.5000, -46.0337, 2724,   1211.7,   5.4990,  35.0240,  35.0240,2,    201.2,2,     200.7,2,    16.70,2,    23.24,2,     0.00,2,     1.53,2,    0.109,6,    0.056,6,    0.005,6, -999.000,9,   -999.0,9,  -999.00,9,   2183.5,2,   2320.7,2,   7.6864,2,   799.4,3,   20.0, -999.00,9,   432.1,  -999.0, -999.00,9
31RBOACES24N_2,  AR01,    54,  1,     15,2,19980206,0152, 24.5000, -46.0337, 2724,   1317.8,   5.1600,  35.0380,  35.0360,2,    218.5,2,     217.5,2,    15.80,2,    21.68,2,     0.00,2,     1.42,2, -999.000,9, -999.000,9, -999.000,9, -999.000,9,   -999.0,9,  -999.00,9,   2175.3,2,   -999.0,9,-999.0000,9,  -999.0,9, -999.0, -999.00,9,  -999.0,  -999.0,   41.55,2
31RBOACES24N_2,  AR01,    54,  1,     14,3,19980206,0152, 24.5000, -46.0337, 2724,   1421.0,   5.0110,  35.0710,  35.0700,2,    227.0,2,     226.6,2,    15.50,2,    20.70,2,     0.00,2,     1.35,2,    0.122,2,    0.070,2,    0.011,2, -999.000,9,   -999.0,9,  -999.00,9,   2173.1,2,   2319.5,2,   7.7146,2,  -999.0,9, -999.0, -999.00,9,  -999.0,  -999.0, -999.00,9
31RBOACES24N_2,  AR01,    54,  1,     13,2,19980206,0152, 24.5000, -46.0337, 2724,   1520.1,   4.7730,  35.0790,  35.0790,2,    233.8,2,     233.9,2,    16.00,2,    20.12,2,     0.00,2,     1.31,2, -999.000,9, -999.000,9, -999.000,9, -999.000,9,   -999.0,9,  -999.00,9,   2171.1,2,   -999.0,9,-999.0000,9,  -999.0,9, -999.0, -999.00,9,  -999.0,  -999.0,   44.56,3
31RBOACES24N_2,  AR01,    54,  1,     12,2,19980206,0152, 24.5000, -46.0337, 2724,   1620.7,   4.5600,  35.0710,  35.0710,2,    237.3,2,     237.6,2,    16.80,2,    19.92,2,     0.00,2,     1.31,2,    0.105,2,    0.062,2,    0.009,2, -999.000,9,   -999.0,9,  -999.00,9,   2171.0,2,   2325.1,2,   7.7194,2,   719.1,3,   20.0, -999.00,9,   370.4,  -999.0, -999.00,9
31RBOACES24N_2,  AR01,    54,  1,     11,2,19980206,0152, 24.5000, -46.0337, 2724,   1717.4,   4.3500,  35.0610,  35.0610,2,    241.1,2,     239.7,2,    17.40,2,    19.83,2,     0.00,2,     1.30,2, -999.000,9, -999.000,9, -999.000,9, -999.000,9,   -999.0,9,  -999.00,9,   2170.8,2,   -999.0,9,-999.0000,9,  -999.0,9, -999.0, -999.00,9,  -999.0,  -999.0,   41.64,2
31RBOACES24N_2,  AR01,    54,  1,     10,2,19980206,0152, 24.5000, -46.0337, 2724,   1821.8,   4.1210,  35.0450,  35.0470,2,    243.9,2,     243.5,2,    18.80,2,    19.83,2,     0.00,2,     1.31,2,    0.074,2,    0.041,2,    0.006,2, -999.000,9,   -999.0,9,  -999.00,9,   2170.6,2,   2322.8,2,   7.7311,2,  -999.0,9, -999.0, -999.00,9,  -999.0,  -999.0, -999.00,9
31RBOACES24N_2,  AR01,    54,  1,      9,2,19980206,0152, 24.5000, -46.0337, 2724,   1920.4,   3.8980,  35.0280,  35.0280,2,    245.5,2,     246.0,2,    20.00,2,    19.83,2,     0.00,2,     1.32,2, -999.000,9, -999.000,9, -999.000,9, -999.000,9,   -999.0,9,  -999.00,9,   2171.6,2,   -999.0,9,-999.0000,9,  -999.0,9, -999.0, -999.00,9,  -999.0,  -999.0,   41.35,2
31RBOACES24N_2,  AR01,    54,  1,      8,2,19980206,0152, 24.5000, -46.0337, 2724,   2017.7,   3.7190,  35.0130,  35.0140,2,    247.6,2,     247.4,2,    21.40,2,    19.92,2,     0.00,2,     1.33,2,    0.038,2,    0.023,2,    0.005,2, -999.000,9,   -999.0,9,  -999.00,9,   2171.8,2,   -999.0,9,   7.7367,2,  -999.0,9, -999.0, -999.00,9,  -999.0,  -999.0, -999.00,9
31RBOACES24N_2,  AR01,    54,  1,      7,2,19980206,0152, 24.5000, -46.0337, 2724,   2109.1,   3.6320,  35.0060,  35.0060,2,    248.4,2,     248.1,2,    22.50,2,    19.92,2,     0.00,2,     1.33,2, -999.000,9, -999.000,9, -999.000,9, -999.000,9,   -999.0,9,  -999.00,9,   2172.5,2,   -999.0,9,-999.0000,9,  -999.0,9, -999.0, -999.00,9,  -999.0,  -999.0,   41.35,2
31RBOACES24N_2,  AR01,    54,  1,      6,2,19980206,0152, 24.5000, -46.0337, 2724,   2213.7,   3.4120,  34.9920,  34.9920,2,    249.2,2,     249.2,2,    24.80,2,    20.02,2,     0.00,2,     1.34,2,    0.021,2,    0.018,2,    0.006,2, -999.000,9,   -999.0,9,  -999.00,9,   2174.1,2,   2328.4,2,   7.7331,2,   714.2,3,   20.0, -999.00,9,   347.4,  -999.0,   41.45,2
31RBOACES24N_2,  AR01,    54,  1,      5,2,19980206,0152, 24.5000, -46.0337, 2724,   2319.4,   3.2140,  34.9770,  34.9770,2,    249.9,2,     250.2,2,    27.00,2,    20.22,2,     0.00,2,     1.35,2, -999.000,9, -999.000,9, -999.000,9, -999.000,9,   -999.0,9,  -999.00,9,   2176.3,2,   -999.0,9,-999.0000,9,  -999.0,9, -999.0, -999.00,9,  -999.0,  -999.0,   41.25,2
31RBOACES24N_2,  AR01,    54,  1,      4,2,19980206,0152, 24.5000, -46.0337, 2724,   2413.1,   3.0880,  34.9670,  34.9670,2,    251.5,2,     251.1,2,    28.90,2,    20.31,2,     0.00,2,     1.36,2,    0.023,6,    0.015,6,    0.001,6, -999.000,9,   -999.0,9,  -999.00,9,   2178.2,2,   -999.0,9,   7.7319,2,  -999.0,9, -999.0, -999.00,9,  -999.0,  -999.0,   41.25,2
31RBOACES24N_2,  AR01,    54,  1,      3,2,19980206,0152, 24.5000, -46.0337, 2724,   2517.8,   3.0310,  34.9610,  34.9610,2,    251.7,2,     251.3,2,    29.60,2,    20.31,2,     0.00,2,     1.37,2, -999.000,9, -999.000,9, -999.000,9, -999.000,9,   -999.0,9,  -999.00,9,   2180.3,2,   -999.0,9,-999.0000,9,  -999.0,9, -999.0, -999.00,9,  -999.0,  -999.0,   41.35,2
31RBOACES24N_2,  AR01,    54,  1,      2,2,19980206,0152, 24.5000, -46.0337, 2724,   2620.1,   2.9260,  34.9520,  34.9520,2,    251.8,2,     251.4,2,    31.30,2,    20.51,2,     0.00,2,     1.38,2,    0.020,2,    0.013,2,    0.005,2, -999.000,9,   -999.0,9,  -999.00,9,   2182.7,2,   -999.0,9,-999.0000,9,  -999.0,9, -999.0, -999.00,9,  -999.0,  -999.0,   41.25,2
31RBOACES24N_2,  AR01,    54,  1,      1,2,19980206,0152, 24.5000, -46.0337, 2724,   2765.2,   2.8550,  34.9450,  34.9460,2,    251.8,2,     251.9,2,    32.50,6,    20.61,2,     0.00,6,     1.38,6,    0.017,2,    0.009,2,    0.004,2, -999.000,9,   -999.0,9,  -999.00,9,   2183.3,2,   2335.9,2,   7.7333,2,   739.0,3,   20.0, -999.00,9,   349.7,  -999.0,   41.25,2