BOTTLE,20220820CCHSIOAMB
EXPOCODE,SECT_ID,STNNBR,CASTNO,BTLNBR,BTLNBR_FLAG_W,DATE,TIME,LATITUDE,LONGITUDE,DEPTH,CTDPRS,CTDTMP,CTDSAL,SALNTY,SALNTY_FLAG_W,CTDOXY,CTDOXY_FLAG_W,OXYGEN,OXYGEN_FLAG_W,SILCAT,SILCAT_FLAG_W,NITRAT,NITRAT_FLAG_W,NITRIT,NITRIT_FLAG_W,PHSPHT,PHSPHT_FLAG_W,CFC-11,CFC-11_FLAG_W,CFC-12,CFC-12_FLAG_W,CFC113,CFC113_FLAG_W,CCL4,CCL4_FLAG_W,DELC14,DELC14_FLAG_W,DELC13,DELC13_FLAG_W,TCARBN,TCARBN_FLAG_W,ALKALI,ALKALI_FLAG_W,PH,PH_FLAG_W,FCO2,FCO2_FLAG_W,FCO2TMP,TON,TON_FLAG_W,FCO2IN,C14ERR,TOC,TOC_FLAG_W
,,,,,,,,,,,DBAR,ITS-90,PSS-78,PSS-78,,UMOL/KG,,UMOL/KG,,UMOL/KG,,UMOL/KG,,UMOL/KG,,UMOL/KG,,PMOL/KG,,PMOL/KG,,PMOL/KG,,PMOL/KG,,/MILLE,,/MILLE,,UMOL/KG,,UMOL/KG,,,,UATM,,DEG C,UMOL/KG,,UATM,/MILLE,UMOL/KG,
31RBOACES24N_2,  AR01,    38,  1,     36,2,19980202,0207, 24.4998, -36.0328, 5639,      3.5,  23.3450,  37.5140,  37.5140,2,    215.4,2,     214.6,2,     0.20,2,     0.00,2,     0.00,2,  -999.00,5,    1.915,2,    1.116,2,    0.154,2, -999.000,9,    107.7,2,  -999.00,9,   2090.6,6,   2461.7,2,   8.0797,2,   301.0,2,   20.0,    4.38,2,   343.6,     4.2,   70.10,2
31RBOACES24N_2,  AR01,    38,  1,     35,2,19980202,0207, 24.4998, -36.0328, 5639,     49.5,  23.2370,  37.4990,  37.5010,2,    213.9,2,     214.9,2,     0.20,2,     0.00,2,     0.00,2,  -999.00,5,    1.940,2,    1.113,2,    0.161,2, -999.000,9,     93.8,2,  -999.00,9,   2093.5,2,   2452.9,2,   8.0796,2,   300.4,2,   20.0,    4.53,2,   341.5,     3.3,   70.29,2
31RBOACES24N_2,  AR01,    38,  1,     34,2,19980202,0207, 24.4998, -36.0328, 5639,     99.8,  22.6440,  37.3370,  37.3470,2,    215.0,2,     217.5,2,     0.30,2,     0.00,2,     0.00,2,  -999.00,5,    2.030,2,    1.151,2,    0.165,2, -999.000,9,     81.0,2,  -999.00,9,   2088.8,2,   2437.9,2,   8.0680,2,   307.6,2,   20.0,    4.50,2,   341.5,     5.2,   69.89,2
31RBOACES24N_2,  AR01,    38,  1,     33,2,19980202,0207, 24.4998, -36.0328, 5639,    150.4,  20.0600,  36.9670,  36.9660,2,    209.3,2,     209.9,2,     0.40,2,     0.59,2,     0.02,2,  -999.00,5,    2.256,2,    1.286,2,    0.138,2, -999.000,9,    107.4,2,  -999.00,9,   2104.8,2,   2413.6,2,   8.0028,2,   360.8,2,   20.0,    4.72,2,   361.7,     3.1,   58.66,2
31RBOACES24N_2,  AR01,    38,  1,     32,2,19980202,0207, 24.4998, -36.0328, 5639,    198.2,  18.7720,  36.7460,  36.7470,2,    185.9,2,     182.9,2,     1.10,2,     5.07,2,     0.01,2,  -999.00,5,    2.258,2,    1.267,2,    0.060,2, -999.000,9,    107.5,2,  -999.00,9,   2128.5,2,   2398.5,2,   7.9490,2,   425.5,2,   20.0,    8.52,2,   405.0,     3.6,   55.14,2
31RBOACES24N_2,  AR01,    38,  1,     31,2,19980202,0207, 24.4998, -36.0328, 5639,    222.7,  18.2090,  36.6440,  36.6430,2,    190.6,2,     194.1,2,     1.10,2,     4.49,2,     0.01,2,  -999.00,5, -999.000,9, -999.000,9, -999.000,9, -999.000,9,   -999.0,9,  -999.00,9,   2119.1,2,   2394.1,2,   7.9586,2,   419.9,2,   20.0,    8.08,2,   390.6,  -999.0,   53.97,2
31RBOACES24N_2,  AR01,    38,  1,     30,2,19980202,0207, 24.4998, -36.0328, 5639,    247.1,  17.6190,  36.5350,  36.5400,2,    189.6,2,     193.4,2,     1.40,2,     5.27,2,     0.01,2,  -999.00,5,    2.375,6,    1.315,6,    0.038,6, -999.000,9,     94.5,2,  -999.00,9,   2119.5,2,   2386.6,2,   7.9488,2,   424.8,2,   20.0,    8.82,2,   385.7,     3.0,   53.38,2
31RBOACES24N_2,  AR01,    38,  1,     29,2,19980202,0207, 24.4998, -36.0328, 5639,    273.4,  17.0750,  36.4270,  36.4250,2,    176.9,2,     181.1,2,     1.90,2,     7.71,2,     0.01,2,  -999.00,5, -999.000,9, -999.000,9, -999.000,9, -999.000,9,     98.5,2,  -999.00,9,   2133.6,2,   2379.6,2,   7.9141,2,   461.1,2,   20.0,   11.24,2,   409.6,     2.9,   52.02,2
31RBOACES24N_2,  AR01,    38,  1,     28,2,19980202,0207, 24.4998, -36.0328, 5639,    300.5,  16.5250,  36.3360,  36.3370,2,    175.2,2,     179.5,2,     2.20,2,     8.59,2,     0.00,2,  -999.00,5,    2.320,2,    1.264,2,    0.033,2, -999.000,9,     91.6,2,  -999.00,9,   2135.3,2,   2375.1,2,   7.9018,2,   478.6,2,   20.0, -999.00,9,   415.9,     3.3, -999.00,9
31RBOACES24N_2,  AR01,    38,  1,     27,2,19980202,0207, 24.4998, -36.0328, 5639,    352.2,  15.5770,  36.1710,  36.1840,2,    179.4,2,     183.1,2,     2.70,2,     9.57,2,     0.00,2,  -999.00,5,    2.281,2,    1.219,2,    0.025,2, -999.000,9,     80.8,2,  -999.00,9,   2136.2,2,   2366.5,2,   7.8898,2,   492.8,2,   20.0,   12.89,2,   411.6,     3.4,   49.87,2
31RBOACES24N_2,  AR01,    38,  1,     26,2,19980202,0207, 24.4998, -36.0328, 5639,    401.0,  14.6710,  36.0110,  36.0150,2,    189.7,2,     185.4,2,     3.40,2,    10.84,2,     0.00,2,  -999.00,5,    2.164,2,    1.146,2,    0.031,2, -999.000,9,     70.0,2,  -999.00,9,   2137.5,2,   2357.1,2,   7.8727,2,   514.6,2,   20.0, -999.00,9,   413.6,     3.3, -999.00,9
31RBOACES24N_2,  AR01,    38,  1,     25,2,19980202,0207, 24.4998, -36.0328, 5639,    448.6,  13.7530,  35.8770,  35.8570,2,    172.2,2,     174.2,2,     4.50,2,    13.67,2,     0.00,2,  -999.00,5, -999.000,9, -999.000,9, -999.000,9, -999.000,9,     71.7,2,  -999.00,9,   2148.1,2,   2347.7,2,   7.8314,2,   573.8,2,   20.0,   16.67,2,   444.1,     3.0,   47.91,2
31RBOACES24N_2,  AR01,    38,  1,     24,2,19980202,0207, 24.4998, -36.0328, 5639,    499.3,  12.7590,  35.7300,  35.7300,2,    173.6,2,     171.2,2,     5.50,2,    15.43,2,     0.00,2,  -999.00,5,    1.751,2,    0.894,2,    0.025,2, -999.000,9,     64.7,2,  -999.00,9,   2155.8,2,   2339.9,2,   7.8044,2,   617.2,2,   20.0, -999.00,9,   458.6,     3.6, -999.00,9
31RBOACES24N_2,  AR01,    38,  1,     23,2,19980202,0207, 24.4998, -36.0328, 5639,    548.7,  12.0100,  35.6290,  35.6290,2,    163.7,2,     162.6,2,     6.70,2,    17.48,2,     0.00,2,  -999.00,5,    1.411,2,    0.705,2,    0.017,2, -999.000,9,     30.8,6,  -999.00,9,   2164.6,2,   2336.7,2,   7.7677,2,   657.9,2,   20.0,   20.54,2,   473.6,     1.9,   45.86,2
31RBOACES24N_2,  AR01,    38,  1,     22,2,19980202,0207, 24.4998, -36.0328, 5639,    649.1,  10.7030,  35.4740,  35.4650,2,    154.7,2,     150.7,2,     9.80,2,    21.39,2,     0.00,2,  -999.00,5,    0.766,6,    0.361,6,    0.011,6, -999.000,9,    -21.0,2,  -999.00,9,   2178.6,2,   2330.3,2,   7.7252,2,   746.6,2,   20.0, -999.00,9,   509.3,     3.4, -999.00,9
31RBOACES24N_2,  AR01,    38,  1,     21,2,19980202,0207, 24.4998, -36.0328, 5639,    750.1,   9.4880,  35.3400,  35.3380,2,    142.8,2,     143.6,2,    12.90,2,    23.93,2,     0.00,2,  -999.00,5,    0.371,2,    0.161,2,    0.005,2, -999.000,9,    -51.0,2,  -999.00,9,   2189.4,2,   2326.2,2,   7.6871,2,   818.0,2,   20.0,   26.41,2,   530.2,     2.9,   43.80,2
31RBOACES24N_2,  AR01,    38,  1,     20,2,19980202,0207, 24.4998, -36.0328, 5639,    848.4,   8.1370,  35.2000,  35.1990,2,    143.9,2,     143.9,2,    16.10,2,    26.28,2,     0.00,2,  -999.00,5,    0.138,2,    0.058,2,    0.004,2, -999.000,9,    -72.0,2,  -999.00,9,   2198.8,2,   2323.7,2,   7.6602,2,   887.0,2,   20.0, -999.00,9,   542.7,     2.4, -999.00,9
31RBOACES24N_2,  AR01,    38,  1,     19,2,19980202,0207, 24.4998, -36.0328, 5639,    938.8,   7.1920,  35.1130,  35.1160,2,    151.5,2,     154.6,2,    17.80,2,    26.47,2,     0.00,2,  -999.00,5,    0.080,2,    0.029,2,    0.002,2, -999.000,9,    -81.0,2,  -999.00,9,   2198.1,2,   2322.4,2,   7.6571,2,   896.4,2,   20.0,   28.99,2,   525.9,     2.5,   42.24,2
31RBOACES24N_2,  AR01,    38,  1,     18,2,19980202,0207, 24.4998, -36.0328, 5639,   1046.9,   6.5530,  35.0670,  35.0670,2,    161.3,2,     162.1,2,    19.00,2,    26.47,2,     0.00,2,  -999.00,5,    0.041,2,    0.022,2,    0.009,2, -999.000,9,    -89.5,2,  -999.00,9,   2198.3,6,   2321.1,2,   7.6540,2,  -999.0,9, -999.0, -999.00,9,  -999.0,     2.7, -999.00,9
31RBOACES24N_2,  AR01,    38,  1,     17,2,19980202,0207, 24.4998, -36.0328, 5639,   1249.8,   5.6360,  35.0610,  35.0600,2,    188.7,2,     191.8,2,    18.30,2,    23.84,2,     0.00,2,  -999.00,5,    0.027,2,    0.011,2,    0.000,2, -999.000,9,    -98.1,2,  -999.00,9,   2189.5,2,   2322.0,2,   7.6813,2,   831.4,6,   20.0,   26.60,2,   452.8,     2.6,   42.13,2
31RBOACES24N_2,  AR01,    38,  1,     16,2,19980202,0207, 24.4998, -36.0328, 5639,   1444.2,   5.1790,  35.0690,  35.0680,2,    211.6,2,     210.2,2,    18.00,2,    22.47,2,     0.00,2,  -999.00,5,    0.021,2,    0.003,2,    0.008,2, -999.000,9,    -84.3,2,  -999.00,9,   2182.6,2,   2322.6,2,   7.7016,2,  -999.0,9, -999.0, -999.00,9,  -999.0,     6.7, -999.00,9
31RBOACES24N_2,  AR01,    38,  1,     15,2,19980202,0207, 24.4998, -36.0328, 5639,   1645.4,   4.7700,  35.1010,  35.1010,2,    223.9,2,     224.0,2,    18.90,2,    21.20,2,     0.00,2,  -999.00,5,    0.006,2,   -0.002,2,   -0.001,2, -999.000,9,    -87.7,2,  -999.00,9,   2178.9,2,   2326.3,2,   7.7164,2,   765.2,2,   20.0,   23.27,2,   398.8,     2.4,   41.84,2
31RBOACES24N_2,  AR01,    38,  1,     14,2,19980202,0207, 24.4998, -36.0328, 5639,   1948.2,   4.1440,  35.0660,  35.0660,2,    234.3,2,     235.9,2,    21.30,2,    20.52,2,     0.00,2,  -999.00,5,    0.000,2,   -0.003,2,    0.001,2, -999.000,9,    -96.7,2,  -999.00,9,   2176.2,2,   2329.9,2,   7.7282,2,  -999.0,9, -999.0, -999.00,9,  -999.0,     3.7, -999.00,9
31RBOACES24N_2,  AR01,    38,  1,     13,2,19980202,0207, 24.4998, -36.0328, 5639,   2047.3,   3.9530,  35.0500,  35.0490,2,    236.5,2,     239.4,2,    22.20,2,    20.42,2,     0.00,2,  -999.00,5, -999.000,9, -999.000,9, -999.000,9, -999.000,9,    -93.5,2,  -999.00,9,   2176.8,2,   -999.0,9,   7.7263,2,   740.8,2,   20.0,   22.26,2,   370.6,     2.8,   41.54,2
31RBOACES24N_2,  AR01,    38,  1,     12,2,19980202,0207, 24.4998, -36.0328, 5639,   2245.2,   3.6200,  35.0210,  35.0200,2,    244.6,2,     244.2,2,    24.20,2,    20.52,2,     0.00,2,  -999.00,5,    0.000,6,   -0.004,6,    0.002,6, -999.000,9,   -104.2,2,  -999.00,9,   2176.8,2,   -999.0,9,   7.7260,2,  -999.0,9, -999.0, -999.00,9,  -999.0,     3.1, -999.00,9
31RBOACES24N_2,  AR01,    38,  1,     11,2,19980202,0207, 24.4998, -36.0328, 5639,   2451.4,   3.2800,  34.9890,  34.9900,2,    244.6,2,     246.6,2,    27.50,2,    20.61,2,     0.00,2,  -999.00,5, -999.000,9, -999.000,9, -999.000,9, -999.000,9,   -114.5,2,  -999.00,9,   2179.0,2,   2332.6,2,   7.7320,2,   736.1,2,   20.0,   22.51,2,   356.0,     2.6,   41.93,2
31RBOACES24N_2,  AR01,    38,  1,     10,2,19980202,0207, 24.4998, -36.0328, 5639,   2648.9,   3.0770,  34.9700,  34.9690,2,    246.1,2,     246.9,2,    30.00,2,    20.61,2,     0.00,2,  -999.00,5,   -0.002,2,   -0.004,2,    0.002,2, -999.000,9,   -109.6,2,  -999.00,9,   2181.8,2,   -999.0,9,   7.7259,2,  -999.0,9, -999.0, -999.00,9,  -999.0,     2.9, -999.00,9
31RBOACES24N_2,  AR01,    38,  1,      9,2,19980202,0207, 24.4998, -36.0328, 5639,   2853.7,   2.9000,  34.9530,  34.9530,2,    247.3,2,     247.2,2,    32.80,2,    21.01,2,     0.00,2,  -999.00,5, -999.000,9, -999.000,9, -999.000,9, -999.000,9,   -111.5,2,  -999.00,9,   2185.8,2,   -999.0,9,   7.7301,2,   741.7,2,   20.0,   23.44,2,   351.8,     2.7,   41.74,2
31RBOACES24N_2,  AR01,    38,  1,      8,2,19980202,0207, 24.4998, -36.0328, 5639,   3039.7,   2.7690,  34.9400,  34.9400,2,    243.7,2,     246.6,2,    35.30,2,    21.20,2,     0.00,2,  -999.00,5,    0.000,2,   -0.006,2,    0.002,2, -999.000,9,   -107.4,2,  -999.00,9,   2192.1,2,   -999.0,9,   7.7267,2,  -999.0,9, -999.0, -999.00,9,  -999.0,     2.9, -999.00,9
31RBOACES24N_2,  AR01,    38,  1,      7,2,19980202,0207, 24.4998, -36.0328, 5639,   3424.1,   2.5890,  34.9220,  34.9210,2,    244.8,2,     247.5,2,    39.00,2,    21.49,2,     0.00,2,  -999.00,5, -999.000,9, -999.000,9, -999.000,9, -999.000,9,   -999.0,9,  -999.00,9,   2194.8,2,   2344.9,2,   7.7284,2,   747.6,2,   20.0,   24.08,2,   348.8,  -999.0,   41.54,2
31RBOACES24N_2,  AR01,    38,  1,      6,2,19980202,0207, 24.4998, -36.0328, 5639,   3750.9,   2.4990,  34.9100,  34.9090,2,    246.7,2,     248.8,2,    41.00,2,    21.69,2,     0.00,2,  -999.00,5,   -0.001,2,   -0.001,2,    0.002,2, -999.000,9,   -999.0,9,  -999.00,9,   2195.3,2,   -999.0,9,   7.7273,2,  -999.0,9, -999.0, -999.00,9,  -999.0,  -999.0, -999.00,9
31RBOACES24N_2,  AR01,    38,  1,      5,2,19980202,0207, 24.4998, -36.0328, 5639,   4030.1,   2.4450,  34.9020,  34.9010,2,    247.6,2,     249.5,2,    42.60,2,    21.79,2,     0.00,2,  -999.00,5, -999.000,9, -999.000,9, -999.000,9, -999.000,9,   -999.0,9,  -999.00,9,   2195.4,2,   2346.7,2,   7.7196,2,   749.7,2,   20.0,   24.50,2,   347.0,  -999.0,   41.64,2
31RBOACES24N_2,  AR01,    38,  1,      4,2,19980202,0207, 24.4998, -36.0328, 5639,   4446.0,   2.4050,  34.8930,  34.8930,2,    248.5,2,     249.3,2,    44.60,2,    21.98,2,     0.00,2,  -999.00,5,   -0.001,2,   -0.004,2,    0.003,2, -999.000,9,   -999.0,9,  -999.00,9,   2198.3,2,   -999.0,9,   7.7258,2,  -999.0,9, -999.0,   24.55,2,  -999.0,  -999.0,   41.54,2
31RBOACES24N_2,  AR01,    38,  1,      3,2,19980202,0207, 24.4998, -36.0328, 5639,   4846.2,   2.3910,  34.8860,  34.8860,2,    249.5,2,     250.4,2,    45.50,2,    22.28,2,     0.00,2,  -999.00,5,    0.000,2,    0.003,2,    0.001,2, -999.000,9,   -999.0,9,  -999.00,9,   2198.2,2,   2349.7,2,   7.7196,2,   759.1,2,   20.0,   24.56,2,   350.4,  -999.0,   41.44,2
31RBOACES24N_2,  AR01,    38,  1,      2,2,19980202,0207, 24.4998, -36.0328, 5639,   5249.1,   2.4010,  34.8820,  34.8810,2,    250.3,2,     250.9,2,    46.50,2,  -999.00,5,     0.00,2,  -999.00,5,    0.000,2,   -0.001,2,    0.003,2, -999.000,9,   -999.0,9,  -999.00,9,   2198.1,2,   -999.0,9,   7.7230,2,  -999.0,9, -999.0,   25.01,2,  -999.0,  -999.0,   41.74,2
31RBOACES24N_2,  AR01,    38,  1,      1,2,19980202,0207, 24.4998, -36.0328, 5639,   5768.6,   2.4330,  34.8790,  34.8780,2,    252.1,2,     252.2,2,    47.50,2,    22.08,2,     0.00,2,  -999.00,5,    0.003,2,    0.000,2,    0.002,2, -999.000,9,   -999.0,9,  -999.00,9,   2196.5,2,   2346.0,2,   7.7167,2,   768.2,2,   20.0,   24.52,2,   355.4,  -999.0,   41.93,2