BOTTLE,20220820CCHSIOAMB
EXPOCODE,SECT_ID,STNNBR,CASTNO,BTLNBR,BTLNBR_FLAG_W,DATE,TIME,LATITUDE,LONGITUDE,DEPTH,CTDPRS,CTDTMP,CTDSAL,SALNTY,SALNTY_FLAG_W,CTDOXY,CTDOXY_FLAG_W,OXYGEN,OXYGEN_FLAG_W,SILCAT,SILCAT_FLAG_W,NITRAT,NITRAT_FLAG_W,NITRIT,NITRIT_FLAG_W,PHSPHT,PHSPHT_FLAG_W,CFC-11,CFC-11_FLAG_W,CFC-12,CFC-12_FLAG_W,CFC113,CFC113_FLAG_W,CCL4,CCL4_FLAG_W,DELC14,DELC14_FLAG_W,DELC13,DELC13_FLAG_W,TCARBN,TCARBN_FLAG_W,ALKALI,ALKALI_FLAG_W,PH,PH_FLAG_W,FCO2,FCO2_FLAG_W,FCO2TMP,TON,TON_FLAG_W,FCO2IN,C14ERR,TOC,TOC_FLAG_W
,,,,,,,,,,,DBAR,ITS-90,PSS-78,PSS-78,,UMOL/KG,,UMOL/KG,,UMOL/KG,,UMOL/KG,,UMOL/KG,,UMOL/KG,,PMOL/KG,,PMOL/KG,,PMOL/KG,,PMOL/KG,,/MILLE,,/MILLE,,UMOL/KG,,UMOL/KG,,,,UATM,,DEG C,UMOL/KG,,UATM,/MILLE,UMOL/KG,
31RBOACES24N_2,  AR01,    70,  1,     36,2,19980210,1127, 24.4987, -55.2003, 5917,      4.8,  23.7240,  37.1210,  37.1210,2,    214.5,2,     215.0,2,     0.40,2,     0.00,2,     0.00,2,     0.00,2,    1.910,2,    1.106,2,    0.150,2, -999.000,9,   -999.0,9,  -999.00,9,   2056.3,6,   2431.9,2,   8.1015,2,   260.2,6,   20.0, -999.00,9,   301.6,  -999.0,   76.76,2
31RBOACES24N_2,  AR01,    70,  1,     35,2,19980210,1127, 24.4987, -55.2003, 5917,     46.8,  23.6920,  37.1800,  37.1810,2,    213.9,2,     212.6,2,     0.40,2,     0.00,2,     0.00,2,     0.00,2,    1.913,2,    1.111,2,    0.185,2, -999.000,9,   -999.0,9,  -999.00,9,   2059.5,2,   2435.9,2,   8.0994,2,  -999.0,9, -999.0, -999.00,9,  -999.0,  -999.0,   72.27,2
31RBOACES24N_2,  AR01,    70,  1,     34,2,19980210,1127, 24.4987, -55.2003, 5917,     91.2,  23.1930,  37.2250,  37.2220,2,    215.5,2,     216.4,2,     0.30,2,     0.00,2,     0.00,2,     0.01,2,    2.021,2,    1.192,2,    0.210,2, -999.000,9,   -999.0,9,  -999.00,9,   2071.2,2,   2441.0,2,   8.0847,2,   286.5,2,   20.0, -999.00,9,   325.3,  -999.0,   73.13,2
31RBOACES24N_2,  AR01,    70,  1,     33,2,19980210,1127, 24.4987, -55.2003, 5917,    135.6,  20.6750,  36.9330,  36.9350,2,    205.3,2,     201.9,2,     0.40,2,     0.39,2,     0.02,2,     0.02,2,    2.197,2,    1.247,2,    0.127,2, -999.000,9,   -999.0,9,  -999.00,9,   2095.6,2,   2421.7,2,   8.0226,2,   341.9,2,   20.0, -999.00,9,   351.0,  -999.0,   57.79,2
31RBOACES24N_2,  AR01,    70,  1,     32,2,19980210,1127, 24.4987, -55.2003, 5917,    201.5,  18.9370,  36.6690,  36.6610,2,    193.4,2,     195.9,2,     0.70,2,     2.44,2,     0.01,2,     0.11,2,    2.308,6,    1.283,6,    0.038,6, -999.000,9,   -999.0,9,  -999.00,9,   2101.4,2,   2398.0,2,   7.9880,2,   389.0,2,   20.0, -999.00,9,   372.7,  -999.0,   53.39,2
31RBOACES24N_2,  AR01,    70,  1,     31,2,19980210,1127, 24.4987, -55.2003, 5917,    226.0,  18.3980,  36.5880,  36.5910,2,    199.8,2,     200.0,2,     0.90,2,     3.12,2,     0.00,2,     0.16,2,    2.318,2,    1.280,2,    0.032,2, -999.000,9,   -999.0,9,  -999.00,9,   2098.7,2,   2392.3,2,   7.9861,2,   376.3,2,   20.0, -999.00,9,   352.8,  -999.0,   52.12,2
31RBOACES24N_2,  AR01,    70,  1,     30,2,19980210,1127, 24.4987, -55.2003, 5917,    249.0,  18.2490,  36.5650,  36.5640,2,    198.8,2,     200.1,2,     1.10,2,     3.61,2,     0.00,2,     0.19,2,    2.316,2,    1.273,2,    0.028,2, -999.000,9,   -999.0,9,  -999.00,9,   2100.6,2,   2390.2,2,   7.9834,2,  -999.0,9, -999.0, -999.00,9,  -999.0,  -999.0,   50.17,2
31RBOACES24N_2,  AR01,    70,  1,     29,2,19980210,1127, 24.4987, -55.2003, 5917,    274.6,  18.0670,  36.5390,  36.5380,2,    198.7,2,     199.8,2,     1.10,2,     3.90,2,     0.00,2,     0.21,2,    2.296,2,    1.261,2,    0.032,2, -999.000,9,   -999.0,9,  -999.00,9,   2101.8,2,   -999.0,5,   7.9768,2,   384.5,2,   20.0, -999.00,9,   355.5,  -999.0,   49.98,2
31RBOACES24N_2,  AR01,    70,  1,     28,2,19980210,1127, 24.4987, -55.2003, 5917,    301.5,  17.8710,  36.5080,  36.5110,2,    197.5,2,     198.5,2,     1.30,2,     4.39,2,     0.00,2,     0.24,2,    2.275,2,    1.243,2,    0.026,2, -999.000,9,   -999.0,9,  -999.00,9,   2105.2,2,   2388.0,2,   7.9725,2,  -999.0,9, -999.0, -999.00,9,  -999.0,  -999.0, -999.00,9
31RBOACES24N_2,  AR01,    70,  1,     27,2,19980210,1127, 24.4987, -55.2003, 5917,    351.9,  17.3980,  36.4270,  36.4260,2,    190.7,2,     191.9,2,     1.70,2,     5.76,2,     0.00,2,     0.33,2,    2.214,2,    1.199,2,    0.022,2, -999.000,9,   -999.0,9,  -999.00,9,   2112.2,2,   2382.1,2,   7.9493,2,   422.8,2,   20.0, -999.00,9,   380.7,  -999.0,   47.93,2
31RBOACES24N_2,  AR01,    70,  1,     26,2,19980210,1127, 24.4987, -55.2003, 5917,    399.0,  16.4700,  36.2760,  36.2840,2,    190.5,2,     184.4,2,     2.20,2,     7.71,2,     0.00,2,     0.46,2,    2.115,2,    1.127,2,    0.029,2, -999.000,9,   -999.0,9,  -999.00,9,   2123.8,2,   -999.0,5,   7.9191,2,  -999.0,9, -999.0, -999.00,9,  -999.0,  -999.0, -999.00,9
31RBOACES24N_2,  AR01,    70,  1,     25,2,19980210,1127, 24.4987, -55.2003, 5917,    451.3,  15.3960,  36.0910,  36.0970,2,    187.1,2,     184.7,2,     3.10,2,     9.37,2,     0.00,2,     0.57,2,    2.025,2,    1.073,2,    0.018,2, -999.000,9,   -999.0,9,  -999.00,9,   2128.8,2,   -999.0,5,   7.8933,2,   477.8,2,   20.0, -999.00,9,   395.9,  -999.0,   46.94,2
31RBOACES24N_2,  AR01,    70,  1,     24,2,19980210,1127, 24.4987, -55.2003, 5917,    500.4,  14.3940,  35.9400,  35.9540,2,    176.9,2,     174.2,2,     4.00,2,    11.81,2,     0.00,2,     0.73,2,    1.826,2,    0.952,2,    0.031,2, -999.000,9,   -999.0,9,  -999.00,9,   2140.7,2,   2357.0,2,   7.8565,2,  -999.0,9, -999.0, -999.00,9,  -999.0,  -999.0, -999.00,9
31RBOACES24N_2,  AR01,    70,  1,     23,2,19980210,1127, 24.4987, -55.2003, 5917,    600.9,  12.8800,  35.7240,  35.7180,2,    164.0,2,     161.9,2,     6.10,2,    15.81,2,     0.00,2,     0.97,2,    1.342,2,    0.693,2,    0.009,2, -999.000,9,   -999.0,9,  -999.00,9,   2157.4,2,   2345.7,2,   7.7953,2,   626.5,2,   20.0, -999.00,9,   468.0,  -999.0,   46.06,2
31RBOACES24N_2,  AR01,    70,  1,     22,2,19980210,1127, 24.4987, -55.2003, 5917,    699.2,  10.7440,  35.4340,  35.4410,2,    155.7,2,     156.6,2,     9.80,2,    19.92,2,     0.00,2,     1.27,2,    0.748,6,    0.386,6,    0.013,6, -999.000,9,   -999.0,9,  -999.00,9,   2171.8,2,   -999.0,5,   7.7420,2,  -999.0,9, -999.0, -999.00,9,  -999.0,  -999.0, -999.00,9
31RBOACES24N_2,  AR01,    70,  1,     21,2,19980210,1127, 24.4987, -55.2003, 5917,    800.2,   9.0430,  35.2140,  35.2200,2,    148.6,2,     147.1,2,    14.10,2,    24.12,2,     0.00,2,     1.56,2,    0.326,2,    0.170,2,    0.004,2, -999.000,9,   -999.0,9,  -999.00,9,   2188.5,2,   2324.0,2,   7.6855,2,   817.9,2,   20.0, -999.00,9,   519.5,  -999.0,   42.05,2
31RBOACES24N_2,  AR01,    70,  1,     20,2,19980210,1127, 24.4987, -55.2003, 5917,    847.1,   8.2920,  35.1440,  35.1430,2,    149.1,2,     148.9,2,    15.80,2,    25.29,2,     0.00,2,     1.66,2,    0.211,6,    0.113,6,    0.005,6, -999.000,9,   -999.0,9,  -999.00,9,   2194.1,2,   -999.0,5,   7.6676,2,   866.6,2,   20.0, -999.00,9,   533.6,  -999.0, -999.00,9
31RBOACES24N_2,  AR01,    70,  1,     19,2,19980210,1127, 24.4987, -55.2003, 5917,    901.0,   7.4630,  35.0650,  35.0680,2,    150.6,2,     151.3,2,    17.50,2,    26.08,2,     0.00,2,     1.73,2, -999.000,9, -999.000,9, -999.000,9, -999.000,9,   -999.0,9,  -999.00,9,   2207.4,2,   2326.5,2,   7.6544,2,   888.5,2,   20.0, -999.00,9,   527.5,  -999.0, -999.00,9
31RBOACES24N_2,  AR01,    70,  1,     18,2,19980210,1127, 24.4987, -55.2003, 5917,   1000.2,   6.5830,  35.0200,  35.0190,2,    167.7,2,     168.8,2,    18.20,2,    25.49,2,     0.00,2,     1.70,2,    0.140,2,    0.072,2,    0.127,4, -999.000,9,   -999.0,9,  -999.00,9,   2195.2,6,   -999.0,9,   7.6565,2,   884.5,2,   20.0, -999.00,9,   504.6,  -999.0, -999.00,9
31RBOACES24N_2,  AR01,    70,  1,     17,2,19980210,1127, 24.4987, -55.2003, 5917,   1199.8,   5.5680,  35.0560,  35.0540,2,    210.5,2,     212.6,2,    15.40,2,    21.19,2,     0.00,2,     1.44,2,    0.221,2,    0.115,2,    0.008,2, -999.000,9,   -999.0,9,  -999.00,9,   2180.5,2,   -999.0,9,   7.6994,2,  -999.0,9, -999.0, -999.00,9,  -999.0,  -999.0,   42.04,2
31RBOACES24N_2,  AR01,    70,  1,     16,2,19980210,1127, 24.4987, -55.2003, 5917,   1402.0,   4.8790,  35.0580,  35.0580,2,    238.7,2,     239.8,2,    13.90,2,    19.05,2,     0.00,2,     1.30,2,    0.219,2,    0.120,2,    0.001,2, -999.000,9,   -999.0,9,  -999.00,9,   2165.2,3,   -999.0,9,   7.7230,2,   743.8,6,   20.0, -999.00,9,   389.8,  -999.0, -999.00,9
31RBOACES24N_2,  AR01,    70,  1,     15,2,19980210,1127, 24.4987, -55.2003, 5917,   1595.1,   4.4760,  35.0510,  35.0510,2,    251.2,2,     250.1,2,    14.30,2,    18.36,2,     0.00,2,     1.26,2,    0.178,2,    0.092,2,    0.018,2, -999.000,9,   -999.0,9,  -999.00,9,   2184.8,2,   -999.0,5,   7.7328,2,  -999.0,9, -999.0, -999.00,9,  -999.0,  -999.0, -999.00,9
31RBOACES24N_2,  AR01,    70,  1,     14,2,19980210,1127, 24.4987, -55.2003, 5917,   1791.0,   4.1260,  35.0380,  35.0380,2,    254.3,2,     254.0,2,    16.20,2,    18.36,2,     0.00,2,     1.26,2,    0.061,2,    0.037,2,    0.000,2, -999.000,9,   -999.0,9,  -999.00,9,   2160.2,2,   -999.0,5,   7.7376,2,   707.4,2,   20.0, -999.00,9,   356.8,  -999.0, -999.00,9
31RBOACES24N_2,  AR01,    70,  1,     13,2,19980210,1127, 24.4987, -55.2003, 5917,   1999.7,   3.7630,  35.0180,  35.0180,2,    254.6,2,     253.8,2,    20.20,2,    18.75,2,     0.00,2,     1.29,2,    0.013,2,    0.016,2,   -0.003,2, -999.000,9,   -999.0,9,  -999.00,9,   2191.2,2,   -999.0,9,   7.7369,2,  -999.0,9, -999.0, -999.00,9,  -999.0,  -999.0, -999.00,9
31RBOACES24N_2,  AR01,    70,  1,     12,2,19980210,1127, 24.4987, -55.2003, 5917,   2199.6,   3.4660,  34.9960,  34.9960,2,    255.4,2,     255.0,2,    23.30,2,    18.85,2,     0.00,2,     1.31,2,    0.010,2,    0.008,2,    0.008,2, -999.000,9,   -999.0,9,  -999.00,9,   2172.6,2,   -999.0,9,-999.0000,9,   717.6,2,   20.0, -999.00,9,   350.2,  -999.0, -999.00,9
31RBOACES24N_2,  AR01,    70,  1,     11,2,19980210,1127, 24.4987, -55.2003, 5917,   2497.0,   3.1020,  34.9650,  34.9650,2,    256.0,2,     256.1,2,    27.60,2,    19.34,2,     0.00,2,     1.34,2,    0.003,2,    0.005,2,   -0.002,2, -999.000,9,   -999.0,9,  -999.00,9,   2176.9,2,   -999.0,9,   7.7346,2,  -999.0,9, -999.0, -999.00,9,  -999.0,  -999.0,   41.54,2
31RBOACES24N_2,  AR01,    70,  1,     10,2,19980210,1127, 24.4987, -55.2003, 5917,   2799.7,   2.8940,  34.9460,  34.9470,2,    257.8,2,     259.1,2,    30.30,2,    19.44,2,     0.00,2,     1.36,2,    0.003,2,    0.000,2,    0.003,2, -999.000,9,   -999.0,9,  -999.00,9,   2178.8,2,   -999.0,9,-999.0000,9,   729.4,2,   20.0, -999.00,9,   345.9,  -999.0, -999.00,9
31RBOACES24N_2,  AR01,    70,  1,      9,2,19980210,1127, 24.4987, -55.2003, 5917,   3098.0,   2.7290,  34.9320,  34.9310,2,    260.1,2,     258.9,2,    32.40,2,    19.63,2,     0.00,2,     1.37,2,    0.002,2,    0.004,2,   -0.002,2, -999.000,9,   -999.0,9,  -999.00,9,   2172.7,2,   -999.0,9,   7.7338,2,  -999.0,9, -999.0, -999.00,9,  -999.0,  -999.0, -999.00,9
31RBOACES24N_2,  AR01,    70,  1,      8,2,19980210,1127, 24.4987, -55.2003, 5917,   3495.7,   2.4980,  34.9120,  34.9120,2,    262.8,2,     262.1,2,    35.00,2,    19.73,2,     0.00,2,     1.38,2,    0.006,2,    0.005,2,    0.001,2, -999.000,9,   -999.0,9,  -999.00,9,   2180.1,2,   -999.0,9,-999.0000,9,   723.3,2,   20.0, -999.00,9,   336.0,  -999.0, -999.00,9
31RBOACES24N_2,  AR01,    70,  1,      7,2,19980210,1127, 24.4987, -55.2003, 5917,   3899.4,   2.3300,  34.8970,  34.8980,2,    266.0,2,     263.9,2,    36.80,2,    19.63,2,     0.00,2,     1.38,2,    0.018,2,    0.014,2,    0.000,2, -999.000,9,   -999.0,9,  -999.00,9,   2181.6,2,   2339.2,2,   7.7314,2,  -999.0,9, -999.0, -999.00,9,  -999.0,  -999.0, -999.00,9
31RBOACES24N_2,  AR01,    70,  1,      6,2,19980210,1127, 24.4987, -55.2003, 5917,   4300.9,   2.2470,  34.8900,  34.8900,2,    268.6,2,     268.1,2,    36.40,2,    19.24,2,     0.00,2,     1.36,2,    0.049,2,    0.028,2,    0.003,2, -999.000,9,   -999.0,9,  -999.00,9,   2181.1,2,   -999.0,9,-999.0000,9,   736.5,2,   20.0, -999.00,9,   338.0,  -999.0, -999.00,9
31RBOACES24N_2,  AR01,    70,  1,      5,2,19980210,1127, 24.4987, -55.2003, 5917,   4699.9,   2.1340,  34.8690,  34.8690,2,    261.1,2,     260.1,2,    46.70,2,    20.90,2,     0.00,2,     1.48,2,    0.021,2,    0.018,2,   -0.002,2, -999.000,9,   -999.0,9,  -999.00,9,   2192.6,2,   2345.7,2,   7.7190,2,  -999.0,9, -999.0, -999.00,9,  -999.0,  -999.0,   45.72,3
31RBOACES24N_2,  AR01,    70,  1,      4,2,19980210,1127, 24.4987, -55.2003, 5917,   5098.0,   2.0360,  34.8530,  34.8530,2,    258.4,2,     256.5,2,    52.70,2,    21.88,2,     0.00,2,     1.54,2,    0.026,2,    0.019,2,   -0.002,2, -999.000,9,   -999.0,9,  -999.00,9,   2199.5,2,   -999.0,9,-999.0000,9,   782.6,2,   20.0, -999.00,9,   355.0,  -999.0, -999.00,9
31RBOACES24N_2,  AR01,    70,  1,      3,2,19980210,1127, 24.4987, -55.2003, 5917,   5597.1,   2.0280,  34.8440,  34.8440,2,    255.5,2,     254.3,2,    56.60,2,    22.37,2,     0.00,2,     1.59,2,    0.024,2,    0.017,2,    0.003,2, -999.000,9,   -999.0,9,  -999.00,9,   2204.1,2,   -999.0,9,   7.7028,2,   792.5,2,   20.0, -999.00,9,   359.2,  -999.0, -999.00,9
31RBOACES24N_2,  AR01,    70,  1,      2,2,19980210,1127, 24.4987, -55.2003, 5917,   6006.6,   2.0770,  34.8430,-999.0000,9,    254.8,2,    -999.0,9,  -999.00,9,  -999.00,9,  -999.00,9,  -999.00,9, -999.000,1, -999.000,1, -999.000,1, -999.000,9,   -999.0,9,  -999.00,9,   -999.0,9,   -999.0,9,-999.0000,9,  -999.0,9, -999.0, -999.00,9,  -999.0,  -999.0, -999.00,9
31RBOACES24N_2,  AR01,    70,  1,      1,2,19980210,1127, 24.4987, -55.2003, 5917,   6007.9,   2.0770,  34.8420,  34.8440,2,    254.8,2,     253.9,6,    57.00,2,    22.47,6,     0.00,6,     1.59,2,    0.025,6,    0.021,6,   -0.002,6, -999.000,9,   -999.0,9,  -999.00,9,   2204.1,2,   2349.3,2,   7.7040,2,   798.2,6,   20.0, -999.00,9,   362.8,  -999.0,   41.44,2