BOTTLE,20220820CCHSIOAMB
EXPOCODE,SECT_ID,STNNBR,CASTNO,BTLNBR,BTLNBR_FLAG_W,DATE,TIME,LATITUDE,LONGITUDE,DEPTH,CTDPRS,CTDTMP,CTDSAL,SALNTY,SALNTY_FLAG_W,CTDOXY,CTDOXY_FLAG_W,OXYGEN,OXYGEN_FLAG_W,SILCAT,SILCAT_FLAG_W,NITRAT,NITRAT_FLAG_W,NITRIT,NITRIT_FLAG_W,PHSPHT,PHSPHT_FLAG_W,CFC-11,CFC-11_FLAG_W,CFC-12,CFC-12_FLAG_W,CFC113,CFC113_FLAG_W,CCL4,CCL4_FLAG_W,DELC14,DELC14_FLAG_W,DELC13,DELC13_FLAG_W,TCARBN,TCARBN_FLAG_W,ALKALI,ALKALI_FLAG_W,PH,PH_FLAG_W,FCO2,FCO2_FLAG_W,FCO2TMP,TON,TON_FLAG_W,FCO2IN,C14ERR,TOC,TOC_FLAG_W
,,,,,,,,,,,DBAR,ITS-90,PSS-78,PSS-78,,UMOL/KG,,UMOL/KG,,UMOL/KG,,UMOL/KG,,UMOL/KG,,UMOL/KG,,PMOL/KG,,PMOL/KG,,PMOL/KG,,PMOL/KG,,/MILLE,,/MILLE,,UMOL/KG,,UMOL/KG,,,,UATM,,DEG C,UMOL/KG,,UATM,/MILLE,UMOL/KG,
31RBOACES24N_2,  AR01,   128,  1,     16,2,19980223,2041, 27.0020, -79.7883,  384,      1.9,  25.0390,  36.2790,-999.0000,9,    212.5,2,    -999.0,9,  -999.00,9,  -999.00,9,  -999.00,9,  -999.00,9, -999.000,9, -999.000,9, -999.000,9, -999.000,9,   -999.0,9,  -999.00,9,   -999.0,9,   -999.0,9,-999.0000,9,  -999.0,9, -999.0, -999.00,9,  -999.0,  -999.0, -999.00,9
31RBOACES24N_2,  AR01,   128,  1,     15,2,19980223,2041, 27.0020, -79.7883,  384,     20.5,  25.0320,  36.2770,  36.2790,2,    209.9,2,     208.5,2,     1.00,2,     0.00,2,     0.00,2,     0.01,2, -999.000,9, -999.000,9, -999.000,9, -999.000,9,   -999.0,9,  -999.00,9,   -999.0,9,   -999.0,9,-999.0000,9,  -999.0,9, -999.0,    4.76,2,  -999.0,  -999.0,   67.75,2
31RBOACES24N_2,  AR01,   128,  1,     14,2,19980223,2041, 27.0020, -79.7883,  384,     49.6,  25.0100,  36.2960,  36.3020,2,    207.2,2,     205.6,2,     1.00,2,     0.20,2,     0.03,2,     0.03,2, -999.000,9, -999.000,9, -999.000,9, -999.000,9,   -999.0,9,  -999.00,9,   -999.0,9,   -999.0,9,-999.0000,9,  -999.0,9, -999.0,    5.71,2,  -999.0,  -999.0,   65.90,2
31RBOACES24N_2,  AR01,   128,  1,     13,2,19980223,2041, 27.0020, -79.7883,  384,     76.3,  22.2710,  36.3240,  36.3290,2,    197.8,2,     202.3,2,     1.10,2,     1.27,2,     0.32,2,     0.08,2, -999.000,9, -999.000,9, -999.000,9, -999.000,9,   -999.0,9,  -999.00,9,   -999.0,9,   -999.0,9,-999.0000,9,  -999.0,9, -999.0,    6.23,2,  -999.0,  -999.0,   65.75,2
31RBOACES24N_2,  AR01,   128,  1,     12,2,19980223,2041, 27.0020, -79.7883,  384,    100.6,  20.8510,  36.1420,  36.1450,2,    208.9,2,     217.0,6,     1.00,2,     0.29,2,     0.41,2,     0.06,2, -999.000,9, -999.000,9, -999.000,9, -999.000,9,   -999.0,9,  -999.00,9,   -999.0,9,   -999.0,9,-999.0000,9,  -999.0,9, -999.0, -999.00,9,  -999.0,  -999.0, -999.00,9
31RBOACES24N_2,  AR01,   128,  1,     11,2,19980223,2041, 27.0020, -79.7883,  384,    124.8,  20.0680,  36.1460,  36.1520,2,    192.5,2,     195.4,2,     1.90,2,     3.42,2,     0.09,2,     0.20,2, -999.000,9, -999.000,9, -999.000,9, -999.000,9,   -999.0,9,  -999.00,9,   -999.0,9,   -999.0,9,-999.0000,9,  -999.0,9, -999.0,    8.05,2,  -999.0,  -999.0,   60.35,2
31RBOACES24N_2,  AR01,   128,  1,     10,2,19980223,2041, 27.0020, -79.7883,  384,    150.1,  19.0570,  36.4040,  36.4180,2,    152.1,2,     148.7,2,     3.30,2,     8.98,2,     0.02,2,     0.48,2, -999.000,9, -999.000,9, -999.000,9, -999.000,9,   -999.0,9,  -999.00,9,   -999.0,9,   -999.0,9,-999.0000,9,  -999.0,9, -999.0, -999.00,9,  -999.0,  -999.0, -999.00,9
31RBOACES24N_2,  AR01,   128,  1,      9,2,19980223,2041, 27.0020, -79.7883,  384,    174.2,  17.2650,  36.2480,  36.2450,2,    135.3,2,     135.1,2,     5.00,2,    12.88,2,     0.02,2,     0.73,2, -999.000,9, -999.000,9, -999.000,9, -999.000,9,   -999.0,9,  -999.00,9,   -999.0,9,   -999.0,9,-999.0000,9,  -999.0,9, -999.0,   13.57,2,  -999.0,  -999.0,   50.56,2
31RBOACES24N_2,  AR01,   128,  1,      8,2,19980223,2041, 27.0020, -79.7883,  384,    200.2,  15.1880,  35.9830,  36.0000,2,    131.6,2,     131.8,2,     6.60,2,    16.01,2,     0.02,2,     0.94,2, -999.000,9, -999.000,9, -999.000,9, -999.000,9,   -999.0,9,  -999.00,9,   -999.0,9,   -999.0,9,-999.0000,9,  -999.0,9, -999.0, -999.00,9,  -999.0,  -999.0, -999.00,9
31RBOACES24N_2,  AR01,   128,  1,      7,2,19980223,2041, 27.0020, -79.7883,  384,    224.5,  14.2660,  35.8300,  35.8210,2,    130.2,2,     130.7,2,     8.20,2,    18.06,2,     0.02,2,     1.09,2, -999.000,9, -999.000,9, -999.000,9, -999.000,9,   -999.0,9,  -999.00,9,   -999.0,9,   -999.0,9,-999.0000,9,  -999.0,9, -999.0,   20.02,2,  -999.0,  -999.0,   48.21,2
31RBOACES24N_2,  AR01,   128,  1,      6,2,19980223,2041, 27.0020, -79.7883,  384,    251.2,  11.9490,  35.4970,  35.4930,2,    126.5,2,     126.7,2,    11.70,2,    22.16,2,     0.02,2,     1.39,2, -999.000,9, -999.000,9, -999.000,9, -999.000,9,   -999.0,9,  -999.00,9,   -999.0,9,   -999.0,9,-999.0000,9,  -999.0,9, -999.0, -999.00,9,  -999.0,  -999.0, -999.00,9
31RBOACES24N_2,  AR01,   128,  1,      5,2,19980223,2041, 27.0020, -79.7883,  384,    273.3,  10.0780,  35.2200,  35.2320,2,    122.3,2,     123.4,2,    14.20,2,    25.39,2,     0.01,2,     1.63,2, -999.000,9, -999.000,9, -999.000,9, -999.000,9,   -999.0,9,  -999.00,9,   -999.0,9,   -999.0,9,-999.0000,9,  -999.0,9, -999.0,   27.35,2,  -999.0,  -999.0,   47.12,2
31RBOACES24N_2,  AR01,   128,  1,      4,2,19980223,2041, 27.0020, -79.7883,  384,    300.8,   9.5430,  35.1380,  35.1360,2,    119.7,2,     120.9,2,    15.20,2,    26.76,2,     0.01,2,     1.72,2, -999.000,9, -999.000,9, -999.000,9, -999.000,9,   -999.0,9,  -999.00,9,   -999.0,9,   -999.0,9,-999.0000,9,  -999.0,9, -999.0, -999.00,9,  -999.0,  -999.0, -999.00,9
31RBOACES24N_2,  AR01,   128,  1,      3,2,19980223,2041, 27.0020, -79.7883,  384,    324.9,   9.1960,  35.1080,  35.1070,2,    123.2,2,     124.1,2,    16.30,2,    26.95,2,     0.01,2,     1.75,2, -999.000,9, -999.000,9, -999.000,9, -999.000,9,   -999.0,9,  -999.00,9,   -999.0,9,   -999.0,9,-999.0000,9,  -999.0,9, -999.0, -999.00,9,  -999.0,  -999.0,   43.52,2
31RBOACES24N_2,  AR01,   128,  1,      2,2,19980223,2041, 27.0020, -79.7883,  384,    348.7,   7.5750,  34.9480,  34.9460,2,    129.4,2,     128.9,2,    20.10,2,    29.11,2,     0.00,2,     1.93,2, -999.000,9, -999.000,9, -999.000,9, -999.000,9,   -999.0,9,  -999.00,9,   -999.0,9,   -999.0,9,-999.0000,9,  -999.0,9, -999.0, -999.00,9,  -999.0,  -999.0, -999.00,9
31RBOACES24N_2,  AR01,   128,  1,      1,2,19980223,2041, 27.0020, -79.7883,  384,    374.3,   6.6860,  34.9070,  34.9090,2,    138.4,2,     138.0,2,    22.40,6,    29.11,6,     0.01,6,     1.94,6, -999.000,9, -999.000,9, -999.000,9, -999.000,9,   -999.0,9,  -999.00,9,   -999.0,9,   -999.0,9,-999.0000,9,  -999.0,9, -999.0,   20.91,2,  -999.0,  -999.0,   43.22,2
31RBOACES24N_2,  AR01,   129,  1,     11,2,19980223,2153, 27.0063, -79.8570,  279,      4.4,  23.9710,  36.1560,  36.1570,2,    218.2,2,     215.1,6,     1.00,2,     0.10,2,     0.00,2,     0.00,2,    1.902,2,    1.116,2,    0.156,2, -999.000,9,   -999.0,9,     1.27,2,   2026.3,6,   2366.3,3,   8.0840,2,   291.8,2,   20.0, -999.00,9,   342.5,  -999.0, -999.00,9
31RBOACES24N_2,  AR01,   129,  1,     10,2,19980223,2153, 27.0063, -79.8570,  279,     26.7,  23.8730,  36.1780,  36.1720,2,    217.1,2,     214.9,2,     1.00,2,     0.10,2,     0.00,2,     0.00,2,    1.943,2,    1.129,2,    0.155,2, -999.000,9,   -999.0,9,  -999.00,9,   2027.4,2,   2381.9,2,   8.0846,2,   292.3,2,   20.0, -999.00,9,   341.7,  -999.0, -999.00,9
31RBOACES24N_2,  AR01,   129,  1,      9,2,19980223,2153, 27.0063, -79.8570,  279,     51.5,  21.7100,  36.1740,  36.1790,2,    218.3,2,     220.6,2,     1.10,2,     0.10,2,     0.02,2,     0.02,2,    2.065,2,    1.186,2,    0.166,2, -999.000,9,   -999.0,9,  -999.00,9,   2046.4,2,   2375.6,3,   8.0641,2,   311.0,2,   20.0, -999.00,9,   333.5,  -999.0, -999.00,9
31RBOACES24N_2,  AR01,   129,  1,      8,2,19980223,2153, 27.0063, -79.8570,  279,     75.4,  21.2800,  36.1890,  36.1930,2,    216.5,2,     217.9,2,     1.20,2,     0.29,2,     0.14,2,     0.04,2,    2.112,2,    1.208,2,    0.173,2, -999.000,9,   -999.0,9,  -999.00,9,   2057.0,2,   2375.2,3,   8.0550,2,   318.1,2,   20.0, -999.00,9,   335.2,  -999.0, -999.00,9
31RBOACES24N_2,  AR01,   129,  1,      7,2,19980223,2153, 27.0063, -79.8570,  279,     98.8,  20.3290,  36.1600,  36.1580,2,    194.4,2,     196.1,2,     2.00,2,     3.22,2,     0.12,2,     0.18,2,    2.069,6,    1.180,6,    0.136,6, -999.000,9,   -999.0,9,  -999.00,9,   2084.9,2,   2384.2,2,   8.0123,2,   364.5,2,   20.0, -999.00,9,   369.4,  -999.0, -999.00,9
31RBOACES24N_2,  AR01,   129,  1,      6,2,19980223,2153, 27.0063, -79.8570,  279,    123.9,  19.1410,  36.3520,  36.3400,2,    152.9,2,     151.6,2,     3.70,2,     8.88,2,     0.03,2,     0.48,2,    1.887,2,    1.047,2,    0.062,2, -999.000,9,   -999.0,9,  -999.00,9,   2133.3,3,   2383.0,2,   7.9212,2,   455.1,2,   20.0, -999.00,9,   441.1,  -999.0, -999.00,9
31RBOACES24N_2,  AR01,   129,  1,      5,2,19980223,2153, 27.0063, -79.8570,  279,    150.1,  15.5560,  35.8840,  35.8800,2,    143.9,2,     145.1,2,     7.50,2,    14.84,2,     0.06,2,     0.89,2,    1.412,2,    0.776,2,    0.047,2, -999.000,9,   -999.0,9,  -999.00,9,   2153.1,2,   2357.1,2,   7.8398,2,   561.4,2,   20.0, -999.00,9,   468.6,  -999.0, -999.00,9
31RBOACES24N_2,  AR01,   129,  1,      4,2,19980223,2153, 27.0063, -79.8570,  279,    173.9,  12.6920,  35.5750,  35.5470,2,    129.9,2,     129.3,2,    11.10,2,    21.19,2,     0.03,2,     1.31,2,    0.974,2,    0.517,2,    0.018,2, -999.000,9,   -999.0,9,  -999.00,9,   2180.8,2,   2337.5,2,   7.7383,2,   730.9,2,   20.0, -999.00,9,   540.4,  -999.0, -999.00,9
31RBOACES24N_2,  AR01,   129,  1,      3,2,19980223,2153, 27.0063, -79.8570,  279,    195.6,  11.0190,  35.3560,  35.3490,2,    127.0,2,     125.1,2,    13.20,2,    24.12,2,     0.01,2,     1.52,2,    0.727,2,    0.377,2,    0.007,2, -999.000,9,   -999.0,9,  -999.00,9,   2191.1,2,   2328.0,2,   7.6918,2,   819.6,2,   20.0, -999.00,9,   564.6,  -999.0, -999.00,9
31RBOACES24N_2,  AR01,   129,  1,      2,2,19980223,2153, 27.0063, -79.8570,  279,    220.9,   9.8900,  35.1910,  35.1890,2,    125.9,2,     122.1,2,    14.60,2,    26.07,2,     0.01,2,     1.67,2,    0.531,2,    0.283,2,    0.014,2, -999.000,9,   -999.0,9,  -999.00,9,   2198.1,2,   2316.9,2,   7.6572,2,   896.1,2,   20.0, -999.00,9,   589.1,  -999.0, -999.00,9
31RBOACES24N_2,  AR01,   129,  1,      1,2,19980223,2153, 27.0063, -79.8570,  279,    267.5,   9.0840,  35.1140,  35.1150,2,    131.3,2,     125.1,2,    16.60,6,    26.95,6,     0.01,6,     1.75,6,    0.416,2,    0.226,2,    0.006,2, -999.000,9,   -999.0,9,  -999.00,9,   2204.2,2,   2320.2,2,   7.6443,2,   935.3,2,   20.0, -999.00,9,   594.0,  -999.0, -999.00,9
31RBOACES24N_2,  AR01,   130,  1,      6,2,19980223,2303, 26.9990, -79.9370,  140,      3.0,  23.3270,  36.0240,-999.0000,9,    225.1,2,     219.9,2,  -999.00,9,  -999.00,9,  -999.00,9,  -999.00,9, -999.000,9, -999.000,9, -999.000,9,    2.107,6,   -999.0,9,  -999.00,9,   2040.7,3,   2385.4,2,   8.0762,2,   304.9,6,   20.0,   10.25,2,   349.0,  -999.0,   66.27,2
31RBOACES24N_2,  AR01,   130,  1,      5,2,19980223,2303, 26.9990, -79.9370,  140,     24.9,  22.3860,  36.1470,  36.1490,2,    222.2,2,     221.6,2,     0.90,2,     0.00,2,     0.00,2,     0.01,2, -999.000,9, -999.000,9, -999.000,9, -999.000,9,   -999.0,9,  -999.00,9,   -999.0,9,   -999.0,9,-999.0000,9,  -999.0,9, -999.0,    5.37,2,  -999.0,  -999.0,   62.83,2
31RBOACES24N_2,  AR01,   130,  1,      4,2,19980223,2303, 26.9990, -79.9370,  140,     49.6,  20.8640,  36.1480,  36.1350,2,    207.7,2,     210.0,6,     1.70,2,     1.66,2,     0.26,2,     0.12,2, -999.000,9, -999.000,9, -999.000,9, -999.000,9,   -999.0,9,  -999.00,9,   -999.0,9,   -999.0,9,-999.0000,9,  -999.0,9, -999.0,    6.52,2,  -999.0,  -999.0,   59.20,2
31RBOACES24N_2,  AR01,   130,  1,      3,2,19980223,2303, 26.9990, -79.9370,  140,     75.8,  17.9330,  35.9920,  35.9880,2,    172.5,2,     176.2,2,     4.80,2,     8.69,2,     0.19,2,     0.53,2, -999.000,9, -999.000,9, -999.000,9, -999.000,9,   -999.0,9,  -999.00,9,   -999.0,9,   -999.0,9,-999.0000,9,  -999.0,9, -999.0,   12.74,2,  -999.0,  -999.0,   53.12,2
31RBOACES24N_2,  AR01,   130,  1,      2,2,19980223,2303, 26.9990, -79.9370,  140,     96.4,  14.9150,  35.8320,  35.8170,2,    140.6,2,     139.3,2,     8.00,2,    16.50,2,     0.06,2,     1.00,2, -999.000,9, -999.000,9, -999.000,9, -999.000,9,   -999.0,9,  -999.00,9,   -999.0,9,   -999.0,9,-999.0000,9,  -999.0,9, -999.0,   19.54,2,  -999.0,  -999.0,   43.93,2
31RBOACES24N_2,  AR01,   130,  1,      1,2,19980223,2303, 26.9990, -79.9370,  140,    129.5,  11.7970,  35.4830,  35.5020,2,    121.9,2,     126.4,2,    12.10,6,    22.07,6,     0.03,6,     1.39,6, -999.000,9, -999.000,9, -999.000,9, -999.000,9,   -999.0,9,  -999.00,9,   -999.0,9,   -999.0,9,-999.0000,9,  -999.0,9, -999.0,   24.67,2,  -999.0,  -999.0,   41.38,2