BOTTLE,20220820CCHSIOAMB
EXPOCODE,SECT_ID,STNNBR,CASTNO,BTLNBR,BTLNBR_FLAG_W,DATE,TIME,LATITUDE,LONGITUDE,DEPTH,CTDPRS,CTDTMP,CTDSAL,SALNTY,SALNTY_FLAG_W,CTDOXY,CTDOXY_FLAG_W,OXYGEN,OXYGEN_FLAG_W,SILCAT,SILCAT_FLAG_W,NITRAT,NITRAT_FLAG_W,NITRIT,NITRIT_FLAG_W,PHSPHT,PHSPHT_FLAG_W,CFC-11,CFC-11_FLAG_W,CFC-12,CFC-12_FLAG_W,CFC113,CFC113_FLAG_W,CCL4,CCL4_FLAG_W,DELC14,DELC14_FLAG_W,DELC13,DELC13_FLAG_W,TCARBN,TCARBN_FLAG_W,ALKALI,ALKALI_FLAG_W,PH,PH_FLAG_W,FCO2,FCO2_FLAG_W,FCO2TMP,TON,TON_FLAG_W,FCO2IN,C14ERR,TOC,TOC_FLAG_W
,,,,,,,,,,,DBAR,ITS-90,PSS-78,PSS-78,,UMOL/KG,,UMOL/KG,,UMOL/KG,,UMOL/KG,,UMOL/KG,,UMOL/KG,,PMOL/KG,,PMOL/KG,,PMOL/KG,,PMOL/KG,,/MILLE,,/MILLE,,UMOL/KG,,UMOL/KG,,,,UATM,,DEG C,UMOL/KG,,UATM,/MILLE,UMOL/KG,
31RBOACES24N_2,  AR01,    84,  1,     36,2,19980214,1817, 24.5010, -65.4688, 5548,      6.4,  23.8830,  36.7260,  36.7300,2,    213.2,2,     214.3,2,     0.80,2,     0.20,2,     0.01,2,     0.01,2,    1.912,2,    1.109,2,    0.168,2,    1.829,2,   -999.0,9,  -999.00,9,   2036.9,6,   2409.6,6,   8.1077,6,   275.6,6,   20.0, -999.00,9,   321.3,  -999.0, -999.00,9
31RBOACES24N_2,  AR01,    84,  1,     35,2,19980214,1817, 24.5010, -65.4688, 5548,     50.5,  23.7780,  36.7340,  36.7350,2,    214.3,2,     214.6,2,     0.70,2,     0.20,2,     0.01,2,     0.01,2,    1.901,2,    1.102,2,    0.174,2, -999.000,9,   -999.0,9,  -999.00,9,   -999.0,9,   -999.0,9,-999.0000,9,  -999.0,9, -999.0, -999.00,9,  -999.0,  -999.0, -999.00,9
31RBOACES24N_2,  AR01,    84,  1,     34,2,19980214,1817, 24.5010, -65.4688, 5548,    101.1,  23.4590,  36.7890,  36.7970,2,    216.1,2,     216.2,2,     0.60,2,     0.20,2,     0.00,2,     0.00,2,    1.964,2,    1.123,2,    0.163,2,    1.750,6,   -999.0,9,  -999.00,9,   -999.0,9,   -999.0,9,-999.0000,9,  -999.0,9, -999.0, -999.00,9,  -999.0,  -999.0, -999.00,9
31RBOACES24N_2,  AR01,    84,  1,     33,2,19980214,1817, 24.5010, -65.4688, 5548,    150.1,  20.9040,  36.9020,  36.8980,2,    202.1,2,     202.7,2,     0.50,2,     0.78,2,     0.04,2,     0.02,2,    2.197,2,    1.236,2,    0.117,2, -999.000,9,   -999.0,9,  -999.00,9,   -999.0,9,   -999.0,9,-999.0000,9,  -999.0,9, -999.0, -999.00,9,  -999.0,  -999.0, -999.00,9
31RBOACES24N_2,  AR01,    84,  1,     32,2,19980214,1817, 24.5010, -65.4688, 5548,    199.3,  19.1970,  36.6810,  36.6780,2,    197.4,2,     202.6,2,     0.70,2,     2.05,2,     0.02,2,     0.06,2,    2.304,2,    1.297,2,    0.065,2, -999.000,9,   -999.0,9,  -999.00,9,   -999.0,9,   -999.0,9,-999.0000,9,  -999.0,9, -999.0, -999.00,9,  -999.0,  -999.0, -999.00,9
31RBOACES24N_2,  AR01,    84,  1,     31,2,19980214,1817, 24.5010, -65.4688, 5548,    220.2,  18.8340,  36.6290,  36.6260,2,    202.7,2,     206.2,2,     0.80,2,     2.54,2,     0.01,2,     0.09,2,    2.355,2,    1.314,2,    0.054,2, -999.000,9,   -999.0,9,  -999.00,9,   -999.0,9,   -999.0,9,-999.0000,9,  -999.0,9, -999.0, -999.00,9,  -999.0,  -999.0, -999.00,9
31RBOACES24N_2,  AR01,    84,  1,     30,2,19980214,1817, 24.5010, -65.4688, 5548,    247.9,  18.4760,  36.5890,  36.5880,2,    207.7,2,     210.4,2,     1.00,2,     3.03,2,     0.01,2,     0.12,2,    2.348,2,    1.314,2,    0.054,2, -999.000,9,   -999.0,9,  -999.00,9,   -999.0,9,   -999.0,9,-999.0000,9,  -999.0,9, -999.0, -999.00,9,  -999.0,  -999.0, -999.00,9
31RBOACES24N_2,  AR01,    84,  1,     29,2,19980214,1817, 24.5010, -65.4688, 5548,    273.6,  18.2960,  36.5690,  36.5660,2,    209.4,2,     212.0,2,     1.00,2,     3.32,2,     0.01,2,     0.14,2, -999.000,9, -999.000,9, -999.000,9, -999.000,9,   -999.0,9,  -999.00,9,   -999.0,9,   -999.0,9,-999.0000,9,  -999.0,9, -999.0, -999.00,9,  -999.0,  -999.0, -999.00,9
31RBOACES24N_2,  AR01,    84,  1,     28,2,19980214,1817, 24.5010, -65.4688, 5548,    298.0,  18.2060,  36.5590,  36.5570,2,    211.1,2,     213.0,2,     1.10,2,     3.42,2,     0.01,2,     0.14,2,    2.378,2,    1.325,2,    0.051,2, -999.000,9,   -999.0,9,  -999.00,9,   -999.0,9,   -999.0,9,-999.0000,9,  -999.0,9, -999.0, -999.00,9,  -999.0,  -999.0, -999.00,9
31RBOACES24N_2,  AR01,    84,  1,     27,3,19980214,1817, 24.5010, -65.4688, 5548,    349.4,  18.0460,  36.5410,  36.5410,2,    214.9,2,     214.1,2,     1.10,2,     3.61,2,     0.02,2,     0.15,2, -999.000,9, -999.000,9, -999.000,9, -999.000,9,   -999.0,9,  -999.00,9,   -999.0,9,   -999.0,9,-999.0000,9,  -999.0,9, -999.0, -999.00,9,  -999.0,  -999.0, -999.00,9
31RBOACES24N_2,  AR01,    84,  1,     26,2,19980214,1817, 24.5010, -65.4688, 5548,    399.7,  17.8480,  36.5060,  36.5060,2,    210.5,2,     211.5,2,     1.30,2,     4.20,2,     0.01,2,     0.20,2,    2.341,2,    1.297,2,    0.056,2,    0.668,2,   -999.0,9,  -999.00,9,   -999.0,9,   -999.0,9,-999.0000,9,  -999.0,9, -999.0, -999.00,9,  -999.0,  -999.0, -999.00,9
31RBOACES24N_2,  AR01,    84,  1,     25,2,19980214,1817, 24.5010, -65.4688, 5548,    449.3,  17.3020,  36.4010,  36.4010,2,    200.6,2,     190.9,2,     1.90,2,     6.25,2,     0.01,2,     0.32,2, -999.000,9, -999.000,9, -999.000,9, -999.000,9,   -999.0,9,  -999.00,9,   -999.0,9,   -999.0,9,-999.0000,9,  -999.0,9, -999.0, -999.00,9,  -999.0,  -999.0, -999.00,9
31RBOACES24N_2,  AR01,    84,  1,     24,2,19980214,1817, 24.5010, -65.4688, 5548,    499.6,  16.3770,  36.2390,  36.2380,2,    191.7,2,     190.2,6,     2.70,2,     8.49,2,     0.01,2,     0.46,2,    2.083,2,    1.119,2,    0.037,2, -999.000,9,   -999.0,9,  -999.00,9,   -999.0,9,   -999.0,9,-999.0000,9,  -999.0,9, -999.0, -999.00,9,  -999.0,  -999.0, -999.00,9
31RBOACES24N_2,  AR01,    84,  1,     23,2,19980214,1817, 24.5010, -65.4688, 5548,    602.4,  14.5460,  35.9540,  35.9520,2,    181.3,2,     179.7,2,     4.20,2,    12.11,2,     0.01,2,     0.70,2, -999.000,9, -999.000,9, -999.000,9, -999.000,9,   -999.0,9,  -999.00,9,   -999.0,9,   -999.0,9,-999.0000,9,  -999.0,9, -999.0, -999.00,9,  -999.0,  -999.0, -999.00,9
31RBOACES24N_2,  AR01,    84,  1,     22,2,19980214,1817, 24.5010, -65.4688, 5548,    701.0,  12.5880,  35.6730,  35.6750,2,    174.3,2,     172.2,2,     6.50,2,    15.92,2,     0.01,2,     0.96,2,    1.385,2,    0.708,2,    0.018,2,    0.321,2,   -999.0,9,  -999.00,9,   -999.0,9,   -999.0,9,-999.0000,9,  -999.0,9, -999.0, -999.00,9,  -999.0,  -999.0, -999.00,9
31RBOACES24N_2,  AR01,    84,  1,     21,2,19980214,1817, 24.5010, -65.4688, 5548,    800.7,  10.5410,  35.4070,  35.4080,2,    158.9,2,     159.0,2,    10.50,2,    20.71,2,     0.01,2,     1.29,2, -999.000,9, -999.000,9, -999.000,9, -999.000,9,   -999.0,9,  -999.00,9,   -999.0,9,   -999.0,9,-999.0000,9,  -999.0,9, -999.0, -999.00,9,  -999.0,  -999.0, -999.00,9
31RBOACES24N_2,  AR01,    84,  1,     20,2,19980214,1817, 24.5010, -65.4688, 5548,    901.3,   8.6100,  35.1830,  35.1830,2,    153.2,2,     153.3,2,    14.90,2,    24.52,2,     0.01,2,     1.57,2,    0.319,2,    0.168,2,   -0.002,2, -999.000,9,   -999.0,9,  -999.00,9,   -999.0,9,   -999.0,9,-999.0000,9,  -999.0,9, -999.0, -999.00,9,  -999.0,  -999.0, -999.00,9
31RBOACES24N_2,  AR01,    84,  1,     19,2,19980214,1817, 24.5010, -65.4688, 5548,    997.5,   7.3270,  35.0990,  35.1020,2,    169.6,2,     169.7,2,    16.10,2,    24.23,2,     0.01,2,     1.59,2,    0.317,2,    0.161,2,    0.008,2, -999.000,9,   -999.0,9,  -999.00,9,   -999.0,9,   -999.0,9,-999.0000,9,  -999.0,9, -999.0, -999.00,9,  -999.0,  -999.0, -999.00,9
31RBOACES24N_2,  AR01,    84,  1,     18,2,19980214,1817, 24.5010, -65.4688, 5548,   1199.7,   5.7140,  35.0800,  35.0810,2,    215.7,2,     214.7,2,    14.80,2,    21.10,2,     0.01,2,     1.40,2,    0.309,2,    0.160,2,    0.010,2, -999.000,9,   -999.0,9,  -999.00,9,   -999.0,9,   -999.0,9,-999.0000,9,  -999.0,9, -999.0, -999.00,9,  -999.0,  -999.0, -999.00,9
31RBOACES24N_2,  AR01,    84,  1,     17,2,19980214,1817, 24.5010, -65.4688, 5548,   1401.0,   4.7990,  35.0520,  35.0520,2,    248.5,2,     246.8,2,    13.30,2,    18.95,2,     0.01,2,     1.26,2,    0.483,2,    0.244,2,    0.008,2,    0.983,2,   -999.0,9,  -999.00,9,   -999.0,9,   -999.0,9,-999.0000,9,  -999.0,9, -999.0, -999.00,9,  -999.0,  -999.0, -999.00,9
31RBOACES24N_2,  AR01,    84,  1,     16,2,19980214,1817, 24.5010, -65.4688, 5548,   1599.9,   4.2290,  35.0170,  35.0190,2,    261.2,2,     260.2,2,    13.60,2,    18.27,2,     0.01,2,     1.22,2,    0.463,2,    0.233,2,    0.014,2, -999.000,9,   -999.0,9,  -999.00,9,   -999.0,9,   -999.0,9,-999.0000,9,  -999.0,9, -999.0, -999.00,9,  -999.0,  -999.0, -999.00,9
31RBOACES24N_2,  AR01,    84,  1,     15,2,19980214,1817, 24.5010, -65.4688, 5548,   1799.9,   3.9620,  35.0120,  35.0110,2,    262.8,2,     262.4,2,    15.10,2,    18.27,2,     0.01,2,     1.22,2,    0.250,2,    0.129,2,    0.007,2, -999.000,9,   -999.0,9,  -999.00,9,   -999.0,9,   -999.0,9,-999.0000,9,  -999.0,9, -999.0, -999.00,9,  -999.0,  -999.0, -999.00,9
31RBOACES24N_2,  AR01,    84,  1,     14,2,19980214,1817, 24.5010, -65.4688, 5548,   1993.7,   3.7330,  35.0030,  35.0020,2,    262.2,2,     262.8,2,    17.30,2,    18.56,2,     0.00,2,     1.25,2,    0.115,2,    0.062,2,    0.000,2, -999.000,9,   -999.0,9,  -999.00,9,   -999.0,9,   -999.0,9,-999.0000,9,  -999.0,9, -999.0, -999.00,9,  -999.0,  -999.0, -999.00,9
31RBOACES24N_2,  AR01,    84,  1,     13,2,19980214,1817, 24.5010, -65.4688, 5548,   2199.5,   3.4810,  34.9900,  34.9900,2,    261.7,2,     261.7,2,    20.40,2,    18.86,2,     0.00,2,     1.27,2, -999.000,9, -999.000,9, -999.000,9, -999.000,9,   -999.0,9,  -999.00,9,   -999.0,9,   -999.0,9,-999.0000,9,  -999.0,9, -999.0, -999.00,9,  -999.0,  -999.0, -999.00,9
31RBOACES24N_2,  AR01,    84,  1,     12,2,19980214,1817, 24.5010, -65.4688, 5548,   2399.5,   3.2270,  34.9700,  34.9720,2,    263.2,2,     263.3,2,    22.70,2,    18.95,2,     0.01,2,     1.29,2,    0.069,2,    0.037,2,    0.000,2,    0.400,2,   -999.0,9,  -999.00,9,   -999.0,9,   -999.0,9,-999.0000,9,  -999.0,9, -999.0, -999.00,9,  -999.0,  -999.0, -999.00,9
31RBOACES24N_2,  AR01,    84,  1,     11,2,19980214,1817, 24.5010, -65.4688, 5548,   2593.3,   3.0760,  34.9600,  34.9600,2,    261.2,2,     261.4,2,    25.60,2,    19.35,2,     0.01,2,     1.31,2,    0.036,2,    0.019,2,    0.005,2, -999.000,9,   -999.0,9,  -999.00,9,   -999.0,9,   -999.0,9,-999.0000,9,  -999.0,9, -999.0, -999.00,9,  -999.0,  -999.0, -999.00,9
31RBOACES24N_2,  AR01,    84,  1,     10,2,19980214,1817, 24.5010, -65.4688, 5548,   2798.3,   2.9070,  34.9470,  34.9470,2,    260.0,2,     261.9,2,    27.80,2,    19.64,2,     0.01,2,     1.33,2,    0.040,2,    0.022,2,    0.008,2, -999.000,9,   -999.0,9,  -999.00,9,   -999.0,9,   -999.0,9,-999.0000,9,  -999.0,9, -999.0, -999.00,9,  -999.0,  -999.0, -999.00,9
31RBOACES24N_2,  AR01,    84,  1,      9,2,19980214,1817, 24.5010, -65.4688, 5548,   3049.4,   2.7660,  34.9350,  34.9350,2,    263.3,2,     263.1,2,    29.60,2,    19.64,2,     0.01,2,     1.34,2,    0.034,2,    0.018,2,    0.002,2,    0.225,2,   -999.0,9,  -999.00,9,   -999.0,9,   -999.0,9,-999.0000,9,  -999.0,9, -999.0, -999.00,9,  -999.0,  -999.0, -999.00,9
31RBOACES24N_2,  AR01,    84,  1,      8,2,19980214,1817, 24.5010, -65.4688, 5548,   3348.1,   2.5970,  34.9220,  34.9220,2,    266.5,2,     266.9,2,    30.60,2,    19.54,2,     0.01,2,     1.33,2,    0.058,2,    0.030,2,    0.002,2,    0.284,2,   -999.0,9,  -999.00,9,   -999.0,9,   -999.0,9,-999.0000,9,  -999.0,9, -999.0, -999.00,9,  -999.0,  -999.0, -999.00,9
31RBOACES24N_2,  AR01,    84,  1,      7,2,19980214,1817, 24.5010, -65.4688, 5548,   3623.6,   2.4520,  34.9100,  34.9100,2,    268.5,2,     268.3,2,    31.50,2,    19.25,2,     0.01,2,     1.32,2,    0.070,2,    0.038,2,    0.000,2,    0.339,2,   -999.0,9,  -999.00,9,   -999.0,9,   -999.0,9,-999.0000,9,  -999.0,9, -999.0, -999.00,9,  -999.0,  -999.0, -999.00,9
31RBOACES24N_2,  AR01,    84,  1,      6,2,19980214,1817, 24.5010, -65.4688, 5548,   3949.1,   2.3550,  34.9020,  34.9020,2,    271.2,2,     270.6,2,    31.70,2,    19.05,2,     0.01,2,     1.31,2,    0.099,2,    0.052,2,    0.007,2,    0.438,2,   -999.0,9,  -999.00,9,   -999.0,9,   -999.0,9,-999.0000,9,  -999.0,9, -999.0, -999.00,9,  -999.0,  -999.0, -999.00,9
31RBOACES24N_2,  AR01,    84,  1,      5,2,19980214,1817, 24.5010, -65.4688, 5548,   4198.4,   2.3010,  34.8970,  34.8970,2,    272.1,2,     271.9,2,    31.80,2,    18.96,2,     0.01,2,     1.30,2,    0.151,6,    0.080,6,    0.010,6,    0.557,2,   -999.0,9,  -999.00,9,   -999.0,9,   -999.0,9,-999.0000,9,  -999.0,9, -999.0, -999.00,9,  -999.0,  -999.0, -999.00,9
31RBOACES24N_2,  AR01,    84,  1,      4,2,19980214,1817, 24.5010, -65.4688, 5548,   4499.7,   2.2590,  34.8890,  34.8890,2,    270.8,2,     269.1,2,    35.50,2,    19.54,2,     0.01,2,     1.34,2,    0.102,2,    0.060,2,    0.011,2,    0.455,6,   -999.0,9,  -999.00,9,   -999.0,9,   -999.0,9,-999.0000,9,  -999.0,9, -999.0, -999.00,9,  -999.0,  -999.0, -999.00,9
31RBOACES24N_2,  AR01,    84,  1,      3,2,19980214,1817, 24.5010, -65.4688, 5548,   4800.3,   2.1790,  34.8750,  34.8760,2,    266.5,2,     265.5,2,    42.40,2,    20.62,2,     0.00,2,     1.42,2,    0.061,2,    0.039,2,    0.005,2,    0.324,2,   -999.0,9,  -999.00,9,   -999.0,9,   -999.0,9,   7.7266,6,  -999.0,9, -999.0, -999.00,9,  -999.0,  -999.0, -999.00,9
31RBOACES24N_2,  AR01,    84,  1,      2,2,19980214,1817, 24.5010, -65.4688, 5548,   5183.5,   2.0760,  34.8560,  34.8570,2,    259.6,2,     258.9,2,    51.10,2,    21.98,2,     0.01,2,     1.52,2,    0.035,2,    0.026,2,    0.008,2,    0.223,2,   -999.0,9,  -999.00,9,   -999.0,9,   -999.0,9,   7.7153,6,  -999.0,9, -999.0, -999.00,9,  -999.0,  -999.0, -999.00,9
31RBOACES24N_2,  AR01,    84,  1,      1,2,19980214,1817, 24.5010, -65.4688, 5548,   5649.6,   2.0620,  34.8470,  34.8470,2,    256.2,2,     255.7,2,    55.80,6,    22.67,6,     0.01,6,     1.58,6,    0.021,2,    0.022,2,    0.000,2,    0.189,2,   -999.0,9,  -999.00,9,   -999.0,9,   -999.0,9,   7.7095,6,  -999.0,9, -999.0, -999.00,9,  -999.0,  -999.0, -999.00,9