BOTTLE,20220820CCHSIOAMB
EXPOCODE,SECT_ID,STNNBR,CASTNO,BTLNBR,BTLNBR_FLAG_W,DATE,TIME,LATITUDE,LONGITUDE,DEPTH,CTDPRS,CTDTMP,CTDSAL,SALNTY,SALNTY_FLAG_W,CTDOXY,CTDOXY_FLAG_W,OXYGEN,OXYGEN_FLAG_W,SILCAT,SILCAT_FLAG_W,NITRAT,NITRAT_FLAG_W,NITRIT,NITRIT_FLAG_W,PHSPHT,PHSPHT_FLAG_W,CFC-11,CFC-11_FLAG_W,CFC-12,CFC-12_FLAG_W,CFC113,CFC113_FLAG_W,CCL4,CCL4_FLAG_W,DELC14,DELC14_FLAG_W,DELC13,DELC13_FLAG_W,TCARBN,TCARBN_FLAG_W,ALKALI,ALKALI_FLAG_W,PH,PH_FLAG_W,FCO2,FCO2_FLAG_W,FCO2TMP,TON,TON_FLAG_W,FCO2IN,C14ERR,TOC,TOC_FLAG_W
,,,,,,,,,,,DBAR,ITS-90,PSS-78,PSS-78,,UMOL/KG,,UMOL/KG,,UMOL/KG,,UMOL/KG,,UMOL/KG,,UMOL/KG,,PMOL/KG,,PMOL/KG,,PMOL/KG,,PMOL/KG,,/MILLE,,/MILLE,,UMOL/KG,,UMOL/KG,,,,UATM,,DEG C,UMOL/KG,,UATM,/MILLE,UMOL/KG,
31RBOACES24N_2,  AR01,    56,  1,     36,2,19980206,1137, 24.5002, -47.1340, 3619,      4.8,  24.0300,  37.4680,  37.4680,2,    214.7,2,     212.3,2,     0.70,2,     0.00,2,     0.00,2,     0.00,2,    1.880,2,    1.088,2,    0.146,2,    1.813,2,   -999.0,9,     1.42,2,   2075.5,6,   -999.0,9,   8.1004,2,   283.8,6,   20.0, -999.00,9,   332.7,  -999.0, -999.00,9
31RBOACES24N_2,  AR01,    56,  1,     35,2,19980206,1137, 24.5002, -47.1340, 3619,     50.4,  24.0240,  37.4650,  37.4660,2,    211.6,2,     211.9,2,     0.70,2,     0.00,2,     0.00,2,     0.01,2, -999.000,9, -999.000,9, -999.000,9, -999.000,9,   -999.0,9,  -999.00,9,   -999.0,9,   2448.4,2,   8.0978,2,  -999.0,9, -999.0, -999.00,9,  -999.0,  -999.0, -999.00,9
31RBOACES24N_2,  AR01,    56,  1,     34,2,19980206,1137, 24.5002, -47.1340, 3619,     99.8,  23.9950,  37.4550,  37.4520,2,    211.7,2,     212.4,2,     0.60,2,     0.00,2,     0.00,2,     0.01,2,    1.886,2,    1.090,2,    0.175,2, -999.000,9,   -999.0,9,  -999.00,9,   -999.0,9,   -999.0,9,   8.0961,2,  -999.0,9, -999.0, -999.00,9,  -999.0,  -999.0, -999.00,9
31RBOACES24N_2,  AR01,    56,  1,     33,2,19980206,1137, 24.5002, -47.1340, 3619,    149.5,  21.1200,  37.0940,  37.0960,2,    208.0,2,     206.4,2,     0.50,2,     0.49,2,     0.04,2,     0.03,2, -999.000,9, -999.000,9, -999.000,9, -999.000,9,   -999.0,9,  -999.00,9,   -999.0,9,   -999.0,9,-999.0000,9,  -999.0,9, -999.0, -999.00,9,  -999.0,  -999.0, -999.00,9
31RBOACES24N_2,  AR01,    56,  1,     32,3,19980206,1137, 24.5002, -47.1340, 3619,    195.2,  20.0650,  36.9610,  36.9530,2,    196.0,2,     197.5,2,     0.70,2,     1.46,2,     0.01,2,     0.06,2, -999.000,9, -999.000,9, -999.000,9,    1.061,2,   -999.0,9,  -999.00,9,   -999.0,9,   -999.0,9,-999.0000,9,  -999.0,9, -999.0, -999.00,9,  -999.0,  -999.0, -999.00,9
31RBOACES24N_2,  AR01,    56,  1,     31,3,19980206,1137, 24.5002, -47.1340, 3619,    211.1,  19.6660,  36.8880,  36.8790,2,    195.9,2,     197.6,2,     0.80,2,     2.05,2,     0.01,2,     0.09,2,    2.223,2,    1.267,2,    0.118,2,    0.869,2,   -999.0,9,  -999.00,9,   -999.0,9,   -999.0,9,-999.0000,9,  -999.0,9, -999.0, -999.00,9,  -999.0,  -999.0, -999.00,9
31RBOACES24N_2,  AR01,    56,  1,     30,2,19980206,1137, 24.5002, -47.1340, 3619,    227.5,  18.8680,  36.7370,  36.7180,2,    192.4,2,     193.5,2,     1.10,2,     3.71,2,     0.00,2,     0.17,2, -999.000,9, -999.000,9, -999.000,9, -999.000,9,   -999.0,9,  -999.00,9,   -999.0,9,   -999.0,9,-999.0000,9,  -999.0,9, -999.0, -999.00,9,  -999.0,  -999.0, -999.00,9
31RBOACES24N_2,  AR01,    56,  1,     29,2,19980206,1137, 24.5002, -47.1340, 3619,    241.5,  18.2990,  36.6290,  36.6420,2,    190.9,2,     191.2,2,     1.10,2,     4.59,2,     0.00,2,     0.22,2, -999.000,9, -999.000,9, -999.000,9, -999.000,9,   -999.0,9,  -999.00,9,   -999.0,9,   -999.0,9,-999.0000,9,  -999.0,9, -999.0, -999.00,9,  -999.0,  -999.0, -999.00,9
31RBOACES24N_2,  AR01,    56,  1,     28,2,19980206,1137, 24.5002, -47.1340, 3619,    299.4,  17.0930,  36.4010,  36.4050,2,    188.5,2,     190.5,2,     2.00,2,     6.73,2,     0.00,2,     0.34,2,    2.275,2,    1.253,2,    0.029,2, -999.000,9,   -999.0,9,  -999.00,9,   -999.0,9,   -999.0,9,-999.0000,9,  -999.0,9, -999.0, -999.00,9,  -999.0,  -999.0, -999.00,9
31RBOACES24N_2,  AR01,    56,  1,     27,2,19980206,1137, 24.5002, -47.1340, 3619,    349.8,  16.4330,  36.2880,  36.2880,2,    186.2,2,     188.3,2,     2.20,2,     8.30,2,     0.00,2,     0.43,2, -999.000,9, -999.000,9, -999.000,9,    0.451,6,   -999.0,9,  -999.00,9,   -999.0,9,   -999.0,9,-999.0000,9,  -999.0,9, -999.0, -999.00,9,  -999.0,  -999.0, -999.00,9
31RBOACES24N_2,  AR01,    56,  1,     26,2,19980206,1137, 24.5002, -47.1340, 3619,    401.5,  15.4130,  36.1130,  36.1100,2,    183.8,2,     182.3,2,     3.10,2,    10.25,2,     0.00,2,     0.55,2, -999.000,9, -999.000,9, -999.000,9, -999.000,9,   -999.0,9,  -999.00,9,   -999.0,9,   -999.0,9,-999.0000,9,  -999.0,9, -999.0, -999.00,9,  -999.0,  -999.0, -999.00,9
31RBOACES24N_2,  AR01,    56,  1,     25,2,19980206,1137, 24.5002, -47.1340, 3619,    499.0,  13.6200,  35.8390,  35.8400,2,    176.2,2,     173.8,2,     4.80,2,    13.86,2,     0.00,2,     0.77,2,    1.898,2,    0.991,2,    0.023,2, -999.000,9,   -999.0,9,  -999.00,9,   -999.0,9,   -999.0,9,-999.0000,9,  -999.0,9, -999.0, -999.00,9,  -999.0,  -999.0, -999.00,9
31RBOACES24N_2,  AR01,    56,  1,     24,2,19980206,1137, 24.5002, -47.1340, 3619,    599.3,  12.0760,  35.6270,  35.6270,2,    165.9,2,     163.1,2,     7.00,2,    17.58,2,     0.00,2,     1.01,2, -999.000,9, -999.000,9, -999.000,9,    0.345,2,   -999.0,9,  -999.00,9,   -999.0,9,   -999.0,9,-999.0000,9,  -999.0,9, -999.0, -999.00,9,  -999.0,  -999.0, -999.00,9
31RBOACES24N_2,  AR01,    56,  1,     23,2,19980206,1137, 24.5002, -47.1340, 3619,    696.0,  10.7850,  35.4730,  35.4750,2,    155.8,2,     155.0,2,     9.40,2,    20.51,2,     0.00,2,     1.18,2,    0.801,6,    0.426,6,    0.010,6, -999.000,9,   -999.0,9,  -999.00,9,   -999.0,9,   -999.0,9,-999.0000,9,  -999.0,9, -999.0, -999.00,9,  -999.0,  -999.0, -999.00,9
31RBOACES24N_2,  AR01,    56,  1,     22,2,19980206,1137, 24.5002, -47.1340, 3619,    799.8,   9.1140,  35.2760,  35.2690,2,    152.5,2,     151.9,2,    13.50,2,    23.83,2,     0.00,2,     1.46,2, -999.000,9, -999.000,9, -999.000,9,    0.143,2,   -999.0,9,  -999.00,9,   -999.0,9,   -999.0,9,-999.0000,9,  -999.0,9, -999.0, -999.00,9,  -999.0,  -999.0, -999.00,9
31RBOACES24N_2,  AR01,    56,  1,     21,2,19980206,1137, 24.5002, -47.1340, 3619,    849.9,   8.0950,  35.1710,  35.1690,2,    152.2,2,     152.1,2,    15.60,2,    25.40,2,     0.00,2,     1.58,2, -999.000,9, -999.000,9, -999.000,9, -999.000,9,   -999.0,9,  -999.00,9,   -999.0,9,   -999.0,9,-999.0000,9,  -999.0,9, -999.0, -999.00,9,  -999.0,  -999.0, -999.00,9
31RBOACES24N_2,  AR01,    56,  1,     20,2,19980206,1137, 24.5002, -47.1340, 3619,    900.6,   7.7310,  35.1330,  35.1400,2,    155.2,2,     153.7,2,    16.30,2,    25.69,2,     0.00,2,     1.60,2,    0.158,2,    0.093,2,    0.001,2, -999.000,9,   -999.0,9,  -999.00,9,   -999.0,9,   -999.0,9,-999.0000,9,  -999.0,9, -999.0, -999.00,9,  -999.0,  -999.0, -999.00,9
31RBOACES24N_2,  AR01,    56,  1,     19,2,19980206,1137, 24.5002, -47.1340, 3619,    948.5,   6.9850,  35.0680,  35.0730,2,    159.2,2,     159.5,2,    18.90,3,    26.18,2,     0.00,2,     1.65,2, -999.000,9, -999.000,9, -999.000,9,    0.108,2,   -999.0,9,  -999.00,9,   -999.0,9,   -999.0,9,-999.0000,9,  -999.0,9, -999.0, -999.00,9,  -999.0,  -999.0, -999.00,9
31RBOACES24N_2,  AR01,    56,  1,     18,2,19980206,1137, 24.5002, -47.1340, 3619,   1001.4,   6.6280,  35.0420,  35.0410,2,    165.4,2,     166.8,2,    18.60,2,    25.98,2,     0.00,2,     1.66,2, -999.000,9, -999.000,9, -999.000,9, -999.000,9,   -999.0,9,  -999.00,9,   -999.0,9,   -999.0,9,-999.0000,9,  -999.0,9, -999.0, -999.00,9,  -999.0,  -999.0, -999.00,9
31RBOACES24N_2,  AR01,    56,  1,     17,2,19980206,1137, 24.5002, -47.1340, 3619,   1100.0,   6.0400,  35.0360,  35.0350,2,    179.9,2,     182.6,2,    18.60,2,    24.81,2,     0.00,2,     1.59,2,    0.085,2,    0.052,2,    0.002,2, -999.000,9,   -999.0,9,  -999.00,9,   -999.0,9,   -999.0,9,-999.0000,9,  -999.0,9, -999.0, -999.00,9,  -999.0,  -999.0, -999.00,9
31RBOACES24N_2,  AR01,    56,  1,     16,2,19980206,1137, 24.5002, -47.1340, 3619,   1199.5,   5.6310,  35.0380,  35.0390,2,    196.3,2,     198.3,2,    17.70,2,    23.45,2,     0.00,2,     1.51,2, -999.000,9, -999.000,9, -999.000,9,    0.246,2,   -999.0,9,  -999.00,9,   -999.0,9,   -999.0,9,-999.0000,9,  -999.0,9, -999.0, -999.00,9,  -999.0,  -999.0, -999.00,9
31RBOACES24N_2,  AR01,    56,  1,     15,2,19980206,1137, 24.5002, -47.1340, 3619,   1300.3,   5.2960,  35.0570,  35.0570,2,    212.8,2,     213.5,2,    16.50,2,    21.88,2,     0.00,2,     1.41,2,    0.105,2,    0.068,2,   -0.002,2, -999.000,9,   -999.0,9,  -999.00,9,   -999.0,9,   -999.0,9,-999.0000,9,  -999.0,9, -999.0, -999.00,9,  -999.0,  -999.0, -999.00,9
31RBOACES24N_2,  AR01,    56,  1,     14,2,19980206,1137, 24.5002, -47.1340, 3619,   1398.8,   5.0740,  35.0590,  35.0580,2,    222.0,2,     222.0,2,    16.00,2,    21.30,2,     0.00,2,     1.36,2, -999.000,9, -999.000,9, -999.000,9,    0.361,2,   -999.0,9,  -999.00,9,   -999.0,9,   -999.0,9,-999.0000,9,  -999.0,9, -999.0, -999.00,9,  -999.0,  -999.0, -999.00,9
31RBOACES24N_2,  AR01,    56,  1,     13,2,19980206,1137, 24.5002, -47.1340, 3619,   1499.0,   4.8940,  35.0760,  35.0750,2,    230.6,2,     229.8,2,    16.30,2,    20.61,2,     0.00,2,     1.32,2, -999.000,9, -999.000,9, -999.000,9, -999.000,9,   -999.0,9,  -999.00,9,   -999.0,9,   -999.0,9,-999.0000,9,  -999.0,9, -999.0, -999.00,9,  -999.0,  -999.0, -999.00,9
31RBOACES24N_2,  AR01,    56,  1,     12,2,19980206,1137, 24.5002, -47.1340, 3619,   1597.8,   4.6470,  35.0720,  35.0730,2,    236.1,2,     236.6,2,    16.70,2,    20.03,2,     0.00,2,     1.29,2,    0.113,2,    0.064,2,    0.003,2, -999.000,9,   -999.0,9,  -999.00,9,   -999.0,9,   -999.0,9,-999.0000,9,  -999.0,9, -999.0, -999.00,9,  -999.0,  -999.0, -999.00,9
31RBOACES24N_2,  AR01,    56,  1,     11,2,19980206,1137, 24.5002, -47.1340, 3619,   1701.5,   4.4390,  35.0660,  35.0660,2,    239.6,2,     240.5,2,    17.50,2,    19.83,2,     0.00,2,     1.29,2, -999.000,9, -999.000,9, -999.000,9,    0.318,2,   -999.0,9,  -999.00,9,   -999.0,9,   -999.0,9,-999.0000,9,  -999.0,9, -999.0, -999.00,9,  -999.0,  -999.0, -999.00,9
31RBOACES24N_2,  AR01,    56,  1,     10,2,19980206,1137, 24.5002, -47.1340, 3619,   1797.9,   4.1720,  35.0480,  35.0480,2,    242.9,2,     240.8,2,    19.10,2,    19.93,2,     0.00,2,     1.29,2, -999.000,9, -999.000,9, -999.000,9, -999.000,9,   -999.0,9,  -999.00,9,   -999.0,9,   -999.0,9,-999.0000,9,  -999.0,9, -999.0, -999.00,9,  -999.0,  -999.0, -999.00,9
31RBOACES24N_2,  AR01,    56,  1,      8,2,19980206,1137, 24.5002, -47.1340, 3619,   2001.3,   3.6860,  35.0130,  35.0140,2,    247.2,2,     248.2,2,    22.40,2,    19.93,2,     0.00,2,     1.30,2,    0.042,2,    0.024,2,    0.002,2, -999.000,9,   -999.0,9,  -999.00,9,   -999.0,9,   -999.0,9,-999.0000,9,  -999.0,9, -999.0, -999.00,9,  -999.0,  -999.0, -999.00,9
31RBOACES24N_2,  AR01,    56,  1,      9,2,19980206,1137, 24.5002, -47.1340, 3619,   2001.7,   3.6960,  35.0150,  35.0140,2,    247.2,2,     248.0,2,    22.40,2,    19.93,2,     0.00,2,     1.31,2, -999.000,9, -999.000,9, -999.000,9, -999.000,9,   -999.0,9,  -999.00,9,   -999.0,9,   -999.0,9,-999.0000,9,  -999.0,9, -999.0, -999.00,9,  -999.0,  -999.0, -999.00,9
31RBOACES24N_2,  AR01,    56,  1,      7,2,19980206,1137, 24.5002, -47.1340, 3619,   2200.9,   3.3570,  34.9890,  34.9890,2,    251.8,2,     252.7,2,    25.00,2,    19.83,2,     0.00,2,     1.30,2, -999.000,9, -999.000,9, -999.000,9,    0.238,2,   -999.0,9,  -999.00,9,   -999.0,9,   -999.0,9,-999.0000,9,  -999.0,9, -999.0, -999.00,9,  -999.0,  -999.0, -999.00,9
31RBOACES24N_2,  AR01,    56,  1,      6,2,19980206,1137, 24.5002, -47.1340, 3619,   2601.6,   2.9900,  34.9570,  34.9560,2,    253.2,2,     253.0,2,    30.40,2,    20.32,2,     0.00,2,     1.35,2, -999.000,9, -999.000,9, -999.000,9, -999.000,9,   -999.0,9,  -999.00,9,   -999.0,9,   -999.0,9,-999.0000,9,  -999.0,9, -999.0, -999.00,9,  -999.0,  -999.0, -999.00,9
31RBOACES24N_2,  AR01,    56,  1,      5,2,19980206,1137, 24.5002, -47.1340, 3619,   2799.1,   2.8590,  34.9440,  34.9440,2,    253.3,2,     253.1,2,    32.50,2,    20.42,2,     0.00,2,     1.37,2,    0.020,2,    0.019,2,   -0.003,2, -999.000,9,   -999.0,9,  -999.00,9,   -999.0,9,   -999.0,9,-999.0000,9,  -999.0,9, -999.0, -999.00,9,  -999.0,  -999.0, -999.00,9
31RBOACES24N_2,  AR01,    56,  1,      4,2,19980206,1137, 24.5002, -47.1340, 3619,   2999.1,   2.7660,  34.9360,  34.9360,2,    252.7,2,     252.3,2,    34.70,2,    20.71,2,     0.00,2,     1.38,2, -999.000,9, -999.000,9, -999.000,9,    0.122,2,   -999.0,9,  -999.00,9,   -999.0,9,   -999.0,9,-999.0000,9,  -999.0,9, -999.0, -999.00,9,  -999.0,  -999.0, -999.00,9
31RBOACES24N_2,  AR01,    56,  1,      3,2,19980206,1137, 24.5002, -47.1340, 3619,   3199.6,   2.7000,  34.9290,  34.9280,2,    252.7,2,     253.3,2,    36.00,2,    20.81,2,     0.00,2,     1.40,2, -999.000,9, -999.000,9, -999.000,9, -999.000,9,   -999.0,9,  -999.00,9,   -999.0,9,   -999.0,9,-999.0000,9,  -999.0,9, -999.0, -999.00,9,  -999.0,  -999.0, -999.00,9
31RBOACES24N_2,  AR01,    56,  1,      2,2,19980206,1137, 24.5002, -47.1340, 3619,   3393.1,   2.5860,  34.9180,  34.9170,2,    254.9,2,     256.2,2,    37.00,2,    20.81,2,     0.00,2,     1.40,2,    0.009,2,    0.010,2,   -0.003,2,    0.126,2,   -999.0,9,  -999.00,9,   -999.0,9,   -999.0,9,-999.0000,9,  -999.0,9, -999.0, -999.00,9,  -999.0,  -999.0, -999.00,9
31RBOACES24N_2,  AR01,    56,  1,      1,2,19980206,1137, 24.5002, -47.1340, 3619,   3626.6,   2.4530,  34.9060,  34.9050,2,    256.7,2,     257.0,2,    39.10,6,    20.91,6,     0.00,6,     1.41,6,    0.014,2,    0.012,2,   -0.003,2,    0.133,2,   -999.0,9,  -999.00,9,   -999.0,9,   -999.0,9,-999.0000,9,  -999.0,9, -999.0, -999.00,9,  -999.0,  -999.0, -999.00,9