BOTTLE,20220820CCHSIOAMB
EXPOCODE,SECT_ID,STNNBR,CASTNO,BTLNBR,BTLNBR_FLAG_W,DATE,TIME,LATITUDE,LONGITUDE,DEPTH,CTDPRS,CTDTMP,CTDSAL,SALNTY,SALNTY_FLAG_W,CTDOXY,CTDOXY_FLAG_W,OXYGEN,OXYGEN_FLAG_W,SILCAT,SILCAT_FLAG_W,NITRAT,NITRAT_FLAG_W,NITRIT,NITRIT_FLAG_W,PHSPHT,PHSPHT_FLAG_W,CFC-11,CFC-11_FLAG_W,CFC-12,CFC-12_FLAG_W,CFC113,CFC113_FLAG_W,CCL4,CCL4_FLAG_W,DELC14,DELC14_FLAG_W,DELC13,DELC13_FLAG_W,TCARBN,TCARBN_FLAG_W,ALKALI,ALKALI_FLAG_W,PH,PH_FLAG_W,FCO2,FCO2_FLAG_W,FCO2TMP,TON,TON_FLAG_W,FCO2IN,C14ERR,TOC,TOC_FLAG_W
,,,,,,,,,,,DBAR,ITS-90,PSS-78,PSS-78,,UMOL/KG,,UMOL/KG,,UMOL/KG,,UMOL/KG,,UMOL/KG,,UMOL/KG,,PMOL/KG,,PMOL/KG,,PMOL/KG,,PMOL/KG,,/MILLE,,/MILLE,,UMOL/KG,,UMOL/KG,,,,UATM,,DEG C,UMOL/KG,,UATM,/MILLE,UMOL/KG,
31RBOACES24N_2,  AR01,    46,  1,     36,2,19980204,0707, 24.5002, -41.6330, 4721,      4.1,  24.1920,  37.5040,  37.5030,2,    214.2,2,     210.4,2,     0.30,2,     0.00,2,     0.00,2,  -999.00,5, -999.000,9, -999.000,9, -999.000,9, -999.000,9,   -999.0,9,  -999.00,9,   2081.0,6,   2467.6,2,   8.0968,2,   243.4,3,   20.0, -999.00,9,   287.4,  -999.0,   70.41,2
31RBOACES24N_2,  AR01,    46,  1,     35,2,19980204,0707, 24.5002, -41.6330, 4721,     48.8,  24.2150,  37.5200,  37.5200,2,    209.2,2,     210.4,6,     0.30,2,     0.00,2,     0.00,2,  -999.00,5,    1.879,2,    1.080,2,    0.164,2, -999.000,9,   -999.0,9,  -999.00,9,   2082.6,2,   2464.1,2,   8.0945,2,  -999.0,9, -999.0, -999.00,9,  -999.0,  -999.0,   70.99,2
31RBOACES24N_2,  AR01,    46,  1,     34,2,19980204,0707, 24.5002, -41.6330, 4721,     99.1,  23.9460,  37.4610,  37.4430,2,    209.0,2,     212.0,2,     0.30,2,     0.00,2,     0.01,2,  -999.00,5,    1.944,2,    1.104,2,    0.188,2, -999.000,9,   -999.0,9,  -999.00,9,   2085.9,2,   2457.8,2,   8.0828,2,   255.3,3,   20.0, -999.00,9,   298.4,  -999.0,   70.21,2
31RBOACES24N_2,  AR01,    46,  1,     33,2,19980204,0707, 24.5002, -41.6330, 4721,    149.4,  21.5210,  37.2580,  37.2560,2,    208.3,2,     211.2,2,     0.30,2,     0.29,2,     0.05,2,  -999.00,5,    2.149,2,    1.243,2,    0.157,2, -999.000,9,   -999.0,9,  -999.00,9,   2107.0,2,   2443.0,2,   8.0341,2,   302.9,3,   20.0, -999.00,9,   321.8,  -999.0,   59.35,2
31RBOACES24N_2,  AR01,    46,  1,     32,2,19980204,0707, 24.5002, -41.6330, 4721,    197.6,  19.8570,  36.9770,  36.9770,2,    200.4,2,     202.0,2,     0.50,2,     1.66,2,     0.01,2,  -999.00,5,    2.266,6,    1.288,6,    0.091,6, -999.000,9,   -999.0,9,  -999.00,9,   2111.9,2,   2426.0,2,   8.0028,2,   335.7,3,   20.0, -999.00,9,   333.7,  -999.0,   54.17,2
31RBOACES24N_2,  AR01,    46,  1,     31,2,19980204,0707, 24.5002, -41.6330, 4721,    223.9,  19.2160,  36.8430,  36.8440,2,    198.7,2,     199.3,2,     0.60,2,     2.44,2,     0.01,2,  -999.00,5,    2.263,2,    1.279,2,    0.072,2, -999.000,9,   -999.0,9,  -999.00,9,   2112.2,2,   2413.4,2,   7.9913,2,  -999.0,9, -999.0, -999.00,9,  -999.0,  -999.0,   52.32,2
31RBOACES24N_2,  AR01,    46,  1,     30,2,19980204,0707, 24.5002, -41.6330, 4721,    252.1,  18.4120,  36.6670,  36.6770,2,    196.9,2,     197.8,2,     0.90,2,     3.61,2,     0.00,2,  -999.00,5,    2.320,2,    1.299,2,    0.052,2, -999.000,9,   -999.0,9,  -999.00,9,   2109.5,2,   2400.1,2,   7.9763,2,   369.5,3,   20.0, -999.00,9,   346.7,  -999.0,   51.54,2
31RBOACES24N_2,  AR01,    46,  1,     29,2,19980204,0707, 24.5002, -41.6330, 4721,    273.1,  17.6680,  36.5210,  36.5250,2,    196.5,2,     195.3,2,     1.20,2,     5.07,2,     0.00,2,  -999.00,5,    2.315,2,    1.277,2,    0.032,2, -999.000,9,   -999.0,9,  -999.00,9,   2112.8,2,   -999.0,5,   7.9564,2,  -999.0,9, -999.0, -999.00,9,  -999.0,  -999.0,   50.75,2
31RBOACES24N_2,  AR01,    46,  1,     28,2,19980204,0707, 24.5002, -41.6330, 4721,    299.6,  17.1960,  36.4370,  36.4330,2,    194.4,2,     192.5,2,     1.60,2,     6.24,2,     0.00,2,  -999.00,5,    2.322,2,    1.276,2,    0.027,2, -999.000,9,   -999.0,9,  -999.00,9,   2117.6,2,   2391.1,2,   7.9411,2,   457.6,3,   20.0, -999.00,9,   408.8,  -999.0, -999.00,9
31RBOACES24N_2,  AR01,    46,  1,     27,2,19980204,0707, 24.5002, -41.6330, 4721,    350.1,  16.5340,  36.3310,  36.3370,2,    188.1,2,     188.8,2,     2.00,2,     7.51,2,     0.00,2,  -999.00,5,    2.303,2,    1.256,2,    0.031,2, -999.000,9,   -999.0,9,  -999.00,9,   2127.5,2,   2384.6,2,   7.9220,2,  -999.0,9, -999.0, -999.00,9,  -999.0,  -999.0,   48.31,2
31RBOACES24N_2,  AR01,    46,  1,     26,2,19980204,0707, 24.5002, -41.6330, 4721,    400.2,  15.4700,  36.1540,  36.1610,2,    186.4,2,     184.9,2,     2.60,2,     9.47,2,     0.00,2,  -999.00,5,    2.235,2,    1.192,2,    0.041,2, -999.000,9,   -999.0,9,  -999.00,9,   2134.6,2,   2372.2,2,   7.8908,2,   449.1,3,   20.0, -999.00,9,   373.3,  -999.0, -999.00,9
31RBOACES24N_2,  AR01,    46,  1,     25,2,19980204,0707, 24.5002, -41.6330, 4721,    449.5,  14.5390,  36.0020,  36.0100,2,    183.7,2,     185.7,2,     3.20,2,    10.83,2,     0.00,2,  -999.00,5,    2.181,2,    1.168,2,    0.031,2, -999.000,9,   -999.0,9,  -999.00,9,   2138.7,2,   2366.5,2,   7.8715,2,  -999.0,9, -999.0, -999.00,9,  -999.0,  -999.0,   47.91,2
31RBOACES24N_2,  AR01,    46,  1,     24,2,19980204,0707, 24.5002, -41.6330, 4721,    470.4,  14.1670,  35.9450,  35.9470,2,    185.2,2,     185.8,2,     3.50,2,    11.42,2,     0.00,2,  -999.00,5,    2.157,2,    1.130,2,    0.037,2, -999.000,9,   -999.0,9,  -999.00,9,   2138.9,2,   2356.8,2,   7.8607,2,   478.7,3,   20.0, -999.00,9,   376.7,  -999.0, -999.00,9
31RBOACES24N_2,  AR01,    46,  1,     23,2,19980204,0707, 24.5002, -41.6330, 4721,    527.3,  13.1680,  35.7980,  35.8050,2,    185.2,2,     184.1,2,     4.30,2,    13.18,2,     0.00,2,  -999.00,5,    2.071,2,    1.067,2,    0.028,2, -999.000,9,   -999.0,9,  -999.00,9,   2146.4,2,   2352.3,2,   7.8335,2,  -999.0,9, -999.0, -999.00,9,  -999.0,  -999.0,   47.61,2
31RBOACES24N_2,  AR01,    46,  1,     22,2,19980204,0707, 24.5002, -41.6330, 4721,    599.8,  12.4430,  35.6940,  35.6960,2,    180.0,2,     180.2,2,     5.30,2,    14.94,2,     0.00,2,  -999.00,5,    1.853,2,    0.946,2,    0.025,2, -999.000,9,   -999.0,9,  -999.00,9,   2155.5,2,   2346.1,2,   7.8070,2,   553.0,3,   20.0, -999.00,9,   404.7,  -999.0, -999.00,9
31RBOACES24N_2,  AR01,    46,  1,     21,2,19980204,0707, 24.5002, -41.6330, 4721,    697.6,  11.1640,  35.5380,  35.5380,2,    166.3,2,     166.7,2,     7.70,2,    18.55,2,     0.00,2,  -999.00,5,    1.235,2,    0.620,2,    0.015,2, -999.000,9,   -999.0,9,  -999.00,9,   2167.9,2,   -999.0,9,   7.7600,2,  -999.0,9, -999.0, -999.00,9,  -999.0,  -999.0,   47.61,2
31RBOACES24N_2,  AR01,    46,  1,     20,2,19980204,0707, 24.5002, -41.6330, 4721,    798.9,  10.0140,  35.4100,  35.4090,2,    146.5,2,     148.0,2,    11.10,2,    22.46,2,     0.00,2,  -999.00,5,    0.566,6,    0.275,6,    0.008,6, -999.000,9,   -999.0,9,  -999.00,9,   2189.0,2,   2335.5,2,   7.7077,2,   718.5,3,   20.0, -999.00,9,   474.7,  -999.0,   47.41,2
31RBOACES24N_2,  AR01,    46,  1,     19,2,19980204,0707, 24.5002, -41.6330, 4721,    887.8,   8.7000,  35.2760,  35.2760,2,    140.9,2,     141.7,2,    14.50,2,    25.29,2,     0.00,2,  -999.00,5,    0.218,2,    0.101,2,    0.011,2, -999.000,9,   -999.0,9,  -999.00,9,   2200.5,2,   2334.7,2,   7.6712,2,   794.8,3,   20.0, -999.00,9,   496.6,  -999.0,   43.22,2
31RBOACES24N_2,  AR01,    46,  1,     18,2,19980204,0707, 24.5002, -41.6330, 4721,   1001.7,   7.4200,  35.1660,  35.1730,2,    153.4,2,     153.5,2,    16.80,2,    25.78,2,     0.00,2,  -999.00,5,    0.099,2,    0.042,2,    0.000,2, -999.000,9,   -999.0,9,  -999.00,9,   2201.1,6,   -999.0,9,   7.6633,2,   817.7,3,   20.0, -999.00,9,   483.0,  -999.0, -999.00,9
31RBOACES24N_2,  AR01,    46,  1,     17,2,19980204,0707, 24.5002, -41.6330, 4721,   1201.8,   5.7500,  35.0370,  35.0370,2,    187.8,2,     188.3,2,    17.90,2,    24.32,2,     0.00,2,  -999.00,5,    0.050,2,    0.021,2,    0.003,2, -999.000,9,   -999.0,9,  -999.00,9,   2188.5,2,   2321.3,2,   7.6744,2,   814.2,3,   20.0, -999.00,9,   445.4,  -999.0,   43.11,2
31RBOACES24N_2,  AR01,    46,  1,     16,2,19980204,0707, 24.5002, -41.6330, 4721,   1399.9,   5.1580,  35.0430,  35.0410,2,    209.8,2,     209.4,2,    17.40,2,    22.56,2,     0.00,2,  -999.00,5,    0.037,2,    0.016,2,    0.003,2, -999.000,9,   -999.0,9,  -999.00,9,   2183.4,2,   -999.0,5,   7.6985,2,   737.7,3,   20.0, -999.00,9,   391.0,  -999.0, -999.00,9
31RBOACES24N_2,  AR01,    46,  1,     15,2,19980204,0707, 24.5002, -41.6330, 4721,   1600.0,   4.6620,  35.0430,  35.0420,2,    225.6,2,     226.4,2,    17.50,2,    21.19,2,     0.00,2,  -999.00,5, -999.000,9, -999.000,9, -999.000,9, -999.000,9,   -999.0,9,  -999.00,9,   2176.3,2,   2325.1,2,   7.7132,2,  -999.0,9, -999.0, -999.00,9,  -999.0,  -999.0,   41.84,2
31RBOACES24N_2,  AR01,    46,  1,     14,2,19980204,0707, 24.5002, -41.6330, 4721,   1794.6,   4.2010,  35.0290,  35.0290,2,    235.7,2,     236.7,2,    19.10,2,    20.61,2,     0.00,2,  -999.00,5,    0.021,2,    0.008,2,    0.004,2, -999.000,9,   -999.0,9,  -999.00,9,   2173.1,2,   2321.8,2,   7.7233,2,  -999.0,9, -999.0, -999.00,9,  -999.0,  -999.0, -999.00,9
31RBOACES24N_2,  AR01,    46,  1,     13,2,19980204,0707, 24.5002, -41.6330, 4721,   1998.9,   3.8920,  35.0170,  35.0170,2,    241.6,2,     242.4,2,    21.00,2,    20.31,2,     0.00,2,  -999.00,5, -999.000,9, -999.000,9, -999.000,9, -999.000,9,   -999.0,9,  -999.00,9,   2172.8,2,   2327.4,2,   7.7294,2,   676.9,3,   20.0, -999.00,9,   336.4,  -999.0,   41.64,2
31RBOACES24N_2,  AR01,    46,  1,     12,2,19980204,0707, 24.5002, -41.6330, 4721,   2202.1,   3.5730,  34.9980,  34.9980,2,    245.7,2,     245.7,2,    23.50,2,    20.31,2,     0.00,2,  -999.00,5,    0.004,2,    0.005,2,    0.000,2, -999.000,9,   -999.0,9,  -999.00,9,   2175.2,2,   -999.0,9,-999.0000,9,  -999.0,9, -999.0, -999.00,9,  -999.0,  -999.0, -999.00,9
31RBOACES24N_2,  AR01,    46,  1,     11,2,19980204,0707, 24.5002, -41.6330, 4721,   2400.7,   3.3340,  34.9810,  34.9810,2,    249.4,2,     248.4,2,    25.90,2,    20.41,3,     0.00,2,  -999.00,5, -999.000,9, -999.000,9, -999.000,9, -999.000,9,   -999.0,9,  -999.00,9,   2176.8,2,   2329.1,2,   7.7315,2,  -999.0,9, -999.0, -999.00,9,  -999.0,  -999.0,   41.64,2
31RBOACES24N_2,  AR01,    46,  1,     10,2,19980204,0707, 24.5002, -41.6330, 4721,   2597.1,   3.1940,  34.9710,  34.9730,2,    251.5,2,     251.3,2,    27.30,2,    20.22,2,     0.00,2,  -999.00,5,    0.022,4,    0.013,2,    0.002,2, -999.000,9,   -999.0,9,  -999.00,9,   2177.6,2,   -999.0,9,-999.0000,9,   675.8,3,   20.0, -999.00,9,   324.2,  -999.0, -999.00,9
31RBOACES24N_2,  AR01,    46,  1,      9,2,19980204,0707, 24.5002, -41.6330, 4721,   2798.2,   2.9930,  34.9570,  34.9560,2,    251.1,2,     251.0,2,    30.50,2,    20.61,2,     0.00,2,  -999.00,5, -999.000,9, -999.000,9, -999.000,9, -999.000,9,   -999.0,9,  -999.00,9,   2181.3,2,   -999.0,9,   7.7276,2,  -999.0,9, -999.0, -999.00,9,  -999.0,  -999.0,   41.35,2
31RBOACES24N_2,  AR01,    46,  1,      8,2,19980204,0707, 24.5002, -41.6330, 4721,   2989.4,   2.8210,  34.9410,  34.9420,2,    250.1,2,     250.6,2,    33.50,2,    20.80,2,     0.00,2,  -999.00,5,    0.005,4,    0.003,2,   -0.001,2, -999.000,9,   -999.0,9,  -999.00,9,   2184.5,2,   -999.0,9,-999.0000,9,  -999.0,9, -999.0, -999.00,9,  -999.0,  -999.0,   41.35,2
31RBOACES24N_2,  AR01,    46,  1,      7,2,19980204,0707, 24.5002, -41.6330, 4721,   3249.0,   2.6630,  34.9270,  34.9280,2,    250.0,2,     249.4,2,    36.70,2,    21.19,2,     0.00,2,  -999.00,5, -999.000,9, -999.000,9, -999.000,9, -999.000,9,   -999.0,9,  -999.00,9,   2190.4,2,   2342.2,2,   7.7289,2,   687.1,3,   20.0, -999.00,9,   320.6,  -999.0, -999.00,9
31RBOACES24N_2,  AR01,    46,  1,      6,2,19980204,0707, 24.5002, -41.6330, 4721,   3495.6,   2.5690,  34.9180,  34.9180,2,    250.3,2,     249.6,2,    38.90,2,    21.39,2,     0.00,2,  -999.00,5,   -0.001,6,    0.000,6,   -0.001,6, -999.000,9,   -999.0,9,  -999.00,9,   2191.5,2,   -999.0,9,-999.0000,9,  -999.0,9, -999.0, -999.00,9,  -999.0,  -999.0,   41.44,2
31RBOACES24N_2,  AR01,    46,  1,      5,2,19980204,0707, 24.5002, -41.6330, 4721,   3747.2,   2.4850,  34.9070,  34.9070,2,    250.2,2,     250.0,2,    40.90,2,    21.49,2,     0.00,2,  -999.00,5, -999.000,9, -999.000,9, -999.000,9, -999.000,9,   -999.0,9,  -999.00,9,   2194.8,2,   2349.9,2,   7.7284,2,  -999.0,9, -999.0, -999.00,9,  -999.0,  -999.0, -999.00,9
31RBOACES24N_2,  AR01,    46,  1,      4,2,19980204,0707, 24.5002, -41.6330, 4721,   3999.7,   2.4590,  34.9020,  34.9020,2,    250.4,2,     250.3,2,    41.90,2,    21.59,2,     0.00,2,  -999.00,5,    0.000,2,   -0.003,2,    0.000,2, -999.000,9,   -999.0,9,  -999.00,9,   2196.3,2,   -999.0,9,-999.0000,9,   691.8,3,   20.0, -999.00,9,   319.1,  -999.0,   41.15,2
31RBOACES24N_2,  AR01,    46,  1,      3,2,19980204,0707, 24.5002, -41.6330, 4721,   4250.2,   2.4310,  34.8970,  34.8970,2,    251.3,2,     251.0,2,    43.10,2,    21.68,2,     0.00,2,  -999.00,5,    0.001,2,    0.002,2,    0.003,2, -999.000,9,   -999.0,9,  -999.00,9,   2196.5,2,   2343.7,2,   7.7262,2,  -999.0,9, -999.0, -999.00,9,  -999.0,  -999.0, -999.00,9
31RBOACES24N_2,  AR01,    46,  1,      2,2,19980204,0707, 24.5002, -41.6330, 4721,   4497.8,   2.4150,  34.8930,  34.8930,2,    250.7,2,     251.3,2,    44.10,2,    21.78,2,     0.00,2,  -999.00,5,    0.000,2,    0.001,2,    0.001,2, -999.000,9,   -999.0,9,  -999.00,9,   2198.9,2,   -999.0,9,-999.0000,9,  -999.0,9, -999.0, -999.00,9,  -999.0,  -999.0,   40.96,2
31RBOACES24N_2,  AR01,    46,  1,      1,2,19980204,0707, 24.5002, -41.6330, 4721,   4779.5,   2.4220,  34.8900,  34.8890,2,    250.1,2,     251.3,2,    44.80,6,    21.88,6,     0.00,6,  -999.00,5, -999.000,9, -999.000,9, -999.000,9, -999.000,9,   -999.0,9,  -999.00,9,   2199.5,2,   2346.3,2,   7.7268,2,   731.4,3,   20.0, -999.00,9,   337.5,  -999.0,   40.96,2