BOTTLE,20220820CCHSIOAMB
EXPOCODE,SECT_ID,STNNBR,CASTNO,BTLNBR,BTLNBR_FLAG_W,DATE,TIME,LATITUDE,LONGITUDE,DEPTH,CTDPRS,CTDTMP,CTDSAL,SALNTY,SALNTY_FLAG_W,CTDOXY,CTDOXY_FLAG_W,OXYGEN,OXYGEN_FLAG_W,SILCAT,SILCAT_FLAG_W,NITRAT,NITRAT_FLAG_W,NITRIT,NITRIT_FLAG_W,PHSPHT,PHSPHT_FLAG_W,CFC-11,CFC-11_FLAG_W,CFC-12,CFC-12_FLAG_W,CFC113,CFC113_FLAG_W,CCL4,CCL4_FLAG_W,DELC14,DELC14_FLAG_W,DELC13,DELC13_FLAG_W,TCARBN,TCARBN_FLAG_W,ALKALI,ALKALI_FLAG_W,PH,PH_FLAG_W,FCO2,FCO2_FLAG_W,FCO2TMP,TON,TON_FLAG_W,FCO2IN,C14ERR,TOC,TOC_FLAG_W
,,,,,,,,,,,DBAR,ITS-90,PSS-78,PSS-78,,UMOL/KG,,UMOL/KG,,UMOL/KG,,UMOL/KG,,UMOL/KG,,UMOL/KG,,PMOL/KG,,PMOL/KG,,PMOL/KG,,PMOL/KG,,/MILLE,,/MILLE,,UMOL/KG,,UMOL/KG,,,,UATM,,DEG C,UMOL/KG,,UATM,/MILLE,UMOL/KG,
31RBOACES24N_2,  AR01,   113,  1,     36,2,19980221,0951, 26.4998, -76.3002, 4834,      3.3,  22.6940,  36.6560,  36.6550,2,    221.0,2,     217.2,2,     0.90,2,     0.00,2,     0.00,2,     0.00,2, -999.000,9, -999.000,9, -999.000,9, -999.000,9,   -999.0,9,     1.23,2,   2040.1,6,   2393.1,6,-999.0000,9,   287.6,6,   20.0, -999.00,9,   320.0,  -999.0, -999.00,9
31RBOACES24N_2,  AR01,   113,  1,     35,2,19980221,0951, 26.4998, -76.3002, 4834,     49.7,  22.0640,  36.6510,  36.6500,2,    218.2,2,     218.4,2,     0.90,2,     0.00,2,     0.00,2,     0.00,2, -999.000,9, -999.000,9, -999.000,9, -999.000,9,   -999.0,9,  -999.00,9,   -999.0,9,   -999.0,9,-999.0000,9,  -999.0,9, -999.0, -999.00,9,  -999.0,  -999.0, -999.00,9
31RBOACES24N_2,  AR01,   113,  1,     34,2,19980221,0951, 26.4998, -76.3002, 4834,    100.3,  21.9680,  36.6580,  36.6600,2,    216.5,2,     218.0,2,     0.90,2,     0.00,2,     0.00,2,     0.01,2, -999.000,9, -999.000,9, -999.000,9, -999.000,9,   -999.0,9,  -999.00,9,   -999.0,9,   -999.0,9,-999.0000,9,  -999.0,9, -999.0, -999.00,9,  -999.0,  -999.0, -999.00,9
31RBOACES24N_2,  AR01,   113,  1,     33,2,19980221,0951, 26.4998, -76.3002, 4834,    123.2,  21.8110,  36.6550,  36.6550,2,    217.7,2,     218.5,2,     0.90,2,     0.00,2,     0.01,2,     0.01,2, -999.000,9, -999.000,9, -999.000,9, -999.000,9,   -999.0,9,  -999.00,9,   -999.0,9,   -999.0,9,-999.0000,9,  -999.0,9, -999.0, -999.00,9,  -999.0,  -999.0, -999.00,9
31RBOACES24N_2,  AR01,   113,  1,     32,2,19980221,0951, 26.4998, -76.3002, 4834,    150.0,  21.6550,  36.6530,  36.6550,2,    218.5,2,     218.9,2,     0.90,2,     0.00,2,     0.01,2,     0.01,2, -999.000,9, -999.000,9, -999.000,9, -999.000,9,   -999.0,9,  -999.00,9,   -999.0,9,   -999.0,9,-999.0000,9,  -999.0,9, -999.0, -999.00,9,  -999.0,  -999.0, -999.00,9
31RBOACES24N_2,  AR01,   113,  1,     31,2,19980221,0951, 26.4998, -76.3002, 4834,    200.5,  20.8020,  36.8150,  36.8180,2,    207.5,2,     211.5,2,     0.80,2,     0.49,2,     0.04,2,     0.02,2, -999.000,9, -999.000,9, -999.000,9, -999.000,9,   -999.0,9,  -999.00,9,   -999.0,9,   -999.0,9,-999.0000,9,  -999.0,9, -999.0, -999.00,9,  -999.0,  -999.0, -999.00,9
31RBOACES24N_2,  AR01,   113,  1,     30,2,19980221,0951, 26.4998, -76.3002, 4834,    225.4,  20.1520,  36.8280,  36.8280,2,    203.8,2,     211.7,2,     0.80,2,     0.49,2,     0.02,2,     0.03,2, -999.000,9, -999.000,9, -999.000,9, -999.000,9,   -999.0,9,  -999.00,9,   -999.0,9,   -999.0,9,-999.0000,9,  -999.0,9, -999.0, -999.00,9,  -999.0,  -999.0, -999.00,9
31RBOACES24N_2,  AR01,   113,  1,     29,2,19980221,0951, 26.4998, -76.3002, 4834,    251.0,  19.5520,  36.7380,  36.7270,2,    194.0,2,     206.7,2,     0.90,2,     1.37,2,     0.01,2,     0.05,2, -999.000,9, -999.000,9, -999.000,9, -999.000,9,   -999.0,9,  -999.00,9,   -999.0,9,   -999.0,9,-999.0000,9,  -999.0,9, -999.0, -999.00,9,  -999.0,  -999.0, -999.00,9
31RBOACES24N_2,  AR01,   113,  1,     28,2,19980221,0951, 26.4998, -76.3002, 4834,    274.7,  18.9380,  36.6450,  36.6450,2,    196.6,2,     196.5,2,     1.20,2,     2.73,2,     0.00,2,     0.10,2, -999.000,9, -999.000,9, -999.000,9, -999.000,9,   -999.0,9,  -999.00,9,   -999.0,9,   -999.0,9,-999.0000,9,  -999.0,9, -999.0, -999.00,9,  -999.0,  -999.0, -999.00,9
31RBOACES24N_2,  AR01,   113,  1,     27,2,19980221,0951, 26.4998, -76.3002, 4834,    298.1,  18.7950,  36.6240,  36.6230,2,    202.3,2,     198.3,2,     1.20,2,     2.93,2,     0.00,2,     0.11,2, -999.000,9, -999.000,9, -999.000,9, -999.000,9,   -999.0,9,  -999.00,9,   -999.0,9,   -999.0,9,-999.0000,9,  -999.0,9, -999.0, -999.00,9,  -999.0,  -999.0, -999.00,9
31RBOACES24N_2,  AR01,   113,  1,     26,2,19980221,0951, 26.4998, -76.3002, 4834,    344.9,  18.3380,  36.5690,  36.5690,2,    207.8,2,     206.3,2,     1.30,2,     3.41,2,     0.00,2,     0.15,2, -999.000,9, -999.000,9, -999.000,9, -999.000,9,   -999.0,9,  -999.00,9,   -999.0,9,   -999.0,9,-999.0000,9,  -999.0,9, -999.0, -999.00,9,  -999.0,  -999.0, -999.00,9
31RBOACES24N_2,  AR01,   113,  1,     25,2,19980221,0951, 26.4998, -76.3002, 4834,    398.7,  18.1050,  36.5440,  36.5450,2,    202.6,2,     210.1,2,     1.40,2,     3.51,2,     0.00,2,     0.17,2, -999.000,9, -999.000,9, -999.000,9, -999.000,9,   -999.0,9,  -999.00,9,   -999.0,9,   -999.0,9,-999.0000,9,  -999.0,9, -999.0, -999.00,9,  -999.0,  -999.0, -999.00,9
31RBOACES24N_2,  AR01,   113,  1,     24,2,19980221,0951, 26.4998, -76.3002, 4834,    499.3,  17.2860,  36.3920,  36.4000,2,    190.7,2,     191.1,2,     2.20,2,     6.54,2,     0.00,2,     0.34,2, -999.000,9, -999.000,9, -999.000,9, -999.000,9,   -999.0,9,  -999.00,9,   -999.0,9,   -999.0,9,-999.0000,9,  -999.0,9, -999.0, -999.00,9,  -999.0,  -999.0, -999.00,9
31RBOACES24N_2,  AR01,   113,  1,     23,2,19980221,0951, 26.4998, -76.3002, 4834,    600.1,  15.2020,  36.0360,  36.0400,2,    180.7,2,     176.6,2,     4.20,2,    11.22,2,     0.00,2,     0.65,2, -999.000,9, -999.000,9, -999.000,9, -999.000,9,   -999.0,9,  -999.00,9,   -999.0,9,   -999.0,9,-999.0000,9,  -999.0,9, -999.0, -999.00,9,  -999.0,  -999.0, -999.00,9
31RBOACES24N_2,  AR01,   113,  1,     22,2,19980221,0951, 26.4998, -76.3002, 4834,    699.8,  12.5010,  35.6400,  35.6530,2,    161.6,2,     161.0,2,     7.60,2,    16.89,2,     0.00,2,     1.03,2, -999.000,9, -999.000,9, -999.000,9, -999.000,9,   -999.0,9,  -999.00,9,   -999.0,9,   -999.0,9,-999.0000,9,  -999.0,9, -999.0, -999.00,9,  -999.0,  -999.0, -999.00,9
31RBOACES24N_2,  AR01,   113,  1,     21,2,19980221,0951, 26.4998, -76.3002, 4834,    799.7,  10.6950,  35.3980,  35.4040,2,    150.9,2,     150.8,2,    11.10,2,    21.19,2,     0.00,2,     1.33,2, -999.000,9, -999.000,9, -999.000,9, -999.000,9,   -999.0,9,  -999.00,9,   -999.0,9,   -999.0,9,-999.0000,9,  -999.0,9, -999.0, -999.00,9,  -999.0,  -999.0, -999.00,9
31RBOACES24N_2,  AR01,   113,  1,     20,2,19980221,0951, 26.4998, -76.3002, 4834,    900.2,   8.8720,  35.1890,  35.1890,2,    150.4,2,     148.4,2,    15.10,2,    24.32,2,     0.00,2,     1.58,2, -999.000,9, -999.000,9, -999.000,9, -999.000,9,   -999.0,9,  -999.00,9,   -999.0,9,   -999.0,9,-999.0000,9,  -999.0,9, -999.0, -999.00,9,  -999.0,  -999.0, -999.00,9
31RBOACES24N_2,  AR01,   113,  1,     19,2,19980221,0951, 26.4998, -76.3002, 4834,    999.3,   7.3010,  35.0710,  35.0750,2,    165.6,2,     163.7,2,    17.30,2,    24.90,2,     0.00,2,     1.64,2, -999.000,9, -999.000,9, -999.000,9, -999.000,9,   -999.0,9,  -999.00,9,   -999.0,9,   -999.0,9,-999.0000,9,  -999.0,9, -999.0, -999.00,9,  -999.0,  -999.0, -999.00,9
31RBOACES24N_2,  AR01,   113,  1,     18,2,19980221,0951, 26.4998, -76.3002, 4834,   1150.6,   5.9630,  35.0870,  35.0880,2,    205.6,2,     206.1,2,    15.20,2,    21.29,2,     0.00,2,     1.42,2, -999.000,9, -999.000,9, -999.000,9, -999.000,9,   -999.0,9,  -999.00,9,   -999.0,9,   -999.0,9,-999.0000,9,  -999.0,9, -999.0, -999.00,9,  -999.0,  -999.0, -999.00,9
31RBOACES24N_2,  AR01,   113,  1,     17,2,19980221,0951, 26.4998, -76.3002, 4834,   1298.8,   5.1100,  35.0610,  35.0650,2,    236.4,2,     236.5,2,    13.60,2,    19.14,2,     0.00,2,     1.28,2, -999.000,9, -999.000,9, -999.000,9, -999.000,9,   -999.0,9,  -999.00,9,   -999.0,9,   -999.0,9,-999.0000,9,  -999.0,9, -999.0, -999.00,9,  -999.0,  -999.0, -999.00,9
31RBOACES24N_2,  AR01,   113,  1,     16,2,19980221,0951, 26.4998, -76.3002, 4834,   1449.3,   4.5420,  35.0190,  35.0210,2,    253.5,2,     253.7,2,    13.00,2,    18.26,2,     0.00,2,     1.22,2, -999.000,9, -999.000,9, -999.000,9, -999.000,9,   -999.0,9,  -999.00,9,   -999.0,9,   -999.0,9,-999.0000,9,  -999.0,9, -999.0, -999.00,9,  -999.0,  -999.0, -999.00,9
31RBOACES24N_2,  AR01,   113,  1,     15,2,19980221,0951, 26.4998, -76.3002, 4834,   1596.6,   4.1860,  34.9910,  34.9920,2,    261.7,2,     262.8,2,    13.20,2,    17.87,2,     0.00,2,     1.20,2, -999.000,9, -999.000,9, -999.000,9, -999.000,9,   -999.0,9,  -999.00,9,   -999.0,9,   -999.0,9,-999.0000,9,  -999.0,9, -999.0, -999.00,9,  -999.0,  -999.0, -999.00,9
31RBOACES24N_2,  AR01,   113,  1,     14,2,19980221,0951, 26.4998, -76.3002, 4834,   1749.0,   3.9740,  34.9820,  34.9820,2,    266.8,2,     266.4,2,    13.70,2,    17.78,2,     0.00,2,     1.19,2, -999.000,9, -999.000,9, -999.000,9, -999.000,9,   -999.0,9,  -999.00,9,   -999.0,9,   -999.0,9,-999.0000,9,  -999.0,9, -999.0, -999.00,9,  -999.0,  -999.0, -999.00,9
31RBOACES24N_2,  AR01,   113,  1,     13,2,19980221,0951, 26.4998, -76.3002, 4834,   1892.7,   3.8170,  34.9740,  34.9740,2,    267.6,2,     268.6,2,    14.30,2,    17.68,2,     0.00,2,     1.19,2, -999.000,9, -999.000,9, -999.000,9, -999.000,9,   -999.0,9,  -999.00,9,   -999.0,9,   -999.0,9,-999.0000,9,  -999.0,9, -999.0, -999.00,9,  -999.0,  -999.0, -999.00,9
31RBOACES24N_2,  AR01,   113,  1,     12,2,19980221,0951, 26.4998, -76.3002, 4834,   2044.5,   3.6920,  34.9730,  34.9740,2,    267.4,2,     268.5,2,    15.20,2,    17.68,2,     0.00,2,     1.20,2, -999.000,9, -999.000,9, -999.000,9, -999.000,9,   -999.0,9,  -999.00,9,   -999.0,9,   -999.0,9,-999.0000,9,  -999.0,9, -999.0, -999.00,9,  -999.0,  -999.0, -999.00,9
31RBOACES24N_2,  AR01,   113,  1,     11,2,19980221,0951, 26.4998, -76.3002, 4834,   2198.5,   3.5410,  34.9700,  34.9700,2,    268.5,2,     268.5,2,    16.50,2,    17.68,2,     0.00,2,     1.21,2, -999.000,9, -999.000,9, -999.000,9, -999.000,9,   -999.0,9,  -999.00,9,   -999.0,9,   -999.0,9,-999.0000,9,  -999.0,9, -999.0, -999.00,9,  -999.0,  -999.0, -999.00,9
31RBOACES24N_2,  AR01,   113,  1,     10,2,19980221,0951, 26.4998, -76.3002, 4834,   2394.1,   3.3650,  34.9650,  34.9660,2,    267.7,2,     268.0,2,    18.30,2,    17.78,2,     0.00,2,     1.22,2, -999.000,9, -999.000,9, -999.000,9, -999.000,9,   -999.0,9,  -999.00,9,   -999.0,9,   -999.0,9,-999.0000,9,  -999.0,9, -999.0, -999.00,9,  -999.0,  -999.0, -999.00,9
31RBOACES24N_2,  AR01,   113,  1,      9,2,19980221,0951, 26.4998, -76.3002, 4834,   2596.9,   3.1480,  34.9530,  34.9520,2,    268.5,2,     269.9,2,    19.40,2,    17.78,2,     0.00,2,     1.22,2, -999.000,9, -999.000,9, -999.000,9, -999.000,9,   -999.0,9,  -999.00,9,   -999.0,9,   -999.0,9,-999.0000,9,  -999.0,9, -999.0, -999.00,9,  -999.0,  -999.0, -999.00,9
31RBOACES24N_2,  AR01,   113,  1,      8,2,19980221,0951, 26.4998, -76.3002, 4834,   2798.4,   2.9480,  34.9410,  34.9410,2,    270.5,2,     271.2,2,    20.60,2,    17.68,2,     0.00,2,     1.22,2, -999.000,9, -999.000,9, -999.000,9, -999.000,9,   -999.0,9,  -999.00,9,   -999.0,9,   -999.0,9,-999.0000,9,  -999.0,9, -999.0, -999.00,9,  -999.0,  -999.0, -999.00,9
31RBOACES24N_2,  AR01,   113,  1,      7,2,19980221,0951, 26.4998, -76.3002, 4834,   3098.2,   2.6930,  34.9270,  34.9260,2,    273.6,2,     274.6,2,    21.70,2,    17.48,2,     0.00,2,     1.20,2, -999.000,9, -999.000,9, -999.000,9, -999.000,9,   -999.0,9,  -999.00,9,   -999.0,9,   -999.0,9,-999.0000,9,  -999.0,9, -999.0, -999.00,9,  -999.0,  -999.0, -999.00,9
31RBOACES24N_2,  AR01,   113,  1,      6,2,19980221,0951, 26.4998, -76.3002, 4834,   3394.4,   2.4970,  34.9150,  34.9140,2,    276.4,2,     276.1,2,    23.30,2,    17.29,2,     0.00,2,     1.20,2, -999.000,9, -999.000,9, -999.000,9, -999.000,9,   -999.0,9,  -999.00,9,   -999.0,9,   -999.0,9,-999.0000,9,  -999.0,9, -999.0, -999.00,9,  -999.0,  -999.0, -999.00,9
31RBOACES24N_2,  AR01,   113,  1,      5,2,19980221,0951, 26.4998, -76.3002, 4834,   3699.2,   2.3750,  34.9060,  34.9050,2,    275.2,2,     275.7,2,    25.80,2,    17.48,2,     0.00,2,     1.22,2, -999.000,9, -999.000,9, -999.000,9, -999.000,9,   -999.0,9,  -999.00,9,   -999.0,9,   -999.0,9,-999.0000,9,  -999.0,9, -999.0, -999.00,9,  -999.0,  -999.0, -999.00,9
31RBOACES24N_2,  AR01,   113,  1,      4,2,19980221,0951, 26.4998, -76.3002, 4834,   3998.9,   2.3110,  34.9000,  34.8990,2,    274.8,2,     274.1,2,    28.70,2,    17.87,2,     0.00,2,     1.25,2, -999.000,9, -999.000,9, -999.000,9, -999.000,9,   -999.0,9,  -999.00,9,   -999.0,9,   -999.0,9,-999.0000,9,  -999.0,9, -999.0, -999.00,9,  -999.0,  -999.0, -999.00,9
31RBOACES24N_2,  AR01,   113,  1,      3,2,19980221,0951, 26.4998, -76.3002, 4834,   4298.2,   2.2860,  34.8950,  34.8940,2,    272.5,2,     272.4,2,    31.50,2,    18.27,2,     0.00,2,     1.28,2, -999.000,9, -999.000,9, -999.000,9, -999.000,9,   -999.0,9,  -999.00,9,   -999.0,9,   -999.0,9,-999.0000,9,  -999.0,9, -999.0, -999.00,9,  -999.0,  -999.0, -999.00,9
31RBOACES24N_2,  AR01,   113,  1,      2,2,19980221,0951, 26.4998, -76.3002, 4834,   4597.5,   2.2660,  34.8900,  34.8880,2,    268.5,2,     268.8,2,    35.90,2,    18.95,2,     0.00,2,     1.33,2, -999.000,9, -999.000,9, -999.000,9, -999.000,9,   -999.0,9,  -999.00,9,   -999.0,9,   -999.0,9,-999.0000,9,  -999.0,9, -999.0, -999.00,9,  -999.0,  -999.0, -999.00,9
31RBOACES24N_2,  AR01,   113,  1,      1,2,19980221,0951, 26.4998, -76.3002, 4834,   4909.2,   2.2060,  34.8770,  34.8760,2,    261.6,2,     263.0,6,    44.00,6,    20.22,2,     0.01,6,     1.45,2, -999.000,9, -999.000,9, -999.000,9, -999.000,9,   -999.0,9,  -999.00,9,   -999.0,9,   -999.0,9,   8.0896,4,  -999.0,9, -999.0, -999.00,9,  -999.0,  -999.0, -999.00,9