BOTTLE,20220820CCHSIOAMB
EXPOCODE,SECT_ID,STNNBR,CASTNO,BTLNBR,BTLNBR_FLAG_W,DATE,TIME,LATITUDE,LONGITUDE,DEPTH,CTDPRS,CTDTMP,CTDSAL,SALNTY,SALNTY_FLAG_W,CTDOXY,CTDOXY_FLAG_W,OXYGEN,OXYGEN_FLAG_W,SILCAT,SILCAT_FLAG_W,NITRAT,NITRAT_FLAG_W,NITRIT,NITRIT_FLAG_W,PHSPHT,PHSPHT_FLAG_W,CFC-11,CFC-11_FLAG_W,CFC-12,CFC-12_FLAG_W,CFC113,CFC113_FLAG_W,CCL4,CCL4_FLAG_W,DELC14,DELC14_FLAG_W,DELC13,DELC13_FLAG_W,TCARBN,TCARBN_FLAG_W,ALKALI,ALKALI_FLAG_W,PH,PH_FLAG_W,FCO2,FCO2_FLAG_W,FCO2TMP,TON,TON_FLAG_W,FCO2IN,C14ERR,TOC,TOC_FLAG_W
,,,,,,,,,,,DBAR,ITS-90,PSS-78,PSS-78,,UMOL/KG,,UMOL/KG,,UMOL/KG,,UMOL/KG,,UMOL/KG,,UMOL/KG,,PMOL/KG,,PMOL/KG,,PMOL/KG,,PMOL/KG,,/MILLE,,/MILLE,,UMOL/KG,,UMOL/KG,,,,UATM,,DEG C,UMOL/KG,,UATM,/MILLE,UMOL/KG,
31RBOACES24N_2,  AR01,   118,  1,     36,2,19980222,0803, 26.4993, -76.7532, 3815,      4.0,  23.3600,  36.4500,  36.4500,2,    212.8,2,     214.3,2,     0.70,2,     0.00,2,     0.00,2,     0.00,2,    1.937,2,    1.123,2,    0.155,2,    1.947,2,   -999.0,9,     1.26,2,   2032.8,6,   2379.2,2,   8.0808,2,   288.5,2,   20.0,    4.60,2,   329.5,  -999.0, -999.00,9
31RBOACES24N_2,  AR01,   118,  1,     35,2,19980222,0803, 26.4993, -76.7532, 3815,     24.0,  23.3610,  36.4500,  36.4530,2,    214.3,2,     213.1,2,     0.70,2,     0.00,2,     0.00,2,     0.00,2,    1.925,2,    1.123,2,    0.164,2, -999.000,9,   -999.0,9,  -999.00,9,   2030.8,2,   2391.0,2,   8.0852,2,  -999.0,9, -999.0, -999.00,9,  -999.0,  -999.0, -999.00,9
31RBOACES24N_2,  AR01,   118,  1,     34,2,19980222,0803, 26.4993, -76.7532, 3815,     49.1,  23.1260,  36.5510,  36.5520,2,    214.1,2,     178.8,3,     0.70,2,     0.10,2,     0.04,2,     0.01,2, -999.000,9, -999.000,9, -999.000,9, -999.000,9,   -999.0,9,  -999.00,9,   2035.5,2,   2385.5,2,   8.0845,2,  -999.0,9, -999.0,    4.66,2,  -999.0,  -999.0, -999.00,9
31RBOACES24N_2,  AR01,   118,  1,     33,2,19980222,0803, 26.4993, -76.7532, 3815,     74.1,  22.9520,  36.6450,  36.6450,2,    212.8,2,     203.9,2,     0.70,2,     0.00,2,     0.00,2,     0.01,2,    1.968,2,    1.137,2,    0.157,2, -999.000,9,   -999.0,9,  -999.00,9,   2038.5,2,   2403.1,2,   8.0888,2,   289.0,2,   20.0, -999.00,9,   324.9,  -999.0, -999.00,9
31RBOACES24N_2,  AR01,   118,  1,     32,2,19980222,0803, 26.4993, -76.7532, 3815,     99.7,  22.8950,  36.6630,  36.6630,2,    211.9,2,     211.5,2,     0.70,2,     0.00,2,     0.00,2,     0.01,2, -999.000,9, -999.000,9, -999.000,9, -999.000,9,   -999.0,9,  -999.00,9,   2040.2,2,   2391.9,2,-999.0000,9,   286.2,2,   20.0, -999.00,9,   321.1,  -999.0, -999.00,9
31RBOACES24N_2,  AR01,   118,  1,     31,2,19980222,0803, 26.4993, -76.7532, 3815,    125.2,  22.7130,  36.7660,  36.7800,2,    202.6,2,     201.9,2,     0.70,2,     0.29,2,     0.06,2,     0.02,2,    2.026,2,    1.160,2,    0.137,2,    1.136,2,   -999.0,9,  -999.00,9,   2060.1,2,   2399.3,2,   8.0653,2,   306.9,2,   20.0, -999.00,9,   341.7,  -999.0, -999.00,9
31RBOACES24N_2,  AR01,   118,  1,     30,2,19980222,0803, 26.4993, -76.7532, 3815,    146.6,  21.9210,  36.8860,  36.8810,2,    193.9,2,     194.2,2,     0.70,2,     0.97,2,     0.03,2,     0.03,2, -999.000,9, -999.000,9, -999.000,9, -999.000,9,   -999.0,9,  -999.00,9,   2083.3,2,   -999.0,9,-999.0000,9,  -999.0,9, -999.0,    4.76,2,  -999.0,  -999.0, -999.00,9
31RBOACES24N_2,  AR01,   118,  1,     29,2,19980222,0803, 26.4993, -76.7532, 3815,    172.8,  20.8140,  36.8630,  36.8660,2,    189.4,2,     190.1,2,     0.70,2,     1.37,2,     0.01,2,     0.05,2,    2.153,2,    1.214,2,    0.064,2, -999.000,9,   -999.0,9,  -999.00,9,   2095.9,2,   -999.0,9,-999.0000,9,  -999.0,9, -999.0,    5.37,2,  -999.0,  -999.0, -999.00,9
31RBOACES24N_2,  AR01,   118,  1,     28,2,19980222,0803, 26.4993, -76.7532, 3815,    198.3,  20.0090,  36.7780,  36.7780,2,    186.4,2,     188.4,2,     0.70,2,     2.05,2,     0.01,2,     0.07,2, -999.000,9, -999.000,9, -999.000,9, -999.000,9,   -999.0,9,  -999.00,9,   2100.4,2,   -999.0,5,   8.0017,2,   369.3,2,   20.0,    6.10,2,   369.4,  -999.0, -999.00,9
31RBOACES24N_2,  AR01,   118,  1,     27,2,19980222,0803, 26.4993, -76.7532, 3815,    221.1,  19.4830,  36.7100,  36.7110,2,    186.6,2,     177.3,3,     0.80,2,     2.54,2,     0.00,2,     0.09,2,    2.190,2,    1.219,2,    0.035,2, -999.000,9,   -999.0,9,  -999.00,9,   2099.9,2,   -999.0,9,-999.0000,9,  -999.0,9, -999.0,    6.29,2,  -999.0,  -999.0, -999.00,9
31RBOACES24N_2,  AR01,   118,  1,     26,2,19980222,0803, 26.4993, -76.7532, 3815,    248.2,  18.9460,  36.6420,  36.6430,2,    197.5,2,     197.0,2,     0.90,2,     2.73,2,     0.01,2,     0.10,2,    2.325,2,    1.289,2,    0.038,2,    0.467,2,   -999.0,9,  -999.00,9,   2095.2,2,   -999.0,9,-999.0000,9,  -999.0,9, -999.0, -999.00,9,  -999.0,  -999.0, -999.00,9
31RBOACES24N_2,  AR01,   118,  1,     25,2,19980222,0803, 26.4993, -76.7532, 3815,    272.9,  18.6350,  36.6100,  36.6120,2,    190.5,2,     187.1,2,     1.10,2,     3.51,2,     0.00,2,     0.15,2,    2.312,2,    1.273,2,    0.027,2, -999.000,9,   -999.0,9,  -999.00,9,   2098.8,2,   2390.5,2,   7.9875,2,   387.7,2,   20.0,    7.57,2,   367.0,  -999.0, -999.00,9
31RBOACES24N_2,  AR01,   118,  1,     24,2,19980222,0803, 26.4993, -76.7532, 3815,    300.2,  18.3610,  36.5700,  36.5690,2,    199.8,2,     190.3,2,     1.20,2,     3.71,2,     0.00,2,     0.16,2,    2.317,2,    1.277,2,    0.029,2, -999.000,9,   -999.0,9,  -999.00,9,   2095.1,2,   -999.0,9,-999.0000,9,  -999.0,9, -999.0, -999.00,9,  -999.0,  -999.0, -999.00,9
31RBOACES24N_2,  AR01,   118,  1,     23,2,19980222,0803, 26.4993, -76.7532, 3815,    350.0,  18.0870,  36.5340,  36.5340,2,    206.9,2,     197.3,2,     1.20,2,     4.10,2,     0.00,2,     0.19,2, -999.000,9, -999.000,9, -999.000,9, -999.000,9,   -999.0,9,  -999.00,9,   2095.6,2,   -999.0,9,-999.0000,9,  -999.0,9, -999.0,    7.63,2,  -999.0,  -999.0, -999.00,9
31RBOACES24N_2,  AR01,   118,  1,     22,2,19980222,0803, 26.4993, -76.7532, 3815,    390.7,  17.8290,  36.4930,  36.4910,2,    203.1,2,     191.1,2,     1.50,2,     4.78,2,     0.00,2,     0.24,2,    2.265,6,    1.238,6,    0.033,6, -999.000,9,   -999.0,9,  -999.00,9,   2099.2,2,   2389.5,2,   7.9750,2,   398.6,2,   20.0, -999.00,9,   365.0,  -999.0, -999.00,9
31RBOACES24N_2,  AR01,   118,  1,     21,2,19980222,0803, 26.4993, -76.7532, 3815,    443.9,  17.0270,  36.3530,  36.3650,2,    184.9,2,     176.0,2,     2.30,2,     7.41,2,     0.00,2,     0.40,2, -999.000,9, -999.000,9, -999.000,9, -999.000,9,   -999.0,9,  -999.00,9,   2116.8,2,   -999.0,9,-999.0000,9,  -999.0,9, -999.0,   10.66,2,  -999.0,  -999.0, -999.00,9
31RBOACES24N_2,  AR01,   118,  1,     20,2,19980222,0803, 26.4993, -76.7532, 3815,    499.0,  15.9160,  36.1650,  36.1690,2,    179.6,2,     176.9,2,     3.40,2,    10.05,2,     0.00,2,     0.56,2,    1.900,2,    0.999,2,    0.026,2,    0.396,2,   -999.0,9,  -999.00,9,   2130.8,2,   2365.3,2,-999.0000,9,  -999.0,9, -999.0, -999.00,9,  -999.0,  -999.0, -999.00,9
31RBOACES24N_2,  AR01,   118,  1,     19,2,19980222,0803, 26.4993, -76.7532, 3815,    599.1,  13.5860,  35.7970,  35.7960,2,    160.4,2,     161.1,2,     6.20,2,    15.22,2,     0.00,2,     0.91,2, -999.000,9, -999.000,9, -999.000,9, -999.000,9,   -999.0,9,  -999.00,9,   2151.4,2,   -999.0,9,   7.8127,2,   587.7,2,   20.0,   17.49,2,   452.1,  -999.0, -999.00,9
31RBOACES24N_2,  AR01,   118,  1,     18,2,19980222,0803, 26.4993, -76.7532, 3815,    697.0,  11.3090,  35.4750,  35.4820,2,    154.9,2,     150.1,2,    10.00,2,    19.81,2,     0.00,2,     1.23,2,    0.930,2,    0.478,2,    0.012,2, -999.000,9,   -999.0,9,  -999.00,9,   -999.0,9,   2331.5,2,-999.0000,9,  -999.0,9, -999.0, -999.00,9,  -999.0,  -999.0, -999.00,9
31RBOACES24N_2,  AR01,   118,  1,     17,2,19980222,0803, 26.4993, -76.7532, 3815,    794.6,   9.3580,  35.2400,  35.2530,2,    151.5,2,     150.8,2,    13.70,2,    23.14,2,     0.00,2,     1.48,2, -999.000,9, -999.000,9, -999.000,9, -999.000,9,   -999.0,9,  -999.00,9,   2196.5,2,   -999.0,5,   7.6998,2,   793.3,2,   20.0,   25.19,2,   510.4,  -999.0, -999.00,9
31RBOACES24N_2,  AR01,   118,  1,     16,2,19980222,0803, 26.4993, -76.7532, 3815,    897.8,   7.7880,  35.1260,  35.1310,2,    164.5,2,     164.2,2,    15.40,2,    23.92,2,     0.00,2,     1.56,2,    0.445,2,    0.228,2,    0.010,2,    0.394,2,   -999.0,9,  -999.00,9,   2188.5,2,   2313.4,2,   7.6817,2,   825.0,2,   20.0, -999.00,9,   495.8,  -999.0, -999.00,9
31RBOACES24N_2,  AR01,   118,  1,     15,2,19980222,0803, 26.4993, -76.7532, 3815,    998.8,   6.6200,  35.0860,  35.0850,2,    188.8,2,     186.9,2,    15.60,2,    22.75,2,     0.00,2,     1.51,2, -999.000,9, -999.000,9, -999.000,9, -999.000,9,   -999.0,9,  -999.00,9,   2185.3,6,   2318.2,2,   7.6880,2,   820.8,2,   20.0,   25.07,2,   467.7,  -999.0, -999.00,9
31RBOACES24N_2,  AR01,   118,  1,     14,2,19980222,0803, 26.4993, -76.7532, 3815,   1199.2,   4.8300,  35.0300,  35.0310,2,    241.5,2,     243.3,2,    13.00,2,    18.84,2,     0.00,2,     1.26,2,    0.958,2,    0.465,2,    0.036,2, -999.000,9,   -999.0,9,  -999.00,9,   2168.7,2,   2312.2,2,   7.7199,2,   754.4,2,   20.0, -999.00,9,   394.7,  -999.0, -999.00,9
31RBOACES24N_2,  AR01,   118,  1,     13,2,19980222,0803, 26.4993, -76.7532, 3815,   1399.3,   4.3470,  35.0020,  35.0020,2,    255.7,2,     247.9,3,    12.80,2,    18.16,2,     0.00,2,     1.21,2, -999.000,9, -999.000,9, -999.000,9, -999.000,9,   -999.0,9,  -999.00,9,   2164.9,2,   -999.0,9,-999.0000,9,  -999.0,9, -999.0,   20.73,2,  -999.0,  -999.0, -999.00,9
31RBOACES24N_2,  AR01,   118,  1,     12,2,19980222,0803, 26.4993, -76.7532, 3815,   1598.8,   3.9950,  34.9760,  34.9760,2,    264.7,2,     263.3,2,    13.00,2,    17.67,2,     0.00,2,     1.19,2,    1.164,6,    0.567,6,    0.058,6, -999.000,9,   -999.0,9,  -999.00,9,   2160.9,2,   2308.5,2,   7.7292,2,   737.7,2,   20.0, -999.00,9,   370.8,  -999.0, -999.00,9
31RBOACES24N_2,  AR01,   118,  1,     11,2,19980222,0803, 26.4993, -76.7532, 3815,   1792.7,   3.8640,  34.9670,  34.9670,2,    267.2,2,     268.3,2,    13.00,2,    17.57,2,     0.00,2,     1.18,2,    1.165,2,    0.571,2,    0.056,2,    1.841,2,   -999.0,9,  -999.00,9,   2160.7,2,   -999.0,9,-999.0000,9,  -999.0,9, -999.0,   20.39,2,  -999.0,  -999.0, -999.00,9
31RBOACES24N_2,  AR01,   118,  1,     10,2,19980222,0803, 26.4993, -76.7532, 3815,   1998.4,   3.7060,  34.9590,  34.9590,2,    268.2,2,     266.3,2,    13.50,2,    17.57,2,     0.00,2,     1.18,2,    0.862,6,    0.420,6,    0.049,6, -999.000,9,   -999.0,9,  -999.00,9,   2160.2,2,   -999.0,9,-999.0000,9,  -999.0,9, -999.0, -999.00,9,  -999.0,  -999.0, -999.00,9
31RBOACES24N_2,  AR01,   118,  1,      9,2,19980222,0803, 26.4993, -76.7532, 3815,   2199.2,   3.5260,  34.9600,  34.9610,2,    268.5,2,     257.6,4,    15.00,2,    17.57,2,     0.00,2,     1.19,2, -999.000,9, -999.000,9, -999.000,9, -999.000,9,   -999.0,9,  -999.00,9,   2157.7,2,   2311.7,2,   7.7357,2,   728.9,2,   20.0,   19.99,2,   357.9,  -999.0, -999.00,9
31RBOACES24N_2,  AR01,   118,  1,      8,2,19980222,0803, 26.4993, -76.7532, 3815,   2399.0,   3.2840,  34.9550,  34.9560,2,    268.1,2,     264.5,2,    17.10,2,    17.67,2,     0.00,2,     1.20,2,    0.509,2,    0.250,2,    0.024,2,    1.067,2,   -999.0,9,  -999.00,9,   2160.6,2,   2316.3,2,   7.7388,2,  -999.0,9, -999.0, -999.00,9,  -999.0,  -999.0, -999.00,9
31RBOACES24N_2,  AR01,   118,  1,      7,2,19980222,0803, 26.4993, -76.7532, 3815,   2600.7,   3.1310,  34.9480,  34.9490,2,    269.0,2,     270.4,2,    18.10,2,    17.58,2,     0.00,2,     1.20,2, -999.000,9, -999.000,9, -999.000,9, -999.000,9,   -999.0,9,  -999.00,9,   2161.4,2,   2314.4,2,   7.7385,2,  -999.0,9, -999.0,   20.17,2,  -999.0,  -999.0, -999.00,9
31RBOACES24N_2,  AR01,   118,  1,      6,2,19980222,0803, 26.4993, -76.7532, 3815,   2797.8,   3.0060,  34.9420,  34.9430,2,    269.3,2,     271.0,2,    18.90,2,    17.58,2,     0.00,2,     1.20,2,    0.486,2,    0.235,2,    0.015,2,    0.988,2,   -999.0,9,  -999.00,9,   2161.1,2,   -999.0,9,-999.0000,9,  -999.0,9, -999.0, -999.00,9,  -999.0,  -999.0, -999.00,9
31RBOACES24N_2,  AR01,   118,  1,      5,2,19980222,0803, 26.4993, -76.7532, 3815,   2997.8,   2.8300,  34.9330,  34.9330,2,    270.6,2,     271.5,2,    20.00,2,    17.58,2,     0.00,2,     1.20,2, -999.000,9, -999.000,9, -999.000,9, -999.000,9,   -999.0,9,  -999.00,9,   2161.9,2,   2318.0,2,   7.7409,2,   726.1,2,   20.0, -999.00,9,   344.3,  -999.0, -999.00,9
31RBOACES24N_2,  AR01,   118,  1,      4,2,19980222,0803, 26.4993, -76.7532, 3815,   3199.6,   2.6470,  34.9230,  34.9230,2,    273.4,2,     274.2,2,    20.80,2,    17.48,2,     0.00,2,     1.19,2,    0.595,2,    0.291,2,    0.028,2,    1.128,6,   -999.0,9,  -999.00,9,   2162.5,2,   -999.0,9,-999.0000,9,  -999.0,9, -999.0, -999.00,9,  -999.0,  -999.0, -999.00,9
31RBOACES24N_2,  AR01,   118,  1,      3,2,19980222,0803, 26.4993, -76.7532, 3815,   3298.0,   2.5740,  34.9190,  34.9180,2,    273.9,2,     275.0,2,    21.70,2,    17.38,2,     0.00,2,     1.20,2, -999.000,9, -999.000,9, -999.000,9, -999.000,9,   -999.0,9,  -999.00,9,   2162.6,2,   -999.0,9,-999.0000,9,  -999.0,9, -999.0,   20.03,2,  -999.0,  -999.0, -999.00,9
31RBOACES24N_2,  AR01,   118,  1,      2,2,19980222,0803, 26.4993, -76.7532, 3815,   3397.0,   2.5070,  34.9130,  34.9130,2,    274.2,2,     274.7,2,    22.60,2,    17.38,2,     0.00,2,     1.20,2,    0.656,2,    0.320,2,    0.038,2,    1.227,2,   -999.0,9,  -999.00,9,   2164.4,2,   -999.0,9,-999.0000,9,  -999.0,9, -999.0, -999.00,9,  -999.0,  -999.0, -999.00,9
31RBOACES24N_2,  AR01,   118,  1,      1,2,19980222,0803, 26.4993, -76.7532, 3815,   3910.2,   2.3050,  34.8990,  34.8980,2,    271.2,2,     269.8,2,    27.90,6,    18.06,6,     0.00,6,     1.25,6, -999.000,9, -999.000,9, -999.000,9,    1.107,2,   -999.0,9,  -999.00,9,   2170.6,2,   2322.4,2,   7.7310,2,   740.5,2,   20.0,   20.26,2,   341.8,  -999.0, -999.00,9