BOTTLE,20220820CCHSIOAMB
EXPOCODE,SECT_ID,STNNBR,CASTNO,BTLNBR,BTLNBR_FLAG_W,DATE,TIME,LATITUDE,LONGITUDE,DEPTH,CTDPRS,CTDTMP,CTDSAL,SALNTY,SALNTY_FLAG_W,CTDOXY,CTDOXY_FLAG_W,OXYGEN,OXYGEN_FLAG_W,SILCAT,SILCAT_FLAG_W,NITRAT,NITRAT_FLAG_W,NITRIT,NITRIT_FLAG_W,PHSPHT,PHSPHT_FLAG_W,CFC-11,CFC-11_FLAG_W,CFC-12,CFC-12_FLAG_W,CFC113,CFC113_FLAG_W,CCL4,CCL4_FLAG_W,DELC14,DELC14_FLAG_W,DELC13,DELC13_FLAG_W,TCARBN,TCARBN_FLAG_W,ALKALI,ALKALI_FLAG_W,PH,PH_FLAG_W,FCO2,FCO2_FLAG_W,FCO2TMP,TON,TON_FLAG_W,FCO2IN,C14ERR,TOC,TOC_FLAG_W
,,,,,,,,,,,DBAR,ITS-90,PSS-78,PSS-78,,UMOL/KG,,UMOL/KG,,UMOL/KG,,UMOL/KG,,UMOL/KG,,UMOL/KG,,PMOL/KG,,PMOL/KG,,PMOL/KG,,PMOL/KG,,/MILLE,,/MILLE,,UMOL/KG,,UMOL/KG,,,,UATM,,DEG C,UMOL/KG,,UATM,/MILLE,UMOL/KG,
31RBOACES24N_2,  AR01,   116,  1,     36,2,19980221,2311, 26.5000, -76.6167, 4736,      4.3,  23.3020,  36.5480,  36.5470,2,    212.1,2,     215.2,2,     0.90,2,     0.00,2,     0.00,2,     0.01,2,    1.986,2,    1.147,2,    0.160,2,    2.040,2,   -999.0,9,     1.20,2,   2037.2,2,   -999.0,5,   8.0885,2,   284.0,2,   20.0,    4.22,2,   323.7,  -999.0,   66.54,2
31RBOACES24N_2,  AR01,   116,  1,     35,2,19980221,2311, 26.5000, -76.6167, 4736,     39.0,  23.0990,  36.5780,  36.5830,2,    213.3,2,     212.0,2,     0.90,2,     0.00,2,     0.06,2,     0.02,2, -999.000,9, -999.000,9, -999.000,9, -999.000,9,   -999.0,9,  -999.00,9,   -999.0,9,   -999.0,9,-999.0000,9,  -999.0,9, -999.0,    4.35,2,  -999.0,  -999.0,   66.43,2
31RBOACES24N_2,  AR01,   116,  1,     34,2,19980221,2311, 26.5000, -76.6167, 4736,     91.5,  22.8490,  36.6840,  36.6960,2,    201.1,2,     207.1,2,     0.90,2,     0.19,2,     0.09,2,     0.02,2,    1.973,2,    1.138,2,    0.157,2, -999.000,9,   -999.0,9,  -999.00,9,   2052.0,2,   -999.0,5,   8.0759,2,   299.0,2,   20.0,    4.43,2,   334.8,  -999.0,   62.32,2
31RBOACES24N_2,  AR01,   116,  1,     33,2,19980221,2311, 26.5000, -76.6167, 4736,    141.0,  21.8230,  36.8790,  36.8800,2,    193.2,2,     196.1,2,     0.80,2,     0.97,2,     0.03,2,     0.04,2, -999.000,9, -999.000,9, -999.000,9, -999.000,9,   -999.0,9,  -999.00,9,   2087.1,2,   2406.2,2,   8.0356,2,   335.6,2,   20.0,    4.51,2,   360.8,  -999.0,   58.11,2
31RBOACES24N_2,  AR01,   116,  1,     32,2,19980221,2311, 26.5000, -76.6167, 4736,    201.4,  20.1070,  36.7760,  36.7680,2,    192.5,2,     193.0,2,     0.90,2,     1.75,2,     0.01,2,     0.05,2,    2.233,2,    1.254,2,    0.049,2, -999.000,9,   -999.0,9,  -999.00,9,   2100.0,2,   -999.0,5,   8.0064,2,   363.7,2,   20.0,    5.47,2,   365.3,  -999.0,   52.04,2
31RBOACES24N_2,  AR01,   116,  1,     31,2,19980221,2311, 26.5000, -76.6167, 4736,    227.7,  19.4340,  36.7020,  36.6960,2,    192.6,2,     195.6,2,     1.00,2,     2.14,2,     0.01,2,     0.07,2,    2.289,2,    1.276,2,    0.046,2, -999.000,9,   -999.0,9,  -999.00,9,   -999.0,9,   -999.0,9,-999.0000,9,  -999.0,9, -999.0,    5.64,2,  -999.0,  -999.0,   50.38,2
31RBOACES24N_2,  AR01,   116,  1,     30,2,19980221,2311, 26.5000, -76.6167, 4736,    250.3,  19.0030,  36.6510,  36.6420,2,    191.7,2,     197.2,2,     1.10,2,     2.73,2,     0.01,2,     0.10,2,    2.286,2,    1.275,2,    0.036,2, -999.000,9,   -999.0,9,  -999.00,9,   -999.0,9,   -999.0,9,-999.0000,9,  -999.0,9, -999.0, -999.00,9,  -999.0,  -999.0, -999.00,9
31RBOACES24N_2,  AR01,   116,  1,     29,2,19980221,2311, 26.5000, -76.6167, 4736,    273.5,  18.6640,  36.6110,  36.6080,2,    190.2,2,     196.8,2,     1.20,2,     3.41,2,     0.01,2,     0.13,2,    2.311,2,    1.277,2,    0.025,2, -999.000,9,   -999.0,9,  -999.00,9,   2100.8,2,   2388.8,2,   7.9889,2,   376.9,2,   20.0,    7.05,2,   357.1,  -999.0,   47.84,2
31RBOACES24N_2,  AR01,   116,  1,     28,2,19980221,2311, 26.5000, -76.6167, 4736,    299.8,  18.4690,  36.5880,  36.5820,2,    192.4,2,     195.8,2,     1.40,2,     4.00,2,     0.01,2,     0.18,2,    2.273,2,    1.254,2,    0.022,2, -999.000,9,   -999.0,9,  -999.00,9,   -999.0,9,   -999.0,9,-999.0000,9,  -999.0,9, -999.0, -999.00,9,  -999.0,  -999.0, -999.00,9
31RBOACES24N_2,  AR01,   116,  1,     27,2,19980221,2311, 26.5000, -76.6167, 4736,    351.9,  18.1750,  36.5440,  36.5410,2,    193.7,2,     195.3,2,     1.60,2,     4.58,2,     0.01,2,     0.22,2,    2.293,2,    1.250,2,    0.025,2, -999.000,9,   -999.0,9,  -999.00,9,   2105.3,2,   -999.0,5,   7.9766,2,   391.9,2,   20.0,    8.03,2,   364.1,  -999.0,   45.79,2
31RBOACES24N_2,  AR01,   116,  1,     26,2,19980221,2311, 26.5000, -76.6167, 4736,    402.1,  17.7690,  36.4790,  36.4770,2,    193.1,2,     193.7,2,     1.90,2,     5.56,2,     0.00,2,     0.27,2,    2.192,6,    1.197,6,    0.030,6, -999.000,9,   -999.0,9,  -999.00,9,   -999.0,9,   -999.0,9,-999.0000,9,  -999.0,9, -999.0, -999.00,9,  -999.0,  -999.0, -999.00,9
31RBOACES24N_2,  AR01,   116,  1,     25,2,19980221,2311, 26.5000, -76.6167, 4736,    450.9,  17.2270,  36.3850,  36.3840,2,    185.0,2,     187.2,2,     2.30,2,     7.02,2,     0.01,2,     0.37,2, -999.000,1, -999.000,1,    0.028,2, -999.000,9,   -999.0,9,  -999.00,9,   2117.3,2,   2376.1,2,   7.9428,2,   428.3,2,   20.0,   10.38,2,   382.9,  -999.0,   43.93,2
31RBOACES24N_2,  AR01,   116,  1,     24,2,19980221,2311, 26.5000, -76.6167, 4736,    502.6,  16.1510,  36.2020,  36.2010,2,    181.1,2,     179.3,2,     3.30,2,     9.46,2,     0.00,2,     0.53,2,    1.934,2,    1.029,2,    0.018,2, -999.000,9,   -999.0,9,  -999.00,9,   -999.0,9,   -999.0,9,-999.0000,9,  -999.0,9, -999.0, -999.00,9,  -999.0,  -999.0, -999.00,9
31RBOACES24N_2,  AR01,   116,  1,     23,2,19980221,2311, 26.5000, -76.6167, 4736,    548.7,  15.3270,  36.0660,  36.0570,2,    174.1,2,     172.9,2,     4.20,2,    11.51,2,     0.00,2,     0.66,2, -999.000,9, -999.000,9, -999.000,9, -999.000,9,   -999.0,9,  -999.00,9,   -999.0,9,   -999.0,9,-999.0000,9,  -999.0,9, -999.0, -999.00,9,  -999.0,  -999.0,   42.56,2
31RBOACES24N_2,  AR01,   116,  1,     22,2,19980221,2311, 26.5000, -76.6167, 4736,    652.1,  12.9500,  35.7010,  35.6980,2,    161.5,2,     160.2,2,     7.20,2,    16.68,2,     0.00,2,     1.02,2,    1.279,2,    0.672,2,    0.012,2, -999.000,9,   -999.0,9,  -999.00,9,   -999.0,9,   -999.0,9,-999.0000,9,  -999.0,9, -999.0, -999.00,9,  -999.0,  -999.0, -999.00,9
31RBOACES24N_2,  AR01,   116,  1,     21,2,19980221,2311, 26.5000, -76.6167, 4736,    749.9,  10.8770,  35.4170,  35.4060,2,    149.2,2,     150.4,2,    11.10,2,    21.27,2,     0.00,2,     1.33,2, -999.000,9, -999.000,9, -999.000,9, -999.000,9,   -999.0,9,  -999.00,9,   2177.1,2,   2329.3,2,   7.7320,2,   731.5,2,   20.0,   23.72,2,   502.9,  -999.0,   41.77,2
31RBOACES24N_2,  AR01,   116,  1,     20,2,19980221,2311, 26.5000, -76.6167, 4736,    849.9,   8.8720,  35.1900,  35.1890,2,    149.0,2,     149.1,2,    15.00,2,    24.60,2,     0.00,2,     1.58,2,    0.353,2,    0.187,2,    0.003,2, -999.000,9,   -999.0,9,  -999.00,9,   2189.7,2,   2321.7,2,   7.6831,2,   828.7,2,   20.0, -999.00,9,   522.9,  -999.0, -999.00,9
31RBOACES24N_2,  AR01,   116,  1,     19,2,19980221,2311, 26.5000, -76.6167, 4736,    950.2,   7.1250,  35.0650,  35.0670,2,    164.8,2,     165.4,2,    17.40,2,    24.99,2,     0.00,2,     1.65,2, -999.000,9, -999.000,9, -999.000,9, -999.000,9,   -999.0,9,  -999.00,9,   2193.0,6,   2317.1,2,   7.6673,2,   872.1,2,   20.0, -999.00,9,   510.0,  -999.0, -999.00,9
31RBOACES24N_2,  AR01,   116,  1,     18,2,19980221,2311, 26.5000, -76.6167, 4736,   1102.5,   5.9230,  35.0890,  35.0890,2,    214.2,2,     213.1,2,    14.10,2,    20.60,2,     0.00,2,     1.36,2, -999.000,9, -999.000,9, -999.000,9, -999.000,9,   -999.0,9,  -999.00,9,   2180.8,2,   2318.2,2,   7.7060,2,   784.3,2,   20.0, -999.00,9,   432.3,  -999.0, -999.00,9
31RBOACES24N_2,  AR01,   116,  1,     17,2,19980221,2311, 26.5000, -76.6167, 4736,   1301.1,   4.6620,  35.0290,  35.0290,2,    251.9,2,     250.2,2,    12.90,2,    18.55,2,     0.00,2,     1.23,2, -999.000,9, -999.000,9, -999.000,9, -999.000,9,   -999.0,9,  -999.00,9,   2168.9,2,   -999.0,9,-999.0000,9,  -999.0,9, -999.0, -999.00,9,  -999.0,  -999.0, -999.00,9
31RBOACES24N_2,  AR01,   116,  1,     16,2,19980221,2311, 26.5000, -76.6167, 4736,   1499.7,   4.0370,  34.9770,  34.9800,2,    265.5,2,     264.8,2,    13.00,2,    17.86,2,     0.00,2,     1.19,2,    1.190,6,    0.585,6,    0.052,6, -999.000,9,   -999.0,9,  -999.00,9,   2163.3,2,   2318.4,2,   7.7289,2,   741.9,2,   20.0, -999.00,9,   373.7,  -999.0, -999.00,9
31RBOACES24N_2,  AR01,   116,  1,     15,2,19980221,2311, 26.5000, -76.6167, 4736,   1700.7,   3.9020,  34.9660,  34.9670,2,    267.8,2,     268.0,2,    13.20,2,    17.67,2,     0.00,2,     1.18,2,    1.238,2,    0.608,2,    0.058,2, -999.000,9,   -999.0,9,  -999.00,9,   -999.0,9,   -999.0,9,-999.0000,9,  -999.0,9, -999.0, -999.00,9,  -999.0,  -999.0, -999.00,9
31RBOACES24N_2,  AR01,   116,  1,     14,2,19980221,2311, 26.5000, -76.6167, 4736,   1896.8,   3.8090,  34.9630,  34.9630,2,    267.6,2,     269.7,2,    13.50,2,    17.67,2,     0.00,2,     1.18,2, -999.000,9, -999.000,9, -999.000,9, -999.000,9,   -999.0,9,  -999.00,9,   2161.6,2,   2310.0,2,   7.7321,2,   724.8,2,   20.0, -999.00,9,   360.8,  -999.0, -999.00,9
31RBOACES24N_2,  AR01,   116,  1,     13,2,19980221,2311, 26.5000, -76.6167, 4736,   2101.9,   3.8020,  34.9810,  34.9830,2,    265.5,2,     266.1,2,    14.70,2,    17.86,2,     0.00,2,     1.21,2,    0.632,2,    0.317,2,    0.033,2, -999.000,9,   -999.0,9,  -999.00,9,   2161.9,2,   2307.1,3,   7.7357,2,   722.6,2,   20.0, -999.00,9,   359.4,  -999.0, -999.00,9
31RBOACES24N_2,  AR01,   116,  1,     12,2,19980221,2311, 26.5000, -76.6167, 4736,   2299.8,   3.4860,  34.9580,  34.9590,2,    269.4,2,     270.7,2,    15.70,2,    17.67,2,     0.00,2,     1.20,2, -999.000,9, -999.000,9, -999.000,9, -999.000,9,   -999.0,9,  -999.00,9,   -999.0,9,   -999.0,9,-999.0000,9,  -999.0,9, -999.0, -999.00,9,  -999.0,  -999.0, -999.00,9
31RBOACES24N_2,  AR01,   116,  1,     11,2,19980221,2311, 26.5000, -76.6167, 4736,   2499.8,   3.2950,  34.9580,  34.9580,2,    268.0,2,     269.3,2,    17.90,2,    17.77,2,     0.00,2,     1.21,2,    0.433,2,    0.217,2,    0.018,2, -999.000,9,   -999.0,9,  -999.00,9,   2160.1,2,   2314.4,2,   7.7385,2,   727.8,2,   20.0, -999.00,9,   353.1,  -999.0,   40.96,2
31RBOACES24N_2,  AR01,   116,  1,     10,2,19980221,2311, 26.5000, -76.6167, 4736,   2700.0,   3.0510,  34.9450,  34.9450,2,    269.7,2,     270.8,2,    19.00,2,    17.67,2,     0.00,2,     1.20,2,    0.502,2,    0.241,2,    0.021,2,    0.995,6,   -999.0,9,  -999.00,9,   2161.2,2,   2317.1,2,   7.7379,2,  -999.0,9, -999.0, -999.00,9,  -999.0,  -999.0, -999.00,9
31RBOACES24N_2,  AR01,   116,  1,      9,2,19980221,2311, 26.5000, -76.6167, 4736,   2897.8,   2.9430,  34.9390,  34.9380,2,    270.0,2,     271.9,2,    19.50,2,    17.57,2,     0.00,2,     1.20,2, -999.000,9, -999.000,9, -999.000,9, -999.000,9,   -999.0,9,  -999.00,9,   -999.0,9,   -999.0,9,-999.0000,9,  -999.0,9, -999.0, -999.00,9,  -999.0,  -999.0, -999.00,9
31RBOACES24N_2,  AR01,   116,  1,      8,2,19980221,2311, 26.5000, -76.6167, 4736,   3101.5,   2.7590,  34.9290,  34.9290,2,    272.4,2,     273.3,2,    20.80,2,    17.57,2,     0.00,2,     1.19,2,    0.609,6,    0.301,6,    0.021,6,    1.045,2,   -999.0,9,  -999.00,9,   2162.3,2,   2316.0,2,   7.7382,2,  -999.0,9, -999.0, -999.00,9,  -999.0,  -999.0, -999.00,9
31RBOACES24N_2,  AR01,   116,  1,      7,2,19980221,2311, 26.5000, -76.6167, 4736,   3302.3,   2.6030,  34.9190,  34.9190,2,    274.6,2,     274.8,6,    21.80,2,    17.47,2,     0.00,2,     1.22,2, -999.000,9, -999.000,9, -999.000,9, -999.000,9,   -999.0,9,  -999.00,9,   -999.0,9,   -999.0,9,-999.0000,9,  -999.0,9, -999.0, -999.00,9,  -999.0,  -999.0, -999.00,9
31RBOACES24N_2,  AR01,   116,  1,      6,2,19980221,2311, 26.5000, -76.6167, 4736,   3501.6,   2.4870,  34.9120,  34.9130,2,    275.6,2,     275.5,2,    23.00,2,    17.48,2,     0.00,2,     1.20,2,    0.642,2,    0.314,2,    0.026,2,    1.232,2,   -999.0,9,  -999.00,9,   2165.5,2,   2323.0,2,   7.7349,2,  -999.0,9, -999.0, -999.00,9,  -999.0,  -999.0, -999.00,9
31RBOACES24N_2,  AR01,   116,  1,      5,2,19980221,2311, 26.5000, -76.6167, 4736,   3696.4,   2.3940,  34.9060,  34.9060,2,    274.8,2,     275.7,2,    24.70,2,    17.57,2,     0.00,2,     1.21,2, -999.000,9, -999.000,9, -999.000,9, -999.000,9,   -999.0,9,  -999.00,9,   2167.6,2,   2319.3,2,   7.7343,2,  -999.0,9, -999.0, -999.00,9,  -999.0,  -999.0, -999.00,9
31RBOACES24N_2,  AR01,   116,  1,      4,2,19980221,2311, 26.5000, -76.6167, 4736,   3901.8,   2.3470,  34.9020,  34.9010,2,    274.3,2,     274.0,2,    26.40,2,    17.87,2,     0.00,2,     1.22,2,    0.656,2,    0.318,2,    0.034,2,    1.206,2,   -999.0,9,  -999.00,9,   -999.0,9,   -999.0,9,-999.0000,9,  -999.0,9, -999.0, -999.00,9,  -999.0,  -999.0, -999.00,9
31RBOACES24N_2,  AR01,   116,  1,      3,2,19980221,2311, 26.5000, -76.6167, 4736,   4187.9,   2.3180,  34.8970,  34.8980,2,    273.1,2,     273.1,2,    28.30,2,    18.06,2,     0.00,2,     1.25,2, -999.000,9, -999.000,9, -999.000,9, -999.000,9,   -999.0,9,  -999.00,9,   2171.7,2,   2325.2,2,   7.7317,2,   736.3,6,   20.0, -999.00,9,   339.9,  -999.0, -999.00,9
31RBOACES24N_2,  AR01,   116,  1,      2,3,19980221,2311, 26.5000, -76.6167, 4736,   4500.6,   2.2950,  34.8920,  34.8930,2,    270.0,2,     270.3,2,    31.70,2,    18.55,2,     0.00,2,     1.29,2,    0.475,2,    0.237,2,    0.027,2,    0.958,2,   -999.0,9,  -999.00,9,   2175.3,2,   2327.7,2,   7.7309,2,  -999.0,9, -999.0, -999.00,9,  -999.0,  -999.0, -999.00,9
31RBOACES24N_2,  AR01,   116,  1,      1,2,19980221,2311, 26.5000, -76.6167, 4736,   4805.9,   2.3050,  34.8900,  34.8910,2,    268.7,2,     268.8,2,    33.60,6,    18.94,6,     0.01,6,     1.31,6,    0.409,2,    0.206,2,    0.022,2,    0.867,2,   -999.0,9,  -999.00,9,   2177.7,2,   2332.1,2,   7.7300,2,   736.3,2,   20.0, -999.00,9,   339.2,  -999.0, -999.00,9