BOTTLE,20220820CCHSIOAMB
EXPOCODE,SECT_ID,STNNBR,CASTNO,BTLNBR,BTLNBR_FLAG_W,DATE,TIME,LATITUDE,LONGITUDE,DEPTH,CTDPRS,CTDTMP,CTDSAL,SALNTY,SALNTY_FLAG_W,CTDOXY,CTDOXY_FLAG_W,OXYGEN,OXYGEN_FLAG_W,SILCAT,SILCAT_FLAG_W,NITRAT,NITRAT_FLAG_W,NITRIT,NITRIT_FLAG_W,PHSPHT,PHSPHT_FLAG_W,CFC-11,CFC-11_FLAG_W,CFC-12,CFC-12_FLAG_W,CFC113,CFC113_FLAG_W,CCL4,CCL4_FLAG_W,DELC14,DELC14_FLAG_W,DELC13,DELC13_FLAG_W,TCARBN,TCARBN_FLAG_W,ALKALI,ALKALI_FLAG_W,PH,PH_FLAG_W,FCO2,FCO2_FLAG_W,FCO2TMP,TON,TON_FLAG_W,FCO2IN,C14ERR,TOC,TOC_FLAG_W
,,,,,,,,,,,DBAR,ITS-90,PSS-78,PSS-78,,UMOL/KG,,UMOL/KG,,UMOL/KG,,UMOL/KG,,UMOL/KG,,UMOL/KG,,PMOL/KG,,PMOL/KG,,PMOL/KG,,PMOL/KG,,/MILLE,,/MILLE,,UMOL/KG,,UMOL/KG,,,,UATM,,DEG C,UMOL/KG,,UATM,/MILLE,UMOL/KG,
31RBOACES24N_2,  AR01,   122,  1,     18,2,19980223,0917, 27.0005, -79.2002,  477,      3.8,  26.0890,  36.1760,  36.1760,2,    204.8,2,     203.6,2,     1.20,2,     0.00,2,     0.00,2,     0.00,2,    1.725,2,    1.006,2,    0.142,2,    1.749,2,   -999.0,9,     1.32,2,   2014.1,6,   2364.5,2,   8.0967,2,   273.8,2,   20.0, -999.00,9,   348.8,  -999.0,   61.63,2
31RBOACES24N_2,  AR01,   122,  1,     17,2,19980223,0917, 27.0005, -79.2002,  477,     24.5,  26.0920,  36.1760,  36.1750,2,    204.4,2,     203.5,2,     1.20,2,     0.00,2,     0.00,2,     0.00,2,    1.738,2,    1.024,2,    0.149,2, -999.000,9,   -999.0,9,  -999.00,9,   2013.5,2,   2362.1,3,   8.0983,2,   273.9,2,   20.0, -999.00,9,   349.0,  -999.0,   61.92,2
31RBOACES24N_2,  AR01,   122,  1,     16,2,19980223,0917, 27.0005, -79.2002,  477,     50.1,  25.7500,  36.1620,  36.1660,2,    203.0,2,     202.8,2,     1.10,2,     0.00,2,     0.04,2,     0.01,2, -999.000,9, -999.000,9, -999.000,9, -999.000,9,   -999.0,9,  -999.00,9,   -999.0,9,   -999.0,9,-999.0000,9,  -999.0,9, -999.0, -999.00,9,  -999.0,  -999.0,   62.60,2
31RBOACES24N_2,  AR01,   122,  1,     15,2,19980223,0917, 27.0005, -79.2002,  477,     74.2,  25.4230,  36.1550,  36.1560,2,    202.5,2,     203.4,2,     1.00,2,     0.00,2,     0.10,2,     0.01,2,    1.762,2,    1.034,2,    0.146,2, -999.000,9,   -999.0,9,  -999.00,9,   2016.6,2,   2362.2,3,   8.0979,2,   279.0,2,   20.0, -999.00,9,   346.6,  -999.0,   61.13,2
31RBOACES24N_2,  AR01,   122,  1,     14,2,19980223,0917, 27.0005, -79.2002,  477,     97.6,  25.1260,  36.1740,  36.1550,2,    201.8,2,     202.7,2,     1.00,2,     0.10,2,     0.24,2,     0.02,2, -999.000,9, -999.000,9, -999.000,9, -999.000,9,   -999.0,9,  -999.00,9,   -999.0,9,   -999.0,9,-999.0000,9,  -999.0,9, -999.0, -999.00,9,  -999.0,  -999.0,   55.65,2
31RBOACES24N_2,  AR01,   122,  1,     13,2,19980223,0917, 27.0005, -79.2002,  477,    121.7,  25.0890,  36.4930,  36.4940,2,    184.7,2,     183.7,2,     1.10,2,     1.37,2,     0.08,2,     0.08,2,    1.822,2,    1.059,2,    0.094,2, -999.000,9,   -999.0,9,  -999.00,9,   2055.2,3,   2385.3,2,   8.0562,2,   314.6,2,   20.0, -999.00,9,   385.6,  -999.0, -999.00,9
31RBOACES24N_2,  AR01,   122,  1,     12,2,19980223,0917, 27.0005, -79.2002,  477,    148.6,  23.6630,  36.7240,  36.7110,2,    172.7,2,     171.8,2,     1.30,2,     2.93,2,     0.05,2,     0.14,2, -999.000,9, -999.000,9, -999.000,9, -999.000,9,   -999.0,9,  -999.00,9,   -999.0,9,   -999.0,9,-999.0000,9,  -999.0,9, -999.0, -999.00,9,  -999.0,  -999.0, -999.00,9
31RBOACES24N_2,  AR01,   122,  1,     11,2,19980223,0917, 27.0005, -79.2002,  477,    174.1,  23.0470,  36.8190,  36.8250,2,    164.7,2,     163.7,2,     1.50,2,     3.71,2,     0.02,2,     0.18,2,    1.942,2,    1.102,2,    0.045,2, -999.000,9,   -999.0,9,  -999.00,9,   2104.9,3,   2402.5,2,   8.0016,2,   369.9,2,   20.0, -999.00,9,   418.7,  -999.0,   51.20,2
31RBOACES24N_2,  AR01,   122,  1,     10,2,19980223,0917, 27.0005, -79.2002,  477,    199.5,  21.9240,  36.8310,  36.8320,2,    166.0,2,     170.5,2,     1.40,2,     3.61,2,     0.02,2,     0.17,2, -999.000,9, -999.000,9, -999.000,9, -999.000,9,   -999.0,9,  -999.00,9,   -999.0,9,   -999.0,9,-999.0000,9,  -999.0,9, -999.0, -999.00,9,  -999.0,  -999.0, -999.00,9
31RBOACES24N_2,  AR01,   122,  1,      9,2,19980223,0917, 27.0005, -79.2002,  477,    222.8,  20.7590,  36.7990,  36.8290,2,    177.2,2,     176.6,2,     1.30,2,     3.22,2,     0.01,2,     0.15,2,    2.069,2,    1.172,2,    0.047,2, -999.000,9,   -999.0,9,  -999.00,9,   2108.1,2,   2400.3,3,   7.9991,2,   376.4,2,   20.0, -999.00,9,   389.6,  -999.0,   50.10,2
31RBOACES24N_2,  AR01,   122,  1,      8,2,19980223,0917, 27.0005, -79.2002,  477,    247.7,  19.7530,  36.7460,  36.7450,2,    173.8,2,     180.1,2,     1.30,2,     3.71,2,     0.01,2,     0.17,2, -999.000,9, -999.000,9, -999.000,9, -999.000,9,   -999.0,9,  -999.00,9,   -999.0,9,   -999.0,9,-999.0000,9,  -999.0,9, -999.0, -999.00,9,  -999.0,  -999.0, -999.00,9
31RBOACES24N_2,  AR01,   122,  1,      7,2,19980223,0917, 27.0005, -79.2002,  477,    275.9,  19.2630,  36.6870,  36.6950,2,    177.2,2,     181.4,2,     1.40,2,     4.19,2,     0.01,2,     0.19,2,    2.198,2,    1.213,2,    0.024,2, -999.000,9,   -999.0,9,  -999.00,9,   2114.1,2,   2394.5,2,   7.9760,2,   399.4,2,   20.0, -999.00,9,   387.5,  -999.0,   46.97,2
31RBOACES24N_2,  AR01,   122,  1,      6,2,19980223,0917, 27.0005, -79.2002,  477,    297.5,  19.1150,  36.6610,  36.6500,2,    175.4,2,     176.5,2,     1.70,2,     4.97,2,     0.01,2,     0.24,2, -999.000,9, -999.000,9, -999.000,9, -999.000,9,   -999.0,9,  -999.00,9,   -999.0,9,   -999.0,9,-999.0000,9,  -999.0,9, -999.0, -999.00,9,  -999.0,  -999.0, -999.00,9
31RBOACES24N_2,  AR01,   122,  1,      5,2,19980223,0917, 27.0005, -79.2002,  477,    323.4,  18.3610,  36.5470,  36.5450,2,    170.0,2,     174.2,2,     2.10,2,     6.54,2,     0.01,2,     0.33,2,    2.102,2,    1.151,2,    0.020,2, -999.000,9,   -999.0,9,  -999.00,9,   2123.1,2,   2398.6,2,   7.9472,2,   431.8,2,   20.0, -999.00,9,   403.7,  -999.0,   45.79,2
31RBOACES24N_2,  AR01,   122,  1,      3,2,19980223,0917, 27.0005, -79.2002,  477,    398.7,  16.7930,  36.3020,  36.2990,2,    166.5,2,     168.2,2,     3.30,2,     9.56,2,     0.01,2,     0.53,2,    1.947,2,    1.045,2,    0.028,2, -999.000,9,   -999.0,9,  -999.00,9,   2133.8,2,   2371.6,2,   7.9040,2,   479.6,2,   20.0, -999.00,9,   419.8,  -999.0, -999.00,9
31RBOACES24N_2,  AR01,   122,  1,      2,2,19980223,0917, 27.0005, -79.2002,  477,    449.8,  15.7600,  36.1080,  36.0990,2,    153.4,2,     151.1,2,     5.00,2,    13.17,2,     0.01,2,     0.77,2, -999.000,9, -999.000,9, -999.000,9, -999.000,9,   -999.0,9,  -999.00,9,   -999.0,9,   -999.0,9,-999.0000,9,  -999.0,9, -999.0, -999.00,9,  -999.0,  -999.0, -999.00,9
31RBOACES24N_2,  AR01,   122,  1,      1,2,19980223,0917, 27.0005, -79.2002,  477,    470.9,  15.5470,  36.0750,  36.0710,2,    152.3,2,     151.0,6,     5.10,6,    13.47,6,     0.01,6,     0.79,6,    1.635,2,    0.865,2,    0.015,2, -999.000,9,   -999.0,9,  -999.00,9,   2151.3,2,   2360.0,2,   7.8471,2,   554.2,2,   20.0, -999.00,9,   460.5,  -999.0,   43.05,2
31RBOACES24N_2,  AR01,   123,  1,     20,2,19980223,1058, 27.0008, -79.2828,  613,      3.1,  25.8330,  36.1700,  36.1690,2,    206.2,2,     204.2,2,     1.30,2,     0.00,2,     0.00,2,     0.00,2, -999.000,9, -999.000,9, -999.000,9, -999.000,9,   -999.0,9,     2.72,4,   2013.4,6,   2370.1,2,-999.0000,9,   282.8,6,   20.0, -999.00,9,   356.1,  -999.0, -999.00,9
31RBOACES24N_2,  AR01,   123,  1,     19,2,19980223,1058, 27.0008, -79.2828,  613,     23.8,  25.8390,  36.1700,  36.1700,2,    206.1,2,     204.2,2,     1.30,2,     0.00,2,     0.00,2,     0.00,2, -999.000,9, -999.000,9, -999.000,9, -999.000,9,   -999.0,9,  -999.00,9,   -999.0,9,   -999.0,9,-999.0000,9,  -999.0,9, -999.0, -999.00,9,  -999.0,  -999.0, -999.00,9
31RBOACES24N_2,  AR01,   123,  1,     18,2,19980223,1058, 27.0008, -79.2828,  613,     48.3,  25.8400,  36.1690,  36.1680,2,    205.5,2,     204.4,2,     1.30,2,     0.00,2,     0.01,2,     0.01,2, -999.000,9, -999.000,9, -999.000,9, -999.000,9,   -999.0,9,  -999.00,9,   -999.0,9,   -999.0,9,-999.0000,9,  -999.0,9, -999.0, -999.00,9,  -999.0,  -999.0, -999.00,9
31RBOACES24N_2,  AR01,   123,  1,     17,2,19980223,1058, 27.0008, -79.2828,  613,     72.9,  25.7230,  36.1600,  36.1640,2,    204.5,2,     203.5,2,     1.30,2,     0.00,2,     0.04,2,     0.01,2, -999.000,9, -999.000,9, -999.000,9, -999.000,9,   -999.0,9,  -999.00,9,   -999.0,9,   -999.0,9,-999.0000,9,  -999.0,9, -999.0, -999.00,9,  -999.0,  -999.0, -999.00,9
31RBOACES24N_2,  AR01,   123,  1,     16,2,19980223,1058, 27.0008, -79.2828,  613,     99.0,  25.1740,  36.1580,  36.1590,2,    204.0,2,     203.6,2,     1.20,2,     0.00,2,     0.17,2,     0.02,2, -999.000,9, -999.000,9, -999.000,9, -999.000,9,   -999.0,9,  -999.00,9,   -999.0,9,   -999.0,9,-999.0000,9,  -999.0,9, -999.0, -999.00,9,  -999.0,  -999.0, -999.00,9
31RBOACES24N_2,  AR01,   123,  1,     15,2,19980223,1058, 27.0008, -79.2828,  613,    127.4,  24.8370,  36.4260,  36.4270,2,    185.9,2,     186.0,2,     1.30,2,     1.37,2,     0.11,2,     0.07,2, -999.000,9, -999.000,9, -999.000,9, -999.000,9,   -999.0,9,  -999.00,9,   -999.0,9,   -999.0,9,-999.0000,9,  -999.0,9, -999.0, -999.00,9,  -999.0,  -999.0, -999.00,9
31RBOACES24N_2,  AR01,   123,  1,     14,2,19980223,1058, 27.0008, -79.2828,  613,    149.4,  24.5790,  36.5260,  36.5280,2,    181.8,2,     179.2,2,     1.40,2,     1.95,2,     0.07,2,     0.10,2, -999.000,9, -999.000,9, -999.000,9, -999.000,9,   -999.0,9,  -999.00,9,   -999.0,9,   -999.0,9,-999.0000,9,  -999.0,9, -999.0, -999.00,9,  -999.0,  -999.0, -999.00,9
31RBOACES24N_2,  AR01,   123,  1,     13,2,19980223,1058, 27.0008, -79.2828,  613,    175.2,  22.8210,  36.8630,  36.8710,2,    158.6,2,     158.9,2,     1.70,2,     4.29,2,     0.01,2,     0.21,2, -999.000,9, -999.000,9, -999.000,9, -999.000,9,   -999.0,9,  -999.00,9,   -999.0,9,   -999.0,9,-999.0000,9,  -999.0,9, -999.0, -999.00,9,  -999.0,  -999.0, -999.00,9
31RBOACES24N_2,  AR01,   123,  1,     12,2,19980223,1058, 27.0008, -79.2828,  613,    199.5,  20.6180,  36.8270,  36.8270,2,    169.7,2,     172.5,2,     1.50,2,     3.90,2,     0.01,2,     0.18,2, -999.000,9, -999.000,9, -999.000,9, -999.000,9,   -999.0,9,  -999.00,9,   -999.0,9,   -999.0,9,-999.0000,9,  -999.0,9, -999.0, -999.00,9,  -999.0,  -999.0, -999.00,9
31RBOACES24N_2,  AR01,   123,  1,     11,2,19980223,1058, 27.0008, -79.2828,  613,    216.4,  19.4580,  36.6940,  36.6940,2,    172.2,2,     165.4,3,     2.00,2,     5.75,2,     0.01,2,     0.29,2, -999.000,9, -999.000,9, -999.000,9, -999.000,9,   -999.0,9,  -999.00,9,   -999.0,9,   -999.0,9,-999.0000,9,  -999.0,9, -999.0, -999.00,9,  -999.0,  -999.0, -999.00,9
31RBOACES24N_2,  AR01,   123,  1,     10,2,19980223,1058, 27.0008, -79.2828,  613,    250.1,  19.2660,  36.6910,  36.6840,2,    180.2,2,     185.3,2,     1.30,2,     3.61,2,     0.01,2,     0.16,2, -999.000,9, -999.000,9, -999.000,9, -999.000,9,   -999.0,9,  -999.00,9,   -999.0,9,   -999.0,9,-999.0000,9,  -999.0,9, -999.0, -999.00,9,  -999.0,  -999.0, -999.00,9
31RBOACES24N_2,  AR01,   123,  1,      9,2,19980223,1058, 27.0008, -79.2828,  613,    276.5,  18.6800,  36.6050,  36.6010,2,    171.6,2,     177.7,2,     1.90,2,     5.46,2,     0.01,2,     0.27,2, -999.000,9, -999.000,9, -999.000,9, -999.000,9,   -999.0,9,  -999.00,9,   -999.0,9,   -999.0,9,-999.0000,9,  -999.0,9, -999.0, -999.00,9,  -999.0,  -999.0, -999.00,9
31RBOACES24N_2,  AR01,   123,  1,      8,2,19980223,1058, 27.0008, -79.2828,  613,    299.0,  18.3880,  36.5730,  36.5710,2,    185.7,2,     189.7,2,     1.60,2,     4.68,2,     0.01,2,     0.22,2, -999.000,9, -999.000,9, -999.000,9, -999.000,9,   -999.0,9,  -999.00,9,   -999.0,9,   -999.0,9,-999.0000,9,  -999.0,9, -999.0, -999.00,9,  -999.0,  -999.0, -999.00,9
31RBOACES24N_2,  AR01,   123,  1,      7,2,19980223,1058, 27.0008, -79.2828,  613,    324.4,  18.0230,  36.5080,  36.5040,2,    166.3,2,     179.9,2,     2.10,2,     6.34,2,     0.01,2,     0.33,2, -999.000,9, -999.000,9, -999.000,9, -999.000,9,   -999.0,9,  -999.00,9,   -999.0,9,   -999.0,9,-999.0000,9,  -999.0,9, -999.0, -999.00,9,  -999.0,  -999.0, -999.00,9
31RBOACES24N_2,  AR01,   123,  1,      6,2,19980223,1058, 27.0008, -79.2828,  613,    347.6,  17.5460,  36.4210,  36.4250,2,    172.4,2,     174.3,2,     2.60,2,     7.71,2,     0.01,2,     0.41,2, -999.000,9, -999.000,9, -999.000,9, -999.000,9,   -999.0,9,  -999.00,9,   -999.0,9,   -999.0,9,-999.0000,9,  -999.0,9, -999.0, -999.00,9,  -999.0,  -999.0, -999.00,9
31RBOACES24N_2,  AR01,   123,  1,      5,2,19980223,1058, 27.0008, -79.2828,  613,    394.9,  16.5420,  36.2570,  36.2550,2,    160.7,2,     165.7,2,     3.60,2,    10.15,2,     0.00,2,     0.57,2, -999.000,9, -999.000,9, -999.000,9, -999.000,9,   -999.0,9,  -999.00,9,   -999.0,9,   -999.0,9,-999.0000,9,  -999.0,9, -999.0, -999.00,9,  -999.0,  -999.0, -999.00,9
31RBOACES24N_2,  AR01,   123,  1,      4,2,19980223,1058, 27.0008, -79.2828,  613,    453.8,  15.3030,  36.0450,  36.0430,2,    153.2,2,     154.2,2,     5.10,2,    13.37,2,     0.00,2,     0.78,2, -999.000,9, -999.000,9, -999.000,9, -999.000,9,   -999.0,9,  -999.00,9,   -999.0,9,   -999.0,9,-999.0000,9,  -999.0,9, -999.0, -999.00,9,  -999.0,  -999.0, -999.00,9
31RBOACES24N_2,  AR01,   123,  1,      3,2,19980223,1058, 27.0008, -79.2828,  613,    497.4,  13.8470,  35.7830,  35.7760,2,    136.7,2,     137.1,2,     7.40,2,    17.57,2,     0.00,2,     1.07,2, -999.000,9, -999.000,9, -999.000,9, -999.000,9,   -999.0,9,  -999.00,9,   -999.0,9,   -999.0,9,-999.0000,9,  -999.0,9, -999.0, -999.00,9,  -999.0,  -999.0, -999.00,9
31RBOACES24N_2,  AR01,   123,  1,      2,2,19980223,1058, 27.0008, -79.2828,  613,    550.2,  13.3330,  35.7020,  35.6980,2,    138.4,2,     136.2,2,     8.10,2,    18.54,2,     0.00,2,     1.14,2, -999.000,9, -999.000,9, -999.000,9, -999.000,9,   -999.0,9,  -999.00,9,   -999.0,9,   -999.0,9,-999.0000,9,  -999.0,9, -999.0, -999.00,9,  -999.0,  -999.0, -999.00,9
31RBOACES24N_2,  AR01,   123,  1,      1,2,19980223,1058, 27.0008, -79.2828,  613,    610.2,  11.7670,  35.5020,  35.5500,2,    144.4,2,    -999.0,9,     9.30,6,    19.52,6,     0.00,6,     1.22,6, -999.000,9, -999.000,9, -999.000,9, -999.000,9,   -999.0,9,  -999.00,9,   -999.0,9,   -999.0,9,-999.0000,9,  -999.0,9, -999.0, -999.00,9,  -999.0,  -999.0, -999.00,9