BOTTLE,20220820CCHSIOAMB
EXPOCODE,SECT_ID,STNNBR,CASTNO,BTLNBR,BTLNBR_FLAG_W,DATE,TIME,LATITUDE,LONGITUDE,DEPTH,CTDPRS,CTDTMP,CTDSAL,SALNTY,SALNTY_FLAG_W,CTDOXY,CTDOXY_FLAG_W,OXYGEN,OXYGEN_FLAG_W,SILCAT,SILCAT_FLAG_W,NITRAT,NITRAT_FLAG_W,NITRIT,NITRIT_FLAG_W,PHSPHT,PHSPHT_FLAG_W,CFC-11,CFC-11_FLAG_W,CFC-12,CFC-12_FLAG_W,CFC113,CFC113_FLAG_W,CCL4,CCL4_FLAG_W,DELC14,DELC14_FLAG_W,DELC13,DELC13_FLAG_W,TCARBN,TCARBN_FLAG_W,ALKALI,ALKALI_FLAG_W,PH,PH_FLAG_W,FCO2,FCO2_FLAG_W,FCO2TMP,TON,TON_FLAG_W,FCO2IN,C14ERR,TOC,TOC_FLAG_W
,,,,,,,,,,,DBAR,ITS-90,PSS-78,PSS-78,,UMOL/KG,,UMOL/KG,,UMOL/KG,,UMOL/KG,,UMOL/KG,,UMOL/KG,,PMOL/KG,,PMOL/KG,,PMOL/KG,,PMOL/KG,,/MILLE,,/MILLE,,UMOL/KG,,UMOL/KG,,,,UATM,,DEG C,UMOL/KG,,UATM,/MILLE,UMOL/KG,
31RBOACES24N_2,  AR01,   100,  1,     36,2,19980218,2225, 26.5002, -73.2165, 5065,      4.0,  23.8370,  36.6850,  36.6850,2,    210.9,2,     215.1,2,     0.90,2,     0.00,2,     0.00,2,     0.01,2,    1.928,2,    1.115,2,    0.150,2,    1.961,2,   -999.0,9,     1.19,2,   2036.7,2,   2393.0,2,   8.0970,2,   280.6,2,   20.0, -999.00,9,   326.5,  -999.0, -999.00,9
31RBOACES24N_2,  AR01,   100,  1,     35,2,19980218,2225, 26.5002, -73.2165, 5065,     40.8,  23.4860,  36.7560,  36.7590,2,    212.9,2,     212.3,2,     1.00,2,     0.00,2,     0.00,2,     0.01,2, -999.000,9, -999.000,9, -999.000,9, -999.000,9,   -999.0,9,  -999.00,9,   2038.2,2,   2397.9,2,   8.1022,2,   278.7,2,   20.0, -999.00,9,   320.0,  -999.0, -999.00,9
31RBOACES24N_2,  AR01,   100,  1,     34,2,19980218,2225, 26.5002, -73.2165, 5065,     90.6,  23.0220,  36.8030,  36.8160,2,    213.9,2,     213.3,2,     0.80,2,     0.10,2,     0.01,2,     0.01,2,    1.999,2,    1.144,2,    0.154,2, -999.000,9,   -999.0,9,  -999.00,9,   2050.4,2,   2401.4,2,   8.0875,2,   289.9,2,   20.0, -999.00,9,   326.8,  -999.0, -999.00,9
31RBOACES24N_2,  AR01,   100,  1,     33,2,19980218,2225, 26.5002, -73.2165, 5065,    141.4,  20.9010,  36.8430,  36.8440,2,    193.7,2,     200.4,2,     0.90,2,     0.78,2,     0.03,2,     0.03,2,    2.256,2,    1.275,2,    0.115,2, -999.000,9,   -999.0,9,  -999.00,9,   -999.0,9,   -999.0,9,-999.0000,9,  -999.0,9, -999.0, -999.00,9,  -999.0,  -999.0, -999.00,9
31RBOACES24N_2,  AR01,   100,  1,     32,2,19980218,2225, 26.5002, -73.2165, 5065,    200.6,  19.1230,  36.6630,  36.6610,2,    195.4,2,     198.5,2,     0.80,2,     2.34,2,     0.01,2,     0.07,2,    2.288,2,    1.277,2,    0.043,2, -999.000,9,   -999.0,9,  -999.00,9,   2096.2,2,   2392.3,2,   8.0005,2,   374.9,2,   20.0, -999.00,9,   361.9,  -999.0, -999.00,9
31RBOACES24N_2,  AR01,   100,  1,     31,2,19980218,2225, 26.5002, -73.2165, 5065,    225.2,  18.7530,  36.6180,  36.6170,2,    198.7,2,     202.9,2,     1.20,2,     2.73,2,     0.01,2,     0.09,2,    2.343,2,    1.307,2,    0.041,2, -999.000,9,   -999.0,9,  -999.00,9,   -999.0,9,   -999.0,9,-999.0000,9,  -999.0,9, -999.0, -999.00,9,  -999.0,  -999.0, -999.00,9
31RBOACES24N_2,  AR01,   100,  1,     30,2,19980218,2225, 26.5002, -73.2165, 5065,    251.2,  18.5210,  36.5900,  36.5870,2,    202.6,2,     203.0,2,     1.00,2,     3.22,2,     0.01,2,     0.12,2, -999.000,9, -999.000,9, -999.000,9, -999.000,9,   -999.0,9,  -999.00,9,   -999.0,9,   -999.0,9,-999.0000,9,  -999.0,9, -999.0, -999.00,9,  -999.0,  -999.0, -999.00,9
31RBOACES24N_2,  AR01,   100,  1,     29,2,19980218,2225, 26.5002, -73.2165, 5065,    272.9,  18.3580,  36.5700,  36.5680,2,    206.3,2,     205.0,2,     1.10,2,     3.41,2,     0.01,2,     0.13,2,    2.340,2,    1.296,2,    0.030,2, -999.000,9,   -999.0,9,  -999.00,9,   2093.9,2,   2385.7,2,   7.9951,2,   376.5,2,   20.0, -999.00,9,   352.2,  -999.0, -999.00,9
31RBOACES24N_2,  AR01,   100,  1,     28,2,19980218,2225, 26.5002, -73.2165, 5065,    299.8,  18.2380,  36.5580,  36.5570,2,    207.1,2,     207.9,2,     1.10,2,     3.41,2,     0.01,2,     0.14,2, -999.000,9, -999.000,9, -999.000,9, -999.000,9,   -999.0,9,  -999.00,9,   -999.0,9,   -999.0,9,-999.0000,9,  -999.0,9, -999.0, -999.00,9,  -999.0,  -999.0, -999.00,9
31RBOACES24N_2,  AR01,   100,  1,     27,2,19980218,2225, 26.5002, -73.2165, 5065,    350.6,  18.0730,  36.5400,  36.5400,2,    206.8,2,     209.8,2,     1.10,2,     3.61,2,     0.01,2,     0.16,2,    2.339,2,    1.299,2,    0.044,2, -999.000,9,   -999.0,9,  -999.00,9,   2092.7,2,   2386.6,2,   7.9946,2,   371.9,2,   20.0, -999.00,9,   344.0,  -999.0, -999.00,9
31RBOACES24N_2,  AR01,   100,  1,     26,2,19980218,2225, 26.5002, -73.2165, 5065,    400.8,  17.8650,  36.5010,  36.4960,2,    203.9,2,     203.7,2,     1.30,2,     4.58,2,     0.01,2,     0.21,2, -999.000,9, -999.000,9, -999.000,9, -999.000,9,   -999.0,9,  -999.00,9,   -999.0,9,   -999.0,9,-999.0000,9,  -999.0,9, -999.0, -999.00,9,  -999.0,  -999.0, -999.00,9
31RBOACES24N_2,  AR01,   100,  1,     25,2,19980218,2225, 26.5002, -73.2165, 5065,    451.1,  17.2770,  36.3930,  36.3960,2,    191.1,2,     193.7,2,     1.70,2,     6.34,2,     0.01,2,     0.31,2,    2.250,6,    1.227,6,    0.037,6, -999.000,9,   -999.0,9,  -999.00,9,   2111.2,2,   2376.4,2,   7.9534,2,  -999.0,9, -999.0, -999.00,9,  -999.0,  -999.0, -999.00,9
31RBOACES24N_2,  AR01,   100,  1,     24,2,19980218,2225, 26.5002, -73.2165, 5065,    500.3,  16.4870,  36.2530,  36.2550,2,    187.6,2,     185.9,2,     2.40,2,     8.39,2,     0.01,2,     0.43,2, -999.000,9, -999.000,9, -999.000,9, -999.000,9,   -999.0,9,  -999.00,9,   -999.0,9,   -999.0,9,-999.0000,9,  -999.0,9, -999.0, -999.00,9,  -999.0,  -999.0, -999.00,9
31RBOACES24N_2,  AR01,   100,  1,     23,2,19980218,2225, 26.5002, -73.2165, 5065,    550.0,  15.5970,  36.1040,  36.1010,2,    180.3,2,     179.8,2,     3.00,2,    10.24,2,     0.01,2,     0.56,2,    1.946,2,    1.025,2,    0.027,2, -999.000,9,   -999.0,9,  -999.00,9,   2128.6,2,   -999.0,9,   7.8954,2,   492.8,2,   20.0, -999.00,9,   412.1,  -999.0, -999.00,9
31RBOACES24N_2,  AR01,   100,  1,     22,3,19980218,2225, 26.5002, -73.2165, 5065,    648.3,  13.1170,  35.7210,  35.7230,2,    167.6,2,     166.4,2,     6.00,2,    15.62,2,     0.01,2,     0.91,2,    1.435,2,    0.742,2,    0.025,2, -999.000,9,   -999.0,9,  -999.00,9,   -999.0,9,   2362.1,2,-999.0000,9,  -999.0,9, -999.0, -999.00,9,  -999.0,  -999.0, -999.00,9
31RBOACES24N_2,  AR01,   100,  1,     21,3,19980218,2225, 26.5002, -73.2165, 5065,    752.0,  10.6570,  35.3930,  35.3940,2,    153.3,2,     152.2,2,    10.20,2,    21.18,2,     0.01,2,     1.30,2,    0.738,2,    0.379,2,    0.008,2, -999.000,9,   -999.0,9,  -999.00,9,   2174.6,2,   2330.9,2,   7.7318,2,   735.7,2,   20.0, -999.00,9,   500.7,  -999.0, -999.00,9
31RBOACES24N_2,  AR01,   100,  1,     20,2,19980218,2225, 26.5002, -73.2165, 5065,    850.9,   8.7530,  35.1770,  35.1810,2,    151.6,2,     149.1,2,    14.20,2,    24.51,2,     0.01,2,     1.56,2,    0.366,2,    0.194,2,    0.012,2, -999.000,9,   -999.0,9,  -999.00,9,   2189.1,6,   2325.9,2,   7.6814,2,   838.1,2,   20.0, -999.00,9,   526.1,  -999.0, -999.00,9
31RBOACES24N_2,  AR01,   100,  1,     19,2,19980218,2225, 26.5002, -73.2165, 5065,    950.3,   7.3600,  35.0710,  35.0710,2,    161.9,2,     159.8,2,    16.50,2,    25.29,2,     0.01,2,     1.65,2,    0.231,2,    0.123,2,    0.009,2, -999.000,9,   -999.0,9,  -999.00,9,   2193.7,2,   2322.2,2,   7.6641,2,   879.4,2,   20.0, -999.00,9,   519.6,  -999.0, -999.00,9
31RBOACES24N_2,  AR01,   100,  1,     18,2,19980218,2225, 26.5002, -73.2165, 5065,   1100.0,   6.1480,  35.0750,  35.0750,2,    197.0,2,     199.1,2,    14.70,2,    22.07,2,     0.01,2,     1.44,2,    0.394,2,    0.191,2,    0.012,2, -999.000,9,   -999.0,9,  -999.00,9,   2182.7,2,   2323.3,2,   7.6948,2,   809.9,2,   20.0, -999.00,9,   451.5,  -999.0, -999.00,9
31RBOACES24N_2,  AR01,   100,  1,     17,2,19980218,2225, 26.5002, -73.2165, 5065,   1300.9,   4.9320,  35.0470,  35.0480,2,    241.9,2,     242.3,2,    12.10,2,    18.75,2,     0.01,2,     1.22,2,    0.835,2,    0.412,2,    0.026,2, -999.000,9,   -999.0,9,  -999.00,9,   -999.0,9,   -999.0,9,-999.0000,9,  -999.0,9, -999.0, -999.00,9,  -999.0,  -999.0, -999.00,9
31RBOACES24N_2,  AR01,   100,  1,     16,2,19980218,2225, 26.5002, -73.2165, 5065,   1499.4,   4.2630,  34.9970,  34.9980,2,    260.6,2,     260.4,2,    11.90,2,    17.97,2,     0.01,2,     1.17,2,    0.997,6,    0.486,6,    0.036,6, -999.000,9,   -999.0,9,  -999.00,9,   2162.6,2,   2315.9,2,   7.7282,2,   736.5,2,   20.0, -999.00,9,   374.9,  -999.0, -999.00,9
31RBOACES24N_2,  AR01,   100,  1,     15,2,19980218,2225, 26.5002, -73.2165, 5065,   1700.0,   3.9850,  34.9860,  34.9870,2,    265.6,2,     265.3,2,    12.60,2,    17.77,2,     0.01,2,     1.16,2,    0.795,2,    0.388,2,    0.026,2, -999.000,9,   -999.0,9,  -999.00,9,   -999.0,9,   -999.0,9,-999.0000,9,  -999.0,9, -999.0, -999.00,9,  -999.0,  -999.0, -999.00,9
31RBOACES24N_2,  AR01,   100,  1,     14,2,19980218,2225, 26.5002, -73.2165, 5065,   1900.9,   3.7570,  34.9750,  34.9750,2,    268.2,2,     268.0,2,    13.50,2,    17.67,2,     0.01,2,     1.16,2,    0.703,2,    0.347,2,    0.032,2, -999.000,9,   -999.0,9,  -999.00,9,   2159.1,2,   2317.6,2,   7.7361,2,  -999.0,9, -999.0, -999.00,9,  -999.0,  -999.0, -999.00,9
31RBOACES24N_2,  AR01,   100,  1,     13,2,19980218,2225, 26.5002, -73.2165, 5065,   2099.7,   3.5780,  34.9700,  34.9700,2,    268.3,2,     268.8,2,    14.70,2,    17.67,2,     0.01,2,     1.16,2,    0.536,2,    0.265,2,    0.020,2, -999.000,9,   -999.0,9,  -999.00,9,   2159.3,2,   2317.3,2,   7.7374,2,   716.4,2,   20.0, -999.00,9,   352.4,  -999.0, -999.00,9
31RBOACES24N_2,  AR01,   100,  1,     12,2,19980218,2225, 26.5002, -73.2165, 5065,   2296.1,   3.3740,  34.9600,  34.9600,2,    270.1,2,     269.1,2,    16.00,2,    17.67,2,     0.01,2,     1.17,2,    0.495,2,    0.248,2,    0.023,2, -999.000,9,   -999.0,9,  -999.00,9,   2159.0,2,   2319.4,2,   7.7373,2,  -999.0,9, -999.0, -999.00,9,  -999.0,  -999.0, -999.00,9
31RBOACES24N_2,  AR01,   100,  1,     11,9,19980218,2225, 26.5002, -73.2165, 5065,   2498.5,   3.1780,  34.9520,-999.0000,9,    269.5,2,    -999.0,9,  -999.00,9,  -999.00,9,  -999.00,9,  -999.00,9, -999.000,9, -999.000,9, -999.000,9, -999.000,9,   -999.0,9,  -999.00,9,   -999.0,9,   -999.0,9,-999.0000,9,  -999.0,9, -999.0, -999.00,9,  -999.0,  -999.0, -999.00,9
31RBOACES24N_2,  AR01,   100,  1,     10,2,19980218,2225, 26.5002, -73.2165, 5065,   2699.6,   3.0150,  34.9440,  34.9450,2,    270.2,2,     271.8,6,    18.70,2,    17.67,2,     0.01,2,     1.18,2,    0.388,2,    0.191,2,    0.016,2,    0.903,2,   -999.0,9,  -999.00,9,   2161.3,2,   2323.1,2,   7.7391,2,  -999.0,9, -999.0, -999.00,9,  -999.0,  -999.0, -999.00,9
31RBOACES24N_2,  AR01,   100,  1,      9,2,19980218,2225, 26.5002, -73.2165, 5065,   2900.6,   2.8390,  34.9340,  34.9350,2,    272.2,2,     272.0,2,    19.80,2,    17.48,2,     0.01,2,     1.18,2,    0.435,2,    0.214,2,    0.018,2,    0.936,2,   -999.0,9,  -999.00,9,   -999.0,9,   -999.0,9,-999.0000,9,  -999.0,9, -999.0, -999.00,9,  -999.0,  -999.0, -999.00,9
31RBOACES24N_2,  AR01,   100,  1,      8,2,19980218,2225, 26.5002, -73.2165, 5065,   3100.1,   2.6850,  34.9250,  34.9260,2,    274.9,2,     273.8,2,    20.60,2,    17.58,2,     0.01,2,     1.18,2,    0.534,2,    0.262,2,    0.031,2, -999.000,9,   -999.0,9,  -999.00,9,   2162.2,2,   2321.1,2,   7.7384,2,   712.6,2,   20.0, -999.00,9,   335.2,  -999.0, -999.00,9
31RBOACES24N_2,  AR01,   100,  1,      7,2,19980218,2225, 26.5002, -73.2165, 5065,   3298.7,   2.5710,  34.9160,  34.9160,2,    277.5,2,     275.6,2,    20.70,2,    17.28,2,     0.01,2,     1.16,2,    0.748,2,    0.361,2,    0.032,2,    1.315,2,   -999.0,9,  -999.00,9,   -999.0,9,   -999.0,9,-999.0000,9,  -999.0,9, -999.0, -999.00,9,  -999.0,  -999.0, -999.00,9
31RBOACES24N_2,  AR01,   100,  1,      6,2,19980218,2225, 26.5002, -73.2165, 5065,   3499.4,   2.4690,  34.9110,  34.9110,2,    277.2,2,     275.4,2,    22.60,2,    17.48,2,     0.01,2,     1.18,2,    0.589,2,    0.287,2,    0.028,2,    1.186,2,   -999.0,9,  -999.00,9,   2164.0,2,   -999.0,5,   7.7366,2,  -999.0,9, -999.0, -999.00,9,  -999.0,  -999.0, -999.00,9
31RBOACES24N_2,  AR01,   100,  1,      5,2,19980218,2225, 26.5002, -73.2165, 5065,   3799.8,   2.3660,  34.9040,  34.9040,2,    276.1,2,     274.6,2,    25.30,2,    17.68,2,     0.01,2,     1.21,2,    0.486,2,    0.241,2,    0.023,2,    1.078,2,   -999.0,9,  -999.00,9,   2167.1,2,   -999.0,5,   7.7353,2,  -999.0,9, -999.0, -999.00,9,  -999.0,  -999.0, -999.00,9
31RBOACES24N_2,  AR01,   100,  1,      4,2,19980218,2225, 26.5002, -73.2165, 5065,   4098.5,   2.3120,  34.8980,  34.8980,2,    275.1,2,     273.4,2,    27.60,2,    18.07,2,     0.01,2,     1.23,2,    0.494,2,    0.246,2,    0.022,2,    1.051,6,   -999.0,9,  -999.00,9,   2170.0,2,   2329.3,2,   7.7334,2,  -999.0,9, -999.0, -999.00,9,  -999.0,  -999.0, -999.00,9
31RBOACES24N_2,  AR01,   100,  1,      3,2,19980218,2225, 26.5002, -73.2165, 5065,   4401.9,   2.2830,  34.8930,  34.8930,2,    272.7,2,     271.2,2,    30.70,2,    18.55,2,     0.01,2,     1.27,2,    0.406,2,    0.205,2,    0.022,2,    0.912,2,   -999.0,9,  -999.00,9,   2174.7,2,   -999.0,5,   7.7317,2,   738.2,2,   20.0, -999.00,9,   340.1,  -999.0, -999.00,9
31RBOACES24N_2,  AR01,   100,  1,      2,3,19980218,2225, 26.5002, -73.2165, 5065,   4699.2,   2.2620,  34.8870,  34.8870,2,    269.7,2,     268.0,2,    34.60,2,    19.14,2,     0.01,2,     1.31,2,    0.310,2,    0.160,2,    0.030,2,    0.758,2,   -999.0,9,  -999.00,9,   -999.0,9,   -999.0,9,-999.0000,9,  -999.0,9, -999.0, -999.00,9,  -999.0,  -999.0, -999.00,9
31RBOACES24N_2,  AR01,   100,  1,      1,2,19980218,2225, 26.5002, -73.2165, 5065,   5146.1,   2.0970,  34.8580,  34.8580,2,    257.4,2,     257.4,2,    50.00,6,    21.68,6,     0.01,6,     1.50,6,    0.068,2,    0.047,2,    0.014,2,    0.274,2,   -999.0,9,  -999.00,9,   2195.3,2,   2346.6,2,   7.7164,2,   773.4,2,   20.0, -999.00,9,   351.9,  -999.0, -999.00,9