BOTTLE,20220820CCHSIOAMB
EXPOCODE,SECT_ID,STNNBR,CASTNO,BTLNBR,BTLNBR_FLAG_W,DATE,TIME,LATITUDE,LONGITUDE,DEPTH,CTDPRS,CTDTMP,CTDSAL,SALNTY,SALNTY_FLAG_W,CTDOXY,CTDOXY_FLAG_W,OXYGEN,OXYGEN_FLAG_W,SILCAT,SILCAT_FLAG_W,NITRAT,NITRAT_FLAG_W,NITRIT,NITRIT_FLAG_W,PHSPHT,PHSPHT_FLAG_W,CFC-11,CFC-11_FLAG_W,CFC-12,CFC-12_FLAG_W,CFC113,CFC113_FLAG_W,CCL4,CCL4_FLAG_W,DELC14,DELC14_FLAG_W,DELC13,DELC13_FLAG_W,TCARBN,TCARBN_FLAG_W,ALKALI,ALKALI_FLAG_W,PH,PH_FLAG_W,FCO2,FCO2_FLAG_W,FCO2TMP,TON,TON_FLAG_W,FCO2IN,C14ERR,TOC,TOC_FLAG_W
,,,,,,,,,,,DBAR,ITS-90,PSS-78,PSS-78,,UMOL/KG,,UMOL/KG,,UMOL/KG,,UMOL/KG,,UMOL/KG,,UMOL/KG,,PMOL/KG,,PMOL/KG,,PMOL/KG,,PMOL/KG,,/MILLE,,/MILLE,,UMOL/KG,,UMOL/KG,,,,UATM,,DEG C,UMOL/KG,,UATM,/MILLE,UMOL/KG,
31RBOACES24N_2,  AR01,    89,  1,     36,2,19980216,0609, 24.5002, -69.1333, 5651,      3.9,  24.7850,  36.5300,  36.5300,2,    210.8,2,     209.2,2,     1.10,2,     0.10,2,     0.00,2,     0.00,2, -999.000,9, -999.000,9, -999.000,9, -999.000,9,   -999.0,9,  -999.00,9,   2020.7,2,   2386.4,2,   8.1044,2,   268.8,2,   20.0, -999.00,9,   324.5,  -999.0, -999.00,9
31RBOACES24N_2,  AR01,    89,  1,     35,2,19980216,0609, 24.5002, -69.1333, 5651,     55.9,  24.8020,  36.5930,  36.6080,2,    207.9,2,     209.0,2,     1.10,2,     0.10,2,     0.00,2,     0.01,2, -999.000,9, -999.000,9, -999.000,9, -999.000,9,   -999.0,9,  -999.00,9,   -999.0,9,   -999.0,9,-999.0000,9,  -999.0,9, -999.0, -999.00,9,  -999.0,  -999.0, -999.00,9
31RBOACES24N_2,  AR01,    89,  1,     34,2,19980216,0609, 24.5002, -69.1333, 5651,     87.8,  24.0160,  36.9430,  36.9670,2,    202.8,2,     199.0,2,     0.90,2,     0.49,2,     0.08,2,     0.02,2, -999.000,9, -999.000,9, -999.000,9, -999.000,9,   -999.0,9,  -999.00,9,   2074.8,2,   2412.8,2,   8.0577,2,   310.3,2,   20.0, -999.00,9,   363.2,  -999.0, -999.00,9
31RBOACES24N_2,  AR01,    89,  1,     33,2,19980216,0609, 24.5002, -69.1333, 5651,    128.9,  22.2310,  36.9720,  36.9590,2,    179.0,2,     178.4,2,     1.30,2,     2.93,2,     0.02,2,     0.14,2, -999.000,9, -999.000,9, -999.000,9, -999.000,9,   -999.0,9,  -999.00,9,   2108.0,3,   2413.6,2,   8.0050,2,   365.9,2,   20.0, -999.00,9,   399.3,  -999.0, -999.00,9
31RBOACES24N_2,  AR01,    89,  1,     32,2,19980216,0609, 24.5002, -69.1333, 5651,    169.3,  20.4670,  36.8520,  36.8530,2,    167.0,2,     184.8,3,     1.10,2,     2.44,2,     0.01,2,     0.09,2, -999.000,9, -999.000,9, -999.000,9, -999.000,9,   -999.0,9,  -999.00,9,   -999.0,9,   -999.0,9,-999.0000,9,  -999.0,9, -999.0, -999.00,9,  -999.0,  -999.0, -999.00,9
31RBOACES24N_2,  AR01,    89,  1,     31,2,19980216,0609, 24.5002, -69.1333, 5651,    200.5,  19.3510,  36.6960,  36.7080,2,    182.8,2,     168.6,2,     1.90,2,     5.76,2,     0.01,2,     0.28,2, -999.000,9, -999.000,9, -999.000,9, -999.000,9,   -999.0,9,  -999.00,9,   2128.1,3,   2397.1,2,   7.9466,2,   431.7,2,   20.0, -999.00,9,   420.7,  -999.0, -999.00,9
31RBOACES24N_2,  AR01,    89,  1,     30,2,19980216,0609, 24.5002, -69.1333, 5651,    225.1,  18.7190,  36.6330,  36.6320,2,    185.7,2,     187.0,2,     1.50,2,     4.49,2,     0.01,2,     0.19,2, -999.000,9, -999.000,9, -999.000,9, -999.000,9,   -999.0,9,  -999.00,9,   -999.0,9,   -999.0,9,-999.0000,9,  -999.0,9, -999.0, -999.00,9,  -999.0,  -999.0, -999.00,9
31RBOACES24N_2,  AR01,    89,  1,     29,2,19980216,0609, 24.5002, -69.1333, 5651,    249.4,  18.3530,  36.5740,  36.5770,2,    183.7,2,     200.7,2,     1.30,2,     3.80,2,     0.01,2,     0.16,2, -999.000,9, -999.000,9, -999.000,9, -999.000,9,   -999.0,9,  -999.00,9,   -999.0,9,   2384.5,2,-999.0000,5,  -999.0,9, -999.0, -999.00,9,  -999.0,  -999.0, -999.00,9
31RBOACES24N_2,  AR01,    89,  1,     28,2,19980216,0609, 24.5002, -69.1333, 5651,    274.1,  18.0700,  36.5330,  36.5290,2,    188.6,2,     200.8,2,     1.60,2,     4.59,2,     0.01,2,     0.21,2, -999.000,9, -999.000,9, -999.000,9, -999.000,9,   -999.0,9,  -999.00,9,   2102.1,2,   -999.0,9,-999.0000,9,   389.6,2,   20.0, -999.00,9,   360.2,  -999.0, -999.00,9
31RBOACES24N_2,  AR01,    89,  1,     27,2,19980216,0609, 24.5002, -69.1333, 5651,    299.6,  17.7710,  36.4830,  36.4880,2,    186.0,2,     188.0,2,     2.00,2,     6.24,2,     0.01,2,     0.31,2, -999.000,9, -999.000,9, -999.000,9, -999.000,9,   -999.0,9,  -999.00,9,   -999.0,9,   -999.0,9,-999.0000,9,  -999.0,9, -999.0, -999.00,9,  -999.0,  -999.0, -999.00,9
31RBOACES24N_2,  AR01,    89,  1,     26,2,19980216,0609, 24.5002, -69.1333, 5651,    349.8,  16.8030,  36.3210,  36.3150,2,    174.8,2,     182.7,2,     2.60,2,     8.29,2,     0.01,2,     0.44,2, -999.000,9, -999.000,9, -999.000,9, -999.000,9,   -999.0,9,  -999.00,9,   -999.0,9,   -999.0,9,-999.0000,9,  -999.0,9, -999.0, -999.00,9,  -999.0,  -999.0, -999.00,9
31RBOACES24N_2,  AR01,    89,  1,     25,2,19980216,0609, 24.5002, -69.1333, 5651,    400.0,  15.8710,  36.1570,  36.1570,2,    168.3,2,     172.7,2,     3.60,2,    10.73,2,     0.01,2,     0.61,2, -999.000,9, -999.000,9, -999.000,9, -999.000,9,   -999.0,9,  -999.00,9,   -999.0,9,   -999.0,9,-999.0000,9,  -999.0,9, -999.0, -999.00,9,  -999.0,  -999.0, -999.00,9
31RBOACES24N_2,  AR01,    89,  1,     24,2,19980216,0609, 24.5002, -69.1333, 5651,    450.0,  14.9380,  36.0080,  36.0130,2,    169.7,2,     172.8,2,     4.30,2,    12.00,2,     0.01,2,     0.69,2, -999.000,9, -999.000,9, -999.000,9, -999.000,9,   -999.0,9,  -999.00,9,   2139.7,2,   2356.3,2,   7.8650,2,   529.4,2,   20.0, -999.00,9,   430.7,  -999.0, -999.00,9
31RBOACES24N_2,  AR01,    89,  1,     23,2,19980216,0609, 24.5002, -69.1333, 5651,    499.8,  13.9290,  35.8520,  35.8580,2,    171.0,2,     170.1,2,     5.40,2,    13.86,2,     0.00,2,     0.82,2, -999.000,9, -999.000,9, -999.000,9, -999.000,9,   -999.0,9,  -999.00,9,   -999.0,9,   -999.0,9,-999.0000,9,  -999.0,9, -999.0, -999.00,9,  -999.0,  -999.0, -999.00,9
31RBOACES24N_2,  AR01,    89,  1,     22,2,19980216,0609, 24.5002, -69.1333, 5651,    600.7,  11.5050,  35.4870,  35.4900,2,    146.8,2,     147.4,2,     9.50,2,    20.41,2,     0.01,2,     1.26,2, -999.000,9, -999.000,9, -999.000,9, -999.000,9,   -999.0,9,  -999.00,9,   -999.0,9,   -999.0,9,-999.0000,9,  -999.0,9, -999.0, -999.00,9,  -999.0,  -999.0, -999.00,9
31RBOACES24N_2,  AR01,    89,  1,     21,2,19980216,0609, 24.5002, -69.1333, 5651,    650.6,  10.6490,  35.3610,  35.3660,2,    142.9,2,     141.7,2,    11.30,2,    22.65,2,     0.01,2,     1.41,2, -999.000,9, -999.000,9, -999.000,9, -999.000,9,   -999.0,9,  -999.00,9,   2179.9,2,   2327.9,2,   7.7101,2,   778.6,2,   20.0, -999.00,9,   530.3,  -999.0, -999.00,9
31RBOACES24N_2,  AR01,    89,  1,     20,2,19980216,0609, 24.5002, -69.1333, 5651,    699.2,   9.7240,  35.2460,  35.2410,2,    138.0,2,     139.2,2,    13.60,2,    24.51,2,     0.01,2,     1.56,2, -999.000,9, -999.000,9, -999.000,9, -999.000,9,   -999.0,9,  -999.00,9,   -999.0,9,   -999.0,9,-999.0000,9,  -999.0,9, -999.0, -999.00,9,  -999.0,  -999.0, -999.00,9
31RBOACES24N_2,  AR01,    89,  1,     19,2,19980216,0609, 24.5002, -69.1333, 5651,    798.9,   8.3590,  35.1660,  35.1700,2,    158.0,2,     158.1,2,    14.70,2,    23.93,2,     0.01,2,     1.55,2, -999.000,9, -999.000,9, -999.000,9, -999.000,9,   -999.0,9,  -999.00,9,   2186.5,2,   2320.9,2,   7.6856,2,   839.8,2,   20.0, -999.00,9,   518.1,  -999.0, -999.00,9
31RBOACES24N_2,  AR01,    89,  1,     18,2,19980216,0609, 24.5002, -69.1333, 5651,    892.3,   7.1580,  35.0900,  35.0930,2,    173.2,2,     171.7,2,    16.00,2,    23.93,2,     0.00,2,     1.58,2, -999.000,9, -999.000,9, -999.000,9, -999.000,9,   -999.0,9,  -999.00,9,   2186.9,2,   2320.1,2,   7.6771,2,   848.8,2,   20.0, -999.00,9,   496.4,  -999.0, -999.00,9
31RBOACES24N_2,  AR01,    89,  1,     17,2,19980216,0609, 24.5002, -69.1333, 5651,   1001.0,   6.0040,  35.0740,  35.0740,2,    203.0,2,     205.2,2,    14.90,2,    21.58,2,     0.00,2,     1.43,2, -999.000,9, -999.000,9, -999.000,9, -999.000,9,   -999.0,9,  -999.00,9,   2179.8,6,   2319.5,2,   7.6905,2,   800.7,2,   20.0, -999.00,9,   443.2,  -999.0, -999.00,9
31RBOACES24N_2,  AR01,    89,  1,     16,2,19980216,0609, 24.5002, -69.1333, 5651,   1145.2,   5.2840,  35.0810,  35.0770,2,    233.2,2,     231.8,2,    13.70,2,    19.63,2,     0.01,2,     1.30,2, -999.000,9, -999.000,9, -999.000,9, -999.000,9,   -999.0,9,  -999.00,9,   -999.0,9,   -999.0,9,-999.0000,9,  -999.0,9, -999.0, -999.00,9,  -999.0,  -999.0, -999.00,9
31RBOACES24N_2,  AR01,    89,  1,     15,2,19980216,0609, 24.5002, -69.1333, 5651,   1350.5,   4.6220,  35.0550,  35.0550,2,    250.8,2,     250.1,2,    13.60,2,    18.56,2,     0.00,2,     1.24,2, -999.000,9, -999.000,9, -999.000,9, -999.000,9,   -999.0,9,  -999.00,9,   2162.6,2,   2317.8,2,   7.7315,2,   732.5,2,   20.0, -999.00,9,   379.0,  -999.0, -999.00,9
31RBOACES24N_2,  AR01,    89,  1,     14,2,19980216,0609, 24.5002, -69.1333, 5651,   1531.5,   4.0030,  34.9940,  34.9960,2,    262.1,2,     264.7,2,    13.60,2,    17.87,2,     0.00,2,     1.20,2, -999.000,9, -999.000,9, -999.000,9, -999.000,9,   -999.0,9,  -999.00,9,   -999.0,9,   -999.0,9,-999.0000,9,  -999.0,9, -999.0, -999.00,9,  -999.0,  -999.0, -999.00,9
31RBOACES24N_2,  AR01,    89,  1,     13,2,19980216,0609, 24.5002, -69.1333, 5651,   1698.7,   3.7780,  34.9820,  34.9830,2,    267.6,2,     267.3,2,    14.40,2,    17.78,2,     0.00,2,     1.20,2, -999.000,9, -999.000,9, -999.000,9, -999.000,9,   -999.0,9,  -999.00,9,   -999.0,9,   -999.0,9,-999.0000,9,  -999.0,9, -999.0, -999.00,9,  -999.0,  -999.0, -999.00,9
31RBOACES24N_2,  AR01,    89,  1,     12,2,19980216,0609, 24.5002, -69.1333, 5651,   1950.0,   3.5290,  34.9750,  34.9760,2,    267.1,2,     267.7,2,    16.40,2,    17.87,2,     0.00,2,     1.21,2, -999.000,9, -999.000,9, -999.000,9, -999.000,9,   -999.0,9,  -999.00,9,   2158.3,2,   2314.7,2,   7.7387,2,   722.2,2,   20.0, -999.00,9,   354.4,  -999.0, -999.00,9
31RBOACES24N_2,  AR01,    89,  1,     11,2,19980216,0609, 24.5002, -69.1333, 5651,   2198.4,   3.3150,  34.9680,  34.9680,2,    266.9,2,     267.5,2,    18.50,2,    18.07,2,     0.00,2,     1.22,2, -999.000,9, -999.000,9, -999.000,9, -999.000,9,   -999.0,9,  -999.00,9,   -999.0,9,   -999.0,9,-999.0000,9,  -999.0,9, -999.0, -999.00,9,  -999.0,  -999.0, -999.00,9
31RBOACES24N_2,  AR01,    89,  1,     10,2,19980216,0609, 24.5002, -69.1333, 5651,   2440.3,   3.1430,  34.9650,  34.9640,2,    261.5,2,     262.0,2,    23.70,2,    18.85,2,     0.00,2,     1.29,2, -999.000,9, -999.000,9, -999.000,9, -999.000,9,   -999.0,9,  -999.00,9,   -999.0,9,   -999.0,9,-999.0000,9,  -999.0,9, -999.0, -999.00,9,  -999.0,  -999.0, -999.00,9
31RBOACES24N_2,  AR01,    89,  1,      9,2,19980216,0609, 24.5002, -69.1333, 5651,   2701.0,   2.9140,  34.9440,  34.9450,2,    267.4,2,     267.9,2,    22.90,2,    18.36,2,     0.00,2,     1.25,2, -999.000,9, -999.000,9, -999.000,9, -999.000,9,   -999.0,9,  -999.00,9,   2165.2,2,   -999.0,9,   7.7395,2,   728.3,2,   20.0, -999.00,9,   346.5,  -999.0, -999.00,9
31RBOACES24N_2,  AR01,    89,  1,      8,2,19980216,0609, 24.5002, -69.1333, 5651,   3000.1,   2.7000,  34.9280,  34.9280,2,    273.0,2,     273.1,2,    22.20,2,    17.78,2,     0.01,2,     1.22,2, -999.000,9, -999.000,9, -999.000,9, -999.000,9,   -999.0,9,  -999.00,9,   -999.0,9,   -999.0,9,-999.0000,9,  -999.0,9, -999.0, -999.00,9,  -999.0,  -999.0, -999.00,9
31RBOACES24N_2,  AR01,    89,  1,      7,2,19980216,0609, 24.5002, -69.1333, 5651,   3296.6,   2.5330,  34.9180,  34.9170,2,    274.8,2,     274.3,2,    23.40,2,    17.78,2,     0.01,2,     1.22,2, -999.000,9, -999.000,9, -999.000,9, -999.000,9,   -999.0,9,  -999.00,9,   -999.0,9,   -999.0,9,-999.0000,9,  -999.0,9, -999.0, -999.00,9,  -999.0,  -999.0, -999.00,9
31RBOACES24N_2,  AR01,    89,  1,      6,2,19980216,0609, 24.5002, -69.1333, 5651,   3592.8,   2.4170,  34.9080,  34.9100,2,    274.7,2,     274.3,2,    25.60,2,    17.87,2,     0.01,2,     1.23,2, -999.000,9, -999.000,9, -999.000,9, -999.000,9,   -999.0,9,  -999.00,9,   -999.0,9,   -999.0,9,-999.0000,9,  -999.0,9, -999.0, -999.00,9,  -999.0,  -999.0, -999.00,9
31RBOACES24N_2,  AR01,    89,  1,      5,2,19980216,0609, 24.5002, -69.1333, 5651,   3999.6,   2.3300,  34.9010,  34.9010,2,    274.4,2,     274.3,2,    27.50,2,    18.17,2,     0.01,2,     1.25,2, -999.000,9, -999.000,9, -999.000,9, -999.000,9,   -999.0,9,  -999.00,9,   2169.0,2,   2323.4,2,   7.7339,2,   733.2,2,   20.0, -999.00,9,   338.7,  -999.0, -999.00,9
31RBOACES24N_2,  AR01,    89,  1,      4,2,19980216,0609, 24.5002, -69.1333, 5651,   4397.4,   2.2960,  34.8940,  34.8940,2,    272.7,2,     272.0,2,    30.60,2,    18.56,2,     0.01,2,     1.28,2, -999.000,9, -999.000,9, -999.000,9, -999.000,9,   -999.0,9,  -999.00,9,   -999.0,9,   -999.0,9,-999.0000,9,  -999.0,9, -999.0, -999.00,9,  -999.0,  -999.0, -999.00,9
31RBOACES24N_2,  AR01,    89,  1,      3,2,19980216,0609, 24.5002, -69.1333, 5651,   4798.3,   2.2820,  34.8880,  34.8880,2,    269.9,2,     269.1,2,    34.30,2,    19.15,2,     0.00,2,     1.33,2, -999.000,9, -999.000,9, -999.000,9, -999.000,9,   -999.0,9,  -999.00,9,   -999.0,9,   -999.0,9,-999.0000,9,  -999.0,9, -999.0, -999.00,9,  -999.0,  -999.0, -999.00,9
31RBOACES24N_2,  AR01,    89,  1,      2,2,19980216,0609, 24.5002, -69.1333, 5651,   5197.3,   2.1940,  34.8700,  34.8710,2,    262.9,2,     262.6,2,    43.80,2,    20.71,2,     0.01,2,     1.44,2, -999.000,9, -999.000,9, -999.000,9, -999.000,9,   -999.0,9,  -999.00,9,   -999.0,9,   -999.0,9,-999.0000,9,  -999.0,9, -999.0, -999.00,9,  -999.0,  -999.0, -999.00,9
31RBOACES24N_2,  AR01,    89,  1,      1,2,19980216,0609, 24.5002, -69.1333, 5651,   5735.8,   2.0650,  34.8460,  34.8470,2,    252.9,2,     254.9,6,    56.00,6,    22.66,2,     0.01,6,     1.58,6, -999.000,9, -999.000,9, -999.000,9, -999.000,9,   -999.0,9,  -999.00,9,   2202.1,2,   2347.5,2,   7.7079,2,   789.8,6,   20.0, -999.00,9,   358.6,  -999.0, -999.00,9