BOTTLE,20220820CCHSIOAMB
EXPOCODE,SECT_ID,STNNBR,CASTNO,BTLNBR,BTLNBR_FLAG_W,DATE,TIME,LATITUDE,LONGITUDE,DEPTH,CTDPRS,CTDTMP,CTDSAL,SALNTY,SALNTY_FLAG_W,CTDOXY,CTDOXY_FLAG_W,OXYGEN,OXYGEN_FLAG_W,SILCAT,SILCAT_FLAG_W,NITRAT,NITRAT_FLAG_W,NITRIT,NITRIT_FLAG_W,PHSPHT,PHSPHT_FLAG_W,CFC-11,CFC-11_FLAG_W,CFC-12,CFC-12_FLAG_W,CFC113,CFC113_FLAG_W,CCL4,CCL4_FLAG_W,DELC14,DELC14_FLAG_W,DELC13,DELC13_FLAG_W,TCARBN,TCARBN_FLAG_W,ALKALI,ALKALI_FLAG_W,PH,PH_FLAG_W,FCO2,FCO2_FLAG_W,FCO2TMP,TON,TON_FLAG_W,FCO2IN,C14ERR,TOC,TOC_FLAG_W
,,,,,,,,,,,DBAR,ITS-90,PSS-78,PSS-78,,UMOL/KG,,UMOL/KG,,UMOL/KG,,UMOL/KG,,UMOL/KG,,UMOL/KG,,PMOL/KG,,PMOL/KG,,PMOL/KG,,PMOL/KG,,/MILLE,,/MILLE,,UMOL/KG,,UMOL/KG,,,,UATM,,DEG C,UMOL/KG,,UATM,/MILLE,UMOL/KG,
31RBOACES24N_2,  AR01,    93,  1,     36,2,19980217,0806, 26.1407, -70.6147, 5506,      3.9,  24.2810,  36.6540,  36.6530,2,    214.7,2,     211.0,6,     0.90,2,     0.00,2,     0.00,2,     0.00,2, -999.000,9, -999.000,9, -999.000,9, -999.000,9,   -999.0,9,  -999.00,9,   2028.4,2,   -999.0,9,   8.1010,2,   269.1,2,   20.0, -999.00,9,   318.7,  -999.0, -999.00,9
31RBOACES24N_2,  AR01,    93,  1,     35,2,19980217,0806, 26.1407, -70.6147, 5506,     70.7,  23.6660,  36.7510,  36.7480,2,    212.4,2,     212.7,2,     0.80,2,     0.00,2,     0.00,2,     0.00,2, -999.000,9, -999.000,9, -999.000,9, -999.000,9,   -999.0,9,  -999.00,9,   -999.0,9,   -999.0,9,-999.0000,9,  -999.0,9, -999.0, -999.00,9,  -999.0,  -999.0, -999.00,9
31RBOACES24N_2,  AR01,    93,  1,     34,2,19980217,0806, 26.1407, -70.6147, 5506,     71.3,  23.6540,  36.7500,  36.7470,2,    213.2,2,     212.9,2,     0.80,2,     0.00,2,     0.01,2,     0.01,2, -999.000,9, -999.000,9, -999.000,9, -999.000,9,   -999.0,9,  -999.00,9,   2036.3,2,   -999.0,5,   8.1049,2,   273.9,2,   20.0, -999.00,9,   316.6,  -999.0, -999.00,9
31RBOACES24N_2,  AR01,    93,  1,     33,2,19980217,0806, 26.1407, -70.6147, 5506,    104.2,  23.2980,  36.7750,  36.7790,2,    212.7,2,     213.6,2,     0.70,2,     0.00,2,     0.01,2,     0.01,2, -999.000,9, -999.000,9, -999.000,9, -999.000,9,   -999.0,9,  -999.00,9,   -999.0,9,   2428.1,2,   8.0999,2,   280.5,2,   20.0, -999.00,9,   319.7,  -999.0, -999.00,9
31RBOACES24N_2,  AR01,    93,  1,     32,2,19980217,0806, 26.1407, -70.6147, 5506,    150.6,  21.7840,  37.0170,  37.0180,2,    203.5,2,     200.7,2,     0.60,2,     0.39,2,     0.04,2,     0.02,2, -999.000,9, -999.000,9, -999.000,9, -999.000,9,   -999.0,9,  -999.00,9,   2090.1,2,   2415.9,2,   8.0395,2,   333.2,2,   20.0, -999.00,9,   357.7,  -999.0, -999.00,9
31RBOACES24N_2,  AR01,    93,  1,     31,2,19980217,0806, 26.1407, -70.6147, 5506,    199.3,  20.0200,  36.8280,  36.8350,2,    189.2,2,     189.6,2,     0.70,2,     1.56,2,     0.02,2,     0.05,2, -999.000,9, -999.000,9, -999.000,9, -999.000,9,   -999.0,9,  -999.00,9,   -999.0,9,   -999.0,9,-999.0000,9,  -999.0,9, -999.0, -999.00,9,  -999.0,  -999.0, -999.00,9
31RBOACES24N_2,  AR01,    93,  1,     30,2,19980217,0806, 26.1407, -70.6147, 5506,    223.8,  19.3020,  36.7230,  36.7220,2,    187.1,2,     190.1,2,     0.90,2,     2.54,2,     0.01,2,     0.08,2, -999.000,9, -999.000,9, -999.000,9, -999.000,9,   -999.0,9,  -999.00,9,   -999.0,9,   -999.0,9,-999.0000,9,  -999.0,9, -999.0, -999.00,9,  -999.0,  -999.0, -999.00,9
31RBOACES24N_2,  AR01,    93,  1,     29,2,19980217,0806, 26.1407, -70.6147, 5506,    274.7,  18.6200,  36.6200,  36.6190,2,    191.9,2,     196.0,2,     1.10,2,     3.51,2,     0.01,2,     0.14,2, -999.000,9, -999.000,9, -999.000,9, -999.000,9,   -999.0,9,  -999.00,9,   2102.9,2,   2391.3,2,   7.9840,2,   393.4,2,   20.0, -999.00,9,   372.1,  -999.0, -999.00,9
31RBOACES24N_2,  AR01,    93,  1,     28,2,19980217,0806, 26.1407, -70.6147, 5506,    276.1,  18.5670,  36.6090,  36.6120,2,    193.4,2,     196.8,2,     1.10,2,     3.51,2,     0.01,2,     0.15,2, -999.000,9, -999.000,9, -999.000,9, -999.000,9,   -999.0,9,  -999.00,9,   -999.0,9,   -999.0,9,-999.0000,9,  -999.0,9, -999.0, -999.00,9,  -999.0,  -999.0, -999.00,9
31RBOACES24N_2,  AR01,    93,  1,     27,2,19980217,0806, 26.1407, -70.6147, 5506,    298.7,  18.3410,  36.5720,  36.5740,2,    197.1,2,     199.9,2,     1.20,2,     3.80,2,     0.01,2,     0.17,2, -999.000,9, -999.000,9, -999.000,9, -999.000,9,   -999.0,9,  -999.00,9,   -999.0,9,   -999.0,9,-999.0000,9,  -999.0,9, -999.0, -999.00,9,  -999.0,  -999.0, -999.00,9
31RBOACES24N_2,  AR01,    93,  1,     26,2,19980217,0806, 26.1407, -70.6147, 5506,    347.3,  18.0130,  36.5310,  36.5320,2,    197.7,2,     195.3,2,     1.50,2,     4.88,2,     0.01,2,     0.24,2, -999.000,9, -999.000,9, -999.000,9, -999.000,9,   -999.0,9,  -999.00,9,   -999.0,9,   -999.0,9,-999.0000,9,  -999.0,9, -999.0, -999.00,9,  -999.0,  -999.0, -999.00,9
31RBOACES24N_2,  AR01,    93,  1,     25,2,19980217,0806, 26.1407, -70.6147, 5506,    398.4,  17.5640,  36.4550,  36.4550,2,    186.9,2,     190.4,2,     1.90,2,     6.15,2,     0.01,2,     0.32,2, -999.000,9, -999.000,9, -999.000,9, -999.000,9,   -999.0,9,  -999.00,9,   2112.6,2,   2380.6,2,   7.9525,2,   426.7,2,   20.0, -999.00,9,   386.7,  -999.0, -999.00,9
31RBOACES24N_2,  AR01,    93,  1,     24,2,19980217,0806, 26.1407, -70.6147, 5506,    450.0,  16.8240,  36.3210,  36.3390,2,    187.3,2,     184.9,2,     2.30,2,     7.61,2,     0.01,2,     0.41,2, -999.000,9, -999.000,9, -999.000,9, -999.000,9,   -999.0,9,  -999.00,9,   -999.0,9,   -999.0,9,-999.0000,9,  -999.0,9, -999.0, -999.00,9,  -999.0,  -999.0, -999.00,9
31RBOACES24N_2,  AR01,    93,  1,     23,2,19980217,0806, 26.1407, -70.6147, 5506,    499.5,  16.0140,  36.1870,  36.1920,2,    181.3,2,     183.4,2,     2.90,2,     9.17,2,     0.01,2,     0.51,2, -999.000,9, -999.000,9, -999.000,9, -999.000,9,   -999.0,9,  -999.00,9,   -999.0,9,   -999.0,9,-999.0000,9,  -999.0,9, -999.0, -999.00,9,  -999.0,  -999.0, -999.00,9
31RBOACES24N_2,  AR01,    93,  1,     22,2,19980217,0806, 26.1407, -70.6147, 5506,    601.7,  13.8930,  35.8450,  35.8510,2,    171.3,2,     167.5,2,     5.30,2,    14.06,2,     0.01,2,     0.84,2, -999.000,9, -999.000,9, -999.000,9, -999.000,9,   -999.0,9,  -999.00,9,   2146.5,2,   2349.5,2,   7.8351,2,   572.9,2,   20.0, -999.00,9,   446.5,  -999.0, -999.00,9
31RBOACES24N_2,  AR01,    93,  1,     21,2,19980217,0806, 26.1407, -70.6147, 5506,    698.9,  12.1200,  35.6130,  35.6140,2,    172.4,2,     167.6,2,     7.30,2,    16.89,2,     0.01,2,     1.03,2, -999.000,9, -999.000,9, -999.000,9, -999.000,9,   -999.0,9,  -999.00,9,   -999.0,9,   -999.0,9,-999.0000,9,  -999.0,9, -999.0, -999.00,9,  -999.0,  -999.0, -999.00,9
31RBOACES24N_2,  AR01,    93,  1,     20,2,19980217,0806, 26.1407, -70.6147, 5506,    799.5,  10.2850,  35.3720,  35.3920,2,    158.9,2,     156.3,2,    10.70,2,    20.90,2,     0.01,2,     1.32,2, -999.000,9, -999.000,9, -999.000,9, -999.000,9,   -999.0,9,  -999.00,9,   2175.1,2,   2329.1,2,   7.7347,2,   734.6,2,   20.0, -999.00,9,   491.4,  -999.0, -999.00,9
31RBOACES24N_2,  AR01,    93,  1,     19,2,19980217,0806, 26.1407, -70.6147, 5506,    850.7,   8.9070,  35.2060,  35.2060,2,    152.5,2,     150.8,2,    14.20,2,    24.03,2,     0.01,2,     1.55,2, -999.000,9, -999.000,9, -999.000,9, -999.000,9,   -999.0,9,  -999.00,9,   2187.5,2,   2323.4,2,   7.6898,2,   830.9,2,   20.0, -999.00,9,   525.1,  -999.0, -999.00,9
31RBOACES24N_2,  AR01,    93,  1,     18,2,19980217,0806, 26.1407, -70.6147, 5506,    900.4,   8.2030,  35.1410,  35.1400,2,    154.4,2,     154.0,2,    15.40,2,    24.71,2,     0.01,2,     1.61,2, -999.000,9, -999.000,9, -999.000,9, -999.000,9,   -999.0,9,  -999.00,9,   2190.4,6,   2319.8,2,   7.6765,2,   854.3,2,   20.0, -999.00,9,   523.5,  -999.0, -999.00,9
31RBOACES24N_2,  AR01,    93,  1,     17,2,19980217,0806, 26.1407, -70.6147, 5506,    997.6,   7.0020,  35.0690,  35.0660,2,    169.2,2,     169.8,2,    16.60,2,    24.42,2,     0.01,2,     1.63,2, -999.000,9, -999.000,9, -999.000,9, -999.000,9,   -999.0,9,  -999.00,9,   -999.0,9,   -999.0,9,-999.0000,9,  -999.0,9, -999.0, -999.00,9,  -999.0,  -999.0, -999.00,9
31RBOACES24N_2,  AR01,    93,  1,     16,2,19980217,0806, 26.1407, -70.6147, 5506,   1151.0,   5.8650,  35.0780,  35.0780,2,    210.3,2,     208.8,2,    14.60,2,    21.29,2,     0.01,2,     1.42,2, -999.000,9, -999.000,9, -999.000,9, -999.000,9,   -999.0,9,  -999.00,9,   2178.8,2,   2321.6,2,   7.7006,2,   797.7,2,   20.0, -999.00,9,   438.8,  -999.0, -999.00,9
31RBOACES24N_2,  AR01,    93,  1,     15,2,19980217,0806, 26.1407, -70.6147, 5506,   1351.4,   5.0440,  35.0700,  35.0690,2,    241.1,2,     239.1,2,    13.10,2,    19.05,2,     0.01,2,     1.27,2, -999.000,9, -999.000,9, -999.000,9, -999.000,9,   -999.0,9,  -999.00,9,   -999.0,9,   -999.0,9,-999.0000,9,  -999.0,9, -999.0, -999.00,9,  -999.0,  -999.0, -999.00,9
31RBOACES24N_2,  AR01,    93,  1,     14,2,19980217,0806, 26.1407, -70.6147, 5506,   1548.4,   4.4210,  35.0270,  35.0280,2,    258.2,2,     255.8,2,    12.90,2,    18.07,2,     0.01,2,     1.22,2, -999.000,9, -999.000,9, -999.000,9, -999.000,9,   -999.0,9,  -999.00,9,   2164.5,2,   2316.2,2,   7.7324,2,   726.1,2,   20.0, -999.00,9,   372.1,  -999.0, -999.00,9
31RBOACES24N_2,  AR01,    93,  1,     13,2,19980217,0806, 26.1407, -70.6147, 5506,   1827.7,   3.9440,  35.0060,  35.0050,2,    262.4,2,     261.9,2,    14.70,2,    17.97,2,     0.01,2,     1.21,2, -999.000,9, -999.000,9, -999.000,9, -999.000,9,   -999.0,9,  -999.00,9,   -999.0,9,   -999.0,9,-999.0000,9,  -999.0,9, -999.0, -999.00,9,  -999.0,  -999.0, -999.00,9
31RBOACES24N_2,  AR01,    93,  1,     12,2,19980217,0806, 26.1407, -70.6147, 5506,   2050.1,   3.6150,  34.9880,  34.9900,2,    264.5,2,     263.7,2,    16.80,2,    18.17,2,     0.01,2,     1.22,2, -999.000,9, -999.000,9, -999.000,9, -999.000,9,   -999.0,9,  -999.00,9,   2163.4,2,   2319.3,2,   7.7373,2,   718.8,2,   20.0, -999.00,9,   354.0,  -999.0, -999.00,9
31RBOACES24N_2,  AR01,    93,  1,     11,2,19980217,0806, 26.1407, -70.6147, 5506,   2273.5,   3.3420,  34.9720,  34.9710,2,    264.6,2,     265.3,2,    18.80,2,    18.07,2,     0.01,2,     1.23,2, -999.000,9, -999.000,9, -999.000,9, -999.000,9,   -999.0,9,  -999.00,9,   -999.0,9,   -999.0,9,-999.0000,9,  -999.0,9, -999.0, -999.00,9,  -999.0,  -999.0, -999.00,9
31RBOACES24N_2,  AR01,    93,  1,     10,2,19980217,0806, 26.1407, -70.6147, 5506,   2547.5,   3.0920,  34.9570,  34.9570,2,    263.1,2,     264.8,2,    21.70,2,    18.66,2,     0.01,2,     1.26,2, -999.000,9, -999.000,9, -999.000,9, -999.000,9,   -999.0,9,  -999.00,9,   -999.0,9,   -999.0,9,-999.0000,9,  -999.0,9, -999.0, -999.00,9,  -999.0,  -999.0, -999.00,9
31RBOACES24N_2,  AR01,    93,  1,      9,2,19980217,0806, 26.1407, -70.6147, 5506,   2799.4,   2.9220,  34.9460,  34.9460,2,    261.8,2,     263.2,2,    25.10,2,    19.05,2,     0.01,2,     1.29,2, -999.000,9, -999.000,9, -999.000,9, -999.000,9,   -999.0,9,  -999.00,9,   -999.0,9,   -999.0,9,-999.0000,9,  -999.0,9, -999.0, -999.00,9,  -999.0,  -999.0, -999.00,9
31RBOACES24N_2,  AR01,    93,  1,      8,2,19980217,0806, 26.1407, -70.6147, 5506,   3099.9,   2.7080,  34.9280,  34.9280,2,    272.5,2,     270.6,2,    22.60,2,    18.07,2,     0.01,2,     1.23,2, -999.000,9, -999.000,9, -999.000,9, -999.000,9,   -999.0,9,  -999.00,9,   -999.0,9,   -999.0,9,-999.0000,9,  -999.0,9, -999.0, -999.00,9,  -999.0,  -999.0, -999.00,9
31RBOACES24N_2,  AR01,    93,  1,      7,2,19980217,0806, 26.1407, -70.6147, 5506,   3450.2,   2.5230,  34.9160,  34.9160,2,    273.1,2,     273.4,2,    23.80,2,    17.78,2,     0.01,2,     1.22,2, -999.000,9, -999.000,9, -999.000,9, -999.000,9,   -999.0,9,  -999.00,9,   -999.0,9,   -999.0,9,-999.0000,9,  -999.0,9, -999.0, -999.00,9,  -999.0,  -999.0, -999.00,9
31RBOACES24N_2,  AR01,    93,  1,      6,2,19980217,0806, 26.1407, -70.6147, 5506,   3800.9,   2.3950,  34.9060,  34.9070,2,    274.4,2,     273.0,2,    26.40,2,    18.17,2,     0.01,2,     1.24,2, -999.000,9, -999.000,9, -999.000,9, -999.000,9,   -999.0,9,  -999.00,9,   -999.0,9,   -999.0,9,-999.0000,9,  -999.0,9, -999.0, -999.00,9,  -999.0,  -999.0, -999.00,9
31RBOACES24N_2,  AR01,    93,  1,      5,2,19980217,0806, 26.1407, -70.6147, 5506,   4108.7,   2.3370,  34.9010,  34.9010,2,    274.5,2,     272.6,2,    28.30,2,    18.27,2,     0.01,2,     1.26,2, -999.000,9, -999.000,9, -999.000,9, -999.000,9,   -999.0,9,  -999.00,9,   -999.0,9,   -999.0,9,-999.0000,9,  -999.0,9, -999.0, -999.00,9,  -999.0,  -999.0, -999.00,9
31RBOACES24N_2,  AR01,    93,  1,      4,2,19980217,0806, 26.1407, -70.6147, 5506,   4497.7,   2.3060,  34.8940,  34.8940,2,    273.0,2,     270.1,2,    30.80,2,    18.66,2,     0.01,2,     1.29,2, -999.000,9, -999.000,9, -999.000,9, -999.000,9,   -999.0,9,  -999.00,9,   -999.0,9,   -999.0,9,-999.0000,9,  -999.0,9, -999.0, -999.00,9,  -999.0,  -999.0, -999.00,9
31RBOACES24N_2,  AR01,    93,  1,      3,2,19980217,0806, 26.1407, -70.6147, 5506,   4848.7,   2.2890,  34.8880,  34.8870,2,    270.6,2,     267.9,2,    34.10,2,    19.24,2,     0.01,2,     1.33,2, -999.000,9, -999.000,9, -999.000,9, -999.000,9,   -999.0,9,  -999.00,9,   -999.0,9,   -999.0,9,-999.0000,9,  -999.0,9, -999.0, -999.00,9,  -999.0,  -999.0, -999.00,9
31RBOACES24N_2,  AR01,    93,  1,      2,2,19980217,0806, 26.1407, -70.6147, 5506,   5230.4,   2.2270,  34.8740,  34.8740,2,    264.4,2,     262.1,2,    41.70,2,    20.42,2,     0.01,2,     1.42,2, -999.000,9, -999.000,9, -999.000,9, -999.000,9,   -999.0,9,  -999.00,9,   -999.0,9,   -999.0,9,-999.0000,9,  -999.0,9, -999.0, -999.00,9,  -999.0,  -999.0, -999.00,9
31RBOACES24N_2,  AR01,    93,  1,      1,2,19980217,0806, 26.1407, -70.6147, 5506,   5595.6,   2.0720,  34.8480,  34.8490,2,    252.5,2,     254.2,2,    54.30,6,    22.47,6,     0.01,6,     1.57,6, -999.000,9, -999.000,9, -999.000,9, -999.000,9,   -999.0,9,  -999.00,9,   -999.0,9,   -999.0,9,-999.0000,9,  -999.0,9, -999.0, -999.00,9,  -999.0,  -999.0, -999.00,9