BOTTLE,20220820CCHSIOAMB
EXPOCODE,SECT_ID,STNNBR,CASTNO,BTLNBR,BTLNBR_FLAG_W,DATE,TIME,LATITUDE,LONGITUDE,DEPTH,CTDPRS,CTDTMP,CTDSAL,SALNTY,SALNTY_FLAG_W,CTDOXY,CTDOXY_FLAG_W,OXYGEN,OXYGEN_FLAG_W,SILCAT,SILCAT_FLAG_W,NITRAT,NITRAT_FLAG_W,NITRIT,NITRIT_FLAG_W,PHSPHT,PHSPHT_FLAG_W,CFC-11,CFC-11_FLAG_W,CFC-12,CFC-12_FLAG_W,CFC113,CFC113_FLAG_W,CCL4,CCL4_FLAG_W,DELC14,DELC14_FLAG_W,DELC13,DELC13_FLAG_W,TCARBN,TCARBN_FLAG_W,ALKALI,ALKALI_FLAG_W,PH,PH_FLAG_W,FCO2,FCO2_FLAG_W,FCO2TMP,TON,TON_FLAG_W,FCO2IN,C14ERR,TOC,TOC_FLAG_W
,,,,,,,,,,,DBAR,ITS-90,PSS-78,PSS-78,,UMOL/KG,,UMOL/KG,,UMOL/KG,,UMOL/KG,,UMOL/KG,,UMOL/KG,,PMOL/KG,,PMOL/KG,,PMOL/KG,,PMOL/KG,,/MILLE,,/MILLE,,UMOL/KG,,UMOL/KG,,,,UATM,,DEG C,UMOL/KG,,UATM,/MILLE,UMOL/KG,
31RBOACES24N_2,  AR01,    43,  1,     36,2,19980203,1323, 24.5002, -39.9832, 5105,      4.0,  24.2380,  37.5040,  37.5050,2,    211.1,2,     210.9,2,     0.50,2,     0.00,2,     0.00,2,  -999.00,5,    1.859,2,    1.077,2,    0.151,2,    1.823,2,   -999.0,9,  -999.00,9,   2080.1,6,   2453.2,2,   8.0982,6,   248.7,3,   20.0, -999.00,9,   294.1,  -999.0, -999.00,9
31RBOACES24N_2,  AR01,    43,  1,     35,2,19980203,1323, 24.5002, -39.9832, 5105,     36.6,  24.1250,  37.5060,  37.5050,2,    209.8,2,     211.1,2,     0.40,2,     0.00,2,     0.00,2,  -999.00,5, -999.000,9, -999.000,9, -999.000,9,    1.856,2,   -999.0,9,  -999.00,9,   -999.0,9,   -999.0,9,-999.0000,9,  -999.0,9, -999.0, -999.00,9,  -999.0,  -999.0, -999.00,9
31RBOACES24N_2,  AR01,    43,  1,     34,2,19980203,1323, 24.5002, -39.9832, 5105,     79.4,  22.3390,  37.2640,  37.2650,2,    212.2,2,     210.3,2,     0.30,2,     0.20,2,     0.03,2,  -999.00,5, -999.000,9, -999.000,9, -999.000,9,    1.036,6,   -999.0,9,  -999.00,9,   2103.9,2,   2447.0,2,   8.0414,2,   298.4,3,   20.0, -999.00,9,   327.2,  -999.0, -999.00,9
31RBOACES24N_2,  AR01,    43,  1,     33,2,19980203,1323, 24.5002, -39.9832, 5105,    119.3,  21.2330,  37.1820,  37.1820,2,    204.2,2,     204.7,2,     0.20,2,     0.78,2,     0.04,2,  -999.00,5, -999.000,9, -999.000,9, -999.000,9, -999.000,9,   -999.0,9,  -999.00,9,   2111.4,2,   2427.1,2,   8.0215,2,   321.7,3,   20.0, -999.00,9,   338.1,  -999.0, -999.00,9
31RBOACES24N_2,  AR01,    43,  1,     32,2,19980203,1323, 24.5002, -39.9832, 5105,    159.5,  19.9530,  36.9670,  36.9530,2,    195.2,2,     193.3,2,     0.30,2,     2.54,2,     0.02,2,  -999.00,5, -999.000,9, -999.000,9, -999.000,9, -999.000,9,   -999.0,9,  -999.00,9,   2118.4,2,   -999.0,5,   7.9897,2,  -999.0,9, -999.0, -999.00,9,  -999.0,  -999.0, -999.00,9
31RBOACES24N_2,  AR01,    43,  1,     31,2,19980203,1323, 24.5002, -39.9832, 5105,    199.8,  18.6280,  36.6930,  36.6880,2,    198.7,2,     201.0,2,     0.90,2,     3.02,2,     0.01,2,  -999.00,5,    2.313,2,    1.306,2,    0.053,2,    0.769,2,   -999.0,9,  -999.00,9,   2107.2,2,   2395.1,2,   7.9867,2,   354.5,3,   20.0, -999.00,9,   335.4,  -999.0, -999.00,9
31RBOACES24N_2,  AR01,    43,  1,     30,2,19980203,1323, 24.5002, -39.9832, 5105,    221.5,  18.1930,  36.5990,  36.5980,2,    198.8,2,     201.1,2,     0.90,2,     3.81,2,     0.00,2,  -999.00,5, -999.000,9, -999.000,9, -999.000,9, -999.000,9,   -999.0,9,  -999.00,9,   -999.0,9,   -999.0,9,-999.0000,9,  -999.0,9, -999.0, -999.00,9,  -999.0,  -999.0, -999.00,9
31RBOACES24N_2,  AR01,    43,  1,     29,2,19980203,1323, 24.5002, -39.9832, 5105,    250.5,  17.8280,  36.5350,  36.5350,2,    197.8,2,     199.6,2,     0.90,2,     4.49,2,     0.00,2,  -999.00,5, -999.000,9, -999.000,9, -999.000,9, -999.000,9,   -999.0,9,  -999.00,9,   2109.9,2,   2395.3,2,   7.9688,2,   377.6,3,   20.0, -999.00,9,   345.8,  -999.0, -999.00,9
31RBOACES24N_2,  AR01,    43,  1,     28,2,19980203,1323, 24.5002, -39.9832, 5105,    272.6,  17.6050,  36.4860,  36.4780,2,    199.5,2,     200.0,2,     1.00,2,     4.98,2,     0.00,2,  -999.00,5, -999.000,9, -999.000,9, -999.000,9,    0.621,2,   -999.0,9,  -999.00,9,   -999.0,9,   -999.0,9,-999.0000,9,  -999.0,9, -999.0, -999.00,9,  -999.0,  -999.0, -999.00,9
31RBOACES24N_2,  AR01,    43,  1,     27,2,19980203,1323, 24.5002, -39.9832, 5105,    301.0,  17.2040,  36.4080,  36.4040,2,    202.5,2,     201.1,2,     1.20,2,     5.56,2,     0.00,2,  -999.00,5, -999.000,9, -999.000,9, -999.000,9, -999.000,9,   -999.0,9,  -999.00,9,   2110.6,2,   2389.2,2,   7.9594,2,   423.6,3,   20.0, -999.00,9,   378.2,  -999.0, -999.00,9
31RBOACES24N_2,  AR01,    43,  1,     26,2,19980203,1323, 24.5002, -39.9832, 5105,    350.3,  16.3750,  36.2740,  36.2750,2,    198.0,2,     198.0,2,     1.70,2,     7.12,2,     0.00,2,  -999.00,5, -999.000,9, -999.000,9, -999.000,9, -999.000,9,   -999.0,9,  -999.00,9,   -999.0,9,   -999.0,9,-999.0000,9,  -999.0,9, -999.0, -999.00,9,  -999.0,  -999.0, -999.00,9
31RBOACES24N_2,  AR01,    43,  1,     25,2,19980203,1323, 24.5002, -39.9832, 5105,    400.0,  15.6550,  36.1690,  36.1690,2,    192.6,2,     192.4,2,     2.00,2,     8.59,2,     0.00,2,  -999.00,5, -999.000,9, -999.000,9, -999.000,9,    0.532,2,   -999.0,9,  -999.00,9,   2127.3,2,   2366.6,2,   7.9070,2,  -999.0,9, -999.0, -999.00,9,  -999.0,  -999.0, -999.00,9
31RBOACES24N_2,  AR01,    43,  1,     24,2,19980203,1323, 24.5002, -39.9832, 5105,    450.6,  14.8500,  36.0380,  36.0310,2,    190.0,2,     189.9,2,     2.80,2,    10.15,2,     0.00,2,  -999.00,5, -999.000,9, -999.000,9, -999.000,9, -999.000,9,   -999.0,9,  -999.00,9,   -999.0,9,   -999.0,9,-999.0000,9,  -999.0,9, -999.0, -999.00,9,  -999.0,  -999.0, -999.00,9
31RBOACES24N_2,  AR01,    43,  1,     23,2,19980203,1323, 24.5002, -39.9832, 5105,    500.4,  13.7400,  35.8520,  35.8430,2,    186.5,2,     186.4,2,     4.00,2,    12.40,2,     0.00,2,  -999.00,5, -999.000,9, -999.000,9, -999.000,9, -999.000,9,   -999.0,9,  -999.00,9,   2139.8,2,   2349.4,2,   7.8508,2,   498.7,3,   20.0, -999.00,9,   385.5,  -999.0, -999.00,9
31RBOACES24N_2,  AR01,    43,  1,     22,2,19980203,1323, 24.5002, -39.9832, 5105,    550.8,  12.8940,  35.7330,  35.7320,2,    183.8,2,     182.4,6,     4.90,2,    14.16,2,     0.00,2,  -999.00,5,    1.835,2,    0.945,2,    0.029,2,    0.507,2,   -999.0,9,  -999.00,9,   -999.0,9,   -999.0,9,-999.0000,9,  -999.0,9, -999.0, -999.00,9,  -999.0,  -999.0, -999.00,9
31RBOACES24N_2,  AR01,    43,  1,     21,2,19980203,1323, 24.5002, -39.9832, 5105,    600.9,  12.3000,  35.6600,  35.6590,2,    179.5,2,     179.3,2,     5.80,2,    15.33,2,     0.00,2,  -999.00,5, -999.000,9, -999.000,9, -999.000,9, -999.000,9,   -999.0,9,  -999.00,9,   2151.3,2,   -999.0,5,   7.8076,2,   562.5,3,   20.0, -999.00,9,   409.3,  -999.0, -999.00,9
31RBOACES24N_2,  AR01,    43,  1,     20,2,19980203,1323, 24.5002, -39.9832, 5105,    701.2,  10.6170,  35.4710,  35.4710,2,    170.0,2,     166.7,2,     8.80,2,    19.34,2,     0.00,2,  -999.00,5, -999.000,9, -999.000,9, -999.000,9, -999.000,9,   -999.0,9,  -999.00,9,   -999.0,9,   -999.0,9,-999.0000,9,  -999.0,9, -999.0, -999.00,9,  -999.0,  -999.0, -999.00,9
31RBOACES24N_2,  AR01,    43,  1,     19,2,19980203,1323, 24.5002, -39.9832, 5105,    800.8,   9.2160,  35.3190,  35.3170,2,    159.0,2,     156.8,2,    12.60,2,    22.85,2,     0.00,2,  -999.00,5, -999.000,9, -999.000,9, -999.000,9,    0.227,6,   -999.0,9,  -999.00,9,   2184.3,2,   -999.0,5,   7.7064,2,  -999.0,9, -999.0, -999.00,9,  -999.0,  -999.0, -999.00,9
31RBOACES24N_2,  AR01,    43,  1,     18,2,19980203,1323, 24.5002, -39.9832, 5105,    899.0,   8.1150,  35.2190,  35.2170,2,    156.6,2,     157.3,2,    14.90,2,    24.32,2,     0.00,2,  -999.00,5, -999.000,9, -999.000,9, -999.000,9, -999.000,9,   -999.0,9,  -999.00,9,   -999.0,9,   -999.0,9,-999.0000,9,  -999.0,9, -999.0, -999.00,9,  -999.0,  -999.0, -999.00,9
31RBOACES24N_2,  AR01,    43,  1,     17,2,19980203,1323, 24.5002, -39.9832, 5105,   1000.3,   7.3870,  35.1850,  35.1870,2,    163.7,2,     164.1,2,    16.00,2,    24.52,2,     0.00,2,  -999.00,5, -999.000,9, -999.000,9, -999.000,9, -999.000,9,   -999.0,9,  -999.00,9,   2195.0,6,   -999.0,5,   7.6798,2,   782.4,3,   20.0, -999.00,9,   460.8,  -999.0, -999.00,9
31RBOACES24N_2,  AR01,    43,  1,     16,2,19980203,1323, 24.5002, -39.9832, 5105,   1151.0,   6.3250,  35.1190,  35.1200,2,    183.8,2,     183.1,2,    17.00,2,    23.93,2,     0.00,2,  -999.00,5,    0.075,2,    0.034,2,    0.004,2,    0.183,2,   -999.0,9,  -999.00,9,   -999.0,9,   -999.0,9,-999.0000,9,  -999.0,9, -999.0, -999.00,9,  -999.0,  -999.0, -999.00,9
31RBOACES24N_2,  AR01,    43,  1,     15,2,19980203,1323, 24.5002, -39.9832, 5105,   1350.2,   5.4940,  35.1010,  35.1000,2,    208.6,2,     207.9,2,    16.60,2,    22.08,2,     0.00,2,  -999.00,5, -999.000,9, -999.000,9, -999.000,9, -999.000,9,   -999.0,9,  -999.00,9,   -999.0,9,   -999.0,9,-999.0000,9,  -999.0,9, -999.0, -999.00,9,  -999.0,  -999.0, -999.00,9
31RBOACES24N_2,  AR01,    43,  1,     14,2,19980203,1323, 24.5002, -39.9832, 5105,   1550.7,   4.9080,  35.0960,  35.0960,2,    224.5,2,     224.8,2,    17.10,2,    20.90,2,     0.00,2,  -999.00,5, -999.000,9, -999.000,9, -999.000,9, -999.000,9,   -999.0,9,  -999.00,9,   2177.0,2,   -999.0,5,   7.7204,2,   700.1,3,   20.0, -999.00,9,   366.1,  -999.0, -999.00,9
31RBOACES24N_2,  AR01,    43,  1,     13,2,19980203,1323, 24.5002, -39.9832, 5105,   1751.6,   4.4900,  35.0770,  35.0760,2,    234.6,2,     234.2,2,    18.20,2,    20.22,2,     0.00,2,  -999.00,5,    0.026,2,    0.013,2,   -0.002,2,    0.259,2,   -999.0,9,  -999.00,9,   -999.0,9,   -999.0,9,-999.0000,9,  -999.0,9, -999.0, -999.00,9,  -999.0,  -999.0, -999.00,9
31RBOACES24N_2,  AR01,    43,  1,     12,2,19980203,1323, 24.5002, -39.9832, 5105,   1951.3,   4.0110,  35.0430,  35.0410,2,    240.2,2,     240.9,2,    20.70,2,    20.12,2,     0.00,2,  -999.00,5, -999.000,9, -999.000,9, -999.000,9, -999.000,9,   -999.0,9,  -999.00,9,   -999.0,9,   -999.0,9,-999.0000,9,  -999.0,9, -999.0, -999.00,9,  -999.0,  -999.0, -999.00,9
31RBOACES24N_2,  AR01,    43,  1,     11,2,19980203,1323, 24.5002, -39.9832, 5105,   2200.4,   3.5630,  35.0080,  35.0080,2,    244.3,2,     245.7,2,    23.90,2,    20.22,2,     0.00,2,  -999.00,5, -999.000,9, -999.000,9, -999.000,9, -999.000,9,   -999.0,9,  -999.00,9,   2176.9,2,   2332.2,2,   7.7332,2,  -999.0,9, -999.0, -999.00,9,  -999.0,  -999.0, -999.00,9
31RBOACES24N_2,  AR01,    43,  1,     10,2,19980203,1323, 24.5002, -39.9832, 5105,   2447.9,   3.2670,  34.9810,  34.9810,2,    245.6,2,     246.5,2,    27.40,2,    20.42,2,     0.00,2,  -999.00,5,    0.001,2,    0.007,2,   -0.003,2,    0.061,2,   -999.0,9,  -999.00,9,   -999.0,9,   -999.0,9,-999.0000,9,  -999.0,9, -999.0, -999.00,9,  -999.0,  -999.0, -999.00,9
31RBOACES24N_2,  AR01,    43,  1,      9,2,19980203,1323, 24.5002, -39.9832, 5105,   2701.1,   3.0130,  34.9610,  34.9600,2,    244.5,2,     246.6,2,    31.00,2,    20.81,2,     0.00,2,  -999.00,5, -999.000,9, -999.000,9, -999.000,9, -999.000,9,   -999.0,9,  -999.00,9,   -999.0,9,   -999.0,9,-999.0000,9,  -999.0,9, -999.0, -999.00,9,  -999.0,  -999.0, -999.00,9
31RBOACES24N_2,  AR01,    43,  1,      8,2,19980203,1323, 24.5002, -39.9832, 5105,   2948.7,   2.8480,  34.9460,  34.9460,2,    244.7,2,     246.4,2,    33.70,2,    20.91,2,     0.00,2,  -999.00,5,   -0.001,2,    0.000,2,    0.003,2,    0.014,2,   -999.0,9,  -999.00,9,   2188.7,2,   2343.5,2,   7.7299,2,   680.4,3,   20.0, -999.00,9,   320.4,  -999.0, -999.00,9
31RBOACES24N_2,  AR01,    43,  1,      7,2,19980203,1323, 24.5002, -39.9832, 5105,   3198.9,   2.6890,  34.9320,  34.9310,2,    244.7,2,     247.3,2,    36.50,2,    21.20,2,     0.00,2,  -999.00,5, -999.000,9, -999.000,9, -999.000,9, -999.000,9,   -999.0,9,  -999.00,9,   -999.0,9,   -999.0,9,-999.0000,9,  -999.0,9, -999.0, -999.00,9,  -999.0,  -999.0, -999.00,9
31RBOACES24N_2,  AR01,    43,  1,      6,2,19980203,1323, 24.5002, -39.9832, 5105,   3552.3,   2.5420,  34.9150,  34.9150,2,    248.8,2,     248.2,2,    39.70,2,    21.40,2,     0.00,2,  -999.00,5,   -0.001,2,    0.000,4,    0.000,2,    0.013,2,   -999.0,9,  -999.00,9,   -999.0,9,   -999.0,9,-999.0000,9,  -999.0,9, -999.0, -999.00,9,  -999.0,  -999.0, -999.00,9
31RBOACES24N_2,  AR01,    43,  1,      5,2,19980203,1323, 24.5002, -39.9832, 5105,   3800.1,   2.4630,  34.9060,  34.9050,2,    249.3,2,     248.9,2,    41.70,2,    21.59,2,     0.00,2,  -999.00,5, -999.000,9, -999.000,9, -999.000,9,    0.014,2,   -999.0,9,  -999.00,9,   2194.7,2,   -999.0,5,   7.7282,2,  -999.0,9, -999.0, -999.00,9,  -999.0,  -999.0, -999.00,9
31RBOACES24N_2,  AR01,    43,  1,      4,2,19980203,1323, 24.5002, -39.9832, 5105,   4099.8,   2.4080,  34.8970,  34.8960,2,    249.6,2,     249.5,2,    43.40,2,    21.79,2,     0.00,2,  -999.00,5,   -0.001,2,    0.003,2,    0.000,2,    0.012,2,   -999.0,9,  -999.00,9,   -999.0,9,   -999.0,9,-999.0000,9,  -999.0,9, -999.0, -999.00,9,  -999.0,  -999.0, -999.00,9
31RBOACES24N_2,  AR01,    43,  1,      3,2,19980203,1323, 24.5002, -39.9832, 5105,   4457.3,   2.3930,  34.8920,  34.8910,2,    248.9,2,     250.4,2,    44.60,2,    21.79,2,     0.00,2,  -999.00,5,    0.000,2,   -0.002,2,    0.003,2,    0.023,2,   -999.0,9,  -999.00,9,   2197.2,2,   -999.0,9,   7.7257,2,   699.5,3,   20.0, -999.00,9,   321.7,  -999.0, -999.00,9
31RBOACES24N_2,  AR01,    43,  1,      2,2,19980203,1323, 24.5002, -39.9832, 5105,   4800.1,   2.4020,  34.8890,  34.8870,2,    249.0,2,     250.0,2,    45.40,2,    21.88,2,     0.00,2,  -999.00,5,    0.000,2,    0.000,2,    0.003,2,    0.032,2,   -999.0,9,  -999.00,9,   -999.0,9,   -999.0,9,-999.0000,9,  -999.0,9, -999.0, -999.00,9,  -999.0,  -999.0, -999.00,9
31RBOACES24N_2,  AR01,    43,  1,      1,2,19980203,1323, 24.5002, -39.9832, 5105,   5171.5,   2.4350,  34.8860,  34.8870,2,    248.2,2,     250.3,2,    46.10,6,    21.98,6,     0.00,6,  -999.00,5,    0.000,2,    0.003,2,   -0.001,2,    0.035,6,   -999.0,9,  -999.00,9,   2197.8,2,   -999.0,5,   7.7232,2,   705.0,3,   20.0, -999.00,9,   324.9,  -999.0, -999.00,9