BOTTLE,20220820CCHSIOAMB
EXPOCODE,SECT_ID,STNNBR,CASTNO,BTLNBR,BTLNBR_FLAG_W,DATE,TIME,LATITUDE,LONGITUDE,DEPTH,CTDPRS,CTDTMP,CTDSAL,SALNTY,SALNTY_FLAG_W,CTDOXY,CTDOXY_FLAG_W,OXYGEN,OXYGEN_FLAG_W,SILCAT,SILCAT_FLAG_W,NITRAT,NITRAT_FLAG_W,NITRIT,NITRIT_FLAG_W,PHSPHT,PHSPHT_FLAG_W,CFC-11,CFC-11_FLAG_W,CFC-12,CFC-12_FLAG_W,CFC113,CFC113_FLAG_W,CCL4,CCL4_FLAG_W,DELC14,DELC14_FLAG_W,DELC13,DELC13_FLAG_W,TCARBN,TCARBN_FLAG_W,ALKALI,ALKALI_FLAG_W,PH,PH_FLAG_W,FCO2,FCO2_FLAG_W,FCO2TMP,TON,TON_FLAG_W,FCO2IN,C14ERR,TOC,TOC_FLAG_W
,,,,,,,,,,,DBAR,ITS-90,PSS-78,PSS-78,,UMOL/KG,,UMOL/KG,,UMOL/KG,,UMOL/KG,,UMOL/KG,,UMOL/KG,,PMOL/KG,,PMOL/KG,,PMOL/KG,,PMOL/KG,,/MILLE,,/MILLE,,UMOL/KG,,UMOL/KG,,,,UATM,,DEG C,UMOL/KG,,UATM,/MILLE,UMOL/KG,
31RBOACES24N_2,  AR01,    28,  1,     36,2,19980129,2300, 24.5000, -27.8833, 5411,      2.9,  22.4820,  37.5060,  37.5060,2,    220.1,2,     218.1,2,     0.60,2,     0.00,2,     0.00,2,  -999.00,5, -999.000,9, -999.000,9, -999.000,9, -999.000,9,   -999.0,9,  -999.00,9,   -999.0,9,   2448.4,2,   8.0647,2,   313.9,2,   20.0, -999.00,9,   346.4,  -999.0, -999.00,9
31RBOACES24N_2,  AR01,    28,  1,     35,2,19980129,2300, 24.5000, -27.8833, 5411,      3.6,  22.4880,  37.5060,  37.5050,2,    220.1,2,     217.1,6,     0.60,2,     0.00,2,     0.00,2,  -999.00,5,    2.031,2,    1.177,2,    0.169,2, -999.000,9,   -999.0,9,  -999.00,9,   2100.1,6,   -999.0,9,-999.0000,9,  -999.0,9, -999.0, -999.00,9,  -999.0,  -999.0,   66.47,2
31RBOACES24N_2,  AR01,    28,  1,     34,2,19980129,2300, 24.5000, -27.8833, 5411,     70.4,  22.4960,  37.5030,  37.5020,2,    215.0,2,     217.4,6,     0.60,2,     0.00,2,     0.00,2,  -999.00,5,    1.991,2,    1.162,2,    0.169,2, -999.000,9,   -999.0,9,  -999.00,9,   -999.0,9,   2447.7,2,   8.0636,2,  -999.0,9, -999.0, -999.00,9,  -999.0,  -999.0,   65.99,2
31RBOACES24N_2,  AR01,    28,  1,     33,2,19980129,2300, 24.5000, -27.8833, 5411,    118.5,  22.4780,  37.4970,  37.4990,2,    215.0,2,     217.1,2,     0.60,2,     0.00,2,     0.00,2,  -999.00,5,    2.051,2,    1.193,2,    0.155,2, -999.000,9,   -999.0,9,  -999.00,9,   -999.0,9,   -999.0,9,-999.0000,9,   313.2,2,   20.0, -999.00,9,   345.6,  -999.0,   65.79,2
31RBOACES24N_2,  AR01,    28,  1,     32,2,19980129,2300, 24.5000, -27.8833, 5411,    170.6,  19.6440,  36.9180,  36.9070,2,    203.7,2,     207.9,2,     0.80,2,     0.88,2,     0.02,2,  -999.00,5,    2.258,2,    1.298,2,    0.126,2, -999.000,9,   -999.0,9,  -999.00,9,   -999.0,9,   2409.5,2,   8.0019,2,  -999.0,9, -999.0, -999.00,9,  -999.0,  -999.0,   55.54,2
31RBOACES24N_2,  AR01,    28,  1,     31,2,19980129,2300, 24.5000, -27.8833, 5411,    199.3,  18.8040,  36.7350,  36.7300,2,    202.5,2,     208.5,2,     0.90,2,     1.56,2,     0.01,2,  -999.00,5,    2.336,2,    1.316,2,    0.114,2, -999.000,9,   -999.0,9,  -999.00,9,   -999.0,9,   -999.0,9,-999.0000,9,   395.8,2,   20.0, -999.00,9,   377.4,  -999.0,   50.66,2
31RBOACES24N_2,  AR01,    28,  1,     30,2,19980129,2300, 24.5000, -27.8833, 5411,    224.4,  18.1480,  36.6120,  36.6080,2,    199.1,2,     202.7,2,     1.30,2,     3.51,2,     0.01,2,  -999.00,5,    2.358,6,    1.324,6,    0.059,6, -999.000,9,   -999.0,9,  -999.00,9,   -999.0,9,   -999.0,9,-999.0000,9,  -999.0,9, -999.0, -999.00,9,  -999.0,  -999.0, -999.00,9
31RBOACES24N_2,  AR01,    28,  1,     29,2,19980129,2300, 24.5000, -27.8833, 5411,    250.6,  17.5420,  36.4890,  36.4900,2,    197.2,2,     201.1,2,     1.60,2,     4.78,2,     0.00,2,  -999.00,5,    2.378,2,    1.322,2,    0.039,2, -999.000,9,   -999.0,9,  -999.00,9,   -999.0,9,   2384.8,2,   7.9638,2,  -999.0,9, -999.0, -999.00,9,  -999.0,  -999.0,   47.05,2
31RBOACES24N_2,  AR01,    28,  1,     28,2,19980129,2300, 24.5000, -27.8833, 5411,    268.2,  17.2120,  36.4290,  36.4270,2,    198.4,2,     200.1,2,     1.80,2,     5.46,2,     0.00,2,  -999.00,5,    2.342,2,    1.304,2,    0.037,2, -999.000,9,   -999.0,9,  -999.00,9,   -999.0,9,   -999.0,9,-999.0000,9,  -999.0,9, -999.0, -999.00,9,  -999.0,  -999.0, -999.00,9
31RBOACES24N_2,  AR01,    28,  1,     27,2,19980129,2300, 24.5000, -27.8833, 5411,    301.4,  16.7310,  36.3450,  36.3430,2,    198.2,2,     198.3,2,     2.00,2,     6.34,2,     0.00,2,  -999.00,5,    2.346,2,    1.292,2,    0.035,2, -999.000,9,   -999.0,9,  -999.00,9,   -999.0,9,   -999.0,9,-999.0000,9,   449.9,2,   20.0, -999.00,9,   393.9,  -999.0,   46.37,2
31RBOACES24N_2,  AR01,    28,  1,     26,2,19980129,2300, 24.5000, -27.8833, 5411,    380.4,  15.2780,  36.1110,  36.1100,2,    194.7,2,     194.3,2,     3.00,2,     8.98,2,     0.00,2,  -999.00,5,    2.277,2,    1.214,2,    0.030,2, -999.000,9,   -999.0,9,  -999.00,9,   -999.0,9,   2362.4,2,   7.9013,2,  -999.0,9, -999.0, -999.00,9,  -999.0,  -999.0, -999.00,9
31RBOACES24N_2,  AR01,    28,  1,     25,2,19980129,2300, 24.5000, -27.8833, 5411,    440.9,  14.2010,  35.9470,  35.9500,2,    191.6,2,     191.0,2,     3.80,2,    10.83,2,     0.00,2,  -999.00,5,    2.272,2,    1.204,2,    0.026,2, -999.000,9,   -999.0,9,  -999.00,9,   -999.0,9,   -999.0,9,-999.0000,9,   513.7,2,   20.0, -999.00,9,   404.9,  -999.0, -999.00,9
31RBOACES24N_2,  AR01,    28,  1,     24,2,19980129,2300, 24.5000, -27.8833, 5411,    500.3,  13.0050,  35.7760,  35.7780,2,    186.5,2,     184.9,2,     5.00,2,    13.37,2,     0.00,2,  -999.00,5,    2.045,2,    1.055,2,    0.024,2, -999.000,9,   -999.0,9,  -999.00,9,   -999.0,9,   -999.0,9,-999.0000,9,  -999.0,9, -999.0, -999.00,9,  -999.0,  -999.0,   45.28,2
31RBOACES24N_2,  AR01,    28,  1,     23,2,19980129,2300, 24.5000, -27.8833, 5411,    600.1,  11.4930,  35.5790,  35.5800,2,    179.3,2,     174.0,2,     7.20,2,    17.08,2,     0.00,2,  -999.00,5,    1.502,2,    0.763,2,    0.016,2, -999.000,9,   -999.0,9,  -999.00,9,   -999.0,9,   2334.0,2,   7.7767,2,   647.9,2,   20.0, -999.00,9,   455.9,  -999.0,   42.84,2
31RBOACES24N_2,  AR01,    28,  1,     22,2,19980129,2300, 24.5000, -27.8833, 5411,    701.3,  10.1440,  35.4350,  35.4260,2,    159.2,2,     151.7,2,    11.40,2,    21.97,2,     0.00,2,  -999.00,5,    0.651,6,    0.331,6,    0.004,6, -999.000,9,   -999.0,9,  -999.00,9,   -999.0,9,   -999.0,9,-999.0000,9,  -999.0,9, -999.0, -999.00,9,  -999.0,  -999.0, -999.00,9
31RBOACES24N_2,  AR01,    28,  1,     21,2,19980129,2300, 24.5000, -27.8833, 5411,    794.2,   9.0040,  35.3190,  35.3200,2,    144.0,2,     143.0,2,    14.50,2,    24.60,2,     0.00,2,  -999.00,5,    0.306,2,    0.155,2,    0.002,2, -999.000,9,   -999.0,9,  -999.00,9,   -999.0,9,   -999.0,9,-999.0000,9,   881.7,2,   20.0, -999.00,9,   561.2,  -999.0,   42.44,2
31RBOACES24N_2,  AR01,    28,  1,     20,2,19980129,2300, 24.5000, -27.8833, 5411,    900.5,   8.0410,  35.2470,  35.2450,2,    147.7,2,     149.5,2,    16.70,2,    25.48,2,     0.00,2,  -999.00,5,    0.159,2,    0.081,2,   -0.002,2, -999.000,9,   -999.0,9,  -999.00,9,   -999.0,9,   2328.1,2,   7.6704,2,  -999.0,9, -999.0, -999.00,9,  -999.0,  -999.0, -999.00,9
31RBOACES24N_2,  AR01,    28,  1,     19,2,19980129,2300, 24.5000, -27.8833, 5411,   1001.8,   7.1190,  35.1820,  35.1830,2,    158.3,2,     159.2,2,    18.40,2,    25.58,2,     0.00,2,  -999.00,5,    0.084,2,    0.045,2,   -0.001,2, -999.000,9,   -999.0,9,  -999.00,9,   -999.0,9,   -999.0,9,-999.0000,9,  -999.0,9, -999.0, -999.00,9,  -999.0,  -999.0,   42.53,2
31RBOACES24N_2,  AR01,    28,  1,     18,2,19980129,2300, 24.5000, -27.8833, 5411,   1200.8,   6.4570,  35.2020,  35.2010,2,    179.6,2,     180.5,2,    18.40,2,    23.83,2,     0.00,2,  -999.00,5,    0.059,2,    0.036,2,    0.002,2, -999.000,9,   -999.0,9,  -999.00,9,   -999.0,9,   -999.0,9,-999.0000,9,   854.9,6,   20.0, -999.00,9,   484.2,  -999.0, -999.00,9
31RBOACES24N_2,  AR01,    28,  1,     17,2,19980129,2300, 24.5000, -27.8833, 5411,   1401.3,   5.8520,  35.2130,  35.2130,2,    200.0,2,     198.5,2,    18.40,2,    22.36,2,     0.00,2,  -999.00,5,    0.038,6,    0.021,6,    0.001,6, -999.000,9,   -999.0,9,  -999.00,9,   -999.0,9,   2333.9,2,   7.7119,2,  -999.0,9, -999.0, -999.00,9,  -999.0,  -999.0, -999.00,9
31RBOACES24N_2,  AR01,    28,  1,     16,2,19980129,2300, 24.5000, -27.8833, 5411,   1600.9,   5.1990,  35.1760,  35.1770,2,    212.7,2,     213.2,2,    19.50,2,    21.48,2,     0.00,2,  -999.00,5, -999.000,9, -999.000,9, -999.000,9, -999.000,9,   -999.0,9,  -999.00,9,   -999.0,9,   -999.0,9,-999.0000,9,   781.5,2,   20.0, -999.00,9,   415.5,  -999.0, -999.00,9
31RBOACES24N_2,  AR01,    28,  1,     15,2,19980129,2300, 24.5000, -27.8833, 5411,   1800.7,   4.5920,  35.1190,  35.1190,2,    222.5,2,     222.5,2,    21.40,2,    21.09,2,     0.00,2,  -999.00,5,    0.010,2,    0.007,2,    0.002,2, -999.000,9,   -999.0,9,  -999.00,9,   -999.0,9,   -999.0,9,-999.0000,9,  -999.0,9, -999.0, -999.00,9,  -999.0,  -999.0, -999.00,9
31RBOACES24N_2,  AR01,    28,  1,     14,2,19980129,2300, 24.5000, -27.8833, 5411,   2001.9,   4.1410,  35.0750,  35.0770,2,    230.9,2,     232.9,2,    22.40,2,    20.61,2,     0.00,2,  -999.00,5, -999.000,9, -999.000,9, -999.000,9, -999.000,9,   -999.0,9,  -999.00,9,   -999.0,9,   2331.3,2,   7.7302,2,   757.5,2,   20.0, -999.00,9,   382.2,  -999.0, -999.00,9
31RBOACES24N_2,  AR01,    28,  1,     13,2,19980129,2300, 24.5000, -27.8833, 5411,   2202.2,   3.6780,  35.0310,  35.0310,2,    239.4,2,     241.4,2,    24.30,2,    20.31,2,     0.00,2,  -999.00,5, -999.000,9, -999.000,9, -999.000,9, -999.000,9,   -999.0,9,  -999.00,9,   -999.0,9,   -999.0,9,-999.0000,9,  -999.0,9, -999.0, -999.00,9,  -999.0,  -999.0, -999.00,9
31RBOACES24N_2,  AR01,    28,  1,     12,2,19980129,2300, 24.5000, -27.8833, 5411,   2401.4,   3.3650,  35.0000,  35.0000,2,    244.5,2,     246.0,2,    26.70,2,    20.22,2,     0.00,2,  -999.00,5, -999.000,9, -999.000,9, -999.000,9, -999.000,9,   -999.0,9,  -999.00,9,   -999.0,9,   -999.0,9,-999.0000,9,  -999.0,9, -999.0, -999.00,9,  -999.0,  -999.0, -999.00,9
31RBOACES24N_2,  AR01,    28,  1,     11,2,19980129,2300, 24.5000, -27.8833, 5411,   2601.4,   3.0900,  34.9740,  34.9750,2,    247.2,2,     248.5,2,    29.60,2,    20.31,2,     0.00,2,  -999.00,5,   -0.002,2,    0.000,2,   -0.006,2, -999.000,9,   -999.0,9,  -999.00,9,   -999.0,9,   -999.0,9,-999.0000,9,   744.5,2,   20.0, -999.00,9,   356.3,  -999.0, -999.00,9
31RBOACES24N_2,  AR01,    28,  1,     10,2,19980129,2300, 24.5000, -27.8833, 5411,   2799.5,   2.8770,  34.9540,  34.9540,2,    248.8,2,     248.6,2,    32.60,2,    20.61,2,     0.00,2,  -999.00,5, -999.000,9, -999.000,9, -999.000,9, -999.000,9,   -999.0,9,  -999.00,9,   -999.0,9,   -999.0,9,-999.0000,9,  -999.0,9, -999.0, -999.00,9,  -999.0,  -999.0, -999.00,9
31RBOACES24N_2,  AR01,    28,  1,      9,2,19980129,2300, 24.5000, -27.8833, 5411,   3003.2,   2.7300,  34.9390,  34.9400,2,    248.6,2,     248.6,2,    35.50,2,    20.90,2,     0.00,2,  -999.00,5,   -0.002,6,   -0.002,6,   -0.006,6, -999.000,9,   -999.0,9,  -999.00,9,   -999.0,9,   2343.8,2,   7.7312,2,   744.6,2,   20.0, -999.00,9,   349.7,  -999.0, -999.00,9
31RBOACES24N_2,  AR01,    28,  1,      8,2,19980129,2300, 24.5000, -27.8833, 5411,   3251.9,   2.6020,  34.9250,  34.9260,2,    248.5,2,     248.1,2,    38.60,2,    21.29,2,     0.00,2,  -999.00,5, -999.000,9, -999.000,9, -999.000,9, -999.000,9,   -999.0,9,  -999.00,9,   -999.0,9,   -999.0,9,-999.0000,9,  -999.0,9, -999.0, -999.00,9,  -999.0,  -999.0, -999.00,9
31RBOACES24N_2,  AR01,    28,  1,      7,3,19980129,2300, 24.5000, -27.8833, 5411,   3551.3,   2.5080,  34.9140,  34.9150,2,    247.3,2,     248.8,2,    41.30,2,    21.68,2,     0.00,2,  -999.00,5,   -0.001,2,   -0.003,2,   -0.002,2, -999.000,9,   -999.0,9,  -999.00,9,   -999.0,9,   -999.0,9,-999.0000,9,   747.2,2,   20.0, -999.00,9,   346.8,  -999.0, -999.00,9
31RBOACES24N_2,  AR01,    28,  1,      6,2,19980129,2300, 24.5000, -27.8833, 5411,   3851.2,   2.4350,  34.9040,  34.9050,2,    247.5,2,     248.9,2,    43.50,2,    21.97,2,     0.00,2,  -999.00,5,   -0.003,2,   -0.002,2,   -0.010,2, -999.000,9,   -999.0,9,  -999.00,9,   -999.0,9,   -999.0,9,-999.0000,9,  -999.0,9, -999.0, -999.00,9,  -999.0,  -999.0, -999.00,9
31RBOACES24N_2,  AR01,    28,  1,      5,2,19980129,2300, 24.5000, -27.8833, 5411,   4149.1,   2.4020,  34.8980,  34.8990,2,    247.0,2,     248.3,2,    44.50,2,    22.07,2,     0.00,2,  -999.00,5,   -0.002,2,   -0.004,2,   -0.003,2, -999.000,9,   -999.0,9,  -999.00,9,   -999.0,9,   -999.0,9,-999.0000,9,  -999.0,9, -999.0, -999.00,9,  -999.0,  -999.0, -999.00,9
31RBOACES24N_2,  AR01,    28,  1,      4,2,19980129,2300, 24.5000, -27.8833, 5411,   4445.5,   2.3870,  34.8930,  34.8930,2,    246.5,2,     248.2,2,    45.20,2,    22.07,2,     0.00,2,  -999.00,5, -999.000,9, -999.000,9, -999.000,9, -999.000,9,   -999.0,9,  -999.00,9,   -999.0,9,   -999.0,9,-999.0000,9,   756.0,2,   20.0, -999.00,9,   348.5,  -999.0, -999.00,9
31RBOACES24N_2,  AR01,    28,  1,      3,2,19980129,2300, 24.5000, -27.8833, 5411,   4800.2,   2.3940,  34.8880,  34.8890,2,    247.2,2,     249.4,2,    45.60,2,    22.07,2,     0.00,2,  -999.00,5,   -0.002,2,   -0.004,2,    0.003,2, -999.000,9,   -999.0,9,  -999.00,9,   -999.0,9,   -999.0,9,-999.0000,9,  -999.0,9, -999.0, -999.00,9,  -999.0,  -999.0, -999.00,9
31RBOACES24N_2,  AR01,    28,  1,      2,2,19980129,2300, 24.5000, -27.8833, 5411,   5150.3,   2.4210,  34.8860,  34.8860,2,    248.1,2,     249.0,2,    46.20,2,    22.07,2,     0.00,2,  -999.00,5,   -0.003,2,   -0.002,2,   -0.003,2, -999.000,9,   -999.0,9,  -999.00,9,   -999.0,9,   -999.0,9,-999.0000,9,  -999.0,9, -999.0, -999.00,9,  -999.0,  -999.0, -999.00,9
31RBOACES24N_2,  AR01,    28,  1,      1,2,19980129,2300, 24.5000, -27.8833, 5411,   5513.7,   2.4650,  34.8860,  34.8860,2,    248.4,2,     249.4,2,    46.80,6,    22.07,6,     0.00,6,  -999.00,5, -999.000,9, -999.000,9, -999.000,9, -999.000,9,   -999.0,9,  -999.00,9,   -999.0,9,   2352.4,2,   7.7254,2,   755.7,2,   20.0, -999.00,9,   348.8,  -999.0, -999.00,9