BOTTLE,20220820CCHSIOAMB
EXPOCODE,SECT_ID,STNNBR,CASTNO,BTLNBR,BTLNBR_FLAG_W,DATE,TIME,LATITUDE,LONGITUDE,DEPTH,CTDPRS,CTDTMP,CTDSAL,SALNTY,SALNTY_FLAG_W,CTDOXY,CTDOXY_FLAG_W,OXYGEN,OXYGEN_FLAG_W,SILCAT,SILCAT_FLAG_W,NITRAT,NITRAT_FLAG_W,NITRIT,NITRIT_FLAG_W,PHSPHT,PHSPHT_FLAG_W,CFC-11,CFC-11_FLAG_W,CFC-12,CFC-12_FLAG_W,CFC113,CFC113_FLAG_W,CCL4,CCL4_FLAG_W,DELC14,DELC14_FLAG_W,DELC13,DELC13_FLAG_W,TCARBN,TCARBN_FLAG_W,ALKALI,ALKALI_FLAG_W,PH,PH_FLAG_W,FCO2,FCO2_FLAG_W,FCO2TMP,TON,TON_FLAG_W,FCO2IN,C14ERR,TOC,TOC_FLAG_W
,,,,,,,,,,,DBAR,ITS-90,PSS-78,PSS-78,,UMOL/KG,,UMOL/KG,,UMOL/KG,,UMOL/KG,,UMOL/KG,,UMOL/KG,,PMOL/KG,,PMOL/KG,,PMOL/KG,,PMOL/KG,,/MILLE,,/MILLE,,UMOL/KG,,UMOL/KG,,,,UATM,,DEG C,UMOL/KG,,UATM,/MILLE,UMOL/KG,
31RBOACES24N_2,  AR01,    65,  1,     36,2,19980209,0012, 24.4997, -52.1493, 5094,      6.0,  24.0720,  37.2760,  37.2750,2,    208.1,2,     213.9,2,     0.80,2,     0.00,2,     0.00,2,     0.00,2, -999.000,9, -999.000,9, -999.000,9, -999.000,9,   -999.0,9,  -999.00,9,   2065.9,6,   -999.0,5,   8.1033,2,   276.4,6,   20.0, -999.00,9,   324.6,  -999.0, -999.00,9
31RBOACES24N_2,  AR01,    65,  1,     35,2,19980209,0012, 24.4997, -52.1493, 5094,     49.1,  23.0020,  37.2320,  37.2320,2,    215.3,2,     215.0,2,     0.60,2,     0.00,2,     0.00,2,     0.00,2, -999.000,9, -999.000,9, -999.000,9, -999.000,9,   -999.0,9,  -999.00,9,   -999.0,9,   -999.0,9,-999.0000,9,  -999.0,9, -999.0, -999.00,9,  -999.0,  -999.0, -999.00,9
31RBOACES24N_2,  AR01,    65,  1,     34,2,19980209,0012, 24.4997, -52.1493, 5094,    100.4,  22.9660,  37.2210,  37.2120,2,    215.4,2,     216.3,2,     0.60,2,     0.00,2,     0.00,2,     0.00,2, -999.000,9, -999.000,9, -999.000,9, -999.000,9,   -999.0,9,  -999.00,9,   -999.0,9,   -999.0,9,-999.0000,9,  -999.0,9, -999.0, -999.00,9,  -999.0,  -999.0, -999.00,9
31RBOACES24N_2,  AR01,    65,  1,     33,2,19980209,0012, 24.4997, -52.1493, 5094,    148.3,  19.5150,  36.7520,  36.7540,2,    209.8,2,     207.2,2,     0.80,2,     0.59,2,     0.04,2,     0.02,2, -999.000,9, -999.000,9, -999.000,9, -999.000,9,   -999.0,9,  -999.00,9,   2098.5,2,   2400.7,2,   8.0081,2,  -999.0,9, -999.0, -999.00,9,  -999.0,  -999.0, -999.00,9
31RBOACES24N_2,  AR01,    65,  1,     32,2,19980209,0012, 24.4997, -52.1493, 5094,    200.2,  18.4110,  36.5800,  36.5800,2,    202.0,2,     205.4,2,     1.10,2,     2.93,2,     0.01,2,     0.10,2, -999.000,9, -999.000,9, -999.000,9, -999.000,9,   -999.0,9,  -999.00,9,   -999.0,9,   -999.0,9,-999.0000,9,  -999.0,9, -999.0, -999.00,9,  -999.0,  -999.0, -999.00,9
31RBOACES24N_2,  AR01,    65,  1,     31,2,19980209,0012, 24.4997, -52.1493, 5094,    224.3,  18.1550,  36.5470,  36.5460,2,    205.5,2,     207.9,2,     1.30,2,     3.42,2,     0.00,2,     0.14,2, -999.000,9, -999.000,9, -999.000,9, -999.000,9,   -999.0,9,  -999.00,9,   2096.6,2,   -999.0,9,-999.0000,9,  -999.0,9, -999.0, -999.00,9,  -999.0,  -999.0, -999.00,9
31RBOACES24N_2,  AR01,    65,  1,     30,2,19980209,0012, 24.4997, -52.1493, 5094,    241.6,  18.0630,  36.5330,  36.5300,2,    207.1,2,     208.6,2,     1.40,2,     3.61,2,     0.00,2,     0.15,2, -999.000,9, -999.000,9, -999.000,9, -999.000,9,   -999.0,9,  -999.00,9,   -999.0,9,   2386.7,2,   7.9861,2,  -999.0,9, -999.0, -999.00,9,  -999.0,  -999.0, -999.00,9
31RBOACES24N_2,  AR01,    65,  1,     29,2,19980209,0012, 24.4997, -52.1493, 5094,    268.3,  17.9490,  36.5170,  36.5170,2,    209.4,2,     208.8,2,     1.40,2,     3.81,2,     0.00,2,     0.16,2, -999.000,9, -999.000,9, -999.000,9, -999.000,9,   -999.0,9,  -999.00,9,   -999.0,9,   -999.0,9,-999.0000,9,  -999.0,9, -999.0, -999.00,9,  -999.0,  -999.0, -999.00,9
31RBOACES24N_2,  AR01,    65,  1,     28,2,19980209,0012, 24.4997, -52.1493, 5094,    298.2,  17.7750,  36.4930,  36.4910,2,    210.7,2,     209.6,2,     1.50,2,     4.10,2,     0.00,2,     0.18,2, -999.000,9, -999.000,9, -999.000,9, -999.000,9,   -999.0,9,  -999.00,9,   -999.0,9,   -999.0,9,-999.0000,9,  -999.0,9, -999.0, -999.00,9,  -999.0,  -999.0, -999.00,9
31RBOACES24N_2,  AR01,    65,  1,     27,2,19980209,0012, 24.4997, -52.1493, 5094,    347.1,  17.3690,  36.4180,  36.4240,2,    207.7,2,     201.5,2,     1.90,2,     5.27,2,     0.00,2,     0.26,2, -999.000,9, -999.000,9, -999.000,9, -999.000,9,   -999.0,9,  -999.00,9,   2107.2,2,   -999.0,9,   7.9664,2,  -999.0,9, -999.0, -999.00,9,  -999.0,  -999.0, -999.00,9
31RBOACES24N_2,  AR01,    65,  1,     26,2,19980209,0012, 24.4997, -52.1493, 5094,    400.9,  16.6190,  36.2970,  36.3040,2,    196.0,2,     193.5,2,     2.40,2,     7.12,2,     0.00,2,     0.38,2, -999.000,9, -999.000,9, -999.000,9, -999.000,9,   -999.0,9,  -999.00,9,   -999.0,9,   -999.0,9,-999.0000,9,  -999.0,9, -999.0, -999.00,9,  -999.0,  -999.0, -999.00,9
31RBOACES24N_2,  AR01,    65,  1,     25,2,19980209,0012, 24.4997, -52.1493, 5094,    449.0,  15.6210,  36.1310,  36.1300,2,    191.6,2,     189.3,2,     3.20,2,     9.18,2,     0.00,2,     0.50,2, -999.000,9, -999.000,9, -999.000,9, -999.000,9,   -999.0,9,  -999.00,9,   -999.0,9,   -999.0,9,-999.0000,9,  -999.0,9, -999.0, -999.00,9,  -999.0,  -999.0, -999.00,9
31RBOACES24N_2,  AR01,    65,  1,     24,2,19980209,0012, 24.4997, -52.1493, 5094,    549.2,  13.4890,  35.7840,  35.7880,2,    174.9,2,     171.9,2,     5.90,2,    14.16,2,     0.00,2,     0.83,2, -999.000,9, -999.000,9, -999.000,9, -999.000,9,   -999.0,9,  -999.00,9,   -999.0,9,   -999.0,9,-999.0000,9,  -999.0,9, -999.0, -999.00,9,  -999.0,  -999.0, -999.00,9
31RBOACES24N_2,  AR01,    65,  1,     23,2,19980209,0012, 24.4997, -52.1493, 5094,    650.3,  11.7150,  35.5640,  35.5660,2,    166.9,2,     164.4,2,     8.10,2,    17.58,2,     0.00,2,     1.07,2, -999.000,9, -999.000,9, -999.000,9, -999.000,9,   -999.0,9,  -999.00,9,   2163.4,2,   2335.0,2,   7.7716,2,  -999.0,9, -999.0, -999.00,9,  -999.0,  -999.0, -999.00,9
31RBOACES24N_2,  AR01,    65,  1,     22,2,19980209,0012, 24.4997, -52.1493, 5094,    749.7,   9.9570,  35.3400,  35.3480,2,    151.1,2,     153.1,2,    12.00,2,    21.68,2,     0.00,2,     1.37,2, -999.000,9, -999.000,9, -999.000,9, -999.000,9,   -999.0,9,  -999.00,9,   -999.0,9,   -999.0,9,-999.0000,9,  -999.0,9, -999.0, -999.00,9,  -999.0,  -999.0, -999.00,9
31RBOACES24N_2,  AR01,    65,  1,     21,2,19980209,0012, 24.4997, -52.1493, 5094,    851.1,   8.1810,  35.1180,  35.1180,2,    146.4,2,     145.5,2,    16.80,2,    25.98,2,     0.00,2,     1.67,2, -999.000,9, -999.000,9, -999.000,9, -999.000,9,   -999.0,9,  -999.00,9,   -999.0,9,   -999.0,9,-999.0000,9,  -999.0,9, -999.0, -999.00,9,  -999.0,  -999.0, -999.00,9
31RBOACES24N_2,  AR01,    65,  1,     20,2,19980209,0012, 24.4997, -52.1493, 5094,    951.9,   7.1030,  35.0280,  35.0300,2,    157.5,2,     153.7,2,    19.00,2,    26.67,2,     0.00,2,     1.75,2, -999.000,9, -999.000,9, -999.000,9, -999.000,9,   -999.0,9,  -999.00,9,   -999.0,9,   -999.0,9,-999.0000,9,  -999.0,9, -999.0, -999.00,9,  -999.0,  -999.0, -999.00,9
31RBOACES24N_2,  AR01,    65,  1,     19,2,19980209,0012, 24.4997, -52.1493, 5094,   1050.5,   6.3350,  35.0190,  35.0180,2,    175.7,2,     173.5,2,    18.90,2,    25.20,2,     0.00,2,     1.67,2, -999.000,9, -999.000,9, -999.000,9, -999.000,9,   -999.0,9,  -999.00,9,   2195.8,6,   2318.9,2,   7.6599,2,  -999.0,9, -999.0, -999.00,9,  -999.0,  -999.0, -999.00,9
31RBOACES24N_2,  AR01,    65,  1,     18,2,19980209,0012, 24.4997, -52.1493, 5094,   1249.6,   5.4690,  35.0530,  35.0520,2,    215.7,2,     212.2,2,    16.20,2,    21.69,2,     0.00,2,     1.43,2, -999.000,9, -999.000,9, -999.000,9, -999.000,9,   -999.0,9,  -999.00,9,   -999.0,9,   -999.0,9,-999.0000,9,  -999.0,9, -999.0, -999.00,9,  -999.0,  -999.0, -999.00,9
31RBOACES24N_2,  AR01,    65,  1,     17,2,19980209,0012, 24.4997, -52.1493, 5094,   1449.3,   4.8880,  35.0730,  35.0730,2,    235.3,2,     236.1,2,    15.20,2,    19.73,2,     0.00,2,     1.29,2, -999.000,9, -999.000,9, -999.000,9, -999.000,9,   -999.0,9,  -999.00,9,   2172.6,2,   2320.2,2,   7.7254,2,  -999.0,9, -999.0, -999.00,9,  -999.0,  -999.0, -999.00,9
31RBOACES24N_2,  AR01,    65,  1,     16,2,19980209,0012, 24.4997, -52.1493, 5094,   1650.2,   4.4370,  35.0600,  35.0610,2,    246.9,2,     246.4,2,    16.10,2,    19.15,2,     0.00,2,     1.26,2, -999.000,9, -999.000,9, -999.000,9, -999.000,9,   -999.0,9,  -999.00,9,   -999.0,9,   -999.0,9,-999.0000,9,  -999.0,9, -999.0, -999.00,9,  -999.0,  -999.0, -999.00,9
31RBOACES24N_2,  AR01,    65,  1,     15,2,19980209,0012, 24.4997, -52.1493, 5094,   1852.0,   4.0150,  35.0370,  35.0370,2,    251.1,2,     250.5,2,    18.90,2,    19.15,2,     0.00,2,     1.27,2, -999.000,9, -999.000,9, -999.000,9, -999.000,9,   -999.0,9,  -999.00,9,   -999.0,9,   -999.0,9,-999.0000,9,  -999.0,9, -999.0, -999.00,9,  -999.0,  -999.0, -999.00,9
31RBOACES24N_2,  AR01,    65,  1,     14,2,19980209,0012, 24.4997, -52.1493, 5094,   2050.7,   3.6220,  35.0060,  35.0070,2,    254.0,2,     253.6,2,    21.80,2,    19.25,2,     0.00,2,     1.28,2, -999.000,9, -999.000,9, -999.000,9, -999.000,9,   -999.0,9,  -999.00,9,   2170.9,2,   2324.8,2,   7.7373,2,  -999.0,9, -999.0, -999.00,9,  -999.0,  -999.0, -999.00,9
31RBOACES24N_2,  AR01,    65,  1,     13,2,19980209,0012, 24.4997, -52.1493, 5094,   2250.1,   3.3340,  34.9850,  34.9860,2,    252.7,2,     254.8,2,    25.10,2,    19.54,2,     0.00,2,     1.30,2, -999.000,9, -999.000,9, -999.000,9, -999.000,9,   -999.0,9,  -999.00,9,   -999.0,9,   -999.0,9,-999.0000,9,  -999.0,9, -999.0, -999.00,9,  -999.0,  -999.0, -999.00,9
31RBOACES24N_2,  AR01,    65,  1,     12,2,19980209,0012, 24.4997, -52.1493, 5094,   2452.5,   3.1290,  34.9670,  34.9680,2,    254.1,2,     254.8,2,    27.80,2,    19.73,2,     0.00,2,     1.33,2, -999.000,9, -999.000,9, -999.000,9, -999.000,9,   -999.0,9,  -999.00,9,   2176.8,2,   2329.3,2,   7.7312,2,  -999.0,9, -999.0, -999.00,9,  -999.0,  -999.0, -999.00,9
31RBOACES24N_2,  AR01,    65,  1,     11,2,19980209,0012, 24.4997, -52.1493, 5094,   2652.2,   2.9740,  34.9530,  34.9540,2,    255.1,2,     255.7,2,    29.70,2,    19.83,2,     0.00,2,     1.34,2, -999.000,9, -999.000,9, -999.000,9, -999.000,9,   -999.0,9,  -999.00,9,   -999.0,9,   -999.0,9,-999.0000,9,  -999.0,9, -999.0, -999.00,9,  -999.0,  -999.0, -999.00,9
31RBOACES24N_2,  AR01,    65,  1,     10,2,19980209,0012, 24.4997, -52.1493, 5094,   2849.3,   2.8310,  34.9410,  34.9410,2,    255.9,2,     258.3,2,    31.70,2,    20.03,2,     0.00,2,     1.35,2, -999.000,9, -999.000,9, -999.000,9, -999.000,9,   -999.0,9,  -999.00,9,   -999.0,9,   -999.0,9,-999.0000,9,  -999.0,9, -999.0, -999.00,9,  -999.0,  -999.0, -999.00,9
31RBOACES24N_2,  AR01,    65,  1,      9,2,19980209,0012, 24.4997, -52.1493, 5094,   3049.6,   2.7350,  34.9320,  34.9320,2,    257.7,2,     257.2,2,    33.30,2,    20.13,2,     0.00,2,     1.36,2, -999.000,9, -999.000,9, -999.000,9, -999.000,9,   -999.0,9,  -999.00,9,   2180.2,2,   2333.6,2,   7.7335,2,  -999.0,9, -999.0, -999.00,9,  -999.0,  -999.0, -999.00,9
31RBOACES24N_2,  AR01,    65,  1,      8,2,19980209,0012, 24.4997, -52.1493, 5094,   3348.6,   2.5510,  34.9150,  34.9160,2,    258.8,2,     258.2,2,    36.10,2,    20.32,2,     0.00,2,     1.38,2, -999.000,9, -999.000,9, -999.000,9, -999.000,9,   -999.0,9,  -999.00,9,   -999.0,9,   -999.0,9,-999.0000,9,  -999.0,9, -999.0, -999.00,9,  -999.0,  -999.0, -999.00,9
31RBOACES24N_2,  AR01,    65,  1,      7,2,19980209,0012, 24.4997, -52.1493, 5094,   3651.5,   2.3950,  34.9010,  34.9010,2,    259.5,2,     258.7,2,    39.50,2,    20.52,2,     0.00,2,     1.40,2, -999.000,9, -999.000,9, -999.000,9, -999.000,9,   -999.0,9,  -999.00,9,   -999.0,9,   -999.0,9,-999.0000,9,  -999.0,9, -999.0, -999.00,9,  -999.0,  -999.0, -999.00,9
31RBOACES24N_2,  AR01,    65,  1,      6,2,19980209,0012, 24.4997, -52.1493, 5094,   3952.1,   2.2610,  34.8880,  34.8870,2,    258.4,2,     258.1,2,    42.70,2,    20.81,2,     0.00,2,     1.43,2, -999.000,9, -999.000,9, -999.000,9, -999.000,9,   -999.0,9,  -999.00,9,   2189.1,2,   2331.8,2,   7.7266,2,  -999.0,9, -999.0, -999.00,9,  -999.0,  -999.0, -999.00,9
31RBOACES24N_2,  AR01,    65,  1,      5,2,19980209,0012, 24.4997, -52.1493, 5094,   4249.6,   2.1800,  34.8760,  34.8770,2,    257.9,2,     258.0,2,    45.90,2,    21.20,2,     0.00,2,     1.46,2, -999.000,9, -999.000,9, -999.000,9, -999.000,9,   -999.0,9,  -999.00,9,   -999.0,9,   -999.0,9,-999.0000,9,  -999.0,9, -999.0, -999.00,9,  -999.0,  -999.0, -999.00,9
31RBOACES24N_2,  AR01,    65,  1,      4,2,19980209,0012, 24.4997, -52.1493, 5094,   4541.1,   2.1290,  34.8680,  34.8680,2,    256.6,2,     257.3,2,    48.50,2,    21.49,2,     0.00,2,     1.48,2, -999.000,9, -999.000,9, -999.000,9, -999.000,9,   -999.0,9,  -999.00,9,   -999.0,9,   -999.0,9,-999.0000,9,  -999.0,9, -999.0, -999.00,9,  -999.0,  -999.0, -999.00,9
31RBOACES24N_2,  AR01,    65,  1,      3,2,19980209,0012, 24.4997, -52.1493, 5094,   4949.9,   2.1150,  34.8620,  34.8620,2,    255.3,2,     256.1,2,    50.70,2,    21.79,2,     0.00,2,     1.50,2, -999.000,9, -999.000,9, -999.000,9, -999.000,9,   -999.0,9,  -999.00,9,   -999.0,9,   -999.0,9,-999.0000,9,  -999.0,9, -999.0, -999.00,9,  -999.0,  -999.0, -999.00,9
31RBOACES24N_2,  AR01,    65,  1,      2,2,19980209,0012, 24.4997, -52.1493, 5094,   5307.4,   2.1140,  34.8570,-999.0000,9,    255.1,2,    -999.0,9,  -999.00,9,  -999.00,9,  -999.00,9,  -999.00,9, -999.000,1, -999.000,1, -999.000,1, -999.000,9,   -999.0,9,  -999.00,9,   -999.0,9,   -999.0,9,-999.0000,9,  -999.0,9, -999.0, -999.00,9,  -999.0,  -999.0, -999.00,9
31RBOACES24N_2,  AR01,    65,  1,      1,2,19980209,0012, 24.4997, -52.1493, 5094,   5307.8,   2.1120,  34.8560,  34.8560,2,    256.1,2,     255.4,6,    52.70,6,    22.08,6,     0.00,6,     1.53,6, -999.000,9, -999.000,9, -999.000,9, -999.000,9,   -999.0,9,  -999.00,9,   2200.1,2,   2344.6,2,   7.7098,2,  -999.0,9, -999.0, -999.00,9,  -999.0,  -999.0, -999.00,9