BOTTLE,20220820CCHSIOAMB
EXPOCODE,SECT_ID,STNNBR,CASTNO,BTLNBR,BTLNBR_FLAG_W,DATE,TIME,LATITUDE,LONGITUDE,DEPTH,CTDPRS,CTDTMP,CTDSAL,SALNTY,SALNTY_FLAG_W,CTDOXY,CTDOXY_FLAG_W,OXYGEN,OXYGEN_FLAG_W,SILCAT,SILCAT_FLAG_W,NITRAT,NITRAT_FLAG_W,NITRIT,NITRIT_FLAG_W,PHSPHT,PHSPHT_FLAG_W,CFC-11,CFC-11_FLAG_W,CFC-12,CFC-12_FLAG_W,CFC113,CFC113_FLAG_W,CCL4,CCL4_FLAG_W,DELC14,DELC14_FLAG_W,DELC13,DELC13_FLAG_W,TCARBN,TCARBN_FLAG_W,ALKALI,ALKALI_FLAG_W,PH,PH_FLAG_W,FCO2,FCO2_FLAG_W,FCO2TMP,TON,TON_FLAG_W,FCO2IN,C14ERR,TOC,TOC_FLAG_W
,,,,,,,,,,,DBAR,ITS-90,PSS-78,PSS-78,,UMOL/KG,,UMOL/KG,,UMOL/KG,,UMOL/KG,,UMOL/KG,,UMOL/KG,,PMOL/KG,,PMOL/KG,,PMOL/KG,,PMOL/KG,,/MILLE,,/MILLE,,UMOL/KG,,UMOL/KG,,,,UATM,,DEG C,UMOL/KG,,UATM,/MILLE,UMOL/KG,
31RBOACES24N_2,  AR01,    37,  1,     36,2,19980201,1859, 24.5000, -35.2165, 5150,      4.1,  23.2160,  37.4910,  37.4910,2,    215.3,2,     215.3,2,     0.90,2,     0.00,2,     0.00,2,  -999.00,5,    1.950,2,    1.128,2,    0.159,2, -999.000,9,   -999.0,9,     1.42,2,   2091.5,2,   2446.8,2,   8.0795,2,   304.5,2,   20.0, -999.00,9,   345.9,  -999.0, -999.00,9
31RBOACES24N_2,  AR01,    37,  1,     35,2,19980201,1859, 24.5000, -35.2165, 5150,     28.6,  23.1770,  37.4950,  37.4950,2,    216.0,2,     215.5,2,     0.90,2,     0.00,2,     0.00,2,  -999.00,5, -999.000,9, -999.000,9, -999.000,9, -999.000,9,   -999.0,9,  -999.00,9,   -999.0,9,   -999.0,9,-999.0000,9,  -999.0,9, -999.0, -999.00,9,  -999.0,  -999.0, -999.00,9
31RBOACES24N_2,  AR01,    37,  1,     34,2,19980201,1859, 24.5000, -35.2165, 5150,     71.6,  23.1340,  37.4800,  37.4790,2,    216.3,2,     215.5,2,     0.90,2,     0.00,2,     0.00,2,  -999.00,5, -999.000,9, -999.000,9, -999.000,9, -999.000,9,   -999.0,9,  -999.00,9,   2089.8,6,   2447.0,2,   8.0777,2,   301.7,2,   20.0, -999.00,9,   341.6,  -999.0, -999.00,9
31RBOACES24N_2,  AR01,    37,  1,     33,2,19980201,1859, 24.5000, -35.2165, 5150,    113.2,  22.9280,  37.4260,  37.4100,2,    217.7,2,     216.4,2,     0.50,2,     0.00,2,     0.00,2,  -999.00,5,    1.979,2,    1.148,2,    0.162,2, -999.000,9,   -999.0,9,  -999.00,9,   2091.3,2,   2442.3,2,   8.0729,2,   306.9,2,   20.0, -999.00,9,   344.7,  -999.0, -999.00,9
31RBOACES24N_2,  AR01,    37,  1,     32,3,19980201,1859, 24.5000, -35.2165, 5150,    160.7,  19.7230,  36.8610,  36.8600,2,    203.2,2,     210.6,2,     0.60,2,     0.59,2,     0.03,2,  -999.00,5, -999.000,9, -999.000,9, -999.000,9, -999.000,9,   -999.0,9,  -999.00,9,   -999.0,9,   -999.0,9,-999.0000,9,  -999.0,9, -999.0, -999.00,9,  -999.0,  -999.0, -999.00,9
31RBOACES24N_2,  AR01,    37,  1,     31,2,19980201,1859, 24.5000, -35.2165, 5150,    208.4,  18.3750,  36.6040,  36.6030,2,    202.4,2,    -999.0,9,     0.90,2,     2.93,2,     0.01,2,  -999.00,5,    2.348,6,    1.330,6,    0.067,6, -999.000,9,   -999.0,9,  -999.00,9,   2099.9,2,   2389.4,2,   7.9922,2,   379.8,2,   20.0, -999.00,9,   355.7,  -999.0, -999.00,9
31RBOACES24N_2,  AR01,    37,  1,     30,2,19980201,1859, 24.5000, -35.2165, 5150,    225.1,  18.1160,  36.5560,  36.5560,2,    202.7,2,     203.0,2,     1.00,2,     3.61,2,     0.01,2,  -999.00,5, -999.000,9, -999.000,9, -999.000,9, -999.000,9,   -999.0,9,  -999.00,9,   -999.0,9,   -999.0,9,-999.0000,9,  -999.0,9, -999.0, -999.00,9,  -999.0,  -999.0, -999.00,9
31RBOACES24N_2,  AR01,    37,  1,     29,2,19980201,1859, 24.5000, -35.2165, 5150,    260.3,  17.5680,  36.4590,  36.4620,2,    200.7,2,     201.3,2,     1.10,2,     4.78,2,     0.01,2,  -999.00,5, -999.000,9, -999.000,9, -999.000,9, -999.000,9,   -999.0,9,  -999.00,9,   2105.5,2,   2380.4,2,   7.9686,2,   402.9,2,   20.0, -999.00,9,   365.4,  -999.0, -999.00,9
31RBOACES24N_2,  AR01,    37,  1,     28,2,19980201,1859, 24.5000, -35.2165, 5150,    286.1,  17.3120,  36.4220,  36.4230,2,    199.3,2,     199.8,2,     1.40,2,     5.37,2,     0.01,2,  -999.00,5, -999.000,9, -999.000,9, -999.000,9, -999.000,9,   -999.0,9,  -999.00,9,   -999.0,9,   -999.0,9,-999.0000,9,  -999.0,9, -999.0, -999.00,9,  -999.0,  -999.0, -999.00,9
31RBOACES24N_2,  AR01,    37,  1,     27,2,19980201,1859, 24.5000, -35.2165, 5150,    316.6,  16.9330,  36.3590,  36.3640,2,    198.2,2,     192.6,2,     1.70,2,     6.05,2,     0.00,2,  -999.00,5,    2.321,2,    1.278,2,    0.035,2, -999.000,9,   -999.0,9,  -999.00,9,   2112.2,2,   2379.9,2,   7.9505,2,   426.8,2,   20.0, -999.00,9,   376.8,  -999.0, -999.00,9
31RBOACES24N_2,  AR01,    37,  1,     26,2,19980201,1859, 24.5000, -35.2165, 5150,    411.9,  15.1790,  36.0930,  36.1030,2,    190.3,2,     182.9,2,     2.80,2,     9.27,2,     0.00,2,  -999.00,5, -999.000,9, -999.000,9, -999.000,9, -999.000,9,   -999.0,9,  -999.00,9,   2131.0,2,   2361.2,2,   7.8952,2,   488.4,2,   20.0, -999.00,9,   401.0,  -999.0, -999.00,9
31RBOACES24N_2,  AR01,    37,  1,     25,2,19980201,1859, 24.5000, -35.2165, 5150,    511.6,  13.0250,  35.7730,  35.7720,2,    184.0,2,     174.4,2,     4.80,2,    13.76,2,     0.00,2,  -999.00,5,    2.000,2,    1.032,2,    0.030,2, -999.000,9,   -999.0,9,  -999.00,9,   2148.6,2,   2343.7,2,   7.8270,2,   583.6,2,   20.0, -999.00,9,   438.2,  -999.0, -999.00,9
31RBOACES24N_2,  AR01,    37,  1,     24,2,19980201,1859, 24.5000, -35.2165, 5150,    622.7,  11.6530,  35.5920,  35.5940,2,    178.0,2,     145.4,2,     6.70,2,    16.99,2,     0.00,2,  -999.00,5, -999.000,9, -999.000,9, -999.000,9, -999.000,9,   -999.0,9,  -999.00,9,   2161.9,2,   2335.5,2,   7.7815,2,  -999.0,9, -999.0, -999.00,9,  -999.0,  -999.0, -999.00,9
31RBOACES24N_2,  AR01,    37,  1,     23,2,19980201,1859, 24.5000, -35.2165, 5150,    724.5,  10.2400,  35.4190,  35.4120,2,    147.2,2,     141.3,2,    11.40,2,    22.65,2,     0.00,2,  -999.00,5,    0.569,2,    0.264,2,    0.007,2, -999.000,9,   -999.0,9,  -999.00,9,   -999.0,9,   -999.0,9,-999.0000,9,  -999.0,9, -999.0, -999.00,9,  -999.0,  -999.0, -999.00,9
31RBOACES24N_2,  AR01,    37,  1,     22,2,19980201,1859, 24.5000, -35.2165, 5150,    825.7,   8.4740,  35.2280,  35.2250,2,    142.5,2,     148.0,2,    16.00,2,    25.98,2,     0.00,2,  -999.00,5, -999.000,9, -999.000,9, -999.000,9, -999.000,9,   -999.0,9,  -999.00,9,   2199.9,2,   2325.0,2,   7.6650,2,   877.1,2,   20.0, -999.00,9,   544.4,  -999.0, -999.00,9
31RBOACES24N_2,  AR01,    37,  1,     21,2,19980201,1859, 24.5000, -35.2165, 5150,    923.1,   7.5020,  35.1330,  35.1340,2,    149.1,2,     157.1,2,    17.90,2,    26.76,2,     0.00,2,  -999.00,5,    0.090,6,    0.039,6,    0.001,6, -999.000,9,   -999.0,9,  -999.00,9,   -999.0,9,   -999.0,9,-999.0000,9,  -999.0,9, -999.0, -999.00,9,  -999.0,  -999.0, -999.00,9
31RBOACES24N_2,  AR01,    37,  1,     20,2,19980201,1859, 24.5000, -35.2165, 5150,   1001.7,   6.8400,  35.0850,  35.0840,2,    159.4,2,     185.8,2,    18.40,2,    26.57,2,     0.00,2,  -999.00,5, -999.000,9, -999.000,9, -999.000,9, -999.000,9,   -999.0,9,  -999.00,9,   2200.4,6,   -999.0,5,   7.6534,2,   908.3,2,   20.0, -999.00,9,   524.6,  -999.0, -999.00,9
31RBOACES24N_2,  AR01,    37,  1,     19,2,19980201,1859, 24.5000, -35.2165, 5150,   1198.8,   5.9710,  35.0990,  35.0970,2,    187.3,2,     207.5,2,    18.20,2,    24.12,2,     0.00,2,  -999.00,5,    0.032,2,    0.017,2,    0.004,2, -999.000,9,   -999.0,9,  -999.00,9,   -999.0,9,   -999.0,9,-999.0000,9,  -999.0,9, -999.0, -999.00,9,  -999.0,  -999.0, -999.00,9
31RBOACES24N_2,  AR01,    37,  1,     18,2,19980201,1859, 24.5000, -35.2165, 5150,   1389.6,   5.3780,  35.1100,  35.1090,2,    208.7,2,     222.9,2,    17.90,2,    22.27,2,     0.00,2,  -999.00,5, -999.000,9, -999.000,9, -999.000,9, -999.000,9,   -999.0,9,  -999.00,9,   -999.0,9,   -999.0,9,-999.0000,9,  -999.0,9, -999.0, -999.00,9,  -999.0,  -999.0, -999.00,9
31RBOACES24N_2,  AR01,    37,  1,     17,2,19980201,1859, 24.5000, -35.2165, 5150,   1597.6,   4.8690,  35.1060,  35.1070,2,    224.7,2,     231.2,2,    18.50,2,    21.10,2,     0.00,2,  -999.00,5, -999.000,9, -999.000,9, -999.000,9, -999.000,9,   -999.0,9,  -999.00,9,   -999.0,9,   2336.8,2,   7.7171,2,   758.0,2,   20.0, -999.00,9,   396.5,  -999.0, -999.00,9
31RBOACES24N_2,  AR01,    37,  1,     16,2,19980201,1859, 24.5000, -35.2165, 5150,   1802.6,   4.3550,  35.0780,  35.0780,2,    232.7,2,     238.6,2,    20.50,2,    20.71,2,     0.00,2,  -999.00,5, -999.000,9, -999.000,9, -999.000,9, -999.000,9,   -999.0,9,  -999.00,9,   2178.6,2,   -999.0,9,-999.0000,9,  -999.0,9, -999.0, -999.00,9,  -999.0,  -999.0, -999.00,9
31RBOACES24N_2,  AR01,    37,  1,     15,2,19980201,1859, 24.5000, -35.2165, 5150,   2000.5,   3.9660,  35.0500,  35.0500,2,    238.5,2,     242.4,2,    22.10,2,    20.41,2,     0.00,2,  -999.00,5,    0.000,2,   -0.002,2,   -0.001,2, -999.000,9,   -999.0,9,  -999.00,9,   -999.0,9,   -999.0,9,-999.0000,9,  -999.0,9, -999.0, -999.00,9,  -999.0,  -999.0, -999.00,9
31RBOACES24N_2,  AR01,    37,  1,     14,2,19980201,1859, 24.5000, -35.2165, 5150,   2201.5,   3.6540,  35.0240,  35.0230,2,    244.4,2,     245.9,2,    24.30,2,    20.41,2,     0.00,2,  -999.00,5, -999.000,9, -999.000,9, -999.000,9, -999.000,9,   -999.0,9,  -999.00,9,   2177.9,2,   -999.0,5,   7.7318,2,  -999.0,9, -999.0, -999.00,9,  -999.0,  -999.0, -999.00,9
31RBOACES24N_2,  AR01,    37,  1,     13,2,19980201,1859, 24.5000, -35.2165, 5150,   2400.5,   3.3290,  34.9920,  34.9920,2,    247.0,2,     245.7,6,    27.10,2,    20.51,2,     0.00,2,  -999.00,5, -999.000,9, -999.000,9, -999.000,9, -999.000,9,   -999.0,9,  -999.00,9,   -999.0,9,   -999.0,9,-999.0000,9,  -999.0,9, -999.0, -999.00,9,  -999.0,  -999.0, -999.00,9
31RBOACES24N_2,  AR01,    37,  1,     12,2,19980201,1859, 24.5000, -35.2165, 5150,   2601.0,   3.0930,  34.9690,  34.9700,2,    247.2,2,     247.0,2,    30.60,2,    20.81,2,     0.00,2,  -999.00,5, -999.000,9, -999.000,9, -999.000,9, -999.000,9,   -999.0,9,  -999.00,9,   -999.0,9,   -999.0,9,-999.0000,9,  -999.0,9, -999.0, -999.00,9,  -999.0,  -999.0, -999.00,9
31RBOACES24N_2,  AR01,    37,  1,     11,2,19980201,1859, 24.5000, -35.2165, 5150,   2790.2,   2.9670,  34.9590,  34.9580,2,    246.5,2,     246.3,2,    32.40,2,    20.90,2,     0.00,2,  -999.00,5,   -0.001,2,   -0.002,2,   -0.001,2, -999.000,9,   -999.0,9,  -999.00,9,   2185.3,2,   -999.0,5,   7.7304,2,   740.6,2,   20.0, -999.00,9,   352.4,  -999.0, -999.00,9
31RBOACES24N_2,  AR01,    37,  1,     10,2,19980201,1859, 24.5000, -35.2165, 5150,   3000.6,   2.8350,  34.9470,  34.9460,2,    245.3,2,     246.7,2,    34.90,2,    21.20,2,     0.00,2,  -999.00,5, -999.000,9, -999.000,9, -999.000,9, -999.000,9,   -999.0,9,  -999.00,9,   -999.0,9,   -999.0,9,-999.0000,9,  -999.0,9, -999.0, -999.00,9,  -999.0,  -999.0, -999.00,9
31RBOACES24N_2,  AR01,    37,  1,      9,2,19980201,1859, 24.5000, -35.2165, 5150,   3250.1,   2.6830,  34.9320,  34.9310,2,    245.8,2,     247.2,2,    38.10,2,    21.29,2,     0.00,2,  -999.00,5, -999.000,9, -999.000,9, -999.000,9, -999.000,9,   -999.0,9,  -999.00,9,   2192.1,2,   -999.0,5,   7.7295,2,  -999.0,9, -999.0, -999.00,9,  -999.0,  -999.0, -999.00,9
31RBOACES24N_2,  AR01,    37,  1,      8,2,19980201,1859, 24.5000, -35.2165, 5150,   3491.5,   2.5730,  34.9190,  34.9180,2,    247.6,2,     247.8,2,    40.40,2,    21.78,2,     0.00,2,  -999.00,5,   -0.001,2,   -0.001,2,    0.016,4, -999.000,9,   -999.0,9,  -999.00,9,   -999.0,9,   -999.0,9,-999.0000,9,  -999.0,9, -999.0, -999.00,9,  -999.0,  -999.0, -999.00,9
31RBOACES24N_2,  AR01,    37,  1,      7,2,19980201,1859, 24.5000, -35.2165, 5150,   3747.9,   2.4860,  34.9090,  34.9090,2,    246.8,2,     249.4,2,    42.90,2,    21.78,2,     0.00,2,  -999.00,5, -999.000,9, -999.000,9, -999.000,9, -999.000,9,   -999.0,9,  -999.00,9,   2194.6,2,   -999.0,5,   7.7277,2,   749.3,2,   20.0, -999.00,9,   347.5,  -999.0, -999.00,9
31RBOACES24N_2,  AR01,    37,  1,      6,2,19980201,1859, 24.5000, -35.2165, 5150,   4000.2,   2.4450,  34.9020,  34.9010,2,    246.4,2,     248.6,2,    43.50,2,    21.88,2,     0.00,2,  -999.00,5, -999.000,9, -999.000,9, -999.000,9, -999.000,9,   -999.0,9,  -999.00,9,   -999.0,9,   -999.0,9,-999.0000,9,  -999.0,9, -999.0, -999.00,9,  -999.0,  -999.0, -999.00,9
31RBOACES24N_2,  AR01,    37,  1,      5,2,19980201,1859, 24.5000, -35.2165, 5150,   4247.8,   2.4160,  34.8970,  34.8960,2,    247.4,2,     249.6,2,    44.20,2,    21.88,2,     0.00,2,  -999.00,5,   -0.001,2,   -0.001,2,   -0.006,2, -999.000,9,   -999.0,9,  -999.00,9,   -999.0,9,   -999.0,9,-999.0000,9,  -999.0,9, -999.0, -999.00,9,  -999.0,  -999.0, -999.00,9
31RBOACES24N_2,  AR01,    37,  1,      4,2,19980201,1859, 24.5000, -35.2165, 5150,   4497.4,   2.4000,  34.8920,  34.8910,2,    249.6,2,     249.9,2,    44.80,2,    21.98,2,     0.00,2,  -999.00,5, -999.000,9, -999.000,9, -999.000,9, -999.000,9,   -999.0,9,  -999.00,9,   2196.9,2,   -999.0,9,   7.7264,2,  -999.0,9, -999.0, -999.00,9,  -999.0,  -999.0, -999.00,9
31RBOACES24N_2,  AR01,    37,  1,      3,2,19980201,1859, 24.5000, -35.2165, 5150,   4683.1,   2.3800,  34.8880,  34.8880,2,    250.8,2,     250.3,2,    45.70,2,    22.08,2,     0.00,2,  -999.00,5, -999.000,9, -999.000,9, -999.000,9, -999.000,9,   -999.0,9,  -999.00,9,   -999.0,9,   -999.0,9,-999.0000,9,  -999.0,9, -999.0, -999.00,9,  -999.0,  -999.0, -999.00,9
31RBOACES24N_2,  AR01,    37,  1,      2,2,19980201,1859, 24.5000, -35.2165, 5150,   4999.7,   2.3850,  34.8840,  34.8850,2,    250.7,2,     251.4,2,  -999.00,9,  -999.00,9,  -999.00,9,  -999.00,9,    0.000,2,   -0.001,2,   -0.004,2, -999.000,9,   -999.0,9,  -999.00,9,   2198.4,2,   -999.0,5,   7.7227,2,   767.1,2,   20.0, -999.00,9,   353.4,  -999.0, -999.00,9
31RBOACES24N_2,  AR01,    37,  1,      1,2,19980201,1859, 24.5000, -35.2165, 5150,   5242.3,   2.3940,  34.8810,  34.8810,2,    252.9,2,     251.3,2,    47.10,6,    22.08,6,     0.00,6,  -999.00,5,    0.000,2,   -0.003,2,   -0.004,2, -999.000,9,   -999.0,9,  -999.00,9,   -999.0,9,   -999.0,9,-999.0000,9,  -999.0,9, -999.0, -999.00,9,  -999.0,  -999.0, -999.00,9