BOTTLE,20220820CCHSIOAMB
EXPOCODE,SECT_ID,STNNBR,CASTNO,BTLNBR,BTLNBR_FLAG_W,DATE,TIME,LATITUDE,LONGITUDE,DEPTH,CTDPRS,CTDTMP,CTDSAL,SALNTY,SALNTY_FLAG_W,CTDOXY,CTDOXY_FLAG_W,OXYGEN,OXYGEN_FLAG_W,SILCAT,SILCAT_FLAG_W,NITRAT,NITRAT_FLAG_W,NITRIT,NITRIT_FLAG_W,PHSPHT,PHSPHT_FLAG_W,CFC-11,CFC-11_FLAG_W,CFC-12,CFC-12_FLAG_W,CFC113,CFC113_FLAG_W,CCL4,CCL4_FLAG_W,DELC14,DELC14_FLAG_W,DELC13,DELC13_FLAG_W,TCARBN,TCARBN_FLAG_W,ALKALI,ALKALI_FLAG_W,PH,PH_FLAG_W,FCO2,FCO2_FLAG_W,FCO2TMP,TON,TON_FLAG_W,FCO2IN,C14ERR,TOC,TOC_FLAG_W
,,,,,,,,,,,DBAR,ITS-90,PSS-78,PSS-78,,UMOL/KG,,UMOL/KG,,UMOL/KG,,UMOL/KG,,UMOL/KG,,UMOL/KG,,PMOL/KG,,PMOL/KG,,PMOL/KG,,PMOL/KG,,/MILLE,,/MILLE,,UMOL/KG,,UMOL/KG,,,,UATM,,DEG C,UMOL/KG,,UATM,/MILLE,UMOL/KG,
31RBOACES24N_2,  AR01,    25,  1,     36,2,19980129,0145, 24.4997, -25.6830, 5330,      4.4,  22.1670,  37.2760,  37.2780,2,    227.3,2,     219.5,2,     0.40,2,     0.00,2,     0.00,2,  -999.00,5, -999.000,9, -999.000,9, -999.000,9, -999.000,9,   -999.0,9,  -999.00,9,   2099.7,6,   2430.4,2,-999.0000,9,   335.3,2,   20.0, -999.00,9,   365.4,  -999.0, -999.00,9
31RBOACES24N_2,  AR01,    25,  1,     35,2,19980129,0145, 24.4997, -25.6830, 5330,     73.4,  22.4520,  37.4290,  37.4300,2,    216.6,2,     215.8,2,     0.40,2,     0.00,2,     0.00,2,  -999.00,5, -999.000,9, -999.000,9, -999.000,9, -999.000,9,   -999.0,9,  -999.00,9,   -999.0,9,   -999.0,9,-999.0000,9,  -999.0,9, -999.0, -999.00,9,  -999.0,  -999.0, -999.00,9
31RBOACES24N_2,  AR01,    25,  1,     34,2,19980129,0145, 24.4997, -25.6830, 5330,    120.5,  19.9010,  36.9370,  36.9400,2,    217.5,2,     218.1,2,     0.60,2,     0.29,2,     0.06,2,  -999.00,5, -999.000,9, -999.000,9, -999.000,9, -999.000,9,   -999.0,9,  -999.00,9,   2102.6,2,   2411.9,2,   8.0119,2,   361.5,2,   20.0, -999.00,9,   360.1,  -999.0, -999.00,9
31RBOACES24N_2,  AR01,    25,  1,     33,2,19980129,0145, 24.4997, -25.6830, 5330,    148.9,  18.8960,  36.7860,  36.7940,2,    210.0,2,     210.3,2,     0.70,2,     1.27,2,     0.02,2,  -999.00,5, -999.000,9, -999.000,9, -999.000,9, -999.000,9,   -999.0,9,  -999.00,9,   -999.0,9,   -999.0,9,-999.0000,9,  -999.0,9, -999.0, -999.00,9,  -999.0,  -999.0, -999.00,9
31RBOACES24N_2,  AR01,    25,  1,     32,3,19980129,0145, 24.4997, -25.6830, 5330,    199.4,  17.5690,  36.5290,  36.5320,2,    204.4,2,     200.8,2,     1.40,2,     4.39,2,     0.01,2,  -999.00,5, -999.000,9, -999.000,9, -999.000,9, -999.000,9,   -999.0,9,  -999.00,9,   2114.2,2,   2387.4,2,-999.0000,9,   416.7,2,   20.0, -999.00,9,   377.7,  -999.0, -999.00,9
31RBOACES24N_2,  AR01,    25,  1,     31,2,19980129,0145, 24.4997, -25.6830, 5330,    224.7,  16.8420,  36.3890,  36.4000,2,    206.6,2,     198.6,2,     1.80,2,     5.76,2,     0.01,2,  -999.00,5, -999.000,9, -999.000,9, -999.000,9, -999.000,9,   -999.0,9,  -999.00,9,   -999.0,9,   -999.0,9,-999.0000,9,  -999.0,9, -999.0, -999.00,9,  -999.0,  -999.0, -999.00,9
31RBOACES24N_2,  AR01,    25,  1,     30,2,19980129,0145, 24.4997, -25.6830, 5330,    268.9,  16.2730,  36.2890,  36.2870,2,    204.3,2,     197.5,2,     2.10,2,     7.03,2,     0.00,2,  -999.00,5, -999.000,9, -999.000,9, -999.000,9, -999.000,9,   -999.0,9,  -999.00,9,   2119.0,2,   -999.0,9,-999.0000,9,   452.1,2,   20.0, -999.00,9,   388.5,  -999.0, -999.00,9
31RBOACES24N_2,  AR01,    25,  1,     29,2,19980129,0145, 24.4997, -25.6830, 5330,    349.6,  14.9650,  36.0890,  36.0900,2,    190.3,2,     186.2,2,     3.30,2,    10.05,2,     0.01,2,  -999.00,5, -999.000,9, -999.000,9, -999.000,9, -999.000,9,   -999.0,9,  -999.00,9,   -999.0,9,   -999.0,9,-999.0000,9,  -999.0,9, -999.0, -999.00,9,  -999.0,  -999.0, -999.00,9
31RBOACES24N_2,  AR01,    25,  1,     28,2,19980129,0145, 24.4997, -25.6830, 5330,    401.3,  14.0000,  35.9410,  35.9450,2,    182.4,2,     178.3,2,     4.20,2,    12.40,2,     0.01,2,  -999.00,5, -999.000,9, -999.000,9, -999.000,9, -999.000,9,   -999.0,9,  -999.00,9,   2145.5,2,   2352.4,2,   7.8428,2,   555.4,2,   20.0, -999.00,9,   434.6,  -999.0, -999.00,9
31RBOACES24N_2,  AR01,    25,  1,     27,2,19980129,0145, 24.4997, -25.6830, 5330,    450.9,  13.1320,  35.8020,  35.8010,2,    179.0,2,     173.2,2,     5.20,2,    14.35,2,     0.00,2,  -999.00,5, -999.000,9, -999.000,9, -999.000,9, -999.000,9,   -999.0,9,  -999.00,9,   -999.0,9,   -999.0,9,-999.0000,9,  -999.0,9, -999.0, -999.00,9,  -999.0,  -999.0, -999.00,9
31RBOACES24N_2,  AR01,    25,  1,     26,2,19980129,0145, 24.4997, -25.6830, 5330,    499.9,  12.2990,  35.6790,  35.6820,2,    174.4,2,     168.4,2,     6.20,2,    16.30,2,     0.00,2,  -999.00,5, -999.000,9, -999.000,9, -999.000,9, -999.000,9,   -999.0,9,  -999.00,9,   2160.8,2,   -999.0,9,-999.0000,9,   642.3,2,   20.0, -999.00,9,   468.2,  -999.0, -999.00,9
31RBOACES24N_2,  AR01,    25,  1,     25,2,19980129,0145, 24.4997, -25.6830, 5330,    553.5,  11.6830,  35.5970,  35.6000,2,    167.2,2,     161.8,2,     7.30,2,    18.16,2,     0.00,2,  -999.00,5, -999.000,9, -999.000,9, -999.000,9, -999.000,9,   -999.0,9,  -999.00,9,   -999.0,9,   -999.0,9,-999.0000,9,  -999.0,9, -999.0, -999.00,9,  -999.0,  -999.0, -999.00,9
31RBOACES24N_2,  AR01,    25,  1,     24,2,19980129,0145, 24.4997, -25.6830, 5330,    601.2,  11.1710,  35.5340,  35.5360,2,    164.4,2,     159.9,2,     8.40,2,    19.04,2,     0.00,2,  -999.00,5, -999.000,9, -999.000,9, -999.000,9, -999.000,9,   -999.0,9,  -999.00,9,   2172.4,2,   2332.8,2,   7.7469,2,   699.1,2,   20.0, -999.00,9,   485.8,  -999.0, -999.00,9
31RBOACES24N_2,  AR01,    25,  1,     23,2,19980129,0145, 24.4997, -25.6830, 5330,    650.0,  10.4660,  35.4510,  35.4540,2,    150.6,2,     143.3,2,    10.70,2,    21.97,2,     0.00,2,  -999.00,5, -999.000,9, -999.000,9, -999.000,9, -999.000,9,   -999.0,9,  -999.00,9,   -999.0,9,   -999.0,9,-999.0000,9,  -999.0,9, -999.0, -999.00,9,  -999.0,  -999.0, -999.00,9
31RBOACES24N_2,  AR01,    25,  1,     22,2,19980129,0145, 24.4997, -25.6830, 5330,    699.1,   9.8270,  35.3830,  35.3830,2,    140.7,2,     135.9,2,    12.80,2,  -999.00,5,     0.00,2,  -999.00,5, -999.000,9, -999.000,9, -999.000,9, -999.000,9,   -999.0,9,  -999.00,9,   2193.9,2,   -999.0,9,-999.0000,9,   849.4,2,   20.0, -999.00,9,   559.4,  -999.0, -999.00,9
31RBOACES24N_2,  AR01,    25,  1,     21,2,19980129,0145, 24.4997, -25.6830, 5330,    798.5,   8.7430,  35.2800,  35.2810,2,    133.5,2,     133.5,2,    15.80,2,    25.68,2,     0.00,2,  -999.00,5, -999.000,9, -999.000,9, -999.000,9, -999.000,9,   -999.0,9,  -999.00,9,   2203.0,2,   2327.9,2,   7.6593,2,   900.9,2,   20.0, -999.00,9,   566.8,  -999.0, -999.00,9
31RBOACES24N_2,  AR01,    25,  1,     20,2,19980129,0145, 24.4997, -25.6830, 5330,    900.8,   7.8810,  35.2160,  35.2160,2,    139.0,2,     139.8,2,    18.00,2,    26.66,2,     0.00,2,  -999.00,5, -999.000,9, -999.000,9, -999.000,9, -999.000,9,   -999.0,9,  -999.00,9,   -999.0,9,   -999.0,9,-999.0000,9,  -999.0,9, -999.0, -999.00,9,  -999.0,  -999.0, -999.00,9
31RBOACES24N_2,  AR01,    25,  1,     19,2,19980129,0145, 24.4997, -25.6830, 5330,   1101.4,   6.8820,  35.2140,  35.2120,2,    165.2,2,     166.9,2,    18.80,2,    24.81,2,     0.00,2,  -999.00,5, -999.000,9, -999.000,9, -999.000,9, -999.000,9,   -999.0,9,  -999.00,9,   2200.4,6,   -999.0,9,-999.0000,9,   853.0,2,   20.0, -999.00,9,   492.3,  -999.0, -999.00,9
31RBOACES24N_2,  AR01,    25,  1,     18,2,19980129,0145, 24.4997, -25.6830, 5330,   1299.9,   6.2030,  35.2390,  35.2370,2,    185.1,2,     191.2,2,    18.70,2,  -999.00,5,     0.00,2,  -999.00,5, -999.000,9, -999.000,9, -999.000,9, -999.000,9,   -999.0,9,  -999.00,9,   -999.0,9,   -999.0,9,-999.0000,9,  -999.0,9, -999.0, -999.00,9,  -999.0,  -999.0, -999.00,9
31RBOACES24N_2,  AR01,    25,  1,     17,2,19980129,0145, 24.4997, -25.6830, 5330,   1500.9,   5.4550,  35.1970,  35.1980,2,    205.4,2,     207.3,2,    20.10,2,    21.88,2,     0.00,2,  -999.00,5, -999.000,9, -999.000,9, -999.000,9, -999.000,9,   -999.0,9,  -999.00,9,   2187.1,2,   2333.4,2,   7.7141,2,   773.4,2,   20.0, -999.00,9,   416.2,  -999.0, -999.00,9
31RBOACES24N_2,  AR01,    25,  1,     16,2,19980129,0145, 24.4997, -25.6830, 5330,   1702.1,   4.7320,  35.1300,  35.1310,2,    217.3,2,     218.9,2,    22.40,2,    21.39,2,     0.00,2,  -999.00,5, -999.000,9, -999.000,9, -999.000,9, -999.000,9,   -999.0,9,  -999.00,9,   -999.0,9,   -999.0,9,-999.0000,9,  -999.0,9, -999.0, -999.00,9,  -999.0,  -999.0, -999.00,9
31RBOACES24N_2,  AR01,    25,  1,     15,2,19980129,0145, 24.4997, -25.6830, 5330,   1902.7,   4.1660,  35.0790,  35.0770,2,    228.5,2,     231.2,2,    23.90,2,    20.90,2,     0.00,2,  -999.00,5, -999.000,9, -999.000,9, -999.000,9, -999.000,9,   -999.0,9,  -999.00,9,   2181.7,2,   -999.0,9,-999.0000,9,  -999.0,9, -999.0, -999.00,9,  -999.0,  -999.0, -999.00,9
31RBOACES24N_2,  AR01,    25,  1,     14,2,19980129,0145, 24.4997, -25.6830, 5330,   2297.3,   3.4200,  35.0070,  35.0070,2,    245.0,2,     244.8,2,    27.40,2,  -999.00,5,     0.00,2,  -999.00,5, -999.000,9, -999.000,9, -999.000,9, -999.000,9,   -999.0,9,  -999.00,9,   -999.0,9,   -999.0,9,-999.0000,9,  -999.0,9, -999.0, -999.00,9,  -999.0,  -999.0, -999.00,9
31RBOACES24N_2,  AR01,    25,  1,     13,2,19980129,0145, 24.4997, -25.6830, 5330,   2497.3,   3.1300,  34.9800,  34.9800,2,    250.4,2,     249.0,2,  -999.00,9,  -999.00,9,  -999.00,9,  -999.00,9, -999.000,9, -999.000,9, -999.000,9, -999.000,9,   -999.0,9,  -999.00,9,   2182.7,2,   2334.2,2,   7.7334,2,   733.8,6,   20.0, -999.00,9,   351.7,  -999.0, -999.00,9
31RBOACES24N_2,  AR01,    25,  1,     12,2,19980129,0145, 24.4997, -25.6830, 5330,   2701.1,   2.9200,  34.9590,  34.9590,2,    252.2,2,     249.3,2,    32.70,2,    20.51,2,     0.01,2,  -999.00,5, -999.000,9, -999.000,9, -999.000,9, -999.000,9,   -999.0,9,  -999.00,9,   -999.0,9,   -999.0,9,-999.0000,9,  -999.0,9, -999.0, -999.00,9,  -999.0,  -999.0, -999.00,9
31RBOACES24N_2,  AR01,    25,  1,     11,2,19980129,0145, 24.4997, -25.6830, 5330,   2902.2,   2.7750,  34.9440,  34.9440,2,    251.7,2,     249.4,2,    34.90,2,    20.71,2,     0.00,2,  -999.00,5, -999.000,9, -999.000,9, -999.000,9, -999.000,9,   -999.0,9,  -999.00,9,   2189.3,2,   -999.0,9,-999.0000,9,  -999.0,9, -999.0, -999.00,9,  -999.0,  -999.0, -999.00,9
31RBOACES24N_2,  AR01,    25,  1,     10,2,19980129,0145, 24.4997, -25.6830, 5330,   3147.6,   2.6300,  34.9280,  34.9290,2,    250.8,2,     250.7,2,    37.90,2,    21.10,2,     0.00,2,  -999.00,5, -999.000,9, -999.000,9, -999.000,9, -999.000,9,   -999.0,9,  -999.00,9,   -999.0,9,   -999.0,9,-999.0000,9,  -999.0,9, -999.0, -999.00,9,  -999.0,  -999.0, -999.00,9
31RBOACES24N_2,  AR01,    25,  1,      9,2,19980129,0145, 24.4997, -25.6830, 5330,   3398.7,   2.5410,  34.9180,  34.9190,2,    249.8,2,     248.8,2,    40.40,2,    21.88,3,     0.00,2,  -999.00,5, -999.000,9, -999.000,9, -999.000,9, -999.000,9,   -999.0,9,  -999.00,9,   2194.8,2,   2345.0,2,   7.7294,2,   748.5,2,   20.0, -999.00,9,   348.3,  -999.0, -999.00,9
31RBOACES24N_2,  AR01,    25,  1,      8,2,19980129,0145, 24.4997, -25.6830, 5330,   3651.3,   2.4780,  34.9090,  34.9100,2,    249.2,2,     248.7,2,    42.50,2,    21.69,2,     0.00,2,  -999.00,5, -999.000,9, -999.000,9, -999.000,9, -999.000,9,   -999.0,9,  -999.00,9,   -999.0,9,   -999.0,9,-999.0000,9,  -999.0,9, -999.0, -999.00,9,  -999.0,  -999.0, -999.00,9
31RBOACES24N_2,  AR01,    25,  1,      7,3,19980129,0145, 24.4997, -25.6830, 5330,   3902.0,   2.4350,  34.9030,-999.0000,9,    248.9,2,     248.4,2,    44.20,2,    21.59,2,     0.00,2,  -999.00,5, -999.000,9, -999.000,9, -999.000,9, -999.000,9,   -999.0,9,  -999.00,9,   -999.0,9,   -999.0,9,-999.0000,9,  -999.0,9, -999.0, -999.00,9,  -999.0,  -999.0, -999.00,9
31RBOACES24N_2,  AR01,    25,  1,      6,2,19980129,0145, 24.4997, -25.6830, 5330,   4151.4,   2.4000,  34.8980,  34.8980,2,    248.3,2,     248.3,2,    45.50,2,  -999.00,5,     0.00,2,  -999.00,5, -999.000,9, -999.000,9, -999.000,9, -999.000,9,   -999.0,9,  -999.00,9,   -999.0,9,   -999.0,9,-999.0000,9,  -999.0,9, -999.0, -999.00,9,  -999.0,  -999.0, -999.00,9
31RBOACES24N_2,  AR01,    25,  1,      5,2,19980129,0145, 24.4997, -25.6830, 5330,   4335.8,   2.3890,  34.8940,  34.8950,2,    249.6,2,     248.9,2,    46.50,2,    21.88,2,     0.00,2,  -999.00,5, -999.000,9, -999.000,9, -999.000,9, -999.000,9,   -999.0,9,  -999.00,9,   2199.4,2,   2351.1,2,   7.7289,2,   749.3,2,   20.0, -999.00,9,   345.5,  -999.0, -999.00,9
31RBOACES24N_2,  AR01,    25,  1,      4,3,19980129,0145, 24.4997, -25.6830, 5330,   4652.3,   2.3860,  34.8890,-999.0000,9,    249.4,2,     248.8,2,    47.60,2,    22.18,2,     0.00,2,  -999.00,5, -999.000,9, -999.000,9, -999.000,9, -999.000,9,   -999.0,9,  -999.00,9,   -999.0,9,   -999.0,9,-999.0000,9,  -999.0,9, -999.0, -999.00,9,  -999.0,  -999.0, -999.00,9
31RBOACES24N_2,  AR01,    25,  1,      3,2,19980129,0145, 24.4997, -25.6830, 5330,   4884.0,   2.4040,  34.8890,  34.8890,2,    249.8,2,     248.6,2,    48.20,2,  -999.00,5,     0.00,2,  -999.00,5, -999.000,9, -999.000,9, -999.000,9, -999.000,9,   -999.0,9,  -999.00,9,   2202.2,2,   -999.0,9,-999.0000,9,  -999.0,9, -999.0, -999.00,9,  -999.0,  -999.0, -999.00,9
31RBOACES24N_2,  AR01,    25,  1,      2,2,19980129,0145, 24.4997, -25.6830, 5330,   5147.4,   2.4300,  34.8870,  34.8880,2,    250.2,2,     247.7,2,    48.80,2,    22.27,2,     0.00,2,  -999.00,5, -999.000,9, -999.000,9, -999.000,9, -999.000,9,   -999.0,9,  -999.00,9,   -999.0,9,   -999.0,9,-999.0000,9,  -999.0,9, -999.0, -999.00,9,  -999.0,  -999.0, -999.00,9
31RBOACES24N_2,  AR01,    25,  1,      1,2,19980129,0145, 24.4997, -25.6830, 5330,   5409.3,   2.4630,  34.8860,  34.8870,2,    250.0,2,     248.6,2,    48.90,6,    22.37,6,     0.00,6,  -999.00,5, -999.000,9, -999.000,9, -999.000,9, -999.000,9,   -999.0,9,  -999.00,9,   2203.0,2,   2357.8,2,   7.7279,2,   755.4,2,   20.0, -999.00,9,   349.5,  -999.0, -999.00,9