BOTTLE,20220820CCHSIOAMB
EXPOCODE,SECT_ID,STNNBR,CASTNO,BTLNBR,BTLNBR_FLAG_W,DATE,TIME,LATITUDE,LONGITUDE,DEPTH,CTDPRS,CTDTMP,CTDSAL,SALNTY,SALNTY_FLAG_W,CTDOXY,CTDOXY_FLAG_W,OXYGEN,OXYGEN_FLAG_W,SILCAT,SILCAT_FLAG_W,NITRAT,NITRAT_FLAG_W,NITRIT,NITRIT_FLAG_W,PHSPHT,PHSPHT_FLAG_W,CFC-11,CFC-11_FLAG_W,CFC-12,CFC-12_FLAG_W,CFC113,CFC113_FLAG_W,CCL4,CCL4_FLAG_W,DELC14,DELC14_FLAG_W,DELC13,DELC13_FLAG_W,TCARBN,TCARBN_FLAG_W,ALKALI,ALKALI_FLAG_W,PH,PH_FLAG_W,FCO2,FCO2_FLAG_W,FCO2TMP,TON,TON_FLAG_W,FCO2IN,C14ERR,TOC,TOC_FLAG_W
,,,,,,,,,,,DBAR,ITS-90,PSS-78,PSS-78,,UMOL/KG,,UMOL/KG,,UMOL/KG,,UMOL/KG,,UMOL/KG,,UMOL/KG,,PMOL/KG,,PMOL/KG,,PMOL/KG,,PMOL/KG,,/MILLE,,/MILLE,,UMOL/KG,,UMOL/KG,,,,UATM,,DEG C,UMOL/KG,,UATM,/MILLE,UMOL/KG,
31RBOACES24N_2,  AR01,   124,  1,     21,2,19980223,1245, 27.0013, -79.3808,  687,      3.9,  26.2750,  36.0790,  36.0780,2,    205.5,2,     204.1,2,     1.40,2,     0.00,2,     0.00,2,     0.00,2, -999.000,9, -999.000,9, -999.000,9, -999.000,9,   -999.0,9,     1.35,2,   2006.8,6,   2362.8,6,   8.0968,2,   276.3,6,   20.0,    4.37,2,   353.9,  -999.0,   62.32,2
31RBOACES24N_2,  AR01,   124,  1,     20,2,19980223,1245, 27.0013, -79.3808,  687,     27.5,  26.2440,  36.1610,  36.1610,2,    204.7,2,     203.7,2,     1.40,2,     0.00,2,     0.00,2,     0.01,2, -999.000,9, -999.000,9, -999.000,9, -999.000,9,   -999.0,9,  -999.00,9,   -999.0,9,   -999.0,9,-999.0000,9,  -999.0,9, -999.0, -999.00,9,  -999.0,  -999.0, -999.00,9
31RBOACES24N_2,  AR01,   124,  1,     19,2,19980223,1245, 27.0013, -79.3808,  687,     50.5,  25.7570,  36.1750,  36.1760,2,    204.4,2,     203.9,2,     1.30,2,     0.00,2,     0.02,2,     0.01,2, -999.000,9, -999.000,9, -999.000,9, -999.000,9,   -999.0,9,  -999.00,9,   -999.0,9,   -999.0,9,-999.0000,9,  -999.0,9, -999.0,    4.36,2,  -999.0,  -999.0,   62.60,2
31RBOACES24N_2,  AR01,   124,  1,     18,2,19980223,1245, 27.0013, -79.3808,  687,     74.5,  25.5040,  36.1610,  36.1620,2,    202.3,2,     201.9,2,     1.30,2,     0.00,2,     0.16,2,     0.02,2, -999.000,9, -999.000,9, -999.000,9, -999.000,9,   -999.0,9,  -999.00,9,   -999.0,9,   -999.0,9,-999.0000,9,  -999.0,9, -999.0, -999.00,9,  -999.0,  -999.0, -999.00,9
31RBOACES24N_2,  AR01,   124,  1,     17,2,19980223,1245, 27.0013, -79.3808,  687,    101.9,  25.2240,  36.1470,  36.1480,2,    201.6,2,     204.7,2,     1.20,2,     0.00,2,     0.09,2,     0.02,2, -999.000,9, -999.000,9, -999.000,9, -999.000,9,   -999.0,9,  -999.00,9,   -999.0,9,   -999.0,9,-999.0000,9,  -999.0,9, -999.0,    4.61,2,  -999.0,  -999.0,   59.46,2
31RBOACES24N_2,  AR01,   124,  1,     16,2,19980223,1245, 27.0013, -79.3808,  687,    124.6,  24.9850,  36.2230,  36.2270,2,    198.7,2,     198.6,2,     1.20,2,     0.39,2,     0.22,2,     0.04,2, -999.000,9, -999.000,9, -999.000,9, -999.000,9,   -999.0,9,  -999.00,9,   -999.0,9,   -999.0,9,-999.0000,9,  -999.0,9, -999.0, -999.00,9,  -999.0,  -999.0, -999.00,9
31RBOACES24N_2,  AR01,   124,  1,     15,2,19980223,1245, 27.0013, -79.3808,  687,    151.6,  23.0840,  36.8680,  36.8710,2,    161.4,2,     161.6,2,     1.60,2,     3.80,2,     0.02,2,     0.19,2, -999.000,9, -999.000,9, -999.000,9, -999.000,9,   -999.0,9,  -999.00,9,   -999.0,9,   -999.0,9,-999.0000,9,  -999.0,9, -999.0,    8.04,2,  -999.0,  -999.0,   51.59,2
31RBOACES24N_2,  AR01,   124,  1,     14,2,19980223,1245, 27.0013, -79.3808,  687,    173.5,  21.9670,  36.8860,  36.8920,2,    159.6,2,     165.6,2,     1.60,2,     3.90,2,     0.01,2,     0.19,2, -999.000,9, -999.000,9, -999.000,9, -999.000,9,   -999.0,9,  -999.00,9,   -999.0,9,   -999.0,9,-999.0000,9,  -999.0,9, -999.0, -999.00,9,  -999.0,  -999.0, -999.00,9
31RBOACES24N_2,  AR01,   124,  1,     13,2,19980223,1245, 27.0013, -79.3808,  687,    199.7,  20.5990,  36.7890,  36.7940,2,    158.2,2,     159.2,2,     2.00,2,     5.56,2,     0.01,2,     0.28,2, -999.000,9, -999.000,9, -999.000,9, -999.000,9,   -999.0,9,  -999.00,9,   -999.0,9,   -999.0,9,-999.0000,9,  -999.0,9, -999.0,    9.37,2,  -999.0,  -999.0,   47.47,2
31RBOACES24N_2,  AR01,   124,  1,     12,2,19980223,1245, 27.0013, -79.3808,  687,    224.4,  18.9580,  36.6140,  36.6210,2,    164.2,2,     159.9,2,     2.50,2,     7.12,2,     0.01,2,     0.37,2, -999.000,9, -999.000,9, -999.000,9, -999.000,9,   -999.0,9,  -999.00,9,   -999.0,9,   -999.0,9,-999.0000,9,  -999.0,9, -999.0, -999.00,9,  -999.0,  -999.0, -999.00,9
31RBOACES24N_2,  AR01,   124,  1,     11,2,19980223,1245, 27.0013, -79.3808,  687,    249.5,  18.1890,  36.5040,  36.4980,2,    150.6,2,     160.2,2,     2.90,2,     8.39,2,     0.01,2,     0.44,2, -999.000,9, -999.000,9, -999.000,9, -999.000,9,   -999.0,9,  -999.00,9,   -999.0,9,   -999.0,9,-999.0000,9,  -999.0,9, -999.0,   12.85,2,  -999.0,  -999.0,   46.08,2
31RBOACES24N_2,  AR01,   124,  1,     10,2,19980223,1245, 27.0013, -79.3808,  687,    271.0,  17.9210,  36.4540,  36.4550,2,    151.7,2,     156.6,2,     3.30,2,     9.27,2,     0.01,2,     0.50,2, -999.000,9, -999.000,9, -999.000,9, -999.000,9,   -999.0,9,  -999.00,9,   -999.0,9,   -999.0,9,-999.0000,9,  -999.0,9, -999.0, -999.00,9,  -999.0,  -999.0, -999.00,9
31RBOACES24N_2,  AR01,   124,  1,      9,2,19980223,1245, 27.0013, -79.3808,  687,    302.0,  17.4170,  36.3720,  36.3650,2,    147.8,2,     153.1,2,     3.80,2,    10.44,2,     0.00,2,     0.58,2, -999.000,9, -999.000,9, -999.000,9, -999.000,9,   -999.0,9,  -999.00,9,   -999.0,9,   -999.0,9,-999.0000,9,  -999.0,9, -999.0, -999.00,9,  -999.0,  -999.0, -999.00,9
31RBOACES24N_2,  AR01,   124,  1,      8,2,19980223,1245, 27.0013, -79.3808,  687,    313.2,  17.0380,  36.3090,  36.3130,2,    147.6,2,     151.4,2,     3.90,2,    10.93,2,     0.00,2,     0.62,2, -999.000,9, -999.000,9, -999.000,9, -999.000,9,   -999.0,9,  -999.00,9,   -999.0,9,   -999.0,9,-999.0000,9,  -999.0,9, -999.0, -999.00,9,  -999.0,  -999.0, -999.00,9
31RBOACES24N_2,  AR01,   124,  1,      7,2,19980223,1245, 27.0013, -79.3808,  687,    352.8,  16.6700,  36.2510,  36.2510,2,    148.5,2,     150.6,2,     4.40,2,    11.61,2,     0.00,2,     0.66,2, -999.000,9, -999.000,9, -999.000,9, -999.000,9,   -999.0,9,  -999.00,9,   -999.0,9,   -999.0,9,-999.0000,9,  -999.0,9, -999.0,   15.98,2,  -999.0,  -999.0,   44.61,2
31RBOACES24N_2,  AR01,   124,  1,      6,2,19980223,1245, 27.0013, -79.3808,  687,    396.7,  15.2430,  36.0010,  35.9940,2,    140.9,2,     141.4,2,     6.10,2,    15.13,2,     0.00,2,     0.89,2, -999.000,9, -999.000,9, -999.000,9, -999.000,9,   -999.0,9,  -999.00,9,   -999.0,9,   -999.0,9,-999.0000,9,  -999.0,9, -999.0, -999.00,9,  -999.0,  -999.0, -999.00,9
31RBOACES24N_2,  AR01,   124,  1,      5,2,19980223,1245, 27.0013, -79.3808,  687,    444.7,  13.2090,  35.6680,  35.6740,2,    131.0,2,     131.9,2,     8.90,2,    19.33,2,     0.00,2,     1.18,2, -999.000,9, -999.000,9, -999.000,9, -999.000,9,   -999.0,9,  -999.00,9,   -999.0,9,   -999.0,9,-999.0000,9,  -999.0,9, -999.0, -999.00,9,  -999.0,  -999.0, -999.00,9
31RBOACES24N_2,  AR01,   124,  1,      4,2,19980223,1245, 27.0013, -79.3808,  687,    499.8,  12.2790,  35.5170,  35.5150,2,    128.2,2,     127.0,2,    10.30,2,    21.48,2,     0.00,2,     1.33,2, -999.000,9, -999.000,9, -999.000,9, -999.000,9,   -999.0,9,  -999.00,9,   -999.0,9,   -999.0,9,-999.0000,9,  -999.0,9, -999.0, -999.00,9,  -999.0,  -999.0, -999.00,9
31RBOACES24N_2,  AR01,   124,  1,      3,2,19980223,1245, 27.0013, -79.3808,  687,    549.4,  11.5780,  35.4120,  35.4080,2,    126.9,2,     126.1,2,    11.50,2,    22.94,2,     0.00,2,     1.44,2, -999.000,9, -999.000,9, -999.000,9, -999.000,9,   -999.0,9,  -999.00,9,   -999.0,9,   -999.0,9,-999.0000,9,  -999.0,9, -999.0, -999.00,9,  -999.0,  -999.0,   42.06,2
31RBOACES24N_2,  AR01,   124,  1,      2,2,19980223,1245, 27.0013, -79.3808,  687,    565.0,  11.2200,  35.3520,  35.3390,2,    126.0,2,     123.4,2,    12.40,2,    23.92,2,     0.00,2,     1.50,2, -999.000,9, -999.000,9, -999.000,9, -999.000,9,   -999.0,9,  -999.00,9,   -999.0,9,   -999.0,9,-999.0000,9,  -999.0,9, -999.0, -999.00,9,  -999.0,  -999.0, -999.00,9
31RBOACES24N_2,  AR01,   124,  1,      1,2,19980223,1245, 27.0013, -79.3808,  687,    662.4,   8.8480,  35.0980,  35.1000,2,    132.0,2,     128.6,6,    16.60,6,    26.95,6,     0.00,6,     1.71,6, -999.000,9, -999.000,9, -999.000,9, -999.000,9,   -999.0,9,  -999.00,9,   -999.0,9,   -999.0,9,-999.0000,9,  -999.0,9, -999.0,   29.83,2,  -999.0,  -999.0,   41.37,2
31RBOACES24N_2,  AR01,   125,  1,     23,2,19980223,1517, 27.0383, -79.4810,  766,      4.0,  26.4870,  36.1010,  36.1000,2,    208.5,2,     202.3,2,     1.30,2,     0.10,2,     0.01,2,     0.00,2,    1.685,2,    0.998,2,    0.153,2,    1.685,2,   -999.0,9,     1.36,2,   2007.7,6,   2371.4,2,   8.1011,2,   272.9,2,   20.0, -999.00,9,   352.2,  -999.0, -999.00,9
31RBOACES24N_2,  AR01,   125,  1,     22,2,19980223,1517, 27.0383, -79.4810,  766,     25.5,  26.4540,  36.1090,  36.1170,2,    203.9,2,     202.6,2,     1.30,2,     0.10,2,     0.01,2,     0.01,2,    1.715,6,    1.004,6,    0.145,6, -999.000,9,   -999.0,9,  -999.00,9,   -999.0,9,   -999.0,9,   8.1006,2,  -999.0,9, -999.0, -999.00,9,  -999.0,  -999.0, -999.00,9
31RBOACES24N_2,  AR01,   125,  1,     21,2,19980223,1517, 27.0383, -79.4810,  766,     51.6,  25.3300,  36.1530,  36.1540,2,    206.5,2,     205.7,2,     1.10,2,     0.10,2,     0.02,2,     0.01,2,    1.768,2,    1.036,2,    0.575,4,    1.695,2,   -999.0,9,  -999.00,9,   -999.0,9,   -999.0,9,   8.0944,2,  -999.0,9, -999.0, -999.00,9,  -999.0,  -999.0, -999.00,9
31RBOACES24N_2,  AR01,   125,  1,     20,2,19980223,1517, 27.0383, -79.4810,  766,     75.5,  25.1600,  36.1410,  36.1420,2,    202.5,2,     204.2,2,     1.10,2,     0.10,2,     0.12,2,     0.02,2,    1.762,2,    1.042,2,    0.142,2, -999.000,9,   -999.0,9,     1.30,2,   2019.7,2,   2361.1,3,   8.0911,2,   283.0,2,   20.0, -999.00,9,   347.3,  -999.0, -999.00,9
31RBOACES24N_2,  AR01,   125,  1,     19,2,19980223,1517, 27.0383, -79.4810,  766,     99.9,  25.1250,  36.1480,  36.1500,2,    199.3,2,     202.5,2,     1.10,2,     0.10,2,     0.28,2,     0.03,2,    1.762,2,    1.037,2,    0.140,2, -999.000,9,   -999.0,9,  -999.00,9,   -999.0,9,   -999.0,9,   8.0894,2,  -999.0,9, -999.0, -999.00,9,  -999.0,  -999.0, -999.00,9
31RBOACES24N_2,  AR01,   125,  1,     18,2,19980223,1517, 27.0383, -79.4810,  766,    124.4,  24.5620,  36.4120,  36.3580,2,    188.1,2,     189.8,2,     1.20,2,     1.07,2,     0.16,2,     0.07,2,    1.810,2,    1.055,2,    0.101,2,    1.116,2,   -999.0,9,     1.19,2,   2043.9,3,   2381.6,2,   8.0606,2,   310.4,2,   20.0, -999.00,9,   372.2,  -999.0, -999.00,9
31RBOACES24N_2,  AR01,   125,  1,     17,2,19980223,1517, 27.0383, -79.4810,  766,    150.5,  22.6900,  36.8640,  36.8660,2,    159.1,2,     159.1,2,     1.60,2,     4.19,2,     0.02,2,     0.21,2, -999.000,9, -999.000,9, -999.000,9, -999.000,9,   -999.0,9,  -999.00,9,   -999.0,9,   -999.0,9,   7.9906,2,  -999.0,9, -999.0, -999.00,9,  -999.0,  -999.0, -999.00,9
31RBOACES24N_2,  AR01,   125,  1,     16,2,19980223,1517, 27.0383, -79.4810,  766,    175.3,  21.0300,  36.8560,  36.8360,2,    155.7,2,     160.2,2,     1.80,2,     5.07,2,     0.01,2,     0.25,2,    1.984,2,    1.119,2,    0.043,2, -999.000,9,   -999.0,9,     0.86,2,   2125.6,3,   2403.5,3,   7.9665,2,   415.3,2,   20.0, -999.00,9,   432.7,  -999.0, -999.00,9
31RBOACES24N_2,  AR01,   125,  1,     15,2,19980223,1517, 27.0383, -79.4810,  766,    200.7,  19.6310,  36.7500,  36.7520,2,    162.9,2,     185.7,3,     1.10,2,     3.02,2,     0.01,2,     0.12,2, -999.000,9, -999.000,9, -999.000,9, -999.000,9,   -999.0,9,  -999.00,9,   -999.0,9,   -999.0,9,-999.0000,5,  -999.0,9, -999.0, -999.00,9,  -999.0,  -999.0, -999.00,9
31RBOACES24N_2,  AR01,   125,  1,     14,2,19980223,1517, 27.0383, -79.4810,  766,    225.5,  18.4450,  36.5360,  36.5400,2,    152.5,2,     155.6,2,     2.80,2,     8.39,2,     0.01,2,     0.45,2,    1.964,2,    1.069,2,    0.020,2,    0.228,2,   -999.0,9,  -999.00,9,   -999.0,9,   -999.0,9,   7.9144,2,  -999.0,9, -999.0, -999.00,9,  -999.0,  -999.0, -999.00,9
31RBOACES24N_2,  AR01,   125,  1,     13,2,19980223,1517, 27.0383, -79.4810,  766,    251.6,  17.8160,  36.4300,  36.4290,2,    150.5,2,     153.0,2,     3.40,2,     9.76,2,     0.01,2,     0.54,2, -999.000,9, -999.000,9, -999.000,9, -999.000,9,   -999.0,9,     0.77,2,   2142.6,2,   2386.6,2,   7.8981,2,   484.0,2,   20.0, -999.00,9,   442.7,  -999.0, -999.00,9
31RBOACES24N_2,  AR01,   125,  1,     12,2,19980223,1517, 27.0383, -79.4810,  766,    267.4,  17.6740,  36.4150,  36.4120,2,    150.0,2,     155.2,2,     3.40,2,     9.76,2,     0.01,2,     0.54,2,    1.928,2,    1.034,2,    0.021,2, -999.000,9,   -999.0,9,  -999.00,9,   -999.0,9,   -999.0,9,   7.8996,2,  -999.0,9, -999.0, -999.00,9,  -999.0,  -999.0, -999.00,9
31RBOACES24N_2,  AR01,   125,  1,     11,2,19980223,1517, 27.0383, -79.4810,  766,    298.7,  16.9920,  36.2990,  36.2960,2,    149.0,2,     151.6,2,     4.00,2,    11.22,2,     0.01,2,     0.63,2,    1.818,2,    0.978,2,    0.010,2,    0.254,2,   -999.0,9,     0.72,6,   2146.3,2,   2391.7,3,   7.8783,2,   505.6,2,   20.0, -999.00,9,   446.9,  -999.0, -999.00,9
31RBOACES24N_2,  AR01,   125,  1,     10,2,19980223,1517, 27.0383, -79.4810,  766,    325.1,  16.0100,  36.1350,  36.1350,2,    145.2,2,     145.2,2,     5.00,2,    13.37,2,     0.01,2,     0.78,2,    1.673,6,    0.891,6,    0.015,2, -999.000,9,   -999.0,9,  -999.00,9,   -999.0,9,   -999.0,9,   7.8497,2,  -999.0,9, -999.0, -999.00,9,  -999.0,  -999.0, -999.00,9
31RBOACES24N_2,  AR01,   125,  1,      9,2,19980223,1517, 27.0383, -79.4810,  766,    349.3,  15.7610,  36.0890,  36.0870,2,    144.0,2,     144.2,2,     5.30,2,    13.86,2,     0.01,2,     0.82,2, -999.000,9, -999.000,9, -999.000,9, -999.000,9,   -999.0,9,  -999.00,9,   -999.0,9,   -999.0,9,   7.8393,2,  -999.0,9, -999.0, -999.00,9,  -999.0,  -999.0, -999.00,9
31RBOACES24N_2,  AR01,   125,  1,      8,2,19980223,1517, 27.0383, -79.4810,  766,    397.9,  13.8040,  35.7620,  35.7610,2,    135.4,2,     134.5,2,     7.60,2,    18.06,2,     0.01,2,     1.10,2,    1.281,2,    0.676,2,    0.013,2,    0.270,6,   -999.0,9,     0.64,2,   2170.2,2,   2352.1,2,   7.7778,2,   650.1,2,   20.0, -999.00,9,   503.2,  -999.0, -999.00,9
31RBOACES24N_2,  AR01,   125,  1,      7,2,19980223,1517, 27.0383, -79.4810,  766,    449.1,  11.6140,  35.4140,  35.4100,2,    126.5,2,     124.8,2,    11.00,2,    22.75,2,     0.01,2,     1.44,2, -999.000,9, -999.000,9, -999.000,9, -999.000,9,   -999.0,9,  -999.00,9,   -999.0,9,   -999.0,9,   7.7067,2,  -999.0,9, -999.0, -999.00,9,  -999.0,  -999.0, -999.00,9
31RBOACES24N_2,  AR01,   125,  1,      6,2,19980223,1517, 27.0383, -79.4810,  766,    499.0,  10.5260,  35.2610,  35.2520,2,    125.5,2,     123.3,2,    12.90,2,    24.80,2,     0.01,2,     1.59,2,    0.648,2,    0.340,2,    0.011,2, -999.000,9,   -999.0,9,     0.61,2,   2190.9,2,   2317.0,2,   7.6745,2,   842.6,2,   20.0, -999.00,9,   569.1,  -999.0, -999.00,9
31RBOACES24N_2,  AR01,   125,  1,      5,2,19980223,1517, 27.0383, -79.4810,  766,    547.5,   9.4000,  35.1070,  35.1080,2,    124.8,2,     120.3,2,    15.40,2,    27.05,2,     0.01,2,     1.75,2, -999.000,9, -999.000,9, -999.000,9,    0.226,2,   -999.0,9,  -999.00,9,   -999.0,9,   -999.0,9,   7.6424,2,  -999.0,9, -999.0, -999.00,9,  -999.0,  -999.0, -999.00,9
31RBOACES24N_2,  AR01,   125,  1,      4,2,19980223,1517, 27.0383, -79.4810,  766,    598.4,   8.1930,  34.9850,  34.9830,2,    126.9,2,     123.1,2,    18.40,2,    28.81,2,     0.01,2,     1.89,2,    0.241,2,    0.132,2,    0.008,2, -999.000,9,   -999.0,9,     0.61,2,   2206.6,2,   2323.2,3,   7.6151,2,   980.0,2,   20.0, -999.00,9,   600.3,  -999.0, -999.00,9
31RBOACES24N_2,  AR01,   125,  1,      3,2,19980223,1517, 27.0383, -79.4810,  766,    647.6,   7.5220,  34.9360,  34.9350,2,    132.4,2,     128.8,2,    19.90,2,    29.11,2,     0.01,2,     1.94,2, -999.000,9, -999.000,9, -999.000,9, -999.000,9,   -999.0,9,  -999.00,9,   -999.0,9,   -999.0,9,   7.6080,2,  -999.0,9, -999.0, -999.00,9,  -999.0,  -999.0, -999.00,9
31RBOACES24N_2,  AR01,   125,  1,      2,2,19980223,1517, 27.0383, -79.4810,  766,    700.6,   7.0360,  34.9010,  34.9010,2,    137.9,2,     132.2,2,    21.50,6,    29.60,6,     0.01,6,     1.98,6,    0.102,2,    0.056,2,    0.008,2,    0.162,2,   -999.0,9,  -999.00,9,   -999.0,9,   -999.0,9,   7.6024,2,  -999.0,9, -999.0, -999.00,9,  -999.0,  -999.0, -999.00,9
31RBOACES24N_2,  AR01,   125,  1,      1,2,19980223,1517, 27.0383, -79.4810,  766,    738.3,   6.6240,  34.8980,  34.8970,2,    145.3,2,     139.4,6,  -999.00,9,  -999.00,9,  -999.00,9,  -999.00,9,    0.076,2,    0.044,2,    0.008,2,    0.161,2,   -999.0,9,     0.63,2,   1987.1,3,   2325.5,2,   7.6071,2,  1018.1,2,   20.0, -999.00,9,   585.5,  -999.0, -999.00,9