BOTTLE,20220820CCHSIOAMB
EXPOCODE,SECT_ID,STNNBR,CASTNO,BTLNBR,BTLNBR_FLAG_W,DATE,TIME,LATITUDE,LONGITUDE,DEPTH,CTDPRS,CTDTMP,CTDSAL,SALNTY,SALNTY_FLAG_W,CTDOXY,CTDOXY_FLAG_W,OXYGEN,OXYGEN_FLAG_W,SILCAT,SILCAT_FLAG_W,NITRAT,NITRAT_FLAG_W,NITRIT,NITRIT_FLAG_W,PHSPHT,PHSPHT_FLAG_W,CFC-11,CFC-11_FLAG_W,CFC-12,CFC-12_FLAG_W,CFC113,CFC113_FLAG_W,CCL4,CCL4_FLAG_W,DELC14,DELC14_FLAG_W,DELC13,DELC13_FLAG_W,TCARBN,TCARBN_FLAG_W,ALKALI,ALKALI_FLAG_W,PH,PH_FLAG_W,FCO2,FCO2_FLAG_W,FCO2TMP,TON,TON_FLAG_W,FCO2IN,C14ERR,TOC,TOC_FLAG_W
,,,,,,,,,,,DBAR,ITS-90,PSS-78,PSS-78,,UMOL/KG,,UMOL/KG,,UMOL/KG,,UMOL/KG,,UMOL/KG,,UMOL/KG,,PMOL/KG,,PMOL/KG,,PMOL/KG,,PMOL/KG,,/MILLE,,/MILLE,,UMOL/KG,,UMOL/KG,,,,UATM,,DEG C,UMOL/KG,,UATM,/MILLE,UMOL/KG,
31RBOACES24N_2,  AR01,    68,  1,     35,2,19980209,1957, 24.5000, -53.7330, 6016,      3.4,  24.4480,  37.1370,  37.1370,2,    214.5,2,     212.0,2,     0.50,2,     0.00,2,     0.00,2,     0.01,2, -999.000,9, -999.000,9, -999.000,9, -999.000,9,   -999.0,9,  -999.00,9,   -999.0,9,   -999.0,9,-999.0000,9,   266.5,3,   20.0, -999.00,9,   317.6,  -999.0, -999.00,9
31RBOACES24N_2,  AR01,    68,  1,     36,2,19980209,1957, 24.5000, -53.7330, 6016,      4.3,  24.4500,  37.1370,  37.1400,2,    214.6,2,     212.1,2,     0.50,2,     0.00,2,     0.00,2,     0.01,2,    1.852,2,    1.072,2,    0.159,2,    1.926,2,   -999.0,9,     1.35,2,   2056.2,6,   2430.9,6,   8.1100,6,   266.7,2,   20.0, -999.00,9,   317.9,  -999.0, -999.00,9
31RBOACES24N_2,  AR01,    68,  1,     34,2,19980209,1957, 24.5000, -53.7330, 6016,     50.6,  24.4500,  37.2320,  37.2320,2,    211.9,2,     212.7,2,     0.40,2,     0.00,2,     0.00,2,     0.01,2,    1.857,2,    1.070,2,    0.202,2, -999.000,9,   -999.0,9,  -999.00,9,   -999.0,9,   -999.0,9,-999.0000,9,  -999.0,9, -999.0, -999.00,9,  -999.0,  -999.0, -999.00,9
31RBOACES24N_2,  AR01,    68,  1,     33,2,19980209,1957, 24.5000, -53.7330, 6016,    100.2,  22.6920,  37.1300,  37.1300,2,    215.7,2,     217.0,2,     0.20,2,     0.00,2,     0.00,2,     0.02,2,    2.089,6,    1.181,6,    0.162,6, -999.000,9,   -999.0,9,  -999.00,9,   -999.0,9,   -999.0,9,-999.0000,9,  -999.0,9, -999.0, -999.00,9,  -999.0,  -999.0, -999.00,9
31RBOACES24N_2,  AR01,    68,  1,     32,2,19980209,1957, 24.5000, -53.7330, 6016,    150.4,  20.5430,  36.8890,  36.8820,2,    198.6,2,     200.3,2,     0.30,2,     0.49,2,     0.02,2,     0.03,2,    2.214,2,    1.246,2,    0.123,2,    0.879,2,   -999.0,9,  -999.00,9,   -999.0,9,   -999.0,9,-999.0000,9,  -999.0,9, -999.0, -999.00,9,  -999.0,  -999.0, -999.00,9
31RBOACES24N_2,  AR01,    68,  1,     31,2,19980209,1957, 24.5000, -53.7330, 6016,    210.7,  18.5900,  36.6090,  36.6060,2,    201.1,2,     203.8,2,     0.70,2,     2.44,2,     0.01,2,     0.11,2,    2.346,2,    1.308,2,    0.044,2, -999.000,9,   -999.0,9,  -999.00,9,   -999.0,9,   -999.0,9,-999.0000,9,  -999.0,9, -999.0, -999.00,9,  -999.0,  -999.0, -999.00,9
31RBOACES24N_2,  AR01,    68,  1,     30,2,19980209,1957, 24.5000, -53.7330, 6016,    236.0,  18.3680,  36.5740,  36.5720,2,    205.6,2,     207.2,2,     0.80,2,     2.83,2,     0.00,2,     0.14,2,    2.345,2,    1.301,2,    0.047,2, -999.000,9,   -999.0,9,  -999.00,9,   -999.0,9,   -999.0,9,-999.0000,9,  -999.0,9, -999.0, -999.00,9,  -999.0,  -999.0, -999.00,9
31RBOACES24N_2,  AR01,    68,  1,     29,2,19980209,1957, 24.5000, -53.7330, 6016,    261.4,  18.2220,  36.5540,  36.5530,2,    206.3,2,     208.2,2,     0.90,2,     3.03,2,     0.00,2,     0.15,2,    2.378,2,    1.313,2,    0.037,2,    0.526,2,   -999.0,9,  -999.00,9,   -999.0,9,   -999.0,9,-999.0000,9,  -999.0,9, -999.0, -999.00,9,  -999.0,  -999.0, -999.00,9
31RBOACES24N_2,  AR01,    68,  1,     28,2,19980209,1957, 24.5000, -53.7330, 6016,    285.6,  18.1230,  36.5400,  36.5380,2,    207.8,2,     208.7,2,     1.00,2,     3.22,2,     0.00,2,     0.17,2,    2.372,2,    1.307,2,    0.043,2, -999.000,9,   -999.0,9,  -999.00,9,   -999.0,9,   -999.0,9,-999.0000,9,  -999.0,9, -999.0, -999.00,9,  -999.0,  -999.0, -999.00,9
31RBOACES24N_2,  AR01,    68,  1,     27,2,19980209,1957, 24.5000, -53.7330, 6016,    355.3,  17.7910,  36.4890,  36.4870,2,    204.4,2,     205.4,2,     1.20,2,     4.10,2,     0.00,2,     0.23,2,    2.318,2,    1.269,2,    0.041,2, -999.000,9,   -999.0,9,  -999.00,9,   -999.0,9,   -999.0,9,-999.0000,9,  -999.0,9, -999.0, -999.00,9,  -999.0,  -999.0, -999.00,9
31RBOACES24N_2,  AR01,    68,  1,     26,2,19980209,1957, 24.5000, -53.7330, 6016,    422.7,  16.7840,  36.3240,  36.3240,2,    189.0,2,     189.3,2,     2.00,2,     6.93,2,     0.00,2,     0.41,2,    2.155,2,    1.150,2,    0.033,2,    0.447,2,   -999.0,9,  -999.00,9,   -999.0,9,   -999.0,9,-999.0000,9,  -999.0,9, -999.0, -999.00,9,  -999.0,  -999.0, -999.00,9
31RBOACES24N_2,  AR01,    68,  1,     25,2,19980209,1957, 24.5000, -53.7330, 6016,    500.6,  15.1720,  36.0580,  36.0520,2,    186.1,2,     183.2,2,     3.40,2,    10.06,2,     0.00,2,     0.61,2,    1.988,2,    1.045,2,    0.024,2, -999.000,9,   -999.0,9,  -999.00,9,   -999.0,9,   -999.0,9,-999.0000,9,  -999.0,9, -999.0, -999.00,9,  -999.0,  -999.0, -999.00,9
31RBOACES24N_2,  AR01,    68,  1,     24,2,19980209,1957, 24.5000, -53.7330, 6016,    598.6,  13.2800,  35.7750,  35.7840,2,    172.1,2,     169.0,2,     5.40,2,    14.35,2,     0.00,2,     0.88,2,    1.527,2,    0.787,2,    0.025,2, -999.000,9,   -999.0,9,  -999.00,9,   -999.0,9,   -999.0,9,-999.0000,9,  -999.0,9, -999.0, -999.00,9,  -999.0,  -999.0, -999.00,9
31RBOACES24N_2,  AR01,    68,  1,     23,2,19980209,1957, 24.5000, -53.7330, 6016,    701.1,  11.2870,  35.5040,  35.5020,2,    160.6,2,     159.7,2,     8.80,2,    18.85,2,     0.00,2,     1.19,2,    0.887,2,    0.453,2,    0.019,2, -999.000,9,   -999.0,9,  -999.00,9,   -999.0,9,   -999.0,9,-999.0000,9,  -999.0,9, -999.0, -999.00,9,  -999.0,  -999.0, -999.00,9
31RBOACES24N_2,  AR01,    68,  1,     22,2,19980209,1957, 24.5000, -53.7330, 6016,    800.2,   9.3170,  35.2670,  35.2760,2,    153.6,2,     152.1,2,    13.00,2,    22.76,2,     0.00,2,     1.48,2,    0.426,2,    0.224,2,    0.008,2,    0.177,2,   -999.0,9,  -999.00,9,   -999.0,9,   -999.0,9,-999.0000,9,  -999.0,9, -999.0, -999.00,9,  -999.0,  -999.0, -999.00,9
31RBOACES24N_2,  AR01,    68,  1,     21,2,19980209,1957, 24.5000, -53.7330, 6016,    900.6,   7.8070,  35.1100,  35.1020,2,    154.3,2,     154.3,2,    16.60,2,    25.20,2,     0.00,2,     1.66,2,    0.199,2,    0.105,2,    0.000,2, -999.000,9,   -999.0,9,  -999.00,9,   -999.0,9,   -999.0,9,-999.0000,9,  -999.0,9, -999.0, -999.00,9,  -999.0,  -999.0, -999.00,9
31RBOACES24N_2,  AR01,    68,  1,     20,2,19980209,1957, 24.5000, -53.7330, 6016,   1001.5,   6.6660,  35.0430,  35.0430,2,    166.0,2,     171.2,2,    17.70,2,    24.82,2,     0.00,2,     1.68,2,    0.156,2,    0.086,2,    0.007,2, -999.000,9,   -999.0,9,  -999.00,9,   -999.0,9,   -999.0,9,-999.0000,9,  -999.0,9, -999.0, -999.00,9,  -999.0,  -999.0, -999.00,9
31RBOACES24N_2,  AR01,    68,  1,     19,2,19980209,1957, 24.5000, -53.7330, 6016,   1198.4,   5.7760,  35.0990,  35.0980,2,    211.3,2,     213.4,2,    14.70,2,    20.61,2,     0.00,2,     1.40,2,    0.293,2,    0.151,2,    0.010,2,    0.578,2,   -999.0,9,  -999.00,9,   -999.0,9,   -999.0,9,-999.0000,9,  -999.0,9, -999.0, -999.00,9,  -999.0,  -999.0, -999.00,9
31RBOACES24N_2,  AR01,    68,  1,     18,2,19980209,1957, 24.5000, -53.7330, 6016,   1399.2,   5.0550,  35.0990,  35.1000,2,    236.6,2,     235.2,2,    14.70,2,    19.15,2,     0.00,2,     1.31,2,    0.226,2,    0.116,2,    0.235,4, -999.000,9,   -999.0,9,  -999.00,9,   -999.0,9,   -999.0,9,-999.0000,9,  -999.0,9, -999.0, -999.00,9,  -999.0,  -999.0, -999.00,9
31RBOACES24N_2,  AR01,    68,  1,     17,2,19980209,1957, 24.5000, -53.7330, 6016,   1598.5,   4.4400,  35.0640,  35.0630,2,    246.4,2,     247.0,2,    15.90,2,    18.66,2,     0.00,2,     1.29,2,    0.105,2,    0.061,2,    0.000,2, -999.000,9,   -999.0,9,  -999.00,9,   -999.0,9,   -999.0,9,-999.0000,9,  -999.0,9, -999.0, -999.00,9,  -999.0,  -999.0, -999.00,9
31RBOACES24N_2,  AR01,    68,  1,     16,2,19980209,1957, 24.5000, -53.7330, 6016,   1797.8,   4.0500,  35.0390,  35.0380,2,    251.6,2,     251.3,2,    18.00,2,    18.76,2,     0.00,2,     1.29,2,    0.036,2,    0.026,2,    0.005,2,    0.344,2,   -999.0,9,  -999.00,9,   -999.0,9,   -999.0,9,-999.0000,9,  -999.0,9, -999.0, -999.00,9,  -999.0,  -999.0, -999.00,9
31RBOACES24N_2,  AR01,    68,  1,     15,2,19980209,1957, 24.5000, -53.7330, 6016,   1899.2,   3.8460,  35.0280,  35.0270,2,    252.6,2,     252.0,2,    19.90,2,    18.95,2,     0.00,2,     1.30,2,    0.034,2,    0.023,2,    0.002,2, -999.000,9,   -999.0,9,  -999.00,9,   -999.0,9,   -999.0,9,-999.0000,9,  -999.0,9, -999.0, -999.00,9,  -999.0,  -999.0, -999.00,9
31RBOACES24N_2,  AR01,    68,  1,     14,2,19980209,1957, 24.5000, -53.7330, 6016,   1999.5,   3.6860,  35.0170,  35.0160,2,    253.8,2,     254.1,2,    21.30,2,    18.86,2,     0.00,2,     1.29,2, -999.000,9, -999.000,9, -999.000,9, -999.000,9,   -999.0,9,  -999.00,9,   -999.0,9,   -999.0,9,-999.0000,9,  -999.0,9, -999.0, -999.00,9,  -999.0,  -999.0, -999.00,9
31RBOACES24N_2,  AR01,    68,  1,     13,2,19980209,1957, 24.5000, -53.7330, 6016,   2399.6,   3.1550,  34.9700,  34.9700,2,    255.5,2,     256.4,2,    27.00,2,    19.25,2,     0.00,2,     1.32,2,    0.037,2,    0.022,2,    0.000,2,    0.282,2,   -999.0,9,  -999.00,9,   -999.0,9,   -999.0,9,-999.0000,9,  -999.0,9, -999.0, -999.00,9,  -999.0,  -999.0, -999.00,9
31RBOACES24N_2,  AR01,    68,  1,     12,2,19980209,1957, 24.5000, -53.7330, 6016,   2599.9,   3.0080,  34.9560,  34.9570,2,    255.7,2,     256.6,2,    29.30,2,    19.54,2,     0.00,2,     1.36,2, -999.000,9, -999.000,9, -999.000,9, -999.000,9,   -999.0,9,  -999.00,9,   -999.0,9,   -999.0,9,-999.0000,9,  -999.0,9, -999.0, -999.00,9,  -999.0,  -999.0, -999.00,9
31RBOACES24N_2,  AR01,    68,  1,     11,2,19980209,1957, 24.5000, -53.7330, 6016,   2800.5,   2.8620,  34.9440,  34.9440,2,    256.0,2,     257.3,2,    31.70,2,    19.83,2,     0.00,2,     1.38,2, -999.000,9, -999.000,9, -999.000,9, -999.000,9,   -999.0,9,  -999.00,9,   -999.0,9,   -999.0,9,-999.0000,9,  -999.0,9, -999.0, -999.00,9,  -999.0,  -999.0, -999.00,9
31RBOACES24N_2,  AR01,    68,  1,     10,2,19980209,1957, 24.5000, -53.7330, 6016,   3000.8,   2.7530,  34.9340,  34.9340,2,    257.1,2,     257.2,6,    33.10,2,    19.93,2,     0.00,2,     1.39,2,    0.004,2,    0.007,2,   -0.002,2,    0.128,2,   -999.0,9,  -999.00,9,   -999.0,9,   -999.0,9,-999.0000,9,  -999.0,9, -999.0, -999.00,9,  -999.0,  -999.0, -999.00,9
31RBOACES24N_2,  AR01,    68,  1,      9,2,19980209,1957, 24.5000, -53.7330, 6016,   3298.7,   2.5580,  34.9170,  34.9160,2,    259.3,2,     259.3,2,    36.10,2,    20.03,2,     0.00,2,     1.41,2, -999.000,9, -999.000,9, -999.000,9, -999.000,9,   -999.0,9,  -999.00,9,   -999.0,9,   -999.0,9,-999.0000,9,  -999.0,9, -999.0, -999.00,9,  -999.0,  -999.0, -999.00,9
31RBOACES24N_2,  AR01,    68,  1,      8,2,19980209,1957, 24.5000, -53.7330, 6016,   3599.2,   2.4040,  34.9020,  34.9020,2,    260.1,2,     260.4,2,    38.20,2,    20.13,2,     0.00,2,     1.42,2,    0.005,2,    0.003,2,   -0.001,2,    0.106,2,   -999.0,9,  -999.00,9,   -999.0,9,   -999.0,9,-999.0000,9,  -999.0,9, -999.0, -999.00,9,  -999.0,  -999.0, -999.00,9
31RBOACES24N_2,  AR01,    68,  1,      7,2,19980209,1957, 24.5000, -53.7330, 6016,   3899.5,   2.2760,  34.8900,  34.8900,2,    261.5,2,     261.5,2,    40.90,2,    20.23,2,     0.00,2,     1.43,2,    0.009,2,    0.008,2,    0.002,2,    0.132,2,   -999.0,9,  -999.00,9,   -999.0,9,   -999.0,9,-999.0000,9,  -999.0,9, -999.0, -999.00,9,  -999.0,  -999.0, -999.00,9
31RBOACES24N_2,  AR01,    68,  1,      6,2,19980209,1957, 24.5000, -53.7330, 6016,   4297.5,   2.1770,  34.8770,  34.8770,2,    260.6,2,     260.5,2,    44.50,2,    20.71,2,     0.00,2,     1.46,2,    0.016,2,    0.016,2,    0.002,2,    0.189,2,   -999.0,9,  -999.00,9,   -999.0,9,   -999.0,9,-999.0000,9,  -999.0,9, -999.0, -999.00,9,  -999.0,  -999.0, -999.00,9
31RBOACES24N_2,  AR01,    68,  1,      5,2,19980209,1957, 24.5000, -53.7330, 6016,   4699.8,   2.0640,  34.8610,  34.8600,2,    257.6,2,     257.5,2,    51.00,2,    21.59,2,     0.00,2,     1.53,2,    0.018,2,    0.015,2,    0.007,2,    0.186,2,   -999.0,9,  -999.00,9,   -999.0,9,   -999.0,9,-999.0000,9,  -999.0,9, -999.0, -999.00,9,  -999.0,  -999.0, -999.00,9
31RBOACES24N_2,  AR01,    68,  1,      4,2,19980209,1957, 24.5000, -53.7330, 6016,   5098.8,   2.0190,  34.8500,  34.8490,2,    254.6,2,     255.1,2,    54.90,2,    22.18,2,     0.00,2,     1.57,2,    0.020,2,    0.015,2,    0.004,2,    0.180,2,   -999.0,9,  -999.00,9,   -999.0,9,   -999.0,9,-999.0000,9,  -999.0,9, -999.0, -999.00,9,  -999.0,  -999.0, -999.00,9
31RBOACES24N_2,  AR01,    68,  1,      3,2,19980209,1957, 24.5000, -53.7330, 6016,   5500.1,   2.0340,  34.8460,  34.8450,2,    254.0,2,     254.5,2,    56.80,2,    22.38,2,     0.00,2,     1.59,2,    0.025,2,    0.019,2,    0.003,2,    0.190,6,   -999.0,9,  -999.00,9,   -999.0,9,   -999.0,9,-999.0000,9,  -999.0,9, -999.0, -999.00,9,  -999.0,  -999.0, -999.00,9
31RBOACES24N_2,  AR01,    68,  1,      2,2,19980209,1957, 24.5000, -53.7330, 6016,   6076.4,   2.1070,  34.8450,-999.0000,9,    255.3,2,    -999.0,9,  -999.00,9,  -999.00,9,  -999.00,9,  -999.00,9, -999.000,1, -999.000,1, -999.000,1, -999.000,9,   -999.0,9,  -999.00,9,   -999.0,9,   -999.0,9,-999.0000,9,  -999.0,9, -999.0, -999.00,9,  -999.0,  -999.0, -999.00,9
31RBOACES24N_2,  AR01,    68,  1,      1,2,19980209,1957, 24.5000, -53.7330, 6016,   6076.6,   2.1070,  34.8440,  34.8440,2,    255.2,2,     254.2,6,    57.20,6,    22.47,6,     0.00,6,     1.59,6,    0.024,2,    0.018,2,    0.000,2,    0.199,6,   -999.0,9,  -999.00,9,   -999.0,9,   -999.0,9,-999.0000,9,  -999.0,9, -999.0, -999.00,9,  -999.0,  -999.0, -999.00,9