BOTTLE,20220820CCHSIOAMB
EXPOCODE,SECT_ID,STNNBR,CASTNO,BTLNBR,BTLNBR_FLAG_W,DATE,TIME,LATITUDE,LONGITUDE,DEPTH,CTDPRS,CTDTMP,CTDSAL,SALNTY,SALNTY_FLAG_W,CTDOXY,CTDOXY_FLAG_W,OXYGEN,OXYGEN_FLAG_W,SILCAT,SILCAT_FLAG_W,NITRAT,NITRAT_FLAG_W,NITRIT,NITRIT_FLAG_W,PHSPHT,PHSPHT_FLAG_W,CFC-11,CFC-11_FLAG_W,CFC-12,CFC-12_FLAG_W,CFC113,CFC113_FLAG_W,CCL4,CCL4_FLAG_W,DELC14,DELC14_FLAG_W,DELC13,DELC13_FLAG_W,TCARBN,TCARBN_FLAG_W,ALKALI,ALKALI_FLAG_W,PH,PH_FLAG_W,FCO2,FCO2_FLAG_W,FCO2TMP,TON,TON_FLAG_W,FCO2IN,C14ERR,TOC,TOC_FLAG_W
,,,,,,,,,,,DBAR,ITS-90,PSS-78,PSS-78,,UMOL/KG,,UMOL/KG,,UMOL/KG,,UMOL/KG,,UMOL/KG,,UMOL/KG,,PMOL/KG,,PMOL/KG,,PMOL/KG,,PMOL/KG,,/MILLE,,/MILLE,,UMOL/KG,,UMOL/KG,,,,UATM,,DEG C,UMOL/KG,,UATM,/MILLE,UMOL/KG,
31RBOACES24N_2,  AR01,    62,  1,     36,2,19980208,0257, 24.5005, -50.4327, 4762,      3.2,  24.5780,  37.3520,  37.3540,2,    213.2,2,     210.9,2,     0.90,2,     0.00,2,     0.00,2,     0.00,2,    1.823,2,    1.051,2,    0.153,2, -999.000,9,   -999.0,9,     1.47,2,   2066.6,6,   2451.5,2,   8.1110,2,   274.1,6,   20.0, -999.00,9,   328.3,  -999.0,   79.40,2
31RBOACES24N_2,  AR01,    62,  1,     35,2,19980208,0257, 24.5005, -50.4327, 4762,     59.6,  24.5860,  37.3690,  37.3690,2,    210.5,2,     211.0,6,     0.90,2,     0.00,2,     0.00,2,     0.00,2,    1.839,2,    1.062,2,    0.166,2, -999.000,9,   -999.0,9,  -999.00,9,   2066.1,2,   2445.8,2,   8.1111,2,  -999.0,9, -999.0, -999.00,9,  -999.0,  -999.0,   79.69,2
31RBOACES24N_2,  AR01,    62,  1,     34,3,19980208,0257, 24.5005, -50.4327, 4762,    121.9,  22.6990,  37.1900,  37.1970,2,    213.7,2,     211.6,2,     0.70,2,     0.10,2,     0.05,2,     0.01,2,    2.083,2,    1.171,2,    0.165,2, -999.000,9,   -999.0,9,  -999.00,9,   2090.7,2,   -999.0,5,   8.0577,2,  -999.0,9, -999.0, -999.00,9,  -999.0,  -999.0,   64.93,2
31RBOACES24N_2,  AR01,    62,  1,     33,3,19980208,0257, 24.5005, -50.4327, 4762,    179.0,  19.9080,  36.8420,  36.8460,2,    194.0,2,     195.7,2,     0.90,2,     1.56,2,     0.01,2,     0.05,2,    2.220,2,    1.262,2,    0.076,2, -999.000,9,   -999.0,9,  -999.00,9,   2108.9,2,   -999.0,9,   8.0015,2,  -999.0,9, -999.0, -999.00,9,  -999.0,  -999.0,   54.47,2
31RBOACES24N_2,  AR01,    62,  1,     32,2,19980208,0257, 24.5005, -50.4327, 4762,    199.6,  19.3360,  36.7410,  36.7390,2,    193.8,2,     196.5,2,     1.00,2,     2.05,2,     0.01,2,     0.07,2,    2.259,2,    1.271,2,    0.053,2, -999.000,9,   -999.0,9,  -999.00,9,   2108.6,2,   -999.0,5,   7.9941,2,  -999.0,9, -999.0, -999.00,9,  -999.0,  -999.0,   53.59,2
31RBOACES24N_2,  AR01,    62,  1,     31,2,19980208,0257, 24.5005, -50.4327, 4762,    220.7,  18.7140,  36.6330,  36.6350,2,    196.3,2,     201.3,2,     1.20,2,     2.63,2,     0.01,2,     0.10,2,    2.315,2,    1.306,2,    0.050,2, -999.000,9,   -999.0,9,  -999.00,9,   2103.4,2,   -999.0,9,   7.9928,2,  -999.0,9, -999.0, -999.00,9,  -999.0,  -999.0,   51.44,2
31RBOACES24N_2,  AR01,    62,  1,     30,3,19980208,0257, 24.5005, -50.4327, 4762,    248.5,  18.3930,  36.5800,  36.5800,2,    200.8,2,     204.0,2,     1.30,2,     3.32,2,     0.01,2,     0.13,2,    2.309,2,    1.294,2,    0.032,2, -999.000,9,   -999.0,9,  -999.00,9,   2101.0,2,   2397.4,2,   7.9901,2,  -999.0,9, -999.0, -999.00,9,  -999.0,  -999.0,   49.49,2
31RBOACES24N_2,  AR01,    62,  1,     29,3,19980208,0257, 24.5005, -50.4327, 4762,    274.7,  18.2300,  36.5560,  36.5560,2,    203.3,2,     203.8,2,     1.40,2,     3.71,2,     0.01,2,     0.16,2,    2.251,4,    1.268,4,    0.041,4, -999.000,9,   -999.0,9,  -999.00,9,   2100.6,2,   2398.5,2,   7.9933,2,  -999.0,9, -999.0, -999.00,9,  -999.0,  -999.0,   47.84,2
31RBOACES24N_2,  AR01,    62,  1,     28,2,19980208,0257, 24.5005, -50.4327, 4762,    299.5,  18.0060,  36.5240,  36.5260,2,    203.8,2,     204.7,2,     1.50,2,     4.29,2,     0.01,2,     0.19,2,    2.316,6,    1.290,6,    0.035,6, -999.000,9,   -999.0,9,  -999.00,9,   2100.6,2,   -999.0,9,   7.9826,2,  -999.0,9, -999.0, -999.00,9,  -999.0,  -999.0, -999.00,9
31RBOACES24N_2,  AR01,    62,  1,     27,2,19980208,0257, 24.5005, -50.4327, 4762,    348.4,  17.6310,  36.4880,  36.4840,2,    188.6,2,     185.9,2,     2.00,2,     6.54,2,     0.01,2,     0.34,2,    2.215,2,    1.211,2,    0.024,2, -999.000,9,   -999.0,9,  -999.00,9,   2122.1,2,   2385.9,2,   7.9521,2,  -999.0,9, -999.0, -999.00,9,  -999.0,  -999.0,   49.00,2
31RBOACES24N_2,  AR01,    62,  1,     26,2,19980208,0257, 24.5005, -50.4327, 4762,    452.4,  15.7090,  36.1530,  36.1530,2,    181.2,2,     180.1,2,     3.30,2,    10.05,2,     0.01,2,     0.56,2,    2.042,2,    1.084,2,    0.024,2, -999.000,9,   -999.0,9,  -999.00,9,   2133.1,2,   2367.4,2,   7.8955,2,  -999.0,9, -999.0, -999.00,9,  -999.0,  -999.0, -999.00,9
31RBOACES24N_2,  AR01,    62,  1,     25,2,19980208,0257, 24.5005, -50.4327, 4762,    500.0,  14.7110,  35.9930,  36.0130,2,    177.4,2,     176.9,2,     4.10,2,    11.62,2,     0.00,2,     0.66,2,    1.918,2,    1.008,2,    0.033,2, -999.000,9,   -999.0,9,  -999.00,9,   2139.3,2,   2359.9,2,   7.8693,2,  -999.0,9, -999.0, -999.00,9,  -999.0,  -999.0,   45.38,2
31RBOACES24N_2,  AR01,    62,  1,     24,2,19980208,0257, 24.5005, -50.4327, 4762,    595.0,  12.8290,  35.7200,  35.7210,2,    172.5,2,     170.6,2,     6.20,2,    15.13,2,     0.01,2,     0.92,2,    1.467,2,    0.761,2,    0.022,2, -999.000,9,   -999.0,9,  -999.00,9,   2154.2,2,   2348.3,2,   7.8197,2,  -999.0,9, -999.0, -999.00,9,  -999.0,  -999.0, -999.00,9
31RBOACES24N_2,  AR01,    62,  1,     23,2,19980208,0257, 24.5005, -50.4327, 4762,    699.4,  11.0650,  35.4930,  35.5080,2,    164.8,2,     163.0,2,     9.00,2,    19.14,2,     0.00,2,     1.16,2,    0.911,2,    0.472,2,    0.007,2, -999.000,9,   -999.0,9,  -999.00,9,   2168.4,2,   2333.0,2,   7.7563,2,  -999.0,9, -999.0, -999.00,9,  -999.0,  -999.0,   42.74,2
31RBOACES24N_2,  AR01,    62,  1,     22,2,19980208,0257, 24.5005, -50.4327, 4762,    798.1,   9.2110,  35.2520,  35.2500,2,    152.2,2,     150.8,2,    13.80,2,    23.73,2,     0.00,2,     1.50,2,    0.368,2,    0.203,2,    0.006,2, -999.000,9,   -999.0,9,  -999.00,9,   2186.4,2,   2323.6,2,   7.6943,2,  -999.0,9, -999.0, -999.00,9,  -999.0,  -999.0, -999.00,9
31RBOACES24N_2,  AR01,    62,  1,     21,3,19980208,0257, 24.5005, -50.4327, 4762,    845.4,   8.2230,  35.1450,  35.1450,2,    150.0,2,     150.2,2,    15.90,2,    25.49,2,     0.01,2,     1.63,2,    0.222,2,    0.121,2,    0.006,2, -999.000,9,   -999.0,9,  -999.00,9,   2195.0,2,   2322.0,2,   7.6727,2,  -999.0,9, -999.0, -999.00,9,  -999.0,  -999.0,   42.54,2
31RBOACES24N_2,  AR01,    62,  1,     20,2,19980208,0257, 24.5005, -50.4327, 4762,    899.6,   7.6660,  35.1020,  35.1000,2,    152.3,2,     155.4,2,    16.90,2,    25.69,2,     0.00,2,     1.65,2,    0.194,2,    0.109,2,    0.007,2, -999.000,9,   -999.0,9,  -999.00,9,   2198.0,2,   2321.7,2,   7.6666,2,  -999.0,9, -999.0, -999.00,9,  -999.0,  -999.0, -999.00,9
31RBOACES24N_2,  AR01,    62,  1,     19,2,19980208,0257, 24.5005, -50.4327, 4762,    949.7,   7.1980,  35.0730,  35.0730,2,    162.1,2,     161.9,2,    17.40,2,    25.59,2,     0.00,2,     1.66,2,    0.173,2,    0.096,2,    0.002,2, -999.000,9,   -999.0,9,  -999.00,9,   2198.4,2,   -999.0,9,   7.6644,2,  -999.0,9, -999.0, -999.00,9,  -999.0,  -999.0,   41.66,2
31RBOACES24N_2,  AR01,    62,  1,     18,2,19980208,0257, 24.5005, -50.4327, 4762,    999.3,   6.6610,  35.0540,  35.0520,2,    171.2,2,     172.9,2,    17.50,2,    25.10,2,     0.00,2,     1.63,2,    0.173,2,    0.093,2,    0.005,2, -999.000,9,   -999.0,9,  -999.00,9,   2194.8,6,   -999.0,9,   7.6690,2,  -999.0,9, -999.0, -999.00,9,  -999.0,  -999.0, -999.00,9
31RBOACES24N_2,  AR01,    62,  1,     17,2,19980208,0257, 24.5005, -50.4327, 4762,   1150.2,   5.7100,  35.0390,  35.0390,2,    200.1,2,     199.6,2,    17.00,2,    23.05,2,     0.00,2,     1.51,2,    0.152,2,    0.084,2,    0.011,2, -999.000,9,   -999.0,9,  -999.00,9,   2189.2,2,   2319.6,2,   7.6893,2,  -999.0,9, -999.0, -999.00,9,  -999.0,  -999.0,   41.75,2
31RBOACES24N_2,  AR01,    62,  1,     16,2,19980208,0257, 24.5005, -50.4327, 4762,   1338.0,   5.1310,  35.0660,  35.0650,2,    230.1,2,     229.1,2,    14.80,2,    20.32,2,     0.00,2,     1.33,2,    0.199,2,    0.103,2,    0.010,2, -999.000,9,   -999.0,9,  -999.00,9,   2177.2,2,   -999.0,9,   7.7172,2,  -999.0,9, -999.0, -999.00,9,  -999.0,  -999.0, -999.00,9
31RBOACES24N_2,  AR01,    62,  1,     15,2,19980208,0257, 24.5005, -50.4327, 4762,   1547.9,   4.7590,  35.0900,  35.0870,2,    241.9,2,     239.7,2,    15.60,2,    19.53,2,     0.00,2,     1.28,2,    0.150,2,    0.089,2,    0.011,2, -999.000,9,   -999.0,9,  -999.00,9,   2175.0,2,   2321.8,2,   7.7278,2,  -999.0,9, -999.0, -999.00,9,  -999.0,  -999.0,   41.35,2
31RBOACES24N_2,  AR01,    62,  1,     14,2,19980208,0257, 24.5005, -50.4327, 4762,   1747.8,   4.2820,  35.0660,  35.0660,2,    247.7,2,     246.5,2,    18.00,2,    19.44,2,     0.00,2,     1.27,2,    0.098,6,    0.056,6,    0.005,6, -999.000,9,   -999.0,9,  -999.00,9,   2175.7,2,   2324.4,2,   7.7336,2,  -999.0,9, -999.0, -999.00,9,  -999.0,  -999.0, -999.00,9
31RBOACES24N_2,  AR01,    62,  1,     13,2,19980208,0257, 24.5005, -50.4327, 4762,   1952.8,   3.6810,  35.0170,  35.0160,2,    252.5,2,     252.4,2,    21.90,2,    19.44,2,     0.00,2,     1.29,2,    0.058,2,    0.029,2,    0.003,2, -999.000,9,   -999.0,9,  -999.00,9,   2177.8,2,   2326.4,2,   7.7328,2,  -999.0,9, -999.0, -999.00,9,  -999.0,  -999.0,   41.54,2
31RBOACES24N_2,  AR01,    62,  1,     12,2,19980208,0257, 24.5005, -50.4327, 4762,   2152.7,   3.3920,  34.9920,  34.9910,2,    254.6,2,     255.2,2,    24.30,2,    19.54,2,     0.00,2,     1.30,2,    0.058,2,    0.038,2,    0.005,2, -999.000,9,   -999.0,9,  -999.00,9,   2179.8,2,   -999.0,9,-999.0000,9,  -999.0,9, -999.0, -999.00,9,  -999.0,  -999.0, -999.00,9
31RBOACES24N_2,  AR01,    62,  1,     11,2,19980208,0257, 24.5005, -50.4327, 4762,   2347.2,   3.2090,  34.9750,  34.9760,2,    255.9,2,     255.9,2,    26.60,2,    19.73,2,     0.00,2,     1.31,2,    0.046,2,    0.026,2,    0.009,2, -999.000,9,   -999.0,9,  -999.00,9,   2182.2,2,   2329.3,2,   7.7350,2,  -999.0,9, -999.0, -999.00,9,  -999.0,  -999.0,   42.03,2
31RBOACES24N_2,  AR01,    62,  1,     10,2,19980208,0257, 24.5005, -50.4327, 4762,   2550.0,   3.0490,  34.9610,  34.9630,2,    255.8,2,     255.8,2,    28.80,2,    19.93,2,     0.00,2,     1.34,2,    0.030,2,    0.012,2,    0.006,2, -999.000,9,   -999.0,9,  -999.00,9,   2182.5,2,   -999.0,9,-999.0000,9,  -999.0,9, -999.0, -999.00,9,  -999.0,  -999.0, -999.00,9
31RBOACES24N_2,  AR01,    62,  1,      9,2,19980208,0257, 24.5005, -50.4327, 4762,   2749.6,   2.9120,  34.9490,  34.9500,2,    255.7,2,     256.0,2,    31.10,2,    20.22,2,     0.00,2,     1.35,2,    0.022,2,    0.011,2,    0.001,2, -999.000,9,   -999.0,9,  -999.00,9,   2184.3,2,   2331.9,2,   7.7334,2,  -999.0,9, -999.0, -999.00,9,  -999.0,  -999.0,   41.54,2
31RBOACES24N_2,  AR01,    62,  1,      8,2,19980208,0257, 24.5005, -50.4327, 4762,   3000.2,   2.7410,  34.9340,  34.9340,2,    257.2,2,     256.8,2,    33.60,2,    20.32,2,     0.00,2,     1.38,2,    0.017,2,    0.006,2,    0.006,2, -999.000,9,   -999.0,9,  -999.00,9,   2182.3,2,   -999.0,9,-999.0000,9,  -999.0,9, -999.0, -999.00,9,  -999.0,  -999.0,   41.64,2
31RBOACES24N_2,  AR01,    62,  1,      7,2,19980208,0257, 24.5005, -50.4327, 4762,   3249.1,   2.6020,  34.9210,  34.9210,2,    258.8,2,     258.3,2,    35.70,2,    20.51,2,     0.00,2,     1.38,2,    0.012,2,    0.002,2,    0.005,2, -999.000,9,   -999.0,9,  -999.00,9,   2183.3,2,   2336.9,2,   7.7335,2,  -999.0,9, -999.0, -999.00,9,  -999.0,  -999.0,   42.03,2
31RBOACES24N_2,  AR01,    62,  1,      6,2,19980208,0257, 24.5005, -50.4327, 4762,   3501.7,   2.4480,  34.9070,  34.9070,2,    260.2,2,     259.2,2,    38.10,2,    20.71,2,     0.00,2,     1.40,2,    0.012,2,    0.000,2,    0.003,2, -999.000,9,   -999.0,9,  -999.00,9,   2185.9,2,   -999.0,9,-999.0000,9,  -999.0,9, -999.0, -999.00,9,  -999.0,  -999.0,   41.74,2
31RBOACES24N_2,  AR01,    62,  1,      5,2,19980208,0257, 24.5005, -50.4327, 4762,   3722.0,   2.3270,  34.8950,  34.8960,2,    260.2,2,     259.9,2,    40.40,2,    20.90,2,     0.00,2,     1.42,2,    0.009,2,    0.007,2,    0.003,2, -999.000,9,   -999.0,9,  -999.00,9,   2187.2,2,   -999.0,9,   7.7300,2,  -999.0,9, -999.0, -999.00,9,  -999.0,  -999.0,   41.74,2
31RBOACES24N_2,  AR01,    62,  1,      4,2,19980208,0257, 24.5005, -50.4327, 4762,   4000.4,   2.2330,  34.8850,  34.8850,2,    259.7,2,     259.7,2,    43.10,2,    21.20,2,     0.00,2,     1.44,2,    0.011,2,    0.011,2,    0.003,2, -999.000,9,   -999.0,9,  -999.00,9,   2189.2,2,   -999.0,9,-999.0000,9,  -999.0,9, -999.0, -999.00,9,  -999.0,  -999.0,   41.44,2
31RBOACES24N_2,  AR01,    62,  1,      3,2,19980208,0257, 24.5005, -50.4327, 4762,   4247.9,   2.1960,  34.8790,  34.8790,2,    259.2,2,     259.5,2,    44.40,2,    21.20,2,     0.00,2,     1.45,2,    0.012,2,    0.002,2,    0.003,2, -999.000,9,   -999.0,9,  -999.00,9,   2191.4,2,   2341.1,2,   7.7251,2,  -999.0,9, -999.0, -999.00,9,  -999.0,  -999.0,   41.93,2
31RBOACES24N_2,  AR01,    62,  1,      2,2,19980208,0257, 24.5005, -50.4327, 4762,   4487.3,   2.1480,  34.8720,  34.8720,2,    258.5,2,     258.8,2,    46.70,2,    21.49,2,     0.00,2,     1.47,2,    0.012,6,    0.007,6,    0.006,6, -999.000,9,   -999.0,9,  -999.00,9,   2194.4,2,   -999.0,9,-999.0000,9,  -999.0,9, -999.0, -999.00,9,  -999.0,  -999.0, -999.00,9
31RBOACES24N_2,  AR01,    62,  1,      1,2,19980208,0257, 24.5005, -50.4327, 4762,   4821.0,   2.1360,  34.8670,  34.8660,2,    257.4,2,     257.8,2,    48.90,6,    21.88,6,     0.00,6,     1.49,6, -999.000,9, -999.000,9, -999.000,9, -999.000,9,   -999.0,9,  -999.00,9,   2196.6,2,   -999.0,9,   7.7157,2,  -999.0,9, -999.0, -999.00,9,  -999.0,  -999.0,   41.64,2