BOTTLE,20220820CCHSIOAMB
EXPOCODE,SECT_ID,STNNBR,CASTNO,BTLNBR,BTLNBR_FLAG_W,DATE,TIME,LATITUDE,LONGITUDE,DEPTH,CTDPRS,CTDTMP,CTDSAL,SALNTY,SALNTY_FLAG_W,CTDOXY,CTDOXY_FLAG_W,OXYGEN,OXYGEN_FLAG_W,SILCAT,SILCAT_FLAG_W,NITRAT,NITRAT_FLAG_W,NITRIT,NITRIT_FLAG_W,PHSPHT,PHSPHT_FLAG_W,CFC-11,CFC-11_FLAG_W,CFC-12,CFC-12_FLAG_W,CFC113,CFC113_FLAG_W,CCL4,CCL4_FLAG_W,DELC14,DELC14_FLAG_W,DELC13,DELC13_FLAG_W,TCARBN,TCARBN_FLAG_W,ALKALI,ALKALI_FLAG_W,PH,PH_FLAG_W,FCO2,FCO2_FLAG_W,FCO2TMP,TON,TON_FLAG_W,FCO2IN,C14ERR,TOC,TOC_FLAG_W
,,,,,,,,,,,DBAR,ITS-90,PSS-78,PSS-78,,UMOL/KG,,UMOL/KG,,UMOL/KG,,UMOL/KG,,UMOL/KG,,UMOL/KG,,PMOL/KG,,PMOL/KG,,PMOL/KG,,PMOL/KG,,/MILLE,,/MILLE,,UMOL/KG,,UMOL/KG,,,,UATM,,DEG C,UMOL/KG,,UATM,/MILLE,UMOL/KG,
31RBOACES24N_2,  AR01,    55,  1,     36,2,19980206,0640, 24.5000, -46.5843, 3520,      4.5,  24.1370,  37.4650,  37.4670,2,    213.5,2,     213.8,2,     1.10,2,     0.00,2,     0.00,2,     0.00,2, -999.000,9, -999.000,9, -999.000,9, -999.000,9,   -999.0,9,  -999.00,9,   2073.1,6,   -999.0,5,   8.0777,2,   281.1,2,   20.0, -999.00,9,   331.0,  -999.0, -999.00,9
31RBOACES24N_2,  AR01,    55,  1,     35,2,19980206,0640, 24.5000, -46.5843, 3520,     51.0,  24.1560,  37.4630,  37.4660,2,    210.2,2,     210.3,2,     1.10,2,     0.00,2,     0.00,2,     0.00,2, -999.000,9, -999.000,9, -999.000,9, -999.000,9,   -999.0,9,  -999.00,9,   -999.0,9,   -999.0,9,-999.0000,9,   272.9,2,   20.0, -999.00,9,   321.7,  -999.0, -999.00,9
31RBOACES24N_2,  AR01,    55,  1,     34,2,19980206,0640, 24.5000, -46.5843, 3520,    102.4,  21.6450,  37.1170,  37.1310,2,    216.9,2,     214.9,2,     0.50,2,     0.10,2,     0.03,2,     0.01,2, -999.000,9, -999.000,9, -999.000,9, -999.000,9,   -999.0,9,  -999.00,9,   -999.0,9,   -999.0,9,-999.0000,9,  -999.0,9, -999.0, -999.00,9,  -999.0,  -999.0, -999.00,9
31RBOACES24N_2,  AR01,    55,  1,     33,2,19980206,0640, 24.5000, -46.5843, 3520,    140.8,  19.7460,  36.8770,  36.8490,2,    206.6,2,     201.7,2,     0.90,2,     1.66,2,     0.01,2,     0.05,2, -999.000,9, -999.000,9, -999.000,9, -999.000,9,   -999.0,9,  -999.00,9,   2106.0,2,   2411.4,2,   7.9990,2,   368.7,2,   20.0, -999.00,9,   364.8,  -999.0, -999.00,9
31RBOACES24N_2,  AR01,    55,  1,     32,3,19980206,0640, 24.5000, -46.5843, 3520,    179.3,  18.7700,  36.6810,  36.6720,2,    198.4,2,     200.2,2,     1.20,2,     2.93,2,     0.01,2,     0.11,2, -999.000,9, -999.000,9, -999.000,9, -999.000,9,   -999.0,9,  -999.00,9,   -999.0,9,   -999.0,9,-999.0000,9,  -999.0,9, -999.0, -999.00,9,  -999.0,  -999.0, -999.00,9
31RBOACES24N_2,  AR01,    55,  1,     31,2,19980206,0640, 24.5000, -46.5843, 3520,    201.0,  18.2790,  36.5880,  36.5850,2,    198.3,2,     201.1,2,     0.90,2,     3.81,2,     0.00,2,     0.16,2, -999.000,9, -999.000,9, -999.000,9, -999.000,9,   -999.0,9,  -999.00,9,   -999.0,9,   -999.0,9,-999.0000,9,  -999.0,9, -999.0, -999.00,9,  -999.0,  -999.0, -999.00,9
31RBOACES24N_2,  AR01,    55,  1,     30,2,19980206,0640, 24.5000, -46.5843, 3520,    226.4,  17.9320,  36.5320,  36.5320,2,    199.2,2,     200.4,2,     1.30,2,     4.49,2,     0.00,2,     0.20,2, -999.000,9, -999.000,9, -999.000,9, -999.000,9,   -999.0,9,  -999.00,9,   2104.4,2,   2381.6,2,   7.9758,2,   393.3,2,   20.0, -999.00,9,   361.7,  -999.0, -999.00,9
31RBOACES24N_2,  AR01,    55,  1,     29,2,19980206,0640, 24.5000, -46.5843, 3520,    244.2,  17.8010,  36.5130,  36.5170,2,    198.4,2,     199.4,2,     1.60,2,     4.68,2,     0.00,2,     0.22,2, -999.000,9, -999.000,9, -999.000,9, -999.000,9,   -999.0,9,  -999.00,9,   -999.0,9,   -999.0,9,-999.0000,9,  -999.0,9, -999.0, -999.00,9,  -999.0,  -999.0, -999.00,9
31RBOACES24N_2,  AR01,    55,  1,     28,2,19980206,0640, 24.5000, -46.5843, 3520,    274.9,  17.6560,  36.4870,  36.4830,2,    198.4,2,     198.3,2,     1.30,2,     5.17,2,     0.00,2,     0.25,2, -999.000,9, -999.000,9, -999.000,9, -999.000,9,   -999.0,9,  -999.00,9,   -999.0,9,   -999.0,9,-999.0000,9,  -999.0,9, -999.0, -999.00,9,  -999.0,  -999.0, -999.00,9
31RBOACES24N_2,  AR01,    55,  1,     27,3,19980206,0640, 24.5000, -46.5843, 3520,    298.1,  17.4330,  36.4550,  36.4560,2,    196.3,2,     196.1,2,     1.40,2,     5.66,2,     0.00,2,     0.28,2, -999.000,9, -999.000,9, -999.000,9, -999.000,9,   -999.0,9,  -999.00,9,   -999.0,9,   -999.0,9,-999.0000,9,  -999.0,9, -999.0, -999.00,9,  -999.0,  -999.0, -999.00,9
31RBOACES24N_2,  AR01,    55,  1,     26,2,19980206,0640, 24.5000, -46.5843, 3520,    349.1,  16.7220,  36.3380,  36.3420,2,    190.2,2,     190.2,2,     1.90,2,     7.42,2,     0.00,2,     0.37,2, -999.000,9, -999.000,9, -999.000,9, -999.000,9,   -999.0,9,  -999.00,9,   2121.8,2,   2379.6,2,   7.9276,2,   452.3,2,   20.0, -999.00,9,   396.0,  -999.0, -999.00,9
31RBOACES24N_2,  AR01,    55,  1,     25,2,19980206,0640, 24.5000, -46.5843, 3520,    398.2,  15.7530,  36.1740,  36.1770,2,    186.8,2,     184.0,2,     2.50,2,     9.47,2,     0.00,2,     0.52,2, -999.000,9, -999.000,9, -999.000,9, -999.000,9,   -999.0,9,  -999.00,9,   -999.0,9,   -999.0,9,-999.0000,9,  -999.0,9, -999.0, -999.00,9,  -999.0,  -999.0, -999.00,9
31RBOACES24N_2,  AR01,    55,  1,     24,2,19980206,0640, 24.5000, -46.5843, 3520,    450.2,  14.8100,  36.0200,  36.0190,2,    179.2,2,     178.5,2,     3.40,2,    11.42,2,     0.00,2,     0.64,2, -999.000,9, -999.000,9, -999.000,9, -999.000,9,   -999.0,9,  -999.00,9,   -999.0,9,   -999.0,9,-999.0000,9,  -999.0,9, -999.0, -999.00,9,  -999.0,  -999.0, -999.00,9
31RBOACES24N_2,  AR01,    55,  1,     23,2,19980206,0640, 24.5000, -46.5843, 3520,    498.3,  13.8410,  35.8620,  35.8640,2,    177.0,2,     177.1,2,     4.60,2,    13.28,2,     0.00,2,     0.76,2, -999.000,9, -999.000,9, -999.000,9, -999.000,9,   -999.0,9,  -999.00,9,   -999.0,9,   -999.0,9,-999.0000,9,  -999.0,9, -999.0, -999.00,9,  -999.0,  -999.0, -999.00,9
31RBOACES24N_2,  AR01,    55,  1,     22,2,19980206,0640, 24.5000, -46.5843, 3520,    603.1,  12.3780,  35.6630,  35.6670,2,    170.5,2,     170.0,2,     6.20,2,    16.21,2,     0.00,2,     0.95,2, -999.000,9, -999.000,9, -999.000,9, -999.000,9,   -999.0,9,  -999.00,9,   2155.1,2,   2331.2,2,   7.7995,2,   608.4,2,   20.0, -999.00,9,   444.6,  -999.0, -999.00,9
31RBOACES24N_2,  AR01,    55,  1,     21,2,19980206,0640, 24.5000, -46.5843, 3520,    700.0,  10.6230,  35.4480,  35.4500,2,    154.5,2,     154.3,6,     9.50,2,    20.90,2,     0.00,2,     1.26,2, -999.000,9, -999.000,9, -999.000,9, -999.000,9,   -999.0,9,  -999.00,9,   -999.0,9,   -999.0,9,-999.0000,9,  -999.0,9, -999.0, -999.00,9,  -999.0,  -999.0, -999.00,9
31RBOACES24N_2,  AR01,    55,  1,     20,2,19980206,0640, 24.5000, -46.5843, 3520,    749.1,   9.5360,  35.3220,  35.3280,2,    150.5,2,     149.1,2,    11.90,2,    23.24,2,     0.00,2,     1.43,2, -999.000,9, -999.000,9, -999.000,9, -999.000,9,   -999.0,9,  -999.00,9,   -999.0,9,   -999.0,9,-999.0000,9,  -999.0,9, -999.0, -999.00,9,  -999.0,  -999.0, -999.00,9
31RBOACES24N_2,  AR01,    55,  1,     19,2,19980206,0640, 24.5000, -46.5843, 3520,    786.3,   9.0060,  35.2560,  35.2610,2,    148.5,2,     148.5,2,    13.30,2,    24.32,2,     0.00,2,     1.52,2, -999.000,9, -999.000,9, -999.000,9, -999.000,9,   -999.0,9,  -999.00,9,   2187.0,2,   2324.9,2,   7.6883,2,   813.2,2,   20.0, -999.00,9,   515.9,  -999.0, -999.00,9
31RBOACES24N_2,  AR01,    55,  1,     18,2,19980206,0640, 24.5000, -46.5843, 3520,    849.1,   8.1880,  35.1620,  35.1640,2,    149.0,2,     148.5,2,    15.10,2,    25.59,2,     0.00,2,     1.62,2, -999.000,9, -999.000,9, -999.000,9, -999.000,9,   -999.0,9,  -999.00,9,   -999.0,9,   -999.0,9,-999.0000,9,  -999.0,9, -999.0, -999.00,9,  -999.0,  -999.0, -999.00,9
31RBOACES24N_2,  AR01,    55,  1,     17,2,19980206,0640, 24.5000, -46.5843, 3520,    883.2,   7.8070,  35.1240,  35.1250,2,    149.8,2,     150.3,2,    15.70,2,    26.08,2,     0.00,2,     1.66,2, -999.000,9, -999.000,9, -999.000,9, -999.000,9,   -999.0,9,  -999.00,9,   2195.5,2,   2317.3,2,   7.6612,2,   874.1,2,   20.0, -999.00,9,   527.0,  -999.0, -999.00,9
31RBOACES24N_2,  AR01,    55,  1,     16,2,19980206,0640, 24.5000, -46.5843, 3520,   1000.8,   6.7010,  35.0410,  35.0400,2,    163.8,2,     162.7,2,    17.60,2,    26.28,2,     0.00,2,     1.69,2, -999.000,9, -999.000,9, -999.000,9, -999.000,9,   -999.0,9,  -999.00,9,   -999.0,9,   -999.0,9,-999.0000,9,  -999.0,9, -999.0, -999.00,9,  -999.0,  -999.0, -999.00,9
31RBOACES24N_2,  AR01,    55,  1,     15,2,19980206,0640, 24.5000, -46.5843, 3520,   1100.1,   6.1210,  35.0330,  35.0330,2,    181.6,2,     180.7,2,    16.90,2,    24.91,2,     0.00,2,     1.62,2, -999.000,9, -999.000,9, -999.000,9, -999.000,9,   -999.0,9,  -999.00,9,   2191.6,6,   2315.7,2,   7.6678,2,   855.2,2,   20.0, -999.00,9,   476.9,  -999.0, -999.00,9
31RBOACES24N_2,  AR01,    55,  1,     14,2,19980206,0640, 24.5000, -46.5843, 3520,   1201.2,   5.7350,  35.0520,  35.0510,2,    198.3,2,     196.6,2,    15.90,2,    23.35,2,     0.00,2,     1.52,2, -999.000,9, -999.000,9, -999.000,9, -999.000,9,   -999.0,9,  -999.00,9,   -999.0,9,   -999.0,9,-999.0000,9,  -999.0,9, -999.0, -999.00,9,  -999.0,  -999.0, -999.00,9
31RBOACES24N_2,  AR01,    55,  1,     13,2,19980206,0640, 24.5000, -46.5843, 3520,   1400.5,   5.1780,  35.0780,  35.0780,2,    223.1,2,     221.3,2,    14.80,2,    21.20,2,     0.00,2,     1.37,2, -999.000,9, -999.000,9, -999.000,9, -999.000,9,   -999.0,9,  -999.00,9,   -999.0,9,   -999.0,9,-999.0000,9,  -999.0,9, -999.0, -999.00,9,  -999.0,  -999.0, -999.00,9
31RBOACES24N_2,  AR01,    55,  1,     12,2,19980206,0640, 24.5000, -46.5843, 3520,   1499.2,   5.1450,  35.1110,  35.1120,2,    227.4,2,     225.9,2,    14.70,2,    20.51,2,     0.00,2,     1.33,2, -999.000,9, -999.000,9, -999.000,9, -999.000,9,   -999.0,9,  -999.00,9,   -999.0,9,   -999.0,9,-999.0000,9,  -999.0,9, -999.0, -999.00,9,  -999.0,  -999.0, -999.00,9
31RBOACES24N_2,  AR01,    55,  1,     11,2,19980206,0640, 24.5000, -46.5843, 3520,   1649.3,   4.6080,  35.0800,  35.0800,2,    237.6,2,     237.6,2,    15.60,2,    19.93,2,     0.00,2,     1.30,2, -999.000,9, -999.000,9, -999.000,9, -999.000,9,   -999.0,9,  -999.00,9,   -999.0,9,   -999.0,9,-999.0000,9,  -999.0,9, -999.0, -999.00,9,  -999.0,  -999.0, -999.00,9
31RBOACES24N_2,  AR01,    55,  1,     10,2,19980206,0640, 24.5000, -46.5843, 3520,   1850.7,   4.0790,  35.0410,  35.0420,2,    244.7,2,     245.9,2,    18.00,2,    19.83,2,     0.00,2,     1.30,2, -999.000,9, -999.000,9, -999.000,9, -999.000,9,   -999.0,9,  -999.00,9,   -999.0,9,   -999.0,9,-999.0000,9,  -999.0,9, -999.0, -999.00,9,  -999.0,  -999.0, -999.00,9
31RBOACES24N_2,  AR01,    55,  1,      9,2,19980206,0640, 24.5000, -46.5843, 3520,   1998.6,   3.7680,  35.0190,  35.0190,2,    246.9,2,     246.0,2,    20.20,2,    19.83,2,     0.00,2,     1.31,2, -999.000,9, -999.000,9, -999.000,9, -999.000,9,   -999.0,9,  -999.00,9,   2172.6,2,   -999.0,5,   7.7348,2,   726.1,6,   20.0, -999.00,9,   360.0,  -999.0, -999.00,9
31RBOACES24N_2,  AR01,    55,  1,      8,2,19980206,0640, 24.5000, -46.5843, 3520,   2146.6,   3.5150,  35.0000,  35.0000,2,    247.0,2,     249.9,2,    22.40,2,    19.93,2,     0.00,2,     1.31,2, -999.000,9, -999.000,9, -999.000,9, -999.000,9,   -999.0,9,  -999.00,9,   -999.0,9,   -999.0,9,-999.0000,9,  -999.0,9, -999.0, -999.00,9,  -999.0,  -999.0, -999.00,9
31RBOACES24N_2,  AR01,    55,  1,      7,2,19980206,0640, 24.5000, -46.5843, 3520,   2283.7,   3.2670,  34.9810,  34.9810,2,    252.7,2,     252.9,2,    24.70,2,    19.83,3,     0.00,2,     1.32,2, -999.000,9, -999.000,9, -999.000,9, -999.000,9,   -999.0,9,  -999.00,9,   -999.0,9,   -999.0,9,-999.0000,9,  -999.0,9, -999.0, -999.00,9,  -999.0,  -999.0, -999.00,9
31RBOACES24N_2,  AR01,    55,  1,      6,2,19980206,0640, 24.5000, -46.5843, 3520,   2440.7,   3.0870,  34.9650,  34.9660,2,    253.1,2,     253.2,2,    27.10,2,    20.12,2,     0.00,2,     1.33,2, -999.000,9, -999.000,9, -999.000,9, -999.000,9,   -999.0,9,  -999.00,9,   -999.0,9,   -999.0,9,-999.0000,9,  -999.0,9, -999.0, -999.00,9,  -999.0,  -999.0, -999.00,9
31RBOACES24N_2,  AR01,    55,  1,      5,2,19980206,0640, 24.5000, -46.5843, 3520,   2599.9,   3.0170,  34.9590,  34.9590,2,    253.8,2,     253.7,2,    28.40,2,    20.22,2,     0.00,2,     1.35,2, -999.000,9, -999.000,9, -999.000,9, -999.000,9,   -999.0,9,  -999.00,9,   -999.0,9,   -999.0,9,-999.0000,9,  -999.0,9, -999.0, -999.00,9,  -999.0,  -999.0, -999.00,9
31RBOACES24N_2,  AR01,    55,  1,      4,2,19980206,0640, 24.5000, -46.5843, 3520,   2751.4,   2.9140,  34.9490,  34.9490,2,    253.1,2,     253.8,2,    30.10,2,    20.42,2,     0.00,2,     1.36,2, -999.000,9, -999.000,9, -999.000,9, -999.000,9,   -999.0,9,  -999.00,9,   -999.0,9,   -999.0,9,-999.0000,9,  -999.0,9, -999.0, -999.00,9,  -999.0,  -999.0, -999.00,9
31RBOACES24N_2,  AR01,    55,  1,      3,2,19980206,0640, 24.5000, -46.5843, 3520,   2899.7,   2.7930,  34.9380,  34.9380,2,    253.5,2,     253.6,2,    32.40,2,    20.61,2,     0.00,2,     1.38,2, -999.000,9, -999.000,9, -999.000,9, -999.000,9,   -999.0,9,  -999.00,9,   -999.0,9,   -999.0,9,-999.0000,9,  -999.0,9, -999.0, -999.00,9,  -999.0,  -999.0, -999.00,9
31RBOACES24N_2,  AR01,    55,  1,      2,2,19980206,0640, 24.5000, -46.5843, 3520,   3049.8,   2.7360,  34.9320,  34.9330,2,    254.4,2,     254.0,2,    33.90,2,    20.71,2,     0.00,2,     1.39,2, -999.000,9, -999.000,9, -999.000,9, -999.000,9,   -999.0,9,  -999.00,9,   -999.0,9,   -999.0,9,-999.0000,9,  -999.0,9, -999.0, -999.00,9,  -999.0,  -999.0, -999.00,9
31RBOACES24N_2,  AR01,    55,  1,      1,2,19980206,0640, 24.5000, -46.5843, 3520,   3211.5,   2.6720,  34.9260,  34.9270,2,    254.8,2,     254.0,2,    35.30,6,    20.81,6,     0.00,6,     1.40,6, -999.000,9, -999.000,9, -999.000,9, -999.000,9,   -999.0,9,  -999.00,9,   2185.0,2,   2334.9,2,   7.7310,2,   745.9,2,   20.0, -999.00,9,   349.8,  -999.0, -999.00,9