BOTTLE,20220820CCHSIOAMB
EXPOCODE,SECT_ID,STNNBR,CASTNO,BTLNBR,BTLNBR_FLAG_W,DATE,TIME,LATITUDE,LONGITUDE,DEPTH,CTDPRS,CTDTMP,CTDSAL,SALNTY,SALNTY_FLAG_W,CTDOXY,CTDOXY_FLAG_W,OXYGEN,OXYGEN_FLAG_W,SILCAT,SILCAT_FLAG_W,NITRAT,NITRAT_FLAG_W,NITRIT,NITRIT_FLAG_W,PHSPHT,PHSPHT_FLAG_W,CFC-11,CFC-11_FLAG_W,CFC-12,CFC-12_FLAG_W,CFC113,CFC113_FLAG_W,CCL4,CCL4_FLAG_W,DELC14,DELC14_FLAG_W,DELC13,DELC13_FLAG_W,TCARBN,TCARBN_FLAG_W,ALKALI,ALKALI_FLAG_W,PH,PH_FLAG_W,FCO2,FCO2_FLAG_W,FCO2TMP,TON,TON_FLAG_W,FCO2IN,C14ERR,TOC,TOC_FLAG_W
,,,,,,,,,,,DBAR,ITS-90,PSS-78,PSS-78,,UMOL/KG,,UMOL/KG,,UMOL/KG,,UMOL/KG,,UMOL/KG,,UMOL/KG,,PMOL/KG,,PMOL/KG,,PMOL/KG,,PMOL/KG,,/MILLE,,/MILLE,,UMOL/KG,,UMOL/KG,,,,UATM,,DEG C,UMOL/KG,,UATM,/MILLE,UMOL/KG,
31RBOACES24N_2,  AR01,    26,  1,     36,2,19980129,0858, 24.4997, -26.4160, 5413,      6.4,  22.6390,  37.4110,  37.4100,2,    214.7,2,     215.7,2,     0.90,2,     0.00,2,     0.00,2,  -999.00,5,    1.968,2,    1.149,2,    0.151,2, -999.000,9,     69.6,2,     1.52,2,   2098.6,6,   2447.1,2,   8.0608,2,   317.6,2,   20.0, -999.00,9,   352.8,     3.2,   67.16,2
31RBOACES24N_2,  AR01,    26,  1,     35,2,19980129,0858, 24.4997, -26.4160, 5413,      6.5,  22.6380,  37.4100,  37.4100,2,    214.7,2,     215.8,2,     1.00,2,     0.00,2,     0.00,2,  -999.00,5,    1.978,6,    1.143,6,    0.166,6, -999.000,9,     73.5,2,     1.51,2,   2097.6,2,   2453.8,2,   8.0599,2,   317.2,2,   20.0, -999.00,9,   352.3,     4.5,   66.29,2
31RBOACES24N_2,  AR01,    26,  1,     34,2,19980129,0858, 24.4997, -26.4160, 5413,     51.0,  22.6440,  37.4100,  37.4100,2,    215.0,2,     215.9,2,     1.00,2,     0.00,2,     0.00,2,  -999.00,5,    1.973,2,    1.151,2,    0.158,2, -999.000,9,   -999.0,9,     1.54,2,   2097.9,2,   2451.4,2,   8.0603,2,   317.3,2,   20.0, -999.00,9,   352.6,  -999.0,   65.70,2
31RBOACES24N_2,  AR01,    26,  1,     33,2,19980129,0858, 24.4997, -26.4160, 5413,    100.6,  22.4940,  37.4360,  37.4390,2,    215.0,2,     217.4,2,     0.80,2,     0.00,2,     0.01,2,  -999.00,5,    2.029,2,    1.170,2,    0.156,2, -999.000,9,     75.4,2,     1.47,2,   2099.5,2,   -999.0,9,   8.0592,2,   318.3,2,   20.0, -999.00,9,   351.5,     3.2,   67.06,2
31RBOACES24N_2,  AR01,    26,  1,     32,2,19980129,0858, 24.4997, -26.4160, 5413,    152.1,  19.7530,  36.9140,  36.9180,2,    213.3,2,     216.7,2,     1.20,2,     0.49,2,     0.04,2,  -999.00,5,    2.300,2,    1.316,2,    0.160,2, -999.000,9,    110.9,2,     1.18,2,   2106.6,2,   2419.8,2,   8.0068,2,   366.2,2,   20.0, -999.00,9,   362.1,     3.4,   57.00,2
31RBOACES24N_2,  AR01,    26,  1,     31,2,19980129,0858, 24.4997, -26.4160, 5413,    200.3,  18.4060,  36.6790,  36.6810,2,    203.4,2,     197.0,2,     1.30,2,     3.80,2,     0.02,2,  -999.00,5,    2.299,2,    1.287,2,    0.064,2, -999.000,9,    101.5,2,     0.97,2,   2118.6,2,   -999.0,5,   7.9631,2,   410.3,2,   20.0, -999.00,9,   384.5,     3.6,   52.02,2
31RBOACES24N_2,  AR01,    26,  1,     30,2,19980129,0858, 24.4997, -26.4160, 5413,    225.4,  17.8210,  36.5680,  36.5680,2,    192.0,2,     193.6,2,     1.60,2,     4.88,2,     0.01,2,  -999.00,5,    2.351,2,    1.307,2,    0.060,2, -999.000,9,    111.5,2,     0.95,2,   2120.7,2,   2395.2,2,   7.9505,2,   427.4,2,   20.0, -999.00,9,   391.3,     3.6,   50.85,2
31RBOACES24N_2,  AR01,    26,  1,     29,2,19980129,0858, 24.4997, -26.4160, 5413,    250.6,  17.1030,  36.4430,  36.4470,2,    191.2,2,     189.2,2,     1.70,2,     6.25,2,     0.01,2,  -999.00,5,    2.356,2,    1.305,2,    0.037,2, -999.000,9,     81.6,2,     0.88,2,   2126.6,2,   2394.3,2,   7.9286,2,   448.5,2,   20.0, -999.00,9,   398.9,     3.1,   49.97,2
31RBOACES24N_2,  AR01,    26,  1,     28,2,19980129,0858, 24.4997, -26.4160, 5413,    274.3,  16.5390,  36.3460,  36.3520,2,    187.0,2,     183.4,2,     2.20,2,     8.00,2,     0.01,2,  -999.00,5,    2.313,2,    1.282,2,    0.044,2, -999.000,9,    103.8,2,     0.82,2,   2132.0,2,   2379.4,2,   7.9064,2,   480.5,2,   20.0, -999.00,9,   417.8,     3.3, -999.00,9
31RBOACES24N_2,  AR01,    26,  1,     27,2,19980129,0858, 24.4997, -26.4160, 5413,    298.7,  16.0290,  36.2530,  36.2520,2,    182.8,2,     174.0,2,     2.90,2,     9.76,2,     0.01,2,  -999.00,5,    2.257,2,    1.218,2,    0.029,2, -999.000,9,     88.5,2,     0.81,2,   2140.0,2,   -999.0,5,   7.8815,2,   504.7,2,   20.0, -999.00,9,   429.9,     3.3,   47.53,2
31RBOACES24N_2,  AR01,    26,  1,     26,2,19980129,0858, 24.4997, -26.4160, 5413,    352.0,  15.1830,  36.1230,  36.1300,2,    148.5,2,     183.0,2,     3.10,2,    10.05,2,     0.01,2,  -999.00,5,    2.285,2,    1.220,2,    0.035,2, -999.000,9,     79.5,2,     0.80,2,   2140.2,2,   2365.8,2,   7.8788,2,   505.1,2,   20.0, -999.00,9,   414.7,     4.1, -999.00,9
31RBOACES24N_2,  AR01,    26,  1,     25,2,19980129,0858, 24.4997, -26.4160, 5413,    400.5,  14.3770,  35.9980,  36.0100,2,    185.9,2,     185.8,2,     3.50,2,    11.03,2,     0.01,2,  -999.00,5,    2.305,2,    1.218,2,    0.031,2, -999.000,9,     57.1,2,     0.78,2,   2136.1,2,   -999.0,5,   7.8621,2,   525.7,2,   20.0, -999.00,9,   418.2,     3.0,   46.84,2
31RBOACES24N_2,  AR01,    26,  1,     24,2,19980129,0858, 24.4997, -26.4160, 5413,    450.3,  13.4290,  35.8460,  35.8540,2,    178.3,2,     181.3,2,     4.50,2,    13.08,2,     0.00,2,  -999.00,5,    2.161,6,    1.132,6,    0.023,6, -999.000,9,     53.0,2,     0.79,2,   2143.2,2,   2351.0,2,   7.8335,2,   566.1,2,   20.0, -999.00,9,   432.4,     3.3, -999.00,9
31RBOACES24N_2,  AR01,    26,  1,     23,2,19980129,0858, 24.4997, -26.4160, 5413,    501.1,  12.5930,  35.7220,  35.7270,2,    184.1,2,     183.1,2,     5.20,2,    14.35,2,     0.00,2,  -999.00,5,    1.993,2,    1.026,2,    0.020,2, -999.000,9,     42.9,2,     0.75,2,   2146.8,2,   2349.7,3,   7.8143,2,   593.8,2,   20.0, -999.00,9,   437.6,     3.2,   46.54,2
31RBOACES24N_2,  AR01,    26,  1,     22,2,19980129,0858, 24.4997, -26.4160, 5413,    553.0,  11.9650,  35.6380,  35.6410,2,    186.4,2,     184.0,2,     6.20,2,    15.43,2,     0.00,2,  -999.00,5,    1.835,2,    0.941,2,    0.024,2, -999.000,9,     46.5,2,     0.79,2,   2151.4,2,   2338.5,2,   7.8009,2,   616.0,2,   20.0, -999.00,9,   442.1,     3.5, -999.00,9
31RBOACES24N_2,  AR01,    26,  1,     21,2,19980129,0858, 24.4997, -26.4160, 5413,    599.3,  11.3510,  35.5670,  35.5700,2,    183.0,2,     174.7,2,     7.50,2,    17.38,2,     0.00,2,  -999.00,5,    1.525,2,    0.794,2,    0.018,2, -999.000,9,     28.2,6,     0.74,6,   2160.6,2,   2342.0,2,   7.7724,2,   660.8,2,   20.0, -999.00,9,   462.2,     2.0,   43.42,2
31RBOACES24N_2,  AR01,    26,  1,     20,2,19980129,0858, 24.4997, -26.4160, 5413,    702.5,  10.1380,  35.4350,  35.4390,2,    156.8,2,     151.9,2,    11.00,2,    21.78,2,     0.00,2,  -999.00,5,    0.756,2,    0.391,2,    0.003,2, -999.000,9,    -30.2,2,     0.73,2,   2182.1,2,   2333.2,2,   7.7157,2,   771.3,2,   20.0, -999.00,9,   513.4,     3.2, -999.00,9
31RBOACES24N_2,  AR01,    26,  1,     19,2,19980129,0858, 24.4997, -26.4160, 5413,    798.3,   9.0380,  35.3340,  35.3360,2,    145.8,2,     145.0,2,    13.80,2,    24.42,2,     0.00,2,  -999.00,5,    0.331,2,    0.174,2,   -0.001,2, -999.000,9,    -61.8,2,     0.71,2,   2193.7,2,   -999.0,5,   7.6842,2,   840.0,2,   20.0, -999.00,9,   533.8,     3.3,   42.63,2
31RBOACES24N_2,  AR01,    26,  1,     18,2,19980129,0858, 24.4997, -26.4160, 5413,    902.1,   7.9220,  35.2370,  35.2400,2,    148.2,2,     148.5,2,    16.50,2,    25.59,2,     0.00,2,  -999.00,5,    0.158,2,    0.087,2,   -0.006,2, -999.000,9,    -66.8,2,     0.70,2,   2199.2,2,   2331.1,2,   7.6661,2,  -999.0,9, -999.0, -999.00,9,  -999.0,     2.6, -999.00,9
31RBOACES24N_2,  AR01,    26,  1,     17,2,19980129,0858, 24.4997, -26.4160, 5413,   1091.0,   6.7850,  35.2040,  35.2030,2,    166.7,2,     168.9,2,    18.30,2,    24.52,2,     0.00,2,  -999.00,5,    0.077,2,    0.043,2,    0.009,2, -999.000,9,   -999.0,9,     0.79,2,   2199.6,6,   2334.1,2,   7.6752,2,   851.8,2,   20.0, -999.00,9,   489.1,  -999.0,   41.65,2
31RBOACES24N_2,  AR01,    26,  1,     16,2,19980129,0858, 24.4997, -26.4160, 5413,   1302.2,   5.9710,  35.1990,  35.1980,2,    190.9,2,     191.0,2,    18.90,2,    23.05,2,     0.00,2,  -999.00,5,    0.038,2,    0.018,2,   -0.006,2, -999.000,9,   -999.0,9,     0.85,2,   2191.2,2,   2334.6,2,   7.6958,2,  -999.0,9, -999.0, -999.00,9,  -999.0,  -999.0, -999.00,9
31RBOACES24N_2,  AR01,    26,  1,     15,2,19980129,0858, 24.4997, -26.4160, 5413,   1502.0,   5.2620,  35.1720,  35.1730,2,    208.4,2,     207.9,2,    19.90,2,    21.88,2,     0.00,2,  -999.00,5, -999.000,9, -999.000,9, -999.000,9, -999.000,9,    -89.2,2,     0.91,2,   2187.3,3,   -999.0,5,   7.7103,2,   775.7,2,   20.0, -999.00,9,   413.6,     3.3,   41.64,2
31RBOACES24N_2,  AR01,    26,  1,     14,2,19980129,0858, 24.4997, -26.4160, 5413,   1700.3,   4.6350,  35.1180,  35.1190,2,    219.9,2,     221.0,2,    21.30,2,    21.29,2,     0.00,2,  -999.00,5,    0.010,6,    0.003,6,    0.005,6, -999.000,9,    -91.6,2,     0.93,2,   2183.5,2,   2336.0,2,   7.7175,2,  -999.0,9, -999.0, -999.00,9,  -999.0,     3.3, -999.00,9
31RBOACES24N_2,  AR01,    26,  1,     13,2,19980129,0858, 24.4997, -26.4160, 5413,   1900.0,   4.2290,  35.0840,  35.0850,2,    230.9,2,     230.2,2,    22.70,2,    20.81,2,     0.00,2,  -999.00,5, -999.000,9, -999.000,9, -999.000,9, -999.000,9,   -104.9,2,     1.35,3,   2181.9,2,   2333.7,2,   7.7235,2,   751.1,2,   20.0, -999.00,9,   380.6,     2.7,   42.03,2
31RBOACES24N_2,  AR01,    26,  1,     12,2,19980129,0858, 24.4997, -26.4160, 5413,   2097.8,   3.8490,  35.0500,  35.0490,2,    238.1,2,     238.7,2,    24.20,2,    20.51,2,     0.00,2,  -999.00,5,    0.007,6,    0.003,2,    0.006,6, -999.000,9,   -107.7,2,     0.79,2,   2181.2,2,   2334.1,2,   7.7269,2,  -999.0,9, -999.0, -999.00,9,  -999.0,     3.0, -999.00,9
31RBOACES24N_2,  AR01,    26,  1,     11,2,19980129,0858, 24.4997, -26.4160, 5413,   2301.6,   3.5040,  35.0160,  35.0170,2,    244.3,2,     245.7,2,    25.90,2,    20.22,2,     0.00,2,  -999.00,5, -999.000,9, -999.000,9, -999.000,9, -999.000,9,   -999.0,9,     0.86,2,   2180.4,2,   2343.0,3,   7.7317,2,   733.6,2,   20.0, -999.00,9,   358.5,  -999.0,   41.93,2
31RBOACES24N_2,  AR01,    26,  1,     10,2,19980129,0858, 24.4997, -26.4160, 5413,   2501.8,   3.1860,  34.9850,  34.9850,2,    249.6,2,     249.1,2,    28.80,2,    20.22,2,     0.00,2,  -999.00,5,    0.003,2,    0.002,2,   -0.003,2, -999.000,9,   -118.2,2,     0.90,2,   2181.4,2,   2341.9,3,   7.7323,2,  -999.0,9, -999.0, -999.00,9,  -999.0,     2.7, -999.00,9
31RBOACES24N_2,  AR01,    26,  1,      9,2,19980129,0858, 24.4997, -26.4160, 5413,   2694.8,   2.9570,  34.9610,  34.9630,2,    250.6,2,     249.9,2,    31.90,2,    20.81,2,     0.00,2,  -999.00,5, -999.000,9, -999.000,9, -999.000,9, -999.000,9,   -107.7,2,     0.95,2,   2185.2,2,   2347.2,3,   7.7309,2,   734.6,2,   20.0, -999.00,9,   349.1,     3.2,   42.03,2
31RBOACES24N_2,  AR01,    26,  1,      8,2,19980129,0858, 24.4997, -26.4160, 5413,   2896.4,   2.7770,  34.9440,  34.9440,2,    250.8,2,     249.9,2,    34.50,2,    20.71,2,     0.00,2,  -999.00,5,    0.001,2,    0.001,2,   -0.004,2, -999.000,9,   -119.4,2,     0.90,2,   2186.9,2,   2343.4,2,   7.7313,2,  -999.0,9, -999.0, -999.00,9,  -999.0,     2.7, -999.00,9
31RBOACES24N_2,  AR01,    26,  1,      7,2,19980129,0858, 24.4997, -26.4160, 5413,   3201.6,   2.6000,  34.9260,  34.9260,2,    249.3,2,     248.4,2,    38.40,2,    21.59,2,     0.00,2,  -999.00,5, -999.000,9, -999.000,9, -999.000,9, -999.000,9,   -118.3,2,     0.97,2,   2191.8,2,   2353.6,3,   7.7284,2,   744.0,2,   20.0, -999.00,9,   347.1,     2.7,   42.03,2
31RBOACES24N_2,  AR01,    26,  1,      6,2,19980129,0858, 24.4997, -26.4160, 5413,   3499.4,   2.4980,  34.9130,  34.9130,2,    248.3,2,     248.6,2,    40.70,2,    21.49,2,     0.00,2,  -999.00,5,    0.000,2,    0.001,2,   -0.002,2, -999.000,9,   -128.7,2,     0.93,2,   2192.8,2,   2346.3,2,   7.7286,2,  -999.0,9, -999.0, -999.00,9,  -999.0,     2.7, -999.00,9
31RBOACES24N_2,  AR01,    26,  1,      5,2,19980129,0858, 24.4997, -26.4160, 5413,   3899.7,   2.4200,  34.9020,  34.9020,2,    247.5,2,     248.6,2,    43.30,2,    21.98,2,     0.00,2,  -999.00,5, -999.000,9, -999.000,9, -999.000,9, -999.000,9,   -118.2,2,     0.74,2,   2195.8,2,   -999.0,5,   7.7273,2,   750.5,2,   20.0, -999.00,9,   346.8,     2.3,   41.64,2
31RBOACES24N_2,  AR01,    26,  1,      4,2,19980129,0858, 24.4997, -26.4160, 5413,   4300.3,   2.3790,  34.8930,  34.8930,2,    248.2,2,     248.4,2,    45.90,2,    21.98,2,     0.00,2,  -999.00,5,    0.000,2,   -0.001,2,    0.001,2, -999.000,9,   -121.9,2,     0.89,2,   2198.1,2,   2355.5,2,   7.7259,2,  -999.0,9, -999.0, -999.00,9,  -999.0,     2.6, -999.00,9
31RBOACES24N_2,  AR01,    26,  1,      3,2,19980129,0858, 24.4997, -26.4160, 5413,   4699.5,   2.3860,  34.8890,  34.8890,2,    247.7,2,     248.8,2,    46.80,2,    21.98,2,     0.00,2,  -999.00,5,    0.001,2,    0.000,2,   -0.002,2, -999.000,9,   -120.3,2,     0.88,2,   2199.8,2,   2358.8,3,   7.7259,2,   753.9,2,   20.0, -999.00,9,   347.5,     2.6,   41.64,2
31RBOACES24N_2,  AR01,    26,  1,      2,2,19980129,0858, 24.4997, -26.4160, 5413,   5098.3,   2.4200,  34.8870,  34.8870,2,    248.3,2,     249.1,2,    47.40,2,    22.08,2,     0.00,2,  -999.00,5,   -0.001,6,    0.000,6,   -0.002,6, -999.000,9,   -124.7,2,     0.88,2,   2202.7,2,   2358.4,2,   7.7263,2,  -999.0,9, -999.0, -999.00,9,  -999.0,     2.3,   41.83,2
31RBOACES24N_2,  AR01,    26,  1,      1,2,19980129,0858, 24.4997, -26.4160, 5413,   5499.0,   2.4670,  34.8860,  34.8860,2,    249.3,2,     248.9,2,    47.80,6,    22.18,6,     0.00,6,  -999.00,5,    0.002,2,    0.001,2,   -0.004,2, -999.000,9,   -122.3,2,     0.92,2,   2205.2,2,   2365.9,2,   7.7257,2,   758.2,2,   20.0, -999.00,9,   350.9,     2.3,   41.64,2