BOTTLE,20220820CCHSIOAMB
EXPOCODE,SECT_ID,STNNBR,CASTNO,BTLNBR,BTLNBR_FLAG_W,DATE,TIME,LATITUDE,LONGITUDE,DEPTH,CTDPRS,CTDTMP,CTDSAL,SALNTY,SALNTY_FLAG_W,CTDOXY,CTDOXY_FLAG_W,OXYGEN,OXYGEN_FLAG_W,SILCAT,SILCAT_FLAG_W,NITRAT,NITRAT_FLAG_W,NITRIT,NITRIT_FLAG_W,PHSPHT,PHSPHT_FLAG_W,CFC-11,CFC-11_FLAG_W,CFC-12,CFC-12_FLAG_W,CFC113,CFC113_FLAG_W,CCL4,CCL4_FLAG_W,DELC14,DELC14_FLAG_W,DELC13,DELC13_FLAG_W,TCARBN,TCARBN_FLAG_W,ALKALI,ALKALI_FLAG_W,PH,PH_FLAG_W,FCO2,FCO2_FLAG_W,FCO2TMP,TON,TON_FLAG_W,FCO2IN,C14ERR,TOC,TOC_FLAG_W
,,,,,,,,,,,DBAR,ITS-90,PSS-78,PSS-78,,UMOL/KG,,UMOL/KG,,UMOL/KG,,UMOL/KG,,UMOL/KG,,UMOL/KG,,PMOL/KG,,PMOL/KG,,PMOL/KG,,PMOL/KG,,/MILLE,,/MILLE,,UMOL/KG,,UMOL/KG,,,,UATM,,DEG C,UMOL/KG,,UATM,/MILLE,UMOL/KG,
31RBOACES24N_2,  AR01,    23,  1,     36,2,19980128,1235, 24.4988, -24.2160, 5144,      5.4,  22.2760,  37.1410,  37.1410,2,    217.9,2,     218.8,2,     0.10,2,     0.10,2,     0.01,2,  -999.00,5, -999.000,9, -999.000,9, -999.000,9, -999.000,9,   -999.0,9,  -999.00,9,   2098.3,6,   2428.5,6,   8.0434,6,   331.8,2,   20.0, -999.00,9,   363.2,  -999.0, -999.00,9
31RBOACES24N_2,  AR01,    23,  1,     35,2,19980128,1235, 24.4988, -24.2160, 5144,     39.4,  22.2650,  37.1380,  37.1380,2,    215.0,2,     219.2,2,     0.00,2,     0.10,2,     0.01,2,  -999.00,5, -999.000,9, -999.000,9, -999.000,9, -999.000,9,   -999.0,9,  -999.00,9,   2096.8,2,   2426.5,2,   8.0419,2,   331.9,2,   20.0, -999.00,9,   363.1,  -999.0, -999.00,9
31RBOACES24N_2,  AR01,    23,  1,     34,2,19980128,1235, 24.4988, -24.2160, 5144,     89.5,  22.2620,  37.1370,  37.1380,2,    215.4,2,     218.2,2,     0.00,2,     0.10,2,     0.01,2,  -999.00,5, -999.000,9, -999.000,9, -999.000,9, -999.000,9,   -999.0,9,  -999.00,9,   2098.0,2,   2430.1,2,   8.0421,2,   334.1,2,   20.0, -999.00,9,   365.5,  -999.0, -999.00,9
31RBOACES24N_2,  AR01,    23,  1,     33,2,19980128,1235, 24.4988, -24.2160, 5144,    140.8,  20.6230,  36.9820,  36.9640,2,    212.9,2,     209.7,2,     0.00,2,     1.76,2,     0.03,2,  -999.00,5, -999.000,9, -999.000,9, -999.000,9, -999.000,9,   -999.0,9,  -999.00,9,   -999.0,9,   -999.0,9,-999.0000,9,  -999.0,9, -999.0, -999.00,9,  -999.0,  -999.0, -999.00,9
31RBOACES24N_2,  AR01,    23,  1,     32,2,19980128,1235, 24.4988, -24.2160, 5144,    191.0,  17.9480,  36.5010,  36.4900,2,    165.2,2,     191.7,2,     1.80,2,    10.34,2,     0.01,2,  -999.00,5, -999.000,9, -999.000,9, -999.000,9, -999.000,9,   -999.0,9,  -999.00,9,   -999.0,9,   -999.0,9,-999.0000,9,  -999.0,9, -999.0, -999.00,9,  -999.0,  -999.0, -999.00,9
31RBOACES24N_2,  AR01,    23,  1,     31,2,19980128,1235, 24.4988, -24.2160, 5144,    220.1,  16.8120,  36.2660,  36.2720,2,    127.1,2,     125.9,2,     3.00,2,    16.39,2,     0.00,2,  -999.00,5, -999.000,9, -999.000,9, -999.000,9, -999.000,9,   -999.0,9,  -999.00,9,   2172.5,3,   2369.1,2,   7.8142,2,   602.4,2,   20.0, -999.00,9,   530.1,  -999.0, -999.00,9
31RBOACES24N_2,  AR01,    23,  1,     30,2,19980128,1235, 24.4988, -24.2160, 5144,    251.0,  15.9260,  36.1050,  36.0840,2,    118.3,2,     112.5,2,     4.00,2,    17.08,2,     0.00,2,  -999.00,5, -999.000,9, -999.000,9, -999.000,9, -999.000,9,   -999.0,9,  -999.00,9,   -999.0,9,   -999.0,9,-999.0000,9,  -999.0,9, -999.0, -999.00,9,  -999.0,  -999.0, -999.00,9
31RBOACES24N_2,  AR01,    23,  1,     29,2,19980128,1235, 24.4988, -24.2160, 5144,    280.4,  15.2090,  35.9920,  35.9920,2,    105.1,2,     108.1,2,     4.60,2,    18.74,2,     0.00,2,  -999.00,5, -999.000,9, -999.000,9, -999.000,9, -999.000,9,   -999.0,9,  -999.00,9,   2187.3,3,   2358.0,2,   7.7506,2,   705.8,2,   20.0, -999.00,9,   582.6,  -999.0, -999.00,9
31RBOACES24N_2,  AR01,    23,  1,     28,2,19980128,1235, 24.4988, -24.2160, 5144,    340.6,  14.3390,  35.9100,  35.9090,2,     99.1,2,     112.3,2,     5.00,2,    19.13,2,     0.00,2,  -999.00,5, -999.000,9, -999.000,9, -999.000,9, -999.000,9,   -999.0,9,  -999.00,9,   -999.0,9,   -999.0,9,-999.0000,9,  -999.0,9, -999.0, -999.00,9,  -999.0,  -999.0, -999.00,9
31RBOACES24N_2,  AR01,    23,  1,     27,2,19980128,1235, 24.4988, -24.2160, 5144,    402.8,  13.5280,  35.8210,  35.8260,2,    126.4,2,     128.1,2,     5.00,2,    18.45,2,     0.00,2,  -999.00,5, -999.000,9, -999.000,9, -999.000,9, -999.000,9,   -999.0,9,  -999.00,9,   -999.0,9,   -999.0,9,-999.0000,9,  -999.0,9, -999.0, -999.00,9,  -999.0,  -999.0, -999.00,9
31RBOACES24N_2,  AR01,    23,  1,     26,2,19980128,1235, 24.4988, -24.2160, 5144,    459.7,  12.8350,  35.7320,  35.7330,2,    141.3,2,     138.6,2,     5.50,2,    18.74,2,     0.00,2,  -999.00,5, -999.000,9, -999.000,9, -999.000,9, -999.000,9,   -999.0,9,  -999.00,9,   -999.0,9,   -999.0,9,-999.0000,9,  -999.0,9, -999.0, -999.00,9,  -999.0,  -999.0, -999.00,9
31RBOACES24N_2,  AR01,    23,  1,     25,2,19980128,1235, 24.4988, -24.2160, 5144,    520.3,  11.9780,  35.6110,  35.6150,2,    136.4,2,     138.1,2,     6.50,2,    20.31,2,     0.00,2,  -999.00,5, -999.000,9, -999.000,9, -999.000,9, -999.000,9,   -999.0,9,  -999.00,9,   2181.7,2,   2336.0,2,   7.7280,2,   747.8,2,   20.0, -999.00,9,   539.3,  -999.0, -999.00,9
31RBOACES24N_2,  AR01,    23,  1,     24,2,19980128,1235, 24.4988, -24.2160, 5144,    579.5,  11.2760,  35.5250,  35.5350,2,    146.8,2,     143.5,2,     7.50,2,    20.89,2,     0.00,2,  -999.00,5, -999.000,9, -999.000,9, -999.000,9, -999.000,9,   -999.0,9,  -999.00,9,   -999.0,9,   -999.0,9,-999.0000,9,  -999.0,9, -999.0, -999.00,9,  -999.0,  -999.0, -999.00,9
31RBOACES24N_2,  AR01,    23,  1,     23,2,19980128,1235, 24.4988, -24.2160, 5144,    679.9,   9.7390,  35.3100,  35.3150,2,    102.0,2,     107.6,2,    12.70,2,    27.63,2,     0.00,2,  -999.00,5, -999.000,9, -999.000,9, -999.000,9, -999.000,9,   -999.0,9,  -999.00,9,   -999.0,9,   -999.0,9,-999.0000,9,  -999.0,9, -999.0, -999.00,9,  -999.0,  -999.0, -999.00,9
31RBOACES24N_2,  AR01,    23,  1,     22,2,19980128,1235, 24.4988, -24.2160, 5144,    770.3,   8.6360,  35.1950,  35.2010,2,    112.9,2,     112.9,2,    15.60,2,    29.20,2,     0.00,2,  -999.00,5, -999.000,9, -999.000,9, -999.000,9, -999.000,9,   -999.0,9,  -999.00,9,   -999.0,9,   -999.0,9,-999.0000,9,  -999.0,9, -999.0, -999.00,9,  -999.0,  -999.0, -999.00,9
31RBOACES24N_2,  AR01,    23,  1,     21,2,19980128,1235, 24.4988, -24.2160, 5144,    881.4,   7.5360,  35.0940,  35.0990,2,    123.5,2,     125.2,2,    18.40,2,    29.40,2,     0.00,2,  -999.00,5, -999.000,9, -999.000,9, -999.000,9, -999.000,9,   -999.0,9,  -999.00,9,   -999.0,9,   -999.0,9,-999.0000,9,  -999.0,9, -999.0, -999.00,9,  -999.0,  -999.0, -999.00,9
31RBOACES24N_2,  AR01,    23,  1,     20,2,19980128,1235, 24.4988, -24.2160, 5144,    978.4,   7.4240,  35.1670,  35.1380,2,    144.0,2,     139.9,2,    18.50,2,    27.93,2,     0.00,2,  -999.00,5, -999.000,9, -999.000,9, -999.000,9, -999.000,9,   -999.0,9,  -999.00,9,   2210.6,6,   -999.0,5,   7.6329,6,   958.6,2,   20.0, -999.00,9,   569.7,  -999.0, -999.00,9
31RBOACES24N_2,  AR01,    23,  1,     19,2,19980128,1235, 24.4988, -24.2160, 5144,   1082.1,   7.2290,  35.2210,  35.2120,2,    159.0,2,     156.8,2,    17.70,2,    25.88,2,     0.00,2,  -999.00,5, -999.000,9, -999.000,9, -999.000,9, -999.000,9,   -999.0,9,  -999.00,9,   -999.0,9,   -999.0,9,-999.0000,9,  -999.0,9, -999.0, -999.00,9,  -999.0,  -999.0, -999.00,9
31RBOACES24N_2,  AR01,    23,  1,     18,2,19980128,1235, 24.4988, -24.2160, 5144,   1270.7,   6.3780,  35.2210,  35.2220,2,    181.8,2,     181.0,2,    18.30,2,    24.12,2,     0.00,2,  -999.00,5, -999.000,9, -999.000,9, -999.000,9, -999.000,9,   -999.0,9,  -999.00,9,   -999.0,9,   -999.0,9,-999.0000,9,  -999.0,9, -999.0, -999.00,9,  -999.0,  -999.0, -999.00,9
31RBOACES24N_2,  AR01,    23,  1,     17,2,19980128,1235, 24.4988, -24.2160, 5144,   1471.5,   5.5670,  35.1740,  35.1750,2,    200.0,2,     199.6,2,    19.20,2,    22.75,2,     0.00,2,  -999.00,5, -999.000,9, -999.000,9, -999.000,9, -999.000,9,   -999.0,9,  -999.00,9,   2190.9,2,   -999.0,5,   7.7009,2,   800.8,2,   20.0, -999.00,9,   433.9,  -999.0, -999.00,9
31RBOACES24N_2,  AR01,    23,  1,     16,2,19980128,1235, 24.4988, -24.2160, 5144,   1675.6,   4.8540,  35.1240,  35.1250,2,    213.8,2,     213.3,2,    20.90,2,    22.07,2,     0.00,2,  -999.00,5, -999.000,9, -999.000,9, -999.000,9, -999.000,9,   -999.0,9,  -999.00,9,   -999.0,9,   -999.0,9,-999.0000,9,  -999.0,9, -999.0, -999.00,9,  -999.0,  -999.0, -999.00,9
31RBOACES24N_2,  AR01,    23,  1,     15,2,19980128,1235, 24.4988, -24.2160, 5144,   1872.2,   4.4130,  35.0960,  35.0950,2,    223.0,2,     224.0,2,    22.50,2,    21.49,2,     0.00,2,  -999.00,5, -999.000,9, -999.000,9, -999.000,9, -999.000,9,   -999.0,9,  -999.00,9,   -999.0,9,   -999.0,9,-999.0000,9,  -999.0,9, -999.0, -999.00,9,  -999.0,  -999.0, -999.00,9
31RBOACES24N_2,  AR01,    23,  1,     14,2,19980128,1235, 24.4988, -24.2160, 5144,   2078.3,   3.8830,  35.0380,  35.0380,2,    232.4,2,     232.6,2,    23.70,2,    21.19,2,     0.00,2,  -999.00,5, -999.000,9, -999.000,9, -999.000,9, -999.000,9,   -999.0,9,  -999.00,9,   2183.6,2,   2333.3,2,   7.7193,2,   760.5,2,   20.0, -999.00,9,   379.4,  -999.0, -999.00,9
31RBOACES24N_2,  AR01,    23,  1,     13,2,19980128,1235, 24.4988, -24.2160, 5144,   2280.7,   3.6210,  35.0200,  35.0200,2,    232.9,2,     234.0,2,    26.70,2,    21.19,2,     0.00,2,  -999.00,5, -999.000,9, -999.000,9, -999.000,9, -999.000,9,   -999.0,9,  -999.00,9,   -999.0,9,   -999.0,9,-999.0000,9,  -999.0,9, -999.0, -999.00,9,  -999.0,  -999.0, -999.00,9
31RBOACES24N_2,  AR01,    23,  1,     12,2,19980128,1235, 24.4988, -24.2160, 5144,   2479.7,   3.3710,  34.9980,  34.9970,2,    239.0,2,     239.3,2,    28.40,2,    20.90,2,     0.00,2,  -999.00,5, -999.000,9, -999.000,9, -999.000,9, -999.000,9,   -999.0,9,  -999.00,9,   -999.0,9,   -999.0,9,-999.0000,9,  -999.0,9, -999.0, -999.00,9,  -999.0,  -999.0, -999.00,9
31RBOACES24N_2,  AR01,    23,  1,     11,2,19980128,1235, 24.4988, -24.2160, 5144,   2676.7,   3.1240,  34.9750,  34.9760,2,    246.0,2,     245.5,2,    30.10,2,    20.80,2,     0.00,2,  -999.00,5, -999.000,9, -999.000,9, -999.000,9, -999.000,9,   -999.0,9,  -999.00,9,   -999.0,9,   -999.0,9,-999.0000,9,  -999.0,9, -999.0, -999.00,9,  -999.0,  -999.0, -999.00,9
31RBOACES24N_2,  AR01,    23,  1,     10,2,19980128,1235, 24.4988, -24.2160, 5144,   2879.3,   2.8950,  34.9560,  34.9560,2,    252.4,2,     250.6,2,    31.70,2,    20.80,2,     0.00,2,  -999.00,5, -999.000,9, -999.000,9, -999.000,9, -999.000,9,   -999.0,9,  -999.00,9,   2186.2,2,   2341.1,2,   7.7334,2,   743.0,6,   20.0, -999.00,9,   352.4,  -999.0, -999.00,9
31RBOACES24N_2,  AR01,    23,  1,      9,2,19980128,1235, 24.4988, -24.2160, 5144,   3141.9,   2.6990,  34.9340,  34.9340,2,    248.9,2,     248.2,2,    36.60,2,    21.29,2,     0.00,2,  -999.00,5, -999.000,9, -999.000,9, -999.000,9, -999.000,9,   -999.0,9,  -999.00,9,   -999.0,9,   -999.0,9,-999.0000,9,  -999.0,9, -999.0, -999.00,9,  -999.0,  -999.0, -999.00,9
31RBOACES24N_2,  AR01,    23,  1,      8,2,19980128,1235, 24.4988, -24.2160, 5144,   3401.0,   2.5600,  34.9200,  34.9200,2,    248.2,2,     248.8,2,    39.70,2,    21.68,2,     0.00,2,  -999.00,5, -999.000,9, -999.000,9, -999.000,9, -999.000,9,   -999.0,9,  -999.00,9,   -999.0,9,   -999.0,9,-999.0000,9,  -999.0,9, -999.0, -999.00,9,  -999.0,  -999.0, -999.00,9
31RBOACES24N_2,  AR01,    23,  1,      7,2,19980128,1235, 24.4988, -24.2160, 5144,   3660.7,   2.4810,  34.9100,  34.9090,2,    249.3,2,     249.9,2,    41.80,2,    21.59,2,     0.00,2,  -999.00,5, -999.000,9, -999.000,9, -999.000,9, -999.000,9,   -999.0,9,  -999.00,9,   -999.0,9,   2353.5,2,-999.0000,9,  -999.0,9, -999.0, -999.00,9,  -999.0,  -999.0, -999.00,9
31RBOACES24N_2,  AR01,    23,  1,      6,2,19980128,1235, 24.4988, -24.2160, 5144,   3918.7,   2.4240,  34.9020,  34.9010,2,    249.7,2,     249.9,2,    44.00,2,    21.78,2,     0.00,2,  -999.00,5, -999.000,9, -999.000,9, -999.000,9, -999.000,9,   -999.0,9,  -999.00,9,   -999.0,9,   -999.0,9,-999.0000,9,  -999.0,9, -999.0, -999.00,9,  -999.0,  -999.0, -999.00,9
31RBOACES24N_2,  AR01,    23,  1,      5,2,19980128,1235, 24.4988, -24.2160, 5144,   4180.5,   2.3960,  34.8960,  34.8950,2,    249.8,2,     250.0,2,    45.50,2,    21.78,2,     0.00,2,  -999.00,5, -999.000,9, -999.000,9, -999.000,9, -999.000,9,   -999.0,9,  -999.00,9,   -999.0,9,   -999.0,9,-999.0000,9,  -999.0,9, -999.0, -999.00,9,  -999.0,  -999.0, -999.00,9
31RBOACES24N_2,  AR01,    23,  1,      4,2,19980128,1235, 24.4988, -24.2160, 5144,   4401.8,   2.3800,  34.8920,  34.8920,2,    249.5,2,     246.2,2,    46.70,2,    21.98,2,     0.00,2,  -999.00,5, -999.000,9, -999.000,9, -999.000,9, -999.000,9,   -999.0,9,  -999.00,9,   -999.0,9,   -999.0,9,-999.0000,9,  -999.0,9, -999.0, -999.00,9,  -999.0,  -999.0, -999.00,9
31RBOACES24N_2,  AR01,    23,  1,      3,2,19980128,1235, 24.4988, -24.2160, 5144,   4700.1,   2.3860,  34.8890,  34.8900,2,    249.5,2,     249.9,2,    47.60,2,    22.47,3,     0.00,2,  -999.00,5, -999.000,9, -999.000,9, -999.000,9, -999.000,9,   -999.0,9,  -999.00,9,   2201.4,2,   2356.5,2,   7.7278,2,   754.2,2,   20.0, -999.00,9,   347.7,  -999.0, -999.00,9
31RBOACES24N_2,  AR01,    23,  1,      2,2,19980128,1235, 24.4988, -24.2160, 5144,   4960.1,   2.4170,  34.8870,  34.8890,2,    249.9,2,     248.3,2,    47.90,2,    22.08,2,     0.00,2,  -999.00,5, -999.000,9, -999.000,9, -999.000,9, -999.000,9,   -999.0,9,  -999.00,9,   -999.0,9,   -999.0,9,-999.0000,9,  -999.0,9, -999.0, -999.00,9,  -999.0,  -999.0, -999.00,9
31RBOACES24N_2,  AR01,    23,  1,      1,2,19980128,1235, 24.4988, -24.2160, 5144,   5222.4,   2.4510,  34.8880,  34.8880,2,    249.9,2,     249.5,2,    46.90,6,    22.27,6,     0.00,6,  -999.00,5, -999.000,9, -999.000,9, -999.000,9, -999.000,9,   -999.0,9,  -999.00,9,   2201.5,2,   -999.0,9,   7.7265,2,   763.0,2,   20.0, -999.00,9,   353.2,  -999.0, -999.00,9