BOTTLE,20220820CCHSIOAMB
EXPOCODE,SECT_ID,STNNBR,CASTNO,BTLNBR,BTLNBR_FLAG_W,DATE,TIME,LATITUDE,LONGITUDE,DEPTH,CTDPRS,CTDTMP,CTDSAL,SALNTY,SALNTY_FLAG_W,CTDOXY,CTDOXY_FLAG_W,OXYGEN,OXYGEN_FLAG_W,SILCAT,SILCAT_FLAG_W,NITRAT,NITRAT_FLAG_W,NITRIT,NITRIT_FLAG_W,PHSPHT,PHSPHT_FLAG_W,CFC-11,CFC-11_FLAG_W,CFC-12,CFC-12_FLAG_W,CFC113,CFC113_FLAG_W,CCL4,CCL4_FLAG_W,DELC14,DELC14_FLAG_W,DELC13,DELC13_FLAG_W,TCARBN,TCARBN_FLAG_W,ALKALI,ALKALI_FLAG_W,PH,PH_FLAG_W,FCO2,FCO2_FLAG_W,FCO2TMP,TON,TON_FLAG_W,FCO2IN,C14ERR,TOC,TOC_FLAG_W
,,,,,,,,,,,DBAR,ITS-90,PSS-78,PSS-78,,UMOL/KG,,UMOL/KG,,UMOL/KG,,UMOL/KG,,UMOL/KG,,UMOL/KG,,PMOL/KG,,PMOL/KG,,PMOL/KG,,PMOL/KG,,/MILLE,,/MILLE,,UMOL/KG,,UMOL/KG,,,,UATM,,DEG C,UMOL/KG,,UATM,/MILLE,UMOL/KG,
31RBOACES24N_2,  AR01,     4,  1,     22,2,19980124,0638, 27.8493, -13.5503, 1086,      4.3,  19.0340,  36.7060,  36.7070,2,    234.1,2,    -999.0,9,     0.90,2,     0.20,2,     0.11,2,     0.07,2, -999.000,9, -999.000,9, -999.000,9, -999.000,9,   -999.0,9,  -999.00,9,   2100.8,6,   2403.6,2,   8.0044,2,   375.2,2,   20.0, -999.00,9,   361.0,  -999.0, -999.00,9
31RBOACES24N_2,  AR01,     4,  1,     21,2,19980124,0638, 27.8493, -13.5503, 1086,     10.6,  19.0340,  36.7050,  36.6970,2,    233.7,2,    -999.0,9,     1.00,2,     0.29,2,     0.13,2,     0.08,2, -999.000,9, -999.000,9, -999.000,9, -999.000,9,   -999.0,9,  -999.00,9,   -999.0,9,   -999.0,9,-999.0000,9,  -999.0,9, -999.0, -999.00,9,  -999.0,  -999.0, -999.00,9
31RBOACES24N_2,  AR01,     4,  1,     20,2,19980124,0638, 27.8493, -13.5503, 1086,     28.7,  18.7690,  36.6570,  36.6570,2,    233.5,2,    -999.0,9,     0.90,2,     0.29,2,     0.19,2,     0.09,2, -999.000,9, -999.000,9, -999.000,9, -999.000,9,   -999.0,9,  -999.00,9,   -999.0,9,   -999.0,9,-999.0000,9,  -999.0,9, -999.0, -999.00,9,  -999.0,  -999.0, -999.00,9
31RBOACES24N_2,  AR01,     4,  1,     19,2,19980124,0638, 27.8493, -13.5503, 1086,     60.0,  17.8940,  36.4940,  36.4940,2,    229.6,2,    -999.0,9,     2.00,2,     4.49,2,     0.19,2,     0.31,2, -999.000,9, -999.000,9, -999.000,9, -999.000,9,   -999.0,9,  -999.00,9,   -999.0,9,   -999.0,9,-999.0000,9,  -999.0,9, -999.0, -999.00,9,  -999.0,  -999.0, -999.00,9
31RBOACES24N_2,  AR01,     4,  1,     18,2,19980124,0638, 27.8493, -13.5503, 1086,     90.4,  16.9940,  36.3980,  36.3990,2,    193.5,2,    -999.0,9,     2.30,2,     6.93,2,     0.03,2,     0.41,2, -999.000,9, -999.000,9, -999.000,9, -999.000,9,   -999.0,9,  -999.00,9,   -999.0,9,   -999.0,9,-999.0000,9,  -999.0,9, -999.0, -999.00,9,  -999.0,  -999.0, -999.00,9
31RBOACES24N_2,  AR01,     4,  1,     17,2,19980124,0638, 27.8493, -13.5503, 1086,    120.2,  16.0570,  36.2730,  36.2720,2,    184.1,2,    -999.0,9,     2.50,2,     8.20,2,     0.01,2,     0.46,2, -999.000,9, -999.000,9, -999.000,9, -999.000,9,   -999.0,9,  -999.00,9,   -999.0,9,   -999.0,9,-999.0000,9,  -999.0,9, -999.0, -999.00,9,  -999.0,  -999.0, -999.00,9
31RBOACES24N_2,  AR01,     4,  1,     16,2,19980124,0638, 27.8493, -13.5503, 1086,    149.4,  15.3810,  36.1520,  36.1640,2,    184.3,2,    -999.0,9,     3.50,2,    10.64,2,     0.00,2,     0.61,2, -999.000,9, -999.000,9, -999.000,9, -999.000,9,   -999.0,9,  -999.00,9,   -999.0,9,   -999.0,9,-999.0000,9,  -999.0,9, -999.0, -999.00,9,  -999.0,  -999.0, -999.00,9
31RBOACES24N_2,  AR01,     4,  1,     15,2,19980124,0638, 27.8493, -13.5503, 1086,    177.3,  14.9660,  36.0710,  36.0630,2,    162.1,2,    -999.0,9,     4.70,2,    13.37,2,     0.00,2,     0.76,2, -999.000,9, -999.000,9, -999.000,9, -999.000,9,   -999.0,9,  -999.00,9,   -999.0,9,   -999.0,9,-999.0000,9,  -999.0,9, -999.0, -999.00,9,  -999.0,  -999.0, -999.00,9
31RBOACES24N_2,  AR01,     4,  1,     14,2,19980124,0638, 27.8493, -13.5503, 1086,    210.6,  14.6560,  36.0370,  36.0360,2,    167.2,2,    -999.0,9,     4.60,2,    12.78,2,     0.00,2,     0.74,2, -999.000,9, -999.000,9, -999.000,9, -999.000,9,   -999.0,9,  -999.00,9,   -999.0,9,   -999.0,9,-999.0000,9,  -999.0,9, -999.0, -999.00,9,  -999.0,  -999.0, -999.00,9
31RBOACES24N_2,  AR01,     4,  1,     13,2,19980124,0638, 27.8493, -13.5503, 1086,    250.3,  14.3610,  36.0020,  36.0030,2,    174.1,2,    -999.0,9,     4.60,2,    12.59,2,     0.00,2,     0.72,2, -999.000,9, -999.000,9, -999.000,9, -999.000,9,   -999.0,9,  -999.00,9,   -999.0,9,   -999.0,9,-999.0000,9,  -999.0,9, -999.0, -999.00,9,  -999.0,  -999.0, -999.00,9
31RBOACES24N_2,  AR01,     4,  1,     12,2,19980124,0638, 27.8493, -13.5503, 1086,    298.0,  13.6070,  35.8890,  35.8860,2,    173.9,2,    -999.0,9,     5.40,2,    14.35,2,     0.00,2,     0.82,2, -999.000,9, -999.000,9, -999.000,9, -999.000,9,   -999.0,9,  -999.00,9,   -999.0,9,   -999.0,9,-999.0000,9,  -999.0,9, -999.0, -999.00,9,  -999.0,  -999.0, -999.00,9
31RBOACES24N_2,  AR01,     4,  1,     11,2,19980124,0638, 27.8493, -13.5503, 1086,    346.8,  13.0470,  35.8050,  35.8050,2,    172.4,2,    -999.0,9,     5.90,2,    15.42,2,     0.00,2,     0.90,2, -999.000,9, -999.000,9, -999.000,9, -999.000,9,   -999.0,9,  -999.00,9,   -999.0,9,   -999.0,9,-999.0000,9,  -999.0,9, -999.0, -999.00,9,  -999.0,  -999.0, -999.00,9
31RBOACES24N_2,  AR01,     4,  1,     10,2,19980124,0638, 27.8493, -13.5503, 1086,    399.8,  12.5700,  35.7370,  35.7360,2,    168.8,2,    -999.0,9,     6.50,2,    16.79,2,     0.00,2,     0.98,2, -999.000,9, -999.000,9, -999.000,9, -999.000,9,   -999.0,9,  -999.00,9,   -999.0,9,   -999.0,9,-999.0000,9,  -999.0,9, -999.0, -999.00,9,  -999.0,  -999.0, -999.00,9
31RBOACES24N_2,  AR01,     4,  1,      9,2,19980124,0638, 27.8493, -13.5503, 1086,    447.1,  11.9710,  35.6450,  35.6600,2,    156.5,2,    -999.0,9,     7.70,2,    18.65,2,     0.00,2,     1.10,2, -999.000,9, -999.000,9, -999.000,9, -999.000,9,   -999.0,9,  -999.00,9,   -999.0,9,   -999.0,9,-999.0000,9,  -999.0,9, -999.0, -999.00,9,  -999.0,  -999.0, -999.00,9
31RBOACES24N_2,  AR01,     4,  1,      8,2,19980124,0638, 27.8493, -13.5503, 1086,    499.0,  11.6490,  35.6080,  35.6000,2,    154.7,2,    -999.0,9,     8.70,2,    19.82,2,     0.00,2,     1.18,2, -999.000,9, -999.000,9, -999.000,9, -999.000,9,   -999.0,9,  -999.00,9,   -999.0,9,   -999.0,9,-999.0000,9,  -999.0,9, -999.0, -999.00,9,  -999.0,  -999.0, -999.00,9
31RBOACES24N_2,  AR01,     4,  1,      7,2,19980124,0638, 27.8493, -13.5503, 1086,    548.5,  11.0410,  35.5260,  35.5250,2,    148.5,2,    -999.0,9,    10.30,2,    21.58,2,     0.00,2,     1.30,2, -999.000,9, -999.000,9, -999.000,9, -999.000,9,   -999.0,9,  -999.00,9,   -999.0,9,   -999.0,9,-999.0000,9,  -999.0,9, -999.0, -999.00,9,  -999.0,  -999.0, -999.00,9
31RBOACES24N_2,  AR01,     4,  1,      6,2,19980124,0638, 27.8493, -13.5503, 1086,    595.5,  10.4370,  35.4480,  35.4500,2,    140.8,2,    -999.0,9,    12.20,2,    23.53,2,     0.00,2,     1.42,2, -999.000,9, -999.000,9, -999.000,9, -999.000,9,   -999.0,9,  -999.00,9,   -999.0,9,   -999.0,9,-999.0000,9,  -999.0,9, -999.0, -999.00,9,  -999.0,  -999.0, -999.00,9
31RBOACES24N_2,  AR01,     4,  1,      5,2,19980124,0638, 27.8493, -13.5503, 1086,    702.4,   9.6180,  35.3620,  35.3600,2,    132.6,2,    -999.0,9,    14.50,2,    25.58,2,     0.00,2,     1.57,2, -999.000,9, -999.000,9, -999.000,9, -999.000,9,   -999.0,9,  -999.00,9,   -999.0,9,   -999.0,9,-999.0000,9,  -999.0,9, -999.0, -999.00,9,  -999.0,  -999.0, -999.00,9
31RBOACES24N_2,  AR01,     4,  1,      4,2,19980124,0638, 27.8493, -13.5503, 1086,    800.1,   8.8760,  35.3020,  35.3010,2,    133.3,2,    -999.0,9,    16.60,2,    26.66,2,     0.00,2,     1.65,2, -999.000,9, -999.000,9, -999.000,9, -999.000,9,   -999.0,9,  -999.00,9,   -999.0,9,   -999.0,9,-999.0000,9,  -999.0,9, -999.0, -999.00,9,  -999.0,  -999.0, -999.00,9
31RBOACES24N_2,  AR01,     4,  1,      3,2,19980124,0638, 27.8493, -13.5503, 1086,    898.9,   8.3290,  35.2890,  35.2890,2,    142.2,2,    -999.0,9,    17.40,2,    26.56,2,     0.01,2,     1.66,2, -999.000,9, -999.000,9, -999.000,9, -999.000,9,   -999.0,9,  -999.00,9,   -999.0,9,   -999.0,9,-999.0000,9,  -999.0,9, -999.0, -999.00,9,  -999.0,  -999.0, -999.00,9
31RBOACES24N_2,  AR01,     4,  1,      2,2,19980124,0638, 27.8493, -13.5503, 1086,    999.5,   7.7110,  35.2450,  35.2430,2,    147.2,2,    -999.0,9,    18.70,2,    26.95,2,     0.01,2,     1.70,2, -999.000,9, -999.000,9, -999.000,9, -999.000,9,   -999.0,9,  -999.00,9,   -999.0,9,   -999.0,9,-999.0000,9,  -999.0,9, -999.0, -999.00,9,  -999.0,  -999.0, -999.00,9
31RBOACES24N_2,  AR01,     4,  1,      1,2,19980124,0638, 27.8493, -13.5503, 1086,   1080.6,   7.4100,  35.2360,  35.2340,2,    152.0,2,    -999.0,9,    18.70,2,    26.66,2,     0.00,2,     1.68,2, -999.000,9, -999.000,9, -999.000,9, -999.000,9,   -999.0,9,  -999.00,9,   -999.0,9,   -999.0,9,-999.0000,9,  -999.0,9, -999.0, -999.00,9,  -999.0,  -999.0, -999.00,9
31RBOACES24N_2,  AR01,     5,  1,     27,2,19980124,0926, 27.8305, -13.8117, 1518,      2.5,  18.6940,  36.6420,  36.6410,2,    232.8,2,     232.1,2,  -999.00,5,     0.59,2,     0.17,2,  -999.00,5,    2.391,2,    1.354,2,    0.171,2, -999.000,9,   -999.0,9,  -999.00,9,   2105.0,6,   2402.8,2,   7.9955,2,   381.0,2,   20.0, -999.00,9,   361.4,  -999.0, -999.00,9
31RBOACES24N_2,  AR01,     5,  1,     26,2,19980124,0926, 27.8305, -13.8117, 1518,      9.1,  18.6960,  36.6420,  36.6410,2,    232.7,2,     232.3,2,  -999.00,5,     0.59,2,     0.17,2,  -999.00,5,    2.387,2,    1.354,2,    0.170,2, -999.000,9,   -999.0,9,  -999.00,9,   -999.0,9,   -999.0,9,-999.0000,9,  -999.0,9, -999.0, -999.00,9,  -999.0,  -999.0, -999.00,9
31RBOACES24N_2,  AR01,     5,  1,     25,2,19980124,0926, 27.8305, -13.8117, 1518,     68.6,  18.2370,  36.5300,  36.5420,2,    228.2,2,     211.1,2,  -999.00,5,     3.12,2,     0.24,2,  -999.00,5, -999.000,9, -999.000,9, -999.000,9, -999.000,9,   -999.0,9,  -999.00,9,   -999.0,9,   -999.0,9,-999.0000,9,  -999.0,9, -999.0, -999.00,9,  -999.0,  -999.0, -999.00,9
31RBOACES24N_2,  AR01,     5,  1,     24,2,19980124,0926, 27.8305, -13.8117, 1518,     92.5,  17.6070,  36.4470,  36.4300,2,    193.5,2,     192.1,2,  -999.00,5,     5.95,2,     0.03,2,  -999.00,5,    2.390,2,    1.351,2,    0.137,2, -999.000,9,   -999.0,9,  -999.00,9,   -999.0,9,   -999.0,9,-999.0000,9,  -999.0,9, -999.0, -999.00,9,  -999.0,  -999.0, -999.00,9
31RBOACES24N_2,  AR01,     5,  1,     23,2,19980124,0926, 27.8305, -13.8117, 1518,    127.6,  16.4510,  36.3150,  36.3100,2,    183.3,2,     185.3,2,  -999.00,5,     8.10,2,     0.01,2,  -999.00,5, -999.000,9, -999.000,9, -999.000,9, -999.000,9,   -999.0,9,  -999.00,9,   -999.0,9,   -999.0,9,-999.0000,9,  -999.0,9, -999.0, -999.00,9,  -999.0,  -999.0, -999.00,9
31RBOACES24N_2,  AR01,     5,  1,     22,2,19980124,0926, 27.8305, -13.8117, 1518,    151.5,  15.7110,  36.2140,  36.1950,2,    181.0,2,     182.8,2,  -999.00,5,     9.46,2,     0.00,2,  -999.00,5,    2.368,2,    1.299,2,    0.044,2, -999.000,9,   -999.0,9,  -999.00,9,   -999.0,9,   -999.0,9,-999.0000,9,  -999.0,9, -999.0, -999.00,9,  -999.0,  -999.0, -999.00,9
31RBOACES24N_2,  AR01,     5,  1,     21,3,19980124,0926, 27.8305, -13.8117, 1518,    186.4,  15.1250,  36.1230,-999.0000,9,    180.1,2,    -999.0,9,  -999.00,9,  -999.00,9,  -999.00,9,  -999.00,9, -999.000,9, -999.000,9, -999.000,9, -999.000,9,   -999.0,9,  -999.00,9,   -999.0,9,   -999.0,9,-999.0000,9,  -999.0,9, -999.0, -999.00,9,  -999.0,  -999.0, -999.00,9
31RBOACES24N_2,  AR01,     5,  1,     20,2,19980124,0926, 27.8305, -13.8117, 1518,    217.7,  14.7570,  36.0610,  36.0610,2,    176.7,2,     178.1,2,  -999.00,5,    11.41,2,     0.00,2,  -999.00,5, -999.000,9, -999.000,9, -999.000,9, -999.000,9,   -999.0,9,  -999.00,9,   -999.0,9,   -999.0,9,-999.0000,9,  -999.0,9, -999.0, -999.00,9,  -999.0,  -999.0, -999.00,9
31RBOACES24N_2,  AR01,     5,  1,     19,2,19980124,0926, 27.8305, -13.8117, 1518,    245.7,  14.3040,  35.9870,  35.9930,2,    170.6,2,     172.5,2,  -999.00,5,    12.68,2,     0.00,2,  -999.00,5,    2.242,2,    1.203,2,    0.031,2, -999.000,9,   -999.0,9,  -999.00,9,   -999.0,9,   -999.0,9,-999.0000,9,  -999.0,9, -999.0, -999.00,9,  -999.0,  -999.0, -999.00,9
31RBOACES24N_2,  AR01,     5,  1,     18,2,19980124,0926, 27.8305, -13.8117, 1518,    299.7,  13.7540,  35.9090,  35.9090,2,    174.4,2,     173.4,2,  -999.00,5,    13.66,2,     0.00,2,  -999.00,5, -999.000,9, -999.000,9, -999.000,9, -999.000,9,   -999.0,9,  -999.00,9,   -999.0,9,   -999.0,9,-999.0000,9,  -999.0,9, -999.0, -999.00,9,  -999.0,  -999.0, -999.00,9
31RBOACES24N_2,  AR01,     5,  1,     17,2,19980124,0926, 27.8305, -13.8117, 1518,    397.4,  12.3220,  35.7050,  35.7050,2,    165.9,2,     162.9,2,  -999.00,5,    17.08,2,     0.00,2,  -999.00,5,    1.833,2,    0.962,2,    0.035,2, -999.000,9,   -999.0,9,  -999.00,9,   -999.0,9,   -999.0,9,-999.0000,9,  -999.0,9, -999.0, -999.00,9,  -999.0,  -999.0, -999.00,9
31RBOACES24N_2,  AR01,     5,  1,     16,2,19980124,0926, 27.8305, -13.8117, 1518,    497.6,  11.2360,  35.5540,  35.5470,2,    150.3,2,     148.2,2,  -999.00,5,    20.69,2,     0.00,2,  -999.00,5, -999.000,9, -999.000,9, -999.000,9, -999.000,9,   -999.0,9,  -999.00,9,   -999.0,9,   -999.0,9,-999.0000,9,  -999.0,9, -999.0, -999.00,9,  -999.0,  -999.0, -999.00,9
31RBOACES24N_2,  AR01,     5,  1,     15,2,19980124,0926, 27.8305, -13.8117, 1518,    598.0,  10.1060,  35.4160,  35.4140,2,    137.6,2,     136.6,2,  -999.00,5,    23.72,2,     0.00,2,  -999.00,5,    0.905,2,    0.465,2,    0.006,2, -999.000,9,   -999.0,9,  -999.00,9,   -999.0,9,   -999.0,9,-999.0000,9,  -999.0,9, -999.0, -999.00,9,  -999.0,  -999.0, -999.00,9
31RBOACES24N_2,  AR01,     5,  1,     14,2,19980124,0926, 27.8305, -13.8117, 1518,    699.0,   9.2350,  35.3330,  35.3310,2,    133.4,2,     134.1,2,  -999.00,5,    25.48,2,     0.00,2,  -999.00,5, -999.000,9, -999.000,9, -999.000,9, -999.000,9,   -999.0,9,  -999.00,9,   -999.0,9,   -999.0,9,-999.0000,9,  -999.0,9, -999.0, -999.00,9,  -999.0,  -999.0, -999.00,9
31RBOACES24N_2,  AR01,     5,  1,     13,2,19980124,0926, 27.8305, -13.8117, 1518,    799.5,   8.5280,  35.2810,  35.2790,2,    136.2,2,     136.0,2,  -999.00,5,    26.45,2,     0.00,2,  -999.00,5,    0.375,2,    0.196,2,    0.002,2, -999.000,9,   -999.0,9,  -999.00,9,   -999.0,9,   -999.0,9,-999.0000,9,  -999.0,9, -999.0, -999.00,9,  -999.0,  -999.0, -999.00,9
31RBOACES24N_2,  AR01,     5,  1,     12,2,19980124,0926, 27.8305, -13.8117, 1518,    898.1,   8.0920,  35.2680,  35.2690,2,    141.7,2,     142.7,2,  -999.00,5,    26.26,2,     0.00,2,  -999.00,5, -999.000,9, -999.000,9, -999.000,9, -999.000,9,   -999.0,9,  -999.00,9,   -999.0,9,   -999.0,9,-999.0000,9,  -999.0,9, -999.0, -999.00,9,  -999.0,  -999.0, -999.00,9
31RBOACES24N_2,  AR01,     5,  1,      7,2,19980124,0926, 27.8305, -13.8117, 1518,    995.2,   7.5020,  35.2250,  35.2260,2,    147.5,2,    -999.0,9,  -999.00,5,    26.36,2,     0.00,2,  -999.00,5, -999.000,9, -999.000,9, -999.000,9, -999.000,9,   -999.0,9,  -999.00,9,   2208.6,6,   -999.0,5,   7.6523,2,   919.6,2,   20.0, -999.00,9,   547.5,  -999.0, -999.00,9
31RBOACES24N_2,  AR01,     5,  1,      8,2,19980124,0926, 27.8305, -13.8117, 1518,    995.3,   7.5020,  35.2250,  35.2250,2,    147.5,2,    -999.0,9,  -999.00,5,    26.36,2,     0.00,2,  -999.00,5, -999.000,9, -999.000,9, -999.000,9, -999.000,9,   -999.0,9,  -999.00,9,   2206.8,6,   -999.0,9,-999.0000,9,  -999.0,9, -999.0, -999.00,9,  -999.0,  -999.0, -999.00,9
31RBOACES24N_2,  AR01,     5,  1,      6,2,19980124,0926, 27.8305, -13.8117, 1518,    995.5,   7.5030,  35.2250,  35.2250,2,    147.5,2,     147.4,2,  -999.00,5,    26.26,2,     0.00,2,  -999.00,5,    0.183,6,    0.092,6,    0.002,6, -999.000,9,   -999.0,9,  -999.00,9,   -999.0,9,   -999.0,9,-999.0000,9,  -999.0,9, -999.0, -999.00,9,  -999.0,  -999.0, -999.00,9
31RBOACES24N_2,  AR01,     5,  1,     11,2,19980124,0926, 27.8305, -13.8117, 1518,    995.6,   7.5030,  35.2250,  35.2240,2,    147.5,2,    -999.0,9,  -999.00,5,    26.65,2,     0.00,2,  -999.00,5, -999.000,9, -999.000,9, -999.000,9, -999.000,9,   -999.0,9,  -999.00,9,   2208.2,3,   -999.0,9,-999.0000,9,   913.3,2,   20.0, -999.00,9,   544.5,  -999.0, -999.00,9
31RBOACES24N_2,  AR01,     5,  1,      9,2,19980124,0926, 27.8305, -13.8117, 1518,    995.7,   7.5020,  35.2250,  35.2250,2,    147.5,2,    -999.0,9,  -999.00,5,    26.46,2,     0.00,2,  -999.00,5, -999.000,9, -999.000,9, -999.000,9, -999.000,9,   -999.0,9,  -999.00,9,   2212.4,3,   -999.0,9,-999.0000,9,   914.3,2,   20.0, -999.00,9,   544.6,  -999.0, -999.00,9
31RBOACES24N_2,  AR01,     5,  1,     10,2,19980124,0926, 27.8305, -13.8117, 1518,    995.7,   7.5020,  35.2250,  35.2250,2,    147.5,2,    -999.0,9,  -999.00,5,    26.55,2,     0.00,2,  -999.00,5, -999.000,9, -999.000,9, -999.000,9, -999.000,9,   -999.0,9,  -999.00,9,   2211.1,3,   -999.0,9,-999.0000,9,  -999.0,9, -999.0, -999.00,9,  -999.0,  -999.0, -999.00,9
31RBOACES24N_2,  AR01,     5,  1,      5,2,19980124,0926, 27.8305, -13.8117, 1518,   1098.8,   7.1160,  35.2410,  35.2400,2,    160.7,2,     160.7,2,  -999.00,5,    25.19,2,     0.00,2,  -999.00,5, -999.000,9, -999.000,9, -999.000,9, -999.000,9,   -999.0,9,  -999.00,9,   -999.0,9,   -999.0,9,-999.0000,9,  -999.0,9, -999.0, -999.00,9,  -999.0,  -999.0, -999.00,9
31RBOACES24N_2,  AR01,     5,  1,      4,2,19980124,0926, 27.8305, -13.8117, 1518,   1199.0,   6.7470,  35.2480,  35.2480,2,    171.3,2,     171.7,2,  -999.00,5,    24.41,2,     0.00,2,  -999.00,5,    0.138,2,    0.072,2,    0.000,2, -999.000,9,   -999.0,9,  -999.00,9,   -999.0,9,   -999.0,9,-999.0000,9,  -999.0,9, -999.0, -999.00,9,  -999.0,  -999.0, -999.00,9
31RBOACES24N_2,  AR01,     5,  1,      3,2,19980124,0926, 27.8305, -13.8117, 1518,   1284.2,   6.7260,  35.2950,  35.2950,2,    181.4,2,     181.1,2,  -999.00,5,    23.33,2,     0.00,2,  -999.00,5, -999.000,9, -999.000,9, -999.000,9, -999.000,9,   -999.0,9,  -999.00,9,   -999.0,9,   -999.0,9,-999.0000,9,  -999.0,9, -999.0, -999.00,9,  -999.0,  -999.0, -999.00,9
31RBOACES24N_2,  AR01,     5,  1,      2,2,19980124,0926, 27.8305, -13.8117, 1518,   1395.0,   5.8610,  35.2230,  35.2250,2,    193.8,2,     193.7,2,  -999.00,5,    23.04,2,     0.01,2,  -999.00,5,    0.090,2,    0.048,2,    0.011,2, -999.000,9,   -999.0,9,  -999.00,9,   -999.0,9,   -999.0,9,-999.0000,9,  -999.0,9, -999.0, -999.00,9,  -999.0,  -999.0, -999.00,9
31RBOACES24N_2,  AR01,     5,  1,      1,2,19980124,0926, 27.8305, -13.8117, 1518,   1507.4,   5.3480,  35.1790,  35.1880,2,    203.6,2,    -999.0,9,  -999.00,5,    22.55,2,     0.00,2,  -999.00,5,    0.070,2,    0.043,2,   -0.001,2, -999.000,9,   -999.0,9,  -999.00,9,   -999.0,9,   -999.0,9,-999.0000,9,  -999.0,9, -999.0, -999.00,9,  -999.0,  -999.0, -999.00,9