BOTTLE,20220820CCHSIOAMB
EXPOCODE,SECT_ID,STNNBR,CASTNO,BTLNBR,BTLNBR_FLAG_W,DATE,TIME,LATITUDE,LONGITUDE,DEPTH,CTDPRS,CTDTMP,CTDSAL,SALNTY,SALNTY_FLAG_W,CTDOXY,CTDOXY_FLAG_W,OXYGEN,OXYGEN_FLAG_W,SILCAT,SILCAT_FLAG_W,NITRAT,NITRAT_FLAG_W,NITRIT,NITRIT_FLAG_W,PHSPHT,PHSPHT_FLAG_W,CFC-11,CFC-11_FLAG_W,CFC-12,CFC-12_FLAG_W,CFC113,CFC113_FLAG_W,CCL4,CCL4_FLAG_W,DELC14,DELC14_FLAG_W,DELC13,DELC13_FLAG_W,TCARBN,TCARBN_FLAG_W,ALKALI,ALKALI_FLAG_W,PH,PH_FLAG_W,FCO2,FCO2_FLAG_W,FCO2TMP,TON,TON_FLAG_W,FCO2IN,C14ERR,TOC,TOC_FLAG_W
,,,,,,,,,,,DBAR,ITS-90,PSS-78,PSS-78,,UMOL/KG,,UMOL/KG,,UMOL/KG,,UMOL/KG,,UMOL/KG,,UMOL/KG,,PMOL/KG,,PMOL/KG,,PMOL/KG,,PMOL/KG,,/MILLE,,/MILLE,,UMOL/KG,,UMOL/KG,,,,UATM,,DEG C,UMOL/KG,,UATM,/MILLE,UMOL/KG,
31RBOACES24N_2,  AR01,    18,  1,     36,2,19980127,0330, 25.4270, -20.9472, 4468,      3.9,  21.9120,  37.2470,  37.2500,2,    223.6,2,     220.4,2,     0.30,3,     0.00,2,     0.00,2,     0.00,2, -999.000,9, -999.000,9, -999.000,9, -999.000,9,   -999.0,9,  -999.00,9,   2100.1,6,   2441.2,2,   8.0476,2,   328.2,2,   20.0, -999.00,9,   354.2,  -999.0,   68.13,2
31RBOACES24N_2,  AR01,    18,  1,     35,2,19980127,0330, 25.4270, -20.9472, 4468,     42.8,  21.9300,  37.2500,  37.2490,2,    216.2,2,     220.2,2,     0.00,3,     0.00,2,     0.00,2,     0.00,2, -999.000,9, -999.000,9, -999.000,9, -999.000,9,   -999.0,9,  -999.00,9,   2103.1,2,   -999.0,9,   8.0482,2,   329.3,2,   20.0, -999.00,9,   355.6,  -999.0,   68.23,2
31RBOACES24N_2,  AR01,    18,  1,     34,2,19980127,0330, 25.4270, -20.9472, 4468,     89.7,  21.9240,  37.2430,  37.2360,2,    216.3,2,     220.3,2,     0.00,3,     0.10,2,     0.01,2,     0.01,2, -999.000,9, -999.000,9, -999.000,9, -999.000,9,   -999.0,9,  -999.00,9,   2101.6,2,   2434.9,2,   8.0444,2,   331.9,2,   20.0, -999.00,9,   358.2,  -999.0,   69.40,2
31RBOACES24N_2,  AR01,    18,  1,     33,2,19980127,0330, 25.4270, -20.9472, 4468,    123.0,  19.7880,  36.8920,  36.8960,2,    213.6,2,     217.7,2,     0.00,3,     0.68,2,     0.07,2,     0.04,2, -999.000,9, -999.000,9, -999.000,9, -999.000,9,   -999.0,9,  -999.00,9,   2109.3,2,   2416.3,2,   8.0026,2,   372.8,2,   20.0, -999.00,9,   369.7,  -999.0,   60.02,2
31RBOACES24N_2,  AR01,    18,  1,     32,2,19980127,0330, 25.4270, -20.9472, 4468,    138.5,  19.3100,  36.8480,  36.8350,2,    204.2,2,     209.8,2,     0.00,3,     1.46,2,     0.02,2,     0.08,2, -999.000,9, -999.000,9, -999.000,9, -999.000,9,   -999.0,9,  -999.00,9,   2114.2,2,   -999.0,9,   8.0025,2,   388.3,2,   20.0, -999.00,9,   377.8,  -999.0,   59.92,2
31RBOACES24N_2,  AR01,    18,  1,     31,2,19980127,0330, 25.4270, -20.9472, 4468,    172.9,  18.1480,  36.6480,  36.6430,2,    194.7,2,     202.7,2,     0.00,3,     3.41,2,     0.01,2,     0.18,2, -999.000,9, -999.000,9, -999.000,9, -999.000,9,   -999.0,9,  -999.00,9,   2118.8,2,   2397.8,2,   7.9640,2,   413.1,2,   20.0, -999.00,9,   383.3,  -999.0,   60.50,2
31RBOACES24N_2,  AR01,    18,  1,     30,2,19980127,0330, 25.4270, -20.9472, 4468,    206.7,  16.7860,  36.4020,  36.4050,2,    196.7,2,     200.8,2,     0.40,3,     5.56,2,     0.01,2,     0.31,2, -999.000,9, -999.000,9, -999.000,9, -999.000,9,   -999.0,9,  -999.00,9,   2119.6,2,   2385.3,2,   7.9391,2,   443.7,2,   20.0, -999.00,9,   389.6,  -999.0,   60.88,2
31RBOACES24N_2,  AR01,    18,  1,     29,2,19980127,0330, 25.4270, -20.9472, 4468,    235.6,  16.5510,  36.3590,  36.3590,2,    208.4,2,     200.3,2,     0.50,3,     5.95,2,     0.00,2,     0.34,2, -999.000,9, -999.000,9, -999.000,9, -999.000,9,   -999.0,9,  -999.00,9,   2120.6,2,   -999.0,9,   7.9310,2,  -999.0,9, -999.0, -999.00,9,  -999.0,  -999.0,   57.56,2
31RBOACES24N_2,  AR01,    18,  1,     28,2,19980127,0330, 25.4270, -20.9472, 4468,    272.5,  15.6500,  36.2020,  36.1900,2,    200.8,2,     199.3,2,     1.00,3,     7.71,2,     0.01,2,     0.44,2, -999.000,9, -999.000,9, -999.000,9, -999.000,9,   -999.0,9,  -999.00,9,   2125.0,2,   2372.2,2,   7.9080,2,   469.9,2,   20.0, -999.00,9,   393.6,  -999.0, -999.00,9
31RBOACES24N_2,  AR01,    18,  1,     27,2,19980127,0330, 25.4270, -20.9472, 4468,    320.6,  14.7230,  36.0510,  36.0560,2,    196.6,2,     195.5,2,     1.50,3,     9.37,2,     0.00,2,     0.55,2, -999.000,9, -999.000,9, -999.000,9, -999.000,9,   -999.0,9,  -999.00,9,   2131.8,2,   2368.9,2,   7.8838,2,  -999.0,9, -999.0, -999.00,9,  -999.0,  -999.0,   49.86,2
31RBOACES24N_2,  AR01,    18,  1,     26,2,19980127,0330, 25.4270, -20.9472, 4468,    354.9,  13.9940,  35.9400,  35.9510,2,    195.4,2,     191.8,2,     2.00,3,    10.73,2,     0.00,2,     0.64,2, -999.000,9, -999.000,9, -999.000,9, -999.000,9,   -999.0,9,  -999.00,9,   2140.1,2,   2356.5,2,   7.8623,2,   530.2,2,   20.0, -999.00,9,   414.5,  -999.0, -999.00,9
31RBOACES24N_2,  AR01,    18,  1,     25,2,19980127,0330, 25.4270, -20.9472, 4468,    396.9,  13.2320,  35.8210,  35.8270,2,    190.3,2,     183.2,2,     3.10,3,    12.88,2,     0.01,2,     0.78,2, -999.000,9, -999.000,9, -999.000,9, -999.000,9,   -999.0,9,  -999.00,9,   2157.1,2,   2350.5,2,   7.8271,2,  -999.0,9, -999.0, -999.00,9,  -999.0,  -999.0,   47.61,2
31RBOACES24N_2,  AR01,    18,  1,     24,2,19980127,0330, 25.4270, -20.9472, 4468,    438.9,  12.5800,  35.7290,  35.7300,2,    182.5,2,     179.6,2,     3.80,3,    14.15,2,     0.00,2,     0.87,2, -999.000,9, -999.000,9, -999.000,9, -999.000,9,   -999.0,9,  -999.00,9,   2154.1,2,   2348.5,2,   7.8065,2,   606.5,2,   20.0, -999.00,9,   447.1,  -999.0, -999.00,9
31RBOACES24N_2,  AR01,    18,  1,     23,2,19980127,0330, 25.4270, -20.9472, 4468,    500.3,  11.7250,  35.6090,  35.6130,2,    175.9,2,     166.2,2,     5.50,3,    16.98,2,     0.00,2,     1.06,2, -999.000,9, -999.000,9, -999.000,9, -999.000,9,   -999.0,9,  -999.00,9,   2166.4,2,   2336.9,2,   7.7680,2,  -999.0,9, -999.0, -999.00,9,  -999.0,  -999.0,   46.93,2
31RBOACES24N_2,  AR01,    18,  1,     22,2,19980127,0330, 25.4270, -20.9472, 4468,    550.5,  11.1420,  35.5300,  35.5270,2,    166.7,2,     152.4,2,     7.20,2,    19.43,2,     0.00,2,     1.22,2, -999.000,9, -999.000,9, -999.000,9, -999.000,9,   -999.0,9,  -999.00,9,   2176.8,2,   -999.0,9,   7.7317,2,   739.6,2,   20.0, -999.00,9,   514.4,  -999.0, -999.00,9
31RBOACES24N_2,  AR01,    18,  1,     21,2,19980127,0330, 25.4270, -20.9472, 4468,    647.7,   9.7920,  35.3600,  35.3610,2,    131.3,2,     127.7,2,    11.40,2,    23.92,2,     0.01,2,     1.56,2, -999.000,9, -999.000,9, -999.000,9, -999.000,9,   -999.0,9,  -999.00,9,   2200.1,2,   -999.0,5,   7.6621,2,   884.4,2,   20.0, -999.00,9,   582.3,  -999.0,   44.88,2
31RBOACES24N_2,  AR01,    18,  1,     20,2,19980127,0330, 25.4270, -20.9472, 4468,    745.2,   8.7330,  35.2460,  35.2490,2,    120.6,2,     121.4,2,    14.50,2,    25.97,2,     0.00,2,     1.74,2, -999.000,9, -999.000,9, -999.000,9, -999.000,9,   -999.0,9,  -999.00,9,   2208.4,2,   2327.0,2,   7.6333,2,   964.5,2,   20.0, -999.00,9,   608.0,  -999.0, -999.00,9
31RBOACES24N_2,  AR01,    18,  1,     19,2,19980127,0330, 25.4270, -20.9472, 4468,    844.5,   7.8650,  35.1770,  35.1760,2,    128.5,2,     130.1,2,    16.70,2,    28.02,2,     0.00,2,     1.80,2, -999.000,9, -999.000,9, -999.000,9, -999.000,9,   -999.0,9,  -999.00,9,   2220.3,3,   -999.0,9,   7.6284,2,   978.0,2,   20.0, -999.00,9,   593.4,  -999.0, -999.00,9
31RBOACES24N_2,  AR01,    18,  1,     18,2,19980127,0330, 25.4270, -20.9472, 4468,    941.2,   7.3940,  35.1670,  35.1670,2,    140.0,2,     141.0,2,    17.50,2,    27.44,2,     0.00,2,     1.78,2, -999.000,9, -999.000,9, -999.000,9, -999.000,9,   -999.0,9,  -999.00,9,   2211.3,6,   2327.5,2,   7.6389,2,   953.5,2,   20.0, -999.00,9,   565.9,  -999.0, -999.00,9
31RBOACES24N_2,  AR01,    18,  1,     17,2,19980127,0330, 25.4270, -20.9472, 4468,   1121.1,   7.0170,  35.2610,  35.2600,2,    163.5,2,     165.3,2,    17.20,2,    24.70,2,     0.00,2,     1.60,2, -999.000,9, -999.000,9, -999.000,9, -999.000,9,   -999.0,9,  -999.00,9,   2200.0,2,   2335.1,2,   7.6769,2,   860.4,2,   20.0, -999.00,9,   499.8,  -999.0,   42.91,2
31RBOACES24N_2,  AR01,    18,  1,     16,2,19980127,0330, 25.4270, -20.9472, 4468,   1229.4,   6.6320,  35.2620,  35.2650,2,    174.3,2,     176.3,2,    17.40,2,    23.82,2,     0.00,2,     1.55,2, -999.000,9, -999.000,9, -999.000,9, -999.000,9,   -999.0,9,  -999.00,9,   2200.7,2,   2337.2,2,   7.6847,2,   827.3,6,   20.0, -999.00,9,   471.5,  -999.0, -999.00,9
31RBOACES24N_2,  AR01,    18,  1,     15,2,19980127,0330, 25.4270, -20.9472, 4468,   1445.3,   5.7230,  35.2230,  35.2210,2,    196.0,2,     198.6,2,    19.30,2,    22.46,2,     0.00,2,     1.47,2, -999.000,9, -999.000,9, -999.000,9, -999.000,9,   -999.0,9,  -999.00,9,   2194.9,2,   2335.6,2,   7.6985,2,   790.0,2,   20.0, -999.00,9,   430.7,  -999.0,   42.91,2
31RBOACES24N_2,  AR01,    18,  1,     14,2,19980127,0330, 25.4270, -20.9472, 4468,   1647.9,   4.9100,  35.1460,  35.1480,2,    209.7,2,     211.4,2,    21.60,2,    21.97,2,     0.00,2,     1.46,2, -999.000,9, -999.000,9, -999.000,9, -999.000,9,   -999.0,9,  -999.00,9,   2190.8,2,   2334.8,2,   7.7095,2,  -999.0,9, -999.0, -999.00,9,  -999.0,  -999.0, -999.00,9
31RBOACES24N_2,  AR01,    18,  1,     13,2,19980127,0330, 25.4270, -20.9472, 4468,   1849.1,   4.3420,  35.0870,  35.0860,2,    219.2,2,     220.5,2,    23.50,2,    21.87,2,     0.00,2,     1.46,2, -999.000,9, -999.000,9, -999.000,9, -999.000,9,   -999.0,9,  -999.00,9,   2189.7,2,   2332.0,2,   7.7116,2,   778.0,2,   20.0, -999.00,9,   397.1,  -999.0, -999.00,9
31RBOACES24N_2,  AR01,    18,  1,     12,2,19980127,0330, 25.4270, -20.9472, 4468,   2051.3,   3.8810,  35.0430,  35.0440,2,    225.4,2,     227.5,2,    25.70,2,    21.78,2,     0.00,2,     1.46,2, -999.000,9, -999.000,9, -999.000,9, -999.000,9,   -999.0,9,  -999.00,9,   2189.9,2,   2339.2,2,   7.7143,2,  -999.0,9, -999.0, -999.00,9,  -999.0,  -999.0, -999.00,9
31RBOACES24N_2,  AR01,    18,  1,     11,2,19980127,0330, 25.4270, -20.9472, 4468,   2250.3,   3.6140,  35.0210,  35.0210,2,    230.8,2,     231.8,2,    27.30,2,    21.39,2,     0.00,2,     1.45,2, -999.000,9, -999.000,9, -999.000,9, -999.000,9,   -999.0,9,  -999.00,9,   2190.1,2,   2337.4,2,   7.7158,2,   771.1,2,   20.0, -999.00,9,   379.6,  -999.0,   42.03,2
31RBOACES24N_2,  AR01,    18,  1,     10,2,19980127,0330, 25.4270, -20.9472, 4468,   2448.3,   3.3910,  34.9990,  34.9990,2,    234.8,2,     234.7,2,    29.20,2,    21.39,2,     0.00,2,     1.46,2, -999.000,9, -999.000,9, -999.000,9, -999.000,9,   -999.0,9,  -999.00,9,   2190.6,2,   2338.1,2,   7.7209,2,  -999.0,9, -999.0, -999.00,9,  -999.0,  -999.0, -999.00,9
31RBOACES24N_2,  AR01,    18,  1,      9,2,19980127,0330, 25.4270, -20.9472, 4468,   2647.8,   3.1750,  34.9780,  34.9780,2,    239.1,2,     238.3,2,    31.10,2,    21.29,2,     0.00,2,     1.45,2, -999.000,9, -999.000,9, -999.000,9, -999.000,9,   -999.0,9,  -999.00,9,   2192.5,2,   2345.6,2,   7.7221,2,   758.2,2,   20.0, -999.00,9,   364.8,  -999.0,   41.64,2
31RBOACES24N_2,  AR01,    18,  1,      8,2,19980127,0330, 25.4270, -20.9472, 4468,   2848.3,   2.9660,  34.9580,  34.9590,2,    241.5,2,     241.6,2,    33.10,2,    21.19,2,     0.00,2,     1.45,2, -999.000,9, -999.000,9, -999.000,9, -999.000,9,   -999.0,9,  -999.00,9,   2193.7,2,   2343.4,2,   7.7239,2,  -999.0,9, -999.0, -999.00,9,  -999.0,  -999.0, -999.00,9
31RBOACES24N_2,  AR01,    18,  1,      7,2,19980127,0330, 25.4270, -20.9472, 4468,   3022.4,   2.7970,  34.9420,  34.9440,2,    242.2,2,     241.7,2,    36.20,2,    21.48,2,     0.00,2,     1.47,2, -999.000,9, -999.000,9, -999.000,9, -999.000,9,   -999.0,9,  -999.00,9,   2197.2,2,   2344.4,2,   7.7242,2,   757.7,2,   20.0, -999.00,9,   357.5,  -999.0,   42.32,2
31RBOACES24N_2,  AR01,    18,  1,      6,2,19980127,0330, 25.4270, -20.9472, 4468,   3272.0,   2.6460,  34.9270,  34.9290,2,    243.1,2,     242.9,2,    39.00,2,    21.78,2,     0.00,2,     1.48,2, -999.000,9, -999.000,9, -999.000,9, -999.000,9,   -999.0,9,  -999.00,9,   2200.7,2,   2353.4,2,   7.7231,2,  -999.0,9, -999.0, -999.00,9,  -999.0,  -999.0, -999.00,9
31RBOACES24N_2,  AR01,    18,  1,      5,2,19980127,0330, 25.4270, -20.9472, 4468,   3526.3,   2.5500,  34.9170,  34.9170,2,    245.8,2,     244.9,2,    40.90,2,    21.88,2,     0.00,2,     1.49,2, -999.000,9, -999.000,9, -999.000,9, -999.000,9,   -999.0,9,  -999.00,9,   2204.6,2,   2351.6,2,   7.7269,2,   756.7,2,   20.0, -999.00,9,   352.2,  -999.0,   41.83,2
31RBOACES24N_2,  AR01,    18,  1,      4,2,19980127,0330, 25.4270, -20.9472, 4468,   3758.1,   2.4720,  34.9070,  34.9080,2,    247.4,2,     246.3,2,    42.90,2,    22.07,2,     0.00,2,     1.50,2, -999.000,9, -999.000,9, -999.000,9, -999.000,9,   -999.0,9,  -999.00,9,   2202.5,2,   2351.0,2,   7.7235,2,  -999.0,9, -999.0, -999.00,9,  -999.0,  -999.0,   42.03,2
31RBOACES24N_2,  AR01,    18,  1,      3,2,19980127,0330, 25.4270, -20.9472, 4468,   4026.8,   2.4200,  34.8990,  34.9000,2,    248.0,2,     245.6,2,    45.30,2,    22.27,2,     0.00,2,     1.52,2, -999.000,9, -999.000,9, -999.000,9, -999.000,9,   -999.0,9,  -999.00,9,   2205.2,2,   2355.9,2,   7.7253,2,   754.5,3,   20.0, -999.00,9,   348.6,  -999.0,   41.93,2
31RBOACES24N_2,  AR01,    18,  1,      2,2,19980127,0330, 25.4270, -20.9472, 4468,   4244.2,   2.3930,  34.8940,  34.8950,2,    248.0,2,     246.4,2,    46.30,2,    22.36,2,     0.00,2,     1.52,2, -999.000,9, -999.000,9, -999.000,9, -999.000,9,   -999.0,9,  -999.00,9,   2203.1,2,   2352.9,2,   7.7285,2,  -999.0,9, -999.0, -999.00,9,  -999.0,  -999.0,   42.42,2
31RBOACES24N_2,  AR01,    18,  1,      1,2,19980127,0330, 25.4270, -20.9472, 4468,   4527.4,   2.4010,  34.8910,  34.8920,2,    249.2,2,     248.6,2,    46.90,6,    22.36,6,     0.00,6,     1.52,6, -999.000,9, -999.000,9, -999.000,9, -999.000,9,   -999.0,9,  -999.00,9,   2203.8,2,   -999.0,9,   7.7272,2,   761.2,2,   20.0, -999.00,9,   351.4,  -999.0,   42.42,2