BOTTLE,20220820CCHSIOAMB
EXPOCODE,SECT_ID,STNNBR,CASTNO,BTLNBR,BTLNBR_FLAG_W,DATE,TIME,LATITUDE,LONGITUDE,DEPTH,CTDPRS,CTDTMP,CTDSAL,SALNTY,SALNTY_FLAG_W,CTDOXY,CTDOXY_FLAG_W,OXYGEN,OXYGEN_FLAG_W,SILCAT,SILCAT_FLAG_W,NITRAT,NITRAT_FLAG_W,NITRIT,NITRIT_FLAG_W,PHSPHT,PHSPHT_FLAG_W,CFC-11,CFC-11_FLAG_W,CFC-12,CFC-12_FLAG_W,CFC113,CFC113_FLAG_W,CCL4,CCL4_FLAG_W,DELC14,DELC14_FLAG_W,DELC13,DELC13_FLAG_W,TCARBN,TCARBN_FLAG_W,ALKALI,ALKALI_FLAG_W,PH,PH_FLAG_W,FCO2,FCO2_FLAG_W,FCO2TMP,TON,TON_FLAG_W,FCO2IN,C14ERR,TOC,TOC_FLAG_W
,,,,,,,,,,,DBAR,ITS-90,PSS-78,PSS-78,,UMOL/KG,,UMOL/KG,,UMOL/KG,,UMOL/KG,,UMOL/KG,,UMOL/KG,,PMOL/KG,,PMOL/KG,,PMOL/KG,,PMOL/KG,,/MILLE,,/MILLE,,UMOL/KG,,UMOL/KG,,,,UATM,,DEG C,UMOL/KG,,UATM,/MILLE,UMOL/KG,
31RBOACES24N_2,  AR01,    96,  1,     36,2,19980218,0111, 26.5000, -71.7335, 5389,      5.3,  23.2650,  36.7680,  36.7660,2,    214.5,2,     214.5,2,     0.60,2,     0.00,2,     0.00,2,     0.00,2,    1.944,2,    1.123,2,    0.154,2,    1.983,2,   -999.0,9,     1.29,2,   2040.5,2,   -999.0,5,   8.1022,2,   280.7,2,   20.0, -999.00,9,   319.5,  -999.0, -999.00,9
31RBOACES24N_2,  AR01,    96,  1,     35,2,19980218,0111, 26.5000, -71.7335, 5389,     40.3,  23.2310,  36.7650,  36.7670,2,    214.1,2,     214.0,2,     0.60,2,     0.00,2,     0.00,2,     0.00,2, -999.000,9, -999.000,9, -999.000,9, -999.000,9,   -999.0,9,  -999.00,9,   2040.9,2,   2404.4,2,   8.0981,2,  -999.0,9, -999.0, -999.00,9,  -999.0,  -999.0, -999.00,9
31RBOACES24N_2,  AR01,    96,  1,     34,2,19980218,0111, 26.5000, -71.7335, 5389,     91.5,  23.1450,  36.7600,  36.7590,2,    214.0,2,     213.7,2,     0.60,2,     0.00,2,     0.01,2,     0.00,2,    1.954,2,    1.129,2,    0.157,2, -999.000,9,   -999.0,9,  -999.00,9,   2043.1,2,   -999.0,5,   8.0671,2,   279.6,2,   20.0, -999.00,9,   316.8,  -999.0, -999.00,9
31RBOACES24N_2,  AR01,    96,  1,     33,2,19980218,0111, 26.5000, -71.7335, 5389,    118.8,  23.1000,  36.7550,  36.7560,2,    214.3,2,     213.9,2,     0.60,2,     0.00,2,     0.00,2,     0.00,2, -999.000,9, -999.000,9, -999.000,9, -999.000,9,   -999.0,9,  -999.00,9,   -999.0,9,   -999.0,9,-999.0000,9,  -999.0,9, -999.0, -999.00,9,  -999.0,  -999.0, -999.00,9
31RBOACES24N_2,  AR01,    96,  1,     32,2,19980218,0111, 26.5000, -71.7335, 5389,    162.1,  21.5410,  36.8620,  36.8610,2,    205.9,2,     202.9,2,     0.50,2,     0.49,2,     0.04,2,     0.01,2,    2.144,2,    1.213,2,    0.118,2, -999.000,9,   -999.0,9,  -999.00,9,   2084.8,2,   2404.5,2,   8.0284,2,  -999.0,9, -999.0, -999.00,9,  -999.0,  -999.0, -999.00,9
31RBOACES24N_2,  AR01,    96,  1,     31,2,19980218,0111, 26.5000, -71.7335, 5389,    201.2,  20.0580,  36.7710,  36.7700,2,    197.3,2,     198.0,2,     0.60,2,     1.27,2,     0.02,2,     0.03,2,    2.254,2,    1.264,2,    0.068,2, -999.000,9,   -999.0,9,  -999.00,9,   2095.9,2,   -999.0,5,   8.0146,2,   361.4,2,   20.0, -999.00,9,   362.1,  -999.0, -999.00,9
31RBOACES24N_2,  AR01,    96,  1,     30,2,19980218,0111, 26.5000, -71.7335, 5389,    222.1,  19.5410,  36.7120,  36.7090,2,    198.0,2,     198.2,2,     0.70,2,     1.76,2,     0.01,2,     0.04,2, -999.000,9, -999.000,9, -999.000,9, -999.000,9,   -999.0,9,  -999.00,9,   -999.0,9,   -999.0,9,-999.0000,9,  -999.0,9, -999.0, -999.00,9,  -999.0,  -999.0, -999.00,9
31RBOACES24N_2,  AR01,    96,  1,     29,2,19980218,0111, 26.5000, -71.7335, 5389,    251.4,  18.9530,  36.6390,  36.6360,2,    197.1,2,     200.0,2,     0.80,2,     2.63,2,     0.01,2,     0.08,2, -999.000,9, -999.000,9, -999.000,9, -999.000,9,   -999.0,9,  -999.00,9,   -999.0,9,   -999.0,9,-999.0000,9,  -999.0,9, -999.0, -999.00,9,  -999.0,  -999.0, -999.00,9
31RBOACES24N_2,  AR01,    96,  1,     28,2,19980218,0111, 26.5000, -71.7335, 5389,    272.7,  18.6810,  36.6090,  36.6080,2,    198.0,2,     201.8,2,     0.90,2,     2.93,2,     0.01,2,     0.11,2,    2.319,6,    1.288,6,    0.037,6, -999.000,9,   -999.0,9,  -999.00,9,   2096.4,2,   -999.0,5,   8.0013,2,   374.3,2,   20.0, -999.00,9,   354.9,  -999.0, -999.00,9
31RBOACES24N_2,  AR01,    96,  1,     27,2,19980218,0111, 26.5000, -71.7335, 5389,    300.2,  18.4700,  36.5860,  36.5840,2,    200.4,2,     202.7,2,     0.90,2,     3.32,2,     0.01,2,     0.13,2, -999.000,9, -999.000,9, -999.000,9, -999.000,9,   -999.0,9,  -999.00,9,   -999.0,9,   -999.0,9,-999.0000,9,  -999.0,9, -999.0, -999.00,9,  -999.0,  -999.0, -999.00,9
31RBOACES24N_2,  AR01,    96,  1,     26,2,19980218,0111, 26.5000, -71.7335, 5389,    350.3,  18.2870,  36.5730,  36.5720,2,    202.1,2,     196.6,2,     1.20,2,     4.29,2,     0.01,2,     0.19,2,    2.303,2,    1.256,2,    0.018,2, -999.000,9,   -999.0,9,  -999.00,9,   2106.1,2,   2385.3,2,   7.9656,2,   393.5,2,   20.0, -999.00,9,   367.2,  -999.0, -999.00,9
31RBOACES24N_2,  AR01,    96,  1,     25,2,19980218,0111, 26.5000, -71.7335, 5389,    400.3,  17.9310,  36.5120,  36.5110,2,    203.8,2,     200.9,2,     1.40,2,     4.68,2,     0.01,2,     0.22,2, -999.000,9, -999.000,9, -999.000,9, -999.000,9,   -999.0,9,  -999.00,9,   -999.0,9,   -999.0,9,-999.0000,9,  -999.0,9, -999.0, -999.00,9,  -999.0,  -999.0, -999.00,9
31RBOACES24N_2,  AR01,    96,  1,     24,2,19980218,0111, 26.5000, -71.7335, 5389,    442.1,  17.6940,  36.4690,  36.4690,2,    202.8,2,     199.8,2,     1.60,2,     5.17,2,     0.01,2,     0.25,2,    2.240,2,    1.215,2,    0.041,2, -999.000,9,   -999.0,9,  -999.00,9,   2105.0,2,   2382.4,2,   7.9687,2,   404.3,2,   20.0, -999.00,9,   368.3,  -999.0, -999.00,9
31RBOACES24N_2,  AR01,    96,  1,     23,2,19980218,0111, 26.5000, -71.7335, 5389,    550.2,  15.8470,  36.1580,  36.1770,2,    188.0,2,     181.7,2,     2.90,2,     9.46,2,     0.00,2,     0.52,2,    2.000,2,    1.049,2,    0.033,2, -999.000,9,   -999.0,9,  -999.00,9,   2129.2,2,   2367.5,2,   7.9023,2,  -999.0,9, -999.0, -999.00,9,  -999.0,  -999.0, -999.00,9
31RBOACES24N_2,  AR01,    96,  1,     22,2,19980218,0111, 26.5000, -71.7335, 5389,    649.3,  13.9400,  35.8460,  35.8530,2,    177.2,2,     173.8,2,     5.10,2,    13.57,2,     0.01,2,     0.80,2, -999.000,9, -999.000,9, -999.000,9, -999.000,9,   -999.0,9,  -999.00,9,   -999.0,9,   -999.0,9,-999.0000,9,  -999.0,9, -999.0, -999.00,9,  -999.0,  -999.0, -999.00,9
31RBOACES24N_2,  AR01,    96,  1,     21,2,19980218,0111, 26.5000, -71.7335, 5389,    750.5,  11.9390,  35.5730,  35.5810,2,    164.3,2,     161.3,2,     7.90,2,    17.86,2,     0.01,2,     1.08,2,    1.064,2,    0.547,2,    0.010,2, -999.000,9,   -999.0,9,  -999.00,9,   2162.6,2,   2338.3,2,   7.7793,2,   645.6,2,   20.0, -999.00,9,   463.1,  -999.0, -999.00,9
31RBOACES24N_2,  AR01,    96,  1,     20,2,19980218,0111, 26.5000, -71.7335, 5389,    850.6,   9.9060,  35.3090,  35.2990,2,    152.2,2,     151.0,2,    12.30,2,    22.55,2,     0.01,2,     1.43,2,    0.538,2,    0.281,2,    0.007,2, -999.000,9,   -999.0,9,  -999.00,9,   2182.4,2,   2325.8,2,   7.7104,2,   783.0,2,   20.0, -999.00,9,   516.3,  -999.0, -999.00,9
31RBOACES24N_2,  AR01,    96,  1,     19,2,19980218,0111, 26.5000, -71.7335, 5389,    950.4,   8.2960,  35.1380,  35.1400,2,    154.8,2,     153.2,2,    15.30,2,    24.61,2,     0.01,2,     1.60,2,    0.333,2,    0.173,2,    0.009,2, -999.000,9,   -999.0,9,  -999.00,9,   2192.5,6,   2320.8,2,-999.0000,9,   850.9,2,   20.0, -999.00,9,   523.8,  -999.0, -999.00,9
31RBOACES24N_2,  AR01,    96,  1,     18,2,19980218,0111, 26.5000, -71.7335, 5389,   1049.2,   6.9640,  35.0660,  35.0640,2,    169.3,2,     170.5,2,    16.60,2,    24.41,2,     0.01,2,     1.61,2,    0.284,2,    0.147,2,    0.009,2, -999.000,9,   -999.0,9,  -999.00,9,   -999.0,9,   -999.0,9,   7.6721,2,  -999.0,9, -999.0, -999.00,9,  -999.0,  -999.0, -999.00,9
31RBOACES24N_2,  AR01,    96,  1,     17,2,19980218,0111, 26.5000, -71.7335, 5389,   1251.3,   5.3410,  35.0720,  35.0710,2,    228.0,2,     229.4,2,    13.20,2,    19.63,2,     0.01,2,     1.29,2,    0.582,2,    0.291,2,    0.014,2, -999.000,9,   -999.0,9,  -999.00,9,   2171.1,2,   2318.3,2,   7.7166,2,  -999.0,9, -999.0, -999.00,9,  -999.0,  -999.0, -999.00,9
31RBOACES24N_2,  AR01,    96,  1,     16,2,19980218,0111, 26.5000, -71.7335, 5389,   1450.6,   4.6020,  35.0310,  35.0310,2,    254.8,2,     252.5,2,    12.20,2,    18.26,2,     0.00,2,     1.21,2,    0.897,2,    0.439,2,    0.034,2, -999.000,9,   -999.0,9,  -999.00,9,   2164.5,2,   2314.5,2,   7.7192,2,   747.0,2,   20.0, -999.00,9,   386.6,  -999.0, -999.00,9
31RBOACES24N_2,  AR01,    96,  1,     15,2,19980218,0111, 26.5000, -71.7335, 5389,   1651.1,   4.0800,  34.9870,  34.9880,2,    264.0,2,     264.2,2,    12.40,2,    17.77,2,     0.01,2,     1.18,2,    0.935,2,    0.457,2,    0.042,2, -999.000,9,   -999.0,9,  -999.00,9,   -999.0,9,   -999.0,9,-999.0000,9,  -999.0,9, -999.0, -999.00,9,  -999.0,  -999.0, -999.00,9
31RBOACES24N_2,  AR01,    96,  1,     14,2,19980218,0111, 26.5000, -71.7335, 5389,   1850.3,   3.8800,  34.9860,  34.9870,2,    266.9,2,     266.0,2,    13.70,2,    17.77,2,     0.00,2,     1.18,2,    0.616,2,    0.305,2,    0.023,2, -999.000,9,   -999.0,9,  -999.00,9,   2161.0,2,   2312.6,2,   7.7369,2,   724.8,2,   20.0, -999.00,9,   362.0,  -999.0, -999.00,9
31RBOACES24N_2,  AR01,    96,  1,     13,2,19980218,0111, 26.5000, -71.7335, 5389,   2020.8,   3.7360,  34.9910,  34.9920,2,    263.9,2,     264.0,2,    15.50,2,    17.97,2,     0.01,2,     1.20,2, -999.000,9, -999.000,9, -999.000,9, -999.000,9,   -999.0,9,  -999.00,9,   -999.0,9,   -999.0,9,-999.0000,9,  -999.0,9, -999.0, -999.00,9,  -999.0,  -999.0, -999.00,9
31RBOACES24N_2,  AR01,    96,  1,     12,2,19980218,0111, 26.5000, -71.7335, 5389,   2201.6,   3.5320,  34.9820,  34.9820,2,    265.6,2,     264.6,2,    17.30,2,    18.07,2,     0.01,2,     1.21,2,    0.200,2,    0.105,2,    0.024,2, -999.000,9,   -999.0,9,  -999.00,9,   2163.5,2,   2318.1,2,   7.7378,2,   716.2,2,   20.0, -999.00,9,   351.2,  -999.0, -999.00,9
31RBOACES24N_2,  AR01,    96,  1,     11,2,19980218,0111, 26.5000, -71.7335, 5389,   2400.7,   3.2920,  34.9630,  34.9630,2,    268.3,2,     267.5,2,    18.30,2,    17.97,2,     0.01,2,     1.21,2,    0.257,2,    0.131,2,    0.017,2,    0.740,2,   -999.0,9,  -999.00,9,   2163.3,2,   2317.0,2,   7.7403,2,  -999.0,9, -999.0, -999.00,9,  -999.0,  -999.0, -999.00,9
31RBOACES24N_2,  AR01,    96,  1,     10,2,19980218,0111, 26.5000, -71.7335, 5389,   2599.2,   3.1120,  34.9540,  34.9540,2,    264.6,2,     267.9,2,    19.70,2,    17.97,2,     0.01,2,     1.22,2,    0.237,2,    0.123,2,    0.012,2, -999.000,9,   -999.0,9,  -999.00,9,   -999.0,9,   -999.0,9,-999.0000,9,  -999.0,9, -999.0, -999.00,9,  -999.0,  -999.0, -999.00,9
31RBOACES24N_2,  AR01,    96,  1,      9,2,19980218,0111, 26.5000, -71.7335, 5389,   2799.8,   2.9180,  34.9400,  34.9400,2,    269.0,2,     270.5,2,    20.30,2,    17.77,2,     0.01,2,     1.21,2,    0.346,2,    0.172,2,    0.018,2,    0.801,2,   -999.0,9,  -999.00,9,   2164.7,2,   2319.8,2,   7.7401,2,   715.6,2,   20.0, -999.00,9,   340.4,  -999.0, -999.00,9
31RBOACES24N_2,  AR01,    96,  1,      8,2,19980218,0111, 26.5000, -71.7335, 5389,   3000.2,   2.7670,  34.9320,  34.9320,2,    272.6,2,     271.3,2,    21.60,2,    17.87,2,     0.00,2,     1.21,2,    0.355,2,    0.176,2,    0.013,2, -999.000,9,   -999.0,9,  -999.00,9,   -999.0,9,   -999.0,9,-999.0000,9,  -999.0,9, -999.0, -999.00,9,  -999.0,  -999.0, -999.00,9
31RBOACES24N_2,  AR01,    96,  1,      7,2,19980218,0111, 26.5000, -71.7335, 5389,   3201.3,   2.6360,  34.9220,  34.9230,2,    275.3,2,     272.9,2,    21.80,2,    17.68,2,     0.01,2,     1.21,2,    0.442,2,    0.218,2,    0.016,2,    0.929,2,   -999.0,9,  -999.00,9,   2166.0,2,   2319.2,2,   7.7407,2,  -999.0,9, -999.0, -999.00,9,  -999.0,  -999.0, -999.00,9
31RBOACES24N_2,  AR01,    96,  1,      6,2,19980218,0111, 26.5000, -71.7335, 5389,   3481.7,   2.4890,  34.9130,  34.9150,2,    275.7,2,     274.1,2,    23.40,2,    17.77,2,     0.01,2,     1.21,2,    0.410,6,    0.206,6,    0.018,6, -999.000,9,   -999.0,9,  -999.00,9,   2167.2,2,   2321.3,2,   7.7381,2,   728.4,2,   20.0, -999.00,9,   339.4,  -999.0, -999.00,9
31RBOACES24N_2,  AR01,    96,  1,      5,2,19980218,0111, 26.5000, -71.7335, 5389,   3801.0,   2.3850,  34.9060,  34.9060,2,    276.0,2,     274.3,2,    25.20,2,    17.87,2,     0.01,2,     1.22,2,    0.434,2,    0.217,2,    0.022,2,    0.977,2,   -999.0,9,  -999.00,9,   2169.5,2,   2322.2,2,   7.7380,2,  -999.0,9, -999.0, -999.00,9,  -999.0,  -999.0, -999.00,9
31RBOACES24N_2,  AR01,    96,  1,      4,2,19980218,0111, 26.5000, -71.7335, 5389,   4198.5,   2.3220,  34.8980,  34.8980,2,    274.6,2,     272.5,2,    27.70,2,    18.17,2,     0.01,2,     1.24,2,    0.449,2,    0.224,2,    0.021,2,    0.988,6,   -999.0,9,  -999.00,9,   2173.6,2,   2325.3,2,   7.7335,2,  -999.0,9, -999.0, -999.00,9,  -999.0,  -999.0, -999.00,9
31RBOACES24N_2,  AR01,    96,  1,      3,2,19980218,0111, 26.5000, -71.7335, 5389,   4600.6,   2.2990,  34.8920,  34.8920,2,    272.3,2,     270.2,2,    31.10,2,    18.75,2,     0.01,2,     1.28,2,    0.379,2,    0.190,2,    0.037,2, -999.000,9,   -999.0,9,  -999.00,9,   2177.6,2,   2328.4,2,   7.7324,2,   735.4,2,   20.0, -999.00,9,   338.9,  -999.0, -999.00,9
31RBOACES24N_2,  AR01,    96,  1,      2,2,19980218,0111, 26.5000, -71.7335, 5389,   4999.8,   2.2730,  34.8840,  34.8830,2,    267.9,2,     266.2,2,    36.80,2,    19.53,2,     0.01,2,     1.34,2,    0.217,2,    0.120,2,    0.034,2,    0.596,2,   -999.0,9,  -999.00,9,   -999.0,9,   -999.0,9,-999.0000,9,  -999.0,9, -999.0, -999.00,9,  -999.0,  -999.0, -999.00,9
31RBOACES24N_2,  AR01,    96,  1,      1,2,19980218,0111, 26.5000, -71.7335, 5389,   5465.3,   2.1010,  34.8530,  34.8540,2,    252.5,2,     255.3,6,    52.30,6,    22.07,2,     0.01,6,     1.53,6,    0.040,2,    0.033,2,    0.011,2,    0.217,2,   -999.0,9,  -999.00,9,   2201.9,2,   2349.6,2,-999.0000,9,   780.2,2,   20.0, -999.00,9,   355.0,  -999.0, -999.00,9