BOTTLE,20220820CCHSIOAMB
EXPOCODE,SECT_ID,STNNBR,CASTNO,BTLNBR,BTLNBR_FLAG_W,DATE,TIME,LATITUDE,LONGITUDE,DEPTH,CTDPRS,CTDTMP,CTDSAL,SALNTY,SALNTY_FLAG_W,CTDOXY,CTDOXY_FLAG_W,OXYGEN,OXYGEN_FLAG_W,SILCAT,SILCAT_FLAG_W,NITRAT,NITRAT_FLAG_W,NITRIT,NITRIT_FLAG_W,PHSPHT,PHSPHT_FLAG_W,CFC-11,CFC-11_FLAG_W,CFC-12,CFC-12_FLAG_W,CFC113,CFC113_FLAG_W,CCL4,CCL4_FLAG_W,DELC14,DELC14_FLAG_W,DELC13,DELC13_FLAG_W,TCARBN,TCARBN_FLAG_W,ALKALI,ALKALI_FLAG_W,PH,PH_FLAG_W,FCO2,FCO2_FLAG_W,FCO2TMP,TON,TON_FLAG_W,FCO2IN,C14ERR,TOC,TOC_FLAG_W
,,,,,,,,,,,DBAR,ITS-90,PSS-78,PSS-78,,UMOL/KG,,UMOL/KG,,UMOL/KG,,UMOL/KG,,UMOL/KG,,UMOL/KG,,PMOL/KG,,PMOL/KG,,PMOL/KG,,PMOL/KG,,/MILLE,,/MILLE,,UMOL/KG,,UMOL/KG,,,,UATM,,DEG C,UMOL/KG,,UATM,/MILLE,UMOL/KG,
31RBOACES24N_2,  AR01,   117,  1,     36,2,19980222,0332, 26.4997, -76.6830, 4491,      3.1,  23.2530,  36.5160,  36.5210,2,    218.3,2,     214.9,2,     0.90,2,     0.00,2,     0.00,2,     0.01,2, -999.000,9, -999.000,9, -999.000,9, -999.000,9,   -999.0,9,  -999.00,9,   2036.4,6,   -999.0,5,   8.0877,2,   288.9,6,   20.0, -999.00,9,   328.6,  -999.0, -999.00,9
31RBOACES24N_2,  AR01,   117,  1,     35,2,19980222,0332, 26.4997, -76.6830, 4491,     49.5,  22.9450,  36.6440,  36.6460,2,    214.1,2,     214.3,2,     0.90,2,     0.00,2,     0.00,2,     0.01,2, -999.000,9, -999.000,9, -999.000,9, -999.000,9,   -999.0,9,  -999.00,9,   -999.0,9,   -999.0,9,-999.0000,9,  -999.0,9, -999.0, -999.00,9,  -999.0,  -999.0, -999.00,9
31RBOACES24N_2,  AR01,   117,  1,     34,2,19980222,0332, 26.4997, -76.6830, 4491,     99.6,  22.7920,  36.7090,  36.7190,2,    210.4,2,     208.2,2,     0.90,2,     0.19,2,     0.07,2,     0.01,2, -999.000,9, -999.000,9, -999.000,9, -999.000,9,   -999.0,9,  -999.00,9,   -999.0,9,   -999.0,9,-999.0000,9,  -999.0,9, -999.0, -999.00,9,  -999.0,  -999.0, -999.00,9
31RBOACES24N_2,  AR01,   117,  1,     33,2,19980222,0332, 26.4997, -76.6830, 4491,    142.5,  21.6390,  36.9090,  36.9140,2,    192.6,2,     193.3,2,     0.80,2,     1.07,2,     0.02,2,     0.03,2, -999.000,9, -999.000,9, -999.000,9, -999.000,9,   -999.0,9,  -999.00,9,   -999.0,9,   -999.0,9,-999.0000,9,  -999.0,9, -999.0, -999.00,9,  -999.0,  -999.0, -999.00,9
31RBOACES24N_2,  AR01,   117,  1,     32,2,19980222,0332, 26.4997, -76.6830, 4491,    195.9,  20.0680,  36.7700,  36.7720,2,    190.7,2,     192.2,2,     0.90,2,     1.85,2,     0.01,2,     0.06,2, -999.000,9, -999.000,9, -999.000,9, -999.000,9,   -999.0,9,  -999.00,9,   -999.0,9,   -999.0,9,-999.0000,9,  -999.0,9, -999.0, -999.00,9,  -999.0,  -999.0, -999.00,9
31RBOACES24N_2,  AR01,   117,  1,     31,2,19980222,0332, 26.4997, -76.6830, 4491,    223.3,  19.5080,  36.7160,  36.7020,2,    192.1,2,     193.0,2,     1.00,2,     2.34,2,     0.01,2,     0.08,2, -999.000,9, -999.000,9, -999.000,9, -999.000,9,   -999.0,9,  -999.00,9,   -999.0,9,   -999.0,9,-999.0000,9,  -999.0,9, -999.0, -999.00,9,  -999.0,  -999.0, -999.00,9
31RBOACES24N_2,  AR01,   117,  1,     30,2,19980222,0332, 26.4997, -76.6830, 4491,    247.7,  18.9170,  36.6410,  36.6390,2,    195.0,2,     196.5,2,     1.10,2,     2.83,2,     0.01,2,     0.10,2, -999.000,9, -999.000,9, -999.000,9, -999.000,9,   -999.0,9,  -999.00,9,   -999.0,9,   -999.0,9,-999.0000,9,  -999.0,9, -999.0, -999.00,9,  -999.0,  -999.0, -999.00,9
31RBOACES24N_2,  AR01,   117,  1,     29,2,19980222,0332, 26.4997, -76.6830, 4491,    272.8,  18.5650,  36.5950,  36.5940,2,    199.0,2,     200.5,2,     1.20,2,     3.32,2,     0.01,2,     0.13,2, -999.000,9, -999.000,9, -999.000,9, -999.000,9,   -999.0,9,  -999.00,9,   -999.0,9,   -999.0,9,-999.0000,9,  -999.0,9, -999.0, -999.00,9,  -999.0,  -999.0, -999.00,9
31RBOACES24N_2,  AR01,   117,  1,     28,2,19980222,0332, 26.4997, -76.6830, 4491,    300.4,  18.3500,  36.5690,  36.5690,2,    199.1,2,     203.2,2,     1.30,2,     3.51,2,     0.00,2,     0.15,2, -999.000,9, -999.000,9, -999.000,9, -999.000,9,   -999.0,9,  -999.00,9,   -999.0,9,   -999.0,9,-999.0000,9,  -999.0,9, -999.0, -999.00,9,  -999.0,  -999.0, -999.00,9
31RBOACES24N_2,  AR01,   117,  1,     27,2,19980222,0332, 26.4997, -76.6830, 4491,    349.6,  18.0920,  36.5360,  36.5360,2,    204.7,2,     204.8,2,     1.40,2,     3.90,2,     0.00,2,     0.18,2, -999.000,9, -999.000,9, -999.000,9, -999.000,9,   -999.0,9,  -999.00,9,   -999.0,9,   -999.0,9,-999.0000,9,  -999.0,9, -999.0, -999.00,9,  -999.0,  -999.0, -999.00,9
31RBOACES24N_2,  AR01,   117,  1,     26,2,19980222,0332, 26.4997, -76.6830, 4491,    397.9,  17.8580,  36.4980,  36.4900,2,    197.2,2,     202.0,2,     1.70,2,     4.78,2,     0.00,2,     0.23,2, -999.000,9, -999.000,9, -999.000,9, -999.000,9,   -999.0,9,  -999.00,9,   -999.0,9,   -999.0,9,-999.0000,9,  -999.0,9, -999.0, -999.00,9,  -999.0,  -999.0, -999.00,9
31RBOACES24N_2,  AR01,   117,  1,     25,2,19980222,0332, 26.4997, -76.6830, 4491,    449.4,  17.0220,  36.3530,  36.3580,2,    183.8,2,     184.4,2,     2.50,2,     7.51,2,     0.00,2,     0.40,2, -999.000,9, -999.000,9, -999.000,9, -999.000,9,   -999.0,9,  -999.00,9,   -999.0,9,   -999.0,9,-999.0000,9,  -999.0,9, -999.0, -999.00,9,  -999.0,  -999.0, -999.00,9
31RBOACES24N_2,  AR01,   117,  1,     24,2,19980222,0332, 26.4997, -76.6830, 4491,    500.3,  16.1410,  36.1960,  36.1960,2,    179.1,2,     178.9,2,     3.30,2,     9.56,2,     0.00,2,     0.53,2, -999.000,9, -999.000,9, -999.000,9, -999.000,9,   -999.0,9,  -999.00,9,   -999.0,9,   -999.0,9,-999.0000,9,  -999.0,9, -999.0, -999.00,9,  -999.0,  -999.0, -999.00,9
31RBOACES24N_2,  AR01,   117,  1,     23,2,19980222,0332, 26.4997, -76.6830, 4491,    547.8,  15.0170,  36.0160,  36.0380,2,    171.4,2,     172.7,2,     4.30,2,    11.61,2,     0.00,2,     0.67,2, -999.000,9, -999.000,9, -999.000,9, -999.000,9,   -999.0,9,  -999.00,9,   -999.0,9,   -999.0,9,-999.0000,9,  -999.0,9, -999.0, -999.00,9,  -999.0,  -999.0, -999.00,9
31RBOACES24N_2,  AR01,   117,  1,     22,2,19980222,0332, 26.4997, -76.6830, 4491,    588.6,  14.3580,  35.9130,  35.9200,2,    167.8,2,     167.5,2,     5.20,2,    13.36,2,     0.00,2,     0.78,2, -999.000,9, -999.000,9, -999.000,9, -999.000,9,   -999.0,9,  -999.00,9,   -999.0,9,   -999.0,9,-999.0000,9,  -999.0,9, -999.0, -999.00,9,  -999.0,  -999.0, -999.00,9
31RBOACES24N_2,  AR01,   117,  1,     21,2,19980222,0332, 26.4997, -76.6830, 4491,    697.9,  11.6100,  35.5170,  35.5230,2,    155.0,2,     154.0,2,     9.30,2,    19.22,2,     0.00,2,     1.19,2, -999.000,9, -999.000,9, -999.000,9, -999.000,9,   -999.0,9,  -999.00,9,   -999.0,9,   -999.0,9,-999.0000,9,  -999.0,9, -999.0, -999.00,9,  -999.0,  -999.0, -999.00,9
31RBOACES24N_2,  AR01,   117,  1,     20,2,19980222,0332, 26.4997, -76.6830, 4491,    788.7,   9.5790,  35.2650,  35.2670,2,    149.4,2,     148.8,2,    13.40,2,    23.03,2,     0.00,2,     1.48,2, -999.000,9, -999.000,9, -999.000,9, -999.000,9,   -999.0,9,  -999.00,9,   -999.0,9,   -999.0,9,-999.0000,9,  -999.0,9, -999.0, -999.00,9,  -999.0,  -999.0, -999.00,9
31RBOACES24N_2,  AR01,   117,  1,     19,2,19980222,0332, 26.4997, -76.6830, 4491,    895.3,   7.6860,  35.1000,  35.1010,2,    158.7,2,     158.4,2,    16.40,2,    24.79,2,     0.00,2,     1.63,2, -999.000,9, -999.000,9, -999.000,9, -999.000,9,   -999.0,9,  -999.00,9,   -999.0,9,   -999.0,9,-999.0000,9,  -999.0,9, -999.0, -999.00,9,  -999.0,  -999.0, -999.00,9
31RBOACES24N_2,  AR01,   117,  1,     18,2,19980222,0332, 26.4997, -76.6830, 4491,    996.4,   6.6090,  35.0650,  35.0640,2,    176.8,2,     180.8,2,    16.70,2,    23.62,2,     0.00,2,     1.56,2, -999.000,9, -999.000,9, -999.000,9, -999.000,9,   -999.0,9,  -999.00,9,   -999.0,9,   -999.0,9,-999.0000,9,  -999.0,9, -999.0, -999.00,9,  -999.0,  -999.0, -999.00,9
31RBOACES24N_2,  AR01,   117,  1,     17,2,19980222,0332, 26.4997, -76.6830, 4491,   1199.4,   4.7010,  35.0250,  35.0250,2,    243.2,2,     247.1,2,    13.20,2,    18.64,2,     0.00,2,     1.24,2, -999.000,9, -999.000,9, -999.000,9, -999.000,9,   -999.0,9,  -999.00,9,   -999.0,9,   -999.0,9,-999.0000,9,  -999.0,9, -999.0, -999.00,9,  -999.0,  -999.0, -999.00,9
31RBOACES24N_2,  AR01,   117,  1,     16,2,19980222,0332, 26.4997, -76.6830, 4491,   1399.5,   4.2810,  34.9980,  34.9980,2,    260.2,2,     258.7,6,    13.00,2,    18.06,2,     0.00,2,     1.20,2, -999.000,9, -999.000,9, -999.000,9, -999.000,9,   -999.0,9,  -999.00,9,   -999.0,9,   -999.0,9,-999.0000,9,  -999.0,9, -999.0, -999.00,9,  -999.0,  -999.0, -999.00,9
31RBOACES24N_2,  AR01,   117,  1,     15,3,19980222,0332, 26.4997, -76.6830, 4491,   1599.6,   4.0380,  34.9790,-999.0000,9,    264.6,2,    -999.0,9,  -999.00,9,  -999.00,9,  -999.00,9,  -999.00,9, -999.000,9, -999.000,9, -999.000,9, -999.000,9,   -999.0,9,  -999.00,9,   -999.0,9,   -999.0,9,-999.0000,9,  -999.0,9, -999.0, -999.00,9,  -999.0,  -999.0, -999.00,9
31RBOACES24N_2,  AR01,   117,  1,     14,2,19980222,0332, 26.4997, -76.6830, 4491,   1799.6,   3.8540,  34.9650,  34.9650,2,    267.7,2,     268.8,2,    13.30,2,    17.67,2,     0.00,2,     1.18,2, -999.000,9, -999.000,9, -999.000,9, -999.000,9,   -999.0,9,  -999.00,9,   -999.0,9,   -999.0,9,-999.0000,9,  -999.0,9, -999.0, -999.00,9,  -999.0,  -999.0, -999.00,9
31RBOACES24N_2,  AR01,   117,  1,     13,2,19980222,0332, 26.4997, -76.6830, 4491,   1996.4,   3.6920,  34.9590,  34.9580,2,    269.9,2,     270.5,2,    13.90,2,    17.57,2,     0.00,2,     1.18,2, -999.000,9, -999.000,9, -999.000,9, -999.000,9,   -999.0,9,  -999.00,9,   -999.0,9,   -999.0,9,-999.0000,9,  -999.0,9, -999.0, -999.00,9,  -999.0,  -999.0, -999.00,9
31RBOACES24N_2,  AR01,   117,  1,     12,2,19980222,0332, 26.4997, -76.6830, 4491,   2199.5,   3.5450,  34.9560,  34.9560,2,    269.2,2,     270.8,2,    14.90,2,    17.57,2,     0.00,2,     1.18,2, -999.000,9, -999.000,9, -999.000,9, -999.000,9,   -999.0,9,  -999.00,9,   -999.0,9,   -999.0,9,-999.0000,9,  -999.0,9, -999.0, -999.00,9,  -999.0,  -999.0, -999.00,9
31RBOACES24N_2,  AR01,   117,  1,     11,2,19980222,0332, 26.4997, -76.6830, 4491,   2393.1,   3.3650,  34.9590,  34.9590,2,    268.5,2,     269.4,2,    17.00,2,    17.67,2,     0.00,2,     1.20,2, -999.000,9, -999.000,9, -999.000,9, -999.000,9,   -999.0,9,  -999.00,9,   -999.0,9,   -999.0,9,-999.0000,9,  -999.0,9, -999.0, -999.00,9,  -999.0,  -999.0, -999.00,9
31RBOACES24N_2,  AR01,   117,  1,     10,2,19980222,0332, 26.4997, -76.6830, 4491,   2598.8,   3.1310,  34.9490,  34.9490,2,    269.1,2,     270.5,2,    18.50,2,    17.67,2,     0.00,2,     1.20,2, -999.000,9, -999.000,9, -999.000,9, -999.000,9,   -999.0,9,  -999.00,9,   -999.0,9,   -999.0,9,-999.0000,9,  -999.0,9, -999.0, -999.00,9,  -999.0,  -999.0, -999.00,9
31RBOACES24N_2,  AR01,   117,  1,      9,2,19980222,0332, 26.4997, -76.6830, 4491,   2796.6,   2.9980,  34.9420,  34.9420,2,    269.1,2,     271.1,2,    19.40,2,    17.57,2,     0.00,2,     1.20,2, -999.000,9, -999.000,9, -999.000,9, -999.000,9,   -999.0,9,  -999.00,9,   -999.0,9,   -999.0,9,-999.0000,9,  -999.0,9, -999.0, -999.00,9,  -999.0,  -999.0, -999.00,9
31RBOACES24N_2,  AR01,   117,  1,      8,2,19980222,0332, 26.4997, -76.6830, 4491,   2998.5,   2.8420,  34.9340,  34.9340,2,    270.7,2,     272.3,2,    20.40,2,    17.47,2,     0.00,2,     1.20,2, -999.000,9, -999.000,9, -999.000,9, -999.000,9,   -999.0,9,  -999.00,9,   -999.0,9,   -999.0,9,-999.0000,9,  -999.0,9, -999.0, -999.00,9,  -999.0,  -999.0, -999.00,9
31RBOACES24N_2,  AR01,   117,  1,      7,2,19980222,0332, 26.4997, -76.6830, 4491,   3197.5,   2.6870,  34.9240,  34.9250,2,    273.4,2,     274.1,2,    21.10,2,    17.47,2,     0.00,2,     1.19,2, -999.000,9, -999.000,9, -999.000,9, -999.000,9,   -999.0,9,  -999.00,9,   -999.0,9,   -999.0,9,-999.0000,9,  -999.0,9, -999.0, -999.00,9,  -999.0,  -999.0, -999.00,9
31RBOACES24N_2,  AR01,   117,  1,      6,2,19980222,0332, 26.4997, -76.6830, 4491,   3366.0,   2.5420,  34.9170,  34.9160,2,    274.5,2,     275.0,2,    22.30,2,    17.38,2,     0.00,2,     1.19,2, -999.000,9, -999.000,9, -999.000,9, -999.000,9,   -999.0,9,  -999.00,9,   -999.0,9,   -999.0,9,-999.0000,9,  -999.0,9, -999.0, -999.00,9,  -999.0,  -999.0, -999.00,9
31RBOACES24N_2,  AR01,   117,  1,      5,2,19980222,0332, 26.4997, -76.6830, 4491,   3598.0,   2.4140,  34.9080,  34.9070,2,    274.8,2,     276.2,2,    24.10,2,    17.47,2,     0.01,2,     1.20,2, -999.000,9, -999.000,9, -999.000,9, -999.000,9,   -999.0,9,  -999.00,9,   -999.0,9,   -999.0,9,-999.0000,9,  -999.0,9, -999.0, -999.00,9,  -999.0,  -999.0, -999.00,9
31RBOACES24N_2,  AR01,   117,  1,      4,2,19980222,0332, 26.4997, -76.6830, 4491,   3801.6,   2.3560,  34.9030,  34.9030,2,    274.0,2,     274.7,2,    25.70,2,    17.57,2,     0.00,2,     1.22,2, -999.000,9, -999.000,9, -999.000,9, -999.000,9,   -999.0,9,  -999.00,9,   -999.0,9,   -999.0,9,-999.0000,9,  -999.0,9, -999.0, -999.00,9,  -999.0,  -999.0, -999.00,9
31RBOACES24N_2,  AR01,   117,  1,      3,2,19980222,0332, 26.4997, -76.6830, 4491,   4001.2,   2.2920,  34.8970,  34.8970,2,    271.1,2,     272.4,2,    28.70,2,    18.06,2,     0.01,2,     1.25,2, -999.000,9, -999.000,9, -999.000,9, -999.000,9,   -999.0,9,  -999.00,9,   -999.0,9,   -999.0,9,-999.0000,9,  -999.0,9, -999.0, -999.00,9,  -999.0,  -999.0, -999.00,9
31RBOACES24N_2,  AR01,   117,  1,      2,2,19980222,0332, 26.4997, -76.6830, 4491,   4301.2,   2.2770,  34.8930,  34.8930,2,    269.3,2,     270.4,2,    31.50,2,    18.65,2,     0.00,2,     1.28,2, -999.000,9, -999.000,9, -999.000,9, -999.000,9,   -999.0,9,  -999.00,9,   -999.0,9,   -999.0,9,-999.0000,9,  -999.0,9, -999.0, -999.00,9,  -999.0,  -999.0, -999.00,9
31RBOACES24N_2,  AR01,   117,  1,      1,2,19980222,0332, 26.4997, -76.6830, 4491,   4659.6,   2.3160,  34.8930,  34.8930,2,    269.6,2,     270.0,6,    32.10,6,    18.65,6,     0.01,6,     1.29,6, -999.000,9, -999.000,9, -999.000,9, -999.000,9,   -999.0,9,  -999.00,9,   -999.0,9,   -999.0,9,-999.0000,9,  -999.0,9, -999.0, -999.00,9,  -999.0,  -999.0, -999.00,9