BOTTLE,20220820CCHSIOAMB
EXPOCODE,SECT_ID,STNNBR,CASTNO,BTLNBR,BTLNBR_FLAG_W,DATE,TIME,LATITUDE,LONGITUDE,DEPTH,CTDPRS,CTDTMP,CTDSAL,SALNTY,SALNTY_FLAG_W,CTDOXY,CTDOXY_FLAG_W,OXYGEN,OXYGEN_FLAG_W,SILCAT,SILCAT_FLAG_W,NITRAT,NITRAT_FLAG_W,NITRIT,NITRIT_FLAG_W,PHSPHT,PHSPHT_FLAG_W,CFC-11,CFC-11_FLAG_W,CFC-12,CFC-12_FLAG_W,CFC113,CFC113_FLAG_W,CCL4,CCL4_FLAG_W,DELC14,DELC14_FLAG_W,DELC13,DELC13_FLAG_W,TCARBN,TCARBN_FLAG_W,ALKALI,ALKALI_FLAG_W,PH,PH_FLAG_W,FCO2,FCO2_FLAG_W,FCO2TMP,TON,TON_FLAG_W,FCO2IN,C14ERR,TOC,TOC_FLAG_W
,,,,,,,,,,,DBAR,ITS-90,PSS-78,PSS-78,,UMOL/KG,,UMOL/KG,,UMOL/KG,,UMOL/KG,,UMOL/KG,,UMOL/KG,,PMOL/KG,,PMOL/KG,,PMOL/KG,,PMOL/KG,,/MILLE,,/MILLE,,UMOL/KG,,UMOL/KG,,,,UATM,,DEG C,UMOL/KG,,UATM,/MILLE,UMOL/KG,
31RBOACES24N_2,  AR01,    13,  1,     35,2,19980126,0049, 26.3485, -18.3325, 3559,      3.7,  21.3270,  37.0150,  37.0140,2,    222.4,2,     220.3,2,     1.20,2,     0.10,2,     0.03,2,  -999.00,5,    2.118,2,    1.215,2,    0.166,2, -999.000,9,   -999.0,9,  -999.00,9,   2099.4,6,   2420.2,2,   8.0328,2,   345.7,3,   20.0, -999.00,9,   364.5,  -999.0, -999.00,9
31RBOACES24N_2,  AR01,    13,  1,     34,2,19980126,0049, 26.3485, -18.3325, 3559,     23.8,  21.3220,  37.0130,  37.0120,2,    219.8,2,     220.7,2,     1.10,2,     0.10,2,     0.03,2,  -999.00,5, -999.000,9, -999.000,9, -999.000,9, -999.000,9,   -999.0,9,  -999.00,9,   2101.4,2,   2421.5,2,   8.0313,2,   343.7,2,   20.0, -999.00,9,   362.3,  -999.0, -999.00,9
31RBOACES24N_2,  AR01,    13,  1,     33,2,19980126,0049, 26.3485, -18.3325, 3559,     49.8,  21.3340,  37.0130,  37.0140,2,    218.1,2,     220.5,2,     1.20,2,     0.10,2,     0.03,2,  -999.00,5,    2.141,2,    1.241,2,    0.164,2, -999.000,9,   -999.0,9,  -999.00,9,   -999.0,9,   -999.0,9,-999.0000,9,  -999.0,9, -999.0, -999.00,9,  -999.0,  -999.0, -999.00,9
31RBOACES24N_2,  AR01,    13,  1,     32,2,19980126,0049, 26.3485, -18.3325, 3559,     73.8,  21.3900,  37.0370,  37.0470,2,    217.8,2,     219.5,2,     1.00,2,     0.10,2,     0.03,2,  -999.00,5, -999.000,9, -999.000,9, -999.000,9, -999.000,9,   -999.0,9,  -999.00,9,   2101.8,2,   2429.4,2,   8.0335,2,   341.8,2,   20.0, -999.00,9,   361.3,  -999.0, -999.00,9
31RBOACES24N_2,  AR01,    13,  1,     31,2,19980126,0049, 26.3485, -18.3325, 3559,    100.1,  21.5160,  37.1110,  37.1170,2,    218.2,2,     215.9,2,     1.00,2,     0.20,2,     0.06,2,  -999.00,5,    2.121,2,    1.250,2,    0.164,2, -999.000,9,   -999.0,9,  -999.00,9,   -999.0,9,   -999.0,9,-999.0000,9,  -999.0,9, -999.0, -999.00,9,  -999.0,  -999.0, -999.00,9
31RBOACES24N_2,  AR01,    13,  1,     30,2,19980126,0049, 26.3485, -18.3325, 3559,    122.8,  19.0350,  36.6580,  36.6660,2,    196.4,2,     186.2,2,     2.00,2,     4.98,2,     0.04,2,  -999.00,5, -999.000,9, -999.000,9, -999.000,9, -999.000,9,   -999.0,9,  -999.00,9,   2132.2,2,   2395.9,2,   7.9414,2,   436.5,2,   20.0, -999.00,9,   420.3,  -999.0, -999.00,9
31RBOACES24N_2,  AR01,    13,  1,     29,2,19980126,0049, 26.3485, -18.3325, 3559,    149.3,  17.8670,  36.5130,  36.5210,2,    174.1,2,     171.0,2,     2.70,2,     7.61,2,     0.01,2,  -999.00,5, -999.000,9, -999.000,9, -999.000,9, -999.000,9,   -999.0,9,  -999.00,9,   2143.6,2,   -999.0,9,   7.9047,2,  -999.0,9, -999.0, -999.00,9,  -999.0,  -999.0, -999.00,9
31RBOACES24N_2,  AR01,    13,  1,     28,2,19980126,0049, 26.3485, -18.3325, 3559,    199.5,  17.2240,  36.4560,  36.4400,2,    171.9,2,     179.4,2,     2.40,2,     7.42,2,     0.01,2,  -999.00,5,    2.352,6,    1.301,6,    0.055,6, -999.000,9,   -999.0,9,  -999.00,9,   2136.6,2,   2383.2,2,   7.9090,2,   467.3,2,   20.0, -999.00,9,   417.7,  -999.0, -999.00,9
31RBOACES24N_2,  AR01,    13,  1,     27,2,19980126,0049, 26.3485, -18.3325, 3559,    246.1,  15.8130,  36.1890,  36.1940,2,    151.4,2,     156.9,2,     4.00,2,    11.81,2,     0.00,2,  -999.00,5, -999.000,9, -999.000,9, -999.000,9, -999.000,9,   -999.0,9,  -999.00,9,   -999.0,9,   -999.0,9,-999.0000,9,  -999.0,9, -999.0, -999.00,9,  -999.0,  -999.0, -999.00,9
31RBOACES24N_2,  AR01,    13,  1,     26,2,19980126,0049, 26.3485, -18.3325, 3559,    300.6,  14.7860,  36.0630,  36.0720,2,    175.2,2,     180.4,2,     3.80,2,    10.74,2,     0.00,2,  -999.00,5,    2.374,2,    1.288,2,    0.023,2, -999.000,9,   -999.0,9,  -999.00,9,   2143.5,2,   2359.2,2,   7.8640,2,   527.7,2,   20.0, -999.00,9,   426.3,  -999.0, -999.00,9
31RBOACES24N_2,  AR01,    13,  1,     25,2,19980126,0049, 26.3485, -18.3325, 3559,    341.5,  14.2190,  35.9730,  35.9770,2,    177.5,2,     175.9,2,     4.40,2,    12.10,2,     0.00,2,  -999.00,5, -999.000,9, -999.000,9, -999.000,9, -999.000,9,   -999.0,9,  -999.00,9,   -999.0,9,   -999.0,9,-999.0000,9,  -999.0,9, -999.0, -999.00,9,  -999.0,  -999.0, -999.00,9
31RBOACES24N_2,  AR01,    13,  1,     24,2,19980126,0049, 26.3485, -18.3325, 3559,    399.3,  13.5990,  35.8750,  35.8710,2,    175.7,2,     169.1,2,     5.20,2,    13.96,2,     0.00,2,  -999.00,5,    2.166,2,    1.172,2,    0.021,2, -999.000,9,   -999.0,9,  -999.00,9,   2155.1,2,   2350.1,2,   7.8169,2,  -999.0,9, -999.0, -999.00,9,  -999.0,  -999.0, -999.00,9
31RBOACES24N_2,  AR01,    13,  1,     23,2,19980126,0049, 26.3485, -18.3325, 3559,    501.3,  12.1910,  35.6760,  35.6760,2,    170.0,2,     168.0,2,     6.50,2,    16.50,2,     0.00,2,  -999.00,5, -999.000,9, -999.000,9, -999.000,9, -999.000,9,   -999.0,9,  -999.00,9,   2163.6,2,   2341.7,2,   7.7821,2,   657.8,2,   20.0, -999.00,9,   477.3,  -999.0, -999.00,9
31RBOACES24N_2,  AR01,    13,  1,     22,2,19980126,0049, 26.3485, -18.3325, 3559,    551.6,  11.6540,  35.6080,  35.6100,2,    166.7,2,     164.8,2,     7.40,2,    17.77,2,     0.00,2,  -999.00,5, -999.000,9, -999.000,9, -999.000,9, -999.000,9,   -999.0,9,  -999.00,9,   -999.0,9,   -999.0,9,-999.0000,9,  -999.0,9, -999.0, -999.00,9,  -999.0,  -999.0, -999.00,9
31RBOACES24N_2,  AR01,    13,  1,     21,2,19980126,0049, 26.3485, -18.3325, 3559,    598.3,  11.1640,  35.5480,  35.5470,2,    161.9,2,     158.5,2,     8.70,2,    19.33,2,     0.00,2,  -999.00,5,    1.434,2,    0.763,2,    0.009,2, -999.000,9,   -999.0,9,  -999.00,9,   2176.9,2,   -999.0,9,   7.7440,2,  -999.0,9, -999.0, -999.00,9,  -999.0,  -999.0, -999.00,9
31RBOACES24N_2,  AR01,    13,  1,     20,2,19980126,0049, 26.3485, -18.3325, 3559,    694.6,  10.0080,  35.4060,  35.4040,2,    139.2,2,     136.1,2,    12.20,2,    23.63,2,     0.00,2,  -999.00,5, -999.000,9, -999.000,9, -999.000,9, -999.000,9,   -999.0,9,  -999.00,9,   -999.0,9,   -999.0,9,-999.0000,9,  -999.0,9, -999.0, -999.00,9,  -999.0,  -999.0, -999.00,9
31RBOACES24N_2,  AR01,    13,  1,     19,2,19980126,0049, 26.3485, -18.3325, 3559,    794.6,   8.9610,  35.3090,  35.3100,2,    133.3,2,     131.8,2,    15.10,2,    25.78,2,     0.00,2,  -999.00,5,    0.377,2,    0.199,2,    0.000,2, -999.000,9,   -999.0,9,  -999.00,9,   2204.0,2,   2328.6,2,   7.6615,2,   889.9,2,   20.0, -999.00,9,   564.6,  -999.0, -999.00,9
31RBOACES24N_2,  AR01,    13,  1,     18,2,19980126,0049, 26.3485, -18.3325, 3559,    890.6,   8.2670,  35.2480,  35.2450,2,    133.6,2,     132.8,2,    17.20,2,    26.76,2,     0.00,2,  -999.00,5, -999.000,9, -999.000,9, -999.000,9, -999.000,9,   -999.0,9,  -999.00,9,   -999.0,9,   -999.0,9,-999.0000,9,  -999.0,9, -999.0, -999.00,9,  -999.0,  -999.0, -999.00,9
31RBOACES24N_2,  AR01,    13,  1,     17,2,19980126,0049, 26.3485, -18.3325, 3559,   1001.0,   7.2980,  35.1570,  35.1570,2,    140.7,2,     138.4,2,    19.60,2,    27.64,2,     0.00,2,  -999.00,5,    0.097,2,    0.063,2,    0.000,2, -999.000,9,   -999.0,9,  -999.00,9,   2212.5,6,   2328.9,2,   7.6370,2,   955.2,2,   20.0, -999.00,9,   564.2,  -999.0, -999.00,9
31RBOACES24N_2,  AR01,    13,  1,     16,2,19980126,0049, 26.3485, -18.3325, 3559,   1098.1,   7.1820,  35.2360,  35.2350,2,    157.3,2,     155.1,2,    18.90,2,    25.59,2,     0.00,2,  -999.00,5, -999.000,9, -999.000,9, -999.000,9, -999.000,9,   -999.0,9,  -999.00,9,   -999.0,9,   -999.0,9,-999.0000,9,  -999.0,9, -999.0, -999.00,9,  -999.0,  -999.0, -999.00,9
31RBOACES24N_2,  AR01,    13,  1,     15,2,19980126,0049, 26.3485, -18.3325, 3559,   1200.6,   6.7290,  35.2230,  35.2240,2,    165.3,2,     165.7,2,    19.80,2,    25.10,2,     0.00,2,  -999.00,5,    0.088,3,    0.079,3,   -0.001,2, -999.000,9,   -999.0,9,  -999.00,9,   2203.3,2,   2334.3,2,   7.6695,2,   863.0,6,   20.0, -999.00,9,   494.6,  -999.0, -999.00,9
31RBOACES24N_2,  AR01,    13,  1,     14,2,19980126,0049, 26.3485, -18.3325, 3559,   1296.0,   6.0900,  35.1880,  35.1860,2,    176.8,2,     175.7,2,    20.60,2,    24.42,2,     0.00,2,  -999.00,5, -999.000,9, -999.000,9, -999.000,9, -999.000,9,   -999.0,9,  -999.00,9,   -999.0,9,   -999.0,9,-999.0000,9,  -999.0,9, -999.0, -999.00,9,  -999.0,  -999.0, -999.00,9
31RBOACES24N_2,  AR01,    13,  1,     13,2,19980126,0049, 26.3485, -18.3325, 3559,   1399.0,   6.2040,  35.2690,  35.2690,2,    191.0,2,     189.2,2,    19.20,2,    22.36,2,     0.00,2,  -999.00,5,    0.106,2,    0.053,2,   -0.004,2, -999.000,9,   -999.0,9,  -999.00,9,   2195.4,2,   2336.5,2,   7.7008,2,   795.9,2,   20.0, -999.00,9,   443.8,  -999.0, -999.00,9
31RBOACES24N_2,  AR01,    13,  1,     12,2,19980126,0049, 26.3485, -18.3325, 3559,   1499.7,   5.4160,  35.1810,  35.1840,2,    199.1,2,     197.7,2,    21.00,2,    22.36,2,     0.00,2,  -999.00,5, -999.000,9, -999.000,9, -999.000,9, -999.000,9,   -999.0,9,  -999.00,9,   -999.0,9,   -999.0,9,-999.0000,9,  -999.0,9, -999.0, -999.00,9,  -999.0,  -999.0, -999.00,9
31RBOACES24N_2,  AR01,    13,  1,     11,2,19980126,0049, 26.3485, -18.3325, 3559,   1603.9,   5.1730,  35.1780,  35.1760,2,    207.2,2,     206.5,2,    21.60,2,    21.88,2,     0.00,2,  -999.00,5, -999.000,9, -999.000,9, -999.000,9, -999.000,9,   -999.0,9,  -999.00,9,   -999.0,9,   -999.0,9,-999.0000,9,  -999.0,9, -999.0, -999.00,9,  -999.0,  -999.0, -999.00,9
31RBOACES24N_2,  AR01,    13,  1,     10,2,19980126,0049, 26.3485, -18.3325, 3559,   1702.3,   4.8850,  35.1480,  35.1510,2,    211.2,2,     210.7,2,    22.70,2,    21.78,2,     0.00,2,  -999.00,5, -999.000,9, -999.000,9, -999.000,9, -999.000,9,   -999.0,9,  -999.00,9,   -999.0,9,   -999.0,9,-999.0000,9,  -999.0,9, -999.0, -999.00,9,  -999.0,  -999.0, -999.00,9
31RBOACES24N_2,  AR01,    13,  1,      9,2,19980126,0049, 26.3485, -18.3325, 3559,   1901.3,   4.2600,  35.0820,  35.0820,2,    218.6,2,     218.9,2,    25.30,2,    21.68,2,     0.00,2,  -999.00,5, -999.000,9, -999.000,9, -999.000,9, -999.000,9,   -999.0,9,  -999.00,9,   2190.9,2,   2341.1,2,   7.7107,2,   780.1,2,   20.0, -999.00,9,   396.4,  -999.0, -999.00,9
31RBOACES24N_2,  AR01,    13,  1,      8,2,19980126,0049, 26.3485, -18.3325, 3559,   2100.3,   3.9380,  35.0570,  35.0570,2,    224.4,2,     225.0,2,    27.60,2,    21.59,2,     0.00,2,  -999.00,5,    0.026,2,    0.014,2,    0.000,2, -999.000,9,   -999.0,9,  -999.00,9,   -999.0,9,   -999.0,9,-999.0000,9,  -999.0,9, -999.0, -999.00,9,  -999.0,  -999.0, -999.00,9
31RBOACES24N_2,  AR01,    13,  1,      7,2,19980126,0049, 26.3485, -18.3325, 3559,   2300.8,   3.6160,  35.0250,  35.0250,2,    229.5,2,     229.2,2,    30.20,2,    21.49,2,     0.00,2,  -999.00,5, -999.000,9, -999.000,9, -999.000,9, -999.000,9,   -999.0,9,  -999.00,9,   -999.0,9,   -999.0,9,-999.0000,9,  -999.0,9, -999.0, -999.00,9,  -999.0,  -999.0, -999.00,9
31RBOACES24N_2,  AR01,    13,  1,      6,2,19980126,0049, 26.3485, -18.3325, 3559,   2499.0,   3.3170,  34.9940,  34.9950,2,    232.5,2,     231.3,2,    32.90,2,    21.68,2,     0.00,2,  -999.00,5, -999.000,9, -999.000,9, -999.000,9, -999.000,9,   -999.0,9,  -999.00,9,   2195.1,2,   2344.1,2,   7.7187,2,   767.2,2,   20.0, -999.00,9,   371.7,  -999.0, -999.00,9
31RBOACES24N_2,  AR01,    13,  1,      5,2,19980126,0049, 26.3485, -18.3325, 3559,   2700.7,   3.0810,  34.9690,  34.9690,2,    232.8,2,     233.2,2,    35.70,2,    21.78,2,     0.00,2,  -999.00,5, -999.000,9, -999.000,9, -999.000,9, -999.000,9,   -999.0,9,  -999.00,9,   -999.0,9,   -999.0,9,-999.0000,9,  -999.0,9, -999.0, -999.00,9,  -999.0,  -999.0, -999.00,9
31RBOACES24N_2,  AR01,    13,  1,      4,2,19980126,0049, 26.3485, -18.3325, 3559,   2885.2,   2.8970,  34.9500,  34.9510,2,    234.5,2,     234.0,2,    38.30,2,    21.98,2,     0.00,2,  -999.00,5,    0.002,2,   -0.007,2,    0.000,2, -999.000,9,   -999.0,9,  -999.00,9,   -999.0,9,   -999.0,9,-999.0000,9,  -999.0,9, -999.0, -999.00,9,  -999.0,  -999.0, -999.00,9
31RBOACES24N_2,  AR01,    13,  1,      3,2,19980126,0049, 26.3485, -18.3325, 3559,   3093.5,   2.7430,  34.9340,  34.9350,2,    234.2,2,     234.3,2,    41.00,2,    22.17,2,     0.00,2,  -999.00,5, -999.000,9, -999.000,9, -999.000,9, -999.000,9,   -999.0,9,  -999.00,9,   2205.7,2,   -999.0,9,   7.7183,2,   772.6,3,   20.0, -999.00,9,   363.4,  -999.0, -999.00,9
31RBOACES24N_2,  AR01,    13,  1,      2,2,19980126,0049, 26.3485, -18.3325, 3559,   3334.7,   2.6180,  34.9220,  34.9220,2,    232.5,2,     232.4,2,    43.90,2,    22.47,2,     0.00,2,  -999.00,5, -999.000,9, -999.000,9, -999.000,9, -999.000,9,   -999.0,9,  -999.00,9,   -999.0,9,   -999.0,9,-999.0000,9,  -999.0,9, -999.0, -999.00,9,  -999.0,  -999.0, -999.00,9
31RBOACES24N_2,  AR01,    13,  1,      1,2,19980126,0049, 26.3485, -18.3325, 3559,   3595.2,   2.4690,  34.9070,  34.9080,2,    234.9,2,     236.4,2,    45.70,6,    22.56,6,     0.00,6,  -999.00,5,    0.000,2,    0.005,2,    0.000,2, -999.000,9,   -999.0,9,  -999.00,9,   2212.5,2,   2362.6,2,   7.7222,2,   776.6,2,   20.0, -999.00,9,   360.1,  -999.0, -999.00,9