BOTTLE,20220820CCHSIOAMB
EXPOCODE,SECT_ID,STNNBR,CASTNO,BTLNBR,BTLNBR_FLAG_W,DATE,TIME,LATITUDE,LONGITUDE,DEPTH,CTDPRS,CTDTMP,CTDSAL,SALNTY,SALNTY_FLAG_W,CTDOXY,CTDOXY_FLAG_W,OXYGEN,OXYGEN_FLAG_W,SILCAT,SILCAT_FLAG_W,NITRAT,NITRAT_FLAG_W,NITRIT,NITRIT_FLAG_W,PHSPHT,PHSPHT_FLAG_W,CFC-11,CFC-11_FLAG_W,CFC-12,CFC-12_FLAG_W,CFC113,CFC113_FLAG_W,CCL4,CCL4_FLAG_W,DELC14,DELC14_FLAG_W,DELC13,DELC13_FLAG_W,TCARBN,TCARBN_FLAG_W,ALKALI,ALKALI_FLAG_W,PH,PH_FLAG_W,FCO2,FCO2_FLAG_W,FCO2TMP,TON,TON_FLAG_W,FCO2IN,C14ERR,TOC,TOC_FLAG_W
,,,,,,,,,,,DBAR,ITS-90,PSS-78,PSS-78,,UMOL/KG,,UMOL/KG,,UMOL/KG,,UMOL/KG,,UMOL/KG,,UMOL/KG,,PMOL/KG,,PMOL/KG,,PMOL/KG,,PMOL/KG,,/MILLE,,/MILLE,,UMOL/KG,,UMOL/KG,,,,UATM,,DEG C,UMOL/KG,,UATM,/MILLE,UMOL/KG,
31RBOACES24N_2,  AR01,    60,  1,     36,2,19980207,1230, 24.4998, -49.3328, 5273,      4.1,  23.6190,  37.3980,  37.4000,2,    214.8,2,     216.0,2,  -999.00,9,  -999.00,9,  -999.00,9,  -999.00,9,    1.944,2,    1.104,2,    0.153,2,    1.869,2,   -999.0,9,     1.42,2,   2075.7,6,   2444.2,6,   8.0929,6,   278.2,3,   20.0, -999.00,9,   321.1,  -999.0, -999.00,9
31RBOACES24N_2,  AR01,    60,  1,     35,2,19980207,1230, 24.4998, -49.3328, 5273,     46.3,  23.5760,  37.3900,  37.3850,2,    215.5,2,     213.5,2,     0.40,2,     0.00,2,     0.00,2,     0.01,2,    1.960,2,    1.120,2,    0.168,2,    1.850,2,   -999.0,9,  -999.00,9,   -999.0,9,   -999.0,9,-999.0000,9,  -999.0,9, -999.0, -999.00,9,  -999.0,  -999.0,   69.81,2
31RBOACES24N_2,  AR01,    60,  1,     34,2,19980207,1230, 24.4998, -49.3328, 5273,     90.0,  23.4890,  37.3590,  37.3560,2,    216.0,2,     215.3,2,     0.40,2,     0.00,2,     0.00,2,     0.01,2,    1.940,2,    1.111,2,    0.168,2,    1.897,2,   -999.0,9,  -999.00,9,   -999.0,9,   -999.0,9,-999.0000,9,   293.3,2,   20.0, -999.00,9,   336.7,  -999.0,   70.11,2
31RBOACES24N_2,  AR01,    60,  1,     33,2,19980207,1230, 24.4998, -49.3328, 5273,    136.1,  20.8010,  37.0380,  37.0310,2,    208.9,2,     209.3,2,     0.50,2,     0.49,2,     0.05,2,     0.03,2,    2.217,2,    1.264,2,    0.144,2,    1.077,6,   -999.0,9,  -999.00,9,   -999.0,9,   -999.0,9,-999.0000,9,  -999.0,9, -999.0, -999.00,9,  -999.0,  -999.0,   57.89,2
31RBOACES24N_2,  AR01,    60,  1,     32,2,19980207,1230, 24.4998, -49.3328, 5273,    180.5,  19.2890,  36.8010,  36.7930,2,    199.3,2,     200.5,2,     0.70,2,     2.15,2,     0.01,2,     0.08,2, -999.000,9, -999.000,9, -999.000,9, -999.000,9,   -999.0,9,  -999.00,9,   -999.0,9,   -999.0,9,-999.0000,9,  -999.0,9, -999.0, -999.00,9,  -999.0,  -999.0,   52.71,2
31RBOACES24N_2,  AR01,    60,  1,     31,2,19980207,1230, 24.4998, -49.3328, 5273,    200.5,  18.9410,  36.7490,  36.7440,2,    198.7,2,     199.3,2,     0.90,2,     2.73,2,     0.01,2,     0.12,2,    2.309,2,    1.288,2,    0.067,2,    0.747,2,   -999.0,9,  -999.00,9,   -999.0,9,   -999.0,9,-999.0000,9,  -999.0,9, -999.0, -999.00,9,  -999.0,  -999.0,   50.27,2
31RBOACES24N_2,  AR01,    60,  1,     30,2,19980207,1230, 24.4998, -49.3328, 5273,    225.1,  18.3420,  36.6290,  36.6280,2,    198.5,2,     199.5,2,     1.20,2,     3.71,2,     0.01,2,     0.19,2, -999.000,9, -999.000,9, -999.000,9, -999.000,9,   -999.0,9,  -999.00,9,   -999.0,9,   -999.0,9,-999.0000,9,  -999.0,9, -999.0, -999.00,9,  -999.0,  -999.0, -999.00,9
31RBOACES24N_2,  AR01,    60,  1,     29,2,19980207,1230, 24.4998, -49.3328, 5273,    251.3,  17.9790,  36.5580,  36.5020,2,    198.2,2,     199.7,2,     1.20,2,     4.49,2,     0.01,2,     0.25,2,    2.322,2,    1.281,2,    0.036,2, -999.000,9,   -999.0,9,  -999.00,9,   -999.0,9,   -999.0,9,-999.0000,9,  -999.0,9, -999.0, -999.00,9,  -999.0,  -999.0,   49.49,2
31RBOACES24N_2,  AR01,    60,  1,     28,2,19980207,1230, 24.4998, -49.3328, 5273,    274.9,  17.7450,  36.5060,  36.5490,2,    199.4,2,     200.3,2,     1.40,2,     4.88,2,     0.00,2,     0.29,2,    2.301,2,    1.262,2,    0.040,2,    0.573,2,   -999.0,9,  -999.00,9,   -999.0,9,   -999.0,9,-999.0000,9,  -999.0,9, -999.0, -999.00,9,  -999.0,  -999.0, -999.00,9
31RBOACES24N_2,  AR01,    60,  1,     27,2,19980207,1230, 24.4998, -49.3328, 5273,    300.1,  17.4610,  36.4590,  36.4560,2,    197.9,2,     198.3,2,     1.60,2,     5.46,2,     0.00,2,     0.25,3,    2.314,2,    1.270,2,    0.035,2, -999.000,9,   -999.0,9,  -999.00,9,   -999.0,9,   -999.0,9,-999.0000,9,  -999.0,9, -999.0, -999.00,9,  -999.0,  -999.0,   48.22,2
31RBOACES24N_2,  AR01,    60,  1,     26,2,19980207,1230, 24.4998, -49.3328, 5273,    359.9,  16.6390,  36.3210,  36.3200,2,    197.1,2,     195.3,2,     2.00,2,     7.03,2,     0.00,2,     0.36,2,    2.298,6,    1.244,6,    0.035,6,    0.526,2,   -999.0,9,  -999.00,9,   -999.0,9,   -999.0,9,-999.0000,9,  -999.0,9, -999.0, -999.00,9,  -999.0,  -999.0, -999.00,9
31RBOACES24N_2,  AR01,    60,  1,     25,2,19980207,1230, 24.4998, -49.3328, 5273,    420.7,  15.7420,  36.1690,  36.1690,2,    190.5,2,     189.3,2,     2.80,2,     8.98,2,     0.00,2,     0.48,2,    2.194,2,    1.176,2,    0.031,2, -999.000,9,   -999.0,9,  -999.00,9,   -999.0,9,   -999.0,9,-999.0000,9,  -999.0,9, -999.0, -999.00,9,  -999.0,  -999.0,   45.78,2
31RBOACES24N_2,  AR01,    60,  1,     24,2,19980207,1230, 24.4998, -49.3328, 5273,    480.4,  14.6360,  35.9910,  35.9890,2,    184.7,2,     184.1,2,     3.80,2,    11.23,2,     0.00,2,     0.63,2, -999.000,9, -999.000,9, -999.000,9, -999.000,9,   -999.0,9,  -999.00,9,   -999.0,9,   -999.0,9,-999.0000,9,  -999.0,9, -999.0, -999.00,9,  -999.0,  -999.0, -999.00,9
31RBOACES24N_2,  AR01,    60,  1,     23,2,19980207,1230, 24.4998, -49.3328, 5273,    540.4,  13.5960,  35.8370,  35.8360,2,    177.7,2,     178.0,2,     4.80,2,    13.47,2,     0.00,2,     0.77,2,    1.912,2,    0.986,2,    0.030,2,    0.454,2,   -999.0,9,  -999.00,9,   -999.0,9,   -999.0,9,-999.0000,9,  -999.0,9, -999.0, -999.00,9,  -999.0,  -999.0,   45.77,2
31RBOACES24N_2,  AR01,    60,  1,     22,2,19980207,1230, 24.4998, -49.3328, 5273,    600.4,  12.5960,  35.6950,  35.6950,2,    174.3,2,     174.5,2,     6.00,2,    15.33,2,     0.00,2,     0.89,2, -999.000,9, -999.000,9, -999.000,9, -999.000,9,   -999.0,9,  -999.00,9,   -999.0,9,   -999.0,9,-999.0000,9,  -999.0,9, -999.0, -999.00,9,  -999.0,  -999.0, -999.00,9
31RBOACES24N_2,  AR01,    60,  1,     21,2,19980207,1230, 24.4998, -49.3328, 5273,    701.2,  10.8050,  35.4850,  35.4830,2,    169.3,2,     166.7,2,     9.20,2,    19.04,2,     0.00,2,     1.15,2,    0.980,2,    0.502,2,    0.012,2,    0.337,2,   -999.0,9,  -999.00,9,   -999.0,9,   -999.0,9,-999.0000,9,  -999.0,9, -999.0, -999.00,9,  -999.0,  -999.0,   42.93,2
31RBOACES24N_2,  AR01,    60,  1,     20,2,19980207,1230, 24.4998, -49.3328, 5273,    800.6,   9.3180,  35.3180,  35.3120,2,    157.9,2,     154.9,2,    13.00,2,    22.76,2,     0.00,2,     1.42,2,    0.413,2,    0.218,2,    0.002,2, -999.000,9,   -999.0,9,  -999.00,9,   -999.0,9,   -999.0,9,-999.0000,9,  -999.0,9, -999.0, -999.00,9,  -999.0,  -999.0, -999.00,9
31RBOACES24N_2,  AR01,    60,  1,     19,2,19980207,1230, 24.4998, -49.3328, 5273,    899.9,   7.3330,  35.0770,  35.0820,2,    155.4,2,     156.3,2,    17.50,2,    25.89,2,     0.00,2,     1.67,2,    0.135,2,    0.079,2,    0.008,2,    0.129,2,   -999.0,9,  -999.00,9,   -999.0,9,   -999.0,9,-999.0000,9,  -999.0,9, -999.0, -999.00,9,  -999.0,  -999.0,   43.21,2
31RBOACES24N_2,  AR01,    60,  1,     18,2,19980207,1230, 24.4998, -49.3328, 5273,   1000.3,   6.5070,  35.0560,  35.0550,2,    171.6,2,     175.7,2,    17.70,2,    24.71,2,     0.00,2,     1.60,2,    0.133,2,    0.072,2,    0.004,2, -999.000,9,   -999.0,9,  -999.00,9,   -999.0,9,   -999.0,9,-999.0000,9,  -999.0,9, -999.0, -999.00,9,  -999.0,  -999.0, -999.00,9
31RBOACES24N_2,  AR01,    60,  1,     17,2,19980207,1230, 24.4998, -49.3328, 5273,   1100.6,   5.9580,  35.0600,  35.0590,2,    192.6,2,     194.6,2,    16.80,2,    23.05,2,     0.00,2,     1.50,2,    0.155,2,    0.084,2,    0.004,2,    0.319,2,   -999.0,9,  -999.00,9,   -999.0,9,   -999.0,9,-999.0000,9,  -999.0,9, -999.0, -999.00,9,  -999.0,  -999.0, -999.00,9
31RBOACES24N_2,  AR01,    60,  1,     16,2,19980207,1230, 24.4998, -49.3328, 5273,   1299.8,   5.0770,  35.0520,  35.0510,2,    229.8,2,     230.4,2,    14.50,2,    20.12,2,     0.00,2,     1.31,2,    0.245,6,    0.135,6,    0.007,6, -999.000,9,   -999.0,9,  -999.00,9,   -999.0,9,   -999.0,9,-999.0000,9,  -999.0,9, -999.0, -999.00,9,  -999.0,  -999.0, -999.00,9
31RBOACES24N_2,  AR01,    60,  1,     15,2,19980207,1230, 24.4998, -49.3328, 5273,   1499.0,   4.5790,  35.0440,  35.0430,2,    243.6,2,     244.7,2,    14.60,2,    19.24,2,     0.00,2,     1.26,2,    0.140,2,    0.087,2,    0.006,2,    0.608,2,   -999.0,9,  -999.00,9,   -999.0,9,   -999.0,9,-999.0000,9,  -999.0,9, -999.0, -999.00,9,  -999.0,  -999.0, -999.00,9
31RBOACES24N_2,  AR01,    60,  1,     14,2,19980207,1230, 24.4998, -49.3328, 5273,   1699.6,   4.1680,  35.0290,  35.0280,2,    248.5,2,     246.3,2,    17.50,2,    19.54,2,     0.00,2,     1.28,2, -999.000,9, -999.000,9, -999.000,9, -999.000,9,   -999.0,9,  -999.00,9,   -999.0,9,   -999.0,9,-999.0000,9,  -999.0,9, -999.0, -999.00,9,  -999.0,  -999.0, -999.00,9
31RBOACES24N_2,  AR01,    60,  1,     13,2,19980207,1230, 24.4998, -49.3328, 5273,   1899.1,   3.8010,  35.0160,  35.0140,2,    252.0,2,     251.5,2,    20.00,2,    19.44,2,     0.00,2,     1.28,2,    0.011,2,    0.009,2,    0.000,2,    0.243,2,   -999.0,9,  -999.00,9,   -999.0,9,   -999.0,9,-999.0000,9,  -999.0,9, -999.0, -999.00,9,  -999.0,  -999.0,   42.03,2
31RBOACES24N_2,  AR01,    60,  1,     12,2,19980207,1230, 24.4998, -49.3328, 5273,   2099.7,   3.4790,  34.9920,  34.9930,2,    253.3,2,     253.2,2,    23.30,2,    19.54,2,     0.00,2,     1.30,2, -999.000,9, -999.000,9, -999.000,9, -999.000,9,   -999.0,9,  -999.00,9,   -999.0,9,   -999.0,9,-999.0000,9,  -999.0,9, -999.0, -999.00,9,  -999.0,  -999.0, -999.00,9
31RBOACES24N_2,  AR01,    60,  1,     11,2,19980207,1230, 24.4998, -49.3328, 5273,   2348.5,   3.2090,  34.9720,  34.9720,2,    255.4,2,     255.0,2,    26.30,2,    19.73,2,     0.00,2,     1.31,2,    0.007,2,    0.008,2,    0.010,2,    0.176,2,   -999.0,9,  -999.00,9,   -999.0,9,   -999.0,9,-999.0000,9,  -999.0,9, -999.0, -999.00,9,  -999.0,  -999.0, -999.00,9
31RBOACES24N_2,  AR01,    60,  1,     10,2,19980207,1230, 24.4998, -49.3328, 5273,   2599.4,   3.0010,  34.9560,  34.9540,2,    255.3,2,     258.1,2,    28.80,2,    19.83,2,     0.00,2,     1.33,2, -999.000,9, -999.000,9, -999.000,9, -999.000,9,   -999.0,9,  -999.00,9,   -999.0,9,   -999.0,9,-999.0000,9,  -999.0,9, -999.0, -999.00,9,  -999.0,  -999.0, -999.00,9
31RBOACES24N_2,  AR01,    60,  1,      9,2,19980207,1230, 24.4998, -49.3328, 5273,   2850.6,   2.8380,  34.9410,  34.9410,2,    257.3,2,     256.7,2,    31.70,2,    20.03,2,     0.00,2,     1.34,2,    0.008,2,    0.004,2,   -0.002,2,    0.155,2,   -999.0,9,  -999.00,9,   -999.0,9,   -999.0,9,-999.0000,9,  -999.0,9, -999.0, -999.00,9,  -999.0,  -999.0,   41.74,2
31RBOACES24N_2,  AR01,    60,  1,      8,2,19980207,1230, 24.4998, -49.3328, 5273,   3098.2,   2.6840,  34.9280,  34.9280,2,    258.2,2,     256.8,6,    34.60,2,    20.32,2,     0.00,2,     1.37,2, -999.000,9, -999.000,9, -999.000,9, -999.000,9,   -999.0,9,  -999.00,9,   -999.0,9,   -999.0,9,-999.0000,9,  -999.0,9, -999.0, -999.00,9,  -999.0,  -999.0, -999.00,9
31RBOACES24N_2,  AR01,    60,  1,      7,2,19980207,1230, 24.4998, -49.3328, 5273,   3399.4,   2.5390,  34.9150,  34.9140,2,    259.5,2,     257.9,2,    36.70,2,    20.52,2,     0.00,2,     1.38,2,    0.011,2,    0.007,2,    0.003,2,    0.148,2,   -999.0,9,  -999.00,9,   -999.0,9,   -999.0,9,-999.0000,9,  -999.0,9, -999.0, -999.00,9,  -999.0,  -999.0, -999.00,9
31RBOACES24N_2,  AR01,    60,  1,      6,2,19980207,1230, 24.4998, -49.3328, 5273,   3700.2,   2.3820,  34.9000,  34.8990,2,    259.9,2,     259.1,2,    39.60,2,    20.61,2,     0.00,2,     1.40,2,    0.011,2,    0.008,2,    0.011,2,    0.138,2,   -999.0,9,  -999.00,9,   -999.0,9,   -999.0,9,-999.0000,9,  -999.0,9, -999.0, -999.00,9,  -999.0,  -999.0, -999.00,9
31RBOACES24N_2,  AR01,    60,  1,      5,2,19980207,1230, 24.4998, -49.3328, 5273,   4001.1,   2.2810,  34.8890,  34.8880,2,    260.7,2,     259.9,2,    41.70,2,    20.91,2,     0.00,2,     1.41,2,    0.011,2,    0.011,2,    0.006,2,    0.130,6,   -999.0,9,  -999.00,9,   -999.0,9,   -999.0,9,-999.0000,9,  -999.0,9, -999.0, -999.00,9,  -999.0,  -999.0,   41.25,2
31RBOACES24N_2,  AR01,    60,  1,      4,2,19980207,1230, 24.4998, -49.3328, 5273,   4300.0,   2.2260,  34.8820,  34.8810,2,    260.8,2,     259.6,2,    43.70,2,    21.00,2,     0.00,2,     1.43,2,    0.027,4,    0.015,2,    0.013,2,    0.134,2,   -999.0,9,  -999.00,9,   -999.0,9,   -999.0,9,-999.0000,9,  -999.0,9, -999.0, -999.00,9,  -999.0,  -999.0, -999.00,9
31RBOACES24N_2,  AR01,    60,  1,      3,2,19980207,1230, 24.4998, -49.3328, 5273,   4599.1,   2.1630,  34.8720,  34.8720,2,    260.1,2,     258.9,2,    46.50,2,    21.30,2,     0.00,2,     1.46,2,    0.010,2,    0.012,2,    0.006,2,    0.135,2,   -999.0,9,  -999.00,9,   -999.0,9,   -999.0,9,-999.0000,9,  -999.0,9, -999.0, -999.00,9,  -999.0,  -999.0, -999.00,9
31RBOACES24N_2,  AR01,    60,  1,      2,2,19980207,1230, 24.4998, -49.3328, 5273,   4898.8,   2.0850,  34.8600,  34.8590,2,    257.6,2,     257.0,2,    51.00,2,    22.08,2,     0.00,2,     1.50,2,    0.009,6,    0.012,6,    0.002,6,    0.137,2,   -999.0,9,  -999.00,9,   -999.0,9,   -999.0,9,-999.0000,9,  -999.0,9, -999.0, -999.00,9,  -999.0,  -999.0, -999.00,9
31RBOACES24N_2,  AR01,    60,  1,      1,2,19980207,1230, 24.4998, -49.3328, 5273,   5352.9,   2.1140,  34.8560,  34.8550,2,    256.8,2,     256.0,2,    52.40,6,    22.28,6,     0.00,6,     1.52,6,    0.013,2,    0.015,2,    0.006,2,    0.121,2,   -999.0,9,  -999.00,9,   -999.0,9,   -999.0,9,-999.0000,9,  -999.0,9, -999.0, -999.00,9,  -999.0,  -999.0,   43.78,3