BOTTLE,20220820CCHSIOAMB
EXPOCODE,SECT_ID,STNNBR,CASTNO,BTLNBR,BTLNBR_FLAG_W,DATE,TIME,LATITUDE,LONGITUDE,DEPTH,CTDPRS,CTDTMP,CTDSAL,SALNTY,SALNTY_FLAG_W,CTDOXY,CTDOXY_FLAG_W,OXYGEN,OXYGEN_FLAG_W,SILCAT,SILCAT_FLAG_W,NITRAT,NITRAT_FLAG_W,NITRIT,NITRIT_FLAG_W,PHSPHT,PHSPHT_FLAG_W,CFC-11,CFC-11_FLAG_W,CFC-12,CFC-12_FLAG_W,CFC113,CFC113_FLAG_W,CCL4,CCL4_FLAG_W,DELC14,DELC14_FLAG_W,DELC13,DELC13_FLAG_W,TCARBN,TCARBN_FLAG_W,ALKALI,ALKALI_FLAG_W,PH,PH_FLAG_W,FCO2,FCO2_FLAG_W,FCO2TMP,TON,TON_FLAG_W,FCO2IN,C14ERR,TOC,TOC_FLAG_W
,,,,,,,,,,,DBAR,ITS-90,PSS-78,PSS-78,,UMOL/KG,,UMOL/KG,,UMOL/KG,,UMOL/KG,,UMOL/KG,,UMOL/KG,,PMOL/KG,,PMOL/KG,,PMOL/KG,,PMOL/KG,,/MILLE,,/MILLE,,UMOL/KG,,UMOL/KG,,,,UATM,,DEG C,UMOL/KG,,UATM,/MILLE,UMOL/KG,
31RBOACES24N_2,  AR01,    98,  1,     36,2,19980218,1150, 26.5002, -72.4667, 5159,      4.0,  23.2010,  36.7810,  36.7800,2,    216.2,2,     215.4,2,  -999.00,5,     0.00,2,     0.00,2,     0.01,2,    1.971,2,    1.131,2,    0.157,2,    1.962,2,   -999.0,9,  -999.00,9,   2043.1,6,   2412.8,2,   8.0972,2,   276.8,2,   20.0,    4.43,2,   314.3,  -999.0,   68.67,2
31RBOACES24N_2,  AR01,    98,  1,     35,2,19980218,1150, 26.5002, -72.4667, 5159,     30.0,  23.1710,  36.7810,  36.7810,2,    216.1,2,     215.0,2,  -999.00,5,     0.00,2,     0.00,2,     0.01,2, -999.000,9, -999.000,9, -999.000,9, -999.000,9,   -999.0,9,  -999.00,9,   2043.0,2,   2412.5,2,-999.0000,9,   278.2,2,   20.0,    4.24,2,   315.6,  -999.0,   68.47,2
31RBOACES24N_2,  AR01,    98,  1,     34,2,19980218,1150, 26.5002, -72.4667, 5159,    100.2,  23.1240,  36.7790,  36.7800,2,    217.1,2,     214.9,2,  -999.00,5,     0.00,2,     0.00,2,     0.01,2,    1.955,2,    1.123,2,    0.157,2, -999.000,9,   -999.0,9,  -999.00,9,   2045.8,2,   -999.0,5,   8.0981,2,   279.1,2,   20.0,    4.31,2,   316.0,  -999.0,   67.30,2
31RBOACES24N_2,  AR01,    98,  1,     33,2,19980218,1150, 26.5002, -72.4667, 5159,    129.2,  22.1050,  36.8920,  36.8830,2,    207.0,2,     206.7,2,  -999.00,5,     0.20,2,     0.06,2,     0.02,2, -999.000,9, -999.000,9, -999.000,9, -999.000,9,   -999.0,9,  -999.00,9,   2079.3,2,   2409.4,2,   8.0527,2,   318.8,2,   20.0,    4.17,2,   346.7,  -999.0,   56.84,2
31RBOACES24N_2,  AR01,    98,  1,     32,2,19980218,1150, 26.5002, -72.4667, 5159,    170.8,  20.4730,  36.8370,  36.8310,2,    197.7,2,     198.9,2,  -999.00,5,     0.98,2,     0.02,2,     0.03,2,    2.215,2,    1.251,2,    0.103,2, -999.000,9,   -999.0,9,  -999.00,9,   2095.7,2,   2406.7,2,   8.0172,2,   356.7,2,   20.0, -999.00,9,   363.3,  -999.0,   51.85,2
31RBOACES24N_2,  AR01,    98,  1,     31,2,19980218,1150, 26.5002, -72.4667, 5159,    200.7,  19.5020,  36.7050,  36.7090,2,    197.3,2,     201.5,2,     0.80,2,     1.46,2,     0.01,2,     0.05,2,    2.283,2,    1.279,2,    0.071,2, -999.000,9,   -999.0,9,  -999.00,9,   2095.1,2,   2397.8,2,   8.0081,2,  -999.0,9, -999.0,    5.21,2,  -999.0,  -999.0,   51.26,2
31RBOACES24N_2,  AR01,    98,  1,     30,2,19980218,1150, 26.5002, -72.4667, 5159,    225.7,  19.1780,  36.6650,  36.6650,2,    197.5,2,     198.9,2,     0.80,2,     2.24,2,     0.01,2,     0.07,2, -999.000,9, -999.000,9, -999.000,9, -999.000,9,   -999.0,9,  -999.00,9,   2097.3,2,   2394.6,2,   8.0013,2,   370.7,2,   20.0, -999.00,9,   358.3,  -999.0,   49.99,2
31RBOACES24N_2,  AR01,    98,  1,     29,2,19980218,1150, 26.5002, -72.4667, 5159,    250.0,  18.7660,  36.6250,  36.6250,2,    198.4,2,     199.9,2,     0.90,2,     2.93,2,     0.01,2,     0.10,2,    2.288,2,    1.272,2,    0.031,2, -999.000,9,   -999.0,9,  -999.00,9,   2098.7,2,   -999.0,9,   7.9946,2,  -999.0,9, -999.0, -999.00,9,  -999.0,  -999.0,   48.13,2
31RBOACES24N_2,  AR01,    98,  1,     28,2,19980218,1150, 26.5002, -72.4667, 5159,    270.9,  18.5530,  36.5930,  36.5920,2,    198.6,2,     201.1,2,     0.80,2,     3.32,2,     0.01,2,     0.13,2,    2.345,2,    1.283,2,    0.029,2, -999.000,9,   -999.0,9,  -999.00,9,   2099.7,2,   2391.6,2,   7.9947,2,   376.7,2,   20.0, -999.00,9,   355.4,  -999.0, -999.00,9
31RBOACES24N_2,  AR01,    98,  1,     27,2,19980218,1150, 26.5002, -72.4667, 5159,    300.5,  18.3480,  36.5680,  36.5720,2,    200.8,2,     203.2,2,     0.80,2,     3.51,2,     0.01,2,     0.14,2,    2.335,2,    1.282,2,    0.033,2, -999.000,9,   -999.0,9,  -999.00,9,   2095.8,2,   2389.7,2,   7.9930,2,  -999.0,9, -999.0,    7.10,2,  -999.0,  -999.0,   46.47,2
31RBOACES24N_2,  AR01,    98,  1,     26,2,19980218,1150, 26.5002, -72.4667, 5159,    350.3,  18.0980,  36.5340,  36.5330,2,    203.3,2,     203.6,2,     1.00,2,     4.20,2,     0.01,2,     0.18,2,    2.321,6,    1.270,6,    0.033,6, -999.000,9,   -999.0,9,  -999.00,9,   2099.7,2,   2386.8,2,   7.9864,2,   387.0,2,   20.0, -999.00,9,   358.3,  -999.0, -999.00,9
31RBOACES24N_2,  AR01,    98,  1,     25,2,19980218,1150, 26.5002, -72.4667, 5159,    399.5,  17.7420,  36.4780,  36.4910,2,    196.1,2,     201.1,2,     1.30,2,     4.88,2,     0.01,2,     0.23,2,    2.274,2,    1.244,2,    0.035,2, -999.000,9,   -999.0,9,  -999.00,9,   2104.0,2,   2384.8,2,-999.0000,9,  -999.0,9, -999.0, -999.00,9,  -999.0,  -999.0,   45.98,2
31RBOACES24N_2,  AR01,    98,  1,     24,2,19980218,1150, 26.5002, -72.4667, 5159,    449.2,  17.2530,  36.3950,  36.3980,2,    194.1,2,     190.4,2,     1.70,2,     6.73,2,     0.01,2,     0.33,2,    2.169,2,    1.162,2,    0.024,2, -999.000,9,   -999.0,9,  -999.00,9,   2113.6,2,   2379.6,2,   7.9464,2,   429.4,2,   20.0, -999.00,9,   384.2,  -999.0, -999.00,9
31RBOACES24N_2,  AR01,    98,  1,     23,2,19980218,1150, 26.5002, -72.4667, 5159,    501.1,  16.2660,  36.2270,-999.0000,9,    187.2,2,    -999.0,9,  -999.00,9,  -999.00,9,  -999.00,9,  -999.00,9, -999.000,9, -999.000,9, -999.000,9, -999.000,9,   -999.0,9,  -999.00,9,   -999.0,9,   -999.0,9,-999.0000,9,  -999.0,9, -999.0,   12.23,2,  -999.0,  -999.0,   45.00,2
31RBOACES24N_2,  AR01,    98,  1,     22,2,19980218,1150, 26.5002, -72.4667, 5159,    599.8,  14.3900,  35.9260,  35.9380,2,    177.2,2,     174.4,6,     4.20,2,    12.59,2,     0.01,2,     0.71,2,    1.740,2,    0.900,2,    0.028,2, -999.000,9,   -999.0,9,  -999.00,9,   2140.3,2,   2355.9,2,   7.8578,2,   535.0,2,   20.0, -999.00,9,   425.4,  -999.0, -999.00,9
31RBOACES24N_2,  AR01,    98,  1,     21,2,19980218,1150, 26.5002, -72.4667, 5159,    649.1,  13.4860,  35.7880,  35.7980,2,    173.9,2,     170.9,2,     6.00,2,    14.45,2,     0.01,2,     0.83,2,    1.520,2,    0.785,2,    0.022,2, -999.000,9,   -999.0,9,  -999.00,9,   2148.6,2,   2347.9,2,-999.0000,9,  -999.0,9, -999.0, -999.00,9,  -999.0,  -999.0,   44.40,2
31RBOACES24N_2,  AR01,    98,  1,     20,2,19980218,1150, 26.5002, -72.4667, 5159,    749.0,  11.5130,  35.5100,  35.5120,2,    160.2,2,     156.2,2,     8.80,2,    19.34,2,     0.00,2,     1.17,2,    0.890,2,    0.464,2,    0.017,2, -999.000,9,   -999.0,9,  -999.00,9,   2167.4,2,   -999.0,5,   7.7603,2,   684.9,2,   20.0, -999.00,9,   483.1,  -999.0, -999.00,9
31RBOACES24N_2,  AR01,    98,  1,     19,2,19980218,1150, 26.5002, -72.4667, 5159,    849.6,   9.5650,  35.2590,  35.2530,2,    153.3,2,     149.0,2,    13.20,2,    23.54,2,     0.01,2,     1.49,2,    0.479,2,    0.249,2,    0.013,2, -999.000,9,   -999.0,9,  -999.00,9,   2185.4,2,   2330.0,2,   7.6966,2,   809.3,2,   20.0,   25.39,2,   526.0,  -999.0,   41.37,2
31RBOACES24N_2,  AR01,    98,  1,     18,2,19980218,1150, 26.5002, -72.4667, 5159,    950.6,   7.9020,  35.1080,  35.1090,2,    152.5,2,     156.2,2,    15.90,2,    25.01,2,     0.00,2,     1.62,2,    0.321,6,    0.167,6,    0.010,6, -999.000,9,   -999.0,9,  -999.00,9,   2193.6,2,   2324.2,2,   7.6701,2,   857.0,2,   20.0, -999.00,9,   518.7,  -999.0, -999.00,9
31RBOACES24N_2,  AR01,    98,  1,     17,2,19980218,1150, 26.5002, -72.4667, 5159,   1048.2,   6.9040,  35.0790,  35.0790,2,    178.0,2,     177.2,2,    15.80,2,    23.84,2,     0.00,2,     1.56,2,    0.340,2,    0.172,2,    0.007,2, -999.000,9,   -999.0,9,  -999.00,9,   2189.0,6,   -999.0,5,   7.6783,2,   846.3,2,   20.0, -999.00,9,   489.2,  -999.0,   41.36,2
31RBOACES24N_2,  AR01,    98,  1,     16,2,19980218,1150, 26.5002, -72.4667, 5159,   1248.7,   5.3430,  35.0720,  35.0730,2,    231.8,2,     230.2,2,    12.80,2,    19.63,2,     0.00,2,     1.28,2,    0.632,2,    0.313,2,    0.016,2, -999.000,9,   -999.0,9,  -999.00,9,   2174.2,2,   2324.5,2,   7.7161,2,   768.3,2,   20.0, -999.00,9,   411.9,  -999.0, -999.00,9
31RBOACES24N_2,  AR01,    98,  1,     15,2,19980218,1150, 26.5002, -72.4667, 5159,   1450.4,   4.4870,  35.0190,  35.0190,2,    256.6,2,     255.0,2,    12.10,2,    18.37,2,     0.01,2,     1.20,2,    0.901,2,    0.435,2,    0.037,2, -999.000,9,   -999.0,9,  -999.00,9,   2165.7,2,   2320.1,2,   7.7287,2,  -999.0,9, -999.0,   20.17,2,  -999.0,  -999.0,   41.16,2
31RBOACES24N_2,  AR01,    98,  1,     14,2,19980218,1150, 26.5002, -72.4667, 5159,   1643.2,   4.0470,  34.9860,  34.9880,2,    265.9,2,     264.8,2,    12.40,2,    17.88,2,     0.01,2,     1.17,2, -999.000,9, -999.000,9, -999.000,9,    1.574,2,   -999.0,9,  -999.00,9,   2162.4,2,   2316.9,2,   7.7319,2,   734.4,2,   20.0, -999.00,9,   370.0,  -999.0, -999.00,9
31RBOACES24N_2,  AR01,    98,  1,     13,2,19980218,1150, 26.5002, -72.4667, 5159,   1849.1,   3.8240,  34.9810,  34.9820,2,    268.7,2,     267.1,2,    13.60,2,    17.78,2,     0.01,2,     1.18,2,    0.679,2,    0.335,2,    0.032,2,    1.362,2,   -999.0,9,  -999.00,9,   2161.8,2,   -999.0,9,   7.7353,2,  -999.0,9, -999.0, -999.00,9,  -999.0,  -999.0,   42.62,2
31RBOACES24N_2,  AR01,    98,  1,     12,2,19980218,1150, 26.5002, -72.4667, 5159,   2048.6,   3.6440,  34.9820,  34.9830,2,    267.1,2,     266.1,2,    15.40,2,    18.07,2,     0.01,2,     1.19,2,    0.354,2,    0.181,2,    0.016,2, -999.000,9,   -999.0,9,  -999.00,9,   2160.2,2,   -999.0,9,   7.7380,2,   726.6,2,   20.0, -999.00,9,   358.7,  -999.0, -999.00,9
31RBOACES24N_2,  AR01,    98,  1,     11,2,19980218,1150, 26.5002, -72.4667, 5159,   2252.1,   3.3790,  34.9620,  34.9630,2,    269.4,2,     269.4,2,    16.30,2,    17.88,2,     0.01,2,     1.18,2,    0.473,2,    0.234,2,    0.021,2,    1.038,2,   -999.0,9,  -999.00,9,   2161.0,2,   -999.0,9,   7.7385,2,  -999.0,9, -999.0,   19.92,2,  -999.0,  -999.0,   41.54,2
31RBOACES24N_2,  AR01,    98,  1,     10,2,19980218,1150, 26.5002, -72.4667, 5159,   2449.2,   3.2830,  34.9570,  34.9590,2,    269.6,2,     269.5,2,    17.10,2,    17.78,2,     0.01,2,     1.19,2,    0.440,2,    0.218,2,    0.018,2, -999.000,9,   -999.0,9,  -999.00,9,   2161.0,2,   -999.0,9,   7.7380,2,  -999.0,9, -999.0, -999.00,9,  -999.0,  -999.0, -999.00,9
31RBOACES24N_2,  AR01,    98,  1,      9,2,19980218,1150, 26.5002, -72.4667, 5159,   2631.9,   3.1420,  34.9530,  34.9540,2,    268.5,2,     269.1,2,    19.10,2,    17.98,2,     0.01,2,     1.20,2,    0.304,2,    0.150,2,    0.013,2,    0.802,2,   -999.0,9,  -999.00,9,   2161.9,2,   2317.3,2,   7.7399,2,   718.1,2,   20.0, -999.00,9,   345.5,  -999.0,   41.35,2
31RBOACES24N_2,  AR01,    98,  1,      8,2,19980218,1150, 26.5002, -72.4667, 5159,   2826.8,   2.9320,  34.9400,  34.9400,2,    270.2,2,     271.3,2,    19.90,2,    17.88,2,     0.01,2,     1.19,2,    0.411,2,    0.201,2,    0.011,2, -999.000,9,   -999.0,9,  -999.00,9,   2162.7,2,   -999.0,9,   7.7390,2,   724.4,2,   20.0, -999.00,9,   345.1,  -999.0, -999.00,9
31RBOACES24N_2,  AR01,    98,  1,      7,2,19980218,1150, 26.5002, -72.4667, 5159,   3049.2,   2.7660,  34.9300,  34.9290,2,    272.8,2,     274.3,2,    20.30,2,    17.59,2,     0.01,2,     1.18,2,    0.511,2,    0.245,2,    0.019,2,    1.019,2,   -999.0,9,  -999.00,9,   2160.9,2,   -999.0,9,-999.0000,9,  -999.0,9, -999.0,   19.52,2,  -999.0,  -999.0,   41.44,2
31RBOACES24N_2,  AR01,    98,  1,      6,2,19980218,1150, 26.5002, -72.4667, 5159,   3349.8,   2.5480,  34.9160,  34.9160,2,    274.8,2,     276.0,2,    21.70,2,    17.49,2,     0.01,2,     1.18,2,    0.613,6,    0.298,6,    0.024,6, -999.000,9,   -999.0,9,  -999.00,9,   2162.8,2,   -999.0,9,   7.7363,2,   725.5,2,   20.0, -999.00,9,   339.2,  -999.0, -999.00,9
31RBOACES24N_2,  AR01,    98,  1,      5,2,19980218,1150, 26.5002, -72.4667, 5159,   3649.6,   2.4000,  34.9070,  34.9060,2,    275.9,2,     276.1,2,    24.00,2,    17.59,2,     0.01,2,     1.20,2,    0.671,2,    0.327,2,    0.029,2,    1.236,2,   -999.0,9,  -999.00,9,   2165.1,2,   2319.9,2,   7.7316,2,  -999.0,9, -999.0, -999.00,9,  -999.0,  -999.0,   41.35,2
31RBOACES24N_2,  AR01,    98,  1,      4,2,19980218,1150, 26.5002, -72.4667, 5159,   3935.6,   2.3410,  34.9010,  34.9010,2,    273.4,2,     274.5,2,    26.30,2,    17.88,2,     0.01,2,     1.21,2,    0.604,2,    0.292,2,    0.029,2,    1.168,6,   -999.0,9,  -999.00,9,   2168.3,2,   -999.0,9,-999.0000,9,   730.3,2,   20.0, -999.00,9,   337.6,  -999.0, -999.00,9
31RBOACES24N_2,  AR01,    98,  1,      3,2,19980218,1150, 26.5002, -72.4667, 5159,   4348.8,   2.2950,  34.8950,  34.8940,2,    272.4,2,     272.3,2,    29.50,2,    18.37,2,     0.01,2,     1.26,2,    0.492,2,    0.242,2,    0.026,2,    0.992,2,   -999.0,9,  -999.00,9,   2173.1,2,   -999.0,9,   7.7281,2,  -999.0,9, -999.0, -999.00,9,  -999.0,  -999.0,   41.44,2
31RBOACES24N_2,  AR01,    98,  1,      2,2,19980218,1150, 26.5002, -72.4667, 5159,   4730.6,   2.2800,  34.8890,  34.8890,2,    268.9,2,     268.6,2,    33.60,2,    19.05,2,     0.01,2,     1.31,2,    0.310,2,    0.161,2,    0.019,2,    0.777,2,   -999.0,9,  -999.00,9,   2178.1,2,   -999.0,9,   7.7290,2,   744.6,2,   20.0, -999.00,9,   342.8,  -999.0, -999.00,9
31RBOACES24N_2,  AR01,    98,  1,      1,2,19980218,1150, 26.5002, -72.4667, 5159,   5262.9,   2.1930,  34.8690,  34.8700,2,    259.1,2,     261.0,2,    43.90,6,    20.81,6,     0.01,6,     1.44,6,    0.125,2,    0.074,2,    0.016,2,    0.392,2,   -999.0,9,  -999.00,9,   2191.6,2,   2346.9,2,   7.7213,2,   762.5,6,   20.0, -999.00,9,   348.9,  -999.0,   42.71,2