BOTTLE,20220820CCHSIOAMB
EXPOCODE,SECT_ID,STNNBR,CASTNO,BTLNBR,BTLNBR_FLAG_W,DATE,TIME,LATITUDE,LONGITUDE,DEPTH,CTDPRS,CTDTMP,CTDSAL,SALNTY,SALNTY_FLAG_W,CTDOXY,CTDOXY_FLAG_W,OXYGEN,OXYGEN_FLAG_W,SILCAT,SILCAT_FLAG_W,NITRAT,NITRAT_FLAG_W,NITRIT,NITRIT_FLAG_W,PHSPHT,PHSPHT_FLAG_W,CFC-11,CFC-11_FLAG_W,CFC-12,CFC-12_FLAG_W,CFC113,CFC113_FLAG_W,CCL4,CCL4_FLAG_W,DELC14,DELC14_FLAG_W,DELC13,DELC13_FLAG_W,TCARBN,TCARBN_FLAG_W,ALKALI,ALKALI_FLAG_W,PH,PH_FLAG_W,FCO2,FCO2_FLAG_W,FCO2TMP,TON,TON_FLAG_W,FCO2IN,C14ERR,TOC,TOC_FLAG_W
,,,,,,,,,,,DBAR,ITS-90,PSS-78,PSS-78,,UMOL/KG,,UMOL/KG,,UMOL/KG,,UMOL/KG,,UMOL/KG,,UMOL/KG,,PMOL/KG,,PMOL/KG,,PMOL/KG,,PMOL/KG,,/MILLE,,/MILLE,,UMOL/KG,,UMOL/KG,,,,UATM,,DEG C,UMOL/KG,,UATM,/MILLE,UMOL/KG,
31RBOACES24N_2,  AR01,   101,  1,     36,2,19980219,0340, 26.5002, -73.5832, 4932,      3.9,  22.2710,  36.6570,  36.6570,2,    216.3,2,     219.8,2,     0.50,2,     0.00,2,     0.00,2,     0.01,2, -999.000,9, -999.000,9, -999.000,9, -999.000,9,   -999.0,9,     1.15,2,   2042.2,6,   2393.8,2,   8.0823,2,   294.5,6,   20.0, -999.00,9,   322.4,  -999.0, -999.00,9
31RBOACES24N_2,  AR01,   101,  1,     35,2,19980219,0340, 26.5002, -73.5832, 4932,     48.8,  21.9170,  36.6530,  36.6520,2,    220.0,2,     220.3,6,     0.50,2,     0.00,2,     0.01,2,     0.02,2, -999.000,9, -999.000,9, -999.000,9, -999.000,9,   -999.0,9,  -999.00,9,   -999.0,9,   2390.4,2,   8.0837,2,   295.4,2,   20.0, -999.00,9,   318.9,  -999.0, -999.00,9
31RBOACES24N_2,  AR01,   101,  1,     34,2,19980219,0340, 26.5002, -73.5832, 4932,    100.6,  21.2470,  36.5640,  36.5740,2,    220.7,2,     221.1,2,     0.50,2,     0.10,2,     0.01,2,     0.02,2, -999.000,9, -999.000,9, -999.000,9, -999.000,9,   -999.0,9,  -999.00,9,   2044.9,2,   2391.7,2,   8.0795,2,   303.6,2,   20.0, -999.00,9,   319.1,  -999.0, -999.00,9
31RBOACES24N_2,  AR01,   101,  1,     33,2,19980219,0340, 26.5002, -73.5832, 4932,    149.1,  19.6730,  36.7010,  36.6990,2,    202.1,2,     202.8,2,     0.50,2,     1.46,2,     0.03,2,     0.05,2, -999.000,9, -999.000,9, -999.000,9, -999.000,9,   -999.0,9,  -999.00,9,   2090.0,2,   2393.9,2,   8.0112,2,   360.5,2,   20.0, -999.00,9,   355.9,  -999.0, -999.00,9
31RBOACES24N_2,  AR01,   101,  1,     32,2,19980219,0340, 26.5002, -73.5832, 4932,    198.9,  18.7490,  36.6210,  36.6190,2,    203.0,2,     203.8,2,     0.80,2,     2.63,2,     0.01,2,     0.10,2, -999.000,9, -999.000,9, -999.000,9, -999.000,9,   -999.0,9,  -999.00,9,   -999.0,9,   -999.0,9,-999.0000,9,  -999.0,9, -999.0, -999.00,9,  -999.0,  -999.0, -999.00,9
31RBOACES24N_2,  AR01,   101,  1,     31,2,19980219,0340, 26.5002, -73.5832, 4932,    223.4,  18.5490,  36.5950,  36.5960,2,    206.4,2,     205.9,2,     0.90,2,     2.93,2,     0.01,2,     0.11,2, -999.000,9, -999.000,9, -999.000,9, -999.000,9,   -999.0,9,  -999.00,9,   -999.0,9,   -999.0,9,-999.0000,9,  -999.0,9, -999.0, -999.00,9,  -999.0,  -999.0, -999.00,9
31RBOACES24N_2,  AR01,   101,  1,     30,2,19980219,0340, 26.5002, -73.5832, 4932,    249.5,  18.3680,  36.5740,  36.5730,2,    208.1,2,     209.4,2,     1.00,2,     3.12,2,     0.01,2,     0.13,2, -999.000,9, -999.000,9, -999.000,9, -999.000,9,   -999.0,9,  -999.00,9,   2091.3,2,   2391.8,2,   8.0019,2,   376.4,2,   20.0, -999.00,9,   352.3,  -999.0, -999.00,9
31RBOACES24N_2,  AR01,   101,  1,     29,2,19980219,0340, 26.5002, -73.5832, 4932,    274.2,  18.2610,  36.5660,  36.5650,2,    210.9,2,     211.6,2,     1.00,2,     3.12,2,     0.01,2,     0.13,2, -999.000,9, -999.000,9, -999.000,9, -999.000,9,   -999.0,9,  -999.00,9,   -999.0,9,   -999.0,9,-999.0000,9,  -999.0,9, -999.0, -999.00,9,  -999.0,  -999.0, -999.00,9
31RBOACES24N_2,  AR01,   101,  1,     28,2,19980219,0340, 26.5002, -73.5832, 4932,    299.4,  18.2100,  36.5610,  36.5610,2,    212.6,2,     211.7,2,     1.00,2,     3.12,2,     0.01,2,     0.14,2, -999.000,9, -999.000,9, -999.000,9, -999.000,9,   -999.0,9,  -999.00,9,   -999.0,9,   -999.0,9,-999.0000,9,  -999.0,9, -999.0, -999.00,9,  -999.0,  -999.0, -999.00,9
31RBOACES24N_2,  AR01,   101,  1,     27,2,19980219,0340, 26.5002, -73.5832, 4932,    373.8,  17.9900,  36.5290,  36.5310,2,    216.6,2,     210.9,2,     1.20,2,     3.71,2,     0.01,2,     0.17,2, -999.000,9, -999.000,9, -999.000,9, -999.000,9,   -999.0,9,  -999.00,9,   -999.0,9,   -999.0,9,-999.0000,9,  -999.0,9, -999.0, -999.00,9,  -999.0,  -999.0, -999.00,9
31RBOACES24N_2,  AR01,   101,  1,     26,2,19980219,0340, 26.5002, -73.5832, 4932,    448.6,  17.3540,  36.4080,  36.4110,2,    200.2,2,     196.0,2,     1.80,2,     6.05,2,     0.01,2,     0.30,2, -999.000,9, -999.000,9, -999.000,9, -999.000,9,   -999.0,9,  -999.00,9,   2108.1,2,   2377.4,2,-999.0000,9,   416.0,2,   20.0, -999.00,9,   373.6,  -999.0, -999.00,9
31RBOACES24N_2,  AR01,   101,  1,     25,2,19980219,0340, 26.5002, -73.5832, 4932,    496.3,  16.6400,  36.2780,  36.2870,2,    190.7,2,     187.2,2,     2.40,2,     7.90,2,     0.01,2,     0.42,2, -999.000,9, -999.000,9, -999.000,9, -999.000,9,   -999.0,9,  -999.00,9,   -999.0,9,   -999.0,9,-999.0000,9,  -999.0,9, -999.0, -999.00,9,  -999.0,  -999.0, -999.00,9
31RBOACES24N_2,  AR01,   101,  1,     24,2,19980219,0340, 26.5002, -73.5832, 4932,    549.4,  15.7650,  36.1370,  36.1440,2,    179.9,2,     179.7,2,     3.20,2,     9.95,2,     0.01,2,     0.55,2, -999.000,9, -999.000,9, -999.000,9, -999.000,9,   -999.0,9,  -999.00,9,   -999.0,9,   -999.0,9,-999.0000,9,  -999.0,9, -999.0, -999.00,9,  -999.0,  -999.0, -999.00,9
31RBOACES24N_2,  AR01,   101,  1,     23,2,19980219,0340, 26.5002, -73.5832, 4932,    601.0,  14.7260,  35.9710,  35.9830,2,    171.8,2,     173.9,2,     4.20,2,    12.10,2,     0.01,2,     0.70,2, -999.000,9, -999.000,9, -999.000,9, -999.000,9,   -999.0,9,  -999.00,9,   -999.0,9,   -999.0,9,-999.0000,9,  -999.0,9, -999.0, -999.00,9,  -999.0,  -999.0, -999.00,9
31RBOACES24N_2,  AR01,   101,  1,     22,2,19980219,0340, 26.5002, -73.5832, 4932,    649.8,  13.6440,  35.8090,  35.8270,2,    165.1,2,     168.2,2,     5.40,2,    14.25,2,     0.01,2,     0.85,2, -999.000,9, -999.000,9, -999.000,9, -999.000,9,   -999.0,9,  -999.00,9,   2146.6,2,   2351.6,2,   7.8326,2,   568.5,2,   20.0, -999.00,9,   437.9,  -999.0, -999.00,9
31RBOACES24N_2,  AR01,   101,  1,     21,2,19980219,0340, 26.5002, -73.5832, 4932,    693.1,  12.7310,  35.6730,  35.6790,2,    159.6,2,     162.8,2,     6.80,2,    16.49,2,     0.01,2,     0.99,2, -999.000,9, -999.000,9, -999.000,9, -999.000,9,   -999.0,9,  -999.00,9,   -999.0,9,   -999.0,9,-999.0000,9,  -999.0,9, -999.0, -999.00,9,  -999.0,  -999.0, -999.00,9
31RBOACES24N_2,  AR01,   101,  1,     20,2,19980219,0340, 26.5002, -73.5832, 4932,    791.8,  10.5670,  35.3840,  35.3940,2,    150.2,2,     151.3,2,    10.70,2,    21.09,2,     0.01,2,     1.33,2, -999.000,9, -999.000,9, -999.000,9, -999.000,9,   -999.0,9,  -999.00,9,   2175.1,2,   2328.5,2,   7.7243,2,   737.8,2,   20.0, -999.00,9,   500.2,  -999.0, -999.00,9
31RBOACES24N_2,  AR01,   101,  1,     19,2,19980219,0340, 26.5002, -73.5832, 4932,    898.5,   8.6290,  35.1690,  35.1650,2,    150.7,2,     149.8,2,    14.90,2,    24.51,2,     0.01,2,     1.59,2, -999.000,9, -999.000,9, -999.000,9, -999.000,9,   -999.0,9,  -999.00,9,   2188.4,2,   2324.6,2,   7.6784,2,   841.1,2,   20.0, -999.00,9,   525.4,  -999.0, -999.00,9
31RBOACES24N_2,  AR01,   101,  1,     18,2,19980219,0340, 26.5002, -73.5832, 4932,   1000.5,   7.2570,  35.0720,  35.0770,2,    168.6,2,     165.3,2,    16.40,2,    24.61,2,     0.01,2,     1.62,2, -999.000,9, -999.000,9, -999.000,9, -999.000,9,   -999.0,9,  -999.00,9,   2191.6,6,   2318.4,2,   7.6653,2,   866.4,2,   20.0, -999.00,9,   509.2,  -999.0, -999.00,9
31RBOACES24N_2,  AR01,   101,  1,     17,2,19980219,0340, 26.5002, -73.5832, 4932,   1197.9,   5.5620,  35.0780,  35.0780,2,    227.2,2,     223.7,2,    13.30,2,    19.92,2,     0.01,2,     1.32,2, -999.000,9, -999.000,9, -999.000,9, -999.000,9,   -999.0,9,  -999.00,9,   -999.0,9,   -999.0,9,-999.0000,9,  -999.0,9, -999.0, -999.00,9,  -999.0,  -999.0, -999.00,9
31RBOACES24N_2,  AR01,   101,  1,     16,2,19980219,0340, 26.5002, -73.5832, 4932,   1397.2,   4.6690,  35.0330,  35.0340,2,    251.6,2,     250.2,2,    12.50,2,    18.36,2,     0.01,2,     1.22,2, -999.000,9, -999.000,9, -999.000,9, -999.000,9,   -999.0,9,  -999.00,9,   2164.1,2,   2319.3,2,   7.7249,2,   744.0,2,   20.0, -999.00,9,   386.2,  -999.0, -999.00,9
31RBOACES24N_2,  AR01,   101,  1,     15,2,19980219,0340, 26.5002, -73.5832, 4932,   1597.7,   4.1010,  34.9880,  34.9900,2,    264.8,2,     263.7,2,    12.60,2,    17.87,2,     0.01,2,     1.18,2, -999.000,9, -999.000,9, -999.000,9, -999.000,9,   -999.0,9,  -999.00,9,   -999.0,9,   -999.0,9,-999.0000,9,  -999.0,9, -999.0, -999.00,9,  -999.0,  -999.0, -999.00,9
31RBOACES24N_2,  AR01,   101,  1,     14,2,19980219,0340, 26.5002, -73.5832, 4932,   1797.1,   3.8360,  34.9760,  34.9760,2,    269.0,2,     268.1,2,    13.40,2,    17.58,2,     0.01,2,     1.18,2, -999.000,9, -999.000,9, -999.000,9, -999.000,9,   -999.0,9,  -999.00,9,   -999.0,9,   -999.0,9,-999.0000,9,  -999.0,9, -999.0, -999.00,9,  -999.0,  -999.0, -999.00,9
31RBOACES24N_2,  AR01,   101,  1,     13,2,19980219,0340, 26.5002, -73.5832, 4932,   1996.0,   3.6610,  34.9710,  34.9730,2,    268.6,2,     268.1,2,    14.50,2,    17.48,2,     0.01,2,     1.18,2, -999.000,9, -999.000,9, -999.000,9, -999.000,9,   -999.0,9,  -999.00,9,   2159.6,2,   2311.8,2,   7.7362,2,   725.4,2,   20.0, -999.00,9,   358.4,  -999.0, -999.00,9
31RBOACES24N_2,  AR01,   101,  1,     12,2,19980219,0340, 26.5002, -73.5832, 4932,   2199.2,   3.4960,  34.9710,  34.9710,2,    267.7,2,     267.7,2,    16.20,2,    17.77,2,     0.01,2,     1.19,2, -999.000,9, -999.000,9, -999.000,9, -999.000,9,   -999.0,9,  -999.00,9,   -999.0,9,   -999.0,9,-999.0000,9,  -999.0,9, -999.0, -999.00,9,  -999.0,  -999.0, -999.00,9
31RBOACES24N_2,  AR01,   101,  1,     11,2,19980219,0340, 26.5002, -73.5832, 4932,   2399.2,   3.3230,  34.9640,  34.9640,2,    268.4,2,     268.1,2,    17.90,2,    17.87,2,     0.01,2,     1.21,2, -999.000,9, -999.000,9, -999.000,9, -999.000,9,   -999.0,9,  -999.00,9,   -999.0,9,   -999.0,9,-999.0000,9,  -999.0,9, -999.0, -999.00,9,  -999.0,  -999.0, -999.00,9
31RBOACES24N_2,  AR01,   101,  1,     10,2,19980219,0340, 26.5002, -73.5832, 4932,   2598.2,   3.1390,  34.9520,  34.9530,2,    269.5,2,     269.2,2,    18.70,2,    17.77,2,     0.01,2,     1.21,2, -999.000,9, -999.000,9, -999.000,9, -999.000,9,   -999.0,9,  -999.00,9,   -999.0,9,   -999.0,9,-999.0000,9,  -999.0,9, -999.0, -999.00,9,  -999.0,  -999.0, -999.00,9
31RBOACES24N_2,  AR01,   101,  1,      9,2,19980219,0340, 26.5002, -73.5832, 4932,   2796.2,   2.9950,  34.9460,  34.9460,2,    268.3,2,     268.9,2,    20.50,2,    17.97,2,     0.01,2,     1.22,2, -999.000,9, -999.000,9, -999.000,9, -999.000,9,   -999.0,9,  -999.00,9,   -999.0,9,   -999.0,9,-999.0000,9,  -999.0,9, -999.0, -999.00,9,  -999.0,  -999.0, -999.00,9
31RBOACES24N_2,  AR01,   101,  1,      8,2,19980219,0340, 26.5002, -73.5832, 4932,   2999.9,   2.8030,  34.9310,  34.9310,2,    274.2,2,     273.4,2,    19.90,2,    17.48,2,     0.01,2,     1.19,2, -999.000,9, -999.000,9, -999.000,9, -999.000,9,   -999.0,9,  -999.00,9,   -999.0,9,   -999.0,9,-999.0000,9,  -999.0,9, -999.0, -999.00,9,  -999.0,  -999.0, -999.00,9
31RBOACES24N_2,  AR01,   101,  1,      7,2,19980219,0340, 26.5002, -73.5832, 4932,   3176.2,   2.6840,  34.9240,  34.9240,2,    275.9,2,     274.5,2,    20.60,2,    17.38,2,     0.01,2,     1.18,2, -999.000,9, -999.000,9, -999.000,9, -999.000,9,   -999.0,9,  -999.00,9,   -999.0,9,   -999.0,9,-999.0000,9,  -999.0,9, -999.0, -999.00,9,  -999.0,  -999.0, -999.00,9
31RBOACES24N_2,  AR01,   101,  1,      6,2,19980219,0340, 26.5002, -73.5832, 4932,   3397.9,   2.5430,  34.9160,  34.9160,2,    276.2,2,     275.5,2,    21.80,2,    17.28,2,     0.01,2,     1.19,2, -999.000,9, -999.000,9, -999.000,9, -999.000,9,   -999.0,9,  -999.00,9,   -999.0,9,   -999.0,9,-999.0000,9,  -999.0,9, -999.0, -999.00,9,  -999.0,  -999.0, -999.00,9
31RBOACES24N_2,  AR01,   101,  1,      5,2,19980219,0340, 26.5002, -73.5832, 4932,   3598.0,   2.4580,  34.9100,  34.9110,2,    276.7,2,     275.1,2,    23.30,2,    17.48,2,     0.01,2,     1.20,2, -999.000,9, -999.000,9, -999.000,9, -999.000,9,   -999.0,9,  -999.00,9,   -999.0,9,   -999.0,9,-999.0000,9,  -999.0,9, -999.0, -999.00,9,  -999.0,  -999.0, -999.00,9
31RBOACES24N_2,  AR01,   101,  1,      4,2,19980219,0340, 26.5002, -73.5832, 4932,   3799.0,   2.3730,  34.9040,  34.9050,2,    276.3,2,     274.7,2,    25.00,2,    17.68,2,     0.01,2,     1.21,2, -999.000,9, -999.000,9, -999.000,9, -999.000,9,   -999.0,9,  -999.00,9,   -999.0,9,   -999.0,9,-999.0000,9,  -999.0,9, -999.0, -999.00,9,  -999.0,  -999.0, -999.00,9
31RBOACES24N_2,  AR01,   101,  1,      3,2,19980219,0340, 26.5002, -73.5832, 4932,   4197.9,   2.2820,  34.8950,  34.8950,2,    273.8,2,     272.2,2,    29.30,2,    18.26,2,     0.01,2,     1.26,2, -999.000,9, -999.000,9, -999.000,9, -999.000,9,   -999.0,9,  -999.00,9,   -999.0,9,   -999.0,9,-999.0000,9,  -999.0,9, -999.0, -999.00,9,  -999.0,  -999.0, -999.00,9
31RBOACES24N_2,  AR01,   101,  1,      2,2,19980219,0340, 26.5002, -73.5832, 4932,   4600.1,   2.2440,  34.8860,  34.8860,2,    269.2,2,     267.7,2,    34.90,2,    19.14,2,     0.01,2,     1.32,2, -999.000,9, -999.000,9, -999.000,9, -999.000,9,   -999.0,9,  -999.00,9,   -999.0,9,   -999.0,9,-999.0000,9,  -999.0,9, -999.0, -999.00,9,  -999.0,  -999.0, -999.00,9
31RBOACES24N_2,  AR01,   101,  1,      1,2,19980219,0340, 26.5002, -73.5832, 4932,   5005.3,   2.1220,  34.8640,  34.8640,2,    258.3,2,     258.6,2,    47.30,6,    21.19,6,     0.01,6,     1.47,6, -999.000,9, -999.000,9, -999.000,9, -999.000,9,   -999.0,9,  -999.00,9,   -999.0,9,   -999.0,9,-999.0000,9,  -999.0,9, -999.0, -999.00,9,  -999.0,  -999.0, -999.00,9