BOTTLE,20220820CCHSIOAMB
EXPOCODE,SECT_ID,STNNBR,CASTNO,BTLNBR,BTLNBR_FLAG_W,DATE,TIME,LATITUDE,LONGITUDE,DEPTH,CTDPRS,CTDTMP,CTDSAL,SALNTY,SALNTY_FLAG_W,CTDOXY,CTDOXY_FLAG_W,OXYGEN,OXYGEN_FLAG_W,SILCAT,SILCAT_FLAG_W,NITRAT,NITRAT_FLAG_W,NITRIT,NITRIT_FLAG_W,PHSPHT,PHSPHT_FLAG_W,CFC-11,CFC-11_FLAG_W,CFC-12,CFC-12_FLAG_W,CFC113,CFC113_FLAG_W,CCL4,CCL4_FLAG_W,DELC14,DELC14_FLAG_W,DELC13,DELC13_FLAG_W,TCARBN,TCARBN_FLAG_W,ALKALI,ALKALI_FLAG_W,PH,PH_FLAG_W,FCO2,FCO2_FLAG_W,FCO2TMP,TON,TON_FLAG_W,FCO2IN,C14ERR,TOC,TOC_FLAG_W
,,,,,,,,,,,DBAR,ITS-90,PSS-78,PSS-78,,UMOL/KG,,UMOL/KG,,UMOL/KG,,UMOL/KG,,UMOL/KG,,UMOL/KG,,PMOL/KG,,PMOL/KG,,PMOL/KG,,PMOL/KG,,/MILLE,,/MILLE,,UMOL/KG,,UMOL/KG,,,,UATM,,DEG C,UMOL/KG,,UATM,/MILLE,UMOL/KG,
31RBOACES24N_2,  AR01,    95,  1,     36,2,19980217,1945, 26.4993, -71.3505, 5488,      3.6,  23.7160,  36.7700,  36.7700,2,    209.4,2,     213.7,2,     0.90,2,     0.00,2,     0.00,2,     0.00,2, -999.000,9, -999.000,9, -999.000,9, -999.000,9,   -999.0,9,  -999.00,9,   2035.4,6,   2408.3,6,   8.1060,6,   282.4,6,   20.0, -999.00,9,   327.1,  -999.0, -999.00,9
31RBOACES24N_2,  AR01,    95,  1,     35,2,19980217,1945, 26.4993, -71.3505, 5488,     50.9,  23.6410,  36.7740,  36.7750,2,    211.1,2,     211.6,2,     0.90,2,     0.00,2,     0.00,2,     0.00,2, -999.000,9, -999.000,9, -999.000,9, -999.000,9,   -999.0,9,  -999.00,9,   -999.0,9,   -999.0,9,-999.0000,9,  -999.0,9, -999.0, -999.00,9,  -999.0,  -999.0, -999.00,9
31RBOACES24N_2,  AR01,    95,  1,     34,2,19980217,1945, 26.4993, -71.3505, 5488,     75.6,  23.5010,  36.9460,  36.9370,2,    213.4,2,     213.0,2,     0.70,2,     0.00,2,     0.01,2,     0.01,2, -999.000,9, -999.000,9, -999.000,9, -999.000,9,   -999.0,9,  -999.00,9,   -999.0,9,   -999.0,9,-999.0000,9,  -999.0,9, -999.0, -999.00,9,  -999.0,  -999.0, -999.00,9
31RBOACES24N_2,  AR01,    95,  1,     33,2,19980217,1945, 26.4993, -71.3505, 5488,    100.7,  22.7200,  36.7940,  36.8050,2,    212.9,2,     214.2,2,     0.70,2,     0.00,2,     0.02,2,     0.01,2, -999.000,9, -999.000,9, -999.000,9, -999.000,9,   -999.0,9,  -999.00,9,   -999.0,9,   -999.0,9,-999.0000,9,  -999.0,9, -999.0, -999.00,9,  -999.0,  -999.0, -999.00,9
31RBOACES24N_2,  AR01,    95,  1,     32,2,19980217,1945, 26.4993, -71.3505, 5488,    151.0,  22.1560,  37.0880,  37.0610,2,    201.6,2,     197.7,2,     0.60,2,     0.59,2,     0.04,2,     0.02,2, -999.000,9, -999.000,9, -999.000,9, -999.000,9,   -999.0,9,  -999.00,9,   -999.0,9,   -999.0,9,-999.0000,9,  -999.0,9, -999.0, -999.00,9,  -999.0,  -999.0, -999.00,9
31RBOACES24N_2,  AR01,    95,  1,     31,2,19980217,1945, 26.4993, -71.3505, 5488,    200.7,  20.0080,  36.7920,  36.7780,2,    196.2,2,     197.7,2,     0.70,2,     1.27,2,     0.02,2,     0.04,2, -999.000,9, -999.000,9, -999.000,9, -999.000,9,   -999.0,9,  -999.00,9,   -999.0,9,   -999.0,9,-999.0000,9,  -999.0,9, -999.0, -999.00,9,  -999.0,  -999.0, -999.00,9
31RBOACES24N_2,  AR01,    95,  1,     30,2,19980217,1945, 26.4993, -71.3505, 5488,    224.5,  19.2940,  36.6850,  36.6810,2,    195.9,2,     198.7,2,     0.90,2,     1.95,2,     0.01,2,     0.06,2, -999.000,9, -999.000,9, -999.000,9, -999.000,9,   -999.0,9,  -999.00,9,   -999.0,9,   -999.0,9,-999.0000,9,  -999.0,9, -999.0, -999.00,9,  -999.0,  -999.0, -999.00,9
31RBOACES24N_2,  AR01,    95,  1,     29,2,19980217,1945, 26.4993, -71.3505, 5488,    250.8,  18.7910,  36.6230,  36.6220,2,    196.9,2,     199.6,2,     1.00,2,     2.93,2,     0.01,2,     0.10,2, -999.000,9, -999.000,9, -999.000,9, -999.000,9,   -999.0,9,  -999.00,9,   -999.0,9,   -999.0,9,-999.0000,9,  -999.0,9, -999.0, -999.00,9,  -999.0,  -999.0, -999.00,9
31RBOACES24N_2,  AR01,    95,  1,     28,2,19980217,1945, 26.4993, -71.3505, 5488,    274.7,  18.6250,  36.6000,  36.6000,2,    196.2,2,     200.2,2,     1.10,2,     3.22,2,     0.01,2,     0.12,2, -999.000,9, -999.000,9, -999.000,9, -999.000,9,   -999.0,9,  -999.00,9,   -999.0,9,   -999.0,9,-999.0000,9,  -999.0,9, -999.0, -999.00,9,  -999.0,  -999.0, -999.00,9
31RBOACES24N_2,  AR01,    95,  1,     27,2,19980217,1945, 26.4993, -71.3505, 5488,    297.6,  18.4480,  36.5810,  36.5780,2,    200.5,2,     202.0,2,     1.20,2,     3.51,2,     0.01,2,     0.13,2, -999.000,9, -999.000,9, -999.000,9, -999.000,9,   -999.0,9,  -999.00,9,   -999.0,9,   -999.0,9,-999.0000,9,  -999.0,9, -999.0, -999.00,9,  -999.0,  -999.0, -999.00,9
31RBOACES24N_2,  AR01,    95,  1,     26,2,19980217,1945, 26.4993, -71.3505, 5488,    399.0,  17.9550,  36.5170,  36.5170,2,    204.7,2,     205.4,2,     1.40,2,     4.20,2,     0.01,2,     0.18,2, -999.000,9, -999.000,9, -999.000,9, -999.000,9,   -999.0,9,  -999.00,9,   -999.0,9,   -999.0,9,-999.0000,9,  -999.0,9, -999.0, -999.00,9,  -999.0,  -999.0, -999.00,9
31RBOACES24N_2,  AR01,    95,  1,     25,2,19980217,1945, 26.4993, -71.3505, 5488,    451.2,  17.5490,  36.4410,  36.4430,2,    195.2,2,     196.7,2,     1.80,2,     5.66,2,     0.01,2,     0.26,2, -999.000,9, -999.000,9, -999.000,9, -999.000,9,   -999.0,9,  -999.00,9,   -999.0,9,   -999.0,9,-999.0000,9,  -999.0,9, -999.0, -999.00,9,  -999.0,  -999.0, -999.00,9
31RBOACES24N_2,  AR01,    95,  1,     24,2,19980217,1945, 26.4993, -71.3505, 5488,    498.8,  16.9700,  36.3360,  36.3350,2,    190.2,2,     189.2,2,     2.30,2,     7.42,2,     0.01,2,     0.36,2, -999.000,9, -999.000,9, -999.000,9, -999.000,9,   -999.0,9,  -999.00,9,   -999.0,9,   -999.0,9,-999.0000,9,  -999.0,9, -999.0, -999.00,9,  -999.0,  -999.0, -999.00,9
31RBOACES24N_2,  AR01,    95,  1,     23,2,19980217,1945, 26.4993, -71.3505, 5488,    550.8,  15.8020,  36.1470,  36.1600,2,    183.7,2,     182.9,2,     3.10,2,     9.56,2,     0.01,2,     0.50,2, -999.000,9, -999.000,9, -999.000,9, -999.000,9,   -999.0,9,  -999.00,9,   -999.0,9,   -999.0,9,-999.0000,9,  -999.0,9, -999.0, -999.00,9,  -999.0,  -999.0, -999.00,9
31RBOACES24N_2,  AR01,    95,  1,     22,2,19980217,1945, 26.4993, -71.3505, 5488,    600.2,  14.7150,  35.9720,  35.9790,2,    178.2,2,     176.4,2,     4.20,2,    11.91,2,     0.01,2,     0.65,2, -999.000,9, -999.000,9, -999.000,9, -999.000,9,   -999.0,9,  -999.00,9,   -999.0,9,   -999.0,9,-999.0000,9,  -999.0,9, -999.0, -999.00,9,  -999.0,  -999.0, -999.00,9
31RBOACES24N_2,  AR01,    95,  1,     21,2,19980217,1945, 26.4993, -71.3505, 5488,    701.2,  12.5750,  35.6510,  35.6570,2,    167.2,2,     162.4,2,     7.20,2,    16.99,2,     0.01,2,     1.00,2, -999.000,9, -999.000,9, -999.000,9, -999.000,9,   -999.0,9,  -999.00,9,   -999.0,9,   -999.0,9,-999.0000,9,  -999.0,9, -999.0, -999.00,9,  -999.0,  -999.0, -999.00,9
31RBOACES24N_2,  AR01,    95,  1,     20,2,19980217,1945, 26.4993, -71.3505, 5488,    796.2,  10.5650,  35.3860,  35.3850,2,    156.1,2,     152.3,2,    10.90,2,    21.38,2,     0.01,2,     1.31,2, -999.000,9, -999.000,9, -999.000,9, -999.000,9,   -999.0,9,  -999.00,9,   -999.0,9,   -999.0,9,-999.0000,9,  -999.0,9, -999.0, -999.00,9,  -999.0,  -999.0, -999.00,9
31RBOACES24N_2,  AR01,    95,  1,     19,2,19980217,1945, 26.4993, -71.3505, 5488,    901.1,   8.7510,  35.1830,  35.1880,2,    149.2,2,     150.4,2,    14.70,2,    24.51,2,     0.01,2,     1.55,2, -999.000,9, -999.000,9, -999.000,9, -999.000,9,   -999.0,9,  -999.00,9,   -999.0,9,   -999.0,9,-999.0000,9,  -999.0,9, -999.0, -999.00,9,  -999.0,  -999.0, -999.00,9
31RBOACES24N_2,  AR01,    95,  1,     18,2,19980217,1945, 26.4993, -71.3505, 5488,   1001.8,   7.4550,  35.0840,  35.0850,2,    161.2,2,     161.5,2,    16.50,2,    25.10,2,     0.01,2,     1.62,2, -999.000,9, -999.000,9, -999.000,9, -999.000,9,   -999.0,9,  -999.00,9,   -999.0,9,   -999.0,9,-999.0000,9,  -999.0,9, -999.0, -999.00,9,  -999.0,  -999.0, -999.00,9
31RBOACES24N_2,  AR01,    95,  1,     17,2,19980217,1945, 26.4993, -71.3505, 5488,   1200.0,   5.7660,  35.0790,  35.0790,2,    218.0,2,     215.3,2,    14.00,2,    20.80,2,     0.01,2,     1.34,2, -999.000,9, -999.000,9, -999.000,9, -999.000,9,   -999.0,9,  -999.00,9,   -999.0,9,   -999.0,9,-999.0000,9,  -999.0,9, -999.0, -999.00,9,  -999.0,  -999.0, -999.00,9
31RBOACES24N_2,  AR01,    95,  1,     16,2,19980217,1945, 26.4993, -71.3505, 5488,   1390.5,   4.9350,  35.0490,  35.0500,2,    245.7,2,     243.1,6,    12.70,2,    18.95,2,     0.01,2,     1.22,2, -999.000,9, -999.000,9, -999.000,9, -999.000,9,   -999.0,9,  -999.00,9,   -999.0,9,   -999.0,9,-999.0000,9,  -999.0,9, -999.0, -999.00,9,  -999.0,  -999.0, -999.00,9
31RBOACES24N_2,  AR01,    95,  1,     15,2,19980217,1945, 26.4993, -71.3505, 5488,   1601.2,   4.2400,  35.0110,  35.0110,2,    260.4,2,     259.6,2,    13.10,2,    18.17,2,     0.01,2,     1.18,2, -999.000,9, -999.000,9, -999.000,9, -999.000,9,   -999.0,9,  -999.00,9,   -999.0,9,   -999.0,9,-999.0000,9,  -999.0,9, -999.0, -999.00,9,  -999.0,  -999.0, -999.00,9
31RBOACES24N_2,  AR01,    95,  1,     14,2,19980217,1945, 26.4993, -71.3505, 5488,   1772.6,   4.0670,  35.0110,  35.0130,2,    260.1,2,     260.5,2,    14.20,2,    18.17,2,     0.01,2,     1.18,2, -999.000,9, -999.000,9, -999.000,9, -999.000,9,   -999.0,9,  -999.00,9,   -999.0,9,   -999.0,9,-999.0000,9,  -999.0,9, -999.0, -999.00,9,  -999.0,  -999.0, -999.00,9
31RBOACES24N_2,  AR01,    95,  1,     13,2,19980217,1945, 26.4993, -71.3505, 5488,   2051.2,   3.6840,  34.9880,  34.9890,2,    263.3,2,     264.6,2,    16.00,2,    18.17,2,     0.01,2,     1.19,2, -999.000,9, -999.000,9, -999.000,9, -999.000,9,   -999.0,9,  -999.00,9,   -999.0,9,   -999.0,9,-999.0000,9,  -999.0,9, -999.0, -999.00,9,  -999.0,  -999.0, -999.00,9
31RBOACES24N_2,  AR01,    95,  1,     12,2,19980217,1945, 26.4993, -71.3505, 5488,   2251.0,   3.4550,  34.9770,  34.9780,2,    264.4,2,     264.8,2,    18.00,2,    18.26,2,     0.01,2,     1.21,2, -999.000,9, -999.000,9, -999.000,9, -999.000,9,   -999.0,9,  -999.00,9,   -999.0,9,   -999.0,9,-999.0000,9,  -999.0,9, -999.0, -999.00,9,  -999.0,  -999.0, -999.00,9
31RBOACES24N_2,  AR01,    95,  1,     11,2,19980217,1945, 26.4993, -71.3505, 5488,   2449.4,   3.2260,  34.9620,  34.9620,2,    266.1,2,     267.3,2,    19.20,2,    18.27,2,     0.01,2,     1.20,2, -999.000,9, -999.000,9, -999.000,9, -999.000,9,   -999.0,9,  -999.00,9,   -999.0,9,   -999.0,9,-999.0000,9,  -999.0,9, -999.0, -999.00,9,  -999.0,  -999.0, -999.00,9
31RBOACES24N_2,  AR01,    95,  1,     10,2,19980217,1945, 26.4993, -71.3505, 5488,   2650.6,   3.0470,  34.9500,  34.9500,2,    267.5,2,     270.7,2,    20.30,2,    18.27,2,     0.01,2,     1.21,2, -999.000,9, -999.000,9, -999.000,9, -999.000,9,   -999.0,9,  -999.00,9,   -999.0,9,   -999.0,9,-999.0000,9,  -999.0,9, -999.0, -999.00,9,  -999.0,  -999.0, -999.00,9
31RBOACES24N_2,  AR01,    95,  1,      9,2,19980217,1945, 26.4993, -71.3505, 5488,   2848.7,   2.8920,  34.9410,  34.9410,2,    264.6,2,     270.0,2,    21.10,2,    18.17,2,     0.01,2,     1.21,2, -999.000,9, -999.000,9, -999.000,9, -999.000,9,   -999.0,9,  -999.00,9,   -999.0,9,   -999.0,9,-999.0000,9,  -999.0,9, -999.0, -999.00,9,  -999.0,  -999.0, -999.00,9
31RBOACES24N_2,  AR01,    95,  1,      8,2,19980217,1945, 26.4993, -71.3505, 5488,   3050.7,   2.7500,  34.9310,  34.9300,2,    269.9,2,     270.7,2,    22.10,2,    18.07,2,     0.01,2,     1.21,2, -999.000,9, -999.000,9, -999.000,9, -999.000,9,   -999.0,9,  -999.00,9,   -999.0,9,   -999.0,9,-999.0000,9,  -999.0,9, -999.0, -999.00,9,  -999.0,  -999.0, -999.00,9
31RBOACES24N_2,  AR01,    95,  1,      7,2,19980217,1945, 26.4993, -71.3505, 5488,   3346.6,   2.5570,  34.9180,  34.9190,2,    271.6,2,     272.6,2,    23.90,2,    18.07,2,     0.01,2,     1.21,2, -999.000,9, -999.000,9, -999.000,9, -999.000,9,   -999.0,9,  -999.00,9,   -999.0,9,   -999.0,9,-999.0000,9,  -999.0,9, -999.0, -999.00,9,  -999.0,  -999.0, -999.00,9
31RBOACES24N_2,  AR01,    95,  1,      6,2,19980217,1945, 26.4993, -71.3505, 5488,   3649.7,   2.4400,  34.9100,  34.9100,2,    273.4,2,     274.7,2,    24.50,2,    17.88,2,     0.01,2,     1.20,2, -999.000,9, -999.000,9, -999.000,9, -999.000,9,   -999.0,9,  -999.00,9,   -999.0,9,   -999.0,9,-999.0000,9,  -999.0,9, -999.0, -999.00,9,  -999.0,  -999.0, -999.00,9
31RBOACES24N_2,  AR01,    95,  1,      5,2,19980217,1945, 26.4993, -71.3505, 5488,   3950.3,   2.3690,  34.9030,  34.9030,2,    272.4,2,     273.7,2,    26.40,2,    18.07,2,     0.01,2,     1.21,2, -999.000,9, -999.000,9, -999.000,9, -999.000,9,   -999.0,9,  -999.00,9,   -999.0,9,   -999.0,9,-999.0000,9,  -999.0,9, -999.0, -999.00,9,  -999.0,  -999.0, -999.00,9
31RBOACES24N_2,  AR01,    95,  1,      4,2,19980217,1945, 26.4993, -71.3505, 5488,   4350.1,   2.3280,  34.8970,  34.8970,2,    271.2,2,     272.3,2,    29.30,2,    18.56,2,     0.01,2,     1.24,2, -999.000,9, -999.000,9, -999.000,9, -999.000,9,   -999.0,9,  -999.00,9,   -999.0,9,   -999.0,9,-999.0000,9,  -999.0,9, -999.0, -999.00,9,  -999.0,  -999.0, -999.00,9
31RBOACES24N_2,  AR01,    95,  1,      3,2,19980217,1945, 26.4993, -71.3505, 5488,   4750.0,   2.3150,  34.8920,  34.8920,2,    269.6,2,     270.3,2,    31.80,2,    18.85,2,     0.01,2,     1.27,2, -999.000,9, -999.000,9, -999.000,9, -999.000,9,   -999.0,9,  -999.00,9,   -999.0,9,   -999.0,9,-999.0000,9,  -999.0,9, -999.0, -999.00,9,  -999.0,  -999.0, -999.00,9
31RBOACES24N_2,  AR01,    95,  1,      2,2,19980217,1945, 26.4993, -71.3505, 5488,   5150.7,   2.2880,  34.8820,  34.8830,2,    265.0,2,     265.9,2,    37.20,2,    19.73,2,     0.01,2,     1.34,2, -999.000,9, -999.000,9, -999.000,9, -999.000,9,   -999.0,9,  -999.00,9,   -999.0,9,   -999.0,9,-999.0000,9,  -999.0,9, -999.0, -999.00,9,  -999.0,  -999.0, -999.00,9
31RBOACES24N_2,  AR01,    95,  1,      1,2,19980217,1945, 26.4993, -71.3505, 5488,   5579.8,   2.1060,  34.8530,  34.8610,2,    250.4,2,     258.6,2,    47.90,3,    21.49,3,     0.01,6,     1.47,3, -999.000,9, -999.000,9, -999.000,9, -999.000,9,   -999.0,9,  -999.00,9,   -999.0,9,   -999.0,9,-999.0000,9,  -999.0,9, -999.0, -999.00,9,  -999.0,  -999.0, -999.00,9