BOTTLE,20220820CCHSIOAMB
EXPOCODE,SECT_ID,STNNBR,CASTNO,BTLNBR,BTLNBR_FLAG_W,DATE,TIME,LATITUDE,LONGITUDE,DEPTH,CTDPRS,CTDTMP,CTDSAL,SALNTY,SALNTY_FLAG_W,CTDOXY,CTDOXY_FLAG_W,OXYGEN,OXYGEN_FLAG_W,SILCAT,SILCAT_FLAG_W,NITRAT,NITRAT_FLAG_W,NITRIT,NITRIT_FLAG_W,PHSPHT,PHSPHT_FLAG_W,CFC-11,CFC-11_FLAG_W,CFC-12,CFC-12_FLAG_W,CFC113,CFC113_FLAG_W,CCL4,CCL4_FLAG_W,DELC14,DELC14_FLAG_W,DELC13,DELC13_FLAG_W,TCARBN,TCARBN_FLAG_W,ALKALI,ALKALI_FLAG_W,PH,PH_FLAG_W,FCO2,FCO2_FLAG_W,FCO2TMP,TON,TON_FLAG_W,FCO2IN,C14ERR,TOC,TOC_FLAG_W
,,,,,,,,,,,DBAR,ITS-90,PSS-78,PSS-78,,UMOL/KG,,UMOL/KG,,UMOL/KG,,UMOL/KG,,UMOL/KG,,UMOL/KG,,PMOL/KG,,PMOL/KG,,PMOL/KG,,PMOL/KG,,/MILLE,,/MILLE,,UMOL/KG,,UMOL/KG,,,,UATM,,DEG C,UMOL/KG,,UATM,/MILLE,UMOL/KG,
31RBOACES24N_2,  AR01,    20,  1,     36,2,19980127,1533, 25.0600, -22.0275, 4742,      6.0,  22.0140,  37.1110,  37.1100,2,    219.2,2,     220.5,2,     0.70,2,     0.10,2,     0.00,2,  -999.00,5, -999.000,9, -999.000,9, -999.000,9, -999.000,9,   -999.0,9,  -999.00,9,   2099.1,6,   2434.4,2,   8.0411,6,   341.2,2,   20.0, -999.00,9,   369.7,  -999.0, -999.00,9
31RBOACES24N_2,  AR01,    20,  1,     35,2,19980127,1533, 25.0600, -22.0275, 4742,     41.8,  22.0270,  37.1090,  37.1090,2,    216.5,2,     221.8,2,     0.70,2,     0.10,2,     0.00,2,  -999.00,5, -999.000,9, -999.000,9, -999.000,9, -999.000,9,   -999.0,9,  -999.00,9,   -999.0,9,   -999.0,9,-999.0000,9,  -999.0,9, -999.0, -999.00,9,  -999.0,  -999.0, -999.00,9
31RBOACES24N_2,  AR01,    20,  1,     34,2,19980127,1533, 25.0600, -22.0275, 4742,     70.8,  22.0330,  37.1090,  37.1090,2,    217.5,2,     216.2,2,     0.80,2,     0.10,2,     0.00,2,  -999.00,5, -999.000,9, -999.000,9, -999.000,9, -999.000,9,   -999.0,9,  -999.00,9,   -999.0,9,   -999.0,9,-999.0000,9,  -999.0,9, -999.0, -999.00,9,  -999.0,  -999.0, -999.00,9
31RBOACES24N_2,  AR01,    20,  1,     33,2,19980127,1533, 25.0600, -22.0275, 4742,    110.3,  20.2900,  36.7820,  36.9070,2,    214.0,2,     194.8,2,     1.50,2,     3.71,2,     0.06,2,  -999.00,5, -999.000,9, -999.000,9, -999.000,9, -999.000,9,   -999.0,9,  -999.00,9,   -999.0,9,   -999.0,9,-999.0000,9,  -999.0,9, -999.0, -999.00,9,  -999.0,  -999.0, -999.00,9
31RBOACES24N_2,  AR01,    20,  1,     32,2,19980127,1533, 25.0600, -22.0275, 4742,    139.8,  19.0420,  36.7580,  36.7760,2,    178.2,2,     190.5,2,     1.50,2,     4.19,2,     0.02,2,  -999.00,5, -999.000,9, -999.000,9, -999.000,9, -999.000,9,   -999.0,9,  -999.00,9,   -999.0,9,   -999.0,9,-999.0000,9,  -999.0,9, -999.0, -999.00,9,  -999.0,  -999.0, -999.00,9
31RBOACES24N_2,  AR01,    20,  1,     31,2,19980127,1533, 25.0600, -22.0275, 4742,    180.4,  17.6880,  36.5380,  36.5000,2,    180.7,2,     171.8,2,     2.60,2,     8.00,2,     0.01,2,  -999.00,5, -999.000,9, -999.000,9, -999.000,9, -999.000,9,   -999.0,9,  -999.00,9,   -999.0,9,   -999.0,9,-999.0000,9,  -999.0,9, -999.0, -999.00,9,  -999.0,  -999.0, -999.00,9
31RBOACES24N_2,  AR01,    20,  1,     30,2,19980127,1533, 25.0600, -22.0275, 4742,    229.0,  16.6200,  36.3540,  36.3510,2,    181.1,2,     184.8,2,     2.30,2,     8.00,2,     0.01,2,  -999.00,5, -999.000,9, -999.000,9, -999.000,9, -999.000,9,   -999.0,9,  -999.00,9,   -999.0,9,   -999.0,9,-999.0000,9,  -999.0,9, -999.0, -999.00,9,  -999.0,  -999.0, -999.00,9
31RBOACES24N_2,  AR01,    20,  1,     29,2,19980127,1533, 25.0600, -22.0275, 4742,    279.8,  15.5850,  36.1840,  36.1820,2,    173.4,2,     179.9,2,     3.30,2,    10.05,2,     0.00,2,  -999.00,5, -999.000,9, -999.000,9, -999.000,9, -999.000,9,   -999.0,9,  -999.00,9,   -999.0,9,   -999.0,9,-999.0000,9,  -999.0,9, -999.0, -999.00,9,  -999.0,  -999.0, -999.00,9
31RBOACES24N_2,  AR01,    20,  1,     28,2,19980127,1533, 25.0600, -22.0275, 4742,    331.2,  14.7540,  36.0520,  36.0490,2,    181.3,2,     177.7,2,     3.80,2,    11.42,2,     0.00,2,  -999.00,5, -999.000,9, -999.000,9, -999.000,9, -999.000,9,   -999.0,9,  -999.00,9,   -999.0,9,   -999.0,9,-999.0000,9,  -999.0,9, -999.0, -999.00,9,  -999.0,  -999.0, -999.00,9
31RBOACES24N_2,  AR01,    20,  1,     27,2,19980127,1533, 25.0600, -22.0275, 4742,    380.1,  14.0170,  35.9270,  35.9300,2,    163.9,2,     160.5,2,     4.80,2,    14.35,2,     0.00,2,  -999.00,5, -999.000,9, -999.000,9, -999.000,9, -999.000,9,   -999.0,9,  -999.00,9,   -999.0,9,   -999.0,9,-999.0000,9,  -999.0,9, -999.0, -999.00,9,  -999.0,  -999.0, -999.00,9
31RBOACES24N_2,  AR01,    20,  1,     26,2,19980127,1533, 25.0600, -22.0275, 4742,    409.0,  13.3700,  35.8240,  35.8250,2,    162.0,2,     154.8,2,     5.60,2,    16.11,2,     0.00,2,  -999.00,5, -999.000,9, -999.000,9, -999.000,9, -999.000,9,   -999.0,9,  -999.00,9,   -999.0,9,   -999.0,9,-999.0000,9,  -999.0,9, -999.0, -999.00,9,  -999.0,  -999.0, -999.00,9
31RBOACES24N_2,  AR01,    20,  1,     25,2,19980127,1533, 25.0600, -22.0275, 4742,    480.6,  12.2680,  35.6650,  35.6660,2,    150.1,2,     154.0,2,     7.00,2,    18.16,2,     0.00,2,  -999.00,5, -999.000,9, -999.000,9, -999.000,9, -999.000,9,   -999.0,9,  -999.00,9,   -999.0,9,   -999.0,9,-999.0000,9,  -999.0,9, -999.0, -999.00,9,  -999.0,  -999.0, -999.00,9
31RBOACES24N_2,  AR01,    20,  1,     24,2,19980127,1533, 25.0600, -22.0275, 4742,    528.5,  11.7360,  35.5950,  35.5970,2,    147.0,2,     151.0,2,     7.70,2,    19.33,2,     0.00,2,  -999.00,5, -999.000,9, -999.000,9, -999.000,9, -999.000,9,   -999.0,9,  -999.00,9,   -999.0,9,   -999.0,9,-999.0000,9,  -999.0,9, -999.0, -999.00,9,  -999.0,  -999.0, -999.00,9
31RBOACES24N_2,  AR01,    20,  1,     23,2,19980127,1533, 25.0600, -22.0275, 4742,    582.2,  10.9980,  35.4920,  35.4920,2,    137.5,2,     136.1,2,    10.00,2,    22.36,2,     0.00,2,  -999.00,5, -999.000,9, -999.000,9, -999.000,9, -999.000,9,   -999.0,9,  -999.00,9,   -999.0,9,   -999.0,9,-999.0000,9,  -999.0,9, -999.0, -999.00,9,  -999.0,  -999.0, -999.00,9
31RBOACES24N_2,  AR01,    20,  1,     22,2,19980127,1533, 25.0600, -22.0275, 4742,    679.4,   9.7180,  35.3470,  35.3490,2,    127.1,2,     125.4,2,    13.60,2,    25.58,2,     0.00,2,  -999.00,5, -999.000,9, -999.000,9, -999.000,9, -999.000,9,   -999.0,9,  -999.00,9,   -999.0,9,   -999.0,9,-999.0000,9,  -999.0,9, -999.0, -999.00,9,  -999.0,  -999.0, -999.00,9
31RBOACES24N_2,  AR01,    20,  1,     21,2,19980127,1533, 25.0600, -22.0275, 4742,    773.5,   8.6320,  35.2240,  35.2240,2,    118.3,2,     121.0,2,    16.90,2,    28.22,2,     0.00,2,  -999.00,5, -999.000,9, -999.000,9, -999.000,9, -999.000,9,   -999.0,9,  -999.00,9,   -999.0,9,   -999.0,9,-999.0000,9,  -999.0,9, -999.0, -999.00,9,  -999.0,  -999.0, -999.00,9
31RBOACES24N_2,  AR01,    20,  1,     20,2,19980127,1533, 25.0600, -22.0275, 4742,    875.9,   7.6820,  35.1280,  35.1300,2,    124.2,2,     125.7,2,    19.30,2,    29.10,2,     0.00,2,  -999.00,5, -999.000,9, -999.000,9, -999.000,9, -999.000,9,   -999.0,9,  -999.00,9,   -999.0,9,   -999.0,9,-999.0000,9,  -999.0,9, -999.0, -999.00,9,  -999.0,  -999.0, -999.00,9
31RBOACES24N_2,  AR01,    20,  1,     19,2,19980127,1533, 25.0600, -22.0275, 4742,    981.0,   7.1610,  35.1270,  35.1300,2,    139.7,2,     141.2,2,    20.00,2,    27.93,2,     0.00,2,  -999.00,5, -999.000,9, -999.000,9, -999.000,9, -999.000,9,   -999.0,9,  -999.00,9,   -999.0,9,   -999.0,9,-999.0000,9,  -999.0,9, -999.0, -999.00,9,  -999.0,  -999.0, -999.00,9
31RBOACES24N_2,  AR01,    20,  1,     18,2,19980127,1533, 25.0600, -22.0275, 4742,   1079.7,   6.7880,  35.1420,  35.1420,2,    152.2,2,     154.2,2,    20.30,2,    26.37,2,     0.00,2,  -999.00,5, -999.000,9, -999.000,9, -999.000,9, -999.000,9,   -999.0,9,  -999.00,9,   -999.0,9,   -999.0,9,-999.0000,9,  -999.0,9, -999.0, -999.00,9,  -999.0,  -999.0, -999.00,9
31RBOACES24N_2,  AR01,    20,  1,     17,2,19980127,1533, 25.0600, -22.0275, 4742,   1278.3,   6.2100,  35.1820,  35.1820,2,    176.7,2,     176.5,2,    20.30,2,    24.71,2,     0.00,2,  -999.00,5, -999.000,9, -999.000,9, -999.000,9, -999.000,9,   -999.0,9,  -999.00,9,   -999.0,9,   -999.0,9,-999.0000,9,  -999.0,9, -999.0, -999.00,9,  -999.0,  -999.0, -999.00,9
31RBOACES24N_2,  AR01,    20,  1,     16,2,19980127,1533, 25.0600, -22.0275, 4742,   1474.3,   5.4320,  35.1620,  35.1630,2,    197.5,2,     198.1,2,    21.30,2,    23.05,2,     0.00,2,  -999.00,5, -999.000,9, -999.000,9, -999.000,9, -999.000,9,   -999.0,9,  -999.00,9,   -999.0,9,   -999.0,9,-999.0000,9,  -999.0,9, -999.0, -999.00,9,  -999.0,  -999.0, -999.00,9
31RBOACES24N_2,  AR01,    20,  1,     15,2,19980127,1533, 25.0600, -22.0275, 4742,   1686.2,   4.6750,  35.1030,  35.1080,2,    211.4,2,     214.5,2,    23.00,2,    22.36,2,     0.00,2,  -999.00,5, -999.000,9, -999.000,9, -999.000,9, -999.000,9,   -999.0,9,  -999.00,9,   -999.0,9,   -999.0,9,-999.0000,9,  -999.0,9, -999.0, -999.00,9,  -999.0,  -999.0, -999.00,9
31RBOACES24N_2,  AR01,    20,  1,     14,2,19980127,1533, 25.0600, -22.0275, 4742,   1878.9,   4.2070,  35.0720,  35.0720,2,    220.9,2,     224.4,2,    24.80,2,    21.68,2,     0.00,2,  -999.00,5, -999.000,9, -999.000,9, -999.000,9, -999.000,9,   -999.0,9,  -999.00,9,   -999.0,9,   -999.0,9,-999.0000,9,  -999.0,9, -999.0, -999.00,9,  -999.0,  -999.0, -999.00,9
31RBOACES24N_2,  AR01,    20,  1,     13,2,19980127,1533, 25.0600, -22.0275, 4742,   2082.5,   3.8830,  35.0460,  35.0470,2,    227.6,2,     231.0,2,    27.00,2,    21.39,2,     0.00,2,  -999.00,5, -999.000,9, -999.000,9, -999.000,9, -999.000,9,   -999.0,9,  -999.00,9,   -999.0,9,   -999.0,9,-999.0000,9,  -999.0,9, -999.0, -999.00,9,  -999.0,  -999.0, -999.00,9
31RBOACES24N_2,  AR01,    20,  1,     12,2,19980127,1533, 25.0600, -22.0275, 4742,   2242.9,   3.6250,  35.0220,  35.0230,2,    230.6,2,     233.2,2,    28.80,2,    21.39,2,     0.00,2,  -999.00,5, -999.000,9, -999.000,9, -999.000,9, -999.000,9,   -999.0,9,  -999.00,9,   -999.0,9,   -999.0,9,-999.0000,9,  -999.0,9, -999.0, -999.00,9,  -999.0,  -999.0, -999.00,9
31RBOACES24N_2,  AR01,    20,  1,     11,2,19980127,1533, 25.0600, -22.0275, 4742,   2478.6,   3.3310,  34.9930,  34.9940,2,    234.4,2,     236.8,2,    31.30,2,    21.39,2,     0.00,2,  -999.00,5, -999.000,9, -999.000,9, -999.000,9, -999.000,9,   -999.0,9,  -999.00,9,   -999.0,9,   -999.0,9,-999.0000,9,  -999.0,9, -999.0, -999.00,9,  -999.0,  -999.0, -999.00,9
31RBOACES24N_2,  AR01,    20,  1,     10,2,19980127,1533, 25.0600, -22.0275, 4742,   2675.6,   3.1100,  34.9710,  34.9710,2,    236.5,2,     240.4,2,    34.00,2,    21.29,2,     0.00,2,  -999.00,5, -999.000,9, -999.000,9, -999.000,9, -999.000,9,   -999.0,9,  -999.00,9,   -999.0,9,   -999.0,9,-999.0000,9,  -999.0,9, -999.0, -999.00,9,  -999.0,  -999.0, -999.00,9
31RBOACES24N_2,  AR01,    20,  1,      9,2,19980127,1533, 25.0600, -22.0275, 4742,   2881.7,   2.9160,  34.9530,  34.9540,2,    241.9,2,     242.8,2,    35.70,2,    21.39,2,     0.00,2,  -999.00,5, -999.000,9, -999.000,9, -999.000,9, -999.000,9,   -999.0,9,  -999.00,9,   -999.0,9,   -999.0,9,-999.0000,9,  -999.0,9, -999.0, -999.00,9,  -999.0,  -999.0, -999.00,9
31RBOACES24N_2,  AR01,    20,  1,      8,2,19980127,1533, 25.0600, -22.0275, 4742,   3079.9,   2.7600,  34.9390,  34.9390,2,    242.1,2,     243.3,2,    38.50,2,    21.59,2,     0.00,2,  -999.00,5, -999.000,9, -999.000,9, -999.000,9, -999.000,9,   -999.0,9,  -999.00,9,   -999.0,9,   -999.0,9,-999.0000,9,  -999.0,9, -999.0, -999.00,9,  -999.0,  -999.0, -999.00,9
31RBOACES24N_2,  AR01,    20,  1,      7,2,19980127,1533, 25.0600, -22.0275, 4742,   3280.8,   2.6560,  34.9290,  34.9290,2,    244.0,2,     244.2,2,    40.10,2,    21.59,2,     0.00,2,  -999.00,5, -999.000,9, -999.000,9, -999.000,9, -999.000,9,   -999.0,9,  -999.00,9,   -999.0,9,   -999.0,9,-999.0000,9,  -999.0,9, -999.0, -999.00,9,  -999.0,  -999.0, -999.00,9
31RBOACES24N_2,  AR01,    20,  1,      6,2,19980127,1533, 25.0600, -22.0275, 4742,   3500.1,   2.5650,  34.9200,  34.9190,2,    246.0,2,     247.1,2,    41.70,2,    21.68,2,     0.00,2,  -999.00,5, -999.000,9, -999.000,9, -999.000,9, -999.000,9,   -999.0,9,  -999.00,9,   -999.0,9,   -999.0,9,-999.0000,9,  -999.0,9, -999.0, -999.00,9,  -999.0,  -999.0, -999.00,9
31RBOACES24N_2,  AR01,    20,  1,      5,2,19980127,1533, 25.0600, -22.0275, 4742,   3757.8,   2.4820,  34.9090,  34.9090,2,    247.0,2,     248.5,2,    44.00,2,    21.88,2,     0.00,2,  -999.00,5, -999.000,9, -999.000,9, -999.000,9, -999.000,9,   -999.0,9,  -999.00,9,   -999.0,9,   -999.0,9,-999.0000,9,  -999.0,9, -999.0, -999.00,9,  -999.0,  -999.0, -999.00,9
31RBOACES24N_2,  AR01,    20,  1,      4,2,19980127,1533, 25.0600, -22.0275, 4742,   4018.2,   2.4220,  34.9010,  34.9000,2,    249.0,2,     250.4,2,    45.70,2,    22.07,2,     0.00,2,  -999.00,5, -999.000,9, -999.000,9, -999.000,9, -999.000,9,   -999.0,9,  -999.00,9,   -999.0,9,   -999.0,9,-999.0000,9,  -999.0,9, -999.0, -999.00,9,  -999.0,  -999.0, -999.00,9
31RBOACES24N_2,  AR01,    20,  1,      3,2,19980127,1533, 25.0600, -22.0275, 4742,   4278.9,   2.3880,  34.8940,  34.8940,2,    249.6,2,     249.5,2,    47.20,2,    21.88,3,     0.00,2,  -999.00,5, -999.000,9, -999.000,9, -999.000,9, -999.000,9,   -999.0,9,  -999.00,9,   -999.0,9,   -999.0,9,-999.0000,9,  -999.0,9, -999.0, -999.00,9,  -999.0,  -999.0, -999.00,9
31RBOACES24N_2,  AR01,    20,  1,      2,2,19980127,1533, 25.0600, -22.0275, 4742,   4539.1,   2.3950,  34.8910,  34.8920,2,    249.2,2,     248.1,2,    48.20,2,    22.37,2,     0.00,2,  -999.00,5, -999.000,9, -999.000,9, -999.000,9, -999.000,9,   -999.0,9,  -999.00,9,   -999.0,9,   -999.0,9,-999.0000,9,  -999.0,9, -999.0, -999.00,9,  -999.0,  -999.0, -999.00,9
31RBOACES24N_2,  AR01,    20,  1,      1,2,19980127,1533, 25.0600, -22.0275, 4742,   4809.4,   2.4210,  34.8890,  34.8890,2,    249.4,2,     248.8,2,    48.00,6,    22.37,6,     0.00,6,  -999.00,5, -999.000,9, -999.000,9, -999.000,9, -999.000,9,   -999.0,9,  -999.00,9,   -999.0,9,   -999.0,9,-999.0000,9,  -999.0,9, -999.0, -999.00,9,  -999.0,  -999.0, -999.00,9