BOTTLE,20220820CCHSIOAMB
EXPOCODE,SECT_ID,STNNBR,CASTNO,BTLNBR,BTLNBR_FLAG_W,DATE,TIME,LATITUDE,LONGITUDE,DEPTH,CTDPRS,CTDTMP,CTDSAL,SALNTY,SALNTY_FLAG_W,CTDOXY,CTDOXY_FLAG_W,OXYGEN,OXYGEN_FLAG_W,SILCAT,SILCAT_FLAG_W,NITRAT,NITRAT_FLAG_W,NITRIT,NITRIT_FLAG_W,PHSPHT,PHSPHT_FLAG_W,CFC-11,CFC-11_FLAG_W,CFC-12,CFC-12_FLAG_W,CFC113,CFC113_FLAG_W,CCL4,CCL4_FLAG_W,DELC14,DELC14_FLAG_W,DELC13,DELC13_FLAG_W,TCARBN,TCARBN_FLAG_W,ALKALI,ALKALI_FLAG_W,PH,PH_FLAG_W,FCO2,FCO2_FLAG_W,FCO2TMP,TON,TON_FLAG_W,FCO2IN,C14ERR,TOC,TOC_FLAG_W
,,,,,,,,,,,DBAR,ITS-90,PSS-78,PSS-78,,UMOL/KG,,UMOL/KG,,UMOL/KG,,UMOL/KG,,UMOL/KG,,UMOL/KG,,PMOL/KG,,PMOL/KG,,PMOL/KG,,PMOL/KG,,/MILLE,,/MILLE,,UMOL/KG,,UMOL/KG,,,,UATM,,DEG C,UMOL/KG,,UATM,/MILLE,UMOL/KG,
31RBOACES24N_2,  AR01,    58,  1,     36,2,19980206,2234, 24.5000, -48.2337, 3988,      4.7,  24.1950,  37.4760,  37.4750,2,    212.7,2,     212.7,2,  -999.00,5,     0.00,2,     0.00,2,     0.01,2,    1.900,2,    1.087,2,    0.150,2, -999.000,9,    107.6,2,     1.42,2,   2077.1,6,   2446.5,2,-999.0000,9,   262.4,3,   20.0,    4.50,2,   310.0,     2.9,   74.99,2
31RBOACES24N_2,  AR01,    58,  1,     35,2,19980206,2234, 24.5000, -48.2337, 3988,     49.9,  24.1360,  37.4690,  37.4700,2,    212.8,2,     212.8,2,     1.10,2,     0.00,2,     0.00,2,     0.01,2,    1.889,2,    1.082,2,    0.173,2, -999.000,9,     56.8,2,     1.44,2,   2079.3,2,   2441.0,2,-999.0000,9,  -999.0,9, -999.0,    4.72,2,  -999.0,     3.7,   74.50,2
31RBOACES24N_2,  AR01,    58,  1,     34,2,19980206,2234, 24.5000, -48.2337, 3988,    100.3,  23.8230,  37.4150,  37.3810,2,    212.4,2,     213.6,2,     1.00,2,     0.00,2,     0.00,2,     0.02,2,    1.962,2,    1.121,2,    0.176,2, -999.000,9,     65.9,2,     1.35,2,   2085.4,2,   2439.3,2,-999.0000,9,  -999.0,9, -999.0,    4.46,2,  -999.0,     5.1,   70.99,2
31RBOACES24N_2,  AR01,    58,  1,     33,2,19980206,2234, 24.5000, -48.2337, 3988,    150.5,  20.8870,  37.0840,  37.0790,2,    204.2,2,     202.8,2,     1.00,2,     0.88,2,     0.02,2,     0.04,2,    2.200,2,    1.256,2,    0.130,2, -999.000,9,     68.3,2,     1.10,2,   2112.7,2,   2423.1,2,-999.0000,9,  -999.0,9, -999.0,    5.04,2,  -999.0,     4.6,   58.08,2
31RBOACES24N_2,  AR01,    58,  1,     32,2,19980206,2234, 24.5000, -48.2337, 3988,    201.0,  19.4740,  36.8300,  36.8290,2,    197.3,2,     199.6,2,     1.10,2,     2.05,2,     0.01,2,     0.07,2,    2.278,6,    1.290,6,    0.081,6, -999.000,9,     97.8,2,     0.95,2,   2111.0,2,   2404.7,2,   7.9934,2,  -999.0,9, -999.0,    5.47,2,  -999.0,     3.3,   54.47,2
31RBOACES24N_2,  AR01,    58,  1,     31,2,19980206,2234, 24.5000, -48.2337, 3988,    224.1,  18.7900,  36.6940,  36.6950,2,    197.3,2,     199.8,2,     1.30,2,     3.02,2,     0.00,2,     0.11,2, -999.000,9, -999.000,9, -999.000,9, -999.000,9,     99.4,2,     0.90,2,   2110.3,2,   -999.0,5,   7.9886,2,  -999.0,9, -999.0,    6.36,2,  -999.0,     3.1,   52.90,2
31RBOACES24N_2,  AR01,    58,  1,     30,2,19980206,2234, 24.5000, -48.2337, 3988,    250.1,  18.1870,  36.5770,  36.5760,2,    197.6,2,     200.2,6,     1.50,2,     4.10,2,     0.00,2,     0.16,2,    2.317,2,    1.291,2,    0.047,2, -999.000,9,    107.4,2,     0.94,2,   2108.3,2,   2388.1,2,   7.9781,2,  -999.0,9, -999.0,    7.34,2,  -999.0,     3.5, -999.00,9
31RBOACES24N_2,  AR01,    58,  1,     29,2,19980206,2234, 24.5000, -48.2337, 3988,    275.9,  17.8710,  36.5210,  36.5200,2,    198.6,2,     199.8,2,     1.70,2,     4.78,2,     0.00,2,     0.20,2, -999.000,9, -999.000,9, -999.000,9, -999.000,9,    120.2,2,     0.89,2,   2107.1,2,   -999.0,5,   7.9728,2,   385.5,3,   20.0,    8.10,2,   353.6,     3.5,   51.44,2
31RBOACES24N_2,  AR01,    58,  1,     28,2,19980206,2234, 24.5000, -48.2337, 3988,    298.7,  17.6100,  36.4770,  36.4780,2,    193.3,2,     197.6,2,     1.70,2,     5.37,2,     0.00,2,     0.24,2,    2.306,2,    1.280,2,    0.038,2, -999.000,9,    111.0,2,     0.90,2,   2112.1,2,   2382.1,2,   7.9578,2,  -999.0,9, -999.0, -999.00,9,  -999.0,     3.7, -999.00,9
31RBOACES24N_2,  AR01,    58,  1,     27,2,19980206,2234, 24.5000, -48.2337, 3988,    350.5,  16.6760,  36.3290,  36.3310,2,    188.4,2,     188.1,2,     2.20,2,     7.81,2,     0.00,2,     0.38,2,    2.270,2,    1.229,2,    0.025,2, -999.000,9,     93.7,2,     0.78,2,   2126.9,2,   -999.0,5,   7.9244,2,  -999.0,9, -999.0,   10.56,2,  -999.0,     4.1,   49.58,2
31RBOACES24N_2,  AR01,    58,  1,     26,2,19980206,2234, 24.5000, -48.2337, 3988,    402.8,  15.6260,  36.1530,  36.1550,2,    182.0,2,     182.9,2,     2.90,2,     9.86,2,     0.00,2,     0.51,2,    2.147,2,    1.151,2,    0.027,2, -999.000,9,     90.7,2,     0.75,2,   2133.9,2,   2364.2,2,   7.8949,2,  -999.0,9, -999.0, -999.00,9,  -999.0,     3.7, -999.00,9
31RBOACES24N_2,  AR01,    58,  1,     25,2,19980206,2234, 24.5000, -48.2337, 3988,    453.0,  14.7660,  36.0200,  36.0190,2,    181.6,2,     181.1,2,     3.50,2,    11.32,2,     0.00,2,     0.60,2,    2.082,2,    1.109,2,    0.029,2, -999.000,9,     80.5,2,     0.78,2,   2139.7,2,   2355.9,2,   7.8720,2,  -999.0,9, -999.0, -999.00,9,  -999.0,     3.8,   47.43,2
31RBOACES24N_2,  AR01,    58,  1,     24,2,19980206,2234, 24.5000, -48.2337, 3988,    500.6,  13.9410,  35.8800,  35.8840,2,    175.7,2,     174.6,2,     4.50,2,    13.37,2,     0.00,2,     0.73,2,    1.866,2,    0.981,2,    0.024,2, -999.000,9,     69.5,6,     0.71,6,   2146.8,2,   2349.7,2,   7.8417,2,  -999.0,9, -999.0, -999.00,9,  -999.0,     2.6, -999.00,9
31RBOACES24N_2,  AR01,    58,  1,     23,2,19980206,2234, 24.5000, -48.2337, 3988,    602.1,  12.4640,  35.6790,  35.6780,2,    172.8,2,     169.3,2,     6.20,2,    16.31,2,     0.00,2,     0.92,2,    1.506,6,    0.780,6,    0.020,6, -999.000,9,     46.2,2,     0.74,2,   2156.8,2,   2336.7,2,   7.7983,2,  -999.0,9, -999.0,   18.81,2,  -999.0,     3.0,   45.47,2
31RBOACES24N_2,  AR01,    58,  1,     22,2,19980206,2234, 24.5000, -48.2337, 3988,    699.5,  10.9300,  35.4880,  35.4850,2,    159.9,2,     160.4,2,     8.90,2,    19.92,2,     0.00,2,     1.17,2,    0.842,2,    0.436,2,    0.019,2, -999.000,9,      8.7,2,     0.72,2,   2170.7,2,   2333.0,2,   7.7497,2,   689.0,3,   20.0, -999.00,9,   473.8,     3.2, -999.00,9
31RBOACES24N_2,  AR01,    58,  1,     21,2,19980206,2234, 24.5000, -48.2337, 3988,    801.8,   9.3920,  35.3080,  35.3070,2,    152.4,2,     151.6,2,    12.50,2,    23.34,2,     0.00,2,     1.44,2,    0.387,2,    0.210,2,    0.003,2, -999.000,9,    -19.1,2,     0.68,2,   2186.3,2,   2324.6,2,   7.7090,2,   777.8,3,   20.0, -999.00,9,   500.9,     5.7,   42.93,2
31RBOACES24N_2,  AR01,    58,  1,     20,2,19980206,2234, 24.5000, -48.2337, 3988,    901.7,   7.8770,  35.1450,  35.1450,2,    153.3,2,     153.2,2,    15.80,2,    25.59,2,     0.00,2,     1.63,2,    0.160,2,    0.090,2,    0.006,2, -999.000,9,    -68.5,2,     0.71,2,   2195.8,2,   2322.2,2,   7.6731,2,   844.0,3,   20.0, -999.00,9,   509.4,     3.5, -999.00,9
31RBOACES24N_2,  AR01,    58,  1,     19,2,19980206,2234, 24.5000, -48.2337, 3988,    999.7,   7.0950,  35.0860,  35.0880,2,    160.8,2,     161.4,2,    17.00,2,    25.98,2,     0.00,2,     1.66,2,    0.119,2,    0.068,2,    0.002,2, -999.000,9,    -70.3,2,     0.70,2,   2197.3,2,   -999.0,9,-999.0000,9,  -999.0,9, -999.0,   28.13,2,  -999.0,     4.0,   42.73,2
31RBOACES24N_2,  AR01,    58,  1,     18,2,19980206,2234, 24.5000, -48.2337, 3988,   1094.9,   6.2010,  35.0570,  35.0560,2,    176.9,2,     181.7,2,    17.10,2,    24.71,2,     0.00,2,     1.60,2,    0.100,2,    0.058,2,   -0.001,2, -999.000,9,    -82.8,2,     0.82,2,   2191.2,6,   2321.2,2,   7.6720,2,  -999.0,9, -999.0, -999.00,9,  -999.0,     3.2, -999.00,9
31RBOACES24N_2,  AR01,    58,  1,     17,2,19980206,2234, 24.5000, -48.2337, 3988,   1201.7,   5.8300,  35.0680,  35.0660,2,    196.3,2,     194.7,2,    16.20,2,    23.15,2,     0.00,2,     1.50,2,    0.121,2,    0.069,2,    0.005,2, -999.000,9,    -86.1,2,     0.84,2,   2187.6,2,   -999.0,9,   7.6900,2,  -999.0,9, -999.0, -999.00,9,  -999.0,     3.7,   42.62,2
31RBOACES24N_2,  AR01,    58,  1,     16,2,19980206,2234, 24.5000, -48.2337, 3988,   1300.5,   5.3950,  35.0630,  35.0600,2,    214.5,2,     211.6,2,    15.80,2,    22.08,2,     0.00,2,     1.43,2,    0.114,2,    0.067,2,    0.005,2, -999.000,9,    -92.3,2,     0.84,2,   2183.8,2,   2319.2,2,   7.7008,2,  -999.0,9, -999.0, -999.00,9,  -999.0,     2.0, -999.00,9
31RBOACES24N_2,  AR01,    58,  1,     15,2,19980206,2234, 24.5000, -48.2337, 3988,   1400.2,   5.0190,  35.0580,  35.0580,2,    225.2,2,     224.8,2,    15.50,2,    21.00,2,     0.00,2,     1.36,2,    0.101,2,    0.059,2,    0.004,2, -999.000,9,    -73.4,2,     0.89,2,   2177.4,2,   2321.2,2,   7.7158,2,  -999.0,9, -999.0, -999.00,9,  -999.0,     2.8,   42.03,2
31RBOACES24N_2,  AR01,    58,  1,     14,2,19980206,2234, 24.5000, -48.2337, 3988,   1499.9,   4.8780,  35.0830,  35.0830,2,    230.2,2,     230.4,2,    15.50,2,    20.22,2,     0.00,2,     1.31,2,    0.117,6,    0.067,6,    0.008,6, -999.000,9,    -74.5,2,     0.90,2,   2175.7,2,   2322.3,2,   7.7236,2,  -999.0,9, -999.0, -999.00,9,  -999.0,     3.3, -999.00,9
31RBOACES24N_2,  AR01,    58,  1,     13,2,19980206,2234, 24.5000, -48.2337, 3988,   1600.3,   4.5810,  35.0780,  35.0790,2,    236.6,2,     236.8,2,    16.30,2,    19.93,2,     0.00,2,     1.28,2,    0.123,2,    0.067,2,    0.004,2, -999.000,9,    -79.0,2,     0.97,2,   2174.1,2,   2318.2,2,   7.7276,2,  -999.0,9, -999.0,   22.42,2,  -999.0,     3.1,   42.13,2
31RBOACES24N_2,  AR01,    58,  1,     12,2,19980206,2234, 24.5000, -48.2337, 3988,   1801.3,   4.1120,  35.0430,  35.0420,2,    244.8,2,     245.5,2,    18.50,2,    19.73,2,     0.00,2,     1.28,2,    0.071,2,    0.040,2,    0.006,2, -999.000,9,    -83.2,2,     1.01,2,   2174.1,2,   2323.7,2,   7.7316,2,   726.4,2,   20.0, -999.00,9,   366.1,     2.8, -999.00,9
31RBOACES24N_2,  AR01,    58,  1,     11,2,19980206,2234, 24.5000, -48.2337, 3988,   2000.8,   3.7280,  35.0170,  35.0170,2,    249.4,2,     250.4,2,    21.10,2,    19.73,2,     0.00,2,     1.28,2,    0.110,2,    0.053,2,    0.016,2, -999.000,9,    -86.1,2,     0.95,2,   2176.5,2,   2322.9,3,   7.7378,2,  -999.0,9, -999.0, -999.00,9,  -999.0,     3.2,   42.22,2
31RBOACES24N_2,  AR01,    58,  1,     10,2,19980206,2234, 24.5000, -48.2337, 3988,   2198.8,   3.4000,  34.9920,  34.9930,2,    251.8,2,     252.3,2,    24.00,2,    19.93,2,     0.00,2,     1.29,2,    0.050,2,    0.026,2,    0.008,2, -999.000,9,    -98.2,2,     0.93,2,   2178.2,2,   2329.5,2,   7.7370,2,  -999.0,9, -999.0, -999.00,9,  -999.0,     2.8, -999.00,9
31RBOACES24N_2,  AR01,    58,  1,      9,2,19980206,2234, 24.5000, -48.2337, 3988,   2401.4,   3.1240,  34.9680,  34.9690,2,    252.1,2,     252.9,2,    27.50,2,    20.22,2,     0.00,2,     1.32,2, -999.000,9, -999.000,9, -999.000,9, -999.000,9,   -110.5,2,     0.90,2,   2181.2,2,   2329.3,2,   7.7336,2,  -999.0,9, -999.0, -999.00,9,  -999.0,     2.9,   41.93,2
31RBOACES24N_2,  AR01,    58,  1,      8,2,19980206,2234, 24.5000, -48.2337, 3988,   2599.6,   2.9640,  34.9540,  34.9550,2,    252.3,2,     253.5,2,    29.80,2,    20.42,2,     0.00,2,     1.34,2,    0.024,2,    0.017,2,    0.000,2, -999.000,9,   -109.9,2,     0.93,2,   2179.8,2,   2332.7,2,   7.7338,2,  -999.0,9, -999.0, -999.00,9,  -999.0,     2.7, -999.00,9
31RBOACES24N_2,  AR01,    58,  1,      7,2,19980206,2234, 24.5000, -48.2337, 3988,   2801.4,   2.8560,  34.9440,  34.9450,2,    251.7,2,     253.2,2,    31.80,2,    20.61,2,     0.00,2,     1.36,2, -999.000,9, -999.000,9, -999.000,9, -999.000,9,   -108.8,2,     0.92,2,   2182.5,2,   2333.4,2,   7.7333,2,  -999.0,9, -999.0, -999.00,9,  -999.0,     3.4,   42.22,2
31RBOACES24N_2,  AR01,    58,  1,      6,2,19980206,2234, 24.5000, -48.2337, 3988,   2999.7,   2.7600,  34.9340,  34.9340,2,    255.4,2,     254.2,2,    33.40,2,    20.71,2,     0.00,2,     1.37,2,    0.008,2,    0.005,2,    0.005,2, -999.000,9,   -101.9,2,     0.91,2,   2182.5,2,   2336.2,2,   7.7280,2,  -999.0,9, -999.0, -999.00,9,  -999.0,     3.0,   42.03,2
31RBOACES24N_2,  AR01,    58,  1,      5,2,19980206,2234, 24.5000, -48.2337, 3988,   3200.8,   2.6400,  34.9230,  34.9230,2,    258.6,2,     257.2,2,    34.40,2,    20.61,2,     0.00,2,     1.36,2, -999.000,9, -999.000,9, -999.000,9, -999.000,9,   -108.2,2,     0.98,2,   2181.2,2,   -999.0,9,   7.7333,2,  -999.0,9, -999.0, -999.00,9,  -999.0,     2.3,   41.93,2
31RBOACES24N_2,  AR01,    58,  1,      4,2,19980206,2234, 24.5000, -48.2337, 3988,   3400.4,   2.5580,  34.9160,  34.9150,2,    258.9,2,     257.2,2,    35.90,2,    20.71,2,     0.00,2,     1.37,2,    0.010,2,    0.012,2,    0.001,2, -999.000,9,   -106.8,2,     0.92,2,   2182.9,2,   2336.5,2,   7.7331,2,  -999.0,9, -999.0, -999.00,9,  -999.0,     2.6,   41.83,2
31RBOACES24N_2,  AR01,    58,  1,      3,2,19980206,2234, 24.5000, -48.2337, 3988,   3601.1,   2.4440,  34.9040,  34.9050,2,    260.0,2,     258.6,2,    37.50,2,    20.81,2,     0.00,2,     1.38,2, -999.000,9, -999.000,9, -999.000,9, -999.000,9,    -91.1,3,     1.00,2,   2184.1,2,   2337.4,2,   7.7332,2,  -999.0,9, -999.0, -999.00,9,  -999.0,     3.0,   42.32,2
31RBOACES24N_2,  AR01,    58,  1,      2,2,19980206,2234, 24.5000, -48.2337, 3988,   3800.2,   2.3700,  34.8980,  34.8970,2,    261.1,2,     258.4,2,    39.20,2,    20.81,2,     0.00,2,     1.39,2,    0.014,2,    0.016,2,    0.002,2, -999.000,9,   -112.7,2,     0.96,2,   2184.7,2,   2337.4,2,   7.7293,2,  -999.0,9, -999.0, -999.00,9,  -999.0,     3.2,   42.03,2
31RBOACES24N_2,  AR01,    58,  1,      1,2,19980206,2234, 24.5000, -48.2337, 3988,   3975.9,   2.3450,  34.8930,  34.8950,2,    261.6,2,     260.0,2,    39.70,6,    21.10,6,     0.00,6,     1.40,6,    0.014,6,    0.016,6,    0.002,6, -999.000,9,   -117.3,2,     0.93,2,   2185.7,2,   2336.8,2,   7.7278,2,  -999.0,9, -999.0,   22.87,2,  -999.0,     2.8,   41.93,2