BOTTLE,20220820CCHSIOAMB
EXPOCODE,SECT_ID,STNNBR,CASTNO,BTLNBR,BTLNBR_FLAG_W,DATE,TIME,LATITUDE,LONGITUDE,DEPTH,CTDPRS,CTDTMP,CTDSAL,SALNTY,SALNTY_FLAG_W,CTDOXY,CTDOXY_FLAG_W,OXYGEN,OXYGEN_FLAG_W,SILCAT,SILCAT_FLAG_W,NITRAT,NITRAT_FLAG_W,NITRIT,NITRIT_FLAG_W,PHSPHT,PHSPHT_FLAG_W,CFC-11,CFC-11_FLAG_W,CFC-12,CFC-12_FLAG_W,CFC113,CFC113_FLAG_W,CCL4,CCL4_FLAG_W,DELC14,DELC14_FLAG_W,DELC13,DELC13_FLAG_W,TCARBN,TCARBN_FLAG_W,ALKALI,ALKALI_FLAG_W,PH,PH_FLAG_W,FCO2,FCO2_FLAG_W,FCO2TMP,TON,TON_FLAG_W,FCO2IN,C14ERR,TOC,TOC_FLAG_W
,,,,,,,,,,,DBAR,ITS-90,PSS-78,PSS-78,,UMOL/KG,,UMOL/KG,,UMOL/KG,,UMOL/KG,,UMOL/KG,,UMOL/KG,,PMOL/KG,,PMOL/KG,,PMOL/KG,,PMOL/KG,,/MILLE,,/MILLE,,UMOL/KG,,UMOL/KG,,,,UATM,,DEG C,UMOL/KG,,UATM,/MILLE,UMOL/KG,
31RBOACES24N_2,  AR01,   105,  1,     36,2,19980219,2203, 26.5000, -74.8002, 4538,      3.8,  22.1810,  36.6510,  36.6500,2,    219.2,2,     221.6,2,     0.40,2,     0.00,2,     0.00,2,     0.01,2,    2.090,2,    1.190,2,    0.174,2,    2.082,2,   -999.0,9,     1.22,2,   2046.6,2,   2397.7,2,   8.0791,2,   296.8,2,   20.0, -999.00,9,   323.7,  -999.0, -999.00,9
31RBOACES24N_2,  AR01,   105,  1,     35,2,19980219,2203, 26.5000, -74.8002, 4538,     50.8,  21.6650,  36.6460,  36.6440,2,    220.0,2,     218.7,2,     0.40,2,     0.00,2,     0.00,2,     0.01,2, -999.000,9, -999.000,9, -999.000,9, -999.000,9,   -999.0,9,  -999.00,9,   -999.0,9,   -999.0,9,-999.0000,9,  -999.0,9, -999.0, -999.00,9,  -999.0,  -999.0, -999.00,9
31RBOACES24N_2,  AR01,   105,  1,     34,2,19980219,2203, 26.5000, -74.8002, 4538,    100.7,  21.5830,  36.6460,  36.6440,2,    220.5,2,     217.4,2,     0.40,2,     0.00,2,     0.09,2,     0.02,2, -999.000,9, -999.000,9, -999.000,9, -999.000,9,   -999.0,9,  -999.00,9,   -999.0,9,   2394.8,2,   8.0736,2,   301.2,2,   20.0, -999.00,9,   320.8,  -999.0, -999.00,9
31RBOACES24N_2,  AR01,   105,  1,     33,2,19980219,2203, 26.5000, -74.8002, 4538,    151.7,  20.9650,  36.5910,  36.6020,2,    218.3,2,     216.5,2,     0.40,2,     0.10,2,     0.20,2,     0.02,2, -999.000,9, -999.000,9, -999.000,9, -999.000,9,   -999.0,9,  -999.00,9,   -999.0,9,   -999.0,9,-999.0000,9,  -999.0,9, -999.0, -999.00,9,  -999.0,  -999.0, -999.00,9
31RBOACES24N_2,  AR01,   105,  1,     32,2,19980219,2203, 26.5000, -74.8002, 4538,    201.6,  20.1680,  36.7910,  36.7830,2,    200.9,2,     195.9,2,     0.40,2,     1.27,2,     0.02,2,     0.04,2, -999.000,9, -999.000,9, -999.000,9, -999.000,9,   -999.0,9,  -999.00,9,   -999.0,9,   2400.2,2,   8.0114,2,   354.2,2,   20.0, -999.00,9,   356.6,  -999.0, -999.00,9
31RBOACES24N_2,  AR01,   105,  1,     31,2,19980219,2203, 26.5000, -74.8002, 4538,    226.3,  19.4960,  36.7140,  36.7060,2,    199.4,2,     197.6,2,     0.50,2,     1.85,2,     0.01,2,     0.06,2, -999.000,9, -999.000,9, -999.000,9, -999.000,9,   -999.0,9,  -999.00,9,   -999.0,9,   -999.0,9,-999.0000,9,  -999.0,9, -999.0, -999.00,9,  -999.0,  -999.0, -999.00,9
31RBOACES24N_2,  AR01,   105,  1,     30,2,19980219,2203, 26.5000, -74.8002, 4538,    251.4,  19.1290,  36.6570,  36.6570,2,    195.6,2,     199.6,2,     0.60,2,     2.15,2,     0.01,2,     0.08,2, -999.000,9, -999.000,9, -999.000,9, -999.000,9,   -999.0,9,  -999.00,9,   -999.0,9,   -999.0,9,-999.0000,9,  -999.0,9, -999.0, -999.00,9,  -999.0,  -999.0, -999.00,9
31RBOACES24N_2,  AR01,   105,  1,     29,2,19980219,2203, 26.5000, -74.8002, 4538,    276.1,  18.7440,  36.6220,  36.6170,2,    195.1,2,     196.7,2,     0.70,2,     3.22,2,     0.01,2,     0.13,2, -999.000,9, -999.000,9, -999.000,9, -999.000,9,   -999.0,9,  -999.00,9,   -999.0,9,   -999.0,9,-999.0000,9,  -999.0,9, -999.0, -999.00,9,  -999.0,  -999.0, -999.00,9
31RBOACES24N_2,  AR01,   105,  1,     28,2,19980219,2203, 26.5000, -74.8002, 4538,    300.1,  18.5210,  36.5930,  36.5890,2,    199.1,2,     197.5,2,     0.80,2,     3.51,2,     0.01,2,     0.16,2, -999.000,9, -999.000,9, -999.000,9, -999.000,9,   -999.0,9,  -999.00,9,   -999.0,9,   2392.5,2,   7.9893,2,   383.5,2,   20.0, -999.00,9,   361.3,  -999.0, -999.00,9
31RBOACES24N_2,  AR01,   105,  1,     27,2,19980219,2203, 26.5000, -74.8002, 4538,    330.0,  18.3170,  36.5640,  36.5630,2,    200.9,2,     201.1,2,     0.90,2,     3.80,2,     0.01,2,     0.17,2, -999.000,9, -999.000,9, -999.000,9, -999.000,9,   -999.0,9,  -999.00,9,   -999.0,9,   -999.0,9,-999.0000,9,  -999.0,9, -999.0, -999.00,9,  -999.0,  -999.0, -999.00,9
31RBOACES24N_2,  AR01,   105,  1,     26,2,19980219,2203, 26.5000, -74.8002, 4538,    359.9,  18.1600,  36.5420,  36.5400,2,    202.7,2,     200.8,2,     1.00,2,     4.10,2,     0.01,2,     0.20,2, -999.000,9, -999.000,9, -999.000,9, -999.000,9,   -999.0,9,  -999.00,9,   -999.0,9,   -999.0,9,-999.0000,9,  -999.0,9, -999.0, -999.00,9,  -999.0,  -999.0, -999.00,9
31RBOACES24N_2,  AR01,   105,  1,     25,2,19980219,2203, 26.5000, -74.8002, 4538,    396.9,  17.9580,  36.5110,  36.5100,2,    201.3,2,     200.9,2,     1.20,2,     4.59,2,     0.01,2,     0.22,2, -999.000,9, -999.000,9, -999.000,9, -999.000,9,   -999.0,9,  -999.00,9,   -999.0,9,   -999.0,9,-999.0000,9,  -999.0,9, -999.0, -999.00,9,  -999.0,  -999.0, -999.00,9
31RBOACES24N_2,  AR01,   105,  1,     24,2,19980219,2203, 26.5000, -74.8002, 4538,    448.9,  17.5000,  36.4310,  36.4350,2,    192.6,2,     192.4,2,     1.60,2,     6.05,2,     0.01,2,     0.31,2, -999.000,9, -999.000,9, -999.000,9, -999.000,9,   -999.0,9,  -999.00,9,   -999.0,9,   -999.0,9,-999.0000,9,  -999.0,9, -999.0, -999.00,9,  -999.0,  -999.0, -999.00,9
31RBOACES24N_2,  AR01,   105,  1,     23,2,19980219,2203, 26.5000, -74.8002, 4538,    499.9,  17.0230,  36.3490,  36.3470,2,    186.0,2,     185.8,2,     2.00,2,     7.32,2,     0.01,2,     0.40,2, -999.000,9, -999.000,9, -999.000,9, -999.000,9,   -999.0,9,  -999.00,9,   -999.0,9,   2390.3,2,   7.9386,2,   440.7,2,   20.0, -999.00,9,   390.6,  -999.0, -999.00,9
31RBOACES24N_2,  AR01,   105,  1,     22,2,19980219,2203, 26.5000, -74.8002, 4538,    550.2,  16.1100,  36.1940,  36.1960,2,    180.8,2,     180.5,2,     2.70,2,     9.27,2,     0.01,2,     0.53,2, -999.000,9, -999.000,9, -999.000,9, -999.000,9,   -999.0,9,  -999.00,9,   -999.0,9,   -999.0,9,-999.0000,9,  -999.0,9, -999.0, -999.00,9,  -999.0,  -999.0, -999.00,9
31RBOACES24N_2,  AR01,   105,  1,     21,3,19980219,2203, 26.5000, -74.8002, 4538,    600.3,  15.2550,  36.0530,  36.0520,2,    176.4,2,     175.9,2,     3.50,2,    11.22,2,     0.01,2,     0.65,2, -999.000,9, -999.000,9, -999.000,9, -999.000,9,   -999.0,9,  -999.00,9,   -999.0,9,   -999.0,9,-999.0000,9,  -999.0,9, -999.0, -999.00,9,  -999.0,  -999.0, -999.00,9
31RBOACES24N_2,  AR01,   105,  1,     20,2,19980219,2203, 26.5000, -74.8002, 4538,    700.1,  13.1520,  35.7220,  35.7140,2,    167.8,2,     167.5,2,     6.20,2,    15.52,2,     0.00,2,     0.95,2, -999.000,9, -999.000,9, -999.000,9, -999.000,9,   -999.0,9,  -999.00,9,   -999.0,9,   -999.0,9,-999.0000,9,  -999.0,9, -999.0, -999.00,9,  -999.0,  -999.0, -999.00,9
31RBOACES24N_2,  AR01,   105,  1,     19,2,19980219,2203, 26.5000, -74.8002, 4538,    797.4,  11.1870,  35.4620,  35.4560,2,    161.9,2,     161.0,2,     9.20,2,    19.23,2,     0.00,2,     1.21,2, -999.000,9, -999.000,9, -999.000,9, -999.000,9,   -999.0,9,  -999.00,9,   -999.0,9,   2343.1,3,   7.7547,2,   700.4,2,   20.0, -999.00,9,   487.6,  -999.0, -999.00,9
31RBOACES24N_2,  AR01,   105,  1,     18,2,19980219,2203, 26.5000, -74.8002, 4538,    893.2,   8.9270,  35.2000,  35.2320,2,    152.3,2,     155.3,2,    12.80,2,    22.85,2,     0.00,2,     1.48,2, -999.000,9, -999.000,9, -999.000,9, -999.000,9,   -999.0,9,  -999.00,9,   -999.0,9,   2326.8,2,   7.7003,2,   793.1,2,   20.0, -999.00,9,   501.2,  -999.0, -999.00,9
31RBOACES24N_2,  AR01,   105,  1,     17,2,19980219,2203, 26.5000, -74.8002, 4538,   1002.0,   7.3170,  35.0880,  35.0870,2,    168.9,2,     167.5,2,    15.70,2,    24.22,2,     0.00,2,     1.60,2, -999.000,9, -999.000,9, -999.000,9, -999.000,9,   -999.0,9,  -999.00,9,   -999.0,9,   2333.4,2,   7.6743,2,   851.8,2,   20.0, -999.00,9,   502.3,  -999.0, -999.00,9
31RBOACES24N_2,  AR01,   105,  1,     16,2,19980219,2203, 26.5000, -74.8002, 4538,   1099.5,   6.3900,  35.0900,  35.0890,2,    193.7,2,     195.8,6,    14.40,2,    21.87,2,     0.00,2,     1.45,2, -999.000,9, -999.000,9, -999.000,9, -999.000,9,   -999.0,9,  -999.00,9,   -999.0,9,   -999.0,9,-999.0000,9,  -999.0,9, -999.0, -999.00,9,  -999.0,  -999.0, -999.00,9
31RBOACES24N_2,  AR01,   105,  1,     15,2,19980219,2203, 26.5000, -74.8002, 4538,   1288.7,   5.1660,  35.0680,  35.0680,2,    237.5,2,     235.6,2,    12.70,2,    19.14,2,     0.00,2,     1.28,2, -999.000,9, -999.000,9, -999.000,9, -999.000,9,   -999.0,9,  -999.00,9,   -999.0,9,   -999.0,9,-999.0000,9,  -999.0,9, -999.0, -999.00,9,  -999.0,  -999.0, -999.00,9
31RBOACES24N_2,  AR01,   105,  1,     14,2,19980219,2203, 26.5000, -74.8002, 4538,   1500.3,   4.5010,  35.0290,  35.0290,2,    257.6,2,     253.9,2,    12.50,2,    18.16,2,     0.00,2,     1.22,2, -999.000,9, -999.000,9, -999.000,9, -999.000,9,   -999.0,9,  -999.00,9,   -999.0,9,   2327.5,3,   7.7297,2,   736.6,2,   20.0, -999.00,9,   379.2,  -999.0, -999.00,9
31RBOACES24N_2,  AR01,   105,  1,     13,2,19980219,2203, 26.5000, -74.8002, 4538,   1701.3,   3.9580,  34.9810,  34.9800,2,    267.2,2,     266.1,2,    12.60,2,    17.58,2,     0.00,2,     1.19,2, -999.000,9, -999.000,9, -999.000,9, -999.000,9,   -999.0,9,  -999.00,9,   -999.0,9,   -999.0,9,-999.0000,9,  -999.0,9, -999.0, -999.00,9,  -999.0,  -999.0, -999.00,9
31RBOACES24N_2,  AR01,   105,  1,     12,2,19980219,2203, 26.5000, -74.8002, 4538,   1899.5,   3.7400,  34.9730,  34.9720,2,    268.6,2,     268.3,2,    13.70,2,    17.58,2,     0.00,2,     1.20,2, -999.000,9, -999.000,9, -999.000,9, -999.000,9,   -999.0,9,  -999.00,9,   -999.0,9,   -999.0,9,-999.0000,9,  -999.0,9, -999.0, -999.00,9,  -999.0,  -999.0, -999.00,9
31RBOACES24N_2,  AR01,   105,  1,     11,2,19980219,2203, 26.5000, -74.8002, 4538,   2100.3,   3.5740,  34.9740,  34.9730,2,    267.1,2,     267.5,2,    15.40,2,    17.77,2,     0.00,2,     1.20,2, -999.000,9, -999.000,9, -999.000,9, -999.000,9,   -999.0,9,  -999.00,9,   -999.0,9,   -999.0,9,-999.0000,9,  -999.0,9, -999.0, -999.00,9,  -999.0,  -999.0, -999.00,9
31RBOACES24N_2,  AR01,   105,  1,     10,2,19980219,2203, 26.5000, -74.8002, 4538,   2289.4,   3.3940,  34.9690,  34.9690,2,    268.1,2,     269.2,2,    17.20,2,    17.87,2,     0.00,2,     1.21,2, -999.000,9, -999.000,9, -999.000,9, -999.000,9,   -999.0,9,  -999.00,9,   -999.0,9,   -999.0,9,-999.0000,9,  -999.0,9, -999.0, -999.00,9,  -999.0,  -999.0, -999.00,9
31RBOACES24N_2,  AR01,   105,  1,      9,2,19980219,2203, 26.5000, -74.8002, 4538,   2499.3,   3.1680,  34.9560,  34.9550,2,    268.6,2,     268.5,2,    18.60,2,    17.87,2,     0.00,2,     1.22,2, -999.000,9, -999.000,9, -999.000,9, -999.000,9,   -999.0,9,  -999.00,9,   -999.0,9,   2330.4,3,   7.7392,2,   724.9,2,   20.0, -999.00,9,   349.4,  -999.0, -999.00,9
31RBOACES24N_2,  AR01,   105,  1,      8,2,19980219,2203, 26.5000, -74.8002, 4538,   2699.9,   3.0010,  34.9470,  34.9460,2,    268.8,2,     268.9,2,    20.20,2,    17.97,2,     0.00,2,     1.22,2, -999.000,9, -999.000,9, -999.000,9, -999.000,9,   -999.0,9,  -999.00,9,   -999.0,9,   -999.0,9,-999.0000,9,  -999.0,9, -999.0, -999.00,9,  -999.0,  -999.0, -999.00,9
31RBOACES24N_2,  AR01,   105,  1,      7,2,19980219,2203, 26.5000, -74.8002, 4538,   2899.8,   2.8390,  34.9370,  34.9360,2,    270.5,2,     270.8,2,    21.00,2,    17.78,2,     0.00,2,     1.24,3, -999.000,9, -999.000,9, -999.000,9, -999.000,9,   -999.0,9,  -999.00,9,   -999.0,9,   -999.0,9,-999.0000,9,  -999.0,9, -999.0, -999.00,9,  -999.0,  -999.0, -999.00,9
31RBOACES24N_2,  AR01,   105,  1,      6,2,19980219,2203, 26.5000, -74.8002, 4538,   3099.9,   2.6700,  34.9260,  34.9250,2,    273.6,2,     273.9,2,    21.20,2,    17.48,2,     0.00,2,     1.20,2, -999.000,9, -999.000,9, -999.000,9, -999.000,9,   -999.0,9,  -999.00,9,   -999.0,9,   -999.0,9,-999.0000,9,  -999.0,9, -999.0, -999.00,9,  -999.0,  -999.0, -999.00,9
31RBOACES24N_2,  AR01,   105,  1,      5,2,19980219,2203, 26.5000, -74.8002, 4538,   3398.2,   2.4770,  34.9150,  34.9130,2,    275.9,2,     275.0,2,    22.90,2,    17.48,2,     0.00,2,     1.21,2, -999.000,9, -999.000,9, -999.000,9, -999.000,9,   -999.0,9,  -999.00,9,   -999.0,9,   -999.0,9,-999.0000,9,  -999.0,9, -999.0, -999.00,9,  -999.0,  -999.0, -999.00,9
31RBOACES24N_2,  AR01,   105,  1,      4,2,19980219,2203, 26.5000, -74.8002, 4538,   3698.7,   2.3360,  34.9050,  34.9020,2,    274.9,2,     274.7,2,    25.80,2,    17.87,2,     0.00,2,     1.23,2, -999.000,9, -999.000,9, -999.000,9, -999.000,9,   -999.0,9,  -999.00,9,   -999.0,9,   2340.6,3,   7.7356,6,   725.6,2,   20.0, -999.00,9,   335.1,  -999.0, -999.00,9
31RBOACES24N_2,  AR01,   105,  1,      3,2,19980219,2203, 26.5000, -74.8002, 4538,   3999.2,   2.2600,  34.8970,  34.8950,2,    272.7,2,     272.0,2,    29.30,2,    18.26,2,     0.01,2,     1.28,2, -999.000,9, -999.000,9, -999.000,9, -999.000,9,   -999.0,9,  -999.00,9,   -999.0,9,   -999.0,9,-999.0000,9,  -999.0,9, -999.0, -999.00,9,  -999.0,  -999.0, -999.00,9
31RBOACES24N_2,  AR01,   105,  1,      2,2,19980219,2203, 26.5000, -74.8002, 4538,   4299.8,   2.2160,  34.8890,  34.8870,2,    269.4,2,     268.1,2,    34.00,2,    19.05,2,     0.01,2,     1.32,2, -999.000,9, -999.000,9, -999.000,9, -999.000,9,   -999.0,9,  -999.00,9,   -999.0,9,   -999.0,9,-999.0000,9,  -999.0,9, -999.0, -999.00,9,  -999.0,  -999.0, -999.00,9
31RBOACES24N_2,  AR01,   105,  1,      1,2,19980219,2203, 26.5000, -74.8002, 4538,   4602.2,   2.1360,  34.8730,  34.8710,2,    261.4,2,     261.2,2,    43.00,6,    20.51,6,     0.01,6,     1.43,6, -999.000,9, -999.000,9, -999.000,9, -999.000,9,   -999.0,9,  -999.00,9,   -999.0,9,   2353.6,3,   7.7246,2,   762.2,2,   20.0, -999.00,9,   347.8,  -999.0, -999.00,9