BOTTLE,20220820CCHSIOAMB
EXPOCODE,SECT_ID,STNNBR,CASTNO,BTLNBR,BTLNBR_FLAG_W,DATE,TIME,LATITUDE,LONGITUDE,DEPTH,CTDPRS,CTDTMP,CTDSAL,SALNTY,SALNTY_FLAG_W,CTDOXY,CTDOXY_FLAG_W,OXYGEN,OXYGEN_FLAG_W,SILCAT,SILCAT_FLAG_W,NITRAT,NITRAT_FLAG_W,NITRIT,NITRIT_FLAG_W,PHSPHT,PHSPHT_FLAG_W,CFC-11,CFC-11_FLAG_W,CFC-12,CFC-12_FLAG_W,CFC113,CFC113_FLAG_W,CCL4,CCL4_FLAG_W,DELC14,DELC14_FLAG_W,DELC13,DELC13_FLAG_W,TCARBN,TCARBN_FLAG_W,ALKALI,ALKALI_FLAG_W,PH,PH_FLAG_W,FCO2,FCO2_FLAG_W,FCO2TMP,TON,TON_FLAG_W,FCO2IN,C14ERR,TOC,TOC_FLAG_W
,,,,,,,,,,,DBAR,ITS-90,PSS-78,PSS-78,,UMOL/KG,,UMOL/KG,,UMOL/KG,,UMOL/KG,,UMOL/KG,,UMOL/KG,,PMOL/KG,,PMOL/KG,,PMOL/KG,,PMOL/KG,,/MILLE,,/MILLE,,UMOL/KG,,UMOL/KG,,,,UATM,,DEG C,UMOL/KG,,UATM,/MILLE,UMOL/KG,
31RBOACES24N_2,  AR01,    52,  1,     36,2,19980205,1604, 24.4997, -44.9340, 3591,      6.7,  24.3390,  37.5010,  37.5020,2,    210.5,2,     212.1,2,  -999.00,9,  -999.00,9,  -999.00,9,  -999.00,9,    1.863,2,    1.067,2,    0.150,2, -999.000,9,   -999.0,9,     1.57,2,   2074.4,6,   2457.3,6,   8.1021,2,   316.9,3,   20.0, -999.00,9,   375.6,  -999.0,   70.02,2
31RBOACES24N_2,  AR01,    52,  1,     35,3,19980205,1604, 24.4997, -44.9340, 3591,     35.7,  24.3290,  37.5000,  37.5000,2,    210.5,2,     211.2,2,     1.20,2,     0.00,2,     0.00,2,  -999.00,5,    1.871,2,    1.071,2,    0.172,2, -999.000,9,   -999.0,9,  -999.00,9,   -999.0,9,   -999.0,9,-999.0000,9,  -999.0,9, -999.0, -999.00,9,  -999.0,  -999.0,   70.60,2
31RBOACES24N_2,  AR01,    52,  1,     34,2,19980205,1604, 24.4997, -44.9340, 3591,     70.2,  24.3190,  37.4960,  37.4960,2,    210.6,2,     210.9,2,     1.10,2,     0.00,2,     0.00,2,  -999.00,5, -999.000,9, -999.000,9, -999.000,9, -999.000,9,   -999.0,9,  -999.00,9,   -999.0,9,   -999.0,9,-999.0000,9,  -999.0,9, -999.0, -999.00,9,  -999.0,  -999.0,   69.34,2
31RBOACES24N_2,  AR01,    52,  1,     33,2,19980205,1604, 24.4997, -44.9340, 3591,    110.9,  24.2240,  37.4880,  37.4880,2,    217.0,2,     211.3,2,     1.10,2,     0.00,2,     0.00,2,  -999.00,5,    1.880,2,    1.093,2,    0.150,2, -999.000,9,   -999.0,9,  -999.00,9,   -999.0,9,   -999.0,9,-999.0000,9,  -999.0,9, -999.0, -999.00,9,  -999.0,  -999.0,   68.07,2
31RBOACES24N_2,  AR01,    52,  1,     32,2,19980205,1604, 24.4997, -44.9340, 3591,    161.2,  20.5800,  37.0550,  37.0460,2,    192.7,2,     195.2,2,     1.30,2,     1.66,2,     0.02,2,  -999.00,5,    2.135,2,    1.233,2,    0.128,2, -999.000,9,   -999.0,9,  -999.00,9,   -999.0,9,   -999.0,9,-999.0000,9,  -999.0,9, -999.0, -999.00,9,  -999.0,  -999.0,   55.55,2
31RBOACES24N_2,  AR01,    52,  1,     31,2,19980205,1604, 24.4997, -44.9340, 3591,    211.3,  19.2330,  36.8100,  36.8090,2,    187.5,2,     185.2,2,     1.60,2,     4.10,2,     0.01,2,  -999.00,5,    2.242,2,    1.267,2,    0.057,2, -999.000,9,   -999.0,9,  -999.00,9,   -999.0,9,   -999.0,9,-999.0000,9,  -999.0,9, -999.0, -999.00,9,  -999.0,  -999.0,   52.42,2
31RBOACES24N_2,  AR01,    52,  1,     30,2,19980205,1604, 24.4997, -44.9340, 3591,    235.5,  18.6940,  36.7060,  36.6980,2,    184.0,2,     187.3,2,     1.80,2,     4.68,2,     0.01,2,  -999.00,5,    2.275,2,    1.262,2,    0.042,2, -999.000,9,   -999.0,9,  -999.00,9,   -999.0,9,   -999.0,9,-999.0000,9,  -999.0,9, -999.0, -999.00,9,  -999.0,  -999.0,   51.73,2
31RBOACES24N_2,  AR01,    52,  1,     29,2,19980205,1604, 24.4997, -44.9340, 3591,    254.6,  18.1650,  36.6000,  36.5980,2,    191.5,2,     194.0,2,     1.70,2,     4.59,2,     0.00,2,  -999.00,5,    2.308,2,    1.288,2,    0.038,2, -999.000,9,   -999.0,9,  -999.00,9,   -999.0,9,   -999.0,9,-999.0000,9,  -999.0,9, -999.0, -999.00,9,  -999.0,  -999.0,   49.00,2
31RBOACES24N_2,  AR01,    52,  1,     28,2,19980205,1604, 24.4997, -44.9340, 3591,    273.0,  17.8940,  36.5480,  36.5550,2,    193.6,2,     196.1,2,     1.70,2,     4.78,2,     0.00,2,  -999.00,5, -999.000,9, -999.000,9, -999.000,9, -999.000,9,   -999.0,9,  -999.00,9,   -999.0,9,   -999.0,9,-999.0000,9,  -999.0,9, -999.0, -999.00,9,  -999.0,  -999.0, -999.00,9
31RBOACES24N_2,  AR01,    52,  1,     27,2,19980205,1604, 24.4997, -44.9340, 3591,    313.8,  17.4380,  36.4590,  36.4560,2,    195.8,2,     194.7,2,     2.00,2,     5.76,2,     0.00,2,  -999.00,5,    2.314,2,    1.265,2,    0.032,2, -999.000,9,   -999.0,9,  -999.00,9,   -999.0,9,   -999.0,9,-999.0000,9,  -999.0,9, -999.0, -999.00,9,  -999.0,  -999.0,   44.81,2
31RBOACES24N_2,  AR01,    52,  1,     26,2,19980205,1604, 24.4997, -44.9340, 3591,    366.1,  16.5500,  36.3130,  36.3120,2,    186.9,2,     184.7,2,     2.50,2,     8.20,2,     0.00,2,  -999.00,5,    2.273,2,    1.237,2,    0.026,2, -999.000,9,   -999.0,9,  -999.00,9,   -999.0,9,   -999.0,9,-999.0000,9,  -999.0,9, -999.0, -999.00,9,  -999.0,  -999.0, -999.00,9
31RBOACES24N_2,  AR01,    52,  1,     25,2,19980205,1604, 24.4997, -44.9340, 3591,    425.0,  15.3320,  36.1080,  36.1290,2,    183.8,2,     179.3,2,     3.40,2,    10.35,2,     0.00,2,  -999.00,5,    2.156,2,    1.156,2,    0.026,2, -999.000,9,   -999.0,9,  -999.00,9,   -999.0,9,   -999.0,9,-999.0000,9,  -999.0,9, -999.0, -999.00,9,  -999.0,  -999.0, -999.00,9
31RBOACES24N_2,  AR01,    52,  1,     24,2,19980205,1604, 24.4997, -44.9340, 3591,    484.0,  14.0390,  35.9030,  35.9130,2,    176.5,2,     174.1,2,     4.50,2,    12.98,2,     0.00,2,  -999.00,5,    1.910,2,    1.003,2,    0.025,2, -999.000,9,   -999.0,9,  -999.00,9,   -999.0,9,   -999.0,9,-999.0000,9,  -999.0,9, -999.0, -999.00,9,  -999.0,  -999.0, -999.00,9
31RBOACES24N_2,  AR01,    52,  1,     23,2,19980205,1604, 24.4997, -44.9340, 3591,    550.6,  12.8360,  35.7280,  35.7400,2,    170.0,2,     168.1,2,     5.90,2,    15.62,2,     0.00,2,  -999.00,5,    1.566,6,    0.809,6,    0.017,6, -999.000,9,   -999.0,9,  -999.00,9,   -999.0,9,   -999.0,9,-999.0000,9,  -999.0,9, -999.0, -999.00,9,  -999.0,  -999.0,   44.11,2
31RBOACES24N_2,  AR01,    52,  1,     22,2,19980205,1604, 24.4997, -44.9340, 3591,    648.8,  11.6020,  35.5670,  35.5660,2,    160.3,2,     159.3,6,     8.10,2,    18.85,2,     0.00,2,  -999.00,5,    1.065,2,    0.552,2,    0.016,2, -999.000,9,   -999.0,9,  -999.00,9,   -999.0,9,   -999.0,9,-999.0000,9,  -999.0,9, -999.0, -999.00,9,  -999.0,  -999.0, -999.00,9
31RBOACES24N_2,  AR01,    52,  1,     21,3,19980205,1604, 24.4997, -44.9340, 3591,    751.8,  10.0430,  35.3790,  35.3800,2,    147.2,2,     147.7,2,    11.60,2,    22.66,2,     0.00,2,  -999.00,5,    0.528,2,    0.276,2,    0.006,2, -999.000,9,   -999.0,9,  -999.00,9,   -999.0,9,   -999.0,9,-999.0000,9,  -999.0,9, -999.0, -999.00,9,  -999.0,  -999.0, -999.00,9
31RBOACES24N_2,  AR01,    52,  1,     20,2,19980205,1604, 24.4997, -44.9340, 3591,    849.2,   8.6950,  35.2190,  35.2180,2,    146.9,2,     146.7,2,    14.90,2,    25.20,2,     0.00,2,  -999.00,5,    0.248,2,    0.127,2,    0.003,2, -999.000,9,   -999.0,9,  -999.00,9,   -999.0,9,   -999.0,9,-999.0000,9,  -999.0,9, -999.0, -999.00,9,  -999.0,  -999.0, -999.00,9
31RBOACES24N_2,  AR01,    52,  1,     19,2,19980205,1604, 24.4997, -44.9340, 3591,    951.8,   7.2720,  35.0690,  35.0700,2,    152.1,2,     151.8,2,    18.20,2,    26.96,2,     0.00,2,  -999.00,5,    0.098,2,    0.048,2,    0.004,2, -999.000,9,   -999.0,9,  -999.00,9,   -999.0,9,   -999.0,9,-999.0000,9,  -999.0,9, -999.0, -999.00,9,  -999.0,  -999.0,   41.95,2
31RBOACES24N_2,  AR01,    52,  1,     18,2,19980205,1604, 24.4997, -44.9340, 3591,   1050.6,   6.3450,  35.0120,  35.0110,2,    164.8,2,     164.0,2,    19.40,2,    26.77,2,     0.00,2,  -999.00,5,    0.058,2,    0.032,2,    0.006,2, -999.000,9,   -999.0,9,  -999.00,9,   -999.0,9,   -999.0,9,-999.0000,9,  -999.0,9, -999.0, -999.00,9,  -999.0,  -999.0, -999.00,9
31RBOACES24N_2,  AR01,    52,  1,     17,2,19980205,1604, 24.4997, -44.9340, 3591,   1146.9,   5.8420,  35.0010,  35.0000,2,    176.4,2,     177.5,2,    19.30,2,    25.79,2,     0.00,2,  -999.00,5, -999.000,9, -999.000,9, -999.000,9, -999.000,9,   -999.0,9,  -999.00,9,   -999.0,9,   -999.0,9,-999.0000,9,  -999.0,9, -999.0, -999.00,9,  -999.0,  -999.0, -999.00,9
31RBOACES24N_2,  AR01,    52,  1,     16,2,19980205,1604, 24.4997, -44.9340, 3591,   1249.9,   5.5130,  35.0140,  35.0140,2,    196.8,2,     194.6,2,    18.20,2,    24.13,2,     0.00,2,  -999.00,5,    0.065,2,    0.032,2,    0.009,2, -999.000,9,   -999.0,9,  -999.00,9,   -999.0,9,   -999.0,9,-999.0000,9,  -999.0,9, -999.0, -999.00,9,  -999.0,  -999.0,   41.75,2
31RBOACES24N_2,  AR01,    52,  1,     15,2,19980205,1604, 24.4997, -44.9340, 3591,   1349.3,   5.2550,  35.0390,  35.0380,2,    213.5,2,     212.2,2,    16.50,2,    22.18,2,     0.00,2,  -999.00,5, -999.000,9, -999.000,9, -999.000,9, -999.000,9,   -999.0,9,  -999.00,9,   -999.0,9,   -999.0,9,-999.0000,9,  -999.0,9, -999.0, -999.00,9,  -999.0,  -999.0, -999.00,9
31RBOACES24N_2,  AR01,    52,  1,     14,2,19980205,1604, 24.4997, -44.9340, 3591,   1451.6,   5.0080,  35.0550,  35.0510,2,    227.9,2,     225.9,2,    15.70,2,    21.00,2,     0.00,2,  -999.00,5,    0.123,6,    0.067,6,    0.005,6, -999.000,9,   -999.0,9,  -999.00,9,   -999.0,9,   -999.0,9,-999.0000,9,  -999.0,9, -999.0, -999.00,9,  -999.0,  -999.0, -999.00,9
31RBOACES24N_2,  AR01,    52,  1,     13,2,19980205,1604, 24.4997, -44.9340, 3591,   1551.0,   4.8910,  35.0690,  35.0690,2,    231.9,2,     230.3,2,    15.90,2,    20.52,2,     0.00,2,  -999.00,5, -999.000,9, -999.000,9, -999.000,9, -999.000,9,   -999.0,9,  -999.00,9,   -999.0,9,   -999.0,9,-999.0000,9,  -999.0,9, -999.0, -999.00,9,  -999.0,  -999.0,   43.01,2
31RBOACES24N_2,  AR01,    52,  1,     12,2,19980205,1604, 24.4997, -44.9340, 3591,   1649.7,   4.5680,  35.0650,  35.0650,2,    238.6,2,     238.0,2,    16.80,2,    20.03,2,     0.00,2,  -999.00,5,    0.093,2,    0.047,2,    0.005,2, -999.000,9,   -999.0,9,  -999.00,9,   -999.0,9,   -999.0,9,-999.0000,9,  -999.0,9, -999.0, -999.00,9,  -999.0,  -999.0, -999.00,9
31RBOACES24N_2,  AR01,    52,  1,     11,2,19980205,1604, 24.4997, -44.9340, 3591,   1850.9,   4.1310,  35.0430,  35.0430,2,    244.2,2,     244.2,2,    19.10,2,    19.93,2,     0.00,2,  -999.00,5,    0.079,2,    0.044,2,    0.000,2, -999.000,9,   -999.0,9,  -999.00,9,   -999.0,9,   -999.0,9,-999.0000,9,  -999.0,9, -999.0, -999.00,9,  -999.0,  -999.0, -999.00,9
31RBOACES24N_2,  AR01,    52,  1,     10,2,19980205,1604, 24.4997, -44.9340, 3591,   2051.7,   3.7570,  35.0180,  35.0180,2,    249.4,2,     248.8,2,    21.40,2,    19.83,2,     0.00,2,  -999.00,5,    0.065,2,    0.036,2,    0.003,2, -999.000,9,   -999.0,9,  -999.00,9,   -999.0,9,   -999.0,9,-999.0000,9,  -999.0,9, -999.0, -999.00,9,  -999.0,  -999.0, -999.00,9
31RBOACES24N_2,  AR01,    52,  1,      9,2,19980205,1604, 24.4997, -44.9340, 3591,   2250.3,   3.4210,  34.9920,  34.9910,2,    248.9,2,     250.0,2,    25.00,2,    20.13,2,     0.00,2,  -999.00,5,    0.021,2,    0.017,2,    0.007,2, -999.000,9,   -999.0,9,  -999.00,9,   -999.0,9,   -999.0,9,-999.0000,9,  -999.0,9, -999.0, -999.00,9,  -999.0,  -999.0,   42.13,2
31RBOACES24N_2,  AR01,    52,  1,      8,2,19980205,1604, 24.4997, -44.9340, 3591,   2449.4,   3.2240,  34.9760,  34.9760,2,    249.3,2,     250.1,2,    27.50,2,    20.32,2,     0.00,2,  -999.00,5,    0.012,2,    0.006,2,    0.008,2, -999.000,9,   -999.0,9,  -999.00,9,   -999.0,9,   -999.0,9,-999.0000,9,  -999.0,9, -999.0, -999.00,9,  -999.0,  -999.0, -999.00,9
31RBOACES24N_2,  AR01,    52,  1,      7,2,19980205,1604, 24.4997, -44.9340, 3591,   2651.8,   2.9350,  34.9540,  34.9530,2,    249.8,2,     250.2,2,    31.80,2,    20.71,2,     0.00,2,  -999.00,5,    0.009,2,    0.003,2,    0.006,2, -999.000,9,   -999.0,9,  -999.00,9,   -999.0,9,   -999.0,9,-999.0000,9,  -999.0,9, -999.0, -999.00,9,  -999.0,  -999.0, -999.00,9
31RBOACES24N_2,  AR01,    52,  1,      6,2,19980205,1604, 24.4997, -44.9340, 3591,   2850.3,   2.7810,  34.9400,  34.9390,2,    250.7,2,     250.2,2,    34.50,2,    20.91,2,     0.00,2,  -999.00,5,    0.006,2,    0.002,2,   -0.001,2, -999.000,9,   -999.0,9,  -999.00,9,   -999.0,9,   -999.0,9,-999.0000,9,  -999.0,9, -999.0, -999.00,9,  -999.0,  -999.0, -999.00,9
31RBOACES24N_2,  AR01,    52,  1,      5,2,19980205,1604, 24.4997, -44.9340, 3591,   3050.3,   2.6930,  34.9310,  34.9300,2,    253.6,2,     249.3,2,    36.10,2,    21.10,2,     0.00,2,  -999.00,5, -999.000,9, -999.000,9, -999.000,9, -999.000,9,   -999.0,9,  -999.00,9,   -999.0,9,   -999.0,9,-999.0000,9,  -999.0,9, -999.0, -999.00,9,  -999.0,  -999.0,   41.93,2
31RBOACES24N_2,  AR01,    52,  1,      4,2,19980205,1604, 24.4997, -44.9340, 3591,   3251.9,   2.6720,  34.9270,  34.9260,2,    253.4,2,     251.3,2,    36.90,2,    21.10,2,     0.00,2,  -999.00,5,    0.007,2,    0.003,2,    0.004,2, -999.000,9,   -999.0,9,  -999.00,9,   -999.0,9,   -999.0,9,-999.0000,9,  -999.0,9, -999.0, -999.00,9,  -999.0,  -999.0, -999.00,9
31RBOACES24N_2,  AR01,    52,  1,      3,2,19980205,1604, 24.4997, -44.9340, 3591,   3449.6,   2.6400,  34.9230,  34.9220,2,    253.8,2,     236.8,4,    37.70,2,    21.20,2,     0.00,2,  -999.00,5,    0.006,2,    0.005,2,    0.000,2, -999.000,9,   -999.0,9,  -999.00,9,   -999.0,9,   -999.0,9,-999.0000,9,  -999.0,9, -999.0, -999.00,9,  -999.0,  -999.0, -999.00,9
31RBOACES24N_2,  AR01,    52,  1,      1,2,19980205,1604, 24.4997, -44.9340, 3591,   3633.2,   2.6270,  34.9190,  34.9190,2,    253.3,2,     251.9,6,    38.20,6,    21.20,6,     0.00,6,  -999.00,5,    0.004,2,    0.003,2,    0.000,2, -999.000,9,   -999.0,9,  -999.00,9,   -999.0,9,   -999.0,9,-999.0000,9,  -999.0,9, -999.0, -999.00,9,  -999.0,  -999.0,   41.54,2
31RBOACES24N_2,  AR01,    52,  1,      2,2,19980205,1604, 24.4997, -44.9340, 3591,   3634.4,   2.6280,  34.9200,-999.0000,9,    253.4,2,    -999.0,9,  -999.00,9,  -999.00,9,  -999.00,9,  -999.00,9, -999.000,1, -999.000,1, -999.000,1, -999.000,9,   -999.0,9,  -999.00,9,   -999.0,9,   -999.0,9,-999.0000,9,  -999.0,9, -999.0, -999.00,9,  -999.0,  -999.0, -999.00,9