BOTTLE,20220820CCHSIOAMB
EXPOCODE,SECT_ID,STNNBR,CASTNO,BTLNBR,BTLNBR_FLAG_W,DATE,TIME,LATITUDE,LONGITUDE,DEPTH,CTDPRS,CTDTMP,CTDSAL,SALNTY,SALNTY_FLAG_W,CTDOXY,CTDOXY_FLAG_W,OXYGEN,OXYGEN_FLAG_W,SILCAT,SILCAT_FLAG_W,NITRAT,NITRAT_FLAG_W,NITRIT,NITRIT_FLAG_W,PHSPHT,PHSPHT_FLAG_W,CFC-11,CFC-11_FLAG_W,CFC-12,CFC-12_FLAG_W,CFC113,CFC113_FLAG_W,CCL4,CCL4_FLAG_W,DELC14,DELC14_FLAG_W,DELC13,DELC13_FLAG_W,TCARBN,TCARBN_FLAG_W,ALKALI,ALKALI_FLAG_W,PH,PH_FLAG_W,FCO2,FCO2_FLAG_W,FCO2TMP,TON,TON_FLAG_W,FCO2IN,C14ERR,TOC,TOC_FLAG_W
,,,,,,,,,,,DBAR,ITS-90,PSS-78,PSS-78,,UMOL/KG,,UMOL/KG,,UMOL/KG,,UMOL/KG,,UMOL/KG,,UMOL/KG,,PMOL/KG,,PMOL/KG,,PMOL/KG,,PMOL/KG,,/MILLE,,/MILLE,,UMOL/KG,,UMOL/KG,,,,UATM,,DEG C,UMOL/KG,,UATM,/MILLE,UMOL/KG,
31RBOACES24N_2,  AR01,    17,  1,     36,2,19980126,2156, 25.6165, -20.4332, 4303,      4.3,  21.4340,  37.0720,  37.0720,2,    224.2,2,     225.1,2,  -999.00,9,  -999.00,9,  -999.00,9,  -999.00,9, -999.000,9, -999.000,9, -999.000,9, -999.000,9,   -999.0,9,  -999.00,9,   2096.2,6,   2423.8,6,   8.0444,2,   333.1,2,   20.0, -999.00,9,   352.7,  -999.0, -999.00,9
31RBOACES24N_2,  AR01,    17,  1,     35,2,19980126,2156, 25.6165, -20.4332, 4303,     38.5,  21.8170,  37.2460,  37.2520,2,    221.3,2,     221.6,2,  -999.00,9,  -999.00,9,  -999.00,9,  -999.00,9, -999.000,9, -999.000,9, -999.000,9, -999.000,9,   -999.0,9,  -999.00,9,   -999.0,9,   -999.0,9,   8.0475,2,  -999.0,9, -999.0, -999.00,9,  -999.0,  -999.0, -999.00,9
31RBOACES24N_2,  AR01,    17,  1,     34,2,19980126,2156, 25.6165, -20.4332, 4303,     80.1,  21.8160,  37.2630,  37.2530,2,    219.8,2,     220.7,2,  -999.00,9,  -999.00,9,  -999.00,9,  -999.00,9, -999.000,9, -999.000,9, -999.000,9, -999.000,9,   -999.0,9,  -999.00,9,   2100.3,2,   2433.1,2,   8.0310,2,   331.1,2,   20.0, -999.00,9,   355.9,  -999.0, -999.00,9
31RBOACES24N_2,  AR01,    17,  1,     33,2,19980126,2156, 25.6165, -20.4332, 4303,    128.1,  18.8920,  36.7860,  36.7860,2,    210.6,2,     212.3,2,  -999.00,9,  -999.00,9,  -999.00,9,  -999.00,9, -999.000,9, -999.000,9, -999.000,9, -999.000,9,   -999.0,9,  -999.00,9,   -999.0,9,   -999.0,9,-999.0000,9,  -999.0,9, -999.0, -999.00,9,  -999.0,  -999.0, -999.00,9
31RBOACES24N_2,  AR01,    17,  1,     32,2,19980126,2156, 25.6165, -20.4332, 4303,    180.8,  17.5490,  36.5130,  36.5130,2,    204.7,2,     201.0,2,  -999.00,9,  -999.00,9,  -999.00,9,  -999.00,9, -999.000,9, -999.000,9, -999.000,9, -999.000,9,   -999.0,9,  -999.00,9,   2118.3,2,   2390.8,2,   7.9521,2,   425.2,2,   20.0, -999.00,9,   385.1,  -999.0, -999.00,9
31RBOACES24N_2,  AR01,    17,  1,     31,2,19980126,2156, 25.6165, -20.4332, 4303,    230.4,  16.4890,  36.3370,  36.3330,2,    197.7,2,     202.2,2,  -999.00,9,  -999.00,9,  -999.00,9,  -999.00,9, -999.000,9, -999.000,9, -999.000,9, -999.000,9,   -999.0,9,  -999.00,9,   -999.0,9,   -999.0,9,-999.0000,9,  -999.0,9, -999.0, -999.00,9,  -999.0,  -999.0, -999.00,9
31RBOACES24N_2,  AR01,    17,  1,     30,2,19980126,2156, 25.6165, -20.4332, 4303,    279.8,  15.1800,  36.1130,  36.1110,2,    200.2,2,     200.9,2,     2.70,2,     8.29,2,     0.00,2,     0.48,2, -999.000,9, -999.000,9, -999.000,9, -999.000,9,   -999.0,9,  -999.00,9,   -999.0,9,   2365.9,2,   7.9002,2,   476.8,2,   20.0, -999.00,9,   391.6,  -999.0, -999.00,9
31RBOACES24N_2,  AR01,    17,  1,     29,2,19980126,2156, 25.6165, -20.4332, 4303,    330.9,  14.3970,  36.0040,  36.0110,2,    194.4,2,     194.3,2,     3.30,2,    10.15,2,     0.00,2,     0.59,2, -999.000,9, -999.000,9, -999.000,9, -999.000,9,   -999.0,9,  -999.00,9,   2125.5,2,   -999.0,9,-999.0000,9,  -999.0,9, -999.0, -999.00,9,  -999.0,  -999.0, -999.00,9
31RBOACES24N_2,  AR01,    17,  1,     28,2,19980126,2156, 25.6165, -20.4332, 4303,    378.1,  13.6630,  35.8900,  35.8910,2,    177.0,2,     177.2,2,     4.60,2,    13.37,2,     0.00,2,     0.78,2, -999.000,9, -999.000,9, -999.000,9, -999.000,9,   -999.0,9,  -999.00,9,   2150.0,2,   2350.4,2,   7.8209,2,   577.8,2,   20.0, -999.00,9,   445.8,  -999.0, -999.00,9
31RBOACES24N_2,  AR01,    17,  1,     27,2,19980126,2156, 25.6165, -20.4332, 4303,    431.4,  12.9150,  35.7780,  35.7800,2,    177.1,2,     175.7,2,     5.30,2,    14.74,2,     0.00,2,     0.87,2, -999.000,9, -999.000,9, -999.000,9, -999.000,9,   -999.0,9,  -999.00,9,   -999.0,9,   -999.0,9,-999.0000,9,  -999.0,9, -999.0, -999.00,9,  -999.0,  -999.0, -999.00,9
31RBOACES24N_2,  AR01,    17,  1,     26,2,19980126,2156, 25.6165, -20.4332, 4303,    481.2,  12.3030,  35.6900,  35.6900,2,    180.2,2,     176.9,2,     6.00,2,    15.71,2,     0.00,2,     0.94,2, -999.000,9, -999.000,9, -999.000,9, -999.000,9,   -999.0,9,  -999.00,9,   2156.6,2,   2337.6,2,   7.7912,2,   625.6,2,   20.0, -999.00,9,   456.0,  -999.0, -999.00,9
31RBOACES24N_2,  AR01,    17,  1,     25,2,19980126,2156, 25.6165, -20.4332, 4303,    580.7,  10.9330,  35.5210,  35.5200,2,    162.8,2,     150.8,2,     8.80,2,    19.82,2,     0.00,2,     1.21,2, -999.000,9, -999.000,9, -999.000,9, -999.000,9,   -999.0,9,  -999.00,9,   -999.0,9,   -999.0,9,-999.0000,9,  -999.0,9, -999.0, -999.00,9,  -999.0,  -999.0, -999.00,9
31RBOACES24N_2,  AR01,    17,  1,     24,2,19980126,2156, 25.6165, -20.4332, 4303,    680.3,   9.6740,  35.3710,  35.3770,2,    139.7,2,     136.0,2,    12.50,2,    24.31,2,     0.00,2,     1.52,2, -999.000,9, -999.000,9, -999.000,9, -999.000,9,   -999.0,9,  -999.00,9,   2196.6,2,   2333.0,2,   7.6800,2,   852.3,2,   20.0, -999.00,9,   557.6,  -999.0, -999.00,9
31RBOACES24N_2,  AR01,    17,  1,     23,2,19980126,2156, 25.6165, -20.4332, 4303,    780.8,   8.3960,  35.2270,  35.2310,2,    129.5,2,     126.5,2,    16.10,2,    27.43,2,     0.00,2,     1.77,2, -999.000,9, -999.000,9, -999.000,9, -999.000,9,   -999.0,9,  -999.00,9,   -999.0,9,   -999.0,9,-999.0000,9,  -999.0,9, -999.0, -999.00,9,  -999.0,  -999.0, -999.00,9
31RBOACES24N_2,  AR01,    17,  1,     22,2,19980126,2156, 25.6165, -20.4332, 4303,    881.3,   7.7550,  35.2010,  35.1990,2,    132.8,2,     135.8,2,    17.50,2,    27.24,2,     0.00,2,     1.78,2, -999.000,9, -999.000,9, -999.000,9, -999.000,9,   -999.0,9,  -999.00,9,   2208.5,2,   2326.8,2,   7.6386,2,   936.4,2,   20.0, -999.00,9,   564.5,  -999.0, -999.00,9
31RBOACES24N_2,  AR01,    17,  1,     21,2,19980126,2156, 25.6165, -20.4332, 4303,    980.9,   7.4710,  35.1930,  35.1930,2,    143.0,2,     142.1,2,    18.10,2,    26.95,2,     0.00,2,     1.77,2, -999.000,9, -999.000,9, -999.000,9, -999.000,9,   -999.0,9,  -999.00,9,   -999.0,9,   -999.0,9,-999.0000,9,  -999.0,9, -999.0, -999.00,9,  -999.0,  -999.0, -999.00,9
31RBOACES24N_2,  AR01,    17,  1,     20,2,19980126,2156, 25.6165, -20.4332, 4303,   1100.4,   6.8880,  35.2140,  35.2090,2,    159.2,2,     162.0,2,    18.50,2,    25.48,2,     0.00,2,     1.68,2, -999.000,9, -999.000,9, -999.000,9, -999.000,9,   -999.0,9,  -999.00,9,   2204.0,6,   2331.3,2,-999.0000,9,   871.0,2,   20.0, -999.00,9,   503.2,  -999.0, -999.00,9
31RBOACES24N_2,  AR01,    17,  1,     19,2,19980126,2156, 25.6165, -20.4332, 4303,   1219.6,   6.4210,  35.2170,  35.2170,2,    173.0,2,     175.6,2,    18.60,2,    24.31,2,     0.00,2,     1.61,2, -999.000,9, -999.000,9, -999.000,9, -999.000,9,   -999.0,9,  -999.00,9,   -999.0,9,   -999.0,9,-999.0000,9,  -999.0,9, -999.0, -999.00,9,  -999.0,  -999.0, -999.00,9
31RBOACES24N_2,  AR01,    17,  1,     18,2,19980126,2156, 25.6165, -20.4332, 4303,   1341.0,   5.8890,  35.1990,  35.1970,2,    184.7,2,     190.1,2,    19.50,2,    23.33,2,     0.00,2,     1.56,2, -999.000,9, -999.000,9, -999.000,9, -999.000,9,   -999.0,9,  -999.00,9,   -999.0,9,   -999.0,9,-999.0000,9,  -999.0,9, -999.0, -999.00,9,  -999.0,  -999.0, -999.00,9
31RBOACES24N_2,  AR01,    17,  1,     17,2,19980126,2156, 25.6165, -20.4332, 4303,   1501.0,   5.4170,  35.1840,  35.1840,2,    200.3,2,     202.2,2,    20.80,2,    22.46,2,     0.00,2,     1.51,2, -999.000,9, -999.000,9, -999.000,9, -999.000,9,   -999.0,9,  -999.00,9,   -999.0,9,   2338.0,2,   7.7063,2,   787.4,2,   20.0, -999.00,9,   423.2,  -999.0, -999.00,9
31RBOACES24N_2,  AR01,    17,  1,     16,2,19980126,2156, 25.6165, -20.4332, 4303,   1650.0,   4.8140,  35.1230,  35.1230,2,    209.3,2,     210.7,2,    22.60,2,    22.16,2,     0.00,2,     1.51,2, -999.000,9, -999.000,9, -999.000,9, -999.000,9,   -999.0,9,  -999.00,9,   2191.8,2,   -999.0,9,-999.0000,9,  -999.0,9, -999.0, -999.00,9,  -999.0,  -999.0, -999.00,9
31RBOACES24N_2,  AR01,    17,  1,     15,2,19980126,2156, 25.6165, -20.4332, 4303,   1818.7,   4.4880,  35.0980,  35.0970,2,    216.8,2,     217.7,2,    24.10,2,    21.68,2,     0.00,2,     1.49,2, -999.000,9, -999.000,9, -999.000,9, -999.000,9,   -999.0,9,  -999.00,9,   2188.4,2,   2334.4,2,   7.7118,2,  -999.0,9, -999.0, -999.00,9,  -999.0,  -999.0, -999.00,9
31RBOACES24N_2,  AR01,    17,  1,     14,2,19980126,2156, 25.6165, -20.4332, 4303,   1979.6,   4.0920,  35.0670,  35.0660,2,    223.2,2,     224.9,2,    26.30,2,    21.58,2,     0.00,2,     1.48,2, -999.000,9, -999.000,9, -999.000,9, -999.000,9,   -999.0,9,  -999.00,9,   -999.0,9,   -999.0,9,-999.0000,9,  -999.0,9, -999.0, -999.00,9,  -999.0,  -999.0, -999.00,9
31RBOACES24N_2,  AR01,    17,  1,     13,2,19980126,2156, 25.6165, -20.4332, 4303,   2140.8,   3.8190,  35.0400,  35.0410,2,    227.2,2,     228.8,2,    27.70,2,    21.58,2,     0.00,2,     1.47,2, -999.000,9, -999.000,9, -999.000,9, -999.000,9,   -999.0,9,  -999.00,9,   2188.8,2,   2336.3,2,   7.7185,2,  -999.0,9, -999.0, -999.00,9,  -999.0,  -999.0, -999.00,9
31RBOACES24N_2,  AR01,    17,  1,     12,2,19980126,2156, 25.6165, -20.4332, 4303,   2300.1,   3.6120,  35.0200,  35.0200,2,    231.6,2,     232.3,2,    28.30,2,    21.48,2,     0.00,2,     1.48,3, -999.000,9, -999.000,9, -999.000,9, -999.000,9,   -999.0,9,  -999.00,9,   -999.0,9,   -999.0,9,-999.0000,9,  -999.0,9, -999.0, -999.00,9,  -999.0,  -999.0, -999.00,9
31RBOACES24N_2,  AR01,    17,  1,     11,2,19980126,2156, 25.6165, -20.4332, 4303,   2459.6,   3.3890,  34.9970,  34.9990,2,    234.3,2,     234.8,2,    29.70,2,    21.39,2,     0.00,2,     1.43,2, -999.000,9, -999.000,9, -999.000,9, -999.000,9,   -999.0,9,  -999.00,9,   2191.5,2,   2341.8,2,   7.7207,2,   762.8,2,   20.0, -999.00,9,   371.2,  -999.0, -999.00,9
31RBOACES24N_2,  AR01,    17,  1,     10,2,19980126,2156, 25.6165, -20.4332, 4303,   2620.0,   3.2280,  34.9830,  34.9830,2,    236.7,2,     237.5,2,    31.20,2,    21.29,2,     0.00,2,     1.44,2, -999.000,9, -999.000,9, -999.000,9, -999.000,9,   -999.0,9,  -999.00,9,   -999.0,9,   -999.0,9,-999.0000,9,  -999.0,9, -999.0, -999.00,9,  -999.0,  -999.0, -999.00,9
31RBOACES24N_2,  AR01,    17,  1,      9,2,19980126,2156, 25.6165, -20.4332, 4303,   2777.6,   3.0270,  34.9640,  34.9650,2,    241.0,2,     241.1,2,    32.60,2,    21.09,2,     0.00,2,     1.42,2, -999.000,9, -999.000,9, -999.000,9, -999.000,9,   -999.0,9,  -999.00,9,   2192.9,2,   2340.0,2,-999.0000,5,  -999.0,9, -999.0, -999.00,9,  -999.0,  -999.0, -999.00,9
31RBOACES24N_2,  AR01,    17,  1,      8,2,19980126,2156, 25.6165, -20.4332, 4303,   2940.1,   2.8920,  34.9500,  34.9500,2,    239.1,2,     234.8,3,    35.40,2,    21.39,2,     0.00,2,     1.45,2, -999.000,9, -999.000,9, -999.000,9, -999.000,9,   -999.0,9,  -999.00,9,   -999.0,9,   -999.0,9,-999.0000,9,  -999.0,9, -999.0, -999.00,9,  -999.0,  -999.0, -999.00,9
31RBOACES24N_2,  AR01,    17,  1,      7,2,19980126,2156, 25.6165, -20.4332, 4303,   3098.8,   2.7650,  34.9380,  34.9390,2,    240.2,2,     234.6,3,    37.20,2,    21.48,2,     0.00,2,     1.46,2, -999.000,9, -999.000,9, -999.000,9, -999.000,9,   -999.0,9,  -999.00,9,   2199.0,2,   2347.6,2,   7.7222,2,   759.9,2,   20.0, -999.00,9,   358.0,  -999.0, -999.00,9
31RBOACES24N_2,  AR01,    17,  1,      6,2,19980126,2156, 25.6165, -20.4332, 4303,   3299.6,   2.6440,  34.9260,  34.9260,2,    240.9,2,     241.6,2,    39.50,2,    21.68,2,     0.00,2,     1.47,2, -999.000,9, -999.000,9, -999.000,9, -999.000,9,   -999.0,9,  -999.00,9,   -999.0,9,   -999.0,9,-999.0000,9,  -999.0,9, -999.0, -999.00,9,  -999.0,  -999.0, -999.00,9
31RBOACES24N_2,  AR01,    17,  1,      5,2,19980126,2156, 25.6165, -20.4332, 4303,   3499.0,   2.5350,  34.9150,  34.9140,2,    242.6,2,     242.7,2,    42.20,2,    21.97,2,     0.00,2,     1.48,2, -999.000,9, -999.000,9, -999.000,9, -999.000,9,   -999.0,9,  -999.00,9,   -999.0,9,   -999.0,9,-999.0000,9,  -999.0,9, -999.0, -999.00,9,  -999.0,  -999.0, -999.00,9
31RBOACES24N_2,  AR01,    17,  1,      4,2,19980126,2156, 25.6165, -20.4332, 4303,   3698.5,   2.4750,  34.9080,  34.9070,2,    245.2,2,     244.7,2,    43.50,2,    22.07,2,     0.00,2,     1.50,2, -999.000,9, -999.000,9, -999.000,9, -999.000,9,   -999.0,9,  -999.00,9,   2203.7,2,   2357.7,2,   7.7256,2,   756.9,2,   20.0, -999.00,9,   350.9,  -999.0, -999.00,9
31RBOACES24N_2,  AR01,    17,  1,      3,2,19980126,2156, 25.6165, -20.4332, 4303,   3900.2,   2.4140,  34.9010,  34.8990,2,    246.2,2,     245.9,2,    44.80,2,    22.17,2,     0.00,2,     1.51,2, -999.000,9, -999.000,9, -999.000,9, -999.000,9,   -999.0,9,  -999.00,9,   -999.0,9,   -999.0,9,-999.0000,9,  -999.0,9, -999.0, -999.00,9,  -999.0,  -999.0, -999.00,9
31RBOACES24N_2,  AR01,    17,  1,      2,2,19980126,2156, 25.6165, -20.4332, 4303,   4098.8,   2.3930,  34.8950,  34.8970,2,    247.6,2,     245.9,2,    45.60,2,    22.17,2,     0.00,2,     1.51,2, -999.000,9, -999.000,9, -999.000,9, -999.000,9,   -999.0,9,  -999.00,9,   2203.4,2,   2354.8,2,   7.7284,2,  -999.0,9, -999.0, -999.00,9,  -999.0,  -999.0, -999.00,9
31RBOACES24N_2,  AR01,    17,  1,      1,2,19980126,2156, 25.6165, -20.4332, 4303,   4363.5,   2.3880,  34.8920,  34.8920,2,    248.6,2,     247.9,2,    46.30,2,    22.17,2,     0.00,2,     1.50,2, -999.000,9, -999.000,9, -999.000,9, -999.000,9,   -999.0,9,  -999.00,9,   2203.5,2,   2353.7,2,-999.0000,9,   751.4,2,   20.0, -999.00,9,   346.5,  -999.0, -999.00,9