BOTTLE,20220820CCHSIOAMB
EXPOCODE,SECT_ID,STNNBR,CASTNO,BTLNBR,BTLNBR_FLAG_W,DATE,TIME,LATITUDE,LONGITUDE,DEPTH,CTDPRS,CTDTMP,CTDSAL,SALNTY,SALNTY_FLAG_W,CTDOXY,CTDOXY_FLAG_W,OXYGEN,OXYGEN_FLAG_W,SILCAT,SILCAT_FLAG_W,NITRAT,NITRAT_FLAG_W,NITRIT,NITRIT_FLAG_W,PHSPHT,PHSPHT_FLAG_W,CFC-11,CFC-11_FLAG_W,CFC-12,CFC-12_FLAG_W,CFC113,CFC113_FLAG_W,CCL4,CCL4_FLAG_W,DELC14,DELC14_FLAG_W,DELC13,DELC13_FLAG_W,TCARBN,TCARBN_FLAG_W,ALKALI,ALKALI_FLAG_W,PH,PH_FLAG_W,FCO2,FCO2_FLAG_W,FCO2TMP,TON,TON_FLAG_W,FCO2IN,C14ERR,TOC,TOC_FLAG_W
,,,,,,,,,,,DBAR,ITS-90,PSS-78,PSS-78,,UMOL/KG,,UMOL/KG,,UMOL/KG,,UMOL/KG,,UMOL/KG,,UMOL/KG,,PMOL/KG,,PMOL/KG,,PMOL/KG,,PMOL/KG,,/MILLE,,/MILLE,,UMOL/KG,,UMOL/KG,,,,UATM,,DEG C,UMOL/KG,,UATM,/MILLE,UMOL/KG,
31RBOACES24N_2,  AR01,    11,  1,     36,2,19980125,1440, 26.6665, -17.1985, 3660,      4.0,  20.7010,  36.9860,  36.9860,2,    224.8,2,     223.7,2,  -999.00,5,     0.00,2,     0.00,2,     0.00,2,    2.258,2,    1.324,2,    0.192,2, -999.000,9,   -999.0,9,  -999.00,9,   2098.0,6,   2420.9,6,   8.0316,2,   343.6,2,   20.0, -999.00,9,   353.4,  -999.0, -999.00,9
31RBOACES24N_2,  AR01,    11,  1,     35,2,19980125,1440, 26.6665, -17.1985, 3660,     27.2,  20.7050,  36.9860,  36.9860,2,    222.4,2,     219.1,2,  -999.00,5,     0.00,2,     0.00,2,     0.00,2, -999.000,1, -999.000,1,    0.191,2, -999.000,9,   -999.0,9,  -999.00,9,   2096.3,2,   2419.8,2,   8.0297,2,   346.1,2,   20.0, -999.00,9,   356.1,  -999.0, -999.00,9
31RBOACES24N_2,  AR01,    11,  1,     34,2,19980125,1440, 26.6665, -17.1985, 3660,     58.2,  20.7000,  36.9830,  36.9810,2,    221.9,2,     223.4,2,  -999.00,5,     0.10,2,     0.01,2,     0.01,2,    2.215,2,    1.270,2,    0.171,2, -999.000,9,   -999.0,9,  -999.00,9,   -999.0,9,   -999.0,9,-999.0000,9,  -999.0,9, -999.0, -999.00,9,  -999.0,  -999.0, -999.00,9
31RBOACES24N_2,  AR01,    11,  1,     33,2,19980125,1440, 26.6665, -17.1985, 3660,     90.1,  20.2220,  36.8690,  36.8310,2,    206.4,2,     211.8,2,  -999.00,5,     1.66,2,     0.09,2,     0.08,2,    2.228,6,    1.294,6,    0.156,6, -999.000,9,   -999.0,9,  -999.00,9,   2106.9,2,   2407.5,2,   7.9984,2,   376.2,2,   20.0, -999.00,9,   379.8,  -999.0, -999.00,9
31RBOACES24N_2,  AR01,    11,  1,     32,2,19980125,1440, 26.6665, -17.1985, 3660,    120.1,  17.7760,  36.4020,  36.3920,2,    145.7,2,     149.4,2,  -999.00,5,    10.63,2,     0.01,2,     0.67,2,    2.090,2,    1.195,2,    0.094,2, -999.000,9,   -999.0,9,  -999.00,9,   -999.0,9,   -999.0,9,-999.0000,9,  -999.0,9, -999.0, -999.00,9,  -999.0,  -999.0, -999.00,9
31RBOACES24N_2,  AR01,    11,  1,     31,2,19980125,1440, 26.6665, -17.1985, 3660,    160.4,  16.9150,  36.3580,  36.3640,2,    162.1,2,     163.8,2,  -999.00,5,     9.56,2,     0.01,2,     0.58,2, -999.000,9, -999.000,9, -999.000,9, -999.000,9,   -999.0,9,  -999.00,9,   2146.5,2,   2378.5,2,-999.0000,5,  -999.0,9, -999.0, -999.00,9,  -999.0,  -999.0, -999.00,9
31RBOACES24N_2,  AR01,    11,  1,     30,2,19980125,1440, 26.6665, -17.1985, 3660,    201.3,  16.3050,  36.3240,  36.3130,2,    196.4,2,     196.9,2,  -999.00,5,     6.63,2,     0.00,2,     0.35,2,    2.483,2,    1.399,2,    0.053,2, -999.000,9,   -999.0,9,  -999.00,9,   2126.3,2,   2378.3,2,   7.9190,2,   457.8,2,   20.0, -999.00,9,   393.7,  -999.0, -999.00,9
31RBOACES24N_2,  AR01,    11,  1,     29,2,19980125,1440, 26.6665, -17.1985, 3660,    251.0,  15.3970,  36.1670,  35.9910,2,    193.9,2,     194.6,2,  -999.00,5,     8.39,2,     0.00,2,     0.45,2,    2.501,2,    1.400,2,    0.051,2, -999.000,9,   -999.0,9,  -999.00,9,   -999.0,9,   -999.0,9,-999.0000,9,  -999.0,9, -999.0, -999.00,9,  -999.0,  -999.0, -999.00,9
31RBOACES24N_2,  AR01,    11,  1,     28,2,19980125,1440, 26.6665, -17.1985, 3660,    300.9,  14.3680,  35.9970,  35.9900,2,    179.1,2,     174.2,2,  -999.00,5,    12.20,2,     0.00,2,     0.69,2,    2.330,2,    1.278,2,    0.030,2, -999.000,9,   -999.0,9,  -999.00,9,   2148.7,2,   -999.0,5,   7.8414,2,   558.2,2,   20.0, -999.00,9,   443.0,  -999.0, -999.00,9
31RBOACES24N_2,  AR01,    11,  1,     27,2,19980125,1440, 26.6665, -17.1985, 3660,    350.3,  13.7220,  35.8850,  35.8860,2,    157.3,2,     157.4,2,  -999.00,5,    15.13,2,     0.00,2,     0.89,2,    2.083,2,    1.129,2,    0.027,2, -999.000,9,   -999.0,9,  -999.00,9,   -999.0,9,   -999.0,9,-999.0000,9,  -999.0,9, -999.0, -999.00,9,  -999.0,  -999.0, -999.00,9
31RBOACES24N_2,  AR01,    11,  1,     26,2,19980125,1440, 26.6665, -17.1985, 3660,    400.9,  12.9980,  35.8030,  35.8050,2,    178.4,2,     179.7,2,  -999.00,5,    13.86,2,     0.00,2,     0.80,2,    2.239,2,    1.212,2,    0.042,2, -999.000,9,   -999.0,9,  -999.00,9,   2152.4,2,   2352.2,2,   7.8174,2,   594.4,2,   20.0, -999.00,9,   445.7,  -999.0, -999.00,9
31RBOACES24N_2,  AR01,    11,  1,     25,2,19980125,1440, 26.6665, -17.1985, 3660,    449.6,  12.5160,  35.7400,  35.7380,2,    184.9,2,     181.9,2,  -999.00,5,    14.64,2,     0.00,2,     0.85,2, -999.000,9, -999.000,9, -999.000,9, -999.000,9,   -999.0,9,  -999.00,9,   -999.0,9,   -999.0,9,-999.0000,9,  -999.0,9, -999.0, -999.00,9,  -999.0,  -999.0, -999.00,9
31RBOACES24N_2,  AR01,    11,  1,     24,2,19980125,1440, 26.6665, -17.1985, 3660,    500.5,  12.0080,  35.6720,  35.6680,2,    181.6,2,     178.1,2,  -999.00,5,    15.91,2,     0.00,2,     0.94,2,    1.978,2,    1.065,2,    0.036,2, -999.000,9,   -999.0,9,  -999.00,9,   2160.0,2,   2348.3,2,   7.7896,2,  -999.0,9, -999.0, -999.00,9,  -999.0,  -999.0, -999.00,9
31RBOACES24N_2,  AR01,    11,  1,     23,2,19980125,1440, 26.6665, -17.1985, 3660,    550.1,  11.4920,  35.6070,  35.6070,2,    175.4,2,     171.7,2,  -999.00,5,    17.38,2,     0.00,2,     1.04,2, -999.000,9, -999.000,9, -999.000,9, -999.000,9,   -999.0,9,  -999.00,9,   -999.0,9,   -999.0,9,-999.0000,9,  -999.0,9, -999.0, -999.00,9,  -999.0,  -999.0, -999.00,9
31RBOACES24N_2,  AR01,    11,  1,     22,2,19980125,1440, 26.6665, -17.1985, 3660,    600.2,  10.8940,  35.5390,  35.5370,2,    166.6,2,     162.8,2,  -999.00,5,    19.33,2,     0.00,2,     1.17,2,    1.405,2,    0.750,2,    0.018,2, -999.000,9,   -999.0,9,  -999.00,9,   2174.4,2,   -999.0,9,   7.7437,2,   721.7,2,   20.0, -999.00,9,   495.8,  -999.0, -999.00,9
31RBOACES24N_2,  AR01,    11,  1,     21,2,19980125,1440, 26.6665, -17.1985, 3660,    648.1,  10.1950,  35.4530,  35.4520,2,    154.6,2,     148.3,2,  -999.00,5,    21.97,2,     0.00,2,     1.36,2, -999.000,9, -999.000,9, -999.000,9, -999.000,9,   -999.0,9,  -999.00,9,   -999.0,9,   -999.0,9,-999.0000,9,  -999.0,9, -999.0, -999.00,9,  -999.0,  -999.0, -999.00,9
31RBOACES24N_2,  AR01,    11,  1,     20,2,19980125,1440, 26.6665, -17.1985, 3660,    700.9,   9.6750,  35.4140,  35.4210,2,    148.7,2,     147.9,2,  -999.00,5,    22.75,2,     0.00,2,     1.42,2,    0.789,2,    0.418,2,    0.011,2, -999.000,9,   -999.0,9,  -999.00,9,   2190.7,2,   -999.0,9,   7.7010,2,  -999.0,9, -999.0, -999.00,9,  -999.0,  -999.0, -999.00,9
31RBOACES24N_2,  AR01,    11,  1,     19,2,19980125,1440, 26.6665, -17.1985, 3660,    751.0,   9.2390,  35.3540,  35.3530,2,    140.3,2,     138.9,2,  -999.00,5,    24.60,2,     0.00,2,     1.55,2, -999.000,9, -999.000,9, -999.000,9, -999.000,9,   -999.0,9,  -999.00,9,   -999.0,9,   -999.0,9,-999.0000,9,  -999.0,9, -999.0, -999.00,9,  -999.0,  -999.0, -999.00,9
31RBOACES24N_2,  AR01,    11,  1,     18,2,19980125,1440, 26.6665, -17.1985, 3660,    799.8,   8.9060,  35.3400,  35.3430,2,    140.6,2,     142.7,2,  -999.00,5,    24.70,2,     0.00,2,     1.56,2,    0.468,6,    0.242,6,    0.000,6, -999.000,9,   -999.0,9,  -999.00,9,   2200.0,2,   2331.9,2,   7.6761,2,   855.4,2,   20.0, -999.00,9,   540.7,  -999.0, -999.00,9
31RBOACES24N_2,  AR01,    11,  1,     17,2,19980125,1440, 26.6665, -17.1985, 3660,    896.9,   7.9210,  35.2360,  35.2350,2,    145.3,2,     138.1,2,  -999.00,5,    26.66,2,     0.00,2,     1.72,2, -999.000,9, -999.000,9, -999.000,9, -999.000,9,   -999.0,9,  -999.00,9,   -999.0,9,   -999.0,9,-999.0000,9,  -999.0,9, -999.0, -999.00,9,  -999.0,  -999.0, -999.00,9
31RBOACES24N_2,  AR01,    11,  1,     16,2,19980125,1440, 26.6665, -17.1985, 3660,   1001.1,   7.5870,  35.2610,  35.2650,2,    153.7,2,     151.1,2,  -999.00,5,    25.58,2,     0.00,2,     1.66,2,    0.164,2,    0.081,2,    0.001,2, -999.000,9,   -999.0,9,  -999.00,9,   2205.0,6,   -999.0,9,   7.6662,2,   875.1,2,   20.0, -999.00,9,   521.5,  -999.0, -999.00,9
31RBOACES24N_2,  AR01,    11,  1,     15,2,19980125,1440, 26.6665, -17.1985, 3660,   1100.2,   7.1200,  35.2580,  35.2620,2,    163.3,2,     157.2,2,  -999.00,5,    25.00,2,     0.00,2,     1.64,2, -999.000,9, -999.000,9, -999.000,9, -999.000,9,   -999.0,9,  -999.00,9,   -999.0,9,   -999.0,9,-999.0000,9,  -999.0,9, -999.0, -999.00,9,  -999.0,  -999.0, -999.00,9
31RBOACES24N_2,  AR01,    11,  1,     14,3,19980125,1440, 26.6665, -17.1985, 3660,   1200.0,   7.0970,  35.3450,  35.3400,2,    179.0,2,     176.2,2,  -999.00,5,    22.94,2,     0.00,2,     1.50,2,    0.166,2,    0.093,2,    0.002,2, -999.000,9,   -999.0,9,  -999.00,9,   2197.2,2,   2340.7,2,   7.7007,2,   801.5,2,   20.0, -999.00,9,   465.7,  -999.0, -999.00,9
31RBOACES24N_2,  AR01,    11,  1,     13,2,19980125,1440, 26.6665, -17.1985, 3660,   1299.8,   6.6730,  35.3200,  35.3200,2,    186.8,2,     185.4,2,  -999.00,5,    22.26,2,     0.00,2,     1.47,2, -999.000,9, -999.000,9, -999.000,9, -999.000,9,   -999.0,9,  -999.00,9,   -999.0,9,   -999.0,9,-999.0000,9,  -999.0,9, -999.0, -999.00,9,  -999.0,  -999.0, -999.00,9
31RBOACES24N_2,  AR01,    11,  1,     12,2,19980125,1440, 26.6665, -17.1985, 3660,   1399.8,   6.2290,  35.3000,  35.3010,2,    196.3,2,     196.3,2,  -999.00,5,    21.68,2,     0.00,2,     1.44,2,    0.147,6,    0.092,6,   -0.003,6, -999.000,9,   -999.0,9,  -999.00,9,   2193.5,2,   2345.0,2,   7.7132,2,   775.2,2,   20.0, -999.00,9,   432.2,  -999.0, -999.00,9
31RBOACES24N_2,  AR01,    11,  1,     11,2,19980125,1440, 26.6665, -17.1985, 3660,   1500.8,   5.8060,  35.2670,  35.2690,2,    204.9,2,     205.7,2,  -999.00,5,    21.19,2,     0.00,2,     1.41,2, -999.000,9, -999.000,9, -999.000,9, -999.000,9,   -999.0,9,  -999.00,9,   -999.0,9,   -999.0,9,-999.0000,9,  -999.0,9, -999.0, -999.00,9,  -999.0,  -999.0, -999.00,9
31RBOACES24N_2,  AR01,    11,  1,     10,2,19980125,1440, 26.6665, -17.1985, 3660,   1600.2,   5.3750,  35.2230,  35.2230,2,    211.7,2,     210.3,2,  -999.00,5,    21.09,2,     0.00,2,     1.39,2,    0.091,2,    0.044,2,   -0.006,2, -999.000,9,   -999.0,9,  -999.00,9,   -999.0,9,   -999.0,9,-999.0000,9,  -999.0,9, -999.0, -999.00,9,  -999.0,  -999.0, -999.00,9
31RBOACES24N_2,  AR01,    11,  1,      9,2,19980125,1440, 26.6665, -17.1985, 3660,   1800.4,   4.6060,  35.1380,  35.1390,2,    219.9,2,     219.2,2,  -999.00,5,    21.09,2,     0.00,2,     1.41,2, -999.000,9, -999.000,9, -999.000,9, -999.000,9,   -999.0,9,  -999.00,9,   -999.0,9,   -999.0,9,-999.0000,9,  -999.0,9, -999.0, -999.00,9,  -999.0,  -999.0, -999.00,9
31RBOACES24N_2,  AR01,    11,  1,      8,2,19980125,1440, 26.6665, -17.1985, 3660,   2002.6,   4.1350,  35.0830,  35.0830,2,    223.4,2,     224.1,2,  -999.00,5,    21.29,2,     0.00,2,     1.43,2,    0.048,2,    0.003,2,    0.000,2, -999.000,9,   -999.0,9,  -999.00,9,   2191.7,2,   -999.0,9,   7.7196,2,   766.7,2,   20.0, -999.00,9,   386.7,  -999.0, -999.00,9
31RBOACES24N_2,  AR01,    11,  1,      7,2,19980125,1440, 26.6665, -17.1985, 3660,   2179.7,   3.7430,  35.0380,  35.0370,2,    225.5,2,     225.7,2,  -999.00,5,    21.58,2,     0.00,2,     1.45,2, -999.000,9, -999.000,9, -999.000,9, -999.000,9,   -999.0,9,  -999.00,9,   -999.0,9,   -999.0,9,-999.0000,9,  -999.0,9, -999.0, -999.00,9,  -999.0,  -999.0, -999.00,9
31RBOACES24N_2,  AR01,    11,  1,      6,2,19980125,1440, 26.6665, -17.1985, 3660,   2449.7,   3.3030,  34.9900,  34.9920,2,    229.7,2,     229.0,2,  -999.00,5,    21.78,2,     0.00,2,     1.47,2,    0.008,2,   -0.007,2,    0.000,2, -999.000,9,   -999.0,9,  -999.00,9,   -999.0,9,   -999.0,9,-999.0000,9,  -999.0,9, -999.0, -999.00,9,  -999.0,  -999.0, -999.00,9
31RBOACES24N_2,  AR01,    11,  1,      5,2,19980125,1440, 26.6665, -17.1985, 3660,   2648.1,   3.0960,  34.9700,  34.9700,2,    232.2,2,     231.4,2,  -999.00,5,    21.88,2,     0.00,2,     1.48,2, -999.000,9, -999.000,9, -999.000,9, -999.000,9,   -999.0,9,  -999.00,9,   2199.9,2,   2350.5,2,   7.7155,2,   773.4,2,   20.0, -999.00,9,   370.5,  -999.0, -999.00,9
31RBOACES24N_2,  AR01,    11,  1,      4,2,19980125,1440, 26.6665, -17.1985, 3660,   2901.3,   2.8610,  34.9470,  34.9480,2,    233.8,2,     233.0,2,  -999.00,5,    21.97,2,     0.00,2,     1.50,2,    0.009,2,    0.007,2,   -0.001,2, -999.000,9,   -999.0,9,  -999.00,9,   -999.0,9,   -999.0,9,-999.0000,9,  -999.0,9, -999.0, -999.00,9,  -999.0,  -999.0, -999.00,9
31RBOACES24N_2,  AR01,    11,  1,      3,2,19980125,1440, 26.6665, -17.1985, 3660,   3150.8,   2.7040,  34.9310,  34.9310,2,    233.6,2,     233.3,2,  -999.00,5,    22.17,2,     0.00,2,     1.51,2, -999.000,9, -999.000,9, -999.000,9, -999.000,9,   -999.0,9,  -999.00,9,   2206.9,2,   2363.5,2,   7.7167,2,   776.1,2,   20.0, -999.00,9,   364.5,  -999.0, -999.00,9
31RBOACES24N_2,  AR01,    11,  1,      2,2,19980125,1440, 26.6665, -17.1985, 3660,   3400.2,   2.5680,  34.9170,  34.9170,2,    233.1,2,     233.9,2,  -999.00,5,    22.37,2,     0.00,2,     1.52,2, -999.000,9, -999.000,9, -999.000,9, -999.000,9,   -999.0,9,  -999.00,9,   -999.0,9,   -999.0,9,-999.0000,9,  -999.0,9, -999.0, -999.00,9,  -999.0,  -999.0, -999.00,9
31RBOACES24N_2,  AR01,    11,  1,      1,2,19980125,1440, 26.6665, -17.1985, 3660,   3703.9,   2.4570,  34.9040,  34.9040,2,    237.5,2,     238.7,2,  -999.00,5,    22.27,6,     0.00,6,     1.51,6,   -0.003,2,    0.000,4,    0.001,2, -999.000,9,   -999.0,9,  -999.00,9,   2206.7,2,   -999.0,9,   7.7217,2,   772.8,2,   20.0, -999.00,9,   358.2,  -999.0, -999.00,9