BOTTLE,20220820CCHSIOAMB
EXPOCODE,SECT_ID,STNNBR,CASTNO,BTLNBR,BTLNBR_FLAG_W,DATE,TIME,LATITUDE,LONGITUDE,DEPTH,CTDPRS,CTDTMP,CTDSAL,SALNTY,SALNTY_FLAG_W,CTDOXY,CTDOXY_FLAG_W,OXYGEN,OXYGEN_FLAG_W,SILCAT,SILCAT_FLAG_W,NITRAT,NITRAT_FLAG_W,NITRIT,NITRIT_FLAG_W,PHSPHT,PHSPHT_FLAG_W,CFC-11,CFC-11_FLAG_W,CFC-12,CFC-12_FLAG_W,CFC113,CFC113_FLAG_W,CCL4,CCL4_FLAG_W,DELC14,DELC14_FLAG_W,DELC13,DELC13_FLAG_W,TCARBN,TCARBN_FLAG_W,ALKALI,ALKALI_FLAG_W,PH,PH_FLAG_W,FCO2,FCO2_FLAG_W,FCO2TMP,TON,TON_FLAG_W,FCO2IN,C14ERR,TOC,TOC_FLAG_W
,,,,,,,,,,,DBAR,ITS-90,PSS-78,PSS-78,,UMOL/KG,,UMOL/KG,,UMOL/KG,,UMOL/KG,,UMOL/KG,,UMOL/KG,,PMOL/KG,,PMOL/KG,,PMOL/KG,,PMOL/KG,,/MILLE,,/MILLE,,UMOL/KG,,UMOL/KG,,,,UATM,,DEG C,UMOL/KG,,UATM,/MILLE,UMOL/KG,
31RBOACES24N_2,  AR01,    49,  1,     36,2,19980204,2355, 24.4997, -43.2837, 3716,      8.3,  24.3060,  37.5130,  37.5140,2,    207.4,2,     210.0,2,     0.60,2,     0.00,2,     0.00,2,  -999.00,5, -999.000,9, -999.000,9, -999.000,9, -999.000,9,   -999.0,9,     1.57,2,   2079.6,6,   2448.2,2,   8.0835,2,   254.6,3,   20.0, -999.00,9,   301.9,  -999.0, -999.00,9
31RBOACES24N_2,  AR01,    49,  1,     35,2,19980204,2355, 24.4997, -43.2837, 3716,     31.6,  24.3090,  37.5130,  37.5140,2,    209.3,2,     208.8,2,     0.60,2,     0.00,2,     0.00,2,  -999.00,5, -999.000,9, -999.000,9, -999.000,9, -999.000,9,   -999.0,9,  -999.00,9,   2081.3,2,   2446.9,2,-999.0000,9,   255.6,3,   20.0, -999.00,9,   303.2,  -999.0, -999.00,9
31RBOACES24N_2,  AR01,    49,  1,     34,2,19980204,2355, 24.4997, -43.2837, 3716,     61.3,  24.2860,  37.5130,  37.5130,2,    208.2,2,     209.8,2,     0.50,2,     0.00,2,     0.00,2,  -999.00,5, -999.000,9, -999.000,9, -999.000,9, -999.000,9,   -999.0,9,  -999.00,9,   2079.4,2,   2448.2,2,   8.0935,2,   255.8,3,   20.0, -999.00,9,   303.1,  -999.0, -999.00,9
31RBOACES24N_2,  AR01,    49,  1,     33,2,19980204,2355, 24.4997, -43.2837, 3716,    110.4,  23.9810,  37.4700,  37.4590,2,    208.9,2,     208.1,2,     0.40,2,     0.00,2,     0.01,2,  -999.00,5, -999.000,9, -999.000,9, -999.000,9, -999.000,9,   -999.0,9,  -999.00,9,   2084.7,2,   -999.0,5,   8.0846,2,   268.9,3,   20.0, -999.00,9,   314.9,  -999.0, -999.00,9
31RBOACES24N_2,  AR01,    49,  1,     32,2,19980204,2355, 24.4997, -43.2837, 3716,    161.0,  20.9140,  37.1190,  37.1100,2,    193.8,2,     192.5,2,     0.70,2,     1.95,2,     0.02,2,  -999.00,5, -999.000,9, -999.000,9, -999.000,9, -999.000,9,   -999.0,9,  -999.00,9,   2120.5,2,   2421.5,2,   8.0013,2,   349.9,3,   20.0, -999.00,9,   362.9,  -999.0, -999.00,9
31RBOACES24N_2,  AR01,    49,  1,     31,2,19980204,2355, 24.4997, -43.2837, 3716,    209.9,  19.4430,  36.8790,  36.8820,2,    190.7,2,     193.3,2,     0.70,2,     2.93,2,     0.01,2,  -999.00,5, -999.000,9, -999.000,9, -999.000,9, -999.000,9,   -999.0,9,  -999.00,9,   2122.3,2,   -999.0,5,   7.9838,2,   367.0,3,   20.0, -999.00,9,   359.0,  -999.0, -999.00,9
31RBOACES24N_2,  AR01,    49,  1,     30,2,19980204,2355, 24.4997, -43.2837, 3716,    225.8,  18.8110,  36.7530,  36.7520,2,    191.0,2,     194.0,2,     0.90,2,     3.61,2,     0.01,2,  -999.00,5, -999.000,9, -999.000,9, -999.000,9, -999.000,9,   -999.0,9,  -999.00,9,   -999.0,9,   -999.0,9,-999.0000,9,  -999.0,9, -999.0, -999.00,9,  -999.0,  -999.0, -999.00,9
31RBOACES24N_2,  AR01,    49,  1,     29,2,19980204,2355, 24.4997, -43.2837, 3716,    250.8,  18.3690,  36.6620,  36.6550,2,    190.1,2,     190.6,2,     1.00,2,     4.39,2,     0.01,2,  -999.00,5, -999.000,9, -999.000,9, -999.000,9, -999.000,9,   -999.0,9,  -999.00,9,   2120.0,2,   2392.0,2,   7.9661,2,   391.6,3,   20.0, -999.00,9,   366.7,  -999.0, -999.00,9
31RBOACES24N_2,  AR01,    49,  1,     28,2,19980204,2355, 24.4997, -43.2837, 3716,    275.3,  17.8300,  36.5530,  36.5540,2,    191.3,2,     195.0,2,     1.20,2,     4.97,2,     0.00,2,  -999.00,5, -999.000,9, -999.000,9, -999.000,9, -999.000,9,   -999.0,9,  -999.00,9,   -999.0,9,   -999.0,9,-999.0000,9,  -999.0,9, -999.0, -999.00,9,  -999.0,  -999.0, -999.00,9
31RBOACES24N_2,  AR01,    49,  1,     27,2,19980204,2355, 24.4997, -43.2837, 3716,    303.8,  17.2090,  36.4380,  36.4420,2,    189.2,2,     189.3,2,     1.50,2,     6.54,2,     0.00,2,  -999.00,5, -999.000,9, -999.000,9, -999.000,9, -999.000,9,   -999.0,9,  -999.00,9,   2136.4,2,   -999.0,5,   7.9390,2,  -999.0,9, -999.0, -999.00,9,  -999.0,  -999.0, -999.00,9
31RBOACES24N_2,  AR01,    49,  1,     26,2,19980204,2355, 24.4997, -43.2837, 3716,    401.9,  15.5410,  36.1560,  36.1440,2,    184.3,2,     182.8,2,     2.70,2,     9.85,2,     0.00,2,  -999.00,5, -999.000,9, -999.000,9, -999.000,9, -999.000,9,   -999.0,9,  -999.00,9,   2137.0,2,   2362.7,2,   7.8885,2,   510.0,3,   20.0, -999.00,9,   425.5,  -999.0, -999.00,9
31RBOACES24N_2,  AR01,    49,  1,     25,2,19980204,2355, 24.4997, -43.2837, 3716,    502.0,  13.2900,  35.7950,  35.7950,2,    180.1,2,     179.8,2,     4.60,2,    13.66,2,     0.00,2,  -999.00,5, -999.000,9, -999.000,9, -999.000,9, -999.000,9,   -999.0,9,  -999.00,9,   -999.0,9,   -999.0,9,-999.0000,9,  -999.0,9, -999.0, -999.00,9,  -999.0,  -999.0, -999.00,9
31RBOACES24N_2,  AR01,    49,  1,     24,2,19980204,2355, 24.4997, -43.2837, 3716,    601.8,  11.9890,  35.6250,  35.6270,2,    173.1,2,     173.6,2,     6.10,2,    16.40,2,     0.00,2,  -999.00,5, -999.000,9, -999.000,9, -999.000,9, -999.000,9,   -999.0,9,  -999.00,9,   2158.5,2,   2330.9,2,   7.7935,2,   595.5,3,   20.0, -999.00,9,   427.8,  -999.0, -999.00,9
31RBOACES24N_2,  AR01,    49,  1,     23,2,19980204,2355, 24.4997, -43.2837, 3716,    693.6,  10.8100,  35.4920,  35.4900,2,    166.2,2,     164.4,2,     8.50,2,    19.33,2,     0.00,2,  -999.00,5, -999.000,9, -999.000,9, -999.000,9, -999.000,9,   -999.0,9,  -999.00,9,   -999.0,9,   -999.0,9,-999.0000,9,  -999.0,9, -999.0, -999.00,9,  -999.0,  -999.0, -999.00,9
31RBOACES24N_2,  AR01,    49,  1,     22,2,19980204,2355, 24.4997, -43.2837, 3716,    799.6,   9.4730,  35.3520,  35.3510,2,    159.4,2,     158.2,2,    11.60,2,    22.06,2,     0.00,2,  -999.00,5, -999.000,9, -999.000,9, -999.000,9, -999.000,9,   -999.0,9,  -999.00,9,   2182.2,2,   -999.0,9,   7.7146,2,   727.1,3,   20.0, -999.00,9,   469.3,  -999.0, -999.00,9
31RBOACES24N_2,  AR01,    49,  1,     21,2,19980204,2355, 24.4997, -43.2837, 3716,    900.6,   8.1630,  35.2260,  35.2230,2,    156.6,2,     158.1,2,    14.70,2,    24.31,2,     0.00,2,  -999.00,5, -999.000,9, -999.000,9, -999.000,9, -999.000,9,   -999.0,9,  -999.00,9,   -999.0,9,   -999.0,9,-999.0000,9,  -999.0,9, -999.0, -999.00,9,  -999.0,  -999.0, -999.00,9
31RBOACES24N_2,  AR01,    49,  1,     20,2,19980204,2355, 24.4997, -43.2837, 3716,    997.4,   7.0510,  35.1310,  35.1300,2,    163.6,2,     167.5,2,    16.40,2,    24.90,2,     0.00,2,  -999.00,5, -999.000,9, -999.000,9, -999.000,9, -999.000,9,   -999.0,9,  -999.00,9,   2194.9,6,   2321.7,2,   7.6755,2,  -999.0,9, -999.0, -999.00,9,  -999.0,  -999.0, -999.00,9
31RBOACES24N_2,  AR01,    49,  1,     19,2,19980204,2355, 24.4997, -43.2837, 3716,   1100.0,   6.2910,  35.0750,  35.0740,2,    180.9,2,     179.8,2,    17.20,2,    24.51,2,     0.00,2,  -999.00,5, -999.000,9, -999.000,9, -999.000,9, -999.000,9,   -999.0,9,  -999.00,9,   -999.0,9,   -999.0,9,-999.0000,9,  -999.0,9, -999.0, -999.00,9,  -999.0,  -999.0, -999.00,9
31RBOACES24N_2,  AR01,    49,  1,     18,2,19980204,2355, 24.4997, -43.2837, 3716,   1201.4,   5.7390,  35.0470,  35.0470,2,    199.3,2,     194.4,2,    17.00,2,    23.53,2,     0.00,2,  -999.00,5, -999.000,9, -999.000,9, -999.000,9, -999.000,9,   -999.0,9,  -999.00,9,   -999.0,9,   -999.0,9,-999.0000,9,  -999.0,9, -999.0, -999.00,9,  -999.0,  -999.0, -999.00,9
31RBOACES24N_2,  AR01,    49,  1,     17,2,19980204,2355, 24.4997, -43.2837, 3716,   1301.3,   5.3090,  35.0500,  35.0500,2,    212.9,2,     209.9,2,    16.20,2,    22.26,2,     0.00,2,  -999.00,5, -999.000,9, -999.000,9, -999.000,9, -999.000,9,   -999.0,9,  -999.00,9,   2180.0,2,   2319.5,2,   7.7006,2,   750.3,3,   20.0, -999.00,9,   400.9,  -999.0, -999.00,9
31RBOACES24N_2,  AR01,    49,  1,     16,2,19980204,2355, 24.4997, -43.2837, 3716,   1400.6,   5.0780,  35.0550,  35.0550,2,    222.1,2,     219.7,2,    15.80,2,    21.39,2,     0.00,2,  -999.00,5, -999.000,9, -999.000,9, -999.000,9, -999.000,9,   -999.0,9,  -999.00,9,   -999.0,9,   -999.0,9,-999.0000,9,  -999.0,9, -999.0, -999.00,9,  -999.0,  -999.0, -999.00,9
31RBOACES24N_2,  AR01,    49,  1,     15,2,19980204,2355, 24.4997, -43.2837, 3716,   1500.4,   4.9130,  35.0690,  35.0690,2,    229.5,2,     227.9,2,    15.70,2,    20.60,2,     0.00,2,  -999.00,5, -999.000,9, -999.000,9, -999.000,9, -999.000,9,   -999.0,9,  -999.00,9,   -999.0,9,   -999.0,9,-999.0000,9,  -999.0,9, -999.0, -999.00,9,  -999.0,  -999.0, -999.00,9
31RBOACES24N_2,  AR01,    49,  1,     14,2,19980204,2355, 24.4997, -43.2837, 3716,   1599.3,   4.7110,  35.0690,  35.0690,2,    236.0,2,     234.1,2,    15.90,2,    20.12,2,     0.00,2,  -999.00,5, -999.000,9, -999.000,9, -999.000,9, -999.000,9,   -999.0,9,  -999.00,9,   2171.5,2,   2325.1,2,   7.7250,2,  -999.0,9, -999.0, -999.00,9,  -999.0,  -999.0, -999.00,9
31RBOACES24N_2,  AR01,    49,  1,     13,2,19980204,2355, 24.4997, -43.2837, 3716,   1701.0,   4.4160,  35.0550,  35.0540,2,    240.9,2,     238.9,2,    17.10,2,    19.92,2,     0.00,2,  -999.00,5, -999.000,9, -999.000,9, -999.000,9, -999.000,9,   -999.0,9,  -999.00,9,   -999.0,9,   -999.0,9,-999.0000,9,  -999.0,9, -999.0, -999.00,9,  -999.0,  -999.0, -999.00,9
31RBOACES24N_2,  AR01,    49,  1,     12,2,19980204,2355, 24.4997, -43.2837, 3716,   1799.6,   4.0820,  35.0310,  35.0300,2,    240.0,2,     239.7,2,    19.40,2,    20.31,2,     0.00,2,  -999.00,5, -999.000,9, -999.000,9, -999.000,9, -999.000,9,   -999.0,9,  -999.00,9,   -999.0,9,   -999.0,9,-999.0000,9,  -999.0,9, -999.0, -999.00,9,  -999.0,  -999.0, -999.00,9
31RBOACES24N_2,  AR01,    49,  1,     11,2,19980204,2355, 24.4997, -43.2837, 3716,   1997.8,   3.7250,  35.0090,  35.0090,2,    245.4,2,     244.4,2,    21.80,2,    20.21,2,     0.00,2,  -999.00,5, -999.000,9, -999.000,9, -999.000,9, -999.000,9,   -999.0,9,  -999.00,9,   2172.4,2,   2325.6,2,   7.7304,2,  -999.0,9, -999.0, -999.00,9,  -999.0,  -999.0, -999.00,9
31RBOACES24N_2,  AR01,    49,  1,     10,2,19980204,2355, 24.4997, -43.2837, 3716,   2197.5,   3.5070,  34.9950,  34.9950,2,    245.9,2,     246.9,2,    23.70,2,    20.21,2,     0.00,2,  -999.00,5, -999.000,9, -999.000,9, -999.000,9, -999.000,9,   -999.0,9,  -999.00,9,   -999.0,9,   -999.0,9,-999.0000,9,   698.2,3,   20.0, -999.00,9,   340.8,  -999.0, -999.00,9
31RBOACES24N_2,  AR01,    49,  1,      9,2,19980204,2355, 24.4997, -43.2837, 3716,   2391.2,   3.2520,  34.9770,  34.9770,2,    247.4,2,     248.1,2,    26.70,2,    20.41,2,     0.00,2,  -999.00,5, -999.000,9, -999.000,9, -999.000,9, -999.000,9,   -999.0,9,  -999.00,9,   -999.0,9,   -999.0,9,-999.0000,9,  -999.0,9, -999.0, -999.00,9,  -999.0,  -999.0, -999.00,9
31RBOACES24N_2,  AR01,    49,  1,      8,2,19980204,2355, 24.4997, -43.2837, 3716,   2601.2,   3.0550,  34.9620,  34.9620,2,    247.7,2,     248.4,2,    29.50,2,    20.61,2,     0.00,2,  -999.00,5, -999.000,9, -999.000,9, -999.000,9, -999.000,9,   -999.0,9,  -999.00,9,   2181.2,2,   2336.8,2,   7.7310,2,  -999.0,9, -999.0, -999.00,9,  -999.0,  -999.0, -999.00,9
31RBOACES24N_2,  AR01,    49,  1,      7,2,19980204,2355, 24.4997, -43.2837, 3716,   2800.2,   2.9170,  34.9520,  34.9520,2,    247.5,2,     247.7,2,    31.80,2,    20.90,2,     0.00,2,  -999.00,5, -999.000,9, -999.000,9, -999.000,9, -999.000,9,   -999.0,9,  -999.00,9,   -999.0,9,   -999.0,9,-999.0000,9,  -999.0,9, -999.0, -999.00,9,  -999.0,  -999.0, -999.00,9
31RBOACES24N_2,  AR01,    49,  1,      6,2,19980204,2355, 24.4997, -43.2837, 3716,   3001.0,   2.7480,  34.9370,  34.9360,2,    249.0,2,     248.9,2,    35.00,2,    21.00,2,     0.00,2,  -999.00,5, -999.000,9, -999.000,9, -999.000,9, -999.000,9,   -999.0,9,  -999.00,9,   -999.0,9,   -999.0,9,-999.0000,9,  -999.0,9, -999.0, -999.00,9,  -999.0,  -999.0, -999.00,9
31RBOACES24N_2,  AR01,    49,  1,      5,2,19980204,2355, 24.4997, -43.2837, 3716,   3200.6,   2.6290,  34.9250,  34.9250,2,    251.0,2,     249.5,2,    37.40,2,    21.19,2,     0.00,2,  -999.00,5, -999.000,9, -999.000,9, -999.000,9, -999.000,9,   -999.0,9,  -999.00,9,   2189.8,2,   2342.6,2,   7.7297,2,   715.0,3,   20.0, -999.00,9,   333.6,  -999.0, -999.00,9
31RBOACES24N_2,  AR01,    49,  1,      4,2,19980204,2355, 24.4997, -43.2837, 3716,   3400.5,   2.5690,  34.9180,  34.9170,2,    250.9,2,     249.6,2,    38.90,2,    21.29,2,     0.00,2,  -999.00,5, -999.000,9, -999.000,9, -999.000,9, -999.000,9,   -999.0,9,  -999.00,9,   -999.0,9,   -999.0,9,-999.0000,9,  -999.0,9, -999.0, -999.00,9,  -999.0,  -999.0, -999.00,9
31RBOACES24N_2,  AR01,    49,  1,      3,2,19980204,2355, 24.4997, -43.2837, 3716,   3600.1,   2.5540,  34.9140,  34.9140,2,    249.9,2,     250.1,2,    39.60,2,    21.29,2,     0.00,2,  -999.00,5, -999.000,9, -999.000,9, -999.000,9, -999.000,9,   -999.0,9,  -999.00,9,   -999.0,9,   -999.0,9,-999.0000,9,  -999.0,9, -999.0, -999.00,9,  -999.0,  -999.0, -999.00,9
31RBOACES24N_2,  AR01,    49,  1,      2,2,19980204,2355, 24.4997, -43.2837, 3716,   3761.5,   2.5430,  34.9120,-999.0000,9,    248.6,2,    -999.0,9,  -999.00,9,  -999.00,9,  -999.00,9,  -999.00,9, -999.000,1, -999.000,1, -999.000,1, -999.000,1,   -999.0,9,  -999.00,9,   -999.0,9,   -999.0,9,-999.0000,9,  -999.0,9, -999.0, -999.00,9,  -999.0,  -999.0, -999.00,9
31RBOACES24N_2,  AR01,    49,  1,      1,2,19980204,2355, 24.4997, -43.2837, 3716,   3762.6,   2.5420,  34.9120,  34.9130,2,    248.6,2,     250.7,6,    40.00,6,    21.39,6,     0.00,6,  -999.00,5, -999.000,9, -999.000,9, -999.000,9, -999.000,9,   -999.0,9,  -999.00,9,   2191.4,2,   2341.5,2,   7.7279,2,   767.1,3,   20.0, -999.00,9,   357.5,  -999.0, -999.00,9