BOTTLE,20220820CCHSIOAMB
EXPOCODE,SECT_ID,STNNBR,CASTNO,BTLNBR,BTLNBR_FLAG_W,DATE,TIME,LATITUDE,LONGITUDE,DEPTH,CTDPRS,CTDTMP,CTDSAL,SALNTY,SALNTY_FLAG_W,CTDOXY,CTDOXY_FLAG_W,OXYGEN,OXYGEN_FLAG_W,SILCAT,SILCAT_FLAG_W,NITRAT,NITRAT_FLAG_W,NITRIT,NITRIT_FLAG_W,PHSPHT,PHSPHT_FLAG_W,CFC-11,CFC-11_FLAG_W,CFC-12,CFC-12_FLAG_W,CFC113,CFC113_FLAG_W,CCL4,CCL4_FLAG_W,DELC14,DELC14_FLAG_W,DELC13,DELC13_FLAG_W,TCARBN,TCARBN_FLAG_W,ALKALI,ALKALI_FLAG_W,PH,PH_FLAG_W,FCO2,FCO2_FLAG_W,FCO2TMP,TON,TON_FLAG_W,FCO2IN,C14ERR,TOC,TOC_FLAG_W
,,,,,,,,,,,DBAR,ITS-90,PSS-78,PSS-78,,UMOL/KG,,UMOL/KG,,UMOL/KG,,UMOL/KG,,UMOL/KG,,UMOL/KG,,PMOL/KG,,PMOL/KG,,PMOL/KG,,PMOL/KG,,/MILLE,,/MILLE,,UMOL/KG,,UMOL/KG,,,,UATM,,DEG C,UMOL/KG,,UATM,/MILLE,UMOL/KG,
31RBOACES24N_2,  AR01,    79,  1,     36,2,19980213,0850, 24.5067, -61.8028, -999,      4.9,  24.3070,  36.8010,  36.8030,2,    215.6,2,     212.4,2,     0.90,2,     0.00,2,     0.00,2,     0.00,2, -999.000,9, -999.000,9, -999.000,9, -999.000,9,   -999.0,9,  -999.00,9,   2035.2,6,   2406.7,2,   8.1059,2,   268.2,2,   20.0, -999.00,9,   317.9,  -999.0, -999.00,9
31RBOACES24N_2,  AR01,    79,  1,     35,2,19980213,0850, 24.5067, -61.8028, -999,     49.1,  24.3330,  36.8080,  36.8090,2,    212.4,2,     212.1,6,     0.90,2,     0.00,2,     0.00,2,     0.01,2, -999.000,9, -999.000,9, -999.000,9, -999.000,9,   -999.0,9,  -999.00,9,   -999.0,9,   -999.0,9,-999.0000,9,  -999.0,9, -999.0, -999.00,9,  -999.0,  -999.0, -999.00,9
31RBOACES24N_2,  AR01,    79,  1,     34,2,19980213,0850, 24.5067, -61.8028, -999,    124.4,  22.1930,  37.1230,  37.1210,2,    205.3,2,     205.7,2,     0.60,2,     0.20,2,     0.04,2,     0.01,2, -999.000,9, -999.000,9, -999.000,9, -999.000,9,   -999.0,9,  -999.00,9,   2090.1,2,   2424.2,2,   8.0449,2,   326.4,2,   20.0, -999.00,9,   356.1,  -999.0, -999.00,9
31RBOACES24N_2,  AR01,    79,  1,     33,2,19980213,0850, 24.5067, -61.8028, -999,    175.9,  20.4890,  36.9090,  36.9000,2,    201.6,2,     203.7,2,     0.50,2,     0.59,2,     0.02,2,     0.02,2, -999.000,9, -999.000,9, -999.000,9, -999.000,9,   -999.0,9,  -999.00,9,   2096.4,2,   2411.6,2,   8.0219,2,   350.9,2,   20.0, -999.00,9,   358.0,  -999.0, -999.00,9
31RBOACES24N_2,  AR01,    79,  1,     32,2,19980213,0850, 24.5067, -61.8028, -999,    197.4,  19.6560,  36.7700,  36.7670,2,    201.6,2,     203.2,2,     0.60,2,     1.07,2,     0.01,2,     0.04,2, -999.000,9, -999.000,9, -999.000,9, -999.000,9,   -999.0,9,  -999.00,9,   -999.0,9,   -999.0,9,-999.0000,9,  -999.0,9, -999.0, -999.00,9,  -999.0,  -999.0, -999.00,9
31RBOACES24N_2,  AR01,    79,  1,     31,2,19980213,0850, 24.5067, -61.8028, -999,    222.6,  18.9220,  36.6580,  36.6550,2,    201.1,2,     203.8,2,     0.80,2,     2.05,2,     0.01,2,     0.07,2, -999.000,9, -999.000,9, -999.000,9, -999.000,9,   -999.0,9,  -999.00,9,   2096.4,2,   2396.0,2,   7.9995,2,   370.1,2,   20.0, -999.00,9,   354.5,  -999.0, -999.00,9
31RBOACES24N_2,  AR01,    79,  1,     30,2,19980213,0850, 24.5067, -61.8028, -999,    248.1,  18.5930,  36.6070,  36.6090,2,    204.1,2,     204.8,2,     0.90,2,     2.63,2,     0.01,2,     0.10,2, -999.000,9, -999.000,9, -999.000,9, -999.000,9,   -999.0,9,  -999.00,9,   -999.0,9,   -999.0,9,-999.0000,9,  -999.0,9, -999.0, -999.00,9,  -999.0,  -999.0, -999.00,9
31RBOACES24N_2,  AR01,    79,  1,     29,2,19980213,0850, 24.5067, -61.8028, -999,    274.3,  18.2560,  36.5570,  36.5550,2,    208.1,2,     208.4,2,     1.10,2,     3.32,2,     0.01,2,     0.14,2, -999.000,9, -999.000,9, -999.000,9, -999.000,9,   -999.0,9,  -999.00,9,   -999.0,9,   -999.0,9,-999.0000,9,  -999.0,9, -999.0, -999.00,9,  -999.0,  -999.0, -999.00,9
31RBOACES24N_2,  AR01,    79,  1,     28,2,19980213,0850, 24.5067, -61.8028, -999,    298.9,  18.1150,  36.5360,  36.5350,2,    209.7,2,     210.1,2,     1.20,2,     3.61,2,     0.01,2,     0.16,2, -999.000,9, -999.000,9, -999.000,9, -999.000,9,   -999.0,9,  -999.00,9,   2094.1,2,   2394.5,2,   7.9912,2,   375.2,2,   20.0, -999.00,9,   347.7,  -999.0, -999.00,9
31RBOACES24N_2,  AR01,    79,  1,     27,3,19980213,0850, 24.5067, -61.8028, -999,    351.5,  17.9370,  36.5150,  36.5130,2,    212.0,2,     210.2,2,     1.30,2,     3.80,2,     0.01,2,     0.18,2, -999.000,9, -999.000,9, -999.000,9, -999.000,9,   -999.0,9,  -999.00,9,   2092.8,2,   -999.0,9,-999.0000,9,  -999.0,9, -999.0, -999.00,9,  -999.0,  -999.0, -999.00,9
31RBOACES24N_2,  AR01,    79,  1,     26,2,19980213,0850, 24.5067, -61.8028, -999,    400.4,  17.7190,  36.4770,  36.4770,2,    208.7,2,     207.1,2,     1.50,2,     4.49,2,     0.00,2,     0.22,2, -999.000,9, -999.000,9, -999.000,9, -999.000,9,   -999.0,9,  -999.00,9,   -999.0,9,   -999.0,9,-999.0000,9,  -999.0,9, -999.0, -999.00,9,  -999.0,  -999.0, -999.00,9
31RBOACES24N_2,  AR01,    79,  1,     25,2,19980213,0850, 24.5067, -61.8028, -999,    450.0,  17.1570,  36.3830,  36.3790,2,    202.7,2,     199.4,2,     2.00,2,     6.15,2,     0.01,2,     0.32,2, -999.000,9, -999.000,9, -999.000,9, -999.000,9,   -999.0,9,  -999.00,9,   2108.0,2,   2377.3,2,   7.9536,2,   415.9,2,   20.0, -999.00,9,   370.8,  -999.0, -999.00,9
31RBOACES24N_2,  AR01,    79,  1,     24,2,19980213,0850, 24.5067, -61.8028, -999,    500.5,  16.2280,  36.2300,  36.2360,2,    194.8,2,     190.5,2,     2.60,2,     8.39,2,     0.00,2,     0.45,2, -999.000,9, -999.000,9, -999.000,9, -999.000,9,   -999.0,9,  -999.00,9,   -999.0,9,   -999.0,9,-999.0000,9,  -999.0,9, -999.0, -999.00,9,  -999.0,  -999.0, -999.00,9
31RBOACES24N_2,  AR01,    79,  1,     23,2,19980213,0850, 24.5067, -61.8028, -999,    550.0,  15.3710,  36.0920,  36.0940,2,    186.9,2,     184.1,2,     3.40,2,    10.34,2,     0.00,2,     0.58,2, -999.000,9, -999.000,9, -999.000,9, -999.000,9,   -999.0,9,  -999.00,9,   -999.0,9,   -999.0,9,-999.0000,9,  -999.0,9, -999.0, -999.00,9,  -999.0,  -999.0, -999.00,9
31RBOACES24N_2,  AR01,    79,  1,     22,2,19980213,0850, 24.5067, -61.8028, -999,    600.0,  14.1590,  35.9040,  35.9000,2,    180.1,2,     177.4,2,     4.70,2,    13.08,2,     0.00,2,     0.74,2, -999.000,9, -999.000,9, -999.000,9, -999.000,9,   -999.0,9,  -999.00,9,   2139.5,2,   2357.5,2,   7.8474,2,   548.2,2,   20.0, -999.00,9,   431.9,  -999.0, -999.00,9
31RBOACES24N_2,  AR01,    79,  1,     21,2,19980213,0850, 24.5067, -61.8028, -999,    636.2,  13.6150,  35.8150,  35.8380,2,    177.6,2,     175.7,2,     5.20,2,    13.96,2,     0.00,2,     0.79,2, -999.000,9, -999.000,9, -999.000,9, -999.000,9,   -999.0,9,  -999.00,9,   -999.0,9,   -999.0,9,-999.0000,9,  -999.0,9, -999.0, -999.00,9,  -999.0,  -999.0, -999.00,9
31RBOACES24N_2,  AR01,    79,  1,     20,2,19980213,0850, 24.5067, -61.8028, -999,    748.9,  11.1960,  35.4890,  35.4900,2,    164.7,2,     157.7,2,     9.50,2,    20.31,2,     0.00,2,     1.21,2, -999.000,9, -999.000,9, -999.000,9, -999.000,9,   -999.0,9,  -999.00,9,   -999.0,9,   -999.0,9,-999.0000,9,  -999.0,9, -999.0, -999.00,9,  -999.0,  -999.0, -999.00,9
31RBOACES24N_2,  AR01,    79,  1,     19,2,19980213,0850, 24.5067, -61.8028, -999,    851.0,   9.5400,  35.2900,  35.2940,2,    150.5,2,     149.8,2,    13.20,2,    24.12,2,     0.00,2,     1.47,2, -999.000,9, -999.000,9, -999.000,9, -999.000,9,   -999.0,9,  -999.00,9,   2182.1,2,   -999.0,5,   7.7021,2,   793.6,2,   20.0, -999.00,9,   515.2,  -999.0, -999.00,9
31RBOACES24N_2,  AR01,    79,  1,     18,2,19980213,0850, 24.5067, -61.8028, -999,    904.3,   8.6360,  35.1870,  35.1850,2,    146.5,2,     146.9,2,    15.70,2,    26.17,2,     0.00,2,     1.62,2, -999.000,9, -999.000,9, -999.000,9, -999.000,9,   -999.0,9,  -999.00,9,   -999.0,9,   -999.0,9,-999.0000,9,  -999.0,9, -999.0, -999.00,9,  -999.0,  -999.0, -999.00,9
31RBOACES24N_2,  AR01,    79,  1,     17,2,19980213,0850, 24.5067, -61.8028, -999,    998.7,   7.3100,  35.0550,  35.0590,2,    150.9,2,     152.5,2,    18.50,2,    27.74,2,     0.00,2,     1.74,2, -999.000,9, -999.000,9, -999.000,9, -999.000,9,   -999.0,9,  -999.00,9,   2195.8,6,   -999.0,5,   7.6522,2,   896.5,2,   20.0, -999.00,9,   528.6,  -999.0, -999.00,9
31RBOACES24N_2,  AR01,    79,  1,     16,2,19980213,0850, 24.5067, -61.8028, -999,   1099.1,   6.4730,  35.0040,  35.0050,2,    166.5,2,     166.1,2,    19.50,2,    27.44,2,     0.00,2,     1.74,2, -999.000,9, -999.000,9, -999.000,9, -999.000,9,   -999.0,9,  -999.00,9,   -999.0,9,   -999.0,9,-999.0000,9,  -999.0,9, -999.0, -999.00,9,  -999.0,  -999.0, -999.00,9
31RBOACES24N_2,  AR01,    79,  1,     15,2,19980213,0850, 24.5067, -61.8028, -999,   1300.8,   5.5720,  35.0540,  35.0520,2,    213.8,2,     212.4,2,    15.90,2,    22.56,2,     0.00,2,     1.43,2, -999.000,9, -999.000,9, -999.000,9, -999.000,9,   -999.0,9,  -999.00,9,   2175.9,2,   2317.8,2,   7.6989,2,   799.8,2,   20.0, -999.00,9,   433.9,  -999.0, -999.00,9
31RBOACES24N_2,  AR01,    79,  1,     14,2,19980213,0850, 24.5067, -61.8028, -999,   1498.4,   4.8320,  35.0600,  35.0610,2,    242.7,2,     242.0,2,    14.40,2,    18.17,2,     0.00,2,     1.27,2, -999.000,9, -999.000,9, -999.000,9, -999.000,9,   -999.0,9,  -999.00,9,   -999.0,9,   -999.0,9,-999.0000,9,  -999.0,9, -999.0, -999.00,9,  -999.0,  -999.0, -999.00,9
31RBOACES24N_2,  AR01,    79,  1,     13,2,19980213,0850, 24.5067, -61.8028, -999,   1700.1,   4.4310,  35.0510,  35.0520,2,    251.2,2,     251.2,2,    15.20,2,    17.48,2,     0.00,2,     1.24,2, -999.000,9, -999.000,9, -999.000,9, -999.000,9,   -999.0,9,  -999.00,9,   -999.0,9,   -999.0,9,-999.0000,9,  -999.0,9, -999.0, -999.00,9,  -999.0,  -999.0, -999.00,9
31RBOACES24N_2,  AR01,    79,  1,     12,2,19980213,0850, 24.5067, -61.8028, -999,   1898.0,   4.1000,  35.0390,-999.0000,9,    253.3,2,     254.2,2,    17.20,2,    17.68,2,     0.00,2,     1.25,2, -999.000,9, -999.000,9, -999.000,9, -999.000,9,   -999.0,9,  -999.00,9,   -999.0,9,   -999.0,9,-999.0000,9,  -999.0,9, -999.0, -999.00,9,  -999.0,  -999.0, -999.00,9
31RBOACES24N_2,  AR01,    79,  1,     11,2,19980213,0850, 24.5067, -61.8028, -999,   2199.1,   3.5620,  35.0030,  35.0040,2,    253.9,2,     255.3,2,    22.60,2,    18.17,2,     0.00,2,     1.29,2, -999.000,9, -999.000,9, -999.000,9, -999.000,9,   -999.0,9,  -999.00,9,   2167.5,2,   2331.6,2,   7.7398,2,   719.5,2,   20.0, -999.00,9,   352.9,  -999.0, -999.00,9
31RBOACES24N_2,  AR01,    79,  1,     10,2,19980213,0850, 24.5067, -61.8028, -999,   2500.1,   3.2010,  34.9740,  34.9740,2,    255.2,2,     256.6,2,    26.50,2,    18.46,2,     0.00,2,     1.32,2, -999.000,9, -999.000,9, -999.000,9, -999.000,9,   -999.0,9,  -999.00,9,   -999.0,9,   -999.0,9,-999.0000,9,  -999.0,9, -999.0, -999.00,9,  -999.0,  -999.0, -999.00,9
31RBOACES24N_2,  AR01,    79,  1,      9,2,19980213,0850, 24.5067, -61.8028, -999,   2798.9,   2.9750,  34.9520,  34.9530,2,    255.5,2,     257.6,2,    29.80,2,    18.85,2,     0.00,2,     1.35,2, -999.000,9, -999.000,9, -999.000,9, -999.000,9,   -999.0,9,  -999.00,9,   -999.0,9,   -999.0,9,-999.0000,9,  -999.0,9, -999.0, -999.00,9,  -999.0,  -999.0, -999.00,9
31RBOACES24N_2,  AR01,    79,  1,      8,2,19980213,0850, 24.5067, -61.8028, -999,   3100.8,   2.7600,  34.9340,  34.9340,2,    259.1,2,     259.9,2,    31.80,2,    18.95,2,     0.00,2,     1.35,2, -999.000,9, -999.000,9, -999.000,9, -999.000,9,   -999.0,9,  -999.00,9,   -999.0,9,   -999.0,9,-999.0000,9,  -999.0,9, -999.0, -999.00,9,  -999.0,  -999.0, -999.00,9
31RBOACES24N_2,  AR01,    79,  1,      7,2,19980213,0850, 24.5067, -61.8028, -999,   3400.1,   2.5870,  34.9190,  34.9190,2,    262.1,2,     262.5,2,    33.00,2,    18.85,2,     0.00,2,     1.35,2, -999.000,9, -999.000,9, -999.000,9, -999.000,9,   -999.0,9,  -999.00,9,   2173.4,2,   -999.0,9,   7.7384,2,   731.3,2,   20.0, -999.00,9,   341.5,  -999.0, -999.00,9
31RBOACES24N_2,  AR01,    79,  1,      6,2,19980213,0850, 24.5067, -61.8028, -999,   3700.3,   2.4460,  34.9080,  34.9080,2,    265.3,2,     266.1,2,    33.00,2,    18.56,2,     0.00,2,     1.33,2, -999.000,9, -999.000,9, -999.000,9, -999.000,9,   -999.0,9,  -999.00,9,   -999.0,9,   -999.0,9,-999.0000,9,  -999.0,9, -999.0, -999.00,9,  -999.0,  -999.0, -999.00,9
31RBOACES24N_2,  AR01,    79,  1,      5,2,19980213,0850, 24.5067, -61.8028, -999,   4043.5,   2.3360,  34.8980,  34.8980,2,    266.4,2,     267.5,2,    34.70,2,    18.66,2,     0.00,2,     1.34,2, -999.000,9, -999.000,9, -999.000,9, -999.000,9,   -999.0,9,  -999.00,9,   -999.0,9,   -999.0,9,-999.0000,9,  -999.0,9, -999.0, -999.00,9,  -999.0,  -999.0, -999.00,9
31RBOACES24N_2,  AR01,    79,  1,      4,2,19980213,0850, 24.5067, -61.8028, -999,   4491.2,   2.2710,  34.8890,  34.8890,2,    268.7,2,     266.5,2,    37.20,2,    18.75,2,     0.00,2,     1.36,2, -999.000,9, -999.000,9, -999.000,9, -999.000,9,   -999.0,9,  -999.00,9,   -999.0,9,   -999.0,9,-999.0000,9,  -999.0,9, -999.0, -999.00,9,  -999.0,  -999.0, -999.00,9
31RBOACES24N_2,  AR01,    79,  1,      3,2,19980213,0850, 24.5067, -61.8028, -999,   4898.7,   2.1900,  34.8740,  34.8740,2,    262.0,2,     262.6,2,    43.70,2,    19.83,2,     0.00,2,     1.43,2, -999.000,9, -999.000,9, -999.000,9, -999.000,9,   -999.0,9,  -999.00,9,   -999.0,9,   -999.0,9,-999.0000,9,  -999.0,9, -999.0, -999.00,9,  -999.0,  -999.0, -999.00,9
31RBOACES24N_2,  AR01,    79,  1,      2,2,19980213,0850, 24.5067, -61.8028, -999,   5394.3,   2.0220,  34.8470,  34.8470,2,    254.2,2,     254.9,2,    56.00,2,    21.78,2,     0.00,2,     1.57,2, -999.000,9, -999.000,9, -999.000,9, -999.000,9,   -999.0,9,  -999.00,9,   -999.0,9,   -999.0,9,-999.0000,9,  -999.0,9, -999.0, -999.00,9,  -999.0,  -999.0, -999.00,9
31RBOACES24N_2,  AR01,    79,  1,      1,2,19980213,0850, 24.5067, -61.8028, -999,   5890.5,   2.0550,  34.8420,  34.8420,2,    252.0,2,     254.1,2,    57.90,6,    22.17,6,     0.01,6,     1.59,6, -999.000,9, -999.000,9, -999.000,9, -999.000,9,   -999.0,9,  -999.00,9,   2201.3,2,   -999.0,5,   7.7047,2,   794.9,6,   20.0, -999.00,9,   360.8,  -999.0, -999.00,9