BOTTLE,20220820CCHSIOAMB
EXPOCODE,SECT_ID,STNNBR,CASTNO,BTLNBR,BTLNBR_FLAG_W,DATE,TIME,LATITUDE,LONGITUDE,DEPTH,CTDPRS,CTDTMP,CTDSAL,SALNTY,SALNTY_FLAG_W,CTDOXY,CTDOXY_FLAG_W,OXYGEN,OXYGEN_FLAG_W,SILCAT,SILCAT_FLAG_W,NITRAT,NITRAT_FLAG_W,NITRIT,NITRIT_FLAG_W,PHSPHT,PHSPHT_FLAG_W,CFC-11,CFC-11_FLAG_W,CFC-12,CFC-12_FLAG_W,CFC113,CFC113_FLAG_W,CCL4,CCL4_FLAG_W,DELC14,DELC14_FLAG_W,DELC13,DELC13_FLAG_W,TCARBN,TCARBN_FLAG_W,ALKALI,ALKALI_FLAG_W,PH,PH_FLAG_W,FCO2,FCO2_FLAG_W,FCO2TMP,TON,TON_FLAG_W,FCO2IN,C14ERR,TOC,TOC_FLAG_W
,,,,,,,,,,,DBAR,ITS-90,PSS-78,PSS-78,,UMOL/KG,,UMOL/KG,,UMOL/KG,,UMOL/KG,,UMOL/KG,,UMOL/KG,,PMOL/KG,,PMOL/KG,,PMOL/KG,,PMOL/KG,,/MILLE,,/MILLE,,UMOL/KG,,UMOL/KG,,,,UATM,,DEG C,UMOL/KG,,UATM,/MILLE,UMOL/KG,
31RBOACES24N_2,  AR01,    41,  1,     36,2,19980203,0001, 24.4997, -38.5127, 4862,      5.9,  23.3880,  37.4600,  37.4590,2,    220.2,2,     214.4,2,     0.80,2,     0.00,2,     0.00,2,  -999.00,5, -999.000,9, -999.000,9, -999.000,9, -999.000,9,   -999.0,9,     1.52,2,   2085.0,6,   2443.9,2,   8.0801,2,   295.2,2,   20.0, -999.00,9,   337.5,  -999.0, -999.00,9
31RBOACES24N_2,  AR01,    41,  1,     35,3,19980203,0001, 24.4997, -38.5127, 4862,     51.2,  23.4030,  37.4670,  37.4710,2,    215.1,2,     214.4,2,     0.90,2,     0.00,2,     0.00,2,  -999.00,5, -999.000,9, -999.000,9, -999.000,9, -999.000,9,   -999.0,9,  -999.00,9,   -999.0,9,   -999.0,9,-999.0000,9,  -999.0,9, -999.0, -999.00,9,  -999.0,  -999.0, -999.00,9
31RBOACES24N_2,  AR01,    41,  1,     34,2,19980203,0001, 24.4997, -38.5127, 4862,     99.5,  22.8770,  37.4250,  37.4360,2,    214.7,2,     215.1,2,     0.90,2,     0.00,2,     0.00,2,  -999.00,5, -999.000,9, -999.000,9, -999.000,9, -999.000,9,   -999.0,9,  -999.00,9,   2093.1,2,   -999.0,9,   8.0679,2,   307.7,2,   20.0, -999.00,9,   344.6,  -999.0, -999.00,9
31RBOACES24N_2,  AR01,    41,  1,     33,2,19980203,0001, 24.4997, -38.5127, 4862,    151.3,  19.8980,  36.9210,  36.8970,2,    207.6,2,     206.1,2,     0.80,2,     0.98,2,     0.02,2,  -999.00,5, -999.000,9, -999.000,9, -999.000,9, -999.000,9,   -999.0,9,  -999.00,9,   2105.1,2,   2407.3,2,   8.0068,2,   365.6,2,   20.0, -999.00,9,   364.3,  -999.0, -999.00,9
31RBOACES24N_2,  AR01,    41,  1,     32,2,19980203,0001, 24.4997, -38.5127, 4862,    199.5,  18.3550,  36.6200,  36.6160,2,    203.8,2,     203.2,2,     1.30,2,     3.22,2,     0.01,2,  -999.00,5, -999.000,9, -999.000,9, -999.000,9, -999.000,9,   -999.0,9,  -999.00,9,   2103.9,2,   -999.0,9,   7.9836,2,   386.2,2,   20.0, -999.00,9,   361.5,  -999.0, -999.00,9
31RBOACES24N_2,  AR01,    41,  1,     31,2,19980203,0001, 24.4997, -38.5127, 4862,    221.8,  18.0580,  36.5650,  36.5610,2,    203.5,2,     202.0,2,     1.40,2,     3.90,2,     0.01,2,  -999.00,5, -999.000,9, -999.000,9, -999.000,9, -999.000,9,   -999.0,9,  -999.00,9,   -999.0,9,   -999.0,9,-999.0000,9,  -999.0,9, -999.0, -999.00,9,  -999.0,  -999.0, -999.00,9
31RBOACES24N_2,  AR01,    41,  1,     30,2,19980203,0001, 24.4997, -38.5127, 4862,    250.3,  17.8840,  36.5410,  36.5340,2,    202.3,2,     200.2,2,     1.60,2,     4.39,2,     0.01,2,  -999.00,5, -999.000,9, -999.000,9, -999.000,9, -999.000,9,   -999.0,9,  -999.00,9,   2109.1,2,   2386.0,2,   7.9648,2,   403.6,2,   20.0, -999.00,9,   370.5,  -999.0, -999.00,9
31RBOACES24N_2,  AR01,    41,  1,     29,2,19980203,0001, 24.4997, -38.5127, 4862,    270.6,  17.3550,  36.4470,  36.4540,2,    201.0,2,     198.5,2,     1.90,2,     5.27,2,     0.01,2,  -999.00,5, -999.000,9, -999.000,9, -999.000,9, -999.000,9,   -999.0,9,  -999.00,9,   -999.0,9,   -999.0,9,-999.0000,9,  -999.0,9, -999.0, -999.00,9,  -999.0,  -999.0, -999.00,9
31RBOACES24N_2,  AR01,    41,  1,     28,2,19980203,0001, 24.4997, -38.5127, 4862,    297.1,  16.9880,  36.3920,  36.3930,2,    199.7,2,     194.9,2,     2.00,2,     6.25,2,     0.01,2,  -999.00,5, -999.000,9, -999.000,9, -999.000,9, -999.000,9,   -999.0,9,  -999.00,9,   2118.2,2,   -999.0,9,   7.9410,2,   436.6,2,   20.0, -999.00,9,   386.5,  -999.0, -999.00,9
31RBOACES24N_2,  AR01,    41,  1,     27,2,19980203,0001, 24.4997, -38.5127, 4862,    349.3,  16.1620,  36.2580,  36.2610,2,    194.3,2,     191.3,2,     2.40,2,     7.81,2,     0.00,2,  -999.00,5, -999.000,9, -999.000,9, -999.000,9, -999.000,9,   -999.0,9,  -999.00,9,   -999.0,9,   -999.0,9,-999.0000,9,  -999.0,9, -999.0, -999.00,9,  -999.0,  -999.0, -999.00,9
31RBOACES24N_2,  AR01,    41,  1,     26,2,19980203,0001, 24.4997, -38.5127, 4862,    400.3,  15.2850,  36.1120,  36.1230,2,    192.5,2,     191.1,2,     3.00,2,     9.08,2,     0.00,2,  -999.00,5, -999.000,9, -999.000,9, -999.000,9, -999.000,9,   -999.0,9,  -999.00,9,   2129.8,2,   2363.4,2,   7.8976,2,  -999.0,9, -999.0, -999.00,9,  -999.0,  -999.0, -999.00,9
31RBOACES24N_2,  AR01,    41,  1,     25,2,19980203,0001, 24.4997, -38.5127, 4862,    450.7,  14.4590,  35.9860,  35.9850,2,    189.6,2,     188.0,2,     4.10,2,    10.74,2,     0.00,2,  -999.00,5, -999.000,9, -999.000,9, -999.000,9, -999.000,9,   -999.0,9,  -999.00,9,   -999.0,9,   -999.0,9,-999.0000,9,  -999.0,9, -999.0, -999.00,9,  -999.0,  -999.0, -999.00,9
31RBOACES24N_2,  AR01,    41,  1,     24,2,19980203,0001, 24.4997, -38.5127, 4862,    500.5,  13.4670,  35.8340,  35.8360,2,    186.3,2,     184.4,2,     4.80,2,    12.69,2,     0.00,2,  -999.00,5, -999.000,9, -999.000,9, -999.000,9, -999.000,9,   -999.0,9,  -999.00,9,   2142.2,2,   -999.0,9,   7.8430,2,   561.5,2,   20.0, -999.00,9,   429.6,  -999.0, -999.00,9
31RBOACES24N_2,  AR01,    41,  1,     23,2,19980203,0001, 24.4997, -38.5127, 4862,    600.3,  11.9110,  35.6210,  35.6180,2,    174.0,2,     165.2,2,     7.30,2,    17.38,2,     0.00,2,  -999.00,5, -999.000,9, -999.000,9, -999.000,9, -999.000,9,   -999.0,9,  -999.00,9,   -999.0,9,   -999.0,9,-999.0000,9,  -999.0,9, -999.0, -999.00,9,  -999.0,  -999.0, -999.00,9
31RBOACES24N_2,  AR01,    41,  1,     22,2,19980203,0001, 24.4997, -38.5127, 4862,    697.3,  10.8560,  35.4920,  35.4910,2,    151.6,2,     149.8,2,     9.70,2,    20.90,2,     0.00,2,  -999.00,5, -999.000,9, -999.000,9, -999.000,9, -999.000,9,   -999.0,9,  -999.00,9,   2180.4,2,   2331.7,2,   7.7274,2,   748.7,2,   20.0, -999.00,9,   514.2,  -999.0, -999.00,9
31RBOACES24N_2,  AR01,    41,  1,     21,2,19980203,0001, 24.4997, -38.5127, 4862,    800.8,   9.3410,  35.3250,  35.3280,2,    141.2,2,     140.1,2,    13.60,2,    24.51,2,     0.00,2,  -999.00,5, -999.000,9, -999.000,9, -999.000,9, -999.000,9,   -999.0,9,  -999.00,9,   -999.0,9,   -999.0,9,-999.0000,9,  -999.0,9, -999.0, -999.00,9,  -999.0,  -999.0, -999.00,9
31RBOACES24N_2,  AR01,    41,  1,     20,2,19980203,0001, 24.4997, -38.5127, 4862,    898.3,   8.1420,  35.1970,  35.1980,2,    143.3,2,     142.2,2,    16.40,2,    26.18,2,     0.00,2,  -999.00,5, -999.000,9, -999.000,9, -999.000,9, -999.000,9,   -999.0,9,  -999.00,9,   -999.0,9,   -999.0,9,-999.0000,9,  -999.0,9, -999.0, -999.00,9,  -999.0,  -999.0, -999.00,9
31RBOACES24N_2,  AR01,    41,  1,     19,2,19980203,0001, 24.4997, -38.5127, 4862,    998.6,   7.1520,  35.1050,  35.1060,2,    157.3,2,     153.0,2,    18.50,2,    26.67,2,     0.01,2,  -999.00,5, -999.000,9, -999.000,9, -999.000,9, -999.000,9,   -999.0,9,  -999.00,9,   2200.8,6,   -999.0,9,   7.6553,2,   903.6,2,   20.0, -999.00,9,   529.3,  -999.0, -999.00,9
31RBOACES24N_2,  AR01,    41,  1,     18,2,19980203,0001, 24.4997, -38.5127, 4862,   1198.0,   6.1710,  35.1270,  35.1270,2,    185.9,2,     185.0,2,    18.20,2,    23.93,2,     0.00,2,  -999.00,5, -999.000,9, -999.000,9, -999.000,9, -999.000,9,   -999.0,9,  -999.00,9,   -999.0,9,   -999.0,9,-999.0000,9,  -999.0,9, -999.0, -999.00,9,  -999.0,  -999.0, -999.00,9
31RBOACES24N_2,  AR01,    41,  1,     17,2,19980203,0001, 24.4997, -38.5127, 4862,   1400.7,   5.5560,  35.1400,  35.1400,2,    209.3,2,     207.8,2,    17.60,2,    21.88,2,     0.00,2,  -999.00,5, -999.000,9, -999.000,9, -999.000,9, -999.000,9,   -999.0,9,  -999.00,9,   2181.8,2,   -999.0,9,-999.0000,9,  -999.0,9, -999.0, -999.00,9,  -999.0,  -999.0, -999.00,9
31RBOACES24N_2,  AR01,    41,  1,     16,2,19980203,0001, 24.4997, -38.5127, 4862,   1592.3,   4.9710,  35.1290,  35.1290,2,    224.1,2,     223.4,2,    18.30,2,    20.81,2,     0.00,2,  -999.00,5, -999.000,9, -999.000,9, -999.000,9, -999.000,9,   -999.0,9,  -999.00,9,   2176.9,2,   2327.5,2,   7.7248,2,   753.1,2,   20.0, -999.00,9,   396.0,  -999.0, -999.00,9
31RBOACES24N_2,  AR01,    41,  1,     15,2,19980203,0001, 24.4997, -38.5127, 4862,   1801.3,   4.3930,  35.0910,  35.0910,2,    234.8,2,     233.7,2,    20.00,2,    20.32,2,     0.00,2,  -999.00,5, -999.000,9, -999.000,9, -999.000,9, -999.000,9,   -999.0,9,  -999.00,9,   -999.0,9,   -999.0,9,-999.0000,9,  -999.0,9, -999.0, -999.00,9,  -999.0,  -999.0, -999.00,9
31RBOACES24N_2,  AR01,    41,  1,     14,2,19980203,0001, 24.4997, -38.5127, 4862,   1999.3,   4.0170,  35.0580,  35.0600,2,    240.4,2,     239.7,2,    21.60,2,    20.22,2,     0.00,2,  -999.00,5, -999.000,9, -999.000,9, -999.000,9, -999.000,9,   -999.0,9,  -999.00,9,   2175.7,2,   -999.0,9,   7.7323,2,  -999.0,9, -999.0, -999.00,9,  -999.0,  -999.0, -999.00,9
31RBOACES24N_2,  AR01,    41,  1,     13,2,19980203,0001, 24.4997, -38.5127, 4862,   2190.6,   3.5740,  35.0160,  35.0160,2,    243.6,2,     244.4,6,    24.70,2,    20.22,2,     0.00,2,  -999.00,5, -999.000,9, -999.000,9, -999.000,9, -999.000,9,   -999.0,9,  -999.00,9,   -999.0,9,   -999.0,9,-999.0000,9,  -999.0,9, -999.0, -999.00,9,  -999.0,  -999.0, -999.00,9
31RBOACES24N_2,  AR01,    41,  1,     12,2,19980203,0001, 24.4997, -38.5127, 4862,   2400.3,   3.2660,  34.9870,  34.9870,2,    247.2,2,     246.6,2,    27.90,2,    20.42,2,     0.00,2,  -999.00,5, -999.000,9, -999.000,9, -999.000,9, -999.000,9,   -999.0,9,  -999.00,9,   2181.5,2,   -999.0,9,-999.0000,9,   733.8,2,   20.0, -999.00,9,   354.5,  -999.0, -999.00,9
31RBOACES24N_2,  AR01,    41,  1,     11,2,19980203,0001, 24.4997, -38.5127, 4862,   2600.4,   3.0450,  34.9670,  34.9660,2,    248.5,2,     247.0,2,    31.00,2,    20.71,2,     0.00,2,  -999.00,5, -999.000,9, -999.000,9, -999.000,9, -999.000,9,   -999.0,9,  -999.00,9,   -999.0,9,   -999.0,9,-999.0000,9,  -999.0,9, -999.0, -999.00,9,  -999.0,  -999.0, -999.00,9
31RBOACES24N_2,  AR01,    41,  1,     10,2,19980203,0001, 24.4997, -38.5127, 4862,   2801.9,   2.8500,  34.9490,  34.9480,2,    247.1,2,     246.0,2,    34.30,2,    21.10,2,     0.00,2,  -999.00,5, -999.000,9, -999.000,9, -999.000,9, -999.000,9,   -999.0,9,  -999.00,9,   2190.0,2,   -999.0,9,-999.0000,9,  -999.0,9, -999.0, -999.00,9,  -999.0,  -999.0, -999.00,9
31RBOACES24N_2,  AR01,    41,  1,      9,2,19980203,0001, 24.4997, -38.5127, 4862,   3001.8,   2.7370,  34.9380,  34.9370,2,    246.8,2,     246.5,2,    36.00,2,    21.30,2,     0.00,2,  -999.00,5, -999.000,9, -999.000,9, -999.000,9, -999.000,9,   -999.0,9,  -999.00,9,   -999.0,9,   -999.0,9,-999.0000,9,  -999.0,9, -999.0, -999.00,9,  -999.0,  -999.0, -999.00,9
31RBOACES24N_2,  AR01,    41,  1,      8,2,19980203,0001, 24.4997, -38.5127, 4862,   3201.5,   2.6480,  34.9290,  34.9280,2,    247.3,2,     246.5,2,    38.00,2,    21.39,2,     0.00,2,  -999.00,5, -999.000,9, -999.000,9, -999.000,9, -999.000,9,   -999.0,9,  -999.00,9,   2193.4,2,   2344.5,2,   7.7273,2,   748.3,2,   20.0, -999.00,9,   350.3,  -999.0, -999.00,9
31RBOACES24N_2,  AR01,    41,  1,      7,2,19980203,0001, 24.4997, -38.5127, 4862,   3401.6,   2.5730,  34.9200,  34.9190,2,    247.6,2,     247.0,2,    39.70,2,    21.49,2,     0.00,2,  -999.00,5, -999.000,9, -999.000,9, -999.000,9, -999.000,9,   -999.0,9,  -999.00,9,   -999.0,9,   -999.0,9,-999.0000,9,  -999.0,9, -999.0, -999.00,9,  -999.0,  -999.0, -999.00,9
31RBOACES24N_2,  AR01,    41,  1,      6,2,19980203,0001, 24.4997, -38.5127, 4862,   3599.5,   2.5060,  34.9120,  34.9120,2,    248.3,2,     247.7,2,    41.00,2,    21.59,2,     0.00,2,  -999.00,5, -999.000,9, -999.000,9, -999.000,9, -999.000,9,   -999.0,9,  -999.00,9,   -999.0,9,   -999.0,9,-999.0000,9,  -999.0,9, -999.0, -999.00,9,  -999.0,  -999.0, -999.00,9
31RBOACES24N_2,  AR01,    41,  1,      5,2,19980203,0001, 24.4997, -38.5127, 4862,   3800.9,   2.4600,  34.9060,  34.9050,2,    249.1,2,     248.4,2,    42.30,2,    21.69,2,     0.00,2,  -999.00,5, -999.000,9, -999.000,9, -999.000,9, -999.000,9,   -999.0,9,  -999.00,9,   -999.0,9,   -999.0,9,-999.0000,9,  -999.0,9, -999.0, -999.00,9,  -999.0,  -999.0, -999.00,9
31RBOACES24N_2,  AR01,    41,  1,      4,2,19980203,0001, 24.4997, -38.5127, 4862,   4098.7,   2.4140,  34.8980,  34.8980,2,    248.9,2,     248.7,2,    43.90,2,    21.79,2,     0.00,2,  -999.00,5, -999.000,9, -999.000,9, -999.000,9, -999.000,9,   -999.0,9,  -999.00,9,   2197.7,2,   -999.0,9,   7.7273,2,   769.2,2,   20.0, -999.00,9,   355.9,  -999.0, -999.00,9
31RBOACES24N_2,  AR01,    41,  1,      3,2,19980203,0001, 24.4997, -38.5127, 4862,   4400.6,   2.3900,  34.8920,  34.8910,2,    249.4,2,     248.7,2,    45.10,2,    21.98,2,     0.00,2,  -999.00,5, -999.000,9, -999.000,9, -999.000,9, -999.000,9,   -999.0,9,  -999.00,9,   -999.0,9,   -999.0,9,-999.0000,9,  -999.0,9, -999.0, -999.00,9,  -999.0,  -999.0, -999.00,9
31RBOACES24N_2,  AR01,    41,  1,      2,2,19980203,0001, 24.4997, -38.5127, 4862,   4699.0,   2.3860,  34.8880,  34.8880,2,    249.0,2,     248.4,2,    46.00,2,    22.08,2,     0.00,2,  -999.00,5, -999.000,9, -999.000,9, -999.000,9, -999.000,9,   -999.0,9,  -999.00,9,   2198.9,2,   2346.8,2,-999.0000,9,   763.9,2,   20.0, -999.00,9,   352.7,  -999.0, -999.00,9
31RBOACES24N_2,  AR01,    41,  1,      1,2,19980203,0001, 24.4997, -38.5127, 4862,   4862.4,   2.3820,  34.8860,  34.8850,2,    250.0,2,     249.9,2,    46.40,6,    22.08,2,     0.00,6,  -999.00,5, -999.000,9, -999.000,9, -999.000,9, -999.000,9,   -999.0,9,  -999.00,9,   -999.0,9,   -999.0,9,   7.7244,2,  -999.0,9, -999.0, -999.00,9,  -999.0,  -999.0, -999.00,9