BOTTLE,20220820CCHSIOAMB
EXPOCODE,SECT_ID,STNNBR,CASTNO,BTLNBR,BTLNBR_FLAG_W,DATE,TIME,LATITUDE,LONGITUDE,DEPTH,CTDPRS,CTDTMP,CTDSAL,SALNTY,SALNTY_FLAG_W,CTDOXY,CTDOXY_FLAG_W,OXYGEN,OXYGEN_FLAG_W,SILCAT,SILCAT_FLAG_W,NITRAT,NITRAT_FLAG_W,NITRIT,NITRIT_FLAG_W,PHSPHT,PHSPHT_FLAG_W,CFC-11,CFC-11_FLAG_W,CFC-12,CFC-12_FLAG_W,CFC113,CFC113_FLAG_W,CCL4,CCL4_FLAG_W,DELC14,DELC14_FLAG_W,DELC13,DELC13_FLAG_W,TCARBN,TCARBN_FLAG_W,ALKALI,ALKALI_FLAG_W,PH,PH_FLAG_W,FCO2,FCO2_FLAG_W,FCO2TMP,TON,TON_FLAG_W,FCO2IN,C14ERR,TOC,TOC_FLAG_W
,,,,,,,,,,,DBAR,ITS-90,PSS-78,PSS-78,,UMOL/KG,,UMOL/KG,,UMOL/KG,,UMOL/KG,,UMOL/KG,,UMOL/KG,,PMOL/KG,,PMOL/KG,,PMOL/KG,,PMOL/KG,,/MILLE,,/MILLE,,UMOL/KG,,UMOL/KG,,,,UATM,,DEG C,UMOL/KG,,UATM,/MILLE,UMOL/KG,
31RBOACES24N_2,  AR01,    48,  1,     36,2,19980204,1833, 24.4995, -42.7330, 3716,      6.5,  24.0510,  37.5110,  37.5130,2,    216.0,2,     211.1,2,     0.50,2,     0.00,2,     0.00,2,  -999.00,5,    1.873,2,    1.080,2,    0.152,2, -999.000,9,   -999.0,9,  -999.00,9,   2079.1,6,   2448.3,2,   8.0977,2,   289.9,3,   20.0, -999.00,9,   340.1,  -999.0, -999.00,9
31RBOACES24N_2,  AR01,    48,  1,     35,2,19980204,1833, 24.4995, -42.7330, 3716,     51.6,  24.0550,  37.5080,  37.5060,2,    214.0,2,     211.2,2,     0.40,2,     0.00,2,     0.00,2,  -999.00,5,    1.890,2,    1.081,2,    0.172,2, -999.000,9,   -999.0,9,  -999.00,9,   -999.0,9,   -999.0,9,-999.0000,9,  -999.0,9, -999.0, -999.00,9,  -999.0,  -999.0, -999.00,9
31RBOACES24N_2,  AR01,    48,  1,     34,2,19980204,1833, 24.4995, -42.7330, 3716,    100.9,  23.8110,  37.4510,  37.4500,2,    214.6,2,     213.0,2,     0.40,2,     0.00,2,     0.00,2,  -999.00,5,    1.908,6,    1.098,6,    0.188,6, -999.000,9,   -999.0,9,  -999.00,9,   -999.0,9,   2443.0,2,   8.0900,2,  -999.0,9, -999.0, -999.00,9,  -999.0,  -999.0, -999.00,9
31RBOACES24N_2,  AR01,    48,  1,     33,2,19980204,1833, 24.4995, -42.7330, 3716,    151.3,  21.4910,  37.2590,  37.2520,2,    214.4,2,     211.6,2,     0.50,2,     0.20,2,     0.05,2,  -999.00,5,    2.146,2,    1.233,2,    0.160,2, -999.000,9,   -999.0,9,  -999.00,9,   -999.0,9,   -999.0,9,-999.0000,9,  -999.0,9, -999.0, -999.00,9,  -999.0,  -999.0, -999.00,9
31RBOACES24N_2,  AR01,    48,  1,     32,2,19980204,1833, 24.4995, -42.7330, 3716,    185.2,  20.2800,  37.0540,  37.0540,2,    204.3,2,     203.5,2,     0.60,2,     1.07,2,     0.02,2,  -999.00,5,    2.215,2,    1.260,2,    0.136,2, -999.000,9,   -999.0,9,  -999.00,9,   -999.0,9,   -999.0,9,-999.0000,9,  -999.0,9, -999.0, -999.00,9,  -999.0,  -999.0, -999.00,9
31RBOACES24N_2,  AR01,    48,  1,     31,2,19980204,1833, 24.4995, -42.7330, 3716,    205.2,  19.9380,  36.9850,  36.9820,2,    200.3,2,     201.9,2,     0.60,2,     1.56,2,     0.01,2,  -999.00,5,    2.253,6,    1.276,6,    0.111,6, -999.000,9,   -999.0,9,  -999.00,9,   -999.0,9,   2429.2,2,   8.0040,2,  -999.0,9, -999.0, -999.00,9,  -999.0,  -999.0, -999.00,9
31RBOACES24N_2,  AR01,    48,  1,     30,2,19980204,1833, 24.4995, -42.7330, 3716,    231.2,  18.7180,  36.7220,  36.7220,2,    199.3,2,     199.6,2,     1.10,2,     3.02,2,     0.01,2,  -999.00,5,    2.301,2,    1.289,2,    0.059,2, -999.000,9,   -999.0,9,  -999.00,9,   -999.0,9,   -999.0,9,-999.0000,9,  -999.0,9, -999.0, -999.00,9,  -999.0,  -999.0, -999.00,9
31RBOACES24N_2,  AR01,    48,  1,     29,2,19980204,1833, 24.4995, -42.7330, 3716,    253.6,  17.8930,  36.5540,  36.5550,2,    199.7,2,     199.5,2,     1.60,2,     4.29,2,     0.00,2,  -999.00,5,    2.320,2,    1.285,2,    0.042,2, -999.000,9,   -999.0,9,  -999.00,9,   -999.0,9,   -999.0,9,-999.0000,9,  -999.0,9, -999.0, -999.00,9,  -999.0,  -999.0, -999.00,9
31RBOACES24N_2,  AR01,    48,  1,     28,2,19980204,1833, 24.4995, -42.7330, 3716,    280.9,  17.4810,  36.4720,  36.4760,2,    199.1,2,     198.5,2,     1.70,2,     5.17,2,     0.00,2,  -999.00,5,    2.373,2,    1.296,2,    0.027,2, -999.000,9,   -999.0,9,  -999.00,9,   -999.0,9,   2385.6,2,   7.9616,2,  -999.0,9, -999.0, -999.00,9,  -999.0,  -999.0, -999.00,9
31RBOACES24N_2,  AR01,    48,  1,     27,2,19980204,1833, 24.4995, -42.7330, 3716,    322.6,  16.8280,  36.3570,  36.3610,2,    197.5,2,     196.4,2,     2.10,2,     6.34,2,     0.00,2,  -999.00,5,    2.316,2,    1.270,2,    0.034,2, -999.000,9,   -999.0,9,  -999.00,9,   -999.0,9,   -999.0,9,-999.0000,9,  -999.0,9, -999.0, -999.00,9,  -999.0,  -999.0, -999.00,9
31RBOACES24N_2,  AR01,    48,  1,     26,2,19980204,1833, 24.4995, -42.7330, 3716,    359.0,  16.2540,  36.2710,  36.2770,2,    188.5,2,     188.4,2,     2.50,2,     8.10,2,     0.00,2,  -999.00,5,    2.284,2,    1.243,2,    0.034,2, -999.000,9,   -999.0,9,  -999.00,9,   -999.0,9,   -999.0,9,-999.0000,9,  -999.0,9, -999.0, -999.00,9,  -999.0,  -999.0, -999.00,9
31RBOACES24N_2,  AR01,    48,  1,     25,2,19980204,1833, 24.4995, -42.7330, 3716,    450.2,  14.6110,  36.0040,  36.0070,2,    176.0,2,     180.7,2,     4.00,2,    11.32,2,     0.00,2,  -999.00,5,    2.137,2,    1.122,2,    0.033,2, -999.000,9,   -999.0,9,  -999.00,9,   -999.0,9,   2361.6,2,   7.8666,2,  -999.0,9, -999.0, -999.00,9,  -999.0,  -999.0, -999.00,9
31RBOACES24N_2,  AR01,    48,  1,     24,2,19980204,1833, 24.4995, -42.7330, 3716,    551.7,  12.4970,  35.6950,  35.6990,2,    173.7,2,     170.6,2,     6.10,2,    15.81,2,     0.00,2,  -999.00,5,    1.668,2,    0.849,2,    0.016,2, -999.000,9,   -999.0,9,  -999.00,9,   -999.0,9,   -999.0,9,-999.0000,9,  -999.0,9, -999.0, -999.00,9,  -999.0,  -999.0, -999.00,9
31RBOACES24N_2,  AR01,    48,  1,     23,2,19980204,1833, 24.4995, -42.7330, 3716,    649.4,  11.2700,  35.5450,  35.5500,2,    165.7,2,     164.0,2,     8.00,2,    18.55,2,     0.00,2,  -999.00,5,    1.174,2,    0.586,2,    0.014,2, -999.000,9,   -999.0,9,  -999.00,9,   -999.0,9,   -999.0,9,-999.0000,9,  -999.0,9, -999.0, -999.00,9,  -999.0,  -999.0, -999.00,9
31RBOACES24N_2,  AR01,    48,  1,     22,2,19980204,1833, 24.4995, -42.7330, 3716,    751.5,  10.1330,  35.4140,  35.4130,2,    151.5,2,    -999.0,9,    11.20,2,    22.26,2,     0.00,2,  -999.00,5,    0.567,2,    0.278,2,    0.010,2, -999.000,9,   -999.0,9,  -999.00,9,   -999.0,9,   2338.5,2,   7.6834,2,  -999.0,9, -999.0, -999.00,9,  -999.0,  -999.0, -999.00,9
31RBOACES24N_2,  AR01,    48,  1,     21,2,19980204,1833, 24.4995, -42.7330, 3716,    850.3,   8.9230,  35.2960,  35.2980,2,    146.6,2,     152.0,2,    14.50,2,    24.51,2,     0.00,2,  -999.00,5,    0.266,2,    0.125,2,    0.003,2, -999.000,9,   -999.0,9,  -999.00,9,   -999.0,9,   -999.0,9,-999.0000,9,  -999.0,9, -999.0, -999.00,9,  -999.0,  -999.0, -999.00,9
31RBOACES24N_2,  AR01,    48,  1,     20,2,19980204,1833, 24.4995, -42.7330, 3716,    950.9,   7.6810,  35.1400,  35.1540,2,    153.1,2,     163.6,2,    17.10,2,    25.88,2,     0.00,2,  -999.00,5,    0.138,6,    0.067,6,    0.002,6, -999.000,9,   -999.0,9,  -999.00,9,   -999.0,9,   -999.0,9,-999.0000,9,  -999.0,9, -999.0, -999.00,9,  -999.0,  -999.0, -999.00,9
31RBOACES24N_2,  AR01,    48,  1,     19,2,19980204,1833, 24.4995, -42.7330, 3716,   1051.7,   6.6140,  35.0410,  35.0410,2,    164.6,2,     171.4,2,    18.90,2,    26.27,2,     0.00,2,  -999.00,5,    0.073,2,    0.037,2,    0.004,2, -999.000,9,   -999.0,9,  -999.00,9,   -999.0,9,   2328.1,3,   7.6573,2,  -999.0,9, -999.0, -999.00,9,  -999.0,  -999.0, -999.00,9
31RBOACES24N_2,  AR01,    48,  1,     18,2,19980204,1833, 24.4995, -42.7330, 3716,   1102.3,   6.2490,  35.0190,  35.0200,2,    171.5,2,     190.1,2,    19.20,2,    25.88,2,     0.00,2,  -999.00,5, -999.000,9, -999.000,9, -999.000,9, -999.000,9,   -999.0,9,  -999.00,9,   -999.0,9,   -999.0,9,-999.0000,9,  -999.0,9, -999.0, -999.00,9,  -999.0,  -999.0, -999.00,9
31RBOACES24N_2,  AR01,    48,  1,     17,2,19980204,1833, 24.4995, -42.7330, 3716,   1202.5,   5.7580,  35.0250,  35.0240,2,    191.6,2,     203.1,2,    18.70,2,    24.22,2,     0.00,2,  -999.00,5,    0.085,2,    0.035,2,    0.005,2, -999.000,9,   -999.0,9,  -999.00,9,   -999.0,9,   -999.0,9,-999.0000,9,  -999.0,9, -999.0, -999.00,9,  -999.0,  -999.0, -999.00,9
31RBOACES24N_2,  AR01,    48,  1,     16,2,19980204,1833, 24.4995, -42.7330, 3716,   1301.6,   5.4650,  35.0360,  35.0350,2,    204.4,2,     217.9,2,    17.90,2,    22.95,2,     0.00,2,  -999.00,5, -999.000,9, -999.000,9, -999.000,9, -999.000,9,   -999.0,9,  -999.00,9,   -999.0,9,   2329.9,3,   7.6918,2,  -999.0,9, -999.0, -999.00,9,  -999.0,  -999.0, -999.00,9
31RBOACES24N_2,  AR01,    48,  1,     15,2,19980204,1833, 24.4995, -42.7330, 3716,   1402.2,   5.2000,  35.0560,  35.0550,2,    219.7,2,     226.1,2,    16.90,2,    21.49,2,     0.00,2,  -999.00,5,    0.113,2,    0.062,2,    0.004,2, -999.000,9,   -999.0,9,  -999.00,9,   -999.0,9,   -999.0,9,-999.0000,9,  -999.0,9, -999.0, -999.00,9,  -999.0,  -999.0, -999.00,9
31RBOACES24N_2,  AR01,    48,  1,     14,2,19980204,1833, 24.4995, -42.7330, 3716,   1500.6,   4.9460,  35.0600,  35.0600,2,    228.5,2,     231.9,2,    17.00,2,    20.90,2,     0.00,2,  -999.00,5, -999.000,9, -999.000,9, -999.000,9, -999.000,9,   -999.0,9,  -999.00,9,   -999.0,9,   -999.0,9,-999.0000,9,  -999.0,9, -999.0, -999.00,9,  -999.0,  -999.0, -999.00,9
31RBOACES24N_2,  AR01,    48,  1,     13,2,19980204,1833, 24.4995, -42.7330, 3716,   1602.5,   4.7720,  35.0700,  35.0700,2,    233.8,2,     238.2,2,    17.90,2,    20.41,2,     0.00,2,  -999.00,5, -999.000,9, -999.000,9, -999.000,9, -999.000,9,   -999.0,9,  -999.00,9,   -999.0,9,   2343.6,3,   7.7235,2,  -999.0,9, -999.0, -999.00,9,  -999.0,  -999.0, -999.00,9
31RBOACES24N_2,  AR01,    48,  1,     12,2,19980204,1833, 24.4995, -42.7330, 3716,   1703.2,   4.5180,  35.0630,  35.0640,2,    241.0,2,     241.6,2,    18.50,2,    20.02,2,     0.00,2,  -999.00,5,    0.098,2,    0.050,2,    0.010,2, -999.000,9,   -999.0,9,  -999.00,9,   -999.0,9,   -999.0,9,-999.0000,9,  -999.0,9, -999.0, -999.00,9,  -999.0,  -999.0, -999.00,9
31RBOACES24N_2,  AR01,    48,  1,     11,2,19980204,1833, 24.4995, -42.7330, 3716,   1848.0,   4.2450,  35.0520,  35.0520,2,    244.8,2,     245.5,2,    19.70,2,    19.83,2,     0.00,2,  -999.00,5, -999.000,9, -999.000,9, -999.000,9, -999.000,9,   -999.0,9,  -999.00,9,   -999.0,9,   -999.0,9,-999.0000,9,  -999.0,9, -999.0, -999.00,9,  -999.0,  -999.0, -999.00,9
31RBOACES24N_2,  AR01,    48,  1,     10,2,19980204,1833, 24.4995, -42.7330, 3716,   1999.3,   4.0080,  35.0380,  35.0370,2,    249.6,2,     249.2,2,    20.80,2,    19.73,2,     0.00,2,  -999.00,5,    0.072,2,    0.033,2,    0.011,2, -999.000,9,   -999.0,9,  -999.00,9,   -999.0,9,   2341.4,3,   7.7340,2,  -999.0,9, -999.0, -999.00,9,  -999.0,  -999.0, -999.00,9
31RBOACES24N_2,  AR01,    48,  1,      9,2,19980204,1833, 24.4995, -42.7330, 3716,   2151.4,   3.6950,  35.0120,  35.0130,2,    251.5,2,     250.4,2,    22.80,2,    19.73,2,     0.00,2,  -999.00,5, -999.000,9, -999.000,9, -999.000,9, -999.000,9,   -999.0,9,  -999.00,9,   -999.0,9,   -999.0,9,-999.0000,9,  -999.0,9, -999.0, -999.00,9,  -999.0,  -999.0, -999.00,9
31RBOACES24N_2,  AR01,    48,  1,      8,2,19980204,1833, 24.4995, -42.7330, 3716,   2301.3,   3.4220,  34.9920,  34.9930,2,    250.7,2,     250.5,2,    25.40,2,    19.83,2,     0.00,2,  -999.00,5,    0.037,2,    0.018,2,    0.002,2, -999.000,9,   -999.0,9,  -999.00,9,   -999.0,9,   -999.0,9,-999.0000,9,  -999.0,9, -999.0, -999.00,9,  -999.0,  -999.0, -999.00,9
31RBOACES24N_2,  AR01,    48,  1,      7,2,19980204,1833, 24.4995, -42.7330, 3716,   2448.4,   3.2150,  34.9760,  34.9750,2,    249.7,2,     247.5,2,    27.80,2,    20.22,2,     0.00,2,  -999.00,5, -999.000,9, -999.000,9, -999.000,9, -999.000,9,   -999.0,9,  -999.00,9,   -999.0,9,   -999.0,9,-999.0000,9,  -999.0,9, -999.0, -999.00,9,  -999.0,  -999.0, -999.00,9
31RBOACES24N_2,  AR01,    48,  1,      6,2,19980204,1833, 24.4995, -42.7330, 3716,   2600.7,   3.0700,  34.9640,  34.9640,2,    248.2,2,     247.3,2,    30.30,2,    20.71,2,     0.00,2,  -999.00,5,    0.001,2,    0.002,2,    0.002,2, -999.000,9,   -999.0,9,  -999.00,9,   -999.0,9,   2344.8,3,   7.7315,2,  -999.0,9, -999.0, -999.00,9,  -999.0,  -999.0, -999.00,9
31RBOACES24N_2,  AR01,    48,  1,      5,2,19980204,1833, 24.4995, -42.7330, 3716,   2802.5,   2.8770,  34.9490,  34.9490,2,    248.2,2,     247.7,2,    33.30,2,    20.90,2,     0.00,2,  -999.00,5, -999.000,9, -999.000,9, -999.000,9, -999.000,9,   -999.0,9,  -999.00,9,   -999.0,9,   -999.0,9,-999.0000,9,  -999.0,9, -999.0, -999.00,9,  -999.0,  -999.0, -999.00,9
31RBOACES24N_2,  AR01,    48,  1,      4,2,19980204,1833, 24.4995, -42.7330, 3716,   3002.8,   2.7350,  34.9360,  34.9360,2,    248.5,2,     248.9,2,    35.90,2,    21.20,2,     0.00,2,  -999.00,5,    0.000,2,    0.001,2,    0.003,2, -999.000,9,   -999.0,9,  -999.00,9,   -999.0,9,   -999.0,9,-999.0000,9,  -999.0,9, -999.0, -999.00,9,  -999.0,  -999.0, -999.00,9
31RBOACES24N_2,  AR01,    48,  1,      3,2,19980204,1833, 24.4995, -42.7330, 3716,   3201.9,   2.6490,  34.9260,  34.9270,2,    251.4,2,     249.7,2,    37.70,2,    21.20,2,     0.00,2,  -999.00,5,    0.001,6,    0.002,6,    0.002,6, -999.000,9,   -999.0,9,  -999.00,9,   -999.0,9,   -999.0,9,-999.0000,9,  -999.0,9, -999.0, -999.00,9,  -999.0,  -999.0, -999.00,9
31RBOACES24N_2,  AR01,    48,  1,      2,2,19980204,1833, 24.4995, -42.7330, 3716,   3398.2,   2.5400,  34.9150,-999.0000,9,    251.6,2,    -999.0,9,  -999.00,9,  -999.00,9,  -999.00,9,  -999.00,9, -999.000,1, -999.000,1, -999.000,1, -999.000,9,   -999.0,9,  -999.00,9,   -999.0,9,   -999.0,9,-999.0000,9,  -999.0,9, -999.0, -999.00,9,  -999.0,  -999.0, -999.00,9
31RBOACES24N_2,  AR01,    48,  1,      1,2,19980204,1833, 24.4995, -42.7330, 3716,   3514.8,   2.5260,  34.9130,  34.9120,2,    252.2,2,     249.8,2,    40.50,6,    21.49,6,     0.00,6,  -999.00,5,    0.003,6,    0.002,6,    0.003,6, -999.000,9,   -999.0,9,  -999.00,9,   -999.0,9,   2352.3,3,   7.7276,2,  -999.0,9, -999.0, -999.00,9,  -999.0,  -999.0, -999.00,9