BOTTLE,20220820CCHSIOAMB
EXPOCODE,SECT_ID,STNNBR,CASTNO,BTLNBR,BTLNBR_FLAG_W,DATE,TIME,LATITUDE,LONGITUDE,DEPTH,CTDPRS,CTDTMP,CTDSAL,SALNTY,SALNTY_FLAG_W,CTDOXY,CTDOXY_FLAG_W,OXYGEN,OXYGEN_FLAG_W,SILCAT,SILCAT_FLAG_W,NITRAT,NITRAT_FLAG_W,NITRIT,NITRIT_FLAG_W,PHSPHT,PHSPHT_FLAG_W,CFC-11,CFC-11_FLAG_W,CFC-12,CFC-12_FLAG_W,CFC113,CFC113_FLAG_W,CCL4,CCL4_FLAG_W,DELC14,DELC14_FLAG_W,DELC13,DELC13_FLAG_W,TCARBN,TCARBN_FLAG_W,ALKALI,ALKALI_FLAG_W,PH,PH_FLAG_W,FCO2,FCO2_FLAG_W,FCO2TMP,TON,TON_FLAG_W,FCO2IN,C14ERR,TOC,TOC_FLAG_W
,,,,,,,,,,,DBAR,ITS-90,PSS-78,PSS-78,,UMOL/KG,,UMOL/KG,,UMOL/KG,,UMOL/KG,,UMOL/KG,,UMOL/KG,,PMOL/KG,,PMOL/KG,,PMOL/KG,,PMOL/KG,,/MILLE,,/MILLE,,UMOL/KG,,UMOL/KG,,,,UATM,,DEG C,UMOL/KG,,UATM,/MILLE,UMOL/KG,
31RBOACES24N_2,  AR01,   104,  1,     36,2,19980219,1742, 26.4998, -74.5168, 4559,      4.4,  22.2930,  36.6360,  36.6350,2,    220.5,2,     220.1,2,     0.40,2,     0.00,2,     0.00,2,     0.00,2,    2.074,2,    1.187,2,    0.163,2,    2.089,2,   -999.0,9,     1.19,2,   2044.7,2,   2395.5,2,   8.0789,2,   289.9,2,   20.0, -999.00,9,   317.5,  -999.0,   64.07,2
31RBOACES24N_2,  AR01,   104,  1,     35,2,19980219,1742, 26.4998, -74.5168, 4559,     40.8,  21.6350,  36.6350,  36.6310,2,    220.7,2,     220.8,6,     0.40,2,     0.00,2,     0.00,2,     0.01,2,    2.082,2,    1.193,2,    0.161,2, -999.000,9,   -999.0,9,  -999.00,9,   2045.6,2,   2392.7,2,   8.0736,2,   293.0,2,   20.0, -999.00,9,   312.8,  -999.0,   62.89,2
31RBOACES24N_2,  AR01,   104,  1,     34,2,19980219,1742, 26.4998, -74.5168, 4559,     90.4,  21.5920,  36.6440,  36.6430,2,    221.2,2,     218.9,2,     0.30,2,     0.10,2,     0.03,2,     0.01,2,    2.095,2,    1.199,2,    0.178,2,    2.017,6,   -999.0,9,  -999.00,9,   -999.0,9,   -999.0,9,-999.0000,9,  -999.0,9, -999.0, -999.00,9,  -999.0,  -999.0,   60.94,2
31RBOACES24N_2,  AR01,   104,  1,     33,2,19980219,1742, 26.4998, -74.5168, 4559,    120.4,  21.2170,  36.6380,  36.6100,2,    218.6,2,     217.2,2,     0.30,2,     0.10,2,     0.18,2,     0.02,2,    2.138,2,    1.224,2,    0.164,2, -999.000,9,   -999.0,9,  -999.00,9,   2052.7,2,   2390.8,2,   8.0652,2,   305.2,2,   20.0, -999.00,9,   320.5,  -999.0,   57.91,2
31RBOACES24N_2,  AR01,   104,  1,     32,2,19980219,1742, 26.4998, -74.5168, 4559,    182.0,  19.9640,  36.7670,  36.7630,2,    193.6,2,     194.0,2,     0.40,2,     1.56,2,     0.01,2,     0.05,2,    2.281,2,    1.299,2,    0.061,2,    0.607,6,   -999.0,9,  -999.00,9,   -999.0,9,   -999.0,9,-999.0000,9,  -999.0,9, -999.0, -999.00,9,  -999.0,  -999.0,   52.04,2
31RBOACES24N_2,  AR01,   104,  1,     31,2,19980219,1742, 26.4998, -74.5168, 4559,    210.3,  19.3370,  36.6980,  36.6960,2,    192.6,2,     192.6,2,     0.60,2,     2.34,2,     0.01,2,     0.08,2,    2.279,2,    1.266,2,    0.039,2, -999.000,9,   -999.0,9,  -999.00,9,   2100.6,2,   2396.3,2,   7.9950,2,   373.8,2,   20.0, -999.00,9,   364.0,  -999.0,   49.89,2
31RBOACES24N_2,  AR01,   104,  1,     30,2,19980219,1742, 26.4998, -74.5168, 4559,    235.7,  19.0170,  36.6560,  36.6560,2,    194.1,2,     194.5,2,     0.70,2,     2.73,2,     0.01,2,     0.13,2, -999.000,9, -999.000,9, -999.000,9, -999.000,9,   -999.0,9,  -999.00,9,   -999.0,9,   -999.0,9,-999.0000,9,  -999.0,9, -999.0, -999.00,9,  -999.0,  -999.0, -999.00,9
31RBOACES24N_2,  AR01,   104,  1,     29,2,19980219,1742, 26.4998, -74.5168, 4559,    260.3,  18.6880,  36.6170,  36.6170,2,    197.2,2,     195.0,2,     0.80,2,     3.51,2,     0.01,2,     0.14,2,    2.303,6,    1.263,6,    0.021,6, -999.000,9,   -999.0,9,  -999.00,9,   -999.0,9,   -999.0,9,-999.0000,9,  -999.0,9, -999.0, -999.00,9,  -999.0,  -999.0,   47.16,2
31RBOACES24N_2,  AR01,   104,  1,     28,2,19980219,1742, 26.4998, -74.5168, 4559,    279.1,  18.5070,  36.5900,  36.5900,2,    195.7,2,     199.1,2,     0.80,2,     3.61,2,     0.01,2,     0.17,2,    2.312,2,    1.271,2,    0.026,2, -999.000,9,   -999.0,9,  -999.00,9,   2097.9,2,   2391.3,2,   7.9909,2,   375.8,2,   20.0, -999.00,9,   353.9,  -999.0, -999.00,9
31RBOACES24N_2,  AR01,   104,  1,     27,2,19980219,1742, 26.4998, -74.5168, 4559,    315.4,  18.2840,  36.5610,  36.5600,2,    199.8,2,     199.2,2,     1.00,2,     4.10,2,     0.01,2,     0.25,3,    2.287,2,    1.249,2,    0.025,2, -999.000,9,   -999.0,9,  -999.00,9,   -999.0,9,   -999.0,9,-999.0000,9,  -999.0,9, -999.0, -999.00,9,  -999.0,  -999.0,   45.30,2
31RBOACES24N_2,  AR01,   104,  1,     26,2,19980219,1742, 26.4998, -74.5168, 4559,    373.8,  17.8720,  36.4980,  36.5000,2,    201.1,2,     200.1,2,     1.20,2,     4.78,2,     0.01,2,     0.24,2,    2.263,2,    1.231,2,    0.035,2,    0.464,2,   -999.0,9,  -999.00,9,   2101.6,2,   2395.1,2,   7.9775,2,  -999.0,9, -999.0, -999.00,9,  -999.0,  -999.0, -999.00,9
31RBOACES24N_2,  AR01,   104,  1,     25,2,19980219,1742, 26.4998, -74.5168, 4559,    450.8,  17.2190,  36.3800,  36.3920,2,    191.3,2,     190.1,2,     1.80,2,     6.73,2,     0.00,2,     0.36,2,    2.124,2,    1.137,2,    0.026,2, -999.000,9,   -999.0,9,  -999.00,9,   2113.0,2,   2378.6,2,   7.9487,2,   424.0,2,   20.0, -999.00,9,   378.5,  -999.0,   44.52,2
31RBOACES24N_2,  AR01,   104,  1,     24,2,19980219,1742, 26.4998, -74.5168, 4559,    500.0,  16.5280,  36.2600,  36.2560,2,    186.3,2,     185.5,2,     2.40,2,     8.39,2,     0.00,2,     0.46,2,    2.056,2,    1.097,2,    0.027,2, -999.000,9,   -999.0,9,  -999.00,9,   -999.0,9,   -999.0,9,-999.0000,9,  -999.0,9, -999.0, -999.00,9,  -999.0,  -999.0, -999.00,9
31RBOACES24N_2,  AR01,   104,  1,     23,2,19980219,1742, 26.4998, -74.5168, 4559,    547.8,  15.6690,  36.1180,  36.1210,2,    182.3,2,     182.4,2,     3.10,2,     9.95,2,     0.00,2,     0.57,2, -999.000,9, -999.000,9, -999.000,9, -999.000,9,   -999.0,9,  -999.00,9,   -999.0,9,   -999.0,9,-999.0000,9,  -999.0,9, -999.0, -999.00,9,  -999.0,  -999.0,   48.02,2
31RBOACES24N_2,  AR01,   104,  1,     22,2,19980219,1742, 26.4998, -74.5168, 4559,    600.1,  14.6330,  35.9420,  35.9370,2,    176.4,2,     174.9,2,     4.40,2,    12.40,2,     0.00,2,     0.74,2,    1.769,2,    0.922,2,    0.029,2,    0.408,2,   -999.0,9,  -999.00,9,   2138.4,2,   2366.2,2,   7.8613,2,   538.6,2,   20.0, -999.00,9,   432.7,  -999.0, -999.00,9
31RBOACES24N_2,  AR01,   104,  1,     21,2,19980219,1742, 26.4998, -74.5168, 4559,    650.4,  13.5390,  35.7810,  35.7940,2,    168.1,2,     168.6,2,     5.60,2,    14.54,2,     0.00,2,     0.89,2, -999.000,9, -999.000,9, -999.000,9, -999.000,9,   -999.0,9,  -999.00,9,   -999.0,9,   -999.0,9,-999.0000,9,  -999.0,9, -999.0, -999.00,9,  -999.0,  -999.0,   43.14,2
31RBOACES24N_2,  AR01,   104,  1,     20,2,19980219,1742, 26.4998, -74.5168, 4559,    749.4,  11.4310,  35.4950,  35.5030,2,    162.1,2,     161.4,2,     8.70,2,    18.65,2,     0.00,2,     1.18,2,    1.162,2,    0.598,2,    0.023,2, -999.000,9,   -999.0,9,  -999.00,9,   2164.4,2,   2334.6,2,   7.7653,2,   669.7,2,   20.0, -999.00,9,   470.7,  -999.0, -999.00,9
31RBOACES24N_2,  AR01,   104,  1,     19,2,19980219,1742, 26.4998, -74.5168, 4559,    851.0,   9.4280,  35.2540,  35.2570,2,    151.4,2,     150.7,2,    13.00,2,    23.05,2,     0.00,2,     1.48,2, -999.000,9, -999.000,9, -999.000,9, -999.000,9,   -999.0,9,  -999.00,9,   2182.0,2,   2326.1,2,   7.7008,2,   797.3,2,   20.0, -999.00,9,   514.9,  -999.0,   42.25,2
31RBOACES24N_2,  AR01,   104,  1,     18,2,19980219,1742, 26.4998, -74.5168, 4559,    950.7,   7.5980,  35.0750,  35.0730,2,    155.1,2,     154.9,2,    16.80,2,    25.59,2,     0.00,2,     1.69,2,    0.251,2,    0.132,2,    0.006,2,    0.248,2,   -999.0,9,  -999.00,9,   2196.8,2,   -999.0,5,   7.6612,2,   878.7,2,   20.0, -999.00,9,   524.8,  -999.0, -999.00,9
31RBOACES24N_2,  AR01,   104,  1,     17,2,19980219,1742, 26.4998, -74.5168, 4559,   1049.5,   6.7010,  35.0790,  35.0810,2,    182.4,2,     182.4,2,    15.80,2,    23.05,2,     0.00,2,     1.55,2, -999.000,9, -999.000,9, -999.000,9, -999.000,9,   -999.0,9,  -999.00,9,   2190.3,6,   -999.0,5,   7.6826,2,   830.4,2,   20.0, -999.00,9,   475.0,  -999.0, -999.00,9
31RBOACES24N_2,  AR01,   104,  1,     16,2,19980219,1742, 26.4998, -74.5168, 4559,   1249.8,   5.2940,  35.0750,  35.0750,2,    233.3,2,     231.5,2,    13.40,2,    19.44,2,     0.00,2,     1.29,2,    0.591,2,    0.298,2,    0.021,2, -999.000,9,   -999.0,9,  -999.00,9,   -999.0,9,   -999.0,9,-999.0000,9,  -999.0,9, -999.0, -999.00,9,  -999.0,  -999.0, -999.00,9
31RBOACES24N_2,  AR01,   104,  1,     15,2,19980219,1742, 26.4998, -74.5168, 4559,   1449.8,   4.5090,  35.0250,  35.0260,2,    253.1,2,     254.1,2,    12.80,2,    18.17,2,     0.00,2,     1.22,2,    0.799,2,    0.395,2,    0.029,2, -999.000,9,   -999.0,9,  -999.00,9,   2166.8,2,   2327.9,3,   7.7311,2,   738.0,2,   20.0, -999.00,9,   379.9,  -999.0,   41.84,2
31RBOACES24N_2,  AR01,   104,  1,     14,2,19980219,1742, 26.4998, -74.5168, 4559,   1644.8,   4.0380,  34.9820,  34.9830,2,    265.6,2,     265.2,2,    12.80,2,    17.68,2,     0.00,2,     1.19,2,    0.990,2,    0.483,2,    0.048,2,    1.689,2,   -999.0,9,  -999.00,9,   -999.0,9,   -999.0,9,-999.0000,9,  -999.0,9, -999.0, -999.00,9,  -999.0,  -999.0, -999.00,9
31RBOACES24N_2,  AR01,   104,  1,     13,2,19980219,1742, 26.4998, -74.5168, 4559,   1849.3,   3.8440,  34.9790,  34.9800,2,    267.7,2,     267.1,2,    13.90,2,    17.58,2,     0.00,2,     1.19,2,    0.731,2,    0.360,2,    0.027,2, -999.000,9,   -999.0,9,  -999.00,9,   2162.3,2,   -999.0,5,   7.7351,2,   721.4,2,   20.0, -999.00,9,   359.5,  -999.0, -999.00,9
31RBOACES24N_2,  AR01,   104,  1,     12,2,19980219,1742, 26.4998, -74.5168, 4559,   2050.4,   3.6160,  34.9700,  34.9710,2,    268.0,2,     268.6,2,    14.80,2,    17.58,2,     0.00,2,     1.19,2, -999.000,9, -999.000,9, -999.000,9, -999.000,9,   -999.0,9,  -999.00,9,   -999.0,9,   -999.0,9,-999.0000,9,  -999.0,9, -999.0, -999.00,9,  -999.0,  -999.0, -999.00,9
31RBOACES24N_2,  AR01,   104,  1,     11,2,19980219,1742, 26.4998, -74.5168, 4559,   2249.1,   3.4340,  34.9670,  34.9680,2,    267.6,2,     268.1,2,    16.70,2,    17.78,2,     0.00,2,     1.21,2,    0.372,2,    0.187,2,    0.016,2,    0.940,2,   -999.0,9,  -999.00,9,   2164.6,2,   2323.0,2,   7.7389,2,  -999.0,9, -999.0, -999.00,9,  -999.0,  -999.0, -999.00,9
31RBOACES24N_2,  AR01,   104,  1,     10,2,19980219,1742, 26.4998, -74.5168, 4559,   2451.0,   3.2340,  34.9560,  34.9570,2,    269.0,2,     269.6,2,    17.90,2,    17.68,2,     0.00,2,     1.21,2, -999.000,9, -999.000,9, -999.000,9, -999.000,9,   -999.0,9,  -999.00,9,   -999.0,9,   -999.0,9,-999.0000,9,  -999.0,9, -999.0, -999.00,9,  -999.0,  -999.0, -999.00,9
31RBOACES24N_2,  AR01,   104,  1,      9,2,19980219,1742, 26.4998, -74.5168, 4559,   2650.3,   3.0470,  34.9470,  34.9490,2,    268.8,2,     269.7,2,    19.40,2,    17.78,2,     0.00,2,     1.23,2,    0.348,2,    0.174,2,    0.014,2,    0.835,2,   -999.0,9,  -999.00,9,   2167.6,2,   -999.0,9,   7.7396,2,  -999.0,9, -999.0, -999.00,9,  -999.0,  -999.0, -999.00,9
31RBOACES24N_2,  AR01,   104,  1,      8,2,19980219,1742, 26.4998, -74.5168, 4559,   2850.6,   2.8600,  34.9350,  34.9360,2,    270.4,2,     271.7,2,    20.20,2,    17.58,2,     0.00,2,     1.21,2, -999.000,9, -999.000,9, -999.000,9, -999.000,9,   -999.0,9,  -999.00,9,   -999.0,9,   -999.0,9,-999.0000,9,  -999.0,9, -999.0, -999.00,9,  -999.0,  -999.0, -999.00,9
31RBOACES24N_2,  AR01,   104,  1,      7,2,19980219,1742, 26.4998, -74.5168, 4559,   3098.8,   2.6630,  34.9250,  34.9250,2,    273.9,2,     273.9,2,    21.60,2,    17.48,2,     0.00,2,     1.21,2,    0.447,2,    0.218,2,    0.023,2, -999.000,9,   -999.0,9,  -999.00,9,   2166.9,2,   2327.2,2,   7.7393,2,   718.3,2,   20.0, -999.00,9,   337.5,  -999.0, -999.00,9
31RBOACES24N_2,  AR01,   104,  1,      6,2,19980219,1742, 26.4998, -74.5168, 4559,   3314.8,   2.4900,  34.9140,  34.9150,2,    274.9,2,     275.5,2,    23.00,2,    17.39,2,     0.00,2,     1.21,2,    0.542,2,    0.267,2,    0.020,2,    1.083,2,   -999.0,9,  -999.00,9,   2167.9,2,   2330.3,2,   7.7371,2,  -999.0,9, -999.0, -999.00,9,  -999.0,  -999.0, -999.00,9
31RBOACES24N_2,  AR01,   104,  1,      5,2,19980219,1742, 26.4998, -74.5168, 4559,   3595.7,   2.3500,  34.9050,  34.9050,2,    274.8,2,     275.2,2,    25.60,2,    17.68,2,     0.00,2,     1.22,2,    0.532,2,    0.264,2,    0.026,2, -999.000,9,   -999.0,9,  -999.00,9,   -999.0,9,   -999.0,9,   7.7352,2,  -999.0,9, -999.0, -999.00,9,  -999.0,  -999.0, -999.00,9
31RBOACES24N_2,  AR01,   104,  1,      4,2,19980219,1742, 26.4998, -74.5168, 4559,   3873.1,   2.2790,  34.8970,  34.8980,2,    273.3,2,     274.9,2,    28.20,2,    17.97,2,     0.00,2,     1.24,2,    0.557,2,    0.283,2,    0.029,2,    1.105,6,   -999.0,9,  -999.00,9,   2174.2,2,   -999.0,9,   7.7327,2,  -999.0,9, -999.0, -999.00,9,  -999.0,  -999.0, -999.00,9
31RBOACES24N_2,  AR01,   104,  1,      3,2,19980219,1742, 26.4998, -74.5168, 4559,   4050.4,   2.2600,  34.8940,  34.8940,2,    270.8,2,     272.1,2,    30.10,2,    18.27,2,     0.00,2,     1.26,2,    0.508,6,    0.248,6,    0.032,6, -999.000,9,   -999.0,9,  -999.00,9,   -999.0,9,   -999.0,9,-999.0000,9,  -999.0,9, -999.0, -999.00,9,  -999.0,  -999.0, -999.00,9
31RBOACES24N_2,  AR01,   104,  1,      2,2,19980219,1742, 26.4998, -74.5168, 4559,   4301.1,   2.2320,  34.8880,  34.8890,2,    269.1,2,     268.9,2,    33.70,2,    18.75,2,     0.00,2,     1.31,2,    0.378,2,    0.191,2,    0.023,2, -999.000,9,   -999.0,9,  -999.00,9,   2181.4,2,   2338.9,2,   7.7301,2,   735.3,2,   20.0, -999.00,9,   337.4,  -999.0, -999.00,9
31RBOACES24N_2,  AR01,   104,  1,      1,2,19980219,1742, 26.4998, -74.5168, 4559,   4561.6,   2.1880,  34.8790,  34.8790,2,    262.9,2,     264.4,2,    39.80,2,    19.73,6,     0.01,6,     1.38,6,    0.229,2,    0.126,2,    0.030,2,    0.585,2,   -999.0,9,  -999.00,9,   2189.5,2,   -999.0,5,   7.7272,2,   743.5,2,   20.0, -999.00,9,   340.0,  -999.0, -999.00,9