BOTTLE,20220820CCHSIOAMB
EXPOCODE,SECT_ID,STNNBR,CASTNO,BTLNBR,BTLNBR_FLAG_W,DATE,TIME,LATITUDE,LONGITUDE,DEPTH,CTDPRS,CTDTMP,CTDSAL,SALNTY,SALNTY_FLAG_W,CTDOXY,CTDOXY_FLAG_W,OXYGEN,OXYGEN_FLAG_W,SILCAT,SILCAT_FLAG_W,NITRAT,NITRAT_FLAG_W,NITRIT,NITRIT_FLAG_W,PHSPHT,PHSPHT_FLAG_W,CFC-11,CFC-11_FLAG_W,CFC-12,CFC-12_FLAG_W,CFC113,CFC113_FLAG_W,CCL4,CCL4_FLAG_W,DELC14,DELC14_FLAG_W,DELC13,DELC13_FLAG_W,TCARBN,TCARBN_FLAG_W,ALKALI,ALKALI_FLAG_W,PH,PH_FLAG_W,FCO2,FCO2_FLAG_W,FCO2TMP,TON,TON_FLAG_W,FCO2IN,C14ERR,TOC,TOC_FLAG_W
,,,,,,,,,,,DBAR,ITS-90,PSS-78,PSS-78,,UMOL/KG,,UMOL/KG,,UMOL/KG,,UMOL/KG,,UMOL/KG,,UMOL/KG,,PMOL/KG,,PMOL/KG,,PMOL/KG,,PMOL/KG,,/MILLE,,/MILLE,,UMOL/KG,,UMOL/KG,,,,UATM,,DEG C,UMOL/KG,,UATM,/MILLE,UMOL/KG,
31RBOACES24N_2,  AR01,     8,  1,     33,2,19980124,2329, 27.2340, -15.5873, 3133,      3.0,  20.5660,  36.9650,  36.9670,2,    229.0,2,     226.8,2,     0.30,2,     0.00,2,     0.00,2,     0.00,2,    2.215,2,    1.265,2,    0.170,2, -999.000,9,   -999.0,9,  -999.00,9,   2099.9,2,   2417.2,2,   8.0276,2,   344.1,6,   20.0, -999.00,9,   352.1,  -999.0, -999.00,9
31RBOACES24N_2,  AR01,     8,  1,     32,2,19980124,2329, 27.2340, -15.5873, 3133,     23.1,  20.5680,  36.9630,  36.9630,2,    227.2,2,     226.8,2,     0.60,2,     0.10,2,     0.00,2,     0.00,2, -999.000,9, -999.000,9, -999.000,9, -999.000,9,   -999.0,9,  -999.00,9,   -999.0,9,   2418.5,2,   8.0233,2,  -999.0,9, -999.0, -999.00,9,  -999.0,  -999.0, -999.00,9
31RBOACES24N_2,  AR01,     8,  1,     31,2,19980124,2329, 27.2340, -15.5873, 3133,     47.9,  20.5780,  36.9640,  36.9650,2,    226.7,2,     226.8,2,     0.30,2,     0.00,2,     0.00,2,     0.01,2, -999.000,9, -999.000,9, -999.000,9, -999.000,9,   -999.0,9,  -999.00,9,   2098.9,2,   2416.8,2,   8.0290,2,  -999.0,9, -999.0, -999.00,9,  -999.0,  -999.0, -999.00,9
31RBOACES24N_2,  AR01,     8,  1,     30,2,19980124,2329, 27.2340, -15.5873, 3133,     73.5,  20.5810,  36.9650,  36.9660,2,    226.0,2,     226.8,2,     0.60,2,     0.10,2,     0.00,2,     0.01,2, -999.000,9, -999.000,9, -999.000,9, -999.000,9,   -999.0,9,  -999.00,9,   -999.0,9,   -999.0,9,-999.0000,9,   343.8,2,   20.0, -999.00,9,   351.9,  -999.0, -999.00,9
31RBOACES24N_2,  AR01,     8,  1,     29,2,19980124,2329, 27.2340, -15.5873, 3133,     94.8,  20.5830,  36.9610,  36.9640,2,    226.5,2,     226.9,2,     0.40,2,     0.10,2,     0.00,2,     0.02,2, -999.000,9, -999.000,9, -999.000,9, -999.000,9,   -999.0,9,  -999.00,9,   2098.4,2,   2419.4,2,   8.0226,2,  -999.0,9, -999.0, -999.00,9,  -999.0,  -999.0, -999.00,9
31RBOACES24N_2,  AR01,     8,  1,     28,2,19980124,2329, 27.2340, -15.5873, 3133,    144.5,  17.7100,  36.5140,  36.5190,2,    192.8,2,     200.3,2,     1.30,2,     4.68,2,     0.01,2,     0.26,2, -999.000,9, -999.000,9, -999.000,9, -999.000,9,   -999.0,9,  -999.00,9,   2124.8,2,   2388.7,2,   7.9433,2,   433.1,2,   20.0, -999.00,9,   395.1,  -999.0, -999.00,9
31RBOACES24N_2,  AR01,     8,  1,     27,2,19980124,2329, 27.2340, -15.5873, 3133,    196.8,  16.4010,  36.3280,  36.3230,2,    192.8,2,     192.5,2,     2.00,2,     7.22,2,     0.01,2,     0.41,2,    2.403,6,    1.319,6,    0.056,6, -999.000,9,   -999.0,9,  -999.00,9,   2131.6,2,   2376.6,2,   7.9082,2,  -999.0,9, -999.0, -999.00,9,  -999.0,  -999.0, -999.00,9
31RBOACES24N_2,  AR01,     8,  1,     26,2,19980124,2329, 27.2340, -15.5873, 3133,    247.4,  15.2970,  36.1520,  36.1540,2,    190.1,2,     192.9,2,     2.50,2,     8.88,2,     0.00,2,     0.50,2, -999.000,9, -999.000,9, -999.000,9, -999.000,9,   -999.0,9,  -999.00,9,   2135.3,2,   2366.0,2,   7.8899,2,   494.1,2,   20.0, -999.00,9,   407.9,  -999.0, -999.00,9
31RBOACES24N_2,  AR01,     8,  1,     25,2,19980124,2329, 27.2340, -15.5873, 3133,    298.5,  14.5200,  36.0160,  36.0230,2,    177.8,2,     176.2,2,     4.00,2,    11.91,2,     0.00,2,     0.69,2,    2.308,2,    1.219,2,    0.028,2, -999.000,9,   -999.0,9,  -999.00,9,   -999.0,9,   -999.0,9,-999.0000,9,  -999.0,9, -999.0, -999.00,9,  -999.0,  -999.0, -999.00,9
31RBOACES24N_2,  AR01,     8,  1,     24,2,19980124,2329, 27.2340, -15.5873, 3133,    349.3,  13.7590,  35.9090,  35.9010,2,    181.1,2,     177.7,2,     4.30,2,    13.08,2,     0.00,2,     0.77,2, -999.000,9, -999.000,9, -999.000,9, -999.000,9,   -999.0,9,  -999.00,9,   2152.5,2,   2352.9,2,   7.8285,2,   576.6,2,   20.0, -999.00,9,   446.9,  -999.0, -999.00,9
31RBOACES24N_2,  AR01,     8,  1,     23,2,19980124,2329, 27.2340, -15.5873, 3133,    384.2,  13.3660,  35.8550,  35.8540,2,    180.0,2,     183.7,2,     4.20,2,    12.98,2,     0.00,2,     0.76,2, -999.000,9, -999.000,9, -999.000,9, -999.000,9,   -999.0,9,  -999.00,9,   -999.0,9,   -999.0,9,-999.0000,9,  -999.0,9, -999.0, -999.00,9,  -999.0,  -999.0, -999.00,9
31RBOACES24N_2,  AR01,     8,  1,     22,2,19980124,2329, 27.2340, -15.5873, 3133,    474.4,  12.1960,  35.6870,  35.6850,2,    172.8,2,     173.0,2,     6.00,2,    16.11,2,     0.00,2,     0.97,2,    1.951,2,    1.029,2,    0.034,2, -999.000,9,   -999.0,9,  -999.00,9,   2163.5,2,   2342.0,2,   7.7836,2,  -999.0,9, -999.0, -999.00,9,  -999.0,  -999.0, -999.00,9
31RBOACES24N_2,  AR01,     8,  1,     21,2,19980124,2329, 27.2340, -15.5873, 3133,    527.7,  11.5150,  35.5910,  35.6020,2,    169.8,2,     164.8,2,     7.50,2,    18.06,2,     0.00,2,     1.09,2, -999.000,9, -999.000,9, -999.000,9, -999.000,9,   -999.0,9,  -999.00,9,   2171.5,2,   2338.4,2,   7.7589,2,   695.7,2,   20.0, -999.00,9,   490.9,  -999.0, -999.00,9
31RBOACES24N_2,  AR01,     8,  1,     20,2,19980124,2329, 27.2340, -15.5873, 3133,    623.8,  10.7270,  35.5110,  35.5160,2,    162.1,2,     158.7,2,     9.10,2,    20.11,2,     0.00,2,     1.23,2, -999.000,9, -999.000,9, -999.000,9, -999.000,9,   -999.0,9,  -999.00,9,   -999.0,9,   -999.0,9,-999.0000,9,  -999.0,9, -999.0, -999.00,9,  -999.0,  -999.0, -999.00,9
31RBOACES24N_2,  AR01,     8,  1,     19,2,19980124,2329, 27.2340, -15.5873, 3133,    691.5,  10.1220,  35.4480,  35.4530,2,    152.8,2,     151.2,2,    10.70,2,    21.67,2,     0.00,2,     1.36,2,    0.992,2,    0.521,2,    0.015,2, -999.000,9,   -999.0,9,  -999.00,9,   -999.0,9,   -999.0,9,-999.0000,9,  -999.0,9, -999.0, -999.00,9,  -999.0,  -999.0, -999.00,9
31RBOACES24N_2,  AR01,     8,  1,     18,2,19980124,2329, 27.2340, -15.5873, 3133,    771.6,   9.6810,  35.4560,  35.4550,2,    155.6,2,     159.3,2,    11.80,2,    21.67,2,     0.00,2,     1.35,2, -999.000,9, -999.000,9, -999.000,9, -999.000,9,   -999.0,9,  -999.00,9,   -999.0,9,   -999.0,9,-999.0000,9,  -999.0,9, -999.0, -999.00,9,  -999.0,  -999.0, -999.00,9
31RBOACES24N_2,  AR01,     8,  1,     17,2,19980124,2329, 27.2340, -15.5873, 3133,    846.6,   9.0440,  35.4040,  35.4100,2,    158.8,2,     154.7,2,    13.80,2,    23.04,2,     0.00,2,     1.45,2, -999.000,9, -999.000,9, -999.000,9, -999.000,9,   -999.0,9,  -999.00,9,   2197.0,2,   2338.1,2,   7.6978,2,   803.0,6,   20.0, -999.00,9,   510.1,  -999.0, -999.00,9
31RBOACES24N_2,  AR01,     8,  1,     16,2,19980124,2329, 27.2340, -15.5873, 3133,    936.7,   8.3420,  35.3610,  35.3600,2,    151.8,2,     155.1,2,    15.60,2,    24.12,2,     0.00,2,     1.54,2,    0.381,2,    0.200,2,    0.000,2, -999.000,9,   -999.0,9,  -999.00,9,   -999.0,9,   -999.0,9,-999.0000,9,  -999.0,9, -999.0, -999.00,9,  -999.0,  -999.0, -999.00,9
31RBOACES24N_2,  AR01,     8,  1,     15,2,19980124,2329, 27.2340, -15.5873, 3133,    946.4,   8.2910,  35.3740,  35.3730,2,    153.4,2,     158.6,2,    15.20,2,    23.82,2,     0.00,2,     1.52,2, -999.000,9, -999.000,9, -999.000,9, -999.000,9,   -999.0,9,  -999.00,9,   2202.2,6,   2338.4,2,   7.6886,2,   823.5,2,   20.0, -999.00,9,   506.0,  -999.0, -999.00,9
31RBOACES24N_2,  AR01,     8,  1,     14,2,19980124,2329, 27.2340, -15.5873, 3133,   1037.5,   7.9480,  35.3710,  35.3740,2,    165.4,2,     164.4,2,    15.30,2,    23.34,2,     0.00,2,     1.50,2, -999.000,9, -999.000,9, -999.000,9, -999.000,9,   -999.0,9,  -999.00,9,   -999.0,9,   -999.0,9,-999.0000,9,  -999.0,9, -999.0, -999.00,9,  -999.0,  -999.0, -999.00,9
31RBOACES24N_2,  AR01,     8,  1,     13,2,19980124,2329, 27.2340, -15.5873, 3133,   1139.1,   7.3680,  35.3500,  35.3490,2,    172.3,2,     173.0,2,    16.20,2,    23.04,2,     0.00,2,     1.50,2,    0.224,2,    0.120,2,   -0.007,2, -999.000,9,   -999.0,9,  -999.00,9,   2200.9,2,   2341.4,2,   7.6911,2,   806.8,2,   20.0, -999.00,9,   475.1,  -999.0, -999.00,9
31RBOACES24N_2,  AR01,     8,  1,     12,2,19980124,2329, 27.2340, -15.5873, 3133,   1238.4,   6.8680,  35.3180,  35.3270,2,    184.2,2,     181.5,2,    17.20,2,    22.55,2,     0.00,2,     1.48,2, -999.000,9, -999.000,9, -999.000,9, -999.000,9,   -999.0,9,  -999.00,9,   -999.0,9,   -999.0,9,-999.0000,9,  -999.0,9, -999.0, -999.00,9,  -999.0,  -999.0, -999.00,9
31RBOACES24N_2,  AR01,     8,  1,     11,2,19980124,2329, 27.2340, -15.5873, 3133,   1337.8,   6.3200,  35.2880,  35.2900,2,    191.5,2,     192.6,2,    18.50,2,    22.16,2,     0.00,2,     1.46,2, -999.000,9, -999.000,9, -999.000,9, -999.000,9,   -999.0,9,  -999.00,9,   2197.2,2,   2343.5,2,   7.7055,2,   788.4,2,   20.0, -999.00,9,   442.0,  -999.0, -999.00,9
31RBOACES24N_2,  AR01,     8,  1,     10,2,19980124,2329, 27.2340, -15.5873, 3133,   1498.5,   5.6060,  35.2050,  35.2050,2,    199.1,2,     199.5,2,    21.30,2,    22.46,2,     0.00,2,     1.49,2,    0.080,2,    0.050,2,   -0.006,2, -999.000,9,   -999.0,9,  -999.00,9,   -999.0,9,   -999.0,9,-999.0000,9,  -999.0,9, -999.0, -999.00,9,  -999.0,  -999.0, -999.00,9
31RBOACES24N_2,  AR01,     8,  1,      9,2,19980124,2329, 27.2340, -15.5873, 3133,   1647.6,   4.9810,  35.1500,  35.1520,2,    208.2,2,     209.5,2,    23.40,2,    22.17,2,     0.00,2,     1.48,2, -999.000,9, -999.000,9, -999.000,9, -999.000,9,   -999.0,9,  -999.00,9,   -999.0,9,   -999.0,9,-999.0000,9,  -999.0,9, -999.0, -999.00,9,  -999.0,  -999.0, -999.00,9
31RBOACES24N_2,  AR01,     8,  1,      8,2,19980124,2329, 27.2340, -15.5873, 3133,   1799.5,   4.5790,  35.1140,  35.1150,2,    215.6,2,     215.8,2,    25.30,2,    22.07,2,     0.00,2,     1.48,2, -999.000,9, -999.000,9, -999.000,9, -999.000,9,   -999.0,9,  -999.00,9,   -999.0,9,   -999.0,9,-999.0000,9,  -999.0,9, -999.0, -999.00,9,  -999.0,  -999.0, -999.00,9
31RBOACES24N_2,  AR01,     8,  1,      7,2,19980124,2329, 27.2340, -15.5873, 3133,   1941.3,   4.2420,  35.0820,  35.0830,2,    220.5,2,     220.1,2,    27.10,2,    21.97,2,     0.00,2,     1.48,2,    0.026,2,    0.015,2,   -0.005,2, -999.000,9,   -999.0,9,  -999.00,9,   2194.7,2,   2340.5,2,   7.7103,2,   777.4,2,   20.0, -999.00,9,   394.6,  -999.0, -999.00,9
31RBOACES24N_2,  AR01,     8,  1,      6,2,19980124,2329, 27.2340, -15.5873, 3133,   2098.2,   3.8640,  35.0450,  35.0450,2,    224.7,2,     226.6,2,    28.80,2,    21.88,2,     0.00,2,     1.48,2, -999.000,9, -999.000,9, -999.000,9, -999.000,9,   -999.0,9,  -999.00,9,   -999.0,9,   -999.0,9,-999.0000,9,  -999.0,9, -999.0, -999.00,9,  -999.0,  -999.0, -999.00,9
31RBOACES24N_2,  AR01,     8,  1,      5,2,19980124,2329, 27.2340, -15.5873, 3133,   2297.6,   3.5240,  35.0090,  35.0090,2,    228.3,2,     228.7,2,    30.80,2,    21.97,2,     0.00,2,     1.49,2, -999.000,9, -999.000,9, -999.000,9, -999.000,9,   -999.0,9,  -999.00,9,   -999.0,9,   -999.0,9,-999.0000,9,  -999.0,9, -999.0, -999.00,9,  -999.0,  -999.0, -999.00,9
31RBOACES24N_2,  AR01,     8,  1,      4,2,19980124,2329, 27.2340, -15.5873, 3133,   2499.8,   3.2670,  34.9850,  34.9840,2,    230.9,2,     230.9,2,    32.50,2,    21.97,2,     0.00,2,     1.50,2,    0.023,2,    0.000,3,   -0.002,2, -999.000,9,   -999.0,9,  -999.00,9,   2199.9,2,   2347.5,2,   7.7122,2,   781.4,2,   20.0, -999.00,9,   378.2,  -999.0, -999.00,9
31RBOACES24N_2,  AR01,     8,  1,      3,2,19980124,2329, 27.2340, -15.5873, 3133,   2694.8,   3.0470,  34.9640,  34.9630,2,    233.3,2,     232.9,2,    34.80,2,    21.88,2,     0.00,2,     1.51,2, -999.000,9, -999.000,9, -999.000,9, -999.000,9,   -999.0,9,  -999.00,9,   -999.0,9,   -999.0,9,-999.0000,9,  -999.0,9, -999.0, -999.00,9,  -999.0,  -999.0, -999.00,9
31RBOACES24N_2,  AR01,     8,  1,      2,2,19980124,2329, 27.2340, -15.5873, 3133,   2895.5,   2.9020,  34.9490,  34.9500,2,    234.4,2,     234.0,2,    37.00,2,    22.07,2,     0.00,2,     1.52,2, -999.000,9, -999.000,9, -999.000,9, -999.000,9,   -999.0,9,  -999.00,9,   2204.7,2,   2355.1,2,   7.7141,2,  -999.0,9, -999.0, -999.00,9,  -999.0,  -999.0, -999.00,9
31RBOACES24N_2,  AR01,     8,  1,      1,2,19980124,2329, 27.2340, -15.5873, 3133,   3173.2,   2.6600,  34.9270,  34.9270,2,    234.3,2,     234.3,2,    41.20,2,    22.46,2,     0.00,2,     1.52,2,    0.014,2,    0.022,3,   -0.003,2, -999.000,9,   -999.0,9,  -999.00,9,   2213.6,2,   2362.2,2,   7.7166,2,   786.9,2,   20.0, -999.00,9,   369.0,  -999.0, -999.00,9