BOTTLE,20220820CCHSIOAMB
EXPOCODE,SECT_ID,STNNBR,CASTNO,BTLNBR,BTLNBR_FLAG_W,DATE,TIME,LATITUDE,LONGITUDE,DEPTH,CTDPRS,CTDTMP,CTDSAL,SALNTY,SALNTY_FLAG_W,CTDOXY,CTDOXY_FLAG_W,OXYGEN,OXYGEN_FLAG_W,SILCAT,SILCAT_FLAG_W,NITRAT,NITRAT_FLAG_W,NITRIT,NITRIT_FLAG_W,PHSPHT,PHSPHT_FLAG_W,CFC-11,CFC-11_FLAG_W,CFC-12,CFC-12_FLAG_W,CFC113,CFC113_FLAG_W,CCL4,CCL4_FLAG_W,DELC14,DELC14_FLAG_W,DELC13,DELC13_FLAG_W,TCARBN,TCARBN_FLAG_W,ALKALI,ALKALI_FLAG_W,PH,PH_FLAG_W,FCO2,FCO2_FLAG_W,FCO2TMP,TON,TON_FLAG_W,FCO2IN,C14ERR,TOC,TOC_FLAG_W
,,,,,,,,,,,DBAR,ITS-90,PSS-78,PSS-78,,UMOL/KG,,UMOL/KG,,UMOL/KG,,UMOL/KG,,UMOL/KG,,UMOL/KG,,PMOL/KG,,PMOL/KG,,PMOL/KG,,PMOL/KG,,/MILLE,,/MILLE,,UMOL/KG,,UMOL/KG,,,,UATM,,DEG C,UMOL/KG,,UATM,/MILLE,UMOL/KG,
31RBOACES24N_2,  AR01,   111,  1,     36,2,19980221,0111, 26.5000, -76.0833, 4802,      4.2,  22.8880,  36.6450,  36.6480,2,    215.9,2,     216.0,2,     0.60,2,     0.00,2,     0.01,2,     0.00,2, -999.000,9, -999.000,9, -999.000,9, -999.000,9,   -999.0,9,     1.24,2,   2039.0,6,   2391.6,6,   8.0916,6,   285.8,6,   20.0, -999.00,9,   320.4,  -999.0, -999.00,9
31RBOACES24N_2,  AR01,   111,  1,     35,2,19980221,0111, 26.5000, -76.0833, 4802,     41.2,  22.5540,  36.6730,  36.6720,2,    216.5,2,     216.9,2,     0.60,2,     0.00,2,     0.01,2,     0.00,2, -999.000,9, -999.000,9, -999.000,9, -999.000,9,   -999.0,9,  -999.00,9,   -999.0,9,   -999.0,9,-999.0000,9,  -999.0,9, -999.0, -999.00,9,  -999.0,  -999.0, -999.00,9
31RBOACES24N_2,  AR01,   111,  1,     34,2,19980221,0111, 26.5000, -76.0833, 4802,     91.2,  22.1660,  36.6580,  36.6580,2,    216.0,2,     213.7,2,     0.60,2,     0.10,2,     0.02,2,     0.01,2, -999.000,9, -999.000,9, -999.000,9, -999.000,9,   -999.0,9,  -999.00,9,   -999.0,9,   -999.0,9,-999.0000,9,  -999.0,9, -999.0, -999.00,9,  -999.0,  -999.0, -999.00,9
31RBOACES24N_2,  AR01,   111,  1,     33,2,19980221,0111, 26.5000, -76.0833, 4802,    140.8,  21.5380,  36.7120,  36.7070,2,    213.8,2,     209.1,2,     0.50,2,     0.20,2,     0.10,2,     0.01,2, -999.000,9, -999.000,9, -999.000,9, -999.000,9,   -999.0,9,  -999.00,9,   -999.0,9,   -999.0,9,-999.0000,9,  -999.0,9, -999.0, -999.00,9,  -999.0,  -999.0, -999.00,9
31RBOACES24N_2,  AR01,   111,  1,     32,2,19980221,0111, 26.5000, -76.0833, 4802,    192.3,  20.0900,  36.8060,  36.8030,2,    209.1,2,     187.2,2,     0.50,2,     0.68,2,     0.03,2,     0.03,2, -999.000,9, -999.000,9, -999.000,9, -999.000,9,   -999.0,9,  -999.00,9,   -999.0,9,   -999.0,9,-999.0000,9,  -999.0,9, -999.0, -999.00,9,  -999.0,  -999.0, -999.00,9
31RBOACES24N_2,  AR01,   111,  1,     31,2,19980221,0111, 26.5000, -76.0833, 4802,    219.0,  19.6580,  36.7430,  36.7340,2,    204.1,2,     189.1,2,     0.60,2,     1.37,2,     0.02,2,     0.05,2, -999.000,9, -999.000,9, -999.000,9, -999.000,9,   -999.0,9,  -999.00,9,   -999.0,9,   -999.0,9,-999.0000,9,  -999.0,9, -999.0, -999.00,9,  -999.0,  -999.0, -999.00,9
31RBOACES24N_2,  AR01,   111,  1,     30,2,19980221,0111, 26.5000, -76.0833, 4802,    245.3,  19.1460,  36.6740,  36.6720,2,    207.0,2,     189.1,2,     0.70,2,     1.76,2,     0.02,2,     0.07,2, -999.000,9, -999.000,9, -999.000,9, -999.000,9,   -999.0,9,  -999.00,9,   -999.0,9,   -999.0,9,-999.0000,9,  -999.0,9, -999.0, -999.00,9,  -999.0,  -999.0, -999.00,9
31RBOACES24N_2,  AR01,   111,  1,     29,2,19980221,0111, 26.5000, -76.0833, 4802,    270.1,  18.9220,  36.6450,  36.6410,2,    207.7,2,     203.8,2,     0.70,2,     1.95,2,     0.01,2,     0.08,2, -999.000,9, -999.000,9, -999.000,9, -999.000,9,   -999.0,9,  -999.00,9,   -999.0,9,   -999.0,9,-999.0000,9,  -999.0,9, -999.0, -999.00,9,  -999.0,  -999.0, -999.00,9
31RBOACES24N_2,  AR01,   111,  1,     28,2,19980221,0111, 26.5000, -76.0833, 4802,    295.0,  18.5920,  36.5990,  36.5960,2,    206.1,2,     200.9,2,     0.90,2,     2.63,2,     0.01,2,     0.12,2, -999.000,9, -999.000,9, -999.000,9, -999.000,9,   -999.0,9,  -999.00,9,   -999.0,9,   -999.0,9,-999.0000,9,  -999.0,9, -999.0, -999.00,9,  -999.0,  -999.0, -999.00,9
31RBOACES24N_2,  AR01,   111,  1,     27,2,19980221,0111, 26.5000, -76.0833, 4802,    346.3,  18.2810,  36.5700,  36.5690,2,    207.3,2,     211.2,2,     1.00,2,     2.93,2,     0.01,2,     0.14,2, -999.000,9, -999.000,9, -999.000,9, -999.000,9,   -999.0,9,  -999.00,9,   -999.0,9,   -999.0,9,-999.0000,9,  -999.0,9, -999.0, -999.00,9,  -999.0,  -999.0, -999.00,9
31RBOACES24N_2,  AR01,   111,  1,     26,2,19980221,0111, 26.5000, -76.0833, 4802,    395.3,  18.0740,  36.5360,  36.5360,2,    207.1,2,     205.7,2,     1.20,2,     3.51,2,     0.01,2,     0.18,2, -999.000,9, -999.000,9, -999.000,9, -999.000,9,   -999.0,9,  -999.00,9,   -999.0,9,   -999.0,9,-999.0000,9,  -999.0,9, -999.0, -999.00,9,  -999.0,  -999.0, -999.00,9
31RBOACES24N_2,  AR01,   111,  1,     25,2,19980221,0111, 26.5000, -76.0833, 4802,    450.8,  17.7000,  36.4660,  36.4650,2,    200.9,2,     196.6,2,     1.60,2,     5.07,2,     0.01,2,     0.27,2, -999.000,9, -999.000,9, -999.000,9, -999.000,9,   -999.0,9,  -999.00,9,   -999.0,9,   -999.0,9,-999.0000,9,  -999.0,9, -999.0, -999.00,9,  -999.0,  -999.0, -999.00,9
31RBOACES24N_2,  AR01,   111,  1,     24,2,19980221,0111, 26.5000, -76.0833, 4802,    500.2,  17.2910,  36.3940,  36.3920,2,    193.4,2,     190.9,2,     2.00,2,     6.44,2,     0.01,2,     0.35,2, -999.000,9, -999.000,9, -999.000,9, -999.000,9,   -999.0,9,  -999.00,9,   -999.0,9,   -999.0,9,-999.0000,9,  -999.0,9, -999.0, -999.00,9,  -999.0,  -999.0, -999.00,9
31RBOACES24N_2,  AR01,   111,  1,     23,2,19980221,0111, 26.5000, -76.0833, 4802,    599.6,  15.3960,  36.0700,  36.0700,2,    185.1,2,     177.5,2,     3.50,2,    10.24,2,     0.01,2,     0.60,2, -999.000,9, -999.000,9, -999.000,9, -999.000,9,   -999.0,9,  -999.00,9,   -999.0,9,   -999.0,9,-999.0000,9,  -999.0,9, -999.0, -999.00,9,  -999.0,  -999.0, -999.00,9
31RBOACES24N_2,  AR01,   111,  1,     22,3,19980221,0111, 26.5000, -76.0833, 4802,    699.5,  13.1940,  35.7300,  35.7150,2,    167.3,2,     166.6,2,     6.50,2,    15.32,2,     0.01,2,     0.95,2, -999.000,9, -999.000,9, -999.000,9, -999.000,9,   -999.0,9,  -999.00,9,   -999.0,9,   -999.0,9,-999.0000,9,  -999.0,9, -999.0, -999.00,9,  -999.0,  -999.0, -999.00,9
31RBOACES24N_2,  AR01,   111,  1,     21,3,19980221,0111, 26.5000, -76.0833, 4802,    801.0,  11.1980,  35.4640,  35.4560,2,    155.3,2,     154.9,2,     9.70,2,    19.82,2,     0.01,2,     1.25,2, -999.000,9, -999.000,9, -999.000,9, -999.000,9,   -999.0,9,  -999.00,9,   -999.0,9,   -999.0,9,-999.0000,9,  -999.0,9, -999.0, -999.00,9,  -999.0,  -999.0, -999.00,9
31RBOACES24N_2,  AR01,   111,  1,     20,2,19980221,0111, 26.5000, -76.0833, 4802,    900.3,   8.9410,  35.1930,  35.1920,2,    148.7,2,     148.7,2,    14.40,2,    24.02,2,     0.01,2,     1.57,2, -999.000,9, -999.000,9, -999.000,9, -999.000,9,   -999.0,9,  -999.00,9,   -999.0,9,   -999.0,9,-999.0000,9,  -999.0,9, -999.0, -999.00,9,  -999.0,  -999.0, -999.00,9
31RBOACES24N_2,  AR01,   111,  1,     19,2,19980221,0111, 26.5000, -76.0833, 4802,    999.7,   7.4710,  35.1020,  35.1000,2,    164.4,2,     160.5,2,    15.70,2,    23.82,2,     0.01,2,     1.58,2, -999.000,9, -999.000,9, -999.000,9, -999.000,9,   -999.0,9,  -999.00,9,   -999.0,9,   -999.0,9,-999.0000,9,  -999.0,9, -999.0, -999.00,9,  -999.0,  -999.0, -999.00,9
31RBOACES24N_2,  AR01,   111,  1,     18,2,19980221,0111, 26.5000, -76.0833, 4802,   1100.7,   6.4790,  35.0740,  35.0730,2,    188.8,2,     188.5,2,    15.70,2,    22.55,2,     0.01,2,     1.51,2, -999.000,9, -999.000,9, -999.000,9, -999.000,9,   -999.0,9,  -999.00,9,   -999.0,9,   -999.0,9,-999.0000,9,  -999.0,9, -999.0, -999.00,9,  -999.0,  -999.0, -999.00,9
31RBOACES24N_2,  AR01,   111,  1,     17,2,19980221,0111, 26.5000, -76.0833, 4802,   1301.1,   5.1320,  35.0570,  35.0590,2,    238.0,2,     237.5,2,    12.70,2,    18.75,2,     0.01,2,     1.26,2, -999.000,9, -999.000,9, -999.000,9, -999.000,9,   -999.0,9,  -999.00,9,   -999.0,9,   -999.0,9,-999.0000,9,  -999.0,9, -999.0, -999.00,9,  -999.0,  -999.0, -999.00,9
31RBOACES24N_2,  AR01,   111,  1,     16,2,19980221,0111, 26.5000, -76.0833, 4802,   1500.7,   4.3930,  35.0090,  35.0090,2,    258.1,2,     257.5,2,    12.40,2,    17.67,2,     0.01,2,     1.20,2, -999.000,9, -999.000,9, -999.000,9, -999.000,9,   -999.0,9,  -999.00,9,   -999.0,9,   -999.0,9,-999.0000,9,  -999.0,9, -999.0, -999.00,9,  -999.0,  -999.0, -999.00,9
31RBOACES24N_2,  AR01,   111,  1,     15,2,19980221,0111, 26.5000, -76.0833, 4802,   1699.9,   4.0470,  34.9850,  34.9840,2,    266.6,2,     265.2,2,    12.50,2,    17.48,2,     0.01,2,     1.18,2, -999.000,9, -999.000,9, -999.000,9, -999.000,9,   -999.0,9,  -999.00,9,   -999.0,9,   -999.0,9,-999.0000,9,  -999.0,9, -999.0, -999.00,9,  -999.0,  -999.0, -999.00,9
31RBOACES24N_2,  AR01,   111,  1,     14,2,19980221,0111, 26.5000, -76.0833, 4802,   1899.0,   3.8410,  34.9730,  34.9730,2,    268.7,2,     261.1,3,    13.20,2,    17.28,2,     0.01,2,     1.18,2, -999.000,9, -999.000,9, -999.000,9, -999.000,9,   -999.0,9,  -999.00,9,   -999.0,9,   -999.0,9,-999.0000,9,  -999.0,9, -999.0, -999.00,9,  -999.0,  -999.0, -999.00,9
31RBOACES24N_2,  AR01,   111,  1,     13,2,19980221,0111, 26.5000, -76.0833, 4802,   2099.5,   3.6440,  34.9730,  34.9740,2,    268.7,2,     267.9,2,    14.70,2,    17.38,2,     0.01,2,     1.19,2, -999.000,9, -999.000,9, -999.000,9, -999.000,9,   -999.0,9,  -999.00,9,   -999.0,9,   -999.0,9,-999.0000,9,  -999.0,9, -999.0, -999.00,9,  -999.0,  -999.0, -999.00,9
31RBOACES24N_2,  AR01,   111,  1,     12,2,19980221,0111, 26.5000, -76.0833, 4802,   2299.9,   3.4430,  34.9690,  34.9700,2,    268.3,2,     267.9,2,    16.80,2,    17.58,2,     0.01,2,     1.20,2, -999.000,9, -999.000,9, -999.000,9, -999.000,9,   -999.0,9,  -999.00,9,   -999.0,9,   -999.0,9,-999.0000,9,  -999.0,9, -999.0, -999.00,9,  -999.0,  -999.0, -999.00,9
31RBOACES24N_2,  AR01,   111,  1,     11,2,19980221,0111, 26.5000, -76.0833, 4802,   2501.0,   3.2350,  34.9580,  34.9580,2,    268.5,2,     263.8,3,    18.10,2,    17.38,2,     0.01,2,     1.20,2, -999.000,9, -999.000,9, -999.000,9, -999.000,9,   -999.0,9,  -999.00,9,   -999.0,9,   -999.0,9,-999.0000,9,  -999.0,9, -999.0, -999.00,9,  -999.0,  -999.0, -999.00,9
31RBOACES24N_2,  AR01,   111,  1,     10,2,19980221,0111, 26.5000, -76.0833, 4802,   2701.0,   3.0480,  34.9470,  34.9470,2,    269.8,2,     268.8,2,    19.10,2,    17.38,2,     0.01,2,     1.20,2, -999.000,9, -999.000,9, -999.000,9, -999.000,9,   -999.0,9,  -999.00,9,   -999.0,9,   -999.0,9,-999.0000,9,  -999.0,9, -999.0, -999.00,9,  -999.0,  -999.0, -999.00,9
31RBOACES24N_2,  AR01,   111,  1,      9,2,19980221,0111, 26.5000, -76.0833, 4802,   2899.3,   2.8340,  34.9340,  34.9340,2,    272.5,2,     272.8,2,    19.90,2,    17.19,2,     0.01,2,     1.19,2, -999.000,9, -999.000,9, -999.000,9, -999.000,9,   -999.0,9,  -999.00,9,   -999.0,9,   -999.0,9,-999.0000,9,  -999.0,9, -999.0, -999.00,9,  -999.0,  -999.0, -999.00,9
31RBOACES24N_2,  AR01,   111,  1,      8,2,19980221,0111, 26.5000, -76.0833, 4802,   3098.3,   2.6770,  34.9250,  34.9250,2,    275.1,2,     274.0,6,    20.60,2,    16.99,2,     0.01,2,     1.18,2, -999.000,9, -999.000,9, -999.000,9, -999.000,9,   -999.0,9,  -999.00,9,   -999.0,9,   -999.0,9,-999.0000,9,  -999.0,9, -999.0, -999.00,9,  -999.0,  -999.0, -999.00,9
31RBOACES24N_2,  AR01,   111,  1,      7,2,19980221,0111, 26.5000, -76.0833, 4802,   3300.9,   2.5350,  34.9160,  34.9160,2,    277.1,2,     273.8,2,    21.70,2,    16.99,2,     0.01,2,     1.19,2, -999.000,9, -999.000,9, -999.000,9, -999.000,9,   -999.0,9,  -999.00,9,   -999.0,9,   -999.0,9,-999.0000,9,  -999.0,9, -999.0, -999.00,9,  -999.0,  -999.0, -999.00,9
31RBOACES24N_2,  AR01,   111,  1,      6,2,19980221,0111, 26.5000, -76.0833, 4802,   3497.9,   2.4250,  34.9090,  34.9100,2,    277.3,2,     275.9,2,    23.20,2,    17.19,2,     0.01,2,     1.20,2, -999.000,9, -999.000,9, -999.000,9, -999.000,9,   -999.0,9,  -999.00,9,   -999.0,9,   -999.0,9,-999.0000,9,  -999.0,9, -999.0, -999.00,9,  -999.0,  -999.0, -999.00,9
31RBOACES24N_2,  AR01,   111,  1,      5,2,19980221,0111, 26.5000, -76.0833, 4802,   3700.0,   2.3480,  34.9030,  34.9030,2,    276.3,2,     275.6,2,    25.30,2,    17.28,2,     0.01,2,     1.21,2, -999.000,9, -999.000,9, -999.000,9, -999.000,9,   -999.0,9,  -999.00,9,   -999.0,9,   -999.0,9,-999.0000,9,  -999.0,9, -999.0, -999.00,9,  -999.0,  -999.0, -999.00,9
31RBOACES24N_2,  AR01,   111,  1,      4,2,19980221,0111, 26.5000, -76.0833, 4802,   3981.1,   2.3010,  34.8990,  34.8980,2,    275.2,2,     270.2,2,    27.50,2,    17.77,2,     0.01,2,     1.24,2, -999.000,9, -999.000,9, -999.000,9, -999.000,9,   -999.0,9,  -999.00,9,   -999.0,9,   -999.0,9,-999.0000,9,  -999.0,9, -999.0, -999.00,9,  -999.0,  -999.0, -999.00,9
31RBOACES24N_2,  AR01,   111,  1,      3,2,19980221,0111, 26.5000, -76.0833, 4802,   4300.6,   2.2830,  34.8930,  34.8940,2,    273.0,2,     252.6,4,    30.20,2,    18.16,2,     0.01,2,     1.27,2, -999.000,9, -999.000,9, -999.000,9, -999.000,9,   -999.0,9,  -999.00,9,   -999.0,9,   -999.0,9,-999.0000,9,  -999.0,9, -999.0, -999.00,9,  -999.0,  -999.0, -999.00,9
31RBOACES24N_2,  AR01,   111,  1,      2,2,19980221,0111, 26.5000, -76.0833, 4802,   4600.2,   2.2500,  34.8860,  34.8870,2,    269.1,2,     268.2,2,    34.80,2,    18.94,2,     0.01,2,     1.32,2, -999.000,9, -999.000,9, -999.000,9, -999.000,9,   -999.0,9,  -999.00,9,   -999.0,9,   -999.0,9,-999.0000,9,  -999.0,9, -999.0, -999.00,9,  -999.0,  -999.0, -999.00,9
31RBOACES24N_2,  AR01,   111,  1,      1,2,19980221,0111, 26.5000, -76.0833, 4802,   4875.4,   2.2100,  34.8770,  34.8770,2,    263.6,2,     263.3,2,    40.60,6,    19.92,6,     0.01,6,     1.40,6, -999.000,9, -999.000,9, -999.000,9, -999.000,9,   -999.0,9,  -999.00,9,   -999.0,9,   -999.0,9,-999.0000,9,  -999.0,9, -999.0, -999.00,9,  -999.0,  -999.0, -999.00,9