BOTTLE,20220820CCHSIOAMB
EXPOCODE,SECT_ID,STNNBR,CASTNO,BTLNBR,BTLNBR_FLAG_W,DATE,TIME,LATITUDE,LONGITUDE,DEPTH,CTDPRS,CTDTMP,CTDSAL,SALNTY,SALNTY_FLAG_W,CTDOXY,CTDOXY_FLAG_W,OXYGEN,OXYGEN_FLAG_W,SILCAT,SILCAT_FLAG_W,NITRAT,NITRAT_FLAG_W,NITRIT,NITRIT_FLAG_W,PHSPHT,PHSPHT_FLAG_W,CFC-11,CFC-11_FLAG_W,CFC-12,CFC-12_FLAG_W,CFC113,CFC113_FLAG_W,CCL4,CCL4_FLAG_W,DELC14,DELC14_FLAG_W,DELC13,DELC13_FLAG_W,TCARBN,TCARBN_FLAG_W,ALKALI,ALKALI_FLAG_W,PH,PH_FLAG_W,FCO2,FCO2_FLAG_W,FCO2TMP,TON,TON_FLAG_W,FCO2IN,C14ERR,TOC,TOC_FLAG_W
,,,,,,,,,,,DBAR,ITS-90,PSS-78,PSS-78,,UMOL/KG,,UMOL/KG,,UMOL/KG,,UMOL/KG,,UMOL/KG,,UMOL/KG,,PMOL/KG,,PMOL/KG,,PMOL/KG,,PMOL/KG,,/MILLE,,/MILLE,,UMOL/KG,,UMOL/KG,,,,UATM,,DEG C,UMOL/KG,,UATM,/MILLE,UMOL/KG,
31RBOACES24N_2,  AR01,    73,  1,     36,2,19980211,1038, 24.4997, -57.4002, 6313,      4.1,  23.6080,  36.9140,  36.9130,2,    217.5,2,     213.9,2,     0.40,2,     0.00,2,     0.00,2,     0.01,2, -999.000,9, -999.000,9, -999.000,9, -999.000,9,   -999.0,9,     1.07,2,   2044.4,6,   -999.0,5,   8.1046,2,   275.8,2,   20.0, -999.00,9,   318.1,  -999.0, -999.00,9
31RBOACES24N_2,  AR01,    73,  1,     35,2,19980211,1038, 24.4997, -57.4002, 6313,     49.1,  23.6230,  36.9120,  36.9160,2,    215.4,2,     214.2,6,     0.30,2,     0.00,2,     0.00,2,     0.01,2, -999.000,9, -999.000,9, -999.000,9, -999.000,9,   -999.0,9,  -999.00,9,   -999.0,9,   -999.0,9,-999.0000,9,  -999.0,9, -999.0, -999.00,9,  -999.0,  -999.0, -999.00,9
31RBOACES24N_2,  AR01,    73,  1,     34,2,19980211,1038, 24.4997, -57.4002, 6313,     99.9,  22.9660,  37.0120,  37.0400,2,    215.8,2,     212.4,2,     0.20,2,     0.10,2,     0.01,2,     0.01,2, -999.000,9, -999.000,9, -999.000,9, -999.000,9,   -999.0,9,  -999.00,9,   2070.7,2,   2424.2,2,   8.0688,2,   303.8,2,   20.0, -999.00,9,   341.7,  -999.0, -999.00,9
31RBOACES24N_2,  AR01,    73,  1,     33,2,19980211,1038, 24.4997, -57.4002, 6313,    149.7,  20.3590,  36.8450,  36.8480,2,    199.4,2,     201.6,2,     0.20,2,     0.68,2,     0.02,2,     0.03,2, -999.000,9, -999.000,9, -999.000,9, -999.000,9,   -999.0,9,  -999.00,9,   2093.2,2,   2417.9,2,   8.0193,2,   350.1,2,   20.0, -999.00,9,   355.1,  -999.0, -999.00,9
31RBOACES24N_2,  AR01,    73,  1,     32,2,19980211,1038, 24.4997, -57.4002, 6313,    199.9,  19.0700,  36.6840,  36.6850,2,    193.1,2,     198.2,2,     0.40,2,     1.85,2,     0.01,2,     0.07,2, -999.000,9, -999.000,9, -999.000,9, -999.000,9,   -999.0,9,  -999.00,9,   2100.3,2,   2404.0,2,   7.9946,2,   377.1,2,   20.0, -999.00,9,   363.2,  -999.0, -999.00,9
31RBOACES24N_2,  AR01,    73,  1,     31,2,19980211,1038, 24.4997, -57.4002, 6313,    226.0,  18.6020,  36.6110,  36.6120,2,    201.2,2,     202.9,2,     0.50,2,     2.44,2,     0.01,2,     0.09,2, -999.000,9, -999.000,9, -999.000,9, -999.000,9,   -999.0,9,  -999.00,9,   -999.0,9,   -999.0,9,-999.0000,9,  -999.0,9, -999.0, -999.00,9,  -999.0,  -999.0, -999.00,9
31RBOACES24N_2,  AR01,    73,  1,     30,2,19980211,1038, 24.4997, -57.4002, 6313,    241.6,  18.3800,  36.5770,  36.5830,2,    203.2,2,     204.4,2,     0.60,2,     3.02,2,     0.01,2,     0.13,2, -999.000,9, -999.000,9, -999.000,9, -999.000,9,   -999.0,9,  -999.00,9,   2097.6,2,   2404.2,2,   7.9921,2,   377.3,2,   20.0, -999.00,9,   353.2,  -999.0, -999.00,9
31RBOACES24N_2,  AR01,    73,  1,     29,2,19980211,1038, 24.4997, -57.4002, 6313,    274.5,  18.0700,  36.5320,  36.5330,2,    206.2,2,     206.8,2,     0.70,2,     3.61,2,     0.00,2,     0.17,2, -999.000,9, -999.000,9, -999.000,9, -999.000,9,   -999.0,9,  -999.00,9,   -999.0,9,   -999.0,9,-999.0000,9,  -999.0,9, -999.0, -999.00,9,  -999.0,  -999.0, -999.00,9
31RBOACES24N_2,  AR01,    73,  1,     28,2,19980211,1038, 24.4997, -57.4002, 6313,    300.6,  17.8820,  36.5040,  36.5020,2,    208.6,2,     204.7,2,     0.90,2,     4.20,2,     0.01,2,     0.21,2, -999.000,9, -999.000,9, -999.000,9, -999.000,9,   -999.0,9,  -999.00,9,   2099.1,2,   2389.1,2,   7.9814,2,   398.6,2,   20.0, -999.00,9,   365.9,  -999.0, -999.00,9
31RBOACES24N_2,  AR01,    73,  1,     27,2,19980211,1038, 24.4997, -57.4002, 6313,    352.2,  17.4790,  36.4420,  36.4460,2,    204.5,2,     197.5,2,     1.30,2,     5.37,2,     0.00,2,     0.28,2, -999.000,9, -999.000,9, -999.000,9, -999.000,9,   -999.0,9,  -999.00,9,   -999.0,9,   -999.0,9,-999.0000,9,  -999.0,9, -999.0, -999.00,9,  -999.0,  -999.0, -999.00,9
31RBOACES24N_2,  AR01,    73,  1,     26,2,19980211,1038, 24.4997, -57.4002, 6313,    401.1,  16.8370,  36.3340,  36.3290,2,    189.6,2,     185.4,2,     1.90,2,     7.51,2,     0.00,2,     0.41,2, -999.000,9, -999.000,9, -999.000,9, -999.000,9,   -999.0,9,  -999.00,9,   2118.0,2,   -999.0,5,   7.9295,2,   448.0,2,   20.0, -999.00,9,   394.0,  -999.0, -999.00,9
31RBOACES24N_2,  AR01,    73,  1,     25,2,19980211,1038, 24.4997, -57.4002, 6313,    449.6,  15.9490,  36.1870,  36.1830,2,    185.1,2,     182.9,2,     2.60,2,     9.08,2,     0.00,2,     0.51,2, -999.000,9, -999.000,9, -999.000,9, -999.000,9,   -999.0,9,  -999.00,9,   -999.0,9,   -999.0,9,-999.0000,9,  -999.0,9, -999.0, -999.00,9,  -999.0,  -999.0, -999.00,9
31RBOACES24N_2,  AR01,    73,  1,     24,2,19980211,1038, 24.4997, -57.4002, 6313,    500.4,  14.8030,  36.0020,  35.9980,2,    180.6,2,     177.1,2,     3.70,2,    11.42,2,     0.00,2,     0.66,2, -999.000,9, -999.000,9, -999.000,9, -999.000,9,   -999.0,9,  -999.00,9,   -999.0,9,   -999.0,9,-999.0000,9,  -999.0,9, -999.0, -999.00,9,  -999.0,  -999.0, -999.00,9
31RBOACES24N_2,  AR01,    73,  1,     23,2,19980211,1038, 24.4997, -57.4002, 6313,    549.5,  14.0470,  35.8810,  35.8870,2,    173.8,2,     172.2,2,     4.60,2,    13.08,2,     0.00,2,     0.77,2, -999.000,9, -999.000,9, -999.000,9, -999.000,9,   -999.0,9,  -999.00,9,   2140.6,2,   -999.0,5,   7.8454,2,   551.9,2,   20.0, -999.00,9,   432.6,  -999.0, -999.00,9
31RBOACES24N_2,  AR01,    73,  1,     22,2,19980211,1038, 24.4997, -57.4002, 6313,    649.7,  12.1010,  35.6090,  35.6000,2,    165.1,2,     162.7,2,     7.30,2,    17.28,2,     0.00,2,     1.06,2, -999.000,9, -999.000,9, -999.000,9, -999.000,9,   -999.0,9,  -999.00,9,   -999.0,9,   -999.0,9,-999.0000,9,  -999.0,9, -999.0, -999.00,9,  -999.0,  -999.0, -999.00,9
31RBOACES24N_2,  AR01,    73,  1,     21,2,19980211,1038, 24.4997, -57.4002, 6313,    748.6,  10.0240,  35.3160,  35.3250,2,    150.7,2,     147.6,2,    11.70,2,    22.56,2,     0.00,2,     1.42,2, -999.000,9, -999.000,9, -999.000,9, -999.000,9,   -999.0,9,  -999.00,9,   -999.0,9,   -999.0,9,-999.0000,9,  -999.0,9, -999.0, -999.00,9,  -999.0,  -999.0, -999.00,9
31RBOACES24N_2,  AR01,    73,  1,     20,2,19980211,1038, 24.4997, -57.4002, 6313,    800.7,   9.0980,  35.2120,  35.2150,2,    148.6,2,     146.0,2,    14.00,2,    24.22,2,     0.00,2,     1.56,2, -999.000,9, -999.000,9, -999.000,9, -999.000,9,   -999.0,9,  -999.00,9,   2186.0,2,   2327.3,2,   7.6841,2,   823.1,2,   20.0, -999.00,9,   524.6,  -999.0, -999.00,9
31RBOACES24N_2,  AR01,    73,  1,     19,2,19980211,1038, 24.4997, -57.4002, 6313,    849.8,   8.6600,  35.1720,  35.1700,2,    147.1,2,     147.3,2,    15.00,2,    25.00,2,     0.00,2,     1.61,2, -999.000,9, -999.000,9, -999.000,9, -999.000,9,   -999.0,9,  -999.00,9,   -999.0,9,   -999.0,9,-999.0000,9,  -999.0,9, -999.0, -999.00,9,  -999.0,  -999.0, -999.00,9
31RBOACES24N_2,  AR01,    73,  1,     18,2,19980211,1038, 24.4997, -57.4002, 6313,    898.9,   8.2120,  35.1490,  35.1500,2,    150.4,2,     148.5,2,    15.80,2,    25.40,2,     0.00,2,     1.65,2, -999.000,9, -999.000,9, -999.000,9, -999.000,9,   -999.0,9,  -999.00,9,   -999.0,9,   -999.0,9,-999.0000,9,  -999.0,9, -999.0, -999.00,9,  -999.0,  -999.0, -999.00,9
31RBOACES24N_2,  AR01,    73,  1,     17,2,19980211,1038, 24.4997, -57.4002, 6313,   1000.2,   6.7210,  35.0250,  35.0230,2,    163.1,2,     161.4,2,    18.50,2,    25.98,2,     0.00,2,     1.74,2, -999.000,9, -999.000,9, -999.000,9, -999.000,9,   -999.0,9,  -999.00,9,   2195.1,6,   -999.0,5,   7.6506,2,   896.3,2,   20.0, -999.00,9,   514.9,  -999.0, -999.00,9
31RBOACES24N_2,  AR01,    73,  1,     16,2,19980211,1038, 24.4997, -57.4002, 6313,   1099.6,   6.1330,  35.0400,  35.0320,2,    186.8,2,     184.7,2,    17.40,2,    23.84,2,     0.00,2,     1.60,2, -999.000,9, -999.000,9, -999.000,9, -999.000,9,   -999.0,9,  -999.00,9,   -999.0,9,   -999.0,9,-999.0000,9,  -999.0,9, -999.0, -999.00,9,  -999.0,  -999.0, -999.00,9
31RBOACES24N_2,  AR01,    73,  1,     15,2,19980211,1038, 24.4997, -57.4002, 6313,   1301.7,   5.2500,  35.0630,  35.0630,2,    230.0,2,     227.9,2,    14.10,2,    19.83,2,     0.00,2,     1.33,2, -999.000,9, -999.000,9, -999.000,9, -999.000,9,   -999.0,9,  -999.00,9,   -999.0,9,   -999.0,9,-999.0000,9,  -999.0,9, -999.0, -999.00,9,  -999.0,  -999.0, -999.00,9
31RBOACES24N_2,  AR01,    73,  1,     14,2,19980211,1038, 24.4997, -57.4002, 6313,   1500.2,   4.6640,  35.0480,  35.0490,2,    248.8,2,     247.7,2,    13.40,2,    18.56,2,     0.00,2,     1.24,2, -999.000,9, -999.000,9, -999.000,9, -999.000,9,   -999.0,9,  -999.00,9,   -999.0,9,   -999.0,9,-999.0000,9,  -999.0,9, -999.0, -999.00,9,  -999.0,  -999.0, -999.00,9
31RBOACES24N_2,  AR01,    73,  1,     13,2,19980211,1038, 24.4997, -57.4002, 6313,   1694.5,   4.3090,  35.0490,  35.0490,2,    252.2,2,     251.9,2,    15.20,2,    18.46,2,     0.00,2,     1.24,2, -999.000,9, -999.000,9, -999.000,9, -999.000,9,   -999.0,9,  -999.00,9,   -999.0,9,   -999.0,9,-999.0000,9,  -999.0,9, -999.0, -999.00,9,  -999.0,  -999.0, -999.00,9
31RBOACES24N_2,  AR01,    73,  1,     12,2,19980211,1038, 24.4997, -57.4002, 6313,   1900.3,   3.9080,  35.0260,  35.0260,2,    255.9,2,     255.4,2,    17.80,2,    18.56,2,     0.00,2,     1.26,2, -999.000,9, -999.000,9, -999.000,9, -999.000,9,   -999.0,9,  -999.00,9,   2162.7,2,   -999.0,5,   7.7380,2,   721.2,6,   20.0, -999.00,9,   360.2,  -999.0, -999.00,9
31RBOACES24N_2,  AR01,    73,  1,     11,2,19980211,1038, 24.4997, -57.4002, 6313,   2174.5,   3.4680,  34.9930,  34.9930,2,    257.2,2,     257.5,2,    21.60,2,    18.85,2,     0.00,2,     1.28,2, -999.000,9, -999.000,9, -999.000,9, -999.000,9,   -999.0,9,  -999.00,9,   -999.0,9,   -999.0,9,-999.0000,9,  -999.0,9, -999.0, -999.00,9,  -999.0,  -999.0, -999.00,9
31RBOACES24N_2,  AR01,    73,  1,     10,2,19980211,1038, 24.4997, -57.4002, 6313,   2500.8,   3.1230,  34.9650,  34.9650,2,    257.7,2,     257.0,2,    26.20,2,    19.24,2,     0.00,2,     1.32,2, -999.000,9, -999.000,9, -999.000,9, -999.000,9,   -999.0,9,  -999.00,9,   -999.0,9,   -999.0,9,-999.0000,9,  -999.0,9, -999.0, -999.00,9,  -999.0,  -999.0, -999.00,9
31RBOACES24N_2,  AR01,    73,  1,      9,2,19980211,1038, 24.4997, -57.4002, 6313,   2798.9,   2.9270,  34.9500,  34.9490,2,    256.8,2,     257.4,2,    29.60,2,    19.73,2,     0.00,2,     1.36,2, -999.000,9, -999.000,9, -999.000,9, -999.000,9,   -999.0,9,  -999.00,9,   2173.8,2,   -999.0,5,   7.7342,2,  -999.0,9, -999.0, -999.00,9,  -999.0,  -999.0, -999.00,9
31RBOACES24N_2,  AR01,    73,  1,      8,2,19980211,1038, 24.4997, -57.4002, 6313,   3182.2,   2.6930,  34.9280,  34.9280,2,    262.8,2,     261.6,2,    29.90,2,    19.34,2,     0.00,2,     1.33,2, -999.000,9, -999.000,9, -999.000,9, -999.000,9,   -999.0,9,  -999.00,9,   -999.0,9,   -999.0,9,-999.0000,9,  -999.0,9, -999.0, -999.00,9,  -999.0,  -999.0, -999.00,9
31RBOACES24N_2,  AR01,    73,  1,      7,2,19980211,1038, 24.4997, -57.4002, 6313,   3598.6,   2.4830,  34.9110,  34.9110,2,    262.3,2,     265.1,2,    31.80,2,    19.25,2,     0.00,2,     1.34,2, -999.000,9, -999.000,9, -999.000,9, -999.000,9,   -999.0,9,  -999.00,9,   -999.0,9,   -999.0,9,-999.0000,9,  -999.0,9, -999.0, -999.00,9,  -999.0,  -999.0, -999.00,9
31RBOACES24N_2,  AR01,    73,  1,      6,2,19980211,1038, 24.4997, -57.4002, 6313,   3991.4,   2.3410,  34.8980,  34.8980,2,    266.5,2,     265.2,2,    34.90,2,    19.44,2,     0.00,2,     1.35,2, -999.000,9, -999.000,9, -999.000,9, -999.000,9,   -999.0,9,  -999.00,9,   2175.7,2,   2336.6,2,   7.7329,2,   728.4,2,   20.0, -999.00,9,   335.8,  -999.0, -999.00,9
31RBOACES24N_2,  AR01,    73,  1,      5,2,19980211,1038, 24.4997, -57.4002, 6313,   4399.2,   2.2720,  34.8890,  34.8890,2,    267.8,2,     266.0,2,    36.20,2,    19.44,2,     0.00,2,     1.36,2, -999.000,9, -999.000,9, -999.000,9, -999.000,9,   -999.0,9,  -999.00,9,   -999.0,9,   -999.0,9,-999.0000,9,  -999.0,9, -999.0, -999.00,9,  -999.0,  -999.0, -999.00,9
31RBOACES24N_2,  AR01,    73,  1,      4,2,19980211,1038, 24.4997, -57.4002, 6313,   4898.0,   2.1490,  34.8700,  34.8690,2,    261.4,2,     260.0,2,    45.20,2,    20.81,2,     0.00,2,     1.44,2, -999.000,9, -999.000,9, -999.000,9, -999.000,9,   -999.0,9,  -999.00,9,   2187.6,2,   2343.1,2,   7.7220,2,  -999.0,9, -999.0, -999.00,9,  -999.0,  -999.0, -999.00,9
31RBOACES24N_2,  AR01,    73,  1,      3,2,19980211,1038, 24.4997, -57.4002, 6313,   5277.9,   2.0180,  34.8490,  34.8480,2,    255.6,2,     255.0,2,    54.60,2,    22.08,2,     0.00,2,     1.56,2, -999.000,9, -999.000,9, -999.000,9, -999.000,9,   -999.0,9,  -999.00,9,   -999.0,9,   -999.0,9,-999.0000,9,  -999.0,9, -999.0, -999.00,9,  -999.0,  -999.0, -999.00,9
31RBOACES24N_2,  AR01,    73,  1,      2,2,19980211,1038, 24.4997, -57.4002, 6313,   5799.6,   2.0430,  34.8420,  34.8420,2,    253.1,2,     252.9,2,    57.30,2,    22.67,2,     0.00,2,     1.59,2, -999.000,9, -999.000,9, -999.000,9, -999.000,9,   -999.0,9,  -999.00,9,   -999.0,9,   -999.0,9,-999.0000,9,  -999.0,9, -999.0, -999.00,9,  -999.0,  -999.0, -999.00,9
31RBOACES24N_2,  AR01,    73,  1,      1,2,19980211,1038, 24.4997, -57.4002, 6313,   6392.4,   2.1220,  34.8420,  34.8420,2,    253.9,2,     253.3,2,    57.90,6,    22.67,6,     0.00,6,     1.60,6, -999.000,9, -999.000,9, -999.000,9, -999.000,9,   -999.0,9,  -999.00,9,   2202.2,2,   -999.0,9,   7.6967,2,   796.0,2,   20.0, -999.00,9,   362.4,  -999.0, -999.00,9