BOTTLE,20220820CCHSIOAMB
EXPOCODE,SECT_ID,STNNBR,CASTNO,BTLNBR,BTLNBR_FLAG_W,DATE,TIME,LATITUDE,LONGITUDE,DEPTH,CTDPRS,CTDTMP,CTDSAL,SALNTY,SALNTY_FLAG_W,CTDOXY,CTDOXY_FLAG_W,OXYGEN,OXYGEN_FLAG_W,SILCAT,SILCAT_FLAG_W,NITRAT,NITRAT_FLAG_W,NITRIT,NITRIT_FLAG_W,PHSPHT,PHSPHT_FLAG_W,CFC-11,CFC-11_FLAG_W,CFC-12,CFC-12_FLAG_W,CFC113,CFC113_FLAG_W,CCL4,CCL4_FLAG_W,DELC14,DELC14_FLAG_W,DELC13,DELC13_FLAG_W,TCARBN,TCARBN_FLAG_W,ALKALI,ALKALI_FLAG_W,PH,PH_FLAG_W,FCO2,FCO2_FLAG_W,FCO2TMP,TON,TON_FLAG_W,FCO2IN,C14ERR,TOC,TOC_FLAG_W
,,,,,,,,,,,DBAR,ITS-90,PSS-78,PSS-78,,UMOL/KG,,UMOL/KG,,UMOL/KG,,UMOL/KG,,UMOL/KG,,UMOL/KG,,PMOL/KG,,PMOL/KG,,PMOL/KG,,PMOL/KG,,/MILLE,,/MILLE,,UMOL/KG,,UMOL/KG,,,,UATM,,DEG C,UMOL/KG,,UATM,/MILLE,UMOL/KG,
31RBOACES24N_2,  AR01,    10,  1,     35,2,19980125,0936, 26.8325, -16.6675, 3622,     28.9,  20.5210,  36.8900,  36.8890,2,    222.2,2,     223.6,2,  -999.00,5,     0.10,2,     0.02,2,     0.01,2, -999.000,9, -999.000,9, -999.000,9, -999.000,9,   -999.0,9,     1.08,2,   2097.4,6,   2417.2,2,   8.0239,2,   351.1,2,   20.0, -999.00,9,   358.6,  -999.0,   65.01,2
31RBOACES24N_2,  AR01,    10,  1,     34,2,19980125,0936, 26.8325, -16.6675, 3622,     58.0,  20.5260,  36.8900,  36.8900,2,    221.8,2,     224.0,2,  -999.00,5,     0.10,2,     0.02,2,     0.01,2, -999.000,9, -999.000,9, -999.000,9, -999.000,9,   -999.0,9,  -999.00,9,   2098.0,2,   -999.0,9,   8.0217,2,   351.9,2,   20.0, -999.00,9,   359.5,  -999.0,   61.11,2
31RBOACES24N_2,  AR01,    10,  1,     33,2,19980125,0936, 26.8325, -16.6675, 3622,     83.4,  20.5280,  36.8890,  36.8900,2,    222.8,2,     223.6,2,  -999.00,5,     0.10,2,     0.02,2,     0.02,2, -999.000,9, -999.000,9, -999.000,9, -999.000,9,   -999.0,9,  -999.00,9,   2098.3,2,   2415.8,2,   8.0224,2,   353.2,2,   20.0, -999.00,9,   360.7,  -999.0,   65.88,2
31RBOACES24N_2,  AR01,    10,  1,     32,2,19980125,0936, 26.8325, -16.6675, 3622,    116.9,  19.8320,  36.7640,  36.7490,2,    221.7,2,     207.2,2,  -999.00,5,     2.24,2,     0.06,2,     0.15,2, -999.000,9, -999.000,9, -999.000,9, -999.000,9,   -999.0,9,  -999.00,9,   2113.5,2,   2409.9,2,   7.9868,2,   392.5,6,   20.0, -999.00,9,   389.9,  -999.0,   56.62,2
31RBOACES24N_2,  AR01,    10,  1,     31,2,19980125,0936, 26.8325, -16.6675, 3622,    159.5,  17.7440,  36.5310,  36.5300,2,    189.9,2,     194.2,2,  -999.00,5,     4.97,2,     0.01,2,     0.29,2, -999.000,9, -999.000,9, -999.000,9, -999.000,9,   -999.0,9,  -999.00,9,   2127.3,2,   -999.0,9,-999.0000,9,   437.0,2,   20.0, -999.00,9,   398.9,  -999.0,   51.83,2
31RBOACES24N_2,  AR01,    10,  1,     30,2,19980125,0936, 26.8325, -16.6675, 3622,    200.0,  16.7060,  36.3820,  36.3740,2,    194.7,2,     194.8,2,  -999.00,5,     6.15,2,     0.01,2,     0.36,2, -999.000,9, -999.000,9, -999.000,9, -999.000,9,   -999.0,9,  -999.00,9,   2129.1,2,   2378.1,2,   7.9233,2,   452.2,2,   20.0, -999.00,9,   395.6,  -999.0,   48.60,2
31RBOACES24N_2,  AR01,    10,  1,     29,2,19980125,0936, 26.8325, -16.6675, 3622,    248.8,  15.5380,  36.1900,  36.1960,2,    188.0,2,     185.9,2,  -999.00,5,     8.78,2,     0.00,2,     0.51,2, -999.000,9, -999.000,9, -999.000,9, -999.000,9,   -999.0,9,  -999.00,9,   2138.3,2,   2368.7,2,   7.8960,2,   493.5,2,   20.0, -999.00,9,   411.3,  -999.0, -999.00,9
31RBOACES24N_2,  AR01,    10,  1,     28,2,19980125,0936, 26.8325, -16.6675, 3622,    300.4,  14.2690,  35.9720,  35.9680,2,    166.5,2,     162.3,2,  -999.00,5,    13.56,2,     0.00,2,     0.80,2, -999.000,9, -999.000,9, -999.000,9, -999.000,9,   -999.0,9,  -999.00,9,   2159.1,2,   -999.0,9,-999.0000,5,   583.1,2,   20.0, -999.00,9,   461.3,  -999.0,   46.94,2
31RBOACES24N_2,  AR01,    10,  1,     27,2,19980125,0936, 26.8325, -16.6675, 3622,    348.8,  13.8040,  35.9130,  35.9140,2,    171.3,2,     171.5,2,  -999.00,5,    13.37,2,     0.00,2,     0.79,2, -999.000,9, -999.000,9, -999.000,9, -999.000,9,   -999.0,9,  -999.00,9,   2153.2,2,   2352.8,2,   7.8266,2,   580.9,2,   20.0, -999.00,9,   450.7,  -999.0, -999.00,9
31RBOACES24N_2,  AR01,    10,  1,     26,2,19980125,0936, 26.8325, -16.6675, 3622,    400.8,  13.1450,  35.8180,  35.8130,2,    174.0,2,     172.2,2,  -999.00,5,    14.54,2,     0.00,2,     0.86,2, -999.000,9, -999.000,9, -999.000,9, -999.000,9,   -999.0,9,  -999.00,9,   2156.2,2,   2346.7,2,   7.8102,2,   605.1,2,   20.0, -999.00,9,   456.7,  -999.0,   45.67,2
31RBOACES24N_2,  AR01,    10,  1,     25,2,19980125,0936, 26.8325, -16.6675, 3622,    450.9,  12.3640,  35.7090,  35.7050,2,    173.0,2,     172.7,2,  -999.00,5,    15.91,2,     0.00,2,     0.95,2, -999.000,9, -999.000,9, -999.000,9, -999.000,9,   -999.0,9,  -999.00,9,   2159.1,2,   -999.0,9,   7.7906,2,   642.0,2,   20.0, -999.00,9,   469.0,  -999.0, -999.00,9
31RBOACES24N_2,  AR01,    10,  1,     24,2,19980125,0936, 26.8325, -16.6675, 3622,    499.1,  11.6510,  35.6040,  35.6090,2,    167.2,2,     159.9,2,  -999.00,5,    18.54,2,     0.00,2,     1.12,2, -999.000,9, -999.000,9, -999.000,9, -999.000,9,   -999.0,9,  -999.00,9,   2170.2,2,   2339.4,2,   7.7572,2,   688.9,2,   20.0, -999.00,9,   488.5,  -999.0,   46.44,2
31RBOACES24N_2,  AR01,    10,  1,     23,2,19980125,0936, 26.8325, -16.6675, 3622,    548.8,  11.1340,  35.5320,  35.5300,2,    153.5,2,     149.8,2,  -999.00,5,    20.69,2,     0.00,2,     1.25,2, -999.000,9, -999.000,9, -999.000,9, -999.000,9,   -999.0,9,  -999.00,9,   2178.4,2,   -999.0,9,   7.7291,2,   742.4,2,   20.0, -999.00,9,   515.7,  -999.0, -999.00,9
31RBOACES24N_2,  AR01,    10,  1,     22,2,19980125,0936, 26.8325, -16.6675, 3622,    598.1,  10.6400,  35.4770,  35.4770,2,    146.9,2,     145.4,2,  -999.00,5,    21.77,2,     0.00,2,     1.34,2, -999.000,9, -999.000,9, -999.000,9, -999.000,9,   -999.0,9,  -999.00,9,   2183.3,2,   -999.0,9,   7.7141,2,   771.6,2,   20.0, -999.00,9,   524.7,  -999.0,   43.42,2
31RBOACES24N_2,  AR01,    10,  1,     21,2,19980125,0936, 26.8325, -16.6675, 3622,    649.8,  10.2820,  35.4510,  35.4490,2,    148.1,2,     145.0,2,  -999.00,5,    22.35,2,     0.00,2,     1.39,2, -999.000,9, -999.000,9, -999.000,9, -999.000,9,   -999.0,9,  -999.00,9,   2188.0,2,   2331.0,2,   7.7052,2,   793.1,2,   20.0, -999.00,9,   531.4,  -999.0, -999.00,9
31RBOACES24N_2,  AR01,    10,  1,     20,2,19980125,0936, 26.8325, -16.6675, 3622,    694.4,   9.6910,  35.3740,  35.3750,2,    141.3,2,     135.1,2,  -999.00,5,    24.50,2,     0.00,2,     1.54,2, -999.000,9, -999.000,9, -999.000,9, -999.000,9,   -999.0,9,  -999.00,9,   2199.1,6,   2331.5,2,   7.6767,2,   852.6,2,   20.0, -999.00,9,   557.8,  -999.0,   42.64,2
31RBOACES24N_2,  AR01,    10,  1,     19,2,19980125,0936, 26.8325, -16.6675, 3622,    749.0,   9.3000,  35.3490,  35.3490,2,    138.3,2,     136.8,2,  -999.00,5,    24.89,2,     0.00,2,     1.58,2, -999.000,9, -999.000,9, -999.000,9, -999.000,9,   -999.0,9,  -999.00,9,   2205.4,2,   -999.0,9,   7.6724,2,   867.4,2,   20.0, -999.00,9,   558.1,  -999.0, -999.00,9
31RBOACES24N_2,  AR01,    10,  1,     18,2,19980125,0936, 26.8325, -16.6675, 3622,    799.9,   8.7350,  35.3050,  35.3030,2,    134.9,2,     135.5,2,  -999.00,5,    25.87,2,     0.00,2,     1.64,2, -999.000,9, -999.000,9, -999.000,9, -999.000,9,   -999.0,9,  -999.00,9,   2204.4,2,   2332.9,2,   7.6629,2,   894.1,2,   20.0, -999.00,9,   561.8,  -999.0,   49.74,2
31RBOACES24N_2,  AR01,    10,  1,     17,2,19980125,0936, 26.8325, -16.6675, 3622,    900.6,   8.2750,  35.3180,  35.3120,2,    146.7,2,     145.7,2,  -999.00,5,    25.28,2,     0.00,2,     1.61,2, -999.000,9, -999.000,9, -999.000,9, -999.000,9,   -999.0,9,  -999.00,9,   2201.9,2,   2334.1,2,   7.6701,2,   877.9,2,   20.0, -999.00,9,   539.9,  -999.0, -999.00,9
31RBOACES24N_2,  AR01,    10,  1,     16,2,19980125,0936, 26.8325, -16.6675, 3622,   1000.1,   7.9290,  35.3460,  35.3460,2,    156.7,2,     158.4,2,  -999.00,5,    24.21,2,     0.00,2,     1.54,2, -999.000,9, -999.000,9, -999.000,9, -999.000,9,   -999.0,9,  -999.00,9,   2200.5,2,   -999.0,9,   7.6849,2,   822.5,2,   20.0, -999.00,9,   496.8,  -999.0,   42.43,2
31RBOACES24N_2,  AR01,    10,  1,     15,2,19980125,0936, 26.8325, -16.6675, 3622,   1098.5,   7.5910,  35.3620,  35.3630,2,    169.7,2,     168.9,2,  -999.00,5,    23.43,2,     0.00,2,     1.50,2, -999.000,9, -999.000,9, -999.000,9, -999.000,9,   -999.0,9,  -999.00,9,   2201.1,2,   2341.8,2,   7.6976,2,   795.7,2,   20.0, -999.00,9,   472.7,  -999.0, -999.00,9
31RBOACES24N_2,  AR01,    10,  1,     14,2,19980125,0936, 26.8325, -16.6675, 3622,   1198.1,   6.8290,  35.2870,  35.2880,2,    173.8,2,     173.4,2,  -999.00,5,    23.92,2,     0.00,2,     1.55,2, -999.000,9, -999.000,9, -999.000,9, -999.000,9,   -999.0,9,  -999.00,9,   2202.4,2,   2340.6,2,-999.0000,5,   813.8,2,   20.0, -999.00,9,   467.2,  -999.0,   42.52,2
31RBOACES24N_2,  AR01,    10,  1,     13,2,19980125,0936, 26.8325, -16.6675, 3622,   1298.2,   6.6020,  35.3040,  35.3040,2,    185.2,2,     184.1,2,  -999.00,5,    22.84,2,     0.00,2,     1.48,2, -999.000,9, -999.000,9, -999.000,9, -999.000,9,   -999.0,9,  -999.00,9,   2198.9,2,   -999.0,9,   7.7040,2,   781.0,2,   20.0, -999.00,9,   443.1,  -999.0, -999.00,9
31RBOACES24N_2,  AR01,    10,  1,     12,2,19980125,0936, 26.8325, -16.6675, 3622,   1399.1,   5.9570,  35.2380,  35.2370,2,    193.2,2,     191.3,2,  -999.00,5,    22.75,2,     0.00,2,     1.50,2, -999.000,9, -999.000,9, -999.000,9, -999.000,9,   -999.0,9,  -999.00,9,   2198.0,2,   2338.4,2,   7.7005,2,   802.6,2,   20.0, -999.00,9,   442.4,  -999.0,   42.13,2
31RBOACES24N_2,  AR01,    10,  1,     11,2,19980125,0936, 26.8325, -16.6675, 3622,   1500.5,   5.5910,  35.2130,  35.2160,2,    200.8,2,     199.4,2,  -999.00,5,    22.26,2,     0.00,2,     1.47,2, -999.000,9, -999.000,9, -999.000,9, -999.000,9,   -999.0,9,  -999.00,9,   2194.5,2,   -999.0,5,   7.7075,2,   794.4,2,   20.0, -999.00,9,   430.4,  -999.0, -999.00,9
31RBOACES24N_2,  AR01,    10,  1,     10,2,19980125,0936, 26.8325, -16.6675, 3622,   1600.1,   5.3090,  35.1920,  35.1910,2,    207.4,2,     204.9,2,  -999.00,5,    21.97,2,     0.00,2,     1.46,2, -999.000,9, -999.000,9, -999.000,9, -999.000,9,   -999.0,9,  -999.00,9,   2193.2,2,   -999.0,9,   7.7097,2,   777.4,2,   20.0, -999.00,9,   415.2,  -999.0,   42.42,2
31RBOACES24N_2,  AR01,    10,  1,      9,2,19980125,0936, 26.8325, -16.6675, 3622,   1799.0,   4.5330,  35.1100,  35.1110,2,    217.2,2,     215.5,2,  -999.00,5,    21.77,2,     0.00,2,     1.46,2, -999.000,9, -999.000,9, -999.000,9, -999.000,9,   -999.0,9,  -999.00,9,   2189.1,2,   2336.8,2,   7.7116,2,   785.9,2,   20.0, -999.00,9,   404.8,  -999.0, -999.00,9
31RBOACES24N_2,  AR01,    10,  1,      8,2,19980125,0936, 26.8325, -16.6675, 3622,   1998.7,   4.1470,  35.0740,  35.0740,2,    222.5,2,     221.3,2,  -999.00,5,    21.77,2,     0.00,2,     1.47,2, -999.000,9, -999.000,9, -999.000,9, -999.000,9,   -999.0,9,  -999.00,9,   2190.7,2,   2343.9,2,   7.7141,2,   774.8,2,   20.0, -999.00,9,   391.3,  -999.0,   42.32,2
31RBOACES24N_2,  AR01,    10,  1,      7,2,19980125,0936, 26.8325, -16.6675, 3622,   2201.0,   3.7630,  35.0360,  35.0350,2,    226.3,2,     225.4,2,  -999.00,5,    21.77,2,     0.00,2,     1.48,2, -999.000,9, -999.000,9, -999.000,9, -999.000,9,   -999.0,9,  -999.00,9,   2193.7,2,   -999.0,9,   7.7135,2,   775.8,2,   20.0, -999.00,9,   384.4,  -999.0, -999.00,9
31RBOACES24N_2,  AR01,    10,  1,      6,2,19980125,0936, 26.8325, -16.6675, 3622,   2450.4,   3.3270,  34.9900,  34.9910,2,    229.1,2,     228.7,2,  -999.00,5,    21.97,2,     0.00,2,     1.50,2, -999.000,9, -999.000,9, -999.000,9, -999.000,9,   -999.0,9,  -999.00,9,   2197.1,2,   2343.8,2,   7.7137,2,   777.9,2,   20.0, -999.00,9,   377.2,  -999.0,   41.83,2
31RBOACES24N_2,  AR01,    10,  1,      5,3,19980125,0936, 26.8325, -16.6675, 3622,   2632.8,   3.0720,  34.9660,  34.9640,2,    231.9,2,     230.1,2,  -999.00,5,    22.07,2,     0.00,2,     1.51,2, -999.000,9, -999.000,9, -999.000,9, -999.000,9,   -999.0,9,  -999.00,9,   2199.6,2,   -999.0,9,   7.7137,2,   777.6,2,   20.0, -999.00,9,   372.1,  -999.0, -999.00,9
31RBOACES24N_2,  AR01,    10,  1,      4,2,19980125,0936, 26.8325, -16.6675, 3622,   2947.3,   2.8100,  34.9400,  34.9390,2,    233.4,2,     231.9,2,  -999.00,5,    22.26,2,     0.00,2,     1.54,2, -999.000,9, -999.000,9, -999.000,9, -999.000,9,   -999.0,9,  -999.00,9,   2205.4,2,   -999.0,9,   7.7163,2,   776.2,2,   20.0, -999.00,9,   366.4,  -999.0,   41.64,2
31RBOACES24N_2,  AR01,    10,  1,      3,2,19980125,0936, 26.8325, -16.6675, 3622,   3147.2,   2.6890,  34.9290,  34.9290,2,    233.5,2,     232.7,2,  -999.00,5,    22.17,2,     0.00,2,     1.53,2, -999.000,9, -999.000,9, -999.000,9, -999.000,9,   -999.0,9,  -999.00,9,   2209.0,2,   2359.5,2,-999.0000,5,   775.2,2,   20.0, -999.00,9,   363.6,  -999.0,   41.25,2
31RBOACES24N_2,  AR01,    10,  1,      2,2,19980125,0936, 26.8325, -16.6675, 3622,   3391.7,   2.5870,  34.9180,  34.9180,2,    233.0,2,     233.0,2,  -999.00,5,    22.56,2,     0.00,2,     1.54,2, -999.000,9, -999.000,9, -999.000,9, -999.000,9,   -999.0,9,  -999.00,9,   2214.6,2,   2364.0,2,   7.7186,2,   774.5,2,   20.0, -999.00,9,   361.4,  -999.0,   42.22,2
31RBOACES24N_2,  AR01,    10,  1,      1,2,19980125,0936, 26.8325, -16.6675, 3622,   3658.1,   2.5160,  34.9090,  34.9100,2,    234.2,2,     233.9,2,  -999.00,5,    22.56,6,     0.00,6,     1.55,6, -999.000,9, -999.000,9, -999.000,9, -999.000,9,   -999.0,9,  -999.00,9,   2215.3,2,   -999.0,9,   7.7177,2,   770.9,2,   20.0, -999.00,9,   358.3,  -999.0,   42.13,2