BOTTLE,20220820CCHSIOAMB
EXPOCODE,SECT_ID,STNNBR,CASTNO,BTLNBR,BTLNBR_FLAG_W,DATE,TIME,LATITUDE,LONGITUDE,DEPTH,CTDPRS,CTDTMP,CTDSAL,SALNTY,SALNTY_FLAG_W,CTDOXY,CTDOXY_FLAG_W,OXYGEN,OXYGEN_FLAG_W,SILCAT,SILCAT_FLAG_W,NITRAT,NITRAT_FLAG_W,NITRIT,NITRIT_FLAG_W,PHSPHT,PHSPHT_FLAG_W,CFC-11,CFC-11_FLAG_W,CFC-12,CFC-12_FLAG_W,CFC113,CFC113_FLAG_W,CCL4,CCL4_FLAG_W,DELC14,DELC14_FLAG_W,DELC13,DELC13_FLAG_W,TCARBN,TCARBN_FLAG_W,ALKALI,ALKALI_FLAG_W,PH,PH_FLAG_W,FCO2,FCO2_FLAG_W,FCO2TMP,TON,TON_FLAG_W,FCO2IN,C14ERR,TOC,TOC_FLAG_W
,,,,,,,,,,,DBAR,ITS-90,PSS-78,PSS-78,,UMOL/KG,,UMOL/KG,,UMOL/KG,,UMOL/KG,,UMOL/KG,,UMOL/KG,,PMOL/KG,,PMOL/KG,,PMOL/KG,,PMOL/KG,,/MILLE,,/MILLE,,UMOL/KG,,UMOL/KG,,,,UATM,,DEG C,UMOL/KG,,UATM,/MILLE,UMOL/KG,
31RBOACES24N_2,  AR01,    80,  1,     36,3,19980213,1345, 24.5003, -62.5337, 5866,      6.3,  24.8750,  36.6360,  36.6480,2,    206.1,2,     211.5,2,  -999.00,9,  -999.00,9,  -999.00,9,  -999.00,9,    1.807,2,    1.054,2,    0.155,2,    2.000,2,   -999.0,9,     1.34,2,   2023.7,6,   2401.0,6,   8.1186,6,   263.6,6,   20.0, -999.00,9,   319.3,  -999.0,   74.76,2
31RBOACES24N_2,  AR01,    80,  1,     35,2,19980213,1345, 24.5003, -62.5337, 5866,     49.8,  24.8870,  36.6510,  36.7690,2,    208.7,2,     210.6,2,     1.10,2,     0.10,2,     0.00,2,     0.01,2,    1.841,2,    1.067,2,    0.156,2,    1.797,2,   -999.0,9,  -999.00,9,   -999.0,9,   -999.0,9,-999.0000,9,  -999.0,9, -999.0, -999.00,9,  -999.0,  -999.0,   74.56,2
31RBOACES24N_2,  AR01,    80,  1,     34,2,19980213,1345, 24.5003, -62.5337, 5866,     70.9,  25.0700,  37.1740,  37.1840,2,    217.0,2,     219.7,2,     0.90,2,     0.00,2,     0.00,2,     0.01,2,    1.948,2,    1.098,2,    0.177,2, -999.000,9,   -999.0,9,  -999.00,9,   -999.0,9,   -999.0,9,-999.0000,9,  -999.0,9, -999.0, -999.00,9,  -999.0,  -999.0,   65.17,2
31RBOACES24N_2,  AR01,    80,  1,     33,2,19980213,1345, 24.5003, -62.5337, 5866,    151.8,  21.7670,  37.1330,  37.1270,2,    195.9,2,     195.6,2,     0.80,2,     0.68,2,     0.02,2,     0.02,2,    2.119,2,    1.209,2,    0.121,2,    0.822,6,   -999.0,9,  -999.00,9,   -999.0,9,   -999.0,9,-999.0000,9,  -999.0,9, -999.0, -999.00,9,  -999.0,  -999.0,   55.46,2
31RBOACES24N_2,  AR01,    80,  1,     32,2,19980213,1345, 24.5003, -62.5337, 5866,    199.1,  20.0310,  36.8650,  36.8610,2,    186.7,2,     188.8,2,     1.00,2,     1.85,2,     0.01,2,     0.06,2,    2.214,2,    1.245,2,    0.053,2, -999.000,9,   -999.0,9,  -999.00,9,   -999.0,9,   -999.0,9,-999.0000,9,  -999.0,9, -999.0, -999.00,9,  -999.0,  -999.0,   52.52,2
31RBOACES24N_2,  AR01,    80,  1,     31,2,19980213,1345, 24.5003, -62.5337, 5866,    220.1,  19.1290,  36.6850,  36.6780,2,    185.9,2,     199.9,2,     1.10,2,     1.85,2,     0.01,2,     0.06,2,    2.316,2,    1.296,2,    0.053,2, -999.000,9,   -999.0,9,  -999.00,9,   -999.0,9,   -999.0,9,-999.0000,9,  -999.0,9, -999.0, -999.00,9,  -999.0,  -999.0,   51.16,2
31RBOACES24N_2,  AR01,    80,  1,     30,2,19980213,1345, 24.5003, -62.5337, 5866,    250.6,  18.6150,  36.6110,  36.6060,2,    190.9,2,     203.6,2,     1.30,2,     2.83,2,     0.01,2,     0.11,2,    2.354,2,    1.324,2,    0.050,2,    0.516,2,   -999.0,9,  -999.00,9,   -999.0,9,   -999.0,9,-999.0000,9,  -999.0,9, -999.0, -999.00,9,  -999.0,  -999.0, -999.00,9
31RBOACES24N_2,  AR01,    80,  1,     29,2,19980213,1345, 24.5003, -62.5337, 5866,    270.1,  18.3900,  36.5770,  36.5770,2,    195.3,2,     204.6,2,     1.40,2,     3.03,2,     0.00,2,     0.13,2, -999.000,9, -999.000,9, -999.000,9, -999.000,9,   -999.0,9,  -999.00,9,   -999.0,9,   -999.0,9,-999.0000,9,  -999.0,9, -999.0, -999.00,9,  -999.0,  -999.0,   48.71,2
31RBOACES24N_2,  AR01,    80,  1,     28,2,19980213,1345, 24.5003, -62.5337, 5866,    300.9,  18.1290,  36.5420,  36.5380,2,    196.7,2,     203.2,2,     1.70,2,     3.90,2,     0.00,2,     0.18,2,    2.326,6,    1.284,6,    0.039,6, -999.000,9,   -999.0,9,  -999.00,9,   -999.0,9,   -999.0,9,-999.0000,9,  -999.0,9, -999.0, -999.00,9,  -999.0,  -999.0, -999.00,9
31RBOACES24N_2,  AR01,    80,  1,     27,2,19980213,1345, 24.5003, -62.5337, 5866,    351.3,  17.8130,  36.4950,  36.4960,2,    193.7,2,     198.4,2,     1.90,2,     4.88,2,     0.00,2,     0.23,2,    2.273,2,    1.240,2,    0.024,2, -999.000,9,   -999.0,9,  -999.00,9,   -999.0,9,   -999.0,9,-999.0000,9,  -999.0,9, -999.0, -999.00,9,  -999.0,  -999.0,   47.25,2
31RBOACES24N_2,  AR01,    80,  1,     26,2,19980213,1345, 24.5003, -62.5337, 5866,    399.5,  17.3040,  36.4220,  36.4210,2,    187.9,2,     186.7,2,     2.20,2,     6.73,2,     0.00,2,     0.35,2,    2.205,2,    1.191,2,    0.021,2, -999.000,9,   -999.0,9,  -999.00,9,   -999.0,9,   -999.0,9,-999.0000,9,  -999.0,9, -999.0, -999.00,9,  -999.0,  -999.0, -999.00,9
31RBOACES24N_2,  AR01,    80,  1,     25,2,19980213,1345, 24.5003, -62.5337, 5866,    450.7,  16.4650,  36.2860,  36.2780,2,    177.7,2,     176.5,2,     3.00,2,     9.08,2,     0.00,2,     0.50,2, -999.000,9, -999.000,9, -999.000,9, -999.000,9,   -999.0,9,  -999.00,9,   -999.0,9,   -999.0,9,-999.0000,9,  -999.0,9, -999.0, -999.00,9,  -999.0,  -999.0,   42.76,2
31RBOACES24N_2,  AR01,    80,  1,     24,2,19980213,1345, 24.5003, -62.5337, 5866,    499.4,  15.4460,  36.1110,  36.1110,2,    179.7,2,     178.1,2,     3.60,2,    10.35,2,     0.00,2,     0.58,2,    1.988,2,    1.048,2,    0.032,2,    0.395,2,   -999.0,9,  -999.00,9,   -999.0,9,   -999.0,9,-999.0000,9,  -999.0,9, -999.0, -999.00,9,  -999.0,  -999.0, -999.00,9
31RBOACES24N_2,  AR01,    80,  1,     23,2,19980213,1345, 24.5003, -62.5337, 5866,    599.4,  13.6580,  35.8260,  35.8300,2,    168.7,2,     168.3,2,     5.60,2,    14.16,2,     0.00,2,     0.83,2,    1.588,2,    0.814,2,    0.013,2, -999.000,9,   -999.0,9,  -999.00,9,   -999.0,9,   -999.0,9,-999.0000,9,  -999.0,9, -999.0, -999.00,9,  -999.0,  -999.0,   43.43,2
31RBOACES24N_2,  AR01,    80,  1,     22,2,19980213,1345, 24.5003, -62.5337, 5866,    700.8,  11.8550,  35.5700,  35.5720,2,    159.6,2,     160.9,2,     8.30,2,    17.97,2,     0.00,2,     1.10,2,    1.023,2,    0.532,2,    0.021,2, -999.000,9,   -999.0,9,  -999.00,9,   -999.0,9,   -999.0,9,-999.0000,9,  -999.0,9, -999.0, -999.00,9,  -999.0,  -999.0, -999.00,9
31RBOACES24N_2,  AR01,    80,  1,     21,2,19980213,1345, 24.5003, -62.5337, 5866,    800.1,   9.7880,  35.2990,  35.3030,2,    149.4,2,     149.0,2,    12.90,2,    22.66,2,     0.00,2,     1.45,2,    0.451,2,    0.239,2,    0.008,2, -999.000,9,   -999.0,9,  -999.00,9,   -999.0,9,   -999.0,9,-999.0000,9,  -999.0,9, -999.0, -999.00,9,  -999.0,  -999.0,   46.63,2
31RBOACES24N_2,  AR01,    80,  1,     20,2,19980213,1345, 24.5003, -62.5337, 5866,    850.0,   8.9650,  35.2110,  35.2120,2,    145.9,2,     148.6,2,    14.70,2,    24.03,2,     0.00,2,     1.56,2,    0.321,2,    0.173,2,    0.006,2,    0.168,2,   -999.0,9,  -999.00,9,   -999.0,9,   -999.0,9,-999.0000,9,  -999.0,9, -999.0, -999.00,9,  -999.0,  -999.0, -999.00,9
31RBOACES24N_2,  AR01,    80,  1,     19,2,19980213,1345, 24.5003, -62.5337, 5866,    898.4,   8.2100,  35.1200,  35.1210,2,    144.5,2,     146.6,2,    16.70,2,    25.59,2,     0.00,2,     1.68,2, -999.000,9, -999.000,9, -999.000,9, -999.000,9,   -999.0,9,  -999.00,9,   -999.0,9,   -999.0,9,-999.0000,9,  -999.0,9, -999.0, -999.00,9,  -999.0,  -999.0, -999.00,9
31RBOACES24N_2,  AR01,    80,  1,     18,2,19980213,1345, 24.5003, -62.5337, 5866,    950.5,   7.3890,  35.0330,  35.0300,2,    154.2,2,     151.3,2,    18.60,2,    26.08,2,     0.00,2,     1.75,2,    0.173,2,    0.092,2,    0.006,2, -999.000,9,   -999.0,9,  -999.00,9,   -999.0,9,   -999.0,9,-999.0000,9,  -999.0,9, -999.0, -999.00,9,  -999.0,  -999.0, -999.00,9
31RBOACES24N_2,  AR01,    80,  1,     17,2,19980213,1345, 24.5003, -62.5337, 5866,   1051.0,   6.5860,  35.0220,  35.0210,2,    176.1,2,     171.7,6,    18.30,2,    24.52,2,     0.00,2,     1.66,2,    0.202,2,    0.109,2,    0.006,2, -999.000,9,   -999.0,9,  -999.00,9,   -999.0,9,   -999.0,9,-999.0000,9,  -999.0,9, -999.0, -999.00,9,  -999.0,  -999.0, -999.00,9
31RBOACES24N_2,  AR01,    80,  1,     16,2,19980213,1345, 24.5003, -62.5337, 5866,   1150.2,   6.0290,  35.0600,  35.0610,2,    201.6,2,     198.8,2,    16.10,2,    21.69,2,     0.00,2,     1.47,2,    0.290,2,    0.154,2,    0.012,2,    0.487,2,   -999.0,9,  -999.00,9,   -999.0,9,   -999.0,9,-999.0000,9,  -999.0,9, -999.0, -999.00,9,  -999.0,  -999.0, -999.00,9
31RBOACES24N_2,  AR01,    80,  1,     15,2,19980213,1345, 24.5003, -62.5337, 5866,   1339.3,   5.2050,  35.0780,  35.0780,2,    235.3,2,     233.4,2,    14.10,2,    19.05,2,     0.00,2,     1.28,2,    0.380,2,    0.181,2,    0.016,2, -999.000,9,   -999.0,9,  -999.00,9,   -999.0,9,   -999.0,9,-999.0000,9,  -999.0,9, -999.0, -999.00,9,  -999.0,  -999.0,   41.84,2
31RBOACES24N_2,  AR01,    80,  1,     14,2,19980213,1345, 24.5003, -62.5337, 5866,   1550.8,   4.4750,  35.0420,  35.0430,2,    250.2,2,     253.0,2,    13.90,2,    18.27,2,     0.00,2,     1.22,2,    0.374,2,    0.194,2,    0.013,2, -999.000,9,   -999.0,9,  -999.00,9,   -999.0,9,   -999.0,9,-999.0000,9,  -999.0,9, -999.0, -999.00,9,  -999.0,  -999.0, -999.00,9
31RBOACES24N_2,  AR01,    80,  1,     13,2,19980213,1345, 24.5003, -62.5337, 5866,   1748.3,   4.0980,  35.0190,  35.0190,2,    258.3,2,     260.0,2,    14.80,2,    17.98,2,     0.00,2,     1.20,2,    0.309,2,    0.165,2,    0.009,2,    0.943,6,   -999.0,9,  -999.00,9,   -999.0,9,   -999.0,9,-999.0000,9,  -999.0,9, -999.0, -999.00,9,  -999.0,  -999.0, -999.00,9
31RBOACES24N_2,  AR01,    80,  1,     12,2,19980213,1345, 24.5003, -62.5337, 5866,   1949.8,   3.8560,  35.0160,  35.0160,2,    257.9,2,     258.5,2,    17.70,2,    18.37,2,     0.00,2,     1.23,2,    0.112,2,    0.060,2,    0.011,2, -999.000,9,   -999.0,9,  -999.00,9,   -999.0,9,   -999.0,9,-999.0000,9,  -999.0,9, -999.0, -999.00,9,  -999.0,  -999.0, -999.00,9
31RBOACES24N_2,  AR01,    80,  1,     11,2,19980213,1345, 24.5003, -62.5337, 5866,   2200.2,   3.4640,  34.9860,  34.9870,2,    260.1,2,     248.9,4,    20.10,2,    18.37,2,     0.00,2,     1.24,2,    0.073,2,    0.042,2,    0.006,2, -999.000,9,   -999.0,9,  -999.00,9,   -999.0,9,   -999.0,9,-999.0000,9,  -999.0,9, -999.0, -999.00,9,  -999.0,  -999.0, -999.00,9
31RBOACES24N_2,  AR01,    80,  1,     10,2,19980213,1345, 24.5003, -62.5337, 5866,   2449.9,   3.1860,  34.9670,  34.9670,2,    259.3,2,     263.8,2,    23.10,2,    18.56,2,     0.00,2,     1.27,2,    0.074,2,    0.039,2,    0.007,2,    0.388,2,   -999.0,9,  -999.00,9,   -999.0,9,   -999.0,9,-999.0000,9,  -999.0,9, -999.0, -999.00,9,  -999.0,  -999.0, -999.00,9
31RBOACES24N_2,  AR01,    80,  1,      9,2,19980213,1345, 24.5003, -62.5337, 5866,   2693.8,   3.0020,  34.9540,  34.9540,2,    260.3,2,     261.4,2,    26.30,2,    18.95,2,     0.00,2,     1.30,2,    0.047,2,    0.021,2,    0.011,2, -999.000,9,   -999.0,9,  -999.00,9,   -999.0,9,   -999.0,9,-999.0000,9,  -999.0,9, -999.0, -999.00,9,  -999.0,  -999.0, -999.00,9
31RBOACES24N_2,  AR01,    80,  1,      8,2,19980213,1345, 24.5003, -62.5337, 5866,   2999.4,   2.8000,  34.9380,  34.9370,2,    260.8,2,     261.8,2,    29.20,2,    19.25,2,     0.00,2,     1.32,2,    0.036,2,    0.022,2,    0.005,2,    0.207,2,   -999.0,9,  -999.00,9,   -999.0,9,   -999.0,9,-999.0000,9,  -999.0,9, -999.0, -999.00,9,  -999.0,  -999.0, -999.00,9
31RBOACES24N_2,  AR01,    80,  1,      7,2,19980213,1345, 24.5003, -62.5337, 5866,   3399.0,   2.5660,  34.9190,  34.9200,2,    268.5,2,     268.5,2,    28.10,2,    18.47,2,     0.00,2,     1.27,2,    0.148,2,    0.080,2,    0.011,2,    0.478,2,   -999.0,9,  -999.00,9,   -999.0,9,   -999.0,9,-999.0000,9,  -999.0,9, -999.0, -999.00,9,  -999.0,  -999.0, -999.00,9
31RBOACES24N_2,  AR01,    80,  1,      6,2,19980213,1345, 24.5003, -62.5337, 5866,   3799.8,   2.4050,  34.9050,  34.9050,2,    266.4,2,     267.5,2,    32.90,2,    18.95,2,     0.00,2,     1.32,2,    0.074,2,    0.039,2,    0.013,2,    0.332,2,   -999.0,9,  -999.00,9,   -999.0,9,   -999.0,9,-999.0000,9,  -999.0,9, -999.0, -999.00,9,  -999.0,  -999.0, -999.00,9
31RBOACES24N_2,  AR01,    80,  1,      5,2,19980213,1345, 24.5003, -62.5337, 5866,   4201.0,   2.3270,  34.8970,  34.8980,2,    268.1,2,     268.2,2,    33.90,2,    18.95,2,     0.00,2,     1.32,2,    0.090,2,    0.051,2,    0.009,2,    0.384,2,   -999.0,9,  -999.00,9,   -999.0,9,   -999.0,9,-999.0000,9,  -999.0,9, -999.0, -999.00,9,  -999.0,  -999.0, -999.00,9
31RBOACES24N_2,  AR01,    80,  1,      4,2,19980213,1345, 24.5003, -62.5337, 5866,   4599.0,   2.2810,  34.8890,  34.8900,2,    267.2,2,     267.4,2,    36.10,2,    19.25,2,     0.00,2,     1.34,2,    0.090,2,    0.049,2,    0.012,2,    0.427,2,   -999.0,9,  -999.00,9,   -999.0,9,   -999.0,9,-999.0000,9,  -999.0,9, -999.0, -999.00,9,  -999.0,  -999.0, -999.00,9
31RBOACES24N_2,  AR01,    80,  1,      3,2,19980213,1345, 24.5003, -62.5337, 5866,   4998.2,   2.2280,  34.8790,  34.8790,2,    265.7,2,     264.7,2,    40.70,2,    19.93,2,     0.00,2,     1.39,2,    0.110,2,    0.064,2,    0.014,2,    0.413,2,   -999.0,9,  -999.00,9,   -999.0,9,   -999.0,9,-999.0000,9,  -999.0,9, -999.0, -999.00,9,  -999.0,  -999.0, -999.00,9
31RBOACES24N_2,  AR01,    80,  1,      2,2,19980213,1345, 24.5003, -62.5337, 5866,   5499.6,   2.0560,  34.8480,  34.8490,2,    254.8,2,     255.4,2,    54.80,2,    22.28,2,     0.00,2,     1.55,2,    0.029,2,    0.024,2,    0.013,2,    0.191,2,   -999.0,9,  -999.00,9,   -999.0,9,   -999.0,9,-999.0000,9,  -999.0,9, -999.0, -999.00,9,  -999.0,  -999.0, -999.00,9
31RBOACES24N_2,  AR01,    80,  1,      1,2,19980213,1345, 24.5003, -62.5337, 5866,   5968.3,   2.0700,  34.8420,  34.8420,2,    252.4,2,     253.7,2,    57.70,6,    22.77,6,     0.00,6,     1.59,6,    0.031,2,    0.026,2,    0.013,2,    0.230,2,   -999.0,9,  -999.00,9,   -999.0,9,   -999.0,9,-999.0000,9,  -999.0,9, -999.0, -999.00,9,  -999.0,  -999.0, -999.00,9