BOTTLE,20220820CCHSIOAMB
EXPOCODE,SECT_ID,STNNBR,CASTNO,BTLNBR,BTLNBR_FLAG_W,DATE,TIME,LATITUDE,LONGITUDE,DEPTH,CTDPRS,CTDTMP,CTDSAL,SALNTY,SALNTY_FLAG_W,CTDOXY,CTDOXY_FLAG_W,OXYGEN,OXYGEN_FLAG_W,SILCAT,SILCAT_FLAG_W,NITRAT,NITRAT_FLAG_W,NITRIT,NITRIT_FLAG_W,PHSPHT,PHSPHT_FLAG_W,CFC-11,CFC-11_FLAG_W,CFC-12,CFC-12_FLAG_W,CFC113,CFC113_FLAG_W,CCL4,CCL4_FLAG_W,DELC14,DELC14_FLAG_W,DELC13,DELC13_FLAG_W,TCARBN,TCARBN_FLAG_W,ALKALI,ALKALI_FLAG_W,PH,PH_FLAG_W,FCO2,FCO2_FLAG_W,FCO2TMP,TON,TON_FLAG_W,FCO2IN,C14ERR,TOC,TOC_FLAG_W
,,,,,,,,,,,DBAR,ITS-90,PSS-78,PSS-78,,UMOL/KG,,UMOL/KG,,UMOL/KG,,UMOL/KG,,UMOL/KG,,UMOL/KG,,PMOL/KG,,PMOL/KG,,PMOL/KG,,PMOL/KG,,/MILLE,,/MILLE,,UMOL/KG,,UMOL/KG,,,,UATM,,DEG C,UMOL/KG,,UATM,/MILLE,UMOL/KG,
31RBOACES24N_2,  AR01,    78,  1,     36,2,19980212,2328, 24.4997, -61.0667, 5866,      6.8,  24.4130,  36.8190,  36.8180,2,    214.0,2,     212.7,2,     1.00,2,     0.00,2,     0.00,2,     0.00,2,    1.856,2,    1.082,2,    0.158,2, -999.000,9,   -999.0,9,  -999.00,9,   2035.3,6,   2404.4,2,   8.1146,2,   269.0,2,   20.0, -999.00,9,   320.2,  -999.0,   74.45,2
31RBOACES24N_2,  AR01,    78,  1,     35,2,19980212,2328, 24.4997, -61.0667, 5866,     46.5,  24.4150,  36.8210,  36.8210,2,    211.6,2,     212.6,2,     0.90,2,     0.00,2,     0.00,2,     0.01,2,    1.860,2,    1.078,2,    0.154,2, -999.000,9,   -999.0,9,  -999.00,9,   2035.5,2,   -999.0,5,   8.1167,2,   267.3,3,   20.0, -999.00,9,   318.2,  -999.0,   73.96,2
31RBOACES24N_2,  AR01,    78,  1,     34,2,19980212,2328, 24.4997, -61.0667, 5866,     94.9,  23.4330,  37.1810,  37.1860,2,    221.9,2,     218.6,2,     0.60,2,     0.00,2,     0.00,2,     0.01,2,    2.047,2,    1.163,2,    0.210,2, -999.000,9,   -999.0,9,  -999.00,9,   2073.9,2,   -999.0,5,   8.0786,2,   299.6,2,   20.0, -999.00,9,   343.1,  -999.0,   66.99,2
31RBOACES24N_2,  AR01,    78,  1,     33,2,19980212,2328, 24.4997, -61.0667, 5866,    130.9,  22.2380,  37.1760,  37.1730,2,    211.7,2,     213.8,2,     0.50,2,     0.00,2,     0.08,2,     0.02,2,    2.137,2,    1.220,2,    0.162,2, -999.000,9,   -999.0,9,  -999.00,9,   2083.6,2,   2424.5,2,   8.0575,2,   318.0,3,   20.0, -999.00,9,   347.6,  -999.0,   62.88,2
31RBOACES24N_2,  AR01,    78,  1,     32,2,19980212,2328, 24.4997, -61.0667, 5866,    172.3,  20.6690,  36.9430,  36.9360,2,    201.5,2,     203.9,2,     0.60,2,     0.59,2,     0.02,2,     0.03,2,    2.238,2,    1.270,2,    0.140,2, -999.000,9,   -999.0,9,  -999.00,9,   2095.4,2,   2410.9,2,   8.0270,2,   351.2,2,   20.0, -999.00,9,   360.7,  -999.0,   56.62,2
31RBOACES24N_2,  AR01,    78,  1,     31,2,19980212,2328, 24.4997, -61.0667, 5866,    205.5,  19.6360,  36.7680,  36.7660,2,    200.5,2,     202.5,2,     0.80,2,     1.17,2,     0.01,2,     0.04,2,    2.281,2,    1.292,2,    0.088,2, -999.000,9,   -999.0,9,  -999.00,9,   2097.0,2,   2397.3,2,   8.0088,2,   370.8,2,   20.0, -999.00,9,   365.5,  -999.0,   54.08,2
31RBOACES24N_2,  AR01,    78,  1,     30,2,19980212,2328, 24.4997, -61.0667, 5866,    235.8,  18.9040,  36.6570,  36.6570,2,    199.9,2,     201.5,2,     0.90,2,     2.24,2,     0.01,2,     0.08,2,    2.336,2,    1.315,2,    0.046,2, -999.000,9,   -999.0,9,  -999.00,9,   2098.7,2,   2392.1,2,   7.9967,2,   374.0,2,   20.0, -999.00,9,   357.8,  -999.0,   50.86,2
31RBOACES24N_2,  AR01,    78,  1,     29,2,19980212,2328, 24.4997, -61.0667, 5866,    261.3,  18.4850,  36.5920,  36.5930,2,    202.3,2,     204.5,2,     1.00,2,     2.93,2,     0.00,2,     0.12,2,    2.358,2,    1.310,2,    0.040,2, -999.000,9,   -999.0,9,  -999.00,9,   2097.4,2,   2387.4,2,   7.9932,2,   375.1,3,   20.0, -999.00,9,   352.9,  -999.0,   49.69,2
31RBOACES24N_2,  AR01,    78,  1,     28,2,19980212,2328, 24.4997, -61.0667, 5866,    284.9,  18.2550,  36.5560,  36.5550,2,    204.3,2,     206.7,2,     1.10,2,     3.41,2,     0.00,2,     0.15,2,    2.350,2,    1.315,2,    0.038,2, -999.000,9,   -999.0,9,  -999.00,9,   2096.8,2,   2386.1,2,   7.9970,2,   379.3,2,   20.0, -999.00,9,   353.5,  -999.0, -999.00,9
31RBOACES24N_2,  AR01,    78,  1,     27,2,19980212,2328, 24.4997, -61.0667, 5866,    346.6,  17.9510,  36.5150,  36.5150,2,    207.2,2,     207.6,2,     1.30,2,     3.90,2,     0.00,2,     0.19,2,    2.338,6,    1.294,6,    0.035,6, -999.000,9,   -999.0,9,  -999.00,9,   2096.6,2,   2382.0,2,   7.9885,2,   386.0,3,   20.0, -999.00,9,   355.3,  -999.0,   50.85,2
31RBOACES24N_2,  AR01,    78,  1,     26,2,19980212,2328, 24.4997, -61.0667, 5866,    395.6,  17.4820,  36.4390,  36.4350,2,    202.5,2,     197.7,6,     1.80,2,     5.56,2,     0.00,2,     0.29,2,    2.254,2,    1.227,2,    0.031,2, -999.000,9,   -999.0,9,  -999.00,9,   2108.0,2,   2378.2,2,   7.9625,2,   413.1,2,   20.0, -999.00,9,   373.1,  -999.0, -999.00,9
31RBOACES24N_2,  AR01,    78,  1,     25,2,19980212,2328, 24.4997, -61.0667, 5866,    456.1,  16.4930,  36.2790,  36.2790,2,    193.2,2,     190.5,2,     2.30,2,     7.61,2,     0.00,2,     0.42,2,    2.181,2,    1.175,2,    0.026,2, -999.000,9,   -999.0,9,  -999.00,9,   2120.3,2,   2369.0,2,   7.9261,2,   449.5,2,   20.0, -999.00,9,   389.9,  -999.0,   44.32,2
31RBOACES24N_2,  AR01,    78,  1,     24,2,19980212,2328, 24.4997, -61.0667, 5866,    503.7,  15.6410,  36.1390,  36.1380,2,    188.0,2,     184.7,2,     3.10,2,     9.47,2,     0.00,2,     0.54,2,    2.091,2,    1.112,2,    0.022,2, -999.000,9,   -999.0,9,  -999.00,9,   2129.1,2,   2363.7,2,   7.8951,2,   483.6,2,   20.0, -999.00,9,   404.8,  -999.0, -999.00,9
31RBOACES24N_2,  AR01,    78,  1,     23,2,19980212,2328, 24.4997, -61.0667, 5866,    606.1,  13.7990,  35.8480,  35.8480,2,    168.3,2,     168.7,2,     5.20,2,    13.86,2,     0.00,2,     0.84,2,    1.599,2,    0.830,2,    0.020,2, -999.000,9,   -999.0,9,  -999.00,9,   2147.7,2,   2347.2,2,   7.8322,2,   567.0,2,   20.0, -999.00,9,   439.6,  -999.0,   43.92,2
31RBOACES24N_2,  AR01,    78,  1,     22,2,19980212,2328, 24.4997, -61.0667, 5866,    707.1,  11.7440,  35.5490,  35.5470,2,    158.9,2,     158.7,2,     8.60,2,    18.36,2,     0.00,2,     1.14,2,    0.958,2,    0.500,2,    0.013,2, -999.000,9,   -999.0,9,  -999.00,9,   2164.4,2,   -999.0,5,   7.7683,2,   673.8,2,   20.0, -999.00,9,   479.9,  -999.0, -999.00,9
31RBOACES24N_2,  AR01,    78,  1,     21,2,19980212,2328, 24.4997, -61.0667, 5866,    801.0,  10.1200,  35.3490,  35.3490,2,    152.2,2,     152.3,2,    11.80,2,    21.78,2,     0.00,2,     1.39,2,    0.540,2,    0.285,2,    0.006,2, -999.000,9,   -999.0,9,  -999.00,9,   2178.9,2,   2326.7,2,   7.7186,2,   764.0,2,   20.0, -999.00,9,   508.2,  -999.0,   42.35,2
31RBOACES24N_2,  AR01,    78,  1,     20,2,19980212,2328, 24.4997, -61.0667, 5866,    902.8,   8.3150,  35.1240,  35.1230,2,    145.4,2,     145.7,2,    16.40,2,    25.59,2,     0.00,2,     1.68,2,    0.225,2,    0.124,2,    0.006,2, -999.000,9,   -999.0,9,  -999.00,9,   2193.9,2,   2319.8,2,   7.6637,2,   881.2,2,   20.0, -999.00,9,   543.5,  -999.0, -999.00,9
31RBOACES24N_2,  AR01,    78,  1,     19,2,19980212,2328, 24.4997, -61.0667, 5866,   1004.3,   7.2210,  35.0460,  35.0470,2,    158.3,2,     155.0,2,    18.40,2,    26.18,2,     0.00,2,     1.74,2,    0.139,2,    0.078,2,    0.006,2, -999.000,9,   -999.0,9,  -999.00,9,   2197.1,2,   2318.0,2,   7.6522,2,   894.0,2,   20.0, -999.00,9,   525.1,  -999.0,   41.56,2
31RBOACES24N_2,  AR01,    78,  1,     18,2,19980212,2328, 24.4997, -61.0667, 5866,   1250.2,   5.6840,  35.0500,  35.0500,2,    208.9,2,     206.8,2,    16.20,2,    21.78,2,     0.00,2,     1.47,2,    0.222,2,    0.115,2,    0.003,2, -999.000,9,   -999.0,9,  -999.00,9,   2181.4,6,   2318.3,2,   7.6960,2,   802.0,2,   20.0, -999.00,9,   437.4,  -999.0, -999.00,9
31RBOACES24N_2,  AR01,    78,  1,     17,2,19980212,2328, 24.4997, -61.0667, 5866,   1450.3,   4.9950,  35.0580,  35.0580,2,    240.6,2,     239.7,2,    13.50,2,    18.85,2,     0.00,2,     1.27,2,    0.458,2,    0.240,2,    0.013,2, -999.000,9,   -999.0,9,  -999.00,9,   2169.7,2,   2315.8,2,   7.7241,2,   747.5,2,   20.0, -999.00,9,   393.9,  -999.0,   41.94,2
31RBOACES24N_2,  AR01,    78,  1,     16,2,19980212,2328, 24.4997, -61.0667, 5866,   1647.0,   4.5130,  35.0490,  35.0500,2,    252.0,2,     250.8,2,    14.10,2,    18.36,2,     0.00,2,     1.24,2,    0.219,6,    0.122,6,    0.008,6, -999.000,9,   -999.0,9,  -999.00,9,   2165.9,2,   2317.4,2,   7.7358,2,   727.8,2,   20.0, -999.00,9,   374.5,  -999.0, -999.00,9
31RBOACES24N_2,  AR01,    78,  1,     15,2,19980212,2328, 24.4997, -61.0667, 5866,   1849.9,   4.1550,  35.0370,  35.0370,2,    255.3,2,     255.2,2,    15.90,2,    18.36,2,     0.00,2,     1.24,2,    0.101,2,    0.056,2,    0.005,2, -999.000,9,   -999.0,9,  -999.00,9,   2165.4,2,   2317.9,2,   7.7429,2,   715.5,2,   20.0, -999.00,9,   361.5,  -999.0,   41.54,2
31RBOACES24N_2,  AR01,    78,  1,     14,2,19980212,2328, 24.4997, -61.0667, 5866,   2050.5,   3.7960,  35.0220,  35.0230,2,    254.7,2,     255.1,2,    19.80,2,    18.75,2,     0.00,2,     1.28,2,    0.039,2,    0.025,2,    0.006,2, -999.000,9,   -999.0,9,  -999.00,9,   2169.4,2,   2323.3,2,   7.7404,2,  -999.0,9, -999.0, -999.00,9,  -999.0,  -999.0, -999.00,9
31RBOACES24N_2,  AR01,    78,  1,     13,2,19980212,2328, 24.4997, -61.0667, 5866,   2250.0,   3.4390,  34.9930,  34.9940,2,    256.3,2,     256.7,2,    23.10,2,    19.05,2,     0.00,2,     1.30,2,    0.015,2,    0.009,2,   -0.003,2, -999.000,9,   -999.0,9,  -999.00,9,   2171.8,2,   2321.6,2,   7.7391,2,   722.5,2,   20.0, -999.00,9,   352.3,  -999.0,   41.83,2
31RBOACES24N_2,  AR01,    78,  1,     12,2,19980212,2328, 24.4997, -61.0667, 5866,   2452.0,   3.2400,  34.9750,  34.9760,2,    256.4,2,     257.3,2,    25.70,2,    19.14,2,     0.00,2,     1.32,2,    0.012,2,    0.007,2,    0.005,2, -999.000,9,   -999.0,9,  -999.00,9,   2174.6,2,   -999.0,9,   7.7387,2,  -999.0,9, -999.0, -999.00,9,  -999.0,  -999.0, -999.00,9
31RBOACES24N_2,  AR01,    78,  1,     11,2,19980212,2328, 24.4997, -61.0667, 5866,   2600.2,   3.1050,  34.9650,  34.9650,2,    255.2,2,     257.2,2,    27.70,2,    19.34,2,     0.00,2,     1.33,2,    0.009,2,    0.008,2,   -0.002,2, -999.000,9,   -999.0,9,  -999.00,9,   2176.5,2,   2329.6,2,   7.7379,2,   717.5,2,   20.0, -999.00,9,   343.7,  -999.0,   41.74,2
31RBOACES24N_2,  AR01,    78,  1,     10,2,19980212,2328, 24.4997, -61.0667, 5866,   2846.7,   2.9220,  34.9490,  34.9490,2,    256.6,2,     257.4,2,    30.30,2,    19.44,2,     0.00,2,     1.35,2,    0.004,2,    0.003,2,    0.001,2, -999.000,9,   -999.0,9,  -999.00,9,   2178.5,2,   -999.0,9,   7.7345,2,   724.8,2,   20.0, -999.00,9,   344.1,  -999.0, -999.00,9
31RBOACES24N_2,  AR01,    78,  1,      9,2,19980212,2328, 24.4997, -61.0667, 5866,   3047.6,   2.7900,  34.9370,  34.9370,2,    259.4,2,     259.7,2,    31.40,2,    19.54,2,     0.00,2,     1.36,2,    0.008,2,    0.005,2,   -0.004,2,    0.161,2,   -999.0,9,  -999.00,9,   2177.6,2,   2332.1,2,   7.7369,2,   722.4,2,   20.0, -999.00,9,   340.6,  -999.0,   41.83,2
31RBOACES24N_2,  AR01,    78,  1,      8,2,19980212,2328, 24.4997, -61.0667, 5866,   3350.5,   2.6210,  34.9230,  34.9230,2,    263.7,2,     263.5,2,    31.30,2,    19.15,2,     0.00,2,     1.33,2,    0.039,2,    0.021,2,    0.003,2, -999.000,9,   -999.0,9,  -999.00,9,   2177.0,2,   -999.0,9,   7.7385,2,   721.5,2,   20.0, -999.00,9,   337.4,  -999.0, -999.00,9
31RBOACES24N_2,  AR01,    78,  1,      7,2,19980212,2328, 24.4997, -61.0667, 5866,   3644.0,   2.4690,  34.9110,  34.9110,2,    266.2,2,     266.7,2,    31.90,2,    18.85,2,     0.00,2,     1.32,2,    0.065,2,    0.036,2,    0.006,2,    0.286,2,   -999.0,9,  -999.00,9,   2176.1,2,   2328.7,2,-999.0000,5,   715.2,2,   20.0, -999.00,9,   331.8,  -999.0,   41.74,2
31RBOACES24N_2,  AR01,    78,  1,      6,2,19980212,2328, 24.4997, -61.0667, 5866,   3950.9,   2.3560,  34.9020,  34.9010,2,    268.2,2,     268.9,2,    32.50,2,    18.76,2,     0.00,2,     1.31,2,    0.090,2,    0.048,2,    0.002,2,    0.385,2,   -999.0,9,  -999.00,9,   2176.4,2,   -999.0,9,   7.7363,2,   715.4,2,   20.0, -999.00,9,   330.1,  -999.0, -999.00,9
31RBOACES24N_2,  AR01,    78,  1,      5,2,19980212,2328, 24.4997, -61.0667, 5866,   4249.2,   2.2990,  34.8950,  34.8950,2,    268.8,2,     269.9,2,    33.30,2,    18.76,2,     0.00,2,     1.31,2,    0.111,2,    0.059,2,    0.004,2,    0.442,2,   -999.0,9,  -999.00,9,   2176.7,2,   2328.1,2,   7.7345,2,   721.6,2,   20.0, -999.00,9,   332.0,  -999.0,   41.64,2
31RBOACES24N_2,  AR01,    78,  1,      4,2,19980212,2328, 24.4997, -61.0667, 5866,   4550.3,   2.2720,  34.8900,  34.8900,2,    268.2,2,     268.3,2,    35.50,2,    19.05,2,     0.00,2,     1.34,2,    0.102,2,    0.059,2,    0.009,2,    0.455,2,   -999.0,9,  -999.00,9,   2179.3,2,   -999.0,9,   7.7334,2,   721.2,2,   20.0, -999.00,9,   331.2,  -999.0, -999.00,9
31RBOACES24N_2,  AR01,    78,  1,      3,2,19980212,2328, 24.4997, -61.0667, 5866,   4948.7,   2.1780,  34.8730,  34.8740,2,    262.6,2,     262.6,2,    44.30,2,    20.42,2,     0.00,2,     1.44,2,    0.047,2,    0.025,2,    0.004,2,    0.259,2,   -999.0,9,  -999.00,9,   2188.8,2,   2338.3,2,   7.7280,2,   746.7,2,   20.0, -999.00,9,   341.0,  -999.0,   41.83,2
31RBOACES24N_2,  AR01,    78,  1,      2,2,19980212,2328, 24.4997, -61.0667, 5866,   5449.4,   2.0320,  34.8470,  34.8480,2,    254.4,2,     254.6,2,    55.80,2,    22.27,2,     0.00,2,     1.57,2,    0.031,6,    0.023,6,    0.007,6,    0.194,2,   -999.0,9,  -999.00,9,   2201.3,2,   -999.0,9,   7.7100,2,   776.3,2,   20.0, -999.00,9,   351.7,  -999.0, -999.00,9
31RBOACES24N_2,  AR01,    78,  1,      1,2,19980212,2328, 24.4997, -61.0667, 5866,   5970.4,   2.0660,  34.8420,  34.8430,2,    253.0,2,     253.7,2,    58.00,6,    22.57,6,     0.00,6,     1.60,6,    0.031,2,    0.025,2,    0.002,2,    0.194,2,   -999.0,9,  -999.00,9,   2204.6,2,   2346.3,2,   7.7048,2,   789.9,2,   20.0, -999.00,9,   358.5,  -999.0,   41.64,2