BOTTLE,20220820CCHSIOAMB
EXPOCODE,SECT_ID,STNNBR,CASTNO,BTLNBR,BTLNBR_FLAG_W,DATE,TIME,LATITUDE,LONGITUDE,DEPTH,CTDPRS,CTDTMP,CTDSAL,SALNTY,SALNTY_FLAG_W,CTDOXY,CTDOXY_FLAG_W,OXYGEN,OXYGEN_FLAG_W,SILCAT,SILCAT_FLAG_W,NITRAT,NITRAT_FLAG_W,NITRIT,NITRIT_FLAG_W,PHSPHT,PHSPHT_FLAG_W,CFC-11,CFC-11_FLAG_W,CFC-12,CFC-12_FLAG_W,CFC113,CFC113_FLAG_W,CCL4,CCL4_FLAG_W,DELC14,DELC14_FLAG_W,DELC13,DELC13_FLAG_W,TCARBN,TCARBN_FLAG_W,ALKALI,ALKALI_FLAG_W,PH,PH_FLAG_W,FCO2,FCO2_FLAG_W,FCO2TMP,TON,TON_FLAG_W,FCO2IN,C14ERR,TOC,TOC_FLAG_W
,,,,,,,,,,,DBAR,ITS-90,PSS-78,PSS-78,,UMOL/KG,,UMOL/KG,,UMOL/KG,,UMOL/KG,,UMOL/KG,,UMOL/KG,,PMOL/KG,,PMOL/KG,,PMOL/KG,,PMOL/KG,,/MILLE,,/MILLE,,UMOL/KG,,UMOL/KG,,,,UATM,,DEG C,UMOL/KG,,UATM,/MILLE,UMOL/KG,
31RBOACES24N_2,  AR01,    90,  1,     36,2,19980216,1316, 25.0162, -69.5017, 5620,      3.5,  23.9800,  36.7230,  36.7220,2,    216.3,2,     213.5,2,     0.80,2,     0.10,2,     0.00,2,     0.00,2,    1.877,2,    1.080,2,    0.153,2, -999.000,9,   -999.0,9,     1.30,2,   2037.9,6,   -999.0,5,   8.1080,2,   278.5,2,   20.0, -999.00,9,   325.9,  -999.0,   69.08,2
31RBOACES24N_2,  AR01,    90,  1,     35,2,19980216,1316, 25.0162, -69.5017, 5620,     51.4,  23.7290,  36.7170,  36.7170,2,    212.5,2,     211.0,2,     0.80,2,     0.10,2,     0.00,2,     0.00,2,    1.910,2,    1.108,2,    0.154,2, -999.000,9,   -999.0,9,  -999.00,9,   2039.5,2,   2397.8,2,-999.0000,9,   275.4,2,   20.0, -999.00,9,   319.2,  -999.0,   70.05,2
31RBOACES24N_2,  AR01,    90,  1,     34,2,19980216,1316, 25.0162, -69.5017, 5620,     99.4,  23.4630,  36.6980,  36.7040,2,    213.4,2,     213.2,2,     0.80,2,     0.10,2,     0.00,2,     0.01,2,    1.932,2,    1.105,2,    0.165,2, -999.000,9,   -999.0,9,  -999.00,9,   2038.6,2,   -999.0,5,   8.1037,2,   276.3,2,   20.0, -999.00,9,   316.9,  -999.0,   67.02,2
31RBOACES24N_2,  AR01,    90,  1,     33,2,19980216,1316, 25.0162, -69.5017, 5620,    150.8,  21.8510,  36.9110,  36.9080,2,    203.3,2,     202.5,2,     0.50,2,     0.49,2,     0.04,2,     0.02,2,    2.139,2,    1.206,2,    0.132,2, -999.000,9,   -999.0,9,  -999.00,9,   2085.9,2,   -999.0,5,   8.0439,2,   331.9,2,   20.0, -999.00,9,   357.3,  -999.0,   53.23,2
31RBOACES24N_2,  AR01,    90,  1,     32,2,19980216,1316, 25.0162, -69.5017, 5620,    199.6,  19.5320,  36.7140,  36.7120,2,    197.4,2,     200.5,2,     0.70,2,     1.46,2,     0.01,2,     0.04,2,    2.288,2,    1.280,2,    0.076,2, -999.000,9,   -999.0,9,  -999.00,9,   2098.6,2,   2399.1,2,   8.0085,2,   366.9,2,   20.0, -999.00,9,   360.1,  -999.0,   49.80,2
31RBOACES24N_2,  AR01,    90,  1,     31,2,19980216,1316, 25.0162, -69.5017, 5620,    224.8,  19.0530,  36.6600,  36.6560,2,    193.9,2,     201.8,2,     0.80,2,     2.15,2,     0.01,2,     0.07,2,    2.298,2,    1.279,2,    0.051,2, -999.000,9,   -999.0,9,  -999.00,9,   2098.5,2,   -999.0,9,   8.0041,2,   371.9,2,   20.0, -999.00,9,   357.9,  -999.0,   48.13,2
31RBOACES24N_2,  AR01,    90,  1,     30,2,19980216,1316, 25.0162, -69.5017, 5620,    249.4,  18.6380,  36.6050,  36.6010,2,    195.8,2,     203.0,2,     1.00,2,     3.02,2,     0.01,2,     0.12,2,    2.337,2,    1.297,2,    0.043,2, -999.000,9,   -999.0,9,  -999.00,9,   2098.7,2,   -999.0,5,   7.9979,2,   377.6,2,   20.0, -999.00,9,   357.4,  -999.0,   46.77,2
31RBOACES24N_2,  AR01,    90,  1,     29,2,19980216,1316, 25.0162, -69.5017, 5620,    272.3,  18.4420,  36.5860,  36.5840,2,    201.9,2,     199.6,2,     1.10,2,     3.71,2,     0.01,2,     0.15,2,    2.347,2,    1.296,2,    0.028,2, -999.000,9,   -999.0,9,  -999.00,9,   2102.9,2,   -999.0,9,   7.9879,2,  -999.0,9, -999.0, -999.00,9,  -999.0,  -999.0,   46.86,2
31RBOACES24N_2,  AR01,    90,  1,     28,2,19980216,1316, 25.0162, -69.5017, 5620,    298.1,  18.2250,  36.5580,  36.5600,2,    206.6,2,     199.3,2,     1.20,2,     4.20,2,     0.01,2,     0.19,2,    2.324,2,    1.272,2,    0.025,2, -999.000,9,   -999.0,9,  -999.00,9,   2103.6,2,   2398.1,2,   7.9796,2,   389.3,2,   20.0, -999.00,9,   362.3,  -999.0, -999.00,9
31RBOACES24N_2,  AR01,    90,  1,     27,2,19980216,1316, 25.0162, -69.5017, 5620,    350.9,  17.7860,  36.4890,  36.4860,2,    205.8,2,     197.6,2,     1.60,2,     5.27,2,     0.00,2,     0.25,2,    2.249,2,    1.218,2,    0.024,2, -999.000,9,   -999.0,9,  -999.00,9,   2108.1,2,   2396.2,2,   7.9702,2,  -999.0,9, -999.0, -999.00,9,  -999.0,  -999.0,   43.64,2
31RBOACES24N_2,  AR01,    90,  1,     26,2,19980216,1316, 25.0162, -69.5017, 5620,    399.4,  17.0960,  36.3690,  36.3670,2,    198.0,2,     190.9,2,     2.00,2,     6.93,2,     0.00,2,     0.36,2,    2.182,2,    1.164,2,    0.033,2, -999.000,9,   -999.0,9,  -999.00,9,   2117.3,2,   -999.0,5,   7.9443,2,   437.4,2,   20.0, -999.00,9,   389.0,  -999.0, -999.00,9
31RBOACES24N_2,  AR01,    90,  1,     25,2,19980216,1316, 25.0162, -69.5017, 5620,    450.5,  16.1120,  36.1970,  36.1890,2,    189.2,2,     185.3,2,     2.90,2,     9.08,2,     0.00,2,     0.50,2,    2.045,2,    1.079,2,    0.021,2, -999.000,9,   -999.0,9,  -999.00,9,   2126.8,2,   2387.5,2,-999.0000,9,  -999.0,9, -999.0, -999.00,9,  -999.0,  -999.0,   43.25,2
31RBOACES24N_2,  AR01,    90,  1,     24,2,19980216,1316, 25.0162, -69.5017, 5620,    501.3,  15.0170,  36.0220,  36.0170,2,    184.8,2,     178.7,2,     3.90,2,    11.32,2,     0.00,2,     0.65,2,    1.898,2,    0.983,2,    0.026,2, -999.000,9,   -999.0,9,  -999.00,9,   2136.3,2,   2370.7,2,   7.8771,2,   511.2,2,   20.0, -999.00,9,   417.3,  -999.0, -999.00,9
31RBOACES24N_2,  AR01,    90,  1,     23,2,19980216,1316, 25.0162, -69.5017, 5620,    550.5,  13.6340,  35.8150,  35.8220,2,    179.5,2,     173.8,2,     5.30,2,    13.96,2,     0.00,2,     0.82,2,    1.612,2,    0.833,2,    0.018,2, -999.000,9,   -999.0,9,  -999.00,9,   2148.4,2,   2349.1,2,   7.8377,2,  -999.0,9, -999.0, -999.00,9,  -999.0,  -999.0,   42.07,2
31RBOACES24N_2,  AR01,    90,  1,     22,2,19980216,1316, 25.0162, -69.5017, 5620,    604.6,  12.3610,  35.6020,  35.5950,2,    171.2,2,     147.0,2,     8.00,2,    19.04,2,     0.00,2,     1.15,2,    1.089,2,    0.559,2,    0.014,2, -999.000,9,   -999.0,9,  -999.00,9,   2172.3,2,   2347.3,2,   7.7628,2,   688.0,2,   20.0, -999.00,9,   503.4,  -999.0, -999.00,9
31RBOACES24N_2,  AR01,    90,  1,     21,2,19980216,1316, 25.0162, -69.5017, 5620,    650.1,  11.4920,  35.4830,  35.4810,2,    149.9,2,     146.0,2,     9.50,2,    20.60,2,     0.00,2,     1.27,2,    0.846,2,    0.438,2,    0.011,2, -999.000,9,   -999.0,9,  -999.00,9,   2176.7,2,   -999.0,9,-999.0000,9,  -999.0,9, -999.0, -999.00,9,  -999.0,  -999.0,   41.87,2
31RBOACES24N_2,  AR01,    90,  1,     20,2,19980216,1316, 25.0162, -69.5017, 5620,    691.6,  10.9620,  35.4110,  35.4130,2,    147.6,2,     144.0,2,    10.50,2,    21.68,2,     0.00,2,     1.35,2,    0.707,6,    0.363,6,    0.010,6, -999.000,9,   -999.0,9,  -999.00,9,   2179.2,2,   2332.1,2,   7.7262,2,   747.4,2,   20.0, -999.00,9,   515.3,  -999.0, -999.00,9
31RBOACES24N_2,  AR01,    90,  1,     19,2,19980216,1316, 25.0162, -69.5017, 5620,    750.3,  10.0500,  35.3280,  35.3270,2,    153.2,2,     149.6,2,    12.10,2,    22.56,2,     0.01,2,     1.42,2,    0.537,2,    0.280,2,    0.005,4, -999.000,9,   -999.0,9,  -999.00,9,   2182.5,2,   2328.4,2,   7.7138,2,   776.9,2,   20.0, -999.00,9,   515.4,  -999.0,   42.35,2
31RBOACES24N_2,  AR01,    90,  1,     18,2,19980216,1316, 25.0162, -69.5017, 5620,    848.8,   8.0930,  35.1030,  35.1040,2,    148.8,2,     149.6,2,    16.40,2,    25.78,2,     0.01,2,     1.67,2,    0.286,2,    0.149,2,    0.005,2, -999.000,9,   -999.0,9,  -999.00,9,   2195.9,2,   -999.0,9,   7.6653,2,   880.0,2,   20.0, -999.00,9,   537.3,  -999.0, -999.00,9
31RBOACES24N_2,  AR01,    90,  1,     17,2,19980216,1316, 25.0162, -69.5017, 5620,    899.8,   7.4000,  35.0820,  35.0860,2,    163.3,2,     163.1,2,    16.40,2,    24.81,2,     0.01,2,     1.63,2,    0.323,2,    0.163,2,    0.012,2, -999.000,9,   -999.0,9,  -999.00,9,   2192.6,2,   2323.9,2,   7.6706,2,   872.1,2,   20.0, -999.00,9,   516.0,  -999.0,   40.98,2
31RBOACES24N_2,  AR01,    90,  1,     16,2,19980216,1316, 25.0162, -69.5017, 5620,   1001.2,   6.4300,  35.0750,  35.0760,2,    190.9,2,     190.8,2,    15.50,2,    22.85,2,     0.01,2,     1.50,2,    0.384,2,    0.195,2,    0.005,2, -999.000,9,   -999.0,9,  -999.00,9,   2186.1,6,   2321.4,2,   7.6890,2,   826.7,2,   20.0, -999.00,9,   467.2,  -999.0, -999.00,9
31RBOACES24N_2,  AR01,    90,  1,     15,2,19980216,1316, 25.0162, -69.5017, 5620,   1197.7,   5.2240,  35.0710,  35.0720,2,    233.7,2,     232.5,6,    13.50,2,    19.63,2,     0.01,2,     1.30,2,    0.531,2,    0.264,2,    0.018,2, -999.000,9,   -999.0,9,  -999.00,9,   2171.9,2,   2318.4,2,   7.7171,2,  -999.0,9, -999.0, -999.00,9,  -999.0,  -999.0,   41.35,2
31RBOACES24N_2,  AR01,    90,  1,     14,2,19980216,1316, 25.0162, -69.5017, 5620,   1400.6,   4.5690,  35.0430,  35.0430,2,    253.4,2,     251.5,2,    13.30,2,    18.56,2,     0.01,2,     1.23,2,    0.564,2,    0.279,2,    0.018,2, -999.000,9,   -999.0,9,  -999.00,9,   2165.8,2,   2315.4,2,   7.7314,2,   737.4,2,   20.0, -999.00,9,   380.7,  -999.0, -999.00,9
31RBOACES24N_2,  AR01,    90,  1,     13,2,19980216,1316, 25.0162, -69.5017, 5620,   1593.3,   4.2600,  35.0390,  35.0400,2,    256.0,2,     255.4,2,    14.80,2,    18.56,2,     0.01,2,     1.23,2,    0.247,2,    0.129,2,    0.009,2, -999.000,9,   -999.0,9,  -999.00,9,   2165.1,2,   2317.6,2,   7.7373,2,  -999.0,9, -999.0, -999.00,9,  -999.0,  -999.0,   41.45,2
31RBOACES24N_2,  AR01,    90,  1,     12,2,19980216,1316, 25.0162, -69.5017, 5620,   1798.2,   3.8850,  35.0200,  35.0200,2,    258.1,2,     257.4,2,    17.20,2,    18.56,2,     0.00,2,     1.25,2,    0.091,2,    0.051,2,    0.001,2, -999.000,9,   -999.0,9,  -999.00,9,   2166.4,2,   -999.0,9,   7.7397,2,   721.4,2,   20.0, -999.00,9,   359.9,  -999.0, -999.00,9
31RBOACES24N_2,  AR01,    90,  1,     11,2,19980216,1316, 25.0162, -69.5017, 5620,   1952.3,   3.5960,  34.9940,  34.9950,2,    261.4,2,     261.5,2,    18.30,2,    18.56,2,     0.00,2,     1.24,2,    0.121,2,    0.068,2,    0.012,2, -999.000,9,   -999.0,9,  -999.00,9,   2165.8,2,   2321.9,2,   7.7393,2,  -999.0,9, -999.0, -999.00,9,  -999.0,  -999.0,   41.25,2
31RBOACES24N_2,  AR01,    90,  1,     10,2,19980216,1316, 25.0162, -69.5017, 5620,   2249.5,   3.2910,  34.9770,  34.9770,2,    260.2,2,     262.5,2,    22.20,2,    18.95,2,     0.01,2,     1.28,2,    0.057,2,    0.033,2,    0.006,2, -999.000,9,   -999.0,9,  -999.00,9,   2169.8,2,   2331.1,2,   7.7400,2,   716.6,2,   20.0, -999.00,9,   346.9,  -999.0, -999.00,9
31RBOACES24N_2,  AR01,    90,  1,      9,2,19980216,1316, 25.0162, -69.5017, 5620,   2552.8,   3.0250,  34.9560,  34.9580,2,    259.3,2,     260.0,2,    26.30,2,    19.44,2,     0.01,2,     1.31,2,    0.033,2,    0.019,2,    0.000,2, -999.000,9,   -999.0,9,  -999.00,9,   2174.4,2,   -999.0,9,   7.7392,2,  -999.0,9, -999.0, -999.00,9,  -999.0,  -999.0,   41.45,2
31RBOACES24N_2,  AR01,    90,  1,      8,2,19980216,1316, 25.0162, -69.5017, 5620,   2842.4,   2.8320,  34.9390,  34.9410,2,    263.9,2,     262.6,2,    27.30,2,    19.24,2,     0.01,2,     1.31,2,    0.095,2,    0.079,2,    0.013,2,    0.319,2,   -999.0,9,  -999.00,9,   2173.2,2,   -999.0,9,   7.7387,2,   721.1,2,   20.0, -999.00,9,   341.0,  -999.0, -999.00,9
31RBOACES24N_2,  AR01,    90,  1,      7,2,19980216,1316, 25.0162, -69.5017, 5620,   3246.7,   2.5710,  34.9200,  34.9200,2,    268.5,2,     267.8,2,    27.70,2,    18.85,2,     0.01,2,     1.28,2,    0.150,6,    0.081,6,    0.006,6, -999.000,9,   -999.0,9,  -999.00,9,   2172.3,2,   2340.1,3,-999.0000,9,   721.8,2,   20.0, -999.00,9,   337.1,  -999.0,   41.15,2
31RBOACES24N_2,  AR01,    90,  1,      6,2,19980216,1316, 25.0162, -69.5017, 5620,   3634.8,   2.3980,  34.9080,  34.9080,2,    275.0,2,     273.2,2,    26.30,2,    18.07,2,     0.01,2,     1.24,2,    0.391,2,    0.193,2,    0.017,2,    0.905,2,   -999.0,9,  -999.00,9,   2169.6,2,   -999.0,9,   7.7351,2,   729.9,2,   20.0, -999.00,9,   338.3,  -999.0, -999.00,9
31RBOACES24N_2,  AR01,    90,  1,      5,2,19980216,1316, 25.0162, -69.5017, 5620,   4047.9,   2.3210,  34.8990,  34.9000,2,    272.8,2,     271.9,2,    29.00,2,    18.36,2,     0.01,2,     1.26,2,    0.327,2,    0.168,2,    0.015,2,    0.842,2,   -999.0,9,  -999.00,9,   2172.8,2,   -999.0,5,   7.7346,2,   727.5,2,   20.0, -999.00,9,   335.7,  -999.0,   41.44,2
31RBOACES24N_2,  AR01,    90,  1,      4,2,19980216,1316, 25.0162, -69.5017, 5620,   4450.2,   2.2950,  34.8940,  34.8930,2,    271.6,2,     271.0,2,    31.40,2,    18.66,2,     0.01,2,     1.28,2,    0.360,2,    0.182,2,    0.017,2,    0.865,6,   -999.0,9,  -999.00,9,   2175.7,2,   -999.0,9,-999.0000,9,   740.8,6,   20.0, -999.00,9,   341.4,  -999.0, -999.00,9
31RBOACES24N_2,  AR01,    90,  1,      3,2,19980216,1316, 25.0162, -69.5017, 5620,   4849.8,   2.2730,  34.8860,  34.8870,2,    268.8,2,     267.0,2,    36.10,2,    19.54,2,     0.01,2,     1.34,2,    0.199,2,    0.110,2,    0.018,2,    0.613,2,   -999.0,9,  -999.00,9,   2182.2,2,   2338.5,2,   7.7297,2,   738.0,2,   20.0, -999.00,9,   339.2,  -999.0,   41.54,2
31RBOACES24N_2,  AR01,    90,  1,      2,3,19980216,1316, 25.0162, -69.5017, 5620,   5248.8,   2.1940,  34.8690,  34.8710,2,    263.6,2,     261.5,2,    44.50,2,    20.90,2,     0.01,2,     1.44,2,    0.120,2,    0.072,2,    0.016,2,    0.395,2,   -999.0,9,  -999.00,9,   2191.0,2,   -999.0,9,   7.7222,2,   754.2,2,   20.0, -999.00,9,   344.8,  -999.0, -999.00,9
31RBOACES24N_2,  AR01,    90,  1,      1,2,19980216,1316, 25.0162, -69.5017, 5620,   5708.1,   2.0640,  34.8450,  34.8460,2,    254.0,2,     252.5,2,    56.20,6,    22.86,6,     0.01,6,     1.58,6,    0.022,2,    0.023,2,    0.006,2,    0.183,2,   -999.0,9,  -999.00,9,   2204.3,2,   2347.9,2,   7.7086,2,   795.8,2,   20.0, -999.00,9,   361.4,  -999.0,   41.64,2