BOTTLE,20220820CCHSIOAMB
EXPOCODE,SECT_ID,STNNBR,CASTNO,BTLNBR,BTLNBR_FLAG_W,DATE,TIME,LATITUDE,LONGITUDE,DEPTH,CTDPRS,CTDTMP,CTDSAL,SALNTY,SALNTY_FLAG_W,CTDOXY,CTDOXY_FLAG_W,OXYGEN,OXYGEN_FLAG_W,SILCAT,SILCAT_FLAG_W,NITRAT,NITRAT_FLAG_W,NITRIT,NITRIT_FLAG_W,PHSPHT,PHSPHT_FLAG_W,CFC-11,CFC-11_FLAG_W,CFC-12,CFC-12_FLAG_W,CFC113,CFC113_FLAG_W,CCL4,CCL4_FLAG_W,DELC14,DELC14_FLAG_W,DELC13,DELC13_FLAG_W,TCARBN,TCARBN_FLAG_W,ALKALI,ALKALI_FLAG_W,PH,PH_FLAG_W,FCO2,FCO2_FLAG_W,FCO2TMP,TON,TON_FLAG_W,FCO2IN,C14ERR,TOC,TOC_FLAG_W
,,,,,,,,,,,DBAR,ITS-90,PSS-78,PSS-78,,UMOL/KG,,UMOL/KG,,UMOL/KG,,UMOL/KG,,UMOL/KG,,UMOL/KG,,PMOL/KG,,PMOL/KG,,PMOL/KG,,PMOL/KG,,/MILLE,,/MILLE,,UMOL/KG,,UMOL/KG,,,,UATM,,DEG C,UMOL/KG,,UATM,/MILLE,UMOL/KG,
31RBOACES24N_2,  AR01,    87,  1,     36,2,19980215,1603, 24.5000, -67.6672, 5741,      4.8,  24.5520,  36.6140,  36.6140,2,    211.8,2,     211.7,2,     1.10,2,     0.20,2,     0.00,2,     0.01,2, -999.000,9, -999.000,9, -999.000,9, -999.000,9,   -999.0,9,     1.30,2,   2028.5,6,   2396.2,2,   8.1072,2,   276.9,2,   20.0, -999.00,9,   331.2,  -999.0, -999.00,9
31RBOACES24N_2,  AR01,    87,  1,     35,2,19980215,1603, 24.5000, -67.6672, 5741,     50.4,  24.5070,  36.6380,  36.6390,2,    209.9,2,     211.5,2,     1.10,2,     0.20,2,     0.01,2,     0.01,2, -999.000,9, -999.000,9, -999.000,9, -999.000,9,   -999.0,9,  -999.00,9,   -999.0,9,   -999.0,9,-999.0000,9,  -999.0,9, -999.0, -999.00,9,  -999.0,  -999.0, -999.00,9
31RBOACES24N_2,  AR01,    87,  1,     34,2,19980215,1603, 24.5000, -67.6672, 5741,    101.6,  23.6900,  36.8920,  36.8950,2,    206.9,2,     205.6,2,     1.00,2,     0.39,2,     0.04,2,     0.02,2, -999.000,9, -999.000,9, -999.000,9, -999.000,9,   -999.0,9,  -999.00,9,   2066.4,2,   2411.9,2,   8.0704,2,   307.2,2,   20.0, -999.00,9,   355.4,  -999.0, -999.00,9
31RBOACES24N_2,  AR01,    87,  1,     33,2,19980215,1603, 24.5000, -67.6672, 5741,    149.4,  20.9380,  36.8470,  36.8490,2,    192.5,2,     194.6,2,     1.10,2,     1.27,2,     0.02,2,     0.04,2, -999.000,9, -999.000,9, -999.000,9, -999.000,9,   -999.0,9,  -999.00,9,   2098.1,2,   2407.7,2,   8.0186,2,   354.8,2,   20.0, -999.00,9,   367.8,  -999.0, -999.00,9
31RBOACES24N_2,  AR01,    87,  1,     32,2,19980215,1603, 24.5000, -67.6672, 5741,    190.9,  19.7110,  36.7480,  36.7480,2,    191.5,2,     193.2,2,     1.10,2,     2.15,2,     0.01,2,     0.07,2, -999.000,9, -999.000,9, -999.000,9, -999.000,9,   -999.0,9,  -999.00,9,   -999.0,9,   -999.0,9,   7.9993,2,  -999.0,9, -999.0, -999.00,9,  -999.0,  -999.0, -999.00,9
31RBOACES24N_2,  AR01,    87,  1,     31,2,19980215,1603, 24.5000, -67.6672, 5741,    212.3,  19.1050,  36.6730,  36.6730,2,    194.5,2,     194.1,2,     1.30,2,     3.03,2,     0.01,2,     0.11,2, -999.000,9, -999.000,9, -999.000,9, -999.000,9,   -999.0,9,  -999.00,9,   -999.0,9,   -999.0,9,   7.9921,2,  -999.0,9, -999.0, -999.00,9,  -999.0,  -999.0, -999.00,9
31RBOACES24N_2,  AR01,    87,  1,     30,2,19980215,1603, 24.5000, -67.6672, 5741,    240.6,  18.6500,  36.6110,  36.6100,2,    198.0,2,     198.2,2,     1.40,2,     3.51,2,     0.01,2,     0.14,2, -999.000,9, -999.000,9, -999.000,9, -999.000,9,   -999.0,9,  -999.00,9,   2103.0,2,   2392.7,2,   7.9899,2,   380.0,2,   20.0, -999.00,9,   359.9,  -999.0, -999.00,9
31RBOACES24N_2,  AR01,    87,  1,     29,2,19980215,1603, 24.5000, -67.6672, 5741,    266.2,  18.4470,  36.5840,  36.5820,2,    201.7,2,     201.4,2,     1.40,2,     3.71,2,     0.01,2,     0.16,2, -999.000,9, -999.000,9, -999.000,9, -999.000,9,   -999.0,9,  -999.00,9,   -999.0,9,   -999.0,9,   7.9896,2,  -999.0,9, -999.0, -999.00,9,  -999.0,  -999.0, -999.00,9
31RBOACES24N_2,  AR01,    87,  1,     28,2,19980215,1603, 24.5000, -67.6672, 5741,    290.5,  18.2670,  36.5600,  36.5590,2,    203.2,2,     203.3,2,     1.40,2,     4.00,2,     0.01,2,     0.18,2, -999.000,9, -999.000,9, -999.000,9, -999.000,9,   -999.0,9,  -999.00,9,   -999.0,9,   -999.0,9,   7.9868,2,  -999.0,9, -999.0, -999.00,9,  -999.0,  -999.0, -999.00,9
31RBOACES24N_2,  AR01,    87,  1,     27,2,19980215,1603, 24.5000, -67.6672, 5741,    342.6,  17.9460,  36.5110,  36.5110,2,    197.9,2,     201.3,2,     1.50,2,     4.78,2,     0.01,2,     0.23,2, -999.000,9, -999.000,9, -999.000,9, -999.000,9,   -999.0,9,  -999.00,9,   -999.0,9,   -999.0,9,   7.9780,2,  -999.0,9, -999.0, -999.00,9,  -999.0,  -999.0, -999.00,9
31RBOACES24N_2,  AR01,    87,  1,     26,2,19980215,1603, 24.5000, -67.6672, 5741,    393.6,  17.3690,  36.4120,  36.4130,2,    186.1,2,     190.6,2,     2.10,2,     6.73,2,     0.01,2,     0.34,2, -999.000,9, -999.000,9, -999.000,9, -999.000,9,   -999.0,9,  -999.00,9,   2115.9,2,   2383.5,2,   7.9497,2,   424.4,2,   20.0, -999.00,9,   381.4,  -999.0, -999.00,9
31RBOACES24N_2,  AR01,    87,  1,     25,2,19980215,1603, 24.5000, -67.6672, 5741,    432.1,  16.6970,  36.2970,  36.2990,2,    183.3,2,     184.4,2,     2.70,2,     8.39,2,     0.01,2,     0.45,2, -999.000,9, -999.000,9, -999.000,9, -999.000,9,   -999.0,9,  -999.00,9,   -999.0,9,   -999.0,9,-999.0000,9,  -999.0,9, -999.0, -999.00,9,  -999.0,  -999.0, -999.00,9
31RBOACES24N_2,  AR01,    87,  1,     24,2,19980215,1603, 24.5000, -67.6672, 5741,    491.6,  15.4440,  36.0920,  36.0920,2,    175.2,2,     178.4,2,     3.80,2,    10.84,2,     0.01,2,     0.61,2, -999.000,9, -999.000,9, -999.000,9, -999.000,9,   -999.0,9,  -999.00,9,   -999.0,9,   -999.0,9,   7.8870,2,  -999.0,9, -999.0, -999.00,9,  -999.0,  -999.0, -999.00,9
31RBOACES24N_2,  AR01,    87,  1,     23,2,19980215,1603, 24.5000, -67.6672, 5741,    540.5,  14.4870,  35.9420,  35.9460,2,    172.2,2,     174.0,2,     4.70,2,    12.69,2,     0.01,2,     0.73,2, -999.000,9, -999.000,9, -999.000,9, -999.000,9,   -999.0,9,  -999.00,9,   2143.6,2,   2366.5,2,   7.8567,2,   534.5,2,   20.0, -999.00,9,   426.2,  -999.0, -999.00,9
31RBOACES24N_2,  AR01,    87,  1,     22,2,19980215,1603, 24.5000, -67.6672, 5741,    589.6,  13.3270,  35.7630,  35.7700,2,    167.6,2,     164.0,2,     6.20,2,    15.53,2,     0.01,2,     0.92,2, -999.000,9, -999.000,9, -999.000,9, -999.000,9,   -999.0,9,  -999.00,9,   -999.0,9,   -999.0,9,-999.0000,9,  -999.0,9, -999.0, -999.00,9,  -999.0,  -999.0, -999.00,9
31RBOACES24N_2,  AR01,    87,  1,     21,2,19980215,1603, 24.5000, -67.6672, 5741,    689.0,  11.4380,  35.4960,  35.4800,2,    157.8,2,     158.6,2,     9.70,2,    19.53,2,     0.01,2,     1.21,2, -999.000,9, -999.000,9, -999.000,9, -999.000,9,   -999.0,9,  -999.00,9,   2171.4,2,   2336.0,2,   7.7572,2,   684.7,2,   20.0, -999.00,9,   480.6,  -999.0, -999.00,9
31RBOACES24N_2,  AR01,    87,  1,     20,2,19980215,1603, 24.5000, -67.6672, 5741,    795.7,   8.6480,  35.1650,  35.1700,2,    149.7,2,     151.1,2,    15.10,2,    24.62,2,     0.01,2,     1.59,2, -999.000,9, -999.000,9, -999.000,9, -999.000,9,   -999.0,9,  -999.00,9,   2190.6,2,   2327.1,2,   7.6792,2,   847.3,2,   20.0, -999.00,9,   529.3,  -999.0, -999.00,9
31RBOACES24N_2,  AR01,    87,  1,     19,2,19980215,1603, 24.5000, -67.6672, 5741,    886.2,   7.2310,  35.0240,  35.0250,2,    155.3,2,     154.9,2,    18.60,2,    26.67,2,     0.01,2,     1.75,2, -999.000,9, -999.000,9, -999.000,9, -999.000,9,   -999.0,9,  -999.00,9,   2198.0,2,   -999.0,5,   7.6492,2,   917.9,2,   20.0, -999.00,9,   539.6,  -999.0, -999.00,9
31RBOACES24N_2,  AR01,    87,  1,     18,2,19980215,1603, 24.5000, -67.6672, 5741,    982.0,   6.4920,  35.0190,  35.0190,2,    176.0,2,     175.3,2,    18.20,2,    25.01,2,     0.01,2,     1.66,2, -999.000,9, -999.000,9, -999.000,9, -999.000,9,   -999.0,9,  -999.00,9,   2193.3,6,   -999.0,9,   7.6642,2,  -999.0,9, -999.0, -999.00,9,  -999.0,  -999.0, -999.00,9
31RBOACES24N_2,  AR01,    87,  1,     17,2,19980215,1603, 24.5000, -67.6672, 5741,   1100.2,   5.7950,  35.0570,  35.0570,2,    208.2,2,     208.9,2,    15.40,2,    21.59,2,     0.01,2,     1.42,2, -999.000,9, -999.000,9, -999.000,9, -999.000,9,   -999.0,9,  -999.00,9,   -999.0,9,   -999.0,9,   7.6975,2,  -999.0,9, -999.0, -999.00,9,  -999.0,  -999.0, -999.00,9
31RBOACES24N_2,  AR01,    87,  1,     16,2,19980215,1603, 24.5000, -67.6672, 5741,   1300.7,   4.9100,  35.0490,  35.0500,2,    245.6,2,     244.6,2,    13.10,2,    18.95,2,     0.01,2,     1.25,2, -999.000,9, -999.000,9, -999.000,9, -999.000,9,   -999.0,9,  -999.00,9,   2167.4,2,   -999.0,5,   7.7232,2,   753.6,2,   20.0, -999.00,9,   394.4,  -999.0, -999.00,9
31RBOACES24N_2,  AR01,    87,  1,     15,2,19980215,1603, 24.5000, -67.6672, 5741,   1500.7,   4.3130,  35.0110,  35.0100,2,    260.6,2,     259.6,2,    13.10,2,    18.17,2,     0.01,2,     1.20,2, -999.000,9, -999.000,9, -999.000,9, -999.000,9,   -999.0,9,  -999.00,9,   -999.0,9,   -999.0,9,   7.7290,2,  -999.0,9, -999.0, -999.00,9,  -999.0,  -999.0, -999.00,9
31RBOACES24N_2,  AR01,    87,  1,     14,2,19980215,1603, 24.5000, -67.6672, 5741,   1699.9,   3.9470,  34.9880,  34.9890,2,    266.4,2,     266.7,2,    13.80,2,    17.88,2,     0.01,2,     1.19,2, -999.000,9, -999.000,9, -999.000,9, -999.000,9,   -999.0,9,  -999.00,9,   -999.0,9,   -999.0,9,   7.7353,2,  -999.0,9, -999.0, -999.00,9,  -999.0,  -999.0, -999.00,9
31RBOACES24N_2,  AR01,    87,  1,     13,2,19980215,1603, 24.5000, -67.6672, 5741,   1886.8,   3.7410,  34.9840,  34.9840,2,    266.8,2,     267.5,2,    15.10,2,    17.88,2,     0.01,2,     1.20,2, -999.000,9, -999.000,9, -999.000,9, -999.000,9,   -999.0,9,  -999.00,9,   -999.0,9,   -999.0,9,   7.7364,2,   717.9,2,   20.0, -999.00,9,   354.1,  -999.0, -999.00,9
31RBOACES24N_2,  AR01,    87,  1,     12,2,19980215,1603, 24.5000, -67.6672, 5741,   2099.4,   3.5210,  34.9760,  34.9760,2,    268.0,2,     268.6,2,    16.80,2,    17.78,2,     0.01,2,     1.21,2, -999.000,9, -999.000,9, -999.000,9, -999.000,9,   -999.0,9,  -999.00,9,   2159.8,2,   -999.0,9,   7.7393,2,  -999.0,9, -999.0, -999.00,9,  -999.0,  -999.0, -999.00,9
31RBOACES24N_2,  AR01,    87,  1,     11,2,19980215,1603, 24.5000, -67.6672, 5741,   2300.3,   3.3460,  34.9710,  34.9700,2,    266.4,2,     267.9,2,    18.90,2,    18.17,2,     0.01,2,     1.22,2, -999.000,9, -999.000,9, -999.000,9, -999.000,9,   -999.0,9,  -999.00,9,   -999.0,9,   -999.0,9,   7.7402,2,  -999.0,9, -999.0, -999.00,9,  -999.0,  -999.0, -999.00,9
31RBOACES24N_2,  AR01,    87,  1,     10,2,19980215,1603, 24.5000, -67.6672, 5741,   2499.3,   3.1990,  34.9670,  34.9670,2,    263.0,2,     264.8,2,    22.30,2,    18.66,2,     0.01,2,     1.26,2, -999.000,9, -999.000,9, -999.000,9, -999.000,9,   -999.0,9,  -999.00,9,   -999.0,9,   -999.0,9,   7.7399,2,  -999.0,9, -999.0, -999.00,9,  -999.0,  -999.0, -999.00,9
31RBOACES24N_2,  AR01,    87,  1,      9,2,19980215,1603, 24.5000, -67.6672, 5741,   2700.5,   2.9900,  34.9500,  34.9510,2,    264.6,2,     266.0,2,    24.20,2,    18.76,2,     0.01,2,     1.27,2, -999.000,9, -999.000,9, -999.000,9, -999.000,9,   -999.0,9,  -999.00,9,   -999.0,9,   -999.0,9,   7.7394,2,  -999.0,9, -999.0, -999.00,9,  -999.0,  -999.0, -999.00,9
31RBOACES24N_2,  AR01,    87,  1,      8,2,19980215,1603, 24.5000, -67.6672, 5741,   2949.8,   2.8140,  34.9380,  34.9400,2,    261.3,2,     263.0,2,    29.40,2,    19.44,2,     0.01,2,     1.33,2, -999.000,9, -999.000,9, -999.000,9, -999.000,9,   -999.0,9,  -999.00,9,   2174.2,2,   2337.1,3,   7.7381,2,   723.7,2,   20.0, -999.00,9,   340.6,  -999.0, -999.00,9
31RBOACES24N_2,  AR01,    87,  1,      7,2,19980215,1603, 24.5000, -67.6672, 5741,   3299.7,   2.6190,  34.9230,  34.9230,2,    267.2,2,     268.1,2,    29.10,2,    19.05,2,     0.01,2,     1.30,2, -999.000,9, -999.000,9, -999.000,9, -999.000,9,   -999.0,9,  -999.00,9,   -999.0,9,   -999.0,9,-999.0000,9,  -999.0,9, -999.0, -999.00,9,  -999.0,  -999.0, -999.00,9
31RBOACES24N_2,  AR01,    87,  1,      6,2,19980215,1603, 24.5000, -67.6672, 5741,   3700.8,   2.4180,  34.9080,  34.9080,2,    270.3,2,     272.0,6,    29.50,2,    18.66,2,     0.01,2,     1.28,2, -999.000,9, -999.000,9, -999.000,9, -999.000,9,   -999.0,9,  -999.00,9,   -999.0,9,   -999.0,9,   7.7379,2,  -999.0,9, -999.0, -999.00,9,  -999.0,  -999.0, -999.00,9
31RBOACES24N_2,  AR01,    87,  1,      5,2,19980215,1603, 24.5000, -67.6672, 5741,   4099.6,   2.3220,  34.8990,  34.9000,2,    273.0,2,     273.3,2,    30.20,2,    18.17,2,     0.01,2,     1.27,2, -999.000,9, -999.000,9, -999.000,9, -999.000,9,   -999.0,9,  -999.00,9,   2170.6,2,   -999.0,9,   7.7355,2,   736.7,2,   20.0, -999.00,9,   338.3,  -999.0, -999.00,9
31RBOACES24N_2,  AR01,    87,  1,      4,2,19980215,1603, 24.5000, -67.6672, 5741,   4497.5,   2.2850,  34.8920,  34.8920,2,    270.9,2,     271.3,2,    32.80,2,    18.86,2,     0.01,2,     1.30,2, -999.000,9, -999.000,9, -999.000,9, -999.000,9,   -999.0,9,  -999.00,9,   2176.1,2,   -999.0,5,   7.7324,2,  -999.0,9, -999.0, -999.00,9,  -999.0,  -999.0, -999.00,9
31RBOACES24N_2,  AR01,    87,  1,      3,2,19980215,1603, 24.5000, -67.6672, 5741,   4901.2,   2.2040,  34.8770,  34.8760,2,    265.1,2,     265.0,2,    41.80,2,    20.42,2,     0.01,2,     1.41,2, -999.000,9, -999.000,9, -999.000,9, -999.000,9,   -999.0,9,  -999.00,9,   -999.0,9,   -999.0,9,-999.0000,9,  -999.0,9, -999.0, -999.00,9,  -999.0,  -999.0, -999.00,9
31RBOACES24N_2,  AR01,    87,  1,      2,2,19980215,1603, 24.5000, -67.6672, 5741,   5290.7,   2.0510,  34.8520,  34.8530,2,    255.4,2,     257.4,2,    53.50,2,    22.18,2,     0.01,2,     1.54,2, -999.000,9, -999.000,9, -999.000,9, -999.000,9,   -999.0,9,  -999.00,9,   2199.2,2,   -999.0,9,   7.7120,2,   784.6,6,   20.0, -999.00,9,   356.1,  -999.0, -999.00,9
31RBOACES24N_2,  AR01,    87,  1,      1,2,19980215,1603, 24.5000, -67.6672, 5741,   5803.0,   2.0740,  34.8450,  34.8460,2,    253.5,2,     256.1,2,    56.20,6,    22.57,6,     0.01,6,     1.58,6, -999.000,9, -999.000,9, -999.000,9, -999.000,9,   -999.0,9,  -999.00,9,   2202.3,2,   2351.4,2,   7.7085,2,   784.9,2,   20.0, -999.00,9,   356.2,  -999.0, -999.00,9