BOTTLE,20220820CCHSIOAMB
EXPOCODE,SECT_ID,STNNBR,CASTNO,BTLNBR,BTLNBR_FLAG_W,DATE,TIME,LATITUDE,LONGITUDE,DEPTH,CTDPRS,CTDTMP,CTDSAL,SALNTY,SALNTY_FLAG_W,CTDOXY,CTDOXY_FLAG_W,OXYGEN,OXYGEN_FLAG_W,SILCAT,SILCAT_FLAG_W,NITRAT,NITRAT_FLAG_W,NITRIT,NITRIT_FLAG_W,PHSPHT,PHSPHT_FLAG_W,CFC-11,CFC-11_FLAG_W,CFC-12,CFC-12_FLAG_W,CFC113,CFC113_FLAG_W,CCL4,CCL4_FLAG_W,DELC14,DELC14_FLAG_W,DELC13,DELC13_FLAG_W,TCARBN,TCARBN_FLAG_W,ALKALI,ALKALI_FLAG_W,PH,PH_FLAG_W,FCO2,FCO2_FLAG_W,FCO2TMP,TON,TON_FLAG_W,FCO2IN,C14ERR,TOC,TOC_FLAG_W
,,,,,,,,,,,DBAR,ITS-90,PSS-78,PSS-78,,UMOL/KG,,UMOL/KG,,UMOL/KG,,UMOL/KG,,UMOL/KG,,UMOL/KG,,PMOL/KG,,PMOL/KG,,PMOL/KG,,PMOL/KG,,/MILLE,,/MILLE,,UMOL/KG,,UMOL/KG,,,,UATM,,DEG C,UMOL/KG,,UATM,/MILLE,UMOL/KG,
31RBOACES24N_2,  AR01,   120,  1,     32,2,19980222,1435, 26.4995, -76.8163, 1390,      3.9,  24.1200,  36.2860,  36.2850,2,    211.3,2,     211.5,2,     1.20,2,     0.00,2,     0.00,2,     0.00,2,    1.851,2,    1.088,2,    0.143,2,    1.853,2,   -999.0,9,  -999.00,9,   2025.1,2,   2373.8,2,   8.0902,2,   286.4,2,   20.0, -999.00,9,   337.0,  -999.0,   64.90,2
31RBOACES24N_2,  AR01,   120,  1,     31,2,19980222,1435, 26.4995, -76.8163, 1390,     25.5,  24.0940,  36.2930,  36.2930,2,    214.3,2,     211.5,2,     1.20,2,     0.00,2,     0.00,2,     0.01,2,    1.876,2,    1.097,2,    0.145,2, -999.000,9,   -999.0,9,  -999.00,9,   -999.0,9,   -999.0,9,-999.0000,9,  -999.0,9, -999.0,    4.55,2,  -999.0,  -999.0,   65.29,2
31RBOACES24N_2,  AR01,   120,  1,     30,2,19980222,1435, 26.4995, -76.8163, 1390,     50.5,  23.7530,  36.3330,  36.3470,2,    213.6,2,     210.4,2,     1.10,2,     0.00,2,     0.08,2,     0.01,2,    1.886,2,    1.104,2,    0.144,2, -999.000,9,   -999.0,9,  -999.00,9,   2032.0,2,   -999.0,5,   8.0854,2,   294.8,2,   20.0, -999.00,9,   341.9,  -999.0,   64.41,2
31RBOACES24N_2,  AR01,   120,  1,     29,2,19980222,1435, 26.4995, -76.8163, 1390,     74.7,  23.3950,  36.4310,  36.4440,2,    215.6,2,     212.1,2,     1.00,2,     0.00,2,     0.08,2,     0.01,2, -999.000,9, -999.000,9, -999.000,9, -999.000,9,   -999.0,9,  -999.00,9,   -999.0,9,   -999.0,9,-999.0000,9,  -999.0,9, -999.0, -999.00,9,  -999.0,  -999.0,   63.91,2
31RBOACES24N_2,  AR01,   120,  1,     28,2,19980222,1435, 26.4995, -76.8163, 1390,     99.4,  23.2980,  36.5120,  36.5320,2,    217.0,2,     213.9,2,     1.00,2,     0.00,2,     0.01,2,     0.01,2,    1.955,2,    1.134,2,    0.151,2, -999.000,9,   -999.0,9,  -999.00,9,   2038.6,2,   2389.8,2,   8.0865,2,   288.5,2,   20.0,    4.40,2,   328.7,  -999.0,   62.73,2
31RBOACES24N_2,  AR01,   120,  1,     27,2,19980222,1435, 26.4995, -76.8163, 1390,    125.2,  23.0970,  36.5900,  36.5930,2,    217.8,2,     213.4,2,     1.00,2,     0.00,2,     0.02,2,     0.01,2, -999.000,9, -999.000,9, -999.000,9, -999.000,9,   -999.0,9,  -999.00,9,   2039.4,2,   -999.0,9,   8.0880,2,   290.3,2,   20.0, -999.00,9,   328.2,  -999.0,   63.41,2
31RBOACES24N_2,  AR01,   120,  1,     26,2,19980222,1435, 26.4995, -76.8163, 1390,    151.3,  22.9320,  36.6510,  36.6740,2,    216.3,2,     212.0,2,     1.00,2,     0.10,2,     0.02,2,     0.01,2,    1.965,2,    1.142,2,    0.143,2,    1.717,2,   -999.0,9,  -999.00,9,   2045.6,2,   2398.2,2,   8.0827,2,   292.3,2,   20.0, -999.00,9,   328.3,  -999.0,   60.18,2
31RBOACES24N_2,  AR01,   120,  1,     25,2,19980222,1435, 26.4995, -76.8163, 1390,    174.4,  22.1230,  36.7940,  36.8030,2,    207.2,2,     199.4,2,     0.90,2,     0.68,2,     0.06,2,     0.04,2, -999.000,9, -999.000,9, -999.000,9, -999.000,9,   -999.0,9,  -999.00,9,   -999.0,9,   -999.0,9,-999.0000,9,  -999.0,9, -999.0, -999.00,9,  -999.0,  -999.0,   55.68,2
31RBOACES24N_2,  AR01,   120,  1,     24,2,19980222,1435, 26.4995, -76.8163, 1390,    199.6,  21.0110,  36.8490,  36.8480,2,    196.6,2,     192.5,2,     1.00,2,     1.27,2,     0.02,2,     0.05,2, -999.000,9, -999.000,9, -999.000,9, -999.000,9,   -999.0,9,  -999.00,9,   -999.0,9,   -999.0,9,-999.0000,9,  -999.0,9, -999.0, -999.00,9,  -999.0,  -999.0, -999.00,9
31RBOACES24N_2,  AR01,   120,  1,     23,2,19980222,1435, 26.4995, -76.8163, 1390,    225.3,  20.0140,  36.7760,  36.7830,2,    193.1,2,     191.0,2,     1.00,2,     1.76,2,     0.01,2,     0.06,2, -999.000,9, -999.000,9, -999.000,9, -999.000,9,   -999.0,9,  -999.00,9,   2102.0,2,   2400.2,3,   8.0022,2,   368.7,2,   20.0, -999.00,9,   368.9,  -999.0, -999.00,9
31RBOACES24N_2,  AR01,   120,  1,     22,2,19980222,1435, 26.4995, -76.8163, 1390,    248.6,  19.1930,  36.6720,  36.6720,2,    197.6,2,     196.5,2,     1.20,2,     2.34,2,     0.01,2,     0.09,2,    2.248,2,    1.263,2,    0.033,2, -999.000,9,   -999.0,9,  -999.00,9,   -999.0,9,   -999.0,9,-999.0000,9,  -999.0,9, -999.0, -999.00,9,  -999.0,  -999.0, -999.00,9
31RBOACES24N_2,  AR01,   120,  1,     21,2,19980222,1435, 26.4995, -76.8163, 1390,    273.1,  18.6660,  36.6090,  36.6100,2,    198.9,2,     199.1,2,     1.30,2,     3.12,2,     0.00,2,     0.13,2, -999.000,9, -999.000,9, -999.000,9, -999.000,9,   -999.0,9,  -999.00,9,   2097.8,2,   2395.6,2,   7.9946,2,  -999.0,9, -999.0,    6.31,2,  -999.0,  -999.0,   47.64,2
31RBOACES24N_2,  AR01,   120,  1,     20,2,19980222,1435, 26.4995, -76.8163, 1390,    302.8,  18.4310,  36.5810,  36.5810,2,    199.3,2,     200.1,2,     1.40,2,     3.51,2,     0.00,2,     0.16,2,    2.224,6,    1.248,6,    0.045,6,    0.428,6,   -999.0,9,  -999.00,9,   -999.0,9,   -999.0,9,-999.0000,9,  -999.0,9, -999.0, -999.00,9,  -999.0,  -999.0, -999.00,9
31RBOACES24N_2,  AR01,   120,  1,     19,2,19980222,1435, 26.4995, -76.8163, 1390,    348.2,  18.1370,  36.5440,  36.5430,2,    203.8,2,     205.3,2,     1.60,2,     3.80,2,     0.00,2,     0.18,2, -999.000,9, -999.000,9, -999.000,9, -999.000,9,   -999.0,9,  -999.00,9,   2094.6,2,   2387.5,2,   7.9915,2,   381.0,2,   20.0, -999.00,9,   353.3,  -999.0, -999.00,9
31RBOACES24N_2,  AR01,   120,  1,     18,2,19980222,1435, 26.4995, -76.8163, 1390,    399.8,  17.9030,  36.5040,  36.5070,2,    202.9,2,     203.0,2,     1.80,2,     4.39,2,     0.00,2,     0.22,2,    2.289,2,    1.264,2,    0.031,2, -999.000,9,   -999.0,9,  -999.00,9,   -999.0,9,   -999.0,9,-999.0000,9,  -999.0,9, -999.0, -999.00,9,  -999.0,  -999.0, -999.00,9
31RBOACES24N_2,  AR01,   120,  1,     17,2,19980222,1435, 26.4995, -76.8163, 1390,    453.5,  17.0510,  36.3560,  36.3590,2,    189.0,2,     186.4,2,     2.60,2,     7.22,2,     0.00,2,     0.39,2, -999.000,9, -999.000,9, -999.000,9, -999.000,9,   -999.0,9,  -999.00,9,   -999.0,9,   -999.0,9,-999.0000,9,  -999.0,9, -999.0, -999.00,9,  -999.0,  -999.0,   43.93,2
31RBOACES24N_2,  AR01,   120,  1,     16,2,19980222,1435, 26.4995, -76.8163, 1390,    507.2,  15.5780,  36.1110,  36.1260,2,    179.5,2,     175.9,2,     3.80,2,    10.44,2,     0.00,2,     0.59,2,    1.655,6,    0.867,6,    0.017,6, -999.000,9,   -999.0,9,  -999.00,9,   2130.7,2,   -999.0,5,   7.8911,2,   496.4,2,   20.0, -999.00,9,   414.6,  -999.0, -999.00,9
31RBOACES24N_2,  AR01,   120,  1,     15,2,19980222,1435, 26.4995, -76.8163, 1390,    548.8,  14.4710,  35.9270,  35.9270,2,    172.2,2,     169.8,2,     5.20,2,    12.98,2,     0.00,2,     0.76,2, -999.000,9, -999.000,9, -999.000,9, -999.000,9,   -999.0,9,  -999.00,9,   -999.0,9,   -999.0,9,-999.0000,9,  -999.0,9, -999.0, -999.00,9,  -999.0,  -999.0, -999.00,9
31RBOACES24N_2,  AR01,   120,  1,     14,2,19980222,1435, 26.4995, -76.8163, 1390,    595.6,  13.3790,  35.7630,  35.7650,2,    167.6,2,     164.6,2,     6.40,2,    15.23,2,     0.00,2,     0.92,2, -999.000,9, -999.000,9, -999.000,9, -999.000,9,   -999.0,9,  -999.00,9,   -999.0,9,   -999.0,9,-999.0000,9,  -999.0,9, -999.0, -999.00,9,  -999.0,  -999.0, -999.00,9
31RBOACES24N_2,  AR01,   120,  1,     13,2,19980222,1435, 26.4995, -76.8163, 1390,    640.5,  12.5910,  35.6450,  35.6640,2,    162.3,2,     159.4,2,     7.50,2,    16.89,2,     0.00,2,     1.04,2, -999.000,9, -999.000,9, -999.000,9,    0.337,2,   -999.0,9,  -999.00,9,   2157.2,2,   2339.7,2,   7.7932,2,   633.3,2,   20.0,   19.51,2,   467.5,  -999.0,   42.16,2
31RBOACES24N_2,  AR01,   120,  1,     12,2,19980222,1435, 26.4995, -76.8163, 1390,    692.6,  11.3950,  35.4840,  35.4950,2,    157.6,2,     153.8,2,     9.70,2,    19.52,2,     0.00,2,     1.22,2, -999.000,9, -999.000,9, -999.000,9, -999.000,9,   -999.0,9,  -999.00,9,   -999.0,9,   -999.0,9,-999.0000,9,  -999.0,9, -999.0, -999.00,9,  -999.0,  -999.0, -999.00,9
31RBOACES24N_2,  AR01,   120,  1,     11,2,19980222,1435, 26.4995, -76.8163, 1390,    749.6,  10.1960,  35.3350,  35.3360,2,    153.3,2,     149.9,2,    12.20,2,    22.06,2,     0.00,2,     1.40,2, -999.000,9, -999.000,9, -999.000,9, -999.000,9,   -999.0,9,  -999.00,9,   2178.2,6,   -999.0,9,   7.7168,2,   773.9,2,   20.0, -999.00,9,   516.8,  -999.0, -999.00,9
31RBOACES24N_2,  AR01,   120,  1,     10,2,19980222,1435, 26.4995, -76.8163, 1390,    801.3,   8.7080,  35.1810,  35.1820,2,    153.0,2,     151.1,2,    15.00,2,    24.31,2,     0.00,2,     1.57,2,    0.361,2,    0.187,2,    0.002,2, -999.000,9,   -999.0,9,  -999.00,9,   -999.0,9,   -999.0,9,-999.0000,9,  -999.0,9, -999.0, -999.00,9,  -999.0,  -999.0, -999.00,9
31RBOACES24N_2,  AR01,   120,  1,      9,2,19980222,1435, 26.4995, -76.8163, 1390,    846.9,   7.9250,  35.1330,  35.1260,2,    162.0,2,     165.8,2,    15.40,2,    23.73,2,     0.00,2,     1.55,2, -999.000,9, -999.000,9, -999.000,9, -999.000,9,   -999.0,9,  -999.00,9,   2185.6,2,   2319.5,2,   7.6814,2,   851.0,2,   20.0, -999.00,9,   515.2,  -999.0,   41.56,2
31RBOACES24N_2,  AR01,   120,  1,      8,2,19980222,1435, 26.4995, -76.8163, 1390,    900.8,   6.6980,  35.0870,  35.0840,2,    176.4,2,     183.0,2,    15.80,2,    23.05,2,     0.00,2,     1.52,2,    0.400,2,    0.198,2,    0.006,2,    0.473,2,   -999.0,9,  -999.00,9,   2183.1,2,   -999.0,9,   7.6847,2,   839.1,2,   20.0, -999.00,9,   480.4,  -999.0, -999.00,9
31RBOACES24N_2,  AR01,   120,  1,      7,2,19980222,1435, 26.4995, -76.8163, 1390,    945.3,   6.5420,  35.0950,  35.0940,2,    194.1,2,     194.1,2,    14.70,2,    22.07,2,     0.00,2,     1.44,2, -999.000,9, -999.000,9, -999.000,9, -999.000,9,   -999.0,9,  -999.00,9,   2179.7,2,   2320.8,2,   7.6948,2,   814.1,2,   20.0, -999.00,9,   462.3,  -999.0, -999.00,9
31RBOACES24N_2,  AR01,   120,  1,      6,2,19980222,1435, 26.4995, -76.8163, 1390,    999.8,   6.0350,  35.0880,  35.0890,2,    208.2,2,     208.2,2,    14.20,2,    20.70,2,     0.00,2,     1.38,2,    0.666,2,    0.324,2,    0.020,2, -999.000,9,   -999.0,9,  -999.00,9,   2177.7,2,   -999.0,9,   7.7028,2,   795.6,2,   20.0, -999.00,9,   441.1,  -999.0, -999.00,9
31RBOACES24N_2,  AR01,   120,  1,      5,2,19980222,1435, 26.4995, -76.8163, 1390,   1101.7,   5.2910,  35.0510,  35.0510,2,    230.7,2,     230.3,2,    13.60,2,    19.53,2,     0.00,2,     1.30,2, -999.000,9, -999.000,9, -999.000,9,    1.304,2,   -999.0,9,  -999.00,9,   2169.3,2,   2316.5,2,   7.7138,2,   776.9,2,   20.0,   21.99,2,   415.8,  -999.0,   41.45,2
31RBOACES24N_2,  AR01,   120,  1,      4,2,19980222,1435, 26.4995, -76.8163, 1390,   1195.1,   5.0230,  35.0410,  35.0400,2,    240.0,2,     238.7,2,    13.40,2,    19.14,2,     0.00,2,     1.27,2,    0.928,2,    0.448,2,    0.031,2, -999.000,9,   -999.0,9,  -999.00,9,   -999.0,9,   -999.0,9,-999.0000,9,  -999.0,9, -999.0, -999.00,9,  -999.0,  -999.0, -999.00,9
31RBOACES24N_2,  AR01,   120,  1,      3,2,19980222,1435, 26.4995, -76.8163, 1390,   1299.7,   4.9060,  35.0350,  35.0360,2,    243.2,2,     242.1,2,    13.20,2,    18.94,2,     0.00,2,     1.25,2,    0.937,2,    0.453,2,    0.031,2, -999.000,9,   -999.0,9,  -999.00,9,   2167.6,2,   -999.0,9,   7.7200,2,   765.6,6,   20.0, -999.00,9,   402.3,  -999.0, -999.00,9
31RBOACES24N_2,  AR01,   120,  1,      2,2,19980222,1435, 26.4995, -76.8163, 1390,   1349.7,   4.4090,  35.0050,  35.0060,2,    254.3,2,     255.5,6,    13.00,2,    18.36,2,     0.00,2,     1.21,2, -999.000,9, -999.000,9, -999.000,9, -999.000,9,   -999.0,9,  -999.00,9,   -999.0,9,   -999.0,9,-999.0000,9,  -999.0,9, -999.0, -999.00,9,  -999.0,  -999.0, -999.00,9
31RBOACES24N_2,  AR01,   120,  1,      1,2,19980222,1435, 26.4995, -76.8163, 1390,   1382.1,   4.3320,  35.0000,  35.0010,2,    256.3,2,     257.5,2,    13.00,6,    18.16,6,     0.00,6,     1.23,6,    1.052,2,    0.509,2,    0.039,2,    1.596,2,   -999.0,9,  -999.00,9,   2162.4,2,   2314.0,2,   7.7257,2,   750.6,2,   20.0, -999.00,9,   383.6,  -999.0,   41.55,2
31RBOACES24N_2,  AR01,   121,  1,     18,2,19980222,1714, 26.5195, -76.9005,  719,      5.0,  24.0980,  36.2650,  36.2640,2,    215.2,2,     211.8,2,  -999.00,9,  -999.00,9,  -999.00,9,  -999.00,9,    1.855,2,    1.088,2,    0.143,2,    1.755,2,   -999.0,9,     1.32,2,   2023.1,6,   2369.7,2,   8.0882,2,   289.2,2,   20.0, -999.00,9,   340.0,  -999.0, -999.00,9
31RBOACES24N_2,  AR01,   121,  1,     17,2,19980222,1714, 26.5195, -76.9005,  719,     25.6,  24.0980,  36.2650,  36.2630,2,    215.0,2,     211.7,2,     1.00,2,     0.10,2,     0.04,2,     0.00,2,    1.870,2,    1.090,2,    0.145,2,    1.764,2,   -999.0,9,  -999.00,9,   2023.1,2,   -999.0,5,   8.0924,2,   289.7,2,   20.0, -999.00,9,   340.4,  -999.0, -999.00,9
31RBOACES24N_2,  AR01,   121,  1,     16,2,19980222,1714, 26.5195, -76.9005,  719,     51.0,  24.0850,  36.2650,  36.2650,2,    214.5,2,     211.3,6,     1.00,2,     0.10,2,     0.05,2,     0.00,2, -999.000,9, -999.000,9, -999.000,9, -999.000,9,   -999.0,9,  -999.00,9,   -999.0,9,   -999.0,9,   8.0884,2,  -999.0,9, -999.0, -999.00,9,  -999.0,  -999.0, -999.00,9
31RBOACES24N_2,  AR01,   121,  1,     15,2,19980222,1714, 26.5195, -76.9005,  719,     74.6,  24.0620,  36.2690,  36.2680,2,    214.8,2,     210.9,2,     1.00,2,     0.00,2,     0.06,2,     0.00,2,    1.843,2,    1.082,2,    0.137,2, -999.000,9,   -999.0,9,  -999.00,9,   2024.2,2,   2370.2,2,   8.0869,2,   287.6,2,   20.0, -999.00,9,   337.6,  -999.0, -999.00,9
31RBOACES24N_2,  AR01,   121,  1,     14,2,19980222,1714, 26.5195, -76.9005,  719,    100.6,  23.9960,  36.2770,  36.2780,2,    214.0,2,     209.7,2,     1.10,2,     0.00,2,     0.08,2,     0.00,2, -999.000,9, -999.000,9, -999.000,9, -999.000,9,   -999.0,9,  -999.00,9,   -999.0,9,   -999.0,9,   8.0859,2,  -999.0,9, -999.0, -999.00,9,  -999.0,  -999.0, -999.00,9
31RBOACES24N_2,  AR01,   121,  1,     13,2,19980222,1714, 26.5195, -76.9005,  719,    124.7,  23.3610,  36.4340,  36.4490,2,    213.0,2,     209.8,2,     1.00,2,     0.00,2,     0.19,2,     0.01,2,    1.914,2,    1.117,2,    0.150,2,    1.766,2,   -999.0,9,  -999.00,9,   2035.4,2,   2383.7,2,   8.0819,2,   296.1,2,   20.0, -999.00,9,   338.2,  -999.0, -999.00,9
31RBOACES24N_2,  AR01,   121,  1,     12,2,19980222,1714, 26.5195, -76.9005,  719,    152.5,  23.2300,  36.4980,  36.5000,2,    212.9,2,     210.1,2,     1.00,2,     0.00,2,     0.19,2,     0.01,2, -999.000,9, -999.000,9, -999.000,9, -999.000,9,   -999.0,9,  -999.00,9,   -999.0,9,   -999.0,9,   8.0838,2,  -999.0,9, -999.0, -999.00,9,  -999.0,  -999.0, -999.00,9
31RBOACES24N_2,  AR01,   121,  1,     11,2,19980222,1714, 26.5195, -76.9005,  719,    174.5,  23.0030,  36.6040,  36.6050,2,    212.7,2,     210.9,2,     1.00,2,     0.00,2,     0.12,2,     0.01,2,    1.958,2,    1.125,2,    0.155,2, -999.000,9,   -999.0,9,  -999.00,9,   2041.1,2,   2391.6,2,   8.0844,2,   293.2,2,   20.0, -999.00,9,   330.3,  -999.0, -999.00,9
31RBOACES24N_2,  AR01,   121,  1,     10,2,19980222,1714, 26.5195, -76.9005,  719,    199.6,  22.8780,  36.6320,  36.6430,2,    212.5,2,     209.7,2,     0.90,2,     0.10,2,     0.10,2,     0.01,2, -999.000,9, -999.000,9, -999.000,9, -999.000,9,   -999.0,9,  -999.00,9,   -999.0,9,   -999.0,9,   8.0815,2,  -999.0,9, -999.0, -999.00,9,  -999.0,  -999.0, -999.00,9
31RBOACES24N_2,  AR01,   121,  1,      9,2,19980222,1714, 26.5195, -76.9005,  719,    215.7,  21.6680,  36.8070,  36.8080,2,    198.4,2,     197.3,2,     0.90,2,     0.98,2,     0.05,2,     0.03,2,    2.116,2,    1.207,2,    0.090,2,    0.691,2,   -999.0,9,  -999.00,9,   2080.1,2,   2402.1,2,   8.0384,2,  -999.0,9, -999.0, -999.00,9,  -999.0,  -999.0, -999.00,9
31RBOACES24N_2,  AR01,   121,  1,      8,2,19980222,1714, 26.5195, -76.9005,  719,    233.8,  19.2730,  36.6830,  36.6860,2,    191.7,2,     193.2,2,     1.20,2,     2.73,2,     0.01,2,     0.10,2, -999.000,9, -999.000,9, -999.000,9, -999.000,9,   -999.0,9,  -999.00,9,   -999.0,9,   -999.0,9,   7.9932,2,  -999.0,9, -999.0, -999.00,9,  -999.0,  -999.0, -999.00,9
31RBOACES24N_2,  AR01,   121,  1,      7,2,19980222,1714, 26.5195, -76.9005,  719,    249.8,  18.7230,  36.6120,  36.6220,2,    192.1,2,     194.7,2,     1.40,2,     3.41,2,     0.01,2,     0.14,2,    2.241,2,    1.242,2,    0.025,2, -999.000,9,   -999.0,9,  -999.00,9,   2101.3,2,   2403.1,2,   7.9877,2,   392.3,2,   20.0, -999.00,9,   372.6,  -999.0, -999.00,9
31RBOACES24N_2,  AR01,   121,  1,      6,2,19980222,1714, 26.5195, -76.9005,  719,    275.4,  18.4440,  36.5830,  36.5800,2,    194.8,2,     196.1,2,     1.50,2,     3.90,2,     0.01,2,     0.17,2, -999.000,9, -999.000,9, -999.000,9, -999.000,9,   -999.0,9,  -999.00,9,   -999.0,9,   -999.0,9,   7.9831,2,  -999.0,9, -999.0, -999.00,9,  -999.0,  -999.0, -999.00,9
31RBOACES24N_2,  AR01,   121,  1,      5,2,19980222,1714, 26.5195, -76.9005,  719,    301.8,  18.1650,  36.5420,  36.5420,2,    196.1,2,     196.4,2,     1.60,2,     4.39,2,     0.01,2,     0.20,2,    2.238,2,    1.230,2,    0.022,2,    0.425,2,   -999.0,9,  -999.00,9,   2102.9,2,   2385.4,2,   7.9772,2,   397.7,2,   20.0, -999.00,9,   369.1,  -999.0, -999.00,9
31RBOACES24N_2,  AR01,   121,  1,      4,2,19980222,1714, 26.5195, -76.9005,  719,    324.4,  17.9200,  36.5020,  36.4990,2,    195.3,2,     195.1,2,     1.80,2,     5.07,2,     0.01,2,     0.24,2, -999.000,9, -999.000,9, -999.000,9, -999.000,9,   -999.0,9,  -999.00,9,   -999.0,9,   -999.0,9,   7.9714,2,  -999.0,9, -999.0, -999.00,9,  -999.0,  -999.0, -999.00,9
31RBOACES24N_2,  AR01,   121,  1,      3,2,19980222,1714, 26.5195, -76.9005,  719,    350.8,  17.6420,  36.4580,  36.4530,2,    195.0,2,     192.5,2,     2.00,2,     5.76,2,     0.01,2,     0.29,2,    2.179,2,    1.185,2,    0.029,2, -999.000,9,   -999.0,9,  -999.00,9,   2108.5,2,   2387.5,2,   7.9614,2,   412.4,6,   20.0, -999.00,9,   374.9,  -999.0, -999.00,9
31RBOACES24N_2,  AR01,   121,  1,      2,2,19980222,1714, 26.5195, -76.9005,  719,    376.0,  17.5040,  36.4350,  36.4320,2,    194.4,2,     191.4,2,     2.10,2,     6.05,2,     0.01,2,     0.31,2, -999.000,9, -999.000,9, -999.000,9, -999.000,9,   -999.0,9,  -999.00,9,   -999.0,9,   -999.0,9,   7.9562,2,  -999.0,9, -999.0, -999.00,9,  -999.0,  -999.0, -999.00,9
31RBOACES24N_2,  AR01,   121,  1,      1,2,19980222,1714, 26.5195, -76.9005,  719,    407.0,  17.1550,  36.3780,  36.3750,2,    192.2,2,     188.0,2,     2.40,6,     6.93,6,     0.01,6,     0.37,6,    2.125,2,    1.140,2,    0.023,2,    0.429,2,   -999.0,9,  -999.00,9,   2114.7,2,   2374.0,2,   7.9426,2,   430.6,2,   20.0, -999.00,9,   383.7,  -999.0, -999.00,9