BOTTLE,20220820CCHSIOAMB
EXPOCODE,SECT_ID,STNNBR,CASTNO,BTLNBR,BTLNBR_FLAG_W,DATE,TIME,LATITUDE,LONGITUDE,DEPTH,CTDPRS,CTDTMP,CTDSAL,SALNTY,SALNTY_FLAG_W,CTDOXY,CTDOXY_FLAG_W,OXYGEN,OXYGEN_FLAG_W,SILCAT,SILCAT_FLAG_W,NITRAT,NITRAT_FLAG_W,NITRIT,NITRIT_FLAG_W,PHSPHT,PHSPHT_FLAG_W,CFC-11,CFC-11_FLAG_W,CFC-12,CFC-12_FLAG_W,CFC113,CFC113_FLAG_W,CCL4,CCL4_FLAG_W,DELC14,DELC14_FLAG_W,DELC13,DELC13_FLAG_W,TCARBN,TCARBN_FLAG_W,ALKALI,ALKALI_FLAG_W,PH,PH_FLAG_W,FCO2,FCO2_FLAG_W,FCO2TMP,TON,TON_FLAG_W,FCO2IN,C14ERR,TOC,TOC_FLAG_W
,,,,,,,,,,,DBAR,ITS-90,PSS-78,PSS-78,,UMOL/KG,,UMOL/KG,,UMOL/KG,,UMOL/KG,,UMOL/KG,,UMOL/KG,,PMOL/KG,,PMOL/KG,,PMOL/KG,,PMOL/KG,,/MILLE,,/MILLE,,UMOL/KG,,UMOL/KG,,,,UATM,,DEG C,UMOL/KG,,UATM,/MILLE,UMOL/KG,
31RBOACES24N_2,  AR01,    51,  1,     36,2,19980205,1045, 24.4997, -44.3832, 3977,      5.2,  24.2820,  37.4960,  37.4950,2,    211.0,2,     210.7,2,     0.10,2,     0.00,2,     0.00,2,  -999.00,5,    1.864,2,    1.088,2,    0.154,2,    1.899,2,   -999.0,9,  -999.00,9,   2073.1,6,   2452.0,2,   8.1021,2,   257.5,3,   20.0, -999.00,9,   305.1,  -999.0, -999.00,9
31RBOACES24N_2,  AR01,    51,  1,     35,2,19980205,1045, 24.4997, -44.3832, 3977,     48.5,  24.2900,  37.4960,  37.4950,2,    210.5,2,     210.9,2,     0.10,2,     0.00,2,     0.00,2,  -999.00,5, -999.000,9, -999.000,9, -999.000,9,    1.758,2,   -999.0,9,  -999.00,9,   -999.0,9,   -999.0,9,-999.0000,9,  -999.0,9, -999.0, -999.00,9,  -999.0,  -999.0, -999.00,9
31RBOACES24N_2,  AR01,    51,  1,     34,2,19980205,1045, 24.4997, -44.3832, 3977,    100.0,  24.2290,  37.4810,  37.4820,2,    210.3,2,     211.0,2,     0.10,2,     0.00,2,     0.00,2,  -999.00,5, -999.000,9, -999.000,9, -999.000,9, -999.000,9,   -999.0,9,  -999.00,9,   2072.5,2,   2449.8,2,   8.1006,2,   253.7,3,   20.0, -999.00,9,   299.9,  -999.0, -999.00,9
31RBOACES24N_2,  AR01,    51,  1,     33,2,19980205,1045, 24.4997, -44.3832, 3977,    139.6,  21.5840,  37.1700,  37.1800,2,    202.6,2,     207.4,2,     0.10,2,     0.39,2,     0.04,2,  -999.00,5, -999.000,9, -999.000,9, -999.000,9,    1.089,2,   -999.0,9,  -999.00,9,   2101.2,2,   -999.0,5,   8.0333,2,  -999.0,9, -999.0, -999.00,9,  -999.0,  -999.0, -999.00,9
31RBOACES24N_2,  AR01,    51,  1,     32,2,19980205,1045, 24.4997, -44.3832, 3977,    201.3,  19.4480,  36.8350,  36.8610,2,    193.2,2,     194.9,2,     0.40,2,     2.44,2,     0.01,2,  -999.00,5, -999.000,9, -999.000,9, -999.000,9,    0.776,2,   -999.0,9,  -999.00,9,   2112.0,2,   2417.3,2,   7.9921,2,   365.5,3,   20.0, -999.00,9,   357.4,  -999.0, -999.00,9
31RBOACES24N_2,  AR01,    51,  1,     31,2,19980205,1045, 24.4997, -44.3832, 3977,    225.5,  19.0780,  36.7660,  36.7530,2,    192.9,2,     194.6,2,     0.60,2,     3.22,2,     0.01,2,  -999.00,5, -999.000,9, -999.000,9, -999.000,9, -999.000,9,   -999.0,9,  -999.00,9,   -999.0,9,   -999.0,9,-999.0000,9,  -999.0,9, -999.0, -999.00,9,  -999.0,  -999.0, -999.00,9
31RBOACES24N_2,  AR01,    51,  1,     30,2,19980205,1045, 24.4997, -44.3832, 3977,    248.9,  18.2200,  36.5970,  36.5980,2,    193.1,2,     194.7,2,     1.00,2,     4.39,2,     0.01,2,  -999.00,5, -999.000,9, -999.000,9, -999.000,9,    0.566,2,   -999.0,9,  -999.00,9,   2108.9,2,   2403.4,3,   7.9708,2,   414.2,3,   20.0, -999.00,9,   385.5,  -999.0, -999.00,9
31RBOACES24N_2,  AR01,    51,  1,     29,2,19980205,1045, 24.4997, -44.3832, 3977,    272.9,  17.8210,  36.5280,  36.5320,2,    193.0,2,     194.1,2,     1.10,2,     5.07,2,     0.01,2,  -999.00,5, -999.000,9, -999.000,9, -999.000,9, -999.000,9,   -999.0,9,  -999.00,9,   -999.0,9,   -999.0,9,-999.0000,9,  -999.0,9, -999.0, -999.00,9,  -999.0,  -999.0, -999.00,9
31RBOACES24N_2,  AR01,    51,  1,     28,2,19980205,1045, 24.4997, -44.3832, 3977,    299.3,  17.4750,  36.4640,  36.4650,2,    192.8,2,     192.3,2,     1.30,2,     5.95,2,     0.01,2,  -999.00,5, -999.000,9, -999.000,9, -999.000,9,    0.490,2,   -999.0,9,  -999.00,9,   2114.2,2,   2388.9,2,   7.9496,2,   397.6,3,   20.0, -999.00,9,   358.9,  -999.0, -999.00,9
31RBOACES24N_2,  AR01,    51,  1,     27,2,19980205,1045, 24.4997, -44.3832, 3977,    352.0,  16.8590,  36.3620,  36.3580,2,    185.5,2,     187.9,2,     1.70,2,     7.32,2,     0.01,2,  -999.00,5, -999.000,9, -999.000,9, -999.000,9, -999.000,9,   -999.0,9,  -999.00,9,   -999.0,9,   -999.0,9,-999.0000,9,  -999.0,9, -999.0, -999.00,9,  -999.0,  -999.0, -999.00,9
31RBOACES24N_2,  AR01,    51,  1,     26,2,19980205,1045, 24.4997, -44.3832, 3977,    400.4,  16.0350,  36.2260,  36.2270,2,    181.3,2,     183.5,2,     2.20,2,     8.98,2,     0.00,2,  -999.00,5, -999.000,9, -999.000,9, -999.000,9,    0.442,6,   -999.0,9,  -999.00,9,   2128.5,2,   2372.1,2,   7.9041,2,   452.1,3,   20.0, -999.00,9,   384.5,  -999.0, -999.00,9
31RBOACES24N_2,  AR01,    51,  1,     25,2,19980205,1045, 24.4997, -44.3832, 3977,    450.2,  14.9220,  36.0440,  36.0470,2,    172.9,2,     173.7,2,     3.20,2,    11.62,2,     0.00,2,  -999.00,5, -999.000,9, -999.000,9, -999.000,9, -999.000,9,   -999.0,9,  -999.00,9,   -999.0,9,   -999.0,9,-999.0000,9,  -999.0,9, -999.0, -999.00,9,  -999.0,  -999.0, -999.00,9
31RBOACES24N_2,  AR01,    51,  1,     24,2,19980205,1045, 24.4997, -44.3832, 3977,    500.6,  14.0010,  35.9020,  35.9010,2,    179.9,2,     176.7,2,     3.90,2,    12.79,2,     0.00,2,  -999.00,5, -999.000,9, -999.000,9, -999.000,9,    0.419,2,   -999.0,9,  -999.00,9,   2142.2,2,   2356.5,2,   7.8449,2,  -999.0,9, -999.0, -999.00,9,  -999.0,  -999.0, -999.00,9
31RBOACES24N_2,  AR01,    51,  1,     23,2,19980205,1045, 24.4997, -44.3832, 3977,    601.5,  12.5720,  35.6980,  35.6960,2,    172.6,2,     170.6,2,     5.50,2,    15.82,2,     0.00,2,  -999.00,5, -999.000,9, -999.000,9, -999.000,9, -999.000,9,   -999.0,9,  -999.00,9,   2155.3,2,   2351.5,3,   7.8001,2,   589.0,3,   20.0, -999.00,9,   433.7,  -999.0, -999.00,9
31RBOACES24N_2,  AR01,    51,  1,     22,2,19980205,1045, 24.4997, -44.3832, 3977,    699.3,  10.8480,  35.4810,  35.4860,2,    159.4,2,     156.7,2,     8.80,2,    20.12,2,     0.00,2,  -999.00,5, -999.000,9, -999.000,9, -999.000,9,    0.264,2,   -999.0,9,  -999.00,9,   -999.0,9,   -999.0,9,-999.0000,9,  -999.0,9, -999.0, -999.00,9,  -999.0,  -999.0, -999.00,9
31RBOACES24N_2,  AR01,    51,  1,     21,2,19980205,1045, 24.4997, -44.3832, 3977,    815.4,   9.2010,  35.2890,  35.2890,2,    149.8,2,     148.9,2,    13.00,2,    23.83,2,     0.00,2,  -999.00,5, -999.000,9, -999.000,9, -999.000,9, -999.000,9,   -999.0,9,  -999.00,9,   2186.0,2,   -999.0,5,   7.6941,2,   763.4,3,   20.0, -999.00,9,   487.4,  -999.0, -999.00,9
31RBOACES24N_2,  AR01,    51,  1,     20,2,19980205,1045, 24.4997, -44.3832, 3977,    902.1,   8.2190,  35.1760,  35.1730,2,    149.5,2,     149.7,6,    15.30,2,    25.49,2,     0.00,2,  -999.00,5, -999.000,9, -999.000,9, -999.000,9,    0.111,2,   -999.0,9,  -999.00,9,   -999.0,9,   -999.0,9,-999.0000,9,  -999.0,9, -999.0, -999.00,9,  -999.0,  -999.0, -999.00,9
31RBOACES24N_2,  AR01,    51,  1,     19,2,19980205,1045, 24.4997, -44.3832, 3977,   1000.8,   7.0180,  35.1050,  35.1120,2,    160.6,2,     163.5,2,    16.80,2,    25.40,2,     0.00,2,  -999.00,5, -999.000,9, -999.000,9, -999.000,9, -999.000,9,   -999.0,9,  -999.00,9,   2193.5,6,   -999.0,5,   7.6690,2,   818.2,3,   20.0, -999.00,9,   474.4,  -999.0, -999.00,9
31RBOACES24N_2,  AR01,    51,  1,     18,2,19980205,1045, 24.4997, -44.3832, 3977,   1100.2,   6.1210,  35.0420,  35.0450,2,    179.1,2,     179.1,2,    17.70,2,    25.01,2,     0.00,2,  -999.00,5, -999.000,9, -999.000,9, -999.000,9, -999.000,9,   -999.0,9,  -999.00,9,   -999.0,9,   -999.0,9,-999.0000,9,  -999.0,9, -999.0, -999.00,9,  -999.0,  -999.0, -999.00,9
31RBOACES24N_2,  AR01,    51,  1,     17,2,19980205,1045, 24.4997, -44.3832, 3977,   1200.7,   5.6810,  35.0270,  35.0260,2,    190.7,2,     191.2,6,    17.50,2,    24.23,2,     0.00,2,  -999.00,5, -999.000,9, -999.000,9, -999.000,9,    0.229,6,   -999.0,9,  -999.00,9,   -999.0,9,   -999.0,9,-999.0000,9,  -999.0,9, -999.0, -999.00,9,  -999.0,  -999.0, -999.00,9
31RBOACES24N_2,  AR01,    51,  1,     16,2,19980205,1045, 24.4997, -44.3832, 3977,   1300.5,   5.3310,  35.0390,  35.0380,2,    207.6,2,     206.7,2,    16.70,2,    22.76,2,     0.00,2,  -999.00,5, -999.000,9, -999.000,9, -999.000,9, -999.000,9,   -999.0,9,  -999.00,9,   -999.0,9,   -999.0,9,-999.0000,9,  -999.0,9, -999.0, -999.00,9,  -999.0,  -999.0, -999.00,9
31RBOACES24N_2,  AR01,    51,  1,     15,2,19980205,1045, 24.4997, -44.3832, 3977,   1398.8,   5.1350,  35.0440,  35.0440,2,    217.9,2,     214.9,2,    16.20,2,    21.98,2,     0.00,2,  -999.00,5, -999.000,9, -999.000,9, -999.000,9, -999.000,9,   -999.0,9,  -999.00,9,   -999.0,9,   -999.0,9,-999.0000,9,  -999.0,9, -999.0, -999.00,9,  -999.0,  -999.0, -999.00,9
31RBOACES24N_2,  AR01,    51,  1,     14,2,19980205,1045, 24.4997, -44.3832, 3977,   1500.1,   4.8200,  35.0470,  35.0490,2,    225.9,2,     225.7,2,    16.30,2,    21.10,2,     0.00,2,  -999.00,5, -999.000,9, -999.000,9, -999.000,9, -999.000,9,   -999.0,9,  -999.00,9,   2172.4,2,   2325.6,3,   7.7131,2,   743.3,3,   20.0, -999.00,9,   388.1,  -999.0, -999.00,9
31RBOACES24N_2,  AR01,    51,  1,     13,2,19980205,1045, 24.4997, -44.3832, 3977,   1600.7,   4.6310,  35.0520,  35.0510,2,    232.4,2,     231.2,2,    16.80,2,    20.71,2,     0.00,2,  -999.00,5, -999.000,9, -999.000,9, -999.000,9, -999.000,9,   -999.0,9,  -999.00,9,   -999.0,9,   -999.0,9,-999.0000,9,  -999.0,9, -999.0, -999.00,9,  -999.0,  -999.0, -999.00,9
31RBOACES24N_2,  AR01,    51,  1,     12,2,19980205,1045, 24.4997, -44.3832, 3977,   1799.8,   4.1870,  35.0350,  35.0350,2,    238.6,2,     240.2,2,    18.40,2,    20.22,2,     0.00,2,  -999.00,5, -999.000,9, -999.000,9, -999.000,9, -999.000,9,   -999.0,9,  -999.00,9,   -999.0,9,   -999.0,9,-999.0000,9,  -999.0,9, -999.0, -999.00,9,  -999.0,  -999.0, -999.00,9
31RBOACES24N_2,  AR01,    51,  1,     11,2,19980205,1045, 24.4997, -44.3832, 3977,   2000.9,   3.7850,  35.0130,  35.0130,2,    246.3,2,     245.9,2,    20.90,2,    20.03,2,     0.00,2,  -999.00,5, -999.000,9, -999.000,9, -999.000,9, -999.000,9,   -999.0,9,  -999.00,9,   -999.0,9,   -999.0,9,-999.0000,9,  -999.0,9, -999.0, -999.00,9,  -999.0,  -999.0, -999.00,9
31RBOACES24N_2,  AR01,    51,  1,     10,2,19980205,1045, 24.4997, -44.3832, 3977,   2201.2,   3.4670,  34.9950,  34.9940,2,    250.2,2,     249.3,2,    23.40,2,    20.03,2,     0.00,2,  -999.00,5, -999.000,9, -999.000,9, -999.000,9, -999.000,9,   -999.0,9,  -999.00,9,   -999.0,9,   -999.0,9,-999.0000,9,  -999.0,9, -999.0, -999.00,9,  -999.0,  -999.0, -999.00,9
31RBOACES24N_2,  AR01,    51,  1,      9,2,19980205,1045, 24.4997, -44.3832, 3977,   2400.0,   3.2420,  34.9770,  34.9780,2,    250.8,2,     250.8,2,    26.10,2,    20.03,2,     0.00,2,  -999.00,5,    0.019,2,    0.013,2,   -0.001,2,    0.152,2,   -999.0,9,  -999.00,9,   -999.0,9,   -999.0,9,-999.0000,9,  -999.0,9, -999.0, -999.00,9,  -999.0,  -999.0, -999.00,9
31RBOACES24N_2,  AR01,    51,  1,      8,2,19980205,1045, 24.4997, -44.3832, 3977,   2601.5,   2.9780,  34.9570,  34.9580,2,    250.1,2,     250.8,2,    29.90,2,    20.52,2,     0.00,2,  -999.00,5, -999.000,9, -999.000,9, -999.000,9, -999.000,9,   -999.0,9,  -999.00,9,   2179.8,2,   -999.0,5,   7.7319,2,   703.1,3,   20.0, -999.00,9,   334.1,  -999.0, -999.00,9
31RBOACES24N_2,  AR01,    51,  1,      7,2,19980205,1045, 24.4997, -44.3832, 3977,   2801.4,   2.8750,  34.9470,  34.9490,2,    249.1,2,     249.9,2,    31.90,2,    20.71,2,     0.00,2,  -999.00,5,    0.007,2,    0.005,2,    0.001,2,    0.081,2,   -999.0,9,  -999.00,9,   -999.0,9,   -999.0,9,-999.0000,9,  -999.0,9, -999.0, -999.00,9,  -999.0,  -999.0, -999.00,9
31RBOACES24N_2,  AR01,    51,  1,      6,2,19980205,1045, 24.4997, -44.3832, 3977,   2999.5,   2.7310,  34.9350,  34.9350,2,    249.4,2,     250.4,2,    34.60,2,    20.91,2,     0.00,2,  -999.00,5, -999.000,9, -999.000,9, -999.000,9, -999.000,9,   -999.0,9,  -999.00,9,   -999.0,9,   -999.0,9,-999.0000,9,  -999.0,9, -999.0, -999.00,9,  -999.0,  -999.0, -999.00,9
31RBOACES24N_2,  AR01,    51,  1,      5,2,19980205,1045, 24.4997, -44.3832, 3977,   3250.1,   2.6540,  34.9260,  34.9260,2,    250.7,2,     250.6,2,    36.50,2,    21.10,2,     0.00,2,  -999.00,5,    0.005,2,    0.000,2,    0.001,2,    0.081,2,   -999.0,9,  -999.00,9,   -999.0,9,   -999.0,9,-999.0000,9,  -999.0,9, -999.0, -999.00,9,  -999.0,  -999.0, -999.00,9
31RBOACES24N_2,  AR01,    51,  1,      4,2,19980205,1045, 24.4997, -44.3832, 3977,   3473.5,   2.6160,  34.9210,  34.9210,2,    250.0,2,     250.5,2,    37.60,2,    21.20,2,     0.00,2,  -999.00,5, -999.000,9, -999.000,9, -999.000,9,    0.066,2,   -999.0,9,  -999.00,9,   -999.0,9,   -999.0,9,-999.0000,9,  -999.0,9, -999.0, -999.00,9,  -999.0,  -999.0, -999.00,9
31RBOACES24N_2,  AR01,    51,  1,      3,2,19980205,1045, 24.4997, -44.3832, 3977,   3741.1,   2.5670,  34.9140,  34.9140,2,    252.1,2,     252.5,2,    38.40,2,    21.20,2,     0.00,2,  -999.00,5,    0.004,2,    0.002,2,    0.002,2,    0.081,2,   -999.0,9,  -999.00,9,   -999.0,9,   -999.0,9,-999.0000,9,  -999.0,9, -999.0, -999.00,9,  -999.0,  -999.0, -999.00,9
31RBOACES24N_2,  AR01,    51,  1,      2,2,19980205,1045, 24.4997, -44.3832, 3977,   4012.1,   2.5630,  34.9100,-999.0000,9,    251.0,2,    -999.0,9,  -999.00,9,  -999.00,9,  -999.00,9,  -999.00,9, -999.000,1, -999.000,1, -999.000,1, -999.000,9,   -999.0,9,  -999.00,9,   -999.0,9,   -999.0,9,-999.0000,9,  -999.0,9, -999.0, -999.00,9,  -999.0,  -999.0, -999.00,9
31RBOACES24N_2,  AR01,    51,  1,      1,2,19980205,1045, 24.4997, -44.3832, 3977,   4013.3,   2.5630,  34.9100,  34.9110,2,    251.0,2,     251.4,6,    39.40,6,    21.40,6,     0.00,6,  -999.00,5,    0.003,2,    0.004,2,   -0.002,2,    0.067,6,   -999.0,9,  -999.00,9,   2188.9,2,   -999.0,5,   7.7288,2,   750.2,3,   20.0, -999.00,9,   349.7,  -999.0, -999.00,9