BOTTLE,20220820CCHSIOAMB
EXPOCODE,SECT_ID,STNNBR,CASTNO,BTLNBR,BTLNBR_FLAG_W,DATE,TIME,LATITUDE,LONGITUDE,DEPTH,CTDPRS,CTDTMP,CTDSAL,SALNTY,SALNTY_FLAG_W,CTDOXY,CTDOXY_FLAG_W,OXYGEN,OXYGEN_FLAG_W,SILCAT,SILCAT_FLAG_W,NITRAT,NITRAT_FLAG_W,NITRIT,NITRIT_FLAG_W,PHSPHT,PHSPHT_FLAG_W,CFC-11,CFC-11_FLAG_W,CFC-12,CFC-12_FLAG_W,CFC113,CFC113_FLAG_W,CCL4,CCL4_FLAG_W,DELC14,DELC14_FLAG_W,DELC13,DELC13_FLAG_W,TCARBN,TCARBN_FLAG_W,ALKALI,ALKALI_FLAG_W,PH,PH_FLAG_W,FCO2,FCO2_FLAG_W,FCO2TMP,TON,TON_FLAG_W,FCO2IN,C14ERR,TOC,TOC_FLAG_W
,,,,,,,,,,,DBAR,ITS-90,PSS-78,PSS-78,,UMOL/KG,,UMOL/KG,,UMOL/KG,,UMOL/KG,,UMOL/KG,,UMOL/KG,,PMOL/KG,,PMOL/KG,,PMOL/KG,,PMOL/KG,,/MILLE,,/MILLE,,UMOL/KG,,UMOL/KG,,,,UATM,,DEG C,UMOL/KG,,UATM,/MILLE,UMOL/KG,
31RBOACES24N_2,  AR01,    44,  1,     36,2,19980203,1912, 24.5000, -40.5332, 5087,      4.3,  23.4810,  37.3360,  37.3450,2,    215.0,2,     215.1,2,     0.50,2,     0.00,2,     0.00,2,  -999.00,5,    1.925,2,    1.107,2,    0.159,2, -999.000,9,   -999.0,9,  -999.00,9,   -999.0,9,   -999.0,9,   8.0878,2,  -999.0,9, -999.0, -999.00,9,  -999.0,  -999.0,   69.13,2
31RBOACES24N_2,  AR01,    44,  1,     35,3,19980203,1912, 24.5000, -40.5332, 5087,     51.4,  23.2670,  37.3540,  37.3550,2,    214.7,2,     215.8,2,     0.50,2,     0.00,2,     0.00,2,  -999.00,5,    1.948,2,    1.126,2,    0.171,2, -999.000,9,   -999.0,9,  -999.00,9,   -999.0,9,   -999.0,9,-999.0000,9,  -999.0,9, -999.0, -999.00,9,  -999.0,  -999.0,   67.37,2
31RBOACES24N_2,  AR01,    44,  1,     34,2,19980203,1912, 24.5000, -40.5332, 5087,    101.7,  22.9650,  37.3190,  37.2990,2,    214.8,2,     217.3,2,     0.30,2,     0.00,2,     0.00,2,  -999.00,5, -999.000,9, -999.000,9, -999.000,9, -999.000,9,   -999.0,9,  -999.00,9,   -999.0,9,   2430.4,2,   8.0750,2,  -999.0,9, -999.0, -999.00,9,  -999.0,  -999.0,   65.32,2
31RBOACES24N_2,  AR01,    44,  1,     33,2,19980203,1912, 24.5000, -40.5332, 5087,    150.9,  19.0650,  36.7070,  36.6940,2,    209.8,2,     213.7,6,     0.60,2,     0.68,2,     0.02,2,  -999.00,5,    2.314,6,    1.327,6,    0.153,6, -999.000,9,   -999.0,9,  -999.00,9,   -999.0,9,   -999.0,9,-999.0000,9,  -999.0,9, -999.0, -999.00,9,  -999.0,  -999.0,   55.73,2
31RBOACES24N_2,  AR01,    44,  1,     32,2,19980203,1912, 24.5000, -40.5332, 5087,    187.1,  18.6030,  36.6250,  36.6230,2,    210.9,2,     213.1,2,     0.70,2,     1.95,2,     0.01,2,  -999.00,5,    2.347,2,    1.340,2,    0.086,2, -999.000,9,   -999.0,9,  -999.00,9,   -999.0,9,   2371.8,2,   8.0048,2,  -999.0,9, -999.0, -999.00,9,  -999.0,  -999.0,   50.18,2
31RBOACES24N_2,  AR01,    44,  1,     31,2,19980203,1912, 24.5000, -40.5332, 5087,    228.1,  18.2260,  36.5590,  36.5510,2,    210.1,2,     210.9,2,     0.80,2,     3.02,2,     0.01,2,  -999.00,5,    2.362,2,    1.343,2,    0.057,2, -999.000,9,   -999.0,9,  -999.00,9,   -999.0,9,   -999.0,9,-999.0000,9,  -999.0,9, -999.0, -999.00,9,  -999.0,  -999.0,   48.91,2
31RBOACES24N_2,  AR01,    44,  1,     30,2,19980203,1912, 24.5000, -40.5332, 5087,    254.9,  17.9870,  36.5170,  36.5090,2,    207.4,2,     208.9,2,     1.10,2,     3.71,2,     0.01,2,  -999.00,5,    2.337,2,    1.327,2,    0.048,2, -999.000,9,   -999.0,9,  -999.00,9,   -999.0,9,   2377.2,2,   7.9883,2,  -999.0,9, -999.0, -999.00,9,  -999.0,  -999.0, -999.00,9
31RBOACES24N_2,  AR01,    44,  1,     29,2,19980203,1912, 24.5000, -40.5332, 5087,    278.1,  17.5730,  36.4550,  36.4550,2,    206.9,2,     206.2,2,     1.30,2,     4.59,2,     0.01,2,  -999.00,5, -999.000,9, -999.000,9, -999.000,9, -999.000,9,   -999.0,9,  -999.00,9,   -999.0,9,   -999.0,9,-999.0000,9,  -999.0,9, -999.0, -999.00,9,  -999.0,  -999.0,   48.90,2
31RBOACES24N_2,  AR01,    44,  1,     28,2,19980203,1912, 24.5000, -40.5332, 5087,    304.5,  17.2610,  36.4070,  36.4030,2,    205.0,2,     204.3,2,     1.50,2,     5.17,2,     0.01,2,  -999.00,5,    2.334,2,    1.297,2,    0.043,2, -999.000,9,   -999.0,9,  -999.00,9,   -999.0,9,   2377.3,2,   7.9635,2,  -999.0,9, -999.0, -999.00,9,  -999.0,  -999.0, -999.00,9
31RBOACES24N_2,  AR01,    44,  1,     27,2,19980203,1912, 24.5000, -40.5332, 5087,    354.9,  16.4510,  36.2830,  36.2820,2,    200.7,2,     200.7,2,     2.00,2,     6.83,2,     0.01,2,  -999.00,5, -999.000,9, -999.000,9, -999.000,9, -999.000,9,   -999.0,9,  -999.00,9,   -999.0,9,   -999.0,9,-999.0000,9,  -999.0,9, -999.0, -999.00,9,  -999.0,  -999.0,   47.44,2
31RBOACES24N_2,  AR01,    44,  1,     26,2,19980203,1912, 24.5000, -40.5332, 5087,    405.9,  15.4660,  36.1230,  36.1350,2,    197.7,2,     196.3,2,     3.00,2,     8.59,2,     0.01,2,  -999.00,5,    2.234,2,    1.219,2,    0.038,2, -999.000,9,   -999.0,9,  -999.00,9,   -999.0,9,   2360.8,2,   7.9113,2,  -999.0,9, -999.0, -999.00,9,  -999.0,  -999.0, -999.00,9
31RBOACES24N_2,  AR01,    44,  1,     25,2,19980203,1912, 24.5000, -40.5332, 5087,    452.6,  14.8830,  36.0300,  36.0310,2,    190.4,2,     190.6,2,     3.20,2,    10.05,2,     0.01,2,  -999.00,5, -999.000,9, -999.000,9, -999.000,9, -999.000,9,   -999.0,9,  -999.00,9,   -999.0,9,   -999.0,9,-999.0000,9,  -999.0,9, -999.0, -999.00,9,  -999.0,  -999.0,   47.14,2
31RBOACES24N_2,  AR01,    44,  1,     24,2,19980203,1912, 24.5000, -40.5332, 5087,    505.4,  14.0380,  35.9070,  35.9030,2,    185.8,2,     185.1,2,     3.90,2,    11.91,2,     0.01,2,  -999.00,5,    2.056,2,    1.079,2,    0.035,2, -999.000,9,   -999.0,9,  -999.00,9,   -999.0,9,   2359.9,2,   7.8576,2,  -999.0,9, -999.0, -999.00,9,  -999.0,  -999.0, -999.00,9
31RBOACES24N_2,  AR01,    44,  1,     23,2,19980203,1912, 24.5000, -40.5332, 5087,    602.8,  12.5490,  35.7090,  35.7070,2,    177.9,2,     180.2,2,     5.20,2,    14.74,2,     0.01,2,  -999.00,5,    1.843,2,    0.936,2,    0.022,2, -999.000,9,   -999.0,9,  -999.00,9,   -999.0,9,   -999.0,9,-999.0000,9,  -999.0,9, -999.0, -999.00,9,  -999.0,  -999.0,   44.01,2
31RBOACES24N_2,  AR01,    44,  1,     22,2,19980203,1912, 24.5000, -40.5332, 5087,    705.2,  10.8780,  35.5060,  35.5020,2,    161.5,2,     161.8,2,     8.70,2,    19.53,2,     0.01,2,  -999.00,5, -999.000,9, -999.000,9, -999.000,9, -999.000,9,   -999.0,9,  -999.00,9,   -999.0,9,   2338.7,2,   7.7460,2,  -999.0,9, -999.0, -999.00,9,  -999.0,  -999.0, -999.00,9
31RBOACES24N_2,  AR01,    44,  1,     21,2,19980203,1912, 24.5000, -40.5332, 5087,    805.8,   9.5240,  35.3600,  35.3570,2,    150.1,2,     149.1,2,    12.40,2,    23.34,2,     0.01,2,  -999.00,5,    0.406,2,    0.190,2,    0.005,2, -999.000,9,   -999.0,9,  -999.00,9,   -999.0,9,   -999.0,9,-999.0000,9,  -999.0,9, -999.0, -999.00,9,  -999.0,  -999.0,   41.95,2
31RBOACES24N_2,  AR01,    44,  1,     20,2,19980203,1912, 24.5000, -40.5332, 5087,    905.6,   8.0800,  35.2110,  35.2110,2,    148.5,2,     150.4,2,    15.80,2,    25.39,2,     0.01,2,  -999.00,5, -999.000,9, -999.000,9, -999.000,9, -999.000,9,   -999.0,9,  -999.00,9,   -999.0,9,   2338.4,2,   7.6722,2,  -999.0,9, -999.0, -999.00,9,  -999.0,  -999.0, -999.00,9
31RBOACES24N_2,  AR01,    44,  1,     19,2,19980203,1912, 24.5000, -40.5332, 5087,   1000.2,   7.1190,  35.1140,  35.1130,2,    161.6,2,     159.4,2,    17.60,2,    25.88,2,     0.01,2,  -999.00,5,    0.090,2,    0.038,2,   -0.001,2, -999.000,9,   -999.0,9,  -999.00,9,   -999.0,9,   -999.0,9,-999.0000,9,  -999.0,9, -999.0, -999.00,9,  -999.0,  -999.0, -999.00,9
31RBOACES24N_2,  AR01,    44,  1,     18,2,19980203,1912, 24.5000, -40.5332, 5087,   1199.0,   5.9910,  35.0670,  35.0650,2,    189.6,2,     186.1,2,    17.80,2,    24.12,2,     0.01,2,  -999.00,5, -999.000,9, -999.000,9, -999.000,9, -999.000,9,   -999.0,9,  -999.00,9,   -999.0,9,   2332.1,2,   7.6796,2,  -999.0,9, -999.0, -999.00,9,  -999.0,  -999.0, -999.00,9
31RBOACES24N_2,  AR01,    44,  1,     17,2,19980203,1912, 24.5000, -40.5332, 5087,   1401.9,   5.1590,  35.0520,  35.0520,2,    213.8,2,     212.4,2,    17.20,2,    22.17,2,     0.01,2,  -999.00,5,    0.054,2,    0.022,2,    0.000,2, -999.000,9,   -999.0,9,  -999.00,9,   -999.0,9,   -999.0,9,-999.0000,9,  -999.0,9, -999.0, -999.00,9,  -999.0,  -999.0, -999.00,9
31RBOACES24N_2,  AR01,    44,  1,     16,2,19980203,1912, 24.5000, -40.5332, 5087,   1600.2,   4.7920,  35.0710,  35.0710,2,    226.3,2,     225.6,2,    17.50,2,    21.00,2,     0.01,2,  -999.00,5, -999.000,9, -999.000,9, -999.000,9, -999.000,9,   -999.0,9,  -999.00,9,   -999.0,9,   2326.5,2,   7.7173,2,  -999.0,9, -999.0, -999.00,9,  -999.0,  -999.0, -999.00,9
31RBOACES24N_2,  AR01,    44,  1,     15,2,19980203,1912, 24.5000, -40.5332, 5087,   1799.2,   4.3340,  35.0570,  35.0570,2,    236.5,2,     235.8,2,    18.80,2,    20.41,2,     0.01,2,  -999.00,5, -999.000,9, -999.000,9, -999.000,9, -999.000,9,   -999.0,9,  -999.00,9,   -999.0,9,   -999.0,9,-999.0000,9,  -999.0,9, -999.0, -999.00,9,  -999.0,  -999.0, -999.00,9
31RBOACES24N_2,  AR01,    44,  1,     14,9,19980203,1912, 24.5000, -40.5332, 5087,   2000.3,   3.8360,  35.0150,-999.0000,9,    242.8,2,    -999.0,9,  -999.00,9,  -999.00,9,  -999.00,9,  -999.00,9, -999.000,9, -999.000,9, -999.000,9, -999.000,9,   -999.0,9,  -999.00,9,   -999.0,9,   -999.0,9,-999.0000,9,  -999.0,9, -999.0, -999.00,9,  -999.0,  -999.0, -999.00,9
31RBOACES24N_2,  AR01,    44,  1,     13,2,19980203,1912, 24.5000, -40.5332, 5087,   2200.9,   3.5510,  34.9980,  34.9980,2,    245.9,2,     246.2,2,    23.80,2,    20.41,2,     0.01,2,  -999.00,5,    0.006,2,    0.001,2,    0.002,2, -999.000,9,   -999.0,9,  -999.00,9,   -999.0,9,   2335.7,2,   7.7324,2,  -999.0,9, -999.0, -999.00,9,  -999.0,  -999.0, -999.00,9
31RBOACES24N_2,  AR01,    44,  1,     12,9,19980203,1912, 24.5000, -40.5332, 5087,   2399.8,   3.3120,  34.9820,-999.0000,9,    246.6,2,    -999.0,9,  -999.00,9,  -999.00,9,  -999.00,9,  -999.00,9, -999.000,9, -999.000,9, -999.000,9, -999.000,9,   -999.0,9,  -999.00,9,   -999.0,9,   -999.0,9,-999.0000,9,  -999.0,9, -999.0, -999.00,9,  -999.0,  -999.0, -999.00,9
31RBOACES24N_2,  AR01,    44,  1,     11,2,19980203,1912, 24.5000, -40.5332, 5087,   2576.3,   3.1250,  34.9690,  34.9680,2,    246.9,2,     247.2,2,    29.00,2,    20.61,2,     0.01,2,  -999.00,5, -999.000,9, -999.000,9, -999.000,9, -999.000,9,   -999.0,9,  -999.00,9,   -999.0,9,   2341.5,2,   7.7309,2,  -999.0,9, -999.0, -999.00,9,  -999.0,  -999.0, -999.00,9
31RBOACES24N_2,  AR01,    44,  1,     10,9,19980203,1912, 24.5000, -40.5332, 5087,   2799.6,   2.9590,  34.9550,-999.0000,9,    246.4,2,    -999.0,9,  -999.00,9,  -999.00,9,  -999.00,9,  -999.00,9, -999.000,9, -999.000,9, -999.000,9, -999.000,9,   -999.0,9,  -999.00,9,   -999.0,9,   -999.0,9,-999.0000,9,  -999.0,9, -999.0, -999.00,9,  -999.0,  -999.0, -999.00,9
31RBOACES24N_2,  AR01,    44,  1,      9,2,19980203,1912, 24.5000, -40.5332, 5087,   2999.6,   2.8140,  34.9430,  34.9430,2,    246.2,2,     247.3,2,    34.40,2,    21.10,2,     0.01,2,  -999.00,5,    0.000,2,    0.000,2,   -0.001,2, -999.000,9,   -999.0,9,  -999.00,9,   -999.0,9,   -999.0,9,-999.0000,9,  -999.0,9, -999.0, -999.00,9,  -999.0,  -999.0, -999.00,9
31RBOACES24N_2,  AR01,    44,  1,      8,2,19980203,1912, 24.5000, -40.5332, 5087,   3200.2,   2.6870,  34.9310,  34.9310,2,    247.3,2,     248.8,2,    36.90,2,    21.29,2,     0.01,2,  -999.00,5, -999.000,9, -999.000,9, -999.000,9, -999.000,9,   -999.0,9,  -999.00,9,   -999.0,9,   -999.0,9,-999.0000,9,  -999.0,9, -999.0, -999.00,9,  -999.0,  -999.0, -999.00,9
31RBOACES24N_2,  AR01,    44,  1,      7,2,19980203,1912, 24.5000, -40.5332, 5087,   3395.3,   2.5900,  34.9200,  34.9200,2,    249.2,2,     247.8,2,    39.00,2,    21.39,2,     0.01,2,  -999.00,5, -999.000,9, -999.000,9, -999.000,9, -999.000,9,   -999.0,9,  -999.00,9,   -999.0,9,   -999.0,9,   7.7277,2,  -999.0,9, -999.0, -999.00,9,  -999.0,  -999.0, -999.00,9
31RBOACES24N_2,  AR01,    44,  1,      6,2,19980203,1912, 24.5000, -40.5332, 5087,   3556.3,   2.5250,  34.9140,  34.9130,2,    249.7,2,     248.6,2,    40.40,2,    21.49,2,     0.01,2,  -999.00,5,    0.000,2,   -0.004,2,    0.003,2, -999.000,9,   -999.0,9,  -999.00,9,   -999.0,9,   -999.0,9,-999.0000,9,  -999.0,9, -999.0, -999.00,9,  -999.0,  -999.0, -999.00,9
31RBOACES24N_2,  AR01,    44,  1,      5,2,19980203,1912, 24.5000, -40.5332, 5087,   3799.8,   2.4640,  34.9060,  34.9050,2,    250.6,2,     249.7,2,    42.00,2,    21.68,2,     0.01,2,  -999.00,5, -999.000,9, -999.000,9, -999.000,9, -999.000,9,   -999.0,9,  -999.00,9,   -999.0,9,   -999.0,9,-999.0000,9,  -999.0,9, -999.0, -999.00,9,  -999.0,  -999.0, -999.00,9
31RBOACES24N_2,  AR01,    44,  1,      4,2,19980203,1912, 24.5000, -40.5332, 5087,   3999.5,   2.4270,  34.9000,  34.8990,2,    251.3,2,     249.6,2,    43.30,2,    21.78,2,     0.01,2,  -999.00,5,    0.000,2,    0.000,2,    0.003,2, -999.000,9,   -999.0,9,  -999.00,9,   -999.0,9,   -999.0,9,-999.0000,9,  -999.0,9, -999.0, -999.00,9,  -999.0,  -999.0, -999.00,9
31RBOACES24N_2,  AR01,    44,  1,      3,2,19980203,1912, 24.5000, -40.5332, 5087,   4200.4,   2.4090,  34.8960,  34.8950,2,    251.0,2,     250.3,2,    44.10,2,    21.78,2,     0.01,2,  -999.00,5, -999.000,9, -999.000,9, -999.000,9, -999.000,9,   -999.0,9,  -999.00,9,   -999.0,9,   -999.0,9,-999.0000,9,  -999.0,9, -999.0, -999.00,9,  -999.0,  -999.0, -999.00,9
31RBOACES24N_2,  AR01,    44,  1,      2,2,19980203,1912, 24.5000, -40.5332, 5087,   4499.8,   2.3880,  34.8900,  34.8890,2,    251.3,2,     250.7,2,    45.40,2,    21.98,2,     0.01,2,  -999.00,5,    0.001,2,    0.000,2,    0.001,2, -999.000,9,   -999.0,9,  -999.00,9,   -999.0,9,   -999.0,9,-999.0000,9,  -999.0,9, -999.0, -999.00,9,  -999.0,  -999.0, -999.00,9
31RBOACES24N_2,  AR01,    44,  1,      1,2,19980203,1912, 24.5000, -40.5332, 5087,   4859.0,   2.3820,  34.8850,  34.8840,2,    251.5,2,     242.4,3,    46.40,6,    21.98,6,     0.01,6,  -999.00,5,    0.000,2,   -0.001,2,    0.000,2, -999.000,9,   -999.0,9,  -999.00,9,   -999.0,9,   -999.0,9,   7.7190,2,  -999.0,9, -999.0, -999.00,9,  -999.0,  -999.0, -999.00,9