BOTTLE,20220820CCHSIOAMB
EXPOCODE,SECT_ID,STNNBR,CASTNO,BTLNBR,BTLNBR_FLAG_W,DATE,TIME,LATITUDE,LONGITUDE,DEPTH,CTDPRS,CTDTMP,CTDSAL,SALNTY,SALNTY_FLAG_W,CTDOXY,CTDOXY_FLAG_W,OXYGEN,OXYGEN_FLAG_W,SILCAT,SILCAT_FLAG_W,NITRAT,NITRAT_FLAG_W,NITRIT,NITRIT_FLAG_W,PHSPHT,PHSPHT_FLAG_W,CFC-11,CFC-11_FLAG_W,CFC-12,CFC-12_FLAG_W,CFC113,CFC113_FLAG_W,CCL4,CCL4_FLAG_W,DELC14,DELC14_FLAG_W,DELC13,DELC13_FLAG_W,TCARBN,TCARBN_FLAG_W,ALKALI,ALKALI_FLAG_W,PH,PH_FLAG_W,FCO2,FCO2_FLAG_W,FCO2TMP,TON,TON_FLAG_W,FCO2IN,C14ERR,TOC,TOC_FLAG_W
,,,,,,,,,,,DBAR,ITS-90,PSS-78,PSS-78,,UMOL/KG,,UMOL/KG,,UMOL/KG,,UMOL/KG,,UMOL/KG,,UMOL/KG,,PMOL/KG,,PMOL/KG,,PMOL/KG,,PMOL/KG,,/MILLE,,/MILLE,,UMOL/KG,,UMOL/KG,,,,UATM,,DEG C,UMOL/KG,,UATM,/MILLE,UMOL/KG,
31RBOACES24N_2,  AR01,    77,  1,     36,2,19980212,1622, 24.4995, -60.3333, 5845,      5.0,  23.8900,  36.8060,  36.8060,2,    217.7,2,     213.6,2,     0.90,2,     0.00,2,     0.00,2,     0.02,2, -999.000,9, -999.000,9, -999.000,9, -999.000,9,   -999.0,9,     1.33,2,   2037.6,6,   2420.2,2,   8.1100,2,   270.9,2,   20.0, -999.00,9,   316.0,  -999.0, -999.00,9
31RBOACES24N_2,  AR01,    77,  1,     35,2,19980212,1622, 24.4995, -60.3333, 5845,     50.6,  23.7790,  36.7930,  36.7930,2,    213.2,2,     214.3,2,     0.90,2,     0.00,2,     0.00,2,     0.02,2, -999.000,9, -999.000,9, -999.000,9, -999.000,9,     68.6,2,  -999.00,9,   -999.0,9,   -999.0,9,-999.0000,9,  -999.0,9, -999.0, -999.00,9,  -999.0,     2.9, -999.00,9
31RBOACES24N_2,  AR01,    77,  1,     34,2,19980212,1622, 24.4995, -60.3333, 5845,     99.9,  23.1880,  36.7810,  36.7810,2,    216.2,2,     216.8,2,     0.70,2,     0.00,2,     0.00,2,     0.03,2, -999.000,9, -999.000,9, -999.000,9, -999.000,9,     76.0,2,  -999.00,9,   2043.6,2,   2407.6,2,   8.0945,2,   284.2,2,   20.0, -999.00,9,   322.5,     4.8, -999.00,9
31RBOACES24N_2,  AR01,    77,  1,     33,2,19980212,1622, 24.4995, -60.3333, 5845,    150.8,  21.8180,  36.9470,  36.9540,2,    206.9,2,     208.7,2,     0.50,2,     0.20,2,     0.05,2,     0.03,2, -999.000,9, -999.000,9, -999.000,9, -999.000,9,     96.2,2,  -999.00,9,   -999.0,9,   -999.0,9,-999.0000,9,  -999.0,9, -999.0, -999.00,9,  -999.0,     4.4, -999.00,9
31RBOACES24N_2,  AR01,    77,  1,     32,2,19980212,1622, 24.4995, -60.3333, 5845,    200.2,  19.7730,  36.8020,  36.7950,2,    187.4,2,     191.7,2,     0.80,2,     1.76,2,     0.01,2,     0.07,2, -999.000,9, -999.000,9, -999.000,9, -999.000,9,     91.9,2,  -999.00,9,   2107.1,2,   2405.7,2,   7.9936,2,   378.6,2,   20.0, -999.00,9,   375.3,     4.6, -999.00,9
31RBOACES24N_2,  AR01,    77,  1,     31,2,19980212,1622, 24.4995, -60.3333, 5845,    224.5,  19.0900,  36.7000,  36.6950,2,    193.0,2,     193.4,2,     0.90,2,     2.73,2,     0.00,2,     0.10,2, -999.000,9, -999.000,9, -999.000,9, -999.000,9,     98.5,2,  -999.00,9,   -999.0,9,   -999.0,9,-999.0000,9,  -999.0,9, -999.0, -999.00,9,  -999.0,     2.9, -999.00,9
31RBOACES24N_2,  AR01,    77,  1,     30,2,19980212,1622, 24.4995, -60.3333, 5845,    250.1,  18.6820,  36.6420,  36.6380,2,    194.5,2,     194.3,2,     1.10,2,     3.51,2,     0.00,2,     0.15,2, -999.000,9, -999.000,9, -999.000,9, -999.000,9,    102.5,2,  -999.00,9,   -999.0,9,   -999.0,9,-999.0000,9,  -999.0,9, -999.0, -999.00,9,  -999.0,     3.3, -999.00,9
31RBOACES24N_2,  AR01,    77,  1,     29,2,19980212,1622, 24.4995, -60.3333, 5845,    276.0,  18.3610,  36.5860,  36.5840,2,    198.2,2,     198.4,2,     1.10,2,     3.81,2,     0.00,2,     0.17,2, -999.000,9, -999.000,9, -999.000,9, -999.000,9,    107.7,2,  -999.00,9,   2103.3,2,   2392.3,2,   7.9807,2,   386.8,2,   20.0, -999.00,9,   362.0,     3.3, -999.00,9
31RBOACES24N_2,  AR01,    77,  1,     28,2,19980212,1622, 24.4995, -60.3333, 5845,    325.4,  17.9530,  36.5170,  36.5160,2,    199.0,2,     201.5,2,     1.30,2,     4.39,2,     0.00,2,     0.21,2, -999.000,9, -999.000,9, -999.000,9, -999.000,9,    105.3,2,  -999.00,9,   2103.6,2,   2386.7,2,   7.9775,2,  -999.0,9, -999.0, -999.00,9,  -999.0,     3.6, -999.00,9
31RBOACES24N_2,  AR01,    77,  1,     27,2,19980212,1622, 24.4995, -60.3333, 5845,    351.0,  17.6520,  36.4720,  36.4710,2,    198.1,2,     193.8,2,     1.60,2,     5.56,2,     0.00,2,     0.27,2, -999.000,9, -999.000,9, -999.000,9, -999.000,9,    101.8,2,  -999.00,9,   2111.3,2,   2387.2,2,   7.9531,2,   419.3,2,   20.0, -999.00,9,   381.4,     2.9, -999.00,9
31RBOACES24N_2,  AR01,    77,  1,     26,2,19980212,1622, 24.4995, -60.3333, 5845,    399.5,  16.8960,  36.3500,  36.3540,2,    189.0,2,     186.4,2,     2.10,2,     7.32,2,     0.00,2,     0.38,2, -999.000,9, -999.000,9, -999.000,9, -999.000,9,     98.1,2,  -999.00,9,   -999.0,9,   -999.0,9,-999.0000,9,  -999.0,9, -999.0, -999.00,9,  -999.0,     3.3, -999.00,9
31RBOACES24N_2,  AR01,    77,  1,     25,2,19980212,1622, 24.4995, -60.3333, 5845,    450.4,  16.0830,  36.2140,  36.2140,2,    183.0,2,     182.7,2,     2.70,2,     8.98,2,     0.00,2,     0.48,2, -999.000,9, -999.000,9, -999.000,9, -999.000,9,     87.7,2,  -999.00,9,   -999.0,9,   -999.0,9,-999.0000,9,  -999.0,9, -999.0, -999.00,9,  -999.0,     3.6, -999.00,9
31RBOACES24N_2,  AR01,    77,  1,     24,2,19980212,1622, 24.4995, -60.3333, 5845,    501.4,  15.1020,  36.0530,  36.0470,2,    179.9,2,     177.1,2,     3.60,2,    11.03,2,     0.00,2,     0.62,2, -999.000,9, -999.000,9, -999.000,9, -999.000,9,     76.3,2,  -999.00,9,   2137.4,2,   2362.9,2,   7.8741,2,   508.4,2,   20.0, -999.00,9,   416.4,     3.6, -999.00,9
31RBOACES24N_2,  AR01,    77,  1,     23,2,19980212,1622, 24.4995, -60.3333, 5845,    549.5,  14.1960,  35.9080,  35.9140,2,    178.5,2,     176.4,2,     4.30,2,    12.50,2,     0.00,2,     0.71,2, -999.000,9, -999.000,9, -999.000,9, -999.000,9,     68.3,2,  -999.00,9,   -999.0,9,   -999.0,9,-999.0000,9,  -999.0,9, -999.0, -999.00,9,  -999.0,     5.2, -999.00,9
31RBOACES24N_2,  AR01,    77,  1,     22,2,19980212,1622, 24.4995, -60.3333, 5845,    596.1,  13.3650,  35.7940,  35.7960,2,    175.6,2,     173.8,2,     5.20,2,    14.06,2,     0.00,2,     0.82,2, -999.000,9, -999.000,9, -999.000,9, -999.000,9,     50.5,6,     0.81,2,   -999.0,9,   -999.0,9,-999.0000,9,  -999.0,9, -999.0, -999.00,9,  -999.0,     6.9, -999.00,9
31RBOACES24N_2,  AR01,    77,  1,     21,3,19980212,1622, 24.4995, -60.3333, 5845,    650.1,  12.5390,  35.6790,  35.6830,2,    173.5,2,     171.3,2,     6.20,2,    15.62,2,     0.00,2,     0.93,2, -999.000,9, -999.000,9, -999.000,9, -999.000,9,     29.1,2,  -999.00,9,   -999.0,9,   -999.0,9,-999.0000,9,  -999.0,9, -999.0, -999.00,9,  -999.0,     3.4, -999.00,9
31RBOACES24N_2,  AR01,    77,  1,     20,2,19980212,1622, 24.4995, -60.3333, 5845,    723.6,  11.2480,  35.5220,  35.5230,2,    165.9,2,     163.5,6,     8.50,2,    18.55,2,     0.00,2,     1.13,2, -999.000,9, -999.000,9, -999.000,9, -999.000,9,      8.1,2,  -999.00,9,   2166.8,2,   2336.1,2,   7.7614,2,   674.6,2,   20.0, -999.00,9,   470.3,     3.4, -999.00,9
31RBOACES24N_2,  AR01,    77,  1,     19,2,19980212,1622, 24.4995, -60.3333, 5845,    848.5,   9.4360,  35.2990,  35.3030,2,    153.4,2,     152.2,2,    12.90,2,    22.85,2,     0.00,2,     1.46,2, -999.000,9, -999.000,9, -999.000,9, -999.000,9,    -52.3,2,  -999.00,9,   2184.7,2,   2330.0,2,   7.7014,2,   791.7,2,   20.0, -999.00,9,   511.2,     2.9, -999.00,9
31RBOACES24N_2,  AR01,    77,  1,     18,2,19980212,1622, 24.4995, -60.3333, 5845,    920.5,   8.1940,  35.1500,  35.1540,2,    150.2,2,     148.9,2,    15.90,2,    25.30,2,     0.00,2,     1.65,2, -999.000,9, -999.000,9, -999.000,9, -999.000,9,    -72.3,2,  -999.00,9,   2194.1,2,   -999.0,9,   7.6695,2,   858.0,2,   20.0, -999.00,9,   525.8,     3.2, -999.00,9
31RBOACES24N_2,  AR01,    77,  1,     17,2,19980212,1622, 24.4995, -60.3333, 5845,   1000.0,   6.9950,  35.0280,  35.0290,2,    157.4,2,     156.9,2,    18.50,2,    26.28,2,     0.00,2,     1.75,2, -999.000,9, -999.000,9, -999.000,9, -999.000,9,    -85.6,2,  -999.00,9,   2195.8,6,   -999.0,5,   7.6493,2,   904.3,2,   20.0, -999.00,9,   526.2,     2.7, -999.00,9
31RBOACES24N_2,  AR01,    77,  1,     16,2,19980212,1622, 24.4995, -60.3333, 5845,   1199.2,   5.8010,  35.0530,  35.0530,2,    211.4,2,     207.2,2,    15.30,2,    21.59,2,     0.00,2,     1.44,2, -999.000,9, -999.000,9, -999.000,9, -999.000,9,    -72.2,2,  -999.00,9,   2180.6,2,   2323.1,2,   7.6952,2,   796.2,2,   20.0, -999.00,9,   436.5,     2.5, -999.00,9
31RBOACES24N_2,  AR01,    77,  1,     15,2,19980212,1622, 24.4995, -60.3333, 5845,   1401.1,   4.9520,  35.0590,  35.0590,2,    241.8,2,     241.3,2,    13.20,2,    18.85,2,     0.00,2,     1.25,2, -999.000,9, -999.000,9, -999.000,9, -999.000,9,   -999.0,9,     0.96,2,   -999.0,9,   -999.0,9,-999.0000,9,  -999.0,9, -999.0, -999.00,9,  -999.0,  -999.0, -999.00,9
31RBOACES24N_2,  AR01,    77,  1,     14,2,19980212,1622, 24.4995, -60.3333, 5845,   1600.7,   4.4800,  35.0480,  35.0470,2,    252.5,2,     251.6,2,    14.00,2,    18.46,2,     0.00,2,     1.23,2, -999.000,9, -999.000,9, -999.000,9, -999.000,9,    -56.5,2,  -999.00,9,   2162.2,2,   -999.0,9,   7.7348,2,   715.2,2,   20.0, -999.00,9,   367.1,     3.6, -999.00,9
31RBOACES24N_2,  AR01,    77,  1,     13,2,19980212,1622, 24.4995, -60.3333, 5845,   1800.3,   4.1560,  35.0440,  35.0430,2,    254.4,2,     254.2,2,    16.30,2,    18.66,2,     0.00,2,     1.23,2, -999.000,9, -999.000,9, -999.000,9, -999.000,9,    -82.2,2,  -999.00,9,   -999.0,9,   -999.0,9,-999.0000,9,  -999.0,9, -999.0, -999.00,9,  -999.0,     2.5, -999.00,9
31RBOACES24N_2,  AR01,    77,  1,     12,2,19980212,1622, 24.4995, -60.3333, 5845,   2000.9,   3.8050,  35.0200,  35.0200,2,    256.5,2,     256.1,2,    19.10,2,    18.76,2,     0.00,2,     1.26,2, -999.000,9, -999.000,9, -999.000,9, -999.000,9,    -94.4,2,  -999.00,9,   -999.0,9,   -999.0,9,   7.7389,2,  -999.0,9, -999.0, -999.00,9,  -999.0,     2.6, -999.00,9
31RBOACES24N_2,  AR01,    77,  1,     11,2,19980212,1622, 24.4995, -60.3333, 5845,   2297.1,   3.3480,  34.9860,  34.9850,2,    257.0,2,     257.1,2,    24.10,2,    19.24,2,     0.00,2,     1.30,2, -999.000,9, -999.000,9, -999.000,9, -999.000,9,    -91.5,2,  -999.00,9,   -999.0,9,   -999.0,9,-999.0000,9,  -999.0,9, -999.0, -999.00,9,  -999.0,     2.6, -999.00,9
31RBOACES24N_2,  AR01,    77,  1,     10,2,19980212,1622, 24.4995, -60.3333, 5845,   2500.5,   3.1480,  34.9670,  34.9690,2,    257.7,2,     258.1,2,    26.20,2,    19.44,2,     0.00,2,     1.31,2,    0.006,2,    0.006,2,   -0.004,2, -999.000,9,    -94.4,2,  -999.00,9,   2172.0,2,   -999.0,9,   7.7383,2,   720.7,2,   20.0, -999.00,9,   346.2,     3.4, -999.00,9
31RBOACES24N_2,  AR01,    77,  1,      9,2,19980212,1622, 24.4995, -60.3333, 5845,   2800.6,   2.9170,  34.9480,  34.9480,2,    258.6,2,     259.5,2,    29.20,2,    18.95,3,     0.00,2,     1.33,2, -999.000,9, -999.000,9, -999.000,9, -999.000,9,    -99.0,2,  -999.00,9,   -999.0,9,   -999.0,9,-999.0000,9,  -999.0,9, -999.0, -999.00,9,  -999.0,     2.6, -999.00,9
31RBOACES24N_2,  AR01,    77,  1,      8,2,19980212,1622, 24.4995, -60.3333, 5845,   3101.1,   2.7150,  34.9310,  34.9310,2,    262.9,2,     261.9,2,    30.80,2,    19.25,2,     0.00,2,     1.33,2, -999.000,9, -999.000,9, -999.000,9, -999.000,9,   -999.0,9,     1.02,2,   -999.0,9,   -999.0,9,   7.7376,2,  -999.0,9, -999.0, -999.00,9,  -999.0,  -999.0, -999.00,9
31RBOACES24N_2,  AR01,    77,  1,      7,2,19980212,1622, 24.4995, -60.3333, 5845,   3500.5,   2.5280,  34.9150,  34.9150,2,    268.0,2,     266.7,2,    30.80,2,    18.86,2,     0.00,2,     1.31,2, -999.000,9, -999.000,9, -999.000,9, -999.000,9,   -999.0,9,  -999.00,9,   -999.0,9,   -999.0,9,-999.0000,9,  -999.0,9, -999.0, -999.00,9,  -999.0,  -999.0, -999.00,9
31RBOACES24N_2,  AR01,    77,  1,      6,2,19980212,1622, 24.4995, -60.3333, 5845,   3889.9,   2.3730,  34.9020,  34.9030,2,    270.2,2,     268.3,2,    32.70,2,    18.86,2,     0.00,2,     1.31,2, -999.000,9, -999.000,9, -999.000,9, -999.000,9,   -999.0,9,  -999.00,9,   2172.7,2,   -999.0,9,   7.7361,2,   726.5,2,   20.0, -999.00,9,   335.6,  -999.0, -999.00,9
31RBOACES24N_2,  AR01,    77,  1,      5,2,19980212,1622, 24.4995, -60.3333, 5845,   4301.1,   2.2820,  34.8910,  34.8910,2,    268.9,2,     266.9,2,    37.10,2,    19.34,2,     0.00,2,     1.36,2,    0.047,2,    0.030,2,    0.002,2, -999.000,9,   -999.0,9,  -999.00,9,   2177.2,2,   -999.0,9,   7.7318,2,  -999.0,9, -999.0, -999.00,9,  -999.0,  -999.0, -999.00,9
31RBOACES24N_2,  AR01,    77,  1,      4,2,19980212,1622, 24.4995, -60.3333, 5845,   4698.1,   2.2340,  34.8830,  34.8830,2,    268.5,2,     266.0,2,    39.60,2,    19.54,2,     0.00,2,     1.38,2, -999.000,9, -999.000,9, -999.000,9, -999.000,9,   -999.0,9,  -999.00,9,   2180.6,2,   -999.0,5,   7.7290,2,   691.1,3,   20.0, -999.00,9,   315.8,  -999.0, -999.00,9
31RBOACES24N_2,  AR01,    77,  1,      3,2,19980212,1622, 24.4995, -60.3333, 5845,   5100.4,   2.0750,  34.8580,  34.8580,2,    260.6,2,     258.6,2,    51.10,2,    21.49,2,     0.00,2,     1.50,2, -999.000,9, -999.000,9, -999.000,9, -999.000,9,   -999.0,9,  -999.00,9,   -999.0,9,   -999.0,9,-999.0000,9,  -999.0,9, -999.0, -999.00,9,  -999.0,  -999.0, -999.00,9
31RBOACES24N_2,  AR01,    77,  1,      2,2,19980212,1622, 24.4995, -60.3333, 5845,   5500.1,   2.0230,  34.8440,  34.8450,2,    255.5,2,     254.7,2,    56.40,2,    22.37,2,     0.00,2,     1.57,2,    0.023,2,    0.020,2,    0.003,2, -999.000,9,   -999.0,9,  -999.00,9,   -999.0,9,   -999.0,9,-999.0000,9,  -999.0,9, -999.0, -999.00,9,  -999.0,  -999.0, -999.00,9
31RBOACES24N_2,  AR01,    77,  1,      1,2,19980212,1622, 24.4995, -60.3333, 5845,   5958.0,   2.0640,  34.8420,  34.8420,2,    254.8,2,     254.1,2,    57.90,6,    22.67,6,     0.00,6,     1.59,6, -999.000,9, -999.000,9, -999.000,9, -999.000,9,   -999.0,9,  -999.00,9,   2202.3,2,   2351.6,2,   7.7051,6,   792.3,2,   20.0, -999.00,9,   359.6,  -999.0, -999.00,9