BOTTLE,20220820CCHSIOAMB
EXPOCODE,SECT_ID,STNNBR,CASTNO,BTLNBR,BTLNBR_FLAG_W,DATE,TIME,LATITUDE,LONGITUDE,DEPTH,CTDPRS,CTDTMP,CTDSAL,SALNTY,SALNTY_FLAG_W,CTDOXY,CTDOXY_FLAG_W,OXYGEN,OXYGEN_FLAG_W,SILCAT,SILCAT_FLAG_W,NITRAT,NITRAT_FLAG_W,NITRIT,NITRIT_FLAG_W,PHSPHT,PHSPHT_FLAG_W,CFC-11,CFC-11_FLAG_W,CFC-12,CFC-12_FLAG_W,CFC113,CFC113_FLAG_W,CCL4,CCL4_FLAG_W,DELC14,DELC14_FLAG_W,DELC13,DELC13_FLAG_W,TCARBN,TCARBN_FLAG_W,ALKALI,ALKALI_FLAG_W,PH,PH_FLAG_W,FCO2,FCO2_FLAG_W,FCO2TMP,TON,TON_FLAG_W,FCO2IN,C14ERR,TOC,TOC_FLAG_W
,,,,,,,,,,,DBAR,ITS-90,PSS-78,PSS-78,,UMOL/KG,,UMOL/KG,,UMOL/KG,,UMOL/KG,,UMOL/KG,,UMOL/KG,,PMOL/KG,,PMOL/KG,,PMOL/KG,,PMOL/KG,,/MILLE,,/MILLE,,UMOL/KG,,UMOL/KG,,,,UATM,,DEG C,UMOL/KG,,UATM,/MILLE,UMOL/KG,
31RBOACES24N_2,  AR01,    76,  1,     36,2,19980212,0857, 24.5000, -59.6000, 5813,      5.5,  24.2020,  36.8300,  36.8330,2,    212.8,2,     212.5,2,     1.30,3,     0.00,2,     0.00,2,     0.02,2,    1.872,2,    1.085,2,    0.147,2,    1.970,2,   -999.0,9,  -999.00,9,   2038.2,6,   2405.9,2,   8.1115,2,   272.1,6,   20.0, -999.00,9,   321.3,  -999.0,   73.27,2
31RBOACES24N_2,  AR01,    76,  1,     35,3,19980212,0857, 24.5000, -59.6000, 5813,     60.3,  24.0180,  36.8540,  36.8610,2,    212.3,2,     214.8,6,     1.20,3,     0.00,2,     0.00,2,     0.02,2,    1.900,2,    1.095,2,    0.151,2, -999.000,9,   -999.0,9,  -999.00,9,   -999.0,9,   -999.0,9,-999.0000,9,  -999.0,9, -999.0, -999.00,9,  -999.0,  -999.0,   72.78,2
31RBOACES24N_2,  AR01,    76,  1,     34,2,19980212,0857, 24.5000, -59.6000, 5813,    120.5,  22.3110,  37.1670,  37.1690,2,    203.1,2,     209.4,2,     1.00,3,     0.10,2,     0.07,2,     0.03,2,    2.105,6,    1.192,6,    0.413,4,    1.034,2,   -999.0,9,  -999.00,9,   -999.0,9,   -999.0,9,-999.0000,9,  -999.0,9, -999.0, -999.00,9,  -999.0,  -999.0,   61.32,2
31RBOACES24N_2,  AR01,    76,  1,     33,3,19980212,0857, 24.5000, -59.6000, 5813,    178.9,  19.7390,  36.7850,  36.7870,2,    194.2,2,     198.4,2,     1.10,3,     1.27,2,     0.01,2,     0.05,2, -999.000,1, -999.000,1, -999.000,1,    0.691,2,   -999.0,9,  -999.00,9,   -999.0,9,   -999.0,9,-999.0000,9,  -999.0,9, -999.0, -999.00,9,  -999.0,  -999.0,   51.35,2
31RBOACES24N_2,  AR01,    76,  1,     32,2,19980212,0857, 24.5000, -59.6000, 5813,    199.5,  19.0930,  36.6730,  36.6730,2,    198.1,2,     200.6,2,     1.30,3,     1.85,2,     0.01,2,     0.07,2,    2.299,2,    1.287,2,    0.055,2, -999.000,9,   -999.0,9,  -999.00,9,   -999.0,9,   -999.0,9,-999.0000,9,  -999.0,9, -999.0, -999.00,9,  -999.0,  -999.0,   50.08,2
31RBOACES24N_2,  AR01,    76,  1,     31,2,19980212,0857, 24.5000, -59.6000, 5813,    224.3,  18.7850,  36.6330,  36.6370,2,    200.7,2,     198.7,2,     1.50,3,     2.63,2,     0.00,2,     0.10,2,    2.320,2,    1.296,2,    0.038,2, -999.000,9,   -999.0,9,  -999.00,9,   -999.0,9,   -999.0,9,-999.0000,9,  -999.0,9, -999.0, -999.00,9,  -999.0,  -999.0, -999.00,9
31RBOACES24N_2,  AR01,    76,  1,     30,2,19980212,0857, 24.5000, -59.6000, 5813,    251.2,  18.3900,  36.5750,  36.5750,2,    196.8,2,     203.5,2,     1.70,3,     3.32,2,     0.00,2,     0.14,2,    2.327,2,    1.291,2,    0.031,2,    0.465,2,   -999.0,9,  -999.00,9,   -999.0,9,   -999.0,9,-999.0000,9,  -999.0,9, -999.0, -999.00,9,  -999.0,  -999.0,   50.57,2
31RBOACES24N_2,  AR01,    76,  1,     29,2,19980212,0857, 24.5000, -59.6000, 5813,    275.6,  18.2170,  36.5510,  36.5530,2,    202.5,2,     203.6,2,     1.80,3,     3.71,2,     0.00,2,     0.16,2,    2.330,2,    1.283,2,    0.017,2, -999.000,9,   -999.0,9,  -999.00,9,   -999.0,9,   -999.0,9,-999.0000,9,  -999.0,9, -999.0, -999.00,9,  -999.0,  -999.0, -999.00,9
31RBOACES24N_2,  AR01,    76,  1,     28,2,19980212,0857, 24.5000, -59.6000, 5813,    302.2,  18.0880,  36.5340,  36.5300,2,    204.0,2,     204.4,2,     2.00,3,     4.00,2,     0.00,2,     0.18,2,    2.319,2,    1.278,2,    0.038,2,    0.472,2,   -999.0,9,  -999.00,9,   -999.0,9,   -999.0,9,-999.0000,9,  -999.0,9, -999.0, -999.00,9,  -999.0,  -999.0, -999.00,9
31RBOACES24N_2,  AR01,    76,  1,     27,2,19980212,0857, 24.5000, -59.6000, 5813,    351.1,  17.7710,  36.4860,  36.4860,2,    202.9,2,     200.4,2,     2.30,3,     4.88,2,     0.00,2,     0.23,2,    2.252,2,    1.233,2,    0.024,2, -999.000,9,   -999.0,9,  -999.00,9,   -999.0,9,   -999.0,9,-999.0000,9,  -999.0,9, -999.0, -999.00,9,  -999.0,  -999.0,   49.98,2
31RBOACES24N_2,  AR01,    76,  1,     26,2,19980212,0857, 24.5000, -59.6000, 5813,    397.6,  17.2240,  36.3910,  36.3820,2,    193.6,2,     192.6,2,     2.80,3,     6.54,2,     0.00,2,     0.33,2,    2.153,2,    1.161,2,    0.032,2, -999.000,9,   -999.0,9,  -999.00,9,   -999.0,9,   -999.0,9,-999.0000,9,  -999.0,9, -999.0, -999.00,9,  -999.0,  -999.0, -999.00,9
31RBOACES24N_2,  AR01,    76,  1,     25,2,19980212,0857, 24.5000, -59.6000, 5813,    436.5,  16.6270,  36.2870,  36.2770,2,    189.8,2,     188.3,2,     3.30,3,     7.90,2,     0.00,2,     0.42,2, -999.000,1, -999.000,1,    0.027,2,    0.436,6,   -999.0,9,  -999.00,9,   -999.0,9,   -999.0,9,-999.0000,9,  -999.0,9, -999.0, -999.00,9,  -999.0,  -999.0,   47.73,2
31RBOACES24N_2,  AR01,    76,  1,     24,2,19980212,0857, 24.5000, -59.6000, 5813,    499.6,  15.3870,  36.0830,  36.0860,2,    184.3,2,     182.8,2,     4.30,3,    10.15,2,     0.00,2,     0.56,2,    1.985,2,    1.052,2,    0.019,2, -999.000,9,   -999.0,9,  -999.00,9,   -999.0,9,   -999.0,9,-999.0000,9,  -999.0,9, -999.0, -999.00,9,  -999.0,  -999.0, -999.00,9
31RBOACES24N_2,  AR01,    76,  1,     23,2,19980212,0857, 24.5000, -59.6000, 5813,    598.8,  13.2020,  35.7430,  35.7530,2,    171.8,2,     170.1,2,     6.90,3,    14.84,2,     0.00,2,     0.88,2,    1.484,2,    0.772,2,    0.026,2, -999.000,9,   -999.0,9,  -999.00,9,   -999.0,9,   -999.0,9,-999.0000,9,  -999.0,9, -999.0, -999.00,9,  -999.0,  -999.0,   43.53,2
31RBOACES24N_2,  AR01,    76,  1,     22,2,19980212,0857, 24.5000, -59.6000, 5813,    700.0,  11.1400,  35.4870,  35.4910,2,    163.2,2,     161.3,2,    10.10,3,    19.04,2,     0.00,2,     1.17,2,    0.878,2,    0.458,2,    0.011,2,    0.283,2,   -999.0,9,  -999.00,9,   -999.0,9,   -999.0,9,-999.0000,9,  -999.0,9, -999.0, -999.00,9,  -999.0,  -999.0, -999.00,9
31RBOACES24N_2,  AR01,    76,  1,     21,2,19980212,0857, 24.5000, -59.6000, 5813,    790.6,   9.6070,  35.3010,  35.3040,2,    154.6,2,     153.9,2,    13.50,3,    22.46,2,     0.00,2,     1.43,2,    0.471,2,    0.249,2,    0.004,2, -999.000,9,   -999.0,9,  -999.00,9,   -999.0,9,   -999.0,9,-999.0000,9,  -999.0,9, -999.0, -999.00,9,  -999.0,  -999.0,   41.37,2
31RBOACES24N_2,  AR01,    76,  1,     20,2,19980212,0857, 24.5000, -59.6000, 5813,    849.1,   8.6040,  35.1700,  35.1770,2,    152.4,2,     149.5,2,    16.10,3,    24.61,2,     0.00,2,     1.60,2, -999.000,9, -999.000,9, -999.000,9, -999.000,9,   -999.0,9,  -999.00,9,   -999.0,9,   -999.0,9,-999.0000,9,  -999.0,9, -999.0, -999.00,9,  -999.0,  -999.0, -999.00,9
31RBOACES24N_2,  AR01,    76,  1,     19,2,19980212,0857, 24.5000, -59.6000, 5813,    902.0,   7.4650,  35.0290,  35.0260,2,    145.7,2,     149.1,2,    19.40,3,    26.76,2,     0.00,2,     1.78,2,    0.173,2,    0.096,2,    0.001,2, -999.000,9,   -999.0,9,  -999.00,9,   -999.0,9,   -999.0,9,-999.0000,9,  -999.0,9, -999.0, -999.00,9,  -999.0,  -999.0,   41.76,2
31RBOACES24N_2,  AR01,    76,  1,     18,2,19980212,0857, 24.5000, -59.6000, 5813,   1001.9,   6.6260,  35.0030,  34.9990,2,    163.0,2,     165.6,2,    19.80,3,    25.88,2,     0.00,2,     1.73,2,    0.190,2,    0.099,2,    0.006,2,    0.213,2,   -999.0,9,  -999.00,9,   -999.0,9,   -999.0,9,-999.0000,9,  -999.0,9, -999.0, -999.00,9,  -999.0,  -999.0, -999.00,9
31RBOACES24N_2,  AR01,    76,  1,     17,2,19980212,0857, 24.5000, -59.6000, 5813,   1089.2,   6.3580,  35.0510,  35.0510,2,    182.1,2,     182.3,2,    16.60,2,    24.12,2,     0.00,2,     1.60,2,    0.163,2,    0.087,2,   -0.004,2, -999.000,9,   -999.0,9,  -999.00,9,   -999.0,9,   -999.0,9,-999.0000,9,  -999.0,9, -999.0, -999.00,9,  -999.0,  -999.0,   41.07,2
31RBOACES24N_2,  AR01,    76,  1,     16,2,19980212,0857, 24.5000, -59.6000, 5813,   1298.9,   5.3530,  35.0690,  35.0770,2,    227.2,2,     223.2,2,    14.10,2,    20.31,2,     0.00,2,     1.35,2,    0.256,2,    0.132,2,    0.001,2,    0.633,2,   -999.0,9,  -999.00,9,   -999.0,9,   -999.0,9,-999.0000,9,  -999.0,9, -999.0, -999.00,9,  -999.0,  -999.0, -999.00,9
31RBOACES24N_2,  AR01,    76,  1,     15,2,19980212,0857, 24.5000, -59.6000, 5813,   1500.8,   4.7580,  35.0630,  35.0620,2,    246.8,2,     245.5,2,    13.20,2,    18.75,2,     0.00,2,     1.24,2,    0.277,2,    0.150,2,    0.007,2, -999.000,9,   -999.0,9,  -999.00,9,   -999.0,9,   -999.0,9,-999.0000,9,  -999.0,9, -999.0, -999.00,9,  -999.0,  -999.0, -999.00,9
31RBOACES24N_2,  AR01,    76,  1,     14,2,19980212,0857, 24.5000, -59.6000, 5813,   1699.4,   4.3550,  35.0520,  35.0520,2,    252.5,2,     253.0,2,    14.50,2,    18.46,2,     0.00,2,     1.22,2,    0.167,2,    0.096,2,    0.005,2,    0.654,2,   -999.0,9,  -999.00,9,   -999.0,9,   -999.0,9,-999.0000,9,  -999.0,9, -999.0, -999.00,9,  -999.0,  -999.0, -999.00,9
31RBOACES24N_2,  AR01,    76,  1,     13,2,19980212,0857, 24.5000, -59.6000, 5813,   1897.9,   3.9690,  35.0330,  35.0330,2,    253.3,2,     255.0,2,    17.30,2,    18.75,2,     0.00,2,     1.24,2,    0.026,2,    0.026,2,    0.002,2, -999.000,9,   -999.0,9,  -999.00,9,   -999.0,9,   -999.0,9,-999.0000,9,  -999.0,9, -999.0, -999.00,9,  -999.0,  -999.0, -999.00,9
31RBOACES24N_2,  AR01,    76,  1,     12,2,19980212,0857, 24.5000, -59.6000, 5813,   2100.2,   3.6280,  35.0080,  35.0080,2,    254.5,2,     256.3,2,    20.60,2,    18.85,2,     0.00,2,     1.27,2,    0.022,2,    0.015,2,    0.000,2, -999.000,9,   -999.0,9,  -999.00,9,   -999.0,9,   -999.0,9,-999.0000,9,  -999.0,9, -999.0, -999.00,9,  -999.0,  -999.0, -999.00,9
31RBOACES24N_2,  AR01,    76,  1,     11,2,19980212,0857, 24.5000, -59.6000, 5813,   2299.2,   3.3640,  34.9870,  34.9870,2,    256.0,2,     256.9,2,    23.50,2,    19.34,2,     0.00,2,     1.30,2, -999.000,9, -999.000,9, -999.000,9,    0.271,2,   -999.0,9,  -999.00,9,   -999.0,9,   -999.0,9,-999.0000,9,  -999.0,9, -999.0, -999.00,9,  -999.0,  -999.0, -999.00,9
31RBOACES24N_2,  AR01,    76,  1,     10,2,19980212,0857, 24.5000, -59.6000, 5813,   2597.8,   3.0850,  34.9620,  34.9620,2,    256.7,2,     257.8,2,    26.90,2,    19.53,2,     0.00,2,     1.32,2,    0.007,2,    0.005,2,   -0.002,2, -999.000,9,   -999.0,9,  -999.00,9,   -999.0,9,   -999.0,9,-999.0000,9,  -999.0,9, -999.0, -999.00,9,  -999.0,  -999.0, -999.00,9
31RBOACES24N_2,  AR01,    76,  1,      9,2,19980212,0857, 24.5000, -59.6000, 5813,   2898.8,   2.8900,  34.9460,  34.9450,2,    257.2,2,     258.9,2,    29.60,2,    19.73,2,     0.00,2,     1.34,2, -999.000,9, -999.000,9, -999.000,9, -999.000,9,   -999.0,9,  -999.00,9,   -999.0,9,   -999.0,9,-999.0000,9,  -999.0,9, -999.0, -999.00,9,  -999.0,  -999.0, -999.00,9
31RBOACES24N_2,  AR01,    76,  1,      8,2,19980212,0857, 24.5000, -59.6000, 5813,   3193.9,   2.7150,  34.9290,  34.9300,2,    260.4,2,     261.2,2,    30.90,2,    19.63,2,     0.00,2,     1.34,2,    0.013,2,    0.009,2,   -0.001,2,    0.142,6,   -999.0,9,  -999.00,9,   -999.0,9,   -999.0,9,-999.0000,9,  -999.0,9, -999.0, -999.00,9,  -999.0,  -999.0, -999.00,9
31RBOACES24N_2,  AR01,    76,  1,      7,2,19980212,0857, 24.5000, -59.6000, 5813,   3598.0,   2.4850,  34.9100,  34.9100,2,    262.2,2,     263.3,2,    34.10,2,    19.63,2,     0.00,2,     1.34,2,    0.022,2,    0.015,2,    0.008,2,    0.156,2,   -999.0,9,  -999.00,9,   -999.0,9,   -999.0,9,-999.0000,9,  -999.0,9, -999.0, -999.00,9,  -999.0,  -999.0, -999.00,9
31RBOACES24N_2,  AR01,    76,  1,      6,2,19980212,0857, 24.5000, -59.6000, 5813,   3997.7,   2.3370,  34.8970,  34.8970,2,    263.9,2,     265.0,2,    36.10,2,    19.73,2,     0.00,2,     1.36,2,    0.029,2,    0.017,2,   -0.006,2,    0.220,2,   -999.0,9,  -999.00,9,   -999.0,9,   -999.0,9,-999.0000,9,  -999.0,9, -999.0, -999.00,9,  -999.0,  -999.0, -999.00,9
31RBOACES24N_2,  AR01,    76,  1,      5,2,19980212,0857, 24.5000, -59.6000, 5813,   4396.2,   2.2620,  34.8880,  34.8880,2,    264.5,2,     265.9,2,    37.30,2,    19.63,2,     0.00,2,     1.36,2,    0.045,2,    0.028,2,   -0.002,2,    0.296,2,   -999.0,9,  -999.00,9,   -999.0,9,   -999.0,9,-999.0000,9,  -999.0,9, -999.0, -999.00,9,  -999.0,  -999.0, -999.00,9
31RBOACES24N_2,  AR01,    76,  1,      4,2,19980212,0857, 24.5000, -59.6000, 5813,   4597.3,   2.2280,  34.8830,  34.8830,2,    264.7,2,     264.5,2,    39.40,2,    20.02,2,     0.00,2,     1.38,2,    0.047,2,    0.032,2,    0.002,2,    0.294,6,   -999.0,9,  -999.00,9,   -999.0,9,   -999.0,9,-999.0000,9,  -999.0,9, -999.0, -999.00,9,  -999.0,  -999.0, -999.00,9
31RBOACES24N_2,  AR01,    76,  1,      3,2,19980212,0857, 24.5000, -59.6000, 5813,   5093.3,   2.0430,  34.8540,  34.8540,2,    254.7,2,     257.2,2,    52.00,2,    21.88,2,     0.00,2,     1.52,2,    0.579,4,    0.021,2,    0.004,2,    0.217,2,   -999.0,9,  -999.00,9,   -999.0,9,   -999.0,9,-999.0000,9,  -999.0,9, -999.0, -999.00,9,  -999.0,  -999.0, -999.00,9
31RBOACES24N_2,  AR01,    76,  1,      2,2,19980212,0857, 24.5000, -59.6000, 5813,   5595.7,   2.0180,  34.8420,  34.8430,2,    251.4,2,     253.7,2,    57.00,2,    22.66,2,     0.00,2,     1.58,2,    0.027,2,    0.025,2,    0.007,6,    0.178,2,   -999.0,9,  -999.00,9,   -999.0,9,   -999.0,9,-999.0000,9,  -999.0,9, -999.0, -999.00,9,  -999.0,  -999.0, -999.00,9
31RBOACES24N_2,  AR01,    76,  1,      1,2,19980212,0857, 24.5000, -59.6000, 5813,   5912.1,   2.0570,  34.8420,  34.8430,2,    253.6,2,     253.9,2,    57.40,6,    22.76,6,     0.00,6,     1.59,6,    0.031,2,    0.024,2,    0.004,2,    0.198,2,   -999.0,9,  -999.00,9,   -999.0,9,   -999.0,9,-999.0000,9,  -999.0,9, -999.0, -999.00,9,  -999.0,  -999.0, -999.00,9