BOTTLE,20220820CCHSIOAMB
EXPOCODE,SECT_ID,STNNBR,CASTNO,BTLNBR,BTLNBR_FLAG_W,DATE,TIME,LATITUDE,LONGITUDE,DEPTH,CTDPRS,CTDTMP,CTDSAL,SALNTY,SALNTY_FLAG_W,CTDOXY,CTDOXY_FLAG_W,OXYGEN,OXYGEN_FLAG_W,SILCAT,SILCAT_FLAG_W,NITRAT,NITRAT_FLAG_W,NITRIT,NITRIT_FLAG_W,PHSPHT,PHSPHT_FLAG_W,CFC-11,CFC-11_FLAG_W,CFC-12,CFC-12_FLAG_W,CFC113,CFC113_FLAG_W,CCL4,CCL4_FLAG_W,DELC14,DELC14_FLAG_W,DELC13,DELC13_FLAG_W,TCARBN,TCARBN_FLAG_W,ALKALI,ALKALI_FLAG_W,PH,PH_FLAG_W,FCO2,FCO2_FLAG_W,FCO2TMP,TON,TON_FLAG_W,FCO2IN,C14ERR,TOC,TOC_FLAG_W
,,,,,,,,,,,DBAR,ITS-90,PSS-78,PSS-78,,UMOL/KG,,UMOL/KG,,UMOL/KG,,UMOL/KG,,UMOL/KG,,UMOL/KG,,PMOL/KG,,PMOL/KG,,PMOL/KG,,PMOL/KG,,/MILLE,,/MILLE,,UMOL/KG,,UMOL/KG,,,,UATM,,DEG C,UMOL/KG,,UATM,/MILLE,UMOL/KG,
31RBOACES24N_2,  AR01,    32,  1,     36,2,19980131,0400, 24.5000, -31.0835, 6027,      5.8,  22.7090,  37.5390,  37.5390,2,    211.9,2,     216.6,2,     0.20,3,     0.00,2,     0.00,2,  -999.00,5,    3.143,4,    1.159,2,    0.160,2, -999.000,9,   -999.0,9,     1.43,2,   2101.8,6,   2449.5,2,   8.0637,2,   324.4,2,   20.0, -999.00,9,   361.2,  -999.0, -999.00,9
31RBOACES24N_2,  AR01,    32,  1,     35,2,19980131,0400, 24.5000, -31.0835, 6027,     48.4,  22.7090,  37.5350,  37.5360,2,    213.5,2,     216.9,2,     0.10,3,     0.00,2,     0.00,2,  -999.00,5,    2.005,2,    1.161,2,    0.169,2, -999.000,9,   -999.0,9,  -999.00,9,   -999.0,9,   -999.0,9,-999.0000,9,  -999.0,9, -999.0, -999.00,9,  -999.0,  -999.0, -999.00,9
31RBOACES24N_2,  AR01,    32,  1,     34,2,19980131,0400, 24.5000, -31.0835, 6027,    100.9,  22.6930,  37.5320,  37.4990,2,    213.9,2,     216.3,2,     0.00,3,     0.10,2,     0.00,2,  -999.00,5,    2.033,6,    1.171,6,    0.160,6, -999.000,9,   -999.0,9,  -999.00,9,   -999.0,9,   -999.0,9,-999.0000,9,  -999.0,9, -999.0, -999.00,9,  -999.0,  -999.0, -999.00,9
31RBOACES24N_2,  AR01,    32,  1,     33,2,19980131,0400, 24.5000, -31.0835, 6027,    143.0,  20.4110,  37.0530,  37.0330,2,    212.1,2,     211.3,2,     0.00,3,     0.49,2,     0.04,2,  -999.00,5,    2.245,2,    1.282,2,    0.155,2, -999.000,9,   -999.0,9,  -999.00,9,   -999.0,9,   2418.2,2,   8.0131,2,  -999.0,9, -999.0, -999.00,9,  -999.0,  -999.0, -999.00,9
31RBOACES24N_2,  AR01,    32,  1,     32,2,19980131,0400, 24.5000, -31.0835, 6027,    179.5,  19.1360,  36.8130,  36.8040,2,    201.2,2,     205.7,2,     0.00,3,     1.76,2,     0.01,2,  -999.00,5,    2.325,2,    1.320,2,    0.102,2, -999.000,9,   -999.0,9,  -999.00,9,   -999.0,9,   -999.0,9,-999.0000,9,  -999.0,9, -999.0, -999.00,9,  -999.0,  -999.0, -999.00,9
31RBOACES24N_2,  AR01,    32,  1,     31,2,19980131,0400, 24.5000, -31.0835, 6027,    223.0,  17.9370,  36.5690,  36.5700,2,    198.2,2,     204.4,2,     0.20,3,     4.00,2,     0.00,2,  -999.00,5,    2.386,2,    1.328,2,    0.039,2, -999.000,9,   -999.0,9,  -999.00,9,   -999.0,9,   2389.5,2,-999.0000,9,  -999.0,9, -999.0, -999.00,9,  -999.0,  -999.0, -999.00,9
31RBOACES24N_2,  AR01,    32,  1,     30,2,19980131,0400, 24.5000, -31.0835, 6027,    249.7,  17.4540,  36.4750,  36.4750,2,    198.4,2,     201.8,2,     0.30,3,     4.78,2,     0.00,2,  -999.00,5,    2.395,2,    1.330,2,    0.043,2, -999.000,9,   -999.0,9,  -999.00,9,   -999.0,9,   -999.0,9,-999.0000,9,  -999.0,9, -999.0, -999.00,9,  -999.0,  -999.0, -999.00,9
31RBOACES24N_2,  AR01,    32,  1,     29,2,19980131,0400, 24.5000, -31.0835, 6027,    275.4,  16.8110,  36.3580,  36.3680,2,    198.2,2,     201.3,2,     0.30,3,     5.85,2,     0.00,2,  -999.00,5, -999.000,9, -999.000,9, -999.000,9, -999.000,9,   -999.0,9,  -999.00,9,   -999.0,9,   -999.0,9,-999.0000,9,  -999.0,9, -999.0, -999.00,9,  -999.0,  -999.0, -999.00,9
31RBOACES24N_2,  AR01,    32,  1,     28,2,19980131,0400, 24.5000, -31.0835, 6027,    299.8,  16.4080,  36.2810,  36.2800,2,    199.2,2,     201.8,2,     0.30,3,     6.64,2,     0.00,2,  -999.00,5,    2.354,2,    1.292,2,    0.024,2, -999.000,9,   -999.0,9,  -999.00,9,   -999.0,9,   2371.3,2,   7.9325,2,  -999.0,9, -999.0, -999.00,9,  -999.0,  -999.0, -999.00,9
31RBOACES24N_2,  AR01,    32,  1,     27,2,19980131,0400, 24.5000, -31.0835, 6027,    349.4,  15.5700,  36.1480,  36.1510,2,    198.9,2,     198.7,2,     0.90,3,     8.20,2,     0.00,2,  -999.00,5,    2.388,2,    1.294,2,    0.037,2, -999.000,9,   -999.0,9,  -999.00,9,   -999.0,9,   -999.0,9,-999.0000,9,  -999.0,9, -999.0, -999.00,9,  -999.0,  -999.0, -999.00,9
31RBOACES24N_2,  AR01,    32,  1,     26,2,19980131,0400, 24.5000, -31.0835, 6027,    401.7,  14.6920,  36.0170,  36.0210,2,    193.4,2,     193.9,2,     1.50,3,     9.96,2,     0.00,2,  -999.00,5,    2.295,2,    1.215,2,    0.024,2, -999.000,9,   -999.0,9,  -999.00,9,   -999.0,9,   -999.0,9,-999.0000,9,  -999.0,9, -999.0, -999.00,9,  -999.0,  -999.0, -999.00,9
31RBOACES24N_2,  AR01,    32,  1,     25,2,19980131,0400, 24.5000, -31.0835, 6027,    448.6,  13.8440,  35.9000,  35.9100,2,    188.6,2,     186.2,2,     2.10,3,    11.91,2,     0.00,2,  -999.00,5, -999.000,9, -999.000,9, -999.000,9, -999.000,9,   -999.0,9,  -999.00,9,   -999.0,9,   2350.9,2,   7.8489,2,  -999.0,9, -999.0, -999.00,9,  -999.0,  -999.0, -999.00,9
31RBOACES24N_2,  AR01,    32,  1,     24,2,19980131,0400, 24.5000, -31.0835, 6027,    500.1,  13.0090,  35.7740,  35.7760,2,    189.2,2,     186.0,2,     2.60,3,    13.37,2,     0.00,2,  -999.00,5,    2.090,2,    1.091,2,    0.028,2, -999.000,9,   -999.0,9,  -999.00,9,   -999.0,9,   -999.0,9,-999.0000,9,  -999.0,9, -999.0, -999.00,9,  -999.0,  -999.0, -999.00,9
31RBOACES24N_2,  AR01,    32,  1,     23,2,19980131,0400, 24.5000, -31.0835, 6027,    601.5,  11.5920,  35.5920,  35.5920,2,    181.2,2,     180.1,2,     4.60,3,    16.70,2,     0.00,2,  -999.00,5,    1.610,2,    0.804,2,    0.023,2, -999.000,9,   -999.0,9,  -999.00,9,   -999.0,9,   -999.0,9,-999.0000,9,  -999.0,9, -999.0, -999.00,9,  -999.0,  -999.0, -999.00,9
31RBOACES24N_2,  AR01,    32,  1,     22,2,19980131,0400, 24.5000, -31.0835, 6027,    701.4,  10.3350,  35.4640,  35.4640,2,    163.8,2,     159.2,2,     8.00,3,    20.60,2,     0.00,2,  -999.00,5,    0.868,2,    0.425,2,    0.022,2, -999.000,9,   -999.0,9,  -999.00,9,   -999.0,9,   2332.9,2,-999.0000,9,  -999.0,9, -999.0, -999.00,9,  -999.0,  -999.0, -999.00,9
31RBOACES24N_2,  AR01,    32,  1,     21,2,19980131,0400, 24.5000, -31.0835, 6027,    752.7,   9.5020,  35.3610,  35.3660,2,    145.0,2,     142.7,2,    10.80,3,    23.83,2,     0.00,2,  -999.00,5,    0.454,2,    0.209,2,   -0.003,2, -999.000,9,   -999.0,9,  -999.00,9,   -999.0,9,   -999.0,9,-999.0000,9,  -999.0,9, -999.0, -999.00,9,  -999.0,  -999.0, -999.00,9
31RBOACES24N_2,  AR01,    32,  1,     20,2,19980131,0400, 24.5000, -31.0835, 6027,    850.2,   8.1370,  35.2080,  35.2090,2,    132.1,2,     134.6,2,    14.90,3,    27.15,2,     0.00,2,  -999.00,5,    0.137,6,    0.064,6,   -0.002,6, -999.000,9,   -999.0,9,  -999.00,9,   -999.0,9,   -999.0,9,-999.0000,9,  -999.0,9, -999.0, -999.00,9,  -999.0,  -999.0, -999.00,9
31RBOACES24N_2,  AR01,    32,  1,     19,2,19980131,0400, 24.5000, -31.0835, 6027,    949.8,   7.3180,  35.1400,  35.1420,2,    142.8,2,     143.5,2,    16.80,3,    27.35,2,     0.00,2,  -999.00,5,    0.075,2,    0.035,2,   -0.011,2, -999.000,9,   -999.0,9,  -999.00,9,   -999.0,9,   -999.0,9,-999.0000,9,  -999.0,9, -999.0, -999.00,9,  -999.0,  -999.0, -999.00,9
31RBOACES24N_2,  AR01,    32,  1,     18,2,19980131,0400, 24.5000, -31.0835, 6027,   1048.6,   6.8900,  35.1310,  35.1300,2,    157.4,2,     155.1,2,    17.30,3,    26.57,2,     0.00,2,  -999.00,5,    0.056,2,    0.026,2,   -0.003,2, -999.000,9,   -999.0,9,  -999.00,9,   -999.0,9,   2325.7,2,   7.6532,2,  -999.0,9, -999.0, -999.00,9,  -999.0,  -999.0, -999.00,9
31RBOACES24N_2,  AR01,    32,  1,     17,2,19980131,0400, 24.5000, -31.0835, 6027,   1245.6,   6.1270,  35.1700,  35.1660,2,    182.8,2,     183.8,2,    16.90,3,    24.03,2,     0.00,2,  -999.00,5,    0.039,2,    0.018,2,   -0.005,2, -999.000,9,   -999.0,9,  -999.00,9,   -999.0,9,   -999.0,9,-999.0000,9,  -999.0,9, -999.0, -999.00,9,  -999.0,  -999.0, -999.00,9
31RBOACES24N_2,  AR01,    32,  1,     16,2,19980131,0400, 24.5000, -31.0835, 6027,   1442.9,   5.5230,  35.1740,  35.1730,2,    201.4,2,     202.6,2,    17.50,2,    22.46,2,     0.00,2,  -999.00,5,    0.020,2,    0.009,2,   -0.008,2, -999.000,9,   -999.0,9,  -999.00,9,   -999.0,9,   -999.0,9,-999.0000,9,  -999.0,9, -999.0, -999.00,9,  -999.0,  -999.0, -999.00,9
31RBOACES24N_2,  AR01,    32,  1,     15,2,19980131,0400, 24.5000, -31.0835, 6027,   1640.4,   4.9200,  35.1370,  35.1370,2,    214.8,2,     215.9,2,    18.90,2,  -999.00,5,     0.00,2,  -999.00,5,    0.005,4,    0.007,2,   -0.005,2, -999.000,9,   -999.0,9,  -999.00,9,   -999.0,9,   -999.0,9,-999.0000,9,  -999.0,9, -999.0, -999.00,9,  -999.0,  -999.0, -999.00,9
31RBOACES24N_2,  AR01,    32,  1,     14,2,19980131,0400, 24.5000, -31.0835, 6027,   1845.5,   4.2220,  35.0710,  35.0720,2,    227.9,2,     230.2,2,    20.40,2,    21.10,2,     0.00,2,  -999.00,5, -999.000,9, -999.000,9, -999.000,9, -999.000,9,   -999.0,9,  -999.00,9,   -999.0,9,   -999.0,9,-999.0000,9,  -999.0,9, -999.0, -999.00,9,  -999.0,  -999.0, -999.00,9
31RBOACES24N_2,  AR01,    32,  1,     13,2,19980131,0400, 24.5000, -31.0835, 6027,   1992.5,   3.9400,  35.0470,  35.0480,2,    233.4,2,     234.8,2,    21.70,2,    20.81,2,     0.00,2,  -999.00,5, -999.000,9, -999.000,9, -999.000,9, -999.000,9,   -999.0,9,  -999.00,9,   -999.0,9,   2330.2,2,   7.7118,2,  -999.0,9, -999.0, -999.00,9,  -999.0,  -999.0, -999.00,9
31RBOACES24N_2,  AR01,    32,  1,     12,2,19980131,0400, 24.5000, -31.0835, 6027,   2193.8,   3.6370,  35.0220,  35.0200,2,    238.4,2,     241.0,2,    23.40,2,    20.71,2,     0.00,2,  -999.00,5,   -0.003,2,   -0.004,2,   -0.005,2, -999.000,9,   -999.0,9,  -999.00,9,   -999.0,9,   -999.0,9,-999.0000,9,  -999.0,9, -999.0, -999.00,9,  -999.0,  -999.0, -999.00,9
31RBOACES24N_2,  AR01,    32,  1,     11,2,19980131,0400, 24.5000, -31.0835, 6027,   2452.5,   3.2670,  34.9910,  34.9900,2,    246.0,2,     246.0,2,    26.80,2,    20.51,2,     0.00,2,  -999.00,5, -999.000,9, -999.000,9, -999.000,9, -999.000,9,   -999.0,9,  -999.00,9,   -999.0,9,   -999.0,9,-999.0000,9,  -999.0,9, -999.0, -999.00,9,  -999.0,  -999.0, -999.00,9
31RBOACES24N_2,  AR01,    32,  1,     10,2,19980131,0400, 24.5000, -31.0835, 6027,   2698.6,   2.9770,  34.9640,  34.9630,2,    248.8,2,     248.4,2,    30.40,2,    20.51,2,     0.00,2,  -999.00,5,   -0.002,2,   -0.001,2,   -0.006,2, -999.000,9,   -999.0,9,  -999.00,9,   -999.0,9,   -999.0,9,-999.0000,9,  -999.0,9, -999.0, -999.00,9,  -999.0,  -999.0, -999.00,9
31RBOACES24N_2,  AR01,    32,  1,      9,2,19980131,0400, 24.5000, -31.0835, 6027,   3101.1,   2.6960,  34.9350,  34.9340,2,    249.1,2,     249.4,2,    35.40,2,    21.20,2,     0.00,2,  -999.00,5, -999.000,9, -999.000,9, -999.000,9, -999.000,9,   -999.0,9,  -999.00,9,   -999.0,9,   2344.1,2,   7.7302,2,  -999.0,9, -999.0, -999.00,9,  -999.0,  -999.0, -999.00,9
31RBOACES24N_2,  AR01,    32,  1,      8,2,19980131,0400, 24.5000, -31.0835, 6027,   3502.4,   2.5290,  34.9170,  34.9150,2,    248.3,2,     249.0,2,    39.70,2,    21.59,2,     0.00,2,  -999.00,5,   -0.003,2,   -0.001,2,   -0.005,2, -999.000,9,   -999.0,9,  -999.00,9,   -999.0,9,   -999.0,9,-999.0000,9,  -999.0,9, -999.0, -999.00,9,  -999.0,  -999.0, -999.00,9
31RBOACES24N_2,  AR01,    32,  1,      7,2,19980131,0400, 24.5000, -31.0835, 6027,   3900.7,   2.4360,  34.9030,  34.9020,2,    247.8,2,     248.7,2,    42.50,2,    21.98,2,     0.00,2,  -999.00,5, -999.000,9, -999.000,9, -999.000,9, -999.000,9,   -999.0,9,  -999.00,9,   -999.0,9,   -999.0,9,-999.0000,9,  -999.0,9, -999.0, -999.00,9,  -999.0,  -999.0, -999.00,9
31RBOACES24N_2,  AR01,    32,  1,      6,2,19980131,0400, 24.5000, -31.0835, 6027,   4281.7,   2.4010,  34.8960,  34.8950,2,    247.6,2,     248.6,2,    44.50,2,    22.18,2,     0.00,2,  -999.00,5,   -0.002,2,    0.001,2,   -0.005,2, -999.000,9,   -999.0,9,  -999.00,9,   -999.0,9,   -999.0,9,-999.0000,9,  -999.0,9, -999.0, -999.00,9,  -999.0,  -999.0, -999.00,9
31RBOACES24N_2,  AR01,    32,  1,      5,2,19980131,0400, 24.5000, -31.0835, 6027,   4698.8,   2.3950,  34.8890,  34.8890,2,    247.4,2,     249.3,2,    46.00,2,    22.18,2,     0.00,2,  -999.00,5, -999.000,9, -999.000,9, -999.000,9, -999.000,9,   -999.0,9,  -999.00,9,   -999.0,9,   2352.0,2,   7.7247,2,  -999.0,9, -999.0, -999.00,9,  -999.0,  -999.0, -999.00,9
31RBOACES24N_2,  AR01,    32,  1,      4,2,19980131,0400, 24.5000, -31.0835, 6027,   5097.5,   2.4110,  34.8870,  34.8850,2,    249.2,2,     249.9,2,    46.90,2,    22.27,2,     0.00,2,  -999.00,5,   -0.001,2,   -0.002,2,   -0.007,2, -999.000,9,   -999.0,9,  -999.00,9,   -999.0,9,   -999.0,9,-999.0000,9,  -999.0,9, -999.0, -999.00,9,  -999.0,  -999.0, -999.00,9
31RBOACES24N_2,  AR01,    32,  1,      3,2,19980131,0400, 24.5000, -31.0835, 6027,   5497.5,   2.4480,  34.8840,  34.8830,2,    249.6,2,     250.0,2,    47.30,2,    22.27,2,     0.00,2,  -999.00,5,   -0.002,2,    0.001,2,   -0.005,2, -999.000,9,   -999.0,9,  -999.00,9,   -999.0,9,   -999.0,9,-999.0000,9,  -999.0,9, -999.0, -999.00,9,  -999.0,  -999.0, -999.00,9
31RBOACES24N_2,  AR01,    32,  1,      2,9,19980131,0400, 24.5000, -31.0835, 6027,   6106.8,   2.5260,  34.8840,-999.0000,9,    250.5,2,    -999.0,9,  -999.00,9,  -999.00,9,  -999.00,9,  -999.00,9, -999.000,1, -999.000,1, -999.000,1, -999.000,9,   -999.0,9,  -999.00,9,   -999.0,9,   -999.0,9,-999.0000,9,  -999.0,9, -999.0, -999.00,9,  -999.0,  -999.0, -999.00,9
31RBOACES24N_2,  AR01,    32,  1,      1,2,19980131,0400, 24.5000, -31.0835, 6027,   6107.5,   2.5260,  34.8830,  34.8820,2,    250.5,2,     250.2,6,    47.70,6,    22.27,6,     0.00,6,  -999.00,5,   -0.002,6,    0.000,6,   -0.005,6, -999.000,9,   -999.0,9,  -999.00,9,   -999.0,9,   2353.6,2,   7.7201,2,  -999.0,9, -999.0, -999.00,9,  -999.0,  -999.0, -999.00,9