BOTTLE,20220820CCHSIOAMB
EXPOCODE,SECT_ID,STNNBR,CASTNO,BTLNBR,BTLNBR_FLAG_W,DATE,TIME,LATITUDE,LONGITUDE,DEPTH,CTDPRS,CTDTMP,CTDSAL,SALNTY,SALNTY_FLAG_W,CTDOXY,CTDOXY_FLAG_W,OXYGEN,OXYGEN_FLAG_W,SILCAT,SILCAT_FLAG_W,NITRAT,NITRAT_FLAG_W,NITRIT,NITRIT_FLAG_W,PHSPHT,PHSPHT_FLAG_W,CFC-11,CFC-11_FLAG_W,CFC-12,CFC-12_FLAG_W,CFC113,CFC113_FLAG_W,CCL4,CCL4_FLAG_W,DELC14,DELC14_FLAG_W,DELC13,DELC13_FLAG_W,TCARBN,TCARBN_FLAG_W,ALKALI,ALKALI_FLAG_W,PH,PH_FLAG_W,FCO2,FCO2_FLAG_W,FCO2TMP,TON,TON_FLAG_W,FCO2IN,C14ERR,TOC,TOC_FLAG_W
,,,,,,,,,,,DBAR,ITS-90,PSS-78,PSS-78,,UMOL/KG,,UMOL/KG,,UMOL/KG,,UMOL/KG,,UMOL/KG,,UMOL/KG,,PMOL/KG,,PMOL/KG,,PMOL/KG,,PMOL/KG,,/MILLE,,/MILLE,,UMOL/KG,,UMOL/KG,,,,UATM,,DEG C,UMOL/KG,,UATM,/MILLE,UMOL/KG,
31RBOACES24N_2,  AR01,    36,  1,     36,2,19980201,1116, 24.5018, -34.3827, 5142,      4.9,  23.0250,  37.5210,  37.5200,2,    216.4,2,     216.4,2,     0.30,2,     0.00,2,     0.00,2,     0.00,2,    1.963,2,    1.131,2,    0.159,2,    1.790,2,   -999.0,9,     1.36,2,   2094.6,6,   2463.4,2,   8.0842,2,   317.3,2,   20.0, -999.00,9,   357.6,  -999.0,   69.60,2
31RBOACES24N_2,  AR01,    36,  1,     35,2,19980201,1116, 24.5018, -34.3827, 5142,     25.2,  22.9680,  37.5180,  37.5180,2,    216.4,2,     216.7,2,     0.30,2,     0.00,2,     0.00,2,     0.00,2,    1.966,2,    1.144,2,    0.164,2, -999.000,9,   -999.0,9,  -999.00,9,   -999.0,9,   -999.0,9,   8.0754,2,  -999.0,9, -999.0, -999.00,9,  -999.0,  -999.0,   68.33,2
31RBOACES24N_2,  AR01,    36,  1,     34,2,19980201,1116, 24.5018, -34.3827, 5142,     51.4,  22.9390,  37.5140,  37.5130,2,    216.6,2,     217.3,2,     0.30,2,     0.00,2,     0.00,2,     0.01,2,    1.978,6,    1.145,6,    0.154,6,    1.877,2,   -999.0,9,  -999.00,9,   -999.0,9,   2458.7,2,   8.0747,2,  -999.0,9, -999.0, -999.00,9,  -999.0,  -999.0,   67.85,2
31RBOACES24N_2,  AR01,    36,  1,     33,2,19980201,1116, 24.5018, -34.3827, 5142,     99.8,  20.5910,  37.0870,  37.0820,2,    207.2,2,     208.1,2,     0.50,2,     0.78,2,     0.03,2,     0.03,2,    2.223,2,    1.265,2,    0.146,2,    1.095,6,   -999.0,9,  -999.00,9,   -999.0,9,   -999.0,9,   8.0124,2,  -999.0,9, -999.0, -999.00,9,  -999.0,  -999.0,   56.91,2
31RBOACES24N_2,  AR01,    36,  1,     32,2,19980201,1116, 24.5018, -34.3827, 5142,    147.7,  18.7370,  36.6770,  36.6530,2,    202.9,2,     206.5,2,     0.80,2,     2.34,2,     0.01,2,     0.07,2,    2.326,2,    1.324,2,    0.078,2, -999.000,9,   -999.0,9,  -999.00,9,   -999.0,9,   2408.1,2,   7.9939,2,  -999.0,9, -999.0, -999.00,9,  -999.0,  -999.0,   53.20,2
31RBOACES24N_2,  AR01,    36,  1,     31,2,19980201,1116, 24.5018, -34.3827, 5142,    202.0,  17.8660,  36.5160,  36.5120,2,    204.0,2,     204.8,2,     1.20,2,     4.20,2,     0.01,2,     0.17,2,    2.382,2,    1.314,2,    0.059,2,    0.625,2,   -999.0,9,  -999.00,9,   -999.0,9,   -999.0,9,   7.9785,2,  -999.0,9, -999.0, -999.00,9,  -999.0,  -999.0,   52.32,2
31RBOACES24N_2,  AR01,    36,  1,     30,2,19980201,1116, 24.5018, -34.3827, 5142,    216.5,  17.7010,  36.4860,  36.4850,2,    204.4,2,     204.0,2,     1.40,2,     4.49,2,     0.01,2,     0.19,2, -999.000,9, -999.000,9, -999.000,9, -999.000,9,   -999.0,9,  -999.00,9,   -999.0,9,   2407.1,2,   7.9734,2,  -999.0,9, -999.0, -999.00,9,  -999.0,  -999.0,   50.56,2
31RBOACES24N_2,  AR01,    36,  1,     29,2,19980201,1116, 24.5018, -34.3827, 5142,    250.2,  17.3280,  36.4230,  36.4190,2,    204.0,2,     202.6,2,     1.60,2,     5.27,2,     0.01,2,     0.24,2,    2.334,2,    1.281,2,    0.036,2, -999.000,9,   -999.0,9,  -999.00,9,   -999.0,9,   -999.0,9,-999.0000,9,  -999.0,9, -999.0, -999.00,9,  -999.0,  -999.0,   50.66,2
31RBOACES24N_2,  AR01,    36,  1,     28,2,19980201,1116, 24.5018, -34.3827, 5142,    276.2,  16.9370,  36.3590,  36.3590,2,    203.4,2,     202.4,6,     1.80,2,     5.95,2,     0.01,2,     0.29,2, -999.000,9, -999.000,9, -999.000,9,    0.592,2,   -999.0,9,  -999.00,9,   -999.0,9,   2392.4,2,   7.9526,2,  -999.0,9, -999.0, -999.00,9,  -999.0,  -999.0, -999.00,9
31RBOACES24N_2,  AR01,    36,  1,     27,2,19980201,1116, 24.5018, -34.3827, 5142,    300.4,  16.6480,  36.3100,  36.3090,2,    203.4,2,    -999.0,9,     2.00,2,     6.44,2,     0.01,2,     0.32,2,    2.332,2,    1.273,2,    0.040,2, -999.000,9,   -999.0,9,  -999.00,9,   -999.0,9,   -999.0,9,-999.0000,9,  -999.0,9, -999.0, -999.00,9,  -999.0,  -999.0,   50.46,2
31RBOACES24N_2,  AR01,    36,  1,     26,2,19980201,1116, 24.5018, -34.3827, 5142,    349.6,  15.8630,  36.1800,  36.1740,2,    199.4,2,     199.9,2,     2.60,2,     7.91,2,     0.01,2,     0.42,2, -999.000,9, -999.000,9, -999.000,9, -999.000,9,   -999.0,9,  -999.00,9,   -999.0,9,   2380.3,2,   7.9225,2,  -999.0,9, -999.0, -999.00,9,  -999.0,  -999.0, -999.00,9
31RBOACES24N_2,  AR01,    36,  1,     25,2,19980201,1116, 24.5018, -34.3827, 5142,    400.6,  14.8240,  36.0210,  36.0110,2,    194.7,2,     191.7,2,     3.50,2,    10.25,2,     0.00,2,     0.57,2,    2.193,2,    1.175,2,    0.032,2,    0.521,2,   -999.0,9,  -999.00,9,   -999.0,9,   -999.0,9,-999.0000,9,  -999.0,9, -999.0, -999.00,9,  -999.0,  -999.0,   49.57,2
31RBOACES24N_2,  AR01,    36,  1,     24,2,19980201,1116, 24.5018, -34.3827, 5142,    500.8,  13.1280,  35.7730,  35.7720,2,    189.2,2,     185.3,2,     5.10,2,    13.47,2,     0.00,2,     0.77,2,    1.958,2,    1.020,2,    0.023,2, -999.000,9,   -999.0,9,  -999.00,9,   -999.0,9,   2356.8,2,   7.8348,2,  -999.0,9, -999.0, -999.00,9,  -999.0,  -999.0, -999.00,9
31RBOACES24N_2,  AR01,    36,  1,     23,2,19980201,1116, 24.5018, -34.3827, 5142,    600.5,  11.8220,  35.6140,  35.6100,2,    180.8,2,     177.5,2,     6.70,2,    16.50,2,     0.00,2,     0.96,2,    1.572,2,    0.795,2,    0.017,2,    0.452,2,   -999.0,9,  -999.00,9,   -999.0,9,   -999.0,9,-999.0000,9,  -999.0,9, -999.0, -999.00,9,  -999.0,  -999.0,   48.58,2
31RBOACES24N_2,  AR01,    36,  1,     22,2,19980201,1116, 24.5018, -34.3827, 5142,    700.0,  10.5280,  35.4720,  35.4720,2,    165.5,2,     161.8,2,     9.90,2,    20.31,2,     0.00,2,     1.22,2,    0.889,2,    0.423,2,    0.004,2, -999.000,9,   -999.0,9,  -999.00,9,   -999.0,9,   2340.6,2,   7.7398,2,  -999.0,9, -999.0, -999.00,9,  -999.0,  -999.0, -999.00,9
31RBOACES24N_2,  AR01,    36,  1,     21,2,19980201,1116, 24.5018, -34.3827, 5142,    798.8,   9.4030,  35.3600,  35.3590,2,    155.4,2,     151.1,2,    13.10,2,    23.24,2,     0.01,2,     1.43,2,    0.409,2,    0.184,2,    0.003,2,    0.178,2,   -999.0,9,  -999.00,9,   -999.0,9,   -999.0,9,-999.0000,9,  -999.0,9, -999.0, -999.00,9,  -999.0,  -999.0,   46.14,2
31RBOACES24N_2,  AR01,    36,  1,     20,2,19980201,1116, 24.5018, -34.3827, 5142,    901.0,   8.2710,  35.2480,  35.2470,2,    151.3,2,     147.4,2,    15.80,2,    25.49,2,     0.00,2,     1.61,2,    0.171,2,    0.073,2,   -0.001,2, -999.000,9,   -999.0,9,  -999.00,9,   -999.0,9,   2330.7,2,   7.6754,2,  -999.0,9, -999.0, -999.00,9,  -999.0,  -999.0, -999.00,9
31RBOACES24N_2,  AR01,    36,  1,     19,2,19980201,1116, 24.5018, -34.3827, 5142,    999.3,   7.4140,  35.1890,  35.1880,2,    161.4,2,     156.9,2,    17.10,2,    25.69,2,     0.00,2,     1.65,2,    0.101,2,    0.042,2,   -0.002,2, -999.000,9,   -999.0,9,  -999.00,9,   -999.0,9,   -999.0,9,-999.0000,9,  -999.0,9, -999.0, -999.00,9,  -999.0,  -999.0, -999.00,9
31RBOACES24N_2,  AR01,    36,  1,     18,2,19980201,1116, 24.5018, -34.3827, 5142,   1149.7,   6.6180,  35.1740,  35.1730,2,    181.6,2,     175.4,2,    17.90,2,    24.42,2,     0.00,2,     1.59,2,    0.058,2,    0.028,2,   -0.007,2,    0.086,6,   -999.0,9,  -999.00,9,   -999.0,9,   2337.1,2,   7.6805,2,  -999.0,9, -999.0, -999.00,9,  -999.0,  -999.0, -999.00,9
31RBOACES24N_2,  AR01,    36,  1,     17,2,19980201,1116, 24.5018, -34.3827, 5142,   1301.4,   6.0310,  35.1720,  35.1720,2,    198.0,2,     193.0,2,    17.70,2,    23.05,2,     0.00,2,     1.50,2, -999.000,9, -999.000,9, -999.000,9, -999.000,9,   -999.0,9,  -999.00,9,   -999.0,9,   -999.0,9,-999.0000,9,  -999.0,9, -999.0, -999.00,9,  -999.0,  -999.0, -999.00,9
31RBOACES24N_2,  AR01,    36,  1,     16,2,19980201,1116, 24.5018, -34.3827, 5142,   1400.9,   5.5030,  35.1410,  35.1390,2,    209.2,2,     205.8,2,    18.10,2,    22.27,2,     0.00,2,     1.46,2,    0.022,2,    0.008,2,    0.000,2, -999.000,9,   -999.0,9,  -999.00,9,   -999.0,9,   2336.5,2,   7.7071,2,  -999.0,9, -999.0, -999.00,9,  -999.0,  -999.0, -999.00,9
31RBOACES24N_2,  AR01,    36,  1,     15,2,19980201,1116, 24.5018, -34.3827, 5142,   1601.0,   4.9520,  35.1260,  35.1270,2,    223.4,2,     220.3,2,    18.90,2,    21.19,2,     0.00,2,     1.39,2, -999.000,9, -999.000,9, -999.000,9, -999.000,9,   -999.0,9,  -999.00,9,   -999.0,9,   -999.0,9,-999.0000,9,  -999.0,9, -999.0, -999.00,9,  -999.0,  -999.0, -999.00,9
31RBOACES24N_2,  AR01,    36,  1,     14,2,19980201,1116, 24.5018, -34.3827, 5142,   1799.3,   4.4890,  35.0990,  35.1000,2,    233.2,2,     230.6,2,    20.20,2,    20.80,2,     0.00,2,     1.36,2,    0.004,6,   -0.001,6,   -0.004,6, -999.000,9,   -999.0,9,  -999.00,9,   -999.0,9,   -999.0,9,   7.7269,2,  -999.0,9, -999.0, -999.00,9,  -999.0,  -999.0, -999.00,9
31RBOACES24N_2,  AR01,    36,  1,     13,2,19980201,1116, 24.5018, -34.3827, 5142,   2000.3,   3.9250,  35.0490,  35.0490,2,    240.3,2,     238.9,2,    22.70,2,    20.61,2,     0.00,2,     1.35,2, -999.000,9, -999.000,9, -999.000,9, -999.000,9,   -999.0,9,  -999.00,9,   -999.0,9,   -999.0,9,-999.0000,9,  -999.0,9, -999.0, -999.00,9,  -999.0,  -999.0, -999.00,9
31RBOACES24N_2,  AR01,    36,  1,     12,2,19980201,1116, 24.5018, -34.3827, 5142,   2198.8,   3.5350,  35.0140,  35.0120,2,    245.6,2,     244.0,2,    25.30,2,    20.51,2,     0.00,2,     1.36,2,    0.000,2,   -0.003,2,   -0.008,2,    0.033,2,   -999.0,9,  -999.00,9,   -999.0,9,   -999.0,9,-999.0000,9,  -999.0,9, -999.0, -999.00,9,  -999.0,  -999.0, -999.00,9
31RBOACES24N_2,  AR01,    36,  1,     11,2,19980201,1116, 24.5018, -34.3827, 5142,   2400.6,   3.2650,  34.9880,  34.9880,2,    248.1,2,     246.3,2,    28.10,2,    20.71,2,     0.00,2,     1.37,2, -999.000,9, -999.000,9, -999.000,9, -999.000,9,   -999.0,9,  -999.00,9,   -999.0,9,   -999.0,9,-999.0000,9,  -999.0,9, -999.0, -999.00,9,  -999.0,  -999.0, -999.00,9
31RBOACES24N_2,  AR01,    36,  1,     10,2,19980201,1116, 24.5018, -34.3827, 5142,   2600.5,   3.0340,  34.9660,  34.9660,2,    249.1,2,     247.3,2,    31.20,2,    20.90,2,     0.00,2,     1.39,2,   -0.001,2,   -0.002,2,   -0.002,2, -999.000,9,   -999.0,9,  -999.00,9,   -999.0,9,   -999.0,9,-999.0000,9,  -999.0,9, -999.0, -999.00,9,  -999.0,  -999.0, -999.00,9
31RBOACES24N_2,  AR01,    36,  1,      9,2,19980201,1116, 24.5018, -34.3827, 5142,   2799.6,   2.8640,  34.9510,  34.9500,2,    248.5,2,     247.0,2,    34.00,2,    21.20,2,     0.00,2,     1.41,2, -999.000,9, -999.000,9, -999.000,9, -999.000,9,   -999.0,9,  -999.00,9,   -999.0,9,   2349.8,2,   7.7282,2,  -999.0,9, -999.0, -999.00,9,  -999.0,  -999.0, -999.00,9
31RBOACES24N_2,  AR01,    36,  1,      8,2,19980201,1116, 24.5018, -34.3827, 5142,   2999.4,   2.7250,  34.9370,  34.9370,2,    248.5,2,     246.9,2,    36.70,2,    21.39,2,     0.01,2,     1.43,2,   -0.002,2,   -0.001,2,   -0.008,2,    0.003,2,   -999.0,9,  -999.00,9,   -999.0,9,   -999.0,9,-999.0000,9,  -999.0,9, -999.0, -999.00,9,  -999.0,  -999.0, -999.00,9
31RBOACES24N_2,  AR01,    36,  1,      7,2,19980201,1116, 24.5018, -34.3827, 5142,   3296.4,   2.6140,  34.9250,  34.9370,2,    250.2,2,     246.9,2,    39.50,2,    21.59,2,     0.01,2,     1.44,2, -999.000,9, -999.000,9, -999.000,9, -999.000,9,   -999.0,9,  -999.00,9,   -999.0,9,   -999.0,9,-999.0000,9,  -999.0,9, -999.0, -999.00,9,  -999.0,  -999.0, -999.00,9
31RBOACES24N_2,  AR01,    36,  1,      6,2,19980201,1116, 24.5018, -34.3827, 5142,   3600.7,   2.5160,  34.9130,  34.9120,2,    251.5,2,     248.5,2,    41.50,2,    21.88,2,     0.01,2,     1.46,2,    0.000,3,    0.002,2,    0.000,2,    0.004,2,   -999.0,9,  -999.00,9,   -999.0,9,   -999.0,9,-999.0000,9,  -999.0,9, -999.0, -999.00,9,  -999.0,  -999.0, -999.00,9
31RBOACES24N_2,  AR01,    36,  1,      5,2,19980201,1116, 24.5018, -34.3827, 5142,   3890.1,   2.4380,  34.9020,  34.9020,2,    251.0,2,     249.2,2,    43.30,2,    21.98,2,     0.01,2,     1.46,2, -999.000,9, -999.000,9, -999.000,9, -999.000,9,   -999.0,9,  -999.00,9,   -999.0,9,   -999.0,9,-999.0000,9,  -999.0,9, -999.0, -999.00,9,  -999.0,  -999.0, -999.00,9
31RBOACES24N_2,  AR01,    36,  1,      4,2,19980201,1116, 24.5018, -34.3827, 5142,   4199.6,   2.4030,  34.8960,  34.8950,2,    252.1,2,     249.5,2,    44.20,2,    22.08,2,     0.01,2,     1.48,2,    0.000,2,    0.002,2,    0.004,2, -999.000,9,   -999.0,9,  -999.00,9,   -999.0,9,   -999.0,9,-999.0000,9,  -999.0,9, -999.0, -999.00,9,  -999.0,  -999.0, -999.00,9
31RBOACES24N_2,  AR01,    36,  1,      3,2,19980201,1116, 24.5018, -34.3827, 5142,   4497.9,   2.3910,  34.8910,  34.8910,2,    252.2,2,     249.6,2,    44.70,2,    22.08,2,     0.01,2,     1.49,2,    0.000,2,    0.000,2,   -0.006,2,    0.021,6,   -999.0,9,  -999.00,9,   -999.0,9,   -999.0,9,-999.0000,9,  -999.0,9, -999.0, -999.00,9,  -999.0,  -999.0, -999.00,9
31RBOACES24N_2,  AR01,    36,  1,      2,2,19980201,1116, 24.5018, -34.3827, 5142,   4899.0,   2.3600,  34.8820,  34.8820,2,    254.2,2,     251.9,2,    46.30,2,    22.18,2,     0.01,2,     1.49,2,    0.001,6,   -0.001,6,   -0.002,6,    0.035,2,   -999.0,9,  -999.00,9,   -999.0,9,   -999.0,9,-999.0000,9,  -999.0,9, -999.0, -999.00,9,  -999.0,  -999.0, -999.00,9
31RBOACES24N_2,  AR01,    36,  1,      1,2,19980201,1116, 24.5018, -34.3827, 5142,   5232.2,   2.3900,  34.8810,  34.8810,2,    254.1,2,     251.5,2,    46.40,6,    22.18,6,     0.01,6,     1.50,6,    0.001,2,    0.001,2,   -0.007,2,    0.089,3,   -999.0,9,  -999.00,9,   -999.0,9,   -999.0,9,   7.7245,2,  -999.0,9, -999.0, -999.00,9,  -999.0,  -999.0, -999.00,9