BOTTLE,20220820CCHSIOAMB
EXPOCODE,SECT_ID,STNNBR,CASTNO,BTLNBR,BTLNBR_FLAG_W,DATE,TIME,LATITUDE,LONGITUDE,DEPTH,CTDPRS,CTDTMP,CTDSAL,SALNTY,SALNTY_FLAG_W,CTDOXY,CTDOXY_FLAG_W,OXYGEN,OXYGEN_FLAG_W,SILCAT,SILCAT_FLAG_W,NITRAT,NITRAT_FLAG_W,NITRIT,NITRIT_FLAG_W,PHSPHT,PHSPHT_FLAG_W,CFC-11,CFC-11_FLAG_W,CFC-12,CFC-12_FLAG_W,CFC113,CFC113_FLAG_W,CCL4,CCL4_FLAG_W,DELC14,DELC14_FLAG_W,DELC13,DELC13_FLAG_W,TCARBN,TCARBN_FLAG_W,ALKALI,ALKALI_FLAG_W,PH,PH_FLAG_W,FCO2,FCO2_FLAG_W,FCO2TMP,TON,TON_FLAG_W,FCO2IN,C14ERR,TOC,TOC_FLAG_W
,,,,,,,,,,,DBAR,ITS-90,PSS-78,PSS-78,,UMOL/KG,,UMOL/KG,,UMOL/KG,,UMOL/KG,,UMOL/KG,,UMOL/KG,,PMOL/KG,,PMOL/KG,,PMOL/KG,,PMOL/KG,,/MILLE,,/MILLE,,UMOL/KG,,UMOL/KG,,,,UATM,,DEG C,UMOL/KG,,UATM,/MILLE,UMOL/KG,
31RBOACES24N_2,  AR01,   110,  1,     36,2,19980220,2034, 26.5000, -75.8998, 4747,      4.3,  23.0950,  36.6460,  36.6440,2,    209.3,2,     217.6,2,     0.70,2,     0.00,2,     0.01,2,     0.01,2,    1.973,2,    1.139,2,    0.161,2,    2.034,2,   -999.0,9,     1.23,2,   2037.3,6,   -999.0,5,   8.0935,2,   283.9,2,   20.0,    4.34,2,   321.0,  -999.0,   65.55,2
31RBOACES24N_2,  AR01,   110,  1,     35,2,19980220,2034, 26.5000, -75.8998, 4747,     50.0,  22.5200,  36.6730,  36.6730,2,    214.6,2,     215.5,2,     0.70,2,     0.00,2,     0.01,2,     0.00,2, -999.000,9, -999.000,9, -999.000,9, -999.000,9,   -999.0,9,  -999.00,9,   2011.3,3,   2392.0,2,-999.0000,9,   288.9,2,   20.0,    4.22,2,   319.3,  -999.0,   64.08,2
31RBOACES24N_2,  AR01,   110,  1,     34,2,19980220,2034, 26.5000, -75.8998, 4747,     96.2,  22.0340,  36.6560,  36.6710,2,    214.3,2,     213.9,2,     0.70,2,     0.00,2,     0.10,2,     0.01,2,    2.047,2,    1.177,2,    0.159,2,    1.823,2,   -999.0,9,  -999.00,9,   2051.7,2,   -999.0,5,   8.0763,2,   301.3,6,   20.0,    4.51,2,   326.7,  -999.0,   61.24,2
31RBOACES24N_2,  AR01,   110,  1,     33,2,19980220,2034, 26.5000, -75.8998, 4747,    150.5,  20.4810,  36.8090,  36.8100,2,    204.1,2,     208.8,2,     0.60,2,     0.39,2,     0.03,2,     0.02,2,    2.216,2,    1.255,2,    0.131,2, -999.000,9,   -999.0,9,  -999.00,9,   2088.8,2,   -999.0,5,   8.0314,2,   342.7,2,   20.0, -999.00,9,   349.3,  -999.0,   54.97,2
31RBOACES24N_2,  AR01,   110,  1,     32,2,19980220,2034, 26.5000, -75.8998, 4747,    200.2,  19.6590,  36.7490,  36.7330,2,    208.4,2,     202.2,2,     0.60,2,     0.88,2,     0.02,2,     0.03,2,    2.284,6,    1.294,6,    0.103,6, -999.000,9,   -999.0,9,  -999.00,9,   2107.0,3,   -999.0,9,   8.0168,2,   356.5,2,   20.0,    5.05,2,   351.7,  -999.0,   51.16,2
31RBOACES24N_2,  AR01,   110,  1,     31,2,19980220,2034, 26.5000, -75.8998, 4747,    221.9,  19.2910,  36.6930,  36.6910,2,    209.1,2,     205.2,2,     0.70,2,     1.27,2,     0.02,2,     0.05,2, -999.000,9, -999.000,9, -999.000,9, -999.000,9,   -999.0,9,  -999.00,9,   2092.8,2,   -999.0,9,   8.0132,2,   360.6,2,   20.0,    5.19,2,   350.5,  -999.0,   50.67,2
31RBOACES24N_2,  AR01,   110,  1,     30,2,19980220,2034, 26.5000, -75.8998, 4747,    249.8,  18.9010,  36.6410,  36.6380,2,    208.5,2,     206.2,2,     0.80,2,     1.76,2,     0.01,2,     0.08,2,    2.320,2,    1.303,2,    0.050,2,    0.570,2,   -999.0,9,  -999.00,9,   2093.6,2,   -999.0,5,   8.0082,2,   363.5,2,   20.0,    5.86,2,   347.7,  -999.0,   48.91,2
31RBOACES24N_2,  AR01,   110,  1,     29,2,19980220,2034, 26.5000, -75.8998, 4747,    270.6,  18.7070,  36.6140,  36.6110,2,    205.2,2,     203.9,2,     0.90,2,     2.15,2,     0.01,2,     0.10,2, -999.000,9, -999.000,9, -999.000,9, -999.000,9,   -999.0,9,  -999.00,9,   2094.4,2,   -999.0,9,   8.0031,2,  -999.0,9, -999.0,    6.12,2,  -999.0,  -999.0,   47.84,2
31RBOACES24N_2,  AR01,   110,  1,     28,2,19980220,2034, 26.5000, -75.8998, 4747,    300.3,  18.5410,  36.5920,  36.5910,2,    208.6,2,     206.7,2,     0.90,2,     2.44,2,     0.01,2,     0.12,2,    2.333,2,    1.297,2,    0.043,2, -999.000,9,   -999.0,9,  -999.00,9,   2094.2,2,   -999.0,5,   8.0030,2,   377.6,2,   20.0, -999.00,9,   356.0,  -999.0, -999.00,9
31RBOACES24N_2,  AR01,   110,  1,     27,2,19980220,2034, 26.5000, -75.8998, 4747,    350.8,  18.2450,  36.5620,  36.5610,2,    212.6,2,     210.5,2,     1.10,2,     2.63,2,     0.01,2,     0.19,3, -999.000,9, -999.000,9, -999.000,9, -999.000,9,   -999.0,9,  -999.00,9,   2092.5,2,   2386.9,2,   8.0006,2,  -999.0,9, -999.0,    6.72,2,  -999.0,  -999.0,   46.86,2
31RBOACES24N_2,  AR01,   110,  1,     26,2,19980220,2034, 26.5000, -75.8998, 4747,    399.9,  18.1340,  36.5500,  36.5500,2,    215.6,2,     212.3,2,     1.20,2,     2.83,2,     0.01,2,     0.15,2,    2.355,2,    1.307,2,    0.073,2,    0.638,6,   -999.0,9,  -999.00,9,   2093.9,2,   2387.1,2,   8.0004,2,   369.4,2,   20.0, -999.00,9,   342.6,  -999.0, -999.00,9
31RBOACES24N_2,  AR01,   110,  1,     25,2,19980220,2034, 26.5000, -75.8998, 4747,    450.1,  17.9520,  36.5190,  36.5190,2,    210.4,2,     208.7,2,     1.30,2,     3.41,2,     0.01,2,     0.19,2, -999.000,9, -999.000,9, -999.000,9, -999.000,9,   -999.0,9,  -999.00,9,   2097.1,2,   2383.1,2,-999.0000,9,  -999.0,9, -999.0,    7.59,2,  -999.0,  -999.0,   45.20,2
31RBOACES24N_2,  AR01,   110,  1,     24,2,19980220,2034, 26.5000, -75.8998, 4747,    499.8,  17.4450,  36.4230,  36.4220,2,    194.4,2,     195.7,2,     1.90,2,     5.46,2,     0.01,2,     0.31,2, -999.000,9, -999.000,9, -999.000,9, -999.000,9,   -999.0,9,  -999.00,9,   2109.2,2,   2382.4,2,   7.9605,2,   413.4,2,   20.0, -999.00,9,   372.8,  -999.0, -999.00,9
31RBOACES24N_2,  AR01,   110,  1,     23,2,19980220,2034, 26.5000, -75.8998, 4747,    548.4,  16.6160,  36.2790,  36.2790,2,    188.8,2,     181.1,6,     2.50,2,     7.90,2,     0.01,2,     0.45,2,    2.045,2,    1.087,2,    0.025,2,    0.413,2,   -999.0,9,  -999.00,9,   2119.7,2,   -999.0,5,   7.9251,2,  -999.0,9, -999.0,   11.40,2,  -999.0,  -999.0,   43.93,2
31RBOACES24N_2,  AR01,   110,  1,     22,2,19980220,2034, 26.5000, -75.8998, 4747,    649.9,  14.5420,  35.9350,  35.9330,2,    176.1,2,     174.2,2,     4.50,2,    12.39,2,     0.01,2,     0.75,2, -999.000,9, -999.000,9, -999.000,9, -999.000,9,   -999.0,9,  -999.00,9,   2139.0,2,   2353.4,2,   7.8599,2,   530.8,2,   20.0, -999.00,9,   424.9,  -999.0, -999.00,9
31RBOACES24N_2,  AR01,   110,  1,     21,3,19980220,2034, 26.5000, -75.8998, 4747,    748.4,  12.7480,  35.6700,  35.6660,2,    162.5,2,     160.8,2,     7.00,2,    16.98,2,     0.01,2,     1.03,2,    1.261,2,    0.651,2,    0.018,2,    0.335,2,   -999.0,9,  -999.00,9,   2158.7,2,   2339.4,2,-999.0000,9,   626.8,2,   20.0,   19.92,2,   465.4,  -999.0,   45.57,2
31RBOACES24N_2,  AR01,   110,  1,     20,2,19980220,2034, 26.5000, -75.8998, 4747,    849.3,  10.2980,  35.3540,  35.3540,2,    149.1,2,     155.7,2,    11.10,2,    21.67,2,     0.01,2,     1.34,2, -999.000,9, -999.000,9, -999.000,9, -999.000,9,   -999.0,9,  -999.00,9,   2176.1,2,   -999.0,5,   7.7268,2,   740.7,2,   20.0, -999.00,9,   496.1,  -999.0, -999.00,9
31RBOACES24N_2,  AR01,   110,  1,     19,2,19980220,2034, 26.5000, -75.8998, 4747,    950.2,   8.1740,  35.1290,  35.1280,2,    151.5,2,     153.4,2,    15.50,2,    25.77,2,     0.01,2,     1.64,2,    0.306,2,    0.160,2,    0.014,2, -999.000,9,   -999.0,9,  -999.00,9,   2190.2,2,   2320.2,2,   7.6727,2,   849.0,2,   20.0,   27.53,2,   519.6,  -999.0,   41.08,2
31RBOACES24N_2,  AR01,   110,  1,     18,2,19980220,2034, 26.5000, -75.8998, 4747,   1043.4,   6.9550,  35.0690,  35.0690,2,    170.5,2,     171.8,2,    16.40,2,    24.99,2,     0.01,2,     1.60,2,    0.288,2,    0.147,2,    0.008,2,    0.337,2,   -999.0,9,  -999.00,9,   2191.2,6,   -999.0,5,   7.6728,2,   862.0,2,   20.0, -999.00,9,   499.7,  -999.0, -999.00,9
31RBOACES24N_2,  AR01,   110,  1,     17,2,19980220,2034, 26.5000, -75.8998, 4747,   1201.5,   5.7820,  35.0850,  35.0850,2,    218.2,2,     217.1,2,    13.60,2,    20.79,2,     0.01,2,     1.35,2, -999.000,9, -999.000,9, -999.000,9, -999.000,9,   -999.0,9,  -999.00,9,   2175.5,2,   2320.5,2,   7.7089,2,  -999.0,9, -999.0,   22.71,2,  -999.0,  -999.0,   41.06,2
31RBOACES24N_2,  AR01,   110,  1,     16,2,19980220,2034, 26.5000, -75.8998, 4747,   1399.3,   4.7670,  35.0440,  35.0450,2,    248.5,2,     247.3,2,    12.60,2,    18.84,2,     0.01,2,     1.23,2,    0.738,2,    0.368,2,    0.029,2, -999.000,9,   -999.0,9,  -999.00,9,   2165.5,2,   2322.3,2,   7.7266,2,   738.8,2,   20.0, -999.00,9,   385.1,  -999.0, -999.00,9
31RBOACES24N_2,  AR01,   110,  1,     15,2,19980220,2034, 26.5000, -75.8998, 4747,   1600.6,   4.1910,  34.9950,  34.9960,2,    262.0,2,     260.2,2,    12.40,2,    18.06,2,     0.01,2,     1.19,2,    0.971,2,    0.471,2,    0.040,2,    1.622,2,   -999.0,9,  -999.00,9,   2164.7,2,   2324.8,2,   7.7317,2,  -999.0,9, -999.0,   20.23,2,  -999.0,  -999.0,   41.16,2
31RBOACES24N_2,  AR01,   110,  1,     14,2,19980220,2034, 26.5000, -75.8998, 4747,   1799.8,   3.8820,  34.9760,  34.9770,2,    268.3,2,     267.4,2,    13.10,2,    17.87,2,     0.01,2,     1.18,2,    0.898,2,    0.435,2,    0.044,2, -999.000,9,   -999.0,9,  -999.00,9,   2161.2,2,   2321.8,2,   7.7346,2,   734.9,2,   20.0, -999.00,9,   367.3,  -999.0, -999.00,9
31RBOACES24N_2,  AR01,   110,  1,     13,2,19980220,2034, 26.5000, -75.8998, 4747,   1998.6,   3.7370,  34.9820,  34.9820,2,    267.7,2,     266.6,2,    14.50,2,    18.06,2,     0.01,2,     1.21,2,    0.516,2,    0.260,2,    0.023,2, -999.000,9,   -999.0,9,  -999.00,9,   2163.3,2,   -999.0,9,   7.7378,2,  -999.0,9, -999.0,   20.22,2,  -999.0,  -999.0,   41.16,2
31RBOACES24N_2,  AR01,   110,  1,     12,2,19980220,2034, 26.5000, -75.8998, 4747,   2198.7,   3.5390,  34.9740,  34.9720,2,    267.5,2,     267.4,2,    16.00,2,    17.96,2,     0.01,2,     1.21,2, -999.000,9, -999.000,9, -999.000,9, -999.000,9,   -999.0,9,  -999.00,9,   2161.9,2,   -999.0,9,   7.7383,2,   719.6,2,   20.0, -999.00,9,   353.2,  -999.0, -999.00,9
31RBOACES24N_2,  AR01,   110,  1,     11,2,19980220,2034, 26.5000, -75.8998, 4747,   2400.1,   3.3600,  34.9660,  34.9670,2,    268.1,2,     267.6,2,    17.60,2,    18.16,2,     0.01,2,     1.21,2,    0.299,2,    0.150,2,    0.009,2,    0.812,2,   -999.0,9,  -999.00,9,   2164.4,2,   -999.0,9,   7.7399,2,  -999.0,9, -999.0,   20.33,2,  -999.0,  -999.0,   41.15,2
31RBOACES24N_2,  AR01,   110,  1,     10,2,19980220,2034, 26.5000, -75.8998, 4747,   2600.5,   3.1340,  34.9550,  34.9540,2,    269.4,2,     270.7,2,    19.00,2,    18.16,2,     0.01,2,     1.22,2, -999.000,9, -999.000,9, -999.000,9, -999.000,9,   -999.0,9,  -999.00,9,   2161.5,2,   2321.6,2,   7.7407,2,   723.3,2,   20.0, -999.00,9,   348.0,  -999.0, -999.00,9
31RBOACES24N_2,  AR01,   110,  1,      9,2,19980220,2034, 26.5000, -75.8998, 4747,   2800.7,   2.9540,  34.9410,  34.9410,2,    271.6,2,     271.3,2,    19.60,2,    17.87,2,     0.01,2,     1.20,2,    0.392,2,    0.198,2,    0.014,2,    0.869,2,   -999.0,9,  -999.00,9,   2163.6,2,   -999.0,9,-999.0000,9,  -999.0,9, -999.0,   20.08,2,  -999.0,  -999.0,   41.45,2
31RBOACES24N_2,  AR01,   110,  1,      8,2,19980220,2034, 26.5000, -75.8998, 4747,   3000.0,   2.7730,  34.9310,  34.9300,2,    274.6,2,     273.3,2,    20.20,2,    17.77,2,     0.01,2,     1.20,2, -999.000,9, -999.000,9, -999.000,9, -999.000,9,   -999.0,9,  -999.00,9,   2165.2,2,   -999.0,9,   7.7400,2,   730.3,2,   20.0, -999.00,9,   345.3,  -999.0, -999.00,9
31RBOACES24N_2,  AR01,   110,  1,      7,2,19980220,2034, 26.5000, -75.8998, 4747,   3199.8,   2.6230,  34.9220,  34.9220,2,    276.5,2,     273.9,2,    21.00,2,    17.57,2,     0.01,2,     1.19,2,    0.573,2,    0.279,2,    0.023,2,    1.086,2,   -999.0,9,  -999.00,9,   2164.3,2,   -999.0,9,-999.0000,9,  -999.0,9, -999.0,   19.36,2,  -999.0,  -999.0,   41.44,2
31RBOACES24N_2,  AR01,   110,  1,      6,2,19980220,2034, 26.5000, -75.8998, 4747,   3400.4,   2.4950,  34.9140,  34.9130,2,    277.3,2,     275.8,2,    21.90,2,    17.38,2,     0.01,2,     1.23,3, -999.000,9, -999.000,9, -999.000,9, -999.000,9,   -999.0,9,  -999.00,9,   2166.8,2,   -999.0,5,   7.7369,2,  -999.0,9, -999.0, -999.00,9,  -999.0,  -999.0, -999.00,9
31RBOACES24N_2,  AR01,   110,  1,      5,2,19980220,2034, 26.5000, -75.8998, 4747,   3599.6,   2.3980,  34.9080,  34.9070,2,    277.2,2,     275.7,2,    23.60,2,    17.67,2,     0.01,2,     1.22,2,    0.689,2,    0.331,2,    0.030,2,    1.248,6,   -999.0,9,  -999.00,9,   2168.1,2,   2322.7,2,   7.7348,2,   726.0,2,   20.0,   19.66,2,   336.7,  -999.0,   41.64,2
31RBOACES24N_2,  AR01,   110,  1,      4,2,19980220,2034, 26.5000, -75.8998, 4747,   3829.8,   2.3270,  34.9020,  34.9010,2,    276.3,2,     274.7,2,    25.90,2,    17.87,2,     0.01,2,     1.24,2,    0.636,2,    0.312,2,    0.038,2,    1.190,2,   -999.0,9,  -999.00,9,   2170.5,2,   -999.0,9,-999.0000,9,  -999.0,9, -999.0, -999.00,9,  -999.0,  -999.0, -999.00,9
31RBOACES24N_2,  AR01,   110,  1,      3,2,19980220,2034, 26.5000, -75.8998, 4747,   4201.4,   2.2800,  34.8960,  34.8940,2,    274.3,2,     272.3,2,    29.30,2,    18.45,2,     0.01,2,     1.34,3,    0.515,6,    0.253,6,    0.028,6, -999.000,9,   -999.0,9,  -999.00,9,   2171.8,2,   -999.0,5,   7.7328,2,   740.8,2,   20.0, -999.00,9,   341.4,  -999.0,   41.54,2
31RBOACES24N_2,  AR01,   110,  1,      2,3,19980220,2034, 26.5000, -75.8998, 4747,   4497.3,   2.2530,  34.8900,  34.8880,2,    269.9,2,     269.1,2,    33.20,2,    19.23,2,     0.01,2,     1.33,2,    0.373,2,    0.189,2,    0.026,2,    0.831,2,   -999.0,9,  -999.00,9,   2177.9,2,   -999.0,9,   7.7311,2,   745.2,2,   20.0, -999.00,9,   342.6,  -999.0, -999.00,9
31RBOACES24N_2,  AR01,   110,  1,      1,2,19980220,2034, 26.5000, -75.8998, 4747,   4817.4,   2.2090,  34.8790,  34.8780,2,    264.5,2,     263.6,2,    39.60,6,    20.41,6,     0.01,6,     1.40,6,    0.214,2,    0.118,2,    0.042,3,    0.555,2,   -999.0,9,  -999.00,9,   2189.1,2,   2341.4,2,   7.7275,2,   755.9,2,   20.0,   21.17,2,   346.4,  -999.0,   45.34,3