BOTTLE,20220820CCHSIOAMB
EXPOCODE,SECT_ID,STNNBR,CASTNO,BTLNBR,BTLNBR_FLAG_W,DATE,TIME,LATITUDE,LONGITUDE,DEPTH,CTDPRS,CTDTMP,CTDSAL,SALNTY,SALNTY_FLAG_W,CTDOXY,CTDOXY_FLAG_W,OXYGEN,OXYGEN_FLAG_W,SILCAT,SILCAT_FLAG_W,NITRAT,NITRAT_FLAG_W,NITRIT,NITRIT_FLAG_W,PHSPHT,PHSPHT_FLAG_W,CFC-11,CFC-11_FLAG_W,CFC-12,CFC-12_FLAG_W,CFC113,CFC113_FLAG_W,CCL4,CCL4_FLAG_W,DELC14,DELC14_FLAG_W,DELC13,DELC13_FLAG_W,TCARBN,TCARBN_FLAG_W,ALKALI,ALKALI_FLAG_W,PH,PH_FLAG_W,FCO2,FCO2_FLAG_W,FCO2TMP,TON,TON_FLAG_W,FCO2IN,C14ERR,TOC,TOC_FLAG_W
,,,,,,,,,,,DBAR,ITS-90,PSS-78,PSS-78,,UMOL/KG,,UMOL/KG,,UMOL/KG,,UMOL/KG,,UMOL/KG,,UMOL/KG,,PMOL/KG,,PMOL/KG,,PMOL/KG,,PMOL/KG,,/MILLE,,/MILLE,,UMOL/KG,,UMOL/KG,,,,UATM,,DEG C,UMOL/KG,,UATM,/MILLE,UMOL/KG,
31RBOACES24N_2,  AR01,    69,  1,     36,2,19980210,0330, 24.4993, -54.4665, 5657,      3.7,  23.6400,  37.2080,  37.2070,2,    189.2,2,     214.2,2,     0.40,2,     0.00,2,     0.00,2,     0.01,2, -999.000,9, -999.000,9, -999.000,9, -999.000,9,   -999.0,9,  -999.00,9,   2060.2,6,   2428.8,2,   8.1000,2,   276.8,2,   20.0, -999.00,9,   319.8,  -999.0, -999.00,9
31RBOACES24N_2,  AR01,    69,  1,     35,2,19980210,0330, 24.4993, -54.4665, 5657,     40.8,  23.5460,  37.2670,  37.2670,2,    213.4,2,     215.4,2,     0.40,2,     0.00,2,     0.00,2,     0.01,2, -999.000,9, -999.000,9, -999.000,9, -999.000,9,   -999.0,9,  -999.00,9,   -999.0,9,   -999.0,9,-999.0000,9,  -999.0,9, -999.0, -999.00,9,  -999.0,  -999.0, -999.00,9
31RBOACES24N_2,  AR01,    69,  1,     34,2,19980210,0330, 24.4993, -54.4665, 5657,     87.7,  23.0250,  37.2140,  37.2240,2,    215.0,2,     216.8,2,     0.40,2,     0.00,2,     0.00,2,     0.01,2, -999.000,9, -999.000,9, -999.000,9, -999.000,9,   -999.0,9,  -999.00,9,   2070.9,2,   2428.2,2,   8.0831,2,   288.6,2,   20.0, -999.00,9,   325.5,  -999.0, -999.00,9
31RBOACES24N_2,  AR01,    69,  1,     33,2,19980210,0330, 24.4993, -54.4665, 5657,    139.3,  20.3410,  36.8650,  36.8660,2,    199.7,2,     203.1,2,     0.40,2,     0.59,2,     0.02,2,     0.03,2, -999.000,9, -999.000,9, -999.000,9, -999.000,9,   -999.0,9,  -999.00,9,   2092.9,2,   2407.1,2,   8.0182,2,   351.0,2,   20.0, -999.00,9,   355.8,  -999.0, -999.00,9
31RBOACES24N_2,  AR01,    69,  1,     32,2,19980210,0330, 24.4993, -54.4665, 5657,    198.3,  18.7340,  36.6340,  36.6300,2,    199.8,2,     201.4,2,     0.80,2,     2.34,2,     0.01,2,     0.10,2, -999.000,9, -999.000,9, -999.000,9, -999.000,9,   -999.0,9,  -999.00,9,   2098.9,2,   2389.9,2,   7.9930,2,   374.5,2,   20.0, -999.00,9,   355.8,  -999.0, -999.00,9
31RBOACES24N_2,  AR01,    69,  1,     31,2,19980210,0330, 24.4993, -54.4665, 5657,    224.5,  18.3490,  36.5750,  36.5750,2,    201.0,2,     202.7,2,     1.00,2,     3.32,2,     0.00,2,     0.15,2, -999.000,9, -999.000,9, -999.000,9, -999.000,9,   -999.0,9,  -999.00,9,   -999.0,9,   -999.0,9,-999.0000,9,  -999.0,9, -999.0, -999.00,9,  -999.0,  -999.0, -999.00,9
31RBOACES24N_2,  AR01,    69,  1,     30,2,19980210,0330, 24.4993, -54.4665, 5657,    247.9,  18.1910,  36.5530,  36.5520,2,    204.7,2,     203.4,2,     1.10,2,     3.61,2,     0.00,2,     0.18,2, -999.000,9, -999.000,9, -999.000,9, -999.000,9,   -999.0,9,  -999.00,9,   2101.5,2,   -999.0,9,   7.9880,2,   385.2,2,   20.0, -999.00,9,   358.0,  -999.0, -999.00,9
31RBOACES24N_2,  AR01,    69,  1,     29,2,19980210,0330, 24.4993, -54.4665, 5657,    273.2,  17.9600,  36.5190,  36.5190,2,    201.9,2,     204.2,2,     1.20,2,     4.00,2,     0.00,2,     0.20,2, -999.000,9, -999.000,9, -999.000,9, -999.000,9,   -999.0,9,  -999.00,9,   -999.0,9,   -999.0,9,-999.0000,9,  -999.0,9, -999.0, -999.00,9,  -999.0,  -999.0, -999.00,9
31RBOACES24N_2,  AR01,    69,  1,     28,2,19980210,0330, 24.4993, -54.4665, 5657,    299.4,  17.7900,  36.4930,  36.4930,2,    197.6,2,     197.8,2,     1.40,2,     4.88,2,     0.00,2,     0.26,2, -999.000,9, -999.000,9, -999.000,9, -999.000,9,   -999.0,9,  -999.00,9,   2109.3,2,   2383.1,2,   7.9672,2,   389.1,2,   20.0, -999.00,9,   355.8,  -999.0, -999.00,9
31RBOACES24N_2,  AR01,    69,  1,     27,2,19980210,0330, 24.4993, -54.4665, 5657,    349.9,  17.2680,  36.4040,  36.4070,2,    195.4,2,     195.8,2,     1.80,2,     5.85,2,     0.00,2,     0.32,2, -999.000,9, -999.000,9, -999.000,9, -999.000,9,   -999.0,9,  -999.00,9,   -999.0,9,   -999.0,9,-999.0000,9,  -999.0,9, -999.0, -999.00,9,  -999.0,  -999.0, -999.00,9
31RBOACES24N_2,  AR01,    69,  1,     26,2,19980210,0330, 24.4993, -54.4665, 5657,    394.9,  16.3090,  36.2440,  36.2500,2,    186.9,2,     184.7,2,     2.50,2,     8.30,2,     0.00,2,     0.48,2, -999.000,9, -999.000,9, -999.000,9, -999.000,9,   -999.0,9,  -999.00,9,   2126.3,2,   2368.9,2,   7.9147,2,   473.0,2,   20.0, -999.00,9,   407.3,  -999.0, -999.00,9
31RBOACES24N_2,  AR01,    69,  1,     25,2,19980210,0330, 24.4993, -54.4665, 5657,    451.5,  15.1690,  36.0620,  36.0770,2,    187.1,2,     180.5,2,     3.40,2,    10.35,2,     0.00,2,     0.61,2, -999.000,9, -999.000,9, -999.000,9, -999.000,9,   -999.0,9,  -999.00,9,   -999.0,9,   -999.0,9,-999.0000,9,  -999.0,9, -999.0, -999.00,9,  -999.0,  -999.0, -999.00,9
31RBOACES24N_2,  AR01,    69,  1,     24,2,19980210,0330, 24.4993, -54.4665, 5657,    552.3,  13.5020,  35.8130,  35.8160,2,    175.2,2,     173.2,2,     5.10,2,    13.67,2,     0.00,2,     0.84,2, -999.000,9, -999.000,9, -999.000,9, -999.000,9,   -999.0,9,  -999.00,9,   2146.5,2,   2347.0,2,   7.8214,2,   580.9,2,   20.0, -999.00,9,   445.0,  -999.0, -999.00,9
31RBOACES24N_2,  AR01,    69,  1,     23,2,19980210,0330, 24.4993, -54.4665, 5657,    650.8,  11.8420,  35.5840,  35.5810,2,    162.2,2,     159.9,2,     7.80,2,    18.06,2,     0.00,2,     1.11,2, -999.000,9, -999.000,9, -999.000,9, -999.000,9,   -999.0,9,  -999.00,9,   -999.0,9,   -999.0,9,-999.0000,9,  -999.0,9, -999.0, -999.00,9,  -999.0,  -999.0, -999.00,9
31RBOACES24N_2,  AR01,    69,  1,     22,2,19980210,0330, 24.4993, -54.4665, 5657,    757.8,   9.7260,  35.2920,  35.3000,2,    154.2,2,     146.5,2,    12.60,2,    23.05,2,     0.00,2,     1.47,2, -999.000,9, -999.000,9, -999.000,9, -999.000,9,   -999.0,9,  -999.00,9,   2181.2,2,   2324.3,2,   7.7006,2,   784.2,2,   20.0, -999.00,9,   513.2,  -999.0, -999.00,9
31RBOACES24N_2,  AR01,    69,  1,     21,2,19980210,0330, 24.4993, -54.4665, 5657,    851.8,   8.0580,  35.1140,  35.1170,2,    149.2,2,     149.5,2,    16.40,2,    25.59,2,     0.00,2,     1.68,2, -999.000,9, -999.000,9, -999.000,9, -999.000,9,   -999.0,9,  -999.00,9,   -999.0,9,   -999.0,9,-999.0000,9,  -999.0,9, -999.0, -999.00,9,  -999.0,  -999.0, -999.00,9
31RBOACES24N_2,  AR01,    69,  1,     20,2,19980210,0330, 24.4993, -54.4665, 5657,    949.8,   7.0770,  35.0410,  35.0410,2,    159.0,2,     158.0,2,    18.20,2,    26.08,2,     0.00,2,     1.74,2, -999.000,9, -999.000,9, -999.000,9, -999.000,9,   -999.0,9,  -999.00,9,   -999.0,9,   -999.0,9,-999.0000,9,  -999.0,9, -999.0, -999.00,9,  -999.0,  -999.0, -999.00,9
31RBOACES24N_2,  AR01,    69,  1,     19,2,19980210,0330, 24.4993, -54.4665, 5657,   1050.5,   6.2110,  35.0300,  35.0270,2,    179.6,2,     180.9,2,    17.80,2,    24.32,2,     0.00,2,     1.63,2, -999.000,9, -999.000,9, -999.000,9, -999.000,9,   -999.0,9,  -999.00,9,   2188.1,6,   2319.6,2,   7.6699,2,   848.9,6,   20.0, -999.00,9,   475.1,  -999.0, -999.00,9
31RBOACES24N_2,  AR01,    69,  1,     18,2,19980210,0330, 24.4993, -54.4665, 5657,   1149.8,   5.7820,  35.0460,  35.0470,2,    202.6,2,     203.0,2,    16.40,2,    22.17,2,     0.00,2,     1.50,2, -999.000,9, -999.000,9, -999.000,9, -999.000,9,   -999.0,9,  -999.00,9,   -999.0,9,   -999.0,9,-999.0000,9,  -999.0,9, -999.0, -999.00,9,  -999.0,  -999.0, -999.00,9
31RBOACES24N_2,  AR01,    69,  1,     17,2,19980210,0330, 24.4993, -54.4665, 5657,   1350.7,   5.1330,  35.0830,  35.0850,2,    234.9,2,     230.8,2,    14.70,2,    19.73,2,     0.00,2,     1.33,2, -999.000,9, -999.000,9, -999.000,9, -999.000,9,   -999.0,9,  -999.00,9,   -999.0,9,   -999.0,9,-999.0000,9,  -999.0,9, -999.0, -999.00,9,  -999.0,  -999.0, -999.00,9
31RBOACES24N_2,  AR01,    69,  1,     16,2,19980210,0330, 24.4993, -54.4665, 5657,   1548.6,   4.6810,  35.0840,  35.0840,2,    244.5,2,     244.1,2,    15.10,2,    18.85,2,     0.00,2,     1.27,2, -999.000,9, -999.000,9, -999.000,9, -999.000,9,   -999.0,9,  -999.00,9,   2165.6,2,   2321.9,2,   7.7303,2,   718.3,2,   20.0, -999.00,9,   372.2,  -999.0, -999.00,9
31RBOACES24N_2,  AR01,    69,  1,     15,2,19980210,0330, 24.4993, -54.4665, 5657,   1748.6,   4.1910,  35.0580,  35.0570,2,    247.7,2,     248.9,2,    18.10,2,    18.85,2,     0.00,2,     1.28,2, -999.000,9, -999.000,9, -999.000,9, -999.000,9,   -999.0,9,  -999.00,9,   -999.0,9,   -999.0,9,-999.0000,9,  -999.0,9, -999.0, -999.00,9,  -999.0,  -999.0, -999.00,9
31RBOACES24N_2,  AR01,    69,  1,     14,2,19980210,0330, 24.4993, -54.4665, 5657,   1949.0,   3.8070,  35.0260,  35.0270,2,    252.0,2,     252.3,2,    20.50,2,    18.95,2,     0.00,2,     1.30,2, -999.000,9, -999.000,9, -999.000,9, -999.000,9,   -999.0,9,  -999.00,9,   2166.4,2,   2323.7,2,   7.7371,2,   722.4,2,   20.0, -999.00,9,   358.7,  -999.0, -999.00,9
31RBOACES24N_2,  AR01,    69,  1,     13,2,19980210,0330, 24.4993, -54.4665, 5657,   2148.0,   3.4110,  34.9930,  34.9920,2,    253.9,2,     254.5,2,    24.20,2,    19.24,2,     0.00,2,     1.32,2, -999.000,9, -999.000,9, -999.000,9, -999.000,9,   -999.0,9,  -999.00,9,   -999.0,9,   -999.0,9,-999.0000,9,  -999.0,9, -999.0, -999.00,9,  -999.0,  -999.0, -999.00,9
31RBOACES24N_2,  AR01,    69,  1,     12,2,19980210,0330, 24.4993, -54.4665, 5657,   2342.6,   3.2040,  34.9760,  34.9750,2,    254.1,2,     255.5,2,    26.70,2,    19.44,2,     0.00,2,     1.34,2, -999.000,9, -999.000,9, -999.000,9, -999.000,9,   -999.0,9,  -999.00,9,   -999.0,9,   -999.0,9,-999.0000,9,  -999.0,9, -999.0, -999.00,9,  -999.0,  -999.0, -999.00,9
31RBOACES24N_2,  AR01,    69,  1,     11,2,19980210,0330, 24.4993, -54.4665, 5657,   2546.7,   3.0090,  34.9580,  34.9580,2,    255.6,2,     254.0,2,    29.00,2,    19.64,2,     0.00,2,     1.36,2, -999.000,9, -999.000,9, -999.000,9, -999.000,9,   -999.0,9,  -999.00,9,   -999.0,9,   -999.0,9,-999.0000,9,  -999.0,9, -999.0, -999.00,9,  -999.0,  -999.0, -999.00,9
31RBOACES24N_2,  AR01,    69,  1,     10,2,19980210,0330, 24.4993, -54.4665, 5657,   2750.2,   2.8720,  34.9460,  34.9450,2,    255.6,2,     256.4,2,    31.00,2,    19.73,2,     0.00,2,     1.37,2, -999.000,9, -999.000,9, -999.000,9, -999.000,9,   -999.0,9,  -999.00,9,   -999.0,9,   -999.0,9,-999.0000,9,  -999.0,9, -999.0, -999.00,9,  -999.0,  -999.0, -999.00,9
31RBOACES24N_2,  AR01,    69,  1,      9,2,19980210,0330, 24.4993, -54.4665, 5657,   2948.0,   2.7580,  34.9360,  34.9350,2,    256.6,2,     257.6,2,    32.70,2,    19.83,2,     0.00,2,     1.38,2, -999.000,9, -999.000,9, -999.000,9, -999.000,9,   -999.0,9,  -999.00,9,   2176.5,2,   2334.0,2,   7.7303,2,   721.7,2,   20.0, -999.00,9,   339.6,  -999.0, -999.00,9
31RBOACES24N_2,  AR01,    69,  1,      8,2,19980210,0330, 24.4993, -54.4665, 5657,   3248.4,   2.5560,  34.9180,  34.9170,2,    258.8,2,     258.9,2,    36.00,2,    20.12,2,     0.00,2,     1.40,2, -999.000,9, -999.000,9, -999.000,9, -999.000,9,   -999.0,9,  -999.00,9,   -999.0,9,   -999.0,9,-999.0000,9,  -999.0,9, -999.0, -999.00,9,  -999.0,  -999.0, -999.00,9
31RBOACES24N_2,  AR01,    69,  1,      7,2,19980210,0330, 24.4993, -54.4665, 5657,   3547.9,   2.4070,  34.9050,  34.9030,2,    260.5,2,     260.6,2,    37.60,2,    20.12,2,     0.00,2,     1.41,2, -999.000,9, -999.000,9, -999.000,9, -999.000,9,   -999.0,9,  -999.00,9,   2178.7,2,   -999.0,9,-999.0000,9,  -999.0,9, -999.0, -999.00,9,  -999.0,  -999.0, -999.00,9
31RBOACES24N_2,  AR01,    69,  1,      6,2,19980210,0330, 24.4993, -54.4665, 5657,   3893.0,   2.2680,  34.8890,  34.8900,2,    259.7,2,     261.0,2,    40.80,2,    20.42,2,     0.00,2,     1.44,2, -999.000,9, -999.000,9, -999.000,9, -999.000,9,   -999.0,9,  -999.00,9,   2183.0,2,   2336.6,2,   7.7278,2,   742.6,2,   20.0, -999.00,9,   340.9,  -999.0, -999.00,9
31RBOACES24N_2,  AR01,    69,  1,      5,2,19980210,0330, 24.4993, -54.4665, 5657,   4346.7,   2.1690,  34.8770,  34.8770,2,    261.4,2,     261.3,2,    43.70,2,    20.61,2,     0.00,2,     1.45,2, -999.000,9, -999.000,9, -999.000,9, -999.000,9,   -999.0,9,  -999.00,9,   -999.0,9,   -999.0,9,-999.0000,9,  -999.0,9, -999.0, -999.00,9,  -999.0,  -999.0, -999.00,9
31RBOACES24N_2,  AR01,    69,  1,      4,2,19980210,0330, 24.4993, -54.4665, 5657,   4742.7,   2.0740,  34.8610,  34.8600,2,    256.9,2,     257.1,2,    50.40,2,    21.49,2,     0.00,2,     1.52,2, -999.000,9, -999.000,9, -999.000,9, -999.000,9,   -999.0,9,  -999.00,9,   -999.0,9,   -999.0,9,-999.0000,9,  -999.0,9, -999.0, -999.00,9,  -999.0,  -999.0, -999.00,9
31RBOACES24N_2,  AR01,    69,  1,      3,2,19980210,0330, 24.4993, -54.4665, 5657,   5141.1,   2.0160,  34.8490,  34.8480,2,    254.0,2,     254.9,2,    55.00,2,    22.27,2,     0.00,2,     1.57,2, -999.000,9, -999.000,9, -999.000,9, -999.000,9,   -999.0,9,  -999.00,9,   -999.0,9,   -999.0,9,-999.0000,9,  -999.0,9, -999.0, -999.00,9,  -999.0,  -999.0, -999.00,9
31RBOACES24N_2,  AR01,    69,  1,      2,2,19980210,0330, 24.4993, -54.4665, 5657,   5241.7,   2.0190,  34.8480,-999.0000,9,    253.2,2,    -999.0,9,  -999.00,9,  -999.00,9,  -999.00,9,  -999.00,9, -999.000,1, -999.000,1, -999.000,1, -999.000,9,   -999.0,9,  -999.00,9,   -999.0,9,   -999.0,9,-999.0000,9,  -999.0,9, -999.0, -999.00,9,  -999.0,  -999.0, -999.00,9
31RBOACES24N_2,  AR01,    69,  1,      1,2,19980210,0330, 24.4993, -54.4665, 5657,   5244.0,   2.0190,  34.8480,  34.8490,2,    253.3,2,     254.8,6,    55.70,6,    22.37,6,     0.00,6,     1.57,6, -999.000,9, -999.000,9, -999.000,9, -999.000,9,   -999.0,9,  -999.00,9,   2199.0,2,   2345.4,2,   7.7076,2,   784.8,2,   20.0, -999.00,9,   355.5,  -999.0, -999.00,9