BOTTLE,20220820CCHSIOAMB
EXPOCODE,SECT_ID,STNNBR,CASTNO,BTLNBR,BTLNBR_FLAG_W,DATE,TIME,LATITUDE,LONGITUDE,DEPTH,CTDPRS,CTDTMP,CTDSAL,SALNTY,SALNTY_FLAG_W,CTDOXY,CTDOXY_FLAG_W,OXYGEN,OXYGEN_FLAG_W,SILCAT,SILCAT_FLAG_W,NITRAT,NITRAT_FLAG_W,NITRIT,NITRIT_FLAG_W,PHSPHT,PHSPHT_FLAG_W,CFC-11,CFC-11_FLAG_W,CFC-12,CFC-12_FLAG_W,CFC113,CFC113_FLAG_W,CCL4,CCL4_FLAG_W,DELC14,DELC14_FLAG_W,DELC13,DELC13_FLAG_W,TCARBN,TCARBN_FLAG_W,ALKALI,ALKALI_FLAG_W,PH,PH_FLAG_W,FCO2,FCO2_FLAG_W,FCO2TMP,TON,TON_FLAG_W,FCO2IN,C14ERR,TOC,TOC_FLAG_W
,,,,,,,,,,,DBAR,ITS-90,PSS-78,PSS-78,,UMOL/KG,,UMOL/KG,,UMOL/KG,,UMOL/KG,,UMOL/KG,,UMOL/KG,,PMOL/KG,,PMOL/KG,,PMOL/KG,,PMOL/KG,,/MILLE,,/MILLE,,UMOL/KG,,UMOL/KG,,,,UATM,,DEG C,UMOL/KG,,UATM,/MILLE,UMOL/KG,
31RBOACES24N_2,  AR01,    63,  1,     36,2,19980208,1026, 24.5002, -50.9837, 5296,      5.2,  24.8580,  37.3880,  37.3870,2,    211.8,2,     210.1,2,     0.80,2,     0.00,2,     0.00,2,     0.00,2, -999.000,9, -999.000,9, -999.000,9, -999.000,9,   -999.0,9,  -999.00,9,   2062.6,2,   2446.1,2,   8.1161,2,   295.3,2,   20.0, -999.00,9,   357.3,  -999.0, -999.00,9
31RBOACES24N_2,  AR01,    63,  1,     35,2,19980208,1026, 24.5002, -50.9837, 5296,     49.1,  24.7570,  37.3700,  37.3680,2,    209.9,2,     210.5,2,     0.80,2,     0.00,2,     0.00,2,     0.00,2, -999.000,9, -999.000,9, -999.000,9, -999.000,9,   -999.0,9,  -999.00,9,   -999.0,9,   -999.0,9,-999.0000,9,  -999.0,9, -999.0, -999.00,9,  -999.0,  -999.0, -999.00,9
31RBOACES24N_2,  AR01,    63,  1,     34,2,19980208,1026, 24.5002, -50.9837, 5296,     98.3,  24.4600,  37.3100,  37.3120,2,    211.6,2,     211.9,2,     0.90,2,     0.00,2,     0.00,2,     0.00,2, -999.000,9, -999.000,9, -999.000,9, -999.000,9,   -999.0,9,  -999.00,9,   1981.2,3,   2443.3,2,   8.1059,2,  -999.0,9, -999.0, -999.00,9,  -999.0,  -999.0, -999.00,9
31RBOACES24N_2,  AR01,    63,  1,     33,2,19980208,1026, 24.5002, -50.9837, 5296,    152.0,  21.1290,  37.0300,  37.0290,2,    193.5,2,     198.1,2,     0.80,2,     0.68,2,     0.03,2,     0.02,2, -999.000,9, -999.000,9, -999.000,9, -999.000,9,   -999.0,9,  -999.00,9,   2063.3,3,   -999.0,9,   8.0214,2,  -999.0,9, -999.0, -999.00,9,  -999.0,  -999.0, -999.00,9
31RBOACES24N_2,  AR01,    63,  1,     32,2,19980208,1026, 24.5002, -50.9837, 5296,    200.7,  19.5080,  36.7950,  36.8040,2,    182.9,2,     185.8,6,     1.20,2,     3.22,2,     0.01,2,     0.13,2, -999.000,9, -999.000,9, -999.000,9, -999.000,9,   -999.0,9,  -999.00,9,   2135.5,3,   2405.9,2,   7.9757,2,  -999.0,9, -999.0, -999.00,9,  -999.0,  -999.0, -999.00,9
31RBOACES24N_2,  AR01,    63,  1,     31,2,19980208,1026, 24.5002, -50.9837, 5296,    228.8,  18.8040,  36.6920,  36.7010,2,    183.7,2,     184.7,2,     1.50,2,     4.39,2,     0.00,2,     0.20,2, -999.000,9, -999.000,9, -999.000,9, -999.000,9,   -999.0,9,  -999.00,9,   -999.0,9,   -999.0,9,-999.0000,9,  -999.0,9, -999.0, -999.00,9,  -999.0,  -999.0, -999.00,9
31RBOACES24N_2,  AR01,    63,  1,     30,2,19980208,1026, 24.5002, -50.9837, 5296,    251.9,  18.3670,  36.6160,  36.6220,2,    184.9,2,     187.7,2,     1.70,2,     4.88,2,     0.00,2,     0.23,2, -999.000,9, -999.000,9, -999.000,9, -999.000,9,   -999.0,9,  -999.00,9,   2115.0,2,   2394.2,2,   7.9629,2,  -999.0,9, -999.0, -999.00,9,  -999.0,  -999.0, -999.00,9
31RBOACES24N_2,  AR01,    63,  1,     29,2,19980208,1026, 24.5002, -50.9837, 5296,    275.5,  18.0870,  36.5700,  36.5710,2,    185.1,2,     186.0,2,     1.80,2,     5.56,2,     0.00,2,     0.28,2, -999.000,9, -999.000,9, -999.000,9, -999.000,9,   -999.0,9,  -999.00,9,   -999.0,9,   -999.0,9,-999.0000,9,  -999.0,9, -999.0, -999.00,9,  -999.0,  -999.0, -999.00,9
31RBOACES24N_2,  AR01,    63,  1,     28,2,19980208,1026, 24.5002, -50.9837, 5296,    301.6,  17.7460,  36.5110,  36.5050,2,    184.0,2,     185.2,2,     2.00,2,     6.34,2,     0.00,2,     0.33,2, -999.000,9, -999.000,9, -999.000,9, -999.000,9,   -999.0,9,  -999.00,9,   2120.2,2,   2382.8,2,   7.9444,2,  -999.0,9, -999.0, -999.00,9,  -999.0,  -999.0, -999.00,9
31RBOACES24N_2,  AR01,    63,  1,     27,3,19980208,1026, 24.5002, -50.9837, 5296,    352.0,  16.8360,  36.3570,  36.3710,2,    181.9,2,     181.9,2,     2.40,2,     7.81,2,     0.00,2,     0.42,2, -999.000,9, -999.000,9, -999.000,9, -999.000,9,   -999.0,9,  -999.00,9,   -999.0,9,   -999.0,9,-999.0000,9,  -999.0,9, -999.0, -999.00,9,  -999.0,  -999.0, -999.00,9
31RBOACES24N_2,  AR01,    63,  1,     26,2,19980208,1026, 24.5002, -50.9837, 5296,    399.9,  16.0110,  36.2080,  36.2050,2,    180.8,2,     180.7,2,     3.10,2,     9.37,2,     0.00,2,     0.53,2, -999.000,9, -999.000,9, -999.000,9, -999.000,9,   -999.0,9,  -999.00,9,   2129.1,2,   2368.0,2,   7.9003,2,  -999.0,9, -999.0, -999.00,9,  -999.0,  -999.0, -999.00,9
31RBOACES24N_2,  AR01,    63,  1,     25,2,19980208,1026, 24.5002, -50.9837, 5296,    449.3,  15.1610,  36.0480,  36.0480,2,    181.3,2,     181.0,2,     3.90,2,    10.64,2,     0.00,2,     0.61,2, -999.000,9, -999.000,9, -999.000,9, -999.000,9,   -999.0,9,  -999.00,9,   2141.5,2,   -999.0,9,-999.0000,9,  -999.0,9, -999.0, -999.00,9,  -999.0,  -999.0, -999.00,9
31RBOACES24N_2,  AR01,    63,  1,     24,2,19980208,1026, 24.5002, -50.9837, 5296,    499.3,  14.0820,  35.9000,  35.8970,2,    175.3,2,     173.9,2,     4.80,2,    12.89,2,     0.00,2,     0.76,2, -999.000,9, -999.000,9, -999.000,9, -999.000,9,   -999.0,9,  -999.00,9,   -999.0,9,   -999.0,9,   7.8458,2,  -999.0,9, -999.0, -999.00,9,  -999.0,  -999.0, -999.00,9
31RBOACES24N_2,  AR01,    63,  1,     23,2,19980208,1026, 24.5002, -50.9837, 5296,    550.5,  13.4870,  35.8130,  35.8120,2,    170.7,2,     171.2,2,     5.40,2,    14.06,2,     0.00,2,     0.84,2, -999.000,9, -999.000,9, -999.000,9, -999.000,9,   -999.0,9,  -999.00,9,   -999.0,9,   -999.0,9,-999.0000,9,  -999.0,9, -999.0, -999.00,9,  -999.0,  -999.0, -999.00,9
31RBOACES24N_2,  AR01,    63,  1,     22,2,19980208,1026, 24.5002, -50.9837, 5296,    586.5,  12.9700,  35.7390,  35.7410,2,    170.3,2,     169.6,2,     6.10,2,    15.23,2,     0.00,2,     0.91,2, -999.000,9, -999.000,9, -999.000,9, -999.000,9,   -999.0,9,  -999.00,9,   2152.2,2,   2341.1,2,   7.8120,2,  -999.0,9, -999.0, -999.00,9,  -999.0,  -999.0, -999.00,9
31RBOACES24N_2,  AR01,    63,  1,     21,2,19980208,1026, 24.5002, -50.9837, 5296,    645.4,  11.9920,  35.6100,  35.6100,2,    167.9,2,     168.1,2,     7.40,2,    16.99,2,     0.00,2,     1.03,2, -999.000,9, -999.000,9, -999.000,9, -999.000,9,   -999.0,9,  -999.00,9,   -999.0,9,   -999.0,9,-999.0000,9,  -999.0,9, -999.0, -999.00,9,  -999.0,  -999.0, -999.00,9
31RBOACES24N_2,  AR01,    63,  1,     20,2,19980208,1026, 24.5002, -50.9837, 5296,    738.3,  10.1770,  35.3870,  35.3980,2,    158.3,2,     157.3,2,    11.00,2,    20.80,2,     0.00,2,     1.32,2, -999.000,9, -999.000,9, -999.000,9, -999.000,9,   -999.0,9,  -999.00,9,   -999.0,9,   -999.0,9,-999.0000,9,  -999.0,9, -999.0, -999.00,9,  -999.0,  -999.0, -999.00,9
31RBOACES24N_2,  AR01,    63,  1,     19,2,19980208,1026, 24.5002, -50.9837, 5296,    848.6,   8.4120,  35.1810,  35.1790,2,    150.9,2,     150.5,2,    15.50,2,    24.52,2,     0.00,2,     1.61,2, -999.000,9, -999.000,9, -999.000,9, -999.000,9,   -999.0,9,  -999.00,9,   2191.6,2,   2322.0,2,   7.6758,2,  -999.0,9, -999.0, -999.00,9,  -999.0,  -999.0, -999.00,9
31RBOACES24N_2,  AR01,    63,  1,     18,2,19980208,1026, 24.5002, -50.9837, 5296,    901.9,   7.7630,  35.1210,  35.1180,2,    154.2,2,     153.9,2,    16.80,2,    25.30,2,     0.00,2,     1.68,2, -999.000,9, -999.000,9, -999.000,9, -999.000,9,   -999.0,9,  -999.00,9,   -999.0,9,   -999.0,9,-999.0000,9,  -999.0,9, -999.0, -999.00,9,  -999.0,  -999.0, -999.00,9
31RBOACES24N_2,  AR01,    63,  1,     17,2,19980208,1026, 24.5002, -50.9837, 5296,   1098.8,   6.0630,  35.0410,  35.0410,2,    189.3,2,     189.6,2,    17.10,2,    23.25,2,     0.00,2,     1.58,2, -999.000,9, -999.000,9, -999.000,9, -999.000,9,   -999.0,9,  -999.00,9,   2189.4,6,   2312.2,2,   7.6783,2,  -999.0,9, -999.0, -999.00,9,  -999.0,  -999.0, -999.00,9
31RBOACES24N_2,  AR01,    63,  1,     16,3,19980208,1026, 24.5002, -50.9837, 5296,   1299.6,   5.2430,  35.0590,  35.0580,2,    223.7,2,     222.7,2,    15.20,2,    20.42,2,     0.00,2,     1.39,2, -999.000,9, -999.000,9, -999.000,9, -999.000,9,   -999.0,9,  -999.00,9,   -999.0,9,   -999.0,9,-999.0000,9,  -999.0,9, -999.0, -999.00,9,  -999.0,  -999.0, -999.00,9
31RBOACES24N_2,  AR01,    63,  1,     15,2,19980208,1026, 24.5002, -50.9837, 5296,   1497.9,   4.7420,  35.0760,  35.0750,2,    240.8,2,     240.5,2,    15.20,2,    19.15,2,     0.00,2,     1.29,2, -999.000,9, -999.000,9, -999.000,9, -999.000,9,   -999.0,9,  -999.00,9,   2168.9,2,   -999.0,9,   7.7283,2,  -999.0,9, -999.0, -999.00,9,  -999.0,  -999.0, -999.00,9
31RBOACES24N_2,  AR01,    63,  1,     14,2,19980208,1026, 24.5002, -50.9837, 5296,   1697.9,   4.3290,  35.0690,  35.0670,2,    246.7,2,     246.3,2,    17.40,2,    18.95,2,     0.00,2,     1.28,2, -999.000,9, -999.000,9, -999.000,9, -999.000,9,   -999.0,9,  -999.00,9,   -999.0,9,   -999.0,9,-999.0000,9,  -999.0,9, -999.0, -999.00,9,  -999.0,  -999.0, -999.00,9
31RBOACES24N_2,  AR01,    63,  1,     13,2,19980208,1026, 24.5002, -50.9837, 5296,   1896.7,   3.9050,  35.0350,  35.0350,2,    249.6,2,     250.8,2,    19.90,2,    19.05,2,     0.00,2,     1.29,2, -999.000,9, -999.000,9, -999.000,9, -999.000,9,   -999.0,9,  -999.00,9,   -999.0,9,   -999.0,9,-999.0000,9,  -999.0,9, -999.0, -999.00,9,  -999.0,  -999.0, -999.00,9
31RBOACES24N_2,  AR01,    63,  1,     12,2,19980208,1026, 24.5002, -50.9837, 5296,   2097.7,   3.5270,  35.0040,  35.0030,2,    253.7,2,     254.3,2,    23.00,2,    19.25,2,     0.00,2,     1.31,2, -999.000,9, -999.000,9, -999.000,9, -999.000,9,   -999.0,9,  -999.00,9,   2174.7,2,   -999.0,5,   7.7347,2,  -999.0,9, -999.0, -999.00,9,  -999.0,  -999.0, -999.00,9
31RBOACES24N_2,  AR01,    63,  1,     11,2,19980208,1026, 24.5002, -50.9837, 5296,   2400.7,   3.1430,  34.9710,  34.9700,2,    255.3,2,     255.7,2,    27.40,2,    19.64,2,     0.00,2,     1.33,2, -999.000,9, -999.000,9, -999.000,9, -999.000,9,   -999.0,9,  -999.00,9,   -999.0,9,   -999.0,9,-999.0000,9,  -999.0,9, -999.0, -999.00,9,  -999.0,  -999.0, -999.00,9
31RBOACES24N_2,  AR01,    63,  1,     10,2,19980208,1026, 24.5002, -50.9837, 5296,   2699.5,   2.9130,  34.9490,  34.9490,2,    254.8,2,     255.7,2,    30.60,2,    20.03,2,     0.00,2,     1.36,2, -999.000,9, -999.000,9, -999.000,9, -999.000,9,   -999.0,9,  -999.00,9,   -999.0,9,   -999.0,9,-999.0000,9,  -999.0,9, -999.0, -999.00,9,  -999.0,  -999.0, -999.00,9
31RBOACES24N_2,  AR01,    63,  1,      9,2,19980208,1026, 24.5002, -50.9837, 5296,   2998.4,   2.7170,  34.9310,  34.9310,2,    256.2,2,     256.8,2,    33.60,2,    20.13,2,     0.00,2,     1.39,2, -999.000,9, -999.000,9, -999.000,9, -999.000,9,   -999.0,9,  -999.00,9,   2184.7,2,   2337.3,2,   7.7311,2,  -999.0,9, -999.0, -999.00,9,  -999.0,  -999.0, -999.00,9
31RBOACES24N_2,  AR01,    63,  1,      8,2,19980208,1026, 24.5002, -50.9837, 5296,   3297.0,   2.5570,  34.9160,  34.9160,2,    258.4,2,     257.7,2,    36.10,2,    20.52,2,     0.00,2,     1.40,2, -999.000,9, -999.000,9, -999.000,9, -999.000,9,   -999.0,9,  -999.00,9,   -999.0,9,   -999.0,9,-999.0000,9,  -999.0,9, -999.0, -999.00,9,  -999.0,  -999.0, -999.00,9
31RBOACES24N_2,  AR01,    63,  1,      7,2,19980208,1026, 24.5002, -50.9837, 5296,   3601.8,   2.3800,  34.9000,  34.9000,2,    260.0,2,     259.0,2,    38.80,2,    20.71,2,     0.00,2,     1.42,2, -999.000,9, -999.000,9, -999.000,9, -999.000,9,   -999.0,9,  -999.00,9,   -999.0,9,   -999.0,9,-999.0000,9,  -999.0,9, -999.0, -999.00,9,  -999.0,  -999.0, -999.00,9
31RBOACES24N_2,  AR01,    63,  1,      6,2,19980208,1026, 24.5002, -50.9837, 5296,   3797.2,   2.3060,  34.8930,  34.8920,2,    259.2,2,     259.2,2,    40.50,2,    20.81,2,     0.00,2,     1.44,2, -999.000,9, -999.000,9, -999.000,9, -999.000,9,   -999.0,9,  -999.00,9,   -999.0,9,   -999.0,9,-999.0000,9,  -999.0,9, -999.0, -999.00,9,  -999.0,  -999.0, -999.00,9
31RBOACES24N_2,  AR01,    63,  1,      5,2,19980208,1026, 24.5002, -50.9837, 5296,   4000.8,   2.2340,  34.8860,  34.8840,2,    259.6,2,     259.4,2,    42.40,2,    21.01,2,     0.00,2,     1.45,2, -999.000,9, -999.000,9, -999.000,9, -999.000,9,   -999.0,9,  -999.00,9,   -999.0,9,   2337.6,2,   7.7267,2,  -999.0,9, -999.0, -999.00,9,  -999.0,  -999.0, -999.00,9
31RBOACES24N_2,  AR01,    63,  1,      4,2,19980208,1026, 24.5002, -50.9837, 5296,   4197.2,   2.1840,  34.8780,  34.8780,2,    259.0,2,     258.6,2,    44.20,2,    21.30,2,     0.00,2,     1.47,2, -999.000,9, -999.000,9, -999.000,9, -999.000,9,   -999.0,9,  -999.00,9,   -999.0,9,   -999.0,9,-999.0000,9,  -999.0,9, -999.0, -999.00,9,  -999.0,  -999.0, -999.00,9
31RBOACES24N_2,  AR01,    63,  1,      3,2,19980208,1026, 24.5002, -50.9837, 5296,   4799.2,   2.1120,  34.8640,  34.8640,2,    257.9,2,     257.5,2,    48.90,2,    21.79,2,     0.00,2,     1.51,2, -999.000,9, -999.000,9, -999.000,9, -999.000,9,   -999.0,9,  -999.00,9,   -999.0,9,   -999.0,9,-999.0000,9,  -999.0,9, -999.0, -999.00,9,  -999.0,  -999.0, -999.00,9
31RBOACES24N_2,  AR01,    63,  1,      2,2,19980208,1026, 24.5002, -50.9837, 5296,   5085.4,   2.1000,  34.8580,  34.8570,2,    256.1,2,     255.9,2,    50.80,2,    22.08,2,     0.00,2,     1.54,2, -999.000,9, -999.000,9, -999.000,9, -999.000,9,   -999.0,9,  -999.00,9,   2191.2,2,   -999.0,9,-999.0000,9,  -999.0,9, -999.0, -999.00,9,  -999.0,  -999.0, -999.00,9
31RBOACES24N_2,  AR01,    63,  1,      1,2,19980208,1026, 24.5002, -50.9837, 5296,   5436.5,   2.1300,  34.8560,  34.8570,2,    255.3,2,     256.0,2,    51.70,6,    22.08,6,     0.00,6,     1.54,6, -999.000,9, -999.000,9, -999.000,9, -999.000,9,   -999.0,9,  -999.00,9,   2201.1,2,   2346.7,2,   7.7138,2,  -999.0,9, -999.0, -999.00,9,  -999.0,  -999.0, -999.00,9