BOTTLE,20220820CCHSIOAMB
EXPOCODE,SECT_ID,STNNBR,CASTNO,BTLNBR,BTLNBR_FLAG_W,DATE,TIME,LATITUDE,LONGITUDE,DEPTH,CTDPRS,CTDTMP,CTDSAL,SALNTY,SALNTY_FLAG_W,CTDOXY,CTDOXY_FLAG_W,OXYGEN,OXYGEN_FLAG_W,SILCAT,SILCAT_FLAG_W,NITRAT,NITRAT_FLAG_W,NITRIT,NITRIT_FLAG_W,PHSPHT,PHSPHT_FLAG_W,CFC-11,CFC-11_FLAG_W,CFC-12,CFC-12_FLAG_W,CFC113,CFC113_FLAG_W,CCL4,CCL4_FLAG_W,DELC14,DELC14_FLAG_W,DELC13,DELC13_FLAG_W,TCARBN,TCARBN_FLAG_W,ALKALI,ALKALI_FLAG_W,PH,PH_FLAG_W,FCO2,FCO2_FLAG_W,FCO2TMP,TON,TON_FLAG_W,FCO2IN,C14ERR,TOC,TOC_FLAG_W
,,,,,,,,,,,DBAR,ITS-90,PSS-78,PSS-78,,UMOL/KG,,UMOL/KG,,UMOL/KG,,UMOL/KG,,UMOL/KG,,UMOL/KG,,PMOL/KG,,PMOL/KG,,PMOL/KG,,PMOL/KG,,/MILLE,,/MILLE,,UMOL/KG,,UMOL/KG,,,,UATM,,DEG C,UMOL/KG,,UATM,/MILLE,UMOL/KG,
31RBOACES24N_2,  AR01,    59,  1,     36,2,19980207,0529, 24.5000, -48.7815, 4343,      4.2,  24.1380,  37.4690,  37.4700,2,    213.7,2,     212.6,6,     0.60,2,     0.00,2,     0.00,2,     0.01,2, -999.000,9, -999.000,9, -999.000,9, -999.000,9,   -999.0,9,  -999.00,9,   2076.1,6,   2456.1,2,   8.0953,2,   277.7,6,   20.0, -999.00,9,   327.1,  -999.0, -999.00,9
31RBOACES24N_2,  AR01,    59,  1,     35,2,19980207,0529, 24.5000, -48.7815, 4343,     39.4,  24.1420,  37.4680,  37.4700,2,    213.5,2,     212.8,2,     0.70,2,     0.00,2,     0.00,2,     0.01,2, -999.000,9, -999.000,9, -999.000,9, -999.000,9,   -999.0,9,  -999.00,9,   -999.0,9,   -999.0,9,-999.0000,9,   276.5,2,   20.0, -999.00,9,   325.7,  -999.0, -999.00,9
31RBOACES24N_2,  AR01,    59,  1,     34,2,19980207,0529, 24.5000, -48.7815, 4343,     80.6,  24.1220,  37.4620,  37.4070,2,    213.0,2,     212.4,2,     0.50,2,     0.00,2,     0.00,2,     0.01,2, -999.000,9, -999.000,9, -999.000,9, -999.000,9,   -999.0,9,  -999.00,9,   2077.1,2,   2446.7,2,   8.0847,2,   295.4,3,   20.0, -999.00,9,   347.6,  -999.0, -999.00,9
31RBOACES24N_2,  AR01,    59,  1,     33,2,19980207,0529, 24.5000, -48.7815, 4343,    120.3,  21.3000,  37.0400,  37.0470,2,    215.4,2,     211.8,2,     0.50,2,     0.10,2,     0.06,2,     0.02,2, -999.000,9, -999.000,9, -999.000,9, -999.000,9,   -999.0,9,  -999.00,9,   2091.4,2,   2420.5,2,   8.0301,2,  -999.0,9, -999.0, -999.00,9,  -999.0,  -999.0, -999.00,9
31RBOACES24N_2,  AR01,    59,  1,     32,2,19980207,0529, 24.5000, -48.7815, 4343,    156.5,  20.1290,  36.8720,  36.8880,2,    200.5,2,     203.1,2,     0.60,2,     0.88,2,     0.03,2,     0.04,2, -999.000,9, -999.000,9, -999.000,9, -999.000,9,   -999.0,9,  -999.00,9,   -999.0,9,   -999.0,9,-999.0000,9,  -999.0,9, -999.0, -999.00,9,  -999.0,  -999.0, -999.00,9
31RBOACES24N_2,  AR01,    59,  1,     31,2,19980207,0529, 24.5000, -48.7815, 4343,    199.5,  19.0830,  36.7320,  36.7330,2,    197.6,2,     200.9,2,     0.70,2,     2.24,2,     0.01,2,     0.07,2, -999.000,9, -999.000,9, -999.000,9, -999.000,9,   -999.0,9,  -999.00,9,   2106.6,2,   2403.6,2,-999.0000,9,  -999.0,9, -999.0, -999.00,9,  -999.0,  -999.0, -999.00,9
31RBOACES24N_2,  AR01,    59,  1,     30,2,19980207,0529, 24.5000, -48.7815, 4343,    221.8,  18.6390,  36.6560,  36.6540,2,    197.9,2,     200.8,2,     0.90,2,     3.12,2,     0.01,2,     0.11,2, -999.000,9, -999.000,9, -999.000,9, -999.000,9,   -999.0,9,  -999.00,9,   -999.0,9,   2396.7,2,   7.9863,2,  -999.0,9, -999.0, -999.00,9,  -999.0,  -999.0, -999.00,9
31RBOACES24N_2,  AR01,    59,  1,     29,2,19980207,0529, 24.5000, -48.7815, 4343,    249.5,  18.2620,  36.5930,  36.5960,2,    199.3,2,     201.7,2,     0.90,2,     3.71,2,     0.00,2,     0.14,2, -999.000,9, -999.000,9, -999.000,9, -999.000,9,   -999.0,9,  -999.00,9,   -999.0,9,   -999.0,9,-999.0000,9,  -999.0,9, -999.0, -999.00,9,  -999.0,  -999.0, -999.00,9
31RBOACES24N_2,  AR01,    59,  1,     28,2,19980207,0529, 24.5000, -48.7815, 4343,    274.8,  17.9590,  36.5380,  36.5350,2,    201.7,2,     202.0,2,     1.00,2,     4.39,2,     0.00,2,     0.18,2, -999.000,9, -999.000,9, -999.000,9, -999.000,9,   -999.0,9,  -999.00,9,   -999.0,9,   -999.0,9,-999.0000,9,  -999.0,9, -999.0, -999.00,9,  -999.0,  -999.0, -999.00,9
31RBOACES24N_2,  AR01,    59,  1,     27,2,19980207,0529, 24.5000, -48.7815, 4343,    294.6,  17.7580,  36.5110,  36.5120,2,    200.2,2,     198.5,2,     1.20,2,     4.98,2,     0.00,2,     0.22,2, -999.000,9, -999.000,9, -999.000,9, -999.000,9,   -999.0,9,  -999.00,9,   2111.8,2,   -999.0,9,   7.9573,2,  -999.0,9, -999.0, -999.00,9,  -999.0,  -999.0, -999.00,9
31RBOACES24N_2,  AR01,    59,  1,     26,2,19980207,0529, 24.5000, -48.7815, 4343,    349.0,  17.0660,  36.3880,  36.3900,2,    194.8,2,     192.3,2,     1.50,2,     6.34,2,     0.00,2,     0.30,2, -999.000,9, -999.000,9, -999.000,9, -999.000,9,   -999.0,9,  -999.00,9,   -999.0,9,   -999.0,9,-999.0000,9,  -999.0,9, -999.0, -999.00,9,  -999.0,  -999.0, -999.00,9
31RBOACES24N_2,  AR01,    59,  1,     25,2,19980207,0529, 24.5000, -48.7815, 4343,    401.3,  16.0120,  36.2180,  36.2330,2,    193.5,2,     192.9,2,     2.00,2,     8.10,2,     0.00,2,     0.40,2, -999.000,9, -999.000,9, -999.000,9, -999.000,9,   -999.0,9,  -999.00,9,   2125.9,2,   2372.6,2,   7.9103,2,  -999.0,9, -999.0, -999.00,9,  -999.0,  -999.0, -999.00,9
31RBOACES24N_2,  AR01,    59,  1,     24,2,19980207,0529, 24.5000, -48.7815, 4343,    450.8,  14.9470,  36.0500,  36.0470,2,    188.9,2,     185.3,2,     2.90,2,    10.54,2,     0.00,2,     0.56,2, -999.000,9, -999.000,9, -999.000,9, -999.000,9,   -999.0,9,  -999.00,9,   -999.0,9,   -999.0,9,-999.0000,9,  -999.0,9, -999.0, -999.00,9,  -999.0,  -999.0, -999.00,9
31RBOACES24N_2,  AR01,    59,  1,     23,2,19980207,0529, 24.5000, -48.7815, 4343,    498.9,  14.1610,  35.9260,  35.9290,2,    186.1,2,     183.2,2,     3.50,2,    11.81,2,     0.00,2,     0.65,2, -999.000,9, -999.000,9, -999.000,9, -999.000,9,   -999.0,9,  -999.00,9,   -999.0,9,   -999.0,9,-999.0000,9,  -999.0,9, -999.0, -999.00,9,  -999.0,  -999.0, -999.00,9
31RBOACES24N_2,  AR01,    59,  1,     22,2,19980207,0529, 24.5000, -48.7815, 4343,    549.7,  13.3150,  35.8050,  35.8050,2,    185.9,2,     182.8,2,     4.30,2,    13.28,2,     0.00,2,     0.74,2, -999.000,9, -999.000,9, -999.000,9, -999.000,9,   -999.0,9,  -999.00,9,   -999.0,9,   -999.0,9,-999.0000,9,  -999.0,9, -999.0, -999.00,9,  -999.0,  -999.0, -999.00,9
31RBOACES24N_2,  AR01,    59,  1,     21,2,19980207,0529, 24.5000, -48.7815, 4343,    598.9,  12.2710,  35.6620,  35.6660,2,    180.5,2,     177.6,2,     5.60,2,    15.43,2,     0.00,2,     0.89,2, -999.000,9, -999.000,9, -999.000,9, -999.000,9,   -999.0,9,  -999.00,9,   2153.8,2,   -999.0,5,   7.7984,2,  -999.0,9, -999.0, -999.00,9,  -999.0,  -999.0, -999.00,9
31RBOACES24N_2,  AR01,    59,  1,     20,2,19980207,0529, 24.5000, -48.7815, 4343,    701.1,  10.5320,  35.4440,  35.4520,2,    168.1,2,     160.5,2,     9.30,2,    20.12,2,     0.00,2,     1.21,2, -999.000,9, -999.000,9, -999.000,9, -999.000,9,   -999.0,9,  -999.00,9,   -999.0,9,   -999.0,9,-999.0000,9,  -999.0,9, -999.0, -999.00,9,  -999.0,  -999.0, -999.00,9
31RBOACES24N_2,  AR01,    59,  1,     19,2,19980207,0529, 24.5000, -48.7815, 4343,    801.9,   9.0510,  35.2730,  35.2800,2,    153.7,2,     153.0,2,    12.90,2,    23.34,2,     0.00,2,     1.46,2, -999.000,9, -999.000,9, -999.000,9, -999.000,9,   -999.0,9,  -999.00,9,   -999.0,9,   2336.4,2,   7.6883,2,  -999.0,9, -999.0, -999.00,9,  -999.0,  -999.0, -999.00,9
31RBOACES24N_2,  AR01,    59,  1,     18,2,19980207,0529, 24.5000, -48.7815, 4343,    900.8,   7.6740,  35.1340,  35.1360,2,    154.1,2,     157.0,2,    16.00,2,    25.10,2,     0.00,2,     1.63,2, -999.000,9, -999.000,9, -999.000,9, -999.000,9,   -999.0,9,  -999.00,9,   -999.0,9,   -999.0,9,-999.0000,9,  -999.0,9, -999.0, -999.00,9,  -999.0,  -999.0, -999.00,9
31RBOACES24N_2,  AR01,    59,  1,     17,2,19980207,0529, 24.5000, -48.7815, 4343,    999.6,   6.6960,  35.0520,  35.0540,2,    163.5,2,     164.4,2,    17.70,2,    25.59,2,     0.00,2,     1.68,2, -999.000,9, -999.000,9, -999.000,9, -999.000,9,   -999.0,9,  -999.00,9,   2197.5,6,   -999.0,9,   7.6543,2,  -999.0,9, -999.0, -999.00,9,  -999.0,  -999.0, -999.00,9
31RBOACES24N_2,  AR01,    59,  1,     16,2,19980207,0529, 24.5000, -48.7815, 4343,   1100.4,   6.2670,  35.0690,  35.0680,2,    180.3,2,     182.6,2,    16.70,2,    23.74,2,     0.00,2,     1.58,2, -999.000,9, -999.000,9, -999.000,9, -999.000,9,   -999.0,9,  -999.00,9,   -999.0,9,   -999.0,9,-999.0000,9,  -999.0,9, -999.0, -999.00,9,  -999.0,  -999.0, -999.00,9
31RBOACES24N_2,  AR01,    59,  1,     15,2,19980207,0529, 24.5000, -48.7815, 4343,   1304.2,   5.4850,  35.0890,  35.0880,2,    213.5,2,     212.0,2,    15.50,2,    21.49,2,     0.00,2,     1.41,2, -999.000,9, -999.000,9, -999.000,9, -999.000,9,   -999.0,9,  -999.00,9,   -999.0,9,   -999.0,9,-999.0000,9,  -999.0,9, -999.0, -999.00,9,  -999.0,  -999.0, -999.00,9
31RBOACES24N_2,  AR01,    59,  1,     14,2,19980207,0529, 24.5000, -48.7815, 4343,   1499.2,   4.7880,  35.0660,  35.0660,2,    235.3,2,     236.5,2,    14.70,2,    19.54,2,     0.00,2,     1.28,2, -999.000,9, -999.000,9, -999.000,9, -999.000,9,   -999.0,9,  -999.00,9,   2171.1,2,   -999.0,5,   7.7225,2,  -999.0,9, -999.0, -999.00,9,  -999.0,  -999.0, -999.00,9
31RBOACES24N_2,  AR01,    59,  1,     13,2,19980207,0529, 24.5000, -48.7815, 4343,   1700.1,   4.3350,  35.0490,  35.0500,2,    245.8,2,     247.4,2,    15.50,2,    18.85,2,     0.00,2,     1.25,2, -999.000,9, -999.000,9, -999.000,9, -999.000,9,   -999.0,9,  -999.00,9,   -999.0,9,   -999.0,9,-999.0000,9,  -999.0,9, -999.0, -999.00,9,  -999.0,  -999.0, -999.00,9
31RBOACES24N_2,  AR01,    59,  1,     12,2,19980207,0529, 24.5000, -48.7815, 4343,   1899.1,   3.9420,  35.0320,  35.0330,2,    249.6,2,     250.6,2,    18.80,2,    19.15,2,     0.00,2,     1.25,2, -999.000,9, -999.000,9, -999.000,9, -999.000,9,   -999.0,9,  -999.00,9,   -999.0,9,   -999.0,9,-999.0000,9,  -999.0,9, -999.0, -999.00,9,  -999.0,  -999.0, -999.00,9
31RBOACES24N_2,  AR01,    59,  1,     11,2,19980207,0529, 24.5000, -48.7815, 4343,   2100.7,   3.5330,  35.0030,  35.0020,2,    252.3,2,     252.5,2,    22.50,2,    19.24,2,     0.00,2,     1.27,2, -999.000,9, -999.000,9, -999.000,9, -999.000,9,   -999.0,9,  -999.00,9,   2173.5,2,   -999.0,9,   7.7301,2,  -999.0,9, -999.0, -999.00,9,  -999.0,  -999.0, -999.00,9
31RBOACES24N_2,  AR01,    59,  1,     10,2,19980207,0529, 24.5000, -48.7815, 4343,   2300.6,   3.2370,  34.9770,  34.9760,2,    253.2,2,     254.5,2,    25.70,2,    19.64,2,     0.00,2,     1.30,2, -999.000,9, -999.000,9, -999.000,9, -999.000,9,   -999.0,9,  -999.00,9,   -999.0,9,   -999.0,9,-999.0000,9,  -999.0,9, -999.0, -999.00,9,  -999.0,  -999.0, -999.00,9
31RBOACES24N_2,  AR01,    59,  1,      9,2,19980207,0529, 24.5000, -48.7815, 4343,   2499.5,   3.0540,  34.9620,  34.9610,2,    252.2,2,     255.4,2,    28.20,2,    19.73,2,     0.00,2,     1.31,2, -999.000,9, -999.000,9, -999.000,9, -999.000,9,   -999.0,9,  -999.00,9,   -999.0,9,   -999.0,9,-999.0000,9,  -999.0,9, -999.0, -999.00,9,  -999.0,  -999.0, -999.00,9
31RBOACES24N_2,  AR01,    59,  1,      8,2,19980207,0529, 24.5000, -48.7815, 4343,   2700.1,   2.9310,  34.9510,  34.9500,2,    253.8,2,     255.2,2,    30.20,2,    19.83,2,     0.00,2,     1.33,2, -999.000,9, -999.000,9, -999.000,9, -999.000,9,   -999.0,9,  -999.00,9,   -999.0,9,   -999.0,9,-999.0000,9,  -999.0,9, -999.0, -999.00,9,  -999.0,  -999.0, -999.00,9
31RBOACES24N_2,  AR01,    59,  1,      7,2,19980207,0529, 24.5000, -48.7815, 4343,   2899.7,   2.8170,  34.9400,  34.9390,2,    254.5,2,     255.4,2,    32.20,2,    20.03,2,     0.00,2,     1.35,2, -999.000,9, -999.000,9, -999.000,9, -999.000,9,   -999.0,9,  -999.00,9,   -999.0,9,   -999.0,9,-999.0000,9,  -999.0,9, -999.0, -999.00,9,  -999.0,  -999.0, -999.00,9
31RBOACES24N_2,  AR01,    59,  1,      6,2,19980207,0529, 24.5000, -48.7815, 4343,   3141.5,   2.6890,  34.9280,  34.9280,2,    255.1,2,     256.3,2,    34.40,2,    20.22,2,     0.00,2,     1.36,2, -999.000,9, -999.000,9, -999.000,9, -999.000,9,   -999.0,9,  -999.00,9,   2177.7,2,   -999.0,5,   7.7307,2,  -999.0,9, -999.0, -999.00,9,  -999.0,  -999.0, -999.00,9
31RBOACES24N_2,  AR01,    59,  1,      5,2,19980207,0529, 24.5000, -48.7815, 4343,   3276.9,   2.5810,  34.9180,  34.9170,2,    256.0,2,     257.4,2,    36.00,2,    20.22,2,     0.00,2,     1.37,2, -999.000,9, -999.000,9, -999.000,9, -999.000,9,   -999.0,9,  -999.00,9,   -999.0,9,   -999.0,9,-999.0000,9,  -999.0,9, -999.0, -999.00,9,  -999.0,  -999.0, -999.00,9
31RBOACES24N_2,  AR01,    59,  1,      4,2,19980207,0529, 24.5000, -48.7815, 4343,   3547.6,   2.4420,  34.9050,  34.9050,2,    257.0,2,     258.3,2,    38.30,2,    20.32,2,     0.00,2,     1.38,2, -999.000,9, -999.000,9, -999.000,9, -999.000,9,   -999.0,9,  -999.00,9,   2185.3,2,   -999.0,5,   7.7292,2,  -999.0,9, -999.0, -999.00,9,  -999.0,  -999.0, -999.00,9
31RBOACES24N_2,  AR01,    59,  1,      3,2,19980207,0529, 24.5000, -48.7815, 4343,   3800.8,   2.3620,  34.8960,  34.8960,2,    257.4,2,     259.2,2,    40.10,2,    20.42,2,     0.00,2,     1.39,2, -999.000,9, -999.000,9, -999.000,9, -999.000,9,   -999.0,9,  -999.00,9,   -999.0,9,   -999.0,9,-999.0000,9,  -999.0,9, -999.0, -999.00,9,  -999.0,  -999.0, -999.00,9
31RBOACES24N_2,  AR01,    59,  1,      2,2,19980207,0529, 24.5000, -48.7815, 4343,   4049.1,   2.2970,  34.8900,  34.8890,2,    257.6,2,     259.4,2,    41.50,2,    20.52,2,     0.00,2,     1.39,2, -999.000,9, -999.000,9, -999.000,9, -999.000,9,   -999.0,9,  -999.00,9,   -999.0,9,   -999.0,9,-999.0000,9,  -999.0,9, -999.0, -999.00,9,  -999.0,  -999.0, -999.00,9
31RBOACES24N_2,  AR01,    59,  1,      1,2,19980207,0529, 24.5000, -48.7815, 4343,   4311.8,   2.2250,  34.8800,  34.8800,2,    257.0,2,     259.2,2,    44.10,2,    21.01,2,     0.00,2,     1.43,2, -999.000,9, -999.000,9, -999.000,9, -999.000,9,   -999.0,9,  -999.00,9,   2191.0,2,   -999.0,5,   7.7221,2,  -999.0,9, -999.0, -999.00,9,  -999.0,  -999.0, -999.00,9