BOTTLE,20220820CCHSIOAMB
EXPOCODE,SECT_ID,STNNBR,CASTNO,BTLNBR,BTLNBR_FLAG_W,DATE,TIME,LATITUDE,LONGITUDE,DEPTH,CTDPRS,CTDTMP,CTDSAL,SALNTY,SALNTY_FLAG_W,CTDOXY,CTDOXY_FLAG_W,OXYGEN,OXYGEN_FLAG_W,SILCAT,SILCAT_FLAG_W,NITRAT,NITRAT_FLAG_W,NITRIT,NITRIT_FLAG_W,PHSPHT,PHSPHT_FLAG_W,CFC-11,CFC-11_FLAG_W,CFC-12,CFC-12_FLAG_W,CFC113,CFC113_FLAG_W,CCL4,CCL4_FLAG_W,DELC14,DELC14_FLAG_W,DELC13,DELC13_FLAG_W,TCARBN,TCARBN_FLAG_W,ALKALI,ALKALI_FLAG_W,PH,PH_FLAG_W,FCO2,FCO2_FLAG_W,FCO2TMP,TON,TON_FLAG_W,FCO2IN,C14ERR,TOC,TOC_FLAG_W
,,,,,,,,,,,DBAR,ITS-90,PSS-78,PSS-78,,UMOL/KG,,UMOL/KG,,UMOL/KG,,UMOL/KG,,UMOL/KG,,UMOL/KG,,PMOL/KG,,PMOL/KG,,PMOL/KG,,PMOL/KG,,/MILLE,,/MILLE,,UMOL/KG,,UMOL/KG,,,,UATM,,DEG C,UMOL/KG,,UATM,/MILLE,UMOL/KG,
31RBOACES24N_2,  AR01,    66,  1,     36,2,19980209,0651, 24.5005, -52.6467, 5281,      4.7,  24.3270,  37.2950,  37.2940,2,    212.5,2,     212.3,2,     0.70,2,     0.00,2,     0.00,2,     0.00,2,    1.847,2,    1.073,2,    0.150,2, -999.000,9,    105.6,2,  -999.00,9,   2061.8,2,   -999.0,5,   8.1064,2,   275.0,2,   20.0,    4.38,2,   326.2,     3.7,   75.69,2
31RBOACES24N_2,  AR01,    66,  1,     35,2,19980209,0651, 24.5005, -52.6467, 5281,     36.4,  24.3120,  37.2890,  37.2900,2,    211.7,2,     212.4,2,     0.70,2,     0.00,2,     0.00,2,     0.01,2,    1.875,2,    1.092,2,    0.156,2, -999.000,9,     94.0,2,  -999.00,9,   2063.2,2,   -999.0,5,   8.1050,2,  -999.0,9, -999.0,    4.35,2,  -999.0,     4.0,   75.98,2
31RBOACES24N_2,  AR01,    66,  1,     34,2,19980209,0651, 24.5005, -52.6467, 5281,     76.4,  24.2390,  37.2760,  37.2760,2,    211.8,2,     212.9,2,     0.70,2,     0.00,2,     0.00,2,     0.01,2,    1.882,2,    1.069,2,    0.186,2, -999.000,9,    102.0,2,  -999.00,9,   2062.9,2,   -999.0,5,   8.1059,2,  -999.0,9, -999.0,    4.40,2,  -999.0,     3.6,   73.54,2
31RBOACES24N_2,  AR01,    66,  1,     33,2,19980209,0651, 24.5005, -52.6467, 5281,    148.7,  21.2790,  37.0010,  36.9990,2,    199.5,2,     206.6,2,     0.50,2,     0.10,2,     0.03,2,     0.02,2,    2.176,2,    1.240,2,    0.147,2, -999.000,9,    106.3,2,  -999.00,9,   2093.7,2,   -999.0,5,   8.0346,2,  -999.0,9, -999.0,    4.26,2,  -999.0,     4.1,   57.31,2
31RBOACES24N_2,  AR01,    66,  1,     32,2,19980209,0651, 24.5005, -52.6467, 5281,    200.0,  19.3630,  36.7070,  36.7080,2,    195.9,2,     198.6,2,     0.80,2,     0.88,2,     0.01,2,     0.04,2,    2.281,2,    1.290,2,    0.062,2, -999.000,9,    100.1,2,  -999.00,9,   2099.0,2,   -999.0,5,   8.0005,2,  -999.0,9, -999.0,    5.23,2,  -999.0,     3.4,   52.03,2
31RBOACES24N_2,  AR01,    66,  1,     31,2,19980209,0651, 24.5005, -52.6467, 5281,    226.0,  18.7110,  36.6180,  36.6210,2,    200.1,2,     201.6,2,     1.00,2,     1.66,2,     0.00,2,     0.09,2,    2.293,2,    1.296,2,    0.046,2, -999.000,9,   -999.0,9,  -999.00,9,   2095.7,2,   -999.0,5,   7.9953,2,  -999.0,9, -999.0,    5.88,2,  -999.0,  -999.0,   50.28,2
31RBOACES24N_2,  AR01,    66,  1,     30,2,19980209,0651, 24.5005, -52.6467, 5281,    250.9,  18.3620,  36.5710,  36.5760,2,    201.9,2,     203.9,2,     1.20,2,     2.34,2,     0.00,2,     0.13,2,    2.336,6,    1.308,6,    0.035,6, -999.000,9,     96.1,2,  -999.00,9,   2095.4,2,   -999.0,5,   7.9929,2,  -999.0,9, -999.0,    7.03,2,  -999.0,     3.3,   49.59,2
31RBOACES24N_2,  AR01,    66,  1,     29,2,19980209,0651, 24.5005, -52.6467, 5281,    273.4,  18.1910,  36.5480,  36.5480,2,    203.9,2,     205.6,2,     1.20,2,     2.63,2,     0.00,2,     0.16,2,    2.305,2,    1.296,2,    0.029,2, -999.000,9,    101.7,2,  -999.00,9,   2096.2,2,   -999.0,5,   7.9886,2,  -999.0,9, -999.0,    7.24,2,  -999.0,     3.4,   47.06,2
31RBOACES24N_2,  AR01,    66,  1,     28,2,19980209,0651, 24.5005, -52.6467, 5281,    297.7,  18.0660,  36.5310,  36.5320,2,    206.4,2,     205.6,2,     1.30,2,     2.83,2,     0.00,2,     0.18,2,    2.335,2,    1.307,2,    0.033,2, -999.000,9,     93.6,2,  -999.00,9,   2097.0,2,   -999.0,9,   7.9907,2,  -999.0,9, -999.0, -999.00,9,  -999.0,     4.9, -999.00,9
31RBOACES24N_2,  AR01,    66,  1,     27,2,19980209,0651, 24.5005, -52.6467, 5281,    349.4,  17.6770,  36.4700,  36.4720,2,    203.4,2,     199.7,2,     1.70,2,     4.00,2,     0.00,2,     0.25,2,    2.254,2,    1.246,2,    0.026,2, -999.000,9,    109.6,2,  -999.00,9,   2104.4,2,   -999.0,5,   7.9699,2,  -999.0,9, -999.0,    8.52,2,  -999.0,     3.7,   46.66,2
31RBOACES24N_2,  AR01,    66,  1,     26,2,19980209,0651, 24.5005, -52.6467, 5281,    398.7,  16.8610,  36.3390,  36.3370,2,    193.6,2,     189.6,2,     2.20,2,     6.05,2,     0.00,2,     0.38,2,    2.158,2,    1.163,2,    0.026,2, -999.000,9,    104.7,2,  -999.00,9,   2117.5,2,   -999.0,9,   7.9348,2,  -999.0,9, -999.0, -999.00,9,  -999.0,     5.1, -999.00,9
31RBOACES24N_2,  AR01,    66,  1,     25,2,19980209,0651, 24.5005, -52.6467, 5281,    449.5,  16.0730,  36.2060,  36.2180,2,    188.4,2,     186.9,2,     2.80,2,     7.52,2,     0.00,2,     0.47,2,    2.095,2,    1.131,2,    0.031,2, -999.000,9,    104.2,2,  -999.00,9,   2124.5,2,   2372.3,2,   7.9063,2,  -999.0,9, -999.0,   11.73,2,  -999.0,     3.2,   45.10,2
31RBOACES24N_2,  AR01,    66,  1,     24,2,19980209,0651, 24.5005, -52.6467, 5281,    497.5,  15.2380,  36.0600,  36.0650,2,    183.4,2,     182.6,2,     3.60,2,     9.37,2,     0.00,2,     0.59,2,    1.951,2,    1.037,2,    0.020,2, -999.000,9,     71.3,2,  -999.00,9,   2129.2,2,   2362.3,2,   7.8872,2,  -999.0,9, -999.0, -999.00,9,  -999.0,     3.6, -999.00,9
31RBOACES24N_2,  AR01,    66,  1,     23,2,19980209,0651, 24.5005, -52.6467, 5281,    549.9,  13.8350,  35.8420,  35.8460,2,    176.2,2,     174.9,2,     5.20,2,    12.50,2,     0.00,2,     0.79,2,    1.670,2,    0.876,2,    0.023,2, -999.000,9,     54.8,2,  -999.00,9,   2141.3,2,   2355.7,2,   7.8435,2,  -999.0,9, -999.0,   16.21,2,  -999.0,     3.3,   44.50,2
31RBOACES24N_2,  AR01,    66,  1,     22,2,19980209,0651, 24.5005, -52.6467, 5281,    599.2,  12.9510,  35.7180,  35.7270,2,    172.8,2,     171.4,2,     6.20,2,    14.25,2,     0.00,2,     0.91,2,    1.456,2,    0.754,2,    0.018,2, -999.000,9,     40.3,2,  -999.00,9,   2149.2,2,   2347.3,2,   7.8153,2,  -999.0,9, -999.0, -999.00,9,  -999.0,     2.9, -999.00,9
31RBOACES24N_2,  AR01,    66,  1,     21,2,19980209,0651, 24.5005, -52.6467, 5281,    647.6,  12.1300,  35.6150,  35.6220,2,    169.8,2,     167.6,2,     7.20,2,    15.82,2,     0.00,2,     1.02,2,    1.233,2,    0.630,2,    0.012,2, -999.000,9,     25.9,2,  -999.00,9,   2161.2,2,   2341.4,2,   7.7921,2,  -999.0,9, -999.0,   19.52,2,  -999.0,     3.9,   45.18,2
31RBOACES24N_2,  AR01,    66,  1,     20,2,19980209,0651, 24.5005, -52.6467, 5281,    750.1,  10.1850,  35.3590,  35.3520,2,    153.8,2,     151.7,2,    11.70,2,    21.49,2,     0.00,2,     1.39,2,    0.524,6,    0.275,6,    0.008,6, -999.000,9,    -27.4,2,  -999.00,9,   2188.7,2,   2333.3,2,   7.7162,2,  -999.0,9, -999.0, -999.00,9,  -999.0,     3.7, -999.00,9
31RBOACES24N_2,  AR01,    66,  1,     19,2,19980209,0651, 24.5005, -52.6467, 5281,    850.3,   8.2410,  35.1300,  35.1360,2,    145.9,2,     146.9,2,    16.20,2,    25.40,2,     0.00,2,     1.67,2,    0.207,2,    0.115,2,    0.015,2, -999.000,9,    -72.8,6,  -999.00,9,   2197.5,2,   -999.0,5,   7.6653,2,  -999.0,9, -999.0,   27.54,2,  -999.0,     2.1,   42.44,2
31RBOACES24N_2,  AR01,    66,  1,     18,2,19980209,0651, 24.5005, -52.6467, 5281,    950.0,   7.1490,  35.0350,  35.0350,2,    152.1,2,     153.7,2,    18.50,2,    26.38,2,     0.00,2,     1.76,2,    0.111,2,    0.064,2,   -0.001,2, -999.000,9,    -81.7,2,  -999.00,9,   2198.5,2,   -999.0,5,   7.6465,2,  -999.0,9, -999.0, -999.00,9,  -999.0,     2.8, -999.00,9
31RBOACES24N_2,  AR01,    66,  1,     17,2,19980209,0651, 24.5005, -52.6467, 5281,   1049.6,   6.4500,  35.0160,  35.0140,2,    168.0,2,     167.6,2,    18.80,2,    25.59,2,     0.00,2,     1.72,2,    0.089,2,    0.046,2,    0.006,2, -999.000,9,    -82.4,2,  -999.00,9,   2197.4,6,   -999.0,5,   7.6536,2,  -999.0,9, -999.0,   28.09,2,  -999.0,     2.8,   41.85,2
31RBOACES24N_2,  AR01,    66,  1,     16,2,19980209,0651, 24.5005, -52.6467, 5281,   1248.0,   5.5250,  35.0510,  35.0460,2,    211.6,2,     211.6,2,    15.80,2,    21.10,2,     0.00,2,     1.44,2,    0.219,2,    0.113,2,    0.002,2, -999.000,9,    -77.0,2,  -999.00,9,   2179.4,2,   -999.0,9,   7.6935,2,   809.1,6,   20.0, -999.00,9,   438.3,     2.8, -999.00,9
31RBOACES24N_2,  AR01,    66,  1,     15,2,19980209,0651, 24.5005, -52.6467, 5281,   1449.4,   5.0070,  35.0800,  35.0790,2,    232.8,2,     233.1,2,    14.90,2,    19.05,2,     0.00,2,     1.32,2,    0.155,2,    0.088,2,    0.002,2, -999.000,9,    -81.6,2,  -999.00,9,   2173.9,2,   2323.7,2,   7.7207,2,   756.1,2,   20.0,   22.38,2,   398.7,     2.8,   42.33,2
31RBOACES24N_2,  AR01,    66,  1,     14,2,19980209,0651, 24.5005, -52.6467, 5281,   1650.7,   4.5040,  35.0770,  35.0790,2,    242.6,2,     243.9,2,    16.70,2,    18.36,2,     0.00,2,     1.28,2,    0.111,2,    0.063,2,    0.004,2, -999.000,9,    -76.4,2,  -999.00,9,   2168.8,2,   2322.7,2,   7.7324,2,  -999.0,9, -999.0, -999.00,9,  -999.0,     2.4, -999.00,9
31RBOACES24N_2,  AR01,    66,  1,     13,2,19980209,0651, 24.5005, -52.6467, 5281,   1903.2,   3.9150,  35.0320,  35.0320,2,    250.1,2,     250.7,2,    19.80,2,    18.46,2,     0.00,2,     1.29,2,    0.044,2,    0.024,2,    0.004,2, -999.000,9,    -79.8,2,  -999.00,9,   2172.8,2,   -999.0,9,   7.7359,2,  -999.0,9, -999.0, -999.00,9,  -999.0,     2.8,   41.45,2
31RBOACES24N_2,  AR01,    66,  1,     12,2,19980209,0651, 24.5005, -52.6467, 5281,   2145.7,   3.4820,  34.9980,  34.9990,2,    252.8,2,     253.7,2,    23.60,2,    18.76,2,     0.00,2,     1.31,2,    0.027,2,    0.011,2,    0.014,2, -999.000,9,    -85.5,6,  -999.00,9,   2173.7,2,   -999.0,9,-999.0000,9,  -999.0,9, -999.0, -999.00,9,  -999.0,     5.1, -999.00,9
31RBOACES24N_2,  AR01,    66,  1,     11,2,19980209,0651, 24.5005, -52.6467, 5281,   2399.7,   3.1860,  34.9720,  34.9720,2,    254.5,2,     255.5,2,    26.90,2,    18.95,2,     0.00,2,     1.33,2,    0.009,2,    0.007,2,    0.004,2, -999.000,9,    -97.0,2,  -999.00,9,   2193.3,2,   2335.7,2,   7.7332,2,  -999.0,9, -999.0,   21.56,2,  -999.0,     2.5,   41.54,2
31RBOACES24N_2,  AR01,    66,  1,     10,2,19980209,0651, 24.5005, -52.6467, 5281,   2649.2,   2.9660,  34.9530,  34.9530,2,    254.2,2,     256.2,2,    29.80,2,    19.25,2,     0.00,2,     1.35,2,    0.007,2,    0.003,2,    0.001,2, -999.000,9,   -103.7,2,  -999.00,9,   2180.2,2,   -999.0,9,-999.0000,9,  -999.0,9, -999.0, -999.00,9,  -999.0,     2.9, -999.00,9
31RBOACES24N_2,  AR01,    66,  1,      9,2,19980209,0651, 24.5005, -52.6467, 5281,   2899.7,   2.8090,  34.9390,  34.9390,2,    255.9,2,     257.8,2,    31.60,2,    19.25,2,     0.00,2,     1.36,2,    0.003,2,    0.003,2,    0.003,2, -999.000,9,   -106.3,2,  -999.00,9,   2201.5,2,   2335.5,2,   7.7340,2,  -999.0,9, -999.0,   22.35,2,  -999.0,     2.4, -999.00,9
31RBOACES24N_2,  AR01,    66,  1,      8,2,19980209,0651, 24.5005, -52.6467, 5281,   3198.8,   2.6400,  34.9250,  34.9240,2,    259.1,2,     258.7,2,    34.40,2,    19.44,2,     0.00,2,     1.38,2,    0.004,2,    0.005,2,    0.003,2, -999.000,9,    -99.6,2,  -999.00,9,   2180.4,2,   -999.0,9,-999.0000,9,  -999.0,9, -999.0,   23.01,2,  -999.0,     2.4,   41.64,2
31RBOACES24N_2,  AR01,    66,  1,      7,2,19980209,0651, 24.5005, -52.6467, 5281,   3499.9,   2.4740,  34.9090,  34.9080,2,    259.6,2,     258.9,2,    37.80,2,    19.73,2,     0.00,2,     1.41,2,    0.004,2,    0.005,2,    0.000,2, -999.000,9,   -999.0,9,  -999.00,9,   2177.2,2,   -999.0,9,   7.7323,2,  -999.0,9, -999.0, -999.00,9,  -999.0,  -999.0, -999.00,9
31RBOACES24N_2,  AR01,    66,  1,      6,2,19980209,0651, 24.5005, -52.6467, 5281,   3799.8,   2.3270,  34.8940,  34.8940,2,    259.4,2,     259.5,2,    41.00,2,    20.03,2,     0.00,2,     1.43,2,    0.004,2,    0.004,2,    0.000,2, -999.000,9,   -999.0,9,  -999.00,9,   2186.1,2,   -999.0,9,-999.0000,9,  -999.0,9, -999.0,   23.62,2,  -999.0,  -999.0,   41.74,2
31RBOACES24N_2,  AR01,    66,  1,      5,2,19980209,0651, 24.5005, -52.6467, 5281,   4100.4,   2.2290,  34.8840,  34.8830,2,    260.4,2,     259.4,2,    43.60,2,    20.32,2,     0.00,2,     1.45,2,    0.005,2,    0.006,2,    0.032,4, -999.000,9,   -999.0,9,  -999.00,9,   2188.2,2,   2342.4,2,   7.7269,2,  -999.0,9, -999.0,   23.51,2,  -999.0,  -999.0, -999.00,9
31RBOACES24N_2,  AR01,    66,  1,      4,2,19980209,0651, 24.5005, -52.6467, 5281,   4399.1,   2.1330,  34.8710,  34.8720,2,    257.9,2,     257.9,2,    47.50,2,    20.81,2,     0.00,2,     1.49,2,    0.008,2,    0.008,2,   -0.001,2, -999.000,9,   -999.0,9,  -999.00,9,   2193.0,2,   -999.0,9,-999.0000,9,  -999.0,9, -999.0,   23.71,2,  -999.0,  -999.0,   41.74,2
31RBOACES24N_2,  AR01,    66,  1,      3,2,19980209,0651, 24.5005, -52.6467, 5281,   4588.5,   2.1060,  34.8660,  34.8650,2,    257.6,2,     257.6,2,    49.40,2,    21.10,2,     0.00,2,     1.51,2,    0.008,2,    0.007,2,    0.001,2, -999.000,9,   -999.0,9,  -999.00,9,   2194.8,2,   2344.5,2,   7.7188,2,  -999.0,9, -999.0,   24.49,2,  -999.0,  -999.0,   42.03,2
31RBOACES24N_2,  AR01,    66,  1,      2,2,19980209,0651, 24.5005, -52.6467, 5281,   5366.6,   2.0590,  34.8500,-999.0000,9,    255.1,2,    -999.0,9,  -999.00,9,  -999.00,9,  -999.00,9,  -999.00,9, -999.000,1, -999.000,1, -999.000,1, -999.000,9,   -999.0,9,  -999.00,9,   -999.0,9,   -999.0,9,-999.0000,9,  -999.0,9, -999.0, -999.00,9,  -999.0,  -999.0, -999.00,9
31RBOACES24N_2,  AR01,    66,  1,      1,2,19980209,0651, 24.5005, -52.6467, 5281,   5368.7,   2.0590,  34.8490,  34.8500,2,    254.3,2,     254.8,6,    54.80,6,    21.88,6,     0.00,6,     1.56,6,    0.019,6,    0.014,6,    0.006,6, -999.000,9,   -999.0,9,  -999.00,9,   2199.5,2,   2346.1,2,   7.7082,2,  -999.0,9, -999.0,   24.09,2,  -999.0,  -999.0,   41.93,2