BOTTLE,20220820CCHSIOAMB
EXPOCODE,SECT_ID,STNNBR,CASTNO,BTLNBR,BTLNBR_FLAG_W,DATE,TIME,LATITUDE,LONGITUDE,DEPTH,CTDPRS,CTDTMP,CTDSAL,SALNTY,SALNTY_FLAG_W,CTDOXY,CTDOXY_FLAG_W,OXYGEN,OXYGEN_FLAG_W,SILCAT,SILCAT_FLAG_W,NITRAT,NITRAT_FLAG_W,NITRIT,NITRIT_FLAG_W,PHSPHT,PHSPHT_FLAG_W,CFC-11,CFC-11_FLAG_W,CFC-12,CFC-12_FLAG_W,CFC113,CFC113_FLAG_W,CCL4,CCL4_FLAG_W,DELC14,DELC14_FLAG_W,DELC13,DELC13_FLAG_W,TCARBN,TCARBN_FLAG_W,ALKALI,ALKALI_FLAG_W,PH,PH_FLAG_W,FCO2,FCO2_FLAG_W,FCO2TMP,TON,TON_FLAG_W,FCO2IN,C14ERR,TOC,TOC_FLAG_W
,,,,,,,,,,,DBAR,ITS-90,PSS-78,PSS-78,,UMOL/KG,,UMOL/KG,,UMOL/KG,,UMOL/KG,,UMOL/KG,,UMOL/KG,,PMOL/KG,,PMOL/KG,,PMOL/KG,,PMOL/KG,,/MILLE,,/MILLE,,UMOL/KG,,UMOL/KG,,,,UATM,,DEG C,UMOL/KG,,UATM,/MILLE,UMOL/KG,
31RBOACES24N_2,  AR01,   119,  1,     36,2,19980222,1149, 26.5000, -76.7837, 3241,      2.8,  24.1540,  36.2430,  36.2430,2,    217.3,2,     210.9,2,     0.80,2,     0.00,2,     0.00,2,     0.00,2, -999.000,9, -999.000,9, -999.000,9, -999.000,9,   -999.0,9,  -999.00,9,   -999.0,9,   2380.9,6,   8.0912,2,  -999.0,9, -999.0, -999.00,9,  -999.0,  -999.0, -999.00,9
31RBOACES24N_2,  AR01,   119,  1,     35,2,19980222,1149, 26.5000, -76.7837, 3241,     68.1,  23.2020,  36.5090,  36.5000,2,    209.9,2,     213.0,2,     0.60,2,     0.10,2,     0.03,2,     0.00,2, -999.000,9, -999.000,9, -999.000,9, -999.000,9,   -999.0,9,  -999.00,9,   -999.0,9,   -999.0,9,-999.0000,9,  -999.0,9, -999.0, -999.00,9,  -999.0,  -999.0, -999.00,9
31RBOACES24N_2,  AR01,   119,  1,     33,2,19980222,1149, 26.5000, -76.7837, 3241,    104.5,  23.0030,  36.6420,  36.6450,2,    210.4,2,     211.8,2,     0.60,2,     0.10,2,     0.04,2,     0.01,2, -999.000,9, -999.000,9, -999.000,9, -999.000,9,   -999.0,9,  -999.00,9,   -999.0,9,   -999.0,9,-999.0000,9,  -999.0,9, -999.0, -999.00,9,  -999.0,  -999.0, -999.00,9
31RBOACES24N_2,  AR01,   119,  1,     34,2,19980222,1149, 26.5000, -76.7837, 3241,    105.7,  23.0020,  36.6430,  36.6440,2,    210.5,2,     210.5,2,     0.60,2,     0.00,2,     0.08,2,     0.00,2, -999.000,9, -999.000,9, -999.000,9, -999.000,9,   -999.0,9,  -999.00,9,   -999.0,9,   -999.0,9,-999.0000,9,  -999.0,9, -999.0, -999.00,9,  -999.0,  -999.0, -999.00,9
31RBOACES24N_2,  AR01,   119,  1,     32,2,19980222,1149, 26.5000, -76.7837, 3241,    139.0,  22.8510,  36.6850,  36.6880,2,    210.4,2,     211.3,2,     0.50,2,     0.10,2,     0.03,2,     0.01,2, -999.000,9, -999.000,9, -999.000,9, -999.000,9,   -999.0,9,  -999.00,9,   -999.0,9,   -999.0,9,-999.0000,9,  -999.0,9, -999.0, -999.00,9,  -999.0,  -999.0, -999.00,9
31RBOACES24N_2,  AR01,   119,  1,     31,2,19980222,1149, 26.5000, -76.7837, 3241,    175.0,  21.4470,  36.8450,  36.8490,2,    192.5,2,     194.2,2,     0.50,2,     1.17,2,     0.03,2,     0.04,2, -999.000,9, -999.000,9, -999.000,9, -999.000,9,   -999.0,9,  -999.00,9,   -999.0,9,   -999.0,9,-999.0000,9,  -999.0,9, -999.0, -999.00,9,  -999.0,  -999.0, -999.00,9
31RBOACES24N_2,  AR01,   119,  1,     30,2,19980222,1149, 26.5000, -76.7837, 3241,    211.4,  20.3020,  36.8060,  36.8030,2,    189.4,2,     190.3,2,     0.50,2,     1.76,2,     0.01,2,     0.06,2, -999.000,9, -999.000,9, -999.000,9, -999.000,9,   -999.0,9,  -999.00,9,   -999.0,9,   -999.0,9,-999.0000,9,  -999.0,9, -999.0, -999.00,9,  -999.0,  -999.0, -999.00,9
31RBOACES24N_2,  AR01,   119,  1,     29,2,19980222,1149, 26.5000, -76.7837, 3241,    245.2,  19.0310,  36.6550,  36.6580,2,    190.3,2,     195.1,2,     0.70,2,     2.73,2,     0.00,2,     0.10,2, -999.000,9, -999.000,9, -999.000,9, -999.000,9,   -999.0,9,  -999.00,9,   -999.0,9,   -999.0,9,-999.0000,9,  -999.0,9, -999.0, -999.00,9,  -999.0,  -999.0, -999.00,9
31RBOACES24N_2,  AR01,   119,  1,     28,2,19980222,1149, 26.5000, -76.7837, 3241,    279.1,  18.6310,  36.6050,  36.6050,2,    196.0,2,     198.3,2,     0.80,2,     3.32,2,     0.00,2,     0.13,2, -999.000,9, -999.000,9, -999.000,9, -999.000,9,   -999.0,9,  -999.00,9,   -999.0,9,   -999.0,9,-999.0000,9,  -999.0,9, -999.0, -999.00,9,  -999.0,  -999.0, -999.00,9
31RBOACES24N_2,  AR01,   119,  1,     27,2,19980222,1149, 26.5000, -76.7837, 3241,    307.4,  18.4320,  36.5790,  36.5780,2,    200.7,2,     201.1,2,     0.90,2,     3.51,2,     0.00,2,     0.15,2, -999.000,9, -999.000,9, -999.000,9, -999.000,9,   -999.0,9,  -999.00,9,   -999.0,9,   -999.0,9,-999.0000,9,  -999.0,9, -999.0, -999.00,9,  -999.0,  -999.0, -999.00,9
31RBOACES24N_2,  AR01,   119,  1,     26,2,19980222,1149, 26.5000, -76.7837, 3241,    360.5,  18.1140,  36.5380,  36.5380,2,    204.6,2,     204.5,2,     1.00,2,     3.90,2,     0.00,2,     0.18,2, -999.000,9, -999.000,9, -999.000,9, -999.000,9,   -999.0,9,  -999.00,9,   -999.0,9,   -999.0,9,-999.0000,9,  -999.0,9, -999.0, -999.00,9,  -999.0,  -999.0, -999.00,9
31RBOACES24N_2,  AR01,   119,  1,     25,2,19980222,1149, 26.5000, -76.7837, 3241,    396.1,  17.8680,  36.4990,  36.4990,2,    199.8,2,     201.2,2,     1.30,2,     4.68,2,     0.00,2,     0.23,2, -999.000,9, -999.000,9, -999.000,9, -999.000,9,   -999.0,9,  -999.00,9,   -999.0,9,   -999.0,9,-999.0000,9,  -999.0,9, -999.0, -999.00,9,  -999.0,  -999.0, -999.00,9
31RBOACES24N_2,  AR01,   119,  1,     24,2,19980222,1149, 26.5000, -76.7837, 3241,    420.8,  17.6030,  36.4510,  36.4420,2,    193.6,2,     193.1,2,     1.60,2,     5.95,2,     0.00,2,     0.30,2, -999.000,9, -999.000,9, -999.000,9, -999.000,9,   -999.0,9,  -999.00,9,   -999.0,9,   -999.0,9,-999.0000,9,  -999.0,9, -999.0, -999.00,9,  -999.0,  -999.0, -999.00,9
31RBOACES24N_2,  AR01,   119,  1,     23,2,19980222,1149, 26.5000, -76.7837, 3241,    451.2,  16.9870,  36.3440,  36.3400,2,    183.8,2,     183.3,2,     2.10,2,     7.71,2,     0.00,2,     0.41,2, -999.000,9, -999.000,9, -999.000,9, -999.000,9,   -999.0,9,  -999.00,9,   -999.0,9,   -999.0,9,-999.0000,9,  -999.0,9, -999.0, -999.00,9,  -999.0,  -999.0, -999.00,9
31RBOACES24N_2,  AR01,   119,  1,     22,2,19980222,1149, 26.5000, -76.7837, 3241,    500.2,  15.7730,  36.1400,  36.1420,2,    179.1,2,     177.7,2,     3.10,2,    10.15,2,     0.00,2,     0.57,2, -999.000,9, -999.000,9, -999.000,9, -999.000,9,   -999.0,9,  -999.00,9,   -999.0,9,   -999.0,9,-999.0000,9,  -999.0,9, -999.0, -999.00,9,  -999.0,  -999.0, -999.00,9
31RBOACES24N_2,  AR01,   119,  1,     21,2,19980222,1149, 26.5000, -76.7837, 3241,    552.0,  14.7930,  35.9780,  35.9760,2,    171.7,2,     171.3,2,     4.20,2,    12.39,2,     0.00,2,     0.72,2, -999.000,9, -999.000,9, -999.000,9, -999.000,9,   -999.0,9,  -999.00,9,   -999.0,9,   -999.0,9,-999.0000,9,  -999.0,9, -999.0, -999.00,9,  -999.0,  -999.0, -999.00,9
31RBOACES24N_2,  AR01,   119,  1,     20,2,19980222,1149, 26.5000, -76.7837, 3241,    600.5,  13.4040,  35.7630,  35.7740,2,    164.2,2,     164.3,2,     5.90,2,    15.22,2,     0.00,2,     0.91,2, -999.000,9, -999.000,9, -999.000,9, -999.000,9,   -999.0,9,  -999.00,9,   -999.0,9,   -999.0,9,-999.0000,9,  -999.0,9, -999.0, -999.00,9,  -999.0,  -999.0, -999.00,9
31RBOACES24N_2,  AR01,   119,  1,     19,2,19980222,1149, 26.5000, -76.7837, 3241,    650.7,  12.3710,  35.6190,  35.6320,2,    159.4,2,     157.8,2,     7.40,2,    17.37,2,     0.00,2,     1.06,2, -999.000,9, -999.000,9, -999.000,9, -999.000,9,   -999.0,9,  -999.00,9,   -999.0,9,   -999.0,9,-999.0000,9,  -999.0,9, -999.0, -999.00,9,  -999.0,  -999.0, -999.00,9
31RBOACES24N_2,  AR01,   119,  1,     18,2,19980222,1149, 26.5000, -76.7837, 3241,    698.3,  11.3410,  35.4780,  35.4780,2,    152.3,2,     152.1,2,     9.50,2,    19.91,2,     0.00,2,     1.24,2, -999.000,9, -999.000,9, -999.000,9, -999.000,9,   -999.0,9,  -999.00,9,   -999.0,9,   -999.0,9,-999.0000,9,  -999.0,9, -999.0, -999.00,9,  -999.0,  -999.0, -999.00,9
31RBOACES24N_2,  AR01,   119,  1,     17,2,19980222,1149, 26.5000, -76.7837, 3241,    747.7,  10.2230,  35.3400,  35.3520,2,    150.3,2,     150.4,2,    11.50,2,    21.67,2,     0.00,2,     1.37,2, -999.000,9, -999.000,9, -999.000,9, -999.000,9,   -999.0,9,  -999.00,9,   -999.0,9,   -999.0,9,-999.0000,9,  -999.0,9, -999.0, -999.00,9,  -999.0,  -999.0, -999.00,9
31RBOACES24N_2,  AR01,   119,  1,     16,2,19980222,1149, 26.5000, -76.7837, 3241,    799.7,   9.0090,  35.2050,  35.2060,2,    148.6,2,     150.4,2,    14.20,2,    23.82,2,     0.00,2,     1.54,2, -999.000,9, -999.000,9, -999.000,9, -999.000,9,   -999.0,9,  -999.00,9,   -999.0,9,   -999.0,9,-999.0000,9,  -999.0,9, -999.0, -999.00,9,  -999.0,  -999.0, -999.00,9
31RBOACES24N_2,  AR01,   119,  1,     15,2,19980222,1149, 26.5000, -76.7837, 3241,    899.7,   7.3470,  35.1150,  35.1140,2,    170.0,2,     172.9,2,    15.00,2,    23.34,2,     0.00,2,     1.52,2, -999.000,9, -999.000,9, -999.000,9, -999.000,9,   -999.0,9,  -999.00,9,   -999.0,9,   -999.0,9,-999.0000,9,  -999.0,9, -999.0, -999.00,9,  -999.0,  -999.0, -999.00,9
31RBOACES24N_2,  AR01,   119,  1,     14,2,19980222,1149, 26.5000, -76.7837, 3241,    999.9,   6.2270,  35.0910,  35.0910,2,    200.3,2,     201.4,2,    14.40,2,    21.38,2,     0.00,2,     1.41,2, -999.000,9, -999.000,9, -999.000,9, -999.000,9,   -999.0,9,  -999.00,9,   -999.0,9,   -999.0,9,-999.0000,9,  -999.0,9, -999.0, -999.00,9,  -999.0,  -999.0, -999.00,9
31RBOACES24N_2,  AR01,   119,  1,     13,2,19980222,1149, 26.5000, -76.7837, 3241,   1099.3,   5.3080,  35.0550,  35.0560,2,    229.5,2,     228.8,2,    13.40,2,    19.72,2,     0.00,2,     1.30,2, -999.000,9, -999.000,9, -999.000,9, -999.000,9,   -999.0,9,  -999.00,9,   -999.0,9,   -999.0,9,-999.0000,9,  -999.0,9, -999.0, -999.00,9,  -999.0,  -999.0, -999.00,9
31RBOACES24N_2,  AR01,   119,  1,     12,2,19980222,1149, 26.5000, -76.7837, 3241,   1200.5,   4.9500,  35.0360,  35.0360,2,    240.9,2,     240.3,2,    13.20,2,    19.04,2,     0.00,2,     1.26,2, -999.000,9, -999.000,9, -999.000,9, -999.000,9,   -999.0,9,  -999.00,9,   -999.0,9,   -999.0,9,-999.0000,9,  -999.0,9, -999.0, -999.00,9,  -999.0,  -999.0, -999.00,9
31RBOACES24N_2,  AR01,   119,  1,     11,2,19980222,1149, 26.5000, -76.7837, 3241,   1297.8,   4.7200,  35.0260,  35.0260,2,    249.2,2,     247.1,2,    13.10,2,    18.75,2,     0.00,2,     1.24,2, -999.000,9, -999.000,9, -999.000,9, -999.000,9,   -999.0,9,  -999.00,9,   -999.0,9,   -999.0,9,-999.0000,9,  -999.0,9, -999.0, -999.00,9,  -999.0,  -999.0, -999.00,9
31RBOACES24N_2,  AR01,   119,  1,     10,2,19980222,1149, 26.5000, -76.7837, 3241,   1399.0,   4.4000,  35.0050,  35.0060,2,    256.3,2,     255.2,2,    13.00,2,    18.26,2,     0.00,2,     1.21,2, -999.000,9, -999.000,9, -999.000,9, -999.000,9,   -999.0,9,  -999.00,9,   -999.0,9,   -999.0,9,-999.0000,9,  -999.0,9, -999.0, -999.00,9,  -999.0,  -999.0, -999.00,9
31RBOACES24N_2,  AR01,   119,  1,      9,2,19980222,1149, 26.5000, -76.7837, 3241,   1498.9,   4.0660,  34.9800,  34.9820,2,    264.3,2,     263.9,2,    12.90,2,    17.87,2,     0.00,2,     1.18,2, -999.000,9, -999.000,9, -999.000,9, -999.000,9,   -999.0,9,  -999.00,9,   -999.0,9,   -999.0,9,-999.0000,9,  -999.0,9, -999.0, -999.00,9,  -999.0,  -999.0, -999.00,9
31RBOACES24N_2,  AR01,   119,  1,      8,2,19980222,1149, 26.5000, -76.7837, 3241,   1601.4,   3.9800,  34.9750,  34.9750,2,    266.0,2,     265.6,2,    13.10,2,    17.87,2,     0.00,2,     1.19,2, -999.000,9, -999.000,9, -999.000,9, -999.000,9,   -999.0,9,  -999.00,9,   -999.0,9,   -999.0,9,-999.0000,9,  -999.0,9, -999.0, -999.00,9,  -999.0,  -999.0, -999.00,9
31RBOACES24N_2,  AR01,   119,  1,      7,2,19980222,1149, 26.5000, -76.7837, 3241,   1699.3,   3.8640,  34.9650,  34.9650,2,    268.2,2,     269.1,2,    12.90,2,    17.68,2,     0.00,2,     1.18,2, -999.000,9, -999.000,9, -999.000,9, -999.000,9,   -999.0,9,  -999.00,9,   -999.0,9,   -999.0,9,-999.0000,9,  -999.0,9, -999.0, -999.00,9,  -999.0,  -999.0, -999.00,9
31RBOACES24N_2,  AR01,   119,  1,      6,2,19980222,1149, 26.5000, -76.7837, 3241,   1798.9,   3.7930,  34.9630,  34.9640,2,    268.7,2,     268.3,2,    13.10,2,    17.48,2,     0.00,2,     1.18,2, -999.000,9, -999.000,9, -999.000,9, -999.000,9,   -999.0,9,  -999.00,9,   -999.0,9,   -999.0,9,-999.0000,9,  -999.0,9, -999.0, -999.00,9,  -999.0,  -999.0, -999.00,9
31RBOACES24N_2,  AR01,   119,  1,      5,2,19980222,1149, 26.5000, -76.7837, 3241,   1899.3,   3.7700,  34.9620,  34.9620,2,    269.0,2,     269.7,2,    13.00,2,    17.48,2,     0.00,2,     1.18,2, -999.000,9, -999.000,9, -999.000,9, -999.000,9,   -999.0,9,  -999.00,9,   -999.0,9,   -999.0,9,-999.0000,9,  -999.0,9, -999.0, -999.00,9,  -999.0,  -999.0, -999.00,9
31RBOACES24N_2,  AR01,   119,  1,      4,2,19980222,1149, 26.5000, -76.7837, 3241,   1999.9,   3.7030,  34.9580,  34.9590,2,    269.6,2,     281.5,4,    13.40,2,    17.48,2,     0.00,2,     1.18,2, -999.000,9, -999.000,9, -999.000,9, -999.000,9,   -999.0,9,  -999.00,9,   -999.0,9,   -999.0,9,-999.0000,9,  -999.0,9, -999.0, -999.00,9,  -999.0,  -999.0, -999.00,9
31RBOACES24N_2,  AR01,   119,  1,      3,2,19980222,1149, 26.5000, -76.7837, 3241,   2100.6,   3.6430,  34.9570,  34.9570,2,    269.9,2,     270.9,2,    13.80,2,    17.48,2,     0.00,2,     1.18,2, -999.000,9, -999.000,9, -999.000,9, -999.000,9,   -999.0,9,  -999.00,9,   -999.0,9,   -999.0,9,-999.0000,9,  -999.0,9, -999.0, -999.00,9,  -999.0,  -999.0, -999.00,9
31RBOACES24N_2,  AR01,   119,  1,      2,2,19980222,1149, 26.5000, -76.7837, 3241,   2197.2,   3.4890,  34.9550,  34.9560,2,    270.0,2,     270.8,2,    15.00,2,    17.48,2,     0.00,2,     1.18,2, -999.000,9, -999.000,9, -999.000,9, -999.000,9,   -999.0,9,  -999.00,9,   -999.0,9,   -999.0,9,-999.0000,9,  -999.0,9, -999.0, -999.00,9,  -999.0,  -999.0, -999.00,9
31RBOACES24N_2,  AR01,   119,  1,      1,2,19980222,1149, 26.5000, -76.7837, 3241,   2322.6,   3.3590,  34.9550,  34.9550,2,    269.2,2,     270.5,6,    16.40,6,    17.58,6,     0.00,6,     1.19,6, -999.000,9, -999.000,9, -999.000,9, -999.000,9,   -999.0,9,  -999.00,9,   -999.0,9,   -999.0,9,-999.0000,9,  -999.0,9, -999.0, -999.00,9,  -999.0,  -999.0, -999.00,9