BOTTLE,20220820CCHSIOAMB
EXPOCODE,SECT_ID,STNNBR,CASTNO,BTLNBR,BTLNBR_FLAG_W,DATE,TIME,LATITUDE,LONGITUDE,DEPTH,CTDPRS,CTDTMP,CTDSAL,SALNTY,SALNTY_FLAG_W,CTDOXY,CTDOXY_FLAG_W,OXYGEN,OXYGEN_FLAG_W,SILCAT,SILCAT_FLAG_W,NITRAT,NITRAT_FLAG_W,NITRIT,NITRIT_FLAG_W,PHSPHT,PHSPHT_FLAG_W,CFC-11,CFC-11_FLAG_W,CFC-12,CFC-12_FLAG_W,CFC113,CFC113_FLAG_W,CCL4,CCL4_FLAG_W,DELC14,DELC14_FLAG_W,DELC13,DELC13_FLAG_W,TCARBN,TCARBN_FLAG_W,ALKALI,ALKALI_FLAG_W,PH,PH_FLAG_W,FCO2,FCO2_FLAG_W,FCO2TMP,TON,TON_FLAG_W,FCO2IN,C14ERR,TOC,TOC_FLAG_W
,,,,,,,,,,,DBAR,ITS-90,PSS-78,PSS-78,,UMOL/KG,,UMOL/KG,,UMOL/KG,,UMOL/KG,,UMOL/KG,,UMOL/KG,,PMOL/KG,,PMOL/KG,,PMOL/KG,,PMOL/KG,,/MILLE,,/MILLE,,UMOL/KG,,UMOL/KG,,,,UATM,,DEG C,UMOL/KG,,UATM,/MILLE,UMOL/KG,
31RBOACES24N_2,  AR01,   109,  1,     36,2,19980220,1620, 26.4998, -75.7008, 4694,      4.2,  22.3630,  36.6610,  36.6610,2,    217.7,2,     219.7,2,     0.30,2,     0.00,2,     0.00,2,     0.00,2, -999.000,9, -999.000,9, -999.000,9, -999.000,9,   -999.0,9,     1.17,2,   2047.1,6,   2398.4,6,   8.0819,2,   295.5,2,   20.0, -999.00,9,   324.6,  -999.0, -999.00,9
31RBOACES24N_2,  AR01,   109,  1,     35,2,19980220,1620, 26.4998, -75.7008, 4694,     33.4,  21.9230,  36.6700,  36.6660,2,    219.0,2,     219.1,2,     0.30,2,     0.00,2,     0.00,2,     0.00,2, -999.000,9, -999.000,9, -999.000,9, -999.000,9,   -999.0,9,  -999.00,9,   -999.0,9,   -999.0,9,-999.0000,9,  -999.0,9, -999.0, -999.00,9,  -999.0,  -999.0, -999.00,9
31RBOACES24N_2,  AR01,   109,  1,     34,2,19980220,1620, 26.4998, -75.7008, 4694,     70.0,  21.6620,  36.6630,  36.6640,2,    216.6,2,     219.3,2,     0.20,2,     0.00,2,     0.01,2,     0.01,2, -999.000,9, -999.000,9, -999.000,9, -999.000,9,   -999.0,9,  -999.00,9,   -999.0,9,   -999.0,9,   8.0717,2,   300.3,2,   20.0, -999.00,9,   320.9,  -999.0, -999.00,9
31RBOACES24N_2,  AR01,   109,  1,     33,2,19980220,1620, 26.4998, -75.7008, 4694,    104.6,  21.5350,  36.6730,  36.6780,2,    212.2,2,     215.7,2,     0.20,2,     0.00,2,     0.07,2,     0.01,2, -999.000,9, -999.000,9, -999.000,9, -999.000,9,   -999.0,9,  -999.00,9,   -999.0,9,   -999.0,9,-999.0000,9,  -999.0,9, -999.0, -999.00,9,  -999.0,  -999.0, -999.00,9
31RBOACES24N_2,  AR01,   109,  1,     32,2,19980220,1620, 26.4998, -75.7008, 4694,    140.4,  20.5430,  36.8220,  36.8200,2,    204.9,2,     190.5,3,     0.20,2,     0.49,2,     0.02,2,     0.03,2, -999.000,9, -999.000,9, -999.000,9, -999.000,9,   -999.0,9,  -999.00,9,   -999.0,9,   -999.0,9,-999.0000,9,  -999.0,9, -999.0, -999.00,9,  -999.0,  -999.0, -999.00,9
31RBOACES24N_2,  AR01,   109,  1,     31,2,19980220,1620, 26.4998, -75.7008, 4694,    188.7,  19.3720,  36.6800,  36.6720,2,    197.1,2,     201.0,2,     0.30,2,     1.07,2,     0.02,2,     0.06,2, -999.000,9, -999.000,9, -999.000,9, -999.000,9,   -999.0,9,  -999.00,9,   -999.0,9,   -999.0,9,   8.0059,2,   368.4,2,   20.0, -999.00,9,   359.3,  -999.0, -999.00,9
31RBOACES24N_2,  AR01,   109,  1,     30,2,19980220,1620, 26.4998, -75.7008, 4694,    213.0,  19.0020,  36.6490,  36.6420,2,    197.5,2,     199.1,2,     0.50,2,     1.76,2,     0.01,2,     0.09,2, -999.000,9, -999.000,9, -999.000,9, -999.000,9,   -999.0,9,  -999.00,9,   -999.0,9,   -999.0,9,   7.9979,2,   373.4,2,   20.0, -999.00,9,   358.7,  -999.0, -999.00,9
31RBOACES24N_2,  AR01,   109,  1,     29,2,19980220,1620, 26.4998, -75.7008, 4694,    240.5,  18.7290,  36.6190,  36.6170,2,    196.5,2,     189.8,3,     0.50,2,     2.15,2,     0.01,2,     0.12,2, -999.000,9, -999.000,9, -999.000,9, -999.000,9,   -999.0,9,  -999.00,9,   -999.0,9,   -999.0,9,   7.9941,2,   380.3,2,   20.0, -999.00,9,   361.3,  -999.0, -999.00,9
31RBOACES24N_2,  AR01,   109,  1,     28,2,19980220,1620, 26.4998, -75.7008, 4694,    264.9,  18.5640,  36.5960,  36.5910,2,    198.0,2,     200.7,2,     0.60,2,     2.44,2,     0.01,2,     0.14,2, -999.000,9, -999.000,9, -999.000,9, -999.000,9,   -999.0,9,  -999.00,9,   -999.0,9,   -999.0,9,-999.0000,9,  -999.0,9, -999.0, -999.00,9,  -999.0,  -999.0, -999.00,9
31RBOACES24N_2,  AR01,   109,  1,     27,2,19980220,1620, 26.4998, -75.7008, 4694,    291.3,  18.4040,  36.5750,  36.5740,2,    201.6,2,     202.4,2,     0.70,2,     2.63,2,     0.01,2,     0.15,2, -999.000,9, -999.000,9, -999.000,9, -999.000,9,   -999.0,9,  -999.00,9,   -999.0,9,   -999.0,9,-999.0000,9,  -999.0,9, -999.0, -999.00,9,  -999.0,  -999.0, -999.00,9
31RBOACES24N_2,  AR01,   109,  1,     26,2,19980220,1620, 26.4998, -75.7008, 4694,    340.2,  18.1830,  36.5490,  36.5470,2,    204.8,2,     205.9,2,     0.80,2,     2.83,2,     0.01,2,     0.17,2, -999.000,9, -999.000,9, -999.000,9, -999.000,9,   -999.0,9,  -999.00,9,   -999.0,9,   -999.0,9,-999.0000,9,  -999.0,9, -999.0, -999.00,9,  -999.0,  -999.0, -999.00,9
31RBOACES24N_2,  AR01,   109,  1,     25,2,19980220,1620, 26.4998, -75.7008, 4694,    401.0,  17.9740,  36.5180,  36.5180,2,    204.7,2,     206.5,2,     0.90,2,     3.22,2,     0.01,2,     0.20,2, -999.000,9, -999.000,9, -999.000,9, -999.000,9,   -999.0,9,  -999.00,9,   -999.0,9,   -999.0,9,-999.0000,9,  -999.0,9, -999.0, -999.00,9,  -999.0,  -999.0, -999.00,9
31RBOACES24N_2,  AR01,   109,  1,     24,2,19980220,1620, 26.4998, -75.7008, 4694,    448.8,  17.6480,  36.4590,  36.4560,2,    200.1,2,     197.5,2,     1.30,2,     4.59,2,     0.01,2,     0.29,2, -999.000,9, -999.000,9, -999.000,9, -999.000,9,   -999.0,9,  -999.00,9,   -999.0,9,   -999.0,9,-999.0000,9,  -999.0,9, -999.0, -999.00,9,  -999.0,  -999.0, -999.00,9
31RBOACES24N_2,  AR01,   109,  1,     23,2,19980220,1620, 26.4998, -75.7008, 4694,    500.0,  17.0940,  36.3590,  36.3560,2,    190.6,2,     189.2,2,     1.80,2,     6.34,2,     0.01,2,     0.39,2, -999.000,9, -999.000,9, -999.000,9, -999.000,9,   -999.0,9,  -999.00,9,   -999.0,9,   -999.0,9,-999.0000,9,  -999.0,9, -999.0, -999.00,9,  -999.0,  -999.0, -999.00,9
31RBOACES24N_2,  AR01,   109,  1,     22,2,19980220,1620, 26.4998, -75.7008, 4694,    599.6,  15.5320,  36.0920,  36.0900,2,    183.6,2,    -999.0,9,     3.10,2,     9.66,2,     0.01,2,     0.59,2, -999.000,9, -999.000,9, -999.000,9, -999.000,9,   -999.0,9,  -999.00,9,   -999.0,9,   -999.0,9,-999.0000,9,  -999.0,9, -999.0, -999.00,9,  -999.0,  -999.0, -999.00,9
31RBOACES24N_2,  AR01,   109,  1,     21,2,19980220,1620, 26.4998, -75.7008, 4694,    699.8,  13.6200,  35.8000,  35.7970,2,    166.6,2,     166.1,2,     5.50,2,    14.64,2,     0.01,2,     0.92,2, -999.000,9, -999.000,9, -999.000,9, -999.000,9,   -999.0,9,  -999.00,9,   -999.0,9,   -999.0,9,   7.8247,2,   582.9,2,   20.0, -999.00,9,   449.1,  -999.0, -999.00,9
31RBOACES24N_2,  AR01,   109,  1,     20,2,19980220,1620, 26.4998, -75.7008, 4694,    800.4,  11.5800,  35.5050,  35.5040,2,    156.9,2,     156.5,6,     8.90,2,    19.43,2,     0.01,2,     1.19,2, -999.000,9, -999.000,9, -999.000,9, -999.000,9,   -999.0,9,  -999.00,9,   -999.0,9,   -999.0,9,   7.7599,2,   692.1,2,   20.0, -999.00,9,   489.9,  -999.0, -999.00,9
31RBOACES24N_2,  AR01,   109,  1,     19,2,19980220,1620, 26.4998, -75.7008, 4694,    899.4,   9.4790,  35.2730,  35.2730,2,    158.2,2,     158.6,2,    12.20,2,    22.65,2,     0.01,2,     1.40,2, -999.000,9, -999.000,9, -999.000,9, -999.000,9,   -999.0,9,  -999.00,9,   -999.0,9,   -999.0,9,   7.7117,2,   768.2,2,   20.0, -999.00,9,   497.2,  -999.0, -999.00,9
31RBOACES24N_2,  AR01,   109,  1,     18,2,19980220,1620, 26.4998, -75.7008, 4694,   1000.9,   7.3900,  35.1070,  35.1070,2,    169.6,2,     169.9,2,    15.20,2,    24.51,2,     0.01,2,     1.54,2, -999.000,9, -999.000,9, -999.000,9, -999.000,9,   -999.0,9,  -999.00,9,   -999.0,9,   -999.0,9,   7.6811,2,   838.8,2,   20.0, -999.00,9,   496.0,  -999.0, -999.00,9
31RBOACES24N_2,  AR01,   109,  1,     17,2,19980220,1620, 26.4998, -75.7008, 4694,   1098.8,   6.3230,  35.0900,  35.0900,2,    194.3,2,     198.6,2,    14.60,2,    22.46,2,     0.00,2,     1.43,2, -999.000,9, -999.000,9, -999.000,9, -999.000,9,   -999.0,9,  -999.00,9,   -999.0,9,   -999.0,9,-999.0000,9,  -999.0,9, -999.0, -999.00,9,  -999.0,  -999.0, -999.00,9
31RBOACES24N_2,  AR01,   109,  1,     16,2,19980220,1620, 26.4998, -75.7008, 4694,   1303.1,   5.2830,  35.0750,  35.0750,2,    235.3,2,     232.9,2,    13.10,2,    19.73,2,     0.00,2,     1.29,2, -999.000,9, -999.000,9, -999.000,9, -999.000,9,   -999.0,9,  -999.00,9,   -999.0,9,   -999.0,9,-999.0000,9,  -999.0,9, -999.0, -999.00,9,  -999.0,  -999.0, -999.00,9
31RBOACES24N_2,  AR01,   109,  1,     15,2,19980220,1620, 26.4998, -75.7008, 4694,   1487.1,   4.5390,  35.0250,  35.0250,2,    255.2,2,     254.0,2,    12.50,2,    18.46,2,     0.01,2,     1.22,2, -999.000,9, -999.000,9, -999.000,9, -999.000,9,   -999.0,9,  -999.00,9,   -999.0,9,   -999.0,9,-999.0000,9,  -999.0,9, -999.0, -999.00,9,  -999.0,  -999.0, -999.00,9
31RBOACES24N_2,  AR01,   109,  1,     14,2,19980220,1620, 26.4998, -75.7008, 4694,   1700.4,   4.0850,  34.9950,  34.9960,2,    263.7,2,     261.5,2,    12.90,2,    17.97,2,     0.01,2,     1.20,2, -999.000,9, -999.000,9, -999.000,9, -999.000,9,   -999.0,9,  -999.00,9,   -999.0,9,   -999.0,9,   7.7332,2,   735.9,2,   20.0, -999.00,9,   371.4,  -999.0, -999.00,9
31RBOACES24N_2,  AR01,   109,  1,     13,2,19980220,1620, 26.4998, -75.7008, 4694,   1900.4,   3.8430,  34.9810,  34.9820,2,    266.2,2,     266.8,2,    13.60,2,    17.97,2,     0.01,2,     1.19,2, -999.000,9, -999.000,9, -999.000,9, -999.000,9,   -999.0,9,  -999.00,9,   -999.0,9,   -999.0,9,-999.0000,9,  -999.0,9, -999.0, -999.00,9,  -999.0,  -999.0, -999.00,9
31RBOACES24N_2,  AR01,   109,  1,     12,2,19980220,1620, 26.4998, -75.7008, 4694,   2099.3,   3.6450,  34.9730,  34.9730,2,    267.7,2,     268.1,2,    14.70,2,    17.78,2,     0.01,2,     1.21,2, -999.000,9, -999.000,9, -999.000,9, -999.000,9,   -999.0,9,  -999.00,9,   -999.0,9,   -999.0,9,-999.0000,9,  -999.0,9, -999.0, -999.00,9,  -999.0,  -999.0, -999.00,9
31RBOACES24N_2,  AR01,   109,  1,     11,2,19980220,1620, 26.4998, -75.7008, 4694,   2302.1,   3.5050,  34.9760,  34.9760,2,    266.6,2,     265.1,2,    16.80,2,    18.07,2,     0.01,2,     1.26,2, -999.000,9, -999.000,9, -999.000,9, -999.000,9,   -999.0,9,  -999.00,9,   -999.0,9,   -999.0,9,-999.0000,9,  -999.0,9, -999.0, -999.00,9,  -999.0,  -999.0, -999.00,9
31RBOACES24N_2,  AR01,   109,  1,     10,2,19980220,1620, 26.4998, -75.7008, 4694,   2501.3,   3.2650,  34.9590,  34.9600,2,    267.6,2,     268.5,2,    17.80,2,    17.97,2,     0.01,2,     1.21,2, -999.000,9, -999.000,9, -999.000,9, -999.000,9,   -999.0,9,  -999.00,9,   -999.0,9,   -999.0,9,-999.0000,9,  -999.0,9, -999.0, -999.00,9,  -999.0,  -999.0, -999.00,9
31RBOACES24N_2,  AR01,   109,  1,      9,2,19980220,1620, 26.4998, -75.7008, 4694,   2700.9,   3.0630,  34.9480,  34.9480,2,    268.9,2,     269.5,2,    19.20,2,    17.78,2,     0.01,2,     1.21,2, -999.000,9, -999.000,9, -999.000,9, -999.000,9,   -999.0,9,  -999.00,9,   -999.0,9,   -999.0,9,-999.0000,9,  -999.0,9, -999.0, -999.00,9,  -999.0,  -999.0, -999.00,9
31RBOACES24N_2,  AR01,   109,  1,      8,2,19980220,1620, 26.4998, -75.7008, 4694,   2900.8,   2.9030,  34.9400,  34.9400,2,    269.7,2,     269.4,2,    20.60,2,    17.87,2,     0.01,2,     1.22,2, -999.000,9, -999.000,9, -999.000,9, -999.000,9,   -999.0,9,  -999.00,9,   -999.0,9,   -999.0,9,-999.0000,9,  -999.0,9, -999.0, -999.00,9,  -999.0,  -999.0, -999.00,9
31RBOACES24N_2,  AR01,   109,  1,      7,2,19980220,1620, 26.4998, -75.7008, 4694,   3100.0,   2.7390,  34.9290,  34.9290,2,    272.9,2,     269.2,2,    21.10,2,    17.58,2,     0.01,2,     1.20,2, -999.000,9, -999.000,9, -999.000,9, -999.000,9,   -999.0,9,  -999.00,9,   -999.0,9,   -999.0,9,   7.7392,6,   730.3,2,   20.0, -999.00,9,   344.7,  -999.0, -999.00,9
31RBOACES24N_2,  AR01,   109,  1,      6,2,19980220,1620, 26.4998, -75.7008, 4694,   3299.0,   2.5860,  34.9200,  34.9200,2,    274.6,2,     274.3,2,    22.30,2,    17.48,2,     0.01,2,     1.20,2, -999.000,9, -999.000,9, -999.000,9, -999.000,9,   -999.0,9,  -999.00,9,   -999.0,9,   -999.0,9,-999.0000,9,  -999.0,9, -999.0, -999.00,9,  -999.0,  -999.0, -999.00,9
31RBOACES24N_2,  AR01,   109,  1,      5,2,19980220,1620, 26.4998, -75.7008, 4694,   3500.8,   2.4540,  34.9120,  34.9120,2,    274.6,2,     274.8,2,    24.00,2,    17.58,2,     0.01,2,     1.22,2, -999.000,9, -999.000,9, -999.000,9, -999.000,9,   -999.0,9,  -999.00,9,   -999.0,9,   -999.0,9,-999.0000,9,  -999.0,9, -999.0, -999.00,9,  -999.0,  -999.0, -999.00,9
31RBOACES24N_2,  AR01,   109,  1,      4,2,19980220,1620, 26.4998, -75.7008, 4694,   3799.0,   2.3120,  34.9000,  34.9000,2,    274.5,2,     274.6,2,    26.30,2,    17.68,2,     0.01,2,     1.23,2, -999.000,9, -999.000,9, -999.000,9, -999.000,9,   -999.0,9,  -999.00,9,   -999.0,9,   -999.0,9,-999.0000,9,  -999.0,9, -999.0, -999.00,9,  -999.0,  -999.0, -999.00,9
31RBOACES24N_2,  AR01,   109,  1,      3,2,19980220,1620, 26.4998, -75.7008, 4694,   4095.6,   2.2770,  34.8960,  34.8950,2,    272.6,2,     272.6,2,    29.10,2,    18.17,2,     0.01,2,     1.36,3, -999.000,9, -999.000,9, -999.000,9, -999.000,9,   -999.0,9,  -999.00,9,   -999.0,9,   -999.0,9,-999.0000,9,  -999.0,9, -999.0, -999.00,9,  -999.0,  -999.0, -999.00,9
31RBOACES24N_2,  AR01,   109,  1,      2,2,19980220,1620, 26.4998, -75.7008, 4694,   4400.4,   2.2510,  34.8890,  34.8880,2,    269.3,2,     269.6,2,    32.70,2,    18.66,2,     0.01,2,     1.32,2, -999.000,9, -999.000,9, -999.000,9, -999.000,9,   -999.0,9,  -999.00,9,   -999.0,9,   -999.0,9,-999.0000,9,  -999.0,9, -999.0, -999.00,9,  -999.0,  -999.0, -999.00,9
31RBOACES24N_2,  AR01,   109,  1,      1,2,19980220,1620, 26.4998, -75.7008, 4694,   4763.2,   2.1880,  34.8760,  34.8760,2,    262.7,2,     263.2,2,    41.40,6,    20.22,6,     0.01,6,     1.44,6, -999.000,9, -999.000,9, -999.000,9, -999.000,9,   -999.0,9,  -999.00,9,   -999.0,9,   -999.0,9,   7.7260,2,   752.2,2,   20.0, -999.00,9,   344.2,  -999.0, -999.00,9