BOTTLE,20220820CCHSIOAMB
EXPOCODE,SECT_ID,STNNBR,CASTNO,BTLNBR,BTLNBR_FLAG_W,DATE,TIME,LATITUDE,LONGITUDE,DEPTH,CTDPRS,CTDTMP,CTDSAL,SALNTY,SALNTY_FLAG_W,CTDOXY,CTDOXY_FLAG_W,OXYGEN,OXYGEN_FLAG_W,SILCAT,SILCAT_FLAG_W,NITRAT,NITRAT_FLAG_W,NITRIT,NITRIT_FLAG_W,PHSPHT,PHSPHT_FLAG_W,CFC-11,CFC-11_FLAG_W,CFC-12,CFC-12_FLAG_W,CFC113,CFC113_FLAG_W,CCL4,CCL4_FLAG_W,DELC14,DELC14_FLAG_W,DELC13,DELC13_FLAG_W,TCARBN,TCARBN_FLAG_W,ALKALI,ALKALI_FLAG_W,PH,PH_FLAG_W,FCO2,FCO2_FLAG_W,FCO2TMP,TON,TON_FLAG_W,FCO2IN,C14ERR,TOC,TOC_FLAG_W
,,,,,,,,,,,DBAR,ITS-90,PSS-78,PSS-78,,UMOL/KG,,UMOL/KG,,UMOL/KG,,UMOL/KG,,UMOL/KG,,UMOL/KG,,PMOL/KG,,PMOL/KG,,PMOL/KG,,PMOL/KG,,/MILLE,,/MILLE,,UMOL/KG,,UMOL/KG,,,,UATM,,DEG C,UMOL/KG,,UATM,/MILLE,UMOL/KG,
31RBOACES24N_2,  AR01,    83,  1,     36,2,19980214,1117, 24.5002, -64.6667, 5688,      4.1,  23.8100,  36.8150,  36.8150,2,    215.0,2,     215.1,2,     0.70,2,     0.10,2,     0.00,2,     0.00,2, -999.000,9, -999.000,9, -999.000,9, -999.000,9,   -999.0,9,  -999.00,9,   2041.5,6,   2421.2,2,   8.1065,2,   273.0,2,   20.0, -999.00,9,   317.4,  -999.0, -999.00,9
31RBOACES24N_2,  AR01,    83,  1,     35,2,19980214,1117, 24.5002, -64.6667, 5688,     46.3,  23.7950,  36.8090,  36.8100,2,    214.6,2,     214.9,6,     0.60,2,     0.10,2,     0.00,2,     0.01,2, -999.000,9, -999.000,9, -999.000,9, -999.000,9,   -999.0,9,  -999.00,9,   -999.0,9,   -999.0,9,-999.0000,9,  -999.0,9, -999.0, -999.00,9,  -999.0,  -999.0, -999.00,9
31RBOACES24N_2,  AR01,    83,  1,     34,2,19980214,1117, 24.5002, -64.6667, 5688,     88.7,  23.0620,  36.7800,  36.8140,2,    217.8,2,     218.3,2,     0.50,2,     0.10,2,     0.00,2,     0.01,2, -999.000,9, -999.000,9, -999.000,9, -999.000,9,   -999.0,9,  -999.00,9,   2052.6,2,   2414.6,2,   8.0874,2,   287.8,2,   20.0, -999.00,9,   324.9,  -999.0, -999.00,9
31RBOACES24N_2,  AR01,    83,  1,     33,2,19980214,1117, 24.5002, -64.6667, 5688,    134.8,  21.0260,  36.8830,  36.9160,2,    211.3,2,     206.7,2,     0.40,2,     0.39,2,     0.05,2,     0.02,2, -999.000,9, -999.000,9, -999.000,9, -999.000,9,   -999.0,9,  -999.00,9,   2091.4,2,   2415.4,2,   8.0319,2,   340.3,2,   20.0, -999.00,9,   354.5,  -999.0, -999.00,9
31RBOACES24N_2,  AR01,    83,  1,     32,2,19980214,1117, 24.5002, -64.6667, 5688,    169.5,  19.8810,  36.7750,  36.7670,2,    196.8,2,     198.8,2,     0.50,2,     1.46,2,     0.01,2,     0.04,2, -999.000,9, -999.000,9, -999.000,9, -999.000,9,   -999.0,9,  -999.00,9,   2102.4,2,   2411.9,2,   8.0076,2,   367.9,2,   20.0, -999.00,9,   366.1,  -999.0, -999.00,9
31RBOACES24N_2,  AR01,    83,  1,     31,2,19980214,1117, 24.5002, -64.6667, 5688,    224.2,  18.7370,  36.6260,  36.6260,2,    200.2,2,     200.6,2,     0.80,2,     3.03,2,     0.00,2,     0.08,2, -999.000,9, -999.000,9, -999.000,9, -999.000,9,   -999.0,9,  -999.00,9,   -999.0,9,   -999.0,9,-999.0000,9,  -999.0,9, -999.0, -999.00,9,  -999.0,  -999.0, -999.00,9
31RBOACES24N_2,  AR01,    83,  1,     30,2,19980214,1117, 24.5002, -64.6667, 5688,    249.3,  18.6230,  36.6110,  36.6070,2,    201.0,2,     201.1,2,     0.90,2,     3.32,2,     0.00,2,     0.10,2, -999.000,9, -999.000,9, -999.000,9, -999.000,9,   -999.0,9,  -999.00,9,   -999.0,9,   -999.0,9,-999.0000,9,  -999.0,9, -999.0, -999.00,9,  -999.0,  -999.0, -999.00,9
31RBOACES24N_2,  AR01,    83,  1,     29,2,19980214,1117, 24.5002, -64.6667, 5688,    273.6,  18.4510,  36.5830,  36.5820,2,    204.3,2,     204.3,2,     0.90,2,     3.51,2,     0.00,2,     0.12,2, -999.000,9, -999.000,9, -999.000,9, -999.000,9,   -999.0,9,  -999.00,9,   2100.0,2,   2401.9,2,   7.9911,2,   381.2,2,   20.0, -999.00,9,   358.1,  -999.0, -999.00,9
31RBOACES24N_2,  AR01,    83,  1,     28,2,19980214,1117, 24.5002, -64.6667, 5688,    300.8,  18.1850,  36.5480,  36.5480,2,    208.2,2,     207.2,2,     1.00,2,     3.81,2,     0.00,2,     0.15,2, -999.000,9, -999.000,9, -999.000,9, -999.000,9,   -999.0,9,  -999.00,9,   -999.0,9,   -999.0,9,-999.0000,9,  -999.0,9, -999.0, -999.00,9,  -999.0,  -999.0, -999.00,9
31RBOACES24N_2,  AR01,    83,  1,     27,2,19980214,1117, 24.5002, -64.6667, 5688,    351.4,  17.8200,  36.4940,  36.5020,2,    206.7,2,     203.9,2,     1.30,2,     4.69,2,     0.00,2,     0.19,2, -999.000,9, -999.000,9, -999.000,9, -999.000,9,   -999.0,9,  -999.00,9,   -999.0,9,   -999.0,9,-999.0000,9,  -999.0,9, -999.0, -999.00,9,  -999.0,  -999.0, -999.00,9
31RBOACES24N_2,  AR01,    83,  1,     26,2,19980214,1117, 24.5002, -64.6667, 5688,    409.1,  17.2990,  36.4030,  36.4050,2,    197.2,2,     194.8,2,     1.80,2,     6.44,2,     0.00,2,     0.29,2, -999.000,9, -999.000,9, -999.000,9, -999.000,9,   -999.0,9,  -999.00,9,   2114.6,2,   2384.4,2,   7.9534,2,   421.4,2,   20.0, -999.00,9,   377.3,  -999.0, -999.00,9
31RBOACES24N_2,  AR01,    83,  1,     25,2,19980214,1117, 24.5002, -64.6667, 5688,    459.6,  16.4960,  36.2670,  36.2670,2,    190.9,2,     188.1,2,     2.30,2,     8.30,2,     0.00,2,     0.40,2, -999.000,9, -999.000,9, -999.000,9, -999.000,9,   -999.0,9,  -999.00,9,   -999.0,9,   -999.0,9,-999.0000,9,  -999.0,9, -999.0, -999.00,9,  -999.0,  -999.0, -999.00,9
31RBOACES24N_2,  AR01,    83,  1,     24,2,19980214,1117, 24.5002, -64.6667, 5688,    510.2,  15.6690,  36.1330,  36.1330,2,    181.1,2,     179.6,2,     3.10,2,    10.25,2,     0.00,2,     0.53,2, -999.000,9, -999.000,9, -999.000,9, -999.000,9,   -999.0,9,  -999.00,9,   -999.0,9,   -999.0,9,-999.0000,9,  -999.0,9, -999.0, -999.00,9,  -999.0,  -999.0, -999.00,9
31RBOACES24N_2,  AR01,    83,  1,     23,2,19980214,1117, 24.5002, -64.6667, 5688,    545.2,  14.9790,  36.0250,  36.0300,2,    184.3,2,     181.6,2,     3.50,2,    11.04,2,     0.00,2,     0.58,2, -999.000,9, -999.000,9, -999.000,9, -999.000,9,   -999.0,9,  -999.00,9,   2135.1,2,   -999.0,5,   7.8768,2,   513.5,2,   20.0, -999.00,9,   418.2,  -999.0, -999.00,9
31RBOACES24N_2,  AR01,    83,  1,     22,2,19980214,1117, 24.5002, -64.6667, 5688,    599.4,  14.0860,  35.8840,  35.8820,2,    179.3,2,     176.4,2,     4.50,2,    13.19,2,     0.00,2,     0.72,2, -999.000,9, -999.000,9, -999.000,9, -999.000,9,   -999.0,9,  -999.00,9,   -999.0,9,   -999.0,9,-999.0000,9,  -999.0,9, -999.0, -999.00,9,  -999.0,  -999.0, -999.00,9
31RBOACES24N_2,  AR01,    83,  1,     21,2,19980214,1117, 24.5002, -64.6667, 5688,    700.5,  12.0650,  35.6040,  35.6070,2,    170.8,2,     169.0,2,     7.10,2,    17.10,2,     0.00,2,     0.99,2, -999.000,9, -999.000,9, -999.000,9, -999.000,9,   -999.0,9,  -999.00,9,   -999.0,9,   -999.0,9,-999.0000,9,  -999.0,9, -999.0, -999.00,9,  -999.0,  -999.0, -999.00,9
31RBOACES24N_2,  AR01,    83,  1,     20,2,19980214,1117, 24.5002, -64.6667, 5688,    800.8,  10.2460,  35.3770,  35.3820,2,    160.9,2,     159.6,2,    10.60,2,    21.10,2,     0.00,2,     1.28,2, -999.000,9, -999.000,9, -999.000,9, -999.000,9,   -999.0,9,  -999.00,9,   2176.9,2,   2339.3,2,   7.7307,2,   737.2,2,   20.0, -999.00,9,   492.6,  -999.0, -999.00,9
31RBOACES24N_2,  AR01,    83,  1,     19,2,19980214,1117, 24.5002, -64.6667, 5688,    861.5,   8.7340,  35.1930,  35.1970,2,    153.0,2,     152.5,2,    14.10,2,    24.33,2,     0.00,2,     1.52,2, -999.000,9, -999.000,9, -999.000,9, -999.000,9,   -999.0,9,  -999.00,9,   -999.0,9,   -999.0,9,-999.0000,9,  -999.0,9, -999.0, -999.00,9,  -999.0,  -999.0, -999.00,9
31RBOACES24N_2,  AR01,    83,  1,     18,2,19980214,1117, 24.5002, -64.6667, 5688,    911.0,   8.0870,  35.1330,  35.1330,2,    154.8,2,     156.8,2,    15.20,2,    24.92,2,     0.00,2,     1.58,2, -999.000,9, -999.000,9, -999.000,9, -999.000,9,   -999.0,9,  -999.00,9,   2192.0,2,   -999.0,5,   7.6739,2,   840.9,2,   20.0, -999.00,9,   511.7,  -999.0, -999.00,9
31RBOACES24N_2,  AR01,    83,  1,     17,2,19980214,1117, 24.5002, -64.6667, 5688,   1042.6,   6.7220,  35.0820,  35.0800,2,    182.1,2,     181.3,2,    15.70,2,    23.65,2,     0.00,2,     1.51,2, -999.000,9, -999.000,9, -999.000,9, -999.000,9,   -999.0,9,  -999.00,9,   2188.9,6,   -999.0,9,   7.6796,2,   839.5,2,   20.0, -999.00,9,   481.1,  -999.0, -999.00,9
31RBOACES24N_2,  AR01,    83,  1,     16,2,19980214,1117, 24.5002, -64.6667, 5688,   1249.9,   5.4350,  35.0690,  35.0710,2,    228.9,2,     226.0,2,    14.00,2,    20.23,2,     0.00,2,     1.29,2, -999.000,9, -999.000,9, -999.000,9, -999.000,9,   -999.0,9,  -999.00,9,   2173.2,2,   -999.0,5,   7.7100,2,   767.9,2,   20.0, -999.00,9,   413.5,  -999.0, -999.00,9
31RBOACES24N_2,  AR01,    83,  1,     15,2,19980214,1117, 24.5002, -64.6667, 5688,   1448.7,   4.7930,  35.0430,  35.0440,2,    250.4,2,     247.5,2,    12.60,2,    18.86,2,     0.00,2,     1.19,2, -999.000,9, -999.000,9, -999.000,9, -999.000,9,   -999.0,9,  -999.00,9,   -999.0,9,   -999.0,9,-999.0000,9,  -999.0,9, -999.0, -999.00,9,  -999.0,  -999.0, -999.00,9
31RBOACES24N_2,  AR01,    83,  1,     14,2,19980214,1117, 24.5002, -64.6667, 5688,   1648.9,   4.3190,  35.0110,  35.0140,2,    260.3,2,     259.3,2,    12.50,2,    18.28,2,     0.00,2,     1.16,2, -999.000,9, -999.000,9, -999.000,9, -999.000,9,   -999.0,9,  -999.00,9,   -999.0,9,   -999.0,9,-999.0000,9,  -999.0,9, -999.0, -999.00,9,  -999.0,  -999.0, -999.00,9
31RBOACES24N_2,  AR01,    83,  1,     13,2,19980214,1117, 24.5002, -64.6667, 5688,   1850.8,   3.6910,  34.9860,  34.9870,2,    267.4,2,     267.1,2,    15.00,2,    18.08,2,     0.00,2,     1.16,2, -999.000,9, -999.000,9, -999.000,9, -999.000,9,   -999.0,9,  -999.00,9,   2161.4,2,   -999.0,5,   7.7408,2,   708.1,6,   20.0, -999.00,9,   350.0,  -999.0, -999.00,9
31RBOACES24N_2,  AR01,    83,  1,     12,2,19980214,1117, 24.5002, -64.6667, 5688,   2049.0,   3.5020,  34.9920,  34.9920,2,    261.9,2,     262.5,2,    19.30,2,    18.67,2,     0.00,2,     1.22,2, -999.000,9, -999.000,9, -999.000,9, -999.000,9,   -999.0,9,  -999.00,9,   -999.0,9,   -999.0,9,-999.0000,9,  -999.0,9, -999.0, -999.00,9,  -999.0,  -999.0, -999.00,9
31RBOACES24N_2,  AR01,    83,  1,     11,2,19980214,1117, 24.5002, -64.6667, 5688,   2349.9,   3.1780,  34.9640,  34.9630,2,    265.1,2,     267.0,2,    20.20,2,    18.57,2,     0.00,2,     1.20,2, -999.000,9, -999.000,9, -999.000,9, -999.000,9,   -999.0,9,  -999.00,9,   -999.0,9,   -999.0,9,-999.0000,9,  -999.0,9, -999.0, -999.00,9,  -999.0,  -999.0, -999.00,9
31RBOACES24N_2,  AR01,    83,  1,     10,2,19980214,1117, 24.5002, -64.6667, 5688,   2549.3,   3.0410,  34.9580,  34.9580,2,    261.0,2,     262.3,2,    24.80,2,    19.35,2,     0.00,2,     1.24,2, -999.000,9, -999.000,9, -999.000,9, -999.000,9,   -999.0,9,  -999.00,9,   -999.0,9,   -999.0,9,-999.0000,9,  -999.0,9, -999.0, -999.00,9,  -999.0,  -999.0, -999.00,9
31RBOACES24N_2,  AR01,    83,  1,      9,2,19980214,1117, 24.5002, -64.6667, 5688,   2742.9,   2.9050,  34.9470,  34.9480,2,    260.1,2,     262.1,2,    27.60,2,    19.65,2,     0.00,2,     1.30,2, -999.000,9, -999.000,9, -999.000,9, -999.000,9,   -999.0,9,  -999.00,9,   2174.1,2,   2331.1,2,   7.7364,2,   719.4,2,   20.0, -999.00,9,   341.3,  -999.0, -999.00,9
31RBOACES24N_2,  AR01,    83,  1,      8,2,19980214,1117, 24.5002, -64.6667, 5688,   2992.9,   2.7580,  34.9350,  34.9350,2,    263.7,2,     263.5,2,    28.20,2,    19.55,2,     0.00,2,     1.28,2, -999.000,9, -999.000,9, -999.000,9, -999.000,9,   -999.0,9,  -999.00,9,   -999.0,9,   -999.0,9,-999.0000,9,  -999.0,9, -999.0, -999.00,9,  -999.0,  -999.0, -999.00,9
31RBOACES24N_2,  AR01,    83,  1,      7,2,19980214,1117, 24.5002, -64.6667, 5688,   3299.5,   2.5920,  34.9210,  34.9210,2,    264.6,2,     265.7,2,    29.90,2,    19.55,2,     0.00,2,     1.29,2, -999.000,9, -999.000,9, -999.000,9, -999.000,9,   -999.0,9,  -999.00,9,   -999.0,9,   -999.0,9,-999.0000,9,  -999.0,9, -999.0, -999.00,9,  -999.0,  -999.0, -999.00,9
31RBOACES24N_2,  AR01,    83,  1,      6,2,19980214,1117, 24.5002, -64.6667, 5688,   3599.6,   2.4590,  34.9100,  34.9100,2,    266.2,2,     267.3,2,    31.50,2,    19.55,2,     0.00,2,     1.29,2, -999.000,9, -999.000,9, -999.000,9, -999.000,9,   -999.0,9,  -999.00,9,   -999.0,9,   -999.0,9,-999.0000,9,  -999.0,9, -999.0, -999.00,9,  -999.0,  -999.0, -999.00,9
31RBOACES24N_2,  AR01,    83,  1,      5,2,19980214,1117, 24.5002, -64.6667, 5688,   3900.7,   2.3590,  34.9020,  34.9020,2,    269.8,2,     270.4,2,    31.20,2,    19.25,2,     0.00,2,     1.28,2, -999.000,9, -999.000,9, -999.000,9, -999.000,9,   -999.0,9,  -999.00,9,   2174.1,2,   2335.7,3,   7.7337,2,   724.4,2,   20.0, -999.00,9,   334.6,  -999.0, -999.00,9
31RBOACES24N_2,  AR01,    83,  1,      4,2,19980214,1117, 24.5002, -64.6667, 5688,   4391.7,   2.2660,  34.8910,  34.8910,2,    268.8,2,     268.3,2,    34.90,2,    19.65,2,     0.00,2,     1.31,2, -999.000,9, -999.000,9, -999.000,9, -999.000,9,   -999.0,9,  -999.00,9,   -999.0,9,   -999.0,9,-999.0000,9,  -999.0,9, -999.0, -999.00,9,  -999.0,  -999.0, -999.00,9
31RBOACES24N_2,  AR01,    83,  1,      3,2,19980214,1117, 24.5002, -64.6667, 5688,   4893.1,   2.1730,  34.8730,  34.8730,2,    263.8,2,     263.8,2,    43.70,2,    20.92,2,     0.00,2,     1.41,2, -999.000,9, -999.000,9, -999.000,9, -999.000,9,   -999.0,9,  -999.00,9,   -999.0,9,   -999.0,9,-999.0000,9,  -999.0,9, -999.0, -999.00,9,  -999.0,  -999.0, -999.00,9
31RBOACES24N_2,  AR01,    83,  1,      2,2,19980214,1117, 24.5002, -64.6667, 5688,   5399.9,   2.0520,  34.8500,  34.8510,2,    256.5,2,     256.7,2,    53.00,2,    22.48,2,     0.00,2,     1.54,2, -999.000,9, -999.000,9, -999.000,9, -999.000,9,   -999.0,9,  -999.00,9,   -999.0,9,   -999.0,9,-999.0000,9,  -999.0,9, -999.0, -999.00,9,  -999.0,  -999.0, -999.00,9
31RBOACES24N_2,  AR01,    83,  1,      1,2,19980214,1117, 24.5002, -64.6667, 5688,   5837.8,   2.0670,  34.8440,  34.8450,2,    254.6,2,     255.0,2,    55.50,6,    22.77,6,     0.00,6,     1.57,6, -999.000,9, -999.000,9, -999.000,9, -999.000,9,   -999.0,9,  -999.00,9,   2204.9,2,   -999.0,5,   7.7075,2,   789.0,2,   20.0, -999.00,9,   358.3,  -999.0, -999.00,9