BOTTLE,20220820CCHSIOAMB
EXPOCODE,SECT_ID,STNNBR,CASTNO,BTLNBR,BTLNBR_FLAG_W,DATE,TIME,LATITUDE,LONGITUDE,DEPTH,CTDPRS,CTDTMP,CTDSAL,SALNTY,SALNTY_FLAG_W,CTDOXY,CTDOXY_FLAG_W,OXYGEN,OXYGEN_FLAG_W,SILCAT,SILCAT_FLAG_W,NITRAT,NITRAT_FLAG_W,NITRIT,NITRIT_FLAG_W,PHSPHT,PHSPHT_FLAG_W,CFC-11,CFC-11_FLAG_W,CFC-12,CFC-12_FLAG_W,CFC113,CFC113_FLAG_W,CCL4,CCL4_FLAG_W,DELC14,DELC14_FLAG_W,DELC13,DELC13_FLAG_W,TCARBN,TCARBN_FLAG_W,ALKALI,ALKALI_FLAG_W,PH,PH_FLAG_W,FCO2,FCO2_FLAG_W,FCO2TMP,TON,TON_FLAG_W,FCO2IN,C14ERR,TOC,TOC_FLAG_W
,,,,,,,,,,,DBAR,ITS-90,PSS-78,PSS-78,,UMOL/KG,,UMOL/KG,,UMOL/KG,,UMOL/KG,,UMOL/KG,,UMOL/KG,,PMOL/KG,,PMOL/KG,,PMOL/KG,,PMOL/KG,,/MILLE,,/MILLE,,UMOL/KG,,UMOL/KG,,,,UATM,,DEG C,UMOL/KG,,UATM,/MILLE,UMOL/KG,
31RBOACES24N_2,  AR01,    47,  1,     36,2,19980204,1254, 24.4998, -42.1832, 3829,      4.7,  24.1440,  37.5110,  37.5100,2,    213.2,2,     210.6,2,     0.40,2,     0.00,2,     0.00,2,  -999.00,5,    1.854,2,    1.079,2,    0.148,2,    1.751,2,   -999.0,9,     1.59,2,   2081.3,2,   2460.9,2,   8.0953,2,   246.2,3,   20.0, -999.00,9,   290.2,  -999.0, -999.00,9
31RBOACES24N_2,  AR01,    47,  1,     35,3,19980204,1254, 24.4998, -42.1832, 3829,     45.6,  24.1370,  37.5080,  37.5080,2,    208.9,2,     210.5,2,     0.30,2,     0.00,2,     0.00,2,  -999.00,5, -999.000,9, -999.000,9, -999.000,9,    1.831,2,   -999.0,9,  -999.00,9,   2080.3,6,   2460.7,2,   8.0930,2,   246.2,3,   20.0, -999.00,9,   290.1,  -999.0, -999.00,9
31RBOACES24N_2,  AR01,    47,  1,     34,2,19980204,1254, 24.4998, -42.1832, 3829,     89.3,  24.1300,  37.5050,  37.5070,2,    208.5,2,     211.0,2,     0.20,2,     0.00,2,     0.00,2,  -999.00,5, -999.000,9, -999.000,9, -999.000,9, -999.000,9,   -999.0,9,  -999.00,9,   2079.3,2,   -999.0,5,   8.0941,2,   247.8,3,   20.0, -999.00,9,   291.9,  -999.0, -999.00,9
31RBOACES24N_2,  AR01,    47,  1,     33,2,19980204,1254, 24.4998, -42.1832, 3829,    135.7,  21.7070,  37.3040,  37.3010,2,    209.9,2,     197.0,2,     0.20,2,     0.20,2,     0.05,2,  -999.00,5, -999.000,9, -999.000,9, -999.000,9,    1.128,2,   -999.0,9,  -999.00,9,   2108.1,2,   -999.0,5,   8.0378,2,   298.3,3,   20.0, -999.00,9,   319.7,  -999.0, -999.00,9
31RBOACES24N_2,  AR01,    47,  1,     32,2,19980204,1254, 24.4998, -42.1832, 3829,    182.1,  20.3970,  37.0600,  37.0730,2,    196.7,2,     199.3,2,     0.60,2,     1.85,2,     0.02,2,  -999.00,5, -999.000,9, -999.000,9, -999.000,9, -999.000,9,   -999.0,9,  -999.00,9,   -999.0,9,   -999.0,9,-999.0000,9,  -999.0,9, -999.0, -999.00,9,  -999.0,  -999.0, -999.00,9
31RBOACES24N_2,  AR01,    47,  1,     31,2,19980204,1254, 24.4998, -42.1832, 3829,    199.2,  19.7060,  36.9230,  36.9290,2,    196.0,2,     202.1,2,     0.60,2,     1.95,2,     0.01,2,  -999.00,5, -999.000,9, -999.000,9, -999.000,9,    0.956,6,   -999.0,9,  -999.00,9,   2112.0,2,   -999.0,5,   7.9978,2,   340.7,3,   20.0, -999.00,9,   336.7,  -999.0, -999.00,9
31RBOACES24N_2,  AR01,    47,  1,     30,2,19980204,1254, 24.4998, -42.1832, 3829,    223.7,  18.8460,  36.7370,  36.7400,2,    201.0,2,     199.6,2,     0.70,2,     2.44,2,     0.01,2,  -999.00,5, -999.000,9, -999.000,9, -999.000,9, -999.000,9,   -999.0,9,  -999.00,9,   -999.0,9,   -999.0,9,-999.0000,9,  -999.0,9, -999.0, -999.00,9,  -999.0,  -999.0, -999.00,9
31RBOACES24N_2,  AR01,    47,  1,     29,2,19980204,1254, 24.4998, -42.1832, 3829,    251.8,  18.4440,  36.6590,  36.6460,2,    200.8,2,     200.1,2,     0.80,2,     3.61,2,     0.01,2,  -999.00,5, -999.000,9, -999.000,9, -999.000,9, -999.000,9,   -999.0,9,  -999.00,9,   -999.0,9,   2392.8,2,   7.9798,2,   361.2,3,   20.0, -999.00,9,   339.1,  -999.0, -999.00,9
31RBOACES24N_2,  AR01,    47,  1,     28,2,19980204,1254, 24.4998, -42.1832, 3829,    269.4,  17.9790,  36.5620,  36.5640,2,    199.1,2,     197.5,2,     1.00,2,     4.20,2,     0.00,2,  -999.00,5, -999.000,9, -999.000,9, -999.000,9, -999.000,9,   -999.0,9,  -999.00,9,   2106.8,2,   -999.0,9,-999.0000,9,  -999.0,9, -999.0, -999.00,9,  -999.0,  -999.0, -999.00,9
31RBOACES24N_2,  AR01,    47,  1,     27,2,19980204,1254, 24.4998, -42.1832, 3829,    300.2,  17.4770,  36.4750,  36.4760,2,    195.1,2,     192.8,2,     1.30,2,     5.37,2,     0.00,2,  -999.00,5, -999.000,9, -999.000,9, -999.000,9,    0.611,2,   -999.0,9,  -999.00,9,   2112.3,2,   2389.6,2,   7.9576,2,   370.9,3,   20.0, -999.00,9,   334.7,  -999.0, -999.00,9
31RBOACES24N_2,  AR01,    47,  1,     26,2,19980204,1254, 24.4998, -42.1832, 3829,    349.8,  16.5450,  36.3190,  36.3270,2,    191.3,2,     187.8,2,     1.90,2,     7.22,2,     0.00,2,  -999.00,5, -999.000,9, -999.000,9, -999.000,9, -999.000,9,   -999.0,9,  -999.00,9,   -999.0,9,   -999.0,9,-999.0000,9,  -999.0,9, -999.0, -999.00,9,  -999.0,  -999.0, -999.00,9
31RBOACES24N_2,  AR01,    47,  1,     25,2,19980204,1254, 24.4998, -42.1832, 3829,    400.9,  15.6390,  36.1730,  36.1820,2,    186.6,2,     189.8,2,     2.40,2,     9.08,2,     0.00,2,  -999.00,5, -999.000,9, -999.000,9, -999.000,9,    0.503,2,   -999.0,9,  -999.00,9,   2129.6,2,   -999.0,5,   7.9012,2,   431.6,3,   20.0, -999.00,9,   361.2,  -999.0, -999.00,9
31RBOACES24N_2,  AR01,    47,  1,     24,2,19980204,1254, 24.4998, -42.1832, 3829,    452.3,  14.9520,  36.0610,  36.0680,2,    188.7,2,     186.6,2,     2.90,2,     9.86,2,     0.00,2,  -999.00,5, -999.000,9, -999.000,9, -999.000,9, -999.000,9,   -999.0,9,  -999.00,9,   -999.0,9,   -999.0,9,-999.0000,9,  -999.0,9, -999.0, -999.00,9,  -999.0,  -999.0, -999.00,9
31RBOACES24N_2,  AR01,    47,  1,     23,2,19980204,1254, 24.4998, -42.1832, 3829,    502.3,  13.8680,  35.8990,  35.9060,2,    184.1,2,     181.4,2,     3.70,2,    11.81,2,     0.00,2,  -999.00,5, -999.000,9, -999.000,9, -999.000,9, -999.000,9,   -999.0,9,  -999.00,9,   2139.1,2,   -999.0,5,   7.8557,2,   483.4,3,   20.0, -999.00,9,   375.6,  -999.0, -999.00,9
31RBOACES24N_2,  AR01,    47,  1,     22,2,19980204,1254, 24.4998, -42.1832, 3829,    551.6,  12.8460,  35.7450,  35.7560,2,    181.2,2,     170.1,2,     4.70,2,    14.06,2,     0.00,2,  -999.00,5, -999.000,9, -999.000,9, -999.000,9, -999.000,9,   -999.0,9,  -999.00,9,   -999.0,9,   -999.0,9,-999.0000,9,  -999.0,9, -999.0, -999.00,9,  -999.0,  -999.0, -999.00,9
31RBOACES24N_2,  AR01,    47,  1,     21,2,19980204,1254, 24.4998, -42.1832, 3829,    599.7,  12.1280,  35.6450,  35.6560,2,    175.4,2,     159.2,2,     6.00,2,    16.40,2,     0.00,2,  -999.00,5, -999.000,9, -999.000,9, -999.000,9,    0.449,2,   -999.0,9,  -999.00,9,   2159.0,2,   -999.0,5,   7.7889,2,   582.0,3,   20.0, -999.00,9,   420.3,  -999.0, -999.00,9
31RBOACES24N_2,  AR01,    47,  1,     20,2,19980204,1254, 24.4998, -42.1832, 3829,    648.8,  11.3980,  35.5570,  35.5590,2,    160.5,2,     160.1,2,     7.50,2,    18.94,2,     0.00,2,  -999.00,5, -999.000,9, -999.000,9, -999.000,9, -999.000,9,   -999.0,9,  -999.00,9,   -999.0,9,   -999.0,9,-999.0000,9,  -999.0,9, -999.0, -999.00,9,  -999.0,  -999.0, -999.00,9
31RBOACES24N_2,  AR01,    47,  1,     19,2,19980204,1254, 24.4998, -42.1832, 3829,    702.3,  10.9520,  35.5130,  35.5070,2,    155.6,2,     147.8,2,     8.50,2,    19.72,2,     0.00,2,  -999.00,5, -999.000,9, -999.000,9, -999.000,9, -999.000,9,   -999.0,9,  -999.00,9,   -999.0,9,   -999.0,9,-999.0000,9,  -999.0,9, -999.0, -999.00,9,  -999.0,  -999.0, -999.00,9
31RBOACES24N_2,  AR01,    47,  1,     18,2,19980204,1254, 24.4998, -42.1832, 3829,    749.9,  10.2530,  35.4300,  35.4340,2,    148.3,2,     143.8,2,    10.50,2,    21.97,2,     0.00,2,  -999.00,5, -999.000,9, -999.000,9, -999.000,9, -999.000,9,   -999.0,9,  -999.00,9,   2182.6,2,   2334.3,2,   7.7152,2,  -999.0,9, -999.0, -999.00,9,  -999.0,  -999.0, -999.00,9
31RBOACES24N_2,  AR01,    47,  1,     17,2,19980204,1254, 24.4998, -42.1832, 3829,    797.9,   9.7580,  35.3700,  35.3730,2,    143.6,2,     144.9,2,    12.00,2,    23.34,2,     0.00,2,  -999.00,5, -999.000,9, -999.000,9, -999.000,9,    0.206,2,   -999.0,9,  -999.00,9,   -999.0,9,   -999.0,9,-999.0000,9,  -999.0,9, -999.0, -999.00,9,  -999.0,  -999.0, -999.00,9
31RBOACES24N_2,  AR01,    47,  1,     16,2,19980204,1254, 24.4998, -42.1832, 3829,    815.4,   9.5540,  35.3520,  35.3520,2,    145.1,2,     146.4,2,    12.40,2,    23.53,2,     0.00,2,  -999.00,5, -999.000,9, -999.000,9, -999.000,9, -999.000,9,   -999.0,9,  -999.00,9,   2188.6,2,   2332.1,2,   7.6945,2,   746.4,3,   20.0, -999.00,9,   483.9,  -999.0, -999.00,9
31RBOACES24N_2,  AR01,    47,  1,     15,2,19980204,1254, 24.4998, -42.1832, 3829,    899.4,   8.4440,  35.2480,  35.2480,2,    145.3,2,     169.2,2,    15.00,2,    25.29,2,     0.00,2,  -999.00,5, -999.000,9, -999.000,9, -999.000,9, -999.000,9,   -999.0,9,  -999.00,9,   -999.0,9,   -999.0,9,-999.0000,9,  -999.0,9, -999.0, -999.00,9,  -999.0,  -999.0, -999.00,9
31RBOACES24N_2,  AR01,    47,  1,     14,2,19980204,1254, 24.4998, -42.1832, 3829,   1099.9,   6.6130,  35.1050,  35.1080,2,    168.7,2,     201.0,2,    17.80,2,    25.30,2,     0.00,2,  -999.00,5, -999.000,9, -999.000,9, -999.000,9,    0.097,2,   -999.0,9,  -999.00,9,   2195.2,6,   2324.6,2,   7.6693,2,  -999.0,9, -999.0, -999.00,9,  -999.0,  -999.0, -999.00,9
31RBOACES24N_2,  AR01,    47,  1,     13,2,19980204,1254, 24.4998, -42.1832, 3829,   1300.7,   5.4050,  35.0280,  35.0270,2,    201.7,2,     221.4,2,    17.50,2,    23.34,2,     0.00,2,  -999.00,5, -999.000,9, -999.000,9, -999.000,9, -999.000,9,   -999.0,9,  -999.00,9,   -999.0,9,   -999.0,9,-999.0000,9,  -999.0,9, -999.0, -999.00,9,  -999.0,  -999.0, -999.00,9
31RBOACES24N_2,  AR01,    47,  1,     12,2,19980204,1254, 24.4998, -42.1832, 3829,   1500.6,   4.8810,  35.0450,  35.0440,2,    224.7,2,     232.8,2,    17.10,2,    21.58,2,     0.00,2,  -999.00,5, -999.000,9, -999.000,9, -999.000,9, -999.000,9,   -999.0,9,  -999.00,9,   2176.3,2,   -999.0,9,   7.7103,2,  -999.0,9, -999.0, -999.00,9,  -999.0,  -999.0, -999.00,9
31RBOACES24N_2,  AR01,    47,  1,     11,2,19980204,1254, 24.4998, -42.1832, 3829,   1681.7,   4.4650,  35.0400,  35.0400,2,    235.1,2,     243.8,2,    17.90,2,    20.71,2,     0.00,2,  -999.00,5, -999.000,9, -999.000,9, -999.000,9,    0.221,2,   -999.0,9,  -999.00,9,   -999.0,9,   -999.0,9,-999.0000,9,  -999.0,9, -999.0, -999.00,9,  -999.0,  -999.0, -999.00,9
31RBOACES24N_2,  AR01,    47,  1,     10,2,19980204,1254, 24.4998, -42.1832, 3829,   1901.7,   4.1220,  35.0350,  35.0340,2,    244.0,2,     249.0,2,    19.00,2,    20.02,2,     0.00,2,  -999.00,5, -999.000,9, -999.000,9, -999.000,9, -999.000,9,   -999.0,9,  -999.00,9,   -999.0,9,   -999.0,9,-999.0000,9,  -999.0,9, -999.0, -999.00,9,  -999.0,  -999.0, -999.00,9
31RBOACES24N_2,  AR01,    47,  1,      9,2,19980204,1254, 24.4998, -42.1832, 3829,   2091.6,   3.7560,  35.0160,  35.0160,2,    250.1,2,     251.2,2,    21.60,2,    19.73,2,     0.00,2,  -999.00,5, -999.000,9, -999.000,9, -999.000,9, -999.000,9,   -999.0,9,  -999.00,9,   2171.8,2,   -999.0,5,   7.7348,2,   676.5,3,   20.0, -999.00,9,   334.1,  -999.0, -999.00,9
31RBOACES24N_2,  AR01,    47,  1,      8,2,19980204,1254, 24.4998, -42.1832, 3829,   2343.0,   3.3290,  34.9840,  34.9850,2,    251.2,2,     251.0,2,    25.70,2,    19.93,2,     0.00,2,  -999.00,5,    0.032,4,    0.020,2,    0.010,2,    0.188,2,   -999.0,9,  -999.00,9,   -999.0,9,   -999.0,9,-999.0000,9,  -999.0,9, -999.0, -999.00,9,  -999.0,  -999.0, -999.00,9
31RBOACES24N_2,  AR01,    47,  1,      7,2,19980204,1254, 24.4998, -42.1832, 3829,   2601.4,   3.0160,  34.9590,  34.9600,2,    252.1,2,     250.3,2,    30.20,2,    20.41,2,     0.00,2,  -999.00,5, -999.000,9, -999.000,9, -999.000,9, -999.000,9,   -999.0,9,  -999.00,9,   2180.7,2,   -999.0,5,   7.7323,2,  -999.0,9, -999.0, -999.00,9,  -999.0,  -999.0, -999.00,9
31RBOACES24N_2,  AR01,    47,  1,      6,2,19980204,1254, 24.4998, -42.1832, 3829,   2837.0,   2.8530,  34.9460,  34.9450,2,    250.8,2,     248.0,2,    33.10,2,    20.71,2,     0.00,2,  -999.00,5,    0.007,2,    0.002,2,    0.002,2,    0.098,2,   -999.0,9,  -999.00,9,   -999.0,9,   -999.0,9,-999.0000,9,  -999.0,9, -999.0, -999.00,9,  -999.0,  -999.0, -999.00,9
31RBOACES24N_2,  AR01,    47,  1,      5,2,19980204,1254, 24.4998, -42.1832, 3829,   3098.4,   2.7000,  34.9320,  34.9320,2,    247.6,2,     248.7,2,    36.50,2,    21.20,2,     0.00,2,  -999.00,5, -999.000,9, -999.000,9, -999.000,9, -999.000,9,   -999.0,9,  -999.00,9,   2189.0,2,   -999.0,5,   7.7305,2,   712.1,3,   20.0, -999.00,9,   333.5,  -999.0, -999.00,9
31RBOACES24N_2,  AR01,    47,  1,      4,2,19980204,1254, 24.4998, -42.1832, 3829,   3344.4,   2.5970,  34.9210,  34.9220,2,    249.4,2,     249.5,2,    38.80,2,    21.39,2,     0.00,2,  -999.00,5,    0.002,2,   -0.001,2,    0.008,2,    0.019,2,   -999.0,9,  -999.00,9,   -999.0,9,   -999.0,9,-999.0000,9,  -999.0,9, -999.0, -999.00,9,  -999.0,  -999.0, -999.00,9
31RBOACES24N_2,  AR01,    47,  1,      3,2,19980204,1254, 24.4998, -42.1832, 3829,   3596.6,   2.5290,  34.9130,  34.9130,2,    249.2,2,     250.2,2,    40.50,2,    21.59,2,     0.00,2,  -999.00,5,    0.002,2,    0.000,2,    0.002,2,    0.024,2,   -999.0,9,  -999.00,9,   -999.0,9,   -999.0,9,-999.0000,9,  -999.0,9, -999.0, -999.00,9,  -999.0,  -999.0, -999.00,9
31RBOACES24N_2,  AR01,    47,  1,      2,9,19980204,1254, 24.4998, -42.1832, 3829,   4037.2,   2.4630,  34.9010,-999.0000,9,    246.5,2,    -999.0,9,  -999.00,9,  -999.00,9,  -999.00,9,  -999.00,9, -999.000,1, -999.000,1, -999.000,1, -999.000,9,   -999.0,9,  -999.00,9,   -999.0,9,   -999.0,9,-999.0000,9,  -999.0,9, -999.0, -999.00,9,  -999.0,  -999.0, -999.00,9
31RBOACES24N_2,  AR01,    47,  1,      1,2,19980204,1254, 24.4998, -42.1832, 3829,   4037.4,   2.4630,  34.9020,  34.9030,2,    246.4,2,     250.3,6,    42.80,6,    21.68,6,     0.00,6,  -999.00,5,    0.000,2,    0.000,2,   -0.001,2,    0.028,6,   -999.0,9,  -999.00,9,   2193.1,2,   -999.0,9,   7.7263,2,   729.2,3,   20.0, -999.00,9,   337.4,  -999.0, -999.00,9