BOTTLE,20220819CCHSIOAMB
EXPOCODE,SECT_ID,STNNBR,CASTNO,SAMPNO,BTLNBR,BTLNBR_FLAG_W,DATE,TIME,LATITUDE,LONGITUDE,DEPTH,CTDPRS,CTDTMP,CTDSAL,CTDSAL_FLAG_W,SALNTY,SALNTY_FLAG_W,CTDOXY,CTDOXY_FLAG_W,THETA,OXYGEN,OXYGEN_FLAG_W,SILCAT,SILCAT_FLAG_W,NITRAT,NITRAT_FLAG_W,NITRIT,NITRIT_FLAG_W,PHSPHT,PHSPHT_FLAG_W,CFC-11,CFC-11_FLAG_W,CFC-12,CFC-12_FLAG_W,TRITUM,TRITUM_FLAG_W,HELIUM,HELIUM_FLAG_W,DELHE3,DELHE3_FLAG_W,DELC14,DELC14_FLAG_W,DELC13,DELC13_FLAG_W,TCARBN,TCARBN_FLAG_W,ALKALI,ALKALI_FLAG_W,C14ERR,HELIER,DELHER,C13ERR,TRITER
,,,,,,,,,,,,DBAR,ITS-90,PSS-78,,PSS-78,,UMOL/KG,,DEG C,UMOL/KG,,UMOL/KG,,UMOL/KG,,UMOL/KG,,UMOL/KG,,PMOL/KG,,PMOL/KG,,TU,,NMOL/KG,,PERCNT,,/MILLE,,/MILLE,,UMOL/KG,,UMOL/KG,,/MILLE,NMOL/KG,PERCNT,/MILLE,TU
   31WTTUNES_1,  P17C,   101,  1,     61,     61,2,19910702,1626, -0.5017,-135.0000, 4319,      2.8,  27.1525,  35.3767,2,  35.3786,2,   -999.0,9, 27.1519,   -999.0,9,  -999.00,9,  -999.00,9,  -999.00,9,  -999.00,9, -999.000,9, -999.000,9, -999.000,9,-999.0000,9,  -999.00,9,   -999.0,9,  -999.00,9,   -999.0,9,   -999.0,9,  -999.0,-999.0000,-999.000,  -999.0,-999.000
   31WTTUNES_1,  P17C,   101,  1,     62,     62,2,19910702,1626, -0.5017,-135.0000, 4319,     34.2,  27.0862,  35.3775,2,  35.3782,2,   -999.0,9, 27.0783,   -999.0,9,  -999.00,9,  -999.00,9,  -999.00,9,  -999.00,9, -999.000,9, -999.000,9, -999.000,9,-999.0000,9,  -999.00,9,   -999.0,9,  -999.00,9,   -999.0,9,   -999.0,9,  -999.0,-999.0000,-999.000,  -999.0,-999.000
   31WTTUNES_1,  P17C,   101,  1,     63,     63,2,19910702,1626, -0.5017,-135.0000, 4319,    250.2,  12.0150,  34.8525,2,  34.8527,2,   -999.0,9, 11.9823,   -999.0,9,  -999.00,9,  -999.00,9,  -999.00,9,  -999.00,9, -999.000,9, -999.000,9, -999.000,9,-999.0000,9,  -999.00,9,   -999.0,9,  -999.00,9,   -999.0,9,   -999.0,9,  -999.0,-999.0000,-999.000,  -999.0,-999.000
   31WTTUNES_1,  P17C,   101,  1,     64,     64,2,19910702,1626, -0.5017,-135.0000, 4319,    502.2,   7.9877,  34.6233,2,  34.6231,2,   -999.0,9,  7.9362,   -999.0,9,  -999.00,9,  -999.00,9,  -999.00,9,  -999.00,9, -999.000,9, -999.000,9, -999.000,9,-999.0000,9,  -999.00,9,   -999.0,9,  -999.00,9,   -999.0,9,   -999.0,9,  -999.0,-999.0000,-999.000,  -999.0,-999.000
   31WTTUNES_1,  P17C,   101,  1,     65,     65,2,19910702,1626, -0.5017,-135.0000, 4319,    902.2,   4.8840,  34.5489,2,  34.5501,2,   -999.0,9,  4.8102,   -999.0,9,  -999.00,9,  -999.00,9,  -999.00,9,  -999.00,9, -999.000,9, -999.000,9, -999.000,9,-999.0000,9,  -999.00,9,   -999.0,9,  -999.00,9,   -999.0,9,   -999.0,9,  -999.0,-999.0000,-999.000,  -999.0,-999.000
   31WTTUNES_1,  P17C,   101,  1,     66,     66,2,19910702,1626, -0.5017,-135.0000, 4319,   1006.0,   4.3933,  34.5583,2,  34.5603,2,   -999.0,9,  4.3140,   -999.0,9,  -999.00,9,  -999.00,9,  -999.00,9,  -999.00,9, -999.000,9, -999.000,9, -999.000,9,-999.0000,9,  -999.00,9,   -999.0,9,  -999.00,9,   -999.0,9,   -999.0,9,  -999.0,-999.0000,-999.000,  -999.0,-999.000
   31WTTUNES_1,  P17C,   101,  1,     67,     67,2,19910702,1626, -0.5017,-135.0000, 4319,   1508.6,   3.0153,  34.6025,2,  34.6035,2,   -999.0,9,  2.9065,   -999.0,9,  -999.00,9,  -999.00,9,  -999.00,9,  -999.00,9, -999.000,9, -999.000,9, -999.000,9,-999.0000,9,  -999.00,9,   -999.0,9,  -999.00,9,   -999.0,9,   -999.0,9,  -999.0,-999.0000,-999.000,  -999.0,-999.000
   31WTTUNES_1,  P17C,   101,  1,     68,     68,2,19910702,1626, -0.5017,-135.0000, 4319,   2011.8,   2.2456,  34.6416,2,  34.6426,2,   -999.0,9,  2.1044,   -999.0,9,  -999.00,9,  -999.00,9,  -999.00,9,  -999.00,9, -999.000,9, -999.000,9, -999.000,9,-999.0000,9,  -999.00,9,   -999.0,9,  -999.00,9,   -999.0,9,   -999.0,9,  -999.0,-999.0000,-999.000,  -999.0,-999.000
   31WTTUNES_1,  P17C,   101,  1,     69,     69,2,19910702,1626, -0.5017,-135.0000, 4319,   3022.1,   1.6534,  34.6735,2,  34.6735,2,   -999.0,9,  1.4311,   -999.0,9,  -999.00,9,  -999.00,9,  -999.00,9,  -999.00,9, -999.000,9, -999.000,9, -999.000,9,-999.0000,9,  -999.00,9,   -999.0,9,  -999.00,9,   -999.0,9,   -999.0,9,  -999.0,-999.0000,-999.000,  -999.0,-999.000
   31WTTUNES_1,  P17C,   101,  1,     70,     70,2,19910702,1626, -0.5017,-135.0000, 4319,   4055.8,   1.4153,  34.6927,2,  34.6940,2,   -999.0,9,  1.0927,   -999.0,9,  -999.00,9,  -999.00,9,  -999.00,9,  -999.00,9, -999.000,9, -999.000,9, -999.000,9,-999.0000,9,  -999.00,9,   -999.0,9,  -999.00,9,   -999.0,9,   -999.0,9,  -999.0,-999.0000,-999.000,  -999.0,-999.000
   31WTTUNES_1,  P17C,   101,  1,     71,     71,2,19910702,1626, -0.5017,-135.0000, 4319,   4366.9,   1.4452,  34.6933,2,  34.6950,2,   -999.0,9,  1.0871,   -999.0,9,  -999.00,9,  -999.00,9,  -999.00,9,  -999.00,9, -999.000,9, -999.000,9, -999.000,9,-999.0000,9,  -999.00,9,   -999.0,9,  -999.00,9,   -999.0,9,   -999.0,9,  -999.0,-999.0000,-999.000,  -999.0,-999.000
   31WTTUNES_1,  P17C,   102,  1,      1,      1,2,19910702,2009, -0.6667,-135.0000, 4349,      0.2,  27.3980,  35.3669,2,  35.3707,2,   -999.0,9, 27.3980,    202.0,2,     2.61,2,     5.09,2,     0.56,2,     0.56,2,    1.667,2,    0.946,2, -999.000,9,-999.0000,9,  -999.00,9,   -999.0,9,  -999.00,9,   -999.0,9,   -999.0,9,  -999.0,-999.0000,-999.000,  -999.0,-999.000
   31WTTUNES_1,  P17C,   102,  1,      2,      2,2,19910702,2009, -0.6667,-135.0000, 4349,     60.1,  26.0403,  35.4582,2,  35.4740,2,    183.0,2, 26.0269,    178.8,2,     2.77,2,     6.96,2,     1.00,2,     0.70,2,    1.713,2,    0.949,2,    1.049,2,   1.7240,2,    -0.83,2,   -999.0,9,  -999.00,9,   -999.0,9,   -999.0,9,  -999.0,  0.0080,   0.150,  -999.0,   0.007
   31WTTUNES_1,  P17C,   102,  1,      3,      3,2,19910702,2009, -0.6667,-135.0000, 4349,     69.1,  24.8764,  35.5910,2,  35.5886,2,    161.5,2, 24.8614,    161.7,2,     3.12,2,     8.64,2,     0.62,2,     0.78,2,    1.650,2,    0.910,2,    0.982,2,   1.7260,2,    -0.53,2,   -999.0,9,  -999.00,9,   -999.0,9,   -999.0,9,  -999.0,  0.0080,   0.150,  -999.0,   0.007
   31WTTUNES_1,  P17C,   102,  1,      4,      4,2,19910702,2009, -0.6667,-135.0000, 4349,     72.3,  23.9998,  35.6693,2,  35.6593,2,    142.4,2, 23.9845,    154.8,2,     3.10,2,     9.80,2,     0.31,2,     0.84,2,    1.647,2,    0.953,2,    0.915,2,   1.7120,2,    -0.31,2,   -999.0,9,  -999.00,9,   -999.0,9,   -999.0,9,  -999.0,  0.0080,   0.150,  -999.0,   0.007
   31WTTUNES_1,  P17C,   102,  1,      5,      5,2,19910702,2009, -0.6667,-135.0000, 4349,     80.9,  22.2224,  35.7315,2,  35.7179,2,    128.2,2, 22.2062,    133.0,2,     3.63,2,    11.21,2,     0.06,2,     0.92,2,    1.511,2,    0.838,2,    0.816,2,   1.7410,2,     0.09,2,   -999.0,9,  -999.00,9,   -999.0,9,   -999.0,9,  -999.0,  0.0080,   0.150,  -999.0,   0.006
   31WTTUNES_1,  P17C,   102,  1,      6,      6,2,19910702,2009, -0.6667,-135.0000, 4349,     99.1,  19.4772,  35.4735,2,  35.4647,2,    125.3,2, 19.4592,    125.4,2,     5.47,2,    12.64,2,     0.03,2,     0.97,2,    1.255,2,    0.699,2,    0.735,2,   1.7590,2,     1.71,2,   -999.0,9,  -999.00,9,   -999.0,9,   -999.0,9,  -999.0,  0.0080,   0.150,  -999.0,   0.009
   31WTTUNES_1,  P17C,   102,  1,      7,      7,2,19910702,2009, -0.6667,-135.0000, 4349,    125.3,  16.6500,  35.2408,2,  35.2400,2,    127.2,2, 16.6296,    129.4,2,     8.61,2,    14.72,2,     0.02,2,     1.09,2,    1.068,2,    0.590,2,    0.681,2,   1.8080,2,     2.60,2,   -999.0,9,  -999.00,9,   -999.0,9,   -999.0,9,  -999.0,  0.0080,   0.150,  -999.0,   0.008
   31WTTUNES_1,  P17C,   102,  1,      8,      8,2,19910702,2009, -0.6667,-135.0000, 4349,    168.6,  13.5946,  34.9927,2,  34.9911,2,    127.2,2, 13.5707,    126.2,2,    14.36,2,    18.87,2,     0.01,2,     1.34,2,    0.791,2,    0.426,2,    0.575,2,   1.8130,2,     4.08,2,   -999.0,9,  -999.00,9,   -999.0,9,   -999.0,9,  -999.0,  0.0090,   0.150,  -999.0,   0.008
   31WTTUNES_1,  P17C,   102,  1,      9,      9,2,19910702,2009, -0.6667,-135.0000, 4349,    223.8,  11.9979,  34.8496,2,  34.8500,2,     64.5,2, 11.9687,     60.4,2,    23.66,2,    27.94,2,     0.01,2,     1.91,2,    0.371,2,    0.208,2,    0.418,2,   1.8200,2,     5.59,2,   -999.0,9,  -999.00,9,   -999.0,9,   -999.0,9,  -999.0,  0.0090,   0.150,  -999.0,   0.007
   31WTTUNES_1,  P17C,   102,  1,     10,     10,2,19910702,2009, -0.6667,-135.0000, 4349,    263.8,  11.4937,  34.8079,2,  34.8142,2,     32.9,2, 11.4602,     30.0,2,    27.92,2,    31.72,2,     0.01,2,     2.16,2,    0.225,2,    0.129,2,    0.338,2,   1.8090,2,     5.74,2,   -999.0,9,  -999.00,9,   -999.0,9,   -999.0,9,  -999.0,  0.0090,   0.150,  -999.0,   0.006
   31WTTUNES_1,  P17C,   102,  1,     11,     11,2,19910702,2009, -0.6667,-135.0000, 4349,    303.5,  10.9743,  34.7835,2,  34.7857,2,     23.0,2, 10.9369,     23.5,2,    30.31,2,    33.21,2,     0.01,2,     2.26,2,    0.160,2,    0.098,2,    0.257,2,   1.8290,2,     5.74,2,   -999.0,9,  -999.00,9,   -999.0,9,   -999.0,9,  -999.0,  0.0090,   0.150,  -999.0,   0.005
   31WTTUNES_1,  P17C,   102,  1,     12,     12,2,19910702,2009, -0.6667,-135.0000, 4349,    368.3,   9.9791,  34.7286,2,  34.7310,2,     18.8,2,  9.9362,     17.7,2,    34.95,2,    35.67,2,     0.01,2,     2.42,2,    0.075,2,    0.043,2,    0.136,2,   1.8530,2,     5.79,2,   -999.0,9,  -999.00,9,   -999.0,9,   -999.0,9,  -999.0,  0.0090,   0.150,  -999.0,   0.004
   31WTTUNES_1,  P17C,   102,  1,     13,     13,2,19910702,2009, -0.6667,-135.0000, 4349,    429.1,   8.9237,  34.6703,2,  34.6730,2,     32.1,2,  8.8769,     31.3,2,    37.90,2,    36.69,2,     0.00,2,     2.46,2,    0.037,2,    0.023,2,    0.065,2,   1.8360,2,     6.13,2,   -999.0,9,  -999.00,9,   -999.0,9,   -999.0,9,  -999.0,  0.0090,   0.150,  -999.0,   0.003
   31WTTUNES_1,  P17C,   102,  1,     14,     14,2,19910702,2009, -0.6667,-135.0000, 4349,    505.9,   7.9235,  34.6181,2,  34.6200,2,     42.6,2,  7.8719,     45.1,2,    42.91,2,    37.56,2,     0.00,2,     2.54,2,    0.019,2,    0.013,2, -999.000,9,-999.0000,9,  -999.00,9,   -999.0,9,  -999.00,9,   -999.0,9,   -999.0,9,  -999.0,-999.0000,-999.000,  -999.0,-999.000
   31WTTUNES_1,  P17C,   102,  1,     15,     15,2,19910702,2009, -0.6667,-135.0000, 4349,    604.3,   6.7987,  34.5720,2,  34.5732,2,     62.0,2,  6.7418,     63.6,2,    50.33,2,    37.82,2,     0.00,2,     2.59,2,    0.009,2,    0.005,2, -999.000,9,-999.0000,9,  -999.00,9,   -999.0,9,  -999.00,9,   -999.0,9,   -999.0,9,  -999.0,-999.0000,-999.000,  -999.0,-999.000
   31WTTUNES_1,  P17C,   102,  1,     16,     16,2,19910702,2009, -0.6667,-135.0000, 4349,    705.1,   6.0158,  34.5532,2,  34.5569,2,     67.9,2,  5.9531,     69.3,2,    59.80,2,    38.65,2,     0.00,2,     2.65,2, -999.000,9, -999.000,9, -999.000,9,-999.0000,9,  -999.00,9,   -999.0,9,  -999.00,9,   -999.0,9,   -999.0,9,  -999.0,-999.0000,-999.000,  -999.0,-999.000
   31WTTUNES_1,  P17C,   102,  1,     17,     17,2,19910702,2009, -0.6667,-135.0000, 4349,    804.6,   5.2563,  34.5467,2,  34.5486,2,     74.0,2,  5.1887,     77.2,2,    70.95,2,    38.81,2,     0.00,2,     2.68,2, -999.000,9, -999.000,9, -999.000,9,-999.0000,9,  -999.00,9,   -999.0,9,  -999.00,9,   -999.0,9,   -999.0,9,  -999.0,-999.0000,-999.000,  -999.0,-999.000
   31WTTUNES_1,  P17C,   102,  1,     18,     18,2,19910702,2009, -0.6667,-135.0000, 4349,    902.9,   4.8743,  34.5476,2,  34.5504,2,     83.2,2,  4.8005,     83.2,2,    77.26,2,    38.66,2,     0.00,2,     2.67,2, -999.000,9, -999.000,9, -999.000,9,-999.0000,9,  -999.00,9,   -999.0,9,  -999.00,9,   -999.0,9,   -999.0,9,  -999.0,-999.0000,-999.000,  -999.0,-999.000
   31WTTUNES_1,  P17C,   102,  1,     19,     19,2,19910702,2009, -0.6667,-135.0000, 4349,   1011.6,   4.3557,  34.5576,2,  34.5616,2,     89.1,2,  4.2762,     82.7,2,    88.77,2,    39.18,2,     0.00,2,     2.72,2,    0.002,2,    0.005,2, -999.000,9,-999.0000,9,  -999.00,9,   -999.0,9,  -999.00,9,   -999.0,9,   -999.0,9,  -999.0,-999.0000,-999.000,  -999.0,-999.000
   31WTTUNES_1,  P17C,   102,  1,     20,     20,2,19910702,2009, -0.6667,-135.0000, 4349,   1217.4,   3.6556,  34.5759,2,  34.5784,2,     93.2,2,  3.5646,     94.4,2,   101.96,2,    38.61,3,     0.00,2,     2.67,2,    0.001,2,    0.002,2, -999.000,9,-999.0000,9,  -999.00,9,   -999.0,9,  -999.00,9,   -999.0,9,   -999.0,9,  -999.0,-999.0000,-999.000,  -999.0,-999.000
   31WTTUNES_1,  P17C,   102,  1,     21,     21,2,19910702,2009, -0.6667,-135.0000, 4349,   1418.0,   3.1381,  34.5966,2,  34.5985,2,     95.9,2,  3.0355,     95.7,2,   115.52,2,    39.03,3,     0.00,2,     2.69,2,    0.001,2,    0.000,2, -999.000,9,-999.0000,9,  -999.00,9,   -999.0,9,  -999.00,9,   -999.0,9,   -999.0,9,  -999.0,-999.0000,-999.000,  -999.0,-999.000
   31WTTUNES_1,  P17C,   102,  1,     22,     22,9,19910702,2009, -0.6667,-135.0000, 4349,   1624.6,   2.7167,  34.6174,2,-999.0000,9,     99.0,2,  2.6017,   -999.0,9,  -999.00,9,  -999.00,9,  -999.00,9,  -999.00,9, -999.000,9, -999.000,9, -999.000,9,-999.0000,9,  -999.00,9,   -999.0,9,  -999.00,9,   -999.0,9,   -999.0,9,  -999.0,-999.0000,-999.000,  -999.0,-999.000
   31WTTUNES_1,  P17C,   102,  1,     23,     23,2,19910702,2009, -0.6667,-135.0000, 4349,   1826.8,   2.4737,  34.6291,2,  34.6328,2,    102.8,2,  2.3450,    102.7,2,   132.99,2,    38.62,3,     0.00,2,     2.65,2,    0.002,2,    0.000,2, -999.000,9,-999.0000,9,  -999.00,9,   -999.0,9,  -999.00,9,   -999.0,9,   -999.0,9,  -999.0,-999.0000,-999.000,  -999.0,-999.000
   31WTTUNES_1,  P17C,   102,  1,     24,     24,2,19910702,2009, -0.6667,-135.0000, 4349,   2023.8,   2.2506,  34.6422,2,  34.6450,2,    108.4,2,  2.1083,    106.3,2,   139.10,2,    38.37,3,     0.00,2,     2.63,2, -999.000,9, -999.000,9, -999.000,9,-999.0000,9,  -999.00,9,   -999.0,9,  -999.00,9,   -999.0,9,   -999.0,9,  -999.0,-999.0000,-999.000,  -999.0,-999.000
   31WTTUNES_1,  P17C,   102,  1,     25,     25,2,19910702,2009, -0.6667,-135.0000, 4349,   2194.8,   2.0575,  34.6527,2,  34.6542,2,    114.4,2,  1.9034,    113.4,2,   141.68,2,    37.86,3,     0.00,2,     2.59,2, -999.000,9, -999.000,9, -999.000,9,-999.0000,9,  -999.00,9,   -999.0,9,  -999.00,9,   -999.0,9,   -999.0,9,  -999.0,-999.0000,-999.000,  -999.0,-999.000
   31WTTUNES_1,  P17C,   102,  1,     26,     26,2,19910702,2009, -0.6667,-135.0000, 4349,   2367.5,   1.9387,  34.6591,2,  34.6591,2,    120.5,2,  1.7714,    120.4,2,   142.58,2,    37.55,3,     0.00,2,     2.55,2, -999.000,9, -999.000,9, -999.000,9,-999.0000,9,  -999.00,9,   -999.0,9,  -999.00,9,   -999.0,9,   -999.0,9,  -999.0,-999.0000,-999.000,  -999.0,-999.000
   31WTTUNES_1,  P17C,   102,  1,     27,     27,2,19910702,2009, -0.6667,-135.0000, 4349,   2531.3,   1.8313,  34.6648,2,  34.6650,2,    125.4,2,  1.6513,    124.8,2,   144.22,2,    37.15,3,     0.00,2,     2.52,2, -999.000,9, -999.000,9, -999.000,9,-999.0000,9,  -999.00,9,   -999.0,9,  -999.00,9,   -999.0,9,   -999.0,9,  -999.0,-999.0000,-999.000,  -999.0,-999.000
   31WTTUNES_1,  P17C,   102,  1,     28,     28,2,19910702,2009, -0.6667,-135.0000, 4349,   2688.3,   1.7418,  34.6685,2,  34.6699,2,    131.2,2,  1.5492,    132.1,2,   142.89,2,    36.75,3,     0.00,2,     2.48,2, -999.000,9, -999.000,9, -999.000,9,-999.0000,9,  -999.00,9,   -999.0,9,  -999.00,9,   -999.0,9,   -999.0,9,  -999.0,-999.0000,-999.000,  -999.0,-999.000
   31WTTUNES_1,  P17C,   102,  1,     29,     29,2,19910702,2009, -0.6667,-135.0000, 4349,   2861.0,   1.6774,  34.6739,2,  34.6744,2,    135.1,2,  1.4699,    135.1,2,   144.53,2,    36.60,3,     0.00,2,     2.47,2, -999.000,9, -999.000,9, -999.000,9,-999.0000,9,  -999.00,9,   -999.0,9,  -999.00,9,   -999.0,9,   -999.0,9,  -999.0,-999.0000,-999.000,  -999.0,-999.000
   31WTTUNES_1,  P17C,   102,  1,     30,     30,2,19910702,2009, -0.6667,-135.0000, 4349,   3038.5,   1.6248,  34.6788,2,  34.6781,2,    139.3,2,  1.4016,    138.8,2,   144.31,2,    36.35,3,     0.00,2,     2.45,2, -999.000,9, -999.000,9, -999.000,9,-999.0000,9,  -999.00,9,   -999.0,9,  -999.00,9,   -999.0,9,   -999.0,9,  -999.0,-999.0000,-999.000,  -999.0,-999.000
   31WTTUNES_1,  P17C,   102,  1,     31,     31,2,19910702,2009, -0.6667,-135.0000, 4349,   3245.2,   1.5968,  34.6797,2,  34.6793,2,    142.8,2,  1.3540,    142.8,2,   143.91,2,    36.15,3,     0.00,2,     2.43,2, -999.000,9, -999.000,9, -999.000,9,-999.0000,9,  -999.00,9,   -999.0,9,  -999.00,9,   -999.0,9,   -999.0,9,  -999.0,-999.0000,-999.000,  -999.0,-999.000
   31WTTUNES_1,  P17C,   102,  1,     32,     32,2,19910702,2009, -0.6667,-135.0000, 4349,   3442.1,   1.5161,  34.6865,2,  34.6854,2,    147.6,2,  1.2554,    148.0,2,   146.48,2,    35.85,3,     0.00,2,     2.39,2, -999.000,9, -999.000,9, -999.000,9,-999.0000,9,  -999.00,9,   -999.0,9,  -999.00,9,   -999.0,9,   -999.0,9,  -999.0,-999.0000,-999.000,  -999.0,-999.000
   31WTTUNES_1,  P17C,   102,  1,     33,     33,2,19910702,2009, -0.6667,-135.0000, 4349,   3646.3,   1.4518,  34.6915,2,  34.6909,2,    155.0,2,  1.1718,    154.5,2,   145.71,2,    35.50,3,     0.00,2,     2.36,2, -999.000,9, -999.000,9, -999.000,9,-999.0000,9,  -999.00,9,   -999.0,9,  -999.00,9,   -999.0,9,   -999.0,9,  -999.0,-999.0000,-999.000,  -999.0,-999.000
   31WTTUNES_1,  P17C,   102,  1,     34,     34,2,19910702,2009, -0.6667,-135.0000, 4349,   3904.2,   1.4073,  34.6945,2,  34.6946,2,    161.3,2,  1.1012,    162.1,2,   142.14,2,    34.94,3,     0.00,2,     2.33,2, -999.000,9, -999.000,9, -999.000,9,-999.0000,9,  -999.00,9,   -999.0,9,  -999.00,9,   -999.0,9,   -999.0,9,  -999.0,-999.0000,-999.000,  -999.0,-999.000
   31WTTUNES_1,  P17C,   102,  1,     35,     35,2,19910702,2009, -0.6667,-135.0000, 4349,   4154.0,   1.4311,  34.6950,2,  34.6956,2,    161.7,2,  1.0972,    161.6,2,   142.30,2,    35.00,3,     0.00,2,     2.33,2, -999.000,9, -999.000,9, -999.000,9,-999.0000,9,  -999.00,9,   -999.0,9,  -999.00,9,   -999.0,9,   -999.0,9,  -999.0,-999.0000,-999.000,  -999.0,-999.000
   31WTTUNES_1,  P17C,   102,  1,     36,     36,2,19910702,2009, -0.6667,-135.0000, 4349,   4403.5,   1.4457,  34.6974,2,  34.6968,2,   -999.0,9,  1.0834,    165.8,2,   139.10,2,    34.65,3,     0.00,2,     2.31,2, -999.000,9, -999.000,9, -999.000,9,-999.0000,9,  -999.00,9,   -999.0,9,  -999.00,9,   -999.0,9,   -999.0,9,  -999.0,-999.0000,-999.000,  -999.0,-999.000