BOTTLE,20220819CCHSIOAMB
EXPOCODE,SECT_ID,STNNBR,CASTNO,SAMPNO,BTLNBR,BTLNBR_FLAG_W,DATE,TIME,LATITUDE,LONGITUDE,DEPTH,CTDPRS,CTDTMP,CTDSAL,CTDSAL_FLAG_W,SALNTY,SALNTY_FLAG_W,CTDOXY,CTDOXY_FLAG_W,THETA,OXYGEN,OXYGEN_FLAG_W,SILCAT,SILCAT_FLAG_W,NITRAT,NITRAT_FLAG_W,NITRIT,NITRIT_FLAG_W,PHSPHT,PHSPHT_FLAG_W,CFC-11,CFC-11_FLAG_W,CFC-12,CFC-12_FLAG_W,TRITUM,TRITUM_FLAG_W,HELIUM,HELIUM_FLAG_W,DELHE3,DELHE3_FLAG_W,DELC14,DELC14_FLAG_W,DELC13,DELC13_FLAG_W,TCARBN,TCARBN_FLAG_W,ALKALI,ALKALI_FLAG_W,C14ERR,HELIER,DELHER,C13ERR,TRITER
,,,,,,,,,,,,DBAR,ITS-90,PSS-78,,PSS-78,,UMOL/KG,,DEG C,UMOL/KG,,UMOL/KG,,UMOL/KG,,UMOL/KG,,UMOL/KG,,PMOL/KG,,PMOL/KG,,TU,,NMOL/KG,,PERCNT,,/MILLE,,/MILLE,,UMOL/KG,,UMOL/KG,,/MILLE,NMOL/KG,PERCNT,/MILLE,TU
   31WTTUNES_1,  P17C,    71,  1,      1,      1,2,19910625,1815,  7.4967,-134.9983, 4785,      0.2,  28.8534,  33.8430,2,  33.8306,2,   -999.0,9, 28.8533,    202.4,2,     3.08,2,     0.00,2,     0.01,2,     0.22,2,    1.668,2,    0.912,2, -999.000,9,-999.0000,9,  -999.00,9,   -999.0,9,  -999.00,9,   1890.6,2,   -999.0,9,  -999.0,-999.0000,-999.000,  -999.0,-999.000
   31WTTUNES_1,  P17C,    71,  1,      2,      2,2,19910625,1815,  7.4967,-134.9983, 4785,     42.3,  27.6850,  34.1740,2,  34.2258,2,    208.2,2, 27.6751,    203.3,2,     3.05,2,     0.09,2,     0.03,2,     0.22,2, -999.000,9, -999.000,9, -999.000,9,-999.0000,9,  -999.00,9,   -999.0,9,  -999.00,9,   1922.4,2,   -999.0,9,  -999.0,-999.0000,-999.000,  -999.0,-999.000
   31WTTUNES_1,  P17C,    71,  1,      3,      3,2,19910625,1815,  7.4967,-134.9983, 4785,     63.3,  19.1257,  34.7482,2,  34.6624,2,    179.2,2, 19.1144,    155.6,2,     7.27,2,     7.21,2,     0.88,2,     0.80,2,    1.753,2,    0.971,2, -999.000,9,-999.0000,9,  -999.00,9,   -999.0,9,  -999.00,9,   2078.2,2,   -999.0,9,  -999.0,-999.0000,-999.000,  -999.0,-999.000
   31WTTUNES_1,  P17C,    71,  1,      4,      4,2,19910625,1815,  7.4967,-134.9983, 4785,     73.5,  16.9388,  34.6345,2,  34.6313,2,    144.2,2, 16.9268,    122.0,2,    11.68,2,    13.07,2,     0.34,2,     1.15,2,    1.525,2,    0.794,2, -999.000,9,-999.0000,9,  -999.00,9,   -999.0,9,  -999.00,9,   2113.2,2,   -999.0,9,  -999.0,-999.0000,-999.000,  -999.0,-999.000
   31WTTUNES_1,  P17C,    71,  1,      5,      5,2,19910625,1815,  7.4967,-134.9983, 4785,     83.1,  15.3621,  34.6453,2,  34.6396,2,    102.1,2, 15.3493,     84.3,2,    17.69,2,    20.33,2,     0.10,2,     1.56,2,    1.070,2,    0.601,2, -999.000,9,-999.0000,9,  -999.00,9,   -999.0,9,  -999.00,9,   2153.9,2,   -999.0,9,  -999.0,-999.0000,-999.000,  -999.0,-999.000
   31WTTUNES_1,  P17C,    71,  1,      6,      6,2,19910625,1815,  7.4967,-134.9983, 4785,    103.8,  13.2305,  34.6172,2,  34.6282,2,     53.7,2, 13.2161,     46.4,2,    24.59,2,    27.41,2,     0.05,2,     2.06,2,    0.617,2,    0.353,2, -999.000,9,-999.0000,9,  -999.00,9,   -999.0,9,  -999.00,9,   2203.0,2,   -999.0,9,  -999.0,-999.0000,-999.000,  -999.0,-999.000
   31WTTUNES_1,  P17C,    71,  1,      7,      7,2,19910625,1815,  7.4967,-134.9983, 4785,    133.2,  11.7199,  34.7093,2,  34.7097,2,     39.3,2, 11.7029,     35.3,2,    29.00,2,    30.97,2,     0.00,2,     2.25,2,    0.297,2,    0.167,2, -999.000,9,-999.0000,9,  -999.00,9,   -999.0,9,  -999.00,9,   2226.4,2,   -999.0,9,  -999.0,-999.0000,-999.000,  -999.0,-999.000
   31WTTUNES_1,  P17C,    71,  1,      8,      8,2,19910625,1815,  7.4967,-134.9983, 4785,    163.1,  11.2021,  34.7301,2,  34.7254,2,     35.2,2, 11.1818,     33.4,2,    30.21,2,    31.71,2,     0.00,2,     2.29,2,    0.204,2,    0.129,2, -999.000,9,-999.0000,9,  -999.00,9,   -999.0,9,  -999.00,9,   2231.3,2,   -999.0,9,  -999.0,-999.0000,-999.000,  -999.0,-999.000
   31WTTUNES_1,  P17C,    71,  1,      9,      9,2,19910625,1815,  7.4967,-134.9983, 4785,    203.2,  10.5533,  34.7132,2,  34.7131,2,     36.3,2, 10.5290,     37.2,2,    32.13,2,    32.49,2,     0.00,2,     2.32,2,    0.144,2,    0.089,2, -999.000,9,-999.0000,9,  -999.00,9,   -999.0,9,  -999.00,9,   2238.2,2,   2307.2,2,  -999.0,-999.0000,-999.000,  -999.0,-999.000
   31WTTUNES_1,  P17C,    71,  1,     10,     10,2,19910625,1815,  7.4967,-134.9983, 4785,    243.2,  10.0884,  34.6878,2,  34.6879,2,     55.8,2, 10.0601,     50.2,2,    32.99,2,    31.89,2,     0.00,2,     2.29,2,    0.152,2,    0.096,2, -999.000,9,-999.0000,9,  -999.00,9,   -999.0,9,  -999.00,9,   2232.6,2,   -999.0,9,  -999.0,-999.0000,-999.000,  -999.0,-999.000
   31WTTUNES_1,  P17C,    71,  1,     11,     11,2,19910625,1815,  7.4967,-134.9983, 4785,    313.6,   9.5826,  34.6755,2,  34.6694,2,     33.2,2,  9.5471,     35.1,2,    35.98,2,    34.49,2,     0.01,2,     2.45,2,    0.072,2,    0.053,2, -999.000,9,-999.0000,9,  -999.00,9,   -999.0,9,  -999.00,9,   2249.3,2,   2305.4,2,  -999.0,-999.0000,-999.000,  -999.0,-999.000
   31WTTUNES_1,  P17C,    71,  1,     12,     12,2,19910625,1815,  7.4967,-134.9983, 4785,    405.4,   8.9489,  34.6488,2,  34.6470,2,     16.9,2,  8.9047,     24.6,2,    41.46,2,    36.52,2,     0.01,2,     2.67,2,    0.022,2,    0.017,2, -999.000,9,-999.0000,9,  -999.00,9,   -999.0,9,  -999.00,9,   2268.8,2,   -999.0,9,  -999.0,-999.0000,-999.000,  -999.0,-999.000
   31WTTUNES_1,  P17C,    71,  1,     13,     13,2,19910625,1815,  7.4967,-134.9983, 4785,    508.5,   7.9273,  34.6061,2,  34.6073,2,      5.1,2,  7.8754,      5.0,2,    54.05,2,    37.92,2,     0.01,2,     3.01,2,    0.001,2,   -0.002,2, -999.000,9,-999.0000,9,  -999.00,9,   -999.0,9,  -999.00,9,   2297.6,2,   -999.0,9,  -999.0,-999.0000,-999.000,  -999.0,-999.000
   31WTTUNES_1,  P17C,    71,  1,     14,     14,2,19910625,1815,  7.4967,-134.9983, 4785,    607.7,   6.7629,  34.5606,2,  34.5614,2,      7.2,2,  6.7057,      8.0,2,    65.77,2,    40.92,2,     0.01,2,     3.12,2,    0.001,2,   -0.002,2, -999.000,9,-999.0000,9,  -999.00,9,   -999.0,9,  -999.00,9,   2310.9,2,   2332.3,2,  -999.0,-999.0000,-999.000,  -999.0,-999.000
   31WTTUNES_1,  P17C,    71,  1,     15,     15,2,19910625,1815,  7.4967,-134.9983, 4785,    707.5,   5.9383,  34.5503,2,  34.5519,2,     15.2,2,  5.8757,     14.5,2,    74.81,2,    42.95,2,     0.01,2,     3.16,2, -999.000,9, -999.000,9, -999.000,9,-999.0000,9,  -999.00,9,   -999.0,9,  -999.00,9,   2318.3,2,   -999.0,9,  -999.0,-999.0000,-999.000,  -999.0,-999.000
   31WTTUNES_1,  P17C,    71,  1,     16,     16,2,19910625,1815,  7.4967,-134.9983, 4785,    807.2,   5.3236,  34.5514,2,  34.5521,2,     26.0,2,  5.2554,     26.4,2,    82.66,2,    43.43,2,     0.00,2,     3.15,2, -999.000,9, -999.000,9, -999.000,9,-999.0000,9,  -999.00,9,   -999.0,9,  -999.00,9,   2321.2,2,   -999.0,9,  -999.0,-999.0000,-999.000,  -999.0,-999.000
   31WTTUNES_1,  P17C,    71,  1,     17,     17,2,19910625,1815,  7.4967,-134.9983, 4785,    907.3,   4.8319,  34.5538,2,  34.5561,2,     42.5,2,  4.7580,     44.3,2,    89.75,2,    42.46,2,     0.00,2,     3.08,2,   -0.002,2,    0.006,2, -999.000,9,-999.0000,9,  -999.00,9,   -999.0,9,  -999.00,9,   2321.9,2,   -999.0,9,  -999.0,-999.0000,-999.000,  -999.0,-999.000
   31WTTUNES_1,  P17C,    71,  1,     18,     18,2,19910625,1815,  7.4967,-134.9983, 4785,   1008.5,   4.4481,  34.5616,2,  34.5629,2,     51.9,2,  4.3682,     52.1,2,    96.84,2,    42.05,2,     0.00,2,     3.06,2,    0.000,2,    0.005,2, -999.000,9,   1.8770,2,    18.33,2,   -999.0,9,  -999.00,9,   2326.8,2,   2366.0,2,  -999.0,-999.0000,-999.000,  -999.0,-999.000
   31WTTUNES_1,  P17C,    71,  1,     19,     19,2,19910625,1815,  7.4967,-134.9983, 4785,   1211.8,   3.7835,  34.5794,2,  34.5794,2,     58.2,2,  3.6918,     61.0,2,   111.23,2,    41.59,2,     0.00,2,     3.03,2,   -0.001,2,   -0.002,2, -999.000,9,-999.0000,9,  -999.00,9,   -999.0,9,  -999.00,9,   2338.1,2,   -999.0,9,  -999.0,-999.0000,-999.000,  -999.0,-999.000
   31WTTUNES_1,  P17C,    71,  1,     20,     20,2,19910625,1815,  7.4967,-134.9983, 4785,   1418.4,   3.2478,  34.5983,2,  34.5938,2,     69.5,2,  3.1440,     69.4,2,   123.31,2,    40.97,2,     0.00,2,     2.98,2, -999.000,9, -999.000,9, -999.000,9,-999.0000,9,  -999.00,9,   -999.0,9,  -999.00,9,   2344.2,2,   -999.0,9,  -999.0,-999.0000,-999.000,  -999.0,-999.000
   31WTTUNES_1,  P17C,    71,  1,     21,     21,2,19910625,1815,  7.4967,-134.9983, 4785,   1619.4,   2.7941,  34.6141,2,  34.6150,2,     80.0,2,  2.6787,     81.3,2,   133.07,2,    40.34,2,     0.00,2,     2.91,2, -999.000,9, -999.000,9, -999.000,9,-999.0000,9,  -999.00,9,   -999.0,9,  -999.00,9,   2348.4,2,   -999.0,9,  -999.0,-999.0000,-999.000,  -999.0,-999.000
   31WTTUNES_1,  P17C,    71,  1,     22,     22,3,19910625,1815,  7.4967,-134.9983, 4785,   1820.4,   2.4594,  34.6283,2,  34.5942,4,     92.0,2,  2.3314,     91.1,2,   139.99,2,    39.62,2,     0.00,2,     2.85,2, -999.000,9, -999.000,9, -999.000,9,   1.9230,2,    26.06,2,   -999.0,9,  -999.00,9,   2350.1,2,   -999.0,9,  -999.0,-999.0000,-999.000,  -999.0,-999.000
   31WTTUNES_1,  P17C,    71,  1,     23,     23,2,19910625,1815,  7.4967,-134.9983, 4785,   2022.3,   2.2045,  34.6415,2,  34.6382,2,     98.2,2,  2.0630,     97.9,2,   146.01,2,    39.27,2,     0.00,2,     2.80,2, -999.000,9, -999.000,9, -999.000,9,-999.0000,9,  -999.00,9,   -999.0,9,  -999.00,9,   2356.1,2,   -999.0,9,  -999.0,-999.0000,-999.000,  -999.0,-999.000
   31WTTUNES_1,  P17C,    71,  1,     24,     24,2,19910625,1815,  7.4967,-134.9983, 4785,   2195.7,   2.0476,  34.6520,2,  34.6521,2,    102.7,2,  1.8936,    101.4,2,   150.79,2,    39.03,2,     0.00,2,     2.78,2, -999.000,9, -999.000,9, -999.000,9,-999.0000,9,  -999.00,9,   -999.0,9,  -999.00,9,   2359.0,2,   2428.1,2,  -999.0,-999.0000,-999.000,  -999.0,-999.000
   31WTTUNES_1,  P17C,    71,  1,     25,     25,2,19910625,1815,  7.4967,-134.9983, 4785,   2365.2,   1.9287,  34.6603,2,  34.6606,2,    108.5,2,  1.7618,    107.2,2,   153.62,2,    38.64,2,     0.00,2,     2.75,2, -999.000,9, -999.000,9, -999.000,9,-999.0000,9,  -999.00,9,   -999.0,9,  -999.00,9,   2359.9,2,   -999.0,9,  -999.0,-999.0000,-999.000,  -999.0,-999.000
   31WTTUNES_1,  P17C,    71,  1,     26,     26,2,19910625,1815,  7.4967,-134.9983, 4785,   2527.8,   1.8707,  34.6642,2,  34.6649,2,    110.9,2,  1.6903,    111.0,2,   155.02,2,    38.24,2,     0.00,2,     2.72,2, -999.000,9, -999.000,9, -999.000,9,   1.9560,2,    33.42,2,   -999.0,9,  -999.00,9,   2360.2,2,   -999.0,9,  -999.0,-999.0000,-999.000,  -999.0,-999.000
   31WTTUNES_1,  P17C,    71,  1,     27,     27,2,19910625,1815,  7.4967,-134.9983, 4785,   2691.9,   1.8328,  34.6678,2,  34.6679,2,    113.9,2,  1.6380,    114.0,2,   155.88,2,    38.11,2,     0.00,2,     2.70,2, -999.000,9, -999.000,9, -999.000,9,-999.0000,9,  -999.00,9,   -999.0,9,  -999.00,9,   2359.7,2,   -999.0,9,  -999.0,-999.0000,-999.000,  -999.0,-999.000
   31WTTUNES_1,  P17C,    71,  1,     28,     28,2,19910625,1815,  7.4967,-134.9983, 4785,   2866.9,   1.7928,  34.6707,2,  34.6698,2,    117.5,2,  1.5824,    117.1,2,   156.03,2,    37.66,2,     0.00,2,     2.69,2, -999.000,9, -999.000,9, -999.000,9,-999.0000,9,  -999.00,9,   -999.0,9,  -999.00,9,   2358.7,2,   -999.0,9,  -999.0,-999.0000,-999.000,  -999.0,-999.000
   31WTTUNES_1,  P17C,    71,  1,     29,     29,2,19910625,1815,  7.4967,-134.9983, 4785,   3038.4,   1.7189,  34.6743,2,  34.6734,2,    123.5,2,  1.4935,    123.0,2,   156.72,2,    37.54,2,     0.00,2,     2.65,2, -999.000,9, -999.000,9, -999.000,9,   1.8910,2,    28.99,2,   -999.0,9,  -999.00,9,   2359.9,2,   -999.0,9,  -999.0,-999.0000,-999.000,  -999.0,-999.000
   31WTTUNES_1,  P17C,    71,  1,     30,     30,2,19910625,1815,  7.4967,-134.9983, 4785,   3296.5,   1.6169,  34.6795,2,  34.6791,2,    131.7,2,  1.3685,    132.4,2,   155.80,2,    36.98,2,     0.00,2,     2.60,2, -999.000,9, -999.000,9, -999.000,9,-999.0000,9,  -999.00,9,   -999.0,9,  -999.00,9,   2346.9,2,   -999.0,9,  -999.0,-999.0000,-999.000,  -999.0,-999.000
   31WTTUNES_1,  P17C,    71,  1,     31,     31,2,19910625,1815,  7.4967,-134.9983, 4785,   3546.1,   1.5250,  34.6849,2,  34.6840,2,    142.6,2,  1.2535,    142.9,2,   153.28,2,    36.43,2,     0.00,2,     2.55,2, -999.000,9, -999.000,9, -999.000,9,-999.0000,9,  -999.00,9,   -999.0,9,  -999.00,9,   2338.4,2,   2431.0,2,  -999.0,-999.0000,-999.000,  -999.0,-999.000
   31WTTUNES_1,  P17C,    71,  1,     32,     32,2,19910625,1815,  7.4967,-134.9983, 4785,   3803.2,   1.4450,  34.6875,2,  34.6885,2,    153.0,2,  1.1488,    153.1,2,   149.69,2,    35.71,2,     0.00,2,     2.49,2, -999.000,9, -999.000,9, -999.000,9,-999.0000,9,  -999.00,9,   -999.0,9,  -999.00,9,   2329.9,2,   -999.0,9,  -999.0,-999.0000,-999.000,  -999.0,-999.000
   31WTTUNES_1,  P17C,    71,  1,     33,     33,2,19910625,1815,  7.4967,-134.9983, 4785,   4059.1,   1.3961,  34.6917,2,  34.6914,2,    161.4,2,  1.0736,    161.0,2,   146.28,2,    35.16,2,     0.00,2,     2.45,2, -999.000,9, -999.000,9, -999.000,9,   1.9260,2,    15.64,2,   -999.0,9,  -999.00,9,   2321.9,2,   -999.0,9,  -999.0,-999.0000,-999.000,  -999.0,-999.000
   31WTTUNES_1,  P17C,    71,  1,     34,     34,2,19910625,1815,  7.4967,-134.9983, 4785,   4311.9,   1.4031,  34.6928,2,  34.6920,2,    162.7,2,  1.0524,    163.4,2,   144.83,2,    34.93,2,     0.00,2,     2.44,2, -999.000,9, -999.000,9, -999.000,9,-999.0000,9,  -999.00,9,   -999.0,9,  -999.00,9,   2323.8,2,   -999.0,9,  -999.0,-999.0000,-999.000,  -999.0,-999.000
   31WTTUNES_1,  P17C,    71,  1,     35,     35,2,19910625,1815,  7.4967,-134.9983, 4785,   4568.6,   1.4171,  34.6944,2,  34.6934,2,    166.1,2,  1.0367,    165.3,2,   143.38,2,    34.70,2,     0.00,2,     2.42,2,   -0.002,2,    0.003,2, -999.000,9,-999.0000,9,  -999.00,9,   -999.0,9,  -999.00,9,   2319.1,2,   -999.0,9,  -999.0,-999.0000,-999.000,  -999.0,-999.000
   31WTTUNES_1,  P17C,    71,  1,     36,     36,2,19910625,1815,  7.4967,-134.9983, 4785,   4849.0,   1.4460,  34.6950,2,  34.6936,2,   -999.0,9,  1.0318,    166.6,2,   142.99,2,    34.53,2,     0.00,2,     2.44,2,    0.004,2,    0.009,2, -999.000,9,   1.9060,2,    14.80,2,   -999.0,9,  -999.00,9,   2318.4,2,   2424.2,2,  -999.0,-999.0000,-999.000,  -999.0,-999.000