BOTTLE,20220819CCHSIOAMB
EXPOCODE,SECT_ID,STNNBR,CASTNO,SAMPNO,BTLNBR,BTLNBR_FLAG_W,DATE,TIME,LATITUDE,LONGITUDE,DEPTH,CTDPRS,CTDTMP,CTDSAL,CTDSAL_FLAG_W,SALNTY,SALNTY_FLAG_W,CTDOXY,CTDOXY_FLAG_W,THETA,OXYGEN,OXYGEN_FLAG_W,SILCAT,SILCAT_FLAG_W,NITRAT,NITRAT_FLAG_W,NITRIT,NITRIT_FLAG_W,PHSPHT,PHSPHT_FLAG_W,CFC-11,CFC-11_FLAG_W,CFC-12,CFC-12_FLAG_W,TRITUM,TRITUM_FLAG_W,HELIUM,HELIUM_FLAG_W,DELHE3,DELHE3_FLAG_W,DELC14,DELC14_FLAG_W,DELC13,DELC13_FLAG_W,TCARBN,TCARBN_FLAG_W,ALKALI,ALKALI_FLAG_W,C14ERR,HELIER,DELHER,C13ERR,TRITER
,,,,,,,,,,,,DBAR,ITS-90,PSS-78,,PSS-78,,UMOL/KG,,DEG C,UMOL/KG,,UMOL/KG,,UMOL/KG,,UMOL/KG,,UMOL/KG,,PMOL/KG,,PMOL/KG,,TU,,NMOL/KG,,PERCNT,,/MILLE,,/MILLE,,UMOL/KG,,UMOL/KG,,/MILLE,NMOL/KG,PERCNT,/MILLE,TU
   31WTTUNES_1,  P17C,    84,  1,     12,     12,2,19910629,0352,  2.3500,-135.0017, 4411,      0.5,  28.1677,  34.6896,2,  34.6935,2,    219.6,3, 28.1675,    220.9,2,     2.56,2,     1.80,2,     0.08,2,     0.33,2,    1.636,2,    0.917,2, -999.000,9,-999.0000,9,  -999.00,9,   -999.0,9,  -999.00,9,   -999.0,9,   -999.0,9,  -999.0,-999.0000,-999.000,  -999.0,-999.000
   31WTTUNES_1,  P17C,    84,  1,      1,      1,2,19910629,0352,  2.3500,-135.0017, 4411,     30.0,  28.0694,  34.6933,2,  34.7028,2,    216.6,2, 28.0624,    214.6,2,     2.61,2,     1.87,2,     0.10,2,     0.33,2,    1.647,2,    0.924,2, -999.000,9,-999.0000,9,  -999.00,9,   -999.0,9,  -999.00,9,   -999.0,9,   -999.0,9,  -999.0,-999.0000,-999.000,  -999.0,-999.000
   31WTTUNES_1,  P17C,    84,  1,      2,      2,2,19910629,0352,  2.3500,-135.0017, 4411,     71.6,  27.1807,  34.8562,2,  34.8398,2,    208.2,2, 27.1643,    201.2,2,     3.18,2,     4.02,2,     0.56,2,     0.48,2,    1.645,2,    0.924,2, -999.000,9,-999.0000,9,  -999.00,9,   -999.0,9,  -999.00,9,   -999.0,9,   -999.0,9,  -999.0,-999.0000,-999.000,  -999.0,-999.000
   31WTTUNES_1,  P17C,    84,  1,      3,      3,2,19910629,0352,  2.3500,-135.0017, 4411,     91.9,  24.5307,  34.7800,2,  34.7685,2,    163.3,2, 24.5111,    160.0,2,     6.07,2,     8.09,2,     1.22,2,     0.79,2,    1.425,2,    0.886,2, -999.000,9,-999.0000,9,  -999.00,9,   -999.0,9,  -999.00,9,   -999.0,9,   -999.0,9,  -999.0,-999.0000,-999.000,  -999.0,-999.000
   31WTTUNES_1,  P17C,    84,  1,      4,      4,2,19910629,0352,  2.3500,-135.0017, 4411,    103.4,  21.8266,  34.7764,2,  34.7881,2,    123.3,2, 21.8063,    125.9,2,     8.18,2,    12.08,2,     1.40,2,     1.00,2,    1.489,2,    0.835,2, -999.000,9,-999.0000,9,  -999.00,9,   -999.0,9,  -999.00,9,   -999.0,9,   -999.0,9,  -999.0,-999.0000,-999.000,  -999.0,-999.000
   31WTTUNES_1,  P17C,    84,  1,      5,      5,2,19910629,0352,  2.3500,-135.0017, 4411,    113.3,  19.3635,  34.7715,2,  34.7702,2,    115.1,2, 19.3431,    108.9,2,    11.25,2,    15.72,2,     0.53,2,     1.17,2,    1.328,2,    0.730,2, -999.000,9,-999.0000,9,  -999.00,9,   -999.0,9,  -999.00,9,   -999.0,9,   -999.0,9,  -999.0,-999.0000,-999.000,  -999.0,-999.000
   31WTTUNES_1,  P17C,    84,  1,      6,      6,2,19910629,0352,  2.3500,-135.0017, 4411,    129.9,  15.4422,  34.7275,2,  34.7440,2,     72.1,2, 15.4223,     80.2,2,    18.77,2,    22.74,2,     0.11,2,     1.60,2,    0.905,2,    0.488,2, -999.000,9,-999.0000,9,  -999.00,9,   -999.0,9,  -999.00,9,   -999.0,9,   -999.0,9,  -999.0,-999.0000,-999.000,  -999.0,-999.000
   31WTTUNES_1,  P17C,    84,  1,      7,      7,2,19910629,0352,  2.3500,-135.0017, 4411,    155.1,  13.1111,  34.9010,2,  34.9004,2,     43.0,2, 13.0897,     43.2,2,    23.38,2,    29.28,2,     0.01,2,     2.00,2,    0.449,2,    0.248,2, -999.000,9,-999.0000,9,  -999.00,9,   -999.0,9,  -999.00,9,   -999.0,9,   -999.0,9,  -999.0,-999.0000,-999.000,  -999.0,-999.000
   31WTTUNES_1,  P17C,    84,  1,      8,      8,2,19910629,0352,  2.3500,-135.0017, 4411,    206.6,  12.4288,  34.8627,2,  34.8616,2,     30.7,2, 12.4012,     32.1,2,    25.87,2,    31.44,2,     0.00,2,     2.13,2,    0.309,2,    0.176,2, -999.000,9,-999.0000,9,  -999.00,9,   -999.0,9,  -999.00,9,   -999.0,9,   -999.0,9,  -999.0,-999.0000,-999.000,  -999.0,-999.000
   31WTTUNES_1,  P17C,    84,  1,      9,      9,2,19910629,0352,  2.3500,-135.0017, 4411,    256.6,  11.7280,  34.8167,2,  34.8146,2,     34.8,2, 11.6950,     34.6,2,    28.55,2,    32.21,2,     0.00,2,     2.18,2,    0.245,2,    0.142,2, -999.000,9,-999.0000,9,  -999.00,9,   -999.0,9,  -999.00,9,   -999.0,9,   -999.0,9,  -999.0,-999.0000,-999.000,  -999.0,-999.000
   31WTTUNES_1,  P17C,    84,  1,     10,     10,2,19910629,0352,  2.3500,-135.0017, 4411,    306.6,  10.9775,  34.7772,2,  34.7760,2,     36.4,2, 10.9397,     36.4,2,    30.27,2,    33.09,2,     0.00,2,     2.24,2,    0.187,2,    0.109,2, -999.000,9,-999.0000,9,  -999.00,9,   -999.0,9,  -999.00,9,   -999.0,9,   -999.0,9,  -999.0,-999.0000,-999.000,  -999.0,-999.000
   31WTTUNES_1,  P17C,    84,  1,     11,     11,2,19910629,0352,  2.3500,-135.0017, 4411,    352.2,  10.5006,  34.7370,2,  34.7397,2,     38.8,2, 10.4583,     39.0,2,    32.37,2,    33.65,2,     0.00,2,     2.29,2,    0.155,2,    0.093,2, -999.000,9,-999.0000,9,  -999.00,9,   -999.0,9,  -999.00,9,   -999.0,9,   -999.0,9,  -999.0,-999.0000,-999.000,  -999.0,-999.000
   31WTTUNES_1,  P17C,    84,  1,     13,     13,2,19910629,0352,  2.3500,-135.0017, 4411,    394.6,  10.0066,  34.7100,2,  34.7092,2,     58.9,2,  9.9605,     52.4,2,    33.12,2,    33.30,2,     0.00,2,     2.26,2,    0.150,2,    0.086,2, -999.000,9,-999.0000,9,  -999.00,9,   -999.0,9,  -999.00,9,   -999.0,9,   -999.0,9,  -999.0,-999.0000,-999.000,  -999.0,-999.000
   31WTTUNES_1,  P17C,    84,  1,     14,     14,2,19910629,0352,  2.3500,-135.0017, 4411,    456.3,   9.1405,  34.6624,2,  34.6650,2,     35.5,2,  9.0899,     31.1,2,    39.27,2,    36.99,2,     0.00,2,     2.53,2,    0.045,2,    0.029,2, -999.000,9,-999.0000,9,  -999.00,9,   -999.0,9,  -999.00,9,   -999.0,9,   -999.0,9,  -999.0,-999.0000,-999.000,  -999.0,-999.000
   31WTTUNES_1,  P17C,    84,  1,     15,     15,2,19910629,0352,  2.3500,-135.0017, 4411,    557.5,   7.4557,  34.5944,2,  34.5932,2,     26.7,2,  7.4006,     34.7,2,    51.58,2,    40.33,2,     0.00,2,     2.80,2,    0.006,2,   -0.002,2, -999.000,9,-999.0000,9,  -999.00,9,   -999.0,9,  -999.00,9,   -999.0,9,   -999.0,9,  -999.0,-999.0000,-999.000,  -999.0,-999.000
   31WTTUNES_1,  P17C,    84,  1,     16,     16,2,19910629,0352,  2.3500,-135.0017, 4411,    658.6,   6.2228,  34.5562,2,  34.5567,2,     55.1,2,  6.1634,     61.9,2,    62.35,2,    40.18,2,     0.00,2,     2.77,2,    0.005,2,    0.004,2, -999.000,9,-999.0000,9,  -999.00,9,   -999.0,9,  -999.00,9,   -999.0,9,   -999.0,9,  -999.0,-999.0000,-999.000,  -999.0,-999.000
   31WTTUNES_1,  P17C,    84,  1,     17,     17,2,19910629,0352,  2.3500,-135.0017, 4411,    759.2,   5.5493,  34.5470,2,  34.5482,2,     67.0,2,  5.4841,     71.1,2,    70.02,2,    40.23,2,     0.00,2,     2.79,2,    0.004,2,    0.006,2, -999.000,9,-999.0000,9,  -999.00,9,   -999.0,9,  -999.00,9,   -999.0,9,   -999.0,9,  -999.0,-999.0000,-999.000,  -999.0,-999.000
   31WTTUNES_1,  P17C,    84,  1,     18,     18,2,19910629,0352,  2.3500,-135.0017, 4411,    861.5,   5.1518,  34.5462,2,  34.5470,2,     74.0,2,  5.0798,     78.1,2,    77.11,2,    40.13,2,     0.00,2,     2.77,2,    0.001,2,    0.003,2, -999.000,9,-999.0000,9,  -999.00,9,   -999.0,9,  -999.00,9,   -999.0,9,   -999.0,9,  -999.0,-999.0000,-999.000,  -999.0,-999.000
   31WTTUNES_1,  P17C,    84,  1,     19,     19,2,19910629,0352,  2.3500,-135.0017, 4411,   1010.5,   4.5305,  34.5568,2,  34.5588,2,     71.9,2,  4.4497,     73.0,2,    90.93,2,    41.20,3,     0.00,2,     2.86,2, -999.000,9, -999.000,9, -999.000,9,-999.0000,9,  -999.00,9,   -999.0,9,  -999.00,9,   -999.0,9,   -999.0,9,  -999.0,-999.0000,-999.000,  -999.0,-999.000
   31WTTUNES_1,  P17C,    84,  1,     20,     20,2,19910629,0352,  2.3500,-135.0017, 4411,   1213.4,   3.8081,  34.5783,2,  34.5790,2,     75.8,2,  3.7160,     74.6,2,   108.79,2,    41.69,3,     0.00,2,     2.89,2, -999.000,9, -999.000,9, -999.000,9,-999.0000,9,  -999.00,9,   -999.0,9,  -999.00,9,   -999.0,9,   -999.0,9,  -999.0,-999.0000,-999.000,  -999.0,-999.000
   31WTTUNES_1,  P17C,    84,  1,     21,     21,2,19910629,0352,  2.3500,-135.0017, 4411,   1412.5,   3.2197,  34.5989,2,  34.6004,2,     82.7,2,  3.1166,     82.5,2,   123.55,2,    41.20,3,     0.00,2,     2.85,2, -999.000,9, -999.000,9, -999.000,9,-999.0000,9,  -999.00,9,   -999.0,9,  -999.00,9,   -999.0,9,   -999.0,9,  -999.0,-999.0000,-999.000,  -999.0,-999.000
   31WTTUNES_1,  P17C,    84,  1,     22,     22,2,19910629,0352,  2.3500,-135.0017, 4411,   1614.8,   2.8277,  34.6161,2,  34.6173,2,     89.7,2,  2.7122,     88.6,2,   132.54,2,    40.77,3,     0.00,2,     2.83,2, -999.000,9, -999.000,9, -999.000,9,-999.0000,9,  -999.00,9,   -999.0,9,  -999.00,9,   -999.0,9,   -999.0,9,  -999.0,-999.0000,-999.000,  -999.0,-999.000
   31WTTUNES_1,  P17C,    84,  1,     23,     23,2,19910629,0352,  2.3500,-135.0017, 4411,   1817.9,   2.5576,  34.6283,2,  34.6287,2,     97.1,2,  2.4284,     94.8,2,   139.02,2,    40.34,3,     0.00,2,     2.79,2, -999.000,9, -999.000,9, -999.000,9,-999.0000,9,  -999.00,9,   -999.0,9,  -999.00,9,   -999.0,9,   -999.0,9,  -999.0,-999.0000,-999.000,  -999.0,-999.000
   31WTTUNES_1,  P17C,    84,  1,     24,     24,2,19910629,0352,  2.3500,-135.0017, 4411,   2024.0,   2.2980,  34.6405,2,  34.6411,2,    103.3,2,  2.1549,    102.0,2,   144.35,2,    40.07,3,     0.00,2,     2.75,2, -999.000,9, -999.000,9, -999.000,9,-999.0000,9,  -999.00,9,   -999.0,9,  -999.00,9,   -999.0,9,   -999.0,9,  -999.0,-999.0000,-999.000,  -999.0,-999.000
   31WTTUNES_1,  P17C,    84,  1,     25,     25,2,19910629,0352,  2.3500,-135.0017, 4411,   2224.8,   2.0437,  34.6544,2,  34.6544,2,    111.6,2,  1.8873,    111.2,2,   150.05,2,    39.44,3,     0.00,2,     2.70,2, -999.000,9, -999.000,9, -999.000,9,-999.0000,9,  -999.00,9,   -999.0,9,  -999.00,9,   -999.0,9,   -999.0,9,  -999.0,-999.0000,-999.000,  -999.0,-999.000
   31WTTUNES_1,  P17C,    84,  1,     26,     26,2,19910629,0352,  2.3500,-135.0017, 4411,   2430.7,   1.8474,  34.6650,2,  34.6638,2,    119.8,2,  1.6761,    120.0,2,   153.45,2,    38.90,3,     0.00,2,     2.63,2, -999.000,9, -999.000,9, -999.000,9,-999.0000,9,  -999.00,9,   -999.0,9,  -999.00,9,   -999.0,9,   -999.0,9,  -999.0,-999.0000,-999.000,  -999.0,-999.000
   31WTTUNES_1,  P17C,    84,  1,     27,     27,2,19910629,0352,  2.3500,-135.0017, 4411,   2636.8,   1.7811,  34.6698,2,  34.6682,2,    123.2,2,  1.5924,    123.1,2,   153.77,2,    38.59,3,     0.00,2,     2.61,2, -999.000,9, -999.000,9, -999.000,9,-999.0000,9,  -999.00,9,   -999.0,9,  -999.00,9,   -999.0,9,   -999.0,9,  -999.0,-999.0000,-999.000,  -999.0,-999.000
   31WTTUNES_1,  P17C,    84,  1,     28,     28,2,19910629,0352,  2.3500,-135.0017, 4411,   2833.3,   1.7308,  34.6725,2,  34.6713,2,    127.3,2,  1.5249,    127.6,2,   153.71,2,    38.17,3,     0.00,2,     2.59,2, -999.000,9, -999.000,9, -999.000,9,-999.0000,9,  -999.00,9,   -999.0,9,  -999.00,9,   -999.0,9,   -999.0,9,  -999.0,-999.0000,-999.000,  -999.0,-999.000
   31WTTUNES_1,  P17C,    84,  1,     29,     29,2,19910629,0352,  2.3500,-135.0017, 4411,   3037.3,   1.6371,  34.6777,2,  34.6758,2,    134.2,2,  1.4137,    135.0,2,   152.31,2,    37.90,3,     0.00,2,     2.55,2, -999.000,9, -999.000,9, -999.000,9,-999.0000,9,  -999.00,9,   -999.0,9,  -999.00,9,   -999.0,9,   -999.0,9,  -999.0,-999.0000,-999.000,  -999.0,-999.000
   31WTTUNES_1,  P17C,    84,  1,     30,     30,2,19910629,0352,  2.3500,-135.0017, 4411,   3242.1,   1.5419,  34.6836,2,  34.6823,2,    140.4,2,  1.3006,    141.5,2,   153.59,2,    37.43,3,     0.00,2,     2.52,2, -999.000,9, -999.000,9, -999.000,9,-999.0000,9,  -999.00,9,   -999.0,9,  -999.00,9,   -999.0,9,   -999.0,9,  -999.0,-999.0000,-999.000,  -999.0,-999.000
   31WTTUNES_1,  P17C,    84,  1,     31,     31,2,19910629,0352,  2.3500,-135.0017, 4411,   3451.4,   1.4595,  34.6888,2,  34.6872,2,    147.6,2,  1.1993,    147.6,2,   153.73,2,    37.01,3,     0.00,2,     2.48,2, -999.000,9, -999.000,9, -999.000,9,-999.0000,9,  -999.00,9,   -999.0,9,  -999.00,9,   -999.0,9,   -999.0,9,  -999.0,-999.0000,-999.000,  -999.0,-999.000
   31WTTUNES_1,  P17C,    84,  1,     32,     32,2,19910629,0352,  2.3500,-135.0017, 4411,   3655.2,   1.4207,  34.6922,2,  34.6903,2,    153.9,2,  1.1405,    156.0,2,   150.79,2,    36.43,3,     0.00,2,     2.43,2, -999.000,9, -999.000,9, -999.000,9,-999.0000,9,  -999.00,9,   -999.0,9,  -999.00,9,   -999.0,9,   -999.0,9,  -999.0,-999.0000,-999.000,  -999.0,-999.000
   31WTTUNES_1,  P17C,    84,  1,     33,     33,2,19910629,0352,  2.3500,-135.0017, 4411,   3869.0,   1.4161,  34.6946,2,  34.6913,2,    156.4,2,  1.1135,    158.8,2,   150.35,2,    36.38,3,     0.00,2,     2.43,2, -999.000,9, -999.000,9, -999.000,9,-999.0000,9,  -999.00,9,   -999.0,9,  -999.00,9,   -999.0,9,   -999.0,9,  -999.0,-999.0000,-999.000,  -999.0,-999.000
   31WTTUNES_1,  P17C,    84,  1,     34,     34,2,19910629,0352,  2.3500,-135.0017, 4411,   4070.6,   1.4146,  34.6956,2,  34.6926,2,    160.4,2,  1.0903,    160.4,2,   147.80,2,    35.97,3,     0.00,2,     2.39,2, -999.000,9, -999.000,9, -999.000,9,-999.0000,9,  -999.00,9,   -999.0,9,  -999.00,9,   -999.0,9,   -999.0,9,  -999.0,-999.0000,-999.000,  -999.0,-999.000
   31WTTUNES_1,  P17C,    84,  1,     35,     35,2,19910629,0352,  2.3500,-135.0017, 4411,   4288.0,   1.4296,  34.6952,2,  34.6928,2,    161.9,2,  1.0808,    161.3,2,   147.55,2,    35.97,3,     0.00,2,     2.40,2, -999.000,9, -999.000,9, -999.000,9,-999.0000,9,  -999.00,9,   -999.0,9,  -999.00,9,   -999.0,9,   -999.0,9,  -999.0,-999.0000,-999.000,  -999.0,-999.000
   31WTTUNES_1,  P17C,    84,  1,     36,     36,2,19910629,0352,  2.3500,-135.0017, 4411,   4481.9,   1.4514,  34.6938,2,  34.6932,2,   -999.0,9,  1.0800,    162.0,2,   147.49,2,    35.97,3,     0.00,2,     2.39,2, -999.000,9, -999.000,9, -999.000,9,-999.0000,9,  -999.00,9,   -999.0,9,  -999.00,9,   -999.0,9,   -999.0,9,  -999.0,-999.0000,-999.000,  -999.0,-999.000
   31WTTUNES_1,  P17C,    85,  1,     71,     71,9,19910629,0835,  2.1700,-135.0017, 4453,      2.1,  27.8714,  34.7249,2,-999.0000,9,   -999.0,9, 27.8709,   -999.0,9,  -999.00,9,  -999.00,9,  -999.00,9,  -999.00,9, -999.000,9, -999.000,9, -999.000,9,-999.0000,9,  -999.00,9,   -999.0,9,  -999.00,9,   -999.0,9,   -999.0,9,  -999.0,-999.0000,-999.000,  -999.0,-999.000
   31WTTUNES_1,  P17C,    85,  1,     61,     61,2,19910629,0835,  2.1700,-135.0017, 4453,     35.4,  27.7894,  34.7510,2,  34.7486,2,   -999.0,9, 27.7811,   -999.0,9,  -999.00,9,  -999.00,9,  -999.00,9,  -999.00,9, -999.000,9, -999.000,9, -999.000,9,-999.0000,9,  -999.00,9,   -999.0,9,  -999.00,9,   -999.0,9,   -999.0,9,  -999.0,-999.0000,-999.000,  -999.0,-999.000
   31WTTUNES_1,  P17C,    85,  1,     62,     62,2,19910629,0835,  2.1700,-135.0017, 4453,    208.3,  12.1610,  34.8471,2,  34.8446,2,   -999.0,9, 12.1336,   -999.0,9,  -999.00,9,  -999.00,9,  -999.00,9,  -999.00,9, -999.000,9, -999.000,9, -999.000,9,-999.0000,9,  -999.00,9,   -999.0,9,  -999.00,9,   -999.0,9,   -999.0,9,  -999.0,-999.0000,-999.000,  -999.0,-999.000
   31WTTUNES_1,  P17C,    85,  1,     63,     63,3,19910629,0835,  2.1700,-135.0017, 4453,    413.6,   9.7256,  34.7012,2,  34.7938,4,   -999.0,9,  9.6780,   -999.0,9,  -999.00,9,  -999.00,9,  -999.00,9,  -999.00,9, -999.000,9, -999.000,9, -999.000,9,-999.0000,9,  -999.00,9,   -999.0,9,  -999.00,9,   -999.0,9,   -999.0,9,  -999.0,-999.0000,-999.000,  -999.0,-999.000
   31WTTUNES_1,  P17C,    85,  1,     64,     64,2,19910629,0835,  2.1700,-135.0017, 4453,    613.7,   6.8516,  34.5762,2,  34.5741,2,   -999.0,9,  6.7935,   -999.0,9,  -999.00,9,  -999.00,9,  -999.00,9,  -999.00,9, -999.000,9, -999.000,9, -999.000,9,-999.0000,9,  -999.00,9,   -999.0,9,  -999.00,9,   -999.0,9,   -999.0,9,  -999.0,-999.0000,-999.000,  -999.0,-999.000
   31WTTUNES_1,  P17C,    85,  1,     65,     65,2,19910629,0835,  2.1700,-135.0017, 4453,    819.5,   5.3698,  34.5482,2,  34.5482,2,   -999.0,9,  5.3002,   -999.0,9,  -999.00,9,  -999.00,9,  -999.00,9,  -999.00,9, -999.000,9, -999.000,9, -999.000,9,-999.0000,9,  -999.00,9,   -999.0,9,  -999.00,9,   -999.0,9,   -999.0,9,  -999.0,-999.0000,-999.000,  -999.0,-999.000
   31WTTUNES_1,  P17C,    85,  1,     66,     66,2,19910629,0835,  2.1700,-135.0017, 4453,   1027.0,   4.5614,  34.5602,2,  34.5592,2,   -999.0,9,  4.4790,   -999.0,9,  -999.00,9,  -999.00,9,  -999.00,9,  -999.00,9, -999.000,9, -999.000,9, -999.000,9,-999.0000,9,  -999.00,9,   -999.0,9,  -999.00,9,   -999.0,9,   -999.0,9,  -999.0,-999.0000,-999.000,  -999.0,-999.000
   31WTTUNES_1,  P17C,    85,  1,     67,     67,2,19910629,0835,  2.1700,-135.0017, 4453,   2008.4,   2.3283,  34.6397,2,  34.6405,2,   -999.0,9,  2.1862,   -999.0,9,  -999.00,9,  -999.00,9,  -999.00,9,  -999.00,9, -999.000,9, -999.000,9, -999.000,9,-999.0000,9,  -999.00,9,   -999.0,9,  -999.00,9,   -999.0,9,   -999.0,9,  -999.0,-999.0000,-999.000,  -999.0,-999.000
   31WTTUNES_1,  P17C,    85,  1,     68,     68,9,19910629,0835,  2.1700,-135.0017, 4453,   3022.1,   1.6489,  34.6774,2,-999.0000,9,   -999.0,9,  1.4267,   -999.0,9,  -999.00,9,  -999.00,9,  -999.00,9,  -999.00,9, -999.000,9, -999.000,9, -999.000,9,-999.0000,9,  -999.00,9,   -999.0,9,  -999.00,9,   -999.0,9,   -999.0,9,  -999.0,-999.0000,-999.000,  -999.0,-999.000
   31WTTUNES_1,  P17C,    85,  1,     69,     69,3,19910629,0835,  2.1700,-135.0017, 4453,   4042.5,   1.4121,  34.6938,2,  34.7510,4,   -999.0,9,  1.0910,   -999.0,9,  -999.00,9,  -999.00,9,  -999.00,9,  -999.00,9, -999.000,9, -999.000,9, -999.000,9,-999.0000,9,  -999.00,9,   -999.0,9,  -999.00,9,   -999.0,9,   -999.0,9,  -999.0,-999.0000,-999.000,  -999.0,-999.000
   31WTTUNES_1,  P17C,    85,  1,     70,     70,2,19910629,0835,  2.1700,-135.0017, 4453,   4507.9,   1.4501,  34.6939,2,  34.6944,2,   -999.0,9,  1.0757,   -999.0,9,  -999.00,9,  -999.00,9,  -999.00,9,  -999.00,9, -999.000,9, -999.000,9, -999.000,9,-999.0000,9,  -999.00,9,   -999.0,9,  -999.00,9,   -999.0,9,   -999.0,9,  -999.0,-999.0000,-999.000,  -999.0,-999.000