BOTTLE,20220819CCHSIOAMB
EXPOCODE,SECT_ID,STNNBR,CASTNO,SAMPNO,BTLNBR,BTLNBR_FLAG_W,DATE,TIME,LATITUDE,LONGITUDE,DEPTH,CTDPRS,CTDTMP,CTDSAL,CTDSAL_FLAG_W,SALNTY,SALNTY_FLAG_W,CTDOXY,CTDOXY_FLAG_W,THETA,OXYGEN,OXYGEN_FLAG_W,SILCAT,SILCAT_FLAG_W,NITRAT,NITRAT_FLAG_W,NITRIT,NITRIT_FLAG_W,PHSPHT,PHSPHT_FLAG_W,CFC-11,CFC-11_FLAG_W,CFC-12,CFC-12_FLAG_W,TRITUM,TRITUM_FLAG_W,HELIUM,HELIUM_FLAG_W,DELHE3,DELHE3_FLAG_W,DELC14,DELC14_FLAG_W,DELC13,DELC13_FLAG_W,TCARBN,TCARBN_FLAG_W,ALKALI,ALKALI_FLAG_W,C14ERR,HELIER,DELHER,C13ERR,TRITER
,,,,,,,,,,,,DBAR,ITS-90,PSS-78,,PSS-78,,UMOL/KG,,DEG C,UMOL/KG,,UMOL/KG,,UMOL/KG,,UMOL/KG,,UMOL/KG,,PMOL/KG,,PMOL/KG,,TU,,NMOL/KG,,PERCNT,,/MILLE,,/MILLE,,UMOL/KG,,UMOL/KG,,/MILLE,NMOL/KG,PERCNT,/MILLE,TU
   31WTTUNES_1,  P17C,    92,  1,      1,      1,2,19910630,1444,  0.9900,-135.0000, 4260,      0.2,  27.2799,  35.0376,2,  35.0429,2,    199.6,3, 27.2798,    201.1,2,     2.84,2,     3.80,2,     0.30,2,     0.45,2,    1.650,2,    0.933,2, -999.000,9,-999.0000,9,  -999.00,9,     81.3,2,     1.19,2,   1997.3,2,   2306.9,2,     5.9,-999.0000,-999.000,  -999.0,-999.000
   31WTTUNES_1,  P17C,    92,  1,      2,      2,2,19910630,1444,  0.9900,-135.0000, 4260,     57.5,  26.9318,  35.0370,2,  35.0417,2,    192.9,2, 26.9186,    186.9,2,     2.82,2,     4.60,2,     0.42,2,     0.51,2,    1.618,2,    0.916,2, -999.000,9,-999.0000,9,  -999.00,9,   -999.0,9,  -999.00,9,   2006.9,2,   2310.3,2,  -999.0,-999.0000,-999.000,  -999.0,-999.000
   31WTTUNES_1,  P17C,    92,  1,      3,      3,2,19910630,1444,  0.9900,-135.0000, 4260,     78.1,  24.2151,  34.9280,2,  34.9311,2,    144.8,2, 24.1986,    139.7,2,     5.22,2,     8.95,2,     0.56,2,     0.73,2,    1.557,2,    0.876,2, -999.000,9,-999.0000,9,  -999.00,9,     88.5,2,     0.82,2,   2044.2,2,   -999.0,9,     4.3,-999.0000,-999.000,  -999.0,-999.000
   31WTTUNES_1,  P17C,    92,  1,      4,      4,2,19910630,1444,  0.9900,-135.0000, 4260,     92.6,  21.3428,  34.8931,2,  34.8891,2,    125.6,2, 21.3249,    128.0,2,     7.44,2,    10.75,2,     0.08,2,     0.82,2, -999.000,5, -999.000,5, -999.000,9,-999.0000,9,  -999.00,9,     96.6,2,     0.66,2,   2063.3,2,   -999.0,9,     6.0,-999.0000,-999.000,  -999.0,-999.000
   31WTTUNES_1,  P17C,    92,  1,      5,      5,2,19910630,1444,  0.9900,-135.0000, 4260,    103.1,  20.9468,  34.8836,2,  34.8778,2,    126.1,2, 20.9271,    126.7,2,     8.17,2,    11.26,2,     0.06,2,     0.85,2,    1.477,2,    0.818,2, -999.000,9,-999.0000,9,  -999.00,9,     95.1,2,     0.51,3,   2069.3,2,   2292.4,2,     6.0,-999.0000,-999.000,  -999.0,-999.000
   31WTTUNES_1,  P17C,    92,  1,      6,      6,2,19910630,1444,  0.9900,-135.0000, 4260,    111.1,  19.2947,  34.8608,2,  34.8474,2,    124.3,2, 19.2747,    126.7,2,     9.83,2,    12.61,2,     0.04,2,     0.94,2,    1.417,2,    0.767,2, -999.000,9,-999.0000,9,  -999.00,9,     91.1,2,     0.60,2,   2082.9,2,   -999.0,9,     5.7,-999.0000,-999.000,  -999.0,-999.000
   31WTTUNES_1,  P17C,    92,  1,      7,      7,2,19910630,1444,  0.9900,-135.0000, 4260,    123.6,  17.5838,  34.7706,2,  34.7791,2,    122.5,2, 17.5630,    123.0,2,    12.06,2,    14.18,2,     0.03,2,     1.05,2,    1.312,2,    0.751,2, -999.000,9,-999.0000,9,  -999.00,9,     70.2,2,     0.57,2,   2099.6,2,   -999.0,9,     5.7,-999.0000,-999.000,  -999.0,-999.000
   31WTTUNES_1,  P17C,    92,  1,      8,      8,2,19910630,1444,  0.9900,-135.0000, 4260,    133.0,  15.4800,  34.7938,2,  34.7929,2,    124.9,2, 15.4595,    128.6,2,    15.58,2,    16.10,2,     0.01,2,     1.18,2,    1.180,2,    0.641,2, -999.000,9,-999.0000,9,  -999.00,9,     38.8,2,     0.59,2,   2116.7,2,   -999.0,9,     5.3,-999.0000,-999.000,  -999.0,-999.000
   31WTTUNES_1,  P17C,    92,  1,      9,      9,2,19910630,1444,  0.9900,-135.0000, 4260,    143.8,  14.7742,  34.7564,2,  34.7534,2,    121.9,2, 14.7527,    125.6,2,    17.43,2,    17.48,2,     0.01,2,     1.27,2,    1.091,2,    0.587,2, -999.000,9,-999.0000,9,  -999.00,9,     39.6,2,     0.54,2,   2126.6,2,   -999.0,9,     5.6,-999.0000,-999.000,  -999.0,-999.000
   31WTTUNES_1,  P17C,    92,  1,     10,     10,2,19910630,1444,  0.9900,-135.0000, 4260,    154.3,  13.2185,  34.7577,2,  34.7514,2,    113.9,2, 13.1971,    118.1,2,    20.78,2,    20.27,2,     0.01,2,     1.46,2,    0.865,2,    0.463,2, -999.000,9,-999.0000,9,  -999.00,9,     15.3,2,     0.47,2,   2153.2,2,   -999.0,9,     5.3,-999.0000,-999.000,  -999.0,-999.000
   31WTTUNES_1,  P17C,    92,  1,     11,     11,2,19910630,1444,  0.9900,-135.0000, 4260,    198.9,  12.1808,  34.8550,2,  34.8529,2,     78.7,2, 12.1546,     78.5,2,    22.62,2,    26.07,2,     0.01,2,     1.85,2,    0.451,2,    0.251,2, -999.000,9,-999.0000,9,  -999.00,9,    -44.9,2,     0.39,2,   2193.5,2,   -999.0,9,     5.6,-999.0000,-999.000,  -999.0,-999.000
   31WTTUNES_1,  P17C,    92,  1,     12,     12,2,19910630,1444,  0.9900,-135.0000, 4260,    250.6,  11.7579,  34.8315,2,  34.8325,2,     39.8,2, 11.7256,     37.0,2,    26.71,2,    30.94,2,     0.01,2,     2.17,2,    0.258,2,    0.150,2, -999.000,9,-999.0000,9,  -999.00,9,    -42.2,2,     0.15,2,   2225.7,2,   -999.0,9,     4.6,-999.0000,-999.000,  -999.0,-999.000
   31WTTUNES_1,  P17C,    92,  1,     13,     13,2,19910630,1444,  0.9900,-135.0000, 4260,    301.6,  11.4830,  34.8136,2,  34.8152,2,     39.8,2, 11.4446,     40.8,2,    26.88,2,    30.94,2,     0.00,2,     2.17,2,    0.237,2,    0.137,2, -999.000,9,-999.0000,9,  -999.00,9,    -36.9,2,     0.14,2,   2225.1,2,   2304.3,2,     5.0,-999.0000,-999.000,  -999.0,-999.000
   31WTTUNES_1,  P17C,    92,  1,     14,     14,2,19910630,1444,  0.9900,-135.0000, 4260,    365.5,  10.1014,  34.7221,2,  34.7212,2,     27.0,2, 10.0585,     40.2,2,    32.47,2,    33.51,2,     0.00,2,     2.35,2,    0.119,2,    0.075,2, -999.000,9,-999.0000,9,  -999.00,9,    -75.2,2,     0.14,2,   2241.0,2,   -999.0,9,     5.5,-999.0000,-999.000,  -999.0,-999.000
   31WTTUNES_1,  P17C,    92,  1,     15,     15,2,19910630,1444,  0.9900,-135.0000, 4260,    409.8,   9.5666,  34.7079,2,  34.6964,2,     23.8,2,  9.5200,     23.7,2,    36.56,2,    36.42,2,     0.00,2,     2.53,2,    0.050,2,    0.034,2, -999.000,9,-999.0000,9,  -999.00,9,    -92.3,2,     0.09,2,   2257.4,2,   2309.3,2,     5.0,-999.0000,-999.000,  -999.0,-999.000
   31WTTUNES_1,  P17C,    92,  1,     16,     16,2,19910630,1444,  0.9900,-135.0000, 4260,    511.5,   7.9413,  34.6187,2,  34.6135,2,     42.2,2,  7.8890,     51.2,2,    42.90,2,    36.99,2,     0.00,2,     2.58,2,    0.019,2,    0.015,2, -999.000,9,-999.0000,9,  -999.00,9,   -107.8,2,     0.20,2,   2256.9,2,   -999.0,9,     4.8,-999.0000,-999.000,  -999.0,-999.000
   31WTTUNES_1,  P17C,    92,  1,     17,     17,2,19910630,1444,  0.9900,-135.0000, 4260,    600.7,   7.0567,  34.5818,2,  34.5813,2,     55.9,2,  6.9989,     56.9,2,    49.42,2,    38.08,2,     0.00,2,     2.70,2,    0.005,2,    0.008,2, -999.000,9,-999.0000,9,  -999.00,9,   -125.8,2,     0.38,2,   2264.3,2,   -999.0,9,     3.6,-999.0000,-999.000,  -999.0,-999.000
   31WTTUNES_1,  P17C,    92,  1,     18,     18,2,19910630,1444,  0.9900,-135.0000, 4260,    702.2,   6.3071,  34.5590,2,  34.5617,2,     62.5,2,  6.2431,     63.0,2,    58.00,2,    39.07,2,     0.00,2,     2.76,2,    0.000,2,    0.006,2, -999.000,9,-999.0000,9,  -999.00,9,   -999.0,9,  -999.00,9,   2273.9,2,   -999.0,9,  -999.0,-999.0000,-999.000,  -999.0,-999.000
   31WTTUNES_1,  P17C,    92,  1,     19,     19,2,19910630,1444,  0.9900,-135.0000, 4260,    805.1,   5.7274,  34.5501,2,  34.5509,2,     68.9,2,  5.6569,     63.8,2,    65.65,2,    39.18,2,     0.00,2,     2.78,2,    0.001,2,    0.006,2, -999.000,9,-999.0000,9,  -999.00,9,   -999.0,9,  -999.00,9,   2278.3,2,   -999.0,9,  -999.0,-999.0000,-999.000,  -999.0,-999.000
   31WTTUNES_1,  P17C,    92,  1,     20,     20,2,19910630,1444,  0.9900,-135.0000, 4260,    902.5,   5.1477,  34.5464,2,  34.5501,2,     77.8,2,  5.0721,     80.4,2,    73.30,2,    39.08,2,     0.00,2,     2.78,2,   -0.002,2,    0.003,2, -999.000,9,-999.0000,9,  -999.00,9,   -999.0,9,  -999.00,9,   2286.7,2,   -999.0,9,  -999.0,-999.0000,-999.000,  -999.0,-999.000
   31WTTUNES_1,  P17C,    92,  1,     21,     21,2,19910630,1444,  0.9900,-135.0000, 4260,   1004.9,   4.6090,  34.5537,2,  34.5564,2,     80.6,2,  4.5282,     79.9,2,    84.68,2,    39.56,2,     0.00,2,     2.83,2, -999.000,9, -999.000,9, -999.000,9,-999.0000,9,  -999.00,9,   -999.0,9,  -999.00,9,   2297.9,2,   2359.6,2,  -999.0,-999.0000,-999.000,  -999.0,-999.000
   31WTTUNES_1,  P17C,    92,  1,     22,     22,2,19910630,1444,  0.9900,-135.0000, 4260,   1215.2,   3.7265,  34.5794,2,  34.5813,2,     79.1,2,  3.6350,     79.4,2,   106.72,2,    40.14,2,     0.00,2,     2.88,2, -999.000,9, -999.000,9, -999.000,9,-999.0000,9,  -999.00,9,   -999.0,9,  -999.00,9,   2323.3,2,   -999.0,9,  -999.0,-999.0000,-999.000,  -999.0,-999.000
   31WTTUNES_1,  P17C,    92,  1,     23,     23,2,19910630,1444,  0.9900,-135.0000, 4260,   1415.8,   3.1739,  34.5973,2,  34.5978,2,     87.1,2,  3.0711,     88.2,2,   118.11,2,    39.68,2,     0.00,2,     2.83,2, -999.000,9, -999.000,9, -999.000,9,-999.0000,9,  -999.00,9,   -999.0,9,  -999.00,9,   2328.4,2,   -999.0,9,  -999.0,-999.0000,-999.000,  -999.0,-999.000
   31WTTUNES_1,  P17C,    92,  1,     24,     24,2,19910630,1444,  0.9900,-135.0000, 4260,   1615.4,   2.7352,  34.6169,2,  34.6187,2,     93.5,2,  2.6208,     94.1,2,   128.94,2,    39.42,2,     0.00,2,     2.80,2, -999.000,9, -999.000,9, -999.000,9,-999.0000,9,  -999.00,9,   -999.0,9,  -999.00,9,   2340.2,2,   -999.0,9,  -999.0,-999.0000,-999.000,  -999.0,-999.000
   31WTTUNES_1,  P17C,    92,  1,     25,     25,2,19910630,1444,  0.9900,-135.0000, 4260,   1819.0,   2.4504,  34.6300,2,  34.6316,2,    102.8,2,  2.3226,    102.4,2,   135.10,2,    39.11,2,     0.00,2,     2.75,2, -999.000,9, -999.000,9, -999.000,9,-999.0000,9,  -999.00,9,   -999.0,9,  -999.00,9,   2340.7,2,   -999.0,9,  -999.0,-999.0000,-999.000,  -999.0,-999.000
   31WTTUNES_1,  P17C,    92,  1,     26,     26,2,19910630,1444,  0.9900,-135.0000, 4260,   2022.6,   2.2085,  34.6420,2,  34.6442,2,    108.5,2,  2.0669,    107.5,2,   141.07,2,    38.80,2,     0.00,2,     2.73,2, -999.000,9, -999.000,9, -999.000,9,-999.0000,9,  -999.00,9,   -999.0,9,  -999.00,9,   2344.7,2,   -999.0,9,  -999.0,-999.0000,-999.000,  -999.0,-999.000
   31WTTUNES_1,  P17C,    92,  1,     27,     27,2,19910630,1444,  0.9900,-135.0000, 4260,   2223.0,   1.9687,  34.6555,2,  34.6570,2,    116.6,2,  1.8136,    121.5,3,   145.74,2,    38.19,2,     0.00,2,     2.68,2, -999.000,9, -999.000,9, -999.000,9,-999.0000,9,  -999.00,9,   -999.0,9,  -999.00,9,   2344.1,2,   -999.0,9,  -999.0,-999.0000,-999.000,  -999.0,-999.000
   31WTTUNES_1,  P17C,    92,  1,     28,     28,2,19910630,1444,  0.9900,-135.0000, 4260,   2429.9,   1.8508,  34.6645,2,  34.6641,2,    123.3,2,  1.6795,    121.9,2,   147.04,2,    37.67,2,     0.00,2,     2.63,2, -999.000,9, -999.000,9, -999.000,9,-999.0000,9,  -999.00,9,   -999.0,9,  -999.00,9,   2340.4,2,   -999.0,9,  -999.0,-999.0000,-999.000,  -999.0,-999.000
   31WTTUNES_1,  P17C,    92,  1,     29,     29,2,19910630,1444,  0.9900,-135.0000, 4260,   2635.5,   1.7718,  34.6708,2,  34.6694,2,    128.9,2,  1.5834,    128.2,2,   147.97,2,    37.47,2,     0.00,2,     2.60,2, -999.000,9, -999.000,9, -999.000,9,-999.0000,9,  -999.00,9,   -999.0,9,  -999.00,9,   2339.1,2,   -999.0,9,  -999.0,-999.0000,-999.000,  -999.0,-999.000
   31WTTUNES_1,  P17C,    92,  1,     30,     30,2,19910630,1444,  0.9900,-135.0000, 4260,   2836.9,   1.6909,  34.6740,2,  34.6737,2,    134.0,2,  1.4854,    134.2,2,   147.59,2,    37.07,2,     0.00,2,     2.57,2, -999.000,9, -999.000,9, -999.000,9,-999.0000,9,  -999.00,9,   -999.0,9,  -999.00,9,   2336.5,2,   -999.0,9,  -999.0,-999.0000,-999.000,  -999.0,-999.000
   31WTTUNES_1,  P17C,    92,  1,     31,     31,2,19910630,1444,  0.9900,-135.0000, 4260,   3033.9,   1.6449,  34.6752,2,  34.6777,2,    138.2,2,  1.4217,    136.7,2,   147.22,2,    36.81,2,     0.00,2,     2.55,2, -999.000,9, -999.000,9, -999.000,9,-999.0000,9,  -999.00,9,   -999.0,9,  -999.00,9,   2334.7,2,   -999.0,9,  -999.0,-999.0000,-999.000,  -999.0,-999.000
   31WTTUNES_1,  P17C,    92,  1,     32,     32,2,19910630,1444,  0.9900,-135.0000, 4260,   3293.1,   1.5660,  34.6837,2,  34.6810,2,    144.4,2,  1.3191,    144.0,2,   146.65,2,    36.36,2,     0.00,2,     2.51,2, -999.000,9, -999.000,9, -999.000,9,-999.0000,9,  -999.00,9,   -999.0,9,  -999.00,9,   2333.0,2,   -999.0,9,  -999.0,-999.0000,-999.000,  -999.0,-999.000
   31WTTUNES_1,  P17C,    92,  1,     33,     33,2,19910630,1444,  0.9900,-135.0000, 4260,   3547.5,   1.4760,  34.6897,2,  34.6889,2,    151.4,2,  1.2056,    152.0,2,   148.33,2,    36.05,2,     0.00,2,     2.47,2, -999.000,9, -999.000,9, -999.000,9,-999.0000,9,  -999.00,9,   -999.0,9,  -999.00,9,   2330.2,2,   2430.2,2,  -999.0,-999.0000,-999.000,  -999.0,-999.000
   31WTTUNES_1,  P17C,    92,  1,     34,     34,2,19910630,1444,  0.9900,-135.0000, 4260,   3807.1,   1.4111,  34.6936,2,  34.6928,2,    159.3,2,  1.1153,    158.8,2,   145.71,2,    35.45,2,     0.00,2,     2.43,2, -999.000,9, -999.000,9, -999.000,9,-999.0000,9,  -999.00,9,   -999.0,9,  -999.00,9,   2324.2,2,   -999.0,9,  -999.0,-999.0000,-999.000,  -999.0,-999.000
   31WTTUNES_1,  P17C,    92,  1,     35,     35,2,19910630,1444,  0.9900,-135.0000, 4260,   4058.4,   1.4261,  34.6946,2,  34.6930,2,    160.7,2,  1.1028,    160.8,2,   144.95,2,    35.40,2,     0.00,2,     2.42,2, -999.000,9, -999.000,9, -999.000,9,-999.0000,9,  -999.00,9,   -999.0,9,  -999.00,9,   2322.6,2,   -999.0,9,  -999.0,-999.0000,-999.000,  -999.0,-999.000
   31WTTUNES_1,  P17C,    92,  1,     36,     36,2,19910630,1444,  0.9900,-135.0000, 4260,   4317.8,   1.4430,  34.6922,2,  34.6924,2,   -999.0,9,  1.0905,    160.4,2,   144.58,2,    35.36,2,     0.00,2,     2.44,2, -999.000,9, -999.000,9, -999.000,9,-999.0000,9,  -999.00,9,   -999.0,9,  -999.00,9,   2322.5,2,   2433.9,2,  -999.0,-999.0000,-999.000,  -999.0,-999.000
   31WTTUNES_1,  P17C,    93,  1,     61,     61,2,19910630,1901,  0.8333,-134.9967, 4313,      2.6,  27.2625,  35.0899,2,  35.0937,2,   -999.0,9, 27.2619,    197.9,2,     2.92,2,     4.42,2,     0.29,2,     0.48,2, -999.000,9, -999.000,9, -999.000,9,-999.0000,9,  -999.00,9,   -999.0,9,  -999.00,9,   -999.0,9,   -999.0,9,  -999.0,-999.0000,-999.000,  -999.0,-999.000
   31WTTUNES_1,  P17C,    93,  1,     62,     62,2,19910630,1901,  0.8333,-134.9967, 4313,     56.0,  27.0546,  35.1000,2,  35.1036,2,   -999.0,9, 27.0417,   -999.0,9,  -999.00,9,  -999.00,9,  -999.00,9,  -999.00,9, -999.000,9, -999.000,9, -999.000,9,-999.0000,9,  -999.00,9,   -999.0,9,  -999.00,9,   -999.0,9,   -999.0,9,  -999.0,-999.0000,-999.000,  -999.0,-999.000
   31WTTUNES_1,  P17C,    93,  1,     63,     63,2,19910630,1901,  0.8333,-134.9967, 4313,    197.4,  12.4328,  34.8605,2,  34.8613,2,   -999.0,9, 12.4065,   -999.0,9,  -999.00,9,  -999.00,9,  -999.00,9,  -999.00,9, -999.000,9, -999.000,9, -999.000,9,-999.0000,9,  -999.00,9,   -999.0,9,  -999.00,9,   -999.0,9,   -999.0,9,  -999.0,-999.0000,-999.000,  -999.0,-999.000
   31WTTUNES_1,  P17C,    93,  1,     64,     64,2,19910630,1901,  0.8333,-134.9967, 4313,    212.8,  12.3838,  34.8704,2,  34.8719,2,   -999.0,9, 12.3555,   -999.0,9,  -999.00,9,  -999.00,9,  -999.00,9,  -999.00,9, -999.000,9, -999.000,9, -999.000,9,-999.0000,9,  -999.00,9,   -999.0,9,  -999.00,9,   -999.0,9,   -999.0,9,  -999.0,-999.0000,-999.000,  -999.0,-999.000
   31WTTUNES_1,  P17C,    93,  1,     65,     65,2,19910630,1901,  0.8333,-134.9967, 4313,    243.8,  12.1999,  34.8585,2,  34.8623,2,   -999.0,9, 12.1678,   -999.0,9,  -999.00,9,  -999.00,9,  -999.00,9,  -999.00,9, -999.000,9, -999.000,9, -999.000,9,-999.0000,9,  -999.00,9,   -999.0,9,  -999.00,9,   -999.0,9,   -999.0,9,  -999.0,-999.0000,-999.000,  -999.0,-999.000
   31WTTUNES_1,  P17C,    93,  1,     66,     66,2,19910630,1901,  0.8333,-134.9967, 4313,    820.1,   5.3378,  34.5458,2,  34.5500,2,   -999.0,9,  5.2684,   -999.0,9,  -999.00,9,  -999.00,9,  -999.00,9,  -999.00,9, -999.000,9, -999.000,9, -999.000,9,-999.0000,9,  -999.00,9,   -999.0,9,  -999.00,9,   -999.0,9,   -999.0,9,  -999.0,-999.0000,-999.000,  -999.0,-999.000
   31WTTUNES_1,  P17C,    93,  1,     67,     67,3,19910630,1901,  0.8333,-134.9967, 4313,    922.2,   4.9401,  34.5470,2,  34.5712,4,   -999.0,9,  4.8642,   -999.0,9,  -999.00,9,  -999.00,9,  -999.00,9,  -999.00,9, -999.000,9, -999.000,9, -999.000,9,-999.0000,9,  -999.00,9,   -999.0,9,  -999.00,9,   -999.0,9,   -999.0,9,  -999.0,-999.0000,-999.000,  -999.0,-999.000
   31WTTUNES_1,  P17C,    93,  1,     68,     68,2,19910630,1901,  0.8333,-134.9967, 4313,   2040.0,   2.1245,  34.6465,2,  34.6498,2,   -999.0,9,  1.9827,   -999.0,9,  -999.00,9,  -999.00,9,  -999.00,9,  -999.00,9, -999.000,9, -999.000,9, -999.000,9,-999.0000,9,  -999.00,9,   -999.0,9,  -999.00,9,   -999.0,9,   -999.0,9,  -999.0,-999.0000,-999.000,  -999.0,-999.000
   31WTTUNES_1,  P17C,    93,  1,     69,     69,2,19910630,1901,  0.8333,-134.9967, 4313,   3057.9,   1.6299,  34.6758,2,  34.6754,2,   -999.0,9,  1.4047,   -999.0,9,  -999.00,9,  -999.00,9,  -999.00,9,  -999.00,9, -999.000,9, -999.000,9, -999.000,9,-999.0000,9,  -999.00,9,   -999.0,9,  -999.00,9,   -999.0,9,   -999.0,9,  -999.0,-999.0000,-999.000,  -999.0,-999.000
   31WTTUNES_1,  P17C,    93,  1,     70,     70,2,19910630,1901,  0.8333,-134.9967, 4313,   4095.2,   1.4221,  34.6925,2,  34.6939,2,   -999.0,9,  1.0950,   -999.0,9,  -999.00,9,  -999.00,9,  -999.00,9,  -999.00,9, -999.000,9, -999.000,9, -999.000,9,-999.0000,9,  -999.00,9,   -999.0,9,  -999.00,9,   -999.0,9,   -999.0,9,  -999.0,-999.0000,-999.000,  -999.0,-999.000
   31WTTUNES_1,  P17C,    93,  1,     71,     71,2,19910630,1901,  0.8333,-134.9967, 4313,   4380.7,   1.4401,  34.6946,2,  34.6946,2,   -999.0,9,  1.0806,   -999.0,9,  -999.00,9,  -999.00,9,  -999.00,9,  -999.00,9, -999.000,9, -999.000,9, -999.000,9,-999.0000,9,  -999.00,9,   -999.0,9,  -999.00,9,   -999.0,9,   -999.0,9,  -999.0,-999.0000,-999.000,  -999.0,-999.000