BOTTLE,20220819CCHSIOAMB
EXPOCODE,SECT_ID,STNNBR,CASTNO,SAMPNO,BTLNBR,BTLNBR_FLAG_W,DATE,TIME,LATITUDE,LONGITUDE,DEPTH,CTDPRS,CTDTMP,CTDSAL,CTDSAL_FLAG_W,SALNTY,SALNTY_FLAG_W,CTDOXY,CTDOXY_FLAG_W,THETA,OXYGEN,OXYGEN_FLAG_W,SILCAT,SILCAT_FLAG_W,NITRAT,NITRAT_FLAG_W,NITRIT,NITRIT_FLAG_W,PHSPHT,PHSPHT_FLAG_W,CFC-11,CFC-11_FLAG_W,CFC-12,CFC-12_FLAG_W,TRITUM,TRITUM_FLAG_W,HELIUM,HELIUM_FLAG_W,DELHE3,DELHE3_FLAG_W,DELC14,DELC14_FLAG_W,DELC13,DELC13_FLAG_W,TCARBN,TCARBN_FLAG_W,ALKALI,ALKALI_FLAG_W,C14ERR,HELIER,DELHER,C13ERR,TRITER
,,,,,,,,,,,,DBAR,ITS-90,PSS-78,,PSS-78,,UMOL/KG,,DEG C,UMOL/KG,,UMOL/KG,,UMOL/KG,,UMOL/KG,,UMOL/KG,,PMOL/KG,,PMOL/KG,,TU,,NMOL/KG,,PERCNT,,/MILLE,,/MILLE,,UMOL/KG,,UMOL/KG,,/MILLE,NMOL/KG,PERCNT,/MILLE,TU
   31WTTUNES_1,  P17C,     3,  1,     15,     15,2,19910602,1631, 35.9800,-121.9933, 1408,      0.2,  11.5887,  33.1532,2,  33.1550,2,   -999.0,9, 11.5887,    280.2,2,     7.70,2,     7.26,2,     0.16,2,     0.82,2, -999.000,9, -999.000,9, -999.000,9,-999.0000,9,  -999.00,9,   -999.0,9,  -999.00,9,   -999.0,9,   -999.0,9,  -999.0,-999.0000,-999.000,  -999.0,-999.000
   31WTTUNES_1,  P17C,     3,  1,     16,     16,2,19910602,1631, 35.9800,-121.9933, 1408,     23.9,  11.1629,  33.1988,2,  33.2059,2,    276.5,2, 11.1600,    270.1,2,     9.88,2,     9.20,2,     0.17,2,     0.95,2, -999.000,9, -999.000,9, -999.000,9,-999.0000,9,  -999.00,9,   -999.0,9,  -999.00,9,   -999.0,9,   -999.0,9,  -999.0,-999.0000,-999.000,  -999.0,-999.000
   31WTTUNES_1,  P17C,     3,  1,     17,     17,2,19910602,1631, 35.9800,-121.9933, 1408,     49.6,  10.3360,  33.2631,2,  33.2597,2,    243.9,2, 10.3303,    248.4,2,    13.07,2,    12.56,2,     0.23,2,     1.19,2, -999.000,9, -999.000,9, -999.000,9,-999.0000,9,  -999.00,9,   -999.0,9,  -999.00,9,   -999.0,9,   -999.0,9,  -999.0,-999.0000,-999.000,  -999.0,-999.000
   31WTTUNES_1,  P17C,     3,  1,     18,     18,2,19910602,1631, 35.9800,-121.9933, 1408,     74.2,   9.6922,  33.2998,2,  33.3031,2,    227.8,2,  9.6840,    226.3,2,    15.41,2,    14.66,2,     0.17,2,     1.35,2, -999.000,9, -999.000,9, -999.000,9,-999.0000,9,  -999.00,9,   -999.0,9,  -999.00,9,   -999.0,9,   -999.0,9,  -999.0,-999.0000,-999.000,  -999.0,-999.000
   31WTTUNES_1,  P17C,     3,  1,     19,     19,2,19910602,1631, 35.9800,-121.9933, 1408,     99.2,   9.1205,  33.5308,2,  33.5174,2,    194.1,2,  9.1099,    183.1,2,    21.96,2,    20.29,2,     0.25,2,     1.64,2, -999.000,9, -999.000,9, -999.000,9,-999.0000,9,  -999.00,9,   -999.0,9,  -999.00,9,   -999.0,9,   -999.0,9,  -999.0,-999.0000,-999.000,  -999.0,-999.000
   31WTTUNES_1,  P17C,     3,  1,     20,     20,2,19910602,1631, 35.9800,-121.9933, 1408,    123.5,   8.7523,  33.7472,2,  33.7483,2,    137.1,2,  8.7394,    138.3,2,    27.82,2,    25.06,2,     0.03,2,     1.86,2, -999.000,9, -999.000,9, -999.000,9,-999.0000,9,  -999.00,9,   -999.0,9,  -999.00,9,   -999.0,9,   -999.0,9,  -999.0,-999.0000,-999.000,  -999.0,-999.000
   31WTTUNES_1,  P17C,     3,  1,     21,     21,2,19910602,1631, 35.9800,-121.9933, 1408,    148.9,   8.5713,  33.8950,2,  33.8951,2,    113.4,2,  8.5559,    119.0,2,    32.65,2,    27.14,2,     0.02,2,     2.00,2, -999.000,9, -999.000,9, -999.000,9,-999.0000,9,  -999.00,9,   -999.0,9,  -999.00,9,   -999.0,9,   -999.0,9,  -999.0,-999.0000,-999.000,  -999.0,-999.000
   31WTTUNES_1,  P17C,     3,  1,     22,     22,2,19910602,1631, 35.9800,-121.9933, 1408,    174.9,   8.4892,  33.9902,2,  33.9893,2,    105.9,2,  8.4711,    105.4,2,    36.14,2,    28.31,2,     0.02,2,     2.10,2, -999.000,9, -999.000,9, -999.000,9,-999.0000,9,  -999.00,9,   -999.0,9,  -999.00,9,   -999.0,9,   -999.0,9,  -999.0,-999.0000,-999.000,  -999.0,-999.000
   31WTTUNES_1,  P17C,     3,  1,     23,     23,2,19910602,1631, 35.9800,-121.9933, 1408,    200.4,   8.1239,  34.0088,2,  34.0107,2,    103.0,2,  8.1038,    105.4,2,    37.77,2,    29.30,2,     0.03,2,     2.12,2, -999.000,9, -999.000,9, -999.000,9,-999.0000,9,  -999.00,9,   -999.0,9,  -999.00,9,   -999.0,9,   -999.0,9,  -999.0,-999.0000,-999.000,  -999.0,-999.000
   31WTTUNES_1,  P17C,     3,  1,     24,     24,2,19910602,1631, 35.9800,-121.9933, 1408,    250.9,   7.6279,  34.0769,2,  34.0781,2,     76.8,2,  7.6034,     84.1,2,    46.44,2,    31.64,2,     0.02,2,     2.35,2, -999.000,9, -999.000,9, -999.000,9,-999.0000,9,  -999.00,9,   -999.0,9,  -999.00,9,   -999.0,9,   -999.0,9,  -999.0,-999.0000,-999.000,  -999.0,-999.000
   31WTTUNES_1,  P17C,     3,  1,     25,     25,2,19910602,1631, 35.9800,-121.9933, 1408,    301.9,   7.1499,  34.1314,2,  34.1329,2,     58.1,2,  7.1214,     60.9,2,    54.93,2,    34.11,2,     0.02,2,     2.57,2, -999.000,9, -999.000,9, -999.000,9,-999.0000,9,  -999.00,9,   -999.0,9,  -999.00,9,   -999.0,9,   -999.0,9,  -999.0,-999.0000,-999.000,  -999.0,-999.000
   31WTTUNES_1,  P17C,     3,  1,     26,     26,2,19910602,1631, 35.9800,-121.9933, 1408,    352.5,   6.5755,  34.1432,2,  34.1435,2,     45.3,2,  6.5437,     44.0,2,    63.57,2,    36.68,2,     0.04,2,     2.77,2, -999.000,9, -999.000,9, -999.000,9,-999.0000,9,  -999.00,9,   -999.0,9,  -999.00,9,   -999.0,9,   -999.0,9,  -999.0,-999.0000,-999.000,  -999.0,-999.000
   31WTTUNES_1,  P17C,     3,  1,     27,     27,2,19910602,1631, 35.9800,-121.9933, 1408,    406.6,   6.4032,  34.1663,2,  34.1674,2,     34.7,2,  6.3670,     36.3,2,    66.84,2,    37.71,2,     0.04,2,     2.84,2, -999.000,9, -999.000,9, -999.000,9,-999.0000,9,  -999.00,9,   -999.0,9,  -999.00,9,   -999.0,9,   -999.0,9,  -999.0,-999.0000,-999.000,  -999.0,-999.000
   31WTTUNES_1,  P17C,     3,  1,     28,     28,2,19910602,1631, 35.9800,-121.9933, 1408,    501.5,   5.7556,  34.2131,2,  34.2141,2,     21.9,2,  5.7129,     21.2,2,    79.46,2,    40.29,2,     0.04,2,     3.02,2, -999.000,9, -999.000,9, -999.000,9,-999.0000,9,  -999.00,9,   -999.0,9,  -999.00,9,   -999.0,9,   -999.0,9,  -999.0,-999.0000,-999.000,  -999.0,-999.000
   31WTTUNES_1,  P17C,     3,  1,     29,     29,2,19910602,1631, 35.9800,-121.9933, 1408,    604.1,   5.1449,  34.2738,2,  34.2757,2,     14.7,2,  5.0959,     13.1,2,    91.38,2,    42.17,2,     0.01,2,     3.13,2, -999.000,9, -999.000,9, -999.000,9,-999.0000,9,  -999.00,9,   -999.0,9,  -999.00,9,   -999.0,9,   -999.0,9,  -999.0,-999.0000,-999.000,  -999.0,-999.000
   31WTTUNES_1,  P17C,     3,  1,     30,     30,2,19910602,1631, 35.9800,-121.9933, 1408,    705.8,   4.8992,  34.3305,2,  34.3321,2,     12.6,2,  4.8426,     12.7,2,    97.45,2,    42.79,2,     0.01,2,     3.17,2, -999.000,9, -999.000,9, -999.000,9,-999.0000,9,  -999.00,9,   -999.0,9,  -999.00,9,   -999.0,9,   -999.0,9,  -999.0,-999.0000,-999.000,  -999.0,-999.000
   31WTTUNES_1,  P17C,     3,  1,     31,     31,2,19910602,1631, 35.9800,-121.9933, 1408,    808.8,   4.6919,  34.3868,2,  34.3887,2,     13.4,2,  4.6277,     14.6,2,   102.67,2,    43.31,2,     0.00,2,     3.20,2, -999.000,9, -999.000,9, -999.000,9,-999.0000,9,  -999.00,9,   -999.0,9,  -999.00,9,   -999.0,9,   -999.0,9,  -999.0,-999.0000,-999.000,  -999.0,-999.000
   31WTTUNES_1,  P17C,     3,  1,     32,     32,2,19910602,1631, 35.9800,-121.9933, 1408,    909.3,   4.2386,  34.4308,2,  34.4314,2,     17.7,2,  4.1689,     18.2,2,   111.88,2,    43.93,2,     0.00,2,     3.20,2, -999.000,9, -999.000,9, -999.000,9,-999.0000,9,  -999.00,9,   -999.0,9,  -999.00,9,   -999.0,9,   -999.0,9,  -999.0,-999.0000,-999.000,  -999.0,-999.000
   31WTTUNES_1,  P17C,     3,  1,     33,     33,2,19910602,1631, 35.9800,-121.9933, 1408,   1004.6,   3.9026,  34.4579,2,  34.4581,2,     22.2,2,  3.8274,     23.0,2,   118.91,2,    44.08,2,     0.01,2,     3.19,2, -999.000,9, -999.000,9, -999.000,9,-999.0000,9,  -999.00,9,   -999.0,9,  -999.00,9,   -999.0,9,   -999.0,9,  -999.0,-999.0000,-999.000,  -999.0,-999.000
   31WTTUNES_1,  P17C,     3,  1,     34,     34,2,19910602,1631, 35.9800,-121.9933, 1408,   1205.8,   3.5318,  34.4937,2,  34.4942,2,     31.2,2,  3.4430,     30.6,2,   126.92,2,    44.28,2,     0.01,2,     3.18,2, -999.000,9, -999.000,9, -999.000,9,-999.0000,9,  -999.00,9,   -999.0,9,  -999.00,9,   -999.0,9,   -999.0,9,  -999.0,-999.0000,-999.000,  -999.0,-999.000
   31WTTUNES_1,  P17C,     3,  1,     35,     35,2,19910602,1631, 35.9800,-121.9933, 1408,   1413.2,   3.1550,  34.5229,2,  34.5221,2,     42.3,2,  3.0528,     36.9,2,   137.57,2,    43.65,2,     0.04,2,     3.12,2, -999.000,9, -999.000,9, -999.000,9,-999.0000,9,  -999.00,9,   -999.0,9,  -999.00,9,   -999.0,9,   -999.0,9,  -999.0,-999.0000,-999.000,  -999.0,-999.000
   31WTTUNES_1,  P17C,     3,  1,     36,     36,9,19910602,1631, 35.9800,-121.9933, 1408,   1473.3,   2.9331,  34.5399,2,-999.0000,9,   -999.0,9,  2.8284,   -999.0,9,  -999.00,9,  -999.00,9,  -999.00,9,  -999.00,9, -999.000,9, -999.000,9, -999.000,9,-999.0000,9,  -999.00,9,   -999.0,9,  -999.00,9,   -999.0,9,   -999.0,9,  -999.0,-999.0000,-999.000,  -999.0,-999.000
   31WTTUNES_1,  P17C,     4,  1,      8,      8,2,19910602,2116, 35.7900,-122.2783, 2308,      1.4,  12.1795,  32.9918,2,  32.9938,2,   -999.0,9, 12.1793,    288.2,2,     4.62,2,     3.92,2,     0.11,2,     0.60,2,    3.447,2,    1.896,2, -999.000,9,-999.0000,9,  -999.00,9,   -999.0,9,  -999.00,9,   -999.0,9,   -999.0,9,  -999.0,-999.0000,-999.000,  -999.0,-999.000
   31WTTUNES_1,  P17C,     4,  1,      9,      9,2,19910602,2116, 35.7900,-122.2783, 2308,     24.9,  11.5412,  32.9922,2,  32.9978,2,    280.5,2, 11.5382,    278.7,2,     4.42,2,     4.85,2,     0.11,2,     0.68,2,    3.507,2,    1.913,2, -999.000,9,-999.0000,9,  -999.00,9,   -999.0,9,  -999.00,9,   -999.0,9,   -999.0,9,  -999.0,-999.0000,-999.000,  -999.0,-999.000
   31WTTUNES_1,  P17C,     4,  1,     10,     10,2,19910602,2116, 35.7900,-122.2783, 2308,     46.3,   9.6836,  33.0644,2,  33.0758,2,    234.9,2,  9.6785,    231.9,2,    12.00,2,    12.86,2,     0.09,2,     1.17,2,    3.511,2,    2.629,4, -999.000,9,-999.0000,9,  -999.00,9,   -999.0,9,  -999.00,9,   -999.0,9,   -999.0,9,  -999.0,-999.0000,-999.000,  -999.0,-999.000
   31WTTUNES_1,  P17C,     4,  1,     11,     11,2,19910602,2116, 35.7900,-122.2783, 2308,     76.7,   9.8648,  33.3923,2,  33.3826,2,    239.9,2,  9.8562,    247.8,2,    12.48,2,    11.84,2,     0.16,2,     1.20,2,    3.352,2,    8.259,4, -999.000,9,-999.0000,9,  -999.00,9,   -999.0,9,  -999.00,9,   -999.0,9,   -999.0,9,  -999.0,-999.0000,-999.000,  -999.0,-999.000
   31WTTUNES_1,  P17C,     4,  1,     12,     12,2,19910602,2116, 35.7900,-122.2783, 2308,    102.2,   8.5509,  33.4212,2,  33.4418,2,    193.0,2,  8.5405,    186.4,2,    21.61,2,    20.86,2,     0.07,2,     1.63,2,    3.002,2,    1.541,2, -999.000,9,-999.0000,9,  -999.00,9,   -999.0,9,  -999.00,9,   -999.0,9,   -999.0,9,  -999.0,-999.0000,-999.000,  -999.0,-999.000
   31WTTUNES_1,  P17C,     4,  1,     13,     13,2,19910602,2116, 35.7900,-122.2783, 2308,    128.1,   8.6207,  33.7038,2,  33.6976,2,    149.5,2,  8.6075,    146.0,2,    28.14,2,    24.56,2,     0.03,2,     1.84,2,    2.503,2,    1.274,2, -999.000,9,-999.0000,9,  -999.00,9,   -999.0,9,  -999.00,9,   -999.0,9,   -999.0,9,  -999.0,-999.0000,-999.000,  -999.0,-999.000
   31WTTUNES_1,  P17C,     4,  1,     14,     14,2,19910602,2116, 35.7900,-122.2783, 2308,    148.6,   8.2381,  33.7646,2,  33.7401,2,    137.1,2,  8.2231,    146.5,2,    30.00,2,    25.16,2,     0.03,2,     1.87,2, -999.000,5, -999.000,5, -999.000,9,-999.0000,9,  -999.00,9,   -999.0,9,  -999.00,9,   -999.0,9,   -999.0,9,  -999.0,-999.0000,-999.000,  -999.0,-999.000
   31WTTUNES_1,  P17C,     4,  1,     15,     15,2,19910602,2116, 35.7900,-122.2783, 2308,    174.2,   7.9309,  33.9059,2,  33.8968,2,    129.5,2,  7.9137,    135.1,2,    34.96,2,    27.05,2,     0.03,2,     1.96,2,    2.113,2,    1.068,2, -999.000,9,-999.0000,9,  -999.00,9,   -999.0,9,  -999.00,9,   -999.0,9,   -999.0,9,  -999.0,-999.0000,-999.000,  -999.0,-999.000
   31WTTUNES_1,  P17C,     4,  1,     16,     16,2,19910602,2116, 35.7900,-122.2783, 2308,    200.3,   7.7188,  33.9738,2,  33.9763,2,    120.6,2,  7.6993,    122.3,2,    40.10,2,    28.93,2,     0.04,2,     2.08,2,    1.717,2,    0.904,2, -999.000,9,-999.0000,9,  -999.00,9,   -999.0,9,  -999.00,9,   -999.0,9,   -999.0,9,  -999.0,-999.0000,-999.000,  -999.0,-999.000
   31WTTUNES_1,  P17C,     4,  1,     17,     17,2,19910602,2116, 35.7900,-122.2783, 2308,    298.0,   6.6473,  34.0495,2,  34.0512,2,     85.4,2,  6.6204,     77.1,2,    57.48,2,    34.58,2,     0.02,2,     2.53,2,    0.710,2,    0.342,2, -999.000,9,-999.0000,9,  -999.00,9,   -999.0,9,  -999.00,9,   -999.0,9,   -999.0,9,  -999.0,-999.0000,-999.000,  -999.0,-999.000
   31WTTUNES_1,  P17C,     4,  1,     18,     18,2,19910602,2116, 35.7900,-122.2783, 2308,    400.8,   6.0916,  34.1519,2,  34.1537,2,     40.4,2,  6.0568,     36.3,2,    72.77,2,    38.70,2,     0.02,2,     2.89,2,    0.240,2,    0.126,2, -999.000,9,-999.0000,9,  -999.00,9,   -999.0,9,  -999.00,9,   -999.0,9,   -999.0,9,  -999.0,-999.0000,-999.000,  -999.0,-999.000
   31WTTUNES_1,  P17C,     4,  1,     19,     19,2,19910602,2116, 35.7900,-122.2783, 2308,    499.0,   5.6809,  34.2272,2,  34.2276,2,     21.8,2,  5.6388,     20.8,2,    83.40,2,    40.79,2,     0.01,2,     3.05,2,    0.088,2,    0.043,2, -999.000,9,-999.0000,9,  -999.00,9,   -999.0,9,  -999.00,9,   -999.0,9,   -999.0,9,  -999.0,-999.0000,-999.000,  -999.0,-999.000
   31WTTUNES_1,  P17C,     4,  1,     20,     20,2,19910602,2116, 35.7900,-122.2783, 2308,    595.7,   5.1455,  34.2695,2,  34.2697,2,     17.1,2,  5.0972,     17.3,2,    94.19,2,    42.09,2,     0.01,2,     3.14,2,    0.049,2,    0.024,2, -999.000,9,-999.0000,9,  -999.00,9,   -999.0,9,  -999.00,9,   -999.0,9,   -999.0,9,  -999.0,-999.0000,-999.000,  -999.0,-999.000
   31WTTUNES_1,  P17C,     4,  1,     21,     21,2,19910602,2116, 35.7900,-122.2783, 2308,    697.7,   4.7501,  34.3297,2,  34.3326,2,     14.5,2,  4.6951,     15.3,2,   103.94,2,    43.19,2,     0.01,2,     3.20,2,    0.021,2,    0.017,2, -999.000,9,-999.0000,9,  -999.00,9,   -999.0,9,  -999.00,9,   -999.0,9,   -999.0,9,  -999.0,-999.0000,-999.000,  -999.0,-999.000
   31WTTUNES_1,  P17C,     4,  1,     22,     22,2,19910602,2116, 35.7900,-122.2783, 2308,    800.2,   4.4596,  34.3870,2,  34.3881,2,     15.4,2,  4.3976,     13.0,2,   111.10,2,    43.82,2,     0.01,2,     3.22,2,    0.036,2,    0.014,2, -999.000,9,-999.0000,9,  -999.00,9,   -999.0,9,  -999.00,9,   -999.0,9,   -999.0,9,  -999.0,-999.0000,-999.000,  -999.0,-999.000
   31WTTUNES_1,  P17C,     4,  1,     23,     23,2,19910602,2116, 35.7900,-122.2783, 2308,    898.5,   4.1261,  34.4255,2,  34.4242,2,     18.2,2,  4.0581,     17.2,2,   118.43,2,    44.03,2,     0.01,2,     3.21,2,    0.023,2,    0.013,2, -999.000,9,-999.0000,9,  -999.00,9,   -999.0,9,  -999.00,9,   -999.0,9,   -999.0,9,  -999.0,-999.0000,-999.000,  -999.0,-999.000
   31WTTUNES_1,  P17C,     4,  1,     24,     24,2,19910602,2116, 35.7900,-122.2783, 2308,    996.9,   3.8681,  34.4597,2,  34.4599,2,     22.7,2,  3.7937,     23.5,2,   124.03,2,    44.17,2,     0.02,2,     3.21,2,    0.019,2,    0.012,2, -999.000,9,-999.0000,9,  -999.00,9,   -999.0,9,  -999.00,9,   -999.0,9,   -999.0,9,  -999.0,-999.0000,-999.000,  -999.0,-999.000
   31WTTUNES_1,  P17C,     4,  1,     25,     25,2,19910602,2116, 35.7900,-122.2783, 2308,   1096.1,   3.5844,  34.4826,2,  34.4838,2,     27.9,2,  3.5043,     29.0,2,   131.00,2,    44.34,2,     0.01,2,     3.18,2,    0.019,2,    0.011,2, -999.000,9,-999.0000,9,  -999.00,9,   -999.0,9,  -999.00,9,   -999.0,9,   -999.0,9,  -999.0,-999.0000,-999.000,  -999.0,-999.000
   31WTTUNES_1,  P17C,     4,  1,     26,     26,2,19910602,2116, 35.7900,-122.2783, 2308,   1198.5,   3.3566,  34.5006,2,  34.5002,2,     31.9,2,  3.2700,     33.1,2,   136.25,2,    44.01,2,     0.01,2,     3.16,2,    0.013,2,    0.010,2, -999.000,9,-999.0000,9,  -999.00,9,   -999.0,9,  -999.00,9,   -999.0,9,   -999.0,9,  -999.0,-999.0000,-999.000,  -999.0,-999.000
   31WTTUNES_1,  P17C,     4,  1,     27,     27,2,19910602,2116, 35.7900,-122.2783, 2308,   1295.8,   3.1093,  34.5223,2,  34.5239,2,     36.9,2,  3.0172,     35.3,2,   142.02,2,    43.79,2,     0.01,2,     3.14,2,    0.008,2,    0.006,2, -999.000,9,-999.0000,9,  -999.00,9,   -999.0,9,  -999.00,9,   -999.0,9,   -999.0,9,  -999.0,-999.0000,-999.000,  -999.0,-999.000
   31WTTUNES_1,  P17C,     4,  1,     28,     28,2,19910602,2116, 35.7900,-122.2783, 2308,   1397.3,   2.9124,  34.5377,2,  34.5357,2,     42.0,2,  2.8140,     41.2,2,   146.23,2,    43.78,2,     0.01,2,     3.12,2,    0.007,2,    0.006,2, -999.000,9,-999.0000,9,  -999.00,9,   -999.0,9,  -999.00,9,   -999.0,9,   -999.0,9,  -999.0,-999.0000,-999.000,  -999.0,-999.000
   31WTTUNES_1,  P17C,     4,  1,     29,     29,2,19910602,2116, 35.7900,-122.2783, 2308,   1496.7,   2.7803,  34.5501,2,  34.5513,2,     47.5,2,  2.6754,     50.0,2,   150.61,2,    43.45,2,     0.01,2,     3.10,2,    0.010,2,    0.007,2, -999.000,9,-999.0000,9,  -999.00,9,   -999.0,9,  -999.00,9,   -999.0,9,   -999.0,9,  -999.0,-999.0000,-999.000,  -999.0,-999.000
   31WTTUNES_1,  P17C,     4,  1,     30,     30,2,19910602,2116, 35.7900,-122.2783, 2308,   1599.1,   2.6391,  34.5688,2,  34.5690,2,     54.8,2,  2.5274,     53.4,2,   152.92,2,    43.03,2,     0.01,2,     3.06,2,    0.003,2,    0.005,2, -999.000,9,-999.0000,9,  -999.00,9,   -999.0,9,  -999.00,9,   -999.0,9,   -999.0,9,  -999.0,-999.0000,-999.000,  -999.0,-999.000
   31WTTUNES_1,  P17C,     4,  1,     31,     31,2,19910602,2116, 35.7900,-122.2783, 2308,   1794.5,   2.2910,  34.5931,2,  34.5933,2,     66.4,2,  2.1676,     67.9,2,   162.10,2,    42.23,2,     0.01,2,     2.99,2,    0.001,2,   -0.006,2, -999.000,9,-999.0000,9,  -999.00,9,   -999.0,9,  -999.00,9,   -999.0,9,   -999.0,9,  -999.0,-999.0000,-999.000,  -999.0,-999.000
   31WTTUNES_1,  P17C,     4,  1,     32,     32,2,19910602,2116, 35.7900,-122.2783, 2308,   1989.0,   2.0969,  34.6139,2,  34.6135,2,     77.5,2,  1.9600,     79.4,2,   165.61,2,    41.65,2,     0.02,2,     2.93,2,    0.001,2,   -0.001,2, -999.000,9,-999.0000,9,  -999.00,9,   -999.0,9,  -999.00,9,   -999.0,9,   -999.0,9,  -999.0,-999.0000,-999.000,  -999.0,-999.000
   31WTTUNES_1,  P17C,     4,  1,     33,     33,2,19910602,2116, 35.7900,-122.2783, 2308,   2184.5,   1.9456,  34.6270,2,  34.6291,2,     87.8,2,  1.7944,     89.8,2,   167.75,2,    40.81,2,     0.01,2,     2.88,2,    0.002,2,    0.001,2, -999.000,9,-999.0000,9,  -999.00,9,   -999.0,9,  -999.00,9,   -999.0,9,   -999.0,9,  -999.0,-999.0000,-999.000,  -999.0,-999.000
   31WTTUNES_1,  P17C,     4,  1,     34,     34,2,19910602,2116, 35.7900,-122.2783, 2308,   2290.1,   1.9118,  34.6318,2,  34.6314,2,     91.5,2,  1.7520,     91.5,2,   167.32,2,    40.65,2,     0.01,2,     2.87,2,    0.001,2,   -0.006,2, -999.000,9,-999.0000,9,  -999.00,9,   -999.0,9,  -999.00,9,   -999.0,9,   -999.0,9,  -999.0,-999.0000,-999.000,  -999.0,-999.000
   31WTTUNES_1,  P17C,     4,  1,     35,     35,2,19910602,2116, 35.7900,-122.2783, 2308,   2397.1,   1.8673,  34.6362,2,  34.6373,2,     95.9,2,  1.6988,     95.7,2,   168.94,2,    40.50,2,     0.01,2,     2.85,2,    0.001,2,   -0.001,2, -999.000,9,-999.0000,9,  -999.00,9,   -999.0,9,  -999.00,9,   -999.0,9,   -999.0,9,  -999.0,-999.0000,-999.000,  -999.0,-999.000
   31WTTUNES_1,  P17C,     4,  1,     36,     36,2,19910602,2116, 35.7900,-122.2783, 2308,   2462.3,   1.8359,  34.6403,2,  34.6384,2,   -999.0,9,  1.6621,     96.4,2,   168.50,2,    40.34,2,     0.01,2,     2.83,2,    0.000,2,    0.002,2, -999.000,9,-999.0000,9,  -999.00,9,   -999.0,9,  -999.00,9,   -999.0,9,   -999.0,9,  -999.0,-999.0000,-999.000,  -999.0,-999.000