BOTTLE,20220819CCHSIOAMB
EXPOCODE,SECT_ID,STNNBR,CASTNO,SAMPNO,BTLNBR,BTLNBR_FLAG_W,DATE,TIME,LATITUDE,LONGITUDE,DEPTH,CTDPRS,CTDTMP,CTDSAL,CTDSAL_FLAG_W,SALNTY,SALNTY_FLAG_W,CTDOXY,CTDOXY_FLAG_W,THETA,OXYGEN,OXYGEN_FLAG_W,SILCAT,SILCAT_FLAG_W,NITRAT,NITRAT_FLAG_W,NITRIT,NITRIT_FLAG_W,PHSPHT,PHSPHT_FLAG_W,CFC-11,CFC-11_FLAG_W,CFC-12,CFC-12_FLAG_W,TRITUM,TRITUM_FLAG_W,HELIUM,HELIUM_FLAG_W,DELHE3,DELHE3_FLAG_W,DELC14,DELC14_FLAG_W,DELC13,DELC13_FLAG_W,TCARBN,TCARBN_FLAG_W,ALKALI,ALKALI_FLAG_W,C14ERR,HELIER,DELHER,C13ERR,TRITER
,,,,,,,,,,,,DBAR,ITS-90,PSS-78,,PSS-78,,UMOL/KG,,DEG C,UMOL/KG,,UMOL/KG,,UMOL/KG,,UMOL/KG,,UMOL/KG,,PMOL/KG,,PMOL/KG,,TU,,NMOL/KG,,PERCNT,,/MILLE,,/MILLE,,UMOL/KG,,UMOL/KG,,/MILLE,NMOL/KG,PERCNT,/MILLE,TU
   31WTTUNES_1,  P17C,    25,  1,      1,      1,2,19910611,0553, 30.5183,-135.0000, 4567,      1.3,  18.8028,  34.8873,2,  34.8898,2,    237.3,3, 18.8026,    236.2,2,     3.67,2,     0.10,2,     0.00,2,     0.13,2, -999.000,9, -999.000,9, -999.000,9,-999.0000,9,  -999.00,9,   -999.0,9,  -999.00,9,   -999.0,9,   -999.0,9,  -999.0,-999.0000,-999.000,  -999.0,-999.000
   31WTTUNES_1,  P17C,    25,  1,      2,      2,2,19910611,0553, 30.5183,-135.0000, 4567,     78.1,  18.7534,  34.9506,2,  34.9508,2,    230.3,2, 18.7397,    237.0,2,     3.70,2,     0.09,2,     0.00,2,     0.11,2, -999.000,9, -999.000,9,    2.247,2,   1.8290,2,    -0.43,2,   -999.0,9,  -999.00,9,   -999.0,9,   -999.0,9,  -999.0,  0.0090,   0.150,  -999.0,   0.015
   31WTTUNES_1,  P17C,    25,  1,      3,      3,2,19910611,0553, 30.5183,-135.0000, 4567,    104.1,  18.2316,  34.8478,2,  34.8403,2,    237.6,2, 18.2137,    236.6,2,     3.13,2,     0.09,2,     0.00,2,     0.13,2, -999.000,9, -999.000,9, -999.000,9,-999.0000,9,  -999.00,9,   -999.0,9,  -999.00,9,   -999.0,9,   -999.0,9,  -999.0,-999.0000,-999.000,  -999.0,-999.000
   31WTTUNES_1,  P17C,    25,  1,      4,      4,2,19910611,0553, 30.5183,-135.0000, 4567,    155.8,  15.9105,  34.5317,2,  34.4984,2,    214.8,2, 15.8860,    222.6,2,     4.16,2,     2.64,2,     0.06,2,     0.32,2, -999.000,9, -999.000,9,    2.383,2,   1.8820,2,     0.11,2,   -999.0,9,  -999.00,9,   -999.0,9,   -999.0,9,  -999.0,  0.0090,   0.150,  -999.0,   0.016
   31WTTUNES_1,  P17C,    25,  1,      5,      5,2,19910611,0553, 30.5183,-135.0000, 4567,    176.2,  14.4148,  34.3376,2,  34.2825,2,    218.2,2, 14.3890,    219.3,2,     6.00,2,     4.82,2,     0.02,2,     0.47,2, -999.000,9, -999.000,9, -999.000,9,-999.0000,9,  -999.00,9,   -999.0,9,  -999.00,9,   -999.0,9,   -999.0,9,  -999.0,-999.0000,-999.000,  -999.0,-999.000
   31WTTUNES_1,  P17C,    25,  1,      6,      6,2,19910611,0553, 30.5183,-135.0000, 4567,    201.7,  12.6745,  34.1317,2,  34.1386,2,    212.5,2, 12.6475,    216.5,2,     7.43,2,     7.44,2,     0.01,2,     0.64,2, -999.000,9, -999.000,9,    2.334,2,   1.8220,2,     1.94,2,   -999.0,9,  -999.00,9,   -999.0,9,   -999.0,9,  -999.0,  0.0090,   0.150,  -999.0,   0.016
   31WTTUNES_1,  P17C,    25,  1,      7,      7,2,19910611,0553, 30.5183,-135.0000, 4567,    243.6,  11.0376,  34.0380,2,  34.0383,2,    214.4,2, 11.0078,    220.3,2,    10.67,2,    10.89,2,     0.01,2,     0.84,2, -999.000,9, -999.000,9,    2.254,2,   1.8400,2,     2.81,2,   -999.0,9,  -999.00,9,   -999.0,9,   -999.0,9,  -999.0,  0.0090,   0.150,  -999.0,   0.015
   31WTTUNES_1,  P17C,    25,  1,      8,      8,2,19910611,0553, 30.5183,-135.0000, 4567,    303.1,   9.7123,  34.0609,2,  34.0646,2,    204.2,2,  9.6780,    211.4,2,    17.91,2,    15.28,2,     0.01,2,     1.11,2, -999.000,9, -999.000,9,    2.319,2,   1.9160,2,     5.38,2,   -999.0,9,  -999.00,9,   -999.0,9,   -999.0,9,  -999.0,  0.0090,   0.150,  -999.0,   0.015
   31WTTUNES_1,  P17C,    25,  1,      9,      9,2,19910611,0553, 30.5183,-135.0000, 4567,    355.8,   8.6520,  34.0498,2,  34.0462,2,    184.4,2,  8.6144,    192.7,2,    26.55,2,    19.83,2,     0.00,2,     1.40,2, -999.000,9, -999.000,9,    2.310,2,   1.8330,2,     9.58,2,   -999.0,9,  -999.00,9,   -999.0,9,   -999.0,9,  -999.0,  0.0090,   0.150,  -999.0,   0.015
   31WTTUNES_1,  P17C,    25,  1,     10,     10,2,19910611,0553, 30.5183,-135.0000, 4567,    402.2,   7.7051,  34.0090,2,  34.0102,2,    159.1,2,  7.6654,    161.4,2,    36.79,2,    24.86,2,     0.00,2,     1.76,2, -999.000,9, -999.000,9,    2.093,2,   1.8590,2,    13.60,2,   -999.0,9,  -999.00,9,   -999.0,9,   -999.0,9,  -999.0,  0.0090,   0.150,  -999.0,   0.015
   31WTTUNES_1,  P17C,    25,  1,     11,     11,2,19910611,0553, 30.5183,-135.0000, 4567,    452.8,   6.7776,  33.9951,2,  33.9968,2,    127.8,2,  6.7358,    126.3,2,    50.04,2,    29.86,2,     0.00,2,     2.11,2, -999.000,9, -999.000,9,    1.863,2,   1.8930,2,    17.05,2,   -999.0,9,  -999.00,9,   -999.0,9,   -999.0,9,  -999.0,  0.0090,   0.150,  -999.0,   0.013
   31WTTUNES_1,  P17C,    25,  1,     12,     12,2,19910611,0553, 30.5183,-135.0000, 4567,    503.5,   6.1128,  33.9988,2,  34.0002,2,     99.3,2,  6.0688,    105.5,2,    59.47,2,    32.94,2,     0.00,2,     2.33,2, -999.000,9, -999.000,9,    1.646,2,   1.8830,2,    18.72,2,   -999.0,9,  -999.00,9,   -999.0,9,   -999.0,9,  -999.0,  0.0090,   0.150,  -999.0,   0.013
   31WTTUNES_1,  P17C,    25,  1,     13,     13,2,19910611,0553, 30.5183,-135.0000, 4567,    618.0,   4.8898,  34.0922,2,  34.0949,2,     44.7,2,  4.8409,     44.0,2,    88.31,2,    40.23,2,     0.00,2,     2.87,2, -999.000,9, -999.000,9,    0.576,2,   1.9060,2,    15.13,2,   -999.0,9,  -999.00,9,   -999.0,9,   -999.0,9,  -999.0,  0.0090,   0.150,  -999.0,   0.008
   31WTTUNES_1,  P17C,    25,  1,     14,     14,2,19910611,0553, 30.5183,-135.0000, 4567,    710.8,   4.4442,  34.1760,2,  34.1792,2,     27.2,2,  4.3899,     25.4,2,   100.94,2,    42.33,2,     0.00,2,     3.02,2, -999.000,9, -999.000,9,    0.153,2,   1.8630,2,    12.24,2,   -999.0,9,  -999.00,9,   -999.0,9,   -999.0,9,  -999.0,  0.0090,   0.150,  -999.0,   0.004
   31WTTUNES_1,  P17C,    25,  1,     15,     15,2,19910611,0553, 30.5183,-135.0000, 4567,    812.9,   4.1421,  34.2806,2,  34.2825,2,     15.6,2,  4.0811,     16.2,2,   112.96,2,    43.34,2,     0.00,2,     3.12,2, -999.000,9, -999.000,9,    0.011,2,   1.9000,2,    13.55,2,   -999.0,9,  -999.00,9,   -999.0,9,   -999.0,9,  -999.0,  0.0090,   0.150,  -999.0,   0.002
   31WTTUNES_1,  P17C,    25,  1,     16,     16,2,19910611,0553, 30.5183,-135.0000, 4567,    911.5,   3.8863,  34.3564,2,  34.3571,2,     14.7,2,  3.8190,     14.0,2,   120.57,2,    43.73,2,     0.00,2,     3.14,2, -999.000,9, -999.000,9,    0.003,2,   2.0440,2,    14.60,2,   -999.0,9,  -999.00,9,   -999.0,9,   -999.0,9,  -999.0,  0.0100,   0.150,  -999.0,   0.002
   31WTTUNES_1,  P17C,    25,  1,     17,     17,2,19910611,0553, 30.5183,-135.0000, 4567,   1008.2,   3.6946,  34.4154,2,  34.4162,2,     20.0,2,  3.6207,     19.4,2,   125.59,2,    43.45,2,     0.00,2,     3.15,2, -999.000,9, -999.000,9,    0.000,2,   1.9970,2,    16.92,2,   -999.0,9,  -999.00,9,   -999.0,9,   -999.0,9,  -999.0,  0.0090,   0.150,  -999.0,   0.001
   31WTTUNES_1,  P17C,    25,  1,     18,     18,2,19910611,0553, 30.5183,-135.0000, 4567,   1219.9,   3.2535,  34.4985,2,  34.4998,2,     38.0,2,  3.1662,     36.4,2,   134.00,2,    42.78,2,     0.00,2,     3.08,2, -999.000,9, -999.000,9, -999.000,9,-999.0000,9,  -999.00,9,   -999.0,9,  -999.00,9,   -999.0,9,   -999.0,9,  -999.0,-999.0000,-999.000,  -999.0,-999.000
   31WTTUNES_1,  P17C,    25,  1,     19,     19,2,19910611,0553, 30.5183,-135.0000, 4567,   1421.0,   2.9371,  34.5395,2,  34.5415,2,     48.5,2,  2.8366,     47.9,2,   141.01,2,    42.28,2,     0.00,2,     3.01,2, -999.000,9, -999.000,9,    0.000,2,   1.9040,2,    20.98,2,   -999.0,9,  -999.00,9,   -999.0,9,   -999.0,9,  -999.0,  0.0090,   0.150,  -999.0,   0.001
   31WTTUNES_1,  P17C,    25,  1,     20,     20,2,19910611,0553, 30.5183,-135.0000, 4567,   1620.3,   2.5791,  34.5712,2,  34.5725,2,     59.0,2,  2.4663,     58.8,2,   149.42,2,    41.73,2,     0.00,2,     2.95,2, -999.000,9, -999.000,9,    0.005,2,   1.9130,2,    22.28,2,   -999.0,9,  -999.00,9,   -999.0,9,   -999.0,9,  -999.0,  0.0090,   0.150,  -999.0,   0.001
   31WTTUNES_1,  P17C,    25,  1,     21,     21,2,19910611,0553, 30.5183,-135.0000, 4567,   1813.6,   2.3143,  34.5975,2,  34.6004,2,     68.3,2,  2.1890,     69.0,2,   157.03,2,    41.18,2,     0.00,2,     2.92,2, -999.000,9, -999.000,9, -999.000,9,   1.9200,2,    23.69,2,   -999.0,9,  -999.00,9,   -999.0,9,   -999.0,9,  -999.0,-999.0000,-999.000,  -999.0,-999.000
   31WTTUNES_1,  P17C,    25,  1,     22,     22,2,19910611,0553, 30.5183,-135.0000, 4567,   2018.1,   2.0697,  34.6150,2,  34.6152,2,     78.4,2,  1.9307,     81.8,2,   162.84,2,    40.63,2,     0.00,2,     2.85,2, -999.000,9, -999.000,9, -999.000,9,   1.9170,2,    23.71,2,   -999.0,9,  -999.00,9,   -999.0,9,   -999.0,9,  -999.0,-999.0000,-999.000,  -999.0,-999.000
   31WTTUNES_1,  P17C,    25,  1,     23,     23,2,19910611,0553, 30.5183,-135.0000, 4567,   2226.7,   1.9026,  34.6288,2,  34.6303,2,     88.1,2,  1.7484,     88.5,2,   166.85,2,    40.03,2,     0.00,2,     2.82,2, -999.000,9, -999.000,9, -999.000,9,   1.9280,2,    23.17,2,   -999.0,9,  -999.00,9,   -999.0,9,   -999.0,9,  -999.0,-999.0000,-999.000,  -999.0,-999.000
   31WTTUNES_1,  P17C,    25,  1,     24,     24,2,19910611,0553, 30.5183,-135.0000, 4567,   2427.3,   1.7837,  34.6410,2,  34.6425,2,     96.3,2,  1.6140,     96.7,2,   168.66,2,    39.54,2,     0.00,2,     2.77,2, -999.000,9, -999.000,9, -999.000,9,   1.9120,2,    22.70,2,   -999.0,9,  -999.00,9,   -999.0,9,   -999.0,9,  -999.0,-999.0000,-999.000,  -999.0,-999.000
   31WTTUNES_1,  P17C,    25,  1,     25,     25,2,19910611,0553, 30.5183,-135.0000, 4567,   2628.9,   1.6834,  34.6501,2,  34.6516,2,    103.1,2,  1.4974,    104.6,2,   170.07,2,    38.99,2,     0.00,2,     2.71,2, -999.000,9, -999.000,9, -999.000,9,-999.0000,9,  -999.00,9,   -999.0,9,  -999.00,9,   -999.0,9,   -999.0,9,  -999.0,-999.0000,-999.000,  -999.0,-999.000
   31WTTUNES_1,  P17C,    25,  1,     26,     26,2,19910611,0553, 30.5183,-135.0000, 4567,   2840.3,   1.6119,  34.6576,2,  34.6595,2,    111.7,2,  1.4079,    112.4,2,   170.68,2,    38.50,2,     0.00,2,     2.68,2, -999.000,9, -999.000,9, -999.000,9,-999.0000,5,    19.86,2,   -999.0,9,  -999.00,9,   -999.0,9,   -999.0,9,  -999.0,-999.0000,-999.000,  -999.0,-999.000
   31WTTUNES_1,  P17C,    25,  1,     27,     27,2,19910611,0553, 30.5183,-135.0000, 4567,   3035.6,   1.5540,  34.6642,2,  34.6654,2,    119.2,2,  1.3326,    120.0,2,   170.50,2,    38.07,2,     0.00,2,     2.63,2, -999.000,9, -999.000,9, -999.000,9,-999.0000,9,  -999.00,9,   -999.0,9,  -999.00,9,   -999.0,9,   -999.0,9,  -999.0,-999.0000,-999.000,  -999.0,-999.000
   31WTTUNES_1,  P17C,    25,  1,     28,     28,2,19910611,0553, 30.5183,-135.0000, 4567,   3242.6,   1.5163,  34.6696,2,  34.6713,2,    125.9,2,  1.2757,    125.8,2,   170.31,2,    37.70,2,     0.00,2,     2.61,2, -999.000,9, -999.000,9, -999.000,9,   1.9190,2,    17.83,2,   -999.0,9,  -999.00,9,   -999.0,9,   -999.0,9,  -999.0,-999.0000,-999.000,  -999.0,-999.000
   31WTTUNES_1,  P17C,    25,  1,     29,     29,2,19910611,0553, 30.5183,-135.0000, 4567,   3447.5,   1.4859,  34.6745,2,  34.6760,2,    132.6,2,  1.2255,    133.3,2,   166.73,2,    37.37,2,     0.00,2,     2.57,2, -999.000,9, -999.000,9, -999.000,9,   1.9180,2,    17.17,2,   -999.0,9,  -999.00,9,   -999.0,9,   -999.0,9,  -999.0,-999.0000,-999.000,  -999.0,-999.000
   31WTTUNES_1,  P17C,    25,  1,     30,     30,2,19910611,0553, 30.5183,-135.0000, 4567,   3654.2,   1.4739,  34.6782,2,  34.6796,2,    138.1,2,  1.1926,    137.9,2,   165.15,2,    36.94,2,     0.00,2,     2.55,2, -999.000,9, -999.000,9, -999.000,9,   1.9070,2,    15.98,2,   -999.0,9,  -999.00,9,   -999.0,9,   -999.0,9,  -999.0,-999.0000,-999.000,  -999.0,-999.000
   31WTTUNES_1,  P17C,    25,  1,     31,     31,2,19910611,0553, 30.5183,-135.0000, 4567,   3905.1,   1.4780,  34.6803,2,  34.6818,2,    142.5,2,  1.1700,    142.2,2,   162.77,2,    36.78,2,     0.00,2,     2.52,2, -999.000,9, -999.000,9, -999.000,9,   1.9230,2,    15.88,2,   -999.0,9,  -999.00,9,   -999.0,9,   -999.0,9,  -999.0,-999.0000,-999.000,  -999.0,-999.000
   31WTTUNES_1,  P17C,    25,  1,     32,     32,2,19910611,0553, 30.5183,-135.0000, 4567,   4172.5,   1.4970,  34.6822,2,  34.6836,2,    145.3,2,  1.1592,    145.1,2,   162.38,2,    36.62,2,     0.00,2,     2.51,2, -999.000,9, -999.000,9, -999.000,9,   1.9150,2,    16.03,2,   -999.0,9,  -999.00,9,   -999.0,9,   -999.0,9,  -999.0,-999.0000,-999.000,  -999.0,-999.000
   31WTTUNES_1,  P17C,    25,  1,     34,     34,4,19910611,0553, 30.5183,-135.0000, 4567,   4431.3,   1.5245,  34.6829,2,-999.0000,9,    146.1,2,  1.1567,    146.5,2,   161.81,2,    36.52,2,     0.00,2,     2.50,2, -999.000,9, -999.000,9, -999.000,9,   1.9370,2,    16.27,2,   -999.0,9,  -999.00,9,   -999.0,9,   -999.0,9,  -999.0,-999.0000,-999.000,  -999.0,-999.000
   31WTTUNES_1,  P17C,    25,  1,     33,     33,4,19910611,0553, 30.5183,-135.0000, 4567,   4435.4,   1.5250,  34.6830,2,-999.0000,9,    145.9,2,  1.1567,    145.1,3,   161.40,2,    36.46,2,     0.00,2,     2.50,2, -999.000,9, -999.000,9, -999.000,9,   1.9240,2,    16.00,2,   -999.0,9,  -999.00,9,   -999.0,9,   -999.0,9,  -999.0,-999.0000,-999.000,  -999.0,-999.000
   31WTTUNES_1,  P17C,    25,  1,     35,     35,4,19910611,0553, 30.5183,-135.0000, 4567,   4656.4,   1.5486,  34.6839,2,-999.0000,9,   -999.0,9,  1.1539,    146.4,2,   161.63,2,    36.36,2,     0.00,2,     2.50,2, -999.000,9, -999.000,9, -999.000,9,   1.9140,2,    15.80,2,   -999.0,9,  -999.00,9,   -999.0,9,   -999.0,9,  -999.0,-999.0000,-999.000,  -999.0,-999.000
   31WTTUNES_1,  P17C,    25,  1,     36,     36,4,19910611,0553, 30.5183,-135.0000, 4567,   4657.8,   1.5487,  34.6837,2,-999.0000,9,   -999.0,9,  1.1538,    145.6,2,   161.24,2,    36.47,2,     0.00,2,     2.50,2, -999.000,9, -999.000,9, -999.000,9,   1.8960,2,    16.11,2,   -999.0,9,  -999.00,9,   -999.0,9,   -999.0,9,  -999.0,-999.0000,-999.000,  -999.0,-999.000