BOTTLE,20220819CCHSIOAMB
EXPOCODE,SECT_ID,STNNBR,CASTNO,SAMPNO,BTLNBR,BTLNBR_FLAG_W,DATE,TIME,LATITUDE,LONGITUDE,DEPTH,CTDPRS,CTDTMP,CTDSAL,CTDSAL_FLAG_W,SALNTY,SALNTY_FLAG_W,CTDOXY,CTDOXY_FLAG_W,THETA,OXYGEN,OXYGEN_FLAG_W,SILCAT,SILCAT_FLAG_W,NITRAT,NITRAT_FLAG_W,NITRIT,NITRIT_FLAG_W,PHSPHT,PHSPHT_FLAG_W,CFC-11,CFC-11_FLAG_W,CFC-12,CFC-12_FLAG_W,TRITUM,TRITUM_FLAG_W,HELIUM,HELIUM_FLAG_W,DELHE3,DELHE3_FLAG_W,DELC14,DELC14_FLAG_W,DELC13,DELC13_FLAG_W,TCARBN,TCARBN_FLAG_W,ALKALI,ALKALI_FLAG_W,C14ERR,HELIER,DELHER,C13ERR,TRITER
,,,,,,,,,,,,DBAR,ITS-90,PSS-78,,PSS-78,,UMOL/KG,,DEG C,UMOL/KG,,UMOL/KG,,UMOL/KG,,UMOL/KG,,UMOL/KG,,PMOL/KG,,PMOL/KG,,TU,,NMOL/KG,,PERCNT,,/MILLE,,/MILLE,,UMOL/KG,,UMOL/KG,,/MILLE,NMOL/KG,PERCNT,/MILLE,TU
   31WTTUNES_1,  P17C,    31,  1,      1,      1,2,19910613,0947, 27.5100,-135.0017, 4477,      1.2,  19.7340,  35.0767,2,  35.0791,2,    239.7,3, 19.7338,    239.5,2,     3.43,2,     0.22,2,     0.02,2,     0.10,2,    2.287,2,    1.269,2, -999.000,9,-999.0000,9,  -999.00,9,   -999.0,9,  -999.00,9,   -999.0,9,   -999.0,9,  -999.0,-999.0000,-999.000,  -999.0,-999.000
   31WTTUNES_1,  P17C,    31,  1,      2,      2,2,19910613,0947, 27.5100,-135.0017, 4477,     79.5,  19.2879,  34.9785,2,  34.9788,2,    239.5,2, 19.2736,    232.4,2,     3.43,2,     0.21,2,     0.02,2,     0.10,2,    2.321,2,    1.289,2, -999.000,9,-999.0000,9,  -999.00,9,   -999.0,9,  -999.00,9,   -999.0,9,   -999.0,9,  -999.0,-999.0000,-999.000,  -999.0,-999.000
   31WTTUNES_1,  P17C,    31,  1,      3,      3,2,19910613,0947, 27.5100,-135.0017, 4477,    110.5,  18.9231,  34.9511,2,  34.9504,2,    231.3,2, 18.9035,    231.2,2,     3.44,2,     0.25,2,     0.02,2,     0.11,2,    2.281,2,    1.279,2, -999.000,9,-999.0000,9,  -999.00,9,   -999.0,9,  -999.00,9,   -999.0,9,   -999.0,9,  -999.0,-999.0000,-999.000,  -999.0,-999.000
   31WTTUNES_1,  P17C,    31,  1,      4,      4,2,19910613,0947, 27.5100,-135.0017, 4477,    140.8,  17.4925,  34.7525,2,  34.7035,2,    219.9,2, 17.4689,    220.2,2,     4.04,2,     1.84,2,     0.14,2,     0.25,2,    2.446,2,    1.344,2, -999.000,9,-999.0000,9,  -999.00,9,   -999.0,9,  -999.00,9,   -999.0,9,   -999.0,9,  -999.0,-999.0000,-999.000,  -999.0,-999.000
   31WTTUNES_1,  P17C,    31,  1,      5,      5,2,19910613,0947, 27.5100,-135.0017, 4477,    166.9,  15.2804,  34.3621,2,  34.3669,2,    218.2,2, 15.2549,    215.2,2,     5.44,2,     3.88,2,     0.02,2,     0.40,2,    2.603,2,    1.416,2, -999.000,9,-999.0000,9,  -999.00,9,   -999.0,9,  -999.00,9,   -999.0,9,   -999.0,9,  -999.0,-999.0000,-999.000,  -999.0,-999.000
   31WTTUNES_1,  P17C,    31,  1,      6,      6,3,19910613,0947, 27.5100,-135.0017, 4477,    191.3,  12.7786,  34.1043,2,-999.0000,5,    214.2,2, 12.7528,   -999.0,5,  -999.00,5,  -999.00,5,  -999.00,5,  -999.00,5, -999.000,9, -999.000,9, -999.000,9,-999.0000,9,  -999.00,9,   -999.0,9,  -999.00,9,   -999.0,9,   -999.0,9,  -999.0,-999.0000,-999.000,  -999.0,-999.000
   31WTTUNES_1,  P17C,    31,  1,      7,      7,2,19910613,0947, 27.5100,-135.0017, 4477,    217.6,  11.5150,  33.9973,2,  33.9956,2,    211.7,2, 11.4876,    209.9,2,    11.44,2,    10.65,2,     0.01,2,     0.84,2,    2.676,2,    1.371,2, -999.000,9,-999.0000,9,  -999.00,9,   -999.0,9,  -999.00,9,   -999.0,9,   -999.0,9,  -999.0,-999.0000,-999.000,  -999.0,-999.000
   31WTTUNES_1,  P17C,    31,  1,      8,      8,2,19910613,0947, 27.5100,-135.0017, 4477,    238.2,  10.5139,  33.9864,2,  33.9899,2,    206.0,2, 10.4856,    205.6,2,    14.84,2,    13.50,2,     0.02,2,     1.01,2,    2.869,2,    1.348,2, -999.000,9,-999.0000,9,  -999.00,9,   -999.0,9,  -999.00,9,   -999.0,9,   -999.0,9,  -999.0,-999.0000,-999.000,  -999.0,-999.000
   31WTTUNES_1,  P17C,    31,  1,      9,      9,2,19910613,0947, 27.5100,-135.0017, 4477,    264.3,   9.9047,  34.0097,2,  34.0128,2,    201.8,2,  9.8745,    203.9,2,    18.03,2,    15.68,2,     0.02,2,     1.15,2,    2.474,2,    1.267,2, -999.000,9,-999.0000,9,  -999.00,9,   -999.0,9,  -999.00,9,   -999.0,9,   -999.0,9,  -999.0,-999.0000,-999.000,  -999.0,-999.000
   31WTTUNES_1,  P17C,    31,  1,     10,     10,2,19910613,0947, 27.5100,-135.0017, 4477,    290.0,   9.2023,  34.0259,2,  34.0303,2,    196.5,2,  9.1706,    195.4,2,    23.62,2,    18.74,2,     0.02,2,     1.34,2,    2.342,2,    1.140,2, -999.000,9,-999.0000,9,  -999.00,9,   -999.0,9,  -999.00,9,   -999.0,9,   -999.0,9,  -999.0,-999.0000,-999.000,  -999.0,-999.000
   31WTTUNES_1,  P17C,    31,  1,     11,     11,2,19910613,0947, 27.5100,-135.0017, 4477,    319.6,   8.5045,  34.0316,2,  34.0358,2,    189.0,2,  8.4711,    189.6,2,    29.21,2,    20.71,2,     0.03,2,     1.47,2,    2.040,2,    1.046,2, -999.000,9,-999.0000,9,  -999.00,9,   -999.0,9,  -999.00,9,   -999.0,9,   -999.0,9,  -999.0,-999.0000,-999.000,  -999.0,-999.000
   31WTTUNES_1,  P17C,    31,  1,     12,     12,2,19910613,0947, 27.5100,-135.0017, 4477,    382.2,   7.3674,  34.0152,2,  34.0195,2,    152.9,2,  7.3306,    137.6,2,    44.18,2,    27.61,2,     0.00,2,     1.97,2,    1.148,2,    0.620,2, -999.000,9,-999.0000,9,  -999.00,9,   -999.0,9,  -999.00,9,   -999.0,9,   -999.0,9,  -999.0,-999.0000,-999.000,  -999.0,-999.000
   31WTTUNES_1,  P17C,    31,  1,     13,     13,2,19910613,0947, 27.5100,-135.0017, 4477,    443.1,   6.4574,  33.9941,2,  33.9972,2,    126.4,2,  6.4177,    125.2,2,    55.35,2,    31.02,2,     0.01,2,     2.20,2,    0.930,2,    0.467,2, -999.000,9,-999.0000,9,  -999.00,9,   -999.0,9,  -999.00,9,   -999.0,9,   -999.0,9,  -999.0,-999.0000,-999.000,  -999.0,-999.000
   31WTTUNES_1,  P17C,    31,  1,     14,     14,2,19910613,0947, 27.5100,-135.0017, 4477,    505.1,   5.9594,  34.0582,2,  34.0650,2,     78.5,2,  5.9157,     68.9,2,    68.31,2,    35.80,2,     0.01,2,     2.61,2,    0.334,2,    0.175,2, -999.000,9,-999.0000,9,  -999.00,9,   -999.0,9,  -999.00,9,   -999.0,9,   -999.0,9,  -999.0,-999.0000,-999.000,  -999.0,-999.000
   31WTTUNES_1,  P17C,    31,  1,     15,     15,9,19910613,0947, 27.5100,-135.0017, 4477,    556.2,   5.3799,  34.1103,2,-999.0000,9,     48.5,2,  5.3341,   -999.0,9,  -999.00,9,  -999.00,9,  -999.00,9,  -999.00,9, -999.000,9, -999.000,9, -999.000,9,-999.0000,9,  -999.00,9,   -999.0,9,  -999.00,9,   -999.0,9,   -999.0,9,  -999.0,-999.0000,-999.000,  -999.0,-999.000
   31WTTUNES_1,  P17C,    31,  1,     16,     16,9,19910613,0947, 27.5100,-135.0017, 4477,    607.3,   5.0074,  34.1804,2,-999.0000,9,     30.4,2,  4.9588,   -999.0,9,  -999.00,9,  -999.00,9,  -999.00,9,  -999.00,9, -999.000,9, -999.000,9, -999.000,9,-999.0000,9,  -999.00,9,   -999.0,9,  -999.00,9,   -999.0,9,   -999.0,9,  -999.0,-999.0000,-999.000,  -999.0,-999.000
   31WTTUNES_1,  P17C,    31,  1,     17,     17,2,19910613,0947, 27.5100,-135.0017, 4477,    707.4,   4.6298,  34.2797,2,  34.2799,2,     21.0,2,  4.5747,     20.4,2,   101.79,2,    42.38,2,     0.01,2,     3.10,2,    0.010,2,    0.005,2, -999.000,9,-999.0000,9,  -999.00,9,   -999.0,9,  -999.00,9,   -999.0,9,   -999.0,9,  -999.0,-999.0000,-999.000,  -999.0,-999.000
   31WTTUNES_1,  P17C,    31,  1,     18,     18,2,19910613,0947, 27.5100,-135.0017, 4477,    811.4,   4.2762,  34.3719,2,  34.3752,2,     22.2,2,  4.2144,     23.2,2,   111.34,2,    43.08,2,  -999.00,9,     3.12,2,    0.003,2,    0.003,2, -999.000,9,-999.0000,9,  -999.00,9,   -999.0,9,  -999.00,9,   -999.0,9,   -999.0,9,  -999.0,-999.0000,-999.000,  -999.0,-999.000
   31WTTUNES_1,  P17C,    31,  1,     19,     19,2,19910613,0947, 27.5100,-135.0017, 4477,    904.2,   4.0784,  34.4257,2,  34.4283,2,     29.0,2,  4.0102,     28.8,2,   115.11,2,    42.96,2,     0.01,2,     3.11,2,    0.000,2,    0.001,2, -999.000,9,-999.0000,9,  -999.00,9,   -999.0,9,  -999.00,9,   -999.0,9,   -999.0,9,  -999.0,-999.0000,-999.000,  -999.0,-999.000
   31WTTUNES_1,  P17C,    31,  1,     20,     20,2,19910613,0947, 27.5100,-135.0017, 4477,   1005.8,   3.8880,  34.4689,2,  34.4707,2,     35.8,2,  3.8128,     35.3,2,   117.88,2,    42.89,2,     0.02,2,     3.10,2,    0.000,2,   -0.003,2, -999.000,9,-999.0000,9,  -999.00,9,   -999.0,9,  -999.00,9,   -999.0,9,   -999.0,9,  -999.0,-999.0000,-999.000,  -999.0,-999.000
   31WTTUNES_1,  P17C,    31,  1,     21,     21,2,19910613,0947, 27.5100,-135.0017, 4477,   1206.4,   3.3805,  34.5258,2,  34.5276,2,     46.6,2,  3.2930,     47.9,2,   129.82,2,    42.58,2,     0.00,2,     3.07,2, -999.000,9, -999.000,9, -999.000,9,-999.0000,9,  -999.00,9,   -999.0,9,  -999.00,9,   -999.0,9,   -999.0,9,  -999.0,-999.0000,-999.000,  -999.0,-999.000
   31WTTUNES_1,  P17C,    31,  1,     22,     22,2,19910613,0947, 27.5100,-135.0017, 4477,   1411.5,   2.9520,  34.5533,2,  34.5555,2,     57.0,2,  2.8521,     55.5,2,   139.56,2,    42.13,2,     0.01,2,     3.00,2, -999.000,9, -999.000,9, -999.000,9,-999.0000,9,  -999.00,9,   -999.0,9,  -999.00,9,   -999.0,9,   -999.0,9,  -999.0,-999.0000,-999.000,  -999.0,-999.000
   31WTTUNES_1,  P17C,    31,  1,     23,     23,2,19910613,0947, 27.5100,-135.0017, 4477,   1616.7,   2.6210,  34.5755,2,  34.5775,2,     66.5,2,  2.5081,     64.6,2,   148.06,2,    41.67,2,     0.02,2,     2.96,2, -999.000,9, -999.000,9, -999.000,9,-999.0000,9,  -999.00,9,   -999.0,9,  -999.00,9,   -999.0,9,   -999.0,9,  -999.0,-999.0000,-999.000,  -999.0,-999.000
   31WTTUNES_1,  P17C,    31,  1,     24,     24,2,19910613,0947, 27.5100,-135.0017, 4477,   1817.5,   2.3062,  34.5970,2,  34.5999,2,     76.5,2,  2.1806,     75.8,2,   156.39,2,    41.25,2,     0.01,2,     2.92,2, -999.000,9, -999.000,9, -999.000,9,-999.0000,9,  -999.00,9,   -999.0,9,  -999.00,9,   -999.0,9,   -999.0,9,  -999.0,-999.0000,-999.000,  -999.0,-999.000
   31WTTUNES_1,  P17C,    31,  1,     25,     25,2,19910613,0947, 27.5100,-135.0017, 4477,   2023.2,   2.0669,  34.6170,2,  34.6176,2,     85.7,2,  1.9275,     87.7,2,   161.93,2,    40.53,2,     0.02,2,     2.85,2, -999.000,9, -999.000,9, -999.000,9,-999.0000,9,  -999.00,9,   -999.0,9,  -999.00,9,   -999.0,9,   -999.0,9,  -999.0,-999.0000,-999.000,  -999.0,-999.000
   31WTTUNES_1,  P17C,    31,  1,     26,     26,2,19910613,0947, 27.5100,-135.0017, 4477,   2224.1,   1.8956,  34.6313,2,  34.6302,2,     95.6,2,  1.7418,     94.6,2,   165.76,2,    39.75,2,     0.01,2,     2.82,2, -999.000,9, -999.000,9, -999.000,9,-999.0000,9,  -999.00,9,   -999.0,9,  -999.00,9,   -999.0,9,   -999.0,9,  -999.0,-999.0000,-999.000,  -999.0,-999.000
   31WTTUNES_1,  P17C,    31,  1,     27,     27,2,19910613,0947, 27.5100,-135.0017, 4477,   2428.5,   1.7526,  34.6442,2,  34.6424,2,    104.6,2,  1.5834,    105.8,2,   168.73,2,    39.23,2,     0.00,2,     2.75,2, -999.000,9, -999.000,9, -999.000,9,-999.0000,9,  -999.00,9,   -999.0,9,  -999.00,9,   -999.0,9,   -999.0,9,  -999.0,-999.0000,-999.000,  -999.0,-999.000
   31WTTUNES_1,  P17C,    31,  1,     28,     28,2,19910613,0947, 27.5100,-135.0017, 4477,   2626.2,   1.6611,  34.6520,2,  34.6514,2,    111.5,2,  1.4758,    108.7,2,   170.69,2,    38.80,2,  -999.00,9,     2.71,2, -999.000,9, -999.000,9, -999.000,9,-999.0000,9,  -999.00,9,   -999.0,9,  -999.00,9,   -999.0,9,   -999.0,9,  -999.0,-999.0000,-999.000,  -999.0,-999.000
   31WTTUNES_1,  P17C,    31,  1,     29,     29,2,19910613,0947, 27.5100,-135.0017, 4477,   2836.1,   1.5916,  34.6591,2,  34.6581,2,    119.7,2,  1.3884,    115.8,2,   169.48,2,    38.26,2,     0.01,2,     2.66,2, -999.000,9, -999.000,9, -999.000,9,-999.0000,9,  -999.00,9,   -999.0,9,  -999.00,9,   -999.0,9,   -999.0,9,  -999.0,-999.0000,-999.000,  -999.0,-999.000
   31WTTUNES_1,  P17C,    31,  1,     30,     30,2,19910613,0947, 27.5100,-135.0017, 4477,   3039.1,   1.5388,  34.6656,2,  34.6644,2,    126.8,2,  1.3174,    124.0,2,   167.86,2,    37.72,2,     0.02,2,     2.62,2, -999.000,9, -999.000,9, -999.000,9,-999.0000,9,  -999.00,9,   -999.0,9,  -999.00,9,   -999.0,9,   -999.0,9,  -999.0,-999.0000,-999.000,  -999.0,-999.000
   31WTTUNES_1,  P17C,    31,  1,     31,     31,2,19910613,0947, 27.5100,-135.0017, 4477,   3297.6,   1.5011,  34.6721,2,  34.6707,2,    134.7,2,  1.2554,    136.1,2,   166.45,2,    37.19,2,     0.02,2,     2.57,2, -999.000,9, -999.000,9, -999.000,9,-999.0000,9,  -999.00,9,   -999.0,9,  -999.00,9,   -999.0,9,   -999.0,9,  -999.0,-999.0000,-999.000,  -999.0,-999.000
   31WTTUNES_1,  P17C,    31,  1,     32,     32,2,19910613,0947, 27.5100,-135.0017, 4477,   3546.8,   1.4899,  34.6755,2,  34.6745,2,    139.3,2,  1.2193,    139.2,2,   164.63,2,    37.05,2,     0.00,2,     2.55,2, -999.000,9, -999.000,9, -999.000,9,-999.0000,9,  -999.00,9,   -999.0,9,  -999.00,9,   -999.0,9,   -999.0,9,  -999.0,-999.0000,-999.000,  -999.0,-999.000
   31WTTUNES_1,  P17C,    31,  1,     33,     33,2,19910613,0947, 27.5100,-135.0017, 4477,   3807.9,   1.4939,  34.6790,2,  34.6770,2,    142.6,2,  1.1959,    143.5,2,   163.02,2,    36.88,2,     0.01,2,     2.53,2,   -0.001,2,    0.003,2, -999.000,9,-999.0000,9,  -999.00,9,   -999.0,9,  -999.00,9,   -999.0,9,   -999.0,9,  -999.0,-999.0000,-999.000,  -999.0,-999.000
   31WTTUNES_1,  P17C,    31,  1,     34,     34,2,19910613,0947, 27.5100,-135.0017, 4477,   4068.4,   1.5090,  34.6809,2,  34.6794,2,    145.3,2,  1.1824,    142.7,2,  -999.00,9,  -999.00,9,  -999.00,9,  -999.00,9,    0.000,2,    0.007,2, -999.000,9,-999.0000,9,  -999.00,9,   -999.0,9,  -999.00,9,   -999.0,9,   -999.0,9,  -999.0,-999.0000,-999.000,  -999.0,-999.000
   31WTTUNES_1,  P17C,    31,  1,     35,     35,2,19910613,0947, 27.5100,-135.0017, 4477,   4341.0,   1.5286,  34.6819,2,  34.6794,2,    146.8,2,  1.1710,    146.3,2,   160.41,2,    36.51,2,     0.02,2,     2.52,2,    0.001,2,    0.006,2, -999.000,9,-999.0000,9,  -999.00,9,   -999.0,9,  -999.00,9,   -999.0,9,   -999.0,9,  -999.0,-999.0000,-999.000,  -999.0,-999.000
   31WTTUNES_1,  P17C,    31,  1,     36,     36,2,19910613,0947, 27.5100,-135.0017, 4477,   4545.9,   1.5420,  34.6826,2,  34.6806,2,   -999.0,9,  1.1604,    147.5,2,   159.60,2,    36.46,2,     0.01,2,     2.51,2,    0.005,2,    0.011,2, -999.000,9,-999.0000,9,  -999.00,9,   -999.0,9,  -999.00,9,   -999.0,9,   -999.0,9,  -999.0,-999.0000,-999.000,  -999.0,-999.000