BOTTLE,20220819CCHSIOAMB
EXPOCODE,SECT_ID,STNNBR,CASTNO,SAMPNO,BTLNBR,BTLNBR_FLAG_W,DATE,TIME,LATITUDE,LONGITUDE,DEPTH,CTDPRS,CTDTMP,CTDSAL,CTDSAL_FLAG_W,SALNTY,SALNTY_FLAG_W,CTDOXY,CTDOXY_FLAG_W,THETA,OXYGEN,OXYGEN_FLAG_W,SILCAT,SILCAT_FLAG_W,NITRAT,NITRAT_FLAG_W,NITRIT,NITRIT_FLAG_W,PHSPHT,PHSPHT_FLAG_W,CFC-11,CFC-11_FLAG_W,CFC-12,CFC-12_FLAG_W,TRITUM,TRITUM_FLAG_W,HELIUM,HELIUM_FLAG_W,DELHE3,DELHE3_FLAG_W,DELC14,DELC14_FLAG_W,DELC13,DELC13_FLAG_W,TCARBN,TCARBN_FLAG_W,ALKALI,ALKALI_FLAG_W,C14ERR,HELIER,DELHER,C13ERR,TRITER
,,,,,,,,,,,,DBAR,ITS-90,PSS-78,,PSS-78,,UMOL/KG,,DEG C,UMOL/KG,,UMOL/KG,,UMOL/KG,,UMOL/KG,,UMOL/KG,,PMOL/KG,,PMOL/KG,,TU,,NMOL/KG,,PERCNT,,/MILLE,,/MILLE,,UMOL/KG,,UMOL/KG,,/MILLE,NMOL/KG,PERCNT,/MILLE,TU
   31WTTUNES_1,  P17C,    64,  1,      1,      1,2,19910623,1158, 11.0017,-135.0000, 4888,      0.5,  27.9601,  33.8683,2,  33.8715,2,    214.6,3, 27.9600,    213.8,2,     2.58,2,     0.03,2,     0.00,2,     0.19,2,    1.687,2,    0.966,2, -999.000,9,-999.0000,9,  -999.00,9,   -999.0,9,  -999.00,9,   -999.0,9,   -999.0,9,  -999.0,-999.0000,-999.000,  -999.0,-999.000
   31WTTUNES_1,  P17C,    64,  1,      2,      2,2,19910623,1158, 11.0017,-135.0000, 4888,     26.7,  27.7210,  33.9932,2,  34.0189,2,    214.3,2, 27.7148,    215.1,2,     2.03,2,     0.02,2,     0.00,2,     0.20,2,    1.699,2,    0.961,2, -999.000,9,-999.0000,9,  -999.00,9,   -999.0,9,  -999.00,9,   -999.0,9,   -999.0,9,  -999.0,-999.0000,-999.000,  -999.0,-999.000
   31WTTUNES_1,  P17C,    64,  1,      3,      3,2,19910623,1158, 11.0017,-135.0000, 4888,     58.2,  27.4599,  34.0949,2,  34.1331,2,    214.8,2, 27.4465,    209.0,2,     2.58,2,     0.01,2,     0.00,2,     0.21,2,    1.684,2,    0.954,2, -999.000,9,-999.0000,9,  -999.00,9,   -999.0,9,  -999.00,9,   -999.0,9,   -999.0,9,  -999.0,-999.0000,-999.000,  -999.0,-999.000
   31WTTUNES_1,  P17C,    64,  1,      4,      4,2,19910623,1158, 11.0017,-135.0000, 4888,     74.4,  18.8757,  34.6848,2,  34.6768,2,    170.3,2, 18.8626,    153.9,2,     8.10,2,     8.37,2,     0.14,2,     0.80,2,    1.692,2,    0.881,2, -999.000,9,-999.0000,9,  -999.00,9,   -999.0,9,  -999.00,9,   -999.0,9,   -999.0,9,  -999.0,-999.0000,-999.000,  -999.0,-999.000
   31WTTUNES_1,  P17C,    64,  1,      5,      5,2,19910623,1158, 11.0017,-135.0000, 4888,     85.2,  16.7839,  34.6434,2,  34.5421,2,    129.6,2, 16.7700,    136.1,2,    10.49,2,    11.56,2,     0.30,2,     1.04,2,    1.684,2,    0.943,2, -999.000,9,-999.0000,9,  -999.00,9,   -999.0,9,  -999.00,9,   -999.0,9,   -999.0,9,  -999.0,-999.0000,-999.000,  -999.0,-999.000
   31WTTUNES_1,  P17C,    64,  1,      6,      6,2,19910623,1158, 11.0017,-135.0000, 4888,     95.6,  15.0141,  34.4746,2,  34.4659,2,     94.3,2, 14.9997,     92.3,2,    14.72,2,    18.06,2,     0.65,2,     1.51,2,    1.412,2,    0.737,2, -999.000,9,-999.0000,9,  -999.00,9,   -999.0,9,  -999.00,9,   -999.0,9,   -999.0,9,  -999.0,-999.0000,-999.000,  -999.0,-999.000
   31WTTUNES_1,  P17C,    64,  1,      7,      7,2,19910623,1158, 11.0017,-135.0000, 4888,    108.6,  13.8973,  34.5460,2,  34.5812,2,     34.6,2, 13.8818,     19.4,2,    24.10,2,    28.79,2,     0.80,2,     2.24,2,    0.638,2,    0.331,2, -999.000,9,-999.0000,9,  -999.00,9,   -999.0,9,  -999.00,9,   -999.0,9,   -999.0,9,  -999.0,-999.0000,-999.000,  -999.0,-999.000
   31WTTUNES_1,  P17C,    64,  1,      8,      8,2,19910623,1158, 11.0017,-135.0000, 4888,    132.9,  12.3157,  34.6838,2,  34.6868,2,     10.0,2, 12.2982,     14.3,2,    27.96,2,    32.12,2,     0.02,2,     2.34,2,    0.279,2,    0.164,2, -999.000,9,-999.0000,9,  -999.00,9,   -999.0,9,  -999.00,9,   -999.0,9,   -999.0,9,  -999.0,-999.0000,-999.000,  -999.0,-999.000
   31WTTUNES_1,  P17C,    64,  1,      9,      9,2,19910623,1158, 11.0017,-135.0000, 4888,    162.1,  11.7349,  34.7213,2,  34.7210,2,     17.0,2, 11.7141,     15.9,2,    29.43,2,    32.59,2,     0.01,2,     2.33,2,    0.216,2,    0.127,2, -999.000,9,-999.0000,9,  -999.00,9,   -999.0,9,  -999.00,9,   -999.0,9,   -999.0,9,  -999.0,-999.0000,-999.000,  -999.0,-999.000
   31WTTUNES_1,  P17C,    64,  1,     10,     10,2,19910623,1158, 11.0017,-135.0000, 4888,    193.3,  11.2420,  34.7202,2,  34.7179,2,     11.2,2, 11.2180,     23.5,2,    30.90,2,    32.63,2,     0.01,2,     2.31,2,    0.167,2,    0.108,2, -999.000,9,-999.0000,9,  -999.00,9,   -999.0,9,  -999.00,9,   -999.0,9,   -999.0,9,  -999.0,-999.0000,-999.000,  -999.0,-999.000
   31WTTUNES_1,  P17C,    64,  1,     11,     11,2,19910623,1158, 11.0017,-135.0000, 4888,    247.3,  10.6412,  34.7160,2,  34.7148,2,     20.0,2, 10.6114,     14.3,2,    32.92,2,    33.99,2,     0.00,2,     2.42,2,    0.089,2,    0.061,2, -999.000,9,-999.0000,9,  -999.00,9,   -999.0,9,  -999.00,9,   -999.0,9,   -999.0,9,  -999.0,-999.0000,-999.000,  -999.0,-999.000
   31WTTUNES_1,  P17C,    64,  1,     12,     12,2,19910623,1158, 11.0017,-135.0000, 4888,    303.4,  10.1534,  34.6956,2,  34.6956,2,     12.3,2, 10.1178,     11.4,2,    35.31,2,    34.72,2,     0.00,2,     2.49,2,    0.053,2,    0.035,2, -999.000,9,-999.0000,9,  -999.00,9,   -999.0,9,  -999.00,9,   -999.0,9,   -999.0,9,  -999.0,-999.0000,-999.000,  -999.0,-999.000
   31WTTUNES_1,  P17C,    64,  1,     13,     13,2,19910623,1158, 11.0017,-135.0000, 4888,    402.1,   9.3377,  34.6600,2,  34.6590,2,      6.8,2,  9.2927,      7.2,2,    40.46,2,    36.19,2,     0.00,2,     2.65,2, -999.000,9, -999.000,9, -999.000,9,-999.0000,9,  -999.00,9,   -999.0,9,  -999.00,9,   -999.0,9,   -999.0,9,  -999.0,-999.0000,-999.000,  -999.0,-999.000
   31WTTUNES_1,  P17C,    64,  1,     14,     14,2,19910623,1158, 11.0017,-135.0000, 4888,    504.8,   8.3961,  34.5962,2,  34.5970,2,     10.1,2,  8.3428,     10.3,2,    48.37,2,    36.60,2,     0.00,2,     2.79,2, -999.000,9, -999.000,9, -999.000,9,-999.0000,9,  -999.00,9,   -999.0,9,  -999.00,9,   -999.0,9,   -999.0,9,  -999.0,-999.0000,-999.000,  -999.0,-999.000
   31WTTUNES_1,  P17C,    64,  1,     15,     15,2,19910623,1158, 11.0017,-135.0000, 4888,    606.3,   7.3366,  34.5495,2,  34.5487,2,     12.9,2,  7.2770,     13.1,2,    59.03,2,    38.35,2,     0.00,2,     2.92,2, -999.000,9, -999.000,9, -999.000,9,-999.0000,9,  -999.00,9,   -999.0,9,  -999.00,9,   -999.0,9,   -999.0,9,  -999.0,-999.0000,-999.000,  -999.0,-999.000
   31WTTUNES_1,  P17C,    64,  1,     16,     16,2,19910623,1158, 11.0017,-135.0000, 4888,    708.7,   6.3721,  34.5221,2,  34.5267,2,     14.4,2,  6.3071,     13.2,2,    71.54,2,    40.92,2,     0.00,2,     3.06,2,    0.001,2,   -0.001,2, -999.000,9,-999.0000,9,  -999.00,9,   -999.0,9,  -999.00,9,   -999.0,9,   -999.0,9,  -999.0,-999.0000,-999.000,  -999.0,-999.000
   31WTTUNES_1,  P17C,    64,  1,     17,     17,2,19910623,1158, 11.0017,-135.0000, 4888,    805.0,   5.6864,  34.5325,2,  34.5327,2,     20.7,2,  5.6162,     20.8,2,    79.62,2,    42.55,2,     0.01,2,     3.07,2,    0.001,2,   -0.002,2, -999.000,9,-999.0000,9,  -999.00,9,   -999.0,9,  -999.00,9,   -999.0,9,   -999.0,9,  -999.0,-999.0000,-999.000,  -999.0,-999.000
   31WTTUNES_1,  P17C,    64,  1,     18,     18,2,19910623,1158, 11.0017,-135.0000, 4888,    907.2,   5.1427,  34.5336,2,  34.5348,2,     23.4,2,  5.0667,     25.1,2,    88.26,2,    43.08,2,     0.01,2,     3.10,2,   -0.002,2,   -0.002,2, -999.000,9,-999.0000,9,  -999.00,9,   -999.0,9,  -999.00,9,   -999.0,9,   -999.0,9,  -999.0,-999.0000,-999.000,  -999.0,-999.000
   31WTTUNES_1,  P17C,    64,  1,     19,     19,2,19910623,1158, 11.0017,-135.0000, 4888,   1109.3,   4.3182,  34.5546,2,  34.5563,2,     39.3,2,  4.2306,     38.9,2,   102.60,2,    42.79,2,     0.00,2,     3.09,2, -999.000,9, -999.000,9, -999.000,9,-999.0000,9,  -999.00,9,   -999.0,9,  -999.00,9,   -999.0,9,   -999.0,9,  -999.0,-999.0000,-999.000,  -999.0,-999.000
   31WTTUNES_1,  P17C,    64,  1,     20,     20,2,19910623,1158, 11.0017,-135.0000, 4888,   1312.9,   3.6656,  34.5783,2,  34.5771,2,     56.5,2,  3.5664,     57.6,2,   114.17,2,    41.90,2,     0.00,2,     2.98,2, -999.000,9, -999.000,9, -999.000,9,-999.0000,9,  -999.00,9,   -999.0,9,  -999.00,9,   -999.0,9,   -999.0,9,  -999.0,-999.0000,-999.000,  -999.0,-999.000
   31WTTUNES_1,  P17C,    64,  1,     21,     21,2,19910623,1158, 11.0017,-135.0000, 4888,   1514.7,   3.1749,  34.5954,2,  34.5929,2,     66.7,2,  3.0638,     66.7,2,   125.75,2,    41.29,2,     0.00,2,     2.93,2, -999.000,9, -999.000,9, -999.000,9,-999.0000,9,  -999.00,9,   -999.0,9,  -999.00,9,   -999.0,9,   -999.0,9,  -999.0,-999.0000,-999.000,  -999.0,-999.000
   31WTTUNES_1,  P17C,    64,  1,     22,     22,3,19910623,1158, 11.0017,-135.0000, 4888,   1719.2,   2.7652,  34.6115,2,  34.6025,4,     76.9,2,  2.6416,     77.1,2,   134.38,2,    40.57,2,     0.00,2,     2.88,2, -999.000,9, -999.000,9, -999.000,9,-999.0000,9,  -999.00,9,   -999.0,9,  -999.00,9,   -999.0,9,   -999.0,9,  -999.0,-999.0000,-999.000,  -999.0,-999.000
   31WTTUNES_1,  P17C,    64,  1,     23,     23,2,19910623,1158, 11.0017,-135.0000, 4888,   1922.4,   2.4034,  34.6270,2,  34.6279,2,     85.0,2,  2.2675,     85.7,2,   143.56,2,    40.34,2,     0.00,2,     2.81,2, -999.000,9, -999.000,9, -999.000,9,-999.0000,9,  -999.00,9,   -999.0,9,  -999.00,9,   -999.0,9,   -999.0,9,  -999.0,-999.0000,-999.000,  -999.0,-999.000
   31WTTUNES_1,  P17C,    64,  1,     24,     24,2,19910623,1158, 11.0017,-135.0000, 4888,   2123.4,   2.1306,  34.6396,2,  34.6401,2,     96.0,2,  1.9816,     95.2,2,   149.07,2,    39.78,2,     0.00,2,     2.76,2, -999.000,9, -999.000,9, -999.000,9,-999.0000,9,  -999.00,9,   -999.0,9,  -999.00,9,   -999.0,9,   -999.0,9,  -999.0,-999.0000,-999.000,  -999.0,-999.000
   31WTTUNES_1,  P17C,    64,  1,     25,     25,2,19910623,1158, 11.0017,-135.0000, 4888,   2325.1,   1.9677,  34.6507,2,  34.6512,2,    104.4,2,  1.8037,    102.1,2,   152.55,2,    39.23,2,     0.00,2,     2.71,2, -999.000,9, -999.000,9, -999.000,9,-999.0000,9,  -999.00,9,   -999.0,9,  -999.00,9,   -999.0,9,   -999.0,9,  -999.0,-999.0000,-999.000,  -999.0,-999.000
   31WTTUNES_1,  P17C,    64,  1,     26,     26,2,19910623,1158, 11.0017,-135.0000, 4888,   2531.7,   1.8558,  34.6579,2,  34.6587,2,    111.6,2,  1.6753,    110.8,2,   153.46,2,    38.62,2,     0.00,2,     2.67,2, -999.000,9, -999.000,9, -999.000,9,-999.0000,9,  -999.00,9,   -999.0,9,  -999.00,9,   -999.0,9,   -999.0,9,  -999.0,-999.0000,-999.000,  -999.0,-999.000
   31WTTUNES_1,  P17C,    64,  1,     27,     27,2,19910623,1158, 11.0017,-135.0000, 4888,   2733.3,   1.7798,  34.6636,2,  34.6660,2,    115.4,2,  1.5823,    114.9,2,   156.02,2,    38.18,2,     0.00,2,     2.63,2, -999.000,9, -999.000,9, -999.000,9,-999.0000,9,  -999.00,9,   -999.0,9,  -999.00,9,   -999.0,9,   -999.0,9,  -999.0,-999.0000,-999.000,  -999.0,-999.000
   31WTTUNES_1,  P17C,    64,  1,     28,     28,3,19910623,1158, 11.0017,-135.0000, 4888,   2940.9,   1.7109,  34.6703,2,  34.6697,2,    121.8,2,  1.4951,    118.3,3,   156.20,3,    37.68,2,     0.00,2,     2.61,2, -999.000,9, -999.000,9, -999.000,9,-999.0000,9,  -999.00,9,   -999.0,9,  -999.00,9,   -999.0,9,   -999.0,9,  -999.0,-999.0000,-999.000,  -999.0,-999.000
   31WTTUNES_1,  P17C,    64,  1,     29,     29,2,19910623,1158, 11.0017,-135.0000, 4888,   3142.8,   1.6419,  34.6748,2,  34.6747,2,    126.7,2,  1.4081,    125.4,2,   158.03,2,    37.56,2,     0.00,2,     2.58,2, -999.000,9, -999.000,9, -999.000,9,-999.0000,9,  -999.00,9,   -999.0,9,  -999.00,9,   -999.0,9,   -999.0,9,  -999.0,-999.0000,-999.000,  -999.0,-999.000
   31WTTUNES_1,  P17C,    64,  1,     30,     30,3,19910623,1158, 11.0017,-135.0000, 4888,   3397.4,   1.5710,  34.6777,2,  34.6773,2,    133.2,2,  1.3135,    130.4,3,   158.39,2,    37.17,2,     0.01,2,     2.55,2, -999.000,9, -999.000,9, -999.000,9,-999.0000,9,  -999.00,9,   -999.0,9,  -999.00,9,   -999.0,9,   -999.0,9,  -999.0,-999.0000,-999.000,  -999.0,-999.000
   31WTTUNES_1,  P17C,    64,  1,     31,     31,2,19910623,1158, 11.0017,-135.0000, 4888,   3654.9,   1.5020,  34.6807,2,  34.6814,2,    142.4,2,  1.2198,    141.9,2,   155.99,2,    36.52,2,     0.01,2,     2.50,2, -999.000,9, -999.000,9, -999.000,9,-999.0000,9,  -999.00,9,   -999.0,9,  -999.00,9,   -999.0,9,   -999.0,9,  -999.0,-999.0000,-999.000,  -999.0,-999.000
   31WTTUNES_1,  P17C,    64,  1,     32,     32,2,19910623,1158, 11.0017,-135.0000, 4888,   3911.3,   1.4520,  34.6857,2,  34.6862,2,    151.6,2,  1.1441,    152.4,2,   150.65,2,    35.97,2,     0.01,2,     2.45,2, -999.000,9, -999.000,9, -999.000,9,-999.0000,9,  -999.00,9,   -999.0,9,  -999.00,9,   -999.0,9,   -999.0,9,  -999.0,-999.0000,-999.000,  -999.0,-999.000
   31WTTUNES_1,  P17C,    64,  1,     33,     33,2,19910623,1158, 11.0017,-135.0000, 4888,   4164.7,   1.4101,  34.6894,2,  34.6899,2,    159.9,2,  1.0757,    160.0,2,   145.50,2,    35.32,2,     0.01,2,     2.41,2, -999.000,9, -999.000,9, -999.000,9,-999.0000,9,  -999.00,9,   -999.0,9,  -999.00,9,   -999.0,9,   -999.0,9,  -999.0,-999.0000,-999.000,  -999.0,-999.000
   31WTTUNES_1,  P17C,    64,  1,     34,     34,2,19910623,1158, 11.0017,-135.0000, 4888,   4418.8,   1.4191,  34.6913,2,  34.6909,2,    162.8,2,  1.0559,    163.3,2,   143.47,2,    34.84,2,     0.00,2,     2.38,2,   -0.002,2,    0.000,2, -999.000,9,-999.0000,9,  -999.00,9,   -999.0,9,  -999.00,9,   -999.0,9,   -999.0,9,  -999.0,-999.0000,-999.000,  -999.0,-999.000
   31WTTUNES_1,  P17C,    64,  1,     35,     35,2,19910623,1158, 11.0017,-135.0000, 4888,   4675.6,   1.4390,  34.6923,2,  34.6922,2,    164.6,2,  1.0455,    164.7,2,   143.10,2,    34.78,2,     0.00,2,     2.38,2,    0.000,2,    0.000,2, -999.000,9,-999.0000,9,  -999.00,9,   -999.0,9,  -999.00,9,   -999.0,9,   -999.0,9,  -999.0,-999.0000,-999.000,  -999.0,-999.000
   31WTTUNES_1,  P17C,    64,  1,     36,     36,2,19910623,1158, 11.0017,-135.0000, 4888,   5008.2,   1.4710,  34.6924,2,  34.6928,2,   -999.0,9,  1.0367,    165.6,2,   141.44,2,    34.86,2,     0.00,2,     2.38,2,    0.001,2,    0.000,2, -999.000,9,-999.0000,9,  -999.00,9,   -999.0,9,  -999.00,9,   -999.0,9,   -999.0,9,  -999.0,-999.0000,-999.000,  -999.0,-999.000