BOTTLE,20220819CCHSIOAMB
EXPOCODE,SECT_ID,STNNBR,CASTNO,SAMPNO,BTLNBR,BTLNBR_FLAG_W,DATE,TIME,LATITUDE,LONGITUDE,DEPTH,CTDPRS,CTDTMP,CTDSAL,CTDSAL_FLAG_W,SALNTY,SALNTY_FLAG_W,CTDOXY,CTDOXY_FLAG_W,THETA,OXYGEN,OXYGEN_FLAG_W,SILCAT,SILCAT_FLAG_W,NITRAT,NITRAT_FLAG_W,NITRIT,NITRIT_FLAG_W,PHSPHT,PHSPHT_FLAG_W,CFC-11,CFC-11_FLAG_W,CFC-12,CFC-12_FLAG_W,TRITUM,TRITUM_FLAG_W,HELIUM,HELIUM_FLAG_W,DELHE3,DELHE3_FLAG_W,DELC14,DELC14_FLAG_W,DELC13,DELC13_FLAG_W,TCARBN,TCARBN_FLAG_W,ALKALI,ALKALI_FLAG_W,C14ERR,HELIER,DELHER,C13ERR,TRITER
,,,,,,,,,,,,DBAR,ITS-90,PSS-78,,PSS-78,,UMOL/KG,,DEG C,UMOL/KG,,UMOL/KG,,UMOL/KG,,UMOL/KG,,UMOL/KG,,PMOL/KG,,PMOL/KG,,TU,,NMOL/KG,,PERCNT,,/MILLE,,/MILLE,,UMOL/KG,,UMOL/KG,,/MILLE,NMOL/KG,PERCNT,/MILLE,TU
   31WTTUNES_1,  P17C,    29,  1,      1,      1,2,19910612,2046, 28.4983,-134.9967, 3579,      1.6,  18.4620,  34.6280,2,  34.6331,2,    234.7,3, 18.4618,    238.2,2,     3.29,2,     0.29,2,     0.01,2,     0.17,2,    2.486,2,    1.351,2, -999.000,9,-999.0000,5,  -999.00,9,   -999.0,9,  -999.00,9,   2020.5,2,   2306.0,2,  -999.0,-999.0000,-999.000,  -999.0,-999.000
   31WTTUNES_1,  P17C,    29,  1,      2,      2,2,19910612,2046, 28.4983,-134.9967, 3579,     81.4,  18.4618,  34.8038,2,  34.8045,2,    235.9,2, 18.4477,    237.4,2,     3.05,2,     0.29,2,     0.01,2,     0.16,2,    2.466,2,    1.397,2,    2.377,2,   1.8200,2,    -1.12,2,   -999.0,9,  -999.00,9,   2019.9,2,   2312.4,2,  -999.0,  0.0090,   0.150,  -999.0,   0.019
   31WTTUNES_1,  P17C,    29,  1,      3,      3,2,19910612,2046, 28.4983,-134.9967, 3579,    127.2,  18.3643,  34.8488,2,  34.8544,2,    227.4,2, 18.3422,    231.5,2,     2.81,2,     0.21,2,     0.04,2,     0.16,2,    2.504,2,    1.356,2, -999.000,9,-999.0000,9,  -999.00,9,    131.6,2,     1.50,2,   2024.4,2,   2314.9,2,     3.5,-999.0000,-999.000,  -999.0,-999.000
   31WTTUNES_1,  P17C,    29,  1,      4,      4,2,19910612,2046, 28.4983,-134.9967, 3579,    151.9,  18.2351,  34.8385,2,  34.8417,2,    230.7,2, 18.2089,    229.5,2,     2.57,2,     0.26,2,     0.20,2,     0.16,2,    2.431,2,    1.356,2, -999.000,5,   1.8220,2,    -1.12,2,   -999.0,9,  -999.00,9,   2026.2,2,   2311.8,2,  -999.0,  0.0090,   0.150,  -999.0,-999.000
   31WTTUNES_1,  P17C,    29,  1,      5,      5,2,19910612,2046, 28.4983,-134.9967, 3579,    176.7,  18.0269,  34.8124,2,  34.8082,2,    227.1,2, 17.9965,    227.4,2,     2.53,2,     0.34,2,     0.17,2,     0.18,2,    2.532,2,    1.415,2, -999.000,9,-999.0000,9,  -999.00,9,    124.8,2,     1.35,2,   2027.4,2,   2310.5,2,     3.6,-999.0000,-999.000,  -999.0,-999.000
   31WTTUNES_1,  P17C,    29,  1,      6,      6,2,19910612,2046, 28.4983,-134.9967, 3579,    203.2,  16.4150,  34.5533,2,  34.5243,2,    225.0,2, 16.3824,    220.5,2,     3.49,2,     2.35,2,     0.04,2,     0.31,2,    2.543,2,    1.340,2,    2.301,2,   1.8180,2,     0.05,2,   -999.0,9,     1.28,2,   2033.5,2,   2285.4,2,  -999.0,  0.0090,   0.150,  -999.0,   0.016
   31WTTUNES_1,  P17C,    29,  1,      7,      7,2,19910612,2046, 28.4983,-134.9967, 3579,    229.0,  14.0310,  34.2153,2,  34.2037,2,    214.5,2, 13.9980,    215.3,2,     5.67,2,     5.60,2,     0.03,2,     0.53,2,    2.713,2,    1.430,2, -999.000,9,-999.0000,9,  -999.00,9,   -999.0,9,  -999.00,9,   2045.8,2,   2270.3,2,  -999.0,-999.0000,-999.000,  -999.0,-999.000
   31WTTUNES_1,  P17C,    29,  1,      8,      8,2,19910612,2046, 28.4983,-134.9967, 3579,    253.3,  11.9497,  34.0123,2,  34.0083,2,    207.2,2, 11.9170,    208.8,2,     9.65,2,     9.21,2,     0.03,2,     0.80,2,    2.675,2,    1.392,2,    2.211,2,   1.8230,2,     3.01,2,     86.2,2,     0.82,2,   2064.6,2,   -999.0,9,     2.8,  0.0090,   0.150,  -999.0,   0.016
   31WTTUNES_1,  P17C,    29,  1,      9,      9,2,19910612,2046, 28.4983,-134.9967, 3579,    286.6,  10.4867,  34.0018,2,  34.0075,2,    205.4,2, 10.4527,    208.9,2,    14.24,2,    13.49,2,     0.00,2,     1.01,2,    2.637,2,    1.365,2,    2.216,2,   1.8230,2,     4.62,2,   -999.0,9,  -999.00,9,   2083.3,2,   -999.0,9,  -999.0,  0.0090,   0.150,  -999.0,   0.016
   31WTTUNES_1,  P17C,    29,  1,     10,     10,2,19910612,2046, 28.4983,-134.9967, 3579,    316.5,   9.4492,  34.0160,2,  34.0183,2,    195.7,2,  9.4140,    196.4,2,    21.24,2,    17.85,2,     0.02,2,     1.28,2,    2.357,2,    1.196,2,    2.141,2,   1.8050,2,     7.79,2,   -999.0,9,     0.44,2,   2109.7,2,   2264.0,2,  -999.0,  0.0080,   0.150,  -999.0,   0.016
   31WTTUNES_1,  P17C,    29,  1,     11,     11,2,19910612,2046, 28.4983,-134.9967, 3579,    351.5,   8.7412,  34.0228,2,  34.0263,2,    188.4,2,  8.7038,    186.8,2,    26.24,2,    20.53,2,     0.02,2,     1.45,2,    2.108,2,    1.081,2, -999.000,9,-999.0000,9,  -999.00,9,   -999.0,9,  -999.00,9,   2127.5,2,   2271.7,2,  -999.0,-999.0000,-999.000,  -999.0,-999.000
   31WTTUNES_1,  P17C,    29,  1,     12,     12,2,19910612,2046, 28.4983,-134.9967, 3579,    413.5,   7.6329,  34.0121,2,  34.0136,2,    154.8,2,  7.5922,    154.9,2,    38.08,2,    25.92,2,     0.02,2,     1.83,2,    1.512,2,    0.754,2,    2.090,2,   1.8710,2,    14.45,2,      5.5,2,     0.21,2,   2167.6,2,   2274.7,2,     2.6,  0.0090,   0.150,  -999.0,   0.016
   31WTTUNES_1,  P17C,    29,  1,     13,     13,2,19910612,2046, 28.4983,-134.9967, 3579,    485.1,   6.3787,  33.9953,2,  34.0044,2,    110.6,2,  6.3353,    106.3,2,    56.97,2,    32.96,2,     0.02,2,     2.33,2,    0.851,2,    0.428,2, -999.000,9,-999.0000,9,  -999.00,9,   -999.0,9,  -999.00,9,   2224.1,2,   -999.0,9,  -999.0,-999.0000,-999.000,  -999.0,-999.000
   31WTTUNES_1,  P17C,    29,  1,     14,     14,2,19910612,2046, 28.4983,-134.9967, 3579,    607.9,   5.0043,  34.0510,2,  34.0622,2,     58.8,2,  4.9558,     57.6,2,    83.72,2,    39.69,2,     0.02,2,     2.81,2,    0.203,2,    0.111,2,    0.860,2,   1.8900,2,    16.43,2,   -999.0,9,  -999.00,9,   2284.4,2,   -999.0,9,  -999.0,  0.0090,   0.150,  -999.0,   0.010
   31WTTUNES_1,  P17C,    29,  1,     15,     15,2,19910612,2046, 28.4983,-134.9967, 3579,    709.7,   4.3975,  34.1677,2,  34.1712,2,     25.0,2,  4.3436,     25.9,2,   102.03,2,    42.72,2,     0.02,2,     3.07,2,    0.027,2,    0.021,2, -999.000,9,-999.0000,9,  -999.00,9,   -999.0,9,  -999.00,9,   2329.0,2,   -999.0,9,  -999.0,-999.0000,-999.000,  -999.0,-999.000
   31WTTUNES_1,  P17C,    29,  1,     16,     16,2,19910612,2046, 28.4983,-134.9967, 3579,    807.4,   4.0628,  34.2905,2,  34.2908,2,     13.9,2,  4.0028,     14.2,2,   114.50,2,    43.48,2,     0.02,2,     3.17,2,    0.005,2,    0.005,2, -999.000,9,-999.0000,9,  -999.00,9,   -999.0,9,  -999.00,9,   2345.9,2,   -999.0,9,  -999.0,-999.0000,-999.000,  -999.0,-999.000
   31WTTUNES_1,  P17C,    29,  1,     17,     17,2,19910612,2046, 28.4983,-134.9967, 3579,    910.7,   3.8497,  34.3740,2,  34.3736,2,     15.4,2,  3.7826,     15.8,2,   121.13,2,    44.24,2,     0.01,2,     3.20,2,    0.004,2,    0.002,2, -999.000,9,-999.0000,9,  -999.00,9,   -999.0,9,  -999.00,9,   2355.9,2,   -999.0,9,  -999.0,-999.0000,-999.000,  -999.0,-999.000
   31WTTUNES_1,  P17C,    29,  1,     18,     18,2,19910612,2046, 28.4983,-134.9967, 3579,   1010.4,   3.6909,  34.4361,2,  34.4395,2,     25.6,2,  3.6169,     24.8,2,   124.74,2,    43.95,2,     0.02,2,     3.17,2,    0.005,2,   -0.002,2, -999.000,9,   1.8820,6,    18.28,6,   -999.0,9,  -999.00,9,   2357.5,2,   -999.0,9,  -999.0,-999.0000,-999.000,  -999.0,-999.000
   31WTTUNES_1,  P17C,    29,  1,     19,     19,2,19910612,2046, 28.4983,-134.9967, 3579,   1162.3,   3.3724,  34.4989,2,  34.5043,2,     40.0,2,  3.2886,     39.2,2,   131.38,2,    43.22,2,     0.01,2,     3.11,2,   -0.002,2,    0.005,2, -999.000,9,   1.9020,6,    20.69,6,   -999.0,9,  -999.00,9,   2361.3,2,   -999.0,9,  -999.0,-999.0000,-999.000,  -999.0,-999.000
   31WTTUNES_1,  P17C,    29,  1,     20,     20,2,19910612,2046, 28.4983,-134.9967, 3579,   1315.6,   3.0563,  34.5337,2,  34.5354,2,     48.3,2,  2.9631,     49.0,2,   138.23,2,    42.78,2,     0.01,2,     3.07,2,    0.001,2,   -0.003,2, -999.000,9,   1.8920,2,    22.03,2,   -999.0,9,  -999.00,9,   2360.2,2,   -999.0,9,  -999.0,-999.0000,-999.000,  -999.0,-999.000
   31WTTUNES_1,  P17C,    29,  1,     21,     21,2,19910612,2046, 28.4983,-134.9967, 3579,   1467.1,   2.8179,  34.5546,2,  34.5560,2,     54.2,2,  2.7149,     54.8,2,   144.28,2,    42.39,2,     0.01,2,     3.04,2, -999.000,9, -999.000,9, -999.000,9,   1.9140,6,    21.83,6,   -233.5,2,    -0.34,2,   2365.4,2,   -999.0,9,     2.2,-999.0000,-999.000,  -999.0,-999.000
   31WTTUNES_1,  P17C,    29,  1,     22,     22,2,19910612,2046, 28.4983,-134.9967, 3579,   1624.5,   2.5477,  34.5767,2,  34.5782,2,     62.5,2,  2.4350,     62.2,2,   151.34,2,    41.78,2,     0.01,2,     3.00,2, -999.000,9, -999.000,9, -999.000,9,   1.9230,6,    22.49,6,   -999.0,9,  -999.00,9,   2364.9,2,   -999.0,9,  -999.0,-999.0000,-999.000,  -999.0,-999.000
   31WTTUNES_1,  P17C,    29,  1,     23,     23,2,19910612,2046, 28.4983,-134.9967, 3579,   1778.5,   2.2906,  34.5949,2,  34.5963,2,     70.3,2,  2.1685,     69.8,2,   157.19,2,    41.50,2,     0.01,2,     2.97,2, -999.000,9, -999.000,9, -999.000,9,   1.9220,6,    22.92,6,   -999.0,9,  -999.00,9,   2367.8,2,   -999.0,9,  -999.0,-999.0000,-999.000,  -999.0,-999.000
   31WTTUNES_1,  P17C,    29,  1,     24,     24,2,19910612,2046, 28.4983,-134.9967, 3579,   1930.2,   2.1115,  34.6089,2,  34.6112,2,     77.8,2,  1.9793,     77.7,2,   162.44,2,    40.68,2,     0.00,2,     2.93,2, -999.000,9, -999.000,9, -999.000,9,   1.9200,6,    23.18,6,   -999.0,9,  -999.00,9,   2366.5,2,   -999.0,9,  -999.0,-999.0000,-999.000,  -999.0,-999.000
   31WTTUNES_1,  P17C,    29,  1,     25,     25,2,19910612,2046, 28.4983,-134.9967, 3579,   2076.2,   1.9599,  34.6238,2,  34.6271,2,     85.5,2,  1.8177,     84.2,2,   166.68,2,    40.68,2,     0.00,2,     2.89,2, -999.000,9, -999.000,9, -999.000,9,   1.9170,2,    23.49,2,   -999.0,9,  -999.00,9,   2368.6,2,   -999.0,9,  -999.0,-999.0000,-999.000,  -999.0,-999.000
   31WTTUNES_1,  P17C,    29,  1,     26,     26,2,19910612,2046, 28.4983,-134.9967, 3579,   2230.6,   1.8367,  34.6320,2,  34.6344,2,     92.3,2,  1.6833,     92.7,2,   169.31,2,    40.38,2,     0.02,2,     2.85,2, -999.000,9, -999.000,9, -999.000,9,   1.9270,6,    22.52,6,   -258.0,2,    -0.78,2,   2366.6,2,   -999.0,9,     3.5,-999.0000,-999.000,  -999.0,-999.000
   31WTTUNES_1,  P17C,    29,  1,     27,     27,2,19910612,2046, 28.4983,-134.9967, 3579,   2376.0,   1.7488,  34.6420,2,  34.6423,2,     98.7,2,  1.5843,     98.6,2,   170.12,2,    39.84,2,     0.02,2,     2.82,2, -999.000,9, -999.000,9, -999.000,9,   1.9210,6,    21.41,6,   -999.0,9,  -999.00,9,   2362.1,2,   -999.0,9,  -999.0,-999.0000,-999.000,  -999.0,-999.000
   31WTTUNES_1,  P17C,    29,  1,     28,     28,2,19910612,2046, 28.4983,-134.9967, 3579,   2532.5,   1.6830,  34.6489,2,  34.6482,2,    106.4,2,  1.5057,    105.3,2,   170.53,2,    38.98,2,     0.01,2,     2.79,2, -999.000,9, -999.000,9, -999.000,9,   1.9220,2,    20.41,2,   -999.0,9,    -0.02,3,   2359.8,2,   -999.0,9,  -999.0,-999.0000,-999.000,  -999.0,-999.000
   31WTTUNES_1,  P17C,    29,  1,     29,     29,2,19910612,2046, 28.4983,-134.9967, 3579,   2690.2,   1.6292,  34.6541,2,  34.6543,2,    111.8,2,  1.4387,    110.8,2,   169.93,2,    38.76,2,     0.01,2,     2.76,2, -999.000,9, -999.000,9, -999.000,9,   1.9310,6,    19.74,6,   -999.0,9,    -0.05,3,   2356.3,2,   -999.0,9,  -999.0,-999.0000,-999.000,  -999.0,-999.000
   31WTTUNES_1,  P17C,    29,  1,     30,     30,2,19910612,2046, 28.4983,-134.9967, 3579,   2837.0,   1.5944,  34.6576,2,  34.6592,2,    115.3,2,  1.3911,    115.5,2,   169.94,2,    38.38,2,     0.01,2,     2.73,2, -999.000,9, -999.000,9, -999.000,9,   1.9210,6,    19.08,6,   -999.0,9,  -999.00,9,   2354.8,2,   -999.0,9,  -999.0,-999.0000,-999.000,  -999.0,-999.000
   31WTTUNES_1,  P17C,    29,  1,     31,     31,2,19910612,2046, 28.4983,-134.9967, 3579,   2990.9,   1.5516,  34.6639,2,  34.6651,2,    122.5,2,  1.3346,    121.6,2,   168.53,2,    37.74,2,     0.01,2,     2.70,2, -999.000,9, -999.000,9, -999.000,9,-999.0000,5,    18.42,6,   -999.0,9,  -999.00,9,   2349.5,2,   -999.0,9,  -999.0,-999.0000,-999.000,  -999.0,-999.000
   31WTTUNES_1,  P17C,    29,  1,     32,     32,2,19910612,2046, 28.4983,-134.9967, 3579,   3141.9,   1.5299,  34.6673,2,  34.6694,2,    127.5,2,  1.2988,    126.0,2,   167.32,2,    37.67,2,     0.01,2,     2.68,2, -999.000,9, -999.000,9, -999.000,9,-999.0000,5,    17.44,2,   -999.0,9,  -999.00,9,   2345.8,2,   -999.0,9,  -999.0,-999.0000,-999.000,  -999.0,-999.000
   31WTTUNES_1,  P17C,    29,  1,     33,     33,2,19910612,2046, 28.4983,-134.9967, 3579,   3297.1,   1.5170,  34.6697,2,  34.6718,2,    130.8,2,  1.2709,    129.1,2,   166.32,2,    37.67,2,     0.00,2,     2.67,2,    0.004,2,    0.000,2, -999.000,9,   1.9060,6,    17.53,6,   -999.0,9,  -999.00,9,   2344.2,2,   -999.0,9,  -999.0,-999.0000,-999.000,  -999.0,-999.000
   31WTTUNES_1,  P17C,    29,  1,     34,     34,2,19910612,2046, 28.4983,-134.9967, 3579,   3451.6,   1.5057,  34.6731,2,  34.6747,2,    133.7,2,  1.2444,    133.1,2,   165.31,2,    37.07,2,     0.02,2,     2.65,2,    0.001,2,    0.004,2, -999.000,9,   1.9110,6,    17.29,6,   -999.0,9,  -999.00,9,   2341.2,2,   -999.0,9,  -999.0,-999.0000,-999.000,  -999.0,-999.000
   31WTTUNES_1,  P17C,    29,  1,     35,     35,2,19910612,2046, 28.4983,-134.9967, 3579,   3658.5,   1.5023,  34.6765,2,  34.6773,2,    136.4,2,  1.2198,    137.2,2,   164.30,2,    36.59,2,     0.01,2,     2.62,2,    0.002,2,    0.009,2, -999.000,9,   1.9090,6,    17.10,6,   -999.0,9,  -999.00,9,   2339.8,2,   -999.0,9,  -999.0,-999.0000,-999.000,  -999.0,-999.000
   31WTTUNES_1,  P17C,    29,  1,     36,     36,2,19910612,2046, 28.4983,-134.9967, 3579,   3894.2,   1.5139,  34.6767,2,  34.6787,2,   -999.0,9,  1.2061,    138.3,2,   163.50,2,    36.85,2,     0.01,2,     2.62,2,    0.003,2,    0.009,2, -999.000,9,   1.9080,2,    16.63,2,   -999.0,9,  -999.00,9,   2338.2,2,   -999.0,9,  -999.0,-999.0000,-999.000,  -999.0,-999.000