BOTTLE,20220819CCHSIOAMB
EXPOCODE,SECT_ID,STNNBR,CASTNO,SAMPNO,BTLNBR,BTLNBR_FLAG_W,DATE,TIME,LATITUDE,LONGITUDE,DEPTH,CTDPRS,CTDTMP,CTDSAL,CTDSAL_FLAG_W,SALNTY,SALNTY_FLAG_W,CTDOXY,CTDOXY_FLAG_W,THETA,OXYGEN,OXYGEN_FLAG_W,SILCAT,SILCAT_FLAG_W,NITRAT,NITRAT_FLAG_W,NITRIT,NITRIT_FLAG_W,PHSPHT,PHSPHT_FLAG_W,CFC-11,CFC-11_FLAG_W,CFC-12,CFC-12_FLAG_W,TRITUM,TRITUM_FLAG_W,HELIUM,HELIUM_FLAG_W,DELHE3,DELHE3_FLAG_W,DELC14,DELC14_FLAG_W,DELC13,DELC13_FLAG_W,TCARBN,TCARBN_FLAG_W,ALKALI,ALKALI_FLAG_W,C14ERR,HELIER,DELHER,C13ERR,TRITER
,,,,,,,,,,,,DBAR,ITS-90,PSS-78,,PSS-78,,UMOL/KG,,DEG C,UMOL/KG,,UMOL/KG,,UMOL/KG,,UMOL/KG,,UMOL/KG,,PMOL/KG,,PMOL/KG,,TU,,NMOL/KG,,PERCNT,,/MILLE,,/MILLE,,UMOL/KG,,UMOL/KG,,/MILLE,NMOL/KG,PERCNT,/MILLE,TU
   31WTTUNES_1,  P17C,    40,  1,      1,      1,2,19910616,0232, 23.0000,-135.0000, 5145,      2.2,  21.8233,  34.8681,2,  34.8729,2,    218.5,3, 21.8229,    223.1,2,     4.48,2,     0.12,2,     0.00,2,     0.19,2, -999.000,9, -999.000,9, -999.000,9,-999.0000,9,  -999.00,9,   -999.0,9,  -999.00,9,   -999.0,9,   -999.0,9,  -999.0,-999.0000,-999.000,  -999.0,-999.000
   31WTTUNES_1,  P17C,    40,  1,      2,      2,2,19910616,0232, 23.0000,-135.0000, 5145,     32.9,  21.8283,  34.8691,2,  34.8747,2,    224.4,2, 21.8219,    222.7,2,     4.48,2,     0.11,2,     0.00,2,     0.19,2, -999.000,9, -999.000,9, -999.000,9,-999.0000,9,  -999.00,9,   -999.0,9,  -999.00,9,   -999.0,9,   -999.0,9,  -999.0,-999.0000,-999.000,  -999.0,-999.000
   31WTTUNES_1,  P17C,    40,  1,      3,      3,2,19910616,0232, 23.0000,-135.0000, 5145,     62.9,  21.2275,  35.0236,2,  35.0551,2,    230.8,2, 21.2154,    227.5,2,     4.48,2,     0.11,2,     0.00,2,     0.17,2, -999.000,9, -999.000,9, -999.000,9,-999.0000,9,  -999.00,9,   -999.0,9,  -999.00,9,   -999.0,9,   -999.0,9,  -999.0,-999.0000,-999.000,  -999.0,-999.000
   31WTTUNES_1,  P17C,    40,  1,      4,      4,2,19910616,0232, 23.0000,-135.0000, 5145,    108.8,  20.3339,  35.1080,2,  35.1122,2,    226.6,2, 20.3136,    217.5,2,     4.47,2,     0.10,2,     0.00,2,     0.17,2, -999.000,9, -999.000,9, -999.000,9,-999.0000,9,  -999.00,9,   -999.0,9,  -999.00,9,   -999.0,9,   -999.0,9,  -999.0,-999.0000,-999.000,  -999.0,-999.000
   31WTTUNES_1,  P17C,    40,  1,      5,      5,2,19910616,0232, 23.0000,-135.0000, 5145,    153.8,  18.8485,  34.9692,2,  34.9581,2,    207.0,2, 18.8213,    202.2,2,     4.88,2,     1.93,2,     0.03,2,     0.27,2, -999.000,9, -999.000,9, -999.000,9,-999.0000,9,  -999.00,9,   -999.0,9,  -999.00,9,   -999.0,9,   -999.0,9,  -999.0,-999.0000,-999.000,  -999.0,-999.000
   31WTTUNES_1,  P17C,    40,  1,      6,      6,2,19910616,0232, 23.0000,-135.0000, 5145,    174.8,  17.6598,  34.8056,2,  34.8015,2,    206.5,2, 17.6302,    200.7,2,     5.69,2,     3.03,2,     0.02,2,     0.35,2, -999.000,9, -999.000,9, -999.000,9,-999.0000,9,  -999.00,9,   -999.0,9,  -999.00,9,   -999.0,9,   -999.0,9,  -999.0,-999.0000,-999.000,  -999.0,-999.000
   31WTTUNES_1,  P17C,    40,  1,      7,      7,2,19910616,0232, 23.0000,-135.0000, 5145,    200.4,  15.9262,  34.5390,2,  34.5425,2,    208.5,2, 15.8947,    204.6,2,     6.50,2,     4.24,2,     0.02,2,     0.44,2, -999.000,9, -999.000,9, -999.000,9,-999.0000,9,  -999.00,9,   -999.0,9,  -999.00,9,   -999.0,9,   -999.0,9,  -999.0,-999.0000,-999.000,  -999.0,-999.000
   31WTTUNES_1,  P17C,    40,  1,      8,      8,2,19910616,0232, 23.0000,-135.0000, 5145,    253.1,  11.5523,  34.1048,2,  34.1087,2,    193.5,2, 11.5204,    182.7,2,    15.63,2,    13.69,2,     0.01,2,     1.06,2, -999.000,9, -999.000,9, -999.000,9,-999.0000,9,  -999.00,9,   -999.0,9,  -999.00,9,   -999.0,9,   -999.0,9,  -999.0,-999.0000,-999.000,  -999.0,-999.000
   31WTTUNES_1,  P17C,    40,  1,      9,      9,2,19910616,0232, 23.0000,-135.0000, 5145,    303.1,   9.5181,  34.0597,2,  34.0625,2,    167.0,2,  9.4842,    168.4,2,    25.76,2,    20.03,2,     0.00,2,     1.47,2, -999.000,9, -999.000,9, -999.000,9,-999.0000,9,  -999.00,9,   -999.0,9,  -999.00,9,   -999.0,9,   -999.0,9,  -999.0,-999.0000,-999.000,  -999.0,-999.000
   31WTTUNES_1,  P17C,    40,  1,     10,     10,2,19910616,0232, 23.0000,-135.0000, 5145,    354.3,   8.2350,  34.0453,2,  34.0495,2,    144.2,2,  8.1986,    148.2,2,    36.69,2,    24.76,2,     0.00,2,     1.80,2, -999.000,9, -999.000,9, -999.000,9,-999.0000,9,  -999.00,9,   -999.0,9,  -999.00,9,   -999.0,9,   -999.0,9,  -999.0,-999.0000,-999.000,  -999.0,-999.000
   31WTTUNES_1,  P17C,    40,  1,     11,     11,2,19910616,0232, 23.0000,-135.0000, 5145,    405.6,   7.6450,  34.1292,2,  34.1338,2,     88.6,2,  7.6051,     90.8,2,    49.22,2,    30.39,2,     0.01,2,     2.26,2, -999.000,9, -999.000,9, -999.000,9,-999.0000,9,  -999.00,9,   -999.0,9,  -999.00,9,   -999.0,9,   -999.0,9,  -999.0,-999.0000,-999.000,  -999.0,-999.000
   31WTTUNES_1,  P17C,    40,  1,     12,     12,2,19910616,0232, 23.0000,-135.0000, 5145,    456.8,   6.9939,  34.1895,2,  34.1930,2,     51.9,2,  6.9509,     54.4,2,    60.73,2,    34.55,2,     0.00,2,     2.60,2, -999.000,9, -999.000,9, -999.000,9,-999.0000,9,  -999.00,9,   -999.0,9,  -999.00,9,   -999.0,9,   -999.0,9,  -999.0,-999.0000,-999.000,  -999.0,-999.000
   31WTTUNES_1,  P17C,    40,  1,     13,     13,2,19910616,0232, 23.0000,-135.0000, 5145,    506.9,   6.3175,  34.1943,2,  34.2011,2,     40.9,2,  6.2722,     40.5,2,    70.60,2,    37.21,2,     0.00,2,     2.76,2, -999.000,9, -999.000,9, -999.000,9,-999.0000,9,  -999.00,9,   -999.0,9,  -999.00,9,   -999.0,9,   -999.0,9,  -999.0,-999.0000,-999.000,  -999.0,-999.000
   31WTTUNES_1,  P17C,    40,  1,     14,     14,2,19910616,0232, 23.0000,-135.0000, 5145,    603.7,   5.5900,  34.3093,2,  34.3182,2,     22.9,2,  5.5389,     19.8,2,    85.92,2,    40.60,2,     0.00,2,     3.01,2, -999.000,9, -999.000,9, -999.000,9,-999.0000,9,  -999.00,9,   -999.0,9,  -999.00,9,   -999.0,9,   -999.0,9,  -999.0,-999.0000,-999.000,  -999.0,-999.000
   31WTTUNES_1,  P17C,    40,  1,     15,     15,2,19910616,0232, 23.0000,-135.0000, 5145,    706.9,   5.2813,  34.4092,2,  34.4155,2,     16.5,2,  5.2225,     16.4,2,    92.73,2,    41.94,2,     0.00,2,     3.08,2, -999.000,9, -999.000,9, -999.000,9,-999.0000,9,  -999.00,9,   -999.0,9,  -999.00,9,   -999.0,9,   -999.0,9,  -999.0,-999.0000,-999.000,  -999.0,-999.000
   31WTTUNES_1,  P17C,    40,  1,     16,     16,2,19910616,0232, 23.0000,-135.0000, 5145,    809.0,   4.7835,  34.4472,2,  34.4512,2,     25.0,2,  4.7187,     25.5,2,   100.14,2,    42.64,2,     0.00,2,     3.08,2, -999.000,9, -999.000,9, -999.000,9,-999.0000,9,  -999.00,9,   -999.0,9,  -999.00,9,   -999.0,9,   -999.0,9,  -999.0,-999.0000,-999.000,  -999.0,-999.000
   31WTTUNES_1,  P17C,    40,  1,     17,     17,2,19910616,0232, 23.0000,-135.0000, 5145,    906.5,   4.4801,  34.4742,2,  34.4795,2,     28.8,2,  4.4088,     28.1,2,   105.52,2,    42.97,2,     0.00,2,     3.09,2, -999.000,9, -999.000,9, -999.000,9,-999.0000,9,  -999.00,9,   -999.0,9,  -999.00,9,   -999.0,9,   -999.0,9,  -999.0,-999.0000,-999.000,  -999.0,-999.000
   31WTTUNES_1,  P17C,    40,  1,     18,     18,2,19910616,0232, 23.0000,-135.0000, 5145,   1008.9,   4.1620,  34.5005,2,  34.5031,2,     32.2,2,  4.0843,     31.7,2,   112.31,2,    43.24,2,     0.00,2,     3.10,2, -999.000,9, -999.000,9, -999.000,9,-999.0000,9,  -999.00,9,   -999.0,9,  -999.00,9,   -999.0,9,   -999.0,9,  -999.0,-999.0000,-999.000,  -999.0,-999.000
   31WTTUNES_1,  P17C,    40,  1,     19,     19,2,19910616,0232, 23.0000,-135.0000, 5145,   1210.8,   3.6382,  34.5325,2,  34.5331,2,     40.6,2,  3.5480,     39.2,2,   124.33,2,    43.07,2,     0.00,2,     3.08,2, -999.000,9, -999.000,9, -999.000,9,-999.0000,9,  -999.00,9,   -999.0,9,  -999.00,9,   -999.0,9,   -999.0,9,  -999.0,-999.0000,-999.000,  -999.0,-999.000
   31WTTUNES_1,  P17C,    40,  1,     20,     20,2,19910616,0232, 23.0000,-135.0000, 5145,   1413.3,   3.1504,  34.5571,2,  34.5604,2,     50.8,2,  3.0482,     51.5,2,   135.12,2,    42.52,2,     0.00,2,     3.03,2, -999.000,9, -999.000,9, -999.000,9,-999.0000,9,  -999.00,9,   -999.0,9,  -999.00,9,   -999.0,9,   -999.0,9,  -999.0,-999.0000,-999.000,  -999.0,-999.000
   31WTTUNES_1,  P17C,    40,  1,     21,     21,2,19910616,0232, 23.0000,-135.0000, 5145,   1617.0,   2.7675,  34.5821,2,  34.5830,2,     60.5,2,  2.6527,     60.4,2,   144.30,2,    41.98,2,     0.00,2,     2.97,2, -999.000,9, -999.000,9, -999.000,9,-999.0000,9,  -999.00,9,   -999.0,9,  -999.00,9,   -999.0,9,   -999.0,9,  -999.0,-999.0000,-999.000,  -999.0,-999.000
   31WTTUNES_1,  P17C,    40,  1,     22,     22,2,19910616,0232, 23.0000,-135.0000, 5145,   1823.3,   2.4131,  34.6028,2,  34.6058,2,     74.2,2,  2.2856,     73.7,2,   152.25,2,    41.16,2,     0.00,2,     2.89,2, -999.000,9, -999.000,9, -999.000,9,-999.0000,9,  -999.00,9,   -999.0,9,  -999.00,9,   -999.0,9,   -999.0,9,  -999.0,-999.0000,-999.000,  -999.0,-999.000
   31WTTUNES_1,  P17C,    40,  1,     23,     23,2,19910616,0232, 23.0000,-135.0000, 5145,   2024.3,   2.1747,  34.6202,2,  34.6217,2,     85.5,2,  2.0336,     84.3,2,   156.98,2,    40.51,2,     0.00,2,     2.81,2, -999.000,9, -999.000,9, -999.000,9,-999.0000,9,  -999.00,9,   -999.0,9,  -999.00,9,   -999.0,9,   -999.0,9,  -999.0,-999.0000,-999.000,  -999.0,-999.000
   31WTTUNES_1,  P17C,    40,  1,     24,     24,2,19910616,0232, 23.0000,-135.0000, 5145,   2224.6,   1.9877,  34.6346,2,  34.6346,2,     95.3,2,  1.8322,     93.9,2,   160.70,2,    39.87,2,     0.00,2,     2.76,2, -999.000,9, -999.000,9, -999.000,9,-999.0000,9,  -999.00,9,   -999.0,9,  -999.00,9,   -999.0,9,   -999.0,9,  -999.0,-999.0000,-999.000,  -999.0,-999.000
   31WTTUNES_1,  P17C,    40,  1,     25,     25,2,19910616,0232, 23.0000,-135.0000, 5145,   2426.7,   1.8504,  34.6430,2,  34.6441,2,    102.8,2,  1.6795,    101.8,2,   163.41,2,    39.33,2,     0.00,2,     2.80,4, -999.000,9, -999.000,9, -999.000,9,-999.0000,9,  -999.00,9,   -999.0,9,  -999.00,9,   -999.0,9,   -999.0,9,  -999.0,-999.0000,-999.000,  -999.0,-999.000
   31WTTUNES_1,  P17C,    40,  1,     26,     26,2,19910616,0232, 23.0000,-135.0000, 5145,   2679.8,   1.7082,  34.6525,2,  34.6531,2,    111.0,2,  1.5170,    110.4,2,   166.31,2,    38.69,2,     0.00,2,     2.76,4, -999.000,9, -999.000,9, -999.000,9,-999.0000,9,  -999.00,9,   -999.0,9,  -999.00,9,   -999.0,9,   -999.0,9,  -999.0,-999.0000,-999.000,  -999.0,-999.000
   31WTTUNES_1,  P17C,    40,  1,     27,     27,2,19910616,0232, 23.0000,-135.0000, 5145,   2939.1,   1.6035,  34.6620,2,  34.6635,2,    121.2,2,  1.3903,    120.0,2,   167.41,2,    38.22,2,     0.00,2,     2.72,4, -999.000,9, -999.000,9, -999.000,9,-999.0000,9,  -999.00,9,   -999.0,9,  -999.00,9,   -999.0,9,   -999.0,9,  -999.0,-999.0000,-999.000,  -999.0,-999.000
   31WTTUNES_1,  P17C,    40,  1,     28,     28,2,19910616,0232, 23.0000,-135.0000, 5145,   3194.5,   1.5428,  34.6700,2,  34.6692,2,    127.9,2,  1.3062,    127.5,2,   166.71,2,    37.85,2,     0.00,2,     2.66,4, -999.000,9, -999.000,9, -999.000,9,-999.0000,9,  -999.00,9,   -999.0,9,  -999.00,9,   -999.0,9,   -999.0,9,  -999.0,-999.0000,-999.000,  -999.0,-999.000
   31WTTUNES_1,  P17C,    40,  1,     29,     29,2,19910616,0232, 23.0000,-135.0000, 5145,   3444.5,   1.5087,  34.6758,2,  34.6753,2,    134.3,2,  1.2480,    135.1,2,   165.20,2,    37.32,2,     0.00,2,     2.63,4, -999.000,9, -999.000,9, -999.000,9,-999.0000,9,  -999.00,9,   -999.0,9,  -999.00,9,   -999.0,9,   -999.0,9,  -999.0,-999.0000,-999.000,  -999.0,-999.000
   31WTTUNES_1,  P17C,    40,  1,     30,     30,2,19910616,0232, 23.0000,-135.0000, 5145,   3703.5,   1.4955,  34.6792,2,  34.6785,2,    139.4,2,  1.2084,    139.4,2,   163.10,2,    36.89,2,     0.00,2,     2.61,4, -999.000,9, -999.000,9, -999.000,9,-999.0000,9,  -999.00,9,   -999.0,9,  -999.00,9,   -999.0,9,   -999.0,9,  -999.0,-999.0000,-999.000,  -999.0,-999.000
   31WTTUNES_1,  P17C,    40,  1,     31,     31,2,19910616,0232, 23.0000,-135.0000, 5145,   3959.2,   1.4959,  34.6816,2,  34.6822,2,    144.2,2,  1.1816,    143.8,2,   160.80,2,    36.63,2,     0.00,2,     2.58,4, -999.000,9, -999.000,9, -999.000,9,-999.0000,9,  -999.00,9,   -999.0,9,  -999.00,9,   -999.0,9,   -999.0,9,  -999.0,-999.0000,-999.000,  -999.0,-999.000
   31WTTUNES_1,  P17C,    40,  1,     32,     32,2,19910616,0232, 23.0000,-135.0000, 5145,   4213.7,   1.4886,  34.6829,2,  34.6849,2,    150.3,2,  1.1465,    150.5,2,   157.30,2,    36.11,2,     0.00,2,     2.57,4, -999.000,9, -999.000,9, -999.000,9,-999.0000,9,  -999.00,9,   -999.0,9,  -999.00,9,   -999.0,9,   -999.0,9,  -999.0,-999.0000,-999.000,  -999.0,-999.000
   31WTTUNES_1,  P17C,    40,  1,     33,     33,2,19910616,0232, 23.0000,-135.0000, 5145,   4474.3,   1.4759,  34.6871,2,  34.6877,2,    157.1,2,  1.1047,    156.2,2,   152.01,2,    35.84,2,     0.00,2,     2.52,4, -999.000,9, -999.000,9, -999.000,9,-999.0000,9,  -999.00,9,   -999.0,9,  -999.00,9,   -999.0,9,   -999.0,9,  -999.0,-999.0000,-999.000,  -999.0,-999.000
   31WTTUNES_1,  P17C,    40,  1,     34,     34,2,19910616,0232, 23.0000,-135.0000, 5145,   4729.7,   1.4655,  34.6895,2,  34.6910,2,    163.4,2,  1.0648,    164.0,2,   147.32,2,    35.32,2,     0.00,2,     2.49,4, -999.000,9, -999.000,9, -999.000,9,-999.0000,9,  -999.00,9,   -999.0,9,  -999.00,9,   -999.0,9,   -999.0,9,  -999.0,-999.0000,-999.000,  -999.0,-999.000
   31WTTUNES_1,  P17C,    40,  1,     35,     35,2,19910616,0232, 23.0000,-135.0000, 5145,   4996.6,   1.4796,  34.6909,2,  34.6914,2,    166.5,2,  1.0465,    165.2,2,   145.03,2,    35.16,2,     0.00,2,     2.49,4, -999.000,9, -999.000,9, -999.000,9,-999.0000,9,  -999.00,9,   -999.0,9,  -999.00,9,   -999.0,9,   -999.0,9,  -999.0,-999.0000,-999.000,  -999.0,-999.000
   31WTTUNES_1,  P17C,    40,  1,     36,     36,2,19910616,0232, 23.0000,-135.0000, 5145,   5278.4,   1.5144,  34.6916,2,  34.6912,2,   -999.0,9,  1.0453,    165.3,2,   144.94,2,    35.06,2,     0.00,2,     2.47,4, -999.000,9, -999.000,9, -999.000,9,-999.0000,9,  -999.00,9,   -999.0,9,  -999.00,9,   -999.0,9,   -999.0,9,  -999.0,-999.0000,-999.000,  -999.0,-999.000