BOTTLE,20220819CCHSIOAMB
EXPOCODE,SECT_ID,STNNBR,CASTNO,SAMPNO,BTLNBR,BTLNBR_FLAG_W,DATE,TIME,LATITUDE,LONGITUDE,DEPTH,CTDPRS,CTDTMP,CTDSAL,CTDSAL_FLAG_W,SALNTY,SALNTY_FLAG_W,CTDOXY,CTDOXY_FLAG_W,THETA,OXYGEN,OXYGEN_FLAG_W,SILCAT,SILCAT_FLAG_W,NITRAT,NITRAT_FLAG_W,NITRIT,NITRIT_FLAG_W,PHSPHT,PHSPHT_FLAG_W,CFC-11,CFC-11_FLAG_W,CFC-12,CFC-12_FLAG_W,TRITUM,TRITUM_FLAG_W,HELIUM,HELIUM_FLAG_W,DELHE3,DELHE3_FLAG_W,DELC14,DELC14_FLAG_W,DELC13,DELC13_FLAG_W,TCARBN,TCARBN_FLAG_W,ALKALI,ALKALI_FLAG_W,C14ERR,HELIER,DELHER,C13ERR,TRITER
,,,,,,,,,,,,DBAR,ITS-90,PSS-78,,PSS-78,,UMOL/KG,,DEG C,UMOL/KG,,UMOL/KG,,UMOL/KG,,UMOL/KG,,UMOL/KG,,PMOL/KG,,PMOL/KG,,TU,,NMOL/KG,,PERCNT,,/MILLE,,/MILLE,,UMOL/KG,,UMOL/KG,,/MILLE,NMOL/KG,PERCNT,/MILLE,TU
   31WTTUNES_1,  P17C,    74,  1,      1,      1,2,19910626,1235,  6.0017,-134.9983, 4626,      0.2,  28.8024,  34.2447,2,  34.2477,2,    209.5,3, 28.8023,    210.0,2,     3.22,2,     0.00,2,     0.00,2,     0.23,2,    1.556,2,    0.926,2, -999.000,9,-999.0000,9,  -999.00,9,   -999.0,9,  -999.00,9,   1915.8,2,   2251.0,2,  -999.0,-999.0000,-999.000,  -999.0,-999.000
   31WTTUNES_1,  P17C,    74,  1,      2,      2,2,19910626,1235,  6.0017,-134.9983, 4626,     27.5,  28.7504,  34.4150,2,  34.4336,2,    213.5,2, 28.7438,    210.8,2,     3.22,2,     0.00,2,     0.00,2,     0.23,2, -999.000,9, -999.000,9, -999.000,9,-999.0000,9,  -999.00,9,   -999.0,9,  -999.00,9,   1924.8,2,   -999.0,9,  -999.0,-999.0000,-999.000,  -999.0,-999.000
   31WTTUNES_1,  P17C,    74,  1,      3,      3,2,19910626,1235,  6.0017,-134.9983, 4626,     52.3,  28.6033,  34.6841,2,  34.7272,2,    211.4,2, 28.5908,    203.0,2,     3.22,2,     0.00,2,     0.04,2,     0.29,2,    1.576,2,    0.914,2, -999.000,9,-999.0000,9,  -999.00,9,   -999.0,9,  -999.00,9,   1952.4,2,   2280.6,2,  -999.0,-999.0000,-999.000,  -999.0,-999.000
   31WTTUNES_1,  P17C,    74,  1,      4,      4,2,19910626,1235,  6.0017,-134.9983, 4626,     67.8,  28.1211,  34.8463,2,  34.8474,2,    193.7,2, 28.1051,    193.3,2,     3.22,2,     0.75,2,     0.12,2,     0.38,2, -999.000,9, -999.000,9, -999.000,9,-999.0000,9,  -999.00,9,   -999.0,9,  -999.00,9,   1973.3,2,   -999.0,9,  -999.0,-999.0000,-999.000,  -999.0,-999.000
   31WTTUNES_1,  P17C,    74,  1,      5,      5,2,19910626,1235,  6.0017,-134.9983, 4626,     76.3,  27.6760,  34.8280,2,  34.8301,2,    190.1,2, 27.6582,    187.7,2,     3.57,2,     0.96,2,     0.33,2,     0.42,2,    1.595,2,    0.943,2, -999.000,9,-999.0000,9,  -999.00,9,   -999.0,9,  -999.00,9,   1980.9,2,   -999.0,9,  -999.0,-999.0000,-999.000,  -999.0,-999.000
   31WTTUNES_1,  P17C,    74,  1,      6,      6,3,19910626,1235,  6.0017,-134.9983, 4626,     87.5,  26.1756,  34.8417,2,-999.0000,5,    170.2,2, 26.1560,   -999.0,5,  -999.00,5,  -999.00,5,  -999.00,5,  -999.00,5, -999.000,9, -999.000,9, -999.000,9,-999.0000,9,  -999.00,9,   -999.0,9,  -999.00,9,   -999.0,9,   -999.0,9,  -999.0,-999.0000,-999.000,  -999.0,-999.000
   31WTTUNES_1,  P17C,    74,  1,      7,      7,2,19910626,1235,  6.0017,-134.9983, 4626,     98.3,  23.9561,  34.8395,2,  34.8289,2,    159.6,2, 23.9354,    153.0,2,     5.71,2,     4.28,2,     1.55,2,     0.62,2,    1.575,2,    0.890,2, -999.000,9,-999.0000,9,  -999.00,9,   -999.0,9,  -999.00,9,   2029.3,2,   2289.2,2,  -999.0,-999.0000,-999.000,  -999.0,-999.000
   31WTTUNES_1,  P17C,    74,  1,      8,      8,2,19910626,1235,  6.0017,-134.9983, 4626,    114.5,  18.9687,  34.7727,2,  34.7652,2,    115.8,2, 18.9484,    111.8,2,    11.96,2,    13.37,2,     0.09,2,     1.12,2, -999.000,9, -999.000,9, -999.000,9,-999.0000,9,  -999.00,9,   -999.0,9,  -999.00,9,   2101.4,2,   -999.0,9,  -999.0,-999.0000,-999.000,  -999.0,-999.000
   31WTTUNES_1,  P17C,    74,  1,      9,      9,2,19910626,1235,  6.0017,-134.9983, 4626,    134.7,  16.2019,  34.6689,2,  34.6661,2,     93.9,2, 16.1805,     92.0,2,    15.53,2,    17.67,2,     0.03,2,     1.42,2,    1.191,2,    0.646,2, -999.000,9,-999.0000,9,  -999.00,9,   -999.0,9,  -999.00,9,   2138.5,2,   -999.0,9,  -999.0,-999.0000,-999.000,  -999.0,-999.000
   31WTTUNES_1,  P17C,    74,  1,     10,     10,2,19910626,1235,  6.0017,-134.9983, 4626,    154.3,  12.8786,  34.6683,2,  34.6659,2,     36.4,2, 12.8576,     37.8,2,    26.25,2,    27.99,2,     0.01,2,     2.13,2, -999.000,9, -999.000,9, -999.000,9,-999.0000,9,  -999.00,9,   -999.0,9,  -999.00,9,   2209.9,2,   2289.8,2,  -999.0,-999.0000,-999.000,  -999.0,-999.000
   31WTTUNES_1,  P17C,    74,  1,     11,     11,2,19910626,1235,  6.0017,-134.9983, 4626,    231.6,  10.2734,  34.6790,2,  34.6785,2,     66.4,2, 10.2461,     64.4,2,    31.96,2,    29.39,2,     0.00,2,     2.15,2,    0.224,2,    0.133,2, -999.000,9,-999.0000,9,  -999.00,9,   -999.0,9,  -999.00,9,   2219.8,2,   2303.3,2,  -999.0,-999.0000,-999.000,  -999.0,-999.000
   31WTTUNES_1,  P17C,    74,  1,     12,     12,2,19910626,1235,  6.0017,-134.9983, 4626,    302.8,   9.7895,  34.6817,2,  34.6821,2,     40.6,2,  9.7548,     45.8,2,    33.92,2,    32.32,2,     0.00,2,     2.32,2,    0.109,2,    0.066,2, -999.000,9,-999.0000,9,  -999.00,9,   -999.0,9,  -999.00,9,   2239.3,2,   2307.0,2,  -999.0,-999.0000,-999.000,  -999.0,-999.000
   31WTTUNES_1,  P17C,    74,  1,     13,     13,2,19910626,1235,  6.0017,-134.9983, 4626,    401.1,   9.1008,  34.6536,2,  34.6548,2,     33.6,2,  9.0566,     42.4,2,    37.48,2,    33.84,2,     0.00,2,     2.44,2,    0.057,2,    0.035,2, -999.000,9,-999.0000,9,  -999.00,9,   -999.0,9,  -999.00,9,   2247.5,2,   2312.6,2,  -999.0,-999.0000,-999.000,  -999.0,-999.000
   31WTTUNES_1,  P17C,    74,  1,     14,     14,2,19910626,1235,  6.0017,-134.9983, 4626,    504.3,   8.2372,  34.6223,2,  34.6206,2,     14.6,2,  8.1845,     17.4,2,    47.12,2,    37.23,2,     0.00,2,     2.79,2,    0.007,2,    0.008,2, -999.000,9,-999.0000,9,  -999.00,9,   -999.0,9,  -999.00,9,   2280.5,2,   -999.0,9,  -999.0,-999.0000,-999.000,  -999.0,-999.000
   31WTTUNES_1,  P17C,    74,  1,     15,     15,2,19910626,1235,  6.0017,-134.9983, 4626,    606.5,   7.1427,  34.5807,2,  34.5807,2,     28.8,2,  7.0839,     33.4,2,    55.32,2,    39.55,2,     0.00,2,     2.91,2, -999.000,9, -999.000,9, -999.000,9,-999.0000,9,  -999.00,9,   -999.0,9,  -999.00,9,   2288.0,2,   2323.8,2,  -999.0,-999.0000,-999.000,  -999.0,-999.000
   31WTTUNES_1,  P17C,    74,  1,     16,     16,2,19910626,1235,  6.0017,-134.9983, 4626,    703.7,   6.2991,  34.5564,2,  34.5589,2,     31.1,2,  6.2350,     32.3,2,    64.42,2,    40.60,2,     0.00,2,     2.97,2, -999.000,9, -999.000,9, -999.000,9,-999.0000,9,  -999.00,9,   -999.0,9,  -999.00,9,   2296.6,2,   -999.0,9,  -999.0,-999.0000,-999.000,  -999.0,-999.000
   31WTTUNES_1,  P17C,    74,  1,     17,     17,2,19910626,1235,  6.0017,-134.9983, 4626,    806.2,   5.5585,  34.5519,2,  34.5530,2,     36.0,2,  5.4890,     35.3,2,    75.83,2,    41.99,2,     0.00,2,     3.05,2, -999.000,9, -999.000,9, -999.000,9,-999.0000,9,  -999.00,9,   -999.0,9,  -999.00,9,   2310.5,2,   -999.0,9,  -999.0,-999.0000,-999.000,  -999.0,-999.000
   31WTTUNES_1,  P17C,    74,  1,     18,     18,2,19910626,1235,  6.0017,-134.9983, 4626,    908.3,   4.9818,  34.5544,2,  34.5564,2,     47.1,2,  4.9068,     46.0,2,    85.10,2,    41.52,2,     0.00,2,     3.02,2,   -0.002,2,    0.008,3, -999.000,9,-999.0000,9,  -999.00,9,   -999.0,9,  -999.00,9,   2313.7,2,   -999.0,9,  -999.0,-999.0000,-999.000,  -999.0,-999.000
   31WTTUNES_1,  P17C,    74,  1,     19,     19,2,19910626,1235,  6.0017,-134.9983, 4626,   1011.6,   4.5650,  34.5622,2,  34.5640,2,     51.8,2,  4.4839,     50.7,2,    93.47,2,    41.50,2,     0.00,2,     3.02,2,   -0.002,2,   -0.002,2, -999.000,9,-999.0000,9,  -999.00,9,   -999.0,9,  -999.00,9,   2312.2,2,   2339.7,2,  -999.0,-999.0000,-999.000,  -999.0,-999.000
   31WTTUNES_1,  P17C,    74,  1,     20,     20,2,19910626,1235,  6.0017,-134.9983, 4626,   1210.0,   3.9174,  34.5774,2,  34.5776,2,     64.1,2,  3.8246,     63.6,2,   106.66,2,    40.64,2,     0.01,2,     2.97,2,   -0.003,2,   -0.001,2, -999.000,9,-999.0000,9,  -999.00,9,   -999.0,9,  -999.00,9,   2334.8,2,   -999.0,9,  -999.0,-999.0000,-999.000,  -999.0,-999.000
   31WTTUNES_1,  P17C,    74,  1,     21,     21,2,19910626,1235,  6.0017,-134.9983, 4626,   1409.3,   3.3798,  34.5943,2,  34.5939,2,     73.2,2,  3.2753,     71.6,2,   118.95,2,    40.23,2,     0.00,2,     2.92,2, -999.000,9, -999.000,9, -999.000,9,-999.0000,9,  -999.00,9,   -999.0,9,  -999.00,9,   2343.8,2,   -999.0,9,  -999.0,-999.0000,-999.000,  -999.0,-999.000
   31WTTUNES_1,  P17C,    74,  1,     22,     22,3,19910626,1235,  6.0017,-134.9983, 4626,   1614.7,   2.9041,  34.6111,2,  34.5892,4,     82.0,2,  2.7876,     81.7,2,   128.57,2,    39.49,2,     0.00,2,     2.87,2, -999.000,9, -999.000,9, -999.000,9,-999.0000,9,  -999.00,9,   -999.0,9,  -999.00,9,   2349.5,2,   -999.0,9,  -999.0,-999.0000,-999.000,  -999.0,-999.000
   31WTTUNES_1,  P17C,    74,  1,     23,     23,2,19910626,1235,  6.0017,-134.9983, 4626,   1824.7,   2.5393,  34.6263,2,  34.6271,2,     89.5,2,  2.4098,     89.5,2,   137.83,2,    39.30,2,     0.00,2,     2.82,2, -999.000,9, -999.000,9, -999.000,9,-999.0000,9,  -999.00,9,   -999.0,9,  -999.00,9,   2355.9,2,   -999.0,9,  -999.0,-999.0000,-999.000,  -999.0,-999.000
   31WTTUNES_1,  P17C,    74,  1,     24,     24,2,19910626,1235,  6.0017,-134.9983, 4626,   2028.1,   2.2205,  34.6424,2,  34.6436,2,     97.9,2,  2.0783,     97.5,2,   145.48,2,    38.73,2,     0.00,2,     2.78,2, -999.000,9, -999.000,9, -999.000,9,-999.0000,9,  -999.00,9,   -999.0,9,  -999.00,9,   2361.1,2,   -999.0,9,  -999.0,-999.0000,-999.000,  -999.0,-999.000
   31WTTUNES_1,  P17C,    74,  1,     25,     25,2,19910626,1235,  6.0017,-134.9983, 4626,   2229.3,   2.0186,  34.6556,2,  34.6552,2,    104.3,2,  1.8622,    103.7,2,   150.45,2,    38.38,2,     0.00,2,     2.74,2, -999.000,9, -999.000,9, -999.000,9,-999.0000,9,  -999.00,9,   -999.0,9,  -999.00,9,   2362.4,2,   2430.9,2,  -999.0,-999.0000,-999.000,  -999.0,-999.000
   31WTTUNES_1,  P17C,    74,  1,     26,     26,2,19910626,1235,  6.0017,-134.9983, 4626,   2430.6,   1.8997,  34.6636,2,  34.6637,2,    110.3,2,  1.7275,    110.5,2,   153.11,2,    38.14,2,     0.00,2,     2.69,2, -999.000,9, -999.000,9, -999.000,9,-999.0000,9,  -999.00,9,   -999.0,9,  -999.00,9,   2363.6,2,   -999.0,9,  -999.0,-999.0000,-999.000,  -999.0,-999.000
   31WTTUNES_1,  P17C,    74,  1,     27,     27,2,19910626,1235,  6.0017,-134.9983, 4626,   2625.5,   1.8398,  34.6670,2,  34.6674,2,    112.7,2,  1.6510,    112.8,2,   154.87,2,    37.90,2,     0.00,2,     2.66,2, -999.000,9, -999.000,9, -999.000,9,-999.0000,9,  -999.00,9,   -999.0,9,  -999.00,9,   2362.1,2,   -999.0,9,  -999.0,-999.0000,-999.000,  -999.0,-999.000
   31WTTUNES_1,  P17C,    74,  1,     28,     28,2,19910626,1235,  6.0017,-134.9983, 4626,   2826.6,   1.7878,  34.6701,2,  34.6708,2,    117.1,2,  1.5813,    117.0,2,   155.21,2,    37.71,2,     0.00,2,     2.65,2, -999.000,9, -999.000,9, -999.000,9,-999.0000,9,  -999.00,9,   -999.0,9,  -999.00,9,   2362.9,2,   -999.0,9,  -999.0,-999.0000,-999.000,  -999.0,-999.000
   31WTTUNES_1,  P17C,    74,  1,     29,     29,2,19910626,1235,  6.0017,-134.9983, 4626,   3029.1,   1.7099,  34.6758,2,  34.6749,2,    122.6,2,  1.4856,    123.8,2,   155.19,2,    37.53,2,     0.00,2,     2.61,2, -999.000,9, -999.000,9, -999.000,9,-999.0000,9,  -999.00,9,   -999.0,9,  -999.00,9,   2358.3,2,   -999.0,9,  -999.0,-999.0000,-999.000,  -999.0,-999.000
   31WTTUNES_1,  P17C,    74,  1,     30,     30,3,19910626,1235,  6.0017,-134.9983, 4626,   3290.0,   1.5530,  34.6817,2,  34.6829,2,    136.1,2,  1.3067,    138.1,3,   153.04,2,    36.57,2,     0.00,2,     2.53,2, -999.000,9, -999.000,9, -999.000,9,-999.0000,9,  -999.00,9,   -999.0,9,  -999.00,9,   2348.7,2,   -999.0,9,  -999.0,-999.0000,-999.000,  -999.0,-999.000
   31WTTUNES_1,  P17C,    74,  1,     31,     31,2,19910626,1235,  6.0017,-134.9983, 4626,   3555.8,   1.4920,  34.6862,2,  34.6867,2,    146.4,2,  1.2203,    147.1,2,   149.99,2,    36.06,2,     0.00,2,     2.48,2, -999.000,9, -999.000,9, -999.000,9,-999.0000,9,  -999.00,9,   -999.0,9,  -999.00,9,   2338.4,2,   2436.9,2,  -999.0,-999.0000,-999.000,  -999.0,-999.000
   31WTTUNES_1,  P17C,    74,  1,     32,     32,2,19910626,1235,  6.0017,-134.9983, 4626,   3819.7,   1.4360,  34.6899,2,  34.6898,2,    154.8,2,  1.1383,    155.1,2,   147.48,2,    35.60,2,     0.00,2,     2.44,2, -999.000,9, -999.000,9, -999.000,9,-999.0000,9,  -999.00,9,   -999.0,9,  -999.00,9,   2333.1,2,   -999.0,9,  -999.0,-999.0000,-999.000,  -999.0,-999.000
   31WTTUNES_1,  P17C,    74,  1,     33,     33,2,19910626,1235,  6.0017,-134.9983, 4626,   4070.7,   1.4221,  34.6912,2,  34.6922,2,    158.9,2,  1.0976,    159.5,2,   145.86,2,    35.42,2,     0.00,2,     2.43,2, -999.000,9, -999.000,9, -999.000,9,-999.0000,9,  -999.00,9,   -999.0,9,  -999.00,9,   2330.9,2,   -999.0,9,  -999.0,-999.0000,-999.000,  -999.0,-999.000
   31WTTUNES_1,  P17C,    74,  1,     34,     34,2,19910626,1235,  6.0017,-134.9983, 4626,   4339.9,   1.4171,  34.6934,2,  34.6932,2,    163.1,2,  1.0628,    162.8,2,   143.89,2,    35.29,2,     0.00,2,     2.42,2, -999.000,9, -999.000,9, -999.000,9,-999.0000,9,  -999.00,9,   -999.0,9,  -999.00,9,   2327.8,2,   -999.0,9,  -999.0,-999.0000,-999.000,  -999.0,-999.000
   31WTTUNES_1,  P17C,    74,  1,     35,     35,2,19910626,1235,  6.0017,-134.9983, 4626,   4585.8,   1.4281,  34.6930,2,  34.6942,2,    165.7,2,  1.0454,    162.1,3,   142.63,2,    35.28,2,     0.00,2,     2.42,2,   -0.004,2,    0.000,2, -999.000,9,-999.0000,9,  -999.00,9,   -999.0,9,  -999.00,9,   2327.7,2,   -999.0,9,  -999.0,-999.0000,-999.000,  -999.0,-999.000
   31WTTUNES_1,  P17C,    74,  1,     36,     36,2,19910626,1235,  6.0017,-134.9983, 4626,   4702.6,   1.4340,  34.6937,2,  34.6944,2,   -999.0,9,  1.0375,    165.6,2,   142.26,2,    35.15,2,     0.00,2,     2.40,2,   -0.003,2,    0.000,2, -999.000,9,-999.0000,9,  -999.00,9,   -999.0,9,  -999.00,9,   2323.9,2,   2425.2,2,  -999.0,-999.0000,-999.000,  -999.0,-999.000