BOTTLE,20220819CCHSIOAMB
EXPOCODE,SECT_ID,STNNBR,CASTNO,SAMPNO,BTLNBR,BTLNBR_FLAG_W,DATE,TIME,LATITUDE,LONGITUDE,DEPTH,CTDPRS,CTDTMP,CTDSAL,CTDSAL_FLAG_W,SALNTY,SALNTY_FLAG_W,CTDOXY,CTDOXY_FLAG_W,THETA,OXYGEN,OXYGEN_FLAG_W,SILCAT,SILCAT_FLAG_W,NITRAT,NITRAT_FLAG_W,NITRIT,NITRIT_FLAG_W,PHSPHT,PHSPHT_FLAG_W,CFC-11,CFC-11_FLAG_W,CFC-12,CFC-12_FLAG_W,TRITUM,TRITUM_FLAG_W,HELIUM,HELIUM_FLAG_W,DELHE3,DELHE3_FLAG_W,DELC14,DELC14_FLAG_W,DELC13,DELC13_FLAG_W,TCARBN,TCARBN_FLAG_W,ALKALI,ALKALI_FLAG_W,C14ERR,HELIER,DELHER,C13ERR,TRITER
,,,,,,,,,,,,DBAR,ITS-90,PSS-78,,PSS-78,,UMOL/KG,,DEG C,UMOL/KG,,UMOL/KG,,UMOL/KG,,UMOL/KG,,UMOL/KG,,PMOL/KG,,PMOL/KG,,TU,,NMOL/KG,,PERCNT,,/MILLE,,/MILLE,,UMOL/KG,,UMOL/KG,,/MILLE,NMOL/KG,PERCNT,/MILLE,TU
   31WTTUNES_1,  P17C,    60,  1,      1,      1,2,19910622,0920, 13.0017,-135.0033, 4908,      0.2,  26.9625,  34.2327,2,  34.2370,2,    208.9,3, 26.9624,    209.1,2,     2.33,2,     0.08,2,     0.00,2,     0.16,2, -999.000,9, -999.000,9, -999.000,9,-999.0000,9,  -999.00,9,    106.9,2,     1.41,2,   -999.0,9,   -999.0,9,     2.9,-999.0000,-999.000,  -999.0,-999.000
   31WTTUNES_1,  P17C,    60,  1,      2,      2,2,19910622,0920, 13.0017,-135.0033, 4908,     26.6,  26.0178,  34.4557,2,  34.5003,2,    215.7,2, 26.0119,    211.4,2,     2.13,2,     0.07,2,     0.00,2,     0.17,2, -999.000,9, -999.000,9, -999.000,9,-999.0000,9,  -999.00,9,   -999.0,9,  -999.00,9,   -999.0,9,   -999.0,9,  -999.0,-999.0000,-999.000,  -999.0,-999.000
   31WTTUNES_1,  P17C,    60,  1,      3,      3,2,19910622,0920, 13.0017,-135.0033, 4908,     41.9,  24.4424,  34.4723,2,  34.4788,2,    222.2,2, 24.4335,    215.6,2,     2.12,2,     0.06,2,     0.00,2,     0.18,2, -999.000,9, -999.000,9, -999.000,9,-999.0000,9,  -999.00,9,    104.5,2,     1.45,2,   -999.0,9,   -999.0,9,     3.0,-999.0000,-999.000,  -999.0,-999.000
   31WTTUNES_1,  P17C,    60,  1,      4,      4,2,19910622,0920, 13.0017,-135.0033, 4908,     75.4,  21.6874,  34.4666,2,  34.4413,2,    222.3,2, 21.6727,    215.7,2,     2.49,2,     0.43,2,     0.02,2,     0.29,2, -999.000,9, -999.000,9, -999.000,9,-999.0000,9,  -999.00,9,   -999.0,9,  -999.00,9,   -999.0,9,   -999.0,9,  -999.0,-999.0000,-999.000,  -999.0,-999.000
   31WTTUNES_1,  P17C,    60,  1,      5,      5,2,19910622,0920, 13.0017,-135.0033, 4908,     95.9,  17.7900,  34.4645,2,  34.4588,2,    168.5,2, 17.7737,    159.6,2,     6.92,2,     7.13,2,     0.54,2,     0.81,2, -999.000,9, -999.000,9, -999.000,9,-999.0000,9,  -999.00,9,     85.5,2,     0.82,2,   -999.0,9,   -999.0,9,     2.8,-999.0000,-999.000,  -999.0,-999.000
   31WTTUNES_1,  P17C,    60,  1,      6,      6,2,19910622,0920, 13.0017,-135.0033, 4908,    117.0,  14.2390,  34.4547,2,  34.4472,2,     60.3,2, 14.2220,     60.7,2,    18.03,2,    23.01,2,     0.86,2,     1.85,2, -999.000,9, -999.000,9, -999.000,9,-999.0000,9,  -999.00,9,   -999.0,9,  -999.00,9,   -999.0,9,   -999.0,9,  -999.0,-999.0000,-999.000,  -999.0,-999.000
   31WTTUNES_1,  P17C,    60,  1,      7,      7,2,19910622,0920, 13.0017,-135.0033, 4908,    136.7,  12.5046,  34.4872,2,  34.4906,2,     38.1,2, 12.4864,     41.0,2,    23.95,2,    27.86,2,     0.01,2,     2.13,2, -999.000,9, -999.000,9, -999.000,9,-999.0000,9,  -999.00,9,     -3.8,2,    -0.12,2,   -999.0,9,   -999.0,9,     2.7,-999.0000,-999.000,  -999.0,-999.000
   31WTTUNES_1,  P17C,    60,  1,      8,      8,2,19910622,0920, 13.0017,-135.0033, 4908,    156.5,  11.9538,  34.5497,2,  34.5545,2,     35.3,2, 11.9336,     31.2,2,    26.72,2,    29.47,2,     0.01,2,     2.25,2, -999.000,9, -999.000,9, -999.000,9,-999.0000,9,  -999.00,9,    -17.7,2,    -0.09,2,   -999.0,9,   -999.0,9,     3.5,-999.0000,-999.000,  -999.0,-999.000
   31WTTUNES_1,  P17C,    60,  1,      9,      9,2,19910622,0920, 13.0017,-135.0033, 4908,    176.9,  11.6010,  34.6055,2,  34.6227,2,     22.3,2, 11.5786,     19.7,2,    28.75,2,    31.43,2,     0.01,2,     2.34,2, -999.000,9, -999.000,9, -999.000,9,-999.0000,9,  -999.00,9,    -44.0,2,    -0.22,2,   -999.0,9,   -999.0,9,     3.1,-999.0000,-999.000,  -999.0,-999.000
   31WTTUNES_1,  P17C,    60,  1,     10,     10,2,19910622,0920, 13.0017,-135.0033, 4908,    201.1,  11.3590,  34.6739,2,  34.6736,2,      9.7,2, 11.3338,     16.7,2,    30.04,2,    32.54,2,     0.01,2,     2.38,2, -999.000,9, -999.000,9, -999.000,9,-999.0000,9,  -999.00,9,    -50.6,2,    -0.28,2,   -999.0,9,   -999.0,9,     3.5,-999.0000,-999.000,  -999.0,-999.000
   31WTTUNES_1,  P17C,    60,  1,     11,     11,2,19910622,0920, 13.0017,-135.0033, 4908,    253.5,  10.3620,  34.6221,2,  34.6247,2,     17.5,2, 10.3320,     17.4,2,    34.66,2,    32.89,2,     0.00,2,     2.46,2, -999.000,9, -999.000,9, -999.000,9,-999.0000,9,  -999.00,9,    -70.3,2,    -0.20,2,   -999.0,9,   -999.0,9,     3.4,-999.0000,-999.000,  -999.0,-999.000
   31WTTUNES_1,  P17C,    60,  1,     12,     12,2,19910622,0920, 13.0017,-135.0033, 4908,    303.3,   9.8392,  34.6229,2,  34.6168,2,     17.3,2,  9.8044,     17.4,2,    37.25,2,    34.15,2,     0.01,2,     2.50,2, -999.000,9, -999.000,9, -999.000,9,-999.0000,9,  -999.00,9,    -87.6,2,    -0.19,2,   -999.0,9,   -999.0,9,     3.3,-999.0000,-999.000,  -999.0,-999.000
   31WTTUNES_1,  P17C,    60,  1,     13,     13,2,19910622,0920, 13.0017,-135.0033, 4908,    381.8,   9.4211,  34.6486,2,  34.6479,2,     11.2,2,  9.3782,      9.3,2,    39.28,2,    35.79,2,     0.00,2,     2.60,2, -999.000,9, -999.000,9, -999.000,9,-999.0000,9,  -999.00,9,   -102.5,2,    -0.24,2,   -999.0,9,   -999.0,9,     2.6,-999.0000,-999.000,  -999.0,-999.000
   31WTTUNES_1,  P17C,    60,  1,     14,     14,2,19910622,0920, 13.0017,-135.0033, 4908,    502.8,   7.9505,  34.5391,2,  34.5403,2,      6.4,2,  7.8991,      7.3,2,    53.73,2,    36.66,2,     0.00,2,     2.86,2, -999.000,9, -999.000,9, -999.000,9,-999.0000,9,  -999.00,9,   -112.0,2,    -0.36,2,   -999.0,9,   -999.0,9,     2.9,-999.0000,-999.000,  -999.0,-999.000
   31WTTUNES_1,  P17C,    60,  1,     15,     15,2,19910622,0920, 13.0017,-135.0033, 4908,    604.9,   7.0072,  34.5113,2,  34.5155,2,      7.6,2,  6.9493,      8.4,2,    64.67,2,    38.78,2,     0.00,2,     2.98,2, -999.000,9, -999.000,9, -999.000,9,-999.0000,9,  -999.00,9,   -138.8,2,    -0.35,2,   -999.0,9,   -999.0,9,     3.1,-999.0000,-999.000,  -999.0,-999.000
   31WTTUNES_1,  P17C,    60,  1,     16,     16,2,19910622,0920, 13.0017,-135.0033, 4908,    708.7,   6.2168,  34.5148,2,  34.5183,2,     14.5,2,  6.1527,     13.6,2,    72.63,2,    41.09,2,     0.00,2,     3.03,2, -999.000,9, -999.000,9, -999.000,9,-999.0000,9,  -999.00,9,   -153.3,2,    -0.35,2,   -999.0,9,   -999.0,9,     3.0,-999.0000,-999.000,  -999.0,-999.000
   31WTTUNES_1,  P17C,    60,  1,     17,     17,2,19910622,0920, 13.0017,-135.0033, 4908,    810.5,   5.5324,  34.5167,2,  34.5201,2,     13.2,2,  5.4627,     13.5,2,    83.38,2,    42.85,2,     0.00,2,     3.12,2, -999.000,9, -999.000,9, -999.000,9,-999.0000,9,  -999.00,9,   -999.0,9,  -999.00,9,   -999.0,9,   -999.0,9,  -999.0,-999.0000,-999.000,  -999.0,-999.000
   31WTTUNES_1,  P17C,    60,  1,     18,     18,2,19910622,0920, 13.0017,-135.0033, 4908,    907.4,   5.0343,  34.5276,2,  34.5266,2,     16.8,2,  4.9590,     17.0,2,    92.45,2,    43.81,2,     0.00,2,     3.16,2, -999.000,9, -999.000,9, -999.000,9,-999.0000,9,  -999.00,9,   -181.9,2,    -0.34,2,   -999.0,9,   -999.0,9,     2.5,-999.0000,-999.000,  -999.0,-999.000
   31WTTUNES_1,  P17C,    60,  1,     19,     19,2,19910622,0920, 13.0017,-135.0033, 4908,   1009.0,   4.6240,  34.5384,2,  34.5398,2,     24.0,2,  4.5427,     21.7,2,    99.12,2,    43.91,2,     0.00,2,     3.17,2, -999.000,9, -999.000,9, -999.000,9,-999.0000,9,  -999.00,9,   -999.0,9,  -999.00,9,   -999.0,9,   -999.0,9,  -999.0,-999.0000,-999.000,  -999.0,-999.000
   31WTTUNES_1,  P17C,    60,  1,     20,     20,2,19910622,0920, 13.0017,-135.0033, 4908,   1208.8,   3.9218,  34.5627,2,  34.5636,2,     42.5,2,  3.8291,     42.7,2,   111.17,2,    42.82,2,     0.00,2,     3.05,2, -999.000,9, -999.000,9, -999.000,9,-999.0000,9,  -999.00,9,   -205.3,2,    -0.30,2,   -999.0,9,   -999.0,9,     2.4,-999.0000,-999.000,  -999.0,-999.000
   31WTTUNES_1,  P17C,    60,  1,     21,     21,2,19910622,0920, 13.0017,-135.0033, 4908,   1413.8,   3.3749,  34.5834,2,  34.5836,2,     54.1,2,  3.2701,     54.7,2,   122.29,2,    42.11,2,     0.00,2,     2.99,2, -999.000,9, -999.000,9, -999.000,9,-999.0000,9,  -999.00,9,   -999.0,9,  -999.00,9,   -999.0,9,   -999.0,9,  -999.0,-999.0000,-999.000,  -999.0,-999.000
   31WTTUNES_1,  P17C,    60,  1,     22,     22,2,19910622,0920, 13.0017,-135.0033, 4908,   1612.5,   2.9430,  34.6009,2,  34.5998,2,     66.9,2,  2.8264,     67.1,2,   131.18,2,    41.18,2,     0.00,2,     2.91,2, -999.000,9, -999.000,9, -999.000,9,-999.0000,9,  -999.00,9,   -229.3,2,    -0.40,2,   -999.0,9,   -999.0,9,     3.2,-999.0000,-999.000,  -999.0,-999.000
   31WTTUNES_1,  P17C,    60,  1,     23,     23,2,19910622,0920, 13.0017,-135.0033, 4908,   1814.7,   2.5591,  34.6151,2,  34.6155,2,     77.0,2,  2.4302,     76.6,2,   140.45,2,    40.54,2,     0.00,2,     2.85,2, -999.000,9, -999.000,9, -999.000,9,-999.0000,9,  -999.00,9,   -999.0,9,  -999.00,9,   -999.0,9,   -999.0,9,  -999.0,-999.0000,-999.000,  -999.0,-999.000
   31WTTUNES_1,  P17C,    60,  1,     24,     24,2,19910622,0920, 13.0017,-135.0033, 4908,   2021.3,   2.2073,  34.6318,2,  34.6320,2,     88.9,2,  2.0659,     88.5,2,   148.41,2,    39.89,2,     0.00,2,     2.77,2, -999.000,9, -999.000,9, -999.000,9,-999.0000,9,  -999.00,9,   -999.0,9,  -999.00,9,   -999.0,9,   -999.0,9,  -999.0,-999.0000,-999.000,  -999.0,-999.000
   31WTTUNES_1,  P17C,    60,  1,     25,     25,2,19910622,0920, 13.0017,-135.0033, 4908,   2225.2,   2.0023,  34.6453,2,  34.6448,2,     98.9,2,  1.8465,     99.2,2,   151.75,2,    39.04,2,     0.00,2,     2.70,2, -999.000,9, -999.000,9, -999.000,9,-999.0000,9,  -999.00,9,   -999.0,9,  -999.00,9,   -999.0,9,   -999.0,9,  -999.0,-999.0000,-999.000,  -999.0,-999.000
   31WTTUNES_1,  P17C,    60,  1,     26,     26,2,19910622,0920, 13.0017,-135.0033, 4908,   2426.9,   1.8645,  34.6543,2,  34.6548,2,    107.6,2,  1.6932,    107.3,2,   154.15,2,    38.50,2,     0.00,2,     2.66,2, -999.000,9, -999.000,9, -999.000,9,-999.0000,9,  -999.00,9,   -999.0,9,  -999.00,9,   -999.0,9,   -999.0,9,  -999.0,-999.0000,-999.000,  -999.0,-999.000
   31WTTUNES_1,  P17C,    60,  1,     27,     27,2,19910622,0920, 13.0017,-135.0033, 4908,   2680.9,   1.7608,  34.6654,2,  34.6649,2,    113.4,2,  1.5685,    113.2,2,   156.93,2,    38.18,2,     0.00,2,     2.62,2, -999.000,9, -999.000,9, -999.000,9,-999.0000,9,  -999.00,9,   -999.0,9,  -999.00,9,   -999.0,9,   -999.0,9,  -999.0,-999.0000,-999.000,  -999.0,-999.000
   31WTTUNES_1,  P17C,    60,  1,     28,     28,2,19910622,0920, 13.0017,-135.0033, 4908,   2940.1,   1.6843,  34.6693,2,  34.6698,2,    119.5,2,  1.4692,    119.5,2,   157.67,2,    37.75,2,     0.00,2,     2.59,2, -999.000,9, -999.000,9, -999.000,9,-999.0000,9,  -999.00,9,   -999.0,9,  -999.00,9,   -999.0,9,   -999.0,9,  -999.0,-999.0000,-999.000,  -999.0,-999.000
   31WTTUNES_1,  P17C,    60,  1,     29,     29,2,19910622,0920, 13.0017,-135.0033, 4908,   3190.5,   1.5995,  34.6730,2,  34.6748,2,    126.4,2,  1.3621,    126.8,2,   159.34,2,    37.32,2,     0.00,2,     2.56,2, -999.000,9, -999.000,9, -999.000,9,-999.0000,9,  -999.00,9,   -999.0,9,  -999.00,9,   -999.0,9,   -999.0,9,  -999.0,-999.0000,-999.000,  -999.0,-999.000
   31WTTUNES_1,  P17C,    60,  1,     30,     30,2,19910622,0920, 13.0017,-135.0033, 4908,   3444.4,   1.5449,  34.6770,2,  34.6775,2,    132.3,2,  1.2833,    132.8,2,   159.33,2,    36.90,2,     0.00,2,     2.52,2, -999.000,9, -999.000,9, -999.000,9,-999.0000,9,  -999.00,9,   -999.0,9,  -999.00,9,   -999.0,9,   -999.0,9,  -999.0,-999.0000,-999.000,  -999.0,-999.000
   31WTTUNES_1,  P17C,    60,  1,     31,     31,2,19910622,0920, 13.0017,-135.0033, 4908,   3709.4,   1.4872,  34.6805,2,  34.6817,2,    142.1,2,  1.1997,    141.8,2,   156.73,2,    36.32,2,     0.00,2,     2.48,2, -999.000,9, -999.000,9, -999.000,9,-999.0000,9,  -999.00,9,   -999.0,9,  -999.00,9,   -999.0,9,   -999.0,9,  -999.0,-999.0000,-999.000,  -999.0,-999.000
   31WTTUNES_1,  P17C,    60,  1,     32,     32,2,19910622,0920, 13.0017,-135.0033, 4908,   3963.1,   1.4328,  34.6864,2,  34.6874,2,    152.9,2,  1.1198,    153.4,2,   150.24,2,    35.53,2,     0.00,2,     2.42,2, -999.000,9, -999.000,9, -999.000,9,-999.0000,9,  -999.00,9,   -999.0,9,  -999.00,9,   -999.0,9,   -999.0,9,  -999.0,-999.0000,-999.000,  -999.0,-999.000
   31WTTUNES_1,  P17C,    60,  1,     33,     33,2,19910622,0920, 13.0017,-135.0033, 4908,   4221.4,   1.4095,  34.6889,2,  34.6908,2,    161.2,2,  1.0688,    160.2,2,   144.85,2,    34.96,2,     0.00,2,     2.38,2, -999.000,9, -999.000,9, -999.000,9,-999.0000,9,  -999.00,9,   -999.0,9,  -999.00,9,   -999.0,9,   -999.0,9,  -999.0,-999.0000,-999.000,  -999.0,-999.000
   31WTTUNES_1,  P17C,    60,  1,     34,     34,2,19910622,0920, 13.0017,-135.0033, 4908,   4471.2,   1.4216,  34.6908,2,  34.6918,2,    163.3,2,  1.0523,    163.0,2,   142.81,2,    34.79,2,     0.00,2,     2.37,2, -999.000,9, -999.000,9, -999.000,9,-999.0000,9,  -999.00,9,   -999.0,9,  -999.00,9,   -999.0,9,   -999.0,9,  -999.0,-999.0000,-999.000,  -999.0,-999.000
   31WTTUNES_1,  P17C,    60,  1,     35,     35,2,19910622,0920, 13.0017,-135.0033, 4908,   4732.6,   1.4490,  34.6912,2,  34.6924,2,    164.5,2,  1.0485,    163.8,2,   142.80,2,    34.73,2,     0.00,2,     2.37,2, -999.000,9, -999.000,9, -999.000,9,-999.0000,9,  -999.00,9,   -999.0,9,  -999.00,9,   -999.0,9,   -999.0,9,  -999.0,-999.0000,-999.000,  -999.0,-999.000
   31WTTUNES_1,  P17C,    60,  1,     36,     36,2,19910622,0920, 13.0017,-135.0033, 4908,   4983.0,   1.4777,  34.6917,2,  34.6920,2,   -999.0,9,  1.0463,    163.5,2,   142.62,2,    34.77,2,     0.00,2,     2.37,2, -999.000,9, -999.000,9, -999.000,9,-999.0000,9,  -999.00,9,   -999.0,9,  -999.00,9,   -999.0,9,   -999.0,9,  -999.0,-999.0000,-999.000,  -999.0,-999.000