BOTTLE,20220819CCHSIOAMB
EXPOCODE,SECT_ID,STNNBR,CASTNO,SAMPNO,BTLNBR,BTLNBR_FLAG_W,DATE,TIME,LATITUDE,LONGITUDE,DEPTH,CTDPRS,CTDTMP,CTDSAL,CTDSAL_FLAG_W,SALNTY,SALNTY_FLAG_W,CTDOXY,CTDOXY_FLAG_W,THETA,OXYGEN,OXYGEN_FLAG_W,SILCAT,SILCAT_FLAG_W,NITRAT,NITRAT_FLAG_W,NITRIT,NITRIT_FLAG_W,PHSPHT,PHSPHT_FLAG_W,CFC-11,CFC-11_FLAG_W,CFC-12,CFC-12_FLAG_W,TRITUM,TRITUM_FLAG_W,HELIUM,HELIUM_FLAG_W,DELHE3,DELHE3_FLAG_W,DELC14,DELC14_FLAG_W,DELC13,DELC13_FLAG_W,TCARBN,TCARBN_FLAG_W,ALKALI,ALKALI_FLAG_W,C14ERR,HELIER,DELHER,C13ERR,TRITER
,,,,,,,,,,,,DBAR,ITS-90,PSS-78,,PSS-78,,UMOL/KG,,DEG C,UMOL/KG,,UMOL/KG,,UMOL/KG,,UMOL/KG,,UMOL/KG,,PMOL/KG,,PMOL/KG,,TU,,NMOL/KG,,PERCNT,,/MILLE,,/MILLE,,UMOL/KG,,UMOL/KG,,/MILLE,NMOL/KG,PERCNT,/MILLE,TU
   31WTTUNES_1,  P17C,    88,  1,      1,      1,2,19910629,2133,  1.6683,-135.0000, 4549,      0.2,  27.6472,  34.8142,2,  34.8186,2,   -999.0,9, 27.6471,    208.0,2,     2.78,2,     3.28,2,     0.29,2,     0.44,2,    1.597,2,    0.929,2, -999.000,9,-999.0000,9,  -999.00,9,   -999.0,9,  -999.00,9,   -999.0,9,   -999.0,9,  -999.0,-999.0000,-999.000,  -999.0,-999.000
   31WTTUNES_1,  P17C,    88,  1,      2,      2,2,19910629,2133,  1.6683,-135.0000, 4549,     35.0,  27.5460,  34.8140,2,  34.8184,2,    205.0,2, 27.5378,    206.9,2,     3.34,2,     3.36,2,     0.30,2,     0.44,2,    1.590,2,    0.926,2, -999.000,9,-999.0000,9,  -999.00,9,   -999.0,9,  -999.00,9,   -999.0,9,   -999.0,9,  -999.0,-999.0000,-999.000,  -999.0,-999.000
   31WTTUNES_1,  P17C,    88,  1,      3,      3,2,19910629,2133,  1.6683,-135.0000, 4549,     65.7,  26.6191,  34.8213,2,  34.8290,2,    192.8,2, 26.6042,    187.5,2,     3.33,2,     4.24,2,     0.76,2,     0.54,2,    1.613,2,    0.952,2, -999.000,9,-999.0000,9,  -999.00,9,   -999.0,9,  -999.00,9,   -999.0,9,   -999.0,9,  -999.0,-999.0000,-999.000,  -999.0,-999.000
   31WTTUNES_1,  P17C,    88,  1,      4,      4,2,19910629,2133,  1.6683,-135.0000, 4549,     91.7,  24.5634,  34.8748,2,  34.8613,2,    161.5,2, 24.5438,    155.3,2,     5.23,2,     7.85,2,     1.21,2,     0.77,2,    1.543,2,    0.885,2, -999.000,9,-999.0000,9,  -999.00,9,   -999.0,9,  -999.00,9,   -999.0,9,   -999.0,9,  -999.0,-999.0000,-999.000,  -999.0,-999.000
   31WTTUNES_1,  P17C,    88,  1,      5,      5,2,19910629,2133,  1.6683,-135.0000, 4549,    102.8,  21.1426,  34.8588,2,  34.8365,2,    133.4,2, 21.1228,    129.9,2,     8.29,2,    11.18,2,     0.56,2,     0.91,2,    1.441,2,    0.807,2, -999.000,9,-999.0000,9,  -999.00,9,   -999.0,9,  -999.00,9,   -999.0,9,   -999.0,9,  -999.0,-999.0000,-999.000,  -999.0,-999.000
   31WTTUNES_1,  P17C,    88,  1,      6,      6,2,19910629,2133,  1.6683,-135.0000, 4549,    113.0,  17.7212,  34.7160,2,  34.7504,2,    115.4,2, 17.7021,    113.8,2,    13.44,2,    15.64,2,     0.06,2,     1.18,2,    1.214,2,    0.681,2, -999.000,9,-999.0000,9,  -999.00,9,   -999.0,9,  -999.00,9,   -999.0,9,   -999.0,9,  -999.0,-999.0000,-999.000,  -999.0,-999.000
   31WTTUNES_1,  P17C,    88,  1,      7,      7,2,19910629,2133,  1.6683,-135.0000, 4549,    128.8,  14.3026,  34.7004,2,  34.7095,2,    104.1,2, 14.2838,    100.3,2,    20.13,2,    20.89,2,     0.02,2,     1.52,2,    0.891,2,    0.497,2, -999.000,9,-999.0000,9,  -999.00,9,   -999.0,9,  -999.00,9,   -999.0,9,   -999.0,9,  -999.0,-999.0000,-999.000,  -999.0,-999.000
   31WTTUNES_1,  P17C,    88,  1,      8,      8,2,19910629,2133,  1.6683,-135.0000, 4549,    154.7,  12.9779,  34.7768,2,  34.7836,2,     79.4,2, 12.9568,     78.8,2,    22.80,2,    25.08,2,     0.01,2,     1.79,2,    0.597,2,    0.327,2, -999.000,9,-999.0000,9,  -999.00,9,   -999.0,9,  -999.00,9,   -999.0,9,   -999.0,9,  -999.0,-999.0000,-999.000,  -999.0,-999.000
   31WTTUNES_1,  P17C,    88,  1,      9,      9,2,19910629,2133,  1.6683,-135.0000, 4549,    190.2,  12.2882,  34.8580,2,  34.8578,2,     36.5,2, 12.2631,     35.2,2,    25.65,2,    30.45,2,     0.00,2,     2.13,2,    0.308,2,    0.178,2, -999.000,9,-999.0000,9,  -999.00,9,   -999.0,9,  -999.00,9,   -999.0,9,   -999.0,9,  -999.0,-999.0000,-999.000,  -999.0,-999.000
   31WTTUNES_1,  P17C,    88,  1,     10,     10,2,19910629,2133,  1.6683,-135.0000, 4549,    272.4,  11.6355,  34.8144,2,  34.8167,2,     46.5,2, 11.6006,     45.0,2,    26.79,2,    30.51,2,     0.00,2,     2.13,2,    0.256,2,    0.150,2, -999.000,9,-999.0000,9,  -999.00,9,   -999.0,9,  -999.00,9,   -999.0,9,   -999.0,9,  -999.0,-999.0000,-999.000,  -999.0,-999.000
   31WTTUNES_1,  P17C,    88,  1,     11,     11,2,19910629,2133,  1.6683,-135.0000, 4549,    369.5,  10.2038,  34.7195,2,  34.7221,2,     51.7,2, 10.1601,     48.6,2,    32.32,2,    32.48,2,     0.00,2,     2.28,2,    0.154,2,    0.097,2, -999.000,9,-999.0000,9,  -999.00,9,   -999.0,9,  -999.00,9,   -999.0,9,   -999.0,9,  -999.0,-999.0000,-999.000,  -999.0,-999.000
   31WTTUNES_1,  P17C,    88,  1,     12,     12,2,19910629,2133,  1.6683,-135.0000, 4549,    389.5,  10.1783,  34.7350,2,  34.7362,2,     20.9,2, 10.1323,     20.6,2,    34.61,2,    35.24,2,     0.00,2,     2.48,2,    0.089,2,    0.054,2, -999.000,9,-999.0000,9,  -999.00,9,   -999.0,9,  -999.00,9,   -999.0,9,   -999.0,9,  -999.0,-999.0000,-999.000,  -999.0,-999.000
   31WTTUNES_1,  P17C,    88,  1,     13,     13,2,19910629,2133,  1.6683,-135.0000, 4549,    440.6,   9.3073,  34.6838,2,  34.6830,2,     28.9,2,  9.2580,     28.2,2,    37.84,2,    36.23,2,     0.00,2,     2.53,2,    0.048,2,    0.036,2, -999.000,9,-999.0000,9,  -999.00,9,   -999.0,9,  -999.00,9,   -999.0,9,   -999.0,9,  -999.0,-999.0000,-999.000,  -999.0,-999.000
   31WTTUNES_1,  P17C,    88,  1,     14,     14,2,19910629,2133,  1.6683,-135.0000, 4549,    507.3,   8.2168,  34.6221,2,  34.6233,2,     45.2,2,  8.1639,     44.9,2,    43.57,2,    36.80,2,     0.00,2,     2.60,2,    0.028,2,    0.020,2, -999.000,9,-999.0000,9,  -999.00,9,   -999.0,9,  -999.00,9,   -999.0,9,   -999.0,9,  -999.0,-999.0000,-999.000,  -999.0,-999.000
   31WTTUNES_1,  P17C,    88,  1,     15,     15,2,19910629,2133,  1.6683,-135.0000, 4549,    558.2,   7.4692,  34.5869,2,  34.5859,2,     63.1,2,  7.4140,     64.2,2,    46.62,2,    36.70,2,     0.00,2,     2.60,2,    0.021,2,    0.019,2, -999.000,9,-999.0000,9,  -999.00,9,   -999.0,9,  -999.00,9,   -999.0,9,   -999.0,9,  -999.0,-999.0000,-999.000,  -999.0,-999.000
   31WTTUNES_1,  P17C,    88,  1,     16,     16,2,19910629,2133,  1.6683,-135.0000, 4549,    630.4,   6.8096,  34.5687,2,  34.5700,2,     66.4,2,  6.7501,     67.0,2,    51.96,2,    37.74,2,     0.00,2,     2.68,2,    0.010,2,    0.009,2, -999.000,9,-999.0000,9,  -999.00,9,   -999.0,9,  -999.00,9,   -999.0,9,   -999.0,9,  -999.0,-999.0000,-999.000,  -999.0,-999.000
   31WTTUNES_1,  P17C,    88,  1,     17,     17,2,19910629,2133,  1.6683,-135.0000, 4549,    706.6,   6.1864,  34.5554,2,  34.5567,2,     68.9,2,  6.1225,     68.9,2,    59.40,2,    38.69,2,     0.00,2,     2.75,2, -999.000,9, -999.000,9, -999.000,9,-999.0000,9,  -999.00,9,   -999.0,9,  -999.00,9,   -999.0,9,   -999.0,9,  -999.0,-999.0000,-999.000,  -999.0,-999.000
   31WTTUNES_1,  P17C,    88,  1,     18,     18,2,19910629,2133,  1.6683,-135.0000, 4549,    809.3,   5.6287,  34.5491,2,  34.5510,2,     71.7,2,  5.5584,     71.5,2,    67.61,2,    39.27,2,     0.00,2,     2.79,2, -999.000,9, -999.000,9, -999.000,9,-999.0000,9,  -999.00,9,   -999.0,9,  -999.00,9,   -999.0,9,   -999.0,9,  -999.0,-999.0000,-999.000,  -999.0,-999.000
   31WTTUNES_1,  P17C,    88,  1,     19,     19,2,19910629,2133,  1.6683,-135.0000, 4549,    912.0,   4.9692,  34.5479,2,  34.5494,2,     78.5,2,  4.8940,     81.3,2,    78.49,2,    39.06,2,     0.00,2,     2.78,2,    0.001,2,    0.006,2, -999.000,9,-999.0000,9,  -999.00,9,   -999.0,9,  -999.00,9,   -999.0,9,   -999.0,9,  -999.0,-999.0000,-999.000,  -999.0,-999.000
   31WTTUNES_1,  P17C,    88,  1,     20,     20,2,19910629,2133,  1.6683,-135.0000, 4549,   1009.7,   4.6653,  34.5523,2,  34.5545,2,     80.1,2,  4.5836,     80.2,2,    84.97,2,    39.38,2,     0.00,2,     2.83,2,    0.002,2,    0.000,2, -999.000,9,-999.0000,9,  -999.00,9,   -999.0,9,  -999.00,9,   -999.0,9,   -999.0,9,  -999.0,-999.0000,-999.000,  -999.0,-999.000
   31WTTUNES_1,  P17C,    88,  1,     21,     21,2,19910629,2133,  1.6683,-135.0000, 4549,   1215.2,   3.8839,  34.5768,2,  34.5781,2,     74.2,2,  3.7910,     74.0,2,   105.40,2,    40.65,2,     0.00,2,     2.92,2,   -0.002,2,    0.006,2, -999.000,9,-999.0000,9,  -999.00,9,   -999.0,9,  -999.00,9,   -999.0,9,   -999.0,9,  -999.0,-999.0000,-999.000,  -999.0,-999.000
   31WTTUNES_1,  P17C,    88,  1,     22,     22,2,19910629,2133,  1.6683,-135.0000, 4549,   1416.2,   3.1683,  34.6015,2,  34.6030,2,     82.4,2,  3.0655,     82.3,2,   122.39,2,    40.38,2,     0.00,2,     2.89,2,    0.000,2,    0.006,2, -999.000,9,-999.0000,9,  -999.00,9,   -999.0,9,  -999.00,9,   -999.0,9,   -999.0,9,  -999.0,-999.0000,-999.000,  -999.0,-999.000
   31WTTUNES_1,  P17C,    88,  1,     23,     23,2,19910629,2133,  1.6683,-135.0000, 4549,   1615.6,   2.7270,  34.6201,2,  34.6219,2,     92.2,2,  2.6126,     91.7,2,   133.26,2,    39.70,2,     0.00,2,     2.83,2, -999.000,9, -999.000,9, -999.000,9,-999.0000,9,  -999.00,9,   -999.0,9,  -999.00,9,   -999.0,9,   -999.0,9,  -999.0,-999.0000,-999.000,  -999.0,-999.000
   31WTTUNES_1,  P17C,    88,  1,     24,     24,2,19910629,2133,  1.6683,-135.0000, 4549,   1822.0,   2.4713,  34.6315,2,  34.6331,2,     99.3,2,  2.3430,     99.1,2,   137.44,2,    39.28,2,     0.00,2,     2.78,2, -999.000,9, -999.000,9, -999.000,9,-999.0000,9,  -999.00,9,   -999.0,9,  -999.00,9,   -999.0,9,   -999.0,9,  -999.0,-999.0000,-999.000,  -999.0,-999.000
   31WTTUNES_1,  P17C,    88,  1,     25,     25,2,19910629,2133,  1.6683,-135.0000, 4549,   2021.5,   2.2652,  34.6407,2,  34.6437,2,    104.3,2,  2.1228,    104.0,2,   142.57,2,    39.01,2,     0.00,2,     2.75,2, -999.000,9, -999.000,9, -999.000,9,-999.0000,9,  -999.00,9,   -999.0,9,  -999.00,9,   -999.0,9,   -999.0,9,  -999.0,-999.0000,-999.000,  -999.0,-999.000
   31WTTUNES_1,  P17C,    88,  1,     26,     26,2,19910629,2133,  1.6683,-135.0000, 4549,   2228.3,   2.0015,  34.6557,2,  34.6568,2,    113.9,2,  1.8454,    112.5,2,   147.89,2,    38.39,2,     0.00,2,     2.70,2, -999.000,9, -999.000,9, -999.000,9,-999.0000,9,  -999.00,9,   -999.0,9,  -999.00,9,   -999.0,9,   -999.0,9,  -999.0,-999.0000,-999.000,  -999.0,-999.000
   31WTTUNES_1,  P17C,    88,  1,     27,     27,2,19910629,2133,  1.6683,-135.0000, 4549,   2425.5,   1.8054,  34.6660,2,  34.6671,2,    124.2,2,  1.6353,    123.8,2,   149.58,2,    37.71,2,     0.00,2,     2.64,2, -999.000,9, -999.000,9, -999.000,9,-999.0000,9,  -999.00,9,   -999.0,9,  -999.00,9,   -999.0,9,   -999.0,9,  -999.0,-999.0000,-999.000,  -999.0,-999.000
   31WTTUNES_1,  P17C,    88,  1,     28,     28,2,19910629,2133,  1.6683,-135.0000, 4549,   2627.4,   1.7468,  34.6704,2,  34.6710,2,    128.7,2,  1.5597,    129.6,2,   149.17,2,    37.34,2,     0.00,2,     2.61,2, -999.000,9, -999.000,9, -999.000,9,-999.0000,9,  -999.00,9,   -999.0,9,  -999.00,9,   -999.0,9,   -999.0,9,  -999.0,-999.0000,-999.000,  -999.0,-999.000
   31WTTUNES_1,  P17C,    88,  1,     29,     29,2,19910629,2133,  1.6683,-135.0000, 4549,   2835.0,   1.7081,  34.6725,2,  34.6738,2,    133.6,2,  1.5024,    133.8,2,   148.76,2,    37.09,2,     0.00,2,     2.59,2, -999.000,9, -999.000,9, -999.000,9,-999.0000,9,  -999.00,9,   -999.0,9,  -999.00,9,   -999.0,9,   -999.0,9,  -999.0,-999.0000,-999.000,  -999.0,-999.000
   31WTTUNES_1,  P17C,    88,  1,     30,     30,2,19910629,2133,  1.6683,-135.0000, 4549,   3031.6,   1.6670,  34.6754,2,  34.6759,2,    135.8,2,  1.4435,    135.8,2,   147.96,2,    36.83,2,     0.00,2,     2.57,2, -999.000,9, -999.000,9, -999.000,9,-999.0000,9,  -999.00,9,   -999.0,9,  -999.00,9,   -999.0,9,   -999.0,9,  -999.0,-999.0000,-999.000,  -999.0,-999.000
   31WTTUNES_1,  P17C,    88,  1,     31,     31,2,19910629,2133,  1.6683,-135.0000, 4549,   3291.0,   1.5602,  34.6834,2,  34.6826,2,    145.0,2,  1.3136,    144.9,2,   147.55,2,    36.31,2,     0.00,2,     2.52,2, -999.000,9, -999.000,9, -999.000,9,-999.0000,9,  -999.00,9,   -999.0,9,  -999.00,9,   -999.0,9,   -999.0,9,  -999.0,-999.0000,-999.000,  -999.0,-999.000
   31WTTUNES_1,  P17C,    88,  1,     32,     32,2,19910629,2133,  1.6683,-135.0000, 4549,   3544.8,   1.4379,  34.6909,2,  34.6906,2,    153.2,2,  1.1687,    152.9,2,   149.24,2,    35.95,2,     0.00,2,     2.47,2, -999.000,9, -999.000,9, -999.000,9,-999.0000,9,  -999.00,9,   -999.0,9,  -999.00,9,   -999.0,9,   -999.0,9,  -999.0,-999.0000,-999.000,  -999.0,-999.000
   31WTTUNES_1,  P17C,    88,  1,     33,     33,2,19910629,2133,  1.6683,-135.0000, 4549,   3805.9,   1.4201,  34.6924,2,  34.6928,2,    157.7,2,  1.1241,    157.9,2,   147.69,2,    35.59,2,     0.00,2,     2.44,2, -999.000,9, -999.000,9, -999.000,9,-999.0000,9,  -999.00,9,   -999.0,9,  -999.00,9,   -999.0,9,   -999.0,9,  -999.0,-999.0000,-999.000,  -999.0,-999.000
   31WTTUNES_1,  P17C,    88,  1,     34,     34,2,19910629,2133,  1.6683,-135.0000, 4549,   4054.7,   1.4314,  34.6943,2,  34.6942,2,    159.9,2,  1.1084,    159.9,2,   146.70,2,    35.39,2,     0.00,2,     2.43,2, -999.000,9, -999.000,9, -999.000,9,-999.0000,9,  -999.00,9,   -999.0,9,  -999.00,9,   -999.0,9,   -999.0,9,  -999.0,-999.0000,-999.000,  -999.0,-999.000
   31WTTUNES_1,  P17C,    88,  1,     35,     35,2,19910629,2133,  1.6683,-135.0000, 4549,   4325.4,   1.4382,  34.6929,2,  34.6946,2,    161.6,2,  1.0850,    161.5,2,   146.29,2,    35.29,2,     0.00,2,     2.43,2, -999.000,9, -999.000,9, -999.000,9,-999.0000,9,  -999.00,9,   -999.0,9,  -999.00,9,   -999.0,9,   -999.0,9,  -999.0,-999.0000,-999.000,  -999.0,-999.000
   31WTTUNES_1,  P17C,    88,  1,     36,     36,2,19910629,2133,  1.6683,-135.0000, 4549,   4616.9,   1.4632,  34.6932,2,  34.6940,2,   -999.0,9,  1.0758,    161.3,2,   146.26,2,    35.19,2,     0.00,2,     2.42,2, -999.000,9, -999.000,9, -999.000,9,-999.0000,9,  -999.00,9,   -999.0,9,  -999.00,9,   -999.0,9,   -999.0,9,  -999.0,-999.0000,-999.000,  -999.0,-999.000
   31WTTUNES_1,  P17C,    89,  1,     61,     61,2,19910630,0203,  1.5000,-134.9983, 4461,      2.5,  27.4095,  34.8091,2,  34.8116,2,   -999.0,9, 27.4089,   -999.0,9,  -999.00,9,  -999.00,9,  -999.00,9,  -999.00,9, -999.000,9, -999.000,9, -999.000,9,-999.0000,9,  -999.00,9,   -999.0,9,  -999.00,9,   -999.0,9,   -999.0,9,  -999.0,-999.0000,-999.000,  -999.0,-999.000
   31WTTUNES_1,  P17C,    89,  1,     62,     62,2,19910630,0203,  1.5000,-134.9983, 4461,     36.2,  27.2985,  34.8285,2,  34.8271,2,   -999.0,9, 27.2901,   -999.0,9,  -999.00,9,  -999.00,9,  -999.00,9,  -999.00,9, -999.000,9, -999.000,9, -999.000,9,-999.0000,9,  -999.00,9,   -999.0,9,  -999.00,9,   -999.0,9,   -999.0,9,  -999.0,-999.0000,-999.000,  -999.0,-999.000
   31WTTUNES_1,  P17C,    89,  1,     63,     63,2,19910630,0203,  1.5000,-134.9983, 4461,    209.0,  12.1180,  34.8457,2,  34.8436,2,   -999.0,9, 12.0906,   -999.0,9,  -999.00,9,  -999.00,9,  -999.00,9,  -999.00,9, -999.000,9, -999.000,9, -999.000,9,-999.0000,9,  -999.00,9,   -999.0,9,  -999.00,9,   -999.0,9,   -999.0,9,  -999.0,-999.0000,-999.000,  -999.0,-999.000
   31WTTUNES_1,  P17C,    89,  1,     64,     64,2,19910630,0203,  1.5000,-134.9983, 4461,    413.9,   9.7515,  34.7077,2,  34.7077,2,   -999.0,9,  9.7039,   -999.0,9,  -999.00,9,  -999.00,9,  -999.00,9,  -999.00,9, -999.000,9, -999.000,9, -999.000,9,-999.0000,9,  -999.00,9,   -999.0,9,  -999.00,9,   -999.0,9,   -999.0,9,  -999.0,-999.0000,-999.000,  -999.0,-999.000
   31WTTUNES_1,  P17C,    89,  1,     65,     65,2,19910630,0203,  1.5000,-134.9983, 4461,    607.9,   6.8536,  34.5703,2,  34.5713,2,   -999.0,9,  6.7961,   -999.0,9,  -999.00,9,  -999.00,9,  -999.00,9,  -999.00,9, -999.000,9, -999.000,9, -999.000,9,-999.0000,9,  -999.00,9,   -999.0,9,  -999.00,9,   -999.0,9,   -999.0,9,  -999.0,-999.0000,-999.000,  -999.0,-999.000
   31WTTUNES_1,  P17C,    89,  1,     66,     66,2,19910630,0203,  1.5000,-134.9983, 4461,    812.6,   5.6416,  34.5480,2,  34.5510,2,   -999.0,9,  5.5709,   -999.0,9,  -999.00,9,  -999.00,9,  -999.00,9,  -999.00,9, -999.000,9, -999.000,9, -999.000,9,-999.0000,9,  -999.00,9,   -999.0,9,  -999.00,9,   -999.0,9,   -999.0,9,  -999.0,-999.0000,-999.000,  -999.0,-999.000
   31WTTUNES_1,  P17C,    89,  1,     67,     67,2,19910630,0203,  1.5000,-134.9983, 4461,   1012.3,   4.5435,  34.5536,2,  34.5561,2,   -999.0,9,  4.4625,   -999.0,9,  -999.00,9,  -999.00,9,  -999.00,9,  -999.00,9, -999.000,9, -999.000,9, -999.000,9,-999.0000,9,  -999.00,9,   -999.0,9,  -999.00,9,   -999.0,9,   -999.0,9,  -999.0,-999.0000,-999.000,  -999.0,-999.000
   31WTTUNES_1,  P17C,    89,  1,     68,     68,2,19910630,0203,  1.5000,-134.9983, 4461,   2007.9,   2.2924,  34.6393,2,  34.6408,2,   -999.0,9,  2.1508,   -999.0,9,  -999.00,9,  -999.00,9,  -999.00,9,  -999.00,9, -999.000,9, -999.000,9, -999.000,9,-999.0000,9,  -999.00,9,   -999.0,9,  -999.00,9,   -999.0,9,   -999.0,9,  -999.0,-999.0000,-999.000,  -999.0,-999.000
   31WTTUNES_1,  P17C,    89,  1,     69,     69,3,19910630,0203,  1.5000,-134.9983, 4461,   3038.8,   1.6699,  34.6733,2,  34.6368,4,   -999.0,9,  1.4456,   -999.0,9,  -999.00,9,  -999.00,9,  -999.00,9,  -999.00,9, -999.000,9, -999.000,9, -999.000,9,-999.0000,9,  -999.00,9,   -999.0,9,  -999.00,9,   -999.0,9,   -999.0,9,  -999.0,-999.0000,-999.000,  -999.0,-999.000
   31WTTUNES_1,  P17C,    89,  1,     70,     70,2,19910630,0203,  1.5000,-134.9983, 4461,   4050.2,   1.4281,  34.6921,2,  34.6924,2,   -999.0,9,  1.1057,   -999.0,9,  -999.00,9,  -999.00,9,  -999.00,9,  -999.00,9, -999.000,9, -999.000,9, -999.000,9,-999.0000,9,  -999.00,9,   -999.0,9,  -999.00,9,   -999.0,9,   -999.0,9,  -999.0,-999.0000,-999.000,  -999.0,-999.000
   31WTTUNES_1,  P17C,    89,  1,     71,     71,3,19910630,0203,  1.5000,-134.9983, 4461,   4538.2,   1.4531,  34.6944,2,  34.6012,4,   -999.0,9,  1.0751,   -999.0,9,  -999.00,9,  -999.00,9,  -999.00,9,  -999.00,9, -999.000,9, -999.000,9, -999.000,9,-999.0000,9,  -999.00,9,   -999.0,9,  -999.00,9,   -999.0,9,   -999.0,9,  -999.0,-999.0000,-999.000,  -999.0,-999.000