BOTTLE,20220819CCHSIOAMB
EXPOCODE,SECT_ID,STNNBR,CASTNO,SAMPNO,BTLNBR,BTLNBR_FLAG_W,DATE,TIME,LATITUDE,LONGITUDE,DEPTH,CTDPRS,CTDTMP,CTDSAL,CTDSAL_FLAG_W,SALNTY,SALNTY_FLAG_W,CTDOXY,CTDOXY_FLAG_W,THETA,OXYGEN,OXYGEN_FLAG_W,SILCAT,SILCAT_FLAG_W,NITRAT,NITRAT_FLAG_W,NITRIT,NITRIT_FLAG_W,PHSPHT,PHSPHT_FLAG_W,CFC-11,CFC-11_FLAG_W,CFC-12,CFC-12_FLAG_W,TRITUM,TRITUM_FLAG_W,HELIUM,HELIUM_FLAG_W,DELHE3,DELHE3_FLAG_W,DELC14,DELC14_FLAG_W,DELC13,DELC13_FLAG_W,TCARBN,TCARBN_FLAG_W,ALKALI,ALKALI_FLAG_W,C14ERR,HELIER,DELHER,C13ERR,TRITER
,,,,,,,,,,,,DBAR,ITS-90,PSS-78,,PSS-78,,UMOL/KG,,DEG C,UMOL/KG,,UMOL/KG,,UMOL/KG,,UMOL/KG,,UMOL/KG,,PMOL/KG,,PMOL/KG,,TU,,NMOL/KG,,PERCNT,,/MILLE,,/MILLE,,UMOL/KG,,UMOL/KG,,/MILLE,NMOL/KG,PERCNT,/MILLE,TU
   31WTTUNES_1,  P17C,    24,  1,     13,     13,2,19910610,2313, 31.0183,-135.0000, 4553,      3.6,  17.6005,  34.1264,2,  34.1280,2,    265.1,3, 17.5999,    245.2,2,     1.95,2,     0.05,2,     0.00,2,     0.20,2, -999.000,9, -999.000,9, -999.000,9,-999.0000,9,  -999.00,9,   -999.0,9,  -999.00,9,   -999.0,9,   -999.0,9,  -999.0,-999.0000,-999.000,  -999.0,-999.000
   31WTTUNES_1,  P17C,    24,  1,     14,     14,2,19910610,2313, 31.0183,-135.0000, 4553,     50.5,  17.6354,  34.3826,2,  34.3771,2,    248.7,2, 17.6269,    246.7,2,     2.56,2,     0.05,2,     0.00,2,     0.17,2, -999.000,9, -999.000,9, -999.000,9,-999.0000,9,  -999.00,9,   -999.0,9,  -999.00,9,   -999.0,9,   -999.0,9,  -999.0,-999.0000,-999.000,  -999.0,-999.000
   31WTTUNES_1,  P17C,    24,  1,     15,     15,2,19910610,2313, 31.0183,-135.0000, 4553,     80.2,  17.1594,  34.4203,2,  34.3975,2,    245.7,2, 17.1462,    244.7,2,     2.54,2,     0.09,2,     0.00,2,     0.16,2, -999.000,9, -999.000,9, -999.000,9,-999.0000,9,  -999.00,9,   -999.0,9,  -999.00,9,   -999.0,9,   -999.0,9,  -999.0,-999.0000,-999.000,  -999.0,-999.000
   31WTTUNES_1,  P17C,    24,  1,     16,     16,2,19910610,2313, 31.0183,-135.0000, 4553,    106.2,  16.6929,  34.3709,2,  34.3883,2,    241.0,2, 16.6757,    243.6,2,     2.74,2,     0.09,2,     0.00,2,     0.16,2, -999.000,9, -999.000,9, -999.000,9,-999.0000,9,  -999.00,9,   -999.0,9,  -999.00,9,   -999.0,9,   -999.0,9,  -999.0,-999.0000,-999.000,  -999.0,-999.000
   31WTTUNES_1,  P17C,    24,  1,     17,     17,2,19910610,2313, 31.0183,-135.0000, 4553,    131.0,  16.8091,  34.4953,2,  34.4949,2,    232.5,2, 16.7877,    237.2,2,     2.72,2,     0.22,2,     0.12,2,     0.17,2, -999.000,9, -999.000,9, -999.000,9,-999.0000,9,  -999.00,9,   -999.0,9,  -999.00,9,   -999.0,9,   -999.0,9,  -999.0,-999.0000,-999.000,  -999.0,-999.000
   31WTTUNES_1,  P17C,    24,  1,     18,     18,2,19910610,2313, 31.0183,-135.0000, 4553,    141.1,  16.6190,  34.4706,2,  34.4732,2,    231.0,2, 16.5962,    236.7,2,     2.71,2,     0.35,2,     0.14,2,     0.18,2, -999.000,9, -999.000,9, -999.000,9,-999.0000,9,  -999.00,9,   -999.0,9,  -999.00,9,   -999.0,9,   -999.0,9,  -999.0,-999.0000,-999.000,  -999.0,-999.000
   31WTTUNES_1,  P17C,    24,  1,     19,     19,2,19910610,2313, 31.0183,-135.0000, 4553,    177.5,  14.0011,  34.0849,2,  34.0709,2,    227.1,2, 13.9757,    228.6,2,     4.34,2,     4.06,2,     0.02,2,     0.45,2, -999.000,9, -999.000,9, -999.000,9,-999.0000,9,  -999.00,9,   -999.0,9,  -999.00,9,   -999.0,9,   -999.0,9,  -999.0,-999.0000,-999.000,  -999.0,-999.000
   31WTTUNES_1,  P17C,    24,  1,     20,     20,2,19910610,2313, 31.0183,-135.0000, 4553,    202.7,  11.3915,  33.8796,2,  33.8835,2,    226.4,2, 11.3662,    224.8,2,     6.99,2,     8.60,2,     0.00,2,     0.73,2, -999.000,9, -999.000,9, -999.000,9,-999.0000,9,  -999.00,9,   -999.0,9,  -999.00,9,   -999.0,9,   -999.0,9,  -999.0,-999.0000,-999.000,  -999.0,-999.000
   31WTTUNES_1,  P17C,    24,  1,     21,     21,2,19910610,2313, 31.0183,-135.0000, 4553,    228.7,  10.5208,  33.9398,2,  33.9393,2,    223.8,2, 10.4937,    224.9,2,    10.06,2,    11.23,2,     0.00,2,     0.89,2, -999.000,9, -999.000,9, -999.000,9,-999.0000,9,  -999.00,9,   -999.0,9,  -999.00,9,   -999.0,9,   -999.0,9,  -999.0,-999.0000,-999.000,  -999.0,-999.000
   31WTTUNES_1,  P17C,    24,  1,     22,     22,2,19910610,2313, 31.0183,-135.0000, 4553,    254.7,   9.7849,  33.9941,2,  33.9985,2,    225.7,2,  9.7560,    222.1,2,    14.35,2,    13.80,2,     0.00,2,     1.02,2, -999.000,9, -999.000,9, -999.000,9,-999.0000,9,  -999.00,9,   -999.0,9,  -999.00,9,   -999.0,9,   -999.0,9,  -999.0,-999.0000,-999.000,  -999.0,-999.000
   31WTTUNES_1,  P17C,    24,  1,     23,     23,2,19910610,2313, 31.0183,-135.0000, 4553,    296.3,   9.2915,  34.0449,2,  34.0450,2,    214.8,2,  9.2589,    212.1,2,    18.64,2,    16.32,2,     0.00,2,     1.16,2, -999.000,9, -999.000,9, -999.000,9,-999.0000,9,  -999.00,9,   -999.0,9,  -999.00,9,   -999.0,9,   -999.0,9,  -999.0,-999.0000,-999.000,  -999.0,-999.000
   31WTTUNES_1,  P17C,    24,  1,     24,     24,2,19910610,2313, 31.0183,-135.0000, 4553,    358.1,   7.9923,  34.0060,2,  34.0096,2,    183.8,2,  7.9562,    185.3,2,    29.90,2,    21.68,2,     0.00,2,     1.52,2, -999.000,9, -999.000,9, -999.000,9,-999.0000,9,  -999.00,9,   -999.0,9,  -999.00,9,   -999.0,9,   -999.0,9,  -999.0,-999.0000,-999.000,  -999.0,-999.000
   31WTTUNES_1,  P17C,    24,  1,     25,     25,2,19910610,2313, 31.0183,-135.0000, 4553,    403.3,   7.2473,  33.9826,2,  33.9837,2,    159.2,2,  7.2089,    162.8,2,    38.70,2,    25.62,2,     0.00,2,     1.79,2, -999.000,9, -999.000,9, -999.000,9,-999.0000,9,  -999.00,9,   -999.0,9,  -999.00,9,   -999.0,9,   -999.0,9,  -999.0,-999.0000,-999.000,  -999.0,-999.000
   31WTTUNES_1,  P17C,    24,  1,     26,     26,2,19910610,2313, 31.0183,-135.0000, 4553,    454.0,   6.3158,  33.9788,2,  33.9779,2,    121.0,2,  6.2756,    122.6,2,    52.63,2,    31.14,2,     0.00,2,     2.19,2, -999.000,9, -999.000,9, -999.000,9,-999.0000,9,  -999.00,9,   -999.0,9,  -999.00,9,   -999.0,9,   -999.0,9,  -999.0,-999.0000,-999.000,  -999.0,-999.000
   31WTTUNES_1,  P17C,    24,  1,     27,     27,2,19910610,2313, 31.0183,-135.0000, 4553,    504.5,   5.9475,  34.0096,2,  34.0089,2,     93.7,2,  5.9040,     91.2,2,    63.06,2,    34.56,2,     0.00,2,     2.47,2, -999.000,9, -999.000,9, -999.000,9,-999.0000,9,  -999.00,9,   -999.0,9,  -999.00,9,   -999.0,9,   -999.0,9,  -999.0,-999.0000,-999.000,  -999.0,-999.000
   31WTTUNES_1,  P17C,    24,  1,     28,     28,2,19910610,2313, 31.0183,-135.0000, 4553,    607.7,   4.8574,  34.0753,2,  34.0757,2,     42.8,2,  4.8096,     47.0,2,    85.59,2,    40.19,2,     0.00,2,     2.85,2, -999.000,9, -999.000,9, -999.000,9,-999.0000,9,  -999.00,9,   -999.0,9,  -999.00,9,   -999.0,9,   -999.0,9,  -999.0,-999.0000,-999.000,  -999.0,-999.000
   31WTTUNES_1,  P17C,    24,  1,     29,     29,2,19910610,2313, 31.0183,-135.0000, 4553,    710.8,   4.3782,  34.1883,2,  34.1867,2,     19.4,2,  4.3242,     22.3,2,   102.98,2,    42.78,2,     0.00,2,     3.06,2, -999.000,9, -999.000,9, -999.000,9,-999.0000,9,  -999.00,9,   -999.0,9,  -999.00,9,   -999.0,9,   -999.0,9,  -999.0,-999.0000,-999.000,  -999.0,-999.000
   31WTTUNES_1,  P17C,    24,  1,     30,     30,2,19910610,2313, 31.0183,-135.0000, 4553,    812.5,   4.1342,  34.3028,2,  34.3007,2,     12.5,2,  4.0733,     12.9,2,   114.02,2,    43.55,2,     0.00,2,     3.14,2, -999.000,9, -999.000,9, -999.000,9,-999.0000,9,  -999.00,9,   -999.0,9,  -999.00,9,   -999.0,9,   -999.0,9,  -999.0,-999.0000,-999.000,  -999.0,-999.000
   31WTTUNES_1,  P17C,    24,  1,     31,     31,2,19910610,2313, 31.0183,-135.0000, 4553,    908.9,   3.9696,  34.3897,2,  34.3910,2,     14.9,2,  3.9018,     14.6,2,   119.93,2,    43.72,2,     0.00,2,     3.16,2, -999.000,9, -999.000,9, -999.000,9,-999.0000,9,  -999.00,9,   -999.0,9,  -999.00,9,   -999.0,9,   -999.0,9,  -999.0,-999.0000,-999.000,  -999.0,-999.000
   31WTTUNES_1,  P17C,    24,  1,     32,     32,2,19910610,2313, 31.0183,-135.0000, 4553,   1006.1,   3.7258,  34.4387,2,  34.4385,2,     20.9,2,  3.6519,     20.9,2,   125.24,2,    43.67,2,     0.00,2,     3.15,2, -999.000,9, -999.000,9, -999.000,9,-999.0000,9,  -999.00,9,   -999.0,9,  -999.00,9,   -999.0,9,   -999.0,9,  -999.0,-999.0000,-999.000,  -999.0,-999.000
   31WTTUNES_1,  P17C,    24,  1,     33,     33,2,19910610,2313, 31.0183,-135.0000, 4553,   1212.0,   3.3384,  34.5044,2,  34.5043,2,     36.8,2,  3.2509,     38.7,2,   133.40,2,    43.17,2,     0.00,2,     3.08,2, -999.000,9, -999.000,9, -999.000,9,-999.0000,9,  -999.00,9,   -999.0,9,  -999.00,9,   -999.0,9,   -999.0,9,  -999.0,-999.0000,-999.000,  -999.0,-999.000
   31WTTUNES_1,  P17C,    24,  1,     34,     34,2,19910610,2313, 31.0183,-135.0000, 4553,   1417.5,   2.8650,  34.5368,2,  34.5375,2,     46.0,2,  2.7655,     45.0,2,   145.87,2,    42.84,2,     0.00,2,     3.04,2, -999.000,9, -999.000,9, -999.000,9,-999.0000,9,  -999.00,9,   -999.0,9,  -999.00,9,   -999.0,9,   -999.0,9,  -999.0,-999.0000,-999.000,  -999.0,-999.000
   31WTTUNES_1,  P17C,    24,  1,     35,     35,2,19910610,2313, 31.0183,-135.0000, 4553,   1629.1,   2.5499,  34.5740,2,  34.5749,2,     55.2,2,  2.4368,     59.6,2,   152.61,2,    42.02,2,     0.00,2,     2.97,2, -999.000,9, -999.000,9, -999.000,9,-999.0000,9,  -999.00,9,   -999.0,9,  -999.00,9,   -999.0,9,   -999.0,9,  -999.0,-999.0000,-999.000,  -999.0,-999.000
   31WTTUNES_1,  P17C,    24,  1,     36,     36,2,19910610,2313, 31.0183,-135.0000, 4553,   1828.6,   2.2763,  34.5961,2,  34.5971,2,     68.9,2,  2.1502,     68.2,2,   159.34,2,    41.53,2,     0.00,2,     2.95,2, -999.000,9, -999.000,9, -999.000,9,-999.0000,9,  -999.00,9,   -999.0,9,  -999.00,9,   -999.0,9,   -999.0,9,  -999.0,-999.0000,-999.000,  -999.0,-999.000
   31WTTUNES_1,  P17C,    24,  1,      1,      1,2,19910610,2313, 31.0183,-135.0000, 4553,   2027.2,   2.0663,  34.6151,2,  34.6150,2,     80.2,2,  1.9266,     78.5,2,   164.64,2,    40.87,2,     0.00,2,     2.85,2, -999.000,5, -999.000,5, -999.000,9,-999.0000,9,  -999.00,9,   -999.0,9,  -999.00,9,   -999.0,9,   -999.0,9,  -999.0,-999.0000,-999.000,  -999.0,-999.000
   31WTTUNES_1,  P17C,    24,  1,      2,      2,2,19910610,2313, 31.0183,-135.0000, 4553,   2234.3,   1.8936,  34.6304,2,  34.6290,2,     88.2,2,  1.7389,     88.7,2,   168.10,2,    40.05,2,     0.00,2,     2.81,2, -999.000,5, -999.000,5, -999.000,9,-999.0000,9,  -999.00,9,   -999.0,9,  -999.00,9,   -999.0,9,   -999.0,9,  -999.0,-999.0000,-999.000,  -999.0,-999.000
   31WTTUNES_1,  P17C,    24,  1,      3,      3,2,19910610,2313, 31.0183,-135.0000, 4553,   2438.3,   1.7848,  34.6416,2,  34.6408,2,     97.6,2,  1.6141,     96.3,2,   170.33,2,    39.68,2,     0.00,2,     2.77,2, -999.000,5, -999.000,5, -999.000,9,-999.0000,9,  -999.00,9,   -999.0,9,  -999.00,9,   -999.0,9,   -999.0,9,  -999.0,-999.0000,-999.000,  -999.0,-999.000
   31WTTUNES_1,  P17C,    24,  1,      4,      4,2,19910610,2313, 31.0183,-135.0000, 4553,   2635.8,   1.6944,  34.6509,2,  34.6505,2,    105.3,2,  1.5076,    108.9,3,   172.15,2,    39.14,2,     0.00,2,     2.72,2, -999.000,5, -999.000,5, -999.000,9,-999.0000,9,  -999.00,9,   -999.0,9,  -999.00,9,   -999.0,9,   -999.0,9,  -999.0,-999.0000,-999.000,  -999.0,-999.000
   31WTTUNES_1,  P17C,    24,  1,      5,      5,2,19910610,2313, 31.0183,-135.0000, 4553,   2898.6,   1.5975,  34.6605,2,  34.6596,2,    115.4,2,  1.3883,    115.6,2,   172.53,2,    38.60,2,     0.00,2,     2.68,2, -999.000,5, -999.000,5, -999.000,9,-999.0000,9,  -999.00,9,   -999.0,9,  -999.00,9,   -999.0,9,   -999.0,9,  -999.0,-999.0000,-999.000,  -999.0,-999.000
   31WTTUNES_1,  P17C,    24,  1,      6,      6,2,19910610,2313, 31.0183,-135.0000, 4553,   3141.7,   1.5429,  34.6661,2,  34.6659,2,    122.3,2,  1.3115,    122.1,2,   171.28,2,    38.01,2,     0.00,2,     2.64,2,    0.000,2,    0.000,2, -999.000,9,-999.0000,9,  -999.00,9,   -999.0,9,  -999.00,9,   -999.0,9,   -999.0,9,  -999.0,-999.0000,-999.000,  -999.0,-999.000
   31WTTUNES_1,  P17C,    24,  1,      7,      7,2,19910610,2313, 31.0183,-135.0000, 4553,   3387.7,   1.4993,  34.6733,2,  34.6714,2,    131.0,2,  1.2446,    129.1,2,   169.42,2,    37.53,2,     0.00,2,     2.59,2, -999.000,5, -999.000,5, -999.000,9,-999.0000,9,  -999.00,9,   -999.0,9,  -999.00,9,   -999.0,9,   -999.0,9,  -999.0,-999.0000,-999.000,  -999.0,-999.000
   31WTTUNES_1,  P17C,    24,  1,      8,      8,2,19910610,2313, 31.0183,-135.0000, 4553,   3656.0,   1.4740,  34.6783,2,  34.6781,2,    138.5,2,  1.1925,    138.2,2,   165.10,2,    37.05,2,     0.00,2,     2.54,2, -999.000,5, -999.000,5, -999.000,9,-999.0000,9,  -999.00,9,   -999.0,9,  -999.00,9,   -999.0,9,   -999.0,9,  -999.0,-999.0000,-999.000,  -999.0,-999.000
   31WTTUNES_1,  P17C,    24,  1,      9,      9,2,19910610,2313, 31.0183,-135.0000, 4553,   3907.0,   1.4769,  34.6818,2,  34.6811,2,    143.1,2,  1.1687,    145.5,2,   163.85,2,    36.73,2,     0.00,2,     2.52,2, -999.000,5, -999.000,5, -999.000,9,-999.0000,9,  -999.00,9,   -999.0,9,  -999.00,9,   -999.0,9,   -999.0,9,  -999.0,-999.0000,-999.000,  -999.0,-999.000
   31WTTUNES_1,  P17C,    24,  1,     10,     10,2,19910610,2313, 31.0183,-135.0000, 4553,   4159.5,   1.4959,  34.6829,2,  34.6819,2,    145.1,2,  1.1596,    146.1,2,   163.21,2,    36.63,2,     0.00,2,     2.50,2, -999.000,5, -999.000,5, -999.000,9,-999.0000,9,  -999.00,9,   -999.0,9,  -999.00,9,   -999.0,9,   -999.0,9,  -999.0,-999.0000,-999.000,  -999.0,-999.000
   31WTTUNES_1,  P17C,    24,  1,     11,     11,2,19910610,2313, 31.0183,-135.0000, 4553,   4418.6,   1.5225,  34.6841,2,  34.6806,2,    146.6,2,  1.1562,    145.8,2,   162.58,2,    36.52,2,     0.00,2,     2.50,2, -999.000,5, -999.000,5, -999.000,9,-999.0000,9,  -999.00,9,   -999.0,9,  -999.00,9,   -999.0,9,   -999.0,9,  -999.0,-999.0000,-999.000,  -999.0,-999.000
   31WTTUNES_1,  P17C,    24,  1,     12,     12,2,19910610,2313, 31.0183,-135.0000, 4553,   4683.6,   1.5513,  34.6839,2,  34.6834,2,   -999.0,9,  1.1533,    145.5,2,   162.55,2,    36.63,2,     0.00,2,     2.50,2, -999.000,5, -999.000,5, -999.000,9,-999.0000,9,  -999.00,9,   -999.0,9,  -999.00,9,   -999.0,9,   -999.0,9,  -999.0,-999.0000,-999.000,  -999.0,-999.000