BOTTLE,20220819CCHSIOAMB
EXPOCODE,SECT_ID,STNNBR,CASTNO,SAMPNO,BTLNBR,BTLNBR_FLAG_W,DATE,TIME,LATITUDE,LONGITUDE,DEPTH,CTDPRS,CTDTMP,CTDSAL,CTDSAL_FLAG_W,SALNTY,SALNTY_FLAG_W,CTDOXY,CTDOXY_FLAG_W,THETA,OXYGEN,OXYGEN_FLAG_W,SILCAT,SILCAT_FLAG_W,NITRAT,NITRAT_FLAG_W,NITRIT,NITRIT_FLAG_W,PHSPHT,PHSPHT_FLAG_W,CFC-11,CFC-11_FLAG_W,CFC-12,CFC-12_FLAG_W,TRITUM,TRITUM_FLAG_W,HELIUM,HELIUM_FLAG_W,DELHE3,DELHE3_FLAG_W,DELC14,DELC14_FLAG_W,DELC13,DELC13_FLAG_W,TCARBN,TCARBN_FLAG_W,ALKALI,ALKALI_FLAG_W,C14ERR,HELIER,DELHER,C13ERR,TRITER
,,,,,,,,,,,,DBAR,ITS-90,PSS-78,,PSS-78,,UMOL/KG,,DEG C,UMOL/KG,,UMOL/KG,,UMOL/KG,,UMOL/KG,,UMOL/KG,,PMOL/KG,,PMOL/KG,,TU,,NMOL/KG,,PERCNT,,/MILLE,,/MILLE,,UMOL/KG,,UMOL/KG,,/MILLE,NMOL/KG,PERCNT,/MILLE,TU
   31WTTUNES_1,  P17C,    16,  1,      1,      1,2,19910607,2207, 34.5833,-133.7700, 4323,      2.8,  15.8330,  33.1524,2,  33.1537,2,    269.3,2, 15.8325,    257.0,2,     3.52,2,     0.10,2,     0.02,2,     0.38,2,    3.039,2,    1.577,2, -999.000,9,-999.0000,9,  -999.00,9,   -999.0,9,  -999.00,9,   -999.0,9,   -999.0,9,  -999.0,-999.0000,-999.000,  -999.0,-999.000
   31WTTUNES_1,  P17C,    16,  1,      2,      2,2,19910607,2207, 34.5833,-133.7700, 4323,     58.4,  14.3712,  33.1653,2,  33.1738,2,    262.6,2, 14.3628,    265.5,2,     3.52,2,     0.10,2,     0.02,2,     0.37,2,    3.241,2,    1.624,2, -999.000,9,-999.0000,9,  -999.00,9,   -999.0,9,  -999.00,9,   -999.0,9,   -999.0,9,  -999.0,-999.0000,-999.000,  -999.0,-999.000
   31WTTUNES_1,  P17C,    16,  1,      3,      3,2,19910607,2207, 34.5833,-133.7700, 4323,     78.5,  14.1233,  33.2103,2,  33.2155,2,    257.9,2, 14.1121,    263.6,2,     3.72,2,     0.10,2,     0.03,2,     0.38,2, -999.000,5, -999.000,5, -999.000,9,-999.0000,9,  -999.00,9,   -999.0,9,  -999.00,9,   -999.0,9,   -999.0,9,  -999.0,-999.0000,-999.000,  -999.0,-999.000
   31WTTUNES_1,  P17C,    16,  1,      4,      4,2,19910607,2207, 34.5833,-133.7700, 4323,     99.8,  13.7904,  33.2263,2,  33.2104,2,    258.6,2, 13.7764,    256.3,2,     3.72,2,     0.49,2,     0.10,2,     0.43,2,    3.291,2,    1.639,2, -999.000,9,-999.0000,9,  -999.00,9,   -999.0,9,  -999.00,9,   -999.0,9,   -999.0,9,  -999.0,-999.0000,-999.000,  -999.0,-999.000
   31WTTUNES_1,  P17C,    16,  1,      5,      5,2,19910607,2207, 34.5833,-133.7700, 4323,    120.4,  12.3307,  33.2064,2,  33.1432,2,    243.4,2, 12.3151,    248.5,2,     5.87,2,     4.50,2,     0.10,2,     0.67,2, -999.000,5, -999.000,5, -999.000,9,-999.0000,9,  -999.00,9,   -999.0,9,  -999.00,9,   -999.0,9,   -999.0,9,  -999.0,-999.0000,-999.000,  -999.0,-999.000
   31WTTUNES_1,  P17C,    16,  1,      6,      6,2,19910607,2207, 34.5833,-133.7700, 4323,    151.3,  10.6083,  33.2276,2,  33.2369,2,    241.6,2, 10.5905,    236.4,2,     9.00,2,     9.10,2,     0.03,2,     0.93,2, -999.000,5, -999.000,5, -999.000,9,-999.0000,9,  -999.00,9,   -999.0,9,  -999.00,9,   -999.0,9,   -999.0,9,  -999.0,-999.0000,-999.000,  -999.0,-999.000
   31WTTUNES_1,  P17C,    16,  1,      7,      7,2,19910607,2207, 34.5833,-133.7700, 4323,    183.5,   8.7020,  33.3181,2,  33.3192,2,    219.5,2,  8.6829,    210.3,2,    18.00,2,    17.22,2,     0.01,2,     1.40,2, -999.000,5, -999.000,5, -999.000,9,-999.0000,9,  -999.00,9,   -999.0,9,  -999.00,9,   -999.0,9,   -999.0,9,  -999.0,-999.0000,-999.000,  -999.0,-999.000
   31WTTUNES_1,  P17C,    16,  1,      8,      8,2,19910607,2207, 34.5833,-133.7700, 4323,    209.4,   8.5331,  33.5425,2,  33.5556,2,    191.4,2,  8.5115,    182.6,2,    23.48,2,    20.84,2,     0.01,2,     1.59,2,    3.036,2,    1.501,2, -999.000,9,-999.0000,9,  -999.00,9,   -999.0,9,  -999.00,9,   -999.0,9,   -999.0,9,  -999.0,-999.0000,-999.000,  -999.0,-999.000
   31WTTUNES_1,  P17C,    16,  1,      9,      9,9,19910607,2207, 34.5833,-133.7700, 4323,    230.4,   8.5351,  33.7111,2,-999.0000,9,    167.8,2,  8.5112,   -999.0,9,  -999.00,9,  -999.00,9,  -999.00,9,  -999.00,9, -999.000,5, -999.000,5, -999.000,9,-999.0000,9,  -999.00,9,   -999.0,9,  -999.00,9,   -999.0,9,   -999.0,9,  -999.0,-999.0000,-999.000,  -999.0,-999.000
   31WTTUNES_1,  P17C,    16,  1,     10,     10,2,19910607,2207, 34.5833,-133.7700, 4323,    256.2,   8.4481,  33.8804,2,  33.8819,2,    142.0,2,  8.4216,    137.1,2,    31.98,2,    25.82,2,     0.01,2,     1.90,2, -999.000,5, -999.000,5, -999.000,9,-999.0000,9,  -999.00,9,   -999.0,9,  -999.00,9,   -999.0,9,   -999.0,9,  -999.0,-999.0000,-999.000,  -999.0,-999.000
   31WTTUNES_1,  P17C,    16,  1,     11,     11,2,19910607,2207, 34.5833,-133.7700, 4323,    276.4,   8.1562,  33.9345,2,  33.9327,2,    142.9,2,  8.1282,    138.7,2,    34.23,2,    26.01,2,     0.01,2,     1.92,2,    2.122,2,    1.023,2, -999.000,9,-999.0000,9,  -999.00,9,   -999.0,9,  -999.00,9,   -999.0,9,   -999.0,9,  -999.0,-999.0000,-999.000,  -999.0,-999.000
   31WTTUNES_1,  P17C,    16,  1,     12,     12,2,19910607,2207, 34.5833,-133.7700, 4323,    303.3,   7.8484,  33.9742,2,  33.9823,2,    137.4,2,  7.8183,    134.4,2,    38.24,2,    27.28,2,     0.01,2,     2.03,2, -999.000,5, -999.000,5, -999.000,9,-999.0000,9,  -999.00,9,   -999.0,9,  -999.00,9,   -999.0,9,   -999.0,9,  -999.0,-999.0000,-999.000,  -999.0,-999.000
   31WTTUNES_1,  P17C,    16,  1,     13,     13,2,19910607,2207, 34.5833,-133.7700, 4323,    350.4,   7.0247,  34.0019,2,  34.0002,2,    114.1,2,  6.9920,    113.3,2,    48.41,2,    30.51,2,     0.01,2,     2.25,2, -999.000,5, -999.000,5, -999.000,9,-999.0000,9,  -999.00,9,   -999.0,9,  -999.00,9,   -999.0,9,   -999.0,9,  -999.0,-999.0000,-999.000,  -999.0,-999.000
   31WTTUNES_1,  P17C,    16,  1,     14,     14,2,19910607,2207, 34.5833,-133.7700, 4323,    403.1,   6.4710,  34.0126,2,  34.0108,2,     91.7,2,  6.4349,     94.7,2,    56.43,2,    33.35,2,     0.01,2,     2.41,2,    0.984,2,    0.473,2, -999.000,9,-999.0000,9,  -999.00,9,   -999.0,9,  -999.00,9,   -999.0,9,   -999.0,9,  -999.0,-999.0000,-999.000,  -999.0,-999.000
   31WTTUNES_1,  P17C,    16,  1,     15,     15,2,19910607,2207, 34.5833,-133.7700, 4323,    502.8,   5.5705,  34.0490,2,  34.0452,2,     56.1,2,  5.5286,     61.7,2,    72.85,2,    37.84,2,     0.02,2,     2.75,2, -999.000,5, -999.000,5, -999.000,9,-999.0000,9,  -999.00,9,   -999.0,9,  -999.00,9,   -999.0,9,   -999.0,9,  -999.0,-999.0000,-999.000,  -999.0,-999.000
   31WTTUNES_1,  P17C,    16,  1,     16,     16,2,19910607,2207, 34.5833,-133.7700, 4323,    606.4,   4.8619,  34.1462,2,  34.1441,2,     24.8,2,  4.8141,     26.5,2,    92.50,2,    41.85,2,     0.01,2,     3.04,2,    0.092,2,    0.055,2, -999.000,9,-999.0000,9,  -999.00,9,   -999.0,9,  -999.00,9,   -999.0,9,   -999.0,9,  -999.0,-999.0000,-999.000,  -999.0,-999.000
   31WTTUNES_1,  P17C,    16,  1,     17,     17,2,19910607,2207, 34.5833,-133.7700, 4323,    703.9,   4.4891,  34.2566,2,  34.2545,2,     12.5,2,  4.4350,     12.6,2,   106.38,2,    43.51,2,     0.02,2,     3.20,2,    0.027,2,    0.016,2, -999.000,9,-999.0000,9,  -999.00,9,   -999.0,9,  -999.00,9,   -999.0,9,   -999.0,9,  -999.0,-999.0000,-999.000,  -999.0,-999.000
   31WTTUNES_1,  P17C,    16,  1,     18,     18,2,19910607,2207, 34.5833,-133.7700, 4323,    808.4,   4.0683,  34.3259,2,  34.3249,2,     10.5,2,  4.0082,     11.9,2,   118.20,2,    44.39,2,     0.01,2,     3.23,2,    0.064,3,    0.015,2, -999.000,9,-999.0000,9,  -999.00,9,   -999.0,9,  -999.00,9,   -999.0,9,   -999.0,9,  -999.0,-999.0000,-999.000,  -999.0,-999.000
   31WTTUNES_1,  P17C,    16,  1,     19,     19,2,19910607,2207, 34.5833,-133.7700, 4323,    912.7,   3.6896,  34.3715,2,  34.3697,2,     11.4,2,  3.6235,     10.9,2,   127.97,2,    44.19,2,     0.01,2,     3.12,4, -999.000,5, -999.000,5, -999.000,9,-999.0000,9,  -999.00,9,   -999.0,9,  -999.00,9,   -999.0,9,   -999.0,9,  -999.0,-999.0000,-999.000,  -999.0,-999.000
   31WTTUNES_1,  P17C,    16,  1,     20,     20,2,19910607,2207, 34.5833,-133.7700, 4323,   1006.9,   3.5357,  34.4285,2,  34.4250,2,     15.9,2,  3.4632,     16.2,2,   131.88,2,    44.19,2,     0.02,2,     3.12,4, -999.000,5, -999.000,5, -999.000,9,-999.0000,9,  -999.00,9,   -999.0,9,  -999.00,9,   -999.0,9,   -999.0,9,  -999.0,-999.0000,-999.000,  -999.0,-999.000
   31WTTUNES_1,  P17C,    16,  1,     21,     21,2,19910607,2207, 34.5833,-133.7700, 4323,   1209.8,   3.0999,  34.4935,2,  34.4900,2,     27.4,2,  3.0149,     27.0,2,   142.43,2,    43.79,2,     0.02,2,     3.06,4,    0.000,2,    0.002,2, -999.000,9,-999.0000,9,  -999.00,9,   -999.0,9,  -999.00,9,   -999.0,9,   -999.0,9,  -999.0,-999.0000,-999.000,  -999.0,-999.000
   31WTTUNES_1,  P17C,    16,  1,     22,     22,2,19910607,2207, 34.5833,-133.7700, 4323,   1412.4,   2.7652,  34.5322,2,  34.5288,2,     40.4,2,  2.6672,     39.3,2,   147.61,2,    43.01,2,     0.02,2,     3.01,4, -999.000,5, -999.000,5, -999.000,9,-999.0000,9,  -999.00,9,   -999.0,9,  -999.00,9,   -999.0,9,   -999.0,9,  -999.0,-999.0000,-999.000,  -999.0,-999.000
   31WTTUNES_1,  P17C,    16,  1,     23,     23,2,19910607,2207, 34.5833,-133.7700, 4323,   1616.3,   2.4643,  34.5629,2,  34.5604,2,     52.2,2,  2.3534,     53.5,2,   157.09,2,    42.33,2,     0.02,2,     2.94,4, -999.000,5, -999.000,5, -999.000,9,-999.0000,9,  -999.00,9,   -999.0,9,  -999.00,9,   -999.0,9,   -999.0,9,  -999.0,-999.0000,-999.000,  -999.0,-999.000
   31WTTUNES_1,  P17C,    16,  1,     24,     24,2,19910607,2207, 34.5833,-133.7700, 4323,   1818.6,   2.1795,  34.5878,2,  34.5857,2,     62.4,2,  2.0557,     61.6,2,   164.80,2,    41.74,2,     0.01,2,     2.89,4, -999.000,5, -999.000,5, -999.000,9,-999.0000,9,  -999.00,9,   -999.0,9,  -999.00,9,   -999.0,9,   -999.0,9,  -999.0,-999.0000,-999.000,  -999.0,-999.000
   31WTTUNES_1,  P17C,    16,  1,     25,     25,3,19910607,2207, 34.5833,-133.7700, 4323,   2022.5,   2.0146,  34.6076,2,-999.0000,5,     73.5,2,  1.8762,   -999.0,5,  -999.00,5,  -999.00,5,  -999.00,5,  -999.00,5, -999.000,5, -999.000,5, -999.000,9,-999.0000,9,  -999.00,9,   -999.0,9,  -999.00,9,   -999.0,9,   -999.0,9,  -999.0,-999.0000,-999.000,  -999.0,-999.000
   31WTTUNES_1,  P17C,    16,  1,     26,     26,2,19910607,2207, 34.5833,-133.7700, 4323,   2227.3,   1.8717,  34.6244,2,  34.6221,2,     84.2,2,  1.7181,     83.6,2,   170.47,2,    40.17,2,     0.00,2,     2.78,4, -999.000,5, -999.000,5, -999.000,9,-999.0000,9,  -999.00,9,   -999.0,9,  -999.00,9,   -999.0,9,   -999.0,9,  -999.0,-999.0000,-999.000,  -999.0,-999.000
   31WTTUNES_1,  P17C,    16,  1,     27,     27,9,19910607,2207, 34.5833,-133.7700, 4323,   2430.2,   1.7758,  34.6339,2,-999.0000,9,     91.6,2,  1.6060,   -999.0,9,  -999.00,9,  -999.00,9,  -999.00,9,  -999.00,9, -999.000,5, -999.000,5, -999.000,9,-999.0000,9,  -999.00,9,   -999.0,9,  -999.00,9,   -999.0,9,   -999.0,9,  -999.0,-999.0000,-999.000,  -999.0,-999.000
   31WTTUNES_1,  P17C,    16,  1,     28,     28,2,19910607,2207, 34.5833,-133.7700, 4323,   2633.9,   1.6809,  34.6421,2,  34.6400,2,     98.8,2,  1.4945,     98.4,2,   175.16,2,    39.39,2,     0.00,2,     2.70,4, -999.000,5, -999.000,5, -999.000,9,-999.0000,9,  -999.00,9,   -999.0,9,  -999.00,9,   -999.0,9,   -999.0,9,  -999.0,-999.0000,-999.000,  -999.0,-999.000
   31WTTUNES_1,  P17C,    16,  1,     29,     29,2,19910607,2207, 34.5833,-133.7700, 4323,   2832.5,   1.6199,  34.6510,2,  34.6476,2,    106.4,2,  1.4165,    106.1,2,   173.99,2,    38.80,2,     0.00,2,     2.68,4, -999.000,5, -999.000,5, -999.000,9,-999.0000,9,  -999.00,9,   -999.0,9,  -999.00,9,   -999.0,9,   -999.0,9,  -999.0,-999.0000,-999.000,  -999.0,-999.000
   31WTTUNES_1,  P17C,    16,  1,     30,     30,4,19910607,2207, 34.5833,-133.7700, 4323,   2832.5,   1.6199,  34.6510,2,  34.6483,2,    106.4,2,  1.4165,    105.9,2,   173.98,2,    39.00,2,     0.00,2,     2.65,4, -999.000,5, -999.000,5, -999.000,9,-999.0000,9,  -999.00,9,   -999.0,9,  -999.00,9,   -999.0,9,   -999.0,9,  -999.0,-999.0000,-999.000,  -999.0,-999.000
   31WTTUNES_1,  P17C,    16,  1,     31,     31,4,19910607,2207, 34.5833,-133.7700, 4323,   3041.5,   1.5700,  34.6571,2,  34.6565,2,    114.0,2,  1.3477,    114.3,2,   173.01,2,    38.51,2,     0.00,2,     2.62,4, -999.000,5, -999.000,5, -999.000,9,-999.0000,9,  -999.00,9,   -999.0,9,  -999.00,9,   -999.0,9,   -999.0,9,  -999.0,-999.0000,-999.000,  -999.0,-999.000
   31WTTUNES_1,  P17C,    16,  1,     32,     32,2,19910607,2207, 34.5833,-133.7700, 4323,   3449.3,   1.5160,  34.6662,2,  34.6655,2,    126.4,2,  1.2547,    127.0,2,   169.00,2,    37.44,2,     0.00,2,     2.56,4, -999.000,5, -999.000,5, -999.000,9,-999.0000,9,  -999.00,9,   -999.0,9,  -999.00,9,   -999.0,9,   -999.0,9,  -999.0,-999.0000,-999.000,  -999.0,-999.000
   31WTTUNES_1,  P17C,    16,  1,     33,     33,2,19910607,2207, 34.5833,-133.7700, 4323,   3658.4,   1.5030,  34.6717,2,  34.6678,2,    132.5,2,  1.2205,    134.3,2,   167.43,2,    37.24,2,     0.00,2,     2.53,4, -999.000,5, -999.000,5, -999.000,9,-999.0000,9,  -999.00,9,   -999.0,9,  -999.00,9,   -999.0,9,   -999.0,9,  -999.0,-999.0000,-999.000,  -999.0,-999.000
   31WTTUNES_1,  P17C,    16,  1,     34,     34,2,19910607,2207, 34.5833,-133.7700, 4323,   3855.5,   1.4850,  34.6756,2,  34.6729,2,    139.2,2,  1.1822,    140.2,2,   165.28,2,    36.85,2,     0.00,2,     2.49,4, -999.000,5, -999.000,5, -999.000,9,-999.0000,9,  -999.00,9,   -999.0,9,  -999.00,9,   -999.0,9,   -999.0,9,  -999.0,-999.0000,-999.000,  -999.0,-999.000
   31WTTUNES_1,  P17C,    16,  1,     35,     35,2,19910607,2207, 34.5833,-133.7700, 4323,   4083.9,   1.4810,  34.6786,2,  34.6768,2,    144.1,2,  1.1535,    143.3,2,   163.33,2,    36.36,2,     0.00,2,     2.45,4,    0.000,2,    0.000,2, -999.000,9,-999.0000,9,  -999.00,9,   -999.0,9,  -999.00,9,   -999.0,9,   -999.0,9,  -999.0,-999.0000,-999.000,  -999.0,-999.000
   31WTTUNES_1,  P17C,    16,  1,     36,     36,2,19910607,2207, 34.5833,-133.7700, 4323,   4409.2,   1.5020,  34.6807,2,  34.6789,2,   -999.0,9,  1.1374,    147.4,2,   162.74,2,    36.56,2,     0.00,2,     2.50,2,   -0.001,2,    0.000,2, -999.000,9,-999.0000,9,  -999.00,9,   -999.0,9,  -999.00,9,   -999.0,9,   -999.0,9,  -999.0,-999.0000,-999.000,  -999.0,-999.000