BOTTLE,20220819CCHSIOAMB
EXPOCODE,SECT_ID,STNNBR,CASTNO,SAMPNO,BTLNBR,BTLNBR_FLAG_W,DATE,TIME,LATITUDE,LONGITUDE,DEPTH,CTDPRS,CTDTMP,CTDSAL,CTDSAL_FLAG_W,SALNTY,SALNTY_FLAG_W,CTDOXY,CTDOXY_FLAG_W,THETA,OXYGEN,OXYGEN_FLAG_W,SILCAT,SILCAT_FLAG_W,NITRAT,NITRAT_FLAG_W,NITRIT,NITRIT_FLAG_W,PHSPHT,PHSPHT_FLAG_W,CFC-11,CFC-11_FLAG_W,CFC-12,CFC-12_FLAG_W,TRITUM,TRITUM_FLAG_W,HELIUM,HELIUM_FLAG_W,DELHE3,DELHE3_FLAG_W,DELC14,DELC14_FLAG_W,DELC13,DELC13_FLAG_W,TCARBN,TCARBN_FLAG_W,ALKALI,ALKALI_FLAG_W,C14ERR,HELIER,DELHER,C13ERR,TRITER
,,,,,,,,,,,,DBAR,ITS-90,PSS-78,,PSS-78,,UMOL/KG,,DEG C,UMOL/KG,,UMOL/KG,,UMOL/KG,,UMOL/KG,,UMOL/KG,,PMOL/KG,,PMOL/KG,,TU,,NMOL/KG,,PERCNT,,/MILLE,,/MILLE,,UMOL/KG,,UMOL/KG,,/MILLE,NMOL/KG,PERCNT,/MILLE,TU
   31WTTUNES_1,  P17C,    53,  1,      1,      1,2,19910620,0232, 16.5000,-135.0000, 4832,      0.9,  25.2566,  34.4936,2,  34.4991,2,    208.9,3, 25.2565,    209.7,2,     2.39,2,     0.13,2,     0.00,2,     0.23,2, -999.000,9, -999.000,9, -999.000,9,-999.0000,9,  -999.00,9,     87.4,2,     1.44,2,   1945.0,2,   2254.9,2,     3.1,-999.0000,-999.000,  -999.0,-999.000
   31WTTUNES_1,  P17C,    53,  1,      2,      2,2,19910620,0232, 16.5000,-135.0000, 4832,     52.5,  25.1364,  34.4951,2,  34.4985,2,    201.8,2, 25.1250,    209.8,2,     2.11,2,     0.13,2,     0.00,2,     0.23,2, -999.000,9, -999.000,9, -999.000,9,-999.0000,9,  -999.00,9,   -999.0,9,  -999.00,9,   1943.7,2,   2286.9,2,  -999.0,-999.0000,-999.000,  -999.0,-999.000
   31WTTUNES_1,  P17C,    53,  1,      3,      3,2,19910620,0232, 16.5000,-135.0000, 4832,     88.7,  22.3523,  34.7057,2,  34.7115,2,    217.8,2, 22.3346,    220.8,2,     2.02,2,     0.37,2,     0.00,2,     0.24,2, -999.000,9, -999.000,9, -999.000,9,-999.0000,9,  -999.00,9,     96.9,2,     1.55,2,   1990.9,2,   -999.0,9,     4.3,-999.0000,-999.000,  -999.0,-999.000
   31WTTUNES_1,  P17C,    53,  1,      4,      4,2,19910620,0232, 16.5000,-135.0000, 4832,    114.0,  20.4844,  34.6753,2,  34.6602,2,    216.8,2, 20.4631,    217.3,2,     1.92,2,     0.37,2,     0.04,2,     0.26,2, -999.000,9, -999.000,9, -999.000,9,-999.0000,9,  -999.00,9,   -999.0,9,  -999.00,9,   2017.2,2,   2316.9,2,  -999.0,-999.0000,-999.000,  -999.0,-999.000
   31WTTUNES_1,  P17C,    53,  1,      5,      5,2,19910620,0232, 16.5000,-135.0000, 4832,    134.7,  18.8695,  34.6052,2,  34.6009,2,    203.4,2, 18.8457,    199.4,2,     2.76,2,     2.01,2,     0.33,2,     0.39,2, -999.000,9, -999.000,9, -999.000,9,-999.0000,9,  -999.00,9,    100.9,2,     1.09,2,   2043.1,2,   -999.0,9,     4.2,-999.0000,-999.000,  -999.0,-999.000
   31WTTUNES_1,  P17C,    53,  1,      6,      6,2,19910620,0232, 16.5000,-135.0000, 4832,    151.6,  16.4236,  34.4486,2,  34.4406,2,    186.0,2, 16.3993,    182.2,2,     5.07,2,     6.09,2,     0.02,2,     0.61,2, -999.000,9, -999.000,9, -999.000,9,-999.0000,9,  -999.00,9,    102.6,2,     0.82,2,   2063.7,2,   -999.0,9,     2.8,-999.0000,-999.000,  -999.0,-999.000
   31WTTUNES_1,  P17C,    53,  1,      7,      7,2,19910620,0232, 16.5000,-135.0000, 4832,    178.8,  13.7019,  34.2695,2,  34.2691,2,    123.0,2, 13.6766,    114.7,2,    14.43,2,    17.68,2,     0.01,2,     1.41,2, -999.000,9, -999.000,9, -999.000,9,-999.0000,9,  -999.00,9,     44.4,2,     0.25,2,   2136.4,2,   -999.0,9,     2.9,-999.0000,-999.000,  -999.0,-999.000
   31WTTUNES_1,  P17C,    53,  1,      8,      8,2,19910620,0232, 16.5000,-135.0000, 4832,    191.0,  12.8530,  34.2899,2,  34.2858,2,    113.9,2, 12.8271,     97.1,2,    18.23,2,    20.87,2,     0.01,2,     1.67,2, -999.000,9, -999.000,9, -999.000,9,-999.0000,9,  -999.00,9,     26.8,2,     0.09,2,   2159.1,2,   2270.6,2,     2.6,-999.0000,-999.000,  -999.0,-999.000
   31WTTUNES_1,  P17C,    53,  1,      9,      9,2,19910620,0232, 16.5000,-135.0000, 4832,    252.6,  10.5996,  34.4350,2,  34.4345,2,     52.0,2, 10.5693,     49.0,2,    32.59,2,    27.76,2,     0.01,2,     2.30,2, -999.000,9, -999.000,9, -999.000,9,-999.0000,9,  -999.00,9,    -47.1,2,    -0.28,2,   2227.7,2,   -999.0,9,     2.5,-999.0000,-999.000,  -999.0,-999.000
   31WTTUNES_1,  P17C,    53,  1,     10,     10,2,19910620,0232, 16.5000,-135.0000, 4832,    303.4,   9.9324,  34.5147,2,  34.5172,2,     20.9,2,  9.8974,     20.8,2,    38.43,2,    29.92,2,     0.01,2,     2.59,2, -999.000,9, -999.000,9, -999.000,9,-999.0000,9,  -999.00,9,    -76.9,2,    -0.34,2,   2259.3,2,   2300.7,2,     2.5,-999.0000,-999.000,  -999.0,-999.000
   31WTTUNES_1,  P17C,    53,  1,     11,     11,2,19910620,0232, 16.5000,-135.0000, 4832,    354.4,   9.0264,  34.5006,2,  34.5042,2,     15.2,2,  8.9878,     14.2,2,    45.20,2,    32.34,2,     0.01,2,     2.72,2, -999.000,9, -999.000,9, -999.000,9,-999.0000,9,  -999.00,9,   -104.7,2,    -0.38,2,   2275.3,2,   -999.0,9,     2.4,-999.0000,-999.000,  -999.0,-999.000
   31WTTUNES_1,  P17C,    53,  1,     12,     12,2,19910620,0232, 16.5000,-135.0000, 4832,    405.9,   8.4645,  34.4865,2,  34.4901,2,     11.4,2,  8.4218,     12.0,2,    49.37,2,    34.32,2,     0.00,2,     2.79,2, -999.000,9, -999.000,9, -999.000,9,-999.0000,9,  -999.00,9,   -107.2,2,    -0.38,2,   2281.0,2,   2311.0,2,     3.3,-999.0000,-999.000,  -999.0,-999.000
   31WTTUNES_1,  P17C,    53,  1,     13,     13,2,19910620,0232, 16.5000,-135.0000, 4832,    506.6,   7.2535,  34.4521,2,  34.4575,2,     11.7,2,  7.2045,     10.5,2,    61.88,2,    37.56,2,     0.00,2,     2.94,2, -999.000,9, -999.000,9, -999.000,9,-999.0000,9,  -999.00,9,   -132.6,2,    -0.47,2,   2296.9,2,   -999.0,9,     3.1,-999.0000,-999.000,  -999.0,-999.000
   31WTTUNES_1,  P17C,    53,  1,     14,     14,2,19910620,0232, 16.5000,-135.0000, 4832,    602.9,   6.4409,  34.4519,2,  34.4549,2,     12.8,2,  6.3858,     14.1,2,    71.99,2,    39.85,2,     0.00,2,     3.03,2, -999.000,9, -999.000,9, -999.000,9,-999.0000,9,  -999.00,9,   -146.7,2,    -0.38,2,   2306.8,2,   2330.9,2,     2.6,-999.0000,-999.000,  -999.0,-999.000
   31WTTUNES_1,  P17C,    53,  1,     15,     15,2,19910620,0232, 16.5000,-135.0000, 4832,    707.7,   5.6330,  34.4797,2,  34.4818,2,     15.6,2,  5.5722,     15.5,2,    84.13,2,    41.91,2,     0.00,2,     3.12,2, -999.000,9, -999.000,9, -999.000,9,-999.0000,9,  -999.00,9,   -165.2,2,    -0.39,2,   2323.4,2,   -999.0,9,     2.4,-999.0000,-999.000,  -999.0,-999.000
   31WTTUNES_1,  P17C,    53,  1,     16,     16,2,19910620,0232, 16.5000,-135.0000, 4832,    810.8,   5.0844,  34.4983,2,  34.4999,2,     21.0,2,  5.0175,     21.6,2,    91.83,2,    43.02,2,     0.00,2,     3.12,2, -999.000,9, -999.000,9, -999.000,9,-999.0000,9,  -999.00,9,   -999.0,9,  -999.00,9,   2330.8,2,   -999.0,9,  -999.0,-999.0000,-999.000,  -999.0,-999.000
   31WTTUNES_1,  P17C,    53,  1,     17,     17,2,19910620,0232, 16.5000,-135.0000, 4832,    912.7,   4.6847,  34.5128,2,  34.5156,2,     27.2,2,  4.6114,     26.8,2,    99.71,2,    43.23,2,     0.00,2,     3.14,2, -999.000,9, -999.000,9, -999.000,9,-999.0000,9,  -999.00,9,   -195.9,2,    -0.39,2,   2337.4,2,   -999.0,9,     2.2,-999.0000,-999.000,  -999.0,-999.000
   31WTTUNES_1,  P17C,    53,  1,     18,     18,2,19910620,0232, 16.5000,-135.0000, 4832,   1013.9,   4.3174,  34.5232,2,  34.5262,2,     34.1,2,  4.2381,     34.6,2,   106.67,2,    42.90,2,     0.00,2,     3.13,2, -999.000,9, -999.000,9, -999.000,9,-999.0000,9,  -999.00,9,   -999.0,9,  -999.00,9,   2341.9,2,   2373.2,2,  -999.0,-999.0000,-999.000,  -999.0,-999.000
   31WTTUNES_1,  P17C,    53,  1,     19,     19,2,19910620,0232, 16.5000,-135.0000, 4832,   1216.6,   3.6889,  34.5547,2,  34.5561,2,     43.9,2,  3.5976,     42.9,2,   119.74,2,    42.94,2,     0.00,2,     3.15,2, -999.000,9, -999.000,9, -999.000,9,-999.0000,9,  -999.00,9,   -221.6,2,    -0.42,2,   2350.7,2,   -999.0,9,     2.7,-999.0000,-999.000,  -999.0,-999.000
   31WTTUNES_1,  P17C,    53,  1,     20,     20,2,19910620,0232, 16.5000,-135.0000, 4832,   1415.7,   3.1950,  34.5786,2,  34.5796,2,     56.7,2,  3.0920,     55.6,2,   130.22,2,    42.18,2,     0.00,2,     3.05,2, -999.000,9, -999.000,9, -999.000,9,-999.0000,9,  -999.00,9,   -999.0,9,  -999.00,9,   2357.2,2,   -999.0,9,  -999.0,-999.0000,-999.000,  -999.0,-999.000
   31WTTUNES_1,  P17C,    53,  1,     21,     21,2,19910620,0232, 16.5000,-135.0000, 4832,   1618.1,   2.7608,  34.5985,2,  34.5993,2,     68.3,2,  2.6459,     67.4,2,   139.78,2,    41.53,2,     0.00,2,     2.97,2, -999.000,9, -999.000,9, -999.000,9,-999.0000,9,  -999.00,9,   -240.6,2,    -0.38,2,   2359.2,2,   -999.0,9,     2.1,-999.0000,-999.000,  -999.0,-999.000
   31WTTUNES_1,  P17C,    53,  1,     22,     22,2,19910620,0232, 16.5000,-135.0000, 4832,   1824.5,   2.3856,  34.6180,2,  34.6179,2,     81.1,2,  2.2583,     79.9,2,   147.66,2,    40.57,2,     0.00,2,     2.90,2, -999.000,9, -999.000,9, -999.000,9,-999.0000,9,  -999.00,9,   -999.0,9,  -999.00,9,   2363.3,2,   -999.0,9,  -999.0,-999.0000,-999.000,  -999.0,-999.000
   31WTTUNES_1,  P17C,    53,  1,     23,     23,2,19910620,0232, 16.5000,-135.0000, 4832,   2029.8,   2.1560,  34.6292,2,  34.6303,2,     90.4,2,  2.0146,     90.5,2,   151.65,2,    39.71,2,     0.00,2,     2.82,2, -999.000,9, -999.000,9, -999.000,9,-999.0000,9,  -999.00,9,   -999.0,9,  -999.00,9,   -999.0,9,   -999.0,9,  -999.0,-999.0000,-999.000,  -999.0,-999.000
   31WTTUNES_1,  P17C,    53,  1,     24,     24,2,19910620,0232, 16.5000,-135.0000, 4832,   2227.1,   1.9504,  34.6433,2,  34.6441,2,    100.9,2,  1.7953,    100.9,2,   155.28,2,    39.13,2,     0.00,2,     2.76,2, -999.000,9, -999.000,9, -999.000,9,-999.0000,9,  -999.00,9,   -999.0,9,  -999.00,9,   -999.0,9,   2430.2,2,  -999.0,-999.0000,-999.000,  -999.0,-999.000
   31WTTUNES_1,  P17C,    53,  1,     25,     25,2,19910620,0232, 16.5000,-135.0000, 4832,   2427.7,   1.8458,  34.6533,2,  34.6523,2,    107.2,2,  1.6748,    107.8,2,   156.86,2,    38.60,2,     0.00,2,     2.72,2, -999.000,9, -999.000,9, -999.000,9,-999.0000,9,  -999.00,9,   -999.0,9,  -999.00,9,   -999.0,9,   -999.0,9,  -999.0,-999.0000,-999.000,  -999.0,-999.000
   31WTTUNES_1,  P17C,    53,  1,     26,     26,2,19910620,0232, 16.5000,-135.0000, 4832,   2630.5,   1.7486,  34.6612,2,  34.6600,2,    113.6,2,  1.5612,    113.7,2,   158.81,2,    38.22,2,     0.00,2,     2.68,2, -999.000,9, -999.000,9, -999.000,9,-999.0000,9,  -999.00,9,   -999.0,9,  -999.00,9,   2356.7,2,   -999.0,9,  -999.0,-999.0000,-999.000,  -999.0,-999.000
   31WTTUNES_1,  P17C,    53,  1,     27,     27,2,19910620,0232, 16.5000,-135.0000, 4832,   2834.4,   1.6696,  34.6648,2,  34.6657,2,    119.6,2,  1.4648,    118.9,2,   160.58,2,    37.85,2,     0.00,2,     2.65,2, -999.000,9, -999.000,9, -999.000,9,-999.0000,9,  -999.00,9,   -999.0,9,  -999.00,9,   2352.3,2,   -999.0,9,  -999.0,-999.0000,-999.000,  -999.0,-999.000
   31WTTUNES_1,  P17C,    53,  1,     28,     28,2,19910620,0232, 16.5000,-135.0000, 4832,   3038.7,   1.6072,  34.6691,2,  34.6714,2,    124.5,2,  1.3844,    124.1,2,   161.98,2,    37.89,2,     0.00,2,     2.63,2, -999.000,9, -999.000,9, -999.000,9,-999.0000,9,  -999.00,9,   -999.0,9,  -999.00,9,   2349.2,2,   -999.0,9,  -999.0,-999.0000,-999.000,  -999.0,-999.000
   31WTTUNES_1,  P17C,    53,  1,     29,     29,2,19910620,0232, 16.5000,-135.0000, 4832,   3246.2,   1.5520,  34.6744,2,  34.6753,2,    130.7,2,  1.3101,    131.0,2,   161.70,2,    37.73,2,     0.00,2,     2.62,2, -999.000,9, -999.000,9, -999.000,9,-999.0000,9,  -999.00,9,   -999.0,9,  -999.00,9,   2347.8,2,   -999.0,9,  -999.0,-999.0000,-999.000,  -999.0,-999.000
   31WTTUNES_1,  P17C,    53,  1,     30,     30,2,19910620,0232, 16.5000,-135.0000, 4832,   3447.0,   1.5173,  34.6776,2,  34.6781,2,    135.4,2,  1.2561,    135.2,2,   161.43,2,    37.20,2,     0.00,2,     2.58,2, -999.000,9, -999.000,9, -999.000,9,-999.0000,9,  -999.00,9,   -999.0,9,  -999.00,9,   2343.5,2,   2437.2,2,  -999.0,-999.0000,-999.000,  -999.0,-999.000
   31WTTUNES_1,  P17C,    53,  1,     31,     31,2,19910620,0232, 16.5000,-135.0000, 4832,   3649.8,   1.4870,  34.6798,2,  34.6814,2,    140.9,2,  1.2058,    141.2,2,   159.12,2,    36.73,2,     0.00,2,     2.56,2, -999.000,9, -999.000,9, -999.000,9,-999.0000,9,  -999.00,9,   -999.0,9,  -999.00,9,   2338.8,2,   -999.0,9,  -999.0,-999.0000,-999.000,  -999.0,-999.000
   31WTTUNES_1,  P17C,    53,  1,     32,     32,2,19910620,0232, 16.5000,-135.0000, 4832,   3909.3,   1.4705,  34.6836,2,  34.6846,2,    148.0,2,  1.1623,    147.6,2,   155.51,2,    36.25,2,     0.00,2,     2.53,2, -999.000,9, -999.000,9, -999.000,9,-999.0000,9,  -999.00,9,   -999.0,9,  -999.00,9,   2331.2,2,   -999.0,9,  -999.0,-999.0000,-999.000,  -999.0,-999.000
   31WTTUNES_1,  P17C,    53,  1,     33,     33,2,19910620,0232, 16.5000,-135.0000, 4832,   4163.4,   1.4484,  34.6877,2,  34.6877,2,    155.7,2,  1.1131,    154.9,2,   150.59,2,    35.73,2,     0.00,2,     2.50,2, -999.000,9, -999.000,9, -999.000,9,-999.0000,9,  -999.00,9,   -999.0,9,  -999.00,9,   2326.4,2,   -999.0,9,  -999.0,-999.0000,-999.000,  -999.0,-999.000
   31WTTUNES_1,  P17C,    53,  1,     34,     34,2,19910620,0232, 16.5000,-135.0000, 4832,   4421.2,   1.4294,  34.6911,2,  34.6912,2,    162.1,2,  1.0656,    161.7,2,   145.68,2,    35.16,2,     0.00,2,     2.46,2, -999.000,9, -999.000,9, -999.000,9,-999.0000,9,  -999.00,9,   -999.0,9,  -999.00,9,   2318.6,2,   -999.0,9,  -999.0,-999.0000,-999.000,  -999.0,-999.000
   31WTTUNES_1,  P17C,    53,  1,     35,     35,2,19910620,0232, 16.5000,-135.0000, 4832,   4694.1,   1.4368,  34.6934,2,  34.6932,2,    166.5,2,  1.0412,    165.4,2,   142.63,2,    34.94,2,     0.00,2,     2.43,2, -999.000,9, -999.000,9, -999.000,9,-999.0000,9,  -999.00,9,   -999.0,9,  -999.00,9,   2314.0,2,   -999.0,9,  -999.0,-999.0000,-999.000,  -999.0,-999.000
   31WTTUNES_1,  P17C,    53,  1,     36,     36,2,19910620,0232, 16.5000,-135.0000, 4832,   4924.0,   1.4594,  34.6926,2,  34.6926,2,   -999.0,9,  1.0357,    165.6,2,   144.95,4,    35.19,4,     0.00,2,     2.44,2, -999.000,9, -999.000,9, -999.000,9,-999.0000,9,  -999.00,9,   -999.0,9,  -999.00,9,   2313.1,2,   2428.6,2,  -999.0,-999.0000,-999.000,  -999.0,-999.000