BOTTLE,20220819CCHSIOAMB
EXPOCODE,SECT_ID,STNNBR,CASTNO,SAMPNO,BTLNBR,BTLNBR_FLAG_W,DATE,TIME,LATITUDE,LONGITUDE,DEPTH,CTDPRS,CTDTMP,CTDSAL,CTDSAL_FLAG_W,SALNTY,SALNTY_FLAG_W,CTDOXY,CTDOXY_FLAG_W,THETA,OXYGEN,OXYGEN_FLAG_W,SILCAT,SILCAT_FLAG_W,NITRAT,NITRAT_FLAG_W,NITRIT,NITRIT_FLAG_W,PHSPHT,PHSPHT_FLAG_W,CFC-11,CFC-11_FLAG_W,CFC-12,CFC-12_FLAG_W,TRITUM,TRITUM_FLAG_W,HELIUM,HELIUM_FLAG_W,DELHE3,DELHE3_FLAG_W,DELC14,DELC14_FLAG_W,DELC13,DELC13_FLAG_W,TCARBN,TCARBN_FLAG_W,ALKALI,ALKALI_FLAG_W,C14ERR,HELIER,DELHER,C13ERR,TRITER
,,,,,,,,,,,,DBAR,ITS-90,PSS-78,,PSS-78,,UMOL/KG,,DEG C,UMOL/KG,,UMOL/KG,,UMOL/KG,,UMOL/KG,,UMOL/KG,,PMOL/KG,,PMOL/KG,,TU,,NMOL/KG,,PERCNT,,/MILLE,,/MILLE,,UMOL/KG,,UMOL/KG,,/MILLE,NMOL/KG,PERCNT,/MILLE,TU
   31WTTUNES_1,  P17C,    59,  1,      1,      1,2,19910622,0225, 13.5017,-135.0000, 4896,      0.2,  25.9425,  34.5155,2,  34.5207,2,    203.7,3, 25.9425,    208.4,2,     3.13,2,     0.10,2,     0.00,2,     0.17,2,    1.670,2,    1.034,2, -999.000,9,-999.0000,9,  -999.00,9,   -999.0,9,  -999.00,9,   1945.8,2,   2246.2,2,  -999.0,-999.0000,-999.000,  -999.0,-999.000
   31WTTUNES_1,  P17C,    59,  1,      2,      2,2,19910622,0225, 13.5017,-135.0000, 4896,     36.9,  25.7855,  34.5448,2,  34.5431,2,    209.7,2, 25.7773,    208.5,2,     2.93,2,     0.00,2,     0.00,2,     0.18,2,    1.828,2,    1.039,2,    1.568,2,-999.0000,9,  -999.00,9,   -999.0,9,  -999.00,9,   1946.9,2,   -999.0,9,  -999.0,-999.0000,-999.000,  -999.0,   0.013
   31WTTUNES_1,  P17C,    59,  1,      3,      3,2,19910622,0225, 13.5017,-135.0000, 4896,     65.1,  23.8541,  34.4562,2,  34.4615,2,    207.1,2, 23.8405,    215.0,2,     2.74,2,     0.00,2,     0.00,2,     0.19,2,    1.956,2,    1.121,2,    1.839,2,   1.7590,2,    -1.18,2,   -999.0,9,  -999.00,9,   1964.1,2,   -999.0,9,  -999.0,  0.0080,   0.150,  -999.0,   0.013
   31WTTUNES_1,  P17C,    59,  1,      4,      4,2,19910622,0225, 13.5017,-135.0000, 4896,     91.4,  20.7767,  34.5769,2,  34.5860,2,    209.2,2, 20.7594,    212.1,2,     3.32,2,     0.10,2,     0.01,2,     0.28,2,    2.243,2,    1.190,2,    2.332,2,   1.7750,2,    -1.11,2,   -999.0,9,  -999.00,9,   2024.1,2,   -999.0,9,  -999.0,  0.0080,   0.150,  -999.0,   0.015
   31WTTUNES_1,  P17C,    59,  1,      7,      7,2,19910622,0225, 13.5017,-135.0000, 4896,    101.8,  19.5617,  34.5973,2,  34.5925,2,    211.6,2, 19.5433,    208.7,2,     4.01,2,     0.49,2,     0.16,2,     0.32,2,    2.259,2,    1.248,2,    2.298,2,   1.7910,2,     0.41,2,   -999.0,9,  -999.00,9,   -999.0,9,   -999.0,9,  -999.0,  0.0080,   0.150,  -999.0,   0.015
   31WTTUNES_1,  P17C,    59,  1,      5,      5,2,19910622,0225, 13.5017,-135.0000, 4896,    110.5,  18.6187,  34.6082,2,  34.6007,2,    198.1,2, 18.5994,    192.3,2,     4.20,2,     2.05,2,     0.35,2,     0.44,2,    2.093,2,    1.162,2, -999.000,9,-999.0000,9,  -999.00,9,   -999.0,9,  -999.00,9,   2055.5,2,   2298.8,2,  -999.0,-999.0000,-999.000,  -999.0,-999.000
   31WTTUNES_1,  P17C,    59,  1,      6,      6,2,19910622,0225, 13.5017,-135.0000, 4896,    130.0,  15.9600,  34.4042,2,  34.4087,2,    116.3,2, 15.9396,    115.7,2,    12.02,2,    14.66,2,     0.06,2,     1.24,2,    1.791,2,    0.946,2,    2.085,2,   1.7760,2,     0.48,2,   -999.0,9,  -999.00,9,   -999.0,9,   -999.0,9,  -999.0,  0.0080,   0.150,  -999.0,   0.014
   31WTTUNES_1,  P17C,    59,  1,      8,      8,2,19910622,0225, 13.5017,-135.0000, 4896,    150.8,  13.1245,  34.3754,2,  34.3870,2,     68.2,2, 13.1038,     62.9,2,    21.21,2,    24.73,2,     0.02,2,     1.93,2,    1.123,2,    0.594,2,    1.681,2,   1.8170,2,     9.71,2,   -999.0,9,  -999.00,9,   2187.9,2,   2274.1,2,  -999.0,  0.0090,   0.150,  -999.0,   0.014
   31WTTUNES_1,  P17C,    59,  1,      9,      9,2,19910622,0225, 13.5017,-135.0000, 4896,    176.1,  11.8968,  34.4920,2,  34.4948,2,     34.7,2, 11.8741,     33.7,2,    27.96,2,    28.54,2,     0.01,2,     2.28,2,    0.610,2,    0.323,2,    1.220,2,   1.9010,2,    10.37,2,   -999.0,9,  -999.00,9,   2222.6,2,   -999.0,9,  -999.0,  0.0090,   0.150,  -999.0,   0.012
   31WTTUNES_1,  P17C,    59,  1,     10,     10,2,19910622,0225, 13.5017,-135.0000, 4896,    201.5,  11.3350,  34.5765,2,  34.5743,2,     21.7,2, 11.3098,     20.3,2,    32.06,2,    30.20,2,     0.01,2,     2.42,2,    0.322,2,    0.178,2,    0.852,2,   1.8470,2,    10.07,2,   -999.0,9,  -999.00,9,   -999.0,9,   2290.2,2,  -999.0,  0.0090,   0.150,  -999.0,   0.010
   31WTTUNES_1,  P17C,    59,  1,     11,     11,2,19910622,0225, 13.5017,-135.0000, 4896,    262.7,  10.6053,  34.6435,2,  34.6450,2,      7.4,2, 10.5736,      7.8,2,    34.60,2,    32.45,2,     0.00,2,     2.52,2,    0.075,2,    0.050,2,    0.343,2,   1.8430,2,     7.13,2,   -999.0,9,  -999.00,9,   2257.2,2,   -999.0,9,  -999.0,  0.0090,   0.150,  -999.0,   0.007
   31WTTUNES_1,  P17C,    59,  1,     12,     12,2,19910622,0225, 13.5017,-135.0000, 4896,    355.0,   9.3527,  34.5953,2,  34.5973,2,      6.6,2,  9.3131,      6.8,2,    41.93,2,    34.70,2,     0.00,2,     2.66,2,    0.016,2,    0.014,2,    0.132,2,   1.9310,2,     5.58,2,   -999.0,9,  -999.00,9,   2272.4,2,   2304.8,2,  -999.0,  0.0090,   0.150,  -999.0,   0.006
   31WTTUNES_1,  P17C,    59,  1,     13,     13,2,19910622,0225, 13.5017,-135.0000, 4896,    457.6,   8.1822,  34.5419,2,  34.5433,2,      9.3,2,  8.1348,      8.8,2,    51.32,2,    36.95,2,     0.00,2,     2.81,2,    0.006,2,    0.004,2,    0.036,2,   1.9300,2,     6.49,2,   -999.0,9,  -999.00,9,   2284.3,2,   2314.6,2,  -999.0,  0.0090,   0.150,  -999.0,   0.002
   31WTTUNES_1,  P17C,    59,  1,     14,     14,2,19910622,0225, 13.5017,-135.0000, 4896,    554.1,   7.2047,  34.5125,2,  34.5170,2,     15.1,2,  7.1510,     16.4,2,    61.39,2,    39.30,2,     0.00,2,     2.90,2, -999.000,9, -999.000,9,    0.018,2,   1.8760,2,     8.65,2,   -999.0,9,  -999.00,9,   2296.4,2,   -999.0,9,  -999.0,  0.0090,   0.150,  -999.0,   0.002
   31WTTUNES_1,  P17C,    59,  1,     15,     15,2,19910622,0225, 13.5017,-135.0000, 4896,    657.4,   6.2301,  34.5003,2,  34.5035,2,     12.2,2,  6.1708,     12.1,2,    74.00,2,    41.45,2,     0.00,2,     3.05,2, -999.000,9, -999.000,9,    0.004,2,   1.8920,2,    11.26,2,   -999.0,9,  -999.00,9,   2315.3,2,   2330.5,2,  -999.0,  0.0090,   0.150,  -999.0,   0.002
   31WTTUNES_1,  P17C,    59,  1,     16,     16,2,19910622,0225, 13.5017,-135.0000, 4896,    759.1,   5.5935,  34.5067,2,  34.5114,2,     14.7,2,  5.5281,     14.7,2,    83.68,2,    43.21,2,     0.00,2,     3.13,2, -999.000,9, -999.000,9,    0.000,2,   1.9120,2,    13.59,2,   -999.0,9,  -999.00,9,   2327.7,2,   -999.0,9,  -999.0,  0.0090,   0.150,  -999.0,   0.002
   31WTTUNES_1,  P17C,    59,  1,     17,     17,2,19910622,0225, 13.5017,-135.0000, 4896,    854.9,   5.1417,  34.5212,2,  34.5251,2,     20.4,2,  5.0704,     21.0,2,    90.81,2,    44.09,2,     0.00,2,     3.12,2,    0.004,2,    0.003,2, -999.000,9,-999.0000,9,  -999.00,9,   -999.0,9,  -999.00,9,   2334.1,2,   -999.0,9,  -999.0,-999.0000,-999.000,  -999.0,-999.000
   31WTTUNES_1,  P17C,    59,  1,     18,     18,2,19910622,0225, 13.5017,-135.0000, 4896,   1010.8,   4.5091,  34.5382,2,  34.5406,2,     31.7,2,  4.4285,     28.6,2,   102.05,2,    44.28,3,     0.00,2,     3.14,2,    0.000,2,   -0.002,2,    0.011,2,   1.9280,2,    19.09,2,   -999.0,9,  -999.00,9,   2340.9,2,   2364.3,2,  -999.0,  0.0090,   0.150,  -999.0,   0.003
   31WTTUNES_1,  P17C,    59,  1,     19,     19,2,19910622,0225, 13.5017,-135.0000, 4896,   1213.3,   3.7925,  34.5612,2,  34.5632,2,     44.5,2,  3.7006,     42.4,2,   116.91,2,    43.89,3,     0.00,2,     3.09,2,   -0.002,2,    0.010,3, -999.000,5,   1.9410,2,    21.72,2,   -999.0,9,  -999.00,9,   2351.5,2,   -999.0,9,  -999.0,  0.0090,   0.150,  -999.0,-999.000
   31WTTUNES_1,  P17C,    59,  1,     20,     20,2,19910622,0225, 13.5017,-135.0000, 4896,   1411.6,   3.3048,  34.5814,2,  34.5819,2,     57.8,2,  3.2010,     56.3,2,   126.10,2,    43.21,3,     0.00,2,     3.01,2, -999.000,9, -999.000,9, -999.000,9,-999.0000,9,  -999.00,9,   -999.0,9,  -999.00,9,   2353.1,2,   -999.0,9,  -999.0,-999.0000,-999.000,  -999.0,-999.000
   31WTTUNES_1,  P17C,    59,  1,     21,     21,2,19910622,0225, 13.5017,-135.0000, 4896,   1633.1,   2.7951,  34.6004,2,  34.6014,2,     70.2,2,  2.6786,     69.2,2,   137.53,2,    42.23,3,     0.00,2,     2.93,2, -999.000,9, -999.000,9, -999.000,9,-999.0000,9,  -999.00,9,   -999.0,9,  -999.00,9,   2358.2,2,   -999.0,9,  -999.0,-999.0000,-999.000,  -999.0,-999.000
   31WTTUNES_1,  P17C,    59,  1,     22,     22,3,19910622,0225, 13.5017,-135.0000, 4896,   1881.2,   2.3914,  34.6195,2,  34.6095,4,     83.1,2,  2.2592,     82.9,2,   145.94,2,    41.25,3,     0.00,2,     2.84,2, -999.000,9, -999.000,9, -999.000,9,-999.0000,9,  -999.00,9,   -999.0,9,  -999.00,9,   -999.0,9,   -999.0,9,  -999.0,-999.0000,-999.000,  -999.0,-999.000
   31WTTUNES_1,  P17C,    59,  1,     23,     23,2,19910622,0225, 13.5017,-135.0000, 4896,   2128.6,   2.0786,  34.6383,2,  34.6374,2,     95.7,2,  1.9300,     95.6,2,   152.48,2,    40.47,3,     0.00,2,     2.77,2, -999.000,9, -999.000,9, -999.000,9,-999.0000,9,  -999.00,9,   -999.0,9,  -999.00,9,   -999.0,9,   -999.0,9,  -999.0,-999.0000,-999.000,  -999.0,-999.000
   31WTTUNES_1,  P17C,    59,  1,     24,     24,2,19910622,0225, 13.5017,-135.0000, 4896,   2325.5,   1.9127,  34.6499,2,  34.6509,2,    104.9,2,  1.7497,    105.1,2,   156.00,2,    39.88,3,     0.00,2,     2.70,2, -999.000,9, -999.000,9, -999.000,9,-999.0000,9,  -999.00,9,   -999.0,9,  -999.00,9,   -999.0,9,   2422.1,2,  -999.0,-999.0000,-999.000,  -999.0,-999.000
   31WTTUNES_1,  P17C,    59,  1,     25,     25,2,19910622,0225, 13.5017,-135.0000, 4896,   2532.3,   1.8198,  34.6564,2,  34.6594,2,    109.2,2,  1.6399,    110.1,2,   157.37,2,    39.29,3,     0.00,2,     2.67,2, -999.000,9, -999.000,9, -999.000,9,-999.0000,9,  -999.00,9,   -999.0,9,  -999.00,9,   2358.7,2,   -999.0,9,  -999.0,-999.0000,-999.000,  -999.0,-999.000
   31WTTUNES_1,  P17C,    59,  1,     26,     26,2,19910622,0225, 13.5017,-135.0000, 4896,   2739.5,   1.7488,  34.6639,2,  34.6663,2,    114.6,2,  1.5513,    115.5,2,   159.03,2,    38.80,3,     0.00,2,     2.64,2, -999.000,9, -999.000,9, -999.000,9,-999.0000,9,  -999.00,9,   -999.0,9,  -999.00,9,   2355.4,2,   -999.0,9,  -999.0,-999.0000,-999.000,  -999.0,-999.000
   31WTTUNES_1,  P17C,    59,  1,     27,     27,2,19910622,0225, 13.5017,-135.0000, 4896,   2939.5,   1.6849,  34.6688,2,  34.6704,2,    119.9,2,  1.4698,    119.8,2,   160.69,2,    38.51,3,     0.00,2,     2.61,2, -999.000,9, -999.000,9, -999.000,9,-999.0000,9,  -999.00,9,   -999.0,9,  -999.00,9,   2355.1,2,   -999.0,9,  -999.0,-999.0000,-999.000,  -999.0,-999.000
   31WTTUNES_1,  P17C,    59,  1,     28,     28,2,19910622,0225, 13.5017,-135.0000, 4896,   3143.1,   1.6209,  34.6709,2,  34.6730,2,    124.7,2,  1.3876,    125.3,2,   161.18,2,    38.12,3,     0.01,2,     2.59,2, -999.000,9, -999.000,9, -999.000,9,-999.0000,9,  -999.00,9,   -999.0,9,  -999.00,9,   2352.1,2,   -999.0,9,  -999.0,-999.0000,-999.000,  -999.0,-999.000
   31WTTUNES_1,  P17C,    59,  1,     29,     29,2,19910622,0225, 13.5017,-135.0000, 4896,   3345.8,   1.5650,  34.6736,2,  34.6758,2,    130.0,2,  1.3129,    130.7,2,   162.35,2,    37.73,3,     0.00,2,     2.56,2, -999.000,9, -999.000,9, -999.000,9,-999.0000,9,  -999.00,9,   -999.0,9,  -999.00,9,   2346.5,2,   -999.0,9,  -999.0,-999.0000,-999.000,  -999.0,-999.000
   31WTTUNES_1,  P17C,    59,  1,     30,     30,2,19910622,0225, 13.5017,-135.0000, 4896,   3548.4,   1.5200,  34.6771,2,  34.6789,2,    135.6,2,  1.2484,    137.0,2,   161.18,2,    37.34,3,     0.01,2,     2.53,2, -999.000,9, -999.000,9, -999.000,9,-999.0000,9,  -999.00,9,   -999.0,9,  -999.00,9,   2335.9,2,   2429.7,2,  -999.0,-999.0000,-999.000,  -999.0,-999.000
   31WTTUNES_1,  P17C,    59,  1,     31,     31,2,19910622,0225, 13.5017,-135.0000, 4896,   3752.2,   1.4690,  34.6817,2,  34.6831,2,    145.1,2,  1.1775,    145.4,2,   157.56,2,    36.56,3,     0.01,2,     2.48,2, -999.000,9, -999.000,9, -999.000,9,-999.0000,9,  -999.00,9,   -999.0,9,  -999.00,9,   2333.9,2,   -999.0,9,  -999.0,-999.0000,-999.000,  -999.0,-999.000
   31WTTUNES_1,  P17C,    59,  1,     32,     32,2,19910622,0225, 13.5017,-135.0000, 4896,   4007.6,   1.4101,  34.6866,2,  34.6884,2,    156.9,2,  1.0929,    157.9,2,   150.42,2,    35.87,3,     0.00,2,     2.42,2, -999.000,9, -999.000,9, -999.000,9,-999.0000,9,  -999.00,9,   -999.0,9,  -999.00,9,   2322.8,2,   -999.0,9,  -999.0,-999.0000,-999.000,  -999.0,-999.000
   31WTTUNES_1,  P17C,    59,  1,     33,     33,2,19910622,0225, 13.5017,-135.0000, 4896,   4263.9,   1.4031,  34.6896,2,  34.6904,2,    162.9,2,  1.0578,    163.0,2,   146.12,2,    35.68,3,     0.00,2,     2.40,2, -999.000,9, -999.000,9, -999.000,9,-999.0000,9,  -999.00,9,   -999.0,9,  -999.00,9,   2316.2,2,   -999.0,9,  -999.0,-999.0000,-999.000,  -999.0,-999.000
   31WTTUNES_1,  P17C,    59,  1,     34,     34,2,19910622,0225, 13.5017,-135.0000, 4896,   4521.2,   1.4251,  34.6907,2,  34.6912,2,    164.2,2,  1.0499,    163.7,2,   145.54,2,    35.38,3,     0.00,2,     2.39,2, -999.000,9, -999.000,9, -999.000,9,-999.0000,9,  -999.00,9,   -999.0,9,  -999.00,9,   2319.8,2,   -999.0,9,  -999.0,-999.0000,-999.000,  -999.0,-999.000
   31WTTUNES_1,  P17C,    59,  1,     35,     35,2,19910622,0225, 13.5017,-135.0000, 4896,   4779.0,   1.4550,  34.6902,2,  34.6920,2,    165.0,2,  1.0488,    164.0,2,   144.46,2,    35.28,3,     0.00,2,     2.38,2,   -0.004,2,    0.000,2, -999.000,9,-999.0000,9,  -999.00,9,   -999.0,9,  -999.00,9,   2319.1,2,   -999.0,9,  -999.0,-999.0000,-999.000,  -999.0,-999.000
   31WTTUNES_1,  P17C,    59,  1,     36,     36,2,19910622,0225, 13.5017,-135.0000, 4896,   4977.7,   1.4780,  34.6905,2,  34.6922,2,   -999.0,9,  1.0472,    164.3,2,   145.44,2,    35.38,3,     0.00,2,     2.38,2,   -0.003,2,    0.000,2, -999.000,9,-999.0000,9,  -999.00,9,   -999.0,9,  -999.00,9,   2318.5,2,   2422.5,2,  -999.0,-999.0000,-999.000,  -999.0,-999.000