BOTTLE,20220819CCHSIOAMB
EXPOCODE,SECT_ID,STNNBR,CASTNO,SAMPNO,BTLNBR,BTLNBR_FLAG_W,DATE,TIME,LATITUDE,LONGITUDE,DEPTH,CTDPRS,CTDTMP,CTDSAL,CTDSAL_FLAG_W,SALNTY,SALNTY_FLAG_W,CTDOXY,CTDOXY_FLAG_W,THETA,OXYGEN,OXYGEN_FLAG_W,SILCAT,SILCAT_FLAG_W,NITRAT,NITRAT_FLAG_W,NITRIT,NITRIT_FLAG_W,PHSPHT,PHSPHT_FLAG_W,CFC-11,CFC-11_FLAG_W,CFC-12,CFC-12_FLAG_W,TRITUM,TRITUM_FLAG_W,HELIUM,HELIUM_FLAG_W,DELHE3,DELHE3_FLAG_W,DELC14,DELC14_FLAG_W,DELC13,DELC13_FLAG_W,TCARBN,TCARBN_FLAG_W,ALKALI,ALKALI_FLAG_W,C14ERR,HELIER,DELHER,C13ERR,TRITER
,,,,,,,,,,,,DBAR,ITS-90,PSS-78,,PSS-78,,UMOL/KG,,DEG C,UMOL/KG,,UMOL/KG,,UMOL/KG,,UMOL/KG,,UMOL/KG,,PMOL/KG,,PMOL/KG,,TU,,NMOL/KG,,PERCNT,,/MILLE,,/MILLE,,UMOL/KG,,UMOL/KG,,/MILLE,NMOL/KG,PERCNT,/MILLE,TU
   31WTTUNES_1,  P17C,    70,  1,      1,      1,2,19910625,1203,  8.0000,-134.9983, 4737,      0.4,  28.2512,  33.7653,2,  33.7746,2,    208.9,3, 28.2511,    210.3,2,     2.75,2,     0.03,2,     0.00,2,     0.18,2,    1.733,2,    0.965,2, -999.000,9,-999.0000,9,  -999.00,9,    110.7,2,     1.53,2,   -999.0,9,   -999.0,9,     4.8,-999.0000,-999.000,  -999.0,-999.000
   31WTTUNES_1,  P17C,    70,  1,      2,      2,2,19910625,1203,  8.0000,-134.9983, 4737,     21.6,  28.0011,  33.8485,2,  33.8592,2,    204.7,2, 27.9960,    212.9,2,     2.55,2,     0.01,2,     0.00,2,     0.18,2, -999.000,9, -999.000,9, -999.000,9,-999.0000,9,  -999.00,9,   -999.0,9,  -999.00,9,   -999.0,9,   -999.0,9,  -999.0,-999.0000,-999.000,  -999.0,-999.000
   31WTTUNES_1,  P17C,    70,  1,      3,      3,2,19910625,1203,  8.0000,-134.9983, 4737,     33.4,  27.7930,  34.0924,2,  34.0543,2,    213.4,2, 27.7852,    212.0,2,     2.54,2,     0.00,2,     0.00,2,     0.18,2,    1.753,2,    0.987,2, -999.000,9,-999.0000,9,  -999.00,9,     99.4,2,     1.58,2,   -999.0,9,   -999.0,9,     4.4,-999.0000,-999.000,  -999.0,-999.000
   31WTTUNES_1,  P17C,    70,  1,      4,      4,2,19910625,1203,  8.0000,-134.9983, 4737,     44.8,  24.2631,  34.4548,2,  34.4607,2,    215.2,2, 24.2537,    207.0,2,     3.06,2,     0.47,2,     0.01,2,     0.31,2, -999.000,9, -999.000,9, -999.000,9,-999.0000,9,  -999.00,9,   -999.0,9,  -999.00,9,   -999.0,9,   -999.0,9,  -999.0,-999.0000,-999.000,  -999.0,-999.000
   31WTTUNES_1,  P17C,    70,  1,      5,      5,2,19910625,1203,  8.0000,-134.9983, 4737,     55.7,  18.6787,  34.5954,2,  34.5773,2,    197.0,2, 18.6690,    181.5,2,     5.55,2,     4.17,2,     0.08,2,     0.61,2,    2.084,2,    1.131,2, -999.000,9,-999.0000,9,  -999.00,9,    104.9,2,     1.12,2,   -999.0,9,   -999.0,9,     6.2,-999.0000,-999.000,  -999.0,-999.000
   31WTTUNES_1,  P17C,    70,  1,      6,      6,2,19910625,1203,  8.0000,-134.9983, 4737,     66.4,  16.6919,  34.5289,2,  34.4854,2,    144.7,2, 16.6811,    134.6,2,    10.01,2,    12.03,2,     0.43,2,     1.08,2,    1.816,2,    0.957,2, -999.000,9,-999.0000,9,  -999.00,9,     76.8,2,     0.16,2,   -999.0,9,   -999.0,9,     4.8,-999.0000,-999.000,  -999.0,-999.000
   31WTTUNES_1,  P17C,    70,  1,      7,      7,9,19910625,1203,  8.0000,-134.9983, 4737,     77.3,  14.9281,  34.4554,2,-999.0000,9,    109.9,2, 14.9166,   -999.0,9,  -999.00,9,  -999.00,9,  -999.00,9,  -999.00,9, -999.000,9, -999.000,9, -999.000,9,-999.0000,9,  -999.00,9,   -999.0,9,  -999.00,9,   -999.0,9,   -999.0,9,  -999.0,-999.0000,-999.000,  -999.0,-999.000
   31WTTUNES_1,  P17C,    70,  1,      8,      8,2,19910625,1203,  8.0000,-134.9983, 4737,     91.7,  12.7506,  34.6219,2,  34.6064,2,     38.9,2, 12.7382,     31.7,2,    25.39,2,    29.17,2,     0.05,2,     2.17,2,    0.581,2,    0.300,2, -999.000,9,-999.0000,9,  -999.00,9,    -10.9,2,     0.06,2,   -999.0,9,   -999.0,9,     4.3,-999.0000,-999.000,  -999.0,-999.000
   31WTTUNES_1,  P17C,    70,  1,      9,      9,2,19910625,1203,  8.0000,-134.9983, 4737,    120.9,  11.9988,  34.7293,2,  34.7269,2,      7.3,2, 11.9831,     12.5,2,    28.95,2,    32.96,2,     0.00,2,     2.41,2,    0.209,2,    0.127,2, -999.000,9,-999.0000,9,  -999.00,9,    -34.0,2,    -0.13,2,   -999.0,9,   -999.0,9,     4.2,-999.0000,-999.000,  -999.0,-999.000
   31WTTUNES_1,  P17C,    70,  1,     10,     10,2,19910625,1203,  8.0000,-134.9983, 4737,    182.6,  10.7742,  34.7097,2,  34.7114,2,     37.6,2, 10.7521,     39.1,2,    30.89,2,    31.96,2,     0.00,2,     2.27,2,    0.179,2,    0.087,2, -999.000,9,-999.0000,9,  -999.00,9,    -58.4,2,     0.12,2,   -999.0,9,   -999.0,9,     4.2,-999.0000,-999.000,  -999.0,-999.000
   31WTTUNES_1,  P17C,    70,  1,     11,     11,9,19910625,1203,  8.0000,-134.9983, 4737,    242.8,  10.2204,  34.7001,2,-999.0000,9,     36.6,2, 10.1919,   -999.0,9,  -999.00,9,  -999.00,9,  -999.00,9,  -999.00,9, -999.000,9, -999.000,9, -999.000,9,-999.0000,9,  -999.00,9,   -999.0,9,  -999.00,9,   -999.0,9,   -999.0,9,  -999.0,-999.0000,-999.000,  -999.0,-999.000
   31WTTUNES_1,  P17C,    70,  1,     12,     12,2,19910625,1203,  8.0000,-134.9983, 4737,    299.7,   9.8475,  34.6899,2,  34.6890,2,     30.0,2,  9.8130,     29.6,2,    34.80,2,    34.48,2,     0.00,2,     2.43,2,    0.072,2,    0.047,2, -999.000,9,-999.0000,9,  -999.00,9,    -66.5,2,     0.09,2,   -999.0,9,   -999.0,9,     3.8,-999.0000,-999.000,  -999.0,-999.000
   31WTTUNES_1,  P17C,    70,  1,     13,     13,2,19910625,1203,  8.0000,-134.9983, 4737,    400.9,   9.0968,  34.6586,2,  34.6617,2,     12.4,2,  9.0527,     11.5,2,    41.22,2,    36.24,2,     0.00,2,     2.67,2,    0.019,2,    0.009,2, -999.000,9,-999.0000,9,  -999.00,9,    -94.6,2,    -0.05,2,   -999.0,9,   -999.0,9,     3.8,-999.0000,-999.000,  -999.0,-999.000
   31WTTUNES_1,  P17C,    70,  1,     14,     14,2,19910625,1203,  8.0000,-134.9983, 4737,    504.8,   8.0453,  34.6072,2,  34.6069,2,      5.7,2,  7.9933,      5.9,2,    51.56,2,    37.68,2,     0.00,2,     2.91,2,    0.002,2,   -0.002,2, -999.000,9,-999.0000,9,  -999.00,9,   -112.4,2,    -0.51,4,   -999.0,9,   -999.0,9,     3.7,-999.0000,-999.000,  -999.0,-999.000
   31WTTUNES_1,  P17C,    70,  1,     15,     15,2,19910625,1203,  8.0000,-134.9983, 4737,    605.9,   6.8888,  34.5575,2,  34.5596,2,      8.0,2,  6.8313,      8.4,2,    63.15,2,    40.46,2,     0.00,2,     3.05,2, -999.000,9, -999.000,9, -999.000,9,-999.0000,9,  -999.00,9,   -135.9,2,    -0.15,2,   -999.0,9,   -999.0,9,     3.6,-999.0000,-999.000,  -999.0,-999.000
   31WTTUNES_1,  P17C,    70,  1,     16,     16,2,19910625,1203,  8.0000,-134.9983, 4737,    708.9,   5.9473,  34.5416,2,  34.5419,2,     13.9,2,  5.8845,     14.8,2,    75.27,2,    42.43,2,     0.00,2,     3.10,2, -999.000,9, -999.000,9, -999.000,9,-999.0000,9,  -999.00,9,   -154.0,2,    -0.17,2,   -999.0,9,   -999.0,9,     3.6,-999.0000,-999.000,  -999.0,-999.000
   31WTTUNES_1,  P17C,    70,  1,     17,     17,2,19910625,1203,  8.0000,-134.9983, 4737,    811.5,   5.3186,  34.5464,2,  34.5462,2,     24.4,2,  5.2501,     26.1,2,    83.09,2,    42.85,2,     0.00,2,     3.11,2, -999.000,9, -999.000,9, -999.000,9,-999.0000,9,  -999.00,9,   -168.9,2,    -0.13,2,   -999.0,9,   -999.0,9,     3.5,-999.0000,-999.000,  -999.0,-999.000
   31WTTUNES_1,  P17C,    70,  1,     18,     18,2,19910625,1203,  8.0000,-134.9983, 4737,    908.7,   4.8639,  34.5559,2,  34.5566,2,     31.5,2,  4.7896,     31.4,2,    91.26,2,    43.20,2,     0.00,2,     3.13,2,   -0.002,2,   -0.002,2, -999.000,9,-999.0000,9,  -999.00,9,   -999.0,9,  -999.00,9,   -999.0,9,   -999.0,9,  -999.0,-999.0000,-999.000,  -999.0,-999.000
   31WTTUNES_1,  P17C,    70,  1,     19,     19,2,19910625,1203,  8.0000,-134.9983, 4737,   1010.8,   4.4561,  34.5626,2,  34.5637,2,     41.2,2,  4.3759,     39.4,2,    98.54,2,    42.72,2,     0.00,2,     3.10,2,    0.001,2,    0.004,2, -999.000,9,-999.0000,9,  -999.00,9,   -191.4,2,    -0.15,2,   -999.0,9,   -999.0,9,     3.5,-999.0000,-999.000,  -999.0,-999.000
   31WTTUNES_1,  P17C,    70,  1,     20,     20,2,19910625,1203,  8.0000,-134.9983, 4737,   1211.8,   3.7365,  34.5824,2,  34.5818,2,     54.5,2,  3.6452,     53.7,2,   112.94,2,    41.95,2,     0.00,2,     3.05,2, -999.000,9, -999.000,9, -999.000,9,-999.0000,9,  -999.00,9,   -999.0,9,  -999.00,9,   -999.0,9,   -999.0,9,  -999.0,-999.0000,-999.000,  -999.0,-999.000
   31WTTUNES_1,  P17C,    70,  1,     21,     21,2,19910625,1203,  8.0000,-134.9983, 4737,   1411.9,   3.1849,  34.6008,2,  34.6003,2,     68.5,2,  3.0823,     68.1,2,   125.02,2,    40.97,2,     0.00,2,     2.96,2, -999.000,9, -999.000,9, -999.000,9,-999.0000,9,  -999.00,9,   -226.6,2,    -0.15,2,   -999.0,9,   -999.0,9,     3.5,-999.0000,-999.000,  -999.0,-999.000
   31WTTUNES_1,  P17C,    70,  1,     22,     22,3,19910625,1203,  8.0000,-134.9983, 4737,   1617.6,   2.7801,  34.6129,2,  34.6089,4,     82.2,2,  2.6650,     81.4,2,   132.28,2,    40.05,2,     0.00,2,     2.88,2, -999.000,9, -999.000,9, -999.000,9,-999.0000,9,  -999.00,9,   -999.0,9,  -999.00,9,   -999.0,9,   -999.0,9,  -999.0,-999.0000,-999.000,  -999.0,-999.000
   31WTTUNES_1,  P17C,    70,  1,     23,     23,2,19910625,1203,  8.0000,-134.9983, 4737,   1819.3,   2.4204,  34.6288,2,  34.6288,2,     90.6,2,  2.2930,     90.2,2,   140.96,2,    39.52,2,     0.00,2,     2.83,2, -999.000,9, -999.000,9, -999.000,9,-999.0000,9,  -999.00,9,   -999.0,9,  -999.00,9,   -999.0,9,   -999.0,9,  -999.0,-999.0000,-999.000,  -999.0,-999.000
   31WTTUNES_1,  P17C,    70,  1,     24,     24,2,19910625,1203,  8.0000,-134.9983, 4737,   2026.0,   2.1486,  34.6455,2,  34.6443,2,     96.9,2,  2.0076,     97.4,2,   147.32,2,    39.05,2,     0.00,2,     2.78,2, -999.000,9, -999.000,9, -999.000,9,-999.0000,9,  -999.00,9,   -999.0,9,  -999.00,9,   -999.0,9,   -999.0,9,  -999.0,-999.0000,-999.000,  -999.0,-999.000
   31WTTUNES_1,  P17C,    70,  1,     25,     25,2,19910625,1203,  8.0000,-134.9983, 4737,   2227.5,   1.9817,  34.6567,2,  34.6567,2,    104.6,2,  1.8260,    103.7,2,   151.53,2,    38.58,2,     0.00,2,     2.75,2, -999.000,9, -999.000,9, -999.000,9,-999.0000,9,  -999.00,9,   -999.0,9,  -999.00,9,   -999.0,9,   -999.0,9,  -999.0,-999.0000,-999.000,  -999.0,-999.000
   31WTTUNES_1,  P17C,    70,  1,     26,     26,2,19910625,1203,  8.0000,-134.9983, 4737,   2429.1,   1.8837,  34.6641,2,  34.6644,2,    108.7,2,  1.7119,    108.9,2,   153.60,2,    38.22,2,     0.00,2,     2.71,2, -999.000,9, -999.000,9, -999.000,9,-999.0000,9,  -999.00,9,   -999.0,9,  -999.00,9,   -999.0,9,   -999.0,9,  -999.0,-999.0000,-999.000,  -999.0,-999.000
   31WTTUNES_1,  P17C,    70,  1,     27,     27,2,19910625,1203,  8.0000,-134.9983, 4737,   2635.3,   1.8328,  34.6686,2,  34.6679,2,    112.5,2,  1.6432,    112.0,2,   154.97,2,    37.97,2,     0.00,2,     2.68,2, -999.000,9, -999.000,9, -999.000,9,-999.0000,9,  -999.00,9,   -999.0,9,  -999.00,9,   -999.0,9,   -999.0,9,  -999.0,-999.0000,-999.000,  -999.0,-999.000
   31WTTUNES_1,  P17C,    70,  1,     28,     28,2,19910625,1203,  8.0000,-134.9983, 4737,   2836.0,   1.7778,  34.6715,2,  34.6721,2,    117.1,2,  1.5706,    117.5,2,   154.90,2,    37.71,2,     0.00,2,     2.66,2, -999.000,9, -999.000,9, -999.000,9,-999.0000,9,  -999.00,9,   -999.0,9,  -999.00,9,   -999.0,9,   -999.0,9,  -999.0,-999.0000,-999.000,  -999.0,-999.000
   31WTTUNES_1,  P17C,    70,  1,     29,     29,2,19910625,1203,  8.0000,-134.9983, 4737,   3043.3,   1.6899,  34.6759,2,  34.6754,2,    125.0,2,  1.4647,    124.3,2,   154.84,2,    37.30,2,     0.00,2,     2.62,2, -999.000,9, -999.000,9, -999.000,9,-999.0000,9,  -999.00,9,   -999.0,9,  -999.00,9,   -999.0,9,   -999.0,9,  -999.0,-999.0000,-999.000,  -999.0,-999.000
   31WTTUNES_1,  P17C,    70,  1,     30,     30,2,19910625,1203,  8.0000,-134.9983, 4737,   3297.6,   1.5939,  34.6814,2,  34.6807,2,    133.8,2,  1.3459,    133.0,2,   153.53,2,    36.73,2,     0.00,2,     2.58,2, -999.000,9, -999.000,9, -999.000,9,-999.0000,9,  -999.00,9,   -999.0,9,  -999.00,9,   -999.0,9,   -999.0,9,  -999.0,-999.0000,-999.000,  -999.0,-999.000
   31WTTUNES_1,  P17C,    70,  1,     31,     31,2,19910625,1203,  8.0000,-134.9983, 4737,   3552.0,   1.5160,  34.6845,2,  34.6849,2,    143.3,2,  1.2441,    143.8,2,   151.69,2,    36.15,2,     0.00,2,     2.53,2, -999.000,9, -999.000,9, -999.000,9,-999.0000,9,  -999.00,9,   -999.0,9,  -999.00,9,   -999.0,9,   -999.0,9,  -999.0,-999.0000,-999.000,  -999.0,-999.000
   31WTTUNES_1,  P17C,    70,  1,     32,     32,2,19910625,1203,  8.0000,-134.9983, 4737,   3805.9,   1.4320,  34.6903,2,  34.6896,2,    153.8,2,  1.1358,    153.9,2,   147.89,2,    35.53,2,     0.00,2,     2.47,2, -999.000,9, -999.000,9, -999.000,9,-999.0000,9,  -999.00,9,   -999.0,9,  -999.00,9,   -999.0,9,   -999.0,9,  -999.0,-999.0000,-999.000,  -999.0,-999.000
   31WTTUNES_1,  P17C,    70,  1,     33,     33,2,19910625,1203,  8.0000,-134.9983, 4737,   4060.2,   1.3961,  34.6912,2,  34.6924,2,    160.4,2,  1.0735,    160.5,2,   144.28,2,    35.01,2,     0.00,2,     2.44,2, -999.000,9, -999.000,9, -999.000,9,-999.0000,9,  -999.00,9,   -999.0,9,  -999.00,9,   -999.0,9,   -999.0,9,  -999.0,-999.0000,-999.000,  -999.0,-999.000
   31WTTUNES_1,  P17C,    70,  1,     34,     34,2,19910625,1203,  8.0000,-134.9983, 4737,   4316.4,   1.4011,  34.6931,2,  34.6934,2,    164.0,2,  1.0500,    164.0,2,   142.79,2,    34.82,2,     0.00,2,     2.41,2, -999.000,9, -999.000,9, -999.000,9,-999.0000,9,  -999.00,9,   -999.0,9,  -999.00,9,   -999.0,9,   -999.0,9,  -999.0,-999.0000,-999.000,  -999.0,-999.000
   31WTTUNES_1,  P17C,    70,  1,     35,     35,2,19910625,1203,  8.0000,-134.9983, 4737,   4576.3,   1.4181,  34.6940,2,  34.6948,2,    166.0,2,  1.0368,    166.0,2,   142.20,2,    34.47,2,     0.00,2,     2.41,2,   -0.004,2,    0.000,2, -999.000,9,-999.0000,9,  -999.00,9,   -999.0,9,  -999.00,9,   -999.0,9,   -999.0,9,  -999.0,-999.0000,-999.000,  -999.0,-999.000
   31WTTUNES_1,  P17C,    70,  1,     36,     36,2,19910625,1203,  8.0000,-134.9983, 4737,   4812.8,   1.4430,  34.6942,2,  34.6940,2,   -999.0,9,  1.0332,    165.9,2,   141.97,2,    34.65,2,     0.00,2,     2.41,2,    0.001,2,    0.000,2, -999.000,9,-999.0000,9,  -999.00,9,   -999.0,9,  -999.00,9,   -999.0,9,   -999.0,9,  -999.0,-999.0000,-999.000,  -999.0,-999.000