BOTTLE,20220819CCHSIOAMB
EXPOCODE,SECT_ID,STNNBR,CASTNO,SAMPNO,BTLNBR,BTLNBR_FLAG_W,DATE,TIME,LATITUDE,LONGITUDE,DEPTH,CTDPRS,CTDTMP,CTDSAL,CTDSAL_FLAG_W,SALNTY,SALNTY_FLAG_W,CTDOXY,CTDOXY_FLAG_W,THETA,OXYGEN,OXYGEN_FLAG_W,SILCAT,SILCAT_FLAG_W,NITRAT,NITRAT_FLAG_W,NITRIT,NITRIT_FLAG_W,PHSPHT,PHSPHT_FLAG_W,CFC-11,CFC-11_FLAG_W,CFC-12,CFC-12_FLAG_W,TRITUM,TRITUM_FLAG_W,HELIUM,HELIUM_FLAG_W,DELHE3,DELHE3_FLAG_W,DELC14,DELC14_FLAG_W,DELC13,DELC13_FLAG_W,TCARBN,TCARBN_FLAG_W,ALKALI,ALKALI_FLAG_W,C14ERR,HELIER,DELHER,C13ERR,TRITER
,,,,,,,,,,,,DBAR,ITS-90,PSS-78,,PSS-78,,UMOL/KG,,DEG C,UMOL/KG,,UMOL/KG,,UMOL/KG,,UMOL/KG,,UMOL/KG,,PMOL/KG,,PMOL/KG,,TU,,NMOL/KG,,PERCNT,,/MILLE,,/MILLE,,UMOL/KG,,UMOL/KG,,/MILLE,NMOL/KG,PERCNT,/MILLE,TU
   31WTTUNES_1,  P17C,    63,  1,      1,      1,2,19910623,0505, 11.5033,-135.0000, 4884,      0.2,  27.9621,  34.0359,2,  34.0394,2,    209.5,3, 27.9620,    212.0,2,     2.35,2,     0.00,2,     0.00,2,     0.22,2,    1.663,2,    0.948,2, -999.000,9,-999.0000,9,  -999.00,9,     85.7,2,     1.48,2,   -999.0,9,   -999.0,9,     3.0,-999.0000,-999.000,  -999.0,-999.000
   31WTTUNES_1,  P17C,    63,  1,      2,      2,2,19910623,0505, 11.5033,-135.0000, 4884,     25.6,  27.7840,  34.0356,2,  34.0374,2,    214.2,2, 27.7781,    210.3,2,     2.35,2,     0.00,2,     0.00,2,     0.22,2,    1.650,2,    0.968,2,    1.401,2,   1.7650,2,    -0.97,2,   -999.0,9,  -999.00,9,   -999.0,9,   -999.0,9,  -999.0,  0.0080,   0.150,  -999.0,   0.013
   31WTTUNES_1,  P17C,    63,  1,      3,      3,2,19910623,0505, 11.5033,-135.0000, 4884,     67.7,  22.2779,  34.6491,2,  34.6136,2,    201.3,2, 22.2644,    200.8,2,     4.50,2,     0.39,2,     0.02,2,     0.37,2,    1.832,2,    1.008,2,    1.971,2,   1.8530,2,     2.70,2,   -999.0,9,  -999.00,9,   -999.0,9,   -999.0,9,  -999.0,  0.0090,   0.150,  -999.0,   0.015
   31WTTUNES_1,  P17C,    63,  1,      4,      4,2,19910623,0505, 11.5033,-135.0000, 4884,     76.2,  18.7817,  34.5901,2,  34.5694,2,    166.2,2, 18.7683,    177.2,2,     5.96,2,     4.89,2,     0.09,2,     0.65,2,    1.958,2,    1.049,2,    2.264,2,   1.8110,2,     3.56,2,     90.1,2,     0.92,2,   -999.0,9,   -999.0,9,     2.7,  0.0090,   0.150,  -999.0,   0.016
   31WTTUNES_1,  P17C,    63,  1,      5,      5,2,19910623,0505, 11.5033,-135.0000, 4884,     87.2,  15.7930,  34.5138,2,  34.4866,2,    109.7,2, 15.7794,    123.5,2,    11.54,2,    13.98,2,     0.32,2,     1.22,2,    1.514,2,    0.873,2,    2.092,2,   1.7960,2,     6.47,2,     53.3,2,     0.36,2,   -999.0,9,   -999.0,9,     2.7,  0.0080,   0.150,  -999.0,   0.015
   31WTTUNES_1,  P17C,    63,  1,      6,      6,2,19910623,0505, 11.5033,-135.0000, 4884,    107.9,  13.3774,  34.5353,2,  34.5533,2,     34.7,2, 13.3624,     41.9,2,    24.05,2,    26.98,2,     0.65,2,     2.07,2,    0.729,2,    0.414,2,    1.364,2,   1.8600,2,     9.82,2,     -7.3,2,    -0.24,2,   -999.0,9,   -999.0,9,     2.8,  0.0090,   0.150,  -999.0,   0.012
   31WTTUNES_1,  P17C,    63,  1,      7,      7,2,19910623,0505, 11.5033,-135.0000, 4884,    128.8,  12.4497,  34.6873,2,  34.6897,2,     16.4,2, 12.4326,     12.2,2,    28.64,2,    32.45,2,     0.02,2,     2.35,2,    0.309,2,    0.175,2,    0.798,2,   1.8580,2,     9.00,2,    -47.4,2,    -0.28,2,   -999.0,9,   -999.0,9,     2.5,  0.0090,   0.150,  -999.0,   0.010
   31WTTUNES_1,  P17C,    63,  1,      8,      8,2,19910623,0505, 11.5033,-135.0000, 4884,    151.6,  11.8159,  34.7217,2,  34.7209,2,      9.5,2, 11.7964,     12.5,2,    29.71,2,    33.04,2,     0.01,2,     2.37,2,    0.214,2,    0.131,2,    0.586,2,   1.8140,2,     8.34,2,    -50.8,2,    -0.20,2,   -999.0,9,   -999.0,9,     2.5,  0.0090,   0.150,  -999.0,   0.008
   31WTTUNES_1,  P17C,    63,  1,      9,      9,2,19910623,0505, 11.5033,-135.0000, 4884,    217.3,  11.0011,  34.7259,2,  34.7266,2,     16.6,2, 10.9744,     11.6,2,    31.96,2,    34.01,2,     0.01,2,     2.40,2,    0.104,2,    0.066,2,    0.316,2,   1.8620,2,     6.67,2,    -68.5,2,    -0.14,2,   -999.0,9,   -999.0,9,     2.5,  0.0090,   0.150,  -999.0,   0.006
   31WTTUNES_1,  P17C,    63,  1,     10,     10,2,19910623,0505, 11.5033,-135.0000, 4884,    263.4,  10.5463,  34.7125,2,  34.7121,2,     13.2,2, 10.5147,     10.0,2,    33.82,2,    34.60,2,     0.01,2,     2.46,2,    0.071,2,    0.059,2,    0.223,2,-999.0000,9,  -999.00,9,    -73.8,2,    -0.23,2,   -999.0,9,   -999.0,9,     2.4,-999.0000,-999.000,  -999.0,   0.005
   31WTTUNES_1,  P17C,    63,  1,     11,     11,2,19910623,0505, 11.5033,-135.0000, 4884,    355.0,   9.8115,  34.6762,2,  34.6765,2,      9.1,2,  9.7707,      5.3,2,    38.80,2,    35.68,2,     0.01,2,     2.60,2,    0.025,6,    0.029,6,    0.081,2,-999.0000,9,  -999.00,9,    -86.2,2,    -0.27,2,   -999.0,9,   -999.0,9,     2.6,-999.0000,-999.000,  -999.0,   0.003
   31WTTUNES_1,  P17C,    63,  1,     12,     12,3,19910623,0505, 11.5033,-135.0000, 4884,    457.7,   8.7929,  34.6113,2,  34.6117,2,      6.3,2,  8.7434,     12.5,3,    45.16,2,    36.17,2,     0.01,2,     2.73,2,    0.009,2,    0.007,2, -999.000,9,-999.0000,9,  -999.00,9,   -104.2,2,    -0.23,2,   -999.0,9,   -999.0,9,     3.5,-999.0000,-999.000,  -999.0,-999.000
   31WTTUNES_1,  P17C,    63,  1,     13,     13,2,19910623,0505, 11.5033,-135.0000, 4884,    555.1,   7.7634,  34.5628,2,  34.5608,2,     16.5,2,  7.7073,     16.3,2,    54.84,2,    37.73,2,     0.01,2,     2.85,2, -999.000,9, -999.000,9, -999.000,9,-999.0000,9,  -999.00,9,   -132.1,2,    -0.37,3,   -999.0,9,   -999.0,9,     5.1,-999.0000,-999.000,  -999.0,-999.000
   31WTTUNES_1,  P17C,    63,  1,     14,     14,2,19910623,0505, 11.5033,-135.0000, 4884,    656.7,   6.7129,  34.5258,2,  34.5250,2,     16.6,2,  6.6512,     18.4,2,    66.28,2,    39.88,2,     0.00,2,     2.94,2, -999.000,9, -999.000,9, -999.000,9,-999.0000,9,  -999.00,9,   -141.3,2,    -0.27,2,   -999.0,9,   -999.0,9,     3.8,-999.0000,-999.000,  -999.0,-999.000
   31WTTUNES_1,  P17C,    63,  1,     15,     15,2,19910623,0505, 11.5033,-135.0000, 4884,    759.7,   5.9383,  34.5253,2,  34.5248,2,     19.3,2,  5.8709,     16.2,2,    77.62,2,    42.03,2,     0.00,2,     3.07,2, -999.000,9, -999.000,9, -999.000,9,-999.0000,9,  -999.00,9,   -177.9,3,    -0.28,2,   -999.0,9,   -999.0,9,     2.8,-999.0000,-999.000,  -999.0,-999.000
   31WTTUNES_1,  P17C,    63,  1,     16,     16,2,19910623,0505, 11.5033,-135.0000, 4884,    856.6,   5.3906,  34.5308,2,  34.5329,2,     21.0,2,  5.3175,     20.4,2,    85.24,2,    43.30,2,     0.00,2,     3.12,2,    0.001,2,    0.001,2, -999.000,9,-999.0000,9,  -999.00,9,   -164.1,2,    -0.32,2,   -999.0,9,   -999.0,9,     3.3,-999.0000,-999.000,  -999.0,-999.000
   31WTTUNES_1,  P17C,    63,  1,     17,     17,2,19910623,0505, 11.5033,-135.0000, 4884,   1010.4,   4.6640,  34.5456,2,  34.5463,2,     30.7,2,  4.5823,     30.9,2,    96.77,2,    43.40,2,     0.00,2,     3.12,2,    0.003,2,    0.002,2, -999.000,9,-999.0000,9,  -999.00,9,   -181.9,2,    -0.32,2,   -999.0,9,   -999.0,9,     2.4,-999.0000,-999.000,  -999.0,-999.000
   31WTTUNES_1,  P17C,    63,  1,     18,     18,2,19910623,0505, 11.5033,-135.0000, 4884,   1216.3,   3.9454,  34.5690,2,  34.5688,2,     47.6,2,  3.8518,     50.8,2,   110.07,2,    42.23,2,     0.00,2,     3.03,2,   -0.002,2,    0.008,3, -999.000,9,-999.0000,9,  -999.00,9,   -197.2,2,    -0.30,2,   -999.0,9,   -999.0,9,     2.3,-999.0000,-999.000,  -999.0,-999.000
   31WTTUNES_1,  P17C,    63,  1,     19,     19,2,19910623,0505, 11.5033,-135.0000, 4884,   1416.9,   3.4037,  34.5872,2,  34.5863,2,     61.5,2,  3.2984,     60.5,2,   122.38,2,    41.93,2,     0.00,2,     2.96,2, -999.000,9, -999.000,9, -999.000,9,-999.0000,9,  -999.00,9,   -999.0,9,  -999.00,9,   -999.0,9,   -999.0,9,  -999.0,-999.0000,-999.000,  -999.0,-999.000
   31WTTUNES_1,  P17C,    63,  1,     20,     20,2,19910623,0505, 11.5033,-135.0000, 4884,   1618.5,   2.9430,  34.6034,2,  34.6009,2,     69.3,2,  2.8258,     70.6,2,   132.35,2,    41.35,2,     0.00,2,     2.91,2, -999.000,9, -999.000,9, -999.000,9,-999.0000,9,  -999.00,9,   -999.0,9,  -999.00,9,   -999.0,9,   -999.0,9,  -999.0,-999.0000,-999.000,  -999.0,-999.000
   31WTTUNES_1,  P17C,    63,  1,     21,     21,2,19910623,0505, 11.5033,-135.0000, 4884,   1824.2,   2.5343,  34.6189,2,  34.6193,2,     77.9,2,  2.4050,     79.2,2,   142.22,2,    40.86,2,     0.00,2,     2.86,2, -999.000,9, -999.000,9, -999.000,9,-999.0000,9,  -999.00,9,   -999.0,9,  -999.00,9,   -999.0,9,   -999.0,9,  -999.0,-999.0000,-999.000,  -999.0,-999.000
   31WTTUNES_1,  P17C,    63,  1,     22,     22,3,19910623,0505, 11.5033,-135.0000, 4884,   2025.5,   2.2455,  34.6359,2,  34.6293,4,     87.4,2,  2.1031,     89.0,2,   149.06,2,    40.08,2,     0.00,2,     2.81,2, -999.000,9, -999.000,9, -999.000,9,-999.0000,9,  -999.00,9,   -999.0,9,  -999.00,9,   -999.0,9,   -999.0,9,  -999.0,-999.0000,-999.000,  -999.0,-999.000
   31WTTUNES_1,  P17C,    63,  1,     23,     23,2,19910623,0505, 11.5033,-135.0000, 4884,   2225.9,   2.0476,  34.6488,2,  34.6456,2,     98.7,2,  1.8910,     98.2,2,   152.77,2,    39.29,2,     0.00,2,     2.73,2, -999.000,9, -999.000,9, -999.000,9,-999.0000,9,  -999.00,9,   -999.0,9,  -999.00,9,   -999.0,9,   -999.0,9,  -999.0,-999.0000,-999.000,  -999.0,-999.000
   31WTTUNES_1,  P17C,    63,  1,     24,     24,2,19910623,0505, 11.5033,-135.0000, 4884,   2382.0,   1.9317,  34.6544,2,  34.6525,2,    104.1,2,  1.7633,    104.2,2,   154.34,2,    39.00,2,     0.00,2,     2.70,2, -999.000,9, -999.000,9, -999.000,9,-999.0000,9,  -999.00,9,   -999.0,9,  -999.00,9,   -999.0,9,   -999.0,9,  -999.0,-999.0000,-999.000,  -999.0,-999.000
   31WTTUNES_1,  P17C,    63,  1,     25,     25,2,19910623,0505, 11.5033,-135.0000, 4884,   2532.4,   1.8558,  34.6600,2,  34.6586,2,    108.9,2,  1.6752,    108.5,2,   156.00,2,    38.71,2,     0.00,2,     2.68,2, -999.000,9, -999.000,9, -999.000,9,-999.0000,9,  -999.00,9,   -999.0,9,  -999.00,9,   -999.0,9,   -999.0,9,  -999.0,-999.0000,-999.000,  -999.0,-999.000
   31WTTUNES_1,  P17C,    63,  1,     26,     26,2,19910623,0505, 11.5033,-135.0000, 4884,   2686.6,   1.7958,  34.6647,2,  34.6639,2,    112.9,2,  1.6023,    112.4,2,   157.27,2,    38.32,2,     0.00,2,     2.65,2, -999.000,9, -999.000,9, -999.000,9,-999.0000,9,  -999.00,9,   -999.0,9,  -999.00,9,   -999.0,9,   -999.0,9,  -999.0,-999.0000,-999.000,  -999.0,-999.000
   31WTTUNES_1,  P17C,    63,  1,     27,     27,2,19910623,0505, 11.5033,-135.0000, 4884,   2837.9,   1.7458,  34.6670,2,  34.6675,2,    116.6,2,  1.5392,    115.8,2,   158.44,2,    38.12,2,     0.00,2,     2.64,2, -999.000,9, -999.000,9, -999.000,9,-999.0000,9,  -999.00,9,   -999.0,9,  -999.00,9,   -999.0,9,   -999.0,9,  -999.0,-999.0000,-999.000,  -999.0,-999.000
   31WTTUNES_1,  P17C,    63,  1,     28,     28,2,19910623,0505, 11.5033,-135.0000, 4884,   3044.4,   1.6829,  34.6710,2,  34.6708,2,    121.8,2,  1.4578,    121.1,2,   159.91,2,    37.73,2,     0.00,2,     2.60,2, -999.000,9, -999.000,9, -999.000,9,-999.0000,9,  -999.00,9,   -999.0,9,  -999.00,9,   -999.0,9,   -999.0,9,  -999.0,-999.0000,-999.000,  -999.0,-999.000
   31WTTUNES_1,  P17C,    63,  1,     29,     29,2,19910623,0505, 11.5033,-135.0000, 4884,   3245.3,   1.6199,  34.6740,2,  34.6743,2,    127.1,2,  1.3766,   -999.0,9,   159.71,2,    37.44,2,     0.00,2,     2.58,2, -999.000,9, -999.000,9, -999.000,9,-999.0000,9,  -999.00,9,   -999.0,9,  -999.00,9,   -999.0,9,   -999.0,9,  -999.0,-999.0000,-999.000,  -999.0,-999.000
   31WTTUNES_1,  P17C,    63,  1,     30,     30,2,19910623,0505, 11.5033,-135.0000, 4884,   3449.4,   1.5680,  34.6774,2,  34.6775,2,    133.4,2,  1.3053,   -999.0,9,   159.32,2,    36.95,2,     0.00,2,     2.54,2, -999.000,9, -999.000,9, -999.000,9,-999.0000,9,  -999.00,9,   -999.0,9,  -999.00,9,   -999.0,9,   -999.0,9,  -999.0,-999.0000,-999.000,  -999.0,-999.000
   31WTTUNES_1,  P17C,    63,  1,     31,     31,2,19910623,0505, 11.5033,-135.0000, 4884,   3703.7,   1.5110,  34.6818,2,  34.6814,2,    141.7,2,  1.2235,   -999.0,9,   156.88,2,    36.36,2,     0.00,2,     2.51,2, -999.000,9, -999.000,9, -999.000,9,-999.0000,9,  -999.00,9,   -999.0,9,  -999.00,9,   -999.0,9,   -999.0,9,  -999.0,-999.0000,-999.000,  -999.0,-999.000
   31WTTUNES_1,  P17C,    63,  1,     32,     32,2,19910623,0505, 11.5033,-135.0000, 4884,   3957.8,   1.4420,  34.6863,2,  34.6869,2,    153.1,2,  1.1293,    153.6,2,   150.52,2,    35.58,2,     0.00,2,     2.43,2, -999.000,9, -999.000,9, -999.000,9,-999.0000,9,  -999.00,9,   -999.0,9,  -999.00,9,   -999.0,9,   -999.0,9,  -999.0,-999.0000,-999.000,  -999.0,-999.000
   31WTTUNES_1,  P17C,    63,  1,     33,     33,2,19910623,0505, 11.5033,-135.0000, 4884,   4214.2,   1.4181,  34.6897,2,  34.6897,2,    159.6,2,  1.0779,    161.1,2,   146.81,2,    35.38,2,     0.00,2,     2.41,2, -999.000,9, -999.000,9, -999.000,9,-999.0000,9,  -999.00,9,   -999.0,9,  -999.00,9,   -999.0,9,   -999.0,9,  -999.0,-999.0000,-999.000,  -999.0,-999.000
   31WTTUNES_1,  P17C,    63,  1,     34,     34,2,19910623,0505, 11.5033,-135.0000, 4884,   4474.6,   1.4251,  34.6915,2,  34.6905,2,    163.4,2,  1.0553,    163.5,2,   144.95,2,    35.28,2,     0.00,2,     2.39,2, -999.000,9, -999.000,9, -999.000,9,-999.0000,9,  -999.00,9,   -999.0,9,  -999.00,9,   -999.0,9,   -999.0,9,  -999.0,-999.0000,-999.000,  -999.0,-999.000
   31WTTUNES_1,  P17C,    63,  1,     35,     35,2,19910623,0505, 11.5033,-135.0000, 4884,   4734.1,   1.4410,  34.6913,2,  34.6920,2,    165.8,2,  1.0406,    165.5,2,   143.97,2,    35.28,2,     0.00,2,     2.38,2,    0.002,2,    0.000,2, -999.000,9,-999.0000,9,  -999.00,9,   -999.0,9,  -999.00,9,   -999.0,9,   -999.0,9,  -999.0,-999.0000,-999.000,  -999.0,-999.000
   31WTTUNES_1,  P17C,    63,  1,     36,     36,2,19910623,0505, 11.5033,-135.0000, 4884,   4967.7,   1.4660,  34.6914,2,  34.6920,2,   -999.0,9,  1.0368,    165.9,2,   143.00,2,    35.09,2,     0.00,2,     2.38,2,   -0.003,2,    0.000,2, -999.000,9,-999.0000,9,  -999.00,9,   -999.0,9,  -999.00,9,   -999.0,9,   -999.0,9,  -999.0,-999.0000,-999.000,  -999.0,-999.000