BOTTLE,20220819CCHSIOAMB
EXPOCODE,SECT_ID,STNNBR,CASTNO,SAMPNO,BTLNBR,BTLNBR_FLAG_W,DATE,TIME,LATITUDE,LONGITUDE,DEPTH,CTDPRS,CTDTMP,CTDSAL,CTDSAL_FLAG_W,SALNTY,SALNTY_FLAG_W,CTDOXY,CTDOXY_FLAG_W,THETA,OXYGEN,OXYGEN_FLAG_W,SILCAT,SILCAT_FLAG_W,NITRAT,NITRAT_FLAG_W,NITRIT,NITRIT_FLAG_W,PHSPHT,PHSPHT_FLAG_W,CFC-11,CFC-11_FLAG_W,CFC-12,CFC-12_FLAG_W,TRITUM,TRITUM_FLAG_W,HELIUM,HELIUM_FLAG_W,DELHE3,DELHE3_FLAG_W,DELC14,DELC14_FLAG_W,DELC13,DELC13_FLAG_W,TCARBN,TCARBN_FLAG_W,ALKALI,ALKALI_FLAG_W,C14ERR,HELIER,DELHER,C13ERR,TRITER
,,,,,,,,,,,,DBAR,ITS-90,PSS-78,,PSS-78,,UMOL/KG,,DEG C,UMOL/KG,,UMOL/KG,,UMOL/KG,,UMOL/KG,,UMOL/KG,,PMOL/KG,,PMOL/KG,,TU,,NMOL/KG,,PERCNT,,/MILLE,,/MILLE,,UMOL/KG,,UMOL/KG,,/MILLE,NMOL/KG,PERCNT,/MILLE,TU
   31WTTUNES_1,  P17C,    39,  1,      1,      1,2,19910615,2000, 23.5033,-135.0050, 4184,      0.9,  21.7138,  34.8896,2,  34.8934,2,   -999.0,9, 21.7136,    222.8,2,     2.93,2,     0.10,2,     0.00,2,     0.16,2,    2.141,2,    1.179,2, -999.000,9,-999.0000,9,  -999.00,9,   -999.0,9,  -999.00,9,   -999.0,9,   -999.0,9,  -999.0,-999.0000,-999.000,  -999.0,-999.000
   31WTTUNES_1,  P17C,    39,  1,      2,      2,2,19910615,2000, 23.5033,-135.0050, 4184,     62.6,  20.8687,  35.0077,2,  35.0020,2,    230.0,2, 20.8568,    227.7,2,     2.74,2,     0.10,2,     0.00,2,     0.16,2,    2.247,2,    1.219,2, -999.000,9,-999.0000,9,  -999.00,9,   -999.0,9,  -999.00,9,   -999.0,9,   -999.0,9,  -999.0,-999.0000,-999.000,  -999.0,-999.000
   31WTTUNES_1,  P17C,    39,  1,      3,      3,2,19910615,2000, 23.5033,-135.0050, 4184,    104.2,  19.8197,  34.9638,2,  34.9512,2,    224.6,2, 19.8006,    225.0,2,     2.74,2,     0.20,2,     0.00,2,     0.16,2,    2.324,2,    1.267,2, -999.000,9,-999.0000,9,  -999.00,9,   -999.0,9,  -999.00,9,   -999.0,9,   -999.0,9,  -999.0,-999.0000,-999.000,  -999.0,-999.000
   31WTTUNES_1,  P17C,    39,  1,      4,      4,2,19910615,2000, 23.5033,-135.0050, 4184,    130.0,  18.5327,  34.8210,2,  34.8127,2,    217.4,2, 18.5100,    213.9,2,     3.32,2,     0.59,2,     0.17,2,     0.22,2,    2.405,2,    1.277,2, -999.000,9,-999.0000,9,  -999.00,9,   -999.0,9,  -999.00,9,   -999.0,9,   -999.0,9,  -999.0,-999.0000,-999.000,  -999.0,-999.000
   31WTTUNES_1,  P17C,    39,  1,      5,      5,2,19910615,2000, 23.5033,-135.0050, 4184,    149.8,  17.3628,  34.6931,2,  34.6698,2,    208.2,2, 17.3378,    207.8,2,     3.81,2,     2.44,2,     0.03,2,     0.33,2,    2.471,2,    1.309,2, -999.000,9,-999.0000,9,  -999.00,9,   -999.0,9,  -999.00,9,   -999.0,9,   -999.0,9,  -999.0,-999.0000,-999.000,  -999.0,-999.000
   31WTTUNES_1,  P17C,    39,  1,      6,      6,2,19910615,2000, 23.5033,-135.0050, 4184,    175.2,  16.0399,  34.5502,2,  34.5160,2,    203.6,2, 16.0123,    205.3,2,     4.99,2,     4.30,2,     0.01,2,     0.43,2,    2.519,2,    1.301,2, -999.000,9,-999.0000,9,  -999.00,9,   -999.0,9,  -999.00,9,   -999.0,9,   -999.0,9,  -999.0,-999.0000,-999.000,  -999.0,-999.000
   31WTTUNES_1,  P17C,    39,  1,      7,      7,2,19910615,2000, 23.5033,-135.0050, 4184,    200.9,  14.3402,  34.3499,2,  34.3452,2,    202.6,2, 14.3109,    204.3,2,     6.35,2,     6.16,2,     0.01,2,     0.56,2,    2.573,2,    1.338,2, -999.000,9,-999.0000,9,  -999.00,9,   -999.0,9,  -999.00,9,   -999.0,9,   -999.0,9,  -999.0,-999.0000,-999.000,  -999.0,-999.000
   31WTTUNES_1,  P17C,    39,  1,      8,      8,3,19910615,2000, 23.5033,-135.0050, 4184,    227.5,  13.1645,  34.2318,2,  34.2075,2,    201.1,2, 13.1331,    203.6,4,     8.51,2,     8.41,2,     0.00,2,     0.70,2,    2.578,2,    1.373,2, -999.000,9,-999.0000,9,  -999.00,9,   -999.0,9,  -999.00,9,   -999.0,9,   -999.0,9,  -999.0,-999.0000,-999.000,  -999.0,-999.000
   31WTTUNES_1,  P17C,    39,  1,      9,      9,2,19910615,2000, 23.5033,-135.0050, 4184,    252.0,  10.8742,  34.0395,2,  34.0437,2,    183.3,2, 10.8436,    181.2,2,    16.33,2,    15.25,2,     0.00,2,     1.17,2,    2.239,2,    1.146,2, -999.000,9,-999.0000,9,  -999.00,9,   -999.0,9,  -999.00,9,   -999.0,9,   -999.0,9,  -999.0,-999.0000,-999.000,  -999.0,-999.000
   31WTTUNES_1,  P17C,    39,  1,     10,     10,2,19910615,2000, 23.5033,-135.0050, 4184,    277.4,  10.0884,  34.0937,2,  34.0985,2,    151.4,2, 10.0563,    152.8,2,    23.66,2,    20.14,2,     0.00,2,     1.54,2,    1.737,2,    0.890,2, -999.000,9,-999.0000,9,  -999.00,9,   -999.0,9,  -999.00,9,   -999.0,9,   -999.0,9,  -999.0,-999.0000,-999.000,  -999.0,-999.000
   31WTTUNES_1,  P17C,    39,  1,     11,     11,2,19910615,2000, 23.5033,-135.0050, 4184,    304.0,   9.1708,  34.0734,2,  34.0672,2,    147.9,2,  9.1376,    161.1,2,    27.77,2,    21.51,2,     0.00,2,     1.60,2,    1.677,2,    0.850,2, -999.000,9,-999.0000,9,  -999.00,9,   -999.0,9,  -999.00,9,   -999.0,9,   -999.0,9,  -999.0,-999.0000,-999.000,  -999.0,-999.000
   31WTTUNES_1,  P17C,    39,  1,     12,     12,2,19910615,2000, 23.5033,-135.0050, 4184,    350.6,   7.9823,  34.0596,2,  34.0641,2,    134.5,2,  7.9470,    127.0,3,    41.46,2,    27.18,2,     0.00,2,     2.00,2,    1.021,2,    0.520,2, -999.000,9,-999.0000,9,  -999.00,9,   -999.0,9,  -999.00,9,   -999.0,9,   -999.0,9,  -999.0,-999.0000,-999.000,  -999.0,-999.000
   31WTTUNES_1,  P17C,    39,  1,     13,     13,2,19910615,2000, 23.5033,-135.0050, 4184,    402.1,   7.1197,  34.0967,2,  34.0982,2,     98.9,2,  7.0817,     89.7,2,    52.61,2,    31.58,2,     0.00,2,     2.35,2,    0.473,2,    0.252,2, -999.000,9,-999.0000,9,  -999.00,9,   -999.0,9,  -999.00,9,   -999.0,9,   -999.0,9,  -999.0,-999.0000,-999.000,  -999.0,-999.000
   31WTTUNES_1,  P17C,    39,  1,     14,     14,2,19910615,2000, 23.5033,-135.0050, 4184,    452.9,   6.6789,  34.1581,2,  34.1664,2,     55.5,2,  6.6374,     55.9,2,    61.80,2,    35.10,2,     0.00,2,     2.66,2,    0.155,2,    0.090,2, -999.000,9,-999.0000,9,  -999.00,9,   -999.0,9,  -999.00,9,   -999.0,9,   -999.0,9,  -999.0,-999.0000,-999.000,  -999.0,-999.000
   31WTTUNES_1,  P17C,    39,  1,     15,     15,2,19910615,2000, 23.5033,-135.0050, 4184,    504.2,   6.3571,  34.2502,2,  34.2558,2,     32.2,2,  6.3118,     37.4,2,    71.08,2,    37.84,2,     0.00,2,     2.90,2,    0.029,2,    0.022,2, -999.000,9,-999.0000,9,  -999.00,9,   -999.0,9,  -999.00,9,   -999.0,9,   -999.0,9,  -999.0,-999.0000,-999.000,  -999.0,-999.000
   31WTTUNES_1,  P17C,    39,  1,     16,     16,2,19910615,2000, 23.5033,-135.0050, 4184,    605.8,   5.7794,  34.3606,2,  34.3682,2,     19.3,2,  5.7271,     18.2,2,    81.44,2,    40.38,2,     0.00,2,     3.07,2,    0.005,2,   -0.003,2, -999.000,9,-999.0000,9,  -999.00,9,   -999.0,9,  -999.00,9,   -999.0,9,   -999.0,9,  -999.0,-999.0000,-999.000,  -999.0,-999.000
   31WTTUNES_1,  P17C,    39,  1,     17,     17,2,19910615,2000, 23.5033,-135.0050, 4184,    708.3,   5.3526,  34.4295,2,  34.4328,2,     17.2,2,  5.2933,     18.0,2,    89.35,2,    41.84,2,     0.00,2,     3.12,2,    0.002,2,    0.000,2, -999.000,9,-999.0000,9,  -999.00,9,   -999.0,9,  -999.00,9,   -999.0,9,   -999.0,9,  -999.0,-999.0000,-999.000,  -999.0,-999.000
   31WTTUNES_1,  P17C,    39,  1,     18,     18,2,19910615,2000, 23.5033,-135.0050, 4184,    810.4,   4.9328,  34.4510,2,  34.4555,2,     22.6,2,  4.8669,     22.1,2,    96.88,2,    42.62,2,     0.00,2,     3.14,2,    0.003,2,   -0.002,2, -999.000,9,-999.0000,9,  -999.00,9,   -999.0,9,  -999.00,9,   -999.0,9,   -999.0,9,  -999.0,-999.0000,-999.000,  -999.0,-999.000
   31WTTUNES_1,  P17C,    39,  1,     19,     19,2,19910615,2000, 23.5033,-135.0050, 4184,    912.7,   4.5281,  34.4722,2,  34.4763,2,     28.6,2,  4.4559,     28.6,2,   104.21,2,    42.82,2,     0.00,2,     3.13,2,    0.000,2,   -0.002,2, -999.000,9,-999.0000,9,  -999.00,9,   -999.0,9,  -999.00,9,   -999.0,9,   -999.0,9,  -999.0,-999.0000,-999.000,  -999.0,-999.000
   31WTTUNES_1,  P17C,    39,  1,     20,     20,2,19910615,2000, 23.5033,-135.0050, 4184,   1011.8,   4.2232,  34.4921,2,  34.4948,2,     32.2,2,  4.1449,     33.0,2,   110.46,2,    42.91,2,     0.00,2,     3.14,2,    0.001,2,   -0.003,2, -999.000,9,-999.0000,9,  -999.00,9,   -999.0,9,  -999.00,9,   -999.0,9,   -999.0,9,  -999.0,-999.0000,-999.000,  -999.0,-999.000
   31WTTUNES_1,  P17C,    39,  1,     21,     21,2,19910615,2000, 23.5033,-135.0050, 4184,   1204.4,   3.6966,  34.5263,2,  34.5266,2,     40.4,2,  3.6064,     39.7,2,   122.19,2,    42.91,2,     0.00,2,     3.14,2, -999.000,9, -999.000,9, -999.000,9,-999.0000,9,  -999.00,9,   -999.0,9,  -999.00,9,   -999.0,9,   -999.0,9,  -999.0,-999.0000,-999.000,  -999.0,-999.000
   31WTTUNES_1,  P17C,    39,  1,     22,     22,2,19910615,2000, 23.5033,-135.0050, 4184,   1412.9,   3.1669,  34.5547,2,  34.5576,2,     50.5,2,  3.0645,     49.1,2,   134.11,2,    42.42,2,     0.00,2,     3.09,2, -999.000,9, -999.000,9, -999.000,9,-999.0000,9,  -999.00,9,   -999.0,9,  -999.00,9,   -999.0,9,   -999.0,9,  -999.0,-999.0000,-999.000,  -999.0,-999.000
   31WTTUNES_1,  P17C,    39,  1,     23,     23,2,19910615,2000, 23.5033,-135.0050, 4184,   1617.1,   2.7552,  34.5781,2,  34.5816,2,     60.7,2,  2.6405,     60.1,2,   142.62,2,    41.84,2,     0.00,2,     3.02,2, -999.000,9, -999.000,9, -999.000,9,-999.0000,9,  -999.00,9,   -999.0,9,  -999.00,9,   -999.0,9,   -999.0,9,  -999.0,-999.0000,-999.000,  -999.0,-999.000
   31WTTUNES_1,  P17C,    39,  1,     24,     24,2,19910615,2000, 23.5033,-135.0050, 4184,   1821.0,   2.4334,  34.5986,2,  34.6014,2,     71.5,2,  2.3058,     71.7,2,   149.94,2,    41.15,2,     0.00,2,     2.94,2, -999.000,9, -999.000,9, -999.000,9,-999.0000,9,  -999.00,9,   -999.0,9,  -999.00,9,   -999.0,9,   -999.0,9,  -999.0,-999.0000,-999.000,  -999.0,-999.000
   31WTTUNES_1,  P17C,    39,  1,     25,     25,2,19910615,2000, 23.5033,-135.0050, 4184,   2030.4,   2.1685,  34.6186,2,  34.6201,2,     84.4,2,  2.0270,     82.9,2,   155.61,2,    40.47,2,     0.00,2,     2.87,2, -999.000,9, -999.000,9, -999.000,9,-999.0000,9,  -999.00,9,   -999.0,9,  -999.00,9,   -999.0,9,   -999.0,9,  -999.0,-999.0000,-999.000,  -999.0,-999.000
   31WTTUNES_1,  P17C,    39,  1,     26,     26,2,19910615,2000, 23.5033,-135.0050, 4184,   2231.8,   1.9627,  34.6357,2,  34.6348,2,     93.7,2,  1.8070,     93.2,2,   159.81,2,    39.78,2,     0.00,2,     2.81,2, -999.000,9, -999.000,9, -999.000,9,-999.0000,9,  -999.00,9,   -999.0,9,  -999.00,9,   -999.0,9,   -999.0,9,  -999.0,-999.0000,-999.000,  -999.0,-999.000
   31WTTUNES_1,  P17C,    39,  1,     27,     27,2,19910615,2000, 23.5033,-135.0050, 4184,   2432.4,   1.8278,  34.6438,2,  34.6443,2,    101.0,2,  1.6568,    100.9,2,   162.35,2,    39.39,2,     0.00,2,     2.77,2, -999.000,9, -999.000,9, -999.000,9,-999.0000,9,  -999.00,9,   -999.0,9,  -999.00,9,   -999.0,9,   -999.0,9,  -999.0,-999.0000,-999.000,  -999.0,-999.000
   31WTTUNES_1,  P17C,    39,  1,     28,     28,2,19910615,2000, 23.5033,-135.0050, 4184,   2632.7,   1.7348,  34.6503,2,  34.6504,2,    108.7,2,  1.5475,    107.3,2,   163.62,2,    38.90,2,     0.00,2,     2.74,2, -999.000,9, -999.000,9, -999.000,9,-999.0000,9,  -999.00,9,   -999.0,9,  -999.00,9,   -999.0,9,   -999.0,9,  -999.0,-999.0000,-999.000,  -999.0,-999.000
   31WTTUNES_1,  P17C,    39,  1,     29,     29,2,19910615,2000, 23.5033,-135.0050, 4184,   2827.9,   1.6429,  34.6569,2,  34.6580,2,    115.3,2,  1.4394,    114.0,2,   165.77,2,    38.41,2,     0.00,2,     2.70,2, -999.000,9, -999.000,9, -999.000,9,-999.0000,9,  -999.00,9,   -999.0,9,  -999.00,9,   -999.0,9,   -999.0,9,  -999.0,-999.0000,-999.000,  -999.0,-999.000
   31WTTUNES_1,  P17C,    39,  1,     30,     30,2,19910615,2000, 23.5033,-135.0050, 4184,   3037.8,   1.5690,  34.6660,2,  34.6655,2,    123.8,2,  1.3471,    122.0,2,   165.58,2,    37.92,2,     0.00,2,     2.66,2, -999.000,9, -999.000,9, -999.000,9,-999.0000,9,  -999.00,9,   -999.0,9,  -999.00,9,   -999.0,9,   -999.0,9,  -999.0,-999.0000,-999.000,  -999.0,-999.000
   31WTTUNES_1,  P17C,    39,  1,     31,     31,2,19910615,2000, 23.5033,-135.0050, 4184,   3294.2,   1.5150,  34.6712,2,  34.6724,2,    129.7,2,  1.2693,    130.7,2,   164.89,2,    37.34,2,     0.00,2,     2.61,2, -999.000,9, -999.000,9, -999.000,9,-999.0000,9,  -999.00,9,   -999.0,9,  -999.00,9,   -999.0,9,   -999.0,9,  -999.0,-999.0000,-999.000,  -999.0,-999.000
   31WTTUNES_1,  P17C,    39,  1,     32,     32,2,19910615,2000, 23.5033,-135.0050, 4184,   3549.9,   1.4960,  34.6774,2,  34.6767,2,    136.3,2,  1.2249,    136.5,2,   163.62,2,    37.04,2,     0.01,2,     2.61,2, -999.000,9, -999.000,9, -999.000,9,-999.0000,9,  -999.00,9,   -999.0,9,  -999.00,9,   -999.0,9,   -999.0,9,  -999.0,-999.0000,-999.000,  -999.0,-999.000
   31WTTUNES_1,  P17C,    39,  1,     33,     33,2,19910615,2000, 23.5033,-135.0050, 4184,   3799.5,   1.4840,  34.6810,2,  34.6798,2,    142.1,2,  1.1871,    141.8,2,   161.08,2,    36.65,2,     0.00,2,     2.55,2,    0.002,2,    0.000,2, -999.000,9,-999.0000,9,  -999.00,9,   -999.0,9,  -999.00,9,   -999.0,9,   -999.0,9,  -999.0,-999.0000,-999.000,  -999.0,-999.000
   31WTTUNES_1,  P17C,    39,  1,     34,     34,2,19910615,2000, 23.5033,-135.0050, 4184,   4060.6,   1.4850,  34.6816,2,  34.6830,2,    146.3,2,  1.1599,    146.7,2,   158.63,2,    36.36,2,     0.00,2,     2.52,2,    0.002,2,    0.007,2, -999.000,9,-999.0000,9,  -999.00,9,   -999.0,9,  -999.00,9,   -999.0,9,   -999.0,9,  -999.0,-999.0000,-999.000,  -999.0,-999.000
   31WTTUNES_1,  P17C,    39,  1,     35,     35,2,19910615,2000, 23.5033,-135.0050, 4184,   4320.6,   1.4910,  34.6845,2,  34.6846,2,    150.9,2,  1.1368,    150.7,2,   156.00,2,    36.07,2,     0.00,2,     2.51,2,    0.001,2,    0.006,2, -999.000,9,-999.0000,9,  -999.00,9,   -999.0,9,  -999.00,9,   -999.0,9,   -999.0,9,  -999.0,-999.0000,-999.000,  -999.0,-999.000
   31WTTUNES_1,  P17C,    39,  1,     36,     36,2,19910615,2000, 23.5033,-135.0050, 4184,   4522.7,   1.4870,  34.6870,2,  34.6869,2,   -999.0,9,  1.1098,    154.6,2,   152.18,2,    35.77,2,     0.00,2,     2.49,2,   -0.001,2,    0.005,2, -999.000,9,-999.0000,9,  -999.00,9,   -999.0,9,  -999.00,9,   -999.0,9,   -999.0,9,  -999.0,-999.0000,-999.000,  -999.0,-999.000