BOTTLE,20220819CCHSIOAMB
EXPOCODE,SECT_ID,STNNBR,CASTNO,SAMPNO,BTLNBR,BTLNBR_FLAG_W,DATE,TIME,LATITUDE,LONGITUDE,DEPTH,CTDPRS,CTDTMP,CTDSAL,CTDSAL_FLAG_W,SALNTY,SALNTY_FLAG_W,CTDOXY,CTDOXY_FLAG_W,THETA,OXYGEN,OXYGEN_FLAG_W,SILCAT,SILCAT_FLAG_W,NITRAT,NITRAT_FLAG_W,NITRIT,NITRIT_FLAG_W,PHSPHT,PHSPHT_FLAG_W,CFC-11,CFC-11_FLAG_W,CFC-12,CFC-12_FLAG_W,TRITUM,TRITUM_FLAG_W,HELIUM,HELIUM_FLAG_W,DELHE3,DELHE3_FLAG_W,DELC14,DELC14_FLAG_W,DELC13,DELC13_FLAG_W,TCARBN,TCARBN_FLAG_W,ALKALI,ALKALI_FLAG_W,C14ERR,HELIER,DELHER,C13ERR,TRITER
,,,,,,,,,,,,DBAR,ITS-90,PSS-78,,PSS-78,,UMOL/KG,,DEG C,UMOL/KG,,UMOL/KG,,UMOL/KG,,UMOL/KG,,UMOL/KG,,PMOL/KG,,PMOL/KG,,TU,,NMOL/KG,,PERCNT,,/MILLE,,/MILLE,,UMOL/KG,,UMOL/KG,,/MILLE,NMOL/KG,PERCNT,/MILLE,TU
   31WTTUNES_1,  P17C,    45,  1,      1,      1,2,19910617,1217, 20.4967,-134.9983, 5244,      1.5,  22.3662,  34.7100,2,  34.7138,2,    220.8,3, 22.3659,    222.4,2,     1.80,2,     0.14,2,     0.00,2,     0.14,2, -999.000,9, -999.000,9, -999.000,9,-999.0000,9,  -999.00,9,   -999.0,9,  -999.00,9,   -999.0,9,   -999.0,9,  -999.0,-999.0000,-999.000,  -999.0,-999.000
   31WTTUNES_1,  P17C,    45,  1,      2,      2,2,19910617,1217, 20.4967,-134.9983, 5244,     50.4,  21.4456,  34.8838,2,  34.8493,2,    227.5,2, 21.4358,    233.3,2,     1.80,2,     0.13,2,     0.00,2,     0.14,2, -999.000,9, -999.000,9, -999.000,9,-999.0000,9,  -999.00,9,   -999.0,9,  -999.00,9,   -999.0,9,   -999.0,9,  -999.0,-999.0000,-999.000,  -999.0,-999.000
   31WTTUNES_1,  P17C,    45,  1,      3,      3,2,19910617,1217, 20.4967,-134.9983, 5244,     86.8,  20.8459,  34.9533,2,  34.9536,2,    235.2,2, 20.8295,    225.7,2,     1.80,2,     0.08,2,     0.00,2,     0.13,2, -999.000,9, -999.000,9, -999.000,9,-999.0000,9,  -999.00,9,   -999.0,9,  -999.00,9,   -999.0,9,   -999.0,9,  -999.0,-999.0000,-999.000,  -999.0,-999.000
   31WTTUNES_1,  P17C,    45,  1,      4,      4,2,19910617,1217, 20.4967,-134.9983, 5244,    106.5,  20.5114,  34.9160,2,  34.9032,2,    229.5,2, 20.4914,    224.2,2,     1.80,2,     0.07,2,     0.00,2,     0.14,2, -999.000,9, -999.000,9, -999.000,9,-999.0000,9,  -999.00,9,   -999.0,9,  -999.00,9,   -999.0,9,   -999.0,9,  -999.0,-999.0000,-999.000,  -999.0,-999.000
   31WTTUNES_1,  P17C,    45,  1,      5,      5,2,19910617,1217, 20.4967,-134.9983, 5244,    161.0,  17.9355,  34.7665,2,  34.7147,2,    204.5,2, 17.9079,    201.6,2,     3.24,2,     2.82,2,     0.01,2,     0.32,2, -999.000,9, -999.000,9, -999.000,9,-999.0000,9,  -999.00,9,   -999.0,9,  -999.00,9,   -999.0,9,   -999.0,9,  -999.0,-999.0000,-999.000,  -999.0,-999.000
   31WTTUNES_1,  P17C,    45,  1,      6,      6,2,19910617,1217, 20.4967,-134.9983, 5244,    206.9,  14.0248,  34.2488,2,  34.2366,2,    191.1,2, 13.9951,    188.6,2,     7.39,2,     8.07,2,     0.00,2,     0.70,2, -999.000,9, -999.000,9, -999.000,9,-999.0000,9,  -999.00,9,   -999.0,9,  -999.00,9,   -999.0,9,   -999.0,9,  -999.0,-999.0000,-999.000,  -999.0,-999.000
   31WTTUNES_1,  P17C,    45,  1,      7,      7,2,19910617,1217, 20.4967,-134.9983, 5244,    256.3,  10.9343,  34.0246,2,  34.0280,2,    173.9,2, 10.9031,    170.0,2,    17.12,2,    16.18,2,     0.00,2,     1.23,2, -999.000,9, -999.000,9, -999.000,9,-999.0000,9,  -999.00,9,   -999.0,9,  -999.00,9,   -999.0,9,   -999.0,9,  -999.0,-999.0000,-999.000,  -999.0,-999.000
   31WTTUNES_1,  P17C,    45,  1,      8,      8,2,19910617,1217, 20.4967,-134.9983, 5244,    308.8,   9.0466,  34.0908,2,  34.0896,2,    143.2,2,  9.0132,    149.9,2,    29.56,2,    22.72,2,     0.00,2,     1.68,2, -999.000,9, -999.000,9, -999.000,9,-999.0000,9,  -999.00,9,   -999.0,9,  -999.00,9,   -999.0,9,   -999.0,9,  -999.0,-999.0000,-999.000,  -999.0,-999.000
   31WTTUNES_1,  P17C,    45,  1,      9,      9,3,19910617,1217, 20.4967,-134.9983, 5244,    355.4,   7.8277,  34.0647,2,  34.0700,2,    120.0,2,  7.7923,    140.0,3,    40.55,2,    27.10,2,     0.00,2,     1.97,2, -999.000,9, -999.000,9, -999.000,9,-999.0000,9,  -999.00,9,   -999.0,9,  -999.00,9,   -999.0,9,   -999.0,9,  -999.0,-999.0000,-999.000,  -999.0,-999.000
   31WTTUNES_1,  P17C,    45,  1,     10,     10,2,19910617,1217, 20.4967,-134.9983, 5244,    401.6,   7.6797,  34.2103,2,  34.2127,2,     65.8,2,  7.6400,     64.5,2,    50.45,2,    32.12,2,     0.00,2,     2.44,2, -999.000,9, -999.000,9, -999.000,9,-999.0000,9,  -999.00,9,   -999.0,9,  -999.00,9,   -999.0,9,   -999.0,9,  -999.0,-999.0000,-999.000,  -999.0,-999.000
   31WTTUNES_1,  P17C,    45,  1,     11,     11,2,19910617,1217, 20.4967,-134.9983, 5244,    453.2,   6.8504,  34.2343,2,  34.2519,2,     38.6,2,  6.8082,     36.5,2,    62.34,2,    35.79,2,     0.00,2,     2.74,2, -999.000,9, -999.000,9, -999.000,9,-999.0000,9,  -999.00,9,   -999.0,9,  -999.00,9,   -999.0,9,   -999.0,9,  -999.0,-999.0000,-999.000,  -999.0,-999.000
   31WTTUNES_1,  P17C,    45,  1,     12,     12,2,19910617,1217, 20.4967,-134.9983, 5244,    504.4,   6.6827,  34.3342,2,  34.3396,2,     18.9,2,  6.6361,     19.2,2,    67.02,2,    37.54,2,     0.00,2,     2.91,2, -999.000,9, -999.000,9, -999.000,9,-999.0000,9,  -999.00,9,   -999.0,9,  -999.00,9,   -999.0,9,   -999.0,9,  -999.0,-999.0000,-999.000,  -999.0,-999.000
   31WTTUNES_1,  P17C,    45,  1,     13,     13,2,19910617,1217, 20.4967,-134.9983, 5244,    605.6,   6.1706,  34.4135,2,  34.4163,2,     11.5,2,  6.1165,     18.0,2,    75.65,2,    39.84,2,     0.00,2,     3.05,2, -999.000,9, -999.000,9, -999.000,9,-999.0000,9,  -999.00,9,   -999.0,9,  -999.00,9,   -999.0,9,   -999.0,9,  -999.0,-999.0000,-999.000,  -999.0,-999.000
   31WTTUNES_1,  P17C,    45,  1,     14,     14,2,19910617,1217, 20.4967,-134.9983, 5244,    707.9,   5.4605,  34.4424,2,  34.4462,2,     15.6,2,  5.4006,     16.0,2,    86.28,2,    41.59,2,     0.00,2,     3.10,2, -999.000,9, -999.000,9, -999.000,9,-999.0000,9,  -999.00,9,   -999.0,9,  -999.00,9,   -999.0,9,   -999.0,9,  -999.0,-999.0000,-999.000,  -999.0,-999.000
   31WTTUNES_1,  P17C,    45,  1,     15,     15,2,19910617,1217, 20.4967,-134.9983, 5244,    811.3,   4.9872,  34.4598,2,  34.4635,2,     19.9,2,  4.9209,     19.7,2,    94.01,2,    42.61,2,     0.00,2,     3.11,2, -999.000,9, -999.000,9, -999.000,9,-999.0000,9,  -999.00,9,   -999.0,9,  -999.00,9,   -999.0,9,   -999.0,9,  -999.0,-999.0000,-999.000,  -999.0,-999.000
   31WTTUNES_1,  P17C,    45,  1,     16,     16,2,19910617,1217, 20.4967,-134.9983, 5244,    913.7,   4.5905,  34.4934,2,  34.4965,2,     21.7,2,  4.5179,     20.0,3,   102.65,2,    43.37,2,     0.00,2,     3.17,2, -999.000,9, -999.000,9, -999.000,9,-999.0000,9,  -999.00,9,   -999.0,9,  -999.00,9,   -999.0,9,   -999.0,9,  -999.0,-999.0000,-999.000,  -999.0,-999.000
   31WTTUNES_1,  P17C,    45,  1,     17,     17,2,19910617,1217, 20.4967,-134.9983, 5244,   1005.5,   4.2469,  34.5090,2,  34.5104,2,     26.3,2,  4.1689,     25.5,2,   109.49,2,    43.53,2,     0.00,2,     3.15,2, -999.000,9, -999.000,9, -999.000,9,-999.0000,9,  -999.00,9,   -999.0,9,  -999.00,9,   -999.0,9,   -999.0,9,  -999.0,-999.0000,-999.000,  -999.0,-999.000
   31WTTUNES_1,  P17C,    45,  1,     18,     18,2,19910617,1217, 20.4967,-134.9983, 5244,   1211.8,   3.6454,  34.5423,2,  34.5460,2,     37.3,2,  3.5550,     36.6,2,   121.90,2,    43.30,2,     0.00,2,     3.14,2, -999.000,9, -999.000,9, -999.000,9,-999.0000,9,  -999.00,9,   -999.0,9,  -999.00,9,   -999.0,9,   -999.0,9,  -999.0,-999.0000,-999.000,  -999.0,-999.000
   31WTTUNES_1,  P17C,    45,  1,     19,     19,2,19910617,1217, 20.4967,-134.9983, 5244,   1412.6,   3.1472,  34.5693,2,  34.5715,2,     48.3,2,  3.0450,     48.2,2,   132.52,2,    42.76,2,     0.00,2,     3.07,2, -999.000,9, -999.000,9, -999.000,9,-999.0000,9,  -999.00,9,   -999.0,9,  -999.00,9,   -999.0,9,   -999.0,9,  -999.0,-999.0000,-999.000,  -999.0,-999.000
   31WTTUNES_1,  P17C,    45,  1,     20,     20,2,19910617,1217, 20.4967,-134.9983, 5244,   1618.8,   2.6725,  34.5909,2,  34.5923,2,     65.7,2,  2.5587,     65.1,2,   142.05,2,    41.52,2,     0.00,2,     2.95,2, -999.000,9, -999.000,9, -999.000,9,-999.0000,9,  -999.00,9,   -999.0,9,  -999.00,9,   -999.0,9,   -999.0,9,  -999.0,-999.0000,-999.000,  -999.0,-999.000
   31WTTUNES_1,  P17C,    45,  1,     21,     21,2,19910617,1217, 20.4967,-134.9983, 5244,   1819.1,   2.3647,  34.6084,2,  34.6090,2,     78.5,2,  2.2382,     79.0,2,   147.44,2,    40.76,2,     0.00,2,     2.87,2, -999.000,9, -999.000,9, -999.000,9,-999.0000,9,  -999.00,9,   -999.0,9,  -999.00,9,   -999.0,9,   -999.0,9,  -999.0,-999.0000,-999.000,  -999.0,-999.000
   31WTTUNES_1,  P17C,    45,  1,     22,     22,2,19910617,1217, 20.4967,-134.9983, 5244,   2020.6,   2.1190,  34.6223,2,  34.6228,2,     89.9,2,  1.9790,     88.9,2,   152.65,2,    39.96,2,     0.00,2,     2.80,2, -999.000,9, -999.000,9, -999.000,9,-999.0000,9,  -999.00,9,   -999.0,9,  -999.00,9,   -999.0,9,   -999.0,9,  -999.0,-999.0000,-999.000,  -999.0,-999.000
   31WTTUNES_1,  P17C,    45,  1,     23,     23,2,19910617,1217, 20.4967,-134.9983, 5244,   2226.9,   1.9413,  34.6383,2,  34.6367,2,     99.9,2,  1.7864,     99.1,2,   155.34,2,    39.33,2,     0.00,2,     2.74,2, -999.000,9, -999.000,9, -999.000,9,-999.0000,9,  -999.00,9,   -999.0,9,  -999.00,9,   -999.0,9,   -999.0,9,  -999.0,-999.0000,-999.000,  -999.0,-999.000
   31WTTUNES_1,  P17C,    45,  1,     24,     24,2,19910617,1217, 20.4967,-134.9983, 5244,   2428.5,   1.8171,  34.6477,2,  34.6472,2,    106.4,2,  1.6466,    105.8,2,   157.85,2,    38.90,2,     0.00,2,     2.70,2, -999.000,9, -999.000,9, -999.000,9,-999.0000,9,  -999.00,9,   -999.0,9,  -999.00,9,   -999.0,9,   -999.0,9,  -999.0,-999.0000,-999.000,  -999.0,-999.000
   31WTTUNES_1,  P17C,    45,  1,     25,     25,2,19910617,1217, 20.4967,-134.9983, 5244,   2635.9,   1.7289,  34.6554,2,  34.6560,2,    112.6,2,  1.5414,    111.9,2,   159.46,2,    38.64,2,     0.00,2,     2.67,2, -999.000,9, -999.000,9, -999.000,9,-999.0000,9,  -999.00,9,   -999.0,9,  -999.00,9,   -999.0,9,   -999.0,9,  -999.0,-999.0000,-999.000,  -999.0,-999.000
   31WTTUNES_1,  P17C,    45,  1,     26,     26,2,19910617,1217, 20.4967,-134.9983, 5244,   2836.9,   1.6464,  34.6622,2,  34.6623,2,    120.0,2,  1.4419,    117.7,2,   160.53,2,    38.16,2,     0.00,2,     2.64,2, -999.000,9, -999.000,9, -999.000,9,-999.0000,9,  -999.00,9,   -999.0,9,  -999.00,9,   -999.0,9,   -999.0,9,  -999.0,-999.0000,-999.000,  -999.0,-999.000
   31WTTUNES_1,  P17C,    45,  1,     27,     27,2,19910617,1217, 20.4967,-134.9983, 5244,   3038.0,   1.5888,  34.6692,2,  34.6684,2,    125.6,2,  1.3665,    123.6,2,   161.43,2,    37.79,2,     0.00,2,     2.61,2, -999.000,9, -999.000,9, -999.000,9,-999.0000,9,  -999.00,9,   -999.0,9,  -999.00,9,   -999.0,9,   -999.0,9,  -999.0,-999.0000,-999.000,  -999.0,-999.000
   31WTTUNES_1,  P17C,    45,  1,     28,     28,2,19910617,1217, 20.4967,-134.9983, 5244,   3297.5,   1.5432,  34.6760,2,  34.6745,2,    132.2,2,  1.2964,    131.5,2,   160.52,2,    37.22,2,     0.00,2,     2.57,2, -999.000,9, -999.000,9, -999.000,9,-999.0000,9,  -999.00,9,   -999.0,9,  -999.00,9,   -999.0,9,   -999.0,9,  -999.0,-999.0000,-999.000,  -999.0,-999.000
   31WTTUNES_1,  P17C,    45,  1,     29,     29,2,19910617,1217, 20.4967,-134.9983, 5244,   3550.6,   1.5140,  34.6784,2,  34.6776,2,    138.3,2,  1.2423,    136.0,2,   160.15,2,    37.06,2,     0.00,2,     2.54,2, -999.000,9, -999.000,9, -999.000,9,-999.0000,9,  -999.00,9,   -999.0,9,  -999.00,9,   -999.0,9,   -999.0,9,  -999.0,-999.0000,-999.000,  -999.0,-999.000
   31WTTUNES_1,  P17C,    45,  1,     30,     30,2,19910617,1217, 20.4967,-134.9983, 5244,   3805.4,   1.4990,  34.6814,2,  34.6804,2,    142.3,2,  1.2011,    140.8,2,   158.52,2,    36.64,2,     0.00,2,     2.52,2, -999.000,9, -999.000,9, -999.000,9,-999.0000,9,  -999.00,9,   -999.0,9,  -999.00,9,   -999.0,9,   -999.0,9,  -999.0,-999.0000,-999.000,  -999.0,-999.000
   31WTTUNES_1,  P17C,    45,  1,     31,     31,2,19910617,1217, 20.4967,-134.9983, 5244,   4065.1,   1.4860,  34.6834,2,  34.6833,2,    147.2,2,  1.1604,    146.2,2,   155.09,2,    36.17,2,     0.00,2,     2.49,2, -999.000,9, -999.000,9, -999.000,9,-999.0000,9,  -999.00,9,   -999.0,9,  -999.00,9,   -999.0,9,   -999.0,9,  -999.0,-999.0000,-999.000,  -999.0,-999.000
   31WTTUNES_1,  P17C,    45,  1,     32,     32,2,19910617,1217, 20.4967,-134.9983, 5244,   4316.2,   1.4659,  34.6882,2,  34.6871,2,    155.6,2,  1.1130,    154.3,2,   149.87,2,    35.75,2,     0.00,2,     2.45,2, -999.000,9, -999.000,9, -999.000,9,-999.0000,9,  -999.00,9,   -999.0,9,  -999.00,9,   -999.0,9,   -999.0,9,  -999.0,-999.0000,-999.000,  -999.0,-999.000
   31WTTUNES_1,  P17C,    45,  1,     33,     33,2,19910617,1217, 20.4967,-134.9983, 5244,   4577.0,   1.4448,  34.6926,2,  34.6906,2,    162.4,2,  1.0626,    161.7,2,   144.64,2,    35.18,2,     0.00,2,     2.40,2, -999.000,9, -999.000,9, -999.000,9,-999.0000,9,  -999.00,9,   -999.0,9,  -999.00,9,   -999.0,9,   -999.0,9,  -999.0,-999.0000,-999.000,  -999.0,-999.000
   31WTTUNES_1,  P17C,    45,  1,     34,     34,2,19910617,1217, 20.4967,-134.9983, 5244,   4837.1,   1.4490,  34.6934,2,  34.6918,2,    165.7,2,  1.0361,    166.3,2,   141.93,2,    34.87,2,     0.00,2,     2.39,2, -999.000,9, -999.000,9, -999.000,9,-999.0000,9,  -999.00,9,   -999.0,9,  -999.00,9,   -999.0,9,   -999.0,9,  -999.0,-999.0000,-999.000,  -999.0,-999.000
   31WTTUNES_1,  P17C,    45,  1,     35,     35,2,19910617,1217, 20.4967,-134.9983, 5244,   5088.0,   1.4698,  34.6941,2,  34.6930,2,    169.0,2,  1.0258,    168.2,2,   140.67,2,    34.77,2,     0.00,2,     2.38,2, -999.000,9, -999.000,9, -999.000,9,-999.0000,9,  -999.00,9,   -999.0,9,  -999.00,9,   -999.0,9,   -999.0,9,  -999.0,-999.0000,-999.000,  -999.0,-999.000
   31WTTUNES_1,  P17C,    45,  1,     36,     36,2,19910617,1217, 20.4967,-134.9983, 5244,   5385.2,   1.5029,  34.6943,2,  34.6924,2,   -999.0,9,  1.0208,    167.9,2,   140.48,2,    34.66,2,     0.00,2,     2.38,2, -999.000,9, -999.000,9, -999.000,9,-999.0000,9,  -999.00,9,   -999.0,9,  -999.00,9,   -999.0,9,   -999.0,9,  -999.0,-999.0000,-999.000,  -999.0,-999.000