BOTTLE,20220819CCHSIOAMB
EXPOCODE,SECT_ID,STNNBR,CASTNO,SAMPNO,BTLNBR,BTLNBR_FLAG_W,DATE,TIME,LATITUDE,LONGITUDE,DEPTH,CTDPRS,CTDTMP,CTDSAL,CTDSAL_FLAG_W,SALNTY,SALNTY_FLAG_W,CTDOXY,CTDOXY_FLAG_W,THETA,OXYGEN,OXYGEN_FLAG_W,SILCAT,SILCAT_FLAG_W,NITRAT,NITRAT_FLAG_W,NITRIT,NITRIT_FLAG_W,PHSPHT,PHSPHT_FLAG_W,CFC-11,CFC-11_FLAG_W,CFC-12,CFC-12_FLAG_W,TRITUM,TRITUM_FLAG_W,HELIUM,HELIUM_FLAG_W,DELHE3,DELHE3_FLAG_W,DELC14,DELC14_FLAG_W,DELC13,DELC13_FLAG_W,TCARBN,TCARBN_FLAG_W,ALKALI,ALKALI_FLAG_W,C14ERR,HELIER,DELHER,C13ERR,TRITER
,,,,,,,,,,,,DBAR,ITS-90,PSS-78,,PSS-78,,UMOL/KG,,DEG C,UMOL/KG,,UMOL/KG,,UMOL/KG,,UMOL/KG,,UMOL/KG,,PMOL/KG,,PMOL/KG,,TU,,NMOL/KG,,PERCNT,,/MILLE,,/MILLE,,UMOL/KG,,UMOL/KG,,/MILLE,NMOL/KG,PERCNT,/MILLE,TU
   31WTTUNES_1,  P17C,    43,  1,      1,      1,2,19910616,2302, 21.5250,-135.0017, 5211,      0.8,  21.5513,  34.8777,2,  34.8796,2,   -999.0,9, 21.5511,    224.3,2,     2.61,2,     0.13,2,     0.00,2,     0.14,2, -999.000,9, -999.000,9, -999.000,9,-999.0000,9,  -999.00,9,   -999.0,9,  -999.00,9,   -999.0,9,   -999.0,9,  -999.0,-999.0000,-999.000,  -999.0,-999.000
   31WTTUNES_1,  P17C,    43,  1,      2,      2,2,19910616,2302, 21.5250,-135.0017, 5211,     54.1,  20.7936,  34.9164,2,  34.9353,2,    228.9,2, 20.7834,    228.2,2,     2.42,2,     0.12,2,     0.01,2,     0.14,2, -999.000,9, -999.000,9, -999.000,9,-999.0000,9,  -999.00,9,   -999.0,9,  -999.00,9,   -999.0,9,   -999.0,9,  -999.0,-999.0000,-999.000,  -999.0,-999.000
   31WTTUNES_1,  P17C,    43,  1,      3,      3,2,19910616,2302, 21.5250,-135.0017, 5211,     79.1,  20.5457,  34.9279,2,  34.9351,2,    218.3,2, 20.5309,    228.7,2,     2.41,2,     0.11,2,     0.01,2,     0.14,2, -999.000,9, -999.000,9, -999.000,9,-999.0000,9,  -999.00,9,   -999.0,9,  -999.00,9,   -999.0,9,   -999.0,9,  -999.0,-999.0000,-999.000,  -999.0,-999.000
   31WTTUNES_1,  P17C,    43,  1,      4,      4,2,19910616,2302, 21.5250,-135.0017, 5211,    104.6,  19.8758,  34.9861,2,  34.9735,2,    230.1,2, 19.8566,    224.0,2,     2.40,2,     0.10,2,     0.01,2,     0.14,2, -999.000,9, -999.000,9, -999.000,9,-999.0000,9,  -999.00,9,   -999.0,9,  -999.00,9,   -999.0,9,   -999.0,9,  -999.0,-999.0000,-999.000,  -999.0,-999.000
   31WTTUNES_1,  P17C,    43,  1,      5,      5,2,19910616,2302, 21.5250,-135.0017, 5211,    129.5,  19.0669,  34.9213,2,  34.9276,2,    219.2,2, 19.0438,    220.3,2,     2.57,2,     0.22,2,     0.13,2,     0.17,2, -999.000,9, -999.000,9, -999.000,9,-999.0000,9,  -999.00,9,   -999.0,9,  -999.00,9,   -999.0,9,   -999.0,9,  -999.0,-999.0000,-999.000,  -999.0,-999.000
   31WTTUNES_1,  P17C,    43,  1,      6,      6,2,19910616,2302, 21.5250,-135.0017, 5211,    154.3,  17.9944,  34.7303,2,  34.7628,2,    208.8,2, 17.9679,    210.6,2,     3.10,2,     1.51,2,     0.08,2,     0.25,2, -999.000,9, -999.000,9, -999.000,9,-999.0000,9,  -999.00,9,   -999.0,9,  -999.00,9,   -999.0,9,   -999.0,9,  -999.0,-999.0000,-999.000,  -999.0,-999.000
   31WTTUNES_1,  P17C,    43,  1,      7,      7,2,19910616,2302, 21.5250,-135.0017, 5211,    175.6,  17.1917,  34.7178,2,  34.7247,2,    208.1,2, 17.1626,    205.9,2,     3.81,2,     2.68,2,     0.04,2,     0.30,2, -999.000,9, -999.000,9, -999.000,9,-999.0000,9,  -999.00,9,   -999.0,9,  -999.00,9,   -999.0,9,   -999.0,9,  -999.0,-999.0000,-999.000,  -999.0,-999.000
   31WTTUNES_1,  P17C,    43,  1,      8,      8,2,19910616,2302, 21.5250,-135.0017, 5211,    201.4,  15.1852,  34.4456,2,  34.3816,2,    194.8,2, 15.1546,    200.7,2,     6.14,2,     5.83,2,     0.02,2,     0.53,2, -999.000,9, -999.000,9, -999.000,9,-999.0000,9,  -999.00,9,   -999.0,9,  -999.00,9,   -999.0,9,   -999.0,9,  -999.0,-999.0000,-999.000,  -999.0,-999.000
   31WTTUNES_1,  P17C,    43,  1,      9,      9,2,19910616,2302, 21.5250,-135.0017, 5211,    227.1,  12.5690,  34.1259,2,  34.1126,2,    186.3,2, 12.5386,    195.8,2,     9.74,2,    10.20,2,     0.01,2,     0.82,2, -999.000,9, -999.000,9, -999.000,9,-999.0000,9,  -999.00,9,   -999.0,9,  -999.00,9,   -999.0,9,   -999.0,9,  -999.0,-999.0000,-999.000,  -999.0,-999.000
   31WTTUNES_1,  P17C,    43,  1,     10,     10,2,19910616,2302, 21.5250,-135.0017, 5211,    253.0,  10.8080,  34.0620,2,  34.0687,2,    179.4,2, 10.7774,    200.4,2,    14.41,2,    13.59,2,     0.01,2,     1.01,2, -999.000,9, -999.000,9, -999.000,9,-999.0000,9,  -999.00,9,   -999.0,9,  -999.00,9,   -999.0,9,   -999.0,9,  -999.0,-999.0000,-999.000,  -999.0,-999.000
   31WTTUNES_1,  P17C,    43,  1,     11,     11,2,19910616,2302, 21.5250,-135.0017, 5211,    304.1,   9.0873,  34.0998,2,  34.1051,2,    141.0,2,  9.0543,    144.3,2,    30.44,2,    23.06,2,     0.01,2,     1.71,2, -999.000,9, -999.000,9, -999.000,9,-999.0000,9,  -999.00,9,   -999.0,9,  -999.00,9,   -999.0,9,   -999.0,9,  -999.0,-999.0000,-999.000,  -999.0,-999.000
   31WTTUNES_1,  P17C,    43,  1,     12,     12,2,19910616,2302, 21.5250,-135.0017, 5211,    355.2,   7.9979,  34.0867,2,  34.0963,2,    116.5,2,  7.9621,    115.2,2,    42.14,2,    27.87,2,     0.01,2,     2.07,2, -999.000,9, -999.000,9, -999.000,9,-999.0000,9,  -999.00,9,   -999.0,9,  -999.00,9,   -999.0,9,   -999.0,9,  -999.0,-999.0000,-999.000,  -999.0,-999.000
   31WTTUNES_1,  P17C,    43,  1,     13,     13,2,19910616,2302, 21.5250,-135.0017, 5211,    406.4,   7.4230,  34.1619,2,  34.1712,2,     65.2,2,  7.3836,     66.2,2,    53.48,2,    32.43,2,     0.01,2,     2.49,2,    0.288,2,    0.158,2, -999.000,9,-999.0000,9,  -999.00,9,   -999.0,9,  -999.00,9,   -999.0,9,   -999.0,9,  -999.0,-999.0000,-999.000,  -999.0,-999.000
   31WTTUNES_1,  P17C,    43,  1,     14,     14,2,19910616,2302, 21.5250,-135.0017, 5211,    503.9,   6.5361,  34.2998,2,  34.2997,2,     22.8,2,  6.4901,     23.7,2,    68.77,2,    37.63,2,     0.00,2,     2.91,2,    0.024,2,    0.016,2, -999.000,9,-999.0000,9,  -999.00,9,   -999.0,9,  -999.00,9,   -999.0,9,   -999.0,9,  -999.0,-999.0000,-999.000,  -999.0,-999.000
   31WTTUNES_1,  P17C,    43,  1,     15,     15,2,19910616,2302, 21.5250,-135.0017, 5211,    606.7,   5.9333,  34.3941,2,  34.3968,2,     15.0,2,  5.8802,     15.1,2,    79.75,2,    40.42,2,     0.01,2,     3.07,2,    0.003,2,    0.001,2, -999.000,9,-999.0000,9,  -999.00,9,   -999.0,9,  -999.00,9,   -999.0,9,   -999.0,9,  -999.0,-999.0000,-999.000,  -999.0,-999.000
   31WTTUNES_1,  P17C,    43,  1,     16,     16,2,19910616,2302, 21.5250,-135.0017, 5211,    709.0,   5.4118,  34.4311,2,  34.4314,2,     17.1,2,  5.3520,     17.1,2,    88.02,2,    41.87,2,     0.00,2,     3.12,2,    0.003,2,   -0.003,2, -999.000,9,-999.0000,9,  -999.00,9,   -999.0,9,  -999.00,9,   -999.0,9,   -999.0,9,  -999.0,-999.0000,-999.000,  -999.0,-999.000
   31WTTUNES_1,  P17C,    43,  1,     17,     17,2,19910616,2302, 21.5250,-135.0017, 5211,    811.1,   4.9443,  34.4626,2,  34.4673,2,     21.7,2,  4.8783,     21.3,2,    96.10,2,    42.90,2,     0.01,2,     3.14,2,    0.001,2,   -0.003,2, -999.000,9,-999.0000,9,  -999.00,9,   -999.0,9,  -999.00,9,   -999.0,9,   -999.0,9,  -999.0,-999.0000,-999.000,  -999.0,-999.000
   31WTTUNES_1,  P17C,    43,  1,     18,     18,2,19910616,2302, 21.5250,-135.0017, 5211,    913.5,   4.5358,  34.4893,2,  34.4915,2,     26.3,2,  4.4635,     25.2,2,   103.83,2,    43.28,2,     0.00,2,     3.16,2,    0.002,2,   -0.002,2, -999.000,9,-999.0000,9,  -999.00,9,   -999.0,9,  -999.00,9,   -999.0,9,   -999.0,9,  -999.0,-999.0000,-999.000,  -999.0,-999.000
   31WTTUNES_1,  P17C,    43,  1,     19,     19,2,19910616,2302, 21.5250,-135.0017, 5211,   1011.1,   4.2207,  34.5072,2,  34.5084,2,     30.6,2,  4.1424,     30.0,2,   110.12,2,    43.44,2,     0.00,2,     3.16,2,   -0.001,2,   -0.002,2, -999.000,9,-999.0000,9,  -999.00,9,   -999.0,9,  -999.00,9,   -999.0,9,   -999.0,9,  -999.0,-999.0000,-999.000,  -999.0,-999.000
   31WTTUNES_1,  P17C,    43,  1,     20,     20,2,19910616,2302, 21.5250,-135.0017, 5211,   1215.1,   3.6262,  34.5404,2,  34.5406,2,     41.2,2,  3.5357,     41.3,2,   122.71,2,    43.11,2,     0.01,2,     3.12,2, -999.000,9, -999.000,9, -999.000,9,-999.0000,9,  -999.00,9,   -999.0,9,  -999.00,9,   -999.0,9,   -999.0,9,  -999.0,-999.0000,-999.000,  -999.0,-999.000
   31WTTUNES_1,  P17C,    43,  1,     21,     21,2,19910616,2302, 21.5250,-135.0017, 5211,   1415.7,   3.1376,  34.5681,2,  34.5698,2,     51.6,2,  3.0353,     51.2,2,   132.96,2,    42.68,2,     0.00,2,     3.07,2, -999.000,9, -999.000,9, -999.000,9,-999.0000,9,  -999.00,9,   -999.0,9,  -999.00,9,   -999.0,9,   -999.0,9,  -999.0,-999.0000,-999.000,  -999.0,-999.000
   31WTTUNES_1,  P17C,    43,  1,     22,     22,2,19910616,2302, 21.5250,-135.0017, 5211,   1667.6,   2.6102,  34.5936,2,  34.5944,2,     66.6,2,  2.4930,     67.9,2,   144.64,2,    41.60,2,     0.01,2,     2.96,2, -999.000,9, -999.000,9, -999.000,9,-999.0000,9,  -999.00,9,   -999.0,9,  -999.00,9,   -999.0,9,   -999.0,9,  -999.0,-999.0000,-999.000,  -999.0,-999.000
   31WTTUNES_1,  P17C,    43,  1,     23,     23,2,19910616,2302, 21.5250,-135.0017, 5211,   1920.7,   2.2586,  34.6161,2,  34.6164,2,     82.0,2,  2.1250,     82.7,2,   151.46,2,    40.58,2,     0.00,2,     2.87,2, -999.000,9, -999.000,9, -999.000,9,-999.0000,9,  -999.00,9,   -999.0,9,  -999.00,9,   -999.0,9,   -999.0,9,  -999.0,-999.0000,-999.000,  -999.0,-999.000
   31WTTUNES_1,  P17C,    43,  1,     24,     24,2,19910616,2302, 21.5250,-135.0017, 5211,   2174.5,   1.9565,  34.6341,2,  34.6341,2,     96.4,2,  1.8059,     96.4,2,   157.57,2,    39.73,2,     0.00,2,     2.78,2, -999.000,9, -999.000,9, -999.000,9,-999.0000,9,  -999.00,9,   -999.0,9,  -999.00,9,   -999.0,9,   -999.0,9,  -999.0,-999.0000,-999.000,  -999.0,-999.000
   31WTTUNES_1,  P17C,    43,  1,     25,     25,2,19910616,2302, 21.5250,-135.0017, 5211,   2425.8,   1.7995,  34.6473,2,  34.6467,2,    105.8,2,  1.6296,    105.6,2,   160.79,2,    39.14,2,     0.00,2,     2.73,2, -999.000,9, -999.000,9, -999.000,9,-999.0000,9,  -999.00,9,   -999.0,9,  -999.00,9,   -999.0,9,   -999.0,9,  -999.0,-999.0000,-999.000,  -999.0,-999.000
   31WTTUNES_1,  P17C,    43,  1,     26,     26,2,19910616,2302, 21.5250,-135.0017, 5211,   2680.1,   1.6766,  34.6564,2,  34.6567,2,    114.0,2,  1.4860,    113.3,2,   164.01,2,    38.62,2,     0.00,2,     2.69,2,    0.003,2,    0.000,2, -999.000,9,-999.0000,9,  -999.00,9,   -999.0,9,  -999.00,9,   -999.0,9,   -999.0,9,  -999.0,-999.0000,-999.000,  -999.0,-999.000
   31WTTUNES_1,  P17C,    43,  1,     27,     27,2,19910616,2302, 21.5250,-135.0017, 5211,   2935.5,   1.5925,  34.6659,2,  34.6658,2,    121.9,2,  1.3799,    121.9,2,   163.63,2,    38.03,2,     0.00,2,     2.64,2,    0.002,2,    0.000,2, -999.000,9,-999.0000,9,  -999.00,9,   -999.0,9,  -999.00,9,   -999.0,9,   -999.0,9,  -999.0,-999.0000,-999.000,  -999.0,-999.000
   31WTTUNES_1,  P17C,    43,  1,     28,     28,2,19910616,2302, 21.5250,-135.0017, 5211,   3195.6,   1.5428,  34.6730,2,  34.6719,2,    128.8,2,  1.3061,    129.2,2,   163.25,2,    37.61,2,     0.01,2,     2.60,2,    0.015,3,    0.000,2, -999.000,9,-999.0000,9,  -999.00,9,   -999.0,9,  -999.00,9,   -999.0,9,   -999.0,9,  -999.0,-999.0000,-999.000,  -999.0,-999.000
   31WTTUNES_1,  P17C,    43,  1,     29,     29,2,19910616,2302, 21.5250,-135.0017, 5211,   3455.1,   1.5100,  34.6770,2,  34.6739,2,    134.6,2,  1.2482,    134.8,2,   162.34,2,    37.14,2,     0.01,2,     2.58,2,   -0.001,2,    0.000,2, -999.000,9,-999.0000,9,  -999.00,9,   -999.0,9,  -999.00,9,   -999.0,9,   -999.0,9,  -999.0,-999.0000,-999.000,  -999.0,-999.000
   31WTTUNES_1,  P17C,    43,  1,     30,     30,2,19910616,2302, 21.5250,-135.0017, 5211,   3693.5,   1.4978,  34.6792,2,  34.6774,2,    139.6,2,  1.2117,    139.4,2,   160.70,2,    36.88,2,     0.01,2,     2.55,2, -999.000,9, -999.000,9, -999.000,9,-999.0000,9,  -999.00,9,   -999.0,9,  -999.00,9,   -999.0,9,   -999.0,9,  -999.0,-999.0000,-999.000,  -999.0,-999.000
   31WTTUNES_1,  P17C,    43,  1,     31,     31,2,19910616,2302, 21.5250,-135.0017, 5211,   3954.6,   1.4925,  34.6831,2,  34.6806,2,    142.9,2,  1.1788,    143.8,2,   158.52,2,    36.62,2,     0.01,2,     2.52,2, -999.000,9, -999.000,9, -999.000,9,-999.0000,9,  -999.00,9,   -999.0,9,  -999.00,9,   -999.0,9,   -999.0,9,  -999.0,-999.0000,-999.000,  -999.0,-999.000
   31WTTUNES_1,  P17C,    43,  1,     32,     32,2,19910616,2302, 21.5250,-135.0017, 5211,   4216.3,   1.4858,  34.6845,2,  34.6831,2,    150.2,2,  1.1435,    149.9,2,   155.08,2,    36.31,2,     0.01,2,     2.49,2, -999.000,9, -999.000,9, -999.000,9,-999.0000,9,  -999.00,9,   -999.0,9,  -999.00,9,   -999.0,9,   -999.0,9,  -999.0,-999.0000,-999.000,  -999.0,-999.000
   31WTTUNES_1,  P17C,    43,  1,     33,     33,2,19910616,2302, 21.5250,-135.0017, 5211,   4475.1,   1.4714,  34.6882,2,  34.6851,2,    156.6,2,  1.1002,    156.2,2,   149.85,2,    35.73,2,     0.01,2,     2.46,2, -999.000,9, -999.000,9, -999.000,9,-999.0000,9,  -999.00,9,   -999.0,9,  -999.00,9,   -999.0,9,   -999.0,9,  -999.0,-999.0000,-999.000,  -999.0,-999.000
   31WTTUNES_1,  P17C,    43,  1,     34,     34,2,19910616,2302, 21.5250,-135.0017, 5211,   4736.5,   1.4621,  34.6915,2,  34.6879,2,    163.6,2,  1.0607,    164.0,2,   145.69,2,    35.21,2,     0.01,2,     2.43,2,    0.003,2,    0.000,2, -999.000,9,-999.0000,9,  -999.00,9,   -999.0,9,  -999.00,9,   -999.0,9,   -999.0,9,  -999.0,-999.0000,-999.000,  -999.0,-999.000
   31WTTUNES_1,  P17C,    43,  1,     35,     35,2,19910616,2302, 21.5250,-135.0017, 5211,   4997.8,   1.4720,  34.6920,2,  34.6900,2,    166.8,2,  1.0390,    166.4,2,   142.79,2,    35.06,2,     0.01,2,     2.40,2,   -0.001,2,    0.000,2, -999.000,9,-999.0000,9,  -999.00,9,   -999.0,9,  -999.00,9,   -999.0,9,   -999.0,9,  -999.0,-999.0000,-999.000,  -999.0,-999.000
   31WTTUNES_1,  P17C,    43,  1,     36,     36,2,19910616,2302, 21.5250,-135.0017, 5211,   5304.5,   1.5039,  34.6937,2,  34.6912,2,   -999.0,9,  1.0319,    166.6,2,   141.88,2,    35.01,2,     0.00,2,     2.40,2,    0.001,2,    0.000,2, -999.000,9,-999.0000,9,  -999.00,9,   -999.0,9,  -999.00,9,   -999.0,9,   -999.0,9,  -999.0,-999.0000,-999.000,  -999.0,-999.000