BOTTLE,20220819CCHSIOAMB
EXPOCODE,SECT_ID,STNNBR,CASTNO,SAMPNO,BTLNBR,BTLNBR_FLAG_W,DATE,TIME,LATITUDE,LONGITUDE,DEPTH,CTDPRS,CTDTMP,CTDSAL,CTDSAL_FLAG_W,SALNTY,SALNTY_FLAG_W,CTDOXY,CTDOXY_FLAG_W,THETA,OXYGEN,OXYGEN_FLAG_W,SILCAT,SILCAT_FLAG_W,NITRAT,NITRAT_FLAG_W,NITRIT,NITRIT_FLAG_W,PHSPHT,PHSPHT_FLAG_W,CFC-11,CFC-11_FLAG_W,CFC-12,CFC-12_FLAG_W,TRITUM,TRITUM_FLAG_W,HELIUM,HELIUM_FLAG_W,DELHE3,DELHE3_FLAG_W,DELC14,DELC14_FLAG_W,DELC13,DELC13_FLAG_W,TCARBN,TCARBN_FLAG_W,ALKALI,ALKALI_FLAG_W,C14ERR,HELIER,DELHER,C13ERR,TRITER
,,,,,,,,,,,,DBAR,ITS-90,PSS-78,,PSS-78,,UMOL/KG,,DEG C,UMOL/KG,,UMOL/KG,,UMOL/KG,,UMOL/KG,,UMOL/KG,,PMOL/KG,,PMOL/KG,,TU,,NMOL/KG,,PERCNT,,/MILLE,,/MILLE,,UMOL/KG,,UMOL/KG,,/MILLE,NMOL/KG,PERCNT,/MILLE,TU
   31WTTUNES_1,  P17C,    10,  1,      1,      1,2,19910605,0216, 34.5817,-126.4000, 4682,      1.5,  14.8090,  33.0721,2,  33.0654,2,    421.7,4, 14.8088,    261.7,2,     2.58,2,     0.03,2,     0.00,2,     0.37,2,    3.176,2,    1.627,2, -999.000,9,-999.0000,9,  -999.00,9,     86.0,2,     1.87,2,   -999.0,9,   -999.0,9,     2.8,-999.0000,-999.000,  -999.0,-999.000
   31WTTUNES_1,  P17C,    10,  1,      2,      2,2,19910605,0216, 34.5817,-126.4000, 4682,     54.3,  14.8245,  33.0730,2,  33.0709,2,    258.0,2, 14.8166,    260.3,2,     2.57,2,     0.03,2,     0.00,2,     0.37,2,    3.200,2,    1.643,2, -999.000,9,-999.0000,9,  -999.00,9,   -999.0,9,  -999.00,9,   -999.0,9,   -999.0,9,  -999.0,-999.0000,-999.000,  -999.0,-999.000
   31WTTUNES_1,  P17C,    10,  1,      3,      3,2,19910605,0216, 34.5817,-126.4000, 4682,     58.5,  14.8115,  33.0734,2,  33.0641,2,    257.6,2, 14.8029,    260.6,2,     2.56,2,     0.03,2,     0.00,2,     0.34,2,    3.115,2,    1.639,2,    2.448,2,   1.8170,2,    -1.16,2,   -999.0,9,  -999.00,9,   -999.0,9,   -999.0,9,  -999.0,  0.0090,   0.150,  -999.0,   0.014
   31WTTUNES_1,  P17C,    10,  1,      4,      4,2,19910605,0216, 34.5817,-126.4000, 4682,     86.1,  12.6442,  32.9795,2,  32.9664,2,    262.5,2, 12.6329,    266.4,2,     3.50,2,     0.97,2,     0.05,2,     0.47,2,    3.285,2,    1.691,2, -999.000,9,-999.0000,9,  -999.00,9,     70.0,2,     1.72,2,   -999.0,9,   -999.0,9,     3.1,-999.0000,-999.000,  -999.0,-999.000
   31WTTUNES_1,  P17C,    10,  1,      5,      5,3,19910605,0216, 34.5817,-126.4000, 4682,    111.1,  11.0265,  33.0382,2,-999.0000,5,    234.2,2, 11.0132,   -999.0,5,  -999.00,5,  -999.00,5,  -999.00,5,  -999.00,5, -999.000,9, -999.000,9, -999.000,9,-999.0000,9,  -999.00,9,    -75.8,4,  -999.00,9,   -999.0,9,   -999.0,9,     2.7,-999.0000,-999.000,  -999.0,-999.000
   31WTTUNES_1,  P17C,    10,  1,      6,      6,3,19910605,0216, 34.5817,-126.4000, 4682,    136.4,   9.4370,  33.1573,2,-999.0000,5,    208.2,2,  9.4221,   -999.0,5,  -999.00,5,  -999.00,5,  -999.00,5,  -999.00,5, -999.000,9, -999.000,9, -999.000,9,-999.0000,9,  -999.00,9,   -189.8,4,    -0.54,4,   -999.0,9,   -999.0,9,     2.4,-999.0000,-999.000,  -999.0,-999.000
   31WTTUNES_1,  P17C,    10,  1,      7,      7,2,19910605,0216, 34.5817,-126.4000, 4682,    161.9,   8.6955,  33.4656,2,  33.4774,2,    170.0,2,  8.6787,    180.0,2,    22.59,2,    21.00,2,     0.00,2,     1.58,2,    3.081,2,    1.564,2,    2.117,2,   1.8520,2,     4.16,2,     46.7,2,     0.39,2,   -999.0,9,   -999.0,9,     3.0,  0.0090,   0.150,  -999.0,   0.010
   31WTTUNES_1,  P17C,    10,  1,      8,      8,2,19910605,0216, 34.5817,-126.4000, 4682,    188.4,   8.5260,  33.7167,2,  33.7093,2,    147.3,2,  8.5065,    152.0,2,    26.97,2,    24.02,2,     0.00,2,     1.74,2,    2.622,2,    1.339,2, -999.000,9,-999.0000,9,  -999.00,9,     34.2,2,     0.11,2,   -999.0,9,   -999.0,9,     3.0,-999.0000,-999.000,  -999.0,-999.000
   31WTTUNES_1,  P17C,    10,  1,      9,      9,2,19910605,0216, 34.5817,-126.4000, 4682,    214.3,   8.2899,  33.8745,2,  33.8756,2,    136.1,2,  8.2680,    147.4,2,    30.58,2,    25.01,2,     0.00,2,     1.80,2,    2.303,2,    1.158,2,    2.147,2,   1.8510,2,     8.54,2,     24.1,2,     0.05,2,   -999.0,9,   -999.0,9,     2.6,  0.0090,   0.150,  -999.0,   0.010
   31WTTUNES_1,  P17C,    10,  1,     10,     10,2,19910605,0216, 34.5817,-126.4000, 4682,    253.2,   7.7772,  33.9795,2,  33.9759,2,    135.7,2,  7.7523,    141.8,2,    36.11,2,    26.48,2,     0.00,2,     1.87,2, -999.000,9, -999.000,9, -999.000,9,-999.0000,9,  -999.00,9,      4.7,2,    -0.04,2,   -999.0,9,   -999.0,9,     4.1,-999.0000,-999.000,  -999.0,-999.000
   31WTTUNES_1,  P17C,    10,  1,     11,     11,2,19910605,0216, 34.5817,-126.4000, 4682,    303.9,   7.1312,  34.0245,2,  34.0251,2,    107.1,2,  7.1027,    105.9,2,    47.56,2,    30.98,2,     0.00,2,     2.19,2,    1.175,2,    0.577,2,    1.836,2,   1.8610,2,    15.22,2,    -31.9,2,    -0.18,2,   -999.0,9,   -999.0,9,     2.6,  0.0090,   0.150,  -999.0,   0.009
   31WTTUNES_1,  P17C,    10,  1,     12,     12,2,19910605,0216, 34.5817,-126.4000, 4682,    358.9,   6.4922,  34.0310,2,  34.0341,2,     84.7,2,  6.4601,     84.2,2,    56.71,2,    33.85,2,     0.00,2,     2.41,2,    0.818,4,    0.435,4,    1.581,2,   1.8570,2,    16.89,2,    -51.5,2,    -0.30,2,   -999.0,9,   -999.0,9,     2.7,  0.0090,   0.150,  -999.0,   0.009
   31WTTUNES_1,  P17C,    10,  1,     13,     13,2,19910605,0216, 34.5817,-126.4000, 4682,    407.4,   5.9381,  34.0426,2,  34.0452,2,     64.8,2,  5.9033,     62.9,2,    66.24,2,    37.07,2,     0.00,2,     2.63,2,    0.632,2,    0.283,2,    1.304,2,   1.8790,2,    16.60,2,    -80.4,2,    -0.37,2,   -999.0,9,   -999.0,9,     2.3,  0.0090,   0.150,  -999.0,   0.008
   31WTTUNES_1,  P17C,    10,  1,     14,     14,2,19910605,0216, 34.5817,-126.4000, 4682,    506.4,   5.4461,  34.1452,2,  34.1503,2,     33.1,2,  5.4042,     34.5,2,    81.31,2,    40.41,2,     0.00,2,     2.91,2,    0.135,2,    0.073,2, -999.000,9,-999.0000,9,  -999.00,9,   -127.6,2,    -0.53,2,   -999.0,9,   -999.0,9,     2.2,-999.0000,-999.000,  -999.0,-999.000
   31WTTUNES_1,  P17C,    10,  1,     15,     15,2,19910605,0216, 34.5817,-126.4000, 4682,    602.6,   5.0458,  34.2399,2,  34.2405,2,     18.9,2,  4.9974,     19.0,2,    92.55,2,    42.02,2,     0.00,2,     3.07,2,    0.039,2,    0.024,2,    0.131,2,   1.8830,2,    11.23,2,   -157.9,2,    -0.54,2,   -999.0,9,   -999.0,9,     2.1,  0.0090,   0.150,  -999.0,   0.003
   31WTTUNES_1,  P17C,    10,  1,     16,     16,2,19910605,0216, 34.5817,-126.4000, 4682,    706.3,   4.5923,  34.3030,2,  34.3040,2,     14.7,2,  4.5374,     14.0,2,   103.41,2,    43.13,2,     0.00,2,     3.11,2,    0.018,2,    0.013,2, -999.000,9,-999.0000,9,  -999.00,9,   -178.7,2,    -0.56,2,   -999.0,9,   -999.0,9,     2.7,-999.0000,-999.000,  -999.0,-999.000
   31WTTUNES_1,  P17C,    10,  1,     17,     17,2,19910605,0216, 34.5817,-126.4000, 4682,    807.3,   4.2742,  34.3714,2,  34.3709,2,     14.9,2,  4.2128,     17.9,2,   111.97,2,    43.76,2,     0.00,2,     3.14,2,    0.019,2,    0.014,2, -999.000,9,-999.0000,9,  -999.00,9,   -188.7,2,    -0.49,2,   -999.0,9,   -999.0,9,     2.1,-999.0000,-999.000,  -999.0,-999.000
   31WTTUNES_1,  P17C,    10,  1,     18,     18,2,19910605,0216, 34.5817,-126.4000, 4682,    908.1,   3.9873,  34.4153,2,  34.4159,2,     18.1,2,  3.9194,     18.4,2,   118.62,2,    44.03,2,     0.00,2,     3.15,2,    0.021,2,    0.013,2, -999.000,9,-999.0000,9,  -999.00,9,   -999.0,9,  -999.00,9,   -999.0,9,   -999.0,9,  -999.0,-999.0000,-999.000,  -999.0,-999.000
   31WTTUNES_1,  P17C,    10,  1,     19,     19,2,19910605,0216, 34.5817,-126.4000, 4682,   1010.9,   3.6855,  34.4481,2,  34.4493,2,     23.6,2,  3.6115,     24.1,2,   125.27,2,    44.30,2,     0.00,2,     3.13,2, -999.000,9, -999.000,9, -999.000,9,-999.0000,9,  -999.00,9,   -211.8,2,    -0.50,2,   -999.0,9,   -999.0,9,     2.7,-999.0000,-999.000,  -999.0,-999.000
   31WTTUNES_1,  P17C,    10,  1,     20,     20,4,19910605,0216, 34.5817,-126.4000, 4682,   1010.9,   3.6855,  34.4481,2,  34.4463,2,     23.6,2,  3.6115,     23.9,2,   125.24,2,    44.08,2,     0.00,2,     3.13,2, -999.000,9, -999.000,9, -999.000,9,-999.0000,9,  -999.00,9,   -999.0,9,  -999.00,9,   -999.0,9,   -999.0,9,  -999.0,-999.0000,-999.000,  -999.0,-999.000
   31WTTUNES_1,  P17C,    10,  1,     21,     21,2,19910605,0216, 34.5817,-126.4000, 4682,   1413.9,   2.8870,  34.5382,2,  34.5384,2,     45.1,2,  2.7876,     44.4,2,   144.29,2,    43.28,2,     0.00,2,     3.02,2, -999.000,9, -999.000,9, -999.000,9,-999.0000,9,  -999.00,9,   -999.0,9,  -999.00,9,   -999.0,9,   -999.0,9,  -999.0,-999.0000,-999.000,  -999.0,-999.000
   31WTTUNES_1,  P17C,    10,  1,     22,     22,2,19910605,0216, 34.5817,-126.4000, 4682,   1616.2,   2.4691,  34.5645,2,  34.5649,2,     54.4,2,  2.3581,     51.6,2,   156.09,2,    42.85,2,     0.00,2,     2.97,2, -999.000,9, -999.000,9, -999.000,9,-999.0000,9,  -999.00,9,   -999.0,9,  -999.00,9,   -999.0,9,   -999.0,9,  -999.0,-999.0000,-999.000,  -999.0,-999.000
   31WTTUNES_1,  P17C,    10,  1,     23,     23,2,19910605,0216, 34.5817,-126.4000, 4682,   1821.9,   2.1691,  34.5945,2,  34.5973,2,     68.7,2,  2.0452,     68.2,2,   163.11,2,    41.79,2,     0.01,2,     2.90,2, -999.000,9, -999.000,9, -999.000,9,-999.0000,9,  -999.00,9,   -999.0,9,  -999.00,9,   -999.0,9,   -999.0,9,  -999.0,-999.0000,-999.000,  -999.0,-999.000
   31WTTUNES_1,  P17C,    10,  1,     24,     24,4,19910605,0216, 34.5817,-126.4000, 4682,   1821.9,   2.1691,  34.5945,2,  34.5965,2,     68.7,2,  2.0452,     65.9,2,   163.27,2,    41.74,2,     0.01,2,     2.88,2, -999.000,9, -999.000,9, -999.000,9,-999.0000,9,  -999.00,9,   -999.0,9,  -999.00,9,   -999.0,9,   -999.0,9,  -999.0,-999.0000,-999.000,  -999.0,-999.000
   31WTTUNES_1,  P17C,    10,  1,     25,     25,2,19910605,0216, 34.5817,-126.4000, 4682,   2226.1,   1.8207,  34.6269,2,  34.6288,3,     87.1,2,  1.6679,     86.4,3,   172.01,2,    40.55,2,     0.00,2,     2.79,2,    0.000,2,    0.005,2, -999.000,9,-999.0000,9,  -999.00,9,   -999.0,9,  -999.00,9,   -999.0,9,   -999.0,9,  -999.0,-999.0000,-999.000,  -999.0,-999.000
   31WTTUNES_1,  P17C,    10,  1,     26,     26,2,19910605,0216, 34.5817,-126.4000, 4682,   2425.4,   1.7375,  34.6380,2,  34.6339,3,     94.6,2,  1.5688,     95.9,3,   172.74,2,    40.14,2,     0.01,2,     2.77,2,    0.001,2,    0.000,2, -999.000,9,-999.0000,9,  -999.00,9,   -999.0,9,  -999.00,9,   -999.0,9,   -999.0,9,  -999.0,-999.0000,-999.000,  -999.0,-999.000
   31WTTUNES_1,  P17C,    10,  1,     27,     27,2,19910605,0216, 34.5817,-126.4000, 4682,   2634.8,   1.6675,  34.6476,2,  34.6417,3,    103.8,2,  1.4813,    102.7,3,   172.89,2,    39.57,2,     0.01,2,     2.70,2,    0.003,2,    0.004,2, -999.000,9,-999.0000,9,  -999.00,9,   -999.0,9,  -999.00,9,   -999.0,9,   -999.0,9,  -999.0,-999.0000,-999.000,  -999.0,-999.000
   31WTTUNES_1,  P17C,    10,  1,     28,     28,2,19910605,0216, 34.5817,-126.4000, 4682,   2833.4,   1.6146,  34.6536,2,  34.6504,3,    111.4,2,  1.4112,    109.3,3,   172.67,2,    39.16,2,     0.01,2,     2.66,2,    0.004,2,    0.007,2, -999.000,9,-999.0000,9,  -999.00,9,   -999.0,9,  -999.00,9,   -999.0,9,   -999.0,9,  -999.0,-999.0000,-999.000,  -999.0,-999.000
   31WTTUNES_1,  P17C,    10,  1,     29,     29,2,19910605,0216, 34.5817,-126.4000, 4682,   3040.4,   1.5728,  34.6601,2,  34.6543,3,    117.3,2,  1.3506,    119.6,3,   172.45,2,    38.71,2,     0.01,2,     2.63,2, -999.000,9, -999.000,9, -999.000,9,-999.0000,9,  -999.00,9,   -999.0,9,  -999.00,9,   -999.0,9,   -999.0,9,  -999.0,-999.0000,-999.000,  -999.0,-999.000
   31WTTUNES_1,  P17C,    10,  1,     30,     30,4,19910605,0216, 34.5817,-126.4000, 4682,   3040.4,   1.5728,  34.6601,2,  34.6547,3,    117.3,2,  1.3506,    114.9,3,   172.23,2,    38.81,2,     0.00,2,     2.63,2, -999.000,9, -999.000,9, -999.000,9,-999.0000,9,  -999.00,9,   -999.0,9,  -999.00,9,   -999.0,9,   -999.0,9,  -999.0,-999.0000,-999.000,  -999.0,-999.000
   31WTTUNES_1,  P17C,    10,  1,     31,     31,9,19910605,0216, 34.5817,-126.4000, 4682,   3551.5,   1.4910,  34.6729,2,-999.0000,9,    133.8,2,  1.2199,   -999.0,9,  -999.00,9,  -999.00,9,  -999.00,9,  -999.00,9, -999.000,9, -999.000,9, -999.000,9,-999.0000,9,  -999.00,9,   -999.0,9,  -999.00,9,   -999.0,9,   -999.0,9,  -999.0,-999.0000,-999.000,  -999.0,-999.000
   31WTTUNES_1,  P17C,    10,  1,     32,     32,2,19910605,0216, 34.5817,-126.4000, 4682,   3798.8,   1.4746,  34.6773,2,  34.6743,3,    140.8,2,  1.1781,    142.5,3,   165.33,2,    37.35,2,     0.00,2,     2.50,2, -999.000,9, -999.000,9, -999.000,9,-999.0000,9,  -999.00,9,   -999.0,9,  -999.00,9,   -999.0,9,   -999.0,9,  -999.0,-999.0000,-999.000,  -999.0,-999.000
   31WTTUNES_1,  P17C,    10,  1,     33,     33,2,19910605,0216, 34.5817,-126.4000, 4682,   4058.8,   1.4820,  34.6803,2,  34.6763,3,    145.6,2,  1.1572,    146.5,3,   162.63,2,    36.99,2,     0.00,2,     2.47,2,    0.035,4,    0.000,2, -999.000,9,-999.0000,9,  -999.00,9,   -999.0,9,  -999.00,9,   -999.0,9,   -999.0,9,  -999.0,-999.0000,-999.000,  -999.0,-999.000
   31WTTUNES_1,  P17C,    10,  1,     34,     34,4,19910605,0216, 34.5817,-126.4000, 4682,   4058.8,   1.4820,  34.6803,2,  34.6745,3,    145.6,2,  1.1572,    144.5,3,   162.79,2,    36.89,2,     0.00,2,     2.47,2,    0.003,2,    0.001,2, -999.000,9,-999.0000,9,  -999.00,9,   -999.0,9,  -999.00,9,   -999.0,9,   -999.0,9,  -999.0,-999.0000,-999.000,  -999.0,-999.000
   31WTTUNES_1,  P17C,    10,  1,     35,     35,2,19910605,0216, 34.5817,-126.4000, 4682,   4601.5,   1.5255,  34.6828,2,  34.6785,3,    151.4,2,  1.1380,    151.5,3,   158.19,2,    36.65,2,     0.00,2,     2.44,2,    0.001,2,    0.003,2, -999.000,9,-999.0000,9,  -999.00,9,   -999.0,9,  -999.00,9,   -999.0,9,   -999.0,9,  -999.0,-999.0000,-999.000,  -999.0,-999.000
   31WTTUNES_1,  P17C,    10,  1,     36,     36,2,19910605,0216, 34.5817,-126.4000, 4682,   4766.2,   1.5437,  34.6832,2,  34.6785,3,   -999.0,9,  1.1362,    149.4,3,   158.35,2,    36.60,2,     0.00,2,     2.45,2,    0.000,2,    0.004,2, -999.000,9,-999.0000,9,  -999.00,9,   -999.0,9,  -999.00,9,   -999.0,9,   -999.0,9,  -999.0,-999.0000,-999.000,  -999.0,-999.000