BOTTLE,20220819CCHSIOAMB
EXPOCODE,SECT_ID,STNNBR,CASTNO,SAMPNO,BTLNBR,BTLNBR_FLAG_W,DATE,TIME,LATITUDE,LONGITUDE,DEPTH,CTDPRS,CTDTMP,CTDSAL,CTDSAL_FLAG_W,SALNTY,SALNTY_FLAG_W,CTDOXY,CTDOXY_FLAG_W,THETA,OXYGEN,OXYGEN_FLAG_W,SILCAT,SILCAT_FLAG_W,NITRAT,NITRAT_FLAG_W,NITRIT,NITRIT_FLAG_W,PHSPHT,PHSPHT_FLAG_W,CFC-11,CFC-11_FLAG_W,CFC-12,CFC-12_FLAG_W,TRITUM,TRITUM_FLAG_W,HELIUM,HELIUM_FLAG_W,DELHE3,DELHE3_FLAG_W,DELC14,DELC14_FLAG_W,DELC13,DELC13_FLAG_W,TCARBN,TCARBN_FLAG_W,ALKALI,ALKALI_FLAG_W,C14ERR,HELIER,DELHER,C13ERR,TRITER
,,,,,,,,,,,,DBAR,ITS-90,PSS-78,,PSS-78,,UMOL/KG,,DEG C,UMOL/KG,,UMOL/KG,,UMOL/KG,,UMOL/KG,,UMOL/KG,,PMOL/KG,,PMOL/KG,,TU,,NMOL/KG,,PERCNT,,/MILLE,,/MILLE,,UMOL/KG,,UMOL/KG,,/MILLE,NMOL/KG,PERCNT,/MILLE,TU
   31WTTUNES_1,  P17C,    15,  1,      1,      1,2,19910607,1123, 34.5883,-132.4417, 5091,      1.2,  15.8290,  33.2277,2,  33.2289,2,      1.9,4, 15.8288,    256.4,2,     3.62,2,     0.00,2,     0.00,2,     0.33,2,    3.114,2,    1.541,2, -999.000,9,-999.0000,9,  -999.00,9,   -999.0,9,  -999.00,9,   -999.0,9,   -999.0,9,  -999.0,-999.0000,-999.000,  -999.0,-999.000
   31WTTUNES_1,  P17C,    15,  1,      2,      2,2,19910607,1123, 34.5883,-132.4417, 5091,     43.3,  15.6320,  33.2527,2,  33.2472,2,    258.7,2, 15.6254,    258.4,2,     3.42,2,     0.00,2,     0.00,2,     0.35,2, -999.000,9, -999.000,9, -999.000,9,-999.0000,9,  -999.00,9,   -999.0,9,  -999.00,9,   -999.0,9,   -999.0,9,  -999.0,-999.0000,-999.000,  -999.0,-999.000
   31WTTUNES_1,  P17C,    15,  1,      3,      3,2,19910607,1123, 34.5883,-132.4417, 5091,     85.4,  14.6972,  33.5125,2,  33.5709,2,    257.5,2, 14.6846,    257.0,2,     3.42,2,     0.20,2,     0.02,2,     0.29,2,    3.166,2,    1.577,2, -999.000,9,-999.0000,9,  -999.00,9,   -999.0,9,  -999.00,9,   -999.0,9,   -999.0,9,  -999.0,-999.0000,-999.000,  -999.0,-999.000
   31WTTUNES_1,  P17C,    15,  1,      4,      4,2,19910607,1123, 34.5883,-132.4417, 5091,    119.9,  11.4850,  33.1493,2,  33.1087,2,    241.8,2, 11.4701,    243.8,2,     7.14,2,     6.46,2,     0.04,2,     0.75,2, -999.000,9, -999.000,9, -999.000,9,-999.0000,9,  -999.00,9,   -999.0,9,  -999.00,9,   -999.0,9,   -999.0,9,  -999.0,-999.0000,-999.000,  -999.0,-999.000
   31WTTUNES_1,  P17C,    15,  1,      5,      5,2,19910607,1123, 34.5883,-132.4417, 5091,    152.2,   9.1958,  33.1576,2,  33.1672,2,    222.4,2,  9.1795,    232.3,2,    12.33,2,    13.21,2,     0.01,2,     1.16,2,    3.837,2,    1.844,2, -999.000,9,-999.0000,9,  -999.00,9,   -999.0,9,  -999.00,9,   -999.0,9,   -999.0,9,  -999.0,-999.0000,-999.000,  -999.0,-999.000
   31WTTUNES_1,  P17C,    15,  1,      6,      6,2,19910607,1123, 34.5883,-132.4417, 5091,    176.8,   8.8029,  33.3783,2,  33.3858,2,    213.0,2,  8.7844,    213.9,2,    16.73,2,    16.24,2,     0.01,2,     1.32,2, -999.000,9, -999.000,9, -999.000,9,-999.0000,9,  -999.00,9,   -999.0,9,  -999.00,9,   -999.0,9,   -999.0,9,  -999.0,-999.0000,-999.000,  -999.0,-999.000
   31WTTUNES_1,  P17C,    15,  1,      7,      7,2,19910607,1123, 34.5883,-132.4417, 5091,    202.1,   8.5041,  33.6168,2,  33.6139,2,    182.0,2,  8.4833,    178.7,2,    23.97,2,    21.32,2,     0.01,2,     1.62,2,    3.067,2,    1.440,2, -999.000,9,-999.0000,9,  -999.00,9,   -999.0,9,  -999.00,9,   -999.0,9,   -999.0,9,  -999.0,-999.0000,-999.000,  -999.0,-999.000
   31WTTUNES_1,  P17C,    15,  1,      8,      8,2,19910607,1123, 34.5883,-132.4417, 5091,    228.9,   8.3311,  33.8151,2,  33.8158,2,    155.5,2,  8.3078,    156.4,2,    28.95,2,    23.96,2,     0.01,2,     1.77,2,    2.578,2,    1.231,2, -999.000,9,-999.0000,9,  -999.00,9,   -999.0,9,  -999.00,9,   -999.0,9,   -999.0,9,  -999.0,-999.0000,-999.000,  -999.0,-999.000
   31WTTUNES_1,  P17C,    15,  1,      9,      9,9,19910607,1123, 34.5883,-132.4417, 5091,    269.9,   7.9453,  33.9604,2,-999.0000,9,    137.4,2,  7.9184,   -999.0,9,  -999.00,9,  -999.00,9,  -999.00,9,  -999.00,9, -999.000,9, -999.000,9, -999.000,9,-999.0000,9,  -999.00,9,   -999.0,9,  -999.00,9,   -999.0,9,   -999.0,9,  -999.0,-999.0000,-999.000,  -999.0,-999.000
   31WTTUNES_1,  P17C,    15,  1,     10,     10,2,19910607,1123, 34.5883,-132.4417, 5091,    301.1,   7.5295,  33.9758,2,  33.9722,2,    174.9,2,  7.5004,    177.2,2,    35.30,2,    23.76,2,     0.01,2,     1.68,2,    2.306,2,    1.093,2, -999.000,9,-999.0000,9,  -999.00,9,   -999.0,9,  -999.00,9,   -999.0,9,   -999.0,9,  -999.0,-999.0000,-999.000,  -999.0,-999.000
   31WTTUNES_1,  P17C,    15,  1,     11,     11,2,19910607,1123, 34.5883,-132.4417, 5091,    400.4,   6.2641,  33.9807,2,  33.9792,2,    107.4,2,  6.2289,    108.3,2,    55.64,2,    32.56,2,     0.00,2,     2.32,2,    1.151,2,    0.561,2, -999.000,9,-999.0000,9,  -999.00,9,   -999.0,9,  -999.00,9,   -999.0,9,   -999.0,9,  -999.0,-999.0000,-999.000,  -999.0,-999.000
   31WTTUNES_1,  P17C,    15,  1,     12,     12,2,19910607,1123, 34.5883,-132.4417, 5091,    505.3,   4.9758,  34.0144,2,  34.0165,2,     65.3,2,  4.9360,     66.3,2,    79.99,2,    38.92,2,     0.00,2,     2.75,2,    0.415,2,    0.206,2, -999.000,9,-999.0000,9,  -999.00,9,   -999.0,9,  -999.00,9,   -999.0,9,   -999.0,9,  -999.0,-999.0000,-999.000,  -999.0,-999.000
   31WTTUNES_1,  P17C,    15,  1,     14,     14,4,19910607,1123, 34.5883,-132.4417, 5091,    605.5,   4.5730,  34.1355,2,  34.1344,2,     28.7,2,  4.5267,     30.7,2,    95.92,2,    42.44,2,     0.01,2,     3.03,2,    0.079,2,    0.036,2, -999.000,9,-999.0000,9,  -999.00,9,   -999.0,9,  -999.00,9,   -999.0,9,   -999.0,9,  -999.0,-999.0000,-999.000,  -999.0,-999.000
   31WTTUNES_1,  P17C,    15,  1,     15,     15,4,19910607,1123, 34.5883,-132.4417, 5091,    708.9,   4.2332,  34.2495,2,  34.2493,2,     15.0,2,  4.1802,     13.6,2,   109.60,2,    43.80,2,     0.00,2,     3.17,2,    0.012,2,    0.010,2, -999.000,9,-999.0000,9,  -999.00,9,   -999.0,9,  -999.00,9,   -999.0,9,   -999.0,9,  -999.0,-999.0000,-999.000,  -999.0,-999.000
   31WTTUNES_1,  P17C,    15,  1,     16,     16,2,19910607,1123, 34.5883,-132.4417, 5091,    909.9,   3.8035,  34.3942,2,  34.3941,2,     12.9,2,  3.7368,     14.2,2,   122.79,2,    44.29,2,     0.00,2,     3.22,2,    0.007,2,    0.004,2, -999.000,9,-999.0000,9,  -999.00,9,   -999.0,9,  -999.00,9,   -999.0,9,   -999.0,9,  -999.0,-999.0000,-999.000,  -999.0,-999.000
   31WTTUNES_1,  P17C,    15,  1,     17,     17,2,19910607,1123, 34.5883,-132.4417, 5091,   1010.7,   3.6186,  34.4436,2,  34.4421,2,     19.8,2,  3.5451,     19.2,2,   128.16,2,    44.19,2,     0.00,2,     3.20,2,    0.006,2,    0.004,2, -999.000,9,-999.0000,9,  -999.00,9,   -999.0,9,  -999.00,9,   -999.0,9,   -999.0,9,  -999.0,-999.0000,-999.000,  -999.0,-999.000
   31WTTUNES_1,  P17C,    15,  1,     18,     18,2,19910607,1123, 34.5883,-132.4417, 5091,   1158.2,   3.2958,  34.4926,2,  34.4930,2,     29.5,2,  3.2131,     29.3,2,   134.90,2,    43.99,2,     0.00,2,     3.16,2,    0.003,2,    0.007,2, -999.000,9,-999.0000,9,  -999.00,9,   -999.0,9,  -999.00,9,   -999.0,9,   -999.0,9,  -999.0,-999.0000,-999.000,  -999.0,-999.000
   31WTTUNES_1,  P17C,    15,  1,     19,     19,2,19910607,1123, 34.5883,-132.4417, 5091,   1315.8,   3.0220,  34.5247,2,  34.5259,2,     41.1,2,  2.9291,     39.6,2,   141.64,2,    43.40,2,     0.00,2,     3.11,2, -999.000,9, -999.000,9, -999.000,9,-999.0000,9,  -999.00,9,   -999.0,9,  -999.00,9,   -999.0,9,   -999.0,9,  -999.0,-999.0000,-999.000,  -999.0,-999.000
   31WTTUNES_1,  P17C,    15,  1,     20,     20,4,19910607,1123, 34.5883,-132.4417, 5091,   1315.8,   3.0220,  34.5247,2,  34.5247,2,     41.1,2,  2.9291,     42.0,2,   140.86,2,    43.50,2,     0.00,2,     3.11,2, -999.000,9, -999.000,9, -999.000,9,-999.0000,9,  -999.00,9,   -999.0,9,  -999.00,9,   -999.0,9,   -999.0,9,  -999.0,-999.0000,-999.000,  -999.0,-999.000
   31WTTUNES_1,  P17C,    15,  1,     21,     21,2,19910607,1123, 34.5883,-132.4417, 5091,   1722.2,   2.4204,  34.5813,2,  34.5817,2,     63.8,2,  2.3012,     60.8,2,   155.81,2,    42.13,2,     0.01,2,     3.00,2, -999.000,9, -999.000,9, -999.000,9,-999.0000,9,  -999.00,9,   -999.0,9,  -999.00,9,   -999.0,9,   -999.0,9,  -999.0,-999.0000,-999.000,  -999.0,-999.000
   31WTTUNES_1,  P17C,    15,  1,     22,     22,2,19910607,1123, 34.5883,-132.4417, 5091,   1920.4,   2.1855,  34.6010,2,  34.6005,2,     70.8,2,  2.0531,     71.8,2,   162.16,2,    41.64,2,     0.00,2,     2.93,2, -999.000,9, -999.000,9, -999.000,9,-999.0000,9,  -999.00,9,   -999.0,9,  -999.00,9,   -999.0,9,   -999.0,9,  -999.0,-999.0000,-999.000,  -999.0,-999.000
   31WTTUNES_1,  P17C,    15,  1,     23,     23,2,19910607,1123, 34.5883,-132.4417, 5091,   2125.7,   1.9777,  34.6189,2,  34.6182,2,     81.6,2,  1.8310,     81.3,2,   165.19,2,    40.56,2,     0.00,2,     2.87,2, -999.000,9, -999.000,9, -999.000,9,-999.0000,9,  -999.00,9,   -999.0,9,  -999.00,9,   -999.0,9,   -999.0,9,  -999.0,-999.0000,-999.000,  -999.0,-999.000
   31WTTUNES_1,  P17C,    15,  1,     24,     24,4,19910607,1123, 34.5883,-132.4417, 5091,   2125.7,   1.9777,  34.6189,2,  34.6190,2,     81.6,2,  1.8310,     78.9,2,   165.78,2,    40.56,2,     0.00,2,     2.88,2, -999.000,9, -999.000,9, -999.000,9,-999.0000,9,  -999.00,9,   -999.0,9,  -999.00,9,   -999.0,9,   -999.0,9,  -999.0,-999.0000,-999.000,  -999.0,-999.000
   31WTTUNES_1,  P17C,    15,  1,     25,     25,2,19910607,1123, 34.5883,-132.4417, 5091,   2532.8,   1.7588,  34.6428,2,  34.6433,2,     98.6,2,  1.5801,     97.7,2,   169.10,2,    39.49,2,     0.00,2,     2.79,2, -999.000,9, -999.000,9, -999.000,9,-999.0000,9,  -999.00,9,   -999.0,9,  -999.00,9,   -999.0,9,   -999.0,9,  -999.0,-999.0000,-999.000,  -999.0,-999.000
   31WTTUNES_1,  P17C,    15,  1,     26,     26,2,19910607,1123, 34.5883,-132.4417, 5091,   2739.0,   1.6729,  34.6495,2,  34.6511,2,    106.3,2,  1.4770,    104.8,2,   170.66,2,    39.10,2,     0.00,2,     2.75,2, -999.000,9, -999.000,9, -999.000,9,-999.0000,9,  -999.00,9,   -999.0,9,  -999.00,9,   -999.0,9,   -999.0,9,  -999.0,-999.0000,-999.000,  -999.0,-999.000
   31WTTUNES_1,  P17C,    15,  1,     27,     27,2,19910607,1123, 34.5883,-132.4417, 5091,   2935.2,   1.6149,  34.6558,2,  34.6578,2,    113.3,2,  1.4019,    113.5,2,   170.66,2,    38.90,2,     0.00,2,     2.71,2, -999.000,9, -999.000,9, -999.000,9,-999.0000,9,  -999.00,9,   -999.0,9,  -999.00,9,   -999.0,9,   -999.0,9,  -999.0,-999.0000,-999.000,  -999.0,-999.000
   31WTTUNES_1,  P17C,    15,  1,     28,     28,2,19910607,1123, 34.5883,-132.4417, 5091,   3193.8,   1.5530,  34.6628,2,  34.6641,2,    122.0,2,  1.3163,    120.6,2,   170.07,2,    38.41,2,     0.00,2,     2.67,2, -999.000,9, -999.000,9, -999.000,9,-999.0000,9,  -999.00,9,   -999.0,9,  -999.00,9,   -999.0,9,   -999.0,9,  -999.0,-999.0000,-999.000,  -999.0,-999.000
   31WTTUNES_1,  P17C,    15,  1,     29,     29,2,19910607,1123, 34.5883,-132.4417, 5091,   3449.7,   1.5080,  34.6687,2,  34.6707,2,    129.8,2,  1.2469,    128.7,2,   167.63,2,    37.92,2,     0.00,2,     2.62,2, -999.000,9, -999.000,9, -999.000,9,-999.0000,9,  -999.00,9,   -999.0,9,  -999.00,9,   -999.0,9,   -999.0,9,  -999.0,-999.0000,-999.000,  -999.0,-999.000
   31WTTUNES_1,  P17C,    15,  1,     30,     30,4,19910607,1123, 34.5883,-132.4417, 5091,   3449.7,   1.5080,  34.6687,2,  34.6705,2,    129.8,2,  1.2469,    129.8,2,   167.63,2,    37.83,2,     0.00,2,     2.62,2, -999.000,9, -999.000,9, -999.000,9,-999.0000,9,  -999.00,9,   -999.0,9,  -999.00,9,   -999.0,9,   -999.0,9,  -999.0,-999.0000,-999.000,  -999.0,-999.000
   31WTTUNES_1,  P17C,    15,  1,     31,     31,2,19910607,1123, 34.5883,-132.4417, 5091,   3962.6,   1.4810,  34.6761,2,  34.6768,2,    136.4,2,  1.1667,    136.9,3,   165.48,2,    37.34,2,     0.00,2,     2.58,2, -999.000,9, -999.000,9, -999.000,9,-999.0000,9,  -999.00,9,   -999.0,9,  -999.00,9,   -999.0,9,   -999.0,9,  -999.0,-999.0000,-999.000,  -999.0,-999.000
   31WTTUNES_1,  P17C,    15,  1,     32,     32,2,19910607,1123, 34.5883,-132.4417, 5091,   4223.4,   1.4900,  34.6821,2,  34.6805,2,    145.6,2,  1.1468,    143.7,2,   163.42,2,    36.95,2,     0.00,2,     2.56,2,    0.000,2,    0.000,2, -999.000,9,-999.0000,9,  -999.00,9,   -999.0,9,  -999.00,9,   -999.0,9,   -999.0,9,  -999.0,-999.0000,-999.000,  -999.0,-999.000
   31WTTUNES_1,  P17C,    15,  1,     33,     33,2,19910607,1123, 34.5883,-132.4417, 5091,   4477.4,   1.5070,  34.6821,2,  34.6840,2,    148.1,2,  1.1344,    150.8,3,   159.03,2,    36.46,2,     0.00,2,     2.51,2,   -0.002,2,    0.006,2, -999.000,9,-999.0000,9,  -999.00,9,   -999.0,9,  -999.00,9,   -999.0,9,   -999.0,9,  -999.0,-999.0000,-999.000,  -999.0,-999.000
   31WTTUNES_1,  P17C,    15,  1,     34,     34,2,19910607,1123, 34.5883,-132.4417, 5091,   4477.4,   1.5070,  34.6821,2,  34.6836,2,    148.1,2,  1.1344,    148.9,2,   159.03,2,    36.36,2,     0.00,2,     2.51,2,    0.002,2,    0.002,2, -999.000,9,-999.0000,9,  -999.00,9,   -999.0,9,  -999.00,9,   -999.0,9,   -999.0,9,  -999.0,-999.0000,-999.000,  -999.0,-999.000
   31WTTUNES_1,  P17C,    15,  1,     35,     35,2,19910607,1123, 34.5883,-132.4417, 5091,   4989.1,   1.5600,  34.6830,2,  34.6852,2,    151.9,2,  1.1251,    151.6,2,   155.51,2,    36.16,2,     0.01,2,     2.51,2,    0.007,2,    0.009,3, -999.000,9,-999.0000,9,  -999.00,9,   -999.0,9,  -999.00,9,   -999.0,9,   -999.0,9,  -999.0,-999.0000,-999.000,  -999.0,-999.000
   31WTTUNES_1,  P17C,    15,  1,     36,     36,2,19910607,1123, 34.5883,-132.4417, 5091,   5188.6,   1.5849,  34.6846,2,  34.6840,2,   -999.0,9,  1.1246,    149.9,2,   155.70,2,    36.36,2,     0.00,2,     2.51,2,    0.002,2,    0.008,2, -999.000,9,-999.0000,9,  -999.00,9,   -999.0,9,  -999.00,9,   -999.0,9,   -999.0,9,  -999.0,-999.0000,-999.000,  -999.0,-999.000