BOTTLE,20220819CCHSIOAMB
EXPOCODE,SECT_ID,STNNBR,CASTNO,SAMPNO,BTLNBR,BTLNBR_FLAG_W,DATE,TIME,LATITUDE,LONGITUDE,DEPTH,CTDPRS,CTDTMP,CTDSAL,CTDSAL_FLAG_W,SALNTY,SALNTY_FLAG_W,CTDOXY,CTDOXY_FLAG_W,THETA,OXYGEN,OXYGEN_FLAG_W,SILCAT,SILCAT_FLAG_W,NITRAT,NITRAT_FLAG_W,NITRIT,NITRIT_FLAG_W,PHSPHT,PHSPHT_FLAG_W,CFC-11,CFC-11_FLAG_W,CFC-12,CFC-12_FLAG_W,TRITUM,TRITUM_FLAG_W,HELIUM,HELIUM_FLAG_W,DELHE3,DELHE3_FLAG_W,DELC14,DELC14_FLAG_W,DELC13,DELC13_FLAG_W,TCARBN,TCARBN_FLAG_W,ALKALI,ALKALI_FLAG_W,C14ERR,HELIER,DELHER,C13ERR,TRITER
,,,,,,,,,,,,DBAR,ITS-90,PSS-78,,PSS-78,,UMOL/KG,,DEG C,UMOL/KG,,UMOL/KG,,UMOL/KG,,UMOL/KG,,UMOL/KG,,PMOL/KG,,PMOL/KG,,TU,,NMOL/KG,,PERCNT,,/MILLE,,/MILLE,,UMOL/KG,,UMOL/KG,,/MILLE,NMOL/KG,PERCNT,/MILLE,TU
   31WTTUNES_1,  P17C,    17,  2,      1,      1,2,19910608,1508, 34.5983,-134.9633, 5141,      1.3,  15.9150,  33.0655,2,  33.0678,2,   -999.0,9, 15.9148,    256.5,2,     3.23,2,     0.20,2,     0.00,2,     0.40,2, -999.000,9, -999.000,9,    2.557,2,   1.8290,2,    -1.11,2,     84.3,6,     1.70,2,   1987.4,2,   2240.9,2,     4.4,  0.0090,   0.150,  -999.0,   0.016
   31WTTUNES_1,  P17C,    17,  2,      2,      2,2,19910608,1508, 34.5983,-134.9633, 5141,     52.9,  14.1403,  33.0810,2,  33.0779,2,    266.2,2, 14.1327,    268.0,2,     3.13,2,     0.20,2,     0.00,2,     0.39,2, -999.000,9, -999.000,9,    2.345,2,   1.8410,2,    -1.04,2,   -999.0,9,  -999.00,9,   1982.5,2,   2228.5,2,  -999.0,  0.0090,   0.150,  -999.0,   0.011
   31WTTUNES_1,  P17C,    17,  2,      3,      3,2,19910608,1508, 34.5983,-134.9633, 5141,     78.8,  13.7854,  33.1514,2,  33.1550,2,    265.8,2, 13.7743,    264.2,2,     3.13,2,     0.20,2,     0.00,2,     0.41,2, -999.000,9, -999.000,9, -999.000,9,-999.0000,9,  -999.00,9,     83.9,2,     1.72,2,   1983.3,2,   -999.0,9,     5.5,-999.0000,-999.000,  -999.0,-999.000
   31WTTUNES_1,  P17C,    17,  2,      4,      4,2,19910608,1508, 34.5983,-134.9633, 5141,     99.9,  13.7414,  33.2247,2,  33.2202,2,    260.8,2, 13.7274,    258.6,2,     3.13,2,     0.20,2,     0.02,2,     0.43,2, -999.000,9, -999.000,9,    2.326,2,   1.8190,2,    -0.78,2,   -999.0,9,  -999.00,9,   1975.9,2,   -999.0,9,  -999.0,  0.0090,   0.150,  -999.0,   0.016
   31WTTUNES_1,  P17C,    17,  2,      5,      5,2,19910608,1508, 34.5983,-134.9633, 5141,    126.4,  11.5050,  33.0753,2,  33.0639,2,    247.7,2, 11.4893,    247.3,2,     6.17,2,     5.19,2,     0.07,2,     0.77,2, -999.000,9, -999.000,9, -999.000,9,-999.0000,9,  -999.00,9,   -999.0,9,  -999.00,9,   2014.4,2,   -999.0,9,  -999.0,-999.0000,-999.000,  -999.0,-999.000
   31WTTUNES_1,  P17C,    17,  2,      6,      6,2,19910608,1508, 34.5983,-134.9633, 5141,    152.4,   9.7945,  33.1200,2,  33.1050,2,    238.2,2,  9.7776,    238.5,2,    10.18,2,    10.67,2,     0.01,2,     1.05,2, -999.000,9, -999.000,9,    2.297,2,   1.8410,2,     0.60,2,     75.2,2,     1.03,2,   2044.5,2,   2201.6,2,     5.3,  0.0090,   0.150,  -999.0,   0.015
   31WTTUNES_1,  P17C,    17,  2,      7,      7,2,19910608,1508, 34.5983,-134.9633, 5141,    178.0,   8.7030,  33.1434,2,  33.1671,2,    226.1,2,  8.6845,    223.9,2,    15.17,2,    15.46,2,     0.01,2,     1.35,2, -999.000,9, -999.000,9, -999.000,5,   1.8690,2,     1.77,2,   -999.0,9,  -999.00,9,   2049.9,2,   2226.9,2,  -999.0,  0.0090,   0.150,  -999.0,-999.000
   31WTTUNES_1,  P17C,    17,  2,      8,      8,2,19910608,1508, 34.5983,-134.9633, 5141,    203.0,   8.3561,  33.4471,2,  33.4333,2,    203.4,2,  8.3355,    210.5,2,    18.39,2,    17.61,2,     0.00,2,     1.42,2, -999.000,9, -999.000,9, -999.000,5,   1.8530,2,     3.18,2,     78.1,2,     0.41,2,   2096.8,2,   2237.9,2,     3.0,  0.0090,   0.150,  -999.0,-999.000
   31WTTUNES_1,  P17C,    17,  2,      9,      9,2,19910608,1508, 34.5983,-134.9633, 5141,    252.8,   8.0093,  33.8035,2,  33.8089,2,    207.4,2,  7.9840,    208.8,2,    23.67,2,    18.97,2,     0.00,2,     1.43,2, -999.000,9, -999.000,9,    2.199,2,   1.8680,2,     4.66,2,     46.8,2,    -0.02,2,   2114.0,2,   2263.9,2,     3.4,  0.0090,   0.150,  -999.0,   0.015
   31WTTUNES_1,  P17C,    17,  2,     10,     10,2,19910608,1508, 34.5983,-134.9633, 5141,    302.4,   7.6994,  33.9752,2,  33.9724,2,    173.0,2,  7.6698,    140.7,2,    37.55,2,    26.70,2,     0.00,2,     1.99,2, -999.000,9, -999.000,9,    1.996,2,   1.8750,2,    11.42,2,      7.2,2,    -0.51,3,   2177.6,2,   2285.2,2,     4.1,  0.0090,   0.150,  -999.0,   0.014
   31WTTUNES_1,  P17C,    17,  2,     11,     11,2,19910608,1508, 34.5983,-134.9633, 5141,    353.9,   6.8858,  33.9811,2,  33.9748,2,    147.7,2,  6.8531,    133.0,2,    46.65,2,    28.95,2,     0.00,2,     2.09,2, -999.000,9, -999.000,9, -999.000,5,   1.9060,2,    14.52,2,    -17.6,2,    -0.27,3,   2186.1,2,   2302.8,2,     3.4,  0.0090,   0.150,  -999.0,-999.000
   31WTTUNES_1,  P17C,    17,  2,     12,     12,2,19910608,1508, 34.5983,-134.9633, 5141,    404.7,   6.2911,  33.9936,2,  33.9971,2,    122.6,2,  6.2554,    101.8,2,    57.31,2,    33.05,2,     0.01,2,     2.43,2, -999.000,9, -999.000,9,    1.491,2,   1.8920,2,    16.53,2,    -50.4,2,    -0.46,2,   2225.6,2,   -999.0,9,     2.8,  0.0090,   0.150,  -999.0,   0.013
   31WTTUNES_1,  P17C,    17,  2,     13,     13,2,19910608,1508, 34.5983,-134.9633, 5141,    502.6,   5.1867,  34.0274,2,  34.0230,2,     70.3,2,  5.1463,     63.3,2,    77.16,2,    38.24,2,     0.00,2,     2.77,2, -999.000,9, -999.000,9,    1.141,2,   1.9520,2,    17.38,2,   -105.8,2,    -0.86,2,   2275.3,2,   -999.0,9,     3.1,  0.0090,   0.150,  -999.0,   0.011
   31WTTUNES_1,  P17C,    17,  2,     14,     14,2,19910608,1508, 34.5983,-134.9633, 5141,    606.7,   4.6820,  34.0994,2,  34.0894,2,     33.7,2,  4.6351,     38.4,2,    91.43,2,    41.27,2,     0.00,2,     2.99,2, -999.000,9, -999.000,9,    0.583,2,   1.9050,2,    15.55,2,   -148.8,2,    -0.89,2,   2302.8,2,   -999.0,9,     3.2,  0.0090,   0.150,  -999.0,   0.008
   31WTTUNES_1,  P17C,    17,  2,     15,     15,2,19910608,1508, 34.5983,-134.9633, 5141,    705.4,   4.3582,  34.1909,2,  34.1870,2,     17.8,2,  4.3048,     19.6,2,   104.23,2,    43.12,2,     0.00,2,     3.14,2, -999.000,9, -999.000,9,    0.138,2,   0.0000,2,  -999.00,9,   -163.9,2,    -1.01,2,   2332.8,2,   -999.0,9,     3.0,-999.0000,   0.150,  -999.0,   0.004
   31WTTUNES_1,  P17C,    17,  2,     16,     16,2,19910608,1508, 34.5983,-134.9633, 5141,    808.3,   4.1073,  34.2994,2,  34.2988,2,     10.2,2,  4.0469,     10.0,2,   114.88,2,    43.80,2,     0.00,2,     3.24,2, -999.000,9, -999.000,9,    0.015,2,   1.8970,2,    13.96,2,   -176.9,2,    -0.87,2,   2352.9,2,   -999.0,9,     2.5,  0.0090,   0.150,  -999.0,   0.002
   31WTTUNES_1,  P17C,    17,  2,     17,     17,2,19910608,1508, 34.5983,-134.9633, 5141,    907.0,   3.8795,  34.3740,2,  34.3704,2,     11.1,2,  3.8125,     10.8,2,   121.62,2,    43.99,2,     0.00,2,     3.25,2, -999.000,9, -999.000,9, -999.000,9,-999.0000,9,  -999.00,9,   -195.0,2,    -1.16,3,   2351.1,2,   -999.0,9,     2.5,-999.0000,-999.000,  -999.0,-999.000
   31WTTUNES_1,  P17C,    17,  2,     18,     18,2,19910608,1508, 34.5983,-134.9633, 5141,   1009.7,   3.6416,  34.4373,2,  34.4336,2,     17.4,2,  3.5680,     17.3,2,   127.48,2,    44.19,2,     0.00,2,     3.24,2, -999.000,9, -999.000,9,    0.002,2,   1.8870,2,    17.38,2,   -209.2,2,    -0.76,2,   2365.0,2,   -999.0,9,     3.1,  0.0090,   0.150,  -999.0,   0.002
   31WTTUNES_1,  P17C,    17,  2,     19,     19,2,19910608,1508, 34.5983,-134.9633, 5141,   1212.0,   3.1999,  34.4998,2,  34.4969,2,     31.1,2,  3.1137,     31.1,2,   137.25,2,    43.60,2,     0.00,2,     3.19,2, -999.000,9, -999.000,9,    0.001,2,   1.8980,2,    20.20,2,   -213.8,2,    -0.60,2,   -999.0,9,   -999.0,9,     2.6,  0.0090,   0.150,  -999.0,   0.001
   31WTTUNES_1,  P17C,    17,  2,     20,     20,4,19910608,1508, 34.5983,-134.9633, 5141,   1212.0,   3.1999,  34.4998,2,  34.4930,2,     31.1,2,  3.1137,     30.2,2,   136.96,2,    43.31,2,     0.00,2,     3.18,2, -999.000,9, -999.000,9, -999.000,9,   1.8800,2,    20.10,2,   -999.0,9,  -999.00,9,   2370.8,2,   -999.0,9,  -999.0,-999.0000,-999.000,  -999.0,-999.000
   31WTTUNES_1,  P17C,    17,  2,     21,     21,2,19910608,1508, 34.5983,-134.9633, 5141,   1617.2,   2.5383,  34.5664,2,  34.5613,2,     54.0,2,  2.4263,     55.6,2,   152.49,2,    42.03,2,     0.00,2,     3.05,2, -999.000,9, -999.000,9, -999.000,9,   1.9120,2,    22.90,2,   -999.0,9,  -999.00,9,   -999.0,9,   -999.0,9,  -999.0,-999.0000,-999.000,  -999.0,-999.000
   31WTTUNES_1,  P17C,    17,  2,     22,     22,2,19910608,1508, 34.5983,-134.9633, 5141,   1824.6,   2.2025,  34.5919,2,  34.5860,2,     61.3,2,  2.0779,     65.4,2,   162.85,2,    41.25,2,     0.00,2,     2.99,2, -999.000,9, -999.000,9, -999.000,9,   1.9240,2,    23.55,2,   -999.0,9,  -999.00,9,   2368.4,2,   -999.0,9,  -999.0,-999.0000,-999.000,  -999.0,-999.000
   31WTTUNES_1,  P17C,    17,  2,     23,     23,2,19910608,1508, 34.5983,-134.9633, 5141,   2020.9,   2.0087,  34.6084,2,  34.6067,2,     71.8,2,  1.8704,     74.3,2,   166.95,2,    40.86,2,     0.00,2,     2.93,2, -999.000,9, -999.000,9, -999.000,9,   1.9280,2,    24.58,2,   -999.0,9,  -999.00,9,   2366.6,2,   -999.0,9,  -999.0,-999.0000,-999.000,  -999.0,-999.000
   31WTTUNES_1,  P17C,    17,  2,     24,     24,2,19910608,1508, 34.5983,-134.9633, 5141,   2269.9,   1.8328,  34.6254,2,  34.6240,2,     83.9,2,  1.6761,     84.9,2,   172.42,2,    39.78,2,     0.00,2,     2.88,2, -999.000,9, -999.000,9, -999.000,9,   1.9300,2,    24.51,2,   -999.0,9,  -999.00,9,   2368.1,2,   -999.0,9,  -999.0,-999.0000,-999.000,  -999.0,-999.000
   31WTTUNES_1,  P17C,    17,  2,     25,     25,2,19910608,1508, 34.5983,-134.9633, 5141,   2530.7,   1.7238,  34.6412,2,  34.6399,2,     97.7,2,  1.5460,     95.3,2,   172.03,2,    39.29,2,     0.00,2,     2.81,2, -999.000,9, -999.000,9, -999.000,9,   1.9310,2,    21.64,2,   -999.0,9,  -999.00,9,   -999.0,9,   -999.0,9,  -999.0,-999.0000,-999.000,  -999.0,-999.000
   31WTTUNES_1,  P17C,    17,  2,     26,     26,2,19910608,1508, 34.5983,-134.9633, 5141,   2785.5,   1.6289,  34.6520,2,  34.6485,2,    106.9,2,  1.4296,    106.9,2,   171.83,2,    38.71,2,     0.01,2,     2.76,2, -999.000,9, -999.000,9, -999.000,9,   1.9160,2,    20.06,2,   -999.0,9,  -999.00,9,   2358.7,2,   -999.0,9,  -999.0,-999.0000,-999.000,  -999.0,-999.000
   31WTTUNES_1,  P17C,    17,  2,     27,     27,9,19910608,1508, 34.5983,-134.9633, 5141,   3041.2,   1.5730,  34.6587,2,-999.0000,9,    115.7,2,  1.3507,   -999.0,9,  -999.00,9,  -999.00,9,  -999.00,9,  -999.00,9, -999.000,9, -999.000,9, -999.000,9,-999.0000,9,  -999.00,9,   -999.0,9,  -999.00,9,   -999.0,9,   -999.0,9,  -999.0,-999.0000,-999.000,  -999.0,-999.000
   31WTTUNES_1,  P17C,    17,  2,     28,     28,2,19910608,1508, 34.5983,-134.9633, 5141,   3283.5,   1.5250,  34.6639,2,  34.6635,2,    124.4,2,  1.2801,    122.5,2,   168.12,2,    37.53,2,     0.00,2,     2.65,2, -999.000,9, -999.000,9, -999.000,9,   1.9090,2,    17.06,2,   -999.0,9,  -999.00,9,   2342.1,2,   -999.0,9,  -999.0,-999.0000,-999.000,  -999.0,-999.000
   31WTTUNES_1,  P17C,    17,  2,     29,     29,2,19910608,1508, 34.5983,-134.9633, 5141,   3552.4,   1.4900,  34.6739,2,  34.6708,2,    134.3,2,  1.2188,    132.2,2,   164.50,2,    36.85,2,     0.00,2,     2.61,2, -999.000,9, -999.000,9, -999.000,9,   1.9100,2,    16.58,2,   -999.0,9,  -999.00,9,   2339.8,2,   -999.0,9,  -999.0,-999.0000,-999.000,  -999.0,-999.000
   31WTTUNES_1,  P17C,    17,  2,     30,     30,4,19910608,1508, 34.5983,-134.9633, 5141,   3552.4,   1.4900,  34.6739,2,  34.6708,2,    134.3,2,  1.2188,    133.6,2,   165.38,2,    37.04,2,     0.00,2,     2.61,2, -999.000,9, -999.000,9, -999.000,9,   1.9100,2,    16.50,2,   -999.0,9,  -999.00,9,   2349.0,2,   -999.0,9,  -999.0,-999.0000,-999.000,  -999.0,-999.000
   31WTTUNES_1,  P17C,    17,  2,     31,     31,4,19910608,1508, 34.5983,-134.9633, 5141,   3807.9,   1.4790,  34.6764,2,  34.6776,2,    140.1,2,  1.1814,    138.2,2,   163.62,2,    36.75,2,     0.00,2,     2.58,2, -999.000,9, -999.000,9, -999.000,9,   1.9200,2,    16.81,2,   -999.0,9,  -999.00,9,   2337.8,2,   -999.0,9,  -999.0,-999.0000,-999.000,  -999.0,-999.000
   31WTTUNES_1,  P17C,    17,  2,     32,     32,4,19910608,1508, 34.5983,-134.9633, 5141,   4067.8,   1.4820,  34.6779,2,  34.6804,2,    144.3,2,  1.1563,    143.0,2,   161.08,2,    36.46,2,     0.00,2,     2.55,2, -999.000,9, -999.000,9, -999.000,9,   1.9310,2,    16.38,2,   -999.0,9,  -999.00,9,   2340.6,2,   -999.0,9,  -999.0,-999.0000,-999.000,  -999.0,-999.000
   31WTTUNES_1,  P17C,    17,  2,     33,     33,2,19910608,1508, 34.5983,-134.9633, 5141,   4577.5,   1.5140,  34.6838,2,  34.6832,2,    150.2,2,  1.1296,    148.3,2,   156.39,2,    36.16,2,     0.00,2,     2.55,4, -999.000,9, -999.000,9, -999.000,9,   1.9100,2,    15.58,2,   -999.0,9,  -999.00,9,   2332.2,2,   -999.0,9,  -999.0,-999.0000,-999.000,  -999.0,-999.000
   31WTTUNES_1,  P17C,    17,  2,     34,     34,2,19910608,1508, 34.5983,-134.9633, 5141,   4837.3,   1.5390,  34.6822,2,  34.6836,2,    152.1,2,  1.1231,    150.4,2,   154.24,2,    36.16,2,     0.01,2,     2.51,2, -999.000,9, -999.000,9,    0.007,2,   1.9110,2,    15.95,2,   -999.0,9,  -999.00,9,   2333.5,2,   -999.0,9,  -999.0,-999.0000,-999.000,  -999.0,   0.001
   31WTTUNES_1,  P17C,    17,  2,     35,     35,2,19910608,1508, 34.5983,-134.9633, 5141,   5103.1,   1.5710,  34.6828,2,  34.6859,3,    150.8,2,  1.1217,    151.4,2,   153.85,2,    36.16,2,     0.00,2,     2.52,2, -999.000,9, -999.000,9, -999.000,9,   1.9130,2,    15.53,2,   -999.0,9,  -999.00,9,   2335.9,2,   -999.0,9,  -999.0,-999.0000,-999.000,  -999.0,-999.000
   31WTTUNES_1,  P17C,    17,  2,     36,     36,2,19910608,1508, 34.5983,-134.9633, 5141,   5221.5,   1.5839,  34.6860,2,  34.6818,3,   -999.0,9,  1.1196,    151.9,2,   153.94,2,    36.16,2,     0.00,2,     2.51,2, -999.000,9, -999.000,9, -999.000,9,   1.9080,2,    15.65,2,   -999.0,9,  -999.00,9,   2330.4,2,   -999.0,9,  -999.0,-999.0000,-999.000,  -999.0,-999.000