BOTTLE,20220819CCHSIOAMB
EXPOCODE,SECT_ID,STNNBR,CASTNO,SAMPNO,BTLNBR,BTLNBR_FLAG_W,DATE,TIME,LATITUDE,LONGITUDE,DEPTH,CTDPRS,CTDTMP,CTDSAL,CTDSAL_FLAG_W,SALNTY,SALNTY_FLAG_W,CTDOXY,CTDOXY_FLAG_W,THETA,OXYGEN,OXYGEN_FLAG_W,SILCAT,SILCAT_FLAG_W,NITRAT,NITRAT_FLAG_W,NITRIT,NITRIT_FLAG_W,PHSPHT,PHSPHT_FLAG_W,CFC-11,CFC-11_FLAG_W,CFC-12,CFC-12_FLAG_W,TRITUM,TRITUM_FLAG_W,HELIUM,HELIUM_FLAG_W,DELHE3,DELHE3_FLAG_W,DELC14,DELC14_FLAG_W,DELC13,DELC13_FLAG_W,TCARBN,TCARBN_FLAG_W,ALKALI,ALKALI_FLAG_W,C14ERR,HELIER,DELHER,C13ERR,TRITER
,,,,,,,,,,,,DBAR,ITS-90,PSS-78,,PSS-78,,UMOL/KG,,DEG C,UMOL/KG,,UMOL/KG,,UMOL/KG,,UMOL/KG,,UMOL/KG,,PMOL/KG,,PMOL/KG,,TU,,NMOL/KG,,PERCNT,,/MILLE,,/MILLE,,UMOL/KG,,UMOL/KG,,/MILLE,NMOL/KG,PERCNT,/MILLE,TU
   31WTTUNES_1,  P17C,    42,  1,      1,      1,2,19910616,1652, 22.0367,-134.9967, 5245,      0.5,  21.4784,  34.8942,2,  34.8989,2,    220.5,3, 21.4783,    225.1,2,     2.82,2,     0.04,2,     0.01,2,     0.12,2, -999.000,9, -999.000,9, -999.000,9,-999.0000,9,  -999.00,9,    110.7,2,     1.35,2,   -999.0,9,   -999.0,9,     4.0,-999.0000,-999.000,  -999.0,-999.000
   31WTTUNES_1,  P17C,    42,  1,      2,      2,2,19910616,1652, 22.0367,-134.9967, 5245,     54.8,  20.7535,  35.0012,2,  35.0236,2,    230.6,2, 20.7432,    228.6,2,     2.45,2,     0.09,2,     0.01,2,     0.10,2, -999.000,9, -999.000,9, -999.000,9,-999.0000,9,  -999.00,9,    107.0,2,     1.43,2,   -999.0,9,   -999.0,9,     3.0,-999.0000,-999.000,  -999.0,-999.000
   31WTTUNES_1,  P17C,    42,  1,      3,      3,2,19910616,1652, 22.0367,-134.9967, 5245,     84.5,  20.3495,  35.0462,2,  35.0425,2,    234.1,2, 20.3337,    227.3,2,     2.62,2,     0.13,2,     0.01,2,     0.11,2, -999.000,9, -999.000,9, -999.000,9,-999.0000,9,  -999.00,9,    116.9,2,     1.36,2,   -999.0,9,   -999.0,9,     4.8,-999.0000,-999.000,  -999.0,-999.000
   31WTTUNES_1,  P17C,    42,  1,      4,      4,2,19910616,1652, 22.0367,-134.9967, 5245,    109.2,  19.7783,  35.0432,2,  35.0394,2,    230.4,2, 19.7583,    227.6,2,     2.62,2,     0.12,2,     0.01,2,     0.11,2, -999.000,9, -999.000,9, -999.000,9,-999.0000,9,  -999.00,9,    113.0,2,     1.37,2,   -999.0,9,   -999.0,9,     4.7,-999.0000,-999.000,  -999.0,-999.000
   31WTTUNES_1,  P17C,    42,  1,      5,      5,2,19910616,1652, 22.0367,-134.9967, 5245,    129.8,  19.5060,  35.0335,2,  35.0347,2,    225.0,2, 19.4825,    224.4,2,     2.43,2,     0.14,2,     0.03,2,     0.12,2, -999.000,9, -999.000,9, -999.000,9,-999.0000,9,  -999.00,9,    107.8,2,     1.27,2,   -999.0,9,   -999.0,9,     3.3,-999.0000,-999.000,  -999.0,-999.000
   31WTTUNES_1,  P17C,    42,  1,      6,      6,3,19910616,1652, 22.0367,-134.9967, 5245,    194.9,  15.8986,  34.5343,2,-999.0000,5,    195.9,2, 15.8680,   -999.0,5,  -999.00,5,  -999.00,5,  -999.00,5,  -999.00,5, -999.000,9, -999.000,9, -999.000,9,-999.0000,9,  -999.00,9,   -999.0,9,  -999.00,9,   -999.0,9,   -999.0,9,  -999.0,-999.0000,-999.000,  -999.0,-999.000
   31WTTUNES_1,  P17C,    42,  1,      7,      7,2,19910616,1652, 22.0367,-134.9967, 5245,    225.0,  13.9440,  34.3433,2,  34.3363,2,    189.2,2, 13.9117,    192.7,2,     8.53,2,     8.19,2,     0.01,2,     0.66,2, -999.000,9, -999.000,9, -999.000,9,-999.0000,9,  -999.00,9,     97.0,6,     0.67,6,   -999.0,9,   -999.0,9,     2.2,-999.0000,-999.000,  -999.0,-999.000
   31WTTUNES_1,  P17C,    42,  1,      8,      8,2,19910616,1652, 22.0367,-134.9967, 5245,    254.1,  11.4611,  34.0730,2,  34.0690,2,    174.8,2, 11.4291,    177.0,2,    15.00,2,    14.36,2,     0.01,2,     1.11,2, -999.000,9, -999.000,9, -999.000,9,-999.0000,9,  -999.00,9,     35.0,2,     0.52,2,   -999.0,9,   -999.0,9,     4.8,-999.0000,-999.000,  -999.0,-999.000
   31WTTUNES_1,  P17C,    42,  1,      9,      9,2,19910616,1652, 22.0367,-134.9967, 5245,    297.8,  10.0869,  34.1357,2,  34.1347,2,    144.9,2, 10.0524,    155.0,2,    23.26,2,    19.85,2,     0.01,2,     1.48,2, -999.000,9, -999.000,9, -999.000,9,-999.0000,9,  -999.00,9,     28.9,2,     0.19,2,   -999.0,9,   -999.0,9,     5.9,-999.0000,-999.000,  -999.0,-999.000
   31WTTUNES_1,  P17C,    42,  1,     10,     10,2,19910616,1652, 22.0367,-134.9967, 5245,    356.9,   8.2507,  34.1135,2,  34.1155,2,    109.5,2,  8.2140,    112.9,2,    39.61,2,    27.11,2,     0.01,2,     2.03,2, -999.000,9, -999.000,9, -999.000,9,-999.0000,9,  -999.00,9,    -44.2,2,    -0.13,2,   -999.0,9,   -999.0,9,     7.7,-999.0000,-999.000,  -999.0,-999.000
   31WTTUNES_1,  P17C,    42,  1,     11,     11,2,19910616,1652, 22.0367,-134.9967, 5245,    405.7,   7.3087,  34.1404,2,  34.1422,2,     73.8,2,  7.2697,     80.3,2,    52.18,2,    31.73,2,     0.01,2,     2.39,2, -999.000,9, -999.000,9, -999.000,9,-999.0000,9,  -999.00,9,    -80.1,2,    -0.24,2,   -999.0,9,   -999.0,9,     2.6,-999.0000,-999.000,  -999.0,-999.000
   31WTTUNES_1,  P17C,    42,  1,     12,     12,2,19910616,1652, 22.0367,-134.9967, 5245,    508.6,   6.1807,  34.2703,2,  34.2740,2,     28.2,2,  6.1357,     25.9,2,    72.11,2,    38.24,2,     0.01,2,     2.91,2, -999.000,9, -999.000,9, -999.000,9,-999.0000,9,  -999.00,9,   -999.0,9,  -999.00,9,   -999.0,9,   -999.0,9,  -999.0,-999.0000,-999.000,  -999.0,-999.000
   31WTTUNES_1,  P17C,    42,  1,     13,     13,3,19910616,1652, 22.0367,-134.9967, 5245,    606.1,   5.7967,  34.3790,2,-999.0000,5,     19.4,2,  5.7443,   -999.0,5,  -999.00,5,  -999.00,5,  -999.00,5,  -999.00,5, -999.000,9, -999.000,9, -999.000,9,-999.0000,9,  -999.00,9,     93.2,4,     1.37,4,   -999.0,9,   -999.0,9,     3.3,-999.0000,-999.000,  -999.0,-999.000
   31WTTUNES_1,  P17C,    42,  1,     14,     14,2,19910616,1652, 22.0367,-134.9967, 5245,    707.3,   5.3274,  34.4231,2,  34.4255,2,     19.9,2,  5.2683,     21.0,2,    88.06,2,    41.53,2,     0.01,2,     3.10,2, -999.000,9, -999.000,9, -999.000,9,-999.0000,9,  -999.00,9,   -999.0,9,  -999.00,9,   -999.0,9,   -999.0,9,  -999.0,-999.0000,-999.000,  -999.0,-999.000
   31WTTUNES_1,  P17C,    42,  1,     15,     15,2,19910616,1652, 22.0367,-134.9967, 5245,    809.5,   4.9717,  34.4664,2,  34.4690,2,     23.5,2,  4.9056,     19.0,2,    94.69,2,    42.66,2,     0.01,2,     3.14,2, -999.000,9, -999.000,9, -999.000,9,-999.0000,9,  -999.00,9,   -192.1,2,    -0.45,2,   -999.0,9,   -999.0,9,     2.5,-999.0000,-999.000,  -999.0,-999.000
   31WTTUNES_1,  P17C,    42,  1,     16,     16,2,19910616,1652, 22.0367,-134.9967, 5245,    907.3,   4.5522,  34.4825,2,  34.4859,2,     28.5,2,  4.4803,     28.3,2,   102.04,2,    42.83,2,     0.01,2,     3.13,2, -999.000,9, -999.000,9, -999.000,9,-999.0000,9,  -999.00,9,   -999.0,9,  -999.00,9,   -999.0,9,   -999.0,9,  -999.0,-999.0000,-999.000,  -999.0,-999.000
   31WTTUNES_1,  P17C,    42,  1,     17,     17,2,19910616,1652, 22.0367,-134.9967, 5245,   1015.9,   4.1809,  34.5055,2,  34.5066,2,     34.0,2,  4.1025,     31.8,2,   109.38,2,    42.89,2,     0.00,2,     3.12,2, -999.000,9, -999.000,9, -999.000,9,-999.0000,9,  -999.00,9,   -206.0,2,    -0.46,2,   -999.0,9,   -999.0,9,     2.4,-999.0000,-999.000,  -999.0,-999.000
   31WTTUNES_1,  P17C,    42,  1,     18,     18,2,19910616,1652, 22.0367,-134.9967, 5245,   1223.6,   3.6010,  34.5362,2,  34.5356,2,     44.5,2,  3.5101,     42.7,2,   121.75,2,    42.52,2,     0.01,2,     3.09,2, -999.000,9, -999.000,9, -999.000,9,-999.0000,9,  -999.00,9,   -999.0,9,  -999.00,9,   -999.0,9,   -999.0,9,  -999.0,-999.0000,-999.000,  -999.0,-999.000
   31WTTUNES_1,  P17C,    42,  1,     19,     19,2,19910616,1652, 22.0367,-134.9967, 5245,   1418.1,   3.0854,  34.5636,2,  34.5665,2,     53.0,2,  2.9835,     55.8,2,   133.58,2,    42.25,2,     0.01,2,     3.05,2, -999.000,9, -999.000,9, -999.000,9,-999.0000,9,  -999.00,9,   -240.5,2,    -0.45,2,   -999.0,9,   -999.0,9,     2.6,-999.0000,-999.000,  -999.0,-999.000
   31WTTUNES_1,  P17C,    42,  1,     20,     20,2,19910616,1652, 22.0367,-134.9967, 5245,   1624.0,   2.6858,  34.5830,2,  34.5865,2,     65.0,2,  2.5714,     64.9,2,   142.35,2,    41.29,2,     0.01,2,     2.98,2, -999.000,9, -999.000,9, -999.000,9,-999.0000,9,  -999.00,9,   -999.0,9,  -999.00,9,   -999.0,9,   -999.0,9,  -999.0,-999.0000,-999.000,  -999.0,-999.000
   31WTTUNES_1,  P17C,    42,  1,     21,     21,2,19910616,1652, 22.0367,-134.9967, 5245,   1821.1,   2.3904,  34.6031,2,  34.6042,2,     75.5,2,  2.2634,     77.5,2,   148.97,2,    40.82,2,     0.00,2,     2.91,2, -999.000,9, -999.000,9, -999.000,9,-999.0000,9,  -999.00,9,   -256.3,2,    -0.34,2,   -999.0,9,   -999.0,9,     2.5,-999.0000,-999.000,  -999.0,-999.000
   31WTTUNES_1,  P17C,    42,  1,     22,     22,2,19910616,1652, 22.0367,-134.9967, 5245,   2024.8,   2.1117,  34.6236,2,  34.6237,2,     87.6,2,  1.9715,     92.5,3,   154.15,2,    39.92,2,     0.01,2,     2.84,2, -999.000,9, -999.000,9, -999.000,9,-999.0000,9,  -999.00,9,   -999.0,9,  -999.00,9,   -999.0,9,   -999.0,9,  -999.0,-999.0000,-999.000,  -999.0,-999.000
   31WTTUNES_1,  P17C,    42,  1,     23,     23,2,19910616,1652, 22.0367,-134.9967, 5245,   2229.4,   1.9208,  34.6373,2,  34.6373,2,     98.1,2,  1.7661,     97.4,2,   157.54,2,    39.40,2,     0.00,2,     2.78,2, -999.000,9, -999.000,9, -999.000,9,-999.0000,9,  -999.00,9,   -999.0,9,  -999.00,9,   -999.0,9,   -999.0,9,  -999.0,-999.0000,-999.000,  -999.0,-999.000
   31WTTUNES_1,  P17C,    42,  1,     24,     24,2,19910616,1652, 22.0367,-134.9967, 5245,   2431.0,   1.7879,  34.6479,2,  34.6483,2,    105.3,2,  1.6178,    106.4,2,   160.38,2,    38.93,2,     0.01,2,     2.74,2, -999.000,9, -999.000,9, -999.000,9,-999.0000,9,  -999.00,9,   -999.0,9,  -999.00,9,   -999.0,9,   -999.0,9,  -999.0,-999.0000,-999.000,  -999.0,-999.000
   31WTTUNES_1,  P17C,    42,  1,     25,     25,2,19910616,1652, 22.0367,-134.9967, 5245,   2630.6,   1.6929,  34.6555,2,  34.6561,2,    112.4,2,  1.5065,    113.0,2,   161.43,2,    38.36,2,     0.01,2,     2.69,2, -999.000,9, -999.000,9, -999.000,9,-999.0000,9,  -999.00,9,   -999.0,9,  -999.00,9,   -999.0,9,   -999.0,9,  -999.0,-999.0000,-999.000,  -999.0,-999.000
   31WTTUNES_1,  P17C,    42,  1,     26,     26,2,19910616,1652, 22.0367,-134.9967, 5245,   2834.2,   1.6149,  34.6612,2,  34.6626,2,    119.8,2,  1.4114,    124.7,3,   162.84,2,    38.05,2,     0.01,2,     2.65,2, -999.000,9, -999.000,9, -999.000,9,-999.0000,9,  -999.00,9,   -999.0,9,  -999.00,9,   -999.0,9,   -999.0,9,  -999.0,-999.0000,-999.000,  -999.0,-999.000
   31WTTUNES_1,  P17C,    42,  1,     27,     27,2,19910616,1652, 22.0367,-134.9967, 5245,   3035.7,   1.5612,  34.6695,2,  34.6699,2,    125.5,2,  1.3396,    126.9,2,   162.28,2,    37.69,2,     0.00,2,     2.62,2, -999.000,9, -999.000,9, -999.000,9,-999.0000,9,  -999.00,9,   -999.0,9,  -999.00,9,   -999.0,9,   -999.0,9,  -999.0,-999.0000,-999.000,  -999.0,-999.000
   31WTTUNES_1,  P17C,    42,  1,     28,     28,2,19910616,1652, 22.0367,-134.9967, 5245,   3290.8,   1.5197,  34.6749,2,  34.6746,2,    132.7,2,  1.2742,    131.5,2,   161.36,2,    37.17,2,     0.01,2,     2.59,2, -999.000,9, -999.000,9, -999.000,9,-999.0000,9,  -999.00,9,   -999.0,9,  -999.00,9,   -999.0,9,   -999.0,9,  -999.0,-999.0000,-999.000,  -999.0,-999.000
   31WTTUNES_1,  P17C,    42,  1,     29,     29,2,19910616,1652, 22.0367,-134.9967, 5245,   3550.3,   1.5053,  34.6785,2,  34.6776,2,    137.6,2,  1.2339,    135.9,2,   160.62,2,    36.87,2,     0.01,2,     2.56,2, -999.000,9, -999.000,9, -999.000,9,-999.0000,9,  -999.00,9,   -999.0,9,  -999.00,9,   -999.0,9,   -999.0,9,  -999.0,-999.0000,-999.000,  -999.0,-999.000
   31WTTUNES_1,  P17C,    42,  1,     30,     30,2,19910616,1652, 22.0367,-134.9967, 5245,   3799.5,   1.4961,  34.6809,2,  34.6802,2,    141.4,2,  1.1989,    140.9,2,   159.51,2,    36.51,2,     0.01,2,     2.55,2, -999.000,9, -999.000,9, -999.000,9,-999.0000,9,  -999.00,9,   -999.0,9,  -999.00,9,   -999.0,9,   -999.0,9,  -999.0,-999.0000,-999.000,  -999.0,-999.000
   31WTTUNES_1,  P17C,    42,  1,     31,     31,2,19910616,1652, 22.0367,-134.9967, 5245,   4060.3,   1.4955,  34.6834,2,  34.6837,2,    145.2,2,  1.1702,    144.9,2,   157.34,2,    36.41,2,     0.01,2,     2.52,2, -999.000,9, -999.000,9, -999.000,9,-999.0000,9,  -999.00,9,   -999.0,9,  -999.00,9,   -999.0,9,   -999.0,9,  -999.0,-999.0000,-999.000,  -999.0,-999.000
   31WTTUNES_1,  P17C,    42,  1,     32,     32,2,19910616,1652, 22.0367,-134.9967, 5245,   4311.9,   1.4842,  34.6856,2,  34.6859,2,    151.7,2,  1.1312,    150.9,2,   152.47,2,    35.89,2,     0.01,2,     2.50,2, -999.000,9, -999.000,9, -999.000,9,-999.0000,9,  -999.00,9,   -999.0,9,  -999.00,9,   -999.0,9,   -999.0,9,  -999.0,-999.0000,-999.000,  -999.0,-999.000
   31WTTUNES_1,  P17C,    42,  1,     33,     33,2,19910616,1652, 22.0367,-134.9967, 5245,   4579.7,   1.4713,  34.6893,2,  34.6881,2,    157.9,2,  1.0880,    157.7,2,   147.61,2,    35.49,2,     0.00,2,     2.46,2, -999.000,9, -999.000,9, -999.000,9,-999.0000,9,  -999.00,9,   -999.0,9,  -999.00,9,   -999.0,9,   -999.0,9,  -999.0,-999.0000,-999.000,  -999.0,-999.000
   31WTTUNES_1,  P17C,    42,  1,     34,     34,2,19910616,1652, 22.0367,-134.9967, 5245,   4827.2,   1.4686,  34.6907,2,  34.6912,2,    162.9,2,  1.0562,    163.8,2,   144.36,2,    35.13,2,     0.01,2,     2.42,2, -999.000,9, -999.000,9, -999.000,9,-999.0000,9,  -999.00,9,   -999.0,9,  -999.00,9,   -999.0,9,   -999.0,9,  -999.0,-999.0000,-999.000,  -999.0,-999.000
   31WTTUNES_1,  P17C,    42,  1,     35,     35,2,19910616,1652, 22.0367,-134.9967, 5245,   5084.2,   1.4815,  34.6927,2,  34.6922,2,    165.5,2,  1.0376,    165.5,2,   141.65,2,    34.93,2,     0.00,2,     2.41,2, -999.000,9, -999.000,9, -999.000,9,-999.0000,9,  -999.00,9,   -999.0,9,  -999.00,9,   -999.0,9,   -999.0,9,  -999.0,-999.0000,-999.000,  -999.0,-999.000
   31WTTUNES_1,  P17C,    42,  1,     36,     36,2,19910616,1652, 22.0367,-134.9967, 5245,   5311.9,   1.5056,  34.6930,2,  34.6920,2,   -999.0,9,  1.0326,    166.9,2,   141.63,2,    34.94,2,     0.00,2,     2.41,2, -999.000,9, -999.000,9, -999.000,9,-999.0000,9,  -999.00,9,   -999.0,9,  -999.00,9,   -999.0,9,   -999.0,9,  -999.0,-999.0000,-999.000,  -999.0,-999.000