BOTTLE,20220819CCHSIOAMB
EXPOCODE,SECT_ID,STNNBR,CASTNO,SAMPNO,BTLNBR,BTLNBR_FLAG_W,DATE,TIME,LATITUDE,LONGITUDE,DEPTH,CTDPRS,CTDTMP,CTDSAL,CTDSAL_FLAG_W,SALNTY,SALNTY_FLAG_W,CTDOXY,CTDOXY_FLAG_W,THETA,OXYGEN,OXYGEN_FLAG_W,SILCAT,SILCAT_FLAG_W,NITRAT,NITRAT_FLAG_W,NITRIT,NITRIT_FLAG_W,PHSPHT,PHSPHT_FLAG_W,CFC-11,CFC-11_FLAG_W,CFC-12,CFC-12_FLAG_W,TRITUM,TRITUM_FLAG_W,HELIUM,HELIUM_FLAG_W,DELHE3,DELHE3_FLAG_W,DELC14,DELC14_FLAG_W,DELC13,DELC13_FLAG_W,TCARBN,TCARBN_FLAG_W,ALKALI,ALKALI_FLAG_W,C14ERR,HELIER,DELHER,C13ERR,TRITER
,,,,,,,,,,,,DBAR,ITS-90,PSS-78,,PSS-78,,UMOL/KG,,DEG C,UMOL/KG,,UMOL/KG,,UMOL/KG,,UMOL/KG,,UMOL/KG,,PMOL/KG,,PMOL/KG,,TU,,NMOL/KG,,PERCNT,,/MILLE,,/MILLE,,UMOL/KG,,UMOL/KG,,/MILLE,NMOL/KG,PERCNT,/MILLE,TU
   31WTTUNES_1,  P17C,    56,  1,      1,      1,2,19910620,2216, 15.0000,-135.0067, 4715,      0.2,  25.4544,  34.5647,2,  34.5686,2,   -999.0,9, 25.4543,    216.2,2,     2.41,2,     0.10,2,     0.01,2,     0.18,2,    1.887,2,    1.038,2, -999.000,9,-999.0000,9,  -999.00,9,   -999.0,9,  -999.00,9,   1949.7,2,   2287.8,2,  -999.0,-999.0000,-999.000,  -999.0,-999.000
   31WTTUNES_1,  P17C,    56,  1,      2,      2,2,19910620,2216, 15.0000,-135.0067, 4715,     47.2,  24.5640,  34.4904,2,  34.4881,2,    220.6,2, 24.5539,    220.6,2,     2.40,2,     0.10,2,     0.01,2,     0.17,2,    1.915,2,    1.034,2, -999.000,9,-999.0000,9,  -999.00,9,   -999.0,9,  -999.00,9,   1953.8,2,   2285.2,2,  -999.0,-999.0000,-999.000,  -999.0,-999.000
   31WTTUNES_1,  P17C,    56,  1,      3,      3,2,19910620,2216, 15.0000,-135.0067, 4715,     77.3,  24.1283,  34.4671,2,  34.4704,2,    223.3,2, 24.1120,    221.0,2,     2.21,2,     0.09,2,     0.01,2,     0.18,2,    1.940,2,    1.098,2, -999.000,9,-999.0000,9,  -999.00,9,   -999.0,9,  -999.00,9,   1954.7,2,   -999.0,9,  -999.0,-999.0000,-999.000,  -999.0,-999.000
   31WTTUNES_1,  P17C,    56,  1,      4,      4,2,19910620,2216, 15.0000,-135.0067, 4715,    101.0,  22.5087,  34.5430,2,  34.5718,2,    228.2,2, 22.4884,    219.8,2,     2.21,2,     0.08,2,     0.01,2,     0.22,2,    2.141,2,    1.153,2, -999.000,9,-999.0000,9,  -999.00,9,   -999.0,9,  -999.00,9,   1991.4,2,   2269.9,2,  -999.0,-999.0000,-999.000,  -999.0,-999.000
   31WTTUNES_1,  P17C,    56,  1,      5,      5,2,19910620,2216, 15.0000,-135.0067, 4715,    122.1,  20.2678,  34.6519,2,  34.6423,2,    227.1,2, 20.2451,    218.9,2,     2.39,2,     0.34,2,     0.05,2,     0.24,2,    2.270,2,    1.208,2, -999.000,9,-999.0000,9,  -999.00,9,   -999.0,9,  -999.00,9,   2017.5,2,   -999.0,9,  -999.0,-999.0000,-999.000,  -999.0,-999.000
   31WTTUNES_1,  P17C,    56,  1,      6,      6,2,19910620,2216, 15.0000,-135.0067, 4715,    154.1,  15.8296,  34.3887,2,  34.4043,2,    100.7,2, 15.8055,     79.3,2,    14.96,2,    19.37,2,     0.26,2,     1.63,2,    1.528,2,    0.800,2, -999.000,9,-999.0000,9,  -999.00,9,   -999.0,9,  -999.00,9,   2154.0,2,   -999.0,9,  -999.0,-999.0000,-999.000,  -999.0,-999.000
   31WTTUNES_1,  P17C,    56,  1,      7,      7,2,19910620,2216, 15.0000,-135.0067, 4715,    179.2,  13.3349,  34.3547,2,  34.3684,2,     59.8,2, 13.3100,     63.7,2,    21.33,2,    24.22,2,     0.02,2,     1.94,2,    1.228,2,    0.659,2, -999.000,9,-999.0000,9,  -999.00,9,   -999.0,9,  -999.00,9,   2180.8,2,   -999.0,9,  -999.0,-999.0000,-999.000,  -999.0,-999.000
   31WTTUNES_1,  P17C,    56,  1,      8,      8,2,19910620,2216, 15.0000,-135.0067, 4715,    205.1,  11.5088,  34.3333,2,  34.3364,2,     76.0,2, 11.4829,     76.7,2,    26.77,2,    24.63,2,     0.01,2,     2.03,2,    1.046,2,    0.530,2, -999.000,9,-999.0000,9,  -999.00,9,   -999.0,9,  -999.00,9,   2186.6,2,   2277.5,2,  -999.0,-999.0000,-999.000,  -999.0,-999.000
   31WTTUNES_1,  P17C,    56,  1,      9,      9,2,19910620,2216, 15.0000,-135.0067, 4715,    242.6,  11.1263,  34.5431,2,  34.5474,2,     24.3,2, 11.0962,     25.0,2,    33.14,2,    29.41,2,     0.01,2,     2.43,2,    0.352,2,    0.185,2, -999.000,9,-999.0000,9,  -999.00,9,   -999.0,9,  -999.00,9,   2234.7,2,   -999.0,9,  -999.0,-999.0000,-999.000,  -999.0,-999.000
   31WTTUNES_1,  P17C,    56,  1,     10,     10,2,19910620,2216, 15.0000,-135.0067, 4715,    304.7,  10.0664,  34.5384,2,  34.5401,2,     16.6,2, 10.0309,     17.0,2,    38.58,2,    30.33,2,     0.01,2,     2.60,2,    0.136,2,    0.082,2, -999.000,9,-999.0000,9,  -999.00,9,   -999.0,9,  -999.00,9,   2253.0,2,   2305.3,2,  -999.0,-999.0000,-999.000,  -999.0,-999.000
   31WTTUNES_1,  P17C,    56,  1,     11,     11,2,19910620,2216, 15.0000,-135.0067, 4715,    356.0,   9.0373,  34.4984,2,  34.5000,2,     13.3,2,  8.9985,     14.9,2,    44.39,2,    32.64,2,     0.01,2,     2.68,2,    0.059,2,    0.039,2, -999.000,9,-999.0000,9,  -999.00,9,   -999.0,9,  -999.00,9,   2265.3,2,   -999.0,9,  -999.0,-999.0000,-999.000,  -999.0,-999.000
   31WTTUNES_1,  P17C,    56,  1,     12,     12,2,19910620,2216, 15.0000,-135.0067, 4715,    406.7,   8.3198,  34.4725,2,  34.4745,2,     14.1,2,  8.2775,     14.8,2,    51.14,2,    34.65,2,     0.00,2,     2.80,2,    0.028,2,    0.019,2, -999.000,9,-999.0000,9,  -999.00,9,   -999.0,9,  -999.00,9,   2274.2,2,   2314.4,2,  -999.0,-999.0000,-999.000,  -999.0,-999.000
   31WTTUNES_1,  P17C,    56,  1,     13,     13,2,19910620,2216, 15.0000,-135.0067, 4715,    503.1,   7.2207,  34.4642,2,  34.4667,2,     11.3,2,  7.1722,     12.4,2,    61.83,2,    37.79,2,     0.00,2,     2.93,2,    0.007,2,    0.007,2, -999.000,9,-999.0000,9,  -999.00,9,   -999.0,9,  -999.00,9,   2289.6,2,   -999.0,9,  -999.0,-999.0000,-999.000,  -999.0,-999.000
   31WTTUNES_1,  P17C,    56,  1,     14,     14,2,19910620,2216, 15.0000,-135.0067, 4715,    606.7,   6.2230,  34.4769,2,  34.4802,2,     11.9,2,  6.1686,     12.4,2,    75.15,2,    40.76,2,     0.00,2,     3.09,2,    0.004,2,    0.001,2, -999.000,9,-999.0000,9,  -999.00,9,   -999.0,9,  -999.00,9,   2306.8,2,   2340.0,2,  -999.0,-999.0000,-999.000,  -999.0,-999.000
   31WTTUNES_1,  P17C,    56,  1,     15,     15,2,19910620,2216, 15.0000,-135.0067, 4715,    709.0,   5.5599,  34.4923,2,  34.4943,2,     14.9,2,  5.4993,     14.5,2,    84.52,2,    42.48,2,     0.00,2,     3.15,2,    0.057,4,   -0.002,2, -999.000,9,-999.0000,9,  -999.00,9,   -999.0,9,  -999.00,9,   2321.5,2,   -999.0,9,  -999.0,-999.0000,-999.000,  -999.0,-999.000
   31WTTUNES_1,  P17C,    56,  1,     16,     16,2,19910620,2216, 15.0000,-135.0067, 4715,    810.9,   4.9811,  34.5014,2,  34.5041,2,     22.4,2,  4.9148,     21.6,2,    94.08,2,    43.29,2,     0.00,2,     3.14,2,    0.004,2,    0.008,3, -999.000,9,-999.0000,9,  -999.00,9,   -999.0,9,  -999.00,9,   2326.1,2,   -999.0,9,  -999.0,-999.0000,-999.000,  -999.0,-999.000
   31WTTUNES_1,  P17C,    56,  1,     17,     17,2,19910620,2216, 15.0000,-135.0067, 4715,    908.1,   4.5395,  34.5159,2,  34.5171,2,     28.9,2,  4.4676,     28.3,2,   102.71,2,    43.46,2,     0.00,2,     3.14,2,   -0.003,2,   -0.002,2, -999.000,9,-999.0000,9,  -999.00,9,   -999.0,9,  -999.00,9,   2335.1,2,   -999.0,9,  -999.0,-999.0000,-999.000,  -999.0,-999.000
   31WTTUNES_1,  P17C,    56,  1,     18,     18,2,19910620,2216, 15.0000,-135.0067, 4715,   1011.5,   4.1831,  34.5298,2,  34.5316,2,     35.9,2,  4.1050,     35.5,2,   109.27,2,    43.36,2,     0.00,2,     3.13,2,   -0.001,2,   -0.002,2, -999.000,9,-999.0000,9,  -999.00,9,   -999.0,9,  -999.00,9,   2339.3,2,   2332.6,2,  -999.0,-999.0000,-999.000,  -999.0,-999.000
   31WTTUNES_1,  P17C,    56,  1,     19,     19,2,19910620,2216, 15.0000,-135.0067, 4715,   1211.2,   3.6294,  34.5647,2,  34.5654,2,     47.2,2,  3.5392,     46.8,2,   119.77,2,    43.03,2,     0.00,2,     3.09,2, -999.000,9, -999.000,9, -999.000,9,-999.0000,9,  -999.00,9,   -999.0,9,  -999.00,9,   2349.5,2,   -999.0,9,  -999.0,-999.0000,-999.000,  -999.0,-999.000
   31WTTUNES_1,  P17C,    56,  1,     20,     20,2,19910620,2216, 15.0000,-135.0067, 4715,   1417.1,   3.1799,  34.5886,2,  34.5882,2,     62.3,2,  3.0769,     61.6,2,   127.64,2,    42.06,2,     0.01,2,     3.00,2, -999.000,9, -999.000,9, -999.000,9,-999.0000,9,  -999.00,9,   -999.0,9,  -999.00,9,   2351.9,2,   -999.0,9,  -999.0,-999.0000,-999.000,  -999.0,-999.000
   31WTTUNES_1,  P17C,    56,  1,     21,     21,2,19910620,2216, 15.0000,-135.0067, 4715,   1618.4,   2.8011,  34.6036,2,  34.6055,2,     73.3,2,  2.6857,     72.9,2,   136.07,2,    41.36,2,     0.01,2,     2.93,2, -999.000,9, -999.000,9, -999.000,9,-999.0000,9,  -999.00,9,   -999.0,9,  -999.00,9,   2356.4,2,   -999.0,9,  -999.0,-999.0000,-999.000,  -999.0,-999.000
   31WTTUNES_1,  P17C,    56,  1,     22,     22,2,19910620,2216, 15.0000,-135.0067, 4715,   1818.1,   2.4751,  34.6168,2,  34.6182,2,     82.6,2,  2.3472,     84.3,2,   143.20,2,    40.61,2,     0.01,2,     2.86,2, -999.000,9, -999.000,9, -999.000,9,-999.0000,9,  -999.00,9,   -999.0,9,  -999.00,9,   -999.0,9,   -999.0,9,  -999.0,-999.0000,-999.000,  -999.0,-999.000
   31WTTUNES_1,  P17C,    56,  1,     23,     23,2,19910620,2216, 15.0000,-135.0067, 4715,   2024.9,   2.1691,  34.6299,2,  34.6312,2,     91.8,2,  2.0280,     90.3,2,   150.69,2,    40.08,2,     0.01,2,     2.81,2, -999.000,9, -999.000,9, -999.000,9,-999.0000,9,  -999.00,9,   -999.0,9,  -999.00,9,   2359.6,2,   -999.0,9,  -999.0,-999.0000,-999.000,  -999.0,-999.000
   31WTTUNES_1,  P17C,    56,  1,     24,     24,2,19910620,2216, 15.0000,-135.0067, 4715,   2225.2,   1.9876,  34.6429,2,  34.6430,2,    100.0,2,  1.8320,     99.4,2,   154.25,2,    39.50,2,     0.01,2,     2.75,2, -999.000,9, -999.000,9, -999.000,9,-999.0000,9,  -999.00,9,   -999.0,9,  -999.00,9,   2355.6,2,   2425.6,2,  -999.0,-999.0000,-999.000,  -999.0,-999.000
   31WTTUNES_1,  P17C,    56,  1,     25,     25,2,19910620,2216, 15.0000,-135.0067, 4715,   2431.2,   1.8656,  34.6511,2,  34.6524,2,    107.5,2,  1.6941,    107.2,2,   156.87,2,    38.92,2,     0.01,2,     2.71,2, -999.000,9, -999.000,9, -999.000,9,-999.0000,9,  -999.00,9,   -999.0,9,  -999.00,9,   2353.3,2,   -999.0,9,  -999.0,-999.0000,-999.000,  -999.0,-999.000
   31WTTUNES_1,  P17C,    56,  1,     26,     26,2,19910620,2216, 15.0000,-135.0067, 4715,   2637.8,   1.7470,  34.6609,2,  34.6620,2,    114.9,2,  1.5590,    115.1,2,   158.74,2,    38.45,2,     0.01,2,     2.66,2, -999.000,9, -999.000,9, -999.000,9,-999.0000,9,  -999.00,9,   -999.0,9,  -999.00,9,   2352.1,2,   -999.0,9,  -999.0,-999.0000,-999.000,  -999.0,-999.000
   31WTTUNES_1,  P17C,    56,  1,     27,     27,2,19910620,2216, 15.0000,-135.0067, 4715,   2838.4,   1.6847,  34.6671,2,  34.6667,2,    119.5,2,  1.4792,    119.0,2,   159.68,2,    38.13,2,     0.01,2,     2.64,2, -999.000,9, -999.000,9, -999.000,9,-999.0000,9,  -999.00,9,   -999.0,9,  -999.00,9,   2346.4,2,   -999.0,9,  -999.0,-999.0000,-999.000,  -999.0,-999.000
   31WTTUNES_1,  P17C,    56,  1,     28,     28,2,19910620,2216, 15.0000,-135.0067, 4715,   3039.2,   1.6252,  34.6696,2,  34.6701,2,    124.5,2,  1.4019,    123.7,2,   160.99,2,    37.93,2,     0.01,2,     2.61,2, -999.000,9, -999.000,9, -999.000,9,-999.0000,9,  -999.00,9,   -999.0,9,  -999.00,9,   2347.0,2,   -999.0,9,  -999.0,-999.0000,-999.000,  -999.0,-999.000
   31WTTUNES_1,  P17C,    56,  1,     29,     29,2,19910620,2216, 15.0000,-135.0067, 4715,   3242.5,   1.5620,  34.6738,2,  34.6742,2,    130.2,2,  1.3202,    130.0,2,   161.92,2,    37.56,2,     0.00,2,     2.60,2, -999.000,9, -999.000,9, -999.000,9,-999.0000,9,  -999.00,9,   -999.0,9,  -999.00,9,   2342.6,2,   -999.0,9,  -999.0,-999.0000,-999.000,  -999.0,-999.000
   31WTTUNES_1,  P17C,    56,  1,     30,     30,2,19910620,2216, 15.0000,-135.0067, 4715,   3449.7,   1.5205,  34.6757,2,  34.6773,2,    136.2,2,  1.2590,    135.4,2,   160.98,2,    37.09,2,     0.01,2,     2.55,2, -999.000,9, -999.000,9, -999.000,9,-999.0000,9,  -999.00,9,   -999.0,9,  -999.00,9,   2338.7,2,   -999.0,9,  -999.0,-999.0000,-999.000,  -999.0,-999.000
   31WTTUNES_1,  P17C,    56,  1,     31,     31,2,19910620,2216, 15.0000,-135.0067, 4715,   3650.9,   1.4866,  34.6792,2,  34.6803,2,    142.3,2,  1.2053,    141.7,2,   159.29,2,    36.73,2,     0.01,2,     2.52,2, -999.000,9, -999.000,9, -999.000,9,-999.0000,9,  -999.00,9,   -999.0,9,  -999.00,9,   2333.3,2,   2439.7,2,  -999.0,-999.0000,-999.000,  -999.0,-999.000
   31WTTUNES_1,  P17C,    56,  1,     32,     32,2,19910620,2216, 15.0000,-135.0067, 4715,   3856.6,   1.4428,  34.6832,2,  34.6850,2,    151.0,2,  1.1410,    150.6,2,   154.59,2,    36.10,2,     0.01,2,     2.48,2, -999.000,9, -999.000,9, -999.000,9,-999.0000,9,  -999.00,9,   -999.0,9,  -999.00,9,   2326.3,2,   -999.0,9,  -999.0,-999.0000,-999.000,  -999.0,-999.000
   31WTTUNES_1,  P17C,    56,  1,     33,     33,2,19910620,2216, 15.0000,-135.0067, 4715,   4065.4,   1.4082,  34.6869,2,  34.6887,2,    159.3,2,  1.0847,    159.1,2,   149.15,2,    35.58,2,     0.00,2,     2.43,2, -999.000,9, -999.000,9, -999.000,9,-999.0000,9,  -999.00,9,   -999.0,9,  -999.00,9,   2316.9,2,   -999.0,9,  -999.0,-999.0000,-999.000,  -999.0,-999.000
   31WTTUNES_1,  P17C,    56,  1,     34,     34,2,19910620,2216, 15.0000,-135.0067, 4715,   4326.7,   1.4071,  34.6892,2,  34.6899,2,    164.0,2,  1.0547,    163.7,2,   145.77,2,    35.22,2,     0.00,2,     2.41,2,    0.002,2,    0.000,2, -999.000,9,-999.0000,9,  -999.00,9,   -999.0,9,  -999.00,9,   2313.5,2,   -999.0,9,  -999.0,-999.0000,-999.000,  -999.0,-999.000
   31WTTUNES_1,  P17C,    56,  1,     35,     35,2,19910620,2216, 15.0000,-135.0067, 4715,   4566.2,   1.4276,  34.6892,2,  34.6914,2,    165.6,2,  1.0472,    164.4,2,   145.01,2,    35.17,2,     0.00,2,     2.41,2,   -0.001,2,    0.002,2, -999.000,9,-999.0000,9,  -999.00,9,   -999.0,9,  -999.00,9,   2312.0,2,   -999.0,9,  -999.0,-999.0000,-999.000,  -999.0,-999.000
   31WTTUNES_1,  P17C,    56,  1,     36,     36,2,19910620,2216, 15.0000,-135.0067, 4715,   4910.5,   1.4653,  34.6906,2,  34.6912,2,   -999.0,9,  1.0431,    165.1,2,   144.45,2,    35.12,2,     0.00,2,     2.40,2,    0.000,2,    0.000,2, -999.000,9,-999.0000,9,  -999.00,9,   -999.0,9,  -999.00,9,   2313.0,2,   2425.9,2,  -999.0,-999.0000,-999.000,  -999.0,-999.000