BOTTLE,20220819CCHSIOAMB
EXPOCODE,SECT_ID,STNNBR,CASTNO,SAMPNO,BTLNBR,BTLNBR_FLAG_W,DATE,TIME,LATITUDE,LONGITUDE,DEPTH,CTDPRS,CTDTMP,CTDSAL,CTDSAL_FLAG_W,SALNTY,SALNTY_FLAG_W,CTDOXY,CTDOXY_FLAG_W,THETA,OXYGEN,OXYGEN_FLAG_W,SILCAT,SILCAT_FLAG_W,NITRAT,NITRAT_FLAG_W,NITRIT,NITRIT_FLAG_W,PHSPHT,PHSPHT_FLAG_W,CFC-11,CFC-11_FLAG_W,CFC-12,CFC-12_FLAG_W,TRITUM,TRITUM_FLAG_W,HELIUM,HELIUM_FLAG_W,DELHE3,DELHE3_FLAG_W,DELC14,DELC14_FLAG_W,DELC13,DELC13_FLAG_W,TCARBN,TCARBN_FLAG_W,ALKALI,ALKALI_FLAG_W,C14ERR,HELIER,DELHER,C13ERR,TRITER
,,,,,,,,,,,,DBAR,ITS-90,PSS-78,,PSS-78,,UMOL/KG,,DEG C,UMOL/KG,,UMOL/KG,,UMOL/KG,,UMOL/KG,,UMOL/KG,,PMOL/KG,,PMOL/KG,,TU,,NMOL/KG,,PERCNT,,/MILLE,,/MILLE,,UMOL/KG,,UMOL/KG,,/MILLE,NMOL/KG,PERCNT,/MILLE,TU
   31WTTUNES_1,  P17C,     8,  1,      1,      1,2,19910604,0338, 34.8167,-124.5817, 4343,      1.8,  12.9595,  32.8317,2,  32.8334,2,    273.0,3, 12.9593,    275.1,2,     3.13,2,     0.05,2,     0.00,2,     0.47,2, -999.000,9, -999.000,9, -999.000,9,-999.0000,9,  -999.00,9,   -999.0,9,  -999.00,9,   -999.0,9,   -999.0,9,  -999.0,-999.0000,-999.000,  -999.0,-999.000
   31WTTUNES_1,  P17C,     8,  1,      2,      2,2,19910604,0338, 34.8167,-124.5817, 4343,     46.7,  13.3435,  32.9926,2,  32.9757,2,    277.2,2, 13.3371,    272.0,2,     2.93,2,     0.05,2,     0.00,2,     0.48,2, -999.000,9, -999.000,9, -999.000,9,-999.0000,9,  -999.00,9,   -999.0,9,  -999.00,9,   -999.0,9,   -999.0,9,  -999.0,-999.0000,-999.000,  -999.0,-999.000
   31WTTUNES_1,  P17C,     8,  1,      3,      3,2,19910604,0338, 34.8167,-124.5817, 4343,     67.0,  11.6879,  33.1346,2,  33.1327,2,    258.5,2, 11.6795,    251.6,2,     5.69,2,     5.03,2,     0.24,2,     0.79,2, -999.000,9, -999.000,9, -999.000,9,-999.0000,9,  -999.00,9,   -999.0,9,  -999.00,9,   -999.0,9,   -999.0,9,  -999.0,-999.0000,-999.000,  -999.0,-999.000
   31WTTUNES_1,  P17C,     8,  1,      4,      4,2,19910604,0338, 34.8167,-124.5817, 4343,     97.9,   9.8545,  33.2909,2,  33.2942,2,    222.4,2,  9.8436,    204.7,2,    14.76,2,    15.71,2,     0.00,2,     1.40,2, -999.000,9, -999.000,9, -999.000,9,-999.0000,9,  -999.00,9,   -999.0,9,  -999.00,9,   -999.0,9,   -999.0,9,  -999.0,-999.0000,-999.000,  -999.0,-999.000
   31WTTUNES_1,  P17C,     8,  1,      5,      5,3,19910604,0338, 34.8167,-124.5817, 4343,    113.3,   9.1668,  33.3406,2,-999.0000,5,    209.0,2,  9.1547,   -999.0,5,  -999.00,5,  -999.00,5,  -999.00,5,  -999.00,5, -999.000,9, -999.000,9, -999.000,9,-999.0000,9,  -999.00,9,   -999.0,9,  -999.00,9,   -999.0,9,   -999.0,9,  -999.0,-999.0000,-999.000,  -999.0,-999.000
   31WTTUNES_1,  P17C,     8,  1,      6,      6,2,19910604,0338, 34.8167,-124.5817, 4343,    122.6,   9.1018,  33.4596,2,  33.4686,2,    177.9,2,  9.0887,    175.3,2,    22.23,2,    20.19,2,     0.00,2,     1.66,2, -999.000,9, -999.000,9, -999.000,9,-999.0000,9,  -999.00,9,   -999.0,9,  -999.00,9,   -999.0,9,   -999.0,9,  -999.0,-999.0000,-999.000,  -999.0,-999.000
   31WTTUNES_1,  P17C,     8,  1,      7,      7,2,19910604,0338, 34.8167,-124.5817, 4343,    138.9,   8.9149,  33.6137,2,  33.6219,2,    162.6,2,  8.9002,    157.5,2,    24.58,2,    22.34,2,     0.00,2,     1.79,2, -999.000,9, -999.000,9, -999.000,9,-999.0000,9,  -999.00,9,   -999.0,9,  -999.00,9,   -999.0,9,   -999.0,9,  -999.0,-999.0000,-999.000,  -999.0,-999.000
   31WTTUNES_1,  P17C,     8,  1,      8,      8,2,19910604,0338, 34.8167,-124.5817, 4343,    147.6,   8.8279,  33.6889,2,  33.6927,2,    151.9,2,  8.8124,    147.4,2,    26.54,2,    23.37,2,     0.00,2,     1.84,2, -999.000,9, -999.000,9, -999.000,9,-999.0000,9,  -999.00,9,   -999.0,9,  -999.00,9,   -999.0,9,   -999.0,9,  -999.0,-999.0000,-999.000,  -999.0,-999.000
   31WTTUNES_1,  P17C,     8,  1,      9,      9,2,19910604,0338, 34.8167,-124.5817, 4343,    203.4,   8.1122,  33.9674,2,  33.9632,2,    130.7,2,  8.0918,    131.1,2,    34.99,2,    26.95,2,     0.00,2,     2.03,2, -999.000,9, -999.000,9, -999.000,9,-999.0000,9,  -999.00,9,   -999.0,9,  -999.00,9,   -999.0,9,   -999.0,9,  -999.0,-999.0000,-999.000,  -999.0,-999.000
   31WTTUNES_1,  P17C,     8,  1,     10,     10,3,19910604,0338, 34.8167,-124.5817, 4343,    249.3,   7.6694,  34.0372,2,-999.0000,5,    120.0,2,  7.6451,   -999.0,5,  -999.00,5,  -999.00,5,  -999.00,5,  -999.00,5, -999.000,9, -999.000,9, -999.000,9,-999.0000,9,  -999.00,9,   -999.0,9,  -999.00,9,   -999.0,9,   -999.0,9,  -999.0,-999.0000,-999.000,  -999.0,-999.000
   31WTTUNES_1,  P17C,     8,  1,     11,     11,2,19910604,0338, 34.8167,-124.5817, 4343,    301.6,   7.0497,  34.0422,2,  34.0415,2,     89.1,2,  7.0216,     95.3,2,    51.08,2,    31.71,2,     0.00,2,     2.38,2, -999.000,9, -999.000,9, -999.000,9,-999.0000,9,  -999.00,9,   -999.0,9,  -999.00,9,   -999.0,9,   -999.0,9,  -999.0,-999.0000,-999.000,  -999.0,-999.000
   31WTTUNES_1,  P17C,     8,  1,     12,     12,3,19910604,0338, 34.8167,-124.5817, 4343,    354.2,   6.6929,  34.0716,2,-999.0000,5,     68.3,2,  6.6607,   -999.0,5,  -999.00,5,  -999.00,5,  -999.00,5,  -999.00,5, -999.000,9, -999.000,9, -999.000,9,-999.0000,9,  -999.00,9,   -999.0,9,  -999.00,9,   -999.0,9,   -999.0,9,  -999.0,-999.0000,-999.000,  -999.0,-999.000
   31WTTUNES_1,  P17C,     8,  1,     13,     13,2,19910604,0338, 34.8167,-124.5817, 4343,    404.0,   6.3681,  34.1044,2,  34.1057,2,     54.1,2,  6.3322,     54.8,2,    65.37,2,    36.13,2,     0.00,2,     2.75,2, -999.000,9, -999.000,9, -999.000,9,-999.0000,9,  -999.00,9,   -999.0,9,  -999.00,9,   -999.0,9,   -999.0,9,  -999.0,-999.0000,-999.000,  -999.0,-999.000
   31WTTUNES_1,  P17C,     8,  1,     14,     14,2,19910604,0338, 34.8167,-124.5817, 4343,    505.5,   5.6055,  34.1663,2,  34.1633,2,     28.4,2,  5.5631,     30.5,2,    80.07,2,    39.49,2,     0.00,2,     2.99,2, -999.000,9, -999.000,9, -999.000,9,-999.0000,9,  -999.00,9,   -999.0,9,  -999.00,9,   -999.0,9,   -999.0,9,  -999.0,-999.0000,-999.000,  -999.0,-999.000
   31WTTUNES_1,  P17C,     8,  1,     15,     15,2,19910604,0338, 34.8167,-124.5817, 4343,    607.4,   5.0648,  34.2320,2,  34.2335,2,     18.7,2,  5.0159,     18.6,2,    92.99,2,    41.33,2,     0.00,2,     3.15,2, -999.000,9, -999.000,9, -999.000,9,-999.0000,9,  -999.00,9,   -999.0,9,  -999.00,9,   -999.0,9,   -999.0,9,  -999.0,-999.0000,-999.000,  -999.0,-999.000
   31WTTUNES_1,  P17C,     8,  1,     16,     16,2,19910604,0338, 34.8167,-124.5817, 4343,    708.5,   4.6240,  34.3048,2,  34.3025,2,     14.2,2,  4.5688,     15.8,2,   103.74,2,    42.53,2,     0.00,2,     3.21,2, -999.000,9, -999.000,9, -999.000,9,-999.0000,9,  -999.00,9,   -999.0,9,  -999.00,9,   -999.0,9,   -999.0,9,  -999.0,-999.0000,-999.000,  -999.0,-999.000
   31WTTUNES_1,  P17C,     8,  1,     17,     17,2,19910604,0338, 34.8167,-124.5817, 4343,    809.4,   4.2972,  34.3661,2,  34.3633,2,     15.2,2,  4.2354,     15.8,2,   112.32,2,    43.00,2,     0.00,2,     3.23,2, -999.000,9, -999.000,9, -999.000,9,-999.0000,9,  -999.00,9,   -999.0,9,  -999.00,9,   -999.0,9,   -999.0,9,  -999.0,-999.0000,-999.000,  -999.0,-999.000
   31WTTUNES_1,  P17C,     8,  1,     18,     18,2,19910604,0338, 34.8167,-124.5817, 4343,    909.0,   4.0274,  34.4126,2,  34.4116,2,     19.0,2,  3.9592,     17.6,2,   118.54,2,    43.37,2,     0.00,2,     3.22,2, -999.000,9, -999.000,9, -999.000,9,-999.0000,9,  -999.00,9,   -999.0,9,  -999.00,9,   -999.0,9,   -999.0,9,  -999.0,-999.0000,-999.000,  -999.0,-999.000
   31WTTUNES_1,  P17C,     8,  1,     19,     19,2,19910604,0338, 34.8167,-124.5817, 4343,   1012.0,   3.7605,  34.4614,2,  34.4606,2,     25.8,2,  3.6858,     29.8,2,   124.37,2,    43.32,2,     0.00,2,     3.21,2, -999.000,9, -999.000,9, -999.000,9,-999.0000,9,  -999.00,9,   -999.0,9,  -999.00,9,   -999.0,9,   -999.0,9,  -999.0,-999.0000,-999.000,  -999.0,-999.000
   31WTTUNES_1,  P17C,     8,  1,     20,     20,4,19910604,0338, 34.8167,-124.5817, 4343,   1012.0,   3.7605,  34.4614,2,  34.4586,2,     25.8,2,  3.6858,     28.0,2,   123.96,2,    43.26,2,     0.00,2,     3.20,2, -999.000,9, -999.000,9, -999.000,9,-999.0000,9,  -999.00,9,   -999.0,9,  -999.00,9,   -999.0,9,   -999.0,9,  -999.0,-999.0000,-999.000,  -999.0,-999.000
   31WTTUNES_1,  P17C,     8,  1,     21,     21,2,19910604,0338, 34.8167,-124.5817, 4343,   1416.6,   2.9690,  34.5390,2,  34.5379,2,     45.8,2,  2.8685,     42.6,2,   142.66,2,    42.78,2,     0.00,2,     3.12,2, -999.000,9, -999.000,9, -999.000,9,-999.0000,9,  -999.00,9,   -999.0,9,  -999.00,9,   -999.0,9,   -999.0,9,  -999.0,-999.0000,-999.000,  -999.0,-999.000
   31WTTUNES_1,  P17C,     8,  1,     22,     22,3,19910604,0338, 34.8167,-124.5817, 4343,   1615.5,   2.6322,  34.5624,2,-999.0000,5,     54.0,2,  2.5192,   -999.0,5,  -999.00,5,  -999.00,5,  -999.00,5,  -999.00,5, -999.000,9, -999.000,9, -999.000,9,-999.0000,9,  -999.00,9,   -999.0,9,  -999.00,9,   -999.0,9,   -999.0,9,  -999.0,-999.0000,-999.000,  -999.0,-999.000
   31WTTUNES_1,  P17C,     8,  1,     23,     23,2,19910604,0338, 34.8167,-124.5817, 4343,   1824.7,   2.2995,  34.5889,2,  34.5917,2,     66.0,2,  2.1734,     66.7,2,   160.06,2,    41.63,2,     0.00,2,     3.05,2, -999.000,9, -999.000,9, -999.000,9,-999.0000,9,  -999.00,9,   -999.0,9,  -999.00,9,   -999.0,9,   -999.0,9,  -999.0,-999.0000,-999.000,  -999.0,-999.000
   31WTTUNES_1,  P17C,     8,  1,     24,     24,4,19910604,0338, 34.8167,-124.5817, 4343,   1824.7,   2.2995,  34.5889,2,  34.5917,2,     66.0,2,  2.1734,     65.4,2,   159.09,2,    41.48,2,     0.00,2,     3.00,2, -999.000,9, -999.000,9, -999.000,9,-999.0000,9,  -999.00,9,   -999.0,9,  -999.00,9,   -999.0,9,   -999.0,9,  -999.0,-999.0000,-999.000,  -999.0,-999.000
   31WTTUNES_1,  P17C,     8,  1,     25,     25,2,19910604,0338, 34.8167,-124.5817, 4343,   2218.2,   1.9007,  34.6223,2,  34.6249,2,     83.9,2,  1.7473,     83.0,2,   170.94,2,    40.29,2,     0.00,2,     2.91,2, -999.000,9, -999.000,9, -999.000,9,-999.0000,9,  -999.00,9,   -999.0,9,  -999.00,9,   -999.0,9,   -999.0,9,  -999.0,-999.0000,-999.000,  -999.0,-999.000
   31WTTUNES_1,  P17C,     8,  1,     26,     26,2,19910604,0338, 34.8167,-124.5817, 4343,   2423.9,   1.7878,  34.6350,2,  34.6353,2,     93.0,2,  1.6183,     93.7,2,   174.77,3,    39.93,2,     0.00,2,     2.86,2, -999.000,9, -999.000,9, -999.000,9,-999.0000,9,  -999.00,9,   -999.0,9,  -999.00,9,   -999.0,9,   -999.0,9,  -999.0,-999.0000,-999.000,  -999.0,-999.000
   31WTTUNES_1,  P17C,     8,  1,     27,     27,2,19910604,0338, 34.8167,-124.5817, 4343,   2634.4,   1.7268,  34.6493,2,  34.6492,2,    104.9,2,  1.5395,    106.2,2,   170.40,2,    39.12,2,     0.00,2,     2.80,2, -999.000,9, -999.000,9, -999.000,9,-999.0000,9,  -999.00,9,   -999.0,9,  -999.00,9,   -999.0,9,   -999.0,9,  -999.0,-999.0000,-999.000,  -999.0,-999.000
   31WTTUNES_1,  P17C,     8,  1,     28,     28,4,19910604,0338, 34.8167,-124.5817, 4343,   2634.4,   1.7268,  34.6493,2,  34.6486,2,    104.9,2,  1.5395,    106.7,2,   171.49,2,    39.12,2,     0.00,2,     2.81,2, -999.000,9, -999.000,9, -999.000,9,-999.0000,9,  -999.00,9,   -999.0,9,  -999.00,9,   -999.0,9,   -999.0,9,  -999.0,-999.0000,-999.000,  -999.0,-999.000
   31WTTUNES_1,  P17C,     8,  1,     29,     29,2,19910604,0338, 34.8167,-124.5817, 4343,   3039.9,   1.6119,  34.6609,2,  34.6586,2,    114.2,2,  1.3889,    117.1,2,   174.54,2,    38.36,2,     0.00,2,     2.75,2, -999.000,9, -999.000,9, -999.000,9,-999.0000,9,  -999.00,9,   -999.0,9,  -999.00,9,   -999.0,9,   -999.0,9,  -999.0,-999.0000,-999.000,  -999.0,-999.000
   31WTTUNES_1,  P17C,     8,  1,     30,     30,4,19910604,0338, 34.8167,-124.5817, 4343,   3039.9,   1.6119,  34.6609,2,  34.6601,2,    114.2,2,  1.3889,    115.0,2,   174.27,2,    38.31,2,     0.00,2,     2.76,2, -999.000,9, -999.000,9, -999.000,9,-999.0000,9,  -999.00,9,   -999.0,9,  -999.00,9,   -999.0,9,   -999.0,9,  -999.0,-999.0000,-999.000,  -999.0,-999.000
   31WTTUNES_1,  P17C,     8,  1,     31,     31,2,19910604,0338, 34.8167,-124.5817, 4343,   3434.8,   1.5430,  34.6683,2,  34.6701,2,    124.0,2,  1.2825,    125.9,2,   174.39,2,    37.76,2,     0.00,2,     2.69,2, -999.000,9, -999.000,9, -999.000,9,-999.0000,9,  -999.00,9,   -999.0,9,  -999.00,9,   -999.0,9,   -999.0,9,  -999.0,-999.0000,-999.000,  -999.0,-999.000
   31WTTUNES_1,  P17C,     8,  1,     32,     32,2,19910604,0338, 34.8167,-124.5817, 4343,   3672.6,   1.5070,  34.6746,2,  34.6748,2,    131.3,2,  1.2229,    134.2,2,   173.14,2,    37.31,2,     0.00,2,     2.67,2, -999.000,9, -999.000,9, -999.000,9,-999.0000,9,  -999.00,9,   -999.0,9,  -999.00,9,   -999.0,9,   -999.0,9,  -999.0,-999.0000,-999.000,  -999.0,-999.000
   31WTTUNES_1,  P17C,     8,  1,     33,     33,2,19910604,0338, 34.8167,-124.5817, 4343,   3863.1,   1.4900,  34.6791,2,  34.6784,2,    137.2,2,  1.1862,    137.4,2,   170.53,2,    37.01,2,     0.00,2,     2.64,2, -999.000,9, -999.000,9, -999.000,9,-999.0000,9,  -999.00,9,   -999.0,9,  -999.00,9,   -999.0,9,   -999.0,9,  -999.0,-999.0000,-999.000,  -999.0,-999.000
   31WTTUNES_1,  P17C,     8,  1,     34,     34,2,19910604,0338, 34.8167,-124.5817, 4343,   4059.5,   1.4910,  34.6805,2,  34.6785,2,    141.3,2,  1.1659,    138.1,2,   170.26,2,    37.01,2,     0.00,2,     2.64,2, -999.000,9, -999.000,9, -999.000,9,-999.0000,9,  -999.00,9,   -999.0,9,  -999.00,9,   -999.0,9,   -999.0,9,  -999.0,-999.0000,-999.000,  -999.0,-999.000
   31WTTUNES_1,  P17C,     8,  1,     35,     35,2,19910604,0338, 34.8167,-124.5817, 4343,   4291.5,   1.5040,  34.6826,2,  34.6824,2,    144.1,2,  1.1527,    144.0,2,   164.34,2,    36.51,2,     0.00,2,     2.60,2, -999.000,9, -999.000,9, -999.000,9,-999.0000,9,  -999.00,9,   -999.0,9,  -999.00,9,   -999.0,9,   -999.0,9,  -999.0,-999.0000,-999.000,  -999.0,-999.000
   31WTTUNES_1,  P17C,     8,  1,     36,     36,2,19910604,0338, 34.8167,-124.5817, 4343,   4411.3,   1.5140,  34.6840,2,  34.6814,2,   -999.0,9,  1.1488,    144.4,2,   164.27,2,    36.37,2,     0.00,2,     2.60,2, -999.000,9, -999.000,9, -999.000,9,-999.0000,9,  -999.00,9,   -999.0,9,  -999.00,9,   -999.0,9,   -999.0,9,  -999.0,-999.0000,-999.000,  -999.0,-999.000
   31WTTUNES_1,  P17C,     9,  1,      1,      1,2,19910604,1308, 34.5817,-125.1567, 4519,      1.2,  12.9436,  32.7367,2,  32.7383,2,    271.2,3, 12.9434,    278.6,2,     2.84,2,     0.10,2,     0.01,2,     0.45,2,    3.547,2,    1.772,2, -999.000,9,-999.0000,9,  -999.00,9,   -999.0,9,  -999.00,9,   -999.0,9,   -999.0,9,  -999.0,-999.0000,-999.000,  -999.0,-999.000
   31WTTUNES_1,  P17C,     9,  1,     12,     12,4,19910604,1308, 34.5817,-125.1567, 4519,      1.2,  12.9436,  32.7367,2,  32.7398,2,    271.2,3, 12.9434,    275.8,2,     2.64,2,     0.20,2,     0.01,2,     0.46,2,    3.554,2,    1.815,2, -999.000,9,-999.0000,9,  -999.00,9,   -999.0,9,  -999.00,9,   -999.0,9,   -999.0,9,  -999.0,-999.0000,-999.000,  -999.0,-999.000
   31WTTUNES_1,  P17C,     9,  1,      2,      2,4,19910604,1308, 34.5817,-125.1567, 4519,     74.6,  11.4780,  32.8693,2,  32.8702,2,    272.5,2, 11.4688,    268.3,2,     4.70,2,     2.94,2,     0.42,2,     0.68,2,    3.691,2,    1.817,2, -999.000,9,-999.0000,9,  -999.00,9,   -999.0,9,  -999.00,9,   -999.0,9,   -999.0,9,  -999.0,-999.0000,-999.000,  -999.0,-999.000
   31WTTUNES_1,  P17C,     9,  1,      3,      3,4,19910604,1308, 34.5817,-125.1567, 4519,     98.3,  10.6113,  32.9433,2,  32.9453,2,    261.0,2, 10.5998,    259.4,2,     8.81,2,     7.44,2,     0.58,2,     0.94,2,    3.706,2,    1.815,2, -999.000,9,-999.0000,9,  -999.00,9,   -999.0,9,  -999.00,9,   -999.0,9,   -999.0,9,  -999.0,-999.0000,-999.000,  -999.0,-999.000
   31WTTUNES_1,  P17C,     9,  1,      4,      4,4,19910604,1308, 34.5817,-125.1567, 4519,    126.0,   9.6926,  33.2541,2,  33.2473,2,    208.6,2,  9.6786,    207.8,2,    14.38,2,    15.36,2,     0.03,2,     1.34,2, -999.000,5, -999.000,5, -999.000,9,-999.0000,9,  -999.00,9,   -999.0,9,  -999.00,9,   -999.0,9,   -999.0,9,  -999.0,-999.0000,-999.000,  -999.0,-999.000
   31WTTUNES_1,  P17C,     9,  1,      5,      5,3,19910604,1308, 34.5817,-125.1567, 4519,    151.5,   8.8809,  33.4287,2,-999.0000,5,    181.7,2,  8.8650,   -999.0,5,  -999.00,5,  -999.00,5,  -999.00,5,  -999.00,5, -999.000,9, -999.000,9, -999.000,9,-999.0000,9,  -999.00,9,   -999.0,9,  -999.00,9,   -999.0,9,   -999.0,9,  -999.0,-999.0000,-999.000,  -999.0,-999.000
   31WTTUNES_1,  P17C,     9,  1,      6,      6,3,19910604,1308, 34.5817,-125.1567, 4519,    176.2,   8.8979,  33.7378,2,-999.0000,5,    135.9,2,  8.8792,   -999.0,5,  -999.00,5,  -999.00,5,  -999.00,5,  -999.00,5, -999.000,9, -999.000,9, -999.000,9,-999.0000,9,  -999.00,9,   -999.0,9,  -999.00,9,   -999.0,9,   -999.0,9,  -999.0,-999.0000,-999.000,  -999.0,-999.000
   31WTTUNES_1,  P17C,     9,  1,      7,      7,4,19910604,1308, 34.5817,-125.1567, 4519,    200.7,   8.6280,  33.8736,2,  33.8715,2,    117.2,2,  8.6071,    127.3,2,    31.49,2,    26.11,2,     0.02,2,     1.98,2,    2.147,2,    1.033,2, -999.000,9,-999.0000,9,  -999.00,9,   -999.0,9,  -999.00,9,   -999.0,9,   -999.0,9,  -999.0,-999.0000,-999.000,  -999.0,-999.000
   31WTTUNES_1,  P17C,     9,  1,      8,      8,3,19910604,1308, 34.5817,-125.1567, 4519,    250.2,   8.0243,  34.0378,2,  33.9947,4,    104.0,2,  7.9992,    106.5,2,    40.19,2,    28.75,2,     0.02,2,     2.16,2,    1.475,2,    0.721,2, -999.000,9,-999.0000,9,  -999.00,9,   -999.0,9,  -999.00,9,   -999.0,9,   -999.0,9,  -999.0,-999.0000,-999.000,  -999.0,-999.000
   31WTTUNES_1,  P17C,     9,  1,      9,      9,9,19910604,1308, 34.5817,-125.1567, 4519,    300.8,   7.4086,  34.0708,2,-999.0000,9,     91.5,2,  7.3797,   -999.0,9,  -999.00,9,  -999.00,9,  -999.00,9,  -999.00,9, -999.000,9, -999.000,9, -999.000,9,-999.0000,9,  -999.00,9,   -999.0,9,  -999.00,9,   -999.0,9,   -999.0,9,  -999.0,-999.0000,-999.000,  -999.0,-999.000
   31WTTUNES_1,  P17C,     9,  1,     10,     10,9,19910604,1308, 34.5817,-125.1567, 4519,    353.4,   6.7559,  34.0678,2,-999.0000,9,     86.9,2,  6.7236,   -999.0,9,  -999.00,9,  -999.00,9,  -999.00,9,  -999.00,9, -999.000,9, -999.000,9, -999.000,9,-999.0000,9,  -999.00,9,   -999.0,9,  -999.00,9,   -999.0,9,   -999.0,9,  -999.0,-999.0000,-999.000,  -999.0,-999.000
   31WTTUNES_1,  P17C,     9,  1,     11,     11,4,19910604,1308, 34.5817,-125.1567, 4519,    401.1,   6.2941,  34.0802,2,  34.0822,2,     70.1,2,  6.2587,     62.7,2,    63.85,2,    36.28,2,     0.01,2,     2.69,2,    0.509,2,    0.257,2, -999.000,9,-999.0000,9,  -999.00,9,   -999.0,9,  -999.00,9,   -999.0,9,   -999.0,9,  -999.0,-999.0000,-999.000,  -999.0,-999.000