BOTTLE,20220819CCHSIOAMB
EXPOCODE,SECT_ID,STNNBR,CASTNO,SAMPNO,BTLNBR,BTLNBR_FLAG_W,DATE,TIME,LATITUDE,LONGITUDE,DEPTH,CTDPRS,CTDTMP,CTDSAL,CTDSAL_FLAG_W,SALNTY,SALNTY_FLAG_W,CTDOXY,CTDOXY_FLAG_W,THETA,OXYGEN,OXYGEN_FLAG_W,SILCAT,SILCAT_FLAG_W,NITRAT,NITRAT_FLAG_W,NITRIT,NITRIT_FLAG_W,PHSPHT,PHSPHT_FLAG_W,CFC-11,CFC-11_FLAG_W,CFC-12,CFC-12_FLAG_W,TRITUM,TRITUM_FLAG_W,HELIUM,HELIUM_FLAG_W,DELHE3,DELHE3_FLAG_W,DELC14,DELC14_FLAG_W,DELC13,DELC13_FLAG_W,TCARBN,TCARBN_FLAG_W,ALKALI,ALKALI_FLAG_W,C14ERR,HELIER,DELHER,C13ERR,TRITER
,,,,,,,,,,,,DBAR,ITS-90,PSS-78,,PSS-78,,UMOL/KG,,DEG C,UMOL/KG,,UMOL/KG,,UMOL/KG,,UMOL/KG,,UMOL/KG,,PMOL/KG,,PMOL/KG,,TU,,NMOL/KG,,PERCNT,,/MILLE,,/MILLE,,UMOL/KG,,UMOL/KG,,/MILLE,NMOL/KG,PERCNT,/MILLE,TU
   31WTTUNES_1,  P17C,     7,  1,      1,      1,3,19910603,2007, 35.0750,-124.0167, 4160,      1.8,  12.6926,  32.7310,2,-999.0000,5,   -999.0,9, 12.6924,   -999.0,5,  -999.00,5,  -999.00,5,  -999.00,9,  -999.00,5, -999.000,9, -999.000,9, -999.000,9,-999.0000,9,  -999.00,9,   -999.0,9,  -999.00,9,   -999.0,9,   -999.0,9,  -999.0,-999.0000,-999.000,  -999.0,-999.000
   31WTTUNES_1,  P17C,     7,  1,      2,      2,2,19910603,2007, 35.0750,-124.0167, 4160,     55.0,  12.3937,  32.7833,2,  32.7883,2,    276.5,2, 12.3866,    277.0,2,     4.50,2,     0.88,2,     0.06,2,     0.49,2,    3.569,2,    1.818,2,    2.348,2,   1.8190,2,    -1.09,2,   -999.0,9,  -999.00,9,   -999.0,9,   -999.0,9,  -999.0,  0.0090,   0.150,  -999.0,   0.014
   31WTTUNES_1,  P17C,     7,  1,      3,      3,2,19910603,2007, 35.0750,-124.0167, 4160,     62.9,  12.3507,  32.9991,2,  33.0201,2,    274.5,2, 12.3426,    265.7,2,     5.09,2,     2.45,2,     0.44,2,     0.61,2, -999.000,9, -999.000,9,    2.326,2,   1.8640,2,    -0.85,2,   -999.0,9,  -999.00,9,   -999.0,9,   -999.0,9,  -999.0,  0.0090,   0.150,  -999.0,   0.010
   31WTTUNES_1,  P17C,     7,  1,      4,      4,2,19910603,2007, 35.0750,-124.0167, 4160,     83.6,  11.3360,  33.1033,2,  33.1105,2,    244.8,2, 11.3258,    245.1,2,     7.53,2,     7.53,2,     0.03,2,     0.82,2, -999.000,9, -999.000,9, -999.000,9,-999.0000,9,  -999.00,9,   -999.0,9,  -999.00,9,   -999.0,9,   -999.0,9,  -999.0,-999.0000,-999.000,  -999.0,-999.000
   31WTTUNES_1,  P17C,     7,  1,      5,      5,2,19910603,2007, 35.0750,-124.0167, 4160,    104.4,  10.7332,  33.2072,2,  33.2133,2,    223.7,2, 10.7209,    225.7,2,    11.55,2,    12.04,2,  -999.00,9,     1.14,2,    3.468,2,    1.780,2,    2.270,2,   1.8300,2,     0.50,2,   -999.0,9,  -999.00,9,   -999.0,9,   -999.0,9,  -999.0,  0.0090,   0.150,  -999.0,   0.014
   31WTTUNES_1,  P17C,     7,  1,      6,      6,2,19910603,2007, 35.0750,-124.0167, 4160,    124.5,   9.4957,  33.3133,2,  33.3284,2,    200.5,2,  9.4820,    194.5,2,    17.12,2,    17.22,2,     0.02,2,     1.41,2,    3.271,2,    1.549,2, -999.000,9,-999.0000,9,  -999.00,9,   -999.0,9,  -999.00,9,   -999.0,9,   -999.0,9,  -999.0,-999.0000,-999.000,  -999.0,-999.000
   31WTTUNES_1,  P17C,     7,  1,      7,      7,2,19910603,2007, 35.0750,-124.0167, 4160,    166.0,   9.0588,  33.7695,2,  33.7654,2,    134.6,2,  9.0411,    139.3,2,    27.58,2,    24.16,2,     0.00,2,     1.82,2, -999.000,9, -999.000,9,    1.842,2,   1.8140,2,     7.84,2,   -999.0,9,  -999.00,9,   -999.0,9,   -999.0,9,  -999.0,  0.0090,   0.150,  -999.0,   0.009
   31WTTUNES_1,  P17C,     7,  1,      8,      8,2,19910603,2007, 35.0750,-124.0167, 4160,    180.4,   8.8559,  33.8304,2,  33.8356,2,    125.3,2,  8.8368,    136.5,2,    29.05,2,    25.14,2,     0.01,2,     1.88,2,    2.259,2,    1.111,2,    2.240,2,   1.8460,2,     8.55,2,   -999.0,9,  -999.00,9,   -999.0,9,   -999.0,9,  -999.0,  0.0090,   0.150,  -999.0,   0.016
   31WTTUNES_1,  P17C,     7,  1,      9,      9,2,19910603,2007, 35.0750,-124.0167, 4160,    206.8,   8.3711,  33.9201,2,  33.9058,2,    134.2,2,  8.3499,    133.3,2,    32.37,2,    25.92,2,     0.01,2,     1.90,2, -999.000,9, -999.000,9,    2.244,2,   1.8340,2,    10.19,2,   -999.0,9,  -999.00,9,   -999.0,9,   -999.0,9,  -999.0,  0.0090,   0.150,  -999.0,   0.016
   31WTTUNES_1,  P17C,     7,  1,     10,     10,2,19910603,2007, 35.0750,-124.0167, 4160,    259.0,   7.7624,  34.0313,2,  34.0258,2,    114.8,2,  7.7369,    103.9,2,    42.34,2,    29.73,2,     0.01,2,     2.19,2,    1.434,2,    0.695,2,    1.971,2,   1.8520,2,    14.00,2,   -999.0,9,  -999.00,9,   -999.0,9,   -999.0,9,  -999.0,  0.0090,   0.150,  -999.0,   0.015
   31WTTUNES_1,  P17C,     7,  1,     11,     11,2,19910603,2007, 35.0750,-124.0167, 4160,    312.2,   7.3086,  34.0703,2,  34.0684,2,     81.1,2,  7.2788,     83.6,2,    50.26,2,    32.27,2,     0.01,2,     2.41,2, -999.000,9, -999.000,9, -999.000,5,   1.8710,2,    15.58,2,   -999.0,9,  -999.00,9,   -999.0,9,   -999.0,9,  -999.0,  0.0090,   0.150,  -999.0,-999.000
   31WTTUNES_1,  P17C,     7,  1,     12,     12,2,19910603,2007, 35.0750,-124.0167, 4160,    348.0,   6.9518,  34.0923,2,  34.0895,2,     67.2,2,  6.9194,     67.9,2,    56.91,2,    34.13,2,     0.00,2,     2.56,2,    0.733,2,    0.361,2, -999.000,5,   1.8460,2,    16.04,2,   -999.0,9,  -999.00,9,   -999.0,9,   -999.0,9,  -999.0,  0.0090,   0.150,  -999.0,-999.000
   31WTTUNES_1,  P17C,     7,  1,     13,     13,2,19910603,2007, 35.0750,-124.0167, 4160,    401.9,   6.5300,  34.1362,2,  34.1335,2,     46.2,2,  6.4938,     48.7,2,    65.12,2,    36.47,2,     0.02,2,     2.76,2,    0.417,2,    0.204,2,    1.092,2,   1.8510,2,    15.44,2,   -999.0,9,  -999.00,9,   -999.0,9,   -999.0,9,  -999.0,  0.0090,   0.150,  -999.0,   0.011
   31WTTUNES_1,  P17C,     7,  1,     14,     14,2,19910603,2007, 35.0750,-124.0167, 4160,    499.8,   5.7094,  34.1537,2,  34.1487,2,     25.7,2,  5.6671,     31.7,2,    78.13,2,    39.70,2,     0.00,2,     2.94,2,    0.169,2,    0.081,2,    0.645,2,   1.8740,2,    14.43,2,   -999.0,9,  -999.00,9,   -999.0,9,   -999.0,9,  -999.0,  0.0090,   0.150,  -999.0,   0.009
   31WTTUNES_1,  P17C,     7,  1,     15,     15,2,19910603,2007, 35.0750,-124.0167, 4160,    605.3,   5.2567,  34.2564,2,  34.2524,2,     15.8,2,  5.2070,     15.3,2,    90.83,2,    41.55,2,     0.01,2,     3.12,2, -999.000,9, -999.000,9, -999.000,5,   1.9290,2,    11.70,2,   -999.0,9,  -999.00,9,   -999.0,9,   -999.0,9,  -999.0,  0.0090,   0.150,  -999.0,-999.000
   31WTTUNES_1,  P17C,     7,  1,     16,     16,2,19910603,2007, 35.0750,-124.0167, 4160,    718.9,   4.8029,  34.3416,2,  34.3390,2,     12.0,2,  4.7458,     11.3,2,   102.07,2,    43.12,2,     0.00,2,     3.20,2,    0.018,2,    0.015,2,    0.022,2,   1.8950,2,    13.25,2,   -999.0,9,  -999.00,9,   -999.0,9,   -999.0,9,  -999.0,  0.0090,   0.150,  -999.0,   0.002
   31WTTUNES_1,  P17C,     7,  1,     17,     17,2,19910603,2007, 35.0750,-124.0167, 4160,    812.2,   4.4411,  34.3864,2,  34.3856,2,     13.2,2,  4.3782,     14.8,2,   110.08,2,    43.50,2,     0.01,2,     3.22,2, -999.000,9, -999.000,9, -999.000,5,   1.8780,2,    15.26,2,   -999.0,9,  -999.00,9,   -999.0,9,   -999.0,9,  -999.0,  0.0090,   0.150,  -999.0,-999.000
   31WTTUNES_1,  P17C,     7,  1,     20,     20,4,19910603,2007, 35.0750,-124.0167, 4160,   1006.3,   3.8795,  34.4549,2,  34.4527,2,     21.3,2,  3.8043,     20.8,2,   122.20,2,    43.89,2,     0.01,2,     3.21,2, -999.000,9, -999.000,9, -999.000,9,-999.0000,9,  -999.00,9,   -999.0,9,  -999.00,9,   -999.0,9,   -999.0,9,  -999.0,-999.0000,-999.000,  -999.0,-999.000
   31WTTUNES_1,  P17C,     7,  1,     19,     19,2,19910603,2007, 35.0750,-124.0167, 4160,   1006.3,   3.8795,  34.4549,2,  34.4526,2,     21.3,2,  3.8043,     21.3,2,   122.20,2,    43.80,2,     0.01,2,     3.20,2,    0.017,2,    0.003,2, -999.000,5,   1.9180,2,    18.19,2,   -999.0,9,  -999.00,9,   -999.0,9,   -999.0,9,  -999.0,  0.0090,   0.150,  -999.0,-999.000
   31WTTUNES_1,  P17C,     7,  1,     18,     18,4,19910603,2007, 35.0750,-124.0167, 4160,   1006.3,   3.8795,  34.4549,2,  34.4430,4,     21.3,2,  3.8043,     21.2,2,   122.00,2,    43.70,2,     0.01,2,     3.20,2, -999.000,9, -999.000,9, -999.000,9,-999.0000,9,  -999.00,9,   -999.0,9,  -999.00,9,   -999.0,9,   -999.0,9,  -999.0,-999.0000,-999.000,  -999.0,-999.000
   31WTTUNES_1,  P17C,     7,  1,     21,     21,2,19910603,2007, 35.0750,-124.0167, 4160,   1206.1,   3.3868,  34.4990,2,  34.4985,2,     30.9,2,  3.2993,     30.2,2,   133.44,2,    43.89,2,     0.00,2,     3.16,2, -999.000,9, -999.000,9, -999.000,9,-999.0000,9,  -999.00,9,   -999.0,9,  -999.00,9,   -999.0,9,   -999.0,9,  -999.0,-999.0000,-999.000,  -999.0,-999.000
   31WTTUNES_1,  P17C,     7,  1,     22,     22,2,19910603,2007, 35.0750,-124.0167, 4160,   1407.4,   2.9790,  34.5307,2,  34.5297,2,     40.0,2,  2.8792,     39.5,2,   143.60,2,    43.50,2,     0.01,2,     3.11,2, -999.000,9, -999.000,9, -999.000,9,-999.0000,9,  -999.00,9,   -999.0,9,  -999.00,9,   -999.0,9,   -999.0,9,  -999.0,-999.0000,-999.000,  -999.0,-999.000
   31WTTUNES_1,  P17C,     7,  1,     23,     23,2,19910603,2007, 35.0750,-124.0167, 4160,   1618.7,   2.6352,  34.5588,2,  34.5583,2,     50.9,2,  2.5220,     55.4,2,   152.20,2,    42.72,2,     0.01,2,     3.06,2, -999.000,9, -999.000,9, -999.000,9,-999.0000,9,  -999.00,9,   -999.0,9,  -999.00,9,   -999.0,9,   -999.0,9,  -999.0,-999.0000,-999.000,  -999.0,-999.000
   31WTTUNES_1,  P17C,     7,  1,     24,     24,2,19910603,2007, 35.0750,-124.0167, 4160,   1819.4,   2.3154,  34.5819,2,  34.5853,2,     61.8,2,  2.1897,     62.0,2,   160.99,2,    42.03,2,     0.01,2,     3.01,2, -999.000,9, -999.000,9, -999.000,9,-999.0000,9,  -999.00,9,   -999.0,9,  -999.00,9,   -999.0,9,   -999.0,9,  -999.0,-999.0000,-999.000,  -999.0,-999.000
   31WTTUNES_1,  P17C,     7,  1,     25,     25,2,19910603,2007, 35.0750,-124.0167, 4160,   2031.4,   2.0716,  34.6012,2,  34.6054,2,     72.8,2,  1.9315,     71.5,2,   168.32,2,    41.64,2,     0.01,2,     2.94,2, -999.000,9, -999.000,9, -999.000,9,-999.0000,9,  -999.00,9,   -999.0,9,  -999.00,9,   -999.0,9,   -999.0,9,  -999.0,-999.0000,-999.000,  -999.0,-999.000
   31WTTUNES_1,  P17C,     7,  1,     26,     26,2,19910603,2007, 35.0750,-124.0167, 4160,   2230.0,   1.9097,  34.6217,2,  34.6236,2,     84.8,2,  1.7552,     84.4,2,   171.35,2,    40.86,2,     0.01,2,     2.87,2, -999.000,9, -999.000,9, -999.000,9,-999.0000,9,  -999.00,9,   -999.0,9,  -999.00,9,   -999.0,9,   -999.0,9,  -999.0,-999.0000,-999.000,  -999.0,-999.000
   31WTTUNES_1,  P17C,     7,  1,     27,     27,2,19910603,2007, 35.0750,-124.0167, 4160,   2425.5,   1.8158,  34.6327,2,  34.6359,2,     92.8,2,  1.6457,     92.3,2,   172.13,2,    40.17,2,     0.00,2,     2.83,2, -999.000,9, -999.000,9, -999.000,9,-999.0000,9,  -999.00,9,   -999.0,9,  -999.00,9,   -999.0,9,   -999.0,9,  -999.0,-999.0000,-999.000,  -999.0,-999.000
   31WTTUNES_1,  P17C,     7,  1,     28,     28,2,19910603,2007, 35.0750,-124.0167, 4160,   2528.8,   1.7698,  34.6411,2,  34.6417,2,     99.5,2,  1.5913,     99.3,2,   171.15,2,    39.88,2,     0.00,2,     2.80,2, -999.000,9, -999.000,9, -999.000,9,-999.0000,9,  -999.00,9,   -999.0,9,  -999.00,9,   -999.0,9,   -999.0,9,  -999.0,-999.0000,-999.000,  -999.0,-999.000
   31WTTUNES_1,  P17C,     7,  1,     29,     29,9,19910603,2007, 35.0750,-124.0167, 4160,   2641.2,   1.7308,  34.6455,2,-999.0000,9,    104.3,2,  1.5428,   -999.0,9,  -999.00,9,  -999.00,9,  -999.00,9,  -999.00,9, -999.000,9, -999.000,9, -999.000,9,-999.0000,9,  -999.00,9,   -999.0,9,  -999.00,9,   -999.0,9,   -999.0,9,  -999.0,-999.0000,-999.000,  -999.0,-999.000
   31WTTUNES_1,  P17C,     7,  1,     30,     30,2,19910603,2007, 35.0750,-124.0167, 4160,   2849.4,   1.6619,  34.6511,2,  34.6540,2,    110.3,2,  1.4560,    108.8,2,   172.42,2,    39.10,2,     0.00,2,     2.74,2, -999.000,9, -999.000,9, -999.000,9,-999.0000,9,  -999.00,9,   -999.0,9,  -999.00,9,   -999.0,9,   -999.0,9,  -999.0,-999.0000,-999.000,  -999.0,-999.000
   31WTTUNES_1,  P17C,     7,  1,     31,     31,9,19910603,2007, 35.0750,-124.0167, 4160,   3033.7,   1.6279,  34.6590,2,-999.0000,9,    116.9,2,  1.4051,   -999.0,9,  -999.00,9,  -999.00,9,  -999.00,9,  -999.00,9, -999.000,9, -999.000,9, -999.000,9,-999.0000,9,  -999.00,9,   -999.0,9,  -999.00,9,   -999.0,9,   -999.0,9,  -999.0,-999.0000,-999.000,  -999.0,-999.000
   31WTTUNES_1,  P17C,     7,  1,     32,     32,2,19910603,2007, 35.0750,-124.0167, 4160,   3293.6,   1.5849,  34.6657,2,  34.6647,2,    123.7,2,  1.3376,    125.5,2,   171.25,2,    38.12,2,     0.00,2,     2.67,2, -999.000,9, -999.000,9, -999.000,9,-999.0000,9,  -999.00,9,   -999.0,9,  -999.00,9,   -999.0,9,   -999.0,9,  -999.0,-999.0000,-999.000,  -999.0,-999.000
   31WTTUNES_1,  P17C,     7,  1,     33,     33,2,19910603,2007, 35.0750,-124.0167, 4160,   3555.2,   1.5470,  34.6687,2,  34.6700,2,    128.1,2,  1.2741,    126.9,2,   172.61,2,    37.83,2,     0.00,2,     2.65,2, -999.000,9, -999.000,9, -999.000,9,-999.0000,9,  -999.00,9,   -999.0,9,  -999.00,9,   -999.0,9,   -999.0,9,  -999.0,-999.0000,-999.000,  -999.0,-999.000
   31WTTUNES_1,  P17C,     7,  1,     34,     34,4,19910603,2007, 35.0750,-124.0167, 4160,   3555.2,   1.5470,  34.6687,2,  34.6697,2,    128.1,2,  1.2741,    133.1,3,   171.64,2,    37.92,2,     0.00,2,     2.65,2,    0.006,2,    0.006,2, -999.000,9,-999.0000,9,  -999.00,9,   -999.0,9,  -999.00,9,   -999.0,9,   -999.0,9,  -999.0,-999.0000,-999.000,  -999.0,-999.000
   31WTTUNES_1,  P17C,     7,  1,     35,     35,2,19910603,2007, 35.0750,-124.0167, 4160,   4075.8,   1.4950,  34.6792,2,  34.6800,2,    143.7,2,  1.1680,    141.3,2,   167.82,2,    36.95,2,     0.00,2,     2.57,2,    0.003,2,    0.005,2, -999.000,9,-999.0000,9,  -999.00,9,   -999.0,9,  -999.00,9,   -999.0,9,   -999.0,9,  -999.0,-999.0000,-999.000,  -999.0,-999.000
   31WTTUNES_1,  P17C,     7,  1,     36,     36,2,19910603,2007, 35.0750,-124.0167, 4160,   4227.4,   1.5010,  34.6805,2,  34.6789,2,   -999.0,9,  1.1570,    145.2,2,   167.63,2,    36.95,2,     0.00,2,     2.57,2,    0.000,2,    0.005,2, -999.000,9,-999.0000,9,  -999.00,9,   -999.0,9,  -999.00,9,   -999.0,9,   -999.0,9,  -999.0,-999.0000,-999.000,  -999.0,-999.000