BOTTLE,20220819CCHSIOAMB
EXPOCODE,SECT_ID,STNNBR,CASTNO,SAMPNO,BTLNBR,BTLNBR_FLAG_W,DATE,TIME,LATITUDE,LONGITUDE,DEPTH,CTDPRS,CTDTMP,CTDSAL,CTDSAL_FLAG_W,SALNTY,SALNTY_FLAG_W,CTDOXY,CTDOXY_FLAG_W,THETA,OXYGEN,OXYGEN_FLAG_W,SILCAT,SILCAT_FLAG_W,NITRAT,NITRAT_FLAG_W,NITRIT,NITRIT_FLAG_W,PHSPHT,PHSPHT_FLAG_W,CFC-11,CFC-11_FLAG_W,CFC-12,CFC-12_FLAG_W,TRITUM,TRITUM_FLAG_W,HELIUM,HELIUM_FLAG_W,DELHE3,DELHE3_FLAG_W,DELC14,DELC14_FLAG_W,DELC13,DELC13_FLAG_W,TCARBN,TCARBN_FLAG_W,ALKALI,ALKALI_FLAG_W,C14ERR,HELIER,DELHER,C13ERR,TRITER
,,,,,,,,,,,,DBAR,ITS-90,PSS-78,,PSS-78,,UMOL/KG,,DEG C,UMOL/KG,,UMOL/KG,,UMOL/KG,,UMOL/KG,,UMOL/KG,,PMOL/KG,,PMOL/KG,,TU,,NMOL/KG,,PERCNT,,/MILLE,,/MILLE,,UMOL/KG,,UMOL/KG,,/MILLE,NMOL/KG,PERCNT,/MILLE,TU
   31WTTUNES_1,  P17C,   122,  1,      1,      1,2,19910707,0243, -5.5017,-135.0017, 4543,      0.2,  27.6571,  35.1028,2,  35.1065,2,    212.3,3, 27.6570,    210.6,2,     2.84,2,     4.93,2,     0.09,2,     0.57,2,    1.641,2,    0.978,2, -999.000,9,-999.0000,9,  -999.00,9,   -999.0,9,  -999.00,9,   -999.0,9,   -999.0,9,  -999.0,-999.0000,-999.000,  -999.0,-999.000
   31WTTUNES_1,  P17C,   122,  1,      2,      2,2,19910707,0243, -5.5017,-135.0017, 4543,     51.5,  27.6077,  35.1054,2,  35.1096,2,    213.1,2, 27.5957,    212.6,2,     2.83,2,     4.98,2,     0.09,2,     0.58,2,    1.636,2,    0.936,2, -999.000,9,-999.0000,9,  -999.00,9,   -999.0,9,  -999.00,9,   -999.0,9,   -999.0,9,  -999.0,-999.0000,-999.000,  -999.0,-999.000
   31WTTUNES_1,  P17C,   122,  1,      3,      3,2,19910707,0243, -5.5017,-135.0017, 4543,     98.0,  24.7733,  35.7397,2,  35.7402,2,    181.3,2, 24.7522,    194.7,2,     2.82,2,     4.84,2,     0.18,2,     0.77,2,    1.838,2,    1.019,2, -999.000,9,-999.0000,9,  -999.00,9,   -999.0,9,  -999.00,9,   -999.0,9,   -999.0,9,  -999.0,-999.0000,-999.000,  -999.0,-999.000
   31WTTUNES_1,  P17C,   122,  1,      4,      4,2,19910707,0243, -5.5017,-135.0017, 4543,    118.6,  21.3951,  35.7187,2,  35.7120,2,    137.8,2, 21.3720,    163.4,2,     2.81,2,     5.92,2,     3.19,2,     0.93,2,    1.884,2,    1.035,2, -999.000,9,-999.0000,9,  -999.00,9,   -999.0,9,  -999.00,9,   -999.0,9,   -999.0,9,  -999.0,-999.0000,-999.000,  -999.0,-999.000
   31WTTUNES_1,  P17C,   122,  1,      5,      5,2,19910707,0243, -5.5017,-135.0017, 4543,    127.8,  20.3798,  35.5735,2,  35.5385,2,    116.1,2, 20.3558,    146.3,2,     3.96,2,     9.17,2,     2.72,2,     1.11,2,    1.807,2,    0.973,2, -999.000,9,-999.0000,9,  -999.00,9,   -999.0,9,  -999.00,9,   -999.0,9,   -999.0,9,  -999.0,-999.0000,-999.000,  -999.0,-999.000
   31WTTUNES_1,  P17C,   122,  1,      6,      6,2,19910707,0243, -5.5017,-135.0017, 4543,    137.7,  19.4792,  35.5471,2,  35.5480,2,    103.5,2, 19.4542,    141.7,2,     3.95,2,     9.95,2,     1.10,2,     1.05,2,    1.858,2,    0.999,2, -999.000,9,-999.0000,9,  -999.00,9,   -999.0,9,  -999.00,9,   -999.0,9,   -999.0,9,  -999.0,-999.0000,-999.000,  -999.0,-999.000
   31WTTUNES_1,  P17C,   122,  1,      7,      7,2,19910707,0243, -5.5017,-135.0017, 4543,    159.1,  17.1055,  35.3724,2,  35.3342,2,     65.6,2, 17.0791,    101.4,2,     6.46,2,    16.09,2,     0.04,2,     1.41,2,    1.520,2,    0.835,2, -999.000,9,-999.0000,9,  -999.00,9,   -999.0,9,  -999.00,9,   -999.0,9,   -999.0,9,  -999.0,-999.0000,-999.000,  -999.0,-999.000
   31WTTUNES_1,  P17C,   122,  1,      8,      8,2,19910707,0243, -5.5017,-135.0017, 4543,    179.8,  14.3766,  35.0519,2,  35.0600,2,     30.7,2, 14.3502,     38.0,2,    12.63,2,    24.45,2,     0.02,2,     2.05,2,    0.910,2,    0.491,2, -999.000,9,-999.0000,9,  -999.00,9,   -999.0,9,  -999.00,9,   -999.0,9,   -999.0,9,  -999.0,-999.0000,-999.000,  -999.0,-999.000
   31WTTUNES_1,  P17C,   122,  1,      9,      9,2,19910707,0243, -5.5017,-135.0017, 4543,    205.0,  12.8903,  34.9279,2,  34.9289,2,     10.4,2, 12.8622,     10.4,2,    19.96,2,    29.60,2,     0.01,2,     2.41,2,    0.382,2,    0.214,2, -999.000,9,-999.0000,9,  -999.00,9,   -999.0,9,  -999.00,9,   -999.0,9,   -999.0,9,  -999.0,-999.0000,-999.000,  -999.0,-999.000
   31WTTUNES_1,  P17C,   122,  1,     10,     10,2,19910707,0243, -5.5017,-135.0017, 4543,    254.4,  11.7027,  34.8572,2,  34.8577,2,     25.6,2, 11.6700,     25.2,2,    25.56,2,    32.09,2,     0.01,2,     2.36,2,    0.149,2,    0.091,2, -999.000,9,-999.0000,9,  -999.00,9,   -999.0,9,  -999.00,9,   -999.0,9,   -999.0,9,  -999.0,-999.0000,-999.000,  -999.0,-999.000
   31WTTUNES_1,  P17C,   122,  1,     11,     11,2,19910707,0243, -5.5017,-135.0017, 4543,    303.4,  11.1751,  34.8238,2,  34.8237,2,     29.2,2, 11.1372,     27.3,2,    27.29,2,    33.06,2,     0.01,2,     2.39,2,    0.107,2,    0.069,2, -999.000,9,-999.0000,9,  -999.00,9,   -999.0,9,  -999.00,9,   -999.0,9,   -999.0,9,  -999.0,-999.0000,-999.000,  -999.0,-999.000
   31WTTUNES_1,  P17C,   122,  1,     12,     12,2,19910707,0243, -5.5017,-135.0017, 4543,    353.3,  10.4551,  34.7758,2,  34.7767,2,     22.7,2, 10.4127,     23.5,2,    31.72,2,    35.01,2,     0.01,2,     2.54,2,    0.056,2,    0.036,2, -999.000,9,-999.0000,9,  -999.00,9,   -999.0,9,  -999.00,9,   -999.0,9,   -999.0,9,  -999.0,-999.0000,-999.000,  -999.0,-999.000
   31WTTUNES_1,  P17C,   122,  1,     13,     13,2,19910707,0243, -5.5017,-135.0017, 4543,    455.2,   9.0157,  34.6842,2,  34.6861,2,     51.9,2,  8.9656,     35.5,2,    35.96,2,    36.98,2,     0.01,2,     2.61,2,    0.022,2,    0.016,2, -999.000,9,-999.0000,9,  -999.00,9,   -999.0,9,  -999.00,9,   -999.0,9,   -999.0,9,  -999.0,-999.0000,-999.000,  -999.0,-999.000
   31WTTUNES_1,  P17C,   122,  1,     14,     14,2,19910707,0243, -5.5017,-135.0017, 4543,    559.3,   7.6798,  34.6100,2,  34.6108,2,     54.5,2,  7.6236,     48.6,2,    42.33,2,    39.29,2,     0.01,2,     2.72,2,    0.007,2,    0.004,2, -999.000,9,-999.0000,9,  -999.00,9,   -999.0,9,  -999.00,9,   -999.0,9,   -999.0,9,  -999.0,-999.0000,-999.000,  -999.0,-999.000
   31WTTUNES_1,  P17C,   122,  1,     15,     15,2,19910707,0243, -5.5017,-135.0017, 4543,    656.7,   6.8048,  34.5745,2,  34.5741,2,     47.9,2,  6.7427,     47.7,2,    50.82,2,    41.54,2,     0.01,2,     2.88,2,    0.001,2,    0.002,2, -999.000,9,-999.0000,9,  -999.00,9,   -999.0,9,  -999.00,9,   -999.0,9,   -999.0,9,  -999.0,-999.0000,-999.000,  -999.0,-999.000
   31WTTUNES_1,  P17C,   122,  1,     16,     16,2,19910707,0243, -5.5017,-135.0017, 4543,    755.9,   5.9367,  34.5484,2,  34.5491,2,     66.7,2,  5.8696,     65.2,2,    59.31,2,    41.37,2,     0.01,2,     2.87,2,    0.002,2,    0.007,2, -999.000,9,-999.0000,9,  -999.00,9,   -999.0,9,  -999.00,9,   -999.0,9,   -999.0,9,  -999.0,-999.0000,-999.000,  -999.0,-999.000
   31WTTUNES_1,  P17C,   122,  1,     17,     17,2,19910707,0243, -5.5017,-135.0017, 4543,    855.7,   5.2732,  34.5391,2,  34.5395,2,     78.2,2,  5.2010,     77.3,2,    68.56,2,    40.94,2,     0.01,2,     2.87,2,   -0.001,2,   -0.002,2, -999.000,9,-999.0000,9,  -999.00,9,   -999.0,9,  -999.00,9,   -999.0,9,   -999.0,9,  -999.0,-999.0000,-999.000,  -999.0,-999.000
   31WTTUNES_1,  P17C,   122,  1,     18,     18,2,19910707,0243, -5.5017,-135.0017, 4543,    960.0,   4.7417,  34.5409,2,  34.5422,2,     85.2,2,  4.6639,     84.2,2,    77.82,2,    40.62,2,     0.01,2,     2.87,2,    0.028,4,    0.008,2, -999.000,9,-999.0000,9,  -999.00,9,   -999.0,9,  -999.00,9,   -999.0,9,   -999.0,9,  -999.0,-999.0000,-999.000,  -999.0,-999.000
   31WTTUNES_1,  P17C,   122,  1,     19,     19,2,19910707,0243, -5.5017,-135.0017, 4543,   1061.5,   4.3344,  34.5487,2,  34.5505,2,     89.5,2,  4.2508,     89.7,2,    86.50,2,    40.41,2,     0.01,2,     2.87,2, -999.000,9, -999.000,9, -999.000,9,-999.0000,9,  -999.00,9,   -999.0,9,  -999.00,9,   -999.0,9,   -999.0,9,  -999.0,-999.0000,-999.000,  -999.0,-999.000
   31WTTUNES_1,  P17C,   122,  1,     20,     20,2,19910707,0243, -5.5017,-135.0017, 4543,   1212.9,   3.7873,  34.5661,2,  34.5677,2,     93.2,2,  3.6955,     93.7,2,    99.61,2,    40.35,2,     0.01,2,     2.87,2, -999.000,9, -999.000,9, -999.000,9,-999.0000,9,  -999.00,9,   -999.0,9,  -999.00,9,   -999.0,9,   -999.0,9,  -999.0,-999.0000,-999.000,  -999.0,-999.000
   31WTTUNES_1,  P17C,   122,  1,     21,     21,2,19910707,0243, -5.5017,-135.0017, 4543,   1417.2,   3.1792,  34.5903,2,  34.5905,2,     97.8,2,  3.0762,     98.5,2,   114.46,2,    40.24,2,     0.01,2,     2.86,2, -999.000,9, -999.000,9, -999.000,9,-999.0000,9,  -999.00,9,   -999.0,9,  -999.00,9,   -999.0,9,   -999.0,9,  -999.0,-999.0000,-999.000,  -999.0,-999.000
   31WTTUNES_1,  P17C,   122,  1,     22,     22,2,19910707,0243, -5.5017,-135.0017, 4543,   1621.8,   2.7602,  34.6110,2,  34.6119,2,    104.4,2,  2.6449,    103.6,2,   126.03,2,    39.87,2,     0.00,2,     2.83,2, -999.000,9, -999.000,9, -999.000,9,-999.0000,9,  -999.00,9,   -999.0,9,  -999.00,9,   -999.0,9,   -999.0,9,  -999.0,-999.0000,-999.000,  -999.0,-999.000
   31WTTUNES_1,  P17C,   122,  1,     23,     23,2,19910707,0243, -5.5017,-135.0017, 4543,   1825.6,   2.4651,  34.6259,2,  34.6280,2,    112.1,2,  2.3366,    112.8,2,   131.81,2,    39.29,2,     0.00,2,     2.76,2, -999.000,9, -999.000,9, -999.000,9,-999.0000,9,  -999.00,9,   -999.0,9,  -999.00,9,   -999.0,9,   -999.0,9,  -999.0,-999.0000,-999.000,  -999.0,-999.000
   31WTTUNES_1,  P17C,   122,  1,     24,     24,2,19910707,0243, -5.5017,-135.0017, 4543,   2027.0,   2.2779,  34.6365,2,  34.6373,2,    117.9,2,  2.1349,    118.3,2,   135.26,2,    38.82,2,     0.00,2,     2.74,2, -999.000,9, -999.000,9, -999.000,9,-999.0000,9,  -999.00,9,   -999.0,9,  -999.00,9,   -999.0,9,   -999.0,9,  -999.0,-999.0000,-999.000,  -999.0,-999.000
   31WTTUNES_1,  P17C,   122,  1,     25,     25,2,19910707,0243, -5.5017,-135.0017, 4543,   2235.9,   2.0971,  34.6467,2,  34.6487,2,    123.8,2,  1.9388,    123.3,2,   138.91,2,    38.50,2,     0.00,2,     2.70,2, -999.000,9, -999.000,9, -999.000,9,-999.0000,9,  -999.00,9,   -999.0,9,  -999.00,9,   -999.0,9,   -999.0,9,  -999.0,-999.0000,-999.000,  -999.0,-999.000
   31WTTUNES_1,  P17C,   122,  1,     26,     26,2,19910707,0243, -5.5017,-135.0017, 4543,   2426.5,   1.9700,  34.6564,2,  34.6573,2,    126.4,2,  1.7969,    126.2,2,   142.76,2,    38.34,2,     0.00,2,     2.67,2, -999.000,9, -999.000,9, -999.000,9,-999.0000,9,  -999.00,9,   -999.0,9,  -999.00,9,   -999.0,9,   -999.0,9,  -999.0,-999.0000,-999.000,  -999.0,-999.000
   31WTTUNES_1,  P17C,   122,  1,     27,     27,2,19910707,0243, -5.5017,-135.0017, 4543,   2630.4,   1.8447,  34.6650,2,  34.6683,2,    132.1,2,  1.6553,    131.7,2,   145.44,2,    37.87,2,     0.00,2,     2.65,2, -999.000,9, -999.000,9, -999.000,9,-999.0000,9,  -999.00,9,   -999.0,9,  -999.00,9,   -999.0,9,   -999.0,9,  -999.0,-999.0000,-999.000,  -999.0,-999.000
   31WTTUNES_1,  P17C,   122,  1,     28,     28,2,19910707,0243, -5.5017,-135.0017, 4543,   2835.5,   1.7796,  34.6714,2,  34.6728,2,    136.7,2,  1.5724,    136.0,2,   146.00,2,    37.71,2,     0.00,2,     2.61,2, -999.000,9, -999.000,9, -999.000,9,-999.0000,9,  -999.00,9,   -999.0,9,  -999.00,9,   -999.0,9,   -999.0,9,  -999.0,-999.0000,-999.000,  -999.0,-999.000
   31WTTUNES_1,  P17C,   122,  1,     29,     29,2,19910707,0243, -5.5017,-135.0017, 4543,   3034.2,   1.6898,  34.6762,2,  34.6756,2,    142.9,2,  1.4655,    142.2,2,   147.14,2,    37.29,2,     0.00,2,     2.58,2, -999.000,9, -999.000,9, -999.000,9,-999.0000,9,  -999.00,9,   -999.0,9,  -999.00,9,   -999.0,9,   -999.0,9,  -999.0,-999.0000,-999.000,  -999.0,-999.000
   31WTTUNES_1,  P17C,   122,  1,     30,     30,2,19910707,0243, -5.5017,-135.0017, 4543,   3246.9,   1.6008,  34.6801,2,  34.6809,2,    147.7,2,  1.3577,    148.3,2,   147.51,2,    36.77,2,     0.00,2,     2.56,2, -999.000,9, -999.000,9, -999.000,9,-999.0000,9,  -999.00,9,   -999.0,9,  -999.00,9,   -999.0,9,   -999.0,9,  -999.0,-999.0000,-999.000,  -999.0,-999.000
   31WTTUNES_1,  P17C,   122,  1,     31,     31,2,19910707,0243, -5.5017,-135.0017, 4543,   3450.8,   1.5473,  34.6839,2,  34.6844,2,    152.7,2,  1.2850,    153.1,2,   146.91,2,    36.66,2,     0.00,2,     2.52,2, -999.000,9, -999.000,9, -999.000,9,-999.0000,9,  -999.00,9,   -999.0,9,  -999.00,9,   -999.0,9,   -999.0,9,  -999.0,-999.0000,-999.000,  -999.0,-999.000
   31WTTUNES_1,  P17C,   122,  1,     32,     32,2,19910707,0243, -5.5017,-135.0017, 4543,   3652.4,   1.4999,  34.6885,2,  34.6867,2,    156.6,2,  1.2180,    157.4,2,   146.32,2,    36.40,2,     0.00,2,     2.51,2, -999.000,9, -999.000,9, -999.000,9,-999.0000,9,  -999.00,9,   -999.0,9,  -999.00,9,   -999.0,9,   -999.0,9,  -999.0,-999.0000,-999.000,  -999.0,-999.000
   31WTTUNES_1,  P17C,   122,  1,     33,     33,2,19910707,0243, -5.5017,-135.0017, 4543,   3851.8,   1.4730,  34.6912,2,  34.6881,2,    159.2,2,  1.1708,    159.6,2,   145.34,2,    36.24,2,     0.00,2,     2.52,2, -999.000,9, -999.000,9, -999.000,9,-999.0000,9,  -999.00,9,   -999.0,9,  -999.00,9,   -999.0,9,   -999.0,9,  -999.0,-999.0000,-999.000,  -999.0,-999.000
   31WTTUNES_1,  P17C,   122,  1,     34,     34,2,19910707,0243, -5.5017,-135.0017, 4543,   4053.3,   1.4393,  34.6943,2,  34.6911,2,    165.4,2,  1.1163,    165.0,2,   143.00,2,    35.72,2,     0.00,2,     2.48,2, -999.000,9, -999.000,9, -999.000,9,-999.0000,9,  -999.00,9,   -999.0,9,  -999.00,9,   -999.0,9,   -999.0,9,  -999.0,-999.0000,-999.000,  -999.0,-999.000
   31WTTUNES_1,  P17C,   122,  1,     35,     35,2,19910707,0243, -5.5017,-135.0017, 4543,   4317.5,   1.4137,  34.6969,2,  34.6942,2,    170.7,2,  1.0621,    173.0,2,   138.74,2,    35.31,2,     0.00,2,     2.43,2,   -0.003,2,    0.000,2, -999.000,9,-999.0000,9,  -999.00,9,   -999.0,9,  -999.00,9,   -999.0,9,   -999.0,9,  -999.0,-999.0000,-999.000,  -999.0,-999.000
   31WTTUNES_1,  P17C,   122,  1,     36,     36,2,19910707,0243, -5.5017,-135.0017, 4543,   4635.4,   1.4418,  34.6973,2,  34.6960,2,   -999.0,9,  1.0529,    173.6,2,   137.76,2,    35.10,2,     0.00,2,     2.44,2,    0.001,2,    0.002,2, -999.000,9,-999.0000,9,  -999.00,9,   -999.0,9,  -999.00,9,   -999.0,9,   -999.0,9,  -999.0,-999.0000,-999.000,  -999.0,-999.000