BOTTLE,20220819CCHSIOAMB
EXPOCODE,SECT_ID,STNNBR,CASTNO,SAMPNO,BTLNBR,BTLNBR_FLAG_W,DATE,TIME,LATITUDE,LONGITUDE,DEPTH,CTDPRS,CTDTMP,CTDSAL,CTDSAL_FLAG_W,SALNTY,SALNTY_FLAG_W,CTDOXY,CTDOXY_FLAG_W,THETA,OXYGEN,OXYGEN_FLAG_W,SILCAT,SILCAT_FLAG_W,NITRAT,NITRAT_FLAG_W,NITRIT,NITRIT_FLAG_W,PHSPHT,PHSPHT_FLAG_W,CFC-11,CFC-11_FLAG_W,CFC-12,CFC-12_FLAG_W,TRITUM,TRITUM_FLAG_W,HELIUM,HELIUM_FLAG_W,DELHE3,DELHE3_FLAG_W,DELC14,DELC14_FLAG_W,DELC13,DELC13_FLAG_W,TCARBN,TCARBN_FLAG_W,ALKALI,ALKALI_FLAG_W,C14ERR,HELIER,DELHER,C13ERR,TRITER
,,,,,,,,,,,,DBAR,ITS-90,PSS-78,,PSS-78,,UMOL/KG,,DEG C,UMOL/KG,,UMOL/KG,,UMOL/KG,,UMOL/KG,,UMOL/KG,,PMOL/KG,,PMOL/KG,,TU,,NMOL/KG,,PERCNT,,/MILLE,,/MILLE,,UMOL/KG,,UMOL/KG,,/MILLE,NMOL/KG,PERCNT,/MILLE,TU
   31WTTUNES_1,  P17C,    33,  1,      1,      1,2,19910613,2239, 26.5017,-135.0000, 4297,      0.3,  20.1546,  35.1197,2,  35.1238,2,   -999.0,9, 20.1546,    229.3,2,     2.74,2,     0.13,2,     0.00,2,     0.10,2,    2.394,2,    1.255,2, -999.000,9,-999.0000,9,  -999.00,9,   -999.0,9,  -999.00,9,   -999.0,9,   -999.0,9,  -999.0,-999.0000,-999.000,  -999.0,-999.000
   31WTTUNES_1,  P17C,    33,  1,      2,      2,2,19910613,2239, 26.5017,-135.0000, 4297,     52.5,  20.1553,  35.1203,2,  35.1242,2,    228.9,2, 20.1456,    230.1,2,     2.73,2,     0.13,2,     0.00,2,     0.10,2,    2.399,2,    1.251,2,    2.139,2,   1.8690,2,    -0.83,2,   -999.0,9,  -999.00,9,   -999.0,9,   -999.0,9,  -999.0,  0.0090,   0.150,  -999.0,   0.014
   31WTTUNES_1,  P17C,    33,  1,      3,      3,2,19910613,2239, 26.5017,-135.0000, 4297,     78.1,  20.0592,  35.1077,2,  35.0894,2,    223.4,2, 20.0448,    229.7,2,     2.72,2,     0.13,2,     0.00,2,     0.10,2,    2.408,2,    1.257,2, -999.000,9,-999.0000,9,  -999.00,9,   -999.0,9,  -999.00,9,   -999.0,9,   -999.0,9,  -999.0,-999.0000,-999.000,  -999.0,-999.000
   31WTTUNES_1,  P17C,    33,  1,      4,      4,2,19910613,2239, 26.5017,-135.0000, 4297,     93.0,  19.2685,  34.9563,2,  34.9606,2,    230.6,2, 19.2518,    233.8,2,     2.71,2,     0.13,2,     0.00,2,     0.12,2,    2.494,2,    1.279,2,    2.363,2,   1.8150,2,    -0.91,2,   -999.0,9,  -999.00,9,   -999.0,9,   -999.0,9,  -999.0,  0.0090,   0.150,  -999.0,   0.015
   31WTTUNES_1,  P17C,    33,  1,      5,      5,2,19910613,2239, 26.5017,-135.0000, 4297,    123.1,  18.7091,  34.8864,2,  34.8916,2,    233.8,2, 18.6875,    230.3,2,     2.70,2,     0.06,2,     0.02,2,     0.13,2,    2.521,2,    1.297,2, -999.000,9,-999.0000,9,  -999.00,9,   -999.0,9,  -999.00,9,   -999.0,9,   -999.0,9,  -999.0,-999.0000,-999.000,  -999.0,-999.000
   31WTTUNES_1,  P17C,    33,  1,      6,      6,2,19910613,2239, 26.5017,-135.0000, 4297,    154.8,  17.4606,  34.7528,2,  34.7374,2,    217.2,2, 17.4346,    215.0,2,     3.29,2,     1.68,2,     0.09,2,     0.25,2,    2.607,2,    1.301,2,    2.322,2,   1.8050,2,     0.20,2,   -999.0,9,  -999.00,9,   -999.0,9,   -999.0,9,  -999.0,  0.0080,   0.150,  -999.0,   0.015
   31WTTUNES_1,  P17C,    33,  1,      7,      7,2,19910613,2239, 26.5017,-135.0000, 4297,    178.5,  16.1700,  34.5527,2,  34.5447,2,    207.6,2, 16.1417,    210.0,2,     4.29,2,     3.24,2,     0.02,2,     0.35,2,    2.645,2,    1.330,2,    2.263,2,   1.8040,2,     0.94,2,   -999.0,9,  -999.00,9,   -999.0,9,   -999.0,9,  -999.0,  0.0080,   0.150,  -999.0,   0.018
   31WTTUNES_1,  P17C,    33,  1,      8,      8,2,19910613,2239, 26.5017,-135.0000, 4297,    206.0,  13.8545,  34.2124,2,  34.2091,2,    206.6,2, 13.8252,    209.1,2,     6.51,2,     6.14,2,     0.01,2,     0.56,2,    2.779,2,    1.368,2,    2.424,2,   1.8160,2,     1.83,2,   -999.0,9,  -999.00,9,   -999.0,9,   -999.0,9,  -999.0,  0.0090,   0.150,  -999.0,   0.019
   31WTTUNES_1,  P17C,    33,  1,      9,      9,2,19910613,2239, 26.5017,-135.0000, 4297,    226.1,  12.3617,  34.0519,2,  34.0499,2,    200.0,2, 12.3319,    206.6,2,     9.12,2,     8.94,2,     0.01,2,     0.75,2,    2.818,2,    1.373,2,    2.315,2,   1.8040,2,     3.26,2,   -999.0,9,  -999.00,9,   -999.0,9,   -999.0,9,  -999.0,  0.0080,   0.150,  -999.0,   0.017
   31WTTUNES_1,  P17C,    33,  1,     10,     10,2,19910613,2239, 26.5017,-135.0000, 4297,    251.8,  10.8580,  33.9613,2,  33.9618,2,    189.1,2, 10.8275,    193.6,2,    13.36,2,    13.48,2,     0.00,2,     1.05,2,    2.636,2,    1.290,2,    2.347,2,   1.8430,2,     5.33,2,   -999.0,9,  -999.00,9,   -999.0,9,   -999.0,9,  -999.0,  0.0090,   0.150,  -999.0,   0.019
   31WTTUNES_1,  P17C,    33,  1,     11,     11,2,19910613,2239, 26.5017,-135.0000, 4297,    302.3,   9.5068,  34.0101,2,  34.0143,2,    186.3,2,  9.4730,    188.3,2,    21.23,2,    17.97,2,     0.00,2,     1.31,2,    2.372,2,    1.138,2,    2.250,2,   0.0000,2,  -999.00,9,   -999.0,9,  -999.00,9,   -999.0,9,   -999.0,9,  -999.0,-999.0000,   0.150,  -999.0,   0.018
   31WTTUNES_1,  P17C,    33,  1,     12,     12,2,19910613,2239, 26.5017,-135.0000, 4297,    354.9,   8.3928,  34.0235,2,  34.0276,2,    167.7,2,  8.3560,    166.6,2,    31.31,2,    22.71,2,     0.00,2,     1.63,2,    1.841,2,    0.892,2, -999.000,5,   1.8650,2,    12.34,2,   -999.0,9,  -999.00,9,   -999.0,9,   -999.0,9,  -999.0,  0.0090,   0.150,  -999.0,-999.000
   31WTTUNES_1,  P17C,    33,  1,     13,     13,2,19910613,2239, 26.5017,-135.0000, 4297,    405.8,   7.3776,  34.0284,2,  34.0321,2,    131.4,2,  7.3384,    125.0,2,    45.44,2,    28.64,2,     0.00,2,     2.06,2,    1.091,2,    0.548,2,    1.871,2,   1.8610,2,    17.03,2,   -999.0,9,  -999.00,9,   -999.0,9,   -999.0,9,  -999.0,  0.0090,   0.150,  -999.0,   0.016
   31WTTUNES_1,  P17C,    33,  1,     14,     14,2,19910613,2239, 26.5017,-135.0000, 4297,    455.6,   6.5022,  34.0426,2,  34.0452,2,    100.2,2,  6.4611,     91.5,2,    57.74,2,    33.01,2,     0.00,2,     2.40,2,    0.590,2,    0.311,2,    1.517,2,   1.9640,2,    17.61,2,   -999.0,9,  -999.00,9,   -999.0,9,   -999.0,9,  -999.0,  0.0090,   0.150,  -999.0,   0.013
   31WTTUNES_1,  P17C,    33,  1,     15,     15,2,19910613,2239, 26.5017,-135.0000, 4297,    534.6,   5.6753,  34.1034,2,  34.1031,2,     49.9,2,  5.6302,     50.7,2,    75.96,2,    38.05,2,     0.00,2,     2.79,2,    0.169,2,    0.101,2,    0.781,2,   1.9050,2,    15.09,2,   -999.0,9,  -999.00,9,   -999.0,9,   -999.0,9,  -999.0,  0.0090,   0.150,  -999.0,   0.010
   31WTTUNES_1,  P17C,    33,  1,     16,     16,2,19910613,2239, 26.5017,-135.0000, 4297,    605.1,   4.9431,  34.1386,2,  34.1413,2,     37.2,2,  4.8951,     35.8,2,    89.85,2,    40.75,2,     0.00,2,     2.96,2,    0.054,2,    0.038,2,   -0.002,2,   1.8990,2,    12.62,2,   -999.0,9,  -999.00,9,   -999.0,9,   -999.0,9,  -999.0,  0.0090,   0.150,  -999.0,   0.001
   31WTTUNES_1,  P17C,    33,  1,     17,     17,2,19910613,2239, 26.5017,-135.0000, 4297,    708.6,   4.4709,  34.2819,2,  34.2801,2,     17.0,2,  4.4165,     17.9,2,   105.13,2,    42.80,2,     0.00,2,     3.13,2,    0.007,2,    0.006,2, -999.000,9,-999.0000,9,  -999.00,9,   -999.0,9,  -999.00,9,   -999.0,9,   -999.0,9,  -999.0,-999.0000,-999.000,  -999.0,-999.000
   31WTTUNES_1,  P17C,    33,  1,     18,     18,2,19910613,2239, 26.5017,-135.0000, 4297,    812.0,   4.4166,  34.3841,2,  34.3866,2,     18.7,2,  4.3539,     18.8,2,   108.71,2,    43.07,2,     0.00,2,     3.16,2,    0.005,2,    0.004,2,   -0.001,2,   1.9220,2,    15.39,2,   -999.0,9,  -999.00,9,   -999.0,9,   -999.0,9,  -999.0,  0.0090,   0.150,  -999.0,   0.002
   31WTTUNES_1,  P17C,    33,  1,     19,     19,2,19910613,2239, 26.5017,-135.0000, 4297,    913.8,   4.1072,  34.4462,2,  34.4489,2,     25.5,2,  4.0380,     25.5,2,   114.30,2,    43.24,2,     0.00,2,     3.15,2,    0.004,2,    0.004,2, -999.000,9,-999.0000,9,  -999.00,9,   -999.0,9,  -999.00,9,   -999.0,9,   -999.0,9,  -999.0,-999.0000,-999.000,  -999.0,-999.000
   31WTTUNES_1,  P17C,    33,  1,     20,     20,2,19910613,2239, 26.5017,-135.0000, 4297,   1011.1,   3.8121,  34.4780,2,  34.4791,2,     33.5,2,  3.7370,     34.9,2,   118.69,2,    42.86,2,     0.00,2,     3.11,2,    0.001,2,    0.002,2,    0.005,2,   1.8780,2,    20.29,2,   -999.0,9,  -999.00,9,   -999.0,9,   -999.0,9,  -999.0,  0.0090,   0.150,  -999.0,   0.002
   31WTTUNES_1,  P17C,    33,  1,     21,     21,2,19910613,2239, 26.5017,-135.0000, 4297,   1211.5,   3.3472,  34.5222,2,  34.5235,2,     46.9,2,  3.2596,     45.9,2,   128.72,2,    42.54,2,     0.00,2,     3.06,2, -999.000,9, -999.000,9,    0.002,2,   1.9060,2,    21.93,2,   -999.0,9,  -999.00,9,   -999.0,9,   -999.0,9,  -999.0,  0.0090,   0.150,  -999.0,   0.002
   31WTTUNES_1,  P17C,    33,  1,     22,     22,2,19910613,2239, 26.5017,-135.0000, 4297,   1413.0,   2.9250,  34.5547,2,  34.5547,2,     54.6,2,  2.8253,     55.9,2,   139.74,2,    42.27,2,     0.00,2,     3.03,2, -999.000,9, -999.000,9, -999.000,9,   1.9130,2,    21.75,2,   -999.0,9,  -999.00,9,   -999.0,9,   -999.0,9,  -999.0,-999.0000,-999.000,  -999.0,-999.000
   31WTTUNES_1,  P17C,    33,  1,     23,     23,2,19910613,2239, 26.5017,-135.0000, 4297,   1614.0,   2.5937,  34.5755,2,  34.5796,2,     64.3,2,  2.4812,     63.7,2,   148.55,2,    41.78,2,     0.00,2,     2.98,2, -999.000,9, -999.000,9, -999.000,9,   1.9080,2,    23.00,2,   -999.0,9,  -999.00,9,   -999.0,9,   -999.0,9,  -999.0,-999.0000,-999.000,  -999.0,-999.000
   31WTTUNES_1,  P17C,    33,  1,     24,     24,2,19910613,2239, 26.5017,-135.0000, 4297,   1819.4,   2.2942,  34.5972,2,  34.6014,2,     74.4,2,  2.1686,     73.8,2,   156.54,2,    41.25,2,     0.00,2,     2.92,2, -999.000,9, -999.000,9, -999.000,9,   1.9150,2,    23.25,2,   -999.0,9,  -999.00,9,   -999.0,9,   -999.0,9,  -999.0,-999.0000,-999.000,  -999.0,-999.000
   31WTTUNES_1,  P17C,    33,  1,     25,     25,2,19910613,2239, 26.5017,-135.0000, 4297,   2026.7,   2.0461,  34.6194,2,  34.6201,2,     83.2,2,  1.9068,     84.3,2,   162.53,2,    40.66,2,     0.00,2,     2.87,2, -999.000,9, -999.000,9, -999.000,9,   1.9100,2,    23.22,2,   -999.0,9,  -999.00,9,   -999.0,9,   -999.0,9,  -999.0,-999.0000,-999.000,  -999.0,-999.000
   31WTTUNES_1,  P17C,    33,  1,     26,     26,2,19910613,2239, 26.5017,-135.0000, 4297,   2222.4,   1.8663,  34.6334,2,  34.6343,2,     95.0,2,  1.7131,     93.3,2,   165.89,2,    39.92,2,     0.00,2,     2.81,2, -999.000,9, -999.000,9, -999.000,9,   1.9160,2,    22.63,2,   -999.0,9,  -999.00,9,   -999.0,9,   -999.0,9,  -999.0,-999.0000,-999.000,  -999.0,-999.000
   31WTTUNES_1,  P17C,    33,  1,     27,     27,2,19910613,2239, 26.5017,-135.0000, 4297,   2437.4,   1.7381,  34.6448,2,  34.6453,2,    101.9,2,  1.5683,    100.8,2,   169.25,2,    39.39,2,     0.00,2,     2.76,2, -999.000,9, -999.000,9, -999.000,9,   1.9200,2,    21.50,2,   -999.0,9,  -999.00,9,   -999.0,9,   -999.0,9,  -999.0,-999.0000,-999.000,  -999.0,-999.000
   31WTTUNES_1,  P17C,    33,  1,     28,     28,2,19910613,2239, 26.5017,-135.0000, 4297,   2529.2,   1.6755,  34.6499,2,  34.6515,2,    107.6,2,  1.4987,    107.5,2,   169.40,2,    39.08,2,     0.00,2,     2.73,2, -999.000,9, -999.000,9, -999.000,9,   1.9280,2,    20.49,2,   -999.0,9,  -999.00,9,   -999.0,9,   -999.0,9,  -999.0,-999.0000,-999.000,  -999.0,-999.000
   31WTTUNES_1,  P17C,    33,  1,     29,     29,2,19910613,2239, 26.5017,-135.0000, 4297,   2631.3,   1.6322,  34.6547,2,  34.6555,2,    110.8,2,  1.4470,    110.9,2,   169.55,2,    38.82,2,     0.00,2,     2.71,2, -999.000,9, -999.000,9, -999.000,9,   1.9090,2,    19.98,2,   -999.0,9,  -999.00,9,   -999.0,9,   -999.0,9,  -999.0,-999.0000,-999.000,  -999.0,-999.000
   31WTTUNES_1,  P17C,    33,  1,     30,     30,2,19910613,2239, 26.5017,-135.0000, 4297,   2833.9,   1.5695,  34.6624,2,  34.6624,2,    118.7,2,  1.3669,    118.6,2,   168.28,2,    38.29,2,     0.00,2,     2.67,2, -999.000,9, -999.000,9, -999.000,9,   1.9100,2,    18.96,2,   -999.0,9,  -999.00,9,   -999.0,9,   -999.0,9,  -999.0,-999.0000,-999.000,  -999.0,-999.000
   31WTTUNES_1,  P17C,    33,  1,     31,     31,2,19910613,2239, 26.5017,-135.0000, 4297,   3082.7,   1.5190,  34.6693,2,  34.6692,2,    127.8,2,  1.2939,    126.9,2,   166.22,2,    37.77,2,     0.00,2,     2.62,2, -999.000,9, -999.000,9, -999.000,9,   1.9100,2,    18.14,2,   -999.0,9,  -999.00,9,   -999.0,9,   -999.0,9,  -999.0,-999.0000,-999.000,  -999.0,-999.000
   31WTTUNES_1,  P17C,    33,  1,     32,     32,2,19910613,2239, 26.5017,-135.0000, 4297,   3341.4,   1.4845,  34.6762,2,  34.6751,2,    134.8,2,  1.2348,    136.0,2,   164.10,2,    37.37,2,     0.00,2,     2.58,2, -999.000,9, -999.000,9, -999.000,9,   1.9040,2,    16.98,2,   -999.0,9,  -999.00,9,   -999.0,9,   -999.0,9,  -999.0,-999.0000,-999.000,  -999.0,-999.000
   31WTTUNES_1,  P17C,    33,  1,     33,     33,2,19910613,2239, 26.5017,-135.0000, 4297,   3601.0,   1.4847,  34.6774,2,  34.6779,2,    138.1,2,  1.2086,    138.4,2,   162.90,2,    36.99,2,     0.00,2,     2.57,2,    0.001,2,    0.006,2, -999.000,9,   1.9040,2,    16.81,2,   -999.0,9,  -999.00,9,   -999.0,9,   -999.0,9,  -999.0,-999.0000,-999.000,  -999.0,-999.000
   31WTTUNES_1,  P17C,    33,  1,     34,     34,2,19910613,2239, 26.5017,-135.0000, 4297,   3862.0,   1.4876,  34.6800,2,  34.6804,2,    143.4,2,  1.1840,    142.0,2,   161.65,2,    36.89,2,     0.00,2,     2.54,2,    0.001,2,    0.007,2, -999.000,9,   1.9140,2,    16.11,2,   -999.0,9,  -999.00,9,   -999.0,9,   -999.0,9,  -999.0,-999.0000,-999.000,  -999.0,-999.000
   31WTTUNES_1,  P17C,    33,  1,     35,     35,2,19910613,2239, 26.5017,-135.0000, 4297,   4128.0,   1.5057,  34.6807,2,  34.6812,2,    144.9,2,  1.1726,    144.3,2,   159.99,2,    36.74,2,     0.00,2,     2.53,2,    0.002,2,    0.012,2, -999.000,9,   1.9070,2,    16.49,2,   -999.0,9,  -999.00,9,   -999.0,9,   -999.0,9,  -999.0,-999.0000,-999.000,  -999.0,-999.000
   31WTTUNES_1,  P17C,    33,  1,     36,     36,2,19910613,2239, 26.5017,-135.0000, 4297,   4366.3,   1.5268,  34.6831,2,  34.6826,2,   -999.0,9,  1.1663,    145.3,2,   158.93,2,    36.53,2,     0.00,2,     2.53,2,    0.005,2,    0.013,2, -999.000,9,   1.9060,2,    15.92,2,   -999.0,9,  -999.00,9,   -999.0,9,   -999.0,9,  -999.0,-999.0000,-999.000,  -999.0,-999.000