BOTTLE,20220819CCHSIOAMB
EXPOCODE,SECT_ID,STNNBR,CASTNO,SAMPNO,BTLNBR,BTLNBR_FLAG_W,DATE,TIME,LATITUDE,LONGITUDE,DEPTH,CTDPRS,CTDTMP,CTDSAL,CTDSAL_FLAG_W,SALNTY,SALNTY_FLAG_W,CTDOXY,CTDOXY_FLAG_W,THETA,OXYGEN,OXYGEN_FLAG_W,SILCAT,SILCAT_FLAG_W,NITRAT,NITRAT_FLAG_W,NITRIT,NITRIT_FLAG_W,PHSPHT,PHSPHT_FLAG_W,CFC-11,CFC-11_FLAG_W,CFC-12,CFC-12_FLAG_W,TRITUM,TRITUM_FLAG_W,HELIUM,HELIUM_FLAG_W,DELHE3,DELHE3_FLAG_W,DELC14,DELC14_FLAG_W,DELC13,DELC13_FLAG_W,TCARBN,TCARBN_FLAG_W,ALKALI,ALKALI_FLAG_W,C14ERR,HELIER,DELHER,C13ERR,TRITER
,,,,,,,,,,,,DBAR,ITS-90,PSS-78,,PSS-78,,UMOL/KG,,DEG C,UMOL/KG,,UMOL/KG,,UMOL/KG,,UMOL/KG,,UMOL/KG,,PMOL/KG,,PMOL/KG,,TU,,NMOL/KG,,PERCNT,,/MILLE,,/MILLE,,UMOL/KG,,UMOL/KG,,/MILLE,NMOL/KG,PERCNT,/MILLE,TU
   31WTTUNES_1,  P17C,   117,  1,     61,     61,2,19910705,0850, -3.2300,-135.0017, 4614,      2.3,  27.7767,  35.3456,2,  35.3362,2,   -999.0,9, 27.7762,   -999.0,9,  -999.00,9,  -999.00,9,  -999.00,9,  -999.00,9, -999.000,9, -999.000,9, -999.000,9,-999.0000,9,  -999.00,9,   -999.0,9,  -999.00,9,   -999.0,9,   -999.0,9,  -999.0,-999.0000,-999.000,  -999.0,-999.000
   31WTTUNES_1,  P17C,   117,  1,     63,     63,2,19910705,0850, -3.2300,-135.0017, 4614,     55.3,  27.7176,  35.3312,2,  35.3189,2,   -999.0,9, 27.7047,   -999.0,9,  -999.00,9,  -999.00,9,  -999.00,9,  -999.00,9, -999.000,9, -999.000,9, -999.000,9,-999.0000,9,  -999.00,9,   -999.0,9,  -999.00,9,   -999.0,9,   -999.0,9,  -999.0,-999.0000,-999.000,  -999.0,-999.000
   31WTTUNES_1,  P17C,   117,  1,     62,     62,2,19910705,0850, -3.2300,-135.0017, 4614,     55.3,  27.7186,  35.3313,2,  35.3175,2,   -999.0,9, 27.7057,   -999.0,9,  -999.00,9,  -999.00,9,  -999.00,9,  -999.00,9, -999.000,9, -999.000,9, -999.000,9,-999.0000,9,  -999.00,9,   -999.0,9,  -999.00,9,   -999.0,9,   -999.0,9,  -999.0,-999.0000,-999.000,  -999.0,-999.000
   31WTTUNES_1,  P17C,   117,  1,     64,     64,2,19910705,0850, -3.2300,-135.0017, 4614,    259.3,  12.0377,  34.8839,2,  34.8689,2,   -999.0,9, 12.0038,   -999.0,9,  -999.00,9,  -999.00,9,  -999.00,9,  -999.00,9, -999.000,9, -999.000,9, -999.000,9,-999.0000,9,  -999.00,9,   -999.0,9,  -999.00,9,   -999.0,9,   -999.0,9,  -999.0,-999.0000,-999.000,  -999.0,-999.000
   31WTTUNES_1,  P17C,   117,  1,     65,     65,2,19910705,0850, -3.2300,-135.0017, 4614,    816.1,   5.3471,  34.5581,2,  34.5545,2,   -999.0,9,  5.2780,   -999.0,9,  -999.00,9,  -999.00,9,  -999.00,9,  -999.00,9, -999.000,9, -999.000,9, -999.000,9,-999.0000,9,  -999.00,9,   -999.0,9,  -999.00,9,   -999.0,9,   -999.0,9,  -999.0,-999.0000,-999.000,  -999.0,-999.000
   31WTTUNES_1,  P17C,   117,  1,     66,     66,2,19910705,0850, -3.2300,-135.0017, 4614,   1012.9,   4.4247,  34.5597,2,  34.5570,2,   -999.0,9,  4.3446,   -999.0,9,  -999.00,9,  -999.00,9,  -999.00,9,  -999.00,9, -999.000,9, -999.000,9, -999.000,9,-999.0000,9,  -999.00,9,   -999.0,9,  -999.00,9,   -999.0,9,   -999.0,9,  -999.0,-999.0000,-999.000,  -999.0,-999.000
   31WTTUNES_1,  P17C,   117,  1,     67,     67,2,19910705,0850, -3.2300,-135.0017, 4614,   1492.2,   3.1163,  34.5997,2,  34.5979,2,   -999.0,9,  3.0078,   -999.0,9,  -999.00,9,  -999.00,9,  -999.00,9,  -999.00,9, -999.000,9, -999.000,9, -999.000,9,-999.0000,9,  -999.00,9,   -999.0,9,  -999.00,9,   -999.0,9,   -999.0,9,  -999.0,-999.0000,-999.000,  -999.0,-999.000
   31WTTUNES_1,  P17C,   117,  1,     68,     68,2,19910705,0850, -3.2300,-135.0017, 4614,   1981.5,   2.2643,  34.6437,2,  34.6428,2,   -999.0,9,  2.1254,   -999.0,9,  -999.00,9,  -999.00,9,  -999.00,9,  -999.00,9, -999.000,9, -999.000,9, -999.000,9,-999.0000,9,  -999.00,9,   -999.0,9,  -999.00,9,   -999.0,9,   -999.0,9,  -999.0,-999.0000,-999.000,  -999.0,-999.000
   31WTTUNES_1,  P17C,   117,  1,     69,     69,2,19910705,0850, -3.2300,-135.0017, 4614,   3019.1,   1.6363,  34.6762,2,  34.6752,2,   -999.0,9,  1.4147,   -999.0,9,  -999.00,9,  -999.00,9,  -999.00,9,  -999.00,9, -999.000,9, -999.000,9, -999.000,9,-999.0000,9,  -999.00,9,   -999.0,9,  -999.00,9,   -999.0,9,   -999.0,9,  -999.0,-999.0000,-999.000,  -999.0,-999.000
   31WTTUNES_1,  P17C,   117,  1,     70,     70,2,19910705,0850, -3.2300,-135.0017, 4614,   3974.9,   1.4311,  34.6924,2,  34.6923,2,   -999.0,9,  1.1168,   -999.0,9,  -999.00,9,  -999.00,9,  -999.00,9,  -999.00,9, -999.000,9, -999.000,9, -999.000,9,-999.0000,9,  -999.00,9,   -999.0,9,  -999.00,9,   -999.0,9,   -999.0,9,  -999.0,-999.0000,-999.000,  -999.0,-999.000
   31WTTUNES_1,  P17C,   117,  1,     71,     71,2,19910705,0850, -3.2300,-135.0017, 4614,   4674.4,   1.4320,  34.6969,2,  34.6963,2,   -999.0,9,  1.0388,   -999.0,9,  -999.00,9,  -999.00,9,  -999.00,9,  -999.00,9, -999.000,9, -999.000,9, -999.000,9,-999.0000,9,  -999.00,9,   -999.0,9,  -999.00,9,   -999.0,9,   -999.0,9,  -999.0,-999.0000,-999.000,  -999.0,-999.000
   31WTTUNES_1,  P17C,   118,  1,      1,      1,2,19910705,1314, -3.4883,-135.0017, 4622,      0.2,  27.7606,  35.3157,2,  35.3202,2,   -999.0,9, 27.7606,    209.9,2,     3.02,2,     4.72,2,     0.11,2,     0.53,2,    1.620,2,    0.915,2, -999.000,9,-999.0000,9,  -999.00,9,     71.3,2,     1.14,2,   -999.0,9,   -999.0,9,     3.5,-999.0000,-999.000,  -999.0,-999.000
   31WTTUNES_1,  P17C,   118,  1,      2,      2,2,19910705,1314, -3.4883,-135.0017, 4622,     79.1,  27.7496,  35.3155,2,  35.3183,2,    211.3,2, 27.7311,    208.3,2,     3.21,2,     4.71,2,     0.11,2,     0.53,2,    1.584,2,    0.921,2, -999.000,9,-999.0000,9,  -999.00,9,     79.5,2,     1.39,2,   -999.0,9,   -999.0,9,     3.5,-999.0000,-999.000,  -999.0,-999.000
   31WTTUNES_1,  P17C,   118,  1,      3,      3,2,19910705,1314, -3.4883,-135.0017, 4622,     89.1,  27.7315,  35.3161,2,  35.3182,2,    210.4,2, 27.7106,    207.9,2,     3.02,2,     4.76,2,     0.11,2,     0.54,2,    1.604,2,    0.930,2, -999.000,9,-999.0000,9,  -999.00,9,   -999.0,9,  -999.00,9,   -999.0,9,   -999.0,9,  -999.0,-999.0000,-999.000,  -999.0,-999.000
   31WTTUNES_1,  P17C,   118,  1,      4,      4,2,19910705,1314, -3.4883,-135.0017, 4622,     99.6,  26.4251,  35.4472,2,  35.4401,2,    212.0,2, 26.4026,    201.7,2,     3.02,2,     5.78,2,     0.11,2,     0.68,2,    1.708,2,    0.978,2, -999.000,9,-999.0000,9,  -999.00,9,     68.2,2,     1.00,2,   -999.0,9,   -999.0,9,     2.6,-999.0000,-999.000,  -999.0,-999.000
   31WTTUNES_1,  P17C,   118,  1,      5,      5,2,19910705,1314, -3.4883,-135.0017, 4622,    110.1,  24.4168,  35.7273,2,  35.7104,2,    194.4,2, 24.3932,    186.2,2,     3.21,2,     5.15,2,     0.75,2,     0.80,2,    1.785,2,    1.056,2, -999.000,9,-999.0000,9,  -999.00,9,   -999.0,9,  -999.00,9,   -999.0,9,   -999.0,9,  -999.0,-999.0000,-999.000,  -999.0,-999.000
   31WTTUNES_1,  P17C,   118,  1,      6,      6,2,19910705,1314, -3.4883,-135.0017, 4622,    121.3,  21.5626,  35.6926,2,  35.5862,2,    154.2,2, 21.5389,    144.0,2,     4.91,2,     8.87,2,     2.25,2,     1.07,2,    1.678,2,    0.909,2, -999.000,9,-999.0000,9,  -999.00,9,     83.6,2,     1.01,2,   -999.0,9,   -999.0,9,     2.9,-999.0000,-999.000,  -999.0,-999.000
   31WTTUNES_1,  P17C,   118,  1,      7,      7,2,19910705,1314, -3.4883,-135.0017, 4622,    132.0,  18.7615,  35.3749,2,  35.3032,2,    121.1,2, 18.7382,     95.9,2,    10.21,2,    16.32,2,     2.28,2,     1.47,2,    1.300,2,    0.707,2, -999.000,9,-999.0000,9,  -999.00,9,     61.8,2,     0.62,2,   -999.0,9,   -999.0,9,     2.6,-999.0000,-999.000,  -999.0,-999.000
   31WTTUNES_1,  P17C,   118,  1,      8,      8,2,19910705,1314, -3.4883,-135.0017, 4622,    142.8,  13.3886,  34.9659,2,  34.9578,2,     30.4,2, 13.3687,     30.0,2,    21.56,2,    29.57,2,     0.06,2,     2.08,2,    0.487,2,    0.273,2, -999.000,9,-999.0000,9,  -999.00,9,     -2.9,2,    -0.17,3,   -999.0,9,   -999.0,9,     2.5,-999.0000,-999.000,  -999.0,-999.000
   31WTTUNES_1,  P17C,   118,  1,      9,      9,2,19910705,1314, -3.4883,-135.0017, 4622,    152.6,  13.1113,  34.9243,2,  34.9244,2,     30.3,2, 13.0903,     30.8,2,    23.26,2,    29.87,2,     0.01,2,     2.08,2,    0.405,2,    0.230,2, -999.000,9,-999.0000,9,  -999.00,9,     -4.2,2,     0.03,3,   -999.0,9,   -999.0,9,     2.5,-999.0000,-999.000,  -999.0,-999.000
   31WTTUNES_1,  P17C,   118,  1,     10,     10,2,19910705,1314, -3.4883,-135.0017, 4622,    177.3,  12.8332,  34.9042,2,  34.9055,2,     32.6,2, 12.8090,     32.6,2,    23.83,2,    29.93,2,     0.00,2,     2.08,2,    0.364,2,    0.211,2, -999.000,9,-999.0000,9,  -999.00,9,    -15.9,2,    -0.31,3,   -999.0,9,   -999.0,9,     2.6,-999.0000,-999.000,  -999.0,-999.000
   31WTTUNES_1,  P17C,   118,  1,     11,     11,2,19910705,1314, -3.4883,-135.0017, 4622,    220.6,  12.3949,  34.8797,2,  34.8799,2,     36.7,2, 12.3655,     37.9,2,    25.34,2,    29.92,2,     0.00,2,     2.10,2,    0.300,2,    0.176,2, -999.000,9,-999.0000,9,  -999.00,9,    -27.5,2,     0.12,3,   -999.0,9,   -999.0,9,     2.7,-999.0000,-999.000,  -999.0,-999.000
   31WTTUNES_1,  P17C,   118,  1,     12,     12,2,19910705,1314, -3.4883,-135.0017, 4622,    281.6,  11.7990,  34.8559,2,  34.8543,2,     10.5,2, 11.7626,     11.2,2,    28.93,2,    32.87,2,     0.00,2,     2.38,2,    0.129,2,    0.079,2, -999.000,9,-999.0000,9,  -999.00,9,    -46.4,2,     0.02,2,   -999.0,9,   -999.0,9,     3.1,-999.0000,-999.000,  -999.0,-999.000
   31WTTUNES_1,  P17C,   118,  1,     13,     13,2,19910705,1314, -3.4883,-135.0017, 4622,    353.4,  10.3204,  34.7661,2,  34.7678,2,     10.4,2, 10.2783,     10.4,2,    34.42,2,    34.95,2,     0.00,2,     2.55,2,    0.048,2,    0.032,2, -999.000,9,-999.0000,9,  -999.00,9,    -82.0,2,    -0.12,2,   -999.0,9,   -999.0,9,     6.2,-999.0000,-999.000,  -999.0,-999.000
   31WTTUNES_1,  P17C,   118,  1,     14,     14,2,19910705,1314, -3.4883,-135.0017, 4622,    425.5,   8.9846,  34.6870,2,  34.6861,2,     19.2,2,  8.9380,     17.3,2,    40.66,2,    37.97,2,     0.00,2,     2.65,2,    0.019,2,    0.016,2, -999.000,9,-999.0000,9,  -999.00,9,    -93.4,2,     0.01,2,   -999.0,9,   -999.0,9,     4.2,-999.0000,-999.000,  -999.0,-999.000
   31WTTUNES_1,  P17C,   118,  1,     15,     15,2,19910705,1314, -3.4883,-135.0017, 4622,    507.2,   8.0461,  34.6330,2,  34.6312,2,     31.8,2,  7.9938,     30.8,2,    43.69,2,    39.12,2,     0.00,2,     2.70,2,    0.006,2,    0.006,2, -999.000,9,-999.0000,9,  -999.00,9,   -999.0,9,  -999.00,9,   -999.0,9,   -999.0,9,  -999.0,-999.0000,-999.000,  -999.0,-999.000
   31WTTUNES_1,  P17C,   118,  1,     16,     16,2,19910705,1314, -3.4883,-135.0017, 4622,    606.8,   6.8627,  34.5794,2,  34.5799,2,     48.4,2,  6.8052,     48.9,2,    52.20,2,    40.01,2,     0.00,2,     2.77,2,    0.003,2,    0.002,2, -999.000,9,-999.0000,9,  -999.00,9,   -124.6,2,     0.16,2,   -999.0,9,   -999.0,9,     3.4,-999.0000,-999.000,  -999.0,-999.000
   31WTTUNES_1,  P17C,   118,  1,     17,     17,3,19910705,1314, -3.4883,-135.0017, 4622,    708.2,   6.0942,  34.5588,2,  34.5595,2,     58.6,2,  6.0307,     59.7,3,    60.91,2,    40.11,2,     0.00,2,     2.78,2,    0.004,2,    0.002,2, -999.000,9,-999.0000,9,  -999.00,9,   -999.0,9,  -999.00,9,   -999.0,9,   -999.0,9,  -999.0,-999.0000,-999.000,  -999.0,-999.000
   31WTTUNES_1,  P17C,   118,  1,     18,     18,2,19910705,1314, -3.4883,-135.0017, 4622,    810.8,   5.5218,  34.5540,2,  34.5540,2,     63.5,2,  5.4521,     63.2,2,    70.55,2,    40.53,2,     0.00,2,     2.83,2,   -0.002,2,    0.007,2, -999.000,9,-999.0000,9,  -999.00,9,   -999.0,9,  -999.00,9,   -999.0,9,   -999.0,9,  -999.0,-999.0000,-999.000,  -999.0,-999.000
   31WTTUNES_1,  P17C,   118,  1,     19,     19,2,19910705,1314, -3.4883,-135.0017, 4622,    907.6,   4.9956,  34.5507,2,  34.5517,2,     73.2,2,  4.9206,     72.1,2,    77.93,2,    40.06,2,     0.00,2,     2.82,2, -999.000,9, -999.000,9, -999.000,9,-999.0000,9,  -999.00,9,   -160.4,2,     0.07,2,   -999.0,9,   -999.0,9,     2.3,-999.0000,-999.000,  -999.0,-999.000
   31WTTUNES_1,  P17C,   118,  1,     20,     20,2,19910705,1314, -3.4883,-135.0017, 4622,   1110.9,   4.1766,  34.5599,2,  34.5621,2,     85.4,2,  4.0900,     87.4,2,    92.30,2,    39.16,2,     0.00,2,     2.78,2, -999.000,9, -999.000,9, -999.000,9,-999.0000,9,  -999.00,9,   -999.0,9,  -999.00,9,   -999.0,9,   -999.0,9,  -999.0,-999.0000,-999.000,  -999.0,-999.000
   31WTTUNES_1,  P17C,   118,  1,     21,     21,2,19910705,1314, -3.4883,-135.0017, 4622,   1315.5,   3.4820,  34.5817,2,  34.5817,2,     93.1,2,  3.3844,     92.7,2,   107.81,2,    39.16,2,     0.00,2,     2.78,2, -999.000,9, -999.000,9, -999.000,9,-999.0000,9,  -999.00,9,   -999.0,9,  -999.00,9,   -999.0,9,   -999.0,9,  -999.0,-999.0000,-999.000,  -999.0,-999.000
   31WTTUNES_1,  P17C,   118,  1,     22,     22,2,19910705,1314, -3.4883,-135.0017, 4622,   1519.8,   3.0749,  34.5975,2,  34.5968,2,     97.7,2,  2.9644,    101.3,2,   116.32,2,    38.90,2,     0.00,2,     2.73,2, -999.000,9, -999.000,9, -999.000,9,-999.0000,9,  -999.00,9,   -999.0,9,  -999.00,9,   -999.0,9,   -999.0,9,  -999.0,-999.0000,-999.000,  -999.0,-999.000
   31WTTUNES_1,  P17C,   118,  1,     23,     23,2,19910705,1314, -3.4883,-135.0017, 4622,   1718.3,   2.6315,  34.6184,2,  34.6186,2,    107.4,2,  2.5098,    107.4,2,   125.97,2,    38.43,2,     0.00,2,     2.69,2, -999.000,9, -999.000,9, -999.000,9,-999.0000,9,  -999.00,9,   -222.9,2,    -0.05,2,   -999.0,9,   -999.0,9,     2.1,-999.0000,-999.000,  -999.0,-999.000
   31WTTUNES_1,  P17C,   118,  1,     24,     24,2,19910705,1314, -3.4883,-135.0017, 4622,   1933.4,   2.3259,  34.6363,2,  34.6361,2,    111.9,2,  2.1902,    111.4,2,   134.48,2,    38.28,2,     0.00,2,     2.68,2, -999.000,9, -999.000,9, -999.000,9,-999.0000,9,  -999.00,9,   -999.0,9,  -999.00,9,   -999.0,9,   -999.0,9,  -999.0,-999.0000,-999.000,  -999.0,-999.000
   31WTTUNES_1,  P17C,   118,  1,     25,     25,2,19910705,1314, -3.4883,-135.0017, 4622,   2132.3,   2.1173,  34.6479,2,  34.6487,2,    114.2,2,  1.9677,    117.2,2,   139.39,2,    37.91,2,     0.00,2,     2.64,2, -999.000,9, -999.000,9, -999.000,9,-999.0000,9,  -999.00,9,   -999.0,9,  -999.00,9,   -999.0,9,   -999.0,9,  -999.0,-999.0000,-999.000,  -999.0,-999.000
   31WTTUNES_1,  P17C,   118,  1,     26,     26,2,19910705,1314, -3.4883,-135.0017, 4622,   2328.6,   1.9604,  34.6581,2,  34.6571,2,    122.5,2,  1.7962,    121.4,2,   142.99,2,    37.55,2,     0.00,2,     2.61,2, -999.000,9, -999.000,9, -999.000,9,-999.0000,9,  -999.00,9,   -999.0,9,  -999.00,9,   -999.0,9,   -999.0,9,  -999.0,-999.0000,-999.000,  -999.0,-999.000
   31WTTUNES_1,  P17C,   118,  1,     27,     27,2,19910705,1314, -3.4883,-135.0017, 4622,   2532.2,   1.8422,  34.6638,2,  34.6636,2,    127.2,2,  1.6619,    127.3,2,   145.07,2,    37.14,2,     0.00,2,     2.58,2, -999.000,9, -999.000,9, -999.000,9,-999.0000,9,  -999.00,9,   -999.0,9,  -999.00,9,   -999.0,9,   -999.0,9,  -999.0,-999.0000,-999.000,  -999.0,-999.000
   31WTTUNES_1,  P17C,   118,  1,     28,     28,2,19910705,1314, -3.4883,-135.0017, 4622,   2734.4,   1.7549,  34.6688,2,  34.6695,2,    133.0,2,  1.5578,    133.0,2,   145.06,2,    36.98,2,     0.00,2,     2.56,2, -999.000,9, -999.000,9, -999.000,9,-999.0000,9,  -999.00,9,   -999.0,9,  -999.00,9,   -999.0,9,   -999.0,9,  -999.0,-999.0000,-999.000,  -999.0,-999.000
   31WTTUNES_1,  P17C,   118,  1,     29,     29,2,19910705,1314, -3.4883,-135.0017, 4622,   2935.0,   1.6716,  34.6728,2,  34.6728,2,    139.2,2,  1.4573,    139.4,2,   144.88,2,    36.57,2,     0.00,2,     2.52,2, -999.000,9, -999.000,9, -999.000,9,-999.0000,9,  -999.00,9,   -999.0,9,  -999.00,9,   -999.0,9,   -999.0,9,  -999.0,-999.0000,-999.000,  -999.0,-999.000
   31WTTUNES_1,  P17C,   118,  1,     30,     30,2,19910705,1314, -3.4883,-135.0017, 4622,   3195.5,   1.5849,  34.6779,2,  34.6793,2,    146.5,2,  1.3473,    146.2,2,   144.69,2,    36.06,2,     0.00,2,     2.47,2, -999.000,9, -999.000,9, -999.000,9,-999.0000,9,  -999.00,9,   -999.0,9,  -999.00,9,   -999.0,9,   -999.0,9,  -999.0,-999.0000,-999.000,  -999.0,-999.000
   31WTTUNES_1,  P17C,   118,  1,     31,     31,2,19910705,1314, -3.4883,-135.0017, 4622,   3452.2,   1.5095,  34.6850,2,  34.6856,2,    154.5,2,  1.2480,    154.3,2,   142.98,2,    35.49,2,     0.00,2,     2.43,2, -999.000,9, -999.000,9, -999.000,9,-999.0000,9,  -999.00,9,   -999.0,9,  -999.00,9,   -999.0,9,   -999.0,9,  -999.0,-999.0000,-999.000,  -999.0,-999.000
   31WTTUNES_1,  P17C,   118,  1,     32,     32,2,19910705,1314, -3.4883,-135.0017, 4622,   3711.3,   1.4709,  34.6884,2,  34.6877,2,    156.1,2,  1.1836,    157.1,2,   145.63,3,    35.44,2,     0.00,2,     2.42,2, -999.000,9, -999.000,9, -999.000,9,-999.0000,9,  -999.00,9,   -999.0,9,  -999.00,9,   -999.0,9,   -999.0,9,  -999.0,-999.0000,-999.000,  -999.0,-999.000
   31WTTUNES_1,  P17C,   118,  1,     33,     33,2,19910705,1314, -3.4883,-135.0017, 4622,   3955.2,   1.4362,  34.6915,2,  34.6907,2,    163.2,2,  1.1239,    162.3,2,   142.41,2,    34.98,2,     0.00,2,     2.38,2, -999.000,9, -999.000,9, -999.000,9,-999.0000,9,  -999.00,9,   -999.0,9,  -999.00,9,   -999.0,9,   -999.0,9,  -999.0,-999.0000,-999.000,  -999.0,-999.000
   31WTTUNES_1,  P17C,   118,  1,     34,     34,2,19910705,1314, -3.4883,-135.0017, 4622,   4211.1,   1.4091,  34.6955,2,  34.6940,2,    170.4,2,  1.0695,    169.2,2,   138.63,2,    34.47,2,     0.00,2,     2.36,2, -999.000,9, -999.000,9, -999.000,9,-999.0000,9,  -999.00,9,   -999.0,9,  -999.00,9,   -999.0,9,   -999.0,9,  -999.0,-999.0000,-999.000,  -999.0,-999.000
   31WTTUNES_1,  P17C,   118,  1,     35,     35,2,19910705,1314, -3.4883,-135.0017, 4622,   4472.2,   1.4131,  34.6969,2,  34.6956,2,    175.0,2,  1.0439,    173.5,2,   135.42,2,    34.22,2,     0.00,2,     2.33,2, -999.000,9, -999.000,9, -999.000,9,-999.0000,9,  -999.00,9,   -999.0,9,  -999.00,9,   -999.0,9,   -999.0,9,  -999.0,-999.0000,-999.000,  -999.0,-999.000
   31WTTUNES_1,  P17C,   118,  1,     36,     36,2,19910705,1314, -3.4883,-135.0017, 4622,   4739.9,   1.4405,  34.6993,2,  34.6958,2,   -999.0,9,  1.0394,    174.3,2,   135.23,2,    34.12,2,     0.00,2,     2.33,2, -999.000,9, -999.000,9, -999.000,9,-999.0000,9,  -999.00,9,   -999.0,9,  -999.00,9,   -999.0,9,   -999.0,9,  -999.0,-999.0000,-999.000,  -999.0,-999.000