BOTTLE,20220819CCHSIOAMB
# Changed HELIER units from UMOL/KG to NMOL/KG, Changed C14ERR and C13ERR units from PERCNT to /MILLE
#BOTTLE,20040421WHPSIODBK
#code : jjward hyd_to_exchange.pl 
#original files copied from HTML directory: 2004.04.21
#original HYD file: p17chy.txt   Wed Apr 21 11:24:21 2004
#original SUM file: p17csu.txt   Sat Aug 17 13:06:32 2002
EXPOCODE,SECT_ID,STNNBR,CASTNO,SAMPNO,BTLNBR,BTLNBR_FLAG_W,DATE,TIME,LATITUDE,LONGITUDE,DEPTH,CTDPRS,CTDTMP,CTDSAL,CTDSAL_FLAG_W,SALNTY,SALNTY_FLAG_W,CTDOXY,CTDOXY_FLAG_W,THETA,OXYGEN,OXYGEN_FLAG_W,SILCAT,SILCAT_FLAG_W,NITRAT,NITRAT_FLAG_W,NITRIT,NITRIT_FLAG_W,PHSPHT,PHSPHT_FLAG_W,CFC-11,CFC-11_FLAG_W,CFC-12,CFC-12_FLAG_W,TRITUM,TRITUM_FLAG_W,HELIUM,HELIUM_FLAG_W,DELHE3,DELHE3_FLAG_W,DELC14,DELC14_FLAG_W,DELC13,DELC13_FLAG_W,TCARBN,TCARBN_FLAG_W,ALKALI,ALKALI_FLAG_W,C14ERR,HELIER,DELHER,C13ERR,TRITER
,,,,,,,,,,,,DBAR,ITS-90,PSS-78,,PSS-78,,UMOL/KG,,DEG C,UMOL/KG,,UMOL/KG,,UMOL/KG,,UMOL/KG,,UMOL/KG,,PMOL/KG,,PMOL/KG,,TU,,NMOL/KG,,PERCNT,,/MILLE,,/MILLE,,UMOL/KG,,UMOL/KG,,/MILLE,NMOL/KG,PERCNT,/MILLE,TU
   31WTTUNES_1,  P17C,     1,  1,     19,     19,2,19910602,1029, 36.1717,-121.7367,  552,      2.1,  10.1244,  33.7425,2,  33.7326,2,    215.7,3, 10.1242,    216.7,2,    27.97,2,    22.99,2,     0.22,2,     1.85,2, -999.000,9, -999.000,9, -999.000,9,-999.0000,9,  -999.00,9,     28.3,2,     0.34,3,   -999.0,9,   -999.0,9,     7.5,-999.0000,-999.000,  -999.0,-999.000
   31WTTUNES_1,  P17C,     1,  1,     20,     20,2,19910602,1029, 36.1717,-121.7367,  552,     11.0,   9.8955,  33.7926,2,  33.7902,2,    200.4,3,  9.8943,    190.0,2,    28.66,2,    24.06,2,     0.20,2,     1.92,2, -999.000,9, -999.000,9, -999.000,9,-999.0000,9,  -999.00,9,     25.9,2,    -0.31,3,   -999.0,9,   -999.0,9,     4.3,-999.0000,-999.000,  -999.0,-999.000
   31WTTUNES_1,  P17C,     1,  1,     21,     21,2,19910602,1029, 36.1717,-121.7367,  552,     16.3,   9.4207,  33.8343,2,  33.8177,2,    184.6,3,  9.4189,    172.8,2,    30.03,2,    24.74,2,     0.18,2,     1.97,2, -999.000,9, -999.000,9,    2.200,2,   1.8380,2,     4.64,2,     19.3,2,    -0.01,3,   -999.0,9,   -999.0,9,     3.6,  0.0090,   0.150,  -999.0,   0.014
   31WTTUNES_1,  P17C,     1,  1,     22,     22,2,19910602,1029, 36.1717,-121.7367,  552,     41.9,   9.0988,  33.8850,2,  33.8706,2,    141.3,2,  9.0943,    145.5,2,    31.69,2,    25.82,2,     0.19,2,     2.00,2, -999.000,9, -999.000,9, -999.000,9,-999.0000,9,  -999.00,9,     18.3,2,    -0.09,3,   -999.0,9,   -999.0,9,     3.7,-999.0000,-999.000,  -999.0,-999.000
   31WTTUNES_1,  P17C,     1,  1,     23,     23,2,19910602,1029, 36.1717,-121.7367,  552,     66.8,   8.8049,  33.9302,2,  33.9275,2,    119.7,2,  8.7979,    123.1,2,    33.54,2,    27.29,2,     0.20,2,     2.10,2, -999.000,9, -999.000,9, -999.000,9,-999.0000,9,  -999.00,9,      7.5,2,    -0.28,3,   -999.0,9,   -999.0,9,     3.5,-999.0000,-999.000,  -999.0,-999.000
   31WTTUNES_1,  P17C,     1,  1,     24,     24,2,19910602,1029, 36.1717,-121.7367,  552,     92.7,   8.6780,  33.9873,2,  33.9712,2,    106.9,2,  8.6683,    107.0,2,    35.79,2,    27.97,2,     0.24,2,     2.17,2, -999.000,9, -999.000,9, -999.000,9,-999.0000,9,  -999.00,9,      7.7,2,    -0.44,3,   -999.0,9,   -999.0,9,     3.1,-999.0000,-999.000,  -999.0,-999.000
   31WTTUNES_1,  P17C,     1,  1,     25,     25,2,19910602,1029, 36.1717,-121.7367,  552,    117.1,   8.5900,  34.0088,2,  33.9981,2,    101.6,2,  8.5779,    100.2,2,    37.06,2,    28.46,2,     0.24,2,     2.21,2, -999.000,9, -999.000,9, -999.000,9,-999.0000,9,  -999.00,9,     -6.4,2,    -0.26,3,   -999.0,9,   -999.0,9,     3.6,-999.0000,-999.000,  -999.0,-999.000
   31WTTUNES_1,  P17C,     1,  1,     26,     26,2,19910602,1029, 36.1717,-121.7367,  552,    141.4,   8.4891,  34.0344,2,  34.0290,2,     97.5,2,  8.4745,     96.4,2,    38.24,2,    28.85,2,     0.20,2,     2.24,2, -999.000,9, -999.000,9, -999.000,9,-999.0000,9,  -999.00,9,     -9.1,2,    -0.08,3,   -999.0,9,   -999.0,9,     3.1,-999.0000,-999.000,  -999.0,-999.000
   31WTTUNES_1,  P17C,     1,  1,     27,     27,2,19910602,1029, 36.1717,-121.7367,  552,    166.6,   8.3911,  34.0706,2,  34.0598,2,     91.4,2,  8.3740,     90.5,2,    39.80,2,    29.24,2,     0.17,2,     2.28,2, -999.000,9, -999.000,9, -999.000,9,-999.0000,9,  -999.00,9,    -13.5,2,    -0.42,3,   -999.0,9,   -999.0,9,    13.7,-999.0000,-999.000,  -999.0,-999.000
   31WTTUNES_1,  P17C,     1,  1,     28,     28,2,19910602,1029, 36.1717,-121.7367,  552,    190.7,   8.1752,  34.0739,2,  34.0756,2,     85.7,2,  8.1559,     84.6,2,    42.63,2,    30.22,2,     0.22,2,     2.35,2, -999.000,9, -999.000,9, -999.000,9,-999.0000,9,  -999.00,9,    -21.4,2,    -0.25,3,   -999.0,9,   -999.0,9,     3.5,-999.0000,-999.000,  -999.0,-999.000
   31WTTUNES_1,  P17C,     1,  1,     29,     29,2,19910602,1029, 36.1717,-121.7367,  552,    242.6,   8.0023,  34.0967,2,  34.0931,2,     80.1,2,  7.9780,     83.2,2,    44.30,2,    30.80,2,     0.20,2,     2.41,2, -999.000,9, -999.000,9,    1.614,2,   1.8450,2,    13.87,2,    -35.1,2,    -0.23,3,   -999.0,9,   -999.0,9,     6.8,  0.0090,   0.150,  -999.0,   0.010
   31WTTUNES_1,  P17C,     1,  1,     30,     30,2,19910602,1029, 36.1717,-121.7367,  552,    292.7,   7.7594,  34.1113,2,  34.1059,2,     74.8,2,  7.7305,     75.6,2,    48.11,2,    31.88,2,     0.17,2,     2.49,2, -999.000,9, -999.000,9, -999.000,9,-999.0000,9,  -999.00,9,    -58.7,2,    -0.73,3,   -999.0,9,   -999.0,9,    10.7,-999.0000,-999.000,  -999.0,-999.000
   31WTTUNES_1,  P17C,     1,  1,     31,     31,4,19910602,1029, 36.1717,-121.7367,  552,    292.7,   7.7594,  34.1113,2,  34.1062,2,     74.8,2,  7.7305,     75.9,2,    48.01,2,    31.68,2,     0.17,2,     2.47,2, -999.000,9, -999.000,9, -999.000,9,-999.0000,9,  -999.00,9,    -76.6,3,    -0.12,3,   -999.0,9,   -999.0,9,     8.4,-999.0000,-999.000,  -999.0,-999.000
   31WTTUNES_1,  P17C,     1,  1,     32,     32,2,19910602,1029, 36.1717,-121.7367,  552,    394.1,   7.2786,  34.1330,2,  34.1352,2,     60.9,2,  7.2409,     61.8,2,    55.15,2,    33.54,2,     0.14,2,     2.63,2, -999.000,9, -999.000,9, -999.000,9,-999.0000,9,  -999.00,9,    -65.3,4,    -0.25,2,   -999.0,9,   -999.0,9,     4.2,-999.0000,-999.000,  -999.0,-999.000
   31WTTUNES_1,  P17C,     1,  1,     33,     33,2,19910602,1029, 36.1717,-121.7367,  552,    442.7,   6.6469,  34.2107,2,  34.1351,3,     41.6,2,  6.6064,     39.8,2,    66.49,2,    36.18,2,     0.19,2,     2.86,2, -999.000,9, -999.000,9, -999.000,5,   1.8340,2,    14.51,2,   -117.1,2,    -0.68,2,   -999.0,9,   -999.0,9,     4.2,  0.0090,   0.150,  -999.0,-999.000
   31WTTUNES_1,  P17C,     1,  1,     34,     34,2,19910602,1029, 36.1717,-121.7367,  552,    491.7,   6.3711,  34.2360,2,  34.2162,3,     30.7,2,  6.3270,     31.3,2,    72.06,2,    37.25,2,     0.20,2,     2.96,2, -999.000,9, -999.000,9, -999.000,9,-999.0000,9,  -999.00,9,   -142.8,2,    -0.64,2,   -999.0,9,   -999.0,9,    10.6,-999.0000,-999.000,  -999.0,-999.000
   31WTTUNES_1,  P17C,     1,  1,     35,     35,2,19910602,1029, 36.1717,-121.7367,  552,    518.9,   6.3261,  34.2299,2,  34.2243,2,     29.5,2,  6.2796,     29.7,2,    74.31,2,    37.55,2,     0.19,2,     3.00,2, -999.000,9, -999.000,9, -999.000,9,-999.0000,9,  -999.00,9,   -999.0,9,  -999.00,9,   -999.0,9,   -999.0,9,  -999.0,-999.0000,-999.000,  -999.0,-999.000
   31WTTUNES_1,  P17C,     1,  1,     36,     36,4,19910602,1029, 36.1717,-121.7367,  552,    518.9,   6.3261,  34.2299,2,  34.2242,2,     29.5,2,  6.2796,     28.9,2,    73.72,2,    37.45,2,     0.20,2,     2.99,2, -999.000,9, -999.000,9, -999.000,9,-999.0000,9,  -999.00,9,   -999.0,9,  -999.00,9,   -999.0,9,   -999.0,9,  -999.0,-999.0000,-999.000,  -999.0,-999.000
   31WTTUNES_1,  P17C,     2,  1,     18,     18,2,19910602,1311, 36.1000,-121.8333,  908,      2.1,  10.1959,  33.6368,2,  33.6325,2,    254.7,3, 10.1957,    251.9,2,    23.50,2,    19.81,2,     0.20,2,     1.54,2, -999.000,9, -999.000,9, -999.000,9,-999.0000,9,  -999.00,9,   -999.0,9,  -999.00,9,   -999.0,9,   -999.0,9,  -999.0,-999.0000,-999.000,  -999.0,-999.000
   31WTTUNES_1,  P17C,     2,  1,     19,     19,2,19910602,1311, 36.1000,-121.8333,  908,     12.2,  10.0492,  33.6338,2,  33.6389,2,    255.4,3, 10.0478,    248.6,2,    24.19,2,    19.99,2,     0.20,2,     1.56,2, -999.000,9, -999.000,9, -999.000,9,-999.0000,9,  -999.00,9,   -999.0,9,  -999.00,9,   -999.0,9,   -999.0,9,  -999.0,-999.0000,-999.000,  -999.0,-999.000
   31WTTUNES_1,  P17C,     2,  1,     20,     20,2,19910602,1311, 36.1000,-121.8333,  908,     25.6,   9.8375,  33.6360,2,  33.6207,2,    248.0,2,  9.8347,    231.2,2,    24.54,2,    20.58,2,     0.22,2,     1.60,2, -999.000,9, -999.000,9, -999.000,9,-999.0000,9,  -999.00,9,   -999.0,9,  -999.00,9,   -999.0,9,   -999.0,9,  -999.0,-999.0000,-999.000,  -999.0,-999.000
   31WTTUNES_1,  P17C,     2,  1,     21,     21,2,19910602,1311, 36.1000,-121.8333,  908,     51.2,   9.2838,  33.7728,2,  33.7729,2,    198.1,2,  9.2783,    174.5,2,    28.82,2,    23.98,2,     0.27,2,     1.83,2, -999.000,9, -999.000,9, -999.000,9,-999.0000,9,  -999.00,9,   -999.0,9,  -999.00,9,   -999.0,9,   -999.0,9,  -999.0,-999.0000,-999.000,  -999.0,-999.000
   31WTTUNES_1,  P17C,     2,  1,     22,     22,2,19910602,1311, 36.1000,-121.8333,  908,     75.7,   8.9514,  33.7838,2,  33.7793,2,    151.1,2,  8.9434,    140.3,2,    29.50,2,    25.65,2,     0.06,2,     1.90,2, -999.000,9, -999.000,9, -999.000,9,-999.0000,9,  -999.00,9,   -999.0,9,  -999.00,9,   -999.0,9,   -999.0,9,  -999.0,-999.0000,-999.000,  -999.0,-999.000
   31WTTUNES_1,  P17C,     2,  1,     23,     23,2,19910602,1311, 36.1000,-121.8333,  908,    100.4,   8.7613,  33.8626,2,  33.8534,2,    127.3,2,  8.7508,    127.8,2,    31.73,2,    26.70,2,     0.03,2,     1.96,2, -999.000,9, -999.000,9,    2.055,2,   1.8240,2,     8.43,2,   -999.0,9,  -999.00,9,   -999.0,9,   -999.0,9,  -999.0,  0.0090,   0.150,  -999.0,   0.010
   31WTTUNES_1,  P17C,     2,  1,     24,     24,2,19910602,1311, 36.1000,-121.8333,  908,    126.2,   8.6663,  33.9087,2,  33.9027,2,    114.8,2,  8.6532,    121.2,2,    33.44,2,    27.26,2,     0.08,2,     2.01,2, -999.000,9, -999.000,9, -999.000,9,-999.0000,9,  -999.00,9,   -999.0,9,  -999.00,9,   -999.0,9,   -999.0,9,  -999.0,-999.0000,-999.000,  -999.0,-999.000
   31WTTUNES_1,  P17C,     2,  1,     25,     25,2,19910602,1311, 36.1000,-121.8333,  908,    152.1,   8.5089,  33.9613,2,  33.9487,2,    105.7,2,  8.4932,    116.8,2,    36.01,2,    28.08,2,     0.15,2,     2.08,2, -999.000,9, -999.000,9, -999.000,9,-999.0000,9,  -999.00,9,   -999.0,9,  -999.00,9,   -999.0,9,   -999.0,9,  -999.0,-999.0000,-999.000,  -999.0,-999.000
   31WTTUNES_1,  P17C,     2,  1,     26,     26,2,19910602,1311, 36.1000,-121.8333,  908,    176.5,   8.1928,  34.0069,2,  33.9967,2,     95.7,2,  8.1750,    103.6,2,    39.09,2,    29.22,2,     0.05,2,     2.14,2, -999.000,9, -999.000,9, -999.000,9,-999.0000,9,  -999.00,9,   -999.0,9,  -999.00,9,   -999.0,9,   -999.0,9,  -999.0,-999.0000,-999.000,  -999.0,-999.000
   31WTTUNES_1,  P17C,     2,  1,     27,     27,2,19910602,1311, 36.1000,-121.8333,  908,    200.6,   8.0941,  34.0288,2,  34.0174,2,     91.4,2,  8.0740,    102.2,2,    40.29,2,    29.66,2,     0.04,2,     2.17,2, -999.000,9, -999.000,9,    1.847,2,   1.8080,2,    13.00,2,   -999.0,9,  -999.00,9,   -999.0,9,   -999.0,9,  -999.0,  0.0080,   0.150,  -999.0,   0.009
   31WTTUNES_1,  P17C,     2,  1,     28,     28,2,19910602,1311, 36.1000,-121.8333,  908,    251.8,   7.4496,  34.0817,2,  34.0738,2,     80.2,2,  7.4255,     81.5,2,    49.70,2,    32.25,2,     0.02,2,     2.38,2, -999.000,9, -999.000,9, -999.000,9,-999.0000,9,  -999.00,9,   -999.0,9,  -999.00,9,   -999.0,9,   -999.0,9,  -999.0,-999.0000,-999.000,  -999.0,-999.000
   31WTTUNES_1,  P17C,     2,  1,     29,     29,2,19910602,1311, 36.1000,-121.8333,  908,    303.1,   6.9793,  34.1168,2,  34.1098,2,     65.0,2,  6.9511,     64.1,2,    56.55,2,    34.42,2,     0.02,2,     2.56,2, -999.000,9, -999.000,9, -999.000,9,-999.0000,9,  -999.00,9,   -999.0,9,  -999.00,9,   -999.0,9,   -999.0,9,  -999.0,-999.0000,-999.000,  -999.0,-999.000
   31WTTUNES_1,  P17C,     2,  1,     30,     30,2,19910602,1311, 36.1000,-121.8333,  908,    353.0,   6.6226,  34.1309,2,  34.1251,2,     49.0,2,  6.5907,     50.8,2,    63.22,2,    36.30,2,     0.05,2,     2.71,2, -999.000,9, -999.000,9, -999.000,9,-999.0000,9,  -999.00,9,   -999.0,9,  -999.00,9,   -999.0,9,   -999.0,9,  -999.0,-999.0000,-999.000,  -999.0,-999.000
   31WTTUNES_1,  P17C,     2,  1,     31,     31,2,19910602,1311, 36.1000,-121.8333,  908,    403.5,   6.4112,  34.1887,2,  34.1842,2,     34.8,2,  6.3752,     32.8,2,    70.23,2,    37.68,2,     0.10,2,     2.86,2, -999.000,9, -999.000,9,    0.708,2,   1.8420,2,    13.97,2,   -999.0,9,  -999.00,9,   -999.0,9,   -999.0,9,  -999.0,  0.0090,   0.150,  -999.0,   0.006
   31WTTUNES_1,  P17C,     2,  1,     32,     32,2,19910602,1311, 36.1000,-121.8333,  908,    504.2,   5.9603,  34.2280,2,  34.2171,2,     22.0,2,  5.9166,     23.9,2,    78.43,2,    39.47,2,     0.11,2,     2.98,2, -999.000,9, -999.000,9, -999.000,9,-999.0000,9,  -999.00,9,   -999.0,9,  -999.00,9,   -999.0,9,   -999.0,9,  -999.0,-999.0000,-999.000,  -999.0,-999.000
   31WTTUNES_1,  P17C,     2,  1,     33,     33,2,19910602,1311, 36.1000,-121.8333,  908,    604.8,   5.4566,  34.3005,2,  34.2869,2,     14.5,2,  5.4061,     14.2,2,    89.20,2,    41.32,2,     0.00,2,     3.10,2, -999.000,9, -999.000,9, -999.000,9,-999.0000,9,  -999.00,9,   -999.0,9,  -999.00,9,   -999.0,9,   -999.0,9,  -999.0,-999.0000,-999.000,  -999.0,-999.000
   31WTTUNES_1,  P17C,     2,  1,     34,     34,2,19910602,1311, 36.1000,-121.8333,  908,    707.1,   5.0806,  34.3544,2,  34.3446,2,     12.4,2,  5.0229,     13.2,2,    98.60,2,    42.14,2,     0.01,2,     3.16,2, -999.000,9, -999.000,9,    0.704,2,   1.8510,2,    13.52,2,   -999.0,9,  -999.00,9,   -999.0,9,   -999.0,9,  -999.0,  0.0090,   0.150,  -999.0,   0.006
   31WTTUNES_1,  P17C,     2,  1,     35,     35,2,19910602,1311, 36.1000,-121.8333,  908,    809.5,   4.5978,  34.4016,2,  34.3934,2,     13.6,2,  4.5341,     16.4,2,   107.66,2,    43.01,2,     0.01,2,     3.18,2, -999.000,9, -999.000,9, -999.000,9,-999.0000,9,  -999.00,9,   -999.0,9,  -999.00,9,   -999.0,9,   -999.0,9,  -999.0,-999.0000,-999.000,  -999.0,-999.000
   31WTTUNES_1,  P17C,     2,  1,     36,     36,2,19910602,1311, 36.1000,-121.8333,  908,    911.7,   4.3227,  34.4145,2,  34.4028,2,   -999.0,9,  4.2522,     15.8,2,   114.66,2,    43.35,2,     0.04,2,     3.19,2, -999.000,9, -999.000,9,    0.003,2,   1.8990,2,    16.27,2,   -999.0,9,  -999.00,9,   -999.0,9,   -999.0,9,  -999.0,  0.0090,   0.150,  -999.0,   0.004