BOTTLE,20220819CCHSIOAMB
EXPOCODE,SECT_ID,STNNBR,CASTNO,SAMPNO,BTLNBR,BTLNBR_FLAG_W,DATE,TIME,LATITUDE,LONGITUDE,DEPTH,CTDPRS,CTDTMP,CTDSAL,CTDSAL_FLAG_W,SALNTY,SALNTY_FLAG_W,CTDOXY,CTDOXY_FLAG_W,THETA,OXYGEN,OXYGEN_FLAG_W,SILCAT,SILCAT_FLAG_W,NITRAT,NITRAT_FLAG_W,NITRIT,NITRIT_FLAG_W,PHSPHT,PHSPHT_FLAG_W,CFC-11,CFC-11_FLAG_W,CFC-12,CFC-12_FLAG_W,TRITUM,TRITUM_FLAG_W,HELIUM,HELIUM_FLAG_W,DELHE3,DELHE3_FLAG_W,DELC14,DELC14_FLAG_W,DELC13,DELC13_FLAG_W,TCARBN,TCARBN_FLAG_W,ALKALI,ALKALI_FLAG_W,C14ERR,HELIER,DELHER,C13ERR,TRITER
,,,,,,,,,,,,DBAR,ITS-90,PSS-78,,PSS-78,,UMOL/KG,,DEG C,UMOL/KG,,UMOL/KG,,UMOL/KG,,UMOL/KG,,UMOL/KG,,PMOL/KG,,PMOL/KG,,TU,,NMOL/KG,,PERCNT,,/MILLE,,/MILLE,,UMOL/KG,,UMOL/KG,,/MILLE,NMOL/KG,PERCNT,/MILLE,TU
   31WTTUNES_1,  P17C,   113,  1,     61,     61,2,19910704,1615, -2.5017,-135.0000, 4395,      2.2,  27.7156,  35.3397,2,  35.3418,2,   -999.0,9, 27.7151,   -999.0,9,  -999.00,9,  -999.00,9,  -999.00,9,  -999.00,9, -999.000,9, -999.000,9, -999.000,9,-999.0000,9,  -999.00,9,   -999.0,9,  -999.00,9,   -999.0,9,   -999.0,9,  -999.0,-999.0000,-999.000,  -999.0,-999.000
   31WTTUNES_1,  P17C,   113,  1,     62,     62,2,19910704,1615, -2.5017,-135.0000, 4395,     35.2,  27.7160,  35.3410,2,  35.3412,2,   -999.0,9, 27.7078,   -999.0,9,  -999.00,9,  -999.00,9,  -999.00,9,  -999.00,9, -999.000,9, -999.000,9, -999.000,9,-999.0000,9,  -999.00,9,   -999.0,9,  -999.00,9,   -999.0,9,   -999.0,9,  -999.0,-999.0000,-999.000,  -999.0,-999.000
   31WTTUNES_1,  P17C,   113,  1,     63,     63,2,19910704,1615, -2.5017,-135.0000, 4395,    304.0,  11.2800,  34.8162,2,  34.8164,2,   -999.0,9, 11.2418,   -999.0,9,  -999.00,9,  -999.00,9,  -999.00,9,  -999.00,9, -999.000,9, -999.000,9, -999.000,9,-999.0000,9,  -999.00,9,   -999.0,9,  -999.00,9,   -999.0,9,   -999.0,9,  -999.0,-999.0000,-999.000,  -999.0,-999.000
   31WTTUNES_1,  P17C,   113,  1,     64,     64,2,19910704,1615, -2.5017,-135.0000, 4395,    705.2,   6.1061,  34.5556,2,  34.5562,2,   -999.0,9,  6.0429,   -999.0,9,  -999.00,9,  -999.00,9,  -999.00,9,  -999.00,9, -999.000,9, -999.000,9, -999.000,9,-999.0000,9,  -999.00,9,   -999.0,9,  -999.00,9,   -999.0,9,   -999.0,9,  -999.0,-999.0000,-999.000,  -999.0,-999.000
   31WTTUNES_1,  P17C,   113,  1,     65,     65,2,19910704,1615, -2.5017,-135.0000, 4395,    905.1,   5.0507,  34.5490,2,  34.5510,2,   -999.0,9,  4.9755,   -999.0,9,  -999.00,9,  -999.00,9,  -999.00,9,  -999.00,9, -999.000,9, -999.000,9, -999.000,9,-999.0000,9,  -999.00,9,   -999.0,9,  -999.00,9,   -999.0,9,   -999.0,9,  -999.0,-999.0000,-999.000,  -999.0,-999.000
   31WTTUNES_1,  P17C,   113,  1,     66,     66,2,19910704,1615, -2.5017,-135.0000, 4395,   1203.0,   3.8014,  34.5731,2,  34.5738,2,   -999.0,9,  3.7102,   -999.0,9,  -999.00,9,  -999.00,9,  -999.00,9,  -999.00,9, -999.000,9, -999.000,9, -999.000,9,-999.0000,9,  -999.00,9,   -999.0,9,  -999.00,9,   -999.0,9,   -999.0,9,  -999.0,-999.0000,-999.000,  -999.0,-999.000
   31WTTUNES_1,  P17C,   113,  1,     67,     67,2,19910704,1615, -2.5017,-135.0000, 4395,   1508.2,   3.0017,  34.6024,2,  34.6045,2,   -999.0,9,  2.8931,   -999.0,9,  -999.00,9,  -999.00,9,  -999.00,9,  -999.00,9, -999.000,9, -999.000,9, -999.000,9,-999.0000,9,  -999.00,9,   -999.0,9,  -999.00,9,   -999.0,9,   -999.0,9,  -999.0,-999.0000,-999.000,  -999.0,-999.000
   31WTTUNES_1,  P17C,   113,  1,     68,     68,2,19910704,1615, -2.5017,-135.0000, 4395,   2015.8,   2.3416,  34.6398,2,  34.6412,2,   -999.0,9,  2.1986,   -999.0,9,  -999.00,9,  -999.00,9,  -999.00,9,  -999.00,9, -999.000,9, -999.000,9, -999.000,9,-999.0000,9,  -999.00,9,   -999.0,9,  -999.00,9,   -999.0,9,   -999.0,9,  -999.0,-999.0000,-999.000,  -999.0,-999.000
   31WTTUNES_1,  P17C,   113,  1,     69,     69,2,19910704,1615, -2.5017,-135.0000, 4395,   3015.6,   1.6339,  34.6756,2,  34.6761,2,   -999.0,9,  1.4127,   -999.0,9,  -999.00,9,  -999.00,9,  -999.00,9,  -999.00,9, -999.000,9, -999.000,9, -999.000,9,-999.0000,9,  -999.00,9,   -999.0,9,  -999.00,9,   -999.0,9,   -999.0,9,  -999.0,-999.0000,-999.000,  -999.0,-999.000
   31WTTUNES_1,  P17C,   113,  1,     70,     70,2,19910704,1615, -2.5017,-135.0000, 4395,   4040.7,   1.4035,  34.6957,2,  34.6942,2,   -999.0,9,  1.0829,   -999.0,9,  -999.00,9,  -999.00,9,  -999.00,9,  -999.00,9, -999.000,9, -999.000,9, -999.000,9,-999.0000,9,  -999.00,9,   -999.0,9,  -999.00,9,   -999.0,9,   -999.0,9,  -999.0,-999.0000,-999.000,  -999.0,-999.000
   31WTTUNES_1,  P17C,   113,  1,     71,     71,2,19910704,1615, -2.5017,-135.0000, 4395,   4464.0,   1.4181,  34.6964,2,  34.6968,2,   -999.0,9,  1.0498,   -999.0,9,  -999.00,9,  -999.00,9,  -999.00,9,  -999.00,9, -999.000,9, -999.000,9, -999.000,9,-999.0000,9,  -999.00,9,   -999.0,9,  -999.00,9,   -999.0,9,   -999.0,9,  -999.0,-999.0000,-999.000,  -999.0,-999.000
   31WTTUNES_1,  P17C,   114,  1,      1,      1,2,19910704,2000, -2.6617,-135.0000, 4422,      0.2,  27.7965,  35.3121,2,  35.3174,2,   -999.0,9, 27.7965,    208.7,2,     2.77,2,     4.84,2,     0.13,2,     0.53,2,    1.629,2,    0.914,2, -999.000,9,-999.0000,9,  -999.00,9,   -999.0,9,  -999.00,9,   -999.0,9,   -999.0,9,  -999.0,-999.0000,-999.000,  -999.0,-999.000
   31WTTUNES_1,  P17C,   114,  1,      2,      2,2,19910704,2000, -2.6617,-135.0000, 4422,     71.7,  26.9435,  35.3903,2,  35.3958,2,    199.6,2, 26.9270,    203.2,2,     3.14,2,     6.38,2,     0.12,2,     0.71,2,    1.705,2,    0.948,2, -999.000,9,-999.0000,9,  -999.00,9,   -999.0,9,  -999.00,9,   -999.0,9,   -999.0,9,  -999.0,-999.0000,-999.000,  -999.0,-999.000
   31WTTUNES_1,  P17C,   114,  1,      3,      3,2,19910704,2000, -2.6617,-135.0000, 4422,     82.8,  23.1706,  35.2656,2,  35.2693,2,    184.7,2, 23.1536,    183.6,2,     4.47,2,     9.83,2,     0.39,2,     1.03,2,    1.812,2,    1.006,2, -999.000,9,-999.0000,9,  -999.00,9,   -999.0,9,  -999.00,9,   -999.0,9,   -999.0,9,  -999.0,-999.0000,-999.000,  -999.0,-999.000
   31WTTUNES_1,  P17C,   114,  1,      4,      4,2,19910704,2000, -2.6617,-135.0000, 4422,     93.5,  20.2813,  35.3561,2,  35.3305,2,    134.3,2, 20.2639,    140.2,2,     6.37,2,    12.06,2,     1.18,2,     1.27,2,    1.622,2,    0.891,2, -999.000,9,-999.0000,9,  -999.00,9,   -999.0,9,  -999.00,9,   -999.0,9,   -999.0,9,  -999.0,-999.0000,-999.000,  -999.0,-999.000
   31WTTUNES_1,  P17C,   114,  1,      5,      5,2,19910704,2000, -2.6617,-135.0000, 4422,    104.0,  17.9086,  35.3553,2,  35.3153,2,    101.1,2, 17.8908,     90.8,2,     9.03,2,    17.08,2,     1.52,2,     1.49,2,    1.365,2,    0.756,2, -999.000,9,-999.0000,9,  -999.00,9,   -999.0,9,  -999.00,9,   -999.0,9,   -999.0,9,  -999.0,-999.0000,-999.000,  -999.0,-999.000
   31WTTUNES_1,  P17C,   114,  1,      6,      6,2,19910704,2000, -2.6617,-135.0000, 4422,    119.4,  14.1598,  35.0271,2,  34.9862,2,     34.5,2, 14.1424,     26.9,2,    20.48,2,    29.70,2,     0.13,2,     2.10,2,    0.541,2,    0.305,2, -999.000,9,-999.0000,9,  -999.00,9,   -999.0,9,  -999.00,9,   -999.0,9,   -999.0,9,  -999.0,-999.0000,-999.000,  -999.0,-999.000
   31WTTUNES_1,  P17C,   114,  1,      7,      7,2,19910704,2000, -2.6617,-135.0000, 4422,    132.2,  13.0690,  34.9282,2,  34.9255,2,     26.7,2, 13.0508,     26.6,2,    23.34,2,    30.83,2,     0.01,2,     2.16,2,    0.386,2,    0.219,2, -999.000,9,-999.0000,9,  -999.00,9,   -999.0,9,  -999.00,9,   -999.0,9,   -999.0,9,  -999.0,-999.0000,-999.000,  -999.0,-999.000
   31WTTUNES_1,  P17C,   114,  1,      8,      8,2,19910704,2000, -2.6617,-135.0000, 4422,    152.0,  12.5820,  34.8930,2,  34.8950,2,     29.8,2, 12.5616,     34.3,2,    24.28,2,    30.48,2,     0.01,2,     2.13,2,    0.338,2,    0.195,2, -999.000,9,-999.0000,9,  -999.00,9,   -999.0,9,  -999.00,9,   -999.0,9,   -999.0,9,  -999.0,-999.0000,-999.000,  -999.0,-999.000
   31WTTUNES_1,  P17C,   114,  1,      9,      9,2,19910704,2000, -2.6617,-135.0000, 4422,    178.3,  12.3327,  34.8799,2,  34.8810,2,     37.4,2, 12.3091,     34.4,2,    25.03,2,    30.79,2,     0.00,2,     2.15,2,    0.299,2,    0.169,2, -999.000,9,-999.0000,9,  -999.00,9,   -999.0,9,  -999.00,9,   -999.0,9,   -999.0,9,  -999.0,-999.0000,-999.000,  -999.0,-999.000
   31WTTUNES_1,  P17C,   114,  1,     10,     10,2,19910704,2000, -2.6617,-135.0000, 4422,    206.6,  12.0676,  34.8635,2,  34.8636,2,     30.7,2, 12.0406,     31.4,2,    26.16,2,    31.35,2,     0.00,2,     2.20,2,    0.243,2,    0.141,2, -999.000,9,-999.0000,9,  -999.00,9,   -999.0,9,  -999.00,9,   -999.0,9,   -999.0,9,  -999.0,-999.0000,-999.000,  -999.0,-999.000
   31WTTUNES_1,  P17C,   114,  1,     11,     11,2,19910704,2000, -2.6617,-135.0000, 4422,    256.3,  11.7177,  34.8454,2,  34.8482,2,     41.9,2, 11.6847,     30.5,2,    27.10,2,    31.81,2,     0.00,2,     2.25,2,    0.189,2,    0.112,2, -999.000,9,-999.0000,9,  -999.00,9,   -999.0,9,  -999.00,9,   -999.0,9,   -999.0,9,  -999.0,-999.0000,-999.000,  -999.0,-999.000
   31WTTUNES_1,  P17C,   114,  1,     12,     12,2,19910704,2000, -2.6617,-135.0000, 4422,    304.1,  11.2637,  34.8258,2,  34.8228,2,     32.9,2, 11.2256,     36.9,2,    27.66,2,    31.81,2,     0.00,2,     2.26,2,    0.163,2,    0.097,2, -999.000,9,-999.0000,9,  -999.00,9,   -999.0,9,  -999.00,9,   -999.0,9,   -999.0,9,  -999.0,-999.0000,-999.000,  -999.0,-999.000
   31WTTUNES_1,  P17C,   114,  1,     13,     13,2,19910704,2000, -2.6617,-135.0000, 4422,    378.3,  10.2381,  34.7575,2,  34.7565,2,     73.2,2, 10.1933,     63.9,2,    28.03,2,    31.41,2,     0.00,2,     2.19,2,    0.147,2,    0.088,2, -999.000,9,-999.0000,9,  -999.00,9,   -999.0,9,  -999.00,9,   -999.0,9,   -999.0,9,  -999.0,-999.0000,-999.000,  -999.0,-999.000
   31WTTUNES_1,  P17C,   114,  1,     14,     14,2,19910704,2000, -2.6617,-135.0000, 4422,    455.8,   8.6940,  34.6692,2,  34.6686,2,     32.8,2,  8.6450,     33.1,2,    38.52,2,    38.00,2,     0.00,2,     2.62,2,    0.018,2,    0.014,2, -999.000,9,-999.0000,9,  -999.00,9,   -999.0,9,  -999.00,9,   -999.0,9,   -999.0,9,  -999.0,-999.0000,-999.000,  -999.0,-999.000
   31WTTUNES_1,  P17C,   114,  1,     15,     15,2,19910704,2000, -2.6617,-135.0000, 4422,    507.2,   7.9911,  34.6284,2,  34.6283,2,     39.2,2,  7.9390,     39.3,2,    43.09,2,    39.15,2,     0.00,2,     2.69,2,    0.011,2,    0.008,2, -999.000,9,-999.0000,9,  -999.00,9,   -999.0,9,  -999.00,9,   -999.0,9,   -999.0,9,  -999.0,-999.0000,-999.000,  -999.0,-999.000
   31WTTUNES_1,  P17C,   114,  1,     16,     16,2,19910704,2000, -2.6617,-135.0000, 4422,    607.6,   6.9771,  34.5832,2,  34.5842,2,     55.0,2,  6.9190,     52.1,2,    50.72,2,    40.16,2,     0.00,2,     2.76,2,    0.005,2,    0.003,2, -999.000,9,-999.0000,9,  -999.00,9,   -999.0,9,  -999.00,9,   -999.0,9,   -999.0,9,  -999.0,-999.0000,-999.000,  -999.0,-999.000
   31WTTUNES_1,  P17C,   114,  1,     17,     17,2,19910704,2000, -2.6617,-135.0000, 4422,    712.2,   6.0879,  34.5569,2,  34.5591,2,     61.5,2,  6.0241,     60.0,2,    61.02,2,    40.86,3,     0.00,2,     2.83,2,    0.004,2,    0.006,2, -999.000,9,-999.0000,9,  -999.00,9,   -999.0,9,  -999.00,9,   -999.0,9,   -999.0,9,  -999.0,-999.0000,-999.000,  -999.0,-999.000
   31WTTUNES_1,  P17C,   114,  1,     18,     18,2,19910704,2000, -2.6617,-135.0000, 4422,    811.0,   5.5922,  34.5488,2,  34.5521,2,     69.0,2,  5.5220,     69.1,2,    67.68,2,    40.70,3,     0.00,2,     2.82,2,    0.002,2,    0.003,2, -999.000,9,-999.0000,9,  -999.00,9,   -999.0,9,  -999.00,9,   -999.0,9,   -999.0,9,  -999.0,-999.0000,-999.000,  -999.0,-999.000
   31WTTUNES_1,  P17C,   114,  1,     19,     19,2,19910704,2000, -2.6617,-135.0000, 4422,    909.9,   4.9953,  34.5475,2,  34.5488,2,     77.5,2,  4.9201,     79.6,2,    77.21,2,    40.44,3,     0.00,2,     2.82,2,    0.000,2,    0.009,2, -999.000,9,-999.0000,9,  -999.00,9,   -999.0,9,  -999.00,9,   -999.0,9,   -999.0,9,  -999.0,-999.0000,-999.000,  -999.0,-999.000
   31WTTUNES_1,  P17C,   114,  1,     20,     20,2,19910704,2000, -2.6617,-135.0000, 4422,   1014.7,   4.5146,  34.5511,2,  34.5532,2,     86.6,2,  4.4336,     87.5,2,    85.02,2,    40.07,3,     0.00,2,     2.80,2, -999.000,9, -999.000,9, -999.000,9,-999.0000,9,  -999.00,9,   -999.0,9,  -999.00,9,   -999.0,9,   -999.0,9,  -999.0,-999.0000,-999.000,  -999.0,-999.000
   31WTTUNES_1,  P17C,   114,  1,     21,     21,2,19910704,2000, -2.6617,-135.0000, 4422,   1224.9,   3.6841,  34.5761,2,  34.5777,2,     88.7,2,  3.5922,     89.1,2,   105.23,2,    40.24,3,     0.00,2,     2.84,2, -999.000,9, -999.000,9, -999.000,9,-999.0000,9,  -999.00,9,   -999.0,9,  -999.00,9,   -999.0,9,   -999.0,9,  -999.0,-999.0000,-999.000,  -999.0,-999.000
   31WTTUNES_1,  P17C,   114,  1,     22,     22,2,19910704,2000, -2.6617,-135.0000, 4422,   1427.1,   3.1422,  34.5946,2,  34.5954,2,     99.1,2,  3.0388,     98.5,2,   116.86,2,    39.81,3,     0.00,2,     2.79,2, -999.000,9, -999.000,9, -999.000,9,-999.0000,9,  -999.00,9,   -999.0,9,  -999.00,9,   -999.0,9,   -999.0,9,  -999.0,-999.0000,-999.000,  -999.0,-999.000
   31WTTUNES_1,  P17C,   114,  1,     23,     23,2,19910704,2000, -2.6617,-135.0000, 4422,   1622.2,   2.7973,  34.6103,2,  34.6116,2,    101.1,2,  2.6816,    103.7,2,   124.85,2,    39.55,3,     0.00,2,     2.76,2, -999.000,9, -999.000,9, -999.000,9,-999.0000,9,  -999.00,9,   -999.0,9,  -999.00,9,   -999.0,9,   -999.0,9,  -999.0,-999.0000,-999.000,  -999.0,-999.000
   31WTTUNES_1,  P17C,   114,  1,     24,     24,2,19910704,2000, -2.6617,-135.0000, 4422,   1822.1,   2.5346,  34.6240,2,  34.6246,2,    106.8,2,  2.4054,    107.5,2,   131.69,2,    39.34,3,     0.00,2,     2.74,2, -999.000,9, -999.000,9, -999.000,9,-999.0000,9,  -999.00,9,   -999.0,9,  -999.00,9,   -999.0,9,   -999.0,9,  -999.0,-999.0000,-999.000,  -999.0,-999.000
   31WTTUNES_1,  P17C,   114,  1,     25,     25,2,19910704,2000, -2.6617,-135.0000, 4422,   2024.0,   2.2828,  34.6419,2,  34.6440,2,    106.6,2,  2.1399,    105.7,2,   142.55,2,    39.56,3,     0.00,2,     2.76,2, -999.000,9, -999.000,9, -999.000,9,-999.0000,9,  -999.00,9,   -999.0,9,  -999.00,9,   -999.0,9,   -999.0,9,  -999.0,-999.0000,-999.000,  -999.0,-999.000
   31WTTUNES_1,  P17C,   114,  1,     26,     26,2,19910704,2000, -2.6617,-135.0000, 4422,   2224.0,   2.1007,  34.6501,2,  34.6514,2,    113.4,2,  1.9433,    113.0,2,   145.00,2,    39.08,3,     0.00,2,     2.70,2, -999.000,9, -999.000,9, -999.000,9,-999.0000,9,  -999.00,9,   -999.0,9,  -999.00,9,   -999.0,9,   -999.0,9,  -999.0,-999.0000,-999.000,  -999.0,-999.000
   31WTTUNES_1,  P17C,   114,  1,     27,     27,2,19910704,2000, -2.6617,-135.0000, 4422,   2432.1,   1.9495,  34.6592,2,  34.6582,2,    121.9,2,  1.7763,    121.0,2,   146.31,2,    38.56,3,     0.00,2,     2.66,2, -999.000,9, -999.000,9, -999.000,9,-999.0000,9,  -999.00,9,   -999.0,9,  -999.00,9,   -999.0,9,   -999.0,9,  -999.0,-999.0000,-999.000,  -999.0,-999.000
   31WTTUNES_1,  P17C,   114,  1,     28,     28,2,19910704,2000, -2.6617,-135.0000, 4422,   2637.2,   1.8133,  34.6655,2,  34.6654,2,    130.6,2,  1.6240,    129.3,2,   147.24,2,    38.09,3,     0.00,2,     2.61,2, -999.000,9, -999.000,9, -999.000,9,-999.0000,9,  -999.00,9,   -999.0,9,  -999.00,9,   -999.0,9,   -999.0,9,  -999.0,-999.0000,-999.000,  -999.0,-999.000
   31WTTUNES_1,  P17C,   114,  1,     29,     29,2,19910704,2000, -2.6617,-135.0000, 4422,   2830.6,   1.7208,  34.6699,2,  34.6707,2,    136.4,2,  1.5154,    136.0,2,   146.26,2,    37.52,3,     0.00,2,     2.58,2, -999.000,9, -999.000,9, -999.000,9,-999.0000,9,  -999.00,9,   -999.0,9,  -999.00,9,   -999.0,9,   -999.0,9,  -999.0,-999.0000,-999.000,  -999.0,-999.000
   31WTTUNES_1,  P17C,   114,  1,     30,     30,2,19910704,2000, -2.6617,-135.0000, 4422,   3037.6,   1.6429,  34.6742,2,  34.6760,2,    141.5,2,  1.4194,    141.6,2,   145.47,2,    37.05,3,     0.00,2,     2.53,2, -999.000,9, -999.000,9, -999.000,9,-999.0000,9,  -999.00,9,   -999.0,9,  -999.00,9,   -999.0,9,   -999.0,9,  -999.0,-999.0000,-999.000,  -999.0,-999.000
   31WTTUNES_1,  P17C,   114,  1,     31,     31,2,19910704,2000, -2.6617,-135.0000, 4422,   3295.6,   1.5515,  34.6821,2,  34.6824,2,    149.8,2,  1.3047,    150.2,2,   145.45,2,    36.43,3,     0.00,2,     2.49,2, -999.000,9, -999.000,9, -999.000,9,-999.0000,9,  -999.00,9,   -999.0,9,  -999.00,9,   -999.0,9,   -999.0,9,  -999.0,-999.0000,-999.000,  -999.0,-999.000
   31WTTUNES_1,  P17C,   114,  1,     32,     32,2,19910704,2000, -2.6617,-135.0000, 4422,   3541.9,   1.4814,  34.6869,2,  34.6863,2,    154.7,2,  1.2114,    154.3,2,   147.52,2,    36.43,3,     0.00,2,     2.47,2, -999.000,9, -999.000,9, -999.000,9,-999.0000,9,  -999.00,9,   -999.0,9,  -999.00,9,   -999.0,9,   -999.0,9,  -999.0,-999.0000,-999.000,  -999.0,-999.000
   31WTTUNES_1,  P17C,   114,  1,     33,     33,2,19910704,2000, -2.6617,-135.0000, 4422,   3793.4,   1.4446,  34.6904,2,  34.6882,2,    160.8,2,  1.1494,   -999.0,9,   145.78,2,    36.02,3,     0.00,2,     2.44,2, -999.000,9, -999.000,9, -999.000,9,-999.0000,9,  -999.00,9,   -999.0,9,  -999.00,9,   -999.0,9,   -999.0,9,  -999.0,-999.0000,-999.000,  -999.0,-999.000
   31WTTUNES_1,  P17C,   114,  1,     34,     34,9,19910704,2000, -2.6617,-135.0000, 4422,   4050.1,   1.4043,  34.6944,2,-999.0000,9,    167.3,2,  1.0826,   -999.0,9,  -999.00,9,  -999.00,9,  -999.00,9,  -999.00,9, -999.000,9, -999.000,9, -999.000,9,-999.0000,9,  -999.00,9,   -999.0,9,  -999.00,9,   -999.0,9,   -999.0,9,  -999.0,-999.0000,-999.000,  -999.0,-999.000
   31WTTUNES_1,  P17C,   114,  1,     35,     35,2,19910704,2000, -2.6617,-135.0000, 4422,   4259.6,   1.4113,  34.6963,2,  34.6943,2,    170.4,2,  1.0662,    169.8,2,   140.22,2,    35.25,3,     0.00,2,     2.39,2, -999.000,9, -999.000,9, -999.000,9,-999.0000,9,  -999.00,9,   -999.0,9,  -999.00,9,   -999.0,9,   -999.0,9,  -999.0,-999.0000,-999.000,  -999.0,-999.000
   31WTTUNES_1,  P17C,   114,  1,     36,     36,2,19910704,2000, -2.6617,-135.0000, 4422,   4496.9,   1.4167,  34.6976,2,  34.6960,2,   -999.0,9,  1.0446,    173.3,2,   137.34,2,    34.99,3,     0.00,2,     2.37,2, -999.000,9, -999.000,9, -999.000,9,-999.0000,9,  -999.00,9,   -999.0,9,  -999.00,9,   -999.0,9,   -999.0,9,  -999.0,-999.0000,-999.000,  -999.0,-999.000