BOTTLE,20220819CCHSIOAMB
EXPOCODE,SECT_ID,STNNBR,CASTNO,SAMPNO,BTLNBR,BTLNBR_FLAG_W,DATE,TIME,LATITUDE,LONGITUDE,DEPTH,CTDPRS,CTDTMP,CTDSAL,CTDSAL_FLAG_W,SALNTY,SALNTY_FLAG_W,CTDOXY,CTDOXY_FLAG_W,THETA,OXYGEN,OXYGEN_FLAG_W,SILCAT,SILCAT_FLAG_W,NITRAT,NITRAT_FLAG_W,NITRIT,NITRIT_FLAG_W,PHSPHT,PHSPHT_FLAG_W,CFC-11,CFC-11_FLAG_W,CFC-12,CFC-12_FLAG_W,TRITUM,TRITUM_FLAG_W,HELIUM,HELIUM_FLAG_W,DELHE3,DELHE3_FLAG_W,DELC14,DELC14_FLAG_W,DELC13,DELC13_FLAG_W,TCARBN,TCARBN_FLAG_W,ALKALI,ALKALI_FLAG_W,C14ERR,HELIER,DELHER,C13ERR,TRITER
,,,,,,,,,,,,DBAR,ITS-90,PSS-78,,PSS-78,,UMOL/KG,,DEG C,UMOL/KG,,UMOL/KG,,UMOL/KG,,UMOL/KG,,UMOL/KG,,PMOL/KG,,PMOL/KG,,TU,,NMOL/KG,,PERCNT,,/MILLE,,/MILLE,,UMOL/KG,,UMOL/KG,,/MILLE,NMOL/KG,PERCNT,/MILLE,TU
   31WTTUNES_1,  P17C,    52,  1,      1,      1,2,19910619,2003, 17.0000,-135.0000, 5281,      0.2,  24.9883,  34.5000,2,  34.5058,2,   -999.0,9, 24.9882,    211.4,2,     2.16,2,     0.11,2,     0.00,2,     0.20,2,    1.876,2,    1.024,2, -999.000,9,-999.0000,9,  -999.00,9,   -999.0,9,  -999.00,9,   -999.0,9,   -999.0,9,  -999.0,-999.0000,-999.000,  -999.0,-999.000
   31WTTUNES_1,  P17C,    52,  1,      2,      2,2,19910619,2003, 17.0000,-135.0000, 5281,     52.9,  23.6551,  34.4493,2,  34.4756,2,    214.4,2, 23.6442,    218.3,2,     2.15,2,     0.10,2,     0.00,2,     0.20,2,    2.008,2,    1.117,2, -999.000,9,-999.0000,9,  -999.00,9,   -999.0,9,  -999.00,9,   -999.0,9,   -999.0,9,  -999.0,-999.0000,-999.000,  -999.0,-999.000
   31WTTUNES_1,  P17C,    52,  1,      3,      3,2,19910619,2003, 17.0000,-135.0000, 5281,     96.8,  21.1374,  34.8154,2,  34.8210,2,    224.3,2, 21.1188,    222.8,2,     1.95,2,     0.10,2,     0.00,2,     0.19,2,    2.237,2,    1.207,2, -999.000,9,-999.0000,9,  -999.00,9,   -999.0,9,  -999.00,9,   -999.0,9,   -999.0,9,  -999.0,-999.0000,-999.000,  -999.0,-999.000
   31WTTUNES_1,  P17C,    52,  1,      4,      4,2,19910619,2003, 17.0000,-135.0000, 5281,    128.1,  19.3620,  34.7510,2,  34.7458,2,    218.6,2, 19.3389,    212.5,2,     2.32,2,     0.42,2,     0.12,2,     0.24,2,    2.373,2,    1.253,2, -999.000,9,-999.0000,9,  -999.00,9,   -999.0,9,  -999.00,9,   -999.0,9,   -999.0,9,  -999.0,-999.0000,-999.000,  -999.0,-999.000
   31WTTUNES_1,  P17C,    52,  1,      5,      5,2,19910619,2003, 17.0000,-135.0000, 5281,    159.0,  15.9084,  34.4079,2,  34.3608,2,    180.3,2, 15.8834,    146.8,2,     9.32,2,    11.33,2,     0.01,2,     0.99,2,    2.048,2,    1.081,2, -999.000,9,-999.0000,9,  -999.00,9,   -999.0,9,  -999.00,9,   -999.0,9,   -999.0,9,  -999.0,-999.0000,-999.000,  -999.0,-999.000
   31WTTUNES_1,  P17C,    52,  1,      6,      6,2,19910619,2003, 17.0000,-135.0000, 5281,    191.0,  12.7488,  34.2581,2,  34.2584,2,    103.4,2, 12.7231,    100.7,2,    19.46,2,    20.43,2,     0.01,2,     1.64,2,    1.505,2,    0.798,2, -999.000,9,-999.0000,9,  -999.00,9,   -999.0,9,  -999.00,9,   -999.0,9,   -999.0,9,  -999.0,-999.0000,-999.000,  -999.0,-999.000
   31WTTUNES_1,  P17C,    52,  1,      7,      7,2,19910619,2003, 17.0000,-135.0000, 5281,    222.1,  11.3963,  34.3684,2,  34.3699,2,     58.6,2, 11.3684,     65.4,2,    28.67,2,    25.84,2,     0.01,2,     2.10,2,    0.867,2,    0.441,2, -999.000,9,-999.0000,9,  -999.00,9,   -999.0,9,  -999.00,9,   -999.0,9,   -999.0,9,  -999.0,-999.0000,-999.000,  -999.0,-999.000
   31WTTUNES_1,  P17C,    52,  1,      8,      8,2,19910619,2003, 17.0000,-135.0000, 5281,    257.9,  10.6220,  34.4104,2,  34.4111,2,     57.6,2, 10.5911,     55.5,2,    33.26,2,    27.38,2,     0.00,2,     2.27,2,    0.581,2,    0.303,2, -999.000,9,-999.0000,9,  -999.00,9,   -999.0,9,  -999.00,9,   -999.0,9,   -999.0,9,  -999.0,-999.0000,-999.000,  -999.0,-999.000
   31WTTUNES_1,  P17C,    52,  1,      9,      9,2,19910619,2003, 17.0000,-135.0000, 5281,    293.3,  10.0513,  34.4517,2,  34.4565,2,     36.3,2, 10.0172,     35.8,2,    37.85,2,    29.03,2,     0.01,2,     2.46,2,    0.290,2,    0.157,2, -999.000,9,-999.0000,9,  -999.00,9,   -999.0,9,  -999.00,9,   -999.0,9,   -999.0,9,  -999.0,-999.0000,-999.000,  -999.0,-999.000
   31WTTUNES_1,  P17C,    52,  1,     10,     10,2,19910619,2003, 17.0000,-135.0000, 5281,    365.2,   8.7365,  34.4462,2,  34.4496,2,     22.1,2,  8.6974,     20.0,2,    47.60,2,    32.81,2,     0.00,2,     2.69,2,    0.065,2,    0.041,2, -999.000,9,-999.0000,9,  -999.00,9,   -999.0,9,  -999.00,9,   -999.0,9,   -999.0,9,  -999.0,-999.0000,-999.000,  -999.0,-999.000
   31WTTUNES_1,  P17C,    52,  1,     11,     11,2,19910619,2003, 17.0000,-135.0000, 5281,    431.4,   7.8340,  34.4530,2,  34.4520,2,     14.3,2,  7.7905,     15.6,2,    56.06,2,    35.40,2,     0.00,2,     2.84,2,    0.016,2,    0.013,2, -999.000,9,-999.0000,9,  -999.00,9,   -999.0,9,  -999.00,9,   -999.0,9,   -999.0,9,  -999.0,-999.0000,-999.000,  -999.0,-999.000
   31WTTUNES_1,  P17C,    52,  1,     12,     12,2,19910619,2003, 17.0000,-135.0000, 5281,    503.9,   7.1153,  34.4733,2,  34.4783,2,     15.9,2,  7.0670,     11.0,2,    63.77,2,    38.23,2,     0.00,2,     2.97,2,    0.007,2,    0.000,2, -999.000,9,-999.0000,9,  -999.00,9,   -999.0,9,  -999.00,9,   -999.0,9,   -999.0,9,  -999.0,-999.0000,-999.000,  -999.0,-999.000
   31WTTUNES_1,  P17C,    52,  1,     13,     13,2,19910619,2003, 17.0000,-135.0000, 5281,    604.6,   6.3414,  34.4777,2,  34.4815,2,     11.2,2,  6.2866,     11.9,2,    73.87,2,    40.12,2,     0.00,2,     3.05,2,    0.002,2,   -0.002,2, -999.000,9,-999.0000,9,  -999.00,9,   -999.0,9,  -999.00,9,   -999.0,9,   -999.0,9,  -999.0,-999.0000,-999.000,  -999.0,-999.000
   31WTTUNES_1,  P17C,    52,  1,     14,     14,2,19910619,2003, 17.0000,-135.0000, 5281,    706.7,   5.7805,  34.4926,2,  34.4937,2,     13.3,2,  5.7189,     12.3,2,    82.32,2,    41.97,2,     0.00,2,     3.12,2,   -0.001,2,   -0.002,2, -999.000,9,-999.0000,9,  -999.00,9,   -999.0,9,  -999.00,9,   -999.0,9,   -999.0,9,  -999.0,-999.0000,-999.000,  -999.0,-999.000
   31WTTUNES_1,  P17C,    52,  1,     15,     15,2,19910619,2003, 17.0000,-135.0000, 5281,    809.0,   5.3003,  34.5049,2,  34.5021,2,     20.1,2,  5.2322,     15.1,2,    89.83,2,    43.15,2,     0.00,2,     3.15,2,   -0.001,2,   -0.002,2, -999.000,9,-999.0000,9,  -999.00,9,   -999.0,9,  -999.00,9,   -999.0,9,   -999.0,9,  -999.0,-999.0000,-999.000,  -999.0,-999.000
   31WTTUNES_1,  P17C,    52,  1,     16,     16,2,19910619,2003, 17.0000,-135.0000, 5281,    916.5,   4.7262,  34.5161,2,  34.5180,2,     21.4,2,  4.6522,     21.4,2,    99.92,2,    43.85,2,     0.01,2,     3.16,2,    0.000,2,    0.003,2, -999.000,9,-999.0000,9,  -999.00,9,   -999.0,9,  -999.00,9,   -999.0,9,   -999.0,9,  -999.0,-999.0000,-999.000,  -999.0,-999.000
   31WTTUNES_1,  P17C,    52,  1,     17,     17,2,19910619,2003, 17.0000,-135.0000, 5281,   1011.4,   4.3155,  34.5256,2,  34.5277,2,     27.6,2,  4.2364,     27.4,2,   108.16,2,    43.86,2,     0.00,2,     3.15,2,    0.000,2,   -0.002,2, -999.000,9,-999.0000,9,  -999.00,9,   -999.0,9,  -999.00,9,   -999.0,9,   -999.0,9,  -999.0,-999.0000,-999.000,  -999.0,-999.000
   31WTTUNES_1,  P17C,    52,  1,     18,     18,2,19910619,2003, 17.0000,-135.0000, 5281,   1212.0,   3.6641,  34.5567,2,  34.5575,2,     41.3,2,  3.5735,     40.9,2,   120.45,2,    43.38,2,     0.00,2,     3.10,2, -999.000,9, -999.000,9, -999.000,9,-999.0000,9,  -999.00,9,   -999.0,9,  -999.00,9,   -999.0,9,   -999.0,9,  -999.0,-999.0000,-999.000,  -999.0,-999.000
   31WTTUNES_1,  P17C,    52,  1,     19,     19,2,19910619,2003, 17.0000,-135.0000, 5281,   1412.8,   3.1045,  34.5758,2,  34.5764,2,     57.4,2,  3.0028,     57.7,2,   132.17,2,    42.20,2,     0.00,2,     2.99,2, -999.000,9, -999.000,9, -999.000,9,-999.0000,9,  -999.00,9,   -999.0,9,  -999.00,9,   -999.0,9,   -999.0,9,  -999.0,-999.0000,-999.000,  -999.0,-999.000
   31WTTUNES_1,  P17C,    52,  1,     20,     20,2,19910619,2003, 17.0000,-135.0000, 5281,   1613.0,   2.7415,  34.5954,2,  34.5967,2,     68.9,2,  2.6272,     67.6,2,   140.40,2,    41.62,2,     0.00,2,     2.94,2, -999.000,9, -999.000,9, -999.000,9,-999.0000,9,  -999.00,9,   -999.0,9,  -999.00,9,   -999.0,9,   -999.0,9,  -999.0,-999.0000,-999.000,  -999.0,-999.000
   31WTTUNES_1,  P17C,    52,  1,     21,     21,2,19910619,2003, 17.0000,-135.0000, 5281,   1819.3,   2.3762,  34.6159,2,  34.6163,2,     80.5,2,  2.2495,     80.5,2,   147.89,2,    40.82,2,     0.00,2,     2.86,2, -999.000,9, -999.000,9, -999.000,9,-999.0000,9,  -999.00,9,   -999.0,9,  -999.00,9,   -999.0,9,   -999.0,9,  -999.0,-999.0000,-999.000,  -999.0,-999.000
   31WTTUNES_1,  P17C,    52,  1,     22,     22,2,19910619,2003, 17.0000,-135.0000, 5281,   2023.0,   2.1297,  34.6309,2,  34.6328,2,     91.8,2,  1.9893,     91.8,2,   152.43,2,    40.09,2,     0.00,2,     2.81,2, -999.000,9, -999.000,9, -999.000,9,-999.0000,9,  -999.00,9,   -999.0,9,  -999.00,9,   -999.0,9,   -999.0,9,  -999.0,-999.0000,-999.000,  -999.0,-999.000
   31WTTUNES_1,  P17C,    52,  1,     23,     23,2,19910619,2003, 17.0000,-135.0000, 5281,   2227.6,   1.9466,  34.6438,2,  34.6452,2,    101.0,2,  1.7915,    101.0,2,   155.69,2,    39.46,2,     0.00,2,     2.74,2, -999.000,9, -999.000,9, -999.000,9,-999.0000,9,  -999.00,9,   -999.0,9,  -999.00,9,   -999.0,9,   -999.0,9,  -999.0,-999.0000,-999.000,  -999.0,-999.000
   31WTTUNES_1,  P17C,    52,  1,     24,     24,2,19910619,2003, 17.0000,-135.0000, 5281,   2432.1,   1.8325,  34.6513,2,  34.6517,2,    107.7,2,  1.6614,    107.9,2,   157.66,2,    38.99,2,     0.01,2,     2.70,2, -999.000,9, -999.000,9, -999.000,9,-999.0000,9,  -999.00,9,   -999.0,9,  -999.00,9,   -999.0,9,   -999.0,9,  -999.0,-999.0000,-999.000,  -999.0,-999.000
   31WTTUNES_1,  P17C,    52,  1,     25,     25,2,19910619,2003, 17.0000,-135.0000, 5281,   2634.1,   1.7503,  34.6585,2,  34.6588,2,    113.4,2,  1.5625,    113.5,2,   159.26,2,    38.47,2,     0.01,2,     2.67,2, -999.000,9, -999.000,9, -999.000,9,-999.0000,9,  -999.00,9,   -999.0,9,  -999.00,9,   -999.0,9,   -999.0,9,  -999.0,-999.0000,-999.000,  -999.0,-999.000
   31WTTUNES_1,  P17C,    52,  1,     26,     26,2,19910619,2003, 17.0000,-135.0000, 5281,   2837.1,   1.6813,  34.6641,2,  34.6643,2,    118.5,2,  1.4760,    121.4,3,   160.68,2,    38.22,2,     0.00,2,     2.64,2, -999.000,9, -999.000,9, -999.000,9,-999.0000,9,  -999.00,9,   -999.0,9,  -999.00,9,   -999.0,9,   -999.0,9,  -999.0,-999.0000,-999.000,  -999.0,-999.000
   31WTTUNES_1,  P17C,    52,  1,     27,     27,2,19910619,2003, 17.0000,-135.0000, 5281,   3040.4,   1.6104,  34.6694,2,  34.6691,2,    123.9,2,  1.3873,    124.0,2,   161.91,2,    37.96,2,     0.01,2,     2.62,2, -999.000,9, -999.000,9, -999.000,9,-999.0000,9,  -999.00,9,   -999.0,9,  -999.00,9,   -999.0,9,   -999.0,9,  -999.0,-999.0000,-999.000,  -999.0,-999.000
   31WTTUNES_1,  P17C,    52,  1,     28,     28,2,19910619,2003, 17.0000,-135.0000, 5281,   3293.6,   1.5484,  34.6747,2,  34.6740,2,    131.0,2,  1.3019,    131.3,2,   161.50,2,    37.45,2,     0.00,2,     2.58,2, -999.000,9, -999.000,9, -999.000,9,-999.0000,9,  -999.00,9,   -999.0,9,  -999.00,9,   -999.0,9,   -999.0,9,  -999.0,-999.0000,-999.000,  -999.0,-999.000
   31WTTUNES_1,  P17C,    52,  1,     29,     29,2,19910619,2003, 17.0000,-135.0000, 5281,   3548.5,   1.5041,  34.6810,2,  34.6777,2,    137.9,2,  1.2329,    138.0,2,   160.16,2,    37.04,2,     0.00,2,     2.54,2, -999.000,9, -999.000,9, -999.000,9,-999.0000,9,  -999.00,9,   -999.0,9,  -999.00,9,   -999.0,9,   -999.0,9,  -999.0,-999.0000,-999.000,  -999.0,-999.000
   31WTTUNES_1,  P17C,    52,  1,     30,     30,2,19910619,2003, 17.0000,-135.0000, 5281,   3809.5,   1.4772,  34.6836,2,  34.6819,2,    144.5,2,  1.1794,    144.9,2,   157.18,2,    36.52,2,     0.00,2,     2.50,2, -999.000,9, -999.000,9, -999.000,9,-999.0000,9,  -999.00,9,   -999.0,9,  -999.00,9,   -999.0,9,   -999.0,9,  -999.0,-999.0000,-999.000,  -999.0,-999.000
   31WTTUNES_1,  P17C,    52,  1,     31,     31,2,19910619,2003, 17.0000,-135.0000, 5281,   4066.9,   1.4406,  34.6877,2,  34.6870,2,    153.8,2,  1.1161,    154.1,2,   151.45,2,    35.96,2,     0.00,2,     2.46,2, -999.000,9, -999.000,9, -999.000,9,-999.0000,9,  -999.00,9,   -999.0,9,  -999.00,9,   -999.0,9,   -999.0,9,  -999.0,-999.0000,-999.000,  -999.0,-999.000
   31WTTUNES_1,  P17C,    52,  1,     32,     32,2,19910619,2003, 17.0000,-135.0000, 5281,   4321.2,   1.4218,  34.6908,2,  34.6892,2,    160.9,2,  1.0695,    161.0,2,   146.82,2,    35.40,2,     0.00,2,     2.43,2, -999.000,9, -999.000,9, -999.000,9,-999.0000,9,  -999.00,9,   -999.0,9,  -999.00,9,   -999.0,9,   -999.0,9,  -999.0,-999.0000,-999.000,  -999.0,-999.000
   31WTTUNES_1,  P17C,    52,  1,     33,     33,2,19910619,2003, 17.0000,-135.0000, 5281,   4578.7,   1.4318,  34.6920,2,  34.6904,2,    164.6,2,  1.0499,    164.3,2,   144.95,2,    35.14,2,     0.00,2,     2.41,2, -999.000,9, -999.000,9, -999.000,9,-999.0000,9,  -999.00,9,   -999.0,9,  -999.00,9,   -999.0,9,   -999.0,9,  -999.0,-999.0000,-999.000,  -999.0,-999.000
   31WTTUNES_1,  P17C,    52,  1,     34,     34,2,19910619,2003, 17.0000,-135.0000, 5281,   4830.4,   1.4364,  34.6931,2,  34.6918,2,    168.0,2,  1.0247,    168.5,2,   142.34,2,    34.84,2,     0.00,2,     2.38,2,    0.000,2,    0.000,2, -999.000,9,-999.0000,9,  -999.00,9,   -999.0,9,  -999.00,9,   -999.0,9,   -999.0,9,  -999.0,-999.0000,-999.000,  -999.0,-999.000
   31WTTUNES_1,  P17C,    52,  1,     35,     35,2,19910619,2003, 17.0000,-135.0000, 5281,   5089.2,   1.4584,  34.6935,2,  34.6932,2,    169.3,2,  1.0147,    169.2,2,   141.01,2,    34.84,2,     0.00,2,     2.39,2,   -0.002,2,    0.000,2, -999.000,9,-999.0000,9,  -999.00,9,   -999.0,9,  -999.00,9,   -999.0,9,   -999.0,9,  -999.0,-999.0000,-999.000,  -999.0,-999.000
   31WTTUNES_1,  P17C,    52,  1,     36,     36,2,19910619,2003, 17.0000,-135.0000, 5281,   5391.8,   1.4905,  34.6954,2,  34.6930,2,   -999.0,9,  1.0080,    169.9,2,   140.60,2,    34.74,2,     0.00,2,     2.38,2,   -0.001,2,    0.000,2, -999.000,9,-999.0000,9,  -999.00,9,   -999.0,9,  -999.00,9,   -999.0,9,   -999.0,9,  -999.0,-999.0000,-999.000,  -999.0,-999.000