BOTTLE,20220819CCHSIOAMB
EXPOCODE,SECT_ID,STNNBR,CASTNO,SAMPNO,BTLNBR,BTLNBR_FLAG_W,DATE,TIME,LATITUDE,LONGITUDE,DEPTH,CTDPRS,CTDTMP,CTDSAL,CTDSAL_FLAG_W,SALNTY,SALNTY_FLAG_W,CTDOXY,CTDOXY_FLAG_W,THETA,OXYGEN,OXYGEN_FLAG_W,SILCAT,SILCAT_FLAG_W,NITRAT,NITRAT_FLAG_W,NITRIT,NITRIT_FLAG_W,PHSPHT,PHSPHT_FLAG_W,CFC-11,CFC-11_FLAG_W,CFC-12,CFC-12_FLAG_W,TRITUM,TRITUM_FLAG_W,HELIUM,HELIUM_FLAG_W,DELHE3,DELHE3_FLAG_W,DELC14,DELC14_FLAG_W,DELC13,DELC13_FLAG_W,TCARBN,TCARBN_FLAG_W,ALKALI,ALKALI_FLAG_W,C14ERR,HELIER,DELHER,C13ERR,TRITER
,,,,,,,,,,,,DBAR,ITS-90,PSS-78,,PSS-78,,UMOL/KG,,DEG C,UMOL/KG,,UMOL/KG,,UMOL/KG,,UMOL/KG,,UMOL/KG,,PMOL/KG,,PMOL/KG,,TU,,NMOL/KG,,PERCNT,,/MILLE,,/MILLE,,UMOL/KG,,UMOL/KG,,/MILLE,NMOL/KG,PERCNT,/MILLE,TU
   31WTTUNES_1,  P17C,    32,  1,      1,      1,2,19910613,1621, 27.0000,-134.9983, 4120,      1.2,  19.8293,  35.0725,2,  35.0756,2,    225.8,3, 19.8291,    230.8,2,     3.25,2,     0.06,2,     0.01,2,     0.10,2, -999.000,9, -999.000,9, -999.000,9,-999.0000,9,  -999.00,9,   -999.0,9,     0.68,4,   2013.3,2,   2327.4,2,  -999.0,-999.0000,-999.000,  -999.0,-999.000
   31WTTUNES_1,  P17C,    32,  1,      2,      2,2,19910613,1621, 27.0000,-134.9983, 4120,     74.4,  19.3379,  34.9766,2,  34.9718,2,    235.6,2, 19.3245,    233.5,2,     3.23,2,     0.06,2,     0.00,2,     0.10,2, -999.000,9, -999.000,9, -999.000,9,-999.0000,9,  -999.00,9,    112.6,2,     1.55,2,   2017.1,2,   2323.9,2,     3.6,-999.0000,-999.000,  -999.0,-999.000
   31WTTUNES_1,  P17C,    32,  1,      3,      3,2,19910613,1621, 27.0000,-134.9983, 4120,    115.2,  18.3078,  34.8278,2,  34.8174,2,    238.3,2, 18.2879,    232.9,2,     3.20,2,     0.04,2,     0.02,2,     0.11,2, -999.000,9, -999.000,9, -999.000,9,-999.0000,9,  -999.00,9,    121.3,2,     1.50,2,   2019.6,2,   2309.5,2,     5.0,-999.0000,-999.000,  -999.0,-999.000
   31WTTUNES_1,  P17C,    32,  1,      4,      4,2,19910613,1621, 27.0000,-134.9983, 4120,    151.0,  17.1544,  34.6746,2,  34.6480,2,    222.7,2, 17.1294,    222.2,2,     3.78,2,     1.45,2,     0.09,2,     0.23,2, -999.000,9, -999.000,9, -999.000,9,-999.0000,9,  -999.00,9,    127.9,2,     1.30,2,   -999.0,9,   2294.9,2,     5.3,-999.0000,-999.000,  -999.0,-999.000
   31WTTUNES_1,  P17C,    32,  1,      5,      5,2,19910613,1621, 27.0000,-134.9983, 4120,    175.6,  15.3447,  34.4193,2,  34.3687,2,    213.4,2, 15.3178,    212.5,2,     5.57,2,     4.23,2,     0.03,2,     0.43,2, -999.000,9, -999.000,9, -999.000,9,-999.0000,9,  -999.00,9,   -999.0,9,  -999.00,9,   2031.8,2,   -999.0,9,  -999.0,-999.0000,-999.000,  -999.0,-999.000
   31WTTUNES_1,  P17C,    32,  1,      6,      6,2,19910613,1621, 27.0000,-134.9983, 4120,    202.0,  12.9711,  34.0841,2,  34.0730,2,    215.2,2, 12.9436,    212.0,2,     8.35,2,     7.70,2,     0.02,2,     0.67,2, -999.000,9, -999.000,9, -999.000,9,-999.0000,9,  -999.00,9,     93.9,3,     0.88,2,   2045.9,2,   2259.3,2,     4.0,-999.0000,-999.000,  -999.0,-999.000
   31WTTUNES_1,  P17C,    32,  1,      7,      7,2,19910613,1621, 27.0000,-134.9983, 4120,    228.9,  11.2537,  34.0057,2,  34.0083,2,    206.6,2, 11.2254,    211.1,2,    11.53,2,    10.81,2,     0.01,2,     0.84,2, -999.000,9, -999.000,9, -999.000,9,-999.0000,9,  -999.00,9,    105.3,2,     0.75,2,   2065.2,2,   -999.0,9,     4.4,-999.0000,-999.000,  -999.0,-999.000
   31WTTUNES_1,  P17C,    32,  1,      8,      8,2,19910613,1621, 27.0000,-134.9983, 4120,    252.1,  10.5684,  34.0168,2,  34.0173,2,    207.9,2, 10.5383,    209.3,2,    14.31,2,    13.29,2,     0.01,2,     0.99,2, -999.000,9, -999.000,9, -999.000,9,-999.0000,9,  -999.00,9,     91.8,2,     0.67,2,   2078.0,2,   -999.0,9,     3.2,-999.0000,-999.000,  -999.0,-999.000
   31WTTUNES_1,  P17C,    32,  1,      9,      9,2,19910613,1621, 27.0000,-134.9983, 4120,    275.5,   9.7660,  34.0407,2,  34.0420,2,    202.6,2,  9.7347,    209.1,2,    17.89,2,    15.51,2,     0.01,2,     1.12,2, -999.000,9, -999.000,9, -999.000,9,-999.0000,9,  -999.00,9,   -999.0,9,  -999.00,9,   2092.3,2,   -999.0,9,  -999.0,-999.0000,-999.000,  -999.0,-999.000
   31WTTUNES_1,  P17C,    32,  1,     10,     10,2,19910613,1621, 27.0000,-134.9983, 4120,    312.7,   8.9622,  34.0409,2,  34.0434,2,    195.6,2,  8.9285,    193.2,2,    24.87,2,    18.93,2,     0.01,2,     1.34,2, -999.000,9, -999.000,9, -999.000,9,-999.0000,9,  -999.00,9,     51.4,2,     0.42,2,   2115.8,2,   2269.9,2,     3.4,-999.0000,-999.000,  -999.0,-999.000
   31WTTUNES_1,  P17C,    32,  1,     11,     11,2,19910613,1621, 27.0000,-134.9983, 4120,    348.4,   8.3773,  34.0302,2,  34.0330,2,    184.3,2,  8.3412,    180.7,2,    30.65,2,    21.41,2,     0.01,2,     1.51,2, -999.000,9, -999.000,9, -999.000,9,-999.0000,9,  -999.00,9,     40.7,2,     0.36,2,   2135.1,2,   -999.0,9,     3.1,-999.0000,-999.000,  -999.0,-999.000
   31WTTUNES_1,  P17C,    32,  1,     12,     12,2,19910613,1621, 27.0000,-134.9983, 4120,    378.1,   7.8561,  34.0206,2,  34.0236,2,    168.6,2,  7.8183,    152.0,2,    36.82,2,    25.04,2,     0.01,2,     1.80,2, -999.000,9, -999.000,9, -999.000,9,-999.0000,9,  -999.00,9,      4.4,2,     0.17,2,   2162.8,2,   -999.0,9,     2.5,-999.0000,-999.000,  -999.0,-999.000
   31WTTUNES_1,  P17C,    32,  1,     13,     13,2,19910613,1621, 27.0000,-134.9983, 4120,    404.7,   7.3722,  34.0222,2,  34.0247,2,    137.9,2,  7.3332,    131.3,2,    43.98,2,    27.89,2,     0.00,2,     2.01,2, -999.000,9, -999.000,9, -999.000,9,-999.0000,9,  -999.00,9,    -15.8,2,    -0.01,2,   2192.2,2,   2281.3,2,     3.1,-999.0000,-999.000,  -999.0,-999.000
   31WTTUNES_1,  P17C,    32,  1,     14,     14,2,19910613,1621, 27.0000,-134.9983, 4120,    470.5,   6.2144,  34.0420,2,  34.0471,2,     94.1,2,  6.1730,     82.1,2,    62.54,2,    34.36,2,     0.00,2,     2.48,2, -999.000,9, -999.000,9, -999.000,9,-999.0000,9,  -999.00,9,    -84.1,2,    -0.22,2,   2247.2,2,   -999.0,9,     3.1,-999.0000,-999.000,  -999.0,-999.000
   31WTTUNES_1,  P17C,    32,  1,     15,     15,2,19910613,1621, 27.0000,-134.9983, 4120,    640.7,   4.9460,  34.1954,2,  34.2007,2,     25.5,2,  4.8949,     23.7,2,    92.86,2,    41.24,2,     0.00,2,     3.03,2, -999.000,9, -999.000,9, -999.000,9,-999.0000,9,  -999.00,9,   -161.7,2,    -0.51,2,   2316.9,2,   2329.8,2,     2.6,-999.0000,-999.000,  -999.0,-999.000
   31WTTUNES_1,  P17C,    32,  1,     16,     16,2,19910613,1621, 27.0000,-134.9983, 4120,    704.1,   4.6796,  34.2537,2,  34.2580,2,     17.3,2,  4.6245,     18.3,2,    99.99,2,    42.09,2,     0.00,2,     3.07,2, -999.000,9, -999.000,9, -999.000,9,-999.0000,9,  -999.00,9,   -210.6,3,  -999.00,9,   2330.7,2,   -999.0,9,     4.8,-999.0000,-999.000,  -999.0,-999.000
   31WTTUNES_1,  P17C,    32,  1,     17,     17,2,19910613,1621, 27.0000,-134.9983, 4120,    752.3,   4.4649,  34.3169,2,  34.3217,2,     16.0,2,  4.4069,     16.0,2,   106.32,2,    42.58,2,     0.00,2,     3.11,2, -999.000,9, -999.000,9, -999.000,9,-999.0000,9,  -999.00,9,   -999.0,9,  -999.00,9,   2340.5,2,   -999.0,9,  -999.0,-999.0000,-999.000,  -999.0,-999.000
   31WTTUNES_1,  P17C,    32,  1,     18,     18,2,19910613,1621, 27.0000,-134.9983, 4120,    806.2,   4.3277,  34.3563,2,  34.3607,2,     17.8,2,  4.2660,     17.5,2,   109.46,2,    42.90,2,     0.00,2,     3.11,2, -999.000,9, -999.000,9, -999.000,9,-999.0000,9,  -999.00,9,   -999.0,9,  -999.00,9,   2345.6,2,   -999.0,9,  -999.0,-999.0000,-999.000,  -999.0,-999.000
   31WTTUNES_1,  P17C,    32,  1,     19,     19,2,19910613,1621, 27.0000,-134.9983, 4120,    919.2,   4.0207,  34.4307,2,  34.4341,2,     26.2,2,  3.9516,     27.0,2,   115.18,2,    42.79,2,     0.00,2,     3.09,2, -999.000,9, -999.000,9, -999.000,9,-999.0000,9,  -999.00,9,   -999.0,9,  -999.00,9,   2348.0,2,   -999.0,9,  -999.0,-999.0000,-999.000,  -999.0,-999.000
   31WTTUNES_1,  P17C,    32,  1,     20,     20,2,19910613,1621, 27.0000,-134.9983, 4120,   1018.1,   3.8080,  34.4767,2,  34.4785,2,     35.2,2,  3.7324,     36.8,2,   118.50,2,    42.47,2,     0.00,2,     3.05,2, -999.000,9, -999.000,9, -999.000,9,-999.0000,9,  -999.00,9,   -999.0,9,  -999.00,9,   2348.4,2,   2384.6,2,  -999.0,-999.0000,-999.000,  -999.0,-999.000
   31WTTUNES_1,  P17C,    32,  1,     21,     21,2,19910613,1621, 27.0000,-134.9983, 4120,   1210.3,   3.4387,  34.5216,2,  34.5234,2,     44.3,2,  3.3504,     44.7,2,   125.42,2,    42.36,2,     0.00,2,     3.03,2, -999.000,9, -999.000,9, -999.000,9,-999.0000,9,  -999.00,9,   -999.0,9,  -999.00,9,   2354.1,2,   -999.0,9,  -999.0,-999.0000,-999.000,  -999.0,-999.000
   31WTTUNES_1,  P17C,    32,  1,     22,     22,2,19910613,1621, 27.0000,-134.9983, 4120,   1420.2,   2.9928,  34.5508,2,  34.5521,2,     52.8,2,  2.8917,     52.8,2,   136.91,2,    41.98,2,     0.00,2,     3.00,2, -999.000,9, -999.000,9, -999.000,9,-999.0000,9,  -999.00,9,   -999.0,9,  -999.00,9,   2360.2,2,   -999.0,9,  -999.0,-999.0000,-999.000,  -999.0,-999.000
   31WTTUNES_1,  P17C,    32,  1,     23,     23,2,19910613,1621, 27.0000,-134.9983, 4120,   1620.0,   2.6370,  34.5745,2,  34.5770,2,     61.6,2,  2.5236,     61.2,2,   145.61,2,    41.44,2,     0.00,2,     2.96,2, -999.000,9, -999.000,9, -999.000,9,-999.0000,9,  -999.00,9,   -999.0,9,  -999.00,9,   2364.6,2,   -999.0,9,  -999.0,-999.0000,-999.000,  -999.0,-999.000
   31WTTUNES_1,  P17C,    32,  1,     24,     24,2,19910613,1621, 27.0000,-134.9983, 4120,   1821.7,   2.3009,  34.5966,2,  34.5994,2,     72.1,2,  2.1750,     71.1,2,   154.70,2,    41.07,2,     0.00,2,     2.89,2, -999.000,9, -999.000,9, -999.000,9,-999.0000,9,  -999.00,9,   -999.0,9,  -999.00,9,   2366.7,2,   -999.0,9,  -999.0,-999.0000,-999.000,  -999.0,-999.000
   31WTTUNES_1,  P17C,    32,  1,     25,     25,2,19910613,1621, 27.0000,-134.9983, 4120,   2020.3,   2.0703,  34.6151,2,  34.6171,2,     81.2,2,  1.9311,     80.2,2,   160.59,2,    40.38,2,     0.00,2,     2.85,2, -999.000,9, -999.000,9, -999.000,9,-999.0000,9,  -999.00,9,   -999.0,9,  -999.00,9,   2365.9,2,   -999.0,9,  -999.0,-999.0000,-999.000,  -999.0,-999.000
   31WTTUNES_1,  P17C,    32,  1,     26,     26,2,19910613,1621, 27.0000,-134.9983, 4120,   2222.0,   1.8751,  34.6304,2,  34.6328,2,     92.0,2,  1.7218,     92.4,2,   164.30,2,    39.69,2,     0.00,2,     2.78,2, -999.000,9, -999.000,9, -999.000,9,-999.0000,9,  -999.00,9,   -999.0,9,  -999.00,9,   2364.0,2,   2433.9,2,  -999.0,-999.0000,-999.000,  -999.0,-999.000
   31WTTUNES_1,  P17C,    32,  1,     27,     27,2,19910613,1621, 27.0000,-134.9983, 4120,   2421.1,   1.7397,  34.6443,2,  34.6438,2,     99.8,2,  1.5714,     99.8,2,   167.41,2,    39.16,2,     0.00,2,     2.73,2, -999.000,9, -999.000,9, -999.000,9,-999.0000,9,  -999.00,9,   -999.0,9,  -999.00,9,   2359.2,2,   -999.0,9,  -999.0,-999.0000,-999.000,  -999.0,-999.000
   31WTTUNES_1,  P17C,    32,  1,     28,     28,2,19910613,1621, 27.0000,-134.9983, 4120,   2638.1,   1.6427,  34.6537,2,  34.6530,2,    109.1,2,  1.4567,    108.9,2,   168.52,2,    38.32,2,     0.00,2,     2.68,2, -999.000,9, -999.000,9, -999.000,9,-999.0000,9,  -999.00,9,   -999.0,9,  -999.00,9,   2357.6,2,   -999.0,9,  -999.0,-999.0000,-999.000,  -999.0,-999.000
   31WTTUNES_1,  P17C,    32,  1,     29,     29,2,19910613,1621, 27.0000,-134.9983, 4120,   2839.0,   1.5739,  34.6636,2,  34.6615,2,    118.0,2,  1.3707,    117.2,2,   167.25,2,    38.06,2,     0.00,2,     2.63,2, -999.000,9, -999.000,9, -999.000,9,-999.0000,9,  -999.00,9,   -999.0,9,  -999.00,9,   2351.6,2,   -999.0,9,  -999.0,-999.0000,-999.000,  -999.0,-999.000
   31WTTUNES_1,  P17C,    32,  1,     30,     30,2,19910613,1621, 27.0000,-134.9983, 4120,   3037.6,   1.5224,  34.6676,2,  34.6675,2,    124.7,2,  1.3015,    125.4,2,   165.38,2,    37.43,2,     0.00,2,     2.59,2, -999.000,9, -999.000,9, -999.000,9,-999.0000,9,  -999.00,9,   -999.0,9,  -999.00,9,   2346.7,2,   -999.0,9,  -999.0,-999.0000,-999.000,  -999.0,-999.000
   31WTTUNES_1,  P17C,    32,  1,     31,     31,2,19910613,1621, 27.0000,-134.9983, 4120,   3242.8,   1.4987,  34.6725,2,  34.6724,2,    131.1,2,  1.2584,    130.6,2,   163.72,2,    36.96,2,     0.00,2,     2.56,2, -999.000,9, -999.000,9, -999.000,9,-999.0000,9,  -999.00,9,   -999.0,9,  -999.00,9,   2345.9,2,   -999.0,9,  -999.0,-999.0000,-999.000,  -999.0,-999.000
   31WTTUNES_1,  P17C,    32,  1,     32,     32,2,19910613,1621, 27.0000,-134.9983, 4120,   3451.1,   1.4825,  34.6760,2,  34.6754,2,    135.3,2,  1.2218,    136.0,2,   162.85,2,    36.81,2,     0.00,2,     2.53,2, -999.000,9, -999.000,9, -999.000,9,-999.0000,9,  -999.00,9,   -999.0,9,  -999.00,9,   2339.4,2,   -999.0,9,  -999.0,-999.0000,-999.000,  -999.0,-999.000
   31WTTUNES_1,  P17C,    32,  1,     33,     33,2,19910613,1621, 27.0000,-134.9983, 4120,   3651.9,   1.4875,  34.6774,2,  34.6771,2,    138.3,2,  1.2061,    137.7,2,   161.58,2,    36.70,2,     0.00,2,     2.52,2, -999.000,9, -999.000,9, -999.000,9,-999.0000,9,  -999.00,9,   -999.0,9,  -999.00,9,   2338.9,2,   2437.4,2,  -999.0,-999.0000,-999.000,  -999.0,-999.000
   31WTTUNES_1,  P17C,    32,  1,     34,     34,2,19910613,1621, 27.0000,-134.9983, 4120,   3849.5,   1.4958,  34.6802,2,  34.6803,2,    139.6,2,  1.1933,    140.1,2,   161.31,2,    36.60,2,     0.00,2,     2.51,2, -999.000,9, -999.000,9, -999.000,9,-999.0000,9,  -999.00,9,   -999.0,9,  -999.00,9,   2337.6,2,   -999.0,9,  -999.0,-999.0000,-999.000,  -999.0,-999.000
   31WTTUNES_1,  P17C,    32,  1,     35,     35,2,19910613,1621, 27.0000,-134.9983, 4120,   4064.2,   1.5086,  34.6820,2,  34.6805,2,    142.1,2,  1.1825,    142.7,2,   160.84,2,    36.49,2,     0.00,2,     2.50,2, -999.000,9, -999.000,9, -999.000,9,-999.0000,9,  -999.00,9,   -999.0,9,  -999.00,9,   2336.5,2,   -999.0,9,  -999.0,-999.0000,-999.000,  -999.0,-999.000
   31WTTUNES_1,  P17C,    32,  1,     36,     36,2,19910613,1621, 27.0000,-134.9983, 4120,   4187.2,   1.5133,  34.6820,2,  34.6818,2,   -999.0,9,  1.1734,    143.4,2,   159.77,2,    36.39,2,     0.00,2,     2.49,2, -999.000,9, -999.000,9, -999.000,9,-999.0000,9,  -999.00,9,   -999.0,9,  -999.00,9,   2334.2,2,   2435.5,2,  -999.0,-999.0000,-999.000,  -999.0,-999.000