BOTTLE,20220819CCHSIOAMB
EXPOCODE,SECT_ID,STNNBR,CASTNO,SAMPNO,BTLNBR,BTLNBR_FLAG_W,DATE,TIME,LATITUDE,LONGITUDE,DEPTH,CTDPRS,CTDTMP,CTDSAL,CTDSAL_FLAG_W,SALNTY,SALNTY_FLAG_W,CTDOXY,CTDOXY_FLAG_W,THETA,OXYGEN,OXYGEN_FLAG_W,SILCAT,SILCAT_FLAG_W,NITRAT,NITRAT_FLAG_W,NITRIT,NITRIT_FLAG_W,PHSPHT,PHSPHT_FLAG_W,CFC-11,CFC-11_FLAG_W,CFC-12,CFC-12_FLAG_W,TRITUM,TRITUM_FLAG_W,HELIUM,HELIUM_FLAG_W,DELHE3,DELHE3_FLAG_W,DELC14,DELC14_FLAG_W,DELC13,DELC13_FLAG_W,TCARBN,TCARBN_FLAG_W,ALKALI,ALKALI_FLAG_W,C14ERR,HELIER,DELHER,C13ERR,TRITER
,,,,,,,,,,,,DBAR,ITS-90,PSS-78,,PSS-78,,UMOL/KG,,DEG C,UMOL/KG,,UMOL/KG,,UMOL/KG,,UMOL/KG,,UMOL/KG,,PMOL/KG,,PMOL/KG,,TU,,NMOL/KG,,PERCNT,,/MILLE,,/MILLE,,UMOL/KG,,UMOL/KG,,/MILLE,NMOL/KG,PERCNT,/MILLE,TU
   31WTTUNES_1,  P17C,     5,  1,      1,      1,2,19910603,0410, 35.5483,-122.8633, 3262,      1.3,  13.4187,  32.8390,2,  32.8431,2,    266.2,3, 13.4186,    272.3,2,     2.13,2,     0.20,2,     0.00,2,     0.41,2, -999.000,9, -999.000,9, -999.000,9,-999.0000,9,  -999.00,9,   -999.0,9,  -999.00,9,   -999.0,9,   -999.0,9,  -999.0,-999.0000,-999.000,  -999.0,-999.000
   31WTTUNES_1,  P17C,     5,  1,      2,      2,2,19910603,0410, 35.5483,-122.8633, 3262,     39.6,  11.2223,  33.1036,2,  33.1203,2,    268.6,2, 11.2175,    276.0,2,     7.17,2,     7.61,2,     0.12,2,     0.87,2, -999.000,9, -999.000,9, -999.000,9,-999.0000,9,  -999.00,9,     68.6,2,     1.32,2,   -999.0,9,   -999.0,9,     3.0,-999.0000,-999.000,  -999.0,-999.000
   31WTTUNES_1,  P17C,     5,  1,      3,      3,2,19910603,0410, 35.5483,-122.8633, 3262,     65.6,  11.1029,  33.2183,2,  33.2231,2,    264.4,2, 11.0950,    269.3,2,     8.72,2,     8.73,2,     0.13,2,     0.94,2, -999.000,9, -999.000,9,   -0.001,2,   1.8140,2,    -0.81,2,     49.2,2,     1.15,2,   -999.0,9,   -999.0,9,     2.9,  0.0090,   0.150,  -999.0,   0.004
   31WTTUNES_1,  P17C,     5,  1,      4,      4,2,19910603,0410, 35.5483,-122.8633, 3262,     91.8,   9.0392,  33.2475,2,  33.2480,2,    202.4,2,  9.0295,    202.3,2,    16.67,2,    17.17,2,     0.02,2,     1.43,2, -999.000,9, -999.000,9, -999.000,9,-999.0000,9,  -999.00,9,   -999.0,9,  -999.00,9,   -999.0,9,   -999.0,9,  -999.0,-999.0000,-999.000,  -999.0,-999.000
   31WTTUNES_1,  P17C,     5,  1,      5,      5,2,19910603,0410, 35.5483,-122.8633, 3262,    112.4,   8.6951,  33.4092,2,  33.4146,2,    182.5,2,  8.6835,    183.6,2,    20.55,2,    20.19,2,     0.03,2,     1.58,2, -999.000,9, -999.000,9, -999.000,5,   1.8210,2,     3.85,2,     50.2,2,     0.48,2,   -999.0,9,   -999.0,9,     2.9,  0.0090,   0.150,  -999.0,-999.000
   31WTTUNES_1,  P17C,     5,  1,      6,      6,2,19910603,0410, 35.5483,-122.8633, 3262,    142.9,   8.4416,  33.6771,2,  33.7090,2,    141.2,2,  8.4270,    143.6,2,    28.87,2,    25.20,2,     0.03,2,     1.86,2, -999.000,9, -999.000,9, -999.000,9,-999.0000,9,  -999.00,9,   -999.0,9,  -999.00,9,   -999.0,9,   -999.0,9,  -999.0,-999.0000,-999.000,  -999.0,-999.000
   31WTTUNES_1,  P17C,     5,  1,      7,      7,2,19910603,0410, 35.5483,-122.8633, 3262,    167.4,   8.0974,  33.8668,2,  33.8841,2,    138.0,2,  8.0807,    136.1,2,    32.36,2,    26.25,2,     0.02,2,     1.91,2, -999.000,9, -999.000,9,    2.124,2,   1.8270,2,     9.55,2,     19.7,2,    -0.16,2,   -999.0,9,   -999.0,9,     4.7,  0.0090,   0.150,  -999.0,   0.014
   31WTTUNES_1,  P17C,     5,  1,      8,      8,2,19910603,0410, 35.5483,-122.8633, 3262,    189.3,   7.9858,  33.9900,2,  33.9896,2,    121.9,2,  7.9670,    112.1,2,    38.16,2,    28.70,2,     0.01,2,     2.09,2, -999.000,9, -999.000,9, -999.000,9,-999.0000,9,  -999.00,9,   -999.0,9,  -999.00,9,   -999.0,9,   -999.0,9,  -999.0,-999.0000,-999.000,  -999.0,-999.000
   31WTTUNES_1,  P17C,     5,  1,      9,      9,2,19910603,0410, 35.5483,-122.8633, 3262,    209.9,   7.7334,  33.9989,2,  33.9789,2,    111.6,2,  7.7129,    111.1,2,    40.10,2,    28.98,2,     0.01,2,     2.09,2, -999.000,9, -999.000,9,    2.033,2,   1.8300,2,    12.96,2,   -999.0,9,    -0.20,2,   -999.0,9,   -999.0,9,  -999.0,  0.0090,   0.150,  -999.0,   0.014
   31WTTUNES_1,  P17C,     5,  1,     10,     10,2,19910603,0410, 35.5483,-122.8633, 3262,    261.0,   7.2692,  34.0423,2,  34.0298,2,     89.6,2,  7.2445,     95.7,2,    47.46,2,    31.74,2,     0.00,2,     2.30,2, -999.000,9, -999.000,9,    1.797,2,   1.8490,2,    15.27,2,    -33.9,2,    -0.13,3,   -999.0,9,   -999.0,9,     2.6,  0.0090,   0.150,  -999.0,   0.013
   31WTTUNES_1,  P17C,     5,  1,     11,     11,2,19910603,0410, 35.5483,-122.8633, 3262,    301.6,   6.7093,  34.0421,2,  34.0337,2,     84.3,2,  6.6819,     79.6,2,    55.40,2,    33.84,2,     0.00,2,     2.44,2, -999.000,9, -999.000,9,    1.606,2,   1.8360,2,    16.30,2,   -999.0,9,    -0.31,2,   -999.0,9,   -999.0,9,  -999.0,  0.0090,   0.150,  -999.0,   0.013
   31WTTUNES_1,  P17C,     5,  1,     12,     12,2,19910603,0410, 35.5483,-122.8633, 3262,    353.6,   6.1268,  34.0357,2,  34.0293,2,     69.1,2,  6.0962,     67.6,2,    63.14,2,    36.36,2,     0.00,2,     2.59,2, -999.000,9, -999.000,9, -999.000,9,-999.0000,9,  -999.00,9,   -999.0,9,    -0.40,2,   -999.0,9,   -999.0,9,  -999.0,-999.0000,-999.000,  -999.0,-999.000
   31WTTUNES_1,  P17C,     5,  1,     13,     13,2,19910603,0410, 35.5483,-122.8633, 3262,    404.1,   5.8161,  34.0759,2,  34.0757,2,     49.8,2,  5.7819,     51.3,2,    70.11,2,    37.96,2,     0.00,2,     2.75,2, -999.000,9, -999.000,9,    1.039,2,   1.8480,2,    16.84,2,    -96.4,2,    -0.28,3,   -999.0,9,   -999.0,9,     2.4,  0.0090,   0.150,  -999.0,   0.009
   31WTTUNES_1,  P17C,     5,  1,     14,     14,2,19910603,0410, 35.5483,-122.8633, 3262,    455.7,   5.5195,  34.0978,2,  34.0992,2,     41.2,2,  5.4818,     42.0,2,    76.69,2,    39.49,2,     0.00,2,     2.84,2, -999.000,9, -999.000,9, -999.000,9,-999.0000,9,  -999.00,9,   -125.4,2,    -0.50,2,   -999.0,9,   -999.0,9,     4.6,-999.0000,-999.000,  -999.0,-999.000
   31WTTUNES_1,  P17C,     5,  1,     15,     15,2,19910603,0410, 35.5483,-122.8633, 3262,    506.9,   5.6050,  34.2175,2,  34.2142,2,     24.4,2,  5.5624,     23.4,2,    82.68,2,    40.41,2,     0.00,2,     2.99,2, -999.000,9, -999.000,9, -999.000,9,-999.0000,9,  -999.00,9,   -134.5,2,    -0.68,3,   -999.0,9,   -999.0,9,     8.3,-999.0000,-999.000,  -999.0,-999.000
   31WTTUNES_1,  P17C,     5,  1,     16,     16,2,19910603,0410, 35.5483,-122.8633, 3262,    558.5,   5.3399,  34.2371,2,  34.2369,2,     18.7,2,  5.2939,     20.1,2,    87.32,2,    40.97,2,     0.00,2,     3.05,2, -999.000,9, -999.000,9, -999.000,9,-999.0000,9,  -999.00,9,   -999.0,9,  -999.00,9,   -999.0,9,   -999.0,9,  -999.0,-999.0000,-999.000,  -999.0,-999.000
   31WTTUNES_1,  P17C,     5,  1,     17,     17,2,19910603,0410, 35.5483,-122.8633, 3262,    604.7,   5.1508,  34.2783,2,  34.2796,2,     15.1,2,  5.1017,     16.0,2,    92.73,2,    41.54,2,     0.00,2,     3.10,2, -999.000,9, -999.000,9,    0.086,2,   1.8750,2,    12.38,2,   -161.9,2,    -0.61,2,   -999.0,9,   -999.0,9,     4.9,  0.0090,   0.150,  -999.0,   0.003
   31WTTUNES_1,  P17C,     5,  1,     18,     18,2,19910603,0410, 35.5483,-122.8633, 3262,    655.2,   4.9382,  34.3087,2,  34.3837,3,     13.6,2,  4.8858,     15.0,2,    96.99,2,    42.12,2,     0.00,2,     3.14,2, -999.000,9, -999.000,9, -999.000,9,-999.0000,9,  -999.00,9,   -999.0,9,  -999.00,9,   -999.0,9,   -999.0,9,  -999.0,-999.0000,-999.000,  -999.0,-999.000
   31WTTUNES_1,  P17C,     5,  1,     19,     19,2,19910603,0410, 35.5483,-122.8633, 3262,    705.3,   4.6887,  34.3345,2,  34.3342,2,     13.2,2,  4.6333,     15.9,2,   103.37,2,    42.75,2,     0.00,2,     3.15,2, -999.000,9, -999.000,9, -999.000,9,-999.0000,9,  -999.00,9,   -180.0,2,    -0.64,2,   -999.0,9,   -999.0,9,     2.2,-999.0000,-999.000,  -999.0,-999.000
   31WTTUNES_1,  P17C,     5,  1,     20,     20,2,19910603,0410, 35.5483,-122.8633, 3262,    805.3,   4.4130,  34.3895,2,  34.3868,2,     14.2,2,  4.3509,     16.2,2,   109.75,2,    43.12,2,     0.00,2,     3.17,2, -999.000,9, -999.000,9, -999.000,9,-999.0000,9,  -999.00,9,   -202.9,2,    -0.59,2,   -999.0,9,   -999.0,9,     3.8,-999.0000,-999.000,  -999.0,-999.000
   31WTTUNES_1,  P17C,     5,  1,     21,     21,2,19910603,0410, 35.5483,-122.8633, 3262,    909.4,   4.1518,  34.4167,2,  34.4142,2,     17.0,2,  4.0827,     15.4,3,   115.74,2,    43.44,2,     0.00,2,     3.17,2, -999.000,9, -999.000,9, -999.000,9,-999.0000,9,  -999.00,9,   -196.0,2,    -0.59,2,   -999.0,9,   -999.0,9,     2.2,-999.0000,-999.000,  -999.0,-999.000
   31WTTUNES_1,  P17C,     5,  1,     22,     22,2,19910603,0410, 35.5483,-122.8633, 3262,   1105.3,   3.5523,  34.4714,2,  34.4693,2,     25.2,2,  3.4716,     22.9,2,   129.08,2,    43.86,2,     0.00,2,     3.14,2, -999.000,9, -999.000,9, -999.000,9,-999.0000,9,  -999.00,9,   -999.0,9,  -999.00,9,   -999.0,9,   -999.0,9,  -999.0,-999.0000,-999.000,  -999.0,-999.000
   31WTTUNES_1,  P17C,     5,  1,     23,     23,2,19910603,0410, 35.5483,-122.8633, 3262,   1109.0,   3.5454,  34.4715,2,  34.4708,2,     25.4,2,  3.4645,     22.9,2,   129.46,2,    43.91,2,     0.00,2,     3.14,2, -999.000,9, -999.000,9, -999.000,9,-999.0000,9,  -999.00,9,   -213.5,2,    -0.64,2,   -999.0,9,   -999.0,9,     2.1,-999.0000,-999.000,  -999.0,-999.000
   31WTTUNES_1,  P17C,     5,  1,     24,     24,2,19910603,0410, 35.5483,-122.8633, 3262,   1210.9,   3.2700,  34.4869,2,  34.4867,2,     27.9,2,  3.1833,     26.5,2,   137.00,2,    44.07,2,     0.00,2,     3.12,2, -999.000,9, -999.000,9, -999.000,9,-999.0000,9,  -999.00,9,   -999.0,9,  -999.00,9,   -999.0,9,   -999.0,9,  -999.0,-999.0000,-999.000,  -999.0,-999.000
   31WTTUNES_1,  P17C,     5,  1,     25,     25,2,19910603,0410, 35.5483,-122.8633, 3262,   1412.1,   2.9111,  34.5354,2,  34.5310,2,     41.4,2,  2.8116,     43.6,2,   144.73,2,    43.06,2,     0.00,2,     3.06,2, -999.000,9, -999.000,9, -999.000,9,-999.0000,9,  -999.00,9,   -999.0,9,  -999.00,9,   -999.0,9,   -999.0,9,  -999.0,-999.0000,-999.000,  -999.0,-999.000
   31WTTUNES_1,  P17C,     5,  1,     26,     26,2,19910603,0410, 35.5483,-122.8633, 3262,   1613.3,   2.5714,  34.5593,2,  34.5578,2,     50.0,2,  2.4593,     49.4,2,   154.20,2,    42.52,2,     0.00,2,     3.01,2, -999.000,9, -999.000,9, -999.000,9,-999.0000,9,  -999.00,9,   -999.0,9,  -999.00,9,   -999.0,9,   -999.0,9,  -999.0,-999.0000,-999.000,  -999.0,-999.000
   31WTTUNES_1,  P17C,     5,  1,     27,     27,2,19910603,0410, 35.5483,-122.8633, 3262,   1813.4,   2.2834,  34.5831,2,  34.5829,2,     61.3,2,  2.1585,     62.6,2,   162.12,2,    42.00,2,     0.00,2,     2.96,2, -999.000,9, -999.000,9, -999.000,9,-999.0000,9,  -999.00,9,   -999.0,9,  -999.00,9,   -999.0,9,   -999.0,9,  -999.0,-999.0000,-999.000,  -999.0,-999.000
   31WTTUNES_1,  P17C,     5,  1,     28,     28,2,19910603,0410, 35.5483,-122.8633, 3262,   2019.2,   1.9865,  34.6160,2,  34.6139,2,     78.1,2,  1.8487,     85.8,3,   166.75,2,    40.85,2,     0.00,2,     2.85,2, -999.000,9, -999.000,9, -999.000,9,-999.0000,9,  -999.00,9,   -999.0,9,  -999.00,9,   -999.0,9,   -999.0,9,  -999.0,-999.0000,-999.000,  -999.0,-999.000
   31WTTUNES_1,  P17C,     5,  1,     29,     29,2,19910603,0410, 35.5483,-122.8633, 3262,   2219.0,   1.8625,  34.6309,2,  34.6335,2,     91.3,2,  1.7096,     93.8,2,   167.32,2,    40.02,2,     0.00,2,     2.79,2, -999.000,9, -999.000,9, -999.000,9,-999.0000,9,  -999.00,9,   -999.0,9,  -999.00,9,   -999.0,9,   -999.0,9,  -999.0,-999.0000,-999.000,  -999.0,-999.000
   31WTTUNES_1,  P17C,     5,  1,     30,     30,2,19910603,0410, 35.5483,-122.8633, 3262,   2427.5,   1.7749,  34.6423,2,  34.6437,2,    101.7,2,  1.6053,    103.9,2,   167.51,2,    39.50,2,     0.00,2,     2.74,2, -999.000,9, -999.000,9, -999.000,9,-999.0000,9,  -999.00,9,   -999.0,9,  -999.00,9,   -999.0,9,   -999.0,9,  -999.0,-999.0000,-999.000,  -999.0,-999.000
   31WTTUNES_1,  P17C,     5,  1,     31,     31,2,19910603,0410, 35.5483,-122.8633, 3262,   2631.1,   1.6986,  34.6512,2,  34.6532,2,    109.2,2,  1.5121,    110.4,2,   167.50,2,    38.89,2,     0.00,2,     2.70,2, -999.000,9, -999.000,9, -999.000,9,-999.0000,9,  -999.00,9,   -999.0,9,  -999.00,9,   -999.0,9,   -999.0,9,  -999.0,-999.0000,-999.000,  -999.0,-999.000
   31WTTUNES_1,  P17C,     5,  1,     32,     32,2,19910603,0410, 35.5483,-122.8633, 3262,   2837.0,   1.6476,  34.6568,2,  34.6565,2,    115.8,2,  1.4431,    116.0,2,   168.26,2,    38.84,2,     0.00,2,     2.67,2, -999.000,9, -999.000,9, -999.000,9,-999.0000,9,  -999.00,9,   -999.0,9,  -999.00,9,   -999.0,9,   -999.0,9,  -999.0,-999.0000,-999.000,  -999.0,-999.000
   31WTTUNES_1,  P17C,     5,  1,     33,     33,2,19910603,0410, 35.5483,-122.8633, 3262,   3042.4,   1.6110,  34.6605,2,  34.6598,2,    121.2,2,  1.3878,    121.0,2,   168.25,2,    38.33,2,     0.00,2,     2.65,2, -999.000,9, -999.000,9, -999.000,9,-999.0000,9,  -999.00,9,   -999.0,9,  -999.00,9,   -999.0,9,   -999.0,9,  -999.0,-999.0000,-999.000,  -999.0,-999.000
   31WTTUNES_1,  P17C,     5,  1,     34,     34,2,19910603,0410, 35.5483,-122.8633, 3262,   3251.3,   1.5862,  34.6632,2,  34.6662,2,    125.1,2,  1.3431,    125.5,2,   169.40,2,    37.92,2,     0.00,2,     2.62,2, -999.000,9, -999.000,9, -999.000,9,-999.0000,9,  -999.00,9,   -999.0,9,  -999.00,9,   -999.0,9,   -999.0,9,  -999.0,-999.0000,-999.000,  -999.0,-999.000
   31WTTUNES_1,  P17C,     5,  1,     35,     35,2,19910603,0410, 35.5483,-122.8633, 3262,   3356.3,   1.5900,  34.6633,2,  34.6680,2,    125.6,2,  1.3363,    121.7,3,   169.40,2,    37.97,2,     0.00,2,     2.62,2, -999.000,9, -999.000,9, -999.000,9,-999.0000,9,  -999.00,9,   -999.0,9,  -999.00,9,   -999.0,9,   -999.0,9,  -999.0,-999.0000,-999.000,  -999.0,-999.000
   31WTTUNES_1,  P17C,     5,  1,     36,     36,2,19910603,0410, 35.5483,-122.8633, 3262,   3445.5,   1.5799,  34.6654,2,  34.6681,2,   -999.0,9,  1.3175,    123.4,3,   170.55,2,    37.97,2,     0.00,2,     2.62,2, -999.000,9, -999.000,9, -999.000,9,-999.0000,9,  -999.00,9,   -999.0,9,  -999.00,9,   -999.0,9,   -999.0,9,  -999.0,-999.0000,-999.000,  -999.0,-999.000