BOTTLE,20220819CCHSIOAMB
EXPOCODE,SECT_ID,STNNBR,CASTNO,SAMPNO,BTLNBR,BTLNBR_FLAG_W,DATE,TIME,LATITUDE,LONGITUDE,DEPTH,CTDPRS,CTDTMP,CTDSAL,CTDSAL_FLAG_W,SALNTY,SALNTY_FLAG_W,CTDOXY,CTDOXY_FLAG_W,THETA,OXYGEN,OXYGEN_FLAG_W,SILCAT,SILCAT_FLAG_W,NITRAT,NITRAT_FLAG_W,NITRIT,NITRIT_FLAG_W,PHSPHT,PHSPHT_FLAG_W,CFC-11,CFC-11_FLAG_W,CFC-12,CFC-12_FLAG_W,TRITUM,TRITUM_FLAG_W,HELIUM,HELIUM_FLAG_W,DELHE3,DELHE3_FLAG_W,DELC14,DELC14_FLAG_W,DELC13,DELC13_FLAG_W,TCARBN,TCARBN_FLAG_W,ALKALI,ALKALI_FLAG_W,C14ERR,HELIER,DELHER,C13ERR,TRITER
,,,,,,,,,,,,DBAR,ITS-90,PSS-78,,PSS-78,,UMOL/KG,,DEG C,UMOL/KG,,UMOL/KG,,UMOL/KG,,UMOL/KG,,UMOL/KG,,PMOL/KG,,PMOL/KG,,TU,,NMOL/KG,,PERCNT,,/MILLE,,/MILLE,,UMOL/KG,,UMOL/KG,,/MILLE,NMOL/KG,PERCNT,/MILLE,TU
   31WTTUNES_1,  P17C,    50,  1,      1,      1,2,19910619,0715, 18.0000,-135.0050, 5166,      0.2,  24.4290,  34.4964,2,  34.5005,2,    215.9,3, 24.4289,    212.0,2,     3.72,2,     0.06,2,     0.00,2,     0.19,4,    1.849,2,    1.041,2, -999.000,9,-999.0000,9,  -999.00,9,     68.8,2,     1.56,2,   1947.8,2,   2282.9,2,     5.3,-999.0000,-999.000,  -999.0,-999.000
   31WTTUNES_1,  P17C,    50,  1,      2,      2,2,19910619,0715, 18.0000,-135.0050, 5166,     26.0,  24.4184,  34.4968,2,  34.4988,2,    210.2,2, 24.4129,    211.3,2,     3.54,2,     0.05,2,     0.00,2,     0.18,4,    1.847,2,    1.033,2, -999.000,9,-999.0000,9,  -999.00,9,     90.1,2,     1.79,2,   1946.6,2,   -999.0,9,     3.3,-999.0000,-999.000,  -999.0,-999.000
   31WTTUNES_1,  P17C,    50,  1,      3,      3,2,19910619,0715, 18.0000,-135.0050, 5166,    114.2,  20.4425,  34.8143,2,  34.8336,2,    218.8,2, 20.4211,    221.2,2,     3.73,2,     0.05,2,     0.00,2,     0.17,4,    2.209,2,    1.210,2, -999.000,9,-999.0000,9,  -999.00,9,    101.8,2,     1.22,2,   2010.8,2,   -999.0,9,     4.7,-999.0000,-999.000,  -999.0,-999.000
   31WTTUNES_1,  P17C,    50,  1,      4,      4,2,19910619,0715, 18.0000,-135.0050, 5166,    154.1,  16.8366,  34.5845,2,  34.5283,2,    193.2,2, 16.8114,    186.0,2,     6.66,2,     5.34,2,     0.02,2,     0.50,4,    2.266,2,    1.187,2, -999.000,9,-999.0000,9,  -999.00,9,     97.1,2,     1.05,2,   2056.8,2,   2289.0,2,     3.5,-999.0000,-999.000,  -999.0,-999.000
   31WTTUNES_1,  P17C,    50,  1,      5,      5,2,19910619,0715, 18.0000,-135.0050, 5166,    179.7,  13.2419,  34.2047,2,  34.2049,2,    172.7,2, 13.2171,    154.3,2,    13.98,2,    13.48,2,     0.00,2,     1.05,4,    2.013,2,    1.066,2, -999.000,9,-999.0000,9,  -999.00,9,     61.7,2,     0.68,2,   2099.2,2,   2268.5,2,     3.6,-999.0000,-999.000,  -999.0,-999.000
   31WTTUNES_1,  P17C,    50,  1,      6,      6,2,19910619,0715, 18.0000,-135.0050, 5166,    204.1,  11.4110,  34.1355,2,  34.1563,2,    134.3,2, 11.3855,    138.4,2,    20.02,2,    18.16,2,     0.00,2,     1.40,4,    1.757,2,    0.921,2, -999.000,9,-999.0000,9,  -999.00,9,   -999.0,9,  -999.00,9,   2127.5,2,   2266.5,2,  -999.0,-999.0000,-999.000,  -999.0,-999.000
   31WTTUNES_1,  P17C,    50,  1,      7,      7,2,19910619,0715, 18.0000,-135.0050, 5166,    232.2,  10.4703,  34.2447,2,  34.2477,2,    109.8,2, 10.4428,     98.5,2,    29.53,2,    24.08,2,     0.00,2,     1.90,4,    1.114,2,    0.565,2, -999.000,9,-999.0000,9,  -999.00,9,    -10.5,2,     0.11,2,   2182.8,2,   -999.0,9,     3.0,-999.0000,-999.000,  -999.0,-999.000
   31WTTUNES_1,  P17C,    50,  1,      8,      8,3,19910619,0715, 18.0000,-135.0050, 5166,    263.3,   9.6877,  34.2676,2,  34.2681,2,    100.5,2,  9.6579,     89.2,4,    34.83,2,    26.06,2,     0.00,2,     2.07,4,    0.784,2,    0.412,2, -999.000,9,-999.0000,9,  -999.00,9,    -22.3,2,    -0.07,2,   2199.2,2,   -999.0,9,     3.6,-999.0000,-999.000,  -999.0,-999.000
   31WTTUNES_1,  P17C,    50,  1,      9,      9,2,19910619,0715, 18.0000,-135.0050, 5166,    303.3,   9.3679,  34.3665,2,  34.3666,2,     63.1,2,  9.3342,     52.6,2,    40.50,2,    29.04,2,     0.00,2,     2.36,4,    0.362,2,    0.195,2, -999.000,9,-999.0000,9,  -999.00,9,    -54.9,2,    -0.10,2,   2232.5,2,   -999.0,9,     3.6,-999.0000,-999.000,  -999.0,-999.000
   31WTTUNES_1,  P17C,    50,  1,     10,     10,2,19910619,0715, 18.0000,-135.0050, 5166,    354.1,   8.4957,  34.3514,2,  34.3478,2,     46.0,2,  8.4585,     41.3,2,    47.63,2,    31.59,2,     0.00,2,     2.52,4,    0.164,2,    0.099,2, -999.000,9,-999.0000,9,  -999.00,9,    -88.4,2,    -0.14,2,   2251.0,2,   2298.0,2,     3.3,-999.0000,-999.000,  -999.0,-999.000
   31WTTUNES_1,  P17C,    50,  1,     11,     11,2,19910619,0715, 18.0000,-135.0050, 5166,    405.0,   7.7572,  34.3813,2,  34.3831,2,     24.6,2,  7.7168,     21.3,2,    56.58,2,    34.67,2,     0.00,2,     2.73,4,    0.041,2,    0.030,2, -999.000,9,-999.0000,9,  -999.00,9,   -140.5,3,    -0.28,2,   2272.9,2,   2309.8,2,     5.2,-999.0000,-999.000,  -999.0,-999.000
   31WTTUNES_1,  P17C,    50,  1,     12,     12,2,19910619,0715, 18.0000,-135.0050, 5166,    504.0,   6.8740,  34.4139,2,  34.4173,2,     12.5,2,  6.8267,     12.4,2,    67.54,2,    37.69,2,     0.00,2,     2.91,4,    0.010,2,    0.005,2, -999.000,9,-999.0000,9,  -999.00,9,   -120.3,2,    -0.29,2,   2297.8,2,   -999.0,9,     3.4,-999.0000,-999.000,  -999.0,-999.000
   31WTTUNES_1,  P17C,    50,  1,     13,     13,2,19910619,0715, 18.0000,-135.0050, 5166,    606.8,   6.0687,  34.4342,2,  34.4387,2,     14.3,2,  6.0150,     14.2,2,    78.31,2,    40.39,2,     0.00,2,     2.99,4,    0.005,2,   -0.002,2, -999.000,9,-999.0000,9,  -999.00,9,   -161.4,2,    -0.38,2,   2306.9,2,   2334.7,2,     2.6,-999.0000,-999.000,  -999.0,-999.000
   31WTTUNES_1,  P17C,    50,  1,     14,     14,2,19910619,0715, 18.0000,-135.0050, 5166,    712.7,   5.4421,  34.4613,2,  34.4640,2,     16.3,2,  5.3818,     16.8,2,    87.99,2,    42.13,2,     0.00,2,     3.05,4,    0.003,2,   -0.002,2, -999.000,9,-999.0000,9,  -999.00,9,   -999.0,9,  -999.00,9,   2320.3,2,   -999.0,9,  -999.0,-999.0000,-999.000,  -999.0,-999.000
   31WTTUNES_1,  P17C,    50,  1,     15,     15,2,19910619,0715, 18.0000,-135.0050, 5166,    813.8,   4.9717,  34.4798,2,  34.4831,2,     19.3,2,  4.9052,     20.5,2,    96.20,2,    42.98,2,     0.00,2,     3.08,4,    0.002,2,   -0.002,2, -999.000,9,-999.0000,9,  -999.00,9,   -168.1,2,    -0.24,2,   2329.4,2,   -999.0,9,     3.4,-999.0000,-999.000,  -999.0,-999.000
   31WTTUNES_1,  P17C,    50,  1,     16,     16,2,19910619,0715, 18.0000,-135.0050, 5166,    899.5,   4.5914,  34.4964,2,  34.4994,2,     22.9,2,  4.5200,     22.6,2,   103.50,2,    43.25,2,     0.00,2,     3.09,4,    0.002,2,   -0.003,2, -999.000,9,-999.0000,9,  -999.00,9,   -999.0,9,  -999.00,9,   2337.3,2,   -999.0,9,  -999.0,-999.0000,-999.000,  -999.0,-999.000
   31WTTUNES_1,  P17C,    50,  1,     17,     17,2,19910619,0715, 18.0000,-135.0050, 5166,   1009.0,   4.1854,  34.5176,2,  34.5184,2,     27.2,2,  4.1075,     29.1,2,   111.34,2,    43.51,2,     0.00,2,     3.09,4,    0.002,2,    0.005,2, -999.000,9,-999.0000,9,  -999.00,9,   -209.9,2,    -0.17,2,   2343.2,2,   2375.9,2,     3.0,-999.0000,-999.000,  -999.0,-999.000
   31WTTUNES_1,  P17C,    50,  1,     18,     18,2,19910619,0715, 18.0000,-135.0050, 5166,   1214.6,   3.5188,  34.5563,2,  34.5568,2,     45.5,2,  3.4293,     47.0,2,   123.75,2,    42.82,2,     0.00,2,     3.01,4,    0.003,2,   -0.002,2, -999.000,9,-999.0000,9,  -999.00,9,   -999.0,9,  -999.00,9,   2348.7,2,   -999.0,9,  -999.0,-999.0000,-999.000,  -999.0,-999.000
   31WTTUNES_1,  P17C,    50,  1,     19,     19,2,19910619,0715, 18.0000,-135.0050, 5166,   1417.1,   3.0487,  34.5767,2,  34.5760,2,     56.4,2,  2.9472,     56.3,2,   134.51,2,    42.28,2,     0.00,2,     2.96,4, -999.000,9, -999.000,9, -999.000,9,-999.0000,9,  -999.00,9,   -225.0,2,    -0.23,2,   2354.5,2,   -999.0,9,     4.4,-999.0000,-999.000,  -999.0,-999.000
   31WTTUNES_1,  P17C,    50,  1,     20,     20,2,19910619,0715, 18.0000,-135.0050, 5166,   1626.6,   2.5935,  34.6010,2,  34.5990,2,     69.5,2,  2.4799,     70.0,2,   144.53,2,    41.32,2,     0.00,2,     2.87,4, -999.000,9, -999.000,9, -999.000,9,-999.0000,9,  -999.00,9,   -999.0,9,  -999.00,9,   2356.9,2,   -999.0,9,  -999.0,-999.0000,-999.000,  -999.0,-999.000
   31WTTUNES_1,  P17C,    50,  1,     21,     21,2,19910619,0715, 18.0000,-135.0050, 5166,   1827.8,   2.2838,  34.6161,2,  34.6183,2,     82.0,2,  2.1576,     82.7,2,   150.91,2,    40.64,2,     0.00,2,     2.80,4, -999.000,9, -999.000,9, -999.000,9,-999.0000,9,  -999.00,9,   -999.0,9,  -999.00,9,   2356.4,2,   -999.0,9,  -999.0,-999.0000,-999.000,  -999.0,-999.000
   31WTTUNES_1,  P17C,    50,  1,     22,     22,2,19910619,0715, 18.0000,-135.0050, 5166,   2029.2,   2.0668,  34.6350,2,  34.6313,2,     94.4,2,  1.9269,     94.4,2,   153.45,2,    39.69,2,     0.00,2,     2.72,4, -999.000,9, -999.000,9, -999.000,9,-999.0000,9,  -999.00,9,   -999.0,9,  -999.00,9,   2352.4,2,   2424.9,2,  -999.0,-999.0000,-999.000,  -999.0,-999.000
   31WTTUNES_1,  P17C,    50,  1,     23,     23,2,19910619,0715, 18.0000,-135.0050, 5166,   2231.1,   1.9191,  34.6446,2,  34.6435,2,    103.6,2,  1.7642,    102.4,2,   156.54,2,    39.22,2,     0.00,2,     2.68,4,   -0.001,2,    0.000,2, -999.000,9,-999.0000,9,  -999.00,9,   -999.0,9,  -999.00,9,   2352.1,2,   -999.0,9,  -999.0,-999.0000,-999.000,  -999.0,-999.000
   31WTTUNES_1,  P17C,    50,  1,     24,     24,2,19910619,0715, 18.0000,-135.0050, 5166,   2433.8,   1.8032,  34.6519,2,  34.6527,2,    109.9,2,  1.6325,    108.5,2,   158.36,2,    38.80,2,     0.00,2,     2.65,4,    0.001,2,    0.000,2, -999.000,9,-999.0000,9,  -999.00,9,   -999.0,9,  -999.00,9,   2349.9,2,   -999.0,9,  -999.0,-999.0000,-999.000,  -999.0,-999.000
   31WTTUNES_1,  P17C,    50,  1,     25,     25,2,19910619,0715, 18.0000,-135.0050, 5166,   2640.1,   1.7163,  34.6603,2,  34.6594,2,    116.0,2,  1.5286,    115.1,2,   160.17,2,    38.54,2,     0.00,2,     2.62,4,    0.000,2,    0.000,2, -999.000,9,-999.0000,9,  -999.00,9,   -999.0,9,  -999.00,9,   2348.5,2,   -999.0,9,  -999.0,-999.0000,-999.000,  -999.0,-999.000
   31WTTUNES_1,  P17C,    50,  1,     26,     26,2,19910619,0715, 18.0000,-135.0050, 5166,   2833.0,   1.6546,  34.6660,2,  34.6653,2,    121.6,2,  1.4503,    118.7,2,   161.62,2,    38.18,2,     0.00,2,     2.59,4, -999.000,9, -999.000,9, -999.000,9,-999.0000,9,  -999.00,9,   -999.0,9,  -999.00,9,   2346.8,2,   -999.0,9,  -999.0,-999.0000,-999.000,  -999.0,-999.000
   31WTTUNES_1,  P17C,    50,  1,     27,     27,2,19910619,0715, 18.0000,-135.0050, 5166,   3037.6,   1.5904,  34.6687,2,  34.6700,2,    126.4,2,  1.3681,    124.5,2,   162.89,2,    37.71,2,     0.00,2,     2.56,4, -999.000,9, -999.000,9, -999.000,9,-999.0000,9,  -999.00,9,   -999.0,9,  -999.00,9,   2347.1,2,   -999.0,9,  -999.0,-999.0000,-999.000,  -999.0,-999.000
   31WTTUNES_1,  P17C,    50,  1,     28,     28,2,19910619,0715, 18.0000,-135.0050, 5166,   3298.3,   1.5270,  34.6744,2,  34.6744,2,    133.8,2,  1.2806,    131.7,2,   163.24,2,    37.40,2,     0.00,2,     2.52,4, -999.000,9, -999.000,9, -999.000,9,-999.0000,9,  -999.00,9,   -999.0,9,  -999.00,9,   2340.5,2,   -999.0,9,  -999.0,-999.0000,-999.000,  -999.0,-999.000
   31WTTUNES_1,  P17C,    50,  1,     29,     29,2,19910619,0715, 18.0000,-135.0050, 5166,   3540.9,   1.4910,  34.6785,2,  34.6791,2,    139.3,2,  1.2209,    138.2,2,   161.77,2,    36.99,2,     0.00,2,     2.50,4,    0.001,2,    0.000,2, -999.000,9,-999.0000,9,  -999.00,9,   -999.0,9,  -999.00,9,   2337.4,2,   2431.9,2,  -999.0,-999.0000,-999.000,  -999.0,-999.000
   31WTTUNES_1,  P17C,    50,  1,     30,     30,2,19910619,0715, 18.0000,-135.0050, 5166,   3797.0,   1.4675,  34.6831,2,  34.6823,2,    146.5,2,  1.1713,    145.0,2,   158.12,2,    36.47,2,     0.00,2,     2.46,4,    0.003,2,    0.000,2, -999.000,9,-999.0000,9,  -999.00,9,   -999.0,9,  -999.00,9,   2329.6,2,   -999.0,9,  -999.0,-999.0000,-999.000,  -999.0,-999.000
   31WTTUNES_1,  P17C,    50,  1,     31,     31,2,19910619,0715, 18.0000,-135.0050, 5166,   4044.2,   1.4385,  34.6865,2,  34.6870,2,    156.0,2,  1.1166,    152.7,2,   152.46,2,    35.91,2,     0.00,2,     2.42,4, -999.000,9, -999.000,9, -999.000,9,-999.0000,9,  -999.00,9,   -999.0,9,  -999.00,9,   2322.0,2,   -999.0,9,  -999.0,-999.0000,-999.000,  -999.0,-999.000
   31WTTUNES_1,  P17C,    50,  1,     32,     32,2,19910619,0715, 18.0000,-135.0050, 5166,   4303.0,   1.4156,  34.6913,2,  34.6910,2,    162.7,2,  1.0656,    160.9,2,   147.16,2,    35.19,2,     0.00,2,     2.38,4, -999.000,9, -999.000,9, -999.000,9,-999.0000,9,  -999.00,9,   -999.0,9,  -999.00,9,   2313.5,2,   -999.0,9,  -999.0,-999.0000,-999.000,  -999.0,-999.000
   31WTTUNES_1,  P17C,    50,  1,     33,     33,2,19910619,0715, 18.0000,-135.0050, 5166,   4564.3,   1.4131,  34.6928,2,  34.6925,2,    166.8,2,  1.0333,    166.1,2,   143.51,2,    34.99,2,     0.00,2,     2.35,4, -999.000,9, -999.000,9, -999.000,9,-999.0000,9,  -999.00,9,   -999.0,9,  -999.00,9,   2308.3,2,   -999.0,9,  -999.0,-999.0000,-999.000,  -999.0,-999.000
   31WTTUNES_1,  P17C,    50,  1,     34,     34,2,19910619,0715, 18.0000,-135.0050, 5166,   4822.5,   1.4314,  34.6936,2,  34.6932,2,    169.5,2,  1.0208,    170.5,3,   141.86,2,    34.68,2,     0.00,2,     2.34,4,    0.003,2,    0.000,2, -999.000,9,-999.0000,9,  -999.00,9,   -999.0,9,  -999.00,9,   2306.1,2,   -999.0,9,  -999.0,-999.0000,-999.000,  -999.0,-999.000
   31WTTUNES_1,  P17C,    50,  1,     35,     35,2,19910619,0715, 18.0000,-135.0050, 5166,   5065.3,   1.4524,  34.6938,2,  34.6942,2,    169.9,2,  1.0118,    169.9,2,   141.31,2,    34.68,2,     0.00,2,     2.34,4,    0.001,2,    0.000,2, -999.000,9,-999.0000,9,  -999.00,9,   -999.0,9,  -999.00,9,   2306.0,2,   -999.0,9,  -999.0,-999.0000,-999.000,  -999.0,-999.000
   31WTTUNES_1,  P17C,    50,  1,     36,     36,2,19910619,0715, 18.0000,-135.0050, 5166,   5268.5,   1.4765,  34.6940,2,  34.6938,2,   -999.0,9,  1.0100,    169.5,2,   140.76,2,    34.68,2,     0.00,2,     2.34,4,    0.001,2,    0.000,2, -999.000,9,-999.0000,9,  -999.00,9,   -999.0,9,  -999.00,9,   2305.9,2,   2398.9,2,  -999.0,-999.0000,-999.000,  -999.0,-999.000