BOTTLE,20220819CCHSIOAMB
EXPOCODE,SECT_ID,STNNBR,CASTNO,SAMPNO,BTLNBR,BTLNBR_FLAG_W,DATE,TIME,LATITUDE,LONGITUDE,DEPTH,CTDPRS,CTDTMP,CTDSAL,CTDSAL_FLAG_W,SALNTY,SALNTY_FLAG_W,CTDOXY,CTDOXY_FLAG_W,THETA,OXYGEN,OXYGEN_FLAG_W,SILCAT,SILCAT_FLAG_W,NITRAT,NITRAT_FLAG_W,NITRIT,NITRIT_FLAG_W,PHSPHT,PHSPHT_FLAG_W,CFC-11,CFC-11_FLAG_W,CFC-12,CFC-12_FLAG_W,TRITUM,TRITUM_FLAG_W,HELIUM,HELIUM_FLAG_W,DELHE3,DELHE3_FLAG_W,DELC14,DELC14_FLAG_W,DELC13,DELC13_FLAG_W,TCARBN,TCARBN_FLAG_W,ALKALI,ALKALI_FLAG_W,C14ERR,HELIER,DELHER,C13ERR,TRITER
,,,,,,,,,,,,DBAR,ITS-90,PSS-78,,PSS-78,,UMOL/KG,,DEG C,UMOL/KG,,UMOL/KG,,UMOL/KG,,UMOL/KG,,UMOL/KG,,PMOL/KG,,PMOL/KG,,TU,,NMOL/KG,,PERCNT,,/MILLE,,/MILLE,,UMOL/KG,,UMOL/KG,,/MILLE,NMOL/KG,PERCNT,/MILLE,TU
   31WTTUNES_1,  P17C,    62,  1,      1,      1,2,19910622,2233, 12.0000,-134.9983, 4852,      0.2,  27.9365,  34.0243,2,  34.0280,2,    198.6,3, 27.9364,    205.0,2,     3.78,2,     0.10,2,     0.00,2,     0.19,2, -999.000,9, -999.000,9, -999.000,9,-999.0000,9,  -999.00,9,   -999.0,9,  -999.00,9,   1898.0,2,   2225.5,2,  -999.0,-999.0000,-999.000,  -999.0,-999.000
   31WTTUNES_1,  P17C,    62,  1,      2,      2,2,19910622,2233, 12.0000,-134.9983, 4852,     16.4,  27.7995,  34.0242,2,  34.0280,2,    205.4,3, 27.7957,    204.7,2,     3.58,2,     0.09,2,     0.00,2,     0.19,2, -999.000,9, -999.000,9, -999.000,9,-999.0000,9,  -999.00,9,   -999.0,9,  -999.00,9,   1903.5,2,   -999.0,9,  -999.0,-999.0000,-999.000,  -999.0,-999.000
   31WTTUNES_1,  P17C,    62,  1,      3,      3,2,19910622,2233, 12.0000,-134.9983, 4852,     62.0,  26.5899,  34.1861,2,  34.3072,2,    192.9,2, 26.5759,    192.8,2,     5.42,2,     1.79,2,     0.03,2,     0.37,2, -999.000,9, -999.000,9, -999.000,9,-999.0000,9,  -999.00,9,   -999.0,9,  -999.00,9,   1971.2,2,   2246.1,2,  -999.0,-999.0000,-999.000,  -999.0,-999.000
   31WTTUNES_1,  P17C,    62,  1,      4,      4,2,19910622,2233, 12.0000,-134.9983, 4852,     77.3,  16.6015,  34.4972,2,  34.4508,2,    135.9,2, 16.5890,    127.0,2,    11.91,2,    13.96,2,     0.26,2,     1.19,2, -999.000,9, -999.000,9, -999.000,9,-999.0000,9,  -999.00,9,   -999.0,9,  -999.00,9,   2110.1,2,   -999.0,9,  -999.0,-999.0000,-999.000,  -999.0,-999.000
   31WTTUNES_1,  P17C,    62,  1,      5,      5,2,19910622,2233, 12.0000,-134.9983, 4852,     88.6,  14.4595,  34.5003,2,  34.4763,2,     89.2,2, 14.4465,     67.2,2,    18.95,2,    22.81,2,     0.38,2,     1.82,2, -999.000,9, -999.000,9, -999.000,9,-999.0000,9,  -999.00,9,   -999.0,9,  -999.00,9,   2165.8,2,   -999.0,9,  -999.0,-999.0000,-999.000,  -999.0,-999.000
   31WTTUNES_1,  P17C,    62,  1,      6,      6,2,19910622,2233, 12.0000,-134.9983, 4852,    103.4,  13.5384,  34.5358,2,  34.5673,2,     35.5,2, 13.5239,     37.7,2,    24.69,2,    27.84,2,     0.60,2,     2.12,2, -999.000,9, -999.000,9, -999.000,9,-999.0000,9,  -999.00,9,   -999.0,9,  -999.00,9,   2203.8,2,   2289.0,2,  -999.0,-999.0000,-999.000,  -999.0,-999.000
   31WTTUNES_1,  P17C,    62,  1,      7,      7,2,19910622,2233, 12.0000,-134.9983, 4852,    128.6,  12.2452,  34.6871,2,  34.6905,2,      8.1,2, 12.2283,      9.4,2,    29.50,2,    32.51,2,     0.02,2,     2.41,2, -999.000,9, -999.000,9, -999.000,9,-999.0000,9,  -999.00,9,   -999.0,9,  -999.00,9,   2234.1,2,   -999.0,9,  -999.0,-999.0000,-999.000,  -999.0,-999.000
   31WTTUNES_1,  P17C,    62,  1,      8,      8,2,19910622,2233, 12.0000,-134.9983, 4852,    152.2,  11.7285,  34.7277,2,  34.7266,2,     12.5,2, 11.7090,     12.2,2,    31.15,2,    33.50,2,     0.01,2,     2.40,2, -999.000,9, -999.000,9, -999.000,9,-999.0000,9,  -999.00,9,   -999.0,9,  -999.00,9,   2234.7,2,   2304.8,2,  -999.0,-999.0000,-999.000,  -999.0,-999.000
   31WTTUNES_1,  P17C,    62,  1,      9,      9,2,19910622,2233, 12.0000,-134.9983, 4852,    202.5,  11.0996,  34.7239,2,  34.7239,2,     17.1,2, 11.0745,     18.6,2,    31.87,2,    33.70,2,     0.00,2,     2.37,2, -999.000,9, -999.000,9, -999.000,9,-999.0000,9,  -999.00,9,   -999.0,9,  -999.00,9,   2239.5,2,   2303.9,2,  -999.0,-999.0000,-999.000,  -999.0,-999.000
   31WTTUNES_1,  P17C,    62,  1,     10,     10,2,19910622,2233, 12.0000,-134.9983, 4852,    253.0,  10.6377,  34.7143,2,  34.7132,2,     12.5,2, 10.6072,     12.5,2,    33.90,2,    34.62,2,     0.01,2,     2.46,2, -999.000,9, -999.000,9, -999.000,9,-999.0000,9,  -999.00,9,   -999.0,9,  -999.00,9,   2253.6,2,   -999.0,9,  -999.0,-999.0000,-999.000,  -999.0,-999.000
   31WTTUNES_1,  P17C,    62,  1,     11,     11,2,19910622,2233, 12.0000,-134.9983, 4852,    304.3,  10.2787,  34.7012,2,  34.7013,2,      9.4,2, 10.2427,     11.1,2,    35.73,2,    35.03,2,     0.00,2,     2.51,2, -999.000,9, -999.000,9, -999.000,9,-999.0000,9,  -999.00,9,   -999.0,9,  -999.00,9,   2259.4,2,   2304.1,2,  -999.0,-999.0000,-999.000,  -999.0,-999.000
   31WTTUNES_1,  P17C,    62,  1,     12,     12,2,19910622,2233, 12.0000,-134.9983, 4852,    406.1,   9.4121,  34.6595,2,  34.6594,2,      4.7,2,  9.3664,      6.3,2,    41.65,2,    36.18,2,     0.01,2,     2.70,2, -999.000,9, -999.000,9, -999.000,9,-999.0000,9,  -999.00,9,   -999.0,9,  -999.00,9,   2271.5,2,   2313.1,2,  -999.0,-999.0000,-999.000,  -999.0,-999.000
   31WTTUNES_1,  P17C,    62,  1,     13,     13,2,19910622,2233, 12.0000,-134.9983, 4852,    507.5,   8.5959,  34.6115,2,  34.6134,2,      5.7,2,  8.5416,      5.3,2,    48.13,2,    36.85,2,     0.00,2,     2.83,2, -999.000,9, -999.000,9, -999.000,9,-999.0000,9,  -999.00,9,   -999.0,9,  -999.00,9,   2281.0,2,   -999.0,9,  -999.0,-999.0000,-999.000,  -999.0,-999.000
   31WTTUNES_1,  P17C,    62,  1,     14,     14,2,19910622,2233, 12.0000,-134.9983, 4852,    610.0,   7.6043,  34.5641,2,  34.5655,2,      7.8,2,  7.5431,      8.8,2,    57.94,2,    38.65,2,     0.00,2,     2.98,2, -999.000,9, -999.000,9, -999.000,9,-999.0000,9,  -999.00,9,   -999.0,9,  -999.00,9,   2293.7,2,   -999.0,9,  -999.0,-999.0000,-999.000,  -999.0,-999.000
   31WTTUNES_1,  P17C,    62,  1,     15,     15,2,19910622,2233, 12.0000,-134.9983, 4852,    705.9,   6.7400,  34.5344,2,  34.5356,2,      8.9,2,  6.6733,      8.9,2,    68.30,2,    40.73,2,     0.00,2,     3.06,2, -999.000,9, -999.000,9, -999.000,9,-999.0000,9,  -999.00,9,   -999.0,9,  -999.00,9,   2305.2,2,   -999.0,9,  -999.0,-999.0000,-999.000,  -999.0,-999.000
   31WTTUNES_1,  P17C,    62,  1,     16,     16,2,19910622,2233, 12.0000,-134.9983, 4852,    808.4,   5.9226,  34.5290,2,  34.5301,2,     12.8,2,  5.8507,     12.4,2,    78.48,2,    42.95,2,     0.01,2,     3.14,2, -999.000,9, -999.000,9, -999.000,9,-999.0000,9,  -999.00,9,   -999.0,9,  -999.00,9,   2316.5,2,   -999.0,9,  -999.0,-999.0000,-999.000,  -999.0,-999.000
   31WTTUNES_1,  P17C,    62,  1,     17,     17,2,19910622,2233, 12.0000,-134.9983, 4852,    910.2,   5.3367,  34.5334,2,  34.5356,2,     21.0,2,  5.2591,     20.5,2,    86.43,2,    43.92,2,     0.01,2,     3.14,2, -999.000,9, -999.000,9, -999.000,9,-999.0000,9,  -999.00,9,   -999.0,9,  -999.00,9,   2322.9,2,   -999.0,9,  -999.0,-999.0000,-999.000,  -999.0,-999.000
   31WTTUNES_1,  P17C,    62,  1,     18,     18,2,19910622,2233, 12.0000,-134.9983, 4852,   1062.9,   4.5427,  34.5497,2,  34.5506,2,     33.7,2,  4.4572,     32.4,2,   100.12,2,    44.07,2,     0.01,2,     3.14,2, -999.000,9, -999.000,9, -999.000,9,-999.0000,9,  -999.00,9,   -999.0,9,  -999.00,9,   2332.6,2,   2366.6,2,  -999.0,-999.0000,-999.000,  -999.0,-999.000
   31WTTUNES_1,  P17C,    62,  1,     19,     19,2,19910622,2233, 12.0000,-134.9983, 4852,   1211.7,   4.0333,  34.5588,2,  34.5582,2,     22.7,2,  3.9392,     22.6,3,   116.77,3,    44.56,3,     0.01,3,     3.26,3, -999.000,9, -999.000,9, -999.000,9,-999.0000,9,  -999.00,9,   -999.0,9,  -999.00,9,   -999.0,9,   -999.0,9,  -999.0,-999.0000,-999.000,  -999.0,-999.000
   31WTTUNES_1,  P17C,    62,  1,     20,     20,2,19910622,2233, 12.0000,-134.9983, 4852,   1416.4,   3.5700,  34.5824,2,  34.5810,2,     60.4,2,  3.4629,     60.3,2,   118.59,2,    42.17,2,     0.01,2,     3.00,2, -999.000,9, -999.000,9, -999.000,9,-999.0000,9,  -999.00,9,   -999.0,9,  -999.00,9,   2343.9,2,   -999.0,9,  -999.0,-999.0000,-999.000,  -999.0,-999.000
   31WTTUNES_1,  P17C,    62,  1,     21,     21,2,19910622,2233, 12.0000,-134.9983, 4852,   1617.1,   3.0335,  34.6000,2,  34.5981,2,     67.3,2,  2.9153,     66.7,2,   131.71,2,    41.83,2,     0.00,2,     2.96,2, -999.000,9, -999.000,9, -999.000,9,-999.0000,9,  -999.00,9,   -999.0,9,  -999.00,9,   2356.9,2,   -999.0,9,  -999.0,-999.0000,-999.000,  -999.0,-999.000
   31WTTUNES_1,  P17C,    62,  1,     22,     22,9,19910622,2233, 12.0000,-134.9983, 4852,   1818.2,   2.6012,  34.6185,2,-999.0000,9,     78.9,2,  2.4714,   -999.0,9,  -999.00,9,  -999.00,9,  -999.00,9,  -999.00,9, -999.000,9, -999.000,9, -999.000,9,-999.0000,9,  -999.00,9,   -999.0,9,  -999.00,9,   -999.0,9,   -999.0,9,  -999.0,-999.0000,-999.000,  -999.0,-999.000
   31WTTUNES_1,  P17C,    62,  1,     23,     23,2,19910622,2233, 12.0000,-134.9983, 4852,   2025.4,   2.2960,  34.6311,2,  34.6289,2,     88.8,2,  2.1528,     87.1,2,   148.35,2,    40.46,2,     0.00,2,     2.83,2, -999.000,9, -999.000,9, -999.000,9,-999.0000,9,  -999.00,9,   -999.0,9,  -999.00,9,   2360.3,2,   -999.0,9,  -999.0,-999.0000,-999.000,  -999.0,-999.000
   31WTTUNES_1,  P17C,    62,  1,     24,     24,2,19910622,2233, 12.0000,-134.9983, 4852,   2227.1,   2.0655,  34.6479,2,  34.6462,2,     97.9,2,  1.9085,     97.8,2,   153.50,2,    39.63,2,     0.00,2,     2.76,2, -999.000,9, -999.000,9, -999.000,9,-999.0000,9,  -999.00,9,   -999.0,9,  -999.00,9,   2361.5,2,   2430.3,2,  -999.0,-999.0000,-999.000,  -999.0,-999.000
   31WTTUNES_1,  P17C,    62,  1,     25,     25,2,19910622,2233, 12.0000,-134.9983, 4852,   2429.5,   1.9313,  34.6552,2,  34.6551,2,    105.6,2,  1.7587,    104.9,2,   155.50,2,    39.30,2,     0.00,2,     2.72,2, -999.000,9, -999.000,9, -999.000,9,-999.0000,9,  -999.00,9,   -999.0,9,  -999.00,9,   2359.7,2,   -999.0,9,  -999.0,-999.0000,-999.000,  -999.0,-999.000
   31WTTUNES_1,  P17C,    62,  1,     26,     26,2,19910622,2233, 12.0000,-134.9983, 4852,   2633.1,   1.8316,  34.6632,2,  34.6616,2,    111.3,2,  1.6423,    110.8,2,   158.79,2,    38.96,2,     0.00,2,     2.68,2, -999.000,9, -999.000,9, -999.000,9,-999.0000,9,  -999.00,9,   -999.0,9,  -999.00,9,   2362.2,2,   -999.0,9,  -999.0,-999.0000,-999.000,  -999.0,-999.000
   31WTTUNES_1,  P17C,    62,  1,     27,     27,2,19910622,2233, 12.0000,-134.9983, 4852,   2835.7,   1.7498,  34.6663,2,  34.6673,2,    116.7,2,  1.5433,    115.9,2,   159.67,2,    38.62,2,     0.01,2,     2.65,2, -999.000,9, -999.000,9, -999.000,9,-999.0000,9,  -999.00,9,   -999.0,9,  -999.00,9,   2355.5,2,   -999.0,9,  -999.0,-999.0000,-999.000,  -999.0,-999.000
   31WTTUNES_1,  P17C,    62,  1,     28,     28,2,19910622,2233, 12.0000,-134.9983, 4852,   3043.2,   1.6845,  34.6707,2,  34.6704,2,    121.7,2,  1.4595,    122.3,2,   160.19,2,    38.13,2,     0.01,2,     2.61,2, -999.000,9, -999.000,9, -999.000,9,-999.0000,9,  -999.00,9,   -999.0,9,  -999.00,9,   2353.1,2,   -999.0,9,  -999.0,-999.0000,-999.000,  -999.0,-999.000
   31WTTUNES_1,  P17C,    62,  1,     29,     29,2,19910622,2233, 12.0000,-134.9983, 4852,   3246.4,   1.6184,  34.6743,2,  34.6735,2,    127.6,2,  1.3750,    127.8,2,   160.70,2,    37.69,2,     0.00,2,     2.59,2, -999.000,9, -999.000,9, -999.000,9,-999.0000,9,  -999.00,9,   -999.0,9,  -999.00,9,   2347.4,2,   -999.0,9,  -999.0,-999.0000,-999.000,  -999.0,-999.000
   31WTTUNES_1,  P17C,    62,  1,     30,     30,2,19910622,2233, 12.0000,-134.9983, 4852,   3448.7,   1.5662,  34.6770,2,  34.6769,2,    133.0,2,  1.3036,    132.9,2,   161.22,2,    37.35,2,     0.01,2,     2.56,2, -999.000,9, -999.000,9, -999.000,9,-999.0000,9,  -999.00,9,   -999.0,9,  -999.00,9,   2349.0,2,   -999.0,9,  -999.0,-999.0000,-999.000,  -999.0,-999.000
   31WTTUNES_1,  P17C,    62,  1,     31,     31,2,19910622,2233, 12.0000,-134.9983, 4852,   3651.2,   1.5248,  34.6797,2,  34.6798,2,    139.1,2,  1.2424,    139.4,2,   159.33,2,    36.86,2,     0.01,2,     2.52,2, -999.000,9, -999.000,9, -999.000,9,-999.0000,9,  -999.00,9,   -999.0,9,  -999.00,9,   2342.2,2,   2430.4,2,  -999.0,-999.0000,-999.000,  -999.0,-999.000
   31WTTUNES_1,  P17C,    62,  1,     32,     32,2,19910622,2233, 12.0000,-134.9983, 4852,   3906.9,   1.4549,  34.6845,2,  34.6857,2,    149.9,2,  1.1474,    151.6,2,   152.99,2,    36.05,2,     0.01,2,     2.47,2, -999.000,9, -999.000,9, -999.000,9,-999.0000,9,  -999.00,9,   -999.0,9,  -999.00,9,   2329.9,2,   -999.0,9,  -999.0,-999.0000,-999.000,  -999.0,-999.000
   31WTTUNES_1,  P17C,    62,  1,     33,     33,2,19910622,2233, 12.0000,-134.9983, 4852,   4160.5,   1.4112,  34.6882,2,  34.6897,2,    159.7,2,  1.0772,    160.3,2,   147.22,2,    35.35,2,     0.01,2,     2.42,2, -999.000,9, -999.000,9, -999.000,9,-999.0000,9,  -999.00,9,   -999.0,9,  -999.00,9,   2322.2,2,   -999.0,9,  -999.0,-999.0000,-999.000,  -999.0,-999.000
   31WTTUNES_1,  P17C,    62,  1,     34,     34,2,19910622,2233, 12.0000,-134.9983, 4852,   4423.1,   1.4181,  34.6900,2,  34.6905,2,    163.3,2,  1.0544,    163.3,2,   144.96,2,    34.96,2,     0.01,2,     2.39,2, -999.000,9, -999.000,9, -999.000,9,-999.0000,9,  -999.00,9,   -999.0,9,  -999.00,9,   2315.7,2,   -999.0,9,  -999.0,-999.0000,-999.000,  -999.0,-999.000
   31WTTUNES_1,  P17C,    62,  1,     35,     35,2,19910622,2233, 12.0000,-134.9983, 4852,   4683.2,   1.4450,  34.6910,2,  34.6916,2,    163.8,2,  1.0505,    164.3,2,   144.74,2,    35.05,2,     0.01,2,     2.39,2, -999.000,9, -999.000,9, -999.000,9,-999.0000,9,  -999.00,9,   -999.0,9,  -999.00,9,   2317.9,2,   -999.0,9,  -999.0,-999.0000,-999.000,  -999.0,-999.000
   31WTTUNES_1,  P17C,    62,  1,     36,     36,2,19910622,2233, 12.0000,-134.9983, 4852,   4931.2,   1.4685,  34.6914,2,  34.6920,2,   -999.0,9,  1.0437,    164.8,2,   144.14,2,    34.99,2,     0.01,2,     2.40,2, -999.000,9, -999.000,9, -999.000,9,-999.0000,9,  -999.00,9,   -999.0,9,  -999.00,9,   2318.7,2,   2405.2,2,  -999.0,-999.0000,-999.000,  -999.0,-999.000