BOTTLE,20220819CCHSIOAMB
EXPOCODE,SECT_ID,STNNBR,CASTNO,SAMPNO,BTLNBR,BTLNBR_FLAG_W,DATE,TIME,LATITUDE,LONGITUDE,DEPTH,CTDPRS,CTDTMP,CTDSAL,CTDSAL_FLAG_W,SALNTY,SALNTY_FLAG_W,CTDOXY,CTDOXY_FLAG_W,THETA,OXYGEN,OXYGEN_FLAG_W,SILCAT,SILCAT_FLAG_W,NITRAT,NITRAT_FLAG_W,NITRIT,NITRIT_FLAG_W,PHSPHT,PHSPHT_FLAG_W,CFC-11,CFC-11_FLAG_W,CFC-12,CFC-12_FLAG_W,TRITUM,TRITUM_FLAG_W,HELIUM,HELIUM_FLAG_W,DELHE3,DELHE3_FLAG_W,DELC14,DELC14_FLAG_W,DELC13,DELC13_FLAG_W,TCARBN,TCARBN_FLAG_W,ALKALI,ALKALI_FLAG_W,C14ERR,HELIER,DELHER,C13ERR,TRITER
,,,,,,,,,,,,DBAR,ITS-90,PSS-78,,PSS-78,,UMOL/KG,,DEG C,UMOL/KG,,UMOL/KG,,UMOL/KG,,UMOL/KG,,UMOL/KG,,PMOL/KG,,PMOL/KG,,TU,,NMOL/KG,,PERCNT,,/MILLE,,/MILLE,,UMOL/KG,,UMOL/KG,,/MILLE,NMOL/KG,PERCNT,/MILLE,TU
   31WTTUNES_1,  P17C,    65,  1,      1,      1,2,19910623,1823, 10.5000,-134.9983, 4909,      0.2,  28.0910,  33.6507,2,  33.6548,2,   -999.0,9, 28.0910,    212.3,2,     2.79,2,     0.17,2,     0.00,2,     0.18,2,    1.706,2,    0.977,2,    1.408,2,   1.7560,2,    -1.27,2,   -999.0,9,  -999.00,9,   1889.1,2,   2234.0,2,  -999.0,  0.0080,   0.150,  -999.0,   0.013
   31WTTUNES_1,  P17C,    65,  1,      2,      2,2,19910623,1823, 10.5000,-134.9983, 4909,     41.8,  27.3669,  34.1033,2,  34.1116,2,    218.8,2, 27.3573,    210.9,2,     2.77,2,     0.10,2,     0.00,2,     0.19,2,    1.709,2,    0.998,2,    1.451,2,   1.7830,2,    -1.13,2,   -999.0,9,  -999.00,9,   1913.2,2,   -999.0,9,  -999.0,  0.0080,   0.150,  -999.0,   0.013
   31WTTUNES_1,  P17C,    65,  1,      3,      3,2,19910623,1823, 10.5000,-134.9983, 4909,     61.5,  21.5907,  34.6234,2,  34.6514,2,    208.6,2, 21.5787,    183.6,2,     6.29,2,     3.48,2,     0.07,2,     0.52,2,    1.824,2,    1.021,2,    2.114,2,   1.7920,2,     3.74,2,   -999.0,9,  -999.00,9,   2046.0,2,   2261.0,2,  -999.0,  0.0080,   0.150,  -999.0,   0.016
   31WTTUNES_1,  P17C,    65,  1,      4,      4,2,19910623,1823, 10.5000,-134.9983, 4909,     73.0,  18.3487,  34.6779,2,  34.6653,2,    154.3,2, 18.3361,    139.8,2,     9.99,2,    10.66,2,     0.26,2,     0.93,2,    1.585,2,    0.851,2,    1.984,2,   0.0000,2,  -999.00,9,   -999.0,9,  -999.00,9,   2093.1,2,   -999.0,9,  -999.0,-999.0000,   0.150,  -999.0,   0.015
   31WTTUNES_1,  P17C,    65,  1,      5,      5,2,19910623,1823, 10.5000,-134.9983, 4909,     91.5,  14.3574,  34.4920,2,  34.5281,2,     73.0,2, 14.3441,     42.7,2,    21.33,2,    25.87,2,     0.74,2,     2.03,2,    0.892,2,    0.482,2,    1.460,2,   1.8260,2,     9.67,2,   -999.0,9,  -999.00,9,   2197.0,2,   2283.9,2,  -999.0,  0.0090,   0.150,  -999.0,   0.013
   31WTTUNES_1,  P17C,    65,  1,      6,      6,2,19910623,1823, 10.5000,-134.9983, 4909,    122.6,  12.5242,  34.6814,2,  34.6888,2,     14.1,2, 12.5078,     13.8,2,    28.57,2,    32.15,2,     0.24,2,     2.34,2,    0.318,2,    0.180,2,    0.774,2,   1.8110,2,     9.18,2,   -999.0,9,  -999.00,9,   2222.6,2,   -999.0,9,  -999.0,  0.0090,   0.150,  -999.0,   0.009
   31WTTUNES_1,  P17C,    65,  1,      7,      7,2,19910623,1823, 10.5000,-134.9983, 4909,    151.9,  11.8467,  34.7454,2,  34.7451,2,      8.0,2, 11.8271,      9.0,2,    30.22,2,    33.69,2,     0.05,2,     2.38,2,    0.178,2,    0.104,2,    0.501,2,   1.8180,2,     8.17,2,   -999.0,9,  -999.00,9,   2242.9,2,   2297.6,2,  -999.0,  0.0090,   0.150,  -999.0,   0.008
   31WTTUNES_1,  P17C,    65,  1,      8,      8,2,19910623,1823, 10.5000,-134.9983, 4909,    201.6,  11.0906,  34.7243,2,  34.7207,2,     19.0,2, 11.0657,     20.9,2,    31.88,2,    33.45,2,     0.05,3,     2.37,2,    0.185,2,    0.136,2,    0.355,2,   1.8270,2,     6.93,2,   -999.0,9,  -999.00,9,   2240.6,2,   2301.1,2,  -999.0,  0.0090,   0.150,  -999.0,   0.007
   31WTTUNES_1,  P17C,    65,  1,      9,      9,2,19910623,1823, 10.5000,-134.9983, 4909,    257.4,  10.5630,  34.7114,2,  34.7124,2,     16.8,2, 10.5321,     15.3,2,    34.09,2,    34.39,2,     0.05,3,     2.45,2,    0.079,2,    0.052,2,    0.226,2,   1.8470,2,     6.35,2,   -999.0,9,  -999.00,9,   2254.0,2,   -999.0,9,  -999.0,  0.0090,   0.150,  -999.0,   0.005
   31WTTUNES_1,  P17C,    65,  1,     10,     10,2,19910623,1823, 10.5000,-134.9983, 4909,    307.3,  10.1584,  34.6979,2,  34.6980,2,     12.4,2, 10.1223,      9.7,2,    36.11,2,    35.37,2,     0.01,3,     2.53,2,    0.046,2,    0.033,2,    0.147,2,   1.8440,2,     6.06,2,   -999.0,9,  -999.00,9,   2261.1,2,   2305.1,2,  -999.0,  0.0090,   0.150,  -999.0,   0.006
   31WTTUNES_1,  P17C,    65,  1,     11,     11,2,19910623,1823, 10.5000,-134.9983, 4909,    405.7,   9.3056,  34.6500,2,  34.6486,2,      4.8,2,  9.2603,      5.4,2,    42.37,2,    35.95,2,     0.01,3,     2.70,2,    0.009,2,    0.011,2,    0.060,2,   1.8420,2,     5.94,2,   -999.0,9,  -999.00,9,   2276.3,2,   2309.9,2,  -999.0,  0.0090,   0.150,  -999.0,   0.003
   31WTTUNES_1,  P17C,    65,  1,     12,     12,2,19910623,1823, 10.5000,-134.9983, 4909,    505.2,   8.2123,  34.5869,2,  34.5861,2,     11.9,2,  8.1597,      9.0,2,    51.66,2,    36.89,2,     0.00,3,     2.85,2,    0.005,2,    0.002,2,    0.019,2,   1.8650,2,     7.25,2,   -999.0,9,  -999.00,9,   2287.6,2,   -999.0,9,  -999.0,  0.0090,   0.150,  -999.0,   0.002
   31WTTUNES_1,  P17C,    65,  1,     13,     13,2,19910623,1823, 10.5000,-134.9983, 4909,    609.5,   7.1137,  34.5424,2,  34.5424,2,      9.7,2,  7.0548,      9.1,2,    63.56,2,    39.08,2,     0.04,3,     2.99,2, -999.000,9, -999.000,9,    0.009,2,   0.0000,2,  -999.00,9,   -999.0,9,  -999.00,9,   2301.6,2,   2328.1,2,  -999.0,-999.0000,   0.150,  -999.0,   0.002
   31WTTUNES_1,  P17C,    65,  1,     14,     14,2,19910623,1823, 10.5000,-134.9983, 4909,    709.5,   6.2341,  34.5319,2,  34.5324,2,     12.4,2,  6.1698,     13.5,2,    73.77,2,    42.21,2,     0.04,3,     3.07,2, -999.000,9, -999.000,9,    0.003,2,   1.9010,2,    11.72,2,   -999.0,9,  -999.00,9,   2312.8,2,   -999.0,9,  -999.0,  0.0090,   0.150,  -999.0,   0.002
   31WTTUNES_1,  P17C,    65,  1,     15,     15,2,19910623,1823, 10.5000,-134.9983, 4909,    809.9,   5.6376,  34.5357,2,  34.5362,2,     23.5,2,  5.5673,     24.8,2,    80.08,2,    42.90,2,     0.04,3,     3.06,2, -999.000,9, -999.000,9,   -0.007,2,   1.9080,2,    13.75,2,   -999.0,9,  -999.00,9,   2313.8,2,   -999.0,9,  -999.0,  0.0090,   0.150,  -999.0,   0.001
   31WTTUNES_1,  P17C,    65,  1,     16,     16,2,19910623,1823, 10.5000,-134.9983, 4909,    913.5,   5.1325,  34.5446,2,  34.5444,2,     31.0,2,  5.0560,     29.8,2,    86.67,2,    43.35,2,     0.00,2,     3.08,2,    0.001,2,   -0.003,2,    0.001,2,   1.9050,2,    15.50,2,   -999.0,9,  -999.00,9,   2321.0,2,   -999.0,9,  -999.0,  0.0090,   0.150,  -999.0,   0.002
   31WTTUNES_1,  P17C,    65,  1,     17,     17,2,19910623,1823, 10.5000,-134.9983, 4909,   1011.9,   4.7945,  34.5515,2,  34.5514,2,     41.2,2,  4.7116,     40.8,2,    92.05,2,    42.56,2,     0.01,2,     3.05,2,    0.002,2,    0.001,2,    0.005,2,   1.8590,2,    17.42,2,   -999.0,9,  -999.00,9,   2320.3,2,   2352.8,2,  -999.0,-999.0000,-999.000,  -999.0,   0.002
   31WTTUNES_1,  P17C,    65,  1,     18,     18,2,19910623,1823, 10.5000,-134.9983, 4909,   1212.6,   4.0790,  34.5663,2,  34.5669,2,     54.6,2,  3.9845,     55.7,2,   106.73,2,    41.99,2,     0.01,2,     3.00,2,   -0.002,2,   -0.002,2,    0.006,2,-999.0000,5,    20.24,2,   -999.0,9,  -999.00,9,   2332.2,2,   -999.0,9,  -999.0,-999.0000,-999.000,  -999.0,   0.002
   31WTTUNES_1,  P17C,    65,  1,     19,     19,2,19910623,1823, 10.5000,-134.9983, 4909,   1416.9,   3.5306,  34.5837,2,  34.5820,2,     65.4,2,  3.4238,     65.2,2,   117.87,2,    41.31,2,     0.01,2,     2.95,2, -999.000,9, -999.000,9, -999.000,9,   1.8770,2,    21.16,2,   -999.0,9,  -999.00,9,   2339.5,2,   -999.0,9,  -999.0,-999.0000,-999.000,  -999.0,-999.000
   31WTTUNES_1,  P17C,    65,  1,     20,     20,2,19910623,1823, 10.5000,-134.9983, 4909,   1618.3,   3.0134,  34.6002,2,  34.5982,2,     74.4,2,  2.8954,     75.2,2,   129.75,2,    40.70,2,     0.01,2,     2.89,2, -999.000,9, -999.000,9, -999.000,9,   1.8950,2,    23.85,2,   -999.0,9,  -999.00,9,   2345.3,2,   -999.0,9,  -999.0,-999.0000,-999.000,  -999.0,-999.000
   31WTTUNES_1,  P17C,    65,  1,     21,     21,2,19910623,1823, 10.5000,-134.9983, 4909,   1810.3,   2.5974,  34.6184,2,  34.6162,2,     83.7,2,  2.4683,     83.3,2,   139.22,2,    40.30,2,     0.01,2,     2.84,2, -999.000,9, -999.000,9, -999.000,9,   1.9170,2,    25.00,2,   -999.0,9,  -999.00,9,   2350.9,2,   -999.0,9,  -999.0,-999.0000,-999.000,  -999.0,-999.000
   31WTTUNES_1,  P17C,    65,  1,     22,     22,3,19910623,1823, 10.5000,-134.9983, 4909,   2020.5,   2.2593,  34.6369,2,  34.6295,4,     91.6,2,  2.1171,     91.8,2,   147.01,2,    39.74,2,     0.01,2,     2.79,2, -999.000,9, -999.000,9, -999.000,9,   1.9170,2,    27.58,2,   -999.0,9,  -999.00,9,   2352.9,2,   -999.0,9,  -999.0,-999.0000,-999.000,  -999.0,-999.000
   31WTTUNES_1,  P17C,    65,  1,     23,     23,2,19910623,1823, 10.5000,-134.9983, 4909,   2191.4,   2.0841,  34.6465,2,  34.6444,2,     98.4,2,  1.9299,     98.5,2,   150.70,2,    39.34,2,     0.01,2,     2.74,2, -999.000,9, -999.000,9, -999.000,9,-999.0000,5,    29.90,2,   -999.0,9,  -999.00,9,   2353.2,2,   2423.1,2,  -999.0,-999.0000,-999.000,  -999.0,-999.000
   31WTTUNES_1,  P17C,    65,  1,     24,     24,2,19910623,1823, 10.5000,-134.9983, 4909,   2366.3,   1.9654,  34.6560,2,  34.6534,2,    104.3,2,  1.7978,    104.5,2,   153.46,2,    39.22,2,     0.01,2,     2.70,2, -999.000,9, -999.000,9, -999.000,9,   1.9290,2,    30.80,2,   -999.0,9,  -999.00,9,   2352.7,2,   -999.0,9,  -999.0,-999.0000,-999.000,  -999.0,-999.000
   31WTTUNES_1,  P17C,    65,  1,     25,     25,2,19910623,1823, 10.5000,-134.9983, 4909,   2530.7,   1.8986,  34.6601,2,  34.6589,2,    109.1,2,  1.7174,    109.8,2,   154.91,2,    38.93,2,     0.01,2,     2.68,2, -999.000,9, -999.000,9, -999.000,9,   1.9360,2,    30.96,2,   -999.0,9,  -999.00,9,   2352.8,2,   -999.0,9,  -999.0,-999.0000,-999.000,  -999.0,-999.000
   31WTTUNES_1,  P17C,    65,  1,     26,     26,2,19910623,1823, 10.5000,-134.9983, 4909,   2694.7,   1.8398,  34.6650,2,  34.6635,2,    113.0,2,  1.6446,    113.5,2,   156.19,2,    38.81,2,     0.00,2,     2.66,2, -999.000,9, -999.000,9, -999.000,9,   1.9370,2,    31.49,2,   -999.0,9,  -999.00,9,   2352.1,2,   -999.0,9,  -999.0,-999.0000,-999.000,  -999.0,-999.000
   31WTTUNES_1,  P17C,    65,  1,     27,     27,2,19910623,1823, 10.5000,-134.9983, 4909,   2868.0,   1.7768,  34.6682,2,  34.6678,2,    116.4,2,  1.5666,    115.6,2,   158.57,3,    38.57,2,     0.00,2,     2.64,2, -999.000,9, -999.000,9, -999.000,9,   1.9340,2,    30.67,2,   -999.0,9,  -999.00,9,   2352.1,2,   -999.0,9,  -999.0,-999.0000,-999.000,  -999.0,-999.000
   31WTTUNES_1,  P17C,    65,  1,     28,     28,2,19910623,1823, 10.5000,-134.9983, 4909,   3041.2,   1.7174,  34.6723,2,  34.6701,2,    121.3,2,  1.4918,    121.2,2,   157.27,3,    37.97,2,     0.00,2,     2.61,2, -999.000,9, -999.000,9, -999.000,9,   1.9280,2,    28.31,2,   -999.0,9,  -999.00,9,   2349.4,2,   -999.0,9,  -999.0,-999.0000,-999.000,  -999.0,-999.000
   31WTTUNES_1,  P17C,    65,  1,     29,     29,2,19910623,1823, 10.5000,-134.9983, 4909,   3245.0,   1.6363,  34.6763,2,  34.6746,2,    128.0,2,  1.3926,    127.6,2,   158.70,2,    37.68,2,     0.01,2,     2.58,2, -999.000,9, -999.000,9, -999.000,9,   1.9220,2,    25.11,2,   -999.0,9,  -999.00,9,   -999.0,9,   -999.0,9,  -999.0,-999.0000,-999.000,  -999.0,-999.000
   31WTTUNES_1,  P17C,    65,  1,     30,     30,2,19910623,1823, 10.5000,-134.9983, 4909,   3498.1,   1.5674,  34.6789,2,  34.6759,3,    134.0,2,  1.2997,    134.3,2,   159.60,2,    37.18,2,     0.01,2,     2.55,2, -999.000,9, -999.000,9, -999.000,9,   1.9140,2,    21.59,2,   -999.0,9,  -999.00,9,   2337.5,2,   2433.7,2,  -999.0,-999.0000,-999.000,  -999.0,-999.000
   31WTTUNES_1,  P17C,    65,  1,     31,     31,2,19910623,1823, 10.5000,-134.9983, 4909,   3755.0,   1.4943,  34.6828,2,  34.6800,3,    144.1,2,  1.2018,    143.9,2,   156.40,2,    36.53,2,     0.01,2,     2.50,2, -999.000,9, -999.000,9, -999.000,9,   1.9130,2,    18.46,2,   -999.0,9,  -999.00,9,   2327.0,2,   -999.0,9,  -999.0,-999.0000,-999.000,  -999.0,-999.000
   31WTTUNES_1,  P17C,    65,  1,     32,     32,2,19910623,1823, 10.5000,-134.9983, 4909,   4014.2,   1.4237,  34.6886,2,  34.6860,3,    155.8,2,  1.1053,    156.6,2,   148.74,2,    35.56,2,     0.00,2,     2.42,2, -999.000,9, -999.000,9, -999.000,9,   1.9010,2,    16.39,2,   -999.0,9,  -999.00,9,   2315.6,2,   -999.0,9,  -999.0,-999.0000,-999.000,  -999.0,-999.000
   31WTTUNES_1,  P17C,    65,  1,     33,     33,2,19910623,1823, 10.5000,-134.9983, 4909,   4268.2,   1.4100,  34.6910,2,  34.6885,3,    161.4,2,  1.0640,    161.7,2,   145.52,2,    35.05,2,     0.00,2,     2.40,2, -999.000,9, -999.000,9, -999.000,9,-999.0000,5,    15.75,2,   -999.0,9,  -999.00,9,   2310.5,2,   -999.0,9,  -999.0,-999.0000,-999.000,  -999.0,-999.000
   31WTTUNES_1,  P17C,    65,  1,     34,     34,2,19910623,1823, 10.5000,-134.9983, 4909,   4523.3,   1.4237,  34.6923,2,  34.6886,3,    163.5,2,  1.0483,    164.1,2,   144.19,2,    34.93,2,     0.00,2,     2.39,2,   -0.002,2,    0.000,2, -999.000,9,   1.8950,2,    14.54,2,   -999.0,9,  -999.00,9,   2310.0,2,   -999.0,9,  -999.0,-999.0000,-999.000,  -999.0,-999.000
   31WTTUNES_1,  P17C,    65,  1,     35,     35,2,19910623,1823, 10.5000,-134.9983, 4909,   4786.8,   1.4475,  34.6927,2,  34.6896,3,    165.2,2,  1.0406,    164.9,2,   143.41,2,    34.75,2,     0.00,2,     2.38,2,   -0.001,2,    0.000,2, -999.000,9,   1.8970,2,    15.39,2,   -999.0,9,  -999.00,9,   2306.6,2,   -999.0,9,  -999.0,-999.0000,-999.000,  -999.0,-999.000
   31WTTUNES_1,  P17C,    65,  1,     36,     36,2,19910623,1823, 10.5000,-134.9983, 4909,   5011.2,   1.4705,  34.6928,2,  34.6893,3,   -999.0,9,  1.0359,    166.5,2,   143.75,2,    34.94,2,     0.00,2,     2.38,2,    0.000,2,    0.000,2, -999.000,9,   1.8920,2,    15.57,2,   -999.0,9,  -999.00,9,   2305.0,2,   2421.4,2,  -999.0,-999.0000,-999.000,  -999.0,-999.000