BOTTLE,20220819CCHSIOAMB
EXPOCODE,SECT_ID,STNNBR,CASTNO,SAMPNO,BTLNBR,BTLNBR_FLAG_W,DATE,TIME,LATITUDE,LONGITUDE,DEPTH,CTDPRS,CTDTMP,CTDSAL,CTDSAL_FLAG_W,SALNTY,SALNTY_FLAG_W,CTDOXY,CTDOXY_FLAG_W,THETA,OXYGEN,OXYGEN_FLAG_W,SILCAT,SILCAT_FLAG_W,NITRAT,NITRAT_FLAG_W,NITRIT,NITRIT_FLAG_W,PHSPHT,PHSPHT_FLAG_W,CFC-11,CFC-11_FLAG_W,CFC-12,CFC-12_FLAG_W,TRITUM,TRITUM_FLAG_W,HELIUM,HELIUM_FLAG_W,DELHE3,DELHE3_FLAG_W,DELC14,DELC14_FLAG_W,DELC13,DELC13_FLAG_W,TCARBN,TCARBN_FLAG_W,ALKALI,ALKALI_FLAG_W,C14ERR,HELIER,DELHER,C13ERR,TRITER
,,,,,,,,,,,,DBAR,ITS-90,PSS-78,,PSS-78,,UMOL/KG,,DEG C,UMOL/KG,,UMOL/KG,,UMOL/KG,,UMOL/KG,,UMOL/KG,,PMOL/KG,,PMOL/KG,,TU,,NMOL/KG,,PERCNT,,/MILLE,,/MILLE,,UMOL/KG,,UMOL/KG,,/MILLE,NMOL/KG,PERCNT,/MILLE,TU
   31WTTUNES_1,  P17C,    47,  1,      1,      1,2,19910618,1134, 19.5000,-135.0000, 5274,      0.4,  22.4441,  34.7352,2,  34.7392,2,   -999.0,9, 22.4440,    225.1,2,     1.77,2,     0.14,2,     0.00,2,     0.14,2, -999.000,9, -999.000,9, -999.000,9,-999.0000,9,  -999.00,9,   -999.0,9,  -999.00,9,   1976.7,2,   2298.9,2,  -999.0,-999.0000,-999.000,  -999.0,-999.000
   31WTTUNES_1,  P17C,    47,  1,      2,      2,2,19910618,1134, 19.5000,-135.0000, 5274,     66.9,  21.1212,  34.8597,2,  34.8627,2,    231.9,2, 21.1083,    230.3,2,     1.77,2,     0.13,2,     0.00,2,     0.14,2, -999.000,9, -999.000,9, -999.000,9,-999.0000,9,  -999.00,9,   -999.0,9,  -999.00,9,   1999.3,2,   2300.6,2,  -999.0,-999.0000,-999.000,  -999.0,-999.000
   31WTTUNES_1,  P17C,    47,  1,      3,      3,2,19910618,1134, 19.5000,-135.0000, 5274,     96.5,  20.3889,  34.8805,2,  34.8686,2,    229.9,2, 20.3709,    227.0,2,     1.76,2,     0.13,2,     0.00,2,     0.15,2, -999.000,9, -999.000,9, -999.000,9,-999.0000,9,  -999.00,9,   -999.0,9,  -999.00,9,   2010.1,2,   2313.1,2,  -999.0,-999.0000,-999.000,  -999.0,-999.000
   31WTTUNES_1,  P17C,    47,  1,      4,      4,2,19910618,1134, 19.5000,-135.0000, 5274,    121.7,  19.3693,  34.7920,2,  34.7903,2,    223.3,2, 19.3474,    215.1,2,     1.94,2,     0.19,2,     0.13,2,     0.19,2, -999.000,9, -999.000,9, -999.000,9,-999.0000,9,  -999.00,9,   -999.0,9,  -999.00,9,   2031.0,2,   -999.0,9,  -999.0,-999.0000,-999.000,  -999.0,-999.000
   31WTTUNES_1,  P17C,    47,  1,      5,      5,2,19910618,1134, 19.5000,-135.0000, 5274,    161.1,  17.5847,  34.6681,2,  34.6602,2,    206.9,2, 17.5576,    200.5,2,     3.56,2,     2.84,2,     0.02,2,     0.34,2, -999.000,9, -999.000,9, -999.000,9,-999.0000,9,  -999.00,9,   -999.0,9,  -999.00,9,   2046.4,2,   2294.3,2,  -999.0,-999.0000,-999.000,  -999.0,-999.000
   31WTTUNES_1,  P17C,    47,  1,      6,      6,2,19910618,1134, 19.5000,-135.0000, 5274,    201.8,  14.7023,  34.3347,2,  34.3117,2,    184.4,2, 14.6723,    186.4,2,     6.98,2,     7.55,2,     0.01,2,     0.66,2, -999.000,9, -999.000,9, -999.000,9,-999.0000,9,  -999.00,9,   -999.0,9,  -999.00,9,   2061.1,2,   2268.4,2,  -999.0,-999.0000,-999.000,  -999.0,-999.000
   31WTTUNES_1,  P17C,    47,  1,      7,      7,2,19910618,1134, 19.5000,-135.0000, 5274,    242.9,  11.4708,  34.0564,2,  34.0529,2,    163.0,2, 11.4403,    171.3,2,    14.90,2,    14.91,2,     0.00,2,     1.15,2, -999.000,9, -999.000,9, -999.000,9,-999.0000,9,  -999.00,9,   -999.0,9,  -999.00,9,   2102.0,2,   -999.0,9,  -999.0,-999.0000,-999.000,  -999.0,-999.000
   31WTTUNES_1,  P17C,    47,  1,      8,      8,2,19910618,1134, 19.5000,-135.0000, 5274,    287.8,   9.7894,  34.1595,2,  34.1593,2,    124.3,2,  9.7567,    133.7,2,    27.32,2,    22.78,2,     0.00,2,     1.73,2, -999.000,9, -999.000,9, -999.000,9,-999.0000,9,  -999.00,9,   -999.0,9,  -999.00,9,   2161.2,2,   2267.8,2,  -999.0,-999.0000,-999.000,  -999.0,-999.000
   31WTTUNES_1,  P17C,    47,  1,      9,      9,2,19910618,1134, 19.5000,-135.0000, 5274,    333.8,   8.3853,  34.1341,2,  34.1474,2,    114.2,2,  8.3507,    104.7,2,    39.74,2,    27.37,2,     0.00,2,     2.09,2, -999.000,9, -999.000,9, -999.000,9,-999.0000,9,  -999.00,9,   -999.0,9,  -999.00,9,   2199.0,2,   -999.0,9,  -999.0,-999.0000,-999.000,  -999.0,-999.000
   31WTTUNES_1,  P17C,    47,  1,     10,     10,2,19910618,1134, 19.5000,-135.0000, 5274,    384.5,   8.0325,  34.2919,2,  34.2950,2,     45.6,2,  7.9934,     43.9,2,    50.71,2,    31.81,2,     0.00,2,     2.58,2, -999.000,9, -999.000,9, -999.000,9,-999.0000,9,  -999.00,9,   -999.0,9,  -999.00,9,   2255.6,2,   2298.8,2,  -999.0,-999.0000,-999.000,  -999.0,-999.000
   31WTTUNES_1,  P17C,    47,  1,     11,     11,2,19910618,1134, 19.5000,-135.0000, 5274,    444.7,   7.4597,  34.3287,2,  34.3286,2,     26.7,2,  7.4162,     26.6,2,    58.27,2,    34.74,2,     0.00,2,     2.77,2, -999.000,9, -999.000,9, -999.000,9,-999.0000,9,  -999.00,9,   -999.0,9,  -999.00,9,   2276.7,2,   -999.0,9,  -999.0,-999.0000,-999.000,  -999.0,-999.000
   31WTTUNES_1,  P17C,    47,  1,     12,     12,2,19910618,1134, 19.5000,-135.0000, 5274,    504.5,   6.8669,  34.3771,2,  34.3786,2,     15.1,2,  6.8196,     14.4,2,    67.07,2,    37.30,2,     0.00,2,     2.93,2, -999.000,9, -999.000,9, -999.000,9,-999.0000,9,  -999.00,9,   -999.0,9,  -999.00,9,   2295.5,2,   -999.0,9,  -999.0,-999.0000,-999.000,  -999.0,-999.000
   31WTTUNES_1,  P17C,    47,  1,     13,     13,2,19910618,1134, 19.5000,-135.0000, 5274,    606.9,   6.1073,  34.4220,2,  34.4259,2,     11.2,2,  6.0534,     11.5,2,    77.50,2,    40.01,2,     0.00,2,     3.05,2, -999.000,9, -999.000,9, -999.000,9,-999.0000,9,  -999.00,9,   -999.0,9,  -999.00,9,   2310.4,2,   2337.9,2,  -999.0,-999.0000,-999.000,  -999.0,-999.000
   31WTTUNES_1,  P17C,    47,  1,     14,     14,2,19910618,1134, 19.5000,-135.0000, 5274,    708.7,   5.4201,  34.4311,2,  34.4335,2,     16.6,2,  5.3603,     17.2,2,    87.03,2,    41.86,2,     0.00,2,     3.08,2, -999.000,9, -999.000,9, -999.000,9,-999.0000,9,  -999.00,9,   -999.0,9,  -999.00,9,   2318.0,2,   -999.0,9,  -999.0,-999.0000,-999.000,  -999.0,-999.000
   31WTTUNES_1,  P17C,    47,  1,     15,     15,2,19910618,1134, 19.5000,-135.0000, 5274,    811.2,   4.9631,  34.4799,2,  34.4795,2,     19.2,2,  4.8969,     20.8,2,    94.93,2,    42.99,2,     0.00,2,     3.11,2, -999.000,9, -999.000,9, -999.000,9,-999.0000,9,  -999.00,9,   -999.0,9,  -999.00,9,   2327.4,2,   -999.0,9,  -999.0,-999.0000,-999.000,  -999.0,-999.000
   31WTTUNES_1,  P17C,    47,  1,     16,     16,2,19910618,1134, 19.5000,-135.0000, 5274,    914.4,   4.5118,  34.4994,2,  34.5005,2,     23.8,2,  4.4396,     23.8,2,   103.19,2,    43.37,2,     0.00,2,     3.12,2, -999.000,9, -999.000,9, -999.000,9,-999.0000,9,  -999.00,9,   -999.0,9,  -999.00,9,   2339.0,2,   -999.0,9,  -999.0,-999.0000,-999.000,  -999.0,-999.000
   31WTTUNES_1,  P17C,    47,  1,     17,     17,2,19910618,1134, 19.5000,-135.0000, 5274,   1006.6,   4.2187,  34.5171,2,  34.5193,2,     25.3,2,  4.1408,     25.9,2,   109.47,2,    43.64,2,     0.00,2,     3.15,2, -999.000,9, -999.000,9, -999.000,9,-999.0000,9,  -999.00,9,   -999.0,9,  -999.00,9,   2346.4,2,   2372.4,2,  -999.0,-999.0000,-999.000,  -999.0,-999.000
   31WTTUNES_1,  P17C,    47,  1,     18,     18,2,19910618,1134, 19.5000,-135.0000, 5274,   1212.5,   3.5784,  34.5511,2,  34.5516,2,     38.8,2,  3.4886,     38.6,2,   123.30,2,    43.25,2,     0.00,2,     3.11,2, -999.000,9, -999.000,9, -999.000,9,-999.0000,9,  -999.00,9,   -999.0,9,  -999.00,9,   2354.6,2,   -999.0,9,  -999.0,-999.0000,-999.000,  -999.0,-999.000
   31WTTUNES_1,  P17C,    47,  1,     19,     19,2,19910618,1134, 19.5000,-135.0000, 5274,   1412.9,   3.0720,  34.5763,2,  34.5785,2,     51.2,2,  2.9705,     51.4,2,   133.89,2,    42.55,2,     0.00,2,     3.03,2, -999.000,9, -999.000,9, -999.000,9,-999.0000,9,  -999.00,9,   -999.0,9,  -999.00,9,   2357.7,2,   -999.0,9,  -999.0,-999.0000,-999.000,  -999.0,-999.000
   31WTTUNES_1,  P17C,    47,  1,     20,     20,2,19910618,1134, 19.5000,-135.0000, 5274,   1612.4,   2.6970,  34.5984,2,  34.5969,2,     64.3,2,  2.5834,     63.5,2,   141.96,2,    41.90,2,     0.00,2,     2.96,2, -999.000,9, -999.000,9, -999.000,9,-999.0000,9,  -999.00,9,   -999.0,9,  -999.00,9,   -999.0,9,   -999.0,9,  -999.0,-999.0000,-999.000,  -999.0,-999.000
   31WTTUNES_1,  P17C,    47,  1,     21,     21,2,19910618,1134, 19.5000,-135.0000, 5274,   1819.7,   2.3399,  34.6170,2,  34.6158,2,     80.0,2,  2.2137,     78.8,2,   148.42,2,    40.89,2,     0.00,2,     2.85,2, -999.000,9, -999.000,9, -999.000,9,-999.0000,9,  -999.00,9,   -999.0,9,  -999.00,9,   -999.0,9,   -999.0,9,  -999.0,-999.0000,-999.000,  -999.0,-999.000
   31WTTUNES_1,  P17C,    47,  1,     22,     22,2,19910618,1134, 19.5000,-135.0000, 5274,   2026.0,   2.0976,  34.6294,2,  34.6276,2,     89.9,2,  1.9575,     90.7,2,   152.71,2,    39.94,2,     0.00,2,     2.80,2, -999.000,9, -999.000,9, -999.000,9,-999.0000,9,  -999.00,9,   -999.0,9,  -999.00,9,   -999.0,9,   -999.0,9,  -999.0,-999.0000,-999.000,  -999.0,-999.000
   31WTTUNES_1,  P17C,    47,  1,     23,     23,2,19910618,1134, 19.5000,-135.0000, 5274,   2227.5,   1.9375,  34.6427,2,  34.6409,2,     99.4,2,  1.7826,     99.3,2,   154.85,2,    39.36,2,     0.00,2,     2.78,2, -999.000,9, -999.000,9, -999.000,9,-999.0000,9,  -999.00,9,   -999.0,9,  -999.00,9,   -999.0,9,   2426.1,2,  -999.0,-999.0000,-999.000,  -999.0,-999.000
   31WTTUNES_1,  P17C,    47,  1,     24,     24,2,19910618,1134, 19.5000,-135.0000, 5274,   2430.2,   1.8211,  34.6492,2,  34.6480,2,    105.8,2,  1.6504,    105.8,2,   158.06,2,    38.94,2,     0.00,2,     2.69,2, -999.000,9, -999.000,9, -999.000,9,-999.0000,9,  -999.00,9,   -999.0,9,  -999.00,9,   -999.0,9,   -999.0,9,  -999.0,-999.0000,-999.000,  -999.0,-999.000
   31WTTUNES_1,  P17C,    47,  1,     25,     25,2,19910618,1134, 19.5000,-135.0000, 5274,   2630.4,   1.7268,  34.6583,2,  34.6570,2,    111.7,2,  1.5399,    111.9,2,   159.66,2,    38.47,2,     0.00,2,     2.66,2, -999.000,9, -999.000,9, -999.000,9,-999.0000,9,  -999.00,9,   -999.0,9,  -999.00,9,   -999.0,9,   -999.0,9,  -999.0,-999.0000,-999.000,  -999.0,-999.000
   31WTTUNES_1,  P17C,    47,  1,     26,     26,2,19910618,1134, 19.5000,-135.0000, 5274,   2836.6,   1.6426,  34.6629,2,  34.6637,2,    118.7,2,  1.4382,    118.3,2,   160.71,2,    38.10,2,     0.00,2,     2.62,2, -999.000,9, -999.000,9, -999.000,9,-999.0000,9,  -999.00,9,   -999.0,9,  -999.00,9,   -999.0,9,   -999.0,9,  -999.0,-999.0000,-999.000,  -999.0,-999.000
   31WTTUNES_1,  P17C,    47,  1,     27,     27,2,19910618,1134, 19.5000,-135.0000, 5274,   3043.5,   1.5823,  34.6688,2,  34.6694,2,    124.7,2,  1.3596,    125.1,2,   161.95,2,    37.79,2,     0.00,2,     2.58,2, -999.000,9, -999.000,9, -999.000,9,-999.0000,9,  -999.00,9,   -999.0,9,  -999.00,9,   2342.6,2,   -999.0,9,  -999.0,-999.0000,-999.000,  -999.0,-999.000
   31WTTUNES_1,  P17C,    47,  1,     28,     28,2,19910618,1134, 19.5000,-135.0000, 5274,   3297.2,   1.5292,  34.6765,2,  34.6747,2,    132.0,2,  1.2828,    131.4,2,   161.57,2,    37.27,2,     0.00,2,     2.55,2, -999.000,9, -999.000,9, -999.000,9,-999.0000,9,  -999.00,9,   -999.0,9,  -999.00,9,   2340.5,2,   -999.0,9,  -999.0,-999.0000,-999.000,  -999.0,-999.000
   31WTTUNES_1,  P17C,    47,  1,     29,     29,2,19910618,1134, 19.5000,-135.0000, 5274,   3547.6,   1.4986,  34.6806,2,  34.6783,2,    137.4,2,  1.2276,    137.4,2,   160.29,2,    36.90,2,     0.00,2,     2.53,2, -999.000,9, -999.000,9, -999.000,9,-999.0000,9,  -999.00,9,   -999.0,9,  -999.00,9,   2334.0,2,   2426.7,2,  -999.0,-999.0000,-999.000,  -999.0,-999.000
   31WTTUNES_1,  P17C,    47,  1,     30,     30,2,19910618,1134, 19.5000,-135.0000, 5274,   3808.7,   1.4840,  34.6827,2,  34.6810,2,    142.7,2,  1.1861,    142.2,2,   158.11,2,    36.49,2,     0.00,2,     2.49,2, -999.000,9, -999.000,9, -999.000,9,-999.0000,9,  -999.00,9,   -999.0,9,  -999.00,9,   2330.1,2,   -999.0,9,  -999.0,-999.0000,-999.000,  -999.0,-999.000
   31WTTUNES_1,  P17C,    47,  1,     31,     31,2,19910618,1134, 19.5000,-135.0000, 5274,   4063.6,   1.4680,  34.6855,2,  34.6849,2,    149.4,2,  1.1431,    148.7,2,   154.32,2,    35.87,2,     0.00,2,     2.45,2, -999.000,9, -999.000,9, -999.000,9,-999.0000,9,  -999.00,9,   -999.0,9,  -999.00,9,   2324.9,2,   -999.0,9,  -999.0,-999.0000,-999.000,  -999.0,-999.000
   31WTTUNES_1,  P17C,    47,  1,     32,     32,2,19910618,1134, 19.5000,-135.0000, 5274,   4319.3,   1.4449,  34.6887,2,  34.6885,2,    156.8,2,  1.0922,    157.3,2,   148.91,2,    35.56,2,     0.00,2,     2.41,2, -999.000,9, -999.000,9, -999.000,9,-999.0000,9,  -999.00,9,   -999.0,9,  -999.00,9,   2316.9,2,   -999.0,9,  -999.0,-999.0000,-999.000,  -999.0,-999.000
   31WTTUNES_1,  P17C,    47,  1,     33,     33,2,19910618,1134, 19.5000,-135.0000, 5274,   4575.1,   1.4334,  34.6917,2,  34.6903,2,    163.0,2,  1.0518,    163.3,2,   144.05,2,    35.15,2,     0.00,2,     2.38,2, -999.000,9, -999.000,9, -999.000,9,-999.0000,9,  -999.00,9,   -999.0,9,  -999.00,9,   2306.6,2,   -999.0,9,  -999.0,-999.0000,-999.000,  -999.0,-999.000
   31WTTUNES_1,  P17C,    47,  1,     34,     34,2,19910618,1134, 19.5000,-135.0000, 5274,   4831.4,   1.4426,  34.6944,2,  34.6932,2,    166.3,2,  1.0306,    166.5,2,   141.69,2,    34.79,2,     0.00,2,     2.35,2, -999.000,9, -999.000,9, -999.000,9,-999.0000,9,  -999.00,9,   -999.0,9,  -999.00,9,   2304.9,2,   -999.0,9,  -999.0,-999.0000,-999.000,  -999.0,-999.000
   31WTTUNES_1,  P17C,    47,  1,     35,     35,2,19910618,1134, 19.5000,-135.0000, 5274,   5092.5,   1.4654,  34.6949,2,  34.6936,2,    167.9,2,  1.0210,    168.0,2,   140.24,2,    34.74,2,     0.00,2,     2.35,2, -999.000,9, -999.000,9, -999.000,9,-999.0000,9,  -999.00,9,   -999.0,9,  -999.00,9,   2302.4,2,   -999.0,9,  -999.0,-999.0000,-999.000,  -999.0,-999.000
   31WTTUNES_1,  P17C,    47,  1,     36,     36,2,19910618,1134, 19.5000,-135.0000, 5274,   5383.4,   1.5005,  34.6951,2,  34.6924,2,   -999.0,9,  1.0187,    168.1,2,   140.40,2,    34.79,2,     0.00,2,     2.35,2, -999.000,9, -999.000,9, -999.000,9,-999.0000,9,  -999.00,9,   -999.0,9,  -999.00,9,   2304.2,2,   2392.9,2,  -999.0,-999.0000,-999.000,  -999.0,-999.000