BOTTLE,20220819CCHSIOAMB
EXPOCODE,SECT_ID,STNNBR,CASTNO,SAMPNO,BTLNBR,BTLNBR_FLAG_W,DATE,TIME,LATITUDE,LONGITUDE,DEPTH,CTDPRS,CTDTMP,CTDSAL,CTDSAL_FLAG_W,SALNTY,SALNTY_FLAG_W,CTDOXY,CTDOXY_FLAG_W,THETA,OXYGEN,OXYGEN_FLAG_W,SILCAT,SILCAT_FLAG_W,NITRAT,NITRAT_FLAG_W,NITRIT,NITRIT_FLAG_W,PHSPHT,PHSPHT_FLAG_W,CFC-11,CFC-11_FLAG_W,CFC-12,CFC-12_FLAG_W,TRITUM,TRITUM_FLAG_W,HELIUM,HELIUM_FLAG_W,DELHE3,DELHE3_FLAG_W,DELC14,DELC14_FLAG_W,DELC13,DELC13_FLAG_W,TCARBN,TCARBN_FLAG_W,ALKALI,ALKALI_FLAG_W,C14ERR,HELIER,DELHER,C13ERR,TRITER
,,,,,,,,,,,,DBAR,ITS-90,PSS-78,,PSS-78,,UMOL/KG,,DEG C,UMOL/KG,,UMOL/KG,,UMOL/KG,,UMOL/KG,,UMOL/KG,,PMOL/KG,,PMOL/KG,,TU,,NMOL/KG,,PERCNT,,/MILLE,,/MILLE,,UMOL/KG,,UMOL/KG,,/MILLE,NMOL/KG,PERCNT,/MILLE,TU
   31WTTUNES_1,  P17C,    75,  1,      1,      1,2,19910626,1910,  5.4950,-134.9950, 4560,      0.2,  28.8034,  34.5425,2,  34.5471,2,    204.7,3, 28.8033,    217.5,2,     3.16,2,     0.47,2,     0.03,2,     0.25,2,    1.569,2,    0.896,2, -999.000,9,-999.0000,9,  -999.00,9,   -999.0,9,  -999.00,9,   -999.0,9,   -999.0,9,  -999.0,-999.0000,-999.000,  -999.0,-999.000
   31WTTUNES_1,  P17C,    75,  1,      2,      2,2,19910626,1910,  5.4950,-134.9950, 4560,     36.4,  28.7584,  34.6538,2,  34.6600,2,    214.4,2, 28.7496,    211.5,2,     3.15,2,     0.71,2,     0.03,2,     0.27,2,    1.605,2,    0.877,2,    1.348,2,   1.7600,2,    -0.90,2,   -999.0,9,  -999.00,9,   -999.0,9,   -999.0,9,  -999.0,  0.0080,   0.150,  -999.0,   0.011
   31WTTUNES_1,  P17C,    75,  1,      3,      3,2,19910626,1910,  5.4950,-134.9950, 4560,     68.5,  28.2882,  34.8242,2,  34.8191,2,    219.2,2, 28.2719,    203.3,2,     3.14,2,     1.37,2,     0.12,2,     0.35,2,    1.640,2,    0.905,2,    1.338,2,   1.7540,2,    -0.69,2,   -999.0,9,  -999.00,9,   -999.0,9,   -999.0,9,  -999.0,  0.0080,   0.150,  -999.0,   0.012
   31WTTUNES_1,  P17C,    75,  1,      4,      4,2,19910626,1910,  5.4950,-134.9950, 4560,     87.7,  26.5987,  34.8682,2,  34.8470,2,    165.2,2, 26.5788,    162.6,2,     4.03,2,     5.60,2,     1.75,2,     0.53,2,    1.599,2,    0.910,2, -999.000,9,-999.0000,9,  -999.00,9,   -999.0,9,  -999.00,9,   -999.0,9,   -999.0,9,  -999.0,-999.0000,-999.000,  -999.0,-999.000
   31WTTUNES_1,  P17C,    75,  1,      5,      5,2,19910626,1910,  5.4950,-134.9950, 4560,    102.9,  22.7629,  34.8358,2,  34.8311,2,    139.1,2, 22.7421,    139.3,2,     6.36,2,     7.67,2,     0.76,2,     0.70,2,    1.552,2,    0.877,2,    1.747,2,   1.7730,2,     3.16,2,   -999.0,9,  -999.00,9,   -999.0,9,   -999.0,9,  -999.0,  0.0080,   0.150,  -999.0,   0.013
   31WTTUNES_1,  P17C,    75,  1,      6,      6,2,19910626,1910,  5.4950,-134.9950, 4560,    119.9,  18.7347,  34.7384,2,  34.7452,2,    118.0,2, 18.7136,    106.5,2,    12.66,2,    15.78,2,     0.06,2,     1.20,2,    1.310,2,    0.734,2, -999.000,9,-999.0000,9,  -999.00,9,   -999.0,9,  -999.00,9,   -999.0,9,   -999.0,9,  -999.0,-999.0000,-999.000,  -999.0,-999.000
   31WTTUNES_1,  P17C,    75,  1,      7,      7,2,19910626,1910,  5.4950,-134.9950, 4560,    129.4,  16.8279,  34.7054,2,  34.6809,2,    100.3,2, 16.8067,     93.9,2,    15.17,2,    18.20,2,     0.03,2,     1.38,2,    1.193,2,    0.643,2, -999.000,9,-999.0000,9,  -999.00,9,   -999.0,9,  -999.00,9,   -999.0,9,   -999.0,9,  -999.0,-999.0000,-999.000,  -999.0,-999.000
   31WTTUNES_1,  P17C,    75,  1,      8,      8,2,19910626,1910,  5.4950,-134.9950, 4560,    145.2,  13.9663,  34.6484,2,  34.6491,2,     58.3,2, 13.9455,     56.7,2,    22.72,2,    25.59,2,     0.02,2,     1.89,2,    0.737,2,    0.398,2,    1.283,2,   1.8360,2,     8.98,2,   -999.0,9,  -999.00,9,   -999.0,9,   -999.0,9,  -999.0,  0.0090,   0.150,  -999.0,   0.011
   31WTTUNES_1,  P17C,    75,  1,      9,      9,2,19910626,1910,  5.4950,-134.9950, 4560,    160.1,  12.3657,  34.6642,2,  34.6664,2,     42.9,2, 12.3445,     43.2,2,    27.39,2,    29.23,2,     0.01,2,     2.13,2,    0.446,2,    0.245,2, -999.000,9,-999.0000,9,  -999.00,9,   -999.0,9,  -999.00,9,   -999.0,9,   -999.0,9,  -999.0,-999.0000,-999.000,  -999.0,-999.000
   31WTTUNES_1,  P17C,    75,  1,     10,     10,2,19910626,1910,  5.4950,-134.9950, 4560,    194.6,  10.4553,  34.6397,2,  34.6399,2,     77.2,2, 10.4322,     75.0,2,    32.43,2,    28.87,2,     0.01,2,     2.08,2,    0.317,2,    0.174,2,    0.579,2,   1.8230,2,     8.09,2,   -999.0,9,  -999.00,9,   -999.0,9,   -999.0,9,  -999.0,  0.0090,   0.150,  -999.0,   0.008
   31WTTUNES_1,  P17C,    75,  1,     11,     11,2,19910626,1910,  5.4950,-134.9950, 4560,    229.0,  10.0874,  34.6810,2,  34.6820,2,     84.9,2, 10.0608,     82.6,2,    31.34,2,    29.02,2,     0.01,2,     2.06,2,    0.261,2,    0.149,2,    0.377,2,   1.8450,2,     6.96,2,   -999.0,9,  -999.00,9,   -999.0,9,   -999.0,9,  -999.0,  0.0090,   0.150,  -999.0,   0.006
   31WTTUNES_1,  P17C,    75,  1,     12,     12,2,19910626,1910,  5.4950,-134.9950, 4560,    301.3,   9.6366,  34.6764,2,  34.6785,2,     59.2,2,  9.6024,     54.7,2,    34.39,2,    32.69,2,     0.01,2,     2.30,2,    0.116,2,    0.067,2,    0.212,2,   1.8350,2,     6.54,2,   -999.0,9,  -999.00,9,   -999.0,9,   -999.0,9,  -999.0,  0.0090,   0.150,  -999.0,   0.005
   31WTTUNES_1,  P17C,    75,  1,     13,     13,2,19910626,1910,  5.4950,-134.9950, 4560,    408.8,   8.8969,  34.6455,2,  34.6484,2,     35.0,2,  8.8525,     37.6,2,    39.61,2,    35.71,2,     0.01,2,     2.52,2,    0.037,2,    0.026,2,    0.098,2,   1.8560,2,     6.41,2,   -999.0,9,  -999.00,9,   -999.0,9,   -999.0,9,  -999.0,  0.0090,   0.150,  -999.0,   0.003
   31WTTUNES_1,  P17C,    75,  1,     14,     14,2,19910626,1910,  5.4950,-134.9950, 4560,    509.3,   8.0273,  34.6099,2,  34.6113,2,     10.1,2,  7.9749,     10.2,2,    51.13,2,    38.61,2,     0.00,2,     2.91,2,    0.003,2,   -0.002,2, -999.000,9,-999.0000,9,  -999.00,9,   -999.0,9,  -999.00,9,   -999.0,9,   -999.0,9,  -999.0,-999.0000,-999.000,  -999.0,-999.000
   31WTTUNES_1,  P17C,    75,  1,     15,     15,2,19910626,1910,  5.4950,-134.9950, 4560,    604.0,   7.1187,  34.5785,2,  34.5805,2,     18.7,2,  7.0603,     18.3,2,    57.61,2,    40.80,2,     0.00,2,     2.99,2,    0.001,2,   -0.002,2, -999.000,9,-999.0000,9,  -999.00,9,   -999.0,9,  -999.00,9,   -999.0,9,   -999.0,9,  -999.0,-999.0000,-999.000,  -999.0,-999.000
   31WTTUNES_1,  P17C,    75,  1,     16,     16,2,19910626,1910,  5.4950,-134.9950, 4560,    703.5,   6.2831,  34.5592,2,  34.5622,2,     18.4,2,  6.2191,     19.5,2,    67.33,2,    42.53,2,     0.01,2,     3.08,2,    0.001,2,   -0.003,2, -999.000,9,-999.0000,9,  -999.00,9,   -999.0,9,  -999.00,9,   -999.0,9,   -999.0,9,  -999.0,-999.0000,-999.000,  -999.0,-999.000
   31WTTUNES_1,  P17C,    75,  1,     17,     17,2,19910626,1910,  5.4950,-134.9950, 4560,    804.7,   5.5265,  34.5512,2,  34.5536,2,     35.7,2,  5.4573,     37.0,2,    76.52,2,    42.53,2,     0.01,2,     3.05,2,   -0.003,2,   -0.002,2, -999.000,9,-999.0000,9,  -999.00,9,   -999.0,9,  -999.00,9,   -999.0,9,   -999.0,9,  -999.0,-999.0000,-999.000,  -999.0,-999.000
   31WTTUNES_1,  P17C,    75,  1,     18,     18,2,19910626,1910,  5.4950,-134.9950, 4560,    905.2,   5.0098,  34.5548,2,  34.5573,2,     43.2,2,  4.9349,     44.3,2,    85.70,2,    42.47,2,     0.01,2,     3.06,2,    0.000,2,    0.000,2, -999.000,9,-999.0000,9,  -999.00,9,   -999.0,9,  -999.00,9,   -999.0,9,   -999.0,9,  -999.0,-999.0000,-999.000,  -999.0,-999.000
   31WTTUNES_1,  P17C,    75,  1,     19,     19,2,19910626,1910,  5.4950,-134.9950, 4560,   1008.6,   4.5541,  34.5600,2,  34.5623,2,     53.2,2,  4.4733,     52.9,2,    94.34,2,    41.99,2,     0.00,2,     3.02,2,    0.002,2,   -0.002,2, -999.000,9,-999.0000,9,  -999.00,9,   -999.0,9,  -999.00,9,   -999.0,9,   -999.0,9,  -999.0,-999.0000,-999.000,  -999.0,-999.000
   31WTTUNES_1,  P17C,    75,  1,     20,     20,2,19910626,1910,  5.4950,-134.9950, 4560,   1215.9,   3.8984,  34.5777,2,  34.5774,2,     62.8,2,  3.8053,     61.9,2,   108.93,2,    41.60,2,     0.00,2,     3.01,2, -999.000,9, -999.000,9, -999.000,9,-999.0000,9,  -999.00,9,   -999.0,9,  -999.00,9,   -999.0,9,   -999.0,9,  -999.0,-999.0000,-999.000,  -999.0,-999.000
   31WTTUNES_1,  P17C,    75,  1,     21,     21,2,19910626,1910,  5.4950,-134.9950, 4560,   1424.9,   3.2748,  34.5965,2,  34.5971,2,     74.0,2,  3.1702,     72.8,2,   122.43,2,    40.90,2,     0.00,2,     2.94,2, -999.000,9, -999.000,9, -999.000,9,-999.0000,9,  -999.00,9,   -999.0,9,  -999.00,9,   -999.0,9,   -999.0,9,  -999.0,-999.0000,-999.000,  -999.0,-999.000
   31WTTUNES_1,  P17C,    75,  1,     22,     22,3,19910626,1910,  5.4950,-134.9950, 4560,   1623.2,   2.8641,  34.6118,2,  34.5902,4,     83.8,2,  2.7475,     83.6,2,   131.26,2,    40.25,2,     0.00,2,     2.88,2, -999.000,9, -999.000,9, -999.000,9,-999.0000,9,  -999.00,9,   -999.0,9,  -999.00,9,   -999.0,9,   -999.0,9,  -999.0,-999.0000,-999.000,  -999.0,-999.000
   31WTTUNES_1,  P17C,    75,  1,     23,     23,2,19910626,1910,  5.4950,-134.9950, 4560,   1824.1,   2.5073,  34.6265,2,  34.6279,2,     90.7,2,  2.3783,     90.5,2,   140.07,2,    39.93,2,     0.00,2,     2.83,2, -999.000,9, -999.000,9, -999.000,9,-999.0000,9,  -999.00,9,   -999.0,9,  -999.00,9,   -999.0,9,   -999.0,9,  -999.0,-999.0000,-999.000,  -999.0,-999.000
   31WTTUNES_1,  P17C,    75,  1,     24,     24,2,19910626,1910,  5.4950,-134.9950, 4560,   2027.0,   2.2445,  34.6419,2,  34.6435,2,     99.2,2,  2.1020,     98.1,2,   146.19,2,    39.44,2,     0.00,2,     2.79,2, -999.000,9, -999.000,9, -999.000,9,-999.0000,9,  -999.00,9,   -999.0,9,  -999.00,9,   -999.0,9,   -999.0,9,  -999.0,-999.0000,-999.000,  -999.0,-999.000
   31WTTUNES_1,  P17C,    75,  1,     25,     25,2,19910626,1910,  5.4950,-134.9950, 4560,   2202.0,   2.0746,  34.6508,2,  34.6531,2,    104.0,2,  1.9196,    103.9,2,   150.32,2,    39.01,2,     0.00,2,     2.75,2, -999.000,9, -999.000,9, -999.000,9,-999.0000,9,  -999.00,9,   -999.0,9,  -999.00,9,   -999.0,9,   -999.0,9,  -999.0,-999.0000,-999.000,  -999.0,-999.000
   31WTTUNES_1,  P17C,    75,  1,     26,     26,2,19910626,1910,  5.4950,-134.9950, 4560,   2368.2,   1.9657,  34.6574,2,  34.6596,2,    108.8,2,  1.7979,    108.4,2,   153.02,2,    38.69,2,     0.00,2,     2.72,2, -999.000,9, -999.000,9, -999.000,9,-999.0000,9,  -999.00,9,   -999.0,9,  -999.00,9,   -999.0,9,   -999.0,9,  -999.0,-999.0000,-999.000,  -999.0,-999.000
   31WTTUNES_1,  P17C,    75,  1,     27,     27,2,19910626,1910,  5.4950,-134.9950, 4560,   2520.2,   1.8907,  34.6624,2,  34.6642,2,    112.0,2,  1.7106,    111.3,2,   155.17,2,    38.42,2,     0.00,2,     2.71,2, -999.000,9, -999.000,9, -999.000,9,-999.0000,9,  -999.00,9,   -999.0,9,  -999.00,9,   -999.0,9,   -999.0,9,  -999.0,-999.0000,-999.000,  -999.0,-999.000
   31WTTUNES_1,  P17C,    75,  1,     28,     28,2,19910626,1910,  5.4950,-134.9950, 4560,   2686.8,   1.8408,  34.6666,2,  34.6677,2,    114.9,2,  1.6463,    114.2,2,   156.42,2,    38.21,2,     0.00,2,     2.69,2, -999.000,9, -999.000,9, -999.000,9,-999.0000,9,  -999.00,9,   -999.0,9,  -999.00,9,   -999.0,9,   -999.0,9,  -999.0,-999.0000,-999.000,  -999.0,-999.000
   31WTTUNES_1,  P17C,    75,  1,     29,     29,2,19910626,1910,  5.4950,-134.9950, 4560,   2869.5,   1.7898,  34.6690,2,  34.6709,2,    118.6,2,  1.5792,    116.2,2,   156.23,2,    37.94,2,     0.00,2,     2.66,2, -999.000,9, -999.000,9, -999.000,9,-999.0000,9,  -999.00,9,   -999.0,9,  -999.00,9,   -999.0,9,   -999.0,9,  -999.0,-999.0000,-999.000,  -999.0,-999.000
   31WTTUNES_1,  P17C,    75,  1,     30,     30,2,19910626,1910,  5.4950,-134.9950, 4560,   3043.9,   1.7169,  34.6727,2,  34.6750,2,    123.2,2,  1.4911,    123.6,2,   156.58,2,    37.67,2,     0.00,2,     2.62,2, -999.000,9, -999.000,9, -999.000,9,-999.0000,9,  -999.00,9,   -999.0,9,  -999.00,9,   -999.0,9,   -999.0,9,  -999.0,-999.0000,-999.000,  -999.0,-999.000
   31WTTUNES_1,  P17C,    75,  1,     31,     31,2,19910626,1910,  5.4950,-134.9950, 4560,   3291.8,   1.5939,  34.6790,2,  34.6809,2,    135.3,2,  1.3465,    134.8,2,   155.12,2,    37.03,2,     0.00,2,     2.57,2, -999.000,9, -999.000,9, -999.000,9,-999.0000,9,  -999.00,9,   -999.0,9,  -999.00,9,   -999.0,9,   -999.0,9,  -999.0,-999.0000,-999.000,  -999.0,-999.000
   31WTTUNES_1,  P17C,    75,  1,     32,     32,2,19910626,1910,  5.4950,-134.9950, 4560,   3544.5,   1.5090,  34.6830,2,  34.6857,2,    146.0,2,  1.2381,    145.2,2,   152.77,2,    36.40,2,     0.00,2,     2.52,2, -999.000,9, -999.000,9, -999.000,9,-999.0000,9,  -999.00,9,   -999.0,9,  -999.00,9,   -999.0,9,   -999.0,9,  -999.0,-999.0000,-999.000,  -999.0,-999.000
   31WTTUNES_1,  P17C,    75,  1,     33,     33,2,19910626,1910,  5.4950,-134.9950, 4560,   3792.3,   1.4490,  34.6879,2,  34.6898,2,    154.3,2,  1.1538,    153.8,2,   149.51,2,    35.76,2,     0.00,2,     2.47,2, -999.000,9, -999.000,9,   -0.006,2,-999.0000,9,  -999.00,9,   -999.0,9,  -999.00,9,   -999.0,9,   -999.0,9,  -999.0,-999.0000,-999.000,  -999.0,   0.001
   31WTTUNES_1,  P17C,    75,  1,     34,     34,2,19910626,1910,  5.4950,-134.9950, 4560,   4049.9,   1.4291,  34.6901,2,  34.6908,2,    158.5,2,  1.1067,    158.1,2,   148.06,2,    35.55,2,     0.00,2,     2.45,2, -999.000,9, -999.000,9,    0.002,2,-999.0000,9,  -999.00,9,   -999.0,9,  -999.00,9,   -999.0,9,   -999.0,9,  -999.0,-999.0000,-999.000,  -999.0,   0.001
   31WTTUNES_1,  P17C,    75,  1,     35,     35,2,19910626,1910,  5.4950,-134.9950, 4560,   4306.0,   1.4251,  34.6904,2,  34.6928,2,    162.0,2,  1.0744,    161.2,2,   146.97,2,    35.34,2,     0.00,2,     2.43,2,   -0.004,2,    0.000,2,    0.002,2,-999.0000,9,  -999.00,9,   -999.0,9,  -999.00,9,   -999.0,9,   -999.0,9,  -999.0,-999.0000,-999.000,  -999.0,   0.001
   31WTTUNES_1,  P17C,    75,  1,     36,     36,2,19910626,1910,  5.4950,-134.9950, 4560,   4639.0,   1.4261,  34.6921,2,  34.6946,2,   -999.0,9,  1.0372,    164.8,2,   144.25,2,    34.97,2,     0.00,2,     2.40,2,    0.000,2,    0.000,2, -999.000,9,-999.0000,9,  -999.00,9,   -999.0,9,  -999.00,9,   -999.0,9,   -999.0,9,  -999.0,-999.0000,-999.000,  -999.0,-999.000