BOTTLE,20220819CCHSIOAMB
EXPOCODE,SECT_ID,STNNBR,CASTNO,SAMPNO,BTLNBR,BTLNBR_FLAG_W,DATE,TIME,LATITUDE,LONGITUDE,DEPTH,CTDPRS,CTDTMP,CTDSAL,CTDSAL_FLAG_W,SALNTY,SALNTY_FLAG_W,CTDOXY,CTDOXY_FLAG_W,THETA,OXYGEN,OXYGEN_FLAG_W,SILCAT,SILCAT_FLAG_W,NITRAT,NITRAT_FLAG_W,NITRIT,NITRIT_FLAG_W,PHSPHT,PHSPHT_FLAG_W,CFC-11,CFC-11_FLAG_W,CFC-12,CFC-12_FLAG_W,TRITUM,TRITUM_FLAG_W,HELIUM,HELIUM_FLAG_W,DELHE3,DELHE3_FLAG_W,DELC14,DELC14_FLAG_W,DELC13,DELC13_FLAG_W,TCARBN,TCARBN_FLAG_W,ALKALI,ALKALI_FLAG_W,C14ERR,HELIER,DELHER,C13ERR,TRITER
,,,,,,,,,,,,DBAR,ITS-90,PSS-78,,PSS-78,,UMOL/KG,,DEG C,UMOL/KG,,UMOL/KG,,UMOL/KG,,UMOL/KG,,UMOL/KG,,PMOL/KG,,PMOL/KG,,TU,,NMOL/KG,,PERCNT,,/MILLE,,/MILLE,,UMOL/KG,,UMOL/KG,,/MILLE,NMOL/KG,PERCNT,/MILLE,TU
   31WTTUNES_1,  P17C,   103,  1,     61,     61,2,19910703,0013, -0.8317,-135.0033, 4300,      3.1,  27.4215,  35.3608,2,  35.3636,2,   -999.0,9, 27.4208,   -999.0,9,  -999.00,9,  -999.00,9,  -999.00,9,  -999.00,9, -999.000,9, -999.000,9, -999.000,9,-999.0000,9,  -999.00,9,   -999.0,9,  -999.00,9,   -999.0,9,   -999.0,9,  -999.0,-999.0000,-999.000,  -999.0,-999.000
   31WTTUNES_1,  P17C,   103,  1,     62,     62,2,19910703,0013, -0.8317,-135.0033, 4300,     35.5,  27.1146,  35.3723,2,  35.3715,2,   -999.0,9, 27.1064,   -999.0,9,  -999.00,9,  -999.00,9,  -999.00,9,  -999.00,9, -999.000,9, -999.000,9, -999.000,9,-999.0000,9,  -999.00,9,   -999.0,9,  -999.00,9,   -999.0,9,   -999.0,9,  -999.0,-999.0000,-999.000,  -999.0,-999.000
   31WTTUNES_1,  P17C,   103,  1,     63,     63,2,19910703,0013, -0.8317,-135.0033, 4300,    205.0,  12.0800,  34.8574,2,  34.8572,2,   -999.0,9, 12.0532,   -999.0,9,  -999.00,9,  -999.00,9,  -999.00,9,  -999.00,9, -999.000,9, -999.000,9, -999.000,9,-999.0000,9,  -999.00,9,   -999.0,9,  -999.00,9,   -999.0,9,   -999.0,9,  -999.0,-999.0000,-999.000,  -999.0,-999.000
   31WTTUNES_1,  P17C,   103,  1,     64,     64,2,19910703,0013, -0.8317,-135.0033, 4300,    406.3,   9.1400,  34.6849,2,  34.6841,2,   -999.0,9,  9.0950,   -999.0,9,  -999.00,9,  -999.00,9,  -999.00,9,  -999.00,9, -999.000,9, -999.000,9, -999.000,9,-999.0000,9,  -999.00,9,   -999.0,9,  -999.00,9,   -999.0,9,   -999.0,9,  -999.0,-999.0000,-999.000,  -999.0,-999.000
   31WTTUNES_1,  P17C,   103,  1,     65,     65,2,19910703,0013, -0.8317,-135.0033, 4300,    610.3,   6.8916,  34.5758,2,  34.5771,2,   -999.0,9,  6.8336,   -999.0,9,  -999.00,9,  -999.00,9,  -999.00,9,  -999.00,9, -999.000,9, -999.000,9, -999.000,9,-999.0000,9,  -999.00,9,   -999.0,9,  -999.00,9,   -999.0,9,   -999.0,9,  -999.0,-999.0000,-999.000,  -999.0,-999.000
   31WTTUNES_1,  P17C,   103,  1,     66,     66,2,19910703,0013, -0.8317,-135.0033, 4300,    812.2,   5.3098,  34.5479,2,  34.5503,2,   -999.0,9,  5.2413,   -999.0,9,  -999.00,9,  -999.00,9,  -999.00,9,  -999.00,9, -999.000,9, -999.000,9, -999.000,9,-999.0000,9,  -999.00,9,   -999.0,9,  -999.00,9,   -999.0,9,   -999.0,9,  -999.0,-999.0000,-999.000,  -999.0,-999.000
   31WTTUNES_1,  P17C,   103,  1,     67,     67,2,19910703,0013, -0.8317,-135.0033, 4300,   1018.8,   4.4245,  34.5547,2,  34.5582,2,   -999.0,9,  4.3439,   -999.0,9,  -999.00,9,  -999.00,9,  -999.00,9,  -999.00,9, -999.000,9, -999.000,9, -999.000,9,-999.0000,9,  -999.00,9,   -999.0,9,  -999.00,9,   -999.0,9,   -999.0,9,  -999.0,-999.0000,-999.000,  -999.0,-999.000
   31WTTUNES_1,  P17C,   103,  1,     68,     68,2,19910703,0013, -0.8317,-135.0033, 4300,   2048.5,   2.2314,  34.6467,2,  34.6472,2,   -999.0,9,  2.0872,   -999.0,9,  -999.00,9,  -999.00,9,  -999.00,9,  -999.00,9, -999.000,9, -999.000,9, -999.000,9,-999.0000,9,  -999.00,9,   -999.0,9,  -999.00,9,   -999.0,9,   -999.0,9,  -999.0,-999.0000,-999.000,  -999.0,-999.000
   31WTTUNES_1,  P17C,   103,  1,     69,     69,3,19910703,0013, -0.8317,-135.0033, 4300,   3079.5,   1.6140,  34.6776,2,  34.6621,4,   -999.0,9,  1.3870,   -999.0,9,  -999.00,9,  -999.00,9,  -999.00,9,  -999.00,9, -999.000,9, -999.000,9, -999.000,9,-999.0000,9,  -999.00,9,   -999.0,9,  -999.00,9,   -999.0,9,   -999.0,9,  -999.0,-999.0000,-999.000,  -999.0,-999.000
   31WTTUNES_1,  P17C,   103,  1,     70,     70,2,19910703,0013, -0.8317,-135.0033, 4300,   4116.2,   1.4271,  34.6950,2,  34.6945,2,   -999.0,9,  1.0975,   -999.0,9,  -999.00,9,  -999.00,9,  -999.00,9,  -999.00,9, -999.000,9, -999.000,9, -999.000,9,-999.0000,9,  -999.00,9,   -999.0,9,  -999.00,9,   -999.0,9,   -999.0,9,  -999.0,-999.0000,-999.000,  -999.0,-999.000
   31WTTUNES_1,  P17C,   103,  1,     71,     71,2,19910703,0013, -0.8317,-135.0033, 4300,   4358.0,   1.4371,  34.6944,2,  34.6949,2,   -999.0,9,  1.0802,   -999.0,9,  -999.00,9,  -999.00,9,  -999.00,9,  -999.00,9, -999.000,9, -999.000,9, -999.000,9,-999.0000,9,  -999.00,9,   -999.0,9,  -999.00,9,   -999.0,9,   -999.0,9,  -999.0,-999.0000,-999.000,  -999.0,-999.000
   31WTTUNES_1,  P17C,   104,  1,      1,      1,2,19910703,0359, -0.9933,-135.0017, 4463,      0.2,  27.4389,  35.3525,2,  35.3565,2,    210.7,3, 27.4389,    209.9,2,     2.83,2,     4.98,2,     0.45,2,     0.57,2,    1.614,2,    0.927,2, -999.000,9,-999.0000,9,  -999.00,9,     89.4,2,     1.21,2,   2015.6,2,   2328.5,2,     3.4,-999.0000,-999.000,  -999.0,-999.000
   31WTTUNES_1,  P17C,   104,  1,      2,      2,2,19910703,0359, -0.9933,-135.0017, 4463,     51.4,  26.8978,  35.3827,2,  35.3881,2,    203.8,2, 26.8860,    203.0,2,     3.03,2,     5.57,2,     0.96,2,     0.64,2,    1.651,2,    0.928,2, -999.000,9,-999.0000,9,  -999.00,9,     93.9,2,     1.27,2,   2026.2,2,   2329.9,2,     3.4,-999.0000,-999.000,  -999.0,-999.000
   31WTTUNES_1,  P17C,   104,  1,      3,      3,2,19910703,0359, -0.9933,-135.0017, 4463,     73.9,  25.2083,  35.5000,2,  35.5080,2,    188.2,2, 25.1922,    177.5,2,     3.52,2,     7.42,2,     1.58,2,     0.80,2,    1.663,2,    0.938,2, -999.000,9,-999.0000,9,  -999.00,9,     89.0,2,     1.13,2,   2059.6,2,   -999.0,9,     3.7,-999.0000,-999.000,  -999.0,-999.000
   31WTTUNES_1,  P17C,   104,  1,      4,      4,2,19910703,0359, -0.9933,-135.0017, 4463,     94.4,  22.4169,  35.6746,2,  35.6770,2,    144.8,2, 22.3979,    145.4,2,     3.91,2,    11.13,2,     0.50,2,     0.98,2,    1.599,2,    0.898,2, -999.000,9,-999.0000,9,  -999.00,9,     84.7,2,     0.94,2,   2103.5,2,   -999.0,9,     3.5,-999.0000,-999.000,  -999.0,-999.000
   31WTTUNES_1,  P17C,   104,  1,      5,      5,2,19910703,0359, -0.9933,-135.0017, 4463,    104.2,  20.8267,  35.6617,2,  35.6648,2,    131.3,2, 20.8069,    125.3,2,     5.66,2,    12.89,2,     0.08,2,     1.07,2,    1.474,2,    0.809,2, -999.000,9,-999.0000,9,  -999.00,9,    100.1,2,     0.81,2,   2121.3,2,   2349.9,2,     3.0,-999.0000,-999.000,  -999.0,-999.000
   31WTTUNES_1,  P17C,   104,  1,      6,      6,2,19910703,0359, -0.9933,-135.0017, 4463,    113.0,  19.8207,  35.6324,2,  35.6247,2,    120.2,2, 19.7999,    115.5,2,     5.76,2,    13.87,2,     0.04,2,     1.12,2,    1.354,2,    0.747,2, -999.000,9,-999.0000,9,  -999.00,9,     80.2,2,     0.78,2,   2131.5,2,   -999.0,9,     3.3,-999.0000,-999.000,  -999.0,-999.000
   31WTTUNES_1,  P17C,   104,  1,      7,      7,2,19910703,0359, -0.9933,-135.0017, 4463,    140.3,  15.5190,  35.1709,2,  35.1731,2,    126.9,2, 15.4973,    125.5,2,    10.94,2,    16.71,2,     0.01,2,     1.23,2,    0.951,2,    0.527,2, -999.000,9,-999.0000,9,  -999.00,9,     18.8,2,     0.70,2,   2134.8,2,   2319.9,2,     8.0,-999.0000,-999.000,  -999.0,-999.000
   31WTTUNES_1,  P17C,   104,  1,      8,      8,2,19910703,0359, -0.9933,-135.0017, 4463,    177.6,  13.1645,  34.9691,2,  34.9688,2,    101.4,2, 13.1399,    106.7,2,    17.00,2,    21.79,2,     0.00,2,     1.54,2,    0.634,2,    0.344,2, -999.000,9,-999.0000,9,  -999.00,9,     -4.4,2,     0.43,2,   2163.6,2,   -999.0,9,     6.7,-999.0000,-999.000,  -999.0,-999.000
   31WTTUNES_1,  P17C,   104,  1,      9,      9,2,19910703,0359, -0.9933,-135.0017, 4463,    202.9,  12.1648,  34.8643,2,  34.8677,2,     68.6,2, 12.1381,     74.2,2,    22.97,2,    26.68,2,     0.00,2,     1.84,2,    0.426,2,    0.235,2, -999.000,9,-999.0000,9,  -999.00,9,      3.3,2,     0.22,2,   2194.7,2,   2308.3,2,     3.6,-999.0000,-999.000,  -999.0,-999.000
   31WTTUNES_1,  P17C,   104,  1,     10,     10,2,19910703,0359, -0.9933,-135.0017, 4463,    228.9,  12.0148,  34.8499,2,  34.8500,2,     60.8,2, 11.9849,     62.4,2,    24.24,2,    28.15,2,     0.00,2,     1.94,2,    0.370,2,    0.204,2, -999.000,9,-999.0000,9,  -999.00,9,     -3.6,2,     0.09,2,   2206.4,2,   -999.0,9,     4.8,-999.0000,-999.000,  -999.0,-999.000
   31WTTUNES_1,  P17C,   104,  1,     11,     11,2,19910703,0359, -0.9933,-135.0017, 4463,    275.7,  11.4870,  34.8113,2,  34.8150,2,     26.7,2, 11.4520,     29.4,2,    28.44,2,    32.25,2,     0.00,2,     2.22,2,    0.215,2,    0.125,2, -999.000,9,-999.0000,9,  -999.00,9,    -30.4,2,    -0.07,2,   2232.1,2,   -999.0,9,     2.8,-999.0000,-999.000,  -999.0,-999.000
   31WTTUNES_1,  P17C,   104,  1,     12,     12,2,19910703,0359, -0.9933,-135.0017, 4463,    306.2,  11.2011,  34.7980,2,  34.8025,2,     29.3,2, 11.1628,     31.7,2,    28.64,2,    32.55,2,     0.00,2,     2.23,2,    0.190,2,    0.108,2, -999.000,9,-999.0000,9,  -999.00,9,    -44.7,2,    -0.04,2,   2234.7,2,   2307.3,2,     3.4,-999.0000,-999.000,  -999.0,-999.000
   31WTTUNES_1,  P17C,   104,  1,     13,     13,2,19910703,0359, -0.9933,-135.0017, 4463,    355.3,  10.1564,  34.7402,2,  34.7420,2,     17.0,2, 10.1146,     21.2,2,    34.31,2,    35.38,2,     0.00,2,     2.41,2,    0.086,6,    0.052,6, -999.000,9,-999.0000,9,  -999.00,9,    -86.5,2,    -0.11,2,   2253.6,2,   -999.0,9,     2.7,-999.0000,-999.000,  -999.0,-999.000
   31WTTUNES_1,  P17C,   104,  1,     14,     14,2,19910703,0359, -0.9933,-135.0017, 4463,    415.3,   9.4957,  34.7017,2,  34.7003,2,     20.7,2,  9.4486,     21.2,2,    37.63,2,    36.95,2,     0.00,2,     2.52,2,    0.048,2,    0.031,2, -999.000,9,-999.0000,9,  -999.00,9,    -88.0,2,    -0.11,2,   2256.6,2,   2308.1,2,     2.8,-999.0000,-999.000,  -999.0,-999.000
   31WTTUNES_1,  P17C,   104,  1,     15,     15,2,19910703,0359, -0.9933,-135.0017, 4463,    505.7,   7.9653,  34.6203,2,  34.6202,2,     42.7,2,  7.9135,     44.0,2,    43.69,2,    38.12,2,     0.00,2,     2.58,2,    0.017,2,    0.013,2, -999.000,9,-999.0000,9,  -999.00,9,   -102.4,2,    -0.01,2,   2262.6,2,   -999.0,9,     2.8,-999.0000,-999.000,  -999.0,-999.000
   31WTTUNES_1,  P17C,   104,  1,     16,     16,2,19910703,0359, -0.9933,-135.0017, 4463,    605.9,   7.0857,  34.5799,2,  34.5813,2,     63.5,2,  7.0273,     63.8,2,    47.90,2,    37.83,2,     0.00,2,     2.59,2,    0.012,2,    0.005,2, -999.000,9,-999.0000,9,  -999.00,9,   -116.0,2,     0.15,2,   2260.3,2,   2317.8,2,     2.8,-999.0000,-999.000,  -999.0,-999.000
   31WTTUNES_1,  P17C,   104,  1,     17,     17,2,19910703,0359, -0.9933,-135.0017, 4463,    706.2,   6.1952,  34.5553,2,  34.5562,2,     69.9,2,  6.1313,     69.7,2,    57.77,2,    38.90,2,     0.00,2,     2.67,2,    0.003,2,    0.002,2, -999.000,9,-999.0000,9,  -999.00,9,   -999.0,9,  -999.00,9,   2269.8,2,   -999.0,9,  -999.0,-999.0000,-999.000,  -999.0,-999.000
   31WTTUNES_1,  P17C,   104,  1,     18,     18,2,19910703,0359, -0.9933,-135.0017, 4463,    808.4,   5.4535,  34.5478,2,  34.5490,2,     71.0,2,  5.3845,     74.0,2,    68.82,2,    39.49,2,     0.00,2,     2.74,2,    0.001,2,    0.002,2, -999.000,9,-999.0000,9,  -999.00,9,   -999.0,9,  -999.00,9,   2279.6,2,   -999.0,9,  -999.0,-999.0000,-999.000,  -999.0,-999.000
   31WTTUNES_1,  P17C,   104,  1,     19,     19,2,19910703,0359, -0.9933,-135.0017, 4463,    909.6,   5.0288,  34.5446,2,  34.5465,2,     86.4,2,  4.9533,     86.7,2,    74.29,2,    38.81,2,     0.00,2,     2.68,2,    0.000,2,    0.006,2, -999.000,9,-999.0000,9,  -999.00,9,   -999.0,9,  -999.00,9,   2282.4,2,   -999.0,9,  -999.0,-999.0000,-999.000,  -999.0,-999.000
   31WTTUNES_1,  P17C,   104,  1,     20,     20,2,19910703,0359, -0.9933,-135.0017, 4463,   1012.6,   4.5590,  34.5528,2,  34.5561,2,     87.6,2,  4.4779,     85.2,2,    85.34,2,    39.39,2,     0.00,2,     2.73,2,    0.000,2,   -0.001,2, -999.000,9,-999.0000,9,  -999.00,9,   -999.0,9,  -999.00,9,   2295.3,2,   2358.6,2,  -999.0,-999.0000,-999.000,  -999.0,-999.000
   31WTTUNES_1,  P17C,   104,  1,     21,     21,2,19910703,0359, -0.9933,-135.0017, 4463,   1216.3,   3.8415,  34.5698,2,  34.5709,2,     92.5,2,  3.7488,     93.0,2,    99.41,2,    39.30,2,     0.00,2,     2.73,2, -999.000,9, -999.000,9, -999.000,9,-999.0000,9,  -999.00,9,   -999.0,9,  -999.00,9,   2307.6,2,   -999.0,9,  -999.0,-999.0000,-999.000,  -999.0,-999.000
   31WTTUNES_1,  P17C,   104,  1,     22,     22,2,19910703,0359, -0.9933,-135.0017, 4463,   1414.6,   3.1679,  34.5946,2,  34.5968,2,     97.8,2,  3.0653,     96.6,2,   115.64,2,    39.39,2,     0.00,2,     2.73,2, -999.000,9, -999.000,9, -999.000,9,-999.0000,9,  -999.00,9,   -999.0,9,  -999.00,9,   2323.3,2,   -999.0,9,  -999.0,-999.0000,-999.000,  -999.0,-999.000
   31WTTUNES_1,  P17C,   104,  1,     23,     23,2,19910703,0359, -0.9933,-135.0017, 4463,   1620.5,   2.7791,  34.6125,2,  34.6151,2,     99.4,2,  2.6638,     99.1,2,   126.88,2,    39.39,2,     0.00,2,     2.72,2, -999.000,9, -999.000,9, -999.000,9,-999.0000,9,  -999.00,9,   -999.0,9,  -999.00,9,   2334.3,2,   -999.0,9,  -999.0,-999.0000,-999.000,  -999.0,-999.000
   31WTTUNES_1,  P17C,   104,  1,     24,     24,2,19910703,0359, -0.9933,-135.0017, 4463,   1821.6,   2.5503,  34.6247,2,  34.6266,2,    103.5,2,  2.4209,    102.3,2,   132.15,2,    39.10,2,     0.00,2,     2.70,2, -999.000,9, -999.000,9, -999.000,9,-999.0000,9,  -999.00,9,   -999.0,9,  -999.00,9,   2339.0,2,   -999.0,9,  -999.0,-999.0000,-999.000,  -999.0,-999.000
   31WTTUNES_1,  P17C,   104,  1,     25,     25,2,19910703,0359, -0.9933,-135.0017, 4463,   2022.5,   2.2895,  34.6426,2,  34.6449,2,    106.6,2,  2.1467,    103.4,2,   142.32,2,    39.00,2,     0.00,2,     2.70,2, -999.000,9, -999.000,9, -999.000,9,-999.0000,9,  -999.00,9,   -999.0,9,  -999.00,9,   2348.7,2,   -999.0,9,  -999.0,-999.0000,-999.000,  -999.0,-999.000
   31WTTUNES_1,  P17C,   104,  1,     26,     26,2,19910703,0359, -0.9933,-135.0017, 4463,   2227.8,   2.0926,  34.6510,2,  34.6520,2,    112.9,2,  1.9351,    112.6,2,   144.17,2,    38.51,2,     0.00,2,     2.65,2, -999.000,9, -999.000,9, -999.000,9,-999.0000,9,  -999.00,9,   -999.0,9,  -999.00,9,   2346.5,2,   2426.2,2,  -999.0,-999.0000,-999.000,  -999.0,-999.000
   31WTTUNES_1,  P17C,   104,  1,     27,     27,2,19910703,0359, -0.9933,-135.0017, 4463,   2434.3,   1.9087,  34.6608,2,  34.6607,2,    124.6,2,  1.7360,    123.3,2,   143.98,2,    37.83,2,     0.00,2,     2.58,2, -999.000,9, -999.000,9, -999.000,9,-999.0000,9,  -999.00,9,   -999.0,9,  -999.00,9,   2340.6,2,   -999.0,9,  -999.0,-999.0000,-999.000,  -999.0,-999.000
   31WTTUNES_1,  P17C,   104,  1,     28,     28,2,19910703,0359, -0.9933,-135.0017, 4463,   2631.8,   1.7868,  34.6664,2,  34.6666,2,    129.7,2,  1.5985,    129.9,2,   144.86,2,    37.34,2,     0.00,2,     2.54,2, -999.000,9, -999.000,9, -999.000,9,-999.0000,9,  -999.00,9,   -999.0,9,  -999.00,9,   2338.6,2,   -999.0,9,  -999.0,-999.0000,-999.000,  -999.0,-999.000
   31WTTUNES_1,  P17C,   104,  1,     29,     29,2,19910703,0359, -0.9933,-135.0017, 4463,   2833.0,   1.6779,  34.6737,2,  34.6729,2,    135.8,2,  1.4731,    135.3,2,   146.42,2,    37.14,2,     0.00,2,     2.52,2, -999.000,9, -999.000,9, -999.000,9,-999.0000,9,  -999.00,9,   -999.0,9,  -999.00,9,   2336.7,2,   -999.0,9,  -999.0,-999.0000,-999.000,  -999.0,-999.000
   31WTTUNES_1,  P17C,   104,  1,     30,     30,2,19910703,0359, -0.9933,-135.0017, 4463,   3036.3,   1.6339,  34.6785,2,  34.6824,3,    139.2,2,  1.4107,    138.6,2,   147.10,2,    36.95,2,     0.00,2,     2.49,2, -999.000,9, -999.000,9, -999.000,9,-999.0000,9,  -999.00,9,   -999.0,9,  -999.00,9,   2334.5,2,   -999.0,9,  -999.0,-999.0000,-999.000,  -999.0,-999.000
   31WTTUNES_1,  P17C,   104,  1,     31,     31,2,19910703,0359, -0.9933,-135.0017, 4463,   3294.9,   1.5809,  34.6816,2,  34.6816,2,    143.3,2,  1.3335,    143.7,2,   148.08,2,    36.65,2,     0.00,2,     2.48,2, -999.000,9, -999.000,9, -999.000,9,-999.0000,9,  -999.00,9,   -999.0,9,  -999.00,9,   2335.4,2,   -999.0,9,  -999.0,-999.0000,-999.000,  -999.0,-999.000
   31WTTUNES_1,  P17C,   104,  1,     32,     32,2,19910703,0359, -0.9933,-135.0017, 4463,   3551.6,   1.4890,  34.6900,2,  34.6881,2,    150.8,2,  1.2178,    150.9,2,   149.94,2,    36.26,2,     0.00,2,     2.43,2, -999.000,9, -999.000,9, -999.000,9,-999.0000,9,  -999.00,9,   -999.0,9,  -999.00,9,   2333.2,2,   2436.2,2,  -999.0,-999.0000,-999.000,  -999.0,-999.000
   31WTTUNES_1,  P17C,   104,  1,     33,     33,2,19910703,0359, -0.9933,-135.0017, 4463,   3798.5,   1.4161,  34.6957,2,  34.6933,2,    160.1,2,  1.1210,    159.7,2,   146.12,2,    35.58,2,     0.00,2,     2.39,2, -999.000,9, -999.000,9, -999.000,9,-999.0000,9,  -999.00,9,   -999.0,9,  -999.00,9,   2325.3,2,   -999.0,9,  -999.0,-999.0000,-999.000,  -999.0,-999.000
   31WTTUNES_1,  P17C,   104,  1,     34,     34,2,19910703,0359, -0.9933,-135.0017, 4463,   4058.0,   1.4281,  34.6951,2,  34.6935,2,    161.2,2,  1.1048,    161.5,2,   144.46,2,    35.38,2,     0.00,2,     2.38,2, -999.000,9, -999.000,9, -999.000,9,-999.0000,9,  -999.00,9,   -999.0,9,  -999.00,9,   2323.2,2,   -999.0,9,  -999.0,-999.0000,-999.000,  -999.0,-999.000
   31WTTUNES_1,  P17C,   104,  1,     35,     35,2,19910703,0359, -0.9933,-135.0017, 4463,   4316.7,   1.4390,  34.6956,2,  34.6947,2,    165.6,2,  1.0868,    165.8,2,   141.33,2,    35.28,2,     0.00,2,     2.36,2, -999.000,9, -999.000,9, -999.000,9,-999.0000,9,  -999.00,9,   -999.0,9,  -999.00,9,   2317.9,2,   -999.0,9,  -999.0,-999.0000,-999.000,  -999.0,-999.000
   31WTTUNES_1,  P17C,   104,  1,     36,     36,2,19910703,0359, -0.9933,-135.0017, 4463,   4541.3,   1.4500,  34.6963,2,  34.6955,2,   -999.0,9,  1.0718,    167.7,2,   139.87,2,    34.89,2,     0.00,2,     2.35,2, -999.000,9, -999.000,9, -999.000,9,-999.0000,9,  -999.00,9,   -999.0,9,  -999.00,9,   2313.8,2,   2434.9,2,  -999.0,-999.0000,-999.000,  -999.0,-999.000