BOTTLE,20220819CCHSIOAMB
EXPOCODE,SECT_ID,STNNBR,CASTNO,SAMPNO,BTLNBR,BTLNBR_FLAG_W,DATE,TIME,LATITUDE,LONGITUDE,DEPTH,CTDPRS,CTDTMP,CTDSAL,CTDSAL_FLAG_W,SALNTY,SALNTY_FLAG_W,CTDOXY,CTDOXY_FLAG_W,THETA,OXYGEN,OXYGEN_FLAG_W,SILCAT,SILCAT_FLAG_W,NITRAT,NITRAT_FLAG_W,NITRIT,NITRIT_FLAG_W,PHSPHT,PHSPHT_FLAG_W,CFC-11,CFC-11_FLAG_W,CFC-12,CFC-12_FLAG_W,TRITUM,TRITUM_FLAG_W,HELIUM,HELIUM_FLAG_W,DELHE3,DELHE3_FLAG_W,DELC14,DELC14_FLAG_W,DELC13,DELC13_FLAG_W,TCARBN,TCARBN_FLAG_W,ALKALI,ALKALI_FLAG_W,C14ERR,HELIER,DELHER,C13ERR,TRITER
,,,,,,,,,,,,DBAR,ITS-90,PSS-78,,PSS-78,,UMOL/KG,,DEG C,UMOL/KG,,UMOL/KG,,UMOL/KG,,UMOL/KG,,UMOL/KG,,PMOL/KG,,PMOL/KG,,TU,,NMOL/KG,,PERCNT,,/MILLE,,/MILLE,,UMOL/KG,,UMOL/KG,,/MILLE,NMOL/KG,PERCNT,/MILLE,TU
   31WTTUNES_1,  P17C,    20,  1,      1,      1,2,19910609,2007, 33.0650,-134.9967, 4763,      1.5,  17.2396,  33.6842,2,  33.6819,2,   -999.0,9, 17.2394,    248.1,2,     3.63,2,     0.13,2,     0.02,2,     0.28,2,    2.804,2,    1.439,2, -999.000,9,-999.0000,9,  -999.00,9,     82.3,2,     1.77,2,   2001.0,2,   2258.0,2,     3.9,-999.0000,-999.000,  -999.0,-999.000
   31WTTUNES_1,  P17C,    20,  1,      2,      2,2,19910609,2007, 33.0650,-134.9967, 4763,     71.8,  17.3316,  34.3085,2,  34.3087,2,    244.9,2, 17.3197,    248.0,2,     3.20,2,     0.13,2,     0.01,2,     0.20,2,    2.678,2,    1.411,2, -999.000,9,-999.0000,9,  -999.00,9,     89.8,2,     1.65,2,   2008.2,2,   2298.8,2,    21.0,-999.0000,-999.000,  -999.0,-999.000
   31WTTUNES_1,  P17C,    20,  1,      3,      3,9,19910609,2007, 33.0650,-134.9967, 4763,    117.1,  17.0275,  34.4043,2,-999.0000,9,    233.9,2, 17.0083,   -999.0,9,  -999.00,9,  -999.00,9,  -999.00,9,  -999.00,9, -999.000,9, -999.000,9, -999.000,9,-999.0000,9,  -999.00,9,   -999.0,9,  -999.00,9,   -999.0,9,   -999.0,9,  -999.0,-999.0000,-999.000,  -999.0,-999.000
   31WTTUNES_1,  P17C,    20,  1,      4,      4,2,19910609,2007, 33.0650,-134.9967, 4763,    137.9,  17.2644,  34.5744,2,  34.5710,2,    253.6,2, 17.2415,    233.8,2,     3.39,2,     0.31,2,     0.12,2,     0.20,2,    2.635,2,    1.376,2, -999.000,9,-999.0000,9,  -999.00,9,    110.7,2,     1.47,2,   2021.1,2,   -999.0,9,     3.9,-999.0000,-999.000,  -999.0,-999.000
   31WTTUNES_1,  P17C,    20,  1,      5,      5,2,19910609,2007, 33.0650,-134.9967, 4763,    153.6,  16.4996,  34.4394,2,  34.4084,2,    242.3,2, 16.4749,    230.9,2,     3.58,2,     1.12,2,     0.17,2,     0.27,2,    2.719,2,    1.438,2, -999.000,9,-999.0000,9,  -999.00,9,    112.7,2,     1.39,2,   2025.6,2,   2293.6,2,     5.1,-999.0000,-999.000,  -999.0,-999.000
   31WTTUNES_1,  P17C,    20,  1,      6,      6,2,19910609,2007, 33.0650,-134.9967, 4763,    174.9,  14.4297,  34.1136,2,  34.1076,2,    227.9,2, 14.4041,    227.0,2,     4.81,2,     3.52,2,     0.06,2,     0.44,2,    2.880,2,    1.483,2, -999.000,9,-999.0000,9,  -999.00,9,    104.3,2,     1.24,2,   2031.4,2,   2273.4,2,     5.0,-999.0000,-999.000,  -999.0,-999.000
   31WTTUNES_1,  P17C,    20,  1,      7,      7,2,19910609,2007, 33.0650,-134.9967, 4763,    201.6,  12.3123,  33.9210,2,  33.9124,2,    216.1,2, 12.2859,    221.4,2,     7.69,2,     7.41,2,     0.02,2,     0.68,2,    2.991,2,    1.510,2, -999.000,9,-999.0000,9,  -999.00,9,   -999.0,9,  -999.00,9,   2049.9,2,   2261.5,2,  -999.0,-999.0000,-999.000,  -999.0,-999.000
   31WTTUNES_1,  P17C,    20,  1,      8,      8,2,19910609,2007, 33.0650,-134.9967, 4763,    228.0,  10.5534,  33.7942,2,  33.7805,2,    213.4,2, 10.5263,    218.2,2,    11.60,2,    11.66,2,     0.01,2,     0.95,2,    3.064,2,    1.532,2, -999.000,9,-999.0000,9,  -999.00,9,     80.7,2,     0.80,2,   2068.9,2,   2252.3,2,     5.5,-999.0000,-999.000,  -999.0,-999.000
   31WTTUNES_1,  P17C,    20,  1,      9,      9,2,19910609,2007, 33.0650,-134.9967, 4763,    254.0,   9.4919,  33.8960,2,  33.8901,2,    204.3,2,  9.4637,    207.0,2,    16.95,2,    15.51,2,     0.01,2,     1.18,2,    2.781,2,    1.382,2, -999.000,9,-999.0000,9,  -999.00,9,   -999.0,9,  -999.00,9,   2100.8,2,   2260.7,2,  -999.0,-999.0000,-999.000,  -999.0,-999.000
   31WTTUNES_1,  P17C,    20,  1,     10,     10,2,19910609,2007, 33.0650,-134.9967, 4763,    306.7,   8.6156,  33.9661,2,  33.9818,3,    191.4,2,  8.5834,    198.2,2,    24.36,2,    18.98,2,     0.01,2,     1.39,2,    2.562,2,    1.270,2, -999.000,9,-999.0000,9,  -999.00,9,     44.0,2,     0.49,2,   2120.5,2,   2300.8,2,     3.7,-999.0000,-999.000,  -999.0,-999.000
   31WTTUNES_1,  P17C,    20,  1,     11,     11,2,19910609,2007, 33.0650,-134.9967, 4763,    353.6,   7.7410,  33.9807,2,  33.9818,2,    178.2,2,  7.7061,    177.4,2,    34.24,2,    23.25,2,     0.01,2,     1.67,2,    2.188,2,    1.082,2, -999.000,9,-999.0000,9,  -999.00,9,     25.7,2,     0.33,2,   2150.8,2,   2278.0,2,     4.4,-999.0000,-999.000,  -999.0,-999.000
   31WTTUNES_1,  P17C,    20,  1,     12,     12,2,19910609,2007, 33.0650,-134.9967, 4763,    405.9,   7.0692,  33.9906,2,  33.9918,2,    148.8,2,  7.0310,    142.7,2,    44.93,2,    27.49,2,     0.01,2,     2.02,2,    1.444,2,    0.697,2, -999.000,9,-999.0000,9,  -999.00,9,    -21.9,2,     0.11,2,   2188.0,2,   2293.1,2,     6.2,-999.0000,-999.000,  -999.0,-999.000
   31WTTUNES_1,  P17C,    20,  1,     13,     13,2,19910609,2007, 33.0650,-134.9967, 4763,    456.9,   6.2532,  33.9834,2,  33.9867,2,    123.0,2,  6.2129,    113.9,2,    55.40,2,    31.92,2,     0.01,2,     2.29,2,    0.983,2,    0.477,2, -999.000,9,-999.0000,9,  -999.00,9,   -999.0,9,  -999.00,9,   2219.8,2,   -999.0,9,  -999.0,-999.0000,-999.000,  -999.0,-999.000
   31WTTUNES_1,  P17C,    20,  1,     14,     14,2,19910609,2007, 33.0650,-134.9967, 4763,    507.8,   5.7671,  34.0129,2,  34.0186,2,     82.9,2,  5.7240,     82.7,2,    66.28,2,    35.62,2,     0.01,2,     2.57,2,    0.541,2,    0.271,2, -999.000,9,-999.0000,9,  -999.00,9,    -78.5,2,    -0.21,2,   2252.7,2,   -999.0,9,     3.4,-999.0000,-999.000,  -999.0,-999.000
   31WTTUNES_1,  P17C,    20,  1,     15,     15,2,19910609,2007, 33.0650,-134.9967, 4763,    607.4,   4.8701,  34.0826,2,  34.0889,2,     43.8,2,  4.8222,     43.2,2,    87.64,2,    40.65,2,     0.01,2,     2.94,2,    0.130,6,    0.074,6, -999.000,9,-999.0000,9,  -999.00,9,   -139.7,2,    -0.44,2,   2301.7,2,   -999.0,9,     3.1,-999.0000,-999.000,  -999.0,-999.000
   31WTTUNES_1,  P17C,    20,  1,     16,     16,2,19910609,2007, 33.0650,-134.9967, 4763,    709.7,   4.4446,  34.1917,2,  34.1946,2,     21.4,2,  4.3904,     18.7,2,   102.39,2,    42.84,2,     0.01,2,     3.15,2,    0.023,2,    0.018,2, -999.000,9,-999.0000,9,  -999.00,9,   -166.1,2,    -0.60,2,   2333.9,2,   -999.0,9,     3.2,-999.0000,-999.000,  -999.0,-999.000
   31WTTUNES_1,  P17C,    20,  1,     17,     17,2,19910609,2007, 33.0650,-134.9967, 4763,    812.3,   4.1548,  34.2906,2,  34.2907,2,     12.1,2,  4.0938,     12.2,2,   112.80,2,    43.55,2,     0.01,2,     3.19,2,    0.008,2,    0.006,2, -999.000,9,-999.0000,9,  -999.00,9,   -200.8,2,    -0.62,2,   2349.4,2,   -999.0,9,     6.0,-999.0000,-999.000,  -999.0,-999.000
   31WTTUNES_1,  P17C,    20,  1,     18,     18,2,19910609,2007, 33.0650,-134.9967, 4763,    905.2,   3.9364,  34.3595,2,  34.3621,2,     11.5,2,  3.8692,     11.3,2,   120.74,2,    43.89,2,     0.01,2,     3.25,2,    0.009,2,    0.007,2, -999.000,9,-999.0000,9,  -999.00,9,   -215.1,2,    -0.59,2,   2358.9,2,   -999.0,9,     4.9,-999.0000,-999.000,  -999.0,-999.000
   31WTTUNES_1,  P17C,    20,  1,     19,     19,2,19910609,2007, 33.0650,-134.9967, 4763,   1008.9,   3.7219,  34.4078,2,  34.4094,2,     14.5,2,  3.6479,     15.4,2,   126.41,2,    44.01,2,     0.01,2,     3.24,2,    0.009,2,    0.007,2, -999.000,9,-999.0000,9,  -999.00,9,   -210.3,2,  -999.00,9,   2364.6,2,   -999.0,9,     4.2,-999.0000,-999.000,  -999.0,-999.000
   31WTTUNES_1,  P17C,    20,  1,     20,     20,4,19910609,2007, 33.0650,-134.9967, 4763,   1008.9,   3.7219,  34.4078,2,  34.4084,2,     14.5,2,  3.6479,     14.5,2,   126.12,2,    43.97,2,     0.01,2,     3.23,2,    0.011,2,    0.003,2, -999.000,9,-999.0000,9,  -999.00,9,   -210.3,2,    -0.55,2,   2363.4,2,   -999.0,9,     4.2,-999.0000,-999.000,  -999.0,-999.000
   31WTTUNES_1,  P17C,    20,  1,     21,     21,2,19910609,2007, 33.0650,-134.9967, 4763,   1409.4,   2.8511,  34.5304,2,  34.5305,2,     41.1,2,  2.7525,     40.9,2,   146.35,2,    43.11,2,     0.01,2,     3.10,2,   -0.002,2,    0.002,2, -999.000,9,-999.0000,9,  -999.00,9,   -999.0,9,  -999.00,9,   2373.1,2,   -999.0,9,  -999.0,-999.0000,-999.000,  -999.0,-999.000
   31WTTUNES_1,  P17C,    20,  1,     22,     22,2,19910609,2007, 33.0650,-134.9967, 4763,   1618.8,   2.5133,  34.5657,2,  34.5600,2,     56.0,2,  2.4015,     56.9,2,   153.63,2,    42.20,2,     0.01,2,     3.02,2,    0.000,2,    0.000,2, -999.000,9,-999.0000,9,  -999.00,9,   -241.3,2,    -0.43,2,   2374.3,2,   -999.0,9,     4.2,-999.0000,-999.000,  -999.0,-999.000
   31WTTUNES_1,  P17C,    20,  1,     23,     23,2,19910609,2007, 33.0650,-134.9967, 4763,   1815.4,   2.2555,  34.5889,2,  34.5883,2,     65.2,2,  2.1308,     65.6,2,   161.12,2,    41.57,2,     0.01,2,     2.97,2,    0.000,2,    0.000,2, -999.000,9,-999.0000,9,  -999.00,9,   -999.0,9,  -999.00,9,   2374.2,2,   -999.0,9,  -999.0,-999.0000,-999.000,  -999.0,-999.000
   31WTTUNES_1,  P17C,    20,  1,     24,     24,2,19910609,2007, 33.0650,-134.9967, 4763,   2023.7,   2.0055,  34.6108,2,  34.6119,2,     75.7,2,  1.8670,     75.2,2,   167.78,2,    41.00,2,     0.01,2,     2.91,2,    0.018,3,    0.000,2, -999.000,9,-999.0000,9,  -999.00,9,   -999.0,9,  -999.00,9,   2373.8,2,   -999.0,9,  -999.0,-999.0000,-999.000,  -999.0,-999.000
   31WTTUNES_1,  P17C,    20,  1,     25,     25,2,19910609,2007, 33.0650,-134.9967, 4763,   2230.7,   1.8791,  34.6283,2,  34.6299,2,     86.3,2,  1.7250,     86.7,2,   168.91,2,    40.32,2,     0.01,2,     2.86,2,    0.000,2,    0.000,2, -999.000,9,-999.0000,9,  -999.00,9,   -999.0,9,  -999.00,9,   2368.6,2,   -999.0,9,  -999.0,-999.0000,-999.000,  -999.0,-999.000
   31WTTUNES_1,  P17C,    20,  1,     26,     26,2,19910609,2007, 33.0650,-134.9967, 4763,   2434.6,   1.7760,  34.6379,2,  34.6407,2,     96.9,2,  1.6058,     96.6,2,   169.42,2,    39.65,2,     0.01,2,     2.81,2,   -0.001,2,    0.000,2, -999.000,9,-999.0000,9,  -999.00,9,   -999.0,9,  -999.00,9,   2363.9,2,   -999.0,9,  -999.0,-999.0000,-999.000,  -999.0,-999.000
   31WTTUNES_1,  P17C,    20,  1,     27,     27,2,19910609,2007, 33.0650,-134.9967, 4763,   2632.7,   1.6999,  34.6442,2,  34.6486,2,    104.0,2,  1.5133,    102.6,2,   170.13,2,    38.97,2,     0.01,2,     2.77,2,    0.002,2,    0.000,2, -999.000,9,-999.0000,9,  -999.00,9,   -999.0,9,  -999.00,9,   2358.9,2,   -999.0,9,  -999.0,-999.0000,-999.000,  -999.0,-999.000
   31WTTUNES_1,  P17C,    20,  1,     28,     28,2,19910609,2007, 33.0650,-134.9967, 4763,   2835.8,   1.6320,  34.6526,2,  34.6553,2,    110.2,2,  1.4280,    109.3,2,   170.23,2,    38.57,2,     0.01,2,     2.72,2,    0.001,2,    0.000,2, -999.000,9,-999.0000,9,  -999.00,9,   -999.0,9,  -999.00,9,   2359.1,2,   -999.0,9,  -999.0,-999.0000,-999.000,  -999.0,-999.000
   31WTTUNES_1,  P17C,    20,  1,     29,     29,2,19910609,2007, 33.0650,-134.9967, 4763,   3045.7,   1.5708,  34.6580,2,  34.6616,2,    117.2,2,  1.3481,    116.5,2,   171.15,2,    38.27,2,     0.00,2,     2.69,2,    0.000,2,    0.000,2, -999.000,9,-999.0000,9,  -999.00,9,   -999.0,9,  -999.00,9,   2354.6,2,   -999.0,9,  -999.0,-999.0000,-999.000,  -999.0,-999.000
   31WTTUNES_1,  P17C,    20,  1,     30,     30,4,19910609,2007, 33.0650,-134.9967, 4763,   3045.7,   1.5708,  34.6580,2,  34.6612,2,    117.2,2,  1.3481,    116.0,2,   170.84,2,    38.38,2,     0.01,2,     2.69,2,    0.001,2,    0.000,2, -999.000,9,-999.0000,9,  -999.00,9,   -999.0,9,  -999.00,9,   2352.5,2,   -999.0,9,  -999.0,-999.0000,-999.000,  -999.0,-999.000
   31WTTUNES_1,  P17C,    20,  1,     31,     31,4,19910609,2007, 33.0650,-134.9967, 4763,   3297.2,   1.5025,  34.6657,2,  34.6704,2,    127.0,2,  1.2568,    127.2,2,   168.70,2,    37.61,2,     0.01,2,     2.63,2,    0.001,2,    0.000,2, -999.000,9,-999.0000,9,  -999.00,9,   -999.0,9,  -999.00,9,   2347.1,2,   -999.0,9,  -999.0,-999.0000,-999.000,  -999.0,-999.000
   31WTTUNES_1,  P17C,    20,  1,     32,     32,2,19910609,2007, 33.0650,-134.9967, 4763,   3812.9,   1.4790,  34.6739,2,  34.6785,2,    140.0,2,  1.1809,    139.0,2,   164.31,2,    36.89,2,     0.01,2,     2.57,2,    0.001,2,    0.000,2, -999.000,9,-999.0000,9,  -999.00,9,   -999.0,9,  -999.00,9,   2337.0,2,   -999.0,9,  -999.0,-999.0000,-999.000,  -999.0,-999.000
   31WTTUNES_1,  P17C,    20,  1,     33,     33,2,19910609,2007, 33.0650,-134.9967, 4763,   4085.9,   1.4814,  34.6796,2,  34.6810,2,    144.5,2,  1.1537,    143.7,2,   161.97,2,    36.59,2,     0.01,2,     2.55,2,   -0.001,2,   -0.004,2, -999.000,9,-999.0000,9,  -999.00,9,   -999.0,9,  -999.00,9,   2336.7,2,   -999.0,9,  -999.0,-999.0000,-999.000,  -999.0,-999.000
   31WTTUNES_1,  P17C,    20,  1,     34,     34,4,19910609,2007, 33.0650,-134.9967, 4763,   4085.9,   1.4814,  34.6796,2,  34.6810,2,    144.5,2,  1.1537,    143.9,2,   162.08,2,    36.71,2,     0.01,2,     2.54,2,   -0.001,2,   -0.004,2, -999.000,9,-999.0000,9,  -999.00,9,   -999.0,9,  -999.00,9,   -999.0,9,   -999.0,9,  -999.0,-999.0000,-999.000,  -999.0,-999.000
   31WTTUNES_1,  P17C,    20,  1,     35,     35,2,19910609,2007, 33.0650,-134.9967, 4763,   4587.7,   1.5121,  34.6826,2,  34.6842,2,    150.7,2,  1.1266,    150.3,2,   156.89,2,    36.25,2,     0.01,2,     2.51,2,    0.001,2,    0.000,2, -999.000,9,-999.0000,9,  -999.00,9,   -999.0,9,  -999.00,9,   2332.5,2,   -999.0,9,  -999.0,-999.0000,-999.000,  -999.0,-999.000
   31WTTUNES_1,  P17C,    20,  1,     36,     36,2,19910609,2007, 33.0650,-134.9967, 4763,   4848.4,   1.5425,  34.6815,2,  34.6842,2,   -999.0,9,  1.1252,    151.7,2,   157.40,2,    36.21,2,     0.00,2,     2.51,2,    0.000,2,    0.000,2, -999.000,9,-999.0000,9,  -999.00,9,   -999.0,9,  -999.00,9,   2330.8,2,   -999.0,9,  -999.0,-999.0000,-999.000,  -999.0,-999.000