BOTTLE,20220819CCHSIOAMB
EXPOCODE,SECT_ID,STNNBR,CASTNO,SAMPNO,BTLNBR,BTLNBR_FLAG_W,DATE,TIME,LATITUDE,LONGITUDE,DEPTH,CTDPRS,CTDTMP,CTDSAL,CTDSAL_FLAG_W,SALNTY,SALNTY_FLAG_W,CTDOXY,CTDOXY_FLAG_W,THETA,OXYGEN,OXYGEN_FLAG_W,SILCAT,SILCAT_FLAG_W,NITRAT,NITRAT_FLAG_W,NITRIT,NITRIT_FLAG_W,PHSPHT,PHSPHT_FLAG_W,CFC-11,CFC-11_FLAG_W,CFC-12,CFC-12_FLAG_W,TRITUM,TRITUM_FLAG_W,HELIUM,HELIUM_FLAG_W,DELHE3,DELHE3_FLAG_W,DELC14,DELC14_FLAG_W,DELC13,DELC13_FLAG_W,TCARBN,TCARBN_FLAG_W,ALKALI,ALKALI_FLAG_W,C14ERR,HELIER,DELHER,C13ERR,TRITER
,,,,,,,,,,,,DBAR,ITS-90,PSS-78,,PSS-78,,UMOL/KG,,DEG C,UMOL/KG,,UMOL/KG,,UMOL/KG,,UMOL/KG,,UMOL/KG,,PMOL/KG,,PMOL/KG,,TU,,NMOL/KG,,PERCNT,,/MILLE,,/MILLE,,UMOL/KG,,UMOL/KG,,/MILLE,NMOL/KG,PERCNT,/MILLE,TU
   31WTTUNES_1,  P17C,    26,  2,      1,      1,2,19910611,1934, 30.0333,-134.9517, 5090,      1.4,  18.4517,  34.6646,2,  34.6692,2,    237.6,3, 18.4515,    240.4,2,     3.51,2,     0.22,2,     0.00,2,     0.15,2, -999.000,9, -999.000,9, -999.000,9,-999.0000,9,  -999.00,9,    115.7,2,     1.62,2,   2022.3,2,   2312.2,2,     4.0,-999.0000,-999.000,  -999.0,-999.000
   31WTTUNES_1,  P17C,    26,  2,      2,      2,2,19910611,1934, 30.0333,-134.9517, 5090,     65.4,  18.5147,  34.7433,2,  34.7512,2,    240.5,2, 18.5033,    239.3,2,     3.31,2,     0.16,2,     0.00,2,     0.14,2, -999.000,9, -999.000,9, -999.000,9,-999.0000,9,  -999.00,9,    100.8,2,  -999.00,9,   2020.8,2,   2310.2,2,     9.0,-999.0000,-999.000,  -999.0,-999.000
   31WTTUNES_1,  P17C,    26,  2,      3,      3,2,19910611,1934, 30.0333,-134.9517, 5090,     86.1,  18.4257,  34.7458,2,  34.7510,2,    237.5,2, 18.4108,    238.9,2,     2.91,2,     0.20,2,     0.00,2,     0.14,2, -999.000,9, -999.000,9, -999.000,9,-999.0000,9,  -999.00,9,    115.3,2,  -999.00,9,   2019.4,2,   2306.2,2,     4.1,-999.0000,-999.000,  -999.0,-999.000
   31WTTUNES_1,  P17C,    26,  2,      4,      4,2,19910611,1934, 30.0333,-134.9517, 5090,    111.0,  18.2897,  34.7857,2,  34.8011,2,    231.0,2, 18.2705,    235.4,2,     2.92,2,     0.20,2,     0.00,2,     0.14,2, -999.000,9, -999.000,9, -999.000,9,-999.0000,9,  -999.00,9,    127.6,2,     1.51,2,   2021.7,2,   2311.9,2,     3.9,-999.0000,-999.000,  -999.0,-999.000
   31WTTUNES_1,  P17C,    26,  2,      5,      5,2,19910611,1934, 30.0333,-134.9517, 5090,    141.2,  18.1008,  34.8100,2,  34.8176,2,    232.3,2, 18.0765,    232.7,2,     2.93,2,     0.23,2,     0.07,2,     0.14,2, -999.000,9, -999.000,9, -999.000,9,-999.0000,9,  -999.00,9,    122.1,2,     1.43,2,   2023.3,2,   2313.3,2,     4.0,-999.0000,-999.000,  -999.0,-999.000
   31WTTUNES_1,  P17C,    26,  2,      6,      6,2,19910611,1934, 30.0333,-134.9517, 5090,    177.0,  17.1618,  34.6827,2,  34.6708,2,    224.2,2, 17.1325,    221.5,2,     3.54,2,     1.70,2,     0.04,2,     0.24,2, -999.000,9, -999.000,9, -999.000,9,-999.0000,9,  -999.00,9,    106.8,3,     1.22,2,   2032.0,2,   2295.8,2,     4.4,-999.0000,-999.000,  -999.0,-999.000
   31WTTUNES_1,  P17C,    26,  2,      7,      7,2,19910611,1934, 30.0333,-134.9517, 5090,    207.8,  14.9031,  34.3553,2,  34.3394,2,    216.2,2, 14.8720,    216.1,2,     4.36,2,     4.45,2,     0.02,2,     0.44,2, -999.000,9, -999.000,9, -999.000,9,-999.0000,9,  -999.00,9,    122.0,2,     1.03,2,   2041.7,2,   2277.5,2,     4.0,-999.0000,-999.000,  -999.0,-999.000
   31WTTUNES_1,  P17C,    26,  2,      8,      8,2,19910611,1934, 30.0333,-134.9517, 5090,    242.6,  12.4537,  34.1295,2,  34.1291,2,    213.0,2, 12.4215,    215.4,2,     8.03,2,     8.35,2,     0.01,2,     0.68,2, -999.000,9, -999.000,9, -999.000,9,-999.0000,9,  -999.00,9,    105.0,2,     0.85,2,   2056.7,2,   2262.8,2,     4.2,-999.0000,-999.000,  -999.0,-999.000
   31WTTUNES_1,  P17C,    26,  2,      9,      9,2,19910611,1934, 30.0333,-134.9517, 5090,    276.6,  10.8862,  34.0254,2,  34.0280,2,    211.4,2, 10.8525,    215.2,2,    11.90,2,    11.81,2,     0.01,2,     0.90,2, -999.000,9, -999.000,9, -999.000,9,-999.0000,9,  -999.00,9,     94.0,2,  -999.00,9,   2074.2,2,   2260.5,2,     4.0,-999.0000,-999.000,  -999.0,-999.000
   31WTTUNES_1,  P17C,    26,  2,     10,     10,2,19910611,1934, 30.0333,-134.9517, 5090,    327.1,   9.5966,  34.0231,2,  34.0284,2,    204.1,2,  9.5598,    206.2,2,    19.02,2,    16.11,2,     0.00,2,     1.17,2, -999.000,9, -999.000,9, -999.000,9,-999.0000,9,  -999.00,9,     58.5,2,     0.52,2,   2099.3,2,   2262.1,2,     4.9,-999.0000,-999.000,  -999.0,-999.000
   31WTTUNES_1,  P17C,    26,  2,     11,     11,2,19910611,1934, 30.0333,-134.9517, 5090,    403.5,   8.1472,  34.0167,2,  34.0190,2,    170.5,2,  8.1060,    173.6,2,    32.43,2,    22.74,2,     0.00,2,     1.66,2, -999.000,9, -999.000,9, -999.000,9,-999.0000,9,  -999.00,9,     26.8,2,     0.24,2,   2146.1,2,   2276.1,2,     3.8,-999.0000,-999.000,  -999.0,-999.000
   31WTTUNES_1,  P17C,    26,  2,     12,     12,2,19910611,1934, 30.0333,-134.9517, 5090,    485.7,   6.8318,  34.0073,2,  34.0123,2,    117.9,2,  6.7868,    122.0,2,    50.52,2,    30.10,2,     0.00,2,     2.17,2, -999.000,9, -999.000,9, -999.000,9,-999.0000,9,  -999.00,9,    -31.0,6,    -0.04,2,   2202.9,2,   2286.9,2,     3.2,-999.0000,-999.000,  -999.0,-999.000
   31WTTUNES_1,  P17C,    26,  2,     13,     13,2,19910611,1934, 30.0333,-134.9517, 5090,    611.2,   5.4885,  34.0879,2,  34.0931,2,     54.8,2,  5.4374,     52.2,2,    77.74,2,    38.43,2,     0.00,2,     2.84,2, -999.000,9, -999.000,9, -999.000,9,-999.0000,9,  -999.00,9,   -111.8,2,    -0.37,2,   2282.1,2,   -999.0,9,     3.6,-999.0000,-999.000,  -999.0,-999.000
   31WTTUNES_1,  P17C,    26,  2,     14,     14,2,19910611,1934, 30.0333,-134.9517, 5090,    704.7,   4.7939,  34.1868,2,  34.1930,2,     25.9,2,  4.7382,     24.4,2,    95.41,2,    41.76,2,     0.00,2,     3.11,2, -999.000,9, -999.000,9, -999.000,9,-999.0000,9,  -999.00,9,   -147.8,2,    -0.49,2,   2319.3,2,   -999.0,9,     3.2,-999.0000,-999.000,  -999.0,-999.000
   31WTTUNES_1,  P17C,    26,  2,     15,     15,2,19910611,1934, 30.0333,-134.9517, 5090,    815.0,   4.3622,  34.2926,2,  34.2946,2,     14.9,2,  4.2996,     14.5,2,   109.01,2,    43.25,2,     0.00,2,     3.20,2, -999.000,9, -999.000,9, -999.000,9,-999.0000,9,  -999.00,9,   -187.5,2,    -0.59,2,   2342.5,2,   -999.0,9,     3.5,-999.0000,-999.000,  -999.0,-999.000
   31WTTUNES_1,  P17C,    26,  2,     16,     16,2,19910611,1934, 30.0333,-134.9517, 5090,    917.0,   4.1293,  34.3614,2,  34.3649,2,     13.8,2,  4.0598,     15.0,2,   116.52,2,    43.59,2,     0.00,2,     3.21,2, -999.000,9, -999.000,9, -999.000,9,-999.0000,9,  -999.00,9,   -219.4,2,    -0.54,2,   2351.5,2,   -999.0,9,    11.6,-999.0000,-999.000,  -999.0,-999.000
   31WTTUNES_1,  P17C,    26,  2,     17,     17,2,19910611,1934, 30.0333,-134.9517, 5090,   1015.5,   3.7575,  34.3939,2,  34.3978,2,     16.4,2,  3.6827,     16.2,2,   125.86,2,    43.92,2,     0.00,2,     3.34,4, -999.000,9, -999.000,9, -999.000,9,-999.0000,9,  -999.00,9,   -999.0,9,  -999.00,9,   2359.9,2,   -999.0,9,  -999.0,-999.0000,-999.000,  -999.0,-999.000
   31WTTUNES_1,  P17C,    26,  2,     18,     18,2,19910611,1934, 30.0333,-134.9517, 5090,   1213.1,   3.2388,  34.4905,2,  34.4952,2,     34.5,2,  3.1523,     33.7,2,   136.62,2,    43.36,2,     0.00,2,  -999.00,9, -999.000,9, -999.000,9, -999.000,9,-999.0000,9,  -999.00,9,   -999.0,9,  -999.00,9,   2365.6,2,   -999.0,9,  -999.0,-999.0000,-999.000,  -999.0,-999.000
   31WTTUNES_1,  P17C,    26,  2,     19,     19,2,19910611,1934, 30.0333,-134.9517, 5090,   1412.7,   2.8621,  34.5429,2,  34.5470,2,     48.1,2,  2.7631,     49.6,2,   144.33,2,    42.41,2,     0.00,2,  -999.00,9, -999.000,9, -999.000,9, -999.000,9,-999.0000,9,  -999.00,9,   -999.0,9,  -999.00,9,   2365.8,2,   -999.0,9,  -999.0,-999.0000,-999.000,  -999.0,-999.000
   31WTTUNES_1,  P17C,    26,  2,     20,     20,2,19910611,1934, 30.0333,-134.9517, 5090,   1621.2,   2.5813,  34.5673,2,  34.5710,2,     58.0,2,  2.4684,     58.9,2,   152.04,2,    41.86,2,     0.00,2,     3.14,4, -999.000,9, -999.000,9, -999.000,9,-999.0000,9,  -999.00,9,   -999.0,9,  -999.00,9,   2368.7,2,   -999.0,9,  -999.0,-999.0000,-999.000,  -999.0,-999.000
   31WTTUNES_1,  P17C,    26,  2,     21,     21,2,19910611,1934, 30.0333,-134.9517, 5090,   1826.9,   2.2775,  34.5928,2,  34.5965,2,     68.7,2,  2.1516,     69.0,2,   160.36,2,    41.47,2,     0.00,2,     2.98,4, -999.000,9, -999.000,9, -999.000,9,-999.0000,9,  -999.00,9,   -999.0,9,  -999.00,9,   2368.9,2,   -999.0,9,  -999.0,-999.0000,-999.000,  -999.0,-999.000
   31WTTUNES_1,  P17C,    26,  2,     22,     22,2,19910611,1934, 30.0333,-134.9517, 5090,   2029.4,   2.0476,  34.6129,2,  34.6150,2,     79.1,2,  1.9080,     82.4,3,   165.63,2,    40.65,2,     0.00,2,     2.98,4, -999.000,9, -999.000,9, -999.000,9,-999.0000,9,  -999.00,9,   -999.0,9,  -999.00,9,   2366.7,2,   -999.0,9,  -999.0,-999.0000,-999.000,  -999.0,-999.000
   31WTTUNES_1,  P17C,    26,  2,     23,     23,2,19910611,1934, 30.0333,-134.9517, 5090,   2231.4,   1.8817,  34.6311,2,  34.6307,2,     88.9,2,  1.7275,     88.4,2,   170.90,4,    39.93,2,     0.00,2,  -999.00,9, -999.000,9, -999.000,9, -999.000,9,-999.0000,9,  -999.00,9,   -999.0,9,  -999.00,9,   2365.2,2,   -999.0,9,  -999.0,-999.0000,-999.000,  -999.0,-999.000
   31WTTUNES_1,  P17C,    26,  2,     24,     24,2,19910611,1934, 30.0333,-134.9517, 5090,   2431.8,   1.7728,  34.6397,2,  34.6421,2,     97.0,2,  1.6029,     97.3,2,  -999.00,9,    39.50,2,     0.01,2,  -999.00,9, -999.000,9, -999.000,9, -999.000,9,-999.0000,9,  -999.00,9,   -999.0,9,  -999.00,9,   2362.9,2,   -999.0,9,  -999.0,-999.0000,-999.000,  -999.0,-999.000
   31WTTUNES_1,  P17C,    26,  2,     25,     25,2,19910611,1934, 30.0333,-134.9517, 5090,   2641.5,   1.6779,  34.6512,2,  34.6527,2,    105.0,2,  1.4909,    104.5,2,   173.54,4,    39.06,2,     0.00,2,  -999.00,9, -999.000,9, -999.000,9, -999.000,9,-999.0000,9,  -999.00,9,   -999.0,9,  -999.00,9,   2364.7,2,   -999.0,9,  -999.0,-999.0000,-999.000,  -999.0,-999.000
   31WTTUNES_1,  P17C,    26,  2,     26,     26,2,19910611,1934, 30.0333,-134.9517, 5090,   2840.6,   1.6089,  34.6587,2,  34.6582,2,    112.3,2,  1.4049,    112.0,2,   173.94,4,    38.62,2,     0.00,2,  -999.00,9, -999.000,9, -999.000,9, -999.000,9,-999.0000,9,  -999.00,9,   -999.0,9,  -999.00,9,   2358.9,2,   -999.0,9,  -999.0,-999.0000,-999.000,  -999.0,-999.000
   31WTTUNES_1,  P17C,    26,  2,     27,     27,2,19910611,1934, 30.0333,-134.9517, 5090,   3040.8,   1.5500,  34.6649,2,  34.6651,2,    119.9,2,  1.3282,    119.0,2,   173.32,4,    38.13,2,     0.00,2,  -999.00,9, -999.000,9, -999.000,9, -999.000,9,-999.0000,9,  -999.00,9,   -999.0,9,  -999.00,9,   2355.6,2,   -999.0,9,  -999.0,-999.0000,-999.000,  -999.0,-999.000
   31WTTUNES_1,  P17C,    26,  2,     28,     28,2,19910611,1934, 30.0333,-134.9517, 5090,   3297.1,   1.5040,  34.6727,2,  34.6720,2,    128.5,2,  1.2582,    127.9,2,   171.09,4,    37.65,2,     0.00,2,     2.63,2, -999.000,9, -999.000,9, -999.000,9,-999.0000,9,  -999.00,9,   -999.0,9,  -999.00,9,   2345.4,2,   -999.0,9,  -999.0,-999.0000,-999.000,  -999.0,-999.000
   31WTTUNES_1,  P17C,    26,  2,     29,     29,2,19910611,1934, 30.0333,-134.9517, 5090,   3547.7,   1.4800,  34.6779,2,  34.6773,2,    135.7,2,  1.2095,    135.4,2,  -999.00,9,    37.16,2,     0.00,2,  -999.00,9, -999.000,9, -999.000,9, -999.000,9,-999.0000,9,  -999.00,9,   -999.0,9,  -999.00,9,   2344.0,2,   -999.0,9,  -999.0,-999.0000,-999.000,  -999.0,-999.000
   31WTTUNES_1,  P17C,    26,  2,     30,     30,2,19910611,1934, 30.0333,-134.9517, 5090,   3704.2,   1.4730,  34.6796,2,  34.6800,2,    139.2,2,  1.1865,    140.2,2,   167.03,4,    36.94,2,     0.00,2,     2.64,4, -999.000,9, -999.000,9, -999.000,9,-999.0000,9,  -999.00,9,   -999.0,9,  -999.00,9,   2340.2,2,   -999.0,9,  -999.0,-999.0000,-999.000,  -999.0,-999.000
   31WTTUNES_1,  P17C,    26,  2,     31,     31,2,19910611,1934, 30.0333,-134.9517, 5090,   4054.2,   1.4900,  34.6824,2,  34.6830,2,    143.3,2,  1.1655,    143.2,2,   165.20,4,    36.67,2,     0.01,2,     2.55,2, -999.000,9, -999.000,9, -999.000,9,-999.0000,9,  -999.00,9,   -999.0,9,  -999.00,9,   2332.9,2,   -999.0,9,  -999.0,-999.0000,-999.000,  -999.0,-999.000
   31WTTUNES_1,  P17C,    26,  2,     32,     32,2,19910611,1934, 30.0333,-134.9517, 5090,   4311.6,   1.5130,  34.6831,2,  34.6840,2,    144.1,2,  1.1592,    144.7,2,   164.19,4,    36.62,2,     0.00,2,     2.57,2, -999.000,9, -999.000,9, -999.000,9,-999.0000,9,  -999.00,9,   -999.0,9,  -999.00,9,   2335.6,2,   -999.0,9,  -999.0,-999.0000,-999.000,  -999.0,-999.000
   31WTTUNES_1,  P17C,    26,  2,     33,     33,2,19910611,1934, 30.0333,-134.9517, 5090,   4577.3,   1.5420,  34.6836,2,  34.6838,2,    144.8,2,  1.1567,    144.9,2,   164.18,4,    36.62,2,     0.00,2,     2.53,2, -999.000,9, -999.000,9, -999.000,9,-999.0000,9,  -999.00,9,   -999.0,9,  -999.00,9,   2334.4,2,   -999.0,9,  -999.0,-999.0000,-999.000,  -999.0,-999.000
   31WTTUNES_1,  P17C,    26,  2,     34,     34,2,19910611,1934, 30.0333,-134.9517, 5090,   4814.0,   1.5700,  34.6854,2,  34.6842,2,    145.1,2,  1.1559,    145.1,2,   163.98,4,    36.57,2,     0.00,2,     2.53,2, -999.000,9, -999.000,9, -999.000,9,-999.0000,9,  -999.00,9,   -999.0,9,  -999.00,9,   2334.1,2,   -999.0,9,  -999.0,-999.0000,-999.000,  -999.0,-999.000
   31WTTUNES_1,  P17C,    26,  2,     35,     35,2,19910611,1934, 30.0333,-134.9517, 5090,   5081.1,   1.6039,  34.6833,2,  34.6840,2,    145.1,2,  1.1563,    144.5,2,   164.18,4,    36.56,2,     0.00,2,     2.55,2, -999.000,9, -999.000,9, -999.000,9,-999.0000,9,  -999.00,9,   -999.0,9,  -999.00,9,   2333.1,2,   -999.0,9,  -999.0,-999.0000,-999.000,  -999.0,-999.000
   31WTTUNES_1,  P17C,    26,  2,     36,     36,3,19910611,1934, 30.0333,-134.9517, 5090,   5270.9,   1.6289,  34.6831,2,  34.6834,2,   -999.0,9,  1.1568,    144.9,2,   163.17,4,    36.62,2,     0.00,2,     2.55,2, -999.000,9, -999.000,9, -999.000,9,-999.0000,9,  -999.00,9,   -999.0,9,  -999.00,9,   -999.0,9,   -999.0,9,  -999.0,-999.0000,-999.000,  -999.0,-999.000