BOTTLE,20220819CCHSIOAMB
EXPOCODE,SECT_ID,STNNBR,CASTNO,SAMPNO,BTLNBR,BTLNBR_FLAG_W,DATE,TIME,LATITUDE,LONGITUDE,DEPTH,CTDPRS,CTDTMP,CTDSAL,CTDSAL_FLAG_W,SALNTY,SALNTY_FLAG_W,CTDOXY,CTDOXY_FLAG_W,THETA,OXYGEN,OXYGEN_FLAG_W,SILCAT,SILCAT_FLAG_W,NITRAT,NITRAT_FLAG_W,NITRIT,NITRIT_FLAG_W,PHSPHT,PHSPHT_FLAG_W,CFC-11,CFC-11_FLAG_W,CFC-12,CFC-12_FLAG_W,TRITUM,TRITUM_FLAG_W,HELIUM,HELIUM_FLAG_W,DELHE3,DELHE3_FLAG_W,DELC14,DELC14_FLAG_W,DELC13,DELC13_FLAG_W,TCARBN,TCARBN_FLAG_W,ALKALI,ALKALI_FLAG_W,C14ERR,HELIER,DELHER,C13ERR,TRITER
,,,,,,,,,,,,DBAR,ITS-90,PSS-78,,PSS-78,,UMOL/KG,,DEG C,UMOL/KG,,UMOL/KG,,UMOL/KG,,UMOL/KG,,UMOL/KG,,PMOL/KG,,PMOL/KG,,TU,,NMOL/KG,,PERCNT,,/MILLE,,/MILLE,,UMOL/KG,,UMOL/KG,,/MILLE,NMOL/KG,PERCNT,/MILLE,TU
   31WTTUNES_1,  P17C,    46,  2,      1,      1,2,19910618,0108, 19.9817,-135.0167, 5257,      0.4,  22.6549,  34.7229,2,  34.7270,2,    226.7,3, 22.6548,    220.5,2,     2.83,2,     0.20,2,     0.00,2,     0.15,2,    2.303,2,    1.293,2, -999.000,9,-999.0000,9,  -999.00,9,     61.7,2,     0.68,2,   -999.0,9,   -999.0,9,     4.5,-999.0000,-999.000,  -999.0,-999.000
   31WTTUNES_1,  P17C,    46,  2,      2,      2,2,19910618,0108, 19.9817,-135.0167, 5257,     27.0,  22.2439,  34.7339,2,  34.7457,2,    226.8,2, 22.2385,    222.9,2,     2.64,2,     0.20,2,     0.00,2,     0.15,2,    2.150,2,    1.178,2, -999.000,9,-999.0000,9,  -999.00,9,   -999.0,9,  -999.00,9,   -999.0,9,   -999.0,9,  -999.0,-999.0000,-999.000,  -999.0,-999.000
   31WTTUNES_1,  P17C,    46,  2,      3,      3,2,19910618,0108, 19.9817,-135.0167, 5257,     77.7,  21.0588,  34.9288,2,  34.9306,2,    225.7,2, 21.0439,    226.0,2,     2.83,2,     0.20,2,     0.00,2,     0.13,2,    2.192,2,    1.177,2, -999.000,9,-999.0000,9,  -999.00,9,     87.3,2,     1.53,2,   -999.0,9,   -999.0,9,     3.6,-999.0000,-999.000,  -999.0,-999.000
   31WTTUNES_1,  P17C,    46,  2,      4,      4,2,19910618,0108, 19.9817,-135.0167, 5257,    102.0,  20.5877,  34.9356,2,  34.9332,2,    227.9,2, 20.5685,    225.5,2,     2.64,2,     0.20,2,     0.00,2,     0.14,2, -999.000,9, -999.000,9, -999.000,9,-999.0000,9,  -999.00,9,    100.9,2,     1.48,2,   -999.0,9,   -999.0,9,     3.7,-999.0000,-999.000,  -999.0,-999.000
   31WTTUNES_1,  P17C,    46,  2,      5,      5,2,19910618,0108, 19.9817,-135.0167, 5257,    127.3,  19.9407,  34.9102,2,  34.9052,2,    223.3,2, 19.9173,    226.7,2,     2.44,2,     0.20,2,     0.01,2,     0.14,2,    2.334,2,    1.262,2, -999.000,9,-999.0000,9,  -999.00,9,     84.7,3,     1.09,2,   -999.0,9,   -999.0,9,     3.6,-999.0000,-999.000,  -999.0,-999.000
   31WTTUNES_1,  P17C,    46,  2,      6,      6,2,19910618,0108, 19.9817,-135.0167, 5257,    178.7,  16.6679,  34.5326,2,  34.5389,2,    204.8,2, 16.6389,    203.0,2,     4.40,2,     3.32,2,     0.02,2,     0.37,2,    2.466,2,    1.327,2, -999.000,9,-999.0000,9,  -999.00,9,    107.4,2,     1.03,2,   -999.0,9,   -999.0,9,     3.6,-999.0000,-999.000,  -999.0,-999.000
   31WTTUNES_1,  P17C,    46,  2,      7,      7,2,19910618,0108, 19.9817,-135.0167, 5257,    203.1,  14.5932,  34.3093,2,  34.2788,2,    192.1,2, 14.5632,    191.2,2,     7.14,2,     7.04,2,     0.01,2,     0.63,2,    2.483,2,    1.271,2, -999.000,9,-999.0000,9,  -999.00,9,    111.1,2,     0.86,2,   -999.0,9,   -999.0,9,     3.5,-999.0000,-999.000,  -999.0,-999.000
   31WTTUNES_1,  P17C,    46,  2,      8,      8,2,19910618,0108, 19.9817,-135.0167, 5257,    221.8,  13.1125,  34.1695,2,  34.1592,2,    176.1,2, 13.0820,    181.9,2,    10.36,2,    10.46,2,     0.01,2,     0.84,2,    2.352,2,    1.207,2, -999.000,9,-999.0000,9,  -999.00,9,     97.2,2,     0.68,2,   -999.0,9,   -999.0,9,     3.2,-999.0000,-999.000,  -999.0,-999.000
   31WTTUNES_1,  P17C,    46,  2,      9,      9,2,19910618,0108, 19.9817,-135.0167, 5257,    258.3,  10.4773,  34.0386,2,  34.0464,2,    169.0,2, 10.4467,    168.1,2,    20.05,2,    17.70,2,     0.01,2,     1.31,2,    2.037,2,    1.017,2, -999.000,9,-999.0000,9,  -999.00,9,     52.1,2,     0.35,2,   -999.0,9,   -999.0,9,     3.1,-999.0000,-999.000,  -999.0,-999.000
   31WTTUNES_1,  P17C,    46,  2,     10,     10,2,19910618,0108, 19.9817,-135.0167, 5257,    304.0,   9.0828,  34.1036,2,  34.1054,2,    137.9,2,  9.0498,    137.4,2,    31.00,2,    23.37,2,     0.00,2,     1.72,2,    1.373,2,    0.685,2, -999.000,9,-999.0000,9,  -999.00,9,      7.3,2,     0.10,2,   -999.0,9,   -999.0,9,     9.2,-999.0000,-999.000,  -999.0,-999.000
   31WTTUNES_1,  P17C,    46,  2,     11,     11,2,19910618,0108, 19.9817,-135.0167, 5257,    355.2,   8.2902,  34.2116,2,  34.2085,2,     74.5,2,  8.2535,     77.0,2,    45.17,2,    29.43,2,     0.00,2,     2.29,2,    0.489,2,    0.257,2, -999.000,9,-999.0000,9,  -999.00,9,    -58.3,2,    -0.19,2,   -999.0,9,   -999.0,9,     4.0,-999.0000,-999.000,  -999.0,-999.000
   31WTTUNES_1,  P17C,    46,  2,     12,     12,2,19910618,0108, 19.9817,-135.0167, 5257,    406.6,   7.8004,  34.2828,2,  34.2870,2,     45.2,2,  7.7597,     41.3,2,    54.07,2,    32.75,2,     0.00,2,     2.60,2,    0.148,2,    0.086,2, -999.000,9,-999.0000,9,  -999.00,9,    -81.9,2,    -0.26,2,   -999.0,9,   -999.0,9,     2.9,-999.0000,-999.000,  -999.0,-999.000
   31WTTUNES_1,  P17C,    46,  2,     13,     13,2,19910618,0108, 19.9817,-135.0167, 5257,    503.7,   6.8678,  34.3788,2,  34.3778,2,     13.6,2,  6.8206,     13.9,2,    66.77,2,    37.35,2,     0.00,2,     2.91,2,    0.012,2,    0.009,2, -999.000,9,-999.0000,9,  -999.00,9,   -121.8,2,    -0.25,3,   -999.0,9,   -999.0,9,     2.9,-999.0000,-999.000,  -999.0,-999.000
   31WTTUNES_1,  P17C,    46,  2,     14,     14,2,19910618,0108, 19.9817,-135.0167, 5257,    606.1,   6.0992,  34.4164,2,  34.4196,2,     11.5,2,  6.0454,     11.3,2,    77.92,2,    40.28,2,     0.00,2,     3.03,2,    0.004,2,    0.002,2, -999.000,9,-999.0000,9,  -999.00,9,   -147.2,2,    -0.41,2,   -999.0,9,   -999.0,9,     3.6,-999.0000,-999.000,  -999.0,-999.000
   31WTTUNES_1,  P17C,    46,  2,     15,     15,2,19910618,0108, 19.9817,-135.0167, 5257,    708.7,   5.4575,  34.4525,2,  34.4544,2,     11.9,2,  5.3976,     12.9,2,    88.08,2,    42.23,2,     0.00,2,     3.10,2,    0.001,2,   -0.002,2, -999.000,9,-999.0000,9,  -999.00,9,   -155.0,2,    -0.40,2,   -999.0,9,   -999.0,9,     2.9,-999.0000,-999.000,  -999.0,-999.000
   31WTTUNES_1,  P17C,    46,  2,     16,     16,2,19910618,0108, 19.9817,-135.0167, 5257,    811.5,   4.9998,  34.4753,2,  34.4754,2,     15.6,2,  4.9333,     17.1,2,    95.70,2,    43.01,2,     0.00,2,     3.13,2,    0.002,2,   -0.003,2, -999.000,9,-999.0000,9,  -999.00,9,   -184.6,6,    -0.39,2,   -999.0,9,   -999.0,9,     3.5,-999.0000,-999.000,  -999.0,-999.000
   31WTTUNES_1,  P17C,    46,  2,     17,     17,2,19910618,0108, 19.9817,-135.0167, 5257,    908.8,   4.5940,  34.4912,2,  34.4939,2,     20.6,2,  4.5218,     21.2,2,   103.52,2,    43.70,3,     0.00,2,     3.15,2,   -0.001,2,   -0.002,2, -999.000,9,-999.0000,9,  -999.00,9,   -194.7,2,    -0.41,2,   -999.0,9,   -999.0,9,     2.6,-999.0000,-999.000,  -999.0,-999.000
   31WTTUNES_1,  P17C,    46,  2,     18,     18,2,19910618,0108, 19.9817,-135.0167, 5257,   1005.9,   4.2522,  34.5064,2,  34.5090,2,     26.2,2,  4.1741,     25.7,2,   109.97,2,    43.70,3,     0.01,2,     3.14,2,    0.004,2,    0.003,2, -999.000,9,-999.0000,9,  -999.00,9,   -999.0,9,  -999.00,9,   -999.0,9,   -999.0,9,  -999.0,-999.0000,-999.000,  -999.0,-999.000
   31WTTUNES_1,  P17C,    46,  2,     19,     19,2,19910618,0108, 19.9817,-135.0167, 5257,   1212.0,   3.6066,  34.5459,2,  34.5446,2,     35.0,2,  3.5166,     35.4,2,   123.66,2,    43.70,3,     0.00,2,     3.12,2,    0.001,2,   -0.002,2, -999.000,9,-999.0000,9,  -999.00,9,   -999.0,9,  -999.00,9,   -999.0,9,   -999.0,9,  -999.0,-999.0000,-999.000,  -999.0,-999.000
   31WTTUNES_1,  P17C,    46,  2,     20,     20,2,19910618,0108, 19.9817,-135.0167, 5257,   1412.3,   3.0490,  34.5705,2,  34.5709,2,     51.5,2,  2.9479,     52.9,2,   133.92,2,    42.52,3,     0.01,2,     3.01,2,   -0.001,2,   -0.003,2, -999.000,9,-999.0000,9,  -999.00,9,   -999.0,9,  -999.00,9,   -999.0,9,   -999.0,9,  -999.0,-999.0000,-999.000,  -999.0,-999.000
   31WTTUNES_1,  P17C,    46,  2,     21,     21,2,19910618,0108, 19.9817,-135.0167, 5257,   1618.2,   2.6552,  34.5942,2,  34.5953,2,     64.0,2,  2.5416,     65.1,2,   143.01,2,    41.93,3,     0.01,2,     2.93,2,    0.003,2,    0.005,2, -999.000,9,-999.0000,9,  -999.00,9,   -999.0,9,  -999.00,9,   -999.0,9,   -999.0,9,  -999.0,-999.0000,-999.000,  -999.0,-999.000
   31WTTUNES_1,  P17C,    46,  2,     22,     22,2,19910618,0108, 19.9817,-135.0167, 5257,   1819.0,   2.3354,  34.6127,2,  34.6134,2,     77.9,2,  2.2093,     78.9,2,   149.16,2,    41.05,3,     0.01,2,     2.86,2,    0.000,2,    0.000,2, -999.000,9,-999.0000,9,  -999.00,9,   -999.0,9,  -999.00,9,   -999.0,9,   -999.0,9,  -999.0,-999.0000,-999.000,  -999.0,-999.000
   31WTTUNES_1,  P17C,    46,  2,     23,     23,2,19910618,0108, 19.9817,-135.0167, 5257,   2020.4,   2.1066,  34.6263,2,  34.6264,2,     89.4,2,  1.9668,     89.5,2,   153.36,2,    40.37,3,     0.01,2,     2.80,2, -999.000,9, -999.000,9, -999.000,9,-999.0000,9,  -999.00,9,   -999.0,9,  -999.00,9,   -999.0,9,   -999.0,9,  -999.0,-999.0000,-999.000,  -999.0,-999.000
   31WTTUNES_1,  P17C,    46,  2,     24,     24,2,19910618,0108, 19.9817,-135.0167, 5257,   2273.0,   1.9107,  34.6398,2,  34.6403,2,     99.3,2,  1.7523,    100.0,2,   157.27,2,    39.68,3,     0.01,2,     2.74,2, -999.000,9, -999.000,9, -999.000,9,-999.0000,9,  -999.00,9,   -999.0,9,  -999.00,9,   -999.0,9,   -999.0,9,  -999.0,-999.0000,-999.000,  -999.0,-999.000
   31WTTUNES_1,  P17C,    46,  2,     25,     25,2,19910618,0108, 19.9817,-135.0167, 5257,   2531.9,   1.7718,  34.6504,2,  34.6523,2,    109.0,2,  1.5929,    108.4,2,   159.81,2,    39.10,3,     0.01,2,     2.69,2, -999.000,9, -999.000,9, -999.000,9,-999.0000,9,  -999.00,9,   -999.0,9,  -999.00,9,   -999.0,9,   -999.0,9,  -999.0,-999.0000,-999.000,  -999.0,-999.000
   31WTTUNES_1,  P17C,    46,  2,     26,     26,2,19910618,0108, 19.9817,-135.0167, 5257,   2785.8,   1.6799,  34.6597,2,  34.6598,2,    116.3,2,  1.4795,    115.3,2,   161.37,2,    38.71,3,     0.00,2,     2.66,2, -999.000,9, -999.000,9, -999.000,9,-999.0000,9,  -999.00,9,   -999.0,9,  -999.00,9,   -999.0,9,   -999.0,9,  -999.0,-999.0000,-999.000,  -999.0,-999.000
   31WTTUNES_1,  P17C,    46,  2,     27,     27,2,19910618,0108, 19.9817,-135.0167, 5257,   3039.3,   1.6009,  34.6673,2,  34.6681,2,    123.7,2,  1.3782,    122.7,2,   162.64,2,    38.22,3,     0.00,2,     2.61,2, -999.000,9, -999.000,9, -999.000,9,-999.0000,9,  -999.00,9,   -999.0,9,  -999.00,9,   -999.0,9,   -999.0,9,  -999.0,-999.0000,-999.000,  -999.0,-999.000
   31WTTUNES_1,  P17C,    46,  2,     28,     28,2,19910618,0108, 19.9817,-135.0167, 5257,   3298.6,   1.5400,  34.6726,2,  34.6738,2,    131.0,2,  1.2932,    131.1,2,   162.74,2,    37.73,3,     0.01,2,     2.58,2, -999.000,9, -999.000,9, -999.000,9,-999.0000,9,  -999.00,9,   -999.0,9,  -999.00,9,   -999.0,9,   -999.0,9,  -999.0,-999.0000,-999.000,  -999.0,-999.000
   31WTTUNES_1,  P17C,    46,  2,     29,     29,2,19910618,0108, 19.9817,-135.0167, 5257,   3547.9,   1.5090,  34.6772,2,  34.6772,2,    136.6,2,  1.2377,    136.5,2,   162.06,2,    37.24,3,     0.00,2,     2.56,2, -999.000,9, -999.000,9, -999.000,9,-999.0000,9,  -999.00,9,   -999.0,9,  -999.00,9,   -999.0,9,   -999.0,9,  -999.0,-999.0000,-999.000,  -999.0,-999.000
   31WTTUNES_1,  P17C,    46,  2,     30,     30,2,19910618,0108, 19.9817,-135.0167, 5257,   3807.5,   1.4930,  34.6807,2,  34.6803,2,    142.0,2,  1.1950,    141.2,2,   159.42,2,    36.95,3,     0.00,2,     2.53,2, -999.000,9, -999.000,9, -999.000,9,-999.0000,9,  -999.00,9,   -999.0,9,  -999.00,9,   -999.0,9,   -999.0,9,  -999.0,-999.0000,-999.000,  -999.0,-999.000
   31WTTUNES_1,  P17C,    46,  2,     31,     31,2,19910618,0108, 19.9817,-135.0167, 5257,   4062.3,   1.4740,  34.6844,2,  34.6847,2,    148.6,2,  1.1491,    147.8,2,   155.41,2,    36.56,3,     0.00,2,     2.49,2, -999.000,9, -999.000,9, -999.000,9,-999.0000,9,  -999.00,9,   -999.0,9,  -999.00,9,   -999.0,9,   -999.0,9,  -999.0,-999.0000,-999.000,  -999.0,-999.000
   31WTTUNES_1,  P17C,    46,  2,     32,     32,2,19910618,0108, 19.9817,-135.0167, 5257,   4316.4,   1.4510,  34.6874,2,  34.6884,2,    156.4,2,  1.0985,    156.3,2,   150.13,2,    35.87,3,     0.00,2,     2.45,2, -999.000,9, -999.000,9, -999.000,9,-999.0000,9,  -999.00,9,   -999.0,9,  -999.00,9,   -999.0,9,   -999.0,9,  -999.0,-999.0000,-999.000,  -999.0,-999.000
   31WTTUNES_1,  P17C,    46,  2,     33,     33,2,19910618,0108, 19.9817,-135.0167, 5257,   4577.0,   1.4380,  34.6915,2,  34.6910,2,    163.5,2,  1.0561,    162.3,2,   145.34,2,    35.48,3,     0.00,2,     2.41,2,    0.000,2,    0.000,2, -999.000,9,-999.0000,9,  -999.00,9,   -999.0,9,  -999.00,9,   -999.0,9,   -999.0,9,  -999.0,-999.0000,-999.000,  -999.0,-999.000
   31WTTUNES_1,  P17C,    46,  2,     34,     34,2,19910618,0108, 19.9817,-135.0167, 5257,   4837.8,   1.4430,  34.6935,2,  34.6924,2,    167.4,2,  1.0302,    166.8,2,   142.60,2,    35.19,3,     0.00,2,     2.39,2,    0.001,2,    0.000,2, -999.000,9,-999.0000,9,  -999.00,9,   -999.0,9,  -999.00,9,   -999.0,9,   -999.0,9,  -999.0,-999.0000,-999.000,  -999.0,-999.000
   31WTTUNES_1,  P17C,    46,  2,     35,     35,2,19910618,0108, 19.9817,-135.0167, 5257,   5098.8,   1.4640,  34.6942,2,  34.6934,2,    169.7,2,  1.0189,    168.6,2,   141.43,2,    35.19,3,     0.01,2,     2.38,2,   -0.002,2,    0.000,2, -999.000,9,-999.0000,9,  -999.00,9,   -999.0,9,  -999.00,9,   -999.0,9,   -999.0,9,  -999.0,-999.0000,-999.000,  -999.0,-999.000
   31WTTUNES_1,  P17C,    46,  2,     36,     36,2,19910618,0108, 19.9817,-135.0167, 5257,   5345.1,   1.4940,  34.6943,2,  34.6930,2,   -999.0,9,  1.0173,    168.6,2,   141.04,2,    35.09,3,     0.01,2,     2.39,2,    0.000,2,    0.000,2, -999.000,9,-999.0000,9,  -999.00,9,   -999.0,9,  -999.00,9,   -999.0,9,   -999.0,9,  -999.0,-999.0000,-999.000,  -999.0,-999.000