BOTTLE,20220819CCHSIOAMB
EXPOCODE,SECT_ID,STNNBR,CASTNO,SAMPNO,BTLNBR,BTLNBR_FLAG_W,DATE,TIME,LATITUDE,LONGITUDE,DEPTH,CTDPRS,CTDTMP,CTDSAL,CTDSAL_FLAG_W,SALNTY,SALNTY_FLAG_W,CTDOXY,CTDOXY_FLAG_W,THETA,OXYGEN,OXYGEN_FLAG_W,SILCAT,SILCAT_FLAG_W,NITRAT,NITRAT_FLAG_W,NITRIT,NITRIT_FLAG_W,PHSPHT,PHSPHT_FLAG_W,CFC-11,CFC-11_FLAG_W,CFC-12,CFC-12_FLAG_W,TRITUM,TRITUM_FLAG_W,HELIUM,HELIUM_FLAG_W,DELHE3,DELHE3_FLAG_W,DELC14,DELC14_FLAG_W,DELC13,DELC13_FLAG_W,TCARBN,TCARBN_FLAG_W,ALKALI,ALKALI_FLAG_W,C14ERR,HELIER,DELHER,C13ERR,TRITER
,,,,,,,,,,,,DBAR,ITS-90,PSS-78,,PSS-78,,UMOL/KG,,DEG C,UMOL/KG,,UMOL/KG,,UMOL/KG,,UMOL/KG,,UMOL/KG,,PMOL/KG,,PMOL/KG,,TU,,NMOL/KG,,PERCNT,,/MILLE,,/MILLE,,UMOL/KG,,UMOL/KG,,/MILLE,NMOL/KG,PERCNT,/MILLE,TU
   31WTTUNES_1,  P17C,   120,  1,     13,     13,2,19910706,0142, -4.4667,-135.0000, 4647,      0.2,  27.7356,  35.2732,2,  35.2762,2,    212.2,3, 27.7356,    213.9,2,     2.95,2,     4.89,2,     0.10,2,     0.54,2,    1.642,2,    0.922,2, -999.000,9,-999.0000,9,  -999.00,9,   -999.0,9,  -999.00,9,   -999.0,9,   -999.0,9,  -999.0,-999.0000,-999.000,  -999.0,-999.000
   31WTTUNES_1,  P17C,   120,  1,     14,     14,2,19910706,0142, -4.4667,-135.0000, 4647,     52.0,  27.7011,  35.2702,2,  35.2724,2,    215.3,2, 27.6889,    211.6,2,     2.94,2,     4.94,2,     0.10,2,     0.55,2,    1.640,2,    0.924,2, -999.000,9,-999.0000,9,  -999.00,9,   -999.0,9,  -999.00,9,   -999.0,9,   -999.0,9,  -999.0,-999.0000,-999.000,  -999.0,-999.000
   31WTTUNES_1,  P17C,   120,  1,     15,     15,2,19910706,0142, -4.4667,-135.0000, 4647,     77.7,  25.7043,  35.4506,2,  35.4604,2,    213.1,2, 25.6870,    210.5,2,     2.74,2,     6.60,2,     0.12,2,     0.78,2,    1.792,2,    1.009,2, -999.000,9,-999.0000,9,  -999.00,9,   -999.0,9,  -999.00,9,   -999.0,9,   -999.0,9,  -999.0,-999.0000,-999.000,  -999.0,-999.000
   31WTTUNES_1,  P17C,   120,  1,     16,     16,2,19910706,0142, -4.4667,-135.0000, 4647,     93.3,  24.1272,  35.8321,2,  35.8293,2,    182.5,2, 24.1074,    187.1,2,     2.54,2,     3.73,2,     0.71,2,     0.74,2,    1.796,2,    1.004,2, -999.000,9,-999.0000,9,  -999.00,9,   -999.0,9,  -999.00,9,   -999.0,9,   -999.0,9,  -999.0,-999.0000,-999.000,  -999.0,-999.000
   31WTTUNES_1,  P17C,   120,  1,     17,     17,2,19910706,0142, -4.4667,-135.0000, 4647,    114.1,  20.7002,  35.7516,2,  35.7006,2,    137.4,2, 20.6786,    145.7,2,     3.48,2,     9.02,2,     1.38,2,     0.96,2,    1.774,2,    0.971,2, -999.000,9,-999.0000,9,  -999.00,9,   -999.0,9,  -999.00,9,   -999.0,9,   -999.0,9,  -999.0,-999.0000,-999.000,  -999.0,-999.000
   31WTTUNES_1,  P17C,   120,  1,     18,     18,2,19910706,0142, -4.4667,-135.0000, 4647,    129.5,  17.9062,  35.4603,2,  35.4040,2,     97.3,2, 17.8840,    105.1,2,     6.70,2,    15.07,2,     0.08,2,     1.29,2,    1.391,2,    0.794,2, -999.000,9,-999.0000,9,  -999.00,9,   -999.0,9,  -999.00,9,   -999.0,9,   -999.0,9,  -999.0,-999.0000,-999.000,  -999.0,-999.000
   31WTTUNES_1,  P17C,   120,  1,     19,     19,2,19910706,0142, -4.4667,-135.0000, 4647,    150.6,  14.2168,  35.0720,2,  35.0545,2,     46.5,2, 14.1948,     57.8,2,    16.98,2,    25.40,2,     0.02,2,     1.87,2,    0.658,2,    0.359,2, -999.000,9,-999.0000,9,  -999.00,9,   -999.0,9,  -999.00,9,   -999.0,9,   -999.0,9,  -999.0,-999.0000,-999.000,  -999.0,-999.000
   31WTTUNES_1,  P17C,   120,  1,     20,     20,2,19910706,0142, -4.4667,-135.0000, 4647,    178.9,  12.7758,  34.9349,2,  34.9319,2,     47.1,2, 12.7515,     47.3,2,    22.30,2,    28.76,2,     0.01,2,     2.04,2,    0.380,2,    0.217,2, -999.000,9,-999.0000,9,  -999.00,9,   -999.0,9,  -999.00,9,   -999.0,9,   -999.0,9,  -999.0,-999.0000,-999.000,  -999.0,-999.000
   31WTTUNES_1,  P17C,   120,  1,     21,     21,2,19910706,0142, -4.4667,-135.0000, 4647,    213.5,  12.1640,  34.8837,2,  34.8823,2,     37.6,2, 12.1359,     58.5,2,    23.05,2,    28.41,2,     0.01,2,     2.02,2,    0.341,2,    0.197,2, -999.000,9,-999.0000,9,  -999.00,9,   -999.0,9,  -999.00,9,   -999.0,9,   -999.0,9,  -999.0,-999.0000,-999.000,  -999.0,-999.000
   31WTTUNES_1,  P17C,   120,  1,     22,     22,2,19910706,0142, -4.4667,-135.0000, 4647,    254.9,  11.7463,  34.8521,2,  34.8512,2,     45.0,2, 11.7135,     33.6,2,    26.66,2,    31.34,2,     0.01,2,     2.23,2,    0.210,2,    0.125,2, -999.000,9,-999.0000,9,  -999.00,9,   -999.0,9,  -999.00,9,   -999.0,9,   -999.0,9,  -999.0,-999.0000,-999.000,  -999.0,-999.000
   31WTTUNES_1,  P17C,   120,  1,     23,     23,2,19910706,0142, -4.4667,-135.0000, 4647,    302.9,  11.0373,  34.8135,2,  34.8089,2,     21.7,2, 10.9998,     32.2,2,    29.13,2,    32.67,2,     0.01,2,     2.32,2,    0.139,2,    0.096,2, -999.000,9,-999.0000,9,  -999.00,9,   -999.0,9,  -999.00,9,   -999.0,9,   -999.0,9,  -999.0,-999.0000,-999.000,  -999.0,-999.000
   31WTTUNES_1,  P17C,   120,  1,     24,     24,2,19910706,0142, -4.4667,-135.0000, 4647,    344.6,  10.3079,  34.7595,2,  34.7657,2,     26.0,2, 10.2669,      7.1,2,    35.22,2,    35.89,2,     0.01,2,     2.59,2,    0.044,2,    0.034,2, -999.000,9,-999.0000,9,  -999.00,9,   -999.0,9,  -999.00,9,   -999.0,9,   -999.0,9,  -999.0,-999.0000,-999.000,  -999.0,-999.000
   31WTTUNES_1,  P17C,   120,  1,     25,     25,2,19910706,0142, -4.4667,-135.0000, 4647,    374.2,   9.7543,  34.7334,2,  34.7317,2,     13.7,2,  9.7113,     13.6,2,    36.16,2,    36.98,2,     0.01,2,     2.62,2,    0.032,2,    0.024,2, -999.000,9,-999.0000,9,  -999.00,9,   -999.0,9,  -999.00,9,   -999.0,9,   -999.0,9,  -999.0,-999.0000,-999.000,  -999.0,-999.000
   31WTTUNES_1,  P17C,   120,  1,     26,     26,2,19910706,0142, -4.4667,-135.0000, 4647,    503.7,   8.0791,  34.6367,2,  34.6361,2,     32.4,2,  8.0270,     30.5,2,    42.82,2,    39.77,2,     0.00,2,     2.74,2,    0.007,2,    0.007,2, -999.000,9,-999.0000,9,  -999.00,9,   -999.0,9,  -999.00,9,   -999.0,9,   -999.0,9,  -999.0,-999.0000,-999.000,  -999.0,-999.000
   31WTTUNES_1,  P17C,   120,  1,     27,     27,2,19910706,0142, -4.4667,-135.0000, 4647,    603.0,   7.0420,  34.5865,2,  34.5866,2,     47.0,2,  6.9841,     48.4,2,    49.86,2,    40.35,2,     0.00,2,     2.78,2,    0.004,2,    0.004,2, -999.000,9,-999.0000,9,  -999.00,9,   -999.0,9,  -999.00,9,   -999.0,9,   -999.0,9,  -999.0,-999.0000,-999.000,  -999.0,-999.000
   31WTTUNES_1,  P17C,   120,  1,     28,     28,2,19910706,0142, -4.4667,-135.0000, 4647,    710.0,   6.2527,  34.5526,2,  34.5562,2,     65.8,2,  6.1882,     68.9,2,    55.77,2,    39.72,2,     0.00,2,     2.76,2,    0.002,2,    0.003,2, -999.000,9,-999.0000,9,  -999.00,9,   -999.0,9,  -999.00,9,   -999.0,9,   -999.0,9,  -999.0,-999.0000,-999.000,  -999.0,-999.000
   31WTTUNES_1,  P17C,   120,  1,     29,     29,2,19910706,0142, -4.4667,-135.0000, 4647,    812.8,   5.4622,  34.5354,2,  34.5365,2,     82.7,2,  5.3927,     91.1,2,    63.57,2,    38.67,2,     0.00,2,     2.70,2,    0.004,2,    0.002,2, -999.000,9,-999.0000,9,  -999.00,9,   -999.0,9,  -999.00,9,   -999.0,9,   -999.0,9,  -999.0,-999.0000,-999.000,  -999.0,-999.000
   31WTTUNES_1,  P17C,   120,  1,     30,     30,2,19910706,0142, -4.4667,-135.0000, 4647,    916.2,   4.9615,  34.5369,2,  34.5393,2,     86.7,2,  4.8860,     93.3,2,    72.52,2,    38.98,2,     0.00,2,     2.73,2,    0.002,2,    0.006,2, -999.000,9,-999.0000,9,  -999.00,9,   -999.0,9,  -999.00,9,   -999.0,9,   -999.0,9,  -999.0,-999.0000,-999.000,  -999.0,-999.000
   31WTTUNES_1,  P17C,   120,  1,     31,     31,2,19910706,0142, -4.4667,-135.0000, 4647,   1020.6,   4.3942,  34.5449,2,  34.5475,2,     92.2,2,  4.3137,     99.4,2,    83.19,2,    38.88,2,     0.00,2,     2.73,2,    0.003,2,    0.000,2, -999.000,9,-999.0000,9,  -999.00,9,   -999.0,9,  -999.00,9,   -999.0,9,   -999.0,9,  -999.0,-999.0000,-999.000,  -999.0,-999.000
   31WTTUNES_1,  P17C,   120,  1,     32,     32,2,19910706,0142, -4.4667,-135.0000, 4647,   1214.6,   3.6700,  34.5703,2,  34.5699,2,     97.1,2,  3.5791,    100.3,2,   101.29,2,    39.35,2,     0.00,2,     2.77,2,    0.000,2,    0.000,2, -999.000,9,-999.0000,9,  -999.00,9,   -999.0,9,  -999.00,9,   -999.0,9,   -999.0,9,  -999.0,-999.0000,-999.000,  -999.0,-999.000
   31WTTUNES_1,  P17C,   120,  1,     33,     33,2,19910706,0142, -4.4667,-135.0000, 4647,   1422.1,   3.1763,  34.5912,2,  34.5926,2,     98.8,2,  3.0729,     99.8,2,   114.62,2,    39.72,2,     0.00,2,     2.80,2,   -0.002,2,    0.000,2, -999.000,9,-999.0000,9,  -999.00,9,   -999.0,9,  -999.00,9,   -999.0,9,   -999.0,9,  -999.0,-999.0000,-999.000,  -999.0,-999.000
   31WTTUNES_1,  P17C,   120,  1,     34,     34,2,19910706,0142, -4.4667,-135.0000, 4647,   1621.6,   2.7776,  34.6114,2,  34.6123,2,    102.9,2,  2.6622,    103.1,2,   125.87,2,    39.61,2,     0.00,2,     2.79,2,    0.003,2,    0.000,2, -999.000,9,-999.0000,9,  -999.00,9,   -999.0,9,  -999.00,9,   -999.0,9,   -999.0,9,  -999.0,-999.0000,-999.000,  -999.0,-999.000
   31WTTUNES_1,  P17C,   120,  1,     35,     35,2,19910706,0142, -4.4667,-135.0000, 4647,   1818.3,   2.4755,  34.6260,2,  34.6292,2,    112.2,2,  2.3475,    112.3,2,   131.39,2,    38.98,2,     0.00,2,     2.73,2,    0.002,2,    0.006,2, -999.000,9,-999.0000,9,  -999.00,9,   -999.0,9,  -999.00,9,   -999.0,9,   -999.0,9,  -999.0,-999.0000,-999.000,  -999.0,-999.000
   31WTTUNES_1,  P17C,   120,  1,     36,     36,2,19910706,0142, -4.4667,-135.0000, 4647,   2021.3,   2.2795,  34.6385,2,  34.6402,2,    115.7,2,  2.1369,    114.3,2,   137.29,2,    38.87,2,     0.00,2,     2.72,2,    0.000,2,    0.000,2, -999.000,9,-999.0000,9,  -999.00,9,   -999.0,9,  -999.00,9,   -999.0,9,   -999.0,9,  -999.0,-999.0000,-999.000,  -999.0,-999.000
   31WTTUNES_1,  P17C,   120,  1,      1,      1,2,19910706,0142, -4.4667,-135.0000, 4647,   2226.9,   2.1214,  34.6457,2,  34.6500,2,    121.8,2,  1.9634,    122.1,2,   138.81,2,    38.24,2,     0.00,2,     2.67,2,    0.001,2,    0.007,2, -999.000,9,-999.0000,9,  -999.00,9,   -999.0,9,  -999.00,9,   -999.0,9,   -999.0,9,  -999.0,-999.0000,-999.000,  -999.0,-999.000
   31WTTUNES_1,  P17C,   120,  1,      2,      2,2,19910706,0142, -4.4667,-135.0000, 4647,   2439.7,   1.9790,  34.6554,2,  34.6572,2,    129.1,2,  1.8045,    128.7,2,   139.76,2,    37.83,2,     0.00,2,     2.63,2,   -0.001,2,   -0.002,2, -999.000,9,-999.0000,9,  -999.00,9,   -999.0,9,  -999.00,9,   -999.0,9,   -999.0,9,  -999.0,-999.0000,-999.000,  -999.0,-999.000
   31WTTUNES_1,  P17C,   120,  1,      3,      3,2,19910706,0142, -4.4667,-135.0000, 4647,   2638.7,   1.8572,  34.6647,2,  34.6657,2,    132.9,2,  1.6668,    132.4,2,   143.19,2,    37.62,2,     0.00,2,     2.60,2,    0.001,2,    0.000,2, -999.000,9,-999.0000,9,  -999.00,9,   -999.0,9,  -999.00,9,   -999.0,9,   -999.0,9,  -999.0,-999.0000,-999.000,  -999.0,-999.000
   31WTTUNES_1,  P17C,   120,  1,      4,      4,2,19910706,0142, -4.4667,-135.0000, 4647,   2837.9,   1.7584,  34.6721,2,  34.6733,2,    138.5,2,  1.5515,    137.7,2,   144.90,2,    37.25,2,     0.00,2,     2.57,2,    0.000,2,    0.000,2, -999.000,9,-999.0000,9,  -999.00,9,   -999.0,9,  -999.00,9,   -999.0,9,   -999.0,9,  -999.0,-999.0000,-999.000,  -999.0,-999.000
   31WTTUNES_1,  P17C,   120,  1,      5,      5,2,19910706,0142, -4.4667,-135.0000, 4647,   3042.1,   1.6594,  34.6757,2,  34.6770,2,    144.4,2,  1.4350,    145.0,2,   144.70,2,    36.89,2,     0.00,2,     2.54,2, -999.000,9, -999.000,9, -999.000,9,-999.0000,9,  -999.00,9,   -999.0,9,  -999.00,9,   -999.0,9,   -999.0,9,  -999.0,-999.0000,-999.000,  -999.0,-999.000
   31WTTUNES_1,  P17C,   120,  1,      6,      6,2,19910706,0142, -4.4667,-135.0000, 4647,   3247.0,   1.5675,  34.6819,2,  34.6829,2,    149.9,2,  1.3251,    150.4,2,   144.70,2,    36.42,2,     0.00,2,     2.51,2,    0.001,2,    0.000,2, -999.000,9,-999.0000,9,  -999.00,9,   -999.0,9,  -999.00,9,   -999.0,9,   -999.0,9,  -999.0,-999.0000,-999.000,  -999.0,-999.000
   31WTTUNES_1,  P17C,   120,  1,      7,      7,2,19910706,0142, -4.4667,-135.0000, 4647,   3440.3,   1.5260,  34.6845,2,  34.6847,2,    154.3,2,  1.2653,    154.6,2,   144.12,2,    36.21,2,     0.00,2,     2.49,2,   -0.005,2,   -0.001,2, -999.000,9,-999.0000,9,  -999.00,9,   -999.0,9,  -999.00,9,   -999.0,9,   -999.0,9,  -999.0,-999.0000,-999.000,  -999.0,-999.000
   31WTTUNES_1,  P17C,   120,  1,      8,      8,3,19910706,0142, -4.4667,-135.0000, 4647,   3690.4,   1.4600,  34.6887,2,  34.6894,2,    159.7,2,  1.1752,    160.3,3,   142.97,2,    35.85,2,     0.00,2,     2.46,2,    0.000,2,    0.000,2, -999.000,9,-999.0000,9,  -999.00,9,   -999.0,9,  -999.00,9,   -999.0,9,   -999.0,9,  -999.0,-999.0000,-999.000,  -999.0,-999.000
   31WTTUNES_1,  P17C,   120,  1,      9,      9,2,19910706,0142, -4.4667,-135.0000, 4647,   3961.6,   1.4282,  34.6926,2,  34.6919,2,    164.2,2,  1.1154,    164.5,2,   142.39,2,    35.59,2,     0.00,2,     2.43,2,   -0.001,2,    0.000,2, -999.000,9,-999.0000,9,  -999.00,9,   -999.0,9,  -999.00,9,   -999.0,9,   -999.0,9,  -999.0,-999.0000,-999.000,  -999.0,-999.000
   31WTTUNES_1,  P17C,   120,  1,     10,     10,2,19910706,0142, -4.4667,-135.0000, 4647,   4198.1,   1.3962,  34.6963,2,  34.6953,2,    171.3,2,  1.0584,    172.7,2,   137.43,2,    34.87,2,     0.00,2,     2.39,2,    0.000,2,    0.000,2, -999.000,9,-999.0000,9,  -999.00,9,   -999.0,9,  -999.00,9,   -999.0,9,   -999.0,9,  -999.0,-999.0000,-999.000,  -999.0,-999.000
   31WTTUNES_1,  P17C,   120,  1,     11,     11,2,19910706,0142, -4.4667,-135.0000, 4647,   4442.5,   1.4162,  34.6984,2,  34.6970,2,    173.8,2,  1.0503,    173.1,2,   136.66,2,    34.82,2,     0.00,2,     2.38,2,    0.000,2,    0.000,2, -999.000,9,-999.0000,9,  -999.00,9,   -999.0,9,  -999.00,9,   -999.0,9,   -999.0,9,  -999.0,-999.0000,-999.000,  -999.0,-999.000
   31WTTUNES_1,  P17C,   120,  1,     12,     12,2,19910706,0142, -4.4667,-135.0000, 4647,   4710.0,   1.4400,  34.6995,2,  34.6970,2,   -999.0,9,  1.0424,    174.0,2,   137.04,2,    34.82,2,     0.00,2,     2.38,2,   -0.001,2,   -0.003,2, -999.000,9,-999.0000,9,  -999.00,9,   -999.0,9,  -999.00,9,   -999.0,9,   -999.0,9,  -999.0,-999.0000,-999.000,  -999.0,-999.000