BOTTLE,20220819CCHSIOAMB
EXPOCODE,SECT_ID,STNNBR,CASTNO,SAMPNO,BTLNBR,BTLNBR_FLAG_W,DATE,TIME,LATITUDE,LONGITUDE,DEPTH,CTDPRS,CTDTMP,CTDSAL,CTDSAL_FLAG_W,SALNTY,SALNTY_FLAG_W,CTDOXY,CTDOXY_FLAG_W,THETA,OXYGEN,OXYGEN_FLAG_W,SILCAT,SILCAT_FLAG_W,NITRAT,NITRAT_FLAG_W,NITRIT,NITRIT_FLAG_W,PHSPHT,PHSPHT_FLAG_W,CFC-11,CFC-11_FLAG_W,CFC-12,CFC-12_FLAG_W,TRITUM,TRITUM_FLAG_W,HELIUM,HELIUM_FLAG_W,DELHE3,DELHE3_FLAG_W,DELC14,DELC14_FLAG_W,DELC13,DELC13_FLAG_W,TCARBN,TCARBN_FLAG_W,ALKALI,ALKALI_FLAG_W,C14ERR,HELIER,DELHER,C13ERR,TRITER
,,,,,,,,,,,,DBAR,ITS-90,PSS-78,,PSS-78,,UMOL/KG,,DEG C,UMOL/KG,,UMOL/KG,,UMOL/KG,,UMOL/KG,,UMOL/KG,,PMOL/KG,,PMOL/KG,,TU,,NMOL/KG,,PERCNT,,/MILLE,,/MILLE,,UMOL/KG,,UMOL/KG,,/MILLE,NMOL/KG,PERCNT,/MILLE,TU
   31WTTUNES_1,  P17C,    94,  1,      1,      1,2,19910630,2252,  0.6717,-134.9950, 4284,      0.2,  27.4251,  35.1914,2,  35.1980,2,    199.4,3, 27.4251,    198.6,2,     4.74,2,     4.67,2,     0.40,2,     0.51,2,    1.596,2,    0.935,2,    1.255,2,   1.7480,2,    -0.84,2,   -999.0,9,  -999.00,9,   -999.0,9,   -999.0,9,  -999.0,  0.0080,   0.150,  -999.0,   0.008
   31WTTUNES_1,  P17C,    94,  1,      2,      2,2,19910630,2252,  0.6717,-134.9950, 4284,     24.3,  27.2260,  35.1880,2,  35.1929,2,    199.4,2, 27.2204,    197.9,2,     4.15,2,     4.76,2,     0.41,2,     0.51,2,    1.591,2,    0.917,2,    1.196,2,   1.7560,2,    -0.78,2,   -999.0,9,  -999.00,9,   -999.0,9,   -999.0,9,  -999.0,  0.0080,   0.150,  -999.0,   0.012
   31WTTUNES_1,  P17C,    94,  1,      3,      3,2,19910630,2252,  0.6717,-134.9950, 4284,     60.1,  26.7888,  35.1539,2,  35.1472,2,    184.6,2, 26.7751,    181.3,2,     5.10,2,     5.49,2,     0.56,2,     0.56,2,    1.602,2,    0.903,2,    1.315,2,   1.7270,2,    -0.42,2,   -999.0,9,  -999.00,9,   -999.0,9,   -999.0,9,  -999.0,  0.0080,   0.150,  -999.0,   0.012
   31WTTUNES_1,  P17C,    94,  1,      4,      4,2,19910630,2252,  0.6717,-134.9950, 4284,     80.7,  22.9078,  35.0181,2,  35.0119,2,    129.4,2, 22.8914,    132.6,2,     7.21,2,     9.95,2,     0.20,2,     0.71,2,    1.478,2,    0.848,2,    1.375,2,   1.7470,2,     2.29,2,   -999.0,9,  -999.00,9,   -999.0,9,   -999.0,9,  -999.0,  0.0080,   0.150,  -999.0,   0.013
   31WTTUNES_1,  P17C,    94,  1,      5,      5,2,19910630,2252,  0.6717,-134.9950, 4284,    102.2,  18.1811,  34.8705,2,  34.8657,2,    129.3,2, 18.1634,    128.2,2,    12.38,2,    13.37,2,     0.04,2,     0.97,2,    1.340,2,    0.737,2,    1.579,2,   1.8080,2,     5.40,2,   -999.0,9,  -999.00,9,   -999.0,9,   -999.0,9,  -999.0,  0.0080,   0.150,  -999.0,   0.014
   31WTTUNES_1,  P17C,    94,  1,      6,      6,2,19910630,2252,  0.6717,-134.9950, 4284,    118.2,  17.2931,  34.9219,2,  34.9191,2,    130.1,2, 17.2734,    131.5,2,    13.33,2,    14.07,2,     0.03,2,     1.01,2,    1.250,2,    0.706,2,    1.359,2,   1.7810,2,     5.36,2,   -999.0,9,  -999.00,9,   -999.0,9,   -999.0,9,  -999.0,  0.0080,   0.150,  -999.0,   0.013
   31WTTUNES_1,  P17C,    94,  1,      7,      7,2,19910630,2252,  0.6717,-134.9950, 4284,    139.3,  14.5115,  34.7881,2,  34.8058,2,    130.1,2, 14.4909,    128.4,2,    18.11,2,    17.19,2,     0.02,2,     1.23,2,    1.048,2,    0.587,2,    1.151,2,   1.8080,2,     6.69,2,   -999.0,9,  -999.00,9,   -999.0,9,   -999.0,9,  -999.0,  0.0080,   0.150,  -999.0,   0.012
   31WTTUNES_1,  P17C,    94,  1,      8,      8,2,19910630,2252,  0.6717,-134.9950, 4284,    162.9,  13.3734,  34.8659,2,  34.8644,2,    120.4,2, 13.3507,    118.0,2,    19.63,2,    20.16,2,     0.02,2,     1.41,2,    0.802,2,    0.450,2,    0.801,2,   1.8140,2,     5.70,2,   -999.0,9,  -999.00,9,   -999.0,9,   -999.0,9,  -999.0,  0.0090,   0.150,  -999.0,   0.010
   31WTTUNES_1,  P17C,    94,  1,      9,      9,2,19910630,2252,  0.6717,-134.9950, 4284,    203.4,  12.6263,  34.8686,2,  34.8703,2,    106.0,2, 12.5989,    103.9,2,    21.92,2,    22.84,2,     0.02,2,     1.59,2,    0.602,2,    0.333,2,    0.571,2,   1.8730,2,     5.33,2,   -999.0,9,  -999.00,9,   -999.0,9,   -999.0,9,  -999.0,  0.0090,   0.150,  -999.0,   0.008
   31WTTUNES_1,  P17C,    94,  1,     10,     10,2,19910630,2252,  0.6717,-134.9950, 4284,    238.9,  12.2780,  34.8680,2,  34.8675,2,     95.0,2, 12.2464,     86.8,2,    22.68,2,    25.18,2,     0.02,2,     1.74,2,    0.482,2,    0.273,2,    0.480,2,   1.8210,2,     5.18,2,   -999.0,9,  -999.00,9,   -999.0,9,   -999.0,9,  -999.0,  0.0090,   0.150,  -999.0,   0.008
   31WTTUNES_1,  P17C,    94,  1,     11,     11,2,19910630,2252,  0.6717,-134.9950, 4284,    304.6,  11.4428,  34.8066,2,  34.8057,2,     40.4,2, 11.4042,     39.9,2,    28.99,2,    31.34,2,     0.02,2,     2.13,2,    0.228,2,    0.152,2,    0.351,2,   1.8310,2,     5.68,2,   -999.0,9,  -999.00,9,   -999.0,9,   -999.0,9,  -999.0,  0.0090,   0.150,  -999.0,   0.007
   31WTTUNES_1,  P17C,    94,  1,     12,     12,2,19910630,2252,  0.6717,-134.9950, 4284,    327.6,  10.8242,  34.7708,2,  34.7679,2,     32.4,2, 10.7841,     26.0,2,    32.62,2,    33.73,2,     0.02,2,     2.29,2,    0.144,2,    0.089,2,    0.253,2,   1.8540,2,     5.80,2,   -999.0,9,  -999.00,9,   -999.0,9,   -999.0,9,  -999.0,  0.0090,   0.150,  -999.0,   0.006
   31WTTUNES_1,  P17C,    94,  1,     13,     13,2,19910630,2252,  0.6717,-134.9950, 4284,    373.8,  10.1165,  34.7374,2,  34.7362,2,     18.8,2, 10.0726,     18.7,2,    36.63,2,    35.73,2,     0.02,2,     2.42,2,    0.080,2,    0.049,2,    0.141,2,   1.8460,2,     5.53,2,   -999.0,9,  -999.00,9,   -999.0,9,   -999.0,9,  -999.0,  0.0090,   0.150,  -999.0,   0.004
   31WTTUNES_1,  P17C,    94,  1,     14,     14,2,19910630,2252,  0.6717,-134.9950, 4284,    455.9,   8.6460,  34.6522,2,  34.6464,2,     28.7,2,  8.5971,     35.9,2,    42.37,2,    37.81,2,     0.01,2,     2.55,2,    0.024,2,    0.019,2,    0.040,2,   1.8520,2,     6.36,2,   -999.0,9,  -999.00,9,   -999.0,9,   -999.0,9,  -999.0,  0.0090,   0.150,  -999.0,   0.003
   31WTTUNES_1,  P17C,    94,  1,     15,     15,2,19910630,2252,  0.6717,-134.9950, 4284,    558.5,   7.1919,  34.5863,2,  34.5847,2,     52.8,2,  7.1377,     55.5,2,    50.79,2,    38.54,2,     0.01,2,     2.63,2,    0.009,2,    0.009,2,   -0.002,2,   1.8770,2,     8.36,2,   -999.0,9,  -999.00,9,   -999.0,9,   -999.0,9,  -999.0,  0.0090,   0.150,  -999.0,   0.001
   31WTTUNES_1,  P17C,    94,  1,     16,     16,2,19910630,2252,  0.6717,-134.9950, 4284,    654.7,   6.6025,  34.5672,2,  34.5689,2,     60.7,2,  6.5416,     60.9,2,    56.13,2,    39.08,2,     0.01,2,     2.68,2,    0.005,2,    0.005,2,    0.009,2,   1.8750,2,     9.78,2,   -999.0,9,  -999.00,9,   -999.0,9,   -999.0,9,  -999.0,  0.0090,   0.150,  -999.0,   0.001
   31WTTUNES_1,  P17C,    94,  1,     17,     17,2,19910630,2252,  0.6717,-134.9950, 4284,    706.0,   6.1637,  34.5571,2,  34.5575,2,     63.4,2,  6.1000,     64.9,2,    61.10,2,    39.40,2,     0.01,2,     2.70,2,    0.001,2,    0.005,2,   -0.001,2,-999.0000,9,  -999.00,9,   -999.0,9,  -999.00,9,   -999.0,9,   -999.0,9,  -999.0,-999.0000,-999.000,  -999.0,   0.001
   31WTTUNES_1,  P17C,    94,  1,     18,     18,2,19910630,2252,  0.6717,-134.9950, 4284,    767.2,   5.4222,  34.5465,2,  34.5480,2,     72.0,2,  5.3570,     74.8,2,    71.42,2,    39.35,2,     0.01,2,     2.71,2,    0.001,2,    0.002,2,   -0.002,2,-999.0000,9,  -999.00,9,   -999.0,9,  -999.00,9,   -999.0,9,   -999.0,9,  -999.0,-999.0000,-999.000,  -999.0,   0.001
   31WTTUNES_1,  P17C,    94,  1,     19,     19,2,19910630,2252,  0.6717,-134.9950, 4284,   1008.8,   4.4665,  34.5570,2,  34.5590,2,     79.9,2,  4.3864,     81.3,2,    89.97,2,    39.83,2,     0.01,2,     2.75,2,   -0.001,2,    0.014,3, -999.000,9,-999.0000,9,  -999.00,9,   -999.0,9,  -999.00,9,   -999.0,9,   -999.0,9,  -999.0,-999.0000,-999.000,  -999.0,-999.000
   31WTTUNES_1,  P17C,    94,  1,     20,     20,2,19910630,2252,  0.6717,-134.9950, 4284,   1209.7,   3.7764,  34.5786,2,  34.5774,2,     82.5,2,  3.6849,     82.7,2,   106.22,2,    40.10,2,     0.01,2,     2.78,2,    0.001,2,   -0.001,2, -999.000,9,-999.0000,9,  -999.00,9,   -999.0,9,  -999.00,9,   -999.0,9,   -999.0,9,  -999.0,-999.0000,-999.000,  -999.0,-999.000
   31WTTUNES_1,  P17C,    94,  1,     21,     21,2,19910630,2252,  0.6717,-134.9950, 4284,   1415.5,   3.2234,  34.5950,2,  34.5963,2,     87.8,2,  3.1200,     89.0,2,   118.44,2,    39.89,2,     0.01,2,     2.77,2,   -0.002,2,    0.000,2, -999.000,9,-999.0000,9,  -999.00,9,   -999.0,9,  -999.00,9,   -999.0,9,   -999.0,9,  -999.0,-999.0000,-999.000,  -999.0,-999.000
   31WTTUNES_1,  P17C,    94,  1,     22,     22,2,19910630,2252,  0.6717,-134.9950, 4284,   1616.4,   2.7863,  34.6130,2,  34.6163,2,     95.0,2,  2.6712,     94.6,2,   130.08,2,    39.58,2,     0.01,2,     2.74,2, -999.000,9, -999.000,9, -999.000,9,-999.0000,9,  -999.00,9,   -999.0,9,  -999.00,9,   -999.0,9,   -999.0,9,  -999.0,-999.0000,-999.000,  -999.0,-999.000
   31WTTUNES_1,  P17C,    94,  1,     23,     23,2,19910630,2252,  0.6717,-134.9950, 4284,   1820.7,   2.4669,  34.6296,2,  34.6284,2,    102.8,2,  2.3388,    102.9,2,   136.56,2,    39.11,2,     0.01,2,     2.68,2, -999.000,9, -999.000,9, -999.000,9,-999.0000,9,  -999.00,9,   -999.0,9,  -999.00,9,   -999.0,9,   -999.0,9,  -999.0,-999.0000,-999.000,  -999.0,-999.000
   31WTTUNES_1,  P17C,    94,  1,     24,     24,2,19910630,2252,  0.6717,-134.9950, 4284,   2020.7,   2.2101,  34.6426,2,  34.6443,2,    108.1,2,  2.0687,    108.3,2,   142.65,2,    38.80,2,     0.01,2,     2.65,2, -999.000,9, -999.000,9, -999.000,9,-999.0000,9,  -999.00,9,   -999.0,9,  -999.00,9,   -999.0,9,   -999.0,9,  -999.0,-999.0000,-999.000,  -999.0,-999.000
   31WTTUNES_1,  P17C,    94,  1,     25,     25,2,19910630,2252,  0.6717,-134.9950, 4284,   2199.9,   1.9719,  34.6572,2,  34.6562,2,    117.8,2,  1.8188,    116.5,2,   146.44,2,    38.23,2,     0.01,2,     2.60,2, -999.000,9, -999.000,9, -999.000,9,-999.0000,9,  -999.00,9,   -999.0,9,  -999.00,9,   -999.0,9,   -999.0,9,  -999.0,-999.0000,-999.000,  -999.0,-999.000
   31WTTUNES_1,  P17C,    94,  1,     26,     26,2,19910630,2252,  0.6717,-134.9950, 4284,   2364.4,   1.8682,  34.6628,2,  34.6627,2,    122.3,2,  1.7025,    121.4,2,   148.52,2,    37.92,2,     0.01,2,     2.58,2, -999.000,9, -999.000,9, -999.000,9,-999.0000,9,  -999.00,9,   -999.0,9,  -999.00,9,   -999.0,9,   -999.0,9,  -999.0,-999.0000,-999.000,  -999.0,-999.000
   31WTTUNES_1,  P17C,    94,  1,     27,     27,2,19910630,2252,  0.6717,-134.9950, 4284,   2532.7,   1.8262,  34.6683,2,  34.6664,2,    124.6,2,  1.6461,    123.7,2,   149.06,2,    37.77,2,     0.01,2,     2.57,2, -999.000,9, -999.000,9, -999.000,9,-999.0000,9,  -999.00,9,   -999.0,9,  -999.00,9,   -999.0,9,   -999.0,9,  -999.0,-999.0000,-999.000,  -999.0,-999.000
   31WTTUNES_1,  P17C,    94,  1,     28,     28,2,19910630,2252,  0.6717,-134.9950, 4284,   2701.4,   1.7513,  34.6719,2,  34.6703,2,    128.7,2,  1.5573,    128.8,2,   150.36,2,    37.51,2,     0.01,2,     2.54,2, -999.000,9, -999.000,9, -999.000,9,-999.0000,9,  -999.00,9,   -999.0,9,  -999.00,9,   -999.0,9,   -999.0,9,  -999.0,-999.0000,-999.000,  -999.0,-999.000
   31WTTUNES_1,  P17C,    94,  1,     29,     29,2,19910630,2252,  0.6717,-134.9950, 4284,   2870.6,   1.6895,  34.6754,2,  34.6728,2,    134.5,2,  1.4809,    134.1,2,   149.57,2,    37.16,2,     0.01,2,     2.51,2, -999.000,9, -999.000,9, -999.000,9,-999.0000,9,  -999.00,9,   -999.0,9,  -999.00,9,   -999.0,9,   -999.0,9,  -999.0,-999.0000,-999.000,  -999.0,-999.000
   31WTTUNES_1,  P17C,    94,  1,     30,     30,2,19910630,2252,  0.6717,-134.9950, 4284,   3048.3,   1.6424,  34.6757,2,  34.6750,2,    138.8,2,  1.4178,    138.6,2,   148.77,2,    36.85,2,     0.01,2,     2.49,2, -999.000,9, -999.000,9, -999.000,9,-999.0000,9,  -999.00,9,   -999.0,9,  -999.00,9,   -999.0,9,   -999.0,9,  -999.0,-999.0000,-999.000,  -999.0,-999.000
   31WTTUNES_1,  P17C,    94,  1,     31,     31,2,19910630,2252,  0.6717,-134.9950, 4284,   3252.7,   1.6040,  34.6791,2,  34.6785,2,    142.6,2,  1.3603,    142.4,2,   148.74,2,    36.70,2,     0.01,2,     2.47,2, -999.000,9, -999.000,9, -999.000,9,-999.0000,9,  -999.00,9,   -999.0,9,  -999.00,9,   -999.0,9,   -999.0,9,  -999.0,-999.0000,-999.000,  -999.0,-999.000
   31WTTUNES_1,  P17C,    94,  1,     32,     32,2,19910630,2252,  0.6717,-134.9950, 4284,   3452.9,   1.5517,  34.6848,2,  34.6831,2,    147.1,2,  1.2890,    146.3,2,   150.62,2,    36.50,2,     0.01,2,     2.45,2, -999.000,9, -999.000,9, -999.000,9,-999.0000,9,  -999.00,9,   -999.0,9,  -999.00,9,   -999.0,9,   -999.0,9,  -999.0,-999.0000,-999.000,  -999.0,-999.000
   31WTTUNES_1,  P17C,    94,  1,     33,     33,2,19910630,2252,  0.6717,-134.9950, 4284,   3653.4,   1.4490,  34.6919,2,  34.6902,2,    154.6,2,  1.1683,    154.3,2,   150.78,2,    35.93,2,     0.01,2,     2.40,2, -999.000,9, -999.000,9, -999.000,9,-999.0000,9,  -999.00,9,   -999.0,9,  -999.00,9,   -999.0,9,   -999.0,9,  -999.0,-999.0000,-999.000,  -999.0,-999.000
   31WTTUNES_1,  P17C,    94,  1,     34,     34,2,19910630,2252,  0.6717,-134.9950, 4284,   3855.5,   1.4210,  34.6940,2,  34.6931,2,    159.1,2,  1.1197,    158.9,2,   148.45,2,    35.68,2,     0.01,2,     2.37,2, -999.000,9, -999.000,9, -999.000,9,-999.0000,9,  -999.00,9,   -999.0,9,  -999.00,9,   -999.0,9,   -999.0,9,  -999.0,-999.0000,-999.000,  -999.0,-999.000
   31WTTUNES_1,  P17C,    94,  1,     35,     35,2,19910630,2252,  0.6717,-134.9950, 4284,   4106.3,   1.4337,  34.6946,2,  34.6919,2,    161.7,2,  1.1050,    161.5,2,   146.32,2,    35.43,2,     0.00,2,     2.37,2, -999.000,9, -999.000,9, -999.000,9,-999.0000,9,  -999.00,9,   -999.0,9,  -999.00,9,   -999.0,9,   -999.0,9,  -999.0,-999.0000,-999.000,  -999.0,-999.000
   31WTTUNES_1,  P17C,    94,  1,     36,     36,2,19910630,2252,  0.6717,-134.9950, 4284,   4351.0,   1.4492,  34.6953,2,  34.6921,2,   -999.0,9,  1.0928,    161.2,2,   147.06,2,    35.43,2,     0.01,2,     2.37,2, -999.000,9, -999.000,9, -999.000,9,-999.0000,9,  -999.00,9,   -999.0,9,  -999.00,9,   -999.0,9,   -999.0,9,  -999.0,-999.0000,-999.000,  -999.0,-999.000
   31WTTUNES_1,  P17C,    95,  1,     61,     61,2,19910701,0311,  0.4983,-134.9900, 4212,      2.1,  27.2535,  35.2229,2,  35.2247,2,   -999.0,9, 27.2530,   -999.0,9,  -999.00,9,  -999.00,9,  -999.00,9,  -999.00,9, -999.000,9, -999.000,9, -999.000,9,-999.0000,9,  -999.00,9,   -999.0,9,  -999.00,9,   -999.0,9,   -999.0,9,  -999.0,-999.0000,-999.000,  -999.0,-999.000
   31WTTUNES_1,  P17C,    95,  1,     62,     62,2,19910701,0311,  0.4983,-134.9900, 4212,     35.1,  27.1046,  35.2179,2,  35.2192,2,   -999.0,9, 27.0965,   -999.0,9,  -999.00,9,  -999.00,9,  -999.00,9,  -999.00,9, -999.000,9, -999.000,9, -999.000,9,-999.0000,9,  -999.00,9,   -999.0,9,  -999.00,9,   -999.0,9,   -999.0,9,  -999.0,-999.0000,-999.000,  -999.0,-999.000
   31WTTUNES_1,  P17C,    95,  1,     63,     63,2,19910701,0311,  0.4983,-134.9900, 4212,    206.0,  12.5737,  34.8779,2,  34.8801,2,   -999.0,9, 12.5460,   -999.0,9,  -999.00,9,  -999.00,9,  -999.00,9,  -999.00,9, -999.000,9, -999.000,9, -999.000,9,-999.0000,9,  -999.00,9,   -999.0,9,  -999.00,9,   -999.0,9,   -999.0,9,  -999.0,-999.0000,-999.000,  -999.0,-999.000
   31WTTUNES_1,  P17C,    95,  1,     64,     64,2,19910701,0311,  0.4983,-134.9900, 4212,    411.6,   8.9991,  34.6768,2,  34.6762,2,   -999.0,9,  8.9540,   -999.0,9,  -999.00,9,  -999.00,9,  -999.00,9,  -999.00,9, -999.000,9, -999.000,9, -999.000,9,-999.0000,9,  -999.00,9,   -999.0,9,  -999.00,9,   -999.0,9,   -999.0,9,  -999.0,-999.0000,-999.000,  -999.0,-999.000
   31WTTUNES_1,  P17C,    95,  1,     65,     65,2,19910701,0311,  0.4983,-134.9900, 4212,    613.4,   6.8896,  34.5766,2,  34.5774,2,   -999.0,9,  6.8313,   -999.0,9,  -999.00,9,  -999.00,9,  -999.00,9,  -999.00,9, -999.000,9, -999.000,9, -999.000,9,-999.0000,9,  -999.00,9,   -999.0,9,  -999.00,9,   -999.0,9,   -999.0,9,  -999.0,-999.0000,-999.000,  -999.0,-999.000
   31WTTUNES_1,  P17C,    95,  1,     66,     66,2,19910701,0311,  0.4983,-134.9900, 4212,    816.1,   5.3218,  34.5475,2,  34.5501,2,   -999.0,9,  5.2529,   -999.0,9,  -999.00,9,  -999.00,9,  -999.00,9,  -999.00,9, -999.000,9, -999.000,9, -999.000,9,-999.0000,9,  -999.00,9,   -999.0,9,  -999.00,9,   -999.0,9,   -999.0,9,  -999.0,-999.0000,-999.000,  -999.0,-999.000
   31WTTUNES_1,  P17C,    95,  1,     67,     67,2,19910701,0311,  0.4983,-134.9900, 4212,   1025.3,   4.3586,  34.5581,2,  34.5613,2,   -999.0,9,  4.2779,   -999.0,9,  -999.00,9,  -999.00,9,  -999.00,9,  -999.00,9, -999.000,9, -999.000,9, -999.000,9,-999.0000,9,  -999.00,9,   -999.0,9,  -999.00,9,   -999.0,9,   -999.0,9,  -999.0,-999.0000,-999.000,  -999.0,-999.000
   31WTTUNES_1,  P17C,    95,  1,     68,     68,2,19910701,0311,  0.4983,-134.9900, 4212,   2045.8,   2.1755,  34.6451,2,  34.6483,2,   -999.0,9,  2.0324,   -999.0,9,  -999.00,9,  -999.00,9,  -999.00,9,  -999.00,9, -999.000,9, -999.000,9, -999.000,9,-999.0000,9,  -999.00,9,   -999.0,9,  -999.00,9,   -999.0,9,   -999.0,9,  -999.0,-999.0000,-999.000,  -999.0,-999.000
   31WTTUNES_1,  P17C,    95,  1,     69,     69,3,19910701,0311,  0.4983,-134.9900, 4212,   3081.0,   1.6289,  34.6768,2,  34.6707,4,   -999.0,9,  1.4015,   -999.0,9,  -999.00,9,  -999.00,9,  -999.00,9,  -999.00,9, -999.000,9, -999.000,9, -999.000,9,-999.0000,9,  -999.00,9,   -999.0,9,  -999.00,9,   -999.0,9,   -999.0,9,  -999.0,-999.0000,-999.000,  -999.0,-999.000
   31WTTUNES_1,  P17C,    95,  1,     70,     70,2,19910701,0311,  0.4983,-134.9900, 4212,   4116.0,   1.4201,  34.6938,2,  34.6935,2,   -999.0,9,  1.0908,   -999.0,9,  -999.00,9,  -999.00,9,  -999.00,9,  -999.00,9, -999.000,9, -999.000,9, -999.000,9,-999.0000,9,  -999.00,9,   -999.0,9,  -999.00,9,   -999.0,9,   -999.0,9,  -999.0,-999.0000,-999.000,  -999.0,-999.000
   31WTTUNES_1,  P17C,    95,  1,     71,     71,2,19910701,0311,  0.4983,-134.9900, 4212,   4271.5,   1.4311,  34.6934,2,  34.6929,2,   -999.0,9,  1.0842,   -999.0,9,  -999.00,9,  -999.00,9,  -999.00,9,  -999.00,9, -999.000,9, -999.000,9, -999.000,9,-999.0000,9,  -999.00,9,   -999.0,9,  -999.00,9,   -999.0,9,   -999.0,9,  -999.0,-999.0000,-999.000,  -999.0,-999.000