BOTTLE,20220819CCHSIOAMB
EXPOCODE,SECT_ID,STNNBR,CASTNO,SAMPNO,BTLNBR,BTLNBR_FLAG_W,DATE,TIME,LATITUDE,LONGITUDE,DEPTH,CTDPRS,CTDTMP,CTDSAL,CTDSAL_FLAG_W,SALNTY,SALNTY_FLAG_W,CTDOXY,CTDOXY_FLAG_W,THETA,OXYGEN,OXYGEN_FLAG_W,SILCAT,SILCAT_FLAG_W,NITRAT,NITRAT_FLAG_W,NITRIT,NITRIT_FLAG_W,PHSPHT,PHSPHT_FLAG_W,CFC-11,CFC-11_FLAG_W,CFC-12,CFC-12_FLAG_W,TRITUM,TRITUM_FLAG_W,HELIUM,HELIUM_FLAG_W,DELHE3,DELHE3_FLAG_W,DELC14,DELC14_FLAG_W,DELC13,DELC13_FLAG_W,TCARBN,TCARBN_FLAG_W,ALKALI,ALKALI_FLAG_W,C14ERR,HELIER,DELHER,C13ERR,TRITER
,,,,,,,,,,,,DBAR,ITS-90,PSS-78,,PSS-78,,UMOL/KG,,DEG C,UMOL/KG,,UMOL/KG,,UMOL/KG,,UMOL/KG,,UMOL/KG,,PMOL/KG,,PMOL/KG,,TU,,NMOL/KG,,PERCNT,,/MILLE,,/MILLE,,UMOL/KG,,UMOL/KG,,/MILLE,NMOL/KG,PERCNT,/MILLE,TU
   31WTTUNES_1,  P17C,    13,  1,     13,     13,2,19910606,1259, 34.5850,-130.0867, 4338,    350.5,   7.0175,  33.9987,2,  33.9990,2,    114.8,2,  6.9848,    132.5,2,    46.09,2,    29.16,2,     0.00,2,     2.07,2,    1.408,2,    0.722,2, -999.000,9,-999.0000,9,  -999.00,9,   -999.0,9,  -999.00,9,   -999.0,9,   -999.0,9,  -999.0,-999.0000,-999.000,  -999.0,-999.000
   31WTTUNES_1,  P17C,    13,  1,     14,     14,2,19910606,1259, 34.5850,-130.0867, 4338,    401.3,   6.2413,  34.0017,2,  34.0038,2,     96.8,2,  6.2061,     98.6,2,    58.53,2,    33.29,2,     0.00,2,     2.36,2,    0.860,2,    0.425,2, -999.000,9,-999.0000,9,  -999.00,9,   -999.0,9,  -999.00,9,   -999.0,9,   -999.0,9,  -999.0,-999.0000,-999.000,  -999.0,-999.000
   31WTTUNES_1,  P17C,    13,  1,     15,     15,2,19910606,1259, 34.5850,-130.0867, 4338,    499.2,   5.6223,  34.0873,2,  34.0883,2,     44.9,2,  5.5804,     46.0,2,    74.61,2,    38.72,2,     0.00,2,     2.80,2,    0.254,2,    0.135,2, -999.000,9,-999.0000,9,  -999.00,9,   -999.0,9,  -999.00,9,   -999.0,9,   -999.0,9,  -999.0,-999.0000,-999.000,  -999.0,-999.000
   31WTTUNES_1,  P17C,    13,  1,     16,     16,2,19910606,1259, 34.5850,-130.0867, 4338,    603.8,   4.7297,  34.1215,2,  34.1230,2,     31.6,2,  4.6827,     32.3,2,    91.84,2,    41.42,2,     0.00,2,     2.97,2,    0.073,2,    0.045,2, -999.000,9,-999.0000,9,  -999.00,9,   -999.0,9,  -999.00,9,   -999.0,9,   -999.0,9,  -999.0,-999.0000,-999.000,  -999.0,-999.000
   31WTTUNES_1,  P17C,    13,  1,     17,     17,2,19910606,1259, 34.5850,-130.0867, 4338,    701.7,   4.3763,  34.2302,2,  34.2304,2,     14.4,2,  4.3230,     15.5,2,   104.27,2,    42.94,2,     0.00,2,     3.12,2,    0.018,2,    0.013,2, -999.000,9,-999.0000,9,  -999.00,9,   -999.0,9,  -999.00,9,   -999.0,9,   -999.0,9,  -999.0,-999.0000,-999.000,  -999.0,-999.000
   31WTTUNES_1,  P17C,    13,  1,     18,     18,2,19910606,1259, 34.5850,-130.0867, 4338,    804.7,   4.1901,  34.3225,2,  34.3207,2,     10.2,2,  4.1294,     11.0,2,   112.67,2,    43.35,2,     0.00,2,     3.17,2,    0.013,2,    0.008,2, -999.000,9,-999.0000,9,  -999.00,9,   -999.0,9,  -999.00,9,   -999.0,9,   -999.0,9,  -999.0,-999.0000,-999.000,  -999.0,-999.000
   31WTTUNES_1,  P17C,    13,  1,     19,     19,2,19910606,1259, 34.5850,-130.0867, 4338,    908.6,   3.9157,  34.3698,2,  34.3690,2,     12.0,2,  3.8484,     12.6,2,   120.06,2,    44.34,2,     0.01,2,     3.18,2,    0.009,2,    0.006,2, -999.000,9,-999.0000,9,  -999.00,9,   -999.0,9,  -999.00,9,   -999.0,9,   -999.0,9,  -999.0,-999.0000,-999.000,  -999.0,-999.000
   31WTTUNES_1,  P17C,    13,  1,     20,     20,4,19910606,1259, 34.5850,-130.0867, 4338,    908.6,   3.9157,  34.3698,2,  34.3694,2,     12.0,2,  3.8484,     15.1,4,   119.66,2,    44.12,2,     0.01,2,     3.19,2,    0.024,2,    0.004,2, -999.000,9,-999.0000,9,  -999.00,9,   -999.0,9,  -999.00,9,   -999.0,9,   -999.0,9,  -999.0,-999.0000,-999.000,  -999.0,-999.000
   31WTTUNES_1,  P17C,    13,  1,     21,     21,2,19910606,1259, 34.5850,-130.0867, 4338,   1298.9,   3.0994,  34.5134,2,  34.5131,2,     36.0,2,  3.0072,     36.9,2,   138.74,2,    43.42,2,     0.01,2,     3.10,2,    0.000,2,    0.008,2, -999.000,9,-999.0000,9,  -999.00,9,   -999.0,9,  -999.00,9,   -999.0,9,   -999.0,9,  -999.0,-999.0000,-999.000,  -999.0,-999.000
   31WTTUNES_1,  P17C,    13,  1,     22,     22,2,19910606,1259, 34.5850,-130.0867, 4338,   1514.2,   2.7336,  34.5524,2,  34.5528,2,     50.0,2,  2.6277,     49.4,2,   147.02,2,    42.18,2,     0.00,2,     3.02,2,    0.003,2,    0.000,2, -999.000,9,-999.0000,9,  -999.00,9,   -999.0,9,  -999.00,9,   -999.0,9,   -999.0,9,  -999.0,-999.0000,-999.000,  -999.0,-999.000
   31WTTUNES_1,  P17C,    13,  1,     24,     24,4,19910606,1259, 34.5850,-130.0867, 4338,   1716.9,   2.3960,  34.5768,2,  34.5767,2,     59.1,2,  2.2776,     56.5,2,   156.73,2,    42.13,2,     0.00,2,     2.98,2,    0.000,2,    0.002,2, -999.000,9,-999.0000,9,  -999.00,9,   -999.0,9,  -999.00,9,   -999.0,9,   -999.0,9,  -999.0,-999.0000,-999.000,  -999.0,-999.000
   31WTTUNES_1,  P17C,    13,  1,     23,     23,2,19910606,1259, 34.5850,-130.0867, 4338,   1716.9,   2.3960,  34.5768,2,  34.5765,2,     59.1,2,  2.2776,     58.0,2,   156.38,2,    41.97,2,     0.00,2,     2.98,2,    0.002,2,    0.002,2, -999.000,9,-999.0000,9,  -999.00,9,   -999.0,9,  -999.00,9,   -999.0,9,   -999.0,9,  -999.0,-999.0000,-999.000,  -999.0,-999.000
   31WTTUNES_1,  P17C,    13,  1,     25,     25,2,19910606,1259, 34.5850,-130.0867, 4338,   2124.4,   1.9349,  34.6206,2,  34.6209,2,     78.7,2,  1.7890,     79.0,2,   169.34,2,    40.88,2,     0.00,2,     2.85,2,    0.001,2,    0.002,2, -999.000,9,-999.0000,9,  -999.00,9,   -999.0,9,  -999.00,9,   -999.0,9,   -999.0,9,  -999.0,-999.0000,-999.000,  -999.0,-999.000
   31WTTUNES_1,  P17C,    13,  1,     26,     26,2,19910606,1259, 34.5850,-130.0867, 4338,   2328.4,   1.8148,  34.6316,2,  34.6321,2,     87.2,2,  1.6533,     86.6,2,   172.76,2,    40.41,2,     0.00,2,     2.81,2,    0.022,3,    0.000,2, -999.000,9,-999.0000,9,  -999.00,9,   -999.0,9,  -999.00,9,   -999.0,9,   -999.0,9,  -999.0,-999.0000,-999.000,  -999.0,-999.000
   31WTTUNES_1,  P17C,    13,  1,     27,     27,2,19910606,1259, 34.5850,-130.0867, 4338,   2532.9,   1.7266,  34.6423,2,  34.6426,2,     95.9,2,  1.5486,     95.4,2,   173.68,2,    39.95,2,     0.00,2,     2.77,2,    0.001,2,    0.005,2, -999.000,9,-999.0000,9,  -999.00,9,   -999.0,9,  -999.00,9,   -999.0,9,   -999.0,9,  -999.0,-999.0000,-999.000,  -999.0,-999.000
   31WTTUNES_1,  P17C,    13,  1,     28,     28,4,19910606,1259, 34.5850,-130.0867, 4338,   2532.9,   1.7266,  34.6423,2,  34.6430,2,     95.9,2,  1.5486,     98.9,4,   173.65,2,    39.85,2,     0.00,2,     2.78,2,    0.004,2,    0.000,2, -999.000,9,-999.0000,9,  -999.00,9,   -999.0,9,  -999.00,9,   -999.0,9,   -999.0,9,  -999.0,-999.0000,-999.000,  -999.0,-999.000
   31WTTUNES_1,  P17C,    13,  1,     30,     30,4,19910606,1259, 34.5850,-130.0867, 4338,   2941.4,   1.6058,  34.6581,2,  34.6576,2,    110.3,2,  1.3924,    113.0,2,   173.21,2,    38.78,2,     0.00,2,     2.71,2,    0.001,2,    0.004,2, -999.000,9,-999.0000,9,  -999.00,9,   -999.0,9,  -999.00,9,   -999.0,9,   -999.0,9,  -999.0,-999.0000,-999.000,  -999.0,-999.000
   31WTTUNES_1,  P17C,    13,  1,     29,     29,2,19910606,1259, 34.5850,-130.0867, 4338,   2941.4,   1.6058,  34.6581,2,  34.6576,2,    110.3,2,  1.3924,    112.1,2,   173.62,2,    39.04,2,     0.00,2,     2.70,2,    0.002,2,    0.002,2, -999.000,9,-999.0000,9,  -999.00,9,   -999.0,9,  -999.00,9,   -999.0,9,   -999.0,9,  -999.0,-999.0000,-999.000,  -999.0,-999.000
   31WTTUNES_1,  P17C,    13,  1,     31,     31,4,19910606,1259, 34.5850,-130.0867, 4338,   3154.0,   1.5569,  34.6643,2,  34.6647,2,    116.9,2,  1.3240,    116.5,2,   173.18,2,    38.28,2,     0.00,2,     2.66,2,   -0.001,2,    0.006,2, -999.000,9,-999.0000,9,  -999.00,9,   -999.0,9,  -999.00,9,   -999.0,9,   -999.0,9,  -999.0,-999.0000,-999.000,  -999.0,-999.000
   31WTTUNES_1,  P17C,    13,  1,     32,     32,2,19910606,1259, 34.5850,-130.0867, 4338,   3594.8,   1.4920,  34.6754,2,  34.6758,2,    133.9,2,  1.2164,    131.9,2,   167.99,2,    37.32,2,     0.00,2,     2.58,2,    0.000,2,    0.000,2, -999.000,9,-999.0000,9,  -999.00,9,   -999.0,9,  -999.00,9,   -999.0,9,   -999.0,9,  -999.0,-999.0000,-999.000,  -999.0,-999.000
   31WTTUNES_1,  P17C,    13,  1,     33,     33,2,19910606,1259, 34.5850,-130.0867, 4338,   3798.2,   1.4777,  34.6762,2,  34.6793,2,    139.1,2,  1.1812,    138.2,2,   165.47,2,    37.12,2,     0.00,2,     2.55,2, -999.000,9, -999.000,9, -999.000,9,-999.0000,9,  -999.00,9,   -999.0,9,  -999.00,9,   -999.0,9,   -999.0,9,  -999.0,-999.0000,-999.000,  -999.0,-999.000
   31WTTUNES_1,  P17C,    13,  1,     34,     34,2,19910606,1259, 34.5850,-130.0867, 4338,   4024.0,   1.4785,  34.6791,2,  34.6821,2,    143.3,2,  1.1576,    143.3,2,   162.77,2,    36.82,2,     0.00,2,     2.53,2,   -0.001,2,   -0.002,2, -999.000,9,-999.0000,9,  -999.00,9,   -999.0,9,  -999.00,9,   -999.0,9,   -999.0,9,  -999.0,-999.0000,-999.000,  -999.0,-999.000
   31WTTUNES_1,  P17C,    13,  1,     35,     35,2,19910606,1259, 34.5850,-130.0867, 4338,   4253.3,   1.4912,  34.6808,2,  34.6845,2,    145.7,2,  1.1446,    148.3,3,   160.06,2,    36.67,2,     0.00,2,     2.52,2,    0.002,2,    0.002,2, -999.000,9,-999.0000,9,  -999.00,9,   -999.0,9,  -999.00,9,   -999.0,9,   -999.0,9,  -999.0,-999.0000,-999.000,  -999.0,-999.000
   31WTTUNES_1,  P17C,    13,  1,     36,     36,2,19910606,1259, 34.5850,-130.0867, 4338,   4469.0,   1.5144,  34.6837,2,  34.6841,2,   -999.0,9,  1.1426,    145.6,3,   159.84,2,    36.67,2,     0.00,2,     2.52,2,   -0.002,2,   -0.004,2, -999.000,9,-999.0000,9,  -999.00,9,   -999.0,9,  -999.00,9,   -999.0,9,   -999.0,9,  -999.0,-999.0000,-999.000,  -999.0,-999.000