BOTTLE,20220819CCHSIOAMB
EXPOCODE,SECT_ID,STNNBR,CASTNO,SAMPNO,BTLNBR,BTLNBR_FLAG_W,DATE,TIME,LATITUDE,LONGITUDE,DEPTH,CTDPRS,CTDTMP,CTDSAL,CTDSAL_FLAG_W,SALNTY,SALNTY_FLAG_W,CTDOXY,CTDOXY_FLAG_W,THETA,OXYGEN,OXYGEN_FLAG_W,SILCAT,SILCAT_FLAG_W,NITRAT,NITRAT_FLAG_W,NITRIT,NITRIT_FLAG_W,PHSPHT,PHSPHT_FLAG_W,CFC-11,CFC-11_FLAG_W,CFC-12,CFC-12_FLAG_W,TRITUM,TRITUM_FLAG_W,HELIUM,HELIUM_FLAG_W,DELHE3,DELHE3_FLAG_W,DELC14,DELC14_FLAG_W,DELC13,DELC13_FLAG_W,TCARBN,TCARBN_FLAG_W,ALKALI,ALKALI_FLAG_W,C14ERR,HELIER,DELHER,C13ERR,TRITER
,,,,,,,,,,,,DBAR,ITS-90,PSS-78,,PSS-78,,UMOL/KG,,DEG C,UMOL/KG,,UMOL/KG,,UMOL/KG,,UMOL/KG,,UMOL/KG,,PMOL/KG,,PMOL/KG,,TU,,NMOL/KG,,PERCNT,,/MILLE,,/MILLE,,UMOL/KG,,UMOL/KG,,/MILLE,NMOL/KG,PERCNT,/MILLE,TU
   31WTTUNES_1,  P17C,    34,  2,     13,     13,2,19910614,1106, 26.0400,-134.9700, 4573,      0.9,  20.1307,  35.1022,2,  35.1048,2,    225.6,3, 20.1306,    229.3,2,     2.64,2,     0.10,2,     0.00,2,     0.11,2,    2.359,2,    1.258,2, -999.000,9,-999.0000,9,  -999.00,9,    122.0,2,     1.46,2,   -999.0,9,   -999.0,9,     4.2,-999.0000,-999.000,  -999.0,-999.000
   31WTTUNES_1,  P17C,    34,  2,     14,     14,2,19910614,1106, 26.0400,-134.9700, 4573,    107.0,  19.3927,  35.0905,2,  35.0917,2,    228.6,2, 19.3734,    229.7,2,     2.83,2,     0.10,2,     0.01,2,     0.11,2,    2.418,2,    1.265,2, -999.000,9,-999.0000,9,  -999.00,9,    115.2,2,     1.43,2,   -999.0,9,   -999.0,9,     3.1,-999.0000,-999.000,  -999.0,-999.000
   31WTTUNES_1,  P17C,    34,  2,     15,     15,2,19910614,1106, 26.0400,-134.9700, 4573,    128.2,  19.0147,  35.0316,2,  35.0331,2,    227.7,2, 18.9919,    228.1,2,     2.83,2,     0.10,2,     0.03,2,     0.12,2,    2.454,2,    1.279,2, -999.000,9,-999.0000,9,  -999.00,9,    112.3,2,     1.40,2,   -999.0,9,   -999.0,9,     3.4,-999.0000,-999.000,  -999.0,-999.000
   31WTTUNES_1,  P17C,    34,  2,     16,     16,2,19910614,1106, 26.0400,-134.9700, 4573,    152.8,  18.4207,  34.9115,2,  34.8670,2,    228.1,2, 18.3941,    222.9,2,     3.03,2,     0.49,2,     0.19,2,     0.17,2,    2.513,2,    1.305,2, -999.000,9,-999.0000,9,  -999.00,9,    123.8,2,     1.31,2,   -999.0,9,   -999.0,9,     3.1,-999.0000,-999.000,  -999.0,-999.000
   31WTTUNES_1,  P17C,    34,  2,     17,     17,2,19910614,1106, 26.0400,-134.9700, 4573,    175.3,  16.7669,  34.6784,2,  34.6586,2,    211.7,2, 16.7383,    212.1,2,     4.20,2,     2.74,2,     0.04,2,     0.29,2,    2.586,2,    1.329,2, -999.000,9,-999.0000,9,  -999.00,9,    115.9,2,     1.05,2,   -999.0,9,   -999.0,9,     3.1,-999.0000,-999.000,  -999.0,-999.000
   31WTTUNES_1,  P17C,    34,  2,     18,     18,2,19910614,1106, 26.0400,-134.9700, 4573,    202.4,  14.8591,  34.4163,2,  34.4197,2,    212.5,2, 14.8288,    209.1,2,     5.57,2,     4.89,2,     0.02,2,     0.45,2,    2.679,2,    1.350,2, -999.000,9,-999.0000,9,  -999.00,9,    105.8,2,     0.90,2,   -999.0,9,   -999.0,9,     3.3,-999.0000,-999.000,  -999.0,-999.000
   31WTTUNES_1,  P17C,    34,  2,     19,     19,2,19910614,1106, 26.0400,-134.9700, 4573,    227.0,  12.9136,  34.1456,2,  34.1590,2,    209.5,2, 12.8827,    208.5,2,     7.63,2,     7.63,2,     0.01,2,     0.64,2,    2.755,2,    1.366,2, -999.000,9,-999.0000,9,  -999.00,9,     94.4,2,     0.74,2,   -999.0,9,   -999.0,9,     3.9,-999.0000,-999.000,  -999.0,-999.000
   31WTTUNES_1,  P17C,    34,  2,     20,     20,2,19910614,1106, 26.0400,-134.9700, 4573,    253.3,  11.3790,  34.0027,2,  34.0273,2,    200.5,2, 11.3474,    205.8,2,    10.27,2,    10.37,2,     0.01,2,     0.81,2,    2.777,2,    1.373,2, -999.000,9,-999.0000,9,  -999.00,9,     83.7,2,     0.71,2,   -999.0,9,   -999.0,9,     3.2,-999.0000,-999.000,  -999.0,-999.000
   31WTTUNES_1,  P17C,    34,  2,     21,     21,2,19910614,1106, 26.0400,-134.9700, 4573,    278.2,  10.3713,  33.9992,2,  33.9981,2,    203.0,2, 10.3386,    202.2,2,    14.47,2,    14.18,2,     0.01,2,     1.03,2,    2.664,2,    1.317,2, -999.000,9,-999.0000,9,  -999.00,9,     69.7,2,     0.53,2,   -999.0,9,   -999.0,9,     4.2,-999.0000,-999.000,  -999.0,-999.000
   31WTTUNES_1,  P17C,    34,  2,     22,     22,2,19910614,1106, 26.0400,-134.9700, 4573,    303.9,   9.6516,  34.0308,2,  34.0321,2,    198.9,2,  9.6173,    197.5,2,    19.66,2,    16.72,2,     0.01,2,     1.19,2,    2.492,2,    1.219,2, -999.000,9,-999.0000,9,  -999.00,9,     52.2,2,     0.52,2,   -999.0,9,   -999.0,9,     4.2,-999.0000,-999.000,  -999.0,-999.000
   31WTTUNES_1,  P17C,    34,  2,     23,     23,2,19910614,1106, 26.0400,-134.9700, 4573,    354.1,   8.4821,  34.0250,2,  34.0266,2,    167.3,2,  8.4451,    171.3,2,    29.92,2,    21.90,2,     0.00,2,     1.55,2,    1.896,2,    0.938,2, -999.000,9,-999.0000,9,  -999.00,9,     20.2,2,     0.22,2,   -999.0,9,   -999.0,9,     3.0,-999.0000,-999.000,  -999.0,-999.000
   31WTTUNES_1,  P17C,    34,  2,     24,     24,2,19910614,1106, 26.0400,-134.9700, 4573,    405.5,   7.4865,  34.0164,2,  34.0205,2,    157.3,2,  7.4471,    157.2,2,    39.31,2,    25.03,2,     0.00,2,     1.75,2,    1.476,2,    0.727,2, -999.000,9,-999.0000,9,  -999.00,9,   -999.0,9,  -999.00,9,   -999.0,9,   -999.0,9,  -999.0,-999.0000,-999.000,  -999.0,-999.000
   31WTTUNES_1,  P17C,    34,  2,     25,     25,2,19910614,1106, 26.0400,-134.9700, 4573,    456.3,   6.7319,  34.0320,2,  34.0313,2,    100.6,2,  6.6900,    105.7,2,    53.20,2,    31.29,2,     0.00,2,     2.22,2,    0.778,2,    0.397,2, -999.000,9,-999.0000,9,  -999.00,9,   -999.0,9,  -999.00,9,   -999.0,9,   -999.0,9,  -999.0,-999.0000,-999.000,  -999.0,-999.000
   31WTTUNES_1,  P17C,    34,  2,     26,     26,2,19910614,1106, 26.0400,-134.9700, 4573,    507.2,   6.0322,  34.0699,2,  34.0716,2,     65.8,2,  5.9881,     66.0,2,    67.18,2,    35.89,2,     0.00,2,     2.57,2,    0.325,2,    0.176,2, -999.000,9,-999.0000,9,  -999.00,9,    -91.7,2,    -0.35,2,   -999.0,9,   -999.0,9,     4.7,-999.0000,-999.000,  -999.0,-999.000
   31WTTUNES_1,  P17C,    34,  2,     27,     27,2,19910614,1106, 26.0400,-134.9700, 4573,    603.4,   5.2317,  34.1591,2,  34.1594,2,     32.8,2,  5.1824,    108.5,4,    84.38,2,    40.09,2,     0.00,2,     2.88,2,    0.073,2,    0.045,2, -999.000,9,-999.0000,9,  -999.00,9,   -143.6,2,    -0.45,2,   -999.0,9,   -999.0,9,     2.7,-999.0000,-999.000,  -999.0,-999.000
   31WTTUNES_1,  P17C,    34,  2,     28,     28,2,19910614,1106, 26.0400,-134.9700, 4573,    704.5,   4.7449,  34.2717,2,  34.2731,2,     17.1,2,  4.6894,     16.8,2,    98.85,2,    42.04,2,     0.00,2,     3.05,2,    0.013,2,    0.010,2, -999.000,9,-999.0000,9,  -999.00,9,   -176.3,2,    -0.42,2,   -999.0,9,   -999.0,9,     3.4,-999.0000,-999.000,  -999.0,-999.000
   31WTTUNES_1,  P17C,    34,  2,     29,     29,2,19910614,1106, 26.0400,-134.9700, 4573,    806.9,   4.5071,  34.3907,2,  34.3923,2,     16.9,2,  4.4442,     17.0,2,   106.07,2,    42.82,2,     0.00,2,     3.09,2,    0.003,2,    0.000,2, -999.000,9,-999.0000,9,  -999.00,9,   -189.9,2,    -0.54,2,   -999.0,9,   -999.0,9,     2.9,-999.0000,-999.000,  -999.0,-999.000
   31WTTUNES_1,  P17C,    34,  2,     30,     30,2,19910614,1106, 26.0400,-134.9700, 4573,    907.3,   4.0683,  34.4342,2,  34.4363,2,     29.1,2,  4.0000,     30.4,2,   114.09,2,    42.92,2,     0.00,2,     3.02,2,    0.002,2,    0.006,2, -999.000,9,-999.0000,9,  -999.00,9,   -202.3,2,    -0.55,2,   -999.0,9,   -999.0,9,     2.8,-999.0000,-999.000,  -999.0,-999.000
   31WTTUNES_1,  P17C,    34,  2,     31,     31,2,19910614,1106, 26.0400,-134.9700, 4573,   1009.7,   3.8625,  34.4826,2,  34.4849,2,     36.8,2,  3.7871,     37.2,2,   118.09,2,    42.91,2,     0.00,2,     3.00,2,    0.002,2,    0.000,2, -999.000,9,-999.0000,9,  -999.00,9,   -200.5,2,    -0.48,2,   -999.0,9,   -999.0,9,     3.0,-999.0000,-999.000,  -999.0,-999.000
   31WTTUNES_1,  P17C,    34,  2,     32,     32,2,19910614,1106, 26.0400,-134.9700, 4573,   1212.7,   3.4517,  34.5252,2,  34.5262,2,     44.2,2,  3.3631,     44.3,2,   127.08,2,    42.91,2,     0.00,2,     3.00,2,   -0.001,2,    0.000,2, -999.000,9,-999.0000,9,  -999.00,9,   -219.0,2,    -0.44,2,   -999.0,9,   -999.0,9,     2.9,-999.0000,-999.000,  -999.0,-999.000
   31WTTUNES_1,  P17C,    34,  2,     33,     33,2,19910614,1106, 26.0400,-134.9700, 4573,   1417.9,   3.0020,  34.5540,2,  34.5576,2,     52.2,2,  2.9010,     51.9,2,   137.63,2,    42.42,2,     0.00,2,     2.96,2,    0.001,2,    0.000,2, -999.000,9,-999.0000,9,  -999.00,9,   -246.7,2,    -0.43,2,   -999.0,9,   -999.0,9,     2.8,-999.0000,-999.000,  -999.0,-999.000
   31WTTUNES_1,  P17C,    34,  2,     34,     34,2,19910614,1106, 26.0400,-134.9700, 4573,   1614.8,   2.6522,  34.5778,2,  34.5803,2,     61.3,2,  2.5390,     61.7,2,   146.43,2,    41.84,2,     0.00,2,     2.92,2,   -0.001,2,    0.000,2, -999.000,9,-999.0000,9,  -999.00,9,   -246.9,2,    -0.45,2,   -999.0,9,   -999.0,9,     3.4,-999.0000,-999.000,  -999.0,-999.000
   31WTTUNES_1,  P17C,    34,  2,     35,     35,2,19910614,1106, 26.0400,-134.9700, 4573,   1819.2,   2.3694,  34.5964,2,  34.5999,2,     72.6,2,  2.2429,     71.8,2,   152.39,2,    41.25,2,     0.00,2,     2.85,2,    0.000,2,    0.000,2, -999.000,9,-999.0000,9,  -999.00,9,   -252.5,2,    -0.46,2,   -999.0,9,   -999.0,9,     3.7,-999.0000,-999.000,  -999.0,-999.000
   31WTTUNES_1,  P17C,    34,  2,     36,     36,2,19910614,1106, 26.0400,-134.9700, 4573,   2022.0,   2.1096,  34.6130,2,  34.6160,2,     81.9,2,  1.9697,     81.7,2,   158.25,2,    40.66,2,     0.00,2,     2.80,2,   -0.001,2,    0.000,2, -999.000,9,-999.0000,9,  -999.00,9,   -259.5,2,    -0.40,2,   -999.0,9,   -999.0,9,     2.3,-999.0000,-999.000,  -999.0,-999.000
   31WTTUNES_1,  P17C,    34,  2,      1,      1,2,19910614,1106, 26.0400,-134.9700, 4573,   2223.0,   1.9377,  34.6295,2,  34.6319,2,     90.7,2,  1.7833,     90.1,2,   164.11,2,    40.17,2,     0.00,2,     2.76,2,    0.000,2,    0.000,2, -999.000,9,-999.0000,9,  -999.00,9,   -257.7,2,    -0.36,2,   -999.0,9,   -999.0,9,     3.1,-999.0000,-999.000,  -999.0,-999.000
   31WTTUNES_1,  P17C,    34,  2,      2,      2,2,19910614,1106, 26.0400,-134.9700, 4573,   2431.6,   1.7718,  34.6409,2,  34.6428,2,     99.5,2,  1.6019,     99.8,2,   167.53,2,    39.49,2,     0.00,2,     2.70,2,    0.002,2,    0.004,2, -999.000,9,-999.0000,9,  -999.00,9,   -256.5,2,    -0.33,2,   -999.0,9,   -999.0,9,     2.4,-999.0000,-999.000,  -999.0,-999.000
   31WTTUNES_1,  P17C,    34,  2,      3,      3,2,19910614,1106, 26.0400,-134.9700, 4573,   2636.8,   1.6729,  34.6526,2,  34.6522,2,    108.7,2,  1.4864,    107.8,2,   168.51,2,    39.00,2,     0.00,2,     2.67,2,    0.001,2,    0.000,2, -999.000,9,-999.0000,9,  -999.00,9,   -999.0,9,  -999.00,9,   -999.0,9,   -999.0,9,  -999.0,-999.0000,-999.000,  -999.0,-999.000
   31WTTUNES_1,  P17C,    34,  2,      4,      4,2,19910614,1106, 26.0400,-134.9700, 4573,   2841.9,   1.5929,  34.6591,2,  34.6597,2,    116.7,2,  1.3891,    116.5,2,   168.12,2,    38.32,2,     0.00,2,     2.63,2,    0.001,2,    0.005,2, -999.000,9,-999.0000,9,  -999.00,9,   -999.0,9,  -999.00,9,   -999.0,9,   -999.0,9,  -999.0,-999.0000,-999.000,  -999.0,-999.000
   31WTTUNES_1,  P17C,    34,  2,      5,      5,2,19910614,1106, 26.0400,-134.9700, 4573,   3044.1,   1.5460,  34.6639,2,  34.6660,2,    123.7,2,  1.3240,    123.3,2,   166.65,2,    37.83,2,     0.00,2,     2.61,2,    0.001,2,    0.002,2, -999.000,9,-999.0000,9,  -999.00,9,   -999.0,9,  -999.00,9,   -999.0,9,   -999.0,9,  -999.0,-999.0000,-999.000,  -999.0,-999.000
   31WTTUNES_1,  P17C,    34,  2,      6,      6,3,19910614,1106, 26.0400,-134.9700, 4573,   3296.9,   1.5120,  34.6716,2,  34.6708,2,    130.8,2,  1.2661,    129.7,3,   164.50,2,    37.34,2,     0.00,2,     2.56,2,   -0.001,2,    0.009,2, -999.000,9,-999.0000,9,  -999.00,9,   -999.0,9,  -999.00,9,   -999.0,9,   -999.0,9,  -999.0,-999.0000,-999.000,  -999.0,-999.000
   31WTTUNES_1,  P17C,    34,  2,      7,      7,2,19910614,1106, 26.0400,-134.9700, 4573,   3554.2,   1.4860,  34.6772,2,  34.6761,2,    138.3,2,  1.2147,    136.4,2,   162.25,2,    36.95,2,     0.00,2,     2.52,2,    0.003,2,    0.002,2, -999.000,9,-999.0000,9,  -999.00,9,   -999.0,9,  -999.00,9,   -999.0,9,   -999.0,9,  -999.0,-999.0000,-999.000,  -999.0,-999.000
   31WTTUNES_1,  P17C,    34,  2,      8,      8,2,19910614,1106, 26.0400,-134.9700, 4573,   3807.5,   1.4820,  34.6794,2,  34.6794,2,    142.6,2,  1.1843,    140.4,2,   160.00,2,    36.75,2,     0.00,2,     2.48,2,    0.003,2,    0.009,2, -999.000,9,-999.0000,9,  -999.00,9,   -999.0,9,  -999.00,9,   -999.0,9,   -999.0,9,  -999.0,-999.0000,-999.000,  -999.0,-999.000
   31WTTUNES_1,  P17C,    34,  2,      9,      9,2,19910614,1106, 26.0400,-134.9700, 4573,   4065.5,   1.4930,  34.6818,2,  34.6812,2,    145.6,2,  1.1672,    147.1,3,   158.44,2,    36.65,2,     0.00,2,     2.48,2,    0.002,2,    0.011,2, -999.000,9,-999.0000,9,  -999.00,9,   -999.0,9,  -999.00,9,   -999.0,9,   -999.0,9,  -999.0,-999.0000,-999.000,  -999.0,-999.000
   31WTTUNES_1,  P17C,    34,  2,     10,     10,2,19910614,1106, 26.0400,-134.9700, 4573,   4275.6,   1.5050,  34.6831,2,  34.6815,2,    147.9,2,  1.1555,      0.1,4,   157.36,2,    36.56,2,     0.00,2,     2.48,2,    0.003,2,    0.013,2, -999.000,9,-999.0000,9,  -999.00,9,   -999.0,9,  -999.00,9,   -999.0,9,   -999.0,9,  -999.0,-999.0000,-999.000,  -999.0,-999.000
   31WTTUNES_1,  P17C,    34,  2,     11,     11,2,19910614,1106, 26.0400,-134.9700, 4573,   4483.0,   1.5240,  34.6820,2,  34.6829,2,    149.3,2,  1.1503,      0.9,4,   157.17,2,    36.46,2,     0.00,2,     2.46,2,    0.005,2,    0.013,2, -999.000,9,-999.0000,9,  -999.00,9,   -999.0,9,  -999.00,9,   -999.0,9,   -999.0,9,  -999.0,-999.0000,-999.000,  -999.0,-999.000
   31WTTUNES_1,  P17C,    34,  2,     12,     12,2,19910614,1106, 26.0400,-134.9700, 4573,   4649.5,   1.5440,  34.6854,2,  34.6831,2,   -999.0,9,  1.1502,      5.3,4,   157.56,2,    36.26,2,     0.00,2,     2.47,2,    0.001,2,    0.007,2, -999.000,9,-999.0000,9,  -999.00,9,   -999.0,9,  -999.00,9,   -999.0,9,   -999.0,9,  -999.0,-999.0000,-999.000,  -999.0,-999.000