BOTTLE,20220819CCHSIOAMB
EXPOCODE,SECT_ID,STNNBR,CASTNO,SAMPNO,BTLNBR,BTLNBR_FLAG_W,DATE,TIME,LATITUDE,LONGITUDE,DEPTH,CTDPRS,CTDTMP,CTDSAL,CTDSAL_FLAG_W,SALNTY,SALNTY_FLAG_W,CTDOXY,CTDOXY_FLAG_W,THETA,OXYGEN,OXYGEN_FLAG_W,SILCAT,SILCAT_FLAG_W,NITRAT,NITRAT_FLAG_W,NITRIT,NITRIT_FLAG_W,PHSPHT,PHSPHT_FLAG_W,CFC-11,CFC-11_FLAG_W,CFC-12,CFC-12_FLAG_W,TRITUM,TRITUM_FLAG_W,HELIUM,HELIUM_FLAG_W,DELHE3,DELHE3_FLAG_W,DELC14,DELC14_FLAG_W,DELC13,DELC13_FLAG_W,TCARBN,TCARBN_FLAG_W,ALKALI,ALKALI_FLAG_W,C14ERR,HELIER,DELHER,C13ERR,TRITER
,,,,,,,,,,,,DBAR,ITS-90,PSS-78,,PSS-78,,UMOL/KG,,DEG C,UMOL/KG,,UMOL/KG,,UMOL/KG,,UMOL/KG,,UMOL/KG,,PMOL/KG,,PMOL/KG,,TU,,NMOL/KG,,PERCNT,,/MILLE,,/MILLE,,UMOL/KG,,UMOL/KG,,/MILLE,NMOL/KG,PERCNT,/MILLE,TU
   31WTTUNES_1,  P17C,   119,  1,      1,      1,2,19910705,1926, -3.9933,-135.0000, 4613,      0.2,  27.7186,  35.2627,2,  35.2676,2,    207.6,3, 27.7186,    206.7,2,     3.02,2,     4.89,2,     0.10,2,     0.53,2,    1.633,2,    0.911,2, -999.000,9,-999.0000,9,  -999.00,9,   -999.0,9,  -999.00,9,   2006.1,2,   2331.1,2,  -999.0,-999.0000,-999.000,  -999.0,-999.000
   31WTTUNES_1,  P17C,   119,  1,      2,      2,2,19910705,1926, -3.9933,-135.0000, 4613,     78.7,  25.9910,  35.6763,2,  35.6816,2,    195.0,2, 25.9734,    194.1,2,     3.02,2,     5.06,2,     0.12,2,     0.69,2,    1.738,2,    0.988,2,    0.732,2,-999.0000,9,  -999.00,9,   -999.0,9,  -999.00,9,   2044.0,2,   2357.3,2,  -999.0,-999.0000,-999.000,  -999.0,   0.009
   31WTTUNES_1,  P17C,   119,  1,      3,      3,2,19910705,1926, -3.9933,-135.0000, 4613,     93.9,  23.6089,  35.7560,2,  35.7815,2,    176.8,2, 23.5893,    178.8,2,     2.83,2,     4.29,2,     1.33,2,     0.76,2,    1.826,2,    1.004,2, -999.000,9,-999.0000,9,  -999.00,9,   -999.0,9,  -999.00,9,   2070.9,2,   -999.0,9,  -999.0,-999.0000,-999.000,  -999.0,-999.000
   31WTTUNES_1,  P17C,   119,  1,      4,      4,2,19910705,1926, -3.9933,-135.0000, 4613,    104.5,  21.8903,  35.8359,2,  35.7689,2,    160.6,2, 21.8697,    154.3,2,     3.40,2,     6.44,2,     2.31,2,     0.87,2,    1.843,2,    1.051,2,    0.691,2,-999.0000,9,  -999.00,9,   -999.0,9,  -999.00,9,   2109.0,2,   2364.6,2,  -999.0,-999.0000,-999.000,  -999.0,   0.009
   31WTTUNES_1,  P17C,   119,  1,      5,      5,2,19910705,1926, -3.9933,-135.0000, 4613,    115.9,  18.7440,  35.5250,2,  35.3654,2,    106.3,2, 18.7235,     95.5,2,     8.68,2,    16.21,2,     1.43,2,     1.39,2,    1.367,2,    0.791,2,    0.571,2,-999.0000,9,  -999.00,9,   -999.0,9,  -999.00,9,   2158.7,2,   -999.0,9,  -999.0,-999.0000,-999.000,  -999.0,   0.008
   31WTTUNES_1,  P17C,   119,  1,      6,      6,2,19910705,1926, -3.9933,-135.0000, 4613,    126.1,  15.9357,  35.2381,2,  35.1717,2,     65.5,2, 15.9158,     60.5,2,    13.02,2,    22.49,2,     0.17,2,     1.72,2,    0.972,2,    0.523,2,    0.493,2,-999.0000,9,  -999.00,9,   -999.0,9,  -999.00,9,   2189.1,2,   -999.0,9,  -999.0,-999.0000,-999.000,  -999.0,   0.008
   31WTTUNES_1,  P17C,   119,  1,      7,      7,2,19910705,1926, -3.9933,-135.0000, 4613,    135.4,  14.6733,  35.1001,2,  35.0910,2,     47.9,2, 14.6531,     47.7,2,    16.04,2,    25.34,2,     0.04,2,     1.87,2,    0.766,2,    0.414,2,    0.479,2,-999.0000,9,  -999.00,9,   -999.0,9,  -999.00,9,   2200.1,2,   -999.0,9,  -999.0,-999.0000,-999.000,  -999.0,   0.008
   31WTTUNES_1,  P17C,   119,  1,      8,      8,2,19910705,1926, -3.9933,-135.0000, 4613,    165.9,  12.8765,  34.9160,2,  34.9174,2,     25.0,2, 12.8538,     24.7,2,    23.40,2,    30.68,2,     0.01,2,     2.14,2,    0.356,2,    0.199,2,    0.423,2,-999.0000,9,  -999.00,9,   -999.0,9,  -999.00,9,   2222.6,2,   2305.0,2,  -999.0,-999.0000,-999.000,  -999.0,   0.007
   31WTTUNES_1,  P17C,   119,  1,      9,      9,2,19910705,1926, -3.9933,-135.0000, 4613,    205.9,  12.5412,  34.8952,2,  34.8948,2,     27.2,2, 12.5135,     27.0,2,    24.91,2,    30.84,2,     0.01,2,     2.16,2,    0.285,2,    0.166,2,    0.407,2,   1.8400,2,     5.17,2,   -999.0,9,  -999.00,9,   2225.8,2,   2306.3,2,  -999.0,  0.0090,   0.150,  -999.0,   0.007
   31WTTUNES_1,  P17C,   119,  1,     10,     10,2,19910705,1926, -3.9933,-135.0000, 4613,    256.3,  12.0525,  34.8637,2,  34.8632,2,     27.8,2, 12.0189,     30.4,2,    26.04,2,    31.09,2,     0.00,2,     2.18,2,    0.229,2,    0.139,2,    0.344,2,   1.8230,2,     5.20,2,   -999.0,9,  -999.00,9,   2227.2,2,   -999.0,9,  -999.0,  0.0090,   0.150,  -999.0,   0.006
   31WTTUNES_1,  P17C,   119,  1,     11,     11,2,19910705,1926, -3.9933,-135.0000, 4613,    325.7,  11.1435,  34.8154,2,  34.8117,2,     10.2,2, 11.1028,     10.5,2,    31.32,2,    33.81,2,     0.01,2,     2.43,2,    0.095,2,    0.064,2,    0.160,2,   1.8280,2,     4.49,2,   -999.0,9,  -999.00,9,   2254.7,2,   2305.9,2,  -999.0,  0.0090,   0.150,  -999.0,   0.004
   31WTTUNES_1,  P17C,   119,  1,     12,     12,2,19910705,1926, -3.9933,-135.0000, 4613,    404.6,   9.5367,  34.7171,2,  34.7165,2,     12.2,2,  9.4908,     11.6,2,    37.73,2,    37.13,2,     0.01,2,     2.62,2,    0.030,2,    0.019,2,    0.059,2,   1.8620,2,     5.24,2,   -999.0,9,  -999.00,9,   2266.6,2,   2307.4,2,  -999.0,  0.0090,   0.150,  -999.0,   0.003
   31WTTUNES_1,  P17C,   119,  1,     13,     13,2,19910705,1926, -3.9933,-135.0000, 4613,    506.9,   8.0661,  34.6350,2,  34.6328,2,     31.6,2,  8.0138,     31.9,2,    42.45,2,    39.21,2,     0.00,2,     2.69,2,    0.004,2,    0.006,2,    0.007,2,   1.8480,2,     6.36,2,   -999.0,9,  -999.00,9,   2265.3,2,   -999.0,9,  -999.0,  0.0090,   0.150,  -999.0,   0.001
   31WTTUNES_1,  P17C,   119,  1,     14,     14,2,19910705,1926, -3.9933,-135.0000, 4613,    609.0,   6.8148,  34.5758,2,  34.5770,2,     53.2,2,  6.7573,     52.8,2,    51.50,2,    39.73,2,     0.00,2,     2.75,2,    0.004,2,    0.007,2,    0.001,2,   1.8580,2,     8.83,2,   -999.0,9,  -999.00,9,   2268.5,2,   2316.5,2,  -999.0,  0.0090,   0.150,  -999.0,   0.002
   31WTTUNES_1,  P17C,   119,  1,     15,     15,2,19910705,1926, -3.9933,-135.0000, 4613,    712.8,   6.0454,  34.5556,2,  34.5553,2,     64.5,2,  5.9818,     63.2,2,    60.35,2,    40.10,2,     0.00,2,     2.78,2,    0.002,2,    0.003,2,    0.000,2,   1.8920,2,    10.89,2,   -999.0,9,  -999.00,9,   2273.9,2,   -999.0,9,  -999.0,  0.0090,   0.150,  -999.0,   0.001
   31WTTUNES_1,  P17C,   119,  1,     16,     16,2,19910705,1926, -3.9933,-135.0000, 4613,    809.6,   5.3856,  34.5476,2,  34.5500,2,     64.6,2,  5.3168,     77.4,3,    69.77,2,    40.05,2,     0.00,2,     2.78,2,    0.002,2,    0.001,2,   -0.001,2,   1.8980,2,    13.29,2,   -999.0,9,  -999.00,9,   2281.4,2,   -999.0,9,  -999.0,  0.0090,   0.150,  -999.0,   0.001
   31WTTUNES_1,  P17C,   119,  1,     17,     17,2,19910705,1926, -3.9933,-135.0000, 4613,    914.6,   4.9528,  34.5494,2,  34.5494,2,     74.4,2,  4.8775,     76.6,2,    77.68,2,    40.05,2,     0.00,2,     2.80,2,   -0.002,2,    0.005,2,    0.005,2,-999.0000,9,  -999.00,9,   -999.0,9,  -999.00,9,   2288.7,2,   -999.0,9,  -999.0,-999.0000,-999.000,  -999.0,   0.002
   31WTTUNES_1,  P17C,   119,  1,     18,     18,2,19910705,1926, -3.9933,-135.0000, 4613,   1022.4,   4.4415,  34.5525,2,  34.5539,2,     87.5,2,  4.3604,     87.1,2,    86.34,2,    39.41,2,     0.00,2,     2.77,2,    0.001,2,    0.003,2,   -0.002,2,-999.0000,9,  -999.00,9,   -999.0,9,  -999.00,9,   2293.8,2,   2358.7,2,  -999.0,-999.0000,-999.000,  -999.0,   0.001
   31WTTUNES_1,  P17C,   119,  1,     19,     19,2,19910705,1926, -3.9933,-135.0000, 4613,   1212.3,   3.8473,  34.5677,2,  34.5671,2,     94.3,2,  3.7549,     95.3,2,    98.40,2,    39.30,2,     0.00,2,     2.76,2,   -0.002,2,   -0.002,2, -999.000,9,-999.0000,9,  -999.00,9,   -999.0,9,  -999.00,9,   2306.8,2,   -999.0,9,  -999.0,-999.0000,-999.000,  -999.0,-999.000
   31WTTUNES_1,  P17C,   119,  1,     20,     20,2,19910705,1926, -3.9933,-135.0000, 4613,   1406.1,   3.2886,  34.5864,2,  34.5881,2,     97.3,2,  3.1854,    100.0,2,   110.07,2,    39.14,2,     0.00,2,     2.74,2,    0.000,2,   -0.003,2, -999.000,9,-999.0000,9,  -999.00,9,   -999.0,9,  -999.00,9,   2318.7,2,   -999.0,9,  -999.0,-999.0000,-999.000,  -999.0,-999.000
   31WTTUNES_1,  P17C,   119,  1,     21,     21,2,19910705,1926, -3.9933,-135.0000, 4613,   1615.8,   2.7944,  34.6098,2,  34.6099,2,    104.8,2,  2.6793,    104.7,2,   122.49,2,    38.99,2,     0.00,2,     2.73,2,   -0.002,2,    0.000,2, -999.000,9,-999.0000,9,  -999.00,9,   -999.0,9,  -999.00,9,   2327.7,2,   -999.0,9,  -999.0,-999.0000,-999.000,  -999.0,-999.000
   31WTTUNES_1,  P17C,   119,  1,     22,     22,2,19910705,1926, -3.9933,-135.0000, 4613,   1828.7,   2.4282,  34.6304,2,  34.6308,2,    110.0,2,  2.2999,    108.9,2,   132.64,2,    38.62,2,     0.00,2,     2.69,2, -999.000,9, -999.000,9, -999.000,9,-999.0000,9,  -999.00,9,   -999.0,9,  -999.00,9,   2335.9,2,   -999.0,9,  -999.0,-999.0000,-999.000,  -999.0,-999.000
   31WTTUNES_1,  P17C,   119,  1,     23,     23,2,19910705,1926, -3.9933,-135.0000, 4613,   2022.7,   2.2320,  34.6413,2,  34.6426,2,    117.2,2,  2.0901,    115.3,2,   136.95,2,    38.25,2,     0.00,2,     2.66,2, -999.000,9, -999.000,9, -999.000,9,-999.0000,9,  -999.00,9,   -999.0,9,  -999.00,9,   2338.7,2,   -999.0,9,  -999.0,-999.0000,-999.000,  -999.0,-999.000
   31WTTUNES_1,  P17C,   119,  1,     24,     24,2,19910705,1926, -3.9933,-135.0000, 4613,   2184.7,   2.1044,  34.6486,2,  34.6492,2,    120.9,2,  1.9504,    118.7,2,   139.01,2,    38.04,2,     0.00,2,     2.63,2, -999.000,9, -999.000,9, -999.000,9,-999.0000,9,  -999.00,9,   -999.0,9,  -999.00,9,   2339.0,2,   -999.0,9,  -999.0,-999.0000,-999.000,  -999.0,-999.000
   31WTTUNES_1,  P17C,   119,  1,     25,     25,2,19910705,1926, -3.9933,-135.0000, 4613,   2371.9,   2.0117,  34.6551,2,  34.6552,2,    118.9,2,  1.8428,    119.8,2,   142.38,2,    37.98,2,     0.00,2,     2.63,2, -999.000,9, -999.000,9, -999.000,9,-999.0000,9,  -999.00,9,   -999.0,9,  -999.00,9,   2340.5,2,   -999.0,9,  -999.0,-999.0000,-999.000,  -999.0,-999.000
   31WTTUNES_1,  P17C,   119,  1,     26,     26,2,19910705,1926, -3.9933,-135.0000, 4613,   2541.8,   1.9148,  34.6602,2,  34.6593,2,    129.5,2,  1.7323,    128.3,2,   140.66,2,    37.47,2,     0.00,2,     2.58,2, -999.000,9, -999.000,9, -999.000,9,-999.0000,9,  -999.00,9,   -999.0,9,  -999.00,9,   -999.0,9,   -999.0,9,  -999.0,-999.0000,-999.000,  -999.0,-999.000
   31WTTUNES_1,  P17C,   119,  1,     27,     27,2,19910705,1926, -3.9933,-135.0000, 4613,   2702.1,   1.8303,  34.6659,2,  34.6650,2,    137.6,2,  1.6346,    135.6,2,   140.64,2,    37.00,2,     0.00,2,     2.54,2, -999.000,9, -999.000,9, -999.000,9,-999.0000,9,  -999.00,9,   -999.0,9,  -999.00,9,   -999.0,9,   -999.0,9,  -999.0,-999.0000,-999.000,  -999.0,-999.000
   31WTTUNES_1,  P17C,   119,  1,     28,     28,2,19910705,1926, -3.9933,-135.0000, 4613,   2864.1,   1.7378,  34.6717,2,  34.6711,2,    141.4,2,  1.5288,    139.8,2,   141.75,2,    36.69,2,     0.00,2,     2.52,2, -999.000,9, -999.000,9, -999.000,9,-999.0000,9,  -999.00,9,   -999.0,9,  -999.00,9,   -999.0,9,   -999.0,9,  -999.0,-999.0000,-999.000,  -999.0,-999.000
   31WTTUNES_1,  P17C,   119,  1,     29,     29,2,19910705,1926, -3.9933,-135.0000, 4613,   3039.1,   1.6429,  34.6756,2,  34.6756,2,    143.1,2,  1.4192,    146.2,2,   142.11,2,    36.27,2,     0.00,2,     2.48,2, -999.000,9, -999.000,9, -999.000,9,-999.0000,9,  -999.00,9,   -999.0,9,  -999.00,9,   -999.0,9,   -999.0,9,  -999.0,-999.0000,-999.000,  -999.0,-999.000
   31WTTUNES_1,  P17C,   119,  1,     30,     30,2,19910705,1926, -3.9933,-135.0000, 4613,   3287.5,   1.5531,  34.6814,2,  34.6817,2,    152.0,2,  1.3070,    153.1,2,   142.09,2,    35.86,2,     0.00,2,     2.44,2, -999.000,9, -999.000,9, -999.000,9,-999.0000,9,  -999.00,9,   -999.0,9,  -999.00,9,   -999.0,9,   -999.0,9,  -999.0,-999.0000,-999.000,  -999.0,-999.000
   31WTTUNES_1,  P17C,   119,  1,     31,     31,2,19910705,1926, -3.9933,-135.0000, 4613,   3558.2,   1.4882,  34.6866,2,  34.6851,2,    157.0,2,  1.2164,    155.9,2,   143.20,2,    35.65,2,     0.00,2,     2.43,2, -999.000,9, -999.000,9, -999.000,9,-999.0000,9,  -999.00,9,   -999.0,9,  -999.00,9,   -999.0,9,   2432.9,2,  -999.0,-999.0000,-999.000,  -999.0,-999.000
   31WTTUNES_1,  P17C,   119,  1,     32,     32,2,19910705,1926, -3.9933,-135.0000, 4613,   3813.6,   1.4522,  34.6898,2,  34.6896,2,    159.2,2,  1.1547,    159.8,2,   143.93,2,    35.45,2,     0.00,2,     2.40,2, -999.000,9, -999.000,9, -999.000,9,-999.0000,9,  -999.00,9,   -999.0,9,  -999.00,9,   -999.0,9,   -999.0,9,  -999.0,-999.0000,-999.000,  -999.0,-999.000
   31WTTUNES_1,  P17C,   119,  1,     33,     33,2,19910705,1926, -3.9933,-135.0000, 4613,   4068.9,   1.4297,  34.6924,2,  34.6916,2,    165.4,2,  1.1052,    164.1,2,   141.65,2,    35.09,2,     0.00,2,     2.38,2, -999.000,9, -999.000,9, -999.000,9,-999.0000,9,  -999.00,9,   -999.0,9,  -999.00,9,   -999.0,9,   -999.0,9,  -999.0,-999.0000,-999.000,  -999.0,-999.000
   31WTTUNES_1,  P17C,   119,  1,     34,     34,2,19910705,1926, -3.9933,-135.0000, 4613,   4271.2,   1.4046,  34.6963,2,  34.6940,2,    173.0,2,  1.0584,    171.9,2,   135.99,2,    34.48,2,     0.00,2,     2.34,2, -999.000,9, -999.000,9, -999.000,9,-999.0000,9,  -999.00,9,   -999.0,9,  -999.00,9,   -999.0,9,   -999.0,9,  -999.0,-999.0000,-999.000,  -999.0,-999.000
   31WTTUNES_1,  P17C,   119,  1,     35,     35,2,19910705,1926, -3.9933,-135.0000, 4613,   4491.2,   1.4140,  34.6980,2,  34.6946,2,    174.6,2,  1.0426,    174.8,2,   134.46,2,    34.32,2,     0.00,2,     2.33,2, -999.000,9, -999.000,9, -999.000,9,-999.0000,9,  -999.00,9,   -999.0,9,  -999.00,9,   -999.0,9,   -999.0,9,  -999.0,-999.0000,-999.000,  -999.0,-999.000
   31WTTUNES_1,  P17C,   119,  1,     36,     36,2,19910705,1926, -3.9933,-135.0000, 4613,   4700.3,   1.4340,  34.6981,2,  34.6952,2,   -999.0,9,  1.0378,    174.6,2,   134.44,2,    34.37,2,     0.00,2,     2.33,2, -999.000,9, -999.000,9, -999.000,9,-999.0000,9,  -999.00,9,   -999.0,9,  -999.00,9,   -999.0,9,   2424.8,2,  -999.0,-999.0000,-999.000,  -999.0,-999.000