BOTTLE,20220819CCHSIOAMB
EXPOCODE,SECT_ID,STNNBR,CASTNO,SAMPNO,BTLNBR,BTLNBR_FLAG_W,DATE,TIME,LATITUDE,LONGITUDE,DEPTH,CTDPRS,CTDTMP,CTDSAL,CTDSAL_FLAG_W,SALNTY,SALNTY_FLAG_W,CTDOXY,CTDOXY_FLAG_W,THETA,OXYGEN,OXYGEN_FLAG_W,SILCAT,SILCAT_FLAG_W,NITRAT,NITRAT_FLAG_W,NITRIT,NITRIT_FLAG_W,PHSPHT,PHSPHT_FLAG_W,CFC-11,CFC-11_FLAG_W,CFC-12,CFC-12_FLAG_W,TRITUM,TRITUM_FLAG_W,HELIUM,HELIUM_FLAG_W,DELHE3,DELHE3_FLAG_W,DELC14,DELC14_FLAG_W,DELC13,DELC13_FLAG_W,TCARBN,TCARBN_FLAG_W,ALKALI,ALKALI_FLAG_W,C14ERR,HELIER,DELHER,C13ERR,TRITER
,,,,,,,,,,,,DBAR,ITS-90,PSS-78,,PSS-78,,UMOL/KG,,DEG C,UMOL/KG,,UMOL/KG,,UMOL/KG,,UMOL/KG,,UMOL/KG,,PMOL/KG,,PMOL/KG,,TU,,NMOL/KG,,PERCNT,,/MILLE,,/MILLE,,UMOL/KG,,UMOL/KG,,/MILLE,NMOL/KG,PERCNT,/MILLE,TU
   31WTTUNES_1,  P17C,    77,  1,      1,      1,2,19910627,1602,  4.4983,-134.9983, 4532,      0.2,  28.3228,  34.6348,2,  34.6394,2,   -999.0,9, 28.3228,    207.7,2,     2.75,2,     1.95,2,     0.06,2,     0.34,2,    1.534,2,    0.909,2, -999.000,9,-999.0000,9,  -999.00,9,   -999.0,9,  -999.00,9,   1963.5,2,   2284.6,2,  -999.0,-999.0000,-999.000,  -999.0,-999.000
   31WTTUNES_1,  P17C,    77,  1,      2,      2,2,19910627,1602,  4.4983,-134.9983, 4532,     60.3,  28.0812,  34.7802,2,  34.7687,2,    212.3,2, 28.0670,    206.1,2,     2.74,2,     2.06,2,     0.10,2,     0.35,2, -999.000,9, -999.000,9, -999.000,9,-999.0000,9,  -999.00,9,   -999.0,9,  -999.00,9,   1973.0,2,   2290.3,2,  -999.0,-999.0000,-999.000,  -999.0,-999.000
   31WTTUNES_1,  P17C,    77,  1,      3,      3,2,19910627,1602,  4.4983,-134.9983, 4532,     90.2,  27.9539,  34.8773,2,  34.8875,2,    208.8,2, 27.9327,    197.2,2,     2.73,2,     2.92,2,     0.22,2,     0.43,2,    1.561,2,    0.964,2, -999.000,9,-999.0000,9,  -999.00,9,   -999.0,9,  -999.00,9,   1989.1,2,   2293.3,2,  -999.0,-999.0000,-999.000,  -999.0,-999.000
   31WTTUNES_1,  P17C,    77,  1,      4,      4,2,19910627,1602,  4.4983,-134.9983, 4532,    111.6,  26.0667,  34.8843,2,  34.8728,2,    189.4,2, 26.0418,    169.8,2,     3.96,2,     5.61,2,     1.14,2,     0.63,2, -999.000,9, -999.000,9, -999.000,9,-999.0000,9,  -999.00,9,   -999.0,9,  -999.00,9,   2020.5,2,   -999.0,9,  -999.0,-999.0000,-999.000,  -999.0,-999.000
   31WTTUNES_1,  P17C,    77,  1,      5,      5,2,19910627,1602,  4.4983,-134.9983, 4532,    122.9,  20.9673,  34.8375,2,  34.8113,2,    139.4,2, 20.9438,    118.5,2,     8.73,2,    13.27,2,     0.45,2,     1.03,2,    1.347,2,    0.773,2, -999.000,9,-999.0000,9,  -999.00,9,   -999.0,9,  -999.00,9,   2084.0,2,   -999.0,9,  -999.0,-999.0000,-999.000,  -999.0,-999.000
   31WTTUNES_1,  P17C,    77,  1,      6,      6,2,19910627,1602,  4.4983,-134.9983, 4532,    133.7,  17.1608,  34.7253,2,  34.7096,2,    102.2,2, 17.1387,     95.9,2,    14.93,2,    17.93,2,     0.06,2,     1.33,2, -999.000,9, -999.000,9, -999.000,9,-999.0000,9,  -999.00,9,   -999.0,9,  -999.00,9,   2127.6,2,   -999.0,9,  -999.0,-999.0000,-999.000,  -999.0,-999.000
   31WTTUNES_1,  P17C,    77,  1,      7,      7,2,19910627,1602,  4.4983,-134.9983, 4532,    144.2,  13.5844,  34.6511,2,  34.6442,2,     68.1,2, 13.5641,     73.1,2,    21.83,2,    23.65,2,     0.02,2,     1.71,2,    0.774,2,    0.432,2, -999.000,9,-999.0000,9,  -999.00,9,   -999.0,9,  -999.00,9,   2172.4,2,   2286.5,2,  -999.0,-999.0000,-999.000,  -999.0,-999.000
   31WTTUNES_1,  P17C,    77,  1,      8,      8,2,19910627,1602,  4.4983,-134.9983, 4532,    169.7,  11.5960,  34.5924,2,  34.5951,2,     80.3,2, 11.5745,     91.9,2,    28.03,2,    24.94,2,     0.01,2,     1.78,2, -999.000,9, -999.000,9, -999.000,9,-999.0000,9,  -999.00,9,   -999.0,9,  -999.00,9,   2181.8,2,   -999.0,9,  -999.0,-999.0000,-999.000,  -999.0,-999.000
   31WTTUNES_1,  P17C,    77,  1,      9,      9,2,19910627,1602,  4.4983,-134.9983, 4532,    194.8,  10.8343,  34.6101,2,  34.6042,2,     93.1,2, 10.8106,     96.4,2,    30.15,2,    25.81,2,     0.01,2,     1.83,2,    0.499,2,    0.275,2, -999.000,9,-999.0000,9,  -999.00,9,   -999.0,9,  -999.00,9,   2185.9,2,   2296.6,2,  -999.0,-999.0000,-999.000,  -999.0,-999.000
   31WTTUNES_1,  P17C,    77,  1,     10,     10,2,19910627,1602,  4.4983,-134.9983, 4532,    237.0,  10.2578,  34.6743,2,  34.6755,2,     79.0,2, 10.2299,     63.1,2,    31.55,2,    30.38,2,     0.01,2,     2.13,2,    0.214,2,    0.135,2, -999.000,9,-999.0000,9,  -999.00,9,   -999.0,9,  -999.00,9,   2221.2,2,   -999.0,9,  -999.0,-999.0000,-999.000,  -999.0,-999.000
   31WTTUNES_1,  P17C,    77,  1,     11,     11,2,19910627,1602,  4.4983,-134.9983, 4532,    257.1,  10.0038,  34.6640,2,  34.6638,2,     68.2,2,  9.9740,     76.3,2,    31.72,2,    29.79,2,     0.01,2,     2.09,2,    0.221,2,    0.130,2, -999.000,9,-999.0000,9,  -999.00,9,   -999.0,9,  -999.00,9,   2216.3,2,   -999.0,9,  -999.0,-999.0000,-999.000,  -999.0,-999.000
   31WTTUNES_1,  P17C,    77,  1,     12,     12,2,19910627,1602,  4.4983,-134.9983, 4532,    291.7,   9.8064,  34.6823,2,  34.6850,2,     67.8,2,  9.7730,     68.2,2,    31.89,2,    30.98,2,     0.01,2,     2.14,2,    0.166,2,    0.099,2, -999.000,9,-999.0000,9,  -999.00,9,   -999.0,9,  -999.00,9,   2224.0,2,   2303.4,2,  -999.0,-999.0000,-999.000,  -999.0,-999.000
   31WTTUNES_1,  P17C,    77,  1,     13,     13,2,19910627,1602,  4.4983,-134.9983, 4532,    331.6,   9.5119,  34.6713,2,  34.6736,2,     58.7,2,  9.4745,     58.5,2,    33.83,2,    32.53,2,     0.00,2,     2.26,2,    0.109,2,    0.067,2, -999.000,9,-999.0000,9,  -999.00,9,   -999.0,9,  -999.00,9,   2235.2,2,   -999.0,9,  -999.0,-999.0000,-999.000,  -999.0,-999.000
   31WTTUNES_1,  P17C,    77,  1,     14,     14,2,19910627,1602,  4.4983,-134.9983, 4532,    406.3,   9.0110,  34.6486,2,  34.6501,2,     47.0,2,  8.9664,     48.7,2,    36.83,2,    34.52,2,     0.00,2,     2.40,2,    0.060,2,    0.040,2, -999.000,9,-999.0000,9,  -999.00,9,   -999.0,9,  -999.00,9,   2247.3,2,   2313.3,2,  -999.0,-999.0000,-999.000,  -999.0,-999.000
   31WTTUNES_1,  P17C,    77,  1,     15,     15,2,19910627,1602,  4.4983,-134.9983, 4532,    506.2,   8.0024,  34.6147,2,  34.6163,2,     23.4,2,  7.9504,     23.4,2,    47.10,2,    38.77,2,     0.00,2,     2.75,2,    0.004,2,    0.007,2, -999.000,9,-999.0000,9,  -999.00,9,   -999.0,9,  -999.00,9,   2279.8,2,   -999.0,9,  -999.0,-999.0000,-999.000,  -999.0,-999.000
   31WTTUNES_1,  P17C,    77,  1,     16,     16,2,19910627,1602,  4.4983,-134.9983, 4532,    603.4,   7.1333,  34.5791,2,  34.5819,2,     45.8,2,  7.0749,     44.8,2,    51.35,2,    38.80,2,     0.00,2,     2.74,2, -999.000,9, -999.000,9, -999.000,9,-999.0000,9,  -999.00,9,   -999.0,9,  -999.00,9,   2276.1,2,   2320.7,2,  -999.0,-999.0000,-999.000,  -999.0,-999.000
   31WTTUNES_1,  P17C,    77,  1,     17,     17,2,19910627,1602,  4.4983,-134.9983, 4532,    704.6,   6.2959,  34.5566,2,  34.5592,2,     50.8,2,  6.2317,     51.1,2,    60.21,2,    39.81,2,     0.00,2,     2.80,2, -999.000,9, -999.000,9, -999.000,9,-999.0000,9,  -999.00,9,   -999.0,9,  -999.00,9,   2283.2,2,   -999.0,9,  -999.0,-999.0000,-999.000,  -999.0,-999.000
   31WTTUNES_1,  P17C,    77,  1,     18,     18,2,19910627,1602,  4.4983,-134.9983, 4532,    807.7,   5.4909,  34.5469,2,  34.5498,2,     61.0,2,  5.4217,     60.7,2,    71.54,2,    40.34,2,     0.00,2,     2.83,2, -999.000,9, -999.000,9, -999.000,9,-999.0000,9,  -999.00,9,   -999.0,9,  -999.00,9,   2292.4,2,   -999.0,9,  -999.0,-999.0000,-999.000,  -999.0,-999.000
   31WTTUNES_1,  P17C,    77,  1,     19,     19,2,19910627,1602,  4.4983,-134.9983, 4532,    906.0,   5.0888,  34.5502,2,  34.5520,2,     59.0,2,  5.0133,     59.7,2,    78.98,2,    40.86,2,     0.00,2,     2.88,2,   -0.001,2,    0.001,2, -999.000,9,-999.0000,9,  -999.00,9,   -999.0,9,  -999.00,9,   2303.7,2,   -999.0,9,  -999.0,-999.0000,-999.000,  -999.0,-999.000
   31WTTUNES_1,  P17C,    77,  1,     20,     20,2,19910627,1602,  4.4983,-134.9983, 4532,   1006.1,   4.6547,  34.5561,2,  34.5573,2,     62.6,2,  4.5734,     62.9,2,    87.83,2,    40.84,2,     0.00,2,     2.89,2,    0.001,2,    0.003,2, -999.000,9,-999.0000,9,  -999.00,9,   -999.0,9,  -999.00,9,   2311.0,2,   2352.1,2,  -999.0,-999.0000,-999.000,  -999.0,-999.000
   31WTTUNES_1,  P17C,    77,  1,     21,     21,2,19910627,1602,  4.4983,-134.9983, 4532,   1210.5,   3.8901,  34.5772,2,  34.5773,2,     64.0,2,  3.7975,     62.9,2,   107.15,2,    41.26,2,     0.00,2,     2.94,2,   -0.001,2,    0.003,2, -999.000,9,-999.0000,9,  -999.00,9,   -999.0,9,  -999.00,9,   2331.8,2,   -999.0,9,  -999.0,-999.0000,-999.000,  -999.0,-999.000
   31WTTUNES_1,  P17C,    77,  1,     22,     22,3,19910627,1602,  4.4983,-134.9983, 4532,   1410.4,   3.2847,  34.5967,2,  34.5750,4,     72.9,2,  3.1812,     72.6,2,   120.44,2,    40.75,2,     0.00,2,     2.88,2, -999.000,9, -999.000,9, -999.000,9,-999.0000,9,  -999.00,9,   -999.0,9,  -999.00,9,   2339.3,2,   -999.0,9,  -999.0,-999.0000,-999.000,  -999.0,-999.000
   31WTTUNES_1,  P17C,    77,  1,     23,     23,2,19910627,1602,  4.4983,-134.9983, 4532,   1616.0,   2.8477,  34.6150,2,  34.6165,2,     83.5,2,  2.7319,     82.6,2,   130.35,2,    40.24,2,     0.00,2,     2.83,2, -999.000,9, -999.000,9, -999.000,9,-999.0000,9,  -999.00,9,   -999.0,9,  -999.00,9,   2347.1,2,   -999.0,9,  -999.0,-999.0000,-999.000,  -999.0,-999.000
   31WTTUNES_1,  P17C,    77,  1,     24,     24,2,19910627,1602,  4.4983,-134.9983, 4532,   1821.2,   2.4676,  34.6306,2,  34.6320,2,     94.4,2,  2.3395,     93.9,2,   137.97,2,    39.30,2,     0.00,2,     2.77,2, -999.000,9, -999.000,9, -999.000,9,-999.0000,9,  -999.00,9,   -999.0,9,  -999.00,9,   2350.9,2,   -999.0,9,  -999.0,-999.0000,-999.000,  -999.0,-999.000
   31WTTUNES_1,  P17C,    77,  1,     25,     25,2,19910627,1602,  4.4983,-134.9983, 4532,   2026.1,   2.1840,  34.6444,2,  34.6466,2,    100.9,2,  2.0425,    100.9,2,   144.69,2,    38.91,2,     0.00,2,     2.71,2, -999.000,9, -999.000,9, -999.000,9,-999.0000,9,  -999.00,9,   -999.0,9,  -999.00,9,   2352.0,2,   -999.0,9,  -999.0,-999.0000,-999.000,  -999.0,-999.000
   31WTTUNES_1,  P17C,    77,  1,     26,     26,2,19910627,1602,  4.4983,-134.9983, 4532,   2226.5,   2.0007,  34.6558,2,  34.6566,2,    108.3,2,  1.8448,    108.7,2,   148.40,2,    38.30,2,     0.00,2,     2.67,2, -999.000,9, -999.000,9, -999.000,9,-999.0000,9,  -999.00,9,   -999.0,9,  -999.00,9,   2354.3,2,   2428.5,2,  -999.0,-999.0000,-999.000,  -999.0,-999.000
   31WTTUNES_1,  P17C,    77,  1,     27,     27,2,19910627,1602,  4.4983,-134.9983, 4532,   2430.3,   1.8847,  34.6630,2,  34.6633,2,    114.4,2,  1.7128,    114.8,2,   151.05,2,    38.02,2,     0.00,2,     2.63,2, -999.000,9, -999.000,9, -999.000,9,-999.0000,9,  -999.00,9,   -999.0,9,  -999.00,9,   2353.2,2,   -999.0,9,  -999.0,-999.0000,-999.000,  -999.0,-999.000
   31WTTUNES_1,  P17C,    77,  1,     28,     28,2,19910627,1602,  4.4983,-134.9983, 4532,   2631.7,   1.8309,  34.6669,2,  34.6673,2,    117.6,2,  1.6417,    116.1,2,   151.75,2,    37.79,2,     0.00,2,     2.62,2, -999.000,9, -999.000,9, -999.000,9,-999.0000,9,  -999.00,9,   -999.0,9,  -999.00,9,   2354.3,2,   -999.0,9,  -999.0,-999.0000,-999.000,  -999.0,-999.000
   31WTTUNES_1,  P17C,    77,  1,     29,     29,2,19910627,1602,  4.4983,-134.9983, 4532,   2836.7,   1.7829,  34.6689,2,  34.6704,2,    120.3,2,  1.5756,    121.0,2,   151.74,2,    37.55,2,     0.00,2,     2.60,2, -999.000,9, -999.000,9, -999.000,9,-999.0000,9,  -999.00,9,   -999.0,9,  -999.00,9,   2353.2,2,   -999.0,9,  -999.0,-999.0000,-999.000,  -999.0,-999.000
   31WTTUNES_1,  P17C,    77,  1,     30,     30,2,19910627,1602,  4.4983,-134.9983, 4532,   3042.0,   1.6897,  34.6739,2,  34.6754,2,    126.3,2,  1.4647,    127.4,2,   152.61,2,    37.22,2,     0.00,2,     2.57,2, -999.000,9, -999.000,9, -999.000,9,-999.0000,9,  -999.00,9,   -999.0,9,  -999.00,9,   2348.6,2,   -999.0,9,  -999.0,-999.0000,-999.000,  -999.0,-999.000
   31WTTUNES_1,  P17C,    77,  1,     31,     31,2,19910627,1602,  4.4983,-134.9983, 4532,   3299.1,   1.5361,  34.6820,2,  34.6834,2,    139.5,2,  1.2893,    140.8,2,   151.71,2,    36.46,2,     0.00,2,     2.49,2, -999.000,9, -999.000,9,    0.000,2,-999.0000,9,  -999.00,9,   -999.0,9,  -999.00,9,   2340.2,2,   -999.0,9,  -999.0,-999.0000,-999.000,  -999.0,   0.001
   31WTTUNES_1,  P17C,    77,  1,     32,     32,2,19910627,1602,  4.4983,-134.9983, 4532,   3550.8,   1.4765,  34.6857,2,  34.6872,2,    148.5,2,  1.2058,    148.8,2,   149.40,2,    35.97,2,     0.00,2,     2.45,2, -999.000,9, -999.000,9,    0.000,2,-999.0000,9,  -999.00,9,   -999.0,9,  -999.00,9,   2333.0,2,   2433.3,2,  -999.0,-999.0000,-999.000,  -999.0,   0.001
   31WTTUNES_1,  P17C,    77,  1,     33,     33,2,19910627,1602,  4.4983,-134.9983, 4532,   3809.6,   1.4480,  34.6893,2,  34.6900,2,    154.2,2,  1.1510,    154.2,2,   147.08,2,    35.53,2,     0.00,2,     2.43,2, -999.000,9, -999.000,9,   -0.001,2,-999.0000,9,  -999.00,9,   -999.0,9,  -999.00,9,   2327.4,2,   -999.0,9,  -999.0,-999.0000,-999.000,  -999.0,   0.001
   31WTTUNES_1,  P17C,    77,  1,     34,     34,2,19910627,1602,  4.4983,-134.9983, 4532,   4063.8,   1.4203,  34.6909,2,  34.6918,2,    158.6,2,  1.0966,    158.8,2,   146.01,2,    35.25,2,     0.00,2,     2.41,2, -999.000,9, -999.000,9,   -0.002,2,-999.0000,9,  -999.00,9,   -999.0,9,  -999.00,9,   2323.3,2,   -999.0,9,  -999.0,-999.0000,-999.000,  -999.0,   0.001
   31WTTUNES_1,  P17C,    77,  1,     35,     35,2,19910627,1602,  4.4983,-134.9983, 4532,   4315.5,   1.4094,  34.6915,2,  34.6926,2,    161.8,2,  1.0581,    162.8,2,   143.69,2,    34.86,2,     0.00,2,     2.39,2,    0.004,2,    0.005,2,    0.000,2,-999.0000,9,  -999.00,9,   -999.0,9,  -999.00,9,   2317.9,2,   -999.0,9,  -999.0,-999.0000,-999.000,  -999.0,   0.001
   31WTTUNES_1,  P17C,    77,  1,     36,     36,2,19910627,1602,  4.4983,-134.9983, 4532,   4600.1,   1.4206,  34.6936,2,  34.6942,2,   -999.0,9,  1.0364,    165.5,2,   142.26,2,    34.79,2,     0.00,2,     2.37,2,    0.007,2,    0.010,3,   -0.001,2,-999.0000,9,  -999.00,9,   -999.0,9,  -999.00,9,   2314.9,2,   2430.6,2,  -999.0,-999.0000,-999.000,  -999.0,   0.001