BOTTLE,20220819CCHSIOAMB
EXPOCODE,SECT_ID,STNNBR,CASTNO,SAMPNO,BTLNBR,BTLNBR_FLAG_W,DATE,TIME,LATITUDE,LONGITUDE,DEPTH,CTDPRS,CTDTMP,CTDSAL,CTDSAL_FLAG_W,SALNTY,SALNTY_FLAG_W,CTDOXY,CTDOXY_FLAG_W,THETA,OXYGEN,OXYGEN_FLAG_W,SILCAT,SILCAT_FLAG_W,NITRAT,NITRAT_FLAG_W,NITRIT,NITRIT_FLAG_W,PHSPHT,PHSPHT_FLAG_W,CFC-11,CFC-11_FLAG_W,CFC-12,CFC-12_FLAG_W,TRITUM,TRITUM_FLAG_W,HELIUM,HELIUM_FLAG_W,DELHE3,DELHE3_FLAG_W,DELC14,DELC14_FLAG_W,DELC13,DELC13_FLAG_W,TCARBN,TCARBN_FLAG_W,ALKALI,ALKALI_FLAG_W,C14ERR,HELIER,DELHER,C13ERR,TRITER
,,,,,,,,,,,,DBAR,ITS-90,PSS-78,,PSS-78,,UMOL/KG,,DEG C,UMOL/KG,,UMOL/KG,,UMOL/KG,,UMOL/KG,,UMOL/KG,,PMOL/KG,,PMOL/KG,,TU,,NMOL/KG,,PERCNT,,/MILLE,,/MILLE,,UMOL/KG,,UMOL/KG,,/MILLE,NMOL/KG,PERCNT,/MILLE,TU
   31WTTUNES_1,  P17C,    67,  1,      1,      1,2,19910624,1656,  9.5167,-134.9933, 4794,      0.2,  28.4232,  33.8039,2,  33.8094,2,   -999.0,9, 28.4232,    208.1,2,     2.02,2,     0.04,2,     0.00,2,     0.18,2,    1.679,2,    0.953,2, -999.000,9,-999.0000,9,  -999.00,9,   -999.0,9,  -999.00,9,   -999.0,9,   -999.0,9,  -999.0,-999.0000,-999.000,  -999.0,-999.000
   31WTTUNES_1,  P17C,    67,  1,      2,      2,2,19910624,1656,  9.5167,-134.9933, 4794,     35.5,  27.4269,  33.9867,2,  34.0111,2,    199.7,2, 27.4187,    207.1,2,     2.02,2,     0.36,2,     0.02,2,     0.22,2,    1.689,2,    0.885,2,    1.344,2,   1.7460,2,    -0.90,2,   -999.0,9,  -999.00,9,   -999.0,9,   -999.0,9,  -999.0,  0.0080,   0.150,  -999.0,   0.012
   31WTTUNES_1,  P17C,    67,  1,      3,      3,2,19910624,1656,  9.5167,-134.9933, 4794,     50.9,  20.4667,  34.7411,2,  34.6951,2,    171.3,2, 20.4572,    173.6,2,     5.88,2,     4.93,2,     0.08,2,     0.56,2,    1.751,2,    0.944,2, -999.000,9,-999.0000,9,  -999.00,9,   -999.0,9,  -999.00,9,   -999.0,9,   -999.0,9,  -999.0,-999.0000,-999.000,  -999.0,-999.000
   31WTTUNES_1,  P17C,    67,  1,      4,      4,2,19910624,1656,  9.5167,-134.9933, 4794,     61.2,  16.3479,  34.5647,2,  34.6091,2,    102.5,2, 16.3381,    128.1,2,    11.03,2,    12.87,2,     0.37,2,     1.06,2,    1.576,2,    0.774,2,    1.953,2,   1.7950,2,     6.55,2,   -999.0,9,  -999.00,9,   -999.0,9,   -999.0,9,  -999.0,  0.0080,   0.150,  -999.0,   0.015
   31WTTUNES_1,  P17C,    67,  1,      5,      5,2,19910624,1656,  9.5167,-134.9933, 4794,     71.5,  14.7252,  34.5458,2,  34.5344,2,     86.3,2, 14.7146,     86.5,2,    16.55,2,    19.91,2,     0.63,2,     1.54,2,    1.207,2,    0.658,2, -999.000,9,-999.0000,9,  -999.00,9,   -999.0,9,  -999.00,9,   -999.0,9,   -999.0,9,  -999.0,-999.0000,-999.000,  -999.0,-999.000
   31WTTUNES_1,  P17C,    67,  1,      6,      6,2,19910624,1656,  9.5167,-134.9933, 4794,     82.4,  13.6264,  34.5664,2,  34.5368,2,     66.5,2, 13.6148,     47.6,2,    22.24,2,    26.56,2,     0.16,2,     1.96,2,    0.800,2,    0.420,2,    1.346,2,   1.8020,2,    10.00,2,   -999.0,9,  -999.00,9,   -999.0,9,   -999.0,9,  -999.0,  0.0080,   0.150,  -999.0,   0.012
   31WTTUNES_1,  P17C,    67,  1,      7,      7,2,19910624,1656,  9.5167,-134.9933, 4794,     92.8,  12.6876,  34.6107,2,  34.6008,2,     21.6,2, 12.6752,     24.0,2,    25.55,2,    30.11,2,     0.07,2,     2.21,2,    0.551,2,    0.299,2,    1.148,2,   1.8040,2,    10.17,2,   -999.0,9,  -999.00,9,   -999.0,9,   -999.0,9,  -999.0,  0.0080,   0.150,  -999.0,   0.011
   31WTTUNES_1,  P17C,    67,  1,      8,      8,2,19910624,1656,  9.5167,-134.9933, 4794,    123.6,  12.1108,  34.7209,2,  34.7191,2,      7.0,2, 12.0947,     10.4,2,    28.48,2,    33.11,2,     0.02,2,     2.36,2,    0.215,2,    0.137,2,    0.637,2,   1.8260,2,     8.49,2,   -999.0,9,  -999.00,9,   -999.0,9,   -999.0,9,  -999.0,  0.0090,   0.150,  -999.0,   0.009
   31WTTUNES_1,  P17C,    67,  1,      9,      9,2,19910624,1656,  9.5167,-134.9933, 4794,    153.4,  11.3890,  34.7225,2,  34.7251,2,      9.7,2, 11.3697,      9.9,2,    30.50,2,    33.61,2,     0.01,2,     2.37,2,    0.136,2,    0.086,2, -999.000,9,-999.0000,9,  -999.00,9,   -999.0,9,  -999.00,9,   -999.0,9,   -999.0,9,  -999.0,-999.0000,-999.000,  -999.0,-999.000
   31WTTUNES_1,  P17C,    67,  1,     10,     10,2,19910624,1656,  9.5167,-134.9933, 4794,    182.1,  10.9931,  34.7223,2,  34.7226,2,     11.3,2, 10.9708,     12.9,2,    31.60,2,    33.95,2,     0.01,2,     2.37,2,    0.099,2,    0.074,2,    0.329,2,   1.8410,2,     6.93,2,   -999.0,9,  -999.00,9,   -999.0,9,   -999.0,9,  -999.0,  0.0090,   0.150,  -999.0,   0.006
   31WTTUNES_1,  P17C,    67,  1,     11,     11,2,19910624,1656,  9.5167,-134.9933, 4794,    243.3,  10.2744,  34.6956,2,  34.6970,2,     28.4,2, 10.2457,     28.2,2,    33.06,2,    33.77,2,     0.01,2,     2.33,2,    0.098,2,    0.068,2, -999.000,9,-999.0000,9,  -999.00,9,   -999.0,9,  -999.00,9,   -999.0,9,   -999.0,9,  -999.0,-999.0000,-999.000,  -999.0,-999.000
   31WTTUNES_1,  P17C,    67,  1,     12,     12,2,19910624,1656,  9.5167,-134.9933, 4794,    306.0,   9.8645,  34.6836,2,  34.6848,2,     30.4,2,  9.8293,     30.8,2,    34.71,2,    34.37,2,     0.01,2,     2.36,2,    0.074,2,    0.054,2,    0.183,2,   1.8380,2,     6.23,2,   -999.0,9,  -999.00,9,   -999.0,9,   -999.0,9,  -999.0,  0.0090,   0.150,  -999.0,   0.005
   31WTTUNES_1,  P17C,    67,  1,     13,     13,2,19910624,1656,  9.5167,-134.9933, 4794,    401.2,   9.2368,  34.6670,2,  34.6640,2,     11.8,2,  9.1922,     14.9,2,    40.21,2,    36.51,2,     0.01,2,     2.60,2,    0.021,2,    0.015,2,    0.076,2,   1.8780,2,     5.85,2,   -999.0,9,  -999.00,9,   -999.0,9,   -999.0,9,  -999.0,  0.0090,   0.150,  -999.0,   0.003
   31WTTUNES_1,  P17C,    67,  1,     14,     14,2,19910624,1656,  9.5167,-134.9933, 4794,    505.8,   8.1772,  34.6013,2,  34.6011,2,      7.7,2,  8.1246,      8.2,2,    50.67,2,    37.55,2,     0.00,2,     2.82,2,    0.004,2,    0.004,2, -999.000,9,-999.0000,9,  -999.00,9,   -999.0,9,  -999.00,9,   -999.0,9,   -999.0,9,  -999.0,-999.0000,-999.000,  -999.0,-999.000
   31WTTUNES_1,  P17C,    67,  1,     15,     15,2,19910624,1656,  9.5167,-134.9933, 4794,    605.2,   7.0247,  34.5531,2,  34.5500,2,     10.6,2,  6.9667,     10.3,2,    62.42,2,    40.04,2,     0.00,2,     2.95,2, -999.000,9, -999.000,9, -999.000,9,-999.0000,9,  -999.00,9,   -999.0,9,  -999.00,9,   -999.0,9,   -999.0,9,  -999.0,-999.0000,-999.000,  -999.0,-999.000
   31WTTUNES_1,  P17C,    67,  1,     16,     16,2,19910624,1656,  9.5167,-134.9933, 4794,    708.5,   6.1462,  34.5417,2,  34.5420,2,     15.8,2,  6.0824,     11.4,2,    72.69,2,    42.39,2,     0.00,2,     3.05,2, -999.000,9, -999.000,9, -999.000,9,-999.0000,9,  -999.00,9,   -999.0,9,  -999.00,9,   -999.0,9,   -999.0,9,  -999.0,-999.0000,-999.000,  -999.0,-999.000
   31WTTUNES_1,  P17C,    67,  1,     17,     17,2,19910624,1656,  9.5167,-134.9933, 4794,    806.3,   5.5195,  34.5412,2,  34.5441,2,     26.7,2,  5.4502,     26.0,2,    79.28,2,    43.02,2,     0.01,2,     3.03,2, -999.000,9, -999.000,9, -999.000,9,-999.0000,9,  -999.00,9,   -999.0,9,  -999.00,9,   -999.0,9,   -999.0,9,  -999.0,-999.0000,-999.000,  -999.0,-999.000
   31WTTUNES_1,  P17C,    67,  1,     18,     18,2,19910624,1656,  9.5167,-134.9933, 4794,    908.6,   4.9908,  34.5480,2,  34.5500,2,     37.1,2,  4.9157,     36.6,2,    87.33,2,    42.95,2,     0.01,2,     3.02,2,    0.000,2,    0.003,2, -999.000,9,-999.0000,9,  -999.00,9,   -999.0,9,  -999.00,9,   -999.0,9,   -999.0,9,  -999.0,-999.0000,-999.000,  -999.0,-999.000
   31WTTUNES_1,  P17C,    67,  1,     19,     19,2,19910624,1656,  9.5167,-134.9933, 4794,   1109.3,   4.3112,  34.5655,2,  34.5673,2,     43.0,2,  4.2236,     41.5,2,   101.26,2,    43.30,2,     0.01,2,     3.06,2,    0.001,2,    0.003,2, -999.000,9,-999.0000,9,  -999.00,9,   -999.0,9,  -999.00,9,   -999.0,9,   -999.0,9,  -999.0,-999.0000,-999.000,  -999.0,-999.000
   31WTTUNES_1,  P17C,    67,  1,     20,     20,2,19910624,1656,  9.5167,-134.9933, 4794,   1314.2,   3.7195,  34.5818,2,  34.5824,2,     56.9,2,  3.6197,     55.3,2,   113.58,2,    42.27,2,     0.01,2,     2.98,2,    0.000,2,    0.004,2, -999.000,9,-999.0000,9,  -999.00,9,   -999.0,9,  -999.00,9,   -999.0,9,   -999.0,9,  -999.0,-999.0000,-999.000,  -999.0,-999.000
   31WTTUNES_1,  P17C,    67,  1,     21,     21,2,19910624,1656,  9.5167,-134.9933, 4794,   1512.8,   3.2299,  34.5961,2,  34.5977,2,     70.6,2,  3.1182,     70.2,2,   123.25,2,    41.31,2,     0.01,2,     2.90,2, -999.000,9, -999.000,9, -999.000,9,-999.0000,9,  -999.00,9,   -999.0,9,  -999.00,9,   -999.0,9,   -999.0,9,  -999.0,-999.0000,-999.000,  -999.0,-999.000
   31WTTUNES_1,  P17C,    67,  1,     22,     22,3,19910624,1656,  9.5167,-134.9933, 4794,   1717.5,   2.7542,  34.6109,2,  34.6014,4,     82.1,2,  2.6309,     82.4,2,   133.13,2,    40.30,2,     0.01,2,     2.81,2, -999.000,9, -999.000,9, -999.000,9,-999.0000,9,  -999.00,9,   -999.0,9,  -999.00,9,   -999.0,9,   -999.0,9,  -999.0,-999.0000,-999.000,  -999.0,-999.000
   31WTTUNES_1,  P17C,    67,  1,     23,     23,2,19910624,1656,  9.5167,-134.9933, 4794,   1918.8,   2.3884,  34.6279,2,  34.6277,2,     90.7,2,  2.2531,     90.1,2,   141.54,2,    39.95,2,     0.00,2,     2.77,2, -999.000,9, -999.000,9, -999.000,9,-999.0000,9,  -999.00,9,   -999.0,9,  -999.00,9,   -999.0,9,   -999.0,9,  -999.0,-999.0000,-999.000,  -999.0,-999.000
   31WTTUNES_1,  P17C,    67,  1,     24,     24,2,19910624,1656,  9.5167,-134.9933, 4794,   2125.5,   2.1376,  34.6424,2,  34.6434,2,     97.4,2,  1.9882,     96.2,2,   148.48,2,    39.81,2,     0.01,2,     2.74,2, -999.000,9, -999.000,9, -999.000,9,-999.0000,9,  -999.00,9,   -999.0,9,  -999.00,9,   -999.0,9,   -999.0,9,  -999.0,-999.0000,-999.000,  -999.0,-999.000
   31WTTUNES_1,  P17C,    67,  1,     25,     25,2,19910624,1656,  9.5167,-134.9933, 4794,   2325.9,   1.9737,  34.6552,2,  34.6546,2,    104.7,2,  1.8095,    104.1,2,   151.57,2,    39.13,2,     0.01,2,     2.68,2, -999.000,9, -999.000,9, -999.000,9,-999.0000,9,  -999.00,9,   -999.0,9,  -999.00,9,   -999.0,9,   -999.0,9,  -999.0,-999.0000,-999.000,  -999.0,-999.000
   31WTTUNES_1,  P17C,    67,  1,     26,     26,2,19910624,1656,  9.5167,-134.9933, 4794,   2533.0,   1.8767,  34.6621,2,  34.6619,2,    111.0,2,  1.6957,    111.0,2,   152.83,2,    38.57,2,     0.01,2,     2.64,2, -999.000,9, -999.000,9, -999.000,9,-999.0000,9,  -999.00,9,   -999.0,9,  -999.00,9,   -999.0,9,   -999.0,9,  -999.0,-999.0000,-999.000,  -999.0,-999.000
   31WTTUNES_1,  P17C,    67,  1,     27,     27,2,19910624,1656,  9.5167,-134.9933, 4794,   2713.0,   1.8168,  34.6670,2,  34.6666,2,    114.5,2,  1.6204,    114.6,2,   154.45,2,    38.27,2,     0.01,2,     2.61,2, -999.000,9, -999.000,9, -999.000,9,-999.0000,9,  -999.00,9,   -999.0,9,  -999.00,9,   -999.0,9,   -999.0,9,  -999.0,-999.0000,-999.000,  -999.0,-999.000
   31WTTUNES_1,  P17C,    67,  1,     28,     28,2,19910624,1656,  9.5167,-134.9933, 4794,   2904.9,   1.7588,  34.6691,2,  34.6697,2,    117.3,2,  1.5455,    118.9,2,   155.71,2,    37.87,2,     0.01,2,     2.61,3, -999.000,9, -999.000,9, -999.000,9,-999.0000,9,  -999.00,9,   -999.0,9,  -999.00,9,   -999.0,9,   -999.0,9,  -999.0,-999.0000,-999.000,  -999.0,-999.000
   31WTTUNES_1,  P17C,    67,  1,     29,     29,2,19910624,1656,  9.5167,-134.9933, 4794,   3087.0,   1.6809,  34.6736,2,  34.6705,2,    124.6,2,  1.4517,   -999.0,9,   155.69,2,    37.41,2,     0.01,2,     2.56,2, -999.000,9, -999.000,9, -999.000,9,-999.0000,9,  -999.00,9,   -999.0,9,  -999.00,9,   -999.0,9,   -999.0,9,  -999.0,-999.0000,-999.000,  -999.0,-999.000
   31WTTUNES_1,  P17C,    67,  1,     30,     30,2,19910624,1656,  9.5167,-134.9933, 4794,   3344.8,   1.5849,  34.6779,2,  34.6762,2,    131.7,2,  1.3324,   -999.0,9,   156.03,2,    36.80,2,     0.01,2,     2.52,2, -999.000,9, -999.000,9, -999.000,9,-999.0000,9,  -999.00,9,   -999.0,9,  -999.00,9,   -999.0,9,   -999.0,9,  -999.0,-999.0000,-999.000,  -999.0,-999.000
   31WTTUNES_1,  P17C,    67,  1,     31,     31,2,19910624,1656,  9.5167,-134.9933, 4794,   3598.7,   1.5170,  34.6821,2,  34.6819,2,    140.9,2,  1.2403,    141.6,2,   155.09,2,    36.62,2,     0.01,2,     2.48,2, -999.000,9, -999.000,9, -999.000,9,-999.0000,9,  -999.00,9,   -999.0,9,  -999.00,9,   -999.0,9,   -999.0,9,  -999.0,-999.0000,-999.000,  -999.0,-999.000
   31WTTUNES_1,  P17C,    67,  1,     32,     32,2,19910624,1656,  9.5167,-134.9933, 4794,   3857.8,   1.4330,  34.6872,2,  34.6880,2,    153.4,2,  1.1313,    153.3,2,   149.57,2,    35.85,2,     0.00,2,     2.42,2, -999.000,9, -999.000,9, -999.000,9,-999.0000,9,  -999.00,9,   -999.0,9,  -999.00,9,   -999.0,9,   -999.0,9,  -999.0,-999.0000,-999.000,  -999.0,-999.000
   31WTTUNES_1,  P17C,    67,  1,     33,     33,2,19910624,1656,  9.5167,-134.9933, 4794,   4112.9,   1.4001,  34.6900,2,  34.6911,2,    160.0,2,  1.0716,    160.5,2,   144.97,2,    35.40,2,     0.01,2,     2.38,2, -999.000,9, -999.000,9, -999.000,9,-999.0000,9,  -999.00,9,   -999.0,9,  -999.00,9,   -999.0,9,   -999.0,9,  -999.0,-999.0000,-999.000,  -999.0,-999.000
   31WTTUNES_1,  P17C,    67,  1,     34,     34,2,19910624,1656,  9.5167,-134.9933, 4794,   4371.7,   1.4061,  34.6914,2,  34.6919,2,    163.0,2,  1.0486,    164.4,2,   143.30,2,    35.22,2,     0.01,2,     2.37,2, -999.000,9, -999.000,9, -999.000,9,-999.0000,9,  -999.00,9,   -999.0,9,  -999.00,9,   -999.0,9,   -999.0,9,  -999.0,-999.0000,-999.000,  -999.0,-999.000
   31WTTUNES_1,  P17C,    67,  1,     35,     35,2,19910624,1656,  9.5167,-134.9933, 4794,   4628.6,   1.4251,  34.6931,2,  34.6928,2,    165.2,2,  1.0375,    165.6,2,   142.00,2,    35.08,2,     0.01,2,     2.35,2,   -0.001,2,    0.000,2, -999.000,9,-999.0000,9,  -999.00,9,   -999.0,9,  -999.00,9,   -999.0,9,   -999.0,9,  -999.0,-999.0000,-999.000,  -999.0,-999.000
   31WTTUNES_1,  P17C,    67,  1,     36,     36,2,19910624,1656,  9.5167,-134.9933, 4794,   4867.4,   1.4470,  34.6936,2,  34.6932,2,   -999.0,9,  1.0305,    166.8,2,   141.24,2,    35.00,2,     0.01,2,     2.35,2,    0.002,2,    0.000,2, -999.000,9,-999.0000,9,  -999.00,9,   -999.0,9,  -999.00,9,   -999.0,9,   -999.0,9,  -999.0,-999.0000,-999.000,  -999.0,-999.000