BOTTLE,20220819CCHSIOAMB
EXPOCODE,SECT_ID,STNNBR,CASTNO,SAMPNO,BTLNBR,BTLNBR_FLAG_W,DATE,TIME,LATITUDE,LONGITUDE,DEPTH,CTDPRS,CTDTMP,CTDSAL,CTDSAL_FLAG_W,SALNTY,SALNTY_FLAG_W,CTDOXY,CTDOXY_FLAG_W,THETA,OXYGEN,OXYGEN_FLAG_W,SILCAT,SILCAT_FLAG_W,NITRAT,NITRAT_FLAG_W,NITRIT,NITRIT_FLAG_W,PHSPHT,PHSPHT_FLAG_W,CFC-11,CFC-11_FLAG_W,CFC-12,CFC-12_FLAG_W,TRITUM,TRITUM_FLAG_W,HELIUM,HELIUM_FLAG_W,DELHE3,DELHE3_FLAG_W,DELC14,DELC14_FLAG_W,DELC13,DELC13_FLAG_W,TCARBN,TCARBN_FLAG_W,ALKALI,ALKALI_FLAG_W,C14ERR,HELIER,DELHER,C13ERR,TRITER
,,,,,,,,,,,,DBAR,ITS-90,PSS-78,,PSS-78,,UMOL/KG,,DEG C,UMOL/KG,,UMOL/KG,,UMOL/KG,,UMOL/KG,,UMOL/KG,,PMOL/KG,,PMOL/KG,,TU,,NMOL/KG,,PERCNT,,/MILLE,,/MILLE,,UMOL/KG,,UMOL/KG,,/MILLE,NMOL/KG,PERCNT,/MILLE,TU
   31WTTUNES_1,  P17C,    57,  2,      1,      1,2,19910621,0958, 14.4617,-134.9783, 5001,      0.2,  25.9225,  34.4985,2,  34.5011,2,    213.4,3, 25.9225,    215.6,2,     2.96,2,     0.13,2,     0.01,2,     0.18,2,    1.808,2,    1.021,2, -999.000,9,-999.0000,9,  -999.00,9,    101.3,2,     1.46,2,   -999.0,9,   -999.0,9,     3.9,-999.0000,-999.000,  -999.0,-999.000
   31WTTUNES_1,  P17C,    57,  2,      2,      2,2,19910621,0958, 14.4617,-134.9783, 5001,     42.5,  24.3632,  34.4596,2,  34.4560,2,    217.4,3, 24.3542,    218.2,2,     2.94,2,     0.13,2,     0.01,2,     0.17,2,    1.889,2,    1.091,2,    1.700,2,   1.7580,2,    -1.06,2,     94.0,2,     1.41,2,   -999.0,9,   -999.0,9,     4.9,  0.0080,   0.150,  -999.0,   0.014
   31WTTUNES_1,  P17C,    57,  2,      3,      3,2,19910621,0958, 14.4617,-134.9783, 5001,     62.2,  24.0871,  34.4648,2,  34.4789,2,    219.5,2, 24.0740,    218.7,2,     2.91,2,     0.12,2,     0.01,2,     0.18,2,    1.961,2,    1.074,2, -999.000,9,-999.0000,9,  -999.00,9,     92.8,2,     1.50,2,   -999.0,9,   -999.0,9,     3.8,-999.0000,-999.000,  -999.0,-999.000
   31WTTUNES_1,  P17C,    57,  2,      4,      4,2,19910621,0958, 14.4617,-134.9783, 5001,    102.3,  19.4697,  34.4988,2,  34.4352,2,    198.7,2, 19.4512,    194.0,2,     4.75,2,     2.38,2,     0.26,2,     0.50,2,    2.057,2,    1.213,2,    2.390,2,   1.8080,2,     1.08,2,     87.6,2,     1.19,2,   -999.0,9,   -999.0,9,     5.0,  0.0090,   0.150,  -999.0,   0.017
   31WTTUNES_1,  P17C,    57,  2,      5,      5,2,19910621,0958, 14.4617,-134.9783, 5001,    122.0,  15.1451,  34.3249,2,  34.3698,2,     79.2,2, 15.1266,     75.2,2,    16.31,2,    20.81,2,     0.45,2,     1.70,2,    1.440,2,    0.788,2, -999.000,9,-999.0000,9,  -999.00,9,     51.4,2,     0.01,2,   -999.0,9,   -999.0,9,     3.7,-999.0000,-999.000,  -999.0,-999.000
   31WTTUNES_1,  P17C,    57,  2,      6,      6,2,19910621,0958, 14.4617,-134.9783, 5001,    142.3,  12.7796,  34.3243,2,  34.3330,2,     82.9,2, 12.7604,     76.8,2,    21.51,2,    22.90,2,     0.02,2,     1.85,2,    1.224,2,    0.652,2, -999.000,5,   1.8060,2,     9.30,2,     22.6,2,    -0.14,2,   -999.0,9,   -999.0,9,     5.0,  0.0080,   0.150,  -999.0,-999.000
   31WTTUNES_1,  P17C,    57,  2,      7,      7,2,19910621,0958, 14.4617,-134.9783, 5001,    161.4,  11.4240,  34.3253,2,  34.3222,2,     73.4,2, 11.4038,     79.9,2,    25.60,2,    24.26,2,     0.01,2,     1.96,2,    1.086,2,    0.586,2, -999.000,9,-999.0000,9,  -999.00,9,      6.5,2,    -0.01,3,   -999.0,9,   -999.0,9,     3.2,-999.0000,-999.000,  -999.0,-999.000
   31WTTUNES_1,  P17C,    57,  2,      8,      8,2,19910621,0958, 14.4617,-134.9783, 5001,    182.3,  11.1981,  34.4207,2,  34.3931,2,     70.5,2, 11.1755,     62.3,2,    29.49,2,    26.03,2,     0.01,2,     2.16,2,    0.786,2,    0.397,2,    1.374,2,   1.8500,2,    11.51,2,    -13.8,2,    -0.15,2,   -999.0,9,   -999.0,9,     3.2,  0.0090,   0.150,  -999.0,   0.012
   31WTTUNES_1,  P17C,    57,  2,      9,      9,2,19910621,0958, 14.4617,-134.9783, 5001,    221.6,  10.7392,  34.5400,2,  34.5399,2,     24.1,2, 10.7124,     23.4,2,    34.69,2,    29.31,2,     0.01,2,     2.48,2,    0.269,2,    0.157,2,    0.779,2,   1.9530,2,     9.78,2,    -50.8,2,    -0.25,2,   -999.0,9,   -999.0,9,     3.6,  0.0090,   0.150,  -999.0,   0.009
   31WTTUNES_1,  P17C,    57,  2,     10,     10,2,19910621,0958, 14.4617,-134.9783, 5001,    301.6,   9.5157,  34.5351,2,  34.5331,2,     11.9,2,  9.4817,     11.6,2,    42.32,2,    31.64,2,     0.01,2,     2.66,2,    0.059,2,    0.042,2,    0.314,2,   1.8440,2,     7.64,2,    -86.1,2,    -0.32,2,   -999.0,9,   -999.0,9,     4.0,  0.0090,   0.150,  -999.0,   0.006
   31WTTUNES_1,  P17C,    57,  2,     11,     11,2,19910621,0958, 14.4617,-134.9783, 5001,    401.8,   8.1282,  34.5100,2,  34.5093,2,      7.8,2,  8.0869,      7.4,2,    53.32,2,    35.53,2,     0.00,2,     2.84,2,    0.009,2,    0.015,2,    0.058,2,   1.8380,2,     6.81,2,   -109.1,2,    -0.27,2,   -999.0,9,   -999.0,9,     3.5,  0.0090,   0.150,  -999.0,   0.003
   31WTTUNES_1,  P17C,    57,  2,     12,     12,2,19910621,0958, 14.4617,-134.9783, 5001,    503.6,   7.0357,  34.4776,2,  34.4789,2,      8.7,2,  6.9878,      9.9,2,    64.69,2,    38.54,2,     0.00,2,     2.97,2,    0.005,2,    0.006,2, -999.000,9,-999.0000,9,  -999.00,9,   -130.4,2,    -0.36,2,   -999.0,9,   -999.0,9,     3.9,-999.0000,-999.000,  -999.0,-999.000
   31WTTUNES_1,  P17C,    57,  2,     13,     13,2,19910621,0958, 14.4617,-134.9783, 5001,    605.7,   6.2391,  34.4851,2,  34.4875,2,      9.8,2,  6.1847,      9.6,2,    75.50,2,    40.63,2,     0.00,2,     3.09,2,    0.002,2,    0.003,2,    0.005,2,   1.8720,2,    11.22,2,   -154.1,2,    -0.41,2,   -999.0,9,   -999.0,9,     8.7,  0.0090,   0.150,  -999.0,   0.002
   31WTTUNES_1,  P17C,    57,  2,     14,     14,2,19910621,0958, 14.4617,-134.9783, 5001,    706.2,   5.5545,  34.4975,2,  34.4978,2,     13.0,2,  5.4942,     13.3,2,    85.00,2,    42.33,2,     0.00,2,     3.13,2,   -0.002,2,    0.003,2, -999.000,9,-999.0000,9,  -999.00,9,   -172.8,2,    -0.29,2,   -999.0,9,   -999.0,9,     4.0,-999.0000,-999.000,  -999.0,-999.000
   31WTTUNES_1,  P17C,    57,  2,     15,     15,2,19910621,0958, 14.4617,-134.9783, 5001,    805.4,   5.0528,  34.5176,2,  34.5160,2,     18.4,2,  4.9865,     18.6,2,    92.07,2,    43.39,2,     0.00,2,     3.15,2,   -0.002,2,   -0.002,2, -999.000,9,-999.0000,9,  -999.00,9,   -185.4,2,    -0.30,2,   -999.0,9,   -999.0,9,     2.5,-999.0000,-999.000,  -999.0,-999.000
   31WTTUNES_1,  P17C,    57,  2,     16,     16,2,19910621,0958, 14.4617,-134.9783, 5001,    913.8,   4.5860,  34.5324,2,  34.5324,2,     25.1,2,  4.5133,     25.8,2,   100.26,2,    43.66,2,     0.00,2,     3.15,2,    0.002,2,    0.005,2, -999.000,9,-999.0000,9,  -999.00,9,   -197.7,2,    -0.35,2,   -999.0,9,   -999.0,9,     2.7,-999.0000,-999.000,  -999.0,-999.000
   31WTTUNES_1,  P17C,    57,  2,     17,     17,2,19910621,0958, 14.4617,-134.9783, 5001,   1011.4,   4.1703,  34.5484,2,  34.5477,2,     31.8,2,  4.0923,     34.4,2,   107.52,2,    43.39,2,     0.00,2,     3.13,2, -999.000,9, -999.000,9, -999.000,9,   1.8700,2,    21.40,2,   -999.0,9,  -999.00,9,   -999.0,9,   -999.0,9,  -999.0,-999.0000,-999.000,  -999.0,-999.000
   31WTTUNES_1,  P17C,    57,  2,     18,     18,2,19910621,0958, 14.4617,-134.9783, 5001,   1211.6,   3.6416,  34.5683,2,  34.5674,2,     46.6,2,  3.5512,     47.5,2,   118.14,2,    42.74,2,     0.00,2,     3.07,2, -999.000,9, -999.000,9, -999.000,9,   1.8790,2,    22.41,2,   -999.0,9,  -999.00,9,   -999.0,9,   -999.0,9,  -999.0,-999.0000,-999.000,  -999.0,-999.000
   31WTTUNES_1,  P17C,    57,  2,     19,     19,2,19910621,0958, 14.4617,-134.9783, 5001,   1413.0,   3.2029,  34.5898,2,  34.5894,2,     62.7,2,  3.1000,     62.1,2,   126.14,2,    41.78,2,     0.00,2,     2.98,2, -999.000,9, -999.000,9, -999.000,9,   1.8950,2,    22.53,2,   -999.0,9,  -999.00,9,   -999.0,9,   -999.0,9,  -999.0,-999.0000,-999.000,  -999.0,-999.000
   31WTTUNES_1,  P17C,    57,  2,     20,     20,2,19910621,0958, 14.4617,-134.9783, 5001,   1618.9,   2.7602,  34.6044,2,  34.6012,2,     72.8,2,  2.6452,     73.1,2,   136.76,2,    41.09,2,     0.00,2,     2.91,2, -999.000,9, -999.000,9, -999.000,9,   1.8990,2,    23.66,2,   -999.0,9,  -999.00,9,   -999.0,9,   -999.0,9,  -999.0,-999.0000,-999.000,  -999.0,-999.000
   31WTTUNES_1,  P17C,    57,  2,     21,     21,2,19910621,0958, 14.4617,-134.9783, 5001,   1818.9,   2.4374,  34.6196,2,  34.6200,2,     80.8,2,  2.3098,     81.3,2,   144.02,2,    40.56,2,     0.00,2,     2.86,2, -999.000,9, -999.000,9, -999.000,9,   1.9060,2,    25.12,2,   -999.0,9,  -999.00,9,   -999.0,9,   -999.0,9,  -999.0,-999.0000,-999.000,  -999.0,-999.000
   31WTTUNES_1,  P17C,    57,  2,     22,     22,3,19910621,0958, 14.4617,-134.9783, 5001,   2019.9,   2.1745,  34.6331,2,  34.6209,4,     90.6,2,  2.0338,     91.6,2,   149.03,2,    39.66,2,     0.00,2,     2.79,2, -999.000,9, -999.000,9, -999.000,9,   1.9180,2,    25.72,2,   -999.0,9,  -999.00,9,   -999.0,9,   -999.0,9,  -999.0,-999.0000,-999.000,  -999.0,-999.000
   31WTTUNES_1,  P17C,    57,  2,     23,     23,2,19910621,0958, 14.4617,-134.9783, 5001,   2194.1,   1.9987,  34.6450,2,  34.6433,2,    100.8,2,  1.8456,     99.9,2,   152.55,2,    39.14,2,     0.00,2,     2.73,2, -999.000,9, -999.000,9, -999.000,9,   1.9150,2,    26.28,2,   -999.0,9,  -999.00,9,   -999.0,9,   -999.0,9,  -999.0,-999.0000,-999.000,  -999.0,-999.000
   31WTTUNES_1,  P17C,    57,  2,     24,     24,2,19910621,0958, 14.4617,-134.9783, 5001,   2369.5,   1.8877,  34.6541,2,  34.6531,2,    106.5,2,  1.7212,    106.6,2,   154.21,2,    38.82,2,     0.00,2,     2.70,2, -999.000,9, -999.000,9, -999.000,9,   1.9200,2,    26.43,2,   -999.0,9,  -999.00,9,   -999.0,9,   -999.0,9,  -999.0,-999.0000,-999.000,  -999.0,-999.000
   31WTTUNES_1,  P17C,    57,  2,     25,     25,2,19910621,0958, 14.4617,-134.9783, 5001,   2528.1,   1.8068,  34.6586,2,  34.6590,2,    111.7,2,  1.6276,    111.9,2,   155.67,2,    38.51,2,     0.00,2,     2.67,2, -999.000,9, -999.000,9, -999.000,9,   1.9240,2,    26.22,2,   -999.0,9,  -999.00,9,   -999.0,9,   -999.0,9,  -999.0,-999.0000,-999.000,  -999.0,-999.000
   31WTTUNES_1,  P17C,    57,  2,     26,     26,2,19910621,0958, 14.4617,-134.9783, 5001,   2685.9,   1.7528,  34.6638,2,  34.6651,2,    116.5,2,  1.5602,    114.9,2,   156.77,2,    38.25,2,     0.00,2,     2.65,2, -999.000,9, -999.000,9, -999.000,9,   1.9280,2,    27.07,2,   -999.0,9,  -999.00,9,   -999.0,9,   -999.0,9,  -999.0,-999.0000,-999.000,  -999.0,-999.000
   31WTTUNES_1,  P17C,    57,  2,     27,     27,2,19910621,0958, 14.4617,-134.9783, 5001,   2839.3,   1.7129,  34.6680,2,  34.6700,2,    118.6,2,  1.5067,    117.6,2,   157.67,2,    38.09,2,     0.00,2,     2.64,2, -999.000,9, -999.000,9, -999.000,9,   1.9180,2,    27.10,2,   -999.0,9,  -999.00,9,   -999.0,9,   -999.0,9,  -999.0,-999.0000,-999.000,  -999.0,-999.000
   31WTTUNES_1,  P17C,    57,  2,     28,     28,2,19910621,0958, 14.4617,-134.9783, 5001,   2991.0,   1.6619,  34.6695,2,  34.6724,2,    122.0,2,  1.4424,    121.8,2,   158.77,2,    37.93,2,     0.00,2,     2.61,2, -999.000,9, -999.000,9, -999.000,9,   1.9180,2,    24.93,2,   -999.0,9,  -999.00,9,   -999.0,9,   -999.0,9,  -999.0,-999.0000,-999.000,  -999.0,-999.000
   31WTTUNES_1,  P17C,    57,  2,     29,     29,2,19910621,0958, 14.4617,-134.9783, 5001,   3199.5,   1.5889,  34.6707,2,  34.6736,2,    128.8,2,  1.3508,    127.1,2,   160.61,2,    37.46,2,     0.00,2,     2.58,2, -999.000,9, -999.000,9, -999.000,9,   1.9150,2,    21.68,2,   -999.0,9,  -999.00,9,   -999.0,9,   -999.0,9,  -999.0,-999.0000,-999.000,  -999.0,-999.000
   31WTTUNES_1,  P17C,    57,  2,     30,     30,2,19910621,0958, 14.4617,-134.9783, 5001,   3462.4,   1.5360,  34.6758,2,  34.6772,2,    135.1,2,  1.2728,    133.5,2,   159.83,2,    36.94,2,     0.00,2,     2.55,2, -999.000,9, -999.000,9, -999.000,9,   1.9030,2,    19.09,2,   -999.0,9,  -999.00,9,   -999.0,9,   -999.0,9,  -999.0,-999.0000,-999.000,  -999.0,-999.000
   31WTTUNES_1,  P17C,    57,  2,     31,     31,2,19910621,0958, 14.4617,-134.9783, 5001,   3760.6,   1.4630,  34.6831,2,  34.6839,2,    145.9,2,  1.1708,    146.3,2,   154.95,2,    36.01,2,     0.00,2,     2.48,2, -999.000,9, -999.000,9, -999.000,9,   1.8960,2,    16.54,2,   -999.0,9,  -999.00,9,   -999.0,9,   -999.0,9,  -999.0,-999.0000,-999.000,  -999.0,-999.000
   31WTTUNES_1,  P17C,    57,  2,     32,     32,2,19910621,0958, 14.4617,-134.9783, 5001,   3962.9,   1.4271,  34.6849,2,  34.6870,2,    154.1,2,  1.1142,    153.8,2,   150.07,2,    35.54,2,     0.00,2,     2.43,2, -999.000,9, -999.000,9, -999.000,9,   1.8940,2,    15.24,2,   -999.0,9,  -999.00,9,   -999.0,9,   -999.0,9,  -999.0,-999.0000,-999.000,  -999.0,-999.000
   31WTTUNES_1,  P17C,    57,  2,     33,     33,2,19910621,0958, 14.4617,-134.9783, 5001,   4216.8,   1.4091,  34.6880,2,  34.6900,2,    162.3,2,  1.0689,    160.7,2,   145.93,2,    35.02,2,     0.00,2,     2.40,2, -999.000,9, -999.000,9, -999.000,9,   1.8940,2,    15.29,2,   -999.0,9,  -999.00,9,   -999.0,9,   -999.0,9,  -999.0,-999.0000,-999.000,  -999.0,-999.000
   31WTTUNES_1,  P17C,    57,  2,     34,     34,2,19910621,0958, 14.4617,-134.9783, 5001,   4472.9,   1.4221,  34.6913,2,  34.6914,2,    163.7,2,  1.0526,    163.1,2,   144.22,2,    34.92,2,     0.00,2,     2.38,2,   -0.001,2,    0.000,2, -999.000,9,   1.8920,2,    15.25,2,   -999.0,9,  -999.00,9,   -999.0,9,   -999.0,9,  -999.0,-999.0000,-999.000,  -999.0,-999.000
   31WTTUNES_1,  P17C,    57,  2,     35,     35,2,19910621,0958, 14.4617,-134.9783, 5001,   4727.4,   1.4480,  34.6911,2,  34.6918,2,    164.5,2,  1.0482,    164.1,2,   144.01,2,    34.92,2,     0.00,2,     2.38,2,   -0.003,2,    0.000,2, -999.000,9,   1.8910,2,    14.69,2,   -999.0,9,  -999.00,9,   -999.0,9,   -999.0,9,  -999.0,-999.0000,-999.000,  -999.0,-999.000
   31WTTUNES_1,  P17C,    57,  2,     36,     36,2,19910621,0958, 14.4617,-134.9783, 5001,   5040.4,   1.4830,  34.6901,2,  34.6906,2,   -999.0,9,  1.0444,    164.9,2,   143.05,2,    34.86,2,     0.00,2,     2.38,2,    0.000,2,    0.000,2, -999.000,9,   1.8960,2,    15.20,2,   -999.0,9,  -999.00,9,   -999.0,9,   -999.0,9,  -999.0,-999.0000,-999.000,  -999.0,-999.000