BOTTLE,20220819CCHSIOAMB
EXPOCODE,SECT_ID,STNNBR,CASTNO,SAMPNO,BTLNBR,BTLNBR_FLAG_W,DATE,TIME,LATITUDE,LONGITUDE,DEPTH,CTDPRS,CTDTMP,CTDSAL,CTDSAL_FLAG_W,SALNTY,SALNTY_FLAG_W,CTDOXY,CTDOXY_FLAG_W,THETA,OXYGEN,OXYGEN_FLAG_W,SILCAT,SILCAT_FLAG_W,NITRAT,NITRAT_FLAG_W,NITRIT,NITRIT_FLAG_W,PHSPHT,PHSPHT_FLAG_W,CFC-11,CFC-11_FLAG_W,CFC-12,CFC-12_FLAG_W,TRITUM,TRITUM_FLAG_W,HELIUM,HELIUM_FLAG_W,DELHE3,DELHE3_FLAG_W,DELC14,DELC14_FLAG_W,DELC13,DELC13_FLAG_W,TCARBN,TCARBN_FLAG_W,ALKALI,ALKALI_FLAG_W,C14ERR,HELIER,DELHER,C13ERR,TRITER
,,,,,,,,,,,,DBAR,ITS-90,PSS-78,,PSS-78,,UMOL/KG,,DEG C,UMOL/KG,,UMOL/KG,,UMOL/KG,,UMOL/KG,,UMOL/KG,,PMOL/KG,,PMOL/KG,,TU,,NMOL/KG,,PERCNT,,/MILLE,,/MILLE,,UMOL/KG,,UMOL/KG,,/MILLE,NMOL/KG,PERCNT,/MILLE,TU
   31WTTUNES_1,  P17C,    36,  1,      1,      1,2,19910614,2335, 25.0017,-135.0000, 4578,      0.7,  20.4067,  35.1029,2,  35.1051,2,   -999.0,9, 20.4066,    228.7,2,     3.84,2,     0.04,2,     0.00,2,     0.13,2, -999.000,9, -999.000,9, -999.000,9,-999.0000,9,  -999.00,9,   -999.0,9,  -999.00,9,   -999.0,9,   -999.0,9,  -999.0,-999.0000,-999.000,  -999.0,-999.000
   31WTTUNES_1,  P17C,    36,  1,      2,      2,2,19910614,2335, 25.0017,-135.0000, 4578,     54.5,  20.3742,  35.1019,2,  35.1051,2,    228.2,2, 20.3640,    227.8,2,     4.02,2,     0.04,2,     0.00,2,     0.13,2, -999.000,9, -999.000,9, -999.000,9,-999.0000,9,  -999.00,9,   -999.0,9,  -999.00,9,   -999.0,9,   -999.0,9,  -999.0,-999.0000,-999.000,  -999.0,-999.000
   31WTTUNES_1,  P17C,    36,  1,      3,      3,2,19910614,2335, 25.0017,-135.0000, 4578,    110.9,  20.1742,  35.0938,2,  35.0866,2,    223.5,2, 20.1536,    226.1,2,     4.00,2,     0.03,2,     0.01,2,     0.14,2, -999.000,9, -999.000,9, -999.000,9,-999.0000,9,  -999.00,9,   -999.0,9,  -999.00,9,   -999.0,9,   -999.0,9,  -999.0,-999.0000,-999.000,  -999.0,-999.000
   31WTTUNES_1,  P17C,    36,  1,      4,      4,2,19910614,2335, 25.0017,-135.0000, 4578,    126.0,  19.7214,  35.0444,2,  35.0478,2,    223.2,2, 19.6984,    218.7,2,     4.18,2,     0.09,2,     0.05,2,     0.16,2, -999.000,9, -999.000,9, -999.000,9,-999.0000,9,  -999.00,9,   -999.0,9,  -999.00,9,   -999.0,9,   -999.0,9,  -999.0,-999.0000,-999.000,  -999.0,-999.000
   31WTTUNES_1,  P17C,    36,  1,      5,      5,2,19910614,2335, 25.0017,-135.0000, 4578,    151.3,  19.2449,  35.0261,2,  35.0260,2,    216.0,2, 19.2177,    219.7,2,     3.96,2,     0.23,2,     0.16,2,     0.16,2, -999.000,9, -999.000,9, -999.000,9,-999.0000,9,  -999.00,9,   -999.0,9,  -999.00,9,   -999.0,9,   -999.0,9,  -999.0,-999.0000,-999.000,  -999.0,-999.000
   31WTTUNES_1,  P17C,    36,  1,      6,      6,2,19910614,2335, 25.0017,-135.0000, 4578,    176.4,  18.1756,  34.8919,2,  34.8914,2,    209.5,2, 18.1452,    210.3,2,     4.34,2,     1.44,2,     0.05,2,     0.24,2, -999.000,9, -999.000,9, -999.000,9,-999.0000,9,  -999.00,9,   -999.0,9,  -999.00,9,   -999.0,9,   -999.0,9,  -999.0,-999.0000,-999.000,  -999.0,-999.000
   31WTTUNES_1,  P17C,    36,  1,      7,      7,2,19910614,2335, 25.0017,-135.0000, 4578,    202.0,  16.3541,  34.5999,2,  34.6139,2,    203.6,2, 16.3217,    205.0,2,     5.52,2,     3.44,2,     0.02,2,     0.38,2, -999.000,9, -999.000,9, -999.000,9,-999.0000,9,  -999.00,9,   -999.0,9,  -999.00,9,   -999.0,9,   -999.0,9,  -999.0,-999.0000,-999.000,  -999.0,-999.000
   31WTTUNES_1,  P17C,    36,  1,      8,      8,2,19910614,2335, 25.0017,-135.0000, 4578,    227.8,  14.9126,  34.4236,2,  34.4261,2,    201.8,2, 14.8784,    205.5,2,     6.90,2,     5.21,2,     0.01,2,     0.50,2, -999.000,9, -999.000,9, -999.000,9,-999.0000,9,  -999.00,9,   -999.0,9,  -999.00,9,   -999.0,9,   -999.0,9,  -999.0,-999.0000,-999.000,  -999.0,-999.000
   31WTTUNES_1,  P17C,    36,  1,      9,      9,2,19910614,2335, 25.0017,-135.0000, 4578,    253.5,  13.5610,  34.3119,2,  34.3006,2,    202.5,2, 13.5253,    208.1,2,     7.48,2,     7.07,2,     0.01,2,     0.61,2, -999.000,9, -999.000,9, -999.000,9,-999.0000,9,  -999.00,9,   -999.0,9,  -999.00,9,   -999.0,9,   -999.0,9,  -999.0,-999.0000,-999.000,  -999.0,-999.000
   31WTTUNES_1,  P17C,    36,  1,     10,     10,2,19910614,2335, 25.0017,-135.0000, 4578,    305.6,  10.5312,  34.0796,2,  34.0751,2,    201.7,2, 10.4947,    203.8,2,    15.47,2,    14.03,2,     0.01,2,     1.05,2, -999.000,9, -999.000,9, -999.000,9,-999.0000,9,  -999.00,9,   -999.0,9,  -999.00,9,   -999.0,9,   -999.0,9,  -999.0,-999.0000,-999.000,  -999.0,-999.000
   31WTTUNES_1,  P17C,    36,  1,     11,     11,2,19910614,2335, 25.0017,-135.0000, 4578,    356.0,   8.8852,  34.0419,2,  34.0443,2,    159.9,2,  8.8470,    168.0,2,    28.46,2,    21.50,2,     0.00,2,     1.56,2, -999.000,9, -999.000,9, -999.000,9,-999.0000,9,  -999.00,9,   -999.0,9,  -999.00,9,   -999.0,9,   -999.0,9,  -999.0,-999.0000,-999.000,  -999.0,-999.000
   31WTTUNES_1,  P17C,    36,  1,     12,     12,2,19910614,2335, 25.0017,-135.0000, 4578,    406.4,   7.9678,  34.0606,2,  34.0633,2,    125.4,2,  7.9268,    132.4,2,    40.04,2,    26.56,2,     0.01,2,     1.94,2, -999.000,9, -999.000,9, -999.000,9,-999.0000,9,  -999.00,9,   -999.0,9,  -999.00,9,   -999.0,9,   -999.0,9,  -999.0,-999.0000,-999.000,  -999.0,-999.000
   31WTTUNES_1,  P17C,    36,  1,     13,     13,2,19910614,2335, 25.0017,-135.0000, 4578,    455.6,   6.9042,  34.0627,2,  34.0661,2,     93.9,2,  6.8617,     93.0,2,    55.03,2,    32.29,2,     0.01,2,     2.36,2,    0.541,2,    0.281,2, -999.000,9,-999.0000,9,  -999.00,9,   -999.0,9,  -999.00,9,   -999.0,9,   -999.0,9,  -999.0,-999.0000,-999.000,  -999.0,-999.000
   31WTTUNES_1,  P17C,    36,  1,     14,     14,2,19910614,2335, 25.0017,-135.0000, 4578,    505.1,   6.2067,  34.0724,2,  34.0777,2,     68.2,2,  6.1621,     71.2,2,    66.01,2,    35.61,2,     0.00,2,     2.60,2,    0.282,2,    0.153,2, -999.000,9,-999.0000,9,  -999.00,9,   -999.0,9,  -999.00,9,   -999.0,9,   -999.0,9,  -999.0,-999.0000,-999.000,  -999.0,-999.000
   31WTTUNES_1,  P17C,    36,  1,     15,     15,2,19910614,2335, 25.0017,-135.0000, 4578,    610.5,   5.3090,  34.1882,2,  34.1912,2,     28.2,2,  5.2588,     28.6,2,    86.79,2,    40.63,2,     0.00,2,     2.99,2,    0.029,2,    0.024,2, -999.000,9,-999.0000,9,  -999.00,9,   -999.0,9,  -999.00,9,   -999.0,9,   -999.0,9,  -999.0,-999.0000,-999.000,  -999.0,-999.000
   31WTTUNES_1,  P17C,    36,  1,     16,     16,2,19910614,2335, 25.0017,-135.0000, 4578,    709.0,   4.7387,  34.2983,2,  34.3061,2,     18.0,2,  4.6828,     18.2,2,   101.35,2,    42.69,2,     0.00,2,     3.13,2,    0.006,2,    0.004,2, -999.000,9,-999.0000,9,  -999.00,9,   -999.0,9,  -999.00,9,   -999.0,9,   -999.0,9,  -999.0,-999.0000,-999.000,  -999.0,-999.000
   31WTTUNES_1,  P17C,    36,  1,     17,     17,2,19910614,2335, 25.0017,-135.0000, 4578,    810.9,   4.4483,  34.3880,2,  34.3918,2,     20.7,2,  4.3855,     23.3,2,   107.31,2,    43.02,2,     0.00,2,     3.13,2, -999.000,9, -999.000,9, -999.000,9,-999.0000,9,  -999.00,9,   -999.0,9,  -999.00,9,   -999.0,9,   -999.0,9,  -999.0,-999.0000,-999.000,  -999.0,-999.000
   31WTTUNES_1,  P17C,    36,  1,     18,     18,2,19910614,2335, 25.0017,-135.0000, 4578,    914.1,   4.1246,  34.4508,2,  34.4525,2,     30.4,2,  4.0552,     29.9,2,   113.48,2,    43.08,2,     0.00,2,     3.12,2, -999.000,9, -999.000,9, -999.000,9,-999.0000,9,  -999.00,9,   -999.0,9,  -999.00,9,   -999.0,9,   -999.0,9,  -999.0,-999.0000,-999.000,  -999.0,-999.000
   31WTTUNES_1,  P17C,    36,  1,     19,     19,2,19910614,2335, 25.0017,-135.0000, 4578,   1006.0,   3.9189,  34.4820,2,  34.4843,2,     36.4,2,  3.8434,     37.1,2,   116.84,2,    42.92,2,     0.00,2,     3.09,2, -999.000,9, -999.000,9, -999.000,9,-999.0000,9,  -999.00,9,   -999.0,9,  -999.00,9,   -999.0,9,   -999.0,9,  -999.0,-999.0000,-999.000,  -999.0,-999.000
   31WTTUNES_1,  P17C,    36,  1,     20,     20,2,19910614,2335, 25.0017,-135.0000, 4578,   1207.4,   3.4019,  34.5243,2,  34.5275,2,     47.1,2,  3.3142,     46.7,2,   128.60,2,    42.54,2,     0.00,2,     3.06,2, -999.000,9, -999.000,9, -999.000,9,-999.0000,9,  -999.00,9,   -999.0,9,  -999.00,9,   -999.0,9,   -999.0,9,  -999.0,-999.0000,-999.000,  -999.0,-999.000
   31WTTUNES_1,  P17C,    36,  1,     21,     21,2,19910614,2335, 25.0017,-135.0000, 4578,   1414.4,   2.9846,  34.5580,2,  34.5597,2,     53.4,2,  2.8841,     51.9,2,   139.76,2,    42.48,2,     0.00,2,     3.05,2, -999.000,9, -999.000,9, -999.000,9,-999.0000,9,  -999.00,9,   -999.0,9,  -999.00,9,   -999.0,9,   -999.0,9,  -999.0,-999.0000,-999.000,  -999.0,-999.000
   31WTTUNES_1,  P17C,    36,  1,     22,     22,2,19910614,2335, 25.0017,-135.0000, 4578,   1619.3,   2.5874,  34.5832,2,  34.5860,2,     64.3,2,  2.4746,     64.2,2,   149.31,2,    41.67,2,     0.00,2,     2.99,2, -999.000,9, -999.000,9, -999.000,9,-999.0000,9,  -999.00,9,   -999.0,9,  -999.00,9,   -999.0,9,   -999.0,9,  -999.0,-999.0000,-999.000,  -999.0,-999.000
   31WTTUNES_1,  P17C,    36,  1,     23,     23,2,19910614,2335, 25.0017,-135.0000, 4578,   1809.2,   2.3408,  34.6029,2,  34.6065,2,     72.7,2,  2.2155,     74.4,2,   155.87,2,    41.08,2,     0.00,2,     2.93,2, -999.000,9, -999.000,9, -999.000,9,-999.0000,9,  -999.00,9,   -999.0,9,  -999.00,9,   -999.0,9,   -999.0,9,  -999.0,-999.0000,-999.000,  -999.0,-999.000
   31WTTUNES_1,  P17C,    36,  1,     24,     24,2,19910614,2335, 25.0017,-135.0000, 4578,   2014.0,   2.0915,  34.6206,2,  34.6236,2,     85.0,2,  1.9525,     84.1,2,   161.22,2,    40.38,2,     0.00,2,     2.87,2, -999.000,9, -999.000,9, -999.000,9,-999.0000,9,  -999.00,9,   -999.0,9,  -999.00,9,   -999.0,9,   -999.0,9,  -999.0,-999.0000,-999.000,  -999.0,-999.000
   31WTTUNES_1,  P17C,    36,  1,     25,     25,2,19910614,2335, 25.0017,-135.0000, 4578,   2258.2,   1.8761,  34.6346,2,  34.6381,2,     97.0,2,  1.7197,     95.6,2,   164.98,2,    40.01,2,     0.00,2,     2.80,2, -999.000,9, -999.000,9, -999.000,9,-999.0000,9,  -999.00,9,   -999.0,9,  -999.00,9,   -999.0,9,   -999.0,9,  -999.0,-999.0000,-999.000,  -999.0,-999.000
   31WTTUNES_1,  P17C,    36,  1,     26,     26,2,19910614,2335, 25.0017,-135.0000, 4578,   2519.0,   1.7146,  34.6459,2,  34.6454,2,    105.9,2,  1.5379,    104.3,2,   168.54,2,    39.48,2,     0.00,2,     2.76,2, -999.000,9, -999.000,9, -999.000,9,-999.0000,9,  -999.00,9,   -999.0,9,  -999.00,9,   -999.0,9,   -999.0,9,  -999.0,-999.0000,-999.000,  -999.0,-999.000
   31WTTUNES_1,  P17C,    36,  1,     27,     27,2,19910614,2335, 25.0017,-135.0000, 4578,   2779.6,   1.6021,  34.6565,2,  34.6588,2,    116.3,2,  1.4039,    115.4,2,   168.90,2,    38.68,2,     0.00,2,     2.70,2, -999.000,9, -999.000,9, -999.000,9,-999.0000,9,  -999.00,9,   -999.0,9,  -999.00,9,   -999.0,9,   -999.0,9,  -999.0,-999.0000,-999.000,  -999.0,-999.000
   31WTTUNES_1,  P17C,    36,  1,     28,     28,2,19910614,2335, 25.0017,-135.0000, 4578,   3039.7,   1.5444,  34.6671,2,  34.6662,2,    124.6,2,  1.3228,    123.8,2,   168.06,2,    38.10,2,     0.00,2,     2.67,2, -999.000,9, -999.000,9, -999.000,9,-999.0000,9,  -999.00,9,   -999.0,9,  -999.00,9,   -999.0,9,   -999.0,9,  -999.0,-999.0000,-999.000,  -999.0,-999.000
   31WTTUNES_1,  P17C,    36,  1,     29,     29,2,19910614,2335, 25.0017,-135.0000, 4578,   3253.6,   1.4993,  34.6727,2,  34.6719,2,    131.0,2,  1.2580,    131.8,2,   166.82,2,    37.52,2,     0.00,2,     2.62,2, -999.000,9, -999.000,9, -999.000,9,-999.0000,9,  -999.00,9,   -999.0,9,  -999.00,9,   -999.0,9,   -999.0,9,  -999.0,-999.0000,-999.000,  -999.0,-999.000
   31WTTUNES_1,  P17C,    36,  1,     30,     30,2,19910614,2335, 25.0017,-135.0000, 4578,   3450.6,   1.4909,  34.6756,2,  34.6759,2,    136.2,2,  1.2301,    135.8,2,   164.59,2,    37.21,2,     0.00,2,     2.59,2, -999.000,9, -999.000,9, -999.000,9,-999.0000,9,  -999.00,9,   -999.0,9,  -999.00,9,   -999.0,9,   -999.0,9,  -999.0,-999.0000,-999.000,  -999.0,-999.000
   31WTTUNES_1,  P17C,    36,  1,     31,     31,2,19910614,2335, 25.0017,-135.0000, 4578,   3649.8,   1.4835,  34.6792,2,  34.6788,2,    141.6,2,  1.2024,    139.5,2,   162.95,2,    36.95,2,     0.00,2,     2.59,2, -999.000,9, -999.000,9, -999.000,9,-999.0000,9,  -999.00,9,   -999.0,9,  -999.00,9,   -999.0,9,   -999.0,9,  -999.0,-999.0000,-999.000,  -999.0,-999.000
   31WTTUNES_1,  P17C,    36,  1,     32,     32,2,19910614,2335, 25.0017,-135.0000, 4578,   3857.8,   1.4790,  34.6815,2,  34.6810,2,    143.2,2,  1.1761,    143.9,2,   161.51,2,    36.64,2,     0.00,2,     2.56,2, -999.000,9, -999.000,9, -999.000,9,-999.0000,9,  -999.00,9,   -999.0,9,  -999.00,9,   -999.0,9,   -999.0,9,  -999.0,-999.0000,-999.000,  -999.0,-999.000
   31WTTUNES_1,  P17C,    36,  1,     33,     33,2,19910614,2335, 25.0017,-135.0000, 4578,   4065.7,   1.4840,  34.6824,2,  34.6824,2,    147.0,2,  1.1584,    146.6,2,   160.28,2,    36.48,2,     0.00,2,     2.55,2, -999.000,9, -999.000,9, -999.000,9,-999.0000,9,  -999.00,9,   -999.0,9,  -999.00,9,   -999.0,9,   -999.0,9,  -999.0,-999.0000,-999.000,  -999.0,-999.000
   31WTTUNES_1,  P17C,    36,  1,     34,     34,2,19910614,2335, 25.0017,-135.0000, 4578,   4268.1,   1.4900,  34.6840,2,  34.6843,2,    149.4,2,  1.1418,    149.8,2,   158.64,2,    36.22,2,     0.00,2,     2.54,2,    0.003,2,    0.011,2, -999.000,9,-999.0000,9,  -999.00,9,   -999.0,9,  -999.00,9,   -999.0,9,   -999.0,9,  -999.0,-999.0000,-999.000,  -999.0,-999.000
   31WTTUNES_1,  P17C,    36,  1,     35,     35,2,19910614,2335, 25.0017,-135.0000, 4578,   4487.7,   1.5081,  34.6861,2,  34.6851,2,    150.7,2,  1.1343,    150.6,2,   158.01,2,    36.17,2,     0.00,2,     2.52,2,    0.001,2,    0.010,2, -999.000,9,-999.0000,9,  -999.00,9,   -999.0,9,  -999.00,9,   -999.0,9,   -999.0,9,  -999.0,-999.0000,-999.000,  -999.0,-999.000
   31WTTUNES_1,  P17C,    36,  1,     36,     36,2,19910614,2335, 25.0017,-135.0000, 4578,   4689.1,   1.5251,  34.6860,2,  34.6855,2,   -999.0,9,  1.1273,    151.9,2,   156.57,2,    35.86,2,     0.00,2,     2.52,2,    0.001,2,    0.010,2, -999.000,9,-999.0000,9,  -999.00,9,   -999.0,9,  -999.00,9,   -999.0,9,   -999.0,9,  -999.0,-999.0000,-999.000,  -999.0,-999.000