BOTTLE,20220819CCHSIOAMB
EXPOCODE,SECT_ID,STNNBR,CASTNO,SAMPNO,BTLNBR,BTLNBR_FLAG_W,DATE,TIME,LATITUDE,LONGITUDE,DEPTH,CTDPRS,CTDTMP,CTDSAL,CTDSAL_FLAG_W,SALNTY,SALNTY_FLAG_W,CTDOXY,CTDOXY_FLAG_W,THETA,OXYGEN,OXYGEN_FLAG_W,SILCAT,SILCAT_FLAG_W,NITRAT,NITRAT_FLAG_W,NITRIT,NITRIT_FLAG_W,PHSPHT,PHSPHT_FLAG_W,CFC-11,CFC-11_FLAG_W,CFC-12,CFC-12_FLAG_W,TRITUM,TRITUM_FLAG_W,HELIUM,HELIUM_FLAG_W,DELHE3,DELHE3_FLAG_W,DELC14,DELC14_FLAG_W,DELC13,DELC13_FLAG_W,TCARBN,TCARBN_FLAG_W,ALKALI,ALKALI_FLAG_W,C14ERR,HELIER,DELHER,C13ERR,TRITER
,,,,,,,,,,,,DBAR,ITS-90,PSS-78,,PSS-78,,UMOL/KG,,DEG C,UMOL/KG,,UMOL/KG,,UMOL/KG,,UMOL/KG,,UMOL/KG,,PMOL/KG,,PMOL/KG,,TU,,NMOL/KG,,PERCNT,,/MILLE,,/MILLE,,UMOL/KG,,UMOL/KG,,/MILLE,NMOL/KG,PERCNT,/MILLE,TU
   31WTTUNES_1,  P17C,    68,  1,      1,      1,2,19910624,2339,  8.9950,-135.0000, 4723,      0.2,  28.4202,  33.8049,2,  33.8091,2,    201.8,3, 28.4202,    203.6,2,     3.43,2,     0.01,2,     0.00,2,     0.21,2,    1.670,2,    0.962,2, -999.000,9,-999.0000,9,  -999.00,9,   -999.0,9,  -999.00,9,   1886.9,2,   2230.5,2,  -999.0,-999.0000,-999.000,  -999.0,-999.000
   31WTTUNES_1,  P17C,    68,  1,      2,      2,2,19910624,2339,  8.9950,-135.0000, 4723,     36.2,  26.9588,  34.0335,2,  34.2068,2,    207.5,2, 26.9505,    203.4,2,     3.79,2,     0.10,2,     0.00,2,     0.28,2,    1.741,2,    0.945,2, -999.000,9,-999.0000,9,  -999.00,9,   -999.0,9,  -999.00,9,   1944.4,2,   -999.0,9,  -999.0,-999.0000,-999.000,  -999.0,-999.000
   31WTTUNES_1,  P17C,    68,  1,      3,      3,2,19910624,2339,  8.9950,-135.0000, 4723,     47.1,  19.2727,  34.5682,2,  34.5660,2,    209.6,2, 19.2643,    179.1,2,     6.40,2,     4.89,2,     0.08,2,     0.69,2,    1.925,2,    1.010,2, -999.000,9,-999.0000,9,  -999.00,9,   -999.0,9,  -999.00,9,   2066.2,2,   -999.0,9,  -999.0,-999.0000,-999.000,  -999.0,-999.000
   31WTTUNES_1,  P17C,    68,  1,      4,      4,2,19910624,2339,  8.9950,-135.0000, 4723,     57.2,  15.7220,  34.5058,2,  34.5296,2,    163.5,2, 15.7131,    109.9,2,    13.92,2,    16.26,2,     0.62,2,     1.39,2,    1.436,2,    0.764,2, -999.000,9,-999.0000,9,  -999.00,9,   -999.0,9,  -999.00,9,   2134.6,2,   2285.0,2,  -999.0,-999.0000,-999.000,  -999.0,-999.000
   31WTTUNES_1,  P17C,    68,  1,      5,      5,2,19910624,2339,  8.9950,-135.0000, 4723,     67.1,  14.1053,  34.5852,2,  34.5807,2,     73.4,2, 14.0956,     64.5,2,    20.69,2,    23.96,2,     0.35,2,     1.87,2,    0.917,2,    0.504,2, -999.000,9,-999.0000,9,  -999.00,9,   -999.0,9,  -999.00,9,   2179.6,2,   -999.0,9,  -999.0,-999.0000,-999.000,  -999.0,-999.000
   31WTTUNES_1,  P17C,    68,  1,      6,      6,2,19910624,2339,  8.9950,-135.0000, 4723,     83.0,  13.2465,  34.6483,2,  34.6415,2,     52.9,2, 13.2350,     33.9,2,    25.58,2,    28.91,2,     0.09,2,     2.21,2,    0.558,2,    0.318,2, -999.000,9,-999.0000,9,  -999.00,9,   -999.0,9,  -999.00,9,   2210.1,2,   -999.0,9,  -999.0,-999.0000,-999.000,  -999.0,-999.000
   31WTTUNES_1,  P17C,    68,  1,      7,      7,2,19910624,2339,  8.9950,-135.0000, 4723,    102.0,  12.4547,  34.6649,2,  34.6649,2,     27.5,2, 12.4411,     27.6,2,    27.63,2,    30.67,2,     0.03,2,     2.31,2,    0.395,2,    0.219,2, -999.000,9,-999.0000,9,  -999.00,9,   -999.0,9,  -999.00,9,   2221.4,2,   -999.0,9,  -999.0,-999.0000,-999.000,  -999.0,-999.000
   31WTTUNES_1,  P17C,    68,  1,      8,      8,2,19910624,2339,  8.9950,-135.0000, 4723,    127.9,  11.7299,  34.7032,2,  34.7058,2,     20.1,2, 11.7136,     31.0,2,    29.12,2,    31.49,2,     0.00,2,     2.33,2,    0.282,2,    0.164,2, -999.000,9,-999.0000,9,  -999.00,9,   -999.0,9,  -999.00,9,   2228.5,2,   -999.0,9,  -999.0,-999.0000,-999.000,  -999.0,-999.000
   31WTTUNES_1,  P17C,    68,  1,      9,      9,2,19910624,2339,  8.9950,-135.0000, 4723,    163.2,  11.1221,  34.6951,2,  34.6950,2,     30.3,2, 11.1019,     41.9,2,    30.62,2,    31.27,2,     0.00,2,     2.29,2,    0.241,2,    0.144,2, -999.000,9,-999.0000,9,  -999.00,9,   -999.0,9,  -999.00,9,   2228.1,2,   -999.0,9,  -999.0,-999.0000,-999.000,  -999.0,-999.000
   31WTTUNES_1,  P17C,    68,  1,     10,     10,2,19910624,2339,  8.9950,-135.0000, 4723,    192.6,  10.7142,  34.6989,2,  34.7040,2,     44.7,2, 10.6910,     41.7,2,    31.54,2,    31.85,2,     0.00,2,     2.32,2,    0.182,2,    0.110,2, -999.000,9,-999.0000,9,  -999.00,9,   -999.0,9,  -999.00,9,   2233.1,2,   2306.2,2,  -999.0,-999.0000,-999.000,  -999.0,-999.000
   31WTTUNES_1,  P17C,    68,  1,     11,     11,2,19910624,2339,  8.9950,-135.0000, 4723,    217.3,  10.5413,  34.7103,2,  34.7097,2,     33.9,2, 10.5153,     33.0,2,    32.28,2,    32.87,2,     0.00,2,     2.39,2,    0.130,2,    0.088,2, -999.000,9,-999.0000,9,  -999.00,9,   -999.0,9,  -999.00,9,   2244.0,2,   -999.0,9,  -999.0,-999.0000,-999.000,  -999.0,-999.000
   31WTTUNES_1,  P17C,    68,  1,     12,     12,2,19910624,2339,  8.9950,-135.0000, 4723,    304.5,   9.9505,  34.6923,2,  34.6923,2,     32.6,2,  9.9152,     32.0,2,    34.53,2,    34.10,2,     0.00,2,     2.45,2,    0.092,2,    0.058,2, -999.000,9,-999.0000,9,  -999.00,9,   -999.0,9,  -999.00,9,   2248.9,2,   2311.9,2,  -999.0,-999.0000,-999.000,  -999.0,-999.000
   31WTTUNES_1,  P17C,    68,  1,     13,     13,2,19910624,2339,  8.9950,-135.0000, 4723,    405.1,   9.2318,  34.6539,2,  34.6530,2,      8.9,2,  9.1867,      8.5,2,    41.49,2,    36.32,2,     0.00,2,     2.75,2,    0.015,2,    0.011,2, -999.000,9,-999.0000,9,  -999.00,9,   -999.0,9,  -999.00,9,   2277.1,2,   2313.7,2,  -999.0,-999.0000,-999.000,  -999.0,-999.000
   31WTTUNES_1,  P17C,    68,  1,     14,     14,2,19910624,2339,  8.9950,-135.0000, 4723,    505.2,   8.2272,  34.6009,2,  34.6019,2,      8.8,2,  8.1745,      9.3,2,    50.54,2,    37.35,2,     0.00,2,     2.93,2,    0.004,2,    0.003,2, -999.000,9,-999.0000,9,  -999.00,9,   -999.0,9,  -999.00,9,   2292.0,2,   -999.0,9,  -999.0,-999.0000,-999.000,  -999.0,-999.000
   31WTTUNES_1,  P17C,    68,  1,     15,     15,2,19910624,2339,  8.9950,-135.0000, 4723,    603.1,   6.9858,  34.5519,2,  34.5513,2,     10.4,2,  6.9281,     10.2,2,    63.54,2,    39.87,2,     0.00,2,     3.09,2, -999.000,9, -999.000,9, -999.000,9,-999.0000,9,  -999.00,9,   -999.0,9,  -999.00,9,   2305.2,2,   2330.8,2,  -999.0,-999.0000,-999.000,  -999.0,-999.000
   31WTTUNES_1,  P17C,    68,  1,     16,     16,2,19910624,2339,  8.9950,-135.0000, 4723,    707.3,   6.0982,  34.5443,2,  34.5450,2,     10.8,2,  6.0348,     10.5,2,    73.72,2,    42.59,2,     0.00,2,     3.20,2, -999.000,9, -999.000,9, -999.000,9,-999.0000,9,  -999.00,9,   -999.0,9,  -999.00,9,   2320.2,2,   -999.0,9,  -999.0,-999.0000,-999.000,  -999.0,-999.000
   31WTTUNES_1,  P17C,    68,  1,     17,     17,2,19910624,2339,  8.9950,-135.0000, 4723,    810.3,   5.4515,  34.5455,2,  34.5447,2,     17.3,2,  5.3823,     20.5,2,    82.77,2,    43.42,2,     0.00,2,     3.21,2,    0.000,2,    0.005,2, -999.000,9,-999.0000,9,  -999.00,9,   -999.0,9,  -999.00,9,   2327.5,2,   -999.0,9,  -999.0,-999.0000,-999.000,  -999.0,-999.000
   31WTTUNES_1,  P17C,    68,  1,     18,     18,2,19910624,2339,  8.9950,-135.0000, 4723,    908.7,   4.8859,  34.5505,2,  34.5529,2,     31.4,2,  4.8115,     33.2,2,    91.63,2,    43.25,2,     0.00,2,     3.19,2,    0.002,2,   -0.002,2, -999.000,9,-999.0000,9,  -999.00,9,   -999.0,9,  -999.00,9,   2330.9,2,   -999.0,9,  -999.0,-999.0000,-999.000,  -999.0,-999.000
   31WTTUNES_1,  P17C,    68,  1,     19,     19,2,19910624,2339,  8.9950,-135.0000, 4723,   1005.0,   4.5301,  34.5576,2,  34.5588,2,     40.4,2,  4.4498,     40.6,2,    98.04,2,    42.79,2,     0.00,2,     3.16,2,    0.001,2,    0.007,2, -999.000,9,-999.0000,9,  -999.00,9,   -999.0,9,  -999.00,9,   2332.3,2,   2365.9,2,  -999.0,-999.0000,-999.000,  -999.0,-999.000
   31WTTUNES_1,  P17C,    68,  1,     20,     20,2,19910624,2339,  8.9950,-135.0000, 4723,   1211.6,   3.8045,  34.5765,2,  34.5761,2,     56.0,2,  3.7126,     56.1,2,   112.37,2,    42.00,2,     0.00,2,     3.09,2,    0.001,2,    0.001,2, -999.000,9,-999.0000,9,  -999.00,9,   -999.0,9,  -999.00,9,   2341.6,2,   -999.0,9,  -999.0,-999.0000,-999.000,  -999.0,-999.000
   31WTTUNES_1,  P17C,    68,  1,     21,     21,2,19910624,2339,  8.9950,-135.0000, 4723,   1415.1,   3.3698,  34.5935,2,  34.5934,2,     68.6,2,  3.2649,     63.7,2,   121.99,2,    41.48,2,     0.01,2,     3.05,2, -999.000,9, -999.000,9, -999.000,9,-999.0000,9,  -999.00,9,   -999.0,9,  -999.00,9,   2347.7,2,   -999.0,9,  -999.0,-999.0000,-999.000,  -999.0,-999.000
   31WTTUNES_1,  P17C,    68,  1,     22,     22,3,19910624,2339,  8.9950,-135.0000, 4723,   1619.4,   2.8941,  34.6085,2,  34.6060,2,     79.4,2,  2.7774,     78.2,2,   131.99,2,    40.36,2,     0.00,2,     2.96,2, -999.000,9, -999.000,9, -999.000,9,-999.0000,9,  -999.00,9,   -999.0,9,  -999.00,9,   2348.1,2,   -999.0,9,  -999.0,-999.0000,-999.000,  -999.0,-999.000
   31WTTUNES_1,  P17C,    68,  1,     23,     23,2,19910624,2339,  8.9950,-135.0000, 4723,   1824.1,   2.5443,  34.6225,2,  34.6226,2,     89.9,2,  2.4148,     88.7,2,   139.54,2,    39.80,2,     0.00,2,     2.89,2, -999.000,9, -999.000,9, -999.000,9,-999.0000,9,  -999.00,9,   -999.0,9,  -999.00,9,   2352.0,2,   -999.0,9,  -999.0,-999.0000,-999.000,  -999.0,-999.000
   31WTTUNES_1,  P17C,    68,  1,     24,     24,2,19910624,2339,  8.9950,-135.0000, 4723,   2025.9,   2.2175,  34.6394,2,  34.6395,2,     98.8,2,  2.0755,     97.8,2,   146.71,2,    39.24,2,     0.00,2,     2.83,2, -999.000,9, -999.000,9, -999.000,9,-999.0000,9,  -999.00,9,   -999.0,9,  -999.00,9,   2354.8,2,   -999.0,9,  -999.0,-999.0000,-999.000,  -999.0,-999.000
   31WTTUNES_1,  P17C,    68,  1,     25,     25,2,19910624,2339,  8.9950,-135.0000, 4723,   2226.7,   2.0276,  34.6522,2,  34.6517,2,    104.1,2,  1.8713,    103.2,2,   151.23,2,    38.96,2,     0.00,2,     2.80,2, -999.000,9, -999.000,9, -999.000,9,-999.0000,9,  -999.00,9,   -999.0,9,  -999.00,9,   2357.0,2,   2430.1,2,  -999.0,-999.0000,-999.000,  -999.0,-999.000
   31WTTUNES_1,  P17C,    68,  1,     26,     26,2,19910624,2339,  8.9950,-135.0000, 4723,   2433.3,   1.9117,  34.6630,2,  34.6604,2,    109.4,2,  1.7390,    108.8,2,   154.25,2,    38.56,2,     0.01,2,     2.76,2, -999.000,9, -999.000,9, -999.000,9,-999.0000,9,  -999.00,9,   -999.0,9,  -999.00,9,   2357.5,2,   -999.0,9,  -999.0,-999.0000,-999.000,  -999.0,-999.000
   31WTTUNES_1,  P17C,    68,  1,     27,     27,2,19910624,2339,  8.9950,-135.0000, 4723,   2635.0,   1.8318,  34.6661,2,  34.6661,2,    114.4,2,  1.6423,    113.2,2,   155.95,2,    38.28,2,     0.01,2,     2.73,2, -999.000,9, -999.000,9, -999.000,9,-999.0000,9,  -999.00,9,   -999.0,9,  -999.00,9,   2355.5,2,   -999.0,9,  -999.0,-999.0000,-999.000,  -999.0,-999.000
   31WTTUNES_1,  P17C,    68,  1,     28,     28,2,19910624,2339,  8.9950,-135.0000, 4723,   2836.7,   1.7708,  34.6700,2,  34.6686,2,    118.8,2,  1.5637,    118.3,2,   156.70,2,    38.00,2,     0.01,2,     2.71,2, -999.000,9, -999.000,9, -999.000,9,-999.0000,9,  -999.00,9,   -999.0,9,  -999.00,9,   2353.1,2,   -999.0,9,  -999.0,-999.0000,-999.000,  -999.0,-999.000
   31WTTUNES_1,  P17C,    68,  1,     29,     29,2,19910624,2339,  8.9950,-135.0000, 4723,   3044.3,   1.6929,  34.6735,2,  34.6750,2,    123.7,2,  1.4676,    123.2,2,   157.45,2,    37.61,2,     0.00,2,     2.68,2, -999.000,9, -999.000,9, -999.000,9,-999.0000,9,  -999.00,9,   -999.0,9,  -999.00,9,   2352.8,2,   -999.0,9,  -999.0,-999.0000,-999.000,  -999.0,-999.000
   31WTTUNES_1,  P17C,    68,  1,     30,     30,2,19910624,2339,  8.9950,-135.0000, 4723,   3293.2,   1.5869,  34.6785,2,  34.6791,2,    133.0,2,  1.3396,    132.7,2,   158.39,2,    37.21,2,     0.01,2,     2.62,2, -999.000,9, -999.000,9, -999.000,9,-999.0000,9,  -999.00,9,   -999.0,9,  -999.00,9,   2347.9,2,   -999.0,9,  -999.0,-999.0000,-999.000,  -999.0,-999.000
   31WTTUNES_1,  P17C,    68,  1,     31,     31,2,19910624,2339,  8.9950,-135.0000, 4723,   3546.4,   1.5100,  34.6835,2,  34.6833,2,    141.9,2,  1.2388,    143.0,2,   155.93,2,    36.49,2,     0.01,2,     2.58,2, -999.000,9, -999.000,9, -999.000,9,-999.0000,9,  -999.00,9,   -999.0,9,  -999.00,9,   2339.6,2,   2437.4,2,  -999.0,-999.0000,-999.000,  -999.0,-999.000
   31WTTUNES_1,  P17C,    68,  1,     32,     32,2,19910624,2339,  8.9950,-135.0000, 4723,   3807.3,   1.4251,  34.6885,2,  34.6896,2,    154.1,2,  1.1289,    154.4,2,   150.44,2,    35.78,2,     0.01,2,     2.52,2, -999.000,9, -999.000,9, -999.000,9,-999.0000,9,  -999.00,9,   -999.0,9,  -999.00,9,   2328.0,2,   -999.0,9,  -999.0,-999.0000,-999.000,  -999.0,-999.000
   31WTTUNES_1,  P17C,    68,  1,     33,     33,2,19910624,2339,  8.9950,-135.0000, 4723,   4061.5,   1.3951,  34.6917,2,  34.6919,2,    159.6,2,  1.0724,    161.5,2,   147.23,2,    35.28,2,     0.01,2,     2.49,2, -999.000,9, -999.000,9, -999.000,9,-999.0000,9,  -999.00,9,   -999.0,9,  -999.00,9,   2320.1,2,   -999.0,9,  -999.0,-999.0000,-999.000,  -999.0,-999.000
   31WTTUNES_1,  P17C,    68,  1,     34,     34,2,19910624,2339,  8.9950,-135.0000, 4723,   4318.4,   1.3991,  34.6931,2,  34.6931,2,    163.0,2,  1.0478,    164.8,2,   145.33,2,    35.05,2,     0.01,2,     2.46,2, -999.000,9, -999.000,9, -999.000,9,-999.0000,9,  -999.00,9,   -999.0,9,  -999.00,9,   2318.2,2,   -999.0,9,  -999.0,-999.0000,-999.000,  -999.0,-999.000
   31WTTUNES_1,  P17C,    68,  1,     35,     35,2,19910624,2339,  8.9950,-135.0000, 4723,   4582.8,   1.4151,  34.6945,2,  34.6943,2,    165.2,2,  1.0331,    166.2,2,   143.63,2,    34.83,2,     0.01,2,     2.45,2,   -0.001,2,    0.000,2, -999.000,9,-999.0000,9,  -999.00,9,   -999.0,9,  -999.00,9,   2322.4,2,   -999.0,9,  -999.0,-999.0000,-999.000,  -999.0,-999.000
   31WTTUNES_1,  P17C,    68,  1,     36,     36,2,19910624,2339,  8.9950,-135.0000, 4723,   4806.0,   1.4410,  34.6953,2,  34.6944,2,   -999.0,9,  1.0321,    166.4,2,   143.62,2,    34.82,2,     0.01,2,     2.46,2,    0.000,2,    0.000,2, -999.000,9,-999.0000,9,  -999.00,9,   -999.0,9,  -999.00,9,   2315.0,2,   2425.5,2,  -999.0,-999.0000,-999.000,  -999.0,-999.000