BOTTLE,20220819CCHSIOAMB
EXPOCODE,SECT_ID,STNNBR,CASTNO,SAMPNO,BTLNBR,BTLNBR_FLAG_W,DATE,TIME,LATITUDE,LONGITUDE,DEPTH,CTDPRS,CTDTMP,CTDSAL,CTDSAL_FLAG_W,SALNTY,SALNTY_FLAG_W,CTDOXY,CTDOXY_FLAG_W,THETA,OXYGEN,OXYGEN_FLAG_W,SILCAT,SILCAT_FLAG_W,NITRAT,NITRAT_FLAG_W,NITRIT,NITRIT_FLAG_W,PHSPHT,PHSPHT_FLAG_W,CFC-11,CFC-11_FLAG_W,CFC-12,CFC-12_FLAG_W,TRITUM,TRITUM_FLAG_W,HELIUM,HELIUM_FLAG_W,DELHE3,DELHE3_FLAG_W,DELC14,DELC14_FLAG_W,DELC13,DELC13_FLAG_W,TCARBN,TCARBN_FLAG_W,ALKALI,ALKALI_FLAG_W,C14ERR,HELIER,DELHER,C13ERR,TRITER
,,,,,,,,,,,,DBAR,ITS-90,PSS-78,,PSS-78,,UMOL/KG,,DEG C,UMOL/KG,,UMOL/KG,,UMOL/KG,,UMOL/KG,,UMOL/KG,,PMOL/KG,,PMOL/KG,,TU,,NMOL/KG,,PERCNT,,/MILLE,,/MILLE,,UMOL/KG,,UMOL/KG,,/MILLE,NMOL/KG,PERCNT,/MILLE,TU
   31WTTUNES_1,  P17C,    14,  1,      1,      1,2,19910607,0009, 34.5850,-131.3200, 5133,      3.0,  15.5223,  33.0694,2,  33.0641,2,    413.8,4, 15.5219,    258.7,2,     2.81,2,     0.20,2,     0.00,2,     0.37,2,    2.753,3,    1.622,2,    2.284,2,   1.8210,2,    -1.36,2,   -999.0,9,  -999.00,9,   -999.0,9,   -999.0,9,  -999.0,  0.0090,   0.150,  -999.0,   0.015
   31WTTUNES_1,  P17C,    14,  1,      2,      2,2,19910607,0009, 34.5850,-131.3200, 5133,     29.7,  15.3439,  33.0409,2,  33.0344,2,     18.7,4, 15.3394,    257.8,2,     2.82,2,     0.20,2,     0.00,2,     0.37,2,    3.243,2,    1.614,2, -999.000,9,-999.0000,9,  -999.00,9,     78.0,2,     1.81,2,   -999.0,9,   -999.0,9,     3.5,-999.0000,-999.000,  -999.0,-999.000
   31WTTUNES_1,  P17C,    14,  1,      3,      3,2,19910607,0009, 34.5850,-131.3200, 5133,     48.7,  14.4331,  32.9316,2,  32.9297,2,    227.9,4, 14.4261,    267.3,2,     2.83,2,     0.17,2,     0.03,2,     0.39,2,    2.874,3,    1.678,2,    2.440,2,   1.8430,2,    -1.24,2,     76.8,6,     1.71,2,   -999.0,9,   -999.0,9,     3.0,  0.0090,   0.150,  -999.0,   0.016
   31WTTUNES_1,  P17C,    14,  1,      4,      4,2,19910607,0009, 34.5850,-131.3200, 5133,     75.6,  12.6540,  32.8696,2,  32.8693,2,    254.4,4, 12.6441,    271.9,2,     2.83,2,     0.16,2,     0.03,2,     0.41,2,    3.594,2,    1.737,2,    2.430,2,   1.8450,2,    -0.98,2,   -999.0,9,  -999.00,9,   -999.0,9,   -999.0,9,  -999.0,  0.0090,   0.150,  -999.0,   0.016
   31WTTUNES_1,  P17C,    14,  1,      5,      5,2,19910607,0009, 34.5850,-131.3200, 5133,    101.5,  12.4776,  33.0581,2,  33.1027,2,    275.5,4, 12.4643,    254.8,2,     4.61,2,     2.58,2,     0.19,2,     0.54,2,    3.058,3,    1.755,2,    2.320,2,   1.7280,2,    -1.07,2,     85.0,2,     1.44,2,   -999.0,9,   -999.0,9,     3.5,  0.0080,   0.150,  -999.0,   0.015
   31WTTUNES_1,  P17C,    14,  1,      6,      6,2,19910607,0009, 34.5850,-131.3200, 5133,    121.9,  11.5727,  33.1057,2,  33.0955,2,    249.5,2, 11.5576,    247.5,2,     6.38,2,     5.83,2,     0.08,2,     0.72,2,    3.716,2,    1.788,2,    2.348,2,   1.8330,2,    -0.14,2,     76.2,2,     1.20,2,   -999.0,9,   -999.0,9,     3.6,  0.0090,   0.150,  -999.0,   0.015
   31WTTUNES_1,  P17C,    14,  1,      7,      7,2,19910607,0009, 34.5850,-131.3200, 5133,    138.1,  10.4194,  33.1304,2,  33.1191,2,    255.1,2, 10.4034,   -999.0,9,     8.74,2,     9.57,2,     0.05,2,     0.93,2, -999.000,9, -999.000,9, -999.000,9,-999.0000,9,  -999.00,9,     52.9,2,     0.98,2,   -999.0,9,   -999.0,9,     8.6,-999.0000,-999.000,  -999.0,-999.000
   31WTTUNES_1,  P17C,    14,  1,      8,      8,2,19910607,0009, 34.5850,-131.3200, 5133,    163.6,   8.7150,  33.1863,2,  33.1903,2,    203.1,2,  8.6980,    226.6,2,    14.24,2,    14.79,2,     0.04,2,     1.25,2,    3.603,2,    1.815,2,    2.286,2,   1.6610,2,     1.36,2,     46.2,2,     0.95,2,   -999.0,9,   -999.0,9,     3.3,  0.0080,   0.150,  -999.0,   0.015
   31WTTUNES_1,  P17C,    14,  1,      9,      9,2,19910607,0009, 34.5850,-131.3200, 5133,    216.5,   8.2386,  33.7165,2,  33.7713,2,    174.6,2,  8.2167,    164.7,2,    27.76,2,    22.99,2,     0.04,2,     1.71,2,    2.431,2,    1.286,2,    2.257,2,   1.8520,2,     7.29,2,     35.7,2,     0.04,2,   -999.0,9,   -999.0,9,     3.1,  0.0090,   0.150,  -999.0,   0.015
   31WTTUNES_1,  P17C,    14,  1,     10,     10,2,19910607,0009, 34.5850,-131.3200, 5133,    232.1,   8.3684,  33.9087,2,  33.9191,2,    156.6,2,  8.3446,    146.7,2,    32.08,2,    24.78,2,     0.04,2,     1.83,2,    1.932,2,    1.087,2,    2.069,2,   1.9260,2,     9.45,2,     13.1,2,     0.24,3,   -999.0,9,   -999.0,9,     3.2,  0.0090,   0.150,  -999.0,   0.014
   31WTTUNES_1,  P17C,    14,  1,     11,     11,2,19910607,0009, 34.5850,-131.3200, 5133,    268.6,   7.8882,  33.9762,2,  33.9712,2,    203.6,2,  7.8616,    183.7,2,    31.68,2,    22.33,2,     0.04,2,     1.59,2,    2.154,2,    1.186,2,    2.183,2,   1.8610,2,     8.98,2,     17.3,2,     0.38,3,   -999.0,9,   -999.0,9,     3.1,  0.0090,   0.150,  -999.0,   0.016
   31WTTUNES_1,  P17C,    14,  1,     12,     12,2,19910607,0009, 34.5850,-131.3200, 5133,    397.2,   6.1053,  33.9730,2,  33.9642,2,    104.6,2,  6.0709,    108.9,2,    57.94,2,    33.05,2,     0.04,2,     2.34,2,    1.096,3,    0.512,2,    1.789,2,   1.8770,2,    17.46,2,    -38.6,2,    -0.35,2,   -999.0,9,   -999.0,9,     2.8,  0.0090,   0.150,  -999.0,   0.014
   31WTTUNES_1,  P17C,    14,  1,     14,     14,2,19910607,0009, 34.5850,-131.3200, 5133,    600.0,   4.8169,  34.1420,2,  34.1376,2,     26.4,2,  4.7699,     30.3,2,    93.13,2,    42.00,2,     0.03,2,     3.03,2,    0.079,2,    0.042,2,    0.364,2,   1.8990,2,    13.72,2,   -143.2,2,    -0.55,2,   -999.0,9,   -999.0,9,     2.6,  0.0090,   0.150,  -999.0,   0.007
   31WTTUNES_1,  P17C,    14,  1,     15,     15,2,19910607,0009, 34.5850,-131.3200, 5133,    698.3,   4.5102,  34.2422,2,  34.2343,2,     14.1,2,  4.4565,     15.4,2,   104.65,2,    43.54,2,     0.03,2,     3.15,2,    0.022,2,    0.017,2,    0.062,2,   1.9340,2,    12.62,2,   -162.2,2,    -0.62,2,   -999.0,9,   -999.0,9,     2.5,  0.0090,   0.150,  -999.0,   0.003
   31WTTUNES_1,  P17C,    14,  1,     16,     16,2,19910607,0009, 34.5850,-131.3200, 5133,    796.8,   4.3196,  34.3413,2,  34.3237,4,     11.2,2,  4.2588,     11.7,2,   112.46,2,    43.66,2,     0.03,2,     3.21,2,    0.013,2,    0.009,2,    0.014,2,   1.8900,2,    14.56,2,   -188.4,2,    -0.60,2,   -999.0,9,   -999.0,9,     2.7,  0.0090,   0.150,  -999.0,   0.003
   31WTTUNES_1,  P17C,    14,  1,     17,     17,2,19910607,0009, 34.5850,-131.3200, 5133,    901.4,   3.8908,  34.3977,2,  34.3805,4,     13.9,2,  3.8242,     15.1,2,   122.21,2,    44.15,2,     0.03,2,     3.20,2,    0.011,2,    0.008,2, -999.000,9,-999.0000,9,  -999.00,9,   -999.0,9,  -999.00,9,   -999.0,9,   -999.0,9,  -999.0,-999.0000,-999.000,  -999.0,-999.000
   31WTTUNES_1,  P17C,    14,  1,     18,     18,2,19910607,0009, 34.5850,-131.3200, 5133,    993.7,   3.6737,  34.4282,2,  34.4164,4,     16.4,2,  3.6012,     16.8,2,   128.06,2,    44.37,2,     0.03,2,     3.19,2,    0.008,2,    0.006,2,    0.003,2,   1.9440,2,    17.46,2,   -207.6,2,    -0.62,2,   -999.0,9,   -999.0,9,     2.8,  0.0090,   0.150,  -999.0,   0.003
   31WTTUNES_1,  P17C,    14,  1,     19,     19,2,19910607,0009, 34.5850,-131.3200, 5133,   1202.8,   3.2348,  34.5016,2,  34.4908,4,     31.8,2,  3.1490,     32.1,2,   138.00,2,    44.05,2,     0.03,2,     3.14,2,    0.003,2,    0.004,2,    0.002,2,-999.0000,9,  -999.00,9,   -222.6,2,    -0.66,2,   -999.0,9,   -999.0,9,     2.8,-999.0000,   0.150,  -999.0,   0.002
   31WTTUNES_1,  P17C,    14,  1,     20,     20,4,19910607,0009, 34.5850,-131.3200, 5133,   1202.8,   3.2348,  34.5016,2,  34.4910,4,     31.8,2,  3.1490,     32.4,2,   137.39,2,    44.01,2,     0.03,2,     3.13,2,    0.004,2,    0.002,2, -999.000,9,-999.0000,9,  -999.00,9,   -999.0,9,  -999.00,9,   -999.0,9,   -999.0,9,  -999.0,-999.0000,-999.000,  -999.0,-999.000
   31WTTUNES_1,  P17C,    14,  1,     21,     21,2,19910607,0009, 34.5850,-131.3200, 5133,   1610.5,   2.5572,  34.5684,2,  34.5530,4,     56.3,2,  2.4455,     54.3,2,   154.36,2,    42.74,2,     0.03,2,     3.02,2, -999.000,9, -999.000,9, -999.000,9,-999.0000,9,  -999.00,9,   -999.0,9,  -999.00,9,   -999.0,9,   -999.0,9,  -999.0,-999.0000,-999.000,  -999.0,-999.000
   31WTTUNES_1,  P17C,    14,  1,     22,     22,2,19910607,0009, 34.5850,-131.3200, 5133,   1806.6,   2.2884,  34.5930,2,  34.5747,4,     66.2,2,  2.1640,     64.5,2,   161.36,2,    41.96,2,     0.03,2,     2.97,2, -999.000,9, -999.000,9, -999.000,9,-999.0000,9,  -999.00,9,   -999.0,9,  -999.00,9,   -999.0,9,   -999.0,9,  -999.0,-999.0000,-999.000,  -999.0,-999.000
   31WTTUNES_1,  P17C,    14,  1,     23,     23,2,19910607,0009, 34.5850,-131.3200, 5133,   2054.4,   2.0556,  34.6163,2,  34.6029,4,     79.5,2,  1.9138,     80.9,2,   166.61,2,    41.03,2,     0.03,2,     2.90,2, -999.000,9, -999.000,9, -999.000,9,-999.0000,9,  -999.00,9,   -999.0,9,  -999.00,9,   -999.0,9,   -999.0,9,  -999.0,-999.0000,-999.000,  -999.0,-999.000
   31WTTUNES_1,  P17C,    14,  1,     24,     24,4,19910607,0009, 34.5850,-131.3200, 5133,   2054.4,   2.0556,  34.6163,2,  34.6084,4,     79.5,2,  1.9138,     77.9,2,   166.38,2,    40.98,2,     0.03,2,     2.90,2, -999.000,9, -999.000,9, -999.000,9,-999.0000,9,  -999.00,9,   -999.0,9,  -999.00,9,   -999.0,9,   -999.0,9,  -999.0,-999.0000,-999.000,  -999.0,-999.000
   31WTTUNES_1,  P17C,    14,  1,     25,     25,2,19910607,0009, 34.5850,-131.3200, 5133,   2511.5,   1.7751,  34.6414,2,  34.6393,2,     98.2,2,  1.5980,     98.2,2,   173.57,2,    39.65,2,     0.03,2,     2.81,2, -999.000,9, -999.000,9, -999.000,9,-999.0000,9,  -999.00,9,   -999.0,9,  -999.00,9,   -999.0,9,   -999.0,9,  -999.0,-999.0000,-999.000,  -999.0,-999.000
   31WTTUNES_1,  P17C,    14,  1,     26,     26,2,19910607,0009, 34.5850,-131.3200, 5133,   2698.6,   1.7010,  34.6470,2,  34.6458,2,    104.4,2,  1.5083,    104.8,2,   174.52,2,    39.55,2,     0.03,2,     2.78,2, -999.000,9, -999.000,9, -999.000,9,-999.0000,9,  -999.00,9,   -999.0,9,  -999.00,9,   -999.0,9,   -999.0,9,  -999.0,-999.0000,-999.000,  -999.0,-999.000
   31WTTUNES_1,  P17C,    14,  1,     27,     27,3,19910607,0009, 34.5850,-131.3200, 5133,   2918.8,   1.6255,  34.6547,2,-999.0000,5,    112.6,2,  1.4138,   -999.0,5,  -999.00,5,  -999.00,5,  -999.00,5,  -999.00,5, -999.000,9, -999.000,9, -999.000,9,-999.0000,9,  -999.00,9,   -999.0,9,  -999.00,9,   -999.0,9,   -999.0,9,  -999.0,-999.0000,-999.000,  -999.0,-999.000
   31WTTUNES_1,  P17C,    14,  1,     28,     28,2,19910607,0009, 34.5850,-131.3200, 5133,   3184.6,   1.5716,  34.6614,2,  34.6544,4,    121.7,2,  1.3354,    116.3,2,   174.07,2,    38.96,2,     0.03,2,     2.70,2, -999.000,9, -999.000,9, -999.000,9,-999.0000,9,  -999.00,9,   -999.0,9,  -999.00,9,   -999.0,9,   -999.0,9,  -999.0,-999.0000,-999.000,  -999.0,-999.000
   31WTTUNES_1,  P17C,    14,  1,     29,     29,2,19910607,0009, 34.5850,-131.3200, 5133,   3438.9,   1.5254,  34.6692,2,  34.6639,4,    130.2,2,  1.2649,    126.4,2,   171.12,2,    38.45,2,     0.04,2,     2.64,2, -999.000,9, -999.000,9, -999.000,9,-999.0000,9,  -999.00,9,   -999.0,9,  -999.00,9,   -999.0,9,   -999.0,9,  -999.0,-999.0000,-999.000,  -999.0,-999.000
   31WTTUNES_1,  P17C,    14,  1,     30,     30,4,19910607,0009, 34.5850,-131.3200, 5133,   3438.9,   1.5254,  34.6692,2,  34.6651,4,    130.2,2,  1.2649,    126.1,2,   170.90,2,    38.26,2,     0.03,2,     2.65,2, -999.000,9, -999.000,9, -999.000,9,-999.0000,9,  -999.00,9,   -999.0,9,  -999.00,9,   -999.0,9,   -999.0,9,  -999.0,-999.0000,-999.000,  -999.0,-999.000
   31WTTUNES_1,  P17C,    14,  1,     31,     31,4,19910607,0009, 34.5850,-131.3200, 5133,   3702.1,   1.4965,  34.6754,2,  34.6702,4,    137.9,2,  1.2096,    134.2,2,   168.14,2,    37.81,2,     0.03,2,     2.60,2,    0.002,2,    0.000,2, -999.000,9,-999.0000,9,  -999.00,9,   -999.0,9,  -999.00,9,   -999.0,9,   -999.0,9,  -999.0,-999.0000,-999.000,  -999.0,-999.000
   31WTTUNES_1,  P17C,    14,  1,     32,     32,2,19910607,0009, 34.5850,-131.3200, 5133,   4212.3,   1.4964,  34.6815,2,  34.6767,4,    147.3,2,  1.1542,    143.5,2,   164.80,2,    36.96,2,     0.04,2,     2.55,2,    0.000,2,    0.005,2, -999.000,9,-999.0000,9,  -999.00,9,   -999.0,9,  -999.00,9,   -999.0,9,   -999.0,9,  -999.0,-999.0000,-999.000,  -999.0,-999.000
   31WTTUNES_1,  P17C,    14,  1,     33,     33,2,19910607,0009, 34.5850,-131.3200, 5133,   4578.0,   1.5192,  34.6844,2,  34.6775,4,    151.6,2,  1.1346,    148.0,2,   161.07,2,    36.68,2,     0.03,2,     2.53,2,    0.013,4,    0.000,2, -999.000,9,-999.0000,9,  -999.00,9,   -999.0,9,  -999.00,9,   -999.0,9,   -999.0,9,  -999.0,-999.0000,-999.000,  -999.0,-999.000
   31WTTUNES_1,  P17C,    14,  1,     34,     34,4,19910607,0009, 34.5850,-131.3200, 5133,   4578.0,   1.5192,  34.6844,2,  34.6737,4,    151.6,2,  1.1346,    148.3,2,   161.04,2,    36.58,2,     0.03,2,     2.53,2,    0.000,2,    0.001,2, -999.000,9,-999.0000,9,  -999.00,9,   -999.0,9,  -999.00,9,   -999.0,9,   -999.0,9,  -999.0,-999.0000,-999.000,  -999.0,-999.000
   31WTTUNES_1,  P17C,    14,  1,     35,     35,2,19910607,0009, 34.5850,-131.3200, 5133,   4998.3,   1.5616,  34.6855,2,  34.6820,4,    154.2,2,  1.1255,    150.8,2,   158.29,2,    36.29,2,     0.03,2,     2.52,2,    0.002,2,    0.002,2, -999.000,9,-999.0000,9,  -999.00,9,   -999.0,9,  -999.00,9,   -999.0,9,   -999.0,9,  -999.0,-999.0000,-999.000,  -999.0,-999.000
   31WTTUNES_1,  P17C,    14,  1,     13,     13,4,19910607,0009, 34.5850,-131.3200, 5133,   5225.4,   1.5904,  34.6859,2,  34.6754,4,   -999.0,9,  1.1253,    152.3,2,   157.15,2,    36.34,2,     0.03,2,     2.49,2,    0.004,2,    0.008,2, -999.000,5,   1.9680,2,    15.29,2,   -213.2,3,    -0.10,2,   -999.0,9,   -999.0,9,     2.7,  0.0090,   0.150,  -999.0,-999.000
   31WTTUNES_1,  P17C,    14,  1,     36,     36,2,19910607,0009, 34.5850,-131.3200, 5133,   5225.4,   1.5904,  34.6859,2,  34.6816,4,   -999.0,9,  1.1253,    152.5,2,   157.10,2,    36.40,2,     0.04,2,     2.52,2,    0.005,2,    0.006,2, -999.000,9,-999.0000,9,  -999.00,9,   -999.0,9,  -999.00,9,   -999.0,9,   -999.0,9,  -999.0,-999.0000,-999.000,  -999.0,-999.000