BOTTLE,20220819CCHSIOAMB
EXPOCODE,SECT_ID,STNNBR,CASTNO,SAMPNO,BTLNBR,BTLNBR_FLAG_W,DATE,TIME,LATITUDE,LONGITUDE,DEPTH,CTDPRS,CTDTMP,CTDSAL,CTDSAL_FLAG_W,SALNTY,SALNTY_FLAG_W,CTDOXY,CTDOXY_FLAG_W,THETA,OXYGEN,OXYGEN_FLAG_W,SILCAT,SILCAT_FLAG_W,NITRAT,NITRAT_FLAG_W,NITRIT,NITRIT_FLAG_W,PHSPHT,PHSPHT_FLAG_W,CFC-11,CFC-11_FLAG_W,CFC-12,CFC-12_FLAG_W,TRITUM,TRITUM_FLAG_W,HELIUM,HELIUM_FLAG_W,DELHE3,DELHE3_FLAG_W,DELC14,DELC14_FLAG_W,DELC13,DELC13_FLAG_W,TCARBN,TCARBN_FLAG_W,ALKALI,ALKALI_FLAG_W,C14ERR,HELIER,DELHER,C13ERR,TRITER
,,,,,,,,,,,,DBAR,ITS-90,PSS-78,,PSS-78,,UMOL/KG,,DEG C,UMOL/KG,,UMOL/KG,,UMOL/KG,,UMOL/KG,,UMOL/KG,,PMOL/KG,,PMOL/KG,,TU,,NMOL/KG,,PERCNT,,/MILLE,,/MILLE,,UMOL/KG,,UMOL/KG,,/MILLE,NMOL/KG,PERCNT,/MILLE,TU
   31WTTUNES_1,  P17C,    98,  2,      1,      1,2,19910701,2043,  0.0033,-135.1567, 4318,      0.2,  27.4309,  35.3401,2,  35.3463,2,   -999.0,9, 27.4309,    200.8,2,     3.13,2,     5.18,2,     0.48,2,     0.56,2,    1.659,2,    0.952,2,    1.132,2,   1.7340,2,    -1.02,2,    104.0,2,     1.33,2,   2017.9,2,   2326.7,2,     6.5,  0.0080,   0.150,  -999.0,   0.011
   31WTTUNES_1,  P17C,    98,  2,      2,      2,2,19910701,2043,  0.0033,-135.1567, 4318,     67.0,  26.0575,  35.4311,2,  35.4285,2,    168.5,2, 26.0425,    171.7,2,     3.71,2,     7.72,2,     0.43,2,     0.71,2,    1.623,2,    0.903,2,    1.168,2,   1.7470,2,    -0.37,2,     86.0,2,     1.19,2,   2045.3,2,   2338.5,2,     3.8,  0.0080,   0.150,  -999.0,   0.011
   31WTTUNES_1,  P17C,    98,  2,      3,      3,2,19910701,2043,  0.0033,-135.1567, 4318,     72.8,  24.8353,  35.3827,2,  35.3926,2,    156.7,2, 24.8195,    154.9,2,     5.18,2,     8.99,2,     0.29,2,     0.76,2,    1.596,2,    0.871,2,    1.215,2,   1.7120,2,     0.38,2,     94.4,2,     1.07,2,   2054.9,2,   -999.0,9,     3.6,  0.0080,   0.150,  -999.0,   0.011
   31WTTUNES_1,  P17C,    98,  2,      4,      4,2,19910701,2043,  0.0033,-135.1567, 4318,     84.8,  21.2348,  35.3596,2,  35.3562,2,    132.7,2, 21.2184,    131.1,2,     6.55,2,    11.63,2,     0.04,2,     0.90,2,    1.416,2,    0.772,2,    1.098,2,   1.7500,2,     1.90,2,     87.6,2,     0.85,2,   2089.7,2,   -999.0,9,     5.2,  0.0080,   0.150,  -999.0,   0.011
   31WTTUNES_1,  P17C,    98,  2,      5,      5,2,19910701,2043,  0.0033,-135.1567, 4318,    113.0,  19.2767,  35.1246,2,  35.1263,2,    134.3,2, 19.2564,    132.6,2,     8.99,2,    12.31,2,     0.02,2,     0.92,2,    1.294,2,    0.723,2,    1.269,2,   1.7920,2,     3.25,2,    117.2,3,     0.61,3,   2091.3,2,   -999.0,9,     6.4,  0.0080,   0.150,  -999.0,   0.011
   31WTTUNES_1,  P17C,    98,  2,      6,      6,2,19910701,2043,  0.0033,-135.1567, 4318,    143.6,  17.7048,  35.2596,2,  35.2439,2,    138.1,2, 17.6804,    136.6,2,     8.60,2,    13.19,2,     0.01,2,     0.99,2,    1.186,2,    0.645,2,    0.826,2,   1.7780,2,     2.65,2,     57.9,2,     0.77,2,   2110.8,2,   2328.0,2,    11.2,  0.0080,   0.150,  -999.0,   0.009
   31WTTUNES_1,  P17C,    98,  2,      7,      7,2,19910701,2043,  0.0033,-135.1567, 4318,    176.9,  15.1671,  35.0410,2,  35.0243,2,    136.4,2, 15.1401,    135.5,2,    13.09,2,    16.12,2,     0.01,2,     1.16,2,    1.016,2,    0.549,2,    0.852,2,   1.8060,2,     4.20,2,     45.8,2,     0.70,2,   2126.9,2,   -999.0,9,    12.0,  0.0080,   0.150,  -999.0,   0.007
   31WTTUNES_1,  P17C,    98,  2,      8,      8,2,19910701,2043,  0.0033,-135.1567, 4318,    208.6,  13.3405,  34.9073,2,  34.9063,2,    122.3,2, 13.3113,    124.2,2,    17.49,2,    19.74,2,     0.00,2,     1.39,2, -999.000,5, -999.000,5,    0.697,2,   1.8070,2,     5.12,2,     27.3,2,     0.68,2,   2150.6,2,   2311.6,2,     4.1,  0.0080,   0.150,  -999.0,   0.006
   31WTTUNES_1,  P17C,    98,  2,      9,      9,2,19910701,2043,  0.0033,-135.1567, 4318,    234.3,  13.0805,  34.9456,2,  34.9484,2,    118.1,2, 13.0481,    115.2,2,    17.30,2,    21.11,2,     0.00,2,     1.48,2,    0.670,2,    0.363,2,    0.508,2,   1.8220,2,     4.27,2,     -7.0,2,     0.67,2,   2162.6,2,   -999.0,9,     5.7,  0.0090,   0.150,  -999.0,   0.005
   31WTTUNES_1,  P17C,    98,  2,     10,     10,2,19910701,2043,  0.0033,-135.1567, 4318,    309.1,  11.6619,  34.8235,2,  34.8247,2,     33.7,2, 11.6222,     33.1,2,    27.95,2,    31.57,2,     0.00,2,     2.15,2,    0.244,2,    0.147,2,    0.336,2,   1.8250,2,     5.48,2,    -55.9,2,    -0.03,2,   2232.1,2,   2307.8,2,     8.9,  0.0090,   0.150,  -999.0,   0.004
   31WTTUNES_1,  P17C,    98,  2,     11,     11,2,19910701,2043,  0.0033,-135.1567, 4318,    363.3,  10.2144,  34.7441,2,  34.7437,2,     18.7,2, 10.1714,     18.5,2,    34.60,2,    35.48,2,     0.00,2,     2.41,2,    0.088,2,    0.061,2,    0.156,2,   1.8430,2,     5.47,2,    -52.2,2,    -0.29,3,   2250.4,2,   -999.0,9,     5.1,  0.0090,   0.150,  -999.0,   0.003
   31WTTUNES_1,  P17C,    98,  2,     12,     12,2,19910701,2043,  0.0033,-135.1567, 4318,    434.6,   9.0628,  34.6782,2,  34.6788,2,     24.4,2,  9.0150,     24.4,2,    39.39,2,    37.44,2,     0.00,2,     2.53,2,    0.036,2,    0.026,2,    0.074,2,   1.8580,2,     6.08,2,    -96.4,2,    -0.02,2,   2262.4,2,   2309.9,2,     3.6,  0.0090,   0.150,  -999.0,   0.002
   31WTTUNES_1,  P17C,    98,  2,     13,     13,2,19910701,2043,  0.0033,-135.1567, 4318,    505.8,   8.1062,  34.6268,2,  34.6311,2,     41.1,2,  8.0539,     40.8,2,    43.30,2,    37.93,2,     0.00,2,     2.56,2,    0.020,2,    0.014,2,    0.040,2,   1.8420,2,     6.94,2,   -121.0,2,     0.06,2,   2262.1,2,   -999.0,9,     6.3,  0.0090,   0.150,  -999.0,   0.002
   31WTTUNES_1,  P17C,    98,  2,     14,     14,2,19910701,2043,  0.0033,-135.1567, 4318,    606.7,   7.0587,  34.5802,2,  34.5818,2,     56.8,2,  7.0003,     57.3,2,    49.85,2,    38.42,2,     0.00,2,     2.62,2,    0.010,2,    0.011,2,    0.016,2,   1.8590,2,     8.85,2,   -138.1,2,     0.20,2,   2265.1,2,   2323.9,2,     3.8,  0.0090,   0.150,  -999.0,   0.001
   31WTTUNES_1,  P17C,    98,  2,     15,     15,2,19910701,2043,  0.0033,-135.1567, 4318,    708.8,   6.1602,  34.5547,2,  34.5579,2,     63.8,2,  6.0963,     65.2,2,    60.12,2,    39.39,2,     0.00,2,     2.71,2,    0.004,2,    0.009,2,    0.006,2,   1.8860,2,    11.11,2,   -131.3,2,    -0.07,3,   2273.0,2,   -999.0,9,     4.8,  0.0090,   0.150,  -999.0,   0.001
   31WTTUNES_1,  P17C,    98,  2,     16,     16,2,19910701,2043,  0.0033,-135.1567, 4318,    807.8,   5.2746,  34.5465,2,  34.5496,2,     75.5,2,  5.2067,     76.2,2,    72.04,2,    39.39,2,     0.00,2,     2.74,2,    0.001,2,    0.005,2,    0.005,2,   1.8990,2,    14.02,2,   -166.3,2,     0.15,2,   2284.9,2,   -999.0,9,     6.0,  0.0090,   0.150,  -999.0,   0.001
   31WTTUNES_1,  P17C,    98,  2,     17,     17,2,19910701,2043,  0.0033,-135.1567, 4318,    909.7,   4.8219,  34.5490,2,  34.5524,2,     79.8,2,  4.7479,     80.6,2,    80.84,2,    39.59,2,     0.00,2,     2.76,2,   -0.001,2,    0.006,2,    0.002,2,-999.0000,9,  -999.00,9,   -999.0,9,  -999.00,9,   2294.6,2,   -999.0,9,  -999.0,-999.0000,-999.000,  -999.0,   0.001
   31WTTUNES_1,  P17C,    98,  2,     18,     18,2,19910701,2043,  0.0033,-135.1567, 4318,   1007.9,   4.4171,  34.5579,2,  34.5595,2,     80.7,2,  4.3375,     80.9,2,    90.13,2,    39.69,2,     0.00,2,     2.77,2,    0.001,2,    0.010,2,   -0.002,2,   1.8940,2,    17.28,2,   -999.0,9,  -999.00,9,   2306.1,2,   2360.0,2,  -999.0,-999.0000,-999.000,  -999.0,   0.001
   31WTTUNES_1,  P17C,    98,  2,     19,     19,2,19910701,2043,  0.0033,-135.1567, 4318,   1211.8,   3.6636,  34.5794,2,  34.5825,2,     83.4,2,  3.5729,     83.7,2,   106.94,2,    40.08,2,     0.00,2,     2.79,2,    0.002,2,    0.009,2, -999.000,9,-999.0000,9,  -999.00,9,   -999.0,9,  -999.00,9,   2321.7,2,   -999.0,9,  -999.0,-999.0000,-999.000,  -999.0,-999.000
   31WTTUNES_1,  P17C,    98,  2,     20,     20,2,19910701,2043,  0.0033,-135.1567, 4318,   1414.9,   3.1549,  34.5986,2,  34.6004,2,     89.4,2,  3.0524,     91.1,2,   118.86,2,    39.69,2,     0.00,2,     2.76,2,    0.003,2,    0.002,2, -999.000,9,   1.9400,2,    23.10,2,   -999.0,9,  -999.00,9,   2330.7,2,   -999.0,9,  -999.0,-999.0000,-999.000,  -999.0,-999.000
   31WTTUNES_1,  P17C,    98,  2,     21,     21,2,19910701,2043,  0.0033,-135.1567, 4318,   1617.9,   2.8121,  34.6139,2,  34.6151,2,     95.1,2,  2.6966,     94.6,2,   126.88,2,    39.59,2,     0.00,2,     2.74,2,    0.000,2,    0.010,2, -999.000,9,   1.9430,2,    24.45,2,   -999.0,9,  -999.00,9,   2339.4,2,   -999.0,9,  -999.0,-999.0000,-999.000,  -999.0,-999.000
   31WTTUNES_1,  P17C,    98,  2,     22,     22,2,19910701,2043,  0.0033,-135.1567, 4318,   1817.3,   2.3624,  34.6354,2,  34.6372,2,    104.4,2,  2.2360,    102.7,2,   138.70,2,    39.10,2,     0.00,2,     2.70,2,    0.003,2,    0.007,2, -999.000,9,   1.9160,2,    26.77,2,   -999.0,9,  -999.00,9,   2346.4,2,   -999.0,9,  -999.0,-999.0000,-999.000,  -999.0,-999.000
   31WTTUNES_1,  P17C,    98,  2,     23,     23,2,19910701,2043,  0.0033,-135.1567, 4318,   2022.3,   2.1655,  34.6476,2,  34.6464,2,    108.9,2,  2.0246,    107.8,2,   141.92,2,    38.71,2,     0.00,2,     2.65,2,    0.001,2,    0.012,4, -999.000,9,   1.9390,2,    27.78,2,   -999.0,9,  -999.00,9,   2346.6,2,   -999.0,9,  -999.0,-999.0000,-999.000,  -999.0,-999.000
   31WTTUNES_1,  P17C,    98,  2,     24,     24,2,19910701,2043,  0.0033,-135.1567, 4318,   2196.9,   2.0186,  34.6566,2,  34.6553,2,    114.9,2,  1.8650,    113.8,2,   144.37,2,    38.41,2,     0.00,2,     2.62,2,    0.000,2,    0.000,2, -999.000,9,   1.9370,2,    27.19,2,   -999.0,9,  -999.00,9,   2346.8,2,   2428.5,2,  -999.0,-999.0000,-999.000,  -999.0,-999.000
   31WTTUNES_1,  P17C,    98,  2,     25,     25,2,19910701,2043,  0.0033,-135.1567, 4318,   2365.2,   1.9387,  34.6607,2,  34.6602,2,    118.9,2,  1.7716,    118.1,2,   145.44,2,    38.12,2,     0.00,2,     2.59,2,    0.001,2,    0.000,2, -999.000,9,   1.9360,2,    27.17,2,   -999.0,9,  -999.00,9,   2342.9,2,   -999.0,9,  -999.0,-999.0000,-999.000,  -999.0,-999.000
   31WTTUNES_1,  P17C,    98,  2,     26,     26,2,19910701,2043,  0.0033,-135.1567, 4318,   2530.1,   1.8508,  34.6647,2,  34.6651,2,    123.0,2,  1.6705,    122.6,2,   147.69,2,    37.83,2,     0.00,2,     2.57,2,   -0.001,2,    0.003,2, -999.000,9,   1.9410,2,    27.48,2,   -999.0,9,  -999.00,9,   2344.7,2,   -999.0,9,  -999.0,-999.0000,-999.000,  -999.0,-999.000
   31WTTUNES_1,  P17C,    98,  2,     27,     27,2,19910701,2043,  0.0033,-135.1567, 4318,   2690.5,   1.7548,  34.6705,2,  34.6699,2,    129.3,2,  1.5617,    128.5,2,   147.49,2,    37.44,2,     0.00,2,     2.53,2,    0.000,2,    0.003,2, -999.000,9,   1.9310,2,    27.00,2,   -999.0,9,  -999.00,9,   2340.0,2,   -999.0,9,  -999.0,-999.0000,-999.000,  -999.0,-999.000
   31WTTUNES_1,  P17C,    98,  2,     28,     28,2,19910701,2043,  0.0033,-135.1567, 4318,   2867.0,   1.7019,  34.6741,2,  34.6738,2,    133.2,2,  1.4933,    133.0,2,   147.49,2,    37.14,2,     0.00,2,     2.50,2,    0.003,2,    0.000,2, -999.000,9,   1.9280,2,    25.67,2,   -999.0,9,  -999.00,9,   2338.4,2,   -999.0,9,  -999.0,-999.0000,-999.000,  -999.0,-999.000
   31WTTUNES_1,  P17C,    98,  2,     29,     29,2,19910701,2043,  0.0033,-135.1567, 4318,   3041.7,   1.6159,  34.6767,2,  34.6774,2,    139.5,2,  1.3926,    134.5,3,   146.32,2,    36.75,2,     0.00,2,     2.47,2,   -0.001,2,    0.000,2, -999.000,9,   1.9210,2,    22.62,2,   -999.0,9,  -999.00,9,   2334.1,2,   -999.0,9,  -999.0,-999.0000,-999.000,  -999.0,-999.000
   31WTTUNES_1,  P17C,    98,  2,     30,     30,2,19910701,2043,  0.0033,-135.1567, 4318,   3243.1,   1.5839,  34.6771,2,  34.6803,2,    143.6,2,  1.3416,    143.7,2,   145.54,2,    36.56,2,     0.00,2,     2.45,2,    0.002,2,    0.007,2, -999.000,9,   1.9200,2,    21.94,2,   -999.0,9,  -999.00,9,   2329.2,2,   -999.0,9,  -999.0,-999.0000,-999.000,  -999.0,-999.000
   31WTTUNES_1,  P17C,    98,  2,     31,     31,2,19910701,2043,  0.0033,-135.1567, 4318,   3448.5,   1.4990,  34.6881,2,  34.6874,2,    149.8,2,  1.2381,    148.4,2,   148.57,2,    36.26,2,     0.00,2,     2.43,2,    0.002,2,    0.004,2, -999.000,9,   1.9080,2,    19.19,2,   -999.0,9,  -999.00,9,   -999.0,9,   -999.0,9,  -999.0,-999.0000,-999.000,  -999.0,-999.000
   31WTTUNES_1,  P17C,    98,  2,     32,     32,2,19910701,2043,  0.0033,-135.1567, 4318,   3651.3,   1.3931,  34.6930,2,  34.6933,2,    158.5,2,  1.1141,    157.2,2,   145.44,2,    35.58,2,     0.00,2,     2.37,2,   -0.001,2,    0.002,2, -999.000,9,   1.9260,2,    16.60,2,   -999.0,9,  -999.00,9,   2324.5,2,   2439.3,2,  -999.0,-999.0000,-999.000,  -999.0,-999.000
   31WTTUNES_1,  P17C,    98,  2,     33,     33,2,19910701,2043,  0.0033,-135.1567, 4318,   3853.7,   1.3901,  34.6946,2,  34.6939,2,    162.0,2,  1.0899,    162.3,2,   143.58,2,    35.28,2,     0.00,2,     2.35,2,   -0.001,2,    0.000,2, -999.000,9,   1.9080,2,    16.29,2,   -999.0,9,  -999.00,9,   2321.4,2,   -999.0,9,  -999.0,-999.0000,-999.000,  -999.0,-999.000
   31WTTUNES_1,  P17C,    98,  2,     34,     34,2,19910701,2043,  0.0033,-135.1567, 4318,   4061.6,   1.4101,  34.6942,2,  34.6953,2,    161.8,2,  1.0869,    162.2,2,   143.48,2,    35.28,2,     0.00,2,     2.35,2,    0.001,2,    0.002,2, -999.000,9,   1.8790,2,    15.64,2,   -999.0,9,  -999.00,9,   2320.8,2,   -999.0,9,  -999.0,-999.0000,-999.000,  -999.0,-999.000
   31WTTUNES_1,  P17C,    98,  2,     35,     35,2,19910701,2043,  0.0033,-135.1567, 4318,   4224.2,   1.4221,  34.6956,2,  34.6940,2,    161.2,2,  1.0807,    161.3,2,   143.68,2,    35.48,2,     0.00,2,     2.36,2,   -0.003,2,    0.000,2, -999.000,9,   1.9110,2,    16.40,2,   -999.0,9,  -999.00,9,   2322.8,2,   -999.0,9,  -999.0,-999.0000,-999.000,  -999.0,-999.000
   31WTTUNES_1,  P17C,    98,  2,     36,     36,2,19910701,2043,  0.0033,-135.1567, 4318,   4379.9,   1.4390,  34.6966,2,  34.6946,2,   -999.0,9,  1.0796,    161.3,2,   144.85,2,    35.48,2,     0.00,2,     2.36,2,    0.001,2,    0.003,2, -999.000,9,   1.9130,2,    15.96,2,   -999.0,9,  -999.00,9,   2323.7,2,   2436.7,2,  -999.0,-999.0000,-999.000,  -999.0,-999.000
   31WTTUNES_1,  P17C,    98,  4,     61,     61,2,19910702,0312, -0.0117,-135.1250, 4318,      2.9,  27.3595,  35.3437,2,  35.3453,2,   -999.0,9, 27.3588,    207.5,2,  -999.00,9,  -999.00,9,  -999.00,9,  -999.00,9, -999.000,9, -999.000,9, -999.000,9,-999.0000,9,  -999.00,9,   -999.0,9,  -999.00,9,   -999.0,9,   -999.0,9,  -999.0,-999.0000,-999.000,  -999.0,-999.000
   31WTTUNES_1,  P17C,    98,  4,     62,     62,3,19910702,0312, -0.0117,-135.1250, 4318,   1106.3,   3.9579,  34.5680,2,  34.5698,2,   -999.0,9,  3.8736,     90.2,4,  -999.00,9,  -999.00,9,  -999.00,9,  -999.00,9, -999.000,9, -999.000,9, -999.000,9,-999.0000,9,  -999.00,9,   -999.0,9,  -999.00,9,   -999.0,9,   -999.0,9,  -999.0,-999.0000,-999.000,  -999.0,-999.000
   31WTTUNES_1,  P17C,    98,  4,     63,     63,2,19910702,0312, -0.0117,-135.1250, 4318,   1310.4,   3.3445,  34.5910,2,  34.5928,2,   -999.0,9,  3.2486,     87.4,2,  -999.00,9,  -999.00,9,  -999.00,9,  -999.00,9, -999.000,9, -999.000,9, -999.000,9,-999.0000,9,  -999.00,9,   -999.0,9,  -999.00,9,   -999.0,9,   -999.0,9,  -999.0,-999.0000,-999.000,  -999.0,-999.000
   31WTTUNES_1,  P17C,    98,  4,     64,     64,2,19910702,0312, -0.0117,-135.1250, 4318,   1568.5,   2.8908,  34.6067,2,  34.6081,2,   -999.0,9,  2.7785,     94.9,2,  -999.00,9,  -999.00,9,  -999.00,9,  -999.00,9, -999.000,9, -999.000,9, -999.000,9,-999.0000,9,  -999.00,9,   -999.0,9,  -999.00,9,   -999.0,9,   -999.0,9,  -999.0,-999.0000,-999.000,  -999.0,-999.000
   31WTTUNES_1,  P17C,    98,  4,     65,     65,2,19910702,0312, -0.0117,-135.1250, 4318,   1770.9,   2.4073,  34.6309,2,  34.6348,2,   -999.0,9,  2.2841,    103.1,2,  -999.00,9,  -999.00,9,  -999.00,9,  -999.00,9, -999.000,9, -999.000,9, -999.000,9,-999.0000,9,  -999.00,9,   -999.0,9,  -999.00,9,   -999.0,9,   -999.0,9,  -999.0,-999.0000,-999.000,  -999.0,-999.000
   31WTTUNES_1,  P17C,    98,  4,     66,     66,2,19910702,0312, -0.0117,-135.1250, 4318,   1942.9,   2.2804,  34.6395,2,  34.6422,2,   -999.0,9,  2.1445,    105.2,2,  -999.00,9,  -999.00,9,  -999.00,9,  -999.00,9, -999.000,9, -999.000,9, -999.000,9,-999.0000,9,  -999.00,9,   -999.0,9,  -999.00,9,   -999.0,9,   -999.0,9,  -999.0,-999.0000,-999.000,  -999.0,-999.000
   31WTTUNES_1,  P17C,    98,  4,     67,     67,2,19910702,0312, -0.0117,-135.1250, 4318,   2118.2,   2.0765,  34.6497,2,  34.6516,2,   -999.0,9,  1.9288,    112.4,2,  -999.00,9,  -999.00,9,  -999.00,9,  -999.00,9, -999.000,9, -999.000,9, -999.000,9,-999.0000,9,  -999.00,9,   -999.0,9,  -999.00,9,   -999.0,9,   -999.0,9,  -999.0,-999.0000,-999.000,  -999.0,-999.000
   31WTTUNES_1,  P17C,    98,  4,     68,     68,2,19910702,0312, -0.0117,-135.1250, 4318,   2205.4,   2.0096,  34.6529,2,  34.6559,2,   -999.0,9,  1.8554,    115.3,2,  -999.00,9,  -999.00,9,  -999.00,9,  -999.00,9, -999.000,9, -999.000,9, -999.000,9,-999.0000,9,  -999.00,9,   -999.0,9,  -999.00,9,   -999.0,9,   -999.0,9,  -999.0,-999.0000,-999.000,  -999.0,-999.000
   31WTTUNES_1,  P17C,    98,  4,     69,     69,3,19910702,0312, -0.0117,-135.1250, 4318,   2293.4,   1.9646,  34.6546,2,  34.6359,4,   -999.0,9,  1.8035,    105.3,4,  -999.00,9,  -999.00,9,  -999.00,9,  -999.00,9, -999.000,9, -999.000,9, -999.000,9,-999.0000,9,  -999.00,9,   -999.0,9,  -999.00,9,   -999.0,9,   -999.0,9,  -999.0,-999.0000,-999.000,  -999.0,-999.000
   31WTTUNES_1,  P17C,    98,  4,     70,     70,2,19910702,0312, -0.0117,-135.1250, 4318,   2432.7,   1.9047,  34.6591,2,  34.6761,4,   -999.0,9,  1.7322,    119.4,2,  -999.00,9,  -999.00,9,  -999.00,9,  -999.00,9, -999.000,9, -999.000,9, -999.000,9,-999.0000,9,  -999.00,9,   -999.0,9,  -999.00,9,   -999.0,9,   -999.0,9,  -999.0,-999.0000,-999.000,  -999.0,-999.000
   31WTTUNES_1,  P17C,    98,  4,     71,     71,2,19910702,0312, -0.0117,-135.1250, 4318,   4380.4,   1.4351,  34.6952,2,  34.6954,2,   -999.0,9,  1.0758,    161.6,2,  -999.00,9,  -999.00,9,  -999.00,9,  -999.00,9, -999.000,9, -999.000,9, -999.000,9,-999.0000,9,  -999.00,9,   -999.0,9,  -999.00,9,   -999.0,9,   -999.0,9,  -999.0,-999.0000,-999.000,  -999.0,-999.000