BOTTLE,20220819CCHSIOAMB
EXPOCODE,SECT_ID,STNNBR,CASTNO,SAMPNO,BTLNBR,BTLNBR_FLAG_W,DATE,TIME,LATITUDE,LONGITUDE,DEPTH,CTDPRS,CTDTMP,CTDSAL,CTDSAL_FLAG_W,SALNTY,SALNTY_FLAG_W,CTDOXY,CTDOXY_FLAG_W,THETA,OXYGEN,OXYGEN_FLAG_W,SILCAT,SILCAT_FLAG_W,NITRAT,NITRAT_FLAG_W,NITRIT,NITRIT_FLAG_W,PHSPHT,PHSPHT_FLAG_W,CFC-11,CFC-11_FLAG_W,CFC-12,CFC-12_FLAG_W,TRITUM,TRITUM_FLAG_W,HELIUM,HELIUM_FLAG_W,DELHE3,DELHE3_FLAG_W,DELC14,DELC14_FLAG_W,DELC13,DELC13_FLAG_W,TCARBN,TCARBN_FLAG_W,ALKALI,ALKALI_FLAG_W,C14ERR,HELIER,DELHER,C13ERR,TRITER
,,,,,,,,,,,,DBAR,ITS-90,PSS-78,,PSS-78,,UMOL/KG,,DEG C,UMOL/KG,,UMOL/KG,,UMOL/KG,,UMOL/KG,,UMOL/KG,,PMOL/KG,,PMOL/KG,,TU,,NMOL/KG,,PERCNT,,/MILLE,,/MILLE,,UMOL/KG,,UMOL/KG,,/MILLE,NMOL/KG,PERCNT,/MILLE,TU
   31WTTUNES_1,  P17C,   105,  1,     61,     61,2,19910703,0816, -1.1417,-135.0017, 4486,      2.2,  27.3615,  35.3578,2,  35.3588,2,   -999.0,9, 27.3610,   -999.0,9,  -999.00,9,  -999.00,9,  -999.00,9,  -999.00,9, -999.000,9, -999.000,9, -999.000,9,-999.0000,9,  -999.00,9,   -999.0,9,  -999.00,9,   -999.0,9,   -999.0,9,  -999.0,-999.0000,-999.000,  -999.0,-999.000
   31WTTUNES_1,  P17C,   105,  1,     62,     62,2,19910703,0816, -1.1417,-135.0017, 4486,     35.0,  27.2985,  35.3600,2,  35.3608,2,   -999.0,9, 27.2904,   -999.0,9,  -999.00,9,  -999.00,9,  -999.00,9,  -999.00,9, -999.000,9, -999.000,9, -999.000,9,-999.0000,9,  -999.00,9,   -999.0,9,  -999.00,9,   -999.0,9,   -999.0,9,  -999.0,-999.0000,-999.000,  -999.0,-999.000
   31WTTUNES_1,  P17C,   105,  1,     63,     63,2,19910703,0816, -1.1417,-135.0017, 4486,    232.2,  11.9751,  34.8489,2,  34.8492,2,   -999.0,9, 11.9448,   -999.0,9,  -999.00,9,  -999.00,9,  -999.00,9,  -999.00,9, -999.000,9, -999.000,9, -999.000,9,-999.0000,9,  -999.00,9,   -999.0,9,  -999.00,9,   -999.0,9,   -999.0,9,  -999.0,-999.0000,-999.000,  -999.0,-999.000
   31WTTUNES_1,  P17C,   105,  1,     64,     64,2,19910703,0816, -1.1417,-135.0017, 4486,    403.3,   9.6306,  34.7107,2,  34.7138,2,   -999.0,9,  9.5846,   -999.0,9,  -999.00,9,  -999.00,9,  -999.00,9,  -999.00,9, -999.000,9, -999.000,9, -999.000,9,-999.0000,9,  -999.00,9,   -999.0,9,  -999.00,9,   -999.0,9,   -999.0,9,  -999.0,-999.0000,-999.000,  -999.0,-999.000
   31WTTUNES_1,  P17C,   105,  1,     65,     65,2,19910703,0816, -1.1417,-135.0017, 4486,    595.4,   6.9436,  34.5770,2,  34.5778,2,   -999.0,9,  6.8868,   -999.0,9,  -999.00,9,  -999.00,9,  -999.00,9,  -999.00,9, -999.000,9, -999.000,9, -999.000,9,-999.0000,9,  -999.00,9,   -999.0,9,  -999.00,9,   -999.0,9,   -999.0,9,  -999.0,-999.0000,-999.000,  -999.0,-999.000
   31WTTUNES_1,  P17C,   105,  1,     66,     66,2,19910703,0816, -1.1417,-135.0017, 4486,    895.3,   5.0730,  34.5448,2,  34.5465,2,   -999.0,9,  4.9986,   -999.0,9,  -999.00,9,  -999.00,9,  -999.00,9,  -999.00,9, -999.000,9, -999.000,9, -999.000,9,-999.0000,9,  -999.00,9,   -999.0,9,  -999.00,9,   -999.0,9,   -999.0,9,  -999.0,-999.0000,-999.000,  -999.0,-999.000
   31WTTUNES_1,  P17C,   105,  1,     67,     67,2,19910703,0816, -1.1417,-135.0017, 4486,   1024.0,   4.4196,  34.5526,2,  34.5548,2,   -999.0,9,  4.3385,   -999.0,9,  -999.00,9,  -999.00,9,  -999.00,9,  -999.00,9, -999.000,9, -999.000,9, -999.000,9,-999.0000,9,  -999.00,9,   -999.0,9,  -999.00,9,   -999.0,9,   -999.0,9,  -999.0,-999.0000,-999.000,  -999.0,-999.000
   31WTTUNES_1,  P17C,   105,  1,     68,     68,2,19910703,0816, -1.1417,-135.0017, 4486,   1900.8,   2.4292,  34.6354,2,  34.6373,2,   -999.0,9,  2.2948,   -999.0,9,  -999.00,9,  -999.00,9,  -999.00,9,  -999.00,9, -999.000,9, -999.000,9, -999.000,9,-999.0000,9,  -999.00,9,   -999.0,9,  -999.00,9,   -999.0,9,   -999.0,9,  -999.0,-999.0000,-999.000,  -999.0,-999.000
   31WTTUNES_1,  P17C,   105,  1,     69,     69,3,19910703,0816, -1.1417,-135.0017, 4486,   2894.1,   1.6589,  34.6731,2,  34.6668,4,   -999.0,9,  1.4487,   -999.0,9,  -999.00,9,  -999.00,9,  -999.00,9,  -999.00,9, -999.000,9, -999.000,9, -999.000,9,-999.0000,9,  -999.00,9,   -999.0,9,  -999.00,9,   -999.0,9,   -999.0,9,  -999.0,-999.0000,-999.000,  -999.0,-999.000
   31WTTUNES_1,  P17C,   105,  1,     70,     70,2,19910703,0816, -1.1417,-135.0017, 4486,   3923.3,   1.4141,  34.6911,2,  34.6937,2,   -999.0,9,  1.1059,   -999.0,9,  -999.00,9,  -999.00,9,  -999.00,9,  -999.00,9, -999.000,9, -999.000,9, -999.000,9,-999.0000,9,  -999.00,9,   -999.0,9,  -999.00,9,   -999.0,9,   -999.0,9,  -999.0,-999.0000,-999.000,  -999.0,-999.000
   31WTTUNES_1,  P17C,   105,  1,     71,     71,2,19910703,0816, -1.1417,-135.0017, 4486,   4554.1,   1.4471,  34.6945,2,  34.6954,2,   -999.0,9,  1.0675,   -999.0,9,  -999.00,9,  -999.00,9,  -999.00,9,  -999.00,9, -999.000,9, -999.000,9, -999.000,9,-999.0000,9,  -999.00,9,   -999.0,9,  -999.00,9,   -999.0,9,   -999.0,9,  -999.0,-999.0000,-999.000,  -999.0,-999.000
   31WTTUNES_1,  P17C,   106,  1,      1,      1,2,19910703,1156, -1.3250,-135.0000, 4365,      0.3,  27.3340,  35.3571,2,  35.3605,2,    197.2,3, 27.3339,    202.3,2,     3.19,2,     5.08,2,     0.41,2,     0.56,2,    1.686,2,    0.900,2,    1.151,2,   1.7150,2,    -1.21,2,   -999.0,9,  -999.00,9,   -999.0,9,   -999.0,9,  -999.0,  0.0080,   0.150,  -999.0,   0.008
   31WTTUNES_1,  P17C,   106,  1,      2,      2,2,19910703,1156, -1.3250,-135.0000, 4365,     67.3,  25.8863,  35.4912,2,  35.5153,2,    183.0,2, 25.8713,    188.6,2,     3.36,2,     6.10,2,     0.42,2,     0.78,2,    1.795,2,    0.952,2,    0.965,2,   1.7200,2,    -0.77,2,   -999.0,9,  -999.00,9,   -999.0,9,   -999.0,9,  -999.0,  0.0080,   0.150,  -999.0,   0.007
   31WTTUNES_1,  P17C,   106,  1,      3,      3,2,19910703,1156, -1.3250,-135.0000, 4365,     83.2,  23.4089,  35.6518,2,  35.6461,2,    163.6,2, 23.3917,    161.9,2,     3.36,2,     8.88,2,     1.99,2,     0.91,2,    1.795,2,    0.954,2,    0.755,2,   1.7540,2,    -0.48,2,   -999.0,9,  -999.00,9,   -999.0,9,   -999.0,9,  -999.0,  0.0080,   0.150,  -999.0,   0.006
   31WTTUNES_1,  P17C,   106,  1,      4,      4,2,19910703,1156, -1.3250,-135.0000, 4365,     93.3,  20.9961,  35.6185,2,  35.5901,2,    129.9,2, 20.9782,    127.2,2,     5.06,2,    13.35,2,     1.88,2,     1.09,2,    1.630,2,    0.849,2,    0.693,2,   1.7910,2,     0.40,2,   -999.0,9,  -999.00,9,   -999.0,9,   -999.0,9,  -999.0,  0.0080,   0.150,  -999.0,   0.006
   31WTTUNES_1,  P17C,   106,  1,      5,      5,2,19910703,1156, -1.3250,-135.0000, 4365,    108.5,  17.4165,  35.3956,2,  35.3771,2,     94.1,2, 17.3983,     94.1,2,     9.98,2,    18.24,2,     0.03,2,     1.38,2,    1.138,2,    0.578,2,    0.574,2,   1.8040,2,     2.10,2,   -999.0,9,  -999.00,9,   -999.0,9,   -999.0,9,  -999.0,  0.0080,   0.150,  -999.0,   0.005
   31WTTUNES_1,  P17C,   106,  1,      6,      6,2,19910703,1156, -1.3250,-135.0000, 4365,    131.4,  14.8938,  35.1433,2,  35.1391,2,     89.0,2, 14.8740,     90.0,2,    14.15,2,    21.31,2,     0.01,2,     1.54,2,    0.768,2,    0.413,2,    0.455,2,   1.7840,2,     3.54,2,   -999.0,9,  -999.00,9,   -999.0,9,   -999.0,9,  -999.0,  0.0080,   0.150,  -999.0,   0.005
   31WTTUNES_1,  P17C,   106,  1,      7,      7,2,19910703,1156, -1.3250,-135.0000, 4365,    150.2,  14.1257,  35.0743,2,  35.0741,2,     89.1,2, 14.1039,     95.0,2,    15.09,2,    21.85,2,     0.01,2,     1.57,2,    0.693,2,    0.375,2,    0.475,2,   1.8180,2,     3.60,2,   -999.0,9,  -999.00,9,   -999.0,9,   -999.0,9,  -999.0,  0.0090,   0.150,  -999.0,   0.005
   31WTTUNES_1,  P17C,   106,  1,      8,      8,2,19910703,1156, -1.3250,-135.0000, 4365,    176.3,  12.9573,  34.9530,2,  34.9450,2,     87.8,2, 12.9332,     84.3,2,    19.63,2,    24.67,2,     0.01,2,     1.73,2,    0.517,2,    0.280,2,    0.443,2,   1.7990,2,     4.46,2,   -999.0,9,  -999.00,9,   -999.0,9,   -999.0,9,  -999.0,  0.0080,   0.150,  -999.0,   0.005
   31WTTUNES_1,  P17C,   106,  1,      9,      9,2,19910703,1156, -1.3250,-135.0000, 4365,    223.0,  11.9813,  34.8473,2,  34.8482,2,     62.1,2, 11.9523,     61.1,2,    24.37,2,    28.45,2,     0.00,2,     1.95,2,    0.358,2,    0.210,2,    0.381,2,   1.7990,2,     5.64,2,   -999.0,9,  -999.00,9,   -999.0,9,   -999.0,9,  -999.0,  0.0080,   0.150,  -999.0,   0.004
   31WTTUNES_1,  P17C,   106,  1,     10,     10,2,19910703,1156, -1.3250,-135.0000, 4365,    303.6,  11.3738,  34.8077,2,  34.8097,2,     37.3,2, 11.3355,     37.3,2,    28.53,2,    31.80,2,     0.00,2,     2.17,2,    0.206,2,    0.124,2,    0.298,2,   1.8240,2,     5.72,2,   -999.0,9,  -999.00,9,   -999.0,9,   -999.0,9,  -999.0,  0.0090,   0.150,  -999.0,   0.004
   31WTTUNES_1,  P17C,   106,  1,     11,     11,2,19910703,1156, -1.3250,-135.0000, 4365,    350.1,  10.2436,  34.7558,2,  34.7468,2,     47.2,2, 10.2021,     46.3,2,    31.18,2,    33.12,2,     0.00,2,     2.25,2,    0.125,2,    0.080,2,    0.141,2,   1.8300,2,     5.41,2,   -999.0,9,  -999.00,9,   -999.0,9,   -999.0,9,  -999.0,  0.0090,   0.150,  -999.0,   0.003
   31WTTUNES_1,  P17C,   106,  1,     12,     12,2,19910703,1156, -1.3250,-135.0000, 4365,    385.9,   9.6966,  34.7108,2,  34.7118,2,     22.7,2,  9.6524,     23.7,2,    37.04,2,    36.69,2,     0.00,2,     2.48,2,    0.058,2,    0.036,2,    0.113,2,   1.8330,2,     5.93,2,   -999.0,9,  -999.00,9,   -999.0,9,   -999.0,9,  -999.0,  0.0090,   0.150,  -999.0,   0.003
   31WTTUNES_1,  P17C,   106,  1,     13,     13,2,19910703,1156, -1.3250,-135.0000, 4365,    441.6,   8.5738,  34.6528,2,  34.6511,2,     44.1,2,  8.5268,     43.2,2,    39.31,2,    36.74,2,     0.00,2,     2.48,2,    0.032,2,    0.024,2, -999.000,9,-999.0000,9,  -999.00,9,   -999.0,9,  -999.00,9,   -999.0,9,   -999.0,9,  -999.0,-999.0000,-999.000,  -999.0,-999.000
   31WTTUNES_1,  P17C,   106,  1,     14,     14,2,19910703,1156, -1.3250,-135.0000, 4365,    503.1,   7.7112,  34.6081,2,  34.6116,2,     47.6,2,  7.6607,     45.6,2,    44.80,2,    38.30,2,     0.00,2,     2.60,2,    0.014,2,    0.009,2, -999.000,9,-999.0000,9,  -999.00,9,   -999.0,9,  -999.00,9,   -999.0,9,   -999.0,9,  -999.0,-999.0000,-999.000,  -999.0,-999.000
   31WTTUNES_1,  P17C,   106,  1,     15,     15,2,19910703,1156, -1.3250,-135.0000, 4365,    605.4,   6.9453,  34.5751,2,  34.5743,2,     63.9,2,  6.8875,     65.6,2,    50.29,2,    37.99,2,     0.00,2,     2.60,2,    0.010,2,    0.009,2, -999.000,9,-999.0000,9,  -999.00,9,   -999.0,9,  -999.00,9,   -999.0,9,   -999.0,9,  -999.0,-999.0000,-999.000,  -999.0,-999.000
   31WTTUNES_1,  P17C,   106,  1,     16,     16,2,19910703,1156, -1.3250,-135.0000, 4365,    708.2,   6.1497,  34.5554,2,  34.5557,2,     69.5,2,  6.0859,     70.4,2,    59.56,2,    38.88,2,     0.00,2,     2.68,2,    0.004,2,    0.006,2, -999.000,9,-999.0000,9,  -999.00,9,   -999.0,9,  -999.00,9,   -999.0,9,   -999.0,9,  -999.0,-999.0000,-999.000,  -999.0,-999.000
   31WTTUNES_1,  P17C,   106,  1,     17,     17,2,19910703,1156, -1.3250,-135.0000, 4365,    811.0,   5.5197,  34.5445,2,  34.5480,2,     74.9,2,  5.4500,     76.7,2,    68.46,2,    39.19,2,     0.00,2,     2.69,2,   -0.001,2,    0.007,2, -999.000,9,-999.0000,9,  -999.00,9,   -999.0,9,  -999.00,9,   -999.0,9,   -999.0,9,  -999.0,-999.0000,-999.000,  -999.0,-999.000
   31WTTUNES_1,  P17C,   106,  1,     18,     18,2,19910703,1156, -1.3250,-135.0000, 4365,    908.1,   4.9578,  34.5439,2,  34.5461,2,     87.7,2,  4.8830,     88.1,2,    76.03,2,    38.62,2,     0.00,2,     2.66,2,   -0.001,2,    0.004,2, -999.000,9,-999.0000,9,  -999.00,9,   -999.0,9,  -999.00,9,   -999.0,9,   -999.0,9,  -999.0,-999.0000,-999.000,  -999.0,-999.000
   31WTTUNES_1,  P17C,   106,  1,     19,     19,2,19910703,1156, -1.3250,-135.0000, 4365,   1010.8,   4.5212,  34.5492,2,  34.5523,2,     90.9,2,  4.4405,     91.9,2,    84.35,2,    38.83,2,     0.00,2,     2.68,2,   -0.002,2,    0.003,2, -999.000,9,-999.0000,9,  -999.00,9,   -999.0,9,  -999.00,9,   -999.0,9,   -999.0,9,  -999.0,-999.0000,-999.000,  -999.0,-999.000
   31WTTUNES_1,  P17C,   106,  1,     20,     20,2,19910703,1156, -1.3250,-135.0000, 4365,   1210.7,   3.7858,  34.5712,2,  34.5748,2,     89.6,2,  3.6941,     90.0,2,   101.38,2,    39.46,2,     0.00,2,     2.74,2,   -0.003,2,    0.004,2, -999.000,9,-999.0000,9,  -999.00,9,   -999.0,9,  -999.00,9,   -999.0,9,   -999.0,9,  -999.0,-999.0000,-999.000,  -999.0,-999.000
   31WTTUNES_1,  P17C,   106,  1,     21,     21,2,19910703,1156, -1.3250,-135.0000, 4365,   1411.3,   3.1912,  34.5932,2,  34.5950,2,     96.5,2,  3.0886,     96.1,2,   114.81,2,    39.36,2,     0.00,2,     2.73,2, -999.000,9, -999.000,9, -999.000,9,-999.0000,9,  -999.00,9,   -999.0,9,  -999.00,9,   -999.0,9,   -999.0,9,  -999.0,-999.0000,-999.000,  -999.0,-999.000
   31WTTUNES_1,  P17C,   106,  1,     22,     22,2,19910703,1156, -1.3250,-135.0000, 4365,   1617.3,   2.8322,  34.6107,2,  34.6119,2,     99.5,2,  2.7165,     99.4,2,   124.08,2,    39.26,2,     0.00,2,     2.71,2, -999.000,9, -999.000,9, -999.000,9,-999.0000,9,  -999.00,9,   -999.0,9,  -999.00,9,   -999.0,9,   -999.0,9,  -999.0,-999.0000,-999.000,  -999.0,-999.000
   31WTTUNES_1,  P17C,   106,  1,     23,     23,2,19910703,1156, -1.3250,-135.0000, 4365,   1817.4,   2.5598,  34.6270,2,  34.6294,2,    100.1,2,  2.4307,     99.2,2,   133.91,2,    39.36,2,     0.00,2,     2.71,2, -999.000,9, -999.000,9, -999.000,9,-999.0000,9,  -999.00,9,   -999.0,9,  -999.00,9,   -999.0,9,   -999.0,9,  -999.0,-999.0000,-999.000,  -999.0,-999.000
   31WTTUNES_1,  P17C,   106,  1,     24,     24,2,19910703,1156, -1.3250,-135.0000, 4365,   2022.6,   2.3275,  34.6423,2,  34.6439,2,    104.0,2,  2.1841,    102.7,2,   141.28,2,    39.00,2,     0.00,2,     2.68,2, -999.000,9, -999.000,9, -999.000,9,-999.0000,9,  -999.00,9,   -999.0,9,  -999.00,9,   -999.0,9,   -999.0,9,  -999.0,-999.0000,-999.000,  -999.0,-999.000
   31WTTUNES_1,  P17C,   106,  1,     25,     25,2,19910703,1156, -1.3250,-135.0000, 4365,   2201.6,   2.1157,  34.6494,2,  34.6512,2,    110.9,2,  1.9601,    111.3,2,   144.30,2,    38.63,2,     0.00,2,     2.64,2, -999.000,9, -999.000,9, -999.000,9,-999.0000,9,  -999.00,9,   -999.0,9,  -999.00,9,   -999.0,9,   -999.0,9,  -999.0,-999.0000,-999.000,  -999.0,-999.000
   31WTTUNES_1,  P17C,   106,  1,     26,     26,2,19910703,1156, -1.3250,-135.0000, 4365,   2368.4,   1.9707,  34.6568,2,  34.6575,2,    120.1,2,  1.8028,    121.4,2,   144.10,2,    38.06,2,     0.00,2,     2.59,2, -999.000,9, -999.000,9, -999.000,9,-999.0000,9,  -999.00,9,   -999.0,9,  -999.00,9,   -999.0,9,   -999.0,9,  -999.0,-999.0000,-999.000,  -999.0,-999.000
   31WTTUNES_1,  P17C,   106,  1,     27,     27,2,19910703,1156, -1.3250,-135.0000, 4365,   2530.2,   1.8313,  34.6630,2,  34.6640,2,    128.0,2,  1.6514,    128.3,2,   143.33,2,    37.39,2,     0.00,2,     2.53,2, -999.000,9, -999.000,9, -999.000,9,-999.0000,9,  -999.00,9,   -999.0,9,  -999.00,9,   -999.0,9,   -999.0,9,  -999.0,-999.0000,-999.000,  -999.0,-999.000
   31WTTUNES_1,  P17C,   106,  1,     28,     28,2,19910703,1156, -1.3250,-135.0000, 4365,   2692.7,   1.7278,  34.6689,2,  34.6689,2,    131.6,2,  1.5351,    135.4,2,   144.64,2,    37.18,2,     0.00,2,     2.51,2, -999.000,9, -999.000,9, -999.000,9,-999.0000,9,  -999.00,9,   -999.0,9,  -999.00,9,   -999.0,9,   -999.0,9,  -999.0,-999.0000,-999.000,  -999.0,-999.000
   31WTTUNES_1,  P17C,   106,  1,     29,     29,2,19910703,1156, -1.3250,-135.0000, 4365,   2865.4,   1.6531,  34.6735,2,  34.6729,2,    136.6,2,  1.4457,    139.2,2,   145.38,2,    36.82,2,     0.00,2,     2.48,2, -999.000,9, -999.000,9, -999.000,9,-999.0000,9,  -999.00,9,   -999.0,9,  -999.00,9,   -999.0,9,   -999.0,9,  -999.0,-999.0000,-999.000,  -999.0,-999.000
   31WTTUNES_1,  P17C,   106,  1,     30,     30,2,19910703,1156, -1.3250,-135.0000, 4365,   3038.6,   1.6162,  34.6763,2,  34.6768,2,    140.0,2,  1.3932,    141.9,2,   146.51,2,    36.77,2,     0.00,2,     2.47,2, -999.000,9, -999.000,9, -999.000,9,-999.0000,9,  -999.00,9,   -999.0,9,  -999.00,9,   -999.0,9,   -999.0,9,  -999.0,-999.0000,-999.000,  -999.0,-999.000
   31WTTUNES_1,  P17C,   106,  1,     31,     31,2,19910703,1156, -1.3250,-135.0000, 4365,   3293.9,   1.5655,  34.6824,2,  34.6814,2,    144.2,2,  1.3185,    145.0,2,   146.87,2,    36.36,2,     0.00,2,     2.45,2, -999.000,9, -999.000,9, -999.000,9,-999.0000,9,  -999.00,9,   -999.0,9,  -999.00,9,   -999.0,9,   -999.0,9,  -999.0,-999.0000,-999.000,  -999.0,-999.000
   31WTTUNES_1,  P17C,   106,  1,     32,     32,2,19910703,1156, -1.3250,-135.0000, 4365,   3552.8,   1.4915,  34.6896,2,  34.6880,2,    150.4,2,  1.2201,    150.3,2,   148.75,2,    36.26,2,     0.00,2,     2.41,2, -999.000,9, -999.000,9, -999.000,9,-999.0000,9,  -999.00,9,   -999.0,9,  -999.00,9,   -999.0,9,   -999.0,9,  -999.0,-999.0000,-999.000,  -999.0,-999.000
   31WTTUNES_1,  P17C,   106,  1,     33,     33,2,19910703,1156, -1.3250,-135.0000, 4365,   3799.2,   1.4171,  34.6933,2,  34.6930,2,    159.1,2,  1.1219,    159.3,2,   146.66,2,    35.60,2,     0.00,2,     2.37,2, -999.000,9, -999.000,9, -999.000,9,-999.0000,9,  -999.00,9,   -999.0,9,  -999.00,9,   -999.0,9,   -999.0,9,  -999.0,-999.0000,-999.000,  -999.0,-999.000
   31WTTUNES_1,  P17C,   106,  1,     34,     34,2,19910703,1156, -1.3250,-135.0000, 4365,   4062.0,   1.4231,  34.6946,2,  34.6938,2,    163.3,2,  1.0995,    163.1,2,   144.56,2,    35.34,2,     0.00,2,     2.34,2, -999.000,9, -999.000,9, -999.000,9,-999.0000,9,  -999.00,9,   -999.0,9,  -999.00,9,   -999.0,9,   -999.0,9,  -999.0,-999.0000,-999.000,  -999.0,-999.000
   31WTTUNES_1,  P17C,   106,  1,     35,     35,2,19910703,1156, -1.3250,-135.0000, 4365,   4260.5,   1.4286,  34.6964,2,  34.6950,2,    166.6,2,  1.0829,    166.0,2,   141.71,2,    35.19,2,     0.00,2,     2.33,2, -999.000,9, -999.000,9, -999.000,9,-999.0000,9,  -999.00,9,   -999.0,9,  -999.00,9,   -999.0,9,   -999.0,9,  -999.0,-999.0000,-999.000,  -999.0,-999.000
   31WTTUNES_1,  P17C,   106,  1,     36,     36,2,19910703,1156, -1.3250,-135.0000, 4365,   4446.1,   1.4392,  34.6969,2,  34.6959,2,   -999.0,9,  1.0723,    169.2,2,   140.00,2,    34.83,2,     0.00,2,     2.32,2, -999.000,9, -999.000,9, -999.000,9,-999.0000,9,  -999.00,9,   -999.0,9,  -999.00,9,   -999.0,9,   -999.0,9,  -999.0,-999.0000,-999.000,  -999.0,-999.000