BOTTLE,20220819CCHSIOAMB
EXPOCODE,SECT_ID,STNNBR,CASTNO,SAMPNO,BTLNBR,BTLNBR_FLAG_W,DATE,TIME,LATITUDE,LONGITUDE,DEPTH,CTDPRS,CTDTMP,CTDSAL,CTDSAL_FLAG_W,SALNTY,SALNTY_FLAG_W,CTDOXY,CTDOXY_FLAG_W,THETA,OXYGEN,OXYGEN_FLAG_W,SILCAT,SILCAT_FLAG_W,NITRAT,NITRAT_FLAG_W,NITRIT,NITRIT_FLAG_W,PHSPHT,PHSPHT_FLAG_W,CFC-11,CFC-11_FLAG_W,CFC-12,CFC-12_FLAG_W,TRITUM,TRITUM_FLAG_W,HELIUM,HELIUM_FLAG_W,DELHE3,DELHE3_FLAG_W,DELC14,DELC14_FLAG_W,DELC13,DELC13_FLAG_W,TCARBN,TCARBN_FLAG_W,ALKALI,ALKALI_FLAG_W,C14ERR,HELIER,DELHER,C13ERR,TRITER
,,,,,,,,,,,,DBAR,ITS-90,PSS-78,,PSS-78,,UMOL/KG,,DEG C,UMOL/KG,,UMOL/KG,,UMOL/KG,,UMOL/KG,,UMOL/KG,,PMOL/KG,,PMOL/KG,,TU,,NMOL/KG,,PERCNT,,/MILLE,,/MILLE,,UMOL/KG,,UMOL/KG,,/MILLE,NMOL/KG,PERCNT,/MILLE,TU
   31WTTUNES_1,  P17C,    86,  1,     12,     12,2,19910629,1243,  2.0000,-134.9900, 4516,      0.2,  27.5499,  34.8589,2,  34.8648,2,    204.6,3, 27.5498,    207.3,2,     2.90,2,     3.21,2,     0.31,2,     0.41,2,    1.637,2,    0.913,2, -999.000,9,-999.0000,9,  -999.00,9,     87.2,2,     1.39,2,   1998.2,2,   2293.1,2,     4.9,-999.0000,-999.000,  -999.0,-999.000
   31WTTUNES_1,  P17C,    86,  1,      1,      1,2,19910629,1243,  2.0000,-134.9900, 4516,     65.9,  26.6537,  34.8398,2,  34.8355,2,    188.2,2, 26.6387,    194.1,2,     2.89,2,     4.03,2,     0.52,2,     0.50,2,    1.605,2,    0.917,2,    1.439,2,   1.7170,2,    -0.69,2,     94.0,2,     1.31,2,   2044.1,2,   2287.4,2,     7.3,  0.0080,   0.150,  -999.0,   0.012
   31WTTUNES_1,  P17C,    86,  1,      2,      2,2,19910629,1243,  2.0000,-134.9900, 4516,     82.1,  23.4322,  34.8710,2,  34.7936,3,    161.1,2, 23.4152,    153.5,2,     4.95,2,     7.93,2,     1.09,2,     0.77,2,    1.571,2,    0.869,2,    1.530,2,   1.7530,2,     1.15,2,     76.5,2,     0.81,2,   2092.1,2,   -999.0,9,     5.2,  0.0080,   0.150,  -999.0,   0.012
   31WTTUNES_1,  P17C,    86,  1,      3,      3,2,19910629,1243,  2.0000,-134.9900, 4516,     92.4,  21.4649,  34.8203,2,  34.7930,2,    133.4,2, 21.4470,    117.3,2,     9.66,2,    13.54,2,     0.54,2,     1.06,2,    1.378,2,    0.756,2,    1.633,2,   1.7760,2,     4.27,2,     69.3,2,  -999.00,9,   2123.1,2,   -999.0,9,     5.2,  0.0080,   0.150,  -999.0,   0.013
   31WTTUNES_1,  P17C,    86,  1,      4,      4,2,19910629,1243,  2.0000,-134.9900, 4516,    102.8,  17.6456,  34.7610,2,  34.7411,2,    102.7,2, 17.6282,    102.1,2,    14.19,2,    17.52,2,     0.13,2,     1.29,2,    1.174,2,    0.640,2,    1.547,2,   1.7940,2,     6.17,2,     48.5,2,     0.45,2,   2150.8,2,   2290.0,2,     5.6,  0.0080,   0.150,  -999.0,   0.012
   31WTTUNES_1,  P17C,    86,  1,      5,      5,2,19910629,1243,  2.0000,-134.9900, 4516,    118.5,  16.0486,  34.7327,2,  34.7358,2,     90.7,2, 16.0299,     87.4,2,    17.77,2,    21.05,2,     0.08,2,     1.52,2,    0.947,2,    0.516,2,    1.363,2,   1.8210,2,     6.84,2,     33.4,2,     0.32,2,   2204.9,2,   -999.0,9,     3.7,  0.0090,   0.150,  -999.0,   0.012
   31WTTUNES_1,  P17C,    86,  1,      6,      6,2,19910629,1243,  2.0000,-134.9900, 4516,    158.6,  12.8708,  34.8631,2,  34.8681,2,     58.2,2, 12.8492,     52.1,2,    23.23,2,    28.11,2,     0.01,2,     1.95,2,    0.441,2,    0.257,2,    0.614,2,   1.7850,2,     6.19,2,    -10.6,2,     0.21,2,   -999.0,9,   2300.5,2,     5.3,  0.0080,   0.150,  -999.0,   0.008
   31WTTUNES_1,  P17C,    86,  1,      7,      7,2,19910629,1243,  2.0000,-134.9900, 4516,    178.3,  12.5356,  34.8669,2,  34.8677,2,     38.5,2, 12.5117,     38.6,2,    24.35,2,    29.93,2,     0.01,2,     2.06,2,    0.336,2,    0.192,2,    0.500,2,   1.8190,2,     6.15,2,    -24.8,2,     0.18,2,   2222.8,2,   -999.0,9,    10.1,  0.0090,   0.150,  -999.0,   0.007
   31WTTUNES_1,  P17C,    86,  1,      8,      8,2,19910629,1243,  2.0000,-134.9900, 4516,    209.0,  12.1723,  34.8438,2,  34.8446,2,     35.2,2, 12.1448,     38.5,2,    25.47,2,    30.63,2,     0.00,2,     2.11,2,    0.288,2,    0.165,2,    0.447,2,   1.8250,2,     5.89,2,    -25.7,2,     0.10,2,   2219.5,2,   2302.8,2,     4.6,  0.0090,   0.150,  -999.0,   0.007
   31WTTUNES_1,  P17C,    86,  1,      9,      9,2,19910629,1243,  2.0000,-134.9900, 4516,    262.0,  11.6427,  34.8136,2,  34.8157,2,     49.4,2, 11.6092,     50.7,2,    25.83,2,    30.08,2,     0.00,2,     2.07,2,    0.258,2,    0.152,2,    0.387,2,   1.8250,2,     5.78,2,    -41.4,2,     0.18,3,   2223.7,2,   -999.0,9,     6.7,  0.0090,   0.150,  -999.0,   0.006
   31WTTUNES_1,  P17C,    86,  1,     10,     10,2,19910629,1243,  2.0000,-134.9900, 4516,    323.6,  10.9705,  34.7704,2,  34.7719,2,     36.5,2, 10.9306,     38.0,2,    29.41,2,    32.41,2,     0.00,2,     2.23,2,    0.181,2,    0.112,2,    0.297,2,   1.8590,2,     6.01,2,    -77.4,2,     0.03,2,   2256.3,2,   2305.3,2,     7.5,  0.0090,   0.150,  -999.0,   0.006
   31WTTUNES_1,  P17C,    86,  1,     11,     11,2,19910629,1243,  2.0000,-134.9900, 4516,    384.8,  10.1032,  34.7283,2,  34.7298,2,     24.7,2, 10.0580,     23.4,2,    34.51,2,    35.22,2,     0.00,2,     2.45,2,    0.086,2,    0.061,2,    0.168,2,   1.8350,2,     6.09,2,    -71.9,2,     0.06,2,   -999.0,9,   -999.0,9,     4.0,  0.0090,   0.150,  -999.0,   0.004
   31WTTUNES_1,  P17C,    86,  1,     13,     13,2,19910629,1243,  2.0000,-134.9900, 4516,    421.0,   9.6359,  34.6845,2,  34.6883,2,     47.8,2,  9.5878,     53.1,2,    33.92,2,    33.27,2,     0.00,2,     2.29,2,    0.114,2,    0.068,2,    0.207,2,   1.8700,2,     6.53,2,    -78.7,2,     0.14,2,   2237.3,2,   2310.7,2,     5.7,  0.0090,   0.150,  -999.0,   0.005
   31WTTUNES_1,  P17C,    86,  1,     14,     14,2,19910629,1243,  2.0000,-134.9900, 4516,    507.1,   8.1980,  34.6228,2,  34.6226,2,     40.2,2,  8.1452,     38.6,2,    43.56,2,    37.29,2,     0.00,2,     2.60,2,    0.023,2,    0.013,2,    0.048,2,   1.8620,2,     7.12,2,   -119.8,2,     0.15,2,   2262.5,2,   -999.0,9,     4.9,  0.0090,   0.150,  -999.0,   0.003
   31WTTUNES_1,  P17C,    86,  1,     15,     15,2,19910629,1243,  2.0000,-134.9900, 4516,    604.5,   6.8879,  34.5681,2,  34.5688,2,     61.1,2,  6.8305,     62.2,2,    53.00,2,    38.08,2,     0.00,2,     2.67,2,    0.012,2,    0.008,2,    0.020,2,   1.8920,2,     9.50,2,   -125.4,2,     0.18,2,   2267.1,2,   2318.0,2,     5.3,  0.0090,   0.150,  -999.0,   0.002
   31WTTUNES_1,  P17C,    86,  1,     16,     16,2,19910629,1243,  2.0000,-134.9900, 4516,    705.9,   6.0380,  34.5493,2,  34.5503,2,     72.3,2,  5.9751,     72.2,2,    60.93,2,    38.60,2,     0.00,2,     2.69,2,    0.007,2,    0.007,2,    0.015,2,   1.8900,2,    11.90,2,   -140.9,2,     0.19,2,   2272.8,2,   -999.0,9,     5.7,  0.0090,   0.150,  -999.0,   0.002
   31WTTUNES_1,  P17C,    86,  1,     17,     17,2,19910629,1243,  2.0000,-134.9900, 4516,    808.1,   5.4427,  34.5438,2,  34.5468,2,     78.5,2,  5.3737,     79.1,2,    69.05,2,    38.70,2,     0.00,2,     2.72,2,    0.002,2,   -0.002,2,    0.008,2,-999.0000,9,  -999.00,9,   -999.0,9,  -999.00,9,   2280.7,2,   -999.0,9,  -999.0,-999.0000,-999.000,  -999.0,   0.002
   31WTTUNES_1,  P17C,    86,  1,     18,     18,2,19910629,1243,  2.0000,-134.9900, 4516,    905.5,   5.1300,  34.5463,2,  34.5479,2,     78.4,2,  5.0542,     79.0,2,    75.46,2,    39.23,2,     0.00,2,     2.76,2,    0.003,2,    0.002,2, -999.000,9,-999.0000,9,  -999.00,9,   -999.0,9,  -999.00,9,   2288.2,2,   -999.0,9,  -999.0,-999.0000,-999.000,  -999.0,-999.000
   31WTTUNES_1,  P17C,    86,  1,     19,     19,2,19910629,1243,  2.0000,-134.9900, 4516,   1009.1,   4.6541,  34.5533,2,  34.5564,2,     75.1,2,  4.5725,     74.1,2,    85.85,2,    40.13,2,     0.00,2,     2.81,2, -999.000,9, -999.000,9, -999.000,9,   1.8620,2,    17.06,2,   -999.0,9,  -999.00,9,   2301.0,2,   2351.7,2,  -999.0,-999.0000,-999.000,  -999.0,-999.000
   31WTTUNES_1,  P17C,    86,  1,     20,     20,2,19910629,1243,  2.0000,-134.9900, 4516,   1209.2,   3.7943,  34.5790,2,  34.5803,2,     75.7,2,  3.7027,     76.6,2,   106.45,2,    40.71,2,     0.00,2,     2.87,2, -999.000,9, -999.000,9, -999.000,9,   1.8850,2,    21.19,2,   -999.0,9,  -999.00,9,   -999.0,9,   -999.0,9,  -999.0,-999.0000,-999.000,  -999.0,-999.000
   31WTTUNES_1,  P17C,    86,  1,     21,     21,2,19910629,1243,  2.0000,-134.9900, 4516,   1414.7,   3.1865,  34.6001,2,  34.6015,2,     84.1,2,  3.0836,     84.0,2,   120.62,2,    40.23,2,     0.00,2,     2.85,2, -999.000,9, -999.000,9, -999.000,9,   1.8930,2,    24.84,2,   -999.0,9,  -999.00,9,   2334.1,2,   -999.0,9,  -999.0,-999.0000,-999.000,  -999.0,-999.000
   31WTTUNES_1,  P17C,    86,  1,     22,     22,2,19910629,1243,  2.0000,-134.9900, 4516,   1614.9,   2.7953,  34.6170,2,  34.6180,2,     89.7,2,  2.6802,     91.6,2,   130.25,2,    39.80,2,     0.00,2,     2.81,2, -999.000,9, -999.000,9, -999.000,9,   1.9120,2,    26.97,2,   -999.0,9,  -999.00,9,   2342.0,2,   -999.0,9,  -999.0,-999.0000,-999.000,  -999.0,-999.000
   31WTTUNES_1,  P17C,    86,  1,     23,     23,2,19910629,1243,  2.0000,-134.9900, 4516,   1820.9,   2.4735,  34.6298,2,  34.6290,2,     98.7,2,  2.3453,    100.9,2,   136.47,2,    39.17,2,     0.00,2,     2.74,2, -999.000,9, -999.000,9, -999.000,9,   1.9130,2,    27.34,2,   -999.0,9,  -999.00,9,   2341.2,2,   -999.0,9,  -999.0,-999.0000,-999.000,  -999.0,-999.000
   31WTTUNES_1,  P17C,    86,  1,     24,     24,2,19910629,1243,  2.0000,-134.9900, 4516,   2021.6,   2.2978,  34.6402,2,  34.6411,2,    103.8,2,  2.1549,    104.0,2,   140.81,2,    39.06,2,     0.00,2,     2.72,2, -999.000,9, -999.000,9, -999.000,9,   1.9270,2,    28.51,2,   -999.0,9,  -999.00,9,   2343.1,2,   -999.0,9,  -999.0,-999.0000,-999.000,  -999.0,-999.000
   31WTTUNES_1,  P17C,    86,  1,     25,     25,2,19910629,1243,  2.0000,-134.9900, 4516,   2195.7,   2.0375,  34.6552,2,  34.6547,2,    111.7,2,  1.8837,    111.3,2,   146.46,2,    38.54,2,     0.00,2,     2.67,2, -999.000,9, -999.000,9, -999.000,9,   1.9270,2,    29.76,2,   -999.0,9,  -999.00,9,   2343.4,2,   2422.7,2,  -999.0,-999.0000,-999.000,  -999.0,-999.000
   31WTTUNES_1,  P17C,    86,  1,     26,     26,2,19910629,1243,  2.0000,-134.9900, 4516,   2369.7,   1.8515,  34.6652,2,  34.6647,2,    119.1,2,  1.6855,    119.8,2,   150.04,2,    38.06,2,     0.00,2,     2.62,2, -999.000,9, -999.000,9, -999.000,9,   1.9320,2,    30.12,2,   -999.0,9,  -999.00,9,   2344.9,2,   -999.0,9,  -999.0,-999.0000,-999.000,  -999.0,-999.000
   31WTTUNES_1,  P17C,    86,  1,     27,     27,2,19910629,1243,  2.0000,-134.9900, 4516,   2533.7,   1.7847,  34.6700,2,  34.6688,2,    124.2,2,  1.6053,    122.3,2,   150.59,2,    37.64,2,     0.00,2,     2.59,2, -999.000,9, -999.000,9, -999.000,9,   1.9240,2,    28.51,2,   -999.0,9,  -999.00,9,   2343.3,2,   -999.0,9,  -999.0,-999.0000,-999.000,  -999.0,-999.000
   31WTTUNES_1,  P17C,    86,  1,     28,     28,2,19910629,1243,  2.0000,-134.9900, 4516,   2698.0,   1.7375,  34.6724,2,  34.6706,2,    128.2,2,  1.5441,    127.9,2,   149.63,2,    37.43,2,     0.00,2,     2.58,2, -999.000,9, -999.000,9, -999.000,9,   1.9210,2,    27.00,2,   -999.0,9,  -999.00,9,   2340.1,2,   -999.0,9,  -999.0,-999.0000,-999.000,  -999.0,-999.000
   31WTTUNES_1,  P17C,    86,  1,     29,     29,2,19910629,1243,  2.0000,-134.9900, 4516,   2866.6,   1.7018,  34.6746,2,  34.6725,2,    133.2,2,  1.4933,    133.0,2,   147.91,2,    37.07,2,     0.00,2,     2.55,2, -999.000,9, -999.000,9, -999.000,9,   1.9170,2,    25.13,2,   -999.0,9,  -999.00,9,   2336.9,2,   -999.0,9,  -999.0,-999.0000,-999.000,  -999.0,-999.000
   31WTTUNES_1,  P17C,    86,  1,     30,     30,2,19910629,1243,  2.0000,-134.9900, 4516,   3032.6,   1.6609,  34.6764,2,  34.6746,2,    137.1,2,  1.4374,    136.0,2,   147.52,2,    36.86,2,     0.00,2,     2.54,2, -999.000,9, -999.000,9, -999.000,9,   1.9210,2,    24.01,2,   -999.0,9,  -999.00,9,   2333.4,2,   -999.0,9,  -999.0,-999.0000,-999.000,  -999.0,-999.000
   31WTTUNES_1,  P17C,    86,  1,     31,     31,2,19910629,1243,  2.0000,-134.9900, 4516,   3296.4,   1.5809,  34.6790,2,  34.6817,2,    142.9,2,  1.3334,    144.0,2,   146.75,2,    36.50,2,     0.00,2,     2.50,2, -999.000,9, -999.000,9,    0.000,2,   1.9110,2,    22.51,2,   -999.0,9,  -999.00,9,   2331.2,2,   -999.0,9,  -999.0,-999.0000,-999.000,  -999.0,   0.004
   31WTTUNES_1,  P17C,    86,  1,     32,     32,2,19910629,1243,  2.0000,-134.9900, 4516,   3543.3,   1.4500,  34.6888,2,  34.6897,2,    152.4,2,  1.1807,    151.4,2,   148.43,2,    35.98,2,     0.00,2,     2.44,2, -999.000,9, -999.000,9, -999.000,9,   1.8970,2,    17.76,2,   -999.0,9,  -999.00,9,   2328.6,2,   2434.6,2,  -999.0,-999.0000,-999.000,  -999.0,-999.000
   31WTTUNES_1,  P17C,    86,  1,     33,     33,2,19910629,1243,  2.0000,-134.9900, 4516,   3802.7,   1.4246,  34.6928,2,  34.6923,2,    157.9,2,  1.1289,    157.8,2,   146.52,2,    35.51,2,     0.00,2,     2.41,2, -999.000,9, -999.000,9, -999.000,9,   1.8910,2,    16.49,2,   -999.0,9,  -999.00,9,   2325.6,2,   -999.0,9,  -999.0,-999.0000,-999.000,  -999.0,-999.000
   31WTTUNES_1,  P17C,    86,  1,     34,     34,2,19910629,1243,  2.0000,-134.9900, 4516,   4064.1,   1.4246,  34.6928,2,  34.6940,2,    160.4,2,  1.1008,    159.7,2,   145.75,2,    35.41,2,     0.00,2,     2.40,2, -999.000,9, -999.000,9, -999.000,9,   1.8890,2,    16.31,2,   -999.0,9,  -999.00,9,   2321.5,2,   -999.0,9,  -999.0,-999.0000,-999.000,  -999.0,-999.000
   31WTTUNES_1,  P17C,    86,  1,     35,     35,2,19910629,1243,  2.0000,-134.9900, 4516,   4325.4,   1.4352,  34.6942,2,  34.6944,2,    162.0,2,  1.0821,    161.0,2,   145.74,2,    35.41,2,     0.00,2,     2.40,2, -999.000,9, -999.000,9, -999.000,9,   1.8920,2,    15.48,2,   -999.0,9,  -999.00,9,   2321.1,2,   -999.0,9,  -999.0,-999.0000,-999.000,  -999.0,-999.000
   31WTTUNES_1,  P17C,    86,  1,     36,     36,2,19910629,1243,  2.0000,-134.9900, 4516,   4580.8,   1.4630,  34.6947,2,  34.6946,2,   -999.0,9,  1.0798,    162.0,2,   145.72,2,    35.30,2,     0.00,2,     2.40,2, -999.000,9, -999.000,9, -999.000,9,   1.8980,2,    15.60,2,   -999.0,9,  -999.00,9,   2323.4,2,   2431.5,2,  -999.0,-999.0000,-999.000,  -999.0,-999.000
   31WTTUNES_1,  P17C,    87,  1,     61,     61,2,19910629,1743,  1.8333,-134.9983, 4574,      2.5,  27.5615,  34.8520,2,  34.8544,2,   -999.0,9, 27.5609,   -999.0,9,  -999.00,9,  -999.00,9,  -999.00,9,  -999.00,9, -999.000,9, -999.000,9, -999.000,9,-999.0000,9,  -999.00,9,   -999.0,9,  -999.00,9,   -999.0,9,   -999.0,9,  -999.0,-999.0000,-999.000,  -999.0,-999.000
   31WTTUNES_1,  P17C,    87,  1,     62,     62,2,19910629,1743,  1.8333,-134.9983, 4574,     29.5,  27.5475,  34.8515,2,  34.8526,2,   -999.0,9, 27.5406,   -999.0,9,  -999.00,9,  -999.00,9,  -999.00,9,  -999.00,9, -999.000,9, -999.000,9, -999.000,9,-999.0000,9,  -999.00,9,   -999.0,9,  -999.00,9,   -999.0,9,   -999.0,9,  -999.0,-999.0000,-999.000,  -999.0,-999.000
   31WTTUNES_1,  P17C,    87,  1,     63,     63,2,19910629,1743,  1.8333,-134.9983, 4574,    186.9,  12.6787,  34.8684,2,  34.8651,2,   -999.0,9, 12.6534,   -999.0,9,  -999.00,9,  -999.00,9,  -999.00,9,  -999.00,9, -999.000,9, -999.000,9, -999.000,9,-999.0000,9,  -999.00,9,   -999.0,9,  -999.00,9,   -999.0,9,   -999.0,9,  -999.0,-999.0000,-999.000,  -999.0,-999.000
   31WTTUNES_1,  P17C,    87,  1,     64,     64,2,19910629,1743,  1.8333,-134.9983, 4574,    206.7,  12.3538,  34.8583,2,  34.8582,2,   -999.0,9, 12.3264,   -999.0,9,  -999.00,9,  -999.00,9,  -999.00,9,  -999.00,9, -999.000,9, -999.000,9, -999.000,9,-999.0000,9,  -999.00,9,   -999.0,9,  -999.00,9,   -999.0,9,   -999.0,9,  -999.0,-999.0000,-999.000,  -999.0,-999.000
   31WTTUNES_1,  P17C,    87,  1,     65,     65,2,19910629,1743,  1.8333,-134.9983, 4574,    258.5,  11.7212,  34.8259,2,  34.8259,2,   -999.0,9, 11.6880,   -999.0,9,  -999.00,9,  -999.00,9,  -999.00,9,  -999.00,9, -999.000,9, -999.000,9, -999.000,9,-999.0000,9,  -999.00,9,   -999.0,9,  -999.00,9,   -999.0,9,   -999.0,9,  -999.0,-999.0000,-999.000,  -999.0,-999.000
   31WTTUNES_1,  P17C,    87,  1,     66,     66,2,19910629,1743,  1.8333,-134.9983, 4574,    819.5,   5.5756,  34.5472,2,  34.5482,2,   -999.0,9,  5.5048,   -999.0,9,  -999.00,9,  -999.00,9,  -999.00,9,  -999.00,9, -999.000,9, -999.000,9, -999.000,9,-999.0000,9,  -999.00,9,   -999.0,9,  -999.00,9,   -999.0,9,   -999.0,9,  -999.0,-999.0000,-999.000,  -999.0,-999.000
   31WTTUNES_1,  P17C,    87,  1,     67,     67,2,19910629,1743,  1.8333,-134.9983, 4574,    921.1,   5.1390,  34.5461,2,  34.5480,2,   -999.0,9,  5.0617,   -999.0,9,  -999.00,9,  -999.00,9,  -999.00,9,  -999.00,9, -999.000,9, -999.000,9, -999.000,9,-999.0000,9,  -999.00,9,   -999.0,9,  -999.00,9,   -999.0,9,   -999.0,9,  -999.0,-999.0000,-999.000,  -999.0,-999.000
   31WTTUNES_1,  P17C,    87,  1,     68,     68,2,19910629,1743,  1.8333,-134.9983, 4574,   2053.8,   2.2944,  34.6391,2,  34.6413,2,   -999.0,9,  2.1488,   -999.0,9,  -999.00,9,  -999.00,9,  -999.00,9,  -999.00,9, -999.000,9, -999.000,9, -999.000,9,-999.0000,9,  -999.00,9,   -999.0,9,  -999.00,9,   -999.0,9,   -999.0,9,  -999.0,-999.0000,-999.000,  -999.0,-999.000
   31WTTUNES_1,  P17C,    87,  1,     69,     69,3,19910629,1743,  1.8333,-134.9983, 4574,   3089.2,   1.6409,  34.6750,2,  34.5878,4,   -999.0,9,  1.4124,   -999.0,9,  -999.00,9,  -999.00,9,  -999.00,9,  -999.00,9, -999.000,9, -999.000,9, -999.000,9,-999.0000,9,  -999.00,9,   -999.0,9,  -999.00,9,   -999.0,9,   -999.0,9,  -999.0,-999.0000,-999.000,  -999.0,-999.000
   31WTTUNES_1,  P17C,    87,  1,     70,     70,3,19910629,1743,  1.8333,-134.9983, 4574,   4127.8,   1.4261,  34.6922,2,  34.6913,2,   -999.0,9,  1.0953,   -999.0,9,  -999.00,9,  -999.00,9,  -999.00,9,  -999.00,9, -999.000,9, -999.000,9, -999.000,9,-999.0000,9,  -999.00,9,   -999.0,9,  -999.00,9,   -999.0,9,   -999.0,9,  -999.0,-999.0000,-999.000,  -999.0,-999.000
   31WTTUNES_1,  P17C,    87,  1,     71,     71,2,19910629,1743,  1.8333,-134.9983, 4574,   4626.7,   1.4571,  34.6936,2,  34.6948,2,   -999.0,9,  1.0687,   -999.0,9,  -999.00,9,  -999.00,9,  -999.00,9,  -999.00,9, -999.000,9, -999.000,9, -999.000,9,-999.0000,9,  -999.00,9,   -999.0,9,  -999.00,9,   -999.0,9,   -999.0,9,  -999.0,-999.0000,-999.000,  -999.0,-999.000