BOTTLE,20220819CCHSIOAMB
EXPOCODE,SECT_ID,STNNBR,CASTNO,SAMPNO,BTLNBR,BTLNBR_FLAG_W,DATE,TIME,LATITUDE,LONGITUDE,DEPTH,CTDPRS,CTDTMP,CTDSAL,CTDSAL_FLAG_W,SALNTY,SALNTY_FLAG_W,CTDOXY,CTDOXY_FLAG_W,THETA,OXYGEN,OXYGEN_FLAG_W,SILCAT,SILCAT_FLAG_W,NITRAT,NITRAT_FLAG_W,NITRIT,NITRIT_FLAG_W,PHSPHT,PHSPHT_FLAG_W,CFC-11,CFC-11_FLAG_W,CFC-12,CFC-12_FLAG_W,TRITUM,TRITUM_FLAG_W,HELIUM,HELIUM_FLAG_W,DELHE3,DELHE3_FLAG_W,DELC14,DELC14_FLAG_W,DELC13,DELC13_FLAG_W,TCARBN,TCARBN_FLAG_W,ALKALI,ALKALI_FLAG_W,C14ERR,HELIER,DELHER,C13ERR,TRITER
,,,,,,,,,,,,DBAR,ITS-90,PSS-78,,PSS-78,,UMOL/KG,,DEG C,UMOL/KG,,UMOL/KG,,UMOL/KG,,UMOL/KG,,UMOL/KG,,PMOL/KG,,PMOL/KG,,TU,,NMOL/KG,,PERCNT,,/MILLE,,/MILLE,,UMOL/KG,,UMOL/KG,,/MILLE,NMOL/KG,PERCNT,/MILLE,TU
   31WTTUNES_1,  P17C,   109,  1,     61,     61,2,19910703,2358, -1.8250,-134.9967, 4219,      2.6,  27.8013,  35.3777,2,  35.3797,2,   -999.0,9, 27.8007,   -999.0,9,  -999.00,9,  -999.00,9,  -999.00,9,  -999.00,9, -999.000,9, -999.000,9, -999.000,9,-999.0000,9,  -999.00,9,   -999.0,9,  -999.00,9,   -999.0,9,   -999.0,9,  -999.0,-999.0000,-999.000,  -999.0,-999.000
   31WTTUNES_1,  P17C,   109,  1,     62,     62,2,19910703,2358, -1.8250,-134.9967, 4219,    232.2,  11.7768,  34.8379,2,  34.8381,2,   -999.0,9, 11.7469,   -999.0,9,  -999.00,9,  -999.00,9,  -999.00,9,  -999.00,9, -999.000,9, -999.000,9, -999.000,9,-999.0000,9,  -999.00,9,   -999.0,9,  -999.00,9,   -999.0,9,   -999.0,9,  -999.0,-999.0000,-999.000,  -999.0,-999.000
   31WTTUNES_1,  P17C,   109,  1,     63,     63,2,19910703,2358, -1.8250,-134.9967, 4219,    508.8,   7.8951,  34.6146,2,  34.6256,2,   -999.0,9,  7.8432,   -999.0,9,  -999.00,9,  -999.00,9,  -999.00,9,  -999.00,9, -999.000,9, -999.000,9, -999.000,9,-999.0000,9,  -999.00,9,   -999.0,9,  -999.00,9,   -999.0,9,   -999.0,9,  -999.0,-999.0000,-999.000,  -999.0,-999.000
   31WTTUNES_1,  P17C,   109,  1,     64,     64,2,19910703,2358, -1.8250,-134.9967, 4219,    606.4,   6.7551,  34.5652,2,  34.5670,2,   -999.0,9,  6.6981,   -999.0,9,  -999.00,9,  -999.00,9,  -999.00,9,  -999.00,9, -999.000,9, -999.000,9, -999.000,9,-999.0000,9,  -999.00,9,   -999.0,9,  -999.00,9,   -999.0,9,   -999.0,9,  -999.0,-999.0000,-999.000,  -999.0,-999.000
   31WTTUNES_1,  P17C,   109,  1,     65,     65,2,19910703,2358, -1.8250,-134.9967, 4219,    897.8,   4.8423,  34.5442,2,  34.5478,2,   -999.0,9,  4.7692,   -999.0,9,  -999.00,9,  -999.00,9,  -999.00,9,  -999.00,9, -999.000,9, -999.000,9, -999.000,9,-999.0000,9,  -999.00,9,   -999.0,9,  -999.00,9,   -999.0,9,   -999.0,9,  -999.0,-999.0000,-999.000,  -999.0,-999.000
   31WTTUNES_1,  P17C,   109,  1,     66,     66,2,19910703,2358, -1.8250,-134.9967, 4219,   1512.6,   3.0192,  34.6020,2,  34.6053,2,   -999.0,9,  2.9101,   -999.0,9,  -999.00,9,  -999.00,9,  -999.00,9,  -999.00,9, -999.000,9, -999.000,9, -999.000,9,-999.0000,9,  -999.00,9,   -999.0,9,  -999.00,9,   -999.0,9,   -999.0,9,  -999.0,-999.0000,-999.000,  -999.0,-999.000
   31WTTUNES_1,  P17C,   109,  1,     67,     67,2,19910703,2358, -1.8250,-134.9967, 4219,   1812.8,   2.5149,  34.6294,2,  34.6318,2,   -999.0,9,  2.3867,   -999.0,9,  -999.00,9,  -999.00,9,  -999.00,9,  -999.00,9, -999.000,9, -999.000,9, -999.000,9,-999.0000,9,  -999.00,9,   -999.0,9,  -999.00,9,   -999.0,9,   -999.0,9,  -999.0,-999.0000,-999.000,  -999.0,-999.000
   31WTTUNES_1,  P17C,   109,  1,     68,     68,2,19910703,2358, -1.8250,-134.9967, 4219,   2526.1,   1.8404,  34.6627,2,  34.6660,2,   -999.0,9,  1.6607,   -999.0,9,  -999.00,9,  -999.00,9,  -999.00,9,  -999.00,9, -999.000,9, -999.000,9, -999.000,9,-999.0000,9,  -999.00,9,   -999.0,9,  -999.00,9,   -999.0,9,   -999.0,9,  -999.0,-999.0000,-999.000,  -999.0,-999.000
   31WTTUNES_1,  P17C,   109,  1,     69,     69,2,19910703,2358, -1.8250,-134.9967, 4219,   3040.3,   1.5963,  34.6758,2,  34.6770,2,   -999.0,9,  1.3735,   -999.0,9,  -999.00,9,  -999.00,9,  -999.00,9,  -999.00,9, -999.000,9, -999.000,9, -999.000,9,-999.0000,9,  -999.00,9,   -999.0,9,  -999.00,9,   -999.0,9,   -999.0,9,  -999.0,-999.0000,-999.000,  -999.0,-999.000
   31WTTUNES_1,  P17C,   109,  1,     70,     70,2,19910703,2358, -1.8250,-134.9967, 4219,   4036.6,   1.4171,  34.6925,2,  34.6949,2,   -999.0,9,  1.0965,   -999.0,9,  -999.00,9,  -999.00,9,  -999.00,9,  -999.00,9, -999.000,9, -999.000,9, -999.000,9,-999.0000,9,  -999.00,9,   -999.0,9,  -999.00,9,   -999.0,9,   -999.0,9,  -999.0,-999.0000,-999.000,  -999.0,-999.000
   31WTTUNES_1,  P17C,   109,  1,     71,     71,2,19910703,2358, -1.8250,-134.9967, 4219,   4348.4,   1.4166,  34.6946,2,  34.6962,2,   -999.0,9,  1.0615,   -999.0,9,  -999.00,9,  -999.00,9,  -999.00,9,  -999.00,9, -999.000,9, -999.000,9, -999.000,9,-999.0000,9,  -999.00,9,   -999.0,9,  -999.00,9,   -999.0,9,   -999.0,9,  -999.0,-999.0000,-999.000,  -999.0,-999.000
   31WTTUNES_1,  P17C,   110,  1,      1,      1,2,19910704,0347, -1.9733,-135.0017, 4439,      0.2,  27.7289,  35.3699,2,  35.3739,2,    217.8,3, 27.7289,    214.7,2,     2.76,2,     4.84,2,     0.28,2,     0.54,2,    1.701,2,    0.920,2, -999.000,9,-999.0000,9,  -999.00,9,     95.5,2,     1.27,2,   2010.7,2,   2302.3,2,     4.8,-999.0000,-999.000,  -999.0,-999.000
   31WTTUNES_1,  P17C,   110,  1,      2,      2,2,19910704,0347, -1.9733,-135.0017, 4439,     30.6,  27.6577,  35.3685,2,  35.3719,2,    213.7,2, 27.6505,    213.2,2,     2.74,2,     4.88,2,     0.28,2,     0.54,2,    1.685,2,    0.954,2,    1.191,2,   1.7510,2,    -1.04,2,   -999.0,9,  -999.00,9,   2011.8,2,   -999.0,9,  -999.0,  0.0080,   0.150,  -999.0,   0.008
   31WTTUNES_1,  P17C,   110,  1,      3,      3,2,19910704,0347, -1.9733,-135.0017, 4439,     65.3,  27.6225,  35.3690,2,  35.3726,2,    208.9,2, 27.6072,    210.7,2,     2.54,2,     4.96,2,     0.30,2,     0.56,2,    1.664,2,    0.928,2,    1.180,2,   1.7560,2,    -1.21,2,   -999.0,9,  -999.00,9,   2012.4,2,   2331.0,2,  -999.0,  0.0080,   0.150,  -999.0,   0.008
   31WTTUNES_1,  P17C,   110,  1,      4,      4,2,19910704,0347, -1.9733,-135.0017, 4439,     76.2,  27.5090,  35.3702,2,  35.3629,2,    207.0,2, 27.4913,    215.1,2,     2.90,2,     5.26,2,     0.29,2,     0.60,2,    1.721,2,    0.938,2,    1.166,2,   1.7290,2,    -1.18,2,     96.7,2,     1.36,2,   2014.8,2,   -999.0,9,     4.8,  0.0080,   0.150,  -999.0,   0.008
   31WTTUNES_1,  P17C,   110,  1,      5,      5,2,19910704,0347, -1.9733,-135.0017, 4439,     97.0,  23.2249,  35.2157,2,  35.2603,2,    195.1,2, 23.2049,    175.6,2,     4.62,2,    10.11,2,     0.61,2,     1.08,2,    1.837,2,    1.010,2,    0.630,2,   1.7420,2,    -0.64,2,     63.3,2,     1.04,2,   2086.8,2,   2333.0,2,     4.8,  0.0080,   0.150,  -999.0,   0.005
   31WTTUNES_1,  P17C,   110,  1,      6,      6,2,19910704,0347, -1.9733,-135.0017, 4439,    110.8,  19.5957,  35.4169,2,  35.3941,2,    125.3,2, 19.5755,    110.0,2,     6.91,2,    13.69,2,     2.04,2,     1.35,2,    1.439,2,    0.835,2,    0.862,2,   1.7890,2,     0.75,2,     82.1,2,     0.82,2,   2139.8,2,   -999.0,9,     4.7,  0.0080,   0.150,  -999.0,   0.007
   31WTTUNES_1,  P17C,   110,  1,      7,      7,2,19910704,0347, -1.9733,-135.0017, 4439,    153.2,  12.9876,  34.9343,2,  34.9331,2,     18.7,2, 12.9666,     18.1,2,    23.05,2,    31.09,2,     0.01,2,     2.19,2,    0.345,2,    0.206,2,    0.424,2,   1.8050,2,     5.25,2,    -10.5,2,     0.03,2,   2224.6,2,   2304.3,2,     6.9,  0.0080,   0.150,  -999.0,   0.004
   31WTTUNES_1,  P17C,   110,  1,      8,      8,2,19910704,0347, -1.9733,-135.0017, 4439,    178.7,  12.5481,  34.9000,2,  34.9005,2,     21.6,2, 12.5241,     20.5,2,    24.57,2,    31.44,2,     0.00,2,     2.23,2,    0.259,2,    0.149,2,    0.353,2,   1.8090,2,     5.24,2,    -19.4,2,     0.13,2,   2225.8,2,   -999.0,9,     4.3,  0.0090,   0.150,  -999.0,   0.004
   31WTTUNES_1,  P17C,   110,  1,      9,      9,2,19910704,0347, -1.9733,-135.0017, 4439,    213.5,  11.8767,  34.8460,2,  34.8486,2,     43.9,2, 11.8491,     44.7,2,    25.52,2,    30.04,2,     0.00,2,     2.11,2,    0.281,2,    0.162,2,    0.350,2,   0.0000,2,  -999.00,9,   -999.0,9,  -999.00,9,   2225.3,2,   2307.2,2,  -999.0,-999.0000,   0.150,  -999.0,   0.004
   31WTTUNES_1,  P17C,   110,  1,     10,     10,2,19910704,0347, -1.9733,-135.0017, 4439,    279.7,  11.4471,  34.8159,2,  34.8156,2,     39.2,2, 11.4116,     37.6,2,    27.43,2,    31.50,2,     0.00,2,     2.19,2,    0.218,2,    0.128,2,    0.300,2,   1.8190,2,     5.42,2,    -25.2,2,     0.24,3,   2225.3,2,   -999.0,9,    10.0,  0.0090,   0.150,  -999.0,   0.004
   31WTTUNES_1,  P17C,   110,  1,     11,     11,2,19910704,0347, -1.9733,-135.0017, 4439,    312.3,  11.2182,  34.8027,2,  34.8060,2,     39.9,2, 11.1790,     39.8,2,    27.60,2,    31.65,2,     0.00,2,     2.20,2,    0.192,2,    0.115,2,    0.259,2,   0.0000,2,  -999.00,9,    -48.8,2,     0.13,3,   2228.0,2,   2305.3,2,     4.3,-999.0000,   0.150,  -999.0,   0.004
   31WTTUNES_1,  P17C,   110,  1,     12,     12,2,19910704,0347, -1.9733,-135.0017, 4439,    368.9,  10.0047,  34.7356,2,  34.7388,2,     73.9,2,  9.9616,     72.7,2,    27.39,2,    30.55,2,     0.00,2,     2.13,2,    0.156,2,    0.088,2,    0.161,2,   1.8250,2,     4.95,2,    -56.5,2,     0.40,2,   -999.0,9,   -999.0,9,     4.2,  0.0090,   0.150,  -999.0,   0.003
   31WTTUNES_1,  P17C,   110,  1,     13,     13,2,19910704,0347, -1.9733,-135.0017, 4439,    424.9,   9.1631,  34.6913,2,  34.6934,2,     52.2,2,  9.1160,     49.0,2,    34.30,2,    34.74,2,     0.00,2,     2.41,2,    0.054,2,    0.034,2,    0.050,2,   1.8370,2,     5.22,2,    -83.1,2,     0.26,2,   2240.8,2,   2306.4,2,     5.6,  0.0090,   0.150,  -999.0,   0.002
   31WTTUNES_1,  P17C,   110,  1,     14,     14,2,19910704,0347, -1.9733,-135.0017, 4439,    485.3,   8.3066,  34.6416,2,  34.6424,2,     56.4,2,  8.2557,     54.2,2,    37.55,2,    36.23,2,     0.00,2,     2.50,2,    0.030,2,    0.020,2,    0.040,2,   1.8480,2,     6.07,2,    -98.5,2,     0.36,2,   2247.2,2,   -999.0,9,     4.1,  0.0090,   0.150,  -999.0,   0.002
   31WTTUNES_1,  P17C,   110,  1,     15,     15,2,19910704,0347, -1.9733,-135.0017, 4439,    554.9,   7.3898,  34.5916,2,  34.5935,2,     67.5,2,  7.3352,     67.3,2,    43.69,2,    36.85,2,     0.00,2,     2.56,2,    0.018,2,    0.014,2,    0.022,2,   1.8440,2,     7.60,2,    -95.6,3,     0.35,2,   2250.1,2,   -999.0,9,     6.7,  0.0090,   0.150,  -999.0,   0.001
   31WTTUNES_1,  P17C,   110,  1,     16,     16,2,19910704,0347, -1.9733,-135.0017, 4439,    644.9,   6.4838,  34.5570,2,  34.5599,2,     78.4,2,  6.4244,     77.9,2,    51.94,2,    37.63,2,     0.00,2,     2.63,2,    0.010,2,    0.010,2,    0.011,2,   1.8660,2,     9.67,2,   -123.3,2,     0.36,2,   2257.2,2,   2323.9,2,     4.1,  0.0090,   0.150,  -999.0,   0.001
   31WTTUNES_1,  P17C,   110,  1,     17,     17,2,19910704,0347, -1.9733,-135.0017, 4439,    710.8,   5.9635,  34.5498,2,  34.5511,2,     71.1,2,  5.9005,     73.2,2,    59.43,2,    38.98,2,     0.00,2,     2.73,2,    0.000,2,    0.007,2,    0.002,2,   1.8850,2,    11.19,2,   -135.4,2,     0.42,2,   2261.1,2,   -999.0,9,     6.5,  0.0090,   0.150,  -999.0,   0.001
   31WTTUNES_1,  P17C,   110,  1,     18,     18,2,19910704,0347, -1.9733,-135.0017, 4439,    812.7,   5.3754,  34.5425,2,  34.5439,2,     82.9,2,  5.3064,     82.9,2,    67.29,2,    38.77,2,     0.00,2,     2.72,2,    0.002,2,   -0.002,2,   -0.002,2,-999.0000,9,  -999.00,9,   -147.6,2,     0.22,2,   2271.2,2,   -999.0,9,     5.2,-999.0000,-999.000,  -999.0,   0.001
   31WTTUNES_1,  P17C,   110,  1,     19,     19,2,19910704,0347, -1.9733,-135.0017, 4439,    971.6,   4.6029,  34.5500,2,  34.5535,2,     84.3,2,  4.5250,     84.1,2,    82.65,2,    39.35,2,     0.00,2,     2.78,2,   -0.001,2,    0.008,2,   -0.002,2,   1.8500,2,    17.04,2,   -999.0,9,  -999.00,9,   2295.0,2,   2354.9,2,  -999.0,-999.0000,-999.000,  -999.0,   0.001
   31WTTUNES_1,  P17C,   110,  1,     20,     20,2,19910704,0347, -1.9733,-135.0017, 4439,   1190.7,   3.7756,  34.5731,2,  34.5754,2,     89.9,2,  3.6857,     90.0,2,   100.90,2,    39.29,2,     0.00,2,     2.80,2,    0.001,2,    0.003,2, -999.000,9,   1.8590,2,    20.75,2,   -999.0,9,  -999.00,9,   2313.0,2,   -999.0,9,  -999.0,-999.0000,-999.000,  -999.0,-999.000
   31WTTUNES_1,  P17C,   110,  1,     22,     22,2,19910704,0347, -1.9733,-135.0017, 4439,   1622.8,   2.7000,  34.6167,2,  34.6177,2,    103.9,2,  2.5854,    101.9,2,   126.80,2,    38.87,2,     0.00,2,     2.76,2, -999.000,9, -999.000,9, -999.000,9,-999.0000,9,  -999.00,9,   -999.0,9,  -999.00,9,   2337.9,2,   -999.0,9,  -999.0,-999.0000,-999.000,  -999.0,-999.000
   31WTTUNES_1,  P17C,   110,  1,     21,     21,2,19910704,0347, -1.9733,-135.0017, 4439,   1623.5,   2.6998,  34.6172,2,  34.6188,2,    103.0,2,  2.5852,    100.8,2,   126.83,2,    38.93,2,     0.00,2,     2.76,2,   -0.002,2,    0.000,2, -999.000,9,   1.8920,2,    25.72,2,   -999.0,9,  -999.00,9,   2337.6,2,   -999.0,9,  -999.0,-999.0000,-999.000,  -999.0,-999.000
   31WTTUNES_1,  P17C,   110,  1,     23,     23,2,19910704,0347, -1.9733,-135.0017, 4439,   1827.7,   2.4463,  34.6336,2,  34.6360,2,     99.7,2,  2.3178,     99.3,2,   137.93,2,    39.24,2,     0.00,2,     2.76,2, -999.000,9, -999.000,9, -999.000,9,   1.9090,2,    27.44,2,   -999.0,9,  -999.00,9,   2349.5,2,   -999.0,9,  -999.0,-999.0000,-999.000,  -999.0,-999.000
   31WTTUNES_1,  P17C,   110,  1,     24,     24,2,19910704,0347, -1.9733,-135.0017, 4439,   2021.5,   2.2521,  34.6448,2,  34.6468,2,    105.2,2,  2.1099,    104.3,2,   143.10,2,    38.87,2,     0.00,2,     2.73,2, -999.000,9, -999.000,9, -999.000,9,   1.9030,2,    28.63,2,   -999.0,9,  -999.00,9,   2352.3,2,   -999.0,9,  -999.0,-999.0000,-999.000,  -999.0,-999.000
   31WTTUNES_1,  P17C,   110,  1,     25,     25,2,19910704,0347, -1.9733,-135.0017, 4439,   2199.1,   2.1251,  34.6497,2,  34.6523,2,    111.3,2,  1.9695,    110.4,2,   144.22,2,    38.51,2,     0.00,2,     2.70,2, -999.000,9, -999.000,9, -999.000,9,   1.9180,2,    28.15,2,   -999.0,9,  -999.00,9,   2351.8,2,   2424.0,2,  -999.0,-999.0000,-999.000,  -999.0,-999.000
   31WTTUNES_1,  P17C,   110,  1,     26,     26,2,19910704,0347, -1.9733,-135.0017, 4439,   2362.6,   2.0016,  34.6560,2,  34.6573,2,    117.8,2,  1.8336,    116.9,2,   144.78,2,    38.25,2,     0.00,2,     2.67,2, -999.000,9, -999.000,9, -999.000,9,   1.9070,2,    28.01,2,   -999.0,9,  -999.00,9,   -999.0,9,   -999.0,9,  -999.0,-999.0000,-999.000,  -999.0,-999.000
   31WTTUNES_1,  P17C,   110,  1,     27,     27,2,19910704,0347, -1.9733,-135.0017, 4439,   2530.7,   1.8551,  34.6628,2,  34.6640,2,    126.2,2,  1.6747,    126.3,2,   144.75,2,    37.52,2,     0.00,2,     2.61,2, -999.000,9, -999.000,9, -999.000,9,   1.9160,2,    27.14,2,   -999.0,9,  -999.00,9,   -999.0,9,   -999.0,9,  -999.0,-999.0000,-999.000,  -999.0,-999.000
   31WTTUNES_1,  P17C,   110,  1,     28,     28,2,19910704,0347, -1.9733,-135.0017, 4439,   2695.5,   1.7695,  34.6679,2,  34.6699,2,    132.4,2,  1.5757,    131.9,2,   145.12,2,    37.21,2,     0.00,2,     2.58,2, -999.000,9, -999.000,9, -999.000,9,   1.9080,2,    26.27,2,   -999.0,9,  -999.00,9,   2336.9,2,   -999.0,9,  -999.0,-999.0000,-999.000,  -999.0,-999.000
   31WTTUNES_1,  P17C,   110,  1,     29,     29,2,19910704,0347, -1.9733,-135.0017, 4439,   2860.0,   1.6909,  34.6705,2,  34.6719,2,    136.4,2,  1.4832,    136.3,2,   145.48,2,    36.80,2,     0.00,2,     2.55,2, -999.000,9, -999.000,9, -999.000,9,   1.9290,2,    23.13,2,   -999.0,9,  -999.00,9,   2334.0,2,   -999.0,9,  -999.0,-999.0000,-999.000,  -999.0,-999.000
   31WTTUNES_1,  P17C,   110,  1,     30,     30,2,19910704,0347, -1.9733,-135.0017, 4439,   3035.5,   1.6189,  34.6758,2,  34.6765,2,    143.5,2,  1.3961,    142.2,2,   144.49,2,    36.43,2,     0.00,2,     2.52,2, -999.000,9, -999.000,9, -999.000,9,   1.8940,2,    22.48,2,   -999.0,9,  -999.00,9,   2330.2,2,   -999.0,9,  -999.0,-999.0000,-999.000,  -999.0,-999.000
   31WTTUNES_1,  P17C,   110,  1,     31,     31,2,19910704,0347, -1.9733,-135.0017, 4439,   3238.0,   1.5596,  34.6818,2,  34.6818,2,    145.8,2,  1.3183,    146.7,2,   145.05,2,    36.18,2,     0.00,2,     2.49,2, -999.000,9, -999.000,9, -999.000,9,   1.9090,2,    21.13,2,   -999.0,9,  -999.00,9,   -999.0,9,   -999.0,9,  -999.0,-999.0000,-999.000,  -999.0,-999.000
   31WTTUNES_1,  P17C,   110,  1,     32,     32,2,19910704,0347, -1.9733,-135.0017, 4439,   3500.0,   1.4830,  34.6880,2,  34.6879,2,    153.2,2,  1.2173,    153.0,2,   145.98,2,    35.77,2,     0.00,2,     2.45,2, -999.000,9, -999.000,9, -999.000,9,   1.9050,2,    19.18,2,   -999.0,9,  -999.00,9,   2328.0,2,   2432.8,2,  -999.0,-999.0000,-999.000,  -999.0,-999.000
   31WTTUNES_1,  P17C,   110,  1,     33,     33,2,19910704,0347, -1.9733,-135.0017, 4439,   3756.5,   1.4297,  34.6941,2,  34.6925,2,    157.9,2,  1.1387,    157.4,2,   146.92,2,    35.61,2,     0.00,2,     2.42,2, -999.000,9, -999.000,9, -999.000,9,   1.8850,2,    17.00,2,   -999.0,9,  -999.00,9,   -999.0,9,   -999.0,9,  -999.0,-999.0000,-999.000,  -999.0,-999.000
   31WTTUNES_1,  P17C,   110,  1,     34,     34,2,19910704,0347, -1.9733,-135.0017, 4439,   4002.4,   1.4197,  34.6947,2,  34.6947,2,    163.2,2,  1.1027,    162.6,2,   143.05,2,    35.15,2,     0.00,2,     2.40,2, -999.000,9, -999.000,9, -999.000,9,   1.9030,2,    16.80,2,   -999.0,9,  -999.00,9,   2317.3,2,   -999.0,9,  -999.0,-999.0000,-999.000,  -999.0,-999.000
   31WTTUNES_1,  P17C,   110,  1,     35,     35,2,19910704,0347, -1.9733,-135.0017, 4439,   4261.1,   1.4230,  34.6956,2,  34.6951,2,    168.6,2,  1.0774,    166.6,2,   141.30,2,    34.90,2,     0.00,2,     2.38,2, -999.000,9, -999.000,9, -999.000,9,   1.8900,2,    16.28,2,   -999.0,9,  -999.00,9,   -999.0,9,   -999.0,9,  -999.0,-999.0000,-999.000,  -999.0,-999.000
   31WTTUNES_1,  P17C,   110,  1,     36,     36,2,19910704,0347, -1.9733,-135.0017, 4439,   4504.3,   1.4310,  34.6979,2,  34.6975,2,   -999.0,9,  1.0576,    170.9,2,   137.63,2,    34.59,2,     0.00,2,     2.36,2, -999.000,9, -999.000,9, -999.000,9,   1.9020,2,    15.56,2,   -999.0,9,  -999.00,9,   -999.0,9,   2421.2,2,  -999.0,-999.0000,-999.000,  -999.0,-999.000