BOTTLE,20220819CCHSIOAMB
EXPOCODE,SECT_ID,STNNBR,CASTNO,SAMPNO,BTLNBR,BTLNBR_FLAG_W,DATE,TIME,LATITUDE,LONGITUDE,DEPTH,CTDPRS,CTDTMP,CTDSAL,CTDSAL_FLAG_W,SALNTY,SALNTY_FLAG_W,CTDOXY,CTDOXY_FLAG_W,THETA,OXYGEN,OXYGEN_FLAG_W,SILCAT,SILCAT_FLAG_W,NITRAT,NITRAT_FLAG_W,NITRIT,NITRIT_FLAG_W,PHSPHT,PHSPHT_FLAG_W,CFC-11,CFC-11_FLAG_W,CFC-12,CFC-12_FLAG_W,TRITUM,TRITUM_FLAG_W,HELIUM,HELIUM_FLAG_W,DELHE3,DELHE3_FLAG_W,DELC14,DELC14_FLAG_W,DELC13,DELC13_FLAG_W,TCARBN,TCARBN_FLAG_W,ALKALI,ALKALI_FLAG_W,C14ERR,HELIER,DELHER,C13ERR,TRITER
,,,,,,,,,,,,DBAR,ITS-90,PSS-78,,PSS-78,,UMOL/KG,,DEG C,UMOL/KG,,UMOL/KG,,UMOL/KG,,UMOL/KG,,UMOL/KG,,PMOL/KG,,PMOL/KG,,TU,,NMOL/KG,,PERCNT,,/MILLE,,/MILLE,,UMOL/KG,,UMOL/KG,,/MILLE,NMOL/KG,PERCNT,/MILLE,TU
   31WTTUNES_1,  P17C,    61,  1,     13,     13,2,19910622,1549, 12.5000,-134.9967, 4849,      0.2,  27.5750,  34.0217,2,  34.0272,2,   -999.0,9, 27.5749,    203.4,2,     2.37,2,     0.01,2,     0.00,2,     0.16,2,    1.746,2,    0.944,2, -999.000,9,-999.0000,9,  -999.00,9,   -999.0,9,  -999.00,9,   -999.0,9,   -999.0,9,  -999.0,-999.0000,-999.000,  -999.0,-999.000
   31WTTUNES_1,  P17C,    61,  1,     14,     14,2,19910622,1549, 12.5000,-134.9967, 4849,     55.2,  26.9168,  34.5217,2,  34.5121,2,    204.7,2, 26.9042,    205.4,2,     2.18,2,     0.00,2,     0.00,2,     0.20,2,    1.833,2,    0.958,2,    1.473,2,   1.7440,2,    -0.89,2,   -999.0,9,  -999.00,9,   -999.0,9,   -999.0,9,  -999.0,  0.0080,   0.150,  -999.0,   0.012
   31WTTUNES_1,  P17C,    61,  1,     15,     15,2,19910622,1549, 12.5000,-134.9967, 4849,     76.8,  18.9677,  34.5600,2,  34.4830,2,    196.5,2, 18.9541,    187.8,2,     4.02,2,     3.05,2,     0.23,2,     0.52,2,    2.192,2,    1.143,2, -999.000,9,-999.0000,9,  -999.00,9,   -999.0,9,  -999.00,9,   -999.0,9,   -999.0,9,  -999.0,-999.0000,-999.000,  -999.0,-999.000
   31WTTUNES_1,  P17C,    61,  1,     16,     16,2,19910622,1549, 12.5000,-134.9967, 4849,     87.3,  16.7899,  34.4701,2,  34.4284,2,    144.1,2, 16.7757,    137.7,2,     9.00,2,    10.84,2,     0.71,2,     1.04,2,    1.885,2,    1.006,2, -999.000,5,   1.7960,2,     4.83,2,   -999.0,9,  -999.00,9,   -999.0,9,   -999.0,9,  -999.0,  0.0080,   0.150,  -999.0,-999.000
   31WTTUNES_1,  P17C,    61,  1,     17,     17,2,19910622,1549, 12.5000,-134.9967, 4849,     96.4,  15.2221,  34.4524,2,  34.4760,2,     97.8,2, 15.2074,     64.2,2,    17.30,2,    22.59,2,     0.53,2,     1.82,2,    1.125,2,    0.571,2, -999.000,9,-999.0000,9,  -999.00,9,   -999.0,9,  -999.00,9,   -999.0,9,   -999.0,9,  -999.0,-999.0000,-999.000,  -999.0,-999.000
   31WTTUNES_1,  P17C,    61,  1,     18,     18,2,19910622,1549, 12.5000,-134.9967, 4849,    112.2,  13.5064,  34.5777,2,  34.6144,2,     25.3,2, 13.4907,     12.9,2,    24.86,2,    30.04,2,     0.29,2,     2.33,2,    0.558,2,    0.298,2,    1.078,2,   1.8170,2,     9.86,2,   -999.0,9,  -999.00,9,   -999.0,9,   -999.0,9,  -999.0,  0.0090,   0.150,  -999.0,   0.010
   31WTTUNES_1,  P17C,    61,  1,     19,     19,2,19910622,1549, 12.5000,-134.9967, 4849,    131.8,  12.8256,  34.6942,2,  34.7036,2,      5.9,2, 12.8077,      5.8,2,    27.44,2,    32.19,2,     0.54,2,     2.39,2,    0.303,2,    0.172,2,    0.791,2,   1.8090,2,     9.35,2,   -999.0,9,  -999.00,9,   -999.0,9,   -999.0,9,  -999.0,  0.0090,   0.150,  -999.0,   0.009
   31WTTUNES_1,  P17C,    61,  1,     20,     20,2,19910622,1549, 12.5000,-134.9967, 4849,    181.8,  11.6639,  34.7436,2,  34.7451,2,      8.7,2, 11.6407,     11.4,2,    29.47,2,    33.38,2,     0.00,2,     2.35,2,    0.172,2,    0.104,2,    0.460,2,   1.8150,2,     7.93,2,   -999.0,9,  -999.00,9,   -999.0,9,   -999.0,9,  -999.0,  0.0090,   0.150,  -999.0,   0.007
   31WTTUNES_1,  P17C,    61,  1,     21,     21,2,19910622,1549, 12.5000,-134.9967, 4849,    261.3,  10.7992,  34.7184,2,  34.7184,2,     17.7,2, 10.7674,     21.3,2,    31.68,2,    33.57,2,     0.00,2,     2.35,2,    0.113,2,    0.080,2,    0.314,2,   1.8130,2,     6.90,2,   -999.0,9,  -999.00,9,   -999.0,9,   -999.0,9,  -999.0,  0.0090,   0.150,  -999.0,   0.006
   31WTTUNES_1,  P17C,    61,  1,     22,     22,3,19910622,1549, 12.5000,-134.9967, 4849,    353.1,  10.0395,  34.6915,2,  34.4822,4,      9.1,2,  9.9982,     10.4,2,    35.38,2,    35.32,2,     0.00,2,     2.50,2,    0.048,2,    0.032,2,    0.137,2,   1.8240,2,     5.99,2,   -999.0,9,  -999.00,9,   -999.0,9,   -999.0,9,  -999.0,  0.0090,   0.150,  -999.0,   0.004
   31WTTUNES_1,  P17C,    61,  1,     23,     23,2,19910622,1549, 12.5000,-134.9967, 4849,    454.7,   9.2338,  34.6483,2,  34.6500,2,      4.3,2,  9.1831,      4.2,2,    42.20,2,    36.02,2,     0.00,2,     2.69,2,    0.012,2,    0.011,2,    0.038,2,   1.9030,2,     5.62,2,   -999.0,9,  -999.00,9,   -999.0,9,   -999.0,9,  -999.0,  0.0090,   0.150,  -999.0,   0.002
   31WTTUNES_1,  P17C,    61,  1,     24,     24,2,19910622,1549, 12.5000,-134.9967, 4849,    555.3,   8.1832,  34.5901,2,  34.5901,2,      5.7,2,  8.1253,      6.1,2,    51.61,2,    36.89,2,     0.00,2,     2.86,2,    0.004,2,    0.000,2, -999.000,9,-999.0000,9,  -999.00,9,   -999.0,9,  -999.00,9,   -999.0,9,   -999.0,9,  -999.0,-999.0000,-999.000,  -999.0,-999.000
   31WTTUNES_1,  P17C,    61,  1,     25,     25,2,19910622,1549, 12.5000,-134.9967, 4849,    656.9,   7.0267,  34.5382,2,  34.5408,2,     15.9,2,  6.9635,     14.6,2,    61.58,2,    39.29,2,     0.00,2,     2.93,2,    0.006,2,    0.000,2, -999.000,9,-999.0000,9,  -999.00,9,   -999.0,9,  -999.00,9,   -999.0,9,   -999.0,9,  -999.0,-999.0000,-999.000,  -999.0,-999.000
   31WTTUNES_1,  P17C,    61,  1,     26,     26,2,19910622,1549, 12.5000,-134.9967, 4849,    756.0,   6.1542,  34.5226,2,  34.5241,2,     18.9,2,  6.0859,     18.6,2,    72.29,2,    41.30,2,     0.00,2,     3.00,2,   -0.002,2,    0.000,2, -999.000,9,-999.0000,9,  -999.00,9,   -999.0,9,  -999.00,9,   -999.0,9,   -999.0,9,  -999.0,-999.0000,-999.000,  -999.0,-999.000
   31WTTUNES_1,  P17C,    61,  1,     27,     27,2,19910622,1549, 12.5000,-134.9967, 4849,    862.0,   5.5045,  34.5323,2,  34.5356,2,     18.1,2,  5.4302,     18.3,2,    81.33,2,    43.28,2,     0.00,2,     3.09,2,    0.003,2,    0.000,2, -999.000,9,-999.0000,9,  -999.00,9,   -999.0,9,  -999.00,9,   -999.0,9,   -999.0,9,  -999.0,-999.0000,-999.000,  -999.0,-999.000
   31WTTUNES_1,  P17C,    61,  1,     28,     28,2,19910622,1549, 12.5000,-134.9967, 4849,    966.5,   4.9688,  34.5325,2,  34.5345,2,     25.9,2,  4.8887,     24.8,2,    90.57,2,    43.64,2,     0.00,2,     3.10,2,    0.003,2,    0.000,2, -999.000,9,-999.0000,9,  -999.00,9,   -999.0,9,  -999.00,9,   -999.0,9,   -999.0,9,  -999.0,-999.0000,-999.000,  -999.0,-999.000
   31WTTUNES_1,  P17C,    61,  1,     29,     29,2,19910622,1549, 12.5000,-134.9967, 4849,   1108.7,   4.3822,  34.5490,2,  34.5506,2,     34.3,2,  4.2940,     39.4,2,   100.91,2,    42.90,2,     0.00,2,     3.06,2,    0.002,2,    0.004,2, -999.000,9,   1.8650,2,    19.32,2,   -999.0,9,  -999.00,9,   -999.0,9,   -999.0,9,  -999.0,-999.0000,-999.000,  -999.0,-999.000
   31WTTUNES_1,  P17C,    61,  1,     30,     30,2,19910622,1549, 12.5000,-134.9967, 4849,   1313.1,   3.6686,  34.5702,2,  34.5714,2,     47.0,2,  3.5693,     47.7,2,   116.23,2,    42.66,2,     0.00,2,     3.03,2,    0.001,2,    0.000,2, -999.000,9,-999.0000,5,    22.01,3,   -999.0,9,  -999.00,9,   -999.0,9,   -999.0,9,  -999.0,-999.0000,-999.000,  -999.0,-999.000
   31WTTUNES_1,  P17C,    61,  1,     31,     31,2,19910622,1549, 12.5000,-134.9967, 4849,   1513.2,   3.1629,  34.5906,2,  34.5926,2,     60.3,2,  3.0520,     61.4,2,   127.12,2,    41.94,2,     0.00,2,     2.95,2,    0.005,2,    0.004,2, -999.000,9,   1.8940,2,    23.23,2,   -999.0,9,  -999.00,9,   -999.0,9,   -999.0,9,  -999.0,-999.0000,-999.000,  -999.0,-999.000
   31WTTUNES_1,  P17C,    61,  1,     32,     32,2,19910622,1549, 12.5000,-134.9967, 4849,   1715.2,   2.7322,  34.6083,2,  34.6091,2,     72.6,2,  2.6095,     72.3,2,   136.91,2,    41.06,2,     0.00,2,     2.88,2,    0.003,2,    0.000,2, -999.000,9,   1.9230,2,    24.64,2,   -999.0,9,  -999.00,9,   -999.0,9,   -999.0,9,  -999.0,-999.0000,-999.000,  -999.0,-999.000
   31WTTUNES_1,  P17C,    61,  1,     33,     33,2,19910622,1549, 12.5000,-134.9967, 4849,   1925.2,   2.4124,  34.6232,2,  34.6236,2,     82.3,2,  2.2762,     81.6,2,   143.93,2,    40.55,2,     0.00,2,     2.82,2,    0.002,2,    0.000,2, -999.000,9,   1.9080,2,    25.79,2,   -999.0,9,  -999.00,9,   -999.0,9,   -999.0,9,  -999.0,-999.0000,-999.000,  -999.0,-999.000
   31WTTUNES_1,  P17C,    61,  1,     34,     34,9,19910622,1549, 12.5000,-134.9967, 4849,   2078.4,   2.1845,  34.6333,2,-999.0000,9,     90.3,2,  2.0386,   -999.0,9,  -999.00,9,  -999.00,9,  -999.00,9,  -999.00,9, -999.000,9, -999.000,9, -999.000,9,-999.0000,9,  -999.00,9,   -999.0,9,  -999.00,9,   -999.0,9,   -999.0,9,  -999.0,-999.0000,-999.000,  -999.0,-999.000
   31WTTUNES_1,  P17C,    61,  1,     35,     35,2,19910622,1549, 12.5000,-134.9967, 4849,   2225.1,   2.0226,  34.6451,2,  34.6433,2,     98.3,2,  1.8665,     99.4,2,   151.69,2,    39.34,2,     0.00,2,     2.72,2,    0.013,3,    0.000,2, -999.000,9,   1.9140,2,    25.88,2,   -999.0,9,  -999.00,9,   -999.0,9,   -999.0,9,  -999.0,-999.0000,-999.000,  -999.0,-999.000
   31WTTUNES_1,  P17C,    61,  1,     36,     36,2,19910622,1549, 12.5000,-134.9967, 4849,   2376.6,   1.9167,  34.6520,2,  34.6515,2,    105.7,2,  1.7491,    106.2,2,   153.17,2,    39.00,2,     0.00,2,     2.68,2,    0.004,2,    0.000,2, -999.000,9,   1.9080,2,    27.22,2,   -999.0,9,  -999.00,9,   -999.0,9,   -999.0,9,  -999.0,-999.0000,-999.000,  -999.0,-999.000
   31WTTUNES_1,  P17C,    61,  1,      1,      1,2,19910622,1549, 12.5000,-134.9967, 4849,   2533.9,   1.8348,  34.6582,2,  34.6588,2,    110.0,2,  1.6545,    109.7,2,   155.21,2,    38.66,2,     0.00,2,     2.65,2,   -0.003,2,    0.000,2, -999.000,9,   1.9240,2,    27.65,2,   -999.0,9,  -999.00,9,   -999.0,9,   -999.0,9,  -999.0,-999.0000,-999.000,  -999.0,-999.000
   31WTTUNES_1,  P17C,    61,  1,      2,      2,2,19910622,1549, 12.5000,-134.9967, 4849,   2684.2,   1.7688,  34.6650,2,  34.6629,2,    114.0,2,  1.5760,    114.0,2,   155.58,2,    38.22,2,     0.00,2,     2.63,2,    0.002,2,    0.000,2, -999.000,9,   1.9190,2,    27.96,2,   -999.0,9,  -999.00,9,   -999.0,9,   -999.0,9,  -999.0,-999.0000,-999.000,  -999.0,-999.000
   31WTTUNES_1,  P17C,    61,  1,      3,      3,2,19910622,1549, 12.5000,-134.9967, 4849,   2836.8,   1.7258,  34.6678,2,  34.6671,2,    117.7,2,  1.5197,    116.7,2,   157.25,2,    37.95,2,     0.00,2,     2.60,2,   -0.002,2,    0.000,2, -999.000,9,   1.9160,2,    27.00,2,   -999.0,9,  -999.00,9,   -999.0,9,   -999.0,9,  -999.0,-999.0000,-999.000,  -999.0,-999.000
   31WTTUNES_1,  P17C,    61,  1,      4,      4,2,19910622,1549, 12.5000,-134.9967, 4849,   2990.9,   1.6799,  34.6703,2,  34.6706,2,    121.5,2,  1.4600,    120.2,2,   158.00,2,    37.82,2,     0.00,2,     2.58,2,    0.001,2,    0.004,2, -999.000,9,   1.9270,2,    25.60,2,   -999.0,9,  -999.00,9,   -999.0,9,   -999.0,9,  -999.0,-999.0000,-999.000,  -999.0,-999.000
   31WTTUNES_1,  P17C,    61,  1,      5,      5,2,19910622,1549, 12.5000,-134.9967, 4849,   3140.0,   1.6309,  34.6728,2,  34.6724,2,    124.3,2,  1.3977,    125.1,2,   159.48,2,    37.64,2,     0.00,2,     2.57,2,   -0.003,2,    0.000,2, -999.000,9,   1.9110,2,    23.66,2,   -999.0,9,  -999.00,9,   -999.0,9,   -999.0,9,  -999.0,-999.0000,-999.000,  -999.0,-999.000
   31WTTUNES_1,  P17C,    61,  1,      6,      6,2,19910622,1549, 12.5000,-134.9967, 4849,   3399.5,   1.5670,  34.6747,2,  34.6755,2,    131.7,2,  1.3094,    122.3,3,   159.85,2,    37.26,2,     0.00,2,     2.53,2,   -0.003,2,    0.012,4, -999.000,9,   1.9100,2,    20.94,2,   -999.0,9,  -999.00,9,   -999.0,9,   -999.0,9,  -999.0,-999.0000,-999.000,  -999.0,-999.000
   31WTTUNES_1,  P17C,    61,  1,      7,      7,2,19910622,1549, 12.5000,-134.9967, 4849,   3651.6,   1.5150,  34.6779,2,  34.6810,2,    139.2,2,  1.2328,    139.3,2,   158.19,2,    36.82,2,     0.00,2,     2.50,2,    0.003,2,    0.023,4, -999.000,9,   1.9000,2,    18.30,2,   -999.0,9,  -999.00,9,   -999.0,9,   -999.0,9,  -999.0,-999.0000,-999.000,  -999.0,-999.000
   31WTTUNES_1,  P17C,    61,  1,      8,      8,2,19910622,1549, 12.5000,-134.9967, 4849,   3904.4,   1.4540,  34.6827,2,  34.6844,2,    150.2,2,  1.1468,    150.0,2,   152.47,2,    36.02,2,     0.00,2,     2.45,2,   -0.001,2,    0.000,2, -999.000,9,   1.8960,2,    16.24,2,   -999.0,9,  -999.00,9,   -999.0,9,   -999.0,9,  -999.0,-999.0000,-999.000,  -999.0,-999.000
   31WTTUNES_1,  P17C,    61,  1,      9,      9,2,19910622,1549, 12.5000,-134.9967, 4849,   4163.2,   1.4131,  34.6892,2,  34.6891,2,    159.4,2,  1.0787,    158.9,2,   146.56,2,    35.37,2,     0.01,2,     2.41,2,    0.001,2,    0.000,2, -999.000,9,   1.8620,2,    14.81,2,   -999.0,9,  -999.00,9,   -999.0,9,   -999.0,9,  -999.0,-999.0000,-999.000,  -999.0,-999.000
   31WTTUNES_1,  P17C,    61,  1,     10,     10,2,19910622,1549, 12.5000,-134.9967, 4849,   4421.9,   1.4191,  34.6898,2,  34.6912,2,    163.5,2,  1.0555,    163.8,2,   144.16,2,    35.14,2,     0.01,2,     2.37,2,    0.000,2,    0.000,2, -999.000,9,   1.8630,2,    15.44,2,   -999.0,9,  -999.00,9,   -999.0,9,   -999.0,9,  -999.0,-999.0000,-999.000,  -999.0,-999.000
   31WTTUNES_1,  P17C,    61,  1,     11,     11,2,19910622,1549, 12.5000,-134.9967, 4849,   4658.9,   1.4420,  34.6896,2,  34.6895,2,    164.9,2,  1.0504,    163.9,2,   143.24,2,    34.97,2,     0.00,2,     2.39,2,    0.000,2,    0.000,2, -999.000,9,   1.8870,2,    14.99,2,   -999.0,9,  -999.00,9,   -999.0,9,   -999.0,9,  -999.0,-999.0000,-999.000,  -999.0,-999.000
   31WTTUNES_1,  P17C,    61,  1,     12,     12,2,19910622,1549, 12.5000,-134.9967, 4849,   4928.2,   1.4710,  34.6904,2,  34.6916,2,   -999.0,9,  1.0464,    164.8,2,   143.06,2,    35.00,2,     0.00,2,     2.36,2,    0.001,2,    0.003,2, -999.000,9,   1.9000,2,    15.07,2,   -999.0,9,  -999.00,9,   -999.0,9,   -999.0,9,  -999.0,-999.0000,-999.000,  -999.0,-999.000