BOTTLE,20220819CCHSIOAMB
EXPOCODE,SECT_ID,STNNBR,CASTNO,SAMPNO,BTLNBR,BTLNBR_FLAG_W,DATE,TIME,LATITUDE,LONGITUDE,DEPTH,CTDPRS,CTDTMP,CTDSAL,CTDSAL_FLAG_W,SALNTY,SALNTY_FLAG_W,CTDOXY,CTDOXY_FLAG_W,THETA,OXYGEN,OXYGEN_FLAG_W,SILCAT,SILCAT_FLAG_W,NITRAT,NITRAT_FLAG_W,NITRIT,NITRIT_FLAG_W,PHSPHT,PHSPHT_FLAG_W,CFC-11,CFC-11_FLAG_W,CFC-12,CFC-12_FLAG_W,TRITUM,TRITUM_FLAG_W,HELIUM,HELIUM_FLAG_W,DELHE3,DELHE3_FLAG_W,DELC14,DELC14_FLAG_W,DELC13,DELC13_FLAG_W,TCARBN,TCARBN_FLAG_W,ALKALI,ALKALI_FLAG_W,C14ERR,HELIER,DELHER,C13ERR,TRITER
,,,,,,,,,,,,DBAR,ITS-90,PSS-78,,PSS-78,,UMOL/KG,,DEG C,UMOL/KG,,UMOL/KG,,UMOL/KG,,UMOL/KG,,UMOL/KG,,PMOL/KG,,PMOL/KG,,TU,,NMOL/KG,,PERCNT,,/MILLE,,/MILLE,,UMOL/KG,,UMOL/KG,,/MILLE,NMOL/KG,PERCNT,/MILLE,TU
   31WTTUNES_1,  P17C,    21,  1,      1,      1,2,19910610,0302, 32.5967,-135.0000, 4161,      1.8,  17.7350,  34.2330,2,  34.2374,2,    245.5,4, 17.7347,    253.7,3,     4.05,2,     0.19,2,     0.00,2,     0.29,2, -999.000,9, -999.000,9, -999.000,9,-999.0000,9,  -999.00,9,   -999.0,9,  -999.00,9,   -999.0,9,   -999.0,9,  -999.0,-999.0000,-999.000,  -999.0,-999.000
   31WTTUNES_1,  P17C,    21,  1,      2,      2,2,19910610,0302, 32.5967,-135.0000, 4161,     49.0,  17.5330,  34.3469,2,  34.3491,2,    244.9,2, 17.5248,    244.9,2,     3.37,2,     0.19,2,     0.00,2,     0.26,2, -999.000,9, -999.000,9, -999.000,9,-999.0000,9,  -999.00,9,   -999.0,9,  -999.00,9,   -999.0,9,   -999.0,9,  -999.0,-999.0000,-999.000,  -999.0,-999.000
   31WTTUNES_1,  P17C,    21,  1,      3,      3,2,19910610,0302, 32.5967,-135.0000, 4161,     75.8,  17.5547,  34.4700,2,  34.4806,2,    240.6,2, 17.5420,    253.8,3,     3.55,2,     0.19,2,     0.00,2,     0.23,2, -999.000,9, -999.000,9, -999.000,9,-999.0000,9,  -999.00,9,   -999.0,9,  -999.00,9,   -999.0,9,   -999.0,9,  -999.0,-999.0000,-999.000,  -999.0,-999.000
   31WTTUNES_1,  P17C,    21,  1,      4,      4,2,19910610,0302, 32.5967,-135.0000, 4161,    102.5,  17.1996,  34.4925,2,  34.4838,2,    234.6,2, 17.1827,    243.9,2,     3.30,2,     0.13,2,     0.00,2,     0.23,2, -999.000,9, -999.000,9,    2.418,2,   1.8520,2,    -1.00,2,   -999.0,9,  -999.00,9,   -999.0,9,   -999.0,9,  -999.0,  0.0090,   0.150,  -999.0,   0.015
   31WTTUNES_1,  P17C,    21,  1,      5,      5,2,19910610,0302, 32.5967,-135.0000, 4161,    128.4,  16.2523,  34.3535,2,  34.3402,2,    240.4,2, 16.2319,    233.4,2,     3.70,2,     0.84,2,     0.15,2,     0.29,2, -999.000,9, -999.000,9, -999.000,9,-999.0000,9,  -999.00,9,   -999.0,9,  -999.00,9,   -999.0,9,   -999.0,9,  -999.0,-999.0000,-999.000,  -999.0,-999.000
   31WTTUNES_1,  P17C,    21,  1,      6,      6,2,19910610,0302, 32.5967,-135.0000, 4161,    155.5,  14.4988,  34.1207,2,  34.1067,2,    229.5,2, 14.4760,    228.0,2,     4.95,2,     3.15,2,     0.07,2,     0.44,2, -999.000,9, -999.000,9,    2.430,2,   1.8110,2,     0.29,2,   -999.0,9,  -999.00,9,   -999.0,9,   -999.0,9,  -999.0,  0.0090,   0.150,  -999.0,   0.017
   31WTTUNES_1,  P17C,    21,  1,      7,      7,2,19910610,0302, 32.5967,-135.0000, 4161,    181.6,  12.7754,  33.9190,2,  33.9201,2,    227.6,2, 12.7510,    227.4,2,     6.64,2,     6.04,2,     0.01,2,     0.61,2, -999.000,9, -999.000,9, -999.000,9,-999.0000,9,  -999.00,9,   -999.0,9,  -999.00,9,   -999.0,9,   -999.0,9,  -999.0,-999.0000,-999.000,  -999.0,-999.000
   31WTTUNES_1,  P17C,    21,  1,      8,      8,2,19910610,0302, 32.5967,-135.0000, 4161,    207.8,  11.5374,  33.9060,2,  33.8956,2,    219.9,2, 11.5112,    216.0,2,     9.40,2,     9.31,2,     0.01,2,     0.80,2, -999.000,9, -999.000,9,    2.305,2,   1.8330,2,     2.38,2,   -999.0,9,  -999.00,9,   -999.0,9,   -999.0,9,  -999.0,  0.0090,   0.150,  -999.0,   0.016
   31WTTUNES_1,  P17C,    21,  1,      9,      9,2,19910610,0302, 32.5967,-135.0000, 4161,    228.5,  10.5603,  33.8651,2,  33.8647,2,    217.4,2, 10.5332,    217.3,2,    12.37,2,    12.08,2,     0.01,2,     0.97,2, -999.000,9, -999.000,9, -999.000,9,-999.0000,9,  -999.00,9,   -999.0,9,  -999.00,9,   -999.0,9,   -999.0,9,  -999.0,-999.0000,-999.000,  -999.0,-999.000
   31WTTUNES_1,  P17C,    21,  1,     10,     10,2,19910610,0302, 32.5967,-135.0000, 4161,    254.5,   9.6022,  33.8557,2,  33.8646,2,    207.1,2,  9.5738,    210.0,2,    16.62,2,    15.35,2,     0.00,2,     1.19,2, -999.000,9, -999.000,9,    2.297,2,   0.0000,2,  -999.00,9,   -999.0,9,  -999.00,9,   -999.0,9,   -999.0,9,  -999.0,-999.0000,   0.150,  -999.0,   0.015
   31WTTUNES_1,  P17C,    21,  1,     11,     11,2,19910610,0302, 32.5967,-135.0000, 4161,    301.0,   8.5704,  33.9936,2,  33.9976,2,    189.7,2,  8.5389,    189.0,2,    26.88,2,    20.53,2,     0.00,2,     1.50,2, -999.000,9, -999.000,9, -999.000,5,   1.8760,2,     8.62,2,   -999.0,9,  -999.00,9,   -999.0,9,   -999.0,9,  -999.0,  0.0090,   0.150,  -999.0,-999.000
   31WTTUNES_1,  P17C,    21,  1,     12,     12,2,19910610,0302, 32.5967,-135.0000, 4161,    358.8,   7.5791,  33.9964,2,  33.9981,2,    156.5,2,  7.5441,    157.9,2,    38.84,2,    25.88,2,     0.01,2,     1.83,2, -999.000,9, -999.000,9, -999.000,9,-999.0000,9,  -999.00,9,   -999.0,9,  -999.00,9,   -999.0,9,   -999.0,9,  -999.0,-999.0000,-999.000,  -999.0,-999.000
   31WTTUNES_1,  P17C,    21,  1,     13,     13,2,19910610,0302, 32.5967,-135.0000, 4161,    406.3,   6.8351,  33.9792,2,  33.9809,2,    142.4,2,  6.7976,    137.0,2,    48.01,2,    29.18,2,     0.00,2,     2.05,2, -999.000,9, -999.000,9,    1.859,2,   1.8680,2,    15.86,2,   -999.0,9,  -999.00,9,   -999.0,9,   -999.0,9,  -999.0,  0.0090,   0.150,  -999.0,   0.013
   31WTTUNES_1,  P17C,    21,  1,     14,     14,2,19910610,0302, 32.5967,-135.0000, 4161,    458.4,   6.0854,  33.9704,2,  33.9753,2,    114.7,2,  6.0456,    120.7,2,    58.46,2,    32.93,2,     0.00,2,     2.34,2, -999.000,9, -999.000,9, -999.000,9,-999.0000,9,  -999.00,9,   -999.0,9,  -999.00,9,   -999.0,9,   -999.0,9,  -999.0,-999.0000,-999.000,  -999.0,-999.000
   31WTTUNES_1,  P17C,    21,  1,     15,     15,2,19910610,0302, 32.5967,-135.0000, 4161,    509.8,   5.6067,  33.9918,2,  33.9978,2,     87.0,2,  5.5640,     89.9,2,    68.90,2,    35.94,2,     0.00,2,     2.59,2, -999.000,9, -999.000,9,    1.465,2,   1.8920,2,    18.56,2,   -999.0,9,  -999.00,9,   -999.0,9,   -999.0,9,  -999.0,  0.0090,   0.150,  -999.0,   0.012
   31WTTUNES_1,  P17C,    21,  1,     16,     16,2,19910610,0302, 32.5967,-135.0000, 4161,    612.9,   4.8417,  34.0895,2,  34.0967,2,     42.4,2,  4.7935,     42.9,2,    89.17,2,    40.96,2,     0.00,2,     2.94,2, -999.000,9, -999.000,9, -999.000,5,   1.8890,2,    15.00,2,   -999.0,9,  -999.00,9,   -999.0,9,   -999.0,9,  -999.0,  0.0090,   0.150,  -999.0,-999.000
   31WTTUNES_1,  P17C,    21,  1,     17,     17,2,19910610,0302, 32.5967,-135.0000, 4161,    710.9,   4.4500,  34.1908,2,  34.1949,2,     22.3,2,  4.3957,     25.3,3,   104.07,2,    42.85,2,     0.00,2,     3.07,2, -999.000,9, -999.000,9, -999.000,9,-999.0000,9,  -999.00,9,   -999.0,9,  -999.00,9,   -999.0,9,   -999.0,9,  -999.0,-999.0000,-999.000,  -999.0,-999.000
   31WTTUNES_1,  P17C,    21,  1,     18,     18,2,19910610,0302, 32.5967,-135.0000, 4161,    809.3,   4.1613,  34.2834,2,  34.2881,2,     15.8,2,  4.1005,     16.0,3,   113.82,2,    43.95,2,     0.00,2,     3.17,2, -999.000,9, -999.000,9, -999.000,9,-999.0000,9,  -999.00,9,   -999.0,9,  -999.00,9,   -999.0,9,   -999.0,9,  -999.0,-999.0000,-999.000,  -999.0,-999.000
   31WTTUNES_1,  P17C,    21,  1,     19,     19,2,19910610,0302, 32.5967,-135.0000, 4161,    907.5,   3.8609,  34.3674,2,  34.3702,2,     15.5,2,  3.7940,     13.7,2,   123.35,2,    43.95,2,     0.00,2,     3.23,2, -999.000,9, -999.000,9, -999.000,9,-999.0000,9,  -999.00,9,   -999.0,9,  -999.00,9,   -999.0,9,   -999.0,9,  -999.0,-999.0000,-999.000,  -999.0,-999.000
   31WTTUNES_1,  P17C,    21,  1,     20,     20,2,19910610,0302, 32.5967,-135.0000, 4161,   1007.0,   3.5926,  34.4242,2,  34.4272,2,     18.7,2,  3.5197,     20.7,2,   130.56,2,    43.57,2,     0.00,2,     3.21,2, -999.000,9, -999.000,9, -999.000,9,   1.8890,2,    17.44,2,   -999.0,9,  -999.00,9,   -999.0,9,   -999.0,9,  -999.0,-999.0000,-999.000,  -999.0,-999.000
   31WTTUNES_1,  P17C,    21,  1,     21,     21,2,19910610,0302, 32.5967,-135.0000, 4161,   1212.3,   3.0940,  34.5000,2,  34.5026,2,     33.1,2,  3.0088,     36.2,2,   141.56,2,    43.17,2,     0.01,2,     3.14,2, -999.000,9, -999.000,9, -999.000,9,   1.9100,2,    20.01,2,   -999.0,9,  -999.00,9,   -999.0,9,   -999.0,9,  -999.0,-999.0000,-999.000,  -999.0,-999.000
   31WTTUNES_1,  P17C,    21,  1,     22,     22,2,19910610,0302, 32.5967,-135.0000, 4161,   1415.2,   2.8077,  34.5328,2,  34.5333,2,     46.4,2,  2.7091,     47.9,2,   148.50,2,    42.89,2,     0.00,2,     3.11,2, -999.000,9, -999.000,9, -999.000,9,   1.9120,2,    21.38,2,   -999.0,9,  -999.00,9,   -999.0,9,   -999.0,9,  -999.0,-999.0000,-999.000,  -999.0,-999.000
   31WTTUNES_1,  P17C,    21,  1,     23,     23,2,19910610,0302, 32.5967,-135.0000, 4161,   1617.5,   2.4694,  34.5673,2,  34.5714,2,     59.3,2,  2.3583,     58.8,2,   155.87,2,    42.15,2,     0.00,2,     3.03,2, -999.000,9, -999.000,9, -999.000,9,   1.9170,2,    22.94,2,   -999.0,9,  -999.00,9,   -999.0,9,   -999.0,9,  -999.0,-999.0000,-999.000,  -999.0,-999.000
   31WTTUNES_1,  P17C,    21,  1,     24,     24,2,19910610,0302, 32.5967,-135.0000, 4161,   1822.9,   2.1759,  34.5934,2,  34.5984,2,     69.4,2,  2.0518,     73.6,2,   164.07,2,    41.47,2,     0.00,2,     2.98,2, -999.000,9, -999.000,9, -999.000,9,   1.9250,2,    23.90,2,   -999.0,9,  -999.00,9,   -999.0,9,   -999.0,9,  -999.0,-999.0000,-999.000,  -999.0,-999.000
   31WTTUNES_1,  P17C,    21,  1,     25,     25,2,19910610,0302, 32.5967,-135.0000, 4161,   2025.4,   1.9902,  34.6113,2,  34.6148,2,     77.4,2,  1.8518,     78.9,2,   169.51,2,    40.91,2,     0.01,2,     2.93,2, -999.000,9, -999.000,9,    0.002,2,   1.9370,2,    24.10,2,   -999.0,9,  -999.00,9,   -999.0,9,   -999.0,9,  -999.0,-999.0000,-999.000,  -999.0,   0.001
   31WTTUNES_1,  P17C,    21,  1,     26,     26,2,19910610,0302, 32.5967,-135.0000, 4161,   2230.3,   1.8741,  34.6257,2,  34.6297,2,     87.5,2,  1.7201,     92.6,3,   171.10,2,    40.23,2,     0.01,2,     2.89,2, -999.000,9, -999.000,9, -999.000,9,   1.9350,2,    23.94,2,   -999.0,9,  -999.00,9,   -999.0,9,   -999.0,9,  -999.0,-999.0000,-999.000,  -999.0,-999.000
   31WTTUNES_1,  P17C,    21,  1,     27,     27,2,19910610,0302, 32.5967,-135.0000, 4161,   2428.0,   1.7806,  34.6367,2,  34.6402,2,     96.5,2,  1.6109,     96.7,2,   171.32,2,    39.84,2,     0.01,2,     2.85,2, -999.000,9, -999.000,9,   -0.001,2,   1.9290,2,    23.15,2,   -999.0,9,  -999.00,9,   -999.0,9,   -999.0,9,  -999.0,-999.0000,-999.000,  -999.0,   0.001
   31WTTUNES_1,  P17C,    21,  1,     28,     28,2,19910610,0302, 32.5967,-135.0000, 4161,   2637.0,   1.6790,  34.6497,2,  34.6507,2,    105.4,2,  1.4924,    108.1,3,   173.12,2,    39.28,2,     0.01,2,     2.78,2, -999.000,9, -999.000,9, -999.000,9,   1.9190,2,    21.02,2,   -999.0,9,  -999.00,9,   -999.0,9,   -999.0,9,  -999.0,-999.0000,-999.000,  -999.0,-999.000
   31WTTUNES_1,  P17C,    21,  1,     29,     29,2,19910610,0302, 32.5967,-135.0000, 4161,   2835.6,   1.6248,  34.6539,2,  34.6554,2,    110.4,2,  1.4210,    112.4,3,   174.50,2,    39.07,2,     0.01,2,     2.78,2, -999.000,9, -999.000,9, -999.000,9,   1.9190,2,    20.07,2,   -999.0,9,  -999.00,9,   -999.0,9,   -999.0,9,  -999.0,-999.0000,-999.000,  -999.0,-999.000
   31WTTUNES_1,  P17C,    21,  1,     30,     30,2,19910610,0302, 32.5967,-135.0000, 4161,   3044.7,   1.5592,  34.6619,2,  34.6628,2,    117.7,2,  1.3369,    121.7,2,   173.12,2,    38.51,2,     0.01,2,     2.73,2, -999.000,9, -999.000,9,    0.003,2,   1.9190,2,    18.74,2,   -999.0,9,  -999.00,9,   -999.0,9,   -999.0,9,  -999.0,-999.0000,-999.000,  -999.0,   0.002
   31WTTUNES_1,  P17C,    21,  1,     31,     31,4,19910610,0302, 32.5967,-135.0000, 4161,   3044.7,   1.5592,  34.6619,2,  34.6630,2,    117.7,2,  1.3369,    121.6,2,   173.01,2,    38.51,2,     0.01,2,     2.74,2, -999.000,9, -999.000,9, -999.000,9,-999.0000,9,  -999.00,9,   -999.0,9,  -999.00,9,   -999.0,9,   -999.0,9,  -999.0,-999.0000,-999.000,  -999.0,-999.000
   31WTTUNES_1,  P17C,    21,  1,     32,     32,2,19910610,0302, 32.5967,-135.0000, 4161,   3453.6,   1.4865,  34.6726,2,  34.6751,2,    132.7,2,  1.2255,    137.9,3,   168.45,2,    37.56,2,     0.01,2,     2.64,2, -999.000,9, -999.000,9,    0.002,2,   1.9180,2,    17.87,2,   -999.0,9,  -999.00,9,   -999.0,9,   -999.0,9,  -999.0,-999.0000,-999.000,  -999.0,   0.001
   31WTTUNES_1,  P17C,    21,  1,     33,     33,2,19910610,0302, 32.5967,-135.0000, 4161,   3657.0,   1.4765,  34.6777,2,  34.6790,2,    137.8,2,  1.1948,    139.5,2,   165.91,2,    37.24,2,     0.01,2,     2.61,2, -999.000,9, -999.000,9, -999.000,9,   1.9210,2,    16.92,2,   -999.0,9,  -999.00,9,   -999.0,9,   -999.0,9,  -999.0,-999.0000,-999.000,  -999.0,-999.000
   31WTTUNES_1,  P17C,    21,  1,     34,     34,4,19910610,0302, 32.5967,-135.0000, 4161,   3657.0,   1.4765,  34.6777,2,  34.6789,2,    137.8,2,  1.1948,    139.1,2,   166.65,2,    37.25,2,     0.00,2,     2.62,2, -999.000,9, -999.000,9, -999.000,9,-999.0000,9,  -999.00,9,   -999.0,9,  -999.00,9,   -999.0,9,   -999.0,9,  -999.0,-999.0000,-999.000,  -999.0,-999.000
   31WTTUNES_1,  P17C,    21,  1,     35,     35,2,19910610,0302, 32.5967,-135.0000, 4161,   4052.2,   1.4778,  34.6820,2,  34.6841,2,    144.7,2,  1.1539,    150.8,3,   162.52,2,    36.80,2,     0.00,2,     2.58,2, -999.000,9, -999.000,9, -999.000,9,   1.9010,2,    16.53,2,   -999.0,9,  -999.00,9,   -999.0,9,   -999.0,9,  -999.0,-999.0000,-999.000,  -999.0,-999.000
   31WTTUNES_1,  P17C,    21,  1,     36,     36,2,19910610,0302, 32.5967,-135.0000, 4161,   4253.6,   1.4925,  34.6821,2,  34.6851,2,   -999.0,9,  1.1458,    148.7,2,   160.51,2,    36.64,2,     0.00,2,     2.57,2, -999.000,9, -999.000,9, -999.000,9,   1.9170,2,    16.18,2,   -999.0,9,  -999.00,9,   -999.0,9,   -999.0,9,  -999.0,-999.0000,-999.000,  -999.0,-999.000