BOTTLE,20220819CCHSIOAMB
EXPOCODE,SECT_ID,STNNBR,CASTNO,SAMPNO,BTLNBR,BTLNBR_FLAG_W,DATE,TIME,LATITUDE,LONGITUDE,DEPTH,CTDPRS,CTDTMP,CTDSAL,CTDSAL_FLAG_W,SALNTY,SALNTY_FLAG_W,CTDOXY,CTDOXY_FLAG_W,THETA,OXYGEN,OXYGEN_FLAG_W,SILCAT,SILCAT_FLAG_W,NITRAT,NITRAT_FLAG_W,NITRIT,NITRIT_FLAG_W,PHSPHT,PHSPHT_FLAG_W,CFC-11,CFC-11_FLAG_W,CFC-12,CFC-12_FLAG_W,TRITUM,TRITUM_FLAG_W,HELIUM,HELIUM_FLAG_W,DELHE3,DELHE3_FLAG_W,DELC14,DELC14_FLAG_W,DELC13,DELC13_FLAG_W,TCARBN,TCARBN_FLAG_W,ALKALI,ALKALI_FLAG_W,C14ERR,HELIER,DELHER,C13ERR,TRITER
,,,,,,,,,,,,DBAR,ITS-90,PSS-78,,PSS-78,,UMOL/KG,,DEG C,UMOL/KG,,UMOL/KG,,UMOL/KG,,UMOL/KG,,UMOL/KG,,PMOL/KG,,PMOL/KG,,TU,,NMOL/KG,,PERCNT,,/MILLE,,/MILLE,,UMOL/KG,,UMOL/KG,,/MILLE,NMOL/KG,PERCNT,/MILLE,TU
   31WTTUNES_1,  P17C,    30,  1,      1,      1,2,19910613,0309, 28.0050,-135.0017, 4197,      1.9,  19.8307,  35.0924,2,  35.0959,2,   -999.0,9, 19.8304,    230.5,2,     4.40,2,     0.10,2,     0.00,2,     0.11,2, -999.000,9, -999.000,9, -999.000,9,-999.0000,9,  -999.00,9,   -999.0,9,  -999.00,9,   -999.0,9,   -999.0,9,  -999.0,-999.0000,-999.000,  -999.0,-999.000
   31WTTUNES_1,  P17C,    30,  1,      2,      2,2,19910613,0309, 28.0050,-135.0017, 4197,     52.2,  19.6287,  35.0406,2,  35.0395,2,    238.9,2, 19.6192,    233.9,2,     4.10,2,     0.10,2,     0.00,2,     0.11,2, -999.000,9, -999.000,9, -999.000,9,-999.0000,9,  -999.00,9,   -999.0,9,  -999.00,9,   -999.0,9,   -999.0,9,  -999.0,-999.0000,-999.000,  -999.0,-999.000
   31WTTUNES_1,  P17C,    30,  1,      3,      3,2,19910613,0309, 28.0050,-135.0017, 4197,     78.9,  18.8057,  34.8692,2,  34.8328,2,    239.4,2, 18.7918,    234.0,2,     4.10,2,     0.00,2,     0.00,2,     0.13,2, -999.000,9, -999.000,9, -999.000,9,-999.0000,9,  -999.00,9,   -999.0,9,  -999.00,9,   -999.0,9,   -999.0,9,  -999.0,-999.0000,-999.000,  -999.0,-999.000
   31WTTUNES_1,  P17C,    30,  1,      4,      4,2,19910613,0309, 28.0050,-135.0017, 4197,    113.8,  18.2927,  34.8305,2,  34.8347,2,    241.9,2, 18.2730,    235.5,2,     3.91,2,     0.00,2,     0.00,2,     0.13,2, -999.000,9, -999.000,9, -999.000,9,-999.0000,9,  -999.00,9,   -999.0,9,  -999.00,9,   -999.0,9,   -999.0,9,  -999.0,-999.0000,-999.000,  -999.0,-999.000
   31WTTUNES_1,  P17C,    30,  1,      5,      5,2,19910613,0309, 28.0050,-135.0017, 4197,    140.5,  18.1288,  34.8257,2,  34.8292,2,    232.6,2, 18.1046,    231.8,2,     4.10,2,     0.39,2,     0.14,2,     0.15,2, -999.000,9, -999.000,9, -999.000,9,-999.0000,9,  -999.00,9,   -999.0,9,  -999.00,9,   -999.0,9,   -999.0,9,  -999.0,-999.0000,-999.000,  -999.0,-999.000
   31WTTUNES_1,  P17C,    30,  1,      6,      6,2,19910613,0309, 28.0050,-135.0017, 4197,    148.2,  18.0758,  34.8237,2,  34.8202,2,    221.4,2, 18.0503,    228.1,2,     3.71,2,     0.39,2,     0.18,2,     0.15,2, -999.000,9, -999.000,9, -999.000,9,-999.0000,9,  -999.00,9,   -999.0,9,  -999.00,9,   -999.0,9,   -999.0,9,  -999.0,-999.0000,-999.000,  -999.0,-999.000
   31WTTUNES_1,  P17C,    30,  1,      7,      7,2,19910613,0309, 28.0050,-135.0017, 4197,    175.8,  16.6999,  34.6407,2,  34.5678,2,    220.1,2, 16.6713,    219.4,2,     4.50,2,     2.64,2,     0.04,2,     0.29,2, -999.000,9, -999.000,9, -999.000,9,-999.0000,9,  -999.00,9,   -999.0,9,  -999.00,9,   -999.0,9,   -999.0,9,  -999.0,-999.0000,-999.000,  -999.0,-999.000
   31WTTUNES_1,  P17C,    30,  1,      8,      8,2,19910613,0309, 28.0050,-135.0017, 4197,    201.4,  14.0023,  34.2352,2,  34.2559,2,    213.8,2, 13.9734,    212.7,2,     6.55,2,     5.48,2,     0.01,2,     0.51,2, -999.000,9, -999.000,9, -999.000,9,-999.0000,9,  -999.00,9,   -999.0,9,  -999.00,9,   -999.0,9,   -999.0,9,  -999.0,-999.0000,-999.000,  -999.0,-999.000
   31WTTUNES_1,  P17C,    30,  1,      9,      9,2,19910613,0309, 28.0050,-135.0017, 4197,    225.9,  11.9508,  33.9768,2,  33.9755,2,    210.5,2, 11.9217,    214.1,2,     9.78,2,     8.90,2,     0.00,2,     0.74,2, -999.000,9, -999.000,9, -999.000,9,-999.0000,9,  -999.00,9,   -999.0,9,  -999.00,9,   -999.0,9,   -999.0,9,  -999.0,-999.0000,-999.000,  -999.0,-999.000
   31WTTUNES_1,  P17C,    30,  1,     10,     10,2,19910613,0309, 28.0050,-135.0017, 4197,    262.9,  10.2984,  33.9500,2,  33.9543,2,    208.1,2, 10.2676,    203.2,2,    16.43,2,    14.57,2,     0.00,2,     1.09,2, -999.000,9, -999.000,9, -999.000,9,-999.0000,9,  -999.00,9,   -999.0,9,  -999.00,9,   -999.0,9,   -999.0,9,  -999.0,-999.0000,-999.000,  -999.0,-999.000
   31WTTUNES_1,  P17C,    30,  1,     11,     11,2,19910613,0309, 28.0050,-135.0017, 4197,    304.4,   9.1868,  34.0173,2,  34.0244,2,    190.3,2,  9.1535,    190.3,2,    25.03,2,    19.46,2,     0.00,2,     1.38,2, -999.000,9, -999.000,9, -999.000,9,-999.0000,9,  -999.00,9,   -999.0,9,  -999.00,9,   -999.0,9,   -999.0,9,  -999.0,-999.0000,-999.000,  -999.0,-999.000
   31WTTUNES_1,  P17C,    30,  1,     12,     12,3,19910613,0309, 28.0050,-135.0017, 4197,    355.7,   8.1072,  34.0277,2,-999.0000,5,    166.9,2,  8.0711,   -999.0,5,  -999.00,5,  -999.00,5,  -999.00,5,  -999.00,5, -999.000,9, -999.000,9, -999.000,9,-999.0000,9,  -999.00,9,   -999.0,9,  -999.00,9,   -999.0,9,   -999.0,9,  -999.0,-999.0000,-999.000,  -999.0,-999.000
   31WTTUNES_1,  P17C,    30,  1,     13,     13,2,19910613,0309, 28.0050,-135.0017, 4197,    406.4,   7.3026,  34.0052,2,  34.0066,2,    148.6,2,  7.2637,    150.7,2,    44.89,2,    27.28,2,     0.00,2,     1.92,2, -999.000,9, -999.000,9, -999.000,9,-999.0000,9,  -999.00,9,   -999.0,9,  -999.00,9,   -999.0,9,   -999.0,9,  -999.0,-999.0000,-999.000,  -999.0,-999.000
   31WTTUNES_1,  P17C,    30,  1,     14,     14,2,19910613,0309, 28.0050,-135.0017, 4197,    457.9,   6.5060,  34.0054,2,  34.0060,2,    117.1,2,  6.4647,    114.8,2,    57.60,2,    31.98,2,     0.00,2,     2.27,2, -999.000,9, -999.000,9, -999.000,9,-999.0000,9,  -999.00,9,   -999.0,9,  -999.00,9,   -999.0,9,   -999.0,9,  -999.0,-999.0000,-999.000,  -999.0,-999.000
   31WTTUNES_1,  P17C,    30,  1,     15,     15,2,19910613,0309, 28.0050,-135.0017, 4197,    507.4,   5.6764,  34.0044,2,  34.0075,2,     91.6,2,  5.6337,     92.2,2,    70.21,2,    35.30,2,     0.01,2,     2.52,2, -999.000,9, -999.000,9, -999.000,9,-999.0000,9,  -999.00,9,   -999.0,9,  -999.00,9,   -999.0,9,   -999.0,9,  -999.0,-999.0000,-999.000,  -999.0,-999.000
   31WTTUNES_1,  P17C,    30,  1,     16,     16,2,19910613,0309, 28.0050,-135.0017, 4197,    604.2,   4.7459,  34.0933,2,  34.0953,2,     47.9,2,  4.6989,     46.7,2,    94.66,3,    41.17,2,     0.00,2,     2.93,2, -999.000,9, -999.000,9, -999.000,9,-999.0000,9,  -999.00,9,   -999.0,9,  -999.00,9,   -999.0,9,   -999.0,9,  -999.0,-999.0000,-999.000,  -999.0,-999.000
   31WTTUNES_1,  P17C,    30,  1,     17,     17,2,19910613,0309, 28.0050,-135.0017, 4197,    712.7,   4.4191,  34.2237,2,  34.2290,2,     19.8,2,  4.3648,     19.7,2,   108.92,3,    43.22,2,     0.00,2,     3.15,2, -999.000,9, -999.000,9, -999.000,9,-999.0000,9,  -999.00,9,   -999.0,9,  -999.00,9,   -999.0,9,   -999.0,9,  -999.0,-999.0000,-999.000,  -999.0,-999.000
   31WTTUNES_1,  P17C,    30,  1,     18,     18,2,19910613,0309, 28.0050,-135.0017, 4197,    810.1,   4.2252,  34.3255,2,  34.3281,2,     15.8,2,  4.1639,     19.6,2,   117.71,3,    44.19,2,     0.00,2,     3.21,2, -999.000,9, -999.000,9, -999.000,9,-999.0000,9,  -999.00,9,   -999.0,9,  -999.00,9,   -999.0,9,   -999.0,9,  -999.0,-999.0000,-999.000,  -999.0,-999.000
   31WTTUNES_1,  P17C,    30,  1,     19,     19,2,19910613,0309, 28.0050,-135.0017, 4197,    912.9,   3.9274,  34.4085,2,  34.4093,2,     20.2,2,  3.8596,     20.9,2,   124.06,3,    43.99,2,     0.00,2,     3.20,2, -999.000,9, -999.000,9, -999.000,9,-999.0000,9,  -999.00,9,   -999.0,9,  -999.00,9,   -999.0,9,   -999.0,9,  -999.0,-999.0000,-999.000,  -999.0,-999.000
   31WTTUNES_1,  P17C,    30,  1,     20,     20,2,19910613,0309, 28.0050,-135.0017, 4197,   1010.5,   3.7156,  34.4558,2,  34.4560,2,     29.5,2,  3.6413,     29.4,2,   128.94,3,    44.19,3,     0.00,2,     3.18,2, -999.000,9, -999.000,9, -999.000,9,-999.0000,9,  -999.00,9,   -999.0,9,  -999.00,9,   -999.0,9,   -999.0,9,  -999.0,-999.0000,-999.000,  -999.0,-999.000
   31WTTUNES_1,  P17C,    30,  1,     21,     21,2,19910613,0309, 28.0050,-135.0017, 4197,   1210.1,   3.2748,  34.5142,2,  34.5143,2,     42.9,2,  3.1881,     42.6,2,   138.22,3,    43.60,3,     0.01,2,     3.11,2, -999.000,9, -999.000,9, -999.000,9,-999.0000,9,  -999.00,9,   -999.0,9,  -999.00,9,   -999.0,9,   -999.0,9,  -999.0,-999.0000,-999.000,  -999.0,-999.000
   31WTTUNES_1,  P17C,    30,  1,     22,     22,2,19910613,0309, 28.0050,-135.0017, 4197,   1416.3,   2.9630,  34.5455,2,  34.5461,2,     51.2,2,  2.8626,     50.9,2,   145.55,3,    43.21,3,     0.00,2,     3.07,2, -999.000,9, -999.000,9, -999.000,9,-999.0000,9,  -999.00,9,   -999.0,9,  -999.00,9,   -999.0,9,   -999.0,9,  -999.0,-999.0000,-999.000,  -999.0,-999.000
   31WTTUNES_1,  P17C,    30,  1,     23,     23,2,19910613,0309, 28.0050,-135.0017, 4197,   1617.7,   2.6033,  34.5714,2,  34.5728,2,     60.5,2,  2.4904,     61.6,2,   155.32,3,    42.52,3,     0.00,2,     3.02,2, -999.000,9, -999.000,9, -999.000,9,-999.0000,9,  -999.00,9,   -999.0,9,  -999.00,9,   -999.0,9,   -999.0,9,  -999.0,-999.0000,-999.000,  -999.0,-999.000
   31WTTUNES_1,  P17C,    30,  1,     24,     24,2,19910613,0309, 28.0050,-135.0017, 4197,   1822.7,   2.3045,  34.5968,2,  34.5990,2,     71.7,2,  2.1785,     74.0,2,   162.46,3,    42.13,3,     0.00,2,     2.96,2, -999.000,9, -999.000,9, -999.000,9,-999.0000,9,  -999.00,9,   -999.0,9,  -999.00,9,   -999.0,9,   -999.0,9,  -999.0,-999.0000,-999.000,  -999.0,-999.000
   31WTTUNES_1,  P17C,    30,  1,     25,     25,2,19910613,0309, 28.0050,-135.0017, 4197,   2030.3,   2.0356,  34.6143,2,  34.6176,2,     82.1,2,  1.8962,     80.7,2,   169.39,3,    41.35,3,     0.00,2,     2.90,2, -999.000,9, -999.000,9, -999.000,9,-999.0000,9,  -999.00,9,   -999.0,9,  -999.00,9,   -999.0,9,   -999.0,9,  -999.0,-999.0000,-999.000,  -999.0,-999.000
   31WTTUNES_1,  P17C,    30,  1,     26,     26,2,19910613,0309, 28.0050,-135.0017, 4197,   2230.9,   1.8638,  34.6310,2,  34.6327,2,     91.9,2,  1.7099,     91.0,2,   171.93,3,    40.66,3,     0.01,2,     2.84,2, -999.000,9, -999.000,9, -999.000,9,-999.0000,9,  -999.00,9,   -999.0,9,  -999.00,9,   -999.0,9,   -999.0,9,  -999.0,-999.0000,-999.000,  -999.0,-999.000
   31WTTUNES_1,  P17C,    30,  1,     27,     27,2,19910613,0309, 28.0050,-135.0017, 4197,   2431.3,   1.7648,  34.6412,2,  34.6424,2,    100.0,2,  1.5951,     98.5,2,   173.99,3,    40.17,3,     0.01,2,     2.81,2, -999.000,9, -999.000,9, -999.000,9,-999.0000,9,  -999.00,9,   -999.0,9,  -999.00,9,   -999.0,9,   -999.0,9,  -999.0,-999.0000,-999.000,  -999.0,-999.000
   31WTTUNES_1,  P17C,    30,  1,     28,     28,2,19910613,0309, 28.0050,-135.0017, 4197,   2632.0,   1.6699,  34.6496,2,  34.6520,2,    107.4,2,  1.4839,    107.8,2,   174.67,3,    39.88,3,     0.01,2,     2.77,2, -999.000,9, -999.000,9, -999.000,9,-999.0000,9,  -999.00,9,   -999.0,9,  -999.00,9,   -999.0,9,   -999.0,9,  -999.0,-999.0000,-999.000,  -999.0,-999.000
   31WTTUNES_1,  P17C,    30,  1,     29,     29,2,19910613,0309, 28.0050,-135.0017, 4197,   2832.3,   1.5809,  34.6592,2,  34.6604,2,    117.4,2,  1.3783,    117.3,2,   173.49,3,    38.90,3,     0.02,2,     2.70,2, -999.000,9, -999.000,9, -999.000,9,-999.0000,9,  -999.00,9,   -999.0,9,  -999.00,9,   -999.0,9,   -999.0,9,  -999.0,-999.0000,-999.000,  -999.0,-999.000
   31WTTUNES_1,  P17C,    30,  1,     30,     30,2,19910613,0309, 28.0050,-135.0017, 4197,   3038.5,   1.5340,  34.6646,2,  34.6675,2,    125.6,2,  1.3128,    125.0,2,   171.83,3,    38.61,3,     0.00,2,     2.66,2, -999.000,9, -999.000,9, -999.000,9,-999.0000,9,  -999.00,9,   -999.0,9,  -999.00,9,   -999.0,9,   -999.0,9,  -999.0,-999.0000,-999.000,  -999.0,-999.000
   31WTTUNES_1,  P17C,    30,  1,     31,     31,2,19910613,0309, 28.0050,-135.0017, 4197,   3247.7,   1.4960,  34.6715,2,  34.6732,2,    132.9,2,  1.2553,    132.9,2,   169.68,3,    38.32,3,     0.00,2,     2.62,2, -999.000,9, -999.000,9, -999.000,9,-999.0000,9,  -999.00,9,   -999.0,9,  -999.00,9,   -999.0,9,   -999.0,9,  -999.0,-999.0000,-999.000,  -999.0,-999.000
   31WTTUNES_1,  P17C,    30,  1,     32,     32,2,19910613,0309, 28.0050,-135.0017, 4197,   3449.3,   1.4940,  34.6734,2,  34.6754,2,    136.3,2,  1.2332,    135.0,2,   168.90,3,    38.12,3,     0.01,2,     2.60,2, -999.000,9, -999.000,9, -999.000,9,-999.0000,9,  -999.00,9,   -999.0,9,  -999.00,9,   -999.0,9,   -999.0,9,  -999.0,-999.0000,-999.000,  -999.0,-999.000
   31WTTUNES_1,  P17C,    30,  1,     33,     33,2,19910613,0309, 28.0050,-135.0017, 4197,   3658.2,   1.4950,  34.6751,2,  34.6777,2,    139.3,2,  1.2127,    140.5,2,   167.24,3,    37.24,3,     0.01,2,     2.59,2, -999.000,9, -999.000,9, -999.000,9,-999.0000,9,  -999.00,9,   -999.0,9,  -999.00,9,   -999.0,9,   -999.0,9,  -999.0,-999.0000,-999.000,  -999.0,-999.000
   31WTTUNES_1,  P17C,    30,  1,     34,     34,2,19910613,0309, 28.0050,-135.0017, 4197,   3857.8,   1.5030,  34.6774,2,  34.6783,2,    141.5,2,  1.1994,    140.2,2,   167.14,3,    37.73,3,     0.00,2,     2.58,2, -999.000,9, -999.000,9, -999.000,9,-999.0000,9,  -999.00,9,   -999.0,9,  -999.00,9,   -999.0,9,   -999.0,9,  -999.0,-999.0000,-999.000,  -999.0,-999.000
   31WTTUNES_1,  P17C,    30,  1,     35,     35,2,19910613,0309, 28.0050,-135.0017, 4197,   4127.5,   1.5200,  34.6776,2,  34.6800,2,    145.3,2,  1.1866,    142.2,2,   165.97,3,    37.53,3,     0.01,2,     2.56,2, -999.000,9, -999.000,9, -999.000,9,-999.0000,9,  -999.00,9,   -999.0,9,  -999.00,9,   -999.0,9,   -999.0,9,  -999.0,-999.0000,-999.000,  -999.0,-999.000
   31WTTUNES_1,  P17C,    30,  1,     36,     36,2,19910613,0309, 28.0050,-135.0017, 4197,   4391.8,   1.5480,  34.6781,2,  34.6804,2,   -999.0,9,  1.1840,    145.1,2,   165.57,3,    37.73,3,     0.01,2,     2.56,2, -999.000,9, -999.000,9, -999.000,9,-999.0000,9,  -999.00,9,   -999.0,9,  -999.00,9,   -999.0,9,   -999.0,9,  -999.0,-999.0000,-999.000,  -999.0,-999.000