BOTTLE,20220819CCHSIOAMB
EXPOCODE,SECT_ID,STNNBR,CASTNO,SAMPNO,BTLNBR,BTLNBR_FLAG_W,DATE,TIME,LATITUDE,LONGITUDE,DEPTH,CTDPRS,CTDTMP,CTDSAL,CTDSAL_FLAG_W,SALNTY,SALNTY_FLAG_W,CTDOXY,CTDOXY_FLAG_W,THETA,OXYGEN,OXYGEN_FLAG_W,SILCAT,SILCAT_FLAG_W,NITRAT,NITRAT_FLAG_W,NITRIT,NITRIT_FLAG_W,PHSPHT,PHSPHT_FLAG_W,CFC-11,CFC-11_FLAG_W,CFC-12,CFC-12_FLAG_W,TRITUM,TRITUM_FLAG_W,HELIUM,HELIUM_FLAG_W,DELHE3,DELHE3_FLAG_W,DELC14,DELC14_FLAG_W,DELC13,DELC13_FLAG_W,TCARBN,TCARBN_FLAG_W,ALKALI,ALKALI_FLAG_W,C14ERR,HELIER,DELHER,C13ERR,TRITER
,,,,,,,,,,,,DBAR,ITS-90,PSS-78,,PSS-78,,UMOL/KG,,DEG C,UMOL/KG,,UMOL/KG,,UMOL/KG,,UMOL/KG,,UMOL/KG,,PMOL/KG,,PMOL/KG,,TU,,NMOL/KG,,PERCNT,,/MILLE,,/MILLE,,UMOL/KG,,UMOL/KG,,/MILLE,NMOL/KG,PERCNT,/MILLE,TU
   31WTTUNES_1,  P17C,    54,  1,      1,      1,2,19910620,0913, 15.9967,-135.0017, 4801,      1.1,  24.9333,  34.5116,2,  34.5170,2,    210.1,3, 24.9330,    211.8,2,     2.59,2,     0.09,2,     0.01,2,     0.19,2,    1.859,2,    1.052,2, -999.000,9,-999.0000,9,  -999.00,9,   -999.0,9,  -999.00,9,   -999.0,9,   -999.0,9,  -999.0,-999.0000,-999.000,  -999.0,-999.000
   31WTTUNES_1,  P17C,    54,  1,      2,      2,2,19910620,0913, 15.9967,-135.0017, 4801,     52.6,  24.9433,  34.5122,2,  34.5152,2,    218.4,2, 24.9319,    213.3,2,     2.21,2,     0.09,2,     0.00,2,     0.19,2,    1.846,2,    1.051,2,    1.684,2,   1.7360,2,    -0.89,2,   -999.0,9,  -999.00,9,   -999.0,9,   -999.0,9,  -999.0,  0.0080,   0.150,  -999.0,   0.013
   31WTTUNES_1,  P17C,    54,  1,      3,      3,2,19910620,0913, 15.9967,-135.0017, 4801,     92.9,  24.2301,  34.5295,2,  34.5280,2,    218.1,2, 24.2105,    216.3,2,     2.21,2,     0.09,2,     0.00,2,     0.19,2,    1.902,2,    1.085,2,    1.933,2,   1.7990,2,    -0.68,2,   -999.0,9,  -999.00,9,   -999.0,9,   -999.0,9,  -999.0,  0.0080,   0.150,  -999.0,   0.014
   31WTTUNES_1,  P17C,    54,  1,      4,      4,2,19910620,0913, 15.9967,-135.0017, 4801,    122.0,  20.9988,  34.7183,2,  34.6543,2,    211.4,2, 20.9755,    209.6,2,     2.39,2,     0.74,2,     0.16,2,     0.31,2,    2.142,2,    1.164,2,    2.309,2,   1.7740,2,     0.01,2,   -999.0,9,  -999.00,9,   -999.0,9,   -999.0,9,  -999.0,  0.0080,   0.150,  -999.0,   0.015
   31WTTUNES_1,  P17C,    54,  1,      5,      5,2,19910620,0913, 15.9967,-135.0017, 4801,    153.5,  16.2849,  34.4072,2,  34.4126,2,     77.9,2, 16.2605,     81.4,3,    13.25,3,    18.34,3,     0.56,3,     1.60,3,    1.469,2,    0.816,2,    1.815,2,   1.8000,2,     5.83,2,   -999.0,9,  -999.00,9,   -999.0,9,   -999.0,9,  -999.0,  0.0080,   0.150,  -999.0,   0.013
   31WTTUNES_1,  P17C,    54,  1,      6,      6,2,19910620,0913, 15.9967,-135.0017, 4801,    176.4,  13.6984,  34.2571,2,  34.2613,2,    103.5,2, 13.6734,    127.2,2,    13.24,2,    15.60,2,     0.02,2,     1.31,2,    1.810,2,    1.039,2,    2.093,2,   1.8120,2,     6.50,2,   -999.0,9,  -999.00,9,   -999.0,9,   -999.0,9,  -999.0,  0.0090,   0.150,  -999.0,   0.014
   31WTTUNES_1,  P17C,    54,  1,      7,      7,2,19910620,0913, 15.9967,-135.0017, 4801,    202.2,  11.9328,  34.2631,2,  34.2656,2,     91.0,2, 11.9067,     96.0,2,    22.41,2,    21.98,2,     0.01,2,     1.80,2,    1.317,2,    0.679,2,    1.874,2,   1.7990,2,     9.97,2,   -999.0,9,  -999.00,9,   -999.0,9,   -999.0,9,  -999.0,  0.0080,   0.150,  -999.0,   0.013
   31WTTUNES_1,  P17C,    54,  1,      8,      8,2,19910620,0913, 15.9967,-135.0017, 4801,    242.8,  10.5143,  34.3394,2,  34.3433,2,     61.7,2, 10.4854,     73.9,2,    30.27,2,    25.93,2,     0.01,2,     2.12,2,    0.803,2,    0.413,2,    1.474,2,   0.0000,2,  -999.00,9,   -999.0,9,  -999.00,9,   -999.0,9,   -999.0,9,  -999.0,-999.0000,   0.150,  -999.0,   0.012
   31WTTUNES_1,  P17C,    54,  1,      9,      9,2,19910620,0913, 15.9967,-135.0017, 4801,    304.4,   9.6826,  34.4858,2,  34.4864,2,     22.2,2,  9.6480,     23.9,2,    40.37,2,    30.05,2,     0.00,2,     2.57,2,    0.160,2,    0.093,2,    0.571,2,   1.8860,2,     9.74,2,   -999.0,9,  -999.00,9,   -999.0,9,   -999.0,9,  -999.0,  0.0090,   0.150,  -999.0,   0.007
   31WTTUNES_1,  P17C,    54,  1,     10,     10,2,19910620,0913, 15.9967,-135.0017, 4801,    355.3,   8.9769,  34.4900,2,  34.4929,2,     14.7,2,  8.9382,     15.5,2,    46.17,2,    31.94,2,     0.00,2,     2.72,2,    0.058,2,    0.038,2,    0.269,2,   1.8400,2,     8.10,2,   -999.0,9,  -999.00,9,   -999.0,9,   -999.0,9,  -999.0,  0.0090,   0.150,  -999.0,   0.005
   31WTTUNES_1,  P17C,    54,  1,     11,     11,2,19910620,0913, 15.9967,-135.0017, 4801,    402.1,   8.5560,  34.5179,2,  34.5180,2,      6.9,2,  8.5134,      7.6,2,    50.47,2,    33.44,2,     0.00,2,     2.83,2,    0.018,2,    0.015,2,    0.090,2,   1.9240,2,     6.55,2,   -999.0,9,  -999.00,9,   -999.0,9,   -999.0,9,  -999.0,  0.0090,   0.150,  -999.0,   0.004
   31WTTUNES_1,  P17C,    54,  1,     12,     12,2,19910620,0913, 15.9967,-135.0017, 4801,    503.7,   7.1117,  34.4564,2,  34.4633,2,      9.7,2,  7.0635,      9.8,2,    63.39,2,    37.86,2,     0.00,2,     2.97,2,    0.013,2,    0.004,2,    0.025,2,   1.8850,2,     8.60,2,   -999.0,9,  -999.00,9,   -999.0,9,   -999.0,9,  -999.0,  0.0090,   0.150,  -999.0,   0.002
   31WTTUNES_1,  P17C,    54,  1,     13,     13,2,19910620,0913, 15.9967,-135.0017, 4801,    555.4,   6.5930,  34.4558,2,  34.4591,2,     11.2,2,  6.5417,     11.7,2,    69.56,2,    39.23,2,     0.00,2,     3.03,2,    0.008,2,    0.000,2,    0.016,2,   1.9100,2,     9.66,2,   -999.0,9,  -999.00,9,   -999.0,9,   -999.0,9,  -999.0,  0.0090,   0.150,  -999.0,   0.003
   31WTTUNES_1,  P17C,    54,  1,     14,     14,2,19910620,0913, 15.9967,-135.0017, 4801,    606.5,   6.1452,  34.4598,2,  34.4627,2,     11.7,2,  6.0911,     13.2,2,    75.74,2,    40.46,2,     0.00,2,     3.07,2,    0.008,2,   -0.002,2,    0.006,2,   1.9120,2,    11.09,2,   -999.0,9,  -999.00,9,   -999.0,9,   -999.0,9,  -999.0,  0.0090,   0.150,  -999.0,   0.002
   31WTTUNES_1,  P17C,    54,  1,     15,     15,2,19910620,0913, 15.9967,-135.0017, 4801,    709.1,   5.5415,  34.4762,2,  34.4780,2,     14.3,2,  5.4810,     15.1,2,    85.28,2,    42.01,2,     0.00,2,     3.12,2,    0.001,2,   -0.002,2, -999.000,9,-999.0000,9,  -999.00,9,   -999.0,9,  -999.00,9,   -999.0,9,   -999.0,9,  -999.0,-999.0000,-999.000,  -999.0,-999.000
   31WTTUNES_1,  P17C,    54,  1,     16,     16,2,19910620,0913, 15.9967,-135.0017, 4801,    806.0,   5.0138,  34.4883,2,  34.4898,2,     20.9,2,  4.9477,     21.3,2,    93.51,2,    42.99,2,     0.00,2,     3.13,2,    0.006,2,   -0.003,2, -999.000,5,   1.8990,2,    16.24,2,   -999.0,9,  -999.00,9,   -999.0,9,   -999.0,9,  -999.0,  0.0090,   0.150,  -999.0,-999.000
   31WTTUNES_1,  P17C,    54,  1,     17,     17,2,19910620,0913, 15.9967,-135.0017, 4801,    908.6,   4.6580,  34.5115,2,  34.5134,2,     26.8,2,  4.5853,     27.1,2,    99.12,2,    43.15,2,     0.00,2,     3.13,2,    0.001,2,   -0.002,2, -999.000,9,-999.0000,9,  -999.00,9,   -999.0,9,  -999.00,9,   -999.0,9,   -999.0,9,  -999.0,-999.0000,-999.000,  -999.0,-999.000
   31WTTUNES_1,  P17C,    54,  1,     18,     18,2,19910620,0913, 15.9967,-135.0017, 4801,   1005.4,   4.3072,  34.5284,2,  34.5279,2,     31.5,2,  4.2287,     32.4,2,   106.42,2,    43.15,2,     0.00,2,     3.13,2,    0.000,2,   -0.002,2,    0.004,2,   1.8710,2,    22.53,2,   -999.0,9,  -999.00,9,   -999.0,9,   -999.0,9,  -999.0,  0.0090,   0.150,  -999.0,   0.002
   31WTTUNES_1,  P17C,    54,  1,     19,     19,2,19910620,0913, 15.9967,-135.0017, 4801,   1211.9,   3.6326,  34.5536,2,  34.5558,2,     46.6,2,  3.5423,     47.0,2,   119.70,2,    42.55,2,     0.00,2,     3.06,2,    0.001,2,   -0.002,2,   -0.004,2,   1.8820,2,    23.71,2,   -999.0,9,  -999.00,9,   -999.0,9,   -999.0,9,  -999.0,  0.0090,   0.150,  -999.0,   0.001
   31WTTUNES_1,  P17C,    54,  1,     20,     20,2,19910620,0913, 15.9967,-135.0017, 4801,   1416.2,   3.1249,  34.5814,2,  34.5805,2,     56.4,2,  3.0226,     56.4,2,   130.93,2,    42.12,2,     0.00,2,     3.02,2, -999.000,9, -999.000,9, -999.000,9,   1.8610,2,    23.33,2,   -999.0,9,  -999.00,9,   -999.0,9,   -999.0,9,  -999.0,-999.0000,-999.000,  -999.0,-999.000
   31WTTUNES_1,  P17C,    54,  1,     21,     21,2,19910620,0913, 15.9967,-135.0017, 4801,   1616.6,   2.7052,  34.6043,2,  34.6033,2,     68.8,2,  2.5911,     67.6,2,   140.10,2,    41.48,2,     0.00,2,     2.95,2, -999.000,9, -999.000,9, -999.000,9,-999.0000,9,  -999.00,9,   -999.0,9,  -999.00,9,   -999.0,9,   -999.0,9,  -999.0,-999.0000,-999.000,  -999.0,-999.000
   31WTTUNES_1,  P17C,    54,  1,     22,     22,3,19910620,0913, 15.9967,-135.0017, 4801,   1818.8,   2.3964,  34.6192,2,  34.6067,4,     80.0,2,  2.2694,     78.6,2,   146.27,2,    40.84,2,     0.00,2,     2.88,2, -999.000,9, -999.000,9, -999.000,9,-999.0000,9,  -999.00,9,   -999.0,9,  -999.00,9,   -999.0,9,   -999.0,9,  -999.0,-999.0000,-999.000,  -999.0,-999.000
   31WTTUNES_1,  P17C,    54,  1,     23,     23,2,19910620,0913, 15.9967,-135.0017, 4801,   2024.6,   2.1456,  34.6321,2,  34.6316,2,     91.7,2,  2.0048,     90.4,2,   151.50,2,    39.98,2,     0.00,2,     2.81,2, -999.000,9, -999.000,9, -999.000,9,-999.0000,9,  -999.00,9,   -999.0,9,  -999.00,9,   -999.0,9,   -999.0,9,  -999.0,-999.0000,-999.000,  -999.0,-999.000
   31WTTUNES_1,  P17C,    54,  1,     24,     24,2,19910620,0913, 15.9967,-135.0017, 4801,   2194.1,   1.9867,  34.6441,2,  34.6422,2,     99.2,2,  1.8339,     98.1,2,   154.87,2,    39.45,2,     0.00,2,     2.76,2, -999.000,9, -999.000,9, -999.000,9,-999.0000,9,  -999.00,9,   -999.0,9,  -999.00,9,   -999.0,9,   -999.0,9,  -999.0,-999.0000,-999.000,  -999.0,-999.000
   31WTTUNES_1,  P17C,    54,  1,     25,     25,2,19910620,0913, 15.9967,-135.0017, 4801,   2360.1,   1.8737,  34.6512,2,  34.6517,2,    106.9,2,  1.7083,    105.6,2,   156.36,2,    39.03,2,     0.00,2,     2.72,2, -999.000,9, -999.000,9, -999.000,9,-999.0000,9,  -999.00,9,   -999.0,9,  -999.00,9,   -999.0,9,   -999.0,9,  -999.0,-999.0000,-999.000,  -999.0,-999.000
   31WTTUNES_1,  P17C,    54,  1,     26,     26,2,19910620,0913, 15.9967,-135.0017, 4801,   2530.0,   1.7888,  34.6595,2,  34.6584,2,    111.9,2,  1.6097,    110.9,2,   157.67,2,    38.71,2,     0.00,2,     2.68,2, -999.000,9, -999.000,9, -999.000,9,-999.0000,9,  -999.00,9,   -999.0,9,  -999.00,9,   -999.0,9,   -999.0,9,  -999.0,-999.0000,-999.000,  -999.0,-999.000
   31WTTUNES_1,  P17C,    54,  1,     27,     27,2,19910620,0913, 15.9967,-135.0017, 4801,   2699.3,   1.7308,  34.6635,2,  34.6639,2,    115.4,2,  1.5374,    114.7,2,   158.78,2,    38.34,2,     0.00,2,     2.66,2, -999.000,9, -999.000,9, -999.000,9,-999.0000,9,  -999.00,9,   -999.0,9,  -999.00,9,   -999.0,9,   -999.0,9,  -999.0,-999.0000,-999.000,  -999.0,-999.000
   31WTTUNES_1,  P17C,    54,  1,     28,     28,2,19910620,0913, 15.9967,-135.0017, 4801,   2863.7,   1.6849,  34.6691,2,  34.6692,2,    119.4,2,  1.4770,    119.1,2,   159.34,2,    38.19,2,     0.00,2,     2.64,2, -999.000,9, -999.000,9, -999.000,9,-999.0000,9,  -999.00,9,   -999.0,9,  -999.00,9,   -999.0,9,   -999.0,9,  -999.0,-999.0000,-999.000,  -999.0,-999.000
   31WTTUNES_1,  P17C,    54,  1,     29,     29,2,19910620,0913, 15.9967,-135.0017, 4801,   3034.0,   1.6289,  34.6712,2,  34.6712,2,    123.7,2,  1.4060,    122.4,2,   161.02,2,    37.87,2,     0.00,2,     2.63,2, -999.000,9, -999.000,9, -999.000,9,-999.0000,9,  -999.00,9,   -999.0,9,  -999.00,9,   -999.0,9,   -999.0,9,  -999.0,-999.0000,-999.000,  -999.0,-999.000
   31WTTUNES_1,  P17C,    54,  1,     30,     30,3,19910620,0913, 15.9967,-135.0017, 4801,   3293.7,   1.5660,  34.6747,2,  34.6757,2,    129.9,2,  1.3191,    128.8,2,   161.02,2,    37.45,2,     0.00,2,     2.59,2, -999.000,9, -999.000,9, -999.000,9,-999.0000,9,  -999.00,9,   -999.0,9,  -999.00,9,   -999.0,9,   -999.0,9,  -999.0,-999.0000,-999.000,  -999.0,-999.000
   31WTTUNES_1,  P17C,    54,  1,     31,     31,2,19910620,0913, 15.9967,-135.0017, 4801,   3549.9,   1.5170,  34.6794,2,  34.6796,2,    136.7,2,  1.2453,    136.3,2,   160.45,2,    36.93,2,     0.00,2,     2.55,2, -999.000,9, -999.000,9, -999.000,9,-999.0000,9,  -999.00,9,   -999.0,9,  -999.00,9,   -999.0,9,   -999.0,9,  -999.0,-999.0000,-999.000,  -999.0,-999.000
   31WTTUNES_1,  P17C,    54,  1,     32,     32,2,19910620,0913, 15.9967,-135.0017, 4801,   3807.9,   1.4750,  34.6830,2,  34.6839,2,    145.3,2,  1.1775,    145.0,2,   156.89,2,    36.36,2,     0.00,2,     2.51,2, -999.000,9, -999.000,9, -999.000,9,-999.0000,9,  -999.00,9,   -999.0,9,  -999.00,9,   -999.0,9,   -999.0,9,  -999.0,-999.0000,-999.000,  -999.0,-999.000
   31WTTUNES_1,  P17C,    54,  1,     33,     33,2,19910620,0913, 15.9967,-135.0017, 4801,   4068.1,   1.4410,  34.6867,2,  34.6877,2,    154.0,2,  1.1164,    153.8,2,   151.27,2,    35.79,2,     0.00,2,     2.47,2, -999.000,9, -999.000,9, -999.000,9,-999.0000,9,  -999.00,9,   -999.0,9,  -999.00,9,   -999.0,9,   -999.0,9,  -999.0,-999.0000,-999.000,  -999.0,-999.000
   31WTTUNES_1,  P17C,    54,  1,     34,     34,2,19910620,0913, 15.9967,-135.0017, 4801,   4328.3,   1.4281,  34.6901,2,  34.6920,2,    160.5,2,  1.0748,    159.3,2,   146.78,2,    35.32,2,     0.00,2,     2.43,2,    0.000,2,    0.000,2, -999.000,9,-999.0000,9,  -999.00,9,   -999.0,9,  -999.00,9,   -999.0,9,   -999.0,9,  -999.0,-999.0000,-999.000,  -999.0,-999.000
   31WTTUNES_1,  P17C,    54,  1,     35,     35,2,19910620,0913, 15.9967,-135.0017, 4801,   4590.2,   1.4320,  34.6930,2,  34.6930,2,    164.2,2,  1.0487,    163.1,2,   143.96,2,    35.11,2,     0.00,2,     2.41,2,    0.009,3,    0.000,2, -999.000,9,-999.0000,9,  -999.00,9,   -999.0,9,  -999.00,9,   -999.0,9,   -999.0,9,  -999.0,-999.0000,-999.000,  -999.0,-999.000
   31WTTUNES_1,  P17C,    54,  1,     36,     36,2,19910620,0913, 15.9967,-135.0017, 4801,   4872.2,   1.4600,  34.6918,2,  34.6918,2,   -999.0,9,  1.0425,    164.9,2,   143.59,2,    35.01,2,     0.00,2,     2.40,2,    0.000,2,    0.000,2, -999.000,9,-999.0000,9,  -999.00,9,   -999.0,9,  -999.00,9,   -999.0,9,   -999.0,9,  -999.0,-999.0000,-999.000,  -999.0,-999.000