BOTTLE,20220819CCHSIOAMB
EXPOCODE,SECT_ID,STNNBR,CASTNO,SAMPNO,BTLNBR,BTLNBR_FLAG_W,DATE,TIME,LATITUDE,LONGITUDE,DEPTH,CTDPRS,CTDTMP,CTDSAL,CTDSAL_FLAG_W,SALNTY,SALNTY_FLAG_W,CTDOXY,CTDOXY_FLAG_W,THETA,OXYGEN,OXYGEN_FLAG_W,SILCAT,SILCAT_FLAG_W,NITRAT,NITRAT_FLAG_W,NITRIT,NITRIT_FLAG_W,PHSPHT,PHSPHT_FLAG_W,CFC-11,CFC-11_FLAG_W,CFC-12,CFC-12_FLAG_W,TRITUM,TRITUM_FLAG_W,HELIUM,HELIUM_FLAG_W,DELHE3,DELHE3_FLAG_W,DELC14,DELC14_FLAG_W,DELC13,DELC13_FLAG_W,TCARBN,TCARBN_FLAG_W,ALKALI,ALKALI_FLAG_W,C14ERR,HELIER,DELHER,C13ERR,TRITER
,,,,,,,,,,,,DBAR,ITS-90,PSS-78,,PSS-78,,UMOL/KG,,DEG C,UMOL/KG,,UMOL/KG,,UMOL/KG,,UMOL/KG,,UMOL/KG,,PMOL/KG,,PMOL/KG,,TU,,NMOL/KG,,PERCNT,,/MILLE,,/MILLE,,UMOL/KG,,UMOL/KG,,/MILLE,NMOL/KG,PERCNT,/MILLE,TU
   31WTTUNES_1,  P17C,    41,  1,      1,      1,2,19910616,0926, 22.4983,-135.0017, 5147,      1.0,  21.6582,  34.8712,2,  34.8764,2,    215.0,3, 21.6580,    222.0,2,     3.45,2,     0.11,2,     0.00,2,     0.14,2,    2.159,2,    1.160,2, -999.000,9,-999.0000,9,  -999.00,9,   -999.0,9,  -999.00,9,   1980.4,2,   2309.2,2,  -999.0,-999.0000,-999.000,  -999.0,-999.000
   31WTTUNES_1,  P17C,    41,  1,      2,      2,2,19910616,0926, 22.4983,-135.0017, 5147,     45.0,  21.5157,  34.9076,2,  34.9357,2,    223.8,2, 21.5070,    221.6,2,     3.45,2,     0.10,2,     0.00,2,     0.14,2,    2.185,2,    1.172,2,    1.969,2,   1.7730,2,    -1.01,2,   -999.0,9,  -999.00,9,   1993.8,2,   -999.0,9,  -999.0,  0.0080,   0.150,  -999.0,   0.015
   31WTTUNES_1,  P17C,    41,  1,      3,      3,2,19910616,0926, 22.4983,-135.0017, 5147,     78.9,  20.7899,  35.0155,2,  35.0201,2,    225.3,2, 20.7750,    223.6,2,     3.46,2,     0.15,2,     0.00,2,     0.14,2,    2.208,2,    1.182,2, -999.000,9,   1.8820,2,  -999.00,9,   -999.0,9,  -999.00,9,   2005.1,2,   2318.2,2,  -999.0,-999.0000,-999.000,  -999.0,-999.000
   31WTTUNES_1,  P17C,    41,  1,      4,      4,2,19910616,0926, 22.4983,-135.0017, 5147,    110.2,  20.0812,  35.0437,2,  35.0437,2,    226.4,2, 20.0608,    212.1,2,     3.47,2,     0.34,2,     0.15,2,     0.16,2,    2.249,2,    1.212,2,    2.117,2,   1.8130,2,    -0.31,2,   -999.0,9,  -999.00,9,   2024.1,2,   2318.1,2,  -999.0,  0.0090,   0.150,  -999.0,   0.016
   31WTTUNES_1,  P17C,    41,  1,      5,      5,2,19910616,0926, 22.4983,-135.0017, 5147,    140.7,  19.2447,  34.9863,2,  34.9662,2,    221.7,2, 19.2194,    219.2,2,     3.48,2,     0.80,2,     0.13,2,     0.19,2,    2.351,2,    1.229,2,    2.140,2,   1.8120,2,    -0.30,2,   -999.0,9,  -999.00,9,   2025.6,2,   2314.0,2,  -999.0,  0.0090,   0.150,  -999.0,   0.016
   31WTTUNES_1,  P17C,    41,  1,      6,      6,2,19910616,0926, 22.4983,-135.0017, 5147,    208.5,  14.1807,  34.3018,2,  34.2799,2,    204.6,2, 14.1504,    201.1,2,     7.27,2,     6.73,2,     0.01,2,     0.58,2,    2.552,2,    1.305,2,    2.115,2,   1.8140,2,     2.41,2,   -999.0,9,  -999.00,9,   2050.8,2,   2263.7,2,  -999.0,  0.0090,   0.150,  -999.0,   0.016
   31WTTUNES_1,  P17C,    41,  1,      7,      7,2,19910616,0926, 22.4983,-135.0017, 5147,    227.4,  12.8114,  34.1579,2,  34.1570,2,    198.6,2, 12.7806,    199.9,2,     9.46,2,     8.86,2,     0.01,2,     0.72,2,    2.571,2,    1.291,2,    2.289,2,   1.8290,2,     3.42,2,   -999.0,9,  -999.00,9,   2057.2,2,   -999.0,9,  -999.0,  0.0090,   0.150,  -999.0,   0.016
   31WTTUNES_1,  P17C,    41,  1,      8,      8,2,19910616,0926, 22.4983,-135.0017, 5147,    255.6,  11.3978,  34.1074,2,  34.1058,2,    177.6,2, 11.3658,    184.7,2,    15.43,2,    14.13,2,     0.00,2,     1.07,2,    2.234,2,    1.154,2,    2.332,2,   1.8010,2,     6.84,2,   -999.0,9,  -999.00,9,   2089.3,2,   -999.0,9,  -999.0,  0.0080,   0.150,  -999.0,   0.017
   31WTTUNES_1,  P17C,    41,  1,      9,      9,2,19910616,0926, 22.4983,-135.0017, 5147,    301.8,   9.7395,  34.0442,2,  34.0476,2,    183.2,2,  9.7053,    182.9,2,    21.81,2,    17.91,2,     0.01,2,     1.31,2,    2.115,2,    1.071,2,    2.227,2,   1.8300,2,     9.49,2,   -999.0,9,  -999.00,9,   2109.5,2,   2258.3,2,  -999.0,  0.0090,   0.150,  -999.0,   0.017
   31WTTUNES_1,  P17C,    41,  1,     10,     10,2,19910616,0926, 22.4983,-135.0017, 5147,    352.7,   8.5097,  34.0710,2,  34.0760,2,    144.4,2,  8.4728,    144.1,2,    35.13,2,    24.33,2,     0.00,2,     1.78,2,    1.339,2,    0.670,2,    2.064,2,   1.8370,2,    14.82,2,   -999.0,9,  -999.00,9,   2159.0,2,   -999.0,9,  -999.0,  0.0090,   0.150,  -999.0,   0.015
   31WTTUNES_1,  P17C,    41,  1,     11,     11,2,19910616,0926, 22.4983,-135.0017, 5147,    404.1,   7.6384,  34.1299,2,  34.1362,2,     89.2,2,  7.5986,     89.1,2,    48.46,2,    30.21,2,     0.00,2,     2.27,2,    0.492,2,    0.257,2,    1.424,2,   1.9080,2,    17.17,2,   -999.0,9,  -999.00,9,   2213.1,2,   2287.6,2,  -999.0,  0.0090,   0.150,  -999.0,   0.013
   31WTTUNES_1,  P17C,    41,  1,     12,     12,2,19910616,0926, 22.4983,-135.0017, 5147,    459.0,   6.9586,  34.2071,2,  34.2068,2,     58.2,2,  6.9155,     46.8,2,    60.98,2,    34.95,2,     0.00,2,     2.65,2,    0.113,2,    0.067,2,    0.574,2,   1.8970,2,    12.55,2,   -999.0,9,  -999.00,9,   2257.0,2,   -999.0,9,  -999.0,  0.0090,   0.150,  -999.0,   0.008
   31WTTUNES_1,  P17C,    41,  1,     13,     13,2,19910616,0926, 22.4983,-135.0017, 5147,    508.6,   6.1343,  34.1871,2,  34.1919,2,     38.6,2,  6.0896,     39.8,2,    71.12,2,    37.43,2,     0.00,2,     2.79,2,    0.068,2,    0.044,2,    0.380,2,   1.8810,2,    11.74,2,   -999.0,9,  -999.00,9,   2274.6,2,   -999.0,9,  -999.0,  0.0090,   0.150,  -999.0,   0.007
   31WTTUNES_1,  P17C,    41,  1,     14,     14,2,19910616,0926, 22.4983,-135.0017, 5147,    610.7,   5.6819,  34.3205,2,  34.3252,2,     17.8,2,  5.6298,     17.5,2,    83.43,2,    40.27,2,     0.00,2,     3.02,2,    0.008,2,    0.006,2,    0.029,2,   1.9120,2,    10.60,2,   -999.0,9,  -999.00,9,   2305.3,2,   2333.8,2,  -999.0,  0.0090,   0.150,  -999.0,   0.002
   31WTTUNES_1,  P17C,    41,  1,     15,     15,2,19910616,0926, 22.4983,-135.0017, 5147,    709.4,   5.1697,  34.3751,2,  34.3786,2,     17.9,2,  5.1113,     22.3,2,    91.97,2,    41.71,2,     0.00,2,     3.05,2,    0.003,2,   -0.001,2,    0.005,2,   1.9120,2,    12.95,2,   -999.0,9,  -999.00,9,   2309.2,2,   -999.0,9,  -999.0,  0.0090,   0.150,  -999.0,   0.002
   31WTTUNES_1,  P17C,    41,  1,     16,     16,2,19910616,0926, 22.4983,-135.0017, 5147,    816.5,   4.7076,  34.4222,2,  34.4277,2,     22.8,2,  4.6426,     29.0,2,   100.90,2,    42.41,2,     0.00,2,     3.06,2,    0.003,2,    0.001,2,    0.004,2,   1.8880,2,    16.49,2,   -999.0,9,  -999.00,9,   2324.2,2,   -999.0,9,  -999.0,  0.0090,   0.150,  -999.0,   0.002
   31WTTUNES_1,  P17C,    41,  1,     17,     17,2,19910616,0926, 22.4983,-135.0017, 5147,    920.5,   4.3944,  34.4638,2,  34.4654,2,     28.3,2,  4.3226,     36.2,3,   106.66,2,    42.73,2,     0.00,2,     3.05,2,    0.000,2,    0.002,2, -999.000,9,-999.0000,9,  -999.00,9,   -999.0,9,  -999.00,9,   2331.9,2,   -999.0,9,  -999.0,-999.0000,-999.000,  -999.0,-999.000
   31WTTUNES_1,  P17C,    41,  1,     18,     18,2,19910616,0926, 22.4983,-135.0017, 5147,   1025.2,   4.0904,  34.4940,2,  34.4932,2,     36.0,2,  4.0120,     36.1,2,   111.82,2,    42.78,2,     0.00,2,     3.05,2,    0.001,2,   -0.002,2,   -0.001,2,   1.8680,2,    22.23,2,   -999.0,9,  -999.00,9,   2336.1,2,   2402.1,2,  -999.0,  0.0090,   0.150,  -999.0,   0.001
   31WTTUNES_1,  P17C,    41,  1,     19,     19,2,19910616,0926, 22.4983,-135.0017, 5147,   1219.5,   3.5790,  34.5333,2,  34.5321,2,     44.0,2,  3.4886,     46.9,3,   122.93,2,    42.51,2,     0.00,2,     3.04,2,    0.005,2,    0.001,2,    0.010,2,   1.8850,2,    23.04,2,   -999.0,9,  -999.00,9,   2350.2,2,   -999.0,9,  -999.0,  0.0090,   0.150,  -999.0,   0.001
   31WTTUNES_1,  P17C,    41,  1,     20,     20,2,19910616,0926, 22.4983,-135.0017, 5147,   1393.1,   3.1961,  34.5569,2,  34.5590,2,     46.7,2,  3.0950,     48.4,2,   133.25,2,    42.35,2,     0.00,2,     3.04,2,   -0.002,2,   -0.003,2, -999.000,9,   1.8870,2,    22.82,2,   -999.0,9,  -999.00,9,   2360.4,2,   -999.0,9,  -999.0,-999.0000,-999.000,  -999.0,-999.000
   31WTTUNES_1,  P17C,    41,  1,     21,     21,2,19910616,0926, 22.4983,-135.0017, 5147,   1609.5,   2.7390,  34.5820,2,  34.5847,2,     60.0,2,  2.6251,     61.6,2,   144.35,2,    41.75,2,     0.00,2,     2.96,2,   -0.001,2,    0.000,2, -999.000,9,   1.9130,2,    23.82,2,   -999.0,9,  -999.00,9,   2361.6,2,   -999.0,9,  -999.0,-999.0000,-999.000,  -999.0,-999.000
   31WTTUNES_1,  P17C,    41,  1,     22,     22,2,19910616,0926, 22.4983,-135.0017, 5147,   1829.5,   2.3949,  34.6064,2,  34.6056,2,     74.9,2,  2.2671,     74.2,2,   150.90,2,    41.05,2,     0.00,2,     2.88,2,   -0.001,2,    0.000,2, -999.000,9,   1.9110,2,    24.30,2,   -999.0,9,  -999.00,9,   2361.6,2,   -999.0,9,  -999.0,-999.0000,-999.000,  -999.0,-999.000
   31WTTUNES_1,  P17C,    41,  1,     23,     23,2,19910616,0926, 22.4983,-135.0017, 5147,   2078.5,   2.0902,  34.6276,2,  34.6252,2,     89.4,2,  1.9457,     88.5,2,   156.64,2,    40.09,2,     0.00,2,     2.80,2, -999.000,9, -999.000,9, -999.000,9,   1.9050,2,    23.69,2,   -999.0,9,  -999.00,9,   2359.1,2,   -999.0,9,  -999.0,-999.0000,-999.000,  -999.0,-999.000
   31WTTUNES_1,  P17C,    41,  1,     24,     24,2,19910616,0926, 22.4983,-135.0017, 5147,   2332.7,   1.8794,  34.6405,2,  34.6407,2,    101.8,2,  1.7164,    104.8,3,   160.80,2,    39.30,2,     0.00,2,     2.73,2, -999.000,9, -999.000,9, -999.000,9,   1.9030,2,    22.88,2,   -999.0,9,  -999.00,9,   2356.4,2,   2435.1,2,  -999.0,-999.0000,-999.000,  -999.0,-999.000
   31WTTUNES_1,  P17C,    41,  1,     25,     25,2,19910616,0926, 22.4983,-135.0017, 5147,   2531.7,   1.7616,  34.6506,2,  34.6504,2,    108.6,2,  1.5829,    106.9,2,   162.97,2,    38.92,2,     0.00,2,     2.69,2, -999.000,9, -999.000,9, -999.000,9,   1.9030,2,    22.22,2,   -999.0,9,  -999.00,9,   2355.4,2,   -999.0,9,  -999.0,-999.0000,-999.000,  -999.0,-999.000
   31WTTUNES_1,  P17C,    41,  1,     26,     26,2,19910616,0926, 22.4983,-135.0017, 5147,   2734.9,   1.6640,  34.6585,2,  34.6574,2,    116.3,2,  1.4687,    118.1,3,   164.75,2,    38.50,2,     0.00,2,     2.66,2, -999.000,9, -999.000,9, -999.000,9,   1.9250,2,    21.20,2,   -999.0,9,  -999.00,9,   2353.5,2,   -999.0,9,  -999.0,-999.0000,-999.000,  -999.0,-999.000
   31WTTUNES_1,  P17C,    41,  1,     27,     27,2,19910616,0926, 22.4983,-135.0017, 5147,   2998.1,   1.5783,  34.6649,2,  34.6661,2,    124.0,2,  1.3601,    121.5,2,   164.54,2,    37.92,2,     0.00,2,     2.61,2, -999.000,9, -999.000,9, -999.000,9,-999.0000,5,    19.10,2,   -999.0,9,  -999.00,9,   2350.6,2,   -999.0,9,  -999.0,-999.0000,-999.000,  -999.0,-999.000
   31WTTUNES_1,  P17C,    41,  1,     28,     28,2,19910616,0926, 22.4983,-135.0017, 5147,   3259.1,   1.5250,  34.6724,2,  34.6726,2,    131.7,2,  1.2825,    129.4,2,   163.93,2,    37.45,2,     0.00,2,     2.57,2, -999.000,9, -999.000,9, -999.000,9,-999.0000,9,  -999.00,9,   -999.0,9,  -999.00,9,   2344.6,2,   -999.0,9,  -999.0,-999.0000,-999.000,  -999.0,-999.000
   31WTTUNES_1,  P17C,    41,  1,     29,     29,2,19910616,0926, 22.4983,-135.0017, 5147,   3504.9,   1.5037,  34.6772,2,  34.6759,2,    137.3,2,  1.2370,    137.4,2,   162.53,2,    36.98,2,     0.00,2,     2.54,2, -999.000,9, -999.000,9, -999.000,9,-999.0000,9,  -999.00,9,   -999.0,9,  -999.00,9,   2340.8,2,   2448.1,2,  -999.0,-999.0000,-999.000,  -999.0,-999.000
   31WTTUNES_1,  P17C,    41,  1,     30,     30,2,19910616,0926, 22.4983,-135.0017, 5147,   3759.0,   1.4980,  34.6787,2,  34.6798,2,    141.8,2,  1.2050,    139.3,2,   161.13,2,    36.82,2,     0.00,2,     2.52,2, -999.000,9, -999.000,9, -999.000,9,   1.9110,2,    17.12,2,   -999.0,9,  -999.00,9,   2337.2,2,   -999.0,9,  -999.0,-999.0000,-999.000,  -999.0,-999.000
   31WTTUNES_1,  P17C,    41,  1,     31,     31,2,19910616,0926, 22.4983,-135.0017, 5147,   4023.2,   1.4933,  34.6826,2,  34.6824,2,    145.4,2,  1.1721,    147.9,2,   158.55,2,    36.41,2,     0.00,2,     2.49,2, -999.000,9, -999.000,9, -999.000,9,   1.9090,2,    16.52,2,   -999.0,9,  -999.00,9,   2332.3,2,   -999.0,9,  -999.0,-999.0000,-999.000,  -999.0,-999.000
   31WTTUNES_1,  P17C,    41,  1,     32,     32,2,19910616,0926, 22.4983,-135.0017, 5147,   4274.1,   1.4824,  34.6847,2,  34.6848,2,    151.9,2,  1.1337,    151.6,2,   154.77,2,    35.89,2,     0.00,2,     2.46,2, -999.000,9, -999.000,9, -999.000,9,   1.9090,2,    16.03,2,   -999.0,9,  -999.00,9,   2327.5,2,   -999.0,9,  -999.0,-999.0000,-999.000,  -999.0,-999.000
   31WTTUNES_1,  P17C,    41,  1,     33,     33,2,19910616,0926, 22.4983,-135.0017, 5147,   4537.4,   1.4695,  34.6884,2,  34.6867,2,    156.8,2,  1.0912,    158.6,2,   150.20,2,    35.42,2,     0.00,2,     2.43,2,   -0.001,2,    0.000,2, -999.000,9,   1.9080,2,    15.03,2,   -999.0,9,  -999.00,9,   2319.7,2,   -999.0,9,  -999.0,-999.0000,-999.000,  -999.0,-999.000
   31WTTUNES_1,  P17C,    41,  1,     34,     34,2,19910616,0926, 22.4983,-135.0017, 5147,   4786.9,   1.4675,  34.6911,2,  34.6905,2,    161.6,2,  1.0600,    167.0,3,   146.43,2,    35.06,2,     0.00,2,     2.40,2,    0.001,2,    0.000,2, -999.000,9,   1.8930,2,    14.74,2,   -999.0,9,  -999.00,9,   2315.2,2,   -999.0,9,  -999.0,-999.0000,-999.000,  -999.0,-999.000
   31WTTUNES_1,  P17C,    41,  1,     35,     35,2,19910616,0926, 22.4983,-135.0017, 5147,   5007.2,   1.4869,  34.6916,2,  34.6906,2,    162.8,2,  1.0522,    163.0,2,   144.63,2,    35.11,2,     0.00,2,     2.39,2,    0.007,3,    0.000,2, -999.000,9,   1.8980,2,    14.93,2,   -999.0,9,  -999.00,9,   2312.8,2,   -999.0,9,  -999.0,-999.0000,-999.000,  -999.0,-999.000
   31WTTUNES_1,  P17C,    41,  1,     36,     36,2,19910616,0926, 22.4983,-135.0017, 5147,   5239.8,   1.5005,  34.6926,2,  34.6916,2,   -999.0,9,  1.0367,    165.6,2,   142.65,2,    34.85,2,     0.00,2,     2.38,2,    0.003,2,    0.000,2, -999.000,9,   1.8910,2,    14.77,2,   -999.0,9,  -999.00,9,   2310.8,2,   2428.6,2,  -999.0,-999.0000,-999.000,  -999.0,-999.000