BOTTLE,20220819CCHSIOAMB
EXPOCODE,SECT_ID,STNNBR,CASTNO,SAMPNO,BTLNBR,BTLNBR_FLAG_W,DATE,TIME,LATITUDE,LONGITUDE,DEPTH,CTDPRS,CTDTMP,CTDSAL,CTDSAL_FLAG_W,SALNTY,SALNTY_FLAG_W,CTDOXY,CTDOXY_FLAG_W,THETA,OXYGEN,OXYGEN_FLAG_W,SILCAT,SILCAT_FLAG_W,NITRAT,NITRAT_FLAG_W,NITRIT,NITRIT_FLAG_W,PHSPHT,PHSPHT_FLAG_W,CFC-11,CFC-11_FLAG_W,CFC-12,CFC-12_FLAG_W,TRITUM,TRITUM_FLAG_W,HELIUM,HELIUM_FLAG_W,DELHE3,DELHE3_FLAG_W,DELC14,DELC14_FLAG_W,DELC13,DELC13_FLAG_W,TCARBN,TCARBN_FLAG_W,ALKALI,ALKALI_FLAG_W,C14ERR,HELIER,DELHER,C13ERR,TRITER
,,,,,,,,,,,,DBAR,ITS-90,PSS-78,,PSS-78,,UMOL/KG,,DEG C,UMOL/KG,,UMOL/KG,,UMOL/KG,,UMOL/KG,,UMOL/KG,,PMOL/KG,,PMOL/KG,,TU,,NMOL/KG,,PERCNT,,/MILLE,,/MILLE,,UMOL/KG,,UMOL/KG,,/MILLE,NMOL/KG,PERCNT,/MILLE,TU
   31WTTUNES_1,  P17C,    37,  1,      1,      1,2,19910615,0637, 24.5017,-135.0050, 4545,      1.5,  20.4177,  35.0991,2,  35.1053,2,    228.6,3, 20.4174,    229.2,2,     3.74,2,     0.08,2,     0.00,2,     0.13,2,    2.309,2,    1.207,2, -999.000,9,-999.0000,9,  -999.00,9,   -999.0,9,  -999.00,9,   -999.0,9,   -999.0,9,  -999.0,-999.0000,-999.000,  -999.0,-999.000
   31WTTUNES_1,  P17C,    37,  1,      2,      2,2,19910615,0637, 24.5017,-135.0050, 4545,     53.4,  20.4067,  35.0979,2,  35.1029,2,    229.0,2, 20.3967,    235.1,2,     3.73,2,     0.08,2,     0.00,2,     0.13,2,    2.284,2,    1.200,2, -999.000,9,   1.7620,2,    -0.67,2,   -999.0,9,  -999.00,9,   -999.0,9,   -999.0,9,  -999.0,  0.0080,   0.110,  -999.0,-999.000
   31WTTUNES_1,  P17C,    37,  1,      3,      3,2,19910615,0637, 24.5017,-135.0050, 4545,    104.2,  20.3577,  35.0929,2,  35.0964,2,    232.3,2, 20.3382,    227.8,2,     3.72,2,     0.08,2,     0.00,2,     0.13,2,    2.297,2,    1.213,2,    2.050,2,   1.7930,2,    -0.82,2,   -999.0,9,  -999.00,9,   -999.0,9,   -999.0,9,  -999.0,  0.0080,   0.150,  -999.0,   0.014
   31WTTUNES_1,  P17C,    37,  1,      4,      4,2,19910615,0637, 24.5017,-135.0050, 4545,    129.1,  19.7947,  35.0776,2,  35.0841,2,    223.7,2, 19.7710,    225.8,2,     3.51,2,     0.05,2,     0.08,2,     0.14,2,    2.348,2,    1.248,2, -999.000,9,-999.0000,9,  -999.00,9,   -999.0,9,  -999.00,9,   -999.0,9,   -999.0,9,  -999.0,-999.0000,-999.000,  -999.0,-999.000
   31WTTUNES_1,  P17C,    37,  1,      5,      5,2,19910615,0637, 24.5017,-135.0050, 4545,    154.5,  19.1277,  35.0162,2,  35.0126,2,    220.1,2, 19.1001,    217.4,2,     3.51,2,     0.49,2,     0.14,2,     0.17,2,    2.362,2,    1.242,2,    2.128,2,   1.9160,2,    -0.55,2,   -999.0,9,  -999.00,9,   -999.0,9,   -999.0,9,  -999.0,  0.0090,   0.150,  -999.0,   0.010
   31WTTUNES_1,  P17C,    37,  1,      6,      6,2,19910615,0637, 24.5017,-135.0050, 4545,    180.2,  17.6538,  34.7954,2,  34.7811,2,    206.8,2, 17.6233,    207.7,2,     3.90,2,     2.26,2,     0.03,2,     0.28,2,    2.462,2,    1.264,2, -999.000,9,-999.0000,9,  -999.00,9,   -999.0,9,  -999.00,9,   -999.0,9,   -999.0,9,  -999.0,-999.0000,-999.000,  -999.0,-999.000
   31WTTUNES_1,  P17C,    37,  1,      7,      7,2,19910615,0637, 24.5017,-135.0050, 4545,    210.0,  15.7700,  34.5474,2,  34.5358,2,    205.9,2, 15.7372,    203.1,2,     5.69,2,     4.63,2,     0.01,2,     0.44,2,    2.504,2,    1.299,2,    2.057,2,   1.8190,2,     1.73,2,   -999.0,9,  -999.00,9,   -999.0,9,   -999.0,9,  -999.0,  0.0090,   0.150,  -999.0,   0.010
   31WTTUNES_1,  P17C,    37,  1,      8,      8,2,19910615,0637, 24.5017,-135.0050, 4545,    236.7,  13.8083,  34.2811,2,  34.2834,2,    197.4,2, 13.7746,    198.6,2,     7.89,2,     7.30,2,     0.01,2,     0.63,2,    2.509,2,    1.276,2, -999.000,9,-999.0000,9,  -999.00,9,   -999.0,9,  -999.00,9,   -999.0,9,   -999.0,9,  -999.0,-999.0000,-999.000,  -999.0,-999.000
   31WTTUNES_1,  P17C,    37,  1,      9,      9,2,19910615,0637, 24.5017,-135.0050, 4545,    261.6,  11.7239,  34.0979,2,  34.1002,2,    196.2,2, 11.6905,    200.7,2,    11.69,2,    11.13,2,     0.01,2,     0.87,2,    2.570,2,    1.269,2,    2.269,2,   1.8440,2,     4.76,2,   -999.0,9,  -999.00,9,   -999.0,9,   -999.0,9,  -999.0,  0.0090,   0.150,  -999.0,   0.010
   31WTTUNES_1,  P17C,    37,  1,     10,     10,2,19910615,0637, 24.5017,-135.0050, 4545,    291.8,  10.2384,  34.0459,2,  34.0485,2,    189.6,2, 10.2043,    196.6,2,    17.69,2,    15.71,2,     0.00,2,     1.16,2,    2.327,2,    1.148,2,    2.188,2,   1.8570,2,     7.36,2,   -999.0,9,  -999.00,9,   -999.0,9,   -999.0,9,  -999.0,  0.0090,   0.150,  -999.0,   0.010
   31WTTUNES_1,  P17C,    37,  1,     11,     11,2,19910615,0637, 24.5017,-135.0050, 4545,    357.4,   8.4701,  34.0394,2,  34.0429,2,    160.4,2,  8.4328,    164.8,2,    31.50,2,    22.72,2,     0.01,2,     1.62,2,    1.652,2,    0.856,2,    2.136,2,   1.8600,2,    13.43,2,   -999.0,9,  -999.00,9,   -999.0,9,   -999.0,9,  -999.0,  0.0090,   0.150,  -999.0,   0.010
   31WTTUNES_1,  P17C,    37,  1,     12,     12,2,19910615,0637, 24.5017,-135.0050, 4545,    407.2,   7.5915,  34.0396,2,  34.0445,2,    124.6,2,  7.5515,    128.2,2,    42.91,2,    27.79,2,     0.01,2,     2.00,2,    1.032,2,    0.537,2,    1.898,2,   1.8680,2,    17.43,2,   -999.0,9,  -999.00,9,   -999.0,9,   -999.0,9,  -999.0,  0.0090,   0.150,  -999.0,   0.010
   31WTTUNES_1,  P17C,    37,  1,     13,     13,2,19910615,0637, 24.5017,-135.0050, 4545,    457.0,   6.6719,  34.0714,2,  34.0762,2,     83.0,2,  6.6301,     81.4,2,    57.92,2,    33.48,2,     0.00,2,     2.44,2,    0.420,2,    0.232,2, -999.000,9,-999.0000,9,  -999.00,9,   -999.0,9,  -999.00,9,   -999.0,9,   -999.0,9,  -999.0,-999.0000,-999.000,  -999.0,-999.000
   31WTTUNES_1,  P17C,    37,  1,     14,     14,2,19910615,0637, 24.5017,-135.0050, 4545,    504.5,   6.1472,  34.1120,2,  34.1169,2,     56.8,2,  6.1028,     54.2,2,    68.52,2,    36.71,2,     0.00,2,     2.71,2,    0.175,6,    0.108,6, -999.000,9,-999.0000,9,  -999.00,9,   -999.0,9,  -999.00,9,   -999.0,9,   -999.0,9,  -999.0,-999.0000,-999.000,  -999.0,-999.000
   31WTTUNES_1,  P17C,    37,  1,     15,     15,2,19910615,0637, 24.5017,-135.0050, 4545,    605.2,   5.4036,  34.2008,2,  34.2063,2,     26.1,2,  5.3533,     26.5,2,    84.32,2,    40.37,2,     0.00,2,     2.98,2,    0.027,2,    0.021,2,    0.156,2,   1.9160,2,    10.80,2,   -999.0,9,  -999.00,9,   -999.0,9,   -999.0,9,  -999.0,  0.0090,   0.150,  -999.0,   0.003
   31WTTUNES_1,  P17C,    37,  1,     16,     16,2,19910615,0637, 24.5017,-135.0050, 4545,    705.7,   4.9918,  34.3310,2,  34.3357,2,     16.5,2,  4.9348,     16.7,2,    95.11,2,    42.11,2,     0.00,2,     3.10,2,    0.003,2,    0.002,2, -999.000,9,-999.0000,9,  -999.00,9,   -999.0,9,  -999.00,9,   -999.0,9,   -999.0,9,  -999.0,-999.0000,-999.000,  -999.0,-999.000
   31WTTUNES_1,  P17C,    37,  1,     17,     17,2,19910615,0637, 24.5017,-135.0050, 4545,    807.4,   4.6500,  34.4152,2,  34.4189,2,     21.5,2,  4.5861,     22.3,2,   101.70,2,    42.82,2,     0.00,2,     3.12,2,    0.000,2,    0.001,2, -999.000,9,-999.0000,9,  -999.00,9,   -999.0,9,  -999.00,9,   -999.0,9,   -999.0,9,  -999.0,-999.0000,-999.000,  -999.0,-999.000
   31WTTUNES_1,  P17C,    37,  1,     18,     18,2,19910615,0637, 24.5017,-135.0050, 4545,    907.0,   4.3852,  34.4515,2,  34.4561,2,     27.7,2,  4.3145,     28.3,2,   106.08,2,    42.94,2,     0.00,2,     3.12,2,    0.002,2,    0.002,2, -999.000,9,-999.0000,9,  -999.00,9,   -999.0,9,  -999.00,9,   -999.0,9,   -999.0,9,  -999.0,-999.0000,-999.000,  -999.0,-999.000
   31WTTUNES_1,  P17C,    37,  1,     19,     19,2,19910615,0637, 24.5017,-135.0050, 4545,   1007.9,   4.0933,  34.4823,2,  34.4842,2,     34.7,2,  4.0163,     34.8,2,   112.67,2,    43.00,2,     0.00,2,     3.10,2,    0.000,2,   -0.002,2, -999.000,9,   1.8730,2,    21.30,2,   -999.0,9,  -999.00,9,   -999.0,9,   -999.0,9,  -999.0,-999.0000,-999.000,  -999.0,-999.000
   31WTTUNES_1,  P17C,    37,  1,     20,     20,2,19910615,0637, 24.5017,-135.0050, 4545,   1215.7,   3.5886,  34.5220,2,  34.5256,2,     41.3,2,  3.4985,     40.3,2,   124.66,2,    43.06,2,     0.00,2,     3.10,2, -999.000,9, -999.000,9, -999.000,9,   1.9010,2,    22.73,2,   -999.0,9,  -999.00,9,   -999.0,9,   -999.0,9,  -999.0,-999.0000,-999.000,  -999.0,-999.000
   31WTTUNES_1,  P17C,    37,  1,     21,     21,2,19910615,0637, 24.5017,-135.0050, 4545,   1410.0,   3.1419,  34.5512,2,  34.5558,2,     49.8,2,  3.0400,     49.1,2,   135.65,2,    42.62,2,     0.00,2,     3.08,2, -999.000,9, -999.000,9, -999.000,9,   1.8960,2,    23.41,2,   -999.0,9,  -999.00,9,   -999.0,9,   -999.0,9,  -999.0,-999.0000,-999.000,  -999.0,-999.000
   31WTTUNES_1,  P17C,    37,  1,     22,     22,2,19910615,0637, 24.5017,-135.0050, 4545,   1616.7,   2.7312,  34.5757,2,  34.5803,2,     60.0,2,  2.6168,     58.8,2,   145.64,2,    42.03,2,     0.00,2,     3.01,2, -999.000,9, -999.000,9, -999.000,9,   1.9170,2,    23.58,2,   -999.0,9,  -999.00,9,   -999.0,9,   -999.0,9,  -999.0,-999.0000,-999.000,  -999.0,-999.000
   31WTTUNES_1,  P17C,    37,  1,     23,     23,2,19910615,0637, 24.5017,-135.0050, 4545,   1817.8,   2.3924,  34.5997,2,  34.6029,2,     73.1,2,  2.2656,     71.6,2,   153.42,2,    41.23,2,     0.00,2,     2.94,2, -999.000,9, -999.000,9, -999.000,9,   1.9100,2,    24.09,2,   -999.0,9,  -999.00,9,   -999.0,9,   -999.0,9,  -999.0,-999.0000,-999.000,  -999.0,-999.000
   31WTTUNES_1,  P17C,    37,  1,     24,     24,2,19910615,0637, 24.5017,-135.0050, 4545,   2027.6,   2.1166,  34.6177,2,  34.6221,2,     85.5,2,  1.9761,     83.9,2,   158.60,2,    40.42,2,     0.00,2,     2.87,2, -999.000,9, -999.000,9, -999.000,9,   1.9170,2,    24.22,2,   -999.0,9,  -999.00,9,   -999.0,9,   -999.0,9,  -999.0,-999.0000,-999.000,  -999.0,-999.000
   31WTTUNES_1,  P17C,    37,  1,     25,     25,2,19910615,0637, 24.5017,-135.0050, 4545,   2232.0,   1.9287,  34.6349,2,  34.6348,2,     93.5,2,  1.7736,     93.8,2,   162.38,2,    39.89,2,     0.00,2,     2.81,2, -999.000,9, -999.000,9, -999.000,9,   1.9210,2,    22.94,2,   -999.0,9,  -999.00,9,   -999.0,9,   -999.0,9,  -999.0,-999.0000,-999.000,  -999.0,-999.000
   31WTTUNES_1,  P17C,    37,  1,     26,     26,2,19910615,0637, 24.5017,-135.0050, 4545,   2435.5,   1.7718,  34.6441,2,  34.6450,2,    101.6,2,  1.6016,    101.6,2,   166.77,2,    39.37,2,     0.00,2,     2.76,2, -999.000,9, -999.000,9, -999.000,9,   1.9170,2,    21.83,2,   -999.0,9,  -999.00,9,   -999.0,9,   -999.0,9,  -999.0,-999.0000,-999.000,  -999.0,-999.000
   31WTTUNES_1,  P17C,    37,  1,     27,     27,2,19910615,0637, 24.5017,-135.0050, 4545,   2541.3,   1.7129,  34.6480,2,  34.6489,2,    104.6,2,  1.5343,    105.5,2,   167.95,2,    39.05,2,     0.00,2,     2.74,2, -999.000,9, -999.000,9, -999.000,9,   1.9060,2,    21.32,2,   -999.0,9,  -999.00,9,   -999.0,9,   -999.0,9,  -999.0,-999.0000,-999.000,  -999.0,-999.000
   31WTTUNES_1,  P17C,    37,  1,     28,     28,2,19910615,0637, 24.5017,-135.0050, 4545,   2641.7,   1.6479,  34.6537,2,  34.6546,2,    110.7,2,  1.4615,    114.7,3,   167.73,2,    38.74,2,     0.00,2,     2.72,2, -999.000,9, -999.000,9, -999.000,9,   1.9240,2,    20.60,2,   -999.0,9,  -999.00,9,   -999.0,9,   -999.0,9,  -999.0,-999.0000,-999.000,  -999.0,-999.000
   31WTTUNES_1,  P17C,    37,  1,     29,     29,2,19910615,0637, 24.5017,-135.0050, 4545,   2843.6,   1.5799,  34.6588,2,  34.6616,2,    118.3,2,  1.3763,    119.0,2,   167.91,2,    38.21,2,     0.00,2,     2.69,2, -999.000,9, -999.000,9, -999.000,9,   1.9060,2,    19.06,2,   -999.0,9,  -999.00,9,   -999.0,9,   -999.0,9,  -999.0,-999.0000,-999.000,  -999.0,-999.000
   31WTTUNES_1,  P17C,    37,  1,     30,     30,2,19910615,0637, 24.5017,-135.0050, 4545,   3052.1,   1.5290,  34.6686,2,  34.6679,2,    125.5,2,  1.3066,    126.0,2,   165.49,2,    37.74,2,     0.00,2,     2.64,2, -999.000,9, -999.000,9, -999.000,9,   1.9140,2,    18.20,2,   -999.0,9,  -999.00,9,   -999.0,9,   -999.0,9,  -999.0,-999.0000,-999.000,  -999.0,-999.000
   31WTTUNES_1,  P17C,    37,  1,     31,     31,2,19910615,0637, 24.5017,-135.0050, 4545,   3302.8,   1.4950,  34.6737,2,  34.6726,2,    133.9,2,  1.2489,    134.1,2,   163.67,2,    37.27,2,     0.00,2,     2.62,2, -999.000,9, -999.000,9, -999.000,9,   1.9050,2,    17.42,2,   -999.0,9,  -999.00,9,   -999.0,9,   -999.0,9,  -999.0,-999.0000,-999.000,  -999.0,-999.000
   31WTTUNES_1,  P17C,    37,  1,     32,     32,2,19910615,0637, 24.5017,-135.0050, 4545,   3552.9,   1.4810,  34.6772,2,  34.6769,2,    140.6,2,  1.2100,    138.4,2,   161.85,2,    36.96,2,     0.00,2,     2.58,2, -999.000,9, -999.000,9, -999.000,9,   1.9030,2,    17.03,2,   -999.0,9,  -999.00,9,   -999.0,9,   -999.0,9,  -999.0,-999.0000,-999.000,  -999.0,-999.000
   31WTTUNES_1,  P17C,    37,  1,     33,     33,2,19910615,0637, 24.5017,-135.0050, 4545,   3801.3,   1.4800,  34.6807,2,  34.6794,2,    143.6,2,  1.1830,    147.4,3,   161.44,2,    36.71,2,     0.00,2,     2.57,2,    0.001,2,    0.006,2, -999.000,9,   1.8940,2,    16.09,2,   -999.0,9,  -999.00,9,   -999.0,9,   -999.0,9,  -999.0,-999.0000,-999.000,  -999.0,-999.000
   31WTTUNES_1,  P17C,    37,  1,     34,     34,2,19910615,0637, 24.5017,-135.0050, 4545,   4057.2,   1.4910,  34.6827,2,  34.6813,2,    146.3,2,  1.1661,    145.9,2,   160.42,2,    36.66,2,     0.00,2,     2.55,2,    0.003,2,    0.007,2, -999.000,9,   1.9070,2,    16.01,2,   -999.0,9,  -999.00,9,   -999.0,9,   -999.0,9,  -999.0,-999.0000,-999.000,  -999.0,-999.000
   31WTTUNES_1,  P17C,    37,  1,     35,     35,2,19910615,0637, 24.5017,-135.0050, 4545,   4321.4,   1.4970,  34.6851,2,  34.6834,2,    150.5,2,  1.1425,    150.7,2,   158.00,2,    36.30,2,     0.00,2,     2.54,2,    0.002,2,    0.008,2, -999.000,9,   1.8980,2,    15.80,2,   -999.0,9,  -999.00,9,   -999.0,9,   -999.0,9,  -999.0,-999.0000,-999.000,  -999.0,-999.000
   31WTTUNES_1,  P17C,    37,  1,     36,     36,2,19910615,0637, 24.5017,-135.0050, 4545,   4605.1,   1.5080,  34.6864,2,  34.6858,2,   -999.0,9,  1.1206,    152.5,2,   155.38,2,    36.15,2,     0.00,2,     2.50,2,    0.001,2,    0.008,2, -999.000,9,   1.8870,2,    15.82,2,   -999.0,9,  -999.00,9,   -999.0,9,   -999.0,9,  -999.0,-999.0000,-999.000,  -999.0,-999.000