BOTTLE,20220819CCHSIOAMB
EXPOCODE,SECT_ID,STNNBR,CASTNO,SAMPNO,BTLNBR,BTLNBR_FLAG_W,DATE,TIME,LATITUDE,LONGITUDE,DEPTH,CTDPRS,CTDTMP,CTDSAL,CTDSAL_FLAG_W,SALNTY,SALNTY_FLAG_W,CTDOXY,CTDOXY_FLAG_W,THETA,OXYGEN,OXYGEN_FLAG_W,SILCAT,SILCAT_FLAG_W,NITRAT,NITRAT_FLAG_W,NITRIT,NITRIT_FLAG_W,PHSPHT,PHSPHT_FLAG_W,CFC-11,CFC-11_FLAG_W,CFC-12,CFC-12_FLAG_W,TRITUM,TRITUM_FLAG_W,HELIUM,HELIUM_FLAG_W,DELHE3,DELHE3_FLAG_W,DELC14,DELC14_FLAG_W,DELC13,DELC13_FLAG_W,TCARBN,TCARBN_FLAG_W,ALKALI,ALKALI_FLAG_W,C14ERR,HELIER,DELHER,C13ERR,TRITER
,,,,,,,,,,,,DBAR,ITS-90,PSS-78,,PSS-78,,UMOL/KG,,DEG C,UMOL/KG,,UMOL/KG,,UMOL/KG,,UMOL/KG,,UMOL/KG,,PMOL/KG,,PMOL/KG,,TU,,NMOL/KG,,PERCNT,,/MILLE,,/MILLE,,UMOL/KG,,UMOL/KG,,/MILLE,NMOL/KG,PERCNT,/MILLE,TU
   31WTTUNES_1,  P17C,    78,  1,      1,      1,2,19910627,2208,  4.0100,-135.0017, 4452,      0.2,  28.6283,  34.5584,2,  34.5625,2,   -999.0,9, 28.6283,    205.9,2,     3.03,2,     1.76,2,     0.04,2,     0.35,2,    1.849,2,    0.950,2,    1.351,2,   1.7310,2,    -1.13,2,   -999.0,9,  -999.00,9,   -999.0,9,   -999.0,9,  -999.0,  0.0080,   0.150,  -999.0,   0.012
   31WTTUNES_1,  P17C,    78,  1,      2,      2,2,19910627,2208,  4.0100,-135.0017, 4452,     41.6,  28.2002,  34.5599,2,  34.5743,2,    201.0,2, 28.1903,    204.0,2,     3.23,2,     1.95,2,     0.05,2,     0.36,2,    1.659,2,    0.910,2,    1.316,2,   1.8880,2,    -1.03,2,   -999.0,9,  -999.00,9,   -999.0,9,   -999.0,9,  -999.0,  0.0090,   0.150,  -999.0,   0.011
   31WTTUNES_1,  P17C,    78,  1,      3,      3,2,19910627,2208,  4.0100,-135.0017, 4452,     91.5,  27.7990,  34.8469,2,  34.8438,2,    199.0,2, 27.7776,    194.4,2,     3.42,2,     2.83,2,     0.29,2,     0.45,2,    1.758,2,    0.935,2,    1.388,2,   1.7360,2,    -0.68,2,   -999.0,9,  -999.00,9,   -999.0,9,   -999.0,9,  -999.0,  0.0080,   0.150,  -999.0,   0.012
   31WTTUNES_1,  P17C,    78,  1,      4,      4,2,19910627,2208,  4.0100,-135.0017, 4452,    118.3,  24.8033,  34.8473,2,  34.8395,2,    155.7,2, 24.7778,    157.6,2,     4.98,2,     6.65,2,     1.19,2,     0.72,2,    1.649,2,    0.891,2,    1.373,2,   1.7400,2,     0.99,2,   -999.0,9,  -999.00,9,   -999.0,9,   -999.0,9,  -999.0,  0.0080,   0.150,  -999.0,   0.012
   31WTTUNES_1,  P17C,    78,  1,      5,      5,2,19910627,2208,  4.0100,-135.0017, 4452,    134.5,  19.5137,  34.7855,2,  34.7565,2,    136.9,2, 19.4893,    103.0,2,    13.78,2,    17.01,2,     0.50,2,     1.30,2,    1.236,2,    0.653,2,    1.557,2,   1.7980,2,     5.63,2,   -999.0,9,  -999.00,9,   -999.0,9,   -999.0,9,  -999.0,  0.0080,   0.150,  -999.0,   0.012
   31WTTUNES_1,  P17C,    78,  1,      6,      6,2,19910627,2208,  4.0100,-135.0017, 4452,    154.8,  13.4784,  34.7377,2,  34.7581,2,     84.0,2, 13.4567,     80.5,2,    22.58,2,    24.53,2,     0.03,2,     1.75,2,    0.663,2,    0.351,2,    0.949,2,   1.8030,2,     7.10,2,   -999.0,9,  -999.00,9,   -999.0,9,   -999.0,9,  -999.0,  0.0080,   0.150,  -999.0,   0.010
   31WTTUNES_1,  P17C,    78,  1,      7,      7,2,19910627,2208,  4.0100,-135.0017, 4452,    174.5,  12.6386,  34.8260,2,  34.8281,2,     69.6,2, 12.6151,     61.3,2,    23.94,2,    27.36,2,     0.02,2,     1.93,2,    0.505,2,    0.268,2,    0.602,2,   1.8130,2,     6.38,2,   -999.0,9,  -999.00,9,   -999.0,9,   -999.0,9,  -999.0,  0.0090,   0.150,  -999.0,   0.008
   31WTTUNES_1,  P17C,    78,  1,      8,      8,2,19910627,2208,  4.0100,-135.0017, 4452,    194.8,  12.0698,  34.8201,2,  34.8210,2,     66.2,2, 12.0443,     65.0,2,    24.43,2,    27.76,2,     0.01,2,     1.95,2,    0.396,2,    0.217,2,    0.495,2,   1.8250,2,     5.91,2,   -999.0,9,  -999.00,9,   -999.0,9,   -999.0,9,  -999.0,  0.0090,   0.150,  -999.0,   0.007
   31WTTUNES_1,  P17C,    78,  1,      9,      9,2,19910627,2208,  4.0100,-135.0017, 4452,    228.1,  11.7789,  34.8265,2,  34.8279,2,     50.8,2, 11.7495,     49.8,2,    26.09,2,    29.81,2,     0.01,2,     2.09,2,    0.294,2,    0.165,2,    0.372,2,   1.8360,2,     5.60,2,   -999.0,9,  -999.00,9,   -999.0,9,   -999.0,9,  -999.0,  0.0090,   0.150,  -999.0,   0.006
   31WTTUNES_1,  P17C,    78,  1,     10,     10,2,19910627,2208,  4.0100,-135.0017, 4452,    252.1,  11.4970,  34.8023,2,  34.8023,2,     40.1,2, 11.4650,     39.5,2,    27.95,2,    31.27,2,     0.00,2,     2.23,2,    0.235,2,    0.135,2,    0.364,2,   1.8360,2,     5.88,2,   -999.0,9,  -999.00,9,   -999.0,9,   -999.0,9,  -999.0,  0.0090,   0.150,  -999.0,   0.006
   31WTTUNES_1,  P17C,    78,  1,     11,     11,2,19910627,2208,  4.0100,-135.0017, 4452,    303.1,  10.7782,  34.7526,2,  34.7541,2,     69.7,2, 10.7412,     54.9,2,    29.22,2,    30.98,2,     0.00,2,     2.15,2,    0.213,2,    0.124,2,    0.196,2,   1.8290,2,     5.99,2,   -999.0,9,  -999.00,9,   -999.0,9,   -999.0,9,  -999.0,  0.0090,   0.150,  -999.0,   0.005
   31WTTUNES_1,  P17C,    78,  1,     12,     12,2,19910627,2208,  4.0100,-135.0017, 4452,    352.1,  10.1594,  34.7174,2,  34.7152,2,     63.7,2, 10.1180,     70.0,2,    30.49,2,    30.59,2,     0.00,2,     2.14,2,    0.206,2,    0.117,2,    0.264,2,   1.8530,2,     6.10,2,   -999.0,9,  -999.00,9,   -999.0,9,   -999.0,9,  -999.0,  0.0090,   0.150,  -999.0,   0.005
   31WTTUNES_1,  P17C,    78,  1,     13,     13,2,19910627,2208,  4.0100,-135.0017, 4452,    403.7,   9.4307,  34.6684,2,  34.6726,2,     61.0,2,  9.3852,     54.2,2,    34.60,2,    33.13,2,     0.01,2,     2.32,2,    0.111,2,    0.064,2,    0.197,2,   1.8450,2,     6.48,2,   -999.0,9,  -999.00,9,   -999.0,9,   -999.0,9,  -999.0,  0.0090,   0.150,  -999.0,   0.005
   31WTTUNES_1,  P17C,    78,  1,     14,     14,2,19910627,2208,  4.0100,-135.0017, 4452,    507.0,   8.2602,  34.6272,2,  34.6270,2,     24.7,2,  8.2071,     23.6,2,    45.84,2,    38.41,2,     0.00,2,     2.76,2,    0.014,2,    0.013,2,    0.026,2,   1.8430,2,     7.07,2,   -999.0,9,  -999.00,9,   -999.0,9,   -999.0,9,  -999.0,  0.0090,   0.150,  -999.0,   0.002
   31WTTUNES_1,  P17C,    78,  1,     15,     15,2,19910627,2208,  4.0100,-135.0017, 4452,    608.6,   7.1137,  34.5824,2,  34.5814,2,     32.2,2,  7.0549,     34.0,2,    54.25,2,    40.08,2,     0.00,2,     2.86,2,    0.004,2,    0.002,2,    0.007,2,   1.8580,2,     9.04,2,   -999.0,9,  -999.00,9,   -999.0,9,   -999.0,9,  -999.0,  0.0090,   0.150,  -999.0,   0.001
   31WTTUNES_1,  P17C,    78,  1,     16,     16,2,19910627,2208,  4.0100,-135.0017, 4452,    705.3,   6.3241,  34.5571,2,  34.5592,2,     49.2,2,  6.2597,     50.8,2,    60.90,2,    40.18,2,     0.00,2,     2.84,2,    0.006,2,    0.002,2,    0.004,2,   1.8850,2,    11.05,2,   -999.0,9,  -999.00,9,   -999.0,9,   -999.0,9,  -999.0,  0.0090,   0.150,  -999.0,   0.001
   31WTTUNES_1,  P17C,    78,  1,     17,     17,2,19910627,2208,  4.0100,-135.0017, 4452,    817.5,   5.6474,  34.5475,2,  34.5488,2,     60.8,2,  5.5763,     62.1,2,    69.40,2,    40.18,2,     0.00,2,     2.84,2, -999.000,9, -999.000,9, -999.000,9,-999.0000,9,  -999.00,9,   -999.0,9,  -999.00,9,   -999.0,9,   -999.0,9,  -999.0,-999.0000,-999.000,  -999.0,-999.000
   31WTTUNES_1,  P17C,    78,  1,     18,     18,2,19910627,2208,  4.0100,-135.0017, 4452,    913.2,   5.0758,  34.5508,2,  34.5523,2,     60.0,2,  4.9997,     58.4,2,    80.94,2,    41.25,2,     0.00,2,     2.92,2, -999.000,9, -999.000,9, -999.000,9,-999.0000,9,  -999.00,9,   -999.0,9,  -999.00,9,   -999.0,9,   -999.0,9,  -999.0,-999.0000,-999.000,  -999.0,-999.000
   31WTTUNES_1,  P17C,    78,  1,     19,     19,2,19910627,2208,  4.0100,-135.0017, 4452,   1008.8,   4.5790,  34.5573,2,  34.5618,2,     63.2,2,  4.4981,     64.2,2,    90.22,2,    41.06,2,     0.00,2,     2.94,2, -999.000,9, -999.000,9, -999.000,9,   1.8650,2,    17.62,2,   -999.0,9,  -999.00,9,   -999.0,9,   -999.0,9,  -999.0,-999.0000,-999.000,  -999.0,-999.000
   31WTTUNES_1,  P17C,    78,  1,     20,     20,2,19910627,2208,  4.0100,-135.0017, 4452,   1209.8,   3.7875,  34.5774,2,  34.5791,2,     71.7,2,  3.6959,     77.1,2,   107.92,2,    40.57,2,     0.00,2,     2.91,2, -999.000,9, -999.000,9, -999.000,9,   1.8730,2,    21.39,2,   -999.0,9,  -999.00,9,   -999.0,9,   -999.0,9,  -999.0,-999.0000,-999.000,  -999.0,-999.000
   31WTTUNES_1,  P17C,    78,  1,     21,     21,3,19910627,2208,  4.0100,-135.0017, 4452,   1422.4,   3.1549,  34.5996,2,  34.6003,2,     83.3,2,  3.0517,     87.7,4,   121.99,2,    40.17,2,     0.00,2,     2.87,2, -999.000,9, -999.000,9, -999.000,9,   1.8860,2,    23.92,2,   -999.0,9,  -999.00,9,   -999.0,9,   -999.0,9,  -999.0,-999.0000,-999.000,  -999.0,-999.000
   31WTTUNES_1,  P17C,    78,  1,     22,     22,2,19910627,2208,  4.0100,-135.0017, 4452,   1613.4,   2.7861,  34.6147,2,  34.6156,2,     89.5,2,  2.6713,     89.0,2,   131.47,2,    40.08,2,     0.00,2,     2.84,2, -999.000,9, -999.000,9, -999.000,9,   1.9020,2,    25.31,2,   -999.0,9,  -999.00,9,   -999.0,9,   -999.0,9,  -999.0,-999.0000,-999.000,  -999.0,-999.000
   31WTTUNES_1,  P17C,    78,  1,     23,     23,2,19910627,2208,  4.0100,-135.0017, 4452,   1861.4,   2.4134,  34.6325,2,  34.6346,2,     97.3,2,  2.2825,     96.1,2,   140.56,2,    39.49,2,     0.00,2,     2.79,2, -999.000,9, -999.000,9, -999.000,9,   1.9120,2,    28.75,2,   -999.0,9,  -999.00,9,   -999.0,9,   -999.0,9,  -999.0,-999.0000,-999.000,  -999.0,-999.000
   31WTTUNES_1,  P17C,    78,  1,     24,     24,2,19910627,2208,  4.0100,-135.0017, 4452,   2122.4,   2.1026,  34.6499,2,  34.6504,2,    105.1,2,  1.9541,    106.2,2,   147.69,2,    38.80,2,     0.00,2,     2.73,2, -999.000,9, -999.000,9, -999.000,9,   1.9110,2,    30.13,2,   -999.0,9,  -999.00,9,   -999.0,9,   -999.0,9,  -999.0,-999.0000,-999.000,  -999.0,-999.000
   31WTTUNES_1,  P17C,    78,  1,     25,     25,2,19910627,2208,  4.0100,-135.0017, 4452,   2375.8,   1.8997,  34.6603,2,  34.6620,2,    114.2,2,  1.7324,    113.9,2,   151.99,2,    38.32,2,     0.00,2,     2.68,2, -999.000,9, -999.000,9, -999.000,9,   1.9170,2,    32.27,2,   -999.0,9,  -999.00,9,   -999.0,9,   -999.0,9,  -999.0,-999.0000,-999.000,  -999.0,-999.000
   31WTTUNES_1,  P17C,    78,  1,     26,     26,2,19910627,2208,  4.0100,-135.0017, 4452,   2528.7,   1.8388,  34.6659,2,  34.6657,2,    118.6,2,  1.6588,    118.3,2,   152.58,2,    38.02,2,     0.00,2,     2.65,2, -999.000,9, -999.000,9, -999.000,9,   1.9370,2,    31.98,2,   -999.0,9,  -999.00,9,   -999.0,9,   -999.0,9,  -999.0,-999.0000,-999.000,  -999.0,-999.000
   31WTTUNES_1,  P17C,    78,  1,     27,     27,2,19910627,2208,  4.0100,-135.0017, 4452,   2681.0,   1.8008,  34.6677,2,  34.6679,2,    121.3,2,  1.6077,    120.8,2,   153.26,2,    37.83,2,     0.00,2,     2.64,2, -999.000,9, -999.000,9, -999.000,9,   1.9320,2,    30.58,2,   -999.0,9,  -999.00,9,   -999.0,9,   -999.0,9,  -999.0,-999.0000,-999.000,  -999.0,-999.000
   31WTTUNES_1,  P17C,    78,  1,     28,     28,2,19910627,2208,  4.0100,-135.0017, 4452,   2833.5,   1.7608,  34.6698,2,  34.6700,2,    124.5,2,  1.5542,    124.4,2,   152.38,2,    37.63,2,     0.00,2,     2.63,2, -999.000,9, -999.000,9, -999.000,9,   1.9250,2,    28.78,2,   -999.0,9,  -999.00,9,   -999.0,9,   -999.0,9,  -999.0,-999.0000,-999.000,  -999.0,-999.000
   31WTTUNES_1,  P17C,    78,  1,     29,     29,2,19910627,2208,  4.0100,-135.0017, 4452,   3042.5,   1.6879,  34.6735,2,  34.6735,2,    130.5,2,  1.4628,    131.0,2,   152.09,2,    37.14,2,     0.00,2,     2.60,2, -999.000,9, -999.000,9, -999.000,9,   1.9080,2,    26.54,2,   -999.0,9,  -999.00,9,   -999.0,9,   -999.0,9,  -999.0,-999.0000,-999.000,  -999.0,-999.000
   31WTTUNES_1,  P17C,    78,  1,     30,     30,2,19910627,2208,  4.0100,-135.0017, 4452,   3241.8,   1.5779,  34.6792,2,  34.6796,2,    139.7,2,  1.3359,    139.3,2,   151.50,2,    36.75,2,     0.00,2,     2.54,2, -999.000,9, -999.000,9, -999.000,9,   1.9100,2,    22.89,2,   -999.0,9,  -999.00,9,   -999.0,9,   -999.0,9,  -999.0,-999.0000,-999.000,  -999.0,-999.000
   31WTTUNES_1,  P17C,    78,  1,     31,     31,2,19910627,2208,  4.0100,-135.0017, 4452,   3445.6,   1.5020,  34.6849,2,  34.6844,2,    146.2,2,  1.2413,    146.6,2,   150.82,2,    36.36,2,     0.00,2,     2.50,2, -999.000,9, -999.000,9, -999.000,9,   1.9010,2,    20.28,2,   -999.0,9,  -999.00,9,   -999.0,9,   -999.0,9,  -999.0,-999.0000,-999.000,  -999.0,-999.000
   31WTTUNES_1,  P17C,    78,  1,     32,     32,2,19910627,2208,  4.0100,-135.0017, 4452,   3654.3,   1.4700,  34.6874,2,  34.6871,2,    151.3,2,  1.1887,    151.1,2,   150.52,2,    36.07,2,     0.00,2,     2.48,2, -999.000,9, -999.000,9, -999.000,9,   1.9080,2,    18.67,2,   -999.0,9,  -999.00,9,   -999.0,9,   -999.0,9,  -999.0,-999.0000,-999.000,  -999.0,-999.000
   31WTTUNES_1,  P17C,    78,  1,     33,     33,2,19910627,2208,  4.0100,-135.0017, 4452,   3851.4,   1.4490,  34.6895,2,  34.6891,2,    155.6,2,  1.1475,    155.1,2,   148.57,2,    35.77,2,     0.00,2,     2.45,2, -999.000,9, -999.000,9, -999.000,9,   1.9040,2,    17.22,2,   -999.0,9,  -999.00,9,   -999.0,9,   -999.0,9,  -999.0,-999.0000,-999.000,  -999.0,-999.000
   31WTTUNES_1,  P17C,    78,  1,     34,     34,2,19910627,2208,  4.0100,-135.0017, 4452,   4060.0,   1.4301,  34.6909,2,  34.6906,2,    159.3,2,  1.1066,    158.6,2,   147.10,2,    35.38,2,     0.00,2,     2.44,2, -999.000,9, -999.000,9, -999.000,9,   1.8990,2,    16.67,2,   -999.0,9,  -999.00,9,   -999.0,9,   -999.0,9,  -999.0,-999.0000,-999.000,  -999.0,-999.000
   31WTTUNES_1,  P17C,    78,  1,     35,     35,2,19910627,2208,  4.0100,-135.0017, 4452,   4278.4,   1.4011,  34.6929,2,  34.6924,2,    164.3,2,  1.0543,    164.4,2,   144.56,2,    35.28,2,     0.00,2,     2.41,2, -999.000,9, -999.000,9,   -0.005,2,   1.8870,2,    15.45,2,   -999.0,9,  -999.00,9,   -999.0,9,   -999.0,9,  -999.0,-999.0000,-999.000,  -999.0,   0.001
   31WTTUNES_1,  P17C,    78,  1,     36,     36,2,19910627,2208,  4.0100,-135.0017, 4452,   4510.5,   1.4111,  34.6937,2,  34.6936,2,   -999.0,9,  1.0376,    166.5,2,   143.19,2,    34.89,2,     0.00,2,     2.40,2, -999.000,9, -999.000,9, -999.000,9,   1.8970,2,    14.81,2,   -999.0,9,  -999.00,9,   -999.0,9,   -999.0,9,  -999.0,-999.0000,-999.000,  -999.0,-999.000