BOTTLE,20220819CCHSIOAMB
EXPOCODE,SECT_ID,STNNBR,CASTNO,SAMPNO,BTLNBR,BTLNBR_FLAG_W,DATE,TIME,LATITUDE,LONGITUDE,DEPTH,CTDPRS,CTDTMP,CTDSAL,CTDSAL_FLAG_W,SALNTY,SALNTY_FLAG_W,CTDOXY,CTDOXY_FLAG_W,THETA,OXYGEN,OXYGEN_FLAG_W,SILCAT,SILCAT_FLAG_W,NITRAT,NITRAT_FLAG_W,NITRIT,NITRIT_FLAG_W,PHSPHT,PHSPHT_FLAG_W,CFC-11,CFC-11_FLAG_W,CFC-12,CFC-12_FLAG_W,TRITUM,TRITUM_FLAG_W,HELIUM,HELIUM_FLAG_W,DELHE3,DELHE3_FLAG_W,DELC14,DELC14_FLAG_W,DELC13,DELC13_FLAG_W,TCARBN,TCARBN_FLAG_W,ALKALI,ALKALI_FLAG_W,C14ERR,HELIER,DELHER,C13ERR,TRITER
,,,,,,,,,,,,DBAR,ITS-90,PSS-78,,PSS-78,,UMOL/KG,,DEG C,UMOL/KG,,UMOL/KG,,UMOL/KG,,UMOL/KG,,UMOL/KG,,PMOL/KG,,PMOL/KG,,TU,,NMOL/KG,,PERCNT,,/MILLE,,/MILLE,,UMOL/KG,,UMOL/KG,,/MILLE,NMOL/KG,PERCNT,/MILLE,TU
   31WTTUNES_1,  P17C,    66,  2,      1,      1,2,19910624,0617,  9.9650,-135.0567, 4824,      0.2,  28.3302,  33.8550,2,  33.8518,2,    219.6,3, 28.3302,    220.9,2,     2.29,2,     0.14,2,     0.00,2,     0.19,2,    1.706,2,    1.212,4, -999.000,9,-999.0000,9,  -999.00,9,     89.6,2,     1.58,2,   -999.0,9,   -999.0,9,     4.0,-999.0000,-999.000,  -999.0,-999.000
   31WTTUNES_1,  P17C,    66,  2,      2,      2,2,19910624,0617,  9.9650,-135.0567, 4824,     25.5,  27.7090,  34.0073,2,  34.0185,2,    224.7,2, 27.7031,    220.2,2,     2.29,2,     0.13,2,     0.00,2,     0.22,2,    1.701,2,    0.963,2, -999.000,9,-999.0000,9,  -999.00,9,   -999.0,9,  -999.00,9,   -999.0,9,   -999.0,9,  -999.0,-999.0000,-999.000,  -999.0,-999.000
   31WTTUNES_1,  P17C,    66,  2,      3,      3,2,19910624,0617,  9.9650,-135.0567, 4824,     52.4,  25.0703,  34.4588,2,  34.4841,2,    217.1,2, 25.0590,    201.0,2,     4.16,2,     1.65,2,     0.02,2,     0.37,2,    1.789,2,    0.991,2, -999.000,9,-999.0000,9,  -999.00,9,     96.1,2,     1.26,2,   -999.0,9,   -999.0,9,     4.5,-999.0000,-999.000,  -999.0,-999.000
   31WTTUNES_1,  P17C,    66,  2,      4,      4,2,19910624,0617,  9.9650,-135.0567, 4824,     62.9,  18.8467,  34.6614,2,  34.6800,2,    149.5,2, 18.8356,    147.2,2,     9.35,2,     9.42,2,     0.18,2,     0.86,2,    1.628,2,    0.894,2, -999.000,9,-999.0000,9,  -999.00,9,   -999.0,9,  -999.00,9,   -999.0,9,   -999.0,9,  -999.0,-999.0000,-999.000,  -999.0,-999.000
   31WTTUNES_1,  P17C,    66,  2,      5,      5,2,19910624,0617,  9.9650,-135.0567, 4824,     74.3,  16.3439,  34.5896,2,  34.5696,2,    107.9,2, 16.3321,    101.6,2,    14.55,2,    17.10,2,     0.53,2,     1.37,2,    1.354,2,    0.816,2, -999.000,9,-999.0000,9,  -999.00,9,   -999.0,9,  -999.00,9,   -999.0,9,   -999.0,9,  -999.0,-999.0000,-999.000,  -999.0,-999.000
   31WTTUNES_1,  P17C,    66,  2,      6,      6,2,19910624,0617,  9.9650,-135.0567, 4824,     93.4,  13.5894,  34.6056,2,  34.6150,2,     15.9,2, 13.5763,     13.5,2,    24.75,2,    29.83,2,     0.60,2,     2.31,2,    0.536,2,    0.332,2, -999.000,9,-999.0000,9,  -999.00,9,     -4.7,2,    -0.22,2,   -999.0,9,   -999.0,9,     3.8,-999.0000,-999.000,  -999.0,-999.000
   31WTTUNES_1,  P17C,    66,  2,      7,      7,2,19910624,0617,  9.9650,-135.0567, 4824,    127.8,  11.9578,  34.7259,2,  34.7249,2,      5.1,2, 11.9413,      8.2,2,    29.56,2,    33.04,2,     0.00,2,     2.38,2,    0.211,2,    0.143,2, -999.000,9,-999.0000,9,  -999.00,9,    -49.3,2,    -0.15,2,   -999.0,9,   -999.0,9,     3.6,-999.0000,-999.000,  -999.0,-999.000
   31WTTUNES_1,  P17C,    66,  2,      8,      8,2,19910624,0617,  9.9650,-135.0567, 4824,    152.7,  11.5889,  34.7216,2,  34.7277,2,      7.7,2, 11.5696,      9.6,2,    29.75,2,    33.33,2,     0.00,2,     2.38,2,    0.158,2,    0.107,2, -999.000,9,-999.0000,9,  -999.00,9,    -39.5,2,    -0.20,2,   -999.0,9,   -999.0,9,     4.6,-999.0000,-999.000,  -999.0,-999.000
   31WTTUNES_1,  P17C,    66,  2,      9,      9,2,19910624,0617,  9.9650,-135.0567, 4824,    202.5,  10.8282,  34.7113,2,  34.7108,2,     17.9,2, 10.8035,     20.8,2,    32.16,2,    33.36,2,     0.00,2,     2.35,2,    0.121,2,    0.083,2, -999.000,9,-999.0000,9,  -999.00,9,    -69.2,2,    -0.16,2,   -999.0,9,   -999.0,9,     4.0,-999.0000,-999.000,  -999.0,-999.000
   31WTTUNES_1,  P17C,    66,  2,     10,     10,2,19910624,0617,  9.9650,-135.0567, 4824,    253.7,  10.3673,  34.7045,2,  34.7053,2,     12.3,2, 10.3372,     10.2,2,    33.83,2,    34.50,2,     0.00,2,     2.47,2,    0.062,2,    0.052,2, -999.000,9,-999.0000,9,  -999.00,9,    -89.4,2,    -0.13,2,   -999.0,9,   -999.0,9,     3.4,-999.0000,-999.000,  -999.0,-999.000
   31WTTUNES_1,  P17C,    66,  2,     11,     11,2,19910624,0617,  9.9650,-135.0567, 4824,    304.3,   9.9765,  34.6904,2,  34.6886,2,      8.1,2,  9.9412,     11.9,2,    35.49,2,    34.85,2,     0.00,2,     2.50,2,    0.046,2,    0.050,2, -999.000,9,-999.0000,9,  -999.00,9,    -84.5,2,    -0.08,2,   -999.0,9,   -999.0,9,     3.5,-999.0000,-999.000,  -999.0,-999.000
   31WTTUNES_1,  P17C,    66,  2,     12,     12,2,19910624,0617,  9.9650,-135.0567, 4824,    354.6,   9.6006,  34.6719,2,  34.6710,2,      7.2,2,  9.5603,      7.7,2,    38.27,2,    35.89,2,     0.00,2,     2.58,2,    0.047,2,    0.019,2, -999.000,9,-999.0000,9,  -999.00,9,    -83.6,2,     0.04,2,   -999.0,9,   -999.0,9,     5.7,-999.0000,-999.000,  -999.0,-999.000
   31WTTUNES_1,  P17C,    66,  2,     13,     13,2,19910624,0617,  9.9650,-135.0567, 4824,    404.4,   9.1028,  34.6507,2,  34.6500,2,      7.3,2,  9.0582,      8.5,2,    41.42,2,    36.34,2,     0.00,2,     2.67,2,    0.012,2,    0.011,2, -999.000,9,-999.0000,9,  -999.00,9,   -101.2,2,    -0.17,2,   -999.0,9,   -999.0,9,     3.5,-999.0000,-999.000,  -999.0,-999.000
   31WTTUNES_1,  P17C,    66,  2,     14,     14,2,19910624,0617,  9.9650,-135.0567, 4824,    507.5,   8.0403,  34.5953,2,  34.5931,2,      8.0,2,  7.9880,      7.9,2,    51.96,2,    37.82,2,     0.00,2,     2.86,2,    0.003,2,   -0.002,2, -999.000,9,-999.0000,9,  -999.00,9,   -147.1,2,    -1.09,4,   -999.0,9,   -999.0,9,     3.3,-999.0000,-999.000,  -999.0,-999.000
   31WTTUNES_1,  P17C,    66,  2,     15,     15,2,19910624,0617,  9.9650,-135.0567, 4824,    603.9,   7.0057,  34.5507,2,  34.5483,2,     10.8,2,  6.9479,     10.7,2,    62.32,2,    40.11,2,     0.00,2,     2.96,2, -999.000,9, -999.000,9, -999.000,9,-999.0000,9,  -999.00,9,   -142.3,2,    -0.20,2,   -999.0,9,   -999.0,9,     3.3,-999.0000,-999.000,  -999.0,-999.000
   31WTTUNES_1,  P17C,    66,  2,     16,     16,2,19910624,0617,  9.9650,-135.0567, 4824,    708.3,   6.2631,  34.5420,2,  34.5411,2,     15.3,2,  6.1987,     15.1,2,    70.27,2,    41.89,2,     0.00,2,     3.03,2, -999.000,9, -999.000,9, -999.000,9,-999.0000,9,  -999.00,9,   -159.7,2,    -0.20,2,   -999.0,9,   -999.0,9,     5.5,-999.0000,-999.000,  -999.0,-999.000
   31WTTUNES_1,  P17C,    66,  2,     17,     17,2,19910624,0617,  9.9650,-135.0567, 4824,    809.5,   5.5925,  34.5389,2,  34.5387,2,     24.2,2,  5.5224,     23.9,2,    78.95,2,    42.85,2,     0.00,2,     3.05,2, -999.000,9, -999.000,9, -999.000,9,-999.0000,9,  -999.00,9,   -170.0,2,    -0.17,2,   -999.0,9,   -999.0,9,     3.2,-999.0000,-999.000,  -999.0,-999.000
   31WTTUNES_1,  P17C,    66,  2,     18,     18,2,19910624,0617,  9.9650,-135.0567, 4824,    911.0,   5.0788,  34.5505,2,  34.5492,2,     30.4,2,  5.0028,     30.9,2,    85.97,2,    43.32,2,     0.00,2,     3.06,2,   -0.002,2,   -0.002,2, -999.000,9,-999.0000,9,  -999.00,9,   -180.1,2,    -0.17,2,   -999.0,9,   -999.0,9,     3.1,-999.0000,-999.000,  -999.0,-999.000
   31WTTUNES_1,  P17C,    66,  2,     19,     19,2,19910624,0617,  9.9650,-135.0567, 4824,   1009.0,   4.7020,  34.5547,2,  34.5543,2,     41.0,2,  4.6200,     41.4,2,    91.87,2,    42.41,2,     0.00,2,     3.03,2,   -0.002,2,   -0.002,2, -999.000,9,-999.0000,9,  -999.00,9,   -179.5,2,    -0.11,2,   -999.0,9,   -999.0,9,     3.1,-999.0000,-999.000,  -999.0,-999.000
   31WTTUNES_1,  P17C,    66,  2,     20,     20,2,19910624,0617,  9.9650,-135.0567, 4824,   1212.5,   4.0114,  34.5717,2,  34.5693,2,     55.5,2,  3.9175,     55.9,2,   106.46,2,    41.72,2,     0.00,2,     2.98,2,    0.001,2,    0.002,2, -999.000,9,-999.0000,9,  -999.00,9,   -999.0,9,  -999.00,9,   -999.0,9,   -999.0,9,  -999.0,-999.0000,-999.000,  -999.0,-999.000
   31WTTUNES_1,  P17C,    66,  2,     21,     21,2,19910624,0617,  9.9650,-135.0567, 4824,   1412.5,   3.4547,  34.5849,2,  34.5831,2,     67.0,2,  3.3492,     66.7,2,   118.27,2,    41.09,2,     0.00,2,     2.90,2, -999.000,9, -999.000,9, -999.000,9,-999.0000,9,  -999.00,9,   -999.0,9,  -999.00,9,   -999.0,9,   -999.0,9,  -999.0,-999.0000,-999.000,  -999.0,-999.000
   31WTTUNES_1,  P17C,    66,  2,     22,     22,3,19910624,0617,  9.9650,-135.0567, 4824,   1614.6,   2.9480,  34.6027,2,  34.5945,4,     75.6,2,  2.8311,     77.1,2,   129.15,2,    40.36,2,     0.00,2,     2.86,2, -999.000,9, -999.000,9, -999.000,9,-999.0000,9,  -999.00,9,   -999.0,9,  -999.00,9,   -999.0,9,   -999.0,9,  -999.0,-999.0000,-999.000,  -999.0,-999.000
   31WTTUNES_1,  P17C,    66,  2,     23,     23,2,19910624,0617,  9.9650,-135.0567, 4824,   1820.8,   2.5283,  34.6235,2,  34.6199,2,     86.3,2,  2.3993,     83.6,2,   138.91,2,    39.95,2,     0.00,2,     2.81,2, -999.000,9, -999.000,9, -999.000,9,-999.0000,9,  -999.00,9,   -999.0,9,  -999.00,9,   -999.0,9,   -999.0,9,  -999.0,-999.0000,-999.000,  -999.0,-999.000
   31WTTUNES_1,  P17C,    66,  2,     24,     24,2,19910624,0617,  9.9650,-135.0567, 4824,   2021.8,   2.2175,  34.6371,2,  34.6368,2,     90.7,2,  2.0759,     90.2,2,   147.01,2,    39.49,2,     0.00,2,     2.77,2, -999.000,9, -999.000,9, -999.000,9,-999.0000,9,  -999.00,9,   -999.0,9,  -999.00,9,   -999.0,9,   -999.0,9,  -999.0,-999.0000,-999.000,  -999.0,-999.000
   31WTTUNES_1,  P17C,    66,  2,     25,     25,2,19910624,0617,  9.9650,-135.0567, 4824,   2228.3,   2.0136,  34.6535,2,  34.6523,2,    101.0,2,  1.8574,    100.0,2,   151.97,2,    38.82,2,     0.00,2,     2.71,2, -999.000,9, -999.000,9, -999.000,9,-999.0000,9,  -999.00,9,   -999.0,9,  -999.00,9,   -999.0,9,   -999.0,9,  -999.0,-999.0000,-999.000,  -999.0,-999.000
   31WTTUNES_1,  P17C,    66,  2,     26,     26,2,19910624,0617,  9.9650,-135.0567, 4824,   2430.9,   1.9027,  34.6596,2,  34.6600,2,    107.6,2,  1.7304,    106.7,2,   153.79,2,    38.31,2,     0.00,2,     2.66,2, -999.000,9, -999.000,9, -999.000,9,-999.0000,9,  -999.00,9,   -999.0,9,  -999.00,9,   -999.0,9,   -999.0,9,  -999.0,-999.0000,-999.000,  -999.0,-999.000
   31WTTUNES_1,  P17C,    66,  2,     27,     27,2,19910624,0617,  9.9650,-135.0567, 4824,   2630.9,   1.8358,  34.6644,2,  34.6648,2,    112.2,2,  1.6466,    111.3,2,   155.43,2,    38.02,2,     0.00,2,     2.64,2, -999.000,9, -999.000,9, -999.000,9,-999.0000,9,  -999.00,9,   -999.0,9,  -999.00,9,   -999.0,9,   -999.0,9,  -999.0,-999.0000,-999.000,  -999.0,-999.000
   31WTTUNES_1,  P17C,    66,  2,     28,     28,2,19910624,0617,  9.9650,-135.0567, 4824,   2836.9,   1.7778,  34.6692,2,  34.6685,2,    116.3,2,  1.5706,    115.8,2,   155.77,2,    37.88,2,     0.00,2,     2.61,2, -999.000,9, -999.000,9, -999.000,9,-999.0000,9,  -999.00,9,   -999.0,9,  -999.00,9,   -999.0,9,   -999.0,9,  -999.0,-999.0000,-999.000,  -999.0,-999.000
   31WTTUNES_1,  P17C,    66,  2,     29,     29,2,19910624,0617,  9.9650,-135.0567, 4824,   3093.8,   1.6789,  34.6738,2,  34.6737,2,    125.2,2,  1.4491,    124.0,2,   156.11,2,    37.43,2,     0.00,2,     2.57,2, -999.000,9, -999.000,9, -999.000,9,-999.0000,9,  -999.00,9,   -999.0,9,  -999.00,9,   -999.0,9,   -999.0,9,  -999.0,-999.0000,-999.000,  -999.0,-999.000
   31WTTUNES_1,  P17C,    66,  2,     30,     30,2,19910624,0617,  9.9650,-135.0567, 4824,   3349.5,   1.5979,  34.6779,2,  34.6777,2,    133.2,2,  1.3447,    131.8,2,   155.54,2,    36.82,2,     0.00,2,     2.53,2, -999.000,9, -999.000,9, -999.000,9,-999.0000,9,  -999.00,9,   -999.0,9,  -999.00,9,   -999.0,9,   -999.0,9,  -999.0,-999.0000,-999.000,  -999.0,-999.000
   31WTTUNES_1,  P17C,    66,  2,     31,     31,2,19910624,0617,  9.9650,-135.0567, 4824,   3607.9,   1.5220,  34.6813,2,  34.6802,2,    140.1,2,  1.2442,    139.7,2,   155.51,2,    36.42,2,     0.00,2,     2.49,2, -999.000,9, -999.000,9, -999.000,9,-999.0000,9,  -999.00,9,   -999.0,9,  -999.00,9,   -999.0,9,   -999.0,9,  -999.0,-999.0000,-999.000,  -999.0,-999.000
   31WTTUNES_1,  P17C,    66,  2,     32,     32,2,19910624,0617,  9.9650,-135.0567, 4824,   3865.2,   1.4410,  34.6866,2,  34.6860,2,    152.0,2,  1.1383,    152.5,2,   150.14,2,    35.44,2,     0.00,2,     2.44,2, -999.000,9, -999.000,9, -999.000,9,-999.0000,9,  -999.00,9,   -999.0,9,  -999.00,9,   -999.0,9,   -999.0,9,  -999.0,-999.0000,-999.000,  -999.0,-999.000
   31WTTUNES_1,  P17C,    66,  2,     33,     33,2,19910624,0617,  9.9650,-135.0567, 4824,   4116.4,   1.4091,  34.6888,2,  34.6895,2,    159.9,2,  1.0800,    159.3,2,   145.51,2,    34.94,2,     0.00,2,     2.40,2, -999.000,9, -999.000,9, -999.000,9,-999.0000,9,  -999.00,9,   -999.0,9,  -999.00,9,   -999.0,9,   -999.0,9,  -999.0,-999.0000,-999.000,  -999.0,-999.000
   31WTTUNES_1,  P17C,    66,  2,     34,     34,2,19910624,0617,  9.9650,-135.0567, 4824,   4367.1,   1.4141,  34.6909,2,  34.6906,2,    162.5,2,  1.0569,    162.3,2,   143.83,2,    34.81,2,     0.00,2,     2.38,2, -999.000,9, -999.000,9, -999.000,9,-999.0000,9,  -999.00,9,   -999.0,9,  -999.00,9,   -999.0,9,   -999.0,9,  -999.0,-999.0000,-999.000,  -999.0,-999.000
   31WTTUNES_1,  P17C,    66,  2,     35,     35,2,19910624,0617,  9.9650,-135.0567, 4824,   4622.4,   1.4370,  34.6926,2,  34.6916,2,    163.3,2,  1.0498,    163.5,2,   143.81,2,    34.63,2,     0.00,2,     2.37,2,    0.002,2,    0.000,2, -999.000,9,-999.0000,9,  -999.00,9,   -999.0,9,  -999.00,9,   -999.0,9,   -999.0,9,  -999.0,-999.0000,-999.000,  -999.0,-999.000
   31WTTUNES_1,  P17C,    66,  2,     36,     36,2,19910624,0617,  9.9650,-135.0567, 4824,   4881.9,   1.4580,  34.6921,2,  34.6920,2,   -999.0,9,  1.0394,    165.3,2,   141.94,2,    34.39,2,     0.00,2,     2.37,2,    0.002,2,    0.004,2, -999.000,9,-999.0000,9,  -999.00,9,   -999.0,9,  -999.00,9,   -999.0,9,   -999.0,9,  -999.0,-999.0000,-999.000,  -999.0,-999.000