BOTTLE,20220819CCHSIOAMB
EXPOCODE,SECT_ID,STNNBR,CASTNO,SAMPNO,BTLNBR,BTLNBR_FLAG_W,DATE,TIME,LATITUDE,LONGITUDE,DEPTH,CTDPRS,CTDTMP,CTDSAL,CTDSAL_FLAG_W,SALNTY,SALNTY_FLAG_W,CTDOXY,CTDOXY_FLAG_W,THETA,OXYGEN,OXYGEN_FLAG_W,SILCAT,SILCAT_FLAG_W,NITRAT,NITRAT_FLAG_W,NITRIT,NITRIT_FLAG_W,PHSPHT,PHSPHT_FLAG_W,CFC-11,CFC-11_FLAG_W,CFC-12,CFC-12_FLAG_W,TRITUM,TRITUM_FLAG_W,HELIUM,HELIUM_FLAG_W,DELHE3,DELHE3_FLAG_W,DELC14,DELC14_FLAG_W,DELC13,DELC13_FLAG_W,TCARBN,TCARBN_FLAG_W,ALKALI,ALKALI_FLAG_W,C14ERR,HELIER,DELHER,C13ERR,TRITER
,,,,,,,,,,,,DBAR,ITS-90,PSS-78,,PSS-78,,UMOL/KG,,DEG C,UMOL/KG,,UMOL/KG,,UMOL/KG,,UMOL/KG,,UMOL/KG,,PMOL/KG,,PMOL/KG,,TU,,NMOL/KG,,PERCNT,,/MILLE,,/MILLE,,UMOL/KG,,UMOL/KG,,/MILLE,NMOL/KG,PERCNT,/MILLE,TU
   31WTTUNES_1,  P17C,    19,  1,      1,      1,2,19910609,1240, 33.5667,-135.0017, 5033,      1.5,  17.0748,  34.0033,2,  34.0029,2,    587.5,4, 17.0746,    250.8,2,     2.32,2,     0.09,2,     0.01,2,     0.21,2, -999.000,9, -999.000,9, -999.000,9,-999.0000,9,  -999.00,9,   -999.0,9,  -999.00,9,   -999.0,9,   -999.0,9,  -999.0,-999.0000,-999.000,  -999.0,-999.000
   31WTTUNES_1,  P17C,    19,  1,      2,      2,2,19910609,1240, 33.5667,-135.0017, 5033,     54.7,  16.9163,  33.9977,2,  33.9559,2,    258.0,2, 16.9074,    250.4,2,     2.53,2,     0.09,2,     0.01,2,     0.21,2, -999.000,9, -999.000,9, -999.000,9,-999.0000,9,  -999.00,9,   -999.0,9,  -999.00,9,   -999.0,9,   -999.0,9,  -999.0,-999.0000,-999.000,  -999.0,-999.000
   31WTTUNES_1,  P17C,    19,  1,      3,      3,2,19910609,1240, 33.5667,-135.0017, 5033,     88.2,  15.6280,  33.8356,2,  33.8225,2,    250.5,2, 15.6144,    252.9,2,     2.53,2,     0.08,2,     0.02,2,     0.21,2, -999.000,9, -999.000,9, -999.000,9,-999.0000,9,  -999.00,9,   -999.0,9,  -999.00,9,   -999.0,9,   -999.0,9,  -999.0,-999.0000,-999.000,  -999.0,-999.000
   31WTTUNES_1,  P17C,    19,  1,      4,      4,2,19910609,1240, 33.5667,-135.0017, 5033,    119.1,  16.1043,  34.1196,2,  34.1228,2,    249.0,2, 16.0856,    249.8,2,     2.53,2,     0.08,2,     0.01,2,     0.17,2, -999.000,9, -999.000,9, -999.000,9,-999.0000,9,  -999.00,9,   -999.0,9,  -999.00,9,   -999.0,9,   -999.0,9,  -999.0,-999.0000,-999.000,  -999.0,-999.000
   31WTTUNES_1,  P17C,    19,  1,      5,      5,2,19910609,1240, 33.5667,-135.0017, 5033,    156.0,  13.4797,  33.7810,2,  33.7647,2,    243.2,2, 13.4580,    235.8,2,     4.20,2,     3.56,2,     0.07,2,     0.46,2, -999.000,9, -999.000,9, -999.000,9,-999.0000,9,  -999.00,9,   -999.0,9,  -999.00,9,   -999.0,9,   -999.0,9,  -999.0,-999.0000,-999.000,  -999.0,-999.000
   31WTTUNES_1,  P17C,    19,  1,      6,      6,2,19910609,1240, 33.5667,-135.0017, 5033,    172.0,  12.3377,  33.6559,2,  33.6571,2,    234.4,2, 12.3152,    233.7,2,     5.24,2,     5.72,2,     0.03,2,     0.60,2, -999.000,9, -999.000,9, -999.000,9,-999.0000,9,  -999.00,9,   -999.0,9,  -999.00,9,   -999.0,9,   -999.0,9,  -999.0,-999.0000,-999.000,  -999.0,-999.000
   31WTTUNES_1,  P17C,    19,  1,      7,      7,2,19910609,1240, 33.5667,-135.0017, 5033,    197.8,  11.3741,  33.7978,2,  33.7799,2,    227.6,2, 11.3495,    227.3,2,     7.31,2,     8.30,2,     0.02,2,     0.74,2, -999.000,9, -999.000,9, -999.000,9,-999.0000,9,  -999.00,9,   -999.0,9,  -999.00,9,   -999.0,9,   -999.0,9,  -999.0,-999.0000,-999.000,  -999.0,-999.000
   31WTTUNES_1,  P17C,    19,  1,      8,      8,2,19910609,1240, 33.5667,-135.0017, 5033,    227.6,  10.1127,  33.8176,2,  33.8222,2,    217.6,2, 10.0865,    224.6,2,    12.91,2,    12.05,2,     0.02,2,     0.94,2, -999.000,9, -999.000,9, -999.000,9,-999.0000,9,  -999.00,9,   -999.0,9,  -999.00,9,   -999.0,9,   -999.0,9,  -999.0,-999.0000,-999.000,  -999.0,-999.000
   31WTTUNES_1,  P17C,    19,  1,      9,      9,2,19910609,1240, 33.5667,-135.0017, 5033,    250.1,   9.5966,  33.8849,2,  33.8880,2,    222.7,2,  9.5687,    222.7,2,    14.37,2,    14.00,2,     0.01,2,     1.06,2, -999.000,9, -999.000,9, -999.000,9,-999.0000,9,  -999.00,9,   -999.0,9,  -999.00,9,   -999.0,9,   -999.0,9,  -999.0,-999.0000,-999.000,  -999.0,-999.000
   31WTTUNES_1,  P17C,    19,  1,     10,     10,2,19910609,1240, 33.5667,-135.0017, 5033,    302.6,   8.6079,  33.9791,2,  33.9843,2,    194.5,2,  8.5762,    200.8,2,    23.27,2,    18.91,2,     0.01,2,     1.35,2, -999.000,9, -999.000,9, -999.000,9,-999.0000,9,  -999.00,9,   -999.0,9,  -999.00,9,   -999.0,9,   -999.0,9,  -999.0,-999.0000,-999.000,  -999.0,-999.000
   31WTTUNES_1,  P17C,    19,  1,     11,     11,2,19910609,1240, 33.5667,-135.0017, 5033,    354.4,   7.7929,  33.9943,2,  33.9929,2,    172.1,2,  7.7577,    175.3,2,    33.63,2,    23.35,2,     0.01,2,     1.65,2, -999.000,9, -999.000,9, -999.000,9,-999.0000,9,  -999.00,9,   -999.0,9,  -999.00,9,   -999.0,9,   -999.0,9,  -999.0,-999.0000,-999.000,  -999.0,-999.000
   31WTTUNES_1,  P17C,    19,  1,     12,     12,2,19910609,1240, 33.5667,-135.0017, 5033,    401.2,   7.1392,  33.9817,2,  33.9792,2,    154.6,2,  7.1013,    156.4,2,    40.67,2,    26.39,2,     0.01,2,     1.87,2, -999.000,9, -999.000,9, -999.000,9,-999.0000,9,  -999.00,9,   -999.0,9,  -999.00,9,   -999.0,9,   -999.0,9,  -999.0,-999.0000,-999.000,  -999.0,-999.000
   31WTTUNES_1,  P17C,    19,  1,     14,     14,2,19910609,1240, 33.5667,-135.0017, 5033,    603.0,   4.8372,  34.0810,2,  34.0786,2,     43.9,2,  4.7899,     43.5,2,    87.02,2,    40.67,2,     0.01,2,     2.91,2, -999.000,9, -999.000,9, -999.000,9,-999.0000,9,  -999.00,9,   -999.0,9,  -999.00,9,   -999.0,9,   -999.0,9,  -999.0,-999.0000,-999.000,  -999.0,-999.000
   31WTTUNES_1,  P17C,    19,  1,     15,     15,2,19910609,1240, 33.5667,-135.0017, 5033,    702.6,   4.4242,  34.1894,2,  34.1837,2,     21.5,2,  4.3707,     19.7,2,   101.70,2,    43.08,2,     0.01,2,     3.10,2, -999.000,9, -999.000,9, -999.000,9,-999.0000,9,  -999.00,9,   -999.0,9,  -999.00,9,   -999.0,9,   -999.0,9,  -999.0,-999.0000,-999.000,  -999.0,-999.000
   31WTTUNES_1,  P17C,    19,  1,     16,     16,2,19910609,1240, 33.5667,-135.0017, 5033,    806.6,   4.1543,  34.2805,2,  34.2780,2,     12.2,2,  4.0938,     11.9,2,   112.43,2,    43.73,2,     0.01,2,     3.18,2, -999.000,9, -999.000,9, -999.000,9,-999.0000,9,  -999.00,9,   -999.0,9,  -999.00,9,   -999.0,9,   -999.0,9,  -999.0,-999.0000,-999.000,  -999.0,-999.000
   31WTTUNES_1,  P17C,    19,  1,     17,     17,2,19910609,1240, 33.5667,-135.0017, 5033,    904.5,   3.9339,  34.3539,2,  34.3525,2,     10.3,2,  3.8668,     10.7,2,   120.27,2,    44.17,2,     0.01,2,     3.21,2, -999.000,9, -999.000,9, -999.000,9,-999.0000,9,  -999.00,9,   -999.0,9,  -999.00,9,   -999.0,9,   -999.0,9,  -999.0,-999.0000,-999.000,  -999.0,-999.000
   31WTTUNES_1,  P17C,    19,  1,     18,     18,2,19910609,1240, 33.5667,-135.0017, 5033,   1001.6,   3.7025,  34.4091,2,  34.4061,2,     12.8,2,  3.6291,     13.5,2,   126.66,2,    44.23,2,     0.02,2,     3.21,2, -999.000,9, -999.000,9, -999.000,9,-999.0000,9,  -999.00,9,   -999.0,9,  -999.00,9,   -999.0,9,   -999.0,9,  -999.0,-999.0000,-999.000,  -999.0,-999.000
   31WTTUNES_1,  P17C,    19,  1,     20,     20,4,19910609,1240, 33.5667,-135.0017, 5033,   1210.1,   3.2299,  34.4827,2,  34.4791,2,     24.5,2,  3.1436,     28.3,3,   138.19,2,    44.04,2,     0.01,2,     3.15,2, -999.000,9, -999.000,9, -999.000,9,-999.0000,9,  -999.00,9,   -999.0,9,  -999.00,9,   -999.0,9,   -999.0,9,  -999.0,-999.0000,-999.000,  -999.0,-999.000
   31WTTUNES_1,  P17C,    19,  1,     19,     19,2,19910609,1240, 33.5667,-135.0017, 5033,   1210.1,   3.2299,  34.4827,2,  34.4799,2,     24.5,2,  3.1436,     25.4,2,   138.21,2,    44.13,2,     0.02,2,     3.16,2, -999.000,9, -999.000,9, -999.000,9,-999.0000,9,  -999.00,9,   -999.0,9,  -999.00,9,   -999.0,9,   -999.0,9,  -999.0,-999.0000,-999.000,  -999.0,-999.000
   31WTTUNES_1,  P17C,    19,  1,     21,     21,4,19910609,1240, 33.5667,-135.0017, 5033,   1414.6,   2.8458,  34.5318,2,  34.5313,2,     41.8,2,  2.7468,     41.2,2,   146.01,2,    43.18,2,     0.01,2,     3.07,2, -999.000,9, -999.000,9, -999.000,9,-999.0000,9,  -999.00,9,   -999.0,9,  -999.00,9,   -999.0,9,   -999.0,9,  -999.0,-999.0000,-999.000,  -999.0,-999.000
   31WTTUNES_1,  P17C,    19,  1,     22,     22,2,19910609,1240, 33.5667,-135.0017, 5033,   1817.1,   2.2299,  34.5921,2,  34.5898,2,     65.4,2,  2.1055,     65.9,2,   161.27,2,    41.52,2,     0.02,2,     2.94,2, -999.000,9, -999.000,9, -999.000,9,-999.0000,9,  -999.00,9,   -999.0,9,  -999.00,9,   -999.0,9,   -999.0,9,  -999.0,-999.0000,-999.000,  -999.0,-999.000
   31WTTUNES_1,  P17C,    19,  1,     23,     23,2,19910609,1240, 33.5667,-135.0017, 5033,   2020.7,   2.0216,  34.6103,2,  34.6070,2,     74.1,2,  1.8832,     74.2,2,   167.44,2,    41.00,2,     0.01,2,     2.90,2, -999.000,9, -999.000,9, -999.000,9,-999.0000,9,  -999.00,9,   -999.0,9,  -999.00,9,   -999.0,9,   -999.0,9,  -999.0,-999.0000,-999.000,  -999.0,-999.000
   31WTTUNES_1,  P17C,    19,  1,     24,     24,4,19910609,1240, 33.5667,-135.0017, 5033,   2020.7,   2.0216,  34.6103,2,  34.6078,2,     74.1,2,  1.8832,     74.0,2,   167.42,2,    41.07,2,     0.01,2,     2.92,2, -999.000,9, -999.000,9, -999.000,9,-999.0000,9,  -999.00,9,   -999.0,9,  -999.00,9,   -999.0,9,   -999.0,9,  -999.0,-999.0000,-999.000,  -999.0,-999.000
   31WTTUNES_1,  P17C,    19,  1,     25,     25,2,19910609,1240, 33.5667,-135.0017, 5033,   2434.7,   1.7554,  34.6348,2,  34.6337,2,     91.2,2,  1.5856,     90.4,2,   174.61,2,    40.02,2,     0.01,2,     2.82,2, -999.000,9, -999.000,9, -999.000,9,-999.0000,9,  -999.00,9,   -999.0,9,  -999.00,9,   -999.0,9,   -999.0,9,  -999.0,-999.0000,-999.000,  -999.0,-999.000
   31WTTUNES_1,  P17C,    19,  1,     26,     26,2,19910609,1240, 33.5667,-135.0017, 5033,   2636.7,   1.6703,  34.6451,2,  34.6441,2,     99.9,2,  1.4839,    103.2,2,   174.38,2,    39.51,2,     0.01,2,     2.77,2, -999.000,9, -999.000,9, -999.000,9,-999.0000,9,  -999.00,9,   -999.0,9,  -999.00,9,   -999.0,9,   -999.0,9,  -999.0,-999.0000,-999.000,  -999.0,-999.000
   31WTTUNES_1,  P17C,    19,  1,     27,     27,2,19910609,1240, 33.5667,-135.0017, 5033,   2843.9,   1.6084,  34.6512,2,  34.6518,2,    108.1,2,  1.4041,    110.7,2,   174.14,2,    39.05,2,     0.01,2,     2.73,2, -999.000,9, -999.000,9, -999.000,9,-999.0000,9,  -999.00,9,   -999.0,9,  -999.00,9,   -999.0,9,   -999.0,9,  -999.0,-999.0000,-999.000,  -999.0,-999.000
   31WTTUNES_1,  P17C,    19,  1,     28,     28,2,19910609,1240, 33.5667,-135.0017, 5033,   3096.9,   1.5484,  34.6591,2,  34.6586,2,    117.7,2,  1.3213,    117.0,2,   172.05,2,    38.54,2,     0.01,2,     2.68,2, -999.000,9, -999.000,9, -999.000,9,-999.0000,9,  -999.00,9,   -999.0,9,  -999.00,9,   -999.0,9,   -999.0,9,  -999.0,-999.0000,-999.000,  -999.0,-999.000
   31WTTUNES_1,  P17C,    19,  1,     30,     30,4,19910609,1240, 33.5667,-135.0017, 5033,   3353.8,   1.5085,  34.6656,2,  34.6664,2,    127.6,2,  1.2570,    126.7,2,   168.07,2,    37.88,2,     0.01,2,     2.62,2, -999.000,9, -999.000,9, -999.000,9,-999.0000,9,  -999.00,9,   -999.0,9,  -999.00,9,   -999.0,9,   -999.0,9,  -999.0,-999.0000,-999.000,  -999.0,-999.000
   31WTTUNES_1,  P17C,    19,  1,     29,     29,2,19910609,1240, 33.5667,-135.0017, 5033,   3353.8,   1.5085,  34.6656,2,  34.6647,2,    127.6,2,  1.2570,    128.7,2,   168.10,2,    37.87,2,     0.01,2,     2.62,2, -999.000,9, -999.000,9, -999.000,9,-999.0000,9,  -999.00,9,   -999.0,9,  -999.00,9,   -999.0,9,   -999.0,9,  -999.0,-999.0000,-999.000,  -999.0,-999.000
   31WTTUNES_1,  P17C,    19,  1,     31,     31,4,19910609,1240, 33.5667,-135.0017, 5033,   3605.7,   1.4821,  34.6734,2,  34.6717,2,    136.0,2,  1.2056,    134.6,2,   165.98,2,    37.37,2,     0.01,2,     2.59,2, -999.000,9, -999.000,9, -999.000,9,-999.0000,9,  -999.00,9,   -999.0,9,  -999.00,9,   -999.0,9,   -999.0,9,  -999.0,-999.0000,-999.000,  -999.0,-999.000
   31WTTUNES_1,  P17C,    19,  1,     32,     32,2,19910609,1240, 33.5667,-135.0017, 5033,   4117.6,   1.4796,  34.6782,2,  34.6786,2,    146.7,2,  1.1485,    144.2,2,   162.66,2,    36.86,2,     0.01,2,     2.52,2, -999.000,9, -999.000,9, -999.000,9,-999.0000,9,  -999.00,9,   -999.0,9,  -999.00,9,   -999.0,9,   -999.0,9,  -999.0,-999.0000,-999.000,  -999.0,-999.000
   31WTTUNES_1,  P17C,    19,  1,     33,     33,2,19910609,1240, 33.5667,-135.0017, 5033,   4375.2,   1.4929,  34.6809,2,  34.6803,2,    150.5,2,  1.1325,    149.5,2,   159.95,2,    36.51,2,     0.01,2,     2.51,2, -999.000,9, -999.000,9, -999.000,9,-999.0000,9,  -999.00,9,   -999.0,9,  -999.00,9,   -999.0,9,   -999.0,9,  -999.0,-999.0000,-999.000,  -999.0,-999.000
   31WTTUNES_1,  P17C,    19,  1,     34,     34,2,19910609,1240, 33.5667,-135.0017, 5033,   4628.2,   1.5140,  34.6823,2,  34.6817,2,    153.5,2,  1.1237,    150.6,2,   157.04,2,    36.37,2,     0.01,2,     2.50,2, -999.000,9, -999.000,9, -999.000,9,-999.0000,9,  -999.00,9,   -999.0,9,  -999.00,9,   -999.0,9,   -999.0,9,  -999.0,-999.0000,-999.000,  -999.0,-999.000
   31WTTUNES_1,  P17C,    19,  1,     35,     35,2,19910609,1240, 33.5667,-135.0017, 5033,   4893.5,   1.5420,  34.6835,2,  34.6822,2,    155.4,2,  1.1193,    155.8,3,   156.40,2,    36.27,2,     0.01,2,     2.49,2, -999.000,9, -999.000,9, -999.000,9,-999.0000,9,  -999.00,9,   -999.0,9,  -999.00,9,   -999.0,9,   -999.0,9,  -999.0,-999.0000,-999.000,  -999.0,-999.000
   31WTTUNES_1,  P17C,    19,  1,     13,     13,4,19910609,1240, 33.5667,-135.0017, 5033,   5134.4,   1.5714,  34.6826,2,  34.6827,2,   -999.0,9,  1.1183,    152.4,2,   155.28,2,    35.94,2,     0.01,2,     2.48,2, -999.000,9, -999.000,9, -999.000,9,-999.0000,9,  -999.00,9,   -999.0,9,  -999.00,9,   -999.0,9,   -999.0,9,  -999.0,-999.0000,-999.000,  -999.0,-999.000
   31WTTUNES_1,  P17C,    19,  1,     36,     36,2,19910609,1240, 33.5667,-135.0017, 5033,   5134.4,   1.5714,  34.6826,2,  34.6826,2,   -999.0,9,  1.1183,    151.7,2,   156.58,2,    36.38,2,     0.01,2,     2.49,2, -999.000,9, -999.000,9, -999.000,9,-999.0000,9,  -999.00,9,   -999.0,9,  -999.00,9,   -999.0,9,   -999.0,9,  -999.0,-999.0000,-999.000,  -999.0,-999.000