BOTTLE,20220819CCHSIOAMB
EXPOCODE,SECT_ID,STNNBR,CASTNO,SAMPNO,BTLNBR,BTLNBR_FLAG_W,DATE,TIME,LATITUDE,LONGITUDE,DEPTH,CTDPRS,CTDTMP,CTDSAL,CTDSAL_FLAG_W,SALNTY,SALNTY_FLAG_W,CTDOXY,CTDOXY_FLAG_W,THETA,OXYGEN,OXYGEN_FLAG_W,SILCAT,SILCAT_FLAG_W,NITRAT,NITRAT_FLAG_W,NITRIT,NITRIT_FLAG_W,PHSPHT,PHSPHT_FLAG_W,CFC-11,CFC-11_FLAG_W,CFC-12,CFC-12_FLAG_W,TRITUM,TRITUM_FLAG_W,HELIUM,HELIUM_FLAG_W,DELHE3,DELHE3_FLAG_W,DELC14,DELC14_FLAG_W,DELC13,DELC13_FLAG_W,TCARBN,TCARBN_FLAG_W,ALKALI,ALKALI_FLAG_W,C14ERR,HELIER,DELHER,C13ERR,TRITER
,,,,,,,,,,,,DBAR,ITS-90,PSS-78,,PSS-78,,UMOL/KG,,DEG C,UMOL/KG,,UMOL/KG,,UMOL/KG,,UMOL/KG,,UMOL/KG,,PMOL/KG,,PMOL/KG,,TU,,NMOL/KG,,PERCNT,,/MILLE,,/MILLE,,UMOL/KG,,UMOL/KG,,/MILLE,NMOL/KG,PERCNT,/MILLE,TU
   31WTTUNES_1,  P17C,    69,  1,      1,      1,2,19910625,0539,  8.5200,-134.9983, 4779,      0.2,  28.5291,  33.8467,2,  33.8479,2,    207.4,3, 28.5290,    208.1,2,     3.01,2,     0.04,2,     0.00,2,     0.36,2,    1.666,2,    0.958,2, -999.000,9,-999.0000,9,  -999.00,9,   -999.0,9,  -999.00,9,   -999.0,9,   -999.0,9,  -999.0,-999.0000,-999.000,  -999.0,-999.000
   31WTTUNES_1,  P17C,    69,  1,      2,      2,2,19910625,0539,  8.5200,-134.9983, 4779,     41.0,  27.5210,  33.9255,2,  33.9868,2,    213.2,2, 27.5115,    208.9,2,     2.98,2,     0.03,2,     0.00,2,     0.36,2,    1.685,2,    0.975,2,    1.482,2,   1.7220,2,    -0.46,2,   -999.0,9,  -999.00,9,   -999.0,9,   -999.0,9,  -999.0,  0.0080,   0.150,  -999.0,   0.009
   31WTTUNES_1,  P17C,    69,  1,      3,      3,2,19910625,0539,  8.5200,-134.9983, 4779,     52.4,  21.2416,  34.5615,2,  34.5482,2,    220.3,2, 21.2315,    204.7,2,     4.46,2,     0.85,2,     0.01,2,     0.52,2,    2.013,2,    1.089,2,    2.063,2,   1.7900,2,     2.55,2,   -999.0,9,  -999.00,9,   -999.0,9,   -999.0,9,  -999.0,  0.0080,   0.150,  -999.0,   0.010
   31WTTUNES_1,  P17C,    69,  1,      4,      4,2,19910625,0539,  8.5200,-134.9983, 4779,     63.0,  17.0108,  34.5033,2,  34.4921,2,    173.9,2, 17.0005,    142.5,2,     9.50,2,    11.32,2,     0.25,2,     1.06,2,    1.748,2,    0.943,2,    2.009,2,   1.7880,2,     5.82,2,   -999.0,9,  -999.00,9,   -999.0,9,   -999.0,9,  -999.0,  0.0080,   0.150,  -999.0,   0.010
   31WTTUNES_1,  P17C,    69,  1,      5,      5,2,19910625,0539,  8.5200,-134.9983, 4779,     73.0,  14.8038,  34.5121,2,  34.5065,2,     96.9,2, 14.7930,     65.2,2,    17.72,2,    22.33,2,     1.06,2,     1.86,2,    1.102,2,    0.606,2,    1.537,2,   1.7930,2,     9.20,2,   -999.0,9,  -999.00,9,   -999.0,9,   -999.0,9,  -999.0,  0.0080,   0.150,  -999.0,   0.009
   31WTTUNES_1,  P17C,    69,  1,      6,      6,2,19910625,0539,  8.5200,-134.9983, 4779,     94.5,  12.7577,  34.6325,2,  34.6346,2,     29.5,2, 12.7450,     24.9,2,    26.50,2,    30.06,2,     0.04,2,     2.36,2,    0.475,2,    0.281,2,    0.888,2,   1.8090,2,     9.75,2,   -999.0,9,  -999.00,9,   -999.0,9,   -999.0,9,  -999.0,  0.0090,   0.150,  -999.0,   0.007
   31WTTUNES_1,  P17C,    69,  1,      7,      7,2,19910625,0539,  8.5200,-134.9983, 4779,    118.9,  11.5742,  34.7038,2,  34.7042,2,     23.2,2, 11.5592,     24.4,2,    30.04,2,    32.11,2,     0.00,2,     2.44,2,    0.224,2,    0.131,2,    0.572,2,   1.8110,2,     8.36,2,   -999.0,9,  -999.00,9,   -999.0,9,   -999.0,9,  -999.0,  0.0090,   0.150,  -999.0,   0.005
   31WTTUNES_1,  P17C,    69,  1,      8,      8,2,19910625,0539,  8.5200,-134.9983, 4779,    152.0,  11.1126,  34.7176,2,  34.7153,2,     34.3,2, 11.0938,     37.0,2,    30.20,2,    31.63,2,     0.00,2,     2.41,2,    0.211,2,    0.117,2,    0.462,2,   1.8140,2,     7.69,2,   -999.0,9,  -999.00,9,   -999.0,9,   -999.0,9,  -999.0,  0.0090,   0.150,  -999.0,   0.005
   31WTTUNES_1,  P17C,    69,  1,      9,      9,2,19910625,0539,  8.5200,-134.9983, 4779,    212.0,  10.5210,  34.7108,2,  34.7102,2,     39.3,2, 10.4956,     37.2,2,    32.05,2,    32.58,2,     0.00,2,     2.44,2,    0.141,2,    0.092,2,    0.304,2,   1.8120,2,     6.73,2,   -999.0,9,  -999.00,9,   -999.0,9,   -999.0,9,  -999.0,  0.0090,   0.150,  -999.0,   0.004
   31WTTUNES_1,  P17C,    69,  1,     10,     10,2,19910625,0539,  8.5200,-134.9983, 4779,    274.7,  10.0290,  34.6934,2,  34.6914,2,     23.9,2,  9.9970,     27.6,2,    34.83,2,    34.18,2,     0.00,2,     2.56,2,    0.078,2,    0.045,2,    0.198,2,   1.8240,2,     6.38,2,   -999.0,9,  -999.00,9,   -999.0,9,   -999.0,9,  -999.0,  0.0090,   0.150,  -999.0,   0.003
   31WTTUNES_1,  P17C,    69,  1,     11,     11,2,19910625,0539,  8.5200,-134.9983, 4779,    327.4,   9.6734,  34.6839,2,  34.6818,2,     25.8,2,  9.6361,     24.5,2,    36.11,2,    35.25,2,     0.00,2,     2.63,2,    0.057,2,    0.044,2,    0.143,2,   1.8220,2,     6.12,2,   -999.0,9,  -999.00,9,   -999.0,9,   -999.0,9,  -999.0,  0.0090,   0.150,  -999.0,   0.004
   31WTTUNES_1,  P17C,    69,  1,     12,     12,2,19910625,0539,  8.5200,-134.9983, 4779,    404.4,   9.0999,  34.6524,2,  34.6502,2,      8.6,2,  9.0554,      7.9,2,    43.02,2,    36.49,2,     0.00,2,     2.85,2,    0.015,2,    0.009,2,    0.040,2,   1.8310,2,     5.92,2,   -999.0,9,  -999.00,9,   -999.0,9,   -999.0,9,  -999.0,  0.0090,   0.150,  -999.0,   0.003
   31WTTUNES_1,  P17C,    69,  1,     13,     13,2,19910625,0539,  8.5200,-134.9983, 4779,    506.6,   7.9614,  34.5880,2,  34.5874,2,      4.0,2,  7.9096,      4.2,2,    53.67,2,    37.41,2,     0.00,2,     3.06,2,    0.003,2,   -0.002,2,    0.004,2,   1.8430,2,     7.59,2,   -999.0,9,  -999.00,9,   -999.0,9,   -999.0,9,  -999.0,  0.0090,   0.150,  -999.0,   0.001
   31WTTUNES_1,  P17C,    69,  1,     14,     14,2,19910625,0539,  8.5200,-134.9983, 4779,    607.6,   6.7435,  34.5484,2,  34.5486,2,      4.9,2,  6.6865,      5.9,2,    66.00,2,    40.74,2,     0.00,2,     3.22,2,   -0.002,2,   -0.002,2,    0.002,2,   1.8690,2,    10.26,2,   -999.0,9,  -999.00,9,   -999.0,9,   -999.0,9,  -999.0,  0.0090,   0.150,  -999.0,   0.001
   31WTTUNES_1,  P17C,    69,  1,     15,     15,2,19910625,0539,  8.5200,-134.9983, 4779,    709.0,   5.9055,  34.5472,2,  34.5482,2,     11.7,2,  5.8430,     13.0,2,    75.34,2,    43.40,2,     0.00,2,     3.27,2,   -0.002,2,   -0.002,2,    0.002,2,   1.8740,2,    12.94,2,   -999.0,9,  -999.00,9,   -999.0,9,   -999.0,9,  -999.0,  0.0090,   0.150,  -999.0,   0.001
   31WTTUNES_1,  P17C,    69,  1,     16,     16,2,19910625,0539,  8.5200,-134.9983, 4779,    810.2,   5.3171,  34.5486,2,  34.5491,2,     19.6,2,  5.2487,     21.4,2,    83.36,2,    44.01,2,     0.00,2,     3.26,2,    0.001,2,    0.002,2,    0.002,2,   1.8760,2,    15.21,2,   -999.0,9,  -999.00,9,   -999.0,9,   -999.0,9,  -999.0,  0.0090,   0.150,  -999.0,   0.001
   31WTTUNES_1,  P17C,    69,  1,     17,     17,2,19910625,0539,  8.5200,-134.9983, 4779,    911.1,   4.8200,  34.5555,2,  34.5562,2,     27.0,2,  4.7459,     29.6,2,    92.12,2,    43.95,2,     0.00,2,     3.26,2,    0.001,2,    0.002,2, -999.000,9,-999.0000,9,  -999.00,9,   -999.0,9,  -999.00,9,   -999.0,9,   -999.0,9,  -999.0,-999.0000,-999.000,  -999.0,-999.000
   31WTTUNES_1,  P17C,    69,  1,     18,     18,2,19910625,0539,  8.5200,-134.9983, 4779,   1013.1,   4.4186,  34.5626,2,  34.5627,2,     37.3,2,  4.3385,     43.2,2,    99.21,2,    43.16,2,     0.00,2,     3.22,2,    0.000,2,   -0.002,2,   -0.005,2,   1.8700,2,    18.51,2,   -999.0,9,  -999.00,9,   -999.0,9,   -999.0,9,  -999.0,  0.0090,   0.150,  -999.0,   0.002
   31WTTUNES_1,  P17C,    69,  1,     19,     19,2,19910625,0539,  8.5200,-134.9983, 4779,   1211.5,   3.7243,  34.5796,2,  34.5793,2,     57.6,2,  3.6332,     58.6,2,   113.40,2,    41.87,2,     0.00,2,     3.11,2, -999.000,9, -999.000,9, -999.000,9,-999.0000,5,    20.69,3,   -999.0,9,  -999.00,9,   -999.0,9,   -999.0,9,  -999.0,-999.0000,-999.000,  -999.0,-999.000
   31WTTUNES_1,  P17C,    69,  1,     20,     20,2,19910625,0539,  8.5200,-134.9983, 4779,   1409.6,   3.2342,  34.5963,2,  34.5937,2,     69.5,2,  3.1312,     70.0,2,   123.47,2,    40.93,2,     0.00,2,     3.02,2, -999.000,9, -999.000,9, -999.000,9,   1.8900,2,    23.43,2,   -999.0,9,  -999.00,9,   -999.0,9,   -999.0,9,  -999.0,-999.0000,-999.000,  -999.0,-999.000
   31WTTUNES_1,  P17C,    69,  1,     21,     21,2,19910625,0539,  8.5200,-134.9983, 4779,   1617.0,   2.8351,  34.6112,2,  34.6120,2,     78.7,2,  2.7194,     79.2,2,   131.85,2,    40.59,2,     0.00,2,     2.98,2, -999.000,9, -999.000,9, -999.000,9,-999.0000,9,  -999.00,9,   -999.0,9,  -999.00,9,   -999.0,9,   -999.0,9,  -999.0,-999.0000,-999.000,  -999.0,-999.000
   31WTTUNES_1,  P17C,    69,  1,     22,     22,3,19910625,0539,  8.5200,-134.9983, 4779,   1816.6,   2.5080,  34.6240,2,  34.6185,4,     88.1,2,  2.3797,     88.5,2,   139.11,2,    39.98,2,     0.00,2,     2.91,2, -999.000,9, -999.000,9, -999.000,9,   1.9150,2,    25.56,2,   -999.0,9,  -999.00,9,   -999.0,9,   -999.0,9,  -999.0,-999.0000,-999.000,  -999.0,-999.000
   31WTTUNES_1,  P17C,    69,  1,     23,     23,2,19910625,0539,  8.5200,-134.9983, 4779,   2074.4,   2.1565,  34.6432,2,  34.6414,2,     98.6,2,  2.0112,     99.2,2,   146.93,2,    39.10,2,     0.00,2,     2.85,2, -999.000,9, -999.000,9, -999.000,9,   1.9130,2,    27.41,2,   -999.0,9,  -999.00,9,   -999.0,9,   -999.0,9,  -999.0,-999.0000,-999.000,  -999.0,-999.000
   31WTTUNES_1,  P17C,    69,  1,     24,     24,2,19910625,0539,  8.5200,-134.9983, 4779,   2233.2,   2.0266,  34.6554,2,  34.6524,2,    103.2,2,  1.8697,    103.0,2,   149.89,2,    38.99,2,     0.00,2,     2.82,2, -999.000,9, -999.000,9, -999.000,9,   1.9220,2,    28.91,2,   -999.0,9,  -999.00,9,   -999.0,9,   -999.0,9,  -999.0,-999.0000,-999.000,  -999.0,-999.000
   31WTTUNES_1,  P17C,    69,  1,     25,     25,2,19910625,0539,  8.5200,-134.9983, 4779,   2372.7,   1.9337,  34.6599,2,  34.6592,2,    106.9,2,  1.7661,    106.4,2,   152.65,2,    38.54,2,     0.00,2,     2.79,2, -999.000,9, -999.000,9, -999.000,9,   1.9370,2,    31.52,2,   -999.0,9,  -999.00,9,   -999.0,9,   -999.0,9,  -999.0,-999.0000,-999.000,  -999.0,-999.000
   31WTTUNES_1,  P17C,    69,  1,     26,     26,2,19910625,0539,  8.5200,-134.9983, 4779,   2533.9,   1.8761,  34.6639,2,  34.6631,2,    110.7,2,  1.6950,    110.6,2,   153.74,2,    38.43,2,     0.00,2,     2.76,2, -999.000,9, -999.000,9, -999.000,9,   1.9430,2,    31.70,2,   -999.0,9,  -999.00,9,   -999.0,9,   -999.0,9,  -999.0,-999.0000,-999.000,  -999.0,-999.000
   31WTTUNES_1,  P17C,    69,  1,     27,     27,2,19910625,0539,  8.5200,-134.9983, 4779,   2686.6,   1.8225,  34.6670,2,  34.6661,2,    115.3,2,  1.6284,    117.3,3,   155.01,2,    37.99,2,     0.00,2,     2.74,2, -999.000,9, -999.000,9, -999.000,9,   1.9370,2,    31.43,2,   -999.0,9,  -999.00,9,   -999.0,9,   -999.0,9,  -999.0,-999.0000,-999.000,  -999.0,-999.000
   31WTTUNES_1,  P17C,    69,  1,     28,     28,2,19910625,0539,  8.5200,-134.9983, 4779,   2838.1,   1.7734,  34.6708,2,  34.6693,2,    117.8,2,  1.5661,    117.8,2,   155.53,2,    37.88,2,     0.00,2,     2.72,2, -999.000,9, -999.000,9, -999.000,9,-999.0000,5,    31.02,2,   -999.0,9,  -999.00,9,   -999.0,9,   -999.0,9,  -999.0,-999.0000,-999.000,  -999.0,-999.000
   31WTTUNES_1,  P17C,    69,  1,     29,     29,2,19910625,0539,  8.5200,-134.9983, 4779,   3047.8,   1.6960,  34.6757,2,  34.6747,2,    124.0,2,  1.4702,    123.7,2,   156.05,2,    37.60,2,     0.00,2,     2.68,2, -999.000,9, -999.000,9, -999.000,9,   1.9310,2,    28.41,2,   -999.0,9,  -999.00,9,   -999.0,9,   -999.0,9,  -999.0,-999.0000,-999.000,  -999.0,-999.000
   31WTTUNES_1,  P17C,    69,  1,     30,     30,2,19910625,0539,  8.5200,-134.9983, 4779,   3300.5,   1.5958,  34.6791,2,  34.6791,2,    132.6,2,  1.3475,    131.5,2,   156.94,2,    37.05,2,     0.00,2,     2.63,2, -999.000,9, -999.000,9, -999.000,9,   1.9320,2,    23.78,2,   -999.0,9,  -999.00,9,   -999.0,9,   -999.0,9,  -999.0,-999.0000,-999.000,  -999.0,-999.000
   31WTTUNES_1,  P17C,    69,  1,     31,     31,2,19910625,0539,  8.5200,-134.9983, 4779,   3555.0,   1.5282,  34.6840,2,  34.6831,2,    140.8,2,  1.2557,    140.8,2,   154.47,2,    36.45,2,     0.00,2,     2.59,2, -999.000,9, -999.000,9, -999.000,9,   1.9130,2,    20.08,2,   -999.0,9,  -999.00,9,   -999.0,9,   -999.0,9,  -999.0,-999.0000,-999.000,  -999.0,-999.000
   31WTTUNES_1,  P17C,    69,  1,     32,     32,2,19910625,0539,  8.5200,-134.9983, 4779,   3804.9,   1.4485,  34.6895,2,  34.6874,2,    151.8,2,  1.1520,    151.9,2,   149.95,2,    35.80,2,     0.00,2,     2.54,2, -999.000,9, -999.000,9, -999.000,9,   1.9160,2,    17.80,2,   -999.0,9,  -999.00,9,   -999.0,9,   -999.0,9,  -999.0,-999.0000,-999.000,  -999.0,-999.000
   31WTTUNES_1,  P17C,    69,  1,     33,     33,2,19910625,0539,  8.5200,-134.9983, 4779,   4061.4,   1.4002,  34.6920,2,  34.6914,2,    160.7,2,  1.0774,    160.0,2,   145.80,2,    35.20,2,     0.00,2,     2.48,2, -999.000,9, -999.000,9, -999.000,9,   1.8950,2,    15.21,2,   -999.0,9,  -999.00,9,   -999.0,9,   -999.0,9,  -999.0,-999.0000,-999.000,  -999.0,-999.000
   31WTTUNES_1,  P17C,    69,  1,     34,     34,2,19910625,0539,  8.5200,-134.9983, 4779,   4316.3,   1.4051,  34.6928,2,  34.6919,2,    163.6,2,  1.0539,    163.2,2,   144.08,2,    34.92,2,     0.00,2,     2.46,2, -999.000,9, -999.000,9, -999.000,9,   1.9000,2,    14.97,2,   -999.0,9,  -999.00,9,   -999.0,9,   -999.0,9,  -999.0,-999.0000,-999.000,  -999.0,-999.000
   31WTTUNES_1,  P17C,    69,  1,     35,     35,2,19910625,0539,  8.5200,-134.9983, 4779,   4577.3,   1.4214,  34.6940,2,  34.6935,2,    165.9,2,  1.0399,    164.6,2,   142.73,2,    34.97,2,     0.00,2,     2.46,2, -999.000,9, -999.000,9, -999.000,9,   1.9060,2,    14.62,2,   -999.0,9,  -999.00,9,   -999.0,9,   -999.0,9,  -999.0,-999.0000,-999.000,  -999.0,-999.000
   31WTTUNES_1,  P17C,    69,  1,     36,     36,2,19910625,0539,  8.5200,-134.9983, 4779,   4807.1,   1.4439,  34.6946,2,  34.6939,2,   -999.0,9,  1.0347,    165.4,2,   142.32,2,    34.70,2,     0.00,2,     2.45,2, -999.000,9, -999.000,9, -999.000,9,   1.8830,2,    14.64,2,   -999.0,9,  -999.00,9,   -999.0,9,   -999.0,9,  -999.0,-999.0000,-999.000,  -999.0,-999.000