BOTTLE,20220819CCHSIOAMB
EXPOCODE,SECT_ID,STNNBR,CASTNO,SAMPNO,BTLNBR,BTLNBR_FLAG_W,DATE,TIME,LATITUDE,LONGITUDE,DEPTH,CTDPRS,CTDTMP,CTDSAL,CTDSAL_FLAG_W,SALNTY,SALNTY_FLAG_W,CTDOXY,CTDOXY_FLAG_W,THETA,OXYGEN,OXYGEN_FLAG_W,SILCAT,SILCAT_FLAG_W,NITRAT,NITRAT_FLAG_W,NITRIT,NITRIT_FLAG_W,PHSPHT,PHSPHT_FLAG_W,CFC-11,CFC-11_FLAG_W,CFC-12,CFC-12_FLAG_W,TRITUM,TRITUM_FLAG_W,HELIUM,HELIUM_FLAG_W,DELHE3,DELHE3_FLAG_W,DELC14,DELC14_FLAG_W,DELC13,DELC13_FLAG_W,TCARBN,TCARBN_FLAG_W,ALKALI,ALKALI_FLAG_W,C14ERR,HELIER,DELHER,C13ERR,TRITER
,,,,,,,,,,,,DBAR,ITS-90,PSS-78,,PSS-78,,UMOL/KG,,DEG C,UMOL/KG,,UMOL/KG,,UMOL/KG,,UMOL/KG,,UMOL/KG,,PMOL/KG,,PMOL/KG,,TU,,NMOL/KG,,PERCNT,,/MILLE,,/MILLE,,UMOL/KG,,UMOL/KG,,/MILLE,NMOL/KG,PERCNT,/MILLE,TU
   31WTTUNES_1,  P17C,    11,  1,      1,      1,2,19910605,1445, 34.5767,-127.6350, 4765,      2.2,  14.1073,  32.8833,2,  32.8818,2,    263.2,3, 14.1070,    263.5,2,     2.84,4,     0.29,4,     0.01,4,     0.38,4,    3.397,2,    1.695,2, -999.000,9,-999.0000,9,  -999.00,9,   -999.0,9,  -999.00,9,   -999.0,9,   -999.0,9,  -999.0,-999.0000,-999.000,  -999.0,-999.000
   31WTTUNES_1,  P17C,    11,  1,      2,      2,2,19910605,1445, 34.5767,-127.6350, 4765,     50.3,  14.1073,  32.8828,2,  32.8765,2,    270.3,2, 14.1002,    264.9,2,     2.84,4,     0.29,4,     0.01,4,     0.41,4,    3.359,2,    1.696,2, -999.000,9,-999.0000,9,  -999.00,9,   -999.0,9,  -999.00,9,   -999.0,9,   -999.0,9,  -999.0,-999.0000,-999.000,  -999.0,-999.000
   31WTTUNES_1,  P17C,    11,  1,      3,      3,2,19910605,1445, 34.5767,-127.6350, 4765,    103.6,  12.5357,  32.9850,2,  32.9736,2,    254.2,2, 12.5221,    253.0,2,     4.60,4,     3.62,4,     0.19,4,     0.68,4,    3.654,2,    1.799,2, -999.000,9,-999.0000,9,  -999.00,9,   -999.0,9,  -999.00,9,   -999.0,9,   -999.0,9,  -999.0,-999.0000,-999.000,  -999.0,-999.000
   31WTTUNES_1,  P17C,    11,  1,      4,      4,2,19910605,1445, 34.5767,-127.6350, 4765,    124.6,  10.7952,  33.1914,2,  33.1986,2,    230.0,2, 10.7804,    232.0,2,     9.00,4,     9.78,4,     0.03,4,     0.96,4,    3.677,2,    1.774,2,    2.527,2,   1.8640,2,     0.47,2,   -999.0,9,  -999.00,9,   -999.0,9,   -999.0,9,  -999.0,  0.0090,   0.150,  -999.0,   0.017
   31WTTUNES_1,  P17C,    11,  1,      5,      5,2,19910605,1445, 34.5767,-127.6350, 4765,    150.3,   9.4997,  33.3847,2,  33.3670,2,    212.2,2,  9.4832,    212.6,2,    13.21,4,    14.68,4,     0.01,4,     1.24,4,    3.480,2,    1.687,2, -999.000,9,-999.0000,9,  -999.00,9,   -999.0,9,  -999.00,9,   -999.0,9,   -999.0,9,  -999.0,-999.0000,-999.000,  -999.0,-999.000
   31WTTUNES_1,  P17C,    11,  1,      6,      6,2,19910605,1445, 34.5767,-127.6350, 4765,    174.8,   8.7760,  33.5511,2,  33.5584,2,    194.8,2,  8.7576,    184.6,2,    21.23,4,    20.25,4,     0.00,4,     1.57,4,    3.183,2,    1.515,2,    2.351,2,   1.7900,2,     4.52,2,   -999.0,9,  -999.00,9,   -999.0,9,   -999.0,9,  -999.0,  0.0080,   0.150,  -999.0,   0.016
   31WTTUNES_1,  P17C,    11,  1,      7,      7,2,19910605,1445, 34.5767,-127.6350, 4765,    200.9,   8.6390,  33.7920,2,  33.7930,2,    167.5,2,  8.6181,    163.0,2,    26.11,4,    23.08,4,     0.00,4,     1.71,4,    2.685,2,    1.280,2, -999.000,9,-999.0000,9,  -999.00,9,   -999.0,9,  -999.00,9,   -999.0,9,   -999.0,9,  -999.0,-999.0000,-999.000,  -999.0,-999.000
   31WTTUNES_1,  P17C,    11,  1,      8,      8,2,19910605,1445, 34.5767,-127.6350, 4765,    225.7,   8.2822,  33.9039,2,  33.9018,2,    151.3,2,  8.2592,    138.8,2,    32.96,4,    26.80,4,     0.00,4,     1.98,4,    2.264,2,    1.098,2,    2.129,2,   1.8220,2,     8.98,2,   -999.0,9,  -999.00,9,   -999.0,9,   -999.0,9,  -999.0,  0.0090,   0.150,  -999.0,   0.015
   31WTTUNES_1,  P17C,    11,  1,      9,      9,2,19910605,1445, 34.5767,-127.6350, 4765,    254.2,   7.9783,  33.9657,2,  33.9598,2,    134.8,2,  7.9529,    137.7,2,    36.09,4,    27.38,4,     0.00,4,     2.00,4,    1.998,2,    0.986,2,    2.224,2,-999.0000,9,  -999.00,9,   -999.0,9,  -999.00,9,   -999.0,9,   -999.0,9,  -999.0,-999.0000,-999.000,  -999.0,   0.016
   31WTTUNES_1,  P17C,    11,  1,     10,     10,3,19910605,1445, 34.5767,-127.6350, 4765,    304.4,   7.3056,  33.9795,2,-999.0000,9,    147.8,2,  7.2766,   -999.0,5,  -999.00,9,  -999.00,9,  -999.00,9,  -999.00,9, -999.000,5, -999.000,5, -999.000,5,   1.8460,2,     9.80,2,   -999.0,9,  -999.00,9,   -999.0,9,   -999.0,9,  -999.0,  0.0090,   0.150,  -999.0,-999.000
   31WTTUNES_1,  P17C,    11,  1,     11,     11,2,19910605,1445, 34.5767,-127.6350, 4765,    354.2,   6.7699,  34.0068,2,  33.9903,2,    114.3,2,  6.7375,    108.9,2,    51.54,4,    32.56,4,     0.00,4,     2.38,4,    1.190,2,    0.574,2,    1.913,2,   1.8940,2,    15.97,2,   -999.0,9,  -999.00,9,   -999.0,9,   -999.0,9,  -999.0,  0.0090,   0.150,  -999.0,   0.015
   31WTTUNES_1,  P17C,    11,  1,     12,     12,2,19910605,1445, 34.5767,-127.6350, 4765,    401.7,   6.2201,  34.0193,2,  34.0127,2,     79.2,2,  6.1850,     81.3,2,    60.14,4,    35.89,4,     0.00,4,     2.61,4,    0.829,2,    0.392,2,    1.568,2,   1.8580,2,    17.12,2,   -999.0,9,  -999.00,9,   -999.0,9,   -999.0,9,  -999.0,  0.0090,   0.150,  -999.0,   0.013
   31WTTUNES_1,  P17C,    11,  1,     14,     14,2,19910605,1445, 34.5767,-127.6350, 4765,    602.5,   5.1177,  34.2233,2,  34.2114,2,     20.1,2,  5.0690,     19.6,2,    92.30,4,    43.02,4,     0.00,4,     3.21,4,    0.069,2,    0.031,2,    0.202,2,   1.8980,2,    12.08,2,   -999.0,9,  -999.00,9,   -999.0,9,   -999.0,9,  -999.0,  0.0090,   0.150,  -999.0,   0.003
   31WTTUNES_1,  P17C,    11,  1,     15,     15,2,19910605,1445, 34.5767,-127.6350, 4765,    708.3,   4.6520,  34.2800,2,  34.2721,2,     14.6,2,  4.5966,     14.4,2,   103.74,4,    44.29,4,     0.00,4,     3.30,4,    0.031,2,    0.011,2, -999.000,9,-999.0000,9,  -999.00,9,   -999.0,9,  -999.00,9,   -999.0,9,   -999.0,9,  -999.0,-999.0000,-999.000,  -999.0,-999.000
   31WTTUNES_1,  P17C,    11,  1,     16,     16,2,19910605,1445, 34.5767,-127.6350, 4765,    811.2,   4.1813,  34.3321,2,  34.3185,2,     11.7,2,  4.1201,     10.9,2,   113.90,4,    45.27,4,     0.00,4,     3.32,4,    0.011,2,    0.008,2,    0.015,2,   1.9040,2,    13.69,2,   -999.0,9,  -999.00,9,   -999.0,9,   -999.0,9,  -999.0,  0.0090,   0.150,  -999.0,   0.001
   31WTTUNES_1,  P17C,    11,  1,     17,     17,2,19910605,1445, 34.5767,-127.6350, 4765,    909.2,   3.9114,  34.3920,2,  34.3827,2,     13.2,2,  3.8441,     12.9,2,   121.91,4,    45.66,4,     0.00,4,     3.32,4,    0.010,2,    0.002,2, -999.000,9,-999.0000,9,  -999.00,9,   -999.0,9,  -999.00,9,   -999.0,9,   -999.0,9,  -999.0,-999.0000,-999.000,  -999.0,-999.000
   31WTTUNES_1,  P17C,    11,  1,     18,     18,2,19910605,1445, 34.5767,-127.6350, 4765,   1012.6,   3.6396,  34.4336,2,  34.4276,2,     17.5,2,  3.5658,     19.6,2,   128.85,4,    45.75,4,     0.00,4,     3.32,4,    0.005,2,    0.001,2, -999.000,9,-999.0000,9,  -999.00,9,   -999.0,9,  -999.00,9,   -999.0,9,   -999.0,9,  -999.0,-999.0000,-999.000,  -999.0,-999.000
   31WTTUNES_1,  P17C,    11,  1,     19,     19,2,19910605,1445, 34.5767,-127.6350, 4765,   1108.9,   3.4237,  34.4692,2,  34.4599,4,     23.4,2,  3.3439,     26.2,2,   133.44,4,    45.56,4,     0.00,4,     3.30,4,    0.006,2,    0.005,2, -999.000,9,-999.0000,9,  -999.00,9,   -999.0,9,  -999.00,9,   -999.0,9,   -999.0,9,  -999.0,-999.0000,-999.000,  -999.0,-999.000
   31WTTUNES_1,  P17C,    11,  1,     20,     20,4,19910605,1445, 34.5767,-127.6350, 4765,   1108.9,   3.4237,  34.4692,2,  34.4633,2,     23.4,2,  3.3439,     22.0,4,   133.63,4,    45.65,4,     0.00,4,     3.29,4,    0.012,2,    0.009,2, -999.000,9,-999.0000,9,  -999.00,9,   -999.0,9,  -999.00,9,   -999.0,9,   -999.0,9,  -999.0,-999.0000,-999.000,  -999.0,-999.000
   31WTTUNES_1,  P17C,    11,  1,     21,     21,2,19910605,1445, 34.5767,-127.6350, 4765,   1514.7,   2.6622,  34.5487,2,  34.5364,4,     46.8,2,  2.5571,     47.5,2,   152.98,4,    44.58,4,     0.00,4,     3.21,4,    0.002,2, -999.000,5, -999.000,9,-999.0000,9,  -999.00,9,   -999.0,9,  -999.00,9,   -999.0,9,   -999.0,9,  -999.0,-999.0000,-999.000,  -999.0,-999.000
   31WTTUNES_1,  P17C,    11,  1,     22,     22,2,19910605,1445, 34.5767,-127.6350, 4765,   1717.8,   2.3344,  34.5772,2,  34.5642,4,     59.1,2,  2.2168,     55.3,2,   161.58,4,    43.89,4,     0.00,4,     3.13,4,   -0.001,2,    0.001,2, -999.000,9,-999.0000,9,  -999.00,9,   -999.0,9,  -999.00,9,   -999.0,9,   -999.0,9,  -999.0,-999.0000,-999.000,  -999.0,-999.000
   31WTTUNES_1,  P17C,    11,  1,     23,     23,2,19910605,1445, 34.5767,-127.6350, 4765,   1922.1,   2.0896,  34.5982,2,  34.5890,4,     70.3,2,  1.9584,     68.4,2,   167.93,4,    43.30,4,     0.00,4,     3.06,4, -999.000,9, -999.000,9, -999.000,9,-999.0000,9,  -999.00,9,   -999.0,9,  -999.00,9,   -999.0,9,   -999.0,9,  -999.0,-999.0000,-999.000,  -999.0,-999.000
   31WTTUNES_1,  P17C,    11,  1,     24,     24,2,19910605,1445, 34.5767,-127.6350, 4765,   2119.2,   1.9237,  34.6169,2,  34.5927,4,     81.0,2,  1.7785,     65.1,4,   169.30,4,    43.20,4,     0.00,4,     3.08,4, -999.000,9, -999.000,9, -999.000,9,-999.0000,9,  -999.00,9,   -999.0,9,  -999.00,9,   -999.0,9,   -999.0,9,  -999.0,-999.0000,-999.000,  -999.0,-999.000
   31WTTUNES_1,  P17C,    11,  1,     25,     25,2,19910605,1445, 34.5767,-127.6350, 4765,   2329.9,   1.8168,  34.6299,2,  34.6271,2,     91.5,2,  1.6551,     85.8,2,   174.67,4,    41.84,4,  -999.00,9,     2.95,4, -999.000,9, -999.000,9, -999.000,9,-999.0000,9,  -999.00,9,   -999.0,9,  -999.00,9,   -999.0,9,   -999.0,9,  -999.0,-999.0000,-999.000,  -999.0,-999.000
   31WTTUNES_1,  P17C,    11,  1,     27,     27,4,19910605,1445, 34.5767,-127.6350, 4765,   2528.5,   1.7298,  34.6412,2,  34.6342,2,     99.7,2,  1.5521,     94.6,3,   175.84,4,    41.35,4,  -999.00,9,     2.91,4, -999.000,9, -999.000,9, -999.000,9,-999.0000,9,  -999.00,9,   -999.0,9,  -999.00,9,   -999.0,9,   -999.0,9,  -999.0,-999.0000,-999.000,  -999.0,-999.000
   31WTTUNES_1,  P17C,    11,  1,     26,     26,2,19910605,1445, 34.5767,-127.6350, 4765,   2528.5,   1.7298,  34.6412,2,  34.6360,2,     99.7,2,  1.5521,    100.1,2,   175.45,4,    41.44,4,     0.00,4,     2.91,4, -999.000,9, -999.000,9, -999.000,9,-999.0000,9,  -999.00,9,   -999.0,9,  -999.00,9,   -999.0,9,   -999.0,9,  -999.0,-999.0000,-999.000,  -999.0,-999.000
   31WTTUNES_1,  P17C,    11,  1,     28,     28,4,19910605,1445, 34.5767,-127.6350, 4765,   2739.9,   1.6579,  34.6502,2,  34.6494,2,    107.9,2,  1.4623,    109.7,2,   175.65,4,    40.17,4,     0.00,4,     2.84,4, -999.000,9, -999.000,9, -999.000,9,-999.0000,9,  -999.00,9,   -999.0,9,  -999.00,9,   -999.0,9,   -999.0,9,  -999.0,-999.0000,-999.000,  -999.0,-999.000
   31WTTUNES_1,  P17C,    11,  1,     29,     29,4,19910605,1445, 34.5767,-127.6350, 4765,   2935.8,   1.6049,  34.6575,2,  34.6552,2,    114.7,2,  1.3920,    118.6,2,   175.74,4,    40.07,4,     0.00,4,     2.82,4, -999.000,9, -999.000,9, -999.000,9,-999.0000,9,  -999.00,9,   -999.0,9,  -999.00,9,   -999.0,9,   -999.0,9,  -999.0,-999.0000,-999.000,  -999.0,-999.000
   31WTTUNES_1,  P17C,    11,  1,     30,     30,4,19910605,1445, 34.5767,-127.6350, 4765,   2935.8,   1.6049,  34.6575,2,  34.6539,2,    114.7,2,  1.3920,    117.2,2,   177.99,4,    40.37,4,     0.00,4,     2.87,4, -999.000,9, -999.000,9, -999.000,9,-999.0000,9,  -999.00,9,   -999.0,9,  -999.00,9,   -999.0,9,   -999.0,9,  -999.0,-999.0000,-999.000,  -999.0,-999.000
   31WTTUNES_1,  P17C,    11,  1,     31,     31,4,19910605,1445, 34.5767,-127.6350, 4765,   3401.2,   1.5280,  34.6688,2,  34.6671,2,    128.8,2,  1.2712,    123.8,3,   174.37,4,    39.49,4,     0.00,4,     2.77,4, -999.000,9, -999.000,9, -999.000,9,-999.0000,9,  -999.00,9,   -999.0,9,  -999.00,9,   -999.0,9,   -999.0,9,  -999.0,-999.0000,-999.000,  -999.0,-999.000
   31WTTUNES_1,  P17C,    11,  1,     32,     32,4,19910605,1445, 34.5767,-127.6350, 4765,   3653.6,   1.4980,  34.6756,2,  34.6759,2,    137.1,2,  1.2161,    142.1,2,   167.53,4,    38.22,4,     0.00,4,     2.67,4, -999.000,9, -999.000,9, -999.000,9,-999.0000,9,  -999.00,9,   -999.0,9,  -999.00,9,   -999.0,9,   -999.0,9,  -999.0,-999.0000,-999.000,  -999.0,-999.000
   31WTTUNES_1,  P17C,    11,  1,     33,     33,4,19910605,1445, 34.5767,-127.6350, 4765,   3910.2,   1.4850,  34.6794,2,  34.6785,2,    143.5,2,  1.1763,    144.6,2,   165.48,4,    38.02,4,     0.00,4,     2.66,4,    0.001,2,    0.001,2, -999.000,9,-999.0000,9,  -999.00,9,   -999.0,9,  -999.00,9,   -999.0,9,   -999.0,9,  -999.0,-999.0000,-999.000,  -999.0,-999.000
   31WTTUNES_1,  P17C,    11,  1,     34,     34,4,19910605,1445, 34.5767,-127.6350, 4765,   4168.4,   1.4920,  34.6819,2,  34.6804,2,    147.6,2,  1.1548,    145.9,2,   165.18,4,    38.02,4,     0.00,4,     2.65,4, -999.000,9, -999.000,9, -999.000,9,-999.0000,9,  -999.00,9,   -999.0,9,  -999.00,9,   -999.0,9,   -999.0,9,  -999.0,-999.0000,-999.000,  -999.0,-999.000
   31WTTUNES_1,  P17C,    11,  1,     35,     35,4,19910605,1445, 34.5767,-127.6350, 4765,   4421.2,   1.5110,  34.6823,2,  34.6816,2,    150.0,2,  1.1448,    149.6,2,   161.37,4,    37.73,4,     0.00,4,     2.62,4,    0.001,2,    0.004,2, -999.000,9,-999.0000,9,  -999.00,9,   -999.0,9,  -999.00,9,   -999.0,9,   -999.0,9,  -999.0,-999.0000,-999.000,  -999.0,-999.000
   31WTTUNES_1,  P17C,    11,  1,     36,     36,4,19910605,1445, 34.5767,-127.6350, 4765,   4683.7,   1.5360,  34.6820,2,  34.6719,4,    151.1,2,  1.1385,    150.9,2,   160.20,4,    37.73,4,     0.00,4,     2.64,4,    0.006,2,    0.009,3, -999.000,9,-999.0000,9,  -999.00,9,   -999.0,9,  -999.00,9,   -999.0,9,   -999.0,9,  -999.0,-999.0000,-999.000,  -999.0,-999.000
   31WTTUNES_1,  P17C,    11,  1,     13,     13,4,19910605,1445, 34.5767,-127.6350, 4765,   4877.0,   1.5590,  34.6850,2,  34.6805,2,   -999.0,9,  1.1377,    149.5,2,   159.03,4,    37.44,4,     0.00,4,     2.59,4, -999.000,9, -999.000,9, -999.000,9,-999.0000,9,  -999.00,9,   -999.0,9,  -999.00,9,   -999.0,9,   -999.0,9,  -999.0,-999.0000,-999.000,  -999.0,-999.000