BOTTLE,20220819CCHSIOAMB
EXPOCODE,SECT_ID,STNNBR,CASTNO,SAMPNO,BTLNBR,BTLNBR_FLAG_W,DATE,TIME,LATITUDE,LONGITUDE,DEPTH,CTDPRS,CTDTMP,CTDSAL,CTDSAL_FLAG_W,SALNTY,SALNTY_FLAG_W,CTDOXY,CTDOXY_FLAG_W,THETA,OXYGEN,OXYGEN_FLAG_W,SILCAT,SILCAT_FLAG_W,NITRAT,NITRAT_FLAG_W,NITRIT,NITRIT_FLAG_W,PHSPHT,PHSPHT_FLAG_W,CFC-11,CFC-11_FLAG_W,CFC-12,CFC-12_FLAG_W,TRITUM,TRITUM_FLAG_W,HELIUM,HELIUM_FLAG_W,DELHE3,DELHE3_FLAG_W,DELC14,DELC14_FLAG_W,DELC13,DELC13_FLAG_W,TCARBN,TCARBN_FLAG_W,ALKALI,ALKALI_FLAG_W,C14ERR,HELIER,DELHER,C13ERR,TRITER
,,,,,,,,,,,,DBAR,ITS-90,PSS-78,,PSS-78,,UMOL/KG,,DEG C,UMOL/KG,,UMOL/KG,,UMOL/KG,,UMOL/KG,,UMOL/KG,,PMOL/KG,,PMOL/KG,,TU,,NMOL/KG,,PERCNT,,/MILLE,,/MILLE,,UMOL/KG,,UMOL/KG,,/MILLE,NMOL/KG,PERCNT,/MILLE,TU
   31WTTUNES_1,  P17C,    76,  2,      1,      1,2,19910627,0652,  4.9917,-134.9717, 4586,      0.2,  28.5663,  34.3923,2,  34.4002,2,   -999.0,9, 28.5662,    220.3,2,     3.07,2,     0.54,2,     0.02,2,     0.25,2,    1.549,2,    0.910,2, -999.000,9,-999.0000,9,  -999.00,9,     94.1,2,     1.59,2,   -999.0,9,   -999.0,9,     6.4,-999.0000,-999.000,  -999.0,-999.000
   31WTTUNES_1,  P17C,    76,  2,      2,      2,2,19910627,0652,  4.9917,-134.9717, 4586,     50.7,  28.0871,  34.8548,2,  34.8578,2,    218.0,2, 28.0752,    213.7,2,     3.05,2,     2.36,2,     0.11,2,     0.38,2,    1.551,2,    0.896,2, -999.000,9,-999.0000,9,  -999.00,9,   -999.0,9,  -999.00,9,   -999.0,9,   -999.0,9,  -999.0,-999.0000,-999.000,  -999.0,-999.000
   31WTTUNES_1,  P17C,    76,  2,      3,      3,2,19910627,0652,  4.9917,-134.9717, 4586,     81.0,  27.9341,  34.8266,2,  34.8367,2,    214.9,2, 27.9150,    214.0,2,     3.21,2,     2.41,2,     0.17,2,     0.39,2,    1.574,2,    0.929,2, -999.000,9,-999.0000,9,  -999.00,9,     91.5,2,     1.47,2,   -999.0,9,   -999.0,9,     7.4,-999.0000,-999.000,  -999.0,-999.000
   31WTTUNES_1,  P17C,    76,  2,      4,      4,2,19910627,0652,  4.9917,-134.9717, 4586,    110.5,  24.5052,  34.9002,2,  34.8690,2,    174.6,2, 24.4816,    164.1,2,     4.81,2,     6.43,2,     1.00,2,     0.66,2,    1.552,2,    0.892,2, -999.000,9,-999.0000,9,  -999.00,9,     89.3,2,     0.96,2,   -999.0,9,   -999.0,9,     4.6,-999.0000,-999.000,  -999.0,-999.000
   31WTTUNES_1,  P17C,    76,  2,      5,      5,2,19910627,0652,  4.9917,-134.9717, 4586,    121.2,  19.5007,  34.8532,2,  34.7766,2,    137.8,2, 19.4787,    128.9,2,     8.90,2,    11.84,2,     0.13,2,     0.94,2,    1.460,2,    0.806,2, -999.000,9,-999.0000,9,  -999.00,9,     84.8,2,     0.60,2,   -999.0,9,   -999.0,9,     4.5,-999.0000,-999.000,  -999.0,-999.000
   31WTTUNES_1,  P17C,    76,  2,      6,      6,2,19910627,0652,  4.9917,-134.9717, 4586,    142.7,  15.3930,  34.6936,2,  34.6716,2,     89.7,2, 15.3711,     76.9,2,    19.08,2,    22.22,2,     0.02,2,     1.63,2,    0.918,2,    0.493,2, -999.000,9,-999.0000,9,  -999.00,9,     23.5,2,     0.21,2,   -999.0,9,   -999.0,9,     4.5,-999.0000,-999.000,  -999.0,-999.000
   31WTTUNES_1,  P17C,    76,  2,      7,      7,2,19910627,0652,  4.9917,-134.9717, 4586,    167.4,  11.3580,  34.6450,2,  34.6437,2,     57.4,2, 11.3370,     56.0,2,    30.15,2,    29.08,2,     0.01,2,     2.09,2,    0.364,2,    0.208,2, -999.000,9,-999.0000,9,  -999.00,9,    -37.6,2,     0.09,2,   -999.0,9,   -999.0,9,     4.3,-999.0000,-999.000,  -999.0,-999.000
   31WTTUNES_1,  P17C,    76,  2,      8,      8,2,19910627,0652,  4.9917,-134.9717, 4586,    206.5,  10.4803,  34.6480,2,  34.6528,2,     60.5,2, 10.4557,     61.9,2,    31.74,2,    29.95,2,     0.01,2,     2.13,2,    0.247,2,    0.146,2, -999.000,9,-999.0000,9,  -999.00,9,    -44.1,2,     0.21,2,   -999.0,9,   -999.0,9,     4.1,-999.0000,-999.000,  -999.0,-999.000
   31WTTUNES_1,  P17C,    76,  2,      9,      9,2,19910627,0652,  4.9917,-134.9717, 4586,    231.2,  10.1414,  34.6568,2,  34.6559,2,     63.9,2, 10.1144,     65.8,2,    32.62,2,    30.31,2,     0.01,2,     2.15,2,    0.219,2,    0.132,2, -999.000,9,-999.0000,9,  -999.00,9,    -47.2,2,     0.22,2,   -999.0,9,   -999.0,9,     4.5,-999.0000,-999.000,  -999.0,-999.000
   31WTTUNES_1,  P17C,    76,  2,     10,     10,2,19910627,0652,  4.9917,-134.9717, 4586,    257.4,   9.9335,  34.6635,2,  34.6640,2,     62.1,2,  9.9038,     61.6,2,    33.32,2,    31.03,2,     0.01,2,     2.18,2,    0.173,2,    0.105,2, -999.000,9,-999.0000,9,  -999.00,9,    -71.9,2,     0.16,2,   -999.0,9,   -999.0,9,     5.8,-999.0000,-999.000,  -999.0,-999.000
   31WTTUNES_1,  P17C,    76,  2,     11,     11,2,19910627,0652,  4.9917,-134.9717, 4586,    307.9,   9.6106,  34.6789,2,  34.6760,2,     59.3,2,  9.5757,     59.0,2,    33.48,2,    32.06,2,     0.01,2,     2.24,2,    0.126,2,    0.089,2, -999.000,9,-999.0000,9,  -999.00,9,    -72.8,2,     0.23,2,   -999.0,9,   -999.0,9,     4.2,-999.0000,-999.000,  -999.0,-999.000
   31WTTUNES_1,  P17C,    76,  2,     12,     12,2,19910627,0652,  4.9917,-134.9717, 4586,    357.9,   9.3047,  34.6620,2,  34.6642,2,     49.8,2,  9.2649,     48.6,2,    35.61,2,    33.63,2,     0.01,2,     2.35,2,    0.080,2,    0.052,2, -999.000,9,-999.0000,9,  -999.00,9,   -102.0,3,     0.09,2,   -999.0,9,   -999.0,9,     8.1,-999.0000,-999.000,  -999.0,-999.000
   31WTTUNES_1,  P17C,    76,  2,     13,     13,2,19910627,0652,  4.9917,-134.9717, 4586,    408.0,   8.9439,  34.6504,2,  34.6508,2,     37.1,2,  8.8994,     38.3,2,    38.82,2,    35.20,2,     0.01,2,     2.48,2,    0.046,2,    0.029,2, -999.000,9,-999.0000,9,  -999.00,9,    -95.5,6,     0.04,2,   -999.0,9,   -999.0,9,     3.0,-999.0000,-999.000,  -999.0,-999.000
   31WTTUNES_1,  P17C,    76,  2,     14,     14,2,19910627,0652,  4.9917,-134.9717, 4586,    503.4,   8.0783,  34.6181,2,  34.6184,2,     22.4,2,  8.0263,     22.6,2,    46.50,2,    38.28,2,     0.01,2,     2.74,2,    0.010,2,    0.007,2, -999.000,9,-999.0000,9,  -999.00,9,    -87.2,2,  -999.00,9,   -999.0,9,   -999.0,9,     3.4,-999.0000,-999.000,  -999.0,-999.000
   31WTTUNES_1,  P17C,    76,  2,     15,     15,2,19910627,0652,  4.9917,-134.9717, 4586,    603.4,   7.2037,  34.5814,2,  34.5821,2,     23.9,2,  7.1449,     24.3,2,    54.71,2,    39.99,2,     0.00,2,     2.88,2, -999.000,9, -999.000,9, -999.000,9,-999.0000,9,  -999.00,9,   -130.8,2,    -0.03,2,   -999.0,9,   -999.0,9,     2.9,-999.0000,-999.000,  -999.0,-999.000
   31WTTUNES_1,  P17C,    76,  2,     16,     16,2,19910627,0652,  4.9917,-134.9717, 4586,    730.3,   6.0982,  34.5522,2,  34.5534,2,     40.6,2,  6.0326,     37.8,2,    65.79,2,    40.96,2,     0.00,2,     2.92,2, -999.000,9, -999.000,9, -999.000,9,-999.0000,9,  -999.00,9,   -150.6,2,    -0.01,2,   -999.0,9,   -999.0,9,     2.9,-999.0000,-999.000,  -999.0,-999.000
   31WTTUNES_1,  P17C,    76,  2,     17,     17,2,19910627,0652,  4.9917,-134.9717, 4586,    785.8,   5.5915,  34.5498,2,  34.5511,2,     35.2,2,  5.5236,     39.0,2,    74.19,2,    42.04,2,     0.00,2,     2.98,2,    0.000,2,    0.002,2, -999.000,9,-999.0000,9,  -999.00,9,   -159.6,2,    -0.19,2,   -999.0,9,   -999.0,9,     3.8,-999.0000,-999.000,  -999.0,-999.000
   31WTTUNES_1,  P17C,    76,  2,     18,     18,2,19910627,0652,  4.9917,-134.9717, 4586,    860.2,   5.1097,  34.5489,2,  34.5507,2,     55.8,2,  5.0382,     55.4,2,    80.44,2,    41.04,2,     0.00,2,     2.92,2,    0.003,2,    0.000,2, -999.000,9,-999.0000,9,  -999.00,9,   -999.0,9,  -999.00,9,   -999.0,9,   -999.0,9,  -999.0,-999.0000,-999.000,  -999.0,-999.000
   31WTTUNES_1,  P17C,    76,  2,     19,     19,2,19910627,0652,  4.9917,-134.9717, 4586,   1015.1,   4.5880,  34.5611,2,  34.5625,2,     53.4,2,  4.5064,     51.9,2,    92.42,2,    42.01,2,     0.00,2,     3.00,2,   -0.001,2,    0.002,2, -999.000,9,-999.0000,9,  -999.00,9,   -999.0,9,  -999.00,9,   -999.0,9,   -999.0,9,  -999.0,-999.0000,-999.000,  -999.0,-999.000
   31WTTUNES_1,  P17C,    76,  2,     20,     20,2,19910627,0652,  4.9917,-134.9717, 4586,   1215.6,   3.8515,  34.5774,2,  34.5739,2,     63.5,2,  3.7588,     65.4,2,   107.08,2,    40.95,2,     0.00,2,     2.93,2, -999.000,9, -999.000,9, -999.000,9,-999.0000,9,  -999.00,9,   -999.0,9,  -999.00,9,   -999.0,9,   -999.0,9,  -999.0,-999.0000,-999.000,  -999.0,-999.000
   31WTTUNES_1,  P17C,    76,  2,     21,     21,2,19910627,0652,  4.9917,-134.9717, 4586,   1414.2,   3.2918,  34.5948,2,  34.5961,2,     71.9,2,  3.1879,     73.0,2,   120.49,2,    40.82,2,     0.00,2,     2.91,2, -999.000,9, -999.000,9, -999.000,9,-999.0000,9,  -999.00,9,   -999.0,9,  -999.00,9,   -999.0,9,   -999.0,9,  -999.0,-999.0000,-999.000,  -999.0,-999.000
   31WTTUNES_1,  P17C,    76,  2,     22,     22,3,19910627,0652,  4.9917,-134.9717, 4586,   1620.0,   2.7941,  34.6138,2,  34.5917,4,     80.9,2,  2.6786,     83.0,2,   131.58,2,    39.88,2,     0.00,2,     2.84,2, -999.000,9, -999.000,9, -999.000,9,-999.0000,9,  -999.00,9,   -999.0,9,  -999.00,9,   -999.0,9,   -999.0,9,  -999.0,-999.0000,-999.000,  -999.0,-999.000
   31WTTUNES_1,  P17C,    76,  2,     23,     23,2,19910627,0652,  4.9917,-134.9717, 4586,   1822.1,   2.4903,  34.6286,2,  34.6293,2,     91.5,2,  2.3618,     92.1,2,   138.19,2,    39.27,2,     0.00,2,     2.78,2, -999.000,9, -999.000,9, -999.000,9,-999.0000,9,  -999.00,9,   -999.0,9,  -999.00,9,   -999.0,9,   -999.0,9,  -999.0,-999.0000,-999.000,  -999.0,-999.000
   31WTTUNES_1,  P17C,    76,  2,     24,     24,2,19910627,0652,  4.9917,-134.9717, 4586,   2022.0,   2.2395,  34.6399,2,  34.6426,2,     99.2,2,  2.0975,     98.6,2,   144.26,2,    39.15,2,     0.00,2,     2.74,2, -999.000,9, -999.000,9, -999.000,9,-999.0000,9,  -999.00,9,   -999.0,9,  -999.00,9,   -999.0,9,   -999.0,9,  -999.0,-999.0000,-999.000,  -999.0,-999.000
   31WTTUNES_1,  P17C,    76,  2,     25,     25,3,19910627,0652,  4.9917,-134.9717, 4586,   2224.6,   2.0296,  34.6535,2,  34.6538,2,    106.1,2,  1.8734,    107.4,3,   149.80,2,    38.65,2,     0.00,2,     2.70,2, -999.000,9, -999.000,9, -999.000,9,-999.0000,9,  -999.00,9,   -999.0,9,  -999.00,9,   -999.0,9,   -999.0,9,  -999.0,-999.0000,-999.000,  -999.0,-999.000
   31WTTUNES_1,  P17C,    76,  2,     26,     26,2,19910627,0652,  4.9917,-134.9717, 4586,   2427.0,   1.8987,  34.6614,2,  34.6621,2,    111.7,2,  1.7269,    111.6,2,   151.76,2,    38.09,2,     0.00,2,     2.66,2, -999.000,9, -999.000,9, -999.000,9,-999.0000,9,  -999.00,9,   -999.0,9,  -999.00,9,   -999.0,9,   -999.0,9,  -999.0,-999.0000,-999.000,  -999.0,-999.000
   31WTTUNES_1,  P17C,    76,  2,     27,     27,2,19910627,0652,  4.9917,-134.9717, 4586,   2628.7,   1.8428,  34.6647,2,  34.6666,2,    115.5,2,  1.6536,    115.7,2,   153.54,2,    37.92,2,     0.00,2,     2.64,2, -999.000,9, -999.000,9, -999.000,9,-999.0000,9,  -999.00,9,   -999.0,9,  -999.00,9,   -999.0,9,   -999.0,9,  -999.0,-999.0000,-999.000,  -999.0,-999.000
   31WTTUNES_1,  P17C,    76,  2,     28,     28,2,19910627,0652,  4.9917,-134.9717, 4586,   2834.4,   1.7878,  34.6689,2,  34.6706,2,    118.9,2,  1.5806,    118.6,2,   154.25,2,    37.63,2,     0.00,2,     2.61,2, -999.000,9, -999.000,9, -999.000,9,-999.0000,9,  -999.00,9,   -999.0,9,  -999.00,9,   -999.0,9,   -999.0,9,  -999.0,-999.0000,-999.000,  -999.0,-999.000
   31WTTUNES_1,  P17C,    76,  2,     29,     29,2,19910627,0652,  4.9917,-134.9717, 4586,   3035.6,   1.6909,  34.6734,2,  34.6745,2,    126.5,2,  1.4664,    125.4,2,   154.77,2,    37.19,2,     0.00,2,     2.58,2, -999.000,9, -999.000,9, -999.000,9,-999.0000,9,  -999.00,9,   -999.0,9,  -999.00,9,   -999.0,9,   -999.0,9,  -999.0,-999.0000,-999.000,  -999.0,-999.000
   31WTTUNES_1,  P17C,    76,  2,     30,     30,2,19910627,0652,  4.9917,-134.9717, 4586,   3240.8,   1.5939,  34.6786,2,  34.6794,2,    134.5,2,  1.3516,    135.0,2,   152.97,2,    36.65,2,     0.00,2,     2.52,2, -999.000,9, -999.000,9, -999.000,9,-999.0000,9,  -999.00,9,   -999.0,9,  -999.00,9,   -999.0,9,   -999.0,9,  -999.0,-999.0000,-999.000,  -999.0,-999.000
   31WTTUNES_1,  P17C,    76,  2,     31,     31,2,19910627,0652,  4.9917,-134.9717, 4586,   3446.5,   1.5200,  34.6826,2,  34.6851,2,    143.2,2,  1.2588,    142.6,2,   151.53,2,    36.26,2,     0.00,2,     2.49,2, -999.000,9, -999.000,9, -999.000,9,-999.0000,9,  -999.00,9,   -999.0,9,  -999.00,9,   -999.0,9,   -999.0,9,  -999.0,-999.0000,-999.000,  -999.0,-999.000
   31WTTUNES_1,  P17C,    76,  2,     32,     32,2,19910627,0652,  4.9917,-134.9717, 4586,   3648.9,   1.4680,  34.6869,2,  34.6873,2,    149.9,2,  1.1873,    150.1,2,   149.55,2,    35.82,2,     0.00,2,     2.45,2, -999.000,9, -999.000,9, -999.000,9,-999.0000,9,  -999.00,9,   -999.0,9,  -999.00,9,   -999.0,9,   -999.0,9,  -999.0,-999.0000,-999.000,  -999.0,-999.000
   31WTTUNES_1,  P17C,    76,  2,     33,     33,2,19910627,0652,  4.9917,-134.9717, 4586,   3906.6,   1.4340,  34.6891,2,  34.6896,2,    156.6,2,  1.1271,    156.5,2,   146.85,2,    35.33,2,     0.00,2,     2.42,2, -999.000,9, -999.000,9, -999.000,9,-999.0000,9,  -999.00,9,   -999.0,9,  -999.00,9,   -999.0,9,   -999.0,9,  -999.0,-999.0000,-999.000,  -999.0,-999.000
   31WTTUNES_1,  P17C,    76,  2,     34,     34,2,19910627,0652,  4.9917,-134.9717, 4586,   4157.9,   1.4061,  34.6911,2,  34.6912,2,    161.6,2,  1.0725,    161.0,2,   144.69,2,    34.90,2,     0.00,2,     2.40,2, -999.000,9, -999.000,9, -999.000,9,-999.0000,9,  -999.00,9,   -999.0,9,  -999.00,9,   -999.0,9,   -999.0,9,  -999.0,-999.0000,-999.000,  -999.0,-999.000
   31WTTUNES_1,  P17C,    76,  2,     35,     35,2,19910627,0652,  4.9917,-134.9717, 4586,   4421.0,   1.4041,  34.6935,2,  34.6926,2,    165.2,2,  1.0411,    164.7,2,   143.43,2,    34.78,2,     0.00,2,     2.38,2,    0.000,2,    0.002,2, -999.000,9,-999.0000,9,  -999.00,9,   -999.0,9,  -999.00,9,   -999.0,9,   -999.0,9,  -999.0,-999.0000,-999.000,  -999.0,-999.000
   31WTTUNES_1,  P17C,    76,  2,     36,     36,2,19910627,0652,  4.9917,-134.9717, 4586,   4650.5,   1.4271,  34.6938,2,  34.6930,2,   -999.0,9,  1.0369,    164.9,2,   142.70,2,    34.76,2,     0.00,2,     2.38,2,    0.000,2,    0.003,2, -999.000,9,-999.0000,9,  -999.00,9,   -999.0,9,  -999.00,9,   -999.0,9,   -999.0,9,  -999.0,-999.0000,-999.000,  -999.0,-999.000