BOTTLE,20220819CCHSIOAMB
EXPOCODE,SECT_ID,STNNBR,CASTNO,SAMPNO,BTLNBR,BTLNBR_FLAG_W,DATE,TIME,LATITUDE,LONGITUDE,DEPTH,CTDPRS,CTDTMP,CTDSAL,CTDSAL_FLAG_W,SALNTY,SALNTY_FLAG_W,CTDOXY,CTDOXY_FLAG_W,THETA,OXYGEN,OXYGEN_FLAG_W,SILCAT,SILCAT_FLAG_W,NITRAT,NITRAT_FLAG_W,NITRIT,NITRIT_FLAG_W,PHSPHT,PHSPHT_FLAG_W,CFC-11,CFC-11_FLAG_W,CFC-12,CFC-12_FLAG_W,TRITUM,TRITUM_FLAG_W,HELIUM,HELIUM_FLAG_W,DELHE3,DELHE3_FLAG_W,DELC14,DELC14_FLAG_W,DELC13,DELC13_FLAG_W,TCARBN,TCARBN_FLAG_W,ALKALI,ALKALI_FLAG_W,C14ERR,HELIER,DELHER,C13ERR,TRITER
,,,,,,,,,,,,DBAR,ITS-90,PSS-78,,PSS-78,,UMOL/KG,,DEG C,UMOL/KG,,UMOL/KG,,UMOL/KG,,UMOL/KG,,UMOL/KG,,PMOL/KG,,PMOL/KG,,TU,,NMOL/KG,,PERCNT,,/MILLE,,/MILLE,,UMOL/KG,,UMOL/KG,,/MILLE,NMOL/KG,PERCNT,/MILLE,TU
   31WTTUNES_1,  P17C,    55,  1,      1,      1,2,19910620,1549, 15.4983,-134.9983, 4888,      0.7,  24.7933,  34.5098,2,  34.5140,2,    215.9,3, 24.7931,    214.8,2,     2.93,2,     0.10,2,     0.01,2,     0.18,2, -999.000,9, -999.000,9, -999.000,9,-999.0000,9,  -999.00,9,   -999.0,9,  -999.00,9,   -999.0,9,   -999.0,9,  -999.0,-999.0000,-999.000,  -999.0,-999.000
   31WTTUNES_1,  P17C,    55,  1,      2,      2,2,19910620,1549, 15.4983,-134.9983, 4888,     41.4,  24.5942,  34.4641,2,  34.4885,2,    214.7,2, 24.5854,    214.8,2,     2.35,2,     0.10,2,     0.01,2,     0.18,2, -999.000,9, -999.000,9, -999.000,9,-999.0000,9,  -999.00,9,   -999.0,9,  -999.00,9,   -999.0,9,   -999.0,9,  -999.0,-999.0000,-999.000,  -999.0,-999.000
   31WTTUNES_1,  P17C,    55,  1,      3,      3,2,19910620,1549, 15.4983,-134.9983, 4888,     92.5,  24.2231,  34.4629,2,  34.4724,2,    217.5,2, 24.2036,    214.4,2,     2.35,2,     0.10,2,     0.01,2,     0.19,2, -999.000,9, -999.000,9, -999.000,9,-999.0000,9,  -999.00,9,   -999.0,9,  -999.00,9,   -999.0,9,   -999.0,9,  -999.0,-999.0000,-999.000,  -999.0,-999.000
   31WTTUNES_1,  P17C,    55,  1,      4,      4,2,19910620,1549, 15.4983,-134.9983, 4888,    121.6,  21.0318,  34.5531,2,  34.5060,2,    219.6,2, 21.0085,    199.5,2,     3.62,2,     1.37,2,     0.19,2,     0.42,2, -999.000,9, -999.000,9, -999.000,9,-999.0000,9,  -999.00,9,   -999.0,9,  -999.00,9,   -999.0,9,   -999.0,9,  -999.0,-999.0000,-999.000,  -999.0,-999.000
   31WTTUNES_1,  P17C,    55,  1,      5,      5,2,19910620,1549, 15.4983,-134.9983, 4888,    151.8,  16.3669,  34.4060,2,  34.4133,2,    151.1,2, 16.3426,    124.6,2,    10.56,2,    12.90,2,     0.26,2,     1.15,2, -999.000,9, -999.000,9, -999.000,9,-999.0000,9,  -999.00,9,   -999.0,9,  -999.00,9,   -999.0,9,   -999.0,9,  -999.0,-999.0000,-999.000,  -999.0,-999.000
   31WTTUNES_1,  P17C,    55,  1,      6,      6,2,19910620,1549, 15.4983,-134.9983, 4888,    178.2,  12.4917,  34.2547,2,  34.2518,2,    104.9,2, 12.4680,    105.1,2,    20.24,2,    20.53,2,     0.01,2,     1.63,2, -999.000,9, -999.000,9, -999.000,9,-999.0000,9,  -999.00,9,   -999.0,9,  -999.00,9,   -999.0,9,   -999.0,9,  -999.0,-999.0000,-999.000,  -999.0,-999.000
   31WTTUNES_1,  P17C,    55,  1,      7,      7,2,19910620,1549, 15.4983,-134.9983, 4888,    198.3,  11.4820,  34.3244,2,  34.3296,2,     75.5,2, 11.4570,     77.7,2,    27.37,2,    24.74,2,     0.01,2,     1.99,2, -999.000,9, -999.000,9, -999.000,9,-999.0000,9,  -999.00,9,   -999.0,9,  -999.00,9,   -999.0,9,   -999.0,9,  -999.0,-999.0000,-999.000,  -999.0,-999.000
   31WTTUNES_1,  P17C,    55,  1,      8,      8,3,19910620,1549, 15.4983,-134.9983, 4888,    228.6,  11.1521,  34.4979,2,  34.4957,2,     39.7,2, 11.1238,     39.4,2,    32.36,2,    28.06,2,     0.01,2,     2.34,2, -999.000,9, -999.000,9, -999.000,9,-999.0000,9,  -999.00,9,   -999.0,9,  -999.00,9,   -999.0,9,   -999.0,9,  -999.0,-999.0000,-999.000,  -999.0,-999.000
   31WTTUNES_1,  P17C,    55,  1,      9,      9,2,19910620,1549, 15.4983,-134.9983, 4888,    255.1,  10.5053,  34.5319,2,  34.5310,2,     26.9,2, 10.4748,     28.7,2,    36.07,2,    29.42,2,     0.01,2,     2.48,2, -999.000,9, -999.000,9, -999.000,9,-999.0000,9,  -999.00,9,   -999.0,9,  -999.00,9,   -999.0,9,   -999.0,9,  -999.0,-999.0000,-999.000,  -999.0,-999.000
   31WTTUNES_1,  P17C,    55,  1,     10,     10,2,19910620,1549, 15.4983,-134.9983, 4888,    277.2,  10.0425,  34.5279,2,  34.5322,2,     19.5,2, 10.0103,     18.8,2,    38.51,2,    30.21,2,     0.01,2,     2.57,2, -999.000,9, -999.000,9, -999.000,9,-999.0000,9,  -999.00,9,   -999.0,9,  -999.00,9,   -999.0,9,   -999.0,9,  -999.0,-999.0000,-999.000,  -999.0,-999.000
   31WTTUNES_1,  P17C,    55,  1,     11,     11,2,19910620,1549, 15.4983,-134.9983, 4888,    328.9,   9.0808,  34.4821,2,  34.4867,2,     15.1,2,  9.0449,     17.2,2,    44.48,2,    31.87,2,     0.01,2,     2.66,2, -999.000,9, -999.000,9, -999.000,9,-999.0000,9,  -999.00,9,   -999.0,9,  -999.00,9,   -999.0,9,   -999.0,9,  -999.0,-999.0000,-999.000,  -999.0,-999.000
   31WTTUNES_1,  P17C,    55,  1,     12,     12,2,19910620,1549, 15.4983,-134.9983, 4888,    379.3,   8.4981,  34.4964,2,  34.4983,2,     12.5,2,  8.4581,     11.7,2,    49.07,2,    34.41,2,     0.01,2,     2.77,2, -999.000,9, -999.000,9, -999.000,9,-999.0000,9,  -999.00,9,   -999.0,9,  -999.00,9,   -999.0,9,   -999.0,9,  -999.0,-999.0000,-999.000,  -999.0,-999.000
   31WTTUNES_1,  P17C,    55,  1,     13,     13,2,19910620,1549, 15.4983,-134.9983, 4888,    453.2,   7.7014,  34.4714,2,  34.4738,2,     11.5,2,  7.6562,     11.0,2,    56.50,2,    36.46,2,     0.01,2,     2.86,2, -999.000,9, -999.000,9, -999.000,9,-999.0000,9,  -999.00,9,   -999.0,9,  -999.00,9,   -999.0,9,   -999.0,9,  -999.0,-999.0000,-999.000,  -999.0,-999.000
   31WTTUNES_1,  P17C,    55,  1,     14,     14,2,19910620,1549, 15.4983,-134.9983, 4888,    528.7,   6.9038,  34.4577,2,  34.4593,2,     11.4,2,  6.8539,     11.7,2,    66.57,2,    38.52,2,     0.01,2,     2.97,2, -999.000,9, -999.000,9, -999.000,9,-999.0000,9,  -999.00,9,   -999.0,9,  -999.00,9,   -999.0,9,   -999.0,9,  -999.0,-999.0000,-999.000,  -999.0,-999.000
   31WTTUNES_1,  P17C,    55,  1,     15,     15,2,19910620,1549, 15.4983,-134.9983, 4888,    605.1,   6.1372,  34.4652,2,  34.4675,2,     14.5,2,  6.0833,     14.1,2,    76.45,2,    40.47,2,     0.01,2,     3.04,2, -999.000,9, -999.000,9, -999.000,9,-999.0000,9,  -999.00,9,   -999.0,9,  -999.00,9,   -999.0,9,   -999.0,9,  -999.0,-999.0000,-999.000,  -999.0,-999.000
   31WTTUNES_1,  P17C,    55,  1,     16,     16,2,19910620,1549, 15.4983,-134.9983, 4888,    708.1,   5.4386,  34.4772,2,  34.4797,2,     20.5,2,  5.3787,     20.5,2,    85.83,2,    41.94,2,     0.01,2,     3.07,2, -999.000,9, -999.000,9, -999.000,9,-999.0000,9,  -999.00,9,   -999.0,9,  -999.00,9,   -999.0,9,   -999.0,9,  -999.0,-999.0000,-999.000,  -999.0,-999.000
   31WTTUNES_1,  P17C,    55,  1,     17,     17,2,19910620,1549, 15.4983,-134.9983, 4888,    804.7,   5.0248,  34.5041,2,  34.5068,2,     21.4,2,  4.9587,     17.8,2,    93.26,2,    43.40,2,     0.01,2,     3.16,2, -999.000,9, -999.000,9, -999.000,9,-999.0000,9,  -999.00,9,   -999.0,9,  -999.00,9,   -999.0,9,   -999.0,9,  -999.0,-999.0000,-999.000,  -999.0,-999.000
   31WTTUNES_1,  P17C,    55,  1,     18,     18,2,19910620,1549, 15.4983,-134.9983, 4888,    903.0,   4.6650,  34.5153,2,  34.5187,2,     23.1,2,  4.5927,     23.3,2,   100.10,2,    43.50,2,     0.01,2,     3.16,2, -999.000,9, -999.000,9, -999.000,9,-999.0000,9,  -999.00,9,   -999.0,9,  -999.00,9,   -999.0,9,   -999.0,9,  -999.0,-999.0000,-999.000,  -999.0,-999.000
   31WTTUNES_1,  P17C,    55,  1,     19,     19,2,19910620,1549, 15.4983,-134.9983, 4888,   1108.0,   3.9684,  34.5444,2,  34.5444,2,     36.8,2,  3.8839,     37.4,2,   113.10,2,    43.30,2,     0.01,2,     3.12,2, -999.000,9, -999.000,9, -999.000,9,-999.0000,9,  -999.00,9,   -999.0,9,  -999.00,9,   -999.0,9,   -999.0,9,  -999.0,-999.0000,-999.000,  -999.0,-999.000
   31WTTUNES_1,  P17C,    55,  1,     20,     20,2,19910620,1549, 15.4983,-134.9983, 4888,   1313.8,   3.4557,  34.5669,2,  34.5666,2,     51.0,2,  3.3586,     49.6,2,   123.56,2,    42.72,2,     0.01,2,     3.04,2, -999.000,9, -999.000,9, -999.000,9,-999.0000,9,  -999.00,9,   -999.0,9,  -999.00,9,   -999.0,9,   -999.0,9,  -999.0,-999.0000,-999.000,  -999.0,-999.000
   31WTTUNES_1,  P17C,    55,  1,     21,     21,2,19910620,1549, 15.4983,-134.9983, 4888,   1518.7,   2.9320,  34.5907,2,  34.5894,2,     63.6,2,  2.8234,     62.3,2,   135.68,2,    41.84,2,     0.01,2,     2.97,2, -999.000,9, -999.000,9, -999.000,9,-999.0000,9,  -999.00,9,   -999.0,9,  -999.00,9,   -999.0,9,   -999.0,9,  -999.0,-999.0000,-999.000,  -999.0,-999.000
   31WTTUNES_1,  P17C,    55,  1,     22,     22,2,19910620,1549, 15.4983,-134.9983, 4888,   1719.7,   2.5223,  34.6088,2,  34.6087,2,     76.2,2,  2.4020,     75.3,2,   144.57,2,    40.86,2,     0.01,2,     2.89,2, -999.000,9, -999.000,9, -999.000,9,-999.0000,9,  -999.00,9,   -999.0,9,  -999.00,9,   -999.0,9,   -999.0,9,  -999.0,-999.0000,-999.000,  -999.0,-999.000
   31WTTUNES_1,  P17C,    55,  1,     23,     23,2,19910620,1549, 15.4983,-134.9983, 4888,   1925.0,   2.2255,  34.6278,2,  34.6280,2,     86.8,2,  2.0920,     86.2,2,   150.33,2,    40.27,2,     0.01,2,     2.82,2, -999.000,9, -999.000,9, -999.000,9,-999.0000,9,  -999.00,9,   -999.0,9,  -999.00,9,   -999.0,9,   -999.0,9,  -999.0,-999.0000,-999.000,  -999.0,-999.000
   31WTTUNES_1,  P17C,    55,  1,     24,     24,2,19910620,1549, 15.4983,-134.9983, 4888,   2124.8,   2.0107,  34.6413,2,  34.6422,2,     97.7,2,  1.8634,     98.1,2,   153.85,2,    39.39,2,     0.01,2,     2.76,2, -999.000,9, -999.000,9, -999.000,9,-999.0000,9,  -999.00,9,   -999.0,9,  -999.00,9,   -999.0,9,   -999.0,9,  -999.0,-999.0000,-999.000,  -999.0,-999.000
   31WTTUNES_1,  P17C,    55,  1,     25,     25,2,19910620,1549, 15.4983,-134.9983, 4888,   2331.3,   1.8797,  34.6502,2,  34.6516,2,    105.0,2,  1.7168,    105.3,2,   155.90,2,    39.10,2,     0.01,2,     2.71,2, -999.000,9, -999.000,9, -999.000,9,-999.0000,9,  -999.00,9,   -999.0,9,  -999.00,9,   -999.0,9,   -999.0,9,  -999.0,-999.0000,-999.000,  -999.0,-999.000
   31WTTUNES_1,  P17C,    55,  1,     26,     26,2,19910620,1549, 15.4983,-134.9983, 4888,   2527.0,   1.7908,  34.6588,2,  34.6583,2,    110.8,2,  1.6120,    117.4,3,   157.66,2,    38.61,2,     0.01,2,     2.67,2, -999.000,9, -999.000,9, -999.000,9,-999.0000,9,  -999.00,9,   -999.0,9,  -999.00,9,   -999.0,9,   -999.0,9,  -999.0,-999.0000,-999.000,  -999.0,-999.000
   31WTTUNES_1,  P17C,    55,  1,     27,     27,2,19910620,1549, 15.4983,-134.9983, 4888,   2735.2,   1.7129,  34.6635,2,  34.6638,2,    116.2,2,  1.5165,    116.3,2,   159.71,2,    38.32,2,     0.01,2,     2.64,2, -999.000,9, -999.000,9, -999.000,9,-999.0000,9,  -999.00,9,   -999.0,9,  -999.00,9,   -999.0,9,   -999.0,9,  -999.0,-999.0000,-999.000,  -999.0,-999.000
   31WTTUNES_1,  P17C,    55,  1,     28,     28,2,19910620,1549, 15.4983,-134.9983, 4888,   2942.8,   1.6469,  34.6694,2,  34.6686,2,    122.1,2,  1.4324,    121.9,2,   161.37,2,    37.92,2,     0.01,2,     2.61,2, -999.000,9, -999.000,9, -999.000,9,-999.0000,9,  -999.00,9,   -999.0,9,  -999.00,9,   -999.0,9,   -999.0,9,  -999.0,-999.0000,-999.000,  -999.0,-999.000
   31WTTUNES_1,  P17C,    55,  1,     29,     29,2,19910620,1549, 15.4983,-134.9983, 4888,   3148.2,   1.5839,  34.6720,2,  34.6729,2,    128.0,2,  1.3510,    127.2,2,   163.03,2,    37.63,2,     0.01,2,     2.59,2, -999.000,9, -999.000,9, -999.000,9,-999.0000,9,  -999.00,9,   -999.0,9,  -999.00,9,   -999.0,9,   -999.0,9,  -999.0,-999.0000,-999.000,  -999.0,-999.000
   31WTTUNES_1,  P17C,    55,  1,     30,     30,2,19910620,1549, 15.4983,-134.9983, 4888,   3405.4,   1.5270,  34.6761,2,  34.6773,2,    135.1,2,  1.2698,    134.0,2,   161.67,2,    37.04,2,     0.00,2,     2.54,2, -999.000,9, -999.000,9, -999.000,9,-999.0000,9,  -999.00,9,   -999.0,9,  -999.00,9,   -999.0,9,   -999.0,9,  -999.0,-999.0000,-999.000,  -999.0,-999.000
   31WTTUNES_1,  P17C,    55,  1,     31,     31,2,19910620,1549, 15.4983,-134.9983, 4888,   3651.0,   1.4910,  34.6800,2,  34.6812,2,    139.6,2,  1.2095,    140.5,2,   159.61,2,    36.65,2,     0.00,2,     2.51,2, -999.000,9, -999.000,9, -999.000,9,-999.0000,9,  -999.00,9,   -999.0,9,  -999.00,9,   -999.0,9,   -999.0,9,  -999.0,-999.0000,-999.000,  -999.0,-999.000
   31WTTUNES_1,  P17C,    55,  1,     32,     32,2,19910620,1549, 15.4983,-134.9983, 4888,   3906.5,   1.4500,  34.6857,2,  34.6860,2,    150.8,2,  1.1426,    150.0,2,   154.04,2,    35.87,2,     0.00,2,     2.46,2, -999.000,9, -999.000,9, -999.000,9,-999.0000,9,  -999.00,9,   -999.0,9,  -999.00,9,   -999.0,9,   -999.0,9,  -999.0,-999.0000,-999.000,  -999.0,-999.000
   31WTTUNES_1,  P17C,    55,  1,     33,     33,2,19910620,1549, 15.4983,-134.9983, 4888,   4166.4,   1.4151,  34.6890,2,  34.6895,2,    161.0,2,  1.0803,    159.4,2,   147.88,2,    35.38,2,     0.00,2,     2.40,2, -999.000,9, -999.000,9, -999.000,9,-999.0000,9,  -999.00,9,   -999.0,9,  -999.00,9,   -999.0,9,   -999.0,9,  -999.0,-999.0000,-999.000,  -999.0,-999.000
   31WTTUNES_1,  P17C,    55,  1,     34,     34,2,19910620,1549, 15.4983,-134.9983, 4888,   4420.9,   1.4181,  34.6922,2,  34.6931,2,    164.2,2,  1.0546,    163.6,2,   144.66,2,    35.09,2,     0.01,2,     2.39,2, -999.000,9, -999.000,9, -999.000,9,-999.0000,9,  -999.00,9,   -999.0,9,  -999.00,9,   -999.0,9,   -999.0,9,  -999.0,-999.0000,-999.000,  -999.0,-999.000
   31WTTUNES_1,  P17C,    55,  1,     35,     35,2,19910620,1549, 15.4983,-134.9983, 4888,   4681.2,   1.4370,  34.6929,2,  34.6927,2,    166.9,2,  1.0429,    165.7,2,   144.46,2,    34.99,2,     0.01,2,     2.38,2, -999.000,9, -999.000,9, -999.000,9,-999.0000,9,  -999.00,9,   -999.0,9,  -999.00,9,   -999.0,9,   -999.0,9,  -999.0,-999.0000,-999.000,  -999.0,-999.000
   31WTTUNES_1,  P17C,    55,  1,     36,     36,2,19910620,1549, 15.4983,-134.9983, 4888,   4930.0,   1.4640,  34.6919,2,  34.6923,2,   -999.0,9,  1.0395,    165.6,2,   144.27,2,    34.99,2,     0.01,2,     2.38,2, -999.000,9, -999.000,9, -999.000,9,-999.0000,9,  -999.00,9,   -999.0,9,  -999.00,9,   -999.0,9,   -999.0,9,  -999.0,-999.0000,-999.000,  -999.0,-999.000