BOTTLE,20220819CCHSIOAMB
EXPOCODE,SECT_ID,STNNBR,CASTNO,SAMPNO,BTLNBR,BTLNBR_FLAG_W,DATE,TIME,LATITUDE,LONGITUDE,DEPTH,CTDPRS,CTDTMP,CTDSAL,CTDSAL_FLAG_W,SALNTY,SALNTY_FLAG_W,CTDOXY,CTDOXY_FLAG_W,THETA,OXYGEN,OXYGEN_FLAG_W,SILCAT,SILCAT_FLAG_W,NITRAT,NITRAT_FLAG_W,NITRIT,NITRIT_FLAG_W,PHSPHT,PHSPHT_FLAG_W,CFC-11,CFC-11_FLAG_W,CFC-12,CFC-12_FLAG_W,TRITUM,TRITUM_FLAG_W,HELIUM,HELIUM_FLAG_W,DELHE3,DELHE3_FLAG_W,DELC14,DELC14_FLAG_W,DELC13,DELC13_FLAG_W,TCARBN,TCARBN_FLAG_W,ALKALI,ALKALI_FLAG_W,C14ERR,HELIER,DELHER,C13ERR,TRITER
,,,,,,,,,,,,DBAR,ITS-90,PSS-78,,PSS-78,,UMOL/KG,,DEG C,UMOL/KG,,UMOL/KG,,UMOL/KG,,UMOL/KG,,UMOL/KG,,PMOL/KG,,PMOL/KG,,TU,,NMOL/KG,,PERCNT,,/MILLE,,/MILLE,,UMOL/KG,,UMOL/KG,,/MILLE,NMOL/KG,PERCNT,/MILLE,TU
   31WTTUNES_1,  P17C,    48,  1,      1,      1,2,19910618,1759, 18.9983,-135.0000, 5199,     18.4,  22.7409,  34.6456,2,  34.6496,2,    217.6,3, 22.7372,    220.1,2,     2.47,2,     0.26,2,     0.00,2,     0.16,2,    2.084,2,    1.152,2,    1.877,2,   1.7960,2,    -1.15,2,   -999.0,9,  -999.00,9,   -999.0,9,   -999.0,9,  -999.0,  0.0080,   0.150,  -999.0,   0.015
   31WTTUNES_1,  P17C,    48,  1,      2,      2,2,19910618,1759, 18.9983,-135.0000, 5199,     57.0,  22.1338,  34.7445,2,  34.7467,2,    226.9,2, 22.1226,    223.7,2,     2.27,2,     0.25,2,     0.00,2,     0.15,2,    2.122,2,    1.170,2,    1.899,2,   1.7770,2,    -1.14,2,   -999.0,9,  -999.00,9,   -999.0,9,   -999.0,9,  -999.0,  0.0080,   0.150,  -999.0,   0.015
   31WTTUNES_1,  P17C,    48,  1,      3,      3,2,19910618,1759, 18.9983,-135.0000, 5199,    101.9,  21.1838,  34.8410,2,  34.8509,2,    228.9,2, 21.1642,    222.9,2,     2.26,2,     0.24,2,     0.00,2,     0.16,2,    2.219,2,    1.245,2,    2.223,2,   1.7840,2,    -0.88,2,   -999.0,9,  -999.00,9,   -999.0,9,   -999.0,9,  -999.0,  0.0080,   0.150,  -999.0,   0.016
   31WTTUNES_1,  P17C,    48,  1,      4,      4,2,19910618,1759, 18.9983,-135.0000, 5199,    132.6,  20.1117,  34.8469,2,  34.8540,2,    227.8,2, 20.0872,    224.8,2,     2.61,2,     0.22,2,     0.02,2,     0.17,2,    2.309,2,    1.298,2,    2.262,2,   1.7920,2,    -0.75,2,   -999.0,9,  -999.00,9,   -999.0,9,   -999.0,9,  -999.0,  0.0080,   0.150,  -999.0,   0.016
   31WTTUNES_1,  P17C,    48,  1,      5,      5,2,19910618,1759, 18.9983,-135.0000, 5199,    172.4,  18.1058,  34.7480,2,  34.7186,2,    208.8,2, 18.0761,    198.0,2,     4.06,2,     2.96,2,     0.03,2,     0.36,2,    2.352,2,    1.319,2,    2.377,2,   1.8040,2,     0.77,2,   -999.0,9,  -999.00,9,   -999.0,9,   -999.0,9,  -999.0,  0.0080,   0.150,  -999.0,   0.017
   31WTTUNES_1,  P17C,    48,  1,      6,      6,2,19910618,1759, 18.9983,-135.0000, 5199,    201.2,  15.0321,  34.4070,2,  34.3596,2,    188.8,2, 15.0017,    178.8,2,     8.25,2,     8.25,2,     0.02,2,     0.73,2,    2.296,2,    1.212,2, -999.000,5,   1.8080,2,     3.53,2,   -999.0,9,  -999.00,9,   -999.0,9,   -999.0,9,  -999.0,  0.0080,   0.150,  -999.0,-999.000
   31WTTUNES_1,  P17C,    48,  1,      7,      7,3,19910618,1759, 18.9983,-135.0000, 5199,    234.1,  12.2917,  34.1672,2,  34.1640,2,    185.1,2, 12.2609,    183.9,4,    12.25,2,    12.06,2,     0.01,2,     0.94,2,    2.292,2,    1.187,2,    2.373,2,   0.0000,2,  -999.00,9,   -999.0,9,  -999.00,9,   -999.0,9,   -999.0,9,  -999.0,-999.0000,   0.150,  -999.0,   0.016
   31WTTUNES_1,  P17C,    48,  1,      8,      8,2,19910618,1759, 18.9983,-135.0000, 5199,    272.3,  10.2264,  34.1382,2,  34.1391,2,    140.2,2, 10.1946,    137.5,2,    25.56,2,    21.15,2,     0.01,2,     1.66,2,    1.602,2,    0.807,2,    2.056,2,   1.8270,2,    10.96,2,   -999.0,9,  -999.00,9,   -999.0,9,   -999.0,9,  -999.0,  0.0090,   0.150,  -999.0,   0.015
   31WTTUNES_1,  P17C,    48,  1,      9,      9,2,19910618,1759, 18.9983,-135.0000, 5199,    353.7,   8.7150,  34.2658,2,  34.2700,2,     69.6,2,  8.6773,     71.4,2,    42.33,2,    29.31,2,     0.00,2,     2.31,2,    0.442,2,    0.230,2, -999.000,5,   1.8500,2,    14.69,2,   -999.0,9,  -999.00,9,   -999.0,9,   -999.0,9,  -999.0,  0.0090,   0.150,  -999.0,-999.000
   31WTTUNES_1,  P17C,    48,  1,     10,     10,2,19910618,1759, 18.9983,-135.0000, 5199,    430.4,   7.8304,  34.3496,2,  34.3542,2,     27.6,2,  7.7871,     28.3,2,    54.17,2,    34.19,2,     0.00,2,     2.74,2,    0.060,2,    0.043,2,    0.366,2,   1.8580,2,     9.57,2,   -999.0,9,  -999.00,9,   -999.0,9,   -999.0,9,  -999.0,  0.0090,   0.150,  -999.0,   0.007
   31WTTUNES_1,  P17C,    48,  1,     11,     11,2,19910618,1759, 18.9983,-135.0000, 5199,    506.2,   7.1097,  34.4088,2,  34.4109,2,     15.5,2,  7.0613,     14.3,2,    64.55,2,    37.00,2,     0.00,2,     2.95,2,    0.010,2,    0.009,2,    0.059,2,   1.8660,2,     8.48,2,   -999.0,9,  -999.00,9,   -999.0,9,   -999.0,9,  -999.0,  0.0090,   0.150,  -999.0,   0.003
   31WTTUNES_1,  P17C,    48,  1,     12,     12,2,19910618,1759, 18.9983,-135.0000, 5199,    608.2,   6.2221,  34.4402,2,  34.4440,2,     11.6,2,  6.1676,     11.5,2,    76.21,2,    40.01,2,     0.00,2,     3.09,2,    0.005,2,   -0.003,2,    0.010,2,   1.9120,2,    10.78,2,   -999.0,9,  -999.00,9,   -999.0,9,   -999.0,9,  -999.0,  0.0090,   0.150,  -999.0,   0.002
   31WTTUNES_1,  P17C,    48,  1,     13,     13,2,19910618,1759, 18.9983,-135.0000, 5199,    709.4,   5.5065,  34.4626,2,  34.4656,2,     14.1,2,  5.4462,     14.7,2,    86.77,2,    41.96,2,     0.00,2,     3.14,2,    0.003,2,    0.002,2, -999.000,5,   1.8990,2,    13.68,2,   -999.0,9,  -999.00,9,   -999.0,9,   -999.0,9,  -999.0,  0.0090,   0.150,  -999.0,-999.000
   31WTTUNES_1,  P17C,    48,  1,     14,     14,2,19910618,1759, 18.9983,-135.0000, 5199,    809.0,   4.9518,  34.4822,2,  34.4832,2,     17.0,2,  4.8859,     18.1,2,    96.23,2,    43.09,2,     0.00,2,     3.17,2,    0.000,2,   -0.002,2,   -0.002,2,   1.9160,2,    16.69,2,   -999.0,9,  -999.00,9,   -999.0,9,   -999.0,9,  -999.0,  0.0090,   0.150,  -999.0,   0.001
   31WTTUNES_1,  P17C,    48,  1,     15,     15,2,19910618,1759, 18.9983,-135.0000, 5199,    910.5,   4.4901,  34.4991,2,  34.5001,2,     23.5,2,  4.4184,     25.6,2,   104.60,2,    43.46,2,     0.00,2,     3.18,2,    0.002,2,    0.001,2, -999.000,9,-999.0000,9,  -999.00,9,   -999.0,9,  -999.00,9,   -999.0,9,   -999.0,9,  -999.0,-999.0000,-999.000,  -999.0,-999.000
   31WTTUNES_1,  P17C,    48,  1,     16,     16,2,19910618,1759, 18.9983,-135.0000, 5199,   1009.5,   4.1583,  34.5167,2,  34.5173,2,     28.4,2,  4.0806,     29.9,2,   111.33,2,    43.62,2,     0.00,2,     3.18,2,    0.000,2,   -0.003,2,    0.002,2,   1.8690,2,    22.85,2,   -999.0,9,  -999.00,9,   -999.0,9,   -999.0,9,  -999.0,-999.0000,   0.150,  -999.0,   0.002
   31WTTUNES_1,  P17C,    48,  1,     17,     17,2,19910618,1759, 18.9983,-135.0000, 5199,   1209.4,   3.5447,  34.5505,2,  34.5499,2,     39.6,2,  3.4554,     39.5,2,   124.07,2,    43.35,2,     0.00,2,     3.14,2,   -0.001,2,    0.004,2,   -0.002,2,   1.8860,2,    23.76,2,   -999.0,9,  -999.00,9,   -999.0,9,   -999.0,9,  -999.0,-999.0000,   0.150,  -999.0,   0.001
   31WTTUNES_1,  P17C,    48,  1,     18,     18,2,19910618,1759, 18.9983,-135.0000, 5199,   1415.3,   3.0510,  34.5742,2,  34.5758,2,     54.2,2,  2.9496,     53.4,2,   134.45,2,    42.65,2,     0.00,2,     3.06,2,    0.001,2,    0.004,2, -999.000,9,   1.9060,2,    23.81,2,   -999.0,9,  -999.00,9,   -999.0,9,   -999.0,9,  -999.0,-999.0000,-999.000,  -999.0,-999.000
   31WTTUNES_1,  P17C,    48,  1,     19,     19,2,19910618,1759, 18.9983,-135.0000, 5199,   1615.9,   2.6552,  34.5979,2,  34.5982,2,     69.5,2,  2.5418,     66.6,2,   142.08,2,    41.79,2,     0.01,2,     2.98,2, -999.000,9, -999.000,9, -999.000,9,-999.0000,9,  -999.00,9,   -999.0,9,  -999.00,9,   -999.0,9,   -999.0,9,  -999.0,-999.0000,-999.000,  -999.0,-999.000
   31WTTUNES_1,  P17C,    48,  1,     20,     20,2,19910618,1759, 18.9983,-135.0000, 5199,   1821.2,   2.3224,  34.6170,2,  34.6174,2,     81.8,2,  2.1963,     80.9,2,   148.62,2,    40.88,2,     0.00,2,     2.89,2, -999.000,9, -999.000,9, -999.000,9,-999.0000,9,  -999.00,9,   -999.0,9,  -999.00,9,   -999.0,9,   -999.0,9,  -999.0,-999.0000,-999.000,  -999.0,-999.000
   31WTTUNES_1,  P17C,    48,  1,     21,     21,2,19910618,1759, 18.9983,-135.0000, 5199,   2022.1,   2.0966,  34.6289,2,  34.6307,2,     92.2,2,  1.9568,     93.1,2,   152.98,2,    40.04,2,     0.00,2,     2.82,2, -999.000,9, -999.000,9, -999.000,9,-999.0000,9,  -999.00,9,   -999.0,9,  -999.00,9,   -999.0,9,   -999.0,9,  -999.0,-999.0000,-999.000,  -999.0,-999.000
   31WTTUNES_1,  P17C,    48,  1,     22,     22,3,19910618,1759, 18.9983,-135.0000, 5199,   2199.2,   1.9517,  34.6417,2,  34.6299,4,    100.2,2,  1.7990,     99.7,2,   155.69,2,    39.51,2,     0.01,2,     2.77,2, -999.000,9, -999.000,9, -999.000,9,-999.0000,9,  -999.00,9,   -999.0,9,  -999.00,9,   -999.0,9,   -999.0,9,  -999.0,-999.0000,-999.000,  -999.0,-999.000
   31WTTUNES_1,  P17C,    48,  1,     23,     23,2,19910618,1759, 18.9983,-135.0000, 5199,   2363.3,   1.8388,  34.6473,2,  34.6462,2,    105.6,2,  1.6737,    105.5,2,   157.86,2,    39.14,2,     0.01,2,     2.73,2, -999.000,9, -999.000,9, -999.000,9,-999.0000,9,  -999.00,9,   -999.0,9,  -999.00,9,   -999.0,9,   -999.0,9,  -999.0,-999.0000,-999.000,  -999.0,-999.000
   31WTTUNES_1,  P17C,    48,  1,     24,     24,2,19910618,1759, 18.9983,-135.0000, 5199,   2534.9,   1.7508,  34.6555,2,  34.6542,2,    111.8,2,  1.5720,    110.2,2,   159.84,2,    38.77,2,     0.01,2,     2.70,2, -999.000,9, -999.000,9, -999.000,9,-999.0000,9,  -999.00,9,   -999.0,9,  -999.00,9,   -999.0,9,   -999.0,9,  -999.0,-999.0000,-999.000,  -999.0,-999.000
   31WTTUNES_1,  P17C,    48,  1,     25,     25,2,19910618,1759, 18.9983,-135.0000, 5199,   2701.1,   1.6839,  34.6607,2,  34.6605,2,    116.9,2,  1.4912,    116.1,2,   161.28,2,    38.51,2,     0.01,2,     2.68,2, -999.000,9, -999.000,9, -999.000,9,-999.0000,9,  -999.00,9,   -999.0,9,  -999.00,9,   -999.0,9,   -999.0,9,  -999.0,-999.0000,-999.000,  -999.0,-999.000
   31WTTUNES_1,  P17C,    48,  1,     26,     26,2,19910618,1759, 18.9983,-135.0000, 5199,   2866.0,   1.6239,  34.6662,2,  34.6656,2,    121.9,2,  1.4172,    120.3,2,   162.35,2,    38.19,2,     0.01,2,     2.66,2, -999.000,9, -999.000,9, -999.000,9,-999.0000,9,  -999.00,9,   -999.0,9,  -999.00,9,   -999.0,9,   -999.0,9,  -999.0,-999.0000,-999.000,  -999.0,-999.000
   31WTTUNES_1,  P17C,    48,  1,     27,     27,2,19910618,1759, 18.9983,-135.0000, 5199,   3042.4,   1.5710,  34.6734,2,  34.6712,2,    127.5,2,  1.3485,    125.9,2,   162.88,2,    37.83,2,     0.01,2,     2.62,2, -999.000,9, -999.000,9, -999.000,9,-999.0000,9,  -999.00,9,   -999.0,9,  -999.00,9,   -999.0,9,   -999.0,9,  -999.0,-999.0000,-999.000,  -999.0,-999.000
   31WTTUNES_1,  P17C,    48,  1,     28,     28,2,19910618,1759, 18.9983,-135.0000, 5199,   3297.6,   1.5270,  34.6771,2,  34.6750,2,    133.6,2,  1.2806,    132.4,2,   162.86,2,    37.47,2,     0.01,2,     2.58,2, -999.000,9, -999.000,9, -999.000,9,-999.0000,9,  -999.00,9,   -999.0,9,  -999.00,9,   -999.0,9,   -999.0,9,  -999.0,-999.0000,-999.000,  -999.0,-999.000
   31WTTUNES_1,  P17C,    48,  1,     29,     29,2,19910618,1759, 18.9983,-135.0000, 5199,   3552.2,   1.4940,  34.6803,2,  34.6783,2,    139.0,2,  1.2227,    138.7,2,   160.65,2,    37.05,2,     0.01,2,     2.55,2, -999.000,9, -999.000,9, -999.000,9,-999.0000,9,  -999.00,9,   -999.0,9,  -999.00,9,   -999.0,9,   -999.0,9,  -999.0,-999.0000,-999.000,  -999.0,-999.000
   31WTTUNES_1,  P17C,    48,  1,     30,     30,2,19910618,1759, 18.9983,-135.0000, 5199,   3803.1,   1.4720,  34.6842,2,  34.6820,2,    145.7,2,  1.1751,    144.3,2,   157.90,2,    36.58,2,     0.01,2,     2.52,2, -999.000,9, -999.000,9, -999.000,9,-999.0000,9,  -999.00,9,   -999.0,9,  -999.00,9,   -999.0,9,   -999.0,9,  -999.0,-999.0000,-999.000,  -999.0,-999.000
   31WTTUNES_1,  P17C,    48,  1,     31,     31,2,19910618,1759, 18.9983,-135.0000, 5199,   4064.3,   1.4510,  34.6872,2,  34.6859,2,    152.9,2,  1.1265,    152.5,2,   152.96,2,    36.07,2,     0.00,2,     2.49,2,   -0.001,2,    0.000,2, -999.000,9,-999.0000,9,  -999.00,9,   -999.0,9,  -999.00,9,   -999.0,9,   -999.0,9,  -999.0,-999.0000,-999.000,  -999.0,-999.000
   31WTTUNES_1,  P17C,    48,  1,     32,     32,2,19910618,1759, 18.9983,-135.0000, 5199,   4316.2,   1.4281,  34.6911,2,  34.6890,2,    160.3,2,  1.0762,    159.5,2,   146.93,2,    35.35,2,     0.00,2,     2.44,2,    0.000,2,    0.000,2, -999.000,9,-999.0000,9,  -999.00,9,   -999.0,9,  -999.00,9,   -999.0,9,   -999.0,9,  -999.0,-999.0000,-999.000,  -999.0,-999.000
   31WTTUNES_1,  P17C,    48,  1,     33,     33,2,19910618,1759, 18.9983,-135.0000, 5199,   4578.3,   1.4201,  34.6930,2,  34.6913,2,    166.2,2,  1.0385,    164.8,2,   143.27,2,    35.14,2,     0.00,2,     2.41,2,   -0.001,2,    0.000,2, -999.000,9,-999.0000,9,  -999.00,9,   -999.0,9,  -999.00,9,   -999.0,9,   -999.0,9,  -999.0,-999.0000,-999.000,  -999.0,-999.000
   31WTTUNES_1,  P17C,    48,  1,     34,     34,2,19910618,1759, 18.9983,-135.0000, 5199,   4836.9,   1.4301,  34.6955,2,  34.6929,2,    169.6,2,  1.0177,    168.7,2,   141.25,2,    34.67,2,     0.00,2,     2.39,2,    0.000,2,    0.000,2, -999.000,9,-999.0000,9,  -999.00,9,   -999.0,9,  -999.00,9,   -999.0,9,   -999.0,9,  -999.0,-999.0000,-999.000,  -999.0,-999.000
   31WTTUNES_1,  P17C,    48,  1,     35,     35,2,19910618,1759, 18.9983,-135.0000, 5199,   5087.1,   1.4550,  34.6936,2,  34.6936,2,    171.1,2,  1.0117,    169.7,2,   140.32,2,    34.77,2,     0.00,2,     2.38,2,   -0.001,2,    0.000,2, -999.000,9,-999.0000,9,  -999.00,9,   -999.0,9,  -999.00,9,   -999.0,9,   -999.0,9,  -999.0,-999.0000,-999.000,  -999.0,-999.000
   31WTTUNES_1,  P17C,    48,  1,     36,     36,2,19910618,1759, 18.9983,-135.0000, 5199,   5279.9,   1.4750,  34.6952,2,  34.6932,2,   -999.0,9,  1.0071,    170.4,2,   139.94,2,    34.77,2,     0.00,2,     2.39,2,    0.001,2,    0.000,2, -999.000,9,-999.0000,9,  -999.00,9,   -999.0,9,  -999.00,9,   -999.0,9,   -999.0,9,  -999.0,-999.0000,-999.000,  -999.0,-999.000