BOTTLE,20220819CCHSIOAMB
EXPOCODE,SECT_ID,STNNBR,CASTNO,SAMPNO,BTLNBR,BTLNBR_FLAG_W,DATE,TIME,LATITUDE,LONGITUDE,DEPTH,CTDPRS,CTDTMP,CTDSAL,CTDSAL_FLAG_W,SALNTY,SALNTY_FLAG_W,CTDOXY,CTDOXY_FLAG_W,THETA,OXYGEN,OXYGEN_FLAG_W,SILCAT,SILCAT_FLAG_W,NITRAT,NITRAT_FLAG_W,NITRIT,NITRIT_FLAG_W,PHSPHT,PHSPHT_FLAG_W,CFC-11,CFC-11_FLAG_W,CFC-12,CFC-12_FLAG_W,TRITUM,TRITUM_FLAG_W,HELIUM,HELIUM_FLAG_W,DELHE3,DELHE3_FLAG_W,DELC14,DELC14_FLAG_W,DELC13,DELC13_FLAG_W,TCARBN,TCARBN_FLAG_W,ALKALI,ALKALI_FLAG_W,C14ERR,HELIER,DELHER,C13ERR,TRITER
,,,,,,,,,,,,DBAR,ITS-90,PSS-78,,PSS-78,,UMOL/KG,,DEG C,UMOL/KG,,UMOL/KG,,UMOL/KG,,UMOL/KG,,UMOL/KG,,PMOL/KG,,PMOL/KG,,TU,,NMOL/KG,,PERCNT,,/MILLE,,/MILLE,,UMOL/KG,,UMOL/KG,,/MILLE,NMOL/KG,PERCNT,/MILLE,TU
   31WTTUNES_1,  P17C,    22,  1,      1,      1,2,19910610,1003, 32.0350,-135.0017, 4943,      1.1,  17.5445,  34.2639,2,  34.2633,2,    243.6,3, 17.5443,    245.7,2,     2.91,2,     0.14,2,     0.01,2,     0.19,2,    2.594,2,    1.396,2, -999.000,9,-999.0000,9,  -999.00,9,   -999.0,9,  -999.00,9,   -999.0,9,   -999.0,9,  -999.0,-999.0000,-999.000,  -999.0,-999.000
   31WTTUNES_1,  P17C,    22,  1,      2,      2,2,19910610,1003, 32.0350,-135.0017, 4943,     49.0,  17.5628,  34.3873,2,  34.3867,2,    244.2,2, 17.5546,    243.4,2,     2.90,2,     0.14,2,     0.00,2,     0.20,2,    2.569,2,    1.394,2, -999.000,9,-999.0000,9,  -999.00,9,   -999.0,9,  -999.00,9,   -999.0,9,   -999.0,9,  -999.0,-999.0000,-999.000,  -999.0,-999.000
   31WTTUNES_1,  P17C,    22,  1,      3,      3,2,19910610,1003, 32.0350,-135.0017, 4943,    100.1,  16.9980,  34.3992,2,  34.4019,2,    243.3,2, 16.9816,    242.8,2,     2.47,2,     0.13,2,     0.01,2,     0.19,2,    2.588,2,    1.379,2, -999.000,9,-999.0000,9,  -999.00,9,   -999.0,9,  -999.00,9,   -999.0,9,   -999.0,9,  -999.0,-999.0000,-999.000,  -999.0,-999.000
   31WTTUNES_1,  P17C,    22,  1,      4,      4,2,19910610,1003, 32.0350,-135.0017, 4943,    127.4,  16.4685,  34.3722,2,  34.3283,2,    238.9,2, 16.4481,    235.0,2,     3.07,2,     0.62,2,     0.12,2,     0.26,2,    2.641,2,    1.415,2, -999.000,9,-999.0000,9,  -999.00,9,   -999.0,9,  -999.00,9,   -999.0,9,   -999.0,9,  -999.0,-999.0000,-999.000,  -999.0,-999.000
   31WTTUNES_1,  P17C,    22,  1,      5,      5,2,19910610,1003, 32.0350,-135.0017, 4943,    154.2,  14.1753,  34.0726,2,  34.0699,2,    224.6,2, 14.1530,    226.9,2,     4.27,2,     3.66,2,     0.06,2,     0.47,2,    2.846,2,    1.482,2, -999.000,9,-999.0000,9,  -999.00,9,   -999.0,9,  -999.00,9,   -999.0,9,   -999.0,9,  -999.0,-999.0000,-999.000,  -999.0,-999.000
   31WTTUNES_1,  P17C,    22,  1,      6,      6,2,19910610,1003, 32.0350,-135.0017, 4943,    174.6,  12.3204,  33.8606,2,  33.8482,2,    224.7,2, 12.2975,    225.4,2,     6.48,2,     6.73,2,     0.02,2,     0.67,2,    2.961,2,    1.537,2, -999.000,9,-999.0000,9,  -999.00,9,   -999.0,9,  -999.00,9,   -999.0,9,   -999.0,9,  -999.0,-999.0000,-999.000,  -999.0,-999.000
   31WTTUNES_1,  P17C,    22,  1,      7,      7,2,19910610,1003, 32.0350,-135.0017, 4943,    196.6,  10.6581,  33.7532,2,  33.7510,2,    223.5,2, 10.6347,    219.5,2,     9.70,2,    10.49,2,     0.02,2,     0.91,2,    3.029,2,    1.550,2, -999.000,9,-999.0000,9,  -999.00,9,   -999.0,9,  -999.00,9,   -999.0,9,   -999.0,9,  -999.0,-999.0000,-999.000,  -999.0,-999.000
   31WTTUNES_1,  P17C,    22,  1,      8,      8,2,19910610,1003, 32.0350,-135.0017, 4943,    222.6,   9.5032,  33.7793,2,  33.7819,2,    218.0,2,  9.4785,    216.5,2,    14.14,2,    14.14,2,     0.01,2,     1.12,2,    2.974,2,    1.515,2, -999.000,9,-999.0000,9,  -999.00,9,   -999.0,9,  -999.00,9,   -999.0,9,   -999.0,9,  -999.0,-999.0000,-999.000,  -999.0,-999.000
   31WTTUNES_1,  P17C,    22,  1,      9,      9,2,19910610,1003, 32.0350,-135.0017, 4943,    253.2,   9.1901,  33.9316,2,  33.9343,2,    216.5,2,  9.1625,    214.3,2,    17.97,2,    15.85,2,     0.01,2,     1.20,2,    2.822,2,    1.409,2, -999.000,9,-999.0000,9,  -999.00,9,   -999.0,9,  -999.00,9,   -999.0,9,   -999.0,9,  -999.0,-999.0000,-999.000,  -999.0,-999.000
   31WTTUNES_1,  P17C,    22,  1,     10,     10,2,19910610,1003, 32.0350,-135.0017, 4943,    299.0,   8.4441,  34.0015,2,  34.0009,2,    193.6,2,  8.4131,    189.4,2,    26.85,2,    20.33,2,     0.01,2,     1.47,2,    2.269,2,    1.180,2, -999.000,9,-999.0000,9,  -999.00,9,   -999.0,9,  -999.00,9,   -999.0,9,   -999.0,9,  -999.0,-999.0000,-999.000,  -999.0,-999.000
   31WTTUNES_1,  P17C,    22,  1,     11,     11,2,19910610,1003, 32.0350,-135.0017, 4943,    362.4,   7.4726,  33.9949,2,  33.9935,2,    166.7,2,  7.4375,    163.9,2,    36.75,2,    24.98,2,     0.01,2,     1.77,2,    1.780,2,    0.898,2, -999.000,9,-999.0000,9,  -999.00,9,   -999.0,9,  -999.00,9,   -999.0,9,   -999.0,9,  -999.0,-999.0000,-999.000,  -999.0,-999.000
   31WTTUNES_1,  P17C,    22,  1,     12,     12,2,19910610,1003, 32.0350,-135.0017, 4943,    415.2,   6.4483,  33.9738,2,  33.9747,2,    129.9,2,  6.4112,    133.2,2,    51.90,2,    30.29,2,     0.01,2,     2.15,2,    1.164,2,    0.588,2, -999.000,9,-999.0000,9,  -999.00,9,   -999.0,9,  -999.00,9,   -999.0,9,   -999.0,9,  -999.0,-999.0000,-999.000,  -999.0,-999.000
   31WTTUNES_1,  P17C,    22,  1,     13,     13,2,19910610,1003, 32.0350,-135.0017, 4943,    502.4,   5.5926,  34.0093,2,  34.0112,2,     77.9,2,  5.5506,     79.5,2,    69.07,2,    36.14,2,     0.01,2,     2.56,2,    0.505,2,    0.264,2, -999.000,9,-999.0000,9,  -999.00,9,   -999.0,9,  -999.00,9,   -999.0,9,   -999.0,9,  -999.0,-999.0000,-999.000,  -999.0,-999.000
   31WTTUNES_1,  P17C,    22,  1,     14,     14,2,19910610,1003, 32.0350,-135.0017, 4943,    602.7,   4.8009,  34.1013,2,  34.1015,2,     36.3,2,  4.7538,     38.0,2,    89.27,2,    40.84,2,     0.01,2,     2.91,2,    0.155,2,    0.066,2, -999.000,9,-999.0000,9,  -999.00,9,   -999.0,9,  -999.00,9,   -999.0,9,   -999.0,9,  -999.0,-999.0000,-999.000,  -999.0,-999.000
   31WTTUNES_1,  P17C,    22,  1,     15,     15,2,19910610,1003, 32.0350,-135.0017, 4943,    705.2,   4.3888,  34.2097,2,  34.2143,2,     18.0,2,  4.3353,     17.0,2,   104.80,2,    42.88,2,     0.01,2,     3.07,2,    0.017,2,    0.016,2, -999.000,9,-999.0000,9,  -999.00,9,   -999.0,9,  -999.00,9,   -999.0,9,   -999.0,9,  -999.0,-999.0000,-999.000,  -999.0,-999.000
   31WTTUNES_1,  P17C,    22,  1,     16,     16,2,19910610,1003, 32.0350,-135.0017, 4943,    809.9,   4.1381,  34.2976,2,  34.2963,2,     11.3,2,  4.0774,     11.3,2,   114.46,2,    43.61,2,     0.00,2,     3.13,2,    0.018,2,    0.007,2, -999.000,9,-999.0000,9,  -999.00,9,   -999.0,9,  -999.00,9,   -999.0,9,   -999.0,9,  -999.0,-999.0000,-999.000,  -999.0,-999.000
   31WTTUNES_1,  P17C,    22,  1,     17,     17,2,19910610,1003, 32.0350,-135.0017, 4943,    909.2,   3.8852,  34.3693,2,  34.3670,2,     11.1,2,  3.8181,     11.6,2,   122.51,2,    43.95,2,     0.00,2,     3.16,2,    0.006,2,    0.004,2, -999.000,9,-999.0000,9,  -999.00,9,   -999.0,9,  -999.00,9,   -999.0,9,   -999.0,9,  -999.0,-999.0000,-999.000,  -999.0,-999.000
   31WTTUNES_1,  P17C,    22,  1,     18,     18,2,19910610,1003, 32.0350,-135.0017, 4943,   1007.7,   3.6183,  34.4212,2,  34.4202,2,     16.1,2,  3.5451,     16.8,2,   128.73,2,    44.18,2,     0.00,2,     3.16,2,    0.017,2,    0.003,2, -999.000,9,-999.0000,9,  -999.00,9,   -999.0,9,  -999.00,9,   -999.0,9,   -999.0,9,  -999.0,-999.0000,-999.000,  -999.0,-999.000
   31WTTUNES_1,  P17C,    22,  1,     19,     19,2,19910610,1003, 32.0350,-135.0017, 4943,   1209.8,   3.1968,  34.4938,2,  34.4915,2,     30.6,2,  3.1108,     30.4,2,   137.98,2,    43.68,2,     0.00,2,     3.09,2, -999.000,9, -999.000,9, -999.000,9,-999.0000,9,  -999.00,9,   -999.0,9,  -999.00,9,   -999.0,9,   -999.0,9,  -999.0,-999.0000,-999.000,  -999.0,-999.000
   31WTTUNES_1,  P17C,    22,  1,     20,     20,2,19910610,1003, 32.0350,-135.0017, 4943,   1412.0,   2.8204,  34.5396,2,  34.5402,2,     46.8,2,  2.7219,     50.3,2,   146.01,2,    42.63,2,     0.00,2,     3.01,2, -999.000,9, -999.000,9, -999.000,9,-999.0000,9,  -999.00,9,   -999.0,9,  -999.00,9,   -999.0,9,   -999.0,9,  -999.0,-999.0000,-999.000,  -999.0,-999.000
   31WTTUNES_1,  P17C,    22,  1,     21,     21,2,19910610,1003, 32.0350,-135.0017, 4943,   1616.1,   2.4746,  34.5725,2,  34.5732,2,     58.1,2,  2.3635,     59.5,2,   154.86,2,    42.02,2,     0.00,2,     2.95,2, -999.000,9, -999.000,9, -999.000,9,-999.0000,9,  -999.00,9,   -999.0,9,  -999.00,9,   -999.0,9,   -999.0,9,  -999.0,-999.0000,-999.000,  -999.0,-999.000
   31WTTUNES_1,  P17C,    22,  1,     22,     22,2,19910610,1003, 32.0350,-135.0017, 4943,   1819.1,   2.2006,  34.5955,2,  34.5957,2,     66.8,2,  2.0764,     66.6,2,   162.89,2,    41.47,2,     0.01,2,     2.91,2, -999.000,9, -999.000,9, -999.000,9,-999.0000,9,  -999.00,9,   -999.0,9,  -999.00,9,   -999.0,9,   -999.0,9,  -999.0,-999.0000,-999.000,  -999.0,-999.000
   31WTTUNES_1,  P17C,    22,  1,     23,     23,2,19910610,1003, 32.0350,-135.0017, 4943,   2022.8,   2.0052,  34.6138,2,  34.6102,3,     76.1,2,  1.8668,     75.9,2,   168.09,2,    40.98,2,     0.01,2,     2.86,2, -999.000,9, -999.000,9, -999.000,9,-999.0000,9,  -999.00,9,   -999.0,9,  -999.00,9,   -999.0,9,   -999.0,9,  -999.0,-999.0000,-999.000,  -999.0,-999.000
   31WTTUNES_1,  P17C,    22,  1,     24,     24,2,19910610,1003, 32.0350,-135.0017, 4943,   2226.3,   1.8648,  34.6298,2,  34.6279,2,     85.9,2,  1.7112,     85.4,2,   170.67,2,    40.33,2,     0.01,2,     2.81,2, -999.000,9, -999.000,9, -999.000,9,-999.0000,9,  -999.00,9,   -999.0,9,  -999.00,9,   -999.0,9,   -999.0,9,  -999.0,-999.0000,-999.000,  -999.0,-999.000
   31WTTUNES_1,  P17C,    22,  1,     25,     25,2,19910610,1003, 32.0350,-135.0017, 4943,   2431.5,   1.7661,  34.6411,2,  34.6409,2,     95.6,2,  1.5963,     95.1,2,   171.43,2,    39.68,2,     0.01,2,     2.77,2, -999.000,9, -999.000,9, -999.000,9,-999.0000,9,  -999.00,9,   -999.0,9,  -999.00,9,   -999.0,9,   -999.0,9,  -999.0,-999.0000,-999.000,  -999.0,-999.000
   31WTTUNES_1,  P17C,    22,  1,     26,     26,2,19910610,1003, 32.0350,-135.0017, 4943,   2630.1,   1.6758,  34.6500,2,  34.6484,2,    103.4,2,  1.4899,    102.7,2,   171.99,2,    39.25,2,     0.01,2,     2.73,2, -999.000,9, -999.000,9, -999.000,9,-999.0000,9,  -999.00,9,   -999.0,9,  -999.00,9,   -999.0,9,   -999.0,9,  -999.0,-999.0000,-999.000,  -999.0,-999.000
   31WTTUNES_1,  P17C,    22,  1,     27,     27,2,19910610,1003, 32.0350,-135.0017, 4943,   2834.9,   1.6029,  34.6575,2,  34.6563,2,    111.2,2,  1.3996,    111.0,2,   172.55,2,    38.71,2,     0.01,2,     2.68,2, -999.000,9, -999.000,9, -999.000,9,-999.0000,9,  -999.00,9,   -999.0,9,  -999.00,9,   -999.0,9,   -999.0,9,  -999.0,-999.0000,-999.000,  -999.0,-999.000
   31WTTUNES_1,  P17C,    22,  1,     28,     28,2,19910610,1003, 32.0350,-135.0017, 4943,   3034.1,   1.5473,  34.6643,2,  34.6642,2,    118.8,2,  1.3262,    119.3,2,   171.29,2,    38.18,2,     0.01,2,     2.66,2, -999.000,9, -999.000,9, -999.000,9,-999.0000,9,  -999.00,9,   -999.0,9,  -999.00,9,   -999.0,9,   -999.0,9,  -999.0,-999.0000,-999.000,  -999.0,-999.000
   31WTTUNES_1,  P17C,    22,  1,     29,     29,2,19910610,1003, 32.0350,-135.0017, 4943,   3295.6,   1.4935,  34.6721,2,  34.6702,2,    129.1,2,  1.2482,    130.8,3,   168.42,2,    37.48,2,     0.01,2,     2.59,2, -999.000,9, -999.000,9, -999.000,9,-999.0000,9,  -999.00,9,   -999.0,9,  -999.00,9,   -999.0,9,   -999.0,9,  -999.0,-999.0000,-999.000,  -999.0,-999.000
   31WTTUNES_1,  P17C,    22,  1,     30,     30,4,19910610,1003, 32.0350,-135.0017, 4943,   3295.6,   1.4935,  34.6721,2,  34.6720,2,    129.1,2,  1.2482,    129.9,2,   168.38,2,    37.43,2,     0.01,2,     2.59,2, -999.000,9, -999.000,9, -999.000,9,-999.0000,9,  -999.00,9,   -999.0,9,  -999.00,9,   -999.0,9,   -999.0,9,  -999.0,-999.0000,-999.000,  -999.0,-999.000
   31WTTUNES_1,  P17C,    22,  1,     31,     31,4,19910610,1003, 32.0350,-135.0017, 4943,   3552.9,   1.4750,  34.6772,2,  34.6765,2,    136.6,2,  1.2041,    137.8,2,   165.91,2,    37.11,2,     0.01,2,     2.56,2,    0.001,2,    0.000,2, -999.000,9,-999.0000,9,  -999.00,9,   -999.0,9,  -999.00,9,   -999.0,9,   -999.0,9,  -999.0,-999.0000,-999.000,  -999.0,-999.000
   31WTTUNES_1,  P17C,    22,  1,     32,     32,2,19910610,1003, 32.0350,-135.0017, 4943,   4063.4,   1.4851,  34.6828,2,  34.6824,2,    145.2,2,  1.1597,    143.9,2,   161.22,2,    36.55,2,     0.00,2,     2.51,2,    0.006,2,    0.005,2, -999.000,9,-999.0000,9,  -999.00,9,   -999.0,9,  -999.00,9,   -999.0,9,   -999.0,9,  -999.0,-999.0000,-999.000,  -999.0,-999.000
   31WTTUNES_1,  P17C,    22,  1,     33,     33,2,19910610,1003, 32.0350,-135.0017, 4943,   4325.6,   1.5075,  34.6837,2,  34.6834,2,    147.4,2,  1.1522,    146.7,2,   160.17,2,    36.45,2,     0.00,2,     2.50,2,    0.001,2,    0.002,2, -999.000,9,-999.0000,9,  -999.00,9,   -999.0,9,  -999.00,9,   -999.0,9,   -999.0,9,  -999.0,-999.0000,-999.000,  -999.0,-999.000
   31WTTUNES_1,  P17C,    22,  1,     34,     34,2,19910610,1003, 32.0350,-135.0017, 4943,   4577.9,   1.5330,  34.6839,2,  34.6825,2,    148.4,2,  1.1480,    145.3,3,   160.34,2,    36.54,2,     0.01,2,     2.51,2, -999.000,5, -999.000,5, -999.000,9,-999.0000,9,  -999.00,9,   -999.0,9,  -999.00,9,   -999.0,9,   -999.0,9,  -999.0,-999.0000,-999.000,  -999.0,-999.000
   31WTTUNES_1,  P17C,    22,  1,     35,     35,2,19910610,1003, 32.0350,-135.0017, 4943,   4850.7,   1.5650,  34.6845,2,  34.6833,2,    147.5,2,  1.1466,    146.9,2,   160.30,2,    36.43,2,     0.01,2,     2.51,2,   -0.001,2,    0.004,2, -999.000,9,-999.0000,9,  -999.00,9,   -999.0,9,  -999.00,9,   -999.0,9,   -999.0,9,  -999.0,-999.0000,-999.000,  -999.0,-999.000
   31WTTUNES_1,  P17C,    22,  1,     36,     36,2,19910610,1003, 32.0350,-135.0017, 4943,   5028.9,   1.5859,  34.6844,2,  34.6833,2,   -999.0,9,  1.1453,    147.8,2,   159.45,2,    36.28,2,     0.01,2,     2.50,2,    0.010,3,   -0.005,2, -999.000,9,-999.0000,9,  -999.00,9,   -999.0,9,  -999.00,9,   -999.0,9,   -999.0,9,  -999.0,-999.0000,-999.000,  -999.0,-999.000