BOTTLE,20220819CCHSIOAMB
EXPOCODE,SECT_ID,STNNBR,CASTNO,SAMPNO,BTLNBR,BTLNBR_FLAG_W,DATE,TIME,LATITUDE,LONGITUDE,DEPTH,CTDPRS,CTDTMP,CTDSAL,CTDSAL_FLAG_W,SALNTY,SALNTY_FLAG_W,CTDOXY,CTDOXY_FLAG_W,THETA,OXYGEN,OXYGEN_FLAG_W,SILCAT,SILCAT_FLAG_W,NITRAT,NITRAT_FLAG_W,NITRIT,NITRIT_FLAG_W,PHSPHT,PHSPHT_FLAG_W,CFC-11,CFC-11_FLAG_W,CFC-12,CFC-12_FLAG_W,TRITUM,TRITUM_FLAG_W,HELIUM,HELIUM_FLAG_W,DELHE3,DELHE3_FLAG_W,DELC14,DELC14_FLAG_W,DELC13,DELC13_FLAG_W,TCARBN,TCARBN_FLAG_W,ALKALI,ALKALI_FLAG_W,C14ERR,HELIER,DELHER,C13ERR,TRITER
,,,,,,,,,,,,DBAR,ITS-90,PSS-78,,PSS-78,,UMOL/KG,,DEG C,UMOL/KG,,UMOL/KG,,UMOL/KG,,UMOL/KG,,UMOL/KG,,PMOL/KG,,PMOL/KG,,TU,,NMOL/KG,,PERCNT,,/MILLE,,/MILLE,,UMOL/KG,,UMOL/KG,,/MILLE,NMOL/KG,PERCNT,/MILLE,TU
   31WTTUNES_1,  P17C,   123,  1,      1,      1,2,19910707,0853, -5.9783,-135.0033, 4505,      0.2,  27.5996,  35.0267,2,  35.0305,2,    208.8,3, 27.5995,    209.0,2,     2.55,2,     4.54,2,     0.07,2,     0.54,2,    1.648,2,    0.925,2, -999.000,9,-999.0000,9,  -999.00,9,   -999.0,9,  -999.00,9,   -999.0,9,   -999.0,9,  -999.0,-999.0000,-999.000,  -999.0,-999.000
   31WTTUNES_1,  P17C,   123,  1,      2,      2,2,19910707,0853, -5.9783,-135.0033, 4505,     51.7,  27.6166,  35.0269,2,  35.0295,2,    205.6,2, 27.6045,    209.4,2,     2.73,2,     4.59,2,     0.07,2,     0.53,2,    1.645,2,    0.935,2,    1.081,2,   0.0000,2,  -999.00,9,   -999.0,9,  -999.00,9,   -999.0,9,   -999.0,9,  -999.0,  0.0080,   0.150,  -999.0,   0.011
   31WTTUNES_1,  P17C,   123,  1,      3,      3,2,19910707,0853, -5.9783,-135.0033, 4505,     77.0,  27.5424,  35.0967,2,  35.1394,2,    204.0,2, 27.5244,    206.9,2,     2.54,2,     4.82,2,     0.08,2,     0.57,2,    1.648,2,    0.981,2,    1.053,2,   0.0000,2,  -999.00,9,   -999.0,9,  -999.00,9,   -999.0,9,   -999.0,9,  -999.0,  0.0080,   0.150,  -999.0,   0.010
   31WTTUNES_1,  P17C,   123,  1,      4,      4,2,19910707,0853, -5.9783,-135.0033, 4505,     96.6,  25.8216,  35.8362,2,  35.8477,2,    198.7,2, 25.8001,    195.2,2,     2.35,2,     3.88,2,     0.09,2,     0.66,2,    1.763,2,    1.016,2,    0.906,2,   0.0000,2,  -999.00,9,   -999.0,9,  -999.00,9,   -999.0,9,   -999.0,9,  -999.0,-999.0000,   0.150,  -999.0,   0.010
   31WTTUNES_1,  P17C,   123,  1,      5,      5,2,19910707,0853, -5.9783,-135.0033, 4505,    116.7,  24.2849,  35.9881,2,  35.9906,2,    190.7,2, 24.2600,    187.8,2,     2.16,2,     2.43,2,     0.85,2,     0.67,2,    1.825,2,    1.016,2,    0.821,2,   0.0000,2,  -999.00,9,   -999.0,9,  -999.00,9,   -999.0,9,   -999.0,9,  -999.0,  0.0080,   0.150,  -999.0,   0.009
   31WTTUNES_1,  P17C,   123,  1,      6,      6,2,19910707,0853, -5.9783,-135.0033, 4505,    127.1,  22.9599,  35.9756,2,  35.9691,2,    179.9,2, 22.9339,    175.1,2,     2.16,2,     2.88,2,     3.19,2,     0.72,2,    1.883,2,    1.063,2,    0.726,2,   0.0000,2,  -999.00,9,   -999.0,9,  -999.00,9,   -999.0,9,   -999.0,9,  -999.0,  0.0080,   0.150,  -999.0,   0.009
   31WTTUNES_1,  P17C,   123,  1,      7,      7,2,19910707,0853, -5.9783,-135.0033, 4505,    152.2,  19.9956,  35.7225,2,  35.6899,2,    159.2,2, 19.9674,    155.9,2,     3.07,2,     8.20,2,     0.18,2,     0.85,2,    1.902,2,    1.032,2,    0.628,2,   0.0000,2,  -999.00,9,   -999.0,9,  -999.00,9,   -999.0,9,   -999.0,9,  -999.0,  0.0080,   0.150,  -999.0,   0.008
   31WTTUNES_1,  P17C,   123,  1,      8,      8,2,19910707,0853, -5.9783,-135.0033, 4505,    177.2,  15.2080,  35.1406,2,  35.1390,2,     53.4,2, 15.1809,     58.6,2,    10.80,2,    21.46,2,     0.02,2,     1.77,2,    1.098,2,    0.599,2,    0.476,2,   0.0000,2,  -999.00,9,   -999.0,9,  -999.00,9,   -999.0,9,   -999.0,9,  -999.0,  0.0090,   0.150,  -999.0,   0.007
   31WTTUNES_1,  P17C,   123,  1,      9,      9,2,19910707,0853, -5.9783,-135.0033, 4505,    212.0,  12.9853,  34.9388,2,  34.9351,2,     13.3,2, 12.9562,     12.9,2,    19.81,2,    28.90,2,     0.01,2,     2.30,2,    0.414,2,    0.230,2,    0.291,2,   0.0000,2,  -999.00,9,   -999.0,9,  -999.00,9,   -999.0,9,   -999.0,9,  -999.0,  0.0090,   0.150,  -999.0,   0.006
   31WTTUNES_1,  P17C,   123,  1,     10,     10,3,19910707,0853, -5.9783,-135.0033, 4505,    262.2,  11.4201,  34.8377,2,  34.8368,2,     30.4,2, 11.3869,     30.1,2,    25.52,2,    31.76,2,     0.00,2,     2.29,2,    0.131,2,    0.082,2, -999.000,9,   1.8230,2,  -999.24,9,   -999.0,9,  -999.00,9,   -999.0,9,   -999.0,9,  -999.0,  0.0090,   0.110,  -999.0,-999.000
   31WTTUNES_1,  P17C,   123,  1,     11,     11,2,19910707,0853, -5.9783,-135.0033, 4505,    303.1,  10.8884,  34.8042,2,  34.8033,2,     25.0,2, 10.8511,     24.2,2,    28.64,2,    33.27,2,     0.00,2,     2.38,2,    0.083,2,    0.055,2,    0.108,2,   0.0000,2,  -999.00,9,   -999.0,9,  -999.00,9,   -999.0,9,   -999.0,9,  -999.0,  0.0090,   0.150,  -999.0,   0.004
   31WTTUNES_1,  P17C,   123,  1,     12,     12,2,19910707,0853, -5.9783,-135.0033, 4505,    379.4,   9.7558,  34.7301,2,  34.7283,2,     17.3,2,  9.7121,     17.3,2,    34.34,2,    36.38,2,     0.00,2,     2.60,2,    0.024,2,    0.016,2,    0.038,2,   0.0000,2,  -999.00,9,   -999.0,9,  -999.00,9,   -999.0,9,   -999.0,9,  -999.0,  0.0090,   0.150,  -999.0,   0.002
   31WTTUNES_1,  P17C,   123,  1,     13,     13,2,19910707,0853, -5.9783,-135.0033, 4505,    454.2,   8.5812,  34.6577,2,  34.6567,2,     48.4,2,  8.5328,     48.0,2,    35.45,2,    36.33,2,     0.00,2,     2.53,2,    0.019,2,    0.019,2, -999.000,9,   1.9090,2,  -999.34,9,   -999.0,9,  -999.00,9,   -999.0,9,   -999.0,9,  -999.0,  0.0090,   0.110,  -999.0,-999.000
   31WTTUNES_1,  P17C,   123,  1,     14,     14,2,19910707,0853, -5.9783,-135.0033, 4505,    553.1,   7.3964,  34.5957,2,  34.5958,2,     55.2,2,  7.3419,     50.2,2,    43.73,2,    39.29,2,     0.00,2,     2.70,2,    0.004,2,    0.004,2, -999.000,9,   1.8400,2,  -999.55,9,   -999.0,9,  -999.00,9,   -999.0,9,   -999.0,9,  -999.0,  0.0090,   0.110,  -999.0,-999.000
   31WTTUNES_1,  P17C,   123,  1,     15,     15,2,19910707,0853, -5.9783,-135.0033, 4505,    655.3,   6.4178,  34.5616,2,  34.5638,2,     50.7,2,  6.3577,     56.1,2,    53.30,2,    40.71,2,     0.00,2,     2.81,2,    0.004,2,    0.005,2, -999.000,9,   1.8680,2,  -999.49,9,   -999.0,9,  -999.00,9,   -999.0,9,   -999.0,9,  -999.0,  0.0090,   0.110,  -999.0,-999.000
   31WTTUNES_1,  P17C,   123,  1,     16,     16,2,19910707,0853, -5.9783,-135.0033, 4505,    759.4,   5.6877,  34.5438,2,  34.5448,2,     67.2,2,  5.6217,     70.7,2,    60.66,2,    40.49,2,     0.00,2,     2.82,2,    0.001,2,    0.004,2, -999.000,9,   1.8730,2,  -999.79,9,   -999.0,9,  -999.00,9,   -999.0,9,   -999.0,9,  -999.0,  0.0090,   0.110,  -999.0,-999.000
   31WTTUNES_1,  P17C,   123,  1,     17,     17,2,19910707,0853, -5.9783,-135.0033, 4505,    912.7,   4.8914,  34.5395,2,  34.5416,2,     83.1,2,  4.8166,     82.8,2,    73.54,2,    39.91,2,     0.00,2,     2.80,2, -999.000,9, -999.000,9, -999.000,9,-999.0000,9,  -999.00,9,   -999.0,9,  -999.00,9,   -999.0,9,   -999.0,9,  -999.0,-999.0000,-999.000,  -999.0,-999.000
   31WTTUNES_1,  P17C,   123,  1,     18,     18,2,19910707,0853, -5.9783,-135.0033, 4505,   1055.3,   4.2592,  34.5501,2,  34.5518,2,     89.7,2,  4.1768,     89.3,2,    86.23,2,    39.85,2,     0.00,2,     2.81,2,    0.003,2,    0.004,2, -999.000,9,-999.0000,9,  -999.00,9,   -999.0,9,  -999.00,9,   -999.0,9,   -999.0,9,  -999.0,-999.0000,-999.000,  -999.0,-999.000
   31WTTUNES_1,  P17C,   123,  1,     19,     19,2,19910707,0853, -5.9783,-135.0033, 4505,   1211.1,   3.6699,  34.5677,2,  34.5678,2,     99.7,2,  3.5793,     99.2,2,    97.82,2,    39.22,2,     0.00,2,     2.77,2, -999.000,9, -999.000,9, -999.000,9,-999.0000,9,  -999.00,9,   -999.0,9,  -999.00,9,   -999.0,9,   -999.0,9,  -999.0,-999.0000,-999.000,  -999.0,-999.000
   31WTTUNES_1,  P17C,   123,  1,     20,     20,2,19910707,0853, -5.9783,-135.0033, 4505,   1410.9,   3.1615,  34.5883,2,  34.5913,2,    107.0,2,  3.0593,    105.8,2,   109.97,2,    38.85,2,     0.00,2,     2.73,2, -999.000,9, -999.000,9, -999.000,9,-999.0000,9,  -999.00,9,   -999.0,9,  -999.00,9,   -999.0,9,   -999.0,9,  -999.0,-999.0000,-999.000,  -999.0,-999.000
   31WTTUNES_1,  P17C,   123,  1,     21,     21,2,19910707,0853, -5.9783,-135.0033, 4505,   1616.5,   2.7541,  34.6094,2,  34.6100,2,    112.0,2,  2.6394,    110.8,2,   119.35,2,    38.69,2,     0.00,2,     2.72,2, -999.000,9, -999.000,9, -999.000,9,-999.0000,9,  -999.00,9,   -999.0,9,  -999.00,9,   -999.0,9,   -999.0,9,  -999.0,-999.0000,-999.000,  -999.0,-999.000
   31WTTUNES_1,  P17C,   123,  1,     22,     22,2,19910707,0853, -5.9783,-135.0033, 4505,   1821.1,   2.4886,  34.6228,2,  34.6245,2,    115.8,2,  2.3602,    116.6,2,   125.05,2,    38.32,2,     0.00,2,     2.69,2, -999.000,9, -999.000,9, -999.000,9,-999.0000,9,  -999.00,9,   -999.0,9,  -999.00,9,   -999.0,9,   -999.0,9,  -999.0,-999.0000,-999.000,  -999.0,-999.000
   31WTTUNES_1,  P17C,   123,  1,     23,     23,2,19910707,0853, -5.9783,-135.0033, 4505,   2027.9,   2.2272,  34.6381,2,  34.6411,2,    122.9,2,  2.0849,    121.3,2,   131.85,2,    37.90,2,     0.00,2,     2.65,2, -999.000,9, -999.000,9, -999.000,9,-999.0000,9,  -999.00,9,   -999.0,9,  -999.00,9,   -999.0,9,   -999.0,9,  -999.0,-999.0000,-999.000,  -999.0,-999.000
   31WTTUNES_1,  P17C,   123,  1,     24,     24,2,19910707,0853, -5.9783,-135.0033, 4505,   2207.4,   2.0899,  34.6491,2,  34.6505,2,    123.7,2,  1.9342,    121.9,2,   136.27,2,    37.95,2,     0.00,2,     2.64,2, -999.000,9, -999.000,9, -999.000,9,-999.0000,9,  -999.00,9,   -999.0,9,  -999.00,9,   -999.0,9,   -999.0,9,  -999.0,-999.0000,-999.000,  -999.0,-999.000
   31WTTUNES_1,  P17C,   123,  1,     25,     25,2,19910707,0853, -5.9783,-135.0033, 4505,   2363.7,   1.9891,  34.6554,2,  34.6566,2,    124.7,2,  1.8213,    123.9,2,   139.76,2,    37.84,2,     0.00,2,     2.64,2, -999.000,9, -999.000,9, -999.000,9,-999.0000,9,  -999.00,9,   -999.0,9,  -999.00,9,   -999.0,9,   -999.0,9,  -999.0,-999.0000,-999.000,  -999.0,-999.000
   31WTTUNES_1,  P17C,   123,  1,     26,     26,2,19910707,0853, -5.9783,-135.0033, 4505,   2527.8,   1.8819,  34.6633,2,  34.6641,2,    129.1,2,  1.7013,    128.4,2,   141.96,2,    37.69,2,     0.00,2,     2.60,2, -999.000,9, -999.000,9, -999.000,9,-999.0000,9,  -999.00,9,   -999.0,9,  -999.00,9,   -999.0,9,   -999.0,9,  -999.0,-999.0000,-999.000,  -999.0,-999.000
   31WTTUNES_1,  P17C,   123,  1,     27,     27,2,19910707,0853, -5.9783,-135.0033, 4505,   2700.7,   1.8008,  34.6704,2,  34.6713,2,    134.6,2,  1.6058,    134.1,2,   142.69,2,    37.22,2,     0.00,2,     2.56,2, -999.000,9, -999.000,9, -999.000,9,-999.0000,9,  -999.00,9,   -999.0,9,  -999.00,9,   -999.0,9,   -999.0,9,  -999.0,-999.0000,-999.000,  -999.0,-999.000
   31WTTUNES_1,  P17C,   123,  1,     28,     28,2,19910707,0853, -5.9783,-135.0033, 4505,   2862.0,   1.7555,  34.6730,2,  34.6737,2,    135.6,2,  1.5463,    137.7,2,   143.24,2,    36.96,2,     0.00,2,     2.55,2, -999.000,9, -999.000,9, -999.000,9,-999.0000,9,  -999.00,9,   -999.0,9,  -999.00,9,   -999.0,9,   -999.0,9,  -999.0,-999.0000,-999.000,  -999.0,-999.000
   31WTTUNES_1,  P17C,   123,  1,     29,     29,2,19910707,0853, -5.9783,-135.0033, 4505,   3050.0,   1.6951,  34.6756,2,  34.6763,2,    142.9,2,  1.4691,    142.2,2,   143.42,2,    36.70,2,     0.00,2,     2.52,2, -999.000,9, -999.000,9, -999.000,9,-999.0000,9,  -999.00,9,   -999.0,9,  -999.00,9,   -999.0,9,   -999.0,9,  -999.0,-999.0000,-999.000,  -999.0,-999.000
   31WTTUNES_1,  P17C,   123,  1,     30,     30,2,19910707,0853, -5.9783,-135.0033, 4505,   3248.4,   1.6142,  34.6800,2,  34.6812,2,    148.6,2,  1.3706,    148.6,2,   142.50,2,    36.28,2,     0.00,2,     2.50,2, -999.000,9, -999.000,9, -999.000,9,-999.0000,9,  -999.00,9,   -999.0,9,  -999.00,9,   -999.0,9,   -999.0,9,  -999.0,-999.0000,-999.000,  -999.0,-999.000
   31WTTUNES_1,  P17C,   123,  1,     31,     31,2,19910707,0853, -5.9783,-135.0033, 4505,   3444.2,   1.5561,  34.6835,2,  34.6845,2,    152.8,2,  1.2942,    154.6,2,   141.21,2,    35.82,2,     0.00,2,     2.47,2, -999.000,9, -999.000,9, -999.000,9,-999.0000,9,  -999.00,9,   -999.0,9,  -999.00,9,   -999.0,9,   -999.0,9,  -999.0,-999.0000,-999.000,  -999.0,-999.000
   31WTTUNES_1,  P17C,   123,  1,     32,     32,2,19910707,0853, -5.9783,-135.0033, 4505,   3655.3,   1.5087,  34.6871,2,  34.6867,2,    157.8,2,  1.2263,    156.9,2,   141.57,2,    35.71,2,     0.00,2,     2.44,2, -999.000,9, -999.000,9, -999.000,9,-999.0000,9,  -999.00,9,   -999.0,9,  -999.00,9,   -999.0,9,   -999.0,9,  -999.0,-999.0000,-999.000,  -999.0,-999.000
   31WTTUNES_1,  P17C,   123,  1,     33,     33,2,19910707,0853, -5.9783,-135.0033, 4505,   3865.5,   1.4639,  34.6893,2,  34.6896,2,    161.5,2,  1.1605,    160.3,2,   141.38,2,    35.35,2,     0.00,2,     2.43,2, -999.000,9, -999.000,9, -999.000,9,-999.0000,9,  -999.00,9,   -999.0,9,  -999.00,9,   -999.0,9,   -999.0,9,  -999.0,-999.0000,-999.000,  -999.0,-999.000
   31WTTUNES_1,  P17C,   123,  1,     34,     34,2,19910707,0853, -5.9783,-135.0033, 4505,   4068.1,   1.4369,  34.6936,2,  34.6928,2,    164.3,2,  1.1123,    165.5,2,   138.99,2,    35.14,2,     0.00,2,     2.41,2, -999.000,9, -999.000,9, -999.000,9,-999.0000,9,  -999.00,9,   -999.0,9,  -999.00,9,   -999.0,9,   -999.0,9,  -999.0,-999.0000,-999.000,  -999.0,-999.000
   31WTTUNES_1,  P17C,   123,  1,     35,     35,2,19910707,0853, -5.9783,-135.0033, 4505,   4340.0,   1.4221,  34.6963,2,  34.6950,2,    171.5,2,  1.0677,    171.6,2,   135.67,2,    34.68,2,     0.00,2,     2.37,2,   -0.003,2,    0.000,2, -999.000,9,-999.0000,9,  -999.00,9,   -999.0,9,  -999.00,9,   -999.0,9,   -999.0,9,  -999.0,-999.0000,-999.000,  -999.0,-999.000
   31WTTUNES_1,  P17C,   123,  1,     36,     36,3,19910707,0853, -5.9783,-135.0033, 4505,   4581.5,   1.4385,  34.6987,2,  34.6960,2,   -999.0,9,  1.0560,    173.1,2,   134.38,2,    34.63,2,     0.00,2,     2.37,2,   -0.001,2,    0.009,2, -999.000,9,-999.0000,9,  -999.00,9,   -999.0,9,  -999.00,9,   -999.0,9,   -999.0,9,  -999.0,-999.0000,-999.000,  -999.0,-999.000