BOTTLE,20220819CCHSIOAMB
EXPOCODE,SECT_ID,STNNBR,CASTNO,SAMPNO,BTLNBR,BTLNBR_FLAG_W,DATE,TIME,LATITUDE,LONGITUDE,DEPTH,CTDPRS,CTDTMP,CTDSAL,CTDSAL_FLAG_W,SALNTY,SALNTY_FLAG_W,CTDOXY,CTDOXY_FLAG_W,THETA,OXYGEN,OXYGEN_FLAG_W,SILCAT,SILCAT_FLAG_W,NITRAT,NITRAT_FLAG_W,NITRIT,NITRIT_FLAG_W,PHSPHT,PHSPHT_FLAG_W,CFC-11,CFC-11_FLAG_W,CFC-12,CFC-12_FLAG_W,TRITUM,TRITUM_FLAG_W,HELIUM,HELIUM_FLAG_W,DELHE3,DELHE3_FLAG_W,DELC14,DELC14_FLAG_W,DELC13,DELC13_FLAG_W,TCARBN,TCARBN_FLAG_W,ALKALI,ALKALI_FLAG_W,C14ERR,HELIER,DELHER,C13ERR,TRITER
,,,,,,,,,,,,DBAR,ITS-90,PSS-78,,PSS-78,,UMOL/KG,,DEG C,UMOL/KG,,UMOL/KG,,UMOL/KG,,UMOL/KG,,UMOL/KG,,PMOL/KG,,PMOL/KG,,TU,,NMOL/KG,,PERCNT,,/MILLE,,/MILLE,,UMOL/KG,,UMOL/KG,,/MILLE,NMOL/KG,PERCNT,/MILLE,TU
   31WTTUNES_1,  P17C,    35,  1,      1,      1,2,19910614,1737, 25.4983,-134.9967, 4547,      0.9,  20.5043,  35.0839,2,  35.0866,2,    230.4,3, 20.5042,    227.4,2,     3.47,2,     0.21,2,     0.00,2,     0.12,2, -999.000,9, -999.000,9, -999.000,9,-999.0000,9,  -999.00,9,   -999.0,9,  -999.00,9,   2008.5,2,   2326.6,2,  -999.0,-999.0000,-999.000,  -999.0,-999.000
   31WTTUNES_1,  P17C,    35,  1,      2,      2,2,19910614,1737, 25.4983,-134.9967, 4547,    104.7,  19.9510,  35.0819,2,  35.0886,2,    231.6,2, 19.9317,    224.4,2,     3.88,2,     0.14,2,     0.02,2,     0.12,2, -999.000,9, -999.000,9, -999.000,9,-999.0000,9,  -999.00,9,   -999.0,9,  -999.00,9,   2017.7,2,   2325.1,2,  -999.0,-999.0000,-999.000,  -999.0,-999.000
   31WTTUNES_1,  P17C,    35,  1,      3,      3,2,19910614,1737, 25.4983,-134.9967, 4547,    130.2,  19.4920,  35.0632,2,  35.0452,2,    226.0,2, 19.4684,    221.6,2,     3.89,2,     0.18,2,     0.12,2,     0.14,2, -999.000,9, -999.000,9, -999.000,9,-999.0000,9,  -999.00,9,   -999.0,9,  -999.00,9,   2024.1,2,   2322.5,2,  -999.0,-999.0000,-999.000,  -999.0,-999.000
   31WTTUNES_1,  P17C,    35,  1,      4,      4,2,19910614,1737, 25.4983,-134.9967, 4547,    155.3,  18.6561,  34.9534,2,  34.9478,2,    211.8,2, 18.6288,    213.3,2,     3.89,2,     1.00,2,     0.10,2,     0.20,2, -999.000,9, -999.000,9, -999.000,9,-999.0000,9,  -999.00,9,   -999.0,9,  -999.00,9,   2033.2,2,   2312.7,2,  -999.0,-999.0000,-999.000,  -999.0,-999.000
   31WTTUNES_1,  P17C,    35,  1,      5,      5,2,19910614,1737, 25.4983,-134.9967, 4547,    180.1,  17.2223,  34.7503,2,  34.7346,2,    207.6,2, 17.1924,    209.2,2,     4.50,2,     2.47,2,     0.03,2,     0.30,2, -999.000,9, -999.000,9, -999.000,9,-999.0000,9,  -999.00,9,   -999.0,9,  -999.00,9,   2037.9,2,   -999.0,9,  -999.0,-999.0000,-999.000,  -999.0,-999.000
   31WTTUNES_1,  P17C,    35,  1,      6,      6,2,19910614,1737, 25.4983,-134.9967, 4547,    204.8,  15.6166,  34.5528,2,  34.5545,2,    198.4,2, 15.5848,    205.9,2,     5.72,2,     4.33,2,     0.02,2,     0.41,2, -999.000,9, -999.000,9, -999.000,9,-999.0000,9,  -999.00,9,   -999.0,9,  -999.00,9,   2044.8,2,   2284.8,2,  -999.0,-999.0000,-999.000,  -999.0,-999.000
   31WTTUNES_1,  P17C,    35,  1,      7,      7,2,19910614,1737, 25.4983,-134.9967, 4547,    231.8,  13.9445,  34.3142,2,  34.3137,2,    202.2,2, 13.9113,    200.4,2,     7.74,2,     6.90,2,     0.01,2,     0.60,2, -999.000,9, -999.000,9, -999.000,9,-999.0000,9,  -999.00,9,   -999.0,9,  -999.00,9,   2056.3,2,   -999.0,9,  -999.0,-999.0000,-999.000,  -999.0,-999.000
   31WTTUNES_1,  P17C,    35,  1,      8,      8,2,19910614,1737, 25.4983,-134.9967, 4547,    255.8,  12.6492,  34.1630,2,  34.1603,2,    191.5,2, 12.6149,    196.1,2,    10.17,2,     9.71,2,     0.01,2,     0.79,2, -999.000,9, -999.000,9, -999.000,9,-999.0000,9,  -999.00,9,   -999.0,9,  -999.00,9,   2068.1,2,   -999.0,9,  -999.0,-999.0000,-999.000,  -999.0,-999.000
   31WTTUNES_1,  P17C,    35,  1,      9,      9,2,19910614,1737, 25.4983,-134.9967, 4547,    278.3,  11.1816,  34.0660,2,  34.0681,2,    189.7,2, 11.1471,    196.3,2,    14.01,2,    12.82,2,     0.01,2,     0.98,2, -999.000,9, -999.000,9, -999.000,9,-999.0000,9,  -999.00,9,   -999.0,9,  -999.00,9,   2084.1,2,   -999.0,9,  -999.0,-999.0000,-999.000,  -999.0,-999.000
   31WTTUNES_1,  P17C,    35,  1,     10,     10,2,19910614,1737, 25.4983,-134.9967, 4547,    302.9,  10.2600,  34.0439,2,  34.0467,2,    190.5,2, 10.2245,    192.7,2,    17.85,2,    15.74,2,     0.01,2,     1.17,2, -999.000,9, -999.000,9, -999.000,9,-999.0000,9,  -999.00,9,   -999.0,9,  -999.00,9,   2099.6,2,   2263.2,2,  -999.0,-999.0000,-999.000,  -999.0,-999.000
   31WTTUNES_1,  P17C,    35,  1,     11,     11,2,19910614,1737, 25.4983,-134.9967, 4547,    353.1,   8.8964,  34.0363,2,  34.0391,2,    169.5,2,  8.8585,    184.1,2,    26.13,2,    19.86,2,     0.01,2,     1.42,2, -999.000,9, -999.000,9, -999.000,9,-999.0000,9,  -999.00,9,   -999.0,9,  -999.00,9,   2124.4,2,   -999.0,9,  -999.0,-999.0000,-999.000,  -999.0,-999.000
   31WTTUNES_1,  P17C,    35,  1,     12,     12,2,19910614,1737, 25.4983,-134.9967, 4547,    403.1,   7.8996,  34.0223,2,  34.0260,2,    163.1,2,  7.8592,    163.2,2,    36.42,2,    24.14,2,     0.01,2,     1.71,2, -999.000,9, -999.000,9, -999.000,9,-999.0000,9,  -999.00,9,   -999.0,9,  -999.00,9,   2157.2,2,   2274.8,2,  -999.0,-999.0000,-999.000,  -999.0,-999.000
   31WTTUNES_1,  P17C,    35,  1,     13,     13,2,19910614,1737, 25.4983,-134.9967, 4547,    453.5,   6.9679,  34.0339,2,  34.0382,2,    107.3,2,  6.9254,    107.2,2,    51.34,2,    30.70,2,     0.01,2,     2.22,2, -999.000,9, -999.000,9, -999.000,9,-999.0000,9,  -999.00,9,   -999.0,9,  -999.00,9,   2211.7,2,   -999.0,9,  -999.0,-999.0000,-999.000,  -999.0,-999.000
   31WTTUNES_1,  P17C,    35,  1,     14,     14,2,19910614,1737, 25.4983,-134.9967, 4547,    505.3,   6.2423,  34.0573,2,  34.0604,2,     74.0,2,  6.1976,     75.5,2,    64.04,2,    34.81,2,     0.01,2,     2.53,2, -999.000,9, -999.000,9, -999.000,9,-999.0000,9,  -999.00,9,   -999.0,9,  -999.00,9,   2247.2,2,   -999.0,9,  -999.0,-999.0000,-999.000,  -999.0,-999.000
   31WTTUNES_1,  P17C,    35,  1,     15,     15,2,19910614,1737, 25.4983,-134.9967, 4547,    610.2,   5.3183,  34.1701,2,  34.1747,2,     31.4,2,  5.2680,     28.9,2,    86.60,2,    40.39,2,     0.01,2,     2.97,2, -999.000,9, -999.000,9, -999.000,9,-999.0000,9,  -999.00,9,   -999.0,9,  -999.00,9,   2304.8,2,   2323.9,2,  -999.0,-999.0000,-999.000,  -999.0,-999.000
   31WTTUNES_1,  P17C,    35,  1,     16,     16,2,19910614,1737, 25.4983,-134.9967, 4547,    707.4,   4.8873,  34.2836,2,  34.2885,2,     16.3,2,  4.8307,     16.6,2,    98.46,2,    42.06,2,     0.01,2,     3.11,2, -999.000,9, -999.000,9, -999.000,9,-999.0000,9,  -999.00,9,   -999.0,9,  -999.00,9,   2326.9,2,   -999.0,9,  -999.0,-999.0000,-999.000,  -999.0,-999.000
   31WTTUNES_1,  P17C,    35,  1,     17,     17,2,19910614,1737, 25.4983,-134.9967, 4547,    807.4,   4.5800,  34.3893,2,  34.3909,2,     16.2,2,  4.5167,     16.4,2,   106.28,2,    42.82,2,     0.01,2,     3.15,2, -999.000,9, -999.000,9, -999.000,9,-999.0000,9,  -999.00,9,   -999.0,9,  -999.00,9,   2339.2,2,   -999.0,9,  -999.0,-999.0000,-999.000,  -999.0,-999.000
   31WTTUNES_1,  P17C,    35,  1,     18,     18,2,19910614,1737, 25.4983,-134.9967, 4547,    904.6,   4.0669,  34.4270,2,  34.4286,2,     27.9,2,  3.9988,     30.2,2,   114.91,2,    42.71,2,     0.00,2,     3.08,2, -999.000,9, -999.000,9, -999.000,9,-999.0000,9,  -999.00,9,   -999.0,9,  -999.00,9,   2341.3,2,   -999.0,9,  -999.0,-999.0000,-999.000,  -999.0,-999.000
   31WTTUNES_1,  P17C,    35,  1,     19,     19,2,19910614,1737, 25.4983,-134.9967, 4547,   1006.3,   3.7574,  34.4548,2,  34.4573,2,     32.7,2,  3.6832,     33.9,2,   121.72,2,    42.71,2,     0.00,2,     3.07,2, -999.000,9, -999.000,9, -999.000,9,-999.0000,9,  -999.00,9,   -999.0,9,  -999.00,9,   2348.8,2,   2373.6,2,  -999.0,-999.0000,-999.000,  -999.0,-999.000
   31WTTUNES_1,  P17C,    35,  1,     20,     20,2,19910614,1737, 25.4983,-134.9967, 4547,   1213.8,   3.2869,  34.5204,2,  34.5229,2,     49.1,2,  3.1998,     49.8,2,   130.74,2,    42.05,2,     0.00,2,     3.02,2, -999.000,9, -999.000,9, -999.000,9,-999.0000,9,  -999.00,9,   -999.0,9,  -999.00,9,   2353.5,2,   -999.0,9,  -999.0,-999.0000,-999.000,  -999.0,-999.000
   31WTTUNES_1,  P17C,    35,  1,     21,     21,2,19910614,1737, 25.4983,-134.9967, 4547,   1431.1,   2.8596,  34.5544,2,  34.5567,2,     58.0,2,  2.7591,     58.5,2,   140.75,2,    41.72,2,     0.00,2,     2.98,2, -999.000,9, -999.000,9, -999.000,9,-999.0000,9,  -999.00,9,   -999.0,9,  -999.00,9,   2359.7,2,   -999.0,9,  -999.0,-999.0000,-999.000,  -999.0,-999.000
   31WTTUNES_1,  P17C,    35,  1,     22,     22,2,19910614,1737, 25.4983,-134.9967, 4547,   1624.1,   2.5822,  34.5850,2,  34.5878,2,     63.5,2,  2.4690,     63.4,2,   148.15,2,    41.45,2,     0.01,2,     2.96,2, -999.000,9, -999.000,9, -999.000,9,-999.0000,9,  -999.00,9,   -999.0,9,  -999.00,9,   2367.7,2,   -999.0,9,  -999.0,-999.0000,-999.000,  -999.0,-999.000
   31WTTUNES_1,  P17C,    35,  1,     23,     23,2,19910614,1737, 25.4983,-134.9967, 4547,   1814.1,   2.3319,  34.6007,2,  34.6037,2,     73.6,2,  2.2063,     72.9,2,   153.33,2,    40.80,2,     0.01,2,     2.90,2, -999.000,9, -999.000,9, -999.000,9,-999.0000,9,  -999.00,9,   -999.0,9,  -999.00,9,   2364.8,2,   -999.0,9,  -999.0,-999.0000,-999.000,  -999.0,-999.000
   31WTTUNES_1,  P17C,    35,  1,     24,     24,2,19910614,1737, 25.4983,-134.9967, 4547,   2018.0,   2.0841,  34.6179,2,  34.6199,2,     84.9,2,  1.9449,     84.0,2,   159.11,2,    40.16,2,     0.00,2,     2.84,2, -999.000,9, -999.000,9, -999.000,9,-999.0000,9,  -999.00,9,   -999.0,9,  -999.00,9,   2363.4,2,   -999.0,9,  -999.0,-999.0000,-999.000,  -999.0,-999.000
   31WTTUNES_1,  P17C,    35,  1,     25,     25,2,19910614,1737, 25.4983,-134.9967, 4547,   2234.3,   1.8711,  34.6322,2,  34.6362,2,     94.7,2,  1.7168,     94.2,2,   164.69,2,    39.57,2,     0.00,2,     2.78,2, -999.000,9, -999.000,9, -999.000,9,-999.0000,9,  -999.00,9,   -999.0,9,  -999.00,9,   2360.9,2,   2429.0,2,  -999.0,-999.0000,-999.000,  -999.0,-999.000
   31WTTUNES_1,  P17C,    35,  1,     26,     26,2,19910614,1737, 25.4983,-134.9967, 4547,   2434.3,   1.7504,  34.6418,2,  34.6449,2,    102.4,2,  1.5807,    101.7,2,   167.65,2,    38.98,2,     0.00,2,     2.75,2, -999.000,9, -999.000,9, -999.000,9,-999.0000,9,  -999.00,9,   -999.0,9,  -999.00,9,   2358.1,2,   -999.0,9,  -999.0,-999.0000,-999.000,  -999.0,-999.000
   31WTTUNES_1,  P17C,    35,  1,     27,     27,2,19910614,1737, 25.4983,-134.9967, 4547,   2637.9,   1.6465,  34.6511,2,  34.6555,2,    110.5,2,  1.4604,    110.9,2,   169.40,2,    38.45,2,     0.00,2,     2.69,2, -999.000,9, -999.000,9, -999.000,9,-999.0000,9,  -999.00,9,   -999.0,9,  -999.00,9,   2351.3,2,   -999.0,9,  -999.0,-999.0000,-999.000,  -999.0,-999.000
   31WTTUNES_1,  P17C,    35,  1,     28,     28,2,19910614,1737, 25.4983,-134.9967, 4547,   2839.2,   1.5800,  34.6581,2,  34.6605,2,    118.7,2,  1.3768,    117.9,2,   169.15,2,    38.29,2,     0.00,2,     2.65,2, -999.000,9, -999.000,9, -999.000,9,-999.0000,9,  -999.00,9,   -999.0,9,  -999.00,9,   2349.5,2,   -999.0,9,  -999.0,-999.0000,-999.000,  -999.0,-999.000
   31WTTUNES_1,  P17C,    35,  1,     29,     29,2,19910614,1737, 25.4983,-134.9967, 4547,   3043.6,   1.5328,  34.6680,2,  34.6678,2,    125.2,2,  1.3111,    125.0,2,   168.09,2,    37.92,2,     0.00,2,     2.61,2, -999.000,9, -999.000,9, -999.000,9,-999.0000,9,  -999.00,9,   -999.0,9,  -999.00,9,   2346.4,2,   -999.0,9,  -999.0,-999.0000,-999.000,  -999.0,-999.000
   31WTTUNES_1,  P17C,    35,  1,     30,     30,2,19910614,1737, 25.4983,-134.9967, 4547,   3288.8,   1.4995,  34.6744,2,  34.6729,2,    132.3,2,  1.2547,    131.3,2,   166.03,2,    37.49,2,     0.00,2,     2.58,2, -999.000,9, -999.000,9, -999.000,9,-999.0000,9,  -999.00,9,   -999.0,9,  -999.00,9,   2341.4,2,   -999.0,9,  -999.0,-999.0000,-999.000,  -999.0,-999.000
   31WTTUNES_1,  P17C,    35,  1,     31,     31,2,19910614,1737, 25.4983,-134.9967, 4547,   3559.7,   1.4805,  34.6786,2,  34.6783,2,    138.5,2,  1.2088,    137.7,2,   162.97,2,    37.12,2,     0.00,2,     2.55,2, -999.000,9, -999.000,9, -999.000,9,-999.0000,9,  -999.00,9,   -999.0,9,  -999.00,9,   -999.0,9,   2434.9,2,  -999.0,-999.0000,-999.000,  -999.0,-999.000
   31WTTUNES_1,  P17C,    35,  1,     32,     32,2,19910614,1737, 25.4983,-134.9967, 4547,   3802.5,   1.4835,  34.6797,2,  34.6799,2,    141.8,2,  1.1863,    140.9,2,   162.12,2,    36.81,2,     0.00,2,     2.53,2, -999.000,9, -999.000,9, -999.000,9,-999.0000,9,  -999.00,9,   -999.0,9,  -999.00,9,   2335.2,2,   -999.0,9,  -999.0,-999.0000,-999.000,  -999.0,-999.000
   31WTTUNES_1,  P17C,    35,  1,     33,     33,2,19910614,1737, 25.4983,-134.9967, 4547,   4054.1,   1.4958,  34.6820,2,  34.6819,2,    144.2,2,  1.1711,    143.8,2,   160.47,2,    36.65,2,     0.00,2,     2.52,2, -999.000,9, -999.000,9, -999.000,9,-999.0000,9,  -999.00,9,   -999.0,9,  -999.00,9,   2334.9,2,   -999.0,9,  -999.0,-999.0000,-999.000,  -999.0,-999.000
   31WTTUNES_1,  P17C,    35,  1,     34,     34,2,19910614,1737, 25.4983,-134.9967, 4547,   4311.8,   1.5032,  34.6837,2,  34.6843,2,    148.0,2,  1.1496,    147.9,2,   158.21,2,    36.38,2,     0.00,2,     2.49,2, -999.000,9, -999.000,9, -999.000,9,-999.0000,9,  -999.00,9,   -999.0,9,  -999.00,9,   2332.9,2,   -999.0,9,  -999.0,-999.0000,-999.000,  -999.0,-999.000
   31WTTUNES_1,  P17C,    35,  1,     35,     35,2,19910614,1737, 25.4983,-134.9967, 4547,   4580.1,   1.5273,  34.6837,2,  34.6843,2,    149.5,2,  1.1422,    149.0,2,   156.76,2,    36.22,2,     0.00,2,     2.49,2, -999.000,9, -999.000,9, -999.000,9,-999.0000,9,  -999.00,9,   -999.0,9,  -999.00,9,   2329.4,2,   -999.0,9,  -999.0,-999.0000,-999.000,  -999.0,-999.000
   31WTTUNES_1,  P17C,    35,  1,     36,     36,2,19910614,1737, 25.4983,-134.9967, 4547,   4744.6,   1.5447,  34.6860,2,  34.6849,2,   -999.0,9,  1.1397,    149.4,2,   155.92,2,    36.22,2,     0.00,2,     2.49,2, -999.000,9, -999.000,9, -999.000,9,-999.0000,9,  -999.00,9,   -999.0,9,  -999.00,9,   2329.6,2,   2434.3,2,  -999.0,-999.0000,-999.000,  -999.0,-999.000