BOTTLE,20220819CCHSIOAMB
EXPOCODE,SECT_ID,STNNBR,CASTNO,SAMPNO,BTLNBR,BTLNBR_FLAG_W,DATE,TIME,LATITUDE,LONGITUDE,DEPTH,CTDPRS,CTDTMP,CTDSAL,CTDSAL_FLAG_W,SALNTY,SALNTY_FLAG_W,CTDOXY,CTDOXY_FLAG_W,THETA,OXYGEN,OXYGEN_FLAG_W,SILCAT,SILCAT_FLAG_W,NITRAT,NITRAT_FLAG_W,NITRIT,NITRIT_FLAG_W,PHSPHT,PHSPHT_FLAG_W,CFC-11,CFC-11_FLAG_W,CFC-12,CFC-12_FLAG_W,TRITUM,TRITUM_FLAG_W,HELIUM,HELIUM_FLAG_W,DELHE3,DELHE3_FLAG_W,DELC14,DELC14_FLAG_W,DELC13,DELC13_FLAG_W,TCARBN,TCARBN_FLAG_W,ALKALI,ALKALI_FLAG_W,C14ERR,HELIER,DELHER,C13ERR,TRITER
,,,,,,,,,,,,DBAR,ITS-90,PSS-78,,PSS-78,,UMOL/KG,,DEG C,UMOL/KG,,UMOL/KG,,UMOL/KG,,UMOL/KG,,UMOL/KG,,PMOL/KG,,PMOL/KG,,TU,,NMOL/KG,,PERCNT,,/MILLE,,/MILLE,,UMOL/KG,,UMOL/KG,,/MILLE,NMOL/KG,PERCNT,/MILLE,TU
   31WTTUNES_1,  P17C,    23,  1,      1,      1,2,19910610,1617, 31.5317,-135.0017, 4527,      1.2,  17.5528,  34.1950,2,  34.1957,2,   -999.0,9, 17.5526,    245.9,2,     3.49,2,     0.09,2,     0.01,2,     0.17,2, -999.000,9, -999.000,9, -999.000,9,-999.0000,9,  -999.00,9,    111.1,2,     1.60,2,   2012.5,2,   -999.0,9,     5.4,-999.0000,-999.000,  -999.0,-999.000
   31WTTUNES_1,  P17C,    23,  1,      2,      2,2,19910610,1617, 31.5317,-135.0017, 4527,     43.9,  17.4446,  34.2447,2,  34.2620,2,   -999.0,9, 17.4373,    247.8,2,     3.67,2,     0.09,2,     0.01,2,     0.13,2, -999.000,9, -999.000,9, -999.000,9,-999.0000,9,  -999.00,9,   -999.0,9,  -999.00,9,   2008.1,2,   -999.0,9,  -999.0,-999.0000,-999.000,  -999.0,-999.000
   31WTTUNES_1,  P17C,    23,  1,      3,      3,2,19910610,1617, 31.5317,-135.0017, 4527,     80.6,  16.3203,  34.2818,2,  34.2996,2,   -999.0,9, 16.3075,    243.8,2,     3.64,2,     0.08,2,     0.01,2,     0.14,2, -999.000,9, -999.000,9, -999.000,9,-999.0000,9,  -999.00,9,    123.5,2,     1.49,2,   2010.9,2,   2273.7,2,     4.0,-999.0000,-999.000,  -999.0,-999.000
   31WTTUNES_1,  P17C,    23,  1,      4,      4,2,19910610,1617, 31.5317,-135.0017, 4527,    111.7,  16.2692,  34.3946,2,  34.3823,2,   -999.0,9, 16.2515,    236.6,2,     3.82,2,     0.46,2,     0.13,2,     0.17,2, -999.000,9, -999.000,9, -999.000,9,-999.0000,9,  -999.00,9,    124.4,2,     1.38,2,   2017.5,2,   2279.7,2,     7.2,-999.0000,-999.000,  -999.0,-999.000
   31WTTUNES_1,  P17C,    23,  1,      5,      5,2,19910610,1617, 31.5317,-135.0017, 4527,    131.4,  15.7369,  34.3421,2,  34.3085,2,   -999.0,9, 15.7165,    232.0,2,     4.00,2,     1.54,2,     0.13,2,     0.25,2, -999.000,9, -999.000,9, -999.000,9,-999.0000,9,  -999.00,9,    119.7,2,     1.19,2,   2025.0,2,   2252.9,2,     4.3,-999.0000,-999.000,  -999.0,-999.000
   31WTTUNES_1,  P17C,    23,  1,      6,      6,2,19910610,1617, 31.5317,-135.0017, 4527,    181.0,  10.9330,  33.8996,2,  33.9062,2,   -999.0,9, 10.9111,    224.2,2,     8.87,2,     9.84,2,     0.02,2,     0.77,2, -999.000,9, -999.000,9, -999.000,9,-999.0000,9,  -999.00,9,     86.1,2,     0.80,2,   2061.0,2,   2252.0,2,     4.2,-999.0000,-999.000,  -999.0,-999.000
   31WTTUNES_1,  P17C,    23,  1,      7,      7,2,19910610,1617, 31.5317,-135.0017, 4527,    223.3,   9.9479,  33.9299,2,  33.9293,2,   -999.0,9,  9.9224,    223.8,2,    12.91,2,    12.65,2,     0.02,2,     0.97,2, -999.000,9, -999.000,9, -999.000,9,-999.0000,9,  -999.00,9,     95.6,2,     0.68,2,   2076.7,2,   2255.4,2,     7.2,-999.0000,-999.000,  -999.0,-999.000
   31WTTUNES_1,  P17C,    23,  1,      8,      8,2,19910610,1617, 31.5317,-135.0017, 4527,    244.2,   9.6438,  33.9702,2,  33.9737,2,   -999.0,9,  9.6164,    220.2,2,    15.73,2,    14.08,2,     0.02,2,     1.02,2, -999.000,9, -999.000,9, -999.000,9,-999.0000,9,  -999.00,9,     81.9,2,     0.61,2,   2085.8,2,   2260.6,2,     4.0,-999.0000,-999.000,  -999.0,-999.000
   31WTTUNES_1,  P17C,    23,  1,      9,      9,2,19910610,1617, 31.5317,-135.0017, 4527,    275.4,   8.9651,  33.9891,2,  33.9856,2,   -999.0,9,  8.9355,    213.4,2,    20.38,2,    16.53,2,     0.02,2,     1.17,2, -999.000,9, -999.000,9, -999.000,9,-999.0000,9,  -999.00,9,     65.4,2,     0.54,2,   2101.7,2,   2263.2,2,     4.6,-999.0000,-999.000,  -999.0,-999.000
   31WTTUNES_1,  P17C,    23,  1,     10,     10,2,19910610,1617, 31.5317,-135.0017, 4527,    320.8,   8.2638,  34.0154,2,  34.0136,2,   -999.0,9,  8.2309,    192.7,2,    30.93,2,    20.53,2,     0.02,2,     1.44,2, -999.000,9, -999.000,9, -999.000,9,-999.0000,9,  -999.00,9,     39.6,2,     0.38,2,   2131.8,2,   2277.5,2,     4.0,-999.0000,-999.000,  -999.0,-999.000
   31WTTUNES_1,  P17C,    23,  1,     11,     11,2,19910610,1617, 31.5317,-135.0017, 4527,    405.7,   6.8716,  33.9775,2,  33.9763,2,   -999.0,9,  6.8341,    142.8,2,    45.10,2,    27.94,2,     0.02,2,     1.97,2, -999.000,9, -999.000,9, -999.000,9,-999.0000,9,  -999.00,9,    -21.6,6,     0.04,2,   2187.4,2,   2277.3,2,     5.6,-999.0000,-999.000,  -999.0,-999.000
   31WTTUNES_1,  P17C,    23,  1,     12,     12,2,19910610,1617, 31.5317,-135.0017, 4527,    461.2,   6.2465,  33.9819,2,  33.9815,2,   -999.0,9,  6.2059,    112.7,2,    56.86,2,    31.83,2,     0.02,2,     2.24,2, -999.000,9, -999.000,9, -999.000,9,-999.0000,9,  -999.00,9,    -47.8,2,    -0.16,2,   2223.2,2,   2292.4,2,     3.7,-999.0000,-999.000,  -999.0,-999.000
   31WTTUNES_1,  P17C,    23,  1,     13,     13,2,19910610,1617, 31.5317,-135.0017, 4527,    506.2,   5.7212,  34.0041,2,  34.0003,2,   -999.0,9,  5.6784,     89.1,2,    65.97,2,    34.71,2,     0.02,2,     2.46,2, -999.000,9, -999.000,9, -999.000,9,-999.0000,9,  -999.00,9,    -79.8,2,    -0.26,2,   2247.3,2,   -999.0,9,    14.4,-999.0000,-999.000,  -999.0,-999.000
   31WTTUNES_1,  P17C,    23,  1,     14,     14,2,19910610,1617, 31.5317,-135.0017, 4527,    605.4,   4.8894,  34.0837,2,  34.0817,2,   -999.0,9,  4.8416,     44.9,2,    87.46,2,    39.87,2,     0.01,2,     2.87,2, -999.000,9, -999.000,9, -999.000,9,-999.0000,9,  -999.00,9,   -128.7,2,    -0.49,2,   2296.9,2,   -999.0,9,     3.5,-999.0000,-999.000,  -999.0,-999.000
   31WTTUNES_1,  P17C,    23,  1,     15,     15,2,19910610,1617, 31.5317,-135.0017, 4527,    710.7,   4.3317,  34.1981,2,  34.1997,2,   -999.0,9,  4.2780,     18.5,2,   106.71,2,    42.87,2,     0.01,2,     3.05,2, -999.000,9, -999.000,9, -999.000,9,-999.0000,9,  -999.00,9,   -167.7,2,    -0.87,2,   2331.6,2,   -999.0,9,     3.3,-999.0000,-999.000,  -999.0,-999.000
   31WTTUNES_1,  P17C,    23,  1,     16,     16,2,19910610,1617, 31.5317,-135.0017, 4527,    810.3,   4.0536,  34.2951,2,  34.2965,2,   -999.0,9,  3.9934,     11.8,2,   116.85,2,    43.62,2,     0.01,2,     3.12,2, -999.000,9, -999.000,9, -999.000,9,-999.0000,9,  -999.00,9,   -182.1,6,    -1.11,2,   2349.3,2,   -999.0,9,     4.0,-999.0000,-999.000,  -999.0,-999.000
   31WTTUNES_1,  P17C,    23,  1,     17,     17,2,19910610,1617, 31.5317,-135.0017, 4527,    905.2,   3.8173,  34.3703,2,  34.3683,2,   -999.0,9,  3.7509,     13.5,2,   126.34,2,    43.94,2,     0.01,2,     3.14,2, -999.000,9, -999.000,9, -999.000,9,-999.0000,9,  -999.00,9,   -999.0,9,  -999.00,9,   2358.8,2,   -999.0,9,  -999.0,-999.0000,-999.000,  -999.0,-999.000
   31WTTUNES_1,  P17C,    23,  1,     18,     18,2,19910610,1617, 31.5317,-135.0017, 4527,   1002.7,   3.6465,  34.4300,2,  34.4273,2,   -999.0,9,  3.5735,     19.3,2,   128.93,2,    43.66,2,     0.01,2,     3.12,2, -999.000,9, -999.000,9, -999.000,9,-999.0000,9,  -999.00,9,   -216.8,2,    -0.49,3,   2362.8,2,   -999.0,9,     5.7,-999.0000,-999.000,  -999.0,-999.000
   31WTTUNES_1,  P17C,    23,  1,     19,     19,2,19910610,1617, 31.5317,-135.0017, 4527,   1210.1,   3.2278,  34.5033,2,  34.5016,2,   -999.0,9,  3.1415,     36.1,2,   136.81,2,    43.13,2,     0.01,2,     3.05,2, -999.000,9, -999.000,9, -999.000,9,-999.0000,9,  -999.00,9,   -999.0,9,  -999.00,9,   2368.1,2,   -999.0,9,  -999.0,-999.0000,-999.000,  -999.0,-999.000
   31WTTUNES_1,  P17C,    23,  1,     20,     20,2,19910610,1617, 31.5317,-135.0017, 4527,   1416.7,   2.8451,  34.5493,2,  34.5464,2,   -999.0,9,  2.7459,     49.9,2,   145.27,2,    42.52,2,     0.01,2,     2.99,2, -999.000,9, -999.000,9, -999.000,9,-999.0000,9,  -999.00,9,   -999.0,9,  -999.00,9,   2366.9,2,   -999.0,9,  -999.0,-999.0000,-999.000,  -999.0,-999.000
   31WTTUNES_1,  P17C,    23,  1,     21,     21,2,19910610,1617, 31.5317,-135.0017, 4527,   1611.5,   2.5395,  34.5746,2,  34.5717,2,   -999.0,9,  2.4280,     57.1,2,   153.52,2,    42.02,2,     0.01,2,     2.95,2, -999.000,9, -999.000,9, -999.000,9,-999.0000,9,  -999.00,9,   -999.0,9,  -999.00,9,   2369.2,2,   -999.0,9,  -999.0,-999.0000,-999.000,  -999.0,-999.000
   31WTTUNES_1,  P17C,    23,  1,     22,     22,2,19910610,1617, 31.5317,-135.0017, 4527,   1814.7,   2.2501,  34.5944,2,  34.5918,2,   -999.0,9,  2.1256,     65.7,2,   162.39,2,    41.52,2,     0.01,2,     2.93,2, -999.000,9, -999.000,9, -999.000,9,-999.0000,9,  -999.00,9,   -999.0,9,  -999.00,9,   2369.6,2,   -999.0,9,  -999.0,-999.0000,-999.000,  -999.0,-999.000
   31WTTUNES_1,  P17C,    23,  1,     23,     23,2,19910610,1617, 31.5317,-135.0017, 4527,   2023.0,   2.0317,  34.6111,2,  34.6089,2,   -999.0,9,  1.8929,     75.6,2,   167.40,2,    40.97,2,     0.01,2,     2.87,2, -999.000,9, -999.000,9, -999.000,9,-999.0000,9,  -999.00,9,   -999.0,9,  -999.00,9,   2370.6,2,   -999.0,9,  -999.0,-999.0000,-999.000,  -999.0,-999.000
   31WTTUNES_1,  P17C,    23,  1,     24,     24,2,19910610,1617, 31.5317,-135.0017, 4527,   2223.9,   1.8776,  34.6288,2,  34.6271,2,   -999.0,9,  1.7241,     85.7,2,   171.80,2,    40.25,2,     0.01,2,     2.82,2, -999.000,9, -999.000,9, -999.000,9,-999.0000,9,  -999.00,9,   -999.0,9,  -999.00,9,   2368.3,2,   -999.0,9,  -999.0,-999.0000,-999.000,  -999.0,-999.000
   31WTTUNES_1,  P17C,    23,  1,     25,     25,2,19910610,1617, 31.5317,-135.0017, 4527,   2431.0,   1.7692,  34.6417,2,  34.6394,2,   -999.0,9,  1.5994,     97.1,2,   172.15,2,    39.60,2,     0.01,2,     2.75,2, -999.000,9, -999.000,9, -999.000,9,-999.0000,9,  -999.00,9,   -999.0,9,  -999.00,9,   2365.8,2,   -999.0,9,  -999.0,-999.0000,-999.000,  -999.0,-999.000
   31WTTUNES_1,  P17C,    23,  1,     26,     26,2,19910610,1617, 31.5317,-135.0017, 4527,   2633.5,   1.6891,  34.6488,2,  34.6488,2,   -999.0,9,  1.5026,    103.2,2,   171.70,2,    39.17,2,     0.01,2,     2.74,2, -999.000,9, -999.000,9, -999.000,9,-999.0000,9,  -999.00,9,   -999.0,9,  -999.00,9,   2361.8,2,   -999.0,9,  -999.0,-999.0000,-999.000,  -999.0,-999.000
   31WTTUNES_1,  P17C,    23,  1,     27,     27,2,19910610,1617, 31.5317,-135.0017, 4527,   2838.9,   1.6092,  34.6581,2,  34.6564,2,   -999.0,9,  1.4054,    110.4,2,   173.87,2,    38.68,2,     0.01,2,     2.68,2, -999.000,9, -999.000,9, -999.000,9,-999.0000,9,  -999.00,9,   -999.0,9,  -999.00,9,   2357.7,2,   -999.0,9,  -999.0,-999.0000,-999.000,  -999.0,-999.000
   31WTTUNES_1,  P17C,    23,  1,     28,     28,2,19910610,1617, 31.5317,-135.0017, 4527,   3044.1,   1.5524,  34.6638,2,  34.6630,2,   -999.0,9,  1.3303,    118.6,2,   173.01,2,    38.19,2,     0.01,2,     2.67,2, -999.000,9, -999.000,9, -999.000,9,-999.0000,9,  -999.00,9,   -999.0,9,  -999.00,9,   2353.5,2,   -999.0,9,  -999.0,-999.0000,-999.000,  -999.0,-999.000
   31WTTUNES_1,  P17C,    23,  1,     29,     29,2,19910610,1617, 31.5317,-135.0017, 4527,   3242.8,   1.5123,  34.6685,2,  34.6683,2,   -999.0,9,  1.2717,    125.0,2,   171.44,2,    38.08,2,     0.00,2,     2.63,2, -999.000,9, -999.000,9, -999.000,9,-999.0000,9,  -999.00,9,   -999.0,9,  -999.00,9,   2347.4,2,   -999.0,9,  -999.0,-999.0000,-999.000,  -999.0,-999.000
   31WTTUNES_1,  P17C,    23,  1,     30,     30,2,19910610,1617, 31.5317,-135.0017, 4527,   3451.1,   1.4861,  34.6725,2,  34.6725,2,   -999.0,9,  1.2253,    131.6,2,   168.81,2,    37.59,2,     0.00,2,     2.60,2, -999.000,9, -999.000,9, -999.000,9,-999.0000,9,  -999.00,9,   -999.0,9,  -999.00,9,   2341.6,2,   -999.0,9,  -999.0,-999.0000,-999.000,  -999.0,-999.000
   31WTTUNES_1,  P17C,    23,  1,     31,     31,4,19910610,1617, 31.5317,-135.0017, 4527,   3451.1,   1.4861,  34.6725,2,  34.6727,2,   -999.0,9,  1.2253,    131.6,2,   168.51,2,    37.50,2,     0.00,2,     2.60,2, -999.000,9, -999.000,9, -999.000,9,-999.0000,9,  -999.00,9,   -999.0,9,  -999.00,9,   2342.8,2,   -999.0,9,  -999.0,-999.0000,-999.000,  -999.0,-999.000
   31WTTUNES_1,  P17C,    23,  1,     32,     32,2,19910610,1617, 31.5317,-135.0017, 4527,   3857.3,   1.4725,  34.6804,2,  34.6785,2,   -999.0,9,  1.1698,    141.5,2,   164.22,2,    36.86,2,     0.00,2,     2.54,2, -999.000,9, -999.000,9, -999.000,9,-999.0000,9,  -999.00,9,   -999.0,9,  -999.00,9,   2335.5,2,   -999.0,9,  -999.0,-999.0000,-999.000,  -999.0,-999.000
   31WTTUNES_1,  P17C,    23,  1,     33,     33,2,19910610,1617, 31.5317,-135.0017, 4527,   4067.3,   1.4862,  34.6810,2,  34.6799,2,   -999.0,9,  1.1604,    143.2,2,   163.57,2,    36.69,2,     0.00,2,     2.53,2, -999.000,9, -999.000,9, -999.000,9,-999.0000,9,  -999.00,9,   -999.0,9,  -999.00,9,   2333.3,2,   -999.0,9,  -999.0,-999.0000,-999.000,  -999.0,-999.000
   31WTTUNES_1,  P17C,    23,  1,     34,     34,2,19910610,1617, 31.5317,-135.0017, 4527,   4067.3,   1.4862,  34.6810,2,  34.6794,2,   -999.0,9,  1.1604,    143.1,2,   163.52,2,    36.69,2,     0.00,2,     2.53,2, -999.000,9, -999.000,9, -999.000,9,-999.0000,9,  -999.00,9,   -999.0,9,  -999.00,9,   2334.9,2,   -999.0,9,  -999.0,-999.0000,-999.000,  -999.0,-999.000
   31WTTUNES_1,  P17C,    23,  1,     35,     35,2,19910610,1617, 31.5317,-135.0017, 4527,   4465.6,   1.5245,  34.6825,2,  34.6807,2,   -999.0,9,  1.1527,    147.0,2,   162.46,2,    36.57,2,     0.00,2,     2.52,2, -999.000,9, -999.000,9, -999.000,9,-999.0000,9,  -999.00,9,   -999.0,9,  -999.00,9,   2335.2,2,   -999.0,9,  -999.0,-999.0000,-999.000,  -999.0,-999.000
   31WTTUNES_1,  P17C,    23,  1,     36,     36,2,19910610,1617, 31.5317,-135.0017, 4527,   4633.9,   1.5452,  34.6829,2,  34.6813,2,   -999.0,9,  1.1532,    146.7,2,   162.21,2,    36.52,2,     0.00,2,     2.53,2, -999.000,9, -999.000,9, -999.000,9,-999.0000,9,  -999.00,9,   -999.0,9,  -999.00,9,   2334.5,2,   -999.0,9,  -999.0,-999.0000,-999.000,  -999.0,-999.000