BOTTLE,20220819CCHSIOAMB
EXPOCODE,SECT_ID,STNNBR,CASTNO,SAMPNO,BTLNBR,BTLNBR_FLAG_W,DATE,TIME,LATITUDE,LONGITUDE,DEPTH,CTDPRS,CTDTMP,CTDSAL,CTDSAL_FLAG_W,SALNTY,SALNTY_FLAG_W,CTDOXY,CTDOXY_FLAG_W,THETA,OXYGEN,OXYGEN_FLAG_W,SILCAT,SILCAT_FLAG_W,NITRAT,NITRAT_FLAG_W,NITRIT,NITRIT_FLAG_W,PHSPHT,PHSPHT_FLAG_W,CFC-11,CFC-11_FLAG_W,CFC-12,CFC-12_FLAG_W,TRITUM,TRITUM_FLAG_W,HELIUM,HELIUM_FLAG_W,DELHE3,DELHE3_FLAG_W,DELC14,DELC14_FLAG_W,DELC13,DELC13_FLAG_W,TCARBN,TCARBN_FLAG_W,ALKALI,ALKALI_FLAG_W,C14ERR,HELIER,DELHER,C13ERR,TRITER
,,,,,,,,,,,,DBAR,ITS-90,PSS-78,,PSS-78,,UMOL/KG,,DEG C,UMOL/KG,,UMOL/KG,,UMOL/KG,,UMOL/KG,,UMOL/KG,,PMOL/KG,,PMOL/KG,,TU,,NMOL/KG,,PERCNT,,/MILLE,,/MILLE,,UMOL/KG,,UMOL/KG,,/MILLE,NMOL/KG,PERCNT,/MILLE,TU
   31WTTUNES_1,  P17C,    90,  1,      2,      2,4,19910630,0620,  1.3350,-134.9983, 4469,      0.2,  27.4084,  34.8736,2,  34.8782,2,    197.9,3, 27.4084,    201.1,2,     3.47,2,     3.19,2,     0.37,2,     0.44,2,    1.651,2,    0.918,2,    1.372,2,   1.7480,2,    -0.87,2,   -999.0,9,  -999.00,9,   -999.0,9,   -999.0,9,  -999.0,  0.0080,   0.150,  -999.0,   0.012
   31WTTUNES_1,  P17C,    90,  1,      1,      1,2,19910630,0620,  1.3350,-134.9983, 4469,      0.2,  27.4112,  34.8734,2,  34.8782,2,    197.9,3, 27.4112,    201.7,2,     3.47,2,     3.19,2,     0.37,2,     0.42,2,    1.649,2,    0.911,2, -999.000,9,-999.0000,9,  -999.00,9,   -999.0,9,  -999.00,9,   -999.0,9,   -999.0,9,  -999.0,-999.0000,-999.000,  -999.0,-999.000
   31WTTUNES_1,  P17C,    90,  1,      3,      3,2,19910630,0620,  1.3350,-134.9983, 4469,     51.3,  27.0649,  34.9342,2,  34.9413,2,    190.2,2, 27.0531,    187.4,2,     4.05,2,     3.99,2,     0.61,2,     0.49,2,    1.629,2,    0.913,2,    1.391,2,   1.7410,2,    -0.43,2,   -999.0,9,  -999.00,9,   -999.0,9,   -999.0,9,  -999.0,  0.0080,   0.150,  -999.0,   0.012
   31WTTUNES_1,  P17C,    90,  1,      4,      4,2,19910630,0620,  1.3350,-134.9983, 4469,     77.2,  25.0228,  34.9042,2,  34.8876,2,    161.7,2, 25.0061,    152.1,2,     5.38,2,     7.27,2,     0.98,2,     0.69,2,    1.584,2,    0.868,2,    1.506,2,   1.7500,2,     1.07,2,   -999.0,9,  -999.00,9,   -999.0,9,   -999.0,9,  -999.0,  0.0080,   0.150,  -999.0,   0.012
   31WTTUNES_1,  P17C,    90,  1,      5,      5,2,19910630,0620,  1.3350,-134.9983, 4469,    100.6,  22.3634,  34.8496,2,  34.8401,2,    138.6,2, 22.3433,    132.7,2,     8.22,2,    10.25,2,     0.32,2,     0.84,2,    1.506,2,    0.833,2,    1.698,2,   1.7650,2,     3.32,2,   -999.0,9,  -999.00,9,   -999.0,9,   -999.0,9,  -999.0,  0.0080,   0.150,  -999.0,   0.013
   31WTTUNES_1,  P17C,    90,  1,      6,      6,2,19910630,0620,  1.3350,-134.9983, 4469,    122.0,  18.0848,  34.7679,2,  34.7566,2,    115.4,2, 18.0638,    116.6,2,    14.28,2,    14.98,2,     0.04,2,     1.11,2,    1.288,2,    0.695,2,    1.661,2,   1.8010,2,     6.34,2,   -999.0,9,  -999.00,9,   -999.0,9,   -999.0,9,  -999.0,  0.0080,   0.150,  -999.0,   0.013
   31WTTUNES_1,  P17C,    90,  1,      7,      7,2,19910630,0620,  1.3350,-134.9983, 4469,    152.0,  13.7637,  34.7092,2,  34.7011,2,    113.3,2, 13.7420,    109.4,2,    21.66,2,    20.59,2,     0.02,2,     1.47,2, -999.000,5, -999.000,5,    1.174,2,   1.7950,2,     7.94,2,   -999.0,9,  -999.00,9,   -999.0,9,   -999.0,9,  -999.0,  0.0080,   0.150,  -999.0,   0.011
   31WTTUNES_1,  P17C,    90,  1,      8,      8,2,19910630,0620,  1.3350,-134.9983, 4469,    176.2,  12.3713,  34.7541,2,  34.7581,2,     97.9,2, 12.3479,     93.8,2,    23.93,2,    24.27,2,     0.01,2,     1.72,2, -999.000,5, -999.000,5,    0.736,2,   1.8140,2,     6.71,2,   -999.0,9,  -999.00,9,   -999.0,9,   -999.0,9,  -999.0,  0.0090,   0.150,  -999.0,   0.008
   31WTTUNES_1,  P17C,    90,  1,      9,      9,2,19910630,0620,  1.3350,-134.9983, 4469,    202.3,  12.1683,  34.8327,2,  34.8357,2,     73.6,2, 12.1417,     71.3,2,    24.13,2,    26.86,2,     0.01,2,     1.90,2,    0.429,2,    0.234,2,    0.512,2,   1.8030,2,     5.56,2,   -999.0,9,  -999.00,9,   -999.0,9,   -999.0,9,  -999.0,  0.0080,   0.150,  -999.0,   0.007
   31WTTUNES_1,  P17C,    90,  1,     10,     10,2,19910630,0620,  1.3350,-134.9983, 4469,    222.1,  12.0623,  34.8442,2,  34.8452,2,     63.4,2, 12.0332,     60.9,2,    25.27,2,    28.31,2,     0.01,2,     1.99,2,    0.361,2,    0.198,2,    0.439,2,   1.8460,2,     5.32,2,   -999.0,9,  -999.00,9,   -999.0,9,   -999.0,9,  -999.0,  0.0090,   0.150,  -999.0,   0.007
   31WTTUNES_1,  P17C,    90,  1,     11,     11,2,19910630,0620,  1.3350,-134.9983, 4469,    262.2,  11.7519,  34.8293,2,  34.8302,2,     37.7,2, 11.7181,     38.9,2,    27.73,2,    30.87,2,     0.00,2,     2.16,2,    0.255,2,    0.148,2,    0.372,2,   1.8590,2,     5.38,2,   -999.0,9,  -999.00,9,   -999.0,9,   -999.0,9,  -999.0,  0.0090,   0.150,  -999.0,   0.006
   31WTTUNES_1,  P17C,    90,  1,     12,     12,2,19910630,0620,  1.3350,-134.9983, 4469,    301.8,  11.5146,  34.8127,2,  34.8131,2,     38.4,2, 11.4761,     38.9,2,    28.30,2,    31.32,2,     0.00,2,     2.17,2,    0.231,2,    0.129,2,    0.333,2,   1.8260,2,     5.66,2,   -999.0,9,  -999.00,9,   -999.0,9,   -999.0,9,  -999.0,  0.0090,   0.150,  -999.0,   0.006
   31WTTUNES_1,  P17C,    90,  1,     13,     13,2,19910630,0620,  1.3350,-134.9983, 4469,    349.4,  10.7567,  34.7588,2,  34.7613,2,     33.9,2, 10.7141,     28.0,2,    33.04,2,    33.45,2,     0.00,2,     2.34,2,    0.146,2,    0.083,2,    0.255,2,   1.8240,2,     6.08,2,   -999.0,9,  -999.00,9,   -999.0,9,   -999.0,9,  -999.0,  0.0090,   0.150,  -999.0,   0.007
   31WTTUNES_1,  P17C,    90,  1,     14,     14,2,19910630,0620,  1.3350,-134.9983, 4469,    373.7,  10.1710,  34.7177,2,  34.7224,2,     58.3,2, 10.1269,     44.7,2,    33.42,2,    32.95,2,     0.00,2,     2.30,2,    0.136,2,    0.082,2,    0.233,2,   1.8490,2,     5.84,2,   -999.0,9,  -999.00,9,   -999.0,9,   -999.0,9,  -999.0,  0.0090,   0.150,  -999.0,   0.006
   31WTTUNES_1,  P17C,    90,  1,     15,     15,2,19910630,0620,  1.3350,-134.9983, 4469,    404.5,   9.9776,  34.7233,2,  34.7239,2,     20.9,2,  9.9304,     20.9,2,    35.88,2,    35.76,2,     0.00,2,     2.48,2,    0.075,2,    0.050,2,    0.141,2,   1.8330,2,     5.73,2,   -999.0,9,  -999.00,9,   -999.0,9,   -999.0,9,  -999.0,  0.0090,   0.150,  -999.0,   0.004
   31WTTUNES_1,  P17C,    90,  1,     16,     16,2,19910630,0620,  1.3350,-134.9983, 4469,    507.3,   8.2784,  34.6259,2,  34.6266,2,     44.4,2,  8.2252,     45.3,2,    42.88,2,    36.94,2,     0.00,2,     2.57,2,    0.025,2,    0.022,2,    0.052,2,   1.8560,2,     6.82,2,   -999.0,9,  -999.00,9,   -999.0,9,   -999.0,9,  -999.0,  0.0090,   0.150,  -999.0,   0.003
   31WTTUNES_1,  P17C,    90,  1,     17,     17,2,19910630,0620,  1.3350,-134.9983, 4469,    605.1,   7.0055,  34.5729,2,  34.5756,2,     61.3,2,  6.9476,     64.3,2,    50.45,2,    37.57,2,     0.00,2,     2.64,2,    0.010,2,    0.014,2,    0.014,2,   1.8950,2,     8.74,2,   -999.0,9,  -999.00,9,   -999.0,9,   -999.0,9,  -999.0,  0.0090,   0.150,  -999.0,   0.002
   31WTTUNES_1,  P17C,    90,  1,     18,     18,2,19910630,0620,  1.3350,-134.9983, 4469,    707.6,   6.4497,  34.5609,2,  34.5637,2,     61.5,2,  6.3844,     62.1,2,    57.82,2,    39.08,2,     0.00,2,     2.75,2,    0.001,2,    0.004,2, -999.000,9,-999.0000,9,  -999.00,9,   -999.0,9,  -999.00,9,   -999.0,9,   -999.0,9,  -999.0,-999.0000,-999.000,  -999.0,-999.000
   31WTTUNES_1,  P17C,    90,  1,     19,     19,2,19910630,0620,  1.3350,-134.9983, 4469,    908.0,   4.9973,  34.5467,2,  34.5490,2,     78.2,2,  4.9222,     79.8,2,    77.29,2,    39.19,2,     0.00,2,     2.78,2,   -0.002,2,    0.005,2,    0.006,2,-999.0000,9,  -999.00,9,   -999.0,9,  -999.00,9,   -999.0,9,   -999.0,9,  -999.0,-999.0000,-999.000,  -999.0,   0.002
   31WTTUNES_1,  P17C,    90,  1,     20,     20,2,19910630,0620,  1.3350,-134.9983, 4469,   1128.5,   4.0889,  34.5680,2,  34.5694,2,     82.1,2,  4.0016,     79.4,2,    98.83,2,    40.03,2,     0.00,2,     2.83,2,    0.000,2,    0.005,2, -999.000,9,-999.0000,9,  -999.00,9,   -999.0,9,  -999.00,9,   -999.0,9,   -999.0,9,  -999.0,-999.0000,-999.000,  -999.0,-999.000
   31WTTUNES_1,  P17C,    90,  1,     21,     21,2,19910630,0620,  1.3350,-134.9983, 4469,   1313.8,   3.3820,  34.5906,2,  34.5929,2,     79.8,2,  3.2855,     80.1,2,   116.59,2,    40.35,2,     0.00,2,     2.87,2,   -0.002,2,    0.007,2, -999.000,9,-999.0000,9,  -999.00,9,   -999.0,9,  -999.00,9,   -999.0,9,   -999.0,9,  -999.0,-999.0000,-999.000,  -999.0,-999.000
   31WTTUNES_1,  P17C,    90,  1,     22,     22,2,19910630,0620,  1.3350,-134.9983, 4469,   1550.5,   2.8841,  34.6119,2,  34.6132,2,     88.5,2,  2.7733,     88.7,2,   128.31,2,    39.93,2,     0.00,2,     2.83,2, -999.000,9, -999.000,9, -999.000,9,-999.0000,9,  -999.00,9,   -999.0,9,  -999.00,9,   -999.0,9,   -999.0,9,  -999.0,-999.0000,-999.000,  -999.0,-999.000
   31WTTUNES_1,  P17C,    90,  1,     23,     23,2,19910630,0620,  1.3350,-134.9983, 4469,   1796.7,   2.4692,  34.6298,2,  34.6267,2,    100.2,2,  2.3431,     99.9,2,   136.05,2,    39.08,2,     0.00,2,     2.75,2, -999.000,9, -999.000,9, -999.000,9,-999.0000,9,  -999.00,9,   -999.0,9,  -999.00,9,   -999.0,9,   -999.0,9,  -999.0,-999.0000,-999.000,  -999.0,-999.000
   31WTTUNES_1,  P17C,    90,  1,     24,     24,2,19910630,0620,  1.3350,-134.9983, 4469,   2027.5,   2.2055,  34.6429,2,  34.6445,2,    106.6,2,  2.0636,    106.1,2,   143.98,2,    38.98,2,     0.00,2,     2.71,2, -999.000,9, -999.000,9, -999.000,9,-999.0000,9,  -999.00,9,   -999.0,9,  -999.00,9,   -999.0,9,   -999.0,9,  -999.0,-999.0000,-999.000,  -999.0,-999.000
   31WTTUNES_1,  P17C,    90,  1,     25,     25,2,19910630,0620,  1.3350,-134.9983, 4469,   2207.2,   1.9923,  34.6568,2,  34.6567,2,    113.1,2,  1.8382,    112.3,2,   148.70,2,    38.50,2,     0.00,2,     2.66,2, -999.000,9, -999.000,9, -999.000,9,-999.0000,9,  -999.00,9,   -999.0,9,  -999.00,9,   -999.0,9,   -999.0,9,  -999.0,-999.0000,-999.000,  -999.0,-999.000
   31WTTUNES_1,  P17C,    90,  1,     26,     26,2,19910630,0620,  1.3350,-134.9983, 4469,   2365.1,   1.8486,  34.6629,2,  34.6636,2,    121.5,2,  1.6831,    121.4,2,   149.27,2,    37.93,2,     0.00,2,     2.62,2, -999.000,9, -999.000,9, -999.000,9,-999.0000,9,  -999.00,9,   -999.0,9,  -999.00,9,   -999.0,9,   -999.0,9,  -999.0,-999.0000,-999.000,  -999.0,-999.000
   31WTTUNES_1,  P17C,    90,  1,     27,     27,2,19910630,0620,  1.3350,-134.9983, 4469,   2533.9,   1.7795,  34.6695,2,  34.6683,2,    124.5,2,  1.6002,    125.5,2,   149.65,2,    37.51,2,     0.00,2,     2.61,2, -999.000,9, -999.000,9, -999.000,9,-999.0000,9,  -999.00,9,   -999.0,9,  -999.00,9,   -999.0,9,   -999.0,9,  -999.0,-999.0000,-999.000,  -999.0,-999.000
   31WTTUNES_1,  P17C,    90,  1,     28,     28,2,19910630,0620,  1.3350,-134.9983, 4469,   2705.4,   1.7123,  34.6720,2,  34.6722,2,    130.3,2,  1.5186,    131.0,2,   149.27,2,    37.10,2,     0.00,2,     2.57,2, -999.000,9, -999.000,9, -999.000,9,-999.0000,9,  -999.00,9,   -999.0,9,  -999.00,9,   -999.0,9,   -999.0,9,  -999.0,-999.0000,-999.000,  -999.0,-999.000
   31WTTUNES_1,  P17C,    90,  1,     29,     29,2,19910630,0620,  1.3350,-134.9983, 4469,   2874.4,   1.6891,  34.6741,2,  34.6733,2,    134.1,2,  1.4801,    133.4,2,   149.46,2,    37.00,2,     0.00,2,     2.56,2, -999.000,9, -999.000,9, -999.000,9,-999.0000,9,  -999.00,9,   -999.0,9,  -999.00,9,   -999.0,9,   -999.0,9,  -999.0,-999.0000,-999.000,  -999.0,-999.000
   31WTTUNES_1,  P17C,    90,  1,     30,     30,2,19910630,0620,  1.3350,-134.9983, 4469,   3043.5,   1.6522,  34.6758,2,  34.6757,2,    136.7,2,  1.4279,    136.4,2,   148.89,2,    36.89,2,     0.00,2,     2.53,2, -999.000,9, -999.000,9, -999.000,9,-999.0000,9,  -999.00,9,   -999.0,9,  -999.00,9,   -999.0,9,   -999.0,9,  -999.0,-999.0000,-999.000,  -999.0,-999.000
   31WTTUNES_1,  P17C,    90,  1,     31,     31,2,19910630,0620,  1.3350,-134.9983, 4469,   3300.0,   1.5568,  34.6833,2,  34.6815,2,    144.2,2,  1.3094,    144.4,2,   148.89,2,    36.38,2,     0.00,2,     2.48,2, -999.000,9, -999.000,9, -999.000,9,-999.0000,9,  -999.00,9,   -999.0,9,  -999.00,9,   -999.0,9,   -999.0,9,  -999.0,-999.0000,-999.000,  -999.0,-999.000
   31WTTUNES_1,  P17C,    90,  1,     32,     32,2,19910630,0620,  1.3350,-134.9983, 4469,   3547.0,   1.4604,  34.6894,2,  34.6892,2,    151.4,2,  1.1904,    151.9,2,   148.70,2,    35.91,2,     0.00,2,     2.44,2, -999.000,9, -999.000,9, -999.000,9,-999.0000,9,  -999.00,9,   -999.0,9,  -999.00,9,   -999.0,9,   -999.0,9,  -999.0,-999.0000,-999.000,  -999.0,-999.000
   31WTTUNES_1,  P17C,    90,  1,     33,     33,2,19910630,0620,  1.3350,-134.9983, 4469,   3802.4,   1.4245,  34.6914,2,  34.6923,2,    157.0,2,  1.1288,    156.8,2,   147.57,2,    35.45,2,     0.00,2,     2.40,2, -999.000,9, -999.000,9, -999.000,9,-999.0000,9,  -999.00,9,   -999.0,9,  -999.00,9,   -999.0,9,   -999.0,9,  -999.0,-999.0000,-999.000,  -999.0,-999.000
   31WTTUNES_1,  P17C,    90,  1,     34,     34,2,19910630,0620,  1.3350,-134.9983, 4469,   4058.9,   1.4296,  34.6912,2,  34.6931,2,    159.5,2,  1.1062,    159.4,2,   146.81,2,    35.40,2,     0.00,2,     2.40,2, -999.000,9, -999.000,9, -999.000,9,-999.0000,9,  -999.00,9,   -999.0,9,  -999.00,9,   -999.0,9,   -999.0,9,  -999.0,-999.0000,-999.000,  -999.0,-999.000
   31WTTUNES_1,  P17C,    90,  1,     35,     35,2,19910630,0620,  1.3350,-134.9983, 4469,   4320.3,   1.4425,  34.6917,2,  34.6931,2,    160.5,2,  1.0898,    160.8,2,   145.30,2,    35.40,2,     0.00,2,     2.40,2, -999.000,9, -999.000,9, -999.000,9,-999.0000,9,  -999.00,9,   -999.0,9,  -999.00,9,   -999.0,9,   -999.0,9,  -999.0,-999.0000,-999.000,  -999.0,-999.000
   31WTTUNES_1,  P17C,    90,  1,     36,     36,2,19910630,0620,  1.3350,-134.9983, 4469,   4532.9,   1.4635,  34.6929,2,  34.6936,2,   -999.0,9,  1.0859,    160.6,2,   145.30,2,    35.40,2,     0.00,2,     2.40,2, -999.000,9, -999.000,9, -999.000,9,-999.0000,9,  -999.00,9,   -999.0,9,  -999.00,9,   -999.0,9,   -999.0,9,  -999.0,-999.0000,-999.000,  -999.0,-999.000
   31WTTUNES_1,  P17C,    91,  1,     61,     61,2,19910630,1050,  1.1650,-134.9983, 4378,      2.6,  27.3465,  34.9114,2,  34.9137,2,   -999.0,9, 27.3459,   -999.0,9,  -999.00,9,  -999.00,9,  -999.00,9,  -999.00,9, -999.000,9, -999.000,9, -999.000,9,-999.0000,9,  -999.00,9,   -999.0,9,  -999.00,9,   -999.0,9,   -999.0,9,  -999.0,-999.0000,-999.000,  -999.0,-999.000
   31WTTUNES_1,  P17C,    91,  1,     62,     62,2,19910630,1050,  1.1650,-134.9983, 4378,     25.3,  27.3455,  34.9181,2,  34.9196,2,   -999.0,9, 27.3396,   -999.0,9,  -999.00,9,  -999.00,9,  -999.00,9,  -999.00,9, -999.000,9, -999.000,9, -999.000,9,-999.0000,9,  -999.00,9,   -999.0,9,  -999.00,9,   -999.0,9,   -999.0,9,  -999.0,-999.0000,-999.000,  -999.0,-999.000
   31WTTUNES_1,  P17C,    91,  1,     63,     63,2,19910630,1050,  1.1650,-134.9983, 4378,    217.1,  12.0800,  34.8527,2,  34.8513,2,   -999.0,9, 12.0516,   -999.0,9,  -999.00,9,  -999.00,9,  -999.00,9,  -999.00,9, -999.000,9, -999.000,9, -999.000,9,-999.0000,9,  -999.00,9,   -999.0,9,  -999.00,9,   -999.0,9,   -999.0,9,  -999.0,-999.0000,-999.000,  -999.0,-999.000
   31WTTUNES_1,  P17C,    91,  1,     64,     64,2,19910630,1050,  1.1650,-134.9983, 4378,    711.3,   6.4649,  34.5655,2,  34.5647,2,   -999.0,9,  6.3992,   -999.0,9,  -999.00,9,  -999.00,9,  -999.00,9,  -999.00,9, -999.000,9, -999.000,9, -999.000,9,-999.0000,9,  -999.00,9,   -999.0,9,  -999.00,9,   -999.0,9,   -999.0,9,  -999.0,-999.0000,-999.000,  -999.0,-999.000
   31WTTUNES_1,  P17C,    91,  1,     65,     65,2,19910630,1050,  1.1650,-134.9983, 4378,    815.3,   5.7295,  34.5504,2,  34.5517,2,   -999.0,9,  5.6581,   -999.0,9,  -999.00,9,  -999.00,9,  -999.00,9,  -999.00,9, -999.000,9, -999.000,9, -999.000,9,-999.0000,9,  -999.00,9,   -999.0,9,  -999.00,9,   -999.0,9,   -999.0,9,  -999.0,-999.0000,-999.000,  -999.0,-999.000
   31WTTUNES_1,  P17C,    91,  1,     66,     66,2,19910630,1050,  1.1650,-134.9983, 4378,    917.4,   5.0800,  34.5481,2,  34.5491,2,   -999.0,9,  5.0035,   -999.0,9,  -999.00,9,  -999.00,9,  -999.00,9,  -999.00,9, -999.000,9, -999.000,9, -999.000,9,-999.0000,9,  -999.00,9,   -999.0,9,  -999.00,9,   -999.0,9,   -999.0,9,  -999.0,-999.0000,-999.000,  -999.0,-999.000
   31WTTUNES_1,  P17C,    91,  1,     67,     67,9,19910630,1050,  1.1650,-134.9983, 4378,   2026.9,   2.2054,  34.6437,2,-999.0000,9,   -999.0,9,  2.0635,   -999.0,9,  -999.00,9,  -999.00,9,  -999.00,9,  -999.00,9, -999.000,9, -999.000,9, -999.000,9,-999.0000,9,  -999.00,9,   -999.0,9,  -999.00,9,   -999.0,9,   -999.0,9,  -999.0,-999.0000,-999.000,  -999.0,-999.000
   31WTTUNES_1,  P17C,    91,  1,     68,     68,2,19910630,1050,  1.1650,-134.9983, 4378,   2540.1,   1.7868,  34.6673,2,  34.6682,2,   -999.0,9,  1.6068,   -999.0,9,  -999.00,9,  -999.00,9,  -999.00,9,  -999.00,9, -999.000,9, -999.000,9, -999.000,9,-999.0000,9,  -999.00,9,   -999.0,9,  -999.00,9,   -999.0,9,   -999.0,9,  -999.0,-999.0000,-999.000,  -999.0,-999.000
   31WTTUNES_1,  P17C,    91,  1,     69,     69,3,19910630,1050,  1.1650,-134.9983, 4378,   3056.8,   1.6399,  34.6755,2,  34.6681,4,   -999.0,9,  1.4146,   -999.0,9,  -999.00,9,  -999.00,9,  -999.00,9,  -999.00,9, -999.000,9, -999.000,9, -999.000,9,-999.0000,9,  -999.00,9,   -999.0,9,  -999.00,9,   -999.0,9,   -999.0,9,  -999.0,-999.0000,-999.000,  -999.0,-999.000
   31WTTUNES_1,  P17C,    91,  1,     70,     70,2,19910630,1050,  1.1650,-134.9983, 4378,   4093.6,   1.4251,  34.6936,2,  34.6931,2,   -999.0,9,  1.0981,   -999.0,9,  -999.00,9,  -999.00,9,  -999.00,9,  -999.00,9, -999.000,9, -999.000,9, -999.000,9,-999.0000,9,  -999.00,9,   -999.0,9,  -999.00,9,   -999.0,9,   -999.0,9,  -999.0,-999.0000,-999.000,  -999.0,-999.000
   31WTTUNES_1,  P17C,    91,  1,     71,     71,2,19910630,1050,  1.1650,-134.9983, 4378,   4446.3,   1.4521,  34.6942,2,  34.6936,2,   -999.0,9,  1.0847,   -999.0,9,  -999.00,9,  -999.00,9,  -999.00,9,  -999.00,9, -999.000,9, -999.000,9, -999.000,9,-999.0000,9,  -999.00,9,   -999.0,9,  -999.00,9,   -999.0,9,   -999.0,9,  -999.0,-999.0000,-999.000,  -999.0,-999.000