BOTTLE,20220819CCHSIOAMB
EXPOCODE,SECT_ID,STNNBR,CASTNO,SAMPNO,BTLNBR,BTLNBR_FLAG_W,DATE,TIME,LATITUDE,LONGITUDE,DEPTH,CTDPRS,CTDTMP,CTDSAL,CTDSAL_FLAG_W,SALNTY,SALNTY_FLAG_W,CTDOXY,CTDOXY_FLAG_W,THETA,OXYGEN,OXYGEN_FLAG_W,SILCAT,SILCAT_FLAG_W,NITRAT,NITRAT_FLAG_W,NITRIT,NITRIT_FLAG_W,PHSPHT,PHSPHT_FLAG_W,CFC-11,CFC-11_FLAG_W,CFC-12,CFC-12_FLAG_W,TRITUM,TRITUM_FLAG_W,HELIUM,HELIUM_FLAG_W,DELHE3,DELHE3_FLAG_W,DELC14,DELC14_FLAG_W,DELC13,DELC13_FLAG_W,TCARBN,TCARBN_FLAG_W,ALKALI,ALKALI_FLAG_W,C14ERR,HELIER,DELHER,C13ERR,TRITER
,,,,,,,,,,,,DBAR,ITS-90,PSS-78,,PSS-78,,UMOL/KG,,DEG C,UMOL/KG,,UMOL/KG,,UMOL/KG,,UMOL/KG,,UMOL/KG,,PMOL/KG,,PMOL/KG,,TU,,NMOL/KG,,PERCNT,,/MILLE,,/MILLE,,UMOL/KG,,UMOL/KG,,/MILLE,NMOL/KG,PERCNT,/MILLE,TU
   31WTTUNES_1,  P17C,    58,  1,      1,      1,2,19910621,2006, 14.0000,-135.0000, 4906,      0.2,  26.2507,  34.5432,2,  34.5451,2,   -999.0,9, 26.2506,    208.8,2,     2.56,2,     0.15,2,     0.00,2,     0.18,2,    1.893,2,    1.055,2, -999.000,9,-999.0000,9,  -999.00,9,   -999.0,9,  -999.00,9,   -999.0,9,   -999.0,9,  -999.0,-999.0000,-999.000,  -999.0,-999.000
   31WTTUNES_1,  P17C,    58,  1,      2,      2,2,19910621,2006, 14.0000,-135.0000, 4906,     31.6,  25.1598,  34.5392,2,  34.5196,2,    212.6,2, 25.1530,    213.4,2,     2.36,2,     0.15,2,     0.00,2,     0.18,2,    1.908,2,    1.101,2, -999.000,9,-999.0000,9,  -999.00,9,   -999.0,9,  -999.00,9,   -999.0,9,   -999.0,9,  -999.0,-999.0000,-999.000,  -999.0,-999.000
   31WTTUNES_1,  P17C,    58,  1,      3,      3,2,19910621,2006, 14.0000,-135.0000, 4906,     63.0,  22.8204,  34.5613,2,  34.5730,2,    220.0,2, 22.8077,    217.8,2,     2.54,2,     0.14,2,     0.00,2,     0.22,2,    2.154,2,    1.192,2, -999.000,9,-999.0000,9,  -999.00,9,   -999.0,9,  -999.00,9,   -999.0,9,   -999.0,9,  -999.0,-999.0000,-999.000,  -999.0,-999.000
   31WTTUNES_1,  P17C,    58,  1,      4,      4,2,19910621,2006, 14.0000,-135.0000, 4906,     82.2,  20.5646,  34.5355,2,  34.4591,2,    216.8,2, 20.5492,    203.3,2,     3.48,2,     1.21,2,     0.14,2,     0.41,2,    2.266,2,    1.186,2, -999.000,9,-999.0000,9,  -999.00,9,   -999.0,9,  -999.00,9,   -999.0,9,   -999.0,9,  -999.0,-999.0000,-999.000,  -999.0,-999.000
   31WTTUNES_1,  P17C,    58,  1,      5,      5,2,19910621,2006, 14.0000,-135.0000, 4906,    103.2,  17.0825,  34.4222,2,  34.4224,2,    161.7,2, 17.0655,    142.7,2,     8.78,2,     9.96,2,     0.54,2,     0.99,2,    2.021,2,    1.093,2, -999.000,9,-999.0000,9,  -999.00,9,   -999.0,9,  -999.00,9,   -999.0,9,   -999.0,9,  -999.0,-999.0000,-999.000,  -999.0,-999.000
   31WTTUNES_1,  P17C,    58,  1,      6,      6,2,19910621,2006, 14.0000,-135.0000, 4906,    124.1,  14.0557,  34.2564,2,  34.2715,2,    150.4,2, 14.0379,    132.9,2,    12.57,2,    14.71,2,     0.01,2,     1.22,2,    1.967,2,    1.032,2, -999.000,9,-999.0000,9,  -999.00,9,   -999.0,9,  -999.00,9,   -999.0,9,   -999.0,9,  -999.0,-999.0000,-999.000,  -999.0,-999.000
   31WTTUNES_1,  P17C,    58,  1,      7,      7,2,19910621,2006, 14.0000,-135.0000, 4906,    141.9,  13.1897,  34.3402,2,  34.3614,2,     87.9,2, 13.1701,     76.7,2,    20.34,2,    23.28,2,     0.01,2,     1.83,2,    1.299,2,    0.674,2, -999.000,9,-999.0000,9,  -999.00,9,   -999.0,9,  -999.00,9,   -999.0,9,   -999.0,9,  -999.0,-999.0000,-999.000,  -999.0,-999.000
   31WTTUNES_1,  P17C,    58,  1,      8,      8,2,19910621,2006, 14.0000,-135.0000, 4906,    170.1,  11.5267,  34.4757,2,  34.4552,2,     58.8,2, 11.5052,     47.1,2,    29.06,2,    27.97,2,     0.00,2,     2.23,2,    0.715,2,    0.360,2, -999.000,9,-999.0000,9,  -999.00,9,   -999.0,9,  -999.00,9,   -999.0,9,   -999.0,9,  -999.0,-999.0000,-999.000,  -999.0,-999.000
   31WTTUNES_1,  P17C,    58,  1,      9,      9,2,19910621,2006, 14.0000,-135.0000, 4906,    191.6,  11.1391,  34.5044,2,  34.5021,2,     37.1,2, 11.1154,     37.3,2,    31.71,2,    29.20,2,     0.01,2,     2.34,2,    0.491,2,    0.250,2, -999.000,9,-999.0000,9,  -999.00,9,   -999.0,9,  -999.00,9,   -999.0,9,   -999.0,9,  -999.0,-999.0000,-999.000,  -999.0,-999.000
   31WTTUNES_1,  P17C,    58,  1,     10,     10,2,19910621,2006, 14.0000,-135.0000, 4906,    219.9,  10.9383,  34.5703,2,  34.5693,2,     32.0,2, 10.9114,     23.7,2,    33.03,2,    30.64,2,     0.01,2,     2.46,2,    0.286,2,    0.155,2, -999.000,9,-999.0000,9,  -999.00,9,   -999.0,9,  -999.00,9,   -999.0,9,   -999.0,9,  -999.0,-999.0000,-999.000,  -999.0,-999.000
   31WTTUNES_1,  P17C,    58,  1,     11,     11,2,19910621,2006, 14.0000,-135.0000, 4906,    243.1,  10.6060,  34.5833,2,  34.5848,2,     16.1,2, 10.5768,     16.7,2,    35.68,2,    31.16,2,     0.00,2,     2.55,2,    0.166,2,    0.098,2, -999.000,9,-999.0000,9,  -999.00,9,   -999.0,9,  -999.00,9,   -999.0,9,   -999.0,9,  -999.0,-999.0000,-999.000,  -999.0,-999.000
   31WTTUNES_1,  P17C,    58,  1,     12,     12,2,19910621,2006, 14.0000,-135.0000, 4906,    304.7,   9.4356,  34.5368,2,  34.5367,2,     11.4,2,  9.4015,     11.4,2,    43.65,2,    32.51,2,     0.00,2,     2.70,2,    0.054,2,    0.033,2, -999.000,9,-999.0000,9,  -999.00,9,   -999.0,9,  -999.00,9,   -999.0,9,   -999.0,9,  -999.0,-999.0000,-999.000,  -999.0,-999.000
   31WTTUNES_1,  P17C,    58,  1,     13,     13,2,19910621,2006, 14.0000,-135.0000, 4906,    407.0,   8.1823,  34.5160,2,  34.5153,2,      7.9,2,  8.1403,      8.7,2,    53.52,2,    36.27,2,     0.00,2,     2.88,2,    0.008,2,    0.007,2, -999.000,9,-999.0000,9,  -999.00,9,   -999.0,9,  -999.00,9,   -999.0,9,   -999.0,9,  -999.0,-999.0000,-999.000,  -999.0,-999.000
   31WTTUNES_1,  P17C,    58,  1,     14,     14,2,19910621,2006, 14.0000,-135.0000, 4906,    504.0,   7.1813,  34.4996,2,  34.4986,2,      8.9,2,  7.1327,      8.9,2,    64.34,2,    38.91,2,     0.00,2,     3.02,2,    0.001,2,    0.004,2, -999.000,9,-999.0000,9,  -999.00,9,   -999.0,9,  -999.00,9,   -999.0,9,   -999.0,9,  -999.0,-999.0000,-999.000,  -999.0,-999.000
   31WTTUNES_1,  P17C,    58,  1,     15,     15,2,19910621,2006, 14.0000,-135.0000, 4906,    606.8,   6.3217,  34.4830,2,  34.4855,2,     10.3,2,  6.2668,      9.7,2,    74.59,2,    41.22,2,     0.00,2,     3.10,2,    0.001,2,   -0.002,2, -999.000,9,-999.0000,9,  -999.00,9,   -999.0,9,  -999.00,9,   -999.0,9,   -999.0,9,  -999.0,-999.0000,-999.000,  -999.0,-999.000
   31WTTUNES_1,  P17C,    58,  1,     16,     16,2,19910621,2006, 14.0000,-135.0000, 4906,    709.4,   5.6959,  34.4922,2,  34.4955,2,     15.1,2,  5.6345,     15.3,2,    83.52,2,    42.91,2,     0.00,2,     3.14,2,    0.003,2,    0.003,2, -999.000,9,-999.0000,9,  -999.00,9,   -999.0,9,  -999.00,9,   -999.0,9,   -999.0,9,  -999.0,-999.0000,-999.000,  -999.0,-999.000
   31WTTUNES_1,  P17C,    58,  1,     17,     17,2,19910621,2006, 14.0000,-135.0000, 4906,    811.5,   5.0647,  34.5089,2,  34.5080,2,     19.9,2,  4.9978,     19.9,2,    93.40,2,    44.01,3,     0.00,2,     3.16,2,    0.001,2,   -0.002,2, -999.000,9,-999.0000,9,  -999.00,9,   -999.0,9,  -999.00,9,   -999.0,9,   -999.0,9,  -999.0,-999.0000,-999.000,  -999.0,-999.000
   31WTTUNES_1,  P17C,    58,  1,     18,     18,2,19910621,2006, 14.0000,-135.0000, 4906,    907.5,   4.7236,  34.5317,2,  34.5310,2,     24.6,2,  4.6504,     24.8,2,    98.33,2,    44.57,3,     0.00,2,     3.19,2, -999.000,9, -999.000,9, -999.000,9,-999.0000,9,  -999.00,9,   -999.0,9,  -999.00,9,   -999.0,9,   -999.0,9,  -999.0,-999.0000,-999.000,  -999.0,-999.000
   31WTTUNES_1,  P17C,    58,  1,     19,     19,2,19910621,2006, 14.0000,-135.0000, 4906,   1113.2,   4.0378,  34.5574,2,  34.5556,2,     39.6,2,  3.9522,     39.0,2,   111.25,2,    44.19,3,     0.00,2,     3.14,2, -999.000,9, -999.000,9, -999.000,9,-999.0000,9,  -999.00,9,   -999.0,9,  -999.00,9,   -999.0,9,   -999.0,9,  -999.0,-999.0000,-999.000,  -999.0,-999.000
   31WTTUNES_1,  P17C,    58,  1,     20,     20,2,19910621,2006, 14.0000,-135.0000, 4906,   1314.8,   3.5146,  34.5751,2,  34.5758,2,     54.4,2,  3.4167,     53.5,2,   121.70,2,    43.26,3,     0.00,2,     3.06,2, -999.000,9, -999.000,9, -999.000,9,-999.0000,9,  -999.00,9,   -999.0,9,  -999.00,9,   -999.0,9,   -999.0,9,  -999.0,-999.0000,-999.000,  -999.0,-999.000
   31WTTUNES_1,  P17C,    58,  1,     21,     21,2,19910621,2006, 14.0000,-135.0000, 4906,   1514.5,   3.0579,  34.5951,2,  34.5949,2,     64.4,2,  2.9481,     63.9,2,   131.77,2,    42.56,3,     0.00,2,     2.99,2, -999.000,9, -999.000,9, -999.000,9,-999.0000,9,  -999.00,9,   -999.0,9,  -999.00,9,   -999.0,9,   -999.0,9,  -999.0,-999.0000,-999.000,  -999.0,-999.000
   31WTTUNES_1,  P17C,    58,  1,     22,     22,2,19910621,2006, 14.0000,-135.0000, 4906,   1721.7,   2.6523,  34.6095,2,  34.6088,2,     77.4,2,  2.5301,     76.3,2,   141.66,2,    41.59,3,     0.00,2,     2.91,2, -999.000,9, -999.000,9, -999.000,9,-999.0000,9,  -999.00,9,   -999.0,9,  -999.00,9,   -999.0,9,   -999.0,9,  -999.0,-999.0000,-999.000,  -999.0,-999.000
   31WTTUNES_1,  P17C,    58,  1,     23,     23,2,19910621,2006, 14.0000,-135.0000, 4906,   1923.2,   2.3200,  34.6238,2,  34.6248,2,     86.6,2,  2.1853,     85.2,2,   149.26,2,    41.05,3,     0.00,2,     2.85,2, -999.000,9, -999.000,9, -999.000,9,-999.0000,9,  -999.00,9,   -999.0,9,  -999.00,9,   -999.0,9,   -999.0,9,  -999.0,-999.0000,-999.000,  -999.0,-999.000
   31WTTUNES_1,  P17C,    58,  1,     24,     24,2,19910621,2006, 14.0000,-135.0000, 4906,   2124.4,   2.0742,  34.6380,2,  34.6391,2,     97.0,2,  1.9260,     96.5,2,   154.21,2,    40.31,3,     0.00,2,     2.79,2, -999.000,9, -999.000,9, -999.000,9,-999.0000,9,  -999.00,9,   -999.0,9,  -999.00,9,   -999.0,9,   -999.0,9,  -999.0,-999.0000,-999.000,  -999.0,-999.000
   31WTTUNES_1,  P17C,    58,  1,     25,     25,2,19910621,2006, 14.0000,-135.0000, 4906,   2324.6,   1.9232,  34.6492,2,  34.6503,2,    105.2,2,  1.7601,    105.0,2,   156.11,2,    39.72,3,     0.00,2,     2.73,2, -999.000,9, -999.000,9, -999.000,9,-999.0000,9,  -999.00,9,   -999.0,9,  -999.00,9,   -999.0,9,   -999.0,9,  -999.0,-999.0000,-999.000,  -999.0,-999.000
   31WTTUNES_1,  P17C,    58,  1,     26,     26,2,19910621,2006, 14.0000,-135.0000, 4906,   2525.9,   1.8332,  34.6571,2,  34.6576,2,    110.6,2,  1.6536,    110.4,2,   158.39,2,    39.35,3,     0.00,2,     2.71,2, -999.000,9, -999.000,9, -999.000,9,-999.0000,9,  -999.00,9,   -999.0,9,  -999.00,9,   -999.0,9,   -999.0,9,  -999.0,-999.0000,-999.000,  -999.0,-999.000
   31WTTUNES_1,  P17C,    58,  1,     27,     27,2,19910621,2006, 14.0000,-135.0000, 4906,   2733.4,   1.7511,  34.6644,2,  34.6652,2,    115.1,2,  1.5541,    115.0,2,   160.72,2,    38.93,3,     0.00,2,     2.68,2, -999.000,9, -999.000,9, -999.000,9,-999.0000,9,  -999.00,9,   -999.0,9,  -999.00,9,   -999.0,9,   -999.0,9,  -999.0,-999.0000,-999.000,  -999.0,-999.000
   31WTTUNES_1,  P17C,    58,  1,     28,     28,2,19910621,2006, 14.0000,-135.0000, 4906,   2936.0,   1.6856,  34.6675,2,  34.6692,2,    120.0,2,  1.4709,    119.4,2,   161.06,2,    38.67,3,     0.00,2,     2.65,2, -999.000,9, -999.000,9, -999.000,9,-999.0000,9,  -999.00,9,   -999.0,9,  -999.00,9,   -999.0,9,   -999.0,9,  -999.0,-999.0000,-999.000,  -999.0,-999.000
   31WTTUNES_1,  P17C,    58,  1,     29,     29,2,19910621,2006, 14.0000,-135.0000, 4906,   3195.1,   1.6079,  34.6708,2,  34.6727,2,    126.2,2,  1.3698,    126.3,2,   163.92,3,    38.41,3,     0.00,2,     2.62,2, -999.000,9, -999.000,9, -999.000,9,-999.0000,9,  -999.00,9,   -999.0,9,  -999.00,9,   -999.0,9,   -999.0,9,  -999.0,-999.0000,-999.000,  -999.0,-999.000
   31WTTUNES_1,  P17C,    58,  1,     30,     30,2,19910621,2006, 14.0000,-135.0000, 4906,   3448.4,   1.5445,  34.6748,2,  34.6767,2,    133.6,2,  1.2825,    132.8,2,   162.97,3,    37.83,3,     0.00,2,     2.58,2, -999.000,9, -999.000,9, -999.000,9,-999.0000,9,  -999.00,9,   -999.0,9,  -999.00,9,   -999.0,9,   -999.0,9,  -999.0,-999.0000,-999.000,  -999.0,-999.000
   31WTTUNES_1,  P17C,    58,  1,     31,     31,2,19910621,2006, 14.0000,-135.0000, 4906,   3702.4,   1.4920,  34.6793,2,  34.6814,2,    142.5,2,  1.2052,    141.9,2,   160.50,3,    37.31,3,     0.00,2,     2.53,2, -999.000,9, -999.000,9, -999.000,9,-999.0000,9,  -999.00,9,   -999.0,9,  -999.00,9,   -999.0,9,   -999.0,9,  -999.0,-999.0000,-999.000,  -999.0,-999.000
   31WTTUNES_1,  P17C,    58,  1,     32,     32,2,19910621,2006, 14.0000,-135.0000, 4906,   3962.7,   1.4377,  34.6848,2,  34.6863,2,    153.6,2,  1.1246,    152.9,2,   154.23,3,    36.57,3,     0.00,2,     2.48,2, -999.000,9, -999.000,9, -999.000,9,-999.0000,9,  -999.00,9,   -999.0,9,  -999.00,9,   -999.0,9,   -999.0,9,  -999.0,-999.0000,-999.000,  -999.0,-999.000
   31WTTUNES_1,  P17C,    58,  1,     33,     33,2,19910621,2006, 14.0000,-135.0000, 4906,   4212.2,   1.4088,  34.6879,2,  34.6898,2,    162.1,2,  1.0691,    161.0,2,   148.71,3,    35.95,3,     0.00,2,     2.44,2, -999.000,9, -999.000,9, -999.000,9,-999.0000,9,  -999.00,9,   -999.0,9,  -999.00,9,   -999.0,9,   -999.0,9,  -999.0,-999.0000,-999.000,  -999.0,-999.000
   31WTTUNES_1,  P17C,    58,  1,     34,     34,2,19910621,2006, 14.0000,-135.0000, 4906,   4472.1,   1.4216,  34.6900,2,  34.6912,2,    164.8,2,  1.0522,    164.1,2,   146.81,3,    35.79,3,     0.00,2,     2.42,2,    0.000,2,    0.000,2, -999.000,9,-999.0000,9,  -999.00,9,   -999.0,9,  -999.00,9,   -999.0,9,   -999.0,9,  -999.0,-999.0000,-999.000,  -999.0,-999.000
   31WTTUNES_1,  P17C,    58,  1,     35,     35,2,19910621,2006, 14.0000,-135.0000, 4906,   4733.3,   1.4504,  34.6907,2,  34.6916,2,    165.7,2,  1.0498,    164.6,2,   146.44,3,    35.85,3,     0.00,2,     2.42,2,   -0.004,2,    0.000,2, -999.000,9,-999.0000,9,  -999.00,9,   -999.0,9,  -999.00,9,   -999.0,9,   -999.0,9,  -999.0,-999.0000,-999.000,  -999.0,-999.000
   31WTTUNES_1,  P17C,    58,  1,     36,     36,2,19910621,2006, 14.0000,-135.0000, 4906,   4978.3,   1.4791,  34.6910,2,  34.6914,2,   -999.0,9,  1.0482,    164.5,2,   146.25,3,    35.85,3,     0.00,2,     2.41,2,    0.002,2,    0.000,2, -999.000,9,-999.0000,9,  -999.00,9,   -999.0,9,  -999.00,9,   -999.0,9,   -999.0,9,  -999.0,-999.0000,-999.000,  -999.0,-999.000