BOTTLE,20220819CCHSIOAMB
EXPOCODE,SECT_ID,STNNBR,CASTNO,SAMPNO,BTLNBR,BTLNBR_FLAG_W,DATE,TIME,LATITUDE,LONGITUDE,DEPTH,CTDPRS,CTDTMP,CTDSAL,CTDSAL_FLAG_W,SALNTY,SALNTY_FLAG_W,CTDOXY,CTDOXY_FLAG_W,THETA,OXYGEN,OXYGEN_FLAG_W,SILCAT,SILCAT_FLAG_W,NITRAT,NITRAT_FLAG_W,NITRIT,NITRIT_FLAG_W,PHSPHT,PHSPHT_FLAG_W,CFC-11,CFC-11_FLAG_W,CFC-12,CFC-12_FLAG_W,TRITUM,TRITUM_FLAG_W,HELIUM,HELIUM_FLAG_W,DELHE3,DELHE3_FLAG_W,DELC14,DELC14_FLAG_W,DELC13,DELC13_FLAG_W,TCARBN,TCARBN_FLAG_W,ALKALI,ALKALI_FLAG_W,C14ERR,HELIER,DELHER,C13ERR,TRITER
,,,,,,,,,,,,DBAR,ITS-90,PSS-78,,PSS-78,,UMOL/KG,,DEG C,UMOL/KG,,UMOL/KG,,UMOL/KG,,UMOL/KG,,UMOL/KG,,PMOL/KG,,PMOL/KG,,TU,,NMOL/KG,,PERCNT,,/MILLE,,/MILLE,,UMOL/KG,,UMOL/KG,,/MILLE,NMOL/KG,PERCNT,/MILLE,TU
   31WTTUNES_1,  P17C,   111,  1,     61,     61,2,19910704,0806, -2.1500,-135.0017, 4438,      2.3,  27.7338,  35.3617,2,  35.3631,2,   -999.0,9, 27.7333,   -999.0,9,  -999.00,9,  -999.00,9,  -999.00,9,  -999.00,9, -999.000,9, -999.000,9, -999.000,9,-999.0000,9,  -999.00,9,   -999.0,9,  -999.00,9,   -999.0,9,   -999.0,9,  -999.0,-999.0000,-999.000,  -999.0,-999.000
   31WTTUNES_1,  P17C,   111,  1,     62,     62,2,19910704,0806, -2.1500,-135.0017, 4438,     33.8,  27.7402,  35.3609,2,  35.3627,2,   -999.0,9, 27.7323,   -999.0,9,  -999.00,9,  -999.00,9,  -999.00,9,  -999.00,9, -999.000,9, -999.000,9, -999.000,9,-999.0000,9,  -999.00,9,   -999.0,9,  -999.00,9,   -999.0,9,   -999.0,9,  -999.0,-999.0000,-999.000,  -999.0,-999.000
   31WTTUNES_1,  P17C,   111,  1,     63,     63,2,19910704,0806, -2.1500,-135.0017, 4438,    237.2,  11.7124,  34.8346,2,  34.8366,2,   -999.0,9, 11.6819,   -999.0,9,  -999.00,9,  -999.00,9,  -999.00,9,  -999.00,9, -999.000,9, -999.000,9, -999.000,9,-999.0000,9,  -999.00,9,   -999.0,9,  -999.00,9,   -999.0,9,   -999.0,9,  -999.0,-999.0000,-999.000,  -999.0,-999.000
   31WTTUNES_1,  P17C,   111,  1,     64,     64,2,19910704,0806, -2.1500,-135.0017, 4438,    411.4,   9.5365,  34.7163,2,  34.7184,2,   -999.0,9,  9.4898,   -999.0,9,  -999.00,9,  -999.00,9,  -999.00,9,  -999.00,9, -999.000,9, -999.000,9, -999.000,9,-999.0000,9,  -999.00,9,   -999.0,9,  -999.00,9,   -999.0,9,   -999.0,9,  -999.0,-999.0000,-999.000,  -999.0,-999.000
   31WTTUNES_1,  P17C,   111,  1,     65,     65,2,19910704,0806, -2.1500,-135.0017, 4438,    616.1,   6.6979,  34.5710,2,  34.5732,2,   -999.0,9,  6.6403,   -999.0,9,  -999.00,9,  -999.00,9,  -999.00,9,  -999.00,9, -999.000,9, -999.000,9, -999.000,9,-999.0000,9,  -999.00,9,   -999.0,9,  -999.00,9,   -999.0,9,   -999.0,9,  -999.0,-999.0000,-999.000,  -999.0,-999.000
   31WTTUNES_1,  P17C,   111,  1,     66,     66,2,19910704,0806, -2.1500,-135.0017, 4438,    818.5,   5.3746,  34.5453,2,  34.5492,2,   -999.0,9,  5.3051,   -999.0,9,  -999.00,9,  -999.00,9,  -999.00,9,  -999.00,9, -999.000,9, -999.000,9, -999.000,9,-999.0000,9,  -999.00,9,   -999.0,9,  -999.00,9,   -999.0,9,   -999.0,9,  -999.0,-999.0000,-999.000,  -999.0,-999.000
   31WTTUNES_1,  P17C,   111,  1,     67,     67,2,19910704,0806, -2.1500,-135.0017, 4438,   1017.6,   4.4778,  34.5519,2,  34.5551,2,   -999.0,9,  4.3969,   -999.0,9,  -999.00,9,  -999.00,9,  -999.00,9,  -999.00,9, -999.000,9, -999.000,9, -999.000,9,-999.0000,9,  -999.00,9,   -999.0,9,  -999.00,9,   -999.0,9,   -999.0,9,  -999.0,-999.0000,-999.000,  -999.0,-999.000
   31WTTUNES_1,  P17C,   111,  1,     68,     68,2,19910704,0806, -2.1500,-135.0017, 4438,   1958.0,   2.3455,  34.6387,2,  34.6405,2,   -999.0,9,  2.2074,   -999.0,9,  -999.00,9,  -999.00,9,  -999.00,9,  -999.00,9, -999.000,9, -999.000,9, -999.000,9,-999.0000,9,  -999.00,9,   -999.0,9,  -999.00,9,   -999.0,9,   -999.0,9,  -999.0,-999.0000,-999.000,  -999.0,-999.000
   31WTTUNES_1,  P17C,   111,  1,     69,     69,2,19910704,0806, -2.1500,-135.0017, 4438,   2960.9,   1.6530,  34.6730,2,  34.6741,2,   -999.0,9,  1.4366,   -999.0,9,  -999.00,9,  -999.00,9,  -999.00,9,  -999.00,9, -999.000,9, -999.000,9, -999.000,9,-999.0000,9,  -999.00,9,   -999.0,9,  -999.00,9,   -999.0,9,   -999.0,9,  -999.0,-999.0000,-999.000,  -999.0,-999.000
   31WTTUNES_1,  P17C,   111,  1,     70,     70,2,19910704,0806, -2.1500,-135.0017, 4438,   3991.2,   1.4111,  34.6928,2,  34.6939,2,   -999.0,9,  1.0956,   -999.0,9,  -999.00,9,  -999.00,9,  -999.00,9,  -999.00,9, -999.000,9, -999.000,9, -999.000,9,-999.0000,9,  -999.00,9,   -999.0,9,  -999.00,9,   -999.0,9,   -999.0,9,  -999.0,-999.0000,-999.000,  -999.0,-999.000
   31WTTUNES_1,  P17C,   111,  1,     71,     71,2,19910704,0806, -2.1500,-135.0017, 4438,   4417.1,   1.4175,  34.6950,2,  34.6965,2,   -999.0,9,  1.0545,   -999.0,9,  -999.00,9,  -999.00,9,  -999.00,9,  -999.00,9, -999.000,9, -999.000,9, -999.000,9,-999.0000,9,  -999.00,9,   -999.0,9,  -999.00,9,   -999.0,9,   -999.0,9,  -999.0,-999.0000,-999.000,  -999.0,-999.000
   31WTTUNES_1,  P17C,   112,  1,      1,      1,2,19910704,1148, -2.3283,-134.9983, 4319,      0.2,  27.7534,  35.3585,2,  35.3624,2,    201.5,3, 27.7534,    204.4,2,     3.15,2,     4.77,2,     0.18,2,     0.54,2,    1.607,2,    0.914,2, -999.000,9,-999.0000,9,  -999.00,9,   -999.0,9,  -999.00,9,   -999.0,9,   -999.0,9,  -999.0,-999.0000,-999.000,  -999.0,-999.000
   31WTTUNES_1,  P17C,   112,  1,      2,      2,2,19910704,1148, -2.3283,-134.9983, 4319,     80.6,  25.6469,  35.3396,2,  35.3187,2,    201.6,2, 25.6291,    200.9,2,     3.52,2,     7.75,2,     0.16,2,     0.84,2,    1.759,2,    0.996,2, -999.000,9,-999.0000,9,  -999.00,9,   -999.0,9,  -999.00,9,   -999.0,9,   -999.0,9,  -999.0,-999.0000,-999.000,  -999.0,-999.000
   31WTTUNES_1,  P17C,   112,  1,      3,      3,2,19910704,1148, -2.3283,-134.9983, 4319,     91.3,  23.4570,  35.1735,2,  35.1845,2,    199.5,2, 23.4381,    189.5,2,     4.84,2,    10.17,2,     0.34,2,     1.05,2,    1.857,2,    1.041,2, -999.000,9,-999.0000,9,  -999.00,9,   -999.0,9,  -999.00,9,   -999.0,9,   -999.0,9,  -999.0,-999.0000,-999.000,  -999.0,-999.000
   31WTTUNES_1,  P17C,   112,  1,      4,      4,2,19910704,1148, -2.3283,-134.9983, 4319,    103.1,  21.8988,  35.3423,2,  35.2681,2,    171.8,2, 21.8785,    154.7,2,     5.77,2,    11.54,2,     0.93,2,     1.20,2,    1.729,2,    0.945,2, -999.000,9,-999.0000,9,  -999.00,9,   -999.0,9,  -999.00,9,   -999.0,9,   -999.0,9,  -999.0,-999.0000,-999.000,  -999.0,-999.000
   31WTTUNES_1,  P17C,   112,  1,      5,      5,2,19910704,1148, -2.3283,-134.9983, 4319,    113.8,  17.2966,  35.2911,2,  35.2610,2,     88.1,2, 17.2776,     77.1,2,    10.87,2,    18.90,2,     1.89,2,     1.61,2,    1.201,2,    0.661,2, -999.000,9,-999.0000,9,  -999.00,9,   -999.0,9,  -999.00,9,   -999.0,9,   -999.0,9,  -999.0,-999.0000,-999.000,  -999.0,-999.000
   31WTTUNES_1,  P17C,   112,  1,      6,      6,2,19910704,1148, -2.3283,-134.9983, 4319,    124.2,  14.7771,  35.0717,2,  35.0532,2,     41.9,2, 14.7585,     34.5,2,    17.67,2,    27.43,2,     0.28,2,     2.02,2,    0.703,2,    0.378,2, -999.000,9,-999.0000,9,  -999.00,9,   -999.0,9,  -999.00,9,   -999.0,9,   -999.0,9,  -999.0,-999.0000,-999.000,  -999.0,-999.000
   31WTTUNES_1,  P17C,   112,  1,      7,      7,2,19910704,1148, -2.3283,-134.9983, 4319,    133.8,  13.5617,  34.9741,2,  34.9706,2,     24.8,2, 13.5428,     22.1,2,    20.87,2,    30.09,2,     0.02,2,     2.15,2,    0.472,2,    0.263,2, -999.000,9,-999.0000,9,  -999.00,9,   -999.0,9,  -999.00,9,   -999.0,9,   -999.0,9,  -999.0,-999.0000,-999.000,  -999.0,-999.000
   31WTTUNES_1,  P17C,   112,  1,      8,      8,2,19910704,1148, -2.3283,-134.9983, 4319,    144.5,  13.1587,  34.9398,2,  34.9342,2,     20.3,2, 13.1387,     24.6,2,    22.56,2,    30.45,2,     0.01,2,     2.15,2,    0.402,2,    0.224,2, -999.000,9,-999.0000,9,  -999.00,9,   -999.0,9,  -999.00,9,   -999.0,9,   -999.0,9,  -999.0,-999.0000,-999.000,  -999.0,-999.000
   31WTTUNES_1,  P17C,   112,  1,      9,      9,2,19910704,1148, -2.3283,-134.9983, 4319,    154.6,  12.8191,  34.9099,2,  34.9096,2,     21.6,2, 12.7981,     30.1,2,    23.88,2,    30.20,2,     0.00,2,     2.12,2,    0.369,2,    0.208,2, -999.000,9,-999.0000,9,  -999.00,9,   -999.0,9,  -999.00,9,   -999.0,9,   -999.0,9,  -999.0,-999.0000,-999.000,  -999.0,-999.000
   31WTTUNES_1,  P17C,   112,  1,     10,     10,2,19910704,1148, -2.3283,-134.9983, 4319,    193.6,  12.0159,  34.8573,2,  34.8577,2,     29.5,2, 11.9907,     41.0,2,    25.57,2,    30.15,2,     0.00,2,     2.12,2,    0.276,2,    0.159,2, -999.000,9,-999.0000,9,  -999.00,9,   -999.0,9,  -999.00,9,   -999.0,9,   -999.0,9,  -999.0,-999.0000,-999.000,  -999.0,-999.000
   31WTTUNES_1,  P17C,   112,  1,     11,     11,2,19910704,1148, -2.3283,-134.9983, 4319,    252.2,  11.6002,  34.8267,2,  34.8282,2,     44.4,2, 11.5680,     42.6,2,    26.32,2,    30.75,2,     0.00,2,     2.15,2,    0.238,2,    0.137,2, -999.000,9,-999.0000,9,  -999.00,9,   -999.0,9,  -999.00,9,   -999.0,9,   -999.0,9,  -999.0,-999.0000,-999.000,  -999.0,-999.000
   31WTTUNES_1,  P17C,   112,  1,     12,     12,2,19910704,1148, -2.3283,-134.9983, 4319,    300.4,  11.2721,  34.8079,2,  34.8111,2,     37.4,2, 11.2344,     40.4,2,    27.82,2,    31.60,2,     0.00,2,     2.20,2,    0.204,6,    0.127,6, -999.000,9,-999.0000,9,  -999.00,9,   -999.0,9,  -999.00,9,   -999.0,9,   -999.0,9,  -999.0,-999.0000,-999.000,  -999.0,-999.000
   31WTTUNES_1,  P17C,   112,  1,     13,     13,2,19910704,1148, -2.3283,-134.9983, 4319,    363.7,  10.4126,  34.7703,2,  34.7700,2,     41.0,2, 10.3691,     33.8,2,    30.65,2,    33.57,2,     0.00,2,     2.38,2,    0.091,2,    0.054,2, -999.000,9,-999.0000,9,  -999.00,9,   -999.0,9,  -999.00,9,   -999.0,9,   -999.0,9,  -999.0,-999.0000,-999.000,  -999.0,-999.000
   31WTTUNES_1,  P17C,   112,  1,     14,     14,2,19910704,1148, -2.3283,-134.9983, 4319,    404.9,   9.6823,  34.7299,2,  34.7228,2,     29.1,2,  9.6359,     28.0,2,    33.85,2,    35.61,2,     0.00,2,     2.51,2,    0.049,2,    0.033,2, -999.000,9,-999.0000,9,  -999.00,9,   -999.0,9,  -999.00,9,   -999.0,9,   -999.0,9,  -999.0,-999.0000,-999.000,  -999.0,-999.000
   31WTTUNES_1,  P17C,   112,  1,     15,     15,2,19910704,1148, -2.3283,-134.9983, 4319,    506.8,   7.7970,  34.6154,2,  34.6175,2,     39.3,2,  7.7457,     53.2,2,    41.03,2,    37.51,2,     0.00,2,     2.60,2,    0.017,2,    0.015,2, -999.000,9,-999.0000,9,  -999.00,9,   -999.0,9,  -999.00,9,   -999.0,9,   -999.0,9,  -999.0,-999.0000,-999.000,  -999.0,-999.000
   31WTTUNES_1,  P17C,   112,  1,     16,     16,2,19910704,1148, -2.3283,-134.9983, 4319,    604.0,   6.8729,  34.5802,2,  34.5788,2,     47.8,2,  6.8156,     55.1,2,    50.47,2,    39.44,2,     0.00,2,     2.74,2,    0.007,2,    0.007,2, -999.000,9,-999.0000,9,  -999.00,9,   -999.0,9,  -999.00,9,   -999.0,9,   -999.0,9,  -999.0,-999.0000,-999.000,  -999.0,-999.000
   31WTTUNES_1,  P17C,   112,  1,     17,     17,2,19910704,1148, -2.3283,-134.9983, 4319,    706.9,   6.1302,  34.5593,2,  34.5600,2,     59.1,2,  6.0666,     60.3,2,    59.72,2,    40.28,2,     0.00,2,     2.82,2,    0.001,2,    0.000,2, -999.000,9,-999.0000,9,  -999.00,9,   -999.0,9,  -999.00,9,   -999.0,9,   -999.0,9,  -999.0,-999.0000,-999.000,  -999.0,-999.000
   31WTTUNES_1,  P17C,   112,  1,     18,     18,2,19910704,1148, -2.3283,-134.9983, 4319,    809.3,   5.4079,  34.5430,2,  34.5455,2,     82.0,2,  5.3390,     80.8,2,    67.45,2,    39.22,2,     0.00,2,     2.75,2,    0.001,2,    0.016,2, -999.000,9,-999.0000,9,  -999.00,9,   -999.0,9,  -999.00,9,   -999.0,9,   -999.0,9,  -999.0,-999.0000,-999.000,  -999.0,-999.000
   31WTTUNES_1,  P17C,   112,  1,     19,     19,2,19910704,1148, -2.3283,-134.9983, 4319,    906.8,   4.9052,  34.5476,2,  34.5490,2,     80.9,2,  4.8308,     80.2,2,    76.89,2,    39.53,2,     0.00,2,     2.81,2,    0.000,2,    0.006,2, -999.000,9,-999.0000,9,  -999.00,9,   -999.0,9,  -999.00,9,   -999.0,9,   -999.0,9,  -999.0,-999.0000,-999.000,  -999.0,-999.000
   31WTTUNES_1,  P17C,   112,  1,     20,     20,2,19910704,1148, -2.3283,-134.9983, 4319,   1112.3,   4.0833,  34.5617,2,  34.5630,2,     89.8,2,  3.9974,     92.3,2,    91.80,2,    39.27,2,     0.00,2,     2.79,2,    0.000,2,    0.007,2, -999.000,9,-999.0000,9,  -999.00,9,   -999.0,9,  -999.00,9,   -999.0,9,   -999.0,9,  -999.0,-999.0000,-999.000,  -999.0,-999.000
   31WTTUNES_1,  P17C,   112,  1,     21,     21,2,19910704,1148, -2.3283,-134.9983, 4319,   1313.2,   3.3626,  34.5877,2,  34.5883,2,     93.4,2,  3.2664,     95.0,2,   110.30,2,    39.37,2,     0.00,2,     2.80,2, -999.000,9, -999.000,9, -999.000,9,-999.0000,9,  -999.00,9,   -999.0,9,  -999.00,9,   -999.0,9,   -999.0,9,  -999.0,-999.0000,-999.000,  -999.0,-999.000
   31WTTUNES_1,  P17C,   112,  1,     22,     22,2,19910704,1148, -2.3283,-134.9983, 4319,   1518.5,   2.9374,  34.6051,2,  34.6060,2,    100.5,2,  2.8287,    100.7,2,   119.92,2,    39.26,2,     0.00,2,     2.78,2, -999.000,9, -999.000,9, -999.000,9,-999.0000,9,  -999.00,9,   -999.0,9,  -999.00,9,   -999.0,9,   -999.0,9,  -999.0,-999.0000,-999.000,  -999.0,-999.000
   31WTTUNES_1,  P17C,   112,  1,     23,     23,2,19910704,1148, -2.3283,-134.9983, 4319,   1719.6,   2.6358,  34.6229,2,  34.6245,2,     98.4,2,  2.5140,     97.6,2,   129.92,2,    39.31,2,     0.00,2,     2.79,2, -999.000,9, -999.000,9, -999.000,9,-999.0000,9,  -999.00,9,   -999.0,9,  -999.00,9,   -999.0,9,   -999.0,9,  -999.0,-999.0000,-999.000,  -999.0,-999.000
   31WTTUNES_1,  P17C,   112,  1,     24,     24,2,19910704,1148, -2.3283,-134.9983, 4319,   1920.5,   2.4266,  34.6337,2,  34.6357,2,    103.5,2,  2.2905,    104.1,2,   135.57,2,    38.84,2,     0.00,2,     2.76,2, -999.000,9, -999.000,9, -999.000,9,-999.0000,9,  -999.00,9,   -999.0,9,  -999.00,9,   -999.0,9,   -999.0,9,  -999.0,-999.0000,-999.000,  -999.0,-999.000
   31WTTUNES_1,  P17C,   112,  1,     25,     25,2,19910704,1148, -2.3283,-134.9983, 4319,   2126.9,   2.2234,  34.6462,2,  34.6485,2,    108.1,2,  2.0726,    106.8,2,   141.98,2,    38.78,2,     0.00,2,     2.74,2, -999.000,9, -999.000,9, -999.000,9,-999.0000,9,  -999.00,9,   -999.0,9,  -999.00,9,   -999.0,9,   -999.0,9,  -999.0,-999.0000,-999.000,  -999.0,-999.000
   31WTTUNES_1,  P17C,   112,  1,     26,     26,2,19910704,1148, -2.3283,-134.9983, 4319,   2327.8,   2.0410,  34.6546,2,  34.6552,2,    117.0,2,  1.8755,    115.0,2,   142.72,2,    38.20,2,     0.00,2,     2.69,2, -999.000,9, -999.000,9, -999.000,9,-999.0000,9,  -999.00,9,   -999.0,9,  -999.00,9,   -999.0,9,   -999.0,9,  -999.0,-999.0000,-999.000,  -999.0,-999.000
   31WTTUNES_1,  P17C,   112,  1,     27,     27,2,19910704,1148, -2.3283,-134.9983, 4319,   2529.7,   1.8941,  34.6618,2,  34.6630,2,    126.8,2,  1.7131,    124.7,2,   142.89,2,    37.68,2,     0.00,2,     2.64,2, -999.000,9, -999.000,9, -999.000,9,-999.0000,9,  -999.00,9,   -999.0,9,  -999.00,9,   -999.0,9,   -999.0,9,  -999.0,-999.0000,-999.000,  -999.0,-999.000
   31WTTUNES_1,  P17C,   112,  1,     28,     28,2,19910704,1148, -2.3283,-134.9983, 4319,   2730.0,   1.7712,  34.6682,2,  34.6697,2,    132.7,2,  1.5741,    133.1,2,   143.06,2,    37.21,2,     0.00,2,     2.59,2, -999.000,9, -999.000,9, -999.000,9,-999.0000,9,  -999.00,9,   -999.0,9,  -999.00,9,   -999.0,9,   -999.0,9,  -999.0,-999.0000,-999.000,  -999.0,-999.000
   31WTTUNES_1,  P17C,   112,  1,     29,     29,2,19910704,1148, -2.3283,-134.9983, 4319,   2938.8,   1.6745,  34.6729,2,  34.6741,2,    139.9,2,  1.4597,    139.1,2,   143.05,2,    36.70,2,     0.00,2,     2.55,2, -999.000,9, -999.000,9, -999.000,9,-999.0000,9,  -999.00,9,   -999.0,9,  -999.00,9,   -999.0,9,   -999.0,9,  -999.0,-999.0000,-999.000,  -999.0,-999.000
   31WTTUNES_1,  P17C,   112,  1,     30,     30,2,19910704,1148, -2.3283,-134.9983, 4319,   3140.5,   1.5953,  34.6777,2,  34.6792,2,    144.9,2,  1.3628,    145.1,2,   143.41,2,    36.23,2,     0.00,2,     2.51,2, -999.000,9, -999.000,9, -999.000,9,-999.0000,9,  -999.00,9,   -999.0,9,  -999.00,9,   -999.0,9,   -999.0,9,  -999.0,-999.0000,-999.000,  -999.0,-999.000
   31WTTUNES_1,  P17C,   112,  1,     31,     31,2,19910704,1148, -2.3283,-134.9983, 4319,   3346.7,   1.5261,  34.6840,2,  34.6851,2,    152.6,2,  1.2748,    151.6,2,   143.40,2,    36.07,2,     0.00,2,     2.48,2, -999.000,9, -999.000,9, -999.000,9,-999.0000,9,  -999.00,9,   -999.0,9,  -999.00,9,   -999.0,9,   -999.0,9,  -999.0,-999.0000,-999.000,  -999.0,-999.000
   31WTTUNES_1,  P17C,   112,  1,     32,     32,2,19910704,1148, -2.3283,-134.9983, 4319,   3549.8,   1.4743,  34.6879,2,  34.6886,2,    155.4,2,  1.2037,    154.1,2,   144.70,2,    35.71,2,     0.00,2,     2.46,2, -999.000,9, -999.000,9, -999.000,9,-999.0000,9,  -999.00,9,   -999.0,9,  -999.00,9,   -999.0,9,   -999.0,9,  -999.0,-999.0000,-999.000,  -999.0,-999.000
   31WTTUNES_1,  P17C,   112,  1,     33,     33,2,19910704,1148, -2.3283,-134.9983, 4319,   3755.2,   1.4476,  34.6920,2,  34.6910,2,    158.3,2,  1.1563,    157.5,2,   145.06,2,    35.66,2,     0.00,2,     2.46,2, -999.000,9, -999.000,9, -999.000,9,-999.0000,9,  -999.00,9,   -999.0,9,  -999.00,9,   -999.0,9,   -999.0,9,  -999.0,-999.0000,-999.000,  -999.0,-999.000
   31WTTUNES_1,  P17C,   112,  1,     34,     34,2,19910704,1148, -2.3283,-134.9983, 4319,   4017.7,   1.4173,  34.6933,2,  34.6940,2,    164.9,2,  1.0987,    165.6,2,   141.46,2,    35.09,2,     0.00,2,     2.42,2, -999.000,9, -999.000,9, -999.000,9,-999.0000,9,  -999.00,9,   -999.0,9,  -999.00,9,   -999.0,9,   -999.0,9,  -999.0,-999.0000,-999.000,  -999.0,-999.000
   31WTTUNES_1,  P17C,   112,  1,     35,     35,2,19910704,1148, -2.3283,-134.9983, 4319,   4235.0,   1.4075,  34.6972,2,  34.6959,2,    170.7,2,  1.0653,    170.2,2,   137.86,2,    34.68,2,     0.00,2,     2.38,2, -999.000,9, -999.000,9, -999.000,9,-999.0000,9,  -999.00,9,   -999.0,9,  -999.00,9,   -999.0,9,   -999.0,9,  -999.0,-999.0000,-999.000,  -999.0,-999.000
   31WTTUNES_1,  P17C,   112,  1,     36,     36,2,19910704,1148, -2.3283,-134.9983, 4319,   4496.6,   1.4281,  34.6985,2,  34.6967,2,   -999.0,9,  1.0556,    171.9,2,   136.15,2,    34.22,2,     0.00,2,     2.37,2, -999.000,9, -999.000,9, -999.000,9,-999.0000,9,  -999.00,9,   -999.0,9,  -999.00,9,   -999.0,9,   -999.0,9,  -999.0,-999.0000,-999.000,  -999.0,-999.000