BOTTLE,20220819CCHSIOAMB
EXPOCODE,SECT_ID,STNNBR,CASTNO,SAMPNO,BTLNBR,BTLNBR_FLAG_W,DATE,TIME,LATITUDE,LONGITUDE,DEPTH,CTDPRS,CTDTMP,CTDSAL,CTDSAL_FLAG_W,SALNTY,SALNTY_FLAG_W,CTDOXY,CTDOXY_FLAG_W,THETA,OXYGEN,OXYGEN_FLAG_W,SILCAT,SILCAT_FLAG_W,NITRAT,NITRAT_FLAG_W,NITRIT,NITRIT_FLAG_W,PHSPHT,PHSPHT_FLAG_W,CFC-11,CFC-11_FLAG_W,CFC-12,CFC-12_FLAG_W,TRITUM,TRITUM_FLAG_W,HELIUM,HELIUM_FLAG_W,DELHE3,DELHE3_FLAG_W,DELC14,DELC14_FLAG_W,DELC13,DELC13_FLAG_W,TCARBN,TCARBN_FLAG_W,ALKALI,ALKALI_FLAG_W,C14ERR,HELIER,DELHER,C13ERR,TRITER
,,,,,,,,,,,,DBAR,ITS-90,PSS-78,,PSS-78,,UMOL/KG,,DEG C,UMOL/KG,,UMOL/KG,,UMOL/KG,,UMOL/KG,,UMOL/KG,,PMOL/KG,,PMOL/KG,,TU,,NMOL/KG,,PERCNT,,/MILLE,,/MILLE,,UMOL/KG,,UMOL/KG,,/MILLE,NMOL/KG,PERCNT,/MILLE,TU
   31WTTUNES_1,  P17C,   107,  1,     61,     61,2,19910703,1619, -1.5017,-134.9967, 4396,      1.7,  27.5377,  35.3713,2,  35.3700,2,   -999.0,9, 27.5373,   -999.0,9,  -999.00,9,  -999.00,9,  -999.00,9,  -999.00,9, -999.000,9, -999.000,9, -999.000,9,-999.0000,9,  -999.00,9,   -999.0,9,  -999.00,9,   -999.0,9,   -999.0,9,  -999.0,-999.0000,-999.000,  -999.0,-999.000
   31WTTUNES_1,  P17C,   107,  1,     62,     62,2,19910703,1619, -1.5017,-134.9967, 4396,     28.7,  27.4618,  35.3705,2,  35.3712,2,   -999.0,9, 27.4551,   -999.0,9,  -999.00,9,  -999.00,9,  -999.00,9,  -999.00,9, -999.000,9, -999.000,9, -999.000,9,-999.0000,9,  -999.00,9,   -999.0,9,  -999.00,9,   -999.0,9,   -999.0,9,  -999.0,-999.0000,-999.000,  -999.0,-999.000
   31WTTUNES_1,  P17C,   107,  1,     63,     63,2,19910703,1619, -1.5017,-134.9967, 4396,     91.8,  22.0520,  35.5898,2,  35.5964,2,   -999.0,9, 22.0338,   -999.0,9,  -999.00,9,  -999.00,9,  -999.00,9,  -999.00,9, -999.000,9, -999.000,9, -999.000,9,-999.0000,9,  -999.00,9,   -999.0,9,  -999.00,9,   -999.0,9,   -999.0,9,  -999.0,-999.0000,-999.000,  -999.0,-999.000
   31WTTUNES_1,  P17C,   107,  1,     64,     64,2,19910703,1619, -1.5017,-134.9967, 4396,    242.2,  11.8825,  34.8434,2,  34.8423,2,   -999.0,9, 11.8511,   -999.0,9,  -999.00,9,  -999.00,9,  -999.00,9,  -999.00,9, -999.000,9, -999.000,9, -999.000,9,-999.0000,9,  -999.00,9,   -999.0,9,  -999.00,9,   -999.0,9,   -999.0,9,  -999.0,-999.0000,-999.000,  -999.0,-999.000
   31WTTUNES_1,  P17C,   107,  1,     65,     65,2,19910703,1619, -1.5017,-134.9967, 4396,    319.4,  11.4133,  34.8138,2,  34.8128,2,   -999.0,9, 11.3729,   -999.0,9,  -999.00,9,  -999.00,9,  -999.00,9,  -999.00,9, -999.000,9, -999.000,9, -999.000,9,-999.0000,9,  -999.00,9,   -999.0,9,  -999.00,9,   -999.0,9,   -999.0,9,  -999.0,-999.0000,-999.000,  -999.0,-999.000
   31WTTUNES_1,  P17C,   107,  1,     66,     66,2,19910703,1619, -1.5017,-134.9967, 4396,    878.8,   5.1539,  34.5431,2,  34.5461,2,   -999.0,9,  5.0803,   -999.0,9,  -999.00,9,  -999.00,9,  -999.00,9,  -999.00,9, -999.000,9, -999.000,9, -999.000,9,-999.0000,9,  -999.00,9,   -999.0,9,  -999.00,9,   -999.0,9,   -999.0,9,  -999.0,-999.0000,-999.000,  -999.0,-999.000
   31WTTUNES_1,  P17C,   107,  1,     67,     67,2,19910703,1619, -1.5017,-134.9967, 4396,   1085.0,   4.2067,  34.5575,2,  34.5598,2,   -999.0,9,  4.1221,   -999.0,9,  -999.00,9,  -999.00,9,  -999.00,9,  -999.00,9, -999.000,9, -999.000,9, -999.000,9,-999.0000,9,  -999.00,9,   -999.0,9,  -999.00,9,   -999.0,9,   -999.0,9,  -999.0,-999.0000,-999.000,  -999.0,-999.000
   31WTTUNES_1,  P17C,   107,  1,     68,     68,2,19910703,1619, -1.5017,-134.9967, 4396,   1980.4,   2.3434,  34.6409,2,  34.6423,2,   -999.0,9,  2.2034,   -999.0,9,  -999.00,9,  -999.00,9,  -999.00,9,  -999.00,9, -999.000,9, -999.000,9, -999.000,9,-999.0000,9,  -999.00,9,   -999.0,9,  -999.00,9,   -999.0,9,   -999.0,9,  -999.0,-999.0000,-999.000,  -999.0,-999.000
   31WTTUNES_1,  P17C,   107,  1,     69,     69,2,19910703,1619, -1.5017,-134.9967, 4396,   2979.5,   1.6289,  34.6745,2,  34.6753,2,   -999.0,9,  1.4113,   -999.0,9,  -999.00,9,  -999.00,9,  -999.00,9,  -999.00,9, -999.000,9, -999.000,9, -999.000,9,-999.0000,9,  -999.00,9,   -999.0,9,  -999.00,9,   -999.0,9,   -999.0,9,  -999.0,-999.0000,-999.000,  -999.0,-999.000
   31WTTUNES_1,  P17C,   107,  1,     70,     70,2,19910703,1619, -1.5017,-134.9967, 4396,   4013.2,   1.4222,  34.6932,2,  34.6934,2,   -999.0,9,  1.1040,   -999.0,9,  -999.00,9,  -999.00,9,  -999.00,9,  -999.00,9, -999.000,9, -999.000,9, -999.000,9,-999.0000,9,  -999.00,9,   -999.0,9,  -999.00,9,   -999.0,9,   -999.0,9,  -999.0,-999.0000,-999.000,  -999.0,-999.000
   31WTTUNES_1,  P17C,   107,  1,     71,     71,2,19910703,1619, -1.5017,-134.9967, 4396,   4458.6,   1.4336,  34.6949,2,  34.6952,2,   -999.0,9,  1.0654,   -999.0,9,  -999.00,9,  -999.00,9,  -999.00,9,  -999.00,9, -999.000,9, -999.000,9, -999.000,9,-999.0000,9,  -999.00,9,   -999.0,9,  -999.00,9,   -999.0,9,   -999.0,9,  -999.0,-999.0000,-999.000,  -999.0,-999.000
   31WTTUNES_1,  P17C,   108,  1,      1,      1,2,19910703,1959, -1.6617,-135.0000, 4365,      0.2,  27.6247,  35.3701,2,  35.3741,2,   -999.0,9, 27.6246,    205.6,2,     2.44,2,     4.94,2,     0.31,2,     0.55,2,    1.707,2,    0.947,2, -999.000,9,-999.0000,9,  -999.00,9,   -999.0,9,  -999.00,9,   -999.0,9,   -999.0,9,  -999.0,-999.0000,-999.000,  -999.0,-999.000
   31WTTUNES_1,  P17C,   108,  1,      2,      2,2,19910703,1959, -1.6617,-135.0000, 4365,     66.5,  27.1687,  35.3854,2,  35.3928,2,    198.0,2, 27.1534,    200.6,2,     2.43,2,     5.40,2,     0.39,2,     0.63,2,    1.728,2,    0.946,2, -999.000,9,-999.0000,9,  -999.00,9,   -999.0,9,  -999.00,9,   -999.0,9,   -999.0,9,  -999.0,-999.0000,-999.000,  -999.0,-999.000
   31WTTUNES_1,  P17C,   108,  1,      3,      3,2,19910703,1959, -1.6617,-135.0000, 4365,     76.8,  25.6535,  35.4466,2,  35.4327,2,    197.6,2, 25.6365,    187.6,2,     3.00,2,     6.88,2,     0.34,2,     0.84,2,    1.829,2,    1.005,2, -999.000,9,-999.0000,9,  -999.00,9,   -999.0,9,  -999.00,9,   -999.0,9,   -999.0,9,  -999.0,-999.0000,-999.000,  -999.0,-999.000
   31WTTUNES_1,  P17C,   108,  1,      4,      4,2,19910703,1959, -1.6617,-135.0000, 4365,     87.9,  24.0256,  35.3873,2,  35.4202,2,    185.2,2, 24.0071,    178.5,2,     3.57,2,     8.04,2,     0.66,2,     0.96,2,    1.841,2,    1.021,2, -999.000,9,-999.0000,9,  -999.00,9,   -999.0,9,  -999.00,9,   -999.0,9,   -999.0,9,  -999.0,-999.0000,-999.000,  -999.0,-999.000
   31WTTUNES_1,  P17C,   108,  1,      5,      5,2,19910703,1959, -1.6617,-135.0000, 4365,     98.0,  22.5174,  35.5961,2,  35.5682,2,    157.7,2, 22.4976,    147.4,2,     4.13,2,     8.51,2,     1.77,2,     1.05,2,    1.745,2,    0.950,2, -999.000,9,-999.0000,9,  -999.00,9,   -999.0,9,  -999.00,9,   -999.0,9,   -999.0,9,  -999.0,-999.0000,-999.000,  -999.0,-999.000
   31WTTUNES_1,  P17C,   108,  1,      6,      6,2,19910703,1959, -1.6617,-135.0000, 4365,    113.0,  18.0110,  35.3850,2,  35.3684,2,    104.1,2, 17.9915,     90.0,2,     8.50,2,    17.23,2,     1.04,2,     1.44,2,    1.357,2,    0.785,2, -999.000,9,-999.0000,9,  -999.00,9,   -999.0,9,  -999.00,9,   -999.0,9,   -999.0,9,  -999.0,-999.0000,-999.000,  -999.0,-999.000
   31WTTUNES_1,  P17C,   108,  1,      7,      7,2,19910703,1959, -1.6617,-135.0000, 4365,    123.8,  16.0972,  35.2365,2,  35.2315,2,     73.9,2, 16.0776,     63.7,2,    12.49,2,    22.33,2,     0.11,2,     1.69,2,    1.026,2,    0.550,2, -999.000,9,-999.0000,9,  -999.00,9,   -999.0,9,  -999.00,9,   -999.0,9,   -999.0,9,  -999.0,-999.0000,-999.000,  -999.0,-999.000
   31WTTUNES_1,  P17C,   108,  1,      8,      8,3,19910703,1959, -1.6617,-135.0000, 4365,    145.2,  14.2332,  35.0613,2,  35.0527,2,     33.6,2, 14.2120,     32.7,2,    18.00,2,    27.90,2,     0.02,2,     2.01,2,    0.627,2,    0.353,2, -999.000,9,-999.0000,9,  -999.00,9,   -999.0,9,  -999.00,9,   -999.0,9,   -999.0,9,  -999.0,-999.0000,-999.000,  -999.0,-999.000
   31WTTUNES_1,  P17C,   108,  1,      9,      9,2,19910703,1959, -1.6617,-135.0000, 4365,    189.3,  12.2487,  34.8825,2,  34.8835,2,     64.9,2, 12.2237,     64.4,2,    22.56,2,    27.52,2,     0.01,2,     1.94,2,    0.395,2,    0.220,2, -999.000,9,-999.0000,9,  -999.00,9,   -999.0,9,  -999.00,9,   -999.0,9,   -999.0,9,  -999.0,-999.0000,-999.000,  -999.0,-999.000
   31WTTUNES_1,  P17C,   108,  1,     10,     10,2,19910703,1959, -1.6617,-135.0000, 4365,    231.6,  11.8324,  34.8364,2,  34.8371,2,     49.6,2, 11.8024,     49.7,2,    25.79,2,    29.84,2,     0.00,2,     2.07,2,    0.305,2,    0.177,2, -999.000,9,-999.0000,9,  -999.00,9,   -999.0,9,  -999.00,9,   -999.0,9,   -999.0,9,  -999.0,-999.0000,-999.000,  -999.0,-999.000
   31WTTUNES_1,  P17C,   108,  1,     11,     11,2,19910703,1959, -1.6617,-135.0000, 4365,    302.0,  11.4895,  34.8160,2,  34.8164,2,     34.3,2, 11.4511,     34.5,2,    28.26,2,    31.92,2,     0.00,2,     2.21,2,    0.224,2,    0.137,2, -999.000,9,-999.0000,9,  -999.00,9,   -999.0,9,  -999.00,9,   -999.0,9,   -999.0,9,  -999.0,-999.0000,-999.000,  -999.0,-999.000
   31WTTUNES_1,  P17C,   108,  1,     12,     12,2,19910703,1959, -1.6617,-135.0000, 4365,    348.6,  11.0031,  34.7950,2,  34.7938,2,     53.0,2, 10.9599,     43.2,2,    28.26,2,    31.93,2,     0.00,2,     2.21,2,    0.180,2,    0.105,2, -999.000,9,-999.0000,9,  -999.00,9,   -999.0,9,  -999.00,9,   -999.0,9,   -999.0,9,  -999.0,-999.0000,-999.000,  -999.0,-999.000
   31WTTUNES_1,  P17C,   108,  1,     13,     13,2,19910703,1959, -1.6617,-135.0000, 4365,    405.0,   9.6471,  34.7074,2,  34.7111,2,     46.9,2,  9.6008,     41.9,2,    33.39,2,    34.69,2,     0.00,2,     2.39,2,    0.078,2,    0.051,2, -999.000,9,-999.0000,9,  -999.00,9,   -999.0,9,  -999.00,9,   -999.0,9,   -999.0,9,  -999.0,-999.0000,-999.000,  -999.0,-999.000
   31WTTUNES_1,  P17C,   108,  1,     14,     14,2,19910703,1959, -1.6617,-135.0000, 4365,    503.5,   8.1490,  34.6304,2,  34.6247,2,     53.7,2,  8.0968,     54.4,2,    40.81,2,    36.87,2,     0.00,2,     2.54,2,    0.029,2,    0.022,2, -999.000,9,-999.0000,9,  -999.00,9,   -999.0,9,  -999.00,9,   -999.0,9,   -999.0,9,  -999.0,-999.0000,-999.000,  -999.0,-999.000
   31WTTUNES_1,  P17C,   108,  1,     15,     15,2,19910703,1959, -1.6617,-135.0000, 4365,    606.0,   6.8343,  34.5681,2,  34.5691,2,     73.4,2,  6.7770,     76.0,2,    48.98,2,    37.35,2,     0.00,2,     2.59,2,    0.015,2,    0.011,2, -999.000,9,-999.0000,9,  -999.00,9,   -999.0,9,  -999.00,9,   -999.0,9,   -999.0,9,  -999.0,-999.0000,-999.000,  -999.0,-999.000
   31WTTUNES_1,  P17C,   108,  1,     16,     16,2,19910703,1959, -1.6617,-135.0000, 4365,    711.5,   6.0616,  34.5501,2,  34.5506,2,     78.0,2,  5.9980,     79.1,2,    58.49,2,    38.30,2,     0.00,2,     2.68,2,    0.006,2,    0.012,2, -999.000,9,-999.0000,9,  -999.00,9,   -999.0,9,  -999.00,9,   -999.0,9,   -999.0,9,  -999.0,-999.0000,-999.000,  -999.0,-999.000
   31WTTUNES_1,  P17C,   108,  1,     17,     17,2,19910703,1959, -1.6617,-135.0000, 4365,    815.4,   5.3526,  34.5426,2,  34.5432,2,     85.8,2,  5.2835,     86.1,2,    68.38,2,    38.73,2,     0.00,2,     2.70,2,    0.002,2,    0.004,2, -999.000,9,-999.0000,9,  -999.00,9,   -999.0,9,  -999.00,9,   -999.0,9,   -999.0,9,  -999.0,-999.0000,-999.000,  -999.0,-999.000
   31WTTUNES_1,  P17C,   108,  1,     18,     18,2,19910703,1959, -1.6617,-135.0000, 4365,    914.2,   4.7683,  34.5461,2,  34.5471,2,     87.0,2,  4.6943,     88.1,2,    78.84,2,    39.27,2,     0.00,2,     2.75,2,    0.001,2,    0.005,2, -999.000,9,-999.0000,9,  -999.00,9,   -999.0,9,  -999.00,9,   -999.0,9,   -999.0,9,  -999.0,-999.0000,-999.000,  -999.0,-999.000
   31WTTUNES_1,  P17C,   108,  1,     19,     19,2,19910703,1959, -1.6617,-135.0000, 4365,   1005.6,   4.4138,  34.5515,2,  34.5528,2,     92.5,2,  4.3344,     93.1,2,    85.88,2,    39.07,2,     0.00,2,     2.74,2,   -0.001,2,    0.000,2, -999.000,9,-999.0000,9,  -999.00,9,   -999.0,9,  -999.00,9,   -999.0,9,   -999.0,9,  -999.0,-999.0000,-999.000,  -999.0,-999.000
   31WTTUNES_1,  P17C,   108,  1,     20,     20,2,19910703,1959, -1.6617,-135.0000, 4365,   1202.0,   3.6638,  34.5764,2,  34.5768,2,     92.5,2,  3.5740,     92.4,2,   104.14,2,    39.71,2,     0.00,2,     2.79,2,   -0.001,2,    0.003,2, -999.000,9,-999.0000,9,  -999.00,9,   -999.0,9,  -999.00,9,   -999.0,9,   -999.0,9,  -999.0,-999.0000,-999.000,  -999.0,-999.000
   31WTTUNES_1,  P17C,   108,  1,     21,     21,2,19910703,1959, -1.6617,-135.0000, 4365,   1414.1,   3.1617,  34.5944,2,  34.5959,2,     96.4,2,  3.0592,     96.5,2,   115.56,2,    39.67,2,     0.00,2,     2.79,2, -999.000,9, -999.000,9, -999.000,9,-999.0000,9,  -999.00,9,   -999.0,9,  -999.00,9,   -999.0,9,   -999.0,9,  -999.0,-999.0000,-999.000,  -999.0,-999.000
   31WTTUNES_1,  P17C,   108,  1,     22,     22,2,19910703,1959, -1.6617,-135.0000, 4365,   1548.4,   2.9371,  34.6089,2,  34.6093,2,     94.1,2,  2.8259,     92.6,2,   124.69,2,    40.11,2,     0.00,2,     2.82,2, -999.000,9, -999.000,9, -999.000,9,-999.0000,9,  -999.00,9,   -999.0,9,  -999.00,9,   -999.0,9,   -999.0,9,  -999.0,-999.0000,-999.000,  -999.0,-999.000
   31WTTUNES_1,  P17C,   108,  1,     23,     23,2,19910703,1959, -1.6617,-135.0000, 4365,   1723.1,   2.6498,  34.6204,2,  34.6218,2,    100.7,2,  2.5275,    101.0,2,   129.83,2,    39.48,2,     0.00,2,     2.77,2, -999.000,9, -999.000,9, -999.000,9,-999.0000,9,  -999.00,9,   -999.0,9,  -999.00,9,   -999.0,9,   -999.0,9,  -999.0,-999.0000,-999.000,  -999.0,-999.000
   31WTTUNES_1,  P17C,   108,  1,     24,     24,2,19910703,1959, -1.6617,-135.0000, 4365,   1925.9,   2.4331,  34.6356,2,  34.6368,2,    100.3,2,  2.2964,    100.1,2,   139.72,2,    39.60,2,     0.00,2,     2.77,2, -999.000,9, -999.000,9, -999.000,9,-999.0000,9,  -999.00,9,   -999.0,9,  -999.00,9,   -999.0,9,   -999.0,9,  -999.0,-999.0000,-999.000,  -999.0,-999.000
   31WTTUNES_1,  P17C,   108,  1,     25,     25,2,19910703,1959, -1.6617,-135.0000, 4365,   2129.9,   2.1584,  34.6481,2,  34.6498,2,    109.5,2,  2.0083,    109.0,2,   144.29,2,    39.09,2,     0.00,2,     2.72,2, -999.000,9, -999.000,9, -999.000,9,-999.0000,9,  -999.00,9,   -999.0,9,  -999.00,9,   -999.0,9,   -999.0,9,  -999.0,-999.0000,-999.000,  -999.0,-999.000
   31WTTUNES_1,  P17C,   108,  1,     26,     26,2,19910703,1959, -1.6617,-135.0000, 4365,   2329.8,   2.0114,  34.6561,2,  34.6559,2,    117.7,2,  1.8462,    117.0,2,   145.25,2,    38.62,2,     0.00,2,     2.68,2, -999.000,9, -999.000,9, -999.000,9,-999.0000,9,  -999.00,9,   -999.0,9,  -999.00,9,   -999.0,9,   -999.0,9,  -999.0,-999.0000,-999.000,  -999.0,-999.000
   31WTTUNES_1,  P17C,   108,  1,     27,     27,2,19910703,1959, -1.6617,-135.0000, 4365,   2527.9,   1.8443,  34.6639,2,  34.6636,2,    128.4,2,  1.6643,    127.0,2,   145.06,2,    37.90,2,     0.00,2,     2.61,2, -999.000,9, -999.000,9, -999.000,9,-999.0000,9,  -999.00,9,   -999.0,9,  -999.00,9,   -999.0,9,   -999.0,9,  -999.0,-999.0000,-999.000,  -999.0,-999.000
   31WTTUNES_1,  P17C,   108,  1,     28,     28,2,19910703,1959, -1.6617,-135.0000, 4365,   2730.6,   1.7243,  34.6687,2,  34.6687,2,    135.5,2,  1.5281,    135.1,2,   145.06,2,    37.34,2,     0.00,2,     2.57,2, -999.000,9, -999.000,9, -999.000,9,-999.0000,9,  -999.00,9,   -999.0,9,  -999.00,9,   -999.0,9,   -999.0,9,  -999.0,-999.0000,-999.000,  -999.0,-999.000
   31WTTUNES_1,  P17C,   108,  1,     29,     29,2,19910703,1959, -1.6617,-135.0000, 4365,   2941.3,   1.6509,  34.6742,2,  34.6732,2,    139.4,2,  1.4364,    139.0,2,   146.21,2,    37.25,2,     0.00,2,     2.55,2, -999.000,9, -999.000,9, -999.000,9,-999.0000,9,  -999.00,9,   -999.0,9,  -999.00,9,   -999.0,9,   -999.0,9,  -999.0,-999.0000,-999.000,  -999.0,-999.000
   31WTTUNES_1,  P17C,   108,  1,     30,     30,2,19910703,1959, -1.6617,-135.0000, 4365,   3141.2,   1.6018,  34.6776,2,  34.6768,2,    143.6,2,  1.3691,    143.4,2,   145.64,2,    36.89,2,     0.00,2,     2.52,2, -999.000,9, -999.000,9, -999.000,9,-999.0000,9,  -999.00,9,   -999.0,9,  -999.00,9,   -999.0,9,   -999.0,9,  -999.0,-999.0000,-999.000,  -999.0,-999.000
   31WTTUNES_1,  P17C,   108,  1,     31,     31,2,19910703,1959, -1.6617,-135.0000, 4365,   3382.4,   1.5431,  34.6853,2,  34.6823,2,    147.4,2,  1.2878,    146.7,2,   148.88,2,    36.80,2,     0.00,2,     2.50,2, -999.000,9, -999.000,9, -999.000,9,-999.0000,9,  -999.00,9,   -999.0,9,  -999.00,9,   -999.0,9,   -999.0,9,  -999.0,-999.0000,-999.000,  -999.0,-999.000
   31WTTUNES_1,  P17C,   108,  1,     32,     32,2,19910703,1959, -1.6617,-135.0000, 4365,   3608.0,   1.4301,  34.6922,2,  34.6900,2,    157.3,2,  1.1546,    157.5,2,   147.17,2,    36.08,2,     0.00,2,     2.44,2, -999.000,9, -999.000,9, -999.000,9,-999.0000,9,  -999.00,9,   -999.0,9,  -999.00,9,   -999.0,9,   -999.0,9,  -999.0,-999.0000,-999.000,  -999.0,-999.000
   31WTTUNES_1,  P17C,   108,  1,     33,     33,2,19910703,1959, -1.6617,-135.0000, 4365,   3752.6,   1.4147,  34.6950,2,  34.6916,2,    157.5,2,  1.1245,    159.1,2,   146.98,2,    35.99,2,     0.00,2,     2.43,2, -999.000,9, -999.000,9, -999.000,9,-999.0000,9,  -999.00,9,   -999.0,9,  -999.00,9,   -999.0,9,   -999.0,9,  -999.0,-999.0000,-999.000,  -999.0,-999.000
   31WTTUNES_1,  P17C,   108,  1,     34,     34,2,19910703,1959, -1.6617,-135.0000, 4365,   3950.2,   1.4244,  34.6952,2,  34.6939,2,    160.2,2,  1.1129,    160.9,2,   145.46,2,    35.85,2,     0.00,2,     2.42,2, -999.000,9, -999.000,9, -999.000,9,-999.0000,9,  -999.00,9,   -999.0,9,  -999.00,9,   -999.0,9,   -999.0,9,  -999.0,-999.0000,-999.000,  -999.0,-999.000
   31WTTUNES_1,  P17C,   108,  1,     35,     35,2,19910703,1959, -1.6617,-135.0000, 4365,   4154.5,   1.4236,  34.6962,2,  34.6942,2,    164.4,2,  1.0898,    165.1,2,   142.61,2,    35.60,2,     0.00,2,     2.41,2, -999.000,9, -999.000,9, -999.000,9,-999.0000,9,  -999.00,9,   -999.0,9,  -999.00,9,   -999.0,9,   -999.0,9,  -999.0,-999.0000,-999.000,  -999.0,-999.000
   31WTTUNES_1,  P17C,   108,  1,     36,     36,2,19910703,1959, -1.6617,-135.0000, 4365,   4422.0,   1.4313,  34.6976,2,  34.6959,2,   -999.0,9,  1.0673,    167.6,2,   139.57,2,    35.25,2,     0.00,2,     2.39,2, -999.000,9, -999.000,9, -999.000,9,-999.0000,9,  -999.00,9,   -999.0,9,  -999.00,9,   -999.0,9,   -999.0,9,  -999.0,-999.0000,-999.000,  -999.0,-999.000