BOTTLE,20220819CCHSIOAMB
EXPOCODE,SECT_ID,STNNBR,CASTNO,SAMPNO,BTLNBR,BTLNBR_FLAG_W,DATE,TIME,LATITUDE,LONGITUDE,DEPTH,CTDPRS,CTDTMP,CTDSAL,CTDSAL_FLAG_W,SALNTY,SALNTY_FLAG_W,CTDOXY,CTDOXY_FLAG_W,THETA,OXYGEN,OXYGEN_FLAG_W,SILCAT,SILCAT_FLAG_W,NITRAT,NITRAT_FLAG_W,NITRIT,NITRIT_FLAG_W,PHSPHT,PHSPHT_FLAG_W,CFC-11,CFC-11_FLAG_W,CFC-12,CFC-12_FLAG_W,TRITUM,TRITUM_FLAG_W,HELIUM,HELIUM_FLAG_W,DELHE3,DELHE3_FLAG_W,DELC14,DELC14_FLAG_W,DELC13,DELC13_FLAG_W,TCARBN,TCARBN_FLAG_W,ALKALI,ALKALI_FLAG_W,C14ERR,HELIER,DELHER,C13ERR,TRITER
,,,,,,,,,,,,DBAR,ITS-90,PSS-78,,PSS-78,,UMOL/KG,,DEG C,UMOL/KG,,UMOL/KG,,UMOL/KG,,UMOL/KG,,UMOL/KG,,PMOL/KG,,PMOL/KG,,TU,,NMOL/KG,,PERCNT,,/MILLE,,/MILLE,,UMOL/KG,,UMOL/KG,,/MILLE,NMOL/KG,PERCNT,/MILLE,TU
   31WTTUNES_1,  P17C,    51,  1,      1,      1,2,19910619,1330, 17.5000,-134.9967, 4968,      0.2,  24.3455,  34.4962,2,  34.5013,2,    210.7,3, 24.3454,    213.4,2,     2.47,2,     0.20,2,     0.00,2,     0.17,2,    1.909,2,    1.098,2, -999.000,9,-999.0000,9,  -999.00,9,   -999.0,9,  -999.00,9,   -999.0,9,   -999.0,9,  -999.0,-999.0000,-999.000,  -999.0,-999.000
   31WTTUNES_1,  P17C,    51,  1,      2,      2,2,19910619,1330, 17.5000,-134.9967, 4968,     34.7,  24.1794,  34.4878,2,  34.4887,2,    214.2,2, 24.1721,    214.5,2,     2.48,2,     0.19,2,     0.00,2,     0.17,2, -999.000,9, -999.000,9,    1.666,2,   1.8180,2,    -1.10,2,   -999.0,9,  -999.00,9,   -999.0,9,   -999.0,9,  -999.0,  0.0090,   0.150,  -999.0,   0.014
   31WTTUNES_1,  P17C,    51,  1,      3,      3,2,19910619,1330, 17.5000,-134.9967, 4968,     61.5,  22.7178,  34.6331,2,  34.6609,2,    226.7,2, 22.7054,    220.4,2,     2.49,2,     0.18,2,     0.00,2,     0.14,2,    2.037,2,    1.168,2, -999.000,9,-999.0000,9,  -999.00,9,   -999.0,9,  -999.00,9,   -999.0,9,   -999.0,9,  -999.0,-999.0000,-999.000,  -999.0,-999.000
   31WTTUNES_1,  P17C,    51,  1,      4,      4,2,19910619,1330, 17.5000,-134.9967, 4968,     87.6,  21.3387,  34.6270,2,  34.6322,2,    224.2,2, 21.3218,    216.0,2,     2.68,2,     0.25,2,     0.07,2,     0.24,2, -999.000,9, -999.000,9,    2.251,2,   1.8350,2,    -0.47,2,   -999.0,9,  -999.00,9,   -999.0,9,   -999.0,9,  -999.0,  0.0090,   0.150,  -999.0,   0.016
   31WTTUNES_1,  P17C,    51,  1,      5,      5,2,19910619,1330, 17.5000,-134.9967, 4968,    116.2,  18.3149,  34.5144,2,  34.4981,2,    192.7,2, 18.2948,    177.8,2,     5.26,2,     5.01,2,     0.12,2,     0.59,2,    2.169,2,    1.129,2, -999.000,9,-999.0000,9,  -999.00,9,   -999.0,9,  -999.00,9,   -999.0,9,   -999.0,9,  -999.0,-999.0000,-999.000,  -999.0,-999.000
   31WTTUNES_1,  P17C,    51,  1,      6,      6,2,19910619,1330, 17.5000,-134.9967, 4968,    140.9,  16.8965,  34.5574,2,  34.4969,3,    172.5,2, 16.8735,    164.3,2,     7.46,2,     8.19,2,     0.02,2,     0.75,2, -999.000,9, -999.000,9,    2.296,2,   1.8790,2,     2.70,2,   -999.0,9,  -999.00,9,   -999.0,9,   -999.0,9,  -999.0,  0.0090,   0.150,  -999.0,   0.016
   31WTTUNES_1,  P17C,    51,  1,      7,      7,2,19910619,1330, 17.5000,-134.9967, 4968,    176.4,  13.0135,  34.1993,2,  34.2014,2,    152.2,2, 12.9895,    152.6,2,    13.51,2,    13.94,2,     0.01,2,     1.12,2,    2.061,2,    1.040,2, -999.000,9,-999.0000,9,  -999.00,9,   -999.0,9,  -999.00,9,   -999.0,9,   -999.0,9,  -999.0,-999.0000,-999.000,  -999.0,-999.000
   31WTTUNES_1,  P17C,    51,  1,      8,      8,2,19910619,1330, 17.5000,-134.9967, 4968,    211.7,  10.9141,  34.1180,2,  34.1479,2,    159.5,2, 10.8883,    153.2,2,    20.66,2,    18.46,2,     0.01,2,     1.43,2,    1.810,2,    0.910,2,    2.149,2,   1.8580,2,     9.29,2,   -999.0,9,  -999.00,9,   -999.0,9,   -999.0,9,  -999.0,  0.0090,   0.150,  -999.0,   0.016
   31WTTUNES_1,  P17C,    51,  1,      9,      9,2,19910619,1330, 17.5000,-134.9967, 4968,    262.9,   9.9901,  34.3934,2,  34.3966,2,     68.9,2,  9.9597,     60.2,2,    36.03,2,    27.87,2,     0.00,2,     2.31,2,    0.465,2,    0.250,2,    1.061,2,   1.8690,2,    12.35,2,   -999.0,9,  -999.00,9,   -999.0,9,   -999.0,9,  -999.0,  0.0090,   0.150,  -999.0,   0.011
   31WTTUNES_1,  P17C,    51,  1,     10,     10,2,19910619,1330, 17.5000,-134.9967, 4968,    300.0,   9.3618,  34.4052,2,  34.4075,2,     39.2,2,  9.3285,     41.2,2,    40.98,2,    29.61,2,     0.00,2,     2.47,2,    0.252,2,    0.143,2, -999.000,9,-999.0000,9,  -999.00,9,   -999.0,9,  -999.00,9,   -999.0,9,   -999.0,9,  -999.0,-999.0000,-999.000,  -999.0,-999.000
   31WTTUNES_1,  P17C,    51,  1,     11,     11,2,19910619,1330, 17.5000,-134.9967, 4968,    339.3,   8.8869,  34.4409,2,  34.4421,2,     25.7,2,  8.8503,     23.6,2,    46.29,2,    31.76,2,     0.00,2,     2.65,2,    0.089,2,    0.059,2,    0.405,2,   1.8530,2,     9.44,2,   -999.0,9,  -999.00,9,   -999.0,9,   -999.0,9,  -999.0,  0.0090,   0.150,  -999.0,   0.007
   31WTTUNES_1,  P17C,    51,  1,     12,     12,2,19910619,1330, 17.5000,-134.9967, 4968,    377.5,   8.4265,  34.4554,2,  34.4593,2,     19.0,2,  8.3870,     16.0,2,    50.33,2,    33.72,2,     0.00,2,     2.76,2,    0.034,2,    0.024,2, -999.000,9,-999.0000,9,  -999.00,9,   -999.0,9,  -999.00,9,   -999.0,9,   -999.0,9,  -999.0,-999.0000,-999.000,  -999.0,-999.000
   31WTTUNES_1,  P17C,    51,  1,     13,     13,2,19910619,1330, 17.5000,-134.9967, 4968,    432.2,   7.6908,  34.4526,2,  34.4574,2,     11.5,2,  7.6478,     11.7,2,    57.47,2,    36.25,2,     0.00,2,     2.87,2,    0.010,2,    0.006,2,    0.063,2,   1.8580,2,     7.43,2,   -999.0,9,  -999.00,9,   -999.0,9,   -999.0,9,  -999.0,  0.0090,   0.150,  -999.0,   0.003
   31WTTUNES_1,  P17C,    51,  1,     14,     14,2,19910619,1330, 17.5000,-134.9967, 4968,    506.6,   6.8928,  34.4547,2,  34.4568,2,      9.8,2,  6.8451,     10.5,2,    66.81,2,    38.46,2,     0.00,2,     3.00,2,    0.001,2,    0.002,2, -999.000,9,-999.0000,9,  -999.00,9,   -999.0,9,  -999.00,9,   -999.0,9,   -999.0,9,  -999.0,-999.0000,-999.000,  -999.0,-999.000
   31WTTUNES_1,  P17C,    51,  1,     15,     15,2,19910619,1330, 17.5000,-134.9967, 4968,    602.2,   6.1706,  34.4572,2,  34.4613,2,     11.9,2,  6.1168,     14.6,2,    76.15,2,    40.49,2,     0.00,2,     3.06,2,    0.001,2,    0.001,2,    0.004,2,   1.9010,2,    10.88,2,   -999.0,9,  -999.00,9,   -999.0,9,   -999.0,9,  -999.0,  0.0090,   0.150,  -999.0,   0.002
   31WTTUNES_1,  P17C,    51,  1,     16,     16,2,19910619,1330, 17.5000,-134.9967, 4968,    704.0,   5.5948,  34.4780,2,  34.4825,2,     14.0,2,  5.5345,     14.6,2,    85.12,2,    42.07,2,     0.00,2,     3.13,2, -999.000,9, -999.000,9, -999.000,9,-999.0000,9,  -999.00,9,   -999.0,9,  -999.00,9,   -999.0,9,   -999.0,9,  -999.0,-999.0000,-999.000,  -999.0,-999.000
   31WTTUNES_1,  P17C,    51,  1,     17,     17,2,19910619,1330, 17.5000,-134.9967, 4968,    801.4,   5.0692,  34.4901,2,  34.4931,2,     16.9,2,  5.0031,     18.4,2,    93.73,2,    43.03,2,     0.00,2,     3.15,2, -999.000,9, -999.000,9, -999.000,9,-999.0000,9,  -999.00,9,   -999.0,9,  -999.00,9,   -999.0,9,   -999.0,9,  -999.0,-999.0000,-999.000,  -999.0,-999.000
   31WTTUNES_1,  P17C,    51,  1,     18,     18,2,19910619,1330, 17.5000,-134.9967, 4968,    904.5,   4.6537,  34.5080,2,  34.5103,2,     26.8,2,  4.5814,     24.4,2,   100.33,2,    43.56,2,     0.00,2,     3.16,2, -999.000,9, -999.000,9, -999.000,9,-999.0000,9,  -999.00,9,   -999.0,9,  -999.00,9,   -999.0,9,   -999.0,9,  -999.0,-999.0000,-999.000,  -999.0,-999.000
   31WTTUNES_1,  P17C,    51,  1,     19,     19,2,19910619,1330, 17.5000,-134.9967, 4968,   1117.6,   3.8792,  34.5376,2,  34.5380,2,     39.8,2,  3.7946,     38.9,2,   115.70,2,    43.03,2,     0.00,2,     3.10,2, -999.000,9, -999.000,9, -999.000,9,   1.8990,2,    24.12,2,   -999.0,9,  -999.00,9,   -999.0,9,   -999.0,9,  -999.0,-999.0000,-999.000,  -999.0,-999.000
   31WTTUNES_1,  P17C,    51,  1,     20,     20,2,19910619,1330, 17.5000,-134.9967, 4968,   1316.5,   3.3685,  34.5656,2,  34.5674,2,     50.9,2,  3.2720,     51.2,2,   125.40,2,    42.49,2,     0.00,2,     3.04,2, -999.000,9, -999.000,9, -999.000,9,   1.8880,2,    22.75,2,   -999.0,9,  -999.00,9,   -999.0,9,   -999.0,9,  -999.0,-999.0000,-999.000,  -999.0,-999.000
   31WTTUNES_1,  P17C,    51,  1,     21,     21,2,19910619,1330, 17.5000,-134.9967, 4968,   1518.0,   2.9002,  34.5903,2,  34.5920,2,     62.7,2,  2.7919,     62.4,2,   136.20,2,    42.07,2,     0.00,2,     2.99,2, -999.000,9, -999.000,9, -999.000,9,   1.8970,2,    23.67,2,   -999.0,9,  -999.00,9,   -999.0,9,   -999.0,9,  -999.0,-999.0000,-999.000,  -999.0,-999.000
   31WTTUNES_1,  P17C,    51,  1,     22,     22,2,19910619,1330, 17.5000,-134.9967, 4968,   1718.3,   2.4966,  34.6103,2,  34.6101,2,     74.7,2,  2.3767,     74.6,2,   145.17,2,    41.27,2,     0.00,2,     2.92,2, -999.000,9, -999.000,9, -999.000,9,   1.9000,2,    24.76,2,   -999.0,9,  -999.00,9,   -999.0,9,   -999.0,9,  -999.0,-999.0000,-999.000,  -999.0,-999.000
   31WTTUNES_1,  P17C,    51,  1,     23,     23,2,19910619,1330, 17.5000,-134.9967, 4968,   1919.7,   2.2546,  34.6255,2,  34.6252,2,     85.5,2,  2.1211,     84.5,2,   149.93,2,    40.48,2,     0.00,2,     2.86,2, -999.000,9, -999.000,9, -999.000,9,   1.9120,2,    25.24,2,   -999.0,9,  -999.00,9,   -999.0,9,   -999.0,9,  -999.0,-999.0000,-999.000,  -999.0,-999.000
   31WTTUNES_1,  P17C,    51,  1,     24,     24,2,19910619,1330, 17.5000,-134.9967, 4968,   2124.0,   2.0310,  34.6357,2,  34.6364,2,     96.4,2,  1.8836,     95.5,2,   154.33,2,    39.85,2,     0.00,2,     2.78,2, -999.000,9, -999.000,9, -999.000,9,   1.9090,2,    23.91,2,   -999.0,9,  -999.00,9,   -999.0,9,   -999.0,9,  -999.0,-999.0000,-999.000,  -999.0,-999.000
   31WTTUNES_1,  P17C,    51,  1,     25,     25,2,19910619,1330, 17.5000,-134.9967, 4968,   2326.3,   1.8811,  34.6465,2,  34.6477,2,    104.5,2,  1.7186,    103.4,2,   156.35,2,    39.33,2,     0.00,2,     2.73,2, -999.000,9, -999.000,9, -999.000,9,   1.9090,2,    23.79,2,   -999.0,9,  -999.00,9,   -999.0,9,   -999.0,9,  -999.0,-999.0000,-999.000,  -999.0,-999.000
   31WTTUNES_1,  P17C,    51,  1,     26,     26,2,19910619,1330, 17.5000,-134.9967, 4968,   2532.9,   1.7739,  34.6556,2,  34.6556,2,    111.4,2,  1.5949,    110.1,2,   158.19,2,    38.81,2,     0.00,2,     2.69,2, -999.000,9, -999.000,9, -999.000,9,-999.0000,9,  -999.00,9,   -999.0,9,  -999.00,9,   -999.0,9,   -999.0,9,  -999.0,-999.0000,-999.000,  -999.0,-999.000
   31WTTUNES_1,  P17C,    51,  1,     27,     27,2,19910619,1330, 17.5000,-134.9967, 4968,   2739.0,   1.6886,  34.6623,2,  34.6623,2,    117.1,2,  1.4923,    116.5,2,   160.03,2,    38.35,2,     0.00,2,     2.65,2, -999.000,9, -999.000,9, -999.000,9,   1.9140,2,    23.57,2,   -999.0,9,  -999.00,9,   -999.0,9,   -999.0,9,  -999.0,-999.0000,-999.000,  -999.0,-999.000
   31WTTUNES_1,  P17C,    51,  1,     28,     28,2,19910619,1330, 17.5000,-134.9967, 4968,   2943.5,   1.6193,  34.6693,2,  34.6685,2,    122.4,2,  1.4053,    122.2,2,   161.32,2,    37.98,2,     0.00,2,     2.62,2, -999.000,9, -999.000,9, -999.000,9,   1.9070,2,    22.07,2,   -999.0,9,  -999.00,9,   -999.0,9,   -999.0,9,  -999.0,-999.0000,-999.000,  -999.0,-999.000
   31WTTUNES_1,  P17C,    51,  1,     29,     29,2,19910619,1330, 17.5000,-134.9967, 4968,   3194.5,   1.5515,  34.6735,2,  34.6732,2,    129.9,2,  1.3147,    129.1,2,   162.07,2,    37.73,2,     0.00,2,     2.60,2, -999.000,9, -999.000,9, -999.000,9,   1.9040,2,    20.29,2,   -999.0,9,  -999.00,9,   -999.0,9,   -999.0,9,  -999.0,-999.0000,-999.000,  -999.0,-999.000
   31WTTUNES_1,  P17C,    51,  1,     30,     30,2,19910619,1330, 17.5000,-134.9967, 4968,   3451.4,   1.5066,  34.6772,2,  34.6770,2,    136.3,2,  1.2453,    135.2,2,   161.71,2,    37.26,2,     0.00,2,     2.57,2, -999.000,9, -999.000,9, -999.000,9,   1.9080,2,    17.76,2,   -999.0,9,  -999.00,9,   -999.0,9,   -999.0,9,  -999.0,-999.0000,-999.000,  -999.0,-999.000
   31WTTUNES_1,  P17C,    51,  1,     31,     31,2,19910619,1330, 17.5000,-134.9967, 4968,   3706.5,   1.4765,  34.6819,2,  34.6815,2,    142.6,2,  1.1896,    141.8,2,   159.16,2,    36.75,2,     0.00,2,     2.52,2, -999.000,9, -999.000,9, -999.000,9,   1.8960,2,    16.74,2,   -999.0,9,  -999.00,9,   -999.0,9,   -999.0,9,  -999.0,-999.0000,-999.000,  -999.0,-999.000
   31WTTUNES_1,  P17C,    51,  1,     32,     32,2,19910619,1330, 17.5000,-134.9967, 4968,   3966.0,   1.4435,  34.6847,2,  34.6852,2,    151.1,2,  1.1299,    151.1,2,   153.32,2,    36.24,2,     0.00,2,     2.48,2, -999.000,9, -999.000,9, -999.000,9,   1.8990,2,    16.06,2,   -999.0,9,  -999.00,9,   -999.0,9,   -999.0,9,  -999.0,-999.0000,-999.000,  -999.0,-999.000
   31WTTUNES_1,  P17C,    51,  1,     33,     33,2,19910619,1330, 17.5000,-134.9967, 4968,   4211.1,   1.4155,  34.6891,2,  34.6901,2,    159.2,2,  1.0758,    159.2,2,   147.66,2,    35.62,2,     0.00,2,     2.44,2, -999.000,9, -999.000,9, -999.000,9,   1.8950,2,    15.29,2,   -999.0,9,  -999.00,9,   -999.0,9,   -999.0,9,  -999.0,-999.0000,-999.000,  -999.0,-999.000
   31WTTUNES_1,  P17C,    51,  1,     34,     34,2,19910619,1330, 17.5000,-134.9967, 4968,   4472.7,   1.4085,  34.6907,2,  34.6917,2,    165.3,2,  1.0394,    164.7,2,   144.20,2,    35.06,2,     0.00,2,     2.40,2, -999.000,9, -999.000,9, -999.000,9,   1.8970,2,    15.34,2,   -999.0,9,  -999.00,9,   -999.0,9,   -999.0,9,  -999.0,-999.0000,-999.000,  -999.0,-999.000
   31WTTUNES_1,  P17C,    51,  1,     35,     35,2,19910619,1330, 17.5000,-134.9967, 4968,   4730.9,   1.4207,  34.6933,2,  34.6936,2,    168.5,2,  1.0212,    167.7,2,   142.20,2,    34.86,2,     0.00,2,     2.39,2, -999.000,9, -999.000,9, -999.000,9,   1.8830,2,    14.61,2,   -999.0,9,  -999.00,9,   -999.0,9,   -999.0,9,  -999.0,-999.0000,-999.000,  -999.0,-999.000
   31WTTUNES_1,  P17C,    51,  1,     36,     36,2,19910619,1330, 17.5000,-134.9967, 4968,   5108.1,   1.4586,  34.6928,2,  34.6940,2,   -999.0,9,  1.0126,    168.5,2,   141.48,2,    34.80,2,     0.00,2,     2.38,2, -999.000,9, -999.000,9, -999.000,9,   1.8980,2,    14.44,2,   -999.0,9,  -999.00,9,   -999.0,9,   -999.0,9,  -999.0,-999.0000,-999.000,  -999.0,-999.000