BOTTLE,20220819CCHSIOAMB
EXPOCODE,SECT_ID,STNNBR,CASTNO,SAMPNO,BTLNBR,BTLNBR_FLAG_W,DATE,TIME,LATITUDE,LONGITUDE,DEPTH,CTDPRS,CTDTMP,CTDSAL,CTDSAL_FLAG_W,SALNTY,SALNTY_FLAG_W,CTDOXY,CTDOXY_FLAG_W,THETA,OXYGEN,OXYGEN_FLAG_W,SILCAT,SILCAT_FLAG_W,NITRAT,NITRAT_FLAG_W,NITRIT,NITRIT_FLAG_W,PHSPHT,PHSPHT_FLAG_W,CFC-11,CFC-11_FLAG_W,CFC-12,CFC-12_FLAG_W,TRITUM,TRITUM_FLAG_W,HELIUM,HELIUM_FLAG_W,DELHE3,DELHE3_FLAG_W,DELC14,DELC14_FLAG_W,DELC13,DELC13_FLAG_W,TCARBN,TCARBN_FLAG_W,ALKALI,ALKALI_FLAG_W,C14ERR,HELIER,DELHER,C13ERR,TRITER
,,,,,,,,,,,,DBAR,ITS-90,PSS-78,,PSS-78,,UMOL/KG,,DEG C,UMOL/KG,,UMOL/KG,,UMOL/KG,,UMOL/KG,,UMOL/KG,,PMOL/KG,,PMOL/KG,,TU,,NMOL/KG,,PERCNT,,/MILLE,,/MILLE,,UMOL/KG,,UMOL/KG,,/MILLE,NMOL/KG,PERCNT,/MILLE,TU
   31WTTUNES_1,  P17C,    28,  1,      1,      1,2,19910612,1431, 28.9967,-134.9983, 4511,      1.8,  18.5209,  34.6450,2,  34.6476,2,    223.2,3, 18.5206,    238.1,2,     3.25,2,     0.00,2,     0.01,2,     0.14,2, -999.000,9, -999.000,9, -999.000,9,-999.0000,9,  -999.00,9,   -999.0,9,  -999.00,9,   -999.0,9,   -999.0,9,  -999.0,-999.0000,-999.000,  -999.0,-999.000
   31WTTUNES_1,  P17C,    28,  1,      2,      2,2,19910612,1431, 28.9967,-134.9983, 4511,     41.5,  18.5328,  34.6534,2,  34.6551,2,    241.1,2, 18.5256,    237.9,2,     2.58,2,     0.00,2,     0.00,2,     0.15,2, -999.000,9, -999.000,9, -999.000,9,-999.0000,9,  -999.00,9,   -999.0,9,  -999.00,9,   -999.0,9,   -999.0,9,  -999.0,-999.0000,-999.000,  -999.0,-999.000
   31WTTUNES_1,  P17C,    28,  1,      3,      3,2,19910612,1431, 28.9967,-134.9983, 4511,     80.9,  18.3907,  34.8141,2,  34.8195,2,    239.3,2, 18.3767,    235.1,2,     2.32,2,     0.00,2,     0.01,2,     0.12,2, -999.000,9, -999.000,9, -999.000,9,-999.0000,9,  -999.00,9,   -999.0,9,  -999.00,9,   -999.0,9,   -999.0,9,  -999.0,-999.0000,-999.000,  -999.0,-999.000
   31WTTUNES_1,  P17C,    28,  1,      4,      4,2,19910612,1431, 28.9967,-134.9983, 4511,    110.5,  18.1514,  34.8120,2,  34.8156,2,    237.0,2, 18.1323,    231.9,2,     2.06,2,     0.00,2,     0.07,2,     0.14,2, -999.000,9, -999.000,9, -999.000,9,-999.0000,9,  -999.00,9,   -999.0,9,  -999.00,9,   -999.0,9,   -999.0,9,  -999.0,-999.0000,-999.000,  -999.0,-999.000
   31WTTUNES_1,  P17C,    28,  1,      5,      5,2,19910612,1431, 28.9967,-134.9983, 4511,    140.3,  18.0375,  34.8137,2,  34.8137,2,    233.8,2, 18.0134,    230.0,2,     2.01,2,     0.17,2,     0.16,2,     0.11,2, -999.000,9, -999.000,9, -999.000,9,-999.0000,9,  -999.00,9,   -999.0,9,  -999.00,9,   -999.0,9,   -999.0,9,  -999.0,-999.0000,-999.000,  -999.0,-999.000
   31WTTUNES_1,  P17C,    28,  1,      6,      6,2,19910612,1431, 28.9967,-134.9983, 4511,    170.7,  17.1927,  34.7006,2,  34.6903,2,    221.3,2, 17.1644,    224.6,2,     1.95,2,     0.99,2,     0.08,2,     0.17,2, -999.000,9, -999.000,9, -999.000,9,-999.0000,9,  -999.00,9,   -999.0,9,  -999.00,9,   -999.0,9,   -999.0,9,  -999.0,-999.0000,-999.000,  -999.0,-999.000
   31WTTUNES_1,  P17C,    28,  1,      7,      7,2,19910612,1431, 28.9967,-134.9983, 4511,    200.6,  14.2594,  34.2313,2,  34.2399,2,    214.7,2, 14.2302,    216.5,2,     3.12,2,     4.50,2,     0.00,2,     0.40,2, -999.000,9, -999.000,9, -999.000,9,-999.0000,9,  -999.00,9,   -999.0,9,  -999.00,9,   -999.0,9,   -999.0,9,  -999.0,-999.0000,-999.000,  -999.0,-999.000
   31WTTUNES_1,  P17C,    28,  1,      8,      8,2,19910612,1431, 28.9967,-134.9983, 4511,    232.7,  12.5281,  34.0756,2,  34.0522,2,    210.6,2, 12.4971,    215.4,2,     6.34,2,     7.92,2,  -999.00,9,     0.62,2, -999.000,9, -999.000,9, -999.000,9,-999.0000,9,  -999.00,9,   -999.0,9,  -999.00,9,   -999.0,9,   -999.0,9,  -999.0,-999.0000,-999.000,  -999.0,-999.000
   31WTTUNES_1,  P17C,    28,  1,      9,      9,2,19910612,1431, 28.9967,-134.9983, 4511,    258.8,  11.2311,  34.0052,2,  34.0032,2,    206.2,2, 11.1991,    212.0,2,     9.76,2,    10.97,2,     0.01,2,     0.79,2, -999.000,9, -999.000,9, -999.000,9,-999.0000,9,  -999.00,9,   -999.0,9,  -999.00,9,   -999.0,9,   -999.0,9,  -999.0,-999.0000,-999.000,  -999.0,-999.000
   31WTTUNES_1,  P17C,    28,  1,     10,     10,2,19910612,1431, 28.9967,-134.9983, 4511,    293.9,  10.0356,  34.0043,2,  34.0052,2,    202.7,2, 10.0016,    210.4,2,    13.78,2,    13.45,2,  -999.00,9,     1.00,2, -999.000,9, -999.000,9, -999.000,9,-999.0000,9,  -999.00,9,   -999.0,9,  -999.00,9,   -999.0,9,   -999.0,9,  -999.0,-999.0000,-999.000,  -999.0,-999.000
   31WTTUNES_1,  P17C,    28,  1,     11,     11,2,19910612,1431, 28.9967,-134.9983, 4511,    334.0,   9.2458,  34.0209,2,  34.0260,2,    194.7,2,  9.2091,    195.1,2,    20.66,2,    18.28,2,  -999.00,9,     1.30,2, -999.000,9, -999.000,9, -999.000,9,-999.0000,9,  -999.00,9,   -999.0,9,  -999.00,9,   -999.0,9,   -999.0,9,  -999.0,-999.0000,-999.000,  -999.0,-999.000
   31WTTUNES_1,  P17C,    28,  1,     12,     12,2,19910612,1431, 28.9967,-134.9983, 4511,    393.1,   8.0283,  34.0086,2,  34.0096,2,    164.8,2,  7.9885,    176.0,2,    30.80,2,    23.13,2,  -999.00,9,     1.65,2, -999.000,9, -999.000,9, -999.000,9,-999.0000,9,  -999.00,9,   -999.0,9,  -999.00,9,   -999.0,9,   -999.0,9,  -999.0,-999.0000,-999.000,  -999.0,-999.000
   31WTTUNES_1,  P17C,    28,  1,     13,     13,2,19910612,1431, 28.9967,-134.9983, 4511,    454.8,   7.0488,  34.0050,2,  34.0067,2,    113.1,2,  7.0060,    122.4,2,    45.01,2,    29.38,2,  -999.00,9,     2.14,2, -999.000,9, -999.000,9, -999.000,9,-999.0000,9,  -999.00,9,   -999.0,9,  -999.00,9,   -999.0,9,   -999.0,9,  -999.0,-999.0000,-999.000,  -999.0,-999.000
   31WTTUNES_1,  P17C,    28,  1,     14,     14,2,19910612,1431, 28.9967,-134.9983, 4511,    504.5,   6.3498,  34.0344,2,  34.0371,2,     80.0,2,  6.3047,     82.3,2,    58.60,2,    34.26,2,  -999.00,9,     2.50,2, -999.000,9, -999.000,9, -999.000,9,-999.0000,9,  -999.00,9,   -999.0,9,  -999.00,9,   -999.0,9,   -999.0,9,  -999.0,-999.0000,-999.000,  -999.0,-999.000
   31WTTUNES_1,  P17C,    28,  1,     15,     15,2,19910612,1431, 28.9967,-134.9983, 4511,    556.5,   5.8592,  34.0755,2,  34.0786,2,     51.4,2,  5.8114,     55.2,2,    68.91,2,    37.44,2,  -999.00,9,     2.76,2, -999.000,9, -999.000,9, -999.000,9,-999.0000,9,  -999.00,9,   -999.0,9,  -999.00,9,   -999.0,9,   -999.0,9,  -999.0,-999.0000,-999.000,  -999.0,-999.000
   31WTTUNES_1,  P17C,    28,  1,     16,     16,2,19910612,1431, 28.9967,-134.9983, 4511,    627.6,   5.3279,  34.1436,2,  34.1445,2,     40.9,2,  5.2761,     31.0,2,    81.45,2,    40.14,2,  -999.00,9,     2.98,2, -999.000,9, -999.000,9, -999.000,9,-999.0000,9,  -999.00,9,   -999.0,9,  -999.00,9,   -999.0,9,   -999.0,9,  -999.0,-999.0000,-999.000,  -999.0,-999.000
   31WTTUNES_1,  P17C,    28,  1,     17,     17,2,19910612,1431, 28.9967,-134.9983, 4511,    707.8,   4.7930,  34.2099,2,  34.2128,2,     21.7,2,  4.7370,     21.5,2,    94.80,2,    41.80,2,  -999.00,9,     3.09,2, -999.000,9, -999.000,9, -999.000,9,-999.0000,9,  -999.00,9,   -999.0,9,  -999.00,9,   -999.0,9,   -999.0,9,  -999.0,-999.0000,-999.000,  -999.0,-999.000
   31WTTUNES_1,  P17C,    28,  1,     18,     18,2,19910612,1431, 28.9967,-134.9983, 4511,    811.3,   4.1330,  34.2742,2,  34.2760,2,     14.8,2,  4.0722,     15.0,2,   111.19,2,    43.36,2,     0.01,2,     3.18,2, -999.000,9, -999.000,9, -999.000,9,-999.0000,9,  -999.00,9,   -999.0,9,  -999.00,9,   -999.0,9,   -999.0,9,  -999.0,-999.0000,-999.000,  -999.0,-999.000
   31WTTUNES_1,  P17C,    28,  1,     19,     19,2,19910612,1431, 28.9967,-134.9983, 4511,    911.5,   3.8678,  34.3680,2,  34.3698,2,     14.3,2,  3.8005,     14.7,2,   119.01,2,    43.86,2,     0.00,2,     3.21,2, -999.000,9, -999.000,9, -999.000,9,-999.0000,9,  -999.00,9,   -999.0,9,  -999.00,9,   -999.0,9,   -999.0,9,  -999.0,-999.0000,-999.000,  -999.0,-999.000
   31WTTUNES_1,  P17C,    28,  1,     20,     20,2,19910612,1431, 28.9967,-134.9983, 4511,   1012.8,   3.6361,  34.4283,2,  34.4303,2,     20.6,2,  3.5623,     20.4,2,   125.41,2,    43.63,2,     0.00,2,     3.20,2, -999.000,9, -999.000,9, -999.000,9,-999.0000,9,  -999.00,9,   -999.0,9,  -999.00,9,   -999.0,9,   -999.0,9,  -999.0,-999.0000,-999.000,  -999.0,-999.000
   31WTTUNES_1,  P17C,    28,  1,     21,     21,2,19910612,1431, 28.9967,-134.9983, 4511,   1215.1,   3.1140,  34.5095,2,  34.5100,2,     37.8,2,  3.0284,     37.3,2,   137.09,2,    42.63,2,     0.00,2,     3.12,2, -999.000,9, -999.000,9, -999.000,9,-999.0000,9,  -999.00,9,   -999.0,9,  -999.00,9,   -999.0,9,   -999.0,9,  -999.0,-999.0000,-999.000,  -999.0,-999.000
   31WTTUNES_1,  P17C,    28,  1,     22,     22,2,19910612,1431, 28.9967,-134.9983, 4511,   1412.0,   2.7819,  34.5479,2,  34.5489,2,     49.7,2,  2.6838,     50.7,2,   143.68,2,    41.91,2,     0.00,2,     3.06,2, -999.000,9, -999.000,9, -999.000,9,-999.0000,9,  -999.00,9,   -999.0,9,  -999.00,9,   -999.0,9,   -999.0,9,  -999.0,-999.0000,-999.000,  -999.0,-999.000
   31WTTUNES_1,  P17C,    28,  1,     23,     23,2,19910612,1431, 28.9967,-134.9983, 4511,   1620.9,   2.4430,  34.5800,2,  34.5814,2,     62.0,2,  2.3318,     62.2,2,   152.30,2,    41.52,2,     0.01,2,     2.99,2, -999.000,9, -999.000,9, -999.000,9,-999.0000,9,  -999.00,9,   -999.0,9,  -999.00,9,   -999.0,9,   -999.0,9,  -999.0,-999.0000,-999.000,  -999.0,-999.000
   31WTTUNES_1,  P17C,    28,  1,     24,     24,2,19910612,1431, 28.9967,-134.9983, 4511,   1824.3,   2.1896,  34.6022,2,  34.6044,2,     72.8,2,  2.0651,     72.6,2,   157.86,2,    40.97,2,     0.00,2,     2.93,2, -999.000,9, -999.000,9, -999.000,9,-999.0000,9,  -999.00,9,   -999.0,9,  -999.00,9,   -999.0,9,   -999.0,9,  -999.0,-999.0000,-999.000,  -999.0,-999.000
   31WTTUNES_1,  P17C,    28,  1,     25,     25,2,19910612,1431, 28.9967,-134.9983, 4511,   2020.9,   1.9851,  34.6192,2,  34.6213,2,     83.0,2,  1.8471,     81.8,2,   163.02,2,    40.53,2,     0.00,2,     2.89,2, -999.000,9, -999.000,9, -999.000,9,-999.0000,9,  -999.00,9,   -999.0,9,  -999.00,9,   -999.0,9,   -999.0,9,  -999.0,-999.0000,-999.000,  -999.0,-999.000
   31WTTUNES_1,  P17C,    28,  1,     26,     26,2,19910612,1431, 28.9967,-134.9983, 4511,   2229.6,   1.8378,  34.6331,2,  34.6351,2,     92.8,2,  1.6844,     92.5,2,   166.35,2,    39.88,2,  -999.00,9,     2.82,2, -999.000,9, -999.000,9, -999.000,9,-999.0000,9,  -999.00,9,   -999.0,9,  -999.00,9,   -999.0,9,   -999.0,9,  -999.0,-999.0000,-999.000,  -999.0,-999.000
   31WTTUNES_1,  P17C,    28,  1,     27,     27,2,19910612,1431, 28.9967,-134.9983, 4511,   2427.2,   1.7156,  34.6443,2,  34.6465,2,    100.7,2,  1.5471,    100.1,2,   168.25,2,    39.39,2,  -999.00,9,     2.77,2, -999.000,9, -999.000,9, -999.000,9,-999.0000,9,  -999.00,9,   -999.0,9,  -999.00,9,   -999.0,9,   -999.0,9,  -999.0,-999.0000,-999.000,  -999.0,-999.000
   31WTTUNES_1,  P17C,    28,  1,     28,     28,2,19910612,1431, 28.9967,-134.9983, 4511,   2633.5,   1.6412,  34.6522,2,  34.6532,2,    108.9,2,  1.4556,    108.6,2,   167.93,2,    38.95,2,  -999.00,9,     2.72,2, -999.000,9, -999.000,9, -999.000,9,-999.0000,9,  -999.00,9,   -999.0,9,  -999.00,9,   -999.0,9,   -999.0,9,  -999.0,-999.0000,-999.000,  -999.0,-999.000
   31WTTUNES_1,  P17C,    28,  1,     29,     29,2,19910612,1431, 28.9967,-134.9983, 4511,   2835.8,   1.6055,  34.6574,2,  34.6584,2,    114.9,2,  1.4020,    114.0,2,   167.20,2,    38.63,2,  -999.00,9,     2.71,2, -999.000,9, -999.000,9, -999.000,9,-999.0000,9,  -999.00,9,   -999.0,9,  -999.00,9,   -999.0,9,   -999.0,9,  -999.0,-999.0000,-999.000,  -999.0,-999.000
   31WTTUNES_1,  P17C,    28,  1,     30,     30,2,19910612,1431, 28.9967,-134.9983, 4511,   3038.0,   1.5765,  34.6616,2,  34.6635,2,    120.2,2,  1.3545,    118.3,2,   166.27,2,    38.30,2,     0.00,2,     2.67,2, -999.000,9, -999.000,9, -999.000,9,-999.0000,9,  -999.00,9,   -999.0,9,  -999.00,9,   -999.0,9,   -999.0,9,  -999.0,-999.0000,-999.000,  -999.0,-999.000
   31WTTUNES_1,  P17C,    28,  1,     31,     31,2,19910612,1431, 28.9967,-134.9983, 4511,   3300.3,   1.5266,  34.6688,2,  34.6702,2,    126.5,2,  1.2800,    129.2,2,   164.32,2,    37.74,2,     0.02,2,     2.63,2, -999.000,9, -999.000,9, -999.000,9,-999.0000,9,  -999.00,9,   -999.0,9,  -999.00,9,   -999.0,9,   -999.0,9,  -999.0,-999.0000,-999.000,  -999.0,-999.000
   31WTTUNES_1,  P17C,    28,  1,     32,     32,2,19910612,1431, 28.9967,-134.9983, 4511,   3557.2,   1.5025,  34.6740,2,  34.6754,2,    133.6,2,  1.2305,    133.3,2,   162.79,2,    37.31,2,     0.02,2,     2.58,2, -999.000,9, -999.000,9, -999.000,9,-999.0000,9,  -999.00,9,   -999.0,9,  -999.00,9,   -999.0,9,   -999.0,9,  -999.0,-999.0000,-999.000,  -999.0,-999.000
   31WTTUNES_1,  P17C,    28,  1,     33,     33,2,19910612,1431, 28.9967,-134.9983, 4511,   3834.2,   1.4960,  34.6776,2,  34.6789,2,    138.9,2,  1.1951,    139.4,2,   161.45,2,    36.79,2,  -999.00,9,     2.55,2, -999.000,9, -999.000,9, -999.000,9,-999.0000,9,  -999.00,9,   -999.0,9,  -999.00,9,   -999.0,9,   -999.0,9,  -999.0,-999.0000,-999.000,  -999.0,-999.000
   31WTTUNES_1,  P17C,    28,  1,     34,     34,2,19910612,1431, 28.9967,-134.9983, 4511,   4067.6,   1.5074,  34.6795,2,  34.6813,2,    141.0,2,  1.1809,    141.4,2,   160.53,2,    36.63,2,  -999.00,9,     2.54,2, -999.000,9, -999.000,9, -999.000,9,-999.0000,9,  -999.00,9,   -999.0,9,  -999.00,9,   -999.0,9,   -999.0,9,  -999.0,-999.0000,-999.000,  -999.0,-999.000
   31WTTUNES_1,  P17C,    28,  1,     35,     35,2,19910612,1431, 28.9967,-134.9983, 4511,   4327.3,   1.5288,  34.6809,2,  34.6825,2,    142.8,2,  1.1727,    142.5,2,   160.01,2,    36.76,2,     0.02,2,     2.54,2, -999.000,9, -999.000,9, -999.000,9,-999.0000,9,  -999.00,9,   -999.0,9,  -999.00,9,   -999.0,9,   -999.0,9,  -999.0,-999.0000,-999.000,  -999.0,-999.000
   31WTTUNES_1,  P17C,    28,  1,     36,     36,2,19910612,1431, 28.9967,-134.9983, 4511,   4564.0,   1.5546,  34.6811,2,  34.6820,2,   -999.0,9,  1.1705,    142.9,2,   159.08,2,    36.69,2,     0.02,2,  -999.00,9, -999.000,9, -999.000,9, -999.000,9,-999.0000,9,  -999.00,9,   -999.0,9,  -999.00,9,   -999.0,9,   -999.0,9,  -999.0,-999.0000,-999.000,  -999.0,-999.000