BOTTLE,20220819CCHSIOAMB
EXPOCODE,SECT_ID,STNNBR,CASTNO,SAMPNO,BTLNBR,BTLNBR_FLAG_W,DATE,TIME,LATITUDE,LONGITUDE,DEPTH,CTDPRS,CTDTMP,CTDSAL,CTDSAL_FLAG_W,SALNTY,SALNTY_FLAG_W,CTDOXY,CTDOXY_FLAG_W,THETA,OXYGEN,OXYGEN_FLAG_W,SILCAT,SILCAT_FLAG_W,NITRAT,NITRAT_FLAG_W,NITRIT,NITRIT_FLAG_W,PHSPHT,PHSPHT_FLAG_W,CFC-11,CFC-11_FLAG_W,CFC-12,CFC-12_FLAG_W,TRITUM,TRITUM_FLAG_W,HELIUM,HELIUM_FLAG_W,DELHE3,DELHE3_FLAG_W,DELC14,DELC14_FLAG_W,DELC13,DELC13_FLAG_W,TCARBN,TCARBN_FLAG_W,ALKALI,ALKALI_FLAG_W,C14ERR,HELIER,DELHER,C13ERR,TRITER
,,,,,,,,,,,,DBAR,ITS-90,PSS-78,,PSS-78,,UMOL/KG,,DEG C,UMOL/KG,,UMOL/KG,,UMOL/KG,,UMOL/KG,,UMOL/KG,,PMOL/KG,,PMOL/KG,,TU,,NMOL/KG,,PERCNT,,/MILLE,,/MILLE,,UMOL/KG,,UMOL/KG,,/MILLE,NMOL/KG,PERCNT,/MILLE,TU
   31WTTUNES_1,  P17C,    72,  1,      1,      1,2,19910626,0016,  7.0267,-134.9967, 4664,      0.2,  28.8864,  34.1047,2,  34.1130,2,    201.8,3, 28.8864,    202.9,2,     3.81,2,     0.10,2,     0.00,2,     0.24,2,    1.675,2,    0.910,2, -999.000,9,-999.0000,9,  -999.00,9,   -999.0,9,  -999.00,9,   -999.0,9,   -999.0,9,  -999.0,-999.0000,-999.000,  -999.0,-999.000
   31WTTUNES_1,  P17C,    72,  1,      2,      2,2,19910626,0016,  7.0267,-134.9967, 4664,     30.9,  28.5783,  34.2696,2,  34.3010,2,    209.7,2, 28.5709,    206.5,2,     3.81,2,     0.10,2,     0.01,2,     0.24,2,    1.651,2,    0.961,2,    1.261,2,   1.7580,2,    -0.76,2,   -999.0,9,  -999.00,9,   -999.0,9,   -999.0,9,  -999.0,  0.0080,   0.150,  -999.0,   0.011
   31WTTUNES_1,  P17C,    72,  1,      3,      3,2,19910626,0016,  7.0267,-134.9967, 4664,     51.6,  27.1578,  34.6561,2,  34.6820,2,    194.3,2, 27.1460,    181.4,2,     3.71,2,     1.47,2,     0.36,2,     0.37,2,    1.686,2,    0.958,2,    1.366,2,   1.7590,2,    -0.06,2,   -999.0,9,  -999.00,9,   -999.0,9,   -999.0,9,  -999.0,  0.0080,   0.150,  -999.0,   0.012
   31WTTUNES_1,  P17C,    72,  1,      4,      4,2,19910626,0016,  7.0267,-134.9967, 4664,     68.2,  22.7059,  34.8586,2,  34.8100,2,    150.7,2, 22.6921,    150.7,2,     5.67,2,     5.38,2,     1.20,2,     0.63,2,    1.706,2,    0.917,2,    1.774,2,   1.7730,2,     2.69,2,   -999.0,9,  -999.00,9,   -999.0,9,   -999.0,9,  -999.0,  0.0080,   0.150,  -999.0,   0.013
   31WTTUNES_1,  P17C,    72,  1,      5,      5,2,19910626,0016,  7.0267,-134.9967, 4664,     83.6,  18.7997,  34.7222,2,  34.7080,2,    141.5,2, 18.7850,    127.6,2,     9.87,2,    11.53,2,     0.36,2,     1.01,2,    1.554,2,    0.845,2,    1.674,2,   1.7830,2,     5.68,2,   -999.0,9,  -999.00,9,   -999.0,9,   -999.0,9,  -999.0,  0.0080,   0.150,  -999.0,   0.009
   31WTTUNES_1,  P17C,    72,  1,      6,      6,2,19910626,0016,  7.0267,-134.9967, 4664,    104.1,  15.0261,  34.6048,2,  34.6070,2,     95.3,2, 15.0104,     83.6,2,    17.69,2,    20.14,2,     0.05,2,     1.62,2,    1.172,2,    0.588,2,    1.583,2,   1.8270,2,     7.99,2,   -999.0,9,  -999.00,9,   -999.0,9,   -999.0,9,  -999.0,  0.0090,   0.150,  -999.0,   0.009
   31WTTUNES_1,  P17C,    72,  1,      7,      7,2,19910626,0016,  7.0267,-134.9967, 4664,    130.1,  12.8786,  34.6480,2,  34.6460,2,     47.1,2, 12.8609,     47.5,2,    26.88,2,    27.47,2,     0.02,2,     2.13,2,    0.555,2,    0.290,2,    0.999,2,   1.8290,2,     9.43,2,   -999.0,9,  -999.00,9,   -999.0,9,   -999.0,9,  -999.0,  0.0090,   0.150,  -999.0,   0.007
   31WTTUNES_1,  P17C,    72,  1,      8,      8,2,19910626,0016,  7.0267,-134.9967, 4664,    160.7,  11.4440,  34.6977,2,  34.6950,2,     33.3,2, 11.4238,     34.6,2,    30.01,2,    30.79,2,     0.01,2,     2.36,2,    0.261,2,    0.139,2,    0.576,2,   1.8460,2,     8.19,2,   -999.0,9,  -999.00,9,   -999.0,9,   -999.0,9,  -999.0,  0.0090,   0.150,  -999.0,   0.005
   31WTTUNES_1,  P17C,    72,  1,      9,      9,2,19910626,0016,  7.0267,-134.9967, 4664,    185.9,  10.9291,  34.6997,2,  34.7050,2,     53.4,2, 10.9064,     43.6,2,    30.89,2,    30.59,2,     0.01,2,     2.32,2,    0.220,2,    0.118,2,    0.451,2,   1.8310,2,     7.53,2,   -999.0,9,  -999.00,9,   -999.0,9,   -999.0,9,  -999.0,  0.0090,   0.150,  -999.0,   0.005
   31WTTUNES_1,  P17C,    72,  1,     10,     10,2,19910626,0016,  7.0267,-134.9967, 4664,    231.9,  10.3254,  34.6941,2,  34.6950,2,     55.4,2, 10.2979,     51.5,2,    32.45,2,    31.08,2,     0.01,2,     2.33,2,    0.171,2,    0.103,2, -999.000,9,-999.0000,9,  -999.00,9,   -999.0,9,  -999.00,9,   -999.0,9,   -999.0,9,  -999.0,-999.0000,-999.000,  -999.0,-999.000
   31WTTUNES_1,  P17C,    72,  1,     11,     11,2,19910626,0016,  7.0267,-134.9967, 4664,    307.1,   9.7736,  34.6828,2,  34.6830,2,     63.9,2,  9.7384,     36.2,2,    35.19,2,    33.43,2,     0.01,2,     2.49,2,    0.080,2,    0.050,2, -999.000,9,-999.0000,9,  -999.00,9,   -999.0,9,  -999.00,9,   -999.0,9,   -999.0,9,  -999.0,-999.0000,-999.000,  -999.0,-999.000
   31WTTUNES_1,  P17C,    72,  1,     12,     12,2,19910626,0016,  7.0267,-134.9967, 4664,    355.7,   9.4177,  34.6677,2,  34.6680,2,     36.9,2,  9.3778,     39.7,2,    36.36,2,    33.72,2,     0.01,2,     2.51,2,    0.070,2,    0.044,2, -999.000,9,-999.0000,9,  -999.00,9,   -999.0,9,  -999.00,9,   -999.0,9,   -999.0,9,  -999.0,-999.0000,-999.000,  -999.0,-999.000
   31WTTUNES_1,  P17C,    72,  1,     13,     13,2,19910626,0016,  7.0267,-134.9967, 4664,    406.1,   9.0408,  34.6522,2,  34.6530,2,     24.2,2,  8.9963,     29.0,2,    39.98,2,    35.19,2,     0.01,2,     2.66,2,    0.033,2,    0.019,2, -999.000,9,-999.0000,9,  -999.00,9,   -999.0,9,  -999.00,9,   -999.0,9,   -999.0,9,  -999.0,-999.0000,-999.000,  -999.0,-999.000
   31WTTUNES_1,  P17C,    72,  1,     14,     14,2,19910626,0016,  7.0267,-134.9967, 4664,    511.8,   7.8094,  34.5986,2,  34.5980,2,      4.9,2,  7.7576,      4.8,2,    55.62,2,    37.63,2,     0.00,2,     3.08,2,    0.002,2,   -0.002,2, -999.000,9,-999.0000,9,  -999.00,9,   -999.0,9,  -999.00,9,   -999.0,9,   -999.0,9,  -999.0,-999.0000,-999.000,  -999.0,-999.000
   31WTTUNES_1,  P17C,    72,  1,     15,     15,2,19910626,0016,  7.0267,-134.9967, 4664,    604.4,   6.8628,  34.5699,2,  34.5700,2,      9.5,2,  6.8056,      9.9,2,    64.03,2,    40.57,2,     0.01,2,     3.18,2, -999.000,9, -999.000,9, -999.000,9,-999.0000,9,  -999.00,9,   -999.0,9,  -999.00,9,   -999.0,9,   -999.0,9,  -999.0,-999.0000,-999.000,  -999.0,-999.000
   31WTTUNES_1,  P17C,    72,  1,     16,     16,2,19910626,0016,  7.0267,-134.9967, 4664,    706.3,   5.9853,  34.5527,2,  34.5540,2,     22.2,2,  5.9226,     20.0,2,    72.53,2,    42.42,2,     0.01,2,     3.19,2, -999.000,9, -999.000,9, -999.000,9,-999.0000,9,  -999.00,9,   -999.0,9,  -999.00,9,   -999.0,9,   -999.0,9,  -999.0,-999.0000,-999.000,  -999.0,-999.000
   31WTTUNES_1,  P17C,    72,  1,     17,     17,2,19910626,0016,  7.0267,-134.9967, 4664,    807.9,   5.3836,  34.5513,2,  34.5530,2,     37.2,2,  5.3150,     33.7,2,    79.86,2,    42.23,2,     0.01,2,     3.15,2, -999.000,9, -999.000,9, -999.000,9,-999.0000,9,  -999.00,9,   -999.0,9,  -999.00,9,   -999.0,9,   -999.0,9,  -999.0,-999.0000,-999.000,  -999.0,-999.000
   31WTTUNES_1,  P17C,    72,  1,     18,     18,2,19910626,0016,  7.0267,-134.9967, 4664,    910.4,   4.8499,  34.5556,2,  34.5560,2,     49.2,2,  4.7756,     47.8,2,    88.37,2,    41.74,2,     0.00,2,     3.11,2,    0.000,2,   -0.002,2, -999.000,9,-999.0000,9,  -999.00,9,   -999.0,9,  -999.00,9,   -999.0,9,   -999.0,9,  -999.0,-999.0000,-999.000,  -999.0,-999.000
   31WTTUNES_1,  P17C,    72,  1,     19,     19,2,19910626,0016,  7.0267,-134.9967, 4664,   1006.1,   4.4761,  34.5606,2,  34.5620,2,     56.8,2,  4.3962,     56.0,2,    95.50,2,    41.25,2,     0.00,2,     3.08,2,    0.000,2,   -0.002,2, -999.000,9,   1.8620,2,    18.58,2,   -999.0,9,  -999.00,9,   -999.0,9,   -999.0,9,  -999.0,-999.0000,-999.000,  -999.0,-999.000
   31WTTUNES_1,  P17C,    72,  1,     20,     20,2,19910626,0016,  7.0267,-134.9967, 4664,   1210.8,   3.8235,  34.5783,2,  34.5790,2,     68.3,2,  3.7315,     67.3,2,   108.99,2,    40.47,2,     0.00,2,     3.03,2,    0.000,2,   -0.003,2, -999.000,9,   1.8820,2,    21.25,2,   -999.0,9,  -999.00,9,   -999.0,9,   -999.0,9,  -999.0,-999.0000,-999.000,  -999.0,-999.000
   31WTTUNES_1,  P17C,    72,  1,     21,     21,2,19910626,0016,  7.0267,-134.9967, 4664,   1414.5,   3.3298,  34.5953,2,  34.5950,2,     74.7,2,  3.2254,     73.6,2,   120.82,2,    40.27,2,     0.00,2,     2.99,2, -999.000,9, -999.000,9, -999.000,9,   1.8890,2,    23.34,2,   -999.0,9,  -999.00,9,   -999.0,9,   -999.0,9,  -999.0,-999.0000,-999.000,  -999.0,-999.000
   31WTTUNES_1,  P17C,    72,  1,     22,     22,3,19910626,0016,  7.0267,-134.9967, 4664,   1613.1,   2.9071,  34.6100,2,  34.6040,4,     85.5,2,  2.7907,     84.1,2,   129.61,2,    39.49,2,     0.00,2,     2.93,2, -999.000,9, -999.000,9, -999.000,9,   1.8950,2,    25.20,2,   -999.0,9,  -999.00,9,   -999.0,9,   -999.0,9,  -999.0,-999.0000,-999.000,  -999.0,-999.000
   31WTTUNES_1,  P17C,    72,  1,     23,     23,2,19910626,0016,  7.0267,-134.9967, 4664,   1815.4,   2.5403,  34.6250,2,  34.6250,2,     91.2,2,  2.4116,     91.1,2,   138.51,2,    39.29,2,     0.00,2,     2.89,2, -999.000,9, -999.000,9, -999.000,9,   1.9120,2,    26.54,2,   -999.0,9,  -999.00,9,   -999.0,9,   -999.0,9,  -999.0,-999.0000,-999.000,  -999.0,-999.000
   31WTTUNES_1,  P17C,    72,  1,     24,     24,2,19910626,0016,  7.0267,-134.9967, 4664,   2021.8,   2.2435,  34.6394,2,  34.6400,2,     98.8,2,  2.1015,     98.1,2,   145.64,2,    38.90,2,     0.01,2,     2.84,2, -999.000,9, -999.000,9, -999.000,9,   1.9170,2,    27.75,2,   -999.0,9,  -999.00,9,   -999.0,9,   -999.0,9,  -999.0,-999.0000,-999.000,  -999.0,-999.000
   31WTTUNES_1,  P17C,    72,  1,     25,     25,2,19910626,0016,  7.0267,-134.9967, 4664,   2225.4,   2.0496,  34.6539,2,  34.6530,2,    104.7,2,  1.8930,    103.4,2,   150.92,2,    38.51,2,     0.01,2,     2.81,2, -999.000,9, -999.000,9, -999.000,9,   1.8860,2,    30.29,2,   -999.0,9,  -999.00,9,   -999.0,9,   -999.0,9,  -999.0,-999.0000,-999.000,  -999.0,-999.000
   31WTTUNES_1,  P17C,    72,  1,     26,     26,2,19910626,0016,  7.0267,-134.9967, 4664,   2429.1,   1.9217,  34.6617,2,  34.6610,2,    109.2,2,  1.7492,    108.1,2,   154.73,2,    38.12,2,     0.00,2,     2.77,2, -999.000,9, -999.000,9, -999.000,9,   1.9380,2,    32.44,2,   -999.0,9,  -999.00,9,   -999.0,9,   -999.0,9,  -999.0,-999.0000,-999.000,  -999.0,-999.000
   31WTTUNES_1,  P17C,    72,  1,     27,     27,2,19910626,0016,  7.0267,-134.9967, 4664,   2632.6,   1.8538,  34.6671,2,  34.6660,2,    112.2,2,  1.6640,    112.2,2,   156.49,2,    37.83,2,     0.01,2,     2.75,2, -999.000,9, -999.000,9, -999.000,9,   1.9490,2,    33.93,2,   -999.0,9,  -999.00,9,   -999.0,9,   -999.0,9,  -999.0,-999.0000,-999.000,  -999.0,-999.000
   31WTTUNES_1,  P17C,    72,  1,     28,     28,2,19910626,0016,  7.0267,-134.9967, 4664,   2835.9,   1.7898,  34.6698,2,  34.6700,2,    116.6,2,  1.5824,    115.8,2,   157.27,2,    37.53,2,     0.01,2,     2.71,2, -999.000,9, -999.000,9, -999.000,9,   1.9410,2,    32.08,2,   -999.0,9,  -999.00,9,   -999.0,9,   -999.0,9,  -999.0,-999.0000,-999.000,  -999.0,-999.000
   31WTTUNES_1,  P17C,    72,  1,     29,     29,2,19910626,0016,  7.0267,-134.9967, 4664,   3039.5,   1.6999,  34.6743,2,  34.6750,2,    123.9,2,  1.4749,    123.9,2,   157.17,2,    37.24,2,     0.01,2,     2.66,2, -999.000,9, -999.000,9, -999.000,9,   1.9260,2,    28.43,2,   -999.0,9,  -999.00,9,   -999.0,9,   -999.0,9,  -999.0,-999.0000,-999.000,  -999.0,-999.000
   31WTTUNES_1,  P17C,    72,  1,     30,     30,2,19910626,0016,  7.0267,-134.9967, 4664,   3291.0,   1.5899,  34.6800,2,  34.6800,2,    133.7,2,  1.3427,    134.7,2,   155.90,2,    36.56,2,     0.01,2,     2.60,2, -999.000,9, -999.000,9, -999.000,9,-999.0000,5,    23.88,2,   -999.0,9,  -999.00,9,   -999.0,9,   -999.0,9,  -999.0,-999.0000,-999.000,  -999.0,-999.000
   31WTTUNES_1,  P17C,    72,  1,     31,     31,2,19910626,0016,  7.0267,-134.9967, 4664,   3549.9,   1.5050,  34.6848,2,  34.6850,2,    144.2,2,  1.2336,    145.7,2,   152.38,2,    35.97,2,     0.00,2,     2.56,2, -999.000,9, -999.000,9, -999.000,9,   1.9030,2,    20.18,2,   -999.0,9,  -999.00,9,   -999.0,9,   -999.0,9,  -999.0,-999.0000,-999.000,  -999.0,-999.000
   31WTTUNES_1,  P17C,    72,  1,     32,     32,2,19910626,0016,  7.0267,-134.9967, 4664,   3807.1,   1.4400,  34.6898,2,  34.6890,2,    154.3,2,  1.1435,    155.3,2,   149.06,2,    35.38,2,     0.00,2,     2.51,2, -999.000,9, -999.000,9, -999.000,9,   1.9050,2,    17.33,2,   -999.0,9,  -999.00,9,   -999.0,9,   -999.0,9,  -999.0,-999.0000,-999.000,  -999.0,-999.000
   31WTTUNES_1,  P17C,    72,  1,     33,     33,2,19910626,0016,  7.0267,-134.9967, 4664,   4063.5,   1.3961,  34.6923,2,  34.6910,2,    161.4,2,  1.0732,    160.9,2,   146.51,2,    34.89,2,     0.00,2,     2.48,2, -999.000,9, -999.000,9, -999.000,9,   1.8960,2,    15.87,2,   -999.0,9,  -999.00,9,   -999.0,9,   -999.0,9,  -999.0,-999.0000,-999.000,  -999.0,-999.000
   31WTTUNES_1,  P17C,    72,  1,     34,     34,2,19910626,0016,  7.0267,-134.9967, 4664,   4324.2,   1.3931,  34.6946,2,  34.6930,2,    164.3,2,  1.0413,    164.6,2,   144.27,2,    34.70,2,     0.00,2,     2.46,2, -999.000,9, -999.000,9, -999.000,9,   1.9000,2,    15.22,2,   -999.0,9,  -999.00,9,   -999.0,9,   -999.0,9,  -999.0,-999.0000,-999.000,  -999.0,-999.000
   31WTTUNES_1,  P17C,    72,  1,     35,     35,2,19910626,0016,  7.0267,-134.9967, 4664,   4529.8,   1.4091,  34.6953,2,  34.6930,2,    166.9,2,  1.0334,    166.0,2,   143.68,2,    34.60,2,     0.00,2,     2.46,2,   -0.004,2,    0.000,2, -999.000,9,   1.8430,2,    15.80,2,   -999.0,9,  -999.00,9,   -999.0,9,   -999.0,9,  -999.0,-999.0000,-999.000,  -999.0,-999.000
   31WTTUNES_1,  P17C,    72,  1,     36,     36,2,19910626,0016,  7.0267,-134.9967, 4664,   4725.0,   1.4291,  34.6949,2,  34.6930,2,   -999.0,9,  1.0300,    166.3,2,   143.48,2,    34.60,2,     0.00,2,     2.45,2,    0.000,2,    0.000,2, -999.000,9,   1.8920,2,    15.09,2,   -999.0,9,  -999.00,9,   -999.0,9,   -999.0,9,  -999.0,-999.0000,-999.000,  -999.0,-999.000