BOTTLE,20220819CCHSIOAMB
EXPOCODE,SECT_ID,STNNBR,CASTNO,SAMPNO,BTLNBR,BTLNBR_FLAG_W,DATE,TIME,LATITUDE,LONGITUDE,DEPTH,CTDPRS,CTDTMP,CTDSAL,CTDSAL_FLAG_W,SALNTY,SALNTY_FLAG_W,CTDOXY,CTDOXY_FLAG_W,THETA,OXYGEN,OXYGEN_FLAG_W,SILCAT,SILCAT_FLAG_W,NITRAT,NITRAT_FLAG_W,NITRIT,NITRIT_FLAG_W,PHSPHT,PHSPHT_FLAG_W,CFC-11,CFC-11_FLAG_W,CFC-12,CFC-12_FLAG_W,TRITUM,TRITUM_FLAG_W,HELIUM,HELIUM_FLAG_W,DELHE3,DELHE3_FLAG_W,DELC14,DELC14_FLAG_W,DELC13,DELC13_FLAG_W,TCARBN,TCARBN_FLAG_W,ALKALI,ALKALI_FLAG_W,C14ERR,HELIER,DELHER,C13ERR,TRITER
,,,,,,,,,,,,DBAR,ITS-90,PSS-78,,PSS-78,,UMOL/KG,,DEG C,UMOL/KG,,UMOL/KG,,UMOL/KG,,UMOL/KG,,UMOL/KG,,PMOL/KG,,PMOL/KG,,TU,,NMOL/KG,,PERCNT,,/MILLE,,/MILLE,,UMOL/KG,,UMOL/KG,,/MILLE,NMOL/KG,PERCNT,/MILLE,TU
   31WTTUNES_1,  P17C,    49,  1,      1,      1,2,19910619,0035, 18.4983,-134.9983, 5200,      0.8,  24.0158,  34.4729,2,  34.4740,2,    212.7,3, 24.0156,    214.9,2,     3.15,2,     0.14,2,     0.00,2,     0.19,2, -999.000,9, -999.000,9, -999.000,9,-999.0000,9,  -999.00,9,   -999.0,9,  -999.00,9,   -999.0,9,   -999.0,9,  -999.0,-999.0000,-999.000,  -999.0,-999.000
   31WTTUNES_1,  P17C,    49,  1,      2,      2,2,19910619,0035, 18.4983,-134.9983, 5200,     44.0,  22.5111,  34.6564,2,  34.6681,2,    225.1,2, 22.5023,    224.2,2,     2.95,2,     0.13,2,     0.00,2,     0.18,2, -999.000,9, -999.000,9, -999.000,9,-999.0000,9,  -999.00,9,   -999.0,9,  -999.00,9,   -999.0,9,   -999.0,9,  -999.0,-999.0000,-999.000,  -999.0,-999.000
   31WTTUNES_1,  P17C,    49,  1,      3,      3,2,19910619,0035, 18.4983,-134.9983, 5200,     79.3,  21.5819,  34.8507,2,  34.8553,2,    227.4,2, 21.5665,    223.8,2,     2.93,2,     0.13,2,     0.00,2,     0.17,2, -999.000,9, -999.000,9, -999.000,9,-999.0000,9,  -999.00,9,   -999.0,9,  -999.00,9,   -999.0,9,   -999.0,9,  -999.0,-999.0000,-999.000,  -999.0,-999.000
   31WTTUNES_1,  P17C,    49,  1,      4,      4,2,19910619,0035, 18.4983,-134.9983, 5200,    105.0,  20.4740,  34.8403,2,  34.8512,2,    228.0,2, 20.4543,    227.0,2,     3.09,2,     0.12,2,     0.00,2,     0.17,2, -999.000,9, -999.000,9, -999.000,9,-999.0000,9,  -999.00,9,   -999.0,9,  -999.00,9,   -999.0,9,   -999.0,9,  -999.0,-999.0000,-999.000,  -999.0,-999.000
   31WTTUNES_1,  P17C,    49,  1,      5,      5,2,19910619,0035, 18.4983,-134.9983, 5200,    155.3,  19.2824,  34.7784,2,  34.7704,2,    220.4,2, 19.2545,    218.3,2,     3.44,2,     0.25,2,     0.21,2,     0.22,2, -999.000,9, -999.000,9, -999.000,9,-999.0000,9,  -999.00,9,   -999.0,9,  -999.00,9,   -999.0,9,   -999.0,9,  -999.0,-999.0000,-999.000,  -999.0,-999.000
   31WTTUNES_1,  P17C,    49,  1,      6,      6,2,19910619,0035, 18.4983,-134.9983, 5200,    178.3,  17.1421,  34.6023,2,  34.5864,2,    199.4,2, 17.1126,    197.5,2,     5.25,2,     3.55,2,     0.02,2,     0.41,2, -999.000,9, -999.000,9, -999.000,9,-999.0000,9,  -999.00,9,   -999.0,9,  -999.00,9,   -999.0,9,   -999.0,9,  -999.0,-999.0000,-999.000,  -999.0,-999.000
   31WTTUNES_1,  P17C,    49,  1,      7,      7,2,19910619,0035, 18.4983,-134.9983, 5200,    206.0,  13.9458,  34.1969,2,  34.1887,2,    183.4,2, 13.9163,    183.4,2,     9.26,2,     8.61,2,     0.01,2,     0.76,2, -999.000,9, -999.000,9, -999.000,9,-999.0000,9,  -999.00,9,   -999.0,9,  -999.00,9,   -999.0,9,   -999.0,9,  -999.0,-999.0000,-999.000,  -999.0,-999.000
   31WTTUNES_1,  P17C,    49,  1,      8,      8,2,19910619,0035, 18.4983,-134.9983, 5200,    230.4,  12.1855,  34.1137,2,  34.1132,2,    167.9,2, 12.1553,    175.4,2,    13.64,2,    12.72,2,     0.01,2,     1.03,2, -999.000,9, -999.000,9, -999.000,9,-999.0000,9,  -999.00,9,   -999.0,9,  -999.00,9,   -999.0,9,   -999.0,9,  -999.0,-999.0000,-999.000,  -999.0,-999.000
   31WTTUNES_1,  P17C,    49,  1,      9,      9,2,19910619,0035, 18.4983,-134.9983, 5200,    254.7,  10.9965,  34.1256,2,  34.1234,2,    163.1,2, 10.9654,    160.5,2,    19.66,2,    17.17,2,     0.01,2,     1.33,2, -999.000,9, -999.000,9, -999.000,9,-999.0000,9,  -999.00,9,   -999.0,9,  -999.00,9,   -999.0,9,   -999.0,9,  -999.0,-999.0000,-999.000,  -999.0,-999.000
   31WTTUNES_1,  P17C,    49,  1,     10,     10,2,19910619,0035, 18.4983,-134.9983, 5200,    303.1,   9.8245,  34.2538,2,  34.2542,2,     89.6,2,  9.7899,     94.9,2,    33.19,2,    25.47,2,     0.01,2,     2.02,2, -999.000,9, -999.000,9, -999.000,9,-999.0000,9,  -999.00,9,   -999.0,9,  -999.00,9,   -999.0,9,   -999.0,9,  -999.0,-999.0000,-999.000,  -999.0,-999.000
   31WTTUNES_1,  P17C,    49,  1,     11,     11,2,19910619,0035, 18.4983,-134.9983, 5200,    327.6,   9.4513,  34.2986,2,  34.3001,2,     83.0,2,  9.4147,     75.0,2,    37.93,2,    27.31,2,     0.01,2,     2.22,2, -999.000,9, -999.000,9, -999.000,9,-999.0000,9,  -999.00,9,   -999.0,9,  -999.00,9,   -999.0,9,   -999.0,9,  -999.0,-999.0000,-999.000,  -999.0,-999.000
   31WTTUNES_1,  P17C,    49,  1,     12,     12,2,19910619,0035, 18.4983,-134.9983, 5200,    402.9,   8.1158,  34.3386,2,  34.3404,2,     36.8,2,  8.0746,     36.4,2,    51.81,2,    32.70,2,     0.00,2,     2.63,2, -999.000,9, -999.000,9, -999.000,9,-999.0000,9,  -999.00,9,   -999.0,9,  -999.00,9,   -999.0,9,   -999.0,9,  -999.0,-999.0000,-999.000,  -999.0,-999.000
   31WTTUNES_1,  P17C,    49,  1,     13,     13,2,19910619,0035, 18.4983,-134.9983, 5200,    499.8,   7.0696,  34.4062,2,  34.4069,2,     13.9,2,  7.0220,     13.6,2,    65.88,2,    37.04,2,     0.00,2,     2.93,2, -999.000,9, -999.000,9, -999.000,9,-999.0000,9,  -999.00,9,   -999.0,9,  -999.00,9,   -999.0,9,   -999.0,9,  -999.0,-999.0000,-999.000,  -999.0,-999.000
   31WTTUNES_1,  P17C,    49,  1,     14,     14,2,19910619,0035, 18.4983,-134.9983, 5200,    604.2,   6.1465,  34.4429,2,  34.4427,2,     12.2,2,  6.0926,     13.9,2,    77.93,2,    40.21,2,     0.00,2,     3.05,2, -999.000,9, -999.000,9, -999.000,9,-999.0000,9,  -999.00,9,   -999.0,9,  -999.00,9,   -999.0,9,   -999.0,9,  -999.0,-999.0000,-999.000,  -999.0,-999.000
   31WTTUNES_1,  P17C,    49,  1,     15,     15,2,19910619,0035, 18.4983,-134.9983, 5200,    704.1,   5.5599,  34.4655,2,  34.4647,2,     17.1,2,  5.4998,     14.5,3,    87.23,2,    41.96,2,     0.01,2,     3.11,2, -999.000,9, -999.000,9, -999.000,9,-999.0000,9,  -999.00,9,   -999.0,9,  -999.00,9,   -999.0,9,   -999.0,9,  -999.0,-999.0000,-999.000,  -999.0,-999.000
   31WTTUNES_1,  P17C,    49,  1,     16,     16,2,19910619,0035, 18.4983,-134.9983, 5200,    812.4,   4.9256,  34.4874,2,  34.4877,2,     21.8,2,  4.8595,     22.3,2,    96.90,2,    43.03,2,     0.01,2,     3.12,2, -999.000,9, -999.000,9, -999.000,9,-999.0000,9,  -999.00,9,   -999.0,9,  -999.00,9,   -999.0,9,   -999.0,9,  -999.0,-999.0000,-999.000,  -999.0,-999.000
   31WTTUNES_1,  P17C,    49,  1,     17,     17,2,19910619,0035, 18.4983,-134.9983, 5200,    908.9,   4.5243,  34.5008,2,  34.5016,2,     27.1,2,  4.4525,     27.9,2,   104.74,2,    43.30,2,     0.01,2,     3.12,2, -999.000,9, -999.000,9, -999.000,9,-999.0000,9,  -999.00,9,   -999.0,9,  -999.00,9,   -999.0,9,   -999.0,9,  -999.0,-999.0000,-999.000,  -999.0,-999.000
   31WTTUNES_1,  P17C,    49,  1,     18,     18,2,19910619,0035, 18.4983,-134.9983, 5200,   1010.3,   4.0773,  34.5237,2,  34.5221,2,     32.4,2,  4.0002,     32.4,2,   113.67,2,    43.47,2,     0.01,2,     3.14,2, -999.000,9, -999.000,9, -999.000,9,-999.0000,9,  -999.00,9,   -999.0,9,  -999.00,9,   -999.0,9,   -999.0,9,  -999.0,-999.0000,-999.000,  -999.0,-999.000
   31WTTUNES_1,  P17C,    49,  1,     19,     19,2,19910619,0035, 18.4983,-134.9983, 5200,   1217.5,   3.4360,  34.5527,2,  34.5522,2,     44.4,2,  3.3471,     44.6,2,   127.90,2,    42.98,2,     0.01,2,     3.09,2, -999.000,9, -999.000,9, -999.000,9,-999.0000,9,  -999.00,9,   -999.0,9,  -999.00,9,   -999.0,9,   -999.0,9,  -999.0,-999.0000,-999.000,  -999.0,-999.000
   31WTTUNES_1,  P17C,    49,  1,     20,     20,2,19910619,0035, 18.4983,-134.9983, 5200,   1421.8,   2.9650,  34.5804,2,  34.5795,2,     58.0,2,  2.8640,     57.2,2,   137.56,2,    42.34,2,     0.00,2,     3.02,2, -999.000,9, -999.000,9, -999.000,9,-999.0000,9,  -999.00,9,   -999.0,9,  -999.00,9,   -999.0,9,   -999.0,9,  -999.0,-999.0000,-999.000,  -999.0,-999.000
   31WTTUNES_1,  P17C,    49,  1,     21,     21,2,19910619,0035, 18.4983,-134.9983, 5200,   1619.2,   2.5904,  34.6018,2,  34.6007,2,     69.9,2,  2.4775,     70.0,2,   145.20,2,    41.59,2,     0.00,2,     2.94,2, -999.000,9, -999.000,9, -999.000,9,-999.0000,9,  -999.00,9,   -999.0,9,  -999.00,9,   -999.0,9,   -999.0,9,  -999.0,-999.0000,-999.000,  -999.0,-999.000
   31WTTUNES_1,  P17C,    49,  1,     22,     22,2,19910619,0035, 18.4983,-134.9983, 5200,   1819.1,   2.3140,  34.6198,2,  34.6186,2,     84.1,2,  2.1882,     82.5,2,   149.92,2,    40.75,2,     0.00,2,     2.85,2, -999.000,9, -999.000,9, -999.000,9,-999.0000,9,  -999.00,9,   -999.0,9,  -999.00,9,   -999.0,9,   -999.0,9,  -999.0,-999.0000,-999.000,  -999.0,-999.000
   31WTTUNES_1,  P17C,    49,  1,     23,     23,2,19910619,0035, 18.4983,-134.9983, 5200,   2024.7,   2.1014,  34.6316,2,  34.6318,2,     94.3,2,  1.9613,     92.3,2,   153.54,2,    40.01,2,     0.00,2,     2.80,2, -999.000,9, -999.000,9, -999.000,9,-999.0000,9,  -999.00,9,   -999.0,9,  -999.00,9,   -999.0,9,   -999.0,9,  -999.0,-999.0000,-999.000,  -999.0,-999.000
   31WTTUNES_1,  P17C,    49,  1,     24,     24,2,19910619,0035, 18.4983,-134.9983, 5200,   2279.8,   1.8818,  34.6471,2,  34.6460,2,    105.0,2,  1.7233,    104.1,2,   157.52,2,    39.33,2,     0.00,2,     2.73,2, -999.000,9, -999.000,9, -999.000,9,-999.0000,9,  -999.00,9,   -999.0,9,  -999.00,9,   -999.0,9,   -999.0,9,  -999.0,-999.0000,-999.000,  -999.0,-999.000
   31WTTUNES_1,  P17C,    49,  1,     25,     25,2,19910619,0035, 18.4983,-134.9983, 5200,   2537.0,   1.7620,  34.6575,2,  34.6562,2,    113.1,2,  1.5828,    111.8,2,   159.50,2,    38.76,2,     0.00,2,     2.69,2, -999.000,9, -999.000,9, -999.000,9,-999.0000,9,  -999.00,9,   -999.0,9,  -999.00,9,   -999.0,9,   -999.0,9,  -999.0,-999.0000,-999.000,  -999.0,-999.000
   31WTTUNES_1,  P17C,    49,  1,     26,     26,2,19910619,0035, 18.4983,-134.9983, 5200,   2787.0,   1.6659,  34.6648,2,  34.6639,2,    119.8,2,  1.4657,    118.9,2,   161.84,2,    38.34,2,     0.00,2,     2.65,2, -999.000,9, -999.000,9, -999.000,9,-999.0000,9,  -999.00,9,   -999.0,9,  -999.00,9,   -999.0,9,   -999.0,9,  -999.0,-999.0000,-999.000,  -999.0,-999.000
   31WTTUNES_1,  P17C,    49,  1,     27,     27,2,19910619,0035, 18.4983,-134.9983, 5200,   3039.5,   1.5869,  34.6706,2,  34.6700,2,    126.4,2,  1.3645,    126.0,2,   162.90,2,    37.87,2,     0.00,2,     2.61,2, -999.000,9, -999.000,9, -999.000,9,-999.0000,9,  -999.00,9,   -999.0,9,  -999.00,9,   -999.0,9,   -999.0,9,  -999.0,-999.0000,-999.000,  -999.0,-999.000
   31WTTUNES_1,  P17C,    49,  1,     28,     28,2,19910619,0035, 18.4983,-134.9983, 5200,   3292.4,   1.5285,  34.6773,2,  34.6749,2,    132.8,2,  1.2826,    133.0,2,   163.04,2,    37.40,2,     0.00,2,     2.58,2, -999.000,9, -999.000,9, -999.000,9,-999.0000,9,  -999.00,9,   -999.0,9,  -999.00,9,   -999.0,9,   -999.0,9,  -999.0,-999.0000,-999.000,  -999.0,-999.000
   31WTTUNES_1,  P17C,    49,  1,     29,     29,2,19910619,0035, 18.4983,-134.9983, 5200,   3549.6,   1.4925,  34.6813,2,  34.6789,2,    139.8,2,  1.2215,    139.4,2,   161.00,2,    36.89,2,     0.00,2,     2.54,2, -999.000,9, -999.000,9, -999.000,9,-999.0000,9,  -999.00,9,   -999.0,9,  -999.00,9,   -999.0,9,   -999.0,9,  -999.0,-999.0000,-999.000,  -999.0,-999.000
   31WTTUNES_1,  P17C,    49,  1,     30,     30,2,19910619,0035, 18.4983,-134.9983, 5200,   3801.2,   1.4666,  34.6835,2,  34.6826,2,    146.2,2,  1.1700,    145.7,2,   158.04,2,    36.42,2,     0.00,2,     2.51,2, -999.000,9, -999.000,9, -999.000,9,-999.0000,9,  -999.00,9,   -999.0,9,  -999.00,9,   -999.0,9,   -999.0,9,  -999.0,-999.0000,-999.000,  -999.0,-999.000
   31WTTUNES_1,  P17C,    49,  1,     31,     31,2,19910619,0035, 18.4983,-134.9983, 5200,   4059.3,   1.4331,  34.6876,2,  34.6870,2,    155.5,2,  1.1097,    154.7,2,   151.98,2,    35.75,2,     0.00,2,     2.46,2, -999.000,9, -999.000,9, -999.000,9,-999.0000,9,  -999.00,9,   -999.0,9,  -999.00,9,   -999.0,9,   -999.0,9,  -999.0,-999.0000,-999.000,  -999.0,-999.000
   31WTTUNES_1,  P17C,    49,  1,     32,     32,2,19910619,0035, 18.4983,-134.9983, 5200,   4320.5,   1.4168,  34.6905,2,  34.6900,2,    162.1,2,  1.0648,    162.0,2,   147.01,2,    35.34,2,     0.00,2,     2.43,2, -999.000,9, -999.000,9, -999.000,9,-999.0000,9,  -999.00,9,   -999.0,9,  -999.00,9,   -999.0,9,   -999.0,9,  -999.0,-999.0000,-999.000,  -999.0,-999.000
   31WTTUNES_1,  P17C,    49,  1,     33,     33,2,19910619,0035, 18.4983,-134.9983, 5200,   4574.9,   1.4164,  34.6941,2,  34.6917,2,    166.1,2,  1.0353,    166.4,2,   144.24,2,    35.09,2,     0.00,2,     2.41,2, -999.000,9, -999.000,9, -999.000,9,-999.0000,9,  -999.00,9,   -999.0,9,  -999.00,9,   -999.0,9,   -999.0,9,  -999.0,-999.0000,-999.000,  -999.0,-999.000
   31WTTUNES_1,  P17C,    49,  1,     34,     34,2,19910619,0035, 18.4983,-134.9983, 5200,   4834.8,   1.4271,  34.6943,2,  34.6929,2,    169.5,2,  1.0151,    169.4,2,   141.83,2,    34.78,2,     0.00,2,     2.39,2, -999.000,9, -999.000,9, -999.000,9,-999.0000,9,  -999.00,9,   -999.0,9,  -999.00,9,   -999.0,9,   -999.0,9,  -999.0,-999.0000,-999.000,  -999.0,-999.000
   31WTTUNES_1,  P17C,    49,  1,     35,     35,2,19910619,0035, 18.4983,-134.9983, 5200,   5101.7,   1.4519,  34.6941,2,  34.6943,2,    170.5,2,  1.0069,    170.4,2,   140.88,2,    34.78,2,     0.00,2,     2.38,2, -999.000,9, -999.000,9, -999.000,9,-999.0000,9,  -999.00,9,   -999.0,9,  -999.00,9,   -999.0,9,   -999.0,9,  -999.0,-999.0000,-999.000,  -999.0,-999.000
   31WTTUNES_1,  P17C,    49,  1,     36,     36,2,19910619,0035, 18.4983,-134.9983, 5200,   5277.6,   1.4721,  34.6962,2,  34.6946,2,   -999.0,9,  1.0046,    170.5,2,   140.48,2,    34.78,2,     0.00,2,     2.38,2, -999.000,9, -999.000,9, -999.000,9,-999.0000,9,  -999.00,9,   -999.0,9,  -999.00,9,   -999.0,9,   -999.0,9,  -999.0,-999.0000,-999.000,  -999.0,-999.000