BOTTLE,20220819CCHSIOAMB
EXPOCODE,SECT_ID,STNNBR,CASTNO,SAMPNO,BTLNBR,BTLNBR_FLAG_W,DATE,TIME,LATITUDE,LONGITUDE,DEPTH,CTDPRS,CTDTMP,CTDSAL,CTDSAL_FLAG_W,SALNTY,SALNTY_FLAG_W,CTDOXY,CTDOXY_FLAG_W,THETA,OXYGEN,OXYGEN_FLAG_W,SILCAT,SILCAT_FLAG_W,NITRAT,NITRAT_FLAG_W,NITRIT,NITRIT_FLAG_W,PHSPHT,PHSPHT_FLAG_W,CFC-11,CFC-11_FLAG_W,CFC-12,CFC-12_FLAG_W,TRITUM,TRITUM_FLAG_W,HELIUM,HELIUM_FLAG_W,DELHE3,DELHE3_FLAG_W,DELC14,DELC14_FLAG_W,DELC13,DELC13_FLAG_W,TCARBN,TCARBN_FLAG_W,ALKALI,ALKALI_FLAG_W,C14ERR,HELIER,DELHER,C13ERR,TRITER
,,,,,,,,,,,,DBAR,ITS-90,PSS-78,,PSS-78,,UMOL/KG,,DEG C,UMOL/KG,,UMOL/KG,,UMOL/KG,,UMOL/KG,,UMOL/KG,,PMOL/KG,,PMOL/KG,,TU,,NMOL/KG,,PERCNT,,/MILLE,,/MILLE,,UMOL/KG,,UMOL/KG,,/MILLE,NMOL/KG,PERCNT,/MILLE,TU
   31WTTUNES_1,  P17C,   115,  1,     61,     61,2,19910705,0001, -2.8283,-135.0000, 4488,      2.5,  27.8939,  35.3208,2,  35.3232,2,   -999.0,9, 27.8933,   -999.0,9,  -999.00,9,  -999.00,9,  -999.00,9,  -999.00,9, -999.000,9, -999.000,9, -999.000,9,-999.0000,9,  -999.00,9,   -999.0,9,  -999.00,9,   -999.0,9,   -999.0,9,  -999.0,-999.0000,-999.000,  -999.0,-999.000
   31WTTUNES_1,  P17C,   115,  1,     62,     62,2,19910705,0001, -2.8283,-135.0000, 4488,     34.9,  27.7447,  35.3214,2,  35.3223,2,   -999.0,9, 27.7365,   -999.0,9,  -999.00,9,  -999.00,9,  -999.00,9,  -999.00,9, -999.000,9, -999.000,9, -999.000,9,-999.0000,9,  -999.00,9,   -999.0,9,  -999.00,9,   -999.0,9,   -999.0,9,  -999.0,-999.0000,-999.000,  -999.0,-999.000
   31WTTUNES_1,  P17C,   115,  1,     63,     63,2,19910705,0001, -2.8283,-135.0000, 4488,    216.4,  12.3710,  34.8814,2,  34.8807,2,   -999.0,9, 12.3422,   -999.0,9,  -999.00,9,  -999.00,9,  -999.00,9,  -999.00,9, -999.000,9, -999.000,9, -999.000,9,-999.0000,9,  -999.00,9,   -999.0,9,  -999.00,9,   -999.0,9,   -999.0,9,  -999.0,-999.0000,-999.000,  -999.0,-999.000
   31WTTUNES_1,  P17C,   115,  1,     64,     64,2,19910705,0001, -2.8283,-135.0000, 4488,    409.3,   9.4508,  34.7125,2,  34.7126,2,   -999.0,9,  9.4046,   -999.0,9,  -999.00,9,  -999.00,9,  -999.00,9,  -999.00,9, -999.000,9, -999.000,9, -999.000,9,-999.0000,9,  -999.00,9,   -999.0,9,  -999.00,9,   -999.0,9,   -999.0,9,  -999.0,-999.0000,-999.000,  -999.0,-999.000
   31WTTUNES_1,  P17C,   115,  1,     65,     65,2,19910705,0001, -2.8283,-135.0000, 4488,    612.9,   6.9033,  34.5803,2,  34.5816,2,   -999.0,9,  6.8450,   -999.0,9,  -999.00,9,  -999.00,9,  -999.00,9,  -999.00,9, -999.000,9, -999.000,9, -999.000,9,-999.0000,9,  -999.00,9,   -999.0,9,  -999.00,9,   -999.0,9,   -999.0,9,  -999.0,-999.0000,-999.000,  -999.0,-999.000
   31WTTUNES_1,  P17C,   115,  1,     66,     66,2,19910705,0001, -2.8283,-135.0000, 4488,    814.5,   5.4296,  34.5500,2,  34.5522,2,   -999.0,9,  5.3601,   -999.0,9,  -999.00,9,  -999.00,9,  -999.00,9,  -999.00,9, -999.000,9, -999.000,9, -999.000,9,-999.0000,9,  -999.00,9,   -999.0,9,  -999.00,9,   -999.0,9,   -999.0,9,  -999.0,-999.0000,-999.000,  -999.0,-999.000
   31WTTUNES_1,  P17C,   115,  1,     67,     67,2,19910705,0001, -2.8283,-135.0000, 4488,   1015.2,   4.3863,  34.5533,2,  34.5565,2,   -999.0,9,  4.3063,   -999.0,9,  -999.00,9,  -999.00,9,  -999.00,9,  -999.00,9, -999.000,9, -999.000,9, -999.000,9,-999.0000,9,  -999.00,9,   -999.0,9,  -999.00,9,   -999.0,9,   -999.0,9,  -999.0,-999.0000,-999.000,  -999.0,-999.000
   31WTTUNES_1,  P17C,   115,  1,     68,     68,2,19910705,0001, -2.8283,-135.0000, 4488,   2031.9,   2.2371,  34.6430,2,  34.6455,2,   -999.0,9,  2.0943,   -999.0,9,  -999.00,9,  -999.00,9,  -999.00,9,  -999.00,9, -999.000,9, -999.000,9, -999.000,9,-999.0000,9,  -999.00,9,   -999.0,9,  -999.00,9,   -999.0,9,   -999.0,9,  -999.0,-999.0000,-999.000,  -999.0,-999.000
   31WTTUNES_1,  P17C,   115,  1,     69,     69,2,19910705,0001, -2.8283,-135.0000, 4488,   3068.6,   1.6303,  34.6751,2,  34.6764,2,   -999.0,9,  1.4041,   -999.0,9,  -999.00,9,  -999.00,9,  -999.00,9,  -999.00,9, -999.000,9, -999.000,9, -999.000,9,-999.0000,9,  -999.00,9,   -999.0,9,  -999.00,9,   -999.0,9,   -999.0,9,  -999.0,-999.0000,-999.000,  -999.0,-999.000
   31WTTUNES_1,  P17C,   115,  1,     70,     70,2,19910705,0001, -2.8283,-135.0000, 4488,   4115.0,   1.4121,  34.6930,2,  34.6943,2,   -999.0,9,  1.0831,   -999.0,9,  -999.00,9,  -999.00,9,  -999.00,9,  -999.00,9, -999.000,9, -999.000,9, -999.000,9,-999.0000,9,  -999.00,9,   -999.0,9,  -999.00,9,   -999.0,9,   -999.0,9,  -999.0,-999.0000,-999.000,  -999.0,-999.000
   31WTTUNES_1,  P17C,   115,  1,     71,     71,2,19910705,0001, -2.8283,-135.0000, 4488,   4562.2,   1.4181,  34.6959,2,  34.6965,2,   -999.0,9,  1.0385,   -999.0,9,  -999.00,9,  -999.00,9,  -999.00,9,  -999.00,9, -999.000,9, -999.000,9, -999.000,9,-999.0000,9,  -999.00,9,   -999.0,9,  -999.00,9,   -999.0,9,   -999.0,9,  -999.0,-999.0000,-999.000,  -999.0,-999.000
   31WTTUNES_1,  P17C,   116,  1,      1,      1,2,19910705,0354, -2.9983,-135.0017, 4559,      0.3,  27.7850,  35.3029,2,  35.3069,2,    209.5,3, 27.7850,    213.9,2,     3.32,2,     4.69,2,     0.10,2,     0.57,2,    1.602,2,    0.917,2, -999.000,9,-999.0000,9,  -999.00,9,   -999.0,9,  -999.00,9,   2007.2,2,   2325.9,2,  -999.0,-999.0000,-999.000,  -999.0,-999.000
   31WTTUNES_1,  P17C,   116,  1,      2,      2,2,19910705,0354, -2.9983,-135.0017, 4559,     25.4,  27.7600,  35.3029,2,  35.3047,2,    212.1,2, 27.7541,    211.9,2,     3.32,2,     4.69,2,     0.10,2,     0.58,2,    1.603,2,    0.914,2,    1.108,2,   1.7510,2,    -1.13,2,   -999.0,9,  -999.00,9,   2006.3,2,   -999.0,9,  -999.0,  0.0080,   0.150,  -999.0,   0.011
   31WTTUNES_1,  P17C,   116,  1,      3,      3,2,19910705,0354, -2.9983,-135.0017, 4559,     60.7,  27.7230,  35.3068,2,  35.1864,4,    215.7,2, 27.7088,    212.2,2,     3.22,2,     4.79,2,     0.11,2,     0.60,2,    1.608,2,    0.918,2, -999.000,9,-999.0000,9,  -999.00,9,   -999.0,9,  -999.00,9,   2009.1,2,   2328.2,2,  -999.0,-999.0000,-999.000,  -999.0,-999.000
   31WTTUNES_1,  P17C,   116,  1,      4,      4,2,19910705,0354, -2.9983,-135.0017, 4559,     80.6,  25.1503,  35.6219,2,  35.6129,2,    198.3,2, 25.1327,    197.6,2,     3.61,2,     5.86,2,     0.24,2,     0.84,2,    1.753,2,    0.997,2,    0.892,2,   0.0000,2,  -999.00,9,   -999.0,9,  -999.00,9,   2056.2,2,   -999.0,9,  -999.0,-999.0000,   0.150,  -999.0,   0.010
   31WTTUNES_1,  P17C,   116,  1,      5,      5,2,19910705,0354, -2.9983,-135.0017, 4559,    102.6,  21.4688,  35.2629,2,  35.2688,2,    161.5,2, 21.4488,    148.0,2,     6.25,2,    11.82,2,     0.95,2,     1.31,2,    1.613,2,    0.914,2, -999.000,9,-999.0000,9,  -999.00,9,   -999.0,9,  -999.00,9,   2118.1,2,   2329.1,2,  -999.0,-999.0000,-999.000,  -999.0,-999.000
   31WTTUNES_1,  P17C,   116,  1,      6,      6,2,19910705,0354, -2.9983,-135.0017, 4559,    118.0,  17.1738,  35.2677,2,  35.2558,2,     95.7,2, 17.1542,     79.6,2,    10.16,2,    18.66,2,     1.27,2,     1.65,2,    1.218,2,    0.671,2,    0.566,2,   1.7800,2,     1.83,2,   -999.0,9,  -999.00,9,   2174.6,2,   -999.0,9,  -999.0,  0.0080,   0.150,  -999.0,   0.008
   31WTTUNES_1,  P17C,   116,  1,      7,      7,2,19910705,0354, -2.9983,-135.0017, 4559,    142.9,  14.1523,  35.0114,2,  35.0089,2,     34.8,2, 14.1315,     34.0,2,    18.76,2,    27.85,2,     0.38,2,     2.10,2,    0.620,2,    0.336,2, -999.000,9,-999.0000,9,  -999.00,9,   -999.0,9,  -999.00,9,   2211.6,2,   -999.0,9,  -999.0,-999.0000,-999.000,  -999.0,-999.000
   31WTTUNES_1,  P17C,   116,  1,      8,      8,2,19910705,0354, -2.9983,-135.0017, 4559,    179.7,  12.9176,  34.9225,2,  34.9222,2,     20.1,2, 12.8930,     21.0,2,    23.26,2,    30.98,2,     0.01,2,     2.27,2,    0.343,2,    0.193,2,    0.447,2,   1.8880,2,     5.35,2,   -999.0,9,  -999.00,9,   2219.6,2,   2306.3,2,  -999.0,  0.0090,   0.150,  -999.0,   0.007
   31WTTUNES_1,  P17C,   116,  1,      9,      9,2,19910705,0354, -2.9983,-135.0017, 4559,    213.3,  12.3797,  34.8788,2,  34.8789,2,     36.2,2, 12.3513,     38.3,2,    24.43,2,    29.90,2,     0.00,2,     2.17,2,    0.312,2,    0.178,2,    0.403,2,   1.8300,2,     5.56,2,   -999.0,9,  -999.00,9,   2222.0,2,   2312.6,2,  -999.0,  0.0090,   0.150,  -999.0,   0.005
   31WTTUNES_1,  P17C,   116,  1,     10,     10,2,19910705,0354, -2.9983,-135.0017, 4559,    261.9,  11.9458,  34.8610,2,  34.8617,2,     10.3,2, 11.9117,     10.6,2,    27.95,2,    32.74,2,     0.00,2,     2.41,2,    0.155,2,    0.099,2,    0.258,2,   1.8050,2,     4.99,2,   -999.0,9,  -999.00,9,   2247.2,2,   -999.0,9,  -999.0,  0.0080,   0.150,  -999.0,   0.004
   31WTTUNES_1,  P17C,   116,  1,     11,     11,2,19910705,0354, -2.9983,-135.0017, 4559,    317.3,  11.1541,  34.8157,2,  34.8171,2,     16.0,2, 11.1145,      9.8,2,    30.59,2,    33.62,2,     0.00,2,     2.51,2,    0.093,2,    0.061,2, -999.000,9,-999.0000,9,  -999.00,9,   -999.0,9,  -999.00,9,   2256.9,2,   2311.9,2,  -999.0,-999.0000,-999.000,  -999.0,-999.000
   31WTTUNES_1,  P17C,   116,  1,     12,     12,2,19910705,0354, -2.9983,-135.0017, 4559,    329.1,  11.0581,  34.8087,2,  34.8100,2,      8.3,2, 11.0172,      9.9,2,    30.88,2,    33.82,2,     0.00,2,     2.53,2,    0.090,2,    0.056,2, -999.000,9,-999.0000,9,  -999.00,9,   -999.0,9,  -999.00,9,   2257.4,2,   -999.0,9,  -999.0,-999.0000,-999.000,  -999.0,-999.000
   31WTTUNES_1,  P17C,   116,  1,     13,     13,2,19910705,0354, -2.9983,-135.0017, 4559,    397.1,   9.8425,  34.7336,2,  34.7346,2,     23.1,2,  9.7966,     22.7,2,    34.31,2,    35.38,2,     0.00,2,     2.59,2,    0.048,2,    0.030,2,    0.078,2,   1.8260,2,     4.93,2,   -999.0,9,  -999.00,9,   2259.9,2,   -999.0,9,  -999.0,  0.0090,   0.150,  -999.0,   0.002
   31WTTUNES_1,  P17C,   116,  1,     14,     14,2,19910705,0354, -2.9983,-135.0017, 4559,    503.3,   7.8983,  34.6232,2,  34.6248,2,     35.3,2,  7.8470,     36.0,2,    44.87,2,    39.00,2,     0.00,2,     2.77,2,    0.011,2,    0.008,2, -999.000,9,-999.0000,9,  -999.00,9,   -999.0,9,  -999.00,9,   2271.2,2,   -999.0,9,  -999.0,-999.0000,-999.000,  -999.0,-999.000
   31WTTUNES_1,  P17C,   116,  1,     15,     15,2,19910705,0354, -2.9983,-135.0017, 4559,    609.2,   6.8428,  34.5788,2,  34.5808,2,     50.1,2,  6.7852,     49.2,2,    51.81,2,    39.98,2,     0.00,2,     2.84,2,    0.004,2,    0.005,2,    0.006,2,   1.8600,2,     9.01,2,   -999.0,9,  -999.00,9,   2274.6,2,   2324.9,2,  -999.0,  0.0090,   0.150,  -999.0,   0.001
   31WTTUNES_1,  P17C,   116,  1,     16,     16,2,19910705,0354, -2.9983,-135.0017, 4559,    709.7,   6.0342,  34.5575,2,  34.5590,2,     60.0,2,  5.9709,     59.8,2,    61.19,2,    40.27,2,     0.00,2,     2.87,2,    0.000,2,    0.000,2,    0.007,2,-999.0000,9,  -999.00,9,   -999.0,9,  -999.00,9,   2281.2,2,   -999.0,9,  -999.0,-999.0000,-999.000,  -999.0,   0.001
   31WTTUNES_1,  P17C,   116,  1,     17,     17,2,19910705,0354, -2.9983,-135.0017, 4559,    808.6,   5.4326,  34.5509,2,  34.5520,2,     66.3,2,  5.3636,     67.9,2,    69.99,2,    40.27,2,     0.00,2,     2.88,2,    0.000,2,    0.001,2,    0.005,2,-999.0000,9,  -999.00,9,   -999.0,9,  -999.00,9,   2288.1,2,   -999.0,9,  -999.0,-999.0000,-999.000,  -999.0,   0.001
   31WTTUNES_1,  P17C,   116,  1,     18,     18,2,19910705,0354, -2.9983,-135.0017, 4559,    912.1,   4.8179,  34.5473,2,  34.5499,2,     81.9,2,  4.7437,     80.0,2,    78.89,2,    39.69,2,     0.00,2,     2.84,2, -999.000,9, -999.000,9, -999.000,9,-999.0000,9,  -999.00,9,   -999.0,9,  -999.00,9,   2292.0,2,   -999.0,9,  -999.0,-999.0000,-999.000,  -999.0,-999.000
   31WTTUNES_1,  P17C,   116,  1,     19,     19,2,19910705,0354, -2.9983,-135.0017, 4559,   1015.0,   4.4351,  34.5532,2,  34.5550,2,     84.6,2,  4.3547,     85.1,2,    86.02,2,    39.39,2,     0.00,2,     2.84,2, -999.000,9, -999.000,9,   -0.001,2,-999.0000,9,  -999.00,9,   -999.0,9,  -999.00,9,   2298.8,2,   2361.1,2,  -999.0,-999.0000,-999.000,  -999.0,   0.001
   31WTTUNES_1,  P17C,   116,  1,     20,     20,2,19910705,0354, -2.9983,-135.0017, 4559,   1220.8,   3.7485,  34.5737,2,  34.5751,2,     87.9,2,  3.6564,     88.5,2,   102.05,2,    39.69,2,     0.00,2,     2.86,2, -999.000,9, -999.000,9, -999.000,9,-999.0000,9,  -999.00,9,   -999.0,9,  -999.00,9,   2315.8,2,   -999.0,9,  -999.0,-999.0000,-999.000,  -999.0,-999.000
   31WTTUNES_1,  P17C,   116,  1,     21,     21,2,19910705,0354, -2.9983,-135.0017, 4559,   1418.3,   3.2289,  34.5920,2,  34.5922,2,     95.8,2,  3.1253,     96.2,2,   113.00,2,    39.20,2,     0.00,2,     2.82,2, -999.000,9, -999.000,9, -999.000,9,-999.0000,9,  -999.00,9,   -999.0,9,  -999.00,9,   2324.6,2,   -999.0,9,  -999.0,-999.0000,-999.000,  -999.0,-999.000
   31WTTUNES_1,  P17C,   116,  1,     22,     22,2,19910705,0354, -2.9983,-135.0017, 4559,   1610.0,   2.8781,  34.6072,2,  34.6074,2,    102.1,2,  2.7624,    101.7,2,   121.79,2,    38.81,2,     0.00,2,     2.80,2, -999.000,9, -999.000,9, -999.000,9,-999.0000,9,  -999.00,9,   -999.0,9,  -999.00,9,   2329.7,2,   -999.0,9,  -999.0,-999.0000,-999.000,  -999.0,-999.000
   31WTTUNES_1,  P17C,   116,  1,     23,     23,2,19910705,0354, -2.9983,-135.0017, 4559,   1817.3,   2.4514,  34.6286,2,  34.6306,2,    107.9,2,  2.3237,    108.1,2,   132.25,2,    38.61,2,     0.00,2,     2.76,2, -999.000,9, -999.000,9, -999.000,9,-999.0000,9,  -999.00,9,   -999.0,9,  -999.00,9,   2337.6,2,   -999.0,9,  -999.0,-999.0000,-999.000,  -999.0,-999.000
   31WTTUNES_1,  P17C,   116,  1,     24,     24,2,19910705,0354, -2.9983,-135.0017, 4559,   2024.8,   2.2415,  34.6437,2,  34.6448,2,    106.2,2,  2.0992,    107.4,2,   141.24,2,    38.61,2,     0.00,2,     2.76,2, -999.000,9, -999.000,9, -999.000,9,-999.0000,9,  -999.00,9,   -999.0,9,  -999.00,9,   2346.2,2,   -999.0,9,  -999.0,-999.0000,-999.000,  -999.0,-999.000
   31WTTUNES_1,  P17C,   116,  1,     25,     25,2,19910705,0354, -2.9983,-135.0017, 4559,   2201.1,   2.0816,  34.6524,2,  34.6517,2,    114.1,2,  1.9266,    113.3,2,   143.68,2,    38.22,2,     0.00,2,     2.74,2, -999.000,9, -999.000,9, -999.000,9,-999.0000,9,  -999.00,9,   -999.0,9,  -999.00,9,   2345.5,2,   2427.0,2,  -999.0,-999.0000,-999.000,  -999.0,-999.000
   31WTTUNES_1,  P17C,   116,  1,     26,     26,2,19910705,0354, -2.9983,-135.0017, 4559,   2351.8,   1.9577,  34.6579,2,  34.6584,2,    121.9,2,  1.7915,    120.6,2,   144.27,2,    37.83,2,     0.00,2,     2.69,2, -999.000,9, -999.000,9, -999.000,9,-999.0000,9,  -999.00,9,   -999.0,9,  -999.00,9,   2344.1,2,   -999.0,9,  -999.0,-999.0000,-999.000,  -999.0,-999.000
   31WTTUNES_1,  P17C,   116,  1,     27,     27,2,19910705,0354, -2.9983,-135.0017, 4559,   2519.7,   1.8638,  34.6632,2,  34.6634,2,    125.6,2,  1.6842,    125.5,2,   146.13,2,    37.63,2,     0.00,2,     2.65,2, -999.000,9, -999.000,9, -999.000,9,-999.0000,9,  -999.00,9,   -999.0,9,  -999.00,9,   2343.5,2,   -999.0,9,  -999.0,-999.0000,-999.000,  -999.0,-999.000
   31WTTUNES_1,  P17C,   116,  1,     28,     28,2,19910705,0354, -2.9983,-135.0017, 4559,   2690.2,   1.7808,  34.6687,2,  34.6679,2,    130.7,2,  1.5872,    130.9,2,   145.73,2,    37.14,2,     0.00,2,     2.62,2, -999.000,9, -999.000,9, -999.000,9,-999.0000,9,  -999.00,9,   -999.0,9,  -999.00,9,   2340.0,2,   -999.0,9,  -999.0,-999.0000,-999.000,  -999.0,-999.000
   31WTTUNES_1,  P17C,   116,  1,     29,     29,2,19910705,0354, -2.9983,-135.0017, 4559,   2860.6,   1.6899,  34.6714,2,  34.6723,2,    136.7,2,  1.4822,    137.5,2,   144.95,2,    36.65,2,     0.00,2,     2.60,2, -999.000,9, -999.000,9, -999.000,9,-999.0000,9,  -999.00,9,   -999.0,9,  -999.00,9,   2334.7,2,   -999.0,9,  -999.0,-999.0000,-999.000,  -999.0,-999.000
   31WTTUNES_1,  P17C,   116,  1,     30,     30,2,19910705,0354, -2.9983,-135.0017, 4559,   3029.2,   1.6339,  34.6743,2,  34.6760,2,    141.6,2,  1.4114,    142.4,2,   144.17,2,    36.46,2,     0.00,2,     2.56,2, -999.000,9, -999.000,9, -999.000,9,-999.0000,9,  -999.00,9,   -999.0,9,  -999.00,9,   2331.6,2,   -999.0,9,  -999.0,-999.0000,-999.000,  -999.0,-999.000
   31WTTUNES_1,  P17C,   116,  1,     31,     31,2,19910705,0354, -2.9983,-135.0017, 4559,   3286.6,   1.5650,  34.6803,2,  34.6816,2,    147.4,2,  1.3188,    148.5,2,   143.97,2,    36.07,2,     0.00,2,     2.52,2, -999.000,9, -999.000,9, -999.000,9,-999.0000,9,  -999.00,9,   -999.0,9,  -999.00,9,   2329.4,2,   -999.0,9,  -999.0,-999.0000,-999.000,  -999.0,-999.000
   31WTTUNES_1,  P17C,   116,  1,     32,     32,2,19910705,0354, -2.9983,-135.0017, 4559,   3537.8,   1.4880,  34.6861,2,  34.6877,2,    153.8,2,  1.2183,    154.3,2,   144.85,2,    35.68,2,     0.00,2,     2.47,2, -999.000,9, -999.000,9, -999.000,9,-999.0000,9,  -999.00,9,   -999.0,9,  -999.00,9,   2327.1,2,   2431.5,2,  -999.0,-999.0000,-999.000,  -999.0,-999.000
   31WTTUNES_1,  P17C,   116,  1,     33,     33,2,19910705,0354, -2.9983,-135.0017, 4559,   3793.9,   1.4480,  34.6907,2,  34.6903,2,    159.5,2,  1.1527,    158.9,2,   144.07,2,    35.38,2,     0.00,2,     2.46,2, -999.000,9, -999.000,9, -999.000,9,-999.0000,9,  -999.00,9,   -999.0,9,  -999.00,9,   2324.0,2,   -999.0,9,  -999.0,-999.0000,-999.000,  -999.0,-999.000
   31WTTUNES_1,  P17C,   116,  1,     34,     34,2,19910705,0354, -2.9983,-135.0017, 4559,   4059.2,   1.4231,  34.6925,2,  34.6933,2,    165.3,2,  1.0998,    164.2,2,   142.41,2,    35.09,2,     0.00,2,     2.43,2,    0.001,2,    0.000,2, -999.000,9,-999.0000,9,  -999.00,9,   -999.0,9,  -999.00,9,   2319.1,2,   -999.0,9,  -999.0,-999.0000,-999.000,  -999.0,-999.000
   31WTTUNES_1,  P17C,   116,  1,     35,     35,2,19910705,0354, -2.9983,-135.0017, 4559,   4326.5,   1.4051,  34.6957,2,  34.6971,2,    172.8,2,  1.0527,    172.0,2,   136.74,2,    34.40,2,     0.00,2,     2.39,2,   -0.002,2,    0.000,2,    0.002,2,-999.0000,9,  -999.00,9,   -999.0,9,  -999.00,9,   2319.9,2,   -999.0,9,  -999.0,-999.0000,-999.000,  -999.0,   0.001
   31WTTUNES_1,  P17C,   116,  1,     36,     36,2,19910705,0354, -2.9983,-135.0017, 4559,   4622.0,   1.4281,  34.6980,2,  34.6973,2,   -999.0,9,  1.0411,   -999.0,9,   135.18,2,    34.11,2,     0.00,2,     2.38,2, -999.000,9, -999.000,9, -999.000,9,-999.0000,9,  -999.00,9,   -999.0,9,  -999.00,9,   -999.0,9,   -999.0,9,  -999.0,-999.0000,-999.000,  -999.0,-999.000