BOTTLE,20220819CCHSIOAMB
EXPOCODE,SECT_ID,STNNBR,CASTNO,SAMPNO,BTLNBR,BTLNBR_FLAG_W,DATE,TIME,LATITUDE,LONGITUDE,DEPTH,CTDPRS,CTDTMP,CTDSAL,CTDSAL_FLAG_W,SALNTY,SALNTY_FLAG_W,CTDOXY,CTDOXY_FLAG_W,THETA,OXYGEN,OXYGEN_FLAG_W,SILCAT,SILCAT_FLAG_W,NITRAT,NITRAT_FLAG_W,NITRIT,NITRIT_FLAG_W,PHSPHT,PHSPHT_FLAG_W,CFC-11,CFC-11_FLAG_W,CFC-12,CFC-12_FLAG_W,TRITUM,TRITUM_FLAG_W,HELIUM,HELIUM_FLAG_W,DELHE3,DELHE3_FLAG_W,DELC14,DELC14_FLAG_W,DELC13,DELC13_FLAG_W,TCARBN,TCARBN_FLAG_W,ALKALI,ALKALI_FLAG_W,C14ERR,HELIER,DELHER,C13ERR,TRITER
,,,,,,,,,,,,DBAR,ITS-90,PSS-78,,PSS-78,,UMOL/KG,,DEG C,UMOL/KG,,UMOL/KG,,UMOL/KG,,UMOL/KG,,UMOL/KG,,PMOL/KG,,PMOL/KG,,TU,,NMOL/KG,,PERCNT,,/MILLE,,/MILLE,,UMOL/KG,,UMOL/KG,,/MILLE,NMOL/KG,PERCNT,/MILLE,TU
   31WTTUNES_1,  P17C,    44,  1,      1,      1,2,19910617,0531, 21.0083,-135.0000, 5252,      0.2,  21.4957,  34.8975,2,  34.9024,2,    236.4,3, 21.4957,    224.2,2,     2.52,2,     0.07,2,     0.00,2,     0.16,2,    2.210,2,    1.185,2, -999.000,9,-999.0000,9,  -999.00,9,   -999.0,9,  -999.00,9,   1992.2,2,   2310.2,2,  -999.0,-999.0000,-999.000,  -999.0,-999.000
   31WTTUNES_1,  P17C,    44,  1,      2,      2,2,19910617,0531, 21.0083,-135.0000, 5252,     37.9,  21.3500,  34.9053,2,  34.8961,2,    226.2,2, 21.3427,    225.9,2,     2.52,2,     0.07,2,     0.00,2,     0.15,2,    2.252,2,    1.202,2, -999.000,9,   1.7870,2,     2.36,2,   -999.0,9,  -999.00,9,   1992.7,2,   -999.0,9,  -999.0,  0.0080,   0.110,  -999.0,-999.000
   31WTTUNES_1,  P17C,    44,  1,      3,      3,2,19910617,0531, 21.0083,-135.0000, 5252,     73.1,  20.6207,  34.9093,2,  34.9130,2,    227.9,2, 20.6070,    229.9,2,     2.52,2,     0.07,2,     0.00,2,     0.16,2,    2.375,2,    1.253,2, -999.000,9,-999.0000,9,  -999.00,9,   -999.0,9,  -999.00,9,   2003.2,2,   -999.0,9,  -999.0,-999.0000,-999.000,  -999.0,-999.000
   31WTTUNES_1,  P17C,    44,  1,      4,      4,2,19910617,0531, 21.0083,-135.0000, 5252,    103.5,  20.0468,  34.8880,2,  34.8963,2,    228.7,2, 20.0277,    226.1,2,     2.52,2,     0.07,2,     0.00,2,     0.16,2,    2.193,2,    1.138,2,    2.138,2,   1.8050,2,    -0.70,2,   -999.0,9,  -999.00,9,   2015.0,2,   2316.5,2,  -999.0,  0.0080,   0.150,  -999.0,   0.016
   31WTTUNES_1,  P17C,    44,  1,      5,      5,2,19910617,0531, 21.0083,-135.0000, 5252,    124.1,  20.0044,  34.9842,2,  34.9805,2,    228.5,2, 19.9815,    225.9,2,     2.52,2,     0.06,2,     0.00,2,     0.14,2,    2.391,2,    1.251,2,    2.153,2,   1.7770,2,    -0.66,2,   -999.0,9,  -999.00,9,   2020.2,2,   2320.6,2,  -999.0,  0.0080,   0.150,  -999.0,   0.016
   31WTTUNES_1,  P17C,    44,  1,      6,      6,2,19910617,0531, 21.0083,-135.0000, 5252,    154.6,  18.1792,  34.7742,2,  34.7891,2,    213.0,2, 18.1526,    210.2,2,     3.24,2,     1.08,2,     0.07,2,     0.25,2,    2.464,2,    1.273,2,    2.200,2,   1.8520,2,     0.25,2,   -999.0,9,  -999.00,9,   2040.2,2,   -999.0,9,  -999.0,  0.0090,   0.150,  -999.0,   0.016
   31WTTUNES_1,  P17C,    44,  1,      7,      7,2,19910617,0531, 21.0083,-135.0000, 5252,    175.1,  17.0481,  34.6783,2,  34.6783,2,    206.1,2, 17.0193,    206.7,2,     3.96,2,     2.76,2,     0.01,2,     0.33,2,    2.476,2,    1.259,2, -999.000,9,-999.0000,9,  -999.00,9,   -999.0,9,  -999.00,9,   2044.8,2,   -999.0,9,  -999.0,-999.0000,-999.000,  -999.0,-999.000
   31WTTUNES_1,  P17C,    44,  1,      8,      8,2,19910617,0531, 21.0083,-135.0000, 5252,    200.8,  14.6822,  34.3787,2,  34.3586,2,    200.9,2, 14.6524,    200.4,2,     5.77,2,     5.64,2,     0.00,2,     0.53,2,    2.601,2,    1.296,2,    2.369,2,   1.8100,2,     2.47,2,   -999.0,9,  -999.00,9,   2055.6,2,   2272.8,2,  -999.0,  0.0090,   0.150,  -999.0,   0.017
   31WTTUNES_1,  P17C,    44,  1,      9,      9,2,19910617,0531, 21.0083,-135.0000, 5252,    273.3,  10.1135,  34.0626,2,  34.0568,2,    177.6,2, 10.0818,    193.5,2,    18.38,2,    16.18,2,     0.00,2,     1.18,2,    2.386,2,    1.159,2,    2.350,2,   1.8490,2,     7.78,2,   -999.0,9,  -999.00,9,   2107.2,2,   -999.0,9,  -999.0,  0.0090,   0.150,  -999.0,   0.016
   31WTTUNES_1,  P17C,    44,  1,     10,     10,2,19910617,0531, 21.0083,-135.0000, 5252,    329.3,   8.4348,  34.1063,2,  34.1032,2,    123.3,2,  8.4006,    121.1,2,    37.30,2,    26.16,2,     0.00,2,     1.96,2,    1.005,2,    0.507,2,    1.872,2,   1.8950,2,    16.25,2,   -999.0,9,  -999.00,9,   2187.4,2,   2275.3,2,  -999.0,  0.0090,   0.150,  -999.0,   0.017
   31WTTUNES_1,  P17C,    44,  1,     11,     11,2,19910617,0531, 21.0083,-135.0000, 5252,    406.0,   7.0261,  34.1772,2,  34.1728,2,     65.3,2,  6.9880,     58.4,2,    56.94,2,    33.56,2,     0.00,2,     2.57,2,    0.212,2,    0.124,2, -999.000,9,-999.0000,9,  -999.00,9,   -999.0,9,  -999.00,9,   2255.3,2,   2299.3,2,  -999.0,-999.0000,-999.000,  -999.0,-999.000
   31WTTUNES_1,  P17C,    44,  1,     12,     12,2,19910617,0531, 21.0083,-135.0000, 5252,    457.4,   6.7956,  34.2789,2,  34.2829,2,     36.2,2,  6.7531,     27.2,2,    64.86,2,    36.95,2,     0.00,2,     2.83,2,    0.041,2,    0.023,2,    0.246,2,   1.8670,2,     9.86,2,   -999.0,9,  -999.00,9,   2283.5,2,   -999.0,9,  -999.0,  0.0090,   0.150,  -999.0,   0.006
   31WTTUNES_1,  P17C,    44,  1,     13,     13,2,19910617,0531, 21.0083,-135.0000, 5252,    503.6,   6.3246,  34.2999,2,  34.3044,2,     20.7,2,  6.2795,     23.8,2,    72.24,2,    38.20,2,     0.00,2,     2.95,2,    0.022,2,    0.021,2, -999.000,9,-999.0000,9,  -999.00,9,   -999.0,9,  -999.00,9,   2297.3,2,   -999.0,9,  -999.0,-999.0000,-999.000,  -999.0,-999.000
   31WTTUNES_1,  P17C,    44,  1,     14,     14,2,19910617,0531, 21.0083,-135.0000, 5252,    606.1,   5.7169,  34.3800,2,  34.3849,2,     15.0,2,  5.6649,     15.9,2,    82.50,2,    40.73,2,     0.00,2,     3.06,2,    0.005,2,   -0.002,2,    0.019,2,   0.0000,2,  -999.00,9,   -999.0,9,  -999.00,9,   2315.2,2,   2334.1,2,  -999.0,-999.0000,   0.150,  -999.0,   0.002
   31WTTUNES_1,  P17C,    44,  1,     15,     15,2,19910617,0531, 21.0083,-135.0000, 5252,    708.3,   5.2944,  34.4430,2,  34.4442,2,     16.9,2,  5.2354,     21.0,3,    89.69,2,    42.17,2,     0.00,2,     3.11,2,    0.004,2,   -0.002,2, -999.000,9,-999.0000,9,  -999.00,9,   -999.0,9,  -999.00,9,   2323.8,2,   -999.0,9,  -999.0,-999.0000,-999.000,  -999.0,-999.000
   31WTTUNES_1,  P17C,    44,  1,     16,     16,2,19910617,0531, 21.0083,-135.0000, 5252,    811.0,   4.9316,  34.4732,2,  34.4740,2,     17.2,2,  4.8656,     16.3,2,    97.43,2,    42.98,2,     0.00,2,     3.16,2,    0.002,2,   -0.003,2, -999.000,9,-999.0000,9,  -999.00,9,   -999.0,9,  -999.00,9,   2336.4,2,   -999.0,9,  -999.0,-999.0000,-999.000,  -999.0,-999.000
   31WTTUNES_1,  P17C,    44,  1,     17,     17,3,19910617,0531, 21.0083,-135.0000, 5252,    913.6,   4.5701,  34.4958,2,  34.4948,2,     21.3,2,  4.4976,     29.4,4,   103.19,2,    43.42,2,     0.00,2,     3.17,2,    0.012,3,    0.008,3, -999.000,9,-999.0000,9,  -999.00,9,   -999.0,9,  -999.00,9,   2341.9,2,   -999.0,9,  -999.0,-999.0000,-999.000,  -999.0,-999.000
   31WTTUNES_1,  P17C,    44,  1,     18,     18,2,19910617,0531, 21.0083,-135.0000, 5252,   1010.7,   4.2569,  34.5129,2,  34.5117,2,     26.0,2,  4.1784,    173.3,4,   109.66,2,    43.64,2,     0.00,2,     3.18,2,    0.005,2,   -0.002,2, -999.000,9,   1.8720,2,    21.23,2,   -999.0,9,  -999.00,9,   2349.0,2,   2371.9,2,  -999.0,-999.0000,-999.000,  -999.0,-999.000
   31WTTUNES_1,  P17C,    44,  1,     19,     19,2,19910617,0531, 21.0083,-135.0000, 5252,   1210.8,   3.6362,  34.5413,2,  34.5388,2,     37.5,2,  3.5460,     36.9,2,   122.44,2,    43.25,2,     0.00,2,     3.14,2,    0.000,2,   -0.002,2, -999.000,9,   1.8830,2,    23.05,2,   -999.0,9,  -999.00,9,   2353.1,2,   -999.0,9,  -999.0,-999.0000,-999.000,  -999.0,-999.000
   31WTTUNES_1,  P17C,    44,  1,     20,     20,2,19910617,0531, 21.0083,-135.0000, 5252,   1412.2,   3.1269,  34.5673,2,  34.5667,2,     51.6,2,  3.0250,     49.4,2,   133.59,2,    42.55,2,     0.00,2,     3.07,2,    0.006,2,   -0.003,2, -999.000,9,   1.8960,2,    23.34,2,   -999.0,9,  -999.00,9,   2361.9,2,   -999.0,9,  -999.0,-999.0000,-999.000,  -999.0,-999.000
   31WTTUNES_1,  P17C,    44,  1,     21,     21,2,19910617,0531, 21.0083,-135.0000, 5252,   1618.7,   2.6686,  34.5875,2,  34.5873,2,     66.1,2,  2.5548,     64.8,2,   142.76,2,    41.53,2,     0.00,2,     2.97,2, -999.000,5, -999.000,5, -999.000,9,   1.9040,2,    22.78,2,   -999.0,9,  -999.00,9,   2358.6,2,   -999.0,9,  -999.0,-999.0000,-999.000,  -999.0,-999.000
   31WTTUNES_1,  P17C,    44,  1,     22,     22,2,19910617,0531, 21.0083,-135.0000, 5252,   1870.3,   2.3052,  34.6149,2,  34.6119,2,     81.9,2,  2.1752,     83.2,2,   148.51,2,    40.41,2,     0.00,2,     2.88,2, -999.000,5, -999.000,5, -999.000,9,   1.9120,2,    23.78,2,   -999.0,9,  -999.00,9,   2356.7,2,   -999.0,9,  -999.0,-999.0000,-999.000,  -999.0,-999.000
   31WTTUNES_1,  P17C,    44,  1,     23,     23,2,19910617,0531, 21.0083,-135.0000, 5252,   2123.3,   1.9986,  34.6311,2,  34.6307,2,     95.5,2,  1.8517,     96.8,2,   155.16,2,    39.56,2,     0.00,2,     2.80,2, -999.000,5, -999.000,5, -999.000,9,   1.9150,2,    22.63,2,   -999.0,9,  -999.00,9,   2351.9,2,   2423.6,2,  -999.0,-999.0000,-999.000,  -999.0,-999.000
   31WTTUNES_1,  P17C,    44,  1,     24,     24,2,19910617,0531, 21.0083,-135.0000, 5252,   2329.7,   1.8546,  34.6426,2,  34.6433,2,    103.7,2,  1.6922,    103.8,2,   157.13,2,    39.04,2,     0.00,2,     2.75,2,    0.002,2,    0.000,2, -999.000,9,   1.9040,2,    22.41,2,   -999.0,9,  -999.00,9,   2350.4,2,   -999.0,9,  -999.0,-999.0000,-999.000,  -999.0,-999.000
   31WTTUNES_1,  P17C,    44,  1,     25,     25,2,19910617,0531, 21.0083,-135.0000, 5252,   2530.8,   1.7500,  34.6524,2,  34.6511,2,    111.1,2,  1.5716,    110.3,2,   158.92,2,    38.62,2,     0.00,2,     2.72,2,    0.004,2,    0.000,2, -999.000,9,   1.8990,2,    22.08,2,   -999.0,9,  -999.00,9,   2348.5,2,   -999.0,9,  -999.0,-999.0000,-999.000,  -999.0,-999.000
   31WTTUNES_1,  P17C,    44,  1,     26,     26,2,19910617,0531, 21.0083,-135.0000, 5252,   2733.2,   1.6668,  34.6607,2,  34.6582,2,    118.6,2,  1.4715,    117.2,2,   160.72,2,    38.15,2,     0.00,2,     2.68,2,    0.000,2,    0.000,2, -999.000,9,   1.9110,2,    21.49,2,   -999.0,9,  -999.00,9,   2344.9,2,   -999.0,9,  -999.0,-999.0000,-999.000,  -999.0,-999.000
   31WTTUNES_1,  P17C,    44,  1,     27,     27,2,19910617,0531, 21.0083,-135.0000, 5252,   2935.8,   1.6119,  34.6665,2,  34.6649,2,    124.4,2,  1.3988,    124.4,2,   162.15,2,    37.94,2,     0.00,2,     2.65,2,   -0.001,2,    0.000,2, -999.000,9,   1.9000,2,    20.90,2,   -999.0,9,  -999.00,9,   2346.2,2,   -999.0,9,  -999.0,-999.0000,-999.000,  -999.0,-999.000
   31WTTUNES_1,  P17C,    44,  1,     28,     28,2,19910617,0531, 21.0083,-135.0000, 5252,   3195.4,   1.5512,  34.6737,2,  34.6708,2,    131.1,2,  1.3143,    128.4,2,   162.32,2,    37.42,2,     0.00,2,     2.62,2,    0.000,2,    0.000,2, -999.000,9,   1.9200,2,    19.81,2,   -999.0,9,  -999.00,9,   2346.9,2,   -999.0,9,  -999.0,-999.0000,-999.000,  -999.0,-999.000
   31WTTUNES_1,  P17C,    44,  1,     29,     29,2,19910617,0531, 21.0083,-135.0000, 5252,   3454.4,   1.5141,  34.6763,2,  34.6753,2,    136.6,2,  1.2523,    135.4,2,   161.41,2,    36.95,2,     0.00,2,     2.59,2,    0.003,2,    0.000,2, -999.000,9,   1.9150,2,    18.28,2,   -999.0,9,  -999.00,9,   2338.4,2,   -999.0,9,  -999.0,-999.0000,-999.000,  -999.0,-999.000
   31WTTUNES_1,  P17C,    44,  1,     30,     30,2,19910617,0531, 21.0083,-135.0000, 5252,   3703.9,   1.4995,  34.6807,2,  34.6791,2,    141.2,2,  1.2123,    139.2,2,   160.32,2,    36.64,2,     0.00,2,     2.55,2,    0.002,2,    0.000,2, -999.000,9,   1.9170,2,    17.16,2,   -999.0,9,  -999.00,9,   2335.0,2,   -999.0,9,  -999.0,-999.0000,-999.000,  -999.0,-999.000
   31WTTUNES_1,  P17C,    44,  1,     31,     31,2,19910617,0531, 21.0083,-135.0000, 5252,   3959.4,   1.4906,  34.6831,2,  34.6806,2,    145.8,2,  1.1764,    144.7,2,   157.25,2,    36.38,2,     0.00,2,     2.54,2,    0.001,2,    0.000,2, -999.000,9,   1.9130,2,    16.30,2,   -999.0,9,  -999.00,9,   2329.3,2,   -999.0,9,  -999.0,-999.0000,-999.000,  -999.0,-999.000
   31WTTUNES_1,  P17C,    44,  1,     32,     32,2,19910617,0531, 21.0083,-135.0000, 5252,   4213.5,   1.4744,  34.6855,2,  34.6842,2,    152.1,2,  1.1327,    151.7,2,   153.10,2,    35.92,2,     0.00,2,     2.50,2,    0.005,2,    0.000,2, -999.000,9,   1.9080,2,    15.88,2,   -999.0,9,  -999.00,9,   2321.4,2,   -999.0,9,  -999.0,-999.0000,-999.000,  -999.0,-999.000
   31WTTUNES_1,  P17C,    44,  1,     33,     33,2,19910617,0531, 21.0083,-135.0000, 5252,   4474.0,   1.4580,  34.6896,2,  34.6869,2,    160.0,2,  1.0873,    157.8,2,   147.70,2,    35.40,2,     0.00,2,     2.46,2,    0.003,2,    0.000,2, -999.000,9,   1.8890,2,    15.14,2,   -999.0,9,  -999.00,9,   2312.8,2,   -999.0,9,  -999.0,-999.0000,-999.000,  -999.0,-999.000
   31WTTUNES_1,  P17C,    44,  1,     34,     34,2,19910617,0531, 21.0083,-135.0000, 5252,   4744.8,   1.4542,  34.6914,2,  34.6901,2,    163.8,2,  1.0521,    163.4,2,   143.01,2,    34.99,2,     0.00,2,     2.43,2,    0.002,2,    0.000,2, -999.000,9,   1.9110,2,    14.95,2,   -999.0,9,  -999.00,9,   2308.3,2,   -999.0,9,  -999.0,-999.0000,-999.000,  -999.0,-999.000
   31WTTUNES_1,  P17C,    44,  1,     35,     35,2,19910617,0531, 21.0083,-135.0000, 5252,   5000.9,   1.4710,  34.6930,2,  34.6912,2,    166.9,2,  1.0376,    165.1,2,   141.75,2,    34.89,2,     0.00,2,     2.42,2,    0.001,2,    0.000,2, -999.000,9,   1.9180,2,    14.59,2,   -999.0,9,  -999.00,9,   2309.2,2,   -999.0,9,  -999.0,-999.0000,-999.000,  -999.0,-999.000
   31WTTUNES_1,  P17C,    44,  1,     36,     36,2,19910617,0531, 21.0083,-135.0000, 5252,   5348.4,   1.5014,  34.6946,2,  34.6916,2,   -999.0,9,  1.0240,    173.3,4,   139.94,2,    34.69,2,     0.00,2,     2.42,2,   -0.001,2,    0.000,2, -999.000,9,-999.0000,5,    13.79,2,   -999.0,9,  -999.00,9,   2304.1,2,   -999.0,9,  -999.0,-999.0000,-999.000,  -999.0,-999.000