BOTTLE,20220819CCHSIOAMB
EXPOCODE,SECT_ID,STNNBR,CASTNO,SAMPNO,BTLNBR,BTLNBR_FLAG_W,DATE,TIME,LATITUDE,LONGITUDE,DEPTH,CTDPRS,CTDTMP,CTDSAL,CTDSAL_FLAG_W,SALNTY,SALNTY_FLAG_W,CTDOXY,CTDOXY_FLAG_W,THETA,OXYGEN,OXYGEN_FLAG_W,SILCAT,SILCAT_FLAG_W,NITRAT,NITRAT_FLAG_W,NITRIT,NITRIT_FLAG_W,PHSPHT,PHSPHT_FLAG_W,CFC-11,CFC-11_FLAG_W,CFC-12,CFC-12_FLAG_W,TRITUM,TRITUM_FLAG_W,HELIUM,HELIUM_FLAG_W,DELHE3,DELHE3_FLAG_W,DELC14,DELC14_FLAG_W,DELC13,DELC13_FLAG_W,TCARBN,TCARBN_FLAG_W,ALKALI,ALKALI_FLAG_W,C14ERR,HELIER,DELHER,C13ERR,TRITER
,,,,,,,,,,,,DBAR,ITS-90,PSS-78,,PSS-78,,UMOL/KG,,DEG C,UMOL/KG,,UMOL/KG,,UMOL/KG,,UMOL/KG,,UMOL/KG,,PMOL/KG,,PMOL/KG,,TU,,NMOL/KG,,PERCNT,,/MILLE,,/MILLE,,UMOL/KG,,UMOL/KG,,/MILLE,NMOL/KG,PERCNT,/MILLE,TU
   31WTTUNES_1,  P17C,    80,  1,      1,      1,2,19910628,1030,  3.0333,-135.0117, 4331,      0.2,  28.3562,  34.6306,2,  34.6345,2,    211.4,3, 28.3562,    208.4,2,     3.23,2,     1.17,2,     0.04,2,     0.28,2, -999.000,9, -999.000,9, -999.000,9,-999.0000,9,  -999.00,9,   -999.0,9,  -999.00,9,   1956.1,2,   2279.5,2,  -999.0,-999.0000,-999.000,  -999.0,-999.000
   31WTTUNES_1,  P17C,    80,  1,      2,      2,2,19910628,1030,  3.0333,-135.0117, 4331,     83.1,  26.6787,  34.7275,2,  34.6952,2,    193.0,2, 26.6598,    187.3,2,     4.79,2,     4.79,2,     0.43,2,     0.60,2,    1.683,2,    0.894,2,    1.307,2,   0.0000,2,  -999.00,9,   -999.0,9,  -999.00,9,   2010.1,2,   2279.7,2,  -999.0,-999.0000,   0.150,  -999.0,   0.013
   31WTTUNES_1,  P17C,    80,  1,      3,      3,2,19910628,1030,  3.0333,-135.0117, 4331,     98.4,  24.1721,  34.6938,2,  34.7530,2,    159.4,2, 24.1513,    135.4,2,     7.53,2,    10.36,2,     1.33,2,     0.94,2,    1.551,2,    0.823,2, -999.000,9,-999.0000,9,  -999.00,9,   -999.0,9,  -999.00,9,   2068.1,2,   2282.9,2,  -999.0,-999.0000,-999.000,  -999.0,-999.000
   31WTTUNES_1,  P17C,    80,  1,      4,      4,2,19910628,1030,  3.0333,-135.0117, 4331,    108.8,  20.0437,  34.7802,2,  34.7647,2,    122.7,2, 20.0236,    110.7,2,    11.24,2,    14.76,2,     0.95,2,     1.15,2,    1.359,2,    0.712,2,    1.563,2,   0.0000,2,  -999.00,9,   -999.0,9,  -999.00,9,   2103.8,2,   -999.0,9,  -999.0,-999.0000,   0.150,  -999.0,   0.014
   31WTTUNES_1,  P17C,    80,  1,      5,      5,2,19910628,1030,  3.0333,-135.0117, 4331,    118.4,  16.3479,  34.7198,2,  34.7205,2,     92.1,2, 16.3290,     92.8,2,    17.40,2,    19.94,2,     0.19,2,     1.45,2,    1.055,2,    0.568,2, -999.000,9,-999.0000,9,  -999.00,9,   -999.0,9,  -999.00,9,   2143.4,2,   -999.0,9,  -999.0,-999.0000,-999.000,  -999.0,-999.000
   31WTTUNES_1,  P17C,    80,  1,      6,      6,2,19910628,1030,  3.0333,-135.0117, 4331,    127.8,  13.6864,  34.7264,2,  34.7295,2,     80.9,2, 13.6683,     83.4,2,    22.58,2,    23.85,2,     0.06,2,     1.68,2,    0.725,2,    0.379,2,    1.012,2,   0.0000,2,  -999.00,9,   -999.0,9,  -999.00,9,   2173.0,2,   -999.0,9,  -999.0,-999.0000,   0.150,  -999.0,   0.011
   31WTTUNES_1,  P17C,    80,  1,      7,      7,2,19910628,1030,  3.0333,-135.0117, 4331,    137.0,  13.1955,  34.7547,2,  34.7567,2,     78.6,2, 13.1765,     76.7,2,    23.07,2,    25.02,2,     0.04,2,     1.75,2,    0.632,2,    0.331,2, -999.000,9,-999.0000,9,  -999.00,9,   -999.0,9,  -999.00,9,   2182.9,2,   -999.0,9,  -999.0,-999.0000,-999.000,  -999.0,-999.000
   31WTTUNES_1,  P17C,    80,  1,      8,      8,2,19910628,1030,  3.0333,-135.0117, 4331,    151.8,  12.8916,  34.8504,2,  34.8448,2,     58.6,2, 12.8709,     56.6,2,    23.65,2,    27.46,2,     0.02,2,     1.91,2,    0.477,2,    0.260,2,    0.660,2,   0.0000,2,  -999.00,9,   -999.0,9,  -999.00,9,   2198.8,2,   2301.3,2,  -999.0,-999.0000,   0.150,  -999.0,   0.009
   31WTTUNES_1,  P17C,    80,  1,      9,      9,2,19910628,1030,  3.0333,-135.0117, 4331,    180.2,  12.4847,  34.8640,2,  34.8633,2,     34.8,2, 12.4606,     36.5,2,    25.02,2,    30.00,2,     0.01,2,     2.06,2,    0.322,2,    0.184,2, -999.000,9,-999.0000,9,  -999.00,9,   -999.0,9,  -999.00,9,   2216.2,2,   -999.0,9,  -999.0,-999.0000,-999.000,  -999.0,-999.000
   31WTTUNES_1,  P17C,    80,  1,     10,     10,2,19910628,1030,  3.0333,-135.0117, 4331,    207.9,  12.1078,  34.8423,2,  34.8409,2,     38.9,2, 12.0805,     37.6,2,    26.48,2,    30.39,2,     0.01,2,     2.09,2,    0.285,2,    0.162,2,    0.425,2,   1.8180,2,     5.91,2,   -999.0,9,  -999.00,9,   2223.4,2,   2304.6,2,  -999.0,  0.0090,   0.150,  -999.0,   0.007
   31WTTUNES_1,  P17C,    80,  1,     11,     11,2,19910628,1030,  3.0333,-135.0117, 4331,    252.7,  11.7489,  34.8233,2,  34.8233,2,     45.1,2, 11.7164,     44.5,2,    27.07,2,    30.30,2,     0.01,2,     2.08,2,    0.267,2,    0.153,2, -999.000,9,-999.0000,9,  -999.00,9,   -999.0,9,  -999.00,9,   2220.9,2,   -999.0,9,  -999.0,-999.0000,-999.000,  -999.0,-999.000
   31WTTUNES_1,  P17C,    80,  1,     12,     12,2,19910628,1030,  3.0333,-135.0117, 4331,    309.9,  10.8952,  34.7488,2,  34.7501,2,     86.3,2, 10.8571,     89.0,2,    27.76,2,    27.27,2,     0.01,2,     1.90,2,    0.346,2,    0.187,2,    0.425,2,   1.8230,2,     6.11,2,   -999.0,9,  -999.00,9,   2199.1,2,   -999.0,9,  -999.0,  0.0090,   0.150,  -999.0,   0.007
   31WTTUNES_1,  P17C,    80,  1,     13,     13,2,19910628,1030,  3.0333,-135.0117, 4331,    371.8,  10.1354,  34.7132,2,  34.7144,2,     63.3,2, 10.0917,     64.3,2,    30.79,2,    30.89,2,     0.01,2,     2.12,2,    0.176,2,    0.104,2, -999.000,9,-999.0000,9,  -999.00,9,   -999.0,9,  -999.00,9,   2222.3,2,   2305.3,2,  -999.0,-999.0000,-999.000,  -999.0,-999.000
   31WTTUNES_1,  P17C,    80,  1,     14,     14,2,19910628,1030,  3.0333,-135.0117, 4331,    477.7,   8.8599,  34.6435,2,  34.6417,2,     49.4,2,  8.8079,     46.3,2,    39.00,2,    34.99,2,     0.01,2,     2.41,2,    0.055,2,    0.035,2,    0.105,2,   1.8390,2,     6.66,2,   -999.0,9,  -999.00,9,   2251.0,2,   -999.0,9,  -999.0,  0.0090,   0.150,  -999.0,   0.003
   31WTTUNES_1,  P17C,    80,  1,     15,     15,9,19910628,1030,  3.0333,-135.0117, 4331,    536.6,   7.9513,  34.6153,2,-999.0000,9,     25.7,2,  7.8963,   -999.0,9,  -999.00,9,  -999.00,9,  -999.00,9,  -999.00,9, -999.000,9, -999.000,9, -999.000,9,-999.0000,9,  -999.00,9,   -999.0,9,  -999.00,9,   2256.4,2,   -999.0,9,  -999.0,-999.0000,-999.000,  -999.0,-999.000
   31WTTUNES_1,  P17C,    80,  1,     16,     16,2,19910628,1030,  3.0333,-135.0117, 4331,    606.1,   6.8858,  34.5758,2,  34.5767,2,     38.4,2,  6.8283,     39.3,2,    55.33,2,    39.98,2,     0.01,2,     2.80,2,    0.003,2,    0.002,2,   -0.001,2,   1.8550,2,     9.65,2,   -999.0,9,  -999.00,9,   2281.9,2,   2324.3,2,  -999.0,  0.0090,   0.150,  -999.0,   0.001
   31WTTUNES_1,  P17C,    80,  1,     17,     17,2,19910628,1030,  3.0333,-135.0117, 4331,    697.2,   6.0412,  34.5543,2,  34.5559,2,     50.5,2,  5.9791,     51.8,2,    64.32,2,    40.37,2,     0.01,2,     2.83,2,    0.001,2,    0.003,2, -999.000,9,-999.0000,9,  -999.00,9,   -999.0,9,  -999.00,9,   -999.0,9,   -999.0,9,  -999.0,-999.0000,-999.000,  -999.0,-999.000
   31WTTUNES_1,  P17C,    80,  1,     18,     18,2,19910628,1030,  3.0333,-135.0117, 4331,    809.0,   5.4146,  34.5486,2,  34.5506,2,     57.8,2,  5.3457,     57.6,2,    74.00,2,    40.57,2,     0.01,2,     2.84,2,    0.000,2,   -0.002,2, -999.000,9,-999.0000,9,  -999.00,9,   -999.0,9,  -999.00,9,   2296.8,2,   -999.0,9,  -999.0,-999.0000,-999.000,  -999.0,-999.000
   31WTTUNES_1,  P17C,    80,  1,     19,     19,2,19910628,1030,  3.0333,-135.0117, 4331,    898.3,   5.0168,  34.5521,2,  34.5532,2,     61.3,2,  4.9424,     62.2,2,    80.84,2,    40.96,2,     0.01,2,     2.87,2, -999.000,9, -999.000,9, -999.000,9,-999.0000,9,  -999.00,9,   -999.0,9,  -999.00,9,   2301.3,2,   -999.0,9,  -999.0,-999.0000,-999.000,  -999.0,-999.000
   31WTTUNES_1,  P17C,    80,  1,     20,     20,2,19910628,1030,  3.0333,-135.0117, 4331,    999.3,   4.4911,  34.5577,2,  34.5582,2,     69.9,2,  4.4116,     70.9,2,    90.52,2,    39.98,2,     0.01,2,     2.82,2, -999.000,9, -999.000,9, -999.000,9,-999.0000,9,  -999.00,9,   -999.0,9,  -999.00,9,   2309.4,2,   2376.5,2,  -999.0,-999.0000,-999.000,  -999.0,-999.000
   31WTTUNES_1,  P17C,    80,  1,     21,     21,2,19910628,1030,  3.0333,-135.0117, 4331,   1202.6,   3.8595,  34.5767,2,  34.5767,2,     74.7,2,  3.7678,     74.4,2,   105.57,2,    40.37,2,     0.01,2,     2.85,2, -999.000,9, -999.000,9, -999.000,9,-999.0000,9,  -999.00,9,   -999.0,9,  -999.00,9,   2323.6,2,   -999.0,9,  -999.0,-999.0000,-999.000,  -999.0,-999.000
   31WTTUNES_1,  P17C,    80,  1,     22,     22,2,19910628,1030,  3.0333,-135.0117, 4331,   1407.3,   3.2418,  34.5994,2,  34.5997,2,     81.3,2,  3.1390,     80.5,2,   121.11,2,    40.37,2,     0.01,2,     2.83,2, -999.000,9, -999.000,9, -999.000,9,-999.0000,9,  -999.00,9,   -999.0,9,  -999.00,9,   2339.0,2,   -999.0,9,  -999.0,-999.0000,-999.000,  -999.0,-999.000
   31WTTUNES_1,  P17C,    80,  1,     23,     23,2,19910628,1030,  3.0333,-135.0117, 4331,   1614.9,   2.7901,  34.6157,2,  34.6172,2,     89.3,2,  2.6751,     88.9,2,   130.39,2,    39.78,2,     0.01,2,     2.79,2, -999.000,9, -999.000,9, -999.000,9,-999.0000,9,  -999.00,9,   -999.0,9,  -999.00,9,   2342.7,2,   -999.0,9,  -999.0,-999.0000,-999.000,  -999.0,-999.000
   31WTTUNES_1,  P17C,    80,  1,     24,     24,2,19910628,1030,  3.0333,-135.0117, 4331,   1817.4,   2.4803,  34.6318,2,  34.6329,2,     96.6,2,  2.3523,     95.8,2,   137.82,2,    39.20,2,     0.01,2,     2.75,2, -999.000,9, -999.000,9, -999.000,9,-999.0000,9,  -999.00,9,   -999.0,9,  -999.00,9,   2347.1,2,   -999.0,9,  -999.0,-999.0000,-999.000,  -999.0,-999.000
   31WTTUNES_1,  P17C,    80,  1,     25,     25,2,19910628,1030,  3.0333,-135.0117, 4331,   2020.1,   2.2165,  34.6433,2,  34.6451,2,    105.1,2,  2.0750,    104.4,2,   143.00,2,    38.71,2,     0.01,2,     2.69,2, -999.000,9, -999.000,9, -999.000,9,-999.0000,9,  -999.00,9,   -999.0,9,  -999.00,9,   2346.4,2,   -999.0,9,  -999.0,-999.0000,-999.000,  -999.0,-999.000
   31WTTUNES_1,  P17C,    80,  1,     26,     26,2,19910628,1030,  3.0333,-135.0117, 4331,   2197.3,   2.0246,  34.6549,2,  34.6558,2,    111.2,2,  1.8709,    110.8,2,   146.91,2,    38.32,2,     0.01,2,     2.65,2, -999.000,9, -999.000,9, -999.000,9,-999.0000,9,  -999.00,9,   -999.0,9,  -999.00,9,   2347.9,2,   2428.3,2,  -999.0,-999.0000,-999.000,  -999.0,-999.000
   31WTTUNES_1,  P17C,    80,  1,     27,     27,2,19910628,1030,  3.0333,-135.0117, 4331,   2372.9,   1.8727,  34.6623,2,  34.6638,2,    117.7,2,  1.7062,    118.5,2,   150.33,2,    37.73,2,     0.01,2,     2.61,2, -999.000,9, -999.000,9,   -0.001,2,-999.0000,9,  -999.00,9,   -999.0,9,  -999.00,9,   2347.9,2,   -999.0,9,  -999.0,-999.0000,-999.000,  -999.0,   0.001
   31WTTUNES_1,  P17C,    80,  1,     28,     28,2,19910628,1030,  3.0333,-135.0117, 4331,   2528.6,   1.8298,  34.6657,2,  34.6668,2,    119.1,2,  1.6500,    118.9,2,   151.21,2,    37.63,2,     0.01,2,     2.59,2, -999.000,9, -999.000,9,    0.002,2,-999.0000,9,  -999.00,9,   -999.0,9,  -999.00,9,   2349.9,2,   -999.0,9,  -999.0,-999.0000,-999.000,  -999.0,   0.002
   31WTTUNES_1,  P17C,    80,  1,     29,     29,2,19910628,1030,  3.0333,-135.0117, 4331,   2743.0,   1.7738,  34.6687,2,  34.6692,2,    122.3,2,  1.5755,    123.9,2,   152.09,2,    37.44,2,     0.01,2,     2.57,2, -999.000,9, -999.000,9,    0.000,2,-999.0000,9,  -999.00,9,   -999.0,9,  -999.00,9,   2348.6,2,   -999.0,9,  -999.0,-999.0000,-999.000,  -999.0,   0.001
   31WTTUNES_1,  P17C,    80,  1,     30,     30,2,19910628,1030,  3.0333,-135.0117, 4331,   2959.3,   1.6819,  34.6750,2,  34.6743,2,    128.5,2,  1.4650,    127.9,2,   152.18,2,    37.14,2,     0.01,2,     2.54,2, -999.000,9, -999.000,9,   -0.005,2,-999.0000,9,  -999.00,9,   -999.0,9,  -999.00,9,   2346.9,2,   -999.0,9,  -999.0,-999.0000,-999.000,  -999.0,   0.001
   31WTTUNES_1,  P17C,    80,  1,     31,     31,2,19910628,1030,  3.0333,-135.0117, 4331,   3204.2,   1.5590,  34.6832,2,  34.6818,2,    139.0,2,  1.3210,    139.1,2,   151.30,2,    36.46,2,     0.01,2,     2.48,2, -999.000,9, -999.000,9, -999.000,9,-999.0000,9,  -999.00,9,   -999.0,9,  -999.00,9,   2340.6,2,   -999.0,9,  -999.0,-999.0000,-999.000,  -999.0,-999.000
   31WTTUNES_1,  P17C,    80,  1,     32,     32,2,19910628,1030,  3.0333,-135.0117, 4331,   3454.8,   1.4480,  34.6903,2,  34.6881,2,    147.8,2,  1.1877,    150.8,2,   150.82,2,    35.87,2,     0.01,2,     2.43,2, -999.000,9, -999.000,9, -999.000,9,-999.0000,9,  -999.00,9,   -999.0,9,  -999.00,9,   2335.3,2,   2436.6,2,  -999.0,-999.0000,-999.000,  -999.0,-999.000
   31WTTUNES_1,  P17C,    80,  1,     33,     33,2,19910628,1030,  3.0333,-135.0117, 4331,   3754.9,   1.4201,  34.6918,2,  34.6909,2,    155.1,2,  1.1295,    156.0,2,   146.81,2,    35.38,2,     0.01,2,     2.39,2, -999.000,9, -999.000,9, -999.000,9,-999.0000,9,  -999.00,9,   -999.0,9,  -999.00,9,   2327.5,2,   -999.0,9,  -999.0,-999.0000,-999.000,  -999.0,-999.000
   31WTTUNES_1,  P17C,    80,  1,     34,     34,2,19910628,1030,  3.0333,-135.0117, 4331,   3953.8,   1.4131,  34.6925,2,  34.6921,2,    159.4,2,  1.1016,    160.0,2,   146.12,2,    35.38,2,     0.01,2,     2.38,2, -999.000,9, -999.000,9, -999.000,9,-999.0000,9,  -999.00,9,   -999.0,9,  -999.00,9,   2325.8,2,   -999.0,9,  -999.0,-999.0000,-999.000,  -999.0,-999.000
   31WTTUNES_1,  P17C,    80,  1,     35,     35,2,19910628,1030,  3.0333,-135.0117, 4331,   4224.3,   1.4261,  34.6950,2,  34.6930,2,    161.7,2,  1.0845,    160.0,2,   144.95,2,    35.28,2,     0.01,2,     2.38,2, -999.000,9, -999.000,9, -999.000,9,-999.0000,9,  -999.00,9,   -999.0,9,  -999.00,9,   2325.2,2,   -999.0,9,  -999.0,-999.0000,-999.000,  -999.0,-999.000
   31WTTUNES_1,  P17C,    80,  1,     36,     36,2,19910628,1030,  3.0333,-135.0117, 4331,   4390.8,   1.4191,  34.6961,2,  34.6942,2,   -999.0,9,  1.0590,    162.6,2,   144.85,2,    34.89,2,     0.00,2,     2.38,2, -999.000,9, -999.000,9, -999.000,9,-999.0000,9,  -999.00,9,   -999.0,9,  -999.00,9,   2323.9,2,   -999.0,9,  -999.0,-999.0000,-999.000,  -999.0,-999.000
   31WTTUNES_1,  P17C,    81,  1,     61,     61,2,19910628,1533,  2.8283,-135.0083, 4340,      2.2,  28.3105,  34.6373,2,  34.6394,2,   -999.0,9, 28.3100,   -999.0,9,  -999.00,9,  -999.00,9,  -999.00,9,  -999.00,9, -999.000,9, -999.000,9, -999.000,9,-999.0000,9,  -999.00,9,   -999.0,9,  -999.00,9,   -999.0,9,   -999.0,9,  -999.0,-999.0000,-999.000,  -999.0,-999.000
   31WTTUNES_1,  P17C,    81,  1,     62,     62,2,19910628,1533,  2.8283,-135.0083, 4340,     35.6,  28.3125,  34.6380,2,  34.6386,2,   -999.0,9, 28.3040,   -999.0,9,  -999.00,9,  -999.00,9,  -999.00,9,  -999.00,9, -999.000,9, -999.000,9, -999.000,9,-999.0000,9,  -999.00,9,   -999.0,9,  -999.00,9,   -999.0,9,   -999.0,9,  -999.0,-999.0000,-999.000,  -999.0,-999.000
   31WTTUNES_1,  P17C,    81,  1,     63,     63,9,19910628,1533,  2.8283,-135.0083, 4340,    226.7,  12.0760,  34.8430,2,-999.0000,9,   -999.0,9, 12.0463,   -999.0,9,  -999.00,9,  -999.00,9,  -999.00,9,  -999.00,9, -999.000,9, -999.000,9, -999.000,9,-999.0000,9,  -999.00,9,   -999.0,9,  -999.00,9,   -999.0,9,   -999.0,9,  -999.0,-999.0000,-999.000,  -999.0,-999.000
   31WTTUNES_1,  P17C,    81,  1,     64,     64,2,19910628,1533,  2.8283,-135.0083, 4340,    236.0,  11.9859,  34.8365,2,  34.8367,2,   -999.0,9, 11.9551,   -999.0,9,  -999.00,9,  -999.00,9,  -999.00,9,  -999.00,9, -999.000,9, -999.000,9, -999.000,9,-999.0000,9,  -999.00,9,   -999.0,9,  -999.00,9,   -999.0,9,   -999.0,9,  -999.0,-999.0000,-999.000,  -999.0,-999.000
   31WTTUNES_1,  P17C,    81,  1,     65,     65,9,19910628,1533,  2.8283,-135.0083, 4340,    699.7,   6.1519,  34.5586,2,-999.0000,9,   -999.0,9,  6.0889,   -999.0,9,  -999.00,9,  -999.00,9,  -999.00,9,  -999.00,9, -999.000,9, -999.000,9, -999.000,9,-999.0000,9,  -999.00,9,   -999.0,9,  -999.00,9,   -999.0,9,   -999.0,9,  -999.0,-999.0000,-999.000,  -999.0,-999.000
   31WTTUNES_1,  P17C,    81,  1,     66,     66,2,19910628,1533,  2.8283,-135.0083, 4340,    796.7,   5.4619,  34.5497,2,  34.5535,2,   -999.0,9,  5.3938,   -999.0,9,  -999.00,9,  -999.00,9,  -999.00,9,  -999.00,9, -999.000,9, -999.000,9, -999.000,9,-999.0000,9,  -999.00,9,   -999.0,9,  -999.00,9,   -999.0,9,   -999.0,9,  -999.0,-999.0000,-999.000,  -999.0,-999.000
   31WTTUNES_1,  P17C,    81,  1,     67,     67,9,19910628,1533,  2.8283,-135.0083, 4340,    891.7,   4.8932,  34.5533,2,-999.0000,9,   -999.0,9,  4.8202,   -999.0,9,  -999.00,9,  -999.00,9,  -999.00,9,  -999.00,9, -999.000,9, -999.000,9, -999.000,9,-999.0000,9,  -999.00,9,   -999.0,9,  -999.00,9,   -999.0,9,   -999.0,9,  -999.0,-999.0000,-999.000,  -999.0,-999.000
   31WTTUNES_1,  P17C,    81,  1,     68,     68,2,19910628,1533,  2.8283,-135.0083, 4340,   2606.2,   1.7937,  34.6679,2,  34.6641,2,   -999.0,9,  1.6076,   -999.0,9,  -999.00,9,  -999.00,9,  -999.00,9,  -999.00,9, -999.000,9, -999.000,9, -999.000,9,-999.0000,9,  -999.00,9,   -999.0,9,  -999.00,9,   -999.0,9,   -999.0,9,  -999.0,-999.0000,-999.000,  -999.0,-999.000
   31WTTUNES_1,  P17C,    81,  1,     69,     69,2,19910628,1533,  2.8283,-135.0083, 4340,   3524.8,   1.4421,  34.6895,2,  34.6877,2,   -999.0,9,  1.1749,   -999.0,9,  -999.00,9,  -999.00,9,  -999.00,9,  -999.00,9, -999.000,9, -999.000,9, -999.000,9,-999.0000,9,  -999.00,9,   -999.0,9,  -999.00,9,   -999.0,9,   -999.0,9,  -999.0,-999.0000,-999.000,  -999.0,-999.000
   31WTTUNES_1,  P17C,    81,  1,     70,     70,9,19910628,1533,  2.8283,-135.0083, 4340,   3977.9,   1.4102,  34.6931,2,-999.0000,9,   -999.0,9,  1.0962,   -999.0,9,  -999.00,9,  -999.00,9,  -999.00,9,  -999.00,9, -999.000,9, -999.000,9, -999.000,9,-999.0000,9,  -999.00,9,   -999.0,9,  -999.00,9,   -999.0,9,   -999.0,9,  -999.0,-999.0000,-999.000,  -999.0,-999.000
   31WTTUNES_1,  P17C,    81,  1,     71,     71,2,19910628,1533,  2.8283,-135.0083, 4340,   4391.9,   1.4301,  34.6946,2,  34.6950,2,   -999.0,9,  1.0696,   -999.0,9,  -999.00,9,  -999.00,9,  -999.00,9,  -999.00,9, -999.000,9, -999.000,9, -999.000,9,-999.0000,9,  -999.00,9,   -999.0,9,  -999.00,9,   -999.0,9,   -999.0,9,  -999.0,-999.0000,-999.000,  -999.0,-999.000