BOTTLE,20220819CCHSIOAMB
EXPOCODE,SECT_ID,STNNBR,CASTNO,SAMPNO,BTLNBR,BTLNBR_FLAG_W,DATE,TIME,LATITUDE,LONGITUDE,DEPTH,CTDPRS,CTDTMP,CTDSAL,CTDSAL_FLAG_W,SALNTY,SALNTY_FLAG_W,CTDOXY,CTDOXY_FLAG_W,THETA,OXYGEN,OXYGEN_FLAG_W,SILCAT,SILCAT_FLAG_W,NITRAT,NITRAT_FLAG_W,NITRIT,NITRIT_FLAG_W,PHSPHT,PHSPHT_FLAG_W,CFC-11,CFC-11_FLAG_W,CFC-12,CFC-12_FLAG_W,TRITUM,TRITUM_FLAG_W,HELIUM,HELIUM_FLAG_W,DELHE3,DELHE3_FLAG_W,DELC14,DELC14_FLAG_W,DELC13,DELC13_FLAG_W,TCARBN,TCARBN_FLAG_W,ALKALI,ALKALI_FLAG_W,C14ERR,HELIER,DELHER,C13ERR,TRITER
,,,,,,,,,,,,DBAR,ITS-90,PSS-78,,PSS-78,,UMOL/KG,,DEG C,UMOL/KG,,UMOL/KG,,UMOL/KG,,UMOL/KG,,UMOL/KG,,PMOL/KG,,PMOL/KG,,TU,,NMOL/KG,,PERCNT,,/MILLE,,/MILLE,,UMOL/KG,,UMOL/KG,,/MILLE,NMOL/KG,PERCNT,/MILLE,TU
   31WTTUNES_1,  P17C,    18,  1,      1,      1,2,19910609,0536, 34.0667,-135.0000, 5097,      1.9,  16.4229,  33.1575,2,  33.1629,2,      1.2,4, 16.4226,    256.6,2,     3.91,2,     0.10,2,     0.01,2,     0.36,2,    2.963,2,    1.515,2, -999.000,9,-999.0000,9,  -999.00,9,   -999.0,9,  -999.00,9,   -999.0,9,   -999.0,9,  -999.0,-999.0000,-999.000,  -999.0,-999.000
   31WTTUNES_1,  P17C,    18,  1,      2,      2,2,19910609,0536, 34.0667,-135.0000, 5097,     51.5,  16.3369,  33.8301,2,  33.7844,2,    267.6,2, 16.3287,    257.8,2,     4.11,2,     0.10,2,     0.01,2,     0.23,2,    2.955,2,    1.511,2, -999.000,9,-999.0000,9,  -999.00,9,   -999.0,9,  -999.00,9,   -999.0,9,   -999.0,9,  -999.0,-999.0000,-999.000,  -999.0,-999.000
   31WTTUNES_1,  P17C,    18,  1,      3,      3,2,19910609,0536, 34.0667,-135.0000, 5097,     76.3,  15.2971,  33.7169,2,  33.7290,2,    257.7,2, 15.2855,    256.6,2,     4.11,2,     0.10,2,     0.01,2,     0.24,2,    3.000,2,    1.532,2, -999.000,9,-999.0000,9,  -999.00,9,   -999.0,9,  -999.00,9,   -999.0,9,   -999.0,9,  -999.0,-999.0000,-999.000,  -999.0,-999.000
   31WTTUNES_1,  P17C,    18,  1,      4,      4,2,19910609,0536, 34.0667,-135.0000, 5097,    102.7,  15.2841,  33.7935,2,  33.8008,2,    252.3,2, 15.2685,    249.6,2,     3.91,2,     0.10,2,     0.01,2,     0.24,2,    2.958,2,    1.527,2, -999.000,9,-999.0000,9,  -999.00,9,   -999.0,9,  -999.00,9,   -999.0,9,   -999.0,9,  -999.0,-999.0000,-999.000,  -999.0,-999.000
   31WTTUNES_1,  P17C,    18,  1,      5,      5,2,19910609,0536, 34.0667,-135.0000, 5097,    128.4,  15.4390,  33.9101,2,  33.9002,2,    250.2,2, 15.4194,    252.2,2,     3.91,2,     0.10,2,     0.03,2,     0.22,2,    2.943,2,    1.502,2, -999.000,9,-999.0000,9,  -999.00,9,   -999.0,9,  -999.00,9,   -999.0,9,   -999.0,9,  -999.0,-999.0000,-999.000,  -999.0,-999.000
   31WTTUNES_1,  P17C,    18,  1,      6,      6,2,19910609,0536, 34.0667,-135.0000, 5097,    154.8,  13.0465,  33.6448,2,  33.6266,2,    238.2,2, 13.0255,    236.8,2,     5.38,2,     4.30,2,     0.03,2,     0.56,2,    3.285,2,    1.632,2, -999.000,9,-999.0000,9,  -999.00,9,   -999.0,9,  -999.00,9,   -999.0,9,   -999.0,9,  -999.0,-999.0000,-999.000,  -999.0,-999.000
   31WTTUNES_1,  P17C,    18,  1,      7,      7,2,19910609,0536, 34.0667,-135.0000, 5097,    181.0,  10.8802,  33.5567,2,  33.5513,2,    233.6,2, 10.8584,    232.3,2,     8.32,2,     8.22,2,     0.02,2,     0.79,2,    3.403,2,    1.673,2, -999.000,9,-999.0000,9,  -999.00,9,   -999.0,9,  -999.00,9,   -999.0,9,   -999.0,9,  -999.0,-999.0000,-999.000,  -999.0,-999.000
   31WTTUNES_1,  P17C,    18,  1,      8,      8,2,19910609,0536, 34.0667,-135.0000, 5097,    205.7,   9.1698,  33.5140,2,  33.5230,2,    227.9,2,  9.1476,    230.7,2,    12.91,2,    12.91,2,     0.02,2,     1.08,2,    3.536,2,    1.729,2, -999.000,9,-999.0000,9,  -999.00,9,   -999.0,9,  -999.00,9,   -999.0,9,   -999.0,9,  -999.0,-999.0000,-999.000,  -999.0,-999.000
   31WTTUNES_1,  P17C,    18,  1,      9,      9,2,19910609,0536, 34.0667,-135.0000, 5097,    231.9,   8.9769,  33.6703,2,  33.6823,2,    222.6,2,  8.9521,    227.5,2,    15.55,2,    14.18,2,     0.02,2,     1.13,2,    3.386,2,    1.669,2, -999.000,9,-999.0000,9,  -999.00,9,   -999.0,9,  -999.00,9,   -999.0,9,   -999.0,9,  -999.0,-999.0000,-999.000,  -999.0,-999.000
   31WTTUNES_1,  P17C,    18,  1,     10,     10,2,19910609,0536, 34.0667,-135.0000, 5097,    252.9,   8.5530,  33.7974,2,  33.7842,2,    216.9,2,  8.5268,    220.5,2,    19.56,2,    16.24,2,     0.02,2,     1.24,2,    3.250,2,    1.584,2, -999.000,9,-999.0000,9,  -999.00,9,   -999.0,9,  -999.00,9,   -999.0,9,   -999.0,9,  -999.0,-999.0000,-999.000,  -999.0,-999.000
   31WTTUNES_1,  P17C,    18,  1,     11,     11,2,19910609,0536, 34.0667,-135.0000, 5097,    304.0,   8.1002,  33.9757,2,  33.9788,2,    193.0,2,  8.0695,    191.3,2,    30.02,2,    21.12,2,     0.02,2,     1.53,2,    2.499,2,    1.165,2, -999.000,9,-999.0000,9,  -999.00,9,   -999.0,9,  -999.00,9,   -999.0,9,   -999.0,9,  -999.0,-999.0000,-999.000,  -999.0,-999.000
   31WTTUNES_1,  P17C,    18,  1,     12,     12,2,19910609,0536, 34.0667,-135.0000, 5097,    401.9,   6.2391,  33.9478,2,  33.9534,2,    143.0,2,  6.2039,    133.3,2,    53.40,2,    30.32,2,     0.01,2,     2.15,2,    1.494,2,    0.710,2, -999.000,9,-999.0000,9,  -999.00,9,   -999.0,9,  -999.00,9,   -999.0,9,   -999.0,9,  -999.0,-999.0000,-999.000,  -999.0,-999.000
   31WTTUNES_1,  P17C,    18,  1,     14,     14,2,19910609,0536, 34.0667,-135.0000, 5097,    602.7,   4.7399,  34.0912,2,  34.1011,2,     40.0,2,  4.6931,     38.1,2,    92.60,2,    41.17,2,     0.02,2,     2.95,2,    0.119,2,    0.066,2, -999.000,9,-999.0000,9,  -999.00,9,   -999.0,9,  -999.00,9,   -999.0,9,   -999.0,9,  -999.0,-999.0000,-999.000,  -999.0,-999.000
   31WTTUNES_1,  P17C,    18,  1,     15,     15,2,19910609,0536, 34.0667,-135.0000, 5097,    705.2,   4.3522,  34.1975,2,  34.2042,2,     18.3,2,  4.2988,     19.4,2,   106.58,2,    43.12,2,     0.01,2,     3.11,2,    0.022,2,    0.015,2, -999.000,9,-999.0000,9,  -999.00,9,   -999.0,9,  -999.00,9,   -999.0,9,   -999.0,9,  -999.0,-999.0000,-999.000,  -999.0,-999.000
   31WTTUNES_1,  P17C,    18,  1,     16,     16,2,19910609,0536, 34.0667,-135.0000, 5097,    808.1,   4.1333,  34.2999,2,  34.3050,2,     11.3,2,  4.0728,     11.5,2,   115.47,2,    43.90,2,     0.01,2,     3.19,2,    0.013,2,    0.005,2, -999.000,9,-999.0000,9,  -999.00,9,   -999.0,9,  -999.00,9,   -999.0,9,   -999.0,9,  -999.0,-999.0000,-999.000,  -999.0,-999.000
   31WTTUNES_1,  P17C,    18,  1,     17,     17,2,19910609,0536, 34.0667,-135.0000, 5097,    905.1,   3.8435,  34.3584,2,  34.3626,2,     11.2,2,  3.7770,     11.2,2,   124.94,2,    44.29,2,     0.01,2,     3.21,2,    0.011,2,    0.008,2, -999.000,9,-999.0000,9,  -999.00,9,   -999.0,9,  -999.00,9,   -999.0,9,   -999.0,9,  -999.0,-999.0000,-999.000,  -999.0,-999.000
   31WTTUNES_1,  P17C,    18,  1,     18,     18,2,19910609,0536, 34.0667,-135.0000, 5097,   1004.4,   3.6176,  34.4119,2,  34.4160,2,     13.5,2,  3.5447,     13.5,2,   130.90,2,    44.29,2,     0.01,2,     3.20,2,    0.010,2,    0.004,2, -999.000,9,-999.0000,9,  -999.00,9,   -999.0,9,  -999.00,9,   -999.0,9,   -999.0,9,  -999.0,-999.0000,-999.000,  -999.0,-999.000
   31WTTUNES_1,  P17C,    18,  1,     19,     19,2,19910609,0536, 34.0667,-135.0000, 5097,   1211.0,   3.2029,  34.4807,2,  34.4835,2,     25.6,2,  3.1168,     24.8,2,   140.87,2,    43.89,2,     0.01,2,     3.16,2,    0.004,2,    0.001,2, -999.000,9,-999.0000,9,  -999.00,9,   -999.0,9,  -999.00,9,   -999.0,9,   -999.0,9,  -999.0,-999.0000,-999.000,  -999.0,-999.000
   31WTTUNES_1,  P17C,    18,  1,     20,     20,4,19910609,0536, 34.0667,-135.0000, 5097,   1211.0,   3.2029,  34.4807,2,  34.4841,2,     25.6,2,  3.1168,     24.9,2,   140.96,2,    43.99,2,     0.01,2,     3.15,2, -999.000,9, -999.000,9, -999.000,9,-999.0000,9,  -999.00,9,   -999.0,9,  -999.00,9,   -999.0,9,   -999.0,9,  -999.0,-999.0000,-999.000,  -999.0,-999.000
   31WTTUNES_1,  P17C,    18,  1,     21,     21,4,19910609,0536, 34.0667,-135.0000, 5097,   1414.1,   2.8011,  34.5272,2,  34.5333,2,     40.0,2,  2.7027,     39.9,2,   149.85,2,    43.21,2,     0.01,2,     3.07,2, -999.000,9, -999.000,9, -999.000,9,-999.0000,9,  -999.00,9,   -999.0,9,  -999.00,9,   -999.0,9,   -999.0,9,  -999.0,-999.0000,-999.000,  -999.0,-999.000
   31WTTUNES_1,  P17C,    18,  1,     22,     22,2,19910609,0536, 34.0667,-135.0000, 5097,   1824.9,   2.1296,  34.5877,2,  34.5919,2,     63.2,2,  2.0059,     63.2,2,   169.40,3,    41.74,2,     0.01,2,     2.94,2,    0.000,2,    0.000,2, -999.000,9,-999.0000,9,  -999.00,9,   -999.0,9,  -999.00,9,   -999.0,9,   -999.0,9,  -999.0,-999.0000,-999.000,  -999.0,-999.000
   31WTTUNES_1,  P17C,    18,  1,     23,     23,2,19910609,0536, 34.0667,-135.0000, 5097,   2027.8,   1.9587,  34.6070,2,  34.6099,2,     72.6,2,  1.8206,     74.9,2,   173.40,3,    40.96,2,     0.01,2,     2.90,2,    0.000,2,    0.000,2, -999.000,9,-999.0000,9,  -999.00,9,   -999.0,9,  -999.00,9,   -999.0,9,   -999.0,9,  -999.0,-999.0000,-999.000,  -999.0,-999.000
   31WTTUNES_1,  P17C,    18,  1,     24,     24,9,19910609,0536, 34.0667,-135.0000, 5097,   2227.3,   1.8378,  34.6201,2,-999.0000,9,     82.4,2,  1.6847,   -999.0,9,  -999.00,9,  -999.00,9,  -999.00,9,  -999.00,9, -999.000,9, -999.000,9, -999.000,9,-999.0000,9,  -999.00,9,   -999.0,9,  -999.00,9,   -999.0,9,   -999.0,9,  -999.0,-999.0000,-999.000,  -999.0,-999.000
   31WTTUNES_1,  P17C,    18,  1,     25,     25,2,19910609,0536, 34.0667,-135.0000, 5097,   2428.4,   1.7388,  34.6337,2,  34.6384,2,     92.0,2,  1.5699,     92.1,2,   177.11,3,    39.78,2,     0.01,2,     2.80,2,    0.001,2,    0.000,2, -999.000,9,-999.0000,9,  -999.00,9,   -999.0,9,  -999.00,9,   -999.0,9,   -999.0,9,  -999.0,-999.0000,-999.000,  -999.0,-999.000
   31WTTUNES_1,  P17C,    18,  1,     26,     26,2,19910609,0536, 34.0667,-135.0000, 5097,   2636.6,   1.6649,  34.6469,2,  34.6464,2,    100.8,2,  1.4786,    102.3,2,   176.53,3,    39.39,2,     0.01,2,     2.76,2, -999.000,9, -999.000,9, -999.000,9,-999.0000,9,  -999.00,9,   -999.0,9,  -999.00,9,   -999.0,9,   -999.0,9,  -999.0,-999.0000,-999.000,  -999.0,-999.000
   31WTTUNES_1,  P17C,    18,  1,     27,     27,3,19910609,0536, 34.0667,-135.0000, 5097,   2840.9,   1.6029,  34.6530,2,-999.0000,5,    109.0,2,  1.3990,   -999.0,5,  -999.00,5,  -999.00,5,  -999.00,5,  -999.00,5, -999.000,9, -999.000,9, -999.000,9,-999.0000,9,  -999.00,9,   -999.0,9,  -999.00,9,   -999.0,9,   -999.0,9,  -999.0,-999.0000,-999.000,  -999.0,-999.000
   31WTTUNES_1,  P17C,    18,  1,     28,     28,2,19910609,0536, 34.0667,-135.0000, 5097,   3097.5,   1.5440,  34.6630,2,  34.6623,2,    119.7,2,  1.3169,    122.1,2,   172.81,2,    38.22,2,     0.01,2,     2.66,2, -999.000,9, -999.000,9, -999.000,9,-999.0000,9,  -999.00,9,   -999.0,9,  -999.00,9,   -999.0,9,   -999.0,9,  -999.0,-999.0000,-999.000,  -999.0,-999.000
   31WTTUNES_1,  P17C,    18,  1,     29,     29,2,19910609,0536, 34.0667,-135.0000, 5097,   3352.0,   1.5060,  34.6685,2,  34.6688,2,    129.0,2,  1.2547,    129.6,2,   169.68,2,    37.73,2,     0.01,2,     2.62,2, -999.000,9, -999.000,9, -999.000,9,-999.0000,9,  -999.00,9,   -999.0,9,  -999.00,9,   -999.0,9,   -999.0,9,  -999.0,-999.0000,-999.000,  -999.0,-999.000
   31WTTUNES_1,  P17C,    18,  1,     30,     30,4,19910609,0536, 34.0667,-135.0000, 5097,   3352.0,   1.5060,  34.6685,2,  34.6699,2,    129.0,2,  1.2547,    127.4,4,   169.09,2,    37.63,2,     0.01,2,     2.62,2, -999.000,9, -999.000,9, -999.000,9,-999.0000,9,  -999.00,9,   -999.0,9,  -999.00,9,   -999.0,9,   -999.0,9,  -999.0,-999.0000,-999.000,  -999.0,-999.000
   31WTTUNES_1,  P17C,    18,  1,     31,     31,2,19910609,0536, 34.0667,-135.0000, 5097,   3855.7,   1.4760,  34.6790,2,  34.6793,2,    140.8,2,  1.1734,    140.0,2,   167.14,2,    36.95,2,     0.01,2,     2.56,2, -999.000,9, -999.000,9, -999.000,9,-999.0000,9,  -999.00,9,   -999.0,9,  -999.00,9,   -999.0,9,   -999.0,9,  -999.0,-999.0000,-999.000,  -999.0,-999.000
   31WTTUNES_1,  P17C,    18,  1,     32,     32,2,19910609,0536, 34.0667,-135.0000, 5097,   4107.2,   1.4810,  34.6811,2,  34.6817,2,    144.9,2,  1.1509,    144.2,2,   164.79,2,    36.46,2,     0.01,2,     2.53,2, -999.000,9, -999.000,9, -999.000,9,-999.0000,9,  -999.00,9,   -999.0,9,  -999.00,9,   -999.0,9,   -999.0,9,  -999.0,-999.0000,-999.000,  -999.0,-999.000
   31WTTUNES_1,  P17C,    18,  1,     33,     33,2,19910609,0536, 34.0667,-135.0000, 5097,   4370.8,   1.4960,  34.6832,2,  34.6836,2,    148.9,2,  1.1360,    147.2,2,   162.45,3,    36.46,2,     0.01,2,     2.52,2,    0.000,2,   -0.004,2, -999.000,9,-999.0000,9,  -999.00,9,   -999.0,9,  -999.00,9,   -999.0,9,   -999.0,9,  -999.0,-999.0000,-999.000,  -999.0,-999.000
   31WTTUNES_1,  P17C,    18,  1,     34,     34,2,19910609,0536, 34.0667,-135.0000, 5097,   4623.0,   1.5170,  34.6847,2,  34.6834,2,    151.3,2,  1.1272,    149.0,2,   162.15,3,    36.26,2,     0.02,2,     2.51,2,    0.001,2,   -0.004,2, -999.000,9,-999.0000,9,  -999.00,9,   -999.0,9,  -999.00,9,   -999.0,9,   -999.0,9,  -999.0,-999.0000,-999.000,  -999.0,-999.000
   31WTTUNES_1,  P17C,    18,  1,     35,     35,2,19910609,0536, 34.0667,-135.0000, 5097,   4961.9,   1.5500,  34.6856,2,  34.6856,2,    152.9,2,  1.1187,    152.5,2,   156.29,3,    36.16,2,     0.01,2,     2.49,2,    0.005,2,   -0.002,2, -999.000,9,-999.0000,9,  -999.00,9,   -999.0,9,  -999.00,9,   -999.0,9,   -999.0,9,  -999.0,-999.0000,-999.000,  -999.0,-999.000
   31WTTUNES_1,  P17C,    18,  1,     36,     36,2,19910609,0536, 34.0667,-135.0000, 5097,   5188.9,   1.5779,  34.6831,2,  34.6856,2,   -999.0,9,  1.1179,    153.6,2,   156.78,3,    36.16,2,     0.01,2,     2.49,2,    0.001,2,    0.001,2, -999.000,9,-999.0000,9,  -999.00,9,   -999.0,9,  -999.00,9,   -999.0,9,   -999.0,9,  -999.0,-999.0000,-999.000,  -999.0,-999.000
   31WTTUNES_1,  P17C,    18,  1,     13,     13,4,19910609,0536, 34.0667,-135.0000, 5097,   5188.9,   1.5779,  34.6831,2,  34.6855,2,   -999.0,9,  1.1179,    154.9,2,   157.36,3,    35.87,2,     0.01,2,     2.47,2,    0.002,2,    0.003,2, -999.000,9,-999.0000,9,  -999.00,9,   -999.0,9,  -999.00,9,   -999.0,9,   -999.0,9,  -999.0,-999.0000,-999.000,  -999.0,-999.000