BOTTLE,20220819CCHSIOAMB
EXPOCODE,SECT_ID,STNNBR,CASTNO,SAMPNO,BTLNBR,BTLNBR_FLAG_W,DATE,TIME,LATITUDE,LONGITUDE,DEPTH,CTDPRS,CTDTMP,CTDSAL,CTDSAL_FLAG_W,SALNTY,SALNTY_FLAG_W,CTDOXY,CTDOXY_FLAG_W,THETA,OXYGEN,OXYGEN_FLAG_W,SILCAT,SILCAT_FLAG_W,NITRAT,NITRAT_FLAG_W,NITRIT,NITRIT_FLAG_W,PHSPHT,PHSPHT_FLAG_W,CFC-11,CFC-11_FLAG_W,CFC-12,CFC-12_FLAG_W,TRITUM,TRITUM_FLAG_W,HELIUM,HELIUM_FLAG_W,DELHE3,DELHE3_FLAG_W,DELC14,DELC14_FLAG_W,DELC13,DELC13_FLAG_W,TCARBN,TCARBN_FLAG_W,ALKALI,ALKALI_FLAG_W,C14ERR,HELIER,DELHER,C13ERR,TRITER
,,,,,,,,,,,,DBAR,ITS-90,PSS-78,,PSS-78,,UMOL/KG,,DEG C,UMOL/KG,,UMOL/KG,,UMOL/KG,,UMOL/KG,,UMOL/KG,,PMOL/KG,,PMOL/KG,,TU,,NMOL/KG,,PERCNT,,/MILLE,,/MILLE,,UMOL/KG,,UMOL/KG,,/MILLE,NMOL/KG,PERCNT,/MILLE,TU
   31WTTUNES_1,  P17C,    82,  1,      1,      1,2,19910628,1931,  2.6683,-135.0017, 4349,      0.2,  28.4024,  34.6409,2,  34.6453,2,   -999.0,9, 28.4024,    209.2,2,     2.70,2,     1.32,2,     0.04,2,     0.30,2,    1.683,2,    0.911,2, -999.000,9,-999.0000,9,  -999.00,9,   -999.0,9,  -999.00,9,   -999.0,9,   -999.0,9,  -999.0,-999.0000,-999.000,  -999.0,-999.000
   31WTTUNES_1,  P17C,    82,  1,      2,      2,2,19910628,1931,  2.6683,-135.0017, 4349,     66.5,  27.5797,  34.7936,2,  34.8019,2,    206.2,2, 27.5642,    201.7,2,     2.88,2,     2.98,2,     0.23,2,     0.42,2,    1.665,2,    0.921,2, -999.000,9,-999.0000,9,  -999.00,9,   -999.0,9,  -999.00,9,   -999.0,9,   -999.0,9,  -999.0,-999.0000,-999.000,  -999.0,-999.000
   31WTTUNES_1,  P17C,    82,  1,      3,      3,2,19910628,1931,  2.6683,-135.0017, 4349,     81.7,  26.7251,  34.8656,2,  34.8771,2,    199.4,2, 26.7065,    189.5,2,     3.43,2,     4.70,2,     0.57,2,     0.56,2,    1.701,2,    0.929,2, -999.000,9,-999.0000,9,  -999.00,9,   -999.0,9,  -999.00,9,   -999.0,9,   -999.0,9,  -999.0,-999.0000,-999.000,  -999.0,-999.000
   31WTTUNES_1,  P17C,    82,  1,      4,      4,2,19910628,1931,  2.6683,-135.0017, 4349,     92.0,  25.5450,  34.8075,2,  34.7668,2,    180.1,2, 25.5248,    169.6,2,     4.73,2,     6.52,2,     0.82,2,     0.72,2,    1.656,2,    0.901,2, -999.000,9,-999.0000,9,  -999.00,9,   -999.0,9,  -999.00,9,   -999.0,9,   -999.0,9,  -999.0,-999.0000,-999.000,  -999.0,-999.000
   31WTTUNES_1,  P17C,    82,  1,      5,      5,2,19910628,1931,  2.6683,-135.0017, 4349,    103.4,  20.6146,  34.8102,2,  34.7688,2,    121.6,2, 20.5951,    118.4,2,     9.05,2,    13.21,2,     1.57,2,     1.12,2,    1.462,2,    0.791,2, -999.000,9,-999.0000,9,  -999.00,9,   -999.0,9,  -999.00,9,   -999.0,9,   -999.0,9,  -999.0,-999.0000,-999.000,  -999.0,-999.000
   31WTTUNES_1,  P17C,    82,  1,      6,      6,2,19910628,1931,  2.6683,-135.0017, 4349,    113.9,  17.7485,  34.7976,2,  34.7472,2,     98.8,2, 17.7292,     95.4,2,    13.74,2,    18.07,2,     0.67,2,     1.37,2,    1.215,2,    0.667,2, -999.000,9,-999.0000,9,  -999.00,9,   -999.0,9,  -999.00,9,   -999.0,9,   -999.0,9,  -999.0,-999.0000,-999.000,  -999.0,-999.000
   31WTTUNES_1,  P17C,    82,  1,      7,      7,2,19910628,1931,  2.6683,-135.0017, 4349,    124.7,  15.0896,  34.7638,2,  34.7607,2,     85.2,2, 15.0707,     76.2,2,    19.19,2,    23.12,2,     0.12,2,     1.67,2,    0.861,2,    0.460,2, -999.000,9,-999.0000,9,  -999.00,9,   -999.0,9,  -999.00,9,   -999.0,9,   -999.0,9,  -999.0,-999.0000,-999.000,  -999.0,-999.000
   31WTTUNES_1,  P17C,    82,  1,      8,      8,2,19910628,1931,  2.6683,-135.0017, 4349,    135.0,  13.5389,  34.8578,2,  34.8406,2,     66.5,2, 13.5199,     60.7,2,    21.81,2,    26.41,2,     0.03,2,     1.88,2,    0.605,2,    0.327,2, -999.000,9,-999.0000,9,  -999.00,9,   -999.0,9,  -999.00,9,   -999.0,9,   -999.0,9,  -999.0,-999.0000,-999.000,  -999.0,-999.000
   31WTTUNES_1,  P17C,    82,  1,      9,      9,2,19910628,1931,  2.6683,-135.0017, 4349,    145.7,  13.2350,  34.9003,2,  34.9002,2,     50.0,2, 13.2148,     44.1,2,    22.36,2,    28.49,2,     0.01,2,     2.01,2,    0.476,2,    0.259,2, -999.000,9,-999.0000,9,  -999.00,9,   -999.0,9,  -999.00,9,   -999.0,9,   -999.0,9,  -999.0,-999.0000,-999.000,  -999.0,-999.000
   31WTTUNES_1,  P17C,    82,  1,     10,     10,2,19910628,1931,  2.6683,-135.0017, 4349,    155.1,  13.0034,  34.8983,2,  34.8973,2,     43.3,2, 12.9822,     44.0,2,    23.10,2,    28.81,2,     0.01,2,     2.02,2,    0.433,2,    0.237,2, -999.000,9,-999.0000,9,  -999.00,9,   -999.0,9,  -999.00,9,   -999.0,9,   -999.0,9,  -999.0,-999.0000,-999.000,  -999.0,-999.000
   31WTTUNES_1,  P17C,    82,  1,     11,     11,2,19910628,1931,  2.6683,-135.0017, 4349,    180.3,  12.6462,  34.8764,2,  34.8762,2,     43.5,2, 12.6219,     38.7,2,    24.22,2,    29.73,2,     0.01,2,     2.10,2,    0.362,2,    0.203,2, -999.000,9,-999.0000,9,  -999.00,9,   -999.0,9,  -999.00,9,   -999.0,9,   -999.0,9,  -999.0,-999.0000,-999.000,  -999.0,-999.000
   31WTTUNES_1,  P17C,    82,  1,     12,     12,2,19910628,1931,  2.6683,-135.0017, 4349,    225.6,  12.1593,  34.8560,2,  34.8552,2,     38.2,2, 12.1296,     38.6,2,    25.90,2,    30.42,2,     0.01,2,     2.14,2,    0.308,2,    0.174,2, -999.000,9,-999.0000,9,  -999.00,9,   -999.0,9,  -999.00,9,   -999.0,9,   -999.0,9,  -999.0,-999.0000,-999.000,  -999.0,-999.000
   31WTTUNES_1,  P17C,    82,  1,     13,     13,2,19910628,1931,  2.6683,-135.0017, 4349,    302.5,  11.4058,  34.8012,2,  34.8000,2,     49.2,2, 11.3675,     42.6,2,    27.78,2,    31.23,2,     0.01,2,     2.18,2,    0.239,6,    0.137,6, -999.000,9,-999.0000,9,  -999.00,9,   -999.0,9,  -999.00,9,   -999.0,9,   -999.0,9,  -999.0,-999.0000,-999.000,  -999.0,-999.000
   31WTTUNES_1,  P17C,    82,  1,     14,     14,2,19910628,1931,  2.6683,-135.0017, 4349,    378.5,  10.2697,  34.7217,2,  34.7207,2,     70.4,2, 10.2248,     72.2,2,    29.65,2,    30.24,2,     0.00,2,     2.12,2,    0.221,2,    0.124,2, -999.000,9,-999.0000,9,  -999.00,9,   -999.0,9,  -999.00,9,   -999.0,9,   -999.0,9,  -999.0,-999.0000,-999.000,  -999.0,-999.000
   31WTTUNES_1,  P17C,    82,  1,     15,     15,2,19910628,1931,  2.6683,-135.0017, 4349,    455.2,   9.1762,  34.6592,2,  34.6602,2,     44.5,2,  9.1256,     44.9,2,    37.18,2,    34.78,2,     0.01,2,     2.44,2,    0.067,2,    0.042,2, -999.000,9,-999.0000,9,  -999.00,9,   -999.0,9,  -999.00,9,   -999.0,9,   -999.0,9,  -999.0,-999.0000,-999.000,  -999.0,-999.000
   31WTTUNES_1,  P17C,    82,  1,     16,     16,2,19910628,1931,  2.6683,-135.0017, 4349,    530.5,   8.0591,  34.6191,2,  34.6155,2,     21.0,2,  8.0043,     21.0,2,    48.10,2,    39.05,2,     0.01,2,     2.83,2,    0.014,2,    0.008,2, -999.000,9,-999.0000,9,  -999.00,9,   -999.0,9,  -999.00,9,   -999.0,9,   -999.0,9,  -999.0,-999.0000,-999.000,  -999.0,-999.000
   31WTTUNES_1,  P17C,    82,  1,     17,     17,2,19910628,1931,  2.6683,-135.0017, 4349,    605.2,   6.9103,  34.5795,2,  34.5776,2,     36.2,2,  6.8527,     36.3,2,    56.01,2,    40.38,2,     0.00,2,     2.90,2,    0.000,2,    0.003,2, -999.000,9,-999.0000,9,  -999.00,9,   -999.0,9,  -999.00,9,   -999.0,9,   -999.0,9,  -999.0,-999.0000,-999.000,  -999.0,-999.000
   31WTTUNES_1,  P17C,    82,  1,     18,     18,2,19910628,1931,  2.6683,-135.0017, 4349,    706.9,   6.0834,  34.5584,2,  34.5562,2,     52.5,2,  6.0201,     53.6,2,    63.54,2,    40.25,2,     0.00,2,     2.89,2,    0.002,2,    0.005,2, -999.000,9,-999.0000,9,  -999.00,9,   -999.0,9,  -999.00,9,   -999.0,9,   -999.0,9,  -999.0,-999.0000,-999.000,  -999.0,-999.000
   31WTTUNES_1,  P17C,    82,  1,     19,     19,2,19910628,1931,  2.6683,-135.0017, 4349,    807.7,   5.4402,  34.5492,2,  34.5515,2,     63.1,2,  5.3712,     61.6,2,    72.95,2,    40.35,2,     0.00,2,     2.89,2, -999.000,9, -999.000,9, -999.000,9,-999.0000,9,  -999.00,9,   -999.0,9,  -999.00,9,   -999.0,9,   -999.0,9,  -999.0,-999.0000,-999.000,  -999.0,-999.000
   31WTTUNES_1,  P17C,    82,  1,     20,     20,2,19910628,1931,  2.6683,-135.0017, 4349,    913.0,   4.8749,  34.5517,2,  34.5536,2,     67.9,2,  4.8002,     68.2,2,    82.94,2,    40.21,2,     0.00,2,     2.90,2, -999.000,9, -999.000,9, -999.000,9,-999.0000,9,  -999.00,9,   -999.0,9,  -999.00,9,   -999.0,9,   -999.0,9,  -999.0,-999.0000,-999.000,  -999.0,-999.000
   31WTTUNES_1,  P17C,    82,  1,     21,     21,2,19910628,1931,  2.6683,-135.0017, 4349,   1114.1,   4.1544,  34.5680,2,  34.5698,2,     71.1,2,  4.0677,     72.3,2,    99.14,2,    40.48,2,     0.00,2,     2.92,2, -999.000,9, -999.000,9, -999.000,9,-999.0000,9,  -999.00,9,   -999.0,9,  -999.00,9,   -999.0,9,   -999.0,9,  -999.0,-999.0000,-999.000,  -999.0,-999.000
   31WTTUNES_1,  P17C,    82,  1,     22,     22,2,19910628,1931,  2.6683,-135.0017, 4349,   1317.3,   3.4913,  34.5895,2,  34.5902,2,     78.1,2,  3.3934,     78.2,2,   115.16,2,    40.46,2,     0.00,2,     2.92,2, -999.000,9, -999.000,9, -999.000,9,-999.0000,9,  -999.00,9,   -999.0,9,  -999.00,9,   -999.0,9,   -999.0,9,  -999.0,-999.0000,-999.000,  -999.0,-999.000
   31WTTUNES_1,  P17C,    82,  1,     23,     23,2,19910628,1931,  2.6683,-135.0017, 4349,   1518.2,   3.0428,  34.6075,2,  34.6075,2,     84.4,2,  2.9328,     84.4,2,   125.90,2,    40.04,2,     0.00,2,     2.88,2, -999.000,9, -999.000,9, -999.000,9,-999.0000,9,  -999.00,9,   -999.0,9,  -999.00,9,   -999.0,9,   -999.0,9,  -999.0,-999.0000,-999.000,  -999.0,-999.000
   31WTTUNES_1,  P17C,    82,  1,     24,     24,2,19910628,1931,  2.6683,-135.0017, 4349,   1719.7,   2.6266,  34.6253,2,  34.6268,2,     94.2,2,  2.5049,     93.7,2,   136.07,2,    39.63,2,     0.00,2,     2.83,2, -999.000,9, -999.000,9, -999.000,9,-999.0000,9,  -999.00,9,   -999.0,9,  -999.00,9,   -999.0,9,   -999.0,9,  -999.0,-999.0000,-999.000,  -999.0,-999.000
   31WTTUNES_1,  P17C,    82,  1,     25,     25,2,19910628,1931,  2.6683,-135.0017, 4349,   1923.9,   2.3510,  34.6391,2,  34.6394,2,    101.7,2,  2.2158,    103.2,2,   141.91,2,    39.05,2,     0.00,2,     2.77,2, -999.000,9, -999.000,9, -999.000,9,-999.0000,9,  -999.00,9,   -999.0,9,  -999.00,9,   -999.0,9,   -999.0,9,  -999.0,-999.0000,-999.000,  -999.0,-999.000
   31WTTUNES_1,  P17C,    82,  1,     26,     26,2,19910628,1931,  2.6683,-135.0017, 4349,   2126.2,   2.1133,  34.6514,2,  34.6504,2,    109.1,2,  1.9643,    109.4,2,   147.18,2,    38.64,2,     0.00,2,     2.72,2, -999.000,9, -999.000,9, -999.000,9,-999.0000,9,  -999.00,9,   -999.0,9,  -999.00,9,   -999.0,9,   -999.0,9,  -999.0,-999.0000,-999.000,  -999.0,-999.000
   31WTTUNES_1,  P17C,    82,  1,     27,     27,2,19910628,1931,  2.6683,-135.0017, 4349,   2328.1,   1.9082,  34.6617,2,  34.6624,2,    115.9,2,  1.7450,    116.1,2,   151.70,2,    38.13,2,     0.00,2,     2.69,2, -999.000,9, -999.000,9, -999.000,9,-999.0000,9,  -999.00,9,   -999.0,9,  -999.00,9,   -999.0,9,   -999.0,9,  -999.0,-999.0000,-999.000,  -999.0,-999.000
   31WTTUNES_1,  P17C,    82,  1,     28,     28,2,19910628,1931,  2.6683,-135.0017, 4349,   2531.4,   1.8153,  34.6684,2,  34.6687,2,    120.7,2,  1.6355,    119.8,2,   153.77,2,    37.89,2,     0.00,2,     2.65,2, -999.000,9, -999.000,9, -999.000,9,-999.0000,9,  -999.00,9,   -999.0,9,  -999.00,9,   -999.0,9,   -999.0,9,  -999.0,-999.0000,-999.000,  -999.0,-999.000
   31WTTUNES_1,  P17C,    82,  1,     29,     29,2,19910628,1931,  2.6683,-135.0017, 4349,   2736.2,   1.7673,  34.6715,2,  34.6705,2,    125.0,2,  1.5697,    124.1,2,   153.38,2,    37.70,2,     0.00,2,     2.64,2, -999.000,9, -999.000,9, -999.000,9,-999.0000,9,  -999.00,9,   -999.0,9,  -999.00,9,   -999.0,9,   -999.0,9,  -999.0,-999.0000,-999.000,  -999.0,-999.000
   31WTTUNES_1,  P17C,    82,  1,     30,     30,2,19910628,1931,  2.6683,-135.0017, 4349,   2937.0,   1.6859,  34.6756,2,  34.6752,2,    130.5,2,  1.4710,    130.9,2,   152.81,2,    37.07,2,     0.00,2,     2.60,2, -999.000,9, -999.000,9, -999.000,9,-999.0000,9,  -999.00,9,   -999.0,9,  -999.00,9,   -999.0,9,   -999.0,9,  -999.0,-999.0000,-999.000,  -999.0,-999.000
   31WTTUNES_1,  P17C,    82,  1,     31,     31,2,19910628,1931,  2.6683,-135.0017, 4349,   3144.0,   1.5606,  34.6833,2,  34.6819,2,    138.3,2,  1.3285,    140.4,2,   152.04,2,    36.78,2,     0.00,2,     2.55,2, -999.000,9, -999.000,9, -999.000,9,-999.0000,9,  -999.00,9,   -999.0,9,  -999.00,9,   -999.0,9,   -999.0,9,  -999.0,-999.0000,-999.000,  -999.0,-999.000
   31WTTUNES_1,  P17C,    82,  1,     32,     32,2,19910628,1931,  2.6683,-135.0017, 4349,   3397.9,   1.4596,  34.6895,2,  34.6882,2,    148.8,2,  1.2048,    149.2,2,   150.90,2,    36.16,2,     0.00,2,     2.49,2, -999.000,9, -999.000,9, -999.000,9,-999.0000,9,  -999.00,9,   -999.0,9,  -999.00,9,   -999.0,9,   -999.0,9,  -999.0,-999.0000,-999.000,  -999.0,-999.000
   31WTTUNES_1,  P17C,    82,  1,     33,     33,2,19910628,1931,  2.6683,-135.0017, 4349,   3653.3,   1.4180,  34.6921,2,  34.6912,2,    156.4,2,  1.1381,    156.3,2,   148.44,2,    35.65,2,     0.00,2,     2.46,2, -999.000,9, -999.000,9, -999.000,9,-999.0000,9,  -999.00,9,   -999.0,9,  -999.00,9,   -999.0,9,   -999.0,9,  -999.0,-999.0000,-999.000,  -999.0,-999.000
   31WTTUNES_1,  P17C,    82,  1,     34,     34,2,19910628,1931,  2.6683,-135.0017, 4349,   3903.2,   1.4071,  34.6947,2,  34.6926,2,    160.4,2,  1.1011,    160.4,2,   146.36,2,    35.30,2,     0.00,2,     2.43,2, -999.000,9, -999.000,9, -999.000,9,-999.0000,9,  -999.00,9,   -999.0,9,  -999.00,9,   -999.0,9,   -999.0,9,  -999.0,-999.0000,-999.000,  -999.0,-999.000
   31WTTUNES_1,  P17C,    82,  1,     35,     35,2,19910628,1931,  2.6683,-135.0017, 4349,   4160.5,   1.4218,  34.6936,2,  34.6930,2,    161.8,2,  1.0874,    161.0,2,   145.97,2,    35.23,2,     0.00,2,     2.42,2, -999.000,9, -999.000,9, -999.000,9,-999.0000,9,  -999.00,9,   -999.0,9,  -999.00,9,   -999.0,9,   -999.0,9,  -999.0,-999.0000,-999.000,  -999.0,-999.000
   31WTTUNES_1,  P17C,    82,  1,     36,     36,2,19910628,1931,  2.6683,-135.0017, 4349,   4406.7,   1.4416,  34.6955,2,  34.6932,2,   -999.0,9,  1.0791,    161.3,2,   146.34,2,    35.21,2,     0.00,2,     2.42,2, -999.000,9, -999.000,9, -999.000,9,-999.0000,9,  -999.00,9,   -999.0,9,  -999.00,9,   -999.0,9,   -999.0,9,  -999.0,-999.0000,-999.000,  -999.0,-999.000
   31WTTUNES_1,  P17C,    83,  1,     61,     61,4,19910628,2354,  2.5000,-135.0033, 4366,     25.6,  28.2713,  34.6488,2,  34.6494,2,   -999.0,9, 28.2652,   -999.0,9,  -999.00,9,  -999.00,9,  -999.00,9,  -999.00,9, -999.000,9, -999.000,9, -999.000,9,-999.0000,9,  -999.00,9,   -999.0,9,  -999.00,9,   -999.0,9,   -999.0,9,  -999.0,-999.0000,-999.000,  -999.0,-999.000
   31WTTUNES_1,  P17C,    83,  1,     62,     62,4,19910628,2354,  2.5000,-135.0033, 4366,    208.8,  12.1480,  34.8465,2,  34.8288,2,   -999.0,9, 12.1205,   -999.0,9,  -999.00,9,  -999.00,9,  -999.00,9,  -999.00,9, -999.000,9, -999.000,9, -999.000,9,-999.0000,9,  -999.00,9,   -999.0,9,  -999.00,9,   -999.0,9,   -999.0,9,  -999.0,-999.0000,-999.000,  -999.0,-999.000
   31WTTUNES_1,  P17C,    83,  1,     63,     63,3,19910628,2354,  2.5000,-135.0033, 4366,    414.0,  10.0164,  34.7036,2,  34.7730,4,   -999.0,9,  9.9679,   -999.0,9,  -999.00,9,  -999.00,9,  -999.00,9,  -999.00,9, -999.000,9, -999.000,9, -999.000,9,-999.0000,9,  -999.00,9,   -999.0,9,  -999.00,9,   -999.0,9,   -999.0,9,  -999.0,-999.0000,-999.000,  -999.0,-999.000
   31WTTUNES_1,  P17C,    83,  1,     64,     64,4,19910628,2354,  2.5000,-135.0033, 4366,    606.1,   7.2583,  34.5887,2,  34.5908,2,   -999.0,9,  7.1991,   -999.0,9,  -999.00,9,  -999.00,9,  -999.00,9,  -999.00,9, -999.000,9, -999.000,9, -999.000,9,-999.0000,9,  -999.00,9,   -999.0,9,  -999.00,9,   -999.0,9,   -999.0,9,  -999.0,-999.0000,-999.000,  -999.0,-999.000
   31WTTUNES_1,  P17C,    83,  1,     65,     65,4,19910628,2354,  2.5000,-135.0033, 4366,    810.3,   5.4707,  34.5453,2,  34.5496,2,   -999.0,9,  5.4013,   -999.0,9,  -999.00,9,  -999.00,9,  -999.00,9,  -999.00,9, -999.000,9, -999.000,9, -999.000,9,-999.0000,9,  -999.00,9,   -999.0,9,  -999.00,9,   -999.0,9,   -999.0,9,  -999.0,-999.0000,-999.000,  -999.0,-999.000
   31WTTUNES_1,  P17C,    83,  1,     66,     66,4,19910628,2354,  2.5000,-135.0033, 4366,   1013.3,   4.5884,  34.5531,2,  34.5616,3,   -999.0,9,  4.5070,   -999.0,9,  -999.00,9,  -999.00,9,  -999.00,9,  -999.00,9, -999.000,9, -999.000,9, -999.000,9,-999.0000,9,  -999.00,9,   -999.0,9,  -999.00,9,   -999.0,9,   -999.0,9,  -999.0,-999.0000,-999.000,  -999.0,-999.000
   31WTTUNES_1,  P17C,    83,  1,     67,     67,3,19910628,2354,  2.5000,-135.0033, 4366,   2019.4,   2.2964,  34.6391,2,  34.6071,4,   -999.0,9,  2.1537,   -999.0,9,  -999.00,9,  -999.00,9,  -999.00,9,  -999.00,9, -999.000,9, -999.000,9, -999.000,9,-999.0000,9,  -999.00,9,   -999.0,9,  -999.00,9,   -999.0,9,   -999.0,9,  -999.0,-999.0000,-999.000,  -999.0,-999.000
   31WTTUNES_1,  P17C,    83,  1,     68,     68,4,19910628,2354,  2.5000,-135.0033, 4366,   3037.1,   1.6299,  34.6759,2,  34.6779,2,   -999.0,9,  1.4067,   -999.0,9,  -999.00,9,  -999.00,9,  -999.00,9,  -999.00,9, -999.000,9, -999.000,9, -999.000,9,-999.0000,9,  -999.00,9,   -999.0,9,  -999.00,9,   -999.0,9,   -999.0,9,  -999.0,-999.0000,-999.000,  -999.0,-999.000
   31WTTUNES_1,  P17C,    83,  1,     69,     69,3,19910628,2354,  2.5000,-135.0033, 4366,   3037.1,   1.6299,  34.6759,2,  34.7585,4,   -999.0,9,  1.4067,   -999.0,9,  -999.00,9,  -999.00,9,  -999.00,9,  -999.00,9, -999.000,9, -999.000,9, -999.000,9,-999.0000,9,  -999.00,9,   -999.0,9,  -999.00,9,   -999.0,9,   -999.0,9,  -999.0,-999.0000,-999.000,  -999.0,-999.000
   31WTTUNES_1,  P17C,    83,  1,     70,     70,2,19910628,2354,  2.5000,-135.0033, 4366,   4059.6,   1.4081,  34.6921,2,  34.6944,2,   -999.0,9,  1.0853,   -999.0,9,  -999.00,9,  -999.00,9,  -999.00,9,  -999.00,9, -999.000,9, -999.000,9, -999.000,9,-999.0000,9,  -999.00,9,   -999.0,9,  -999.00,9,   -999.0,9,   -999.0,9,  -999.0,-999.0000,-999.000,  -999.0,-999.000
   31WTTUNES_1,  P17C,    83,  1,     71,     71,2,19910628,2354,  2.5000,-135.0033, 4366,   4434.2,   1.4411,  34.6930,2,  34.6952,2,   -999.0,9,  1.0755,   -999.0,9,  -999.00,9,  -999.00,9,  -999.00,9,  -999.00,9, -999.000,9, -999.000,9, -999.000,9,-999.0000,9,  -999.00,9,   -999.0,9,  -999.00,9,   -999.0,9,   -999.0,9,  -999.0,-999.0000,-999.000,  -999.0,-999.000