BOTTLE,20220819CCHSIOAMB
EXPOCODE,SECT_ID,STNNBR,CASTNO,SAMPNO,BTLNBR,BTLNBR_FLAG_W,DATE,TIME,LATITUDE,LONGITUDE,DEPTH,CTDPRS,CTDTMP,CTDSAL,CTDSAL_FLAG_W,SALNTY,SALNTY_FLAG_W,CTDOXY,CTDOXY_FLAG_W,THETA,OXYGEN,OXYGEN_FLAG_W,SILCAT,SILCAT_FLAG_W,NITRAT,NITRAT_FLAG_W,NITRIT,NITRIT_FLAG_W,PHSPHT,PHSPHT_FLAG_W,CFC-11,CFC-11_FLAG_W,CFC-12,CFC-12_FLAG_W,TRITUM,TRITUM_FLAG_W,HELIUM,HELIUM_FLAG_W,DELHE3,DELHE3_FLAG_W,DELC14,DELC14_FLAG_W,DELC13,DELC13_FLAG_W,TCARBN,TCARBN_FLAG_W,ALKALI,ALKALI_FLAG_W,C14ERR,HELIER,DELHER,C13ERR,TRITER
,,,,,,,,,,,,DBAR,ITS-90,PSS-78,,PSS-78,,UMOL/KG,,DEG C,UMOL/KG,,UMOL/KG,,UMOL/KG,,UMOL/KG,,UMOL/KG,,PMOL/KG,,PMOL/KG,,TU,,NMOL/KG,,PERCNT,,/MILLE,,/MILLE,,UMOL/KG,,UMOL/KG,,/MILLE,NMOL/KG,PERCNT,/MILLE,TU
   31WTTUNES_1,  P17C,    12,  1,      1,      1,2,19910606,0202, 34.5833,-128.8467, 4887,      1.7,  15.7729,  33.3737,2,  33.3766,2,    257.5,3, 15.7726,    255.3,2,     2.73,2,     0.14,2,     0.00,2,     0.34,2,    3.036,2,    1.531,2, -999.000,9,-999.0000,9,  -999.00,9,   -999.0,9,  -999.00,9,   -999.0,9,   -999.0,9,  -999.0,-999.0000,-999.000,  -999.0,-999.000
   31WTTUNES_1,  P17C,    12,  1,      2,      2,2,19910606,0202, 34.5833,-128.8467, 4887,     55.5,  15.7693,  33.3794,2,  33.3875,2,    250.5,2, 15.7607,    256.5,2,     2.71,2,     0.14,2,     0.00,2,     0.33,2,    3.056,2,    1.535,2, -999.000,9,-999.0000,9,  -999.00,9,   -999.0,9,  -999.00,9,   -999.0,9,   -999.0,9,  -999.0,-999.0000,-999.000,  -999.0,-999.000
   31WTTUNES_1,  P17C,    12,  1,      3,      3,2,19910606,0202, 34.5833,-128.8467, 4887,     98.8,  15.8009,  33.9022,2,  33.9023,2,    245.5,2, 15.7856,    250.2,2,     2.69,2,     0.13,2,     0.01,2,     0.24,2,    2.933,2,    1.488,2, -999.000,9,-999.0000,9,  -999.00,9,   -999.0,9,  -999.00,9,   -999.0,9,   -999.0,9,  -999.0,-999.0000,-999.000,  -999.0,-999.000
   31WTTUNES_1,  P17C,    12,  1,      4,      4,2,19910606,0202, 34.5833,-128.8467, 4887,    115.4,  15.9088,  34.1418,2,  34.1325,2,    241.3,2, 15.8907,    238.7,2,     2.68,2,     0.57,2,     0.08,2,     0.26,2,    2.923,2,    1.468,2, -999.000,9,-999.0000,9,  -999.00,9,   -999.0,9,  -999.00,9,   -999.0,9,   -999.0,9,  -999.0,-999.0000,-999.000,  -999.0,-999.000
   31WTTUNES_1,  P17C,    12,  1,      5,      5,2,19910606,0202, 34.5833,-128.8467, 4887,    153.2,  11.6569,  33.5170,2,  33.5028,2,    232.8,2, 11.6377,    233.0,2,     6.68,2,     7.48,2,     0.05,2,     0.76,2,    3.403,2,    1.691,2, -999.000,9,-999.0000,9,  -999.00,9,   -999.0,9,  -999.00,9,   -999.0,9,   -999.0,9,  -999.0,-999.0000,-999.000,  -999.0,-999.000
   31WTTUNES_1,  P17C,    12,  1,      6,      6,2,19910606,0202, 34.5833,-128.8467, 4887,    170.7,  10.5145,  33.4462,2,  33.4470,2,    223.7,2, 10.4944,    223.4,2,     9.16,2,    10.44,2,     0.03,2,     0.94,2,    3.475,2,    1.667,2, -999.000,9,-999.0000,9,  -999.00,9,   -999.0,9,  -999.00,9,   -999.0,9,   -999.0,9,  -999.0,-999.0000,-999.000,  -999.0,-999.000
   31WTTUNES_1,  P17C,    12,  1,      7,      7,2,19910606,0202, 34.5833,-128.8467, 4887,    198.7,   9.2867,  33.4958,2,  33.5044,2,    207.6,2,  9.2652,    206.7,2,    14.70,2,    15.71,2,     0.02,2,     1.27,2,    3.324,2,    1.592,2, -999.000,9,-999.0000,9,  -999.00,9,   -999.0,9,  -999.00,9,   -999.0,9,   -999.0,9,  -999.0,-999.0000,-999.000,  -999.0,-999.000
   31WTTUNES_1,  P17C,    12,  1,      8,      8,2,19910606,0202, 34.5833,-128.8467, 4887,    225.0,   8.7703,  33.7184,2,  33.7219,2,    197.7,2,  8.7466,    197.0,2,    20.04,2,    18.23,2,     0.02,2,     1.38,2,    3.058,2,    1.483,2, -999.000,9,-999.0000,9,  -999.00,9,   -999.0,9,  -999.00,9,   -999.0,9,   -999.0,9,  -999.0,-999.0000,-999.000,  -999.0,-999.000
   31WTTUNES_1,  P17C,    12,  1,      9,      9,2,19910606,0202, 34.5833,-128.8467, 4887,    251.9,   8.6449,  33.9094,2,  33.9137,2,    185.8,2,  8.6185,    186.2,2,    24.04,2,    20.09,2,     0.02,2,     1.47,2,    2.685,2,    1.298,2, -999.000,9,-999.0000,9,  -999.00,9,   -999.0,9,  -999.00,9,   -999.0,9,   -999.0,9,  -999.0,-999.0000,-999.000,  -999.0,-999.000
   31WTTUNES_1,  P17C,    12,  1,     10,     10,3,19910606,0202, 34.5833,-128.8467, 4887,    312.5,   7.8287,  34.0050,2,  33.9811,2,    135.2,2,  7.7977,   -999.0,9,    35.32,2,    25.57,2,     0.02,2,     1.85,2, -999.000,5, -999.000,5, -999.000,9,-999.0000,9,  -999.00,9,   -999.0,9,  -999.00,9,   -999.0,9,   -999.0,9,  -999.0,-999.0000,-999.000,  -999.0,-999.000
   31WTTUNES_1,  P17C,    12,  1,     11,     11,2,19910606,0202, 34.5833,-128.8467, 4887,    351.5,   7.2657,  34.0011,2,  33.9979,2,    118.6,2,  7.2323,    133.5,2,    42.77,2,    28.45,2,     0.02,2,     2.03,2,    1.557,2,    0.756,2, -999.000,9,-999.0000,9,  -999.00,9,   -999.0,9,  -999.00,9,   -999.0,9,   -999.0,9,  -999.0,-999.0000,-999.000,  -999.0,-999.000
   31WTTUNES_1,  P17C,    12,  1,     12,     12,2,19910606,0202, 34.5833,-128.8467, 4887,    383.0,   6.6810,  33.9849,2,  33.9850,2,    124.6,2,  6.6462,    125.0,2,    49.45,2,    30.40,2,     0.02,2,     2.17,2,    1.182,2,    0.588,2, -999.000,9,-999.0000,9,  -999.00,9,   -999.0,9,  -999.00,9,   -999.0,9,   -999.0,9,  -999.0,-999.0000,-999.000,  -999.0,-999.000
   31WTTUNES_1,  P17C,    12,  1,     36,     36,2,19910606,0202, 34.5833,-128.8467, 4887,    503.4,   5.4608,  34.0562,2,  34.0603,2,     62.5,2,  5.4193,     54.6,2,    75.15,2,    38.92,2,     0.01,2,     2.79,2,    0.291,2,    0.154,2, -999.000,9,-999.0000,9,  -999.00,9,   -999.0,9,  -999.00,9,   -999.0,9,   -999.0,9,  -999.0,-999.0000,-999.000,  -999.0,-999.000
   31WTTUNES_1,  P17C,    12,  1,     13,     13,2,19910606,0202, 34.5833,-128.8467, 4887,    607.9,   4.8496,  34.1485,2,  34.1477,2,     28.6,2,  4.8017,     28.5,2,    91.15,2,    42.20,2,     0.02,2,     3.03,2,    0.173,2,    0.042,2, -999.000,9,-999.0000,9,  -999.00,9,   -999.0,9,  -999.00,9,   -999.0,9,   -999.0,9,  -999.0,-999.0000,-999.000,  -999.0,-999.000
   31WTTUNES_1,  P17C,    12,  1,     14,     14,2,19910606,0202, 34.5833,-128.8467, 4887,    708.5,   4.3097,  34.2338,2,  34.2312,2,     16.2,2,  4.2563,     15.4,2,   106.43,2,    43.94,2,     0.02,2,     3.16,2,    0.012,2,    0.012,2, -999.000,9,-999.0000,9,  -999.00,9,   -999.0,9,  -999.00,9,   -999.0,9,   -999.0,9,  -999.0,-999.0000,-999.000,  -999.0,-999.000
   31WTTUNES_1,  P17C,    12,  1,     15,     15,2,19910606,0202, 34.5833,-128.8467, 4887,    809.7,   4.0872,  34.3120,2,  34.3093,2,     11.5,2,  4.0268,     11.5,2,   114.25,2,    44.32,2,     0.02,2,     3.17,2,    0.014,2,    0.008,2, -999.000,9,-999.0000,9,  -999.00,9,   -999.0,9,  -999.00,9,   -999.0,9,   -999.0,9,  -999.0,-999.0000,-999.000,  -999.0,-999.000
   31WTTUNES_1,  P17C,    12,  1,     16,     16,2,19910606,0202, 34.5833,-128.8467, 4887,    907.8,   3.9098,  34.3865,2,  34.3858,2,     13.6,2,  3.8426,     14.5,2,   119.86,2,    44.50,2,     0.00,2,     3.19,2,    0.008,2,   -0.003,2, -999.000,9,-999.0000,9,  -999.00,9,   -999.0,9,  -999.00,9,   -999.0,9,   -999.0,9,  -999.0,-999.0000,-999.000,  -999.0,-999.000
   31WTTUNES_1,  P17C,    12,  1,     17,     17,2,19910606,0202, 34.5833,-128.8467, 4887,   1009.0,   3.6877,  34.4493,2,  34.4479,2,     19.3,2,  3.6138,     19.4,2,   125.37,2,    44.45,2,     0.00,2,     3.17,2,    0.009,2,    0.007,2, -999.000,9,-999.0000,9,  -999.00,9,   -999.0,9,  -999.00,9,   -999.0,9,   -999.0,9,  -999.0,-999.0000,-999.000,  -999.0,-999.000
   31WTTUNES_1,  P17C,    12,  1,     18,     18,2,19910606,0202, 34.5833,-128.8467, 4887,   1205.8,   3.2388,  34.5037,2,  34.5044,2,     31.2,2,  3.1528,     31.3,2,   135.47,2,    44.02,2,     0.00,2,     3.12,2,   -0.003,2,   -0.002,2, -999.000,9,-999.0000,9,  -999.00,9,   -999.0,9,  -999.00,9,   -999.0,9,   -999.0,9,  -999.0,-999.0000,-999.000,  -999.0,-999.000
   31WTTUNES_1,  P17C,    12,  1,     19,     19,2,19910606,0202, 34.5833,-128.8467, 4887,   1414.6,   2.8378,  34.5417,2,  34.5414,2,     43.7,2,  2.7389,     43.8,2,   144.81,2,    43.38,2,     0.00,2,     3.07,2, -999.000,9, -999.000,9, -999.000,9,-999.0000,9,  -999.00,9,   -999.0,9,  -999.00,9,   -999.0,9,   -999.0,9,  -999.0,-999.0000,-999.000,  -999.0,-999.000
   31WTTUNES_1,  P17C,    12,  1,     20,     20,4,19910606,0202, 34.5833,-128.8467, 4887,   1414.6,   2.8378,  34.5417,2,  34.5418,2,     43.7,2,  2.7389,     46.9,4,   144.20,2,    43.38,2,     0.00,2,     3.07,2, -999.000,9, -999.000,9, -999.000,9,-999.0000,9,  -999.00,9,   -999.0,9,  -999.00,9,   -999.0,9,   -999.0,9,  -999.0,-999.0000,-999.000,  -999.0,-999.000
   31WTTUNES_1,  P17C,    12,  1,     21,     21,2,19910606,0202, 34.5833,-128.8467, 4887,   1816.6,   2.2420,  34.5915,2,  34.5920,2,     64.7,2,  2.1174,     64.4,2,   160.60,2,    42.22,2,     0.00,2,     2.95,2, -999.000,9, -999.000,9, -999.000,9,-999.0000,9,  -999.00,9,   -999.0,9,  -999.00,9,   -999.0,9,   -999.0,9,  -999.0,-999.0000,-999.000,  -999.0,-999.000
   31WTTUNES_1,  P17C,    12,  1,     22,     22,2,19910606,0202, 34.5833,-128.8467, 4887,   2019.6,   2.0438,  34.6122,2,  34.6093,2,     75.8,2,  1.9051,     76.0,2,   165.15,2,    41.44,2,     0.00,2,     2.89,2, -999.000,9, -999.000,9, -999.000,9,-999.0000,9,  -999.00,9,   -999.0,9,  -999.00,9,   -999.0,9,   -999.0,9,  -999.0,-999.0000,-999.000,  -999.0,-999.000
   31WTTUNES_1,  P17C,    12,  1,     23,     23,2,19910606,0202, 34.5833,-128.8467, 4887,   2222.5,   1.9091,  34.6273,2,  34.6266,2,     85.2,2,  1.7552,     87.2,2,   167.41,2,    40.87,2,     0.01,2,     2.85,2, -999.000,9, -999.000,9, -999.000,9,-999.0000,9,  -999.00,9,   -999.0,9,  -999.00,9,   -999.0,9,   -999.0,9,  -999.0,-999.0000,-999.000,  -999.0,-999.000
   31WTTUNES_1,  P17C,    12,  1,     24,     24,2,19910606,0202, 34.5833,-128.8467, 4887,   2429.1,   1.8115,  34.6381,2,  34.6355,2,     94.8,2,  1.6411,     92.2,2,   170.05,2,    40.36,2,     0.00,2,     2.81,2, -999.000,9, -999.000,9, -999.000,9,-999.0000,9,  -999.00,9,   -999.0,9,  -999.00,9,   -999.0,9,   -999.0,9,  -999.0,-999.0000,-999.000,  -999.0,-999.000
   31WTTUNES_1,  P17C,    12,  1,     25,     25,2,19910606,0202, 34.5833,-128.8467, 4887,   2630.7,   1.7128,  34.6480,2,  34.6463,2,    102.1,2,  1.5261,    100.2,2,   171.16,2,    39.80,2,     0.00,2,     2.76,2, -999.000,9, -999.000,9, -999.000,9,-999.0000,9,  -999.00,9,   -999.0,9,  -999.00,9,   -999.0,9,   -999.0,9,  -999.0,-999.0000,-999.000,  -999.0,-999.000
   31WTTUNES_1,  P17C,    12,  1,     26,     26,2,19910606,0202, 34.5833,-128.8467, 4887,   2837.6,   1.6388,  34.6556,2,  34.6538,2,    109.2,2,  1.4345,    107.9,2,   172.65,2,    39.35,2,     0.00,2,     2.72,2, -999.000,9, -999.000,9, -999.000,9,-999.0000,9,  -999.00,9,   -999.0,9,  -999.00,9,   -999.0,9,   -999.0,9,  -999.0,-999.0000,-999.000,  -999.0,-999.000
   31WTTUNES_1,  P17C,    12,  1,     27,     27,2,19910606,0202, 34.5833,-128.8467, 4887,   3041.4,   1.5926,  34.6608,2,  34.6597,2,    115.2,2,  1.3699,    114.5,2,   173.57,2,    39.20,2,     0.00,2,     2.70,2, -999.000,9, -999.000,9, -999.000,9,-999.0000,9,  -999.00,9,   -999.0,9,  -999.00,9,   -999.0,9,   -999.0,9,  -999.0,-999.0000,-999.000,  -999.0,-999.000
   31WTTUNES_1,  P17C,    12,  1,     28,     28,2,19910606,0202, 34.5833,-128.8467, 4887,   3292.7,   1.5425,  34.6659,2,  34.6668,2,    124.0,2,  1.2963,    120.4,2,   172.77,2,    38.64,2,     0.00,2,     2.66,2, -999.000,9, -999.000,9, -999.000,9,-999.0000,9,  -999.00,9,   -999.0,9,  -999.00,9,   -999.0,9,   -999.0,9,  -999.0,-999.0000,-999.000,  -999.0,-999.000
   31WTTUNES_1,  P17C,    12,  1,     30,     30,2,19910606,0202, 34.5833,-128.8467, 4887,   3551.6,   1.5061,  34.6721,2,  34.6719,2,    132.9,2,  1.2346,    130.1,2,   170.02,2,    38.09,2,     0.00,2,     2.62,2, -999.000,9, -999.000,9, -999.000,9,-999.0000,9,  -999.00,9,   -999.0,9,  -999.00,9,   -999.0,9,   -999.0,9,  -999.0,-999.0000,-999.000,  -999.0,-999.000
   31WTTUNES_1,  P17C,    12,  1,     29,     29,4,19910606,0202, 34.5833,-128.8467, 4887,   3551.6,   1.5061,  34.6721,2,  34.6727,2,    132.9,2,  1.2346,    130.3,2,   169.54,2,    37.94,2,     0.01,2,     2.61,2, -999.000,9, -999.000,9, -999.000,9,-999.0000,9,  -999.00,9,   -999.0,9,  -999.00,9,   -999.0,9,   -999.0,9,  -999.0,-999.0000,-999.000,  -999.0,-999.000
   31WTTUNES_1,  P17C,    12,  1,     31,     31,2,19910606,0202, 34.5833,-128.8467, 4887,   4058.8,   1.4871,  34.6818,2,  34.6814,2,    144.8,2,  1.1622,    145.0,2,   163.49,2,    37.19,2,     0.01,2,     2.54,2,   -0.001,2,    0.007,2, -999.000,9,-999.0000,9,  -999.00,9,   -999.0,9,  -999.00,9,   -999.0,9,   -999.0,9,  -999.0,-999.0000,-999.000,  -999.0,-999.000
   31WTTUNES_1,  P17C,    12,  1,     32,     32,2,19910606,0202, 34.5833,-128.8467, 4887,   4322.5,   1.5022,  34.6835,2,  34.6829,2,    147.8,2,  1.1475,    146.2,2,   161.17,2,    36.88,2,     0.01,2,     2.52,2,    0.012,2,    0.006,2, -999.000,9,-999.0000,9,  -999.00,9,   -999.0,9,  -999.00,9,   -999.0,9,   -999.0,9,  -999.0,-999.0000,-999.000,  -999.0,-999.000
   31WTTUNES_1,  P17C,    12,  1,     33,     33,2,19910606,0202, 34.5833,-128.8467, 4887,   4575.3,   1.5242,  34.6851,2,  34.6829,2,    149.2,2,  1.1397,    149.4,2,   159.00,2,    36.74,2,     0.01,2,     2.51,2, -999.000,9, -999.000,9, -999.000,9,-999.0000,9,  -999.00,9,   -999.0,9,  -999.00,9,   -999.0,9,   -999.0,9,  -999.0,-999.0000,-999.000,  -999.0,-999.000
   31WTTUNES_1,  P17C,    12,  1,     34,     34,2,19910606,0202, 34.5833,-128.8467, 4887,   4795.4,   1.5447,  34.6852,2,  34.6843,2,    149.6,2,  1.1336,    148.7,2,   158.58,2,    36.70,2,     0.01,2,     2.51,2,    0.002,2,    0.004,2, -999.000,9,-999.0000,9,  -999.00,9,   -999.0,9,  -999.00,9,   -999.0,9,   -999.0,9,  -999.0,-999.0000,-999.000,  -999.0,-999.000
   31WTTUNES_1,  P17C,    12,  1,     35,     35,2,19910606,0202, 34.5833,-128.8467, 4887,   4971.7,   1.5638,  34.6845,2,  34.6857,2,   -999.0,9,  1.1308,    150.5,2,   156.26,2,    36.55,2,     0.01,2,     2.51,2, -999.000,9, -999.000,9, -999.000,9,-999.0000,9,  -999.00,9,   -999.0,9,  -999.00,9,   -999.0,9,   -999.0,9,  -999.0,-999.0000,-999.000,  -999.0,-999.000