BOTTLE,20220819CCHSIOAMB
EXPOCODE,SECT_ID,STNNBR,CASTNO,SAMPNO,BTLNBR,BTLNBR_FLAG_W,DATE,TIME,LATITUDE,LONGITUDE,DEPTH,CTDPRS,CTDTMP,CTDSAL,CTDSAL_FLAG_W,SALNTY,SALNTY_FLAG_W,CTDOXY,CTDOXY_FLAG_W,THETA,OXYGEN,OXYGEN_FLAG_W,SILCAT,SILCAT_FLAG_W,NITRAT,NITRAT_FLAG_W,NITRIT,NITRIT_FLAG_W,PHSPHT,PHSPHT_FLAG_W,CFC-11,CFC-11_FLAG_W,CFC-12,CFC-12_FLAG_W,TRITUM,TRITUM_FLAG_W,HELIUM,HELIUM_FLAG_W,DELHE3,DELHE3_FLAG_W,DELC14,DELC14_FLAG_W,DELC13,DELC13_FLAG_W,TCARBN,TCARBN_FLAG_W,ALKALI,ALKALI_FLAG_W,C14ERR,HELIER,DELHER,C13ERR,TRITER
,,,,,,,,,,,,DBAR,ITS-90,PSS-78,,PSS-78,,UMOL/KG,,DEG C,UMOL/KG,,UMOL/KG,,UMOL/KG,,UMOL/KG,,UMOL/KG,,PMOL/KG,,PMOL/KG,,TU,,NMOL/KG,,PERCNT,,/MILLE,,/MILLE,,UMOL/KG,,UMOL/KG,,/MILLE,NMOL/KG,PERCNT,/MILLE,TU
   31WTTUNES_1,  P17C,    73,  1,      1,      1,2,19910626,0618,  6.5233,-135.0000, 4631,      0.2,  28.9863,  34.1920,2,  34.2436,2,    219.3,3, 28.9863,    216.4,2,     2.72,2,     0.09,2,     0.00,2,     0.27,2,    1.583,2,    0.915,2, -999.000,9,-999.0000,9,  -999.00,9,     82.3,2,     1.60,2,   -999.0,9,   -999.0,9,    13.9,-999.0000,-999.000,  -999.0,-999.000
   31WTTUNES_1,  P17C,    73,  1,      2,      2,2,19910626,0618,  6.5233,-135.0000, 4631,     36.5,  28.7764,  34.4870,2,  34.4921,2,    220.7,2, 28.7676,    217.7,2,     2.70,2,     0.13,2,     0.01,2,     0.28,2, -999.000,9, -999.000,9,    1.359,2,   1.7660,2,    -0.63,2,   -999.0,9,  -999.00,9,   -999.0,9,   -999.0,9,  -999.0,  0.0080,   0.150,  -999.0,   0.012
   31WTTUNES_1,  P17C,    73,  1,      3,      3,2,19910626,0618,  6.5233,-135.0000, 4631,     51.8,  28.0497,  34.7788,2,  34.7767,2,    207.8,2, 28.0375,    191.6,2,     2.68,2,     1.44,2,     0.26,2,     0.40,2,    1.588,2,    0.901,2,    1.421,2,   1.8180,2,    -0.28,2,     93.9,2,     1.39,2,   -999.0,9,   -999.0,9,     7.8,  0.0090,   0.150,  -999.0,   0.012
   31WTTUNES_1,  P17C,    73,  1,      4,      4,2,19910626,0618,  6.5233,-135.0000, 4631,     77.1,  23.0281,  34.8352,2,  34.8131,2,    157.0,2, 23.0123,    149.2,2,     5.73,2,     6.33,2,     1.22,2,     0.68,2, -999.000,9, -999.000,9,    1.815,2,   1.7660,2,     2.88,2,     93.6,2,     0.92,2,   -999.0,9,   -999.0,9,     5.2,  0.0080,   0.150,  -999.0,   0.013
   31WTTUNES_1,  P17C,    73,  1,      5,      5,2,19910626,0618,  6.5233,-135.0000, 4631,    102.5,  17.6858,  34.7016,2,  34.6960,2,    124.0,2, 17.6685,    106.5,2,    12.77,2,    15.65,2,     0.06,2,     1.25,2,    1.309,2,    0.711,2,    1.839,2,   1.7990,2,     6.70,2,     58.1,2,     0.47,2,   -999.0,9,   -999.0,9,     4.4,  0.0080,   0.150,  -999.0,   0.013
   31WTTUNES_1,  P17C,    73,  1,      6,      6,2,19910626,0618,  6.5233,-135.0000, 4631,    128.6,  12.8969,  34.6443,2,  34.6474,2,     44.8,2, 12.8794,     43.2,2,    25.79,2,    28.12,2,     0.01,2,     2.08,2, -999.000,9, -999.000,9,    1.001,2,   1.8480,2,     9.11,2,     -5.3,2,     0.05,2,   -999.0,9,   -999.0,9,     5.1,  0.0090,   0.150,  -999.0,   0.010
   31WTTUNES_1,  P17C,    73,  1,      7,      7,2,19910626,0618,  6.5233,-135.0000, 4631,    150.9,  11.6232,  34.6797,2,  34.6696,2,     39.5,2, 11.6040,     41.7,2,    29.21,2,    30.28,2,     0.00,2,     2.21,2,    0.338,2,    0.172,2,    0.721,2,   1.8130,2,     8.82,2,    -37.4,2,     0.10,2,   -999.0,9,   -999.0,9,     3.8,  0.0090,   0.150,  -999.0,   0.009
   31WTTUNES_1,  P17C,    73,  1,      8,      8,2,19910626,0618,  6.5233,-135.0000, 4631,    172.4,  11.1985,  34.7129,2,  34.7070,2,     34.0,2, 11.1770,     36.8,2,    30.09,2,    31.35,2,     0.00,2,     2.26,2, -999.000,9, -999.000,9,    0.495,2,   1.8200,2,     7.84,2,    -50.0,2,     0.06,2,   -999.0,9,   -999.0,9,     3.5,  0.0090,   0.150,  -999.0,   0.007
   31WTTUNES_1,  P17C,    73,  1,      9,      9,2,19910626,0618,  6.5233,-135.0000, 4631,    201.9,  10.5675,  34.6939,2,  34.6950,2,     50.1,2, 10.5433,     50.2,2,    31.16,2,    31.23,2,     0.00,2,     2.22,2,    0.203,2,    0.125,2,    0.399,2,   1.8330,2,     7.17,2,    -59.0,2,     0.18,2,   -999.0,9,   -999.0,9,     3.6,  0.0090,   0.150,  -999.0,   0.007
   31WTTUNES_1,  P17C,    73,  1,     10,     10,2,19910626,0618,  6.5233,-135.0000, 4631,    252.5,  10.0596,  34.6896,2,  34.6908,2,     54.8,2, 10.0303,     48.5,2,    32.77,2,    32.24,2,     0.00,2,     2.29,2, -999.000,9, -999.000,9,    0.281,2,   1.8550,2,     6.51,2,    -67.0,2,     0.18,2,   -999.0,9,   -999.0,9,     7.0,  0.0090,   0.150,  -999.0,   0.006
   31WTTUNES_1,  P17C,    73,  1,     11,     11,2,19910626,0618,  6.5233,-135.0000, 4631,    303.2,   9.7467,  34.6831,2,  34.6832,2,     53.1,2,  9.7120,     56.1,2,    33.47,2,    32.12,2,     0.00,2,     2.28,2,    0.134,2,    0.084,2,    0.238,2,   1.8450,2,     6.34,2,    -60.2,2,     0.24,2,   -999.0,9,   -999.0,9,     6.1,  0.0090,   0.150,  -999.0,   0.005
   31WTTUNES_1,  P17C,    73,  1,     12,     12,2,19910626,0618,  6.5233,-135.0000, 4631,    358.2,   9.3248,  34.6642,2,  34.6641,2,     47.8,2,  9.2849,     47.9,2,    35.99,2,    33.74,2,     0.00,2,     2.38,2,    0.082,2,    0.050,2,    0.168,2,   1.8430,2,     6.36,2,    -90.8,2,     0.22,2,   -999.0,9,   -999.0,9,     7.4,  0.0090,   0.150,  -999.0,   0.004
   31WTTUNES_1,  P17C,    73,  1,     13,     13,2,19910626,0618,  6.5233,-135.0000, 4631,    409.5,   8.9590,  34.6480,2,  34.6490,2,     31.9,2,  8.9143,     34.2,2,    38.87,2,    35.47,2,     0.00,2,     2.54,2,    0.040,2,    0.025,2,    0.094,2,   1.8590,2,     6.38,2,    -94.8,2,     0.11,2,   -999.0,9,   -999.0,9,     6.8,  0.0090,   0.150,  -999.0,   0.003
   31WTTUNES_1,  P17C,    73,  1,     14,     14,2,19910626,0618,  6.5233,-135.0000, 4631,    509.9,   7.8716,  34.6046,2,  34.6060,2,      9.9,2,  7.8198,     12.1,2,    51.17,2,    38.81,2,     0.00,2,     2.90,2,    0.005,2,   -0.002,2,    0.014,2,   1.8770,2,     7.74,2,   -133.0,3,    -0.15,2,   -999.0,9,   -999.0,9,     5.6,  0.0090,   0.150,  -999.0,   0.002
   31WTTUNES_1,  P17C,    73,  1,     15,     15,2,19910626,0618,  6.5233,-135.0000, 4631,    609.5,   6.8230,  34.5718,2,  34.5714,2,     14.6,2,  6.7655,     14.5,2,    60.94,2,    41.18,2,     0.00,2,     3.03,2, -999.000,9, -999.000,9,    0.001,2,   1.8860,2,     9.90,2,   -123.7,2,    -0.10,2,   -999.0,9,   -999.0,9,     3.2,  0.0090,   0.150,  -999.0,   0.001
   31WTTUNES_1,  P17C,    73,  1,     16,     16,2,19910626,0618,  6.5233,-135.0000, 4631,    709.8,   5.9202,  34.5559,2,  34.5569,2,     21.0,2,  5.8575,     19.7,2,    72.70,2,    42.85,2,     0.00,2,     3.08,2, -999.000,9, -999.000,9, -999.000,9,-999.0000,9,  -999.00,9,   -160.6,2,    -0.14,2,   -999.0,9,   -999.0,9,     4.0,-999.0000,-999.000,  -999.0,-999.000
   31WTTUNES_1,  P17C,    73,  1,     17,     17,2,19910626,0618,  6.5233,-135.0000, 4631,    809.2,   5.2885,  34.5534,2,  34.5537,2,     33.6,2,  5.2204,     35.6,2,    80.29,2,    42.77,2,     0.00,2,     3.07,2, -999.000,9, -999.000,9,    0.004,2,   1.8930,2,    14.76,2,   -999.0,9,  -999.00,9,   -999.0,9,   -999.0,9,  -999.0,  0.0090,   0.150,  -999.0,   0.002
   31WTTUNES_1,  P17C,    73,  1,     18,     18,2,19910626,0618,  6.5233,-135.0000, 4631,    914.3,   4.7589,  34.5577,2,  34.5584,2,     48.5,2,  4.6849,     49.0,2,    88.97,2,    41.86,2,     0.00,2,     3.02,2, -999.000,9, -999.000,9, -999.000,9,-999.0000,9,  -999.00,9,   -179.6,2,    -0.10,2,   -999.0,9,   -999.0,9,     6.7,-999.0000,-999.000,  -999.0,-999.000
   31WTTUNES_1,  P17C,    73,  1,     19,     19,2,19910626,0618,  6.5233,-135.0000, 4631,   1014.0,   4.3823,  34.5659,2,  34.5663,2,     55.8,2,  4.3023,     55.9,2,    96.75,2,    41.67,2,     0.00,2,     3.00,2, -999.000,9, -999.000,9,    0.005,2,   1.9230,2,    18.13,2,   -999.0,9,  -999.00,9,   -999.0,9,   -999.0,9,  -999.0,  0.0090,   0.150,  -999.0,   0.001
   31WTTUNES_1,  P17C,    73,  1,     20,     20,2,19910626,0618,  6.5233,-135.0000, 4631,   1211.3,   3.8096,  34.5813,2,  34.5796,2,     65.1,2,  3.7176,     65.1,2,   109.05,2,    41.03,2,     0.00,2,     2.96,2, -999.000,9, -999.000,9, -999.000,9,-999.0000,9,  -999.00,9,   -999.0,9,  -999.00,9,   -999.0,9,   -999.0,9,  -999.0,-999.0000,-999.000,  -999.0,-999.000
   31WTTUNES_1,  P17C,    73,  1,     21,     21,2,19910626,0618,  6.5233,-135.0000, 4631,   1413.0,   3.3345,  34.5969,2,  34.5973,2,     71.6,2,  3.2302,     71.0,2,   121.36,2,    40.90,2,     0.00,2,     2.95,2, -999.000,9, -999.000,9, -999.000,9,-999.0000,9,  -999.00,9,   -999.0,9,  -999.00,9,   -999.0,9,   -999.0,9,  -999.0,-999.0000,-999.000,  -999.0,-999.000
   31WTTUNES_1,  P17C,    73,  1,     22,     22,3,19910626,0618,  6.5233,-135.0000, 4631,   1619.5,   2.9125,  34.6128,2,  34.5928,4,     81.6,2,  2.7955,     81.9,2,   128.96,2,    40.11,2,     0.00,2,     2.88,2, -999.000,9, -999.000,9, -999.000,9,-999.0000,9,  -999.00,9,   -999.0,9,  -999.00,9,   -999.0,9,   -999.0,9,  -999.0,-999.0000,-999.000,  -999.0,-999.000
   31WTTUNES_1,  P17C,    73,  1,     23,     23,2,19910626,0618,  6.5233,-135.0000, 4631,   1872.0,   2.4743,  34.6302,2,  34.6270,2,     91.7,2,  2.3417,     91.9,2,   138.73,2,    39.31,2,     0.00,2,     2.82,2, -999.000,9, -999.000,9, -999.000,9,-999.0000,9,  -999.00,9,   -999.0,9,  -999.00,9,   -999.0,9,   -999.0,9,  -999.0,-999.0000,-999.000,  -999.0,-999.000
   31WTTUNES_1,  P17C,    73,  1,     24,     24,2,19910626,0618,  6.5233,-135.0000, 4631,   2126.1,   2.1444,  34.6482,2,  34.6490,2,    100.8,2,  1.9949,    100.7,2,   147.23,2,    38.91,2,     0.00,2,     2.75,2, -999.000,9, -999.000,9, -999.000,9,   1.9770,2,    29.66,2,   -999.0,9,  -999.00,9,   -999.0,9,   -999.0,9,  -999.0,-999.0000,-999.000,  -999.0,-999.000
   31WTTUNES_1,  P17C,    73,  1,     25,     25,2,19910626,0618,  6.5233,-135.0000, 4631,   2381.7,   1.9502,  34.6598,2,  34.6608,2,    106.9,2,  1.7815,    107.4,2,   153.01,2,    38.39,2,     0.00,2,     2.70,2, -999.000,9, -999.000,9, -999.000,9,-999.0000,9,  -999.00,9,   -999.0,9,  -999.00,9,   -999.0,9,   -999.0,9,  -999.0,-999.0000,-999.000,  -999.0,-999.000
   31WTTUNES_1,  P17C,    73,  1,     26,     26,2,19910626,0618,  6.5233,-135.0000, 4631,   2533.2,   1.8871,  34.6627,2,  34.6653,2,    109.5,2,  1.7059,    109.3,2,   155.54,2,    38.16,2,     0.00,2,     2.69,2, -999.000,9, -999.000,9, -999.000,9,-999.0000,9,  -999.00,9,   -999.0,9,  -999.00,9,   -999.0,9,   -999.0,9,  -999.0,-999.0000,-999.000,  -999.0,-999.000
   31WTTUNES_1,  P17C,    73,  1,     27,     27,2,19910626,0618,  6.5233,-135.0000, 4631,   2684.5,   1.8418,  34.6671,2,  34.6684,2,    110.9,2,  1.6475,    112.4,2,   156.07,2,    38.03,2,     0.00,2,     2.67,2, -999.000,9, -999.000,9, -999.000,9,-999.0000,9,  -999.00,9,   -999.0,9,  -999.00,9,   -999.0,9,   -999.0,9,  -999.0,-999.0000,-999.000,  -999.0,-999.000
   31WTTUNES_1,  P17C,    73,  1,     28,     28,2,19910626,0618,  6.5233,-135.0000, 4631,   2836.8,   1.7937,  34.6701,2,  34.6708,2,    116.3,2,  1.5861,    117.1,2,   156.23,2,    37.57,2,     0.00,2,     2.65,2, -999.000,9, -999.000,9, -999.000,9,-999.0000,9,  -999.00,9,   -999.0,9,  -999.00,9,   -999.0,9,   -999.0,9,  -999.0,-999.0000,-999.000,  -999.0,-999.000
   31WTTUNES_1,  P17C,    73,  1,     29,     29,2,19910626,0618,  6.5233,-135.0000, 4631,   2984.3,   1.7228,  34.6744,2,  34.6743,2,    121.5,2,  1.5027,    121.8,2,   155.86,2,    37.45,2,     0.00,2,     2.62,2, -999.000,9, -999.000,9, -999.000,9,-999.0000,9,  -999.00,9,   -999.0,9,  -999.00,9,   -999.0,9,   -999.0,9,  -999.0,-999.0000,-999.000,  -999.0,-999.000
   31WTTUNES_1,  P17C,    73,  1,     30,     30,2,19910626,0618,  6.5233,-135.0000, 4631,   3189.8,   1.6220,  34.6792,2,  34.6789,2,    130.4,2,  1.3841,    131.7,2,   154.21,2,    36.88,2,     0.00,2,     2.58,2, -999.000,9, -999.000,9, -999.000,9,-999.0000,9,  -999.00,9,   -999.0,9,  -999.00,9,   -999.0,9,   -999.0,9,  -999.0,-999.0000,-999.000,  -999.0,-999.000
   31WTTUNES_1,  P17C,    73,  1,     31,     31,2,19910626,0618,  6.5233,-135.0000, 4631,   3444.3,   1.5298,  34.6834,2,  34.6834,2,    140.4,2,  1.2686,    141.2,2,   152.93,2,    36.32,2,     0.00,2,     2.53,2, -999.000,9, -999.000,9, -999.000,9,-999.0000,9,  -999.00,9,   -999.0,9,  -999.00,9,   -999.0,9,   -999.0,9,  -999.0,-999.0000,-999.000,  -999.0,-999.000
   31WTTUNES_1,  P17C,    73,  1,     32,     32,2,19910626,0618,  6.5233,-135.0000, 4631,   3701.9,   1.4490,  34.6885,2,  34.6889,2,    151.1,2,  1.1633,    152.0,2,   148.74,2,    35.49,2,     0.00,2,     2.48,2, -999.000,9, -999.000,9, -999.000,9,-999.0000,9,  -999.00,9,   -999.0,9,  -999.00,9,   -999.0,9,   -999.0,9,  -999.0,-999.0000,-999.000,  -999.0,-999.000
   31WTTUNES_1,  P17C,    73,  1,     33,     33,2,19910626,0618,  6.5233,-135.0000, 4631,   3959.9,   1.4087,  34.6913,2,  34.6912,2,    158.1,2,  1.0966,    158.8,2,   146.55,2,    35.03,2,     0.00,2,     2.45,2, -999.000,9, -999.000,9, -999.000,9,   1.8960,2,    15.98,2,   -999.0,9,  -999.00,9,   -999.0,9,   -999.0,9,  -999.0,-999.0000,-999.000,  -999.0,-999.000
   31WTTUNES_1,  P17C,    73,  1,     34,     34,2,19910626,0618,  6.5233,-135.0000, 4631,   4218.6,   1.3926,  34.6930,2,  34.6932,2,    162.9,2,  1.0527,    163.8,2,   144.36,2,    34.80,2,     0.00,2,     2.42,2, -999.000,9, -999.000,9, -999.000,9,-999.0000,9,  -999.00,9,   -999.0,9,  -999.00,9,   -999.0,9,   -999.0,9,  -999.0,-999.0000,-999.000,  -999.0,-999.000
   31WTTUNES_1,  P17C,    73,  1,     35,     35,2,19910626,0618,  6.5233,-135.0000, 4631,   4475.3,   1.4056,  34.6937,2,  34.6942,2,    166.3,2,  1.0363,    165.7,2,   142.89,2,    34.73,2,     0.00,2,     2.41,2,    0.001,2,    0.000,2, -999.000,9,-999.0000,9,  -999.00,9,   -999.0,9,  -999.00,9,   -999.0,9,   -999.0,9,  -999.0,-999.0000,-999.000,  -999.0,-999.000
   31WTTUNES_1,  P17C,    73,  1,     36,     36,2,19910626,0618,  6.5233,-135.0000, 4631,   4704.8,   1.4236,  34.6951,2,  34.6944,2,   -999.0,9,  1.0271,    166.4,2,   141.97,2,    34.66,2,     0.00,2,     2.41,2,    0.000,2,    0.000,2, -999.000,9,-999.0000,9,  -999.00,9,   -999.0,9,  -999.00,9,   -999.0,9,   -999.0,9,  -999.0,-999.0000,-999.000,  -999.0,-999.000