BOTTLE,20220819CCHSIOAMB
EXPOCODE,SECT_ID,STNNBR,CASTNO,SAMPNO,BTLNBR,BTLNBR_FLAG_W,DATE,TIME,LATITUDE,LONGITUDE,DEPTH,CTDPRS,CTDTMP,CTDSAL,CTDSAL_FLAG_W,SALNTY,SALNTY_FLAG_W,CTDOXY,CTDOXY_FLAG_W,THETA,OXYGEN,OXYGEN_FLAG_W,SILCAT,SILCAT_FLAG_W,NITRAT,NITRAT_FLAG_W,NITRIT,NITRIT_FLAG_W,PHSPHT,PHSPHT_FLAG_W,CFC-11,CFC-11_FLAG_W,CFC-12,CFC-12_FLAG_W,TRITUM,TRITUM_FLAG_W,HELIUM,HELIUM_FLAG_W,DELHE3,DELHE3_FLAG_W,DELC14,DELC14_FLAG_W,DELC13,DELC13_FLAG_W,TCARBN,TCARBN_FLAG_W,ALKALI,ALKALI_FLAG_W,C14ERR,HELIER,DELHER,C13ERR,TRITER
,,,,,,,,,,,,DBAR,ITS-90,PSS-78,,PSS-78,,UMOL/KG,,DEG C,UMOL/KG,,UMOL/KG,,UMOL/KG,,UMOL/KG,,UMOL/KG,,PMOL/KG,,PMOL/KG,,TU,,NMOL/KG,,PERCNT,,/MILLE,,/MILLE,,UMOL/KG,,UMOL/KG,,/MILLE,NMOL/KG,PERCNT,/MILLE,TU
   31WTTUNES_1,  P17C,    38,  1,      1,      1,2,19910615,1323, 23.9983,-135.0000, 4849,      0.6,  21.3592,  34.9065,2,  34.9107,2,    227.0,3, 21.3591,    223.6,2,     2.80,2,     0.08,2,     0.00,2,     0.12,2, -999.000,9, -999.000,9, -999.000,9,-999.0000,9,  -999.00,9,     93.0,2,     1.34,2,   1990.9,2,   2314.0,2,     3.4,-999.0000,-999.000,  -999.0,-999.000
   31WTTUNES_1,  P17C,    38,  1,      2,      2,2,19910615,1323, 23.9983,-135.0000, 4849,     78.4,  20.0290,  34.8888,2,  34.9264,2,    231.8,2, 20.0145,    227.5,2,     2.80,2,     0.08,2,     0.00,2,     0.14,2, -999.000,9, -999.000,9, -999.000,9,-999.0000,9,  -999.00,9,     95.8,2,     1.36,2,   2014.5,2,   2317.4,2,     3.4,-999.0000,-999.000,  -999.0,-999.000
   31WTTUNES_1,  P17C,    38,  1,      3,      3,2,19910615,1323, 23.9983,-135.0000, 4849,    102.4,  19.9850,  35.0284,2,  35.0327,2,    231.6,2, 19.9661,    226.8,2,     2.80,2,     0.08,2,     0.00,2,     0.12,2, -999.000,9, -999.000,9, -999.000,9,-999.0000,9,  -999.00,9,    106.0,2,     1.33,2,   2015.3,2,   2320.5,2,     3.5,-999.0000,-999.000,  -999.0,-999.000
   31WTTUNES_1,  P17C,    38,  1,      4,      4,2,19910615,1323, 23.9983,-135.0000, 4849,    128.6,  19.4874,  35.0281,2,  35.0296,2,    227.4,2, 19.4641,    222.4,2,     2.80,2,     0.11,2,     0.02,2,     0.13,2, -999.000,9, -999.000,9, -999.000,9,-999.0000,9,  -999.00,9,   -999.0,9,  -999.00,9,   2023.8,2,   2321.9,2,  -999.0,-999.0000,-999.000,  -999.0,-999.000
   31WTTUNES_1,  P17C,    38,  1,      5,      5,2,19910615,1323, 23.9983,-135.0000, 4849,    153.1,  18.4562,  34.9085,2,  34.8899,2,    214.3,2, 18.4295,    213.6,2,     3.60,2,     1.15,2,     0.08,2,     0.19,2, -999.000,9, -999.000,9, -999.000,9,-999.0000,9,  -999.00,9,    106.8,2,     1.12,2,   2035.1,2,   -999.0,9,     3.0,-999.0000,-999.000,  -999.0,-999.000
   31WTTUNES_1,  P17C,    38,  1,      6,      6,2,19910615,1323, 23.9983,-135.0000, 4849,    177.8,  16.0017,  34.4840,2,  34.4811,2,    209.5,2, 15.9736,    201.0,2,     5.40,2,     4.46,2,     0.02,2,     0.44,2, -999.000,9, -999.000,9, -999.000,9,-999.0000,9,  -999.00,9,   -999.0,9,  -999.00,9,   2051.3,2,   -999.0,9,  -999.0,-999.0000,-999.000,  -999.0,-999.000
   31WTTUNES_1,  P17C,    38,  1,      7,      7,2,19910615,1323, 23.9983,-135.0000, 4849,    203.3,  14.2752,  34.2982,2,  34.3010,2,    196.2,2, 14.2457,    201.4,2,     6.80,2,     6.58,2,     0.01,2,     0.58,2, -999.000,9, -999.000,9, -999.000,9,-999.0000,9,  -999.00,9,    100.5,2,     0.81,2,   2056.5,2,   2271.8,2,     3.4,-999.0000,-999.000,  -999.0,-999.000
   31WTTUNES_1,  P17C,    38,  1,      8,      8,2,19910615,1323, 23.9983,-135.0000, 4849,    228.5,  12.9659,  34.1705,2,  34.1802,2,    197.0,2, 12.9348,    200.6,2,     8.00,2,     8.53,2,     0.01,2,     0.70,2, -999.000,9, -999.000,9, -999.000,9,-999.0000,9,  -999.00,9,   -999.0,9,  -999.00,9,   2062.4,2,   -999.0,9,  -999.0,-999.0000,-999.000,  -999.0,-999.000
   31WTTUNES_1,  P17C,    38,  1,      9,      9,2,19910615,1323, 23.9983,-135.0000, 4849,    254.2,  11.2635,  34.0534,2,  34.0551,2,    195.2,2, 11.2320,    197.8,2,    12.99,2,    12.70,2,     0.00,2,     0.97,2, -999.000,9, -999.000,9, -999.000,9,-999.0000,9,  -999.00,9,     68.5,2,     0.47,2,   2083.3,2,   -999.0,9,     3.4,-999.0000,-999.000,  -999.0,-999.000
   31WTTUNES_1,  P17C,    38,  1,     10,     10,2,19910615,1323, 23.9983,-135.0000, 4849,    303.2,   9.4441,  34.0567,2,  34.0589,2,    189.3,2,  9.4104,    192.4,2,    21.78,2,    18.02,2,     0.00,2,     1.28,2, -999.000,9, -999.000,9, -999.000,9,-999.0000,9,  -999.00,9,     40.2,2,     0.33,2,   2113.7,2,   2262.7,2,     3.1,-999.0000,-999.000,  -999.0,-999.000
   31WTTUNES_1,  P17C,    38,  1,     11,     11,2,19910615,1323, 23.9983,-135.0000, 4849,    358.5,   8.1077,  34.0667,2,  34.0693,2,    145.2,2,  8.0713,    137.9,2,    37.35,2,    25.62,2,     0.00,2,     1.86,2, -999.000,9, -999.000,9, -999.000,9,-999.0000,9,  -999.00,9,    -14.8,2,    -0.02,2,   2176.6,2,   -999.0,9,     6.1,-999.0000,-999.000,  -999.0,-999.000
   31WTTUNES_1,  P17C,    38,  1,     12,     12,2,19910615,1323, 23.9983,-135.0000, 4849,    413.5,   7.1490,  34.1008,2,  34.1042,2,     89.9,2,  7.1097,     98.4,2,    52.32,2,    31.72,2,     0.00,2,     2.34,2, -999.000,9, -999.000,9, -999.000,9,-999.0000,9,  -999.00,9,    -65.6,2,    -0.30,2,   2227.5,2,   2294.6,2,     3.6,-999.0000,-999.000,  -999.0,-999.000
   31WTTUNES_1,  P17C,    38,  1,     13,     13,2,19910615,1323, 23.9983,-135.0000, 4849,    510.2,   6.0365,  34.1677,2,  34.1700,2,     41.5,2,  5.9921,     40.5,2,    71.66,2,    37.47,2,     0.00,2,     2.79,2, -999.000,9, -999.000,9, -999.000,9,-999.0000,9,  -999.00,9,   -132.3,2,    -0.64,2,   2282.0,2,   -999.0,9,     3.4,-999.0000,-999.000,  -999.0,-999.000
   31WTTUNES_1,  P17C,    38,  1,     14,     14,2,19910615,1323, 23.9983,-135.0000, 4849,    605.3,   5.3900,  34.3085,2,  34.3112,2,     20.4,2,  5.3397,     20.8,2,    87.00,2,    40.77,2,     0.00,2,     3.02,2, -999.000,9, -999.000,9, -999.000,9,-999.0000,9,  -999.00,9,   -159.2,2,    -0.57,2,   2315.8,2,   2333.7,2,     3.6,-999.0000,-999.000,  -999.0,-999.000
   31WTTUNES_1,  P17C,    38,  1,     15,     15,2,19910615,1323, 23.9983,-135.0000, 4849,    704.6,   5.0919,  34.4012,2,  34.4035,2,     18.7,2,  5.0344,     19.8,2,    93.36,2,    41.80,2,     0.00,2,     3.07,2, -999.000,9, -999.000,9, -999.000,9,-999.0000,9,  -999.00,9,   -999.0,9,  -999.00,9,   2325.8,2,   -999.0,9,  -999.0,-999.0000,-999.000,  -999.0,-999.000
   31WTTUNES_1,  P17C,    38,  1,     16,     16,2,19910615,1323, 23.9983,-135.0000, 4849,    802.5,   4.8582,  34.4468,2,  34.4502,2,     22.7,2,  4.7934,     21.5,2,    97.71,2,    42.46,2,     0.00,2,     3.10,2, -999.000,9, -999.000,9, -999.000,9,-999.0000,9,  -999.00,9,   -188.3,2,    -0.44,2,   2333.3,2,   -999.0,9,     3.3,-999.0000,-999.000,  -999.0,-999.000
   31WTTUNES_1,  P17C,    38,  1,     17,     17,2,19910615,1323, 23.9983,-135.0000, 4849,    904.2,   4.5081,  34.4695,2,  34.4726,2,     28.5,2,  4.4368,     29.5,2,   103.67,2,    42.46,2,     0.00,2,     3.09,2, -999.000,9, -999.000,9, -999.000,9,-999.0000,9,  -999.00,9,   -999.0,9,  -999.00,9,   2335.3,2,   -999.0,9,  -999.0,-999.0000,-999.000,  -999.0,-999.000
   31WTTUNES_1,  P17C,    38,  1,     18,     18,2,19910615,1323, 23.9983,-135.0000, 4849,    992.6,   4.2432,  34.4898,2,  34.4919,2,     33.2,2,  4.1664,     32.2,2,   109.22,2,    42.69,2,     0.00,2,     3.10,2, -999.000,9, -999.000,9, -999.000,9,-999.0000,9,  -999.00,9,   -205.2,2,    -0.43,2,   2336.1,2,   2374.2,2,     3.0,-999.0000,-999.000,  -999.0,-999.000
   31WTTUNES_1,  P17C,    38,  1,     19,     19,2,19910615,1323, 23.9983,-135.0000, 4849,   1208.7,   3.6807,  34.5303,2,  34.5315,2,     39.7,2,  3.5902,     38.5,2,   121.74,2,    42.81,2,     0.00,2,     3.10,2, -999.000,9, -999.000,9, -999.000,9,-999.0000,9,  -999.00,9,   -226.2,2,    -1.04,3,   2356.4,2,   -999.0,9,     4.0,-999.0000,-999.000,  -999.0,-999.000
   31WTTUNES_1,  P17C,    38,  1,     20,     20,2,19910615,1323, 23.9983,-135.0000, 4849,   1419.6,   3.1732,  34.5530,2,  34.5547,2,     50.6,2,  3.0702,     49.7,2,   132.86,2,    42.22,2,     0.00,2,     3.03,2, -999.000,9, -999.000,9, -999.000,9,-999.0000,9,  -999.00,9,   -235.3,2,    -0.48,2,   2362.0,2,   -999.0,9,     2.8,-999.0000,-999.000,  -999.0,-999.000
   31WTTUNES_1,  P17C,    38,  1,     21,     21,2,19910615,1323, 23.9983,-135.0000, 4849,   1614.6,   2.7755,  34.5789,2,  34.5805,2,     59.4,2,  2.6608,     58.7,2,   142.57,2,    41.74,2,     0.00,2,     2.98,2, -999.000,9, -999.000,9, -999.000,9,-999.0000,9,  -999.00,9,   -241.4,2,    -0.44,2,   2366.1,2,   -999.0,9,     3.8,-999.0000,-999.000,  -999.0,-999.000
   31WTTUNES_1,  P17C,    38,  1,     22,     22,2,19910615,1323, 23.9983,-135.0000, 4849,   1816.2,   2.4477,  34.6000,2,  34.6011,2,     70.6,2,  2.3203,     70.7,2,   149.50,2,    40.77,2,     0.00,2,     2.92,2, -999.000,9, -999.000,9, -999.000,9,-999.0000,9,  -999.00,9,   -999.0,9,  -999.00,9,   2367.1,2,   -999.0,9,  -999.0,-999.0000,-999.000,  -999.0,-999.000
   31WTTUNES_1,  P17C,    38,  1,     23,     23,2,19910615,1323, 23.9983,-135.0000, 4849,   2018.3,   2.1949,  34.6181,2,  34.6186,2,     81.7,2,  2.0540,     81.7,2,   154.83,2,    40.30,2,     0.00,2,     2.89,2, -999.000,9, -999.000,9, -999.000,9,-999.0000,9,  -999.00,9,   -999.0,9,  -999.00,9,   2366.6,2,   -999.0,9,  -999.0,-999.0000,-999.000,  -999.0,-999.000
   31WTTUNES_1,  P17C,    38,  1,     24,     24,2,19910615,1323, 23.9983,-135.0000, 4849,   2228.2,   1.9908,  34.6347,2,  34.6353,2,     91.7,2,  1.8350,     91.2,2,   159.16,2,    39.77,2,     0.00,2,     2.80,2, -999.000,9, -999.000,9, -999.000,9,-999.0000,9,  -999.00,9,   -999.0,9,  -999.00,9,   2363.0,2,   2430.5,2,  -999.0,-999.0000,-999.000,  -999.0,-999.000
   31WTTUNES_1,  P17C,    38,  1,     25,     25,2,19910615,1323, 23.9983,-135.0000, 4849,   2432.6,   1.8240,  34.6438,2,  34.6441,2,    100.1,2,  1.6530,     99.6,2,   163.09,2,    39.19,2,     0.00,2,     2.75,2, -999.000,9, -999.000,9, -999.000,9,-999.0000,9,  -999.00,9,   -999.0,9,  -999.00,9,   2360.9,2,   -999.0,9,  -999.0,-999.0000,-999.000,  -999.0,-999.000
   31WTTUNES_1,  P17C,    38,  1,     26,     26,2,19910615,1323, 23.9983,-135.0000, 4849,   2634.7,   1.7057,  34.6526,2,  34.6532,2,    108.0,2,  1.5187,    108.4,2,   165.63,2,    38.67,2,     0.00,2,     2.71,2, -999.000,9, -999.000,9, -999.000,9,-999.0000,9,  -999.00,9,   -999.0,9,  -999.00,9,   2360.2,2,   -999.0,9,  -999.0,-999.0000,-999.000,  -999.0,-999.000
   31WTTUNES_1,  P17C,    38,  1,     27,     27,2,19910615,1323, 23.9983,-135.0000, 4849,   2836.1,   1.6084,  34.6604,2,  34.6609,2,    117.2,2,  1.4048,    116.9,2,   166.58,2,    38.10,2,     0.00,2,     2.66,2, -999.000,9, -999.000,9, -999.000,9,-999.0000,9,  -999.00,9,   -999.0,9,  -999.00,9,   2355.5,2,   -999.0,9,  -999.0,-999.0000,-999.000,  -999.0,-999.000
   31WTTUNES_1,  P17C,    38,  1,     28,     28,2,19910615,1323, 23.9983,-135.0000, 4849,   3043.8,   1.5540,  34.6667,2,  34.6668,2,    123.6,2,  1.3318,    123.3,2,   166.14,2,    37.68,2,     0.00,2,     2.62,2, -999.000,9, -999.000,9, -999.000,9,-999.0000,9,  -999.00,9,   -999.0,9,  -999.00,9,   2349.7,2,   -999.0,9,  -999.0,-999.0000,-999.000,  -999.0,-999.000
   31WTTUNES_1,  P17C,    38,  1,     29,     29,2,19910615,1323, 23.9983,-135.0000, 4849,   3294.8,   1.5120,  34.6739,2,  34.6739,2,    130.8,2,  1.2663,    130.9,2,   164.50,2,    37.27,2,     0.00,2,     2.58,2, -999.000,9, -999.000,9, -999.000,9,-999.0000,9,  -999.00,9,   -999.0,9,  -999.00,9,   2344.7,2,   -999.0,9,  -999.0,-999.0000,-999.000,  -999.0,-999.000
   31WTTUNES_1,  P17C,    38,  1,     30,     30,2,19910615,1323, 23.9983,-135.0000, 4849,   3548.3,   1.4965,  34.6767,2,  34.6774,2,    137.0,2,  1.2255,    136.1,2,   162.87,2,    37.01,2,     0.00,2,     2.56,2, -999.000,9, -999.000,9, -999.000,9,-999.0000,9,  -999.00,9,   -999.0,9,  -999.00,9,   2339.8,2,   2433.9,2,  -999.0,-999.0000,-999.000,  -999.0,-999.000
   31WTTUNES_1,  P17C,    38,  1,     31,     31,2,19910615,1323, 23.9983,-135.0000, 4849,   3803.3,   1.4848,  34.6803,2,  34.6814,2,    141.4,2,  1.1875,    141.9,2,   160.44,2,    36.60,2,     0.00,2,     2.53,2, -999.000,9, -999.000,9, -999.000,9,-999.0000,9,  -999.00,9,   -999.0,9,  -999.00,9,   2340.1,2,   -999.0,9,  -999.0,-999.0000,-999.000,  -999.0,-999.000
   31WTTUNES_1,  P17C,    38,  1,     32,     32,2,19910615,1323, 23.9983,-135.0000, 4849,   4064.6,   1.4884,  34.6828,2,  34.6825,2,    146.4,2,  1.1628,    145.2,2,   158.21,2,    36.45,2,     0.00,2,     2.51,2, -999.000,9, -999.000,9, -999.000,9,-999.0000,9,  -999.00,9,   -999.0,9,  -999.00,9,   2334.0,2,   -999.0,9,  -999.0,-999.0000,-999.000,  -999.0,-999.000
   31WTTUNES_1,  P17C,    38,  1,     33,     33,2,19910615,1323, 23.9983,-135.0000, 4849,   4335.6,   1.4965,  34.6852,2,  34.6861,2,    148.7,2,  1.1404,    149.6,2,   155.39,2,    36.09,2,     0.00,2,     2.49,2, -999.000,9, -999.000,9, -999.000,9,-999.0000,9,  -999.00,9,   -999.0,9,  -999.00,9,   2330.6,2,   -999.0,9,  -999.0,-999.0000,-999.000,  -999.0,-999.000
   31WTTUNES_1,  P17C,    38,  1,     34,     34,2,19910615,1323, 23.9983,-135.0000, 4849,   4583.5,   1.5095,  34.6857,2,  34.6865,2,    152.4,2,  1.1246,    152.3,2,   152.96,2,    36.00,2,     0.00,2,     2.48,2, -999.000,9, -999.000,9, -999.000,9,-999.0000,9,  -999.00,9,   -999.0,9,  -999.00,9,   2325.8,2,   -999.0,9,  -999.0,-999.0000,-999.000,  -999.0,-999.000
   31WTTUNES_1,  P17C,    38,  1,     35,     35,2,19910615,1323, 23.9983,-135.0000, 4849,   4851.7,   1.4582,  34.6918,2,  34.6924,2,    165.9,2,  1.0433,    164.9,2,   143.60,2,    35.01,2,     0.00,2,     2.40,2, -999.000,9, -999.000,9, -999.000,9,-999.0000,9,  -999.00,9,   -999.0,9,  -999.00,9,   2314.1,2,   -999.0,9,  -999.0,-999.0000,-999.000,  -999.0,-999.000
   31WTTUNES_1,  P17C,    38,  1,     36,     36,2,19910615,1323, 23.9983,-135.0000, 4849,   4927.8,   1.4596,  34.6916,2,  34.6934,2,   -999.0,9,  1.0355,    166.6,2,   142.37,2,    35.02,2,     0.00,2,     2.40,2, -999.000,9, -999.000,9, -999.000,9,-999.0000,9,  -999.00,9,   -999.0,9,  -999.00,9,   2312.6,2,   2422.7,2,  -999.0,-999.0000,-999.000,  -999.0,-999.000