BOTTLE,20220819CCHSIOAMB
EXPOCODE,SECT_ID,STNNBR,CASTNO,SAMPNO,BTLNBR,BTLNBR_FLAG_W,DATE,TIME,LATITUDE,LONGITUDE,DEPTH,CTDPRS,CTDTMP,CTDSAL,CTDSAL_FLAG_W,SALNTY,SALNTY_FLAG_W,CTDOXY,CTDOXY_FLAG_W,THETA,OXYGEN,OXYGEN_FLAG_W,SILCAT,SILCAT_FLAG_W,NITRAT,NITRAT_FLAG_W,NITRIT,NITRIT_FLAG_W,PHSPHT,PHSPHT_FLAG_W,CFC-11,CFC-11_FLAG_W,CFC-12,CFC-12_FLAG_W,TRITUM,TRITUM_FLAG_W,HELIUM,HELIUM_FLAG_W,DELHE3,DELHE3_FLAG_W,DELC14,DELC14_FLAG_W,DELC13,DELC13_FLAG_W,TCARBN,TCARBN_FLAG_W,ALKALI,ALKALI_FLAG_W,C14ERR,HELIER,DELHER,C13ERR,TRITER
,,,,,,,,,,,,DBAR,ITS-90,PSS-78,,PSS-78,,UMOL/KG,,DEG C,UMOL/KG,,UMOL/KG,,UMOL/KG,,UMOL/KG,,UMOL/KG,,PMOL/KG,,PMOL/KG,,TU,,NMOL/KG,,PERCNT,,/MILLE,,/MILLE,,UMOL/KG,,UMOL/KG,,/MILLE,NMOL/KG,PERCNT,/MILLE,TU
   31WTTUNES_1,  P17C,     6,  1,      1,      1,2,19910603,1137, 35.2983,-123.4333, 4005,      1.8,  13.2275,  32.8253,2,  32.8249,2,    272.5,3, 13.2272,    273.9,2,     3.03,2,     0.10,2,     0.01,2,     0.40,2,    3.559,2,    1.813,2, -999.000,9,-999.0000,9,  -999.00,9,   -999.0,9,  -999.00,9,   -999.0,9,   -999.0,9,  -999.0,-999.0000,-999.000,  -999.0,-999.000
   31WTTUNES_1,  P17C,     6,  1,      2,      2,2,19910603,1137, 35.2983,-123.4333, 4005,     23.1,  13.2175,  32.8235,2,  32.8205,2,    282.9,2, 13.2144,    276.7,2,     2.15,2,     0.10,2,     0.01,2,     0.41,2,    3.538,2,    1.856,2, -999.000,9,-999.0000,9,  -999.00,9,   -999.0,9,  -999.00,9,   -999.0,9,   -999.0,9,  -999.0,-999.0000,-999.000,  -999.0,-999.000
   31WTTUNES_1,  P17C,     6,  1,      3,      3,2,19910603,1137, 35.2983,-123.4333, 4005,     49.5,  12.4307,  32.7169,2,  32.7198,2,    277.1,2, 12.4243,    280.2,2,     2.45,2,     0.29,2,     0.04,2,     0.45,2,    3.696,2,    1.864,2, -999.000,9,-999.0000,9,  -999.00,9,   -999.0,9,  -999.00,9,   -999.0,9,   -999.0,9,  -999.0,-999.0000,-999.000,  -999.0,-999.000
   31WTTUNES_1,  P17C,     6,  1,      4,      4,2,19910603,1137, 35.2983,-123.4333, 4005,     62.2,  11.8519,  32.7470,2,  32.7506,2,    279.6,2, 11.8440,    275.1,2,     3.43,2,     1.86,2,     0.12,2,     0.55,2,    3.791,2,    1.892,2, -999.000,9,-999.0000,9,  -999.00,9,   -999.0,9,  -999.00,9,   -999.0,9,   -999.0,9,  -999.0,-999.0000,-999.000,  -999.0,-999.000
   31WTTUNES_1,  P17C,     6,  1,      5,      5,3,19910603,1137, 35.2983,-123.4333, 4005,     89.7,  11.0711,  33.0128,2,-999.0000,5,    262.6,2, 11.0603,   -999.0,5,  -999.00,5,  -999.00,5,  -999.00,5,  -999.00,5, -999.000,9, -999.000,9, -999.000,9,-999.0000,9,  -999.00,9,   -999.0,9,  -999.00,9,   -999.0,9,   -999.0,9,  -999.0,-999.0000,-999.000,  -999.0,-999.000
   31WTTUNES_1,  P17C,     6,  1,      6,      6,2,19910603,1137, 35.2983,-123.4333, 4005,    126.4,   9.4847,  33.3206,2,  33.3284,2,    195.1,2,  9.4708,    195.5,2,    18.20,2,    17.51,2,     0.03,2,     1.45,2,    3.495,2,    1.694,2, -999.000,9,-999.0000,9,  -999.00,9,   -999.0,9,  -999.00,9,   -999.0,9,   -999.0,9,  -999.0,-999.0000,-999.000,  -999.0,-999.000
   31WTTUNES_1,  P17C,     6,  1,      7,      7,2,19910603,1137, 35.2983,-123.4333, 4005,    148.7,   8.5770,  33.4970,2,  33.5027,2,    173.9,2,  8.5617,    178.8,2,    22.50,2,    21.33,2,     0.03,2,     1.64,2,    3.005,2,    1.488,2, -999.000,9,-999.0000,9,  -999.00,9,   -999.0,9,  -999.00,9,   -999.0,9,   -999.0,9,  -999.0,-999.0000,-999.000,  -999.0,-999.000
   31WTTUNES_1,  P17C,     6,  1,      8,      8,2,19910603,1137, 35.2983,-123.4333, 4005,    174.2,   8.7310,  33.8046,2,  33.8059,2,    135.2,2,  8.7127,    135.9,2,    28.56,2,    25.23,2,     0.03,2,     1.90,2,    2.477,2,    1.195,2, -999.000,9,-999.0000,9,  -999.00,9,   -999.0,9,  -999.00,9,   -999.0,9,   -999.0,9,  -999.0,-999.0000,-999.000,  -999.0,-999.000
   31WTTUNES_1,  P17C,     6,  1,      9,      9,2,19910603,1137, 35.2983,-123.4333, 4005,    199.6,   8.3791,  33.9126,2,  33.9049,2,    120.8,2,  8.3587,    126.3,2,    32.76,2,    26.70,2,     0.03,2,     1.98,2,    2.050,2,    1.026,2, -999.000,9,-999.0000,9,  -999.00,9,   -999.0,9,  -999.00,9,   -999.0,9,   -999.0,9,  -999.0,-999.0000,-999.000,  -999.0,-999.000
   31WTTUNES_1,  P17C,     6,  1,     10,     10,2,19910603,1137, 35.2983,-123.4333, 4005,    226.2,   7.9923,  33.9414,2,  33.9427,2,    136.1,2,  7.9697,    135.0,2,    35.40,2,    27.09,2,     0.03,2,     1.98,2,    1.973,2,    1.004,2, -999.000,9,-999.0000,9,  -999.00,9,   -999.0,9,  -999.00,9,   -999.0,9,   -999.0,9,  -999.0,-999.0000,-999.000,  -999.0,-999.000
   31WTTUNES_1,  P17C,     6,  1,     11,     11,2,19910603,1137, 35.2983,-123.4333, 4005,    251.4,   7.7154,  33.9839,2,  33.9772,2,    128.2,2,  7.6908,    130.1,2,    38.43,2,    27.97,2,     0.03,2,     2.02,2,    1.944,6,    0.916,6, -999.000,9,-999.0000,9,  -999.00,9,   -999.0,9,  -999.00,9,   -999.0,9,   -999.0,9,  -999.0,-999.0000,-999.000,  -999.0,-999.000
   31WTTUNES_1,  P17C,     6,  1,     12,     12,3,19910603,1137, 35.2983,-123.4333, 4005,    297.1,   7.0977,  34.0113,2,  34.0113,2,    106.5,2,  7.0699,    141.4,4,    47.43,2,    31.00,2,     0.02,2,     2.24,2, -999.000,9, -999.000,9, -999.000,9,-999.0000,9,  -999.00,9,   -999.0,9,  -999.00,9,   -999.0,9,   -999.0,9,  -999.0,-999.0000,-999.000,  -999.0,-999.000
   31WTTUNES_1,  P17C,     6,  1,     14,     14,2,19910603,1137, 35.2983,-123.4333, 4005,    349.5,   6.4800,  34.0240,2,  34.0214,2,     86.6,2,  6.4488,     90.2,2,    56.03,2,    33.74,2,     0.02,2,     2.44,2,    1.013,2,    0.463,2, -999.000,9,-999.0000,9,  -999.00,9,   -999.0,9,  -999.00,9,   -999.0,9,   -999.0,9,  -999.0,-999.0000,-999.000,  -999.0,-999.000
   31WTTUNES_1,  P17C,     6,  1,     15,     15,2,19910603,1137, 35.2983,-123.4333, 4005,    399.3,   6.1062,  34.0680,2,  34.0681,2,     58.7,2,  6.0716,     61.3,2,    66.01,2,    36.96,2,     0.02,2,     2.71,2,    0.480,2,    0.238,2, -999.000,9,-999.0000,9,  -999.00,9,   -999.0,9,  -999.00,9,   -999.0,9,   -999.0,9,  -999.0,-999.0000,-999.000,  -999.0,-999.000
   31WTTUNES_1,  P17C,     6,  1,     16,     16,2,19910603,1137, 35.2983,-123.4333, 4005,    452.2,   5.6794,  34.1023,2,  34.1016,2,     45.3,2,  5.6415,     43.8,2,    74.80,2,    39.02,2,     0.02,2,     2.86,2,    0.244,2,    0.122,2, -999.000,9,-999.0000,9,  -999.00,9,   -999.0,9,  -999.00,9,   -999.0,9,   -999.0,9,  -999.0,-999.0000,-999.000,  -999.0,-999.000
   31WTTUNES_1,  P17C,     6,  1,     17,     17,2,19910603,1137, 35.2983,-123.4333, 4005,    498.9,   5.3476,  34.1315,2,  34.1281,2,     32.8,2,  5.3068,     32.3,2,    81.45,2,    40.29,2,     0.02,2,     2.95,2,    0.145,2,    0.075,2, -999.000,9,-999.0000,9,  -999.00,9,   -999.0,9,  -999.00,9,   -999.0,9,   -999.0,9,  -999.0,-999.0000,-999.000,  -999.0,-999.000
   31WTTUNES_1,  P17C,     6,  1,     18,     18,2,19910603,1137, 35.2983,-123.4333, 4005,    602.6,   4.9039,  34.2239,2,  34.2248,2,     17.9,2,  4.8561,     18.9,2,    94.84,2,    42.24,2,     0.01,2,     3.13,2,    0.034,2,    0.021,2, -999.000,9,-999.0000,9,  -999.00,9,   -999.0,9,  -999.00,9,   -999.0,9,   -999.0,9,  -999.0,-999.0000,-999.000,  -999.0,-999.000
   31WTTUNES_1,  P17C,     6,  1,     19,     19,2,19910603,1137, 35.2983,-123.4333, 4005,    704.4,   4.5870,  34.2985,2,  34.3869,4,     12.6,2,  4.5323,     15.5,2,   103.73,2,    43.12,2,     0.01,2,     3.18,2,    0.013,2,    0.007,2, -999.000,9,-999.0000,9,  -999.00,9,   -999.0,9,  -999.00,9,   -999.0,9,   -999.0,9,  -999.0,-999.0000,-999.000,  -999.0,-999.000
   31WTTUNES_1,  P17C,     6,  1,     20,     20,2,19910603,1137, 35.2983,-123.4333, 4005,    808.3,   4.4101,  34.3901,2,  34.3880,2,     12.7,2,  4.3477,     12.8,2,   109.69,2,    43.31,2,     0.01,2,     3.21,2,    0.006,2,    0.013,2, -999.000,9,-999.0000,9,  -999.00,9,   -999.0,9,  -999.00,9,   -999.0,9,   -999.0,9,  -999.0,-999.0000,-999.000,  -999.0,-999.000
   31WTTUNES_1,  P17C,     6,  1,     21,     21,2,19910603,1137, 35.2983,-123.4333, 4005,    909.1,   4.1033,  34.4277,2,  34.4232,2,     15.8,2,  4.0345,     15.5,2,   116.53,2,    43.70,2,     0.01,2,     3.21,2,    0.017,2,    0.009,2, -999.000,9,-999.0000,9,  -999.00,9,   -999.0,9,  -999.00,9,   -999.0,9,   -999.0,9,  -999.0,-999.0000,-999.000,  -999.0,-999.000
   31WTTUNES_1,  P17C,     6,  1,     22,     22,2,19910603,1137, 35.2983,-123.4333, 4005,   1009.3,   3.8635,  34.4583,2,  34.4546,2,     20.0,2,  3.7882,     21.1,2,   121.81,2,    43.89,2,     0.02,2,     3.20,2,    0.019,2,    0.013,2, -999.000,9,-999.0000,9,  -999.00,9,   -999.0,9,  -999.00,9,   -999.0,9,   -999.0,9,  -999.0,-999.0000,-999.000,  -999.0,-999.000
   31WTTUNES_1,  P17C,     6,  1,     23,     23,2,19910603,1137, 35.2983,-123.4333, 4005,   1212.2,   3.4187,  34.4994,2,  34.4986,2,     30.4,2,  3.3305,     28.7,2,   131.97,2,    43.60,2,     0.01,2,     3.16,2, -999.000,9, -999.000,9, -999.000,9,-999.0000,9,  -999.00,9,   -999.0,9,  -999.00,9,   -999.0,9,   -999.0,9,  -999.0,-999.0000,-999.000,  -999.0,-999.000
   31WTTUNES_1,  P17C,     6,  1,     24,     24,2,19910603,1137, 35.2983,-123.4333, 4005,   1414.3,   2.9670,  34.5302,2,  34.5317,2,     39.9,2,  2.8667,     38.5,2,   143.01,2,    43.30,2,     0.02,2,     3.12,2, -999.000,9, -999.000,9, -999.000,9,-999.0000,9,  -999.00,9,   -999.0,9,  -999.00,9,   -999.0,9,   -999.0,9,  -999.0,-999.0000,-999.000,  -999.0,-999.000
   31WTTUNES_1,  P17C,     6,  1,     25,     25,2,19910603,1137, 35.2983,-123.4333, 4005,   1620.6,   2.6172,  34.5587,2,  34.5606,2,     50.3,2,  2.5040,     48.9,2,   152.10,2,    42.91,2,     0.02,2,     3.05,2, -999.000,9, -999.000,9, -999.000,9,-999.0000,9,  -999.00,9,   -999.0,9,  -999.00,9,   -999.0,9,   -999.0,9,  -999.0,-999.0000,-999.000,  -999.0,-999.000
   31WTTUNES_1,  P17C,     6,  1,     26,     26,2,19910603,1137, 35.2983,-123.4333, 4005,   1825.4,   2.2565,  34.5854,2,  34.5860,2,     60.9,2,  2.1310,     64.6,2,   161.68,2,    41.93,2,     0.02,2,     2.98,2, -999.000,9, -999.000,9, -999.000,9,-999.0000,9,  -999.00,9,   -999.0,9,  -999.00,9,   -999.0,9,   -999.0,9,  -999.0,-999.0000,-999.000,  -999.0,-999.000
   31WTTUNES_1,  P17C,     6,  1,     27,     27,2,19910603,1137, 35.2983,-123.4333, 4005,   2017.5,   2.0386,  34.6051,2,  34.6078,2,     74.4,2,  1.9002,     75.5,2,   166.37,2,    41.05,2,     0.02,2,     2.93,2, -999.000,9, -999.000,9, -999.000,9,-999.0000,9,  -999.00,9,   -999.0,9,  -999.00,9,   -999.0,9,   -999.0,9,  -999.0,-999.0000,-999.000,  -999.0,-999.000
   31WTTUNES_1,  P17C,     6,  1,     28,     28,2,19910603,1137, 35.2983,-123.4333, 4005,   2223.1,   1.8967,  34.6254,2,  34.6289,2,     86.9,2,  1.7430,     88.0,2,   166.36,2,    40.27,2,     0.02,2,     2.84,2, -999.000,9, -999.000,9, -999.000,9,-999.0000,9,  -999.00,9,   -999.0,9,  -999.00,9,   -999.0,9,   -999.0,9,  -999.0,-999.0000,-999.000,  -999.0,-999.000
   31WTTUNES_1,  P17C,     6,  1,     29,     29,2,19910603,1137, 35.2983,-123.4333, 4005,   2434.8,   1.7998,  34.6367,2,  34.6415,2,     96.8,2,  1.6291,     98.3,2,   166.56,2,    39.68,2,     0.02,2,     2.80,2, -999.000,9, -999.000,9, -999.000,9,-999.0000,9,  -999.00,9,   -999.0,9,  -999.00,9,   -999.0,9,   -999.0,9,  -999.0,-999.0000,-999.000,  -999.0,-999.000
   31WTTUNES_1,  P17C,     6,  1,     30,     30,4,19910603,1137, 35.2983,-123.4333, 4005,   2434.8,   1.7998,  34.6367,2,  34.6408,2,     96.8,2,  1.6291,     96.6,2,  -999.00,9,    39.78,2,     0.02,2,     2.80,2, -999.000,9, -999.000,9, -999.000,9,-999.0000,9,  -999.00,9,   -999.0,9,  -999.00,9,   -999.0,9,   -999.0,9,  -999.0,-999.0000,-999.000,  -999.0,-999.000
   31WTTUNES_1,  P17C,     6,  1,     31,     31,2,19910603,1137, 35.2983,-123.4333, 4005,   2839.6,   1.6689,  34.6544,2,  34.6566,2,    109.4,2,  1.4637,    111.0,2,   166.07,2,    38.71,2,     0.02,2,     2.72,2, -999.000,9, -999.000,9, -999.000,9,-999.0000,9,  -999.00,9,   -999.0,9,  -999.00,9,   -999.0,9,   -999.0,9,  -999.0,-999.0000,-999.000,  -999.0,-999.000
   31WTTUNES_1,  P17C,     6,  1,     32,     32,2,19910603,1137, 35.2983,-123.4333, 4005,   3033.7,   1.6269,  34.6589,2,  34.6623,2,    115.6,2,  1.4042,    116.1,2,   166.46,2,    38.51,2,     0.02,2,     2.69,2, -999.000,9, -999.000,9, -999.000,9,-999.0000,9,  -999.00,9,   -999.0,9,  -999.00,9,   -999.0,9,   -999.0,9,  -999.0,-999.0000,-999.000,  -999.0,-999.000
   31WTTUNES_1,  P17C,     6,  1,     33,     33,2,19910603,1137, 35.2983,-123.4333, 4005,   3238.0,   1.5969,  34.6620,2,  34.6639,2,    119.2,2,  1.3549,    122.6,2,   166.95,2,    38.32,2,     0.03,2,     2.68,2, -999.000,9, -999.000,9, -999.000,9,-999.0000,9,  -999.00,9,   -999.0,9,  -999.00,9,   -999.0,9,   -999.0,9,  -999.0,-999.0000,-999.000,  -999.0,-999.000
   31WTTUNES_1,  P17C,     6,  1,     34,     34,4,19910603,1137, 35.2983,-123.4333, 4005,   3451.0,   1.5720,  34.6647,2,  34.6677,2,    123.2,2,  1.3091,    123.5,2,   168.70,2,    38.12,2,     0.00,2,     2.65,2,    0.007,2,    0.012,2, -999.000,9,-999.0000,9,  -999.00,9,   -999.0,9,  -999.00,9,   -999.0,9,   -999.0,9,  -999.0,-999.0000,-999.000,  -999.0,-999.000
   31WTTUNES_1,  P17C,     6,  1,     35,     35,2,19910603,1137, 35.2983,-123.4333, 4005,   3867.1,   1.5130,  34.6751,2,  34.6764,2,    132.8,2,  1.2081,    132.1,2,   168.61,2,    37.24,2,     0.01,2,     2.61,2,    0.006,2,    0.020,2, -999.000,9,-999.0000,9,  -999.00,9,   -999.0,9,  -999.00,9,   -999.0,9,   -999.0,9,  -999.0,-999.0000,-999.000,  -999.0,-999.000
   31WTTUNES_1,  P17C,     6,  1,     36,     36,2,19910603,1137, 35.2983,-123.4333, 4005,   4073.0,   1.5100,  34.6780,2,  34.6812,2,   -999.0,9,  1.1829,    134.6,2,   168.80,2,    36.75,2,     0.01,2,     2.61,2,    0.008,6,    0.034,6, -999.000,9,-999.0000,9,  -999.00,9,   -999.0,9,  -999.00,9,   -999.0,9,   -999.0,9,  -999.0,-999.0000,-999.000,  -999.0,-999.000