BOTTLE,20220819CCHSIOAMB
EXPOCODE,SECT_ID,STNNBR,CASTNO,SAMPNO,BTLNBR,BTLNBR_FLAG_W,DATE,TIME,LATITUDE,LONGITUDE,DEPTH,CTDPRS,CTDTMP,CTDSAL,CTDSAL_FLAG_W,SALNTY,SALNTY_FLAG_W,CTDOXY,CTDOXY_FLAG_W,THETA,OXYGEN,OXYGEN_FLAG_W,SILCAT,SILCAT_FLAG_W,NITRAT,NITRAT_FLAG_W,NITRIT,NITRIT_FLAG_W,PHSPHT,PHSPHT_FLAG_W,CFC-11,CFC-11_FLAG_W,CFC-12,CFC-12_FLAG_W,TRITUM,TRITUM_FLAG_W,HELIUM,HELIUM_FLAG_W,DELHE3,DELHE3_FLAG_W,DELC14,DELC14_FLAG_W,DELC13,DELC13_FLAG_W,TCARBN,TCARBN_FLAG_W,ALKALI,ALKALI_FLAG_W,C14ERR,HELIER,DELHER,C13ERR,TRITER
,,,,,,,,,,,,DBAR,ITS-90,PSS-78,,PSS-78,,UMOL/KG,,DEG C,UMOL/KG,,UMOL/KG,,UMOL/KG,,UMOL/KG,,UMOL/KG,,PMOL/KG,,PMOL/KG,,TU,,NMOL/KG,,PERCNT,,/MILLE,,/MILLE,,UMOL/KG,,UMOL/KG,,/MILLE,NMOL/KG,PERCNT,/MILLE,TU
   31WTTUNES_1,  P17C,    27,  1,      1,      1,2,19910612,0728, 29.5083,-135.0017, 4478,      1.4,  18.5529,  34.7310,2,  34.7345,2,    234.3,3, 18.5527,    237.9,2,     2.77,2,     0.04,2,     0.01,2,     0.15,2,    2.516,2,    1.313,2, -999.000,9,-999.0000,9,  -999.00,9,   -999.0,9,  -999.00,9,   -999.0,9,   -999.0,9,  -999.0,-999.0000,-999.000,  -999.0,-999.000
   31WTTUNES_1,  P17C,    27,  1,      2,      2,2,19910612,0728, 29.5083,-135.0017, 4478,     53.6,  18.5252,  34.7296,2,  34.7329,2,    237.7,2, 18.5159,    238.9,2,     2.77,2,     0.04,2,     0.01,2,     0.15,2,    2.488,2,    1.316,2, -999.000,9,-999.0000,9,  -999.00,9,   -999.0,9,  -999.00,9,   -999.0,9,   -999.0,9,  -999.0,-999.0000,-999.000,  -999.0,-999.000
   31WTTUNES_1,  P17C,    27,  1,      3,      3,2,19910612,0728, 29.5083,-135.0017, 4478,     78.9,  18.4945,  34.7821,2,  34.8367,2,    237.9,2, 18.4808,    237.2,2,     2.56,2,     0.04,2,     0.01,2,     0.14,2,    2.513,2,    1.315,2, -999.000,9,-999.0000,9,  -999.00,9,   -999.0,9,  -999.00,9,   -999.0,9,   -999.0,9,  -999.0,-999.0000,-999.000,  -999.0,-999.000
   31WTTUNES_1,  P17C,    27,  1,      4,      4,2,19910612,0728, 29.5083,-135.0017, 4478,    104.7,  18.8906,  34.9911,2,  34.9823,2,    232.3,2, 18.8721,    235.7,2,     2.55,2,     0.04,2,     0.01,2,     0.11,2,    2.444,2,    1.297,2, -999.000,9,-999.0000,9,  -999.00,9,   -999.0,9,  -999.00,9,   -999.0,9,   -999.0,9,  -999.0,-999.0000,-999.000,  -999.0,-999.000
   31WTTUNES_1,  P17C,    27,  1,      5,      5,2,19910612,0728, 29.5083,-135.0017, 4478,    130.2,  18.6251,  34.9638,2,  34.9527,2,    223.8,2, 18.6023,    236.0,2,     2.54,2,     0.02,2,     0.02,2,     0.10,2,    2.505,2,    1.292,2, -999.000,9,-999.0000,9,  -999.00,9,   -999.0,9,  -999.00,9,   -999.0,9,   -999.0,9,  -999.0,-999.0000,-999.000,  -999.0,-999.000
   31WTTUNES_1,  P17C,    27,  1,      6,      6,2,19910612,0728, 29.5083,-135.0017, 4478,    155.3,  17.6476,  34.7528,2,  34.7549,2,    227.9,2, 17.6213,    227.2,2,     2.74,2,     0.60,2,     0.12,2,     0.17,2,    2.540,2,    1.304,2, -999.000,9,-999.0000,9,  -999.00,9,   -999.0,9,  -999.00,9,   -999.0,9,   -999.0,9,  -999.0,-999.0000,-999.000,  -999.0,-999.000
   31WTTUNES_1,  P17C,    27,  1,      7,      7,2,19910612,0728, 29.5083,-135.0017, 4478,    180.4,  15.7670,  34.4563,2,  34.4543,2,    219.0,2, 15.7389,    220.2,2,     3.94,2,     2.83,2,     0.02,2,     0.33,2,    2.666,2,    1.387,2, -999.000,9,-999.0000,9,  -999.00,9,   -999.0,9,  -999.00,9,   -999.0,9,   -999.0,9,  -999.0,-999.0000,-999.000,  -999.0,-999.000
   31WTTUNES_1,  P17C,    27,  1,      8,      8,2,19910612,0728, 29.5083,-135.0017, 4478,    206.7,  13.3915,  34.1351,2,  34.1299,2,    219.1,2, 13.3628,    220.3,2,     5.96,2,     5.74,2,     0.02,2,     0.54,2,    2.916,2,    1.454,2, -999.000,9,-999.0000,9,  -999.00,9,   -999.0,9,  -999.00,9,   -999.0,9,   -999.0,9,  -999.0,-999.0000,-999.000,  -999.0,-999.000
   31WTTUNES_1,  P17C,    27,  1,      9,      9,2,19910612,0728, 29.5083,-135.0017, 4478,    248.4,  11.2500,  34.0250,2,  34.0283,2,    211.7,2, 11.2192,    222.9,2,     9.80,2,    10.53,2,     0.02,2,     0.82,2,    2.910,2,    1.470,2, -999.000,9,-999.0000,9,  -999.00,9,   -999.0,9,  -999.00,9,   -999.0,9,   -999.0,9,  -999.0,-999.0000,-999.000,  -999.0,-999.000
   31WTTUNES_1,  P17C,    27,  1,     10,     10,2,19910612,0728, 29.5083,-135.0017, 4478,    298.0,  10.1251,  34.0212,2,  34.0225,2,    212.4,2, 10.0905,    212.3,2,    14.84,2,    14.08,2,     0.01,2,     1.04,2,    2.760,2,    1.354,2, -999.000,9,-999.0000,9,  -999.00,9,   -999.0,9,  -999.00,9,   -999.0,9,   -999.0,9,  -999.0,-999.0000,-999.000,  -999.0,-999.000
   31WTTUNES_1,  P17C,    27,  1,     11,     11,2,19910612,0728, 29.5083,-135.0017, 4478,    334.6,   9.3106,  34.0217,2,  34.0240,2,    199.1,2,  9.2737,    198.5,2,    20.70,2,    17.62,2,     0.01,2,     1.26,2,    2.062,2,    1.046,2, -999.000,9,-999.0000,9,  -999.00,9,   -999.0,9,  -999.00,9,   -999.0,9,   -999.0,9,  -999.0,-999.0000,-999.000,  -999.0,-999.000
   31WTTUNES_1,  P17C,    27,  1,     12,     12,2,19910612,0728, 29.5083,-135.0017, 4478,    361.2,   8.5468,  34.0185,2,  34.0268,2,    186.6,2,  8.5090,    180.1,2,    28.37,2,    21.22,2,     0.01,2,     1.51,2,    2.075,2,    1.035,2, -999.000,9,-999.0000,9,  -999.00,9,   -999.0,9,  -999.00,9,   -999.0,9,   -999.0,9,  -999.0,-999.0000,-999.000,  -999.0,-999.000
   31WTTUNES_1,  P17C,    27,  1,     13,     13,2,19910612,0728, 29.5083,-135.0017, 4478,    407.8,   7.7598,  34.0126,2,  34.0213,2,    157.1,2,  7.7193,    156.8,2,    34.23,2,    24.82,2,     0.01,2,     1.77,2,    1.364,2,    0.679,2, -999.000,9,-999.0000,9,  -999.00,9,   -999.0,9,  -999.00,9,   -999.0,9,   -999.0,9,  -999.0,-999.0000,-999.000,  -999.0,-999.000
   31WTTUNES_1,  P17C,    27,  1,     14,     14,2,19910612,0728, 29.5083,-135.0017, 4478,    458.0,   6.9722,  34.0119,2,  34.0170,2,    124.5,2,  6.9293,    127.8,2,    48.57,2,    29.39,2,     0.02,2,     2.11,2,    1.059,2,    0.530,2, -999.000,9,-999.0000,9,  -999.00,9,   -999.0,9,  -999.00,9,   -999.0,9,   -999.0,9,  -999.0,-999.0000,-999.000,  -999.0,-999.000
   31WTTUNES_1,  P17C,    27,  1,     15,     15,2,19910612,0728, 29.5083,-135.0017, 4478,    509.7,   6.1428,  34.0258,2,  34.0307,2,     96.1,2,  6.0980,     89.4,2,    61.10,2,    33.85,2,  -999.00,9,     2.44,2,    0.585,2,    0.311,2, -999.000,9,-999.0000,9,  -999.00,9,   -999.0,9,  -999.00,9,   -999.0,9,   -999.0,9,  -999.0,-999.0000,-999.000,  -999.0,-999.000
   31WTTUNES_1,  P17C,    27,  1,     16,     16,2,19910612,0728, 29.5083,-135.0017, 4478,    607.0,   5.3599,  34.1052,2,  34.1116,2,     47.4,2,  5.3098,     45.6,2,    80.29,2,    38.41,2,  -999.00,9,     2.83,2,    0.143,2,    0.078,2, -999.000,9,-999.0000,9,  -999.00,9,   -999.0,9,  -999.00,9,   -999.0,9,   -999.0,9,  -999.0,-999.0000,-999.000,  -999.0,-999.000
   31WTTUNES_1,  P17C,    27,  1,     17,     17,2,19910612,0728, 29.5083,-135.0017, 4478,    708.2,   4.8297,  34.2086,2,  34.2102,2,     17.8,2,  4.7735,     19.5,2,    94.82,2,    41.48,2,     0.00,2,     3.05,2,    0.035,2,    0.024,2, -999.000,9,-999.0000,9,  -999.00,9,   -999.0,9,  -999.00,9,   -999.0,9,   -999.0,9,  -999.0,-999.0000,-999.000,  -999.0,-999.000
   31WTTUNES_1,  P17C,    27,  1,     18,     18,2,19910612,0728, 29.5083,-135.0017, 4478,    805.5,   4.3528,  34.2846,2,  34.2875,2,     14.1,2,  4.2911,     14.4,2,   107.94,2,    42.36,2,     0.00,2,     3.13,2,    0.007,2,    0.005,2, -999.000,9,-999.0000,9,  -999.00,9,   -999.0,9,  -999.00,9,   -999.0,9,   -999.0,9,  -999.0,-999.0000,-999.000,  -999.0,-999.000
   31WTTUNES_1,  P17C,    27,  1,     19,     19,2,19910612,0728, 29.5083,-135.0017, 4478,    903.0,   4.1407,  34.3531,2,  34.3561,2,     15.0,2,  4.0723,     14.8,2,   113.58,2,    42.69,2,     0.00,2,     3.14,2, -999.000,9, -999.000,9, -999.000,9,-999.0000,9,  -999.00,9,   -999.0,9,  -999.00,9,   -999.0,9,   -999.0,9,  -999.0,-999.0000,-999.000,  -999.0,-999.000
   31WTTUNES_1,  P17C,    27,  1,     20,     20,2,19910612,0728, 29.5083,-135.0017, 4478,   1010.7,   3.7084,  34.4102,2,  34.4142,2,     19.6,2,  3.6342,     21.1,2,   125.28,2,    42.75,2,     0.00,2,     3.15,2, -999.000,9, -999.000,9, -999.000,9,-999.0000,9,  -999.00,9,   -999.0,9,  -999.00,9,   -999.0,9,   -999.0,9,  -999.0,-999.0000,-999.000,  -999.0,-999.000
   31WTTUNES_1,  P17C,    27,  1,     21,     21,2,19910612,0728, 29.5083,-135.0017, 4478,   1208.9,   3.2829,  34.4921,2,  34.4937,2,     34.7,2,  3.1962,     34.3,2,   133.95,2,    42.41,2,     0.00,2,     3.09,2, -999.000,9, -999.000,9, -999.000,9,-999.0000,9,  -999.00,9,   -999.0,9,  -999.00,9,   -999.0,9,   -999.0,9,  -999.0,-999.0000,-999.000,  -999.0,-999.000
   31WTTUNES_1,  P17C,    27,  1,     22,     22,2,19910612,0728, 29.5083,-135.0017, 4478,   1408.9,   2.8906,  34.5370,2,  34.5414,2,     48.3,2,  2.7915,     47.9,2,   143.42,2,    41.91,2,     0.00,2,     3.01,2, -999.000,9, -999.000,9, -999.000,9,-999.0000,9,  -999.00,9,   -999.0,9,  -999.00,9,   -999.0,9,   -999.0,9,  -999.0,-999.0000,-999.000,  -999.0,-999.000
   31WTTUNES_1,  P17C,    27,  1,     23,     23,2,19910612,0728, 29.5083,-135.0017, 4478,   1613.2,   2.5167,  34.5714,2,  34.5740,2,     61.4,2,  2.4053,     60.9,2,   151.89,2,    41.09,2,     0.00,2,     2.96,2, -999.000,9, -999.000,9, -999.000,9,-999.0000,9,  -999.00,9,   -999.0,9,  -999.00,9,   -999.0,9,   -999.0,9,  -999.0,-999.0000,-999.000,  -999.0,-999.000
   31WTTUNES_1,  P17C,    27,  1,     24,     24,2,19910612,0728, 29.5083,-135.0017, 4478,   1817.6,   2.2671,  34.5923,2,  34.5964,2,     69.8,2,  2.1421,     69.4,2,   158.74,2,    40.76,2,     0.00,2,     2.90,2, -999.000,9, -999.000,9, -999.000,9,-999.0000,9,  -999.00,9,   -999.0,9,  -999.00,9,   -999.0,9,   -999.0,9,  -999.0,-999.0000,-999.000,  -999.0,-999.000
   31WTTUNES_1,  P17C,    27,  1,     25,     25,2,19910612,0728, 29.5083,-135.0017, 4478,   2020.1,   2.0463,  34.6118,2,  34.6160,2,     80.4,2,  1.9076,     79.7,2,   163.77,2,    39.93,2,     0.00,2,     2.84,2, -999.000,9, -999.000,9, -999.000,9,-999.0000,9,  -999.00,9,   -999.0,9,  -999.00,9,   -999.0,9,   -999.0,9,  -999.0,-999.0000,-999.000,  -999.0,-999.000
   31WTTUNES_1,  P17C,    27,  1,     26,     26,2,19910612,0728, 29.5083,-135.0017, 4478,   2231.4,   1.8746,  34.6289,2,  34.6300,2,     90.6,2,  1.7205,     89.7,2,   167.59,2,    39.06,2,     0.00,2,     2.81,2, -999.000,9, -999.000,9, -999.000,9,-999.0000,9,  -999.00,9,   -999.0,9,  -999.00,9,   -999.0,9,   -999.0,9,  -999.0,-999.0000,-999.000,  -999.0,-999.000
   31WTTUNES_1,  P17C,    27,  1,     27,     27,2,19910612,0728, 29.5083,-135.0017, 4478,   2432.0,   1.7570,  34.6408,2,  34.6420,2,     99.1,2,  1.5874,     98.2,2,   169.84,2,    39.07,2,     0.00,2,     2.81,4, -999.000,9, -999.000,9, -999.000,9,-999.0000,9,  -999.00,9,   -999.0,9,  -999.00,9,   -999.0,9,   -999.0,9,  -999.0,-999.0000,-999.000,  -999.0,-999.000
   31WTTUNES_1,  P17C,    27,  1,     28,     28,2,19910612,0728, 29.5083,-135.0017, 4478,   2631.8,   1.6780,  34.6495,2,  34.6508,2,    106.8,2,  1.4919,    108.0,3,   169.83,2,    38.91,2,     0.00,2,     2.77,4, -999.000,9, -999.000,9, -999.000,9,-999.0000,9,  -999.00,9,   -999.0,9,  -999.00,9,   -999.0,9,   -999.0,9,  -999.0,-999.0000,-999.000,  -999.0,-999.000
   31WTTUNES_1,  P17C,    27,  1,     29,     29,2,19910612,0728, 29.5083,-135.0017, 4478,   2832.9,   1.6080,  34.6568,2,  34.6577,2,    111.6,2,  1.4048,    113.1,2,   170.42,2,    38.31,2,     0.00,2,     2.76,4, -999.000,9, -999.000,9, -999.000,9,-999.0000,9,  -999.00,9,   -999.0,9,  -999.00,9,   -999.0,9,   -999.0,9,  -999.0,-999.0000,-999.000,  -999.0,-999.000
   31WTTUNES_1,  P17C,    27,  1,     30,     30,2,19910612,0728, 29.5083,-135.0017, 4478,   3035.6,   1.5538,  34.6641,2,  34.6647,2,    120.2,2,  1.3324,    121.4,2,   168.79,2,    37.55,2,     0.00,2,  -999.00,9, -999.000,9, -999.000,9, -999.000,9,-999.0000,9,  -999.00,9,   -999.0,9,  -999.00,9,   -999.0,9,   -999.0,9,  -999.0,-999.0000,-999.000,  -999.0,-999.000
   31WTTUNES_1,  P17C,    27,  1,     31,     31,2,19910612,0728, 29.5083,-135.0017, 4478,   3292.5,   1.5049,  34.6707,2,  34.6720,2,    129.8,2,  1.2596,    130.4,2,   165.94,2,    37.23,2,     0.00,2,     2.67,2, -999.000,9, -999.000,9, -999.000,9,-999.0000,9,  -999.00,9,   -999.0,9,  -999.00,9,   -999.0,9,   -999.0,9,  -999.0,-999.0000,-999.000,  -999.0,-999.000
   31WTTUNES_1,  P17C,    27,  1,     32,     32,2,19910612,0728, 29.5083,-135.0017, 4478,   3548.2,   1.4885,  34.6757,2,  34.6761,2,    136.0,2,  1.2178,    135.9,2,   164.87,2,    36.90,2,     0.00,2,     2.62,2, -999.000,9, -999.000,9, -999.000,9,-999.0000,9,  -999.00,9,   -999.0,9,  -999.00,9,   -999.0,9,   -999.0,9,  -999.0,-999.0000,-999.000,  -999.0,-999.000
   31WTTUNES_1,  P17C,    27,  1,     33,     33,2,19910612,0728, 29.5083,-135.0017, 4478,   3803.4,   1.4830,  34.6796,2,  34.6789,2,    140.5,2,  1.1857,    140.2,2,   163.30,2,    36.15,2,     0.00,2,  -999.00,9,    0.004,2,    0.012,2, -999.000,9,-999.0000,9,  -999.00,9,   -999.0,9,  -999.00,9,   -999.0,9,   -999.0,9,  -999.0,-999.0000,-999.000,  -999.0,-999.000
   31WTTUNES_1,  P17C,    27,  1,     34,     34,2,19910612,0728, 29.5083,-135.0017, 4478,   4061.7,   1.5006,  34.6808,2,  34.6808,2,    142.6,2,  1.1750,    142.3,2,   161.88,2,    36.21,2,     0.00,2,     2.57,2,    0.003,2,    0.000,2, -999.000,9,-999.0000,9,  -999.00,9,   -999.0,9,  -999.00,9,   -999.0,9,   -999.0,9,  -999.0,-999.0000,-999.000,  -999.0,-999.000
   31WTTUNES_1,  P17C,    27,  1,     35,     35,2,19910612,0728, 29.5083,-135.0017, 4478,   4329.1,   1.5270,  34.6810,2,  34.6814,2,    143.4,2,  1.1708,    142.9,2,   162.67,2,    36.36,2,     0.01,2,     2.57,2, -999.000,9, -999.000,9, -999.000,9,-999.0000,9,  -999.00,9,   -999.0,9,  -999.00,9,   -999.0,9,   -999.0,9,  -999.0,-999.0000,-999.000,  -999.0,-999.000
   31WTTUNES_1,  P17C,    27,  1,     36,     36,2,19910612,0728, 29.5083,-135.0017, 4478,   4557.5,   1.5484,  34.6827,2,  34.6816,2,   -999.0,9,  1.1653,    143.7,2,   161.98,2,    36.47,2,     0.00,2,     2.56,2,    0.004,2,    0.010,2, -999.000,9,-999.0000,9,  -999.00,9,   -999.0,9,  -999.00,9,   -999.0,9,   -999.0,9,  -999.0,-999.0000,-999.000,  -999.0,-999.000