BOTTLE,20220819CCHSIOAMB
EXPOCODE,SECT_ID,STNNBR,CASTNO,SAMPNO,BTLNBR,BTLNBR_FLAG_W,DATE,TIME,LATITUDE,LONGITUDE,DEPTH,CTDPRS,CTDTMP,CTDSAL,CTDSAL_FLAG_W,SALNTY,SALNTY_FLAG_W,CTDOXY,CTDOXY_FLAG_W,THETA,OXYGEN,OXYGEN_FLAG_W,SILCAT,SILCAT_FLAG_W,NITRAT,NITRAT_FLAG_W,NITRIT,NITRIT_FLAG_W,PHSPHT,PHSPHT_FLAG_W,CFC-11,CFC-11_FLAG_W,CFC-12,CFC-12_FLAG_W,TRITUM,TRITUM_FLAG_W,HELIUM,HELIUM_FLAG_W,DELHE3,DELHE3_FLAG_W,DELC14,DELC14_FLAG_W,DELC13,DELC13_FLAG_W,TCARBN,TCARBN_FLAG_W,ALKALI,ALKALI_FLAG_W,C14ERR,HELIER,DELHER,C13ERR,TRITER
,,,,,,,,,,,,DBAR,ITS-90,PSS-78,,PSS-78,,UMOL/KG,,DEG C,UMOL/KG,,UMOL/KG,,UMOL/KG,,UMOL/KG,,UMOL/KG,,PMOL/KG,,PMOL/KG,,TU,,NMOL/KG,,PERCNT,,/MILLE,,/MILLE,,UMOL/KG,,UMOL/KG,,/MILLE,NMOL/KG,PERCNT,/MILLE,TU
   31WTTUNES_1,  P17C,    96,  1,      1,      1,2,19910701,0658,  0.3367,-134.9983, 3551,      0.4,  27.1846,  35.2454,2,  35.2499,2,    193.2,3, 27.1846,    193.8,2,     3.38,2,     5.24,2,     0.44,2,     0.53,2,    1.597,2,    0.934,2, -999.000,9,-999.0000,9,  -999.00,9,   -999.0,9,  -999.00,9,   -999.0,9,   -999.0,9,  -999.0,-999.0000,-999.000,  -999.0,-999.000
   31WTTUNES_1,  P17C,    96,  1,      2,      2,2,19910701,0658,  0.3367,-134.9983, 3551,     25.3,  27.1723,  35.2447,2,  35.2485,2,    195.6,2, 27.1665,    193.3,2,     3.37,2,     5.29,2,     0.44,2,     0.53,2,    1.588,2,    0.901,2, -999.000,9,-999.0000,9,  -999.00,9,   -999.0,9,  -999.00,9,   -999.0,9,   -999.0,9,  -999.0,-999.0000,-999.000,  -999.0,-999.000
   31WTTUNES_1,  P17C,    96,  1,      3,      3,2,19910701,0658,  0.3367,-134.9983, 3551,     50.2,  26.9908,  35.2404,2,  35.2439,2,    187.5,2, 26.9793,    188.1,2,     4.13,2,     5.66,2,     0.46,2,     0.56,2,    1.581,2,    0.908,2, -999.000,9,-999.0000,9,  -999.00,9,   -999.0,9,  -999.00,9,   -999.0,9,   -999.0,9,  -999.0,-999.0000,-999.000,  -999.0,-999.000
   31WTTUNES_1,  P17C,    96,  1,      4,      4,2,19910701,0658,  0.3367,-134.9983, 3551,     68.9,  25.9953,  35.1897,2,  35.2065,2,    162.7,2, 25.9799,    164.6,2,     4.50,2,     7.14,2,     0.50,2,     0.63,2,    1.545,2,    0.869,2, -999.000,9,-999.0000,9,  -999.00,9,   -999.0,9,  -999.00,9,   -999.0,9,   -999.0,9,  -999.0,-999.0000,-999.000,  -999.0,-999.000
   31WTTUNES_1,  P17C,    96,  1,      5,      5,2,19910701,0658,  0.3367,-134.9983, 3551,     91.9,  21.6882,  35.0478,2,  35.0470,2,    130.5,2, 21.6702,    129.6,2,     8.13,2,    11.11,2,     0.06,2,     0.82,2,    1.420,2,    0.791,2, -999.000,9,-999.0000,9,  -999.00,9,   -999.0,9,  -999.00,9,   -999.0,9,   -999.0,9,  -999.0,-999.0000,-999.000,  -999.0,-999.000
   31WTTUNES_1,  P17C,    96,  1,      6,      6,2,19910701,0658,  0.3367,-134.9983, 3551,    102.9,  19.2140,  35.1339,2,  35.1133,2,    129.6,2, 19.1955,    131.8,2,    10.22,2,    12.51,2,     0.03,2,     0.91,2,    1.303,2,    0.725,2, -999.000,9,-999.0000,9,  -999.00,9,   -999.0,9,  -999.00,9,   -999.0,9,   -999.0,9,  -999.0,-999.0000,-999.000,  -999.0,-999.000
   31WTTUNES_1,  P17C,    96,  1,      7,      7,2,19910701,0658,  0.3367,-134.9983, 3551,    110.9,  18.4065,  35.0860,2,  35.0733,2,    130.7,2, 18.3872,    134.7,2,    10.40,2,    12.91,2,     0.02,2,     0.92,2,    1.287,2,    0.726,2, -999.000,9,-999.0000,9,  -999.00,9,   -999.0,9,  -999.00,9,   -999.0,9,   -999.0,9,  -999.0,-999.0000,-999.000,  -999.0,-999.000
   31WTTUNES_1,  P17C,    96,  1,      8,      8,2,19910701,0658,  0.3367,-134.9983, 3551,    125.3,  17.4116,  35.1384,2,  35.0970,2,    134.1,2, 17.3906,    135.5,2,    10.78,2,    13.61,2,     0.01,2,     1.00,2,    1.190,2,    0.668,2, -999.000,9,-999.0000,9,  -999.00,9,   -999.0,9,  -999.00,9,   -999.0,9,   -999.0,9,  -999.0,-999.0000,-999.000,  -999.0,-999.000
   31WTTUNES_1,  P17C,    96,  1,      9,      9,2,19910701,0658,  0.3367,-134.9983, 3551,    147.8,  15.3404,  34.9736,2,  34.9554,2,    132.7,2, 15.3177,    133.3,2,    14.59,2,    16.22,2,     0.00,2,     1.15,2,    1.024,2,    0.561,2, -999.000,9,-999.0000,9,  -999.00,9,   -999.0,9,  -999.00,9,   -999.0,9,   -999.0,9,  -999.0,-999.0000,-999.000,  -999.0,-999.000
   31WTTUNES_1,  P17C,    96,  1,     10,     10,2,19910701,0658,  0.3367,-134.9983, 3551,    179.1,  13.5007,  34.8933,2,  34.8935,2,    119.9,2, 13.4755,    122.4,2,    18.60,2,    19.95,2,     0.00,2,     1.39,2,    0.771,2,    0.425,2, -999.000,9,-999.0000,9,  -999.00,9,   -999.0,9,  -999.00,9,   -999.0,9,   -999.0,9,  -999.0,-999.0000,-999.000,  -999.0,-999.000
   31WTTUNES_1,  P17C,    96,  1,     11,     11,2,19910701,0658,  0.3367,-134.9983, 3551,    199.2,  12.8405,  34.9032,2,  34.9037,2,    114.0,2, 12.8133,    113.0,2,    18.97,2,    21.57,2,     0.00,2,     1.48,2,    0.651,2,    0.353,2, -999.000,9,-999.0000,9,  -999.00,9,   -999.0,9,  -999.00,9,   -999.0,9,   -999.0,9,  -999.0,-999.0000,-999.000,  -999.0,-999.000
   31WTTUNES_1,  P17C,    96,  1,     12,     12,2,19910701,0658,  0.3367,-134.9983, 3551,    227.9,  12.5167,  34.8896,2,  34.8867,2,     98.3,2, 12.4861,     99.2,2,    21.25,2,    23.79,2,     0.00,2,     1.62,2,    0.562,2,    0.294,2, -999.000,9,-999.0000,9,  -999.00,9,   -999.0,9,  -999.00,9,   -999.0,9,   -999.0,9,  -999.0,-999.0000,-999.000,  -999.0,-999.000
   31WTTUNES_1,  P17C,    96,  1,     13,     13,2,19910701,0658,  0.3367,-134.9983, 3551,    261.1,  12.1275,  34.8529,2,  34.8547,2,     66.8,2, 12.0931,     70.9,2,    23.92,2,    27.05,2,     0.00,2,     1.83,2,    0.409,2,    0.223,2, -999.000,9,-999.0000,9,  -999.00,9,   -999.0,9,  -999.00,9,   -999.0,9,   -999.0,9,  -999.0,-999.0000,-999.000,  -999.0,-999.000
   31WTTUNES_1,  P17C,    96,  1,     14,     14,2,19910701,0658,  0.3367,-134.9983, 3551,    306.1,  11.6742,  34.8244,2,  34.8256,2,     35.9,2, 11.6349,     34.6,2,    27.92,2,    31.34,2,     0.00,2,     2.12,2,    0.251,2,    0.264,3, -999.000,9,-999.0000,9,  -999.00,9,   -999.0,9,  -999.00,9,   -999.0,9,   -999.0,9,  -999.0,-999.0000,-999.000,  -999.0,-999.000
   31WTTUNES_1,  P17C,    96,  1,     15,     15,2,19910701,0658,  0.3367,-134.9983, 3551,    350.5,  10.3833,  34.7475,2,  34.7485,2,     19.0,2, 10.3415,     20.5,2,    34.99,2,    34.88,2,     0.00,2,     2.35,2,    0.101,2,    0.137,3, -999.000,9,-999.0000,9,  -999.00,9,   -999.0,9,  -999.00,9,   -999.0,9,   -999.0,9,  -999.0,-999.0000,-999.000,  -999.0,-999.000
   31WTTUNES_1,  P17C,    96,  1,     16,     16,2,19910701,0658,  0.3367,-134.9983, 3551,    396.1,   9.7533,  34.7147,2,  34.7172,2,     20.2,2,  9.7077,     20.0,2,    36.89,2,    36.26,2,     0.00,2,     2.43,2,    0.060,2,    0.118,3, -999.000,9,-999.0000,9,  -999.00,9,   -999.0,9,  -999.00,9,   -999.0,9,   -999.0,9,  -999.0,-999.0000,-999.000,  -999.0,-999.000
   31WTTUNES_1,  P17C,    96,  1,     17,     17,2,19910701,0658,  0.3367,-134.9983, 3551,    509.5,   8.1016,  34.6255,2,  34.6268,2,     41.2,2,  8.0489,     41.4,2,    43.18,2,    37.86,2,     0.00,2,     2.55,2,    0.017,2,    0.060,2, -999.000,9,-999.0000,9,  -999.00,9,   -999.0,9,  -999.00,9,   -999.0,9,   -999.0,9,  -999.0,-999.0000,-999.000,  -999.0,-999.000
   31WTTUNES_1,  P17C,    96,  1,     18,     18,2,19910701,0658,  0.3367,-134.9983, 3551,    599.6,   6.9675,  34.5757,2,  34.5775,2,     59.2,2,  6.9102,     60.3,2,    50.63,2,    38.18,2,     0.00,2,     2.59,2,    0.011,2,    0.090,3, -999.000,9,-999.0000,9,  -999.00,9,   -999.0,9,  -999.00,9,   -999.0,9,   -999.0,9,  -999.0,-999.0000,-999.000,  -999.0,-999.000
   31WTTUNES_1,  P17C,    96,  1,     19,     19,2,19910701,0658,  0.3367,-134.9983, 3551,    652.4,   6.7469,  34.5693,2,  34.5714,2,     60.5,2,  6.6854,     61.3,2,    52.72,2,    38.49,2,     0.00,2,     2.61,2,    0.007,2,    0.004,2, -999.000,9,-999.0000,9,  -999.00,9,   -999.0,9,  -999.00,9,   -999.0,9,   -999.0,9,  -999.0,-999.0000,-999.000,  -999.0,-999.000
   31WTTUNES_1,  P17C,    96,  1,     20,     20,2,19910701,0658,  0.3367,-134.9983, 3551,    700.6,   6.1891,  34.5564,2,  34.5590,2,     62.2,2,  6.1258,     65.0,2,    59.97,2,    39.27,2,     0.00,2,     2.66,2,    0.006,2,    0.004,2, -999.000,9,-999.0000,9,  -999.00,9,   -999.0,9,  -999.00,9,   -999.0,9,   -999.0,9,  -999.0,-999.0000,-999.000,  -999.0,-999.000
   31WTTUNES_1,  P17C,    96,  1,     21,     21,2,19910701,0658,  0.3367,-134.9983, 3551,    807.7,   5.3041,  34.5452,2,  34.5476,2,     76.3,2,  5.2360,     76.8,2,    71.99,2,    39.02,2,     0.00,2,     2.68,2,    0.001,2,    0.002,2, -999.000,9,-999.0000,9,  -999.00,9,   -999.0,9,  -999.00,9,   -999.0,9,   -999.0,9,  -999.0,-999.0000,-999.000,  -999.0,-999.000
   31WTTUNES_1,  P17C,    96,  1,     22,     22,2,19910701,0658,  0.3367,-134.9983, 3551,    913.9,   4.8185,  34.5487,2,  34.5519,2,     78.6,2,  4.7441,     79.6,2,    80.95,2,    39.44,2,     0.00,2,     2.69,2, -999.000,9, -999.000,9, -999.000,9,-999.0000,9,  -999.00,9,   -999.0,9,  -999.00,9,   -999.0,9,   -999.0,9,  -999.0,-999.0000,-999.000,  -999.0,-999.000
   31WTTUNES_1,  P17C,    96,  1,     23,     23,2,19910701,0658,  0.3367,-134.9983, 3551,   1010.5,   4.4707,  34.5560,2,  34.5576,2,     80.1,2,  4.3904,     81.1,2,    88.77,2,    39.54,2,     0.00,2,     2.72,2, -999.000,9, -999.000,9, -999.000,9,-999.0000,9,  -999.00,9,   -999.0,9,  -999.00,9,   -999.0,9,   -999.0,9,  -999.0,-999.0000,-999.000,  -999.0,-999.000
   31WTTUNES_1,  P17C,    96,  1,     24,     24,2,19910701,0658,  0.3367,-134.9983, 3551,   1209.7,   3.7168,  34.5779,2,  34.5796,2,     83.0,2,  3.6258,     82.8,2,   106.90,2,    40.02,2,     0.00,2,     2.76,2, -999.000,9, -999.000,9, -999.000,9,-999.0000,9,  -999.00,9,   -999.0,9,  -999.00,9,   -999.0,9,   -999.0,9,  -999.0,-999.0000,-999.000,  -999.0,-999.000
   31WTTUNES_1,  P17C,    96,  1,     25,     25,2,19910701,0658,  0.3367,-134.9983, 3551,   1412.0,   3.2588,  34.5945,2,  34.5959,2,     88.4,2,  3.1554,     88.2,2,   117.20,2,    39.86,2,     0.00,2,     2.73,2, -999.000,9, -999.000,9, -999.000,9,-999.0000,9,  -999.00,9,   -999.0,9,  -999.00,9,   -999.0,9,   -999.0,9,  -999.0,-999.0000,-999.000,  -999.0,-999.000
   31WTTUNES_1,  P17C,    96,  1,     26,     26,2,19910701,0658,  0.3367,-134.9983, 3551,   1611.8,   2.8606,  34.6109,2,  34.6116,2,     93.8,2,  2.7450,     94.6,2,   126.35,2,    39.44,2,     0.00,2,     2.70,2, -999.000,9, -999.000,9, -999.000,9,-999.0000,9,  -999.00,9,   -999.0,9,  -999.00,9,   -999.0,9,   -999.0,9,  -999.0,-999.0000,-999.000,  -999.0,-999.000
   31WTTUNES_1,  P17C,    96,  1,     27,     27,2,19910701,0658,  0.3367,-134.9983, 3551,   1820.9,   2.4418,  34.6309,2,  34.6326,2,    102.3,2,  2.3140,    101.6,2,   136.45,2,    38.97,2,     0.00,2,     2.65,2, -999.000,9, -999.000,9, -999.000,9,-999.0000,9,  -999.00,9,   -999.0,9,  -999.00,9,   -999.0,9,   -999.0,9,  -999.0,-999.0000,-999.000,  -999.0,-999.000
   31WTTUNES_1,  P17C,    96,  1,     28,     28,2,19910701,0658,  0.3367,-134.9983, 3551,   2025.6,   2.1692,  34.6465,2,  34.6469,2,    108.7,2,  2.0280,    108.3,2,   142.73,2,    38.51,2,     0.00,2,     2.61,2, -999.000,9, -999.000,9, -999.000,9,-999.0000,9,  -999.00,9,   -999.0,9,  -999.00,9,   -999.0,9,   -999.0,9,  -999.0,-999.0000,-999.000,  -999.0,-999.000
   31WTTUNES_1,  P17C,    96,  1,     29,     29,2,19910701,0658,  0.3367,-134.9983, 3551,   2229.3,   1.9435,  34.6569,2,  34.6581,2,    116.4,2,  1.7883,    117.2,2,   145.96,2,    37.99,2,     0.00,2,     2.56,2, -999.000,9, -999.000,9, -999.000,9,-999.0000,9,  -999.00,9,   -999.0,9,  -999.00,9,   -999.0,9,   -999.0,9,  -999.0,-999.0000,-999.000,  -999.0,-999.000
   31WTTUNES_1,  P17C,    96,  1,     30,     30,2,19910701,0658,  0.3367,-134.9983, 3551,   2437.0,   1.8314,  34.6650,2,  34.6652,2,    123.1,2,  1.6598,    123.4,2,   148.04,2,    37.58,2,     0.00,2,     2.52,2, -999.000,9, -999.000,9, -999.000,9,-999.0000,9,  -999.00,9,   -999.0,9,  -999.00,9,   -999.0,9,   -999.0,9,  -999.0,-999.0000,-999.000,  -999.0,-999.000
   31WTTUNES_1,  P17C,    96,  1,     31,     31,2,19910701,0658,  0.3367,-134.9983, 3551,   2640.3,   1.7791,  34.6685,2,  34.6689,2,    126.2,2,  1.5901,    126.2,2,   149.36,2,    37.42,2,     0.00,2,     2.50,2, -999.000,9, -999.000,9, -999.000,9,-999.0000,9,  -999.00,9,   -999.0,9,  -999.00,9,   -999.0,9,   -999.0,9,  -999.0,-999.0000,-999.000,  -999.0,-999.000
   31WTTUNES_1,  P17C,    96,  1,     32,     32,2,19910701,0658,  0.3367,-134.9983, 3551,   2886.6,   1.7141,  34.6720,2,  34.6724,2,    132.4,2,  1.5034,    131.6,2,   148.58,2,    36.96,2,     0.00,2,     2.47,2, -999.000,9, -999.000,9, -999.000,9,-999.0000,9,  -999.00,9,   -999.0,9,  -999.00,9,   -999.0,9,   -999.0,9,  -999.0,-999.0000,-999.000,  -999.0,-999.000
   31WTTUNES_1,  P17C,    96,  1,     33,     33,2,19910701,0658,  0.3367,-134.9983, 3551,   3126.3,   1.6328,  34.6763,2,  34.6763,2,    138.3,2,  1.4009,    138.7,2,   147.61,2,    36.65,2,     0.00,2,     2.44,2, -999.000,9, -999.000,9, -999.000,9,-999.0000,9,  -999.00,9,   -999.0,9,  -999.00,9,   -999.0,9,   -999.0,9,  -999.0,-999.0000,-999.000,  -999.0,-999.000
   31WTTUNES_1,  P17C,    96,  1,     34,     34,2,19910701,0658,  0.3367,-134.9983, 3551,   3395.4,   1.5714,  34.6825,2,  34.6816,2,    144.5,2,  1.3141,    143.9,2,   148.16,2,    36.40,2,     0.00,2,     2.42,2, -999.000,9, -999.000,9, -999.000,9,-999.0000,9,  -999.00,9,   -999.0,9,  -999.00,9,   -999.0,9,   -999.0,9,  -999.0,-999.0000,-999.000,  -999.0,-999.000
   31WTTUNES_1,  P17C,    96,  1,     35,     35,2,19910701,0658,  0.3367,-134.9983, 3551,   3657.4,   1.4571,  34.6908,2,  34.6895,2,    153.0,2,  1.1758,    153.4,2,   148.53,2,    35.84,2,     0.00,2,     2.36,2, -999.000,9, -999.000,9, -999.000,9,-999.0000,9,  -999.00,9,   -999.0,9,  -999.00,9,   -999.0,9,   -999.0,9,  -999.0,-999.0000,-999.000,  -999.0,-999.000
   31WTTUNES_1,  P17C,    96,  1,     36,     36,2,19910701,0658,  0.3367,-134.9983, 3551,   3952.9,   1.4068,  34.6937,2,  34.6936,2,   -999.0,9,  1.0955,    159.7,2,   145.84,2,    35.27,2,     0.00,2,     2.33,2, -999.000,9, -999.000,9, -999.000,9,-999.0000,9,  -999.00,9,   -999.0,9,  -999.00,9,   -999.0,9,   -999.0,9,  -999.0,-999.0000,-999.000,  -999.0,-999.000
   31WTTUNES_1,  P17C,    97,  1,     61,     61,2,19910701,1130,  0.1650,-135.0533, 3401,      3.2,  27.1252,  35.2650,2,  35.2668,2,   -999.0,9, 27.1244,   -999.0,9,  -999.00,9,  -999.00,9,  -999.00,9,  -999.00,9, -999.000,9, -999.000,9, -999.000,9,-999.0000,9,  -999.00,9,   -999.0,9,  -999.00,9,   -999.0,9,   -999.0,9,  -999.0,-999.0000,-999.000,  -999.0,-999.000
   31WTTUNES_1,  P17C,    97,  1,     62,     62,2,19910701,1130,  0.1650,-135.0533, 3401,     19.3,  27.1274,  35.2642,2,  35.2666,2,   -999.0,9, 27.1229,   -999.0,9,  -999.00,9,  -999.00,9,  -999.00,9,  -999.00,9, -999.000,9, -999.000,9, -999.000,9,-999.0000,9,  -999.00,9,   -999.0,9,  -999.00,9,   -999.0,9,   -999.0,9,  -999.0,-999.0000,-999.000,  -999.0,-999.000
   31WTTUNES_1,  P17C,    97,  1,     63,     63,2,19910701,1130,  0.1650,-135.0533, 3401,    257.7,  12.0901,  34.8537,2,  34.8544,2,   -999.0,9, 12.0563,   -999.0,9,  -999.00,9,  -999.00,9,  -999.00,9,  -999.00,9, -999.000,9, -999.000,9, -999.000,9,-999.0000,9,  -999.00,9,   -999.0,9,  -999.00,9,   -999.0,9,   -999.0,9,  -999.0,-999.0000,-999.000,  -999.0,-999.000
   31WTTUNES_1,  P17C,    97,  1,     64,     64,2,19910701,1130,  0.1650,-135.0533, 3401,    820.1,   5.2542,  34.5457,2,  34.5478,2,   -999.0,9,  5.1853,   -999.0,9,  -999.00,9,  -999.00,9,  -999.00,9,  -999.00,9, -999.000,9, -999.000,9, -999.000,9,-999.0000,9,  -999.00,9,   -999.0,9,  -999.00,9,   -999.0,9,   -999.0,9,  -999.0,-999.0000,-999.000,  -999.0,-999.000
   31WTTUNES_1,  P17C,    97,  1,     65,     65,2,19910701,1130,  0.1650,-135.0533, 3401,    922.3,   4.8058,  34.5490,2,  34.5519,2,   -999.0,9,  4.7308,   -999.0,9,  -999.00,9,  -999.00,9,  -999.00,9,  -999.00,9, -999.000,9, -999.000,9, -999.000,9,-999.0000,9,  -999.00,9,   -999.0,9,  -999.00,9,   -999.0,9,   -999.0,9,  -999.0,-999.0000,-999.000,  -999.0,-999.000
   31WTTUNES_1,  P17C,    97,  1,     66,     66,2,19910701,1130,  0.1650,-135.0533, 3401,   1024.9,   4.4439,  34.5557,2,  34.5596,2,   -999.0,9,  4.3626,   -999.0,9,  -999.00,9,  -999.00,9,  -999.00,9,  -999.00,9, -999.000,9, -999.000,9, -999.000,9,-999.0000,9,  -999.00,9,   -999.0,9,  -999.00,9,   -999.0,9,   -999.0,9,  -999.0,-999.0000,-999.000,  -999.0,-999.000
   31WTTUNES_1,  P17C,    97,  1,     67,     67,2,19910701,1130,  0.1650,-135.0533, 3401,   1535.6,   2.9766,  34.6031,2,  34.6059,2,   -999.0,9,  2.8660,   -999.0,9,  -999.00,9,  -999.00,9,  -999.00,9,  -999.00,9, -999.000,9, -999.000,9, -999.000,9,-999.0000,9,  -999.00,9,   -999.0,9,  -999.00,9,   -999.0,9,   -999.0,9,  -999.0,-999.0000,-999.000,  -999.0,-999.000
   31WTTUNES_1,  P17C,    97,  1,     68,     68,2,19910701,1130,  0.1650,-135.0533, 3401,   2043.7,   2.2509,  34.6411,2,  34.6433,2,   -999.0,9,  2.1069,   -999.0,9,  -999.00,9,  -999.00,9,  -999.00,9,  -999.00,9, -999.000,9, -999.000,9, -999.000,9,-999.0000,9,  -999.00,9,   -999.0,9,  -999.00,9,   -999.0,9,   -999.0,9,  -999.0,-999.0000,-999.000,  -999.0,-999.000
   31WTTUNES_1,  P17C,    97,  1,     69,     69,2,19910701,1130,  0.1650,-135.0533, 3401,   2558.0,   1.8738,  34.6618,2,  34.6629,2,   -999.0,9,  1.6906,   -999.0,9,  -999.00,9,  -999.00,9,  -999.00,9,  -999.00,9, -999.000,9, -999.000,9, -999.000,9,-999.0000,9,  -999.00,9,   -999.0,9,  -999.00,9,   -999.0,9,   -999.0,9,  -999.0,-999.0000,-999.000,  -999.0,-999.000
   31WTTUNES_1,  P17C,    97,  1,     70,     70,2,19910701,1130,  0.1650,-135.0533, 3401,   3075.8,   1.6218,  34.6752,2,  34.6771,2,   -999.0,9,  1.3950,   -999.0,9,  -999.00,9,  -999.00,9,  -999.00,9,  -999.00,9, -999.000,9, -999.000,9, -999.000,9,-999.0000,9,  -999.00,9,   -999.0,9,  -999.00,9,   -999.0,9,   -999.0,9,  -999.0,-999.0000,-999.000,  -999.0,-999.000
   31WTTUNES_1,  P17C,    97,  1,     71,     71,2,19910701,1130,  0.1650,-135.0533, 3401,   3443.8,   1.5374,  34.6827,2,  34.6834,2,   -999.0,9,  1.2761,   -999.0,9,  -999.00,9,  -999.00,9,  -999.00,9,  -999.00,9, -999.000,9, -999.000,9, -999.000,9,-999.0000,9,  -999.00,9,   -999.0,9,  -999.00,9,   -999.0,9,   -999.0,9,  -999.0,-999.0000,-999.000,  -999.0,-999.000