BOTTLE,20220819CCHSIOAMB
EXPOCODE,SECT_ID,STNNBR,CASTNO,SAMPNO,BTLNBR,BTLNBR_FLAG_W,DATE,TIME,LATITUDE,LONGITUDE,DEPTH,CTDPRS,CTDTMP,CTDSAL,CTDSAL_FLAG_W,SALNTY,SALNTY_FLAG_W,CTDOXY,CTDOXY_FLAG_W,THETA,OXYGEN,OXYGEN_FLAG_W,SILCAT,SILCAT_FLAG_W,NITRAT,NITRAT_FLAG_W,NITRIT,NITRIT_FLAG_W,PHSPHT,PHSPHT_FLAG_W,CFC-11,CFC-11_FLAG_W,CFC-12,CFC-12_FLAG_W,TRITUM,TRITUM_FLAG_W,HELIUM,HELIUM_FLAG_W,DELHE3,DELHE3_FLAG_W,DELC14,DELC14_FLAG_W,DELC13,DELC13_FLAG_W,TCARBN,TCARBN_FLAG_W,ALKALI,ALKALI_FLAG_W,C14ERR,HELIER,DELHER,C13ERR,TRITER
,,,,,,,,,,,,DBAR,ITS-90,PSS-78,,PSS-78,,UMOL/KG,,DEG C,UMOL/KG,,UMOL/KG,,UMOL/KG,,UMOL/KG,,UMOL/KG,,PMOL/KG,,PMOL/KG,,TU,,NMOL/KG,,PERCNT,,/MILLE,,/MILLE,,UMOL/KG,,UMOL/KG,,/MILLE,NMOL/KG,PERCNT,/MILLE,TU
   31WTTUNES_1,  P17C,    99,  1,     61,     61,2,19910702,0802, -0.1633,-135.1667, 4223,      2.2,  27.3135,  35.3672,2,  35.3677,2,   -999.0,9, 27.3130,   -999.0,9,  -999.00,9,  -999.00,9,  -999.00,9,  -999.00,9, -999.000,9, -999.000,9, -999.000,9,-999.0000,9,  -999.00,9,   -999.0,9,  -999.00,9,   -999.0,9,   -999.0,9,  -999.0,-999.0000,-999.000,  -999.0,-999.000
   31WTTUNES_1,  P17C,    99,  1,     62,     62,2,19910702,0802, -0.1633,-135.1667, 4223,     26.4,  27.2555,  35.3682,2,  35.3672,2,   -999.0,9, 27.2494,   -999.0,9,  -999.00,9,  -999.00,9,  -999.00,9,  -999.00,9, -999.000,9, -999.000,9, -999.000,9,-999.0000,9,  -999.00,9,   -999.0,9,  -999.00,9,   -999.0,9,   -999.0,9,  -999.0,-999.0000,-999.000,  -999.0,-999.000
   31WTTUNES_1,  P17C,    99,  1,     63,     63,2,19910702,0802, -0.1633,-135.1667, 4223,    205.3,  13.3682,  34.9086,2,  34.9097,2,   -999.0,9, 13.3395,   -999.0,9,  -999.00,9,  -999.00,9,  -999.00,9,  -999.00,9, -999.000,9, -999.000,9, -999.000,9,-999.0000,9,  -999.00,9,   -999.0,9,  -999.00,9,   -999.0,9,   -999.0,9,  -999.0,-999.0000,-999.000,  -999.0,-999.000
   31WTTUNES_1,  P17C,    99,  1,     64,     64,2,19910702,0802, -0.1633,-135.1667, 4223,    408.7,   9.1100,  34.6834,2,  34.6805,2,   -999.0,9,  9.0649,   -999.0,9,  -999.00,9,  -999.00,9,  -999.00,9,  -999.00,9, -999.000,9, -999.000,9, -999.000,9,-999.0000,9,  -999.00,9,   -999.0,9,  -999.00,9,   -999.0,9,   -999.0,9,  -999.0,-999.0000,-999.000,  -999.0,-999.000
   31WTTUNES_1,  P17C,    99,  1,     65,     65,2,19910702,0802, -0.1633,-135.1667, 4223,    605.0,   7.0625,  34.5825,2,  34.5823,2,   -999.0,9,  7.0042,   -999.0,9,  -999.00,9,  -999.00,9,  -999.00,9,  -999.00,9, -999.000,9, -999.000,9, -999.000,9,-999.0000,9,  -999.00,9,   -999.0,9,  -999.00,9,   -999.0,9,   -999.0,9,  -999.0,-999.0000,-999.000,  -999.0,-999.000
   31WTTUNES_1,  P17C,    99,  1,     66,     66,2,19910702,0802, -0.1633,-135.1667, 4223,    791.8,   5.5337,  34.5507,2,  34.5509,2,   -999.0,9,  5.4656,   -999.0,9,  -999.00,9,  -999.00,9,  -999.00,9,  -999.00,9, -999.000,9, -999.000,9, -999.000,9,-999.0000,9,  -999.00,9,   -999.0,9,  -999.00,9,   -999.0,9,   -999.0,9,  -999.0,-999.0000,-999.000,  -999.0,-999.000
   31WTTUNES_1,  P17C,    99,  1,     67,     67,3,19910702,0802, -0.1633,-135.1667, 4223,   1001.0,   4.3666,  34.5601,2,  34.5831,4,   -999.0,9,  4.2879,   -999.0,9,  -999.00,9,  -999.00,9,  -999.00,9,  -999.00,9, -999.000,9, -999.000,9, -999.000,9,-999.0000,9,  -999.00,9,   -999.0,9,  -999.00,9,   -999.0,9,   -999.0,9,  -999.0,-999.0000,-999.000,  -999.0,-999.000
   31WTTUNES_1,  P17C,    99,  1,     68,     68,2,19910702,0802, -0.1633,-135.1667, 4223,   2006.4,   2.2964,  34.6402,2,  34.6415,2,   -999.0,9,  2.1548,   -999.0,9,  -999.00,9,  -999.00,9,  -999.00,9,  -999.00,9, -999.000,9, -999.000,9, -999.000,9,-999.0000,9,  -999.00,9,   -999.0,9,  -999.00,9,   -999.0,9,   -999.0,9,  -999.0,-999.0000,-999.000,  -999.0,-999.000
   31WTTUNES_1,  P17C,    99,  1,     69,     69,3,19910702,0802, -0.1633,-135.1667, 4223,   3032.4,   1.6909,  34.6743,2,  34.6594,4,   -999.0,9,  1.4668,   -999.0,9,  -999.00,9,  -999.00,9,  -999.00,9,  -999.00,9, -999.000,9, -999.000,9, -999.000,9,-999.0000,9,  -999.00,9,   -999.0,9,  -999.00,9,   -999.0,9,   -999.0,9,  -999.0,-999.0000,-999.000,  -999.0,-999.000
   31WTTUNES_1,  P17C,    99,  1,     70,     70,2,19910702,0802, -0.1633,-135.1667, 4223,   4056.9,   1.4111,  34.6933,2,  34.6938,2,   -999.0,9,  1.0885,   -999.0,9,  -999.00,9,  -999.00,9,  -999.00,9,  -999.00,9, -999.000,9, -999.000,9, -999.000,9,-999.0000,9,  -999.00,9,   -999.0,9,  -999.00,9,   -999.0,9,   -999.0,9,  -999.0,-999.0000,-999.000,  -999.0,-999.000
   31WTTUNES_1,  P17C,    99,  1,     71,     71,2,19910702,0802, -0.1633,-135.1667, 4223,   4285.9,   1.4231,  34.6941,2,  34.6940,2,   -999.0,9,  1.0748,   -999.0,9,  -999.00,9,  -999.00,9,  -999.00,9,  -999.00,9, -999.000,9, -999.000,9, -999.000,9,-999.0000,9,  -999.00,9,   -999.0,9,  -999.00,9,   -999.0,9,   -999.0,9,  -999.0,-999.0000,-999.000,  -999.0,-999.000
   31WTTUNES_1,  P17C,   100,  1,      1,      1,2,19910702,1216, -0.3317,-135.0000, 4236,      0.2,  27.1938,  35.3645,2,  35.3683,2,    194.8,3, 27.1937,    196.9,2,     2.99,2,     5.39,2,     0.48,2,     0.57,2,    1.642,2,    0.937,2, -999.000,9,-999.0000,9,  -999.00,9,   -999.0,9,  -999.00,9,   -999.0,9,   -999.0,9,  -999.0,-999.0000,-999.000,  -999.0,-999.000
   31WTTUNES_1,  P17C,   100,  1,      2,      2,2,19910702,1216, -0.3317,-135.0000, 4236,     64.2,  25.6722,  35.4361,2,  35.4381,2,    169.9,2, 25.6580,    169.6,2,     3.33,2,     7.69,2,     0.67,2,     0.71,2,    1.606,2,    0.901,2, -999.000,9,-999.0000,9,  -999.00,9,   -999.0,9,  -999.00,9,   -999.0,9,   -999.0,9,  -999.0,-999.0000,-999.000,  -999.0,-999.000
   31WTTUNES_1,  P17C,   100,  1,      3,      3,2,19910702,1216, -0.3317,-135.0000, 4236,     78.0,  23.7417,  35.5700,2,  35.5584,2,    134.4,2, 23.7253,    136.4,2,     4.63,2,    10.32,2,     0.09,2,     0.82,2,    1.493,2,    0.835,2, -999.000,9,-999.0000,9,  -999.00,9,   -999.0,9,  -999.00,9,   -999.0,9,   -999.0,9,  -999.0,-999.0000,-999.000,  -999.0,-999.000
   31WTTUNES_1,  P17C,   100,  1,      4,      4,2,19910702,1216, -0.3317,-135.0000, 4236,     85.9,  21.9327,  35.5259,2,  35.5032,2,    128.6,2, 21.9157,    131.9,2,     5.92,2,    11.30,2,     0.04,2,     0.87,2,    1.419,2,    0.805,2, -999.000,9,-999.0000,9,  -999.00,9,   -999.0,9,  -999.00,9,   -999.0,9,   -999.0,9,  -999.0,-999.0000,-999.000,  -999.0,-999.000
   31WTTUNES_1,  P17C,   100,  1,      5,      5,2,19910702,1216, -0.3317,-135.0000, 4236,     94.9,  20.1546,  35.3319,2,  35.3328,2,    129.6,2, 20.1370,    129.1,2,     6.46,2,    11.81,2,     0.02,2,     0.89,2,    1.337,2,    0.729,2, -999.000,9,-999.0000,9,  -999.00,9,   -999.0,9,  -999.00,9,   -999.0,9,   -999.0,9,  -999.0,-999.0000,-999.000,  -999.0,-999.000
   31WTTUNES_1,  P17C,   100,  1,      6,      6,2,19910702,1216, -0.3317,-135.0000, 4236,    102.1,  19.8095,  35.2959,2,  35.2993,2,    129.2,2, 19.7908,    129.9,2,     6.81,2,    11.97,2,     0.01,2,     0.90,2,    1.333,2,    0.731,2, -999.000,9,-999.0000,9,  -999.00,9,   -999.0,9,  -999.00,9,   -999.0,9,   -999.0,9,  -999.0,-999.0000,-999.000,  -999.0,-999.000
   31WTTUNES_1,  P17C,   100,  1,      7,      7,2,19910702,1216, -0.3317,-135.0000, 4236,    119.2,  18.6326,  35.3067,2,  35.3121,2,    134.6,2, 18.6117,    131.5,2,     6.78,2,    12.55,2,     0.01,2,     0.93,2,    1.233,2,    0.677,2, -999.000,9,-999.0000,9,  -999.00,9,   -999.0,9,  -999.00,9,   -999.0,9,   -999.0,9,  -999.0,-999.0000,-999.000,  -999.0,-999.000
   31WTTUNES_1,  P17C,   100,  1,      8,      8,2,19910702,1216, -0.3317,-135.0000, 4236,    137.3,  17.4758,  35.2815,2,  35.2812,2,    135.5,2, 17.4527,    134.0,2,     8.26,2,    13.39,2,     0.01,2,     0.99,2,    1.139,2,    0.627,2, -999.000,9,-999.0000,9,  -999.00,9,   -999.0,9,  -999.00,9,   -999.0,9,   -999.0,9,  -999.0,-999.0000,-999.000,  -999.0,-999.000
   31WTTUNES_1,  P17C,   100,  1,      9,      9,2,19910702,1216, -0.3317,-135.0000, 4236,    176.8,  14.4664,  35.0465,2,  35.0492,2,    131.7,2, 14.4403,    129.5,2,    12.94,2,    17.46,2,     0.01,2,     1.25,2,    0.875,2,    0.477,2, -999.000,9,-999.0000,9,  -999.00,9,   -999.0,9,  -999.00,9,   -999.0,9,   -999.0,9,  -999.0,-999.0000,-999.000,  -999.0,-999.000
   31WTTUNES_1,  P17C,   100,  1,     10,     10,2,19910702,1216, -0.3317,-135.0000, 4236,    213.8,  13.0544,  34.9456,2,  34.9392,2,    120.9,2, 13.0249,    109.0,2,    17.62,2,    21.93,2,     0.00,2,     1.52,2,    0.626,2,    0.343,2, -999.000,9,-999.0000,9,  -999.00,9,   -999.0,9,  -999.00,9,   -999.0,9,   -999.0,9,  -999.0,-999.0000,-999.000,  -999.0,-999.000
   31WTTUNES_1,  P17C,   100,  1,     11,     11,2,19910702,1216, -0.3317,-135.0000, 4236,    259.3,  12.0318,  34.8485,2,  34.8497,2,     68.6,2, 11.9979,     61.6,2,    24.00,2,    28.10,2,     0.00,2,     1.91,2,    0.365,2,    0.205,2, -999.000,9,-999.0000,9,  -999.00,9,   -999.0,9,  -999.00,9,   -999.0,9,   -999.0,9,  -999.0,-999.0000,-999.000,  -999.0,-999.000
   31WTTUNES_1,  P17C,   100,  1,     12,     12,2,19910702,1216, -0.3317,-135.0000, 4236,    314.3,  10.8786,  34.7743,2,  34.7762,2,     21.7,2, 10.8400,     21.3,2,    32.26,2,    33.96,2,     0.00,2,     2.30,2,    0.144,2,    0.086,2, -999.000,9,-999.0000,9,  -999.00,9,   -999.0,9,  -999.00,9,   -999.0,9,   -999.0,9,  -999.0,-999.0000,-999.000,  -999.0,-999.000
   31WTTUNES_1,  P17C,   100,  1,     13,     13,2,19910702,1216, -0.3317,-135.0000, 4236,    382.2,   9.8904,  34.7244,2,  34.7252,2,     17.4,2,  9.8461,     18.3,2,    35.44,2,    36.09,2,     0.00,2,     2.43,2,    0.066,2,    0.040,2, -999.000,9,-999.0000,9,  -999.00,9,   -999.0,9,  -999.00,9,   -999.0,9,   -999.0,9,  -999.0,-999.0000,-999.000,  -999.0,-999.000
   31WTTUNES_1,  P17C,   100,  1,     14,     14,2,19910702,1216, -0.3317,-135.0000, 4236,    423.2,   9.0341,  34.6755,2,  34.6767,2,     23.1,2,  8.9877,     24.9,2,    38.80,2,    37.48,2,     0.00,2,     2.51,2,    0.033,2,    0.022,2, -999.000,9,-999.0000,9,  -999.00,9,   -999.0,9,  -999.00,9,   -999.0,9,   -999.0,9,  -999.0,-999.0000,-999.000,  -999.0,-999.000
   31WTTUNES_1,  P17C,   100,  1,     15,     15,2,19910702,1216, -0.3317,-135.0000, 4236,    505.2,   7.9780,  34.6205,2,  34.6213,2,     41.5,2,  7.9262,     44.0,2,    43.86,2,    37.90,2,     0.00,2,     2.56,2,    0.020,2,    0.014,2, -999.000,9,-999.0000,9,  -999.00,9,   -999.0,9,  -999.00,9,   -999.0,9,   -999.0,9,  -999.0,-999.0000,-999.000,  -999.0,-999.000
   31WTTUNES_1,  P17C,   100,  1,     16,     16,2,19910702,1216, -0.3317,-135.0000, 4236,    606.1,   7.1030,  34.5819,2,  34.5834,2,     53.9,2,  7.0445,     56.7,2,    49.49,2,    38.21,2,     0.00,2,     2.60,2,    0.009,2,    0.012,2, -999.000,9,-999.0000,9,  -999.00,9,   -999.0,9,  -999.00,9,   -999.0,9,   -999.0,9,  -999.0,-999.0000,-999.000,  -999.0,-999.000
   31WTTUNES_1,  P17C,   100,  1,     17,     17,2,19910702,1216, -0.3317,-135.0000, 4236,    708.8,   6.2708,  34.5580,2,  34.5604,2,     61.4,2,  6.2063,     63.1,2,    58.32,2,    39.25,2,     0.00,2,     2.68,2,    0.005,2,    0.007,2, -999.000,9,-999.0000,9,  -999.00,9,   -999.0,9,  -999.00,9,   -999.0,9,   -999.0,9,  -999.0,-999.0000,-999.000,  -999.0,-999.000
   31WTTUNES_1,  P17C,   100,  1,     18,     18,2,19910702,1216, -0.3317,-135.0000, 4236,    806.4,   5.4986,  34.5475,2,  34.5486,2,     73.0,2,  5.4294,     73.6,2,    68.84,2,    39.25,2,     0.00,2,     2.69,2,    0.001,2,    0.010,2, -999.000,9,-999.0000,9,  -999.00,9,   -999.0,9,  -999.00,9,   -999.0,9,   -999.0,9,  -999.0,-999.0000,-999.000,  -999.0,-999.000
   31WTTUNES_1,  P17C,   100,  1,     19,     19,2,19910702,1216, -0.3317,-135.0000, 4236,    908.5,   4.8732,  34.5486,2,  34.5506,2,     78.3,2,  4.7989,     81.8,2,    79.36,2,    39.30,2,     0.00,2,     2.71,2,    0.001,2,    0.003,2, -999.000,9,-999.0000,9,  -999.00,9,   -999.0,9,  -999.00,9,   -999.0,9,   -999.0,9,  -999.0,-999.0000,-999.000,  -999.0,-999.000
   31WTTUNES_1,  P17C,   100,  1,     20,     20,2,19910702,1216, -0.3317,-135.0000, 4236,   1011.6,   4.3747,  34.5579,2,  34.5606,2,     79.4,2,  4.2950,     81.6,2,    89.32,2,    39.66,2,     0.00,2,     2.73,2,    0.003,2,    0.011,2, -999.000,9,-999.0000,9,  -999.00,9,   -999.0,9,  -999.00,9,   -999.0,9,   -999.0,9,  -999.0,-999.0000,-999.000,  -999.0,-999.000
   31WTTUNES_1,  P17C,   100,  1,     21,     21,2,19910702,1216, -0.3317,-135.0000, 4236,   1215.7,   3.7061,  34.5778,2,  34.5789,2,     83.7,2,  3.6147,     85.1,2,   105.68,2,    39.77,2,     0.00,2,     2.75,2,    0.003,2,    0.013,2, -999.000,9,-999.0000,9,  -999.00,9,   -999.0,9,  -999.00,9,   -999.0,9,   -999.0,9,  -999.0,-999.0000,-999.000,  -999.0,-999.000
   31WTTUNES_1,  P17C,   100,  1,     22,     22,2,19910702,1216, -0.3317,-135.0000, 4236,   1414.5,   3.1894,  34.5965,2,  34.5973,2,     89.9,2,  3.0865,     90.6,2,   117.33,2,    39.66,2,     0.00,2,     2.73,2, -999.000,9, -999.000,9, -999.000,9,-999.0000,9,  -999.00,9,   -999.0,9,  -999.00,9,   -999.0,9,   -999.0,9,  -999.0,-999.0000,-999.000,  -999.0,-999.000
   31WTTUNES_1,  P17C,   100,  1,     23,     23,2,19910702,1216, -0.3317,-135.0000, 4236,   1618.9,   2.8065,  34.6140,2,  34.6156,2,     94.4,2,  2.6910,     95.1,2,   126.91,2,    39.40,2,     0.00,2,     2.70,2, -999.000,9, -999.000,9, -999.000,9,-999.0000,9,  -999.00,9,   -999.0,9,  -999.00,9,   -999.0,9,   -999.0,9,  -999.0,-999.0000,-999.000,  -999.0,-999.000
   31WTTUNES_1,  P17C,   100,  1,     24,     24,2,19910702,1216, -0.3317,-135.0000, 4236,   1823.7,   2.4715,  34.6312,2,  34.6313,2,    102.0,2,  2.3431,    100.8,2,   135.55,2,    39.14,2,     0.00,2,     2.68,2, -999.000,9, -999.000,9, -999.000,9,-999.0000,9,  -999.00,9,   -999.0,9,  -999.00,9,   -999.0,9,   -999.0,9,  -999.0,-999.0000,-999.000,  -999.0,-999.000
   31WTTUNES_1,  P17C,   100,  1,     25,     25,2,19910702,1216, -0.3317,-135.0000, 4236,   2027.4,   2.2323,  34.6422,2,  34.6443,2,    106.8,2,  2.0900,    106.2,2,   140.42,2,    38.72,2,     0.00,2,     2.64,2, -999.000,9, -999.000,9, -999.000,9,-999.0000,9,  -999.00,9,   -999.0,9,  -999.00,9,   -999.0,9,   -999.0,9,  -999.0,-999.0000,-999.000,  -999.0,-999.000
   31WTTUNES_1,  P17C,   100,  1,     26,     26,2,19910702,1216, -0.3317,-135.0000, 4236,   2227.4,   2.0391,  34.6545,2,  34.6551,2,    113.7,2,  1.8825,    114.0,2,   143.78,2,    38.25,2,     0.00,2,     2.60,2, -999.000,9, -999.000,9, -999.000,9,-999.0000,9,  -999.00,9,   -999.0,9,  -999.00,9,   -999.0,9,   -999.0,9,  -999.0,-999.0000,-999.000,  -999.0,-999.000
   31WTTUNES_1,  P17C,   100,  1,     27,     27,2,19910702,1216, -0.3317,-135.0000, 4236,   2428.2,   1.9078,  34.6616,2,  34.6610,2,    119.9,2,  1.7357,    120.0,2,   145.45,2,    37.88,2,     0.00,2,     2.56,2, -999.000,9, -999.000,9, -999.000,9,-999.0000,9,  -999.00,9,   -999.0,9,  -999.00,9,   -999.0,9,   -999.0,9,  -999.0,-999.0000,-999.000,  -999.0,-999.000
   31WTTUNES_1,  P17C,   100,  1,     28,     28,2,19910702,1216, -0.3317,-135.0000, 4236,   2634.1,   1.8003,  34.6685,2,  34.6667,2,    127.4,2,  1.6115,    126.7,2,   145.99,2,    37.52,2,     0.00,2,     2.52,2, -999.000,9, -999.000,9, -999.000,9,-999.0000,9,  -999.00,9,   -999.0,9,  -999.00,9,   -999.0,9,   -999.0,9,  -999.0,-999.0000,-999.000,  -999.0,-999.000
   31WTTUNES_1,  P17C,   100,  1,     29,     29,2,19910702,1216, -0.3317,-135.0000, 4236,   2840.4,   1.7110,  34.6715,2,  34.6716,2,    134.1,2,  1.5048,    133.3,2,   145.58,2,    37.05,2,     0.00,2,     2.48,2, -999.000,9, -999.000,9, -999.000,9,-999.0000,9,  -999.00,9,   -999.0,9,  -999.00,9,   -999.0,9,   -999.0,9,  -999.0,-999.0000,-999.000,  -999.0,-999.000
   31WTTUNES_1,  P17C,   100,  1,     30,     30,2,19910702,1216, -0.3317,-135.0000, 4236,   3040.2,   1.6647,  34.6773,2,  34.6761,2,    135.7,2,  1.4404,    136.0,2,   146.69,2,    36.80,2,     0.00,2,     2.47,2, -999.000,9, -999.000,9, -999.000,9,-999.0000,9,  -999.00,9,   -999.0,9,  -999.00,9,   -999.0,9,   -999.0,9,  -999.0,-999.0000,-999.000,  -999.0,-999.000
   31WTTUNES_1,  P17C,   100,  1,     31,     31,2,19910702,1216, -0.3317,-135.0000, 4236,   3246.7,   1.5983,  34.6798,2,  34.6800,2,    142.0,2,  1.3553,    141.8,2,   146.09,2,    36.54,2,     0.00,2,     2.43,2, -999.000,9, -999.000,9, -999.000,9,-999.0000,9,  -999.00,9,   -999.0,9,  -999.00,9,   -999.0,9,   -999.0,9,  -999.0,-999.0000,-999.000,  -999.0,-999.000
   31WTTUNES_1,  P17C,   100,  1,     32,     32,2,19910702,1216, -0.3317,-135.0000, 4236,   3447.8,   1.5538,  34.6854,2,  34.6838,2,    146.3,2,  1.2916,    145.2,2,   147.57,2,    36.33,2,     0.00,2,     2.42,2, -999.000,9, -999.000,9, -999.000,9,-999.0000,9,  -999.00,9,   -999.0,9,  -999.00,9,   -999.0,9,   -999.0,9,  -999.0,-999.0000,-999.000,  -999.0,-999.000
   31WTTUNES_1,  P17C,   100,  1,     33,     33,2,19910702,1216, -0.3317,-135.0000, 4236,   3649.5,   1.4614,  34.6916,2,  34.6901,2,    153.0,2,  1.1808,    153.0,2,   148.30,2,    35.92,2,     0.00,2,     2.38,2, -999.000,9, -999.000,9, -999.000,9,-999.0000,9,  -999.00,9,   -999.0,9,  -999.00,9,   -999.0,9,   -999.0,9,  -999.0,-999.0000,-999.000,  -999.0,-999.000
   31WTTUNES_1,  P17C,   100,  1,     34,     34,2,19910702,1216, -0.3317,-135.0000, 4236,   3858.3,   1.4037,  34.6944,2,  34.6940,2,    161.0,2,  1.1026,    161.2,2,   144.32,2,    35.36,2,     0.00,2,     2.34,2, -999.000,9, -999.000,9, -999.000,9,-999.0000,9,  -999.00,9,   -999.0,9,  -999.00,9,   -999.0,9,   -999.0,9,  -999.0,-999.0000,-999.000,  -999.0,-999.000
   31WTTUNES_1,  P17C,   100,  1,     35,     35,2,19910702,1216, -0.3317,-135.0000, 4236,   4055.6,   1.4211,  34.6944,2,  34.6940,2,    161.5,2,  1.0983,    161.2,2,   144.67,2,    35.31,2,     0.00,2,     2.34,2, -999.000,9, -999.000,9, -999.000,9,-999.0000,9,  -999.00,9,   -999.0,9,  -999.00,9,   -999.0,9,   -999.0,9,  -999.0,-999.0000,-999.000,  -999.0,-999.000
   31WTTUNES_1,  P17C,   100,  1,     36,     36,2,19910702,1216, -0.3317,-135.0000, 4236,   4286.2,   1.4385,  34.6965,2,  34.6946,2,   -999.0,9,  1.0897,    163.2,2,   142.19,2,    35.05,2,     0.00,2,     2.33,2, -999.000,9, -999.000,9, -999.000,9,-999.0000,9,  -999.00,9,   -999.0,9,  -999.00,9,   -999.0,9,   -999.0,9,  -999.0,-999.0000,-999.000,  -999.0,-999.000