BOTTLE,20220819CCHSIOAMB
EXPOCODE,SECT_ID,STNNBR,CASTNO,SAMPNO,BTLNBR,BTLNBR_FLAG_W,DATE,TIME,LATITUDE,LONGITUDE,DEPTH,CTDPRS,CTDTMP,CTDSAL,CTDSAL_FLAG_W,SALNTY,SALNTY_FLAG_W,CTDOXY,CTDOXY_FLAG_W,THETA,OXYGEN,OXYGEN_FLAG_W,SILCAT,SILCAT_FLAG_W,NITRAT,NITRAT_FLAG_W,NITRIT,NITRIT_FLAG_W,PHSPHT,PHSPHT_FLAG_W,CFC-11,CFC-11_FLAG_W,CFC-12,CFC-12_FLAG_W,TRITUM,TRITUM_FLAG_W,HELIUM,HELIUM_FLAG_W,DELHE3,DELHE3_FLAG_W,DELC14,DELC14_FLAG_W,DELC13,DELC13_FLAG_W,TCARBN,TCARBN_FLAG_W,ALKALI,ALKALI_FLAG_W,C14ERR,HELIER,DELHER,C13ERR,TRITER
,,,,,,,,,,,,DBAR,ITS-90,PSS-78,,PSS-78,,UMOL/KG,,DEG C,UMOL/KG,,UMOL/KG,,UMOL/KG,,UMOL/KG,,UMOL/KG,,PMOL/KG,,PMOL/KG,,TU,,NMOL/KG,,PERCNT,,/MILLE,,/MILLE,,UMOL/KG,,UMOL/KG,,/MILLE,NMOL/KG,PERCNT,/MILLE,TU
   31WTTUNES_1,  P17C,    79,  1,      1,      1,2,19910628,0417,  3.5167,-135.0017, 4312,      0.2,  28.4894,  34.5938,2,  34.5967,2,    211.7,3, 28.4893,    214.5,2,     2.86,2,     1.42,2,     0.03,2,     0.32,2,    1.699,2,    0.925,2, -999.000,9,-999.0000,9,  -999.00,9,     75.9,2,     1.54,2,   -999.0,9,   -999.0,9,     5.5,-999.0000,-999.000,  -999.0,-999.000
   31WTTUNES_1,  P17C,    79,  1,      2,      2,2,19910628,0417,  3.5167,-135.0017, 4312,     49.3,  28.2246,  34.5944,2,  34.6166,2,    209.8,2, 28.2129,    211.0,2,     2.86,2,     1.81,2,     0.05,2,     0.35,2, -999.000,9, -999.000,9, -999.000,9,-999.0000,9,  -999.00,9,     65.0,2,     1.55,2,   -999.0,9,   -999.0,9,     4.9,-999.0000,-999.000,  -999.0,-999.000
   31WTTUNES_1,  P17C,    79,  1,      3,      3,2,19910628,0417,  3.5167,-135.0017, 4312,     96.2,  26.5051,  34.7799,2,  34.7959,2,    176.9,2, 26.4833,    180.6,2,     3.94,2,     4.76,2,     0.79,2,     0.60,2,    1.672,2,    0.928,2, -999.000,9,-999.0000,9,  -999.00,9,     85.7,2,     1.23,2,   -999.0,9,   -999.0,9,     8.5,-999.0000,-999.000,  -999.0,-999.000
   31WTTUNES_1,  P17C,    79,  1,      4,      4,2,19910628,0417,  3.5167,-135.0017, 4312,    111.7,  22.3099,  34.8402,2,  34.8258,2,    136.5,2, 22.2876,    130.8,2,     7.18,2,    10.50,2,     0.87,2,     0.89,2, -999.000,9, -999.000,9, -999.000,9,-999.0000,9,  -999.00,9,     83.2,2,     0.81,2,   -999.0,9,   -999.0,9,     6.2,-999.0000,-999.000,  -999.0,-999.000
   31WTTUNES_1,  P17C,    79,  1,      5,      5,2,19910628,0417,  3.5167,-135.0017, 4312,    122.3,  20.9654,  34.8182,2,  34.7865,2,    111.4,2, 20.9420,    115.4,2,     9.89,2,    13.64,2,     0.48,2,     1.07,2,    1.429,2,    0.761,2, -999.000,9,-999.0000,9,  -999.00,9,     68.5,2,     0.66,2,   -999.0,9,   -999.0,9,     4.7,-999.0000,-999.000,  -999.0,-999.000
   31WTTUNES_1,  P17C,    79,  1,      6,      6,2,19910628,0417,  3.5167,-135.0017, 4312,    142.7,  13.3261,  34.8589,2,  34.8754,2,     62.6,2, 13.3062,     50.6,2,    22.16,2,    27.46,2,     0.03,2,     1.93,2, -999.000,9, -999.000,9, -999.000,9,-999.0000,9,  -999.00,9,     -0.7,2,     0.20,2,   -999.0,9,   -999.0,9,     4.6,-999.0000,-999.000,  -999.0,-999.000
   31WTTUNES_1,  P17C,    79,  1,      7,      7,2,19910628,0417,  3.5167,-135.0017, 4312,    162.4,  12.8287,  34.8877,2,  34.8872,2,     35.3,2, 12.8066,     36.0,2,    24.32,2,    29.58,2,     0.01,2,     2.07,2,    0.380,2,    0.209,2, -999.000,9,-999.0000,9,  -999.00,9,    -17.3,2,     0.18,2,   -999.0,9,   -999.0,9,     5.7,-999.0000,-999.000,  -999.0,-999.000
   31WTTUNES_1,  P17C,    79,  1,      8,      8,2,19910628,0417,  3.5167,-135.0017, 4312,    202.2,  12.1367,  34.8431,2,  34.8427,2,     45.0,2, 12.1101,     50.3,2,    25.22,2,    29.06,2,     0.01,2,     2.05,2, -999.000,9, -999.000,9, -999.000,9,-999.0000,9,  -999.00,9,    -27.3,2,     0.14,2,   -999.0,9,   -999.0,9,     5.3,-999.0000,-999.000,  -999.0,-999.000
   31WTTUNES_1,  P17C,    79,  1,      9,      9,2,19910628,0417,  3.5167,-135.0017, 4312,    228.0,  11.7633,  34.8205,2,  34.8207,2,     34.8,2, 11.7339,     36.4,2,    27.38,2,    31.06,2,     0.00,2,     2.17,2,    0.250,2,    0.147,2, -999.000,9,-999.0000,9,  -999.00,9,    -37.3,2,     0.14,2,   -999.0,9,   -999.0,9,     5.2,-999.0000,-999.000,  -999.0,-999.000
   31WTTUNES_1,  P17C,    79,  1,     10,     10,2,19910628,0417,  3.5167,-135.0017, 4312,    253.0,  11.6250,  34.8135,2,  34.8135,2,     38.9,2, 11.5927,     43.6,2,    27.19,2,    30.64,2,     0.00,2,     2.14,2, -999.000,9, -999.000,9, -999.000,9,-999.0000,9,  -999.00,9,    -45.6,2,     0.15,2,   -999.0,9,   -999.0,9,     5.5,-999.0000,-999.000,  -999.0,-999.000
   31WTTUNES_1,  P17C,    79,  1,     11,     11,2,19910628,0417,  3.5167,-135.0017, 4312,    304.8,  11.0958,  34.7755,2,  34.7757,2,     57.5,2, 11.0579,     61.0,2,    27.91,2,    29.70,2,     0.01,2,     2.08,2,    0.258,2,    0.150,2, -999.000,9,-999.0000,9,  -999.00,9,    -58.5,2,     0.20,2,   -999.0,9,   -999.0,9,    16.5,-999.0000,-999.000,  -999.0,-999.000
   31WTTUNES_1,  P17C,    79,  1,     12,     12,2,19910628,0417,  3.5167,-135.0017, 4312,    344.2,  10.7188,  34.7466,2,  34.7473,2,     73.5,2, 10.6769,     63.9,2,    28.99,2,    30.07,2,     0.00,2,     2.11,2, -999.000,9, -999.000,9, -999.000,9,-999.0000,9,  -999.00,9,    -63.1,2,     0.25,2,   -999.0,9,   -999.0,9,     5.2,-999.0000,-999.000,  -999.0,-999.000
   31WTTUNES_1,  P17C,    79,  1,     13,     13,2,19910628,0417,  3.5167,-135.0017, 4312,    398.5,  10.0838,  34.7084,2,  34.7087,2,     62.9,2, 10.0370,     63.9,2,    31.51,2,    31.23,2,     0.00,2,     2.18,2,    0.176,2,    0.103,2, -999.000,9,-999.0000,9,  -999.00,9,    -75.0,2,     0.29,2,   -999.0,9,   -999.0,9,     4.1,-999.0000,-999.000,  -999.0,-999.000
   31WTTUNES_1,  P17C,    79,  1,     14,     14,2,19910628,0417,  3.5167,-135.0017, 4312,    452.2,   9.3539,  34.6657,2,  34.6637,2,     61.8,2,  9.3031,     61.4,2,    35.12,2,    32.77,2,     0.00,2,     2.30,2,    0.117,2,    0.070,2, -999.000,9,-999.0000,9,  -999.00,9,    -68.6,2,     0.28,2,   -999.0,9,   -999.0,9,     4.5,-999.0000,-999.000,  -999.0,-999.000
   31WTTUNES_1,  P17C,    79,  1,     15,     15,2,19910628,0417,  3.5167,-135.0017, 4312,    504.1,   8.6271,  34.6386,2,  34.6374,2,     32.2,2,  8.5730,     28.7,2,    42.51,2,    37.04,2,     0.00,2,     2.65,2,    0.024,2,    0.017,2, -999.000,9,-999.0000,9,  -999.00,9,   -104.9,2,     0.07,2,   -999.0,9,   -999.0,9,     3.8,-999.0000,-999.000,  -999.0,-999.000
   31WTTUNES_1,  P17C,    79,  1,     16,     16,2,19910628,0417,  3.5167,-135.0017, 4312,    584.8,   7.4864,  34.5946,2,  34.5915,2,     27.0,2,  7.4283,     30.6,2,    52.07,2,    39.70,2,     0.00,2,     2.85,2,    0.007,2,    0.007,2, -999.000,9,-999.0000,9,  -999.00,9,   -121.8,2,     0.04,2,   -999.0,9,   -999.0,9,     5.5,-999.0000,-999.000,  -999.0,-999.000
   31WTTUNES_1,  P17C,    79,  1,     17,     17,2,19910628,0417,  3.5167,-135.0017, 4312,    707.3,   6.1990,  34.5570,2,  34.5571,2,     50.0,2,  6.1350,     50.1,2,    63.07,2,    40.42,2,     0.00,2,     2.88,2,   -0.001,2,    0.002,2, -999.000,9,-999.0000,9,  -999.00,9,   -999.0,9,  -999.00,9,   -999.0,9,   -999.0,9,  -999.0,-999.0000,-999.000,  -999.0,-999.000
   31WTTUNES_1,  P17C,    79,  1,     18,     18,2,19910628,0417,  3.5167,-135.0017, 4312,    808.2,   5.5808,  34.5492,2,  34.5489,2,     59.0,2,  5.5109,     59.1,2,    71.73,2,    40.36,2,     0.00,2,     2.88,2,    0.001,2,    0.003,2, -999.000,9,-999.0000,9,  -999.00,9,   -999.0,9,  -999.00,9,   -999.0,9,   -999.0,9,  -999.0,-999.0000,-999.000,  -999.0,-999.000
   31WTTUNES_1,  P17C,    79,  1,     19,     19,2,19910628,0417,  3.5167,-135.0017, 4312,    909.0,   5.0049,  34.5527,2,  34.5530,2,     57.4,2,  4.9297,     56.4,2,    82.73,2,    41.52,2,     0.00,2,     2.96,2,   -0.002,2,   -0.002,2, -999.000,9,-999.0000,9,  -999.00,9,   -999.0,9,  -999.00,9,   -999.0,9,   -999.0,9,  -999.0,-999.0000,-999.000,  -999.0,-999.000
   31WTTUNES_1,  P17C,    79,  1,     20,     20,2,19910628,0417,  3.5167,-135.0017, 4312,   1009.0,   4.5698,  34.5574,2,  34.5586,2,     66.1,2,  4.4889,     65.6,2,    91.38,2,    40.92,2,     0.00,2,     2.93,2,   -0.001,2,    0.001,2, -999.000,9,-999.0000,9,  -999.00,9,   -999.0,9,  -999.00,9,   -999.0,9,   -999.0,9,  -999.0,-999.0000,-999.000,  -999.0,-999.000
   31WTTUNES_1,  P17C,    79,  1,     21,     21,2,19910628,0417,  3.5167,-135.0017, 4312,   1213.6,   3.7910,  34.5771,2,  34.5770,2,     77.4,2,  3.6990,     77.4,2,   106.89,2,    40.20,2,     0.00,2,     2.88,2, -999.000,9, -999.000,9, -999.000,9,-999.0000,9,  -999.00,9,   -999.0,9,  -999.00,9,   -999.0,9,   -999.0,9,  -999.0,-999.0000,-999.000,  -999.0,-999.000
   31WTTUNES_1,  P17C,    79,  1,     22,     22,2,19910628,0417,  3.5167,-135.0017, 4312,   1416.5,   3.1893,  34.5986,2,  34.5985,2,     82.4,2,  3.0862,     81.9,2,   122.21,2,    40.26,2,     0.00,2,     2.88,2, -999.000,9, -999.000,9, -999.000,9,-999.0000,9,  -999.00,9,   -999.0,9,  -999.00,9,   -999.0,9,   -999.0,9,  -999.0,-999.0000,-999.000,  -999.0,-999.000
   31WTTUNES_1,  P17C,    79,  1,     23,     23,2,19910628,0417,  3.5167,-135.0017, 4312,   1615.0,   2.7978,  34.6143,2,  34.6150,2,     88.9,2,  2.6827,     89.0,2,   131.22,2,    39.77,2,     0.00,2,     2.83,2, -999.000,9, -999.000,9, -999.000,9,-999.0000,9,  -999.00,9,   -999.0,9,  -999.00,9,   -999.0,9,   -999.0,9,  -999.0,-999.0000,-999.000,  -999.0,-999.000
   31WTTUNES_1,  P17C,    79,  1,     24,     24,2,19910628,0417,  3.5167,-135.0017, 4312,   1815.7,   2.5018,  34.6286,2,  34.6295,2,     95.4,2,  2.3736,     95.5,2,   138.78,2,    39.44,2,     0.00,2,     2.79,2, -999.000,9, -999.000,9, -999.000,9,-999.0000,9,  -999.00,9,   -999.0,9,  -999.00,9,   -999.0,9,   -999.0,9,  -999.0,-999.0000,-999.000,  -999.0,-999.000
   31WTTUNES_1,  P17C,    79,  1,     25,     25,2,19910628,0417,  3.5167,-135.0017, 4312,   2015.8,   2.2781,  34.6409,2,  34.6415,2,    101.2,2,  2.1360,    100.8,2,   144.72,2,    39.23,2,     0.00,2,     2.75,2, -999.000,9, -999.000,9, -999.000,9,-999.0000,9,  -999.00,9,   -999.0,9,  -999.00,9,   -999.0,9,   -999.0,9,  -999.0,-999.0000,-999.000,  -999.0,-999.000
   31WTTUNES_1,  P17C,    79,  1,     26,     26,2,19910628,0417,  3.5167,-135.0017, 4312,   2222.8,   2.0259,  34.6546,2,  34.6547,2,    108.5,2,  1.8699,    109.9,2,   150.12,2,    38.63,2,     0.00,2,     2.70,2, -999.000,9, -999.000,9, -999.000,9,-999.0000,9,  -999.00,9,   -999.0,9,  -999.00,9,   -999.0,9,   -999.0,9,  -999.0,-999.0000,-999.000,  -999.0,-999.000
   31WTTUNES_1,  P17C,    79,  1,     27,     27,2,19910628,0417,  3.5167,-135.0017, 4312,   2424.3,   1.8603,  34.6632,2,  34.6642,2,    115.6,2,  1.6893,    115.7,2,   154.80,2,    38.15,2,     0.00,2,     2.66,2, -999.000,9, -999.000,9, -999.000,9,-999.0000,9,  -999.00,9,   -999.0,9,  -999.00,9,   -999.0,9,   -999.0,9,  -999.0,-999.0000,-999.000,  -999.0,-999.000
   31WTTUNES_1,  P17C,    79,  1,     28,     28,2,19910628,0417,  3.5167,-135.0017, 4312,   2631.7,   1.8106,  34.6667,2,  34.6669,2,    119.3,2,  1.6218,    120.5,2,   154.61,2,    37.99,2,     0.00,2,     2.65,2, -999.000,9, -999.000,9, -999.000,9,-999.0000,9,  -999.00,9,   -999.0,9,  -999.00,9,   -999.0,9,   -999.0,9,  -999.0,-999.0000,-999.000,  -999.0,-999.000
   31WTTUNES_1,  P17C,    79,  1,     29,     29,2,19910628,0417,  3.5167,-135.0017, 4312,   2833.3,   1.7584,  34.6698,2,  34.6703,2,    123.2,2,  1.5519,    124.3,2,   154.59,2,    37.72,2,     0.00,2,     2.62,2, -999.000,9, -999.000,9, -999.000,9,-999.0000,9,  -999.00,9,   -999.0,9,  -999.00,9,   -999.0,9,   -999.0,9,  -999.0,-999.0000,-999.000,  -999.0,-999.000
   31WTTUNES_1,  P17C,    79,  1,     30,     30,2,19910628,0417,  3.5167,-135.0017, 4312,   3039.9,   1.6696,  34.6743,2,  34.6752,2,    130.9,2,  1.4452,    130.9,2,   152.96,2,    37.23,2,     0.00,2,     2.58,2, -999.000,9, -999.000,9, -999.000,9,-999.0000,9,  -999.00,9,   -999.0,9,  -999.00,9,   -999.0,9,   -999.0,9,  -999.0,-999.0000,-999.000,  -999.0,-999.000
   31WTTUNES_1,  P17C,    79,  1,     31,     31,2,19910628,0417,  3.5167,-135.0017, 4312,   3245.4,   1.5736,  34.6815,2,  34.6803,2,    138.6,2,  1.3312,    138.1,2,   153.85,2,    36.97,2,     0.00,2,     2.56,2, -999.000,9, -999.000,9, -999.000,9,-999.0000,9,  -999.00,9,   -999.0,9,  -999.00,9,   -999.0,9,   -999.0,9,  -999.0,-999.0000,-999.000,  -999.0,-999.000
   31WTTUNES_1,  P17C,    79,  1,     32,     32,2,19910628,0417,  3.5167,-135.0017, 4312,   3449.1,   1.4926,  34.6865,2,  34.6853,2,    145.8,2,  1.2318,    145.7,2,   153.11,2,    36.48,2,     0.00,2,     2.50,2, -999.000,9, -999.000,9, -999.000,9,-999.0000,9,  -999.00,9,   -999.0,9,  -999.00,9,   -999.0,9,   -999.0,9,  -999.0,-999.0000,-999.000,  -999.0,-999.000
   31WTTUNES_1,  P17C,    79,  1,     33,     33,2,19910628,0417,  3.5167,-135.0017, 4312,   3655.2,   1.4533,  34.6911,2,  34.6882,2,    151.9,2,  1.1724,    151.9,2,   151.30,2,    36.00,2,     0.00,2,     2.47,2, -999.000,9, -999.000,9, -999.000,9,-999.0000,9,  -999.00,9,   -999.0,9,  -999.00,9,   -999.0,9,   -999.0,9,  -999.0,-999.0000,-999.000,  -999.0,-999.000
   31WTTUNES_1,  P17C,    79,  1,     34,     34,2,19910628,0417,  3.5167,-135.0017, 4312,   3851.7,   1.4362,  34.6933,2,  34.6898,2,    155.9,2,  1.1350,    156.4,2,   149.12,2,    35.79,2,     0.00,2,     2.44,2, -999.000,9, -999.000,9, -999.000,9,-999.0000,9,  -999.00,9,   -999.0,9,  -999.00,9,   -999.0,9,   -999.0,9,  -999.0,-999.0000,-999.000,  -999.0,-999.000
   31WTTUNES_1,  P17C,    79,  1,     35,     35,2,19910628,0417,  3.5167,-135.0017, 4312,   4110.3,   1.4203,  34.6941,2,  34.6918,2,    161.0,2,  1.0915,    160.0,2,   147.49,2,    35.52,2,     0.00,2,     2.43,2, -999.000,9, -999.000,9, -999.000,9,-999.0000,9,  -999.00,9,   -999.0,9,  -999.00,9,   -999.0,9,   -999.0,9,  -999.0,-999.0000,-999.000,  -999.0,-999.000
   31WTTUNES_1,  P17C,    79,  1,     36,     36,2,19910628,0417,  3.5167,-135.0017, 4312,   4373.8,   1.3994,  34.6956,2,  34.6934,2,   -999.0,9,  1.0419,    164.8,2,   144.05,2,    35.31,2,     0.00,2,     2.41,2, -999.000,9, -999.000,9, -999.000,9,-999.0000,9,  -999.00,9,   -999.0,9,  -999.00,9,   -999.0,9,   -999.0,9,  -999.0,-999.0000,-999.000,  -999.0,-999.000