BOTTLE,20220819CCHSIOAMB
EXPOCODE,SECT_ID,STNNBR,CASTNO,SAMPNO,BTLNBR,BTLNBR_FLAG_W,DATE,TIME,LATITUDE,LONGITUDE,DEPTH,CTDPRS,CTDTMP,CTDSAL,CTDSAL_FLAG_W,SALNTY,SALNTY_FLAG_W,CTDOXY,CTDOXY_FLAG_W,THETA,OXYGEN,OXYGEN_FLAG_W,SILCAT,SILCAT_FLAG_W,NITRAT,NITRAT_FLAG_W,NITRIT,NITRIT_FLAG_W,PHSPHT,PHSPHT_FLAG_W,CFC-11,CFC-11_FLAG_W,CFC-12,CFC-12_FLAG_W,TRITUM,TRITUM_FLAG_W,HELIUM,HELIUM_FLAG_W,DELHE3,DELHE3_FLAG_W,DELC14,DELC14_FLAG_W,DELC13,DELC13_FLAG_W,TCARBN,TCARBN_FLAG_W,ALKALI,ALKALI_FLAG_W,C14ERR,HELIER,DELHER,C13ERR,TRITER
,,,,,,,,,,,,DBAR,ITS-90,PSS-78,,PSS-78,,UMOL/KG,,DEG C,UMOL/KG,,UMOL/KG,,UMOL/KG,,UMOL/KG,,UMOL/KG,,PMOL/KG,,PMOL/KG,,TU,,NMOL/KG,,PERCNT,,/MILLE,,/MILLE,,UMOL/KG,,UMOL/KG,,/MILLE,NMOL/KG,PERCNT,/MILLE,TU
   31WTTUNES_1,  P17C,   121,  1,      1,      1,2,19910706,0828, -5.0083,-135.0083, 4667,      0.2,  27.6470,  35.1080,2,  35.1107,2,    213.6,3, 27.6469,    216.7,2,     3.03,2,     4.79,2,     0.09,2,     0.52,2,    1.593,2,    0.916,2,    1.142,2,   1.7270,2,    -1.14,2,     80.0,2,     1.49,2,   1996.2,2,   -999.0,9,     4.0,  0.0080,   0.150,  -999.0,   0.012
   31WTTUNES_1,  P17C,   121,  1,      2,      2,2,19910706,0828, -5.0083,-135.0083, 4667,     57.2,  27.6390,  35.1753,2,  35.1619,2,    213.0,2, 27.6256,    213.8,2,     3.03,2,     4.89,2,     0.09,2,     0.53,2,    1.590,2,    0.921,2,    1.138,2,   1.7250,2,    -0.81,2,     78.6,2,     1.45,2,   2002.1,2,   -999.0,9,     4.5,  0.0080,   0.150,  -999.0,   0.012
   31WTTUNES_1,  P17C,   121,  1,      3,      3,2,19910706,0828, -5.0083,-135.0083, 4667,     76.7,  25.4134,  35.5152,2,  35.5167,2,    210.4,2, 25.3965,    206.8,2,     3.22,2,     6.54,2,     0.13,2,     0.78,2,    1.784,2,    1.069,2,    0.846,2,   1.7230,2,    -0.90,2,     72.3,2,     1.38,2,   2047.1,2,   -999.0,9,     4.1,  0.0080,   0.150,  -999.0,   0.010
   31WTTUNES_1,  P17C,   121,  1,      4,      4,2,19910706,0828, -5.0083,-135.0083, 4667,     91.2,  24.0201,  35.5802,2,  35.5402,2,    200.4,2, 24.0009,    194.2,2,     3.61,2,     6.94,2,     0.23,2,     0.85,2,    1.760,2,    1.068,2, -999.000,5,   1.7210,2,    -0.72,2,     77.4,2,     1.32,2,   2064.7,2,   2351.2,2,     5.0,  0.0080,   0.150,  -999.0,-999.000
   31WTTUNES_1,  P17C,   121,  1,      5,      5,2,19910706,0828, -5.0083,-135.0083, 4667,    111.4,  21.1698,  35.4874,2,  35.4900,2,    162.4,2, 21.1483,    164.3,2,     4.30,2,     8.60,2,     1.47,2,     1.02,2,    1.754,2,    1.017,2, -999.000,5,   1.7610,2,     0.00,2,     76.8,2,     1.04,2,   2105.5,2,   -999.0,9,     3.6,  0.0080,   0.150,  -999.0,-999.000
   31WTTUNES_1,  P17C,   121,  1,      6,      6,2,19910706,0828, -5.0083,-135.0083, 4667,    129.2,  18.9907,  35.5332,2,  35.5338,2,    119.1,2, 18.9676,    129.0,2,     5.08,2,    11.04,2,     1.49,2,     1.09,2,    1.664,2,    0.944,2,    0.614,2,   1.7630,2,     0.27,2,    101.5,2,     1.00,2,   2135.2,2,   -999.0,9,     4.6,  0.0080,   0.150,  -999.0,   0.009
   31WTTUNES_1,  P17C,   121,  1,      7,      7,2,19910706,0828, -5.0083,-135.0083, 4667,    141.3,  16.9078,  35.3391,2,  35.2942,2,     98.2,2, 16.8846,     86.8,2,     8.70,2,    17.49,2,     0.04,2,     1.45,2,    1.307,2,    0.731,2, -999.000,5,   1.7730,2,     1.31,2,     68.1,2,     0.64,2,   2165.1,2,   2328.2,2,     7.0,  0.0080,   0.150,  -999.0,-999.000
   31WTTUNES_1,  P17C,   121,  1,      8,      8,2,19910706,0828, -5.0083,-135.0083, 4667,    161.8,  14.9791,  35.1311,2,  35.1207,2,     62.0,2, 14.9546,     54.7,2,    11.14,2,    21.79,2,     0.02,2,     1.78,2,    1.022,2,    0.562,2,    1.073,2,   0.0000,2,  -999.00,9,     59.1,2,     0.37,2,   2196.8,2,   -999.0,9,     4.9,-999.0000,   0.150,  -999.0,   0.011
   31WTTUNES_1,  P17C,   121,  1,      9,      9,2,19910706,0828, -5.0083,-135.0083, 4667,    192.8,  13.3075,  34.9716,2,  34.9493,2,     19.0,2, 13.2805,     19.3,2,    18.67,2,    28.14,2,     0.00,2,     2.20,2,    0.466,2,    0.265,2,    0.309,2,   1.8300,2,     3.30,2,     -1.9,2,     0.18,2,   2230.7,2,   2314.2,2,     3.9,  0.0090,   0.150,  -999.0,   0.006
   31WTTUNES_1,  P17C,   121,  1,     10,     10,2,19910706,0828, -5.0083,-135.0083, 4667,    279.7,  11.0161,  34.8124,2,  34.8085,2,     36.4,2, 10.9815,     37.4,2,    27.27,2,    31.67,2,     0.00,2,     2.24,2,    0.128,2,    0.075,2,    0.156,2,   1.8480,2,     4.32,2,    -43.5,2,     0.20,2,   2237.1,2,   -999.0,9,     2.9,  0.0090,   0.150,  -999.0,   0.004
   31WTTUNES_1,  P17C,   121,  1,     11,     11,2,19910706,0828, -5.0083,-135.0083, 4667,    305.0,  10.7372,  34.7916,2,  34.7873,2,     48.1,2, 10.7001,     46.9,2,    27.66,2,    31.27,2,     0.00,2,     2.23,2,    0.142,2,    0.086,2, -999.000,5,   1.8290,2,     4.67,2,    -48.5,2,     0.29,3,   2233.5,2,   2306.2,2,     2.9,  0.0090,   0.150,  -999.0,-999.000
   31WTTUNES_1,  P17C,   121,  1,     12,     12,2,19910706,0828, -5.0083,-135.0083, 4667,    362.7,  10.1014,  34.7518,2,  34.7474,2,     11.1,2, 10.0589,     11.0,2,    35.38,2,    35.77,2,     0.00,2,     2.54,2,    0.040,2,    0.030,2,    0.075,2,   1.8310,2,     4.79,2,    -77.8,2,     0.14,2,   2264.6,2,   2312.4,2,     2.8,  0.0090,   0.150,  -999.0,   0.003
   31WTTUNES_1,  P17C,   121,  1,     13,     13,2,19910706,0828, -5.0083,-135.0083, 4667,    452.1,   8.9009,  34.6803,2,  34.6795,2,     23.5,2,  8.8516,     24.4,2,    37.44,2,    37.34,2,     0.00,2,     2.58,2,    0.014,2,    0.013,2,    0.022,2,   1.8320,2,     5.38,2,   -103.0,2,     0.09,2,   2263.7,2,   -999.0,9,     4.6,  0.0090,   0.150,  -999.0,   0.002
   31WTTUNES_1,  P17C,   121,  1,     14,     14,2,19910706,0828, -5.0083,-135.0083, 4667,    559.2,   7.6414,  34.6110,2,  34.6088,2,     45.6,2,  7.5853,     41.7,2,    44.08,2,    39.00,2,     0.00,2,     2.67,2,    0.004,2,    0.006,2,    0.005,2,   1.8440,2,     6.99,2,   -107.3,2,     0.10,2,   2265.4,2,   2310.7,2,     4.7,  0.0090,   0.150,  -999.0,   0.002
   31WTTUNES_1,  P17C,   121,  1,     15,     15,2,19910706,0828, -5.0083,-135.0083, 4667,    656.6,   6.8108,  34.5738,2,  34.5723,2,     56.4,2,  6.7487,     53.7,2,    48.58,2,    39.78,2,     0.00,2,     2.72,2,    0.001,2,    0.004,2,    0.002,2,   1.8730,2,     8.28,2,   -125.7,2,     0.13,2,   2266.8,2,   -999.0,9,     2.7,  0.0090,   0.150,  -999.0,   0.002
   31WTTUNES_1,  P17C,   121,  1,     16,     16,2,19910706,0828, -5.0083,-135.0083, 4667,    763.0,   5.9443,  34.5464,2,  34.5475,2,     72.3,2,  5.8765,     67.5,2,    57.97,2,    39.98,2,     0.00,2,     2.74,2,    0.002,2,    0.003,2,   -0.008,2,   1.8890,2,    10.79,2,   -130.8,2,     0.25,2,   2272.7,2,   -999.0,9,     2.8,  0.0090,   0.150,  -999.0,   0.001
   31WTTUNES_1,  P17C,   121,  1,     17,     17,2,19910706,0828, -5.0083,-135.0083, 4667,    915.4,   5.0808,  34.5365,2,  34.5391,2,     88.1,2,  5.0044,     83.5,2,    69.21,2,    39.30,2,     0.00,2,     2.72,2,    0.002,2,    0.004,2,   -0.004,2,-999.0000,9,  -999.00,9,   -999.0,9,  -999.00,9,   2278.9,2,   2339.6,2,  -999.0,-999.0000,-999.000,  -999.0,   0.001
   31WTTUNES_1,  P17C,   121,  1,     18,     18,2,19910706,0828, -5.0083,-135.0083, 4667,   1066.5,   4.3452,  34.5473,2,  34.5492,2,     92.6,2,  4.2611,     88.8,2,    84.26,2,    39.39,2,     0.00,2,     2.76,2,    0.003,2,   -0.002,2,   -0.003,2,   1.8520,2,    18.09,2,   -999.0,9,  -999.00,9,   2294.3,2,   -999.0,9,  -999.0,-999.0000,-999.000,  -999.0,   0.001
   31WTTUNES_1,  P17C,   121,  1,     19,     19,2,19910706,0828, -5.0083,-135.0083, 4667,   1215.7,   3.7995,  34.5655,2,  34.5657,2,     95.5,2,  3.7073,     94.6,2,    97.26,2,    39.20,2,     0.00,2,     2.75,2, -999.000,9, -999.000,9, -999.000,9,   1.8620,2,    20.71,2,   -999.0,9,  -999.00,9,   2304.8,2,   -999.0,9,  -999.0,-999.0000,-999.000,  -999.0,-999.000
   31WTTUNES_1,  P17C,   121,  1,     20,     20,2,19910706,0828, -5.0083,-135.0083, 4667,   1434.4,   3.1869,  34.5899,2,  34.5909,2,     99.9,2,  3.0824,     99.8,2,   112.12,2,    38.90,2,     0.00,2,     2.73,2, -999.000,9, -999.000,9, -999.000,9,   1.8890,2,    23.70,2,   -999.0,9,  -999.00,9,   2320.7,2,   -999.0,9,  -999.0,-999.0000,-999.000,  -999.0,-999.000
   31WTTUNES_1,  P17C,   121,  1,     21,     21,2,19910706,0828, -5.0083,-135.0083, 4667,   1623.4,   2.7941,  34.6097,2,  34.6086,2,    105.5,2,  2.6784,    105.6,2,   121.70,2,    38.81,2,     0.00,2,     2.71,2, -999.000,9, -999.000,9, -999.000,9,   1.8950,2,    26.12,2,   -999.0,9,  -999.00,9,   2330.4,2,   -999.0,9,  -999.0,-999.0000,-999.000,  -999.0,-999.000
   31WTTUNES_1,  P17C,   121,  1,     22,     22,2,19910706,0828, -5.0083,-135.0083, 4667,   1838.3,   2.4963,  34.6251,2,  34.6247,2,    111.2,2,  2.3663,    112.6,2,   128.34,2,    38.32,2,     0.00,2,     2.67,2, -999.000,9, -999.000,9, -999.000,9,   1.9060,2,    26.80,2,   -999.0,9,  -999.00,9,   2332.2,2,   -999.0,9,  -999.0,-999.0000,-999.000,  -999.0,-999.000
   31WTTUNES_1,  P17C,   121,  1,     23,     23,2,19910706,0828, -5.0083,-135.0083, 4667,   2029.2,   2.3035,  34.6354,2,  34.6346,2,    116.4,2,  2.1599,    117.0,2,   133.03,2,    37.93,2,     0.00,2,     2.63,2, -999.000,9, -999.000,9, -999.000,9,   1.9110,2,    27.55,2,   -999.0,9,  -999.00,9,   2334.8,2,   -999.0,9,  -999.0,-999.0000,-999.000,  -999.0,-999.000
   31WTTUNES_1,  P17C,   121,  1,     24,     24,2,19910706,0828, -5.0083,-135.0083, 4667,   2215.9,   2.1236,  34.6458,2,  34.6474,2,    122.4,2,  1.9666,    123.3,2,   135.47,2,    37.53,2,     0.00,2,     2.59,2, -999.000,9, -999.000,9, -999.000,9,   1.9200,2,    28.81,2,   -999.0,9,  -999.00,9,   2336.3,2,   2416.4,2,  -999.0,-999.0000,-999.000,  -999.0,-999.000
   31WTTUNES_1,  P17C,   121,  1,     25,     25,2,19910706,0828, -5.0083,-135.0083, 4667,   2388.9,   1.9887,  34.6549,2,  34.6555,2,    126.8,2,  1.8186,    127.1,2,   138.80,2,    37.34,2,     0.00,2,     2.57,2, -999.000,9, -999.000,9, -999.000,9,   1.9220,2,    28.79,2,   -999.0,9,  -999.00,9,   2337.3,2,   -999.0,9,  -999.0,-999.0000,-999.000,  -999.0,-999.000
   31WTTUNES_1,  P17C,   121,  1,     26,     26,2,19910706,0828, -5.0083,-135.0083, 4667,   2539.4,   1.9017,  34.6612,2,  34.6620,2,    129.0,2,  1.7197,    130.1,2,   140.46,2,    37.24,2,     0.00,2,     2.54,2, -999.000,9, -999.000,9, -999.000,9,   1.9240,2,    29.64,2,   -999.0,9,  -999.00,9,   2338.4,2,   -999.0,9,  -999.0,-999.0000,-999.000,  -999.0,-999.000
   31WTTUNES_1,  P17C,   121,  1,     27,     27,2,19910706,0828, -5.0083,-135.0083, 4667,   2679.5,   1.8388,  34.6672,2,  34.6658,2,    129.3,2,  1.6450,    132.5,2,   142.22,2,    36.85,2,     0.00,2,     2.54,2, -999.000,9, -999.000,9, -999.000,9,   1.9240,2,    31.97,2,   -999.0,9,  -999.00,9,   -999.0,9,   -999.0,9,  -999.0,-999.0000,-999.000,  -999.0,-999.000
   31WTTUNES_1,  P17C,   121,  1,     28,     28,2,19910706,0828, -5.0083,-135.0083, 4667,   2862.7,   1.7738,  34.6720,2,  34.6721,2,    138.0,2,  1.5642,    137.2,2,   143.88,2,    36.75,2,     0.00,2,     2.50,2,   -0.001,2,    0.000,2, -999.000,9,   1.9220,2,    30.74,2,   -999.0,9,  -999.00,9,   2336.6,2,   -999.0,9,  -999.0,-999.0000,-999.000,  -999.0,-999.000
   31WTTUNES_1,  P17C,   121,  1,     29,     29,2,19910706,0828, -5.0083,-135.0083, 4667,   3039.2,   1.6969,  34.6752,2,  34.6743,2,    142.6,2,  1.4720,    142.4,2,   143.88,2,    36.36,2,     0.00,2,     2.49,2,   -0.002,2,    0.000,2, -999.000,9,   1.9370,2,    26.30,2,   -999.0,9,  -999.00,9,   -999.0,9,   -999.0,9,  -999.0,-999.0000,-999.000,  -999.0,-999.000
   31WTTUNES_1,  P17C,   121,  1,     30,     30,2,19910706,0828, -5.0083,-135.0083, 4667,   3250.9,   1.5919,  34.6799,2,  34.6810,2,    148.9,2,  1.3486,    150.1,2,   143.68,2,    35.87,2,     0.00,2,     2.45,2,    0.001,2,    0.000,2, -999.000,9,   1.9290,2,    22.02,2,   -999.0,9,  -999.00,9,   2327.4,2,   -999.0,9,  -999.0,-999.0000,-999.000,  -999.0,-999.000
   31WTTUNES_1,  P17C,   121,  1,     31,     31,2,19910706,0828, -5.0083,-135.0083, 4667,   3443.3,   1.5410,  34.6838,2,  34.6848,2,    153.5,2,  1.2796,    153.6,2,   142.70,2,    35.77,2,     0.00,2,     2.42,2, -999.000,9, -999.000,9, -999.000,9,   1.9100,2,    20.80,2,   -999.0,9,  -999.00,9,   2325.5,2,   2426.2,2,  -999.0,-999.0000,-999.000,  -999.0,-999.000
   31WTTUNES_1,  P17C,   121,  1,     32,     32,2,19910706,0828, -5.0083,-135.0083, 4667,   3677.9,   1.4910,  34.6867,2,  34.6883,2,    158.0,2,  1.2067,    158.3,2,   142.31,2,    35.38,2,     0.00,2,     2.40,2, -999.000,9, -999.000,9, -999.000,9,   1.8920,2,    18.77,2,   -999.0,9,  -999.00,9,   2323.0,2,   -999.0,9,  -999.0,-999.0000,-999.000,  -999.0,-999.000
   31WTTUNES_1,  P17C,   121,  1,     33,     33,2,19910706,0828, -5.0083,-135.0083, 4667,   3944.1,   1.4430,  34.6906,2,  34.6921,2,    163.2,2,  1.1318,    163.3,2,   140.85,2,    34.99,2,     0.00,2,     2.37,2, -999.000,9, -999.000,9, -999.000,9,   1.8920,2,    17.65,2,   -999.0,9,  -999.00,9,   2319.5,2,   -999.0,9,  -999.0,-999.0000,-999.000,  -999.0,-999.000
   31WTTUNES_1,  P17C,   121,  1,     34,     34,2,19910706,0828, -5.0083,-135.0083, 4667,   4177.5,   1.4121,  34.6950,2,  34.6955,2,    168.0,2,  1.0761,    170.4,2,   136.84,2,    34.40,2,     0.00,2,     2.34,2, -999.000,9, -999.000,9, -999.000,9,   1.8860,2,    16.54,2,   -999.0,9,  -999.00,9,   2315.2,2,   -999.0,9,  -999.0,-999.0000,-999.000,  -999.0,-999.000
   31WTTUNES_1,  P17C,   121,  1,     35,     35,2,19910706,0828, -5.0083,-135.0083, 4667,   4452.6,   1.4221,  34.6971,2,  34.6947,2,    174.1,2,  1.0549,    173.3,2,   134.98,2,    34.31,2,     0.00,2,     2.34,2, -999.000,9, -999.000,9, -999.000,9,   1.8940,2,    15.76,2,   -999.0,9,  -999.00,9,   -999.0,9,   -999.0,9,  -999.0,-999.0000,-999.000,  -999.0,-999.000
   31WTTUNES_1,  P17C,   121,  1,     36,     36,2,19910706,0828, -5.0083,-135.0083, 4667,   4717.9,   1.4490,  34.6986,2,  34.6953,2,   -999.0,9,  1.0502,    174.9,2,   134.20,2,    34.21,2,     0.00,2,     2.32,2, -999.000,9, -999.000,9, -999.000,9,   1.8790,2,    15.96,2,   -999.0,9,  -999.00,9,   -999.0,9,   2418.7,2,  -999.0,-999.0000,-999.000,  -999.0,-999.000