BOTTLE,20220819CCHSIOAMB
EXPOCODE,SECT_ID,STNNBR,CASTNO,SAMPNO,BTLNBR,BTLNBR_FLAG_W,DATE,TIME,LATITUDE,LONGITUDE,DEPTH,CTDPRS,CTDPRS_FLAG_W,CTDTMP,CTDTMP_FLAG_W,SBE35,SBE35_FLAG_W,CTDSAL,CTDSAL_FLAG_W,SALNTY,SALNTY_FLAG_W,DNSSAL,DNSSAL_FLAG_W,CTDOXY,CTDOXY_FLAG_W,OXYGEN,OXYGEN_FLAG_W,CTDXMISS,CTDXMISSCP,CTDXMISS_FLAG_W,CTDFLUOR,CTDFLUOR_FLAG_W,CHLORA,CHLORA_FLAG_W,PAR,PAR_FLAG_W,SILCAT,SILCAT_FLAG_W,SILUNC,NITRAT,NITRAT_FLAG_W,NRAUNC,NITRIT,NITRIT_FLAG_W,NRIUNC,PHSPHT,PHSPHT_FLAG_W,PHPUNC,CFC-11,CFC-11_FLAG_W,CFC-12,CFC-12_FLAG_W,CFC113,CFC113_FLAG_W,SF6,SF6_FLAG_W,TCARBN,TCARBN_FLAG_W,ALKALI,ALKALI_FLAG_W,PH_TOT,PH_TMP,PH_TOT_FLAG_W,DELC13,DELC13_FLAG_W,C13ERR,DELC14,DELC14_FLAG_W,C14ERR,CS-134,CS-134_FLAG_W,CS134ER,CS-137,CS-137_FLAG_W,CS137ER
,,,,,,,,UTC,DEG,DEG,METERS,DBAR,,ITS-90,,ITS-90,,PSS-78,,PSS-78,,G/KG,,UMOL/KG,,UMOL/KG,,%TRANS,/METER,,MG/M^3,,MG/CUM,,UE/SQM/S,,UMOL/KG,,UMOL/KG,UMOL/KG,,UMOL/KG,UMOL/KG,,UMOL/KG,UMOL/KG,,UMOL/KG,PMOL/KG,,PMOL/KG,,PMOL/KG,,FMOL/KG,,UMOL/KG,,UMOL/KG,,,DEG C,,/MILLE,,/MILLE,/MILLE,,/MILLE,MBQ/KG,,MBQ/KG,MBQ/KG,,MBQ/KG
  49NZ20130106,  S04I,   116,  1,     36, X12J36,2,20130119,2152,-61.8090,  76.6812, 3940,      5.9,2,   1.2752,2,   1.27532,2,  33.6323,2,  33.6325,2,  33.8004,2,   342.74,2,   342.89,2,   97.585,   0.0978,2,    0.260,2,  -999.00,9,   35.710,2,    32.67,2,     0.09,    26.24,2,     0.04,     0.28,2,     0.01,     1.80,2,     0.01,    5.796,2,    3.234,2,    0.630,2,    2.796,2,   2155.2,2,   2276.2,2,   7.6770,       25,6, -999.000,1, -999.000,   -999.0,1,   -999.0, -999.000,9, -999.000, -999.000,9, -999.000
  49NZ20130106,  S04I,   116,  1,     35, X12J35,2,20130119,2152,-61.8090,  76.6812, 3940,     24.9,2,   1.0438,2,   1.04772,2,  33.6290,2,  33.6298,2,  33.7918,2,   344.25,2,   344.64,2,   97.430,   0.1041,2,    0.290,2,  -999.00,9,   10.061,2,    32.58,2,     0.09,    26.27,2,     0.04,     0.27,2,     0.01,     1.80,2,     0.01,    5.827,2,    3.271,2,    0.637,2,    2.777,2,   2155.4,2,   2275.1,2,   7.6773,       25,2, -999.000,1, -999.000,   -999.0,1,   -999.0, -999.000,9, -999.000, -999.000,9, -999.000
  49NZ20130106,  S04I,   116,  1,     34, X12J34,2,20130119,2152,-61.8090,  76.6812, 3940,     50.3,2,  -1.3944,2,  -1.39143,2,  33.8770,2,  33.8757,2,  34.0411,2,   337.58,2,   337.73,2,   96.499,   0.1426,2,    0.470,2,  -999.00,9,    2.621,2,    36.66,2,     0.09,    27.45,2,     0.04,     0.15,2,     0.01,     1.90,2,     0.01,    5.446,6,    3.039,6,    0.590,6,    2.548,6,   2175.9,2,   2291.4,2,   7.6593,       25,2, -999.000,1, -999.000,   -999.0,1,   -999.0, -999.000,9, -999.000, -999.000,9, -999.000
  49NZ20130106,  S04I,   116,  1,     33, X12J33,2,20130119,2152,-61.8090,  76.6812, 3940,     76.1,2,  -1.4379,2,  -1.43760,2,  33.9563,2,  33.9530,2,  34.1189,2,   322.04,2,   322.86,2,   97.862,   0.0864,2,    0.410,2,  -999.00,9,    0.704,2,    40.67,2,     0.10,    28.44,2,     0.04,     0.15,2,     0.01,     1.98,2,     0.01,    5.101,2,    2.885,2,    0.559,2,    2.330,2,   2186.8,6,   2295.5,2,   7.6420,       25,2, -999.000,1, -999.000,   -999.0,1,   -999.0, -999.000,9, -999.000, -999.000,9, -999.000
  49NZ20130106,  S04I,   116,  1,     32, X12J32,2,20130119,2152,-61.8090,  76.6812, 3940,    101.0,2,  -1.1011,2,  -1.10553,2,  34.0481,2,  34.0439,2,  34.2106,2,   296.98,2,   297.76,2,   98.469,   0.0617,2,    0.480,2,  -999.00,9,    0.185,2,    46.24,2,     0.10,    29.96,2,     0.04,     0.15,2,     0.01,     2.10,2,     0.01,    4.576,2,    2.596,2,    0.493,2,    2.370,2,   2201.5,2,   2300.4,6,   7.6165,       25,2, -999.000,1, -999.000,   -999.0,1,   -999.0, -999.000,9, -999.000, -999.000,9, -999.000
  49NZ20130106,  S04I,   116,  1,     31, X12J31,2,20130119,2152,-61.8090,  76.6812, 3940,    125.2,2,   0.7868,2,   0.79305,2,  34.3251,2,  34.3139,2,  34.4816,2,   216.47,2,   219.09,2,   99.209,   0.0318,2,    0.230,2,  -999.00,9,    0.032,2,    63.26,2,     0.12,    34.21,2,     0.05,     0.13,2,     0.01,     2.40,2,     0.01,    2.727,2,    1.487,2,    0.257,2,    1.134,2,   2239.5,2,   2314.2,2,   7.5443,       25,2, -999.000,1, -999.000,   -999.0,1,   -999.0, -999.000,9, -999.000, -999.000,9, -999.000
  49NZ20130106,  S04I,   116,  1,     30, X12J30,2,20130119,2152,-61.8090,  76.6812, 3940,    151.5,2,   1.7555,2,   1.75563,2,  34.4738,2,  34.4721,2,  34.6411,2,   178.88,2,   179.12,2,   99.633,   0.0147,2,    0.090,2,  -999.00,9,    0.000,2,    73.07,2,     0.12,    35.96,2,     0.05,     0.05,2,     0.01,     2.50,2,     0.01,    1.601,2,    0.834,2,    0.134,2,    0.461,2,   2258.7,2,   2324.7,2,   7.5175,       25,6, -999.000,1, -999.000,   -999.0,1,   -999.0, -999.000,9, -999.000, -999.000,9, -999.000
  49NZ20130106,  S04I,   116,  1,     29, X12J29,2,20130119,2152,-61.8090,  76.6812, 3940,    200.8,2,   1.8978,2,   1.89731,2,  34.5384,2,  34.5380,2,  34.7090,2,   171.09,2,   171.03,2,   99.752,   0.0099,2,    0.010,2,  -999.00,9,    0.000,2,    77.25,2,     0.13,    35.73,2,     0.05,     0.02,2,     0.01,     2.49,2,     0.01,    1.104,2,    0.602,2,    0.090,2,    0.376,2,   2262.9,2,   2329.7,2,   7.5214,       25,2, -999.000,1, -999.000,   -999.0,1,   -999.0, -999.000,9, -999.000, -999.000,9, -999.000
  49NZ20130106,  S04I,   116,  1,     28, X12J28,2,20130119,2152,-61.8090,  76.6812, 3940,    251.8,2,   1.9617,2,   1.96165,2,  34.5841,2,  34.5838,2,  34.7381,3,   169.11,2,   169.14,2,   99.815,   0.0074,2,    0.010,2,  -999.00,9,    0.000,2,    79.46,2,     0.13,    35.16,2,     0.05,     0.01,2,     0.01,     2.45,2,     0.01,    0.840,2,    0.465,2,    0.068,2,    0.236,2,   2262.2,2,   2333.6,2,   7.5282,       25,2, -999.000,1, -999.000,   -999.0,1,   -999.0, -999.000,9, -999.000, -999.000,9, -999.000
  49NZ20130106,  S04I,   116,  1,     27, X12J27,2,20130119,2152,-61.8090,  76.6812, 3940,    280.4,2,   1.9749,2,   1.97491,2,  34.6037,2,  34.6037,2,  34.7763,2,   169.39,2,   169.48,2,   99.843,   0.0063,2,    0.000,2,  -999.00,9,    0.000,2,    80.34,2,     0.13,    34.88,2,     0.05,     0.01,2,     0.01,     2.42,2,     0.01,    0.753,2,    0.413,2,    0.055,2,    0.238,2,   2262.0,2,   2335.0,2,   7.5341,       25,2, -999.000,1, -999.000,   -999.0,1,   -999.0, -999.000,9, -999.000, -999.000,9, -999.000
  49NZ20130106,  S04I,   116,  1,     26, X12J26,2,20130119,2152,-61.8090,  76.6812, 3940,    370.3,2,   1.9830,2,   1.98317,2,  34.6502,2,  34.6500,2,  34.8218,2,   172.92,2,   172.92,2,   99.881,   0.0048,2,    0.000,2,  -999.00,9,    0.000,2,    81.83,2,     0.13,    33.84,2,     0.05,     0.01,2,     0.01,     2.33,2,     0.01,    0.575,2,    0.303,2,    0.043,2,    0.166,2,   2260.4,2,   2338.7,2,   7.5507,       25,2, -999.000,1, -999.000,   -999.0,1,   -999.0, -999.000,9, -999.000, -999.000,9, -999.000
  49NZ20130106,  S04I,   116,  1,     25, X12J25,2,20130119,2152,-61.8090,  76.6812, 3940,    470.3,2,   2.0086,2,   2.00850,2,  34.6895,2,  34.6892,2,  34.8613,2,   178.86,2,   179.04,2,   99.944,   0.0022,2,    0.000,2,  -999.00,9,    0.000,2,    81.43,2,     0.13,    32.67,2,     0.05,     0.01,2,     0.01,     2.25,2,     0.01,    0.388,2,    0.219,2,    0.029,2,    0.139,2,   2259.2,2,   2341.8,2,   7.5694,       25,2, -999.000,1, -999.000,   -999.0,1,   -999.0, -999.000,9, -999.000, -999.000,9, -999.000
  49NZ20130106,  S04I,   116,  1,     24, X12J24,2,20130119,2152,-61.8090,  76.6812, 3940,    571.4,2,   1.9437,2,   1.94365,2,  34.7082,2,  34.7086,2,  34.8811,2,   183.07,2,   183.09,2,   99.942,   0.0023,2,    0.000,2,  -999.00,9,    0.000,2,    82.63,2,     0.13,    32.03,2,     0.04,     0.01,2,     0.01,     2.21,2,     0.01,    0.347,6,    0.194,6,    0.023,6,    0.103,6,   2253.2,2,   2342.9,2,   7.5789,       25,2, -999.000,1, -999.000,   -999.0,1,   -999.0, -999.000,9, -999.000, -999.000,9, -999.000
  49NZ20130106,  S04I,   116,  1,     23, X12J23,2,20130119,2152,-61.8090,  76.6812, 3940,    669.5,2,   1.9123,2,   1.91224,2,  34.7253,2,  34.7255,2,  34.8950,2,   187.70,2,   187.77,2,   99.930,   0.0028,2,    0.000,2,  -999.00,9,    0.000,2,    82.84,2,     0.13,    31.49,2,     0.04,     0.01,2,     0.01,     2.18,2,     0.01,    0.282,2,    0.162,2,    0.020,2,    0.048,2,   2252.4,6,   2344.1,2,   7.5906,       25,2, -999.000,1, -999.000,   -999.0,1,   -999.0, -999.000,9, -999.000, -999.000,9, -999.000
  49NZ20130106,  S04I,   116,  1,     22, X12J22,2,20130119,2152,-61.8090,  76.6812, 3940,    771.3,2,   1.8482,2,   1.84831,2,  34.7351,2,  34.7346,2,  34.9055,2,   191.37,2,   191.33,2,   99.934,   0.0026,2,    0.000,2,  -999.00,9,    0.000,2,    83.69,2,     0.13,    31.09,2,     0.04,     0.01,2,     0.01,     2.15,2,     0.01,    0.253,2,    0.144,2,    0.020,2,    0.058,2,   2251.0,2,   2345.8,6,   7.5981,       25,2, -999.000,1, -999.000,   -999.0,1,   -999.0, -999.000,9, -999.000, -999.000,9, -999.000
  49NZ20130106,  S04I,   116,  1,     21, X12J21,2,20130119,2152,-61.8090,  76.6812, 3940,    869.4,2,   1.7806,2,   1.78199,2,  34.7410,2,  34.7409,2,  34.9114,2,   194.57,2,   194.29,2,   99.930,   0.0028,2,    0.000,2,  -999.00,9,    0.000,2,    84.52,2,     0.13,    30.79,2,     0.04,     0.01,2,     0.01,     2.13,2,     0.01,    0.236,2,    0.136,2,    0.018,2,    0.041,2,   2248.3,2,   2347.0,2,   7.6035,       25,6, -999.000,1, -999.000,   -999.0,1,   -999.0, -999.000,9, -999.000, -999.000,9, -999.000
  49NZ20130106,  S04I,   116,  1,     20, X12J20,2,20130119,2152,-61.8090,  76.6812, 3940,    958.7,2,   1.7053,2,   1.70586,2,  34.7438,2,  34.7441,2,  34.9167,2,   196.94,2,   196.92,2,   99.949,   0.0020,2,    0.000,2,  -999.00,9,    0.000,2,    86.24,2,     0.14,    30.65,2,     0.04,     0.01,2,     0.01,     2.12,2,     0.01,    0.222,2,    0.163,2,    0.017,2,    0.036,2,   2248.7,2,   2348.4,2,   7.6074,       25,2, -999.000,1, -999.000,   -999.0,1,   -999.0, -999.000,9, -999.000, -999.000,9, -999.000
  49NZ20130106,  S04I,   116,  1,     19, X12J19,2,20130119,2152,-61.8090,  76.6812, 3940,   1170.4,2,   1.4928,2,   1.49238,2,  34.7412,2,  34.7415,2,  34.9121,2,   200.54,2,   200.47,2,   99.968,   0.0013,2,   -0.000,2,  -999.00,9,    0.000,2,    91.41,2,     0.14,    30.70,2,     0.04,     0.01,2,     0.01,     2.13,2,     0.01,    0.218,6,    0.119,6,    0.016,6,    0.025,6,   2251.1,2,   2350.6,2,   7.6102,       25,2, -999.000,1, -999.000,   -999.0,1,   -999.0, -999.000,9, -999.000, -999.000,9, -999.000
  49NZ20130106,  S04I,   116,  1,     18, X12J18,2,20130119,2152,-61.8090,  76.6812, 3940,   1419.6,2,   1.2644,2,   1.26435,2,  34.7318,2,  34.7319,2,  34.9042,2,   202.76,2,   202.75,2,   99.964,   0.0014,2,   -0.000,2,  -999.00,9,    0.000,2,    97.75,2,     0.15,    31.09,2,     0.04,     0.01,2,     0.01,     2.15,2,     0.01,    0.216,2,    0.121,2,    0.015,2,    0.058,2,   2252.3,2,   2352.6,2,   7.6082,       25,2, -999.000,1, -999.000,   -999.0,1,   -999.0, -999.000,9, -999.000, -999.000,9, -999.000
  49NZ20130106,  S04I,   116,  1,     17, X12J17,2,20130119,2152,-61.8090,  76.6812, 3940,   1671.0,2,   1.0574,2,   1.05718,2,  34.7213,2,  34.7214,2,  34.8936,2,   204.71,2,   204.82,2,   99.961,   0.0016,2,   -0.000,2,  -999.00,9,    0.000,2,   103.51,2,     0.15,    31.53,2,     0.04,     0.01,2,     0.01,     2.19,2,     0.01,    0.225,2,    0.122,2,    0.013,2,    0.021,2,   2254.3,2,   2354.2,2,   7.6050,       25,6, -999.000,1, -999.000,   -999.0,1,   -999.0, -999.000,9, -999.000, -999.000,9, -999.000
  49NZ20130106,  S04I,   116,  1,     16, X12J16,2,20130119,2152,-61.8090,  76.6812, 3940,   1921.3,2,   0.8801,2,   0.88017,2,  34.7114,2,  34.7116,2,  34.8837,2,   206.18,2,   206.30,2,   99.972,   0.0011,2,   -0.000,2,  -999.00,9,    0.000,2,   108.57,2,     0.16,    31.81,2,     0.04,     0.01,2,     0.01,     2.20,2,     0.01,    0.242,2,    0.123,2,    0.012,2,    0.044,2,   2257.6,2,   2355.5,2,   7.6018,       25,2, -999.000,1, -999.000,   -999.0,1,   -999.0, -999.000,9, -999.000, -999.000,9, -999.000
  49NZ20130106,  S04I,   116,  1,     15, X12J15,2,20130119,2152,-61.8090,  76.6812, 3940,   2171.9,2,   0.7124,2,   0.71224,2,  34.7014,2,  34.7011,2,  34.8758,2,   207.64,2,   207.77,2,   99.966,   0.0014,2,   -0.000,2,  -999.00,9,    0.000,2,   113.91,2,     0.16,    32.25,2,     0.05,     0.01,2,     0.01,     2.23,2,     0.01,    0.229,2,    0.124,2,    0.009,2,    0.000,2,   2259.7,2,   2356.3,2,   7.5968,       25,2, -999.000,1, -999.000,   -999.0,1,   -999.0, -999.000,9, -999.000, -999.000,9, -999.000
  49NZ20130106,  S04I,   116,  1,     14, X12J14,2,20130119,2152,-61.8090,  76.6812, 3940,   2421.0,2,   0.5701,2,   0.57011,2,  34.6933,2,  34.6934,2,  34.8686,2,   209.38,2,   209.47,2,   99.976,   0.0010,2,   -0.000,2,  -999.00,9,    0.000,2,   118.30,2,     0.17,    32.61,2,     0.05,     0.01,2,     0.01,     2.26,2,     0.01,    0.228,2,    0.123,2,    0.009,2,    0.040,2,   2261.2,6,   2356.2,2,   7.5933,       25,2, -999.000,1, -999.000,   -999.0,1,   -999.0, -999.000,9, -999.000, -999.000,9, -999.000
  49NZ20130106,  S04I,   116,  1,     13, X12J13,2,20130119,2152,-61.8090,  76.6812, 3940,   2669.9,2,   0.4439,2,   0.44391,2,  34.6863,2,  34.6866,2,  34.8640,2,   212.01,2,   212.11,2,   99.968,   0.0013,2,   -0.000,2,  -999.00,9,    0.000,2,   121.76,2,     0.17,    32.79,2,     0.05,     0.01,2,     0.01,     2.28,2,     0.01,    0.226,2,    0.123,2,    0.009,2,    0.039,2,   2261.3,2,   2356.0,6,   7.5924,       25,2, -999.000,1, -999.000,   -999.0,1,   -999.0, -999.000,9, -999.000, -999.000,9, -999.000
  49NZ20130106,  S04I,   116,  1,     12, X12J12,2,20130119,2152,-61.8090,  76.6812, 3940,   2920.1,2,   0.3410,2,   0.34098,2,  34.6810,2,  34.6808,2,  34.8587,2,   214.99,2,   215.09,2,   99.955,   0.0018,2,   -0.000,2,  -999.00,9,    0.000,2,   124.22,2,     0.17,    32.90,2,     0.05,     0.01,2,     0.01,     2.28,2,     0.01,    0.232,2,    0.127,2,    0.009,2,    0.044,2,   2261.5,2,   2356.3,2,   7.5924,       25,2, -999.000,1, -999.000,   -999.0,1,   -999.0, -999.000,9, -999.000, -999.000,9, -999.000
  49NZ20130106,  S04I,   116,  1,     11, X12J11,2,20130119,2152,-61.8090,  76.6812, 3940,   3170.3,2,   0.2314,2,   0.23137,2,  34.6758,2,  34.6757,2,  34.8517,2,   218.75,2,   218.81,2,   99.949,   0.0020,2,   -0.000,2,  -999.00,9,    0.000,2,   126.70,2,     0.17,    32.88,2,     0.05,     0.01,2,     0.01,     2.29,2,     0.01,    0.256,2,    0.141,2,    0.011,2,    0.030,2,   2261.8,2,   2355.8,2,   7.5926,       25,2, -999.000,1, -999.000,   -999.0,1,   -999.0, -999.000,9, -999.000, -999.000,9, -999.000
  49NZ20130106,  S04I,   116,  1,     10, X12J10,2,20130119,2152,-61.8090,  76.6812, 3940,   3421.6,2,   0.1540,2,   0.15414,2,  34.6722,2,  34.6714,2,  34.8488,2,   221.80,2,   221.99,2,   99.915,   0.0034,2,   -0.010,2,  -999.00,9,    0.000,2,   130.31,2,     0.18,    32.92,2,     0.05,     0.01,2,     0.01,     2.29,2,     0.01,    0.240,2,    0.130,2,    0.010,2,    0.029,2,   2260.9,2,   2355.1,2,   7.5946,       25,2, -999.000,1, -999.000,   -999.0,1,   -999.0, -999.000,9, -999.000, -999.000,9, -999.000
  49NZ20130106,  S04I,   116,  1,      9, X12J09,2,20130119,2152,-61.8090,  76.6812, 3940,   3670.9,2,   0.0784,2,   0.07860,2,  34.6684,2,  34.6684,2,  34.8429,2,   225.00,2,   225.19,2,   99.885,   0.0046,2,   -0.010,2,  -999.00,9,    0.000,2,   132.29,2,     0.18,    32.97,2,     0.05,     0.01,2,     0.01,     2.29,2,     0.01,    0.294,2,    0.161,2,    0.013,2,    0.016,2,   2259.7,2,   2355.3,2,   7.5950,       25,2, -999.000,1, -999.000,   -999.0,1,   -999.0, -999.000,9, -999.000, -999.000,9, -999.000
  49NZ20130106,  S04I,   116,  1,      8, X12J08,2,20130119,2152,-61.8090,  76.6812, 3940,   3920.1,2,  -0.0319,2,  -0.03191,2,  34.6634,2,  34.6633,2,  34.8383,2,   228.97,2,   229.22,2,   99.794,   0.0082,2,   -0.010,2,  -999.00,9,    0.000,2,   139.14,2,     0.18,    32.97,2,     0.05,     0.01,2,     0.01,     2.29,2,     0.01,    0.436,2,    0.235,2,    0.026,2,    0.046,2,   2260.1,2,   2355.2,2,   7.5963,       25,2, -999.000,1, -999.000,   -999.0,1,   -999.0, -999.000,9, -999.000, -999.000,9, -999.000
  49NZ20130106,  S04I,   116,  1,      1, X12J01,2,20130119,2152,-61.8090,  76.6812, 3940,   4006.0,2,  -0.0835,2,  -0.08360,2,  34.6608,2,  34.6610,2,  34.8369,2,   230.45,2,   230.85,2,   99.741,   0.0104,2,   -0.010,2,  -999.00,9,    0.000,2,   142.94,3,     0.44,    32.85,3,     0.10,     0.01,2,     0.01,     2.29,3,     0.01,    0.491,2,    0.264,2,    0.028,2,    0.116,2,   2260.9,2,   2354.9,2,   7.5950,       25,2, -999.000,1, -999.000,   -999.0,1,   -999.0, -999.000,9, -999.000, -999.000,9, -999.000