BOTTLE,20220819CCHSIOAMB
EXPOCODE,SECT_ID,STNNBR,CASTNO,SAMPNO,BTLNBR,BTLNBR_FLAG_W,DATE,TIME,LATITUDE,LONGITUDE,DEPTH,CTDPRS,CTDPRS_FLAG_W,CTDTMP,CTDTMP_FLAG_W,SBE35,SBE35_FLAG_W,CTDSAL,CTDSAL_FLAG_W,SALNTY,SALNTY_FLAG_W,DNSSAL,DNSSAL_FLAG_W,CTDOXY,CTDOXY_FLAG_W,OXYGEN,OXYGEN_FLAG_W,CTDXMISS,CTDXMISSCP,CTDXMISS_FLAG_W,CTDFLUOR,CTDFLUOR_FLAG_W,CHLORA,CHLORA_FLAG_W,PAR,PAR_FLAG_W,SILCAT,SILCAT_FLAG_W,SILUNC,NITRAT,NITRAT_FLAG_W,NRAUNC,NITRIT,NITRIT_FLAG_W,NRIUNC,PHSPHT,PHSPHT_FLAG_W,PHPUNC,CFC-11,CFC-11_FLAG_W,CFC-12,CFC-12_FLAG_W,CFC113,CFC113_FLAG_W,SF6,SF6_FLAG_W,TCARBN,TCARBN_FLAG_W,ALKALI,ALKALI_FLAG_W,PH_TOT,PH_TMP,PH_TOT_FLAG_W,DELC13,DELC13_FLAG_W,C13ERR,DELC14,DELC14_FLAG_W,C14ERR,CS-134,CS-134_FLAG_W,CS134ER,CS-137,CS-137_FLAG_W,CS137ER
,,,,,,,,UTC,DEG,DEG,METERS,DBAR,,ITS-90,,ITS-90,,PSS-78,,PSS-78,,G/KG,,UMOL/KG,,UMOL/KG,,%TRANS,/METER,,MG/M^3,,MG/CUM,,UE/SQM/S,,UMOL/KG,,UMOL/KG,UMOL/KG,,UMOL/KG,UMOL/KG,,UMOL/KG,UMOL/KG,,UMOL/KG,PMOL/KG,,PMOL/KG,,PMOL/KG,,FMOL/KG,,UMOL/KG,,UMOL/KG,,,DEG C,,/MILLE,,/MILLE,/MILLE,,/MILLE,MBQ/KG,,MBQ/KG,MBQ/KG,,MBQ/KG
  49NZ20130106,  S04I,   121,  1,     36, X12J36,2,20130121,0911,-61.7645,  68.6083, 4262,      5.1,2,   0.8951,2,   0.89501,2,  33.6437,2,  33.6437,2,-999.0000,9,   343.77,2,   343.81,2,   96.248,   0.1530,2,    0.100,2,  -999.00,9,  556.744,2,    30.86,2,     0.09,    25.92,2,     0.04,     0.27,2,     0.01,     1.78,2,     0.01,    5.901,2,    3.270,2,    0.557,2,    2.997,2,   2153.2,2,   2277.2,2,   7.6827,       25,6, -999.000,9, -999.000,   -999.0,9,   -999.0, -999.000,9, -999.000, -999.000,9, -999.000
  49NZ20130106,  S04I,   121,  1,     35, X12J35,2,20130121,0911,-61.7645,  68.6083, 4262,     24.2,2,   0.7367,2,   0.73627,2,  33.6528,2,  33.6533,2,-999.0000,9,   344.97,2,   345.11,2,   95.877,   0.1684,2,    0.230,2,  -999.00,9,  112.474,2,    30.80,2,     0.09,    25.95,2,     0.04,     0.26,2,     0.01,     1.78,2,     0.01,    5.953,2,    3.286,2,    0.566,2,    3.034,2,   2156.7,2,   2276.9,2,   7.6826,       25,2, -999.000,9, -999.000,   -999.0,9,   -999.0, -999.000,9, -999.000, -999.000,9, -999.000
  49NZ20130106,  S04I,   121,  1,     34, X12J34,2,20130121,0911,-61.7645,  68.6083, 4262,     48.9,2,  -0.2453,2,  -0.24852,2,  33.7180,2,  33.7199,2,-999.0000,9,   355.33,2,   355.52,2,   93.017,   0.2896,2,    0.890,2,  -999.00,9,   31.515,2,    30.14,2,     0.09,    25.96,2,     0.04,     0.22,2,     0.01,     1.79,2,     0.01,    6.038,6,    3.322,6,    0.569,6,    2.953,6,   2157.4,2,   2281.8,2,   7.6850,       25,2, -999.000,9, -999.000,   -999.0,9,   -999.0, -999.000,9, -999.000, -999.000,9, -999.000
  49NZ20130106,  S04I,   121,  1,     33, X12J33,2,20130121,0911,-61.7645,  68.6083, 4262,     74.9,2,  -1.6284,2,  -1.62858,2,  33.9111,2,  33.9105,2,-999.0000,9,   334.25,2,   334.46,2,   97.678,   0.0940,2,    0.640,2,  -999.00,9,    4.133,2,    35.43,2,     0.09,    27.68,2,     0.04,     0.17,2,     0.01,     1.93,2,     0.01, -999.000,5, -999.000,5, -999.000,5, -999.000,5,   2180.1,6,   2293.7,2,   7.6531,       25,2, -999.000,9, -999.000,   -999.0,9,   -999.0, -999.000,9, -999.000, -999.000,9, -999.000
  49NZ20130106,  S04I,   121,  1,     32, X12J32,2,20130121,0911,-61.7645,  68.6083, 4262,     98.3,2,  -1.3562,2,  -1.35568,2,  33.9764,2,  33.9729,2,-999.0000,9,   314.96,2,   316.48,2,   98.164,   0.0741,2,    0.570,2,  -999.00,9,    1.209,2,    40.47,2,     0.10,    28.73,2,     0.04,     0.17,2,     0.01,     2.01,2,     0.01, -999.000,5, -999.000,5, -999.000,5, -999.000,5,   2190.5,2,   2297.0,6,   7.6335,       25,2, -999.000,9, -999.000,   -999.0,9,   -999.0, -999.000,9, -999.000, -999.000,9, -999.000
  49NZ20130106,  S04I,   121,  1,     31, X12J31,2,20130121,0911,-61.7645,  68.6083, 4262,    124.5,2,   0.5154,2,   0.52236,2,  34.2445,2,  34.2394,2,-999.0000,9,   234.58,2,   237.67,2,   99.131,   0.0349,2,    0.240,2,  -999.00,9,    0.329,2,    58.02,2,     0.11,    33.27,2,     0.05,     0.17,2,     0.01,     2.32,2,     0.01, -999.000,5, -999.000,5, -999.000,5, -999.000,5,   2229.8,2,   2309.9,2,   7.5602,       25,2, -999.000,9, -999.000,   -999.0,9,   -999.0, -999.000,9, -999.000, -999.000,9, -999.000
  49NZ20130106,  S04I,   121,  1,     30, X12J30,2,20130121,0911,-61.7645,  68.6083, 4262,    150.1,2,   1.6101,2,   1.60704,2,  34.4358,2,  34.4287,2,-999.0000,9,   186.65,2,   188.89,2,   99.665,   0.0134,2,    0.090,2,  -999.00,9,    0.094,2,    70.08,2,     0.12,    35.64,2,     0.05,     0.06,2,     0.01,     2.47,2,     0.01,    1.971,2,    1.026,2,    0.158,2,    0.750,2,   2252.9,2,   2321.2,2,   7.5243,       25,2, -999.000,9, -999.000,   -999.0,9,   -999.0, -999.000,9, -999.000, -999.000,9, -999.000
  49NZ20130106,  S04I,   121,  1,     29, X12J29,2,20130121,0911,-61.7645,  68.6083, 4262,    202.4,2,   1.8702,2,   1.87686,2,  34.5318,2,  34.5304,2,-999.0000,9,   172.44,2,   172.66,2,   99.786,   0.0086,2,    0.010,2,  -999.00,9,    0.000,2,    77.01,2,     0.13,    35.79,2,     0.05,     0.01,2,     0.01,     2.48,2,     0.01,    1.256,2,    0.651,2,    0.103,2,    0.415,2,   2262.5,2,   2329.2,2,   7.5214,       25,2, -999.000,9, -999.000,   -999.0,9,   -999.0, -999.000,9, -999.000, -999.000,9, -999.000
  49NZ20130106,  S04I,   121,  1,     28, X12J28,2,20130121,0911,-61.7645,  68.6083, 4262,    249.0,2,   1.9019,2,   1.90173,2,  34.5821,2,  34.5813,2,-999.0000,9,   170.06,2,   170.15,2,   99.788,   0.0085,2,    0.000,2,  -999.00,9,    0.000,2,    80.54,2,     0.13,    35.36,2,     0.05,     0.01,2,     0.01,     2.45,2,     0.01,    0.959,2,    0.511,2,    0.074,2,    0.245,2,   2262.9,2,   2333.2,2,   7.5284,       25,2, -999.000,9, -999.000,   -999.0,9,   -999.0, -999.000,9, -999.000, -999.000,9, -999.000
  49NZ20130106,  S04I,   121,  1,     27, X12J27,2,20130121,0911,-61.7645,  68.6083, 4262,    329.5,2,   2.0084,2,   2.00788,2,  34.6323,2,  34.6317,2,-999.0000,9,   171.61,2,   171.57,2,   99.852,   0.0059,2,    0.000,2,  -999.00,9,    0.000,2,    80.69,2,     0.13,    34.27,2,     0.05,     0.01,2,     0.01,     2.37,2,     0.01,    0.684,2,    0.345,2,    0.047,2,    0.174,2,   2259.8,2,   2337.2,2,   7.5459,       25,2, -999.000,9, -999.000,   -999.0,9,   -999.0, -999.000,9, -999.000, -999.000,9, -999.000
  49NZ20130106,  S04I,   121,  1,     26, X12J26,2,20130121,0911,-61.7645,  68.6083, 4262,    430.8,2,   1.9658,2,   1.96567,2,  34.6655,2,  34.6646,2,-999.0000,9,   175.17,2,   175.13,2,   99.899,   0.0040,2,    0.000,2,  -999.00,9,    0.000,2,    82.25,2,     0.13,    33.52,2,     0.05,     0.01,2,     0.01,     2.30,2,     0.01,    0.570,2,    0.286,2,    0.039,2,    0.122,2,   2258.1,2,   2340.0,2,   7.5577,       25,2, -999.000,9, -999.000,   -999.0,9,   -999.0, -999.000,9, -999.000, -999.000,9, -999.000
  49NZ20130106,  S04I,   121,  1,     25, X12J25,2,20130121,0911,-61.7645,  68.6083, 4262,    531.5,2,   1.9410,2,   1.94124,2,  34.6947,2,  34.6944,2,-999.0000,9,   180.35,2,   180.33,2,   99.928,   0.0029,2,    0.000,2,  -999.00,9,    0.000,2,    82.85,2,     0.13,    32.70,2,     0.05,     0.01,2,     0.01,     2.25,2,     0.01,    0.460,2,    0.229,2,    0.032,2,    0.192,2,   2256.0,2,   2342.7,2,   7.5729,       25,2, -999.000,9, -999.000,   -999.0,9,   -999.0, -999.000,9, -999.000, -999.000,9, -999.000
  49NZ20130106,  S04I,   121,  1,     24, X12J24,2,20130121,0911,-61.7645,  68.6083, 4262,    629.0,2,   1.8984,2,   1.89862,2,  34.7140,2,  34.7134,2,-999.0000,9,   185.11,2,   185.13,2,   99.926,   0.0030,2,    0.000,2,  -999.00,9,    0.000,2,    83.50,2,     0.13,    32.01,2,     0.04,     0.01,2,     0.01,     2.21,2,     0.01,    0.394,6,    0.193,6,    0.027,6,    0.138,6,   2253.3,2,   2343.5,2,   7.5837,       25,2, -999.000,9, -999.000,   -999.0,9,   -999.0, -999.000,9, -999.000, -999.000,9, -999.000
  49NZ20130106,  S04I,   121,  1,     23, X12J23,2,20130121,0911,-61.7645,  68.6083, 4262,    731.6,2,   1.8135,2,   1.81284,2,  34.7261,2,  34.7262,2,-999.0000,9,   189.41,2,   189.71,2,   99.928,   0.0029,2,    0.000,2,  -999.00,9,    0.000,2,    85.00,2,     0.14,    31.51,2,     0.04,     0.01,2,     0.01,     2.18,2,     0.01,    0.359,2,    0.171,2,    0.021,2,    0.100,2,   2250.7,6,   2344.8,2,   7.5929,       25,2, -999.000,9, -999.000,   -999.0,9,   -999.0, -999.000,9, -999.000, -999.000,9, -999.000
  49NZ20130106,  S04I,   121,  1,     22, X12J22,2,20130121,0911,-61.7645,  68.6083, 4262,    830.5,2,   1.7363,2,   1.73641,2,  34.7323,2,  34.7323,2,-999.0000,9,   192.22,2,   192.54,2,   99.935,   0.0026,2,    0.000,2,  -999.00,9,    0.000,2,    86.35,2,     0.14,    31.29,2,     0.04,     0.01,2,     0.01,     2.16,2,     0.01,    0.327,2,    0.159,2,    0.020,2,    0.113,2,   2250.5,2,   2346.5,6,   7.5976,       25,2, -999.000,9, -999.000,   -999.0,9,   -999.0, -999.000,9, -999.000, -999.000,9, -999.000
  49NZ20130106,  S04I,   121,  1,     21, X12J21,2,20130121,0911,-61.7645,  68.6083, 4262,    931.8,2,   1.6660,2,   1.66608,2,  34.7392,2,  34.7394,2,-999.0000,9,   196.42,2,   196.67,2,   99.933,   0.0027,2,    0.000,2,  -999.00,9,    0.000,2,    87.31,2,     0.14,    30.90,2,     0.04,     0.01,2,     0.01,     2.13,2,     0.01,    0.287,2,    0.140,2,    0.014,2,    0.074,2,   2247.8,2,   2347.5,2,   7.6054,       25,6, -999.000,9, -999.000,   -999.0,9,   -999.0, -999.000,9, -999.000, -999.000,9, -999.000
  49NZ20130106,  S04I,   121,  1,     20, X12J20,2,20130121,0911,-61.7645,  68.6083, 4262,   1080.1,2,   1.5298,2,   1.52996,2,  34.7408,2,  34.7412,2,-999.0000,9,   199.93,2,   199.98,2,   99.943,   0.0023,2,   -0.000,2,  -999.00,9,    0.000,2,    90.21,2,     0.14,    30.77,2,     0.04,     0.01,2,     0.01,     2.13,2,     0.01,    0.263,2,    0.129,2,    0.011,2,    0.084,2,   2248.7,2,   2349.9,2,   7.6093,       25,2, -999.000,9, -999.000,   -999.0,9,   -999.0, -999.000,9, -999.000, -999.000,9, -999.000
  49NZ20130106,  S04I,   121,  1,     19, X12J19,2,20130121,0911,-61.7645,  68.6083, 4262,   1330.8,2,   1.2935,2,   1.29353,2,  34.7340,2,  34.7331,2,-999.0000,9,   202.96,2,   203.16,2,   99.950,   0.0020,2,   -0.000,2,  -999.00,9,    0.000,2,    96.53,2,     0.15,    31.02,2,     0.04,     0.01,2,     0.01,     2.15,2,     0.01,    0.255,6,    0.122,6,    0.010,6,    0.072,6,   2251.1,2,   2351.7,2,   7.6102,       25,2, -999.000,9, -999.000,   -999.0,9,   -999.0, -999.000,9, -999.000, -999.000,9, -999.000
  49NZ20130106,  S04I,   121,  1,     18, X12J18,2,20130121,0911,-61.7645,  68.6083, 4262,   1580.0,2,   1.0876,2,   1.08736,2,  34.7234,2,  34.7236,2,-999.0000,9,   204.95,2,   205.16,2,   99.954,   0.0018,2,   -0.000,2,  -999.00,9,    0.000,2,   102.44,2,     0.15,    31.46,2,     0.04,     0.01,2,     0.01,     2.18,2,     0.01,    0.263,2,    0.124,2,    0.010,2,    0.082,2,   2253.9,2,   2354.4,2,   7.6074,       25,2, -999.000,9, -999.000,   -999.0,9,   -999.0, -999.000,9, -999.000, -999.000,9, -999.000
  49NZ20130106,  S04I,   121,  1,     17, X12J17,2,20130121,0911,-61.7645,  68.6083, 4262,   1830.8,2,   0.8929,2,   0.89293,2,  34.7123,2,  34.7124,2,-999.0000,9,   206.24,2,   206.47,2,   99.960,   0.0016,2,   -0.000,2,  -999.00,9,    0.000,2,   108.29,2,     0.16,    31.94,2,     0.04,     0.01,2,     0.01,     2.21,2,     0.01,    0.272,2,    0.128,2,    0.009,2,    0.126,2,   2257.7,2,   2355.4,2,   7.6026,       25,6, -999.000,9, -999.000,   -999.0,9,   -999.0, -999.000,9, -999.000, -999.000,9, -999.000
  49NZ20130106,  S04I,   121,  1,     16, X12J16,2,20130121,0911,-61.7645,  68.6083, 4262,   2081.5,2,   0.7312,2,   0.73125,2,  34.7029,2,  34.7026,2,-999.0000,9,   207.60,2,   207.87,2,   99.952,   0.0019,2,   -0.000,2,  -999.00,9,    0.000,2,   112.82,2,     0.16,    32.25,2,     0.05,     0.01,2,     0.01,     2.22,2,     0.01,    0.283,2,    0.129,2,    0.009,2,    0.066,2,   2260.0,2,   2356.5,2,   7.5986,       25,2, -999.000,9, -999.000,   -999.0,9,   -999.0, -999.000,9, -999.000, -999.000,9, -999.000
  49NZ20130106,  S04I,   121,  1,     15, X12J15,2,20130121,0911,-61.7645,  68.6083, 4262,   2331.4,2,   0.5908,2,   0.59091,2,  34.6950,2,  34.6949,2,-999.0000,9,   209.23,2,   209.67,2,   99.945,   0.0022,2,   -0.000,2,  -999.00,9,    0.000,2,   117.58,2,     0.16,    32.59,2,     0.05,     0.01,2,     0.01,     2.25,2,     0.01,    0.277,2,    0.126,2,    0.009,2,    0.053,2,   2261.5,2,   2356.3,2,   7.5950,       25,2, -999.000,9, -999.000,   -999.0,9,   -999.0, -999.000,9, -999.000, -999.000,9, -999.000
  49NZ20130106,  S04I,   121,  1,     14, X12J14,2,20130121,0911,-61.7645,  68.6083, 4262,   2580.5,2,   0.4601,2,   0.46003,2,  34.6880,2,  34.6876,2,-999.0000,9,   211.81,2,   212.05,2,   99.954,   0.0018,2,   -0.000,2,  -999.00,9,    0.000,2,   121.53,2,     0.17,    32.83,2,     0.05,     0.01,2,     0.01,     2.28,2,     0.01,    0.265,2,    0.121,2,    0.010,2,    0.048,2,   2262.2,6,   2356.6,2,   7.5933,       25,2, -999.000,9, -999.000,   -999.0,9,   -999.0, -999.000,9, -999.000, -999.000,9, -999.000
  49NZ20130106,  S04I,   121,  1,     13, X12J13,2,20130121,0911,-61.7645,  68.6083, 4262,   2832.8,2,   0.3516,2,   0.35168,2,  34.6824,2,  34.6820,2,-999.0000,9,   214.63,2,   214.86,2,   99.952,   0.0019,2,   -0.010,2,  -999.00,9,    0.000,2,   124.13,2,     0.17,    32.91,2,     0.05,     0.01,2,     0.01,     2.28,2,     0.01,    0.255,2,    0.120,2,    0.006,2,    0.068,2,   2262.1,2,   2356.3,6,   7.5934,       25,2, -999.000,9, -999.000,   -999.0,9,   -999.0, -999.000,9, -999.000, -999.000,9, -999.000
  49NZ20130106,  S04I,   121,  1,     12, X12J12,2,20130121,0911,-61.7645,  68.6083, 4262,   3080.5,2,   0.2498,2,   0.25012,2,  34.6773,2,  34.6771,2,-999.0000,9,   217.89,2,   218.25,2,   99.935,   0.0026,2,   -0.000,2,  -999.00,9,    0.000,2,   126.30,2,     0.17,    32.96,2,     0.05,     0.01,2,     0.01,     2.29,2,     0.01,    0.258,2,    0.119,2,    0.009,2,    0.044,2,   2261.6,2,   2355.8,2,   7.5933,       25,6, -999.000,9, -999.000,   -999.0,9,   -999.0, -999.000,9, -999.000, -999.000,9, -999.000
  49NZ20130106,  S04I,   121,  1,     11, X12J11,2,20130121,0911,-61.7645,  68.6083, 4262,   3331.1,2,   0.1527,2,   0.15263,2,  34.6727,2,  34.6723,2,-999.0000,9,   221.59,2,   221.96,2,   99.926,   0.0030,2,   -0.010,2,  -999.00,9,    0.000,2,   128.35,2,     0.17,    32.99,2,     0.05,     0.01,2,     0.01,     2.29,2,     0.01,    0.256,2,    0.119,2,    0.010,2,    0.064,2,   2260.3,2,   2355.7,2,   7.5939,       25,2, -999.000,9, -999.000,   -999.0,9,   -999.0, -999.000,9, -999.000, -999.000,9, -999.000
  49NZ20130106,  S04I,   121,  1,     10, X12J10,2,20130121,0911,-61.7645,  68.6083, 4262,   3580.3,2,   0.0435,2,   0.04344,2,  34.6677,2,  34.6670,2,-999.0000,9,   226.07,2,   226.47,2,   99.914,   0.0034,2,   -0.010,2,  -999.00,9,    0.000,2,   130.07,2,     0.18,    32.93,2,     0.05,     0.01,2,     0.01,     2.29,2,     0.01,    0.291,2,    0.136,2,    0.009,2,    0.084,2,   2258.8,2,   2355.8,2,   7.5969,       25,2, -999.000,9, -999.000,   -999.0,9,   -999.0, -999.000,9, -999.000, -999.000,9, -999.000
  49NZ20130106,  S04I,   121,  1,      9, X12J09,2,20130121,0911,-61.7645,  68.6083, 4262,   3831.1,2,  -0.0431,2,  -0.04311,2,  34.6635,2,  34.6631,2,-999.0000,9,   230.11,2,   230.38,2,   99.911,   0.0036,2,   -0.010,2,  -999.00,9,    0.000,2,   131.75,2,     0.18,    32.87,2,     0.05,     0.01,2,     0.01,     2.29,2,     0.01,    0.323,2,    0.154,2,    0.012,2,    0.061,2,   2258.8,2,   2354.9,2,   7.5983,       25,2, -999.000,9, -999.000,   -999.0,9,   -999.0, -999.000,9, -999.000, -999.000,9, -999.000
  49NZ20130106,  S04I,   121,  1,      8, X12J08,2,20130121,0911,-61.7645,  68.6083, 4262,   4080.4,2,  -0.1011,2,  -0.10110,2,  34.6606,2,  34.6600,2,-999.0000,9,   232.78,2,   233.31,2,   99.880,   0.0048,2,   -0.010,2,  -999.00,9,    0.000,2,   136.45,2,     0.18,    32.91,2,     0.05,     0.01,2,     0.01,     2.29,2,     0.01,    0.346,6,    0.170,6,    0.011,6,    0.083,6,   2257.7,2,   2354.9,2,   7.6001,       25,2, -999.000,9, -999.000,   -999.0,9,   -999.0, -999.000,9, -999.000, -999.000,9, -999.000
  49NZ20130106,  S04I,   121,  1,      3, X12J03,2,20130121,0911,-61.7645,  68.6083, 4262,     57.0,2,  -0.6576,2,  -0.65788,2,  33.7601,2,-999.0000,9,-999.0000,9,   352.28,2,  -999.00,9,   94.464,   0.2278,2,    0.820,2,  -999.00,9,   11.372,2,  -999.00,9,  -999.00,  -999.00,9,  -999.00,  -999.00,9,  -999.00,  -999.00,9,  -999.00, -999.000,9, -999.000,9, -999.000,9, -999.000,9,   -999.0,9,   -999.0,9,-999.0000,     -999,9, -999.000,9, -999.000,   -999.0,9,   -999.0, -999.000,9, -999.000, -999.000,9, -999.000
  49NZ20130106,  S04I,   121,  1,      2, X12J02,2,20130121,0911,-61.7645,  68.6083, 4262,     56.6,2,  -0.7051,2,  -0.69997,2,  33.7666,2,  33.7644,2,-999.0000,9,   352.21,2,   352.42,2,   94.350,   0.2326,2,    0.880,2,     0.76,2,   11.385,2,    31.14,2,     0.09,    26.26,2,     0.04,     0.20,2,     0.01,     1.82,2,     0.01, -999.000,9, -999.000,9, -999.000,9, -999.000,9,   -999.0,9,   -999.0,9,-999.0000,     -999,9, -999.000,9, -999.000,   -999.0,9,   -999.0, -999.000,9, -999.000, -999.000,9, -999.000
  49NZ20130106,  S04I,   121,  1,      1, X12J01,2,20130121,0911,-61.7645,  68.6083, 4262,   4315.3,2,  -0.1518,2,  -0.15190,2,  34.6573,2,  34.6571,2,-999.0000,9,   235.10,2,   235.26,2,   99.689,   0.0125,2,   -0.010,2,  -999.00,9,    0.000,2,   144.52,2,     0.19,    32.98,2,     0.05,     0.01,2,     0.01,     2.29,2,     0.01,    0.427,2,    0.211,2,    0.020,2,    0.079,2,   2257.8,2,   2356.4,2,   7.6017,       25,2, -999.000,9, -999.000,   -999.0,9,   -999.0, -999.000,9, -999.000, -999.000,9, -999.000