BOTTLE,20220819CCHSIOAMB
EXPOCODE,SECT_ID,STNNBR,CASTNO,SAMPNO,BTLNBR,BTLNBR_FLAG_W,DATE,TIME,LATITUDE,LONGITUDE,DEPTH,CTDPRS,CTDPRS_FLAG_W,CTDTMP,CTDTMP_FLAG_W,SBE35,SBE35_FLAG_W,CTDSAL,CTDSAL_FLAG_W,SALNTY,SALNTY_FLAG_W,DNSSAL,DNSSAL_FLAG_W,CTDOXY,CTDOXY_FLAG_W,OXYGEN,OXYGEN_FLAG_W,CTDXMISS,CTDXMISSCP,CTDXMISS_FLAG_W,CTDFLUOR,CTDFLUOR_FLAG_W,CHLORA,CHLORA_FLAG_W,PAR,PAR_FLAG_W,SILCAT,SILCAT_FLAG_W,SILUNC,NITRAT,NITRAT_FLAG_W,NRAUNC,NITRIT,NITRIT_FLAG_W,NRIUNC,PHSPHT,PHSPHT_FLAG_W,PHPUNC,CFC-11,CFC-11_FLAG_W,CFC-12,CFC-12_FLAG_W,CFC113,CFC113_FLAG_W,SF6,SF6_FLAG_W,TCARBN,TCARBN_FLAG_W,ALKALI,ALKALI_FLAG_W,PH_TOT,PH_TMP,PH_TOT_FLAG_W,DELC13,DELC13_FLAG_W,C13ERR,DELC14,DELC14_FLAG_W,C14ERR,CS-134,CS-134_FLAG_W,CS134ER,CS-137,CS-137_FLAG_W,CS137ER
,,,,,,,,UTC,DEG,DEG,METERS,DBAR,,ITS-90,,ITS-90,,PSS-78,,PSS-78,,G/KG,,UMOL/KG,,UMOL/KG,,%TRANS,/METER,,MG/M^3,,MG/CUM,,UE/SQM/S,,UMOL/KG,,UMOL/KG,UMOL/KG,,UMOL/KG,UMOL/KG,,UMOL/KG,UMOL/KG,,UMOL/KG,PMOL/KG,,PMOL/KG,,PMOL/KG,,FMOL/KG,,UMOL/KG,,UMOL/KG,,,DEG C,,/MILLE,,/MILLE,/MILLE,,/MILLE,MBQ/KG,,MBQ/KG,MBQ/KG,,MBQ/KG
  49NZ20130106,  S04I,   101,  1,     36, X12J36,2,20130116,1121,-62.8103,  90.8587, 3863,      4.4,2,   1.4059,2,   1.40664,2,  33.9984,2,  33.9985,2,-999.0000,9,   341.45,2,   341.61,2,   96.080,   0.1600,2,    0.240,2,  -999.00,9,   58.317,2,    56.03,2,     0.11,    27.12,2,     0.04,     0.24,2,     0.01,     1.76,2,     0.01,    5.621,2,    3.089,2,    0.572,2, -999.000,9,   -999.0,9,   -999.0,9,-999.0000,     -999,9, -999.000,9, -999.000,   -999.0,9,   -999.0, -999.000,9, -999.000, -999.000,9, -999.000
  49NZ20130106,  S04I,   101,  1,     35, X12J35,2,20130116,1121,-62.8103,  90.8587, 3863,     24.6,2,   1.3244,2,   1.33266,2,  34.0007,2,  34.0077,2,-999.0000,9,   341.66,2,   343.55,2,   96.073,   0.1602,2,    0.290,2,  -999.00,9,   17.444,2,    56.11,2,     0.11,    27.19,2,     0.04,     0.22,2,     0.01,     1.80,2,     0.01,    5.625,2,    3.098,2,    0.552,2, -999.000,9,   -999.0,9,   -999.0,9,-999.0000,     -999,9, -999.000,9, -999.000,   -999.0,9,   -999.0, -999.000,9, -999.000, -999.000,9, -999.000
  49NZ20130106,  S04I,   101,  1,     34, X12J34,2,20130116,1121,-62.8103,  90.8587, 3863,     49.6,2,  -0.0770,2,  -0.07443,2,  34.0720,2,  34.0838,2,-999.0000,9,   348.47,2,   347.86,2,   95.355,   0.1903,2,    0.430,2,  -999.00,9,    5.491,2,    56.67,2,     0.11,    27.50,2,     0.04,     0.14,2,     0.01,     1.86,2,     0.01,    5.425,6,    2.968,6,    0.555,6, -999.000,9,   -999.0,9,   -999.0,9,-999.0000,     -999,9, -999.000,9, -999.000,   -999.0,9,   -999.0, -999.000,9, -999.000, -999.000,9, -999.000
  49NZ20130106,  S04I,   101,  1,     33, X12J33,2,20130116,1121,-62.8103,  90.8587, 3863,     74.5,2,  -1.3603,2,  -1.36008,2,  34.2317,2,  34.2372,2,-999.0000,9,   307.42,2,   306.83,2,   95.669,   0.1771,2,    0.760,2,  -999.00,9,    1.144,2,    62.27,2,     0.11,    29.55,2,     0.04,     0.08,2,     0.01,     2.05,2,     0.01,    4.222,2,    2.302,2,    0.411,2, -999.000,9,   -999.0,9,   -999.0,9,-999.0000,     -999,9, -999.000,9, -999.000,   -999.0,9,   -999.0, -999.000,9, -999.000, -999.000,9, -999.000
  49NZ20130106,  S04I,   101,  1,     32, X12J32,2,20130116,1121,-62.8103,  90.8587, 3863,     99.5,2,  -1.1360,2,  -1.13348,2,  34.3228,2,  34.3292,2,-999.0000,9,   274.07,2,   273.28,2,   98.924,   0.0433,2,    0.270,2,  -999.00,9,    0.223,2,    67.87,2,     0.12,    31.23,2,     0.04,     0.10,2,     0.01,     2.17,2,     0.01,    3.636,2,    1.979,2,    0.347,2, -999.000,9,   -999.0,9,   -999.0,9,-999.0000,     -999,9, -999.000,9, -999.000,   -999.0,9,   -999.0, -999.000,9, -999.000, -999.000,9, -999.000
  49NZ20130106,  S04I,   101,  1,     31, X12J31,2,20130116,1121,-62.8103,  90.8587, 3863,    124.9,2,  -0.6105,2,  -0.61066,2,  34.3948,2,  34.3943,2,-999.0000,9,   255.53,2,   254.93,2,   99.396,   0.0242,2,    0.180,2,  -999.00,9,    0.043,2,    70.67,2,     0.12,    31.82,2,     0.04,     0.08,2,     0.01,     2.20,2,     0.01,    3.105,2,    1.689,2,    0.305,2, -999.000,9,   -999.0,9,   -999.0,9,-999.0000,     -999,9, -999.000,9, -999.000,   -999.0,9,   -999.0, -999.000,9, -999.000, -999.000,9, -999.000
  49NZ20130106,  S04I,   101,  1,     30, X12J30,2,20130116,1121,-62.8103,  90.8587, 3863,    149.7,2,  -0.0828,2,  -0.08220,2,  34.4640,2,  34.4636,2,-999.0000,9,   239.59,2,   239.08,2,   99.612,   0.0156,2,    0.100,2,  -999.00,9,    0.000,2,    73.93,2,     0.13,    32.10,2,     0.05,     0.03,2,     0.01,     2.21,2,     0.01,    2.604,2,    1.417,2,    0.261,2, -999.000,9,   -999.0,9,   -999.0,9,-999.0000,     -999,9, -999.000,9, -999.000,   -999.0,9,   -999.0, -999.000,9, -999.000, -999.000,9, -999.000
  49NZ20130106,  S04I,   101,  1,     29, X12J29,2,20130116,1121,-62.8103,  90.8587, 3863,    198.8,2,   0.8490,2,   0.84933,2,  34.5822,2,  34.5785,2,-999.0000,9,   210.60,2,   211.32,2,   99.745,   0.0102,2,    0.030,2,  -999.00,9,    0.000,2,    79.96,2,     0.13,    32.44,2,     0.05,     0.01,2,     0.01,     2.24,2,     0.01,    1.616,2,    0.871,2,    0.156,2, -999.000,9,   -999.0,9,   -999.0,9,-999.0000,     -999,9, -999.000,9, -999.000,   -999.0,9,   -999.0, -999.000,9, -999.000, -999.000,9, -999.000
  49NZ20130106,  S04I,   101,  1,     28, X12J28,2,20130116,1121,-62.8103,  90.8587, 3863,    248.6,2,   1.3875,2,   1.38709,2,  34.6589,2,  34.6593,2,-999.0000,9,   194.66,2,   194.34,2,   99.762,   0.0095,2,    0.010,2,  -999.00,9,    0.000,2,    84.02,2,     0.13,    32.40,2,     0.05,     0.01,2,     0.01,     2.24,2,     0.01,    0.907,2,    0.479,2,    0.082,2, -999.000,9,   -999.0,9,   -999.0,9,-999.0000,     -999,9, -999.000,9, -999.000,   -999.0,9,   -999.0, -999.000,9, -999.000, -999.000,9, -999.000
  49NZ20130106,  S04I,   101,  1,     27, X12J27,2,20130116,1121,-62.8103,  90.8587, 3863,    280.0,2,   1.4022,2,   1.39831,2,  34.6723,2,  34.6722,2,-999.0000,9,   195.02,2,   194.93,2,   99.792,   0.0083,2,    0.010,2,  -999.00,9,    0.000,2,    84.71,2,     0.13,    32.23,2,     0.05,     0.01,2,     0.01,     2.23,2,     0.01,    0.837,2,    0.442,2,    0.081,2, -999.000,9,   -999.0,9,   -999.0,9,-999.0000,     -999,9, -999.000,9, -999.000,   -999.0,9,   -999.0, -999.000,9, -999.000, -999.000,9, -999.000
  49NZ20130106,  S04I,   101,  1,     26, X12J26,2,20130116,1121,-62.8103,  90.8587, 3863,    370.4,2,   1.4943,2,   1.49217,2,  34.7063,2,  34.7075,2,-999.0000,9,   194.80,2,   194.71,2,   99.919,   0.0032,2,    0.010,2,  -999.00,9,    0.000,2,    86.63,2,     0.14,    31.62,2,     0.04,     0.01,2,     0.01,     2.17,2,     0.01,    0.583,2,    0.297,2,    0.060,2, -999.000,9,   -999.0,9,   -999.0,9,-999.0000,     -999,9, -999.000,9, -999.000,   -999.0,9,   -999.0, -999.000,9, -999.000, -999.000,9, -999.000
  49NZ20130106,  S04I,   101,  1,     25, X12J25,2,20130116,1121,-62.8103,  90.8587, 3863,    471.0,2,   1.4120,2,   1.41127,2,  34.7153,2,  34.7149,2,-999.0000,9,   198.08,2,   198.08,2,   99.932,   0.0027,2,    0.000,2,  -999.00,9,    0.000,2,    88.63,2,     0.14,    31.36,2,     0.04,     0.01,2,     0.01,     2.16,2,     0.01,    0.541,2,    0.277,2,    0.057,2, -999.000,9,   -999.0,9,   -999.0,9,-999.0000,     -999,9, -999.000,9, -999.000,   -999.0,9,   -999.0, -999.000,9, -999.000, -999.000,9, -999.000
  49NZ20130106,  S04I,   101,  1,     24, X12J24,2,20130116,1121,-62.8103,  90.8587, 3863,    571.6,2,   1.2179,2,   1.21979,2,  34.7086,2,  34.7088,2,-999.0000,9,   202.95,2,   202.96,2,   99.953,   0.0019,2,    0.000,2,  -999.00,9,    0.000,2,    90.66,2,     0.14,    31.33,2,     0.04,     0.01,2,     0.01,     2.16,2,     0.01,    0.638,6,    0.330,6,    0.055,6, -999.000,9,   -999.0,9,   -999.0,9,-999.0000,     -999,9, -999.000,9, -999.000,   -999.0,9,   -999.0, -999.000,9, -999.000, -999.000,9, -999.000
  49NZ20130106,  S04I,   101,  1,     23, X12J23,2,20130116,1121,-62.8103,  90.8587, 3863,    671.6,2,   1.2751,2,   1.27476,2,  34.7258,2,  34.7259,2,-999.0000,9,   201.04,2,   201.29,2,   99.938,   0.0025,2,   -0.000,2,  -999.00,9,    0.000,2,    94.33,2,     0.14,    31.20,2,     0.04,     0.01,2,     0.01,     2.16,2,     0.01,    0.371,2,    0.181,2,    0.022,2, -999.000,9,   -999.0,9,   -999.0,9,-999.0000,     -999,9, -999.000,9, -999.000,   -999.0,9,   -999.0, -999.000,9, -999.000, -999.000,9, -999.000
  49NZ20130106,  S04I,   101,  1,     22, X12J22,2,20130116,1121,-62.8103,  90.8587, 3863,    770.1,2,   1.1650,2,   1.16516,2,  34.7200,2,  34.7205,2,-999.0000,9,   202.29,2,   202.61,2,   99.929,   0.0028,2,    0.010,2,  -999.00,9,    0.000,2,    96.30,2,     0.15,    31.38,2,     0.04,     0.00,2,     0.01,     2.16,2,     0.01,    0.424,2,    0.211,2,    0.027,2, -999.000,9,   -999.0,9,   -999.0,9,-999.0000,     -999,9, -999.000,9, -999.000,   -999.0,9,   -999.0, -999.000,9, -999.000, -999.000,9, -999.000
  49NZ20130106,  S04I,   101,  1,     21, X12J21,2,20130116,1121,-62.8103,  90.8587, 3863,    870.1,2,   1.1089,2,   1.10895,2,  34.7213,2,  34.7214,2,-999.0000,9,   203.04,2,   203.44,2,   99.942,   0.0023,2,    0.000,2,  -999.00,9,    0.000,2,    99.12,2,     0.15,    31.43,2,     0.04,     0.00,2,     0.01,     2.17,2,     0.01,    0.356,2,    0.172,2,    0.024,2, -999.000,9,   -999.0,9,   -999.0,9,-999.0000,     -999,9, -999.000,9, -999.000,   -999.0,9,   -999.0, -999.000,9, -999.000, -999.000,9, -999.000
  49NZ20130106,  S04I,   101,  1,     20, X12J20,2,20130116,1121,-62.8103,  90.8587, 3863,    959.4,2,   1.0396,2,   1.03959,2,  34.7186,2,  34.7190,2,-999.0000,9,   203.89,2,   204.19,2,   99.932,   0.0027,2,    0.000,2,  -999.00,9,    0.000,2,   101.37,2,     0.15,    31.55,2,     0.04,     0.00,2,     0.01,     2.17,2,     0.01,    0.338,2,    0.162,2,    0.026,2, -999.000,9,   -999.0,9,   -999.0,9,-999.0000,     -999,9, -999.000,9, -999.000,   -999.0,9,   -999.0, -999.000,9, -999.000, -999.000,9, -999.000
  49NZ20130106,  S04I,   101,  1,     19, X12J19,2,20130116,1121,-62.8103,  90.8587, 3863,   1171.1,2,   0.8694,2,   0.86871,2,  34.7101,2,  34.7104,2,-999.0000,9,   205.44,2,   205.62,2,   99.949,   0.0020,2,   -0.000,2,  -999.00,9,    0.000,2,   106.37,2,     0.15,    31.84,2,     0.04,     0.00,2,     0.01,     2.20,2,     0.01,    0.338,6,    0.163,6,    0.026,6, -999.000,9,   -999.0,9,   -999.0,9,-999.0000,     -999,9, -999.000,9, -999.000,   -999.0,9,   -999.0, -999.000,9, -999.000, -999.000,9, -999.000
  49NZ20130106,  S04I,   101,  1,     18, X12J18,2,20130116,1121,-62.8103,  90.8587, 3863,   1422.6,2,   0.6700,2,   0.66971,2,  34.6999,2,  34.7001,2,-999.0000,9,   207.71,2,   208.07,2,  100.001,  -0.0000,2,   -0.000,2,  -999.00,9,    0.000,2,   112.21,2,     0.16,    32.14,2,     0.05,     0.00,2,     0.01,     2.23,2,     0.01,    0.343,2,    0.165,2,    0.025,2, -999.000,9,   -999.0,9,   -999.0,9,-999.0000,     -999,9, -999.000,9, -999.000,   -999.0,9,   -999.0, -999.000,9, -999.000, -999.000,9, -999.000
  49NZ20130106,  S04I,   101,  1,     17, X12J17,2,20130116,1121,-62.8103,  90.8587, 3863,   1671.6,2,   0.5236,2,   0.52357,2,  34.6923,2,  34.6927,2,-999.0000,9,   210.28,2,   210.63,2,   99.993,   0.0003,2,   -0.000,2,  -999.00,9,    0.000,2,   116.12,2,     0.16,    32.46,2,     0.05,     0.00,2,     0.01,     2.25,2,     0.01,    0.369,2,    0.176,2,    0.027,2, -999.000,9,   -999.0,9,   -999.0,9,-999.0000,     -999,9, -999.000,9, -999.000,   -999.0,9,   -999.0, -999.000,9, -999.000, -999.000,9, -999.000
  49NZ20130106,  S04I,   101,  1,     16, X12J16,2,20130116,1121,-62.8103,  90.8587, 3863,   1919.6,2,   0.3783,2,   0.37849,2,  34.6854,2,  34.6853,2,-999.0000,9,   213.74,2,   214.20,2,   99.995,   0.0002,2,   -0.000,2,  -999.00,9,    0.000,2,   118.74,2,     0.17,    32.45,2,     0.05,     0.00,2,     0.01,     2.24,2,     0.01,    0.433,2,    0.210,2,    0.019,2, -999.000,9,   -999.0,9,   -999.0,9,-999.0000,     -999,9, -999.000,9, -999.000,   -999.0,9,   -999.0, -999.000,9, -999.000, -999.000,9, -999.000
  49NZ20130106,  S04I,   101,  1,     15, X12J15,2,20130116,1121,-62.8103,  90.8587, 3863,   2171.6,2,   0.2629,2,   0.26291,2,  34.6804,2,  34.6803,2,-999.0000,9,   217.47,2,   217.95,2,   99.989,   0.0004,2,    0.000,2,  -999.00,9,    0.000,2,   120.72,2,     0.17,    32.46,2,     0.05,     0.00,2,     0.01,     2.25,2,     0.01,    0.541,2,    0.262,2,    0.032,2, -999.000,9,   -999.0,9,   -999.0,9,-999.0000,     -999,9, -999.000,9, -999.000,   -999.0,9,   -999.0, -999.000,9, -999.000, -999.000,9, -999.000
  49NZ20130106,  S04I,   101,  1,     14, X12J14,2,20130116,1121,-62.8103,  90.8587, 3863,   2422.8,2,   0.1668,2,   0.16667,2,  34.6763,2,  34.6765,2,-999.0000,9,   221.04,2,   221.55,2,   99.995,   0.0002,2,   -0.000,2,  -999.00,9,    0.000,2,   122.13,2,     0.17,    32.51,2,     0.05,     0.00,2,     0.01,     2.25,2,     0.01,    0.670,2,    0.333,2,    0.044,2, -999.000,9,   -999.0,9,   -999.0,9,-999.0000,     -999,9, -999.000,9, -999.000,   -999.0,9,   -999.0, -999.000,9, -999.000, -999.000,9, -999.000
  49NZ20130106,  S04I,   101,  1,     13, X12J13,2,20130116,1121,-62.8103,  90.8587, 3863,   2669.3,2,   0.0842,2,   0.08412,2,  34.6726,2,  34.6728,2,-999.0000,9,   224.51,2,   225.01,2,   99.968,   0.0013,2,   -0.010,2,  -999.00,9,    0.000,2,   122.51,2,     0.17,    32.47,2,     0.05,     0.00,2,     0.01,     2.25,2,     0.01,    0.849,2,    0.421,2,    0.062,2, -999.000,9,   -999.0,9,   -999.0,9,-999.0000,     -999,9, -999.000,9, -999.000,   -999.0,9,   -999.0, -999.000,9, -999.000, -999.000,9, -999.000
  49NZ20130106,  S04I,   101,  1,     12, X12J12,2,20130116,1121,-62.8103,  90.8587, 3863,   2920.8,2,   0.0203,2,   0.02016,2,  34.6689,2,  34.6689,2,-999.0000,9,   227.34,2,   227.95,2,   99.959,   0.0016,2,   -0.010,2,  -999.00,9,    0.000,2,   122.04,2,     0.17,    32.36,2,     0.05,     0.00,2,     0.01,     2.24,2,     0.01,    1.052,2,    0.523,2,    0.065,2, -999.000,9,   -999.0,9,   -999.0,9,-999.0000,     -999,9, -999.000,9, -999.000,   -999.0,9,   -999.0, -999.000,9, -999.000, -999.000,9, -999.000
  49NZ20130106,  S04I,   101,  1,     11, X12J11,2,20130116,1121,-62.8103,  90.8587, 3863,   3170.5,2,  -0.0306,2,  -0.03082,2,  34.6661,2,  34.6657,2,-999.0000,9,   229.72,2,   230.34,2,   99.919,   0.0032,2,   -0.000,2,  -999.00,9,    0.000,2,   122.45,2,     0.17,    32.32,2,     0.05,     0.00,2,     0.01,     2.24,2,     0.01,    1.198,2,    0.603,2,    0.082,2, -999.000,9,   -999.0,9,   -999.0,9,-999.0000,     -999,9, -999.000,9, -999.000,   -999.0,9,   -999.0, -999.000,9, -999.000, -999.000,9, -999.000
  49NZ20130106,  S04I,   101,  1,     10, X12J10,2,20130116,1121,-62.8103,  90.8587, 3863,   3421.1,2,  -0.0650,2,  -0.06504,2,  34.6633,2,  34.6629,2,-999.0000,9,   231.76,2,   232.47,2,   99.883,   0.0047,2,   -0.000,2,  -999.00,9,    0.000,2,   122.01,2,     0.17,    32.29,2,     0.05,     0.00,2,     0.01,     2.24,2,     0.01,    1.350,2,    0.678,2,    0.088,2, -999.000,9,   -999.0,9,   -999.0,9,-999.0000,     -999,9, -999.000,9, -999.000,   -999.0,9,   -999.0, -999.000,9, -999.000, -999.000,9, -999.000
  49NZ20130106,  S04I,   101,  1,      9, X12J09,2,20130116,1121,-62.8103,  90.8587, 3863,   3669.1,2,  -0.1037,2,  -0.10386,2,  34.6596,2,  34.6597,2,-999.0000,9,   234.04,2,   234.67,2,   99.836,   0.0066,2,   -0.000,2,  -999.00,9,    0.000,2,   122.26,2,     0.17,    32.31,2,     0.05,     0.00,2,     0.01,     2.24,2,     0.01,    1.545,2,    0.780,2,    0.112,2, -999.000,9,   -999.0,9,   -999.0,9,-999.0000,     -999,9, -999.000,9, -999.000,   -999.0,9,   -999.0, -999.000,9, -999.000, -999.000,9, -999.000
  49NZ20130106,  S04I,   101,  1,      1, X12J01,2,20130116,1121,-62.8103,  90.8587, 3863,   3910.5,2,  -0.1461,2,  -0.14620,2,  34.6545,2,  34.6543,2,-999.0000,9,   235.33,2,   235.62,2,   99.305,   0.0279,2,   -0.010,2,  -999.00,9,    0.000,2,   127.47,2,     0.17,    32.37,2,     0.05,     0.00,2,     0.01,     2.25,2,     0.01,    1.794,2,    0.921,2,    0.142,2, -999.000,9,   -999.0,9,   -999.0,9,-999.0000,     -999,9, -999.000,9, -999.000,   -999.0,9,   -999.0, -999.000,9, -999.000, -999.000,9, -999.000