BOTTLE,20220819CCHSIOAMB
EXPOCODE,SECT_ID,STNNBR,CASTNO,SAMPNO,BTLNBR,BTLNBR_FLAG_W,DATE,TIME,LATITUDE,LONGITUDE,DEPTH,CTDPRS,CTDPRS_FLAG_W,CTDTMP,CTDTMP_FLAG_W,SBE35,SBE35_FLAG_W,CTDSAL,CTDSAL_FLAG_W,SALNTY,SALNTY_FLAG_W,DNSSAL,DNSSAL_FLAG_W,CTDOXY,CTDOXY_FLAG_W,OXYGEN,OXYGEN_FLAG_W,CTDXMISS,CTDXMISSCP,CTDXMISS_FLAG_W,CTDFLUOR,CTDFLUOR_FLAG_W,CHLORA,CHLORA_FLAG_W,PAR,PAR_FLAG_W,SILCAT,SILCAT_FLAG_W,SILUNC,NITRAT,NITRAT_FLAG_W,NRAUNC,NITRIT,NITRIT_FLAG_W,NRIUNC,PHSPHT,PHSPHT_FLAG_W,PHPUNC,CFC-11,CFC-11_FLAG_W,CFC-12,CFC-12_FLAG_W,CFC113,CFC113_FLAG_W,SF6,SF6_FLAG_W,TCARBN,TCARBN_FLAG_W,ALKALI,ALKALI_FLAG_W,PH_TOT,PH_TMP,PH_TOT_FLAG_W,DELC13,DELC13_FLAG_W,C13ERR,DELC14,DELC14_FLAG_W,C14ERR,CS-134,CS-134_FLAG_W,CS134ER,CS-137,CS-137_FLAG_W,CS137ER
,,,,,,,,UTC,DEG,DEG,METERS,DBAR,,ITS-90,,ITS-90,,PSS-78,,PSS-78,,G/KG,,UMOL/KG,,UMOL/KG,,%TRANS,/METER,,MG/M^3,,MG/CUM,,UE/SQM/S,,UMOL/KG,,UMOL/KG,UMOL/KG,,UMOL/KG,UMOL/KG,,UMOL/KG,UMOL/KG,,UMOL/KG,PMOL/KG,,PMOL/KG,,PMOL/KG,,FMOL/KG,,UMOL/KG,,UMOL/KG,,,DEG C,,/MILLE,,/MILLE,/MILLE,,/MILLE,MBQ/KG,,MBQ/KG,MBQ/KG,,MBQ/KG
  49NZ20130106,  S04I,   129,  1,     36, X12J36,2,20130123,1400,-63.5010,  58.3360, 4535,      4.6,2,   0.0849,2,   0.08411,2,  33.7977,2,  33.7979,2,-999.0000,9,   342.45,2,   342.19,2,   98.083,   0.0774,2,    0.180,2,  -999.00,9,   32.609,2,    41.27,2,     0.10,    26.08,2,     0.04,     0.23,2,     0.01,     1.80,2,     0.01,    5.719,2,    3.169,2,    0.584,2, -999.000,9,   -999.0,9,   -999.0,9,-999.0000,     -999,9, -999.000,9, -999.000,   -999.0,9,   -999.0, -999.000,9, -999.000, -999.000,9, -999.000
  49NZ20130106,  S04I,   129,  1,     35, X12J35,2,20130123,1400,-63.5010,  58.3360, 4535,     24.3,2,   0.0178,2,   0.01581,2,  33.8006,2,  33.8001,2,-999.0000,9,   342.68,2,   342.21,2,   97.938,   0.0833,2,    0.210,2,  -999.00,9,    9.314,2,    41.12,2,     0.10,    26.11,2,     0.04,     0.23,2,     0.01,     1.81,2,     0.01,    5.700,2,    3.157,2,    0.586,2, -999.000,9,   -999.0,9,   -999.0,9,-999.0000,     -999,9, -999.000,9, -999.000,   -999.0,9,   -999.0, -999.000,9, -999.000, -999.000,9, -999.000
  49NZ20130106,  S04I,   129,  1,     34, X12J34,2,20130123,1400,-63.5010,  58.3360, 4535,     49.4,2,  -0.2097,2,  -0.16991,2,  33.8485,2,  33.8401,2,-999.0000,9,   338.91,2,   339.08,2,   97.749,   0.0911,2,    0.270,2,  -999.00,9,    3.841,2,    40.81,2,     0.10,    26.09,2,     0.04,     0.21,2,     0.01,     1.81,2,     0.01,    5.608,6,    3.108,6,    0.571,6, -999.000,9,   -999.0,9,   -999.0,9,-999.0000,     -999,9, -999.000,9, -999.000,   -999.0,9,   -999.0, -999.000,9, -999.000, -999.000,9, -999.000
  49NZ20130106,  S04I,   129,  1,     33, X12J33,2,20130123,1400,-63.5010,  58.3360, 4535,     73.7,2,  -0.1338,2,  -0.12917,2,  34.2609,2,  34.2550,2,-999.0000,9,   260.97,2,   261.59,2,   97.911,   0.0844,2,    0.320,2,  -999.00,9,    1.426,2,    61.04,2,     0.11,    30.89,2,     0.04,     0.12,2,     0.01,     2.16,2,     0.01,    3.579,2,    1.947,2,    0.360,2, -999.000,9,   -999.0,9,   -999.0,9,-999.0000,     -999,9, -999.000,9, -999.000,   -999.0,9,   -999.0, -999.000,9, -999.000, -999.000,9, -999.000
  49NZ20130106,  S04I,   129,  1,     32, X12J32,2,20130123,1400,-63.5010,  58.3360, 4535,     99.2,2,   0.8205,2,   0.81741,2,  34.4302,2,  34.4298,2,-999.0000,9,   215.01,2,   215.27,2,   98.378,   0.0654,2,    0.350,2,  -999.00,9,    0.406,2,    72.32,2,     0.12,    33.14,2,     0.05,     0.07,2,     0.01,     2.31,2,     0.01,    2.267,2,    1.220,2,    0.208,2, -999.000,9,   -999.0,9,   -999.0,9,-999.0000,     -999,9, -999.000,9, -999.000,   -999.0,9,   -999.0, -999.000,9, -999.000, -999.000,9, -999.000
  49NZ20130106,  S04I,   129,  1,     31, X12J31,2,20130123,1400,-63.5010,  58.3360, 4535,    124.3,2,   1.2725,2,   1.27202,2,  34.5066,2,  34.5067,2,-999.0000,9,   193.41,2,   193.29,2,   99.248,   0.0302,2,    0.210,2,  -999.00,9,    0.093,2,    77.95,2,     0.13,    34.50,2,     0.05,     0.06,2,     0.01,     2.39,2,     0.01,    1.723,2,    0.918,2,    0.152,2, -999.000,9,   -999.0,9,   -999.0,9,-999.0000,     -999,9, -999.000,9, -999.000,   -999.0,9,   -999.0, -999.000,9, -999.000, -999.000,9, -999.000
  49NZ20130106,  S04I,   129,  1,     30, X12J30,2,20130123,1400,-63.5010,  58.3360, 4535,    150.5,2,   1.4975,2,   1.49717,2,  34.5551,2,  34.5549,2,-999.0000,9,   183.14,2,   183.10,2,   99.535,   0.0186,2,    0.150,2,  -999.00,9,    0.004,2,    80.96,2,     0.13,    34.79,2,     0.05,     0.06,2,     0.01,     2.41,2,     0.01,    1.348,2,    0.712,2,    0.118,2, -999.000,9,   -999.0,9,   -999.0,9,-999.0000,     -999,9, -999.000,9, -999.000,   -999.0,9,   -999.0, -999.000,9, -999.000, -999.000,9, -999.000
  49NZ20130106,  S04I,   129,  1,     29, X12J29,2,20130123,1400,-63.5010,  58.3360, 4535,    199.6,2,   1.6431,2,   1.64306,2,  34.6114,2,  34.6111,2,-999.0000,9,   178.19,2,   178.28,2,   99.721,   0.0112,2,    0.030,2,  -999.00,9,    0.000,2,    83.99,2,     0.13,    34.42,2,     0.05,     0.02,2,     0.01,     2.37,2,     0.01,    0.978,2,    0.509,2,    0.085,2, -999.000,9,   -999.0,9,   -999.0,9,-999.0000,     -999,9, -999.000,9, -999.000,   -999.0,9,   -999.0, -999.000,9, -999.000, -999.000,9, -999.000
  49NZ20130106,  S04I,   129,  1,     28, X12J28,2,20130123,1400,-63.5010,  58.3360, 4535,    249.9,2,   1.7127,2,   1.71252,2,  34.6465,2,  34.6464,2,-999.0000,9,   177.92,2,   177.88,2,   99.800,   0.0080,2,    0.010,2,  -999.00,9,    0.000,2,    85.09,2,     0.14,    33.86,2,     0.05,     0.01,2,     0.01,     2.33,2,     0.01,    0.765,2,    0.396,2,    0.069,2, -999.000,9,   -999.0,9,   -999.0,9,-999.0000,     -999,9, -999.000,9, -999.000,   -999.0,9,   -999.0, -999.000,9, -999.000, -999.000,9, -999.000
  49NZ20130106,  S04I,   129,  1,     27, X12J27,2,20130123,1400,-63.5010,  58.3360, 4535,    299.3,2,   1.6989,2,   1.69784,2,  34.6674,2,  34.6676,2,-999.0000,9,   180.73,2,   180.61,2,   99.853,   0.0059,2,    0.010,2,  -999.00,9,    0.000,2,    85.70,2,     0.14,    33.32,2,     0.05,     0.01,2,     0.01,     2.29,2,     0.01,    0.671,2,    0.345,2,    0.059,2, -999.000,9,   -999.0,9,   -999.0,9,-999.0000,     -999,9, -999.000,9, -999.000,   -999.0,9,   -999.0, -999.000,9, -999.000, -999.000,9, -999.000
  49NZ20130106,  S04I,   129,  1,     26, X12J26,2,20130123,1400,-63.5010,  58.3360, 4535,    402.1,2,   1.7099,2,   1.70980,2,  34.7019,2,  34.7022,2,-999.0000,9,   185.28,2,   185.19,2,   99.917,   0.0033,2,    0.000,2,  -999.00,9,    0.000,2,    86.51,2,     0.14,    32.34,2,     0.05,     0.01,2,     0.01,     2.23,2,     0.01,    0.485,2,    0.244,2,    0.041,2, -999.000,9,   -999.0,9,   -999.0,9,-999.0000,     -999,9, -999.000,9, -999.000,   -999.0,9,   -999.0, -999.000,9, -999.000, -999.000,9, -999.000
  49NZ20130106,  S04I,   129,  1,     25, X12J25,2,20130123,1400,-63.5010,  58.3360, 4535,    501.1,2,   1.6561,2,   1.65582,2,  34.7169,2,  34.7171,2,-999.0000,9,   189.60,2,   189.40,2,   99.951,   0.0020,2,    0.000,2,  -999.00,9,    0.000,2,    87.51,2,     0.14,    31.79,2,     0.04,     0.01,2,     0.01,     2.18,2,     0.01,    0.415,2,    0.208,2,    0.032,2, -999.000,9,   -999.0,9,   -999.0,9,-999.0000,     -999,9, -999.000,9, -999.000,   -999.0,9,   -999.0, -999.000,9, -999.000, -999.000,9, -999.000
  49NZ20130106,  S04I,   129,  1,     24, X12J24,2,20130123,1400,-63.5010,  58.3360, 4535,    601.4,2,   1.5475,2,   1.54763,2,  34.7238,2,  34.7243,2,-999.0000,9,   193.42,2,   193.40,2,   99.951,   0.0020,2,    0.000,2,  -999.00,9,    0.000,2,    89.44,2,     0.14,    31.48,2,     0.04,     0.00,2,     0.01,     2.16,2,     0.01,    0.389,6,    0.194,6,    0.035,6, -999.000,9,   -999.0,9,   -999.0,9,-999.0000,     -999,9, -999.000,9, -999.000,   -999.0,9,   -999.0, -999.000,9, -999.000, -999.000,9, -999.000
  49NZ20130106,  S04I,   129,  1,     23, X12J23,2,20130123,1400,-63.5010,  58.3360, 4535,    701.4,2,   1.4538,2,   1.45421,2,  34.7269,2,  34.7271,2,-999.0000,9,   196.39,2,   196.22,2,   99.951,   0.0020,2,    0.000,2,  -999.00,9,    0.000,2,    91.72,2,     0.14,    31.35,2,     0.04,     0.00,2,     0.01,     2.16,2,     0.01,    0.361,2,    0.179,2,    0.033,2, -999.000,9,   -999.0,9,   -999.0,9,-999.0000,     -999,9, -999.000,9, -999.000,   -999.0,9,   -999.0, -999.000,9, -999.000, -999.000,9, -999.000
  49NZ20130106,  S04I,   129,  1,     22, X12J22,2,20130123,1400,-63.5010,  58.3360, 4535,    800.3,2,   1.3440,2,   1.34377,2,  34.7259,2,  34.7264,2,-999.0000,9,   198.58,2,   198.61,2,   99.963,   0.0015,2,    0.000,2,  -999.00,9,    0.000,2,    94.38,2,     0.14,    31.34,2,     0.04,     0.00,2,     0.01,     2.15,2,     0.01,    0.353,2,    0.171,2,    0.034,2, -999.000,9,   -999.0,9,   -999.0,9,-999.0000,     -999,9, -999.000,9, -999.000,   -999.0,9,   -999.0, -999.000,9, -999.000, -999.000,9, -999.000
  49NZ20130106,  S04I,   129,  1,     21, X12J21,2,20130123,1400,-63.5010,  58.3360, 4535,    898.0,2,   1.2396,2,   1.23999,2,  34.7231,2,  34.7235,2,-999.0000,9,   200.12,2,   200.07,2,   99.955,   0.0018,2,   -0.000,2,  -999.00,9,    0.000,2,    97.13,2,     0.15,    31.45,2,     0.04,     0.00,2,     0.01,     2.16,2,     0.01,    0.353,2,    0.170,2,    0.029,2, -999.000,9,   -999.0,9,   -999.0,9,-999.0000,     -999,9, -999.000,9, -999.000,   -999.0,9,   -999.0, -999.000,9, -999.000, -999.000,9, -999.000
  49NZ20130106,  S04I,   129,  1,     20, X12J20,2,20130123,1400,-63.5010,  58.3360, 4535,    999.3,2,   1.1404,2,   1.14065,2,  34.7206,2,  34.7209,2,-999.0000,9,   201.68,2,   201.69,2,   99.957,   0.0017,2,   -0.000,2,  -999.00,9,    0.000,2,    99.75,2,     0.15,    31.53,2,     0.04,     0.00,2,     0.01,     2.17,2,     0.01,    0.340,2,    0.160,2,    0.026,2, -999.000,9,   -999.0,9,   -999.0,9,-999.0000,     -999,9, -999.000,9, -999.000,   -999.0,9,   -999.0, -999.000,9, -999.000, -999.000,9, -999.000
  49NZ20130106,  S04I,   129,  1,     19, X12J19,2,20130123,1400,-63.5010,  58.3360, 4535,   1251.1,2,   0.9334,2,   0.93336,2,  34.7125,2,  34.7131,2,-999.0000,9,   204.05,2,   204.19,2,   99.974,   0.0010,2,   -0.000,2,  -999.00,9,    0.000,2,   105.34,2,     0.15,    31.83,2,     0.04,     0.00,2,     0.01,     2.19,2,     0.01,    0.327,6,    0.152,6,    0.029,6, -999.000,9,   -999.0,9,   -999.0,9,-999.0000,     -999,9, -999.000,9, -999.000,   -999.0,9,   -999.0, -999.000,9, -999.000, -999.000,9, -999.000
  49NZ20130106,  S04I,   129,  1,     18, X12J18,2,20130123,1400,-63.5010,  58.3360, 4535,   1499.4,2,   0.7403,2,   0.74056,2,  34.7026,2,  34.7031,2,-999.0000,9,   205.58,2,   205.66,2,   99.972,   0.0011,2,   -0.000,2,  -999.00,9,    0.000,2,   111.32,2,     0.16,    32.30,2,     0.05,     0.00,2,     0.01,     2.23,2,     0.01,    0.329,2,    0.153,2,    0.029,2, -999.000,9,   -999.0,9,   -999.0,9,-999.0000,     -999,9, -999.000,9, -999.000,   -999.0,9,   -999.0, -999.000,9, -999.000, -999.000,9, -999.000
  49NZ20130106,  S04I,   129,  1,     17, X12J17,2,20130123,1400,-63.5010,  58.3360, 4535,   1751.1,2,   0.6130,2,   0.61267,2,  34.6960,2,  34.6962,2,-999.0000,9,   206.99,2,   207.10,2,   99.974,   0.0010,2,   -0.000,2,  -999.00,9,    0.000,2,   115.69,2,     0.16,    32.61,2,     0.05,     0.00,2,     0.01,     2.25,2,     0.01,    0.323,2,    0.148,2,    0.014,2, -999.000,9,   -999.0,9,   -999.0,9,-999.0000,     -999,9, -999.000,9, -999.000,   -999.0,9,   -999.0, -999.000,9, -999.000, -999.000,9, -999.000
  49NZ20130106,  S04I,   129,  1,     16, X12J16,2,20130123,1400,-63.5010,  58.3360, 4535,   2002.3,2,   0.4853,2,   0.48548,2,  34.6892,2,  34.6896,2,-999.0000,9,   208.72,2,   208.77,2,   99.976,   0.0010,2,   -0.000,2,  -999.00,9,    0.000,2,   119.26,2,     0.17,    32.83,2,     0.05,     0.00,2,     0.01,     2.27,2,     0.01,    0.320,2,    0.147,2,    0.025,2, -999.000,9,   -999.0,9,   -999.0,9,-999.0000,     -999,9, -999.000,9, -999.000,   -999.0,9,   -999.0, -999.000,9, -999.000, -999.000,9, -999.000
  49NZ20130106,  S04I,   129,  1,     15, X12J15,2,20130123,1400,-63.5010,  58.3360, 4535,   2250.2,2,   0.3859,2,   0.38602,2,  34.6840,2,  34.6843,2,-999.0000,9,   211.10,2,   211.22,2,   99.974,   0.0010,2,   -0.000,2,  -999.00,9,    0.000,2,   121.67,2,     0.17,    32.98,2,     0.05,     0.00,2,     0.01,     2.28,2,     0.01,    0.319,2,    0.145,2,    0.019,2, -999.000,9,   -999.0,9,   -999.0,9,-999.0000,     -999,9, -999.000,9, -999.000,   -999.0,9,   -999.0, -999.000,9, -999.000, -999.000,9, -999.000
  49NZ20130106,  S04I,   129,  1,     14, X12J14,2,20130123,1400,-63.5010,  58.3360, 4535,   2501.4,2,   0.2895,2,   0.28949,2,  34.6792,2,  34.6792,2,-999.0000,9,   214.24,2,   214.28,2,   99.974,   0.0010,2,   -0.000,2,  -999.00,9,    0.000,2,   123.32,2,     0.17,    33.02,2,     0.05,     0.00,2,     0.01,     2.28,2,     0.01,    0.322,2,    0.148,2,    0.014,2, -999.000,9,   -999.0,9,   -999.0,9,-999.0000,     -999,9, -999.000,9, -999.000,   -999.0,9,   -999.0, -999.000,9, -999.000, -999.000,9, -999.000
  49NZ20130106,  S04I,   129,  1,     13, X12J13,2,20130123,1400,-63.5010,  58.3360, 4535,   2749.1,2,   0.1989,2,   0.19893,2,  34.6742,2,  34.6743,2,-999.0000,9,   218.47,2,   218.35,2,   99.968,   0.0013,2,   -0.000,2,  -999.00,9,    0.000,2,   123.96,2,     0.17,    32.94,2,     0.05,     0.00,2,     0.01,     2.27,2,     0.01,    0.374,2,    0.175,2,    0.024,2, -999.000,9,   -999.0,9,   -999.0,9,-999.0000,     -999,9, -999.000,9, -999.000,   -999.0,9,   -999.0, -999.000,9, -999.000, -999.000,9, -999.000
  49NZ20130106,  S04I,   129,  1,     12, X12J12,2,20130123,1400,-63.5010,  58.3360, 4535,   3001.3,2,   0.1155,2,   0.11542,2,  34.6701,2,  34.6705,2,-999.0000,9,   222.21,2,   222.27,2,   99.970,   0.0012,2,   -0.010,2,  -999.00,9,    0.000,2,   124.38,2,     0.17,    32.82,2,     0.05,     0.00,2,     0.01,     2.28,2,     0.01,    0.420,2,    0.203,2,    0.034,2, -999.000,9,   -999.0,9,   -999.0,9,-999.0000,     -999,9, -999.000,9, -999.000,   -999.0,9,   -999.0, -999.000,9, -999.000, -999.000,9, -999.000
  49NZ20130106,  S04I,   129,  1,     11, X12J11,2,20130123,1400,-63.5010,  58.3360, 4535,   3251.7,2,   0.0467,2,   0.04680,2,  34.6670,2,  34.6671,2,-999.0000,9,   225.46,2,   225.52,2,   99.955,   0.0018,2,   -0.000,2,  -999.00,9,    0.000,2,   125.41,2,     0.17,    32.84,2,     0.05,     0.00,2,     0.01,     2.28,2,     0.01,    0.444,2,    0.217,2,    0.022,2, -999.000,9,   -999.0,9,   -999.0,9,-999.0000,     -999,9, -999.000,9, -999.000,   -999.0,9,   -999.0, -999.000,9, -999.000, -999.000,9, -999.000
  49NZ20130106,  S04I,   129,  1,     10, X12J10,2,20130123,1400,-63.5010,  58.3360, 4535,   3499.4,2,  -0.0223,2,  -0.02206,2,  34.6636,2,  34.6638,2,-999.0000,9,   229.24,2,   229.23,2,   99.949,   0.0020,2,   -0.010,2,  -999.00,9,    0.000,2,   125.36,2,     0.17,    32.79,2,     0.05,     0.00,2,     0.01,     2.27,2,     0.01,    0.513,2,    0.251,2,    0.035,2, -999.000,9,   -999.0,9,   -999.0,9,-999.0000,     -999,9, -999.000,9, -999.000,   -999.0,9,   -999.0, -999.000,9, -999.000, -999.000,9, -999.000
  49NZ20130106,  S04I,   129,  1,      9, X12J09,2,20130123,1400,-63.5010,  58.3360, 4535,   3749.5,2,  -0.0800,2,  -0.08000,2,  34.6603,2,  34.6604,2,-999.0000,9,   233.09,2,   233.15,2,   99.940,   0.0024,2,   -0.010,2,  -999.00,9,    0.000,2,   124.72,2,     0.17,    32.73,2,     0.05,     0.00,2,     0.01,     2.26,2,     0.01,    0.636,2,    0.320,2,    0.049,2, -999.000,9,   -999.0,9,   -999.0,9,-999.0000,     -999,9, -999.000,9, -999.000,   -999.0,9,   -999.0, -999.000,9, -999.000, -999.000,9, -999.000
  49NZ20130106,  S04I,   129,  1,      8, X12J08,2,20130123,1400,-63.5010,  58.3360, 4535,   3999.8,2,  -0.1539,2,  -0.15382,2,  34.6546,2,  34.6549,2,-999.0000,9,   240.12,2,   240.07,2,   99.900,   0.0040,2,   -0.010,2,  -999.00,9,    0.000,2,   119.42,2,     0.17,    32.40,2,     0.05,     0.00,2,     0.01,     2.24,2,     0.01,    1.140,6,    0.598,6,    0.094,6, -999.000,9,   -999.0,9,   -999.0,9,-999.0000,     -999,9, -999.000,9, -999.000,   -999.0,9,   -999.0, -999.000,9, -999.000, -999.000,9, -999.000
  49NZ20130106,  S04I,   129,  1,      7, X12J07,2,20130123,1400,-63.5010,  58.3360, 4535,   4250.1,2,  -0.2181,2,  -0.21802,2,  34.6518,2,  34.6521,2,-999.0000,9,   244.67,2,   244.77,2,   99.872,   0.0051,2,   -0.010,2,  -999.00,9,    0.000,2,   118.06,2,     0.16,    32.27,2,     0.05,     0.00,2,     0.01,     2.24,2,     0.01,    1.360,2,    0.719,2,    0.120,2, -999.000,9,   -999.0,9,   -999.0,9,-999.0000,     -999,9, -999.000,9, -999.000,   -999.0,9,   -999.0, -999.000,9, -999.000, -999.000,9, -999.000
  49NZ20130106,  S04I,   129,  1,      6, X12J06,2,20130123,1400,-63.5010,  58.3360, 4535,   4500.1,2,  -0.3385,2,  -0.33847,2,  34.6459,2,  34.6464,2,-999.0000,9,   257.81,2,   257.92,2,   99.770,   0.0092,2,   -0.010,2,  -999.00,9,    0.000,2,    98.80,2,     0.15,    31.67,2,     0.04,     0.02,2,     0.01,     2.20,2,     0.01,    2.489,2,    1.343,2,    0.227,2, -999.000,9,   -999.0,9,   -999.0,9,-999.0000,     -999,9, -999.000,9, -999.000,   -999.0,9,   -999.0, -999.000,9, -999.000, -999.000,9, -999.000
  49NZ20130106,  S04I,   129,  1,      1, X12J01,2,20130123,1400,-63.5010,  58.3360, 4535,   4613.1,2,  -0.4022,2,  -0.40237,2,  34.6460,2,  34.6466,2,-999.0000,9,   262.52,2,   262.20,2,   99.590,   0.0164,2,   -0.010,2,  -999.00,9,    0.000,2,    92.60,2,     0.14,    31.59,2,     0.04,     0.02,2,     0.01,     2.18,2,     0.01,    2.819,2,    1.528,2,    0.256,2, -999.000,9,   -999.0,9,   -999.0,9,-999.0000,     -999,9, -999.000,9, -999.000,   -999.0,9,   -999.0, -999.000,9, -999.000, -999.000,9, -999.000