BOTTLE,20220819CCHSIOAMB
EXPOCODE,SECT_ID,STNNBR,CASTNO,SAMPNO,BTLNBR,BTLNBR_FLAG_W,DATE,TIME,LATITUDE,LONGITUDE,DEPTH,CTDPRS,CTDPRS_FLAG_W,CTDTMP,CTDTMP_FLAG_W,SBE35,SBE35_FLAG_W,CTDSAL,CTDSAL_FLAG_W,SALNTY,SALNTY_FLAG_W,DNSSAL,DNSSAL_FLAG_W,CTDOXY,CTDOXY_FLAG_W,OXYGEN,OXYGEN_FLAG_W,CTDXMISS,CTDXMISSCP,CTDXMISS_FLAG_W,CTDFLUOR,CTDFLUOR_FLAG_W,CHLORA,CHLORA_FLAG_W,PAR,PAR_FLAG_W,SILCAT,SILCAT_FLAG_W,SILUNC,NITRAT,NITRAT_FLAG_W,NRAUNC,NITRIT,NITRIT_FLAG_W,NRIUNC,PHSPHT,PHSPHT_FLAG_W,PHPUNC,CFC-11,CFC-11_FLAG_W,CFC-12,CFC-12_FLAG_W,CFC113,CFC113_FLAG_W,SF6,SF6_FLAG_W,TCARBN,TCARBN_FLAG_W,ALKALI,ALKALI_FLAG_W,PH_TOT,PH_TMP,PH_TOT_FLAG_W,DELC13,DELC13_FLAG_W,C13ERR,DELC14,DELC14_FLAG_W,C14ERR,CS-134,CS-134_FLAG_W,CS134ER,CS-137,CS-137_FLAG_W,CS137ER
,,,,,,,,UTC,DEG,DEG,METERS,DBAR,,ITS-90,,ITS-90,,PSS-78,,PSS-78,,G/KG,,UMOL/KG,,UMOL/KG,,%TRANS,/METER,,MG/M^3,,MG/CUM,,UE/SQM/S,,UMOL/KG,,UMOL/KG,UMOL/KG,,UMOL/KG,UMOL/KG,,UMOL/KG,UMOL/KG,,UMOL/KG,PMOL/KG,,PMOL/KG,,PMOL/KG,,FMOL/KG,,UMOL/KG,,UMOL/KG,,,DEG C,,/MILLE,,/MILLE,/MILLE,,/MILLE,MBQ/KG,,MBQ/KG,MBQ/KG,,MBQ/KG
  49NZ20130106,  S04I,   142,  1,     36, X12J36,2,20130127,1145,-63.4998,  51.4108, 4798,      4.6,2,   0.8989,2,   0.88896,2,  33.7498,2,  33.7503,2,-999.0000,9,   339.53,2,   339.06,2,   98.430,   0.0633,2,    0.100,2,  -999.00,9,  118.074,2,    40.82,2,     0.10,    25.51,2,     0.04,     0.27,2,     0.01,     1.78,2,     0.01,    6.094,2,    3.249,2,    0.513,2,    2.971,2,   2166.6,2,   2286.7,2,   7.6757,       25,6, -999.000,9, -999.000,   -999.0,9,   -999.0, -999.000,9, -999.000, -999.000,9, -999.000
  49NZ20130106,  S04I,   142,  1,     35, X12J35,2,20130127,1145,-63.4998,  51.4108, 4798,     24.4,2,   0.4821,2,   0.48017,2,  33.7571,2,  33.7575,2,-999.0000,9,   342.14,2,   341.79,2,   98.335,   0.0672,2,    0.150,2,  -999.00,9,   40.254,2,    41.01,2,     0.10,    25.62,2,     0.04,     0.25,2,     0.01,     1.79,2,     0.01,    6.143,2,    3.276,2,    0.517,2,    3.064,2,   2165.7,2,   2286.6,2,   7.6751,       25,2, -999.000,9, -999.000,   -999.0,9,   -999.0, -999.000,9, -999.000, -999.000,9, -999.000
  49NZ20130106,  S04I,   142,  1,     34, X12J34,2,20130127,1145,-63.4998,  51.4108, 4798,     50.6,2,  -0.2640,2,  -0.33314,2,  33.8273,2,  33.8382,2,-999.0000,9,   341.56,2,   342.98,2,   98.324,   0.0676,2,    0.220,2,  -999.00,9,   17.374,2,    43.29,2,     0.10,    26.01,2,     0.04,     0.20,2,     0.01,     1.83,2,     0.01,    6.139,6,    3.264,6,    0.518,6,    3.035,6,   2174.0,2,   2291.8,2,   7.6678,       25,2, -999.000,9, -999.000,   -999.0,9,   -999.0, -999.000,9, -999.000, -999.000,9, -999.000
  49NZ20130106,  S04I,   142,  1,     33, X12J33,2,20130127,1145,-63.4998,  51.4108, 4798,     74.9,2,  -0.9326,2,  -0.94448,2,  34.2121,2,  34.2074,2,-999.0000,9,   287.39,2,   291.17,2,   98.562,   0.0579,2,    0.290,2,  -999.00,9,    6.464,2,    55.80,2,     0.11,    29.46,2,     0.04,     0.15,2,     0.01,     2.06,2,     0.01,    4.712,2,    2.491,2,    0.401,2,    2.114,2,   2214.4,6,   2314.3,2,   7.6153,       25,2, -999.000,9, -999.000,   -999.0,9,   -999.0, -999.000,9, -999.000, -999.000,9, -999.000
  49NZ20130106,  S04I,   142,  1,     32, X12J32,2,20130127,1145,-63.4998,  51.4108, 4798,    100.6,2,   0.8876,2,   0.88793,2,  34.4522,2,  34.4505,2,-999.0000,9,   210.22,2,   210.09,2,   99.202,   0.0320,2,    0.220,2,  -999.00,9,    2.161,2,    74.82,2,     0.13,    33.88,2,     0.05,     0.07,2,     0.01,     2.35,2,     0.01,    2.394,2,    1.263,2,    0.202,2,    0.949,2,   2250.6,2,   2326.8,6,   7.5465,       25,2, -999.000,9, -999.000,   -999.0,9,   -999.0, -999.000,9, -999.000, -999.000,9, -999.000
  49NZ20130106,  S04I,   142,  1,     31, X12J31,2,20130127,1145,-63.4998,  51.4108, 4798,    124.5,2,   1.2101,2,   1.20915,2,  34.5135,2,  34.5132,2,-999.0000,9,   195.56,2,   195.43,2,   99.396,   0.0242,2,    0.190,2,  -999.00,9,    0.867,2,    79.02,2,     0.13,    34.44,2,     0.05,     0.07,2,     0.01,     2.39,2,     0.01,    1.849,2,    0.976,2,    0.157,2,    0.651,2,   2256.0,2,   2330.6,2,   7.5386,       25,2, -999.000,9, -999.000,   -999.0,9,   -999.0, -999.000,9, -999.000, -999.000,9, -999.000
  49NZ20130106,  S04I,   142,  1,     30, X12J30,2,20130127,1145,-63.4998,  51.4108, 4798,    150.0,2,   1.4212,2,   1.41940,2,  34.5603,2,  34.5591,2,-999.0000,9,   186.52,2,   186.76,2,   99.612,   0.0156,2,    0.090,2,  -999.00,9,    0.332,2,    81.52,2,     0.13,    34.51,2,     0.05,     0.03,2,     0.01,     2.38,2,     0.01,    1.451,2,    0.758,2,    0.124,2,    0.617,2,   2258.6,2,   2334.0,2,   7.5379,       25,6, -999.000,9, -999.000,   -999.0,9,   -999.0, -999.000,9, -999.000, -999.000,9, -999.000
  49NZ20130106,  S04I,   142,  1,     29, X12J29,2,20130127,1145,-63.4998,  51.4108, 4798,    199.9,2,   1.6005,2,   1.60078,2,  34.6199,2,  34.6190,2,-999.0000,9,   180.00,2,   179.98,2,   99.814,   0.0074,2,    0.010,2,  -999.00,9,    0.013,2,    84.33,2,     0.13,    34.13,2,     0.05,     0.01,2,     0.01,     2.37,2,     0.01,    0.992,2,    0.512,2,    0.084,2,    0.338,2,   2262.6,2,   2338.4,2,   7.5447,       25,2, -999.000,9, -999.000,   -999.0,9,   -999.0, -999.000,9, -999.000, -999.000,9, -999.000
  49NZ20130106,  S04I,   142,  1,     28, X12J28,2,20130127,1145,-63.4998,  51.4108, 4798,    249.5,2,   1.6562,2,   1.65624,2,  34.6538,2,  34.6534,2,-999.0000,9,   180.12,2,   180.09,2,   99.831,   0.0068,2,    0.000,2,  -999.00,9,    0.000,2,    85.81,2,     0.14,    33.59,2,     0.05,     0.01,2,     0.01,     2.32,2,     0.01,    0.809,2,    0.400,2,    0.062,2,    0.184,2,   2260.9,2,   2340.7,2,   7.5547,       25,2, -999.000,9, -999.000,   -999.0,9,   -999.0, -999.000,9, -999.000, -999.000,9, -999.000
  49NZ20130106,  S04I,   142,  1,     27, X12J27,2,20130127,1145,-63.4998,  51.4108, 4798,    299.6,2,   1.5993,2,   1.59918,2,  34.6704,2,  34.6701,2,-999.0000,9,   183.66,2,   183.51,2,   99.855,   0.0058,2,    0.000,2,  -999.00,9,    0.000,2,    87.06,2,     0.14,    33.09,2,     0.05,     0.01,2,     0.01,     2.29,2,     0.01,    0.736,2,    0.379,2,    0.057,2,    0.168,2,   2260.3,2,   2343.2,2,   7.5634,       25,2, -999.000,9, -999.000,   -999.0,9,   -999.0, -999.000,9, -999.000, -999.000,9, -999.000
  49NZ20130106,  S04I,   142,  1,     26, X12J26,2,20130127,1145,-63.4998,  51.4108, 4798,    400.2,2,   1.5957,2,   1.59547,2,  34.7016,2,  34.7018,2,-999.0000,9,   188.60,2,   188.46,2,   99.927,   0.0029,2,    0.000,2,  -999.00,9,    0.000,2,    88.08,2,     0.14,    32.11,2,     0.05,     0.00,2,     0.01,     2.22,2,     0.01,    0.532,2,    0.271,2,    0.040,2,    0.105,2,   2256.0,2,   2346.1,2,   7.5801,       25,2, -999.000,9, -999.000,   -999.0,9,   -999.0, -999.000,9, -999.000, -999.000,9, -999.000
  49NZ20130106,  S04I,   142,  1,     25, X12J25,2,20130127,1145,-63.4998,  51.4108, 4798,    499.0,2,   1.5301,2,   1.52997,2,  34.7157,2,  34.7156,2,-999.0000,9,   192.47,2,   192.48,2,   99.959,   0.0016,2,    0.000,2,  -999.00,9,    0.000,2,    89.38,2,     0.14,    31.62,2,     0.04,     0.01,2,     0.01,     2.18,2,     0.01,    0.444,2,    0.226,2,    0.031,2,    0.076,2,   2254.4,2,   2347.9,2,   7.5897,       25,2, -999.000,9, -999.000,   -999.0,9,   -999.0, -999.000,9, -999.000, -999.000,9, -999.000
  49NZ20130106,  S04I,   142,  1,     24, X12J24,2,20130127,1145,-63.4998,  51.4108, 4798,    599.8,2,   1.4222,2,   1.42213,2,  34.7188,2,  34.7188,2,-999.0000,9,   195.01,2,   195.11,2,   99.963,   0.0015,2,    0.000,2,  -999.00,9,    0.000,2,    92.22,2,     0.14,    31.54,2,     0.04,     0.01,2,     0.01,     2.18,2,     0.01,    0.425,6,    0.216,6,    0.033,6,    0.064,6,   2255.2,2,   2349.8,2,   7.5926,       25,2, -999.000,9, -999.000,   -999.0,9,   -999.0, -999.000,9, -999.000, -999.000,9, -999.000
  49NZ20130106,  S04I,   142,  1,     23, X12J23,2,20130127,1145,-63.4998,  51.4108, 4798,    701.1,2,   1.3341,2,   1.33384,2,  34.7211,2,  34.7215,2,-999.0000,9,   197.60,2,   197.65,2,   99.953,   0.0019,2,    0.000,2,  -999.00,9,    0.000,2,    94.38,2,     0.14,    31.45,2,     0.04,     0.01,2,     0.01,     2.17,2,     0.01,    0.388,2,    0.196,2,    0.027,2,    0.077,2,   2254.0,6,   2349.0,2,   7.5972,       25,2, -999.000,9, -999.000,   -999.0,9,   -999.0, -999.000,9, -999.000, -999.000,9, -999.000
  49NZ20130106,  S04I,   142,  1,     22, X12J22,2,20130127,1145,-63.4998,  51.4108, 4798,    799.6,2,   1.2278,2,   1.22865,2,  34.7206,2,  34.7205,2,-999.0000,9,   199.63,2,   199.65,2,   99.955,   0.0018,2,    0.000,2,  -999.00,9,    0.000,2,    97.10,2,     0.15,    31.44,2,     0.04,     0.01,2,     0.01,     2.18,2,     0.01,    0.369,2,    0.191,2,    0.024,2,    0.036,2,   2254.7,2,   2351.6,6,   7.5984,       25,2, -999.000,9, -999.000,   -999.0,9,   -999.0, -999.000,9, -999.000, -999.000,9, -999.000
  49NZ20130106,  S04I,   142,  1,     21, X12J21,2,20130127,1145,-63.4998,  51.4108, 4798,    899.5,2,   1.1156,2,   1.11562,2,  34.7166,2,  34.7170,2,-999.0000,9,   201.03,2,   201.00,2,   99.970,   0.0012,2,    0.000,2,  -999.00,9,    0.000,2,   100.14,2,     0.15,    31.60,2,     0.04,     0.00,2,     0.01,     2.19,2,     0.01,    0.363,2,    0.182,2,    0.025,2,    0.009,2,   2255.2,2,   2352.8,2,   7.6029,       25,2, -999.000,9, -999.000,   -999.0,9,   -999.0, -999.000,9, -999.000, -999.000,9, -999.000
  49NZ20130106,  S04I,   142,  1,     20, X12J20,2,20130127,1145,-63.4998,  51.4108, 4798,   1000.3,2,   1.0270,2,   1.02690,2,  34.7141,2,  34.7138,2,-999.0000,9,   202.37,2,   202.31,2,   99.972,   0.0011,2,   -0.000,2,  -999.00,9,    0.000,2,   102.57,2,     0.15,    31.70,2,     0.04,     0.00,2,     0.01,     2.20,2,     0.01,    0.352,2,    0.174,2,    0.023,2,    0.079,2,   2255.8,2,   2354.0,2,   7.5982,       25,2, -999.000,9, -999.000,   -999.0,9,   -999.0, -999.000,9, -999.000, -999.000,9, -999.000
  49NZ20130106,  S04I,   142,  1,     19, X12J19,2,20130127,1145,-63.4998,  51.4108, 4798,   1248.1,2,   0.8124,2,   0.81219,2,  34.7044,2,  34.7041,2,-999.0000,9,   204.31,2,   204.30,2,   99.950,   0.0020,2,   -0.000,2,  -999.00,9,    0.000,2,   108.43,2,     0.16,    32.11,2,     0.05,     0.00,2,     0.01,     2.22,2,     0.01,    0.364,6,    0.178,6,    0.021,6,    0.042,6,   2259.5,2,   2355.8,2,   7.5948,       25,2, -999.000,9, -999.000,   -999.0,9,   -999.0, -999.000,9, -999.000, -999.000,9, -999.000
  49NZ20130106,  S04I,   142,  1,     18, X12J18,2,20130127,1145,-63.4998,  51.4108, 4798,   1500.9,2,   0.6407,2,   0.64082,2,  34.6965,2,  34.6965,2,-999.0000,9,   205.71,2,   205.76,2,   99.974,   0.0010,2,   -0.000,2,  -999.00,9,    0.000,2,   113.80,2,     0.16,    32.50,2,     0.05,     0.00,2,     0.01,     2.24,2,     0.01,    0.352,2,    0.169,2,    0.018,2,    0.016,2,   2262.2,2,   2356.5,2,   7.5906,       25,2, -999.000,9, -999.000,   -999.0,9,   -999.0, -999.000,9, -999.000, -999.000,9, -999.000
  49NZ20130106,  S04I,   142,  1,     17, X12J17,2,20130127,1145,-63.4998,  51.4108, 4798,   1749.3,2,   0.5131,2,   0.51301,2,  34.6903,2,  34.6904,2,-999.0000,9,   207.43,2,   207.48,2,   99.970,   0.0012,2,   -0.000,2,  -999.00,9,    0.000,2,   117.73,2,     0.16,    32.75,2,     0.05,     0.00,2,     0.01,     2.27,2,     0.01,    0.336,2,    0.160,2,    0.016,2,    0.027,2,   2263.7,2,   2355.8,2,   7.5881,       25,6, -999.000,9, -999.000,   -999.0,9,   -999.0, -999.000,9, -999.000, -999.000,9, -999.000
  49NZ20130106,  S04I,   142,  1,     16, X12J16,2,20130127,1145,-63.4998,  51.4108, 4798,   2000.2,2,   0.4008,2,   0.40074,2,  34.6849,2,  34.6850,2,-999.0000,9,   210.03,2,   210.06,2,   99.989,   0.0004,2,   -0.000,2,  -999.00,9,    0.000,2,   120.65,2,     0.17,    32.86,2,     0.05,     0.00,2,     0.01,     2.28,2,     0.01,    0.333,2,    0.156,2,    0.015,2,    0.011,2,   2263.0,2,   2356.7,2,   7.5869,       25,2, -999.000,9, -999.000,   -999.0,9,   -999.0, -999.000,9, -999.000, -999.000,9, -999.000
  49NZ20130106,  S04I,   142,  1,     15, X12J15,2,20130127,1145,-63.4998,  51.4108, 4798,   2250.8,2,   0.2969,2,   0.29698,2,  34.6799,2,  34.6796,2,-999.0000,9,   213.15,2,   213.07,2,   99.989,   0.0004,2,   -0.000,2,  -999.00,9,    0.000,2,   122.46,2,     0.17,    32.90,2,     0.05,     0.00,2,     0.01,     2.29,2,     0.01,    0.337,2,    0.159,2,    0.014,2,    0.014,2,   2262.1,2,   2355.9,2,   7.5873,       25,2, -999.000,9, -999.000,   -999.0,9,   -999.0, -999.000,9, -999.000, -999.000,9, -999.000
  49NZ20130106,  S04I,   142,  1,     14, X12J14,2,20130127,1145,-63.4998,  51.4108, 4798,   2500.1,2,   0.1915,2,   0.19157,2,  34.6748,2,  34.6748,2,-999.0000,9,   217.19,2,   217.18,2,   99.991,   0.0004,2,   -0.010,2,  -999.00,9,    0.000,2,   123.75,2,     0.17,    32.87,2,     0.05,     0.00,2,     0.01,     2.27,2,     0.01,    0.348,2,    0.165,2,    0.014,2,    0.016,2,   2261.3,6,   2355.3,2,   7.5890,       25,2, -999.000,9, -999.000,   -999.0,9,   -999.0, -999.000,9, -999.000, -999.000,9, -999.000
  49NZ20130106,  S04I,   142,  1,     13, X12J13,2,20130127,1145,-63.4998,  51.4108, 4798,   2750.2,2,   0.1073,2,   0.10741,2,  34.6710,2,  34.6707,2,-999.0000,9,   220.97,2,   220.95,2,   99.978,   0.0009,2,   -0.010,2,  -999.00,9,    0.000,2,   124.65,2,     0.17,    32.84,2,     0.05,     0.00,2,     0.01,     2.28,2,     0.01,    0.364,2,    0.173,2,    0.016,2,    0.046,2,   2260.0,2,   2355.4,6,   7.5906,       25,2, -999.000,9, -999.000,   -999.0,9,   -999.0, -999.000,9, -999.000, -999.000,9, -999.000
  49NZ20130106,  S04I,   142,  1,     12, X12J12,2,20130127,1145,-63.4998,  51.4108, 4798,   3000.6,2,   0.0315,2,   0.03145,2,  34.6674,2,  34.6671,2,-999.0000,9,   224.43,2,   224.42,2,   99.984,   0.0006,2,   -0.010,2,  -999.00,9,    0.000,2,   125.31,2,     0.17,    32.83,2,     0.05,     0.00,2,     0.01,     2.28,2,     0.01,    0.381,2,    0.186,2,    0.016,2,    0.028,2,   2258.3,2,   2354.6,2,   7.5929,       25,6, -999.000,9, -999.000,   -999.0,9,   -999.0, -999.000,9, -999.000, -999.000,9, -999.000
  49NZ20130106,  S04I,   142,  1,     11, X12J11,2,20130127,1145,-63.4998,  51.4108, 4798,   3248.3,2,  -0.0425,2,  -0.04222,2,  34.6633,2,  34.6629,2,-999.0000,9,   229.76,2,   229.44,2,   99.976,   0.0010,2,   -0.010,2,  -999.00,9,    0.000,2,   123.70,2,     0.17,    32.68,2,     0.05,     0.00,2,     0.01,     2.27,2,     0.01,    0.577,2,    0.289,2,    0.032,2,    0.066,2,   2257.0,2,   2354.0,2,   7.5955,       25,2, -999.000,9, -999.000,   -999.0,9,   -999.0, -999.000,9, -999.000, -999.000,9, -999.000
  49NZ20130106,  S04I,   142,  1,     10, X12J10,2,20130127,1145,-63.4998,  51.4108, 4798,   3500.2,2,  -0.0943,2,  -0.09429,2,  34.6614,2,  34.6612,2,-999.0000,9,   231.67,2,   231.39,2,   99.959,   0.0016,2,   -0.010,2,  -999.00,9,    0.000,2,   125.54,2,     0.17,    32.73,2,     0.05,     0.00,2,     0.01,     2.27,2,     0.01,    0.461,2,    0.226,2,    0.025,2,    0.012,2,   2255.8,2,   2353.9,2,   7.5974,       25,2, -999.000,9, -999.000,   -999.0,9,   -999.0, -999.000,9, -999.000, -999.000,9, -999.000
  49NZ20130106,  S04I,   142,  1,      9, X12J09,2,20130127,1145,-63.4998,  51.4108, 4798,   3749.5,2,  -0.1428,2,  -0.14275,2,  34.6589,2,  34.6587,2,-999.0000,9,   234.67,2,   234.49,2,   99.961,   0.0016,2,   -0.010,2,  -999.00,9,    0.000,2,   125.00,2,     0.17,    32.63,2,     0.05,     0.00,2,     0.01,     2.27,2,     0.01,    0.506,2,    0.247,2,    0.026,2,    0.032,2,   2254.9,2,   2353.7,2,   7.5988,       25,2, -999.000,9, -999.000,   -999.0,9,   -999.0, -999.000,9, -999.000, -999.000,9, -999.000
  49NZ20130106,  S04I,   142,  1,      8, X12J08,2,20130127,1145,-63.4998,  51.4108, 4798,   3999.5,2,  -0.1835,2,  -0.18314,2,  34.6566,2,  34.6563,2,-999.0000,9,   237.65,2,   237.33,2,   99.961,   0.0016,2,   -0.010,2,  -999.00,9,    0.000,2,   125.35,2,     0.17,    32.57,2,     0.05,     0.00,2,     0.01,     2.27,2,     0.01,    0.553,6,    0.276,6,    0.027,6,    0.044,6,   2254.0,2,   2353.3,2,   7.6010,       25,2, -999.000,9, -999.000,   -999.0,9,   -999.0, -999.000,9, -999.000, -999.000,9, -999.000
  49NZ20130106,  S04I,   142,  1,      7, X12J07,2,20130127,1145,-63.4998,  51.4108, 4798,   4249.5,2,  -0.2198,2,  -0.21958,2,  34.6548,2,  34.6547,2,-999.0000,9,   239.90,2,   239.57,2,   99.957,   0.0017,2,   -0.010,2,  -999.00,9,    0.000,2,   126.96,2,     0.17,    32.55,2,     0.05,     0.00,2,     0.01,     2.26,2,     0.01,    0.558,2,    0.282,2,    0.032,2,    0.062,2,   2253.8,6,   2353.4,2,   7.6023,       25,2, -999.000,9, -999.000,   -999.0,9,   -999.0, -999.000,9, -999.000, -999.000,9, -999.000
  49NZ20130106,  S04I,   142,  1,      6, X12J06,2,20130127,1145,-63.4998,  51.4108, 4798,   4499.1,2,  -0.2370,2,  -0.23707,2,  34.6536,2,  34.6536,2,-999.0000,9,   240.56,2,   240.28,2,   99.933,   0.0027,2,   -0.010,2,  -999.00,9,    0.000,2,   131.38,2,     0.18,    32.56,2,     0.05,     0.00,2,     0.01,     2.27,2,     0.01,    0.450,2,    0.223,2,    0.019,2,    0.073,2,   2252.6,2,   2353.5,6,   7.6032,       25,2, -999.000,9, -999.000,   -999.0,9,   -999.0, -999.000,9, -999.000, -999.000,9, -999.000
  49NZ20130106,  S04I,   142,  1,      5, X12J05,2,20130127,1145,-63.4998,  51.4108, 4798,   4750.4,2,  -0.2538,2,  -0.25388,2,  34.6517,2,  34.6513,2,-999.0000,9,   241.73,2,   241.68,2,   99.878,   0.0049,2,   -0.010,2,  -999.00,9,    0.000,2,   136.40,2,     0.18,    32.65,2,     0.05,     0.00,2,     0.01,     2.27,2,     0.01,    0.536,2,    0.265,2,    0.024,2,    0.037,2,   2254.7,2,   2353.2,2,   7.6031,       25,2, -999.000,9, -999.000,   -999.0,9,   -999.0, -999.000,9, -999.000, -999.000,9, -999.000
  49NZ20130106,  S04I,   142,  1,      1, X12J01,2,20130127,1145,-63.4998,  51.4108, 4798,   4886.6,2,  -0.2654,2,  -0.26537,2,  34.6508,2,  34.6509,2,-999.0000,9,   241.73,2,   241.51,2,   99.717,   0.0113,2,   -0.010,2,  -999.00,9,    0.000,2,   140.88,2,     0.19,    32.69,2,     0.05,     0.00,2,     0.01,     2.28,2,     0.01,    0.549,2,    0.269,2,    0.027,2,    0.028,2,   2254.2,2,   2352.1,2,   7.6026,       25,2, -999.000,9, -999.000,   -999.0,9,   -999.0, -999.000,9, -999.000, -999.000,9, -999.000