BOTTLE,20220819CCHSIOAMB
EXPOCODE,SECT_ID,STNNBR,CASTNO,SAMPNO,BTLNBR,BTLNBR_FLAG_W,DATE,TIME,LATITUDE,LONGITUDE,DEPTH,CTDPRS,CTDPRS_FLAG_W,CTDTMP,CTDTMP_FLAG_W,SBE35,SBE35_FLAG_W,CTDSAL,CTDSAL_FLAG_W,SALNTY,SALNTY_FLAG_W,DNSSAL,DNSSAL_FLAG_W,CTDOXY,CTDOXY_FLAG_W,OXYGEN,OXYGEN_FLAG_W,CTDXMISS,CTDXMISSCP,CTDXMISS_FLAG_W,CTDFLUOR,CTDFLUOR_FLAG_W,CHLORA,CHLORA_FLAG_W,PAR,PAR_FLAG_W,SILCAT,SILCAT_FLAG_W,SILUNC,NITRAT,NITRAT_FLAG_W,NRAUNC,NITRIT,NITRIT_FLAG_W,NRIUNC,PHSPHT,PHSPHT_FLAG_W,PHPUNC,CFC-11,CFC-11_FLAG_W,CFC-12,CFC-12_FLAG_W,CFC113,CFC113_FLAG_W,SF6,SF6_FLAG_W,TCARBN,TCARBN_FLAG_W,ALKALI,ALKALI_FLAG_W,PH_TOT,PH_TMP,PH_TOT_FLAG_W,DELC13,DELC13_FLAG_W,C13ERR,DELC14,DELC14_FLAG_W,C14ERR,CS-134,CS-134_FLAG_W,CS134ER,CS-137,CS-137_FLAG_W,CS137ER
,,,,,,,,UTC,DEG,DEG,METERS,DBAR,,ITS-90,,ITS-90,,PSS-78,,PSS-78,,G/KG,,UMOL/KG,,UMOL/KG,,%TRANS,/METER,,MG/M^3,,MG/CUM,,UE/SQM/S,,UMOL/KG,,UMOL/KG,UMOL/KG,,UMOL/KG,UMOL/KG,,UMOL/KG,UMOL/KG,,UMOL/KG,PMOL/KG,,PMOL/KG,,PMOL/KG,,FMOL/KG,,UMOL/KG,,UMOL/KG,,,DEG C,,/MILLE,,/MILLE,/MILLE,,/MILLE,MBQ/KG,,MBQ/KG,MBQ/KG,,MBQ/KG
  49NZ20130106,  S04I,   107,  1,     36, X12J36,2,20130117,2345,-63.0110,  84.0205, 2545,      5.0,2,   0.7480,2,   0.74819,2,  33.7622,2,  33.7619,2,-999.0000,9,   341.13,2,   340.86,2,   98.377,   0.0655,2,    0.160,2,  -999.00,9,   76.161,2,    49.85,2,     0.10,    28.63,2,     0.04,     0.23,2,     0.01,     1.98,2,     0.01,    5.702,2,    3.139,2,    0.550,2, -999.000,9,   -999.0,9,   -999.0,9,-999.0000,     -999,9, -999.000,9, -999.000,   -999.0,9,   -999.0, -999.000,9, -999.000, -999.000,9, -999.000
  49NZ20130106,  S04I,   107,  1,     35, X12J35,2,20130117,2345,-63.0110,  84.0205, 2545,     25.1,2,   0.6513,2,   0.65071,2,  33.7665,2,  33.7683,2,-999.0000,9,   341.07,2,   341.17,2,   98.286,   0.0692,2,    0.200,2,  -999.00,9,   20.572,2,    49.97,2,     0.10,    28.70,2,     0.04,     0.22,2,     0.01,     1.98,2,     0.01,    5.684,2,    3.133,2,    0.551,2, -999.000,9,   -999.0,9,   -999.0,9,-999.0000,     -999,9, -999.000,9, -999.000,   -999.0,9,   -999.0, -999.000,9, -999.000, -999.000,9, -999.000
  49NZ20130106,  S04I,   107,  1,     34, X12J34,2,20130117,2345,-63.0110,  84.0205, 2545,     50.0,2,  -1.2819,2,  -1.28177,2,  33.9922,2,  33.9910,2,-999.0000,9,   320.28,2,   320.30,2,   97.175,   0.1146,2,    0.440,2,  -999.00,9,    7.075,2,    50.81,2,     0.10,    29.51,2,     0.04,     0.10,2,     0.01,     2.03,2,     0.01,    4.777,6,    2.610,6,    0.509,6, -999.000,9,   -999.0,9,   -999.0,9,-999.0000,     -999,9, -999.000,9, -999.000,   -999.0,9,   -999.0, -999.000,9, -999.000, -999.000,9, -999.000
  49NZ20130106,  S04I,   107,  1,     33, X12J33,2,20130117,2345,-63.0110,  84.0205, 2545,     75.9,2,  -1.2255,2,  -1.22776,2,  34.1235,2,  34.1234,2,-999.0000,9,   286.73,2,   286.54,2,   97.182,   0.1143,2,    0.710,2,  -999.00,9,    2.039,2,    53.69,2,     0.11,    31.05,2,     0.04,     0.14,2,     0.01,     2.15,2,     0.01,    4.054,2,    2.210,2,    0.399,2, -999.000,9,   -999.0,9,   -999.0,9,-999.0000,     -999,9, -999.000,9, -999.000,   -999.0,9,   -999.0, -999.000,9, -999.000, -999.000,9, -999.000
  49NZ20130106,  S04I,   107,  1,     32, X12J32,2,20130117,2345,-63.0110,  84.0205, 2545,    100.9,2,  -0.1737,2,  -0.17064,2,  34.2589,2,  34.2533,2,-999.0000,9,   241.74,2,   242.65,2,   98.957,   0.0419,2,    0.290,2,  -999.00,9,    0.486,2,    61.78,2,     0.11,    33.02,2,     0.05,     0.15,2,     0.01,     2.30,2,     0.01,    3.148,2,    1.710,2,    0.288,2, -999.000,9,   -999.0,9,   -999.0,9,-999.0000,     -999,9, -999.000,9, -999.000,   -999.0,9,   -999.0, -999.000,9, -999.000, -999.000,9, -999.000
  49NZ20130106,  S04I,   107,  1,     31, X12J31,2,20130117,2345,-63.0110,  84.0205, 2545,    124.7,2,   0.7120,2,   0.71476,2,  34.3722,2,  34.3721,2,-999.0000,9,   210.62,2,   210.17,2,   99.527,   0.0190,2,    0.150,2,  -999.00,9,    0.157,2,    68.15,2,     0.12,    34.33,2,     0.05,     0.08,2,     0.01,     2.38,2,     0.01,    2.290,2,    1.238,2,    0.208,2, -999.000,9,   -999.0,9,   -999.0,9,-999.0000,     -999,9, -999.000,9, -999.000,   -999.0,9,   -999.0, -999.000,9, -999.000, -999.000,9, -999.000
  49NZ20130106,  S04I,   107,  1,     30, X12J30,2,20130117,2345,-63.0110,  84.0205, 2545,    151.4,2,   1.3970,2,   1.39575,2,  34.4703,2,  34.4691,2,-999.0000,9,   187.46,2,   187.32,2,   99.684,   0.0127,2,    0.080,2,  -999.00,9,    0.036,2,    73.47,2,     0.12,    35.09,2,     0.05,     0.02,2,     0.01,     2.43,2,     0.01,    1.615,2,    0.858,2,    0.137,2, -999.000,9,   -999.0,9,   -999.0,9,-999.0000,     -999,9, -999.000,9, -999.000,   -999.0,9,   -999.0, -999.000,9, -999.000, -999.000,9, -999.000
  49NZ20130106,  S04I,   107,  1,     29, X12J29,2,20130117,2345,-63.0110,  84.0205, 2545,    199.8,2,   1.9178,2,   1.91676,2,  34.5687,2,  34.5681,2,-999.0000,9,   170.95,2,   171.02,2,   99.758,   0.0097,2,    0.010,2,  -999.00,9,    0.000,2,    78.48,2,     0.13,    35.18,2,     0.05,     0.01,2,     0.01,     2.43,2,     0.01,    0.972,2,    0.504,2,    0.074,2, -999.000,9,   -999.0,9,   -999.0,9,-999.0000,     -999,9, -999.000,9, -999.000,   -999.0,9,   -999.0, -999.000,9, -999.000, -999.000,9, -999.000
  49NZ20130106,  S04I,   107,  1,     28, X12J28,2,20130117,2345,-63.0110,  84.0205, 2545,    251.0,2,   2.0253,2,   2.02521,2,  34.6167,2,  34.6166,2,-999.0000,9,   169.54,2,   169.58,2,   99.856,   0.0058,2,    0.000,2,  -999.00,9,    0.000,2,    80.15,2,     0.13,    34.58,2,     0.05,     0.01,2,     0.01,     2.38,2,     0.01,    0.715,2,    0.363,2,    0.061,2, -999.000,9,   -999.0,9,   -999.0,9,-999.0000,     -999,9, -999.000,9, -999.000,   -999.0,9,   -999.0, -999.000,9, -999.000, -999.000,9, -999.000
  49NZ20130106,  S04I,   107,  1,     27, X12J27,2,20130117,2345,-63.0110,  84.0205, 2545,    281.2,2,   2.0369,2,   2.03669,2,  34.6340,2,  34.6338,2,-999.0000,9,   170.42,2,   170.47,2,   99.883,   0.0047,2,    0.000,2,  -999.00,9,    0.000,2,    80.52,2,     0.13,    34.20,2,     0.05,     0.01,2,     0.01,     2.36,2,     0.01,    0.624,2,    0.318,2,    0.055,2, -999.000,9,   -999.0,9,   -999.0,9,-999.0000,     -999,9, -999.000,9, -999.000,   -999.0,9,   -999.0, -999.000,9, -999.000, -999.000,9, -999.000
  49NZ20130106,  S04I,   107,  1,     26, X12J26,2,20130117,2345,-63.0110,  84.0205, 2545,    372.4,2,   2.0171,2,   2.01687,2,  34.6689,2,  34.6689,2,-999.0000,9,   174.49,2,   174.49,2,   99.909,   0.0036,2,    0.010,2,  -999.00,9,    0.000,2,    81.55,2,     0.13,    33.35,2,     0.05,     0.01,2,     0.01,     2.30,2,     0.01,    0.510,2,    0.253,2,    0.032,2, -999.000,9,   -999.0,9,   -999.0,9,-999.0000,     -999,9, -999.000,9, -999.000,   -999.0,9,   -999.0, -999.000,9, -999.000, -999.000,9, -999.000
  49NZ20130106,  S04I,   107,  1,     25, X12J25,2,20130117,2345,-63.0110,  84.0205, 2545,    471.8,2,   2.0019,2,   2.00213,2,  34.7030,2,  34.7027,2,-999.0000,9,   180.61,2,   180.45,2,   99.959,   0.0016,2,    0.000,2,  -999.00,9,    0.000,2,    81.72,2,     0.13,    32.35,2,     0.05,     0.01,2,     0.01,     2.23,2,     0.01,    0.373,2,    0.183,2,    0.019,2, -999.000,9,   -999.0,9,   -999.0,9,-999.0000,     -999,9, -999.000,9, -999.000,   -999.0,9,   -999.0, -999.000,9, -999.000, -999.000,9, -999.000
  49NZ20130106,  S04I,   107,  1,     24, X12J24,2,20130117,2345,-63.0110,  84.0205, 2545,    570.7,2,   1.9409,2,   1.94072,2,  34.7217,2,  34.7216,2,-999.0000,9,   185.58,2,   185.64,2,   99.974,   0.0010,2,    0.000,2,  -999.00,9,    0.000,2,    82.21,2,     0.13,    31.59,2,     0.04,     0.00,2,     0.01,     2.18,2,     0.01,    0.339,6,    0.164,6,    0.024,6,    0.081,6,   -999.0,9,   -999.0,9,-999.0000,     -999,9, -999.000,9, -999.000,   -999.0,9,   -999.0, -999.000,9, -999.000, -999.000,9, -999.000
  49NZ20130106,  S04I,   107,  1,     23, X12J23,2,20130117,2345,-63.0110,  84.0205, 2545,    668.8,2,   1.8431,2,   1.84330,2,  34.7279,2,  34.7279,2,-999.0000,9,   188.44,2,   188.41,2,   99.962,   0.0015,2,    0.000,2,  -999.00,9,    0.000,2,    84.30,2,     0.13,    31.46,2,     0.04,     0.01,2,     0.01,     2.17,2,     0.01,    0.334,2,    0.162,2,    0.025,2,    0.108,2,   -999.0,9,   -999.0,9,-999.0000,     -999,9, -999.000,9, -999.000,   -999.0,9,   -999.0, -999.000,9, -999.000, -999.000,9, -999.000
  49NZ20130106,  S04I,   107,  1,     22, X12J22,2,20130117,2345,-63.0110,  84.0205, 2545,    769.4,2,   1.7840,2,   1.78394,2,  34.7395,2,  34.7395,2,-999.0000,9,   193.01,2,   193.09,2,   99.962,   0.0015,2,    0.000,2,  -999.00,9,    0.000,2,    84.85,2,     0.13,    30.87,2,     0.04,     0.01,2,     0.01,     2.14,2,     0.01,    0.282,2,    0.134,2,    0.019,2,    0.089,2,   -999.0,9,   -999.0,9,-999.0000,     -999,9, -999.000,9, -999.000,   -999.0,9,   -999.0, -999.000,9, -999.000, -999.000,9, -999.000
  49NZ20130106,  S04I,   107,  1,     21, X12J21,2,20130117,2345,-63.0110,  84.0205, 2545,    870.7,2,   1.7101,2,   1.71043,2,  34.7429,2,  34.7431,2,-999.0000,9,   195.68,2,   195.79,2,   99.962,   0.0015,2,    0.000,2,  -999.00,9,    0.000,2,    86.16,2,     0.14,    30.69,2,     0.04,     0.01,2,     0.01,     2.12,2,     0.01,    0.264,2,    0.126,2,    0.018,2,    0.053,2,   -999.0,9,   -999.0,9,-999.0000,     -999,9, -999.000,9, -999.000,   -999.0,9,   -999.0, -999.000,9, -999.000, -999.000,9, -999.000
  49NZ20130106,  S04I,   107,  1,     20, X12J20,2,20130117,2345,-63.0110,  84.0205, 2545,    961.6,2,   1.6167,2,   1.61666,2,  34.7435,2,  34.7439,2,-999.0000,9,   198.07,2,   198.21,2,   99.976,   0.0010,2,   -0.000,2,  -999.00,9,    0.000,2,    88.06,2,     0.14,    30.60,2,     0.04,     0.01,2,     0.01,     2.11,2,     0.01,    0.258,2,    0.121,2,    0.018,2,    0.040,2,   -999.0,9,   -999.0,9,-999.0000,     -999,9, -999.000,9, -999.000,   -999.0,9,   -999.0, -999.000,9, -999.000, -999.000,9, -999.000
  49NZ20130106,  S04I,   107,  1,     19, X12J19,2,20130117,2345,-63.0110,  84.0205, 2545,   1171.9,2,   1.4186,2,   1.41873,2,  34.7400,2,  34.7398,2,-999.0000,9,   201.40,2,   201.58,2,   99.981,   0.0008,2,   -0.000,2,  -999.00,9,    0.000,2,    93.04,2,     0.14,    30.71,2,     0.04,     0.00,2,     0.01,     2.12,2,     0.01,    0.244,6,    0.113,6,    0.018,6,    0.057,6,   -999.0,9,   -999.0,9,-999.0000,     -999,9, -999.000,9, -999.000,   -999.0,9,   -999.0, -999.000,9, -999.000, -999.000,9, -999.000
  49NZ20130106,  S04I,   107,  1,     18, X12J18,2,20130117,2345,-63.0110,  84.0205, 2545,   1418.4,2,   1.2156,2,   1.21572,2,  34.7312,2,  34.7309,2,-999.0000,9,   203.01,2,   203.32,2,   99.983,   0.0007,2,   -0.000,2,  -999.00,9,    0.000,2,    99.13,2,     0.15,    31.12,2,     0.04,     0.00,2,     0.01,     2.15,2,     0.01,    0.235,2,    0.108,2,    0.015,2,    0.066,2,   -999.0,9,   -999.0,9,-999.0000,     -999,9, -999.000,9, -999.000,   -999.0,9,   -999.0, -999.000,9, -999.000, -999.000,9, -999.000
  49NZ20130106,  S04I,   107,  1,     17, X12J17,2,20130117,2345,-63.0110,  84.0205, 2545,   1672.0,2,   0.9638,2,   0.96380,2,  34.7161,2,  34.7161,2,-999.0000,9,   204.66,2,   204.97,2,   99.959,   0.0016,2,   -0.000,2,  -999.00,9,    0.000,2,   106.01,2,     0.15,    31.73,2,     0.04,     0.00,2,     0.01,     2.20,2,     0.01,    0.274,2,    0.125,2,    0.015,2,    0.037,2,   -999.0,9,   -999.0,9,-999.0000,     -999,9, -999.000,9, -999.000,   -999.0,9,   -999.0, -999.000,9, -999.000, -999.000,9, -999.000
  49NZ20130106,  S04I,   107,  1,     16, X12J16,2,20130117,2345,-63.0110,  84.0205, 2545,   1922.4,2,   0.7858,2,   0.78577,2,  34.7062,2,  34.7064,2,-999.0000,9,   206.25,2,   206.68,2,   99.962,   0.0015,2,   -0.000,2,  -999.00,9,    0.000,2,   111.44,2,     0.16,    32.13,2,     0.05,     0.00,2,     0.01,     2.22,2,     0.01,    0.281,2,    0.127,2,    0.015,2,    0.074,2,   -999.0,9,   -999.0,9,-999.0000,     -999,9, -999.000,9, -999.000,   -999.0,9,   -999.0, -999.000,9, -999.000, -999.000,9, -999.000
  49NZ20130106,  S04I,   107,  1,     15, X12J15,2,20130117,2345,-63.0110,  84.0205, 2545,   2170.4,2,   0.6221,2,   0.62245,2,  34.6968,2,  34.6972,2,-999.0000,9,   208.03,2,   208.47,2,   99.934,   0.0026,2,   -0.000,2,  -999.00,9,    0.000,2,   117.02,2,     0.16,    32.48,2,     0.05,     0.00,2,     0.01,     2.25,2,     0.01,    0.283,2,    0.123,2,    0.015,2,    0.037,2,   -999.0,9,   -999.0,9,-999.0000,     -999,9, -999.000,9, -999.000,   -999.0,9,   -999.0, -999.000,9, -999.000, -999.000,9, -999.000
  49NZ20130106,  S04I,   107,  1,     14, X12J14,2,20130117,2345,-63.0110,  84.0205, 2545,   2419.7,2,   0.5031,2,   0.50301,2,  34.6910,2,  34.6913,2,-999.0000,9,   210.28,2,   210.82,2,   99.834,   0.0066,2,   -0.000,2,  -999.00,9,    0.000,2,   124.80,2,     0.17,    32.68,2,     0.05,     0.00,2,     0.01,     2.27,2,     0.01,    0.244,2,    0.110,2,    0.011,2,    0.038,2,   -999.0,9,   -999.0,9,-999.0000,     -999,9, -999.000,9, -999.000,   -999.0,9,   -999.0, -999.000,9, -999.000, -999.000,9, -999.000
  49NZ20130106,  S04I,   107,  1,      1, X12J01,2,20130117,2345,-63.0110,  84.0205, 2545,   2577.2,2,   0.4137,2,   0.41334,2,  34.6861,2,  34.6865,2,-999.0000,9,   211.96,2,   212.41,2,   99.697,   0.0121,2,   -0.000,2,  -999.00,9,    0.000,2,   128.85,2,     0.17,    32.87,2,     0.05,     0.01,2,     0.01,     2.28,2,     0.01,    0.242,2,    0.112,2,    0.009,2,    0.037,2,   -999.0,9,   -999.0,9,-999.0000,     -999,9, -999.000,9, -999.000,   -999.0,9,   -999.0, -999.000,9, -999.000, -999.000,9, -999.000