BOTTLE,20220819CCHSIOAMB
EXPOCODE,SECT_ID,STNNBR,CASTNO,SAMPNO,BTLNBR,BTLNBR_FLAG_W,DATE,TIME,LATITUDE,LONGITUDE,DEPTH,CTDPRS,CTDPRS_FLAG_W,CTDTMP,CTDTMP_FLAG_W,SBE35,SBE35_FLAG_W,CTDSAL,CTDSAL_FLAG_W,SALNTY,SALNTY_FLAG_W,DNSSAL,DNSSAL_FLAG_W,CTDOXY,CTDOXY_FLAG_W,OXYGEN,OXYGEN_FLAG_W,CTDXMISS,CTDXMISSCP,CTDXMISS_FLAG_W,CTDFLUOR,CTDFLUOR_FLAG_W,CHLORA,CHLORA_FLAG_W,PAR,PAR_FLAG_W,SILCAT,SILCAT_FLAG_W,SILUNC,NITRAT,NITRAT_FLAG_W,NRAUNC,NITRIT,NITRIT_FLAG_W,NRIUNC,PHSPHT,PHSPHT_FLAG_W,PHPUNC,CFC-11,CFC-11_FLAG_W,CFC-12,CFC-12_FLAG_W,CFC113,CFC113_FLAG_W,SF6,SF6_FLAG_W,TCARBN,TCARBN_FLAG_W,ALKALI,ALKALI_FLAG_W,PH_TOT,PH_TMP,PH_TOT_FLAG_W,DELC13,DELC13_FLAG_W,C13ERR,DELC14,DELC14_FLAG_W,C14ERR,CS-134,CS-134_FLAG_W,CS134ER,CS-137,CS-137_FLAG_W,CS137ER
,,,,,,,,UTC,DEG,DEG,METERS,DBAR,,ITS-90,,ITS-90,,PSS-78,,PSS-78,,G/KG,,UMOL/KG,,UMOL/KG,,%TRANS,/METER,,MG/M^3,,MG/CUM,,UE/SQM/S,,UMOL/KG,,UMOL/KG,UMOL/KG,,UMOL/KG,UMOL/KG,,UMOL/KG,UMOL/KG,,UMOL/KG,PMOL/KG,,PMOL/KG,,PMOL/KG,,FMOL/KG,,UMOL/KG,,UMOL/KG,,,DEG C,,/MILLE,,/MILLE,/MILLE,,/MILLE,MBQ/KG,,MBQ/KG,MBQ/KG,,MBQ/KG
  49NZ20130106,  S04I,   130,  2,     36, X12J36,2,20130123,2226,-63.4992,  57.1635, 4705,      5.3,2,   0.4699,2,   0.46954,2,  33.7741,2,  33.7747,2,-999.0000,9,   339.92,2,   340.04,2,   97.698,   0.0932,2,    0.230,2,  -999.00,9,   22.235,2,    37.27,2,     0.09,    25.61,2,     0.04,     0.26,2,     0.01,     1.78,2,     0.01,    5.820,2,    3.219,2,    0.632,2,    2.723,2,   2167.5,2,   2287.6,2,   7.6754,       25,6, -999.000,9, -999.000,   -999.0,9,   -999.0, -999.000,9, -999.000, -999.000,9, -999.000
  49NZ20130106,  S04I,   130,  2,     35, X12J35,2,20130123,2226,-63.4992,  57.1635, 4705,     26.0,2,   0.4240,2,   0.42287,2,  33.7752,2,  33.7762,2,-999.0000,9,   340.25,2,   340.42,2,   97.613,   0.0966,2,    0.250,2,  -999.00,9,    5.295,2,    37.37,2,     0.09,    25.63,2,     0.04,     0.26,2,     0.01,     1.79,2,     0.01,    5.869,2,    3.235,2,    0.644,2,    2.906,2,   2167.8,2,   2287.1,2,   7.6752,       25,2, -999.000,9, -999.000,   -999.0,9,   -999.0, -999.000,9, -999.000, -999.000,9, -999.000
  49NZ20130106,  S04I,   130,  2,     34, X12J34,2,20130123,2226,-63.4992,  57.1635, 4705,     50.4,2,   0.0028,2,   0.03605,2,  33.7996,2,  33.8007,2,-999.0000,9,   339.46,2,   339.16,2,   97.649,   0.0952,2,    0.300,2,  -999.00,9,    1.475,2,    38.02,2,     0.09,    25.93,2,     0.04,     0.23,2,     0.01,     1.83,2,     0.01,    5.865,6,    3.210,6,    0.639,6,    2.786,6,   2170.7,2,   2288.7,2,   7.6702,       25,2, -999.000,9, -999.000,   -999.0,9,   -999.0, -999.000,9, -999.000, -999.000,9, -999.000
  49NZ20130106,  S04I,   130,  2,     33, X12J33,2,20130123,2226,-63.4992,  57.1635, 4705,     75.0,2,   0.4869,2,   0.49124,2,  34.3152,2,  34.3099,2,-999.0000,9,   234.77,2,   236.36,2,   98.265,   0.0700,2,    0.320,2,  -999.00,9,    0.594,2,    63.90,2,     0.12,    32.62,2,     0.05,     0.12,2,     0.01,     2.30,2,     0.01,    3.245,2,    1.731,2,    0.335,2,    1.403,2,   2236.8,6,   2317.0,2,   7.5640,       25,2, -999.000,9, -999.000,   -999.0,9,   -999.0, -999.000,9, -999.000, -999.000,9, -999.000
  49NZ20130106,  S04I,   130,  2,     32, X12J32,2,20130123,2226,-63.4992,  57.1635, 4705,    100.7,2,   1.3722,2,   1.37571,2,  34.4796,2,  34.4782,2,-999.0000,9,   191.74,2,   192.06,2,   99.154,   0.0340,2,    0.200,2,  -999.00,9,    0.166,2,    75.80,2,     0.13,    34.99,2,     0.05,     0.07,2,     0.01,     2.44,2,     0.01,    1.992,2,    1.006,2,    0.180,2,    0.680,2,   2257.8,2,   2327.0,6,   7.5310,       25,2, -999.000,9, -999.000,   -999.0,9,   -999.0, -999.000,9, -999.000, -999.000,9, -999.000
  49NZ20130106,  S04I,   130,  2,     31, X12J31,2,20130123,2226,-63.4992,  57.1635, 4705,    126.2,2,   1.5867,2,   1.58701,2,  34.5362,2,  34.5355,2,-999.0000,9,   181.72,2,   182.17,2,   99.581,   0.0168,2,    0.090,2,  -999.00,9,    0.029,2,    79.05,2,     0.13,    35.14,2,     0.05,     0.03,2,     0.01,     2.44,2,     0.01,    1.496,2,    0.767,2,    0.131,2,    0.545,2,   2262.1,2,   2330.9,2,   7.5290,       25,2, -999.000,9, -999.000,   -999.0,9,   -999.0, -999.000,9, -999.000, -999.000,9, -999.000
  49NZ20130106,  S04I,   130,  2,     30, X12J30,2,20130123,2226,-63.4992,  57.1635, 4705,    150.1,2,   1.6703,2,   1.66999,2,  34.5741,2,  34.5733,2,-999.0000,9,   178.09,2,   178.34,2,   99.713,   0.0115,2,    0.030,2,  -999.00,9,    0.000,2,    81.12,2,     0.13,    34.93,2,     0.05,     0.02,2,     0.01,     2.43,2,     0.01,    1.191,2,    0.628,2,    0.100,2,    0.379,2,   2263.1,2,   2333.9,2,   7.5330,       25,2, -999.000,9, -999.000,   -999.0,9,   -999.0, -999.000,9, -999.000, -999.000,9, -999.000
  49NZ20130106,  S04I,   130,  2,     29, X12J29,2,20130123,2226,-63.4992,  57.1635, 4705,    200.8,2,   1.7111,2,   1.71105,2,  34.6180,2,  34.6170,2,-999.0000,9,   177.75,2,   177.92,2,   99.738,   0.0105,2,    0.010,2,  -999.00,9,    0.000,2,    83.26,2,     0.13,    34.31,2,     0.05,     0.01,2,     0.01,     2.38,2,     0.01,    0.919,2,    0.494,2,    0.075,2,    0.287,2,   2262.5,2,   2337.8,2,   7.5439,       25,2, -999.000,9, -999.000,   -999.0,9,   -999.0, -999.000,9, -999.000, -999.000,9, -999.000
  49NZ20130106,  S04I,   130,  2,     28, X12J28,2,20130123,2226,-63.4992,  57.1635, 4705,    250.2,2,   1.7676,2,   1.76754,2,  34.6517,2,  34.6511,2,-999.0000,9,   177.77,2,   177.95,2,   99.781,   0.0088,2,    0.010,2,  -999.00,9,    0.000,2,    84.37,2,     0.13,    33.72,2,     0.05,     0.01,2,     0.01,     2.34,2,     0.01,    0.717,2,    0.378,2,    0.049,2,    0.221,2,   2262.3,2,   2340.6,2,   7.5535,       25,2, -999.000,9, -999.000,   -999.0,9,   -999.0, -999.000,9, -999.000, -999.000,9, -999.000
  49NZ20130106,  S04I,   130,  2,     27, X12J27,2,20130123,2226,-63.4992,  57.1635, 4705,    330.5,2,   1.7668,2,   1.76762,2,  34.6792,2,  34.6783,2,-999.0000,9,   180.67,2,   180.82,2,   99.857,   0.0057,2,    0.000,2,  -999.00,9,    0.000,2,    85.21,2,     0.14,    33.04,2,     0.05,     0.01,2,     0.01,     2.30,2,     0.01,    0.595,2,    0.304,2,    0.040,2,    0.204,2,   2260.2,2,   2341.8,2,   7.5647,       25,2, -999.000,9, -999.000,   -999.0,9,   -999.0, -999.000,9, -999.000, -999.000,9, -999.000
  49NZ20130106,  S04I,   130,  2,     26, X12J26,2,20130123,2226,-63.4992,  57.1635, 4705,    430.8,2,   1.7195,2,   1.72018,2,  34.7037,2,  34.7037,2,-999.0000,9,   185.82,2,   186.13,2,   99.923,   0.0031,2,    0.000,2,  -999.00,9,    0.000,2,    86.25,2,     0.14,    32.20,2,     0.05,     0.01,2,     0.01,     2.24,2,     0.01,    0.463,2,    0.244,2,    0.033,2,    0.157,2,   2258.1,2,   2344.3,2,   7.5785,       25,2, -999.000,9, -999.000,   -999.0,9,   -999.0, -999.000,9, -999.000, -999.000,9, -999.000
  49NZ20130106,  S04I,   130,  2,     25, X12J25,2,20130123,2226,-63.4992,  57.1635, 4705,    532.5,2,   1.6545,2,   1.65471,2,  34.7193,2,  34.7193,2,-999.0000,9,   190.10,2,   190.27,2,   99.921,   0.0032,2,    0.000,2,  -999.00,9,    0.000,2,    87.55,2,     0.14,    31.67,2,     0.04,     0.01,2,     0.01,     2.17,2,     0.01,    0.383,2,    0.205,2,    0.025,2,    0.091,2,   2255.1,2,   2346.1,2,   7.5884,       25,2, -999.000,9, -999.000,   -999.0,9,   -999.0, -999.000,9, -999.000, -999.000,9, -999.000
  49NZ20130106,  S04I,   130,  2,     24, X12J24,2,20130123,2226,-63.4992,  57.1635, 4705,    631.4,2,   1.6046,2,   1.60411,2,  34.7287,2,  34.7283,2,-999.0000,9,   193.56,2,   193.82,2,   99.921,   0.0032,2,   -0.000,2,  -999.00,9,    0.000,2,    88.56,2,     0.14,    31.25,2,     0.04,     0.01,2,     0.01,     2.16,2,     0.01,    0.335,6,    0.179,6,    0.024,6,    0.107,6,   2252.3,2,   2347.4,2,   7.5960,       25,2, -999.000,9, -999.000,   -999.0,9,   -999.0, -999.000,9, -999.000, -999.000,9, -999.000
  49NZ20130106,  S04I,   130,  2,     23, X12J23,2,20130123,2226,-63.4992,  57.1635, 4705,    731.8,2,   1.4990,2,   1.49906,2,  34.7303,2,  34.7304,2,-999.0000,9,   196.37,2,   196.64,2,   99.936,   0.0026,2,    0.000,2,  -999.00,9,    0.000,2,    90.72,2,     0.14,    31.13,2,     0.04,     0.01,2,     0.01,     2.15,2,     0.01,    0.342,2,    0.166,2,    0.019,2,    0.135,2,   2252.8,6,   2348.8,2,   7.5998,       25,2, -999.000,9, -999.000,   -999.0,9,   -999.0, -999.000,9, -999.000, -999.000,9, -999.000
  49NZ20130106,  S04I,   130,  2,     22, X12J22,2,20130123,2226,-63.4992,  57.1635, 4705,    829.8,2,   1.4136,2,   1.41427,2,  34.7313,2,  34.7316,2,-999.0000,9,   198.57,2,   198.74,2,   99.938,   0.0025,2,   -0.000,2,  -999.00,9,    0.000,2,    92.67,2,     0.14,    31.08,2,     0.04,     0.01,2,     0.01,     2.15,2,     0.01,    0.301,2,    0.156,2,    0.012,2,    0.053,2,   2252.4,2,   2349.9,6,   7.6013,       25,2, -999.000,9, -999.000,   -999.0,9,   -999.0, -999.000,9, -999.000, -999.000,9, -999.000
  49NZ20130106,  S04I,   130,  2,     21, X12J21,2,20130123,2226,-63.4992,  57.1635, 4705,    931.4,2,   1.3176,2,   1.31742,2,  34.7285,2,  34.7289,2,-999.0000,9,   199.95,2,   200.02,2,   99.950,   0.0020,2,    0.000,2,  -999.00,9,    0.000,2,    95.30,2,     0.14,    31.18,2,     0.04,     0.01,2,     0.01,     2.16,2,     0.01,    0.301,2,    0.155,2,    0.013,2,    0.077,2,   2253.9,2,   2351.1,2,   7.6031,       25,6, -999.000,9, -999.000,   -999.0,9,   -999.0, -999.000,9, -999.000, -999.000,9, -999.000
  49NZ20130106,  S04I,   130,  2,     20, X12J20,2,20130123,2226,-63.4992,  57.1635, 4705,   1080.1,2,   1.1734,2,   1.17393,2,  34.7241,2,  34.7246,2,-999.0000,9,   201.80,2,   201.85,2,   99.963,   0.0015,2,   -0.000,2,  -999.00,9,    0.000,2,    99.24,2,     0.15,    31.36,2,     0.04,     0.01,2,     0.01,     2.18,2,     0.01,    0.295,2,    0.151,2,    0.012,2,    0.077,2,   2255.2,2,   2352.9,2,   7.6034,       25,2, -999.000,9, -999.000,   -999.0,9,   -999.0, -999.000,9, -999.000, -999.000,9, -999.000
  49NZ20130106,  S04I,   130,  2,     19, X12J19,2,20130123,2226,-63.4992,  57.1635, 4705,   1330.0,2,   0.9548,2,   0.95500,2,  34.7139,2,  34.7143,2,-999.0000,9,   204.06,2,   204.18,2,   99.961,   0.0016,2,   -0.000,2,  -999.00,9,    0.000,2,   105.18,2,     0.15,    31.73,2,     0.04,     0.01,2,     0.01,     2.20,2,     0.01,    0.306,6,    0.154,6,    0.011,6,    0.061,6,   2258.6,2,   2354.8,2,   7.6002,       25,2, -999.000,9, -999.000,   -999.0,9,   -999.0, -999.000,9, -999.000, -999.000,9, -999.000
  49NZ20130106,  S04I,   130,  2,     18, X12J18,2,20130123,2226,-63.4992,  57.1635, 4705,   1580.1,2,   0.7646,2,   0.76490,2,  34.7036,2,  34.7038,2,-999.0000,9,   205.45,2,   205.60,2,   99.961,   0.0016,2,   -0.000,2,  -999.00,9,    0.000,2,   111.01,2,     0.16,    32.24,2,     0.05,     0.01,2,     0.01,     2.24,2,     0.01,    0.320,2,    0.160,2,    0.011,2,    0.044,2,   2261.7,2,   2355.1,2,   7.5957,       25,2, -999.000,9, -999.000,   -999.0,9,   -999.0, -999.000,9, -999.000, -999.000,9, -999.000
  49NZ20130106,  S04I,   130,  2,     17, X12J17,2,20130123,2226,-63.4992,  57.1635, 4705,   1829.3,2,   0.6147,2,   0.61485,2,  34.6954,2,  34.6955,2,-999.0000,9,   206.36,2,   206.60,2,   99.961,   0.0016,2,   -0.000,2,  -999.00,9,    0.000,2,   115.58,2,     0.16,    32.61,2,     0.05,     0.01,2,     0.01,     2.27,2,     0.01,    0.320,2,    0.160,2,    0.010,2,    0.046,2,   2262.7,2,   2356.2,2,   7.5907,       25,2, -999.000,9, -999.000,   -999.0,9,   -999.0, -999.000,9, -999.000, -999.000,9, -999.000
  49NZ20130106,  S04I,   130,  2,     16, X12J16,2,20130123,2226,-63.4992,  57.1635, 4705,   2082.1,2,   0.4967,2,   0.49680,2,  34.6900,2,  34.6903,2,-999.0000,9,   208.78,2,   209.06,2,   99.963,   0.0015,2,   -0.000,2,  -999.00,9,    0.000,2,   119.10,2,     0.17,    32.77,2,     0.05,     0.01,2,     0.01,     2.28,2,     0.01,    0.293,2,    0.145,2,    0.009,2,    0.077,2,   2263.4,2,   2356.4,2,   7.5901,       25,2, -999.000,9, -999.000,   -999.0,9,   -999.0, -999.000,9, -999.000, -999.000,9, -999.000
  49NZ20130106,  S04I,   130,  2,     15, X12J15,2,20130123,2226,-63.4992,  57.1635, 4705,   2330.9,2,   0.3931,2,   0.39326,2,  34.6850,2,  34.6851,2,-999.0000,9,   211.67,2,   211.91,2,   99.976,   0.0010,2,   -0.000,2,  -999.00,9,    0.000,2,   122.08,2,     0.17,    32.86,2,     0.05,     0.01,2,     0.01,     2.29,2,     0.01,    0.277,2,    0.140,2,    0.009,2,    0.060,2,   2263.9,2,   2356.3,2,   7.5902,       25,2, -999.000,9, -999.000,   -999.0,9,   -999.0, -999.000,9, -999.000, -999.000,9, -999.000
  49NZ20130106,  S04I,   130,  2,     14, X12J14,2,20130123,2226,-63.4992,  57.1635, 4705,   2581.4,2,   0.2994,2,   0.29961,2,  34.6801,2,  34.6802,2,-999.0000,9,   214.49,2,   214.67,2,   99.963,   0.0015,2,   -0.000,2,  -999.00,9,    0.000,2,   123.69,2,     0.17,    32.90,2,     0.05,     0.01,2,     0.01,     2.27,2,     0.01,    0.294,2,    0.142,2,    0.008,2,    0.076,2,   2262.7,6,   2355.5,2,   7.5899,       25,2, -999.000,9, -999.000,   -999.0,9,   -999.0, -999.000,9, -999.000, -999.000,9, -999.000
  49NZ20130106,  S04I,   130,  2,     13, X12J13,2,20130123,2226,-63.4992,  57.1635, 4705,   2832.1,2,   0.2013,2,   0.20149,2,  34.6755,2,  34.6755,2,-999.0000,9,   218.06,2,   218.21,2,   99.961,   0.0016,2,   -0.010,2,  -999.00,9,    0.000,2,   125.56,2,     0.17,    32.93,2,     0.05,     0.01,2,     0.01,     2.28,2,     0.01,    0.285,2,    0.145,2,    0.007,2,    0.062,2,   2261.2,2,   2355.6,6,   7.5915,       25,2, -999.000,9, -999.000,   -999.0,9,   -999.0, -999.000,9, -999.000, -999.000,9, -999.000
  49NZ20130106,  S04I,   130,  2,     12, X12J12,2,20130123,2226,-63.4992,  57.1635, 4705,   3082.3,2,   0.1174,2,   0.11772,2,  34.6716,2,  34.6711,2,-999.0000,9,   221.57,2,   221.76,2,   99.959,   0.0016,2,   -0.010,2,  -999.00,9,    0.000,2,   126.92,2,     0.17,    32.94,2,     0.05,     0.00,2,     0.01,     2.28,2,     0.01,    0.288,2,    0.144,2,    0.009,2,    0.027,2,   2260.4,2,   2354.7,2,   7.5924,       25,6, -999.000,9, -999.000,   -999.0,9,   -999.0, -999.000,9, -999.000, -999.000,9, -999.000
  49NZ20130106,  S04I,   130,  2,     11, X12J11,2,20130123,2226,-63.4992,  57.1635, 4705,   3331.3,2,   0.0513,2,   0.05136,2,  34.6682,2,  34.6679,2,-999.0000,9,   224.69,2,   224.78,2,   99.950,   0.0020,2,   -0.010,2,  -999.00,9,    0.000,2,   127.82,2,     0.17,    32.95,2,     0.05,     0.01,2,     0.01,     2.29,2,     0.01,    0.291,2,    0.145,2,    0.009,2,    0.053,2,   2259.0,2,   2356.2,3,   7.5941,       25,2, -999.000,9, -999.000,   -999.0,9,   -999.0, -999.000,9, -999.000, -999.000,9, -999.000
  49NZ20130106,  S04I,   130,  2,     10, X12J10,2,20130123,2226,-63.4992,  57.1635, 4705,   3580.5,2,  -0.0206,2,  -0.02038,2,  34.6646,2,  34.6647,2,-999.0000,9,   228.22,2,   228.23,2,   99.959,   0.0016,2,   -0.010,2,  -999.00,9,    0.000,2,   128.70,2,     0.17,    32.89,2,     0.05,     0.01,2,     0.01,     2.29,2,     0.01,    0.307,2,    0.154,2,    0.011,2,    0.049,2,   2260.4,3,   2355.2,2,   7.5963,       25,2, -999.000,9, -999.000,   -999.0,9,   -999.0, -999.000,9, -999.000, -999.000,9, -999.000
  49NZ20130106,  S04I,   130,  2,      9, X12J09,2,20130123,2226,-63.4992,  57.1635, 4705,   3831.7,2,  -0.0788,2,  -0.07858,2,  34.6617,2,  34.6618,2,-999.0000,9,   231.30,2,   231.50,2,   99.942,   0.0023,2,   -0.010,2,  -999.00,9,    0.000,2,   129.48,2,     0.18,    32.82,2,     0.05,     0.01,2,     0.01,     2.28,2,     0.01,    0.337,2,    0.170,2,    0.010,2,    0.042,2,   2256.3,2,   2354.2,2,   7.5976,       25,2, -999.000,9, -999.000,   -999.0,9,   -999.0, -999.000,9, -999.000, -999.000,9, -999.000
  49NZ20130106,  S04I,   130,  2,      8, X12J08,2,20130123,2226,-63.4992,  57.1635, 4705,   4080.0,2,  -0.1181,2,  -0.11801,2,  34.6595,2,  34.6596,2,-999.0000,9,   233.78,2,   233.90,2,   99.938,   0.0025,2,   -0.010,2,  -999.00,9,    0.000,2,   131.45,2,     0.18,    32.78,2,     0.05,     0.01,2,     0.01,     2.28,2,     0.01,    0.350,6,    0.179,6,    0.013,6,    0.042,6,   2254.9,2,   2353.0,2,   7.5992,       25,2, -999.000,9, -999.000,   -999.0,9,   -999.0, -999.000,9, -999.000, -999.000,9, -999.000
  49NZ20130106,  S04I,   130,  2,      7, X12J07,2,20130123,2226,-63.4992,  57.1635, 4705,   4330.0,2,  -0.1567,2,  -0.15663,2,  34.6573,2,  34.6574,2,-999.0000,9,   236.09,2,   236.21,2,   99.899,   0.0040,2,   -0.010,2,  -999.00,9,    0.000,2,   134.52,2,     0.18,    32.79,2,     0.05,     0.01,2,     0.01,     2.28,2,     0.01,    0.386,2,    0.197,2,    0.016,2,    0.048,2,   2255.0,6,   2353.6,2,   7.6008,       25,2, -999.000,9, -999.000,   -999.0,9,   -999.0, -999.000,9, -999.000, -999.000,9, -999.000
  49NZ20130106,  S04I,   130,  2,      6, X12J06,2,20130123,2226,-63.4992,  57.1635, 4705,   4581.9,2,  -0.1893,2,  -0.18936,2,  34.6546,2,  34.6548,2,-999.0000,9,   238.40,2,   238.72,2,   99.851,   0.0060,2,   -0.010,2,  -999.00,9,    0.000,2,   136.06,2,     0.18,    32.72,2,     0.05,     0.01,2,     0.01,     2.29,2,     0.01,    0.495,2,    0.248,2,    0.023,2,    0.081,2,   2255.6,2,   2352.8,2,   7.6012,       25,2, -999.000,9, -999.000,   -999.0,9,   -999.0, -999.000,9, -999.000, -999.000,9, -999.000
  49NZ20130106,  S04I,   130,  2,      1, X12J01,2,20130123,2226,-63.4992,  57.1635, 4705,   4792.2,2,  -0.2479,2,  -0.24800,2,  34.6483,2,  34.6489,2,-999.0000,9,   243.18,2,   243.76,2,   99.617,   0.0153,2,   -0.010,2,  -999.00,9,    0.000,2,   136.16,2,     0.18,    32.60,2,     0.05,     0.01,2,     0.01,     2.27,2,     0.01,    0.927,2,    0.481,2,    0.063,2,    0.217,2,   2254.8,2,   2351.4,3,   7.6001,       25,2, -999.000,9, -999.000,   -999.0,9,   -999.0, -999.000,9, -999.000, -999.000,9, -999.000