BOTTLE,20220819CCHSIOAMB
EXPOCODE,SECT_ID,STNNBR,CASTNO,SAMPNO,BTLNBR,BTLNBR_FLAG_W,DATE,TIME,LATITUDE,LONGITUDE,DEPTH,CTDPRS,CTDPRS_FLAG_W,CTDTMP,CTDTMP_FLAG_W,SBE35,SBE35_FLAG_W,CTDSAL,CTDSAL_FLAG_W,SALNTY,SALNTY_FLAG_W,DNSSAL,DNSSAL_FLAG_W,CTDOXY,CTDOXY_FLAG_W,OXYGEN,OXYGEN_FLAG_W,CTDXMISS,CTDXMISSCP,CTDXMISS_FLAG_W,CTDFLUOR,CTDFLUOR_FLAG_W,CHLORA,CHLORA_FLAG_W,PAR,PAR_FLAG_W,SILCAT,SILCAT_FLAG_W,SILUNC,NITRAT,NITRAT_FLAG_W,NRAUNC,NITRIT,NITRIT_FLAG_W,NRIUNC,PHSPHT,PHSPHT_FLAG_W,PHPUNC,CFC-11,CFC-11_FLAG_W,CFC-12,CFC-12_FLAG_W,CFC113,CFC113_FLAG_W,SF6,SF6_FLAG_W,TCARBN,TCARBN_FLAG_W,ALKALI,ALKALI_FLAG_W,PH_TOT,PH_TMP,PH_TOT_FLAG_W,DELC13,DELC13_FLAG_W,C13ERR,DELC14,DELC14_FLAG_W,C14ERR,CS-134,CS-134_FLAG_W,CS134ER,CS-137,CS-137_FLAG_W,CS137ER
,,,,,,,,UTC,DEG,DEG,METERS,DBAR,,ITS-90,,ITS-90,,PSS-78,,PSS-78,,G/KG,,UMOL/KG,,UMOL/KG,,%TRANS,/METER,,MG/M^3,,MG/CUM,,UE/SQM/S,,UMOL/KG,,UMOL/KG,UMOL/KG,,UMOL/KG,UMOL/KG,,UMOL/KG,UMOL/KG,,UMOL/KG,PMOL/KG,,PMOL/KG,,PMOL/KG,,FMOL/KG,,UMOL/KG,,UMOL/KG,,,DEG C,,/MILLE,,/MILLE,/MILLE,,/MILLE,MBQ/KG,,MBQ/KG,MBQ/KG,,MBQ/KG
  49NZ20130106,  S04I,   127,  1,     36, X12J36,2,20130123,0143,-63.3327,  60.6647, 4502,      5.3,2,   0.2915,2,   0.29266,2,  33.7696,2,  33.7703,2,-999.0000,9,   343.25,2,   342.70,2,   97.884,   0.0855,2,    0.140,2,  -999.00,9,  141.024,2,    36.47,2,     0.09,    25.48,2,     0.04,     0.24,2,     0.01,     1.75,2,     0.01,    5.905,2,    3.250,2,    0.640,2,    2.787,2,   2165.2,2,   2287.4,2,   7.6801,       25,6, -999.000,9, -999.000,   -999.0,9,   -999.0, -999.000,9, -999.000, -999.000,9, -999.000
  49NZ20130106,  S04I,   127,  1,     35, X12J35,2,20130123,0143,-63.3327,  60.6647, 4502,     24.7,2,   0.2885,2,   0.28834,2,  33.7695,2,  33.7698,2,-999.0000,9,   343.17,2,   342.77,2,   97.884,   0.0855,2,    0.210,2,  -999.00,9,   40.227,2,    36.43,2,     0.09,    25.50,2,     0.04,     0.24,2,     0.01,     1.76,2,     0.01,    5.970,2,    3.238,2,    0.690,2,    2.803,2,   2165.3,2,   2286.9,2,   7.6792,       25,2, -999.000,9, -999.000,   -999.0,9,   -999.0, -999.000,9, -999.000, -999.000,9, -999.000
  49NZ20130106,  S04I,   127,  1,     34, X12J34,2,20130123,0143,-63.3327,  60.6647, 4502,     50.0,2,   0.2797,2,   0.28111,2,  33.7698,2,  33.7707,2,-999.0000,9,   343.14,2,   342.74,2,   97.865,   0.0863,2,    0.250,2,  -999.00,9,   15.062,2,    36.46,2,     0.09,    25.49,2,     0.04,     0.24,2,     0.01,     1.76,2,     0.01,    5.999,6,    3.231,6,    0.662,6,    2.831,6,   2164.7,2,   2284.7,2,   7.6793,       25,2, -999.000,9, -999.000,   -999.0,9,   -999.0, -999.000,9, -999.000, -999.000,9, -999.000
  49NZ20130106,  S04I,   127,  1,     33, X12J33,2,20130123,0143,-63.3327,  60.6647, 4502,     75.7,2,  -1.4478,2,  -1.45655,2,  34.0648,2,  34.0671,2,-999.0000,9,   306.44,2,   305.30,2,   98.112,   0.0762,2,    0.370,2,  -999.00,9,    5.227,2,    47.76,2,     0.10,    28.90,2,     0.04,     0.17,2,     0.01,     2.03,2,     0.01,    5.027,2,    2.712,2,    0.558,2,    2.263,2,   2201.7,6,   2304.1,2,   7.6237,       25,2, -999.000,9, -999.000,   -999.0,9,   -999.0, -999.000,9, -999.000, -999.000,9, -999.000
  49NZ20130106,  S04I,   127,  1,     32, X12J32,2,20130123,0143,-63.3327,  60.6647, 4502,    100.7,2,  -0.0360,2,  -0.04369,2,  34.2773,2,  34.2730,2,-999.0000,9,   245.20,2,   245.62,2,   98.961,   0.0418,2,    0.240,2,  -999.00,9,    1.760,2,    62.23,2,     0.11,    32.37,2,     0.05,     0.16,2,     0.01,     2.28,2,     0.01,    3.580,2,    1.894,2,    0.385,2,    1.510,2,   2231.4,2,   2315.2,6,   7.5685,       25,2, -999.000,9, -999.000,   -999.0,9,   -999.0, -999.000,9, -999.000, -999.000,9, -999.000
  49NZ20130106,  S04I,   127,  1,     31, X12J31,2,20130123,0143,-63.3327,  60.6647, 4502,    124.3,2,   1.3046,2,   1.30461,2,  34.4818,2,  34.4813,2,-999.0000,9,   191.59,2,   191.52,2,   99.440,   0.0225,2,    0.140,2,  -999.00,9,    0.667,2,    76.59,2,     0.13,    35.09,2,     0.05,     0.07,2,     0.01,     2.44,2,     0.01,    1.983,2,    1.001,2,    0.182,2,    0.662,2,   2256.7,2,   2327.1,2,   7.5281,       25,2, -999.000,9, -999.000,   -999.0,9,   -999.0, -999.000,9, -999.000, -999.000,9, -999.000
  49NZ20130106,  S04I,   127,  1,     30, X12J30,2,20130123,0143,-63.3327,  60.6647, 4502,    150.7,2,   1.5642,2,   1.56430,2,  34.5418,2,  34.5399,2,-999.0000,9,   181.12,2,   181.04,2,   99.657,   0.0137,2,    0.100,2,  -999.00,9,    0.235,2,    80.22,2,     0.13,    35.23,2,     0.05,     0.03,2,     0.01,     2.45,2,     0.01,    1.457,2,    0.747,2,    0.132,2,    0.426,2,   2261.4,2,   2331.4,2,   7.5270,       25,6, -999.000,9, -999.000,   -999.0,9,   -999.0, -999.000,9, -999.000, -999.000,9, -999.000
  49NZ20130106,  S04I,   127,  1,     29, X12J29,2,20130123,0143,-63.3327,  60.6647, 4502,    200.5,2,   1.7138,2,   1.71366,2,  34.6007,2,  34.6003,2,-999.0000,9,   175.55,2,   175.43,2,   99.750,   0.0100,2,    0.010,2,  -999.00,9,    0.010,2,    83.09,2,     0.13,    34.76,2,     0.05,     0.02,2,     0.01,     2.41,2,     0.01,    0.955,2,    0.520,2,    0.089,2,    0.308,2,   2263.5,2,   2336.6,2,   7.5351,       25,2, -999.000,9, -999.000,   -999.0,9,   -999.0, -999.000,9, -999.000, -999.000,9, -999.000
  49NZ20130106,  S04I,   127,  1,     28, X12J28,2,20130123,0143,-63.3327,  60.6647, 4502,    250.6,2,   1.7706,2,   1.77047,2,  34.6376,2,  34.6374,2,-999.0000,9,   175.52,2,   175.36,2,   99.761,   0.0096,2,    0.010,2,  -999.00,9,    0.000,2,    84.48,2,     0.13,    34.12,2,     0.05,     0.01,2,     0.01,     2.36,2,     0.01,    0.752,2,    0.403,2,    0.063,2,    0.186,2,   2262.5,2,   2339.2,2,   7.5459,       25,2, -999.000,9, -999.000,   -999.0,9,   -999.0, -999.000,9, -999.000, -999.000,9, -999.000
  49NZ20130106,  S04I,   127,  1,     27, X12J27,2,20130123,0143,-63.3327,  60.6647, 4502,    329.5,2,   1.7767,2,   1.77644,2,  34.6736,2,  34.6736,2,-999.0000,9,   179.30,2,   179.15,2,   99.844,   0.0062,2,    0.000,2,  -999.00,9,    0.000,2,    85.55,2,     0.14,    33.25,2,     0.05,     0.01,2,     0.01,     2.30,2,     0.01,    0.609,2,    0.307,2,    0.046,2,    0.145,2,   2260.3,2,   2342.5,2,   7.5604,       25,2, -999.000,9, -999.000,   -999.0,9,   -999.0, -999.000,9, -999.000, -999.000,9, -999.000
  49NZ20130106,  S04I,   127,  1,     26, X12J26,2,20130123,0143,-63.3327,  60.6647, 4502,    432.1,2,   1.7445,2,   1.74428,2,  34.6984,2,  34.6983,2,-999.0000,9,   183.95,2,   183.84,2,   99.909,   0.0036,2,    0.010,2,  -999.00,9,    0.000,2,    86.26,2,     0.14,    32.47,2,     0.05,     0.01,2,     0.01,     2.25,2,     0.01,    0.479,2,    0.249,2,    0.044,2,    0.124,2,   2259.6,3,   2343.4,2,   7.5743,       25,2, -999.000,9, -999.000,   -999.0,9,   -999.0, -999.000,9, -999.000, -999.000,9, -999.000
  49NZ20130106,  S04I,   127,  1,     25, X12J25,2,20130123,0143,-63.3327,  60.6647, 4502,    531.9,2,   1.7014,2,   1.70135,2,  34.7162,2,  34.7161,2,-999.0000,9,   188.58,2,   188.48,2,   99.897,   0.0041,2,    0.000,2,  -999.00,9,    0.000,2,    86.99,2,     0.14,    31.80,2,     0.04,     0.00,2,     0.01,     2.19,2,     0.01,    0.395,2,    0.209,2,    0.032,2,    0.105,2,   2255.4,2,   2346.1,2,   7.5858,       25,2, -999.000,9, -999.000,   -999.0,9,   -999.0, -999.000,9, -999.000, -999.000,9, -999.000
  49NZ20130106,  S04I,   127,  1,     24, X12J24,2,20130123,0143,-63.3327,  60.6647, 4502,    631.6,2,   1.6364,2,   1.63637,2,  34.7269,2,  34.7266,2,-999.0000,9,   192.44,2,   192.39,2,   99.920,   0.0032,2,    0.000,2,  -999.00,9,    0.000,2,    88.11,2,     0.14,    31.33,2,     0.04,     0.00,2,     0.01,     2.16,2,     0.01,    0.341,6,    0.183,6,    0.026,6,    0.068,6,   2253.8,2,   2348.0,2,   7.5939,       25,2, -999.000,9, -999.000,   -999.0,9,   -999.0, -999.000,9, -999.000, -999.000,9, -999.000
  49NZ20130106,  S04I,   127,  1,     23, X12J23,2,20130123,0143,-63.3327,  60.6647, 4502,    731.8,2,   1.5396,2,   1.53959,2,  34.7297,2,  34.7296,2,-999.0000,9,   195.39,2,   195.22,2,   99.928,   0.0029,2,    0.000,2,  -999.00,9,    0.000,2,    90.41,2,     0.14,    31.22,2,     0.04,     0.01,2,     0.01,     2.16,2,     0.01,    0.330,2,    0.171,2,    0.023,2,    0.100,2,   2253.4,6,   2348.9,2,   7.5981,       25,2, -999.000,9, -999.000,   -999.0,9,   -999.0, -999.000,9, -999.000, -999.000,9, -999.000
  49NZ20130106,  S04I,   127,  1,     22, X12J22,2,20130123,0143,-63.3327,  60.6647, 4502,    831.7,2,   1.4413,2,   1.44143,2,  34.7313,2,  34.7315,2,-999.0000,9,   198.23,2,   198.11,2,   99.943,   0.0023,2,    0.000,2,  -999.00,9,    0.000,2,    92.30,2,     0.14,    31.09,2,     0.04,     0.00,2,     0.01,     2.15,2,     0.01,    0.300,2,    0.158,2,    0.018,2,    0.048,2,   2252.4,2,   2350.5,6,   7.6023,       25,2, -999.000,9, -999.000,   -999.0,9,   -999.0, -999.000,9, -999.000, -999.000,9, -999.000
  49NZ20130106,  S04I,   127,  1,     21, X12J21,2,20130123,0143,-63.3327,  60.6647, 4502,    929.0,2,   1.3488,2,   1.34847,2,  34.7299,2,  34.7300,2,-999.0000,9,   199.99,2,   199.87,2,   99.945,   0.0022,2,    0.000,2,  -999.00,9,    0.000,2,    94.73,2,     0.14,    31.13,2,     0.04,     0.00,2,     0.01,     2.15,2,     0.01,    0.292,2,    0.151,2,    0.017,2,    0.072,2,   2253.2,2,   2352.0,2,   7.6035,       25,6, -999.000,9, -999.000,   -999.0,9,   -999.0, -999.000,9, -999.000, -999.000,9, -999.000
  49NZ20130106,  S04I,   127,  1,     20, X12J20,2,20130123,0143,-63.3327,  60.6647, 4502,   1081.3,2,   1.2166,2,   1.21666,2,  34.7276,2,  34.7280,2,-999.0000,9,   202.39,2,   202.41,2,   99.958,   0.0017,2,   -0.000,2,  -999.00,9,    0.000,2,    98.32,2,     0.15,    31.24,2,     0.04,     0.01,2,     0.01,     2.16,2,     0.01,    0.273,2,    0.140,2,    0.012,2,    0.061,2,   2254.2,2,   2353.0,2,   7.6053,       25,2, -999.000,9, -999.000,   -999.0,9,   -999.0, -999.000,9, -999.000, -999.000,9, -999.000
  49NZ20130106,  S04I,   127,  1,     19, X12J19,2,20130123,0143,-63.3327,  60.6647, 4502,   1329.2,2,   0.9987,2,   0.99867,2,  34.7171,2,  34.7176,2,-999.0000,9,   204.29,2,   204.20,2,   99.969,   0.0012,2,   -0.000,2,  -999.00,9,    0.000,2,   104.33,2,     0.15,    31.65,2,     0.04,     0.00,2,     0.01,     2.19,2,     0.01,    0.280,6,    0.145,6,    0.012,6,    0.027,6,   2257.4,2,   2355.4,2,   7.6025,       25,2, -999.000,9, -999.000,   -999.0,9,   -999.0, -999.000,9, -999.000, -999.000,9, -999.000
  49NZ20130106,  S04I,   127,  1,     18, X12J18,2,20130123,0143,-63.3327,  60.6647, 4502,   1580.7,2,   0.8072,2,   0.80696,2,  34.7074,2,  34.7076,2,-999.0000,9,   206.11,2,   206.09,2,   99.943,   0.0023,2,   -0.000,2,  -999.00,9,    0.000,2,   110.02,2,     0.16,    32.07,2,     0.04,     0.00,2,     0.01,     2.22,2,     0.01,    0.278,2,    0.142,2,    0.015,2,    0.016,2,   2259.9,2,   2356.5,2,   7.5985,       25,2, -999.000,9, -999.000,   -999.0,9,   -999.0, -999.000,9, -999.000, -999.000,9, -999.000
  49NZ20130106,  S04I,   127,  1,     17, X12J17,2,20130123,0143,-63.3327,  60.6647, 4502,   1830.6,2,   0.6530,2,   0.65321,2,  34.6989,2,  34.6990,2,-999.0000,9,   207.64,2,   207.53,2,   99.965,   0.0014,2,   -0.000,2,  -999.00,9,    0.000,2,   114.84,2,     0.16,    32.44,2,     0.05,     0.00,2,     0.01,     2.25,2,     0.01,    0.280,2,    0.140,2,    0.012,2,    0.022,2,   2262.0,2,   2357.4,2,   7.5950,       25,2, -999.000,9, -999.000,   -999.0,9,   -999.0, -999.000,9, -999.000, -999.000,9, -999.000
  49NZ20130106,  S04I,   127,  1,     16, X12J16,2,20130123,0143,-63.3327,  60.6647, 4502,   2081.2,2,   0.5182,2,   0.51773,2,  34.6914,2,  34.6914,2,-999.0000,9,   209.29,2,   209.18,2,   99.977,   0.0009,2,   -0.000,2,  -999.00,9,    0.000,2,   119.06,2,     0.17,    32.77,2,     0.05,     0.00,2,     0.01,     2.27,2,     0.01,    0.279,2,    0.138,2,    0.011,2,    0.012,2,   2263.0,2,   2357.4,2,   7.5907,       25,2, -999.000,9, -999.000,   -999.0,9,   -999.0, -999.000,9, -999.000, -999.000,9, -999.000
  49NZ20130106,  S04I,   127,  1,     15, X12J15,2,20130123,0143,-63.3327,  60.6647, 4502,   2329.2,2,   0.3895,2,   0.38964,2,  34.6845,2,  34.6850,2,-999.0000,9,   211.85,2,   211.74,2,   99.979,   0.0008,2,   -0.000,2,  -999.00,9,    0.000,2,   121.94,2,     0.17,    32.87,2,     0.05,     0.00,2,     0.01,     2.28,2,     0.01,    0.285,2,    0.135,2,    0.009,2,    0.027,2,   2263.6,2,   2356.8,2,   7.5895,       25,2, -999.000,9, -999.000,   -999.0,9,   -999.0, -999.000,9, -999.000, -999.000,9, -999.000
  49NZ20130106,  S04I,   127,  1,     14, X12J14,2,20130123,0143,-63.3327,  60.6647, 4502,   2579.0,2,   0.2850,2,   0.28527,2,  34.6790,2,  34.6790,2,-999.0000,9,   214.58,2,   214.59,2,   99.958,   0.0017,2,   -0.000,2,  -999.00,9,    0.000,2,   123.85,2,     0.17,    32.96,2,     0.05,     0.00,2,     0.01,     2.29,2,     0.01,    0.293,2,    0.149,2,    0.012,2,    0.051,2,   2262.8,6,   2356.3,2,   7.5899,       25,2, -999.000,9, -999.000,   -999.0,9,   -999.0, -999.000,9, -999.000, -999.000,9, -999.000
  49NZ20130106,  S04I,   127,  1,     13, X12J13,2,20130123,0143,-63.3327,  60.6647, 4502,   2830.3,2,   0.1865,2,   0.18680,2,  34.6745,2,  34.6743,2,-999.0000,9,   218.46,2,   218.47,2,   99.969,   0.0012,2,   -0.010,2,  -999.00,9,    0.000,2,   125.44,2,     0.17,    32.92,2,     0.05,     0.00,2,     0.01,     2.29,2,     0.01,    0.281,2,    0.142,2,    0.011,2,    0.013,2,   2262.3,2,   2355.7,2,   7.5915,       25,2, -999.000,9, -999.000,   -999.0,9,   -999.0, -999.000,9, -999.000, -999.000,9, -999.000
  49NZ20130106,  S04I,   127,  1,     12, X12J12,2,20130123,0143,-63.3327,  60.6647, 4502,   3080.1,2,   0.1038,2,   0.10379,2,  34.6705,2,  34.6701,2,-999.0000,9,   222.15,2,   222.02,2,   99.967,   0.0013,2,   -0.010,2,  -999.00,9,    0.000,2,   126.36,2,     0.17,    32.97,2,     0.05,     0.00,2,     0.01,     2.29,2,     0.01,    0.295,2,    0.149,2,    0.011,2,    0.014,2,   2260.9,2,   2356.0,2,   7.5924,       25,6, -999.000,9, -999.000,   -999.0,9,   -999.0, -999.000,9, -999.000, -999.000,9, -999.000
  49NZ20130106,  S04I,   127,  1,     11, X12J11,2,20130123,0143,-63.3327,  60.6647, 4502,   3330.1,2,   0.0369,2,   0.03708,2,  34.6671,2,  34.6673,2,-999.0000,9,   225.67,2,   225.63,2,   99.965,   0.0014,2,   -0.010,2,  -999.00,9,    0.000,2,   126.77,2,     0.17,    32.93,2,     0.05,     0.00,2,     0.01,     2.28,2,     0.01,    0.335,2,    0.172,2,    0.015,2,    0.061,2,   2259.5,2,   2355.1,2,   7.5949,       25,2, -999.000,9, -999.000,   -999.0,9,   -999.0, -999.000,9, -999.000, -999.000,9, -999.000
  49NZ20130106,  S04I,   127,  1,     10, X12J10,2,20130123,0143,-63.3327,  60.6647, 4502,   3580.1,2,  -0.0296,2,  -0.02956,2,  34.6635,2,  34.6632,2,-999.0000,9,   229.53,2,   229.37,2,   99.956,   0.0018,2,   -0.010,2,  -999.00,9,    0.000,2,   126.84,2,     0.17,    32.81,2,     0.05,     0.00,2,     0.01,     2.28,2,     0.01,    0.412,2,    0.213,2,    0.019,2,    0.057,2,   2258.1,2,   2355.2,2,   7.5961,       25,2, -999.000,9, -999.000,   -999.0,9,   -999.0, -999.000,9, -999.000, -999.000,9, -999.000
  49NZ20130106,  S04I,   127,  1,      9, X12J09,2,20130123,0143,-63.3327,  60.6647, 4502,   3830.1,2,  -0.0965,2,  -0.09630,2,  34.6601,2,  34.6600,2,-999.0000,9,   233.43,2,   233.46,2,   99.941,   0.0024,2,   -0.010,2,  -999.00,9,    0.000,2,   126.81,2,     0.17,    32.71,2,     0.05,     0.00,2,     0.01,     2.28,2,     0.01,    0.570,2,    0.277,2,    0.033,2,    0.130,2,   2256.6,2,   2354.1,2,   7.5984,       25,2, -999.000,9, -999.000,   -999.0,9,   -999.0, -999.000,9, -999.000, -999.000,9, -999.000
  49NZ20130106,  S04I,   127,  1,      8, X12J08,2,20130123,0143,-63.3327,  60.6647, 4502,   4080.8,2,  -0.1500,2,  -0.14981,2,  34.6568,2,  34.6565,2,-999.0000,9,   236.98,2,   236.96,2,   99.937,   0.0025,2,   -0.010,2,  -999.00,9,    0.000,2,   128.20,2,     0.17,    32.68,2,     0.05,     0.00,2,     0.01,     2.27,2,     0.01,    0.663,6,    0.336,6,    0.043,6,    0.132,6,   2255.0,2,   2353.6,2,   7.6001,       25,2, -999.000,9, -999.000,   -999.0,9,   -999.0, -999.000,9, -999.000, -999.000,9, -999.000
  49NZ20130106,  S04I,   127,  1,      7, X12J07,2,20130123,0143,-63.3327,  60.6647, 4502,   4329.0,2,  -0.2011,2,  -0.20102,2,  34.6533,2,  34.6531,2,-999.0000,9,   240.65,2,   240.72,2,   99.907,   0.0037,2,   -0.010,2,  -999.00,9,    0.000,2,   128.79,2,     0.17,    32.60,2,     0.05,     0.00,2,     0.01,     2.26,2,     0.01,    0.819,2,    0.427,2,    0.065,2,    0.222,2,   2254.2,6,   2354.3,2,   7.6010,       25,2, -999.000,9, -999.000,   -999.0,9,   -999.0, -999.000,9, -999.000, -999.000,9, -999.000
  49NZ20130106,  S04I,   127,  1,      1, X12J01,2,20130123,0143,-63.3327,  60.6647, 4502,   4579.5,2,  -0.3172,2,  -0.31734,2,  34.6441,2,  34.6443,2,-999.0000,9,   254.94,2,   254.74,2,   99.742,   0.0103,2,   -0.010,2,  -999.00,9,    0.000,2,   107.61,2,     0.16,    31.83,2,     0.04,     0.02,2,     0.01,     2.22,2,     0.01,    2.386,2,    1.168,2,    0.215,2,    0.835,2,   2250.3,2,   2349.6,2,   7.6009,       25,2, -999.000,9, -999.000,   -999.0,9,   -999.0, -999.000,9, -999.000, -999.000,9, -999.000