BOTTLE,20220819CCHSIOAMB
EXPOCODE,SECT_ID,STNNBR,CASTNO,SAMPNO,BTLNBR,BTLNBR_FLAG_W,DATE,TIME,LATITUDE,LONGITUDE,DEPTH,CTDPRS,CTDPRS_FLAG_W,CTDTMP,CTDTMP_FLAG_W,SBE35,SBE35_FLAG_W,CTDSAL,CTDSAL_FLAG_W,SALNTY,SALNTY_FLAG_W,DNSSAL,DNSSAL_FLAG_W,CTDOXY,CTDOXY_FLAG_W,OXYGEN,OXYGEN_FLAG_W,CTDXMISS,CTDXMISSCP,CTDXMISS_FLAG_W,CTDFLUOR,CTDFLUOR_FLAG_W,CHLORA,CHLORA_FLAG_W,PAR,PAR_FLAG_W,SILCAT,SILCAT_FLAG_W,SILUNC,NITRAT,NITRAT_FLAG_W,NRAUNC,NITRIT,NITRIT_FLAG_W,NRIUNC,PHSPHT,PHSPHT_FLAG_W,PHPUNC,CFC-11,CFC-11_FLAG_W,CFC-12,CFC-12_FLAG_W,CFC113,CFC113_FLAG_W,SF6,SF6_FLAG_W,TCARBN,TCARBN_FLAG_W,ALKALI,ALKALI_FLAG_W,PH_TOT,PH_TMP,PH_TOT_FLAG_W,DELC13,DELC13_FLAG_W,C13ERR,DELC14,DELC14_FLAG_W,C14ERR,CS-134,CS-134_FLAG_W,CS134ER,CS-137,CS-137_FLAG_W,CS137ER
,,,,,,,,UTC,DEG,DEG,METERS,DBAR,,ITS-90,,ITS-90,,PSS-78,,PSS-78,,G/KG,,UMOL/KG,,UMOL/KG,,%TRANS,/METER,,MG/M^3,,MG/CUM,,UE/SQM/S,,UMOL/KG,,UMOL/KG,UMOL/KG,,UMOL/KG,UMOL/KG,,UMOL/KG,UMOL/KG,,UMOL/KG,PMOL/KG,,PMOL/KG,,PMOL/KG,,FMOL/KG,,UMOL/KG,,UMOL/KG,,,DEG C,,/MILLE,,/MILLE,/MILLE,,/MILLE,MBQ/KG,,MBQ/KG,MBQ/KG,,MBQ/KG
  49NZ20130106,  S04I,   141,  1,     36, X12J36,2,20130127,0559,-63.4942,  52.5075, 4616,      5.5,2,   0.5187,2,   0.52415,2,  33.7819,2,  33.7918,2,-999.0000,9,   339.69,2,   340.33,2,   99.073,   0.0373,2,    0.030,2,  -999.00,9,  364.274,2,    43.62,2,     0.10,    25.99,2,     0.04,     0.25,2,     0.01,     1.81,2,     0.01,    5.841,2,    3.176,2,    0.572,2, -999.000,9,   -999.0,9,   -999.0,9,-999.0000,     -999,9, -999.000,9, -999.000,   -999.0,9,   -999.0, -999.000,9, -999.000, -999.000,9, -999.000
  49NZ20130106,  S04I,   141,  1,     35, X12J35,2,20130127,0559,-63.4942,  52.5075, 4616,     23.8,2,   0.3717,2,   0.37424,2,  33.7989,2,  33.8001,2,-999.0000,9,   340.76,2,   340.76,2,   98.924,   0.0433,2,    0.090,2,  -999.00,9,  122.314,2,    43.57,2,     0.10,    26.01,2,     0.04,     0.25,2,     0.01,     1.82,2,     0.01,    5.849,2,    3.176,2,    0.582,2, -999.000,9,   -999.0,9,   -999.0,9,-999.0000,     -999,9, -999.000,9, -999.000,   -999.0,9,   -999.0, -999.000,9, -999.000, -999.000,9, -999.000
  49NZ20130106,  S04I,   141,  1,     34, X12J34,2,20130127,0559,-63.4942,  52.5075, 4616,     50.1,2,  -0.0699,2,  -0.06982,2,  33.8312,2,  33.8320,2,-999.0000,9,   342.03,2,   341.99,2,   98.903,   0.0441,2,    0.140,2,  -999.00,9,   47.470,2,    42.99,2,     0.10,    25.93,2,     0.04,     0.23,2,     0.01,     1.83,2,     0.01,    5.851,6,    3.179,6,    0.578,6, -999.000,9,   -999.0,9,   -999.0,9,-999.0000,     -999,9, -999.000,9, -999.000,   -999.0,9,   -999.0, -999.000,9, -999.000, -999.000,9, -999.000
  49NZ20130106,  S04I,   141,  1,     33, X12J33,2,20130127,0559,-63.4942,  52.5075, 4616,     73.9,2,  -0.5441,2,  -0.54045,2,  34.2413,2,  34.2389,2,-999.0000,9,   275.63,2,   277.45,2,   98.677,   0.0533,2,    0.220,2,  -999.00,9,   21.041,2,    59.15,2,     0.11,    30.10,2,     0.04,     0.13,2,     0.01,     2.11,2,     0.01,    4.088,2,    2.200,2,    0.401,2, -999.000,9,   -999.0,9,   -999.0,9,-999.0000,     -999,9, -999.000,9, -999.000,   -999.0,9,   -999.0, -999.000,9, -999.000, -999.000,9, -999.000
  49NZ20130106,  S04I,   141,  1,     32, X12J32,2,20130127,0559,-63.4942,  52.5075, 4616,     98.8,2,   0.8697,2,   0.87176,2,  34.4488,2,  34.4499,2,-999.0000,9,   211.74,2,   211.90,2,   98.314,   0.0680,2,    0.350,2,  -999.00,9,    6.804,2,    74.72,2,     0.13,    33.66,2,     0.05,     0.07,2,     0.01,     2.35,2,     0.01,    2.274,2,    1.212,2,    0.183,2, -999.000,9,   -999.0,9,   -999.0,9,-999.0000,     -999,9, -999.000,9, -999.000,   -999.0,9,   -999.0, -999.000,9, -999.000, -999.000,9, -999.000
  49NZ20130106,  S04I,   141,  1,     31, X12J31,2,20130127,0559,-63.4942,  52.5075, 4616,    124.2,2,   1.4396,2,   1.43854,2,  34.5555,2,  34.5562,2,-999.0000,9,   185.19,2,   185.11,2,   99.479,   0.0209,2,    0.150,2,  -999.00,9,    2.237,2,    81.88,2,     0.13,    34.75,2,     0.05,     0.06,2,     0.01,     2.41,2,     0.01,    1.415,2,    0.740,2,    0.118,2, -999.000,9,   -999.0,9,   -999.0,9,-999.0000,     -999,9, -999.000,9, -999.000,   -999.0,9,   -999.0, -999.000,9, -999.000, -999.000,9, -999.000
  49NZ20130106,  S04I,   141,  1,     30, X12J30,2,20130127,0559,-63.4942,  52.5075, 4616,    149.6,2,   1.5394,2,   1.53919,2,  34.5911,2,  34.5906,2,-999.0000,9,   181.25,2,   181.29,2,   99.657,   0.0137,2,    0.070,2,  -999.00,9,    0.914,2,    83.80,2,     0.13,    34.67,2,     0.05,     0.03,2,     0.01,     2.39,2,     0.01,    1.172,2,    0.611,2,    0.108,2, -999.000,9,   -999.0,9,   -999.0,9,-999.0000,     -999,9, -999.000,9, -999.000,   -999.0,9,   -999.0, -999.000,9, -999.000, -999.000,9, -999.000
  49NZ20130106,  S04I,   141,  1,     29, X12J29,2,20130127,0559,-63.4942,  52.5075, 4616,    199.0,2,   1.6014,2,   1.60121,2,  34.6253,2,  34.6253,2,-999.0000,9,   180.04,2,   179.97,2,   99.768,   0.0093,2,    0.010,2,  -999.00,9,    0.153,2,    85.38,2,     0.14,    34.14,2,     0.05,     0.01,2,     0.01,     2.36,2,     0.01,    0.953,2,    0.492,2,    0.093,2, -999.000,9,   -999.0,9,   -999.0,9,-999.0000,     -999,9, -999.000,9, -999.000,   -999.0,9,   -999.0, -999.000,9, -999.000, -999.000,9, -999.000
  49NZ20130106,  S04I,   141,  1,     28, X12J28,2,20130127,0559,-63.4942,  52.5075, 4616,    250.5,2,   1.6150,2,   1.61481,2,  34.6526,2,  34.6525,2,-999.0000,9,   181.10,2,   181.06,2,   99.821,   0.0072,2,    0.010,2,  -999.00,9,    0.000,2,    86.55,2,     0.14,    33.62,2,     0.05,     0.01,2,     0.01,     2.32,2,     0.01,    0.800,2,    0.410,2,    0.063,2, -999.000,9,   -999.0,9,   -999.0,9,-999.0000,     -999,9, -999.000,9, -999.000,   -999.0,9,   -999.0, -999.000,9, -999.000, -999.000,9, -999.000
  49NZ20130106,  S04I,   141,  1,     27, X12J27,2,20130127,0559,-63.4942,  52.5075, 4616,    279.2,2,   1.6218,2,   1.62167,2,  34.6660,2,  34.6656,2,-999.0000,9,   182.12,2,   182.10,2,   99.838,   0.0065,2,    0.000,2,  -999.00,9,    0.000,2,    87.37,2,     0.14,    33.33,2,     0.05,     0.01,2,     0.01,     2.31,2,     0.01,    0.724,2,    0.367,2,    0.060,2, -999.000,9,   -999.0,9,   -999.0,9,-999.0000,     -999,9, -999.000,9, -999.000,   -999.0,9,   -999.0, -999.000,9, -999.000, -999.000,9, -999.000
  49NZ20130106,  S04I,   141,  1,     26, X12J26,2,20130127,0559,-63.4942,  52.5075, 4616,    369.6,2,   1.5875,2,   1.58747,2,  34.6926,2,  34.6927,2,-999.0000,9,   186.78,2,   186.63,2,   99.874,   0.0050,2,    0.000,2,  -999.00,9,    0.000,2,    88.45,2,     0.14,    32.52,2,     0.05,     0.01,2,     0.01,     2.25,2,     0.01,    0.567,2,    0.317,2,    0.051,2, -999.000,9,   -999.0,9,   -999.0,9,-999.0000,     -999,9, -999.000,9, -999.000,   -999.0,9,   -999.0, -999.000,9, -999.000, -999.000,9, -999.000
  49NZ20130106,  S04I,   141,  1,     25, X12J25,2,20130127,0559,-63.4942,  52.5075, 4616,    469.5,2,   1.5315,2,   1.53146,2,  34.7078,2,  34.7076,2,-999.0000,9,   190.40,2,   190.36,2,   99.602,   0.0160,2,    0.000,2,  -999.00,9,    0.000,2,    89.86,2,     0.14,    32.01,2,     0.04,     0.01,2,     0.01,     2.20,2,     0.01,    0.498,2,    0.252,2,    0.043,2, -999.000,9,   -999.0,9,   -999.0,9,-999.0000,     -999,9, -999.000,9, -999.000,   -999.0,9,   -999.0, -999.000,9, -999.000, -999.000,9, -999.000
  49NZ20130106,  S04I,   141,  1,     24, X12J24,2,20130127,0559,-63.4942,  52.5075, 4616,    568.8,2,   1.4618,2,   1.46181,2,  34.7169,2,  34.7170,2,-999.0000,9,   193.77,2,   193.72,2,   99.957,   0.0017,2,    0.000,2,  -999.00,9,    0.000,2,    91.48,2,     0.14,    31.73,2,     0.04,     0.01,2,     0.01,     2.18,2,     0.01,    0.445,6,    0.220,6,    0.040,6, -999.000,9,   -999.0,9,   -999.0,9,-999.0000,     -999,9, -999.000,9, -999.000,   -999.0,9,   -999.0, -999.000,9, -999.000, -999.000,9, -999.000
  49NZ20130106,  S04I,   141,  1,     23, X12J23,2,20130127,0559,-63.4942,  52.5075, 4616,    671.0,2,   1.3594,2,   1.35909,2,  34.7196,2,  34.7203,2,-999.0000,9,   196.59,2,   196.59,2,   99.953,   0.0019,2,    0.000,2,  -999.00,9,    0.000,2,    94.08,2,     0.14,    31.58,2,     0.04,     0.01,2,     0.01,     2.18,2,     0.01,    0.414,2,    0.204,2,    0.036,2, -999.000,9,   -999.0,9,   -999.0,9,-999.0000,     -999,9, -999.000,9, -999.000,   -999.0,9,   -999.0, -999.000,9, -999.000, -999.000,9, -999.000
  49NZ20130106,  S04I,   141,  1,     22, X12J22,2,20130127,0559,-63.4942,  52.5075, 4616,    768.5,2,   1.2669,2,   1.26675,2,  34.7203,2,  34.7209,2,-999.0000,9,   198.59,2,   198.68,2,   99.953,   0.0019,2,    0.000,2,  -999.00,9,    0.000,2,    96.59,2,     0.15,    31.58,2,     0.04,     0.01,2,     0.01,     2.18,2,     0.01,    0.406,2,    0.189,2,    0.032,2, -999.000,9,   -999.0,9,   -999.0,9,-999.0000,     -999,9, -999.000,9, -999.000,   -999.0,9,   -999.0, -999.000,9, -999.000, -999.000,9, -999.000
  49NZ20130106,  S04I,   141,  1,     21, X12J21,2,20130127,0559,-63.4942,  52.5075, 4616,    868.2,2,   1.1425,2,   1.14221,2,  34.7166,2,  34.7174,2,-999.0000,9,   200.27,2,   200.18,2,   99.963,   0.0015,2,   -0.000,2,  -999.00,9,    0.000,2,    99.74,2,     0.15,    31.69,2,     0.04,     0.01,2,     0.01,     2.19,2,     0.01,    0.387,2,    0.187,2,    0.033,2, -999.000,9,   -999.0,9,   -999.0,9,-999.0000,     -999,9, -999.000,9, -999.000,   -999.0,9,   -999.0, -999.000,9, -999.000, -999.000,9, -999.000
  49NZ20130106,  S04I,   141,  1,     20, X12J20,2,20130127,0559,-63.4942,  52.5075, 4616,    960.1,2,   1.0635,2,   1.06364,2,  34.7146,2,  34.7155,2,-999.0000,9,   201.53,2,   201.49,2,   99.965,   0.0014,2,    0.000,2,  -999.00,9,    0.000,2,   102.03,2,     0.15,    31.76,2,     0.04,     0.01,2,     0.01,     2.20,2,     0.01,    0.380,2,    0.182,2,    0.029,2, -999.000,9,   -999.0,9,   -999.0,9,-999.0000,     -999,9, -999.000,9, -999.000,   -999.0,9,   -999.0, -999.000,9, -999.000, -999.000,9, -999.000
  49NZ20130106,  S04I,   141,  1,     19, X12J19,2,20130127,0559,-63.4942,  52.5075, 4616,   1169.5,2,   0.8652,2,   0.86537,2,  34.7065,2,  34.7071,2,-999.0000,9,   203.76,2,   203.73,2,   99.970,   0.0012,2,   -0.000,2,  -999.00,9,    0.000,2,   107.66,2,     0.16,    32.15,2,     0.05,     0.01,2,     0.01,     2.22,2,     0.01,    0.367,6,    0.183,6,    0.024,6,    0.037,6,   -999.0,9,   -999.0,9,-999.0000,     -999,9, -999.000,9, -999.000,   -999.0,9,   -999.0, -999.000,9, -999.000, -999.000,9, -999.000
  49NZ20130106,  S04I,   141,  1,     18, X12J18,2,20130127,0559,-63.4942,  52.5075, 4616,   1419.4,2,   0.6932,2,   0.69353,2,  34.6990,2,  34.6997,2,-999.0000,9,   205.29,2,   205.33,2,   99.978,   0.0009,2,   -0.000,2,  -999.00,9,    0.000,2,   112.96,2,     0.16,    32.52,2,     0.05,     0.01,2,     0.01,     2.26,2,     0.01,    0.357,2,    0.171,2,    0.022,2,    0.041,2,   -999.0,9,   -999.0,9,-999.0000,     -999,9, -999.000,9, -999.000,   -999.0,9,   -999.0, -999.000,9, -999.000, -999.000,9, -999.000
  49NZ20130106,  S04I,   141,  1,     17, X12J17,2,20130127,0559,-63.4942,  52.5075, 4616,   1669.8,2,   0.5680,2,   0.56804,2,  34.6930,2,  34.6937,2,-999.0000,9,   206.76,2,   206.88,2,   99.982,   0.0007,2,   -0.000,2,  -999.00,9,    0.000,2,   116.88,2,     0.16,    32.76,2,     0.05,     0.01,2,     0.01,     2.27,2,     0.01,    0.341,2,    0.163,2,    0.019,2,    0.011,2,   -999.0,9,   -999.0,9,-999.0000,     -999,9, -999.000,9, -999.000,   -999.0,9,   -999.0, -999.000,9, -999.000, -999.000,9, -999.000
  49NZ20130106,  S04I,   141,  1,     16, X12J16,2,20130127,0559,-63.4942,  52.5075, 4616,   1919.8,2,   0.4584,2,   0.45847,2,  34.6881,2,  34.6884,2,-999.0000,9,   209.12,2,   209.20,2,   99.978,   0.0009,2,   -0.000,2,  -999.00,9,    0.000,2,   120.21,2,     0.17,    32.92,2,     0.05,     0.01,2,     0.01,     2.29,2,     0.01,    0.311,2,    0.151,2,    0.015,2,    0.032,2,   -999.0,9,   -999.0,9,-999.0000,     -999,9, -999.000,9, -999.000,   -999.0,9,   -999.0, -999.000,9, -999.000, -999.000,9, -999.000
  49NZ20130106,  S04I,   141,  1,     15, X12J15,2,20130127,0559,-63.4942,  52.5075, 4616,   2171.0,2,   0.3489,2,   0.34904,2,  34.6824,2,  34.6823,2,-999.0000,9,   211.53,2,   211.65,2,   99.991,   0.0004,2,   -0.000,2,  -999.00,9,    0.000,2,   122.53,2,     0.17,    33.04,2,     0.05,     0.01,2,     0.01,     2.30,2,     0.01,    0.326,2,    0.156,2,    0.015,2,    0.034,2,   -999.0,9,   -999.0,9,-999.0000,     -999,9, -999.000,9, -999.000,   -999.0,9,   -999.0, -999.000,9, -999.000, -999.000,9, -999.000
  49NZ20130106,  S04I,   141,  1,     14, X12J14,2,20130127,0559,-63.4942,  52.5075, 4616,   2420.7,2,   0.2446,2,   0.24462,2,  34.6772,2,  34.6775,2,-999.0000,9,   214.98,2,   215.05,2,   99.982,   0.0007,2,   -0.010,2,  -999.00,9,    0.000,2,   123.80,2,     0.17,    33.00,2,     0.05,     0.01,2,     0.01,     2.28,2,     0.01,    0.335,2,    0.159,2,    0.014,2,    0.036,2,   -999.0,9,   -999.0,9,-999.0000,     -999,9, -999.000,9, -999.000,   -999.0,9,   -999.0, -999.000,9, -999.000, -999.000,9, -999.000
  49NZ20130106,  S04I,   141,  1,     13, X12J13,2,20130127,0559,-63.4942,  52.5075, 4616,   2669.3,2,   0.1591,2,   0.15910,2,  34.6733,2,  34.6737,2,-999.0000,9,   218.67,2,   218.64,2,   99.982,   0.0007,2,   -0.010,2,  -999.00,9,    0.000,2,   124.99,2,     0.17,    32.98,2,     0.05,     0.01,2,     0.01,     2.28,2,     0.01,    0.336,2,    0.159,2,    0.015,2,    0.023,2,   -999.0,9,   -999.0,9,-999.0000,     -999,9, -999.000,9, -999.000,   -999.0,9,   -999.0, -999.000,9, -999.000, -999.000,9, -999.000
  49NZ20130106,  S04I,   141,  1,     12, X12J12,2,20130127,0559,-63.4942,  52.5075, 4616,   2919.7,2,   0.0825,2,   0.08251,2,  34.6697,2,  34.6699,2,-999.0000,9,   222.13,2,   222.16,2,   99.980,   0.0008,2,   -0.000,2,  -999.00,9,    0.000,2,   125.75,2,     0.17,    32.97,2,     0.05,     0.01,2,     0.01,     2.28,2,     0.01,    0.355,2,    0.166,2,    0.017,2,    0.044,2,   -999.0,9,   -999.0,9,-999.0000,     -999,9, -999.000,9, -999.000,   -999.0,9,   -999.0, -999.000,9, -999.000, -999.000,9, -999.000
  49NZ20130106,  S04I,   141,  1,     11, X12J11,2,20130127,0559,-63.4942,  52.5075, 4616,   3171.0,2,   0.0081,2,   0.00802,2,  34.6661,2,  34.6664,2,-999.0000,9,   225.88,2,   225.93,2,   99.976,   0.0010,2,   -0.010,2,  -999.00,9,    0.000,2,   126.23,2,     0.17,    32.90,2,     0.05,     0.01,2,     0.01,     2.28,2,     0.01,    0.374,2,    0.181,2,    0.017,2,    0.002,2,   -999.0,9,   -999.0,9,-999.0000,     -999,9, -999.000,9, -999.000,   -999.0,9,   -999.0, -999.000,9, -999.000, -999.000,9, -999.000
  49NZ20130106,  S04I,   141,  1,     10, X12J10,2,20130127,0559,-63.4942,  52.5075, 4616,   3420.4,2,  -0.0536,2,  -0.05345,2,  34.6632,2,  34.6628,2,-999.0000,9,   229.45,2,   229.38,2,   99.972,   0.0011,2,   -0.010,2,  -999.00,9,    0.000,2,   126.58,2,     0.17,    32.87,2,     0.05,     0.00,2,     0.01,     2.28,2,     0.01,    0.413,2,    0.200,2,    0.020,2,    0.016,2,   -999.0,9,   -999.0,9,-999.0000,     -999,9, -999.000,9, -999.000,   -999.0,9,   -999.0, -999.000,9, -999.000, -999.000,9, -999.000
  49NZ20130106,  S04I,   141,  1,      9, X12J09,2,20130127,0559,-63.4942,  52.5075, 4616,   3669.9,2,  -0.1093,2,  -0.10925,2,  34.6602,2,  34.6603,2,-999.0000,9,   233.02,2,   232.95,2,   99.970,   0.0012,2,   -0.010,2,  -999.00,9,    0.000,2,   126.27,2,     0.17,    32.79,2,     0.05,     0.01,2,     0.01,     2.28,2,     0.01,    0.497,2,    0.242,2,    0.025,2,    0.113,2,   -999.0,9,   -999.0,9,-999.0000,     -999,9, -999.000,9, -999.000,   -999.0,9,   -999.0, -999.000,9, -999.000, -999.000,9, -999.000
  49NZ20130106,  S04I,   141,  1,      8, X12J08,2,20130127,0559,-63.4942,  52.5075, 4616,   3920.8,2,  -0.1585,2,  -0.15844,2,  34.6577,2,  34.6573,2,-999.0000,9,   236.12,2,   235.91,2,   99.953,   0.0019,2,   -0.010,2,  -999.00,9,    0.000,2,   127.13,2,     0.17,    32.72,2,     0.05,     0.01,2,     0.01,     2.27,2,     0.01,    0.520,6,    0.253,6,    0.030,6,    0.091,6,   -999.0,9,   -999.0,9,-999.0000,     -999,9, -999.000,9, -999.000,   -999.0,9,   -999.0, -999.000,9, -999.000, -999.000,9, -999.000
  49NZ20130106,  S04I,   141,  1,      7, X12J07,2,20130127,0559,-63.4942,  52.5075, 4616,   4170.0,2,  -0.1978,2,  -0.19793,2,  34.6552,2,  34.6553,2,-999.0000,9,   238.96,2,   238.95,2,   99.950,   0.0020,2,   -0.010,2,  -999.00,9,    0.000,2,   127.62,2,     0.17,    32.68,2,     0.05,     0.00,2,     0.01,     2.27,2,     0.01,    0.624,2,    0.312,2,    0.041,2,    0.105,2,   -999.0,9,   -999.0,9,-999.0000,     -999,9, -999.000,9, -999.000,   -999.0,9,   -999.0, -999.000,9, -999.000, -999.000,9, -999.000
  49NZ20130106,  S04I,   141,  1,      6, X12J06,2,20130127,0559,-63.4942,  52.5075, 4616,   4420.0,2,  -0.2561,2,  -0.25612,2,  34.6493,2,  34.6500,2,-999.0000,9,   246.21,2,   246.24,2,   99.885,   0.0046,2,   -0.010,2,  -999.00,9,    0.000,2,   120.01,2,     0.17,    32.33,2,     0.05,     0.01,2,     0.01,     2.25,2,     0.01,    1.287,2,    0.682,2,    0.101,2,    0.467,2,   -999.0,9,   -999.0,9,-999.0000,     -999,9, -999.000,9, -999.000,   -999.0,9,   -999.0, -999.000,9, -999.000, -999.000,9, -999.000
  49NZ20130106,  S04I,   141,  1,      1, X12J01,2,20130127,0559,-63.4942,  52.5075, 4616,   4702.8,2,  -0.3715,2,  -0.37149,2,  34.6392,2,  34.6396,2,-999.0000,9,   260.22,2,   260.22,2,   99.687,   0.0125,2,   -0.010,2,  -999.00,9,    0.000,2,    99.64,2,     0.15,    31.57,2,     0.04,     0.02,2,     0.01,     2.20,2,     0.01,    2.719,2,    1.408,2,    0.229,2,    1.208,2,   -999.0,9,   -999.0,9,-999.0000,     -999,9, -999.000,9, -999.000,   -999.0,9,   -999.0, -999.000,9, -999.000, -999.000,9, -999.000