BOTTLE,20220819CCHSIOAMB
EXPOCODE,SECT_ID,STNNBR,CASTNO,SAMPNO,BTLNBR,BTLNBR_FLAG_W,DATE,TIME,LATITUDE,LONGITUDE,DEPTH,CTDPRS,CTDPRS_FLAG_W,CTDTMP,CTDTMP_FLAG_W,SBE35,SBE35_FLAG_W,CTDSAL,CTDSAL_FLAG_W,SALNTY,SALNTY_FLAG_W,DNSSAL,DNSSAL_FLAG_W,CTDOXY,CTDOXY_FLAG_W,OXYGEN,OXYGEN_FLAG_W,CTDXMISS,CTDXMISSCP,CTDXMISS_FLAG_W,CTDFLUOR,CTDFLUOR_FLAG_W,CHLORA,CHLORA_FLAG_W,PAR,PAR_FLAG_W,SILCAT,SILCAT_FLAG_W,SILUNC,NITRAT,NITRAT_FLAG_W,NRAUNC,NITRIT,NITRIT_FLAG_W,NRIUNC,PHSPHT,PHSPHT_FLAG_W,PHPUNC,CFC-11,CFC-11_FLAG_W,CFC-12,CFC-12_FLAG_W,CFC113,CFC113_FLAG_W,SF6,SF6_FLAG_W,TCARBN,TCARBN_FLAG_W,ALKALI,ALKALI_FLAG_W,PH_TOT,PH_TMP,PH_TOT_FLAG_W,DELC13,DELC13_FLAG_W,C13ERR,DELC14,DELC14_FLAG_W,C14ERR,CS-134,CS-134_FLAG_W,CS134ER,CS-137,CS-137_FLAG_W,CS137ER
,,,,,,,,UTC,DEG,DEG,METERS,DBAR,,ITS-90,,ITS-90,,PSS-78,,PSS-78,,G/KG,,UMOL/KG,,UMOL/KG,,%TRANS,/METER,,MG/M^3,,MG/CUM,,UE/SQM/S,,UMOL/KG,,UMOL/KG,UMOL/KG,,UMOL/KG,UMOL/KG,,UMOL/KG,UMOL/KG,,UMOL/KG,PMOL/KG,,PMOL/KG,,PMOL/KG,,FMOL/KG,,UMOL/KG,,UMOL/KG,,,DEG C,,/MILLE,,/MILLE,/MILLE,,/MILLE,MBQ/KG,,MBQ/KG,MBQ/KG,,MBQ/KG
  49NZ20130106,  S04I,   122,  1,     36, X12J36,2,20130121,1551,-62.0470,  67.2010, 4328,      5.0,2,   0.9920,2,   0.99164,2,  33.6238,2,  33.6240,2,-999.0000,9,   344.13,2,   344.34,2,   95.929,   0.1662,2,    0.450,2,     0.35,2,    1.083,2,    30.08,2,     0.09,    25.60,2,     0.04,     0.27,2,     0.01,     1.76,2,     0.01,    5.804,2,    3.192,2,    0.538,2, -999.000,9,   -999.0,9,   -999.0,9,-999.0000,     -999,9, -999.000,9, -999.000,   -999.0,9,   -999.0, -999.000,9, -999.000, -999.000,9, -999.000
  49NZ20130106,  S04I,   122,  1,     35, X12J35,2,20130121,1551,-62.0470,  67.2010, 4328,     24.1,2,   0.9058,2,   0.91121,2,  33.6256,2,  33.6261,2,-999.0000,9,   344.62,2,   344.93,2,   95.827,   0.1705,2,    0.460,2,     0.36,2,    0.000,2,    30.13,2,     0.09,    25.62,2,     0.04,     0.26,2,     0.01,     1.77,2,     0.01,    5.800,2,    3.188,2,    0.533,2, -999.000,9,   -999.0,9,   -999.0,9,-999.0000,     -999,9, -999.000,9, -999.000,   -999.0,9,   -999.0, -999.000,9, -999.000, -999.000,9, -999.000
  49NZ20130106,  S04I,   122,  1,     34, X12J34,2,20130121,1551,-62.0470,  67.2010, 4328,     50.3,2,  -1.0243,2,  -1.01686,2,  33.8091,2,  33.8160,2,-999.0000,9,   347.94,2,   348.23,2,   94.509,   0.2259,2,    0.920,2,     0.73,2,    0.000,2,    31.98,2,     0.09,    26.53,2,     0.04,     0.18,2,     0.01,     1.84,2,     0.01,    5.756,6,    3.148,6,    0.527,6, -999.000,9,   -999.0,9,   -999.0,9,-999.0000,     -999,9, -999.000,9, -999.000,   -999.0,9,   -999.0, -999.000,9, -999.000, -999.000,9, -999.000
  49NZ20130106,  S04I,   122,  1,     33, X12J33,2,20130121,1551,-62.0470,  67.2010, 4328,     74.5,2,  -1.6394,2,  -1.63985,2,  33.9073,2,  33.9079,2,-999.0000,9,   336.50,2,   337.27,2,   97.530,   0.1000,2,    0.590,2,     0.46,2,    0.000,2,    34.72,2,     0.09,    27.48,2,     0.04,     0.17,2,     0.01,     1.90,2,     0.01,    5.545,2,    3.040,2,    0.501,2, -999.000,9,   -999.0,9,   -999.0,9,-999.0000,     -999,9, -999.000,9, -999.000,   -999.0,9,   -999.0, -999.000,9, -999.000, -999.000,9, -999.000
  49NZ20130106,  S04I,   122,  1,     32, X12J32,2,20130121,1551,-62.0470,  67.2010, 4328,     98.2,2,  -1.3763,2,  -1.37228,2,  33.9788,2,  33.9757,2,-999.0000,9,   314.15,2,   315.73,2,   98.642,   0.0547,2,    0.380,2,     0.38,2,    0.000,2,    40.54,2,     0.10,    28.83,2,     0.04,     0.19,2,     0.01,     2.01,2,     0.01,    5.169,2,    2.827,2,    0.491,2, -999.000,9,   -999.0,9,   -999.0,9,-999.0000,     -999,9, -999.000,9, -999.000,   -999.0,9,   -999.0, -999.000,9, -999.000, -999.000,9, -999.000
  49NZ20130106,  S04I,   122,  1,     31, X12J31,2,20130121,1551,-62.0470,  67.2010, 4328,    124.0,2,   0.6593,2,   0.65830,2,  34.2505,2,  34.2424,2,-999.0000,9,   231.58,2,   231.65,2,   99.219,   0.0314,2,    0.230,2,     0.28,2,    0.000,2,    57.43,2,     0.11,    33.51,2,     0.05,     0.17,2,     0.01,     2.34,2,     0.01,    3.197,2,    1.723,2,    0.263,2, -999.000,9,   -999.0,9,   -999.0,9,-999.0000,     -999,9, -999.000,9, -999.000,   -999.0,9,   -999.0, -999.000,9, -999.000, -999.000,9, -999.000
  49NZ20130106,  S04I,   122,  1,     30, X12J30,2,20130121,1551,-62.0470,  67.2010, 4328,    150.4,2,   1.7248,2,   1.72630,2,  34.4329,2,  34.4320,2,-999.0000,9,   186.50,2,   186.47,2,   99.677,   0.0129,2,    0.070,2,     0.07,2,    0.000,2,    69.32,2,     0.12,    35.83,2,     0.05,     0.04,2,     0.01,     2.48,2,     0.01,    1.973,2,    0.977,2,    0.138,2, -999.000,9,   -999.0,9,   -999.0,9,-999.0000,     -999,9, -999.000,9, -999.000,   -999.0,9,   -999.0, -999.000,9, -999.000, -999.000,9, -999.000
  49NZ20130106,  S04I,   122,  1,     29, X12J29,2,20130121,1551,-62.0470,  67.2010, 4328,    200.0,2,   1.9114,2,   1.91125,2,  34.5246,2,  34.5239,2,-999.0000,9,   172.81,2,   172.96,2,   99.783,   0.0087,2,    0.010,2,     0.01,2,    0.000,2,    75.48,2,     0.13,    35.74,2,     0.05,     0.01,2,     0.01,     2.47,2,     0.01,    1.211,2,    0.631,2,    0.103,2, -999.000,9,   -999.0,9,   -999.0,9,-999.0000,     -999,9, -999.000,9, -999.000,   -999.0,9,   -999.0, -999.000,9, -999.000, -999.000,9, -999.000
  49NZ20130106,  S04I,   122,  1,     28, X12J28,2,20130121,1551,-62.0470,  67.2010, 4328,    253.4,2,   2.0226,2,   2.02223,2,  34.5805,2,  34.5790,2,-999.0000,9,   169.73,2,   169.68,2,   99.849,   0.0060,2,    0.000,2,     0.01,2,    0.000,2,    77.65,2,     0.13,    35.14,2,     0.05,     0.01,2,     0.01,     2.42,2,     0.01,    0.874,2,    0.449,2,    0.068,2, -999.000,9,   -999.0,9,   -999.0,9,-999.0000,     -999,9, -999.000,9, -999.000,   -999.0,9,   -999.0, -999.000,9, -999.000, -999.000,9, -999.000
  49NZ20130106,  S04I,   122,  1,     27, X12J27,2,20130121,1551,-62.0470,  67.2010, 4328,    280.8,2,   2.0056,2,   2.00546,2,  34.5979,2,  34.5974,2,-999.0000,9,   169.85,2,   169.89,2,   99.879,   0.0048,2,    0.000,2,  -999.00,9,    0.000,2,    79.07,2,     0.13,    34.88,2,     0.05,     0.01,2,     0.01,     2.41,2,     0.01,    0.797,2,    0.411,2,    0.064,2, -999.000,9,   -999.0,9,   -999.0,9,-999.0000,     -999,9, -999.000,9, -999.000,   -999.0,9,   -999.0, -999.000,9, -999.000, -999.000,9, -999.000
  49NZ20130106,  S04I,   122,  1,     26, X12J26,2,20130121,1551,-62.0470,  67.2010, 4328,    369.2,2,   2.0079,2,   2.00772,2,  34.6425,2,  34.6406,2,-999.0000,9,   172.50,2,   172.31,2,   99.902,   0.0039,2,    0.000,2,  -999.00,9,    0.000,2,    80.71,2,     0.13,    34.03,2,     0.05,     0.01,2,     0.01,     2.35,2,     0.01,    0.616,2,    0.315,2,    0.051,2, -999.000,9,   -999.0,9,   -999.0,9,-999.0000,     -999,9, -999.000,9, -999.000,   -999.0,9,   -999.0, -999.000,9, -999.000, -999.000,9, -999.000
  49NZ20130106,  S04I,   122,  1,     25, X12J25,2,20130121,1551,-62.0470,  67.2010, 4328,    468.9,2,   2.0027,2,   2.00250,2,  34.6793,2,  34.6787,2,-999.0000,9,   177.24,2,   177.31,2,   99.934,   0.0026,2,    0.000,2,  -999.00,9,    0.000,2,    81.19,2,     0.13,    32.99,2,     0.05,     0.01,2,     0.01,     2.27,2,     0.01,    0.481,2,    0.241,2,    0.051,2, -999.000,9,   -999.0,9,   -999.0,9,-999.0000,     -999,9, -999.000,9, -999.000,   -999.0,9,   -999.0, -999.000,9, -999.000, -999.000,9, -999.000
  49NZ20130106,  S04I,   122,  1,     24, X12J24,2,20130121,1551,-62.0470,  67.2010, 4328,    569.6,2,   1.9366,2,   1.93607,2,  34.6965,2,  34.6963,2,-999.0000,9,   180.89,2,   181.11,2,   99.940,   0.0024,2,    0.000,2,  -999.00,9,    0.000,2,    82.84,2,     0.13,    32.57,2,     0.05,     0.01,2,     0.01,     2.24,2,     0.01,    0.435,6,    0.219,6,    0.036,6, -999.000,9,   -999.0,9,   -999.0,9,-999.0000,     -999,9, -999.000,9, -999.000,   -999.0,9,   -999.0, -999.000,9, -999.000, -999.000,9, -999.000
  49NZ20130106,  S04I,   122,  1,     23, X12J23,2,20130121,1551,-62.0470,  67.2010, 4328,    668.9,2,   1.8931,2,   1.89301,2,  34.7167,2,  34.7166,2,-999.0000,9,   185.86,2,   186.09,2,   99.942,   0.0023,2,    0.000,2,  -999.00,9,    0.000,2,    83.45,2,     0.13,    31.85,2,     0.04,     0.01,2,     0.01,     2.20,2,     0.01,    0.361,2,    0.181,2,    0.021,2, -999.000,9,   -999.0,9,   -999.0,9,-999.0000,     -999,9, -999.000,9, -999.000,   -999.0,9,   -999.0, -999.000,9, -999.000, -999.000,9, -999.000
  49NZ20130106,  S04I,   122,  1,     22, X12J22,2,20130121,1551,-62.0470,  67.2010, 4328,    769.9,2,   1.8528,2,   1.85278,2,  34.7296,2,  34.7293,2,-999.0000,9,   190.02,2,   190.41,2,   99.957,   0.0017,2,    0.000,2,  -999.00,9,    0.000,2,    83.57,2,     0.13,    31.29,2,     0.04,     0.01,2,     0.01,     2.16,2,     0.01,    0.304,2,    0.159,2,    0.017,2,    0.070,2,   -999.0,9,   -999.0,9,-999.0000,     -999,9, -999.000,9, -999.000,   -999.0,9,   -999.0, -999.000,9, -999.000, -999.000,9, -999.000
  49NZ20130106,  S04I,   122,  1,     21, X12J21,2,20130121,1551,-62.0470,  67.2010, 4328,    870.2,2,   1.8053,2,   1.80526,2,  34.7390,2,  34.7389,2,-999.0000,9,   193.73,2,   193.72,2,   99.959,   0.0016,2,    0.000,2,  -999.00,9,    0.000,2,    83.92,2,     0.13,    30.88,2,     0.04,     0.01,2,     0.01,     2.13,2,     0.01,    0.264,2,    0.137,2,    0.013,2,    0.034,2,   -999.0,9,   -999.0,9,-999.0000,     -999,9, -999.000,9, -999.000,   -999.0,9,   -999.0, -999.000,9, -999.000, -999.000,9, -999.000
  49NZ20130106,  S04I,   122,  1,     20, X12J20,2,20130121,1551,-62.0470,  67.2010, 4328,    957.8,2,   1.7330,2,   1.73284,2,  34.7427,2,  34.7425,2,-999.0000,9,   196.51,2,   196.29,2,   99.976,   0.0010,2,    0.000,2,  -999.00,9,    0.000,2,    85.24,2,     0.14,    30.67,2,     0.04,     0.01,2,     0.01,     2.12,2,     0.01,    0.253,2,    0.124,2,    0.013,2,    0.021,2,   -999.0,9,   -999.0,9,-999.0000,     -999,9, -999.000,9, -999.000,   -999.0,9,   -999.0, -999.000,9, -999.000, -999.000,9, -999.000
  49NZ20130106,  S04I,   122,  1,     19, X12J19,2,20130121,1551,-62.0470,  67.2010, 4328,   1169.0,2,   1.5244,2,   1.52510,2,  34.7417,2,  34.7417,2,-999.0000,9,   200.40,2,   200.30,2,   99.930,   0.0028,2,    0.000,2,  -999.00,9,    0.000,2,    90.41,2,     0.14,    30.71,2,     0.04,     0.01,2,     0.01,     2.12,2,     0.01,    0.243,6,    0.123,6,    0.012,6,    0.011,6,   -999.0,9,   -999.0,9,-999.0000,     -999,9, -999.000,9, -999.000,   -999.0,9,   -999.0, -999.000,9, -999.000, -999.000,9, -999.000
  49NZ20130106,  S04I,   122,  1,     18, X12J18,2,20130121,1551,-62.0470,  67.2010, 4328,   1420.4,2,   1.2978,2,   1.29730,2,  34.7345,2,  34.7344,2,-999.0000,9,   203.21,2,   203.18,2,   99.962,   0.0015,2,   -0.000,2,  -999.00,9,    0.000,2,    96.40,2,     0.15,    30.96,2,     0.04,     0.01,2,     0.01,     2.14,2,     0.01,    0.231,2,    0.122,2,    0.010,2,    0.029,2,   -999.0,9,   -999.0,9,-999.0000,     -999,9, -999.000,9, -999.000,   -999.0,9,   -999.0, -999.000,9, -999.000, -999.000,9, -999.000
  49NZ20130106,  S04I,   122,  1,     17, X12J17,2,20130121,1551,-62.0470,  67.2010, 4328,   1670.4,2,   1.0730,2,   1.07324,2,  34.7232,2,  34.7231,2,-999.0000,9,   205.21,2,   205.16,2,   99.966,   0.0014,2,   -0.000,2,  -999.00,9,    0.000,2,   102.89,2,     0.15,    31.42,2,     0.04,     0.01,2,     0.01,     2.17,2,     0.01,    0.237,2,    0.119,2,    0.010,2,    0.008,2,   -999.0,9,   -999.0,9,-999.0000,     -999,9, -999.000,9, -999.000,   -999.0,9,   -999.0, -999.000,9, -999.000, -999.000,9, -999.000
  49NZ20130106,  S04I,   122,  1,     16, X12J16,2,20130121,1551,-62.0470,  67.2010, 4328,   1919.8,2,   0.8584,2,   0.85844,2,  34.7108,2,  34.7106,2,-999.0000,9,   206.78,2,   206.79,2,   99.972,   0.0011,2,   -0.000,2,  -999.00,9,    0.000,2,   109.20,2,     0.16,    31.90,2,     0.04,     0.01,2,     0.01,     2.21,2,     0.01,    0.250,2,    0.122,2,    0.009,2,    0.000,2,   -999.0,9,   -999.0,9,-999.0000,     -999,9, -999.000,9, -999.000,   -999.0,9,   -999.0, -999.000,9, -999.000, -999.000,9, -999.000
  49NZ20130106,  S04I,   122,  1,     15, X12J15,2,20130121,1551,-62.0470,  67.2010, 4328,   2170.1,2,   0.6901,2,   0.69039,2,  34.7005,2,  34.7002,2,-999.0000,9,   207.93,2,   207.97,2,   99.968,   0.0013,2,   -0.000,2,  -999.00,9,    0.000,2,   114.47,2,     0.16,    32.36,2,     0.05,     0.01,2,     0.01,     2.23,2,     0.01,    0.264,2,    0.130,2,    0.007,2,    0.000,2,   -999.0,9,   -999.0,9,-999.0000,     -999,9, -999.000,9, -999.000,   -999.0,9,   -999.0, -999.000,9, -999.000, -999.000,9, -999.000
  49NZ20130106,  S04I,   122,  1,     14, X12J14,2,20130121,1551,-62.0470,  67.2010, 4328,   2419.2,2,   0.5449,2,   0.54508,2,  34.6924,2,  34.6921,2,-999.0000,9,   209.98,2,   210.00,2,   99.968,   0.0013,2,   -0.000,2,  -999.00,9,    0.000,2,   118.95,2,     0.17,    32.65,2,     0.05,     0.01,2,     0.01,     2.25,2,     0.01,    0.269,2,    0.127,2,    0.007,2,    0.063,2,   -999.0,9,   -999.0,9,-999.0000,     -999,9, -999.000,9, -999.000,   -999.0,9,   -999.0, -999.000,9, -999.000, -999.000,9, -999.000
  49NZ20130106,  S04I,   122,  1,     13, X12J13,2,20130121,1551,-62.0470,  67.2010, 4328,   2670.2,2,   0.4288,2,   0.42871,2,  34.6860,2,  34.6859,2,-999.0000,9,   212.54,2,   212.57,2,   99.976,   0.0010,2,   -0.000,2,  -999.00,9,    0.000,2,   122.15,2,     0.17,    32.81,2,     0.05,     0.01,2,     0.01,     2.27,2,     0.01,    0.257,2,    0.121,2,    0.007,2,    0.036,2,   -999.0,9,   -999.0,9,-999.0000,     -999,9, -999.000,9, -999.000,   -999.0,9,   -999.0, -999.000,9, -999.000, -999.000,9, -999.000
  49NZ20130106,  S04I,   122,  1,     12, X12J12,2,20130121,1551,-62.0470,  67.2010, 4328,   2919.8,2,   0.3233,2,   0.32335,2,  34.6804,2,  34.6799,2,-999.0000,9,   215.28,2,   215.24,2,   99.959,   0.0016,2,   -0.000,2,  -999.00,9,    0.000,2,   124.75,2,     0.17,    32.96,2,     0.05,     0.01,2,     0.01,     2.28,2,     0.01,    0.268,6,    0.126,6,    0.012,6,    0.000,2,   -999.0,9,   -999.0,9,-999.0000,     -999,9, -999.000,9, -999.000,   -999.0,9,   -999.0, -999.000,9, -999.000, -999.000,9, -999.000
  49NZ20130106,  S04I,   122,  1,     11, X12J11,2,20130121,1551,-62.0470,  67.2010, 4328,   3171.5,2,   0.2272,2,   0.22712,2,  34.6759,2,  34.6753,2,-999.0000,9,   218.72,2,   218.89,2,   99.962,   0.0015,2,   -0.010,2,  -999.00,9,    0.000,2,   127.02,2,     0.17,    33.02,2,     0.05,     0.01,2,     0.01,     2.29,2,     0.01,    0.261,2,    0.121,2,    0.007,2,    0.000,2,   -999.0,9,   -999.0,9,-999.0000,     -999,9, -999.000,9, -999.000,   -999.0,9,   -999.0, -999.000,9, -999.000, -999.000,9, -999.000
  49NZ20130106,  S04I,   122,  1,     10, X12J10,2,20130121,1551,-62.0470,  67.2010, 4328,   3420.4,2,   0.1304,2,   0.13042,2,  34.6714,2,  34.6708,2,-999.0000,9,   222.59,2,   222.56,2,   99.913,   0.0035,2,   -0.010,2,  -999.00,9,    0.000,2,   128.70,2,     0.18,    32.99,2,     0.05,     0.01,2,     0.01,     2.28,2,     0.01,    0.261,2,    0.124,2,    0.008,2,    0.000,2,   -999.0,9,   -999.0,9,-999.0000,     -999,9, -999.000,9, -999.000,   -999.0,9,   -999.0, -999.000,9, -999.000, -999.000,9, -999.000
  49NZ20130106,  S04I,   122,  1,      9, X12J09,2,20130121,1551,-62.0470,  67.2010, 4328,   3669.9,2,   0.0324,2,   0.03256,2,  34.6668,2,  34.6664,2,-999.0000,9,   226.89,2,   227.09,2,   99.913,   0.0035,2,   -0.010,2,  -999.00,9,    0.000,2,   130.64,2,     0.18,    32.94,2,     0.05,     0.01,2,     0.01,     2.28,2,     0.01,    0.286,2,    0.136,2,    0.010,2,    0.000,2,   -999.0,9,   -999.0,9,-999.0000,     -999,9, -999.000,9, -999.000,   -999.0,9,   -999.0, -999.000,9, -999.000, -999.000,9, -999.000
  49NZ20130106,  S04I,   122,  1,      8, X12J08,2,20130121,1551,-62.0470,  67.2010, 4328,   3918.5,2,  -0.0396,2,  -0.03913,2,  34.6634,2,  34.6630,2,-999.0000,9,   230.26,2,   230.58,2,   99.930,   0.0028,2,   -0.010,2,  -999.00,9,    0.000,2,   132.90,2,     0.18,    32.92,2,     0.05,     0.01,2,     0.01,     2.28,2,     0.01,    0.310,6,    0.154,6,    0.013,6,    0.013,6,   -999.0,9,   -999.0,9,-999.0000,     -999,9, -999.000,9, -999.000,   -999.0,9,   -999.0, -999.000,9, -999.000, -999.000,9, -999.000
  49NZ20130106,  S04I,   122,  1,      7, X12J07,2,20130121,1551,-62.0470,  67.2010, 4328,   4168.3,2,  -0.1074,2,  -0.10759,2,  34.6597,2,  34.6597,2,-999.0000,9,   233.42,2,   233.79,2,   99.896,   0.0042,2,   -0.010,2,  -999.00,9,    0.000,2,   137.25,2,     0.18,    32.91,2,     0.05,     0.01,2,     0.01,     2.29,2,     0.01,    0.375,2,    0.192,2,    0.017,2,    0.038,2,   -999.0,9,   -999.0,9,-999.0000,     -999,9, -999.000,9, -999.000,   -999.0,9,   -999.0, -999.000,9, -999.000, -999.000,9, -999.000
  49NZ20130106,  S04I,   122,  1,      1, X12J01,2,20130121,1551,-62.0470,  67.2010, 4328,   4405.3,2,  -0.1513,2,  -0.15143,2,  34.6567,2,  34.6566,2,-999.0000,9,   235.43,2,   235.99,2,   99.673,   0.0131,2,   -0.010,2,  -999.00,9,    0.000,2,   145.84,2,     0.19,    32.97,2,     0.05,     0.01,2,     0.01,     2.29,2,     0.01,    0.434,2,    0.223,2,    0.020,2,    0.059,2,   -999.0,9,   -999.0,9,-999.0000,     -999,9, -999.000,9, -999.000,   -999.0,9,   -999.0, -999.000,9, -999.000, -999.000,9, -999.000