BOTTLE,20220819CCHSIOAMB
EXPOCODE,SECT_ID,STNNBR,CASTNO,SAMPNO,BTLNBR,BTLNBR_FLAG_W,DATE,TIME,LATITUDE,LONGITUDE,DEPTH,CTDPRS,CTDPRS_FLAG_W,CTDTMP,CTDTMP_FLAG_W,SBE35,SBE35_FLAG_W,CTDSAL,CTDSAL_FLAG_W,SALNTY,SALNTY_FLAG_W,DNSSAL,DNSSAL_FLAG_W,CTDOXY,CTDOXY_FLAG_W,OXYGEN,OXYGEN_FLAG_W,CTDXMISS,CTDXMISSCP,CTDXMISS_FLAG_W,CTDFLUOR,CTDFLUOR_FLAG_W,CHLORA,CHLORA_FLAG_W,PAR,PAR_FLAG_W,SILCAT,SILCAT_FLAG_W,SILUNC,NITRAT,NITRAT_FLAG_W,NRAUNC,NITRIT,NITRIT_FLAG_W,NRIUNC,PHSPHT,PHSPHT_FLAG_W,PHPUNC,CFC-11,CFC-11_FLAG_W,CFC-12,CFC-12_FLAG_W,CFC113,CFC113_FLAG_W,SF6,SF6_FLAG_W,TCARBN,TCARBN_FLAG_W,ALKALI,ALKALI_FLAG_W,PH_TOT,PH_TMP,PH_TOT_FLAG_W,DELC13,DELC13_FLAG_W,C13ERR,DELC14,DELC14_FLAG_W,C14ERR,CS-134,CS-134_FLAG_W,CS134ER,CS-137,CS-137_FLAG_W,CS137ER
,,,,,,,,UTC,DEG,DEG,METERS,DBAR,,ITS-90,,ITS-90,,PSS-78,,PSS-78,,G/KG,,UMOL/KG,,UMOL/KG,,%TRANS,/METER,,MG/M^3,,MG/CUM,,UE/SQM/S,,UMOL/KG,,UMOL/KG,UMOL/KG,,UMOL/KG,UMOL/KG,,UMOL/KG,UMOL/KG,,UMOL/KG,PMOL/KG,,PMOL/KG,,PMOL/KG,,FMOL/KG,,UMOL/KG,,UMOL/KG,,,DEG C,,/MILLE,,/MILLE,/MILLE,,/MILLE,MBQ/KG,,MBQ/KG,MBQ/KG,,MBQ/KG
  49NZ20130106,  S04I,    97,  1,     36, X12J36,2,20130115,0812,-62.1197,  96.3207, 3923,      5.8,2,   1.9059,2,   1.90638,2,  33.9483,2,  33.9515,2,-999.0000,9,   334.99,2,   335.13,2,   97.079,   0.1186,2,    0.050,2,  -999.00,9,  491.954,2,    48.71,2,     0.10,    26.85,2,     0.04,     0.27,2,     0.01,     1.77,2,     0.01,    5.511,2,    3.016,2,    0.554,2, -999.000,9,   -999.0,9,   -999.0,9,-999.0000,     -999,9, -999.000,9, -999.000,   -999.0,9,   -999.0, -999.000,9, -999.000, -999.000,9, -999.000
  49NZ20130106,  S04I,    97,  1,     35, X12J35,2,20130115,0812,-62.1197,  96.3207, 3923,     23.9,2,   1.5752,2,   1.57511,2,  34.0295,2,  34.0315,2,-999.0000,9,   338.55,2,   339.44,2,   96.350,   0.1487,2,    0.190,2,  -999.00,9,  105.844,2,    48.24,2,     0.10,    26.95,2,     0.04,     0.24,2,     0.01,     1.76,2,     0.01,    5.543,2,    3.026,2,    0.553,2, -999.000,9,   -999.0,9,   -999.0,9,-999.0000,     -999,9, -999.000,9, -999.000,   -999.0,9,   -999.0, -999.000,9, -999.000, -999.000,9, -999.000
  49NZ20130106,  S04I,    97,  1,     34, X12J34,2,20130115,0812,-62.1197,  96.3207, 3923,     50.1,2,  -0.2568,2,  -0.25378,2,  34.1196,2,  34.1239,2,-999.0000,9,   342.67,2,   341.94,2,   93.211,   0.2812,2,    0.710,2,  -999.00,9,   29.607,2,    52.14,2,     0.11,    27.69,2,     0.04,     0.15,2,     0.01,     1.81,2,     0.01,    5.175,6,    2.804,6,    0.516,6, -999.000,9,   -999.0,9,   -999.0,9,-999.0000,     -999,9, -999.000,9, -999.000,   -999.0,9,   -999.0, -999.000,9, -999.000, -999.000,9, -999.000
  49NZ20130106,  S04I,    97,  1,     33, X12J33,2,20130115,0812,-62.1197,  96.3207, 3923,     74.9,2,  -1.1371,2,  -1.13560,2,  34.2744,2,  34.2761,2,-999.0000,9,   293.62,2,   292.04,2,   97.845,   0.0871,2,    0.490,2,  -999.00,9,    3.140,2,    64.07,2,     0.12,    30.63,2,     0.04,     0.12,2,     0.01,     2.12,2,     0.01,    4.075,2,    2.201,2,    0.392,2, -999.000,9,   -999.0,9,   -999.0,9,-999.0000,     -999,9, -999.000,9, -999.000,   -999.0,9,   -999.0, -999.000,9, -999.000, -999.000,9, -999.000
  49NZ20130106,  S04I,    97,  1,     32, X12J32,2,20130115,0812,-62.1197,  96.3207, 3923,    100.0,2,  -0.7176,2,  -0.71991,2,  34.3696,2,  34.3712,2,-999.0000,9,   263.42,2,   262.41,2,   99.185,   0.0327,2,    0.200,2,  -999.00,9,    0.985,2,    68.93,2,     0.12,    31.78,2,     0.04,     0.12,2,     0.01,     2.18,2,     0.01,    3.320,2,    1.784,2,    0.318,2, -999.000,9,   -999.0,9,   -999.0,9,-999.0000,     -999,9, -999.000,9, -999.000,   -999.0,9,   -999.0, -999.000,9, -999.000, -999.000,9, -999.000
  49NZ20130106,  S04I,    97,  1,     31, X12J31,2,20130115,0812,-62.1197,  96.3207, 3923,    125.4,2,  -0.1823,2,  -0.18235,2,  34.4370,2,  34.4374,2,-999.0000,9,   243.48,2,   243.13,2,   99.523,   0.0191,2,    0.120,2,  -999.00,9,    0.334,2,    72.28,2,     0.12,    32.29,2,     0.05,     0.04,2,     0.01,     2.21,2,     0.01,    2.735,2,    1.474,2,    0.267,2, -999.000,9,   -999.0,9,   -999.0,9,-999.0000,     -999,9, -999.000,9, -999.000,   -999.0,9,   -999.0, -999.000,9, -999.000, -999.000,9, -999.000
  49NZ20130106,  S04I,    97,  1,     30, X12J30,2,20130115,0812,-62.1197,  96.3207, 3923,    150.5,2,   0.1612,2,   0.15952,2,  34.4839,2,  34.4826,2,-999.0000,9,   231.87,2,   231.85,2,   99.653,   0.0139,2,    0.100,2,  -999.00,9,    0.079,2,    74.47,2,     0.13,    32.38,2,     0.05,     0.02,2,     0.01,     2.21,2,     0.01,    2.381,2,    1.273,2,    0.233,2, -999.000,9,   -999.0,9,   -999.0,9,-999.0000,     -999,9, -999.000,9, -999.000,   -999.0,9,   -999.0, -999.000,9, -999.000, -999.000,9, -999.000
  49NZ20130106,  S04I,    97,  1,     29, X12J29,2,20130115,0812,-62.1197,  96.3207, 3923,    199.5,2,   0.7848,2,   0.78495,2,  34.5713,2,  34.5710,2,-999.0000,9,   211.78,2,   211.57,2,   99.735,   0.0106,2,    0.030,2,  -999.00,9,    0.000,2,    79.12,2,     0.13,    32.60,2,     0.05,     0.01,2,     0.01,     2.23,2,     0.01,    1.652,2,    0.878,2,    0.149,2, -999.000,9,   -999.0,9,   -999.0,9,-999.0000,     -999,9, -999.000,9, -999.000,   -999.0,9,   -999.0, -999.000,9, -999.000, -999.000,9, -999.000
  49NZ20130106,  S04I,    97,  1,     28, X12J28,2,20130115,0812,-62.1197,  96.3207, 3923,    250.1,2,   1.2523,2,   1.25178,2,  34.6457,2,  34.6457,2,-999.0000,9,   198.54,2,   198.29,2,   99.737,   0.0105,2,    0.010,2,  -999.00,9,    0.000,2,    82.97,2,     0.13,    32.41,2,     0.05,     0.01,2,     0.01,     2.22,2,     0.01,    1.047,2,    0.553,2,    0.097,2, -999.000,9,   -999.0,9,   -999.0,9,-999.0000,     -999,9, -999.000,9, -999.000,   -999.0,9,   -999.0, -999.000,9, -999.000, -999.000,9, -999.000
  49NZ20130106,  S04I,    97,  1,     27, X12J27,2,20130115,0812,-62.1197,  96.3207, 3923,    329.2,2,   1.5482,2,   1.54846,2,  34.6983,2,  34.6980,2,-999.0000,9,   192.27,2,   191.95,2,   99.833,   0.0067,2,    0.010,2,  -999.00,9,    0.000,2,    85.34,2,     0.14,    31.96,2,     0.04,     0.00,2,     0.01,     2.19,2,     0.01,    0.627,2,    0.318,2,    0.064,2, -999.000,9,   -999.0,9,   -999.0,9,-999.0000,     -999,9, -999.000,9, -999.000,   -999.0,9,   -999.0, -999.000,9, -999.000, -999.000,9, -999.000
  49NZ20130106,  S04I,    97,  1,     26, X12J26,2,20130115,0812,-62.1197,  96.3207, 3923,    429.9,2,   1.4866,2,   1.48728,2,  34.7156,2,  34.7152,2,-999.0000,9,   195.16,2,   195.08,2,   99.943,   0.0023,2,    0.000,2,  -999.00,9,    0.000,2,    87.87,2,     0.14,    31.51,2,     0.04,     0.00,2,     0.01,     2.16,2,     0.01,    0.517,2,    0.260,2,    0.047,2, -999.000,9,   -999.0,9,   -999.0,9,-999.0000,     -999,9, -999.000,9, -999.000,   -999.0,9,   -999.0, -999.000,9, -999.000, -999.000,9, -999.000
  49NZ20130106,  S04I,    97,  1,     25, X12J25,2,20130115,0812,-62.1197,  96.3207, 3923,    529.8,2,   1.4465,2,   1.44650,2,  34.7251,2,  34.7248,2,-999.0000,9,   197.01,2,   196.80,2,   99.962,   0.0015,2,    0.000,2,  -999.00,9,    0.000,2,    90.03,2,     0.14,    31.29,2,     0.04,     0.00,2,     0.01,     2.14,2,     0.01,    0.426,2,    0.214,2,    0.037,2, -999.000,9,   -999.0,9,   -999.0,9,-999.0000,     -999,9, -999.000,9, -999.000,   -999.0,9,   -999.0, -999.000,9, -999.000, -999.000,9, -999.000
  49NZ20130106,  S04I,    97,  1,     24, X12J24,2,20130115,0812,-62.1197,  96.3207, 3923,    629.8,2,   1.3630,2,   1.36307,2,  34.7280,2,  34.7276,2,-999.0000,9,   198.78,2,   198.69,2,   99.934,   0.0026,2,    0.000,2,  -999.00,9,    0.000,2,    92.68,2,     0.14,    31.23,2,     0.04,     0.00,2,     0.01,     2.14,2,     0.01,    0.382,6,    0.188,6,    0.034,6, -999.000,9,   -999.0,9,   -999.0,9,-999.0000,     -999,9, -999.000,9, -999.000,   -999.0,9,   -999.0, -999.000,9, -999.000, -999.000,9, -999.000
  49NZ20130106,  S04I,    97,  1,     23, X12J23,2,20130115,0812,-62.1197,  96.3207, 3923,    729.9,2,   1.2590,2,   1.25903,2,  34.7255,2,  34.7249,2,-999.0000,9,   200.24,2,   200.39,2,   99.940,   0.0024,2,    0.000,2,  -999.00,9,    0.000,2,    95.33,2,     0.14,    31.34,2,     0.04,     0.00,2,     0.01,     2.15,2,     0.01,    0.380,2,    0.188,2,    0.028,2, -999.000,9,   -999.0,9,   -999.0,9,-999.0000,     -999,9, -999.000,9, -999.000,   -999.0,9,   -999.0, -999.000,9, -999.000, -999.000,9, -999.000
  49NZ20130106,  S04I,    97,  1,     22, X12J22,2,20130115,0812,-62.1197,  96.3207, 3923,    832.4,2,   1.1839,2,   1.18377,2,  34.7249,2,  34.7248,2,-999.0000,9,   201.59,2,   201.76,2,   99.974,   0.0010,2,   -0.000,2,  -999.00,9,    0.000,2,    98.12,2,     0.15,    31.38,2,     0.04,     0.00,2,     0.01,     2.15,2,     0.01,    0.336,2,    0.161,2,    0.021,2, -999.000,9,   -999.0,9,   -999.0,9,-999.0000,     -999,9, -999.000,9, -999.000,   -999.0,9,   -999.0, -999.000,9, -999.000, -999.000,9, -999.000
  49NZ20130106,  S04I,    97,  1,     21, X12J21,2,20130115,0812,-62.1197,  96.3207, 3923,    930.7,2,   1.0987,2,   1.09870,2,  34.7215,2,  34.7217,2,-999.0000,9,   202.70,2,   202.91,2,   99.974,   0.0010,2,    0.000,2,  -999.00,9,    0.000,2,   100.49,2,     0.15,    31.52,2,     0.04,     0.00,2,     0.01,     2.16,2,     0.01,    0.338,2,    0.160,2,    0.022,2, -999.000,9,   -999.0,9,   -999.0,9,-999.0000,     -999,9, -999.000,9, -999.000,   -999.0,9,   -999.0, -999.000,9, -999.000, -999.000,9, -999.000
  49NZ20130106,  S04I,    97,  1,     20, X12J20,2,20130115,0812,-62.1197,  96.3207, 3923,   1080.4,2,   0.9744,2,   0.97421,2,  34.7165,2,  34.7167,2,-999.0000,9,   204.14,2,   204.33,2,   99.981,   0.0008,2,   -0.000,2,  -999.00,9,    0.000,2,   104.35,2,     0.15,    31.69,2,     0.04,     0.00,2,     0.01,     2.18,2,     0.01,    0.313,2,    0.149,2,    0.018,2, -999.000,9,   -999.0,9,   -999.0,9,-999.0000,     -999,9, -999.000,9, -999.000,   -999.0,9,   -999.0, -999.000,9, -999.000, -999.000,9, -999.000
  49NZ20130106,  S04I,    97,  1,     19, X12J19,2,20130115,0812,-62.1197,  96.3207, 3923,   1330.1,2,   0.7787,2,   0.77877,2,  34.7063,2,  34.7062,2,-999.0000,9,   206.54,2,   206.78,2,   99.996,   0.0002,2,   -0.000,2,  -999.00,9,    0.000,2,   109.88,2,     0.16,    32.10,2,     0.05,     0.00,2,     0.01,     2.21,2,     0.01,    0.330,6,    0.156,6,    0.019,6, -999.000,9,   -999.0,9,   -999.0,9,-999.0000,     -999,9, -999.000,9, -999.000,   -999.0,9,   -999.0, -999.000,9, -999.000, -999.000,9, -999.000
  49NZ20130106,  S04I,    97,  1,     18, X12J18,2,20130115,0812,-62.1197,  96.3207, 3923,   1579.4,2,   0.5933,2,   0.59319,2,  34.6965,2,  34.6969,2,-999.0000,9,   209.59,2,   209.82,2,   99.991,   0.0004,2,   -0.000,2,  -999.00,9,    0.000,2,   114.84,2,     0.16,    32.37,2,     0.05,     0.00,2,     0.01,     2.23,2,     0.01,    0.363,2,    0.171,2,    0.021,2, -999.000,9,   -999.0,9,   -999.0,9,-999.0000,     -999,9, -999.000,9, -999.000,   -999.0,9,   -999.0, -999.000,9, -999.000, -999.000,9, -999.000
  49NZ20130106,  S04I,    97,  1,     17, X12J17,2,20130115,0812,-62.1197,  96.3207, 3923,   1829.6,2,   0.4254,2,   0.42552,2,  34.6871,2,  34.6874,2,-999.0000,9,   213.95,2,   214.31,2,   99.993,   0.0003,2,   -0.000,2,  -999.00,9,    0.000,2,   116.60,2,     0.16,    32.40,2,     0.05,     0.00,2,     0.01,     2.24,2,     0.01,    0.521,2,    0.259,2,    0.034,2, -999.000,9,   -999.0,9,   -999.0,9,-999.0000,     -999,9, -999.000,9, -999.000,   -999.0,9,   -999.0, -999.000,9, -999.000, -999.000,9, -999.000
  49NZ20130106,  S04I,    97,  1,     16, X12J16,2,20130115,0812,-62.1197,  96.3207, 3923,   2081.7,2,   0.3017,2,   0.30171,2,  34.6816,2,  34.6820,2,-999.0000,9,   217.33,2,   217.55,2,   99.981,   0.0008,2,   -0.000,2,  -999.00,9,    0.000,2,   118.69,2,     0.17,    32.44,2,     0.05,     0.00,2,     0.01,     2.23,2,     0.01,    0.624,2,    0.307,2,    0.043,2, -999.000,9,   -999.0,9,   -999.0,9,-999.0000,     -999,9, -999.000,9, -999.000,   -999.0,9,   -999.0, -999.000,9, -999.000, -999.000,9, -999.000
  49NZ20130106,  S04I,    97,  1,     15, X12J15,2,20130115,0812,-62.1197,  96.3207, 3923,   2330.6,2,   0.1825,2,   0.18254,2,  34.6758,2,  34.6757,2,-999.0000,9,   221.33,2,   221.89,2,   99.979,   0.0008,2,   -0.000,2,  -999.00,9,    0.000,2,   118.75,2,     0.17,    32.42,2,     0.05,     0.00,2,     0.01,     2.23,2,     0.01,    0.814,2,    0.404,2,    0.051,2, -999.000,9,   -999.0,9,   -999.0,9,-999.0000,     -999,9, -999.000,9, -999.000,   -999.0,9,   -999.0, -999.000,9, -999.000, -999.000,9, -999.000
  49NZ20130106,  S04I,    97,  1,     14, X12J14,2,20130115,0812,-62.1197,  96.3207, 3923,   2580.0,2,   0.0894,2,   0.08943,2,  34.6708,2,  34.6707,2,-999.0000,9,   224.91,2,   225.35,2,   99.974,   0.0010,2,   -0.000,2,  -999.00,9,    0.000,2,   118.50,2,     0.17,    32.40,2,     0.05,     0.00,2,     0.01,     2.23,2,     0.01,    1.015,2,    0.508,2,    0.076,2, -999.000,9,   -999.0,9,   -999.0,9,-999.0000,     -999,9, -999.000,9, -999.000,   -999.0,9,   -999.0, -999.000,9, -999.000, -999.000,9, -999.000
  49NZ20130106,  S04I,    97,  1,     13, X12J13,2,20130115,0812,-62.1197,  96.3207, 3923,   2829.6,2,   0.0178,2,   0.01777,2,  34.6672,2,  34.6671,2,-999.0000,9,   227.84,2,   228.10,2,   99.945,   0.0022,2,   -0.010,2,  -999.00,9,    0.000,2,   119.19,2,     0.17,    32.39,2,     0.05,     0.00,2,     0.01,     2.23,2,     0.01,    1.165,2,    0.586,2,    0.085,2, -999.000,9,   -999.0,9,   -999.0,9,-999.0000,     -999,9, -999.000,9, -999.000,   -999.0,9,   -999.0, -999.000,9, -999.000, -999.000,9, -999.000
  49NZ20130106,  S04I,    97,  1,     12, X12J12,2,20130115,0812,-62.1197,  96.3207, 3923,   3080.0,2,  -0.0296,2,  -0.02949,2,  34.6651,2,  34.6648,2,-999.0000,9,   230.03,2,   230.59,2,   99.943,   0.0023,2,   -0.010,2,  -999.00,9,    0.000,2,   120.04,2,     0.17,    32.38,2,     0.05,     0.00,2,     0.01,     2.23,2,     0.01,    1.280,2,    0.644,2,    0.090,2, -999.000,9,   -999.0,9,   -999.0,9,-999.0000,     -999,9, -999.000,9, -999.000,   -999.0,9,   -999.0, -999.000,9, -999.000, -999.000,9, -999.000
  49NZ20130106,  S04I,    97,  1,     11, X12J11,2,20130115,0812,-62.1197,  96.3207, 3923,   3329.7,2,  -0.0625,2,  -0.06245,2,  34.6626,2,  34.6625,2,-999.0000,9,   231.83,2,   232.34,2,   99.930,   0.0028,2,   -0.000,2,  -999.00,9,    0.000,2,   119.43,2,     0.17,    32.35,2,     0.05,     0.00,2,     0.01,     2.23,2,     0.01,    1.432,2,    0.723,2,    0.115,2, -999.000,9,   -999.0,9,   -999.0,9,-999.0000,     -999,9, -999.000,9, -999.000,   -999.0,9,   -999.0, -999.000,9, -999.000, -999.000,9, -999.000
  49NZ20130106,  S04I,    97,  1,     10, X12J10,2,20130115,0812,-62.1197,  96.3207, 3923,   3580.6,2,  -0.0785,2,  -0.07851,2,  34.6613,2,  34.6611,2,-999.0000,9,   233.12,2,   233.68,2,   99.896,   0.0042,2,   -0.000,2,  -999.00,9,    0.000,2,   121.11,2,     0.17,    32.34,2,     0.05,     0.00,2,     0.01,     2.23,2,     0.01,    1.494,2,    0.757,2,    0.128,2, -999.000,9,   -999.0,9,   -999.0,9,-999.0000,     -999,9, -999.000,9, -999.000,   -999.0,9,   -999.0, -999.000,9, -999.000, -999.000,9, -999.000
  49NZ20130106,  S04I,    97,  1,      9, X12J09,2,20130115,0812,-62.1197,  96.3207, 3923,   3829.9,2,  -0.1130,2,  -0.11305,2,  34.6577,2,  34.6575,2,-999.0000,9,   235.22,2,   235.54,2,   99.786,   0.0086,2,   -0.010,2,  -999.00,9,    0.000,2,   121.66,2,     0.17,    32.31,2,     0.05,     0.00,2,     0.01,     2.23,2,     0.01,    1.668,2,    0.847,2,    0.139,2, -999.000,9,   -999.0,9,   -999.0,9,-999.0000,     -999,9, -999.000,9, -999.000,   -999.0,9,   -999.0, -999.000,9, -999.000, -999.000,9, -999.000
  49NZ20130106,  S04I,    97,  1,      1, X12J01,2,20130115,0812,-62.1197,  96.3207, 3923,   3976.6,2,  -0.1767,2,  -0.17681,2,  34.6511,2,  34.6509,2,-999.0000,9,   237.94,2,   237.93,2,   99.380,   0.0249,2,   -0.000,2,  -999.00,9,    0.000,2,   122.11,2,     0.17,    32.26,2,     0.05,     0.00,2,     0.01,     2.22,2,     0.01,    1.948,2,    1.009,2,    0.169,2, -999.000,9,   -999.0,9,   -999.0,9,-999.0000,     -999,9, -999.000,9, -999.000,   -999.0,9,   -999.0, -999.000,9, -999.000, -999.000,9, -999.000