BOTTLE,20220819CCHSIOAMB
EXPOCODE,SECT_ID,STNNBR,CASTNO,SAMPNO,BTLNBR,BTLNBR_FLAG_W,DATE,TIME,LATITUDE,LONGITUDE,DEPTH,CTDPRS,CTDPRS_FLAG_W,CTDTMP,CTDTMP_FLAG_W,SBE35,SBE35_FLAG_W,CTDSAL,CTDSAL_FLAG_W,SALNTY,SALNTY_FLAG_W,DNSSAL,DNSSAL_FLAG_W,CTDOXY,CTDOXY_FLAG_W,OXYGEN,OXYGEN_FLAG_W,CTDXMISS,CTDXMISSCP,CTDXMISS_FLAG_W,CTDFLUOR,CTDFLUOR_FLAG_W,CHLORA,CHLORA_FLAG_W,PAR,PAR_FLAG_W,SILCAT,SILCAT_FLAG_W,SILUNC,NITRAT,NITRAT_FLAG_W,NRAUNC,NITRIT,NITRIT_FLAG_W,NRIUNC,PHSPHT,PHSPHT_FLAG_W,PHPUNC,CFC-11,CFC-11_FLAG_W,CFC-12,CFC-12_FLAG_W,CFC113,CFC113_FLAG_W,SF6,SF6_FLAG_W,TCARBN,TCARBN_FLAG_W,ALKALI,ALKALI_FLAG_W,PH_TOT,PH_TMP,PH_TOT_FLAG_W,DELC13,DELC13_FLAG_W,C13ERR,DELC14,DELC14_FLAG_W,C14ERR,CS-134,CS-134_FLAG_W,CS134ER,CS-137,CS-137_FLAG_W,CS137ER
,,,,,,,,UTC,DEG,DEG,METERS,DBAR,,ITS-90,,ITS-90,,PSS-78,,PSS-78,,G/KG,,UMOL/KG,,UMOL/KG,,%TRANS,/METER,,MG/M^3,,MG/CUM,,UE/SQM/S,,UMOL/KG,,UMOL/KG,UMOL/KG,,UMOL/KG,UMOL/KG,,UMOL/KG,UMOL/KG,,UMOL/KG,PMOL/KG,,PMOL/KG,,PMOL/KG,,FMOL/KG,,UMOL/KG,,UMOL/KG,,,DEG C,,/MILLE,,/MILLE,/MILLE,,/MILLE,MBQ/KG,,MBQ/KG,MBQ/KG,,MBQ/KG
  49NZ20130106,  S04I,   108,  1,     36, X12J36,2,20130118,0353,-62.7475,  83.4737, 2460,      4.4,2,   1.1052,2,   1.10410,2,  33.7486,2,  33.7486,2,-999.0000,9,   340.20,2,   340.01,2,   98.145,   0.0749,2,    0.030,2,  -999.00,9,  357.254,2,    49.79,2,     0.10,    28.51,2,     0.04,     0.25,2,     0.01,     1.96,2,     0.01,    5.789,2,    3.204,2,    0.538,2,    3.041,2,   2168.0,2,   2280.6,2,   7.6581,       25,2, -999.000,9, -999.000,   -999.0,9,   -999.0, -999.000,9, -999.000, -999.000,9, -999.000
  49NZ20130106,  S04I,   108,  1,     35, X12J35,2,20130118,0353,-62.7475,  83.4737, 2460,     25.2,2,   0.9248,2,   0.92451,2,  33.7507,2,  33.7518,2,-999.0000,9,   340.99,2,   341.10,2,   98.029,   0.0796,2,    0.120,2,  -999.00,9,   85.481,2,    49.70,2,     0.10,    28.57,2,     0.04,     0.24,2,     0.01,     1.96,2,     0.01,    5.782,2,    3.209,2,    0.543,2,    2.998,2,   2168.2,2,   2282.8,2,   7.6567,       25,2, -999.000,9, -999.000,   -999.0,9,   -999.0, -999.000,9, -999.000, -999.000,9, -999.000
  49NZ20130106,  S04I,   108,  1,     34, X12J34,2,20130118,0353,-62.7475,  83.4737, 2460,     50.0,2,  -1.1341,2,  -1.13085,2,  33.9382,2,  33.9399,2,-999.0000,9,   333.32,2,   334.75,2,   93.590,   0.2650,2,    0.680,2,  -999.00,9,   26.594,2,    46.94,2,     0.10,    28.66,2,     0.04,     0.11,2,     0.01,     1.94,2,     0.01,    5.104,6,    2.837,6,    0.463,6,    2.565,6,   2181.3,2,   2295.5,2,   7.6512,       25,2, -999.000,9, -999.000,   -999.0,9,   -999.0, -999.000,9, -999.000, -999.000,9, -999.000
  49NZ20130106,  S04I,   108,  1,     33, X12J33,2,20130118,0353,-62.7475,  83.4737, 2460,     73.9,2,  -1.3928,2,  -1.39438,2,  34.0967,2,  34.0919,2,-999.0000,9,   291.62,2,   292.70,2,   97.355,   0.1072,2,    0.570,2,  -999.00,9,    5.837,2,    54.11,2,     0.11,    30.58,2,     0.04,     0.12,2,     0.01,     2.12,2,     0.01,    4.210,2,    2.314,2,    0.371,2,    2.002,2,   2205.1,6,   2303.6,2,   7.6108,       25,2, -999.000,9, -999.000,   -999.0,9,   -999.0, -999.000,9, -999.000, -999.000,9, -999.000
  49NZ20130106,  S04I,   108,  1,     32, X12J32,2,20130118,0353,-62.7475,  83.4737, 2460,    100.5,2,  -0.1400,2,  -0.13350,2,  34.2704,2,  34.2708,2,-999.0000,9,   237.37,2,   238.38,2,   99.035,   0.0388,2,    0.270,2,  -999.00,9,    1.445,2,    63.18,2,     0.12,    33.24,2,     0.05,     0.15,2,     0.01,     2.31,2,     0.01,    3.084,2,    1.663,2,    0.262,2,    1.400,2,   2232.0,2,   2314.1,6,   7.5621,       25,2, -999.000,9, -999.000,   -999.0,9,   -999.0, -999.000,9, -999.000, -999.000,9, -999.000
  49NZ20130106,  S04I,   108,  1,     31, X12J31,2,20130118,0353,-62.7475,  83.4737, 2460,    125.2,2,   0.9233,2,   0.92348,2,  34.4160,2,  34.4129,2,-999.0000,9,   201.52,2,   201.69,2,   99.546,   0.0182,2,    0.130,2,  -999.00,9,    0.546,2,    71.14,2,     0.12,    34.68,2,     0.05,     0.03,2,     0.01,     2.40,2,     0.01,    2.088,2,    1.103,2,    0.173,2,    0.828,2,   2248.7,2,   2321.8,2,   7.5401,       25,2, -999.000,9, -999.000,   -999.0,9,   -999.0, -999.000,9, -999.000, -999.000,9, -999.000
  49NZ20130106,  S04I,   108,  1,     30, X12J30,2,20130118,0353,-62.7475,  83.4737, 2460,    149.6,2,   1.4081,2,   1.40659,2,  34.4944,2,  34.4911,2,-999.0000,9,   185.39,2,   186.14,2,   99.677,   0.0129,2,    0.050,2,  -999.00,9,    0.231,2,    75.30,2,     0.13,    35.04,2,     0.05,     0.01,2,     0.01,     2.42,2,     0.01,    1.537,2,    0.813,2,    0.129,2,    0.526,2,   2256.1,2,   2326.9,2,   7.5324,       25,6, -999.000,9, -999.000,   -999.0,9,   -999.0, -999.000,9, -999.000, -999.000,9, -999.000
  49NZ20130106,  S04I,   108,  1,     29, X12J29,2,20130118,0353,-62.7475,  83.4737, 2460,    200.4,2,   1.9525,2,   1.95198,2,  34.5899,2,  34.5882,2,-999.0000,9,   170.30,2,   170.43,2,   99.792,   0.0083,2,    0.010,2,  -999.00,9,    0.008,2,    79.31,2,     0.13,    35.03,2,     0.05,     0.01,2,     0.01,     2.42,2,     0.01,    0.886,2,    0.459,2,    0.058,2,    0.279,2,   2263.2,2,   2333.9,2,   7.5322,       25,2, -999.000,9, -999.000,   -999.0,9,   -999.0, -999.000,9, -999.000, -999.000,9, -999.000
  49NZ20130106,  S04I,   108,  1,     28, X12J28,2,20130118,0353,-62.7475,  83.4737, 2460,    250.9,2,   1.9897,2,   1.98969,2,  34.6223,2,  34.6219,2,-999.0000,9,   170.27,2,   170.35,2,   99.821,   0.0072,2,    0.000,2,  -999.00,9,    0.000,2,    80.78,2,     0.13,    34.54,2,     0.05,     0.01,2,     0.01,     2.38,2,     0.01,    0.728,2,    0.371,2,    0.048,2,    0.200,2,   2262.4,2,   2336.3,2,   7.5404,       25,2, -999.000,9, -999.000,   -999.0,9,   -999.0, -999.000,9, -999.000, -999.000,9, -999.000
  49NZ20130106,  S04I,   108,  1,     27, X12J27,2,20130118,0353,-62.7475,  83.4737, 2460,    301.1,2,   1.9951,2,   1.99498,2,  34.6497,2,  34.6494,2,-999.0000,9,   172.12,2,   172.30,2,   99.864,   0.0054,2,    0.010,2,  -999.00,9,    0.000,2,    81.67,2,     0.13,    33.97,2,     0.05,     0.01,2,     0.01,     2.35,2,     0.01,    0.609,2,    0.308,2,    0.030,2,    0.180,2,   2259.8,2,   2339.8,2,   7.5492,       25,2, -999.000,9, -999.000,   -999.0,9,   -999.0, -999.000,9, -999.000, -999.000,9, -999.000
  49NZ20130106,  S04I,   108,  1,     26, X12J26,2,20130118,0353,-62.7475,  83.4737, 2460,    399.5,2,   1.9764,2,   1.97609,2,  34.6823,2,  34.6822,2,-999.0000,9,   176.63,2,   176.64,2,   99.927,   0.0029,2,    0.000,2,  -999.00,9,    0.000,2,    82.48,2,     0.13,    33.08,2,     0.05,     0.00,2,     0.01,     2.28,2,     0.01,    0.489,2,    0.242,2,    0.022,2,    0.159,2,   2257.1,2,   2341.4,2,   7.5640,       25,2, -999.000,9, -999.000,   -999.0,9,   -999.0, -999.000,9, -999.000, -999.000,9, -999.000
  49NZ20130106,  S04I,   108,  1,     25, X12J25,2,20130118,0353,-62.7475,  83.4737, 2460,    499.2,2,   1.9571,2,   1.95706,2,  34.7071,2,  34.7072,2,-999.0000,9,   182.04,2,   181.89,2,   99.959,   0.0016,2,    0.000,2,  -999.00,9,    0.000,2,    82.24,2,     0.13,    32.22,2,     0.05,     0.01,2,     0.01,     2.23,2,     0.01,    0.392,2,    0.190,2,    0.027,2,    0.062,2,   2254.4,2,   2343.7,2,   7.5780,       25,2, -999.000,9, -999.000,   -999.0,9,   -999.0, -999.000,9, -999.000, -999.000,9, -999.000
  49NZ20130106,  S04I,   108,  1,     24, X12J24,2,20130118,0353,-62.7475,  83.4737, 2460,    600.2,2,   1.9129,2,   1.91291,2,  34.7233,2,  34.7231,2,-999.0000,9,   186.16,2,   186.32,2,   99.961,   0.0016,2,    0.000,2,  -999.00,9,    0.000,2,    82.72,2,     0.13,    31.60,2,     0.04,     0.00,2,     0.01,     2.18,2,     0.01,    0.339,6,    0.164,6,    0.024,6,    0.064,6,   2251.7,2,   2345.3,2,   7.5874,       25,2, -999.000,9, -999.000,   -999.0,9,   -999.0, -999.000,9, -999.000, -999.000,9, -999.000
  49NZ20130106,  S04I,   108,  1,     23, X12J23,2,20130118,0353,-62.7475,  83.4737, 2460,    698.0,2,   1.8441,2,   1.84423,2,  34.7325,2,  34.7328,2,-999.0000,9,   189.83,2,   189.81,2,   99.946,   0.0022,2,    0.000,2,  -999.00,9,    0.000,2,    83.81,2,     0.13,    31.23,2,     0.04,     0.01,2,     0.01,     2.15,2,     0.01,    0.307,2,    0.148,2,    0.021,2,    0.080,2,   2250.6,6,   2346.0,2,   7.5947,       25,2, -999.000,9, -999.000,   -999.0,9,   -999.0, -999.000,9, -999.000, -999.000,9, -999.000
  49NZ20130106,  S04I,   108,  1,     22, X12J22,2,20130118,0353,-62.7475,  83.4737, 2460,    799.8,2,   1.7840,2,   1.78349,2,  34.7407,2,  34.7406,2,-999.0000,9,   193.33,2,   193.35,2,   99.955,   0.0018,2,    0.000,2,  -999.00,9,    0.000,2,    84.56,2,     0.13,    30.85,2,     0.04,     0.01,2,     0.01,     2.13,2,     0.01,    0.271,2,    0.129,2,    0.018,2,    0.078,2,   2248.3,2,   2346.7,6,   7.6005,       25,2, -999.000,9, -999.000,   -999.0,9,   -999.0, -999.000,9, -999.000, -999.000,9, -999.000
  49NZ20130106,  S04I,   108,  1,     21, X12J21,2,20130118,0353,-62.7475,  83.4737, 2460,    899.2,2,   1.6896,2,   1.68959,2,  34.7433,2,  34.7439,2,-999.0000,9,   195.97,2,   196.30,2,   99.968,   0.0013,2,    0.000,2,  -999.00,9,    0.000,2,    86.51,2,     0.14,    30.69,2,     0.04,     0.01,2,     0.01,     2.12,2,     0.01,    0.259,2,    0.122,2,    0.018,2,    0.096,2,   2247.6,2,   2348.0,2,   7.6050,       25,6, -999.000,9, -999.000,   -999.0,9,   -999.0, -999.000,9, -999.000, -999.000,9, -999.000
  49NZ20130106,  S04I,   108,  1,     20, X12J20,2,20130118,0353,-62.7475,  83.4737, 2460,   1001.1,2,   1.5720,2,   1.57201,2,  34.7418,2,  34.7421,2,-999.0000,9,   198.24,2,   198.45,2,   99.985,   0.0006,2,    0.000,2,  -999.00,9,    0.000,2,    89.08,2,     0.14,    30.72,2,     0.04,     0.01,2,     0.01,     2.12,2,     0.01,    0.254,2,    0.125,2,    0.009,2,    0.109,2,   2249.0,2,   2349.4,2,   7.6079,       25,2, -999.000,9, -999.000,   -999.0,9,   -999.0, -999.000,9, -999.000, -999.000,9, -999.000
  49NZ20130106,  S04I,   108,  1,     19, X12J19,2,20130118,0353,-62.7475,  83.4737, 2460,   1249.2,2,   1.3819,2,   1.38147,2,  34.7391,2,  34.7396,2,-999.0000,9,   201.10,2,   201.25,2,   99.978,   0.0009,2,   -0.000,2,  -999.00,9,    0.000,2,    94.40,2,     0.14,    30.84,2,     0.04,     0.00,2,     0.01,     2.13,2,     0.01,    0.221,6,    0.101,6,    0.010,6,    0.049,6,   2251.4,2,   2352.2,2,   7.6100,       25,2, -999.000,9, -999.000,   -999.0,9,   -999.0, -999.000,9, -999.000, -999.000,9, -999.000
  49NZ20130106,  S04I,   108,  1,     18, X12J18,2,20130118,0353,-62.7475,  83.4737, 2460,   1502.2,2,   1.1502,2,   1.15026,2,  34.7279,2,  34.7283,2,-999.0000,9,   203.28,2,   203.59,2,   99.985,   0.0006,2,   -0.000,2,  -999.00,9,    0.000,2,   101.04,2,     0.15,    31.27,2,     0.04,     0.00,2,     0.01,     2.16,2,     0.01,    0.228,2,    0.105,2,    0.012,2,    0.066,2,   2253.5,2,   2354.7,2,   7.6075,       25,2, -999.000,9, -999.000,   -999.0,9,   -999.0, -999.000,9, -999.000, -999.000,9, -999.000
  49NZ20130106,  S04I,   108,  1,     17, X12J17,2,20130118,0353,-62.7475,  83.4737, 2460,   1749.8,2,   0.9199,2,   0.91976,2,  34.7149,2,  34.7148,2,-999.0000,9,   205.01,2,   205.34,2,   99.968,   0.0013,2,   -0.000,2,  -999.00,9,    0.000,2,   108.62,2,     0.16,    31.82,2,     0.04,     0.00,2,     0.01,     2.20,2,     0.01,    0.237,2,    0.106,2,    0.012,2,    0.000,2,   2257.7,2,   2356.5,2,   7.6020,       25,6, -999.000,9, -999.000,   -999.0,9,   -999.0, -999.000,9, -999.000, -999.000,9, -999.000
  49NZ20130106,  S04I,   108,  1,     16, X12J16,2,20130118,0353,-62.7475,  83.4737, 2460,   2001.1,2,   0.7540,2,   0.75396,2,  34.7049,2,  34.7051,2,-999.0000,9,   206.89,2,   207.22,2,   99.942,   0.0023,2,   -0.000,2,  -999.00,9,    0.000,2,   112.74,2,     0.16,    32.16,2,     0.05,     0.00,2,     0.01,     2.22,2,     0.01,    0.258,2,    0.117,2,    0.013,2,    0.049,2,   2259.3,2,   2357.2,2,   7.5978,       25,2, -999.000,9, -999.000,   -999.0,9,   -999.0, -999.000,9, -999.000, -999.000,9, -999.000
  49NZ20130106,  S04I,   108,  1,     15, X12J15,2,20130118,0353,-62.7475,  83.4737, 2460,   2251.2,2,   0.6057,2,   0.60561,2,  34.6966,2,  34.6962,2,-999.0000,9,   208.58,2,   209.10,2,   99.917,   0.0033,2,   -0.000,2,  -999.00,9,    0.000,2,   119.11,2,     0.17,    32.48,2,     0.05,     0.00,2,     0.01,     2.25,2,     0.01,    0.256,2,    0.115,2,    0.012,2,    0.037,2,   2260.2,2,   2357.3,2,   7.5953,       25,2, -999.000,9, -999.000,   -999.0,9,   -999.0, -999.000,9, -999.000, -999.000,9, -999.000
  49NZ20130106,  S04I,   108,  1,      1, X12J01,2,20130118,0353,-62.7475,  83.4737, 2460,   2487.9,2,   0.4181,2,   0.41813,2,  34.6870,2,  34.6872,2,-999.0000,9,   211.66,2,   212.27,2,   99.760,   0.0096,2,   -0.000,2,  -999.00,9,    0.000,2,   127.75,2,     0.17,    32.79,2,     0.05,     0.00,2,     0.01,     2.27,2,     0.01,    0.240,2,    0.109,2,    0.008,2,    0.104,2,   2262.9,2,   2357.4,2,   7.5930,       25,2, -999.000,9, -999.000,   -999.0,9,   -999.0, -999.000,9, -999.000, -999.000,9, -999.000