BOTTLE,20220819CCHSIOAMB
EXPOCODE,SECT_ID,STNNBR,CASTNO,SAMPNO,BTLNBR,BTLNBR_FLAG_W,DATE,TIME,LATITUDE,LONGITUDE,DEPTH,CTDPRS,CTDPRS_FLAG_W,CTDTMP,CTDTMP_FLAG_W,SBE35,SBE35_FLAG_W,CTDSAL,CTDSAL_FLAG_W,SALNTY,SALNTY_FLAG_W,DNSSAL,DNSSAL_FLAG_W,CTDOXY,CTDOXY_FLAG_W,OXYGEN,OXYGEN_FLAG_W,CTDXMISS,CTDXMISSCP,CTDXMISS_FLAG_W,CTDFLUOR,CTDFLUOR_FLAG_W,CHLORA,CHLORA_FLAG_W,PAR,PAR_FLAG_W,SILCAT,SILCAT_FLAG_W,SILUNC,NITRAT,NITRAT_FLAG_W,NRAUNC,NITRIT,NITRIT_FLAG_W,NRIUNC,PHSPHT,PHSPHT_FLAG_W,PHPUNC,CFC-11,CFC-11_FLAG_W,CFC-12,CFC-12_FLAG_W,CFC113,CFC113_FLAG_W,SF6,SF6_FLAG_W,TCARBN,TCARBN_FLAG_W,ALKALI,ALKALI_FLAG_W,PH_TOT,PH_TMP,PH_TOT_FLAG_W,DELC13,DELC13_FLAG_W,C13ERR,DELC14,DELC14_FLAG_W,C14ERR,CS-134,CS-134_FLAG_W,CS134ER,CS-137,CS-137_FLAG_W,CS137ER
,,,,,,,,UTC,DEG,DEG,METERS,DBAR,,ITS-90,,ITS-90,,PSS-78,,PSS-78,,G/KG,,UMOL/KG,,UMOL/KG,,%TRANS,/METER,,MG/M^3,,MG/CUM,,UE/SQM/S,,UMOL/KG,,UMOL/KG,UMOL/KG,,UMOL/KG,UMOL/KG,,UMOL/KG,UMOL/KG,,UMOL/KG,PMOL/KG,,PMOL/KG,,PMOL/KG,,FMOL/KG,,UMOL/KG,,UMOL/KG,,,DEG C,,/MILLE,,/MILLE,/MILLE,,/MILLE,MBQ/KG,,MBQ/KG,MBQ/KG,,MBQ/KG
  49NZ20130106,  S04I,   111,  1,     36, X12J36,2,20130118,1810,-61.2660,  82.8282, 1470,      5.5,2,   1.5587,2,   1.56990,2,  33.7470,2,  33.7480,2,  33.9112,2,   343.61,2,   343.65,2,   91.838,   0.3406,2,    0.830,2,  -999.00,9,    0.600,2,    44.80,2,     0.10,    26.19,2,     0.04,     0.26,2,     0.01,     1.75,2,     0.01,    5.523,2,    3.058,2,    0.543,2,    2.955,2,   2149.5,2,   2284.8,2,   7.7067,       25,6, -999.000,9, -999.000,   -999.0,9,   -999.0, -999.000,9, -999.000, -999.000,9, -999.000
  49NZ20130106,  S04I,   111,  1,     35, X12J35,2,20130118,1810,-61.2660,  82.8282, 1470,     26.2,2,   1.2765,2,   1.27394,2,  33.7795,2,  33.7875,2,  33.9534,2,   346.92,2,   346.05,2,   90.019,   0.4206,2,    1.150,2,  -999.00,9,    0.000,2,    45.23,2,     0.10,    26.48,2,     0.04,     0.24,2,     0.01,     1.79,2,     0.01,    5.487,2,    3.024,2,    0.532,2,    2.871,2,   2154.6,2,   2287.5,2,   7.7022,       25,2, -999.000,9, -999.000,   -999.0,9,   -999.0, -999.000,9, -999.000, -999.000,9, -999.000
  49NZ20130106,  S04I,   111,  1,     34, X12J34,2,20130118,1810,-61.2660,  82.8282, 1470,     50.6,2,  -0.7193,2,  -0.71614,2,  34.0137,2,  34.0226,2,  34.1882,2,   314.41,2,   317.61,2,   93.864,   0.2533,2,    1.030,2,  -999.00,9,    0.000,2,    53.31,2,     0.11,    29.40,2,     0.04,     0.16,2,     0.01,     2.03,2,     0.01,    4.678,6,    2.573,6,    0.452,6,    2.352,6,   2188.3,2,   2297.6,2,   7.6397,       25,2, -999.000,9, -999.000,   -999.0,9,   -999.0, -999.000,9, -999.000, -999.000,9, -999.000
  49NZ20130106,  S04I,   111,  1,     33, X12J33,2,20130118,1810,-61.2660,  82.8282, 1470,     76.1,2,  -0.8000,2,  -0.80686,2,  34.1763,2,  34.1755,2,  34.3445,2,   271.77,2,   274.65,2,   98.448,   0.0626,2,    0.320,2,  -999.00,9,    0.000,2,    60.83,2,     0.11,    31.64,2,     0.04,     0.13,2,     0.01,     2.20,2,     0.01,    3.770,2,    2.050,2,    0.352,2,    1.717,2,   2216.0,6,   2307.8,2,   7.5923,       25,2, -999.000,9, -999.000,   -999.0,9,   -999.0, -999.000,9, -999.000, -999.000,9, -999.000
  49NZ20130106,  S04I,   111,  1,     32, X12J32,2,20130118,1810,-61.2660,  82.8282, 1470,     98.6,2,  -0.0329,2,  -0.03602,2,  34.3136,2,  34.3116,2,  34.4783,2,   236.99,2,   238.80,2,   99.232,   0.0308,2,    0.150,2,  -999.00,9,    0.000,2,    67.70,2,     0.12,    33.20,2,     0.05,     0.13,2,     0.01,     2.31,2,     0.01,    2.932,2,    1.576,2,    0.266,2,    1.350,2,   2233.0,2,   2316.4,6,   7.5655,       25,2, -999.000,9, -999.000,   -999.0,9,   -999.0, -999.000,9, -999.000, -999.000,9, -999.000
  49NZ20130106,  S04I,   111,  1,     31, X12J31,2,20130118,1810,-61.2660,  82.8282, 1470,    125.1,2,   0.5771,2,   0.59423,2,  34.3902,2,  34.3856,2,  34.5535,2,   212.34,2,   215.84,2,   99.438,   0.0225,2,    0.130,2,  -999.00,9,    0.000,2,    71.03,2,     0.12,    33.95,2,     0.05,     0.10,2,     0.01,     2.35,2,     0.01,    2.322,2,    1.248,2,    0.211,2,    1.000,2,   2240.2,2,   2320.4,2,   7.5514,       25,2, -999.000,9, -999.000,   -999.0,9,   -999.0, -999.000,9, -999.000, -999.000,9, -999.000
  49NZ20130106,  S04I,   111,  1,     30, X12J30,2,20130118,1810,-61.2660,  82.8282, 1470,    149.1,2,   1.4097,2,   1.40496,2,  34.5104,2,  34.5059,2,  34.6728,2,   185.40,2,   186.69,2,   99.588,   0.0165,2,    0.060,2,  -999.00,9,    0.000,2,    76.54,2,     0.13,    34.77,2,     0.05,     0.03,2,     0.01,     2.40,2,     0.01,    1.465,2,    0.774,2,    0.120,2,    0.543,2,   2254.2,2,   2328.3,2,   7.5368,       25,2, -999.000,9, -999.000,   -999.0,9,   -999.0, -999.000,9, -999.000, -999.000,9, -999.000
  49NZ20130106,  S04I,   111,  1,     29, X12J29,2,20130118,1810,-61.2660,  82.8282, 1470,    198.7,2,   1.8157,2,   1.81540,2,  34.5846,2,  34.5833,2,  34.7532,2,   173.64,2,   173.92,2,   99.605,   0.0158,2,    0.020,2,  -999.00,9,    0.000,2,    80.20,2,     0.13,    34.79,2,     0.05,     0.01,2,     0.01,     2.40,2,     0.01,    0.952,2,    0.500,2,    0.066,2,    0.276,2,   2257.9,2,   2333.3,2,   7.5353,       25,2, -999.000,9, -999.000,   -999.0,9,   -999.0, -999.000,9, -999.000, -999.000,9, -999.000
  49NZ20130106,  S04I,   111,  1,     28, X12J28,2,20130118,1810,-61.2660,  82.8282, 1470,    248.7,2,   1.9362,2,   1.93596,2,  34.6268,2,  34.6265,2,  34.7974,2,   171.58,2,   171.60,2,   99.690,   0.0124,2,    0.010,2,  -999.00,9,    0.000,2,    81.79,2,     0.13,    34.40,2,     0.05,     0.01,2,     0.01,     2.37,2,     0.01,    0.730,2,    0.372,2,    0.049,2,    0.174,2,   2258.5,2,   2336.6,2,   7.5427,       25,2, -999.000,9, -999.000,   -999.0,9,   -999.0, -999.000,9, -999.000, -999.000,9, -999.000
  49NZ20130106,  S04I,   111,  1,     27, X12J27,2,20130118,1810,-61.2660,  82.8282, 1470,    300.0,2,   1.9629,2,   1.96270,2,  34.6617,2,  34.6605,2,  34.8323,2,   173.73,2,   173.93,2,   99.819,   0.0072,2,    0.010,2,  -999.00,9,    0.000,2,    82.21,2,     0.13,    33.58,2,     0.05,     0.01,2,     0.01,     2.31,2,     0.01,    0.582,2,    0.291,2,    0.035,2,    0.145,2,   2257.4,2,   2339.6,2,   7.5538,       25,2, -999.000,9, -999.000,   -999.0,9,   -999.0, -999.000,9, -999.000, -999.000,9, -999.000
  49NZ20130106,  S04I,   111,  1,     26, X12J26,2,20130118,1810,-61.2660,  82.8282, 1470,    399.4,2,   1.9318,2,   1.93162,2,  34.6896,2,  34.6902,2,  34.8607,2,   178.51,2,   178.68,2,   99.832,   0.0067,2,    0.010,2,  -999.00,9,    0.000,2,    83.18,2,     0.13,    32.86,2,     0.05,     0.01,2,     0.01,     2.26,2,     0.01,    0.469,2,    0.236,2,    0.027,2,    0.129,2,   2254.8,2,   2341.7,2,   7.5676,       25,2, -999.000,9, -999.000,   -999.0,9,   -999.0, -999.000,9, -999.000, -999.000,9, -999.000
  49NZ20130106,  S04I,   111,  1,     25, X12J25,2,20130118,1810,-61.2660,  82.8282, 1470,    500.7,2,   1.8744,2,   1.87435,2,  34.7092,2,  34.7091,2,  34.8794,2,   180.97,2,   181.24,2,   99.883,   0.0047,2,    0.010,2,  -999.00,9,    0.000,2,    84.64,2,     0.13,    32.40,2,     0.05,     0.01,2,     0.01,     2.23,2,     0.01,    0.407,2,    0.198,2,    0.023,2,    0.054,2,   2254.0,2,   2344.2,2,   7.5747,       25,2, -999.000,9, -999.000,   -999.0,9,   -999.0, -999.000,9, -999.000, -999.000,9, -999.000
  49NZ20130106,  S04I,   111,  1,     24, X12J24,2,20130118,1810,-61.2660,  82.8282, 1470,    600.7,2,   1.8391,2,   1.83913,2,  34.7278,2,  34.7281,2,  34.8989,2,   187.99,2,   188.02,2,   99.895,   0.0042,2,    0.000,2,  -999.00,9,    0.000,2,    84.49,2,     0.13,    31.53,2,     0.04,     0.01,2,     0.01,     2.17,2,     0.01,    0.328,6,    0.159,6,    0.024,6,    0.088,6,   2250.6,2,   2344.7,2,   7.5908,       25,2, -999.000,9, -999.000,   -999.0,9,   -999.0, -999.000,9, -999.000, -999.000,9, -999.000
  49NZ20130106,  S04I,   111,  1,     23, X12J23,2,20130118,1810,-61.2660,  82.8282, 1470,    699.1,2,   1.7575,2,   1.75665,2,  34.7354,2,  34.7360,2,  34.9081,2,   191.52,2,   191.86,2,   99.921,   0.0032,2,    0.000,2,  -999.00,9,    0.000,2,    85.88,2,     0.14,    31.17,2,     0.04,     0.01,2,     0.01,     2.15,2,     0.01,    0.292,2,    0.141,2,    0.017,2,    0.098,2,   2245.8,3,   2346.4,2,   7.5974,       25,2, -999.000,9, -999.000,   -999.0,9,   -999.0, -999.000,9, -999.000, -999.000,9, -999.000
  49NZ20130106,  S04I,   111,  1,     22, X12J22,2,20130118,1810,-61.2660,  82.8282, 1470,    801.2,2,   1.6501,2,   1.65052,2,  34.7404,2,  34.7404,2,  34.9101,2,   195.41,2,   195.45,2,   99.938,   0.0025,2,    0.000,2,  -999.00,9,    0.000,2,    87.76,2,     0.14,    30.93,2,     0.04,     0.01,2,     0.01,     2.13,2,     0.01,    0.269,2,    0.129,2,    0.013,2,    0.057,2,   2248.8,2,   2347.9,6,   7.6032,       25,2, -999.000,9, -999.000,   -999.0,9,   -999.0, -999.000,9, -999.000, -999.000,9, -999.000
  49NZ20130106,  S04I,   111,  1,     21, X12J21,2,20130118,1810,-61.2660,  82.8282, 1470,    901.1,2,   1.5625,2,   1.56178,2,  34.7413,2,  34.7417,2,  34.9121,2,   197.61,2,   197.93,2,   99.938,   0.0025,2,   -0.000,2,  -999.00,9,    0.000,2,    89.75,2,     0.14,    30.85,2,     0.04,     0.01,2,     0.01,     2.13,2,     0.01,    0.250,6,    0.122,6,    0.008,6,    0.081,6,   2246.3,2,   2348.6,2,   7.6069,       25,6, -999.000,9, -999.000,   -999.0,9,   -999.0, -999.000,9, -999.000, -999.000,9, -999.000
  49NZ20130106,  S04I,   111,  1,     20, X12J20,2,20130118,1810,-61.2660,  82.8282, 1470,   1002.5,2,   1.4570,2,   1.45702,2,  34.7397,2,  34.7406,2,  34.9141,2,   199.66,2,   199.97,2,   99.953,   0.0019,2,    0.000,2,  -999.00,9,    0.000,2,    92.28,2,     0.14,    30.86,2,     0.04,     0.00,2,     0.01,     2.13,2,     0.01,    0.247,2,    0.116,2,    0.014,2,    0.005,2,   2247.5,2,   2350.4,2,   7.6083,       25,2, -999.000,9, -999.000,   -999.0,9,   -999.0, -999.000,9, -999.000, -999.000,9, -999.000
  49NZ20130106,  S04I,   111,  1,     19, X12J19,2,20130118,1810,-61.2660,  82.8282, 1470,   1250.0,2,   1.0975,2,   1.09735,2,  34.7248,2,  34.7255,2,  34.9009,2,   202.89,2,   203.39,2,   99.950,   0.0020,2,   -0.000,2,  -999.00,9,    0.000,2,   103.60,2,     0.15,    31.51,2,     0.04,     0.01,2,     0.01,     2.18,2,     0.01,    0.234,6,    0.108,6,    0.012,6,    0.048,6,   2251.8,2,   2351.9,2,   7.6047,       25,2, -999.000,9, -999.000,   -999.0,9,   -999.0, -999.000,9, -999.000, -999.000,9, -999.000
  49NZ20130106,  S04I,   111,  1,      3, X12J03,2,20130118,1810,-61.2660,  82.8282, 1470,     36.0,2,   0.0729,2,   0.07255,2,  33.8865,2,-999.0000,9,-999.0000,9,   341.22,2,  -999.00,9,   90.115,   0.4163,2,    1.570,2,  -999.00,9,    0.000,2,  -999.00,9,  -999.00,  -999.00,9,  -999.00,  -999.00,9,  -999.00,  -999.00,9,  -999.00, -999.000,9, -999.000,9, -999.000,9, -999.000,9,   -999.0,9,   -999.0,9,-999.0000,     -999,9, -999.000,9, -999.000,   -999.0,9,   -999.0, -999.000,9, -999.000, -999.000,9, -999.000
  49NZ20130106,  S04I,   111,  1,      2, X12J02,2,20130118,1810,-61.2660,  82.8282, 1470,     36.3,2,   0.0745,2,   0.06959,2,  33.8849,2,  33.8854,2,-999.0000,9,   340.94,2,   341.55,2,   90.274,   0.4093,2,    1.570,2,     1.42,2,    0.000,2,    47.87,2,     0.10,    27.57,2,     0.04,     0.19,2,     0.01,     1.89,2,     0.01, -999.000,9, -999.000,9, -999.000,9, -999.000,9,   -999.0,9,   -999.0,9,-999.0000,     -999,9, -999.000,9, -999.000,   -999.0,9,   -999.0, -999.000,9, -999.000, -999.000,9, -999.000
  49NZ20130106,  S04I,   111,  1,      1, X12J01,2,20130118,1810,-61.2660,  82.8282, 1470,   1474.2,2,   0.9262,2,   0.92537,2,  34.7153,2,  34.7156,2,  34.8890,2,   204.32,2,   204.73,2,   99.906,   0.0038,2,   -0.000,2,  -999.00,9,    0.000,2,   110.21,2,     0.16,    31.89,2,     0.04,     0.01,2,     0.01,     2.21,2,     0.01,    0.236,2,    0.111,2,    0.008,2,    0.059,2,   2255.1,2,   2355.4,2,   7.6015,       25,2, -999.000,9, -999.000,   -999.0,9,   -999.0, -999.000,9, -999.000, -999.000,9, -999.000