BOTTLE,20220819CCHSIOAMB
EXPOCODE,SECT_ID,STNNBR,CASTNO,SAMPNO,BTLNBR,BTLNBR_FLAG_W,DATE,TIME,LATITUDE,LONGITUDE,DEPTH,CTDPRS,CTDPRS_FLAG_W,CTDTMP,CTDTMP_FLAG_W,SBE35,SBE35_FLAG_W,CTDSAL,CTDSAL_FLAG_W,SALNTY,SALNTY_FLAG_W,DNSSAL,DNSSAL_FLAG_W,CTDOXY,CTDOXY_FLAG_W,OXYGEN,OXYGEN_FLAG_W,CTDXMISS,CTDXMISSCP,CTDXMISS_FLAG_W,CTDFLUOR,CTDFLUOR_FLAG_W,CHLORA,CHLORA_FLAG_W,PAR,PAR_FLAG_W,SILCAT,SILCAT_FLAG_W,SILUNC,NITRAT,NITRAT_FLAG_W,NRAUNC,NITRIT,NITRIT_FLAG_W,NRIUNC,PHSPHT,PHSPHT_FLAG_W,PHPUNC,CFC-11,CFC-11_FLAG_W,CFC-12,CFC-12_FLAG_W,CFC113,CFC113_FLAG_W,SF6,SF6_FLAG_W,TCARBN,TCARBN_FLAG_W,ALKALI,ALKALI_FLAG_W,PH_TOT,PH_TMP,PH_TOT_FLAG_W,DELC13,DELC13_FLAG_W,C13ERR,DELC14,DELC14_FLAG_W,C14ERR,CS-134,CS-134_FLAG_W,CS134ER,CS-137,CS-137_FLAG_W,CS137ER
,,,,,,,,UTC,DEG,DEG,METERS,DBAR,,ITS-90,,ITS-90,,PSS-78,,PSS-78,,G/KG,,UMOL/KG,,UMOL/KG,,%TRANS,/METER,,MG/M^3,,MG/CUM,,UE/SQM/S,,UMOL/KG,,UMOL/KG,UMOL/KG,,UMOL/KG,UMOL/KG,,UMOL/KG,UMOL/KG,,UMOL/KG,PMOL/KG,,PMOL/KG,,PMOL/KG,,FMOL/KG,,UMOL/KG,,UMOL/KG,,,DEG C,,/MILLE,,/MILLE,/MILLE,,/MILLE,MBQ/KG,,MBQ/KG,MBQ/KG,,MBQ/KG
  49NZ20130106,  S04I,   145,  1,     36, X12J36,2,20130128,0540,-63.5000,  48.0032, 4531,      3.7,2,   1.5872,2,   1.58787,2,  33.7394,2,  33.7404,2,-999.0000,9,   336.49,2,   336.95,2,   97.644,   0.0954,2,    0.010,2,  -999.00,9,  983.664,2,    38.08,2,     0.09,    24.69,2,     0.04,     0.32,2,     0.01,     1.71,2,     0.01,    5.738,2,    3.117,2,    0.572,2, -999.000,9,   -999.0,9,   -999.0,9,-999.0000,     -999,9, -999.000,9, -999.000,   -999.0,9,   -999.0, -999.000,9, -999.000, -999.000,9, -999.000
  49NZ20130106,  S04I,   145,  1,     35, X12J35,2,20130128,0540,-63.5000,  48.0032, 4531,     24.8,2,   0.9628,2,   0.96547,2,  33.7629,2,  33.7617,2,-999.0000,9,   339.69,2,   340.42,2,   97.672,   0.0942,2,    0.070,2,  -999.00,9,  259.164,2,    40.39,2,     0.09,    25.01,2,     0.04,     0.28,2,     0.01,     1.74,2,     0.01,    5.801,2,    3.151,2,    0.579,2, -999.000,9,   -999.0,9,   -999.0,9,-999.0000,     -999,9, -999.000,9, -999.000,   -999.0,9,   -999.0, -999.000,9, -999.000, -999.000,9, -999.000
  49NZ20130106,  S04I,   145,  1,     34, X12J34,2,20130128,0540,-63.5000,  48.0032, 4531,     49.4,2,  -1.4324,2,  -1.43394,2,  34.0494,2,  34.0476,2,-999.0000,9,   337.15,2,   337.92,2,   96.181,   0.1558,2,    0.250,2,  -999.00,9,   76.615,2,    44.06,2,     0.10,    26.30,2,     0.04,     0.19,2,     0.01,     1.84,2,     0.01,    5.498,6,    2.967,6,    0.543,6, -999.000,9,   -999.0,9,   -999.0,9,-999.0000,     -999,9, -999.000,9, -999.000,   -999.0,9,   -999.0, -999.000,9, -999.000, -999.000,9, -999.000
  49NZ20130106,  S04I,   145,  1,     33, X12J33,2,20130128,0540,-63.5000,  48.0032, 4531,     74.2,2,  -1.5550,2,  -1.55561,2,  34.1278,2,  34.1277,2,-999.0000,9,   319.66,2,   320.23,2,   97.778,   0.0899,2,    0.480,2,  -999.00,9,   15.367,2,    48.07,2,     0.10,    27.64,2,     0.04,     0.21,2,     0.01,     1.94,2,     0.01,    5.260,2,    2.830,2,    0.504,2, -999.000,9,   -999.0,9,   -999.0,9,-999.0000,     -999,9, -999.000,9, -999.000,   -999.0,9,   -999.0, -999.000,9, -999.000, -999.000,9, -999.000
  49NZ20130106,  S04I,   145,  1,     32, X12J32,2,20130128,0540,-63.5000,  48.0032, 4531,    100.0,2,  -0.8901,2,  -0.88782,2,  34.2217,2,  34.2180,2,-999.0000,9,   286.93,2,   289.09,2,   99.020,   0.0394,2,    0.300,2,  -999.00,9,    4.222,2,    56.26,2,     0.11,    29.78,2,     0.04,     0.22,2,     0.01,     2.09,2,     0.01,    4.565,2,    2.448,2,    0.439,2, -999.000,9,   -999.0,9,   -999.0,9,-999.0000,     -999,9, -999.000,9, -999.000,   -999.0,9,   -999.0, -999.000,9, -999.000, -999.000,9, -999.000
  49NZ20130106,  S04I,   145,  1,     31, X12J31,2,20130128,0540,-63.5000,  48.0032, 4531,    125.0,2,   0.7118,2,   0.70769,2,  34.4338,2,  34.4304,2,-999.0000,9,   216.54,2,   217.79,2,   99.398,   0.0242,2,    0.160,2,  -999.00,9,    1.039,2,    73.95,2,     0.13,    33.65,2,     0.05,     0.08,2,     0.01,     2.33,2,     0.01,    2.527,2,    1.347,2,    0.226,2, -999.000,9,   -999.0,9,   -999.0,9,-999.0000,     -999,9, -999.000,9, -999.000,   -999.0,9,   -999.0, -999.000,9, -999.000, -999.000,9, -999.000
  49NZ20130106,  S04I,   145,  1,     30, X12J30,2,20130128,0540,-63.5000,  48.0032, 4531,    148.8,2,   1.2309,2,   1.23047,2,  34.5278,2,  34.5269,2,-999.0000,9,   194.45,2,   194.86,2,   99.594,   0.0163,2,    0.090,2,  -999.00,9,    0.467,2,    80.39,2,     0.13,    34.42,2,     0.05,     0.03,2,     0.01,     2.38,2,     0.01,    1.715,2,    0.908,2,    0.162,2, -999.000,9,   -999.0,9,   -999.0,9,-999.0000,     -999,9, -999.000,9, -999.000,   -999.0,9,   -999.0, -999.000,9, -999.000, -999.000,9, -999.000
  49NZ20130106,  S04I,   145,  1,     29, X12J29,2,20130128,0540,-63.5000,  48.0032, 4531,    198.5,2,   1.4497,2,   1.44878,2,  34.5894,2,  34.5874,2,-999.0000,9,   186.04,2,   186.32,2,   99.749,   0.0101,2,    0.010,2,  -999.00,9,    0.088,2,    83.58,2,     0.13,    34.28,2,     0.05,     0.01,2,     0.01,     2.36,2,     0.01,    1.255,2,    0.657,2,    0.103,2, -999.000,9,   -999.0,9,   -999.0,9,-999.0000,     -999,9, -999.000,9, -999.000,   -999.0,9,   -999.0, -999.000,9, -999.000, -999.000,9, -999.000
  49NZ20130106,  S04I,   145,  1,     28, X12J28,2,20130128,0540,-63.5000,  48.0032, 4531,    251.4,2,   1.5258,2,   1.52552,2,  34.6362,2,  34.6360,2,-999.0000,9,   183.80,2,   183.92,2,   99.781,   0.0088,2,    0.010,2,  -999.00,9,    0.000,2,    86.23,2,     0.14,    33.81,2,     0.05,     0.01,2,     0.01,     2.32,2,     0.01,    0.936,2,    0.486,2,    0.077,2, -999.000,9,   -999.0,9,   -999.0,9,-999.0000,     -999,9, -999.000,9, -999.000,   -999.0,9,   -999.0, -999.000,9, -999.000, -999.000,9, -999.000
  49NZ20130106,  S04I,   145,  1,     27, X12J27,2,20130128,0540,-63.5000,  48.0032, 4531,    300.5,2,   1.4760,2,   1.47601,2,  34.6559,2,  34.6559,2,-999.0000,9,   184.19,2,   184.32,2,   99.813,   0.0075,2,    0.000,2,  -999.00,9,    0.000,2,    88.11,2,     0.14,    33.57,2,     0.05,     0.01,2,     0.01,     2.32,2,     0.01,    0.857,2,    0.445,2,    0.075,2, -999.000,9,   -999.0,9,   -999.0,9,-999.0000,     -999,9, -999.000,9, -999.000,   -999.0,9,   -999.0, -999.000,9, -999.000, -999.000,9, -999.000
  49NZ20130106,  S04I,   145,  1,     26, X12J26,2,20130128,0540,-63.5000,  48.0032, 4531,    400.6,2,   1.5238,2,   1.52339,2,  34.6930,2,  34.6936,2,-999.0000,9,   188.67,2,   188.69,2,   99.902,   0.0039,2,    0.000,2,  -999.00,9,    0.000,2,    88.89,2,     0.23,    32.36,2,     0.05,     0.01,2,     0.01,     2.23,2,     0.01,    0.598,2,    0.304,2,    0.044,2, -999.000,9,   -999.0,9,   -999.0,9,-999.0000,     -999,9, -999.000,9, -999.000,   -999.0,9,   -999.0, -999.000,9, -999.000, -999.000,9, -999.000
  49NZ20130106,  S04I,   145,  1,     25, X12J25,2,20130128,0540,-63.5000,  48.0032, 4531,    500.5,2,   1.4895,2,   1.48938,2,  34.7102,2,  34.7106,2,-999.0000,9,   191.90,2,   191.92,2,   99.941,   0.0024,2,    0.000,2,  -999.00,9,    0.000,2,    90.63,2,     0.14,    31.96,2,     0.04,     0.01,2,     0.01,     2.19,2,     0.01,    0.491,2,    0.243,2,    0.046,2, -999.000,9,   -999.0,9,   -999.0,9,-999.0000,     -999,9, -999.000,9, -999.000,   -999.0,9,   -999.0, -999.000,9, -999.000, -999.000,9, -999.000
  49NZ20130106,  S04I,   145,  1,     24, X12J24,2,20130128,0540,-63.5000,  48.0032, 4531,    599.6,2,   1.4004,2,   1.40044,2,  34.7172,2,  34.7177,2,-999.0000,9,   195.05,2,   195.23,2,   99.936,   0.0026,2,    0.000,2,  -999.00,9,    0.000,2,    92.81,2,     0.14,    31.71,2,     0.04,     0.01,2,     0.01,     2.18,2,     0.01,    0.442,6,    0.219,6,    0.032,6, -999.000,9,   -999.0,9,   -999.0,9,-999.0000,     -999,9, -999.000,9, -999.000,   -999.0,9,   -999.0, -999.000,9, -999.000, -999.000,9, -999.000
  49NZ20130106,  S04I,   145,  1,     23, X12J23,2,20130128,0540,-63.5000,  48.0032, 4531,    700.8,2,   1.2794,2,   1.27954,2,  34.7160,2,  34.7163,2,-999.0000,9,   197.37,2,   197.52,2,   99.936,   0.0026,2,    0.000,2,  -999.00,9,    0.000,2,    95.36,2,     0.14,    31.77,2,     0.04,     0.01,2,     0.01,     2.19,2,     0.01,    0.439,2,    0.216,2,    0.034,2, -999.000,9,   -999.0,9,   -999.0,9,-999.0000,     -999,9, -999.000,9, -999.000,   -999.0,9,   -999.0, -999.000,9, -999.000, -999.000,9, -999.000
  49NZ20130106,  S04I,   145,  1,     22, X12J22,2,20130128,0540,-63.5000,  48.0032, 4531,    801.7,2,   1.1359,2,   1.13608,2,  34.7125,2,  34.7122,2,-999.0000,9,   200.57,2,   200.65,2,   99.958,   0.0017,2,    0.000,2,  -999.00,9,    0.000,2,    97.81,2,     0.15,    31.79,2,     0.04,     0.01,2,     0.01,     2.20,2,     0.01,    0.477,2,    0.236,2,    0.041,2, -999.000,9,   -999.0,9,   -999.0,9,-999.0000,     -999,9, -999.000,9, -999.000,   -999.0,9,   -999.0, -999.000,9, -999.000, -999.000,9, -999.000
  49NZ20130106,  S04I,   145,  1,     21, X12J21,2,20130128,0540,-63.5000,  48.0032, 4531,    900.0,2,   1.0744,2,   1.07440,2,  34.7139,2,  34.7141,2,-999.0000,9,   200.75,2,   200.66,2,   99.956,   0.0018,2,    0.000,2,  -999.00,9,    0.000,2,   101.29,2,     0.15,    31.88,2,     0.04,     0.01,2,     0.01,     2.20,2,     0.01,    0.400,2,    0.193,2,    0.033,2, -999.000,9,   -999.0,9,   -999.0,9,-999.0000,     -999,9, -999.000,9, -999.000,   -999.0,9,   -999.0, -999.000,9, -999.000, -999.000,9, -999.000
  49NZ20130106,  S04I,   145,  1,     20, X12J20,2,20130128,0540,-63.5000,  48.0032, 4531,    999.4,2,   0.9860,2,   0.98588,2,  34.7105,2,  34.7110,2,-999.0000,9,   202.42,2,   202.33,2,   99.962,   0.0015,2,    0.000,2,  -999.00,9,    0.000,2,   103.24,2,     0.15,    31.99,2,     0.04,     0.01,2,     0.01,     2.21,2,     0.01,    0.409,2,    0.197,2,    0.029,2, -999.000,9,   -999.0,9,   -999.0,9,-999.0000,     -999,9, -999.000,9, -999.000,   -999.0,9,   -999.0, -999.000,9, -999.000, -999.000,9, -999.000
  49NZ20130106,  S04I,   145,  1,     19, X12J19,2,20130128,0540,-63.5000,  48.0032, 4531,   1250.1,2,   0.7929,2,   0.79292,2,  34.7020,2,  34.7024,2,-999.0000,9,   205.10,2,   205.30,2,   99.960,   0.0016,2,   -0.000,2,  -999.00,9,    0.000,2,   108.01,2,     0.16,    32.28,2,     0.05,     0.01,2,     0.01,     2.23,2,     0.01,    0.430,6,    0.208,6,    0.024,6, -999.000,9,   -999.0,9,   -999.0,9,-999.0000,     -999,9, -999.000,9, -999.000,   -999.0,9,   -999.0, -999.000,9, -999.000, -999.000,9, -999.000
  49NZ20130106,  S04I,   145,  1,     18, X12J18,2,20130128,0540,-63.5000,  48.0032, 4531,   1499.8,2,   0.6270,2,   0.62667,2,  34.6951,2,  34.6953,2,-999.0000,9,   205.98,2,   206.11,2,   99.975,   0.0010,2,   -0.000,2,  -999.00,9,    0.000,2,   113.81,2,     0.16,    32.69,2,     0.05,     0.01,2,     0.01,     2.25,2,     0.01,    0.388,2,    0.180,2,    0.028,2, -999.000,9,   -999.0,9,   -999.0,9,-999.0000,     -999,9, -999.000,9, -999.000,   -999.0,9,   -999.0, -999.000,9, -999.000, -999.000,9, -999.000
  49NZ20130106,  S04I,   145,  1,     17, X12J17,2,20130128,0540,-63.5000,  48.0032, 4531,   1750.3,2,   0.4565,2,   0.45655,2,  34.6847,2,  34.6849,2,-999.0000,9,   210.84,2,   210.90,2,   99.975,   0.0010,2,   -0.000,2,  -999.00,9,    0.000,2,   115.76,2,     0.16,    32.72,2,     0.05,     0.01,2,     0.01,     2.26,2,     0.01,    0.493,2,    0.235,2,    0.032,2, -999.000,9,   -999.0,9,   -999.0,9,-999.0000,     -999,9, -999.000,9, -999.000,   -999.0,9,   -999.0, -999.000,9, -999.000, -999.000,9, -999.000
  49NZ20130106,  S04I,   145,  1,     16, X12J16,2,20130128,0540,-63.5000,  48.0032, 4531,   2000.4,2,   0.2530,2,   0.25347,2,  34.6691,2,  34.6699,2,-999.0000,9,   219.76,2,   219.47,2,   99.977,   0.0009,2,   -0.000,2,  -999.00,9,    0.000,2,   113.94,2,     0.16,    32.62,2,     0.05,     0.01,2,     0.01,     2.26,2,     0.01,    0.807,2,    0.414,2,    0.063,2, -999.000,9,   -999.0,9,   -999.0,9,-999.0000,     -999,9, -999.000,9, -999.000,   -999.0,9,   -999.0, -999.000,9, -999.000, -999.000,9, -999.000
  49NZ20130106,  S04I,   145,  1,     15, X12J15,2,20130128,0540,-63.5000,  48.0032, 4531,   2250.8,2,   0.1477,2,   0.14753,2,  34.6661,2,  34.6659,2,-999.0000,9,   223.01,2,   222.83,2,   99.970,   0.0012,2,   -0.000,2,  -999.00,9,    0.000,2,   115.99,2,     0.16,    32.62,2,     0.05,     0.01,2,     0.01,     2.26,2,     0.01,    0.820,2,    0.420,2,    0.052,2, -999.000,9,   -999.0,9,   -999.0,9,-999.0000,     -999,9, -999.000,9, -999.000,   -999.0,9,   -999.0, -999.000,9, -999.000, -999.000,9, -999.000
  49NZ20130106,  S04I,   145,  1,     14, X12J14,2,20130128,0540,-63.5000,  48.0032, 4531,   2500.4,2,   0.0641,2,   0.06415,2,  34.6635,2,  34.6633,2,-999.0000,9,   225.90,2,   225.76,2,   99.964,   0.0014,2,   -0.000,2,  -999.00,9,    0.000,2,   117.49,2,     0.16,    32.59,2,     0.05,     0.01,2,     0.01,     2.24,2,     0.01,    0.841,2,    0.426,2,    0.061,2, -999.000,9,   -999.0,9,   -999.0,9,-999.0000,     -999,9, -999.000,9, -999.000,   -999.0,9,   -999.0, -999.000,9, -999.000, -999.000,9, -999.000
  49NZ20130106,  S04I,   145,  1,     13, X12J13,2,20130128,0540,-63.5000,  48.0032, 4531,   2752.4,2,  -0.0028,2,  -0.00274,2,  34.6621,2,  34.6620,2,-999.0000,9,   228.29,2,   228.24,2,   99.960,   0.0016,2,   -0.010,2,  -999.00,9,    0.000,2,   119.60,2,     0.17,    32.63,2,     0.05,     0.01,2,     0.01,     2.25,2,     0.01,    0.811,2,    0.411,2,    0.056,2, -999.000,9,   -999.0,9,   -999.0,9,-999.0000,     -999,9, -999.000,9, -999.000,   -999.0,9,   -999.0, -999.000,9, -999.000, -999.000,9, -999.000
  49NZ20130106,  S04I,   145,  1,     12, X12J12,2,20130128,0540,-63.5000,  48.0032, 4531,   3002.1,2,  -0.0860,2,  -0.08631,2,  34.6585,2,  34.6583,2,-999.0000,9,   234.08,2,   233.89,2,   99.943,   0.0023,2,   -0.010,2,  -999.00,9,    0.000,2,   116.62,2,     0.16,    32.42,2,     0.05,     0.01,2,     0.01,     2.24,2,     0.01,    1.120,2,    0.577,2,    0.087,2, -999.000,9,   -999.0,9,   -999.0,9,-999.0000,     -999,9, -999.000,9, -999.000,   -999.0,9,   -999.0, -999.000,9, -999.000, -999.000,9, -999.000
  49NZ20130106,  S04I,   145,  1,     11, X12J11,2,20130128,0540,-63.5000,  48.0032, 4531,   3250.3,2,  -0.1408,2,  -0.14064,2,  34.6561,2,  34.6555,2,-999.0000,9,   237.38,2,   237.11,2,   99.941,   0.0024,2,   -0.010,2,  -999.00,9,    0.000,2,   116.58,2,     0.16,    32.38,2,     0.05,     0.01,2,     0.01,     2.24,2,     0.01,    1.204,2,    0.625,2,    0.084,2, -999.000,9,   -999.0,9,   -999.0,9,-999.0000,     -999,9, -999.000,9, -999.000,   -999.0,9,   -999.0, -999.000,9, -999.000, -999.000,9, -999.000
  49NZ20130106,  S04I,   145,  1,     10, X12J10,2,20130128,0540,-63.5000,  48.0032, 4531,   3501.3,2,  -0.1874,2,  -0.18733,2,  34.6540,2,  34.6539,2,-999.0000,9,   240.55,2,   240.42,2,   99.924,   0.0030,2,   -0.010,2,  -999.00,9,    0.000,2,   115.55,2,     0.16,    32.34,2,     0.05,     0.01,2,     0.01,     2.24,2,     0.01,    1.320,2,    0.687,2,    0.108,2, -999.000,9,   -999.0,9,   -999.0,9,-999.0000,     -999,9, -999.000,9, -999.000,   -999.0,9,   -999.0, -999.000,9, -999.000, -999.000,9, -999.000
  49NZ20130106,  S04I,   145,  1,      9, X12J09,2,20130128,0540,-63.5000,  48.0032, 4531,   3750.0,2,  -0.2386,2,  -0.23855,2,  34.6513,2,  34.6515,2,-999.0000,9,   243.32,2,   243.22,2,   99.909,   0.0036,2,   -0.010,2,  -999.00,9,    0.000,2,   117.19,2,     0.16,    32.37,2,     0.05,     0.01,2,     0.01,     2.24,2,     0.01,    1.300,2,    0.676,2,    0.101,2, -999.000,9,   -999.0,9,   -999.0,9,-999.0000,     -999,9, -999.000,9, -999.000,   -999.0,9,   -999.0, -999.000,9, -999.000, -999.000,9, -999.000
  49NZ20130106,  S04I,   145,  1,      8, X12J08,2,20130128,0540,-63.5000,  48.0032, 4531,   4001.4,2,  -0.2708,2,  -0.27065,2,  34.6507,2,  34.6505,2,-999.0000,9,   244.42,2,   244.26,2,   99.909,   0.0036,2,   -0.010,2,  -999.00,9,    0.000,2,   120.73,2,     0.17,    32.41,2,     0.05,     0.01,2,     0.01,     2.24,2,     0.01,    1.111,6,    0.576,6,    0.080,6, -999.000,9,   -999.0,9,   -999.0,9,-999.0000,     -999,9, -999.000,9, -999.000,   -999.0,9,   -999.0, -999.000,9, -999.000, -999.000,9, -999.000
  49NZ20130106,  S04I,   145,  1,      7, X12J07,2,20130128,0540,-63.5000,  48.0032, 4531,   4250.0,2,  -0.3026,2,  -0.30258,2,  34.6482,2,  34.6481,2,-999.0000,9,   247.54,2,   247.86,2,   99.873,   0.0051,2,   -0.010,2,  -999.00,9,    0.000,2,   118.91,2,     0.17,    32.24,2,     0.05,     0.01,2,     0.01,     2.24,2,     0.01,    1.379,2,    0.721,2,    0.115,2, -999.000,9,   -999.0,9,   -999.0,9,-999.0000,     -999,9, -999.000,9, -999.000,   -999.0,9,   -999.0, -999.000,9, -999.000, -999.000,9, -999.000
  49NZ20130106,  S04I,   145,  1,      6, X12J06,2,20130128,0540,-63.5000,  48.0032, 4531,   4498.8,2,  -0.3395,2,  -0.33940,2,  34.6429,2,  34.6432,2,-999.0000,9,   254.24,2,   254.01,2,   99.739,   0.0105,2,   -0.010,2,  -999.00,9,    0.000,2,   110.55,2,     0.16,    31.95,2,     0.04,     0.03,2,     0.01,     2.22,2,     0.01,    1.992,2,    1.054,2,    0.184,2, -999.000,9,   -999.0,9,   -999.0,9,-999.0000,     -999,9, -999.000,9, -999.000,   -999.0,9,   -999.0, -999.000,9, -999.000, -999.000,9, -999.000
  49NZ20130106,  S04I,   145,  1,      1, X12J01,2,20130128,0540,-63.5000,  48.0032, 4531,   4612.6,2,  -0.3379,2,  -0.33783,2,  34.6417,2,  34.6421,2,-999.0000,9,   254.36,2,   254.47,2,   99.245,   0.0303,4,   -0.010,2,  -999.00,9,    0.000,2,   111.18,2,     0.16,    32.00,2,     0.04,     0.02,2,     0.01,     2.22,2,     0.01,    2.004,2,    1.064,2,    0.169,2, -999.000,9,   -999.0,9,   -999.0,9,-999.0000,     -999,9, -999.000,9, -999.000,   -999.0,9,   -999.0, -999.000,9, -999.000, -999.000,9, -999.000