BOTTLE,20220819CCHSIOAMB
EXPOCODE,SECT_ID,STNNBR,CASTNO,SAMPNO,BTLNBR,BTLNBR_FLAG_W,DATE,TIME,LATITUDE,LONGITUDE,DEPTH,CTDPRS,CTDPRS_FLAG_W,CTDTMP,CTDTMP_FLAG_W,SBE35,SBE35_FLAG_W,CTDSAL,CTDSAL_FLAG_W,SALNTY,SALNTY_FLAG_W,DNSSAL,DNSSAL_FLAG_W,CTDOXY,CTDOXY_FLAG_W,OXYGEN,OXYGEN_FLAG_W,CTDXMISS,CTDXMISSCP,CTDXMISS_FLAG_W,CTDFLUOR,CTDFLUOR_FLAG_W,CHLORA,CHLORA_FLAG_W,PAR,PAR_FLAG_W,SILCAT,SILCAT_FLAG_W,SILUNC,NITRAT,NITRAT_FLAG_W,NRAUNC,NITRIT,NITRIT_FLAG_W,NRIUNC,PHSPHT,PHSPHT_FLAG_W,PHPUNC,CFC-11,CFC-11_FLAG_W,CFC-12,CFC-12_FLAG_W,CFC113,CFC113_FLAG_W,SF6,SF6_FLAG_W,TCARBN,TCARBN_FLAG_W,ALKALI,ALKALI_FLAG_W,PH_TOT,PH_TMP,PH_TOT_FLAG_W,DELC13,DELC13_FLAG_W,C13ERR,DELC14,DELC14_FLAG_W,C14ERR,CS-134,CS-134_FLAG_W,CS134ER,CS-137,CS-137_FLAG_W,CS137ER
,,,,,,,,UTC,DEG,DEG,METERS,DBAR,,ITS-90,,ITS-90,,PSS-78,,PSS-78,,G/KG,,UMOL/KG,,UMOL/KG,,%TRANS,/METER,,MG/M^3,,MG/CUM,,UE/SQM/S,,UMOL/KG,,UMOL/KG,UMOL/KG,,UMOL/KG,UMOL/KG,,UMOL/KG,UMOL/KG,,UMOL/KG,PMOL/KG,,PMOL/KG,,PMOL/KG,,FMOL/KG,,UMOL/KG,,UMOL/KG,,,DEG C,,/MILLE,,/MILLE,/MILLE,,/MILLE,MBQ/KG,,MBQ/KG,MBQ/KG,,MBQ/KG
  49NZ20130106,  S04I,   138,  1,     36, X12J36,2,20130125,0747,-65.2240,  53.1318, 1878,      5.1,2,  -0.7435,2,  -0.74312,2,  33.8729,2,  33.8733,2,-999.0000,9,   342.25,2,   342.50,2,   97.210,   0.1132,2,    0.180,2,  -999.00,9,  155.694,2,    51.80,2,     0.11,    27.48,2,     0.04,     0.16,2,     0.01,     1.91,2,     0.01,    5.864,2,    3.205,2,    0.644,2,    2.735,2,   2177.8,2,   2293.2,2,   7.6528,       25,6, -999.000,9, -999.000,   -999.0,9,   -999.0, -999.000,9, -999.000, -999.000,9, -999.000
  49NZ20130106,  S04I,   138,  1,     35, X12J35,2,20130125,0747,-65.2240,  53.1318, 1878,     24.3,2,  -0.7444,2,  -0.74468,2,  33.8730,2,  33.8731,2,-999.0000,9,   342.15,2,   342.59,2,   97.191,   0.1140,2,    0.270,2,  -999.00,9,   34.642,2,    51.88,2,     0.11,    27.51,2,     0.04,     0.16,2,     0.01,     1.92,2,     0.01,    5.910,2,    3.194,2,    0.651,2,    2.885,2,   2178.5,2,   2292.8,2,   7.6527,       25,2, -999.000,9, -999.000,   -999.0,9,   -999.0, -999.000,9, -999.000, -999.000,9, -999.000
  49NZ20130106,  S04I,   138,  1,     34, X12J34,2,20130125,0747,-65.2240,  53.1318, 1878,     50.4,2,  -0.7603,2,  -0.76018,2,  33.8785,2,  33.8852,2,-999.0000,9,   341.38,2,   341.39,2,   97.172,   0.1148,2,    0.300,2,  -999.00,9,    8.156,2,    52.30,2,     0.11,    27.64,2,     0.04,     0.16,2,     0.01,     1.93,2,     0.01,    5.851,2,    3.178,6,    0.636,2,    2.785,6,   2179.2,2,   2294.3,2,   7.6507,       25,2, -999.000,9, -999.000,   -999.0,9,   -999.0, -999.000,9, -999.000, -999.000,9, -999.000
  49NZ20130106,  S04I,   138,  1,     33, X12J33,2,20130125,0747,-65.2240,  53.1318, 1878,     73.4,2,  -1.5911,2,  -1.59380,2,  34.2359,2,  34.2419,2,-999.0000,9,   307.22,2,   306.83,2,   98.935,   0.0428,2,    0.230,2,  -999.00,9,    2.891,2,    62.51,2,     0.11,    30.04,2,     0.04,     0.12,2,     0.01,     2.09,2,     0.01,    4.794,2,    2.597,2,    0.502,2,    2.141,2,   2211.8,6,   2315.3,2,   7.6163,       25,2, -999.000,9, -999.000,   -999.0,9,   -999.0, -999.000,9, -999.000, -999.000,9, -999.000
  49NZ20130106,  S04I,   138,  1,     32, X12J32,2,20130125,0747,-65.2240,  53.1318, 1878,    100.1,2,  -1.6373,2,  -1.63767,2,  34.3413,2,  34.3392,2,-999.0000,9,   297.87,2,   297.84,2,   99.636,   0.0146,2,    0.100,2,  -999.00,9,    1.389,2,    64.85,2,     0.12,    30.63,2,     0.04,     0.06,2,     0.01,     2.10,2,     0.01,    4.607,2,    2.476,2,    0.481,2,    2.021,2,   2220.6,2,   2321.3,6,   7.6093,       25,2, -999.000,9, -999.000,   -999.0,9,   -999.0, -999.000,9, -999.000, -999.000,9, -999.000
  49NZ20130106,  S04I,   138,  1,     31, X12J31,2,20130125,0747,-65.2240,  53.1318, 1878,    125.8,2,  -1.6178,2,  -1.61798,2,  34.3740,2,  34.3727,2,-999.0000,9,   298.63,2,   298.62,2,   99.747,   0.0101,2,    0.030,2,  -999.00,9,    0.713,2,    64.47,2,     0.12,    30.71,2,     0.04,     0.02,2,     0.01,     2.11,2,     0.01,    4.696,2,    2.512,2,    0.488,2,    2.087,2,   2223.1,2,   2323.4,2,   7.6091,       25,2, -999.000,9, -999.000,   -999.0,9,   -999.0, -999.000,9, -999.000, -999.000,9, -999.000
  49NZ20130106,  S04I,   138,  1,     30, X12J30,2,20130125,0747,-65.2240,  53.1318, 1878,    150.7,2,  -1.6006,2,  -1.60053,2,  34.3918,2,  34.3916,2,-999.0000,9,   299.05,2,   299.03,2,   99.774,   0.0091,2,    0.010,2,  -999.00,9,    0.269,2,    64.52,2,     0.12,    30.69,2,     0.04,     0.01,2,     0.01,     2.11,2,     0.01,    4.730,2,    2.544,2,    0.489,2,    2.092,2,   2224.0,2,   2324.7,2,   7.6101,       25,6, -999.000,9, -999.000,   -999.0,9,   -999.0, -999.000,9, -999.000, -999.000,9, -999.000
  49NZ20130106,  S04I,   138,  1,     29, X12J29,2,20130125,0747,-65.2240,  53.1318, 1878,    199.6,2,  -1.5112,2,  -1.51113,2,  34.4195,2,  34.4202,2,-999.0000,9,   296.00,2,   295.85,2,   99.817,   0.0073,2,    0.010,2,  -999.00,9,    0.027,2,    65.53,2,     0.12,    30.73,2,     0.04,     0.01,2,     0.01,     2.12,2,     0.01,    4.651,2,    2.469,2,    0.476,2,    2.025,2,   2226.2,2,   2327.2,2,   7.6094,       25,2, -999.000,9, -999.000,   -999.0,9,   -999.0, -999.000,9, -999.000, -999.000,9, -999.000
  49NZ20130106,  S04I,   138,  1,     28, X12J28,2,20130125,0747,-65.2240,  53.1318, 1878,    251.2,2,  -1.5021,2,  -1.50219,2,  34.4321,2,  34.4325,2,-999.0000,9,   296.93,2,   296.80,2,   99.842,   0.0063,2,    0.000,2,  -999.00,9,    0.000,2,    65.44,2,     0.12,    30.74,2,     0.04,     0.01,2,     0.01,     2.12,2,     0.01,    4.663,2,    2.480,2,    0.472,2,    2.157,2,   2226.4,2,   2327.8,2,   7.6101,       25,2, -999.000,9, -999.000,   -999.0,9,   -999.0, -999.000,9, -999.000, -999.000,9, -999.000
  49NZ20130106,  S04I,   138,  1,     27, X12J27,2,20130125,0747,-65.2240,  53.1318, 1878,    300.5,2,  -1.4023,2,  -1.40277,2,  34.4454,2,  34.4463,2,-999.0000,9,   292.87,2,   292.58,2,   99.838,   0.0065,2,    0.000,2,  -999.00,9,    0.000,2,    66.65,2,     0.12,    30.84,2,     0.04,     0.01,2,     0.01,     2.12,2,     0.01,    4.507,2,    2.410,2,    0.453,2,    2.134,2,   2228.7,2,   2329.0,2,   7.6084,       25,2, -999.000,9, -999.000,   -999.0,9,   -999.0, -999.000,9, -999.000, -999.000,9, -999.000
  49NZ20130106,  S04I,   138,  1,     26, X12J26,2,20130125,0747,-65.2240,  53.1318, 1878,    400.0,2,   0.4456,2,   0.44773,2,  34.6120,2,  34.6126,2,-999.0000,9,   225.98,2,   225.35,2,   99.895,   0.0042,2,    0.000,2,  -999.00,9,    0.000,2,    82.28,2,     0.13,    31.86,2,     0.04,     0.01,2,     0.01,     2.20,2,     0.01,    1.940,2,    1.020,2,    0.184,2,    0.774,2,   2246.3,2,   2340.6,2,   7.5892,       25,2, -999.000,9, -999.000,   -999.0,9,   -999.0, -999.000,9, -999.000, -999.000,9, -999.000
  49NZ20130106,  S04I,   138,  1,     25, X12J25,2,20130125,0747,-65.2240,  53.1318, 1878,    500.7,2,  -0.2741,2,  -0.27208,2,  34.5795,2,  34.5798,2,-999.0000,9,   247.75,2,   247.23,2,   99.910,   0.0036,2,    0.000,2,  -999.00,9,    0.000,2,    83.81,2,     0.13,    31.50,2,     0.04,     0.01,2,     0.01,     2.17,2,     0.01,    2.521,2,    1.337,2,    0.242,2,    1.117,2,   2242.6,2,   2340.7,2,   7.5974,       25,2, -999.000,9, -999.000,   -999.0,9,   -999.0, -999.000,9, -999.000, -999.000,9, -999.000
  49NZ20130106,  S04I,   138,  1,     24, X12J24,2,20130125,0747,-65.2240,  53.1318, 1878,    603.1,2,   0.0407,2,   0.04118,2,  34.6218,2,  34.6223,2,-999.0000,9,   234.96,2,   234.77,2,   99.917,   0.0033,2,    0.000,2,  -999.00,9,    0.000,2,    91.33,2,     0.14,    31.72,2,     0.04,     0.01,2,     0.01,     2.20,2,     0.01,    1.921,6,    1.006,6,    0.179,6,    0.746,6,   2246.7,2,   2343.8,2,   7.5962,       25,2, -999.000,9, -999.000,   -999.0,9,   -999.0, -999.000,9, -999.000, -999.000,9, -999.000
  49NZ20130106,  S04I,   138,  1,     23, X12J23,2,20130125,0747,-65.2240,  53.1318, 1878,    701.2,2,   0.0103,2,   0.01025,2,  34.6255,2,  34.6263,2,-999.0000,9,   234.82,2,   234.69,2,   99.919,   0.0032,2,   -0.000,2,  -999.00,9,    0.000,2,    93.79,2,     0.14,    31.81,2,     0.04,     0.01,2,     0.01,     2.20,2,     0.01,    1.871,2,    0.969,2,    0.167,2,    0.789,2,   2247.7,6,   2345.1,2,   7.5965,       25,2, -999.000,9, -999.000,   -999.0,9,   -999.0, -999.000,9, -999.000, -999.000,9, -999.000
  49NZ20130106,  S04I,   138,  1,     22, X12J22,2,20130125,0747,-65.2240,  53.1318, 1878,    801.4,2,   0.0577,2,   0.05762,2,  34.6343,2,  34.6344,2,-999.0000,9,   232.26,2,   232.16,2,   99.921,   0.0032,2,   -0.000,2,  -999.00,9,    0.000,2,    96.08,2,     0.15,    31.92,2,     0.04,     0.01,2,     0.01,     2.21,2,     0.01,    1.689,2,    0.892,2,    0.154,2,    0.651,2,   2249.1,2,   2346.7,2,   7.5953,       25,2, -999.000,9, -999.000,   -999.0,9,   -999.0, -999.000,9, -999.000, -999.000,9, -999.000
  49NZ20130106,  S04I,   138,  1,     21, X12J21,2,20130125,0747,-65.2240,  53.1318, 1878,    898.6,2,   0.0855,2,   0.08514,2,  34.6403,2,  34.6409,2,-999.0000,9,   230.59,2,   230.49,2,   99.925,   0.0030,2,   -0.000,2,  -999.00,9,    0.000,2,    98.03,2,     0.15,    31.97,2,     0.04,     0.01,2,     0.01,     2.22,2,     0.01,    1.557,2,    0.837,2,    0.138,2,    0.691,2,   2250.4,2,   2347.4,2,   7.5954,       25,2, -999.000,9, -999.000,   -999.0,9,   -999.0, -999.000,9, -999.000, -999.000,9, -999.000
  49NZ20130106,  S04I,   138,  1,     20, X12J20,2,20130125,0747,-65.2240,  53.1318, 1878,    999.1,2,   0.1062,2,   0.10582,2,  34.6455,2,  34.6468,2,-999.0000,9,   229.10,2,   228.98,2,   99.923,   0.0031,2,   -0.000,2,  -999.00,9,    0.000,2,   100.48,2,     0.15,    32.03,2,     0.04,     0.01,2,     0.01,     2.22,2,     0.01,    1.451,2,    0.778,2,    0.125,2,    0.523,2,   2251.4,2,   2348.8,2,   7.5952,       25,2, -999.000,9, -999.000,   -999.0,9,   -999.0, -999.000,9, -999.000, -999.000,9, -999.000
  49NZ20130106,  S04I,   138,  1,     19, X12J19,2,20130125,0747,-65.2240,  53.1318, 1878,   1251.0,2,   0.0950,2,   0.09480,2,  34.6574,2,  34.6579,2,-999.0000,9,   226.81,2,   226.96,2,   99.934,   0.0026,2,   -0.000,2,  -999.00,9,    0.000,2,   106.89,2,     0.15,    32.26,2,     0.05,     0.01,2,     0.01,     2.23,2,     0.01,    1.264,6,    0.651,6,    0.103,6,    0.424,6,   2252.9,2,   2350.9,2,   7.5948,       25,2, -999.000,9, -999.000,   -999.0,9,   -999.0, -999.000,9, -999.000, -999.000,9, -999.000
  49NZ20130106,  S04I,   138,  1,     18, X12J18,2,20130125,0747,-65.2240,  53.1318, 1878,   1501.7,2,   0.0337,2,   0.03365,2,  34.6599,2,  34.6606,2,-999.0000,9,   228.16,2,   228.40,2,   99.908,   0.0037,2,   -0.000,2,  -999.00,9,    0.000,2,   109.68,2,     0.16,    32.34,2,     0.05,     0.01,2,     0.01,     2.24,2,     0.01,    1.227,2,    0.639,2,    0.099,2,    0.358,2,   2253.6,2,   2351.5,2,   7.5943,       25,2, -999.000,9, -999.000,   -999.0,9,   -999.0, -999.000,9, -999.000, -999.000,9, -999.000
  49NZ20130106,  S04I,   138,  1,     17, X12J17,2,20130125,0747,-65.2240,  53.1318, 1878,   1749.9,2,  -0.0206,2,  -0.02093,2,  34.6602,2,  34.6612,2,-999.0000,9,   230.14,2,   230.42,2,   99.919,   0.0032,2,   -0.000,2,  -999.00,9,    0.000,2,   111.23,2,     0.16,    32.38,2,     0.05,     0.01,2,     0.01,     2.25,2,     0.01,    1.257,2,    0.654,2,    0.101,2,    0.382,2,   2252.9,2,   2352.2,2,   7.5951,       25,6, -999.000,9, -999.000,   -999.0,9,   -999.0, -999.000,9, -999.000, -999.000,9, -999.000
  49NZ20130106,  S04I,   138,  1,      1, X12J01,2,20130125,0747,-65.2240,  53.1318, 1878,   1891.2,2,  -0.0367,2,  -0.03681,2,  34.6602,2,  34.6608,2,-999.0000,9,   230.92,2,   231.26,2,   99.887,   0.0045,2,   -0.000,2,  -999.00,9,    0.000,2,   111.55,2,     0.16,    32.32,2,     0.05,     0.01,2,     0.01,     2.25,2,     0.01,    1.292,2,    0.660,2,    0.103,2,    0.510,2,   2254.0,2,   2352.3,2,   7.5946,       25,2, -999.000,9, -999.000,   -999.0,9,   -999.0, -999.000,9, -999.000, -999.000,9, -999.000