BOTTLE,20220819CCHSIOAMB
EXPOCODE,SECT_ID,STNNBR,CASTNO,SAMPNO,BTLNBR,BTLNBR_FLAG_W,DATE,TIME,LATITUDE,LONGITUDE,DEPTH,CTDPRS,CTDPRS_FLAG_W,CTDTMP,CTDTMP_FLAG_W,SBE35,SBE35_FLAG_W,CTDSAL,CTDSAL_FLAG_W,SALNTY,SALNTY_FLAG_W,DNSSAL,DNSSAL_FLAG_W,CTDOXY,CTDOXY_FLAG_W,OXYGEN,OXYGEN_FLAG_W,CTDXMISS,CTDXMISSCP,CTDXMISS_FLAG_W,CTDFLUOR,CTDFLUOR_FLAG_W,CHLORA,CHLORA_FLAG_W,PAR,PAR_FLAG_W,SILCAT,SILCAT_FLAG_W,SILUNC,NITRAT,NITRAT_FLAG_W,NRAUNC,NITRIT,NITRIT_FLAG_W,NRIUNC,PHSPHT,PHSPHT_FLAG_W,PHPUNC,CFC-11,CFC-11_FLAG_W,CFC-12,CFC-12_FLAG_W,CFC113,CFC113_FLAG_W,SF6,SF6_FLAG_W,TCARBN,TCARBN_FLAG_W,ALKALI,ALKALI_FLAG_W,PH_TOT,PH_TMP,PH_TOT_FLAG_W,DELC13,DELC13_FLAG_W,C13ERR,DELC14,DELC14_FLAG_W,C14ERR,CS-134,CS-134_FLAG_W,CS134ER,CS-137,CS-137_FLAG_W,CS137ER
,,,,,,,,UTC,DEG,DEG,METERS,DBAR,,ITS-90,,ITS-90,,PSS-78,,PSS-78,,G/KG,,UMOL/KG,,UMOL/KG,,%TRANS,/METER,,MG/M^3,,MG/CUM,,UE/SQM/S,,UMOL/KG,,UMOL/KG,UMOL/KG,,UMOL/KG,UMOL/KG,,UMOL/KG,UMOL/KG,,UMOL/KG,PMOL/KG,,PMOL/KG,,PMOL/KG,,FMOL/KG,,UMOL/KG,,UMOL/KG,,,DEG C,,/MILLE,,/MILLE,/MILLE,,/MILLE,MBQ/KG,,MBQ/KG,MBQ/KG,,MBQ/KG
  49NZ20130106,  S04I,   155,  1,     36, X12J36,2,20130130,2211,-65.6962,  34.2473, 3158,     10.3,2,   0.1686,2,   0.16799,2,  34.0235,2,  34.0244,2,-999.0000,9,   347.43,2,   348.12,2,   94.393,   0.2308,2,    0.450,2,  -999.00,9,    0.300,2,    58.88,2,     0.11,    25.75,2,     0.04,     0.15,2,     0.01,     1.80,2,     0.01,    5.554,2,    3.086,2,    0.568,2,    2.875,2,   2178.9,2,   2307.0,2,   7.6902,       25,6, -999.000,9, -999.000,   -999.0,9,   -999.0, -999.000,9, -999.000, -999.000,9, -999.000
  49NZ20130106,  S04I,   155,  1,     35, X12J35,2,20130130,2211,-65.6962,  34.2473, 3158,     25.5,2,  -0.1913,2,  -0.19188,2,  34.0478,2,  34.0491,2,-999.0000,9,   347.05,2,   347.64,2,   94.329,   0.2335,2,    0.490,2,  -999.00,9,    0.000,2,    59.11,2,     0.11,    26.05,2,     0.04,     0.13,2,     0.01,     1.83,2,     0.01,    5.427,2,    3.063,2,    0.559,2,    2.751,2,   2181.5,2,   2308.8,2,   7.6869,       25,2, -999.000,9, -999.000,   -999.0,9,   -999.0, -999.000,9, -999.000, -999.000,9, -999.000
  49NZ20130106,  S04I,   155,  1,     34, X12J34,2,20130130,2211,-65.6962,  34.2473, 3158,     49.5,2,  -1.7447,2,  -1.74479,2,  34.2522,2,  34.2523,2,-999.0000,9,   313.83,2,   314.31,2,   96.711,   0.1338,2,    0.580,2,  -999.00,9,    0.000,2,    60.30,2,     0.11,    29.42,2,     0.04,     0.09,2,     0.01,     2.05,2,     0.01,    4.856,6,    2.704,6,    0.500,6,    2.410,6,   2212.5,2,   2317.9,2,   7.6272,       25,2, -999.000,9, -999.000,   -999.0,9,   -999.0, -999.000,9, -999.000, -999.000,9, -999.000
  49NZ20130106,  S04I,   155,  1,     33, X12J33,2,20130130,2211,-65.6962,  34.2473, 3158,     73.9,2,  -1.8078,2,  -1.80816,2,  34.3115,2,  34.3110,2,-999.0000,9,   303.59,2,   303.14,2,   99.352,   0.0260,2,    0.190,2,  -999.00,9,    0.000,2,    61.65,2,     0.11,    30.17,2,     0.04,     0.06,2,     0.01,     2.09,2,     0.01,    4.674,2,    2.590,2,    0.467,2,    2.332,2,   2220.9,6,   2317.6,2,   7.6164,       25,2, -999.000,9, -999.000,   -999.0,9,   -999.0, -999.000,9, -999.000, -999.000,9, -999.000
  49NZ20130106,  S04I,   155,  1,     32, X12J32,2,20130130,2211,-65.6962,  34.2473, 3158,     99.0,2,  -1.7981,2,  -1.79853,2,  34.3259,2,  34.3254,2,-999.0000,9,   301.60,2,   301.67,2,   99.595,   0.0162,2,    0.120,2,  -999.00,9,    0.000,2,    62.10,2,     0.11,    30.31,2,     0.04,     0.05,2,     0.01,     2.09,2,     0.01,    4.601,2,    2.520,2,    0.469,2,    2.220,2,   2221.5,2,   2320.0,2,   7.6141,       25,2, -999.000,9, -999.000,   -999.0,9,   -999.0, -999.000,9, -999.000, -999.000,9, -999.000
  49NZ20130106,  S04I,   155,  1,     31, X12J31,2,20130130,2211,-65.6962,  34.2473, 3158,    125.3,2,  -1.7479,2,  -1.74810,2,  34.3411,2,  34.3413,2,-999.0000,9,   298.64,2,   298.54,2,   99.797,   0.0081,2,    0.070,2,  -999.00,9,    0.000,2,    62.93,2,     0.12,    30.41,2,     0.04,     0.02,2,     0.01,     2.10,2,     0.01,    4.502,2,    2.474,2,    0.454,2,    2.126,2,   2222.7,2,   2322.0,2,   7.6131,       25,2, -999.000,9, -999.000,   -999.0,9,   -999.0, -999.000,9, -999.000, -999.000,9, -999.000
  49NZ20130106,  S04I,   155,  1,     30, X12J30,2,20130130,2211,-65.6962,  34.2473, 3158,    149.4,2,  -1.5635,2,  -1.56287,2,  34.3726,2,  34.3706,2,-999.0000,9,   293.60,2,   293.82,2,   99.848,   0.0061,2,    0.040,2,  -999.00,9,    0.000,2,    64.35,2,     0.12,    30.49,2,     0.04,     0.02,2,     0.01,     2.10,2,     0.01,    4.369,2,    2.399,2,    0.439,2,    2.110,2,   2225.1,2,   2323.8,2,   7.6112,       25,2, -999.000,9, -999.000,   -999.0,9,   -999.0, -999.000,9, -999.000, -999.000,9, -999.000
  49NZ20130106,  S04I,   155,  1,     29, X12J29,2,20130130,2211,-65.6962,  34.2473, 3158,    200.0,2,  -1.2319,2,  -1.23832,2,  34.4157,2,  34.4145,2,-999.0000,9,   283.17,2,   283.68,2,   99.885,   0.0046,2,    0.020,2,  -999.00,9,    0.000,2,    66.92,2,     0.12,    30.81,2,     0.04,     0.01,2,     0.01,     2.13,2,     0.01,    4.052,2,    2.227,2,    0.407,2,    1.920,2,   2228.7,2,   2327.1,2,   7.6064,       25,2, -999.000,9, -999.000,   -999.0,9,   -999.0, -999.000,9, -999.000, -999.000,9, -999.000
  49NZ20130106,  S04I,   155,  1,     28, X12J28,2,20130130,2211,-65.6962,  34.2473, 3158,    250.1,2,  -0.1487,2,  -0.14490,2,  34.5313,2,  34.5334,2,-999.0000,9,   245.43,2,   244.06,2,   99.859,   0.0056,2,    0.020,2,  -999.00,9,    0.000,2,    76.96,2,     0.13,    31.77,2,     0.04,     0.01,2,     0.01,     2.20,2,     0.01,    2.706,2,    1.497,2,    0.257,2,    1.187,2,   2243.0,2,   2334.3,2,   7.5889,       25,2, -999.000,9, -999.000,   -999.0,9,   -999.0, -999.000,9, -999.000, -999.000,9, -999.000
  49NZ20130106,  S04I,   155,  1,     27, X12J27,2,20130130,2211,-65.6962,  34.2473, 3158,    330.9,2,   1.1406,2,   1.14077,2,  34.6701,2,  34.6690,2,-999.0000,9,   198.96,2,   198.42,2,   99.887,   0.0045,2,    0.010,2,  -999.00,9,    0.000,2,    88.44,2,     0.14,    32.47,2,     0.05,     0.01,2,     0.01,     2.25,2,     0.01,    1.017,2,    0.542,2,    0.086,2,    0.380,2,   2256.1,2,   2344.3,2,   7.5754,       25,2, -999.000,9, -999.000,   -999.0,9,   -999.0, -999.000,9, -999.000, -999.000,9, -999.000
  49NZ20130106,  S04I,   155,  1,     26, X12J26,2,20130130,2211,-65.6962,  34.2473, 3158,    431.4,2,   1.0001,2,   1.00052,2,  34.6788,2,  34.6789,2,-999.0000,9,   205.55,2,   205.55,2,   99.942,   0.0023,2,    0.000,2,  -999.00,9,    0.000,2,    90.24,2,     0.14,    31.99,2,     0.04,     0.01,2,     0.01,     2.22,2,     0.01,    1.033,2,    0.536,2,    0.085,2,    0.331,2,   2253.8,2,   2346.4,2,   7.5883,       25,2, -999.000,9, -999.000,   -999.0,9,   -999.0, -999.000,9, -999.000, -999.000,9, -999.000
  49NZ20130106,  S04I,   155,  1,     25, X12J25,2,20130130,2211,-65.6962,  34.2473, 3158,    530.8,2,   1.0204,2,   1.02034,2,  34.6942,2,  34.6944,2,-999.0000,9,   204.21,2,   204.25,2,   99.970,   0.0012,2,    0.000,2,  -999.00,9,    0.000,2,    93.98,2,     0.14,    31.86,2,     0.04,     0.00,2,     0.01,     2.21,2,     0.01,    0.795,2,    0.418,2,    0.064,2,    0.312,2,   2254.8,2,   2348.8,2,   7.5921,       25,2, -999.000,9, -999.000,   -999.0,9,   -999.0, -999.000,9, -999.000, -999.000,9, -999.000
  49NZ20130106,  S04I,   155,  1,     24, X12J24,2,20130130,2211,-65.6962,  34.2473, 3158,    629.6,2,   0.8813,2,   0.88077,2,  34.6910,2,  34.6913,2,-999.0000,9,   207.60,2,   207.82,2,   99.948,   0.0021,2,    0.000,2,  -999.00,9,    0.000,2,    96.27,2,     0.15,    31.83,2,     0.04,     0.00,2,     0.01,     2.21,2,     0.01,    0.806,6,    0.431,6,    0.061,6,    0.304,6,   2256.5,3,   2349.7,2,   7.5945,       25,2, -999.000,9, -999.000,   -999.0,9,   -999.0, -999.000,9, -999.000, -999.000,9, -999.000
  49NZ20130106,  S04I,   155,  1,     23, X12J23,2,20130130,2211,-65.6962,  34.2473, 3158,    730.4,2,   0.7944,2,   0.79501,2,  34.6917,2,  34.6924,2,-999.0000,9,   208.26,2,   208.43,2,   99.953,   0.0019,2,    0.000,2,  -999.00,9,    0.000,2,    99.93,2,     0.15,    31.96,2,     0.04,     0.00,2,     0.01,     2.22,2,     0.01,    0.740,2,    0.390,2,    0.060,2,    0.226,2,   2255.3,6,   2351.0,2,   7.5954,       25,2, -999.000,9, -999.000,   -999.0,9,   -999.0, -999.000,9, -999.000, -999.000,9, -999.000
  49NZ20130106,  S04I,   155,  1,     22, X12J22,2,20130130,2211,-65.6962,  34.2473, 3158,    829.6,2,   0.5641,2,   0.56416,2,  34.6731,2,  34.6737,2,-999.0000,9,   215.70,2,   216.01,2,   99.948,   0.0021,2,    0.000,2,  -999.00,9,    0.000,2,    99.03,2,     0.15,    31.97,2,     0.04,     0.00,2,     0.01,     2.22,2,     0.01,    1.008,2,    0.555,2,    0.080,2,    0.363,2,   2255.0,2,   2349.5,6,   7.5951,       25,2, -999.000,9, -999.000,   -999.0,9,   -999.0, -999.000,9, -999.000, -999.000,9, -999.000
  49NZ20130106,  S04I,   155,  1,     21, X12J21,2,20130130,2211,-65.6962,  34.2473, 3158,    929.8,2,   0.6434,2,   0.64329,2,  34.6883,2,  34.6891,2,-999.0000,9,   209.76,2,   210.12,2,   99.976,   0.0010,2,    0.000,2,  -999.00,9,    0.000,2,   105.28,2,     0.15,    32.20,2,     0.05,     0.00,2,     0.01,     2.24,2,     0.01,    0.670,2,    0.356,2,    0.051,2,    0.281,2,   2258.0,2,   2352.6,2,   7.5945,       25,6, -999.000,9, -999.000,   -999.0,9,   -999.0, -999.000,9, -999.000, -999.000,9, -999.000
  49NZ20130106,  S04I,   155,  1,     20, X12J20,2,20130130,2211,-65.6962,  34.2473, 3158,   1079.5,2,   0.5485,2,   0.54829,2,  34.6859,2,  34.6862,2,-999.0000,9,   210.45,2,   210.78,2,   99.970,   0.0012,2,    0.000,2,  -999.00,9,    0.000,2,   108.84,2,     0.16,    32.38,2,     0.05,     0.00,2,     0.01,     2.25,2,     0.01,    0.644,2,    0.329,2,    0.045,2,    0.136,2,   2258.7,2,   2353.4,2,   7.5925,       25,2, -999.000,9, -999.000,   -999.0,9,   -999.0, -999.000,9, -999.000, -999.000,9, -999.000
  49NZ20130106,  S04I,   155,  1,     19, X12J19,2,20130130,2211,-65.6962,  34.2473, 3158,   1331.1,2,   0.3137,2,   0.31382,2,  34.6721,2,  34.6726,2,-999.0000,9,   217.12,2,   217.61,2,   99.965,   0.0014,2,    0.000,2,  -999.00,9,    0.000,2,   111.10,2,     0.16,    32.43,2,     0.05,     0.00,2,     0.01,     2.26,2,     0.01,    0.810,6,    0.425,6,    0.059,6,    0.265,6,   2257.9,2,   2352.8,2,   7.5922,       25,2, -999.000,9, -999.000,   -999.0,9,   -999.0, -999.000,9, -999.000, -999.000,9, -999.000
  49NZ20130106,  S04I,   155,  1,     18, X12J18,2,20130130,2211,-65.6962,  34.2473, 3158,   1580.0,2,   0.1715,2,   0.17138,2,  34.6693,2,  34.6696,2,-999.0000,9,   220.31,2,   220.86,2,   99.980,   0.0008,2,    0.000,2,  -999.00,9,    0.000,2,   115.21,2,     0.16,    32.47,2,     0.05,     0.00,2,     0.01,     2.25,2,     0.01,    0.770,2,    0.411,2,    0.051,2,    0.243,2,   2258.1,2,   2353.1,2,   7.5927,       25,2, -999.000,9, -999.000,   -999.0,9,   -999.0, -999.000,9, -999.000, -999.000,9, -999.000
  49NZ20130106,  S04I,   155,  1,     17, X12J17,2,20130130,2211,-65.6962,  34.2473, 3158,   1829.9,2,   0.0858,2,   0.08573,2,  34.6683,2,  34.6685,2,-999.0000,9,   222.77,2,   223.24,2,   99.976,   0.0010,2,    0.000,2,  -999.00,9,    0.000,2,   117.85,2,     0.16,    32.60,2,     0.05,     0.00,2,     0.01,     2.26,2,     0.01,    0.755,2,    0.400,2,    0.049,2,    0.220,2,   2257.9,2,   2353.4,2,   7.5929,       25,6, -999.000,9, -999.000,   -999.0,9,   -999.0, -999.000,9, -999.000, -999.000,9, -999.000
  49NZ20130106,  S04I,   155,  1,     16, X12J16,2,20130130,2211,-65.6962,  34.2473, 3158,   2079.8,2,   0.0156,2,   0.01630,2,  34.6657,2,  34.6660,2,-999.0000,9,   226.15,2,   226.69,2,   99.961,   0.0016,2,    0.000,2,  -999.00,9,    0.000,2,   117.91,2,     0.16,    32.58,2,     0.05,     0.00,2,     0.01,     2.26,2,     0.01,    0.852,2,    0.461,2,    0.059,2,    0.274,2,   2257.3,2,   2352.6,2,   7.5942,       25,2, -999.000,9, -999.000,   -999.0,9,   -999.0, -999.000,9, -999.000, -999.000,9, -999.000
  49NZ20130106,  S04I,   155,  1,     15, X12J15,2,20130130,2211,-65.6962,  34.2473, 3158,   2331.1,2,  -0.0570,2,  -0.05706,2,  34.6627,2,  34.6631,2,-999.0000,9,   230.07,2,   230.52,2,   99.944,   0.0022,2,    0.000,2,  -999.00,9,    0.000,2,   117.44,2,     0.16,    32.46,2,     0.05,     0.00,2,     0.01,     2.26,2,     0.01,    1.002,2,    0.537,2,    0.073,2,    0.297,2,   2255.9,2,   2352.3,2,   7.5961,       25,2, -999.000,9, -999.000,   -999.0,9,   -999.0, -999.000,9, -999.000, -999.000,9, -999.000
  49NZ20130106,  S04I,   155,  1,     14, X12J14,2,20130130,2211,-65.6962,  34.2473, 3158,   2580.6,2,  -0.0897,2,  -0.08984,2,  34.6609,2,  34.6616,2,-999.0000,9,   232.37,2,   232.85,2,   99.938,   0.0025,2,    0.000,2,  -999.00,9,    0.000,2,   117.01,2,     0.16,    32.45,2,     0.05,     0.00,2,     0.01,     2.25,2,     0.01,    1.118,2,    0.587,2,    0.078,2,    0.341,2,   2255.0,6,   2351.3,2,   7.5965,       25,2, -999.000,9, -999.000,   -999.0,9,   -999.0, -999.000,9, -999.000, -999.000,9, -999.000
  49NZ20130106,  S04I,   155,  1,     13, X12J13,2,20130130,2211,-65.6962,  34.2473, 3158,   2830.0,2,  -0.1314,2,  -0.13185,2,  34.6587,2,  34.6591,2,-999.0000,9,   234.97,2,   235.45,2,   99.925,   0.0030,2,    0.000,2,  -999.00,9,    0.000,2,   116.56,2,     0.16,    32.42,2,     0.05,     0.00,2,     0.01,     2.25,2,     0.01,    1.191,2,    0.642,2,    0.092,2,    0.379,2,   2254.9,2,   2351.3,6,   7.5973,       25,2, -999.000,9, -999.000,   -999.0,9,   -999.0, -999.000,9, -999.000, -999.000,9, -999.000
  49NZ20130106,  S04I,   155,  1,     12, X12J12,2,20130130,2211,-65.6962,  34.2473, 3158,   3079.2,2,  -0.1675,2,  -0.16765,2,  34.6564,2,  34.6566,2,-999.0000,9,   237.48,2,   238.03,2,   99.893,   0.0043,2,    0.000,2,  -999.00,9,    0.000,2,   116.87,2,     0.16,    32.39,2,     0.05,     0.00,2,     0.01,     2.25,2,     0.01,    1.324,2,    0.670,2,    0.098,2,    0.438,2,   2254.0,2,   2350.7,2,   7.5977,       25,6, -999.000,9, -999.000,   -999.0,9,   -999.0, -999.000,9, -999.000, -999.000,9, -999.000
  49NZ20130106,  S04I,   155,  1,      1, X12J01,2,20130130,2211,-65.6962,  34.2473, 3158,   3206.3,2,  -0.1590,2,  -0.15917,2,  34.6562,2,  34.6563,2,-999.0000,9,   237.58,2,   238.02,2,   99.872,   0.0051,2,    0.000,2,  -999.00,9,    0.000,2,   116.72,2,     0.16,    32.38,2,     0.05,     0.00,2,     0.01,     2.26,2,     0.01,    1.303,2,    0.673,2,    0.099,2,    0.448,2,   2254.6,2,   2350.9,2,   7.5977,       25,2, -999.000,9, -999.000,   -999.0,9,   -999.0, -999.000,9, -999.000, -999.000,9, -999.000