BOTTLE,20220819CCHSIOAMB
EXPOCODE,SECT_ID,STNNBR,CASTNO,SAMPNO,BTLNBR,BTLNBR_FLAG_W,DATE,TIME,LATITUDE,LONGITUDE,DEPTH,CTDPRS,CTDPRS_FLAG_W,CTDTMP,CTDTMP_FLAG_W,SBE35,SBE35_FLAG_W,CTDSAL,CTDSAL_FLAG_W,SALNTY,SALNTY_FLAG_W,DNSSAL,DNSSAL_FLAG_W,CTDOXY,CTDOXY_FLAG_W,OXYGEN,OXYGEN_FLAG_W,CTDXMISS,CTDXMISSCP,CTDXMISS_FLAG_W,CTDFLUOR,CTDFLUOR_FLAG_W,CHLORA,CHLORA_FLAG_W,PAR,PAR_FLAG_W,SILCAT,SILCAT_FLAG_W,SILUNC,NITRAT,NITRAT_FLAG_W,NRAUNC,NITRIT,NITRIT_FLAG_W,NRIUNC,PHSPHT,PHSPHT_FLAG_W,PHPUNC,CFC-11,CFC-11_FLAG_W,CFC-12,CFC-12_FLAG_W,CFC113,CFC113_FLAG_W,SF6,SF6_FLAG_W,TCARBN,TCARBN_FLAG_W,ALKALI,ALKALI_FLAG_W,PH_TOT,PH_TMP,PH_TOT_FLAG_W,DELC13,DELC13_FLAG_W,C13ERR,DELC14,DELC14_FLAG_W,C14ERR,CS-134,CS-134_FLAG_W,CS134ER,CS-137,CS-137_FLAG_W,CS137ER
,,,,,,,,UTC,DEG,DEG,METERS,DBAR,,ITS-90,,ITS-90,,PSS-78,,PSS-78,,G/KG,,UMOL/KG,,UMOL/KG,,%TRANS,/METER,,MG/M^3,,MG/CUM,,UE/SQM/S,,UMOL/KG,,UMOL/KG,UMOL/KG,,UMOL/KG,UMOL/KG,,UMOL/KG,UMOL/KG,,UMOL/KG,PMOL/KG,,PMOL/KG,,PMOL/KG,,FMOL/KG,,UMOL/KG,,UMOL/KG,,,DEG C,,/MILLE,,/MILLE,/MILLE,,/MILLE,MBQ/KG,,MBQ/KG,MBQ/KG,,MBQ/KG
  49NZ20130106,  S04I,   167,  1,     36, X12J36,2,20130202,0703,-65.4975,  37.9980, 4787,      9.9,2,   1.2380,2,   1.23809,2,  33.8767,2,  33.8764,2,-999.0000,9,   334.29,2,   334.96,2,   98.198,   0.0727,2,    0.110,2,  -999.00,9,  128.894,2,    48.12,2,     0.10,    25.78,2,     0.04,     0.27,2,     0.01,     1.82,2,     0.01,    5.620,2,    3.073,2,    0.553,2, -999.000,9,   -999.0,9,   -999.0,9,-999.0000,     -999,9, -999.000,9, -999.000,   -999.0,9,   -999.0, -999.000,9, -999.000, -999.000,9, -999.000
  49NZ20130106,  S04I,   167,  1,     35, X12J35,2,20130202,0703,-65.4975,  37.9980, 4787,     24.8,2,   1.2270,2,   1.22838,2,  33.8772,2,  33.8953,2,-999.0000,9,   333.98,2,   334.61,2,   98.185,   0.0733,2,    0.160,2,  -999.00,9,   59.454,2,    48.29,2,     0.10,    25.78,2,     0.04,     0.26,2,     0.01,     1.83,2,     0.01,    5.564,2,    3.047,2,    0.543,2, -999.000,9,   -999.0,9,   -999.0,9,-999.0000,     -999,9, -999.000,9, -999.000,   -999.0,9,   -999.0, -999.000,9, -999.000, -999.000,9, -999.000
  49NZ20130106,  S04I,   167,  1,     34, X12J34,2,20130202,0703,-65.4975,  37.9980, 4787,     50.1,2,  -1.5816,2,  -1.57827,2,  34.2859,2,  34.2831,2,-999.0000,9,   311.82,2,   315.34,2,   96.023,   0.1623,2,    0.510,2,  -999.00,9,   16.428,2,    57.02,2,     0.11,    27.32,2,     0.04,     0.19,2,     0.01,     1.95,2,     0.01,    4.534,6,    2.462,6,    0.431,6, -999.000,9,   -999.0,9,   -999.0,9,-999.0000,     -999,9, -999.000,9, -999.000,   -999.0,9,   -999.0, -999.000,9, -999.000, -999.000,9, -999.000
  49NZ20130106,  S04I,   167,  1,     33, X12J33,2,20130202,0703,-65.4975,  37.9980, 4787,     74.2,2,  -0.1894,2,  -0.19066,2,  34.4541,2,  34.4518,2,-999.0000,9,   243.80,2,   246.77,2,   97.991,   0.0812,2,    0.440,2,  -999.00,9,    4.302,2,    73.15,2,     0.12,    31.47,2,     0.04,     0.16,2,     0.01,     2.21,2,     0.01,    3.092,2,    1.671,2,    0.288,2, -999.000,9,   -999.0,9,   -999.0,9,-999.0000,     -999,9, -999.000,9, -999.000,   -999.0,9,   -999.0, -999.000,9, -999.000, -999.000,9, -999.000
  49NZ20130106,  S04I,   167,  1,     32, X12J32,2,20130202,0703,-65.4975,  37.9980, 4787,    100.2,2,   1.0023,2,   1.00132,2,  34.6125,2,  34.6125,2,-999.0000,9,   192.66,2,   192.78,2,   99.310,   0.0277,2,    0.180,2,  -999.00,9,    1.244,2,    86.38,2,     0.14,    33.74,2,     0.05,     0.06,2,     0.01,     2.34,2,     0.01,    1.311,2,    0.696,2,    0.106,2, -999.000,9,   -999.0,9,   -999.0,9,-999.0000,     -999,9, -999.000,9, -999.000,   -999.0,9,   -999.0, -999.000,9, -999.000, -999.000,9, -999.000
  49NZ20130106,  S04I,   167,  1,     31, X12J31,2,20130202,0703,-65.4975,  37.9980, 4787,    124.5,2,   1.1154,2,   1.11475,2,  34.6289,2,  34.6286,2,-999.0000,9,   190.17,2,   190.51,2,   99.561,   0.0176,2,    0.120,2,  -999.00,9,    0.429,2,    87.41,2,     0.14,    33.70,2,     0.05,     0.03,2,     0.01,     2.33,2,     0.01,    1.176,2,    0.616,2,    0.102,2, -999.000,9,   -999.0,9,   -999.0,9,-999.0000,     -999,9, -999.000,9, -999.000,   -999.0,9,   -999.0, -999.000,9, -999.000, -999.000,9, -999.000
  49NZ20130106,  S04I,   167,  1,     30, X12J30,2,20130202,0703,-65.4975,  37.9980, 4787,    149.7,2,   1.3501,2,   1.35051,2,  34.6612,2,  34.6604,2,-999.0000,9,   185.26,2,   185.70,2,   99.728,   0.0109,2,    0.060,2,  -999.00,9,    0.163,2,    89.53,2,     0.14,    33.52,2,     0.05,     0.02,2,     0.01,     2.32,2,     0.01,    0.874,2,    0.449,2,    0.077,2, -999.000,9,   -999.0,9,   -999.0,9,-999.0000,     -999,9, -999.000,9, -999.000,   -999.0,9,   -999.0, -999.000,9, -999.000, -999.000,9, -999.000
  49NZ20130106,  S04I,   167,  1,     29, X12J29,2,20130202,0703,-65.4975,  37.9980, 4787,    200.3,2,   1.4302,2,   1.43013,2,  34.6819,2,  34.6813,2,-999.0000,9,   186.68,2,   186.99,2,   99.821,   0.0072,2,    0.020,2,  -999.00,9,    0.005,2,    90.67,2,     0.14,    33.02,2,     0.05,     0.01,2,     0.01,     2.29,2,     0.01,    0.716,2,    0.366,2,    0.061,2, -999.000,9,   -999.0,9,   -999.0,9,-999.0000,     -999,9, -999.000,9, -999.000,   -999.0,9,   -999.0, -999.000,9, -999.000, -999.000,9, -999.000
  49NZ20130106,  S04I,   167,  1,     28, X12J28,2,20130202,0703,-65.4975,  37.9980, 4787,    250.0,2,   1.4344,2,   1.43422,2,  34.6952,2,  34.6946,2,-999.0000,9,   188.16,2,   188.39,2,   99.815,   0.0074,2,    0.010,2,  -999.00,9,    0.000,2,    91.54,2,     0.14,    32.68,2,     0.05,     0.01,2,     0.01,     2.27,2,     0.01,    0.620,2,    0.311,2,    0.054,2, -999.000,9,   -999.0,9,   -999.0,9,-999.0000,     -999,9, -999.000,9, -999.000,   -999.0,9,   -999.0, -999.000,9, -999.000, -999.000,9, -999.000
  49NZ20130106,  S04I,   167,  1,     27, X12J27,2,20130202,0703,-65.4975,  37.9980, 4787,    280.6,2,   1.4112,2,   1.41088,2,  34.6998,2,  34.6996,2,-999.0000,9,   189.62,2,   189.86,2,   99.847,   0.0061,2,    0.010,2,  -999.00,9,    0.000,2,    92.09,2,     0.14,    32.49,2,     0.05,     0.01,2,     0.01,     2.25,2,     0.01,    0.591,2,    0.299,2,    0.052,2, -999.000,9,   -999.0,9,   -999.0,9,-999.0000,     -999,9, -999.000,9, -999.000,   -999.0,9,   -999.0, -999.000,9, -999.000, -999.000,9, -999.000
  49NZ20130106,  S04I,   167,  1,     26, X12J26,2,20130202,0703,-65.4975,  37.9980, 4787,    370.5,2,   1.3303,2,   1.33017,2,  34.7084,2,  34.7079,2,-999.0000,9,   193.12,2,   193.56,2,   99.924,   0.0030,2,    0.010,2,  -999.00,9,    0.000,2,    93.94,2,     0.14,    32.17,2,     0.05,     0.01,2,     0.01,     2.23,2,     0.01,    0.526,2,    0.263,2,    0.042,2, -999.000,9,   -999.0,9,   -999.0,9,-999.0000,     -999,9, -999.000,9, -999.000,   -999.0,9,   -999.0, -999.000,9, -999.000, -999.000,9, -999.000
  49NZ20130106,  S04I,   167,  1,     25, X12J25,2,20130202,0703,-65.4975,  37.9980, 4787,    470.0,2,   1.2330,2,   1.23304,2,  34.7126,2,  34.7120,2,-999.0000,9,   196.06,2,   196.54,2,   99.924,   0.0030,2,    0.000,2,  -999.00,9,    0.000,2,    96.70,2,     0.15,    31.98,2,     0.04,     0.01,2,     0.01,     2.21,2,     0.01,    0.468,2,    0.232,2,    0.036,2, -999.000,9,   -999.0,9,   -999.0,9,-999.0000,     -999,9, -999.000,9, -999.000,   -999.0,9,   -999.0, -999.000,9, -999.000, -999.000,9, -999.000
  49NZ20130106,  S04I,   167,  1,     24, X12J24,2,20130202,0703,-65.4975,  37.9980, 4787,    571.0,2,   1.1317,2,   1.13166,2,  34.7127,2,  34.7127,2,-999.0000,9,   198.22,2,   198.73,2,   99.956,   0.0018,2,    0.000,2,  -999.00,9,    0.000,2,    99.45,2,     0.15,    31.98,2,     0.04,     0.01,2,     0.01,     2.21,2,     0.01,    0.442,6,    0.216,6,    0.037,6, -999.000,9,   -999.0,9,   -999.0,9,-999.0000,     -999,9, -999.000,9, -999.000,   -999.0,9,   -999.0, -999.000,9, -999.000, -999.000,9, -999.000
  49NZ20130106,  S04I,   167,  1,     23, X12J23,2,20130202,0703,-65.4975,  37.9980, 4787,    670.1,2,   1.0324,2,   1.03263,2,  34.7110,2,  34.7107,2,-999.0000,9,   199.78,2,   199.93,2,   99.904,   0.0038,2,    0.000,2,  -999.00,9,    0.000,2,   102.15,2,     0.15,    32.05,2,     0.04,     0.01,2,     0.01,     2.22,2,     0.01,    0.422,2,    0.203,2,    0.034,2, -999.000,9,   -999.0,9,   -999.0,9,-999.0000,     -999,9, -999.000,9, -999.000,   -999.0,9,   -999.0, -999.000,9, -999.000, -999.000,9, -999.000
  49NZ20130106,  S04I,   167,  1,     22, X12J22,2,20130202,0703,-65.4975,  37.9980, 4787,    769.5,2,   0.9412,2,   0.94120,2,  34.7085,2,  34.7082,2,-999.0000,9,   201.02,2,   201.03,2,   99.930,   0.0028,2,    0.000,2,  -999.00,9,    0.000,2,   104.66,2,     0.15,    32.15,2,     0.05,     0.01,2,     0.01,     2.23,2,     0.01,    0.411,2,    0.198,2,    0.030,2, -999.000,9,   -999.0,9,   -999.0,9,-999.0000,     -999,9, -999.000,9, -999.000,   -999.0,9,   -999.0, -999.000,9, -999.000, -999.000,9, -999.000
  49NZ20130106,  S04I,   167,  1,     21, X12J21,2,20130202,0703,-65.4975,  37.9980, 4787,    870.5,2,   0.8532,2,   0.85314,2,  34.7054,2,  34.7054,2,-999.0000,9,   202.22,2,   202.40,2,   99.958,   0.0017,2,    0.000,2,  -999.00,9,    0.000,2,   107.05,2,     0.15,    32.32,2,     0.05,     0.01,2,     0.01,     2.24,2,     0.01,    0.405,2,    0.191,2,    0.027,2, -999.000,9,   -999.0,9,   -999.0,9,-999.0000,     -999,9, -999.000,9, -999.000,   -999.0,9,   -999.0, -999.000,9, -999.000, -999.000,9, -999.000
  49NZ20130106,  S04I,   167,  1,     20, X12J20,2,20130202,0703,-65.4975,  37.9980, 4787,    959.6,2,   0.7761,2,   0.77598,2,  34.7020,2,  34.7021,2,-999.0000,9,   202.84,2,   202.88,2,   99.977,   0.0009,2,    0.000,2,  -999.00,9,    0.000,2,   109.40,2,     0.16,    32.45,2,     0.05,     0.01,2,     0.01,     2.26,2,     0.01,    0.398,2,    0.187,2,    0.027,2, -999.000,9,   -999.0,9,   -999.0,9,-999.0000,     -999,9, -999.000,9, -999.000,   -999.0,9,   -999.0, -999.000,9, -999.000, -999.000,9, -999.000
  49NZ20130106,  S04I,   167,  1,     19, X12J19,2,20130202,0703,-65.4975,  37.9980, 4787,   1169.9,2,   0.6330,2,   0.63300,2,  34.6962,2,  34.6962,2,-999.0000,9,   204.07,2,   204.25,2,   99.985,   0.0006,2,    0.000,2,  -999.00,9,    0.000,2,   113.70,2,     0.16,    32.75,2,     0.05,     0.00,2,     0.01,     2.28,2,     0.01,    0.383,6,    0.176,6,    0.021,6, -999.000,9,   -999.0,9,   -999.0,9,-999.0000,     -999,9, -999.000,9, -999.000,   -999.0,9,   -999.0, -999.000,9, -999.000, -999.000,9, -999.000
  49NZ20130106,  S04I,   167,  1,     18, X12J18,2,20130202,0703,-65.4975,  37.9980, 4787,   1419.9,2,   0.5014,2,   0.50139,2,  34.6904,2,  34.6903,2,-999.0000,9,   205.82,2,   205.96,2,   99.992,   0.0003,2,    0.000,2,  -999.00,9,    0.000,2,   117.87,2,     0.16,    32.97,2,     0.05,     0.00,2,     0.01,     2.30,2,     0.01,    0.347,2,    0.161,2,    0.017,2, -999.000,9,   -999.0,9,   -999.0,9,-999.0000,     -999,9, -999.000,9, -999.000,   -999.0,9,   -999.0, -999.000,9, -999.000, -999.000,9, -999.000
  49NZ20130106,  S04I,   167,  1,     17, X12J17,2,20130202,0703,-65.4975,  37.9980, 4787,   1669.6,2,   0.3957,2,   0.39575,2,  34.6856,2,  34.6852,2,-999.0000,9,   208.46,2,   208.59,2,  100.002,  -0.0001,2,    0.000,2,  -999.00,9,    0.000,2,   120.78,2,     0.17,    33.08,2,     0.05,     0.00,2,     0.01,     2.31,2,     0.01,    0.330,2,    0.152,2,    0.012,2, -999.000,9,   -999.0,9,   -999.0,9,-999.0000,     -999,9, -999.000,9, -999.000,   -999.0,9,   -999.0, -999.000,9, -999.000, -999.000,9, -999.000
  49NZ20130106,  S04I,   167,  1,     16, X12J16,2,20130202,0703,-65.4975,  37.9980, 4787,   1920.3,2,   0.2982,2,   0.29825,2,  34.6809,2,  34.6805,2,-999.0000,9,   211.40,2,   211.58,2,  100.005,  -0.0002,2,    0.000,2,  -999.00,9,    0.000,2,   122.67,2,     0.17,    33.14,2,     0.05,     0.00,2,     0.01,     2.31,2,     0.01,    0.336,2,    0.150,2,    0.014,2, -999.000,9,   -999.0,9,   -999.0,9,-999.0000,     -999,9, -999.000,9, -999.000,   -999.0,9,   -999.0, -999.000,9, -999.000, -999.000,9, -999.000
  49NZ20130106,  S04I,   167,  1,     15, X12J15,2,20130202,0703,-65.4975,  37.9980, 4787,   2170.0,2,   0.2013,2,   0.20136,2,  34.6764,2,  34.6760,2,-999.0000,9,   214.94,2,   215.19,2,   99.992,   0.0003,2,    0.000,2,  -999.00,9,    0.000,2,   123.79,2,     0.17,    33.13,2,     0.05,     0.00,2,     0.01,     2.31,2,     0.01,    0.336,2,    0.150,2,    0.015,2, -999.000,9,   -999.0,9,   -999.0,9,-999.0000,     -999,9, -999.000,9, -999.000,   -999.0,9,   -999.0, -999.000,9, -999.000, -999.000,9, -999.000
  49NZ20130106,  S04I,   167,  1,     14, X12J14,2,20130202,0703,-65.4975,  37.9980, 4787,   2419.5,2,   0.1122,2,   0.11225,2,  34.6721,2,  34.6722,2,-999.0000,9,   218.92,2,   219.05,2,  100.009,  -0.0004,2,    0.000,2,  -999.00,9,    0.000,2,   124.50,2,     0.17,    33.05,2,     0.05,     0.00,2,     0.01,     2.29,2,     0.01,    0.349,2,    0.159,2,    0.015,2, -999.000,9,   -999.0,9,   -999.0,9,-999.0000,     -999,9, -999.000,9, -999.000,   -999.0,9,   -999.0, -999.000,9, -999.000, -999.000,9, -999.000
  49NZ20130106,  S04I,   167,  1,     13, X12J13,2,20130202,0703,-65.4975,  37.9980, 4787,   2669.8,2,   0.0329,2,   0.03286,2,  34.6685,2,  34.6680,2,-999.0000,9,   222.86,2,   222.86,2,  100.009,  -0.0004,2,    0.000,2,  -999.00,9,    0.000,2,   124.81,2,     0.17,    32.99,2,     0.05,     0.00,2,     0.01,     2.29,2,     0.01,    0.369,2,    0.170,2,    0.017,2, -999.000,9,   -999.0,9,   -999.0,9,-999.0000,     -999,9, -999.000,9, -999.000,   -999.0,9,   -999.0, -999.000,9, -999.000, -999.000,9, -999.000
  49NZ20130106,  S04I,   167,  1,     12, X12J12,2,20130202,0703,-65.4975,  37.9980, 4787,   2919.2,2,  -0.0331,2,  -0.03319,2,  34.6654,2,  34.6652,2,-999.0000,9,   226.52,2,   226.46,2,  100.009,  -0.0004,2,    0.000,2,  -999.00,9,    0.000,2,   125.16,2,     0.17,    32.97,2,     0.05,     0.00,2,     0.01,     2.29,2,     0.01,    0.403,2,    0.192,2,    0.019,2, -999.000,9,   -999.0,9,   -999.0,9,-999.0000,     -999,9, -999.000,9, -999.000,   -999.0,9,   -999.0, -999.000,9, -999.000, -999.000,9, -999.000
  49NZ20130106,  S04I,   167,  1,     11, X12J11,2,20130202,0703,-65.4975,  37.9980, 4787,   3170.6,2,  -0.0885,2,  -0.08851,2,  34.6626,2,  34.6623,2,-999.0000,9,   229.86,2,   229.73,2,  100.002,  -0.0001,2,    0.000,2,  -999.00,9,    0.000,2,   125.05,2,     0.17,    32.90,2,     0.05,     0.00,2,     0.01,     2.29,2,     0.01,    0.453,2,    0.214,2,    0.022,2, -999.000,9,   -999.0,9,   -999.0,9,-999.0000,     -999,9, -999.000,9, -999.000,   -999.0,9,   -999.0, -999.000,9, -999.000, -999.000,9, -999.000
  49NZ20130106,  S04I,   167,  1,     10, X12J10,2,20130202,0703,-65.4975,  37.9980, 4787,   3419.5,2,  -0.1374,2,  -0.13739,2,  34.6604,2,  34.6596,2,-999.0000,9,   232.85,2,   232.81,2,   99.990,   0.0004,2,   -0.000,2,  -999.00,9,    0.000,2,   125.07,2,     0.17,    32.82,2,     0.05,     0.00,2,     0.01,     2.29,2,     0.01,    0.489,2,    0.231,2,    0.025,2, -999.000,9,   -999.0,9,   -999.0,9,-999.0000,     -999,9, -999.000,9, -999.000,   -999.0,9,   -999.0, -999.000,9, -999.000, -999.000,9, -999.000
  49NZ20130106,  S04I,   167,  1,      9, X12J09,2,20130202,0703,-65.4975,  37.9980, 4787,   3671.4,2,  -0.1750,2,  -0.17494,2,  34.6584,2,  34.6576,2,-999.0000,9,   235.55,2,   235.38,2,   99.981,   0.0008,2,    0.000,2,  -999.00,9,    0.000,2,   125.06,2,     0.17,    32.76,2,     0.05,     0.00,2,     0.01,     2.28,2,     0.01,    0.511,2,    0.246,2,    0.032,2, -999.000,9,   -999.0,9,   -999.0,9,-999.0000,     -999,9, -999.000,9, -999.000,   -999.0,9,   -999.0, -999.000,9, -999.000, -999.000,9, -999.000
  49NZ20130106,  S04I,   167,  1,      8, X12J08,2,20130202,0703,-65.4975,  37.9980, 4787,   3919.9,2,  -0.2088,2,  -0.20883,2,  34.6562,2,  34.6554,2,-999.0000,9,   238.24,2,   238.19,2,   99.979,   0.0008,2,    0.000,2,  -999.00,9,    0.000,2,   124.87,2,     0.17,    32.62,2,     0.05,     0.00,2,     0.01,     2.27,2,     0.01,    0.584,6,    0.286,6,    0.034,6, -999.000,9,   -999.0,9,   -999.0,9,-999.0000,     -999,9, -999.000,9, -999.000,   -999.0,9,   -999.0, -999.000,9, -999.000, -999.000,9, -999.000
  49NZ20130106,  S04I,   167,  1,      7, X12J07,2,20130202,0703,-65.4975,  37.9980, 4787,   4170.4,2,  -0.2353,2,  -0.23535,2,  34.6543,2,  34.6539,2,-999.0000,9,   240.52,2,   240.56,2,   99.973,   0.0011,2,   -0.000,2,  -999.00,9,    0.000,2,   125.89,2,     0.17,    32.66,2,     0.05,     0.00,2,     0.01,     2.28,2,     0.01,    0.624,2,    0.307,2,    0.034,2, -999.000,9,   -999.0,9,   -999.0,9,-999.0000,     -999,9, -999.000,9, -999.000,   -999.0,9,   -999.0, -999.000,9, -999.000, -999.000,9, -999.000
  49NZ20130106,  S04I,   167,  1,      6, X12J06,2,20130202,0703,-65.4975,  37.9980, 4787,   4420.3,2,  -0.2508,2,  -0.25078,2,  34.6529,2,  34.6525,2,-999.0000,9,   241.92,2,   242.11,2,   99.956,   0.0018,2,   -0.000,2,  -999.00,9,    0.000,2,   127.71,2,     0.17,    32.66,2,     0.05,     0.00,2,     0.01,     2.28,2,     0.01,    0.630,2,    0.310,2,    0.041,2, -999.000,9,   -999.0,9,   -999.0,9,-999.0000,     -999,9, -999.000,9, -999.000,   -999.0,9,   -999.0, -999.000,9, -999.000, -999.000,9, -999.000
  49NZ20130106,  S04I,   167,  1,      5, X12J05,2,20130202,0703,-65.4975,  37.9980, 4787,   4669.0,2,  -0.2666,2,  -0.26655,2,  34.6515,2,  34.6514,2,-999.0000,9,   242.81,2,   243.08,2,   99.938,   0.0025,2,    0.000,2,  -999.00,9,    0.000,2,   132.50,2,     0.18,    32.68,2,     0.05,     0.00,2,     0.01,     2.28,2,     0.01,    0.640,2,    0.315,2,    0.035,2, -999.000,9,   -999.0,9,   -999.0,9,-999.0000,     -999,9, -999.000,9, -999.000,   -999.0,9,   -999.0, -999.000,9, -999.000, -999.000,9, -999.000
  49NZ20130106,  S04I,   167,  1,      2, X12J02,2,20130202,0703,-65.4975,  37.9980, 4787,     56.9,2,  -1.5690,2,  -1.56988,2,  34.2998,2,  34.3060,2,-999.0000,9,   308.29,2,   307.51,2,   96.394,   0.1469,2,    0.540,2,     0.43,2,   10.595,2,    59.39,2,     0.11,    28.12,2,     0.04,     0.19,2,     0.01,     2.00,2,     0.01, -999.000,9, -999.000,9, -999.000,9, -999.000,9,   -999.0,9,   -999.0,9,-999.0000,     -999,9, -999.000,9, -999.000,   -999.0,9,   -999.0, -999.000,9, -999.000, -999.000,9, -999.000
  49NZ20130106,  S04I,   167,  1,      1, X12J01,2,20130202,0703,-65.4975,  37.9980, 4787,   4878.3,2,  -0.2774,2,  -0.27741,2,  34.6507,2,  34.6507,2,-999.0000,9,   240.30,2,   240.83,2,   99.523,   0.0191,2,    0.000,2,  -999.00,9,    0.000,2,   142.30,2,     0.19,    32.94,2,     0.05,     0.00,2,     0.01,     2.30,2,     0.01,    0.529,2,    0.248,2,    0.026,2, -999.000,9,   -999.0,9,   -999.0,9,-999.0000,     -999,9, -999.000,9, -999.000,   -999.0,9,   -999.0, -999.000,9, -999.000, -999.000,9, -999.000