BOTTLE,20220819CCHSIOAMB
EXPOCODE,SECT_ID,STNNBR,CASTNO,SAMPNO,BTLNBR,BTLNBR_FLAG_W,DATE,TIME,LATITUDE,LONGITUDE,DEPTH,CTDPRS,CTDPRS_FLAG_W,CTDTMP,CTDTMP_FLAG_W,SBE35,SBE35_FLAG_W,CTDSAL,CTDSAL_FLAG_W,SALNTY,SALNTY_FLAG_W,DNSSAL,DNSSAL_FLAG_W,CTDOXY,CTDOXY_FLAG_W,OXYGEN,OXYGEN_FLAG_W,CTDXMISS,CTDXMISSCP,CTDXMISS_FLAG_W,CTDFLUOR,CTDFLUOR_FLAG_W,CHLORA,CHLORA_FLAG_W,PAR,PAR_FLAG_W,SILCAT,SILCAT_FLAG_W,SILUNC,NITRAT,NITRAT_FLAG_W,NRAUNC,NITRIT,NITRIT_FLAG_W,NRIUNC,PHSPHT,PHSPHT_FLAG_W,PHPUNC,CFC-11,CFC-11_FLAG_W,CFC-12,CFC-12_FLAG_W,CFC113,CFC113_FLAG_W,SF6,SF6_FLAG_W,TCARBN,TCARBN_FLAG_W,ALKALI,ALKALI_FLAG_W,PH_TOT,PH_TMP,PH_TOT_FLAG_W,DELC13,DELC13_FLAG_W,C13ERR,DELC14,DELC14_FLAG_W,C14ERR,CS-134,CS-134_FLAG_W,CS134ER,CS-137,CS-137_FLAG_W,CS137ER
,,,,,,,,UTC,DEG,DEG,METERS,DBAR,,ITS-90,,ITS-90,,PSS-78,,PSS-78,,G/KG,,UMOL/KG,,UMOL/KG,,%TRANS,/METER,,MG/M^3,,MG/CUM,,UE/SQM/S,,UMOL/KG,,UMOL/KG,UMOL/KG,,UMOL/KG,UMOL/KG,,UMOL/KG,UMOL/KG,,UMOL/KG,PMOL/KG,,PMOL/KG,,PMOL/KG,,FMOL/KG,,UMOL/KG,,UMOL/KG,,,DEG C,,/MILLE,,/MILLE,/MILLE,,/MILLE,MBQ/KG,,MBQ/KG,MBQ/KG,,MBQ/KG
  49NZ20130106,  S04I,   117,  1,     36, X12J36,2,20130120,0458,-61.8018,  74.9750, 3958,     10.3,2,   0.7812,2,   0.78184,2,  33.6212,2,  33.6212,2,-999.0000,9,   343.60,2,   343.61,2,   97.126,   0.1166,2,    0.170,2,  -999.00,9,  146.344,2,    37.33,2,     0.09,    26.71,2,     0.04,     0.26,2,     0.01,     1.84,2,     0.01,    5.785,2,    3.197,2,    0.518,2, -999.000,9,   -999.0,9,   -999.0,9,-999.0000,     -999,9, -999.000,9, -999.000,   -999.0,9,   -999.0, -999.000,9, -999.000, -999.000,9, -999.000
  49NZ20130106,  S04I,   117,  1,     35, X12J35,2,20130120,0458,-61.8018,  74.9750, 3958,     25.6,2,   0.4804,2,   0.47683,2,  33.6307,2,  33.6298,2,-999.0000,9,   344.89,2,   344.92,2,   96.821,   0.1292,2,    0.290,2,  -999.00,9,   56.431,2,    37.81,2,     0.09,    26.83,2,     0.04,     0.24,2,     0.01,     1.85,2,     0.01,    5.795,2,    3.191,2,    0.539,2, -999.000,9,   -999.0,9,   -999.0,9,-999.0000,     -999,9, -999.000,9, -999.000,   -999.0,9,   -999.0, -999.000,9, -999.000, -999.000,9, -999.000
  49NZ20130106,  S04I,   117,  1,     34, X12J34,2,20130120,0458,-61.8018,  74.9750, 3958,     50.3,2,  -1.1821,2,  -1.18472,2,  33.8799,2,  33.8843,2,-999.0000,9,   333.76,2,   333.88,2,   96.187,   0.1555,2,    0.460,2,  -999.00,9,   16.806,2,    40.12,2,     0.09,    27.66,2,     0.04,     0.14,2,     0.01,     1.91,2,     0.01,    5.246,6,    2.872,6,    0.492,6, -999.000,9,   -999.0,9,   -999.0,9,-999.0000,     -999,9, -999.000,9, -999.000,   -999.0,9,   -999.0, -999.000,9, -999.000, -999.000,9, -999.000
  49NZ20130106,  S04I,   117,  1,     33, X12J33,2,20130120,0458,-61.8018,  74.9750, 3958,     74.9,2,  -1.5960,2,  -1.59554,2,  34.0225,2,  34.0245,2,-999.0000,9,   310.08,2,   308.98,2,   97.499,   0.1013,2,    0.590,2,  -999.00,9,    5.538,2,    44.89,2,     0.10,    29.31,2,     0.04,     0.15,2,     0.01,     2.04,2,     0.01,    4.752,2,    2.597,2,    0.456,2, -999.000,9,   -999.0,9,   -999.0,9,-999.0000,     -999,9, -999.000,9, -999.000,   -999.0,9,   -999.0, -999.000,9, -999.000, -999.000,9, -999.000
  49NZ20130106,  S04I,   117,  1,     32, X12J32,2,20130120,0458,-61.8018,  74.9750, 3958,    101.7,2,   0.0767,2,   0.07400,2,  34.2553,2,  34.2532,2,-999.0000,9,   239.36,2,   241.15,2,   98.744,   0.0506,2,    0.340,2,  -999.00,9,    1.428,2,    59.62,2,     0.11,    32.97,2,     0.05,     0.16,2,     0.01,     2.30,2,     0.01,    3.213,2,    1.743,2,    0.292,2, -999.000,9,   -999.0,9,   -999.0,9,-999.0000,     -999,9, -999.000,9, -999.000,   -999.0,9,   -999.0, -999.000,9, -999.000, -999.000,9, -999.000
  49NZ20130106,  S04I,   117,  1,     31, X12J31,2,20130120,0458,-61.8018,  74.9750, 3958,    125.2,2,   1.4610,2,   1.45976,2,  34.4602,2,  34.4602,2,-999.0000,9,   185.76,2,   185.63,2,   99.544,   0.0183,2,    0.130,2,  -999.00,9,    0.471,2,    73.09,2,     0.12,    35.49,2,     0.05,     0.05,2,     0.01,     2.47,2,     0.01,    1.696,2,    0.904,2,    0.132,2, -999.000,9,   -999.0,9,   -999.0,9,-999.0000,     -999,9, -999.000,9, -999.000,   -999.0,9,   -999.0, -999.000,9, -999.000, -999.000,9, -999.000
  49NZ20130106,  S04I,   117,  1,     30, X12J30,2,20130120,0458,-61.8018,  74.9750, 3958,    150.4,2,   1.7304,2,   1.73005,2,  34.5254,2,  34.5247,2,-999.0000,9,   175.17,2,   175.17,2,   99.732,   0.0107,2,    0.040,2,  -999.00,9,    0.166,2,    77.23,2,     0.13,    35.62,2,     0.05,     0.02,2,     0.01,     2.47,2,     0.01,    1.269,2,    0.667,2,    0.100,2, -999.000,9,   -999.0,9,   -999.0,9,-999.0000,     -999,9, -999.000,9, -999.000,   -999.0,9,   -999.0, -999.000,9, -999.000, -999.000,9, -999.000
  49NZ20130106,  S04I,   117,  1,     29, X12J29,2,20130120,0458,-61.8018,  74.9750, 3958,    199.5,2,   1.8833,2,   1.88315,2,  34.5804,2,  34.5798,2,-999.0000,9,   170.59,2,   170.63,2,   99.796,   0.0082,2,    0.010,2,  -999.00,9,    0.003,2,    80.24,2,     0.13,    35.18,2,     0.05,     0.02,2,     0.01,     2.44,2,     0.01,    0.951,2,    0.493,2,    0.071,2, -999.000,9,   -999.0,9,   -999.0,9,-999.0000,     -999,9, -999.000,9, -999.000,   -999.0,9,   -999.0, -999.000,9, -999.000, -999.000,9, -999.000
  49NZ20130106,  S04I,   117,  1,     28, X12J28,2,20130120,0458,-61.8018,  74.9750, 3958,    249.4,2,   1.9506,2,   1.95062,2,  34.6187,2,  34.6183,2,-999.0000,9,   170.29,2,   170.36,2,   99.842,   0.0063,2,    0.000,2,  -999.00,9,    0.000,2,    81.63,2,     0.13,    34.66,2,     0.05,     0.01,2,     0.01,     2.40,2,     0.01,    0.744,2,    0.384,2,    0.061,2, -999.000,9,   -999.0,9,   -999.0,9,-999.0000,     -999,9, -999.000,9, -999.000,   -999.0,9,   -999.0, -999.000,9, -999.000, -999.000,9, -999.000
  49NZ20130106,  S04I,   117,  1,     27, X12J27,2,20130120,0458,-61.8018,  74.9750, 3958,    301.6,2,   1.9724,2,   1.97228,2,  34.6446,2,  34.6447,2,-999.0000,9,   171.75,2,   171.85,2,   99.859,   0.0056,2,    0.000,2,  -999.00,9,    0.000,2,    82.33,2,     0.13,    34.15,2,     0.05,     0.01,2,     0.01,     2.36,2,     0.01,    0.623,2,    0.319,2,    0.045,2, -999.000,9,   -999.0,9,   -999.0,9,-999.0000,     -999,9, -999.000,9, -999.000,   -999.0,9,   -999.0, -999.000,9, -999.000, -999.000,9, -999.000
  49NZ20130106,  S04I,   117,  1,     26, X12J26,2,20130120,0458,-61.8018,  74.9750, 3958,    400.1,2,   1.9640,2,   1.96384,2,  34.6802,2,  34.6802,2,-999.0000,9,   176.63,2,   176.77,2,   99.910,   0.0036,2,    0.000,2,  -999.00,9,    0.000,2,    82.70,2,     0.13,    33.12,2,     0.05,     0.01,2,     0.01,     2.28,2,     0.01,    0.482,2,    0.244,2,    0.045,2, -999.000,9,   -999.0,9,   -999.0,9,-999.0000,     -999,9, -999.000,9, -999.000,   -999.0,9,   -999.0, -999.000,9, -999.000, -999.000,9, -999.000
  49NZ20130106,  S04I,   117,  1,     25, X12J25,2,20130120,0458,-61.8018,  74.9750, 3958,    500.5,2,   1.9193,2,   1.91923,2,  34.7087,2,  34.7089,2,-999.0000,9,   182.97,2,   182.99,2,   99.917,   0.0033,2,    0.000,2,  -999.00,9,    0.000,2,    82.91,2,     0.13,    32.11,2,     0.05,     0.01,2,     0.01,     2.21,2,     0.01,    0.386,2,    0.192,2,    0.033,2, -999.000,9,   -999.0,9,   -999.0,9,-999.0000,     -999,9, -999.000,9, -999.000,   -999.0,9,   -999.0, -999.000,9, -999.000, -999.000,9, -999.000
  49NZ20130106,  S04I,   117,  1,     24, X12J24,2,20130120,0458,-61.8018,  74.9750, 3958,    602.6,2,   1.8697,2,   1.86968,2,  34.7245,2,  34.7248,2,-999.0000,9,   187.76,2,   187.90,2,   99.938,   0.0025,2,    0.000,2,  -999.00,9,    0.000,2,    83.61,2,     0.13,    31.48,2,     0.04,     0.01,2,     0.01,     2.18,2,     0.01,    0.330,6,    0.170,6,    0.028,6, -999.000,9,   -999.0,9,   -999.0,9,-999.0000,     -999,9, -999.000,9, -999.000,   -999.0,9,   -999.0, -999.000,9, -999.000, -999.000,9, -999.000
  49NZ20130106,  S04I,   117,  1,     23, X12J23,2,20130120,0458,-61.8018,  74.9750, 3958,    701.8,2,   1.8058,2,   1.80559,2,  34.7327,2,  34.7330,2,-999.0000,9,   191.21,2,   191.40,2,   99.929,   0.0028,2,    0.000,2,  -999.00,9,    0.000,2,    84.69,2,     0.13,    31.22,2,     0.04,     0.01,2,     0.01,     2.16,2,     0.01,    0.304,2,    0.150,2,    0.027,2, -999.000,9,   -999.0,9,   -999.0,9,-999.0000,     -999,9, -999.000,9, -999.000,   -999.0,9,   -999.0, -999.000,9, -999.000, -999.000,9, -999.000
  49NZ20130106,  S04I,   117,  1,     22, X12J22,2,20130120,0458,-61.8018,  74.9750, 3958,    801.5,2,   1.7408,2,   1.74058,2,  34.7402,2,  34.7405,2,-999.0000,9,   194.91,2,   195.01,2,   99.936,   0.0026,2,    0.000,2,  -999.00,9,    0.000,2,    85.58,2,     0.14,    30.82,2,     0.04,     0.01,2,     0.01,     2.13,2,     0.01,    0.273,2,    0.135,2,    0.021,2, -999.000,9,   -999.0,9,   -999.0,9,-999.0000,     -999,9, -999.000,9, -999.000,   -999.0,9,   -999.0, -999.000,9, -999.000, -999.000,9, -999.000
  49NZ20130106,  S04I,   117,  1,     21, X12J21,2,20130120,0458,-61.8018,  74.9750, 3958,    899.7,2,   1.6634,2,   1.66341,2,  34.7437,2,  34.7440,2,-999.0000,9,   197.72,2,   197.82,2,   99.957,   0.0017,2,    0.000,2,  -999.00,9,    0.000,2,    87.08,2,     0.14,    30.66,2,     0.04,     0.01,2,     0.01,     2.12,2,     0.01,    0.253,2,    0.122,2,    0.027,2, -999.000,9,   -999.0,9,   -999.0,9,-999.0000,     -999,9, -999.000,9, -999.000,   -999.0,9,   -999.0, -999.000,9, -999.000, -999.000,9, -999.000
  49NZ20130106,  S04I,   117,  1,     20, X12J20,2,20130120,0458,-61.8018,  74.9750, 3958,   1000.7,2,   1.5821,2,   1.58162,2,  34.7451,2,  34.7455,2,-999.0000,9,   199.81,2,   200.06,2,   99.968,   0.0013,2,   -0.000,2,  -999.00,9,    0.000,2,    88.83,2,     0.14,    30.53,2,     0.04,     0.01,2,     0.01,     2.11,2,     0.01,    0.232,2,    0.111,2,    0.015,2, -999.000,9,   -999.0,9,   -999.0,9,-999.0000,     -999,9, -999.000,9, -999.000,   -999.0,9,   -999.0, -999.000,9, -999.000, -999.000,9, -999.000
  49NZ20130106,  S04I,   117,  1,     19, X12J19,2,20130120,0458,-61.8018,  74.9750, 3958,   1250.8,2,   1.3341,2,   1.33414,2,  34.7370,2,  34.7375,2,-999.0000,9,   202.93,2,   203.06,2,   99.980,   0.0008,2,   -0.000,2,  -999.00,9,    0.000,2,    95.31,2,     0.14,    30.86,2,     0.04,     0.01,2,     0.01,     2.13,2,     0.01,    0.228,6,    0.107,6,    0.013,6, -999.000,9,   -999.0,9,   -999.0,9,-999.0000,     -999,9, -999.000,9, -999.000,   -999.0,9,   -999.0, -999.000,9, -999.000, -999.000,9, -999.000
  49NZ20130106,  S04I,   117,  1,     18, X12J18,2,20130120,0458,-61.8018,  74.9750, 3958,   1500.2,2,   1.0953,2,   1.09535,2,  34.7243,2,  34.7246,2,-999.0000,9,   204.49,2,   204.70,2,   99.972,   0.0011,2,   -0.000,2,  -999.00,9,    0.000,2,   102.32,2,     0.15,    31.42,2,     0.04,     0.01,2,     0.01,     2.18,2,     0.01,    0.243,2,    0.115,2,    0.016,2, -999.000,9,   -999.0,9,   -999.0,9,-999.0000,     -999,9, -999.000,9, -999.000,   -999.0,9,   -999.0, -999.000,9, -999.000, -999.000,9, -999.000
  49NZ20130106,  S04I,   117,  1,     17, X12J17,2,20130120,0458,-61.8018,  74.9750, 3958,   1749.4,2,   0.8884,2,   0.88838,2,  34.7120,2,  34.7124,2,-999.0000,9,   205.81,2,   205.94,2,   99.965,   0.0014,2,   -0.000,2,  -999.00,9,    0.000,2,   108.37,2,     0.16,    31.93,2,     0.04,     0.01,2,     0.01,     2.21,2,     0.01,    0.266,2,    0.123,2,    0.017,2, -999.000,9,   -999.0,9,   -999.0,9,-999.0000,     -999,9, -999.000,9, -999.000,   -999.0,9,   -999.0, -999.000,9, -999.000, -999.000,9, -999.000
  49NZ20130106,  S04I,   117,  1,     16, X12J16,2,20130120,0458,-61.8018,  74.9750, 3958,   1999.7,2,   0.7094,2,   0.70930,2,  34.7018,2,  34.7020,2,-999.0000,9,   207.30,2,   207.68,2,   99.957,   0.0017,2,   -0.000,2,  -999.00,9,    0.000,2,   113.63,2,     0.16,    32.29,2,     0.05,     0.01,2,     0.01,     2.23,2,     0.01,    0.263,2,    0.122,2,    0.014,2, -999.000,9,   -999.0,9,   -999.0,9,-999.0000,     -999,9, -999.000,9, -999.000,   -999.0,9,   -999.0, -999.000,9, -999.000, -999.000,9, -999.000
  49NZ20130106,  S04I,   117,  1,     15, X12J15,2,20130120,0458,-61.8018,  74.9750, 3958,   2251.4,2,   0.5446,2,   0.54467,2,  34.6924,2,  34.6924,2,-999.0000,9,   209.22,2,   209.58,2,   99.965,   0.0014,2,   -0.000,2,  -999.00,9,    0.000,2,   118.63,2,     0.17,    32.69,2,     0.05,     0.01,2,     0.01,     2.26,2,     0.01,    0.274,2,    0.124,2,    0.016,2, -999.000,9,   -999.0,9,   -999.0,9,-999.0000,     -999,9, -999.000,9, -999.000,   -999.0,9,   -999.0, -999.000,9, -999.000, -999.000,9, -999.000
  49NZ20130106,  S04I,   117,  1,     14, X12J14,2,20130120,0458,-61.8018,  74.9750, 3958,   2499.5,2,   0.4249,2,   0.42500,2,  34.6860,2,  34.6858,2,-999.0000,9,   211.98,2,   212.56,2,   99.965,   0.0014,2,   -0.000,2,  -999.00,9,    0.000,2,   121.87,2,     0.17,    32.85,2,     0.05,     0.01,2,     0.01,     2.28,2,     0.01,    0.267,2,    0.123,2,    0.002,2, -999.000,9,   -999.0,9,   -999.0,9,-999.0000,     -999,9, -999.000,9, -999.000,   -999.0,9,   -999.0, -999.000,9, -999.000, -999.000,9, -999.000
  49NZ20130106,  S04I,   117,  1,     13, X12J13,2,20130120,0458,-61.8018,  74.9750, 3958,   2750.2,2,   0.3193,2,   0.31934,2,  34.6811,2,  34.6811,2,-999.0000,9,   215.05,2,   215.63,2,   99.957,   0.0017,2,   -0.000,2,  -999.00,9,    0.000,2,   125.03,2,     0.17,    32.89,2,     0.05,     0.01,2,     0.01,     2.28,2,     0.01,    0.244,2,    0.113,2,    0.004,2, -999.000,9,   -999.0,9,   -999.0,9,-999.0000,     -999,9, -999.000,9, -999.000,   -999.0,9,   -999.0, -999.000,9, -999.000, -999.000,9, -999.000
  49NZ20130106,  S04I,   117,  1,     12, X12J12,2,20130120,0458,-61.8018,  74.9750, 3958,   3000.8,2,   0.2262,2,   0.22604,2,  34.6762,2,  34.6759,2,-999.0000,9,   218.27,2,   218.87,2,   99.953,   0.0019,2,   -0.000,2,  -999.00,9,    0.000,2,   126.35,2,     0.17,    32.89,2,     0.05,     0.01,2,     0.01,     2.28,2,     0.01,    0.289,2,    0.136,2,    0.008,2, -999.000,9,   -999.0,9,   -999.0,9,-999.0000,     -999,9, -999.000,9, -999.000,   -999.0,9,   -999.0, -999.000,9, -999.000, -999.000,9, -999.000
  49NZ20130106,  S04I,   117,  1,     11, X12J11,2,20130120,0458,-61.8018,  74.9750, 3958,   3250.5,2,   0.1217,2,   0.12172,2,  34.6712,2,  34.6711,2,-999.0000,9,   222.58,2,   223.06,2,   99.946,   0.0022,2,   -0.000,2,  -999.00,9,    0.000,2,   127.01,2,     0.17,    32.90,2,     0.05,     0.01,2,     0.01,     2.28,2,     0.01,    0.373,2,    0.180,2,    0.021,2, -999.000,9,   -999.0,9,   -999.0,9,-999.0000,     -999,9, -999.000,9, -999.000,   -999.0,9,   -999.0, -999.000,9, -999.000, -999.000,9, -999.000
  49NZ20130106,  S04I,   117,  1,     10, X12J10,2,20130120,0458,-61.8018,  74.9750, 3958,   3500.1,2,   0.0405,2,   0.04040,2,  34.6674,2,  34.6672,2,-999.0000,9,   226.80,2,   227.18,2,   99.919,   0.0032,2,   -0.010,2,  -999.00,9,    0.000,2,   126.70,2,     0.17,    32.81,2,     0.05,     0.01,2,     0.01,     2.28,2,     0.01,    0.564,2,    0.280,2,    0.036,2, -999.000,9,   -999.0,9,   -999.0,9,-999.0000,     -999,9, -999.000,9, -999.000,   -999.0,9,   -999.0, -999.000,9, -999.000, -999.000,9, -999.000
  49NZ20130106,  S04I,   117,  1,      9, X12J09,2,20130120,0458,-61.8018,  74.9750, 3958,   3751.2,2,  -0.0422,2,  -0.04234,2,  34.6637,2,  34.6638,2,-999.0000,9,   230.30,2,   230.63,2,   99.910,   0.0036,2,   -0.010,2,  -999.00,9,    0.000,2,   129.38,2,     0.18,    32.77,2,     0.05,     0.01,2,     0.01,     2.28,2,     0.01,    0.580,2,    0.285,2,    0.029,2, -999.000,9,   -999.0,9,   -999.0,9,-999.0000,     -999,9, -999.000,9, -999.000,   -999.0,9,   -999.0, -999.000,9, -999.000, -999.000,9, -999.000
  49NZ20130106,  S04I,   117,  1,      1, X12J01,2,20130120,0458,-61.8018,  74.9750, 3958,   4019.5,2,  -0.1406,2,  -0.14054,2,  34.6586,2,  34.6586,2,-999.0000,9,   232.43,2,   232.64,2,   99.694,   0.0123,2,   -0.010,2,  -999.00,9,    0.000,2,   147.84,2,     0.19,    33.02,2,     0.05,     0.01,2,     0.01,     2.30,2,     0.01,    0.474,2,    0.236,2,    0.029,2, -999.000,9,   -999.0,9,   -999.0,9,-999.0000,     -999,9, -999.000,9, -999.000,   -999.0,9,   -999.0, -999.000,9, -999.000, -999.000,9, -999.000