BOTTLE,20220819CCHSIOAMB
EXPOCODE,SECT_ID,STNNBR,CASTNO,SAMPNO,BTLNBR,BTLNBR_FLAG_W,DATE,TIME,LATITUDE,LONGITUDE,DEPTH,CTDPRS,CTDPRS_FLAG_W,CTDTMP,CTDTMP_FLAG_W,SBE35,SBE35_FLAG_W,CTDSAL,CTDSAL_FLAG_W,SALNTY,SALNTY_FLAG_W,DNSSAL,DNSSAL_FLAG_W,CTDOXY,CTDOXY_FLAG_W,OXYGEN,OXYGEN_FLAG_W,CTDXMISS,CTDXMISSCP,CTDXMISS_FLAG_W,CTDFLUOR,CTDFLUOR_FLAG_W,CHLORA,CHLORA_FLAG_W,PAR,PAR_FLAG_W,SILCAT,SILCAT_FLAG_W,SILUNC,NITRAT,NITRAT_FLAG_W,NRAUNC,NITRIT,NITRIT_FLAG_W,NRIUNC,PHSPHT,PHSPHT_FLAG_W,PHPUNC,CFC-11,CFC-11_FLAG_W,CFC-12,CFC-12_FLAG_W,CFC113,CFC113_FLAG_W,SF6,SF6_FLAG_W,TCARBN,TCARBN_FLAG_W,ALKALI,ALKALI_FLAG_W,PH_TOT,PH_TMP,PH_TOT_FLAG_W,DELC13,DELC13_FLAG_W,C13ERR,DELC14,DELC14_FLAG_W,C14ERR,CS-134,CS-134_FLAG_W,CS134ER,CS-137,CS-137_FLAG_W,CS137ER
,,,,,,,,UTC,DEG,DEG,METERS,DBAR,,ITS-90,,ITS-90,,PSS-78,,PSS-78,,G/KG,,UMOL/KG,,UMOL/KG,,%TRANS,/METER,,MG/M^3,,MG/CUM,,UE/SQM/S,,UMOL/KG,,UMOL/KG,UMOL/KG,,UMOL/KG,UMOL/KG,,UMOL/KG,UMOL/KG,,UMOL/KG,PMOL/KG,,PMOL/KG,,PMOL/KG,,FMOL/KG,,UMOL/KG,,UMOL/KG,,,DEG C,,/MILLE,,/MILLE,/MILLE,,/MILLE,MBQ/KG,,MBQ/KG,MBQ/KG,,MBQ/KG
  49NZ20130106,  S04I,   118,  1,     36, X12J36,2,20130120,1209,-61.7968,  73.2565, 4032,      9.2,2,   0.9932,2,   0.99319,2,  33.5708,2,  33.5710,2,-999.0000,9,   344.78,2,   345.43,2,   95.699,   0.1758,2,    0.410,2,  -999.00,9,   46.255,2,    30.74,2,     0.09,    25.68,2,     0.04,     0.27,2,     0.01,     1.76,2,     0.01,    5.964,2,    3.282,2,    0.566,2,    3.037,2,   -999.0,9,   -999.0,9,-999.0000,     -999,9, -999.000,9, -999.000,   -999.0,9,   -999.0, -999.000,9, -999.000, -999.000,9, -999.000
  49NZ20130106,  S04I,   118,  1,     35, X12J35,2,20130120,1209,-61.7968,  73.2565, 4032,     24.5,2,   0.9696,2,   0.97276,2,  33.5736,2,  33.5731,2,-999.0000,9,   345.25,2,   345.82,2,   95.588,   0.1805,2,    0.440,2,  -999.00,9,   19.248,2,    30.66,2,     0.09,    25.73,2,     0.04,     0.27,2,     0.01,     1.77,2,     0.01,    5.970,2,    3.256,2,    0.571,2,    3.069,2,   -999.0,9,   -999.0,9,-999.0000,     -999,9, -999.000,9, -999.000,   -999.0,9,   -999.0, -999.000,9, -999.000, -999.000,9, -999.000
  49NZ20130106,  S04I,   118,  1,     34, X12J34,2,20130120,1209,-61.7968,  73.2565, 4032,     50.2,2,  -1.4021,2,  -1.40142,2,  33.8250,2,  33.8231,2,-999.0000,9,   352.38,2,   353.00,2,   93.854,   0.2537,2,    0.980,2,  -999.00,9,    3.627,2,    30.63,2,     0.09,    26.37,2,     0.04,     0.17,2,     0.01,     1.83,2,     0.01,    5.939,6,    3.223,6,    0.567,6,    2.982,6,   -999.0,9,   -999.0,9,-999.0000,     -999,9, -999.000,9, -999.000,   -999.0,9,   -999.0, -999.000,9, -999.000, -999.000,9, -999.000
  49NZ20130106,  S04I,   118,  1,     33, X12J33,2,20130120,1209,-61.7968,  73.2565, 4032,     74.9,2,  -1.6255,2,  -1.62573,2,  33.9067,2,  33.9062,2,-999.0000,9,   334.83,2,   335.59,2,   97.510,   0.1009,2,    0.630,2,  -999.00,9,    0.698,2,    35.39,2,     0.09,    27.64,2,     0.04,     0.17,2,     0.01,     1.93,2,     0.01,    5.645,2,    3.052,2,    0.537,2,    2.702,2,   -999.0,9,   -999.0,9,-999.0000,     -999,9, -999.000,9, -999.000,   -999.0,9,   -999.0, -999.000,9, -999.000, -999.000,9, -999.000
  49NZ20130106,  S04I,   118,  1,     32, X12J32,2,20130120,1209,-61.7968,  73.2565, 4032,    100.7,2,  -1.5992,2,  -1.59955,2,  33.9782,2,  33.9771,2,-999.0000,9,   322.02,2,   322.95,2,   97.959,   0.0825,2,    0.520,2,  -999.00,9,    0.163,2,    40.58,2,     0.10,    28.51,2,     0.04,     0.16,2,     0.01,     1.99,2,     0.01,    5.317,2,    2.968,2,    0.503,2,    2.563,2,   -999.0,9,   -999.0,9,-999.0000,     -999,9, -999.000,9, -999.000,   -999.0,9,   -999.0, -999.000,9, -999.000, -999.000,9, -999.000
  49NZ20130106,  S04I,   118,  1,     31, X12J31,2,20130120,1209,-61.7968,  73.2565, 4032,    124.2,2,  -0.7829,2,  -0.78530,2,  34.0920,2,  34.0878,2,-999.0000,9,   283.65,2,   286.54,2,   99.153,   0.0340,2,    0.240,2,  -999.00,9,    0.034,2,    48.43,2,     0.10,    30.64,2,     0.04,     0.17,2,     0.01,     2.16,2,     0.01,    4.517,2,    2.462,2,    0.423,2,    2.021,2,   -999.0,9,   -999.0,9,-999.0000,     -999,9, -999.000,9, -999.000,   -999.0,9,   -999.0, -999.000,9, -999.000, -999.000,9, -999.000
  49NZ20130106,  S04I,   118,  1,     30, X12J30,2,20130120,1209,-61.7968,  73.2565, 4032,    149.8,2,   1.3478,2,   1.35685,2,  34.3784,2,  34.3713,2,-999.0000,9,   201.33,2,   202.35,2,   99.558,   0.0177,2,    0.130,2,  -999.00,9,    0.000,2,    66.08,2,     0.12,    35.27,2,     0.05,     0.09,2,     0.01,     2.45,2,     0.01,    2.405,2,    1.253,2,    0.208,2,    0.954,2,   -999.0,9,   -999.0,9,-999.0000,     -999,9, -999.000,9, -999.000,   -999.0,9,   -999.0, -999.000,9, -999.000, -999.000,9, -999.000
  49NZ20130106,  S04I,   118,  1,     29, X12J29,2,20130120,1209,-61.7968,  73.2565, 4032,    198.9,2,   1.8488,2,   1.84873,2,  34.5028,2,  34.5017,2,-999.0000,9,   175.32,2,   175.75,2,   99.768,   0.0093,2,    0.010,2,  -999.00,9,    0.000,2,    74.27,2,     0.13,    35.90,2,     0.05,     0.01,2,     0.01,     2.49,2,     0.01,    1.409,2,    0.728,2,    0.111,2,    0.476,2,   -999.0,9,   -999.0,9,-999.0000,     -999,9, -999.000,9, -999.000,   -999.0,9,   -999.0, -999.000,9, -999.000, -999.000,9, -999.000
  49NZ20130106,  S04I,   118,  1,     28, X12J28,2,20130120,1209,-61.7968,  73.2565, 4032,    250.0,2,   1.9528,2,   1.95318,2,  34.5615,2,  34.5601,2,-999.0000,9,   170.06,2,   170.45,2,   99.796,   0.0082,2,    0.000,2,  -999.00,9,    0.000,2,    77.56,2,     0.13,    35.43,2,     0.05,     0.01,2,     0.01,     2.46,2,     0.01,    1.028,2,    0.533,2,    0.083,2,    0.266,2,   -999.0,9,   -999.0,9,-999.0000,     -999,9, -999.000,9, -999.000,   -999.0,9,   -999.0, -999.000,9, -999.000, -999.000,9, -999.000
  49NZ20130106,  S04I,   118,  1,     27, X12J27,2,20130120,1209,-61.7968,  73.2565, 4032,    330.2,2,   2.0227,2,   2.02263,2,  34.6211,2,  34.6206,2,-999.0000,9,   170.48,2,   170.86,2,   99.887,   0.0045,2,    0.000,2,  -999.00,9,    0.000,2,    79.73,2,     0.13,    34.52,2,     0.05,     0.01,2,     0.01,     2.39,2,     0.01,    0.712,2,    0.359,2,    0.052,2,    0.194,2,   -999.0,9,   -999.0,9,-999.0000,     -999,9, -999.000,9, -999.000,   -999.0,9,   -999.0, -999.000,9, -999.000, -999.000,9, -999.000
  49NZ20130106,  S04I,   118,  1,     26, X12J26,2,20130120,1209,-61.7968,  73.2565, 4032,    429.5,2,   2.0262,2,   2.02625,2,  34.6622,2,  34.6618,2,-999.0000,9,   174.61,2,   175.18,2,   99.910,   0.0036,2,    0.000,2,  -999.00,9,    0.000,2,    80.63,2,     0.13,    33.46,2,     0.05,     0.01,2,     0.01,     2.30,2,     0.01,    0.548,2,    0.272,2,    0.038,2,    0.132,2,   -999.0,9,   -999.0,9,-999.0000,     -999,9, -999.000,9, -999.000,   -999.0,9,   -999.0, -999.000,9, -999.000, -999.000,9, -999.000
  49NZ20130106,  S04I,   118,  1,     25, X12J25,2,20130120,1209,-61.7968,  73.2565, 4032,    528.1,2,   1.9912,2,   1.99133,2,  34.6939,2,  34.6943,2,-999.0000,9,   179.91,2,   180.49,2,   99.923,   0.0031,2,    0.010,2,  -999.00,9,    0.000,2,    81.43,2,     0.13,    32.56,2,     0.05,     0.01,2,     0.01,     2.24,2,     0.01,    0.440,2,    0.213,2,    0.031,2,    0.132,2,   -999.0,9,   -999.0,9,-999.0000,     -999,9, -999.000,9, -999.000,   -999.0,9,   -999.0, -999.000,9, -999.000, -999.000,9, -999.000
  49NZ20130106,  S04I,   118,  1,     24, X12J24,2,20130120,1209,-61.7968,  73.2565, 4032,    629.3,2,   1.9686,2,   1.96877,2,  34.7156,2,  34.7160,2,-999.0000,9,   184.89,2,   185.65,2,   99.917,   0.0033,2,    0.000,2,  -999.00,9,    0.000,2,    81.45,2,     0.13,    31.77,2,     0.04,     0.01,2,     0.01,     2.19,2,     0.01,    0.362,6,    0.176,6,    0.024,6,    0.088,6,   -999.0,9,   -999.0,9,-999.0000,     -999,9, -999.000,9, -999.000,   -999.0,9,   -999.0, -999.000,9, -999.000, -999.000,9, -999.000
  49NZ20130106,  S04I,   118,  1,     23, X12J23,2,20130120,1209,-61.7968,  73.2565, 4032,    728.7,2,   1.8782,2,   1.87866,2,  34.7270,2,  34.7271,2,-999.0000,9,   188.53,2,   189.16,2,   99.919,   0.0032,2,    0.000,2,  -999.00,9,    0.000,2,    83.06,2,     0.13,    31.43,2,     0.04,     0.01,2,     0.01,     2.18,2,     0.01,    0.342,2,    0.159,2,    0.025,2,    0.051,2,   -999.0,9,   -999.0,9,-999.0000,     -999,9, -999.000,9, -999.000,   -999.0,9,   -999.0, -999.000,9, -999.000, -999.000,9, -999.000
  49NZ20130106,  S04I,   118,  1,     22, X12J22,2,20130120,1209,-61.7968,  73.2565, 4032,    828.7,2,   1.7854,2,   1.78598,2,  34.7359,2,  34.7360,2,-999.0000,9,   192.86,2,   193.15,2,   99.942,   0.0023,2,    0.000,2,  -999.00,9,    0.000,2,    84.60,2,     0.13,    31.06,2,     0.04,     0.01,2,     0.01,     2.15,2,     0.01,    0.314,2,    0.150,2,    0.021,2,    0.078,2,   -999.0,9,   -999.0,9,-999.0000,     -999,9, -999.000,9, -999.000,   -999.0,9,   -999.0, -999.000,9, -999.000, -999.000,9, -999.000
  49NZ20130106,  S04I,   118,  1,     21, X12J21,2,20130120,1209,-61.7968,  73.2565, 4032,    930.7,2,   1.7397,2,   1.73955,2,  34.7428,2,  34.7435,2,-999.0000,9,   195.95,2,   196.22,2,   99.942,   0.0023,2,    0.000,2,  -999.00,9,    0.000,2,    85.11,2,     0.14,    30.68,2,     0.04,     0.01,2,     0.01,     2.12,2,     0.01,    0.270,2,    0.129,2,    0.017,2,    0.068,2,   -999.0,9,   -999.0,9,-999.0000,     -999,9, -999.000,9, -999.000,   -999.0,9,   -999.0, -999.000,9, -999.000, -999.000,9, -999.000
  49NZ20130106,  S04I,   118,  1,     20, X12J20,2,20130120,1209,-61.7968,  73.2565, 4032,   1080.5,2,   1.6192,2,   1.61938,2,  34.7455,2,  34.7462,2,-999.0000,9,   199.32,2,   199.64,2,   99.948,   0.0021,2,   -0.000,2,  -999.00,9,    0.000,2,    87.72,2,     0.14,    30.50,2,     0.04,     0.00,2,     0.01,     2.11,2,     0.01,    0.247,2,    0.115,2,    0.017,2,    0.112,2,   -999.0,9,   -999.0,9,-999.0000,     -999,9, -999.000,9, -999.000,   -999.0,9,   -999.0, -999.000,9, -999.000, -999.000,9, -999.000
  49NZ20130106,  S04I,   118,  1,     19, X12J19,2,20130120,1209,-61.7968,  73.2565, 4032,   1331.5,2,   1.3898,2,   1.39000,2,  34.7400,2,  34.7404,2,-999.0000,9,   202.65,2,   202.84,2,   99.965,   0.0014,2,   -0.000,2,  -999.00,9,    0.000,2,    93.77,2,     0.14,    30.73,2,     0.04,     0.00,2,     0.01,     2.13,2,     0.01,    0.234,6,    0.107,6,    0.015,6,    0.052,6,   -999.0,9,   -999.0,9,-999.0000,     -999,9, -999.000,9, -999.000,   -999.0,9,   -999.0, -999.000,9, -999.000, -999.000,9, -999.000
  49NZ20130106,  S04I,   118,  1,     18, X12J18,2,20130120,1209,-61.7968,  73.2565, 4032,   1579.5,2,   1.1486,2,   1.14872,2,  34.7273,2,  34.7278,2,-999.0000,9,   204.54,2,   204.75,2,   99.953,   0.0019,2,   -0.000,2,  -999.00,9,    0.000,2,   100.70,2,     0.15,    31.26,2,     0.04,     0.00,2,     0.01,     2.16,2,     0.01,    0.244,2,    0.113,2,    0.013,2,    0.050,2,   -999.0,9,   -999.0,9,-999.0000,     -999,9, -999.000,9, -999.000,   -999.0,9,   -999.0, -999.000,9, -999.000, -999.000,9, -999.000
  49NZ20130106,  S04I,   118,  1,     17, X12J17,2,20130120,1209,-61.7968,  73.2565, 4032,   1831.1,2,   0.9520,2,   0.95191,2,  34.7159,2,  34.7163,2,-999.0000,9,   205.87,2,   206.07,2,   99.961,   0.0016,2,   -0.000,2,  -999.00,9,    0.000,2,   106.55,2,     0.15,    31.72,2,     0.04,     0.01,2,     0.01,     2.20,2,     0.01,    0.262,2,    0.118,2,    0.014,2,    0.049,2,   -999.0,9,   -999.0,9,-999.0000,     -999,9, -999.000,9, -999.000,   -999.0,9,   -999.0, -999.000,9, -999.000, -999.000,9, -999.000
  49NZ20130106,  S04I,   118,  1,     16, X12J16,2,20130120,1209,-61.7968,  73.2565, 4032,   2080.1,2,   0.7679,2,   0.76782,2,  34.7049,2,  34.7054,2,-999.0000,9,   207.22,2,   207.46,2,   99.957,   0.0017,2,   -0.000,2,  -999.00,9,    0.000,2,   111.99,2,     0.16,    32.10,2,     0.05,     0.00,2,     0.01,     2.22,2,     0.01,    0.274,2,    0.123,2,    0.015,2,    0.050,2,   -999.0,9,   -999.0,9,-999.0000,     -999,9, -999.000,9, -999.000,   -999.0,9,   -999.0, -999.000,9, -999.000, -999.000,9, -999.000
  49NZ20130106,  S04I,   118,  1,     15, X12J15,2,20130120,1209,-61.7968,  73.2565, 4032,   2329.2,2,   0.6130,2,   0.61313,2,  34.6962,2,  34.6963,2,-999.0000,9,   209.00,2,   209.19,2,   99.963,   0.0015,2,   -0.000,2,  -999.00,9,    0.000,2,   117.13,2,     0.16,    32.48,2,     0.05,     0.00,2,     0.01,     2.25,2,     0.01,    0.273,2,    0.120,2,    0.013,2,    0.060,2,   -999.0,9,   -999.0,9,-999.0000,     -999,9, -999.000,9, -999.000,   -999.0,9,   -999.0, -999.000,9, -999.000, -999.000,9, -999.000
  49NZ20130106,  S04I,   118,  1,     14, X12J14,2,20130120,1209,-61.7968,  73.2565, 4032,   2579.8,2,   0.4727,2,   0.47299,2,  34.6885,2,  34.6882,2,-999.0000,9,   211.41,2,   211.66,2,   99.959,   0.0016,2,   -0.000,2,  -999.00,9,    0.000,2,   121.25,2,     0.17,    32.78,2,     0.05,     0.00,2,     0.01,     2.27,2,     0.01,    0.260,2,    0.115,2,    0.010,2,    0.033,2,   -999.0,9,   -999.0,9,-999.0000,     -999,9, -999.000,9, -999.000,   -999.0,9,   -999.0, -999.000,9, -999.000, -999.000,9, -999.000
  49NZ20130106,  S04I,   118,  1,     13, X12J13,2,20130120,1209,-61.7968,  73.2565, 4032,   2829.8,2,   0.3558,2,   0.35588,2,  34.6821,2,  34.6822,2,-999.0000,9,   214.18,2,   214.44,2,   99.951,   0.0020,2,   -0.000,2,  -999.00,9,    0.000,2,   124.13,2,     0.17,    32.91,2,     0.05,     0.00,2,     0.01,     2.29,2,     0.01,    0.256,2,    0.117,2,    0.010,2,    0.057,2,   -999.0,9,   -999.0,9,-999.0000,     -999,9, -999.000,9, -999.000,   -999.0,9,   -999.0, -999.000,9, -999.000, -999.000,9, -999.000
  49NZ20130106,  S04I,   118,  1,     12, X12J12,2,20130120,1209,-61.7968,  73.2565, 4032,   3079.2,2,   0.2543,2,   0.25437,2,  34.6769,2,  34.6768,2,-999.0000,9,   217.55,2,   218.05,2,   99.944,   0.0022,2,   -0.000,2,  -999.00,9,    0.000,2,   125.91,2,     0.17,    32.97,2,     0.05,     0.00,2,     0.01,     2.29,2,     0.01,    0.277,2,    0.127,2,    0.010,2,    0.052,2,   -999.0,9,   -999.0,9,-999.0000,     -999,9, -999.000,9, -999.000,   -999.0,9,   -999.0, -999.000,9, -999.000, -999.000,9, -999.000
  49NZ20130106,  S04I,   118,  1,     11, X12J11,2,20130120,1209,-61.7968,  73.2565, 4032,   3330.7,2,   0.1499,2,   0.15018,2,  34.6720,2,  34.6722,2,-999.0000,9,   221.62,2,   222.15,2,   99.936,   0.0026,2,   -0.000,2,  -999.00,9,    0.000,2,   127.44,2,     0.17,    32.93,2,     0.05,     0.00,2,     0.01,     2.29,2,     0.01,    0.325,2,    0.151,2,    0.015,2,    0.093,2,   -999.0,9,   -999.0,9,-999.0000,     -999,9, -999.000,9, -999.000,   -999.0,9,   -999.0, -999.000,9, -999.000, -999.000,9, -999.000
  49NZ20130106,  S04I,   118,  1,     10, X12J10,2,20130120,1209,-61.7968,  73.2565, 4032,   3580.3,2,   0.0617,2,   0.06173,2,  34.6679,2,  34.6681,2,-999.0000,9,   225.63,2,   226.18,2,   99.923,   0.0031,2,   -0.010,2,  -999.00,9,    0.000,2,   128.33,2,     0.17,    32.86,2,     0.05,     0.00,2,     0.01,     2.29,2,     0.01,    0.431,2,    0.202,2,    0.021,2,    0.088,2,   -999.0,9,   -999.0,9,-999.0000,     -999,9, -999.000,9, -999.000,   -999.0,9,   -999.0, -999.000,9, -999.000, -999.000,9, -999.000
  49NZ20130106,  S04I,   118,  1,      9, X12J09,2,20130120,1209,-61.7968,  73.2565, 4032,   3830.4,2,  -0.0267,2,  -0.02676,2,  34.6639,2,  34.6638,2,-999.0000,9,   229.61,2,   229.99,2,   99.900,   0.0040,2,   -0.010,2,  -999.00,9,    0.000,2,   130.86,2,     0.18,    32.81,2,     0.05,     0.01,2,     0.01,     2.28,2,     0.01,    0.573,2,    0.282,2,    0.032,2,    0.121,2,   -999.0,9,   -999.0,9,-999.0000,     -999,9, -999.000,9, -999.000,   -999.0,9,   -999.0, -999.000,9, -999.000, -999.000,9, -999.000
  49NZ20130106,  S04I,   118,  1,      8, X12J08,2,20130120,1209,-61.7968,  73.2565, 4032,   4079.6,2,  -0.1246,2,  -0.12469,2,  34.6589,2,  34.6588,2,-999.0000,9,   232.30,2,   232.66,2,   99.755,   0.0098,2,   -0.010,2,  -999.00,9,    0.000,2,   146.46,2,     0.19,    32.97,2,     0.05,     0.01,2,     0.01,     2.29,2,     0.01,    0.456,2,    0.223,2,    0.022,2,    0.098,2,   -999.0,9,   -999.0,9,-999.0000,     -999,9, -999.000,9, -999.000,   -999.0,9,   -999.0, -999.000,9, -999.000, -999.000,9, -999.000
  49NZ20130106,  S04I,   118,  1,      1, X12J01,2,20130120,1209,-61.7968,  73.2565, 4032,   4101.6,2,  -0.1262,2,  -0.12633,2,  34.6587,2,  34.6586,2,-999.0000,9,   232.34,2,   233.02,2,   99.717,   0.0113,2,   -0.010,2,  -999.00,9,    0.000,2,   147.14,2,     0.19,    33.00,2,     0.05,     0.01,2,     0.01,     2.30,2,     0.01,    0.461,2,    0.222,2,    0.026,2,    0.098,2,   -999.0,9,   -999.0,9,-999.0000,     -999,9, -999.000,9, -999.000,   -999.0,9,   -999.0, -999.000,9, -999.000, -999.000,9, -999.000