BOTTLE,20220819CCHSIOAMB
EXPOCODE,SECT_ID,STNNBR,CASTNO,SAMPNO,BTLNBR,BTLNBR_FLAG_W,DATE,TIME,LATITUDE,LONGITUDE,DEPTH,CTDPRS,CTDPRS_FLAG_W,CTDTMP,CTDTMP_FLAG_W,SBE35,SBE35_FLAG_W,CTDSAL,CTDSAL_FLAG_W,SALNTY,SALNTY_FLAG_W,DNSSAL,DNSSAL_FLAG_W,CTDOXY,CTDOXY_FLAG_W,OXYGEN,OXYGEN_FLAG_W,CTDXMISS,CTDXMISSCP,CTDXMISS_FLAG_W,CTDFLUOR,CTDFLUOR_FLAG_W,CHLORA,CHLORA_FLAG_W,PAR,PAR_FLAG_W,SILCAT,SILCAT_FLAG_W,SILUNC,NITRAT,NITRAT_FLAG_W,NRAUNC,NITRIT,NITRIT_FLAG_W,NRIUNC,PHSPHT,PHSPHT_FLAG_W,PHPUNC,CFC-11,CFC-11_FLAG_W,CFC-12,CFC-12_FLAG_W,CFC113,CFC113_FLAG_W,SF6,SF6_FLAG_W,TCARBN,TCARBN_FLAG_W,ALKALI,ALKALI_FLAG_W,PH_TOT,PH_TMP,PH_TOT_FLAG_W,DELC13,DELC13_FLAG_W,C13ERR,DELC14,DELC14_FLAG_W,C14ERR,CS-134,CS-134_FLAG_W,CS134ER,CS-137,CS-137_FLAG_W,CS137ER
,,,,,,,,UTC,DEG,DEG,METERS,DBAR,,ITS-90,,ITS-90,,PSS-78,,PSS-78,,G/KG,,UMOL/KG,,UMOL/KG,,%TRANS,/METER,,MG/M^3,,MG/CUM,,UE/SQM/S,,UMOL/KG,,UMOL/KG,UMOL/KG,,UMOL/KG,UMOL/KG,,UMOL/KG,UMOL/KG,,UMOL/KG,PMOL/KG,,PMOL/KG,,PMOL/KG,,FMOL/KG,,UMOL/KG,,UMOL/KG,,,DEG C,,/MILLE,,/MILLE,/MILLE,,/MILLE,MBQ/KG,,MBQ/KG,MBQ/KG,,MBQ/KG
  49NZ20130106,  S04I,   154,  1,     36, X12J36,2,20130130,1726,-65.5413,  34.9257, 4526,     10.0,2,   0.9180,2,   0.91719,2,  34.0216,2,  34.0222,2,-999.0000,9,   340.84,2,   340.93,2,   94.355,   0.2324,2,    0.480,2,  -999.00,9,    0.744,2,    57.00,2,     0.11,    25.68,2,     0.04,     0.22,2,     0.01,     1.79,2,     0.01,    5.535,2,    3.035,2,    0.528,2, -999.000,9,   -999.0,9,   -999.0,9,-999.0000,     -999,9, -999.000,9, -999.000,   -999.0,9,   -999.0, -999.000,9, -999.000, -999.000,9, -999.000
  49NZ20130106,  S04I,   154,  1,     35, X12J35,2,20130130,1726,-65.5413,  34.9257, 4526,     25.4,2,  -0.0098,2,  -0.01292,2,  34.0677,2,  34.0751,2,-999.0000,9,   351.51,2,   352.12,2,   91.963,   0.3351,2,    0.830,2,  -999.00,9,    0.133,2,    57.76,2,     0.11,    24.98,2,     0.04,     0.12,2,     0.01,     1.77,2,     0.01,    5.361,2,    2.941,2,    0.514,2, -999.000,9,   -999.0,9,   -999.0,9,-999.0000,     -999,9, -999.000,9, -999.000,   -999.0,9,   -999.0, -999.000,9, -999.000, -999.000,9, -999.000
  49NZ20130106,  S04I,   154,  1,     34, X12J34,2,20130130,1726,-65.5413,  34.9257, 4526,     50.8,2,  -1.4050,2,  -1.39904,2,  34.1836,2,  34.1967,2,-999.0000,9,   321.32,2,   318.10,2,   94.165,   0.2405,2,    0.730,2,  -999.00,9,    0.000,2,    62.57,2,     0.11,    27.88,2,     0.04,     0.12,2,     0.01,     1.97,2,     0.01,    4.625,6,    2.524,6,    0.441,6, -999.000,9,   -999.0,9,   -999.0,9,-999.0000,     -999,9, -999.000,9, -999.000,   -999.0,9,   -999.0, -999.000,9, -999.000, -999.000,9, -999.000
  49NZ20130106,  S04I,   154,  1,     33, X12J33,2,20130130,1726,-65.5413,  34.9257, 4526,     74.8,2,  -1.7972,2,  -1.79735,2,  34.2910,2,  34.2908,2,-999.0000,9,   290.42,2,   290.54,2,   97.079,   0.1186,2,    0.500,2,  -999.00,9,    0.000,2,    65.02,2,     0.12,    29.73,2,     0.04,     0.18,2,     0.01,     2.10,2,     0.01,    4.221,2,    2.295,2,    0.408,2, -999.000,9,   -999.0,9,   -999.0,9,-999.0000,     -999,9, -999.000,9, -999.000,   -999.0,9,   -999.0, -999.000,9, -999.000, -999.000,9, -999.000
  49NZ20130106,  S04I,   154,  1,     32, X12J32,2,20130130,1726,-65.5413,  34.9257, 4526,     99.8,2,  -1.7993,2,  -1.80090,2,  34.3217,2,  34.3202,2,-999.0000,9,   290.72,2,   290.96,2,   98.518,   0.0597,2,    0.330,2,  -999.00,9,    0.000,2,    64.48,2,     0.12,    30.22,2,     0.04,     0.15,2,     0.01,     2.11,2,     0.01,    4.369,2,    2.375,2,    0.393,2, -999.000,9,   -999.0,9,   -999.0,9,-999.0000,     -999,9, -999.000,9, -999.000,   -999.0,9,   -999.0, -999.000,9, -999.000, -999.000,9, -999.000
  49NZ20130106,  S04I,   154,  1,     31, X12J31,2,20130130,1726,-65.5413,  34.9257, 4526,    124.9,2,  -1.5534,2,  -1.55447,2,  34.3696,2,  34.3685,2,-999.0000,9,   288.36,2,   288.12,2,   99.054,   0.0380,2,    0.200,2,  -999.00,9,    0.000,2,    65.16,2,     0.12,    30.65,2,     0.04,     0.07,2,     0.01,     2.12,2,     0.01,    4.321,2,    2.351,2,    0.391,2, -999.000,9,   -999.0,9,   -999.0,9,-999.0000,     -999,9, -999.000,9, -999.000,   -999.0,9,   -999.0, -999.000,9, -999.000, -999.000,9, -999.000
  49NZ20130106,  S04I,   154,  1,     30, X12J30,2,20130130,1726,-65.5413,  34.9257, 4526,    150.1,2,  -1.0629,2,  -1.06264,2,  34.4256,2,  34.4252,2,-999.0000,9,   276.50,2,   276.56,2,   99.560,   0.0176,2,    0.100,2,  -999.00,9,    0.000,2,    68.10,2,     0.12,    31.14,2,     0.04,     0.03,2,     0.01,     2.16,2,     0.01,    3.938,2,    2.134,2,    0.354,2, -999.000,9,   -999.0,9,   -999.0,9,-999.0000,     -999,9, -999.000,9, -999.000,   -999.0,9,   -999.0, -999.000,9, -999.000, -999.000,9, -999.000
  49NZ20130106,  S04I,   154,  1,     29, X12J29,2,20130130,1726,-65.5413,  34.9257, 4526,    200.1,2,   0.3631,2,   0.36065,2,  34.5774,2,  34.5762,2,-999.0000,9,   225.29,2,   225.53,2,   99.778,   0.0089,2,    0.040,2,  -999.00,9,    0.000,2,    80.88,2,     0.13,    32.62,2,     0.05,     0.02,2,     0.01,     2.26,2,     0.01,    2.188,2,    1.180,2,    0.193,2, -999.000,9,   -999.0,9,   -999.0,9,-999.0000,     -999,9, -999.000,9, -999.000,   -999.0,9,   -999.0, -999.000,9, -999.000, -999.000,9, -999.000
  49NZ20130106,  S04I,   154,  1,     28, X12J28,2,20130130,1726,-65.5413,  34.9257, 4526,    221.8,2,   0.6034,2,   0.60259,2,  34.6087,2,  34.6087,2,-999.0000,9,   217.50,2,   217.23,2,   99.848,   0.0061,2,    0.030,2,  -999.00,9,    0.000,2,    83.24,2,     0.13,    32.55,2,     0.05,     0.01,2,     0.01,     2.25,2,     0.01,    1.813,2,    0.972,2,    0.160,2, -999.000,9,   -999.0,9,   -999.0,9,-999.0000,     -999,9, -999.000,9, -999.000,   -999.0,9,   -999.0, -999.000,9, -999.000, -999.000,9, -999.000
  49NZ20130106,  S04I,   154,  1,     27, X12J27,2,20130130,1726,-65.5413,  34.9257, 4526,    301.0,2,   1.0120,2,   1.01215,2,  34.6676,2,  34.6678,2,-999.0000,9,   204.20,2,   204.08,2,   99.892,   0.0043,2,    0.010,2,  -999.00,9,    0.000,2,    88.24,2,     0.14,    32.20,2,     0.05,     0.01,2,     0.01,     2.23,2,     0.01,    1.112,2,    0.585,2,    0.095,2, -999.000,9,   -999.0,9,   -999.0,9,-999.0000,     -999,9, -999.000,9, -999.000,   -999.0,9,   -999.0, -999.000,9, -999.000, -999.000,9, -999.000
  49NZ20130106,  S04I,   154,  1,     26, X12J26,2,20130130,1726,-65.5413,  34.9257, 4526,    400.0,2,   1.1057,2,   1.10779,2,  34.6924,2,  34.6929,2,-999.0000,9,   201.81,2,   201.23,2,   99.946,   0.0022,2,    0.010,2,  -999.00,9,    0.000,2,    92.25,2,     0.14,    31.98,2,     0.04,     0.01,2,     0.01,     2.22,2,     0.01,    0.797,2,    0.412,2,    0.063,2, -999.000,9,   -999.0,9,   -999.0,9,-999.0000,     -999,9, -999.000,9, -999.000,   -999.0,9,   -999.0, -999.000,9, -999.000, -999.000,9, -999.000
  49NZ20130106,  S04I,   154,  1,     25, X12J25,2,20130130,1726,-65.5413,  34.9257, 4526,    499.1,2,   1.0527,2,   1.05228,2,  34.6997,2,  34.6996,2,-999.0000,9,   202.58,2,   202.72,2,   99.954,   0.0018,2,    0.000,2,  -999.00,9,    0.000,2,    95.18,2,     0.14,    31.86,2,     0.04,     0.01,2,     0.01,     2.20,2,     0.01,    0.709,2,    0.364,2,    0.057,2, -999.000,9,   -999.0,9,   -999.0,9,-999.0000,     -999,9, -999.000,9, -999.000,   -999.0,9,   -999.0, -999.000,9, -999.000, -999.000,9, -999.000
  49NZ20130106,  S04I,   154,  1,     24, X12J24,2,20130130,1726,-65.5413,  34.9257, 4526,    600.3,2,   0.9564,2,   0.95640,2,  34.6985,2,  34.6985,2,-999.0000,9,   204.77,2,   204.55,2,   99.958,   0.0017,2,    0.000,2,  -999.00,9,    0.000,2,    97.04,2,     0.15,    31.85,2,     0.04,     0.01,2,     0.01,     2.20,2,     0.01,    0.699,6,    0.357,6,    0.058,6, -999.000,9,   -999.0,9,   -999.0,9,-999.0000,     -999,9, -999.000,9, -999.000,   -999.0,9,   -999.0, -999.000,9, -999.000, -999.000,9, -999.000
  49NZ20130106,  S04I,   154,  1,     23, X12J23,2,20130130,1726,-65.5413,  34.9257, 4526,    701.0,2,   0.8802,2,   0.87998,2,  34.6983,2,  34.6981,2,-999.0000,9,   205.77,2,   205.62,2,   99.969,   0.0012,2,    0.000,2,  -999.00,9,    0.000,2,    99.59,2,     0.15,    31.93,2,     0.04,     0.01,2,     0.01,     2.21,2,     0.01,    0.662,2,    0.333,2,    0.049,2, -999.000,9,   -999.0,9,   -999.0,9,-999.0000,     -999,9, -999.000,9, -999.000,   -999.0,9,   -999.0, -999.000,9, -999.000, -999.000,9, -999.000
  49NZ20130106,  S04I,   154,  1,     22, X12J22,2,20130130,1726,-65.5413,  34.9257, 4526,    800.2,2,   0.7522,2,   0.75275,2,  34.6911,2,  34.6918,2,-999.0000,9,   208.93,2,   208.76,2,   99.969,   0.0012,2,    0.000,2,  -999.00,9,    0.000,2,   101.26,2,     0.15,    32.01,2,     0.04,     0.00,2,     0.01,     2.21,2,     0.01,    0.734,2,    0.374,2,    0.060,2, -999.000,9,   -999.0,9,   -999.0,9,-999.0000,     -999,9, -999.000,9, -999.000,   -999.0,9,   -999.0, -999.000,9, -999.000, -999.000,9, -999.000
  49NZ20130106,  S04I,   154,  1,     21, X12J21,2,20130130,1726,-65.5413,  34.9257, 4526,    900.3,2,   0.6884,2,   0.68860,2,  34.6907,2,  34.6921,2,-999.0000,9,   209.24,2,   208.60,2,   99.969,   0.0012,2,    0.000,2,  -999.00,9,    0.000,2,   104.30,2,     0.15,    32.12,2,     0.05,     0.01,2,     0.01,     2.22,2,     0.01,    0.659,2,    0.335,2,    0.048,2, -999.000,9,   -999.0,9,   -999.0,9,-999.0000,     -999,9, -999.000,9, -999.000,   -999.0,9,   -999.0, -999.000,9, -999.000, -999.000,9, -999.000
  49NZ20130106,  S04I,   154,  1,     20, X12J20,2,20130130,1726,-65.5413,  34.9257, 4526,    999.3,2,   0.6404,2,   0.64021,2,  34.6908,2,  34.6911,2,-999.0000,9,   208.85,2,   208.94,2,   99.965,   0.0014,2,    0.000,2,  -999.00,9,    0.000,2,   106.84,2,     0.15,    32.25,2,     0.05,     0.00,2,     0.01,     2.24,2,     0.01,    0.618,2,    0.308,2,    0.042,2, -999.000,9,   -999.0,9,   -999.0,9,-999.0000,     -999,9, -999.000,9, -999.000,   -999.0,9,   -999.0, -999.000,9, -999.000, -999.000,9, -999.000
  49NZ20130106,  S04I,   154,  1,     19, X12J19,2,20130130,1726,-65.5413,  34.9257, 4526,   1248.6,2,   0.5224,2,   0.52281,2,  34.6877,2,  34.6880,2,-999.0000,9,   209.33,2,   209.26,2,   99.988,   0.0005,2,    0.000,2,  -999.00,9,    0.000,2,   112.26,2,     0.16,    32.58,2,     0.05,     0.00,2,     0.01,     2.26,2,     0.01,    0.535,6,    0.261,6,    0.037,6, -999.000,9,   -999.0,9,   -999.0,9,-999.0000,     -999,9, -999.000,9, -999.000,   -999.0,9,   -999.0, -999.000,9, -999.000, -999.000,9, -999.000
  49NZ20130106,  S04I,   154,  1,     18, X12J18,2,20130130,1726,-65.5413,  34.9257, 4526,   1499.6,2,   0.4099,2,   0.41015,2,  34.6838,2,  34.6843,2,-999.0000,9,   210.58,2,   210.49,2,   99.963,   0.0015,2,    0.000,2,  -999.00,9,    0.000,2,   117.06,2,     0.16,    32.85,2,     0.05,     0.00,2,     0.01,     2.28,2,     0.01,    0.463,2,    0.223,2,    0.034,2, -999.000,9,   -999.0,9,   -999.0,9,-999.0000,     -999,9, -999.000,9, -999.000,   -999.0,9,   -999.0, -999.000,9, -999.000, -999.000,9, -999.000
  49NZ20130106,  S04I,   154,  1,     17, X12J17,2,20130130,1726,-65.5413,  34.9257, 4526,   1751.1,2,   0.2650,2,   0.26495,2,  34.6747,2,  34.6749,2,-999.0000,9,   216.35,2,   216.43,2,   99.990,   0.0004,2,    0.000,2,  -999.00,9,    0.000,2,   117.09,2,     0.16,    32.77,2,     0.05,     0.00,2,     0.01,     2.27,2,     0.01,    0.613,2,    0.306,2,    0.044,2, -999.000,9,   -999.0,9,   -999.0,9,-999.0000,     -999,9, -999.000,9, -999.000,   -999.0,9,   -999.0, -999.000,9, -999.000, -999.000,9, -999.000
  49NZ20130106,  S04I,   154,  1,     16, X12J16,2,20130130,1726,-65.5413,  34.9257, 4526,   2000.7,2,   0.1856,2,   0.18589,2,  34.6724,2,  34.6727,2,-999.0000,9,   218.62,2,   218.61,2,   99.986,   0.0006,2,    0.000,2,  -999.00,9,    0.000,2,   119.33,2,     0.17,    32.75,2,     0.05,     0.00,2,     0.01,     2.27,2,     0.01,    0.577,2,    0.286,2,    0.044,2, -999.000,9,   -999.0,9,   -999.0,9,-999.0000,     -999,9, -999.000,9, -999.000,   -999.0,9,   -999.0, -999.000,9, -999.000, -999.000,9, -999.000
  49NZ20130106,  S04I,   154,  1,     15, X12J15,2,20130130,1726,-65.5413,  34.9257, 4526,   2248.4,2,   0.1107,2,   0.11090,2,  34.6708,2,  34.6712,2,-999.0000,9,   220.53,2,   220.40,2,   99.997,   0.0001,2,    0.000,2,  -999.00,9,    0.000,2,   122.10,2,     0.17,    32.87,2,     0.05,     0.00,2,     0.01,     2.29,2,     0.01,    0.505,2,    0.243,2,    0.026,2, -999.000,9,   -999.0,9,   -999.0,9,-999.0000,     -999,9, -999.000,9, -999.000,   -999.0,9,   -999.0, -999.000,9, -999.000, -999.000,9, -999.000
  49NZ20130106,  S04I,   154,  1,     14, X12J14,2,20130130,1726,-65.5413,  34.9257, 4526,   2500.2,2,   0.0329,2,   0.03279,2,  34.6668,2,  34.6668,2,-999.0000,9,   225.09,2,   224.90,2,   99.995,   0.0002,2,    0.000,2,  -999.00,9,    0.000,2,   121.64,2,     0.17,    32.76,2,     0.05,     0.00,2,     0.01,     2.26,2,     0.01,    0.646,2,    0.322,2,    0.048,2, -999.000,9,   -999.0,9,   -999.0,9,-999.0000,     -999,9, -999.000,9, -999.000,   -999.0,9,   -999.0, -999.000,9, -999.000, -999.000,9, -999.000
  49NZ20130106,  S04I,   154,  1,     13, X12J13,2,20130130,1726,-65.5413,  34.9257, 4526,   2751.2,2,  -0.0346,2,  -0.03449,2,  34.6636,2,  34.6638,2,-999.0000,9,   228.91,2,   228.48,2,   99.992,   0.0003,2,    0.000,2,  -999.00,9,    0.000,2,   121.33,2,     0.17,    32.70,2,     0.05,     0.00,2,     0.01,     2.27,2,     0.01,    0.751,2,    0.379,2,    0.053,2, -999.000,9,   -999.0,9,   -999.0,9,-999.0000,     -999,9, -999.000,9, -999.000,   -999.0,9,   -999.0, -999.000,9, -999.000, -999.000,9, -999.000
  49NZ20130106,  S04I,   154,  1,     12, X12J12,2,20130130,1726,-65.5413,  34.9257, 4526,   3001.3,2,  -0.0941,2,  -0.09420,2,  34.6605,2,  34.6607,2,-999.0000,9,   232.55,2,   232.20,2,   99.973,   0.0011,2,    0.000,2,  -999.00,9,    0.000,2,   120.80,2,     0.17,    32.59,2,     0.05,     0.00,2,     0.01,     2.26,2,     0.01,    0.847,2,    0.488,2,    0.065,2, -999.000,9,   -999.0,9,   -999.0,9,-999.0000,     -999,9, -999.000,9, -999.000,   -999.0,9,   -999.0, -999.000,9, -999.000, -999.000,9, -999.000
  49NZ20130106,  S04I,   154,  1,     11, X12J11,2,20130130,1726,-65.5413,  34.9257, 4526,   3250.1,2,  -0.1439,2,  -0.14396,2,  34.6580,2,  34.6583,2,-999.0000,9,   235.55,2,   235.35,2,   99.973,   0.0011,2,    0.000,2,  -999.00,9,    0.000,2,   120.69,2,     0.17,    32.56,2,     0.05,     0.00,2,     0.01,     2.26,2,     0.01,    0.920,2,    0.470,2,    0.069,2, -999.000,9,   -999.0,9,   -999.0,9,-999.0000,     -999,9, -999.000,9, -999.000,   -999.0,9,   -999.0, -999.000,9, -999.000, -999.000,9, -999.000
  49NZ20130106,  S04I,   154,  1,     10, X12J10,2,20130130,1726,-65.5413,  34.9257, 4526,   3500.6,2,  -0.1840,2,  -0.18400,2,  34.6559,2,  34.6557,2,-999.0000,9,   238.88,2,   238.49,2,   99.950,   0.0020,2,    0.000,2,  -999.00,9,    0.000,2,   120.12,2,     0.17,    32.51,2,     0.05,     0.00,2,     0.01,     2.26,2,     0.01,    1.053,2,    0.543,2,    0.076,2,    0.342,2,   -999.0,9,   -999.0,9,-999.0000,     -999,9, -999.000,9, -999.000,   -999.0,9,   -999.0, -999.000,9, -999.000, -999.000,9, -999.000
  49NZ20130106,  S04I,   154,  1,      9, X12J09,2,20130130,1726,-65.5413,  34.9257, 4526,   3750.5,2,  -0.2144,2,  -0.21429,2,  34.6538,2,  34.6537,2,-999.0000,9,   242.10,2,   241.72,2,   99.941,   0.0024,2,    0.000,2,  -999.00,9,    0.000,2,   118.56,2,     0.17,    32.41,2,     0.05,     0.00,2,     0.01,     2.26,2,     0.01,    1.239,2,    0.631,2,    0.080,2,    0.384,2,   -999.0,9,   -999.0,9,-999.0000,     -999,9, -999.000,9, -999.000,   -999.0,9,   -999.0, -999.000,9, -999.000, -999.000,9, -999.000
  49NZ20130106,  S04I,   154,  1,      8, X12J08,2,20130130,1726,-65.5413,  34.9257, 4526,   3999.7,2,  -0.2364,2,  -0.23631,2,  34.6518,2,  34.6518,2,-999.0000,9,   244.82,2,   244.56,2,   99.914,   0.0034,2,   -0.000,2,  -999.00,9,    0.000,2,   117.53,2,     0.16,    32.36,2,     0.05,     0.00,2,     0.01,     2.25,2,     0.01,    1.382,6,    0.723,6,    0.095,6,    0.507,6,   -999.0,9,   -999.0,9,-999.0000,     -999,9, -999.000,9, -999.000,   -999.0,9,   -999.0, -999.000,9, -999.000, -999.000,9, -999.000
  49NZ20130106,  S04I,   154,  1,      7, X12J07,2,20130130,1726,-65.5413,  34.9257, 4526,   4250.1,2,  -0.2577,2,  -0.25778,2,  34.6499,2,  34.6504,2,-999.0000,9,   246.06,2,   245.74,2,   99.890,   0.0044,2,    0.000,2,  -999.00,9,    0.000,2,   119.39,2,     0.17,    32.36,2,     0.05,     0.00,2,     0.01,     2.25,2,     0.01,    1.352,2,    0.690,2,    0.102,2,    0.419,2,   -999.0,9,   -999.0,9,-999.0000,     -999,9, -999.000,9, -999.000,   -999.0,9,   -999.0, -999.000,9, -999.000, -999.000,9, -999.000
  49NZ20130106,  S04I,   154,  1,      6, X12J06,2,20130130,1726,-65.5413,  34.9257, 4526,   4501.8,2,  -0.2748,2,  -0.27477,2,  34.6491,2,  34.6493,2,-999.0000,9,   245.65,2,   245.32,2,   99.737,   0.0105,2,   -0.000,2,  -999.00,9,    0.000,2,   126.20,2,     0.17,    32.48,2,     0.05,     0.00,2,     0.01,     2.26,2,     0.01,    1.163,2,    0.592,2,    0.076,2,    0.385,2,   -999.0,9,   -999.0,9,-999.0000,     -999,9, -999.000,9, -999.000,   -999.0,9,   -999.0, -999.000,9, -999.000, -999.000,9, -999.000
  49NZ20130106,  S04I,   154,  1,      1, X12J01,2,20130130,1726,-65.5413,  34.9257, 4526,   4609.7,2,  -0.2729,2,  -0.27309,2,  34.6490,2,  34.6495,2,-999.0000,9,   244.77,2,   244.54,2,   99.503,   0.0199,2,    0.000,2,  -999.00,9,    0.000,2,   129.55,2,     0.18,    32.56,2,     0.05,     0.01,2,     0.01,     2.27,2,     0.01,    1.067,2,    0.542,2,    0.068,2,    0.269,2,   -999.0,9,   -999.0,9,-999.0000,     -999,9, -999.000,9, -999.000,   -999.0,9,   -999.0, -999.000,9, -999.000, -999.000,9, -999.000