BOTTLE,20220819CCHSIOAMB
EXPOCODE,SECT_ID,STNNBR,CASTNO,SAMPNO,BTLNBR,BTLNBR_FLAG_W,DATE,TIME,LATITUDE,LONGITUDE,DEPTH,CTDPRS,CTDPRS_FLAG_W,CTDTMP,CTDTMP_FLAG_W,SBE35,SBE35_FLAG_W,CTDSAL,CTDSAL_FLAG_W,SALNTY,SALNTY_FLAG_W,DNSSAL,DNSSAL_FLAG_W,CTDOXY,CTDOXY_FLAG_W,OXYGEN,OXYGEN_FLAG_W,CTDXMISS,CTDXMISSCP,CTDXMISS_FLAG_W,CTDFLUOR,CTDFLUOR_FLAG_W,CHLORA,CHLORA_FLAG_W,PAR,PAR_FLAG_W,SILCAT,SILCAT_FLAG_W,SILUNC,NITRAT,NITRAT_FLAG_W,NRAUNC,NITRIT,NITRIT_FLAG_W,NRIUNC,PHSPHT,PHSPHT_FLAG_W,PHPUNC,CFC-11,CFC-11_FLAG_W,CFC-12,CFC-12_FLAG_W,CFC113,CFC113_FLAG_W,SF6,SF6_FLAG_W,TCARBN,TCARBN_FLAG_W,ALKALI,ALKALI_FLAG_W,PH_TOT,PH_TMP,PH_TOT_FLAG_W,DELC13,DELC13_FLAG_W,C13ERR,DELC14,DELC14_FLAG_W,C14ERR,CS-134,CS-134_FLAG_W,CS134ER,CS-137,CS-137_FLAG_W,CS137ER
,,,,,,,,UTC,DEG,DEG,METERS,DBAR,,ITS-90,,ITS-90,,PSS-78,,PSS-78,,G/KG,,UMOL/KG,,UMOL/KG,,%TRANS,/METER,,MG/M^3,,MG/CUM,,UE/SQM/S,,UMOL/KG,,UMOL/KG,UMOL/KG,,UMOL/KG,UMOL/KG,,UMOL/KG,UMOL/KG,,UMOL/KG,PMOL/KG,,PMOL/KG,,PMOL/KG,,FMOL/KG,,UMOL/KG,,UMOL/KG,,,DEG C,,/MILLE,,/MILLE,/MILLE,,/MILLE,MBQ/KG,,MBQ/KG,MBQ/KG,,MBQ/KG
  49NZ20130106,  S04I,   149,  1,     36, X12J36,2,20130129,0854,-64.4623,  41.6155, 4414,      5.8,2,   1.4220,2,   1.42262,2,  33.8367,2,  33.8370,2,-999.0000,9,   335.32,2,   334.84,2,   98.966,   0.0416,2,    0.040,2,  -999.00,9,   82.462,2,    49.16,2,     0.10,    26.37,2,     0.04,     0.28,2,     0.01,     1.84,2,     0.01,    5.657,2,    3.075,2,    0.555,2, -999.000,9,   -999.0,9,   -999.0,9,-999.0000,     -999,9, -999.000,9, -999.000,   -999.0,9,   -999.0, -999.000,9, -999.000, -999.000,9, -999.000
  49NZ20130106,  S04I,   149,  1,     35, X12J35,2,20130129,0854,-64.4623,  41.6155, 4414,     24.7,2,   0.7770,2,   0.77718,2,  33.8441,2,  33.8436,2,-999.0000,9,   337.74,2,   337.01,2,   98.902,   0.0442,2,    0.060,2,  -999.00,9,   31.355,2,    49.42,2,     0.10,    26.43,2,     0.04,     0.26,2,     0.01,     1.85,2,     0.01,    5.707,2,    3.096,2,    0.569,2, -999.000,9,   -999.0,9,   -999.0,9,-999.0000,     -999,9, -999.000,9, -999.000,   -999.0,9,   -999.0, -999.000,9, -999.000, -999.000,9, -999.000
  49NZ20130106,  S04I,   149,  1,     34, X12J34,2,20130129,0854,-64.4623,  41.6155, 4414,     49.3,2,  -1.3102,2,  -1.31027,2,  34.1586,2,  34.1669,2,-999.0000,9,   314.27,2,   312.65,2,   98.755,   0.0501,2,    0.080,2,  -999.00,9,   42.587,2,    54.42,2,     0.11,    27.71,2,     0.04,     0.15,2,     0.01,     1.94,2,     0.01,    4.838,6,    2.600,6,    0.481,6, -999.000,9,   -999.0,9,   -999.0,9,-999.0000,     -999,9, -999.000,9, -999.000,   -999.0,9,   -999.0, -999.000,9, -999.000, -999.000,9, -999.000
  49NZ20130106,  S04I,   149,  1,     33, X12J33,2,20130129,0854,-64.4623,  41.6155, 4414,     73.9,2,   0.5808,2,   0.57749,2,  34.5012,2,  34.4995,2,-999.0000,9,   221.22,2,   221.56,2,   98.647,   0.0545,2,    0.220,2,  -999.00,9,   30.011,2,    76.62,2,     0.13,    32.20,2,     0.05,     0.09,2,     0.01,     2.24,2,     0.01,    2.233,2,    1.184,2,    0.203,2, -999.000,9,   -999.0,9,   -999.0,9,-999.0000,     -999,9, -999.000,9, -999.000,   -999.0,9,   -999.0, -999.000,9, -999.000, -999.000,9, -999.000
  49NZ20130106,  S04I,   149,  1,     32, X12J32,2,20130129,0854,-64.4623,  41.6155, 4414,     99.1,2,   1.2583,2,   1.25770,2,  34.6052,2,  34.6047,2,-999.0000,9,   186.15,2,   186.12,2,   98.617,   0.0557,2,    0.350,2,  -999.00,9,    8.735,2,    85.48,2,     0.14,    33.97,2,     0.05,     0.07,2,     0.01,     2.36,2,     0.01,    1.209,2,    0.629,2,    0.108,2, -999.000,9,   -999.0,9,   -999.0,9,-999.0000,     -999,9, -999.000,9, -999.000,   -999.0,9,   -999.0, -999.000,9, -999.000, -999.000,9, -999.000
  49NZ20130106,  S04I,   149,  1,     31, X12J31,2,20130129,0854,-64.4623,  41.6155, 4414,    125.0,2,   1.4117,2,   1.41165,2,  34.6327,2,  34.6332,2,-999.0000,9,   181.53,2,   181.22,2,   99.519,   0.0193,2,    0.120,2,  -999.00,9,    3.005,2,    87.26,2,     0.14,    34.08,2,     0.05,     0.08,2,     0.01,     2.36,2,     0.01,    0.991,2,    0.509,2,    0.080,2, -999.000,9,   -999.0,9,   -999.0,9,-999.0000,     -999,9, -999.000,9, -999.000,   -999.0,9,   -999.0, -999.000,9, -999.000, -999.000,9, -999.000
  49NZ20130106,  S04I,   149,  1,     30, X12J30,2,20130129,0854,-64.4623,  41.6155, 4414,    148.6,2,   1.4907,2,   1.49104,2,  34.6546,2,  34.6537,2,-999.0000,9,   182.16,2,   181.74,2,   99.742,   0.0103,2,    0.040,2,  -999.00,9,    1.601,2,    88.09,2,     0.14,    33.78,2,     0.05,     0.03,2,     0.01,     2.34,2,     0.01,    0.855,2,    0.436,2,    0.080,2, -999.000,9,   -999.0,9,   -999.0,9,-999.0000,     -999,9, -999.000,9, -999.000,   -999.0,9,   -999.0, -999.000,9, -999.000, -999.000,9, -999.000
  49NZ20130106,  S04I,   149,  1,     29, X12J29,2,20130129,0854,-64.4623,  41.6155, 4414,    199.2,2,   1.4902,2,   1.49068,2,  34.6720,2,  34.6719,2,-999.0000,9,   184.46,2,   183.87,2,   99.840,   0.0064,2,    0.010,2,  -999.00,9,    0.298,2,    88.98,2,     0.14,    33.33,2,     0.05,     0.02,2,     0.01,     2.31,2,     0.01,    0.753,2,    0.381,2,    0.067,2, -999.000,9,   -999.0,9,   -999.0,9,-999.0000,     -999,9, -999.000,9, -999.000,   -999.0,9,   -999.0, -999.000,9, -999.000, -999.000,9, -999.000
  49NZ20130106,  S04I,   149,  1,     28, X12J28,2,20130129,0854,-64.4623,  41.6155, 4414,    250.4,2,   1.4841,2,   1.48416,2,  34.6865,2,  34.6862,2,-999.0000,9,   186.33,2,   186.03,2,   99.879,   0.0048,2,    0.010,2,  -999.00,9,    0.018,2,    89.88,2,     0.14,    32.94,2,     0.05,     0.01,2,     0.01,     2.28,2,     0.01,    0.666,2,    0.337,2,    0.061,2, -999.000,9,   -999.0,9,   -999.0,9,-999.0000,     -999,9, -999.000,9, -999.000,   -999.0,9,   -999.0, -999.000,9, -999.000, -999.000,9, -999.000
  49NZ20130106,  S04I,   149,  1,     27, X12J27,2,20130129,0854,-64.4623,  41.6155, 4414,    330.2,2,   1.4494,2,   1.44917,2,  34.7023,2,  34.7023,2,-999.0000,9,   190.02,2,   189.63,2,   99.908,   0.0037,2,    0.000,2,  -999.00,9,    0.000,2,    91.48,2,     0.14,    32.45,2,     0.05,     0.01,2,     0.01,     2.24,2,     0.01,    0.557,2,    0.281,2,    0.047,2, -999.000,9,   -999.0,9,   -999.0,9,-999.0000,     -999,9, -999.000,9, -999.000,   -999.0,9,   -999.0, -999.000,9, -999.000, -999.000,9, -999.000
  49NZ20130106,  S04I,   149,  1,     26, X12J26,2,20130129,0854,-64.4623,  41.6155, 4414,    430.4,2,   1.3683,2,   1.36799,2,  34.7115,2,  34.7113,2,-999.0000,9,   193.74,2,   193.32,2,   99.938,   0.0025,2,    0.000,2,  -999.00,9,    0.000,2,    93.37,2,     0.14,    32.00,2,     0.04,     0.01,2,     0.01,     2.22,2,     0.01,    0.493,2,    0.246,2,    0.040,2, -999.000,9,   -999.0,9,   -999.0,9,-999.0000,     -999,9, -999.000,9, -999.000,   -999.0,9,   -999.0, -999.000,9, -999.000, -999.000,9, -999.000
  49NZ20130106,  S04I,   149,  1,     25, X12J25,2,20130129,0854,-64.4623,  41.6155, 4414,    530.0,2,   1.2891,2,   1.28944,2,  34.7158,2,  34.7156,2,-999.0000,9,   196.36,2,   195.90,2,   99.972,   0.0011,2,    0.000,2,  -999.00,9,    0.000,2,    95.43,2,     0.14,    31.82,2,     0.04,     0.01,2,     0.01,     2.20,2,     0.01,    0.444,2,    0.215,2,    0.040,2, -999.000,9,   -999.0,9,   -999.0,9,-999.0000,     -999,9, -999.000,9, -999.000,   -999.0,9,   -999.0, -999.000,9, -999.000, -999.000,9, -999.000
  49NZ20130106,  S04I,   149,  1,     24, X12J24,2,20130129,0854,-64.4623,  41.6155, 4414,    629.8,2,   1.1775,2,   1.17843,2,  34.7158,2,  34.7150,2,-999.0000,9,   198.28,2,   197.90,2,   99.970,   0.0012,2,    0.000,2,  -999.00,9,    0.000,2,    98.53,2,     0.15,    31.84,2,     0.04,     0.01,2,     0.01,     2.21,2,     0.01,    0.422,6,    0.203,6,    0.038,6, -999.000,9,   -999.0,9,   -999.0,9,-999.0000,     -999,9, -999.000,9, -999.000,   -999.0,9,   -999.0, -999.000,9, -999.000, -999.000,9, -999.000
  49NZ20130106,  S04I,   149,  1,     23, X12J23,2,20130129,0854,-64.4623,  41.6155, 4414,    728.9,2,   1.0836,2,   1.08341,2,  34.7145,2,  34.7142,2,-999.0000,9,   199.89,2,   199.48,2,   99.972,   0.0011,2,    0.000,2,  -999.00,9,    0.000,2,   101.05,2,     0.15,    31.95,2,     0.04,     0.01,2,     0.01,     2.22,2,     0.01,    0.403,2,    0.193,2,    0.030,2, -999.000,9,   -999.0,9,   -999.0,9,-999.0000,     -999,9, -999.000,9, -999.000,   -999.0,9,   -999.0, -999.000,9, -999.000, -999.000,9, -999.000
  49NZ20130106,  S04I,   149,  1,     22, X12J22,2,20130129,0854,-64.4623,  41.6155, 4414,    830.2,2,   0.9858,2,   0.98585,2,  34.7115,2,  34.7115,2,-999.0000,9,   201.44,2,   201.11,2,   99.976,   0.0010,2,    0.000,2,  -999.00,9,    0.000,2,   103.41,2,     0.15,    32.02,2,     0.04,     0.01,2,     0.01,     2.22,2,     0.01,    0.392,2,    0.188,2,    0.028,2, -999.000,9,   -999.0,9,   -999.0,9,-999.0000,     -999,9, -999.000,9, -999.000,   -999.0,9,   -999.0, -999.000,9, -999.000, -999.000,9, -999.000
  49NZ20130106,  S04I,   149,  1,     21, X12J21,2,20130129,0854,-64.4623,  41.6155, 4414,    930.2,2,   0.8914,2,   0.89139,2,  34.7082,2,  34.7081,2,-999.0000,9,   202.74,2,   202.34,2,   99.991,   0.0004,2,    0.000,2,  -999.00,9,    0.000,2,   106.21,2,     0.15,    32.14,2,     0.05,     0.01,2,     0.01,     2.23,2,     0.01,    0.376,2,    0.179,2,    0.023,2, -999.000,9,   -999.0,9,   -999.0,9,-999.0000,     -999,9, -999.000,9, -999.000,   -999.0,9,   -999.0, -999.000,9, -999.000, -999.000,9, -999.000
  49NZ20130106,  S04I,   149,  1,     20, X12J20,2,20130129,0854,-64.4623,  41.6155, 4414,   1080.4,2,   0.7499,2,   0.74986,2,  34.7014,2,  34.7018,2,-999.0000,9,   204.78,2,   204.48,2,  100.002,  -0.0001,2,    0.000,2,  -999.00,9,    0.000,2,   109.47,2,     0.16,    32.32,2,     0.05,     0.00,2,     0.01,     2.24,2,     0.01,    0.402,2,    0.190,2,    0.032,2, -999.000,9,   -999.0,9,   -999.0,9,-999.0000,     -999,9, -999.000,9, -999.000,   -999.0,9,   -999.0, -999.000,9, -999.000, -999.000,9, -999.000
  49NZ20130106,  S04I,   149,  1,     19, X12J19,2,20130129,0854,-64.4623,  41.6155, 4414,   1331.2,2,   0.6013,2,   0.60169,2,  34.6945,2,  34.6944,2,-999.0000,9,   206.44,2,   206.07,2,   99.994,   0.0002,2,    0.000,2,  -999.00,9,    0.000,2,   114.07,2,     0.16,    32.69,2,     0.05,     0.00,2,     0.01,     2.26,2,     0.01,    0.383,6,    0.188,6,    0.023,6,    0.028,6,   -999.0,9,   -999.0,9,-999.0000,     -999,9, -999.000,9, -999.000,   -999.0,9,   -999.0, -999.000,9, -999.000, -999.000,9, -999.000
  49NZ20130106,  S04I,   149,  1,     18, X12J18,2,20130129,0854,-64.4623,  41.6155, 4414,   1579.7,2,   0.4751,2,   0.47539,2,  34.6889,2,  34.6890,2,-999.0000,9,   208.04,2,   207.96,2,   99.989,   0.0004,2,    0.000,2,  -999.00,9,    0.000,2,   118.54,2,     0.17,    32.88,2,     0.05,     0.00,2,     0.01,     2.28,2,     0.01,    0.349,2,    0.169,2,    0.018,2,    0.000,2,   -999.0,9,   -999.0,9,-999.0000,     -999,9, -999.000,9, -999.000,   -999.0,9,   -999.0, -999.000,9, -999.000, -999.000,9, -999.000
  49NZ20130106,  S04I,   149,  1,     17, X12J17,2,20130129,0854,-64.4623,  41.6155, 4414,   1831.5,2,   0.3719,2,   0.37208,2,  34.6840,2,  34.6838,2,-999.0000,9,   210.30,2,   210.02,2,   99.989,   0.0004,2,    0.000,2,  -999.00,9,    0.000,2,   121.15,2,     0.17,    33.07,2,     0.05,     0.00,2,     0.01,     2.30,2,     0.01,    0.333,2,    0.162,2,    0.018,2,    0.058,2,   -999.0,9,   -999.0,9,-999.0000,     -999,9, -999.000,9, -999.000,   -999.0,9,   -999.0, -999.000,9, -999.000, -999.000,9, -999.000
  49NZ20130106,  S04I,   149,  1,     16, X12J16,2,20130129,0854,-64.4623,  41.6155, 4414,   2079.9,2,   0.2681,2,   0.26814,2,  34.6792,2,  34.6791,2,-999.0000,9,   213.40,2,   213.11,2,  100.000,  -0.0000,2,    0.000,2,  -999.00,9,    0.000,2,   122.91,2,     0.17,    33.06,2,     0.05,     0.00,2,     0.01,     2.30,2,     0.01,    0.338,2,    0.164,2,    0.015,2,    0.000,2,   -999.0,9,   -999.0,9,-999.0000,     -999,9, -999.000,9, -999.000,   -999.0,9,   -999.0, -999.000,9, -999.000, -999.000,9, -999.000
  49NZ20130106,  S04I,   149,  1,     15, X12J15,2,20130129,0854,-64.4623,  41.6155, 4414,   2331.3,2,   0.1761,2,   0.17609,2,  34.6746,2,  34.6745,2,-999.0000,9,   217.31,2,   217.07,2,  100.000,  -0.0000,2,    0.000,2,  -999.00,9,    0.000,2,   123.84,2,     0.17,    32.94,2,     0.05,     0.00,2,     0.01,     2.29,2,     0.01,    0.352,2,    0.174,2,    0.014,2,    0.038,2,   -999.0,9,   -999.0,9,-999.0000,     -999,9, -999.000,9, -999.000,   -999.0,9,   -999.0, -999.000,9, -999.000, -999.000,9, -999.000
  49NZ20130106,  S04I,   149,  1,     14, X12J14,2,20130129,0854,-64.4623,  41.6155, 4414,   2581.4,2,   0.0852,2,   0.08569,2,  34.6702,2,  34.6696,2,-999.0000,9,   221.91,2,   221.65,2,  100.000,  -0.0000,2,    0.000,2,  -999.00,9,    0.000,2,   123.98,2,     0.17,    32.92,2,     0.05,     0.00,2,     0.01,     2.28,2,     0.01,    0.444,2,    0.221,2,    0.024,2,    0.066,2,   -999.0,9,   -999.0,9,-999.0000,     -999,9, -999.000,9, -999.000,   -999.0,9,   -999.0, -999.000,9, -999.000, -999.000,9, -999.000
  49NZ20130106,  S04I,   149,  1,     13, X12J13,2,20130129,0854,-64.4623,  41.6155, 4414,   2830.3,2,   0.0018,2,   0.00198,2,  34.6659,2,  34.6657,2,-999.0000,9,   226.56,2,   226.11,2,   99.985,   0.0006,2,    0.000,2,  -999.00,9,    0.000,2,   123.34,2,     0.17,    32.83,2,     0.05,     0.00,2,     0.01,     2.28,2,     0.01,    0.558,2,    0.280,2,    0.033,2,    0.100,2,   -999.0,9,   -999.0,9,-999.0000,     -999,9, -999.000,9, -999.000,   -999.0,9,   -999.0, -999.000,9, -999.000, -999.000,9, -999.000
  49NZ20130106,  S04I,   149,  1,     12, X12J12,2,20130129,0854,-64.4623,  41.6155, 4414,   3079.4,2,  -0.0597,2,  -0.05935,2,  34.6628,2,  34.6625,2,-999.0000,9,   230.67,2,   230.22,2,   99.976,   0.0010,2,    0.000,2,  -999.00,9,    0.000,2,   122.15,2,     0.17,    32.74,2,     0.05,     0.00,2,     0.01,     2.27,2,     0.01,    0.734,2,    0.369,2,    0.051,2,    0.139,2,   -999.0,9,   -999.0,9,-999.0000,     -999,9, -999.000,9, -999.000,   -999.0,9,   -999.0, -999.000,9, -999.000, -999.000,9, -999.000
  49NZ20130106,  S04I,   149,  1,     11, X12J11,2,20130129,0854,-64.4623,  41.6155, 4414,   3330.9,2,  -0.1204,2,  -0.12029,2,  34.6599,2,  34.6594,2,-999.0000,9,   233.95,2,   233.47,2,   99.964,   0.0014,2,    0.000,2,  -999.00,9,    0.000,2,   122.58,2,     0.17,    32.69,2,     0.05,     0.00,2,     0.01,     2.27,2,     0.01,    0.775,2,    0.385,2,    0.052,2,    0.101,2,   -999.0,9,   -999.0,9,-999.0000,     -999,9, -999.000,9, -999.000,   -999.0,9,   -999.0, -999.000,9, -999.000, -999.000,9, -999.000
  49NZ20130106,  S04I,   149,  1,     10, X12J10,2,20130129,0854,-64.4623,  41.6155, 4414,   3579.3,2,  -0.1697,2,  -0.16974,2,  34.6568,2,  34.6563,2,-999.0000,9,   237.87,2,   237.34,2,   99.949,   0.0020,2,    0.000,2,  -999.00,9,    0.000,2,   121.82,2,     0.17,    32.52,2,     0.05,     0.01,2,     0.01,     2.27,2,     0.01,    0.916,2,    0.475,2,    0.069,2,    0.217,2,   -999.0,9,   -999.0,9,-999.0000,     -999,9, -999.000,9, -999.000,   -999.0,9,   -999.0, -999.000,9, -999.000, -999.000,9, -999.000
  49NZ20130106,  S04I,   149,  1,      9, X12J09,2,20130129,0854,-64.4623,  41.6155, 4414,   3830.5,2,  -0.1982,2,  -0.19814,2,  34.6551,2,  34.6545,2,-999.0000,9,   240.61,2,   240.30,2,   99.923,   0.0031,2,    0.000,2,  -999.00,9,    0.000,2,   121.27,2,     0.17,    32.49,2,     0.05,     0.01,2,     0.01,     2.26,2,     0.01,    1.064,2,    0.551,2,    0.080,2,    0.340,2,   -999.0,9,   -999.0,9,-999.0000,     -999,9, -999.000,9, -999.000,   -999.0,9,   -999.0, -999.000,9, -999.000, -999.000,9, -999.000
  49NZ20130106,  S04I,   149,  1,      8, X12J08,2,20130129,0854,-64.4623,  41.6155, 4414,   4079.4,2,  -0.2410,2,  -0.24098,2,  34.6529,2,  34.6527,2,-999.0000,9,   243.61,2,   243.22,2,   99.921,   0.0032,2,    0.000,2,  -999.00,9,    0.000,2,   120.95,2,     0.17,    32.46,2,     0.05,     0.01,2,     0.01,     2.26,2,     0.01,    1.106,6,    0.579,6,    0.081,6,    0.360,6,   -999.0,9,   -999.0,9,-999.0000,     -999,9, -999.000,9, -999.000,   -999.0,9,   -999.0, -999.000,9, -999.000, -999.000,9, -999.000
  49NZ20130106,  S04I,   149,  1,      7, X12J07,2,20130129,0854,-64.4623,  41.6155, 4414,   4330.4,2,  -0.2569,2,  -0.25684,2,  34.6508,2,  34.6508,2,-999.0000,9,   245.71,2,   245.31,2,   99.894,   0.0042,2,   -0.000,2,  -999.00,9,    0.000,2,   121.62,2,     0.17,    32.41,2,     0.05,     0.01,2,     0.01,     2.26,2,     0.01,    1.214,2,    0.632,2,    0.094,2,    0.407,2,   -999.0,9,   -999.0,9,-999.0000,     -999,9, -999.000,9, -999.000,   -999.0,9,   -999.0, -999.000,9, -999.000, -999.000,9, -999.000
  49NZ20130106,  S04I,   149,  1,      1, X12J01,2,20130129,0854,-64.4623,  41.6155, 4414,   4490.0,2,  -0.2797,2,  -0.27967,2,  34.6495,2,  34.6498,2,-999.0000,9,   244.80,2,   244.54,2,   99.517,   0.0194,2,    0.000,2,  -999.00,9,    0.000,2,   129.76,2,     0.18,    32.58,2,     0.05,     0.01,2,     0.01,     2.27,2,     0.01,    1.038,2,    0.544,2,    0.076,2,    0.302,2,   -999.0,9,   -999.0,9,-999.0000,     -999,9, -999.000,9, -999.000,   -999.0,9,   -999.0, -999.000,9, -999.000, -999.000,9, -999.000