BOTTLE,20220819CCHSIOAMB
EXPOCODE,SECT_ID,STNNBR,CASTNO,SAMPNO,BTLNBR,BTLNBR_FLAG_W,DATE,TIME,LATITUDE,LONGITUDE,DEPTH,CTDPRS,CTDPRS_FLAG_W,CTDTMP,CTDTMP_FLAG_W,SBE35,SBE35_FLAG_W,CTDSAL,CTDSAL_FLAG_W,SALNTY,SALNTY_FLAG_W,DNSSAL,DNSSAL_FLAG_W,CTDOXY,CTDOXY_FLAG_W,OXYGEN,OXYGEN_FLAG_W,CTDXMISS,CTDXMISSCP,CTDXMISS_FLAG_W,CTDFLUOR,CTDFLUOR_FLAG_W,CHLORA,CHLORA_FLAG_W,PAR,PAR_FLAG_W,SILCAT,SILCAT_FLAG_W,SILUNC,NITRAT,NITRAT_FLAG_W,NRAUNC,NITRIT,NITRIT_FLAG_W,NRIUNC,PHSPHT,PHSPHT_FLAG_W,PHPUNC,CFC-11,CFC-11_FLAG_W,CFC-12,CFC-12_FLAG_W,CFC113,CFC113_FLAG_W,SF6,SF6_FLAG_W,TCARBN,TCARBN_FLAG_W,ALKALI,ALKALI_FLAG_W,PH_TOT,PH_TMP,PH_TOT_FLAG_W,DELC13,DELC13_FLAG_W,C13ERR,DELC14,DELC14_FLAG_W,C14ERR,CS-134,CS-134_FLAG_W,CS134ER,CS-137,CS-137_FLAG_W,CS137ER
,,,,,,,,UTC,DEG,DEG,METERS,DBAR,,ITS-90,,ITS-90,,PSS-78,,PSS-78,,G/KG,,UMOL/KG,,UMOL/KG,,%TRANS,/METER,,MG/M^3,,MG/CUM,,UE/SQM/S,,UMOL/KG,,UMOL/KG,UMOL/KG,,UMOL/KG,UMOL/KG,,UMOL/KG,UMOL/KG,,UMOL/KG,PMOL/KG,,PMOL/KG,,PMOL/KG,,FMOL/KG,,UMOL/KG,,UMOL/KG,,,DEG C,,/MILLE,,/MILLE,/MILLE,,/MILLE,MBQ/KG,,MBQ/KG,MBQ/KG,,MBQ/KG
  49NZ20130106,  S04I,   135,  1,     36, X12J36,2,20130125,2030,-64.4338,  53.0715, 4146,      5.4,2,   0.0227,2,   0.02243,2,  33.8780,2,  33.8783,2,-999.0000,9,   336.79,2,   336.17,2,   98.911,   0.0438,2,    0.160,2,     0.08,2,    1.050,2,    47.82,2,     0.10,    26.96,2,     0.04,     0.20,2,     0.01,     1.88,2,     0.01,    5.858,2,    3.102,2,    0.574,2,    2.739,2,   2180.6,2,   2295.4,2,   7.6580,       25,6, -999.000,9, -999.000,   -999.0,9,   -999.0, -999.000,9, -999.000, -999.000,9, -999.000
  49NZ20130106,  S04I,   135,  1,     35, X12J35,2,20130125,2030,-64.4338,  53.0715, 4146,     26.1,2,   0.0170,2,   0.01681,2,  33.8793,2,  33.8799,2,-999.0000,9,   336.64,2,   335.74,2,   98.937,   0.0427,2,    0.150,2,     0.07,2,    0.003,2,    47.98,2,     0.10,    27.01,2,     0.04,     0.20,2,     0.01,     1.88,2,     0.01,    5.822,2,    3.108,2,    0.570,2,    2.744,2,   2180.6,2,   2295.1,2,   7.6577,       25,2, -999.000,9, -999.000,   -999.0,9,   -999.0, -999.000,9, -999.000, -999.000,9, -999.000
  49NZ20130106,  S04I,   135,  1,     34, X12J34,2,20130125,2030,-64.4338,  53.0715, 4146,     50.3,2,   0.0056,2,   0.00582,2,  33.9293,2,  33.9318,2,-999.0000,9,   326.18,2,   326.20,2,   98.924,   0.0433,2,    0.180,2,     0.09,2,    0.000,2,    50.39,2,     0.10,    27.49,2,     0.04,     0.18,2,     0.01,     1.92,2,     0.01,    5.571,6,    2.958,6,    0.528,6,    2.560,6,   2188.0,2,   2298.2,2,   7.6499,       25,2, -999.000,9, -999.000,   -999.0,9,   -999.0, -999.000,9, -999.000, -999.000,9, -999.000
  49NZ20130106,  S04I,   135,  1,     33, X12J33,2,20130125,2030,-64.4338,  53.0715, 4146,     75.0,2,   1.2560,2,   1.25512,2,  34.5480,2,  34.5467,2,-999.0000,9,   195.07,2,   195.31,2,   98.295,   0.0688,2,    0.370,2,     0.40,2,    0.000,2,    81.09,2,     0.13,    33.96,2,     0.05,     0.03,2,     0.01,     2.35,2,     0.01,    1.645,2,    0.844,2,    0.137,2,    0.600,2,   2257.5,6,   2334.3,2,   7.5478,       25,2, -999.000,9, -999.000,   -999.0,9,   -999.0, -999.000,9, -999.000, -999.000,9, -999.000
  49NZ20130106,  S04I,   135,  1,     32, X12J32,2,20130125,2030,-64.4338,  53.0715, 4146,    101.2,2,   1.4143,2,   1.41420,2,  34.5909,2,  34.5910,2,-999.0000,9,   185.30,2,   185.07,2,   99.283,   0.0288,2,    0.190,2,     0.20,2,    0.000,2,    84.29,2,     0.13,    34.30,2,     0.05,     0.06,2,     0.01,     2.38,2,     0.01,    1.315,2,    0.661,2,    0.104,2,    0.405,2,   2262.7,2,   2337.7,6,   7.5424,       25,2, -999.000,9, -999.000,   -999.0,9,   -999.0, -999.000,9, -999.000, -999.000,9, -999.000
  49NZ20130106,  S04I,   135,  1,     31, X12J31,2,20130125,2030,-64.4338,  53.0715, 4146,    125.3,2,   1.4753,2,   1.47509,2,  34.6147,2,  34.6148,2,-999.0000,9,   182.78,2,   182.58,2,   99.604,   0.0159,2,    0.120,2,     0.09,2,    0.000,2,    85.66,2,     0.14,    34.25,2,     0.05,     0.07,2,     0.01,     2.36,2,     0.01,    1.146,2,    0.566,2,    0.084,2,    0.357,2,   2263.5,2,   2339.8,3,   7.5440,       25,2, -999.000,9, -999.000,   -999.0,9,   -999.0, -999.000,9, -999.000, -999.000,9, -999.000
  49NZ20130106,  S04I,   135,  1,     30, X12J30,2,20130125,2030,-64.4338,  53.0715, 4146,    149.9,2,   1.5451,2,   1.54499,2,  34.6406,2,  34.6399,2,-999.0000,9,   181.81,2,   181.52,2,   99.776,   0.0090,2,    0.030,2,  -999.00,9,    0.000,2,    86.70,2,     0.14,    33.89,2,     0.05,     0.02,2,     0.01,     2.33,2,     0.01,    0.970,2,    0.466,2,    0.071,2,    0.277,2,   2263.2,2,   2340.2,2,   7.5511,       25,6, -999.000,9, -999.000,   -999.0,9,   -999.0, -999.000,9, -999.000, -999.000,9, -999.000
  49NZ20130106,  S04I,   135,  1,     29, X12J29,2,20130125,2030,-64.4338,  53.0715, 4146,    200.8,2,   1.6024,2,   1.60221,2,  34.6699,2,  34.6698,2,-999.0000,9,   182.88,2,   182.64,2,   99.827,   0.0069,2,    0.010,2,     0.01,2,    0.000,2,    87.57,2,     0.14,    33.25,2,     0.05,     0.01,2,     0.01,     2.29,2,     0.01,    0.748,2,    0.362,2,    0.046,2,    0.206,2,   2260.9,2,   2340.9,2,   7.5618,       25,2, -999.000,9, -999.000,   -999.0,9,   -999.0, -999.000,9, -999.000, -999.000,9, -999.000
  49NZ20130106,  S04I,   135,  1,     28, X12J28,2,20130125,2030,-64.4338,  53.0715, 4146,    250.3,2,   1.5987,2,   1.59820,2,  34.6866,2,  34.6866,2,-999.0000,9,   185.15,2,   184.95,2,   99.880,   0.0048,2,    0.000,2,     0.01,2,    0.000,2,    88.27,2,     0.14,    32.81,2,     0.05,     0.01,2,     0.01,     2.26,2,     0.01,    0.673,2,    0.314,2,    0.042,2,    0.142,2,   2260.2,2,   2343.0,2,   7.5701,       25,2, -999.000,9, -999.000,   -999.0,9,   -999.0, -999.000,9, -999.000, -999.000,9, -999.000
  49NZ20130106,  S04I,   135,  1,     27, X12J27,2,20130125,2030,-64.4338,  53.0715, 4146,    300.9,2,   1.5675,2,   1.56749,2,  34.6952,2,  34.6950,2,-999.0000,9,   187.21,2,   186.91,2,   99.899,   0.0040,2,    0.000,2,  -999.00,9,    0.000,2,    89.01,2,     0.14,    32.53,2,     0.05,     0.01,2,     0.01,     2.24,2,     0.01,    0.638,2,    0.289,2,    0.040,2,    0.132,2,   2255.6,3,   2344.1,2,   7.5745,       25,2, -999.000,9, -999.000,   -999.0,9,   -999.0, -999.000,9, -999.000, -999.000,9, -999.000
  49NZ20130106,  S04I,   135,  1,     26, X12J26,2,20130125,2030,-64.4338,  53.0715, 4146,    400.8,2,   1.4980,2,   1.49778,2,  34.7116,2,  34.7117,2,-999.0000,9,   191.88,2,   191.57,2,   99.963,   0.0015,2,    0.000,2,  -999.00,9,    0.000,2,    90.43,2,     0.14,    31.94,2,     0.04,     0.01,2,     0.01,     2.19,2,     0.01,    0.519,2,    0.240,2,    0.032,2,    0.150,2,   2256.6,2,   2348.1,2,   7.5862,       25,2, -999.000,9, -999.000,   -999.0,9,   -999.0, -999.000,9, -999.000, -999.000,9, -999.000
  49NZ20130106,  S04I,   135,  1,     25, X12J25,2,20130125,2030,-64.4338,  53.0715, 4146,    500.5,2,   1.4005,2,   1.40033,2,  34.7188,2,  34.7188,2,-999.0000,9,   195.43,2,   195.03,2,   99.910,   0.0036,2,    0.000,2,  -999.00,9,    0.000,2,    92.63,2,     0.14,    31.65,2,     0.04,     0.01,2,     0.01,     2.18,2,     0.01,    0.433,2,    0.211,2,    0.028,2,    0.079,2,   2253.3,2,   2348.9,2,   7.5926,       25,2, -999.000,9, -999.000,   -999.0,9,   -999.0, -999.000,9, -999.000, -999.000,9, -999.000
  49NZ20130106,  S04I,   135,  1,     24, X12J24,2,20130125,2030,-64.4338,  53.0715, 4146,    601.1,2,   1.2572,2,   1.25697,2,  34.7158,2,  34.7157,2,-999.0000,9,   198.98,2,   198.74,2,   99.944,   0.0022,2,    0.000,2,  -999.00,9,    0.000,2,    94.81,2,     0.14,    31.56,2,     0.04,     0.00,2,     0.01,     2.18,2,     0.01,    0.480,6,    0.235,6,    0.032,6,    0.107,6,   2252.6,2,   2350.7,2,   7.5951,       25,2, -999.000,9, -999.000,   -999.0,9,   -999.0, -999.000,9, -999.000, -999.000,9, -999.000
  49NZ20130106,  S04I,   135,  1,     23, X12J23,2,20130125,2030,-64.4338,  53.0715, 4146,    700.4,2,   1.1898,2,   1.18956,2,  34.7193,2,  34.7196,2,-999.0000,9,   200.02,2,   199.57,2,   99.976,   0.0010,2,    0.000,2,  -999.00,9,    0.000,2,    98.19,2,     0.15,    31.63,2,     0.04,     0.01,2,     0.01,     2.18,2,     0.01,    0.390,2,    0.186,2,    0.023,2,    0.062,2,   2253.6,6,   2352.0,2,   7.5974,       25,2, -999.000,9, -999.000,   -999.0,9,   -999.0, -999.000,9, -999.000, -999.000,9, -999.000
  49NZ20130106,  S04I,   135,  1,     22, X12J22,2,20130125,2030,-64.4338,  53.0715, 4146,    801.6,2,   1.0927,2,   1.09267,2,  34.7169,2,  34.7171,2,-999.0000,9,   201.56,2,   201.11,2,   99.976,   0.0010,2,    0.000,2,  -999.00,9,    0.000,2,   100.73,2,     0.15,    31.69,2,     0.04,     0.00,2,     0.01,     2.18,2,     0.01,    0.383,2,    0.181,2,    0.021,2,    0.063,2,   2254.3,2,   2352.4,6,   7.5984,       25,2, -999.000,9, -999.000,   -999.0,9,   -999.0, -999.000,9, -999.000, -999.000,9, -999.000
  49NZ20130106,  S04I,   135,  1,     21, X12J21,2,20130125,2030,-64.4338,  53.0715, 4146,    900.3,2,   0.9795,2,   0.97944,2,  34.7118,2,  34.7121,2,-999.0000,9,   202.67,2,   202.15,2,   99.935,   0.0026,2,   -0.000,2,  -999.00,9,    0.000,2,   103.77,2,     0.15,    31.89,2,     0.04,     0.00,2,     0.01,     2.20,2,     0.01,    0.388,2,    0.184,2,    0.020,2,    0.067,2,   2255.3,2,   2354.5,2,   7.5967,       25,6, -999.000,9, -999.000,   -999.0,9,   -999.0, -999.000,9, -999.000, -999.000,9, -999.000
  49NZ20130106,  S04I,   135,  1,     20, X12J20,2,20130125,2030,-64.4338,  53.0715, 4146,   1000.3,2,   0.8709,2,   0.87037,2,  34.7053,2,  34.7052,2,-999.0000,9,   204.64,2,   204.45,2,   99.965,   0.0014,2,    0.000,2,  -999.00,9,    0.000,2,   105.19,2,     0.15,    32.01,2,     0.04,     0.00,2,     0.01,     2.21,2,     0.01,    0.474,2,    0.216,2,    0.028,2,    0.042,2,   2258.2,2,   2354.4,2,   7.5962,       25,2, -999.000,9, -999.000,   -999.0,9,   -999.0, -999.000,9, -999.000, -999.000,9, -999.000
  49NZ20130106,  S04I,   135,  1,     19, X12J19,2,20130125,2030,-64.4338,  53.0715, 4146,   1251.6,2,   0.7101,2,   0.71011,2,  34.7003,2,  34.7007,2,-999.0000,9,   205.08,2,   204.75,2,   99.359,   0.0257,2,   -0.000,2,  -999.00,9,    0.000,2,   111.75,2,     0.16,    32.47,2,     0.05,     0.01,2,     0.01,     2.24,2,     0.01,    0.374,6,    0.176,6,    0.019,6,    0.025,6,   2258.5,2,   2356.2,2,   7.5927,       25,2, -999.000,9, -999.000,   -999.0,9,   -999.0, -999.000,9, -999.000, -999.000,9, -999.000
  49NZ20130106,  S04I,   135,  1,     18, X12J18,2,20130125,2030,-64.4338,  53.0715, 4146,   1502.7,2,   0.5683,2,   0.56821,2,  34.6936,2,  34.6938,2,-999.0000,9,   206.54,2,   206.35,2,   99.980,   0.0008,2,   -0.000,2,  -999.00,9,    0.000,2,   116.21,2,     0.16,    32.74,2,     0.05,     0.00,2,     0.01,     2.26,2,     0.01,    0.361,2,    0.165,2,    0.015,2,    0.038,2,   2260.2,2,   2355.4,2,   7.5897,       25,2, -999.000,9, -999.000,   -999.0,9,   -999.0, -999.000,9, -999.000, -999.000,9, -999.000
  49NZ20130106,  S04I,   135,  1,     17, X12J17,2,20130125,2030,-64.4338,  53.0715, 4146,   1751.5,2,   0.3693,2,   0.36937,2,  34.6764,2,  34.6765,2,-999.0000,9,   215.92,2,   215.61,2,   99.963,   0.0015,2,   -0.000,2,  -999.00,9,    0.000,2,   112.82,2,     0.16,    32.53,2,     0.05,     0.00,2,     0.01,     2.25,2,     0.01,    0.725,2,    0.367,2,    0.047,2,    0.219,2,   2256.9,3,   2353.6,2,   7.5920,       25,6, -999.000,9, -999.000,   -999.0,9,   -999.0, -999.000,9, -999.000, -999.000,9, -999.000
  49NZ20130106,  S04I,   135,  1,     16, X12J16,2,20130125,2030,-64.4338,  53.0715, 4146,   2002.1,2,   0.3244,2,   0.32415,2,  34.6808,2,  34.6810,2,-999.0000,9,   213.00,2,   212.62,2,   99.995,   0.0002,2,   -0.000,2,  -999.00,9,    0.000,2,   121.10,2,     0.17,    32.94,2,     0.05,     0.00,2,     0.01,     2.27,2,     0.01,    0.397,2,    0.187,2,    0.018,2,    0.067,2,   2260.8,2,   2355.9,2,   7.5885,       25,2, -999.000,9, -999.000,   -999.0,9,   -999.0, -999.000,9, -999.000, -999.000,9, -999.000
  49NZ20130106,  S04I,   135,  1,     15, X12J15,2,20130125,2030,-64.4338,  53.0715, 4146,   2251.1,2,   0.2248,2,   0.22478,2,  34.6771,2,  34.6772,2,-999.0000,9,   215.39,2,   215.02,2,   99.999,   0.0000,2,   -0.000,2,  -999.00,9,    0.000,2,   123.89,2,     0.17,    33.04,2,     0.05,     0.00,2,     0.01,     2.28,2,     0.01,    0.359,2,    0.163,2,    0.014,2,    0.032,2,   2260.3,2,   2355.6,2,   7.5883,       25,2, -999.000,9, -999.000,   -999.0,9,   -999.0, -999.000,9, -999.000, -999.000,9, -999.000
  49NZ20130106,  S04I,   135,  1,     14, X12J14,2,20130125,2030,-64.4338,  53.0715, 4146,   2500.6,2,   0.1320,2,   0.13204,2,  34.6731,2,  34.6730,2,-999.0000,9,   219.27,2,   219.00,2,   99.997,   0.0001,2,   -0.000,2,  -999.00,9,    0.000,2,   125.20,2,     0.17,    32.98,2,     0.05,     0.00,2,     0.01,     2.28,2,     0.01,    0.361,2,    0.160,2,    0.013,2,    0.063,2,   2259.0,6,   2355.8,2,   7.5905,       25,2, -999.000,9, -999.000,   -999.0,9,   -999.0, -999.000,9, -999.000, -999.000,9, -999.000
  49NZ20130106,  S04I,   135,  1,     13, X12J13,2,20130125,2030,-64.4338,  53.0715, 4146,   2750.5,2,   0.0364,2,   0.03652,2,  34.6684,2,  34.6683,2,-999.0000,9,   223.82,2,   223.54,2,   99.980,   0.0008,2,   -0.010,2,  -999.00,9,    0.000,2,   125.62,2,     0.17,    32.98,2,     0.05,     0.00,2,     0.01,     2.28,2,     0.01,    0.405,2,    0.190,2,    0.018,2,    0.067,2,   2258.9,2,   2355.9,2,   7.5935,       25,2, -999.000,9, -999.000,   -999.0,9,   -999.0, -999.000,9, -999.000, -999.000,9, -999.000
  49NZ20130106,  S04I,   135,  1,     12, X12J12,2,20130125,2030,-64.4338,  53.0715, 4146,   3001.5,2,  -0.0290,2,  -0.02904,2,  34.6648,2,  34.6648,2,-999.0000,9,   227.59,2,   227.45,2,   99.980,   0.0008,2,   -0.010,2,  -999.00,9,    0.000,2,   125.37,2,     0.17,    32.87,2,     0.05,     0.00,2,     0.01,     2.27,2,     0.01,    0.479,2,    0.232,2,    0.022,2,    0.093,2,   2255.8,2,   2354.4,2,   7.5947,       25,2, -999.000,9, -999.000,   -999.0,9,   -999.0, -999.000,9, -999.000, -999.000,9, -999.000
  49NZ20130106,  S04I,   135,  1,     11, X12J11,2,20130125,2030,-64.4338,  53.0715, 4146,   3250.5,2,  -0.0890,2,  -0.08889,2,  34.6621,2,  34.6621,2,-999.0000,9,   231.13,2,   230.78,2,   99.963,   0.0015,2,   -0.010,2,  -999.00,9,    0.000,2,   125.01,2,     0.17,    32.78,2,     0.05,     0.00,2,     0.01,     2.27,2,     0.01,    0.557,2,    0.269,2,    0.027,2,    0.117,2,   2254.3,2,   2353.8,2,   7.5965,       25,2, -999.000,9, -999.000,   -999.0,9,   -999.0, -999.000,9, -999.000, -999.000,9, -999.000
  49NZ20130106,  S04I,   135,  1,     10, X12J10,2,20130125,2030,-64.4338,  53.0715, 4146,   3500.7,2,  -0.1771,2,  -0.17641,2,  34.6566,2,  34.6569,2,-999.0000,9,   237.64,2,   236.85,2,   99.933,   0.0027,2,   -0.010,2,  -999.00,9,    0.000,2,   122.12,2,     0.17,    32.53,2,     0.05,     0.00,2,     0.01,     2.25,2,     0.01,    0.868,2,    0.444,2,    0.057,2,    0.245,2,   2252.9,2,   2352.8,2,   7.5985,       25,2, -999.000,9, -999.000,   -999.0,9,   -999.0, -999.000,9, -999.000, -999.000,9, -999.000
  49NZ20130106,  S04I,   135,  1,      9, X12J09,2,20130125,2030,-64.4338,  53.0715, 4146,   3751.1,2,  -0.2418,2,  -0.24173,2,  34.6524,2,  34.6526,2,-999.0000,9,   244.36,2,   243.99,2,   99.899,   0.0040,2,   -0.010,2,  -999.00,9,    0.000,2,   116.37,2,     0.16,    32.27,2,     0.05,     0.00,2,     0.01,     2.23,2,     0.01,    1.441,2,    0.766,2,    0.112,2,    0.464,2,   2250.4,2,   2350.5,2,   7.6007,       25,2, -999.000,9, -999.000,   -999.0,9,   -999.0, -999.000,9, -999.000, -999.000,9, -999.000
  49NZ20130106,  S04I,   135,  1,      8, X12J08,2,20130125,2030,-64.4338,  53.0715, 4146,   3999.9,2,  -0.3168,2,  -0.31652,2,  34.6493,2,  34.6496,2,-999.0000,9,   251.69,2,   251.32,2,   99.838,   0.0065,2,   -0.010,2,  -999.00,9,    0.000,2,   108.78,2,     0.16,    32.07,2,     0.04,     0.01,2,     0.01,     2.22,2,     0.01,    2.038,6,    1.065,6,    0.157,6,    0.750,6,   2248.3,2,   2349.4,2,   7.6006,       25,2, -999.000,9, -999.000,   -999.0,9,   -999.0, -999.000,9, -999.000, -999.000,9, -999.000
  49NZ20130106,  S04I,   135,  1,      7, X12J07,2,20130125,2030,-64.4338,  53.0715, 4146,      5.4,2,   0.0230,2,   0.02292,2,  33.8779,2,-999.0000,9,-999.0000,9,   336.78,2,  -999.00,9,   98.913,   0.0437,2,    0.160,2,  -999.00,9,    0.991,2,  -999.00,9,  -999.00,  -999.00,9,  -999.00,  -999.00,9,  -999.00,  -999.00,9,  -999.00, -999.000,9, -999.000,9, -999.000,9, -999.000,9,   -999.0,9,   -999.0,9,-999.0000,     -999,9, -999.000,9, -999.000,   -999.0,9,   -999.0, -999.000,9, -999.000, -999.000,9, -999.000
  49NZ20130106,  S04I,   135,  1,      2, X12J02,2,20130125,2030,-64.4338,  53.0715, 4146,     75.5,2,   1.2551,2,   1.25604,2,  34.5481,2,  34.5474,2,-999.0000,9,   195.10,2,   194.97,2,   98.310,   0.0682,2,    0.370,2,     0.40,2,    0.000,2,    81.15,2,     0.13,    33.93,2,     0.05,     0.03,2,     0.01,     2.35,2,     0.01, -999.000,9, -999.000,9, -999.000,9, -999.000,9,   -999.0,9,   -999.0,9,-999.0000,     -999,9, -999.000,9, -999.000,   -999.0,9,   -999.0, -999.000,9, -999.000, -999.000,9, -999.000
  49NZ20130106,  S04I,   135,  1,      1, X12J01,2,20130125,2030,-64.4338,  53.0715, 4146,   4243.1,2,  -0.4220,2,  -0.42223,2,  34.6444,2,  34.6450,2,-999.0000,9,   261.39,2,   261.02,2,   99.608,   0.0157,2,   -0.010,2,  -999.00,9,    0.000,2,    95.09,2,     0.14,    31.58,2,     0.04,     0.02,2,     0.01,     2.19,2,     0.01,    2.767,2,    1.495,2,    0.220,2,    1.135,2,   2246.2,2,   2347.3,2,   7.6013,       25,2, -999.000,9, -999.000,   -999.0,9,   -999.0, -999.000,9, -999.000, -999.000,9, -999.000