BOTTLE,20220819CCHSIOAMB
EXPOCODE,SECT_ID,STNNBR,CASTNO,SAMPNO,BTLNBR,BTLNBR_FLAG_W,DATE,TIME,LATITUDE,LONGITUDE,DEPTH,CTDPRS,CTDPRS_FLAG_W,CTDTMP,CTDTMP_FLAG_W,SBE35,SBE35_FLAG_W,CTDSAL,CTDSAL_FLAG_W,SALNTY,SALNTY_FLAG_W,DNSSAL,DNSSAL_FLAG_W,CTDOXY,CTDOXY_FLAG_W,OXYGEN,OXYGEN_FLAG_W,CTDXMISS,CTDXMISSCP,CTDXMISS_FLAG_W,CTDFLUOR,CTDFLUOR_FLAG_W,CHLORA,CHLORA_FLAG_W,PAR,PAR_FLAG_W,SILCAT,SILCAT_FLAG_W,SILUNC,NITRAT,NITRAT_FLAG_W,NRAUNC,NITRIT,NITRIT_FLAG_W,NRIUNC,PHSPHT,PHSPHT_FLAG_W,PHPUNC,CFC-11,CFC-11_FLAG_W,CFC-12,CFC-12_FLAG_W,CFC113,CFC113_FLAG_W,SF6,SF6_FLAG_W,TCARBN,TCARBN_FLAG_W,ALKALI,ALKALI_FLAG_W,PH_TOT,PH_TMP,PH_TOT_FLAG_W,DELC13,DELC13_FLAG_W,C13ERR,DELC14,DELC14_FLAG_W,C14ERR,CS-134,CS-134_FLAG_W,CS134ER,CS-137,CS-137_FLAG_W,CS137ER
,,,,,,,,UTC,DEG,DEG,METERS,DBAR,,ITS-90,,ITS-90,,PSS-78,,PSS-78,,G/KG,,UMOL/KG,,UMOL/KG,,%TRANS,/METER,,MG/M^3,,MG/CUM,,UE/SQM/S,,UMOL/KG,,UMOL/KG,UMOL/KG,,UMOL/KG,UMOL/KG,,UMOL/KG,UMOL/KG,,UMOL/KG,PMOL/KG,,PMOL/KG,,PMOL/KG,,FMOL/KG,,UMOL/KG,,UMOL/KG,,,DEG C,,/MILLE,,/MILLE,/MILLE,,/MILLE,MBQ/KG,,MBQ/KG,MBQ/KG,,MBQ/KG
  49NZ20130106,  S04I,   131,  1,     36, X12J36,2,20130126,1202,-63.5000,  55.9923, 4820,      5.3,2,   0.6839,2,   0.68343,2,  33.7437,2,  33.7446,2,-999.0000,9,   339.49,2,   339.66,2,   97.580,   0.0980,2,    0.140,2,  -999.00,9,  144.484,2,    39.12,2,     0.09,    25.83,2,     0.04,     0.27,2,     0.01,     1.80,2,     0.01,    6.126,2,    3.250,2,    0.513,2,    3.096,2,   2169.7,2,   2282.9,2,   7.6726,       25,6, -999.000,9, -999.000,   -999.0,9,   -999.0, -999.000,9, -999.000, -999.000,9, -999.000
  49NZ20130106,  S04I,   131,  1,     35, X12J35,2,20130126,1202,-63.5000,  55.9923, 4820,     25.0,2,   0.5891,2,   0.58926,2,  33.7446,2,  33.7456,2,-999.0000,9,   339.78,2,   339.74,2,   97.495,   0.1015,2,    0.200,2,  -999.00,9,   41.977,2,    39.12,2,     0.09,    25.86,2,     0.04,     0.26,2,     0.01,     1.80,2,     0.01,    6.122,2,    3.248,2,    0.517,2,    3.173,2,   2168.7,2,   2285.3,2,   7.6726,       25,2, -999.000,9, -999.000,   -999.0,9,   -999.0, -999.000,9, -999.000, -999.000,9, -999.000
  49NZ20130106,  S04I,   131,  1,     34, X12J34,2,20130126,1202,-63.5000,  55.9923, 4820,     50.0,2,  -0.7621,2,  -0.74884,2,  33.9634,2,  33.9502,2,-999.0000,9,   323.15,2,   324.33,2,   97.542,   0.0995,2,    0.280,2,  -999.00,9,   15.671,2,    42.84,2,     0.10,    27.13,2,     0.04,     0.19,2,     0.01,     1.91,2,     0.01,    5.567,6,    2.972,6,    0.468,6,    2.749,6,   2187.4,2,   2297.4,2,   7.6514,       25,2, -999.000,9, -999.000,   -999.0,9,   -999.0, -999.000,9, -999.000, -999.000,9, -999.000
  49NZ20130106,  S04I,   131,  1,     33, X12J33,2,20130126,1202,-63.5000,  55.9923, 4820,     75.2,2,   0.5477,2,   0.55000,2,  34.3517,2,  34.3472,2,-999.0000,9,   231.83,2,   233.32,2,   97.178,   0.1145,2,    0.450,2,  -999.00,9,    5.338,2,    66.33,2,     0.12,    32.81,2,     0.05,     0.11,2,     0.01,     2.29,2,     0.01,    3.154,2,    1.633,2,    0.250,2,    1.296,2,   2239.2,6,   2320.8,2,   7.5652,       25,2, -999.000,9, -999.000,   -999.0,9,   -999.0, -999.000,9, -999.000, -999.000,9, -999.000
  49NZ20130106,  S04I,   131,  1,     32, X12J32,2,20130126,1202,-63.5000,  55.9923, 4820,    100.5,2,   1.4194,2,   1.41959,2,  34.4916,2,  34.4906,2,-999.0000,9,   191.35,2,   191.76,2,   99.165,   0.0335,2,    0.220,2,  -999.00,9,    1.609,2,    76.21,2,     0.13,    34.89,2,     0.05,     0.07,2,     0.01,     2.41,2,     0.01,    1.867,2,    0.967,2,    0.150,2,    0.729,2,   2257.6,2,   2328.5,6,   7.5324,       25,2, -999.000,9, -999.000,   -999.0,9,   -999.0, -999.000,9, -999.000, -999.000,9, -999.000
  49NZ20130106,  S04I,   131,  1,     31, X12J31,2,20130126,1202,-63.5000,  55.9923, 4820,    125.8,2,   1.5532,2,   1.55235,2,  34.5394,2,  34.5387,2,-999.0000,9,   183.55,2,   183.76,2,   99.593,   0.0163,2,    0.090,2,  -999.00,9,    0.586,2,    79.18,2,     0.13,    34.98,2,     0.05,     0.04,2,     0.01,     2.41,2,     0.01,    1.481,2,    0.774,2,    0.120,2,    0.559,2,   2264.0,2,   2331.3,2,   7.5315,       25,2, -999.000,9, -999.000,   -999.0,9,   -999.0, -999.000,9, -999.000, -999.000,9, -999.000
  49NZ20130106,  S04I,   131,  1,     30, X12J30,2,20130126,1202,-63.5000,  55.9923, 4820,    149.4,2,   1.6541,2,   1.65393,2,  34.5744,2,  34.5737,2,-999.0000,9,   179.12,2,   179.37,2,   99.716,   0.0114,2,    0.030,2,  -999.00,9,    0.211,2,    81.02,2,     0.13,    34.81,2,     0.05,     0.02,2,     0.01,     2.39,2,     0.01,    1.190,2,    0.636,2,    0.098,2,    0.444,2,   2263.1,2,   2336.0,2,   7.5344,       25,6, -999.000,9, -999.000,   -999.0,9,   -999.0, -999.000,9, -999.000, -999.000,9, -999.000
  49NZ20130106,  S04I,   131,  1,     29, X12J29,2,20130126,1202,-63.5000,  55.9923, 4820,    199.3,2,   1.7369,2,   1.73685,2,  34.6108,2,  34.6106,2,-999.0000,9,   176.45,2,   176.70,2,   99.733,   0.0107,2,    0.010,2,  -999.00,9,    0.000,2,    82.75,2,     0.13,    34.43,2,     0.05,     0.01,2,     0.01,     2.37,2,     0.01,    0.949,2,    0.493,2,    0.072,2,    0.296,2,   2262.8,2,   2336.8,2,   7.5401,       25,2, -999.000,9, -999.000,   -999.0,9,   -999.0, -999.000,9, -999.000, -999.000,9, -999.000
  49NZ20130106,  S04I,   131,  1,     28, X12J28,2,20130126,1202,-63.5000,  55.9923, 4820,    249.5,2,   1.7717,2,   1.77232,2,  34.6445,2,  34.6451,2,-999.0000,9,   177.03,2,   177.13,2,   99.797,   0.0081,2,    0.010,2,  -999.00,9,    0.000,2,    84.15,2,     0.13,    33.87,2,     0.05,     0.01,2,     0.01,     2.33,2,     0.01,    0.779,2,    0.388,2,    0.057,2,    0.236,2,   2262.0,2,   2340.5,2,   7.5507,       25,2, -999.000,9, -999.000,   -999.0,9,   -999.0, -999.000,9, -999.000, -999.000,9, -999.000
  49NZ20130106,  S04I,   131,  1,     27, X12J27,2,20130126,1202,-63.5000,  55.9923, 4820,    279.8,2,   1.7563,2,   1.75587,2,  34.6566,2,  34.6569,2,-999.0000,9,   179.17,2,   179.18,2,   99.805,   0.0078,2,    0.000,2,  -999.00,9,    0.000,2,    84.54,2,     0.13,    33.54,2,     0.05,     0.01,2,     0.01,     2.31,2,     0.01,    0.734,2,    0.373,2,    0.056,2,    0.226,2,   2261.6,2,   2340.5,2,   7.5561,       25,2, -999.000,9, -999.000,   -999.0,9,   -999.0, -999.000,9, -999.000, -999.000,9, -999.000
  49NZ20130106,  S04I,   131,  1,     26, X12J26,2,20130126,1202,-63.5000,  55.9923, 4820,    370.7,2,   1.7353,2,   1.73509,2,  34.6897,2,  34.6905,2,-999.0000,9,   183.81,2,   183.88,2,   99.911,   0.0036,2,    0.000,2,  -999.00,9,    0.000,2,    85.68,2,     0.14,    32.64,2,     0.05,     0.01,2,     0.01,     2.24,2,     0.01,    0.553,2,    0.284,2,    0.042,2,    0.097,2,   2258.0,2,   2344.5,2,   7.5725,       25,2, -999.000,9, -999.000,   -999.0,9,   -999.0, -999.000,9, -999.000, -999.000,9, -999.000
  49NZ20130106,  S04I,   131,  1,     25, X12J25,2,20130126,1202,-63.5000,  55.9923, 4820,    471.2,2,   1.6532,2,   1.65290,2,  34.7065,2,  34.7072,2,-999.0000,9,   188.43,2,   188.55,2,   99.954,   0.0018,2,    0.000,2,  -999.00,9,    0.000,2,    87.06,2,     0.14,    31.97,2,     0.04,     0.01,2,     0.01,     2.20,2,     0.01,    0.491,2,    0.243,2,    0.037,2,    0.094,2,   2258.4,3,   2347.0,2,   7.5824,       25,2, -999.000,9, -999.000,   -999.0,9,   -999.0, -999.000,9, -999.000, -999.000,9, -999.000
  49NZ20130106,  S04I,   131,  1,     24, X12J24,2,20130126,1202,-63.5000,  55.9923, 4820,    571.4,2,   1.5907,2,   1.59064,2,  34.7196,2,  34.7200,2,-999.0000,9,   192.41,2,   192.44,2,   99.950,   0.0020,2,   -0.000,2,  -999.00,9,    0.000,2,    88.45,2,     0.14,    31.46,2,     0.04,     0.01,2,     0.01,     2.17,2,     0.01,    0.411,6,    0.208,6,    0.028,6,    0.071,6,   2254.8,2,   2348.1,2,   7.5911,       25,2, -999.000,9, -999.000,   -999.0,9,   -999.0, -999.000,9, -999.000, -999.000,9, -999.000
  49NZ20130106,  S04I,   131,  1,     23, X12J23,2,20130126,1202,-63.5000,  55.9923, 4820,    669.3,2,   1.4921,2,   1.49201,2,  34.7243,2,  34.7251,2,-999.0000,9,   195.55,2,   195.63,2,   99.962,   0.0015,2,    0.000,2,  -999.00,9,    0.000,2,    90.61,2,     0.14,    31.35,2,     0.04,     0.01,2,     0.01,     2.16,2,     0.01,    0.375,2,    0.192,2,    0.029,2,    0.083,2,   2255.3,6,   2349.9,2,   7.5966,       25,2, -999.000,9, -999.000,   -999.0,9,   -999.0, -999.000,9, -999.000, -999.000,9, -999.000
  49NZ20130106,  S04I,   131,  1,     22, X12J22,2,20130126,1202,-63.5000,  55.9923, 4820,    769.7,2,   1.3852,2,   1.38477,2,  34.7250,2,  34.7256,2,-999.0000,9,   197.93,2,   198.11,2,   99.973,   0.0011,2,    0.000,2,  -999.00,9,    0.000,2,    93.33,2,     0.14,    31.31,2,     0.04,     0.01,2,     0.01,     2.16,2,     0.01,    0.356,2,    0.183,2,    0.022,2,    0.060,2,   2255.1,2,   2351.7,6,   7.5993,       25,2, -999.000,9, -999.000,   -999.0,9,   -999.0, -999.000,9, -999.000, -999.000,9, -999.000
  49NZ20130106,  S04I,   131,  1,     21, X12J21,2,20130126,1202,-63.5000,  55.9923, 4820,    871.6,2,   1.3000,2,   1.29978,2,  34.7251,2,  34.7258,2,-999.0000,9,   199.73,2,   199.79,2,   99.981,   0.0008,2,   -0.000,2,  -999.00,9,    0.000,2,    95.42,2,     0.14,    31.30,2,     0.04,     0.01,2,     0.01,     2.16,2,     0.01,    0.340,2,    0.170,2,    0.021,2,    0.064,2,   2255.2,2,   2352.4,2,   7.6011,       25,2, -999.000,9, -999.000,   -999.0,9,   -999.0, -999.000,9, -999.000, -999.000,9, -999.000
  49NZ20130106,  S04I,   131,  1,     20, X12J20,2,20130126,1202,-63.5000,  55.9923, 4820,    960.3,2,   1.2272,2,   1.22739,2,  34.7244,2,  34.7252,2,-999.0000,9,   201.19,2,   201.24,2,   99.986,   0.0006,2,   -0.000,2,  -999.00,9,    0.000,2,    97.57,2,     0.15,    31.30,2,     0.04,     0.01,2,     0.01,     2.16,2,     0.01,    0.320,2,    0.163,2,    0.021,2,    0.069,2,   2257.6,2,   2353.3,2,   7.6026,       25,2, -999.000,9, -999.000,   -999.0,9,   -999.0, -999.000,9, -999.000, -999.000,9, -999.000
  49NZ20130106,  S04I,   131,  1,     19, X12J19,2,20130126,1202,-63.5000,  55.9923, 4820,   1170.2,2,   1.0178,2,   1.01771,2,  34.7149,2,  34.7155,2,-999.0000,9,   203.15,2,   203.15,2,  100.001,  -0.0000,2,   -0.000,2,  -999.00,9,    0.000,2,   103.23,2,     0.15,    31.68,2,     0.04,     0.01,2,     0.01,     2.18,2,     0.01,    0.338,6,    0.168,6,    0.018,6,    0.060,6,   2260.1,2,   2354.9,2,   7.5999,       25,2, -999.000,9, -999.000,   -999.0,9,   -999.0, -999.000,9, -999.000, -999.000,9, -999.000
  49NZ20130106,  S04I,   131,  1,     18, X12J18,2,20130126,1202,-63.5000,  55.9923, 4820,   1419.2,2,   0.8311,2,   0.83098,2,  34.7067,2,  34.7072,2,-999.0000,9,   205.03,2,   205.00,2,  100.003,  -0.0001,2,   -0.000,2,  -999.00,9,    0.000,2,   108.58,2,     0.16,    32.09,2,     0.04,     0.01,2,     0.01,     2.21,2,     0.01,    0.327,2,    0.159,2,    0.020,2,    0.038,2,   2259.8,2,   2356.0,2,   7.5969,       25,2, -999.000,9, -999.000,   -999.0,9,   -999.0, -999.000,9, -999.000, -999.000,9, -999.000
  49NZ20130106,  S04I,   131,  1,     17, X12J17,2,20130126,1202,-63.5000,  55.9923, 4820,   1670.2,2,   0.6617,2,   0.66172,2,  34.6978,2,  34.6986,2,-999.0000,9,   206.21,2,   206.30,2,  100.003,  -0.0001,2,   -0.000,2,  -999.00,9,    0.000,2,   113.87,2,     0.16,    32.49,2,     0.05,     0.01,2,     0.01,     2.24,2,     0.01,    0.325,2,    0.161,2,    0.016,2,    0.029,2,   2263.0,2,   2356.3,2,   7.5923,       25,6, -999.000,9, -999.000,   -999.0,9,   -999.0, -999.000,9, -999.000, -999.000,9, -999.000
  49NZ20130106,  S04I,   131,  1,     16, X12J16,2,20130126,1202,-63.5000,  55.9923, 4820,   1920.7,2,   0.5430,2,   0.54340,2,  34.6915,2,  34.6921,2,-999.0000,9,   207.66,2,   207.71,2,  100.001,  -0.0000,2,   -0.000,2,  -999.00,9,    0.000,2,   117.72,2,     0.16,    32.78,2,     0.05,     0.00,2,     0.01,     2.26,2,     0.01,    0.328,2,    0.157,2,    0.017,2,    0.071,2,   2263.3,2,   2356.4,2,   7.5895,       25,2, -999.000,9, -999.000,   -999.0,9,   -999.0, -999.000,9, -999.000, -999.000,9, -999.000
  49NZ20130106,  S04I,   131,  1,     15, X12J15,2,20130126,1202,-63.5000,  55.9923, 4820,   2171.8,2,   0.4236,2,   0.42377,2,  34.6854,2,  34.6863,2,-999.0000,9,   209.93,2,   210.00,2,  100.003,  -0.0001,2,   -0.000,2,  -999.00,9,    0.000,2,   120.84,2,     0.17,    32.93,2,     0.05,     0.00,2,     0.01,     2.28,2,     0.01,    0.330,2,    0.158,2,    0.011,2,    0.043,2,   2264.3,2,   2356.9,2,   7.5882,       25,2, -999.000,9, -999.000,   -999.0,9,   -999.0, -999.000,9, -999.000, -999.000,9, -999.000
  49NZ20130106,  S04I,   131,  1,     14, X12J14,2,20130126,1202,-63.5000,  55.9923, 4820,   2421.5,2,   0.3177,2,   0.31775,2,  34.6802,2,  34.6804,2,-999.0000,9,   213.13,2,   213.20,2,   99.996,   0.0002,2,   -0.000,2,  -999.00,9,    0.000,2,   122.84,2,     0.17,    32.98,2,     0.05,     0.01,2,     0.01,     2.27,2,     0.01,    0.331,2,    0.158,2,    0.011,2,    0.021,2,   2263.3,6,   2356.1,2,   7.5880,       25,2, -999.000,9, -999.000,   -999.0,9,   -999.0, -999.000,9, -999.000, -999.000,9, -999.000
  49NZ20130106,  S04I,   131,  1,     13, X12J13,2,20130126,1202,-63.5000,  55.9923, 4820,   2671.5,2,   0.2200,2,   0.22012,2,  34.6755,2,  34.6759,2,-999.0000,9,   216.58,2,   216.81,2,   99.998,   0.0001,2,   -0.010,2,  -999.00,9,    0.000,2,   124.33,2,     0.17,    33.05,2,     0.05,     0.00,2,     0.01,     2.28,2,     0.01,    0.335,2,    0.160,2,    0.011,2,    0.092,2,   2262.5,2,   2356.2,6,   7.5892,       25,2, -999.000,9, -999.000,   -999.0,9,   -999.0, -999.000,9, -999.000, -999.000,9, -999.000
  49NZ20130106,  S04I,   131,  1,     12, X12J12,2,20130126,1202,-63.5000,  55.9923, 4820,   2920.3,2,   0.1303,2,   0.13062,2,  34.6713,2,  34.6717,2,-999.0000,9,   220.42,2,   220.53,2,   99.998,   0.0001,2,   -0.000,2,  -999.00,9,    0.000,2,   125.48,2,     0.17,    33.00,2,     0.05,     0.01,2,     0.01,     2.28,2,     0.01,    0.345,2,    0.165,2,    0.015,2,    0.099,2,   2261.7,2,   2354.8,2,   7.5911,       25,6, -999.000,9, -999.000,   -999.0,9,   -999.0, -999.000,9, -999.000, -999.000,9, -999.000
  49NZ20130106,  S04I,   131,  1,     11, X12J11,2,20130126,1202,-63.5000,  55.9923, 4820,   3170.5,2,   0.0579,2,   0.05801,2,  34.6678,2,  34.6682,2,-999.0000,9,   224.06,2,   223.91,2,   99.998,   0.0001,2,   -0.010,2,  -999.00,9,    0.000,2,   126.15,2,     0.17,    32.95,2,     0.05,     0.01,2,     0.01,     2.28,2,     0.01,    0.356,2,    0.172,2,    0.015,2,    0.106,2,   2260.8,2,   2353.4,2,   7.5921,       25,2, -999.000,9, -999.000,   -999.0,9,   -999.0, -999.000,9, -999.000, -999.000,9, -999.000
  49NZ20130106,  S04I,   131,  1,     10, X12J10,2,20130126,1202,-63.5000,  55.9923, 4820,   3419.6,2,  -0.0068,2,  -0.00652,2,  34.6649,2,  34.6648,2,-999.0000,9,   227.46,2,   227.49,2,   99.986,   0.0006,2,   -0.010,2,  -999.00,9,    0.000,2,   126.84,2,     0.17,    32.88,2,     0.05,     0.01,2,     0.01,     2.28,2,     0.01,    0.367,2,    0.174,2,    0.015,2,    0.090,2,   2258.3,2,   2353.9,2,   7.5946,       25,2, -999.000,9, -999.000,   -999.0,9,   -999.0, -999.000,9, -999.000, -999.000,9, -999.000
  49NZ20130106,  S04I,   131,  1,      9, X12J09,2,20130126,1202,-63.5000,  55.9923, 4820,   3669.3,2,  -0.0596,2,  -0.05949,2,  34.6624,2,  34.6626,2,-999.0000,9,   230.45,2,   230.34,2,   99.990,   0.0004,2,   -0.010,2,  -999.00,9,    0.000,2,   127.91,2,     0.17,    32.86,2,     0.05,     0.01,2,     0.01,     2.27,2,     0.01,    0.360,2,    0.177,2,    0.016,2,    0.104,2,   2255.8,3,   2354.0,2,   7.5967,       25,2, -999.000,9, -999.000,   -999.0,9,   -999.0, -999.000,9, -999.000, -999.000,9, -999.000
  49NZ20130106,  S04I,   131,  1,      8, X12J08,2,20130126,1202,-63.5000,  55.9923, 4820,   3919.9,2,  -0.1094,2,  -0.10926,2,  34.6599,2,  34.6597,2,-999.0000,9,   233.41,2,   233.38,2,   99.975,   0.0010,2,   -0.010,2,  -999.00,9,    0.000,2,   128.32,2,     0.17,    32.84,2,     0.05,     0.01,2,     0.01,     2.27,2,     0.01,    0.390,6,    0.192,6,    0.016,6,    0.076,6,   2257.3,2,   2353.4,2,   7.5984,       25,2, -999.000,9, -999.000,   -999.0,9,   -999.0, -999.000,9, -999.000, -999.000,9, -999.000
  49NZ20130106,  S04I,   131,  1,      7, X12J07,2,20130126,1202,-63.5000,  55.9923, 4820,   4169.2,2,  -0.1535,2,  -0.15340,2,  34.6572,2,  34.6576,2,-999.0000,9,   236.43,2,   236.40,2,   99.943,   0.0023,2,   -0.010,2,  -999.00,9,    0.000,2,   128.32,2,     0.17,    32.78,2,     0.05,     0.01,2,     0.01,     2.27,2,     0.01,    0.462,2,    0.230,2,    0.018,2,    0.087,2,   2255.6,6,   2353.4,2,   7.5999,       25,2, -999.000,9, -999.000,   -999.0,9,   -999.0, -999.000,9, -999.000, -999.000,9, -999.000
  49NZ20130106,  S04I,   131,  1,      6, X12J06,2,20130126,1202,-63.5000,  55.9923, 4820,   4420.5,2,  -0.1873,2,  -0.18726,2,  34.6550,2,  34.6557,2,-999.0000,9,   238.89,2,   238.81,2,   99.950,   0.0020,2,   -0.010,2,  -999.00,9,    0.000,2,   130.26,2,     0.18,    32.71,2,     0.05,     0.01,2,     0.01,     2.26,2,     0.01,    0.513,2,    0.258,2,    0.027,2,    0.046,2,   2255.7,2,   2353.9,6,   7.6015,       25,2, -999.000,9, -999.000,   -999.0,9,   -999.0, -999.000,9, -999.000, -999.000,9, -999.000
  49NZ20130106,  S04I,   131,  1,      5, X12J05,2,20130126,1202,-63.5000,  55.9923, 4820,   4669.3,2,  -0.2225,2,  -0.22248,2,  34.6520,2,  34.6526,2,-999.0000,9,   241.73,2,   241.71,2,   99.854,   0.0058,2,   -0.010,2,  -999.00,9,    0.000,2,   132.36,2,     0.18,    32.65,2,     0.05,     0.01,2,     0.01,     2.26,2,     0.01,    0.695,2,    0.359,2,    0.035,2,    0.167,2,   2254.1,6,   2353.3,2,   7.6021,       25,6, -999.000,9, -999.000,   -999.0,9,   -999.0, -999.000,9, -999.000, -999.000,9, -999.000
  49NZ20130106,  S04I,   131,  1,      3, X12J03,2,20130126,1202,-63.5000,  55.9923, 4820,     75.1,2,   0.5419,2,   0.53537,2,  34.3499,2,-999.0000,9,-999.0000,9,   233.81,2,  -999.00,9,   97.130,   0.1165,2,    0.470,2,  -999.00,9,    5.230,2,  -999.00,9,  -999.00,  -999.00,9,  -999.00,  -999.00,9,  -999.00,  -999.00,9,  -999.00, -999.000,9, -999.000,9, -999.000,9, -999.000,9,   -999.0,9,   -999.0,9,-999.0000,     -999,9, -999.000,9, -999.000,   -999.0,9,   -999.0, -999.000,9, -999.000, -999.000,9, -999.000
  49NZ20130106,  S04I,   131,  1,      2, X12J02,2,20130126,1202,-63.5000,  55.9923, 4820,     74.7,2,   0.5000,2,   0.50063,2,  34.3456,2,-999.0000,9,-999.0000,9,   233.39,2,  -999.00,9,   97.178,   0.1145,2,    0.490,2,     0.45,2,    5.480,2,  -999.00,9,  -999.00,  -999.00,9,  -999.00,  -999.00,9,  -999.00,  -999.00,9,  -999.00, -999.000,9, -999.000,9, -999.000,9, -999.000,9,   -999.0,9,   -999.0,9,-999.0000,     -999,9, -999.000,9, -999.000,   -999.0,9,   -999.0, -999.000,9, -999.000, -999.000,9, -999.000
  49NZ20130106,  S04I,   131,  1,      1, X12J01,2,20130126,1202,-63.5000,  55.9923, 4820,   4911.2,2,  -0.2588,2,  -0.25877,2,  34.6488,2,  34.6497,2,-999.0000,9,   242.68,2,   242.81,2,   99.603,   0.0159,2,   -0.010,2,  -999.00,9,    0.000,2,   139.00,2,     0.18,    32.70,2,     0.05,     0.01,2,     0.01,     2.27,2,     0.01,    0.760,2,    0.382,2,    0.043,2,    0.190,2,   2254.5,2,   2353.2,2,   7.6012,       25,2, -999.000,9, -999.000,   -999.0,9,   -999.0, -999.000,9, -999.000, -999.000,9, -999.000