BOTTLE,20220819CCHSIOAMB
EXPOCODE,SECT_ID,STNNBR,CASTNO,SAMPNO,BTLNBR,BTLNBR_FLAG_W,DATE,TIME,LATITUDE,LONGITUDE,DEPTH,CTDPRS,CTDPRS_FLAG_W,CTDTMP,CTDTMP_FLAG_W,SBE35,SBE35_FLAG_W,CTDSAL,CTDSAL_FLAG_W,SALNTY,SALNTY_FLAG_W,DNSSAL,DNSSAL_FLAG_W,CTDOXY,CTDOXY_FLAG_W,OXYGEN,OXYGEN_FLAG_W,CTDXMISS,CTDXMISSCP,CTDXMISS_FLAG_W,CTDFLUOR,CTDFLUOR_FLAG_W,CHLORA,CHLORA_FLAG_W,PAR,PAR_FLAG_W,SILCAT,SILCAT_FLAG_W,SILUNC,NITRAT,NITRAT_FLAG_W,NRAUNC,NITRIT,NITRIT_FLAG_W,NRIUNC,PHSPHT,PHSPHT_FLAG_W,PHPUNC,CFC-11,CFC-11_FLAG_W,CFC-12,CFC-12_FLAG_W,CFC113,CFC113_FLAG_W,SF6,SF6_FLAG_W,TCARBN,TCARBN_FLAG_W,ALKALI,ALKALI_FLAG_W,PH_TOT,PH_TMP,PH_TOT_FLAG_W,DELC13,DELC13_FLAG_W,C13ERR,DELC14,DELC14_FLAG_W,C14ERR,CS-134,CS-134_FLAG_W,CS134ER,CS-137,CS-137_FLAG_W,CS137ER
,,,,,,,,UTC,DEG,DEG,METERS,DBAR,,ITS-90,,ITS-90,,PSS-78,,PSS-78,,G/KG,,UMOL/KG,,UMOL/KG,,%TRANS,/METER,,MG/M^3,,MG/CUM,,UE/SQM/S,,UMOL/KG,,UMOL/KG,UMOL/KG,,UMOL/KG,UMOL/KG,,UMOL/KG,UMOL/KG,,UMOL/KG,PMOL/KG,,PMOL/KG,,PMOL/KG,,FMOL/KG,,UMOL/KG,,UMOL/KG,,,DEG C,,/MILLE,,/MILLE,/MILLE,,/MILLE,MBQ/KG,,MBQ/KG,MBQ/KG,,MBQ/KG
  49NZ20130106,  S04I,   144,  1,     36, X12J36,2,20130127,2349,-63.4998,  49.1632, 4758,      5.4,2,   1.0397,2,   1.04078,2,  33.7600,2,  33.7604,2,-999.0000,9,   338.90,2,   338.61,2,   98.084,   0.0774,2,    0.180,2,  -999.00,9,   62.914,2,    39.80,2,     0.09,    25.24,2,     0.04,     0.29,2,     0.01,     1.74,2,     0.01,    5.909,2,    3.217,2,    0.577,2,    2.886,2,   2159.1,2,   2289.1,2,   7.6833,       25,6, -999.000,9, -999.000,   -999.0,9,   -999.0, -999.000,9, -999.000, -999.000,9, -999.000
  49NZ20130106,  S04I,   144,  1,     35, X12J35,2,20130127,2349,-63.4998,  49.1632, 4758,     24.3,2,   0.4852,2,   0.48394,2,  33.7787,2,  33.7791,2,-999.0000,9,   343.17,2,   343.04,2,   97.574,   0.0982,2,    0.260,2,  -999.00,9,   17.824,2,    40.23,2,     0.09,    25.30,2,     0.04,     0.25,2,     0.01,     1.75,2,     0.01,    6.063,2,    3.253,2,    0.605,2,    2.847,2,   2161.6,2,   2290.2,2,   7.6816,       25,2, -999.000,9, -999.000,   -999.0,9,   -999.0, -999.000,9, -999.000, -999.000,9, -999.000
  49NZ20130106,  S04I,   144,  1,     34, X12J34,2,20130127,2349,-63.4998,  49.1632, 4758,     51.1,2,  -1.2652,2,  -1.25911,2,  34.0295,2,  34.0213,2,-999.0000,9,   336.29,2,   336.76,2,   97.151,   0.1156,2,    0.410,2,  -999.00,9,    5.298,2,    43.95,2,     0.10,    26.34,2,     0.04,     0.18,2,     0.01,     1.83,2,     0.01,    5.650,6,    3.052,6,    0.549,6,    2.586,6,   2181.8,2,   2306.1,2,   7.6684,       25,2, -999.000,9, -999.000,   -999.0,9,   -999.0, -999.000,9, -999.000, -999.000,9, -999.000
  49NZ20130106,  S04I,   144,  1,     33, X12J33,2,20130127,2349,-63.4998,  49.1632, 4758,     75.4,2,  -1.5362,2,  -1.53925,2,  34.1198,2,  34.1172,2,-999.0000,9,   320.91,2,   320.39,2,   97.625,   0.0961,2,    0.500,2,  -999.00,9,    1.482,2,    47.44,2,     0.10,    27.67,2,     0.04,     0.22,2,     0.01,     1.93,2,     0.01,    5.435,2,    2.879,2,    0.527,2,    2.476,2,   2195.4,6,   2311.0,2,   7.6430,       25,2, -999.000,9, -999.000,   -999.0,9,   -999.0, -999.000,9, -999.000, -999.000,9, -999.000
  49NZ20130106,  S04I,   144,  1,     32, X12J32,2,20130127,2349,-63.4998,  49.1632, 4758,    100.9,2,   0.2652,2,   0.25952,2,  34.3629,2,  34.3594,2,-999.0000,9,   235.91,2,   234.79,2,   99.226,   0.0311,2,    0.200,2,  -999.00,9,    0.392,2,    68.29,2,     0.12,    32.81,2,     0.05,     0.15,2,     0.01,     2.28,2,     0.01,    3.190,2,    1.686,2,    0.303,2,    1.293,2,   2236.6,2,   2322.9,6,   7.5639,       25,2, -999.000,9, -999.000,   -999.0,9,   -999.0, -999.000,9, -999.000, -999.000,9, -999.000
  49NZ20130106,  S04I,   144,  1,     31, X12J31,2,20130127,2349,-63.4998,  49.1632, 4758,    124.9,2,   1.1156,2,   1.11625,2,  34.4892,2,  34.4849,2,-999.0000,9,   198.75,2,   200.02,2,   99.526,   0.0190,2,    0.140,2,  -999.00,9,    0.116,2,    77.28,2,     0.13,    34.57,2,     0.05,     0.08,2,     0.01,     2.39,2,     0.01,    2.080,2,    1.081,2,    0.179,2,    0.817,2,   2253.5,2,   2329.2,2,   7.5376,       25,2, -999.000,9, -999.000,   -999.0,9,   -999.0, -999.000,9, -999.000, -999.000,9, -999.000
  49NZ20130106,  S04I,   144,  1,     30, X12J30,2,20130127,2349,-63.4998,  49.1632, 4758,    149.9,2,   1.3795,2,   1.37826,2,  34.5434,2,  34.5429,2,-999.0000,9,   188.13,2,   188.10,2,   99.671,   0.0132,2,    0.080,2,  -999.00,9,    0.017,2,    80.92,2,     0.13,    34.81,2,     0.05,     0.03,2,     0.01,     2.40,2,     0.01,    1.581,2,    0.824,2,    0.124,2,    0.487,2,   2256.8,2,   2333.4,2,   7.5346,       25,6, -999.000,9, -999.000,   -999.0,9,   -999.0, -999.000,9, -999.000, -999.000,9, -999.000
  49NZ20130106,  S04I,   144,  1,     29, X12J29,2,20130127,2349,-63.4998,  49.1632, 4758,    200.5,2,   1.5458,2,   1.54509,2,  34.6106,2,  34.6105,2,-999.0000,9,   181.96,2,   181.83,2,   99.792,   0.0083,2,    0.010,2,  -999.00,9,    0.000,2,    84.54,2,     0.13,    34.29,2,     0.05,     0.01,2,     0.01,     2.37,2,     0.01,    1.073,2,    0.550,2,    0.084,2,    0.320,2,   2259.0,2,   2339.2,2,   7.5440,       25,2, -999.000,9, -999.000,   -999.0,9,   -999.0, -999.000,9, -999.000, -999.000,9, -999.000
  49NZ20130106,  S04I,   144,  1,     28, X12J28,2,20130127,2349,-63.4998,  49.1632, 4758,    249.9,2,   1.5847,2,   1.58459,2,  34.6436,2,  34.6434,2,-999.0000,9,   182.07,2,   182.12,2,   99.802,   0.0079,2,    0.010,2,  -999.00,9,    0.000,2,    85.97,2,     0.14,    33.78,2,     0.05,     0.01,2,     0.01,     2.33,2,     0.01,    0.881,2,    0.444,2,    0.065,2,    0.327,2,   2257.6,2,   2342.0,2,   7.5532,       25,2, -999.000,9, -999.000,   -999.0,9,   -999.0, -999.000,9, -999.000, -999.000,9, -999.000
  49NZ20130106,  S04I,   144,  1,     27, X12J27,2,20130127,2349,-63.4998,  49.1632, 4758,    282.3,2,   1.5814,2,   1.58124,2,  34.6553,2,  34.6543,2,-999.0000,9,   182.26,2,   182.29,2,   99.819,   0.0072,2,    0.010,2,  -999.00,9,    0.000,2,    86.89,2,     0.14,    33.59,2,     0.05,     0.01,2,     0.01,     2.31,2,     0.01,    0.840,2,    0.405,2,    0.063,2,    0.232,2,   2256.7,2,   2343.3,2,   7.5563,       25,2, -999.000,9, -999.000,   -999.0,9,   -999.0, -999.000,9, -999.000, -999.000,9, -999.000
  49NZ20130106,  S04I,   144,  1,     26, X12J26,2,20130127,2349,-63.4998,  49.1632, 4758,    370.7,2,   1.5840,2,   1.58489,2,  34.6894,2,  34.6892,2,-999.0000,9,   186.17,2,   186.24,2,   99.883,   0.0047,2,    0.000,2,  -999.00,9,    0.000,2,    88.23,2,     0.14,    32.69,2,     0.05,     0.01,2,     0.01,     2.26,2,     0.01,    0.657,2,    0.303,2,    0.045,2,    0.181,2,   2255.0,2,   2346.4,2,   7.5725,       25,2, -999.000,9, -999.000,   -999.0,9,   -999.0, -999.000,9, -999.000, -999.000,9, -999.000
  49NZ20130106,  S04I,   144,  1,     25, X12J25,2,20130127,2349,-63.4998,  49.1632, 4758,    472.2,2,   1.5263,2,   1.52535,2,  34.7075,2,  34.7076,2,-999.0000,9,   190.54,2,   190.70,2,   99.949,   0.0020,2,    0.000,2,  -999.00,9,    0.000,2,    89.94,2,     0.14,    32.09,2,     0.05,     0.01,2,     0.01,     2.20,2,     0.01,    0.527,2,    0.250,2,    0.036,2,    0.125,2,   2254.5,2,   2348.4,2,   7.5840,       25,2, -999.000,9, -999.000,   -999.0,9,   -999.0, -999.000,9, -999.000, -999.000,9, -999.000
  49NZ20130106,  S04I,   144,  1,     24, X12J24,2,20130127,2349,-63.4998,  49.1632, 4758,    569.7,2,   1.4214,2,   1.42094,2,  34.7159,2,  34.7156,2,-999.0000,9,   194.30,2,   194.36,2,   99.947,   0.0021,2,    0.000,2,  -999.00,9,    0.000,2,    92.39,2,     0.14,    31.83,2,     0.04,     0.01,2,     0.01,     2.19,2,     0.01,    0.470,6,    0.222,6,    0.030,6,    0.113,6,   2251.8,2,   2350.3,2,   7.5905,       25,2, -999.000,9, -999.000,   -999.0,9,   -999.0, -999.000,9, -999.000, -999.000,9, -999.000
  49NZ20130106,  S04I,   144,  1,     23, X12J23,2,20130127,2349,-63.4998,  49.1632, 4758,    670.9,2,   1.3156,2,   1.31507,2,  34.7184,2,  34.7189,2,-999.0000,9,   197.13,2,   197.23,2,   99.943,   0.0023,2,    0.000,2,  -999.00,9,    0.000,2,    95.14,2,     0.14,    31.73,2,     0.04,     0.01,2,     0.01,     2.19,2,     0.01,    0.436,2,    0.202,2,    0.026,2,    0.109,2,   2252.2,6,   2351.8,2,   7.5945,       25,2, -999.000,9, -999.000,   -999.0,9,   -999.0, -999.000,9, -999.000, -999.000,9, -999.000
  49NZ20130106,  S04I,   144,  1,     22, X12J22,2,20130127,2349,-63.4998,  49.1632, 4758,    771.7,2,   1.1969,2,   1.19675,2,  34.7167,2,  34.7172,2,-999.0000,9,   198.98,2,   198.99,2,   99.928,   0.0029,2,    0.000,2,  -999.00,9,    0.000,2,    98.11,2,     0.15,    31.80,2,     0.04,     0.01,2,     0.01,     2.20,2,     0.01,    0.427,2,    0.198,2,    0.029,2,    0.159,2,   2252.9,2,   2352.7,6,   7.5947,       25,2, -999.000,9, -999.000,   -999.0,9,   -999.0, -999.000,9, -999.000, -999.000,9, -999.000
  49NZ20130106,  S04I,   144,  1,     21, X12J21,2,20130127,2349,-63.4998,  49.1632, 4758,    870.1,2,   1.1069,2,   1.10671,2,  34.7150,2,  34.7151,2,-999.0000,9,   200.48,2,   200.32,2,   99.960,   0.0016,2,   -0.000,2,  -999.00,9,    0.000,2,   100.72,2,     0.15,    31.91,2,     0.04,     0.01,2,     0.01,     2.21,2,     0.01,    0.423,2,    0.192,2,    0.025,2,    0.109,2,   2253.2,2,   2353.9,2,   7.5957,       25,6, -999.000,9, -999.000,   -999.0,9,   -999.0, -999.000,9, -999.000, -999.000,9, -999.000
  49NZ20130106,  S04I,   144,  1,     20, X12J20,2,20130127,2349,-63.4998,  49.1632, 4758,    961.9,2,   1.0160,2,   1.01606,2,  34.7117,2,  34.7120,2,-999.0000,9,   201.84,2,   201.56,2,   99.962,   0.0015,2,   -0.000,2,  -999.00,9,    0.000,2,   103.01,2,     0.15,    31.99,2,     0.04,     0.01,2,     0.01,     2.21,2,     0.01,    0.406,2,    0.187,2,    0.018,2,    0.083,2,   2253.9,2,   2353.2,2,   7.5958,       25,2, -999.000,9, -999.000,   -999.0,9,   -999.0, -999.000,9, -999.000, -999.000,9, -999.000
  49NZ20130106,  S04I,   144,  1,     19, X12J19,2,20130127,2349,-63.4998,  49.1632, 4758,   1171.6,2,   0.8452,2,   0.84529,2,  34.7054,2,  34.7058,2,-999.0000,9,   203.79,2,   203.72,2,   99.949,   0.0020,2,   -0.000,2,  -999.00,9,    0.000,2,   107.98,2,     0.16,    32.26,2,     0.05,     0.01,2,     0.01,     2.23,2,     0.01,    0.398,6,    0.184,6,    0.019,6,    0.091,6,   2256.0,2,   2355.4,2,   7.5943,       25,2, -999.000,9, -999.000,   -999.0,9,   -999.0, -999.000,9, -999.000, -999.000,9, -999.000
  49NZ20130106,  S04I,   144,  1,     18, X12J18,2,20130127,2349,-63.4998,  49.1632, 4758,   1419.4,2,   0.6867,2,   0.68656,2,  34.6986,2,  34.6987,2,-999.0000,9,   205.25,2,   205.21,2,   99.985,   0.0006,2,   -0.000,2,  -999.00,9,    0.000,2,   112.92,2,     0.16,    32.58,2,     0.05,     0.01,2,     0.01,     2.26,2,     0.01,    0.362,2,    0.178,2,    0.015,2,    0.038,2,   2258.2,2,   2356.5,2,   7.5913,       25,2, -999.000,9, -999.000,   -999.0,9,   -999.0, -999.000,9, -999.000, -999.000,9, -999.000
  49NZ20130106,  S04I,   144,  1,     17, X12J17,2,20130127,2349,-63.4998,  49.1632, 4758,   1672.3,2,   0.5514,2,   0.55142,2,  34.6925,2,  34.6924,2,-999.0000,9,   207.10,2,   207.03,2,   99.979,   0.0008,2,   -0.000,2,  -999.00,9,    0.000,2,   117.21,2,     0.16,    32.83,2,     0.05,     0.01,2,     0.01,     2.27,2,     0.01,    0.349,2,    0.164,2,    0.014,2,    0.074,2,   2259.9,2,   2357.1,2,   7.5889,       25,6, -999.000,9, -999.000,   -999.0,9,   -999.0, -999.000,9, -999.000, -999.000,9, -999.000
  49NZ20130106,  S04I,   144,  1,     16, X12J16,2,20130127,2349,-63.4998,  49.1632, 4758,   1919.7,2,   0.4247,2,   0.42469,2,  34.6859,2,  34.6862,2,-999.0000,9,   209.38,2,   209.23,2,   99.987,   0.0005,2,   -0.000,2,  -999.00,9,    0.000,2,   120.66,2,     0.17,    33.02,2,     0.05,     0.00,2,     0.01,     2.30,2,     0.01,    0.347,2,    0.160,2,    0.013,2,    0.029,2,   2259.4,2,   2357.3,2,   7.5873,       25,2, -999.000,9, -999.000,   -999.0,9,   -999.0, -999.000,9, -999.000, -999.000,9, -999.000
  49NZ20130106,  S04I,   144,  1,     15, X12J15,2,20130127,2349,-63.4998,  49.1632, 4758,   2171.8,2,   0.3285,2,   0.32866,2,  34.6813,2,  34.6811,2,-999.0000,9,   212.20,2,   212.00,2,   99.983,   0.0007,2,   -0.000,2,  -999.00,9,    0.000,2,   122.57,2,     0.17,    33.07,2,     0.05,     0.00,2,     0.01,     2.30,2,     0.01,    0.344,2,    0.162,2,    0.012,2,    0.060,2,   2258.9,2,   2357.3,2,   7.5876,       25,2, -999.000,9, -999.000,   -999.0,9,   -999.0, -999.000,9, -999.000, -999.000,9, -999.000
  49NZ20130106,  S04I,   144,  1,     14, X12J14,2,20130127,2349,-63.4998,  49.1632, 4758,   2422.0,2,   0.2139,2,   0.21381,2,  34.6752,2,  34.6753,2,-999.0000,9,   216.51,2,   216.48,2,   99.977,   0.0009,2,   -0.000,2,  -999.00,9,    0.000,2,   123.30,2,     0.17,    33.01,2,     0.05,     0.00,2,     0.01,     2.29,2,     0.01,    0.394,2,    0.192,2,    0.014,2,    0.081,2,   2257.6,6,   2355.7,2,   7.5885,       25,2, -999.000,9, -999.000,   -999.0,9,   -999.0, -999.000,9, -999.000, -999.000,9, -999.000
  49NZ20130106,  S04I,   144,  1,     13, X12J13,2,20130127,2349,-63.4998,  49.1632, 4758,   2669.5,2,   0.1216,2,   0.12166,2,  34.6716,2,  34.6716,2,-999.0000,9,   220.16,2,   219.97,2,   99.985,   0.0006,2,   -0.010,2,  -999.00,9,    0.000,2,   125.11,2,     0.17,    33.07,2,     0.05,     0.00,2,     0.01,     2.29,2,     0.01,    0.372,2,    0.176,2,    0.014,2,    0.064,2,   2256.6,2,   2356.3,2,   7.5905,       25,2, -999.000,9, -999.000,   -999.0,9,   -999.0, -999.000,9, -999.000, -999.000,9, -999.000
  49NZ20130106,  S04I,   144,  1,     12, X12J12,2,20130127,2349,-63.4998,  49.1632, 4758,   2920.1,2,   0.0383,2,   0.03814,2,  34.6678,2,  34.6675,2,-999.0000,9,   223.98,2,   224.02,2,   99.979,   0.0008,2,   -0.010,2,  -999.00,9,    0.000,2,   125.59,2,     0.17,    32.99,2,     0.05,     0.00,2,     0.01,     2.29,2,     0.01,    0.398,2,    0.192,2,    0.014,2,    0.064,2,   2261.1,3,   2356.1,2,   7.5928,       25,2, -999.000,9, -999.000,   -999.0,9,   -999.0, -999.000,9, -999.000, -999.000,9, -999.000
  49NZ20130106,  S04I,   144,  1,     11, X12J11,2,20130127,2349,-63.4998,  49.1632, 4758,   3171.3,2,  -0.0283,2,  -0.02826,2,  34.6639,2,  34.6635,2,-999.0000,9,   228.41,2,   228.04,2,   99.972,   0.0011,2,   -0.000,2,  -999.00,9,    0.000,2,   124.94,2,     0.17,    32.89,2,     0.05,     0.00,2,     0.01,     2.29,2,     0.01,    0.519,2,    0.254,2,    0.023,2,    0.145,2,   2254.0,2,   2355.0,2,   7.5947,       25,2, -999.000,9, -999.000,   -999.0,9,   -999.0, -999.000,9, -999.000, -999.000,9, -999.000
  49NZ20130106,  S04I,   144,  1,     10, X12J10,2,20130127,2349,-63.4998,  49.1632, 4758,   3420.7,2,  -0.0990,2,  -0.09909,2,  34.6595,2,  34.6588,2,-999.0000,9,   233.09,2,   233.01,2,   99.964,   0.0014,2,   -0.010,2,  -999.00,9,    0.000,2,   123.18,2,     0.17,    32.77,2,     0.05,     0.00,2,     0.01,     2.28,2,     0.01,    0.726,2,    0.364,2,    0.041,2,    0.226,2,   2250.9,2,   2355.0,2,   7.5973,       25,2, -999.000,9, -999.000,   -999.0,9,   -999.0, -999.000,9, -999.000, -999.000,9, -999.000
  49NZ20130106,  S04I,   144,  1,      9, X12J09,2,20130127,2349,-63.4998,  49.1632, 4758,   3670.0,2,  -0.1486,2,  -0.14869,2,  34.6576,2,  34.6569,2,-999.0000,9,   235.93,2,   235.84,2,   99.966,   0.0014,2,   -0.010,2,  -999.00,9,    0.000,2,   123.56,2,     0.17,    32.72,2,     0.05,     0.00,2,     0.01,     2.28,2,     0.01,    0.757,2,    0.372,2,    0.038,2,    0.080,2,   2250.8,2,   2353.9,2,   7.5985,       25,2, -999.000,9, -999.000,   -999.0,9,   -999.0, -999.000,9, -999.000, -999.000,9, -999.000
  49NZ20130106,  S04I,   144,  1,      8, X12J08,2,20130127,2349,-63.4998,  49.1632, 4758,   3921.3,2,  -0.1865,2,  -0.18633,2,  34.6562,2,  34.6560,2,-999.0000,9,   238.19,2,   237.69,2,   99.951,   0.0020,2,   -0.010,2,  -999.00,9,    0.000,2,   125.08,2,     0.17,    32.72,2,     0.05,     0.00,2,     0.01,     2.28,2,     0.01,    0.677,6,    0.327,6,    0.038,6,    0.133,6,   2250.5,2,   2353.9,2,   7.5997,       25,2, -999.000,9, -999.000,   -999.0,9,   -999.0, -999.000,9, -999.000, -999.000,9, -999.000
  49NZ20130106,  S04I,   144,  1,      7, X12J07,2,20130127,2349,-63.4998,  49.1632, 4758,   4170.9,2,  -0.2235,2,  -0.22334,2,  34.6540,2,  34.6541,2,-999.0000,9,   240.56,2,   239.92,2,   99.945,   0.0022,2,   -0.010,2,  -999.00,9,    0.000,2,   126.29,2,     0.17,    32.66,2,     0.05,     0.00,2,     0.01,     2.28,2,     0.01,    0.670,2,    0.323,2,    0.032,2,    0.156,2,   2250.6,6,   2353.9,2,   7.6020,       25,2, -999.000,9, -999.000,   -999.0,9,   -999.0, -999.000,9, -999.000, -999.000,9, -999.000
  49NZ20130106,  S04I,   144,  1,      6, X12J06,2,20130127,2349,-63.4998,  49.1632, 4758,   4418.7,2,  -0.2453,2,  -0.24537,2,  34.6528,2,  34.6526,2,-999.0000,9,   241.67,2,   241.27,2,   99.926,   0.0030,2,   -0.010,2,  -999.00,9,    0.000,2,   129.17,2,     0.17,    32.67,2,     0.05,     0.00,2,     0.01,     2.28,2,     0.01,    0.659,2,    0.308,2,    0.030,2,    0.155,2,   2249.7,2,   2353.8,6,   7.6030,       25,2, -999.000,9, -999.000,   -999.0,9,   -999.0, -999.000,9, -999.000, -999.000,9, -999.000
  49NZ20130106,  S04I,   144,  1,      5, X12J05,2,20130127,2349,-63.4998,  49.1632, 4758,   4669.1,2,  -0.2593,2,  -0.25929,2,  34.6515,2,  34.6513,2,-999.0000,9,   242.37,2,   242.28,2,   99.894,   0.0042,2,   -0.010,2,  -999.00,9,    0.000,2,   133.36,2,     0.18,    32.76,2,     0.05,     0.00,2,     0.01,     2.29,2,     0.01,    0.642,2,    0.293,2,    0.029,2,    0.099,2,   2248.9,2,   2354.5,2,   7.6030,       25,6, -999.000,9, -999.000,   -999.0,9,   -999.0, -999.000,9, -999.000, -999.000,9, -999.000
  49NZ20130106,  S04I,   144,  1,      1, X12J01,2,20130127,2349,-63.4998,  49.1632, 4758,   4844.2,2,  -0.2764,2,  -0.27643,2,  34.6506,2,  34.6509,2,-999.0000,9,   242.22,2,   242.09,2,   99.709,   0.0117,2,   -0.010,2,  -999.00,9,    0.000,2,   139.37,2,     0.18,    32.86,2,     0.05,     0.00,2,     0.01,     2.29,2,     0.01,    0.603,2,    0.261,2,    0.022,2,    0.056,2,   2250.8,2,   2354.6,2,   7.6025,       25,2, -999.000,9, -999.000,   -999.0,9,   -999.0, -999.000,9, -999.000, -999.000,9, -999.000