BOTTLE,20220819CCHSIOAMB
EXPOCODE,SECT_ID,STNNBR,CASTNO,SAMPNO,BTLNBR,BTLNBR_FLAG_W,DATE,TIME,LATITUDE,LONGITUDE,DEPTH,CTDPRS,CTDPRS_FLAG_W,CTDTMP,CTDTMP_FLAG_W,SBE35,SBE35_FLAG_W,CTDSAL,CTDSAL_FLAG_W,SALNTY,SALNTY_FLAG_W,DNSSAL,DNSSAL_FLAG_W,CTDOXY,CTDOXY_FLAG_W,OXYGEN,OXYGEN_FLAG_W,CTDXMISS,CTDXMISSCP,CTDXMISS_FLAG_W,CTDFLUOR,CTDFLUOR_FLAG_W,CHLORA,CHLORA_FLAG_W,PAR,PAR_FLAG_W,SILCAT,SILCAT_FLAG_W,SILUNC,NITRAT,NITRAT_FLAG_W,NRAUNC,NITRIT,NITRIT_FLAG_W,NRIUNC,PHSPHT,PHSPHT_FLAG_W,PHPUNC,CFC-11,CFC-11_FLAG_W,CFC-12,CFC-12_FLAG_W,CFC113,CFC113_FLAG_W,SF6,SF6_FLAG_W,TCARBN,TCARBN_FLAG_W,ALKALI,ALKALI_FLAG_W,PH_TOT,PH_TMP,PH_TOT_FLAG_W,DELC13,DELC13_FLAG_W,C13ERR,DELC14,DELC14_FLAG_W,C14ERR,CS-134,CS-134_FLAG_W,CS134ER,CS-137,CS-137_FLAG_W,CS137ER
,,,,,,,,UTC,DEG,DEG,METERS,DBAR,,ITS-90,,ITS-90,,PSS-78,,PSS-78,,G/KG,,UMOL/KG,,UMOL/KG,,%TRANS,/METER,,MG/M^3,,MG/CUM,,UE/SQM/S,,UMOL/KG,,UMOL/KG,UMOL/KG,,UMOL/KG,UMOL/KG,,UMOL/KG,UMOL/KG,,UMOL/KG,PMOL/KG,,PMOL/KG,,PMOL/KG,,FMOL/KG,,UMOL/KG,,UMOL/KG,,,DEG C,,/MILLE,,/MILLE,/MILLE,,/MILLE,MBQ/KG,,MBQ/KG,MBQ/KG,,MBQ/KG
  49NZ20130106,  S04I,   110,  1,     36, X12J36,2,20130118,1332,-61.7592,  83.0267, 2325,      5.3,2,   1.4430,2,   1.44913,2,  33.7181,2,  33.7179,2,-999.0000,9,   350.24,2,   349.68,2,   90.242,   0.4107,2,    1.090,2,  -999.00,9,    8.099,2,    44.08,2,     0.10,    25.93,2,     0.04,     0.26,2,     0.01,     1.76,2,     0.01,    5.615,2,    3.033,2,    0.586,2,    2.737,2,   2149.9,2,   2283.4,2,   7.7115,       25,2, -999.000,9, -999.000,   -999.0,9,   -999.0, -999.000,9, -999.000, -999.000,9, -999.000
  49NZ20130106,  S04I,   110,  1,     35, X12J35,2,20130118,1332,-61.7592,  83.0267, 2325,     24.3,2,   1.1491,2,   1.16737,2,  33.7439,2,  33.7635,3,-999.0000,9,   348.40,2,   347.53,2,   90.227,   0.4114,2,    1.250,2,  -999.00,9,    0.818,2,    45.55,2,     0.10,    26.55,2,     0.04,     0.23,2,     0.01,     1.83,2,     0.01,    5.519,2,    2.985,2,    0.584,2,    2.718,2,   2154.4,2,   2286.0,2,   7.6987,       25,2, -999.000,9, -999.000,   -999.0,9,   -999.0, -999.000,9, -999.000, -999.000,9, -999.000
  49NZ20130106,  S04I,   110,  1,     34, X12J34,2,20130118,1332,-61.7592,  83.0267, 2325,     49.5,2,  -0.9870,2,  -0.98466,2,  34.0304,2,  34.0352,2,-999.0000,9,   308.90,2,   309.66,2,   96.320,   0.1500,2,    0.680,2,  -999.00,9,    0.011,2,    55.07,2,     0.11,    29.96,2,     0.04,     0.14,2,     0.01,     2.10,2,     0.01,    4.552,6,    2.416,6,    0.472,6,    2.153,6,   2197.7,2,   2301.4,2,   7.6266,       25,2, -999.000,9, -999.000,   -999.0,9,   -999.0, -999.000,9, -999.000, -999.000,9, -999.000
  49NZ20130106,  S04I,   110,  1,     33, X12J33,2,20130118,1332,-61.7592,  83.0267, 2325,     74.3,2,  -0.8461,2,  -0.84843,2,  34.1716,2,  34.1726,2,-999.0000,9,   273.92,2,   273.89,2,   98.505,   0.0603,2,    0.310,2,  -999.00,9,    0.000,2,    61.34,2,     0.11,    31.82,2,     0.04,     0.13,2,     0.01,     2.22,2,     0.01,    3.759,2,    2.005,2,    0.386,2,    1.636,2,   2216.9,6,   2308.5,2,   7.5902,       25,2, -999.000,9, -999.000,   -999.0,9,   -999.0, -999.000,9, -999.000, -999.000,9, -999.000
  49NZ20130106,  S04I,   110,  1,     32, X12J32,2,20130118,1332,-61.7592,  83.0267, 2325,     99.7,2,   0.0551,2,   0.05572,2,  34.3084,2,  34.3033,2,-999.0000,9,   231.59,2,   233.09,2,   99.134,   0.0348,2,    0.180,2,  -999.00,9,    0.000,2,    66.54,2,     0.12,    33.46,2,     0.05,     0.13,2,     0.01,     2.34,2,     0.01,    2.869,2,    1.488,2,    0.283,2,    1.185,2,   2236.0,2,   2315.3,6,   7.5602,       25,2, -999.000,9, -999.000,   -999.0,9,   -999.0, -999.000,9, -999.000, -999.000,9, -999.000
  49NZ20130106,  S04I,   110,  1,     31, X12J31,2,20130118,1332,-61.7592,  83.0267, 2325,    123.6,2,   0.8977,2,   0.89735,2,  34.4179,2,  34.4186,2,-999.0000,9,   201.86,2,   202.03,2,   99.513,   0.0195,2,    0.120,2,  -999.00,9,    0.000,2,    71.63,2,     0.12,    34.62,2,     0.05,     0.08,2,     0.01,     2.40,2,     0.01,    2.130,2,    1.055,2,    0.185,2,    0.757,2,   2247.0,2,   2322.2,2,   7.5403,       25,2, -999.000,9, -999.000,   -999.0,9,   -999.0, -999.000,9, -999.000, -999.000,9, -999.000
  49NZ20130106,  S04I,   110,  1,     30, X12J30,2,20130118,1332,-61.7592,  83.0267, 2325,    149.3,2,   1.4825,2,   1.48394,2,  34.5067,2,  34.5073,2,-999.0000,9,   182.98,2,   182.97,2,   99.655,   0.0138,2,    0.040,2,  -999.00,9,    0.000,2,    76.19,2,     0.13,    35.14,2,     0.05,     0.02,2,     0.01,     2.43,2,     0.01,    1.460,2,    0.738,2,    0.121,2,    0.541,2,   2257.2,2,   2327.9,2,   7.5317,       25,6, -999.000,9, -999.000,   -999.0,9,   -999.0, -999.000,9, -999.000, -999.000,9, -999.000
  49NZ20130106,  S04I,   110,  1,     29, X12J29,2,20130118,1332,-61.7592,  83.0267, 2325,    199.3,2,   1.9134,2,   1.91369,2,  34.6035,2,  34.6028,2,-999.0000,9,   171.33,2,   171.54,2,   99.685,   0.0126,2,    0.010,2,  -999.00,9,    0.000,2,    80.39,2,     0.13,    34.74,2,     0.05,     0.01,2,     0.01,     2.40,2,     0.01,    0.818,2,    0.425,2,    0.066,2,    0.272,2,   2261.4,2,   2335.1,2,   7.5371,       25,2, -999.000,9, -999.000,   -999.0,9,   -999.0, -999.000,9, -999.000, -999.000,9, -999.000
  49NZ20130106,  S04I,   110,  1,     28, X12J28,2,20130118,1332,-61.7592,  83.0267, 2325,    249.9,2,   1.9279,2,   1.92729,2,  34.6301,2,  34.6293,2,-999.0000,9,   172.45,2,   172.86,2,   99.753,   0.0099,2,    0.010,2,  -999.00,9,    0.000,2,    81.44,2,     0.13,    34.30,2,     0.05,     0.01,2,     0.01,     2.36,2,     0.01,    0.702,2,    0.365,2,    0.057,2,    0.175,2,   2259.5,2,   2336.9,2,   7.5444,       25,2, -999.000,9, -999.000,   -999.0,9,   -999.0, -999.000,9, -999.000, -999.000,9, -999.000
  49NZ20130106,  S04I,   110,  1,     27, X12J27,2,20130118,1332,-61.7592,  83.0267, 2325,    281.7,2,   1.9648,2,   1.96447,2,  34.6520,2,  34.6508,2,-999.0000,9,   173.12,2,   173.22,2,   99.823,   0.0071,2,    0.010,2,  -999.00,9,    0.000,2,    82.09,2,     0.13,    33.87,2,     0.05,     0.01,2,     0.01,     2.35,2,     0.01,    0.607,2,    0.309,2,    0.047,2,    0.112,2,   2258.9,2,   2338.4,2,   7.5508,       25,2, -999.000,9, -999.000,   -999.0,9,   -999.0, -999.000,9, -999.000, -999.000,9, -999.000
  49NZ20130106,  S04I,   110,  1,     26, X12J26,2,20130118,1332,-61.7592,  83.0267, 2325,    370.4,2,   1.9451,2,   1.94486,2,  34.6817,2,  34.6816,2,-999.0000,9,   177.08,2,   177.22,2,   99.878,   0.0049,2,    0.010,2,  -999.00,9,    0.000,2,    82.98,2,     0.13,    33.12,2,     0.05,     0.01,2,     0.01,     2.29,2,     0.01,    0.473,2,    0.248,2,    0.035,2,    0.073,2,   2257.6,2,   2341.5,2,   7.5636,       25,2, -999.000,9, -999.000,   -999.0,9,   -999.0, -999.000,9, -999.000, -999.000,9, -999.000
  49NZ20130106,  S04I,   110,  1,     25, X12J25,2,20130118,1332,-61.7592,  83.0267, 2325,    470.5,2,   1.9132,2,   1.91477,2,  34.7073,2,  34.7071,2,-999.0000,9,   181.88,2,   181.99,2,   99.903,   0.0039,2,    0.010,2,  -999.00,9,    0.000,2,    83.08,2,     0.13,    32.30,2,     0.05,     0.01,2,     0.01,     2.22,2,     0.01,    0.380,2,    0.199,2,    0.031,2,    0.097,2,   2253.0,2,   2342.7,2,   7.5770,       25,2, -999.000,9, -999.000,   -999.0,9,   -999.0, -999.000,9, -999.000, -999.000,9, -999.000
  49NZ20130106,  S04I,   110,  1,     24, X12J24,2,20130118,1332,-61.7592,  83.0267, 2325,    570.1,2,   1.8505,2,   1.85032,2,  34.7223,2,  34.7224,2,-999.0000,9,   185.86,2,   185.95,2,   99.884,   0.0046,2,    0.000,2,  -999.00,9,    0.000,2,    84.43,2,     0.13,    31.78,2,     0.04,     0.01,2,     0.01,     2.19,2,     0.01,    0.327,6,    0.172,6,    0.025,6,    0.080,6,   2250.8,2,   2344.5,2,   7.5852,       25,2, -999.000,9, -999.000,   -999.0,9,   -999.0, -999.000,9, -999.000, -999.000,9, -999.000
  49NZ20130106,  S04I,   110,  1,     23, X12J23,2,20130118,1332,-61.7592,  83.0267, 2325,    672.1,2,   1.8049,2,   1.80473,2,  34.7332,2,  34.7332,2,-999.0000,9,   188.44,2,   188.51,2,   99.929,   0.0028,2,    0.000,2,  -999.00,9,    0.000,2,    85.21,2,     0.14,    31.37,2,     0.04,     0.00,2,     0.01,     2.16,2,     0.01,    0.276,2,    0.143,2,    0.018,2,    0.082,2,   2249.4,6,   2346.0,2,   7.5914,       25,2, -999.000,9, -999.000,   -999.0,9,   -999.0, -999.000,9, -999.000, -999.000,9, -999.000
  49NZ20130106,  S04I,   110,  1,     22, X12J22,2,20130118,1332,-61.7592,  83.0267, 2325,    770.3,2,   1.7456,2,   1.74543,2,  34.7400,2,  34.7403,2,-999.0000,9,   191.25,2,   191.48,2,   99.920,   0.0032,2,    0.000,2,  -999.00,9,    0.000,2,    86.44,2,     0.14,    31.14,2,     0.04,     0.01,2,     0.01,     2.14,2,     0.01,    0.243,2,    0.120,2,    0.017,2,    0.084,2,   2248.8,2,   2346.6,6,   7.5975,       25,2, -999.000,9, -999.000,   -999.0,9,   -999.0, -999.000,9, -999.000, -999.000,9, -999.000
  49NZ20130106,  S04I,   110,  1,     21, X12J21,2,20130118,1332,-61.7592,  83.0267, 2325,    869.5,2,   1.6510,2,   1.65121,2,  34.7431,2,  34.7433,2,-999.0000,9,   194.93,2,   195.09,2,   99.910,   0.0036,2,    0.000,2,  -999.00,9,    0.000,2,    87.98,2,     0.14,    30.89,2,     0.04,     0.00,2,     0.01,     2.13,2,     0.01,    0.229,2,    0.149,2,    0.015,2,    0.077,2,   2246.7,2,   2347.9,2,   7.6034,       25,6, -999.000,9, -999.000,   -999.0,9,   -999.0, -999.000,9, -999.000, -999.000,9, -999.000
  49NZ20130106,  S04I,   110,  1,     20, X12J20,2,20130118,1332,-61.7592,  83.0267, 2325,    961.1,2,   1.5716,2,   1.57148,2,  34.7426,2,  34.7423,2,-999.0000,9,   197.51,2,   197.82,2,   99.899,   0.0040,2,   -0.000,2,  -999.00,9,    0.000,2,    89.56,2,     0.14,    30.81,2,     0.04,     0.00,2,     0.01,     2.13,2,     0.01,    0.226,2,    0.117,2,    0.015,2,    0.032,2,   2248.0,2,   2349.8,3,   7.6068,       25,2, -999.000,9, -999.000,   -999.0,9,   -999.0, -999.000,9, -999.000, -999.000,9, -999.000
  49NZ20130106,  S04I,   110,  1,     19, X12J19,2,20130118,1332,-61.7592,  83.0267, 2325,   1168.9,2,   1.3799,2,   1.37992,2,  34.7391,2,  34.7391,2,-999.0000,9,   200.95,2,   201.34,2,   99.956,   0.0018,2,   -0.000,2,  -999.00,9,    0.000,2,    94.41,2,     0.14,    30.88,2,     0.04,     0.00,2,     0.01,     2.13,2,     0.01,    0.207,6,    0.104,6,    0.012,6,    0.016,6,   2250.3,2,   2351.0,2,   7.6099,       25,2, -999.000,9, -999.000,   -999.0,9,   -999.0, -999.000,9, -999.000, -999.000,9, -999.000
  49NZ20130106,  S04I,   110,  1,     18, X12J18,2,20130118,1332,-61.7592,  83.0267, 2325,   1421.4,2,   1.1502,2,   1.15022,2,  34.7281,2,  34.7282,2,-999.0000,9,   203.23,2,   203.59,2,   99.956,   0.0018,2,   -0.000,2,  -999.00,9,    0.000,2,   100.86,2,     0.15,    31.31,2,     0.04,     0.00,2,     0.01,     2.16,2,     0.01,    0.214,2,    0.107,2,    0.012,2,    0.018,2,   2250.8,2,   2353.5,2,   7.6073,       25,2, -999.000,9, -999.000,   -999.0,9,   -999.0, -999.000,9, -999.000, -999.000,9, -999.000
  49NZ20130106,  S04I,   110,  1,     17, X12J17,2,20130118,1332,-61.7592,  83.0267, 2325,   1669.5,2,   0.9330,2,   0.93318,2,  34.7158,2,  34.7160,2,-999.0000,9,   204.88,2,   205.34,2,   99.954,   0.0018,2,   -0.000,2,  -999.00,9,    0.000,2,   107.93,2,     0.16,    31.81,2,     0.04,     0.00,2,     0.01,     2.20,2,     0.01,    0.225,2,    0.111,2,    0.010,2,    0.029,2,   2254.9,2,   2355.0,2,   7.6024,       25,6, -999.000,9, -999.000,   -999.0,9,   -999.0, -999.000,9, -999.000, -999.000,9, -999.000
  49NZ20130106,  S04I,   110,  1,     16, X12J16,2,20130118,1332,-61.7592,  83.0267, 2325,   1919.7,2,   0.7450,2,   0.74498,2,  34.7051,2,  34.7052,2,-999.0000,9,   206.62,2,   207.18,2,   99.920,   0.0032,2,   -0.000,2,  -999.00,9,    0.000,2,   114.69,2,     0.16,    32.25,2,     0.05,     0.00,2,     0.01,     2.23,2,     0.01,    0.227,2,    0.117,2,    0.009,2,    0.000,2,   2257.3,6,   2356.2,2,   7.5980,       25,2, -999.000,9, -999.000,   -999.0,9,   -999.0, -999.000,9, -999.000, -999.000,9, -999.000
  49NZ20130106,  S04I,   110,  1,     15, X12J15,2,20130118,1332,-61.7592,  83.0267, 2325,   2170.7,2,   0.5549,2,   0.55499,2,  34.6949,2,  34.6950,2,-999.0000,9,   209.05,2,   209.95,2,   99.869,   0.0052,2,   -0.000,2,  -999.00,9,    0.000,2,   122.56,2,     0.17,    32.63,2,     0.05,     0.00,2,     0.01,     2.27,2,     0.01,    0.222,2,    0.113,2,    0.010,2,    0.039,2,   2258.5,2,   2356.6,2,   7.5940,       25,2, -999.000,9, -999.000,   -999.0,9,   -999.0, -999.000,9, -999.000, -999.000,9, -999.000
  49NZ20130106,  S04I,   110,  1,      1, X12J01,2,20130118,1332,-61.7592,  83.0267, 2325,   2347.8,2,   0.4488,2,   0.44848,2,  34.6888,2,  34.6883,2,-999.0000,9,   210.64,2,   211.37,2,   99.598,   0.0161,2,   -0.000,2,  -999.00,9,    0.000,2,   128.41,2,     0.17,    32.82,2,     0.05,     0.01,2,     0.01,     2.28,2,     0.01,    0.232,2,    0.115,2,    0.009,2,    0.019,2,   2259.6,2,   2357.4,2,   7.5918,       25,2, -999.000,9, -999.000,   -999.0,9,   -999.0, -999.000,9, -999.000, -999.000,9, -999.000