BOTTLE,20220819CCHSIOAMB
EXPOCODE,SECT_ID,STNNBR,CASTNO,SAMPNO,BTLNBR,BTLNBR_FLAG_W,DATE,TIME,LATITUDE,LONGITUDE,DEPTH,CTDPRS,CTDPRS_FLAG_W,CTDTMP,CTDTMP_FLAG_W,SBE35,SBE35_FLAG_W,CTDSAL,CTDSAL_FLAG_W,SALNTY,SALNTY_FLAG_W,DNSSAL,DNSSAL_FLAG_W,CTDOXY,CTDOXY_FLAG_W,OXYGEN,OXYGEN_FLAG_W,CTDXMISS,CTDXMISSCP,CTDXMISS_FLAG_W,CTDFLUOR,CTDFLUOR_FLAG_W,CHLORA,CHLORA_FLAG_W,PAR,PAR_FLAG_W,SILCAT,SILCAT_FLAG_W,SILUNC,NITRAT,NITRAT_FLAG_W,NRAUNC,NITRIT,NITRIT_FLAG_W,NRIUNC,PHSPHT,PHSPHT_FLAG_W,PHPUNC,CFC-11,CFC-11_FLAG_W,CFC-12,CFC-12_FLAG_W,CFC113,CFC113_FLAG_W,SF6,SF6_FLAG_W,TCARBN,TCARBN_FLAG_W,ALKALI,ALKALI_FLAG_W,PH_TOT,PH_TMP,PH_TOT_FLAG_W,DELC13,DELC13_FLAG_W,C13ERR,DELC14,DELC14_FLAG_W,C14ERR,CS-134,CS-134_FLAG_W,CS134ER,CS-137,CS-137_FLAG_W,CS137ER
,,,,,,,,UTC,DEG,DEG,METERS,DBAR,,ITS-90,,ITS-90,,PSS-78,,PSS-78,,G/KG,,UMOL/KG,,UMOL/KG,,%TRANS,/METER,,MG/M^3,,MG/CUM,,UE/SQM/S,,UMOL/KG,,UMOL/KG,UMOL/KG,,UMOL/KG,UMOL/KG,,UMOL/KG,UMOL/KG,,UMOL/KG,PMOL/KG,,PMOL/KG,,PMOL/KG,,FMOL/KG,,UMOL/KG,,UMOL/KG,,,DEG C,,/MILLE,,/MILLE,/MILLE,,/MILLE,MBQ/KG,,MBQ/KG,MBQ/KG,,MBQ/KG
  49NZ20130106,  S04I,    94,  1,     36, X12J36,2,20130114,1046,-62.3290, 101.0893, 4419,      4.7,2,   1.8218,2,   1.82463,2,  33.8544,2,  33.8603,2,  34.0248,2,   344.62,2,   343.79,2,   92.215,   0.3242,2,    0.650,2,  -999.00,9,   81.141,2,    27.26,2,     0.08,    23.98,2,     0.04,     0.25,2,     0.01,     1.48,2,     0.01,    5.631,2,    3.101,2,    0.493,2,    2.615,2,   2146.9,2,   2291.5,2,   7.7371,       25,6, -999.000,1, -999.000,   -999.0,1,   -999.0, -999.000,9, -999.000, -999.000,9, -999.000
  49NZ20130106,  S04I,    94,  1,     35, X12J35,3,20130114,1046,-62.3290, 101.0893, 4419,     25.2,2,   1.6979,2,   1.69799,2,  33.9095,2,  33.9103,2,  34.0749,2,   347.75,2,   347.04,2,   90.082,   0.4178,2,    1.040,2,  -999.00,9,    9.123,2,    25.71,2,     0.08,    23.55,2,     0.04,     0.24,2,     0.01,     1.47,2,     0.01,    5.659,2,    3.126,2,    0.499,2,    2.806,2,   2147.7,2,   2295.1,2,   7.7435,       25,2, -999.000,1, -999.000,   -999.0,1,   -999.0, -999.000,9, -999.000, -999.000,9, -999.000
  49NZ20130106,  S04I,    94,  1,     34, X12J34,2,20130114,1046,-62.3290, 101.0893, 4419,     50.8,2,   1.2204,2,   1.18828,2,  33.9286,2,  33.9373,2,  34.1026,2,   347.55,2,   346.70,2,   89.892,   0.4262,2,    1.310,2,  -999.00,9,    0.795,2,    31.01,2,     0.09,    24.77,2,     0.04,     0.22,2,     0.01,     1.66,2,     0.01,    5.666,6,    3.109,6,    0.504,6,    2.769,6,   2158.1,2,   2296.8,2,   7.7209,       25,2, -999.000,1, -999.000,   -999.0,1,   -999.0, -999.000,9, -999.000, -999.000,9, -999.000
  49NZ20130106,  S04I,    94,  1,     33, X12J33,2,20130114,1046,-62.3290, 101.0893, 4419,     74.7,2,  -0.8530,2,  -0.85326,2,  34.1094,2,  34.1100,2,  34.2767,2,   310.94,2,   310.72,2,   98.024,   0.0798,2,    0.310,2,  -999.00,9,    0.079,2,    52.46,2,     0.11,    29.79,2,     0.04,     0.15,2,     0.01,     2.13,2,     0.01,    4.936,2,    2.682,2,    0.438,2,    2.298,2,   2201.8,6,   2302.8,2,   7.6258,       25,2, -999.000,1, -999.000,   -999.0,1,   -999.0, -999.000,9, -999.000, -999.000,9, -999.000
  49NZ20130106,  S04I,    94,  1,     32, X12J32,2,20130114,1046,-62.3290, 101.0893, 4419,    100.1,2,  -0.5056,2,  -0.50734,2,  34.2566,2,  34.2578,2,  34.4257,2,   272.49,2,   271.88,2,   99.126,   0.0351,2,    0.160,2,  -999.00,9,    0.000,2,    60.95,2,     0.11,    31.87,2,     0.04,     0.11,2,     0.01,     2.22,2,     0.01,    3.852,2,    2.103,2,    0.334,2,    1.706,2,   2221.9,2,   2311.9,6,   7.5933,       25,2, -999.000,1, -999.000,   -999.0,1,   -999.0, -999.000,9, -999.000, -999.000,9, -999.000
  49NZ20130106,  S04I,    94,  1,     31, X12J31,2,20130114,1046,-62.3290, 101.0893, 4419,    124.5,2,  -0.0088,2,  -0.01042,2,  34.3426,2,  34.3459,2,  34.5140,2,   247.60,2,   247.22,2,   99.410,   0.0237,2,    0.120,2,  -999.00,9,    0.000,2,    65.31,2,     0.12,    32.65,2,     0.05,     0.08,2,     0.01,     2.25,2,     0.01,    3.114,2,    1.685,2,    0.277,2,    1.239,2,   2231.0,2,   2317.1,2,   7.5789,       25,2, -999.000,1, -999.000,   -999.0,1,   -999.0, -999.000,9, -999.000, -999.000,9, -999.000
  49NZ20130106,  S04I,    94,  1,     30, X12J30,2,20130114,1046,-62.3290, 101.0893, 4419,    149.4,2,   0.5962,2,   0.59518,2,  34.4407,2,  34.4403,2,  34.6103,2,   223.54,2,   223.40,2,   99.503,   0.0199,2,    0.080,2,  -999.00,9,    0.000,2,    70.13,2,     0.12,    33.19,2,     0.05,     0.03,2,     0.01,     2.29,2,     0.01,    2.338,2,    1.258,2,    0.212,2,    0.928,2,   2241.1,2,   2323.5,2,   7.5682,       25,6, -999.000,1, -999.000,   -999.0,1,   -999.0, -999.000,9, -999.000, -999.000,9, -999.000
  49NZ20130106,  S04I,    94,  1,     29, X12J29,2,20130114,1046,-62.3290, 101.0893, 4419,    198.6,2,   1.2286,2,   1.22769,2,  34.5514,2,  34.5508,2,  34.7210,2,   199.96,2,   199.62,2,   99.600,   0.0160,2,    0.030,2,  -999.00,9,    0.000,2,    75.95,2,     0.13,    33.34,2,     0.05,     0.02,2,     0.01,     2.30,2,     0.01,    1.473,2,    0.783,2,    0.128,2,    0.472,2,   2250.0,2,   2331.0,2,   7.5623,       25,2, -999.000,1, -999.000,   -999.0,1,   -999.0, -999.000,9, -999.000, -999.000,9, -999.000
  49NZ20130106,  S04I,    94,  1,     28, X12J28,2,20130114,1046,-62.3290, 101.0893, 4419,    251.7,2,   1.4736,2,   1.47365,2,  34.6028,2,  34.6019,2,  34.7731,2,   192.17,2,   192.05,2,   99.621,   0.0152,2,    0.020,2,  -999.00,9,    0.000,2,    78.30,2,     0.13,    33.22,2,     0.05,     0.01,2,     0.01,     2.29,2,     0.01,    1.132,2,    0.595,2,    0.098,2,    0.348,2,   2253.8,2,   2335.0,2,   7.5634,       25,2, -999.000,1, -999.000,   -999.0,1,   -999.0, -999.000,9, -999.000, -999.000,9, -999.000
  49NZ20130106,  S04I,    94,  1,     27, X12J27,2,20130114,1046,-62.3290, 101.0893, 4419,    330.1,2,   1.6072,2,   1.60740,2,  34.6572,2,  34.6567,2,  34.8272,2,   189.06,2,   188.81,2,   99.791,   0.0084,2,    0.010,2,  -999.00,9,    0.000,2,    81.40,2,     0.13,    32.72,2,     0.05,     0.01,2,     0.01,     2.26,2,     0.01,    0.821,2,    0.424,2,    0.069,2,    0.188,2,   2255.9,2,   2338.2,2,   7.5708,       25,2, -999.000,1, -999.000,   -999.0,1,   -999.0, -999.000,9, -999.000, -999.000,9, -999.000
  49NZ20130106,  S04I,    94,  1,     26, X12J26,2,20130114,1046,-62.3290, 101.0893, 4419,    431.1,2,   1.7248,2,   1.72478,2,  34.7029,2,  34.7031,2,  34.8733,2,   188.88,2,   188.68,2,   99.867,   0.0053,2,    0.010,2,  -999.00,9,    0.000,2,    83.47,2,     0.13,    31.97,2,     0.04,     0.01,2,     0.01,     2.21,2,     0.01,    0.524,2,    0.265,2,    0.033,2,    0.117,2,   2253.4,2,   2342.6,2,   7.5838,       25,2, -999.000,1, -999.000,   -999.0,1,   -999.0, -999.000,9, -999.000, -999.000,9, -999.000
  49NZ20130106,  S04I,    94,  1,     25, X12J25,2,20130114,1046,-62.3290, 101.0893, 4419,    528.6,2,   1.7008,2,   1.70119,2,  34.7210,2,  34.7210,2,  34.8938,2,   191.64,2,   191.42,2,   99.869,   0.0052,2,    0.010,2,  -999.00,9,    0.000,2,    85.18,2,     0.14,    31.45,2,     0.04,     0.01,2,     0.01,     2.16,2,     0.01,    0.420,2,    0.207,2,    0.027,2,    0.075,2,   2253.1,2,   2347.5,4,   7.5925,       25,2, -999.000,1, -999.000,   -999.0,1,   -999.0, -999.000,9, -999.000, -999.000,9, -999.000
  49NZ20130106,  S04I,    94,  1,     24, X12J24,2,20130114,1046,-62.3290, 101.0893, 4419,    629.6,2,   1.6215,2,   1.62167,2,  34.7284,2,  34.7286,2,  34.9010,2,   194.27,2,   194.15,2,   99.850,   0.0060,2,    0.000,2,  -999.00,9,    0.000,2,    87.24,2,     0.14,    31.22,2,     0.04,     0.01,2,     0.01,     2.15,2,     0.01,    0.382,6,    0.185,6,    0.025,6,    0.080,6,   2252.6,2,   2348.5,4,   7.5973,       25,2, -999.000,1, -999.000,   -999.0,1,   -999.0, -999.000,9, -999.000, -999.000,9, -999.000
  49NZ20130106,  S04I,    94,  1,     23, X12J23,2,20130114,1046,-62.3290, 101.0893, 4419,    729.9,2,   1.5674,2,   1.56753,2,  34.7342,2,  34.7343,2,  34.9083,2,   196.34,2,   196.16,2,   99.901,   0.0040,2,    0.000,2,  -999.00,9,    0.000,2,    89.08,2,     0.14,    31.08,2,     0.04,     0.00,2,     0.01,     2.14,2,     0.01,    0.332,2,    0.156,2,    0.021,2,    0.077,2,   2251.4,6,   2349.8,4,   7.6025,       25,2, -999.000,1, -999.000,   -999.0,1,   -999.0, -999.000,9, -999.000, -999.000,9, -999.000
  49NZ20130106,  S04I,    94,  1,     22, X12J22,2,20130114,1046,-62.3290, 101.0893, 4419,    830.7,2,   1.4923,2,   1.49221,2,  34.7344,2,  34.7347,2,  34.9070,2,   197.96,2,   197.65,2,   99.909,   0.0036,2,    0.000,2,  -999.00,9,    0.000,2,    91.20,2,     0.14,    31.07,2,     0.04,     0.00,2,     0.01,     2.14,2,     0.01,    0.316,2,    0.153,2,    0.019,2,    0.058,2,   2253.4,2,   2350.8,4,   7.6037,       25,2, -999.000,1, -999.000,   -999.0,1,   -999.0, -999.000,9, -999.000, -999.000,9, -999.000
  49NZ20130106,  S04I,    94,  1,     21, X12J21,2,20130114,1046,-62.3290, 101.0893, 4419,    931.7,2,   1.4088,2,   1.40877,2,  34.7351,2,  34.7358,2,  34.9102,2,   200.10,2,   199.80,2,   99.947,   0.0021,2,    0.000,2,  -999.00,9,    0.000,2,    93.56,2,     0.14,    31.00,2,     0.04,     0.00,2,     0.01,     2.14,2,     0.01,    0.282,2,    0.133,2,    0.014,2,    0.038,2,   2254.4,2,   2352.3,4,   7.6069,       25,2, -999.000,1, -999.000,   -999.0,1,   -999.0, -999.000,9, -999.000, -999.000,9, -999.000
  49NZ20130106,  S04I,    94,  1,     20, X12J20,2,20130114,1046,-62.3290, 101.0893, 4419,   1080.7,2,   1.2695,2,   1.26950,2,  34.7307,2,  34.7310,2,  34.9036,2,   201.77,2,   201.48,2,   99.960,   0.0016,2,    0.000,2,  -999.00,9,    0.000,2,    97.27,2,     0.15,    31.18,2,     0.04,     0.00,2,     0.01,     2.15,2,     0.01,    0.279,2,    0.129,2,    0.012,2,    0.010,2,   2254.4,2,   2354.1,4,   7.6064,       25,2, -999.000,1, -999.000,   -999.0,1,   -999.0, -999.000,9, -999.000, -999.000,9, -999.000
  49NZ20130106,  S04I,    94,  1,     19, X12J19,2,20130114,1046,-62.3290, 101.0893, 4419,   1331.0,2,   1.0444,2,   1.04434,2,  34.7202,2,  34.7205,2,  34.8924,2,   204.14,2,   203.83,2,   99.994,   0.0002,2,    0.000,2,  -999.00,9,    0.000,2,   103.81,2,     0.15,    31.61,2,     0.04,     0.00,2,     0.01,     2.18,2,     0.01,    0.291,6,    0.135,6,    0.013,6,    0.034,6,   2258.0,2,   2356.0,4,   7.6038,       25,2, -999.000,1, -999.000,   -999.0,1,   -999.0, -999.000,9, -999.000, -999.000,9, -999.000
  49NZ20130106,  S04I,    94,  1,     18, X12J18,2,20130114,1046,-62.3290, 101.0893, 4419,   1580.4,2,   0.8548,2,   0.85468,2,  34.7103,2,  34.7109,2,  34.8839,2,   206.40,2,   206.21,2,   99.990,   0.0004,2,   -0.000,2,  -999.00,9,    0.000,2,   109.26,2,     0.16,    31.98,2,     0.04,     0.00,2,     0.01,     2.21,2,     0.01,    0.305,2,    0.140,2,    0.013,2,    0.041,2,   2260.4,2,   2356.9,4,   7.6010,       25,2, -999.000,1, -999.000,   -999.0,1,   -999.0, -999.000,9, -999.000, -999.000,9, -999.000
  49NZ20130106,  S04I,    94,  1,     17, X12J17,2,20130114,1046,-62.3290, 101.0893, 4419,   1830.0,2,   0.6693,2,   0.66927,2,  34.7002,2,  34.7010,2,  34.8747,2,   208.77,2,   208.52,2,   99.996,   0.0002,2,   -0.000,2,  -999.00,9,    0.000,2,   114.38,2,     0.16,    32.31,2,     0.05,     0.00,2,     0.01,     2.24,2,     0.01,    0.333,2,    0.152,2,    0.015,2,    0.044,2,   2260.6,2,   2357.2,4,   7.5972,       25,6, -999.000,1, -999.000,   -999.0,1,   -999.0, -999.000,9, -999.000, -999.000,9, -999.000
  49NZ20130106,  S04I,    94,  1,     16, X12J16,2,20130114,1046,-62.3290, 101.0893, 4419,   2080.2,2,   0.5008,2,   0.50074,2,  34.6917,2,  34.6919,2,  34.8661,2,   212.24,2,   211.92,2,  100.004,  -0.0002,2,   -0.000,2,  -999.00,9,    0.000,2,   118.44,2,     0.17,    32.50,2,     0.05,     0.00,2,     0.01,     2.25,2,     0.01,    0.397,2,    0.186,2,    0.019,2,    0.050,2,   2262.1,2,   2357.5,4,   7.5952,       25,2, -999.000,1, -999.000,   -999.0,1,   -999.0, -999.000,9, -999.000, -999.000,9, -999.000
  49NZ20130106,  S04I,    94,  1,     15, X12J15,2,20130114,1046,-62.3290, 101.0893, 4419,   2330.2,2,   0.3690,2,   0.36909,2,  34.6854,2,  34.6857,2,  34.8601,2,   215.74,2,   215.51,2,   99.977,   0.0009,2,   -0.000,2,  -999.00,9,    0.000,2,   120.56,2,     0.17,    32.54,2,     0.05,     0.00,2,     0.01,     2.25,2,     0.01,    0.494,2,    0.231,2,    0.026,2,    0.108,2,   2261.2,2,   2357.6,4,   7.5952,       25,2, -999.000,1, -999.000,   -999.0,1,   -999.0, -999.000,9, -999.000, -999.000,9, -999.000
  49NZ20130106,  S04I,    94,  1,     14, X12J14,2,20130114,1046,-62.3290, 101.0893, 4419,   2579.2,2,   0.2595,2,   0.25948,2,  34.6805,2,  34.6807,2,  34.8555,2,   219.42,2,   219.04,2,   99.951,   0.0020,2,   -0.000,2,  -999.00,9,    0.000,2,   122.08,2,     0.17,    32.54,2,     0.05,     0.00,2,     0.01,     2.25,2,     0.01,    0.613,2,    0.297,2,    0.035,2,    0.082,2,   2261.6,6,   2357.6,4,   7.5951,       25,2, -999.000,1, -999.000,   -999.0,1,   -999.0, -999.000,9, -999.000, -999.000,9, -999.000
  49NZ20130106,  S04I,    94,  1,     13, X12J13,2,20130114,1046,-62.3290, 101.0893, 4419,   2829.8,2,   0.1629,2,   0.16300,2,  34.6764,2,  34.6762,2,  34.8512,2,   222.96,2,   222.55,2,   99.949,   0.0020,2,   -0.000,2,  -999.00,9,    0.000,2,   123.34,2,     0.17,    32.55,2,     0.05,     0.00,2,     0.01,     2.25,2,     0.01,    0.753,2,    0.380,2,    0.046,2,    0.109,2,   2260.0,2,   2356.8,4,   7.5952,       25,2, -999.000,1, -999.000,   -999.0,1,   -999.0, -999.000,9, -999.000, -999.000,9, -999.000
  49NZ20130106,  S04I,    94,  1,     12, X12J12,2,20130114,1046,-62.3290, 101.0893, 4419,   3079.8,2,   0.0865,2,   0.08651,2,  34.6726,2,  34.6727,2,  34.8467,2,   226.06,2,   225.80,2,   99.924,   0.0030,2,   -0.000,2,  -999.00,9,    0.000,2,   123.85,2,     0.17,    32.51,2,     0.05,     0.00,2,     0.01,     2.26,2,     0.01,    0.953,2,    0.463,2,    0.058,2,    0.263,2,   2260.5,2,   2356.0,4,   7.5955,       25,6, -999.000,1, -999.000,   -999.0,1,   -999.0, -999.000,9, -999.000, -999.000,9, -999.000
  49NZ20130106,  S04I,    94,  1,     11, X12J11,2,20130114,1046,-62.3290, 101.0893, 4419,   3330.1,2,   0.0336,2,   0.03370,2,  34.6694,2,  34.6693,2,  34.8430,2,   228.48,2,   228.21,2,   99.932,   0.0027,2,   -0.010,2,  -999.00,9,    0.000,2,   124.25,2,     0.17,    32.50,2,     0.05,     0.00,2,     0.01,     2.25,2,     0.01,    1.100,2,    0.543,2,    0.071,2,    0.344,2,   2262.6,3,   2355.3,4,   7.5955,       25,2, -999.000,1, -999.000,   -999.0,1,   -999.0, -999.000,9, -999.000, -999.000,9, -999.000
  49NZ20130106,  S04I,    94,  1,     10, X12J10,2,20130114,1046,-62.3290, 101.0893, 4419,   3580.0,2,  -0.0105,2,  -0.01042,2,  34.6657,2,  34.6652,2,  34.8384,2,   231.08,2,   230.69,2,   99.899,   0.0040,2,   -0.000,2,  -999.00,9,    0.000,2,   122.71,2,     0.17,    32.42,2,     0.05,     0.00,2,     0.01,     2.25,2,     0.01,    1.296,2,    0.650,2,    0.089,2,    0.243,2,   2259.9,2,   2354.5,4,   7.5949,       25,2, -999.000,1, -999.000,   -999.0,1,   -999.0, -999.000,9, -999.000, -999.000,9, -999.000
  49NZ20130106,  S04I,    94,  1,      9, X12J09,2,20130114,1046,-62.3290, 101.0893, 4419,   3830.6,2,  -0.0386,2,  -0.03857,2,  34.6627,2,  34.6631,2,  34.8362,2,   232.83,2,   232.49,2,   99.884,   0.0046,2,   -0.000,2,  -999.00,9,    0.000,2,   122.48,2,     0.17,    32.38,2,     0.05,     0.00,2,     0.01,     2.24,2,     0.01,    1.451,2,    0.732,2,    0.102,2,    0.296,2,   2258.5,2,   2354.8,4,   7.5951,       25,2, -999.000,1, -999.000,   -999.0,1,   -999.0, -999.000,9, -999.000, -999.000,9, -999.000
  49NZ20130106,  S04I,    94,  1,      8, X12J08,2,20130114,1046,-62.3290, 101.0893, 4419,   4081.4,2,  -0.0660,2,  -0.06595,2,  34.6594,2,  34.6594,2,  34.8331,2,   234.67,2,   234.46,2,   99.803,   0.0079,2,   -0.010,2,  -999.00,9,    0.000,2,   122.15,2,     0.17,    32.32,2,     0.05,     0.00,2,     0.01,     2.24,2,     0.01,    1.628,6,    0.820,6,    0.120,6,    0.389,6,   2258.8,2,   2354.4,4,   7.5952,       25,2, -999.000,1, -999.000,   -999.0,1,   -999.0, -999.000,9, -999.000, -999.000,9, -999.000
  49NZ20130106,  S04I,    94,  1,      7, X12J07,2,20130114,1046,-62.3290, 101.0893, 4419,   4331.1,2,  -0.0828,2,  -0.08279,2,  34.6562,2,  34.6562,2,  34.8305,2,   236.14,2,   236.11,2,   99.706,   0.0118,2,   -0.010,2,  -999.00,9,    0.000,2,   121.87,2,     0.17,    32.27,2,     0.05,     0.00,2,     0.01,     2.24,2,     0.01,    1.774,2,    0.904,2,    0.135,2,    0.426,2,   2258.9,6,   2353.9,4,   7.5945,       25,2, -999.000,1, -999.000,   -999.0,1,   -999.0, -999.000,9, -999.000, -999.000,9, -999.000
  49NZ20130106,  S04I,    94,  1,      3, X12J03,2,20130114,1046,-62.3290, 101.0893, 4419,     50.5,2,   1.1207,2,   1.13465,2,  33.9240,2,-999.0000,9,-999.0000,9,   348.36,2,  -999.00,9,   89.707,   0.4345,2,    1.310,2,     1.08,2,    0.834,2,  -999.00,9,  -999.00,  -999.00,9,  -999.00,  -999.00,9,  -999.00,  -999.00,9,  -999.00, -999.000,9, -999.000,9, -999.000,9, -999.000,9,   -999.0,9,   -999.0,9,-999.0000,     -999,9, -999.000,9, -999.000,   -999.0,9,   -999.0, -999.000,9, -999.000, -999.000,9, -999.000
  49NZ20130106,  S04I,    94,  1,      2, X12J02,2,20130114,1046,-62.3290, 101.0893, 4419,     50.6,2,   1.0067,2,   0.99314,2,  33.9290,2,-999.0000,9,-999.0000,9,   348.59,2,  -999.00,9,   89.769,   0.4317,2,    1.380,2,  -999.00,9,    0.845,2,  -999.00,9,  -999.00,  -999.00,9,  -999.00,  -999.00,9,  -999.00,  -999.00,9,  -999.00, -999.000,9, -999.000,9, -999.000,9, -999.000,9,   -999.0,9,   -999.0,9,-999.0000,     -999,9, -999.000,9, -999.000,   -999.0,9,   -999.0, -999.000,9, -999.000, -999.000,9, -999.000
  49NZ20130106,  S04I,    94,  1,      1, X12J01,2,20130114,1046,-62.3290, 101.0893, 4419,   4501.3,2,  -0.1028,2,  -0.10282,2,  34.6529,2,  34.6525,2,  34.8252,2,   237.56,2,   237.72,2,   99.543,   0.0183,2,   -0.000,2,  -999.00,9,    0.000,2,   122.01,2,     0.17,    32.29,2,     0.05,     0.00,2,     0.01,     2.24,2,     0.01,    1.933,2,    0.971,2,    0.155,2,    0.545,2,   2258.5,2,   2353.5,4,   7.5928,       25,2, -999.000,1, -999.000,   -999.0,1,   -999.0, -999.000,9, -999.000, -999.000,9, -999.000