BOTTLE,20220819CCHSIOAMB
EXPOCODE,SECT_ID,STNNBR,CASTNO,SAMPNO,BTLNBR,BTLNBR_FLAG_W,DATE,TIME,LATITUDE,LONGITUDE,DEPTH,CTDPRS,CTDPRS_FLAG_W,CTDTMP,CTDTMP_FLAG_W,SBE35,SBE35_FLAG_W,CTDSAL,CTDSAL_FLAG_W,SALNTY,SALNTY_FLAG_W,DNSSAL,DNSSAL_FLAG_W,CTDOXY,CTDOXY_FLAG_W,OXYGEN,OXYGEN_FLAG_W,CTDXMISS,CTDXMISSCP,CTDXMISS_FLAG_W,CTDFLUOR,CTDFLUOR_FLAG_W,CHLORA,CHLORA_FLAG_W,PAR,PAR_FLAG_W,SILCAT,SILCAT_FLAG_W,SILUNC,NITRAT,NITRAT_FLAG_W,NRAUNC,NITRIT,NITRIT_FLAG_W,NRIUNC,PHSPHT,PHSPHT_FLAG_W,PHPUNC,CFC-11,CFC-11_FLAG_W,CFC-12,CFC-12_FLAG_W,CFC113,CFC113_FLAG_W,SF6,SF6_FLAG_W,TCARBN,TCARBN_FLAG_W,ALKALI,ALKALI_FLAG_W,PH_TOT,PH_TMP,PH_TOT_FLAG_W,DELC13,DELC13_FLAG_W,C13ERR,DELC14,DELC14_FLAG_W,C14ERR,CS-134,CS-134_FLAG_W,CS134ER,CS-137,CS-137_FLAG_W,CS137ER
,,,,,,,,UTC,DEG,DEG,METERS,DBAR,,ITS-90,,ITS-90,,PSS-78,,PSS-78,,G/KG,,UMOL/KG,,UMOL/KG,,%TRANS,/METER,,MG/M^3,,MG/CUM,,UE/SQM/S,,UMOL/KG,,UMOL/KG,UMOL/KG,,UMOL/KG,UMOL/KG,,UMOL/KG,UMOL/KG,,UMOL/KG,PMOL/KG,,PMOL/KG,,PMOL/KG,,FMOL/KG,,UMOL/KG,,UMOL/KG,,,DEG C,,/MILLE,,/MILLE,/MILLE,,/MILLE,MBQ/KG,,MBQ/KG,MBQ/KG,,MBQ/KG
  49NZ20130106,  S04I,   166,  1,     36, X12J36,2,20130202,1311,-65.9997,  38.0008, 4723,      5.1,2,   1.0771,2,   1.07692,2,  33.8316,2,  33.8320,2,  33.9988,2,   334.82,2,   334.53,2,   98.633,   0.0551,2,    0.140,2,  -999.00,9,   70.497,2,    48.48,2,     0.10,    26.02,2,     0.04,     0.27,2,     0.01,     1.82,2,     0.01,    5.696,2,    3.110,2,    0.513,2,    3.018,2,   2170.8,2,   2291.9,2,   7.6750,       25,6, -999.000,9, -999.000,   -999.0,9,   -999.0, -999.000,9, -999.000, -999.000,9, -999.000
  49NZ20130106,  S04I,   166,  1,     35, X12J35,2,20130202,1311,-65.9997,  38.0008, 4723,     25.1,2,   1.0659,2,   1.06824,2,  33.8327,2,  33.8383,2,  34.0034,2,   334.59,2,   334.19,2,   98.618,   0.0557,2,    0.160,2,  -999.00,9,   14.312,2,    48.62,2,     0.10,    26.08,2,     0.04,     0.26,2,     0.01,     1.84,2,     0.01,    5.645,2,    3.105,2,    0.514,2,    3.082,2,   2171.5,2,   2292.2,2,   7.6745,       25,2, -999.000,9, -999.000,   -999.0,9,   -999.0, -999.000,9, -999.000, -999.000,9, -999.000
  49NZ20130106,  S04I,   166,  1,     34, X12J34,2,20130202,1311,-65.9997,  38.0008, 4723,     50.5,2,  -0.4918,2,  -0.50083,2,  34.2792,2,  34.2669,2,  34.4340,2,   288.47,2,   290.96,2,   98.039,   0.0792,2,    0.280,2,  -999.00,9,    6.566,2,    57.84,2,     0.11,    28.33,2,     0.04,     0.12,2,     0.01,     1.98,2,     0.01,    4.136,6,    2.233,6,    0.375,6,    1.988,6,   2210.3,2,   2319.7,2,   7.6382,       25,6, -999.000,9, -999.000,   -999.0,9,   -999.0, -999.000,9, -999.000, -999.000,9, -999.000
  49NZ20130106,  S04I,   166,  1,     33, X12J33,2,20130202,1311,-65.9997,  38.0008, 4723,     74.5,2,   1.1363,2,   1.13611,2,  34.5768,2,  34.5761,2,  34.7491,2,   195.67,2,   195.99,2,   98.369,   0.0658,2,    0.410,2,  -999.00,9,    2.408,2,    82.94,2,     0.13,    33.67,2,     0.05,     0.05,2,     0.01,     2.35,2,     0.01,    1.484,2,    0.788,2,    0.130,2,    0.612,2,   2257.6,6,   2335.8,2,   7.5553,       25,2, -999.000,9, -999.000,   -999.0,9,   -999.0, -999.000,9, -999.000, -999.000,9, -999.000
  49NZ20130106,  S04I,   166,  1,     32, X12J32,2,20130202,1311,-65.9997,  38.0008, 4723,    100.6,2,   1.2092,2,   1.20871,2,  34.6025,2,  34.6033,2,  34.7768,2,   188.06,2,   187.83,2,   98.718,   0.0516,2,    0.320,2,  -999.00,9,    0.618,2,    85.90,2,     0.14,    34.01,2,     0.05,     0.10,2,     0.01,     2.38,2,     0.01,    1.275,2,    0.680,2,    0.111,2,    0.430,2,   2260.7,2,   2338.0,6,   7.5453,       25,2, -999.000,9, -999.000,   -999.0,9,   -999.0, -999.000,9, -999.000, -999.000,9, -999.000
  49NZ20130106,  S04I,   166,  1,     31, X12J31,2,20130202,1311,-65.9997,  38.0008, 4723,    125.3,2,   1.3711,2,   1.37076,2,  34.6307,2,  34.6298,2,  34.8038,2,   183.22,2,   183.26,2,   99.396,   0.0242,2,    0.140,2,  -999.00,9,    0.166,2,    87.91,2,     0.14,    33.92,2,     0.05,     0.08,2,     0.01,     2.37,2,     0.01,    1.052,2,    0.563,2,    0.089,2,    0.308,2,   2264.6,2,   2339.1,2,   7.5459,       25,2, -999.000,9, -999.000,   -999.0,9,   -999.0, -999.000,9, -999.000, -999.000,9, -999.000
  49NZ20130106,  S04I,   166,  1,     30, X12J30,2,20130202,1311,-65.9997,  38.0008, 4723,    150.6,2,   1.4123,2,   1.41215,2,  34.6508,2,  34.6507,2,  34.8223,2,   183.64,2,   183.61,2,   99.715,   0.0114,2,    0.070,2,  -999.00,9,    0.039,2,    88.98,2,     0.14,    33.76,2,     0.05,     0.04,2,     0.01,     2.34,2,     0.01,    0.915,2,    0.479,2,    0.075,2,    0.298,2,   2263.6,2,   2341.3,2,   7.5532,       25,6, -999.000,9, -999.000,   -999.0,9,   -999.0, -999.000,9, -999.000, -999.000,9, -999.000
  49NZ20130106,  S04I,   166,  1,     29, X12J29,2,20130202,1311,-65.9997,  38.0008, 4723,    199.5,2,   1.4465,2,   1.44627,2,  34.6732,2,  34.6731,2,  34.8437,2,   185.08,2,   184.98,2,   99.841,   0.0064,2,    0.020,2,  -999.00,9,    0.000,2,    90.09,2,     0.14,    33.29,2,     0.05,     0.03,2,     0.01,     2.31,2,     0.01,    0.793,2,    0.396,2,    0.062,2,    0.247,2,   2260.8,2,   2343.1,2,   7.5632,       25,2, -999.000,9, -999.000,   -999.0,9,   -999.0, -999.000,9, -999.000, -999.000,9, -999.000
  49NZ20130106,  S04I,   166,  1,     28, X12J28,2,20130202,1311,-65.9997,  38.0008, 4723,    250.2,2,   1.4388,2,   1.43865,2,  34.6912,2,  34.6908,2,  34.8658,2,   187.39,2,   187.15,2,   99.830,   0.0068,2,    0.020,2,  -999.00,9,    0.000,2,    91.16,2,     0.14,    32.82,2,     0.05,     0.02,2,     0.01,     2.28,2,     0.01,    0.655,2,    0.339,2,    0.051,2,    0.212,2,   2259.3,2,   2344.8,2,   7.5710,       25,2, -999.000,9, -999.000,   -999.0,9,   -999.0, -999.000,9, -999.000, -999.000,9, -999.000
  49NZ20130106,  S04I,   166,  1,     27, X12J27,2,20130202,1311,-65.9997,  38.0008, 4723,    329.9,2,   1.3921,2,   1.39231,2,  34.7033,2,  34.7028,2,  34.8750,2,   190.59,2,   190.47,2,   99.890,   0.0044,2,    0.010,2,  -999.00,9,    0.000,2,    92.52,2,     0.14,    32.43,2,     0.05,     0.01,2,     0.01,     2.26,2,     0.01,    0.566,2,    0.290,2,    0.045,2,    0.142,2,   2256.7,2,   2346.8,2,   7.5799,       25,2, -999.000,9, -999.000,   -999.0,9,   -999.0, -999.000,9, -999.000, -999.000,9, -999.000
  49NZ20130106,  S04I,   166,  1,     26, X12J26,2,20130202,1311,-65.9997,  38.0008, 4723,    427.7,2,   1.3067,2,   1.30642,2,  34.7108,2,  34.7107,2,  34.8843,2,   193.84,2,   193.76,2,   99.926,   0.0030,2,    0.010,2,  -999.00,9,    0.000,2,    94.63,2,     0.14,    32.06,2,     0.04,     0.01,2,     0.01,     2.21,2,     0.01,    0.494,2,    0.251,2,    0.036,2,    0.087,2,   2257.3,2,   2348.8,2,   7.5865,       25,2, -999.000,9, -999.000,   -999.0,9,   -999.0, -999.000,9, -999.000, -999.000,9, -999.000
  49NZ20130106,  S04I,   166,  1,     25, X12J25,2,20130202,1311,-65.9997,  38.0008, 4723,    530.6,2,   1.2057,2,   1.20514,2,  34.7132,2,  34.7133,2,  34.8816,2,   196.58,2,   196.45,2,   99.997,   0.0001,2,    0.000,2,  -999.00,9,    0.000,2,    97.49,2,     0.15,    32.00,2,     0.04,     0.01,2,     0.01,     2.21,2,     0.01,    0.442,2,    0.227,2,    0.027,2,    0.116,2,   2257.1,2,   2349.9,2,   7.5911,       25,2, -999.000,9, -999.000,   -999.0,9,   -999.0, -999.000,9, -999.000, -999.000,9, -999.000
  49NZ20130106,  S04I,   166,  1,     24, X12J24,2,20130202,1311,-65.9997,  38.0008, 4723,    631.4,2,   1.1016,2,   1.10133,2,  34.7129,2,  34.7129,2,  34.8889,2,   198.48,2,   198.50,2,   99.956,   0.0018,2,    0.000,2,  -999.00,9,    0.000,2,   100.31,2,     0.15,    32.04,2,     0.04,     0.01,2,     0.01,     2.21,2,     0.01,    0.422,6,    0.214,6,    0.026,6,    0.081,6,   2257.4,2,   2351.4,2,   7.5929,       25,2, -999.000,9, -999.000,   -999.0,9,   -999.0, -999.000,9, -999.000, -999.000,9, -999.000
  49NZ20130106,  S04I,   166,  1,     23, X12J23,2,20130202,1311,-65.9997,  38.0008, 4723,    729.4,2,   1.0132,2,   1.01283,2,  34.7111,2,  34.7112,2,  34.8810,2,   200.05,2,   199.82,2,   99.945,   0.0022,2,    0.000,2,  -999.00,9,    0.000,2,   102.82,2,     0.15,    32.09,2,     0.04,     0.01,2,     0.01,     2.23,2,     0.01,    0.398,2,    0.200,2,    0.027,2,    0.066,2,   2257.9,6,   2352.8,2,   7.5937,       25,2, -999.000,9, -999.000,   -999.0,9,   -999.0, -999.000,9, -999.000, -999.000,9, -999.000
  49NZ20130106,  S04I,   166,  1,     22, X12J22,2,20130202,1311,-65.9997,  38.0008, 4723,    830.8,2,   0.9162,2,   0.91602,2,  34.7079,2,  34.7076,2,  34.8796,2,   201.28,2,   201.30,2,   99.948,   0.0021,2,    0.000,2,  -999.00,9,    0.000,2,   105.56,2,     0.15,    32.24,2,     0.05,     0.01,2,     0.01,     2.24,2,     0.01,    0.396,2,    0.201,2,    0.024,2,    0.026,2,   2259.5,2,   2352.6,6,   7.5934,       25,2, -999.000,9, -999.000,   -999.0,9,   -999.0, -999.000,9, -999.000, -999.000,9, -999.000
  49NZ20130106,  S04I,   166,  1,     21, X12J21,2,20130202,1311,-65.9997,  38.0008, 4723,    929.6,2,   0.8382,2,   0.83824,2,  34.7049,2,  34.7049,2,  34.8783,2,   202.25,2,   202.29,2,   99.954,   0.0018,2,    0.000,2,  -999.00,9,    0.000,2,   107.64,2,     0.16,    32.33,2,     0.05,     0.01,2,     0.01,     2.25,2,     0.01,    0.394,2,    0.188,2,    0.026,2,    0.050,2,   2260.4,2,   2354.6,2,   7.5930,       25,6, -999.000,9, -999.000,   -999.0,9,   -999.0, -999.000,9, -999.000, -999.000,9, -999.000
  49NZ20130106,  S04I,   166,  1,     20, X12J20,2,20130202,1311,-65.9997,  38.0008, 4723,   1080.2,2,   0.7198,2,   0.71982,2,  34.7000,2,  34.7000,2,  34.8737,2,   203.33,2,   203.36,2,   99.992,   0.0003,2,    0.000,2,  -999.00,9,    0.000,2,   111.09,2,     0.16,    32.60,2,     0.05,     0.01,2,     0.01,     2.26,2,     0.01,    0.379,2,    0.183,2,    0.021,2,    0.038,2,   2259.6,3,   2354.7,2,   7.5910,       25,2, -999.000,9, -999.000,   -999.0,9,   -999.0, -999.000,9, -999.000, -999.000,9, -999.000
  49NZ20130106,  S04I,   166,  1,     19, X12J19,2,20130202,1311,-65.9997,  38.0008, 4723,   1331.5,2,   0.5732,2,   0.57314,2,  34.6939,2,  34.6940,2,  34.8671,2,   204.99,2,   205.13,2,  100.001,  -0.0000,2,    0.000,2,  -999.00,9,    0.000,2,   115.93,2,     0.16,    32.90,2,     0.05,     0.01,2,     0.01,     2.29,2,     0.01,    0.344,6,    0.168,6,    0.014,6,    0.052,6,   2262.1,2,   2355.7,2,   7.5881,       25,2, -999.000,9, -999.000,   -999.0,9,   -999.0, -999.000,9, -999.000, -999.000,9, -999.000
  49NZ20130106,  S04I,   166,  1,     18, X12J18,2,20130202,1311,-65.9997,  38.0008, 4723,   1581.0,2,   0.4523,2,   0.45214,2,  34.6882,2,  34.6883,2,  34.8605,2,   207.53,2,   207.62,2,  100.014,  -0.0006,2,    0.000,2,  -999.00,9,    0.000,2,   119.31,2,     0.17,    33.04,2,     0.05,     0.00,2,     0.01,     2.30,2,     0.01,    0.323,2,    0.157,2,    0.012,2,    0.078,2,   2262.4,2,   2355.8,2,   7.5887,       25,2, -999.000,9, -999.000,   -999.0,9,   -999.0, -999.000,9, -999.000, -999.000,9, -999.000
  49NZ20130106,  S04I,   166,  1,     17, X12J17,2,20130202,1311,-65.9997,  38.0008, 4723,   1832.1,2,   0.3491,2,   0.34913,2,  34.6833,2,  34.6833,2,  34.8592,2,   210.39,2,   210.50,2,  100.014,  -0.0006,2,    0.000,2,  -999.00,9,    0.000,2,   121.91,2,     0.17,    33.10,2,     0.05,     0.01,2,     0.01,     2.30,2,     0.01,    0.315,2,    0.152,2,    0.012,2,    0.071,2,   2261.8,2,   2355.3,2,   7.5883,       25,6, -999.000,9, -999.000,   -999.0,9,   -999.0, -999.000,9, -999.000, -999.000,9, -999.000
  49NZ20130106,  S04I,   166,  1,     16, X12J16,2,20130202,1311,-65.9997,  38.0008, 4723,   2080.4,2,   0.2489,2,   0.24891,2,  34.6783,2,  34.6785,2,  34.8533,2,   213.64,2,   213.71,2,  100.003,  -0.0001,2,    0.000,2,  -999.00,9,    0.000,2,   123.17,2,     0.17,    33.11,2,     0.05,     0.01,2,     0.01,     2.31,2,     0.01,    0.331,2,    0.161,2,    0.015,2,    0.071,2,   2261.7,2,   2355.1,2,   7.5887,       25,2, -999.000,9, -999.000,   -999.0,9,   -999.0, -999.000,9, -999.000, -999.000,9, -999.000
  49NZ20130106,  S04I,   166,  1,     15, X12J15,2,20130202,1311,-65.9997,  38.0008, 4723,   2331.9,2,   0.1546,2,   0.15453,2,  34.6737,2,  34.6736,2,  34.8526,2,   217.64,2,   217.77,2,  100.014,  -0.0006,2,    0.000,2,  -999.00,9,    0.000,2,   123.60,2,     0.17,    33.05,2,     0.05,     0.01,2,     0.01,     2.28,2,     0.01,    0.364,2,    0.177,2,    0.016,2,    0.124,2,   2260.4,2,   2354.6,2,   7.5906,       25,2, -999.000,9, -999.000,   -999.0,9,   -999.0, -999.000,9, -999.000, -999.000,9, -999.000
  49NZ20130106,  S04I,   166,  1,     14, X12J14,2,20130202,1311,-65.9997,  38.0008, 4723,   2580.9,2,   0.0681,2,   0.06822,2,  34.6695,2,  34.6691,2,  34.8423,2,   221.86,2,   222.04,2,  100.014,  -0.0006,2,    0.000,2,  -999.00,9,    0.000,2,   123.88,2,     0.17,    32.98,2,     0.05,     0.01,2,     0.01,     2.29,2,     0.01,    0.424,2,    0.206,2,    0.019,2,    0.137,2,   2259.1,6,   2355.2,2,   7.5922,       25,2, -999.000,9, -999.000,   -999.0,9,   -999.0, -999.000,9, -999.000, -999.000,9, -999.000
  49NZ20130106,  S04I,   166,  1,     13, X12J13,2,20130202,1311,-65.9997,  38.0008, 4723,   2831.5,2,  -0.0019,2,  -0.00182,2,  34.6662,2,  34.6658,2,  34.8421,2,   225.64,2,   225.48,2,  100.001,  -0.0000,2,    0.000,2,  -999.00,9,    0.000,2,   124.31,2,     0.17,    32.95,2,     0.05,     0.00,2,     0.01,     2.29,2,     0.01,    0.469,2,    0.229,2,    0.022,2,    0.151,2,   2259.6,2,   2353.6,6,   7.5941,       25,2, -999.000,9, -999.000,   -999.0,9,   -999.0, -999.000,9, -999.000, -999.000,9, -999.000
  49NZ20130106,  S04I,   166,  1,     12, X12J12,2,20130202,1311,-65.9997,  38.0008, 4723,   3080.8,2,  -0.0668,2,  -0.06663,2,  34.6630,2,  34.6627,2,  34.8375,2,   229.37,2,   229.31,2,   99.992,   0.0003,2,    0.000,2,  -999.00,9,    0.000,2,   124.32,2,     0.17,    32.86,2,     0.05,     0.01,2,     0.01,     2.29,2,     0.01,    0.533,2,    0.261,2,    0.026,2,    0.094,2,   2256.2,2,   2352.9,2,   7.5964,       25,2, -999.000,9, -999.000,   -999.0,9,   -999.0, -999.000,9, -999.000, -999.000,9, -999.000
  49NZ20130106,  S04I,   166,  1,     11, X12J11,2,20130202,1311,-65.9997,  38.0008, 4723,   3331.3,2,  -0.1171,2,  -0.11703,2,  34.6607,2,  34.6604,2,  34.8361,2,   232.28,2,   232.18,2,   99.994,   0.0002,2,    0.000,2,  -999.00,9,    0.000,2,   124.61,2,     0.17,    32.81,2,     0.05,     0.01,2,     0.01,     2.28,2,     0.01,    0.534,2,    0.272,2,    0.032,2,    0.060,2,   2254.8,2,   2352.6,2,   7.5985,       25,2, -999.000,9, -999.000,   -999.0,9,   -999.0, -999.000,9, -999.000, -999.000,9, -999.000
  49NZ20130106,  S04I,   166,  1,     10, X12J10,2,20130202,1311,-65.9997,  38.0008, 4723,   3580.7,2,  -0.1624,2,  -0.16243,2,  34.6581,2,  34.6578,2,  34.8355,2,   235.41,2,   235.21,2,   99.986,   0.0006,2,    0.000,2,  -999.00,9,    0.000,2,   124.18,2,     0.17,    32.76,2,     0.05,     0.01,2,     0.01,     2.28,2,     0.01,    0.615,2,    0.312,2,    0.036,2,    0.139,2,   2254.7,2,   2352.0,2,   7.5998,       25,2, -999.000,9, -999.000,   -999.0,9,   -999.0, -999.000,9, -999.000, -999.000,9, -999.000
  49NZ20130106,  S04I,   166,  1,      9, X12J09,2,20130202,1311,-65.9997,  38.0008, 4723,   3832.3,2,  -0.2003,2,  -0.20043,2,  34.6555,2,  34.6551,2,  34.8295,2,   238.41,2,   238.24,2,   99.986,   0.0006,2,    0.000,2,  -999.00,9,    0.000,2,   124.17,2,     0.17,    32.69,2,     0.05,     0.01,2,     0.01,     2.28,2,     0.01,    0.698,2,    0.354,2,    0.043,2,    0.157,2,   2252.0,3,   2352.5,2,   7.6019,       25,2, -999.000,9, -999.000,   -999.0,9,   -999.0, -999.000,9, -999.000, -999.000,9, -999.000
  49NZ20130106,  S04I,   166,  1,      8, X12J08,2,20130202,1311,-65.9997,  38.0008, 4723,   4080.6,2,  -0.2317,2,  -0.23165,2,  34.6540,2,  34.6536,2,  34.8276,2,   240.76,2,   240.61,2,   99.969,   0.0012,2,    0.000,2,  -999.00,9,    0.000,2,   124.94,2,     0.17,    32.65,2,     0.05,     0.01,2,     0.01,     2.28,2,     0.01,    0.741,6,    0.377,6,    0.048,6,    0.208,6,   2255.7,2,   2352.2,2,   7.6036,       25,2, -999.000,9, -999.000,   -999.0,9,   -999.0, -999.000,9, -999.000, -999.000,9, -999.000
  49NZ20130106,  S04I,   166,  1,      7, X12J07,2,20130202,1311,-65.9997,  38.0008, 4723,   4329.8,2,  -0.2555,2,  -0.25538,2,  34.6522,2,  34.6520,2,  34.8263,2,   242.80,2,   242.63,2,   99.958,   0.0017,2,   -0.000,2,  -999.00,9,    0.000,2,   126.07,2,     0.17,    32.60,2,     0.05,     0.01,2,     0.01,     2.27,2,     0.01,    0.792,2,    0.392,2,    0.051,2,    0.189,2,   2254.7,6,   2352.1,2,   7.6042,       25,2, -999.000,9, -999.000,   -999.0,9,   -999.0, -999.000,9, -999.000, -999.000,9, -999.000
  49NZ20130106,  S04I,   166,  1,      6, X12J06,2,20130202,1311,-65.9997,  38.0008, 4723,   4580.0,2,  -0.2720,2,  -0.27201,2,  34.6507,2,  34.6509,2,  34.8276,2,   244.01,2,   243.81,2,   99.939,   0.0024,2,    0.000,2,  -999.00,9,    0.000,2,   129.19,2,     0.17,    32.62,2,     0.05,     0.00,2,     0.01,     2.27,2,     0.01,    0.795,2,    0.414,2,    0.052,2,    0.207,2,   2254.2,2,   2351.9,6,   7.6044,       25,2, -999.000,9, -999.000,   -999.0,9,   -999.0, -999.000,9, -999.000, -999.000,9, -999.000
  49NZ20130106,  S04I,   166,  1,      2, X12J02,2,20130202,1311,-65.9997,  38.0008, 4723,     84.4,2,   1.1936,2,   1.19287,2,  34.5899,2,  34.5891,2,-999.0000,9,   190.58,2,   190.99,2,   98.469,   0.0617,2,    0.380,2,     0.38,2,    1.391,2,    84.78,2,     0.13,    33.96,2,     0.05,     0.07,2,     0.01,     2.38,2,     0.01, -999.000,9, -999.000,9, -999.000,9, -999.000,9,   -999.0,9,   -999.0,9,-999.0000,     -999,9, -999.000,9, -999.000,   -999.0,9,   -999.0, -999.000,9, -999.000, -999.000,9, -999.000
  49NZ20130106,  S04I,   166,  1,      1, X12J01,2,20130202,1311,-65.9997,  38.0008, 4723,   4811.7,2,  -0.2824,2,  -0.28239,2,  34.6506,2,  34.6507,2,  34.8276,2,   240.04,2,   239.98,2,   99.545,   0.0182,2,    0.000,2,  -999.00,9,    0.000,2,   143.13,2,     0.19,    32.98,2,     0.05,     0.01,2,     0.01,     2.29,2,     0.01,    0.575,2,    0.278,2,    0.027,2,    0.073,2,   2257.0,2,   2353.4,2,   7.5998,       25,2, -999.000,9, -999.000,   -999.0,9,   -999.0, -999.000,9, -999.000, -999.000,9, -999.000