BOTTLE,20220819CCHSIOAMB
EXPOCODE,SECT_ID,STNNBR,CASTNO,SAMPNO,BTLNBR,BTLNBR_FLAG_W,DATE,TIME,LATITUDE,LONGITUDE,DEPTH,CTDPRS,CTDPRS_FLAG_W,CTDTMP,CTDTMP_FLAG_W,SBE35,SBE35_FLAG_W,CTDSAL,CTDSAL_FLAG_W,SALNTY,SALNTY_FLAG_W,DNSSAL,DNSSAL_FLAG_W,CTDOXY,CTDOXY_FLAG_W,OXYGEN,OXYGEN_FLAG_W,CTDXMISS,CTDXMISSCP,CTDXMISS_FLAG_W,CTDFLUOR,CTDFLUOR_FLAG_W,CHLORA,CHLORA_FLAG_W,PAR,PAR_FLAG_W,SILCAT,SILCAT_FLAG_W,SILUNC,NITRAT,NITRAT_FLAG_W,NRAUNC,NITRIT,NITRIT_FLAG_W,NRIUNC,PHSPHT,PHSPHT_FLAG_W,PHPUNC,CFC-11,CFC-11_FLAG_W,CFC-12,CFC-12_FLAG_W,CFC113,CFC113_FLAG_W,SF6,SF6_FLAG_W,TCARBN,TCARBN_FLAG_W,ALKALI,ALKALI_FLAG_W,PH_TOT,PH_TMP,PH_TOT_FLAG_W,DELC13,DELC13_FLAG_W,C13ERR,DELC14,DELC14_FLAG_W,C14ERR,CS-134,CS-134_FLAG_W,CS134ER,CS-137,CS-137_FLAG_W,CS137ER
,,,,,,,,UTC,DEG,DEG,METERS,DBAR,,ITS-90,,ITS-90,,PSS-78,,PSS-78,,G/KG,,UMOL/KG,,UMOL/KG,,%TRANS,/METER,,MG/M^3,,MG/CUM,,UE/SQM/S,,UMOL/KG,,UMOL/KG,UMOL/KG,,UMOL/KG,UMOL/KG,,UMOL/KG,UMOL/KG,,UMOL/KG,PMOL/KG,,PMOL/KG,,PMOL/KG,,FMOL/KG,,UMOL/KG,,UMOL/KG,,,DEG C,,/MILLE,,/MILLE,/MILLE,,/MILLE,MBQ/KG,,MBQ/KG,MBQ/KG,,MBQ/KG
  49NZ20130106,  S04I,    90,  1,     36, X12J36,2,20130113,1019,-62.1437, 105.2743, 4244,      5.0,2,   1.7973,2,   1.79715,2,  33.6251,2,  33.6353,2,  33.7960,2,   341.15,2,   340.72,2,   94.132,   0.2419,2,    0.430,2,  -999.00,9,   71.831,2,    22.15,2,     0.08,    23.87,2,     0.04,     0.26,2,     0.01,     1.52,2,     0.01,    5.715,2,    3.128,2,    0.508,2,    2.790,2,   2133.6,2,   2272.9,2,   7.7309,       25,2, -999.000,1, -999.000,   -999.0,1,   -999.0, -999.000,9, -999.000, -999.000,9, -999.000
  49NZ20130106,  S04I,    90,  1,     35, X12J35,2,20130113,1019,-62.1437, 105.2743, 4244,     24.4,2,   1.7347,2,   1.73447,2,  33.8639,2,  33.8705,2,  34.0314,2,   343.12,2,   342.63,2,   94.962,   0.2068,2,    0.470,2,  -999.00,9,   15.249,2,    19.13,2,     0.08,    25.16,2,     0.04,     0.26,2,     0.01,     1.61,2,     0.01,    5.725,2,    3.205,2,    0.511,2,    2.848,2,   2151.6,2,   2287.7,2,   7.7167,       25,2, -999.000,1, -999.000,   -999.0,1,   -999.0, -999.000,9, -999.000, -999.000,9, -999.000
  49NZ20130106,  S04I,    90,  1,     34, X12J34,2,20130113,1019,-62.1437, 105.2743, 4244,     49.3,2,  -0.4278,2,  -0.42239,2,  33.9556,2,  33.9562,2,  34.1211,2,   349.52,2,   348.76,2,   95.205,   0.1966,2,    0.770,2,  -999.00,9,    2.038,2,    32.67,2,     0.09,    27.55,2,     0.04,     0.22,2,     0.01,     1.93,2,     0.01,    6.025,6,    3.265,6,    0.554,6,    3.005,6,   2171.0,2,   2289.3,2,   7.6744,       25,2, -999.000,1, -999.000,   -999.0,1,   -999.0, -999.000,9, -999.000, -999.000,9, -999.000
  49NZ20130106,  S04I,    90,  1,     33, X12J33,2,20130113,1019,-62.1437, 105.2743, 4244,     73.8,2,  -0.9230,2,  -0.92353,2,  34.0268,2,  34.0264,2,  34.1923,2,   331.25,2,   330.62,2,   98.543,   0.0587,2,    0.290,2,  -999.00,9,    0.648,2,    43.31,2,     0.10,    29.45,2,     0.04,     0.21,2,     0.01,     2.08,2,     0.01,    5.627,2,    3.064,2,    0.506,2,    2.671,2,   2189.0,6,   2291.8,2,   7.6371,       25,2, -999.000,1, -999.000,   -999.0,1,   -999.0, -999.000,9, -999.000, -999.000,9, -999.000
  49NZ20130106,  S04I,    90,  1,     32, X12J32,2,20130113,1019,-62.1437, 105.2743, 4244,    100.1,2,  -0.7891,2,  -0.78947,2,  34.1286,2,  34.1279,2,  34.2933,2,   303.87,2,   302.72,2,   98.970,   0.0414,2,    0.180,2,  -999.00,9,    0.194,2,    52.34,2,     0.11,    30.75,2,     0.04,     0.14,2,     0.01,     2.14,2,     0.01,    4.795,2,    2.671,2,    0.429,2,    2.307,2,   2204.4,2,   2301.9,6,   7.6138,       25,2, -999.000,1, -999.000,   -999.0,1,   -999.0, -999.000,9, -999.000, -999.000,9, -999.000
  49NZ20130106,  S04I,    90,  1,     31, X12J31,2,20130113,1019,-62.1437, 105.2743, 4244,    124.7,2,  -0.1008,2,  -0.09755,2,  34.2624,2,  34.2567,2,  34.4243,2,   263.29,2,   263.60,2,   99.376,   0.0250,2,    0.120,2,  -999.00,9,    0.037,2,    59.46,2,     0.11,    32.51,2,     0.05,     0.08,2,     0.01,     2.23,2,     0.01,    3.700,2,    2.020,2,    0.333,2,    1.636,2,   2221.6,2,   2310.1,2,   7.5840,       25,2, -999.000,1, -999.000,   -999.0,1,   -999.0, -999.000,9, -999.000, -999.000,9, -999.000
  49NZ20130106,  S04I,    90,  1,     30, X12J30,2,20130113,1019,-62.1437, 105.2743, 4244,    149.4,2,   0.8345,2,   0.83598,2,  34.4044,2,  34.4026,2,  34.5702,2,   220.15,2,   219.68,2,   99.603,   0.0159,2,    0.060,2,  -999.00,9,    0.000,2,    66.95,2,     0.12,    33.79,2,     0.05,     0.02,2,     0.01,     2.31,2,     0.01,    2.424,2,    1.291,2,    0.215,2,    0.979,2,   2242.2,2,   2319.6,2,   7.5591,       25,6, -999.000,1, -999.000,   -999.0,1,   -999.0, -999.000,9, -999.000, -999.000,9, -999.000
  49NZ20130106,  S04I,    90,  1,     29, X12J29,2,20130113,1019,-62.1437, 105.2743, 4244,    201.8,2,   1.4587,2,   1.45923,2,  34.5316,2,  34.5293,2,  34.6965,2,   194.36,2,   194.02,2,   99.687,   0.0125,2,    0.030,2,  -999.00,9,    0.000,2,    73.76,2,     0.12,    33.88,2,     0.05,     0.01,2,     0.01,     2.32,2,     0.01,    1.442,2,    0.772,2,    0.131,2,    0.490,2,   2252.4,2,   2329.0,2,   7.5531,       25,2, -999.000,1, -999.000,   -999.0,1,   -999.0, -999.000,9, -999.000, -999.000,9, -999.000
  49NZ20130106,  S04I,    90,  1,     28, X12J28,2,20130113,1019,-62.1437, 105.2743, 4244,    250.8,2,   1.6619,2,   1.66184,2,  34.6033,2,  34.6023,2,  34.7710,2,   186.64,2,   186.21,2,   99.649,   0.0141,2,    0.020,2,  -999.00,9,    0.000,2,    77.55,2,     0.13,    33.48,2,     0.05,     0.01,2,     0.01,     2.29,2,     0.01,    1.030,2,    0.528,2,    0.083,2,    0.317,2,   2253.4,2,   2333.9,2,   7.5572,       25,2, -999.000,1, -999.000,   -999.0,1,   -999.0, -999.000,9, -999.000, -999.000,9, -999.000
  49NZ20130106,  S04I,    90,  1,     27, X12J27,2,20130113,1019,-62.1437, 105.2743, 4244,    299.8,2,   1.7175,2,   1.71752,2,  34.6339,2,  34.6338,2,  34.8026,2,   185.65,2,   185.14,2,   99.715,   0.0114,2,    0.010,2,  -999.00,9,    0.000,2,    78.94,2,     0.13,    33.11,2,     0.05,     0.01,2,     0.01,     2.26,2,     0.01,    0.864,2,    0.441,2,    0.071,2,    0.254,2,   2255.4,2,   2336.6,2,   7.5628,       25,2, -999.000,1, -999.000,   -999.0,1,   -999.0, -999.000,9, -999.000, -999.000,9, -999.000
  49NZ20130106,  S04I,    90,  1,     26, X12J26,2,20130113,1019,-62.1437, 105.2743, 4244,    399.5,2,   1.8451,2,   1.84509,2,  34.6856,2,  34.6852,2,  34.8549,2,   184.43,2,   183.97,2,   99.848,   0.0061,2,    0.010,2,  -999.00,9,    0.000,2,    81.01,2,     0.13,    32.39,2,     0.05,     0.01,2,     0.01,     2.22,2,     0.01,    0.558,2,    0.281,2,    0.042,2,    0.132,2,   2254.1,2,   2340.9,2,   7.5736,       25,2, -999.000,1, -999.000,   -999.0,1,   -999.0, -999.000,9, -999.000, -999.000,9, -999.000
  49NZ20130106,  S04I,    90,  1,     25, X12J25,2,20130113,1019,-62.1437, 105.2743, 4244,    498.9,2,   1.7953,2,   1.79534,2,  34.7076,2,  34.7071,2,  34.8744,2,   187.96,2,   187.44,2,   99.871,   0.0052,2,    0.010,2,  -999.00,9,    0.000,2,    82.71,2,     0.13,    31.77,2,     0.04,     0.01,2,     0.01,     2.17,2,     0.01,    0.476,2,    0.228,2,    0.032,2,    0.106,2,   2252.3,2,   2343.4,2,   7.5838,       25,2, -999.000,1, -999.000,   -999.0,1,   -999.0, -999.000,9, -999.000, -999.000,9, -999.000
  49NZ20130106,  S04I,    90,  1,     24, X12J24,2,20130113,1019,-62.1437, 105.2743, 4244,    603.5,2,   1.7551,2,   1.75520,2,  34.7249,2,  34.7248,2,  34.8949,2,   191.19,2,   190.88,2,   99.827,   0.0069,2,    0.010,2,  -999.00,9,    0.000,2,    84.75,2,     0.13,    31.34,2,     0.04,     0.01,2,     0.01,     2.15,2,     0.01,    0.381,6,    0.183,6,    0.025,6,    0.075,6,   2251.4,2,   2345.0,2,   7.5929,       25,2, -999.000,1, -999.000,   -999.0,1,   -999.0, -999.000,9, -999.000, -999.000,9, -999.000
  49NZ20130106,  S04I,    90,  1,     23, X12J23,2,20130113,1019,-62.1437, 105.2743, 4244,    701.0,2,   1.6748,2,   1.67490,2,  34.7320,2,  34.7318,2,  34.8995,2,   194.28,2,   193.91,2,   99.882,   0.0047,2,    0.000,2,  -999.00,9,    0.000,2,    86.68,2,     0.14,    31.10,2,     0.04,     0.00,2,     0.01,     2.13,2,     0.01,    0.347,2,    0.165,2,    0.023,2,    0.061,2,   2251.2,6,   2346.3,2,   7.5984,       25,2, -999.000,1, -999.000,   -999.0,1,   -999.0, -999.000,9, -999.000, -999.000,9, -999.000
  49NZ20130106,  S04I,    90,  1,     22, X12J22,2,20130113,1019,-62.1437, 105.2743, 4244,    801.7,2,   1.5963,2,   1.59633,2,  34.7347,2,  34.7344,2,  34.9047,2,   196.18,2,   195.53,2,   99.916,   0.0034,2,    0.000,2,  -999.00,9,    0.000,2,    88.74,2,     0.14,    31.04,2,     0.04,     0.00,2,     0.01,     2.13,2,     0.01,    0.322,2,    0.152,2,    0.018,2,    0.048,2,   2252.7,2,   2348.1,6,   7.6016,       25,2, -999.000,1, -999.000,   -999.0,1,   -999.0, -999.000,9, -999.000, -999.000,9, -999.000
  49NZ20130106,  S04I,    90,  1,     21, X12J21,2,20130113,1019,-62.1437, 105.2743, 4244,    900.9,2,   1.5043,2,   1.50433,2,  34.7357,2,  34.7356,2,  34.9054,2,   198.27,2,   197.79,2,   99.945,   0.0022,2,    0.000,2,  -999.00,9,    0.000,2,    91.10,2,     0.14,    30.96,2,     0.04,     0.01,2,     0.01,     2.12,2,     0.01,    0.301,2,    0.140,2,    0.015,2,    0.000,2,   2253.7,2,   2349.5,2,   7.6041,       25,6, -999.000,1, -999.000,   -999.0,1,   -999.0, -999.000,9, -999.000, -999.000,9, -999.000
  49NZ20130106,  S04I,    90,  1,     20, X12J20,2,20130113,1019,-62.1437, 105.2743, 4244,   1000.7,2,   1.4428,2,   1.44278,2,  34.7375,2,  34.7375,2,  34.9054,2,   199.91,2,   199.23,2,   99.988,   0.0005,2,   -0.000,2,  -999.00,9,    0.000,2,    93.54,2,     0.14,    30.92,2,     0.04,     0.00,2,     0.01,     2.12,2,     0.01,    0.245,2,    0.113,2,    0.011,2,    0.016,2,   2251.0,2,   2351.4,2,   7.6071,       25,2, -999.000,1, -999.000,   -999.0,1,   -999.0, -999.000,9, -999.000, -999.000,9, -999.000
  49NZ20130106,  S04I,    90,  1,     19, X12J19,2,20130113,1019,-62.1437, 105.2743, 4244,   1250.9,2,   1.2054,2,   1.20555,2,  34.7284,2,  34.7283,2,  34.8988,2,   202.89,2,   202.42,2,   99.990,   0.0004,2,   -0.000,2,  -999.00,9,    0.000,2,    99.52,2,     0.15,    31.26,2,     0.04,     0.01,2,     0.01,     2.15,2,     0.01,    0.267,6,    0.122,6,    0.011,6,    0.029,6,   2254.7,2,   2353.0,2,   7.6058,       25,2, -999.000,1, -999.000,   -999.0,1,   -999.0, -999.000,9, -999.000, -999.000,9, -999.000
  49NZ20130106,  S04I,    90,  1,     18, X12J18,2,20130113,1019,-62.1437, 105.2743, 4244,   1500.8,2,   0.9879,2,   0.98829,2,  34.7183,2,  34.7182,2,  34.8856,2,   205.29,2,   204.80,2,   99.981,   0.0008,2,   -0.000,2,  -999.00,9,    0.000,2,   106.35,2,     0.15,    31.67,2,     0.04,     0.00,2,     0.01,     2.18,2,     0.01,    0.264,2,    0.119,2,    0.012,2,    0.041,2,   2257.0,2,   2354.7,2,   7.6028,       25,2, -999.000,1, -999.000,   -999.0,1,   -999.0, -999.000,9, -999.000, -999.000,9, -999.000
  49NZ20130106,  S04I,    90,  1,     17, X12J17,2,20130113,1019,-62.1437, 105.2743, 4244,   1751.4,2,   0.7872,2,   0.78736,2,  34.7070,2,  34.7067,2,  34.8751,2,   207.60,2,   207.13,2,  100.007,  -0.0003,2,   -0.000,2,  -999.00,9,    0.000,2,   111.61,2,     0.16,    32.04,2,     0.04,     0.01,2,     0.01,     2.20,2,     0.01,    0.301,2,    0.138,2,    0.012,2,    0.044,2,   2260.7,2,   2355.5,2,   7.5994,       25,6, -999.000,1, -999.000,   -999.0,1,   -999.0, -999.000,9, -999.000, -999.000,9, -999.000
  49NZ20130106,  S04I,    90,  1,     16, X12J16,2,20130113,1019,-62.1437, 105.2743, 4244,   2000.5,2,   0.6107,2,   0.61091,2,  34.6976,2,  34.6973,2,  34.8685,2,   210.46,2,   210.12,2,   99.992,   0.0003,2,   -0.000,2,  -999.00,9,    0.000,2,   115.79,2,     0.16,    32.30,2,     0.05,     0.00,2,     0.01,     2.22,2,     0.01,    0.356,2,    0.159,2,    0.016,2,    0.000,2,   2260.3,2,   2355.7,2,   7.5967,       25,2, -999.000,1, -999.000,   -999.0,1,   -999.0, -999.000,9, -999.000, -999.000,9, -999.000
  49NZ20130106,  S04I,    90,  1,     15, X12J15,2,20130113,1019,-62.1437, 105.2743, 4244,   2250.5,2,   0.4516,2,   0.45170,2,  34.6897,2,  34.6895,2,  34.8580,2,   214.04,2,   213.49,2,  100.007,  -0.0003,2,   -0.000,2,  -999.00,9,    0.000,2,   119.04,2,     0.17,    32.42,2,     0.05,     0.01,2,     0.01,     2.23,2,     0.01,    0.434,2,    0.201,2,    0.019,2,    0.066,2,   2260.3,2,   2355.0,2,   7.5957,       25,2, -999.000,1, -999.000,   -999.0,1,   -999.0, -999.000,9, -999.000, -999.000,9, -999.000
  49NZ20130106,  S04I,    90,  1,     14, X12J14,2,20130113,1019,-62.1437, 105.2743, 4244,   2499.9,2,   0.3266,2,   0.32686,2,  34.6835,2,  34.6833,2,  34.8520,2,   217.66,2,   217.18,2,  100.011,  -0.0004,2,   -0.000,2,  -999.00,9,    0.000,2,   121.17,2,     0.17,    32.52,2,     0.05,     0.00,2,     0.01,     2.23,2,     0.01,    0.547,2,    0.248,2,    0.026,2,    0.088,2,   2260.0,6,   2354.6,2,   7.5944,       25,2, -999.000,1, -999.000,   -999.0,1,   -999.0, -999.000,9, -999.000, -999.000,9, -999.000
  49NZ20130106,  S04I,    90,  1,     13, X12J13,2,20130113,1019,-62.1437, 105.2743, 4244,   2752.3,2,   0.2150,2,   0.21528,2,  34.6792,2,  34.6785,2,  34.8504,2,   221.49,2,   221.16,2,  100.017,  -0.0007,2,   -0.000,2,  -999.00,9,    0.000,2,   123.22,2,     0.17,    32.50,2,     0.05,     0.01,2,     0.01,     2.23,2,     0.01,    0.691,2,    0.320,2,    0.040,2,    0.113,2,   2258.2,3,   2354.2,6,   7.5954,       25,2, -999.000,1, -999.000,   -999.0,1,   -999.0, -999.000,9, -999.000, -999.000,9, -999.000
  49NZ20130106,  S04I,    90,  1,     12, X12J12,2,20130113,1019,-62.1437, 105.2743, 4244,   3000.6,2,   0.1311,2,   0.13118,2,  34.6750,2,  34.6751,2,  34.8448,2,   224.76,2,   224.29,2,   99.996,   0.0002,2,   -0.000,2,  -999.00,9,    0.000,2,   123.71,2,     0.17,    32.46,2,     0.05,     0.01,2,     0.01,     2.23,2,     0.01,    0.847,2,    0.402,2,    0.049,2,    0.145,2,   2258.6,2,   2353.5,2,   7.5955,       25,6, -999.000,1, -999.000,   -999.0,1,   -999.0, -999.000,9, -999.000, -999.000,9, -999.000
  49NZ20130106,  S04I,    90,  1,     11, X12J11,2,20130113,1019,-62.1437, 105.2743, 4244,   3251.7,2,   0.0609,2,   0.06094,2,  34.6718,2,  34.6716,2,  34.8415,2,   227.70,2,   227.15,2,   99.977,   0.0009,2,   -0.000,2,  -999.00,9,    0.000,2,   125.19,2,     0.17,    32.48,2,     0.05,     0.00,2,     0.01,     2.24,2,     0.01,    1.022,2,    0.487,2,    0.060,2,    0.211,2,   2259.1,2,   2353.3,2,   7.5953,       25,2, -999.000,1, -999.000,   -999.0,1,   -999.0, -999.000,9, -999.000, -999.000,9, -999.000
  49NZ20130106,  S04I,    90,  1,     10, X12J10,2,20130113,1019,-62.1437, 105.2743, 4244,   3500.1,2,   0.0012,2,   0.00120,2,  34.6674,2,  34.6669,2,  34.8369,2,   230.55,2,   230.08,2,   99.956,   0.0018,2,   -0.000,2,  -999.00,9,    0.000,2,   124.10,2,     0.17,    32.43,2,     0.05,     0.00,2,     0.01,     2.23,2,     0.01,    1.232,2,    0.598,2,    0.076,2,    0.227,2,   2258.6,2,   2352.8,2,   7.5959,       25,2, -999.000,1, -999.000,   -999.0,1,   -999.0, -999.000,9, -999.000, -999.000,9, -999.000
  49NZ20130106,  S04I,    90,  1,      9, X12J09,2,20130113,1019,-62.1437, 105.2743, 4244,   3749.3,2,  -0.0395,2,  -0.03957,2,  34.6640,2,  34.6636,2,  34.8323,2,   232.77,2,   232.35,2,   99.890,   0.0044,2,   -0.010,2,  -999.00,9,    0.000,2,   123.86,2,     0.17,    32.34,2,     0.05,     0.00,2,     0.01,     2.23,2,     0.01,    1.413,2,    0.693,2,    0.087,2,    0.259,2,   2256.4,2,   2352.8,2,   7.5955,       25,2, -999.000,1, -999.000,   -999.0,1,   -999.0, -999.000,9, -999.000, -999.000,9, -999.000
  49NZ20130106,  S04I,    90,  1,      8, X12J08,2,20130113,1019,-62.1437, 105.2743, 4244,   4002.3,2,  -0.0776,2,  -0.07754,2,  34.6596,2,  34.6593,2,  34.8303,2,   235.14,2,   234.76,2,   99.795,   0.0082,2,   -0.010,2,  -999.00,9,    0.000,2,   123.87,2,     0.17,    32.37,2,     0.05,     0.01,2,     0.01,     2.23,2,     0.01,    1.638,6,    0.807,6,    0.116,6,    0.361,6,   2256.4,2,   2351.6,2,   7.5954,       25,2, -999.000,1, -999.000,   -999.0,1,   -999.0, -999.000,9, -999.000, -999.000,9, -999.000
  49NZ20130106,  S04I,    90,  1,      7, X12J07,2,20130113,1019,-62.1437, 105.2743, 4244,   4251.6,2,  -0.1087,2,  -0.10874,2,  34.6549,2,  34.6545,2,  34.8268,2,   237.08,2,   236.94,2,   99.613,   0.0155,2,   -0.010,2,  -999.00,9,    0.000,2,   122.76,2,     0.17,    32.27,2,     0.05,     0.00,2,     0.01,     2.22,2,     0.01,    1.857,2,    0.943,2,    0.147,2,    0.439,2,   2255.5,2,   2351.0,2,   7.5946,       25,2, -999.000,1, -999.000,   -999.0,1,   -999.0, -999.000,9, -999.000, -999.000,9, -999.000
  49NZ20130106,  S04I,    90,  1,      3, X12J03,2,20130113,1019,-62.1437, 105.2743, 4244,     49.9,2,  -0.4420,2,  -0.43682,2,  33.9574,2,-999.0000,9,-999.0000,9,   349.71,2,  -999.00,9,   95.182,   0.1975,2,    0.780,2,  -999.00,9,    1.941,2,  -999.00,9,  -999.00,  -999.00,9,  -999.00,  -999.00,9,  -999.00,  -999.00,9,  -999.00, -999.000,9, -999.000,9, -999.000,9, -999.000,9,   -999.0,9,   -999.0,9,-999.0000,     -999,9, -999.000,9, -999.000,   -999.0,9,   -999.0, -999.000,9, -999.000, -999.000,9, -999.000
  49NZ20130106,  S04I,    90,  1,      2, X12J02,2,20130113,1019,-62.1437, 105.2743, 4244,     49.5,2,  -0.4202,2,  -0.41954,2,  33.9552,2,-999.0000,9,-999.0000,9,   349.48,2,  -999.00,9,   94.896,   0.2096,2,    0.830,2,  -999.00,9,    2.095,2,  -999.00,9,  -999.00,  -999.00,9,  -999.00,  -999.00,9,  -999.00,  -999.00,9,  -999.00, -999.000,9, -999.000,9, -999.000,9, -999.000,9,   -999.0,9,   -999.0,9,-999.0000,     -999,9, -999.000,9, -999.000,   -999.0,9,   -999.0, -999.000,9, -999.000, -999.000,9, -999.000
  49NZ20130106,  S04I,    90,  1,      1, X12J01,2,20130113,1019,-62.1437, 105.2743, 4244,   4317.1,2,  -0.1574,2,  -0.15753,2,  34.6501,2,  34.6499,2,  34.8191,2,   239.07,2,   238.65,2,   99.577,   0.0170,2,   -0.000,2,  -999.00,9,    0.000,2,   122.94,2,     0.17,    32.26,2,     0.05,     0.01,2,     0.01,     2.22,2,     0.01,    2.067,2,    1.057,2,    0.153,2,    0.536,2,   2255.5,2,   2351.0,2,   7.5931,       25,2, -999.000,1, -999.000,   -999.0,1,   -999.0, -999.000,9, -999.000, -999.000,9, -999.000