BOTTLE,20220819CCHSIOAMB
EXPOCODE,SECT_ID,STNNBR,CASTNO,SAMPNO,BTLNBR,BTLNBR_FLAG_W,DATE,TIME,LATITUDE,LONGITUDE,DEPTH,CTDPRS,CTDPRS_FLAG_W,CTDTMP,CTDTMP_FLAG_W,SBE35,SBE35_FLAG_W,CTDSAL,CTDSAL_FLAG_W,SALNTY,SALNTY_FLAG_W,DNSSAL,DNSSAL_FLAG_W,CTDOXY,CTDOXY_FLAG_W,OXYGEN,OXYGEN_FLAG_W,CTDXMISS,CTDXMISSCP,CTDXMISS_FLAG_W,CTDFLUOR,CTDFLUOR_FLAG_W,CHLORA,CHLORA_FLAG_W,PAR,PAR_FLAG_W,SILCAT,SILCAT_FLAG_W,SILUNC,NITRAT,NITRAT_FLAG_W,NRAUNC,NITRIT,NITRIT_FLAG_W,NRIUNC,PHSPHT,PHSPHT_FLAG_W,PHPUNC,CFC-11,CFC-11_FLAG_W,CFC-12,CFC-12_FLAG_W,CFC113,CFC113_FLAG_W,SF6,SF6_FLAG_W,TCARBN,TCARBN_FLAG_W,ALKALI,ALKALI_FLAG_W,PH_TOT,PH_TMP,PH_TOT_FLAG_W,DELC13,DELC13_FLAG_W,C13ERR,DELC14,DELC14_FLAG_W,C14ERR,CS-134,CS-134_FLAG_W,CS134ER,CS-137,CS-137_FLAG_W,CS137ER
,,,,,,,,UTC,DEG,DEG,METERS,DBAR,,ITS-90,,ITS-90,,PSS-78,,PSS-78,,G/KG,,UMOL/KG,,UMOL/KG,,%TRANS,/METER,,MG/M^3,,MG/CUM,,UE/SQM/S,,UMOL/KG,,UMOL/KG,UMOL/KG,,UMOL/KG,UMOL/KG,,UMOL/KG,UMOL/KG,,UMOL/KG,PMOL/KG,,PMOL/KG,,PMOL/KG,,FMOL/KG,,UMOL/KG,,UMOL/KG,,,DEG C,,/MILLE,,/MILLE,/MILLE,,/MILLE,MBQ/KG,,MBQ/KG,MBQ/KG,,MBQ/KG
  49NZ20130106,  S04I,   105,  1,     36, X12J36,2,20130117,1353,-63.1038,  85.9758, 3735,      4.8,2,   0.9031,2,   0.90304,2,  33.8137,2,  33.8138,2,-999.0000,9,   338.36,2,   338.45,2,   97.930,   0.0837,2,    0.190,2,  -999.00,9,    6.118,2,    56.98,2,     0.11,    28.21,2,     0.04,     0.23,2,     0.01,     1.94,2,     0.01,    5.547,2,    3.058,2,    0.520,2, -999.000,9,   -999.0,9,   -999.0,9,-999.0000,     -999,9, -999.000,9, -999.000,   -999.0,9,   -999.0, -999.000,9, -999.000, -999.000,9, -999.000
  49NZ20130106,  S04I,   105,  1,     35, X12J35,2,20130117,1353,-63.1038,  85.9758, 3735,     24.6,2,   0.4931,2,   0.48499,2,  33.8852,2,  33.8735,2,-999.0000,9,   338.41,2,   338.54,2,   97.736,   0.0916,2,    0.220,2,  -999.00,9,    1.959,2,    57.42,2,     0.11,    28.32,2,     0.04,     0.20,2,     0.01,     1.95,2,     0.01,    5.464,2,    3.019,2,    0.505,2, -999.000,9,   -999.0,9,   -999.0,9,-999.0000,     -999,9, -999.000,9, -999.000,   -999.0,9,   -999.0, -999.000,9, -999.000, -999.000,9, -999.000
  49NZ20130106,  S04I,   105,  1,     34, X12J34,2,20130117,1353,-63.1038,  85.9758, 3735,     49.6,2,  -1.0916,2,  -1.09178,2,  34.1048,2,  34.1047,2,-999.0000,9,   312.69,2,   314.88,2,   96.801,   0.1301,2,    0.400,2,  -999.00,9,    0.648,2,    59.00,2,     0.11,    29.21,2,     0.04,     0.09,2,     0.01,     2.01,2,     0.01,    4.473,6,    2.457,6,    0.416,6, -999.000,9,   -999.0,9,   -999.0,9,-999.0000,     -999,9, -999.000,9, -999.000,   -999.0,9,   -999.0, -999.000,9, -999.000, -999.000,9, -999.000
  49NZ20130106,  S04I,   105,  1,     33, X12J33,2,20130117,1353,-63.1038,  85.9758, 3735,     75.2,2,  -0.8154,2,  -0.81526,2,  34.3353,2,  34.3331,2,-999.0000,9,   263.16,2,   262.98,2,   97.693,   0.0934,2,    0.610,2,  -999.00,9,    0.108,2,    66.61,2,     0.12,    31.49,2,     0.04,     0.10,2,     0.01,     2.17,2,     0.01,    3.358,2,    1.832,2,    0.316,2, -999.000,9,   -999.0,9,   -999.0,9,-999.0000,     -999,9, -999.000,9, -999.000,   -999.0,9,   -999.0, -999.000,9, -999.000, -999.000,9, -999.000
  49NZ20130106,  S04I,   105,  1,     32, X12J32,2,20130117,1353,-63.1038,  85.9758, 3735,     99.5,2,  -1.0064,2,  -1.00283,2,  34.3677,2,  34.3676,2,-999.0000,9,   267.43,2,   266.72,2,   99.382,   0.0248,2,    0.180,2,  -999.00,9,    0.005,2,    67.82,2,     0.12,    31.55,2,     0.04,     0.09,2,     0.01,     2.18,2,     0.01,    3.560,2,    1.944,2,    0.334,2, -999.000,9,   -999.0,9,   -999.0,9,-999.0000,     -999,9, -999.000,9, -999.000,   -999.0,9,   -999.0, -999.000,9, -999.000, -999.000,9, -999.000
  49NZ20130106,  S04I,   105,  1,     31, X12J31,2,20130117,1353,-63.1038,  85.9758, 3735,    124.3,2,  -0.9431,2,  -0.94418,2,  34.4031,2,  34.4018,2,-999.0000,9,   266.72,2,   266.71,2,   99.682,   0.0127,2,    0.080,2,  -999.00,9,    0.000,2,    68.88,2,     0.12,    31.48,2,     0.04,     0.03,2,     0.01,     2.17,2,     0.01,    3.546,2,    1.931,2,    0.347,2, -999.000,9,   -999.0,9,   -999.0,9,-999.0000,     -999,9, -999.000,9, -999.000,   -999.0,9,   -999.0, -999.000,9, -999.000, -999.000,9, -999.000
  49NZ20130106,  S04I,   105,  1,     30, X12J30,2,20130117,1353,-63.1038,  85.9758, 3735,    150.3,2,   0.4346,2,   0.43384,2,  34.5177,2,  34.5162,2,-999.0000,9,   219.60,2,   218.80,2,   99.653,   0.0139,2,    0.080,2,  -999.00,9,    0.000,2,    76.65,2,     0.13,    32.85,2,     0.05,     0.03,2,     0.01,     2.26,2,     0.01,    2.038,2,    1.108,2,    0.188,2, -999.000,9,   -999.0,9,   -999.0,9,-999.0000,     -999,9, -999.000,9, -999.000,   -999.0,9,   -999.0, -999.000,9, -999.000, -999.000,9, -999.000
  49NZ20130106,  S04I,   105,  1,     29, X12J29,2,20130117,1353,-63.1038,  85.9758, 3735,    199.0,2,   1.1188,2,   1.11646,2,  34.6118,2,  34.6097,2,-999.0000,9,   200.79,2,   201.31,2,   99.799,   0.0080,2,    0.010,2,  -999.00,9,    0.000,2,    81.23,2,     0.13,    32.79,2,     0.05,     0.01,2,     0.01,     2.26,2,     0.01,    1.340,2,    0.723,2,    0.120,2, -999.000,9,   -999.0,9,   -999.0,9,-999.0000,     -999,9, -999.000,9, -999.000,   -999.0,9,   -999.0, -999.000,9, -999.000, -999.000,9, -999.000
  49NZ20130106,  S04I,   105,  1,     28, X12J28,2,20130117,1353,-63.1038,  85.9758, 3735,    250.1,2,   1.4789,2,   1.47946,2,  34.6676,2,  34.6671,2,-999.0000,9,   191.60,2,   191.47,2,   99.848,   0.0061,2,    0.010,2,  -999.00,9,    0.000,2,    84.26,2,     0.13,    32.53,2,     0.05,     0.01,2,     0.01,     2.25,2,     0.01,    0.834,2,    0.440,2,    0.080,2, -999.000,9,   -999.0,9,   -999.0,9,-999.0000,     -999,9, -999.000,9, -999.000,   -999.0,9,   -999.0, -999.000,9, -999.000, -999.000,9, -999.000
  49NZ20130106,  S04I,   105,  1,     27, X12J27,2,20130117,1353,-63.1038,  85.9758, 3735,    300.3,2,   1.3939,2,   1.39387,2,  34.6789,2,  34.6801,2,-999.0000,9,   195.87,2,   194.95,2,   99.892,   0.0043,2,    0.000,2,  -999.00,9,    0.000,2,    85.15,2,     0.14,    32.12,2,     0.05,     0.01,2,     0.01,     2.22,2,     0.01,    0.790,2,    0.420,2,    0.073,2, -999.000,9,   -999.0,9,   -999.0,9,-999.0000,     -999,9, -999.000,9, -999.000,   -999.0,9,   -999.0, -999.000,9, -999.000, -999.000,9, -999.000
  49NZ20130106,  S04I,   105,  1,     26, X12J26,2,20130117,1353,-63.1038,  85.9758, 3735,    400.6,2,   1.5106,2,   1.51002,2,  34.7125,2,  34.7122,2,-999.0000,9,   195.05,2,   194.89,2,   99.968,   0.0013,2,    0.000,2,  -999.00,9,    0.000,2,    87.21,2,     0.14,    31.49,2,     0.04,     0.01,2,     0.01,     2.17,2,     0.01,    0.533,2,    0.274,2,    0.040,2, -999.000,9,   -999.0,9,   -999.0,9,-999.0000,     -999,9, -999.000,9, -999.000,   -999.0,9,   -999.0, -999.000,9, -999.000, -999.000,9, -999.000
  49NZ20130106,  S04I,   105,  1,     25, X12J25,2,20130117,1353,-63.1038,  85.9758, 3735,    501.9,2,   1.4639,2,   1.46389,2,  34.7237,2,  34.7240,2,-999.0000,9,   197.51,2,   197.40,2,   99.979,   0.0008,2,    0.000,2,  -999.00,9,    0.000,2,    89.06,2,     0.14,    31.17,2,     0.04,     0.01,2,     0.01,     2.15,2,     0.01,    0.439,2,    0.223,2,    0.029,2, -999.000,9,   -999.0,9,   -999.0,9,-999.0000,     -999,9, -999.000,9, -999.000,   -999.0,9,   -999.0, -999.000,9, -999.000, -999.000,9, -999.000
  49NZ20130106,  S04I,   105,  1,     24, X12J24,2,20130117,1353,-63.1038,  85.9758, 3735,    600.0,2,   1.4573,2,   1.45725,2,  34.7360,2,  34.7358,2,-999.0000,9,   199.10,2,   199.02,2,   99.985,   0.0006,2,    0.000,2,  -999.00,9,    0.000,2,    90.93,2,     0.14,    30.86,2,     0.04,     0.01,2,     0.01,     2.13,2,     0.01,    0.299,6,    0.147,6,    0.027,6, -999.000,9,   -999.0,9,   -999.0,9,-999.0000,     -999,9, -999.000,9, -999.000,   -999.0,9,   -999.0, -999.000,9, -999.000, -999.000,9, -999.000
  49NZ20130106,  S04I,   105,  1,     23, X12J23,2,20130117,1353,-63.1038,  85.9758, 3735,    700.2,2,   1.2994,2,   1.29949,2,  34.7281,2,  34.7282,2,-999.0000,9,   201.27,2,   201.09,2,   99.975,   0.0010,2,   -0.000,2,  -999.00,9,    0.000,2,    94.00,2,     0.14,    31.09,2,     0.04,     0.01,2,     0.01,     2.14,2,     0.01,    0.363,2,    0.180,2,    0.023,2, -999.000,9,   -999.0,9,   -999.0,9,-999.0000,     -999,9, -999.000,9, -999.000,   -999.0,9,   -999.0, -999.000,9, -999.000, -999.000,9, -999.000
  49NZ20130106,  S04I,   105,  1,     22, X12J22,2,20130117,1353,-63.1038,  85.9758, 3735,    799.4,2,   1.1776,2,   1.17830,2,  34.7222,2,  34.7223,2,-999.0000,9,   202.58,2,   202.31,2,   99.990,   0.0004,2,    0.000,2,  -999.00,9,    0.000,2,    96.86,2,     0.15,    31.30,2,     0.04,     0.01,2,     0.01,     2.16,2,     0.01,    0.389,2,    0.194,2,    0.029,2, -999.000,9,   -999.0,9,   -999.0,9,-999.0000,     -999,9, -999.000,9, -999.000,   -999.0,9,   -999.0, -999.000,9, -999.000, -999.000,9, -999.000
  49NZ20130106,  S04I,   105,  1,     21, X12J21,2,20130117,1353,-63.1038,  85.9758, 3735,    900.9,2,   1.1203,2,   1.12011,2,  34.7226,2,  34.7225,2,-999.0000,9,   202.92,2,   202.85,2,   99.998,   0.0001,2,   -0.000,2,  -999.00,9,    0.000,2,    99.39,2,     0.15,    31.36,2,     0.04,     0.01,2,     0.01,     2.16,2,     0.01,    0.328,2,    0.160,2,    0.021,2, -999.000,9,   -999.0,9,   -999.0,9,-999.0000,     -999,9, -999.000,9, -999.000,   -999.0,9,   -999.0, -999.000,9, -999.000, -999.000,9, -999.000
  49NZ20130106,  S04I,   105,  1,     20, X12J20,2,20130117,1353,-63.1038,  85.9758, 3735,    999.7,2,   1.0176,2,   1.01775,2,  34.7179,2,  34.7183,2,-999.0000,9,   203.43,2,   203.34,2,   99.990,   0.0004,2,   -0.000,2,  -999.00,9,    0.000,2,   102.93,2,     0.15,    31.63,2,     0.04,     0.01,2,     0.01,     2.18,2,     0.01,    0.317,2,    0.150,2,    0.018,2, -999.000,9,   -999.0,9,   -999.0,9,-999.0000,     -999,9, -999.000,9, -999.000,   -999.0,9,   -999.0, -999.000,9, -999.000, -999.000,9, -999.000
  49NZ20130106,  S04I,   105,  1,     19, X12J19,2,20130117,1353,-63.1038,  85.9758, 3735,   1251.5,2,   0.8115,2,   0.81210,2,  34.7071,2,  34.7076,2,-999.0000,9,   205.82,2,   205.77,2,  100.002,  -0.0001,2,   -0.000,2,  -999.00,9,    0.000,2,   108.33,2,     0.16,    32.03,2,     0.04,     0.01,2,     0.01,     2.21,2,     0.01,    0.343,6,    0.164,6,    0.026,6, -999.000,9,   -999.0,9,   -999.0,9,-999.0000,     -999,9, -999.000,9, -999.000,   -999.0,9,   -999.0, -999.000,9, -999.000, -999.000,9, -999.000
  49NZ20130106,  S04I,   105,  1,     18, X12J18,2,20130117,1353,-63.1038,  85.9758, 3735,   1500.1,2,   0.6214,2,   0.62133,2,  34.6970,2,  34.6977,2,-999.0000,9,   208.16,2,   208.14,2,   99.981,   0.0008,2,   -0.000,2,  -999.00,9,    0.000,2,   113.65,2,     0.16,    32.39,2,     0.05,     0.01,2,     0.01,     2.24,2,     0.01,    0.353,2,    0.168,2,    0.035,2, -999.000,9,   -999.0,9,   -999.0,9,-999.0000,     -999,9, -999.000,9, -999.000,   -999.0,9,   -999.0, -999.000,9, -999.000, -999.000,9, -999.000
  49NZ20130106,  S04I,   105,  1,     17, X12J17,2,20130117,1353,-63.1038,  85.9758, 3735,   1751.9,2,   0.4680,2,   0.46804,2,  34.6897,2,  34.6902,2,-999.0000,9,   210.50,2,   210.44,2,   99.994,   0.0002,2,   -0.000,2,  -999.00,9,    0.000,2,   118.28,2,     0.17,    32.64,2,     0.05,     0.01,2,     0.01,     2.26,2,     0.01,    0.331,2,    0.156,2,    0.022,2, -999.000,9,   -999.0,9,   -999.0,9,-999.0000,     -999,9, -999.000,9, -999.000,   -999.0,9,   -999.0, -999.000,9, -999.000, -999.000,9, -999.000
  49NZ20130106,  S04I,   105,  1,     16, X12J16,2,20130117,1353,-63.1038,  85.9758, 3735,   2001.6,2,   0.3440,2,   0.34401,2,  34.6836,2,  34.6840,2,-999.0000,9,   214.25,2,   214.31,2,   99.996,   0.0002,2,   -0.000,2,  -999.00,9,    0.000,2,   120.02,2,     0.17,    32.59,2,     0.05,     0.01,2,     0.01,     2.25,2,     0.01,    0.427,2,    0.210,2,    0.029,2, -999.000,9,   -999.0,9,   -999.0,9,-999.0000,     -999,9, -999.000,9, -999.000,   -999.0,9,   -999.0, -999.000,9, -999.000, -999.000,9, -999.000
  49NZ20130106,  S04I,   105,  1,     15, X12J15,2,20130117,1353,-63.1038,  85.9758, 3735,   2251.3,2,   0.2312,2,   0.23123,2,  34.6786,2,  34.6792,2,-999.0000,9,   218.18,2,   218.27,2,   99.990,   0.0004,2,   -0.000,2,  -999.00,9,    0.000,2,   121.23,2,     0.17,    32.55,2,     0.05,     0.01,2,     0.01,     2.25,2,     0.01,    0.549,2,    0.268,2,    0.026,2, -999.000,9,   -999.0,9,   -999.0,9,-999.0000,     -999,9, -999.000,9, -999.000,   -999.0,9,   -999.0, -999.000,9, -999.000, -999.000,9, -999.000
  49NZ20130106,  S04I,   105,  1,     14, X12J14,2,20130117,1353,-63.1038,  85.9758, 3735,   2499.2,2,   0.1357,2,   0.13574,2,  34.6752,2,  34.6756,2,-999.0000,9,   222.12,2,   222.26,2,   99.977,   0.0009,2,   -0.000,2,  -999.00,9,    0.000,2,   122.33,2,     0.17,    32.52,2,     0.05,     0.01,2,     0.01,     2.25,2,     0.01,    0.729,6,    0.359,6,    0.044,6, -999.000,9,   -999.0,9,   -999.0,9,-999.0000,     -999,9, -999.000,9, -999.000,   -999.0,9,   -999.0, -999.000,9, -999.000, -999.000,9, -999.000
  49NZ20130106,  S04I,   105,  1,     13, X12J13,2,20130117,1353,-63.1038,  85.9758, 3735,   2748.7,2,   0.0653,2,   0.06532,2,  34.6720,2,  34.6726,2,-999.0000,9,   225.13,2,   225.22,2,   99.970,   0.0012,2,   -0.000,2,  -999.00,9,    0.000,2,   122.62,2,     0.17,    32.50,2,     0.05,     0.01,2,     0.01,     2.25,2,     0.01,    0.895,2,    0.443,2,    0.065,2, -999.000,9,   -999.0,9,   -999.0,9,-999.0000,     -999,9, -999.000,9, -999.000,   -999.0,9,   -999.0, -999.000,9, -999.000, -999.000,9, -999.000
  49NZ20130106,  S04I,   105,  1,     12, X12J12,2,20130117,1353,-63.1038,  85.9758, 3735,   2999.8,2,   0.0041,2,   0.00405,2,  34.6684,2,  34.6686,2,-999.0000,9,   227.94,2,   228.00,2,   99.943,   0.0023,2,   -0.000,2,  -999.00,9,    0.000,2,   122.52,2,     0.17,    32.46,2,     0.05,     0.01,2,     0.01,     2.25,2,     0.01,    1.067,2,    0.532,2,    0.064,2, -999.000,9,   -999.0,9,   -999.0,9,-999.0000,     -999,9, -999.000,9, -999.000,   -999.0,9,   -999.0, -999.000,9, -999.000, -999.000,9, -999.000
  49NZ20130106,  S04I,   105,  1,     11, X12J11,2,20130117,1353,-63.1038,  85.9758, 3735,   3249.8,2,  -0.0479,2,  -0.04806,2,  34.6647,2,  34.6651,2,-999.0000,9,   230.57,2,   230.69,2,   99.920,   0.0032,2,   -0.010,2,  -999.00,9,    0.000,2,   121.85,2,     0.17,    32.41,2,     0.05,     0.01,2,     0.01,     2.24,2,     0.01,    1.261,2,    0.634,2,    0.086,2, -999.000,9,   -999.0,9,   -999.0,9,-999.0000,     -999,9, -999.000,9, -999.000,   -999.0,9,   -999.0, -999.000,9, -999.000, -999.000,9, -999.000
  49NZ20130106,  S04I,   105,  1,     10, X12J10,2,20130117,1353,-63.1038,  85.9758, 3735,   3500.8,2,  -0.0800,2,  -0.08015,2,  34.6620,2,  34.6618,2,-999.0000,9,   232.53,2,   232.67,2,   99.865,   0.0054,2,   -0.010,2,  -999.00,9,    0.000,2,   122.18,2,     0.17,    32.38,2,     0.05,     0.01,2,     0.01,     2.24,2,     0.01,    1.414,2,    0.740,2,    0.114,2, -999.000,9,   -999.0,9,   -999.0,9,-999.0000,     -999,9, -999.000,9, -999.000,   -999.0,9,   -999.0, -999.000,9, -999.000, -999.000,9, -999.000
  49NZ20130106,  S04I,   105,  1,      9, X12J09,2,20130117,1353,-63.1038,  85.9758, 3735,   3750.2,2,  -0.1070,2,  -0.10717,2,  34.6591,2,  34.6591,2,-999.0000,9,   233.96,2,   234.20,2,   99.767,   0.0093,2,   -0.010,2,  -999.00,9,    0.000,2,   124.42,2,     0.17,    32.43,2,     0.05,     0.01,2,     0.01,     2.25,2,     0.01,    1.529,2,    0.799,2,    0.136,2, -999.000,9,   -999.0,9,   -999.0,9,-999.0000,     -999,9, -999.000,9, -999.000,   -999.0,9,   -999.0, -999.000,9, -999.000, -999.000,9, -999.000
  49NZ20130106,  S04I,   105,  1,      1, X12J01,2,20130117,1353,-63.1038,  85.9758, 3735,   3800.7,2,  -0.1471,2,  -0.14719,2,  34.6556,2,  34.6547,2,-999.0000,9,   234.53,2,   234.71,2,   99.496,   0.0202,2,   -0.000,2,  -999.00,9,    0.000,2,   128.94,2,     0.17,    32.50,2,     0.05,     0.01,2,     0.01,     2.26,2,     0.01,    1.693,2,    0.869,2,    0.144,2, -999.000,9,   -999.0,9,   -999.0,9,-999.0000,     -999,9, -999.000,9, -999.000,   -999.0,9,   -999.0, -999.000,9, -999.000, -999.000,9, -999.000