BOTTLE,20220819CCHSIOAMB
EXPOCODE,SECT_ID,STNNBR,CASTNO,SAMPNO,BTLNBR,BTLNBR_FLAG_W,DATE,TIME,LATITUDE,LONGITUDE,DEPTH,CTDPRS,CTDPRS_FLAG_W,CTDTMP,CTDTMP_FLAG_W,SBE35,SBE35_FLAG_W,CTDSAL,CTDSAL_FLAG_W,SALNTY,SALNTY_FLAG_W,DNSSAL,DNSSAL_FLAG_W,CTDOXY,CTDOXY_FLAG_W,OXYGEN,OXYGEN_FLAG_W,CTDXMISS,CTDXMISSCP,CTDXMISS_FLAG_W,CTDFLUOR,CTDFLUOR_FLAG_W,CHLORA,CHLORA_FLAG_W,PAR,PAR_FLAG_W,SILCAT,SILCAT_FLAG_W,SILUNC,NITRAT,NITRAT_FLAG_W,NRAUNC,NITRIT,NITRIT_FLAG_W,NRIUNC,PHSPHT,PHSPHT_FLAG_W,PHPUNC,CFC-11,CFC-11_FLAG_W,CFC-12,CFC-12_FLAG_W,CFC113,CFC113_FLAG_W,SF6,SF6_FLAG_W,TCARBN,TCARBN_FLAG_W,ALKALI,ALKALI_FLAG_W,PH_TOT,PH_TMP,PH_TOT_FLAG_W,DELC13,DELC13_FLAG_W,C13ERR,DELC14,DELC14_FLAG_W,C14ERR,CS-134,CS-134_FLAG_W,CS134ER,CS-137,CS-137_FLAG_W,CS137ER
,,,,,,,,UTC,DEG,DEG,METERS,DBAR,,ITS-90,,ITS-90,,PSS-78,,PSS-78,,G/KG,,UMOL/KG,,UMOL/KG,,%TRANS,/METER,,MG/M^3,,MG/CUM,,UE/SQM/S,,UMOL/KG,,UMOL/KG,UMOL/KG,,UMOL/KG,UMOL/KG,,UMOL/KG,UMOL/KG,,UMOL/KG,PMOL/KG,,PMOL/KG,,PMOL/KG,,FMOL/KG,,UMOL/KG,,UMOL/KG,,,DEG C,,/MILLE,,/MILLE,/MILLE,,/MILLE,MBQ/KG,,MBQ/KG,MBQ/KG,,MBQ/KG
  49NZ20130106,  S04I,   153,  1,     36, X12J36,2,20130130,1104,-65.3005,  36.1210, 4645,      4.8,2,   1.0610,2,   1.05809,2,  33.9050,2,  33.9055,2,-999.0000,9,   337.49,2,   337.14,2,   97.051,   0.1197,2,    0.120,2,  -999.00,9,  216.174,2,    50.01,2,     0.10,    25.81,2,     0.04,     0.25,2,     0.01,     1.81,2,     0.01,    5.740,2,    3.101,2,    0.502,2,    3.044,2,   2172.9,2,   2299.4,2,   7.6793,       25,6, -999.000,1, -999.000,   -999.0,1,   -999.0, -999.000,9, -999.000, -999.000,9, -999.000
  49NZ20130106,  S04I,   153,  1,     35, X12J35,2,20130130,1104,-65.3005,  36.1210, 4645,     25.6,2,   0.9403,2,   0.94106,2,  33.9073,2,  33.9082,2,-999.0000,9,   337.74,2,   337.66,2,   96.948,   0.1240,2,    0.240,2,  -999.00,9,   50.588,2,    50.16,2,     0.10,    25.80,2,     0.04,     0.25,2,     0.01,     1.82,2,     0.01,    5.712,2,    3.092,2,    0.498,2,    3.026,2,   2170.8,2,   2299.0,2,   7.6798,       25,2, -999.000,1, -999.000,   -999.0,1,   -999.0, -999.000,9, -999.000, -999.000,9, -999.000
  49NZ20130106,  S04I,   153,  1,     34, X12J34,2,20130130,1104,-65.3005,  36.1210, 4645,     50.0,2,  -1.5310,2,  -1.53036,2,  34.2740,2,  34.2738,2,-999.0000,9,   308.93,2,   311.45,2,   94.422,   0.2296,2,    0.730,2,  -999.00,9,   13.790,2,    58.76,2,     0.11,    27.62,2,     0.04,     0.20,2,     0.01,     1.93,2,     0.01,    4.478,6,    2.401,6,    0.392,6,    2.182,6,   2202.9,2,   2321.6,2,   7.6568,       25,2, -999.000,1, -999.000,   -999.0,1,   -999.0, -999.000,9, -999.000, -999.000,9, -999.000
  49NZ20130106,  S04I,   153,  1,     33, X12J33,2,20130130,1104,-65.3005,  36.1210, 4645,     75.5,2,   0.9735,2,   0.97298,2,  34.6046,2,  34.6042,2,-999.0000,9,   192.85,2,   193.17,2,   98.404,   0.0644,2,    0.370,2,  -999.00,9,    2.904,2,    85.69,2,     0.14,    33.69,2,     0.05,     0.11,2,     0.01,     2.34,2,     0.01,    1.327,2,    0.712,2,    0.115,2,    0.488,2,   2258.0,6,   2339.1,2,   7.5534,       25,2, -999.000,1, -999.000,   -999.0,1,   -999.0, -999.000,9, -999.000, -999.000,9, -999.000
  49NZ20130106,  S04I,   153,  1,     32, X12J32,2,20130130,1104,-65.3005,  36.1210, 4645,     99.7,2,   1.1955,2,   1.19546,2,  34.6360,2,  34.6354,2,-999.0000,9,   186.77,2,   186.96,2,   99.351,   0.0260,2,    0.160,2,  -999.00,9,    0.942,2,    87.84,2,     0.14,    33.83,2,     0.05,     0.06,2,     0.01,     2.34,2,     0.01,    1.063,2,    0.569,2,    0.093,2,    0.194,2,   2260.7,2,   2341.4,6,   7.5518,       25,2, -999.000,1, -999.000,   -999.0,1,   -999.0, -999.000,9, -999.000, -999.000,9, -999.000
  49NZ20130106,  S04I,   153,  1,     31, X12J31,2,20130130,1104,-65.3005,  36.1210, 4645,    124.3,2,   1.3342,2,   1.33373,2,  34.6535,2,  34.6532,2,-999.0000,9,   184.80,2,   184.99,2,   99.604,   0.0159,2,    0.100,2,  -999.00,9,    0.366,2,    88.75,2,     0.14,    33.65,2,     0.05,     0.03,2,     0.01,     2.32,2,     0.01,    0.892,2,    0.484,2,    0.074,2,    0.238,2,   2259.4,2,   2343.2,2,   7.5541,       25,2, -999.000,1, -999.000,   -999.0,1,   -999.0, -999.000,9, -999.000, -999.000,9, -999.000
  49NZ20130106,  S04I,   153,  1,     30, X12J30,2,20130130,1104,-65.3005,  36.1210, 4645,    150.4,2,   1.4260,2,   1.42593,2,  34.6706,2,  34.6703,2,-999.0000,9,   184.99,2,   185.10,2,   99.792,   0.0083,2,    0.030,2,  -999.00,9,    0.117,2,    89.64,2,     0.14,    33.31,2,     0.05,     0.02,2,     0.01,     2.30,2,     0.01,    0.825,2,    0.406,2,    0.061,2,    0.188,2,   2260.3,2,   2343.9,2,   7.5608,       25,6, -999.000,1, -999.000,   -999.0,1,   -999.0, -999.000,9, -999.000, -999.000,9, -999.000
  49NZ20130106,  S04I,   153,  1,     29, X12J29,2,20130130,1104,-65.3005,  36.1210, 4645,    198.8,2,   1.4625,2,   1.46239,2,  34.6871,2,  34.6874,2,-999.0000,9,   186.37,2,   186.50,2,   99.872,   0.0051,2,    0.010,2,  -999.00,9,    0.000,2,    90.37,2,     0.14,    32.91,2,     0.05,     0.01,2,     0.01,     2.27,2,     0.01,    0.676,2,    0.347,2,    0.049,2,    0.164,2,   2257.6,2,   2345.7,2,   7.5698,       25,2, -999.000,1, -999.000,   -999.0,1,   -999.0, -999.000,9, -999.000, -999.000,9, -999.000
  49NZ20130106,  S04I,   153,  1,     28, X12J28,2,20130130,1104,-65.3005,  36.1210, 4645,    249.2,2,   1.4430,2,   1.44277,2,  34.6980,2,  34.6979,2,-999.0000,9,   188.68,2,   188.61,2,   99.845,   0.0062,2,    0.010,2,  -999.00,9,    0.000,2,    91.31,2,     0.14,    32.60,2,     0.05,     0.01,2,     0.01,     2.25,2,     0.01,    0.597,2,    0.305,2,    0.043,2,    0.110,2,   2256.3,2,   2347.2,2,   7.5754,       25,2, -999.000,1, -999.000,   -999.0,1,   -999.0, -999.000,9, -999.000, -999.000,9, -999.000
  49NZ20130106,  S04I,   153,  1,     27, X12J27,2,20130130,1104,-65.3005,  36.1210, 4645,    280.5,2,   1.4266,2,   1.42660,2,  34.7019,2,  34.7020,2,-999.0000,9,   189.67,2,   189.65,2,   99.821,   0.0072,2,    0.010,2,  -999.00,9,    0.000,2,    91.69,2,     0.14,    32.45,2,     0.05,     0.01,2,     0.01,     2.24,2,     0.01,    0.564,2,    0.289,2,    0.042,2,    0.110,2,   2256.6,2,   2348.2,2,   7.5785,       25,2, -999.000,1, -999.000,   -999.0,1,   -999.0, -999.000,9, -999.000, -999.000,9, -999.000
  49NZ20130106,  S04I,   153,  1,     26, X12J26,2,20130130,1104,-65.3005,  36.1210, 4645,    369.2,2,   1.3415,2,   1.34125,2,  34.7098,2,  34.7099,2,-999.0000,9,   193.03,2,   193.01,2,   99.941,   0.0024,2,    0.000,2,  -999.00,9,    0.000,2,    93.93,2,     0.14,    32.14,2,     0.05,     0.00,2,     0.01,     2.22,2,     0.01,    0.502,2,    0.256,2,    0.038,2,    0.093,2,   2255.8,2,   2349.1,2,   7.5859,       25,2, -999.000,1, -999.000,   -999.0,1,   -999.0, -999.000,9, -999.000, -999.000,9, -999.000
  49NZ20130106,  S04I,   153,  1,     25, X12J25,2,20130130,1104,-65.3005,  36.1210, 4645,    468.9,2,   1.2435,2,   1.24352,2,  34.7139,2,  34.7136,2,-999.0000,9,   195.67,2,   195.71,2,   99.964,   0.0014,2,    0.000,2,  -999.00,9,    0.000,2,    96.33,2,     0.15,    32.02,2,     0.04,     0.00,2,     0.01,     2.20,2,     0.01,    0.450,2,    0.227,2,    0.033,2,    0.053,2,   2255.3,2,   2351.0,2,   7.5897,       25,2, -999.000,1, -999.000,   -999.0,1,   -999.0, -999.000,9, -999.000, -999.000,9, -999.000
  49NZ20130106,  S04I,   153,  1,     24, X12J24,2,20130130,1104,-65.3005,  36.1210, 4645,    569.0,2,   1.1357,2,   1.13579,2,  34.7136,2,  34.7134,2,-999.0000,9,   197.81,2,   197.84,2,   99.970,   0.0012,2,    0.000,2,  -999.00,9,    0.000,2,    99.32,2,     0.15,    32.02,2,     0.04,     0.00,2,     0.01,     2.20,2,     0.01,    0.428,6,    0.216,6,    0.030,6,    0.058,6,   2256.9,2,   2352.1,2,   7.5921,       25,2, -999.000,1, -999.000,   -999.0,1,   -999.0, -999.000,9, -999.000, -999.000,9, -999.000
  49NZ20130106,  S04I,   153,  1,     23, X12J23,2,20130130,1104,-65.3005,  36.1210, 4645,    669.1,2,   1.0238,2,   1.02394,2,  34.7112,2,  34.7114,2,-999.0000,9,   199.76,2,   199.61,2,   99.945,   0.0022,2,    0.000,2,  -999.00,9,    0.000,2,   102.30,2,     0.15,    32.09,2,     0.05,     0.00,2,     0.01,     2.21,2,     0.01,    0.399,2,    0.201,2,    0.025,2,    0.052,2,   2256.8,6,   2351.0,2,   7.5933,       25,2, -999.000,1, -999.000,   -999.0,1,   -999.0, -999.000,9, -999.000, -999.000,9, -999.000
  49NZ20130106,  S04I,   153,  1,     22, X12J22,2,20130130,1104,-65.3005,  36.1210, 4645,    769.6,2,   0.9345,2,   0.93466,2,  34.7084,2,  34.7087,2,-999.0000,9,   201.01,2,   200.91,2,   99.951,   0.0020,2,    0.000,2,  -999.00,9,    0.000,2,   104.78,2,     0.15,    32.20,2,     0.05,     0.00,2,     0.01,     2.22,2,     0.01,    0.394,2,    0.195,2,    0.027,2,    0.096,2,   2256.6,2,   2353.7,6,   7.5928,       25,2, -999.000,1, -999.000,   -999.0,1,   -999.0, -999.000,9, -999.000, -999.000,9, -999.000
  49NZ20130106,  S04I,   153,  1,     21, X12J21,2,20130130,1104,-65.3005,  36.1210, 4645,    870.6,2,   0.8517,2,   0.85163,2,  34.7054,2,  34.7056,2,-999.0000,9,   202.19,2,   202.08,2,   99.977,   0.0009,2,    0.000,2,  -999.00,9,    0.000,2,   107.17,2,     0.16,    32.35,2,     0.05,     0.00,2,     0.01,     2.23,2,     0.01,    0.385,2,    0.186,2,    0.023,2,    0.069,2,   2257.7,2,   2354.3,2,   7.5929,       25,6, -999.000,1, -999.000,   -999.0,1,   -999.0, -999.000,9, -999.000, -999.000,9, -999.000
  49NZ20130106,  S04I,   153,  1,     20, X12J20,2,20130130,1104,-65.3005,  36.1210, 4645,    959.9,2,   0.7809,2,   0.78085,2,  34.7026,2,  34.7029,2,-999.0000,9,   202.94,2,   202.90,2,   99.979,   0.0008,2,    0.000,2,  -999.00,9,    0.000,2,   109.22,2,     0.16,    32.49,2,     0.05,     0.00,2,     0.01,     2.24,2,     0.01,    0.377,2,    0.189,2,    0.022,2,    0.031,2,   2258.9,2,   2355.3,2,   7.5915,       25,2, -999.000,1, -999.000,   -999.0,1,   -999.0, -999.000,9, -999.000, -999.000,9, -999.000
  49NZ20130106,  S04I,   153,  1,     19, X12J19,2,20130130,1104,-65.3005,  36.1210, 4645,   1170.5,2,   0.6393,2,   0.63942,2,  34.6966,2,  34.6968,2,-999.0000,9,   204.25,2,   204.20,2,   99.983,   0.0007,2,    0.000,2,  -999.00,9,    0.000,2,   113.46,2,     0.16,    32.78,2,     0.05,     0.00,2,     0.01,     2.26,2,     0.01,    0.359,6,    0.173,6,    0.020,6,    0.023,6,   2259.9,2,   2355.3,2,   7.5893,       25,2, -999.000,1, -999.000,   -999.0,1,   -999.0, -999.000,9, -999.000, -999.000,9, -999.000
  49NZ20130106,  S04I,   153,  1,     18, X12J18,2,20130130,1104,-65.3005,  36.1210, 4645,   1420.3,2,   0.5086,2,   0.50858,2,  34.6909,2,  34.6910,2,-999.0000,9,   206.16,2,   206.14,2,   99.987,   0.0005,2,    0.000,2,  -999.00,9,    0.000,2,   117.49,2,     0.16,    32.99,2,     0.05,     0.00,2,     0.01,     2.28,2,     0.01,    0.324,2,    0.159,2,    0.015,2,    0.000,2,   2261.4,2,   2354.9,2,   7.5869,       25,2, -999.000,1, -999.000,   -999.0,1,   -999.0, -999.000,9, -999.000, -999.000,9, -999.000
  49NZ20130106,  S04I,   153,  1,     17, X12J17,2,20130130,1104,-65.3005,  36.1210, 4645,   1670.3,2,   0.4045,2,   0.40478,2,  34.6859,2,  34.6861,2,-999.0000,9,   208.50,2,   208.52,2,   99.996,   0.0002,2,    0.000,2,  -999.00,9,    0.000,2,   120.48,2,     0.17,    33.12,2,     0.05,     0.00,2,     0.01,     2.29,2,     0.01,    0.319,2,    0.154,2,    0.016,2,    0.010,2,   2262.5,2,   2356.3,2,   7.5868,       25,2, -999.000,1, -999.000,   -999.0,1,   -999.0, -999.000,9, -999.000, -999.000,9, -999.000
  49NZ20130106,  S04I,   153,  1,     16, X12J16,2,20130130,1104,-65.3005,  36.1210, 4645,   1919.6,2,   0.3026,2,   0.30279,2,  34.6811,2,  34.6809,2,-999.0000,9,   211.59,2,   211.57,2,  100.007,  -0.0003,2,    0.000,2,  -999.00,9,    0.000,2,   122.61,2,     0.17,    33.16,2,     0.05,     0.00,2,     0.01,     2.30,2,     0.01,    0.322,2,    0.155,2,    0.015,2,    0.037,2,   2262.3,2,   2355.3,2,   7.5871,       25,2, -999.000,1, -999.000,   -999.0,1,   -999.0, -999.000,9, -999.000, -999.000,9, -999.000
  49NZ20130106,  S04I,   153,  1,     15, X12J15,2,20130130,1104,-65.3005,  36.1210, 4645,   2171.1,2,   0.1971,2,   0.19736,2,  34.6760,2,  34.6759,2,-999.0000,9,   215.58,2,   215.52,2,   99.994,   0.0002,2,    0.000,2,  -999.00,9,    0.000,2,   123.62,2,     0.17,    33.16,2,     0.05,     0.00,2,     0.01,     2.30,2,     0.01,    0.338,2,    0.164,2,    0.016,2,    0.035,2,   2261.5,2,   2354.6,2,   7.5886,       25,2, -999.000,1, -999.000,   -999.0,1,   -999.0, -999.000,9, -999.000, -999.000,9, -999.000
  49NZ20130106,  S04I,   153,  1,     14, X12J14,2,20130130,1104,-65.3005,  36.1210, 4645,   2420.8,2,   0.1048,2,   0.10460,2,  34.6714,2,  34.6716,2,-999.0000,9,   219.69,2,   219.61,2,   99.998,   0.0001,2,    0.000,2,  -999.00,9,    0.000,2,   124.14,2,     0.17,    33.04,2,     0.05,     0.00,2,     0.01,     2.28,2,     0.01,    0.359,2,    0.174,2,    0.018,2,    0.000,2,   2260.4,6,   2354.7,2,   7.5906,       25,2, -999.000,1, -999.000,   -999.0,1,   -999.0, -999.000,9, -999.000, -999.000,9, -999.000
  49NZ20130106,  S04I,   153,  1,     13, X12J13,2,20130130,1104,-65.3005,  36.1210, 4645,   2670.9,2,   0.0235,2,   0.02344,2,  34.6676,2,  34.6679,2,-999.0000,9,   223.74,2,   223.82,2,  100.000,  -0.0000,2,    0.000,2,  -999.00,9,    0.000,2,   124.25,2,     0.17,    32.94,2,     0.05,     0.00,2,     0.01,     2.28,2,     0.01,    0.416,2,    0.205,2,    0.020,2,    0.054,2,   2260.1,2,   2351.4,6,   7.5931,       25,2, -999.000,1, -999.000,   -999.0,1,   -999.0, -999.000,9, -999.000, -999.000,9, -999.000
  49NZ20130106,  S04I,   153,  1,     12, X12J12,2,20130130,1104,-65.3005,  36.1210, 4645,   2921.4,2,  -0.0488,2,  -0.04884,2,  34.6638,2,  34.6638,2,-999.0000,9,   228.19,2,   228.03,2,   99.981,   0.0008,2,    0.000,2,  -999.00,9,    0.000,2,   123.94,2,     0.17,    32.85,2,     0.05,     0.00,2,     0.01,     2.27,2,     0.01,    0.522,2,    0.261,2,    0.029,2,    0.043,2,   2257.4,2,   2353.7,2,   7.5953,       25,6, -999.000,1, -999.000,   -999.0,1,   -999.0, -999.000,9, -999.000, -999.000,9, -999.000
  49NZ20130106,  S04I,   153,  1,     11, X12J11,2,20130130,1104,-65.3005,  36.1210, 4645,   3171.3,2,  -0.1088,2,  -0.10873,2,  34.6608,2,  34.6607,2,-999.0000,9,   231.79,2,   231.57,2,   99.979,   0.0008,2,    0.000,2,  -999.00,9,    0.000,2,   123.76,2,     0.17,    32.77,2,     0.05,     0.00,2,     0.01,     2.27,2,     0.01,    0.614,2,    0.306,2,    0.033,2,    0.036,2,   2256.1,2,   2351.9,2,   7.5973,       25,2, -999.000,1, -999.000,   -999.0,1,   -999.0, -999.000,9, -999.000, -999.000,9, -999.000
  49NZ20130106,  S04I,   153,  1,     10, X12J10,2,20130130,1104,-65.3005,  36.1210, 4645,   3420.6,2,  -0.1525,2,  -0.15246,2,  34.6587,2,  34.6585,2,-999.0000,9,   234.56,2,   234.34,2,   99.972,   0.0011,2,    0.000,2,  -999.00,9,    0.000,2,   123.97,2,     0.17,    32.71,2,     0.05,     0.00,2,     0.01,     2.26,2,     0.01,    0.624,2,    0.310,2,    0.040,2,    0.133,2,   2255.8,2,   2351.0,2,   7.5995,       25,2, -999.000,1, -999.000,   -999.0,1,   -999.0, -999.000,9, -999.000, -999.000,9, -999.000
  49NZ20130106,  S04I,   153,  1,      9, X12J09,2,20130130,1104,-65.3005,  36.1210, 4645,   3671.1,2,  -0.1915,2,  -0.19149,2,  34.6563,2,  34.6563,2,-999.0000,9,   237.59,2,   237.29,2,   99.975,   0.0010,2,    0.000,2,  -999.00,9,    0.000,2,   124.04,2,     0.17,    32.69,2,     0.05,     0.00,2,     0.01,     2.26,2,     0.01,    0.695,2,    0.353,2,    0.045,2,    0.067,2,   2251.6,2,   2351.8,2,   7.6001,       25,2, -999.000,1, -999.000,   -999.0,1,   -999.0, -999.000,9, -999.000, -999.000,9, -999.000
  49NZ20130106,  S04I,   153,  1,      8, X12J08,2,20130130,1104,-65.3005,  36.1210, 4645,   3919.7,2,  -0.2272,2,  -0.22727,2,  34.6543,2,  34.6540,2,-999.0000,9,   240.25,2,   239.93,2,   99.966,   0.0014,2,   -0.000,2,  -999.00,9,    0.000,2,   124.34,2,     0.17,    32.63,2,     0.05,     0.00,2,     0.01,     2.26,2,     0.01,    0.760,6,    0.381,6,    0.044,6,    0.086,6,   2252.1,2,   2352.6,2,   7.6024,       25,2, -999.000,1, -999.000,   -999.0,1,   -999.0, -999.000,9, -999.000, -999.000,9, -999.000
  49NZ20130106,  S04I,   153,  1,      7, X12J07,2,20130130,1104,-65.3005,  36.1210, 4645,   4170.2,2,  -0.2530,2,  -0.25302,2,  34.6525,2,  34.6522,2,-999.0000,9,   242.40,2,   242.23,2,   99.945,   0.0022,2,   -0.000,2,  -999.00,9,    0.000,2,   125.12,2,     0.17,    32.60,2,     0.05,     0.00,2,     0.01,     2.26,2,     0.01,    0.834,2,    0.410,2,    0.050,2,    0.126,2,   2252.5,6,   2351.5,2,   7.6033,       25,2, -999.000,1, -999.000,   -999.0,1,   -999.0, -999.000,9, -999.000, -999.000,9, -999.000
  49NZ20130106,  S04I,   153,  1,      6, X12J06,2,20130130,1104,-65.3005,  36.1210, 4645,   4418.7,2,  -0.2743,2,  -0.27437,2,  34.6506,2,  34.6512,2,-999.0000,9,   244.35,2,   244.25,2,   99.926,   0.0030,2,   -0.000,2,  -999.00,9,    0.000,2,   126.37,2,     0.17,    32.55,2,     0.05,     0.00,2,     0.01,     2.26,2,     0.01,    0.878,2,    0.461,2,    0.067,2,    0.109,2,   2252.1,2,   2352.3,2,   7.6036,       25,2, -999.000,1, -999.000,   -999.0,1,   -999.0, -999.000,9, -999.000, -999.000,9, -999.000
  49NZ20130106,  S04I,   153,  1,      5, X12J05,2,20130130,1104,-65.3005,  36.1210, 4645,   4671.2,2,  -0.2913,2,  -0.29149,2,  34.6502,2,  34.6508,2,-999.0000,9,   242.01,2,   241.59,2,   99.779,   0.0088,2,    0.000,2,  -999.00,9,    0.000,2,   138.92,2,     0.18,    32.86,2,     0.05,     0.00,2,     0.01,     2.27,2,     0.01,    0.661,2,    0.327,2,    0.036,2,    0.103,2,   2253.7,2,   2351.7,2,   7.6017,       25,6, -999.000,1, -999.000,   -999.0,1,   -999.0, -999.000,9, -999.000, -999.000,9, -999.000
  49NZ20130106,  S04I,   153,  1,      1, X12J01,2,20130130,1104,-65.3005,  36.1210, 4645,   4734.3,2,  -0.2892,2,  -0.28936,2,  34.6503,2,  34.6504,2,-999.0000,9,   240.26,2,   240.29,2,   99.530,   0.0188,2,    0.000,2,  -999.00,9,    0.000,2,   142.83,2,     0.19,    32.99,2,     0.05,     0.01,2,     0.01,     2.28,2,     0.01,    0.586,2,    0.286,2,    0.028,2,    0.047,2,   2254.2,2,   2353.8,2,   7.6000,       25,2, -999.000,1, -999.000,   -999.0,1,   -999.0, -999.000,9, -999.000, -999.000,9, -999.000