BOTTLE,20220819CCHSIOAMB
EXPOCODE,SECT_ID,STNNBR,CASTNO,SAMPNO,BTLNBR,BTLNBR_FLAG_W,DATE,TIME,LATITUDE,LONGITUDE,DEPTH,CTDPRS,CTDPRS_FLAG_W,CTDTMP,CTDTMP_FLAG_W,SBE35,SBE35_FLAG_W,CTDSAL,CTDSAL_FLAG_W,SALNTY,SALNTY_FLAG_W,DNSSAL,DNSSAL_FLAG_W,CTDOXY,CTDOXY_FLAG_W,OXYGEN,OXYGEN_FLAG_W,CTDXMISS,CTDXMISSCP,CTDXMISS_FLAG_W,CTDFLUOR,CTDFLUOR_FLAG_W,CHLORA,CHLORA_FLAG_W,PAR,PAR_FLAG_W,SILCAT,SILCAT_FLAG_W,SILUNC,NITRAT,NITRAT_FLAG_W,NRAUNC,NITRIT,NITRIT_FLAG_W,NRIUNC,PHSPHT,PHSPHT_FLAG_W,PHPUNC,CFC-11,CFC-11_FLAG_W,CFC-12,CFC-12_FLAG_W,CFC113,CFC113_FLAG_W,SF6,SF6_FLAG_W,TCARBN,TCARBN_FLAG_W,ALKALI,ALKALI_FLAG_W,PH_TOT,PH_TMP,PH_TOT_FLAG_W,DELC13,DELC13_FLAG_W,C13ERR,DELC14,DELC14_FLAG_W,C14ERR,CS-134,CS-134_FLAG_W,CS134ER,CS-137,CS-137_FLAG_W,CS137ER
,,,,,,,,UTC,DEG,DEG,METERS,DBAR,,ITS-90,,ITS-90,,PSS-78,,PSS-78,,G/KG,,UMOL/KG,,UMOL/KG,,%TRANS,/METER,,MG/M^3,,MG/CUM,,UE/SQM/S,,UMOL/KG,,UMOL/KG,UMOL/KG,,UMOL/KG,UMOL/KG,,UMOL/KG,UMOL/KG,,UMOL/KG,PMOL/KG,,PMOL/KG,,PMOL/KG,,FMOL/KG,,UMOL/KG,,UMOL/KG,,,DEG C,,/MILLE,,/MILLE,/MILLE,,/MILLE,MBQ/KG,,MBQ/KG,MBQ/KG,,MBQ/KG
  49NZ20130106,  S04I,   158,  1,     36, X12J36,2,20130131,1606,-66.4995,  35.9995, 4510,      5.0,2,   0.1850,2,   0.18433,2,  34.0793,2,  34.0794,2,-999.0000,9,   340.89,2,   340.98,2,   94.710,   0.2174,2,    0.480,2,  -999.00,9,   28.468,2,    58.91,2,     0.11,    26.09,2,     0.04,     0.18,2,     0.01,     1.84,2,     0.01,    5.693,2,    3.082,2,    0.499,2,    2.983,2,   2183.3,2,   2310.1,2,   7.6823,       25,6, -999.000,9, -999.000,   -999.0,9,   -999.0, -999.000,9, -999.000, -999.000,9, -999.000
  49NZ20130106,  S04I,   158,  1,     35, X12J35,2,20130131,1606,-66.4995,  35.9995, 4510,     24.4,2,   0.1411,2,   0.13826,2,  34.0831,2,  34.0831,2,-999.0000,9,   340.97,2,   341.17,2,   94.671,   0.2190,2,    0.540,2,  -999.00,9,    5.658,2,    59.31,2,     0.11,    26.18,2,     0.04,     0.18,2,     0.01,     1.85,2,     0.01,    5.642,2,    3.078,2,    0.494,2,    3.066,2,   2185.3,2,   2311.1,2,   7.6815,       25,2, -999.000,9, -999.000,   -999.0,9,   -999.0, -999.000,9, -999.000, -999.000,9, -999.000
  49NZ20130106,  S04I,   158,  1,     34, X12J34,2,20130131,1606,-66.4995,  35.9995, 4510,     49.3,2,  -1.2330,2,  -1.22904,2,  34.1481,2,  34.1540,2,-999.0000,9,   312.37,2,   310.93,2,   96.407,   0.1464,2,    0.570,2,  -999.00,9,    1.229,2,    63.67,2,     0.12,    28.35,2,     0.04,     0.17,2,     0.01,     2.00,2,     0.01,    4.762,6,    2.589,6,    0.429,6,    2.501,6,   2204.4,2,   2313.2,2,   7.6382,       25,2, -999.000,9, -999.000,   -999.0,9,   -999.0, -999.000,9, -999.000, -999.000,9, -999.000
  49NZ20130106,  S04I,   158,  1,     33, X12J33,2,20130131,1606,-66.4995,  35.9995, 4510,     75.1,2,  -1.5561,2,  -1.55366,2,  34.3110,2,  34.3154,2,-999.0000,9,   278.54,2,   278.18,2,   98.374,   0.0656,2,    0.350,2,  -999.00,9,    0.231,2,    66.57,3,     0.22,    30.43,2,     0.04,     0.16,2,     0.01,     2.13,2,     0.01,    4.155,2,    2.243,2,    0.375,2,    2.090,2,   2225.0,6,   2321.3,2,   7.6029,       25,2, -999.000,9, -999.000,   -999.0,9,   -999.0, -999.000,9, -999.000, -999.000,9, -999.000
  49NZ20130106,  S04I,   158,  1,     32, X12J32,2,20130131,1606,-66.4995,  35.9995, 4510,     99.9,2,  -0.4804,2,  -0.47573,2,  34.4713,2,  34.4678,2,-999.0000,9,   254.23,2,   254.41,2,   99.127,   0.0351,2,    0.190,2,  -999.00,9,    0.047,2,    72.96,2,     0.12,    31.80,2,     0.04,     0.07,2,     0.01,     2.21,2,     0.01,    3.344,2,    1.812,2,    0.297,2,    1.709,2,   2240.3,2,   2331.0,6,   7.5863,       25,2, -999.000,9, -999.000,   -999.0,9,   -999.0, -999.000,9, -999.000, -999.000,9, -999.000
  49NZ20130106,  S04I,   158,  1,     31, X12J31,2,20130131,1606,-66.4995,  35.9995, 4510,    125.9,2,   0.3664,2,   0.35449,2,  34.5698,2,  34.5669,2,-999.0000,9,   224.96,2,   226.33,2,   99.583,   0.0167,2,    0.110,2,  -999.00,9,    0.000,2,    80.28,2,     0.13,    32.59,2,     0.05,     0.03,2,     0.01,     2.26,2,     0.01,    2.316,2,    1.234,2,    0.204,2,    0.965,2,   2250.2,2,   2336.8,2,   7.5735,       25,2, -999.000,9, -999.000,   -999.0,9,   -999.0, -999.000,9, -999.000, -999.000,9, -999.000
  49NZ20130106,  S04I,   158,  1,     30, X12J30,2,20130131,1606,-66.4995,  35.9995, 4510,    150.4,2,   0.7512,2,   0.74944,2,  34.6152,2,  34.6147,2,-999.0000,9,   210.23,2,   210.42,2,   99.764,   0.0095,2,    0.070,2,  -999.00,9,    0.000,2,    84.40,2,     0.13,    32.79,2,     0.05,     0.02,2,     0.01,     2.27,2,     0.01,    1.653,2,    0.888,2,    0.151,2,    0.858,2,   2256.1,2,   2340.0,2,   7.5707,       25,6, -999.000,9, -999.000,   -999.0,9,   -999.0, -999.000,9, -999.000, -999.000,9, -999.000
  49NZ20130106,  S04I,   158,  1,     29, X12J29,2,20130131,1606,-66.4995,  35.9995, 4510,    198.1,2,   1.1622,2,   1.16061,2,  34.6687,2,  34.6672,2,-999.0000,9,   196.80,2,   197.29,2,   99.851,   0.0060,2,    0.020,2,  -999.00,9,    0.000,2,    88.59,2,     0.14,    32.63,2,     0.05,     0.01,2,     0.01,     2.26,2,     0.01,    0.974,2,    0.532,2,    0.085,2,    0.359,2,   2256.2,2,   2344.6,2,   7.5737,       25,2, -999.000,9, -999.000,   -999.0,9,   -999.0, -999.000,9, -999.000, -999.000,9, -999.000
  49NZ20130106,  S04I,   158,  1,     28, X12J28,2,20130131,1606,-66.4995,  35.9995, 4510,    251.6,2,   1.1706,2,   1.17089,2,  34.6808,2,  34.6812,2,-999.0000,9,   198.22,2,   197.97,2,   99.911,   0.0036,2,    0.010,2,  -999.00,9,    0.000,2,    89.95,2,     0.14,    32.38,2,     0.05,     0.01,2,     0.01,     2.25,2,     0.01,    0.865,2,    0.467,2,    0.076,2,    0.266,2,   2256.9,2,   2346.8,2,   7.5799,       25,2, -999.000,9, -999.000,   -999.0,9,   -999.0, -999.000,9, -999.000, -999.000,9, -999.000
  49NZ20130106,  S04I,   158,  1,     27, X12J27,2,20130131,1606,-66.4995,  35.9995, 4510,    329.7,2,   1.1956,2,   1.19852,2,  34.6964,2,  34.6963,2,-999.0000,9,   197.65,2,   197.93,2,   99.951,   0.0020,2,    0.000,2,  -999.00,9,    0.000,2,    92.07,2,     0.14,    32.09,2,     0.05,     0.01,2,     0.01,     2.23,2,     0.01,    0.721,2,    0.410,2,    0.060,2,    0.144,2,   2254.5,3,   2347.6,2,   7.5860,       25,2, -999.000,9, -999.000,   -999.0,9,   -999.0, -999.000,9, -999.000, -999.000,9, -999.000
  49NZ20130106,  S04I,   158,  1,     26, X12J26,2,20130131,1606,-66.4995,  35.9995, 4510,    430.3,2,   1.2389,2,   1.23863,2,  34.7141,2,  34.7140,2,-999.0000,9,   195.73,2,   195.69,2,   99.881,   0.0048,2,    0.000,2,  -999.00,9,    0.000,2,    96.46,2,     0.15,    31.95,2,     0.04,     0.01,2,     0.01,     2.22,2,     0.01,    0.432,2,    0.225,2,    0.035,2,    0.053,2,   2256.0,2,   2351.0,2,   7.5893,       25,2, -999.000,9, -999.000,   -999.0,9,   -999.0, -999.000,9, -999.000, -999.000,9, -999.000
  49NZ20130106,  S04I,   158,  1,     25, X12J25,2,20130131,1606,-66.4995,  35.9995, 4510,    530.1,2,   1.1432,2,   1.14324,2,  34.7141,2,  34.7142,2,-999.0000,9,   197.92,2,   197.91,2,   99.973,   0.0011,2,    0.000,2,  -999.00,9,    0.000,2,    98.95,2,     0.15,    31.92,2,     0.04,     0.00,2,     0.01,     2.20,2,     0.01,    0.406,2,    0.212,2,    0.031,2,    0.051,2,   2258.5,3,   2351.6,2,   7.5922,       25,2, -999.000,9, -999.000,   -999.0,9,   -999.0, -999.000,9, -999.000, -999.000,9, -999.000
  49NZ20130106,  S04I,   158,  1,     24, X12J24,2,20130131,1606,-66.4995,  35.9995, 4510,    628.7,2,   1.0433,2,   1.04323,2,  34.7115,2,  34.7113,2,-999.0000,9,   199.85,2,   199.89,2,   99.947,   0.0021,2,    0.000,2,  -999.00,9,    0.000,2,   101.32,2,     0.15,    31.99,2,     0.04,     0.01,2,     0.01,     2.21,2,     0.01,    0.408,6,    0.212,6,    0.030,6,    0.042,6,   2255.9,2,   2352.3,2,   7.5934,       25,2, -999.000,9, -999.000,   -999.0,9,   -999.0, -999.000,9, -999.000, -999.000,9, -999.000
  49NZ20130106,  S04I,   158,  1,     23, X12J23,2,20130131,1606,-66.4995,  35.9995, 4510,    730.8,2,   0.9483,2,   0.94826,2,  34.7083,2,  34.7085,2,-999.0000,9,   201.78,2,   201.83,2,   99.979,   0.0008,2,    0.000,2,  -999.00,9,    0.000,2,   103.26,2,     0.15,    32.06,2,     0.04,     0.00,2,     0.01,     2.22,2,     0.01,    0.419,2,    0.218,2,    0.029,2,    0.068,2,   2258.1,6,   2352.4,2,   7.5945,       25,2, -999.000,9, -999.000,   -999.0,9,   -999.0, -999.000,9, -999.000, -999.000,9, -999.000
  49NZ20130106,  S04I,   158,  1,     22, X12J22,2,20130131,1606,-66.4995,  35.9995, 4510,    830.2,2,   0.8597,2,   0.85957,2,  34.7051,2,  34.7052,2,-999.0000,9,   202.95,2,   203.33,2,   99.994,   0.0002,2,    0.000,2,  -999.00,9,    0.000,2,   105.75,2,     0.15,    32.17,2,     0.05,     0.00,2,     0.01,     2.23,2,     0.01,    0.409,2,    0.214,2,    0.027,2,    0.017,2,   2258.2,2,   2353.7,6,   7.5943,       25,2, -999.000,9, -999.000,   -999.0,9,   -999.0, -999.000,9, -999.000, -999.000,9, -999.000
  49NZ20130106,  S04I,   158,  1,     21, X12J21,2,20130131,1606,-66.4995,  35.9995, 4510,    928.5,2,   0.7848,2,   0.78459,2,  34.7021,2,  34.7030,2,-999.0000,9,   203.76,2,   203.86,2,   99.985,   0.0006,2,    0.000,2,  -999.00,9,    0.000,2,   108.01,2,     0.16,    32.30,2,     0.05,     0.00,2,     0.01,     2.24,2,     0.01,    0.394,2,    0.202,2,    0.025,2,    0.048,2,   2259.6,2,   2354.0,2,   7.5923,       25,2, -999.000,9, -999.000,   -999.0,9,   -999.0, -999.000,9, -999.000, -999.000,9, -999.000
  49NZ20130106,  S04I,   158,  1,     20, X12J20,2,20130131,1606,-66.4995,  35.9995, 4510,   1082.1,2,   0.6928,2,   0.69274,2,  34.6986,2,  34.6987,2,-999.0000,9,   204.54,2,   204.52,2,   99.996,   0.0002,2,    0.000,2,  -999.00,9,    0.000,2,   111.06,2,     0.16,    32.50,2,     0.05,     0.00,2,     0.01,     2.26,2,     0.01,    0.385,2,    0.192,2,    0.025,2,    0.096,2,   2259.9,2,   2354.0,2,   7.5918,       25,2, -999.000,9, -999.000,   -999.0,9,   -999.0, -999.000,9, -999.000, -999.000,9, -999.000
  49NZ20130106,  S04I,   158,  1,     19, X12J19,2,20130131,1606,-66.4995,  35.9995, 4510,   1331.4,2,   0.5456,2,   0.54562,2,  34.6923,2,  34.6924,2,-999.0000,9,   206.11,2,   206.15,2,  100.002,  -0.0001,2,    0.000,2,  -999.00,9,    0.000,2,   115.71,2,     0.16,    32.80,2,     0.05,     0.00,2,     0.01,     2.28,2,     0.01,    0.352,6,    0.176,6,    0.020,6,    0.021,6,   2262.0,2,   2355.1,2,   7.5893,       25,2, -999.000,9, -999.000,   -999.0,9,   -999.0, -999.000,9, -999.000, -999.000,9, -999.000
  49NZ20130106,  S04I,   158,  1,     18, X12J18,2,20130131,1606,-66.4995,  35.9995, 4510,   1580.0,2,   0.4220,2,   0.42180,2,  34.6859,2,  34.6861,2,-999.0000,9,   209.14,2,   209.17,2,  100.005,  -0.0002,2,    0.000,2,  -999.00,9,    0.000,2,   118.91,2,     0.17,    32.91,2,     0.05,     0.00,2,     0.01,     2.29,2,     0.01,    0.352,2,    0.183,2,    0.021,2,    0.085,2,   2261.0,2,   2355.3,2,   7.5886,       25,2, -999.000,9, -999.000,   -999.0,9,   -999.0, -999.000,9, -999.000, -999.000,9, -999.000
  49NZ20130106,  S04I,   158,  1,     17, X12J17,2,20130131,1606,-66.4995,  35.9995, 4510,   1830.6,2,   0.3274,2,   0.32731,2,  34.6821,2,  34.6824,2,-999.0000,9,   211.22,2,   211.43,2,  100.005,  -0.0002,2,    0.000,2,  -999.00,9,    0.000,2,   121.65,2,     0.17,    33.02,2,     0.05,     0.00,2,     0.01,     2.30,2,     0.01,    0.319,2,    0.164,2,    0.015,2,    0.057,2,   2261.6,2,   2354.7,2,   7.5884,       25,6, -999.000,9, -999.000,   -999.0,9,   -999.0, -999.000,9, -999.000, -999.000,9, -999.000
  49NZ20130106,  S04I,   158,  1,     16, X12J16,2,20130131,1606,-66.4995,  35.9995, 4510,   2081.4,2,   0.2201,2,   0.21999,2,  34.6762,2,  34.6760,2,-999.0000,9,   215.59,2,   215.63,2,   99.998,   0.0001,2,    0.000,2,  -999.00,9,    0.000,2,   122.41,2,     0.17,    33.00,2,     0.05,     0.00,2,     0.01,     2.30,2,     0.01,    0.385,2,    0.197,2,    0.020,2,    0.072,2,   2261.1,2,   2354.7,2,   7.5897,       25,2, -999.000,9, -999.000,   -999.0,9,   -999.0, -999.000,9, -999.000, -999.000,9, -999.000
  49NZ20130106,  S04I,   158,  1,     15, X12J15,2,20130131,1606,-66.4995,  35.9995, 4510,   2333.0,2,   0.1190,2,   0.11901,2,  34.6706,2,  34.6706,2,-999.0000,9,   220.62,2,   220.64,2,  100.005,  -0.0002,2,    0.000,2,  -999.00,9,    0.000,2,   121.95,2,     0.17,    32.87,2,     0.05,     0.00,2,     0.01,     2.29,2,     0.01,    0.505,2,    0.263,2,    0.028,2,    0.080,2,   2260.0,2,   2355.3,2,   7.5918,       25,2, -999.000,9, -999.000,   -999.0,9,   -999.0, -999.000,9, -999.000, -999.000,9, -999.000
  49NZ20130106,  S04I,   158,  1,     14, X12J14,2,20130131,1606,-66.4995,  35.9995, 4510,   2580.0,2,   0.0381,2,   0.03806,2,  34.6671,2,  34.6671,2,-999.0000,9,   224.46,2,   224.36,2,  100.007,  -0.0003,2,    0.000,2,  -999.00,9,    0.000,2,   122.17,2,     0.17,    32.79,2,     0.05,     0.00,2,     0.01,     2.27,2,     0.01,    0.583,2,    0.297,2,    0.033,2,    0.162,2,   2259.3,6,   2352.6,2,   7.5939,       25,2, -999.000,9, -999.000,   -999.0,9,   -999.0, -999.000,9, -999.000, -999.000,9, -999.000
  49NZ20130106,  S04I,   158,  1,     13, X12J13,2,20130131,1606,-66.4995,  35.9995, 4510,   2829.2,2,  -0.0333,2,  -0.03326,2,  34.6641,2,  34.6641,2,-999.0000,9,   227.87,2,   227.88,2,   99.994,   0.0002,2,    0.000,2,  -999.00,9,    0.000,2,   122.99,2,     0.17,    32.76,2,     0.05,     0.00,2,     0.01,     2.28,2,     0.01,    0.619,2,    0.317,2,    0.041,2,    0.142,2,   2259.2,2,   2352.4,6,   7.5953,       25,2, -999.000,9, -999.000,   -999.0,9,   -999.0, -999.000,9, -999.000, -999.000,9, -999.000
  49NZ20130106,  S04I,   158,  1,     12, X12J12,2,20130131,1606,-66.4995,  35.9995, 4510,   3079.3,2,  -0.0968,2,  -0.09690,2,  34.6606,2,  34.6606,2,-999.0000,9,   231.93,2,   231.88,2,   99.977,   0.0009,2,    0.000,2,  -999.00,9,    0.000,2,   122.18,2,     0.17,    32.68,2,     0.05,     0.00,2,     0.01,     2.27,2,     0.01,    0.756,2,    0.392,2,    0.045,2,    0.241,2,   2256.1,2,   2352.1,2,   7.5975,       25,6, -999.000,9, -999.000,   -999.0,9,   -999.0, -999.000,9, -999.000, -999.000,9, -999.000
  49NZ20130106,  S04I,   158,  1,     11, X12J11,2,20130131,1606,-66.4995,  35.9995, 4510,   3329.9,2,  -0.1562,2,  -0.15633,2,  34.6577,2,  34.6574,2,-999.0000,9,   236.15,2,   236.14,2,   99.977,   0.0009,2,    0.000,2,  -999.00,9,    0.000,2,   121.09,2,     0.17,    32.57,2,     0.05,     0.00,2,     0.01,     2.27,2,     0.01,    0.892,2,    0.468,2,    0.067,2,    0.227,2,   2253.0,2,   2350.9,2,   7.5984,       25,2, -999.000,9, -999.000,   -999.0,9,   -999.0, -999.000,9, -999.000, -999.000,9, -999.000
  49NZ20130106,  S04I,   158,  1,     10, X12J10,2,20130131,1606,-66.4995,  35.9995, 4510,   3579.6,2,  -0.1984,2,  -0.19843,2,  34.6549,2,  34.6549,2,-999.0000,9,   239.82,2,   239.55,2,   99.962,   0.0015,2,    0.000,2,  -999.00,9,    0.000,2,   119.91,2,     0.17,    32.48,2,     0.05,     0.00,2,     0.01,     2.26,2,     0.01,    1.056,2,    0.567,2,    0.081,2,    0.346,2,   2254.8,3,   2350.6,2,   7.6003,       25,2, -999.000,9, -999.000,   -999.0,9,   -999.0, -999.000,9, -999.000, -999.000,9, -999.000
  49NZ20130106,  S04I,   158,  1,      9, X12J09,2,20130131,1606,-66.4995,  35.9995, 4510,   3831.1,2,  -0.2333,2,  -0.23337,2,  34.6530,2,  34.6525,2,-999.0000,9,   242.99,2,   242.97,2,   99.947,   0.0021,2,   -0.000,2,  -999.00,9,    0.000,2,   118.79,2,     0.17,    32.41,2,     0.05,     0.00,2,     0.01,     2.26,2,     0.01,    1.191,2,    0.638,2,    0.095,2,    0.393,2,   2251.6,2,   2350.2,2,   7.6018,       25,2, -999.000,9, -999.000,   -999.0,9,   -999.0, -999.000,9, -999.000, -999.000,9, -999.000
  49NZ20130106,  S04I,   158,  1,      8, X12J08,2,20130131,1606,-66.4995,  35.9995, 4510,   4079.7,2,  -0.2583,2,  -0.25832,2,  34.6510,2,  34.6507,2,-999.0000,9,   245.57,2,   245.54,2,   99.928,   0.0029,2,    0.000,2,  -999.00,9,    0.000,2,   118.58,2,     0.17,    32.36,2,     0.05,     0.00,2,     0.01,     2.25,2,     0.01,    1.310,6,    0.700,6,    0.111,6,    0.506,6,   2253.0,2,   2352.2,2,   7.6028,       25,2, -999.000,9, -999.000,   -999.0,9,   -999.0, -999.000,9, -999.000, -999.000,9, -999.000
  49NZ20130106,  S04I,   158,  1,      7, X12J07,2,20130131,1606,-66.4995,  35.9995, 4510,   4330.4,2,  -0.2818,2,  -0.28183,2,  34.6492,2,  34.6492,2,-999.0000,9,   245.86,2,   245.69,2,   99.898,   0.0041,2,   -0.000,2,  -999.00,9,    0.000,2,   123.29,2,     0.17,    32.43,2,     0.05,     0.00,2,     0.01,     2.26,2,     0.01,    1.121,2,    0.599,2,    0.086,2,    0.440,2,   2250.8,6,   2350.4,2,   7.6039,       25,2, -999.000,9, -999.000,   -999.0,9,   -999.0, -999.000,9, -999.000, -999.000,9, -999.000
  49NZ20130106,  S04I,   158,  1,      6, X12J06,2,20130131,1606,-66.4995,  35.9995, 4510,   4580.1,2,  -0.3003,2,  -0.30036,2,  34.6499,2,  34.6500,2,-999.0000,9,   241.61,2,   241.72,2,   99.330,   0.0269,2,    0.000,2,  -999.00,9,    0.000,2,   140.01,2,     0.18,    32.86,2,     0.05,     0.00,2,     0.01,     2.29,2,     0.01,    0.738,2,    0.373,2,    0.043,2,    0.162,2,   2255.1,2,   2352.7,2,   7.6008,       25,2, -999.000,9, -999.000,   -999.0,9,   -999.0, -999.000,9, -999.000, -999.000,9, -999.000
  49NZ20130106,  S04I,   158,  1,      1, X12J01,2,20130131,1606,-66.4995,  35.9995, 4510,   4594.2,2,  -0.2987,2,  -0.29876,2,  34.6498,2,  34.6499,2,-999.0000,9,   241.64,2,   241.58,2,   99.325,   0.0271,2,    0.000,2,  -999.00,9,    0.000,2,   139.83,2,     0.18,    32.81,2,     0.05,     0.01,2,     0.01,     2.29,2,     0.01,    0.739,2,    0.373,2,    0.041,2,    0.202,2,   2253.3,2,   2352.9,2,   7.6001,       25,2, -999.000,9, -999.000,   -999.0,9,   -999.0, -999.000,9, -999.000, -999.000,9, -999.000