BOTTLE,20220819CCHSIOAMB
EXPOCODE,SECT_ID,STNNBR,CASTNO,SAMPNO,BTLNBR,BTLNBR_FLAG_W,DATE,TIME,LATITUDE,LONGITUDE,DEPTH,CTDPRS,CTDPRS_FLAG_W,CTDTMP,CTDTMP_FLAG_W,SBE35,SBE35_FLAG_W,CTDSAL,CTDSAL_FLAG_W,SALNTY,SALNTY_FLAG_W,DNSSAL,DNSSAL_FLAG_W,CTDOXY,CTDOXY_FLAG_W,OXYGEN,OXYGEN_FLAG_W,CTDXMISS,CTDXMISSCP,CTDXMISS_FLAG_W,CTDFLUOR,CTDFLUOR_FLAG_W,CHLORA,CHLORA_FLAG_W,PAR,PAR_FLAG_W,SILCAT,SILCAT_FLAG_W,SILUNC,NITRAT,NITRAT_FLAG_W,NRAUNC,NITRIT,NITRIT_FLAG_W,NRIUNC,PHSPHT,PHSPHT_FLAG_W,PHPUNC,CFC-11,CFC-11_FLAG_W,CFC-12,CFC-12_FLAG_W,CFC113,CFC113_FLAG_W,SF6,SF6_FLAG_W,TCARBN,TCARBN_FLAG_W,ALKALI,ALKALI_FLAG_W,PH_TOT,PH_TMP,PH_TOT_FLAG_W,DELC13,DELC13_FLAG_W,C13ERR,DELC14,DELC14_FLAG_W,C14ERR,CS-134,CS-134_FLAG_W,CS134ER,CS-137,CS-137_FLAG_W,CS137ER
,,,,,,,,UTC,DEG,DEG,METERS,DBAR,,ITS-90,,ITS-90,,PSS-78,,PSS-78,,G/KG,,UMOL/KG,,UMOL/KG,,%TRANS,/METER,,MG/M^3,,MG/CUM,,UE/SQM/S,,UMOL/KG,,UMOL/KG,UMOL/KG,,UMOL/KG,UMOL/KG,,UMOL/KG,UMOL/KG,,UMOL/KG,PMOL/KG,,PMOL/KG,,PMOL/KG,,FMOL/KG,,UMOL/KG,,UMOL/KG,,,DEG C,,/MILLE,,/MILLE,/MILLE,,/MILLE,MBQ/KG,,MBQ/KG,MBQ/KG,,MBQ/KG
  49NZ20130106,  S04I,   162,  1,     36, X12J36,2,20130201,0421,-68.0568,  37.9827, 3277,      4.7,2,  -1.2239,2,  -1.22219,2,  32.5159,2,  32.5507,2,  32.7026,2,   357.16,2,   358.22,2,   90.289,   0.4086,2,    0.230,2,     0.68,2,  217.224,2,    49.05,2,     0.10,    22.81,2,     0.03,     0.20,2,     0.01,     1.56,2,     0.01,    5.858,2,    3.231,2,    0.594,2,    2.795,2,   2078.1,2,   2210.8,2,   7.7207,       25,2, -999.000,9, -999.000,   -999.0,9,   -999.0, -999.000,9, -999.000, -999.000,9, -999.000
  49NZ20130106,  S04I,   162,  1,     35, X12J35,2,20130201,0421,-68.0568,  37.9827, 3277,     24.1,2,  -1.3049,2,  -1.30338,2,  33.3118,2,  33.3539,2,  33.5173,2,   350.99,2,   351.27,2,   93.922,   0.2508,2,    0.350,2,     0.46,2,   35.922,2,    53.07,2,     0.11,    24.66,2,     0.04,     0.15,2,     0.01,     1.80,2,     0.01,    5.527,2,    3.015,2,    0.556,2,    2.692,2,   2134.9,2,   2261.9,2,   7.6949,       25,2, -999.000,9, -999.000,   -999.0,9,   -999.0, -999.000,9, -999.000, -999.000,9, -999.000
  49NZ20130106,  S04I,   162,  1,     34, X12J34,2,20130201,0421,-68.0568,  37.9827, 3277,     49.4,2,  -1.6549,2,  -1.65364,2,  33.9412,2,  33.9403,2,  34.1036,2,   329.03,2,   330.03,2,   97.738,   0.0915,2,    0.290,2,     0.33,2,    7.909,2,    56.98,2,     0.11,    27.40,2,     0.04,     0.13,2,     0.01,     1.95,2,     0.01,    5.159,6,    2.807,6,    0.517,6,    2.393,6,   2183.9,2,   2298.5,2,   7.6528,       25,2, -999.000,9, -999.000,   -999.0,9,   -999.0, -999.000,9, -999.000, -999.000,9, -999.000
  49NZ20130106,  S04I,   162,  1,     33, X12J33,2,20130201,0421,-68.0568,  37.9827, 3277,     74.6,2,  -1.7592,2,  -1.75903,2,  34.2272,2,  34.2272,2,  34.3926,2,   304.17,2,   304.95,2,   98.805,   0.0481,2,    0.260,2,     0.23,2,    2.617,2,    61.03,2,     0.11,    29.35,2,     0.04,     0.15,2,     0.01,     2.07,2,     0.01,    4.720,2,    2.548,2,    0.446,2,    2.360,2,   2211.2,6,   2315.7,2,   7.6226,       25,2, -999.000,9, -999.000,   -999.0,9,   -999.0, -999.000,9, -999.000, -999.000,9, -999.000
  49NZ20130106,  S04I,   162,  1,     32, X12J32,2,20130201,0421,-68.0568,  37.9827, 3277,    100.1,2,  -1.7841,2,  -1.78432,2,  34.2741,2,  34.2750,2,  34.4406,2,   302.15,2,   303.60,2,   99.522,   0.0192,2,    0.120,2,     0.09,2,    1.018,2,    61.00,2,     0.11,    30.13,2,     0.04,     0.12,2,     0.01,     2.10,2,     0.01,    4.777,2,    2.534,2,    0.478,2,    2.125,2,   2214.8,2,   2318.3,2,   7.6151,       25,2, -999.000,9, -999.000,   -999.0,9,   -999.0, -999.000,9, -999.000, -999.000,9, -999.000
  49NZ20130106,  S04I,   162,  1,     31, X12J31,2,20130201,0421,-68.0568,  37.9827, 3277,    124.9,2,  -1.7789,2,  -1.78036,2,  34.3054,2,  34.3045,2,  34.4696,2,   302.68,2,   303.24,2,   99.669,   0.0133,2,    0.090,2,     0.07,2,    0.418,2,    61.01,2,     0.11,    30.38,2,     0.04,     0.04,2,     0.01,     2.11,2,     0.01,    4.792,2,    2.517,2,    0.481,2,    2.189,2,   2219.2,2,   2319.5,2,   7.6120,       25,2, -999.000,9, -999.000,   -999.0,9,   -999.0, -999.000,9, -999.000, -999.000,9, -999.000
  49NZ20130106,  S04I,   162,  1,     30, X12J30,2,20130201,0421,-68.0568,  37.9827, 3277,    150.4,2,  -1.7424,2,  -1.74341,2,  34.3264,2,  34.3256,2,  34.4913,2,   307.57,2,   308.01,2,   99.776,   0.0090,2,    0.040,2,     0.03,2,    0.175,2,    60.24,2,     0.11,    30.38,2,     0.04,     0.02,2,     0.01,     2.10,2,     0.01,    4.886,2,    2.620,2,    0.492,2,    2.232,2,   2217.6,2,   2320.5,2,   7.6147,       25,6, -999.000,9, -999.000,   -999.0,9,   -999.0, -999.000,9, -999.000, -999.000,9, -999.000
  49NZ20130106,  S04I,   162,  1,     29, X12J29,2,20130201,0421,-68.0568,  37.9827, 3277,    199.4,2,  -1.0148,2,  -1.00979,2,  34.4231,2,  34.4235,2,  34.5883,2,   276.30,2,   276.05,2,   99.782,   0.0087,2,    0.050,2,     0.04,2,    0.005,2,    67.91,2,     0.12,    31.06,2,     0.04,     0.02,2,     0.01,     2.16,2,     0.01,    3.901,2,    2.095,2,    0.387,2,    1.698,2,   2227.8,2,   2326.3,2,   7.6010,       25,2, -999.000,9, -999.000,   -999.0,9,   -999.0, -999.000,9, -999.000, -999.000,9, -999.000
  49NZ20130106,  S04I,   162,  1,     28, X12J28,2,20130201,0421,-68.0568,  37.9827, 3277,    249.8,2,   0.0946,2,   0.09397,2,  34.5560,2,  34.5554,2,  34.7234,2,   236.84,2,   236.89,2,   99.837,   0.0065,2,    0.020,2,     0.02,2,    0.000,2,    78.40,2,     0.13,    32.03,2,     0.04,     0.01,2,     0.01,     2.23,2,     0.01,    2.523,2,    1.352,2,    0.240,2,    0.981,2,   2242.8,2,   2335.1,2,   7.5853,       25,2, -999.000,9, -999.000,   -999.0,9,   -999.0, -999.000,9, -999.000, -999.000,9, -999.000
  49NZ20130106,  S04I,   162,  1,     27, X12J27,2,20130201,0421,-68.0568,  37.9827, 3277,    299.4,2,   0.3886,2,   0.38827,2,  34.6039,2,  34.6034,2,  34.7722,2,   226.66,2,   226.80,2,   99.857,   0.0057,2,    0.010,2,  -999.00,9,    0.000,2,    82.68,2,     0.13,    32.00,2,     0.04,     0.01,2,     0.01,     2.21,2,     0.01,    2.067,2,    1.083,2,    0.181,2,    0.742,2,   2245.2,2,   2339.0,2,   7.5875,       25,2, -999.000,9, -999.000,   -999.0,9,   -999.0, -999.000,9, -999.000, -999.000,9, -999.000
  49NZ20130106,  S04I,   162,  1,     26, X12J26,2,20130201,0421,-68.0568,  37.9827, 3277,    399.5,2,   0.4244,2,   0.42372,2,  34.6292,2,  34.6290,2,  34.7992,2,   225.28,2,   225.48,2,   99.929,   0.0028,2,    0.010,2,  -999.00,9,    0.000,2,    86.37,2,     0.14,    31.76,2,     0.04,     0.01,2,     0.01,     2.20,2,     0.01,    1.820,2,    0.959,2,    0.166,2,    0.672,2,   2247.1,2,   2341.8,2,   7.5931,       25,2, -999.000,9, -999.000,   -999.0,9,   -999.0, -999.000,9, -999.000, -999.000,9, -999.000
  49NZ20130106,  S04I,   162,  1,     25, X12J25,2,20130201,0421,-68.0568,  37.9827, 3277,    499.9,2,   0.5407,2,   0.54144,2,  34.6548,2,  34.6549,2,  34.8249,2,   219.96,2,   220.29,2,   99.959,   0.0016,2,    0.000,2,  -999.00,9,    0.000,2,    91.29,2,     0.14,    31.80,2,     0.04,     0.01,2,     0.01,     2.21,2,     0.01,    1.391,2,    0.770,2,    0.107,2,    0.466,2,   2248.9,2,   2345.3,2,   7.5949,       25,2, -999.000,9, -999.000,   -999.0,9,   -999.0, -999.000,9, -999.000, -999.000,9, -999.000
  49NZ20130106,  S04I,   162,  1,     24, X12J24,2,20130201,0421,-68.0568,  37.9827, 3277,    600.5,2,   0.6261,2,   0.62594,2,  34.6733,2,  34.6733,2,  34.8427,2,   214.88,2,   215.36,2,   99.963,   0.0015,2,    0.000,2,  -999.00,9,    0.000,2,    96.03,2,     0.15,    31.88,2,     0.04,     0.01,2,     0.01,     2.22,2,     0.01,    1.093,6,    0.583,6,    0.086,6,    0.382,6,   2251.2,2,   2348.2,2,   7.5961,       25,2, -999.000,9, -999.000,   -999.0,9,   -999.0, -999.000,9, -999.000, -999.000,9, -999.000
  49NZ20130106,  S04I,   162,  1,     23, X12J23,2,20130201,0421,-68.0568,  37.9827, 3277,    699.3,2,   0.6019,2,   0.60186,2,  34.6787,2,  34.6786,2,  34.8507,2,   213.64,2,   214.10,2,   99.957,   0.0017,2,    0.000,2,  -999.00,9,    0.000,2,    99.85,2,     0.15,    31.96,2,     0.04,     0.01,2,     0.01,     2.23,2,     0.01,    0.951,2,    0.504,2,    0.072,2,    0.294,2,   2252.8,6,   2349.4,2,   7.5953,       25,2, -999.000,9, -999.000,   -999.0,9,   -999.0, -999.000,9, -999.000, -999.000,9, -999.000
  49NZ20130106,  S04I,   162,  1,     22, X12J22,2,20130201,0421,-68.0568,  37.9827, 3277,    801.5,2,   0.5249,2,   0.52502,2,  34.6763,2,  34.6767,2,  34.8480,2,   214.98,2,   215.42,2,   99.942,   0.0023,2,    0.000,2,  -999.00,9,    0.000,2,   102.10,2,     0.15,    32.09,2,     0.04,     0.01,2,     0.01,     2.24,2,     0.01,    0.941,2,    0.503,2,    0.074,2,    0.310,2,   2252.3,2,   2349.8,6,   7.5945,       25,2, -999.000,9, -999.000,   -999.0,9,   -999.0, -999.000,9, -999.000, -999.000,9, -999.000
  49NZ20130106,  S04I,   162,  1,     21, X12J21,2,20130201,0421,-68.0568,  37.9827, 3277,    900.0,2,   0.5015,2,   0.50142,2,  34.6801,2,  34.6800,2,  34.8526,2,   213.34,2,   214.04,2,   99.972,   0.0011,2,    0.000,2,  -999.00,9,    0.000,2,   105.83,2,     0.15,    32.27,2,     0.05,     0.01,2,     0.01,     2.25,2,     0.01,    0.820,2,    0.423,2,    0.058,2,    0.239,2,   2253.3,2,   2352.2,2,   7.5946,       25,6, -999.000,9, -999.000,   -999.0,9,   -999.0, -999.000,9, -999.000, -999.000,9, -999.000
  49NZ20130106,  S04I,   162,  1,     20, X12J20,2,20130201,0421,-68.0568,  37.9827, 3277,    999.6,2,   0.4888,2,   0.48857,2,  34.6835,2,  34.6834,2,  34.8553,2,   211.48,2,   212.06,2,   99.963,   0.0015,2,    0.000,2,  -999.00,9,    0.000,2,   109.78,2,     0.16,    32.48,2,     0.05,     0.00,2,     0.01,     2.27,2,     0.01,    0.672,2,    0.345,2,    0.045,2,    0.168,2,   2256.8,2,   2353.1,2,   7.5935,       25,2, -999.000,9, -999.000,   -999.0,9,   -999.0, -999.000,9, -999.000, -999.000,9, -999.000
  49NZ20130106,  S04I,   162,  1,     19, X12J19,2,20130201,0421,-68.0568,  37.9827, 3277,   1250.6,2,   0.3449,2,   0.34482,2,  34.6770,2,  34.6768,2,  34.8487,2,   214.27,2,   215.07,2,   99.984,   0.0006,2,    0.000,2,  -999.00,9,    0.000,2,   113.18,2,     0.16,    32.60,2,     0.05,     0.01,2,     0.01,     2.28,2,     0.01,    0.676,6,    0.350,6,    0.045,6,    0.161,6,   2259.0,2,   2353.1,2,   7.5917,       25,2, -999.000,9, -999.000,   -999.0,9,   -999.0, -999.000,9, -999.000, -999.000,9, -999.000
  49NZ20130106,  S04I,   162,  1,     18, X12J18,2,20130201,0421,-68.0568,  37.9827, 3277,   1500.4,2,   0.2453,2,   0.24526,2,  34.6745,2,  34.6748,2,  34.8467,2,   216.63,2,   217.40,2,   99.995,   0.0002,2,    0.000,2,  -999.00,9,    0.000,2,   116.15,2,     0.16,    32.69,2,     0.05,     0.00,2,     0.01,     2.26,2,     0.01,    0.664,2,    0.334,2,    0.043,2,    0.189,2,   2258.7,2,   2353.4,2,   7.5925,       25,2, -999.000,9, -999.000,   -999.0,9,   -999.0, -999.000,9, -999.000, -999.000,9, -999.000
  49NZ20130106,  S04I,   162,  1,     17, X12J17,2,20130201,0421,-68.0568,  37.9827, 3277,   1752.0,2,   0.1439,2,   0.14401,2,  34.6716,2,  34.6716,2,  34.8388,2,   219.54,2,   220.43,2,   99.995,   0.0002,2,    0.000,2,  -999.00,9,    0.000,2,   118.43,2,     0.17,    32.73,2,     0.05,     0.00,2,     0.01,     2.27,2,     0.01,    0.649,2,    0.332,2,    0.040,2,    0.123,2,   2257.9,2,   2354.0,2,   7.5927,       25,6, -999.000,9, -999.000,   -999.0,9,   -999.0, -999.000,9, -999.000, -999.000,9, -999.000
  49NZ20130106,  S04I,   162,  1,     16, X12J16,2,20130201,0421,-68.0568,  37.9827, 3277,   2000.0,2,   0.0504,2,   0.05039,2,  34.6680,2,  34.6679,2,  34.8427,2,   223.67,2,   224.51,2,   99.989,   0.0004,2,    0.000,2,  -999.00,9,    0.000,2,   118.84,2,     0.17,    32.69,2,     0.05,     0.00,2,     0.01,     2.28,2,     0.01,    0.726,2,    0.388,2,    0.047,2,    0.180,2,   2256.6,2,   2352.8,2,   7.5939,       25,2, -999.000,9, -999.000,   -999.0,9,   -999.0, -999.000,9, -999.000, -999.000,9, -999.000
  49NZ20130106,  S04I,   162,  1,     15, X12J15,2,20130201,0421,-68.0568,  37.9827, 3277,   2251.5,2,  -0.0303,2,  -0.03030,2,  34.6640,2,  34.6639,2,  34.8375,2,   227.84,2,   228.64,2,   99.993,   0.0003,2,    0.000,2,  -999.00,9,    0.000,2,   118.47,2,     0.17,    32.62,2,     0.05,     0.00,2,     0.01,     2.28,2,     0.01,    0.876,2,    0.467,2,    0.060,2,    0.216,2,   2255.5,2,   2352.6,2,   7.5954,       25,2, -999.000,9, -999.000,   -999.0,9,   -999.0, -999.000,9, -999.000, -999.000,9, -999.000
  49NZ20130106,  S04I,   162,  1,     14, X12J14,2,20130201,0421,-68.0568,  37.9827, 3277,   2501.5,2,  -0.0978,2,  -0.09778,2,  34.6599,2,  34.6598,2,  34.8335,2,   232.10,2,   232.83,2,   99.929,   0.0028,2,    0.000,2,  -999.00,9,    0.000,2,   116.90,2,     0.16,    32.51,2,     0.05,     0.00,2,     0.01,     2.27,2,     0.01,    1.094,2,    0.585,2,    0.077,2,    0.317,2,   2255.3,6,   2351.8,2,   7.5960,       25,2, -999.000,9, -999.000,   -999.0,9,   -999.0, -999.000,9, -999.000, -999.000,9, -999.000
  49NZ20130106,  S04I,   162,  1,     13, X12J13,2,20130201,0421,-68.0568,  37.9827, 3277,   2751.4,2,  -0.1188,2,  -0.11880,2,  34.6583,2,  34.6579,2,  34.8329,2,   233.92,2,   234.78,2,   99.944,   0.0022,2,    0.000,2,  -999.00,9,    0.000,2,   116.50,2,     0.16,    32.45,2,     0.05,     0.00,2,     0.01,     2.26,2,     0.01,    1.210,2,    0.628,2,    0.089,2,    0.288,2,   2254.2,2,   2350.8,6,   7.5970,       25,2, -999.000,9, -999.000,   -999.0,9,   -999.0, -999.000,9, -999.000, -999.000,9, -999.000
  49NZ20130106,  S04I,   162,  1,     12, X12J12,2,20130201,0421,-68.0568,  37.9827, 3277,   3001.8,2,  -0.1178,2,  -0.11775,2,  34.6576,2,  34.6576,2,  34.8329,2,   234.58,2,   235.44,2,   99.920,   0.0032,2,    0.000,2,  -999.00,9,    0.000,2,   116.86,2,     0.16,    32.46,2,     0.05,     0.01,2,     0.01,     2.27,2,     0.01,    1.225,2,    0.646,2,    0.086,2,    0.277,2,   2253.6,2,   2351.1,2,   7.5971,       25,6, -999.000,9, -999.000,   -999.0,9,   -999.0, -999.000,9, -999.000, -999.000,9, -999.000
  49NZ20130106,  S04I,   162,  1,     11, X12J11,2,20130201,0421,-68.0568,  37.9827, 3277,   3250.4,2,  -0.1007,2,  -0.10075,2,  34.6574,2,  34.6573,2,  34.8335,2,   234.82,2,   235.66,2,   99.891,   0.0044,2,    0.000,2,  -999.00,9,    0.000,2,   116.80,2,     0.16,    32.46,2,     0.05,     0.01,2,     0.01,     2.27,2,     0.01,    1.250,2,    0.655,2,    0.085,2,    0.292,2,   2254.2,2,   2350.8,2,   7.5977,       25,2, -999.000,9, -999.000,   -999.0,9,   -999.0, -999.000,9, -999.000, -999.000,9, -999.000
  49NZ20130106,  S04I,   162,  1,      2, X12J02,2,20130201,0421,-68.0568,  37.9827, 3277,     16.4,2,  -1.5134,2,  -1.51147,2,  32.9980,2,  33.0071,2,-999.0000,9,   356.30,2,   357.31,2,   92.453,   0.3139,2,    0.340,2,     0.56,2,   65.221,2,    51.00,2,     0.10,    23.58,2,     0.04,     0.16,2,     0.01,     1.69,2,     0.01, -999.000,9, -999.000,9, -999.000,9, -999.000,9,   -999.0,9,   -999.0,9,-999.0000,     -999,9, -999.000,9, -999.000,   -999.0,9,   -999.0, -999.000,9, -999.000, -999.000,9, -999.000
  49NZ20130106,  S04I,   162,  1,      1, X12J01,2,20130201,0421,-68.0568,  37.9827, 3277,   3323.4,2,  -0.1007,2,  -0.10075,2,  34.6572,2,  34.6571,2,  34.8322,2,   235.00,2,   235.86,2,   99.884,   0.0046,2,    0.000,2,  -999.00,9,    0.000,2,   116.93,2,     0.16,    32.46,2,     0.05,     0.00,2,     0.01,     2.27,2,     0.01,    1.256,2,    0.657,2,    0.086,2,    0.309,2,   2254.1,2,   2351.1,2,   7.5976,       25,2, -999.000,9, -999.000,   -999.0,9,   -999.0, -999.000,9, -999.000, -999.000,9, -999.000