BOTTLE,20220819CCHSIOAMB
EXPOCODE,SECT_ID,STNNBR,CASTNO,SAMPNO,BTLNBR,BTLNBR_FLAG_W,DATE,TIME,LATITUDE,LONGITUDE,DEPTH,CTDPRS,CTDPRS_FLAG_W,CTDTMP,CTDTMP_FLAG_W,SBE35,SBE35_FLAG_W,CTDSAL,CTDSAL_FLAG_W,SALNTY,SALNTY_FLAG_W,DNSSAL,DNSSAL_FLAG_W,CTDOXY,CTDOXY_FLAG_W,OXYGEN,OXYGEN_FLAG_W,CTDXMISS,CTDXMISSCP,CTDXMISS_FLAG_W,CTDFLUOR,CTDFLUOR_FLAG_W,CHLORA,CHLORA_FLAG_W,PAR,PAR_FLAG_W,SILCAT,SILCAT_FLAG_W,SILUNC,NITRAT,NITRAT_FLAG_W,NRAUNC,NITRIT,NITRIT_FLAG_W,NRIUNC,PHSPHT,PHSPHT_FLAG_W,PHPUNC,CFC-11,CFC-11_FLAG_W,CFC-12,CFC-12_FLAG_W,CFC113,CFC113_FLAG_W,SF6,SF6_FLAG_W,TCARBN,TCARBN_FLAG_W,ALKALI,ALKALI_FLAG_W,PH_TOT,PH_TMP,PH_TOT_FLAG_W,DELC13,DELC13_FLAG_W,C13ERR,DELC14,DELC14_FLAG_W,C14ERR,CS-134,CS-134_FLAG_W,CS134ER,CS-137,CS-137_FLAG_W,CS137ER
,,,,,,,,UTC,DEG,DEG,METERS,DBAR,,ITS-90,,ITS-90,,PSS-78,,PSS-78,,G/KG,,UMOL/KG,,UMOL/KG,,%TRANS,/METER,,MG/M^3,,MG/CUM,,UE/SQM/S,,UMOL/KG,,UMOL/KG,UMOL/KG,,UMOL/KG,UMOL/KG,,UMOL/KG,UMOL/KG,,UMOL/KG,PMOL/KG,,PMOL/KG,,PMOL/KG,,FMOL/KG,,UMOL/KG,,UMOL/KG,,,DEG C,,/MILLE,,/MILLE,/MILLE,,/MILLE,MBQ/KG,,MBQ/KG,MBQ/KG,,MBQ/KG
  49NZ20130106,  S04I,   128,  1,     36, X12J36,2,20130123,0803,-63.5062,  59.4473, 4294,      5.9,2,   0.3404,2,   0.34050,2,  33.7691,2,  33.7696,2,  33.9359,2,   342.99,2,   342.73,2,   97.726,   0.0920,2,    0.040,2,  -999.00,9,  302.584,2,    39.14,2,     0.09,    25.62,2,     0.04,     0.24,2,     0.01,     1.76,2,     0.01,    5.822,2,    3.242,2,    0.551,2,    2.986,2,   2165.1,2,   2287.9,2,   7.6740,       25,2, -999.000,1, -999.000,   -999.0,1,   -999.0, -999.000,9, -999.000, -999.000,9, -999.000
  49NZ20130106,  S04I,   128,  1,     35, X12J35,2,20130123,0803,-63.5062,  59.4473, 4294,     25.4,2,   0.1435,2,   0.14324,2,  33.7662,2,  33.7667,2,  33.9246,3,   342.97,2,   342.71,2,   97.686,   0.0936,2,    0.100,2,  -999.00,9,   90.673,2,    40.60,2,     0.10,    25.89,2,     0.04,     0.22,2,     0.01,     1.79,2,     0.01,    5.808,2,    3.241,2,    0.553,2,    3.069,2,   2166.2,2,   2287.9,2,   7.6719,       25,2, -999.000,1, -999.000,   -999.0,1,   -999.0, -999.000,9, -999.000, -999.000,9, -999.000
  49NZ20130106,  S04I,   128,  1,     34, X12J34,2,20130123,0803,-63.5062,  59.4473, 4294,     50.4,2,  -0.5177,2,  -0.48761,2,  33.8528,2,  33.8155,2,  33.9820,2,   341.84,2,   340.73,2,   97.293,   0.1098,2,    0.270,2,  -999.00,9,   36.989,2,    43.38,2,     0.10,    26.45,2,     0.04,     0.19,2,     0.01,     1.85,2,     0.01,    5.714,6,    3.192,6,    0.543,6,    2.964,6,   2172.2,2,   2290.6,2,   7.6625,       25,2, -999.000,1, -999.000,   -999.0,1,   -999.0, -999.000,9, -999.000, -999.000,9, -999.000
  49NZ20130106,  S04I,   128,  1,     33, X12J33,2,20130123,0803,-63.5062,  59.4473, 4294,     76.1,2,   0.9097,2,   0.88502,2,  34.4307,2,  34.4256,2,  34.5900,3,   212.37,2,   214.83,2,   98.395,   0.0647,2,    0.360,2,  -999.00,9,   11.613,2,    72.07,2,     0.12,    33.41,2,     0.05,     0.07,2,     0.01,     2.33,2,     0.01,    2.385,2,    1.285,2,    0.206,2,    0.974,2,   2243.9,6,   2325.3,2,   7.5556,       25,2, -999.000,1, -999.000,   -999.0,1,   -999.0, -999.000,9, -999.000, -999.000,9, -999.000
  49NZ20130106,  S04I,   128,  1,     32, X12J32,2,20130123,0803,-63.5062,  59.4473, 4294,     99.5,2,   1.3616,2,   1.36264,2,  34.5227,2,  34.5201,2,  34.6836,3,   189.34,2,   189.83,2,   99.256,   0.0299,2,    0.210,2,  -999.00,9,    3.953,2,    79.02,2,     0.13,    34.65,2,     0.05,     0.06,2,     0.01,     2.40,2,     0.01,    1.662,2,    0.886,2,    0.140,2,    0.657,2,   2258.4,2,   2331.1,6,   7.5348,       25,2, -999.000,1, -999.000,   -999.0,1,   -999.0, -999.000,9, -999.000, -999.000,9, -999.000
  49NZ20130106,  S04I,   128,  1,     31, X12J31,2,20130123,0803,-63.5062,  59.4473, 4294,    125.7,2,   1.5374,2,   1.53626,2,  34.5723,2,  34.5710,2,  34.7357,3,   182.42,2,   182.65,2,   99.575,   0.0170,2,    0.080,2,  -999.00,9,    1.396,2,    81.83,2,     0.13,    34.64,2,     0.05,     0.02,2,     0.01,     2.40,2,     0.01,    1.298,2,    0.681,2,    0.107,2,    0.383,2,   2259.9,2,   2333.3,2,   7.5369,       25,2, -999.000,1, -999.000,   -999.0,1,   -999.0, -999.000,9, -999.000, -999.000,9, -999.000
  49NZ20130106,  S04I,   128,  1,     30, X12J30,2,20130123,0803,-63.5062,  59.4473, 4294,    151.5,2,   1.6225,2,   1.62207,2,  34.6050,2,  34.6037,2,  34.7699,3,   179.69,2,   179.85,2,   99.730,   0.0108,2,    0.010,2,  -999.00,9,    0.564,2,    83.29,2,     0.13,    34.41,2,     0.05,     0.01,2,     0.01,     2.38,2,     0.01,    1.068,2,    0.566,2,    0.090,2,    0.403,2,   2260.0,2,   2336.9,2,   7.5419,       25,6, -999.000,1, -999.000,   -999.0,1,   -999.0, -999.000,9, -999.000, -999.000,9, -999.000
  49NZ20130106,  S04I,   128,  1,     29, X12J29,2,20130123,0803,-63.5062,  59.4473, 4294,    200.1,2,   1.6577,2,   1.65757,2,  34.6389,2,  34.6385,2,  34.8042,3,   179.85,2,   179.88,2,   99.779,   0.0088,2,    0.000,2,  -999.00,9,    0.092,2,    84.83,2,     0.13,    33.87,2,     0.05,     0.01,2,     0.01,     2.34,2,     0.01,    0.859,2,    0.448,2,    0.071,2,    0.295,2,   2259.8,2,   2342.0,3,   7.5514,       25,2, -999.000,1, -999.000,   -999.0,1,   -999.0, -999.000,9, -999.000, -999.000,9, -999.000
  49NZ20130106,  S04I,   128,  1,     28, X12J28,2,20130123,0803,-63.5062,  59.4473, 4294,    249.7,2,   1.6688,2,   1.66921,2,  34.6615,2,  34.6611,2,  34.8260,3,   181.11,2,   180.96,2,   99.806,   0.0078,2,    0.000,2,  -999.00,9,    0.000,2,    86.01,2,     0.14,    33.39,2,     0.05,     0.01,2,     0.01,     2.31,2,     0.01,    0.747,2,    0.379,2,    0.051,2,    0.247,2,   2259.1,2,   2343.2,2,   7.5586,       25,2, -999.000,1, -999.000,   -999.0,1,   -999.0, -999.000,9, -999.000, -999.000,9, -999.000
  49NZ20130106,  S04I,   128,  1,     27, X12J27,2,20130123,0803,-63.5062,  59.4473, 4294,    280.4,2,   1.6746,2,   1.67429,2,  34.6731,2,  34.6728,2,  34.8385,3,   182.22,2,   182.19,2,   99.842,   0.0063,2,    0.000,2,  -999.00,9,    0.000,2,    86.10,2,     0.14,    33.07,2,     0.05,     0.00,2,     0.01,     2.29,2,     0.01,    0.684,2,    0.348,2,    0.044,2,    0.170,2,   2257.2,2,   2343.0,2,   7.5635,       25,2, -999.000,1, -999.000,   -999.0,1,   -999.0, -999.000,9, -999.000, -999.000,9, -999.000
  49NZ20130106,  S04I,   128,  1,     26, X12J26,2,20130123,0803,-63.5062,  59.4473, 4294,    370.9,2,   1.6458,2,   1.64558,2,  34.6975,2,  34.6977,2,  34.8642,3,   186.23,2,   186.23,2,   99.893,   0.0043,2,    0.000,2,  -999.00,9,    0.000,2,    87.25,2,     0.14,    32.37,2,     0.05,     0.00,2,     0.01,     2.25,2,     0.01,    0.563,2,    0.278,2,    0.037,2,    0.111,2,   2255.3,2,   2345.5,2,   7.5768,       25,2, -999.000,1, -999.000,   -999.0,1,   -999.0, -999.000,9, -999.000, -999.000,9, -999.000
  49NZ20130106,  S04I,   128,  1,     25, X12J25,2,20130123,0803,-63.5062,  59.4473, 4294,    471.7,2,   1.6071,2,   1.60653,2,  34.7152,2,  34.7148,2,  34.8886,2,   190.31,2,   190.21,2,   99.942,   0.0023,2,    0.000,2,  -999.00,9,    0.000,2,    88.33,2,     0.14,    31.80,2,     0.04,     0.00,2,     0.01,     2.18,2,     0.01,    0.461,2,    0.226,2,    0.025,2,    0.137,2,   2253.1,2,   2346.6,2,   7.5867,       25,2, -999.000,1, -999.000,   -999.0,1,   -999.0, -999.000,9, -999.000, -999.000,9, -999.000
  49NZ20130106,  S04I,   128,  1,     24, X12J24,2,20130123,0803,-63.5062,  59.4473, 4294,    572.2,2,   1.5656,2,   1.56546,2,  34.7260,2,  34.7261,2,  34.8926,3,   193.52,2,   193.57,2,   99.944,   0.0022,2,    0.000,2,  -999.00,9,    0.000,2,    89.16,2,     0.14,    31.34,2,     0.04,     0.00,2,     0.01,     2.17,2,     0.01,    0.396,6,    0.189,6,    0.025,6,    0.131,6,   2253.0,2,   2348.1,2,   7.5947,       25,2, -999.000,1, -999.000,   -999.0,1,   -999.0, -999.000,9, -999.000, -999.000,9, -999.000
  49NZ20130106,  S04I,   128,  1,     23, X12J23,2,20130123,0803,-63.5062,  59.4473, 4294,    670.6,2,   1.4575,2,   1.45750,2,  34.7278,2,  34.7280,2,  34.8932,3,   196.45,2,   196.39,2,   99.942,   0.0023,2,    0.000,2,  -999.00,9,    0.000,2,    91.73,2,     0.14,    31.24,2,     0.04,     0.00,2,     0.01,     2.16,2,     0.01,    0.381,2,    0.173,2,    0.022,2,    0.099,2,   2251.9,6,   2349.4,2,   7.5989,       25,2, -999.000,1, -999.000,   -999.0,1,   -999.0, -999.000,9, -999.000, -999.000,9, -999.000
  49NZ20130106,  S04I,   128,  1,     22, X12J22,2,20130123,0803,-63.5062,  59.4473, 4294,    771.3,2,   1.3464,2,   1.34663,2,  34.7273,2,  34.7276,2,  34.8939,3,   198.74,2,   198.75,2,   99.953,   0.0019,2,    0.000,2,  -999.00,9,    0.000,2,    94.40,2,     0.14,    31.28,2,     0.04,     0.01,2,     0.01,     2.16,2,     0.01,    0.357,2,    0.169,2,    0.015,2,    0.083,2,   2251.5,2,   2350.9,6,   7.6013,       25,2, -999.000,1, -999.000,   -999.0,1,   -999.0, -999.000,9, -999.000, -999.000,9, -999.000
  49NZ20130106,  S04I,   128,  1,     21, X12J21,2,20130123,0803,-63.5062,  59.4473, 4294,    869.8,2,   1.2384,2,   1.23840,2,  34.7241,2,  34.7245,2,  34.9005,2,   200.23,2,   200.24,2,   99.961,   0.0016,2,   -0.000,2,  -999.00,9,    0.000,2,    97.40,2,     0.15,    31.39,2,     0.04,     0.00,2,     0.01,     2.17,2,     0.01,    0.354,2,    0.167,2,    0.016,2,    0.088,2,   2252.5,2,   2352.1,2,   7.6013,       25,6, -999.000,1, -999.000,   -999.0,1,   -999.0, -999.000,9, -999.000, -999.000,9, -999.000
  49NZ20130106,  S04I,   128,  1,     20, X12J20,2,20130123,0803,-63.5062,  59.4473, 4294,    960.8,2,   1.1204,2,   1.12030,2,  34.7186,2,  34.7187,2,  34.8840,3,   201.43,2,   201.39,2,   99.961,   0.0016,2,   -0.000,2,  -999.00,9,    0.000,2,   100.33,2,     0.15,    31.58,2,     0.04,     0.00,2,     0.01,     2.18,2,     0.01,    0.373,2,    0.176,2,    0.013,2,    0.120,2,   2253.5,2,   2353.2,2,   7.5994,       25,2, -999.000,1, -999.000,   -999.0,1,   -999.0, -999.000,9, -999.000, -999.000,9, -999.000
  49NZ20130106,  S04I,   128,  1,     19, X12J19,2,20130123,0803,-63.5062,  59.4473, 4294,   1171.1,2,   0.9555,2,   0.95541,2,  34.7136,2,  34.7140,2,  34.8807,3,   203.67,2,   203.67,2,   99.965,   0.0014,2,   -0.000,2,  -999.00,9,    0.000,2,   104.95,2,     0.15,    31.79,2,     0.04,     0.00,2,     0.01,     2.20,2,     0.01,    0.342,6,    0.159,6,    0.011,6,    0.083,6,   2255.8,2,   2354.8,2,   7.5998,       25,2, -999.000,1, -999.000,   -999.0,1,   -999.0, -999.000,9, -999.000, -999.000,9, -999.000
  49NZ20130106,  S04I,   128,  1,     18, X12J18,2,20130123,0803,-63.5062,  59.4473, 4294,   1420.0,2,   0.7495,2,   0.74960,2,  34.7020,2,  34.7023,2,  34.8682,3,   204.96,2,   204.86,2,   99.963,   0.0015,2,    0.000,2,  -999.00,9,    0.000,2,   110.64,2,     0.16,    32.31,2,     0.05,     0.00,2,     0.01,     2.24,2,     0.01,    0.375,2,    0.174,2,    0.013,2,    0.050,2,   2258.8,2,   2355.6,2,   7.5944,       25,2, -999.000,1, -999.000,   -999.0,1,   -999.0, -999.000,9, -999.000, -999.000,9, -999.000
  49NZ20130106,  S04I,   128,  1,     17, X12J17,2,20130123,0803,-63.5062,  59.4473, 4294,   1671.7,2,   0.5948,2,   0.59482,2,  34.6940,2,  34.6943,2,  34.8603,3,   206.08,2,   206.15,2,   99.961,   0.0016,2,   -0.000,2,  -999.00,9,    0.000,2,   115.12,2,     0.32,    32.65,2,     0.05,     0.00,2,     0.01,     2.26,2,     0.01,    0.371,2,    0.170,2,    0.011,2,    0.090,2,   2260.7,2,   2355.7,2,   7.5897,       25,6, -999.000,1, -999.000,   -999.0,1,   -999.0, -999.000,9, -999.000, -999.000,9, -999.000
  49NZ20130106,  S04I,   128,  1,     16, X12J16,2,20130123,0803,-63.5062,  59.4473, 4294,   1921.3,2,   0.4798,2,   0.47982,2,  34.6890,2,  34.6897,2,  34.8556,3,   208.55,2,   208.61,2,   99.970,   0.0012,2,   -0.000,2,  -999.00,9,    0.000,2,   118.92,2,     0.17,    32.83,2,     0.05,     0.00,2,     0.01,     2.27,2,     0.01,    0.343,2,    0.155,2,    0.010,2,    0.051,2,   2261.7,2,   2356.1,2,   7.5891,       25,2, -999.000,1, -999.000,   -999.0,1,   -999.0, -999.000,9, -999.000, -999.000,9, -999.000
  49NZ20130106,  S04I,   128,  1,     15, X12J15,2,20130123,0803,-63.5062,  59.4473, 4294,   2172.5,2,   0.3785,2,   0.37882,2,  34.6838,2,  34.6842,2,  34.8563,2,   210.80,2,   210.93,2,   99.972,   0.0011,2,   -0.000,2,  -999.00,9,    0.000,2,   121.35,2,     0.17,    32.93,2,     0.05,     0.00,2,     0.01,     2.27,2,     0.01,    0.347,2,    0.156,2,    0.013,2,    0.059,2,   2260.6,2,   2355.9,2,   7.5882,       25,2, -999.000,1, -999.000,   -999.0,1,   -999.0, -999.000,9, -999.000, -999.000,9, -999.000
  49NZ20130106,  S04I,   128,  1,     14, X12J14,2,20130123,0803,-63.5062,  59.4473, 4294,   2419.1,2,   0.2754,2,   0.27545,2,  34.6785,2,  34.6786,2,  34.8541,2,   214.65,2,   214.87,2,   99.967,   0.0013,2,   -0.000,2,  -999.00,9,    0.000,2,   122.71,2,     0.17,    32.94,2,     0.05,     0.00,2,     0.01,     2.28,2,     0.01,    0.365,2,    0.163,2,    0.014,2,    0.047,2,   2259.9,6,   2355.4,2,   7.5902,       25,2, -999.000,1, -999.000,   -999.0,1,   -999.0, -999.000,9, -999.000, -999.000,9, -999.000
  49NZ20130106,  S04I,   128,  1,     13, X12J13,2,20130123,0803,-63.5062,  59.4473, 4294,   2670.8,2,   0.1852,2,   0.18516,2,  34.6744,2,  34.6743,2,  34.8494,2,   218.10,2,   218.24,2,   99.967,   0.0013,2,   -0.000,2,  -999.00,9,    0.000,2,   124.21,2,     0.17,    32.92,2,     0.05,     0.00,2,     0.01,     2.28,2,     0.01,    0.356,2,    0.162,2,    0.012,2,    0.023,2,   2258.6,2,   2354.6,6,   7.5911,       25,2, -999.000,1, -999.000,   -999.0,1,   -999.0, -999.000,9, -999.000, -999.000,9, -999.000
  49NZ20130106,  S04I,   128,  1,     12, X12J12,2,20130123,0803,-63.5062,  59.4473, 4294,   2920.3,2,   0.1008,2,   0.10081,2,  34.6703,2,  34.6704,2,  34.8438,2,   222.14,2,   222.11,2,   99.965,   0.0014,2,   -0.000,2,  -999.00,9,    0.000,2,   125.07,2,     0.17,    32.90,2,     0.05,     0.00,2,     0.01,     2.28,2,     0.01,    0.390,2,    0.182,2,    0.015,2,    0.053,2,   2257.5,2,   2353.8,2,   7.5947,       25,6, -999.000,1, -999.000,   -999.0,1,   -999.0, -999.000,9, -999.000, -999.000,9, -999.000
  49NZ20130106,  S04I,   128,  1,     11, X12J11,2,20130123,0803,-63.5062,  59.4473, 4294,   3171.4,2,   0.0297,2,   0.02964,2,  34.6674,2,  34.6674,2,  34.8464,2,   225.19,2,   225.32,2,   99.959,   0.0016,2,   -0.010,2,  -999.00,9,    0.000,2,   126.84,2,     0.17,    32.84,2,     0.05,     0.00,2,     0.01,     2.29,2,     0.01,    0.353,2,    0.162,2,    0.012,2,    0.045,2,   2256.4,2,   2354.8,2,   7.5930,       25,2, -999.000,1, -999.000,   -999.0,1,   -999.0, -999.000,9, -999.000, -999.000,9, -999.000
  49NZ20130106,  S04I,   128,  1,     10, X12J10,2,20130123,0803,-63.5062,  59.4473, 4294,   3420.5,2,  -0.0451,2,  -0.04502,2,  34.6631,2,  34.6629,2,  34.8392,2,   229.93,2,   229.90,2,   99.942,   0.0023,2,   -0.010,2,  -999.00,9,    0.000,2,   125.08,2,     0.17,    32.72,2,     0.05,     0.00,2,     0.01,     2.28,2,     0.01,    0.572,2,    0.280,2,    0.025,2,    0.142,2,   2255.3,2,   2353.6,2,   7.5956,       25,2, -999.000,1, -999.000,   -999.0,1,   -999.0, -999.000,9, -999.000, -999.000,9, -999.000
  49NZ20130106,  S04I,   128,  1,      9, X12J09,2,20130123,0803,-63.5062,  59.4473, 4294,   3669.2,2,  -0.1209,2,  -0.12088,2,  34.6579,2,  34.6576,2,  34.8332,2,   235.04,2,   235.27,2,   99.938,   0.0025,2,   -0.010,2,  -999.00,9,    0.000,2,   123.41,2,     0.17,    32.57,2,     0.05,     0.00,2,     0.01,     2.26,2,     0.01,    0.818,2,    0.424,2,    0.056,2,    0.300,2,   2255.6,2,   2352.6,2,   7.5987,       25,2, -999.000,1, -999.000,   -999.0,1,   -999.0, -999.000,9, -999.000, -999.000,9, -999.000
  49NZ20130106,  S04I,   128,  1,      8, X12J08,2,20130123,0803,-63.5062,  59.4473, 4294,   3921.4,2,  -0.1840,2,  -0.18402,2,  34.6550,2,  34.6554,2,  34.8312,2,   239.59,2,   239.44,2,   99.891,   0.0044,2,   -0.010,2,  -999.00,9,    0.000,2,   123.18,2,     0.17,    32.41,2,     0.05,     0.00,2,     0.01,     2.26,2,     0.01,    0.972,6,    0.511,6,    0.072,6,    0.308,6,   2252.9,2,   2353.6,2,   7.6000,       25,2, -999.000,1, -999.000,   -999.0,1,   -999.0, -999.000,9, -999.000, -999.000,9, -999.000
  49NZ20130106,  S04I,   128,  1,      7, X12J07,2,20130123,0803,-63.5062,  59.4473, 4294,   4171.1,2,  -0.2526,2,  -0.25272,2,  34.6508,2,  34.6510,2,  34.8273,2,   244.85,2,   244.71,2,   99.863,   0.0055,2,   -0.010,2,  -999.00,9,    0.000,2,   121.64,2,     0.17,    32.27,2,     0.05,     0.00,2,     0.01,     2.25,2,     0.01,    1.270,2,    0.678,2,    0.103,2,    0.421,2,   2251.1,6,   2350.7,2,   7.6013,       25,2, -999.000,1, -999.000,   -999.0,1,   -999.0, -999.000,9, -999.000, -999.000,9, -999.000
  49NZ20130106,  S04I,   128,  1,      1, X12J01,2,20130123,0803,-63.5062,  59.4473, 4294,   4364.9,2,  -0.3963,2,  -0.39647,2,  34.6457,2,  34.6456,2,  34.8207,2,   260.43,2,   260.30,2,   99.655,   0.0138,2,   -0.010,2,  -999.00,9,    0.000,2,    95.85,2,     0.14,    31.51,2,     0.04,     0.01,2,     0.01,     2.20,2,     0.01,    2.802,2,    1.508,2,    0.246,2,    1.160,2,   2248.0,2,   2346.1,2,   7.6005,       25,2, -999.000,1, -999.000,   -999.0,1,   -999.0, -999.000,9, -999.000, -999.000,9, -999.000