BOTTLE,20220819CCHSIOAMB
EXPOCODE,SECT_ID,STNNBR,CASTNO,SAMPNO,BTLNBR,BTLNBR_FLAG_W,DATE,TIME,LATITUDE,LONGITUDE,DEPTH,CTDPRS,CTDPRS_FLAG_W,CTDTMP,CTDTMP_FLAG_W,SBE35,SBE35_FLAG_W,CTDSAL,CTDSAL_FLAG_W,SALNTY,SALNTY_FLAG_W,DNSSAL,DNSSAL_FLAG_W,CTDOXY,CTDOXY_FLAG_W,OXYGEN,OXYGEN_FLAG_W,CTDXMISS,CTDXMISSCP,CTDXMISS_FLAG_W,CTDFLUOR,CTDFLUOR_FLAG_W,CHLORA,CHLORA_FLAG_W,PAR,PAR_FLAG_W,SILCAT,SILCAT_FLAG_W,SILUNC,NITRAT,NITRAT_FLAG_W,NRAUNC,NITRIT,NITRIT_FLAG_W,NRIUNC,PHSPHT,PHSPHT_FLAG_W,PHPUNC,CFC-11,CFC-11_FLAG_W,CFC-12,CFC-12_FLAG_W,CFC113,CFC113_FLAG_W,SF6,SF6_FLAG_W,TCARBN,TCARBN_FLAG_W,ALKALI,ALKALI_FLAG_W,PH_TOT,PH_TMP,PH_TOT_FLAG_W,DELC13,DELC13_FLAG_W,C13ERR,DELC14,DELC14_FLAG_W,C14ERR,CS-134,CS-134_FLAG_W,CS134ER,CS-137,CS-137_FLAG_W,CS137ER
,,,,,,,,UTC,DEG,DEG,METERS,DBAR,,ITS-90,,ITS-90,,PSS-78,,PSS-78,,G/KG,,UMOL/KG,,UMOL/KG,,%TRANS,/METER,,MG/M^3,,MG/CUM,,UE/SQM/S,,UMOL/KG,,UMOL/KG,UMOL/KG,,UMOL/KG,UMOL/KG,,UMOL/KG,UMOL/KG,,UMOL/KG,PMOL/KG,,PMOL/KG,,PMOL/KG,,FMOL/KG,,UMOL/KG,,UMOL/KG,,,DEG C,,/MILLE,,/MILLE,/MILLE,,/MILLE,MBQ/KG,,MBQ/KG,MBQ/KG,,MBQ/KG
  49NZ20130106,  S04I,   147,  1,     36, X12J36,2,20130128,1906,-63.9828,  44.8435, 4451,      5.2,2,   1.1261,2,   1.12958,2,  33.8866,2,  33.8857,2,-999.0000,9,   338.03,2,   337.57,2,   98.138,   0.0752,2,    0.210,2,  -999.00,9,    0.970,2,    48.75,2,     0.10,    26.25,2,     0.04,     0.27,2,     0.01,     1.82,2,     0.01,    5.762,2,    3.113,2,    0.574,2, -999.000,9,   -999.0,9,   -999.0,9,-999.0000,     -999,9, -999.000,9, -999.000,   -999.0,9,   -999.0, -999.000,9, -999.000, -999.000,9, -999.000
  49NZ20130106,  S04I,   147,  1,     35, X12J35,2,20130128,1906,-63.9828,  44.8435, 4451,     25.7,2,   0.7191,2,   0.71757,2,  33.8864,2,  33.8868,2,-999.0000,9,   340.31,2,   340.01,2,   97.893,   0.0852,2,    0.240,2,  -999.00,9,    0.000,2,    48.50,2,     0.10,    26.34,2,     0.04,     0.24,2,     0.01,     1.84,2,     0.01,    5.817,2,    3.146,2,    0.569,2, -999.000,9,   -999.0,9,   -999.0,9,-999.0000,     -999,9, -999.000,9, -999.000,   -999.0,9,   -999.0, -999.000,9, -999.000, -999.000,9, -999.000
  49NZ20130106,  S04I,   147,  1,     34, X12J34,2,20130128,1906,-63.9828,  44.8435, 4451,     50.0,2,  -0.6640,2,  -0.67690,2,  33.9743,2,  34.0006,2,-999.0000,9,   338.03,2,   333.61,2,   97.906,   0.0846,2,    0.260,2,  -999.00,9,    0.000,2,    47.80,2,     0.10,    26.54,2,     0.04,     0.17,2,     0.01,     1.85,2,     0.01,    5.457,6,    2.928,6,    0.534,6, -999.000,9,   -999.0,9,   -999.0,9,-999.0000,     -999,9, -999.000,9, -999.000,   -999.0,9,   -999.0, -999.000,9, -999.000, -999.000,9, -999.000
  49NZ20130106,  S04I,   147,  1,     33, X12J33,2,20130128,1906,-63.9828,  44.8435, 4451,     74.8,2,  -0.2124,2,  -0.20967,2,  34.3250,2,  34.3196,2,-999.0000,9,   259.19,2,   262.08,2,   98.102,   0.0766,2,    0.360,2,  -999.00,9,    0.000,2,    63.76,2,     0.12,    30.66,2,     0.04,     0.09,2,     0.01,     2.14,2,     0.01,    3.554,2,    1.900,2,    0.343,2, -999.000,9,   -999.0,9,   -999.0,9,-999.0000,     -999,9, -999.000,9, -999.000,   -999.0,9,   -999.0, -999.000,9, -999.000, -999.000,9, -999.000
  49NZ20130106,  S04I,   147,  1,     32, X12J32,2,20130128,1906,-63.9828,  44.8435, 4451,    100.6,2,   1.2066,2,   1.20648,2,  34.5434,2,  34.5411,2,-999.0000,9,   193.42,2,   193.72,2,   98.952,   0.0421,2,    0.280,2,  -999.00,9,    0.000,2,    81.75,2,     0.13,    34.27,2,     0.05,     0.05,2,     0.01,     2.38,2,     0.01,    1.638,2,    0.863,2,    0.148,2, -999.000,9,   -999.0,9,   -999.0,9,-999.0000,     -999,9, -999.000,9, -999.000,   -999.0,9,   -999.0, -999.000,9, -999.000, -999.000,9, -999.000
  49NZ20130106,  S04I,   147,  1,     31, X12J31,2,20130128,1906,-63.9828,  44.8435, 4451,    124.9,2,   1.4204,2,   1.42002,2,  34.5922,2,  34.5916,2,-999.0000,9,   185.23,2,   185.01,2,   99.605,   0.0158,2,    0.110,2,  -999.00,9,    0.000,2,    84.49,2,     0.13,    34.33,2,     0.05,     0.05,2,     0.01,     2.37,2,     0.01,    1.245,2,    0.653,2,    0.099,2, -999.000,9,   -999.0,9,   -999.0,9,-999.0000,     -999,9, -999.000,9, -999.000,   -999.0,9,   -999.0, -999.000,9, -999.000, -999.000,9, -999.000
  49NZ20130106,  S04I,   147,  1,     30, X12J30,2,20130128,1906,-63.9828,  44.8435, 4451,    149.6,2,   1.4579,2,   1.45804,2,  34.6216,2,  34.6206,2,-999.0000,9,   183.92,2,   183.72,2,   99.786,   0.0086,2,    0.040,2,  -999.00,9,    0.000,2,    86.21,2,     0.14,    34.03,2,     0.05,     0.02,2,     0.01,     2.35,2,     0.01,    1.061,2,    0.551,2,    0.089,2, -999.000,9,   -999.0,9,   -999.0,9,-999.0000,     -999,9, -999.000,9, -999.000,   -999.0,9,   -999.0, -999.000,9, -999.000, -999.000,9, -999.000
  49NZ20130106,  S04I,   147,  1,     29, X12J29,2,20130128,1906,-63.9828,  44.8435, 4451,    201.6,2,   1.5128,2,   1.51243,2,  34.6548,2,  34.6540,2,-999.0000,9,   183.46,2,   183.05,2,   99.848,   0.0061,2,    0.010,2,  -999.00,9,    0.000,2,    88.00,2,     0.14,    33.53,2,     0.05,     0.01,2,     0.01,     2.32,2,     0.01,    0.838,2,    0.435,2,    0.074,2, -999.000,9,   -999.0,9,   -999.0,9,-999.0000,     -999,9, -999.000,9, -999.000,   -999.0,9,   -999.0, -999.000,9, -999.000, -999.000,9, -999.000
  49NZ20130106,  S04I,   147,  1,     28, X12J28,2,20130128,1906,-63.9828,  44.8435, 4451,    252.6,2,   1.5251,2,   1.52493,2,  34.6768,2,  34.6760,2,-999.0000,9,   184.97,2,   184.60,2,   99.831,   0.0068,2,    0.010,2,  -999.00,9,    0.000,2,    89.03,2,     0.14,    33.10,2,     0.05,     0.01,2,     0.01,     2.28,2,     0.01,    0.704,2,    0.358,2,    0.066,2, -999.000,9,   -999.0,9,   -999.0,9,-999.0000,     -999,9, -999.000,9, -999.000,   -999.0,9,   -999.0, -999.000,9, -999.000, -999.000,9, -999.000
  49NZ20130106,  S04I,   147,  1,     27, X12J27,2,20130128,1906,-63.9828,  44.8435, 4451,    281.0,2,   1.5298,2,   1.52962,2,  34.6849,2,  34.6841,2,-999.0000,9,   186.28,2,   185.84,2,   99.839,   0.0064,2,    0.010,2,  -999.00,9,    0.000,2,    89.21,2,     0.14,    32.84,2,     0.05,     0.01,2,     0.01,     2.27,2,     0.01,    0.652,2,    0.331,2,    0.054,2, -999.000,9,   -999.0,9,   -999.0,9,-999.0000,     -999,9, -999.000,9, -999.000,   -999.0,9,   -999.0, -999.000,9, -999.000, -999.000,9, -999.000
  49NZ20130106,  S04I,   147,  1,     26, X12J26,2,20130128,1906,-63.9828,  44.8435, 4451,    368.9,2,   1.4839,2,   1.48380,2,  34.7035,2,  34.7029,2,-999.0000,9,   190.11,2,   189.81,2,   99.901,   0.0040,2,    0.000,2,  -999.00,9,    0.000,2,    90.69,2,     0.14,    32.24,2,     0.05,     0.01,2,     0.01,     2.23,2,     0.01,    0.543,2,    0.272,2,    0.041,2, -999.000,9,   -999.0,9,   -999.0,9,-999.0000,     -999,9, -999.000,9, -999.000,   -999.0,9,   -999.0, -999.000,9, -999.000, -999.000,9, -999.000
  49NZ20130106,  S04I,   147,  1,     25, X12J25,2,20130128,1906,-63.9828,  44.8435, 4451,    470.5,2,   1.3954,2,   1.39525,2,  34.7138,2,  34.7129,2,-999.0000,9,   194.11,2,   193.69,2,   99.939,   0.0024,2,    0.000,2,  -999.00,9,    0.000,2,    92.51,2,     0.14,    31.83,2,     0.04,     0.00,2,     0.01,     2.19,2,     0.01,    0.475,2,    0.234,2,    0.040,2, -999.000,9,   -999.0,9,   -999.0,9,-999.0000,     -999,9, -999.000,9, -999.000,   -999.0,9,   -999.0, -999.000,9, -999.000, -999.000,9, -999.000
  49NZ20130106,  S04I,   147,  1,     24, X12J24,2,20130128,1906,-63.9828,  44.8435, 4451,    571.0,2,   1.3016,2,   1.30121,2,  34.7175,2,  34.7168,2,-999.0000,9,   196.79,2,   196.35,2,   99.958,   0.0017,2,    0.000,2,  -999.00,9,    0.000,2,    94.99,2,     0.14,    31.72,2,     0.04,     0.00,2,     0.01,     2.19,2,     0.01,    0.428,6,    0.211,6,    0.032,6, -999.000,9,   -999.0,9,   -999.0,9,-999.0000,     -999,9, -999.000,9, -999.000,   -999.0,9,   -999.0, -999.000,9, -999.000, -999.000,9, -999.000
  49NZ20130106,  S04I,   147,  1,     23, X12J23,2,20130128,1906,-63.9828,  44.8435, 4451,    670.6,2,   1.1918,2,   1.19152,2,  34.7167,2,  34.7166,2,-999.0000,9,   198.70,2,   198.48,2,   99.920,   0.0032,2,    0.000,2,  -999.00,9,    0.000,2,    97.93,2,     0.15,    31.77,2,     0.04,     0.00,2,     0.01,     2.19,2,     0.01,    0.411,2,    0.203,2,    0.033,2, -999.000,9,   -999.0,9,   -999.0,9,-999.0000,     -999,9, -999.000,9, -999.000,   -999.0,9,   -999.0, -999.000,9, -999.000, -999.000,9, -999.000
  49NZ20130106,  S04I,   147,  1,     22, X12J22,2,20130128,1906,-63.9828,  44.8435, 4451,    770.9,2,   1.0813,2,   1.08178,2,  34.7146,2,  34.7141,2,-999.0000,9,   200.67,2,   200.24,2,   99.952,   0.0019,2,    0.000,2,  -999.00,9,    0.000,2,   100.85,2,     0.15,    31.85,2,     0.04,     0.00,2,     0.01,     2.20,2,     0.01,    0.393,2,    0.191,2,    0.029,2, -999.000,9,   -999.0,9,   -999.0,9,-999.0000,     -999,9, -999.000,9, -999.000,   -999.0,9,   -999.0, -999.000,9, -999.000, -999.000,9, -999.000
  49NZ20130106,  S04I,   147,  1,     21, X12J21,2,20130128,1906,-63.9828,  44.8435, 4451,    871.1,2,   0.9738,2,   0.97346,2,  34.7109,2,  34.7111,2,-999.0000,9,   202.18,2,   201.81,2,   99.967,   0.0013,2,    0.000,2,  -999.00,9,    0.000,2,   103.67,2,     0.15,    31.97,2,     0.04,     0.00,2,     0.01,     2.21,2,     0.01,    0.389,2,    0.188,2,    0.026,2, -999.000,9,   -999.0,9,   -999.0,9,-999.0000,     -999,9, -999.000,9, -999.000,   -999.0,9,   -999.0, -999.000,9, -999.000, -999.000,9, -999.000
  49NZ20130106,  S04I,   147,  1,     20, X12J20,2,20130128,1906,-63.9828,  44.8435, 4451,    961.7,2,   0.8926,2,   0.89246,2,  34.7076,2,  34.7070,2,-999.0000,9,   203.19,2,   202.80,2,   99.969,   0.0012,2,   -0.000,2,  -999.00,9,    0.000,2,   105.71,2,     0.15,    32.07,2,     0.04,     0.00,2,     0.01,     2.22,2,     0.01,    0.390,2,    0.186,2,    0.032,2, -999.000,9,   -999.0,9,   -999.0,9,-999.0000,     -999,9, -999.000,9, -999.000,   -999.0,9,   -999.0, -999.000,9, -999.000, -999.000,9, -999.000
  49NZ20130106,  S04I,   147,  1,     19, X12J19,2,20130128,1906,-63.9828,  44.8435, 4451,   1172.4,2,   0.7328,2,   0.73281,2,  34.7008,2,  34.7009,2,-999.0000,9,   204.87,2,   204.48,2,   99.975,   0.0010,2,   -0.000,2,  -999.00,9,    0.000,2,   110.45,2,     0.16,    32.42,2,     0.05,     0.00,2,     0.01,     2.24,2,     0.01,    0.384,6,    0.180,6,    0.024,6, -999.000,9,   -999.0,9,   -999.0,9,-999.0000,     -999,9, -999.000,9, -999.000,   -999.0,9,   -999.0, -999.000,9, -999.000, -999.000,9, -999.000
  49NZ20130106,  S04I,   147,  1,     18, X12J18,2,20130128,1906,-63.9828,  44.8435, 4451,   1422.8,2,   0.5765,2,   0.57651,2,  34.6930,2,  34.6928,2,-999.0000,9,   206.61,2,   206.36,2,   99.973,   0.0011,2,   -0.000,2,  -999.00,9,    0.000,2,   114.69,2,     0.16,    32.73,2,     0.05,     0.00,2,     0.01,     2.26,2,     0.01,    0.384,2,    0.189,2,    0.016,2,    0.101,2,   -999.0,9,   -999.0,9,-999.0000,     -999,9, -999.000,9, -999.000,   -999.0,9,   -999.0, -999.000,9, -999.000, -999.000,9, -999.000
  49NZ20130106,  S04I,   147,  1,     17, X12J17,2,20130128,1906,-63.9828,  44.8435, 4451,   1670.0,2,   0.4503,2,   0.45022,2,  34.6867,2,  34.6861,2,-999.0000,9,   209.30,2,   209.13,2,   99.992,   0.0003,2,   -0.000,2,  -999.00,9,    0.000,2,   117.97,2,     0.16,    32.88,2,     0.05,     0.00,2,     0.01,     2.28,2,     0.01,    0.397,2,    0.195,2,    0.017,2,    0.089,2,   -999.0,9,   -999.0,9,-999.0000,     -999,9, -999.000,9, -999.000,   -999.0,9,   -999.0, -999.000,9, -999.000, -999.000,9, -999.000
  49NZ20130106,  S04I,   147,  1,     16, X12J16,2,20130128,1906,-63.9828,  44.8435, 4451,   1922.9,2,   0.3322,2,   0.33237,2,  34.6808,2,  34.6805,2,-999.0000,9,   212.64,2,   212.50,2,   99.984,   0.0006,2,   -0.000,2,  -999.00,9,    0.000,2,   120.30,2,     0.17,    32.97,2,     0.05,     0.00,2,     0.01,     2.28,2,     0.01,    0.413,2,    0.206,2,    0.017,2,    0.081,2,   -999.0,9,   -999.0,9,-999.0000,     -999,9, -999.000,9, -999.000,   -999.0,9,   -999.0, -999.000,9, -999.000, -999.000,9, -999.000
  49NZ20130106,  S04I,   147,  1,     15, X12J15,2,20130128,1906,-63.9828,  44.8435, 4451,   2170.5,2,   0.1897,2,   0.19060,2,  34.6711,2,  34.6707,2,-999.0000,9,   220.13,2,   219.97,2,   99.975,   0.0010,2,   -0.000,2,  -999.00,9,    0.000,2,   117.98,2,     0.16,    32.77,2,     0.05,     0.00,2,     0.01,     2.27,2,     0.01,    0.681,2,    0.349,2,    0.042,2,    0.209,2,   -999.0,9,   -999.0,9,-999.0000,     -999,9, -999.000,9, -999.000,   -999.0,9,   -999.0, -999.000,9, -999.000, -999.000,9, -999.000
  49NZ20130106,  S04I,   147,  1,     14, X12J14,2,20130128,1906,-63.9828,  44.8435, 4451,   2420.7,2,   0.1389,2,   0.13893,2,  34.6728,2,  34.6726,2,-999.0000,9,   218.85,2,   218.80,2,  100.005,  -0.0002,2,   -0.000,2,  -999.00,9,    0.000,2,   123.98,2,     0.17,    33.00,2,     0.05,     0.00,2,     0.01,     2.27,2,     0.01,    0.380,2,    0.181,2,    0.014,2,    0.063,2,   -999.0,9,   -999.0,9,-999.0000,     -999,9, -999.000,9, -999.000,   -999.0,9,   -999.0, -999.000,9, -999.000, -999.000,9, -999.000
  49NZ20130106,  S04I,   147,  1,     13, X12J13,2,20130128,1906,-63.9828,  44.8435, 4451,   2670.3,2,   0.0338,2,   0.03396,2,  34.6657,2,  34.6654,2,-999.0000,9,   225.48,2,   225.19,2,   99.984,   0.0006,2,   -0.010,2,  -999.00,9,    0.000,2,   121.77,2,     0.17,    32.76,2,     0.05,     0.00,2,     0.01,     2.26,2,     0.01, -999.000,5, -999.000,5, -999.000,5, -999.000,5,   -999.0,9,   -999.0,9,-999.0000,     -999,9, -999.000,9, -999.000,   -999.0,9,   -999.0, -999.000,9, -999.000, -999.000,9, -999.000
  49NZ20130106,  S04I,   147,  1,     12, X12J12,2,20130128,1906,-63.9828,  44.8435, 4451,   2920.1,2,  -0.0490,2,  -0.04893,2,  34.6605,2,  34.6604,2,-999.0000,9,   230.18,2,   229.88,2,   99.977,   0.0009,2,   -0.010,2,  -999.00,9,    0.000,2,   120.91,2,     0.17,    32.68,2,     0.05,     0.00,2,     0.01,     2.26,2,     0.01,    0.816,2,    0.418,2,    0.051,2,    0.240,2,   -999.0,9,   -999.0,9,-999.0000,     -999,9, -999.000,9, -999.000,   -999.0,9,   -999.0, -999.000,9, -999.000, -999.000,9, -999.000
  49NZ20130106,  S04I,   147,  1,     11, X12J11,2,20130128,1906,-63.9828,  44.8435, 4451,   3170.5,2,  -0.0938,2,  -0.09384,2,  34.6605,2,  34.6592,2,-999.0000,9,   231.76,2,   231.53,2,   99.973,   0.0011,2,   -0.010,2,  -999.00,9,    0.000,2,   122.84,2,     0.17,    32.68,2,     0.05,     0.00,2,     0.01,     2.26,2,     0.01,    0.715,2,    0.355,2,    0.039,2,    0.138,2,   -999.0,9,   -999.0,9,-999.0000,     -999,9, -999.000,9, -999.000,   -999.0,9,   -999.0, -999.000,9, -999.000, -999.000,9, -999.000
  49NZ20130106,  S04I,   147,  1,     10, X12J10,2,20130128,1906,-63.9828,  44.8435, 4451,   3419.7,2,  -0.1778,2,  -0.17785,2,  34.6514,2,  34.6506,2,-999.0000,9,   238.46,2,   238.11,2,   99.952,   0.0019,2,   -0.010,2,  -999.00,9,    0.000,2,   119.15,2,     0.17,    32.46,2,     0.05,     0.00,2,     0.01,     2.25,2,     0.01,    1.181,2,    0.605,2,    0.076,2,    0.395,2,   -999.0,9,   -999.0,9,-999.0000,     -999,9, -999.000,9, -999.000,   -999.0,9,   -999.0, -999.000,9, -999.000, -999.000,9, -999.000
  49NZ20130106,  S04I,   147,  1,      9, X12J09,2,20130128,1906,-63.9828,  44.8435, 4451,   3669.1,2,  -0.1924,2,  -0.19232,2,  34.6536,2,  34.6535,2,-999.0000,9,   238.92,2,   238.46,2,   99.946,   0.0022,2,   -0.010,2,  -999.00,9,    0.000,2,   121.95,2,     0.17,    32.56,2,     0.05,     0.00,2,     0.01,     2.26,2,     0.01,    0.942,2,    0.487,2,    0.057,2,    0.286,2,   -999.0,9,   -999.0,9,-999.0000,     -999,9, -999.000,9, -999.000,   -999.0,9,   -999.0, -999.000,9, -999.000, -999.000,9, -999.000
  49NZ20130106,  S04I,   147,  1,      8, X12J08,2,20130128,1906,-63.9828,  44.8435, 4451,   3920.1,2,  -0.2205,2,  -0.22023,2,  34.6532,2,  34.6527,2,-999.0000,9,   241.12,2,   240.84,2,   99.941,   0.0024,2,   -0.010,2,  -999.00,9,    0.000,2,   122.80,2,     0.17,    32.54,2,     0.05,     0.00,2,     0.01,     2.25,2,     0.01,    0.984,6,    0.504,6,    0.065,6,    0.275,6,   -999.0,9,   -999.0,9,-999.0000,     -999,9, -999.000,9, -999.000,   -999.0,9,   -999.0, -999.000,9, -999.000, -999.000,9, -999.000
  49NZ20130106,  S04I,   147,  1,      7, X12J07,2,20130128,1906,-63.9828,  44.8435, 4451,   4168.3,2,  -0.2608,2,  -0.26076,2,  34.6487,2,  34.6485,2,-999.0000,9,   245.32,2,   244.85,2,   99.884,   0.0046,2,   -0.010,2,  -999.00,9,    0.000,2,   121.18,2,     0.17,    32.34,2,     0.05,     0.00,2,     0.01,     2.24,2,     0.01,    1.306,2,    0.667,2,    0.100,2,    0.437,2,   -999.0,9,   -999.0,9,-999.0000,     -999,9, -999.000,9, -999.000,   -999.0,9,   -999.0, -999.000,9, -999.000, -999.000,9, -999.000
  49NZ20130106,  S04I,   147,  1,      6, X12J06,2,20130128,1906,-63.9828,  44.8435, 4451,   4420.6,2,  -0.2693,2,  -0.26935,2,  34.6499,2,  34.6500,2,-999.0000,9,   245.36,2,   244.97,2,   99.871,   0.0052,2,   -0.010,2,  -999.00,9,    0.000,2,   125.41,2,     0.17,    32.46,2,     0.05,     0.00,2,     0.01,     2.26,2,     0.01,    1.109,2,    0.584,2,    0.078,2,    0.406,2,   -999.0,9,   -999.0,9,-999.0000,     -999,9, -999.000,9, -999.000,   -999.0,9,   -999.0, -999.000,9, -999.000, -999.000,9, -999.000
  49NZ20130106,  S04I,   147,  1,      1, X12J01,2,20130128,1906,-63.9828,  44.8435, 4451,   4505.7,2,  -0.2821,2,  -0.28208,2,  34.6497,2,  34.6496,2,-999.0000,9,   244.27,2,   244.05,2,   99.720,   0.0112,2,   -0.010,2,  -999.00,9,    0.000,2,   131.21,2,     0.18,    32.63,2,     0.05,     0.00,2,     0.01,     2.27,2,     0.01,    0.985,2,    0.506,2,    0.065,2,    0.293,2,   -999.0,9,   -999.0,9,-999.0000,     -999,9, -999.000,9, -999.000,   -999.0,9,   -999.0, -999.000,9, -999.000, -999.000,9, -999.000