BOTTLE,20220819CCHSIOAMB
EXPOCODE,SECT_ID,STNNBR,CASTNO,SAMPNO,BTLNBR,BTLNBR_FLAG_W,DATE,TIME,LATITUDE,LONGITUDE,DEPTH,CTDPRS,CTDPRS_FLAG_W,CTDTMP,CTDTMP_FLAG_W,SBE35,SBE35_FLAG_W,CTDSAL,CTDSAL_FLAG_W,SALNTY,SALNTY_FLAG_W,DNSSAL,DNSSAL_FLAG_W,CTDOXY,CTDOXY_FLAG_W,OXYGEN,OXYGEN_FLAG_W,CTDXMISS,CTDXMISSCP,CTDXMISS_FLAG_W,CTDFLUOR,CTDFLUOR_FLAG_W,CHLORA,CHLORA_FLAG_W,PAR,PAR_FLAG_W,SILCAT,SILCAT_FLAG_W,SILUNC,NITRAT,NITRAT_FLAG_W,NRAUNC,NITRIT,NITRIT_FLAG_W,NRIUNC,PHSPHT,PHSPHT_FLAG_W,PHPUNC,CFC-11,CFC-11_FLAG_W,CFC-12,CFC-12_FLAG_W,CFC113,CFC113_FLAG_W,SF6,SF6_FLAG_W,TCARBN,TCARBN_FLAG_W,ALKALI,ALKALI_FLAG_W,PH_TOT,PH_TMP,PH_TOT_FLAG_W,DELC13,DELC13_FLAG_W,C13ERR,DELC14,DELC14_FLAG_W,C14ERR,CS-134,CS-134_FLAG_W,CS134ER,CS-137,CS-137_FLAG_W,CS137ER
,,,,,,,,UTC,DEG,DEG,METERS,DBAR,,ITS-90,,ITS-90,,PSS-78,,PSS-78,,G/KG,,UMOL/KG,,UMOL/KG,,%TRANS,/METER,,MG/M^3,,MG/CUM,,UE/SQM/S,,UMOL/KG,,UMOL/KG,UMOL/KG,,UMOL/KG,UMOL/KG,,UMOL/KG,UMOL/KG,,UMOL/KG,PMOL/KG,,PMOL/KG,,PMOL/KG,,FMOL/KG,,UMOL/KG,,UMOL/KG,,,DEG C,,/MILLE,,/MILLE,/MILLE,,/MILLE,MBQ/KG,,MBQ/KG,MBQ/KG,,MBQ/KG
  49NZ20130106,  S04I,   109,  1,     36, X12J36,2,20130118,0841,-62.2500,  83.2502, 2649,      5.1,2,   1.7490,2,   1.75634,2,  33.7263,2,  33.7267,2,-999.0000,9,   343.63,2,   343.71,2,   93.149,   0.2839,2,    0.200,2,  -999.00,9,  205.884,2,    46.88,2,     0.10,    26.82,2,     0.04,     0.27,2,     0.01,     1.81,2,     0.01,    5.543,2,    3.095,2,    0.538,2, -999.000,9,   -999.0,9,   -999.0,9,-999.0000,     -999,9, -999.000,9, -999.000,   -999.0,9,   -999.0, -999.000,9, -999.000, -999.000,9, -999.000
  49NZ20130106,  S04I,   109,  1,     35, X12J35,2,20130118,0841,-62.2500,  83.2502, 2649,     25.3,2,   1.3916,2,   1.39118,2,  33.7242,2,  33.7243,2,-999.0000,9,   346.11,2,   346.88,2,   92.353,   0.3182,2,    0.670,2,  -999.00,9,   31.785,2,    46.78,2,     0.10,    26.82,2,     0.04,     0.25,2,     0.01,     1.81,2,     0.01,    5.593,2,    3.085,2,    0.544,2, -999.000,9,   -999.0,9,   -999.0,9,-999.0000,     -999,9, -999.000,9, -999.000,   -999.0,9,   -999.0, -999.000,9, -999.000, -999.000,9, -999.000
  49NZ20130106,  S04I,   109,  1,     34, X12J34,2,20130118,0841,-62.2500,  83.2502, 2649,     51.1,2,  -1.0670,2,  -1.06195,2,  33.9381,2,  33.9270,2,-999.0000,9,   337.27,2,   337.91,2,   93.478,   0.2698,2,    1.130,2,  -999.00,9,    4.795,2,    49.18,2,     0.10,    28.68,2,     0.04,     0.14,2,     0.01,     1.96,2,     0.01,    5.006,6,    2.747,6,    0.485,6, -999.000,9,   -999.0,9,   -999.0,9,-999.0000,     -999,9, -999.000,9, -999.000,   -999.0,9,   -999.0, -999.000,9, -999.000, -999.000,9, -999.000
  49NZ20130106,  S04I,   109,  1,     33, X12J33,2,20130118,0841,-62.2500,  83.2502, 2649,     74.9,2,  -1.3108,2,  -1.31122,2,  34.1090,2,  34.1090,2,-999.0000,9,   290.96,2,   291.39,2,   97.555,   0.0990,2,    0.590,2,  -999.00,9,    0.689,2,    56.48,2,     0.11,    31.02,2,     0.04,     0.14,2,     0.01,     2.15,2,     0.01,    4.076,2,    2.226,2,    0.393,2, -999.000,9,   -999.0,9,   -999.0,9,-999.0000,     -999,9, -999.000,9, -999.000,   -999.0,9,   -999.0, -999.000,9, -999.000, -999.000,9, -999.000
  49NZ20130106,  S04I,   109,  1,     32, X12J32,2,20130118,0841,-62.2500,  83.2502, 2649,    100.3,2,  -0.3543,2,  -0.35955,2,  34.2726,2,  34.2708,2,-999.0000,9,   243.68,2,   243.86,2,   99.381,   0.0248,2,    0.170,2,  -999.00,9,    0.137,2,    65.26,2,     0.12,    33.15,2,     0.05,     0.16,2,     0.01,     2.30,2,     0.01,    3.046,2,    1.661,2,    0.286,2, -999.000,9,   -999.0,9,   -999.0,9,-999.0000,     -999,9, -999.000,9, -999.000,   -999.0,9,   -999.0, -999.000,9, -999.000, -999.000,9, -999.000
  49NZ20130106,  S04I,   109,  1,     31, X12J31,2,20130118,0841,-62.2500,  83.2502, 2649,    126.0,2,   0.6484,2,   0.64741,2,  34.4066,2,  34.4056,2,-999.0000,9,   209.59,2,   209.99,2,   99.642,   0.0143,2,    0.110,2,  -999.00,9,    0.034,2,    71.62,2,     0.12,    34.27,2,     0.05,     0.05,2,     0.01,     2.36,2,     0.01,    2.127,2,    1.150,2,    0.180,2, -999.000,9,   -999.0,9,   -999.0,9,-999.0000,     -999,9, -999.000,9, -999.000,   -999.0,9,   -999.0, -999.000,9, -999.000, -999.000,9, -999.000
  49NZ20130106,  S04I,   109,  1,     30, X12J30,2,20130118,0841,-62.2500,  83.2502, 2649,    150.3,2,   1.1848,2,   1.18427,2,  34.4792,2,  34.4785,2,-999.0000,9,   192.10,2,   192.43,2,   99.555,   0.0178,2,    0.050,2,  -999.00,9,    0.000,2,    74.89,2,     0.13,    34.69,2,     0.05,     0.02,2,     0.01,     2.38,2,     0.01,    1.633,2,    0.871,2,    0.151,2, -999.000,9,   -999.0,9,   -999.0,9,-999.0000,     -999,9, -999.000,9, -999.000,   -999.0,9,   -999.0, -999.000,9, -999.000, -999.000,9, -999.000
  49NZ20130106,  S04I,   109,  1,     29, X12J29,2,20130118,0841,-62.2500,  83.2502, 2649,    199.9,2,   1.7990,2,   1.79847,2,  34.5818,2,  34.5819,2,-999.0000,9,   173.99,2,   174.10,2,   99.697,   0.0121,2,    0.010,2,  -999.00,9,    0.000,2,    79.90,2,     0.13,    34.78,2,     0.05,     0.01,2,     0.01,     2.39,2,     0.01,    0.960,2,    0.498,2,    0.079,2, -999.000,9,   -999.0,9,   -999.0,9,-999.0000,     -999,9, -999.000,9, -999.000,   -999.0,9,   -999.0, -999.000,9, -999.000, -999.000,9, -999.000
  49NZ20130106,  S04I,   109,  1,     28, X12J28,2,20130118,0841,-62.2500,  83.2502, 2649,    250.6,2,   1.9523,2,   1.95210,2,  34.6282,2,  34.6280,2,-999.0000,9,   171.25,2,   171.41,2,   99.801,   0.0080,2,    0.000,2,  -999.00,9,    0.000,2,    81.62,2,     0.13,    34.36,2,     0.05,     0.01,2,     0.01,     2.36,2,     0.01,    0.690,2,    0.357,2,    0.068,2, -999.000,9,   -999.0,9,   -999.0,9,-999.0000,     -999,9, -999.000,9, -999.000,   -999.0,9,   -999.0, -999.000,9, -999.000, -999.000,9, -999.000
  49NZ20130106,  S04I,   109,  1,     27, X12J27,2,20130118,0841,-62.2500,  83.2502, 2649,    331.3,2,   1.9820,2,   1.98195,2,  34.6637,2,  34.6633,2,-999.0000,9,   173.79,2,   174.14,2,   99.890,   0.0044,2,    0.000,2,  -999.00,9,    0.000,2,    82.30,2,     0.13,    33.64,2,     0.05,     0.01,2,     0.01,     2.31,2,     0.01,    0.537,2,    0.270,2,    0.050,2, -999.000,9,   -999.0,9,   -999.0,9,-999.0000,     -999,9, -999.000,9, -999.000,   -999.0,9,   -999.0, -999.000,9, -999.000, -999.000,9, -999.000
  49NZ20130106,  S04I,   109,  1,     26, X12J26,2,20130118,0841,-62.2500,  83.2502, 2649,    430.5,2,   1.9586,2,   1.95838,2,  34.6955,2,  34.6958,2,-999.0000,9,   179.18,2,   179.34,2,   99.962,   0.0015,2,    0.000,2,  -999.00,9,    0.000,2,    82.88,2,     0.13,    32.68,2,     0.05,     0.01,2,     0.01,     2.25,2,     0.01,    0.417,2,    0.208,2,    0.030,2, -999.000,9,   -999.0,9,   -999.0,9,-999.0000,     -999,9, -999.000,9, -999.000,   -999.0,9,   -999.0, -999.000,9, -999.000, -999.000,9, -999.000
  49NZ20130106,  S04I,   109,  1,     25, X12J25,2,20130118,0841,-62.2500,  83.2502, 2649,    530.5,2,   1.9113,2,   1.91128,2,  34.7167,2,  34.7159,2,-999.0000,9,   183.94,2,   184.10,2,   99.964,   0.0014,2,    0.000,2,  -999.00,9,    0.000,2,    83.50,2,     0.13,    31.97,2,     0.04,     0.01,2,     0.01,     2.20,2,     0.01,    0.342,2,    0.182,2,    0.026,2, -999.000,9,   -999.0,9,   -999.0,9,-999.0000,     -999,9, -999.000,9, -999.000,   -999.0,9,   -999.0, -999.000,9, -999.000, -999.000,9, -999.000
  49NZ20130106,  S04I,   109,  1,     24, X12J24,2,20130118,0841,-62.2500,  83.2502, 2649,    631.0,2,   1.8645,2,   1.86449,2,  34.7309,2,  34.7307,2,-999.0000,9,   188.79,2,   188.79,2,   99.973,   0.0011,2,    0.000,2,  -999.00,9,    0.000,2,    83.47,2,     0.13,    31.29,2,     0.04,     0.01,2,     0.01,     2.15,2,     0.01,    0.297,6,    0.143,6,    0.022,6, -999.000,9,   -999.0,9,   -999.0,9,-999.0000,     -999,9, -999.000,9, -999.000,   -999.0,9,   -999.0, -999.000,9, -999.000, -999.000,9, -999.000
  49NZ20130106,  S04I,   109,  1,     23, X12J23,2,20130118,0841,-62.2500,  83.2502, 2649,    731.0,2,   1.7872,2,   1.78709,2,  34.7380,2,  34.7380,2,-999.0000,9,   191.58,2,   191.73,2,   99.973,   0.0011,2,    0.000,2,  -999.00,9,    0.000,2,    84.85,2,     0.13,    31.02,2,     0.04,     0.01,2,     0.01,     2.13,2,     0.01,    0.272,2,    0.131,2,    0.019,2, -999.000,9,   -999.0,9,   -999.0,9,-999.0000,     -999,9, -999.000,9, -999.000,   -999.0,9,   -999.0, -999.000,9, -999.000, -999.000,9, -999.000
  49NZ20130106,  S04I,   109,  1,     22, X12J22,2,20130118,0841,-62.2500,  83.2502, 2649,    831.0,2,   1.7086,2,   1.70861,2,  34.7432,2,  34.7431,2,-999.0000,9,   195.06,2,   195.28,2,   99.987,   0.0005,2,   -0.000,2,  -999.00,9,    0.000,2,    86.18,2,     0.14,    30.70,2,     0.04,     0.01,2,     0.01,     2.11,2,     0.01,    0.243,2,    0.116,2,    0.016,2, -999.000,9,   -999.0,9,   -999.0,9,-999.0000,     -999,9, -999.000,9, -999.000,   -999.0,9,   -999.0, -999.000,9, -999.000, -999.000,9, -999.000
  49NZ20130106,  S04I,   109,  1,     21, X12J21,2,20130118,0841,-62.2500,  83.2502, 2649,    929.7,2,   1.6319,2,   1.63176,2,  34.7442,2,  34.7444,2,-999.0000,9,   197.45,2,   197.77,2,   99.987,   0.0005,2,   -0.000,2,  -999.00,9,    0.000,2,    87.87,2,     0.14,    30.64,2,     0.04,     0.01,2,     0.01,     2.11,2,     0.01,    0.233,2,    0.110,2,    0.016,2, -999.000,9,   -999.0,9,   -999.0,9,-999.0000,     -999,9, -999.000,9, -999.000,   -999.0,9,   -999.0, -999.000,9, -999.000, -999.000,9, -999.000
  49NZ20130106,  S04I,   109,  1,     20, X12J20,2,20130118,0841,-62.2500,  83.2502, 2649,   1082.3,2,   1.5077,2,   1.50773,2,  34.7431,2,  34.7432,2,-999.0000,9,   199.86,2,   200.20,2,   99.985,   0.0006,2,   -0.000,2,  -999.00,9,    0.000,2,    90.78,2,     0.14,    30.65,2,     0.04,     0.01,2,     0.01,     2.11,2,     0.01,    0.210,2,    0.120,2,    0.018,2, -999.000,9,   -999.0,9,   -999.0,9,-999.0000,     -999,9, -999.000,9, -999.000,   -999.0,9,   -999.0, -999.000,9, -999.000, -999.000,9, -999.000
  49NZ20130106,  S04I,   109,  1,     19, X12J19,2,20130118,0841,-62.2500,  83.2502, 2649,   1333.1,2,   1.2869,2,   1.28720,2,  34.7352,2,  34.7352,2,-999.0000,9,   202.25,2,   202.67,2,   99.994,   0.0002,2,   -0.000,2,  -999.00,9,    0.000,2,    96.70,2,     0.15,    30.96,2,     0.04,     0.01,2,     0.01,     2.13,2,     0.01,    0.216,6,    0.100,6,    0.012,6, -999.000,9,   -999.0,9,   -999.0,9,-999.0000,     -999,9, -999.000,9, -999.000,   -999.0,9,   -999.0, -999.000,9, -999.000, -999.000,9, -999.000
  49NZ20130106,  S04I,   109,  1,     18, X12J18,2,20130118,0841,-62.2500,  83.2502, 2649,   1581.2,2,   1.0616,2,   1.06134,2,  34.7228,2,  34.7233,2,-999.0000,9,   204.22,2,   204.61,2,   99.981,   0.0008,2,   -0.000,2,  -999.00,9,    0.000,2,   103.36,2,     0.15,    31.44,2,     0.04,     0.01,2,     0.01,     2.17,2,     0.01,    0.230,2,    0.106,2,    0.013,2, -999.000,9,   -999.0,9,   -999.0,9,-999.0000,     -999,9, -999.000,9, -999.000,   -999.0,9,   -999.0, -999.000,9, -999.000, -999.000,9, -999.000
  49NZ20130106,  S04I,   109,  1,     17, X12J17,2,20130118,0841,-62.2500,  83.2502, 2649,   1829.7,2,   0.8605,2,   0.86047,2,  34.7116,2,  34.7118,2,-999.0000,9,   205.69,2,   206.15,2,   99.970,   0.0012,2,   -0.000,2,  -999.00,9,    0.000,2,   110.40,2,     0.16,    31.89,2,     0.04,     0.01,2,     0.01,     2.21,2,     0.01,    0.225,2,    0.104,2,    0.005,2, -999.000,9,   -999.0,9,   -999.0,9,-999.0000,     -999,9, -999.000,9, -999.000,   -999.0,9,   -999.0, -999.000,9, -999.000, -999.000,9, -999.000
  49NZ20130106,  S04I,   109,  1,     16, X12J16,2,20130118,0841,-62.2500,  83.2502, 2649,   2082.5,2,   0.6850,2,   0.68464,2,  34.7014,2,  34.7013,2,-999.0000,9,   207.51,2,   208.09,2,   99.947,   0.0021,2,   -0.000,2,  -999.00,9,    0.000,2,   116.63,2,     0.16,    32.33,2,     0.05,     0.01,2,     0.01,     2.24,2,     0.01,    0.229,2,    0.105,2,    0.013,2, -999.000,9,   -999.0,9,   -999.0,9,-999.0000,     -999,9, -999.000,9, -999.000,   -999.0,9,   -999.0, -999.000,9, -999.000, -999.000,9, -999.000
  49NZ20130106,  S04I,   109,  1,     15, X12J15,2,20130118,0841,-62.2500,  83.2502, 2649,   2331.3,2,   0.5441,2,   0.54425,2,  34.6939,2,  34.6938,2,-999.0000,9,   209.56,2,   210.17,2,   99.894,   0.0042,2,   -0.000,2,  -999.00,9,    0.000,2,   122.54,2,     0.17,    32.61,2,     0.05,     0.01,2,     0.01,     2.26,2,     0.01,    0.219,2,    0.100,2,    0.012,2, -999.000,9,   -999.0,9,   -999.0,9,-999.0000,     -999,9, -999.000,9, -999.000,   -999.0,9,   -999.0, -999.000,9, -999.000, -999.000,9, -999.000
  49NZ20130106,  S04I,   109,  1,     14, X12J14,2,20130118,0841,-62.2500,  83.2502, 2649,   2581.2,2,   0.4371,2,   0.43714,2,  34.6876,2,  34.6876,2,-999.0000,9,   211.56,2,   212.32,2,   99.767,   0.0093,2,   -0.000,2,  -999.00,9,    0.000,2,   127.37,2,     0.17,    32.85,2,     0.05,     0.01,2,     0.01,     2.28,2,     0.01,    0.219,2,    0.104,2,    0.005,2, -999.000,9,   -999.0,9,   -999.0,9,-999.0000,     -999,9, -999.000,9, -999.000,   -999.0,9,   -999.0, -999.000,9, -999.000, -999.000,9, -999.000
  49NZ20130106,  S04I,   109,  1,      1, X12J01,2,20130118,0841,-62.2500,  83.2502, 2649,   2679.4,2,   0.4122,2,   0.41223,2,  34.6859,2,  34.6851,2,-999.0000,9,   212.05,2,   212.69,2,   99.733,   0.0107,2,   -0.000,2,  -999.00,9,    0.000,2,   128.47,2,     0.17,    32.89,2,     0.05,     0.01,2,     0.01,     2.28,2,     0.01,    0.223,2,    0.106,2,    0.006,2, -999.000,9,   -999.0,9,   -999.0,9,-999.0000,     -999,9, -999.000,9, -999.000,   -999.0,9,   -999.0, -999.000,9, -999.000, -999.000,9, -999.000