BOTTLE,20220819CCHSIOAMB
EXPOCODE,SECT_ID,STNNBR,CASTNO,SAMPNO,BTLNBR,BTLNBR_FLAG_W,DATE,TIME,LATITUDE,LONGITUDE,DEPTH,CTDPRS,CTDPRS_FLAG_W,CTDTMP,CTDTMP_FLAG_W,SBE35,SBE35_FLAG_W,CTDSAL,CTDSAL_FLAG_W,SALNTY,SALNTY_FLAG_W,DNSSAL,DNSSAL_FLAG_W,CTDOXY,CTDOXY_FLAG_W,OXYGEN,OXYGEN_FLAG_W,CTDXMISS,CTDXMISSCP,CTDXMISS_FLAG_W,CTDFLUOR,CTDFLUOR_FLAG_W,CHLORA,CHLORA_FLAG_W,PAR,PAR_FLAG_W,SILCAT,SILCAT_FLAG_W,SILUNC,NITRAT,NITRAT_FLAG_W,NRAUNC,NITRIT,NITRIT_FLAG_W,NRIUNC,PHSPHT,PHSPHT_FLAG_W,PHPUNC,CFC-11,CFC-11_FLAG_W,CFC-12,CFC-12_FLAG_W,CFC113,CFC113_FLAG_W,SF6,SF6_FLAG_W,TCARBN,TCARBN_FLAG_W,ALKALI,ALKALI_FLAG_W,PH_TOT,PH_TMP,PH_TOT_FLAG_W,DELC13,DELC13_FLAG_W,C13ERR,DELC14,DELC14_FLAG_W,C14ERR,CS-134,CS-134_FLAG_W,CS134ER,CS-137,CS-137_FLAG_W,CS137ER
,,,,,,,,UTC,DEG,DEG,METERS,DBAR,,ITS-90,,ITS-90,,PSS-78,,PSS-78,,G/KG,,UMOL/KG,,UMOL/KG,,%TRANS,/METER,,MG/M^3,,MG/CUM,,UE/SQM/S,,UMOL/KG,,UMOL/KG,UMOL/KG,,UMOL/KG,UMOL/KG,,UMOL/KG,UMOL/KG,,UMOL/KG,PMOL/KG,,PMOL/KG,,PMOL/KG,,FMOL/KG,,UMOL/KG,,UMOL/KG,,,DEG C,,/MILLE,,/MILLE,/MILLE,,/MILLE,MBQ/KG,,MBQ/KG,MBQ/KG,,MBQ/KG
  49NZ20130106,  S04I,   146,  1,     36, X12J36,2,20130128,1225,-63.7370,  46.4030, 4225,      6.1,2,   1.3674,2,   1.36694,2,  33.8654,2,  33.8642,2,  34.0307,2,   337.17,2,   336.85,2,   97.524,   0.1003,2,    0.140,2,     0.17,2,   59.287,2,    47.29,2,     0.10,    26.04,2,     0.04,     0.28,2,     0.01,     1.78,2,     0.01,    5.985,2,    3.174,2,    0.511,2,    2.782,2,   2173.2,2,   2294.1,2,   7.6783,       25,6, -999.000,1, -999.000,   -999.0,1,   -999.0, -999.000,9, -999.000, -999.000,9, -999.000
  49NZ20130106,  S04I,   146,  1,     35, X12J35,2,20130128,1225,-63.7370,  46.4030, 4225,     25.0,2,   1.2955,2,   1.30485,2,  33.8982,2,  33.8932,2,  34.0584,2,   337.58,2,   337.52,2,   97.409,   0.1050,2,    0.170,2,     0.19,2,   24.813,2,    48.49,2,     0.10,    26.25,2,     0.04,     0.27,2,     0.01,     1.80,2,     0.01,    5.991,2,    3.169,2,    0.506,2,    2.951,2,   2174.6,2,   2296.8,2,   7.6770,       25,2, -999.000,1, -999.000,   -999.0,1,   -999.0, -999.000,9, -999.000, -999.000,9, -999.000
  49NZ20130106,  S04I,   146,  1,     34, X12J34,2,20130128,1225,-63.7370,  46.4030, 4225,     50.6,2,  -0.0818,2,  -0.08571,2,  33.9703,2,  33.9698,2,  34.1375,2,   345.71,2,   345.62,2,   96.763,   0.1316,2,    0.350,2,     0.25,2,   20.553,2,    50.15,2,     0.10,    26.69,2,     0.04,     0.18,2,     0.01,     1.84,2,     0.01,    6.035,6,    3.166,6,    0.518,6,    2.789,6,   2184.1,2,   2301.6,2,   7.6688,       25,2, -999.000,1, -999.000,   -999.0,1,   -999.0, -999.000,9, -999.000, -999.000,9, -999.000
  49NZ20130106,  S04I,   146,  1,     33, X12J33,2,20130128,1225,-63.7370,  46.4030, 4225,     74.7,2,  -1.3955,2,  -1.39569,2,  34.1926,2,  34.1903,2,  34.3591,2,   315.15,2,   315.36,2,   96.971,   0.1230,2,    0.460,2,     0.36,2,    6.434,2,    55.65,2,     0.11,    28.22,2,     0.04,     0.13,2,     0.01,     1.95,2,     0.01,    4.985,2,    2.609,2,    0.427,2,    2.286,2,   2205.1,6,   2315.0,2,   7.6419,       25,2, -999.000,1, -999.000,   -999.0,1,   -999.0, -999.000,9, -999.000, -999.000,9, -999.000
  49NZ20130106,  S04I,   146,  1,     32, X12J32,2,20130128,1225,-63.7370,  46.4030, 4225,    100.7,2,  -1.0885,2,  -1.08672,2,  34.3990,2,  34.3992,2,  34.5681,2,   289.23,2,   287.27,2,   99.019,   0.0394,2,    0.280,2,     0.32,2,    1.570,2,    62.78,2,     0.12,    30.77,2,     0.04,     0.09,2,     0.01,     2.13,2,     0.01,    4.413,2,    2.317,2,    0.385,2,    1.996,2,   2230.2,2,   2326.1,6,   7.6032,       25,2, -999.000,1, -999.000,   -999.0,1,   -999.0, -999.000,9, -999.000, -999.000,9, -999.000
  49NZ20130106,  S04I,   146,  1,     31, X12J31,2,20130128,1225,-63.7370,  46.4030, 4225,    125.7,2,   0.3947,2,   0.39848,2,  34.5433,2,  34.5394,2,  34.7105,2,   221.26,2,   223.39,2,   99.298,   0.0282,2,    0.200,2,     0.24,2,    0.513,2,    77.39,2,     0.13,    32.88,2,     0.05,     0.08,2,     0.01,     2.28,2,     0.01,    2.416,2,    1.249,2,    0.196,2,    0.985,2,   2251.3,2,   2334.4,2,   7.5661,       25,2, -999.000,1, -999.000,   -999.0,1,   -999.0, -999.000,9, -999.000, -999.000,9, -999.000
  49NZ20130106,  S04I,   146,  1,     30, X12J30,2,20130128,1225,-63.7370,  46.4030, 4225,    150.3,2,   0.7418,2,   0.74195,2,  34.5814,2,  34.5816,2,  34.7527,2,   209.40,2,   208.84,2,   99.553,   0.0179,2,    0.150,2,     0.14,2,    0.182,2,    81.21,2,     0.13,    33.24,2,     0.05,     0.08,2,     0.01,     2.30,2,     0.01,    1.864,2,    0.983,2,    0.169,2,    0.734,2,   2255.7,2,   2336.7,2,   7.5607,       25,6, -999.000,1, -999.000,   -999.0,1,   -999.0, -999.000,9, -999.000, -999.000,9, -999.000
  49NZ20130106,  S04I,   146,  1,     29, X12J29,2,20130128,1225,-63.7370,  46.4030, 4225,    199.4,2,   1.2284,2,   1.23341,2,  34.6442,2,  34.6405,2,  34.8107,2,   192.32,2,   193.03,2,   99.778,   0.0089,2,    0.050,2,     0.04,2,    0.000,2,    86.31,2,     0.14,    33.32,2,     0.05,     0.03,2,     0.01,     2.30,2,     0.01,    1.159,2,    0.609,2,    0.109,2,    0.434,2,   2259.3,2,   2341.5,2,   7.5601,       25,2, -999.000,1, -999.000,   -999.0,1,   -999.0, -999.000,9, -999.000, -999.000,9, -999.000
  49NZ20130106,  S04I,   146,  1,     28, X12J28,2,20130128,1225,-63.7370,  46.4030, 4225,    250.3,2,   1.3954,2,   1.39517,2,  34.6784,2,  34.6781,2,  34.8489,2,   189.18,2,   188.85,2,   99.836,   0.0066,2,    0.010,2,     0.01,2,    0.000,2,    89.03,2,     0.14,    32.98,2,     0.05,     0.01,2,     0.01,     2.28,2,     0.01,    0.837,2,    0.411,2,    0.072,2,    0.249,2,   2260.4,2,   2343.0,2,   7.5678,       25,2, -999.000,1, -999.000,   -999.0,1,   -999.0, -999.000,9, -999.000, -999.000,9, -999.000
  49NZ20130106,  S04I,   146,  1,     27, X12J27,2,20130128,1225,-63.7370,  46.4030, 4225,    331.8,2,   1.4262,2,   1.42622,2,  34.7022,2,  34.7018,2,  34.8733,2,   191.30,2,   191.02,2,   99.906,   0.0038,2,    0.000,2,  -999.00,9,    0.000,2,    91.10,2,     0.14,    32.33,2,     0.05,     0.01,2,     0.01,     2.23,2,     0.01,    0.579,2,    0.295,2,    0.045,2,    0.150,2,   2256.8,2,   2347.9,2,   7.5811,       25,2, -999.000,1, -999.000,   -999.0,1,   -999.0, -999.000,9, -999.000, -999.000,9, -999.000
  49NZ20130106,  S04I,   146,  1,     26, X12J26,2,20130128,1225,-63.7370,  46.4030, 4225,    428.6,2,   1.3332,2,   1.33334,2,  34.7114,2,  34.7116,2,  34.8839,2,   195.34,2,   194.97,2,   99.957,   0.0017,2,   -0.000,2,  -999.00,9,    0.000,2,    93.07,2,     0.14,    31.87,2,     0.04,     0.01,2,     0.01,     2.19,2,     0.01,    0.508,2,    0.258,2,    0.042,2,    0.118,2,   2256.8,2,   2349.2,2,   7.5887,       25,2, -999.000,1, -999.000,   -999.0,1,   -999.0, -999.000,9, -999.000, -999.000,9, -999.000
  49NZ20130106,  S04I,   146,  1,     25, X12J25,2,20130128,1225,-63.7370,  46.4030, 4225,    530.2,2,   1.1035,2,   1.10102,2,  34.7010,2,  34.7013,2,  34.8727,2,   203.09,2,   202.65,2,   99.968,   0.0013,2,   -0.000,2,  -999.00,9,    0.000,2,    94.32,2,     0.14,    31.76,2,     0.04,     0.01,2,     0.01,     2.19,2,     0.01,    0.707,2,    0.363,2,    0.058,2,    0.202,2,   2255.9,2,   2349.3,2,   7.5943,       25,2, -999.000,1, -999.000,   -999.0,1,   -999.0, -999.000,9, -999.000, -999.000,9, -999.000
  49NZ20130106,  S04I,   146,  1,     24, X12J24,2,20130128,1225,-63.7370,  46.4030, 4225,    629.9,2,   0.9127,2,   0.91263,2,  34.6925,2,  34.6926,2,  34.8661,2,   207.87,2,   207.73,2,   99.957,   0.0017,2,   -0.000,2,  -999.00,9,    0.000,2,    95.54,2,     0.14,    31.75,2,     0.04,     0.01,2,     0.01,     2.20,2,     0.01,    0.857,6,    0.424,6,    0.068,6,    0.246,6,   2255.0,2,   2348.0,2,   7.5954,       25,2, -999.000,1, -999.000,   -999.0,1,   -999.0, -999.000,9, -999.000, -999.000,9, -999.000
  49NZ20130106,  S04I,   146,  1,     23, X12J23,2,20130128,1225,-63.7370,  46.4030, 4225,    732.0,2,   0.8045,2,   0.80304,2,  34.6914,2,  34.6911,2,  34.8634,2,   209.98,2,   209.69,2,   99.957,   0.0017,2,   -0.000,2,  -999.00,9,    0.000,2,    98.68,2,     0.15,    31.84,2,     0.04,     0.01,2,     0.01,     2.20,2,     0.01,    0.842,2,    0.405,2,    0.066,2,    0.202,2,   2255.8,6,   2351.4,2,   7.5966,       25,2, -999.000,1, -999.000,   -999.0,1,   -999.0, -999.000,9, -999.000, -999.000,9, -999.000
  49NZ20130106,  S04I,   146,  1,     22, X12J22,2,20130128,1225,-63.7370,  46.4030, 4225,    829.3,2,   0.8813,2,   0.88093,2,  34.7050,2,  34.7050,2,  34.8779,2,   204.32,2,   204.09,2,   99.982,   0.0007,2,   -0.000,2,  -999.00,9,    0.000,2,   104.13,2,     0.15,    32.04,2,     0.04,     0.01,2,     0.01,     2.22,2,     0.01,    0.463,2,    0.231,2,    0.025,2,    0.105,2,   2257.8,2,   2353.8,2,   7.5955,       25,2, -999.000,1, -999.000,   -999.0,1,   -999.0, -999.000,9, -999.000, -999.000,9, -999.000
  49NZ20130106,  S04I,   146,  1,     21, X12J21,2,20130128,1225,-63.7370,  46.4030, 4225,    929.8,2,   0.7620,2,   0.76207,2,  34.6973,2,  34.6977,2,  34.8694,2,   207.36,2,   207.14,2,   99.972,   0.0011,2,    0.000,2,  -999.00,9,    0.000,2,   105.09,2,     0.15,    32.11,2,     0.05,     0.01,2,     0.01,     2.22,2,     0.01,    0.582,2,    0.293,2,    0.041,2,    0.096,2,   2257.6,2,   2353.7,2,   7.5950,       25,6, -999.000,1, -999.000,   -999.0,1,   -999.0, -999.000,9, -999.000, -999.000,9, -999.000
  49NZ20130106,  S04I,   146,  1,     20, X12J20,2,20130128,1225,-63.7370,  46.4030, 4225,   1080.0,2,   0.6646,2,   0.66445,2,  34.6956,2,  34.6960,2,  34.8687,2,   207.03,2,   206.78,2,   99.989,   0.0004,2,   -0.000,2,  -999.00,9,    0.000,2,   109.89,2,     0.16,    32.42,2,     0.05,     0.01,2,     0.01,     2.24,2,     0.01,    0.487,2,    0.236,2,    0.031,2,    0.131,2,   2259.7,2,   2355.3,2,   7.5933,       25,2, -999.000,1, -999.000,   -999.0,1,   -999.0, -999.000,9, -999.000, -999.000,9, -999.000
  49NZ20130106,  S04I,   146,  1,     19, X12J19,2,20130128,1225,-63.7370,  46.4030, 4225,   1330.1,2,   0.4995,2,   0.50069,2,  34.6874,2,  34.6868,2,  34.8595,2,   209.72,2,   209.78,2,   99.982,   0.0007,2,   -0.000,2,  -999.00,9,    0.000,2,   113.57,2,     0.16,    32.64,2,     0.05,     0.01,2,     0.01,     2.26,2,     0.01,    0.526,6,    0.264,6,    0.031,6,    0.085,6,   2262.5,2,   2355.2,2,   7.5911,       25,2, -999.000,1, -999.000,   -999.0,1,   -999.0, -999.000,9, -999.000, -999.000,9, -999.000
  49NZ20130106,  S04I,   146,  1,     18, X12J18,2,20130128,1225,-63.7370,  46.4030, 4225,   1581.8,2,   0.3855,2,   0.38571,2,  34.6842,2,  34.6847,2,  34.8588,2,   210.09,2,   209.99,2,   99.997,   0.0001,2,   -0.000,2,  -999.00,9,    0.000,2,   119.46,2,     0.17,    32.93,2,     0.05,     0.00,2,     0.01,     2.28,2,     0.01,    0.379,2,    0.181,2,    0.020,2,    0.059,2,   2263.1,2,   2354.6,2,   7.5884,       25,2, -999.000,1, -999.000,   -999.0,1,   -999.0, -999.000,9, -999.000, -999.000,9, -999.000
  49NZ20130106,  S04I,   146,  1,     17, X12J17,2,20130128,1225,-63.7370,  46.4030, 4225,   1831.9,2,   0.2600,2,   0.26025,2,  34.6766,2,  34.6765,2,  34.8503,2,   215.43,2,   215.28,2,   99.991,   0.0004,2,   -0.000,2,  -999.00,9,    0.000,2,   119.48,2,     0.17,    32.87,2,     0.05,     0.00,2,     0.01,     2.28,2,     0.01,    0.507,2,    0.252,2,    0.027,2,    0.095,2,   2261.2,2,   2355.2,2,   7.5894,       25,2, -999.000,1, -999.000,   -999.0,1,   -999.0, -999.000,9, -999.000, -999.000,9, -999.000
  49NZ20130106,  S04I,   146,  1,     16, X12J16,2,20130128,1225,-63.7370,  46.4030, 4225,   2079.7,2,   0.1172,2,   0.11656,2,  34.6662,2,  34.6664,2,  34.8400,2,   222.82,2,   222.62,2,   99.987,   0.0005,2,   -0.000,2,  -999.00,9,    0.000,2,   117.17,2,     0.16,    32.62,2,     0.05,     0.00,2,     0.01,     2.25,2,     0.01,    0.821,2,    0.396,2,    0.056,2,    0.241,2,   2258.2,2,   2354.3,2,   7.5921,       25,2, -999.000,1, -999.000,   -999.0,1,   -999.0, -999.000,9, -999.000, -999.000,9, -999.000
  49NZ20130106,  S04I,   146,  1,     15, X12J15,2,20130128,1225,-63.7370,  46.4030, 4225,   2329.6,2,   0.0129,2,   0.01281,2,  34.6613,2,  34.6615,2,  34.8344,2,   227.23,2,   227.07,2,   99.989,   0.0004,2,   -0.010,2,  -999.00,9,    0.000,2,   117.96,2,     0.16,    32.61,2,     0.05,     0.00,2,     0.01,     2.25,2,     0.01,    0.889,2,    0.452,2,    0.064,2,    0.289,2,   2256.0,2,   2353.7,2,   7.5938,       25,2, -999.000,1, -999.000,   -999.0,1,   -999.0, -999.000,9, -999.000, -999.000,9, -999.000
  49NZ20130106,  S04I,   146,  1,     14, X12J14,2,20130128,1225,-63.7370,  46.4030, 4225,   2579.6,2,  -0.0369,2,  -0.03684,2,  34.6619,2,  34.6617,2,  34.8344,2,   228.61,2,   228.34,2,   99.976,   0.0010,2,   -0.010,2,  -999.00,9,    0.000,2,   120.62,2,     0.17,    32.73,2,     0.05,     0.00,2,     0.01,     2.26,2,     0.01,    0.822,2,    0.400,2,    0.047,2,    0.207,2,   2256.8,6,   2353.1,2,   7.5936,       25,2, -999.000,1, -999.000,   -999.0,1,   -999.0, -999.000,9, -999.000, -999.000,9, -999.000
  49NZ20130106,  S04I,   146,  1,     13, X12J13,2,20130128,1225,-63.7370,  46.4030, 4225,   2830.0,2,  -0.1213,2,  -0.12145,2,  34.6569,2,  34.6567,2,  34.8318,2,   233.43,2,   233.25,2,   99.961,   0.0016,2,   -0.010,2,  -999.00,9,    0.000,2,   119.87,2,     0.17,    32.62,2,     0.05,     0.00,2,     0.01,     2.26,2,     0.01,    0.981,2,    0.509,2,    0.076,2,    0.305,2,   2254.5,3,   2350.9,2,   7.5972,       25,2, -999.000,1, -999.000,   -999.0,1,   -999.0, -999.000,9, -999.000, -999.000,9, -999.000
  49NZ20130106,  S04I,   146,  1,     12, X12J12,2,20130128,1225,-63.7370,  46.4030, 4225,   3081.6,2,  -0.1875,2,  -0.18740,2,  34.6516,2,  34.6511,2,  34.8259,2,   237.61,2,   237.41,2,   99.961,   0.0016,2,   -0.010,2,  -999.00,9,    0.000,2,   118.93,2,     0.17,    32.51,2,     0.05,     0.00,2,     0.01,     2.26,2,     0.01,    1.167,2,    0.608,2,    0.090,2,    0.386,2,   2255.4,2,   2352.5,2,   7.5982,       25,6, -999.000,1, -999.000,   -999.0,1,   -999.0, -999.000,9, -999.000, -999.000,9, -999.000
  49NZ20130106,  S04I,   146,  1,     11, X12J11,2,20130128,1225,-63.7370,  46.4030, 4225,   3332.0,2,  -0.2395,2,  -0.23922,2,  34.6492,2,  34.6492,2,  34.8239,2,   240.91,2,   240.52,2,   99.944,   0.0022,2,   -0.010,2,  -999.00,9,    0.000,2,   119.82,2,     0.17,    32.44,2,     0.05,     0.00,2,     0.01,     2.25,2,     0.01,    1.237,2,    0.640,2,    0.096,2,    0.384,2,   2252.2,2,   2349.9,2,   7.6001,       25,2, -999.000,1, -999.000,   -999.0,1,   -999.0, -999.000,9, -999.000, -999.000,9, -999.000
  49NZ20130106,  S04I,   146,  1,     10, X12J10,2,20130128,1225,-63.7370,  46.4030, 4225,   3579.8,2,  -0.2865,2,  -0.28652,2,  34.6459,2,  34.6455,2,  34.8219,2,   244.97,2,   244.60,2,   99.917,   0.0033,2,   -0.010,2,  -999.00,9,    0.000,2,   118.07,2,     0.16,    32.35,2,     0.05,     0.00,2,     0.01,     2.25,2,     0.01,    1.434,2,    0.747,2,    0.117,2,    0.538,2,   2255.0,3,   2350.2,2,   7.6016,       25,2, -999.000,1, -999.000,   -999.0,1,   -999.0, -999.000,9, -999.000, -999.000,9, -999.000
  49NZ20130106,  S04I,   146,  1,      9, X12J09,2,20130128,1225,-63.7370,  46.4030, 4225,   3831.2,2,  -0.3113,2,  -0.31135,2,  34.6450,2,  34.6453,2,  34.8199,2,   247.58,2,   247.26,2,   99.893,   0.0043,2,   -0.010,2,  -999.00,9,    0.000,2,   117.05,2,     0.16,    32.32,2,     0.05,     0.01,2,     0.01,     2.24,2,     0.01,    1.556,2,    0.799,2,    0.125,2,    0.548,2,   2250.8,2,   2350.2,2,   7.6027,       25,2, -999.000,1, -999.000,   -999.0,1,   -999.0, -999.000,9, -999.000, -999.000,9, -999.000
  49NZ20130106,  S04I,   146,  1,      8, X12J08,2,20130128,1225,-63.7370,  46.4030, 4225,   4080.6,2,  -0.3330,2,  -0.33296,2,  34.6426,2,  34.6421,2,  34.8160,2,   250.58,2,   250.37,2,   99.846,   0.0062,2,   -0.010,2,  -999.00,9,    0.000,2,   114.86,2,     0.16,    32.16,2,     0.05,     0.01,2,     0.01,     2.24,2,     0.01,    1.775,6,    0.921,6,    0.144,6,    0.675,6,   2249.2,2,   2349.6,2,   7.6030,       25,2, -999.000,1, -999.000,   -999.0,1,   -999.0, -999.000,9, -999.000, -999.000,9, -999.000
  49NZ20130106,  S04I,   146,  1,      3, X12J03,2,20130128,1225,-63.7370,  46.4030, 4225,     80.2,2,  -1.4293,2,  -1.43811,2,  34.2554,2,-999.0000,9,-999.0000,9,   307.20,2,  -999.00,9,   97.001,   0.1218,2,    0.500,2,  -999.00,9,    4.731,2,  -999.00,9,  -999.00,  -999.00,9,  -999.00,  -999.00,9,  -999.00,  -999.00,9,  -999.00, -999.000,9, -999.000,9, -999.000,9, -999.000,9,   -999.0,9,   -999.0,9,-999.0000,     -999,9, -999.000,9, -999.000,   -999.0,9,   -999.0, -999.000,9, -999.000, -999.000,9, -999.000
  49NZ20130106,  S04I,   146,  1,      2, X12J02,2,20130128,1225,-63.7370,  46.4030, 4225,     80.6,2,  -1.4290,2,  -1.43309,2,  34.2590,2,  34.2740,2,-999.0000,9,   307.15,2,   304.47,2,   97.016,   0.1212,2,    0.510,2,     0.48,2,    4.632,2,    58.05,2,     0.11,    29.14,2,     0.04,     0.12,2,     0.01,     2.01,2,     0.01, -999.000,9, -999.000,9, -999.000,9, -999.000,9,   -999.0,9,   -999.0,9,-999.0000,     -999,9, -999.000,9, -999.000,   -999.0,9,   -999.0, -999.000,9, -999.000, -999.000,9, -999.000
  49NZ20130106,  S04I,   146,  1,      1, X12J01,2,20130128,1225,-63.7370,  46.4030, 4225,   4282.7,2,  -0.3259,2,  -0.32587,2,  34.6474,2,  34.6467,2,  34.8226,2,   245.44,2,   245.28,2,   99.710,   0.0116,2,   -0.010,2,  -999.00,9,    0.000,2,   130.12,2,     0.18,    32.55,2,     0.05,     0.01,2,     0.01,     2.26,2,     0.01,    1.056,2,    0.546,2,    0.082,2,    0.337,2,   2252.3,2,   2352.1,2,   7.6028,       25,2, -999.000,1, -999.000,   -999.0,1,   -999.0, -999.000,9, -999.000, -999.000,9, -999.000