BOTTLE,20220819CCHSIOAMB
EXPOCODE,SECT_ID,STNNBR,CASTNO,SAMPNO,BTLNBR,BTLNBR_FLAG_W,DATE,TIME,LATITUDE,LONGITUDE,DEPTH,CTDPRS,CTDPRS_FLAG_W,CTDTMP,CTDTMP_FLAG_W,SBE35,SBE35_FLAG_W,CTDSAL,CTDSAL_FLAG_W,SALNTY,SALNTY_FLAG_W,DNSSAL,DNSSAL_FLAG_W,CTDOXY,CTDOXY_FLAG_W,OXYGEN,OXYGEN_FLAG_W,CTDXMISS,CTDXMISSCP,CTDXMISS_FLAG_W,CTDFLUOR,CTDFLUOR_FLAG_W,CHLORA,CHLORA_FLAG_W,PAR,PAR_FLAG_W,SILCAT,SILCAT_FLAG_W,SILUNC,NITRAT,NITRAT_FLAG_W,NRAUNC,NITRIT,NITRIT_FLAG_W,NRIUNC,PHSPHT,PHSPHT_FLAG_W,PHPUNC,CFC-11,CFC-11_FLAG_W,CFC-12,CFC-12_FLAG_W,CFC113,CFC113_FLAG_W,SF6,SF6_FLAG_W,TCARBN,TCARBN_FLAG_W,ALKALI,ALKALI_FLAG_W,PH_TOT,PH_TMP,PH_TOT_FLAG_W,DELC13,DELC13_FLAG_W,C13ERR,DELC14,DELC14_FLAG_W,C14ERR,CS-134,CS-134_FLAG_W,CS134ER,CS-137,CS-137_FLAG_W,CS137ER
,,,,,,,,UTC,DEG,DEG,METERS,DBAR,,ITS-90,,ITS-90,,PSS-78,,PSS-78,,G/KG,,UMOL/KG,,UMOL/KG,,%TRANS,/METER,,MG/M^3,,MG/CUM,,UE/SQM/S,,UMOL/KG,,UMOL/KG,UMOL/KG,,UMOL/KG,UMOL/KG,,UMOL/KG,UMOL/KG,,UMOL/KG,PMOL/KG,,PMOL/KG,,PMOL/KG,,FMOL/KG,,UMOL/KG,,UMOL/KG,,,DEG C,,/MILLE,,/MILLE,/MILLE,,/MILLE,MBQ/KG,,MBQ/KG,MBQ/KG,,MBQ/KG
  49NZ20130106,  S04I,   100,  1,     36, X12J36,2,20130116,0512,-62.2850,  91.5177, 4035,      4.7,2,   2.3026,2,   2.30319,2,  33.9197,2,  33.9206,2,  34.0842,2,   346.40,2,   347.29,2,   87.754,   0.5225,2,    0.240,2,  -999.00,9,  509.434,2,     8.44,2,     0.07,    22.46,2,     0.03,     0.30,2,     0.01,     1.24,2,     0.01,    5.511,2,    3.009,2,    0.507,2,    2.778,2,   2140.5,2,   2300.0,2,   7.7643,       25,6, -999.000,9, -999.000,   -999.0,9,   -999.0, -999.000,9, -999.000, -999.000,9, -999.000
  49NZ20130106,  S04I,   100,  1,     35, X12J35,2,20130116,0512,-62.2850,  91.5177, 4035,     24.9,2,   2.1631,2,   2.16300,2,  33.9191,2,  33.9200,2,  34.0842,2,   346.46,2,   347.36,2,   86.206,   0.5937,2,    1.590,2,  -999.00,9,   32.330,2,     8.50,2,     0.07,    22.52,2,     0.03,     0.30,2,     0.01,     1.29,2,     0.01,    5.479,2,    2.993,2,    0.506,2,    2.762,2,   2141.0,2,   2298.2,2,   7.7620,       25,2, -999.000,9, -999.000,   -999.0,9,   -999.0, -999.000,9, -999.000, -999.000,9, -999.000
  49NZ20130106,  S04I,   100,  1,     34, X12J34,2,20130116,0512,-62.2850,  91.5177, 4035,     49.2,2,  -0.5231,2,  -0.52973,2,  34.0622,2,  34.0634,2,  34.2315,2,   321.36,2,   321.66,2,   96.478,   0.1434,2,    0.460,2,  -999.00,9,    1.745,2,    52.33,2,     0.11,    28.98,2,     0.04,     0.16,2,     0.01,     2.11,2,     0.01,    5.070,6,    2.754,6,    0.466,6,    2.464,6,   2197.0,2,   2304.5,2,   7.6374,       25,2, -999.000,9, -999.000,   -999.0,9,   -999.0, -999.000,9, -999.000, -999.000,9, -999.000
  49NZ20130106,  S04I,   100,  1,     33, X12J33,2,20130116,0512,-62.2850,  91.5177, 4035,     74.6,2,  -0.9103,2,  -0.91056,2,  34.1936,2,  34.1960,2,  34.3638,2,   287.90,2,   287.80,2,   98.665,   0.0538,2,    0.190,2,  -999.00,9,    0.273,2,    61.69,2,     0.11,    31.37,2,     0.04,     0.13,2,     0.01,     2.20,2,     0.01,    4.186,2,    2.239,2,    0.386,2,    1.945,2,   2217.5,6,   2311.3,2,   7.5994,       25,2, -999.000,9, -999.000,   -999.0,9,   -999.0, -999.000,9, -999.000, -999.000,9, -999.000
  49NZ20130106,  S04I,   100,  1,     32, X12J32,2,20130116,0512,-62.2850,  91.5177, 4035,    100.3,2,  -0.4021,2,  -0.40016,2,  34.3201,2,  34.3233,2,  34.4917,2,   254.54,2,   253.46,2,   99.213,   0.0316,2,    0.110,2,  -999.00,9,    0.050,2,    67.71,2,     0.12,    32.49,2,     0.04,     0.11,2,     0.01,     2.26,2,     0.01,    3.248,2,    1.746,2,    0.293,2,    1.519,2,   2232.4,2,   2318.7,6,   7.5788,       25,2, -999.000,9, -999.000,   -999.0,9,   -999.0, -999.000,9, -999.000, -999.000,9, -999.000
  49NZ20130106,  S04I,   100,  1,     31, X12J31,2,20130116,0512,-62.2850,  91.5177, 4035,    125.4,2,   0.6866,2,   0.68626,2,  34.4596,2,  34.4589,2,  34.6282,2,   216.36,2,   215.33,2,   99.425,   0.0231,2,    0.070,2,  -999.00,9,    0.000,2,    72.69,2,     0.12,    33.40,2,     0.05,     0.04,2,     0.01,     2.31,2,     0.01,    2.164,2,    1.138,2,    0.185,2,    0.815,2,   2246.3,2,   2327.5,2,   7.5614,       25,2, -999.000,9, -999.000,   -999.0,9,   -999.0, -999.000,9, -999.000, -999.000,9, -999.000
  49NZ20130106,  S04I,   100,  1,     30, X12J30,2,20130116,0512,-62.2850,  91.5177, 4035,    150.7,2,   1.3568,2,   1.35730,2,  34.5551,2,  34.5546,2,  34.7277,2,   191.38,2,   191.46,2,   99.431,   0.0228,2,    0.050,2,  -999.00,9,    0.000,2,    77.77,2,     0.13,    33.94,2,     0.05,     0.03,2,     0.01,     2.35,2,     0.01,    1.317,2,    0.696,2,    0.116,2,    0.466,2,   2256.8,2,   2331.5,2,   7.5519,       25,6, -999.000,9, -999.000,   -999.0,9,   -999.0, -999.000,9, -999.000, -999.000,9, -999.000
  49NZ20130106,  S04I,   100,  1,     29, X12J29,2,20130116,0512,-62.2850,  91.5177, 4035,    200.7,2,   1.7148,2,   1.71372,2,  34.6342,2,  34.6335,2,  34.8042,2,   182.79,2,   182.95,2,   99.522,   0.0192,2,    0.030,2,  -999.00,9,    0.000,2,    80.97,2,     0.13,    33.46,2,     0.05,     0.01,2,     0.01,     2.31,2,     0.01,    0.838,2,    0.434,2,    0.067,2,    0.326,2,   2258.6,2,   2339.1,2,   7.5593,       25,2, -999.000,9, -999.000,   -999.0,9,   -999.0, -999.000,9, -999.000, -999.000,9, -999.000
  49NZ20130106,  S04I,   100,  1,     28, X12J28,2,20130116,0512,-62.2850,  91.5177, 4035,    250.6,2,   1.6151,2,   1.61503,2,  34.6515,2,  34.6515,2,  34.8213,2,   186.51,2,   186.52,2,   99.721,   0.0112,2,    0.020,2,  -999.00,9,    0.000,2,    82.48,2,     0.13,    32.98,2,     0.05,     0.01,2,     0.01,     2.28,2,     0.01,    0.815,2,    0.431,2,    0.070,2,    0.249,2,   2257.5,2,   2341.2,2,   7.5670,       25,2, -999.000,9, -999.000,   -999.0,9,   -999.0, -999.000,9, -999.000, -999.000,9, -999.000
  49NZ20130106,  S04I,   100,  1,     27, X12J27,2,20130116,0512,-62.2850,  91.5177, 4035,    330.3,2,   1.8084,2,   1.80869,2,  34.7070,2,  34.7070,2,  34.8794,2,   187.99,2,   188.08,2,   99.815,   0.0074,2,    0.010,2,  -999.00,9,    0.000,2,    82.53,2,     0.13,    31.81,2,     0.04,     0.01,2,     0.01,     2.21,2,     0.01,    0.460,2,    0.232,2,    0.034,2,    0.154,2,   2252.9,2,   2346.5,2,   7.5858,       25,2, -999.000,9, -999.000,   -999.0,9,   -999.0, -999.000,9, -999.000, -999.000,9, -999.000
  49NZ20130106,  S04I,   100,  1,     26, X12J26,2,20130116,0512,-62.2850,  91.5177, 4035,    430.2,2,   1.5712,2,   1.57118,2,  34.7071,2,  34.7075,2,  34.8790,2,   193.46,2,   193.65,2,   99.753,   0.0099,2,    0.010,2,  -999.00,9,    0.000,2,    86.04,2,     0.14,    31.68,2,     0.04,     0.01,2,     0.01,     2.19,2,     0.01,    0.560,2,    0.288,2,    0.042,2,    0.150,2,   2253.7,2,   2344.2,2,   7.5892,       25,2, -999.000,9, -999.000,   -999.0,9,   -999.0, -999.000,9, -999.000, -999.000,9, -999.000
  49NZ20130106,  S04I,   100,  1,     25, X12J25,2,20130116,0512,-62.2850,  91.5177, 4035,    530.1,2,   1.6264,2,   1.62641,2,  34.7319,2,  34.7316,2,  34.9037,2,   194.63,2,   194.88,2,   99.789,   0.0084,2,    0.010,2,  -999.00,9,    0.000,2,    87.46,2,     0.14,    31.11,2,     0.04,     0.01,2,     0.01,     2.15,2,     0.01,    0.341,2,    0.170,2,    0.020,2,    0.085,2,   2253.8,2,   2349.5,2,   7.5996,       25,2, -999.000,9, -999.000,   -999.0,9,   -999.0, -999.000,9, -999.000, -999.000,9, -999.000
  49NZ20130106,  S04I,   100,  1,     24, X12J24,2,20130116,0512,-62.2850,  91.5177, 4035,    630.1,2,   1.5161,2,   1.51602,2,  34.7347,2,  34.7343,2,  34.9064,2,   197.43,2,   197.58,2,   99.887,   0.0045,2,    0.000,2,  -999.00,9,    0.000,2,    90.08,2,     0.14,    31.00,2,     0.04,     0.01,2,     0.01,     2.14,2,     0.01,    0.313,6,    0.156,6,    0.019,6,    0.069,6,   2252.6,2,   2350.2,2,   7.6038,       25,2, -999.000,9, -999.000,   -999.0,9,   -999.0, -999.000,9, -999.000, -999.000,9, -999.000
  49NZ20130106,  S04I,   100,  1,     23, X12J23,2,20130116,0512,-62.2850,  91.5177, 4035,    729.9,2,   1.4267,2,   1.42691,2,  34.7356,2,  34.7356,2,  34.9077,2,   199.50,2,   199.45,2,   99.929,   0.0028,2,    0.000,2,  -999.00,9,    0.000,2,    92.76,2,     0.14,    30.96,2,     0.04,     0.01,2,     0.01,     2.14,2,     0.01,    0.277,2,    0.133,2,    0.017,2,    0.061,2,   2250.8,6,   2352.2,2,   7.6070,       25,2, -999.000,9, -999.000,   -999.0,9,   -999.0, -999.000,9, -999.000, -999.000,9, -999.000
  49NZ20130106,  S04I,   100,  1,     22, X12J22,2,20130116,0512,-62.2850,  91.5177, 4035,    831.7,2,   1.2883,2,   1.28814,2,  34.7287,2,  34.7290,2,  34.9037,2,   201.52,2,   201.59,2,   99.931,   0.0028,2,    0.000,2,  -999.00,9,    0.000,2,    95.29,2,     0.14,    31.15,2,     0.04,     0.01,2,     0.01,     2.16,2,     0.01,    0.336,2,    0.168,2,    0.022,2,    0.088,2,   2254.3,2,   2352.3,6,   7.6051,       25,2, -999.000,9, -999.000,   -999.0,9,   -999.0, -999.000,9, -999.000, -999.000,9, -999.000
  49NZ20130106,  S04I,   100,  1,     21, X12J21,2,20130116,0512,-62.2850,  91.5177, 4035,    930.4,2,   1.2000,2,   1.19997,2,  34.7267,2,  34.7267,2,  34.8998,2,   202.54,2,   202.55,2,   99.948,   0.0021,2,    0.000,2,  -999.00,9,    0.000,2,    97.99,2,     0.15,    31.28,2,     0.04,     0.01,2,     0.01,     2.17,2,     0.01,    0.314,2,    0.155,2,    0.018,2,    0.130,2,   2255.2,2,   2353.5,2,   7.6053,       25,6, -999.000,9, -999.000,   -999.0,9,   -999.0, -999.000,9, -999.000, -999.000,9, -999.000
  49NZ20130106,  S04I,   100,  1,     20, X12J20,2,20130116,0512,-62.2850,  91.5177, 4035,   1080.1,2,   1.0641,2,   1.06427,2,  34.7207,2,  34.7211,2,  34.8939,2,   203.73,2,   203.82,2,   99.963,   0.0015,2,   -0.000,2,  -999.00,9,    0.000,2,   102.02,2,     0.15,    31.54,2,     0.04,     0.00,2,     0.01,     2.18,2,     0.01,    0.310,2,    0.153,2,    0.018,2,    0.058,2,   2256.5,2,   2352.6,2,   7.6041,       25,2, -999.000,9, -999.000,   -999.0,9,   -999.0, -999.000,9, -999.000, -999.000,9, -999.000
  49NZ20130106,  S04I,   100,  1,     19, X12J19,2,20130116,0512,-62.2850,  91.5177, 4035,   1330.3,2,   0.8371,2,   0.83710,2,  34.7096,2,  34.7097,2,  34.8833,2,   206.05,2,   206.13,2,   99.992,   0.0003,2,   -0.000,2,  -999.00,9,    0.000,2,   108.79,2,     0.16,    31.99,2,     0.04,     0.00,2,     0.01,     2.22,2,     0.01,    0.310,6,    0.150,6,    0.016,6,    0.048,6,   2260.2,2,   2356.7,2,   7.6000,       25,2, -999.000,9, -999.000,   -999.0,9,   -999.0, -999.000,9, -999.000, -999.000,9, -999.000
  49NZ20130106,  S04I,   100,  1,     18, X12J18,2,20130116,0512,-62.2850,  91.5177, 4035,   1579.6,2,   0.6782,2,   0.67803,2,  34.7009,2,  34.7012,2,  34.8741,2,   207.94,2,   208.14,2,   99.982,   0.0007,2,    0.000,2,  -999.00,9,    0.000,2,   113.58,2,     0.16,    32.27,2,     0.05,     0.00,2,     0.01,     2.24,2,     0.01,    0.319,2,    0.154,2,    0.016,2,    0.073,2,   2262.2,2,   2356.8,2,   7.5977,       25,2, -999.000,9, -999.000,   -999.0,9,   -999.0, -999.000,9, -999.000, -999.000,9, -999.000
  49NZ20130106,  S04I,   100,  1,     17, X12J17,2,20130116,0512,-62.2850,  91.5177, 4035,   1829.8,2,   0.5177,2,   0.51769,2,  34.6927,2,  34.6925,2,  34.8675,2,   210.92,2,   211.02,2,   99.990,   0.0004,2,   -0.000,2,  -999.00,9,    0.000,2,   117.68,2,     0.16,    32.47,2,     0.05,     0.01,2,     0.01,     2.26,2,     0.01,    0.358,2,    0.175,2,    0.019,2,    0.033,2,   2265.2,3,   2357.5,2,   7.5957,       25,6, -999.000,9, -999.000,   -999.0,9,   -999.0, -999.000,9, -999.000, -999.000,9, -999.000
  49NZ20130106,  S04I,   100,  1,     16, X12J16,2,20130116,0512,-62.2850,  91.5177, 4035,   2080.7,2,   0.3870,2,   0.38678,2,  34.6861,2,  34.6863,2,  34.8589,2,   213.98,2,   214.21,2,   99.942,   0.0023,2,   -0.000,2,  -999.00,9,    0.000,2,   120.89,2,     0.19,    32.66,2,     0.05,     0.01,2,     0.01,     2.26,2,     0.01,    0.422,2,    0.204,2,    0.021,2,    0.086,2,   2263.6,2,   2357.1,2,   7.5943,       25,2, -999.000,9, -999.000,   -999.0,9,   -999.0, -999.000,9, -999.000, -999.000,9, -999.000
  49NZ20130106,  S04I,   100,  1,     15, X12J15,2,20130116,0512,-62.2850,  91.5177, 4035,   2331.6,2,   0.2671,2,   0.26705,2,  34.6806,2,  34.6804,2,  34.8543,2,   217.72,2,   218.10,2,   99.995,   0.0002,2,   -0.000,2,  -999.00,9,    0.000,2,   122.09,2,     0.17,    32.67,2,     0.05,     0.00,2,     0.01,     2.26,2,     0.01,    0.552,2,    0.269,2,    0.033,2,    0.126,2,   2260.6,2,   2356.3,2,   7.5947,       25,2, -999.000,9, -999.000,   -999.0,9,   -999.0, -999.000,9, -999.000, -999.000,9, -999.000
  49NZ20130106,  S04I,   100,  1,     14, X12J14,2,20130116,0512,-62.2850,  91.5177, 4035,   2581.3,2,   0.1709,2,   0.17076,2,  34.6764,2,  34.6764,2,  34.8503,2,   221.70,2,   221.97,2,   99.975,   0.0010,2,   -0.000,2,  -999.00,9,    0.000,2,   122.48,2,     0.17,    32.57,2,     0.05,     0.01,2,     0.01,     2.26,2,     0.01,    0.737,2,    0.370,2,    0.040,2,    0.168,2,   2260.3,6,   2354.4,2,   7.5950,       25,2, -999.000,9, -999.000,   -999.0,9,   -999.0, -999.000,9, -999.000, -999.000,9, -999.000
  49NZ20130106,  S04I,   100,  1,     13, X12J13,2,20130116,0512,-62.2850,  91.5177, 4035,   2830.0,2,   0.0880,2,   0.08788,2,  34.6723,2,  34.6724,2,  34.8457,2,   224.96,2,   225.18,2,   99.963,   0.0015,2,   -0.000,2,  -999.00,9,    0.000,2,   122.53,2,     0.17,    32.52,2,     0.05,     0.01,2,     0.01,     2.26,2,     0.01,    0.921,2,    0.468,2,    0.056,2,    0.187,2,   2260.4,2,   2355.1,6,   7.5956,       25,2, -999.000,9, -999.000,   -999.0,9,   -999.0, -999.000,9, -999.000, -999.000,9, -999.000
  49NZ20130106,  S04I,   100,  1,     12, X12J12,2,20130116,0512,-62.2850,  91.5177, 4035,   3079.7,2,   0.0260,2,   0.02589,2,  34.6690,2,  34.6687,2,  34.8424,2,   227.64,2,   227.95,2,   99.935,   0.0026,2,   -0.010,2,  -999.00,9,    0.000,2,   123.05,2,     0.17,    32.50,2,     0.05,     0.00,2,     0.01,     2.26,2,     0.01,    1.084,2,    0.553,2,    0.074,2,    0.273,2,   2260.6,2,   2354.7,2,   7.5954,       25,2, -999.000,9, -999.000,   -999.0,9,   -999.0, -999.000,9, -999.000, -999.000,9, -999.000
  49NZ20130106,  S04I,   100,  1,     11, X12J11,2,20130116,0512,-62.2850,  91.5177, 4035,   3330.0,2,  -0.0225,2,  -0.02259,2,  34.6653,2,  34.6652,2,  34.8402,2,   230.24,2,   230.43,2,   99.910,   0.0036,2,   -0.010,2,  -999.00,9,    0.000,2,   122.42,2,     0.17,    32.49,2,     0.05,     0.01,2,     0.01,     2.25,2,     0.01,    1.273,2,    0.645,2,    0.089,2,    0.320,2,   2258.3,2,   2353.9,2,   7.5955,       25,2, -999.000,9, -999.000,   -999.0,9,   -999.0, -999.000,9, -999.000, -999.000,9, -999.000
  49NZ20130106,  S04I,   100,  1,     10, X12J10,2,20130116,0512,-62.2850,  91.5177, 4035,   3581.0,2,  -0.0480,2,  -0.04827,2,  34.6629,2,  34.6625,2,  34.8352,2,   231.91,2,   232.42,2,   99.884,   0.0046,2,   -0.000,2,  -999.00,9,    0.000,2,   121.82,2,     0.17,    32.45,2,     0.05,     0.01,2,     0.01,     2.25,2,     0.01,    1.406,2,    0.723,2,    0.101,2,    0.359,2,   2258.0,2,   2353.7,2,   7.5962,       25,2, -999.000,9, -999.000,   -999.0,9,   -999.0, -999.000,9, -999.000, -999.000,9, -999.000
  49NZ20130106,  S04I,   100,  1,      9, X12J09,2,20130116,0512,-62.2850,  91.5177, 4035,   3830.7,2,  -0.0846,2,  -0.08470,2,  34.6596,2,  34.6593,2,  34.8319,2,   233.91,2,   234.77,2,   99.848,   0.0061,2,   -0.000,2,  -999.00,9,    0.000,2,   122.17,2,     0.17,    32.35,2,     0.05,     0.01,2,     0.01,     2.25,2,     0.01,    1.596,2,    0.814,2,    0.118,2,    0.423,2,   2259.4,2,   2353.4,2,   7.5954,       25,2, -999.000,9, -999.000,   -999.0,9,   -999.0, -999.000,9, -999.000, -999.000,9, -999.000
  49NZ20130106,  S04I,   100,  1,      2, X12J02,2,20130116,0512,-62.2850,  91.5177, 4035,     34.5,2,   2.1162,2,   2.10938,2,  33.9201,2,-999.0000,9,-999.0000,9,   344.83,2,  -999.00,9,   85.636,   0.6203,2,    1.810,2,     1.92,2,   10.070,2,  -999.00,9,  -999.00,  -999.00,9,  -999.00,  -999.00,9,  -999.00,  -999.00,9,  -999.00, -999.000,9, -999.000,9, -999.000,9, -999.000,9,   -999.0,9,   -999.0,9,-999.0000,     -999,9, -999.000,9, -999.000,   -999.0,9,   -999.0, -999.000,9, -999.000, -999.000,9, -999.000
  49NZ20130106,  S04I,   100,  1,      1, X12J01,2,20130116,0512,-62.2850,  91.5177, 4035,   4098.0,2,  -0.1439,2,  -0.14407,2,  34.6528,2,  34.6524,2,  34.8293,2,   236.43,2,   236.96,2,   98.944,   0.0425,2,   -0.010,2,  -999.00,9,    0.000,2,   125.62,2,     0.17,    32.38,2,     0.05,     0.01,2,     0.01,     2.26,2,     0.01,    1.917,2,    0.986,2,    0.143,2,    0.597,2,   2259.3,2,   2352.8,2,   7.5929,       25,2, -999.000,9, -999.000,   -999.0,9,   -999.0, -999.000,9, -999.000, -999.000,9, -999.000