BOTTLE,20220819CCHSIOAMB
EXPOCODE,SECT_ID,STNNBR,CASTNO,SAMPNO,BTLNBR,BTLNBR_FLAG_W,DATE,TIME,LATITUDE,LONGITUDE,DEPTH,CTDPRS,CTDPRS_FLAG_W,CTDTMP,CTDTMP_FLAG_W,SBE35,SBE35_FLAG_W,CTDSAL,CTDSAL_FLAG_W,SALNTY,SALNTY_FLAG_W,DNSSAL,DNSSAL_FLAG_W,CTDOXY,CTDOXY_FLAG_W,OXYGEN,OXYGEN_FLAG_W,CTDXMISS,CTDXMISSCP,CTDXMISS_FLAG_W,CTDFLUOR,CTDFLUOR_FLAG_W,CHLORA,CHLORA_FLAG_W,PAR,PAR_FLAG_W,SILCAT,SILCAT_FLAG_W,SILUNC,NITRAT,NITRAT_FLAG_W,NRAUNC,NITRIT,NITRIT_FLAG_W,NRIUNC,PHSPHT,PHSPHT_FLAG_W,PHPUNC,CFC-11,CFC-11_FLAG_W,CFC-12,CFC-12_FLAG_W,CFC113,CFC113_FLAG_W,SF6,SF6_FLAG_W,TCARBN,TCARBN_FLAG_W,ALKALI,ALKALI_FLAG_W,PH_TOT,PH_TMP,PH_TOT_FLAG_W,DELC13,DELC13_FLAG_W,C13ERR,DELC14,DELC14_FLAG_W,C14ERR,CS-134,CS-134_FLAG_W,CS134ER,CS-137,CS-137_FLAG_W,CS137ER
,,,,,,,,UTC,DEG,DEG,METERS,DBAR,,ITS-90,,ITS-90,,PSS-78,,PSS-78,,G/KG,,UMOL/KG,,UMOL/KG,,%TRANS,/METER,,MG/M^3,,MG/CUM,,UE/SQM/S,,UMOL/KG,,UMOL/KG,UMOL/KG,,UMOL/KG,UMOL/KG,,UMOL/KG,UMOL/KG,,UMOL/KG,PMOL/KG,,PMOL/KG,,PMOL/KG,,FMOL/KG,,UMOL/KG,,UMOL/KG,,,DEG C,,/MILLE,,/MILLE,/MILLE,,/MILLE,MBQ/KG,,MBQ/KG,MBQ/KG,,MBQ/KG
  49NZ20130106,  S04I,   102,  1,     36, X12J36,2,20130116,1731,-63.3572,  90.1775, 3812,      5.1,2,   1.4059,2,   1.40619,2,  34.0256,2,  34.0252,2,-999.0000,9,   341.30,2,   341.67,2,   95.504,   0.1840,2,    0.390,2,     0.28,2,    0.628,2,    52.12,2,     0.11,    26.77,2,     0.04,     0.24,2,     0.01,     1.72,2,     0.01,    5.606,2,    3.111,2,    0.597,2,    2.834,2,   2174.2,2,   2305.0,2,   7.6887,       25,6, -999.000,9, -999.000,   -999.0,9,   -999.0, -999.000,9, -999.000, -999.000,9, -999.000
  49NZ20130106,  S04I,   102,  1,     35, X12J35,2,20130116,1731,-63.3572,  90.1775, 3812,     24.2,2,   1.3986,2,   1.39867,2,  34.0255,2,  34.0262,2,-999.0000,9,   341.38,2,   341.84,2,   95.464,   0.1857,2,    0.400,2,     0.28,2,    0.000,2,    52.16,2,     0.11,    26.79,2,     0.04,     0.24,2,     0.01,     1.73,2,     0.01,    5.573,2,    3.100,2,    0.603,2,    2.824,2,   2173.6,2,   2305.2,2,   7.6871,       25,2, -999.000,9, -999.000,   -999.0,9,   -999.0, -999.000,9, -999.000, -999.000,9, -999.000
  49NZ20130106,  S04I,   102,  1,     34, X12J34,2,20130116,1731,-63.3572,  90.1775, 3812,     49.8,2,  -0.1547,2,  -0.15817,2,  34.0854,2,  34.0836,2,-999.0000,9,   345.50,2,   346.78,2,   95.277,   0.1935,2,    0.540,2,     0.36,2,    0.000,2,    55.09,2,     0.11,    27.74,2,     0.04,     0.15,2,     0.01,     1.87,2,     0.01,    5.416,6,    3.017,6,    0.578,6,    2.676,6,   2182.2,2,   2308.6,2,   7.6718,       25,2, -999.000,9, -999.000,   -999.0,9,   -999.0, -999.000,9, -999.000, -999.000,9, -999.000
  49NZ20130106,  S04I,   102,  1,     33, X12J33,2,20130116,1731,-63.3572,  90.1775, 3812,     75.4,2,  -1.3439,2,  -1.34413,2,  34.2265,2,  34.2271,2,-999.0000,9,   309.01,2,   309.34,2,   96.368,   0.1480,2,    0.710,2,     0.64,2,    0.000,2,    61.67,2,     0.11,    29.62,2,     0.04,     0.09,2,     0.01,     2.05,2,     0.01,    4.267,2,    2.371,2,    0.457,2,    2.056,2,   2204.4,2,   2315.9,2,   7.6325,       25,2, -999.000,9, -999.000,   -999.0,9,   -999.0, -999.000,9, -999.000, -999.000,9, -999.000
  49NZ20130106,  S04I,   102,  1,     32, X12J32,2,20130116,1731,-63.3572,  90.1775, 3812,    100.4,2,  -1.0719,2,  -1.07213,2,  34.3276,2,  34.3264,2,-999.0000,9,   273.45,2,   273.75,2,   98.988,   0.0407,2,    0.270,2,     0.33,2,    0.000,2,    67.61,2,     0.12,    31.35,2,     0.04,     0.12,2,     0.01,     2.19,2,     0.01,    3.635,2,    2.007,2,    0.388,2,    1.772,2,   2222.9,2,   2321.1,6,   7.5969,       25,2, -999.000,9, -999.000,   -999.0,9,   -999.0, -999.000,9, -999.000, -999.000,9, -999.000
  49NZ20130106,  S04I,   102,  1,     31, X12J31,2,20130116,1731,-63.3572,  90.1775, 3812,    125.1,2,  -0.4395,2,  -0.44223,2,  34.4107,2,  34.4083,2,-999.0000,9,   249.90,2,   250.03,2,   99.515,   0.0194,2,    0.150,2,     0.14,2,    0.000,2,    71.58,2,     0.12,    32.06,2,     0.04,     0.06,2,     0.01,     2.22,2,     0.01,    3.017,2,    1.615,2,    0.309,2,    1.405,2,   2231.7,2,   2325.5,2,   7.5848,       25,2, -999.000,9, -999.000,   -999.0,9,   -999.0, -999.000,9, -999.000, -999.000,9, -999.000
  49NZ20130106,  S04I,   102,  1,     30, X12J30,2,20130116,1731,-63.3572,  90.1775, 3812,    150.3,2,   0.2539,2,   0.25565,2,  34.4954,2,  34.4915,2,-999.0000,9,   228.03,2,   228.18,2,   99.684,   0.0127,2,    0.070,2,     0.05,2,    0.000,2,    75.55,2,     0.13,    32.42,2,     0.05,     0.02,2,     0.01,     2.24,2,     0.01,    2.389,2,    1.236,2,    0.238,2,    0.991,2,   2240.6,2,   2328.3,2,   7.5765,       25,6, -999.000,9, -999.000,   -999.0,9,   -999.0, -999.000,9, -999.000, -999.000,9, -999.000
  49NZ20130106,  S04I,   102,  1,     29, X12J29,2,20130116,1731,-63.3572,  90.1775, 3812,    201.1,2,   1.0297,2,   1.02903,2,  34.6065,2,  34.6064,2,-999.0000,9,   204.42,2,   204.42,2,   99.754,   0.0099,2,    0.020,2,     0.01,2,    0.000,2,    81.33,2,     0.13,    32.52,2,     0.05,     0.01,2,     0.01,     2.25,2,     0.01,    1.430,2,    0.736,2,    0.134,2,    0.606,2,   2248.4,2,   2339.0,2,   7.5741,       25,2, -999.000,9, -999.000,   -999.0,9,   -999.0, -999.000,9, -999.000, -999.000,9, -999.000
  49NZ20130106,  S04I,   102,  1,     28, X12J28,2,20130116,1731,-63.3572,  90.1775, 3812,    249.7,2,   1.3921,2,   1.39195,2,  34.6670,2,  34.6665,2,-999.0000,9,   194.76,2,   194.84,2,   99.771,   0.0092,2,    0.010,2,     0.01,2,    0.000,2,    84.32,2,     0.13,    32.25,2,     0.05,     0.01,2,     0.01,     2.24,2,     0.01,    0.852,2,    0.474,2,    0.081,2,    0.273,2,   2250.0,2,   2344.4,2,   7.5764,       25,2, -999.000,9, -999.000,   -999.0,9,   -999.0, -999.000,9, -999.000, -999.000,9, -999.000
  49NZ20130106,  S04I,   102,  1,     27, X12J27,2,20130116,1731,-63.3572,  90.1775, 3812,    299.9,2,   1.4745,2,   1.47445,2,  34.6887,2,  34.6886,2,-999.0000,9,   193.86,2,   193.70,2,   99.854,   0.0058,2,    0.010,2,  -999.00,9,    0.000,2,    85.34,2,     0.14,    32.03,2,     0.04,     0.01,2,     0.01,     2.20,2,     0.01,    0.690,2,    0.381,2,    0.058,2,    0.185,2,   2251.0,2,   2346.1,2,   7.5820,       25,2, -999.000,9, -999.000,   -999.0,9,   -999.0, -999.000,9, -999.000, -999.000,9, -999.000
  49NZ20130106,  S04I,   102,  1,     26, X12J26,2,20130116,1731,-63.3572,  90.1775, 3812,    399.7,2,   1.5025,2,   1.50229,2,  34.7148,2,  34.7149,2,-999.0000,9,   195.13,2,   195.21,2,   99.943,   0.0023,2,    0.000,2,  -999.00,9,    0.000,2,    87.64,2,     0.14,    31.50,2,     0.04,     0.01,2,     0.01,     2.17,2,     0.01,    0.514,2,    0.266,2,    0.045,2,    0.129,2,   2250.2,2,   2348.4,2,   7.5916,       25,2, -999.000,9, -999.000,   -999.0,9,   -999.0, -999.000,9, -999.000, -999.000,9, -999.000
  49NZ20130106,  S04I,   102,  1,     25, X12J25,2,20130116,1731,-63.3572,  90.1775, 3812,    501.4,2,   1.4299,2,   1.42988,2,  34.7224,2,  34.7219,2,-999.0000,9,   198.10,2,   198.03,2,   99.972,   0.0011,2,    0.000,2,  -999.00,9,    0.000,2,    89.54,2,     0.14,    31.24,2,     0.04,     0.00,2,     0.01,     2.16,2,     0.01,    0.443,2,    0.236,2,    0.037,2,    0.108,2,   2248.6,2,   2349.9,2,   7.5976,       25,2, -999.000,9, -999.000,   -999.0,9,   -999.0, -999.000,9, -999.000, -999.000,9, -999.000
  49NZ20130106,  S04I,   102,  1,     24, X12J24,2,20130116,1731,-63.3572,  90.1775, 3812,    599.9,2,   1.3858,2,   1.38576,2,  34.7275,2,  34.7275,2,-999.0000,9,   199.43,2,   199.46,2,   99.943,   0.0023,2,    0.000,2,  -999.00,9,    0.000,2,    91.60,2,     0.14,    31.15,2,     0.04,     0.01,2,     0.01,     2.15,2,     0.01,    0.383,6,    0.202,6,    0.033,6,    0.114,6,   2248.2,2,   2351.3,2,   7.6008,       25,2, -999.000,9, -999.000,   -999.0,9,   -999.0, -999.000,9, -999.000, -999.000,9, -999.000
  49NZ20130106,  S04I,   102,  1,     23, X12J23,2,20130116,1731,-63.3572,  90.1775, 3812,    699.5,2,   1.2726,2,   1.27261,2,  34.7256,2,  34.7256,2,-999.0000,9,   201.11,2,   201.24,2,   99.960,   0.0016,2,    0.000,2,  -999.00,9,    0.000,2,    94.61,2,     0.14,    31.23,2,     0.04,     0.01,2,     0.01,     2.16,2,     0.01,    0.364,2,    0.193,2,    0.026,2,    0.081,2,   2250.0,6,   2352.4,2,   7.6018,       25,2, -999.000,9, -999.000,   -999.0,9,   -999.0, -999.000,9, -999.000, -999.000,9, -999.000
  49NZ20130106,  S04I,   102,  1,     22, X12J22,2,20130116,1731,-63.3572,  90.1775, 3812,    799.3,2,   1.1773,2,   1.17753,2,  34.7235,2,  34.7233,2,-999.0000,9,   202.21,2,   202.37,2,   99.977,   0.0009,2,    0.000,2,  -999.00,9,    0.000,2,    97.29,2,     0.15,    31.34,2,     0.04,     0.00,2,     0.01,     2.17,2,     0.01,    0.349,2,    0.185,2,    0.024,2,    0.139,2,   2250.1,2,   2353.5,6,   7.6027,       25,2, -999.000,9, -999.000,   -999.0,9,   -999.0, -999.000,9, -999.000, -999.000,9, -999.000
  49NZ20130106,  S04I,   102,  1,     21, X12J21,2,20130116,1731,-63.3572,  90.1775, 3812,    899.4,2,   1.0831,2,   1.08314,2,  34.7201,2,  34.7201,2,-999.0000,9,   203.29,2,   203.59,2,   99.974,   0.0010,2,    0.000,2,  -999.00,9,    0.000,2,   100.16,2,     0.15,    31.48,2,     0.04,     0.01,2,     0.01,     2.18,2,     0.01,    0.334,2,    0.179,2,    0.021,2,    0.062,2,   2252.0,2,   2354.9,2,   7.6022,       25,6, -999.000,9, -999.000,   -999.0,9,   -999.0, -999.000,9, -999.000, -999.000,9, -999.000
  49NZ20130106,  S04I,   102,  1,     20, X12J20,2,20130116,1731,-63.3572,  90.1775, 3812,   1000.0,2,   1.0100,2,   1.01093,2,  34.7183,2,  34.7176,2,-999.0000,9,   204.00,2,   204.20,2,   99.972,   0.0011,2,    0.000,2,  -999.00,9,    0.000,2,   103.18,2,     0.15,    31.61,2,     0.04,     0.00,2,     0.01,     2.19,2,     0.01,    0.305,2,    0.158,2,    0.019,2,    0.101,2,   2254.4,2,   2355.7,2,   7.6022,       25,2, -999.000,9, -999.000,   -999.0,9,   -999.0, -999.000,9, -999.000, -999.000,9, -999.000
  49NZ20130106,  S04I,   102,  1,     19, X12J19,2,20130116,1731,-63.3572,  90.1775, 3812,   1249.4,2,   0.8194,2,   0.81935,2,  34.7091,2,  34.7091,2,-999.0000,9,   206.12,2,   206.27,2,   99.996,   0.0002,2,   -0.000,2,  -999.00,9,    0.000,2,   109.19,2,     0.16,    31.99,2,     0.04,     0.00,2,     0.01,     2.22,2,     0.01,    0.288,6,    0.148,6,    0.016,6,    0.074,6,   2253.9,3,   2357.4,2,   7.5999,       25,2, -999.000,9, -999.000,   -999.0,9,   -999.0, -999.000,9, -999.000, -999.000,9, -999.000
  49NZ20130106,  S04I,   102,  1,     18, X12J18,2,20130116,1731,-63.3572,  90.1775, 3812,   1499.1,2,   0.6458,2,   0.64636,2,  34.6995,2,  34.6994,2,-999.0000,9,   208.07,2,   208.38,2,   99.989,   0.0004,2,   -0.000,2,  -999.00,9,    0.000,2,   113.60,2,     0.16,    32.27,2,     0.05,     0.00,2,     0.01,     2.24,2,     0.01,    0.307,2,    0.163,2,    0.017,2,    0.067,2,   2257.3,2,   2358.3,2,   7.5966,       25,2, -999.000,9, -999.000,   -999.0,9,   -999.0, -999.000,9, -999.000, -999.000,9, -999.000
  49NZ20130106,  S04I,   102,  1,     17, X12J17,2,20130116,1731,-63.3572,  90.1775, 3812,   1751.1,2,   0.4699,2,   0.47010,2,  34.6902,2,  34.6905,2,-999.0000,9,   211.01,2,   211.41,2,  100.000,  -0.0000,2,   -0.000,2,  -999.00,9,    0.000,2,   118.25,2,     0.17,    32.55,2,     0.05,     0.00,2,     0.01,     2.26,3,     0.01,    0.340,2,    0.177,2,    0.021,2,    0.057,2,   2260.0,2,   2357.5,2,   7.5929,       25,2, -999.000,9, -999.000,   -999.0,9,   -999.0, -999.000,9, -999.000, -999.000,9, -999.000
  49NZ20130106,  S04I,   102,  1,     16, X12J16,2,20130116,1731,-63.3572,  90.1775, 3812,   2002.1,2,   0.3325,2,   0.33238,2,  34.6835,2,  34.6838,2,-999.0000,9,   214.79,2,   215.21,2,   99.991,   0.0004,2,   -0.000,2,  -999.00,9,    0.000,2,   120.37,2,     0.17,    32.61,2,     0.05,     0.00,2,     0.01,     2.27,2,     0.01,    0.426,2,    0.223,2,    0.025,2,    0.052,2,   2257.9,2,   2355.8,2,   7.5929,       25,2, -999.000,9, -999.000,   -999.0,9,   -999.0, -999.000,9, -999.000, -999.000,9, -999.000
  49NZ20130106,  S04I,   102,  1,     15, X12J15,2,20130116,1731,-63.3572,  90.1775, 3812,   2252.3,2,   0.2150,2,   0.21503,2,  34.6787,2,  34.6787,2,-999.0000,9,   219.05,2,   219.23,2,   99.989,   0.0004,2,   -0.000,2,  -999.00,9,    0.000,2,   121.94,2,     0.17,    32.62,2,     0.05,     0.00,2,     0.01,     2.26,2,     0.01,    0.591,2,    0.293,2,    0.037,2,    0.170,2,   2256.8,2,   2354.4,2,   7.5941,       25,2, -999.000,9, -999.000,   -999.0,9,   -999.0, -999.000,9, -999.000, -999.000,9, -999.000
  49NZ20130106,  S04I,   102,  1,     14, X12J14,2,20130116,1731,-63.3572,  90.1775, 3812,   2501.7,2,   0.1319,2,   0.13138,2,  34.6755,2,  34.6753,2,-999.0000,9,   222.25,2,   222.64,2,   99.972,   0.0011,2,   -0.000,2,  -999.00,9,    0.000,2,   123.12,2,     0.17,    32.60,2,     0.05,     0.00,2,     0.01,     2.26,2,     0.01,    0.709,2,    0.375,2,    0.046,2,    0.121,2,   2257.6,6,   2354.1,2,   7.5949,       25,2, -999.000,9, -999.000,   -999.0,9,   -999.0, -999.000,9, -999.000, -999.000,9, -999.000
  49NZ20130106,  S04I,   102,  1,     13, X12J13,2,20130116,1731,-63.3572,  90.1775, 3812,   2751.4,2,   0.0591,2,   0.05900,2,  34.6720,2,  34.6716,2,-999.0000,9,   225.41,2,   225.80,2,   99.943,   0.0023,2,   -0.000,2,  -999.00,9,    0.000,2,   123.48,2,     0.17,    32.53,2,     0.05,     0.00,2,     0.01,     2.27,2,     0.01,    0.883,2,    0.460,2,    0.059,2,    0.219,2,   2257.7,2,   2353.8,6,   7.5954,       25,2, -999.000,9, -999.000,   -999.0,9,   -999.0, -999.000,9, -999.000, -999.000,9, -999.000
  49NZ20130106,  S04I,   102,  1,     12, X12J12,2,20130116,1731,-63.3572,  90.1775, 3812,   2999.9,2,   0.0054,2,   0.00519,2,  34.6689,2,  34.6688,2,-999.0000,9,   227.70,2,   228.38,2,   99.917,   0.0033,2,   -0.000,2,  -999.00,9,    0.000,2,   124.09,2,     0.17,    32.51,2,     0.05,     0.00,2,     0.01,     2.26,2,     0.01,    1.063,2,    0.548,2,    0.065,2,    0.227,2,   2256.3,2,   2353.2,2,   7.5949,       25,6, -999.000,9, -999.000,   -999.0,9,   -999.0, -999.000,9, -999.000, -999.000,9, -999.000
  49NZ20130106,  S04I,   102,  1,     11, X12J11,2,20130116,1731,-63.3572,  90.1775, 3812,   3251.2,2,  -0.0406,2,  -0.04070,2,  34.6656,2,  34.6655,2,-999.0000,9,   230.24,2,   230.58,2,   99.909,   0.0036,2,   -0.000,2,  -999.00,9,    0.000,2,   123.40,2,     0.17,    32.47,2,     0.05,     0.00,2,     0.01,     2.25,2,     0.01,    1.258,2,    0.640,2,    0.083,2,    0.290,2,   2256.2,2,   2353.7,2,   7.5952,       25,2, -999.000,9, -999.000,   -999.0,9,   -999.0, -999.000,9, -999.000, -999.000,9, -999.000
  49NZ20130106,  S04I,   102,  1,     10, X12J10,2,20130116,1731,-63.3572,  90.1775, 3812,   3501.7,2,  -0.0794,2,  -0.07957,2,  34.6617,2,  34.6614,2,-999.0000,9,   232.65,2,   232.95,2,   99.888,   0.0045,2,   -0.010,2,  -999.00,9,    0.000,2,   121.65,2,     0.17,    32.41,2,     0.05,     0.00,2,     0.01,     2.25,2,     0.01,    1.514,2,    0.747,2,    0.106,2,    0.390,2,   2256.7,2,   2352.1,2,   7.5945,       25,2, -999.000,9, -999.000,   -999.0,9,   -999.0, -999.000,9, -999.000, -999.000,9, -999.000
  49NZ20130106,  S04I,   102,  1,      9, X12J09,2,20130116,1731,-63.3572,  90.1775, 3812,   3749.1,2,  -0.1218,2,  -0.12188,2,  34.6579,2,  34.6576,2,-999.0000,9,   234.81,2,   235.31,2,   99.727,   0.0109,2,   -0.000,2,  -999.00,9,    0.000,2,   123.23,2,     0.17,    32.39,2,     0.05,     0.00,2,     0.01,     2.25,2,     0.01,    1.763,2,    0.855,2,    0.129,2,    0.517,2,   2259.5,2,   2352.0,2,   7.5946,       25,2, -999.000,9, -999.000,   -999.0,9,   -999.0, -999.000,9, -999.000, -999.000,9, -999.000
  49NZ20130106,  S04I,   102,  1,      8, X12J08,2,20130116,1731,-63.3572,  90.1775, 3812,      5.2,2,   1.4059,2,   1.40596,2,  34.0258,2,-999.0000,9,-999.0000,9,   341.25,2,  -999.00,9,   95.489,   0.1846,2,    0.390,2,  -999.00,9,    0.696,2,  -999.00,9,  -999.00,  -999.00,9,  -999.00,  -999.00,9,  -999.00,  -999.00,9,  -999.00, -999.000,9, -999.000,9, -999.000,9, -999.000,9,   -999.0,9,   -999.0,9,-999.0000,     -999,9, -999.000,9, -999.000,   -999.0,9,   -999.0, -999.000,9, -999.000, -999.000,9, -999.000
  49NZ20130106,  S04I,   102,  1,      3, X12J03,2,20130116,1731,-63.3572,  90.1775, 3812,     69.0,2,  -1.2341,2,  -1.23279,2,  34.1960,2,-999.0000,9,-999.0000,9,   320.51,2,  -999.00,9,   95.070,   0.2022,2,    0.860,2,  -999.00,9,    0.000,2,  -999.00,9,  -999.00,  -999.00,9,  -999.00,  -999.00,9,  -999.00,  -999.00,9,  -999.00, -999.000,9, -999.000,9, -999.000,9, -999.000,9,   -999.0,9,   -999.0,9,-999.0000,     -999,9, -999.000,9, -999.000,   -999.0,9,   -999.0, -999.000,9, -999.000, -999.000,9, -999.000
  49NZ20130106,  S04I,   102,  1,      2, X12J02,2,20130116,1731,-63.3572,  90.1775, 3812,     68.8,2,  -1.2270,2,  -1.22563,2,  34.1943,2,  34.1969,2,-999.0000,9,   321.14,2,   320.10,2,   95.049,   0.2031,2,    0.890,2,     0.79,2,    0.000,2,    59.78,2,     0.11,    29.06,2,     0.04,     0.09,2,     0.01,     1.98,2,     0.01, -999.000,9, -999.000,9, -999.000,9, -999.000,9,   -999.0,9,   -999.0,9,-999.0000,     -999,9, -999.000,9, -999.000,   -999.0,9,   -999.0, -999.000,9, -999.000, -999.000,9, -999.000
  49NZ20130106,  S04I,   102,  1,      1, X12J01,2,20130116,1731,-63.3572,  90.1775, 3812,   3870.9,2,  -0.1634,2,  -0.16355,2,  34.6530,2,  34.6525,2,-999.0000,9,   236.24,2,   236.60,2,   99.324,   0.0271,2,   -0.010,2,  -999.00,9,    0.000,2,   124.96,2,     0.17,    32.39,2,     0.05,     0.01,2,     0.01,     2.25,2,     0.01,    1.989,2,    0.978,2,    0.159,2,    0.541,2,   2258.0,2,   2351.8,2,   7.5920,       25,2, -999.000,9, -999.000,   -999.0,9,   -999.0, -999.000,9, -999.000, -999.000,9, -999.000