BOTTLE,20220819CCHSIOAMB
# Removed rows with no data at all
# Extracted rows with no pressure into residual file
#BOTTLE,20161206CCHSIORJL
# Change SECT to SECT_ID
# Change XMISS to CTDXMISS
# Change XMISS_FLAG_W to CTDXMISS_FLAG_W
# Change XMISSCP to CTDXMISSCP
# Change FLUOR to CTDFLUOR
# Change FLUOR_FLAG_W to CTDFLUOR_FLAG_W
# Change CTDFLUOR units from MG/CUM to MG/M^3 
# BOTTLE,20150320JAMSTECRIGC
#Software_Version: whp_btl_exchange.rb_v4.1 (occrp)
#ORIGINAL_SUM_FILE: 49NZ20130106_sum.txt Wed Oct 22 20:13:14 +0900 2014
#ORIGINAL_HYD_FILE: MR12050320150320000000.csv Fri Mar 20 21:01:46 +0900 2015
#DEPTH_TYPE: COR
#EVENT_CODE: BO
EXPOCODE,SECT_ID,STNNBR,CASTNO,SAMPNO,BTLNBR,BTLNBR_FLAG_W,DATE,TIME,LATITUDE,LONGITUDE,DEPTH,CTDPRS,CTDPRS_FLAG_W,CTDTMP,CTDTMP_FLAG_W,SBE35,SBE35_FLAG_W,CTDSAL,CTDSAL_FLAG_W,SALNTY,SALNTY_FLAG_W,DNSSAL,DNSSAL_FLAG_W,CTDOXY,CTDOXY_FLAG_W,OXYGEN,OXYGEN_FLAG_W,CTDXMISS,CTDXMISSCP,CTDXMISS_FLAG_W,CTDFLUOR,CTDFLUOR_FLAG_W,CHLORA,CHLORA_FLAG_W,PAR,PAR_FLAG_W,SILCAT,SILCAT_FLAG_W,SILUNC,NITRAT,NITRAT_FLAG_W,NRAUNC,NITRIT,NITRIT_FLAG_W,NRIUNC,PHSPHT,PHSPHT_FLAG_W,PHPUNC,CFC-11,CFC-11_FLAG_W,CFC-12,CFC-12_FLAG_W,CFC113,CFC113_FLAG_W,SF6,SF6_FLAG_W,TCARBN,TCARBN_FLAG_W,ALKALI,ALKALI_FLAG_W,PH_TOT,PH_TMP,PH_TOT_FLAG_W,DELC13,DELC13_FLAG_W,C13ERR,DELC14,DELC14_FLAG_W,C14ERR,CS-134,CS-134_FLAG_W,CS134ER,CS-137,CS-137_FLAG_W,CS137ER
,,,,,,,,UTC,DEG,DEG,METERS,DBAR,,ITS-90,,ITS-90,,PSS-78,,PSS-78,,G/KG,,UMOL/KG,,UMOL/KG,,%TRANS,/METER,,MG/M^3,,MG/CUM,,UE/SQM/S,,UMOL/KG,,UMOL/KG,UMOL/KG,,UMOL/KG,UMOL/KG,,UMOL/KG,UMOL/KG,,UMOL/KG,PMOL/KG,,PMOL/KG,,PMOL/KG,,FMOL/KG,,UMOL/KG,,UMOL/KG,,,DEG C,,/MILLE,,/MILLE,/MILLE,,/MILLE,MBQ/KG,,MBQ/KG,MBQ/KG,,MBQ/KG
  49NZ20130106,  S04I,    88,  2,     36, X12J36,2,20130112,2018,-61.6202, 107.4453, 4291,     10.5,2,   1.9695,2,   1.96976,2,  33.8674,2,  33.8669,2,-999.0000,9,   344.78,2,   343.94,2,   89.274,   0.4538,2,    1.000,2,     1.00,2,   23.336,2,    14.77,2,     0.07,    22.67,2,     0.03,     0.25,2,     0.01,     1.42,2,     0.01,    5.600,2,    3.062,2,    0.490,2,    2.770,2,   -999.0,9,   -999.0,9,-999.0000,     -999,9, -999.000,9, -999.000,   -999.0,9,   -999.0, -999.000,9, -999.000, -999.000,9, -999.000
  49NZ20130106,  S04I,    88,  2,     35, X12J35,2,20130112,2018,-61.6202, 107.4453, 4291,     25.3,2,   1.9238,2,   1.92481,2,  33.8675,2,  33.8677,2,-999.0000,9,   345.50,2,   344.39,2,   89.481,   0.4446,2,    1.080,2,     1.00,2,    4.635,2,    15.00,2,     0.07,    22.80,2,     0.03,     0.25,2,     0.01,     1.43,2,     0.01,    5.652,2,    3.051,2,    0.496,2,    2.858,2,   -999.0,9,   -999.0,9,-999.0000,     -999,9, -999.000,9, -999.000,   -999.0,9,   -999.0, -999.000,9, -999.000, -999.000,9, -999.000
  49NZ20130106,  S04I,    88,  2,     34, X12J34,2,20130112,2018,-61.6202, 107.4453, 4291,     50.6,2,  -1.1915,2,  -1.19101,2,  33.9563,2,  33.9584,2,-999.0000,9,   340.80,2,   340.37,2,   98.199,   0.0727,2,    0.320,2,     0.25,2,    0.495,2,    40.70,2,     0.10,    28.46,2,     0.04,     0.19,2,     0.01,     2.07,2,     0.01,    5.909,6,    3.208,6,    0.523,6,    2.921,6,   -999.0,9,   -999.0,9,-999.0000,     -999,9, -999.000,9, -999.000,   -999.0,9,   -999.0, -999.000,9, -999.000, -999.000,9, -999.000
  49NZ20130106,  S04I,    88,  2,     33, X12J33,2,20130112,2018,-61.6202, 107.4453, 4291,     74.9,2,  -1.2804,2,  -1.28071,2,  34.0195,2,  34.0208,2,-999.0000,9,   327.20,2,   326.89,2,   98.937,   0.0427,2,    0.230,2,     0.19,2,    0.141,2,    46.45,2,     0.10,    29.63,2,     0.04,     0.19,2,     0.01,     2.11,2,     0.01,    5.517,2,    2.972,2,    0.484,2,    2.687,2,   -999.0,9,   -999.0,9,-999.0000,     -999,9, -999.000,9, -999.000,   -999.0,9,   -999.0, -999.000,9, -999.000, -999.000,9, -999.000
  49NZ20130106,  S04I,    88,  2,     32, X12J32,2,20130112,2018,-61.6202, 107.4453, 4291,    100.7,2,  -0.9413,2,  -0.93977,2,  34.1069,2,  34.1140,2,-999.0000,9,   302.18,2,   300.21,2,   99.347,   0.0262,2,    0.150,2,     0.13,2,    0.019,2,    51.39,2,     0.10,    30.98,2,     0.04,     0.15,2,     0.01,     2.17,2,     0.01,    4.797,2,    2.610,2,    0.418,2,    2.294,2,   -999.0,9,   -999.0,9,-999.0000,     -999,9, -999.000,9, -999.000,   -999.0,9,   -999.0, -999.000,9, -999.000, -999.000,9, -999.000
  49NZ20130106,  S04I,    88,  2,     31, X12J31,2,20130112,2018,-61.6202, 107.4453, 4291,    125.6,2,   0.0088,2,   0.00985,2,  34.2522,2,  34.2494,2,-999.0000,9,   258.31,2,   258.60,2,   99.508,   0.0197,2,    0.120,2,     0.08,2,    0.000,2,    58.24,2,     0.11,    32.74,2,     0.05,     0.06,2,     0.01,     2.27,2,     0.01,    3.663,2,    1.974,2,    0.319,2,    1.638,2,   -999.0,9,   -999.0,9,-999.0000,     -999,9, -999.000,9, -999.000,   -999.0,9,   -999.0, -999.000,9, -999.000, -999.000,9, -999.000
  49NZ20130106,  S04I,    88,  2,     30, X12J30,2,20130112,2018,-61.6202, 107.4453, 4291,    150.5,2,   0.6488,2,   0.65027,2,  34.3746,2,  34.3724,2,-999.0000,9,   228.02,2,   227.66,2,   99.641,   0.0144,2,    0.070,2,     0.05,2,    0.000,2,    65.08,2,     0.12,    33.51,2,     0.05,     0.03,2,     0.01,     2.32,2,     0.01,    2.676,2,    1.457,2,    0.238,2,    1.080,2,   -999.0,9,   -999.0,9,-999.0000,     -999,9, -999.000,9, -999.000,   -999.0,9,   -999.0, -999.000,9, -999.000, -999.000,9, -999.000
  49NZ20130106,  S04I,    88,  2,     29, X12J29,2,20130112,2018,-61.6202, 107.4453, 4291,    199.2,2,   1.6469,2,   1.64783,2,  34.5472,2,  34.5461,2,-999.0000,9,   186.79,2,   186.54,2,   99.696,   0.0122,2,    0.030,2,     0.02,2,    0.000,2,    74.84,2,     0.13,    34.27,2,     0.05,     0.02,2,     0.01,     2.36,2,     0.01,    1.270,2,    0.670,2,    0.106,2,    0.441,2,   -999.0,9,   -999.0,9,-999.0000,     -999,9, -999.000,9, -999.000,   -999.0,9,   -999.0, -999.000,9, -999.000, -999.000,9, -999.000
  49NZ20130106,  S04I,    88,  2,     28, X12J28,2,20130112,2018,-61.6202, 107.4453, 4291,    250.4,2,   1.7484,2,   1.74857,2,  34.5965,2,  34.5963,2,-999.0000,9,   183.00,2,   182.69,2,   99.694,   0.0123,2,    0.020,2,     0.01,2,    0.000,2,    77.31,2,     0.13,    33.91,2,     0.05,     0.01,2,     0.01,     2.34,2,     0.01,    0.996,2,    0.518,2,    0.072,2,    0.380,2,   -999.0,9,   -999.0,9,-999.0000,     -999,9, -999.000,9, -999.000,   -999.0,9,   -999.0, -999.000,9, -999.000, -999.000,9, -999.000
  49NZ20130106,  S04I,    88,  2,     27, X12J27,2,20130112,2018,-61.6202, 107.4453, 4291,    329.9,2,   1.7876,2,   1.78754,2,  34.6468,2,  34.6467,2,-999.0000,9,   182.74,2,   182.40,2,   99.840,   0.0064,2,    0.010,2,  -999.00,9,    0.000,2,    79.72,2,     0.13,    33.19,2,     0.05,     0.01,2,     0.01,     2.29,2,     0.01,    0.758,2,    0.391,2,    0.062,2,    0.261,2,   -999.0,9,   -999.0,9,-999.0000,     -999,9, -999.000,9, -999.000,   -999.0,9,   -999.0, -999.000,9, -999.000, -999.000,9, -999.000
  49NZ20130106,  S04I,    88,  2,     26, X12J26,2,20130112,2018,-61.6202, 107.4453, 4291,    432.4,2,   1.7971,2,   1.79695,2,  34.6839,2,  34.6834,2,-999.0000,9,   184.36,2,   184.24,2,   99.861,   0.0056,2,    0.010,2,  -999.00,9,    0.000,2,    81.70,2,     0.13,    32.48,2,     0.05,     0.01,2,     0.01,     2.23,2,     0.01,    0.595,2,    0.297,2,    0.044,2,    0.207,2,   -999.0,9,   -999.0,9,-999.0000,     -999,9, -999.000,9, -999.000,   -999.0,9,   -999.0, -999.000,9, -999.000, -999.000,9, -999.000
  49NZ20130106,  S04I,    88,  2,     25, X12J25,2,20130112,2018,-61.6202, 107.4453, 4291,    530.5,2,   1.7908,2,   1.79088,2,  34.7102,2,  34.7097,2,-999.0000,9,   187.16,2,   186.81,2,   99.882,   0.0047,2,    0.010,2,  -999.00,9,    0.000,2,    83.59,2,     0.13,    31.94,2,     0.04,     0.01,2,     0.01,     2.20,2,     0.01,    0.455,2,    0.226,2,    0.032,2,    0.134,2,   -999.0,9,   -999.0,9,-999.0000,     -999,9, -999.000,9, -999.000,   -999.0,9,   -999.0, -999.000,9, -999.000, -999.000,9, -999.000
  49NZ20130106,  S04I,    88,  2,     24, X12J24,2,20130112,2018,-61.6202, 107.4453, 4291,    631.0,2,   1.7433,2,   1.74336,2,  34.7255,2,  34.7251,2,-999.0000,9,   190.52,2,   190.20,2,   99.893,   0.0043,2,    0.010,2,  -999.00,9,    0.000,2,    85.35,2,     0.14,    31.50,2,     0.04,     0.01,2,     0.01,     2.17,2,     0.01,    0.376,6,    0.182,6,    0.025,6,    0.097,6,   -999.0,9,   -999.0,9,-999.0000,     -999,9, -999.000,9, -999.000,   -999.0,9,   -999.0, -999.000,9, -999.000, -999.000,9, -999.000
  49NZ20130106,  S04I,    88,  2,     23, X12J23,2,20130112,2018,-61.6202, 107.4453, 4291,    730.1,2,   1.6863,2,   1.68642,2,  34.7334,2,  34.7333,2,-999.0000,9,   193.13,2,   192.85,2,   99.937,   0.0025,2,    0.010,2,  -999.00,9,    0.000,2,    87.02,2,     0.14,    31.21,2,     0.04,     0.01,2,     0.01,     2.15,2,     0.01,    0.320,2,    0.155,2,    0.019,2,    0.089,2,   -999.0,9,   -999.0,9,-999.0000,     -999,9, -999.000,9, -999.000,   -999.0,9,   -999.0, -999.000,9, -999.000, -999.000,9, -999.000
  49NZ20130106,  S04I,    88,  2,     22, X12J22,2,20130112,2018,-61.6202, 107.4453, 4291,    829.8,2,   1.5763,2,   1.57664,2,  34.7330,2,  34.7328,2,-999.0000,9,   195.77,2,   195.51,2,   99.965,   0.0014,2,    0.010,2,  -999.00,9,    0.000,2,    89.10,2,     0.14,    31.15,2,     0.04,     0.01,2,     0.01,     2.15,2,     0.01,    0.339,2,    0.163,2,    0.023,2,    0.102,2,   -999.0,9,   -999.0,9,-999.0000,     -999,9, -999.000,9, -999.000,   -999.0,9,   -999.0, -999.000,9, -999.000, -999.000,9, -999.000
  49NZ20130106,  S04I,    88,  2,     21, X12J21,2,20130112,2018,-61.6202, 107.4453, 4291,    930.2,2,   1.4913,2,   1.49141,2,  34.7349,2,  34.7348,2,-999.0000,9,   197.98,2,   197.67,2,   99.984,   0.0006,2,    0.000,2,  -999.00,9,    0.000,2,    91.33,2,     0.14,    31.08,2,     0.04,     0.01,2,     0.01,     2.15,2,     0.01,    0.306,2,    0.148,2,    0.016,2,    0.098,2,   -999.0,9,   -999.0,9,-999.0000,     -999,9, -999.000,9, -999.000,   -999.0,9,   -999.0, -999.000,9, -999.000, -999.000,9, -999.000
  49NZ20130106,  S04I,    88,  2,     20, X12J20,2,20130112,2018,-61.6202, 107.4453, 4291,   1079.8,2,   1.3753,2,   1.37532,2,  34.7337,2,  34.7333,2,-999.0000,9,   200.16,2,   199.85,2,  100.011,  -0.0004,2,    0.000,2,  -999.00,9,    0.000,2,    94.69,2,     0.14,    31.13,2,     0.04,     0.00,2,     0.01,     2.15,2,     0.01,    0.284,2,    0.133,2,    0.014,2,    0.100,2,   -999.0,9,   -999.0,9,-999.0000,     -999,9, -999.000,9, -999.000,   -999.0,9,   -999.0, -999.000,9, -999.000, -999.000,9, -999.000
  49NZ20130106,  S04I,    88,  2,     19, X12J19,2,20130112,2018,-61.6202, 107.4453, 4291,   1330.1,2,   1.1656,2,   1.16546,2,  34.7271,2,  34.7270,2,-999.0000,9,   202.75,2,   202.60,2,  100.031,  -0.0012,2,    0.000,2,  -999.00,9,    0.000,2,   101.26,2,     0.15,    31.39,2,     0.04,     0.00,2,     0.01,     2.18,2,     0.01,    0.250,6,    0.116,6,    0.011,6,    0.105,6,   -999.0,9,   -999.0,9,-999.0000,     -999,9, -999.000,9, -999.000,   -999.0,9,   -999.0, -999.000,9, -999.000, -999.000,9, -999.000
  49NZ20130106,  S04I,    88,  2,     18, X12J18,2,20130112,2018,-61.6202, 107.4453, 4291,   1581.8,2,   0.9575,2,   0.95761,2,  34.7164,2,  34.7163,2,-999.0000,9,   205.09,2,   204.98,2,  100.047,  -0.0019,2,   -0.000,2,  -999.00,9,    0.000,2,   106.88,2,     0.15,    31.75,2,     0.04,     0.00,2,     0.01,     2.20,2,     0.01,    0.269,2,    0.124,2,    0.010,2,    0.122,2,   -999.0,9,   -999.0,9,-999.0000,     -999,9, -999.000,9, -999.000,   -999.0,9,   -999.0, -999.000,9, -999.000, -999.000,9, -999.000
  49NZ20130106,  S04I,    88,  2,     17, X12J17,2,20130112,2018,-61.6202, 107.4453, 4291,   1831.6,2,   0.7776,2,   0.77767,2,  34.7068,2,  34.7065,2,-999.0000,9,   207.37,2,   207.26,2,  100.045,  -0.0018,2,   -0.000,2,  -999.00,9,    0.000,2,   111.91,2,     0.16,    32.08,2,     0.04,     0.00,2,     0.01,     2.23,2,     0.01,    0.297,2,    0.133,2,    0.012,2,    0.058,2,   -999.0,9,   -999.0,9,-999.0000,     -999,9, -999.000,9, -999.000,   -999.0,9,   -999.0, -999.000,9, -999.000, -999.000,9, -999.000
  49NZ20130106,  S04I,    88,  2,     16, X12J16,2,20130112,2018,-61.6202, 107.4453, 4291,   2081.5,2,   0.6042,2,   0.60412,2,  34.6977,2,  34.6974,2,-999.0000,9,   210.29,2,   210.26,2,  100.062,  -0.0025,2,   -0.000,2,  -999.00,9,    0.000,2,   116.65,2,     0.16,    32.36,2,     0.05,     0.00,2,     0.01,     2.23,2,     0.01,    0.336,2,    0.158,2,    0.017,2,    0.075,2,   -999.0,9,   -999.0,9,-999.0000,     -999,9, -999.000,9, -999.000,   -999.0,9,   -999.0, -999.000,9, -999.000, -999.000,9, -999.000
  49NZ20130106,  S04I,    88,  2,     15, X12J15,2,20130112,2018,-61.6202, 107.4453, 4291,   2329.5,2,   0.4430,2,   0.44291,2,  34.6903,2,  34.6901,2,-999.0000,9,   214.15,2,   214.22,2,  100.064,  -0.0026,2,   -0.000,2,  -999.00,9,    0.000,2,   120.30,2,     0.17,    32.50,2,     0.05,     0.00,2,     0.01,     2.25,2,     0.01,    0.422,2,    0.197,2,    0.021,2,    0.055,2,   -999.0,9,   -999.0,9,-999.0000,     -999,9, -999.000,9, -999.000,   -999.0,9,   -999.0, -999.000,9, -999.000, -999.000,9, -999.000
  49NZ20130106,  S04I,    88,  2,     14, X12J14,2,20130112,2018,-61.6202, 107.4453, 4291,   2580.9,2,   0.2958,2,   0.29595,2,  34.6837,2,  34.6834,2,-999.0000,9,   218.48,2,   218.31,2,  100.050,  -0.0020,2,   -0.000,2,  -999.00,9,    0.000,2,   122.73,2,     0.17,    32.55,2,     0.05,     0.00,2,     0.01,     2.25,2,     0.01,    0.559,2,    0.268,2,    0.067,3,    0.084,2,   -999.0,9,   -999.0,9,-999.0000,     -999,9, -999.000,9, -999.000,   -999.0,9,   -999.0, -999.000,9, -999.000, -999.000,9, -999.000
  49NZ20130106,  S04I,    88,  2,     13, X12J13,2,20130112,2018,-61.6202, 107.4453, 4291,   2828.8,2,   0.2387,2,   0.23888,2,  34.6810,2,  34.6804,2,-999.0000,9,   220.76,2,   220.56,2,  100.064,  -0.0026,2,   -0.000,2,  -999.00,9,    0.000,2,   123.96,2,     0.17,    32.57,2,     0.05,     0.00,2,     0.01,     2.25,2,     0.01,    0.650,2,    0.314,2,    0.036,2,    0.156,2,   -999.0,9,   -999.0,9,-999.0000,     -999,9, -999.000,9, -999.000,   -999.0,9,   -999.0, -999.000,9, -999.000, -999.000,9, -999.000
  49NZ20130106,  S04I,    88,  2,     12, X12J12,2,20130112,2018,-61.6202, 107.4453, 4291,   3079.5,2,   0.1668,2,   0.16709,2,  34.6779,2,  34.6772,2,-999.0000,9,   223.60,2,   223.28,2,  100.081,  -0.0032,2,   -0.000,2,  -999.00,9,    0.000,2,   125.30,2,     0.17,    32.58,2,     0.05,     0.00,2,     0.01,     2.25,2,     0.01,    0.748,2,    0.367,2,    0.044,2,    0.242,2,   -999.0,9,   -999.0,9,-999.0000,     -999,9, -999.000,9, -999.000,   -999.0,9,   -999.0, -999.000,9, -999.000, -999.000,9, -999.000
  49NZ20130106,  S04I,    88,  2,     11, X12J11,2,20130112,2018,-61.6202, 107.4453, 4291,   3331.2,2,   0.0770,2,   0.07724,2,  34.6730,2,  34.6723,2,-999.0000,9,   226.89,2,   226.88,2,   99.995,   0.0002,2,   -0.010,2,  -999.00,9,    0.000,2,   125.09,2,     0.17,    32.54,2,     0.05,     0.00,2,     0.01,     2.25,2,     0.01,    0.971,2,    0.473,2,    0.063,2,    0.276,2,   -999.0,9,   -999.0,9,-999.0000,     -999,9, -999.000,9, -999.000,   -999.0,9,   -999.0, -999.000,9, -999.000, -999.000,9, -999.000
  49NZ20130106,  S04I,    88,  2,     10, X12J10,2,20130112,2018,-61.6202, 107.4453, 4291,   3581.7,2,   0.0167,2,   0.01679,2,  34.6689,2,  34.6683,2,-999.0000,9,   229.74,2,   229.69,2,   99.976,   0.0010,2,   -0.000,2,  -999.00,9,    0.000,2,   125.35,2,     0.17,    32.45,2,     0.05,     0.00,2,     0.01,     2.25,2,     0.01,    1.153,2,    0.575,2,    0.083,2,    0.335,2,   -999.0,9,   -999.0,9,-999.0000,     -999,9, -999.000,9, -999.000,   -999.0,9,   -999.0, -999.000,9, -999.000, -999.000,9, -999.000
  49NZ20130106,  S04I,    88,  2,      9, X12J09,2,20130112,2018,-61.6202, 107.4453, 4291,   3830.3,2,  -0.0273,2,  -0.02719,2,  34.6654,2,  34.6649,2,-999.0000,9,   232.02,2,   232.07,2,   99.885,   0.0046,2,   -0.000,2,  -999.00,9,    0.000,2,   125.94,2,     0.17,    32.45,2,     0.05,     0.00,2,     0.01,     2.25,2,     0.01,    1.330,2,    0.676,2,    0.095,2,    0.371,2,   -999.0,9,   -999.0,9,-999.0000,     -999,9, -999.000,9, -999.000,   -999.0,9,   -999.0, -999.000,9, -999.000, -999.000,9, -999.000
  49NZ20130106,  S04I,    88,  2,      8, X12J08,2,20130112,2018,-61.6202, 107.4453, 4291,   4080.3,2,  -0.0623,2,  -0.06226,2,  34.6611,2,  34.6655,4,-999.0000,9,   234.30,2,   234.12,2,   99.916,   0.0034,2,   -0.010,2,  -999.00,9,    0.000,2,   124.83,2,     0.17,    32.40,2,     0.05,     0.00,2,     0.01,     2.24,2,     0.01,    1.539,6,    0.781,6,    0.119,6,    0.386,6,   -999.0,9,   -999.0,9,-999.0000,     -999,9, -999.000,9, -999.000,   -999.0,9,   -999.0, -999.000,9, -999.000, -999.000,9, -999.000
  49NZ20130106,  S04I,    88,  2,      1, X12J01,2,20130112,2018,-61.6202, 107.4453, 4291,   4361.0,2,  -0.1466,2,  -0.14694,2,  34.6511,2,  34.6509,2,-999.0000,9,   237.99,2,   238.08,2,   99.667,   0.0133,2,   -0.000,2,  -999.00,9,    0.000,2,   126.17,2,     0.17,    32.30,2,     0.05,     0.00,2,     0.01,     2.24,2,     0.01,    1.964,2,    1.016,2,    0.150,2,    0.555,2,   -999.0,9,   -999.0,9,-999.0000,     -999,9, -999.000,9, -999.000,   -999.0,9,   -999.0, -999.000,9, -999.000, -999.000,9, -999.000