BOTTLE,20220819CCHSIOAMB
EXPOCODE,SECT_ID,STNNBR,CASTNO,SAMPNO,BTLNBR,BTLNBR_FLAG_W,DATE,TIME,LATITUDE,LONGITUDE,DEPTH,CTDPRS,CTDPRS_FLAG_W,CTDTMP,CTDTMP_FLAG_W,SBE35,SBE35_FLAG_W,CTDSAL,CTDSAL_FLAG_W,SALNTY,SALNTY_FLAG_W,DNSSAL,DNSSAL_FLAG_W,CTDOXY,CTDOXY_FLAG_W,OXYGEN,OXYGEN_FLAG_W,CTDXMISS,CTDXMISSCP,CTDXMISS_FLAG_W,CTDFLUOR,CTDFLUOR_FLAG_W,CHLORA,CHLORA_FLAG_W,PAR,PAR_FLAG_W,SILCAT,SILCAT_FLAG_W,SILUNC,NITRAT,NITRAT_FLAG_W,NRAUNC,NITRIT,NITRIT_FLAG_W,NRIUNC,PHSPHT,PHSPHT_FLAG_W,PHPUNC,CFC-11,CFC-11_FLAG_W,CFC-12,CFC-12_FLAG_W,CFC113,CFC113_FLAG_W,SF6,SF6_FLAG_W,TCARBN,TCARBN_FLAG_W,ALKALI,ALKALI_FLAG_W,PH_TOT,PH_TMP,PH_TOT_FLAG_W,DELC13,DELC13_FLAG_W,C13ERR,DELC14,DELC14_FLAG_W,C14ERR,CS-134,CS-134_FLAG_W,CS134ER,CS-137,CS-137_FLAG_W,CS137ER
,,,,,,,,UTC,DEG,DEG,METERS,DBAR,,ITS-90,,ITS-90,,PSS-78,,PSS-78,,G/KG,,UMOL/KG,,UMOL/KG,,%TRANS,/METER,,MG/M^3,,MG/CUM,,UE/SQM/S,,UMOL/KG,,UMOL/KG,UMOL/KG,,UMOL/KG,UMOL/KG,,UMOL/KG,UMOL/KG,,UMOL/KG,PMOL/KG,,PMOL/KG,,PMOL/KG,,FMOL/KG,,UMOL/KG,,UMOL/KG,,,DEG C,,/MILLE,,/MILLE,/MILLE,,/MILLE,MBQ/KG,,MBQ/KG,MBQ/KG,,MBQ/KG
  49NZ20130106,  S04I,   120,  1,     36, X12J36,2,20130121,0242,-61.9618,  70.0162, 4124,     10.7,2,   0.8526,2,   0.85303,2,  33.5607,2,  33.5606,2,-999.0000,9,   344.34,2,   344.39,2,   95.325,   0.1915,2,    0.210,2,  -999.00,9,  152.994,2,    31.35,2,     0.09,    25.78,2,     0.04,     0.27,2,     0.01,     1.76,2,     0.01,    5.824,2,    3.192,2,    0.542,2, -999.000,9,   -999.0,9,   -999.0,9,-999.0000,     -999,9, -999.000,9, -999.000,   -999.0,9,   -999.0, -999.000,9, -999.000, -999.000,9, -999.000
  49NZ20130106,  S04I,   120,  1,     35, X12J35,2,20130121,0242,-61.9618,  70.0162, 4124,     24.9,2,   0.8491,2,   0.84913,2,  33.5606,2,  33.5609,2,-999.0000,9,   344.19,2,   344.59,2,   95.265,   0.1940,2,    0.430,2,  -999.00,9,   50.317,2,    31.39,2,     0.09,    25.79,2,     0.04,     0.27,2,     0.01,     1.78,2,     0.01,    5.807,2,    3.187,2,    0.545,2, -999.000,9,   -999.0,9,   -999.0,9,-999.0000,     -999,9, -999.000,9, -999.000,   -999.0,9,   -999.0, -999.000,9, -999.000, -999.000,9, -999.000
  49NZ20130106,  S04I,   120,  1,     34, X12J34,2,20130121,0242,-61.9618,  70.0162, 4124,     50.6,2,  -1.4180,2,  -1.41622,2,  33.8523,2,  33.8450,2,-999.0000,9,   344.83,2,   346.70,2,   97.253,   0.1114,2,    0.470,2,  -999.00,9,    8.863,2,    33.47,2,     0.09,    26.75,2,     0.04,     0.16,2,     0.01,     1.86,2,     0.01,    5.723,6,    3.113,6,    0.566,6, -999.000,9,   -999.0,9,   -999.0,9,-999.0000,     -999,9, -999.000,9, -999.000,   -999.0,9,   -999.0, -999.000,9, -999.000, -999.000,9, -999.000
  49NZ20130106,  S04I,   120,  1,     33, X12J33,2,20130121,0242,-61.9618,  70.0162, 4124,     75.2,2,  -1.5844,2,  -1.58591,2,  33.9269,2,  33.9260,2,-999.0000,9,   330.00,2,   330.75,2,   97.908,   0.0846,2,    0.580,2,  -999.00,9,    2.354,2,    36.53,2,     0.09,    27.83,2,     0.04,     0.17,2,     0.01,     1.95,2,     0.01,    5.453,2,    2.969,2,    0.521,2, -999.000,9,   -999.0,9,   -999.0,9,-999.0000,     -999,9, -999.000,9, -999.000,   -999.0,9,   -999.0, -999.000,9, -999.000, -999.000,9, -999.000
  49NZ20130106,  S04I,   120,  1,     32, X12J32,2,20130121,0242,-61.9618,  70.0162, 4124,    100.8,2,  -1.2248,2,  -1.21937,2,  34.0126,2,  34.0121,2,-999.0000,9,   305.77,2,   305.73,2,   98.850,   0.0463,2,    0.370,2,  -999.00,9,    0.872,2,    43.57,2,     0.10,    29.43,2,     0.04,     0.17,2,     0.01,     2.07,2,     0.01,    4.935,2,    2.675,2,    0.476,2, -999.000,9,   -999.0,9,   -999.0,9,-999.0000,     -999,9, -999.000,9, -999.000,   -999.0,9,   -999.0, -999.000,9, -999.000, -999.000,9, -999.000
  49NZ20130106,  S04I,   120,  1,     31, X12J31,2,20130121,0242,-61.9618,  70.0162, 4124,    124.2,2,   0.7353,2,   0.73798,2,  34.2973,2,  34.2868,2,-999.0000,9,   222.03,2,   225.56,2,   99.346,   0.0262,2,    0.190,2,  -999.00,9,    0.358,2,    61.04,2,     0.11,    33.90,2,     0.05,     0.17,2,     0.01,     2.37,2,     0.01,    2.960,2,    1.586,2,    0.252,2, -999.000,9,   -999.0,9,   -999.0,9,-999.0000,     -999,9, -999.000,9, -999.000,   -999.0,9,   -999.0, -999.000,9, -999.000, -999.000,9, -999.000
  49NZ20130106,  S04I,   120,  1,     30, X12J30,2,20130121,0242,-61.9618,  70.0162, 4124,    150.1,2,   1.5983,2,   1.59843,2,  34.4674,2,  34.4656,2,-999.0000,9,   182.69,2,   183.00,2,   99.660,   0.0136,2,    0.090,2,  -999.00,9,    0.095,2,    73.30,2,     0.12,    35.76,2,     0.05,     0.05,2,     0.01,     2.49,2,     0.01,    1.682,2,    0.889,2,    0.138,2, -999.000,9,   -999.0,9,   -999.0,9,-999.0000,     -999,9, -999.000,9, -999.000,   -999.0,9,   -999.0, -999.000,9, -999.000, -999.000,9, -999.000
  49NZ20130106,  S04I,   120,  1,     29, X12J29,2,20130121,0242,-61.9618,  70.0162, 4124,    201.7,2,   1.8400,2,   1.83991,2,  34.5504,2,  34.5487,2,-999.0000,9,   171.34,2,   171.49,2,   99.830,   0.0068,2,    0.010,2,  -999.00,9,    0.000,2,    78.81,2,     0.13,    35.64,2,     0.05,     0.01,2,     0.01,     2.48,2,     0.01,    1.150,2,    0.597,2,    0.109,2, -999.000,9,   -999.0,9,   -999.0,9,-999.0000,     -999,9, -999.000,9, -999.000,   -999.0,9,   -999.0, -999.000,9, -999.000, -999.000,9, -999.000
  49NZ20130106,  S04I,   120,  1,     28, X12J28,2,20130121,0242,-61.9618,  70.0162, 4124,    250.8,2,   1.9375,2,   1.93730,2,  34.5987,2,  34.5983,2,-999.0000,9,   169.82,2,   169.99,2,   99.870,   0.0052,2,    0.000,2,  -999.00,9,    0.000,2,    80.57,2,     0.13,    35.00,2,     0.05,     0.01,2,     0.01,     2.43,2,     0.01,    0.856,2,    0.437,2,    0.070,2, -999.000,9,   -999.0,9,   -999.0,9,-999.0000,     -999,9, -999.000,9, -999.000,   -999.0,9,   -999.0, -999.000,9, -999.000, -999.000,9, -999.000
  49NZ20130106,  S04I,   120,  1,     27, X12J27,2,20130121,0242,-61.9618,  70.0162, 4124,    299.9,2,   1.9713,2,   1.97129,2,  34.6289,2,  34.6284,2,-999.0000,9,   171.43,2,   171.42,2,   99.915,   0.0034,2,    0.000,2,  -999.00,9,    0.000,2,    81.18,2,     0.13,    34.38,2,     0.05,     0.01,2,     0.01,     2.39,2,     0.01,    0.697,2,    0.358,2,    0.060,2, -999.000,9,   -999.0,9,   -999.0,9,-999.0000,     -999,9, -999.000,9, -999.000,   -999.0,9,   -999.0, -999.000,9, -999.000, -999.000,9, -999.000
  49NZ20130106,  S04I,   120,  1,     26, X12J26,2,20130121,0242,-61.9618,  70.0162, 4124,    400.3,2,   1.9739,2,   1.97375,2,  34.6699,2,  34.6702,2,-999.0000,9,   175.78,2,   175.92,2,   99.938,   0.0025,2,    0.000,2,  -999.00,9,    0.000,2,    82.09,2,     0.13,    33.36,2,     0.05,     0.01,2,     0.01,     2.30,2,     0.01,    0.531,2,    0.263,2,    0.049,2, -999.000,9,   -999.0,9,   -999.0,9,-999.0000,     -999,9, -999.000,9, -999.000,   -999.0,9,   -999.0, -999.000,9, -999.000, -999.000,9, -999.000
  49NZ20130106,  S04I,   120,  1,     25, X12J25,2,20130121,0242,-61.9618,  70.0162, 4124,    500.8,2,   1.9457,2,   1.94574,2,  34.6978,2,  34.6973,2,-999.0000,9,   180.67,2,   180.86,2,   99.959,   0.0016,2,    0.000,2,  -999.00,9,    0.000,2,    82.59,2,     0.13,    32.51,2,     0.05,     0.01,2,     0.01,     2.25,2,     0.01,    0.430,2,    0.214,2,    0.034,2, -999.000,9,   -999.0,9,   -999.0,9,-999.0000,     -999,9, -999.000,9, -999.000,   -999.0,9,   -999.0, -999.000,9, -999.000, -999.000,9, -999.000
  49NZ20130106,  S04I,   120,  1,     24, X12J24,2,20130121,0242,-61.9618,  70.0162, 4124,    599.5,2,   1.9025,2,   1.90245,2,  34.7173,2,  34.7172,2,-999.0000,9,   185.87,2,   185.98,2,   99.921,   0.0032,2,    0.000,2,  -999.00,9,    0.000,2,    83.01,2,     0.13,    31.82,2,     0.04,     0.01,2,     0.01,     2.21,2,     0.01,    0.359,6,    0.178,6,    0.031,6, -999.000,9,   -999.0,9,   -999.0,9,-999.0000,     -999,9, -999.000,9, -999.000,   -999.0,9,   -999.0, -999.000,9, -999.000, -999.000,9, -999.000
  49NZ20130106,  S04I,   120,  1,     23, X12J23,2,20130121,0242,-61.9618,  70.0162, 4124,    702.3,2,   1.8479,2,   1.84779,2,  34.7298,2,  34.7299,2,-999.0000,9,   189.97,2,   190.17,2,   99.946,   0.0022,2,    0.000,2,  -999.00,9,    0.000,2,    83.65,2,     0.13,    31.28,2,     0.04,     0.01,2,     0.01,     2.17,2,     0.01,    0.317,2,    0.153,2,    0.031,2, -999.000,9,   -999.0,9,   -999.0,9,-999.0000,     -999,9, -999.000,9, -999.000,   -999.0,9,   -999.0, -999.000,9, -999.000, -999.000,9, -999.000
  49NZ20130106,  S04I,   120,  1,     22, X12J22,2,20130121,0242,-61.9618,  70.0162, 4124,    800.7,2,   1.7763,2,   1.77637,2,  34.7367,2,  34.7364,2,-999.0000,9,   193.07,2,   193.02,2,   99.955,   0.0018,2,    0.000,2,  -999.00,9,    0.000,2,    84.96,2,     0.14,    31.03,2,     0.04,     0.01,2,     0.01,     2.16,2,     0.01,    0.288,2,    0.154,2,    0.022,2, -999.000,9,   -999.0,9,   -999.0,9,-999.0000,     -999,9, -999.000,9, -999.000,   -999.0,9,   -999.0, -999.000,9, -999.000, -999.000,9, -999.000
  49NZ20130106,  S04I,   120,  1,     21, X12J21,2,20130121,0242,-61.9618,  70.0162, 4124,    900.7,2,   1.7030,2,   1.70295,2,  34.7423,2,  34.7423,2,-999.0000,9,   196.42,2,   196.26,2,   99.955,   0.0018,2,    0.000,2,  -999.00,9,    0.000,2,    86.18,2,     0.14,    30.69,2,     0.04,     0.01,2,     0.01,     2.14,2,     0.01,    0.264,2,    0.126,2,    0.017,2, -999.000,9,   -999.0,9,   -999.0,9,-999.0000,     -999,9, -999.000,9, -999.000,   -999.0,9,   -999.0, -999.000,9, -999.000, -999.000,9, -999.000
  49NZ20130106,  S04I,   120,  1,     20, X12J20,2,20130121,0242,-61.9618,  70.0162, 4124,    999.8,2,   1.6176,2,   1.61766,2,  34.7435,2,  34.7435,2,-999.0000,9,   198.59,2,   198.68,2,   99.972,   0.0011,2,    0.000,2,  -999.00,9,    0.000,2,    88.04,2,     0.14,    30.62,2,     0.04,     0.00,2,     0.01,     2.13,2,     0.01,    0.248,2,    0.119,2,    0.016,2, -999.000,9,   -999.0,9,   -999.0,9,-999.0000,     -999,9, -999.000,9, -999.000,   -999.0,9,   -999.0, -999.000,9, -999.000, -999.000,9, -999.000
  49NZ20130106,  S04I,   120,  1,     19, X12J19,2,20130121,0242,-61.9618,  70.0162, 4124,   1250.2,2,   1.3979,2,   1.39798,2,  34.7391,2,  34.7391,2,-999.0000,9,   202.14,2,   202.37,2,   99.966,   0.0014,2,   -0.000,2,  -999.00,9,    0.000,2,    93.58,2,     0.14,    30.78,2,     0.04,     0.01,2,     0.01,     2.14,2,     0.01,    0.239,6,    0.111,6,    0.016,6, -999.000,9,   -999.0,9,   -999.0,9,-999.0000,     -999,9, -999.000,9, -999.000,   -999.0,9,   -999.0, -999.000,9, -999.000, -999.000,9, -999.000
  49NZ20130106,  S04I,   120,  1,     18, X12J18,2,20130121,0242,-61.9618,  70.0162, 4124,   1499.3,2,   1.1731,2,   1.17310,2,  34.7277,2,  34.7275,2,-999.0000,9,   203.79,2,   203.99,2,   99.982,   0.0007,2,   -0.000,2,  -999.00,9,    0.000,2,    99.82,2,     0.15,    31.23,2,     0.04,     0.00,2,     0.01,     2.17,2,     0.01,    0.250,2,    0.117,2,    0.021,2, -999.000,9,   -999.0,9,   -999.0,9,-999.0000,     -999,9, -999.000,9, -999.000,   -999.0,9,   -999.0, -999.000,9, -999.000, -999.000,9, -999.000
  49NZ20130106,  S04I,   120,  1,     17, X12J17,2,20130121,0242,-61.9618,  70.0162, 4124,   1751.5,2,   0.9658,2,   0.96571,2,  34.7171,2,  34.7160,2,-999.0000,9,   205.84,2,   206.08,2,   99.966,   0.0014,2,   -0.000,2,  -999.00,9,    0.000,2,   105.73,2,     0.15,    31.62,2,     0.04,     0.01,2,     0.01,     2.20,2,     0.01,    0.255,2,    0.116,2,    0.013,2, -999.000,9,   -999.0,9,   -999.0,9,-999.0000,     -999,9, -999.000,9, -999.000,   -999.0,9,   -999.0, -999.000,9, -999.000, -999.000,9, -999.000
  49NZ20130106,  S04I,   120,  1,     16, X12J16,2,20130121,0242,-61.9618,  70.0162, 4124,   2000.9,2,   0.7873,2,   0.78730,2,  34.7066,2,  34.7067,2,-999.0000,9,   207.18,2,   207.44,2,   99.968,   0.0013,2,   -0.000,2,  -999.00,9,    0.000,2,   111.40,2,     0.16,    32.03,2,     0.04,     0.00,2,     0.01,     2.22,2,     0.01,    0.255,2,    0.116,2,    0.011,2, -999.000,9,   -999.0,9,   -999.0,9,-999.0000,     -999,9, -999.000,9, -999.000,   -999.0,9,   -999.0, -999.000,9, -999.000, -999.000,9, -999.000
  49NZ20130106,  S04I,   120,  1,     15, X12J15,2,20130121,0242,-61.9618,  70.0162, 4124,   2251.1,2,   0.6390,2,   0.63899,2,  34.6980,2,  34.6979,2,-999.0000,9,   208.78,2,   208.86,2,   99.955,   0.0018,2,   -0.000,2,  -999.00,9,    0.000,2,   115.75,2,     0.16,    32.33,2,     0.05,     0.00,2,     0.01,     2.25,2,     0.01,    0.254,2,    0.114,2,    0.012,2, -999.000,9,   -999.0,9,   -999.0,9,-999.0000,     -999,9, -999.000,9, -999.000,   -999.0,9,   -999.0, -999.000,9, -999.000, -999.000,9, -999.000
  49NZ20130106,  S04I,   120,  1,     14, X12J14,2,20130121,0242,-61.9618,  70.0162, 4124,   2500.8,2,   0.5091,2,   0.50916,2,  34.6908,2,  34.6906,2,-999.0000,9,   210.90,2,   211.08,2,   99.963,   0.0015,2,   -0.000,2,  -999.00,9,    0.000,2,   120.16,2,     0.17,    32.64,2,     0.05,     0.00,2,     0.01,     2.27,2,     0.01,    0.247,2,    0.112,2,    0.012,2, -999.000,9,   -999.0,9,   -999.0,9,-999.0000,     -999,9, -999.000,9, -999.000,   -999.0,9,   -999.0, -999.000,9, -999.000, -999.000,9, -999.000
  49NZ20130106,  S04I,   120,  1,     13, X12J13,2,20130121,0242,-61.9618,  70.0162, 4124,   2751.1,2,   0.3864,2,   0.38647,2,  34.6843,2,  34.6836,2,-999.0000,9,   213.74,2,   214.04,2,   99.959,   0.0016,2,   -0.010,2,  -999.00,9,    0.000,2,   123.81,2,     0.17,    32.83,2,     0.05,     0.00,2,     0.01,     2.28,2,     0.01,    0.240,2,    0.109,2,    0.015,2, -999.000,9,   -999.0,9,   -999.0,9,-999.0000,     -999,9, -999.000,9, -999.000,   -999.0,9,   -999.0, -999.000,9, -999.000, -999.000,9, -999.000
  49NZ20130106,  S04I,   120,  1,     12, X12J12,2,20130121,0242,-61.9618,  70.0162, 4124,   2999.6,2,   0.2713,2,   0.27134,2,  34.6785,2,  34.6785,2,-999.0000,9,   217.00,2,   217.33,2,   99.944,   0.0022,2,   -0.000,2,  -999.00,9,    0.000,2,   126.51,2,     0.17,    32.87,2,     0.05,     0.00,2,     0.01,     2.29,2,     0.01,    0.238,2,    0.109,2,    0.016,2, -999.000,9,   -999.0,9,   -999.0,9,-999.0000,     -999,9, -999.000,9, -999.000,   -999.0,9,   -999.0, -999.000,9, -999.000, -999.000,9, -999.000
  49NZ20130106,  S04I,   120,  1,     11, X12J11,2,20130121,0242,-61.9618,  70.0162, 4124,   3249.2,2,   0.1752,2,   0.17515,2,  34.6738,2,  34.6737,2,-999.0000,9,   220.58,2,   220.90,2,   99.944,   0.0022,2,   -0.000,2,  -999.00,9,    0.000,2,   128.29,2,     0.17,    32.88,2,     0.05,     0.00,2,     0.01,     2.30,2,     0.01,    0.244,2,    0.114,2,    0.018,2, -999.000,9,   -999.0,9,   -999.0,9,-999.0000,     -999,9, -999.000,9, -999.000,   -999.0,9,   -999.0, -999.000,9, -999.000, -999.000,9, -999.000
  49NZ20130106,  S04I,   120,  1,     10, X12J10,2,20130121,0242,-61.9618,  70.0162, 4124,   3501.2,2,   0.0820,2,   0.08185,2,  34.6693,2,  34.6687,2,-999.0000,9,   224.34,2,   224.78,2,   99.938,   0.0025,2,   -0.000,2,  -999.00,9,    0.000,2,   129.89,2,     0.18,    32.90,2,     0.05,     0.00,2,     0.01,     2.30,2,     0.01,    0.270,2,    0.126,2,    0.016,2, -999.000,9,   -999.0,9,   -999.0,9,-999.0000,     -999,9, -999.000,9, -999.000,   -999.0,9,   -999.0, -999.000,9, -999.000, -999.000,9, -999.000
  49NZ20130106,  S04I,   120,  1,      9, X12J09,2,20130121,0242,-61.9618,  70.0162, 4124,   3750.0,2,  -0.0133,2,  -0.01323,2,  34.6650,2,  34.6646,2,-999.0000,9,   228.84,2,   229.19,2,   99.927,   0.0029,2,   -0.010,2,  -999.00,9,    0.000,2,   130.35,2,     0.18,    32.85,2,     0.05,     0.00,2,     0.01,     2.30,2,     0.01,    0.409,2,    0.197,2,    0.030,2, -999.000,9,   -999.0,9,   -999.0,9,-999.0000,     -999,9, -999.000,9, -999.000,   -999.0,9,   -999.0, -999.000,9, -999.000, -999.000,9, -999.000
  49NZ20130106,  S04I,   120,  1,      8, X12J08,2,20130121,0242,-61.9618,  70.0162, 4124,   4000.4,2,  -0.0872,2,  -0.08727,2,  34.6613,2,  34.6607,2,-999.0000,9,   231.83,2,   232.27,2,   99.891,   0.0044,2,   -0.010,2,  -999.00,9,    0.000,2,   136.36,2,     0.18,    32.88,2,     0.05,     0.00,2,     0.01,     2.30,2,     0.01,    0.388,6,    0.188,6,    0.023,6, -999.000,9,   -999.0,9,   -999.0,9,-999.0000,     -999,9, -999.000,9, -999.000,   -999.0,9,   -999.0, -999.000,9, -999.000, -999.000,9, -999.000
  49NZ20130106,  S04I,   120,  1,      1, X12J01,2,20130121,0242,-61.9618,  70.0162, 4124,   4190.7,2,  -0.1334,2,  -0.13361,2,  34.6583,2,  34.6582,2,-999.0000,9,   233.02,2,   233.47,2,   99.711,   0.0116,2,   -0.010,2,  -999.00,9,    0.000,2,   147.20,2,     0.19,    32.94,2,     0.05,     0.01,2,     0.01,     2.31,2,     0.01,    0.418,2,    0.206,2,    0.025,2, -999.000,9,   -999.0,9,   -999.0,9,-999.0000,     -999,9, -999.000,9, -999.000,   -999.0,9,   -999.0, -999.000,9, -999.000, -999.000,9, -999.000