BOTTLE,20220819CCHSIOAMB
EXPOCODE,SECT_ID,STNNBR,CASTNO,SAMPNO,BTLNBR,BTLNBR_FLAG_W,DATE,TIME,LATITUDE,LONGITUDE,DEPTH,CTDPRS,CTDPRS_FLAG_W,CTDTMP,CTDTMP_FLAG_W,SBE35,SBE35_FLAG_W,CTDSAL,CTDSAL_FLAG_W,SALNTY,SALNTY_FLAG_W,DNSSAL,DNSSAL_FLAG_W,CTDOXY,CTDOXY_FLAG_W,OXYGEN,OXYGEN_FLAG_W,CTDXMISS,CTDXMISSCP,CTDXMISS_FLAG_W,CTDFLUOR,CTDFLUOR_FLAG_W,CHLORA,CHLORA_FLAG_W,PAR,PAR_FLAG_W,SILCAT,SILCAT_FLAG_W,SILUNC,NITRAT,NITRAT_FLAG_W,NRAUNC,NITRIT,NITRIT_FLAG_W,NRIUNC,PHSPHT,PHSPHT_FLAG_W,PHPUNC,CFC-11,CFC-11_FLAG_W,CFC-12,CFC-12_FLAG_W,CFC113,CFC113_FLAG_W,SF6,SF6_FLAG_W,TCARBN,TCARBN_FLAG_W,ALKALI,ALKALI_FLAG_W,PH_TOT,PH_TMP,PH_TOT_FLAG_W,DELC13,DELC13_FLAG_W,C13ERR,DELC14,DELC14_FLAG_W,C14ERR,CS-134,CS-134_FLAG_W,CS134ER,CS-137,CS-137_FLAG_W,CS137ER
,,,,,,,,UTC,DEG,DEG,METERS,DBAR,,ITS-90,,ITS-90,,PSS-78,,PSS-78,,G/KG,,UMOL/KG,,UMOL/KG,,%TRANS,/METER,,MG/M^3,,MG/CUM,,UE/SQM/S,,UMOL/KG,,UMOL/KG,UMOL/KG,,UMOL/KG,UMOL/KG,,UMOL/KG,UMOL/KG,,UMOL/KG,PMOL/KG,,PMOL/KG,,PMOL/KG,,FMOL/KG,,UMOL/KG,,UMOL/KG,,,DEG C,,/MILLE,,/MILLE,/MILLE,,/MILLE,MBQ/KG,,MBQ/KG,MBQ/KG,,MBQ/KG
  49NZ20130106,  S04I,   104,  1,     36, X12J36,2,20130117,0759,-63.1092,  87.1323, 3780,     10.0,2,   0.9844,2,   0.98472,2,  33.9526,2,  33.9517,2,  34.1221,2,   337.73,2,   337.87,2,   98.110,   0.0763,2,    0.090,2,  -999.00,9,  127.754,2,    58.30,2,     0.11,    28.20,2,     0.04,     0.22,2,     0.01,     1.96,2,     0.01,    5.654,2,    3.129,2,    0.526,2,    2.874,2,   2182.8,2,   2297.5,2,   7.6591,       25,6, -999.000,1, -999.000,   -999.0,1,   -999.0, -999.000,9, -999.000, -999.000,9, -999.000
  49NZ20130106,  S04I,   104,  1,     35, X12J35,2,20130117,0759,-63.1092,  87.1323, 3780,     24.8,2,   0.9829,2,   0.98106,2,  33.9525,2,  33.9516,2,  34.1179,2,   337.71,2,   337.83,2,   98.108,   0.0764,2,    0.130,2,  -999.00,9,   58.621,2,    58.45,2,     0.11,    28.24,2,     0.04,     0.22,2,     0.01,     1.97,2,     0.01,    5.636,2,    3.136,2,    0.521,2,    2.874,2,   2182.2,2,   2297.7,2,   7.6581,       25,2, -999.000,1, -999.000,   -999.0,1,   -999.0, -999.000,9, -999.000, -999.000,9, -999.000
  49NZ20130106,  S04I,   104,  1,     34, X12J34,2,20130117,0759,-63.1092,  87.1323, 3780,     50.1,2,   0.0245,2,   0.02872,2,  34.0462,2,  34.0422,2,  34.2078,2,   335.57,2,   334.99,2,   97.767,   0.0903,2,    0.190,2,  -999.00,9,   23.015,2,    58.82,2,     0.11,    28.47,2,     0.04,     0.15,2,     0.01,     1.98,2,     0.01,    5.395,6,    2.982,6,    0.499,6,    2.733,6,   2189.7,2,   2303.7,2,   7.6532,       25,2, -999.000,1, -999.000,   -999.0,1,   -999.0, -999.000,9, -999.000, -999.000,9, -999.000
  49NZ20130106,  S04I,   104,  1,     33, X12J33,2,20130117,0759,-63.1092,  87.1323, 3780,     75.4,2,  -1.3135,2,  -1.31368,2,  34.2212,2,  34.2177,2,  34.3826,2,   300.61,2,   301.49,2,   97.532,   0.1000,2,    0.370,2,  -999.00,9,    5.453,2,    61.48,2,     0.11,    29.86,2,     0.04,     0.07,2,     0.01,     2.08,2,     0.01,    4.257,2,    2.387,2,    0.384,2,    2.002,2,   2212.1,6,   2314.4,2,   7.6240,       25,2, -999.000,1, -999.000,   -999.0,1,   -999.0, -999.000,9, -999.000, -999.000,9, -999.000
  49NZ20130106,  S04I,   104,  1,     32, X12J32,2,20130117,0759,-63.1092,  87.1323, 3780,    100.3,2,  -1.1783,2,  -1.17671,2,  34.3059,2,  34.3051,2,  34.4746,2,   279.11,2,   279.72,2,   98.066,   0.0781,2,    0.420,2,  -999.00,9,    1.940,2,    64.80,2,     0.12,    30.93,2,     0.04,     0.08,2,     0.01,     2.15,2,     0.01,    3.881,2,    2.123,2,    0.359,2,    1.856,2,   2224.6,2,   2319.2,6,   7.6042,       25,2, -999.000,1, -999.000,   -999.0,1,   -999.0, -999.000,9, -999.000, -999.000,9, -999.000
  49NZ20130106,  S04I,   104,  1,     31, X12J31,2,20130117,0759,-63.1092,  87.1323, 3780,    124.7,2,  -0.9772,2,  -0.98932,2,  34.3634,2,  34.3539,2,  34.5157,2,   268.03,2,   271.32,2,   99.206,   0.0319,2,    0.200,2,  -999.00,9,    0.662,2,    66.64,2,     0.12,    31.36,2,     0.04,     0.10,2,     0.01,     2.18,2,     0.01,    3.794,2,    2.074,2,    0.340,2,    1.790,2,   2230.8,2,   2321.7,2,   7.5955,       25,2, -999.000,1, -999.000,   -999.0,1,   -999.0, -999.000,9, -999.000, -999.000,9, -999.000
  49NZ20130106,  S04I,   104,  1,     30, X12J30,2,20130117,0759,-63.1092,  87.1323, 3780,    149.8,2,  -1.2538,2,  -1.25330,2,  34.3790,2,  34.3796,2,  34.5494,2,   276.27,2,   275.34,2,   99.602,   0.0160,2,    0.120,2,  -999.00,9,    0.242,2,    67.25,2,     0.12,    31.26,2,     0.04,     0.03,2,     0.01,     2.17,2,     0.01,    3.889,2,    2.142,2,    0.363,2,    1.849,2,   2225.8,2,   2322.6,2,   7.5984,       25,6, -999.000,1, -999.000,   -999.0,1,   -999.0, -999.000,9, -999.000, -999.000,9, -999.000
  49NZ20130106,  S04I,   104,  1,     29, X12J29,2,20130117,0759,-63.1092,  87.1323, 3780,    199.4,2,   0.5940,2,   0.59351,2,  34.5504,2,  34.5466,2,  34.7168,2,   217.62,2,   218.87,2,   99.752,   0.0099,2,    0.020,2,  -999.00,9,    0.016,2,    77.73,2,     0.13,    32.58,2,     0.05,     0.02,2,     0.01,     2.25,2,     0.01,    2.050,2,    1.119,2,    0.193,2,    0.853,2,   2253.9,2,   2333.2,2,   7.5733,       25,2, -999.000,1, -999.000,   -999.0,1,   -999.0, -999.000,9, -999.000, -999.000,9, -999.000
  49NZ20130106,  S04I,   104,  1,     28, X12J28,2,20130117,0759,-63.1092,  87.1323, 3780,    250.3,2,   1.1750,2,   1.18191,2,  34.6306,2,  34.6328,2,  34.8058,2,   199.79,2,   199.13,2,   99.816,   0.0074,2,    0.010,2,  -999.00,9,    0.000,2,    82.40,2,     0.13,    32.61,2,     0.05,     0.01,2,     0.01,     2.25,2,     0.01, -999.000,5, -999.000,5, -999.000,5, -999.000,5,   2251.4,3,   2339.1,2,   7.5724,       25,2, -999.000,1, -999.000,   -999.0,1,   -999.0, -999.000,9, -999.000, -999.000,9, -999.000
  49NZ20130106,  S04I,   104,  1,     27, X12J27,2,20130117,0759,-63.1092,  87.1323, 3780,    280.6,2,   1.4847,2,   1.48488,2,  34.6709,2,  34.6698,2,  34.8394,2,   191.44,2,   191.16,2,   99.841,   0.0064,2,    0.000,2,  -999.00,9,    0.000,2,    84.15,2,     0.13,    32.48,2,     0.05,     0.01,2,     0.01,     2.25,2,     0.01, -999.000,5, -999.000,5, -999.000,5, -999.000,5,   2258.7,2,   2342.5,2,   7.5736,       25,2, -999.000,1, -999.000,   -999.0,1,   -999.0, -999.000,9, -999.000, -999.000,9, -999.000
  49NZ20130106,  S04I,   104,  1,     26, X12J26,2,20130117,0759,-63.1092,  87.1323, 3780,    370.8,2,   1.5059,2,   1.50407,2,  34.7009,2,  34.6982,2,  34.8691,2,   194.39,2,   194.87,2,   99.936,   0.0026,2,    0.000,2,  -999.00,9,    0.000,2,    85.42,2,     0.14,    31.79,2,     0.04,     0.01,2,     0.01,     2.19,2,     0.01, -999.000,5, -999.000,5, -999.000,5, -999.000,5,   2257.6,3,   2344.8,2,   7.5859,       25,2, -999.000,1, -999.000,   -999.0,1,   -999.0, -999.000,9, -999.000, -999.000,9, -999.000
  49NZ20130106,  S04I,   104,  1,     25, X12J25,2,20130117,0759,-63.1092,  87.1323, 3780,    469.4,2,   1.5326,2,   1.52918,2,  34.7228,2,  34.7242,2,  34.8935,2,   195.78,2,   195.44,2,   99.985,   0.0006,2,    0.000,2,  -999.00,9,    0.000,2,    87.41,2,     0.14,    31.28,2,     0.04,     0.00,2,     0.01,     2.16,2,     0.01, -999.000,5, -999.000,5, -999.000,5, -999.000,5,   2257.1,2,   2347.2,2,   7.5962,       25,2, -999.000,1, -999.000,   -999.0,1,   -999.0, -999.000,9, -999.000, -999.000,9, -999.000
  49NZ20130106,  S04I,   104,  1,     24, X12J24,2,20130117,0759,-63.1092,  87.1323, 3780,    571.3,2,   1.4679,2,   1.46601,2,  34.7310,2,  34.7304,2,  34.9021,2,   198.01,2,   198.06,2,   99.981,   0.0008,2,    0.000,2,  -999.00,9,    0.000,2,    90.00,2,     0.14,    31.09,2,     0.04,     0.01,2,     0.01,     2.15,2,     0.01,    0.391,6,    0.190,6,    0.028,6,    0.130,6,   2250.6,3,   2349.2,2,   7.6017,       25,2, -999.000,1, -999.000,   -999.0,1,   -999.0, -999.000,9, -999.000, -999.000,9, -999.000
  49NZ20130106,  S04I,   104,  1,     23, X12J23,2,20130117,0759,-63.1092,  87.1323, 3780,    669.7,2,   1.3710,2,   1.37084,2,  34.7299,2,  34.7303,2,  34.9027,2,   200.03,2,   200.06,2,   99.968,   0.0013,2,    0.000,2,  -999.00,9,    0.000,2,    92.10,2,     0.14,    31.09,2,     0.04,     0.01,2,     0.01,     2.16,2,     0.01,    0.375,2,    0.185,2,    0.024,2,    0.088,2,   2253.0,6,   2350.5,2,   7.6034,       25,2, -999.000,1, -999.000,   -999.0,1,   -999.0, -999.000,9, -999.000, -999.000,9, -999.000
  49NZ20130106,  S04I,   104,  1,     22, X12J22,2,20130117,0759,-63.1092,  87.1323, 3780,    769.3,2,   1.2511,2,   1.25171,2,  34.7268,2,  34.7270,2,  34.8994,2,   201.45,2,   201.53,2,   99.987,   0.0005,2,    0.000,2,  -999.00,9,    0.000,2,    95.17,2,     0.14,    31.18,2,     0.04,     0.01,2,     0.01,     2.16,2,     0.01,    0.371,2,    0.182,2,    0.023,2,    0.088,2,   2252.2,3,   2351.8,6,   7.6034,       25,2, -999.000,1, -999.000,   -999.0,1,   -999.0, -999.000,9, -999.000, -999.000,9, -999.000
  49NZ20130106,  S04I,   104,  1,     21, X12J21,2,20130117,0759,-63.1092,  87.1323, 3780,    868.8,2,   1.1464,2,   1.14622,2,  34.7233,2,  34.7231,2,  34.8909,2,   203.03,2,   203.20,2,   99.994,   0.0002,2,    0.000,2,  -999.00,9,    0.000,2,    98.04,2,     0.15,    31.34,2,     0.04,     0.00,2,     0.01,     2.17,2,     0.01,    0.371,2,    0.178,2,    0.021,2,    0.101,2,   2256.0,2,   2352.7,2,   7.6036,       25,2, -999.000,1, -999.000,   -999.0,1,   -999.0, -999.000,9, -999.000, -999.000,9, -999.000
  49NZ20130106,  S04I,   104,  1,     20, X12J20,2,20130117,0759,-63.1092,  87.1323, 3780,    959.7,2,   1.0827,2,   1.08269,2,  34.7218,2,  34.7217,2,  34.8922,2,   203.53,2,   203.69,2,   99.975,   0.0010,2,   -0.000,2,  -999.00,9,    0.000,2,   100.41,2,     0.15,    31.44,2,     0.04,     0.00,2,     0.01,     2.18,2,     0.01,    0.332,2,    0.162,2,    0.013,2,    0.096,2,   2255.1,2,   2353.6,2,   7.6043,       25,2, -999.000,1, -999.000,   -999.0,1,   -999.0, -999.000,9, -999.000, -999.000,9, -999.000
  49NZ20130106,  S04I,   104,  1,     19, X12J19,2,20130117,0759,-63.1092,  87.1323, 3780,   1170.0,2,   0.8476,2,   0.84764,2,  34.7076,2,  34.7079,2,  34.8830,2,   205.93,2,   206.02,2,   99.983,   0.0007,2,   -0.000,2,  -999.00,9,    0.000,2,   105.78,2,     0.15,    31.95,2,     0.04,     0.01,2,     0.01,     2.22,2,     0.01,    0.417,6,    0.205,6,    0.019,6,    0.131,6,   2256.9,2,   2354.8,2,   7.5986,       25,2, -999.000,1, -999.000,   -999.0,1,   -999.0, -999.000,9, -999.000, -999.000,9, -999.000
  49NZ20130106,  S04I,   104,  1,     18, X12J18,2,20130117,0759,-63.1092,  87.1323, 3780,   1420.4,2,   0.6814,2,   0.68203,2,  34.7001,2,  34.7000,2,  34.8717,2,   207.64,2,   207.83,2,   99.983,   0.0007,2,   -0.000,2,  -999.00,9,    0.000,2,   111.22,2,     0.16,    32.29,2,     0.05,     0.00,2,     0.01,     2.24,2,     0.01,    0.388,2,    0.184,2,    0.017,2,    0.083,2,   2258.5,2,   2354.5,3,   7.5953,       25,2, -999.000,1, -999.000,   -999.0,1,   -999.0, -999.000,9, -999.000, -999.000,9, -999.000
  49NZ20130106,  S04I,   104,  1,     17, X12J17,2,20130117,0759,-63.1092,  87.1323, 3780,   1669.9,2,   0.5307,2,   0.53067,2,  34.6924,2,  34.6924,2,  34.8658,2,   209.57,2,   209.95,2,   99.991,   0.0004,2,   -0.000,2,  -999.00,9,    0.000,2,   115.76,2,     0.16,    32.55,2,     0.05,     0.01,2,     0.01,     2.27,2,     0.01,    0.381,2,    0.182,2,    0.018,2,    0.152,2,   2259.4,2,   2356.5,2,   7.5936,       25,6, -999.000,1, -999.000,   -999.0,1,   -999.0, -999.000,9, -999.000, -999.000,9, -999.000
  49NZ20130106,  S04I,   104,  1,     16, X12J16,2,20130117,0759,-63.1092,  87.1323, 3780,   1921.3,2,   0.3852,2,   0.38557,2,  34.6854,2,  34.6856,2,  34.8623,2,   212.88,2,   213.09,2,   99.987,   0.0005,2,   -0.000,2,  -999.00,9,    0.000,2,   119.23,2,     0.17,    32.69,2,     0.05,     0.00,2,     0.01,     2.26,2,     0.01,    0.407,2,    0.194,2,    0.019,2,    0.053,2,   2260.6,2,   2356.1,2,   7.5922,       25,2, -999.000,1, -999.000,   -999.0,1,   -999.0, -999.000,9, -999.000, -999.000,9, -999.000
  49NZ20130106,  S04I,   104,  1,     15, X12J15,2,20130117,0759,-63.1092,  87.1323, 3780,   2170.0,2,   0.2582,2,   0.25812,2,  34.6797,2,  34.6798,2,  34.8517,2,   216.87,2,   217.12,2,   99.994,   0.0002,2,   -0.000,2,  -999.00,9,    0.000,2,   121.15,2,     0.17,    32.71,2,     0.05,     0.00,2,     0.01,     2.26,2,     0.01,    0.503,2,    0.246,2,    0.027,2,    0.154,2,   2260.1,2,   2355.7,2,   7.5937,       25,2, -999.000,1, -999.000,   -999.0,1,   -999.0, -999.000,9, -999.000, -999.000,9, -999.000
  49NZ20130106,  S04I,   104,  1,     14, X12J14,2,20130117,0759,-63.1092,  87.1323, 3780,   2421.6,2,   0.1611,2,   0.16100,2,  34.6757,2,  34.6756,2,  34.8487,2,   220.78,2,   221.30,2,   99.989,   0.0004,2,   -0.000,2,  -999.00,9,    0.000,2,   121.68,2,     0.17,    32.65,2,     0.05,     0.00,2,     0.01,     2.26,2,     0.01,    0.674,2,    0.338,2,    0.041,2,    0.154,2,   2258.4,6,   2354.9,2,   7.5931,       25,2, -999.000,1, -999.000,   -999.0,1,   -999.0, -999.000,9, -999.000, -999.000,9, -999.000
  49NZ20130106,  S04I,   104,  1,     13, X12J13,2,20130117,0759,-63.1092,  87.1323, 3780,   2670.9,2,   0.0783,2,   0.07831,2,  34.6721,2,  34.6722,2,  34.8430,2,   224.38,2,   224.56,2,   99.979,   0.0008,2,   -0.010,2,  -999.00,9,    0.000,2,   122.08,2,     0.17,    32.62,2,     0.05,     0.00,2,     0.01,     2.26,2,     0.01,    0.835,2,    0.428,2,    0.053,2,    0.144,2,   2259.6,2,   2354.6,6,   7.5942,       25,2, -999.000,1, -999.000,   -999.0,1,   -999.0, -999.000,9, -999.000, -999.000,9, -999.000
  49NZ20130106,  S04I,   104,  1,     12, X12J12,2,20130117,0759,-63.1092,  87.1323, 3780,   2919.8,2,   0.0156,2,   0.01548,2,  34.6692,2,  34.6692,2,  34.8348,2,   227.25,2,   227.68,2,   99.932,   0.0027,2,   -0.010,2,  -999.00,9,    0.000,2,   122.20,2,     0.17,    32.52,2,     0.05,     0.00,2,     0.01,     2.25,2,     0.01,    1.038,2,    0.535,2,    0.072,2,    0.216,2,   2257.4,2,   2353.9,2,   7.5945,       25,6, -999.000,1, -999.000,   -999.0,1,   -999.0, -999.000,9, -999.000, -999.000,9, -999.000
  49NZ20130106,  S04I,   104,  1,     11, X12J11,2,20130117,0759,-63.1092,  87.1323, 3780,   3169.6,2,  -0.0314,2,  -0.03163,2,  34.6663,2,  34.6665,2,  34.8362,2,   229.51,2,   229.98,2,   99.911,   0.0036,2,   -0.010,2,  -999.00,9,    0.000,2,   122.70,2,     0.17,    32.50,2,     0.05,     0.00,2,     0.01,     2.26,2,     0.01,    1.176,2,    0.647,2,    0.078,2,    0.288,2,   2258.2,2,   2353.1,2,   7.5953,       25,6, -999.000,1, -999.000,   -999.0,1,   -999.0, -999.000,9, -999.000, -999.000,9, -999.000
  49NZ20130106,  S04I,   104,  1,     10, X12J10,2,20130117,0759,-63.1092,  87.1323, 3780,   3422.3,2,  -0.0736,2,  -0.07381,2,  34.6630,2,  34.6625,2,  34.8363,2,   231.98,2,   232.31,2,   99.879,   0.0048,2,   -0.000,2,  -999.00,9,    0.000,2,   122.11,2,     0.17,    32.44,2,     0.05,     0.00,2,     0.01,     2.25,2,     0.01,    1.409,2,    0.716,2,    0.103,2,    0.355,2,   2256.4,2,   2353.1,2,   7.5940,       25,2, -999.000,1, -999.000,   -999.0,1,   -999.0, -999.000,9, -999.000, -999.000,9, -999.000
  49NZ20130106,  S04I,   104,  1,      9, X12J09,2,20130117,0759,-63.1092,  87.1323, 3780,   3668.5,2,  -0.1062,2,  -0.10622,2,  34.6599,2,  34.6597,2,  34.8315,2,   233.91,2,   234.36,2,   99.792,   0.0083,2,   -0.000,2,  -999.00,9,    0.000,2,   122.64,2,     0.17,    32.42,2,     0.05,     0.01,2,     0.01,     2.25,2,     0.01,    1.513,2,    0.811,2,    0.109,2,    0.391,2,   2257.3,2,   2353.0,2,   7.5943,       25,2, -999.000,1, -999.000,   -999.0,1,   -999.0, -999.000,9, -999.000, -999.000,9, -999.000
  49NZ20130106,  S04I,   104,  1,      1, X12J01,2,20130117,0759,-63.1092,  87.1323, 3780,   3842.2,2,  -0.1483,2,  -0.14859,2,  34.6549,2,  34.6549,2,  34.8276,2,   234.93,2,   235.17,2,   99.445,   0.0223,2,   -0.010,2,  -999.00,9,    0.000,2,   127.64,2,     0.17,    32.45,2,     0.05,     0.01,2,     0.01,     2.26,2,     0.01,    1.834,2,    0.941,2,    0.137,2,    0.536,2,   2258.2,2,   2352.7,2,   7.5912,       25,2, -999.000,1, -999.000,   -999.0,1,   -999.0, -999.000,9, -999.000, -999.000,9, -999.000