BOTTLE,20220819CCHSIOAMB
EXPOCODE,SECT_ID,STNNBR,CASTNO,SAMPNO,BTLNBR,BTLNBR_FLAG_W,DATE,TIME,LATITUDE,LONGITUDE,DEPTH,CTDPRS,CTDPRS_FLAG_W,CTDTMP,CTDTMP_FLAG_W,SBE35,SBE35_FLAG_W,CTDSAL,CTDSAL_FLAG_W,SALNTY,SALNTY_FLAG_W,DNSSAL,DNSSAL_FLAG_W,CTDOXY,CTDOXY_FLAG_W,OXYGEN,OXYGEN_FLAG_W,CTDXMISS,CTDXMISSCP,CTDXMISS_FLAG_W,CTDFLUOR,CTDFLUOR_FLAG_W,CHLORA,CHLORA_FLAG_W,PAR,PAR_FLAG_W,SILCAT,SILCAT_FLAG_W,SILUNC,NITRAT,NITRAT_FLAG_W,NRAUNC,NITRIT,NITRIT_FLAG_W,NRIUNC,PHSPHT,PHSPHT_FLAG_W,PHPUNC,CFC-11,CFC-11_FLAG_W,CFC-12,CFC-12_FLAG_W,CFC113,CFC113_FLAG_W,SF6,SF6_FLAG_W,TCARBN,TCARBN_FLAG_W,ALKALI,ALKALI_FLAG_W,PH_TOT,PH_TMP,PH_TOT_FLAG_W,DELC13,DELC13_FLAG_W,C13ERR,DELC14,DELC14_FLAG_W,C14ERR,CS-134,CS-134_FLAG_W,CS134ER,CS-137,CS-137_FLAG_W,CS137ER
,,,,,,,,UTC,DEG,DEG,METERS,DBAR,,ITS-90,,ITS-90,,PSS-78,,PSS-78,,G/KG,,UMOL/KG,,UMOL/KG,,%TRANS,/METER,,MG/M^3,,MG/CUM,,UE/SQM/S,,UMOL/KG,,UMOL/KG,UMOL/KG,,UMOL/KG,UMOL/KG,,UMOL/KG,UMOL/KG,,UMOL/KG,PMOL/KG,,PMOL/KG,,PMOL/KG,,FMOL/KG,,UMOL/KG,,UMOL/KG,,,DEG C,,/MILLE,,/MILLE,/MILLE,,/MILLE,MBQ/KG,,MBQ/KG,MBQ/KG,,MBQ/KG
  49NZ20130106,  S04I,   150,  1,     36, X12J36,2,20130129,1529,-64.6885,  40.0850, 4714,      4.6,2,   1.4131,2,   1.41123,2,  33.8575,2,  33.8575,2,-999.0000,9,   334.47,2,   333.72,2,   99.078,   0.0371,2,    0.100,2,  -999.00,9,   16.188,2,    48.61,2,     0.10,    26.14,2,     0.04,     0.29,2,     0.01,     1.82,2,     0.01,    5.790,2,    3.154,2,    0.496,2,    2.904,2,   2174.4,2,   2295.8,2,   7.6712,       25,6, -999.000,9, -999.000,   -999.0,9,   -999.0, -999.000,9, -999.000, -999.000,9, -999.000
  49NZ20130106,  S04I,   150,  1,     35, X12J35,2,20130129,1529,-64.6885,  40.0850, 4714,     24.9,2,   0.9170,2,   0.91730,2,  33.8666,2,  33.8641,2,-999.0000,9,   336.97,2,   336.01,2,   98.882,   0.0450,2,    0.130,2,  -999.00,9,    5.229,2,    48.66,2,     0.10,    26.16,2,     0.04,     0.26,2,     0.01,     1.84,2,     0.01,    5.825,2,    3.177,2,    0.502,2,    2.941,2,   2173.9,2,   2295.6,2,   7.6681,       25,2, -999.000,9, -999.000,   -999.0,9,   -999.0, -999.000,9, -999.000, -999.000,9, -999.000
  49NZ20130106,  S04I,   150,  1,     34, X12J34,2,20130129,1529,-64.6885,  40.0850, 4714,     49.9,2,  -1.4640,2,  -1.46439,2,  34.1054,2,  34.1069,2,-999.0000,9,   327.35,2,   326.64,2,   98.788,   0.0488,2,    0.160,2,  -999.00,9,    2.291,2,    49.52,2,     0.10,    26.72,2,     0.04,     0.14,2,     0.01,     1.87,2,     0.01,    5.375,6,    2.888,6,    0.465,6,    2.593,6,   2193.2,2,   2311.9,2,   7.6586,       25,2, -999.000,9, -999.000,   -999.0,9,   -999.0, -999.000,9, -999.000, -999.000,9, -999.000
  49NZ20130106,  S04I,   150,  1,     33, X12J33,2,20130129,1529,-64.6885,  40.0850, 4714,     75.0,2,  -1.3497,2,  -1.34839,2,  34.2188,2,  34.2506,2,-999.0000,9,   306.91,2,   298.12,2,   98.812,   0.0478,2,    0.230,2,  -999.00,9,    1.169,2,    56.07,2,     0.11,    28.44,2,     0.04,     0.16,2,     0.01,     1.99,2,     0.01,    4.626,2,    2.489,2,    0.398,2,    2.220,2,   2211.0,6,   2320.2,2,   7.6321,       25,2, -999.000,9, -999.000,   -999.0,9,   -999.0, -999.000,9, -999.000, -999.000,9, -999.000
  49NZ20130106,  S04I,   150,  1,     32, X12J32,2,20130129,1529,-64.6885,  40.0850, 4714,    100.1,2,   1.0734,2,   1.07271,2,  34.5479,2,  34.5489,2,-999.0000,9,   196.86,2,   196.84,2,   98.559,   0.0581,2,    0.320,2,  -999.00,9,    0.401,2,    82.08,2,     0.13,    33.94,2,     0.05,     0.04,2,     0.01,     2.37,2,     0.01,    1.672,2,    0.890,2,    0.137,2,    0.609,2,   2255.7,2,   2336.2,6,   7.5490,       25,2, -999.000,9, -999.000,   -999.0,9,   -999.0, -999.000,9, -999.000, -999.000,9, -999.000
  49NZ20130106,  S04I,   150,  1,     31, X12J31,2,20130129,1529,-64.6885,  40.0850, 4714,    124.2,2,   1.3278,2,   1.32659,2,  34.5947,2,  34.5924,2,-999.0000,9,   184.82,2,   184.82,2,   99.356,   0.0258,2,    0.180,2,  -999.00,9,    0.114,2,    85.43,2,     0.14,    34.37,2,     0.05,     0.10,2,     0.01,     2.40,2,     0.01,    1.279,2,    0.693,2,    0.109,2,    0.405,2,   2260.3,2,   2336.3,2,   7.5398,       25,2, -999.000,9, -999.000,   -999.0,9,   -999.0, -999.000,9, -999.000, -999.000,9, -999.000
  49NZ20130106,  S04I,   150,  1,     30, X12J30,2,20130129,1529,-64.6885,  40.0850, 4714,    149.8,2,   1.3446,2,   1.34491,2,  34.6110,2,  34.6107,2,-999.0000,9,   184.06,2,   183.72,2,   99.512,   0.0196,2,    0.130,2,  -999.00,9,    0.017,2,    86.31,2,     0.14,    34.27,2,     0.05,     0.08,2,     0.01,     2.39,2,     0.01,    1.173,2,    0.626,2,    0.100,2,    0.400,2,   2261.7,2,   2338.9,2,   7.5425,       25,6, -999.000,9, -999.000,   -999.0,9,   -999.0, -999.000,9, -999.000, -999.000,9, -999.000
  49NZ20130106,  S04I,   150,  1,     29, X12J29,2,20130129,1529,-64.6885,  40.0850, 4714,    198.9,2,   1.5022,2,   1.50222,2,  34.6519,2,  34.6523,2,-999.0000,9,   181.28,2,   181.09,2,   99.850,   0.0060,2,    0.010,2,  -999.00,9,    0.000,2,    88.35,2,     0.14,    33.88,2,     0.05,     0.03,2,     0.01,     2.35,2,     0.01,    0.851,2,    0.454,2,    0.071,2,    0.292,2,   2261.0,2,   2342.7,2,   7.5520,       25,2, -999.000,9, -999.000,   -999.0,9,   -999.0, -999.000,9, -999.000, -999.000,9, -999.000
  49NZ20130106,  S04I,   150,  1,     28, X12J28,2,20130129,1529,-64.6885,  40.0850, 4714,    249.3,2,   1.5191,2,   1.51905,2,  34.6759,2,  34.6753,2,-999.0000,9,   184.16,2,   183.97,2,   99.829,   0.0068,2,    0.010,2,  -999.00,9,    0.000,2,    89.44,2,     0.14,    33.23,2,     0.05,     0.02,2,     0.01,     2.30,2,     0.01,    0.742,2,    0.380,2,    0.060,2,    0.208,2,   2259.7,2,   2345.1,2,   7.5639,       25,2, -999.000,9, -999.000,   -999.0,9,   -999.0, -999.000,9, -999.000, -999.000,9, -999.000
  49NZ20130106,  S04I,   150,  1,     27, X12J27,2,20130129,1529,-64.6885,  40.0850, 4714,    279.7,2,   1.5094,2,   1.50900,2,  34.6872,2,  34.6863,2,-999.0000,9,   186.09,2,   185.70,2,   99.846,   0.0062,2,    0.010,2,  -999.00,9,    0.000,2,    89.78,2,     0.14,    32.87,2,     0.05,     0.01,2,     0.01,     2.28,2,     0.01,    0.659,2,    0.339,2,    0.054,2,    0.045,2,   2260.1,2,   2346.7,2,   7.5700,       25,2, -999.000,9, -999.000,   -999.0,9,   -999.0, -999.000,9, -999.000, -999.000,9, -999.000
  49NZ20130106,  S04I,   150,  1,     26, X12J26,2,20130129,1529,-64.6885,  40.0850, 4714,    369.5,2,   1.4624,2,   1.46219,2,  34.7028,2,  34.7030,2,-999.0000,9,   190.26,2,   189.94,2,   99.899,   0.0040,2,    0.010,2,  -999.00,9,    0.000,2,    91.28,2,     0.14,    32.32,2,     0.05,     0.01,2,     0.01,     2.24,2,     0.01,    0.546,2,    0.282,2,    0.045,2,    0.028,2,   2256.1,2,   2348.1,2,   7.5814,       25,2, -999.000,9, -999.000,   -999.0,9,   -999.0, -999.000,9, -999.000, -999.000,9, -999.000
  49NZ20130106,  S04I,   150,  1,     25, X12J25,2,20130129,1529,-64.6885,  40.0850, 4714,    468.6,2,   1.3693,2,   1.36894,2,  34.7132,2,  34.7127,2,-999.0000,9,   193.79,2,   193.31,2,   99.935,   0.0026,2,    0.000,2,  -999.00,9,    0.000,2,    93.47,2,     0.14,    32.03,2,     0.04,     0.01,2,     0.01,     2.21,2,     0.01,    0.477,2,    0.242,2,    0.038,2,    0.022,2,   2254.4,2,   2349.9,2,   7.5877,       25,2, -999.000,9, -999.000,   -999.0,9,   -999.0, -999.000,9, -999.000, -999.000,9, -999.000
  49NZ20130106,  S04I,   150,  1,     24, X12J24,2,20130129,1529,-64.6885,  40.0850, 4714,    570.3,2,   1.2687,2,   1.26896,2,  34.7157,2,  34.7158,2,-999.0000,9,   196.83,2,   196.60,2,   99.944,   0.0022,2,    0.000,2,  -999.00,9,    0.000,2,    96.25,2,     0.15,    31.90,2,     0.04,     0.01,2,     0.01,     2.21,2,     0.01,    0.437,6,    0.220,6,    0.030,6,    0.028,6,   2253.7,2,   2351.3,2,   7.5926,       25,2, -999.000,9, -999.000,   -999.0,9,   -999.0, -999.000,9, -999.000, -999.000,9, -999.000
  49NZ20130106,  S04I,   150,  1,     23, X12J23,2,20130129,1529,-64.6885,  40.0850, 4714,    668.4,2,   1.1718,2,   1.17222,2,  34.7158,2,  34.7160,2,-999.0000,9,   198.78,2,   198.38,2,   99.950,   0.0020,2,    0.010,2,  -999.00,9,    0.000,2,    98.60,2,     0.15,    31.81,2,     0.04,     0.01,2,     0.01,     2.20,2,     0.01,    0.405,2,    0.205,2,    0.026,2,    0.029,2,   2253.9,6,   2352.5,2,   7.5950,       25,2, -999.000,9, -999.000,   -999.0,9,   -999.0, -999.000,9, -999.000, -999.000,9, -999.000
  49NZ20130106,  S04I,   150,  1,     22, X12J22,2,20130129,1529,-64.6885,  40.0850, 4714,    769.4,2,   1.0761,2,   1.07614,2,  34.7137,2,  34.7134,2,-999.0000,9,   200.02,2,   199.62,2,   99.959,   0.0016,2,    0.000,2,  -999.00,9,    0.000,2,   101.36,2,     0.15,    31.96,2,     0.04,     0.01,2,     0.01,     2.22,2,     0.01,    0.392,2,    0.198,2,    0.026,2,    0.012,2,   2255.6,2,   2353.8,6,   7.5955,       25,2, -999.000,9, -999.000,   -999.0,9,   -999.0, -999.000,9, -999.000, -999.000,9, -999.000
  49NZ20130106,  S04I,   150,  1,     21, X12J21,2,20130129,1529,-64.6885,  40.0850, 4714,    871.3,2,   0.9579,2,   0.95838,2,  34.7095,2,  34.7097,2,-999.0000,9,   201.62,2,   201.22,2,   99.937,   0.0025,2,    0.000,2,  -999.00,9,    0.000,2,   104.29,2,     0.15,    32.08,2,     0.04,     0.01,2,     0.01,     2.22,2,     0.01,    0.392,2,    0.190,2,    0.023,2,    0.097,2,   2255.7,2,   2354.8,2,   7.5951,       25,6, -999.000,9, -999.000,   -999.0,9,   -999.0, -999.000,9, -999.000, -999.000,9, -999.000
  49NZ20130106,  S04I,   150,  1,     20, X12J20,2,20130129,1529,-64.6885,  40.0850, 4714,    957.5,2,   0.8889,2,   0.88884,2,  34.7069,2,  34.7069,2,-999.0000,9,   202.60,2,   202.24,2,   99.976,   0.0010,2,    0.000,2,  -999.00,9,    0.000,2,   106.56,2,     0.15,    32.21,2,     0.05,     0.01,2,     0.01,     2.23,2,     0.01,    0.387,2,    0.189,2,    0.026,2,    0.065,2,   2257.4,2,   2355.0,2,   7.5946,       25,2, -999.000,9, -999.000,   -999.0,9,   -999.0, -999.000,9, -999.000, -999.000,9, -999.000
  49NZ20130106,  S04I,   150,  1,     19, X12J19,2,20130129,1529,-64.6885,  40.0850, 4714,   1169.1,2,   0.7251,2,   0.72519,2,  34.6996,2,  34.6995,2,-999.0000,9,   204.63,2,   204.31,2,   99.978,   0.0009,2,    0.000,2,  -999.00,9,    0.000,2,   110.54,2,     0.16,    32.49,2,     0.05,     0.01,2,     0.01,     2.25,2,     0.01,    0.395,6,    0.192,6,    0.024,6,    0.065,6,   2259.0,2,   2355.9,2,   7.5922,       25,2, -999.000,9, -999.000,   -999.0,9,   -999.0, -999.000,9, -999.000, -999.000,9, -999.000
  49NZ20130106,  S04I,   150,  1,     18, X12J18,2,20130129,1529,-64.6885,  40.0850, 4714,   1419.6,2,   0.5572,2,   0.55735,2,  34.6912,2,  34.6909,2,-999.0000,9,   207.31,2,   206.85,2,   99.988,   0.0005,2,    0.000,2,  -999.00,9,    0.000,2,   114.60,2,     0.16,    32.73,2,     0.05,     0.01,2,     0.01,     2.27,2,     0.01,    0.418,2,    0.205,2,    0.026,2,    0.041,2,   2261.2,2,   2357.7,2,   7.5898,       25,2, -999.000,9, -999.000,   -999.0,9,   -999.0, -999.000,9, -999.000, -999.000,9, -999.000
  49NZ20130106,  S04I,   150,  1,     17, X12J17,2,20130129,1529,-64.6885,  40.0850, 4714,   1670.7,2,   0.4463,2,   0.44628,2,  34.6868,2,  34.6867,2,-999.0000,9,   209.01,2,   208.74,2,   99.993,   0.0003,2,    0.000,2,  -999.00,9,    0.000,2,   118.61,2,     0.17,    32.95,2,     0.05,     0.00,2,     0.01,     2.30,2,     0.01,    0.377,2,    0.182,2,    0.020,2,    0.073,2,   2261.3,2,   2357.7,2,   7.5891,       25,6, -999.000,9, -999.000,   -999.0,9,   -999.0, -999.000,9, -999.000, -999.000,9, -999.000
  49NZ20130106,  S04I,   150,  1,     16, X12J16,2,20130129,1529,-64.6885,  40.0850, 4714,   1918.8,2,   0.3362,2,   0.33684,2,  34.6815,2,  34.6810,2,-999.0000,9,   211.84,2,   211.64,2,  100.001,  -0.0000,2,    0.000,2,  -999.00,9,    0.000,2,   121.08,2,     0.17,    33.04,2,     0.05,     0.00,2,     0.01,     2.30,2,     0.01,    0.381,2,    0.183,2,    0.020,2,    0.032,2,   2260.9,2,   2357.9,2,   7.5887,       25,2, -999.000,9, -999.000,   -999.0,9,   -999.0, -999.000,9, -999.000, -999.000,9, -999.000
  49NZ20130106,  S04I,   150,  1,     15, X12J15,2,20130129,1529,-64.6885,  40.0850, 4714,   2169.4,2,   0.2282,2,   0.22831,2,  34.6760,2,  34.6765,2,-999.0000,9,   216.03,2,   215.89,2,   99.997,   0.0001,2,    0.000,2,  -999.00,9,    0.000,2,   122.28,2,     0.17,    32.99,2,     0.05,     0.00,2,     0.01,     2.30,2,     0.01,    0.420,2,    0.208,2,    0.023,2,    0.000,2,   2263.0,3,   2356.8,2,   7.5900,       25,2, -999.000,9, -999.000,   -999.0,9,   -999.0, -999.000,9, -999.000, -999.000,9, -999.000
  49NZ20130106,  S04I,   150,  1,     14, X12J14,2,20130129,1529,-64.6885,  40.0850, 4714,   2419.2,2,   0.1396,2,   0.13973,2,  34.6716,2,  34.6716,2,-999.0000,9,   219.77,2,   219.44,2,   99.997,   0.0001,2,    0.000,2,  -999.00,9,    0.000,2,   123.17,2,     0.17,    32.94,2,     0.05,     0.00,2,     0.01,     2.28,2,     0.01,    0.471,2,    0.232,2,    0.026,2,    0.027,2,   2260.2,2,   2355.2,2,   7.5912,       25,2, -999.000,9, -999.000,   -999.0,9,   -999.0, -999.000,9, -999.000, -999.000,9, -999.000
  49NZ20130106,  S04I,   150,  1,     13, X12J13,2,20130129,1529,-64.6885,  40.0850, 4714,   2671.4,2,   0.0614,2,   0.06148,2,  34.6687,2,  34.6685,2,-999.0000,9,   222.96,2,   222.70,2,   99.990,   0.0004,2,    0.000,2,  -999.00,9,    0.000,2,   124.33,2,     0.17,    32.97,2,     0.05,     0.01,2,     0.01,     2.28,2,     0.01,    0.461,2,    0.226,2,    0.023,2,    0.029,2,   2259.2,2,   2355.2,6,   7.5928,       25,2, -999.000,9, -999.000,   -999.0,9,   -999.0, -999.000,9, -999.000, -999.000,9, -999.000
  49NZ20130106,  S04I,   150,  1,     12, X12J12,2,20130129,1529,-64.6885,  40.0850, 4714,   2918.8,2,  -0.0158,2,  -0.01541,2,  34.6654,2,  34.6653,2,-999.0000,9,   226.84,2,   226.28,2,   99.995,   0.0002,2,    0.000,2,  -999.00,9,    0.000,2,   125.06,2,     0.17,    32.93,2,     0.05,     0.00,2,     0.01,     2.30,2,     0.01,    0.499,2,    0.245,2,    0.024,2,    0.068,2,   2257.9,2,   2354.4,2,   7.5946,       25,2, -999.000,9, -999.000,   -999.0,9,   -999.0, -999.000,9, -999.000, -999.000,9, -999.000
  49NZ20130106,  S04I,   150,  1,     11, X12J11,2,20130129,1529,-64.6885,  40.0850, 4714,   3171.7,2,  -0.0832,2,  -0.08318,2,  34.6618,2,  34.6623,2,-999.0000,9,   230.78,2,   230.28,2,   99.993,   0.0003,2,    0.000,2,  -999.00,9,    0.000,2,   124.51,2,     0.17,    32.84,2,     0.05,     0.00,2,     0.01,     2.29,2,     0.01,    0.581,2,    0.284,2,    0.032,2,    0.063,2,   2256.5,2,   2353.8,2,   7.5970,       25,2, -999.000,9, -999.000,   -999.0,9,   -999.0, -999.000,9, -999.000, -999.000,9, -999.000
  49NZ20130106,  S04I,   150,  1,     10, X12J10,2,20130129,1529,-64.6885,  40.0850, 4714,   3420.8,2,  -0.1279,2,  -0.12781,2,  34.6600,2,  34.6593,2,-999.0000,9,   233.41,2,   232.79,2,   99.984,   0.0006,2,    0.000,2,  -999.00,9,    0.000,2,   124.89,2,     0.17,    32.82,2,     0.05,     0.01,2,     0.01,     2.29,2,     0.01,    0.593,2,    0.287,2,    0.035,2,    0.066,2,   2255.5,2,   2353.8,2,   7.5989,       25,2, -999.000,9, -999.000,   -999.0,9,   -999.0, -999.000,9, -999.000, -999.000,9, -999.000
  49NZ20130106,  S04I,   150,  1,      9, X12J09,2,20130129,1529,-64.6885,  40.0850, 4714,   3671.4,2,  -0.1722,2,  -0.17207,2,  34.6573,2,  34.6571,2,-999.0000,9,   236.75,2,   236.29,2,   99.976,   0.0010,2,    0.000,2,  -999.00,9,    0.000,2,   124.33,2,     0.17,    32.75,2,     0.05,     0.01,2,     0.01,     2.29,2,     0.01,    0.693,2,    0.344,2,    0.043,2,    0.041,2,   2254.2,2,   2353.5,2,   7.6005,       25,2, -999.000,9, -999.000,   -999.0,9,   -999.0, -999.000,9, -999.000, -999.000,9, -999.000
  49NZ20130106,  S04I,   150,  1,      8, X12J08,2,20130129,1529,-64.6885,  40.0850, 4714,   3920.2,2,  -0.2144,2,  -0.21434,2,  34.6544,2,  34.6538,2,-999.0000,9,   240.65,2,   240.25,2,   99.956,   0.0018,2,    0.000,2,  -999.00,9,    0.000,2,   122.78,2,     0.17,    32.60,2,     0.05,     0.01,2,     0.01,     2.27,2,     0.01,    0.875,6,    0.453,6,    0.062,6,    0.229,6,   2252.9,2,   2353.5,2,   7.6021,       25,2, -999.000,9, -999.000,   -999.0,9,   -999.0, -999.000,9, -999.000, -999.000,9, -999.000
  49NZ20130106,  S04I,   150,  1,      7, X12J07,2,20130129,1529,-64.6885,  40.0850, 4714,   4172.6,2,  -0.2409,2,  -0.24086,2,  34.6526,2,  34.6527,2,-999.0000,9,   242.79,2,   242.41,2,   99.952,   0.0019,2,    0.000,2,  -999.00,9,    0.000,2,   123.54,2,     0.17,    32.61,2,     0.05,     0.01,2,     0.01,     2.27,2,     0.01,    0.896,2,    0.468,2,    0.067,2,    0.224,2,   2252.6,6,   2352.9,2,   7.6032,       25,2, -999.000,9, -999.000,   -999.0,9,   -999.0, -999.000,9, -999.000, -999.000,9, -999.000
  49NZ20130106,  S04I,   150,  1,      6, X12J06,2,20130129,1529,-64.6885,  40.0850, 4714,   4419.3,2,  -0.2622,2,  -0.26222,2,  34.6510,2,  34.6510,2,-999.0000,9,   244.32,2,   243.73,2,   99.927,   0.0029,2,    0.000,2,  -999.00,9,    0.000,2,   125.90,2,     0.17,    32.58,2,     0.05,     0.00,2,     0.01,     2.27,2,     0.01,    0.888,2,    0.465,2,    0.063,2,    0.222,2,   2252.6,2,   2352.3,6,   7.6043,       25,2, -999.000,9, -999.000,   -999.0,9,   -999.0, -999.000,9, -999.000, -999.000,9, -999.000
  49NZ20130106,  S04I,   150,  1,      5, X12J05,2,20130129,1529,-64.6885,  40.0850, 4714,   4670.2,2,  -0.2807,2,  -0.28057,2,  34.6501,2,  34.6501,2,-999.0000,9,   243.61,2,   243.13,2,   99.829,   0.0068,2,    0.000,2,  -999.00,9,    0.000,2,   134.27,2,     0.18,    32.72,2,     0.05,     0.00,2,     0.01,     2.28,2,     0.01,    0.793,2,    0.382,2,    0.046,2,    0.154,2,   2252.9,6,   2353.2,2,   7.6035,       25,6, -999.000,9, -999.000,   -999.0,9,   -999.0, -999.000,9, -999.000, -999.000,9, -999.000
  49NZ20130106,  S04I,   150,  1,      2, X12J02,2,20130129,1529,-64.6885,  40.0850, 4714,    101.6,2,   1.1010,2,   1.09789,2,  34.5535,2,  34.5642,2,-999.0000,9,   195.19,2,   191.78,2,   98.625,   0.0554,2,    0.330,2,     0.34,2,    0.389,2,    83.60,2,     0.13,    34.16,2,     0.05,     0.05,2,     0.01,     2.39,2,     0.01, -999.000,9, -999.000,9, -999.000,9, -999.000,9,   -999.0,9,   -999.0,9,-999.0000,     -999,9, -999.000,9, -999.000,   -999.0,9,   -999.0, -999.000,9, -999.000, -999.000,9, -999.000
  49NZ20130106,  S04I,   150,  1,      1, X12J01,2,20130129,1529,-64.6885,  40.0850, 4714,   4803.4,2,  -0.2930,2,  -0.29303,2,  34.6502,2,  34.6506,2,-999.0000,9,   241.77,2,   241.33,2,   99.303,   0.0280,2,    0.000,2,  -999.00,9,    0.000,2,   141.99,2,     0.19,    32.89,2,     0.05,     0.01,2,     0.01,     2.29,2,     0.01,    0.577,2,    0.275,2,    0.028,2,    0.053,2,   2255.7,2,   2354.2,2,   7.6025,       25,2, -999.000,9, -999.000,   -999.0,9,   -999.0, -999.000,9, -999.000, -999.000,9, -999.000