BOTTLE,20220819CCHSIOAMB
EXPOCODE,SECT_ID,STNNBR,CASTNO,SAMPNO,BTLNBR,BTLNBR_FLAG_W,DATE,TIME,LATITUDE,LONGITUDE,DEPTH,CTDPRS,CTDPRS_FLAG_W,CTDTMP,CTDTMP_FLAG_W,SBE35,SBE35_FLAG_W,CTDSAL,CTDSAL_FLAG_W,SALNTY,SALNTY_FLAG_W,DNSSAL,DNSSAL_FLAG_W,CTDOXY,CTDOXY_FLAG_W,OXYGEN,OXYGEN_FLAG_W,CTDXMISS,CTDXMISSCP,CTDXMISS_FLAG_W,CTDFLUOR,CTDFLUOR_FLAG_W,CHLORA,CHLORA_FLAG_W,PAR,PAR_FLAG_W,SILCAT,SILCAT_FLAG_W,SILUNC,NITRAT,NITRAT_FLAG_W,NRAUNC,NITRIT,NITRIT_FLAG_W,NRIUNC,PHSPHT,PHSPHT_FLAG_W,PHPUNC,CFC-11,CFC-11_FLAG_W,CFC-12,CFC-12_FLAG_W,CFC113,CFC113_FLAG_W,SF6,SF6_FLAG_W,TCARBN,TCARBN_FLAG_W,ALKALI,ALKALI_FLAG_W,PH_TOT,PH_TMP,PH_TOT_FLAG_W,DELC13,DELC13_FLAG_W,C13ERR,DELC14,DELC14_FLAG_W,C14ERR,CS-134,CS-134_FLAG_W,CS134ER,CS-137,CS-137_FLAG_W,CS137ER
,,,,,,,,UTC,DEG,DEG,METERS,DBAR,,ITS-90,,ITS-90,,PSS-78,,PSS-78,,G/KG,,UMOL/KG,,UMOL/KG,,%TRANS,/METER,,MG/M^3,,MG/CUM,,UE/SQM/S,,UMOL/KG,,UMOL/KG,UMOL/KG,,UMOL/KG,UMOL/KG,,UMOL/KG,UMOL/KG,,UMOL/KG,PMOL/KG,,PMOL/KG,,PMOL/KG,,FMOL/KG,,UMOL/KG,,UMOL/KG,,,DEG C,,/MILLE,,/MILLE,/MILLE,,/MILLE,MBQ/KG,,MBQ/KG,MBQ/KG,,MBQ/KG
  49NZ20130106,  S04I,   133,  1,     36, X12J36,2,20130127,0005,-63.5015,  53.6768, 4751,      5.3,2,   0.7089,2,   0.70413,2,  33.7352,2,  33.7361,2,  33.9012,2,   339.01,2,   338.83,2,   99.019,   0.0394,2,    0.090,2,  -999.00,9,   84.942,2,    41.24,2,     0.10,    25.82,2,     0.04,     0.28,2,     0.01,     1.80,2,     0.01,    6.072,2,    3.178,2,    0.573,2,    2.764,2,   2161.4,2,   2286.1,2,   7.6729,       25,6, -999.000,1, -999.000,   -999.0,1,   -999.0, -999.000,9, -999.000, -999.000,9, -999.000
  49NZ20130106,  S04I,   133,  1,     35, X12J35,2,20130127,0005,-63.5015,  53.6768, 4751,     24.4,2,   0.3063,2,   0.30798,2,  33.7631,2,  33.7704,2,  33.9348,2,   341.80,2,   341.98,2,   99.002,   0.0401,2,    0.130,2,  -999.00,9,   28.225,2,    42.49,2,     0.10,    26.03,2,     0.04,     0.24,2,     0.01,     1.82,2,     0.01,    6.118,2,    3.189,2,    0.587,2,    2.832,2,   2167.5,2,   2288.4,2,   7.6688,       25,2, -999.000,1, -999.000,   -999.0,1,   -999.0, -999.000,9, -999.000, -999.000,9, -999.000
  49NZ20130106,  S04I,   133,  1,     34, X12J34,2,20130127,0005,-63.5015,  53.6768, 4751,     49.9,2,  -0.3476,2,  -0.35136,2,  33.8543,2,  33.8605,2,  34.0225,2,   342.65,2,   341.87,2,   98.830,   0.0471,2,    0.190,2,  -999.00,9,   11.071,2,    45.87,2,     0.10,    26.60,2,     0.04,     0.19,2,     0.01,     1.85,2,     0.01,    5.981,6,    3.187,6,    0.569,6,    2.736,6,   2173.4,2,   2293.5,2,   7.6615,       25,2, -999.000,1, -999.000,   -999.0,1,   -999.0, -999.000,9, -999.000, -999.000,9, -999.000
  49NZ20130106,  S04I,   133,  1,     33, X12J33,2,20130127,0005,-63.5015,  53.6768, 4751,     74.7,2,  -1.0339,2,  -1.04943,2,  34.1685,2,  34.1626,2,  34.3225,2,   300.77,2,   296.40,2,   98.786,   0.0489,2,    0.270,2,  -999.00,9,    4.589,2,    53.26,2,     0.11,    29.15,2,     0.04,     0.18,2,     0.01,     2.04,2,     0.01,    4.931,2,    2.595,2,    0.465,2,    2.137,2,   2204.8,6,   2312.1,2,   7.6201,       25,2, -999.000,1, -999.000,   -999.0,1,   -999.0, -999.000,9, -999.000, -999.000,9, -999.000
  49NZ20130106,  S04I,   133,  1,     32, X12J32,2,20130127,0005,-63.5015,  53.6768, 4751,    100.6,2,   0.7008,2,   0.71013,2,  34.3989,2,  34.4008,2,  34.5665,2,   218.87,2,   218.89,2,   99.017,   0.0395,2,    0.280,2,  -999.00,9,    1.468,2,    71.08,2,     0.12,    33.70,2,     0.05,     0.12,2,     0.01,     2.35,2,     0.01,    2.678,2,    1.434,2,    0.243,2,    0.993,2,   2240.7,2,   2323.7,6,   7.5498,       25,2, -999.000,1, -999.000,   -999.0,1,   -999.0, -999.000,9, -999.000, -999.000,9, -999.000
  49NZ20130106,  S04I,   133,  1,     31, X12J31,2,20130127,0005,-63.5015,  53.6768, 4751,    125.0,2,   1.1588,2,   1.15612,2,  34.4934,2,  34.4948,2,  34.6651,2,   198.54,2,   197.84,2,   99.109,   0.0358,2,    0.250,2,  -999.00,9,    0.484,2,    77.89,2,     0.13,    34.37,2,     0.05,     0.07,2,     0.01,     2.39,2,     0.01,    1.925,2,    1.029,2,    0.163,2,    0.620,2,   2250.4,2,   2329.8,2,   7.5393,       25,2, -999.000,1, -999.000,   -999.0,1,   -999.0, -999.000,9, -999.000, -999.000,9, -999.000
  49NZ20130106,  S04I,   133,  1,     30, X12J30,2,20130127,0005,-63.5015,  53.6768, 4751,    150.1,2,   1.4653,2,   1.46571,2,  34.5599,2,  34.5625,2,  34.7319,2,   184.47,2,   184.01,2,   99.464,   0.0215,2,    0.130,2,  -999.00,9,    0.137,2,    82.04,2,     0.13,    34.74,2,     0.05,     0.07,2,     0.01,     2.41,2,     0.01,    1.449,2,    0.722,2,    0.119,2,    0.494,2,   2257.0,2,   2334.2,2,   7.5345,       25,6, -999.000,1, -999.000,   -999.0,1,   -999.0, -999.000,9, -999.000, -999.000,9, -999.000
  49NZ20130106,  S04I,   133,  1,     29, X12J29,2,20130127,0005,-63.5015,  53.6768, 4751,    199.5,2,   1.5909,2,   1.59022,2,  34.6173,2,  34.6148,2,  34.7840,2,   180.17,2,   180.10,2,   99.797,   0.0081,2,    0.020,2,  -999.00,9,    0.000,2,    84.73,2,     0.13,    34.35,2,     0.05,     0.02,2,     0.01,     2.37,2,     0.01,    1.053,2,    0.531,2,    0.080,2,    0.370,2,   2257.5,2,   2336.8,2,   7.5431,       25,2, -999.000,1, -999.000,   -999.0,1,   -999.0, -999.000,9, -999.000, -999.000,9, -999.000
  49NZ20130106,  S04I,   133,  1,     28, X12J28,2,20130127,0005,-63.5015,  53.6768, 4751,    249.0,2,   1.6215,2,   1.62139,2,  34.6528,2,  34.6527,2,  34.8249,2,   181.26,2,   181.09,2,   99.836,   0.0066,2,    0.000,2,  -999.00,9,    0.000,2,    86.48,2,     0.14,    33.67,2,     0.05,     0.01,2,     0.01,     2.32,2,     0.01,    0.817,2,    0.410,2,    0.058,2,    0.228,2,   2256.0,2,   2341.5,2,   7.5549,       25,2, -999.000,1, -999.000,   -999.0,1,   -999.0, -999.000,9, -999.000, -999.000,9, -999.000
  49NZ20130106,  S04I,   133,  1,     27, X12J27,2,20130127,0005,-63.5015,  53.6768, 4751,    329.9,2,   1.6076,2,   1.60662,2,  34.6813,2,  34.6812,2,  34.8513,2,   184.70,2,   184.31,2,   99.870,   0.0052,2,    0.000,2,  -999.00,9,    0.000,2,    87.86,2,     0.14,    33.00,2,     0.05,     0.01,2,     0.01,     2.27,2,     0.01,    0.671,2,    0.328,2,    0.041,2,    0.197,2,   2254.3,2,   2344.8,2,   7.5674,       25,2, -999.000,1, -999.000,   -999.0,1,   -999.0, -999.000,9, -999.000, -999.000,9, -999.000
  49NZ20130106,  S04I,   133,  1,     26, X12J26,2,20130127,0005,-63.5015,  53.6768, 4751,    430.5,2,   1.5999,2,   1.59933,2,  34.7063,2,  34.7066,2,  34.8770,2,   188.78,2,   188.75,2,   99.942,   0.0023,2,    0.000,2,  -999.00,9,    0.000,2,    88.62,2,     0.14,    32.16,2,     0.05,     0.01,2,     0.01,     2.22,2,     0.01,    0.508,2,    0.250,2,    0.031,2,    0.133,2,   2251.8,2,   2346.2,2,   7.5817,       25,2, -999.000,1, -999.000,   -999.0,1,   -999.0, -999.000,9, -999.000, -999.000,9, -999.000
  49NZ20130106,  S04I,   133,  1,     25, X12J25,2,20130127,0005,-63.5015,  53.6768, 4751,    529.0,2,   1.5036,2,   1.50368,2,  34.7152,2,  34.7154,2,  34.8862,2,   192.63,2,   192.69,2,   99.974,   0.0010,2,    0.000,2,  -999.00,9,    0.000,2,    90.51,2,     0.14,    31.82,2,     0.04,     0.01,2,     0.01,     2.18,2,     0.01,    0.470,2,    0.229,2,    0.029,2,    0.098,2,   2249.6,2,   2348.4,2,   7.5886,       25,2, -999.000,1, -999.000,   -999.0,1,   -999.0, -999.000,9, -999.000, -999.000,9, -999.000
  49NZ20130106,  S04I,   133,  1,     24, X12J24,2,20130127,0005,-63.5015,  53.6768, 4751,    631.1,2,   1.4098,2,   1.40958,2,  34.7193,2,  34.7198,2,  34.8888,2,   195.57,2,   195.54,2,   99.955,   0.0018,2,    0.000,2,  -999.00,9,    0.000,2,    92.73,2,     0.14,    31.67,2,     0.04,     0.01,2,     0.01,     2.17,2,     0.01,    0.429,6,    0.215,6,    0.026,6,    0.078,6,   2249.2,2,   2350.2,2,   7.5928,       25,2, -999.000,1, -999.000,   -999.0,1,   -999.0, -999.000,9, -999.000, -999.000,9, -999.000
  49NZ20130106,  S04I,   133,  1,     23, X12J23,2,20130127,0005,-63.5015,  53.6768, 4751,    732.5,2,   1.3075,2,   1.30765,2,  34.7205,2,  34.7207,2,  34.8915,2,   197.78,2,   197.83,2,   99.961,   0.0016,2,    0.000,2,  -999.00,9,    0.000,2,    95.31,2,     0.14,    31.63,2,     0.04,     0.01,2,     0.01,     2.18,2,     0.01,    0.418,2,    0.201,2,    0.026,2,    0.098,2,   2250.0,6,   2351.2,2,   7.5960,       25,2, -999.000,1, -999.000,   -999.0,1,   -999.0, -999.000,9, -999.000, -999.000,9, -999.000
  49NZ20130106,  S04I,   133,  1,     22, X12J22,2,20130127,0005,-63.5015,  53.6768, 4751,    828.5,2,   1.2015,2,   1.20212,2,  34.7182,2,  34.7187,2,  34.8882,2,   199.49,2,   199.58,2,   99.967,   0.0013,2,   -0.000,2,  -999.00,9,    0.000,2,    98.14,2,     0.15,    31.69,2,     0.04,     0.01,2,     0.01,     2.18,2,     0.01,    0.405,2,    0.192,2,    0.023,2,    0.123,2,   2249.9,2,   2351.9,6,   7.5966,       25,2, -999.000,1, -999.000,   -999.0,1,   -999.0, -999.000,9, -999.000, -999.000,9, -999.000
  49NZ20130106,  S04I,   133,  1,     21, X12J21,2,20130127,0005,-63.5015,  53.6768, 4751,    929.2,2,   1.0977,2,   1.09772,2,  34.7160,2,  34.7167,2,  34.8875,2,   201.31,2,   201.24,2,   99.972,   0.0011,2,    0.000,2,  -999.00,9,    0.000,2,   100.92,2,     0.15,    31.73,2,     0.04,     0.01,2,     0.01,     2.19,2,     0.01,    0.392,2,    0.186,2,    0.019,2,    0.088,2,   2251.6,2,   2352.7,2,   7.5972,       25,6, -999.000,1, -999.000,   -999.0,1,   -999.0, -999.000,9, -999.000, -999.000,9, -999.000
  49NZ20130106,  S04I,   133,  1,     20, X12J20,2,20130127,0005,-63.5015,  53.6768, 4751,   1079.9,2,   0.9489,2,   0.94911,2,  34.7091,2,  34.7093,2,  34.8776,2,   202.56,2,   202.52,2,   99.976,   0.0010,2,   -0.000,2,  -999.00,9,    0.000,2,   105.06,2,     0.15,    32.10,2,     0.05,     0.01,2,     0.01,     2.21,2,     0.01,    0.408,2,    0.192,2,    0.021,2,    0.060,2,   2255.0,2,   2354.3,2,   7.5955,       25,2, -999.000,1, -999.000,   -999.0,1,   -999.0, -999.000,9, -999.000, -999.000,9, -999.000
  49NZ20130106,  S04I,   133,  1,     19, X12J19,2,20130127,0005,-63.5015,  53.6768, 4751,   1330.3,2,   0.7689,2,   0.76899,2,  34.7025,2,  34.7025,2,  34.8770,2,   204.81,2,   204.85,2,   99.989,   0.0004,2,   -0.000,2,  -999.00,9,    0.000,2,   110.36,2,     0.16,    32.39,2,     0.05,     0.01,2,     0.01,     2.23,2,     0.01,    0.383,6,    0.177,6,    0.017,6,    0.076,6,   2256.7,2,   2355.6,2,   7.5937,       25,2, -999.000,1, -999.000,   -999.0,1,   -999.0, -999.000,9, -999.000, -999.000,9, -999.000
  49NZ20130106,  S04I,   133,  1,     18, X12J18,2,20130127,0005,-63.5015,  53.6768, 4751,   1579.8,2,   0.6227,2,   0.62271,2,  34.6957,2,  34.6963,2,  34.8695,2,   206.15,2,   206.14,2,   99.982,   0.0007,2,   -0.000,2,  -999.00,9,    0.000,2,   114.96,2,     0.16,    32.67,2,     0.05,     0.01,2,     0.01,     2.26,2,     0.01,    0.369,2,    0.168,2,    0.017,2,    0.063,2,   2259.5,2,   2356.9,2,   7.5903,       25,2, -999.000,1, -999.000,   -999.0,1,   -999.0, -999.000,9, -999.000, -999.000,9, -999.000
  49NZ20130106,  S04I,   133,  1,     17, X12J17,2,20130127,0005,-63.5015,  53.6768, 4751,   1829.9,2,   0.4981,2,   0.49813,2,  34.6895,2,  34.6900,2,  34.8625,2,   207.89,2,   207.95,2,   99.989,   0.0004,2,   -0.000,2,  -999.00,9,    0.000,2,   118.95,2,     0.17,    32.96,2,     0.05,     0.01,2,     0.01,     2.27,2,     0.01,    0.354,2,    0.161,2,    0.013,2,    0.035,2,   2259.7,2,   2357.2,2,   7.5878,       25,2, -999.000,1, -999.000,   -999.0,1,   -999.0, -999.000,9, -999.000, -999.000,9, -999.000
  49NZ20130106,  S04I,   133,  1,     16, X12J16,2,20130127,0005,-63.5015,  53.6768, 4751,   2079.3,2,   0.4016,2,   0.40206,2,  34.6849,2,  34.6849,2,  34.8585,2,   210.32,2,   210.26,2,   99.993,   0.0003,2,   -0.000,2,  -999.00,9,    0.000,2,   121.53,2,     0.17,    32.98,2,     0.05,     0.01,2,     0.01,     2.28,2,     0.01,    0.354,2,    0.160,2,    0.012,2,    0.035,2,   2258.7,2,   2356.4,2,   7.5882,       25,2, -999.000,1, -999.000,   -999.0,1,   -999.0, -999.000,9, -999.000, -999.000,9, -999.000
  49NZ20130106,  S04I,   133,  1,     15, X12J15,2,20130127,0005,-63.5015,  53.6768, 4751,   2332.8,2,   0.2963,2,   0.29613,2,  34.6797,2,  34.6797,2,  34.8526,2,   213.54,2,   213.55,2,   99.986,   0.0006,2,   -0.000,2,  -999.00,9,    0.000,2,   123.54,2,     0.17,    33.07,2,     0.05,     0.01,2,     0.01,     2.29,2,     0.01,    0.368,2,    0.158,2,    0.011,2,    0.000,2,   2258.4,2,   2356.1,2,   7.5881,       25,2, -999.000,1, -999.000,   -999.0,1,   -999.0, -999.000,9, -999.000, -999.000,9, -999.000
  49NZ20130106,  S04I,   133,  1,     14, X12J14,2,20130127,0005,-63.5015,  53.6768, 4751,   2580.1,2,   0.2123,2,   0.21202,2,  34.6757,2,  34.6755,2,  34.8489,2,   216.78,2,   216.81,2,   99.989,   0.0004,2,   -0.000,2,  -999.00,9,    0.000,2,   124.30,2,     0.17,    33.06,2,     0.05,     0.01,2,     0.01,     2.28,2,     0.01,    0.380,2,    0.163,2,    0.011,2,    0.000,2,   2257.6,6,   2356.9,2,   7.5893,       25,2, -999.000,1, -999.000,   -999.0,1,   -999.0, -999.000,9, -999.000, -999.000,9, -999.000
  49NZ20130106,  S04I,   133,  1,     13, X12J13,2,20130127,0005,-63.5015,  53.6768, 4751,   2830.1,2,   0.1227,2,   0.12281,2,  34.6716,2,  34.6710,2,  34.8480,2,   220.76,2,   220.64,2,   99.989,   0.0004,2,   -0.000,2,  -999.00,9,    0.000,2,   125.49,2,     0.17,    32.94,2,     0.05,     0.01,2,     0.01,     2.28,2,     0.01,    0.374,2,    0.164,2,    0.012,2,    0.037,2,   2256.2,2,   2355.2,2,   7.5914,       25,2, -999.000,1, -999.000,   -999.0,1,   -999.0, -999.000,9, -999.000, -999.000,9, -999.000
  49NZ20130106,  S04I,   133,  1,     12, X12J12,2,20130127,0005,-63.5015,  53.6768, 4751,   3080.3,2,   0.0351,2,   0.03517,2,  34.6668,2,  34.6670,2,  34.8407,2,   225.46,2,   225.39,2,   99.991,   0.0004,2,   -0.000,2,  -999.00,9,    0.000,2,   124.52,2,     0.17,    32.84,2,     0.05,     0.00,2,     0.01,     2.27,2,     0.01,    0.497,2,    0.234,2,    0.021,2,    0.058,2,   2255.5,2,   2353.8,2,   7.5927,       25,6, -999.000,1, -999.000,   -999.0,1,   -999.0, -999.000,9, -999.000, -999.000,9, -999.000
  49NZ20130106,  S04I,   133,  1,     11, X12J11,2,20130127,0005,-63.5015,  53.6768, 4751,   3330.1,2,  -0.0317,2,  -0.03163,2,  34.6639,2,  34.6641,2,  34.8381,2,   228.74,2,   228.42,2,   99.978,   0.0009,2,   -0.010,2,  -999.00,9,    0.000,2,   125.41,2,     0.17,    32.95,2,     0.05,     0.00,2,     0.01,     2.27,2,     0.01,    0.480,2,    0.233,2,    0.021,2,    0.069,2,   2253.9,2,   2353.5,2,   7.5949,       25,2, -999.000,1, -999.000,   -999.0,1,   -999.0, -999.000,9, -999.000, -999.000,9, -999.000
  49NZ20130106,  S04I,   133,  1,     10, X12J10,2,20130127,0005,-63.5015,  53.6768, 4751,   3580.5,2,  -0.0893,2,  -0.08931,2,  34.6610,2,  34.6608,2,  34.8295,2,   232.28,2,   232.05,2,   99.984,   0.0006,2,   -0.010,2,  -999.00,9,    0.000,2,   125.30,2,     0.17,    32.90,2,     0.05,     0.00,2,     0.01,     2.27,2,     0.01,    0.533,2,    0.256,2,    0.022,2,    0.083,2,   2252.2,2,   2353.0,2,   7.5965,       25,2, -999.000,1, -999.000,   -999.0,1,   -999.0, -999.000,9, -999.000, -999.000,9, -999.000
  49NZ20130106,  S04I,   133,  1,      9, X12J09,2,20130127,0005,-63.5015,  53.6768, 4751,   3830.8,2,  -0.1343,2,  -0.13429,2,  34.6592,2,  34.6588,2,  34.8150,3,   234.50,2,   234.34,2,   99.967,   0.0013,2,   -0.010,2,  -999.00,9,    0.000,2,   126.54,2,     0.17,    32.81,2,     0.05,     0.00,2,     0.01,     2.27,2,     0.01,    0.462,2,    0.218,2,    0.018,2,    0.087,2,   2252.8,2,   2354.7,2,   7.5991,       25,2, -999.000,1, -999.000,   -999.0,1,   -999.0, -999.000,9, -999.000, -999.000,9, -999.000
  49NZ20130106,  S04I,   133,  1,      8, X12J08,2,20130127,0005,-63.5015,  53.6768, 4751,   4081.2,2,  -0.1750,2,  -0.17486,2,  34.6565,2,  34.6560,2,  34.8341,2,   237.95,2,   237.86,2,   99.967,   0.0013,2,   -0.010,2,  -999.00,9,    0.000,2,   125.84,2,     0.17,    32.70,2,     0.05,     0.00,2,     0.01,     2.26,2,     0.01,    0.629,6,    0.298,6,    0.030,6,    0.149,6,   2250.6,2,   2354.5,3,   7.6010,       25,2, -999.000,1, -999.000,   -999.0,1,   -999.0, -999.000,9, -999.000, -999.000,9, -999.000
  49NZ20130106,  S04I,   133,  1,      7, X12J07,2,20130127,0005,-63.5015,  53.6768, 4751,   4330.7,2,  -0.2091,2,  -0.20900,2,  34.6547,2,  34.6546,2,  34.8275,2,   239.88,2,   239.69,2,   99.952,   0.0019,2,   -0.010,2,  -999.00,9,    0.000,2,   128.10,2,     0.17,    32.71,2,     0.05,     0.00,2,     0.01,     2.26,2,     0.01,    0.605,2,    0.278,2,    0.027,2,    0.090,2,   2250.3,6,   2352.4,2,   7.6023,       25,2, -999.000,1, -999.000,   -999.0,1,   -999.0, -999.000,9, -999.000, -999.000,9, -999.000
  49NZ20130106,  S04I,   133,  1,      6, X12J06,2,20130127,0005,-63.5015,  53.6768, 4751,   4579.7,2,  -0.2377,2,  -0.23765,2,  34.6523,2,  34.6526,2,  34.8299,2,   242.25,2,   242.16,2,   99.927,   0.0029,2,   -0.010,2,  -999.00,9,    0.000,2,   129.65,2,     0.18,    32.73,2,     0.05,     0.00,2,     0.01,     2.26,2,     0.01,    0.701,2,    0.342,2,    0.037,2,    0.171,2,   2249.6,2,   2352.6,2,   7.6027,       25,2, -999.000,1, -999.000,   -999.0,1,   -999.0, -999.000,9, -999.000, -999.000,9, -999.000
  49NZ20130106,  S04I,   133,  1,      1, X12J01,2,20130127,0005,-63.5015,  53.6768, 4751,   4841.5,2,  -0.2754,2,  -0.27531,2,  34.6489,2,  34.6491,2,  34.8256,2,   243.73,2,   243.91,2,   99.704,   0.0119,2,   -0.010,2,  -999.00,9,    0.000,2,   136.37,2,     0.18,    32.74,2,     0.05,     0.01,2,     0.01,     2.26,2,     0.01,    0.809,2,    0.400,2,    0.047,2,    0.165,2,   2251.3,2,   2351.6,2,   7.6015,       25,2, -999.000,1, -999.000,   -999.0,1,   -999.0, -999.000,9, -999.000, -999.000,9, -999.000