BOTTLE,20220819CCHSIOAMB
EXPOCODE,SECT_ID,STNNBR,CASTNO,SAMPNO,BTLNBR,BTLNBR_FLAG_W,DATE,TIME,LATITUDE,LONGITUDE,DEPTH,CTDPRS,CTDPRS_FLAG_W,CTDTMP,CTDTMP_FLAG_W,SBE35,SBE35_FLAG_W,CTDSAL,CTDSAL_FLAG_W,SALNTY,SALNTY_FLAG_W,DNSSAL,DNSSAL_FLAG_W,CTDOXY,CTDOXY_FLAG_W,OXYGEN,OXYGEN_FLAG_W,CTDXMISS,CTDXMISSCP,CTDXMISS_FLAG_W,CTDFLUOR,CTDFLUOR_FLAG_W,CHLORA,CHLORA_FLAG_W,PAR,PAR_FLAG_W,SILCAT,SILCAT_FLAG_W,SILUNC,NITRAT,NITRAT_FLAG_W,NRAUNC,NITRIT,NITRIT_FLAG_W,NRIUNC,PHSPHT,PHSPHT_FLAG_W,PHPUNC,CFC-11,CFC-11_FLAG_W,CFC-12,CFC-12_FLAG_W,CFC113,CFC113_FLAG_W,SF6,SF6_FLAG_W,TCARBN,TCARBN_FLAG_W,ALKALI,ALKALI_FLAG_W,PH_TOT,PH_TMP,PH_TOT_FLAG_W,DELC13,DELC13_FLAG_W,C13ERR,DELC14,DELC14_FLAG_W,C14ERR,CS-134,CS-134_FLAG_W,CS134ER,CS-137,CS-137_FLAG_W,CS137ER
,,,,,,,,UTC,DEG,DEG,METERS,DBAR,,ITS-90,,ITS-90,,PSS-78,,PSS-78,,G/KG,,UMOL/KG,,UMOL/KG,,%TRANS,/METER,,MG/M^3,,MG/CUM,,UE/SQM/S,,UMOL/KG,,UMOL/KG,UMOL/KG,,UMOL/KG,UMOL/KG,,UMOL/KG,UMOL/KG,,UMOL/KG,PMOL/KG,,PMOL/KG,,PMOL/KG,,FMOL/KG,,UMOL/KG,,UMOL/KG,,,DEG C,,/MILLE,,/MILLE,/MILLE,,/MILLE,MBQ/KG,,MBQ/KG,MBQ/KG,,MBQ/KG
  49NZ20130106,  S04I,    98,  1,     36, X12J36,2,20130115,1510,-62.2522,  94.7597, 3799,      5.0,2,   1.6568,2,   1.65702,2,  33.9688,2,  33.9687,2,-999.0000,9,   338.41,2,   338.55,2,   95.689,   0.1763,2,    0.390,2,  -999.00,9,    0.891,2,    46.51,2,     0.10,    26.42,2,     0.04,     0.26,2,     0.01,     1.70,2,     0.01,    5.697,2,    3.102,2,    0.524,2,    2.860,2,   2170.6,2,   2296.0,2,   7.6931,       25,6, -999.000,1, -999.000,   -999.0,1,   -999.0, -999.000,9, -999.000, -999.000,9, -999.000
  49NZ20130106,  S04I,    98,  1,     35, X12J35,2,20130115,1510,-62.2522,  94.7597, 3799,     25.6,2,   1.6586,2,   1.65863,2,  33.9715,2,  33.9735,2,-999.0000,9,   338.32,2,   339.02,2,   95.729,   0.1746,2,    0.360,2,  -999.00,9,    0.000,2,    46.56,2,     0.10,    26.47,2,     0.04,     0.25,2,     0.01,     1.71,2,     0.01,    5.688,2,    3.056,2,    0.524,2,    2.706,2,   2171.1,2,   2298.6,2,   7.6928,       25,2, -999.000,1, -999.000,   -999.0,1,   -999.0, -999.000,9, -999.000, -999.000,9, -999.000
  49NZ20130106,  S04I,    98,  1,     34, X12J34,2,20130115,1510,-62.2522,  94.7597, 3799,     49.7,2,  -0.8015,2,  -0.80795,2,  34.1535,2,  34.1497,2,-999.0000,9,   335.22,2,   334.66,2,   93.964,   0.2490,2,    1.030,2,  -999.00,9,    0.000,2,    55.31,2,     0.11,    28.38,2,     0.04,     0.13,2,     0.01,     1.90,2,     0.01,    5.130,6,    2.765,6,    0.468,6,    2.450,6,   2193.5,2,   2309.4,2,   7.6607,       25,2, -999.000,1, -999.000,   -999.0,1,   -999.0, -999.000,9, -999.000, -999.000,9, -999.000
  49NZ20130106,  S04I,    98,  1,     33, X12J33,2,20130115,1510,-62.2522,  94.7597, 3799,     74.2,2,  -1.1574,2,  -1.15753,2,  34.2780,2,  34.2770,2,-999.0000,9,   293.80,2,   293.80,2,   97.950,   0.0829,2,    0.420,2,  -999.00,9,    0.000,2,    64.46,2,     0.12,    30.47,2,     0.04,     0.12,2,     0.01,     2.12,2,     0.01,    3.635,2,    1.937,2,    0.329,2,    1.546,2,   2217.1,6,   2316.6,2,   7.6139,       25,2, -999.000,1, -999.000,   -999.0,1,   -999.0, -999.000,9, -999.000, -999.000,9, -999.000
  49NZ20130106,  S04I,    98,  1,     32, X12J32,2,20130115,1510,-62.2522,  94.7597, 3799,     99.9,2,  -0.8697,2,  -0.86989,2,  34.3493,2,  34.3476,2,-999.0000,9,   270.10,2,   270.11,2,   99.098,   0.0362,2,    0.230,2,  -999.00,9,    0.000,2,    68.19,2,     0.12,    31.42,2,     0.04,     0.12,2,     0.01,     2.17,2,     0.01,    4.219,2,    2.266,2,    0.379,2,    1.879,2,   2227.0,2,   2320.4,6,   7.5950,       25,2, -999.000,1, -999.000,   -999.0,1,   -999.0, -999.000,9, -999.000, -999.000,9, -999.000
  49NZ20130106,  S04I,    98,  1,     31, X12J31,2,20130115,1510,-62.2522,  94.7597, 3799,    125.0,2,  -0.4578,2,  -0.45851,2,  34.4109,2,  34.4088,2,-999.0000,9,   252.99,2,   253.04,2,   99.487,   0.0206,2,    0.140,2,  -999.00,9,    0.000,2,    71.08,2,     0.12,    31.97,2,     0.04,     0.07,2,     0.01,     2.21,2,     0.01,    3.138,2,    1.659,2,    0.282,2,    1.310,2,   2233.7,2,   2322.5,2,   7.5863,       25,2, -999.000,1, -999.000,   -999.0,1,   -999.0, -999.000,9, -999.000, -999.000,9, -999.000
  49NZ20130106,  S04I,    98,  1,     30, X12J30,2,20130115,1510,-62.2522,  94.7597, 3799,    149.8,2,   0.0702,2,   0.06221,2,  34.4823,2,  34.4793,2,-999.0000,9,   234.63,2,   234.80,2,   99.663,   0.0135,2,    0.080,2,  -999.00,9,    0.000,2,    74.73,2,     0.13,    32.31,2,     0.05,     0.03,2,     0.01,     2.22,2,     0.01,    2.518,2,    1.333,2,    0.230,2,    1.053,2,   2241.0,2,   2327.9,2,   7.5797,       25,6, -999.000,1, -999.000,   -999.0,1,   -999.0, -999.000,9, -999.000, -999.000,9, -999.000
  49NZ20130106,  S04I,    98,  1,     29, X12J29,2,20130115,1510,-62.2522,  94.7597, 3799,    199.7,2,   1.2485,2,   1.24835,2,  34.6193,2,  34.6186,2,-999.0000,9,   197.69,2,   197.55,2,   99.629,   0.0149,2,    0.020,2,  -999.00,9,    0.000,2,    81.18,2,     0.13,    32.78,2,     0.05,     0.01,2,     0.01,     2.26,2,     0.01,    1.181,2,    0.640,2,    0.103,2,    0.350,2,   2254.1,2,   2336.6,2,   7.5689,       25,2, -999.000,1, -999.000,   -999.0,1,   -999.0, -999.000,9, -999.000, -999.000,9, -999.000
  49NZ20130106,  S04I,    98,  1,     28, X12J28,2,20130115,1510,-62.2522,  94.7597, 3799,    249.5,2,   1.3244,2,   1.32445,2,  34.6521,2,  34.6521,2,-999.0000,9,   196.49,2,   196.22,2,   99.671,   0.0132,2,    0.010,2,  -999.00,9,    0.000,2,    83.10,2,     0.13,    32.39,2,     0.05,     0.01,2,     0.01,     2.24,2,     0.01,    0.979,2,    0.530,2,    0.084,2,    0.313,2,   2257.5,2,   2339.4,2,   7.5745,       25,2, -999.000,1, -999.000,   -999.0,1,   -999.0, -999.000,9, -999.000, -999.000,9, -999.000
  49NZ20130106,  S04I,    98,  1,     27, X12J27,2,20130115,1510,-62.2522,  94.7597, 3799,    280.9,2,   1.4237,2,   1.42339,2,  34.6736,2,  34.6735,2,-999.0000,9,   194.32,2,   194.19,2,   99.756,   0.0098,2,    0.010,2,  -999.00,9,    0.000,2,    84.27,2,     0.13,    32.22,2,     0.05,     0.01,2,     0.01,     2.21,2,     0.01,    0.827,2,    0.441,2,    0.068,2,    0.267,2,   2254.8,2,   2341.5,2,   7.5777,       25,2, -999.000,1, -999.000,   -999.0,1,   -999.0, -999.000,9, -999.000, -999.000,9, -999.000
  49NZ20130106,  S04I,    98,  1,     26, X12J26,2,20130115,1510,-62.2522,  94.7597, 3799,    370.1,2,   1.5427,2,   1.54295,2,  34.7101,2,  34.7095,2,-999.0000,9,   193.54,2,   193.32,2,   99.891,   0.0044,2,    0.000,2,  -999.00,9,    0.000,2,    86.46,2,     0.14,    31.71,2,     0.04,     0.01,2,     0.01,     2.18,2,     0.01,    0.540,2,    0.280,2,    0.038,2,    0.137,2,   2254.5,2,   2344.4,2,   7.5874,       25,2, -999.000,1, -999.000,   -999.0,1,   -999.0, -999.000,9, -999.000, -999.000,9, -999.000
  49NZ20130106,  S04I,    98,  1,     25, X12J25,2,20130115,1510,-62.2522,  94.7597, 3799,    470.5,2,   1.4971,2,   1.49708,2,  34.7233,2,  34.7230,2,-999.0000,9,   195.85,2,   195.80,2,   99.944,   0.0022,2,    0.000,2,  -999.00,9,    0.000,2,    88.68,2,     0.14,    31.38,2,     0.04,     0.00,2,     0.01,     2.16,2,     0.01,    0.441,2,    0.225,2,    0.031,2,    0.102,2,   2253.7,2,   2346.3,2,   7.5950,       25,2, -999.000,1, -999.000,   -999.0,1,   -999.0, -999.000,9, -999.000, -999.000,9, -999.000
  49NZ20130106,  S04I,    98,  1,     24, X12J24,2,20130115,1510,-62.2522,  94.7597, 3799,    570.9,2,   1.4257,2,   1.42615,2,  34.7279,2,  34.7276,2,-999.0000,9,   197.99,2,   197.91,2,   99.932,   0.0027,2,    0.000,2,  -999.00,9,    0.000,2,    91.05,2,     0.14,    31.24,2,     0.04,     0.00,2,     0.01,     2.15,2,     0.01,    0.391,6,    0.194,6,    0.026,6,    0.078,6,   2252.4,2,   2348.5,2,   7.5986,       25,2, -999.000,1, -999.000,   -999.0,1,   -999.0, -999.000,9, -999.000, -999.000,9, -999.000
  49NZ20130106,  S04I,    98,  1,     23, X12J23,2,20130115,1510,-62.2522,  94.7597, 3799,    669.6,2,   1.3490,2,   1.34907,2,  34.7289,2,  34.7288,2,-999.0000,9,   199.43,2,   199.48,2,   99.932,   0.0027,2,    0.000,2,  -999.00,9,    0.000,2,    93.39,2,     0.14,    31.24,2,     0.04,     0.00,2,     0.01,     2.15,2,     0.01,    0.352,2,    0.178,2,    0.023,2,    0.088,2,   2253.3,6,   2349.8,2,   7.6011,       25,2, -999.000,1, -999.000,   -999.0,1,   -999.0, -999.000,9, -999.000, -999.000,9, -999.000
  49NZ20130106,  S04I,    98,  1,     22, X12J22,2,20130115,1510,-62.2522,  94.7597, 3799,    769.2,2,   1.2553,2,   1.25542,2,  34.7273,2,  34.7274,2,-999.0000,9,   200.79,2,   200.96,2,   99.930,   0.0028,2,    0.000,2,  -999.00,9,    0.000,2,    95.88,2,     0.14,    31.27,2,     0.04,     0.00,2,     0.01,     2.16,2,     0.01,    0.336,2,    0.168,2,    0.020,2,    0.073,2,   2253.6,2,   2350.2,6,   7.6018,       25,2, -999.000,1, -999.000,   -999.0,1,   -999.0, -999.000,9, -999.000, -999.000,9, -999.000
  49NZ20130106,  S04I,    98,  1,     21, X12J21,2,20130115,1510,-62.2522,  94.7597, 3799,    869.8,2,   1.1663,2,   1.16609,2,  34.7245,2,  34.7248,2,-999.0000,9,   202.08,2,   202.18,2,   99.944,   0.0022,2,    0.000,2,  -999.00,9,    0.000,2,    98.69,2,     0.15,    31.44,2,     0.04,     0.00,2,     0.01,     2.17,2,     0.01,    0.322,2,    0.159,2,    0.018,2,    0.020,2,   2254.8,2,   2352.0,2,   7.6019,       25,6, -999.000,1, -999.000,   -999.0,1,   -999.0, -999.000,9, -999.000, -999.000,9, -999.000
  49NZ20130106,  S04I,    98,  1,     20, X12J20,2,20130115,1510,-62.2522,  94.7597, 3799,    959.8,2,   1.0866,2,   1.08651,2,  34.7216,2,  34.7218,2,-999.0000,9,   203.10,2,   203.09,2,   99.959,   0.0016,2,    0.000,2,  -999.00,9,    0.000,2,   101.04,2,     0.15,    31.55,2,     0.04,     0.00,2,     0.01,     2.18,2,     0.01,    0.303,2,    0.151,2,    0.016,2,    0.034,2,   2255.5,2,   2353.0,2,   7.6021,       25,2, -999.000,1, -999.000,   -999.0,1,   -999.0, -999.000,9, -999.000, -999.000,9, -999.000
  49NZ20130106,  S04I,    98,  1,     19, X12J19,2,20130115,1510,-62.2522,  94.7597, 3799,   1169.6,2,   0.9135,2,   0.91346,2,  34.7136,2,  34.7138,2,-999.0000,9,   204.97,2,   205.13,2,   99.951,   0.0020,2,   -0.000,2,  -999.00,9,    0.000,2,   106.16,2,     0.15,    31.83,2,     0.04,     0.00,2,     0.01,     2.21,2,     0.01,    0.299,6,    0.147,6,    0.014,6,    0.034,6,   2257.8,2,   2354.5,2,   7.5999,       25,2, -999.000,1, -999.000,   -999.0,1,   -999.0, -999.000,9, -999.000, -999.000,9, -999.000
  49NZ20130106,  S04I,    98,  1,     18, X12J18,2,20130115,1510,-62.2522,  94.7597, 3799,   1421.1,2,   0.7172,2,   0.71714,2,  34.7033,2,  34.7030,2,-999.0000,9,   207.32,2,   207.52,2,   99.985,   0.0006,2,   -0.000,2,  -999.00,9,    0.000,2,   111.78,2,     0.16,    32.21,2,     0.05,     0.00,2,     0.01,     2.23,2,     0.01,    0.315,2,    0.152,2,    0.015,2,    0.010,2,   2260.2,2,   2353.6,2,   7.5970,       25,2, -999.000,1, -999.000,   -999.0,1,   -999.0, -999.000,9, -999.000, -999.000,9, -999.000
  49NZ20130106,  S04I,    98,  1,     17, X12J17,2,20130115,1510,-62.2522,  94.7597, 3799,   1670.7,2,   0.5437,2,   0.54366,2,  34.6943,2,  34.6945,2,-999.0000,9,   210.20,2,   210.64,2,   99.991,   0.0004,2,   -0.000,2,  -999.00,9,    0.000,2,   116.21,2,     0.16,    32.40,2,     0.05,     0.00,2,     0.01,     2.23,2,     0.01,    0.348,2,    0.167,2,    0.018,2,    0.085,2,   2260.9,2,   2355.1,2,   7.5953,       25,6, -999.000,1, -999.000,   -999.0,1,   -999.0, -999.000,9, -999.000, -999.000,9, -999.000
  49NZ20130106,  S04I,    98,  1,     16, X12J16,2,20130115,1510,-62.2522,  94.7597, 3799,   1920.9,2,   0.3812,2,   0.38118,2,  34.6860,2,  34.6858,2,-999.0000,9,   214.47,2,   214.71,2,  100.002,  -0.0001,2,   -0.000,2,  -999.00,9,    0.000,2,   118.74,2,     0.17,    32.52,2,     0.05,     0.00,2,     0.01,     2.24,2,     0.01,    0.466,2,    0.226,2,    0.026,2,    0.087,2,   2260.5,2,   2354.9,2,   7.5943,       25,2, -999.000,1, -999.000,   -999.0,1,   -999.0, -999.000,9, -999.000, -999.000,9, -999.000
  49NZ20130106,  S04I,    98,  1,     15, X12J15,2,20130115,1510,-62.2522,  94.7597, 3799,   2170.1,2,   0.2570,2,   0.25705,2,  34.6803,2,  34.6801,2,-999.0000,9,   218.43,2,   218.82,2,   99.982,   0.0007,2,   -0.000,2,  -999.00,9,    0.000,2,   119.80,2,     0.17,    32.52,2,     0.05,     0.00,2,     0.01,     2.24,2,     0.01,    0.626,2,    0.310,2,    0.040,2,    0.115,2,   2260.8,2,   2354.6,2,   7.5941,       25,2, -999.000,1, -999.000,   -999.0,1,   -999.0, -999.000,9, -999.000, -999.000,9, -999.000
  49NZ20130106,  S04I,    98,  1,     14, X12J14,2,20130115,1510,-62.2522,  94.7597, 3799,   2421.4,2,   0.1438,2,   0.14387,2,  34.6750,2,  34.6751,2,-999.0000,9,   222.45,2,   222.75,2,   99.980,   0.0008,2,   -0.000,2,  -999.00,9,    0.000,2,   120.57,2,     0.17,    32.50,2,     0.05,     0.00,2,     0.01,     2.24,2,     0.01,    0.814,2,    0.411,2,    0.052,2,    0.236,2,   2260.1,6,   2354.1,2,   7.5952,       25,2, -999.000,1, -999.000,   -999.0,1,   -999.0, -999.000,9, -999.000, -999.000,9, -999.000
  49NZ20130106,  S04I,    98,  1,     13, X12J13,2,20130115,1510,-62.2522,  94.7597, 3799,   2670.6,2,   0.0466,2,   0.04644,2,  34.6686,2,  34.6689,2,-999.0000,9,   226.49,2,   226.76,2,   99.968,   0.0013,2,   -0.010,2,  -999.00,9,    0.000,2,   118.30,2,     0.17,    32.43,2,     0.05,     0.00,2,     0.01,     2.24,2,     0.01,    1.099,2,    0.563,2,    0.079,2,    0.263,2,   2258.2,2,   2353.2,6,   7.5951,       25,2, -999.000,1, -999.000,   -999.0,1,   -999.0, -999.000,9, -999.000, -999.000,9, -999.000
  49NZ20130106,  S04I,    98,  1,     12, X12J12,2,20130115,1510,-62.2522,  94.7597, 3799,   2920.3,2,   0.0043,2,   0.00424,2,  34.6680,2,  34.6682,2,-999.0000,9,   228.18,2,   228.64,2,   99.955,   0.0018,2,   -0.000,2,  -999.00,9,    0.000,2,   121.52,2,     0.17,    32.48,2,     0.05,     0.00,2,     0.01,     2.24,2,     0.01,    1.132,2,    0.573,2,    0.077,2,    0.280,2,   2259.2,2,   2352.4,2,   7.5944,       25,2, -999.000,1, -999.000,   -999.0,1,   -999.0, -999.000,9, -999.000, -999.000,9, -999.000
  49NZ20130106,  S04I,    98,  1,     11, X12J11,2,20130115,1510,-62.2522,  94.7597, 3799,   3170.3,2,  -0.0399,2,  -0.03997,2,  34.6649,2,  34.6644,2,-999.0000,9,   230.42,2,   230.87,2,   99.919,   0.0032,2,   -0.010,2,  -999.00,9,    0.000,2,   121.10,2,     0.17,    32.45,2,     0.05,     0.00,2,     0.01,     2.24,2,     0.01,    1.306,2,    0.663,2,    0.091,2,    0.321,2,   2258.1,2,   2352.3,2,   7.5947,       25,2, -999.000,1, -999.000,   -999.0,1,   -999.0, -999.000,9, -999.000, -999.000,9, -999.000
  49NZ20130106,  S04I,    98,  1,     10, X12J10,2,20130115,1510,-62.2522,  94.7597, 3799,   3420.6,2,  -0.0745,2,  -0.07458,2,  34.6621,2,  34.6619,2,-999.0000,9,   232.46,2,   233.11,2,   99.910,   0.0036,2,   -0.010,2,  -999.00,9,    0.000,2,   120.75,2,     0.17,    32.39,2,     0.05,     0.00,2,     0.01,     2.24,2,     0.01,    1.452,2,    0.735,2,    0.107,2,    0.373,2,   2257.9,2,   2352.1,2,   7.5951,       25,2, -999.000,1, -999.000,   -999.0,1,   -999.0, -999.000,9, -999.000, -999.000,9, -999.000
  49NZ20130106,  S04I,    98,  1,      9, X12J09,2,20130115,1510,-62.2522,  94.7597, 3799,   3671.0,2,  -0.1137,2,  -0.11367,2,  34.6588,2,  34.6583,2,-999.0000,9,   234.60,2,   235.04,2,   99.800,   0.0080,2,   -0.010,2,  -999.00,9,    0.000,2,   121.83,2,     0.17,    32.35,2,     0.05,     0.00,2,     0.01,     2.24,2,     0.01,    1.641,2,    0.833,2,    0.128,2,    0.429,2,   2257.4,2,   2353.7,3,   7.5943,       25,2, -999.000,1, -999.000,   -999.0,1,   -999.0, -999.000,9, -999.000, -999.000,9, -999.000
  49NZ20130106,  S04I,    98,  1,      3, X12J03,2,20130115,1510,-62.2522,  94.7597, 3799,     61.2,2,  -1.1721,2,  -1.17391,2,  34.2209,2,-999.0000,9,-999.0000,9,   312.00,2,  -999.00,9,   95.888,   0.1680,2,    0.810,2,  -999.00,9,    0.000,2,  -999.00,9,  -999.00,  -999.00,9,  -999.00,  -999.00,9,  -999.00,  -999.00,9,  -999.00, -999.000,9, -999.000,9, -999.000,9, -999.000,9,   -999.0,9,   -999.0,9,-999.0000,     -999,9, -999.000,9, -999.000,   -999.0,9,   -999.0, -999.000,9, -999.000, -999.000,9, -999.000
  49NZ20130106,  S04I,    98,  1,      2, X12J02,2,20130115,1510,-62.2522,  94.7597, 3799,     61.0,2,  -1.1705,2,  -1.16917,2,  34.2203,2,  34.2232,2,-999.0000,9,   311.62,2,   310.39,2,   95.905,   0.1672,2,    0.790,2,  -999.00,9,    0.000,2,    60.98,2,     0.11,    29.77,2,     0.04,     0.11,2,     0.01,     2.05,2,     0.01, -999.000,9, -999.000,9, -999.000,9, -999.000,9,   -999.0,9,   -999.0,9,-999.0000,     -999,9, -999.000,9, -999.000,   -999.0,9,   -999.0, -999.000,9, -999.000, -999.000,9, -999.000
  49NZ20130106,  S04I,    98,  1,      1, X12J01,2,20130115,1510,-62.2522,  94.7597, 3799,   3860.1,2,  -0.1646,2,  -0.16485,2,  34.6529,2,  34.6529,2,-999.0000,9,   236.61,2,   236.64,2,   99.214,   0.0316,2,   -0.000,2,  -999.00,9,    0.000,2,   124.26,2,     0.17,    32.38,2,     0.05,     0.01,2,     0.01,     2.24,2,     0.01,    1.914,2,    0.972,2,    0.149,2,    0.589,2,   2258.2,2,   2352.0,2,   7.5922,       25,2, -999.000,1, -999.000,   -999.0,1,   -999.0, -999.000,9, -999.000, -999.000,9, -999.000