BOTTLE,20220819CCHSIOAMB
EXPOCODE,SECT_ID,STNNBR,CASTNO,SAMPNO,BTLNBR,BTLNBR_FLAG_W,DATE,TIME,LATITUDE,LONGITUDE,DEPTH,CTDPRS,CTDPRS_FLAG_W,CTDTMP,CTDTMP_FLAG_W,SBE35,SBE35_FLAG_W,CTDSAL,CTDSAL_FLAG_W,SALNTY,SALNTY_FLAG_W,DNSSAL,DNSSAL_FLAG_W,CTDOXY,CTDOXY_FLAG_W,OXYGEN,OXYGEN_FLAG_W,CTDXMISS,CTDXMISSCP,CTDXMISS_FLAG_W,CTDFLUOR,CTDFLUOR_FLAG_W,CHLORA,CHLORA_FLAG_W,PAR,PAR_FLAG_W,SILCAT,SILCAT_FLAG_W,SILUNC,NITRAT,NITRAT_FLAG_W,NRAUNC,NITRIT,NITRIT_FLAG_W,NRIUNC,PHSPHT,PHSPHT_FLAG_W,PHPUNC,CFC-11,CFC-11_FLAG_W,CFC-12,CFC-12_FLAG_W,CFC113,CFC113_FLAG_W,SF6,SF6_FLAG_W,TCARBN,TCARBN_FLAG_W,ALKALI,ALKALI_FLAG_W,PH_TOT,PH_TMP,PH_TOT_FLAG_W,DELC13,DELC13_FLAG_W,C13ERR,DELC14,DELC14_FLAG_W,C14ERR,CS-134,CS-134_FLAG_W,CS134ER,CS-137,CS-137_FLAG_W,CS137ER
,,,,,,,,UTC,DEG,DEG,METERS,DBAR,,ITS-90,,ITS-90,,PSS-78,,PSS-78,,G/KG,,UMOL/KG,,UMOL/KG,,%TRANS,/METER,,MG/M^3,,MG/CUM,,UE/SQM/S,,UMOL/KG,,UMOL/KG,UMOL/KG,,UMOL/KG,UMOL/KG,,UMOL/KG,UMOL/KG,,UMOL/KG,PMOL/KG,,PMOL/KG,,PMOL/KG,,FMOL/KG,,UMOL/KG,,UMOL/KG,,,DEG C,,/MILLE,,/MILLE,/MILLE,,/MILLE,MBQ/KG,,MBQ/KG,MBQ/KG,,MBQ/KG
  49NZ20130106,  S04I,   123,  1,     36, X12J36,2,20130121,2248,-62.3135,  65.7905, 4371,      5.4,2,   0.5310,2,   0.53056,2,  33.6965,2,  33.6957,2,  33.8600,2,   343.50,2,   343.22,2,   97.888,   0.0854,2,    0.250,2,  -999.00,9,   17.140,2,    34.89,2,     0.09,    26.02,2,     0.04,     0.25,2,     0.01,     1.78,2,     0.01,    5.917,2,    3.249,2,    0.642,2,    2.840,2,   2165.6,2,   2282.0,2,   7.6746,       25,6, -999.000,1, -999.000,   -999.0,1,   -999.0, -999.000,9, -999.000, -999.000,9, -999.000
  49NZ20130106,  S04I,   123,  1,     35, X12J35,2,20130121,2248,-62.3135,  65.7905, 4371,     24.6,2,   0.5289,2,   0.52855,2,  33.6974,2,  33.6971,2,  33.8613,2,   343.50,2,   343.28,2,   97.827,   0.0879,2,    0.250,2,  -999.00,9,    5.608,2,    34.77,2,     0.09,    25.94,2,     0.04,     0.25,2,     0.01,     1.78,3,     0.01,    5.940,2,    3.245,2,    0.642,2,    2.767,2,   2163.0,2,   2281.6,2,   7.6740,       25,2, -999.000,1, -999.000,   -999.0,1,   -999.0, -999.000,9, -999.000, -999.000,9, -999.000
  49NZ20130106,  S04I,   123,  1,     34, X12J34,2,20130121,2248,-62.3135,  65.7905, 4371,     49.3,2,  -0.3799,2,  -0.38246,2,  33.7610,2,  33.7614,2,  33.9273,2,   354.77,2,   353.84,2,   93.030,   0.2890,2,    0.850,2,  -999.00,9,    1.610,2,    32.38,2,     0.09,    25.72,2,     0.04,     0.20,2,     0.01,     1.75,2,     0.01,    5.921,6,    3.240,6,    0.629,6,    2.699,6,   2165.1,2,   2286.8,2,   7.6848,       25,2, -999.000,1, -999.000,   -999.0,1,   -999.0, -999.000,9, -999.000, -999.000,9, -999.000
  49NZ20130106,  S04I,   123,  1,     33, X12J33,2,20130121,2248,-62.3135,  65.7905, 4371,     75.2,2,  -1.5031,2,  -1.50611,2,  33.9456,2,  33.9424,2,  34.1099,2,   325.96,2,   327.15,2,   97.375,   0.1064,2,    0.620,2,  -999.00,9,    0.246,2,    39.59,2,     0.09,    27.66,2,     0.04,     0.16,2,     0.01,     1.93,2,     0.01,    5.420,2,    2.934,2,    0.579,2,    2.441,2,   2189.1,6,   2297.4,2,   7.6469,       25,2, -999.000,1, -999.000,   -999.0,1,   -999.0, -999.000,9, -999.000, -999.000,9, -999.000
  49NZ20130106,  S04I,   123,  1,     32, X12J32,2,20130121,2248,-62.3135,  65.7905, 4371,     99.7,2,  -0.9770,2,  -0.97889,2,  34.0887,2,  34.0927,2,  34.2636,2,   288.70,2,   285.86,2,   99.269,   0.0293,2,    0.250,2,  -999.00,9,    0.053,2,    49.81,2,     0.10,    30.16,2,     0.04,     0.16,2,     0.01,     2.12,2,     0.01,    4.517,2,    2.477,2,    0.485,2,    2.023,2,   2211.2,2,   2305.2,6,   7.6046,       25,2, -999.000,1, -999.000,   -999.0,1,   -999.0, -999.000,9, -999.000, -999.000,9, -999.000
  49NZ20130106,  S04I,   123,  1,     31, X12J31,2,20130121,2248,-62.3135,  65.7905, 4371,    124.8,2,   1.1058,2,   1.10622,2,  34.4031,2,  34.3897,2,  34.5590,2,   199.46,2,   203.10,2,   99.392,   0.0244,2,    0.170,2,  -999.00,9,    0.000,2,    69.24,2,     0.12,    34.71,2,     0.05,     0.13,2,     0.01,     2.44,2,     0.01,    2.413,2,    1.237,2,    0.215,2,    0.945,2,   2251.6,2,   2318.3,2,   7.5317,       25,2, -999.000,1, -999.000,   -999.0,1,   -999.0, -999.000,9, -999.000, -999.000,9, -999.000
  49NZ20130106,  S04I,   123,  1,     30, X12J30,2,20130121,2248,-62.3135,  65.7905, 4371,    150.7,2,   1.6732,2,   1.67371,2,  34.5114,2,  34.5102,2,  34.6803,2,   176.69,2,   176.78,2,   99.641,   0.0144,2,    0.080,2,  -999.00,9,    0.000,2,    77.13,2,     0.13,    35.77,2,     0.05,     0.05,2,     0.01,     2.49,2,     0.01,    1.483,2,    0.766,2,    0.110,2,    0.409,2,   2263.3,2,   2328.3,2,   7.5184,       25,6, -999.000,1, -999.000,   -999.0,1,   -999.0, -999.000,9, -999.000, -999.000,9, -999.000
  49NZ20130106,  S04I,   123,  1,     29, X12J29,2,20130121,2248,-62.3135,  65.7905, 4371,    199.3,2,   1.8758,2,   1.87597,2,  34.5785,2,  34.5776,2,  34.7482,2,   169.92,2,   169.84,2,   99.766,   0.0094,2,    0.010,2,  -999.00,9,    0.000,2,    80.52,2,     0.13,    35.35,2,     0.05,     0.01,2,     0.01,     2.45,2,     0.01,    0.956,2,    0.519,2,    0.069,2,    0.241,2,   2266.8,2,   2333.5,2,   7.5255,       25,2, -999.000,1, -999.000,   -999.0,1,   -999.0, -999.000,9, -999.000, -999.000,9, -999.000
  49NZ20130106,  S04I,   123,  1,     28, X12J28,2,20130121,2248,-62.3135,  65.7905, 4371,    250.6,2,   1.9124,2,   1.91255,2,  34.6115,2,  34.6104,2,  34.7792,2,   170.14,2,   170.28,2,   99.817,   0.0073,2,    0.010,2,  -999.00,9,    0.000,2,    81.80,2,     0.13,    34.81,2,     0.05,     0.01,2,     0.01,     2.41,2,     0.01,    0.791,2,    0.427,2,    0.054,2,    0.157,2,   2265.7,2,   2336.3,2,   7.5338,       25,2, -999.000,1, -999.000,   -999.0,1,   -999.0, -999.000,9, -999.000, -999.000,9, -999.000
  49NZ20130106,  S04I,   123,  1,     27, X12J27,2,20130121,2248,-62.3135,  65.7905, 4371,    301.5,2,   1.9461,2,   1.94624,2,  34.6416,2,  34.6411,2,  34.8128,2,   172.00,2,   171.93,2,   99.851,   0.0060,2,    0.010,2,  -999.00,9,    0.000,2,    82.50,2,     0.13,    34.16,2,     0.05,     0.01,2,     0.01,     2.36,2,     0.01,    0.656,2,    0.343,2,    0.044,2,    0.130,2,   2263.6,2,   2338.8,2,   7.5460,       25,2, -999.000,1, -999.000,   -999.0,1,   -999.0, -999.000,9, -999.000, -999.000,9, -999.000
  49NZ20130106,  S04I,   123,  1,     26, X12J26,2,20130121,2248,-62.3135,  65.7905, 4371,    399.6,2,   1.9291,2,   1.92915,2,  34.6728,2,  34.6726,2,  34.8444,2,   176.33,2,   176.26,2,   99.914,   0.0034,2,    0.000,2,  -999.00,9,    0.000,2,    83.27,2,     0.13,    33.34,2,     0.05,     0.01,2,     0.01,     2.30,2,     0.01,    0.527,2,    0.275,2,    0.036,2,    0.127,2,   2260.8,2,   2341.8,2,   7.5594,       25,2, -999.000,1, -999.000,   -999.0,1,   -999.0, -999.000,9, -999.000, -999.000,9, -999.000
  49NZ20130106,  S04I,   123,  1,     25, X12J25,2,20130121,2248,-62.3135,  65.7905, 4371,    502.3,2,   1.8972,2,   1.89730,2,  34.7002,2,  34.7000,2,  34.8708,2,   181.53,2,   181.60,2,   99.948,   0.0021,2,    0.000,2,  -999.00,9,    0.000,2,    83.59,2,     0.13,    32.39,2,     0.05,     0.01,2,     0.01,     2.22,2,     0.01,    0.406,2,    0.223,2,    0.027,2,    0.056,2,   2258.3,2,   2343.2,2,   7.5748,       25,2, -999.000,1, -999.000,   -999.0,1,   -999.0, -999.000,9, -999.000, -999.000,9, -999.000
  49NZ20130106,  S04I,   123,  1,     24, X12J24,2,20130121,2248,-62.3135,  65.7905, 4371,    601.1,2,   1.8526,2,   1.85257,2,  34.7169,2,  34.7167,2,  34.8879,2,   186.26,2,   186.24,2,   99.944,   0.0022,2,    0.000,2,  -999.00,9,    0.000,2,    84.11,2,     0.13,    31.75,2,     0.04,     0.00,2,     0.01,     2.18,2,     0.01,    0.354,6,    0.193,6,    0.022,6,    0.057,6,   2254.8,2,   2344.8,2,   7.5849,       25,2, -999.000,1, -999.000,   -999.0,1,   -999.0, -999.000,9, -999.000, -999.000,9, -999.000
  49NZ20130106,  S04I,   123,  1,     23, X12J23,2,20130121,2248,-62.3135,  65.7905, 4371,    700.5,2,   1.7741,2,   1.77414,2,  34.7268,2,  34.7266,2,  34.8998,2,   190.09,2,   190.15,2,   99.921,   0.0032,2,    0.000,2,  -999.00,9,    0.000,2,    85.50,2,     0.14,    31.37,2,     0.04,     0.01,2,     0.01,     2.16,2,     0.01,    0.332,2,    0.174,2,    0.021,2,    0.061,2,   2253.8,2,   2346.3,2,   7.5925,       25,2, -999.000,1, -999.000,   -999.0,1,   -999.0, -999.000,9, -999.000, -999.000,9, -999.000
  49NZ20130106,  S04I,   123,  1,     22, X12J22,2,20130121,2248,-62.3135,  65.7905, 4371,    802.4,2,   1.7153,2,   1.71527,2,  34.7332,2,  34.7333,2,  34.9037,2,   193.08,2,   193.09,2,   99.957,   0.0017,2,    0.000,2,  -999.00,9,    0.000,2,    86.62,2,     0.14,    31.12,2,     0.04,     0.01,2,     0.01,     2.15,2,     0.01,    0.307,2,    0.157,2,    0.019,2,    0.033,2,   2250.9,3,   2347.0,6,   7.5986,       25,2, -999.000,1, -999.000,   -999.0,1,   -999.0, -999.000,9, -999.000, -999.000,9, -999.000
  49NZ20130106,  S04I,   123,  1,     21, X12J21,2,20130121,2248,-62.3135,  65.7905, 4371,    900.5,2,   1.6388,2,   1.63862,2,  34.7366,2,  34.7368,2,  34.9066,2,   195.74,2,   195.57,2,   99.948,   0.0021,2,    0.000,2,  -999.00,9,    0.000,2,    88.09,2,     0.14,    30.93,2,     0.04,     0.00,2,     0.01,     2.13,2,     0.01,    0.283,2,    0.147,2,    0.015,2,    0.039,2,   2251.6,2,   2347.8,2,   7.6023,       25,2, -999.000,1, -999.000,   -999.0,1,   -999.0, -999.000,9, -999.000, -999.000,9, -999.000
  49NZ20130106,  S04I,   123,  1,     20, X12J20,2,20130121,2248,-62.3135,  65.7905, 4371,    999.0,2,   1.5399,2,   1.54009,2,  34.7373,2,  34.7377,2,  34.9097,2,   198.17,2,   197.95,2,   99.959,   0.0016,2,    0.000,2,  -999.00,9,    0.000,2,    90.31,2,     0.14,    30.87,2,     0.04,     0.00,2,     0.01,     2.13,2,     0.01,    0.276,2,    0.140,2,    0.016,2,    0.037,2,   2249.9,2,   2349.4,2,   7.6053,       25,2, -999.000,1, -999.000,   -999.0,1,   -999.0, -999.000,9, -999.000, -999.000,9, -999.000
  49NZ20130106,  S04I,   123,  1,     19, X12J19,2,20130121,2248,-62.3135,  65.7905, 4371,   1249.2,2,   1.3053,2,   1.30490,2,  34.7324,2,  34.7330,2,  34.9064,2,   202.03,2,   201.95,2,   99.955,   0.0018,2,   -0.000,2,  -999.00,9,    0.000,2,    96.15,2,     0.15,    30.98,2,     0.04,     0.00,2,     0.01,     2.13,2,     0.01,    0.260,6,    0.130,6,    0.015,6,    0.041,6,   2250.3,2,   2350.2,2,   7.6075,       25,2, -999.000,1, -999.000,   -999.0,1,   -999.0, -999.000,9, -999.000, -999.000,9, -999.000
  49NZ20130106,  S04I,   123,  1,     18, X12J18,2,20130121,2248,-62.3135,  65.7905, 4371,   1499.4,2,   1.0884,2,   1.08843,2,  34.7232,2,  34.7228,2,  34.8958,2,   204.47,2,   204.37,2,   99.972,   0.0011,2,   -0.000,2,  -999.00,9,    0.000,2,   102.03,2,     0.15,    31.30,2,     0.04,     0.00,2,     0.01,     2.16,2,     0.01,    0.255,2,    0.123,2,    0.012,2,    0.027,2,   2254.2,2,   2354.6,2,   7.6059,       25,2, -999.000,1, -999.000,   -999.0,1,   -999.0, -999.000,9, -999.000, -999.000,9, -999.000
  49NZ20130106,  S04I,   123,  1,     17, X12J17,2,20130121,2248,-62.3135,  65.7905, 4371,   1752.2,2,   0.8862,2,   0.88608,2,  34.7114,2,  34.7118,2,  34.8849,2,   205.88,2,   205.81,2,   99.976,   0.0010,2,   -0.000,2,  -999.00,9,    0.000,2,   108.10,2,     0.16,    31.84,2,     0.04,     0.00,2,     0.01,     2.20,2,     0.01,    0.265,2,    0.131,2,    0.010,2,    0.011,2,   2256.5,2,   2356.1,2,   7.6017,       25,6, -999.000,1, -999.000,   -999.0,1,   -999.0, -999.000,9, -999.000, -999.000,9, -999.000
  49NZ20130106,  S04I,   123,  1,     16, X12J16,2,20130121,2248,-62.3135,  65.7905, 4371,   2000.6,2,   0.7187,2,   0.71877,2,  34.7015,2,  34.7016,2,  34.8760,2,   207.08,2,   207.06,2,   99.967,   0.0013,2,   -0.000,2,  -999.00,9,    0.000,2,   113.13,2,     0.16,    32.26,2,     0.05,     0.00,2,     0.01,     2.23,2,     0.01,    0.282,2,    0.137,2,    0.010,2,    0.001,2,   2259.3,2,   2356.5,2,   7.5970,       25,2, -999.000,1, -999.000,   -999.0,1,   -999.0, -999.000,9, -999.000, -999.000,9, -999.000
  49NZ20130106,  S04I,   123,  1,     15, X12J15,2,20130121,2248,-62.3135,  65.7905, 4371,   2250.7,2,   0.5862,2,   0.58607,2,  34.6941,2,  34.6943,2,  34.8668,2,   208.58,2,   208.47,2,   99.972,   0.0011,2,   -0.000,2,  -999.00,9,    0.000,2,   116.84,2,     0.30,    32.47,2,     0.05,     0.00,2,     0.01,     2.23,2,     0.01,    0.288,2,    0.135,2,    0.010,2,    0.039,2,   2261.0,2,   2357.3,2,   7.5937,       25,2, -999.000,1, -999.000,   -999.0,1,   -999.0, -999.000,9, -999.000, -999.000,9, -999.000
  49NZ20130106,  S04I,   123,  1,     14, X12J14,2,20130121,2248,-62.3135,  65.7905, 4371,   2500.2,2,   0.4702,2,   0.47025,2,  34.6884,2,  34.6884,2,  34.8635,2,   211.24,2,   211.29,3,   99.974,   0.0010,2,   -0.000,2,  -999.00,9,    0.000,2,   120.34,2,     0.27,    32.59,2,     0.05,     0.00,2,     0.01,     2.25,2,     0.01,    0.271,2,    0.128,2,    0.007,2,    0.000,2,   2261.6,6,   2358.1,3,   7.5922,       25,2, -999.000,1, -999.000,   -999.0,1,   -999.0, -999.000,9, -999.000, -999.000,9, -999.000
  49NZ20130106,  S04I,   123,  1,     13, X12J13,2,20130121,2248,-62.3135,  65.7905, 4371,   2750.6,2,   0.3608,2,   0.36081,2,  34.6832,2,  34.6831,2,  34.8579,2,   214.39,2,   214.29,2,   99.970,   0.0012,2,   -0.000,2,  -999.00,9,    0.000,2,   124.04,2,     0.17,    32.76,2,     0.05,     0.00,2,     0.01,     2.26,2,     0.01,    0.249,2,    0.115,2,    0.007,2,    0.000,2,   2260.4,2,   2356.9,2,   7.5931,       25,2, -999.000,1, -999.000,   -999.0,1,   -999.0, -999.000,9, -999.000, -999.000,9, -999.000
  49NZ20130106,  S04I,   123,  1,     12, X12J12,2,20130121,2248,-62.3135,  65.7905, 4371,   3000.4,2,   0.2656,2,   0.26561,2,  34.6781,2,  34.6776,2,  34.8530,2,   217.26,2,   217.26,2,   99.967,   0.0013,2,   -0.000,2,  -999.00,9,    0.000,2,   125.78,2,     0.17,    32.83,2,     0.05,     0.00,2,     0.01,     2.27,2,     0.01,    0.250,2,    0.116,2,    0.007,2,    0.012,2,   2259.2,2,   2356.2,2,   7.5924,       25,6, -999.000,1, -999.000,   -999.0,1,   -999.0, -999.000,9, -999.000, -999.000,9, -999.000
  49NZ20130106,  S04I,   123,  1,     11, X12J11,2,20130121,2248,-62.3135,  65.7905, 4371,   3249.8,2,   0.1709,2,   0.17092,2,  34.6733,2,  34.6727,2,  34.8521,2,   220.71,2,   220.83,2,   99.953,   0.0019,2,   -0.000,2,  -999.00,9,    0.000,2,   127.48,2,     0.17,    32.88,2,     0.05,     0.00,2,     0.01,     2.27,2,     0.01,    0.261,2,    0.122,2,    0.008,2,    0.000,2,   2258.2,2,   2356.5,2,   7.5937,       25,2, -999.000,1, -999.000,   -999.0,1,   -999.0, -999.000,9, -999.000, -999.000,9, -999.000
  49NZ20130106,  S04I,   123,  1,     10, X12J10,2,20130121,2248,-62.3135,  65.7905, 4371,   3499.3,2,   0.0852,2,   0.08502,2,  34.6690,2,  34.6686,2,  34.8455,2,   224.49,2,   224.37,2,   99.944,   0.0022,2,   -0.010,2,  -999.00,9,    0.000,2,   128.99,2,     0.17,    32.90,2,     0.05,     0.00,2,     0.01,     2.27,2,     0.01,    0.267,2,    0.132,2,    0.009,2,    0.000,2,   2257.9,2,   2356.2,2,   7.5953,       25,2, -999.000,1, -999.000,   -999.0,1,   -999.0, -999.000,9, -999.000, -999.000,9, -999.000
  49NZ20130106,  S04I,   123,  1,      9, X12J09,2,20130121,2248,-62.3135,  65.7905, 4371,   3751.2,2,   0.0043,2,   0.00439,2,  34.6653,2,  34.6641,2,  34.8385,2,   228.37,2,   228.42,2,   99.931,   0.0028,2,   -0.010,2,  -999.00,9,    0.000,2,   128.89,2,     0.17,    32.78,2,     0.05,     0.00,2,     0.01,     2.27,2,     0.01,    0.373,2,    0.188,2,    0.015,2,    0.027,2,   2257.7,2,   2356.7,2,   7.5967,       25,2, -999.000,1, -999.000,   -999.0,1,   -999.0, -999.000,9, -999.000, -999.000,9, -999.000
  49NZ20130106,  S04I,   123,  1,      8, X12J08,2,20130121,2248,-62.3135,  65.7905, 4371,   3999.5,2,  -0.0749,2,  -0.07488,2,  34.6616,2,  34.6613,2,  34.8365,2,   231.92,2,   231.94,2,   99.925,   0.0030,2,   -0.010,2,  -999.00,9,    0.000,2,   132.79,2,     0.18,    32.76,2,     0.05,     0.00,2,     0.01,     2.27,2,     0.01,    0.347,6,    0.174,6,    0.013,6,    0.021,6,   2258.0,2,   2355.1,2,   7.5988,       25,2, -999.000,1, -999.000,   -999.0,1,   -999.0, -999.000,9, -999.000, -999.000,9, -999.000
  49NZ20130106,  S04I,   123,  1,      7, X12J07,2,20130121,2248,-62.3135,  65.7905, 4371,   4250.8,2,  -0.1211,2,  -0.12111,2,  34.6589,2,  34.6584,2,  34.8332,2,   234.17,2,   234.22,2,   99.893,   0.0043,2,   -0.010,2,  -999.00,9,    0.000,2,   137.72,2,     0.18,    32.80,2,     0.05,     0.00,2,     0.01,     2.27,2,     0.01,    0.346,2,    0.178,2,    0.013,2,    0.019,2,   2255.9,6,   2355.0,2,   7.5995,       25,2, -999.000,1, -999.000,   -999.0,1,   -999.0, -999.000,9, -999.000, -999.000,9, -999.000
  49NZ20130106,  S04I,   123,  1,      1, X12J01,2,20130121,2248,-62.3135,  65.7905, 4371,   4443.4,2,  -0.1558,2,  -0.15592,2,  34.6562,2,  34.6559,2,  34.8332,2,   235.74,2,   235.90,2,   99.626,   0.0150,2,   -0.010,2,  -999.00,9,    0.000,2,   144.64,2,     0.19,    32.92,2,     0.05,     0.00,2,     0.01,     2.27,2,     0.01,    0.466,2,    0.237,2,    0.021,2,    0.055,2,   2257.8,2,   2356.3,2,   7.5995,       25,2, -999.000,1, -999.000,   -999.0,1,   -999.0, -999.000,9, -999.000, -999.000,9, -999.000