BOTTLE,20220819CCHSIOAMB
EXPOCODE,SECT_ID,STNNBR,CASTNO,SAMPNO,BTLNBR,BTLNBR_FLAG_W,DATE,TIME,LATITUDE,LONGITUDE,DEPTH,CTDPRS,CTDPRS_FLAG_W,CTDTMP,CTDTMP_FLAG_W,SBE35,SBE35_FLAG_W,CTDSAL,CTDSAL_FLAG_W,SALNTY,SALNTY_FLAG_W,DNSSAL,DNSSAL_FLAG_W,CTDOXY,CTDOXY_FLAG_W,OXYGEN,OXYGEN_FLAG_W,CTDXMISS,CTDXMISSCP,CTDXMISS_FLAG_W,CTDFLUOR,CTDFLUOR_FLAG_W,CHLORA,CHLORA_FLAG_W,PAR,PAR_FLAG_W,SILCAT,SILCAT_FLAG_W,SILUNC,NITRAT,NITRAT_FLAG_W,NRAUNC,NITRIT,NITRIT_FLAG_W,NRIUNC,PHSPHT,PHSPHT_FLAG_W,PHPUNC,CFC-11,CFC-11_FLAG_W,CFC-12,CFC-12_FLAG_W,CFC113,CFC113_FLAG_W,SF6,SF6_FLAG_W,TCARBN,TCARBN_FLAG_W,ALKALI,ALKALI_FLAG_W,PH_TOT,PH_TMP,PH_TOT_FLAG_W,DELC13,DELC13_FLAG_W,C13ERR,DELC14,DELC14_FLAG_W,C14ERR,CS-134,CS-134_FLAG_W,CS134ER,CS-137,CS-137_FLAG_W,CS137ER
,,,,,,,,UTC,DEG,DEG,METERS,DBAR,,ITS-90,,ITS-90,,PSS-78,,PSS-78,,G/KG,,UMOL/KG,,UMOL/KG,,%TRANS,/METER,,MG/M^3,,MG/CUM,,UE/SQM/S,,UMOL/KG,,UMOL/KG,UMOL/KG,,UMOL/KG,UMOL/KG,,UMOL/KG,UMOL/KG,,UMOL/KG,PMOL/KG,,PMOL/KG,,PMOL/KG,,FMOL/KG,,UMOL/KG,,UMOL/KG,,,DEG C,,/MILLE,,/MILLE,/MILLE,,/MILLE,MBQ/KG,,MBQ/KG,MBQ/KG,,MBQ/KG
  49NZ20130106,  S04I,   136,  1,     36, X12J36,2,20130125,1544,-64.7820,  52.9882, 3418,      4.8,2,  -0.0650,2,  -0.06502,2,  33.8935,2,  33.8972,2,-999.0000,9,   336.54,2,   336.17,2,   98.802,   0.0482,2,    0.150,2,  -999.00,9,   11.185,2,    48.58,2,     0.10,    27.08,2,     0.04,     0.19,2,     0.01,     1.88,2,     0.01,    5.900,2,    3.138,2,    0.508,2,    2.870,2,   -999.0,9,   -999.0,9,-999.0000,     -999,9, -999.000,9, -999.000,   -999.0,9,   -999.0, -999.000,9, -999.000, -999.000,9, -999.000
  49NZ20130106,  S04I,   136,  1,     35, X12J35,2,20130125,1544,-64.7820,  52.9882, 3418,     23.3,2,  -0.0661,2,  -0.06615,2,  33.8929,2,  33.8965,2,-999.0000,9,   336.64,2,   336.29,2,   98.785,   0.0489,2,    0.150,2,  -999.00,9,    4.137,2,    48.55,2,     0.10,    27.05,2,     0.04,     0.19,2,     0.01,     1.89,2,     0.01,    5.905,2,    3.132,2,    0.509,2,    2.893,2,   -999.0,9,   -999.0,9,-999.0000,     -999,9, -999.000,9, -999.000,   -999.0,9,   -999.0, -999.000,9, -999.000, -999.000,9, -999.000
  49NZ20130106,  S04I,   136,  1,     34, X12J34,2,20130125,1544,-64.7820,  52.9882, 3418,     50.3,2,  -0.1307,2,  -0.12696,2,  33.9152,2,  33.9211,2,-999.0000,9,   333.10,2,   332.94,2,   98.692,   0.0527,2,    0.170,2,  -999.00,9,    1.680,2,    49.84,2,     0.10,    27.31,2,     0.04,     0.18,2,     0.01,     1.91,2,     0.01,    5.812,6,    3.067,6,    0.503,6,    2.822,6,   -999.0,9,   -999.0,9,-999.0000,     -999,9, -999.000,9, -999.000,   -999.0,9,   -999.0, -999.000,9, -999.000, -999.000,9, -999.000
  49NZ20130106,  S04I,   136,  1,     33, X12J33,2,20130125,1544,-64.7820,  52.9882, 3418,     74.8,2,  -1.4867,2,  -1.50008,2,  34.3844,2,  34.3842,2,-999.0000,9,   292.38,2,   291.80,2,   99.427,   0.0230,2,    0.150,2,  -999.00,9,    0.615,2,    62.72,2,     0.12,    30.86,2,     0.04,     0.05,2,     0.01,     2.12,2,     0.01,    4.654,2,    2.437,2,    0.412,2,    2.203,2,   -999.0,9,   -999.0,9,-999.0000,     -999,9, -999.000,9, -999.000,   -999.0,9,   -999.0, -999.000,9, -999.000, -999.000,9, -999.000
  49NZ20130106,  S04I,   136,  1,     32, X12J32,2,20130125,1544,-64.7820,  52.9882, 3418,     99.1,2,  -0.6558,2,  -0.65960,2,  34.4495,2,  34.4497,2,-999.0000,9,   263.71,2,   262.96,2,   99.321,   0.0273,2,    0.190,2,  -999.00,9,    0.221,2,    68.63,2,     0.12,    31.62,2,     0.04,     0.04,2,     0.01,     2.18,2,     0.01,    3.721,2,    1.928,2,    0.330,2,    1.736,2,   -999.0,9,   -999.0,9,-999.0000,     -999,9, -999.000,9, -999.000,   -999.0,9,   -999.0, -999.000,9, -999.000, -999.000,9, -999.000
  49NZ20130106,  S04I,   136,  1,     31, X12J31,2,20130125,1544,-64.7820,  52.9882, 3418,    124.8,2,   1.1869,2,   1.18670,2,  34.6061,2,  34.6059,2,-999.0000,9,   194.41,2,   194.16,2,   99.505,   0.0198,2,    0.150,2,  -999.00,9,    0.049,2,    83.41,2,     0.13,    33.49,2,     0.05,     0.09,2,     0.01,     2.32,2,     0.01,    1.389,2,    0.719,2,    0.122,2,    0.553,2,   -999.0,9,   -999.0,9,-999.0000,     -999,9, -999.000,9, -999.000,   -999.0,9,   -999.0, -999.000,9, -999.000, -999.000,9, -999.000
  49NZ20130106,  S04I,   136,  1,     30, X12J30,2,20130125,1544,-64.7820,  52.9882, 3418,    150.2,2,   1.1861,2,   1.18388,2,  34.6201,2,  34.6197,2,-999.0000,9,   195.42,2,   195.28,2,   99.684,   0.0127,2,    0.080,2,  -999.00,9,    0.000,2,    83.93,2,     0.13,    33.33,2,     0.05,     0.04,2,     0.01,     2.31,2,     0.01,    1.306,2,    0.699,2,    0.109,2,    0.607,2,   -999.0,9,   -999.0,9,-999.0000,     -999,9, -999.000,9, -999.000,   -999.0,9,   -999.0, -999.000,9, -999.000, -999.000,9, -999.000
  49NZ20130106,  S04I,   136,  1,     29, X12J29,2,20130125,1544,-64.7820,  52.9882, 3418,    201.5,2,   1.2394,2,   1.23929,2,  34.6467,2,  34.6475,2,-999.0000,9,   195.33,2,   194.55,2,   99.814,   0.0074,2,    0.010,2,  -999.00,9,    0.000,2,    85.34,2,     0.14,    32.95,2,     0.05,     0.02,2,     0.01,     2.27,2,     0.01,    1.089,2,    0.589,2,    0.093,2,    0.481,2,   -999.0,9,   -999.0,9,-999.0000,     -999,9, -999.000,9, -999.000,   -999.0,9,   -999.0, -999.000,9, -999.000, -999.000,9, -999.000
  49NZ20130106,  S04I,   136,  1,     28, X12J28,2,20130125,1544,-64.7820,  52.9882, 3418,    248.7,2,   1.2380,2,   1.23771,2,  34.6609,2,  34.6610,2,-999.0000,9,   196.35,2,   195.88,2,   99.837,   0.0065,2,    0.010,2,  -999.00,9,    0.000,2,    86.17,2,     0.14,    32.64,2,     0.05,     0.01,2,     0.01,     2.26,2,     0.01,    1.011,2,    0.545,2,    0.086,2,    0.487,2,   -999.0,9,   -999.0,9,-999.0000,     -999,9, -999.000,9, -999.000,   -999.0,9,   -999.0, -999.000,9, -999.000, -999.000,9, -999.000
  49NZ20130106,  S04I,   136,  1,     27, X12J27,2,20130125,1544,-64.7820,  52.9882, 3418,    331.5,2,   1.3501,2,   1.34991,2,  34.6886,2,  34.6885,2,-999.0000,9,   194.87,2,   194.65,2,   99.867,   0.0053,2,    0.000,2,  -999.00,9,    0.000,2,    88.35,2,     0.14,    32.13,2,     0.05,     0.01,2,     0.01,     2.22,2,     0.01,    0.789,2,    0.398,2,    0.062,2,    0.324,2,   -999.0,9,   -999.0,9,-999.0000,     -999,9, -999.000,9, -999.000,   -999.0,9,   -999.0, -999.000,9, -999.000, -999.000,9, -999.000
  49NZ20130106,  S04I,   136,  1,     26, X12J26,2,20130125,1544,-64.7820,  52.9882, 3418,    429.7,2,   1.2839,2,   1.28337,2,  34.7033,2,  34.7029,2,-999.0000,9,   198.86,2,   198.68,2,   99.920,   0.0032,2,    0.000,2,  -999.00,9,    0.000,2,    90.86,2,     0.14,    31.69,2,     0.04,     0.01,2,     0.01,     2.19,2,     0.01,    0.670,2,    0.344,2,    0.054,2,    0.278,2,   -999.0,9,   -999.0,9,-999.0000,     -999,9, -999.000,9, -999.000,   -999.0,9,   -999.0, -999.000,9, -999.000, -999.000,9, -999.000
  49NZ20130106,  S04I,   136,  1,     25, X12J25,2,20130125,1544,-64.7820,  52.9882, 3418,    529.6,2,   1.1948,2,   1.19484,2,  34.7116,2,  34.7116,2,-999.0000,9,   200.51,2,   200.44,2,   99.952,   0.0019,2,   -0.000,2,  -999.00,9,    0.000,2,    94.68,2,     0.14,    31.58,2,     0.04,     0.01,2,     0.01,     2.18,2,     0.01,    0.536,2,    0.274,2,    0.043,2,    0.184,2,   -999.0,9,   -999.0,9,-999.0000,     -999,9, -999.000,9, -999.000,   -999.0,9,   -999.0, -999.000,9, -999.000, -999.000,9, -999.000
  49NZ20130106,  S04I,   136,  1,     24, X12J24,2,20130125,1544,-64.7820,  52.9882, 3418,    630.0,2,   1.0830,2,   1.08245,2,  34.7097,2,  34.7101,2,-999.0000,9,   202.80,2,   202.69,2,   99.958,   0.0017,2,    0.000,2,  -999.00,9,    0.000,2,    97.46,2,     0.15,    31.63,2,     0.04,     0.01,2,     0.01,     2.18,2,     0.01,    0.540,6,    0.274,6,    0.038,6,    0.202,6,   -999.0,9,   -999.0,9,-999.0000,     -999,9, -999.000,9, -999.000,   -999.0,9,   -999.0, -999.000,9, -999.000, -999.000,9, -999.000
  49NZ20130106,  S04I,   136,  1,     23, X12J23,2,20130125,1544,-64.7820,  52.9882, 3418,    729.5,2,   1.0123,2,   1.01232,2,  34.7101,2,  34.7101,2,-999.0000,9,   203.26,2,   202.87,2,   99.956,   0.0018,2,    0.000,2,  -999.00,9,    0.000,2,   100.15,2,     0.15,    31.71,2,     0.04,     0.01,2,     0.01,     2.19,2,     0.01,    0.469,2,    0.241,2,    0.037,2,    0.135,2,   -999.0,9,   -999.0,9,-999.0000,     -999,9, -999.000,9, -999.000,   -999.0,9,   -999.0, -999.000,9, -999.000, -999.000,9, -999.000
  49NZ20130106,  S04I,   136,  1,     22, X12J22,2,20130125,1544,-64.7820,  52.9882, 3418,    829.7,2,   0.8221,2,   0.82174,2,  34.6974,2,  34.6979,2,-999.0000,9,   208.04,2,   207.48,2,   99.939,   0.0024,2,   -0.000,2,  -999.00,9,    0.000,2,   101.76,2,     0.15,    31.84,2,     0.04,     0.01,2,     0.01,     2.20,2,     0.01,    0.636,2,    0.328,2,    0.046,2,    0.241,2,   -999.0,9,   -999.0,9,-999.0000,     -999,9, -999.000,9, -999.000,   -999.0,9,   -999.0, -999.000,9, -999.000, -999.000,9, -999.000
  49NZ20130106,  S04I,   136,  1,     21, X12J21,2,20130125,1544,-64.7820,  52.9882, 3418,    929.4,2,   0.7617,2,   0.76147,2,  34.6963,2,  34.6968,2,-999.0000,9,   208.17,2,   207.92,2,   99.949,   0.0020,2,   -0.000,2,  -999.00,9,    0.000,2,   104.18,2,     0.15,    31.97,2,     0.04,     0.01,2,     0.01,     2.21,2,     0.01,    0.600,2,    0.309,2,    0.046,2,    0.240,2,   -999.0,9,   -999.0,9,-999.0000,     -999,9, -999.000,9, -999.000,   -999.0,9,   -999.0, -999.000,9, -999.000, -999.000,9, -999.000
  49NZ20130106,  S04I,   136,  1,     20, X12J20,2,20130125,1544,-64.7820,  52.9882, 3418,   1079.7,2,   0.6601,2,   0.66010,2,  34.6946,2,  34.6950,2,-999.0000,9,   207.99,2,   207.65,2,   99.971,   0.0012,2,   -0.000,2,  -999.00,9,    0.000,2,   108.94,2,     0.16,    32.29,2,     0.05,     0.01,2,     0.01,     2.24,2,     0.01,    0.509,2,    0.258,2,    0.038,2,    0.195,2,   -999.0,9,   -999.0,9,-999.0000,     -999,9, -999.000,9, -999.000,   -999.0,9,   -999.0, -999.000,9, -999.000, -999.000,9, -999.000
  49NZ20130106,  S04I,   136,  1,     19, X12J19,2,20130125,1544,-64.7820,  52.9882, 3418,   1331.1,2,   0.4464,2,   0.44644,2,  34.6849,2,  34.6850,2,-999.0000,9,   211.42,2,   211.18,2,   99.947,   0.0021,2,   -0.000,2,  -999.00,9,    0.000,2,   114.38,2,     0.16,    32.59,2,     0.05,     0.01,2,     0.01,     2.27,2,     0.01,    0.522,6,    0.263,6,    0.035,6,    0.149,6,   -999.0,9,   -999.0,9,-999.0000,     -999,9, -999.000,9, -999.000,   -999.0,9,   -999.0, -999.000,9, -999.000, -999.000,9, -999.000
  49NZ20130106,  S04I,   136,  1,     18, X12J18,2,20130125,1544,-64.7820,  52.9882, 3418,   1580.7,2,   0.3249,2,   0.32471,2,  34.6796,2,  34.6794,2,-999.0000,9,   213.45,2,   213.54,2,   99.973,   0.0011,2,   -0.000,2,  -999.00,9,    0.000,2,   117.52,2,     0.16,    32.76,2,     0.05,     0.01,2,     0.01,     2.25,2,     0.01,    0.502,2,    0.256,2,    0.034,2,    0.166,2,   -999.0,9,   -999.0,9,-999.0000,     -999,9, -999.000,9, -999.000,   -999.0,9,   -999.0, -999.000,9, -999.000, -999.000,9, -999.000
  49NZ20130106,  S04I,   136,  1,     17, X12J17,2,20130125,1544,-64.7820,  52.9882, 3418,   1830.2,2,   0.1785,2,   0.17823,2,  34.6717,2,  34.6721,2,-999.0000,9,   219.88,2,   219.58,2,   99.971,   0.0012,2,   -0.010,2,  -999.00,9,    0.000,2,   117.50,2,     0.16,    32.67,2,     0.05,     0.01,2,     0.01,     2.24,2,     0.01,    0.668,2,    0.340,2,    0.045,2,    0.260,2,   -999.0,9,   -999.0,9,-999.0000,     -999,9, -999.000,9, -999.000,   -999.0,9,   -999.0, -999.000,9, -999.000, -999.000,9, -999.000
  49NZ20130106,  S04I,   136,  1,     16, X12J16,2,20130125,1544,-64.7820,  52.9882, 3418,   2081.0,2,   0.0539,2,   0.05404,2,  34.6668,2,  34.6672,2,-999.0000,9,   224.76,2,   224.61,2,   99.916,   0.0034,2,   -0.000,2,  -999.00,9,    0.000,2,   118.27,2,     0.17,    32.66,2,     0.05,     0.01,2,     0.01,     2.24,2,     0.01,    0.813,2,    0.401,2,    0.055,2,    0.219,2,   -999.0,9,   -999.0,9,-999.0000,     -999,9, -999.000,9, -999.000,   -999.0,9,   -999.0, -999.000,9, -999.000, -999.000,9, -999.000
  49NZ20130106,  S04I,   136,  1,     15, X12J15,2,20130125,1544,-64.7820,  52.9882, 3418,   2332.2,2,  -0.0296,2,  -0.02956,2,  34.6643,2,  34.6648,2,-999.0000,9,   227.80,2,   227.77,2,   99.964,   0.0014,2,   -0.000,2,  -999.00,9,    0.000,2,   119.88,2,     0.17,    32.68,2,     0.05,     0.01,2,     0.01,     2.25,2,     0.01,    0.847,2,    0.412,2,    0.059,2,    0.299,2,   -999.0,9,   -999.0,9,-999.0000,     -999,9, -999.000,9, -999.000,   -999.0,9,   -999.0, -999.000,9, -999.000, -999.000,9, -999.000
  49NZ20130106,  S04I,   136,  1,     14, X12J14,2,20130125,1544,-64.7820,  52.9882, 3418,   2580.0,2,  -0.1047,2,  -0.10488,2,  34.6621,2,  34.6622,2,-999.0000,9,   230.67,2,   230.47,2,   99.854,   0.0058,2,   -0.000,2,  -999.00,9,    0.000,2,   121.72,2,     0.17,    32.69,2,     0.05,     0.00,2,     0.01,     2.25,2,     0.01,    0.801,2,    0.390,2,    0.053,2,    0.290,2,   -999.0,9,   -999.0,9,-999.0000,     -999,9, -999.000,9, -999.000,   -999.0,9,   -999.0, -999.000,9, -999.000, -999.000,9, -999.000
  49NZ20130106,  S04I,   136,  1,     13, X12J13,2,20130125,1544,-64.7820,  52.9882, 3418,   2831.4,2,  -0.2016,2,  -0.20149,2,  34.6570,2,  34.6570,2,-999.0000,9,   237.86,2,   237.51,2,   99.913,   0.0035,2,   -0.010,2,  -999.00,9,    0.000,2,   117.47,2,     0.16,    32.42,2,     0.05,     0.00,2,     0.01,     2.23,2,     0.01,    1.176,2,    0.621,2,    0.089,2,    0.488,2,   -999.0,9,   -999.0,9,-999.0000,     -999,9, -999.000,9, -999.000,   -999.0,9,   -999.0, -999.000,9, -999.000, -999.000,9, -999.000
  49NZ20130106,  S04I,   136,  1,     12, X12J12,2,20130125,1544,-64.7820,  52.9882, 3418,   3082.3,2,  -0.2399,2,  -0.23988,2,  34.6551,2,  34.6556,2,-999.0000,9,   242.17,2,   241.97,2,   99.869,   0.0052,2,   -0.010,2,  -999.00,9,    0.000,2,   113.63,2,     0.16,    32.32,2,     0.05,     0.01,2,     0.01,     2.23,2,     0.01,    1.526,2,    0.794,2,    0.123,2,    0.620,2,   -999.0,9,   -999.0,9,-999.0000,     -999,9, -999.000,9, -999.000,   -999.0,9,   -999.0, -999.000,9, -999.000, -999.000,9, -999.000
  49NZ20130106,  S04I,   136,  1,     11, X12J11,2,20130125,1544,-64.7820,  52.9882, 3418,   3330.8,2,  -0.2794,2,  -0.27937,2,  34.6538,2,  34.6542,2,-999.0000,9,   246.11,2,   245.99,2,   99.820,   0.0072,2,   -0.010,2,  -999.00,9,    0.000,2,   110.37,2,     0.16,    32.13,2,     0.05,     0.01,2,     0.01,     2.23,2,     0.01,    1.769,2,    0.940,2,    0.139,2,    0.745,2,   -999.0,9,   -999.0,9,-999.0000,     -999,9, -999.000,9, -999.000,   -999.0,9,   -999.0, -999.000,9, -999.000, -999.000,9, -999.000
  49NZ20130106,  S04I,   136,  1,      1, X12J01,2,20130125,1544,-64.7820,  52.9882, 3418,   3496.6,2,  -0.2875,2,  -0.28762,2,  34.6531,2,  34.6535,2,-999.0000,9,   247.75,2,   247.79,2,   99.788,   0.0085,2,   -0.010,2,  -999.00,9,    0.000,2,   109.05,2,     0.16,    32.12,2,     0.05,     0.01,2,     0.01,     2.22,2,     0.01,    1.895,2,    1.001,2,    0.158,2,    0.794,2,   -999.0,9,   -999.0,9,-999.0000,     -999,9, -999.000,9, -999.000,   -999.0,9,   -999.0, -999.000,9, -999.000, -999.000,9, -999.000