BOTTLE,20220819CCHSIOAMB
EXPOCODE,SECT_ID,STNNBR,CASTNO,SAMPNO,BTLNBR,BTLNBR_FLAG_W,DATE,TIME,LATITUDE,LONGITUDE,DEPTH,CTDPRS,CTDPRS_FLAG_W,CTDTMP,CTDTMP_FLAG_W,SBE35,SBE35_FLAG_W,CTDSAL,CTDSAL_FLAG_W,SALNTY,SALNTY_FLAG_W,DNSSAL,DNSSAL_FLAG_W,CTDOXY,CTDOXY_FLAG_W,OXYGEN,OXYGEN_FLAG_W,CTDXMISS,CTDXMISSCP,CTDXMISS_FLAG_W,CTDFLUOR,CTDFLUOR_FLAG_W,CHLORA,CHLORA_FLAG_W,PAR,PAR_FLAG_W,SILCAT,SILCAT_FLAG_W,SILUNC,NITRAT,NITRAT_FLAG_W,NRAUNC,NITRIT,NITRIT_FLAG_W,NRIUNC,PHSPHT,PHSPHT_FLAG_W,PHPUNC,CFC-11,CFC-11_FLAG_W,CFC-12,CFC-12_FLAG_W,CFC113,CFC113_FLAG_W,SF6,SF6_FLAG_W,TCARBN,TCARBN_FLAG_W,ALKALI,ALKALI_FLAG_W,PH_TOT,PH_TMP,PH_TOT_FLAG_W,DELC13,DELC13_FLAG_W,C13ERR,DELC14,DELC14_FLAG_W,C14ERR,CS-134,CS-134_FLAG_W,CS134ER,CS-137,CS-137_FLAG_W,CS137ER
,,,,,,,,UTC,DEG,DEG,METERS,DBAR,,ITS-90,,ITS-90,,PSS-78,,PSS-78,,G/KG,,UMOL/KG,,UMOL/KG,,%TRANS,/METER,,MG/M^3,,MG/CUM,,UE/SQM/S,,UMOL/KG,,UMOL/KG,UMOL/KG,,UMOL/KG,UMOL/KG,,UMOL/KG,UMOL/KG,,UMOL/KG,PMOL/KG,,PMOL/KG,,PMOL/KG,,FMOL/KG,,UMOL/KG,,UMOL/KG,,,DEG C,,/MILLE,,/MILLE,/MILLE,,/MILLE,MBQ/KG,,MBQ/KG,MBQ/KG,,MBQ/KG
  49NZ20130106,  S04I,    96,  1,     36, X12J36,2,20130115,0106,-62.1105,  98.0242, 4082,      4.6,2,   1.9456,2,   1.94614,2,  33.9359,2,  33.9362,2,-999.0000,9,   339.90,2,   339.81,2,   92.423,   0.3152,2,    0.190,2,  -999.00,9,  264.374,2,    29.77,2,     0.09,    24.24,2,     0.04,     0.27,2,     0.01,     1.49,2,     0.01,    5.708,2,    3.084,2,    0.601,2,    2.969,2,   2156.6,2,   2297.8,2,   7.7294,       25,6, -999.000,9, -999.000,   -999.0,9,   -999.0, -999.000,9, -999.000, -999.000,9, -999.000
  49NZ20130106,  S04I,    96,  1,     35, X12J35,2,20130115,0106,-62.1105,  98.0242, 4082,     25.0,2,   1.8970,2,   1.89780,2,  33.9363,2,  33.9369,2,-999.0000,9,   340.15,2,   340.58,2,   92.522,   0.3109,2,    0.520,2,  -999.00,9,   37.757,2,    29.42,2,     0.09,    24.21,2,     0.04,     0.27,2,     0.01,     1.50,2,     0.01,    5.680,2,    3.096,2,    0.611,2,    2.831,2,   2156.6,2,   2297.4,2,   7.7285,       25,2, -999.000,9, -999.000,   -999.0,9,   -999.0, -999.000,9, -999.000, -999.000,9, -999.000
  49NZ20130106,  S04I,    96,  1,     34, X12J34,2,20130115,0106,-62.1105,  98.0242, 4082,     49.5,2,  -0.4921,2,  -0.49259,2,  34.0596,2,  34.0621,2,-999.0000,9,   336.20,2,   334.61,2,   91.434,   0.3582,2,    1.270,2,  -999.00,9,    5.313,2,    46.91,2,     0.10,    27.98,2,     0.04,     0.17,2,     0.01,     1.97,2,     0.01,    5.426,6,    2.890,6,    0.572,6,    2.689,6,   2185.9,2,   2303.7,2,   7.6631,       25,2, -999.000,9, -999.000,   -999.0,9,   -999.0, -999.000,9, -999.000, -999.000,9, -999.000
  49NZ20130106,  S04I,    96,  1,     33, X12J33,2,20130115,0106,-62.1105,  98.0242, 4082,     74.7,2,  -1.1703,2,  -1.17318,2,  34.2395,2,  34.2373,2,-999.0000,9,   293.89,2,   294.21,2,   98.034,   0.0794,2,    0.390,2,  -999.00,9,    0.797,2,    62.06,2,     0.11,    30.85,2,     0.04,     0.14,2,     0.01,     2.15,2,     0.01,    4.473,2,    2.363,2,    0.476,2,    2.135,2,   2216.6,6,   2313.7,2,   7.6083,       25,2, -999.000,9, -999.000,   -999.0,9,   -999.0, -999.000,9, -999.000, -999.000,9, -999.000
  49NZ20130106,  S04I,    96,  1,     32, X12J32,2,20130115,0106,-62.1105,  98.0242, 4082,     99.9,2,  -0.8940,2,  -0.90098,2,  34.3155,2,  34.3171,2,-999.0000,9,   272.23,2,   270.71,2,   99.162,   0.0337,2,    0.170,2,  -999.00,9,    0.215,2,    66.00,2,     0.12,    31.82,2,     0.04,     0.13,2,     0.01,     2.21,2,     0.01,    3.848,2,    2.011,2,    0.421,2,    1.884,2,   2227.2,2,   2316.8,6,   7.5906,       25,2, -999.000,9, -999.000,   -999.0,9,   -999.0, -999.000,9, -999.000, -999.000,9, -999.000
  49NZ20130106,  S04I,    96,  1,     31, X12J31,2,20130115,0106,-62.1105,  98.0242, 4082,    125.4,2,  -0.0516,2,  -0.05136,2,  34.4028,2,  34.4023,2,-999.0000,9,   242.77,2,   242.68,2,   99.507,   0.0198,2,    0.090,2,  -999.00,9,    0.049,2,    69.28,2,     0.12,    32.65,2,     0.05,     0.04,2,     0.01,     2.25,2,     0.01,    2.964,2,    1.588,2,    0.284,2,    1.357,2,   2235.9,2,   2321.3,2,   7.5754,       25,2, -999.000,9, -999.000,   -999.0,9,   -999.0, -999.000,9, -999.000, -999.000,9, -999.000
  49NZ20130106,  S04I,    96,  1,     30, X12J30,2,20130115,0106,-62.1105,  98.0242, 4082,    149.9,2,   0.5835,2,   0.58295,2,  34.4878,2,  34.4876,2,-999.0000,9,   220.34,2,   220.06,2,   99.558,   0.0177,2,    0.060,2,  -999.00,9,    0.000,2,    73.52,2,     0.12,    32.96,2,     0.05,     0.02,2,     0.01,     2.27,2,     0.01,    2.113,2,    1.172,2,    0.199,2,    1.097,2,   2242.0,2,   2327.1,2,   7.5686,       25,6, -999.000,9, -999.000,   -999.0,9,   -999.0, -999.000,9, -999.000, -999.000,9, -999.000
  49NZ20130106,  S04I,    96,  1,     29, X12J29,2,20130115,0106,-62.1105,  98.0242, 4082,    201.3,2,   1.2365,2,   1.23643,2,  34.5910,2,  34.5895,2,-999.0000,9,   198.86,2,   198.58,2,   99.615,   0.0154,2,    0.020,2,  -999.00,9,    0.000,2,    78.76,2,     0.13,    33.01,2,     0.05,     0.02,2,     0.01,     2.26,2,     0.01,    1.326,2,    0.726,2,    0.120,2,    0.532,2,   2250.9,2,   2334.4,2,   7.5653,       25,2, -999.000,9, -999.000,   -999.0,9,   -999.0, -999.000,9, -999.000, -999.000,9, -999.000
  49NZ20130106,  S04I,    96,  1,     28, X12J28,2,20130115,0106,-62.1105,  98.0242, 4082,    251.2,2,   1.5488,2,   1.55024,2,  34.6497,2,  34.6479,2,-999.0000,9,   190.35,2,   190.19,2,   99.682,   0.0127,2,    0.010,2,  -999.00,9,    0.000,2,    81.11,2,     0.13,    32.76,2,     0.05,     0.01,2,     0.01,     2.25,2,     0.01,    0.954,2,    0.496,2,    0.076,2,    0.454,2,   2253.0,2,   2338.0,2,   7.5688,       25,2, -999.000,9, -999.000,   -999.0,9,   -999.0, -999.000,9, -999.000, -999.000,9, -999.000
  49NZ20130106,  S04I,    96,  1,     27, X12J27,2,20130115,0106,-62.1105,  98.0242, 4082,    299.5,2,   1.6576,2,   1.65742,2,  34.6802,2,  34.6802,2,-999.0000,9,   188.77,2,   188.48,2,   99.799,   0.0080,2,    0.010,2,  -999.00,9,    0.000,2,    82.41,2,     0.13,    32.34,2,     0.05,     0.01,2,     0.01,     2.22,2,     0.01,    0.698,2,    0.376,2,    0.054,2,    0.331,2,   2252.4,2,   2339.8,2,   7.5755,       25,2, -999.000,9, -999.000,   -999.0,9,   -999.0, -999.000,9, -999.000, -999.000,9, -999.000
  49NZ20130106,  S04I,    96,  1,     26, X12J26,2,20130115,0106,-62.1105,  98.0242, 4082,    400.3,2,   1.6766,2,   1.67600,2,  34.7096,2,  34.7093,2,-999.0000,9,   190.81,2,   190.63,2,   99.854,   0.0058,2,    0.010,2,  -999.00,9,    0.000,2,    84.41,2,     0.13,    31.74,2,     0.04,     0.01,2,     0.01,     2.18,2,     0.01,    0.524,2,    0.276,2,    0.041,2,    0.316,2,   2250.0,2,   2343.7,2,   7.5868,       25,2, -999.000,9, -999.000,   -999.0,9,   -999.0, -999.000,9, -999.000, -999.000,9, -999.000
  49NZ20130106,  S04I,    96,  1,     25, X12J25,2,20130115,0106,-62.1105,  98.0242, 4082,    499.9,2,   1.6216,2,   1.62157,2,  34.7234,2,  34.7233,2,-999.0000,9,   193.81,2,   193.63,2,   99.850,   0.0060,2,    0.010,2,  -999.00,9,    0.000,2,    86.38,2,     0.14,    31.37,2,     0.04,     0.01,2,     0.01,     2.15,2,     0.01,    0.419,2,    0.214,2,    0.029,2,    0.182,2,   2249.5,2,   2345.9,2,   7.5935,       25,2, -999.000,9, -999.000,   -999.0,9,   -999.0, -999.000,9, -999.000, -999.000,9, -999.000
  49NZ20130106,  S04I,    96,  1,     24, X12J24,2,20130115,0106,-62.1105,  98.0242, 4082,    600.2,2,   1.5598,2,   1.55999,2,  34.7312,2,  34.7310,2,-999.0000,9,   196.48,2,   196.19,2,   99.858,   0.0057,2,    0.000,2,  -999.00,9,    0.000,2,    88.52,2,     0.14,    31.12,2,     0.04,     0.01,2,     0.01,     2.13,2,     0.01,    0.356,6,    0.180,6,    0.023,6,    0.139,6,   2250.1,2,   2347.1,2,   7.5998,       25,2, -999.000,9, -999.000,   -999.0,9,   -999.0, -999.000,9, -999.000, -999.000,9, -999.000
  49NZ20130106,  S04I,    96,  1,     23, X12J23,2,20130115,0106,-62.1105,  98.0242, 4082,    701.7,2,   1.4574,2,   1.45740,2,  34.7315,2,  34.7317,2,-999.0000,9,   198.19,2,   198.00,2,   99.915,   0.0034,2,    0.000,2,  -999.00,9,    0.000,2,    90.99,2,     0.14,    31.12,2,     0.04,     0.01,2,     0.01,     2.14,2,     0.01,    0.350,2,    0.174,2,    0.023,2,    0.108,2,   2250.3,6,   2348.2,2,   7.6016,       25,2, -999.000,9, -999.000,   -999.0,9,   -999.0, -999.000,9, -999.000, -999.000,9, -999.000
  49NZ20130106,  S04I,    96,  1,     22, X12J22,2,20130115,0106,-62.1105,  98.0242, 4082,    799.9,2,   1.3846,2,   1.38475,2,  34.7336,2,  34.7337,2,-999.0000,9,   200.22,2,   200.06,2,   99.898,   0.0041,2,    0.000,2,  -999.00,9,    0.000,2,    93.55,2,     0.14,    31.07,2,     0.04,     0.01,2,     0.01,     2.13,2,     0.01,    0.302,2,    0.148,2,    0.018,2,    0.147,2,   2250.8,2,   2349.4,6,   7.6046,       25,2, -999.000,9, -999.000,   -999.0,9,   -999.0, -999.000,9, -999.000, -999.000,9, -999.000
  49NZ20130106,  S04I,    96,  1,     21, X12J21,2,20130115,0106,-62.1105,  98.0242, 4082,    899.4,2,   1.3046,2,   1.30458,2,  34.7324,2,  34.7327,2,-999.0000,9,   201.48,2,   201.31,2,   99.930,   0.0028,2,    0.000,2,  -999.00,9,    0.000,2,    96.07,2,     0.15,    31.13,2,     0.04,     0.01,2,     0.01,     2.14,2,     0.01,    0.274,2,    0.131,2,    0.014,2,    0.137,2,   2252.0,2,   2349.4,2,   7.6061,       25,6, -999.000,9, -999.000,   -999.0,9,   -999.0, -999.000,9, -999.000, -999.000,9, -999.000
  49NZ20130106,  S04I,    96,  1,     20, X12J20,2,20130115,0106,-62.1105,  98.0242, 4082,   1002.3,2,   1.2099,2,   1.20987,2,  34.7288,2,  34.7287,2,-999.0000,9,   202.45,2,   202.30,2,   99.951,   0.0020,2,    0.000,2,  -999.00,9,    0.000,2,    98.80,2,     0.15,    31.29,2,     0.04,     0.01,2,     0.01,     2.15,2,     0.01,    0.271,2,    0.129,2,    0.012,2,    0.092,2,   2252.3,2,   2351.1,2,   7.6055,       25,2, -999.000,9, -999.000,   -999.0,9,   -999.0, -999.000,9, -999.000, -999.000,9, -999.000
  49NZ20130106,  S04I,    96,  1,     19, X12J19,2,20130115,0106,-62.1105,  98.0242, 4082,   1252.8,2,   0.9965,2,   0.99641,2,  34.7185,2,  34.7182,2,-999.0000,9,   204.71,2,   204.55,2,   99.983,   0.0007,2,   -0.000,2,  -999.00,9,    0.000,2,   104.84,2,     0.15,    31.68,2,     0.04,     0.01,2,     0.01,     2.18,2,     0.01,    0.280,6,    0.132,6,    0.013,6,    0.037,6,   2256.4,2,   2353.8,2,   7.6027,       25,2, -999.000,9, -999.000,   -999.0,9,   -999.0, -999.000,9, -999.000, -999.000,9, -999.000
  49NZ20130106,  S04I,    96,  1,     18, X12J18,2,20130115,0106,-62.1105,  98.0242, 4082,   1500.6,2,   0.7997,2,   0.79976,2,  34.7073,2,  34.7068,2,-999.0000,9,   206.59,2,   206.59,2,   99.979,   0.0008,2,   -0.000,2,  -999.00,9,    0.000,2,   109.96,2,     0.16,    32.06,2,     0.04,     0.01,2,     0.01,     2.21,2,     0.01,    0.320,2,    0.148,2,    0.016,2,    0.000,2,   2259.4,2,   2352.8,2,   7.5979,       25,2, -999.000,9, -999.000,   -999.0,9,   -999.0, -999.000,9, -999.000, -999.000,9, -999.000
  49NZ20130106,  S04I,    96,  1,     17, X12J17,2,20130115,0106,-62.1105,  98.0242, 4082,   1749.2,2,   0.6064,2,   0.60632,2,  34.6971,2,  34.6972,2,-999.0000,9,   209.37,2,   209.28,2,   99.970,   0.0012,2,   -0.000,2,  -999.00,9,    0.000,2,   115.29,2,     0.16,    32.43,2,     0.05,     0.01,2,     0.01,     2.24,2,     0.01,    0.349,2,    0.164,2,    0.015,2,    0.000,2,   2259.0,2,   2354.7,2,   7.5950,       25,2, -999.000,9, -999.000,   -999.0,9,   -999.0, -999.000,9, -999.000, -999.000,9, -999.000
  49NZ20130106,  S04I,    96,  1,     16, X12J16,2,20130115,0106,-62.1105,  98.0242, 4082,   2001.8,2,   0.4608,2,   0.46077,2,  34.6900,2,  34.6904,2,-999.0000,9,   212.65,2,   212.70,2,   99.953,   0.0019,2,   -0.000,2,  -999.00,9,    0.000,2,   118.55,2,     0.17,    32.51,2,     0.05,     0.01,2,     0.01,     2.24,2,     0.01,    0.412,2,    0.195,2,    0.019,2,    0.175,2,   2260.3,2,   2355.1,2,   7.5942,       25,2, -999.000,9, -999.000,   -999.0,9,   -999.0, -999.000,9, -999.000, -999.000,9, -999.000
  49NZ20130106,  S04I,    96,  1,     15, X12J15,2,20130115,0106,-62.1105,  98.0242, 4082,   2250.8,2,   0.3325,2,   0.33249,2,  34.6841,2,  34.6841,2,-999.0000,9,   216.25,2,   216.38,2,   99.932,   0.0027,2,   -0.000,2,  -999.00,9,    0.000,2,   120.65,2,     0.17,    32.57,2,     0.05,     0.01,2,     0.01,     2.24,2,     0.01,    0.528,2,    0.246,2,    0.023,2,    0.000,2,   2262.7,3,   2352.0,3,   7.5934,       25,2, -999.000,9, -999.000,   -999.0,9,   -999.0, -999.000,9, -999.000, -999.000,9, -999.000
  49NZ20130106,  S04I,    96,  1,     14, X12J14,2,20130115,0106,-62.1105,  98.0242, 4082,   2499.8,2,   0.2191,2,   0.21912,2,  34.6791,2,  34.6791,2,-999.0000,9,   220.19,2,   220.05,2,   99.953,   0.0019,2,   -0.000,2,  -999.00,9,    0.000,2,   122.23,2,     0.17,    32.59,2,     0.05,     0.01,2,     0.01,     2.25,2,     0.01,    0.681,2,    0.334,2,    0.034,2,    0.243,2,   2260.5,6,   2354.3,2,   7.5943,       25,2, -999.000,9, -999.000,   -999.0,9,   -999.0, -999.000,9, -999.000, -999.000,9, -999.000
  49NZ20130106,  S04I,    96,  1,     13, X12J13,2,20130115,0106,-62.1105,  98.0242, 4082,   2750.7,2,   0.1346,2,   0.13469,2,  34.6751,2,  34.6754,2,-999.0000,9,   223.29,2,   223.39,2,   99.955,   0.0018,2,   -0.000,2,  -999.00,9,    0.000,2,   123.01,2,     0.17,    32.57,2,     0.05,     0.01,2,     0.01,     2.25,2,     0.01,    0.902,2,    0.423,2,    0.052,2,    0.233,2,   2260.0,2,   2353.8,6,   7.5945,       25,2, -999.000,9, -999.000,   -999.0,9,   -999.0, -999.000,9, -999.000, -999.000,9, -999.000
  49NZ20130106,  S04I,    96,  1,     12, X12J12,2,20130115,0106,-62.1105,  98.0242, 4082,   3001.7,2,   0.0481,2,   0.04807,2,  34.6686,2,  34.6684,2,-999.0000,9,   227.23,2,   227.22,2,   99.955,   0.0018,2,   -0.000,2,  -999.00,9,    0.000,2,   120.22,2,     0.17,    32.48,2,     0.05,     0.01,2,     0.01,     2.24,2,     0.01,    1.137,2,    0.576,2,    0.073,2,    0.368,2,   2258.6,2,   2352.5,2,   7.5938,       25,6, -999.000,9, -999.000,   -999.0,9,   -999.0, -999.000,9, -999.000, -999.000,9, -999.000
  49NZ20130106,  S04I,    96,  1,     11, X12J11,2,20130115,0106,-62.1105,  98.0242, 4082,   3249.9,2,  -0.0005,2,  -0.00050,2,  34.6668,2,  34.6662,2,-999.0000,9,   229.36,2,   229.34,2,   99.915,   0.0034,2,   -0.000,2,  -999.00,9,    0.000,2,   121.93,2,     0.17,    32.49,2,     0.05,     0.01,2,     0.01,     2.24,2,     0.01,    1.232,2,    0.624,2,    0.088,2,    0.369,2,   2258.2,2,   2352.6,2,   7.5947,       25,2, -999.000,9, -999.000,   -999.0,9,   -999.0, -999.000,9, -999.000, -999.000,9, -999.000
  49NZ20130106,  S04I,    96,  1,     10, X12J10,2,20130115,0106,-62.1105,  98.0242, 4082,   3500.0,2,  -0.0401,2,  -0.04015,2,  34.6637,2,  34.6631,2,-999.0000,9,   231.56,2,   231.54,2,   99.894,   0.0042,2,   -0.010,2,  -999.00,9,    0.000,2,   120.85,2,     0.17,    32.42,2,     0.05,     0.01,2,     0.01,     2.24,2,     0.01,    1.435,2,    0.727,2,    0.100,2,    0.435,2,   2260.8,3,   2352.6,2,   7.5944,       25,2, -999.000,9, -999.000,   -999.0,9,   -999.0, -999.000,9, -999.000, -999.000,9, -999.000
  49NZ20130106,  S04I,    96,  1,      9, X12J09,2,20130115,0106,-62.1105,  98.0242, 4082,   3750.5,2,  -0.0688,2,  -0.06879,2,  34.6615,2,  34.6616,2,-999.0000,9,   233.26,2,   233.37,2,   99.862,   0.0055,2,   -0.000,2,  -999.00,9,    0.000,2,   122.74,2,     0.17,    32.43,2,     0.05,     0.01,2,     0.01,     2.23,2,     0.01,    1.532,2,    0.775,2,    0.103,2,    0.500,2,   2260.6,3,   2352.9,2,   7.5941,       25,2, -999.000,9, -999.000,   -999.0,9,   -999.0, -999.000,9, -999.000, -999.000,9, -999.000
  49NZ20130106,  S04I,    96,  1,      8, X12J08,2,20130115,0106,-62.1105,  98.0242, 4082,   4000.6,2,  -0.1070,2,  -0.10703,2,  34.6570,2,  34.6567,2,-999.0000,9,   235.53,2,   235.60,2,   99.731,   0.0108,2,   -0.010,2,  -999.00,9,    0.000,2,   122.07,2,     0.17,    32.36,2,     0.05,     0.01,2,     0.01,     2.23,2,     0.01,    1.764,6,    0.890,6,    0.130,6,    0.632,6,   2257.9,2,   2351.6,2,   7.5935,       25,2, -999.000,9, -999.000,   -999.0,9,   -999.0, -999.000,9, -999.000, -999.000,9, -999.000
  49NZ20130106,  S04I,    96,  1,      1, X12J01,2,20130115,0106,-62.1105,  98.0242, 4082,   4146.8,2,  -0.1692,2,  -0.16932,2,  34.6503,2,  34.6505,2,-999.0000,9,   238.20,2,   238.22,2,   99.517,   0.0194,2,   -0.000,2,  -999.00,9,    0.000,2,   123.30,2,     0.17,    32.32,2,     0.05,     0.01,2,     0.01,     2.23,2,     0.01,    2.060,2,    1.096,2,    0.163,2,    0.708,2,   2257.7,2,   2351.3,2,   7.5920,       25,2, -999.000,9, -999.000,   -999.0,9,   -999.0, -999.000,9, -999.000, -999.000,9, -999.000