BOTTLE,20220819CCHSIOAMB
EXPOCODE,SECT_ID,STNNBR,CASTNO,SAMPNO,BTLNBR,BTLNBR_FLAG_W,DATE,TIME,LATITUDE,LONGITUDE,DEPTH,CTDPRS,CTDPRS_FLAG_W,CTDTMP,CTDTMP_FLAG_W,SBE35,SBE35_FLAG_W,CTDSAL,CTDSAL_FLAG_W,SALNTY,SALNTY_FLAG_W,DNSSAL,DNSSAL_FLAG_W,CTDOXY,CTDOXY_FLAG_W,OXYGEN,OXYGEN_FLAG_W,CTDXMISS,CTDXMISSCP,CTDXMISS_FLAG_W,CTDFLUOR,CTDFLUOR_FLAG_W,CHLORA,CHLORA_FLAG_W,PAR,PAR_FLAG_W,SILCAT,SILCAT_FLAG_W,SILUNC,NITRAT,NITRAT_FLAG_W,NRAUNC,NITRIT,NITRIT_FLAG_W,NRIUNC,PHSPHT,PHSPHT_FLAG_W,PHPUNC,CFC-11,CFC-11_FLAG_W,CFC-12,CFC-12_FLAG_W,CFC113,CFC113_FLAG_W,SF6,SF6_FLAG_W,TCARBN,TCARBN_FLAG_W,ALKALI,ALKALI_FLAG_W,PH_TOT,PH_TMP,PH_TOT_FLAG_W,DELC13,DELC13_FLAG_W,C13ERR,DELC14,DELC14_FLAG_W,C14ERR,CS-134,CS-134_FLAG_W,CS134ER,CS-137,CS-137_FLAG_W,CS137ER
,,,,,,,,UTC,DEG,DEG,METERS,DBAR,,ITS-90,,ITS-90,,PSS-78,,PSS-78,,G/KG,,UMOL/KG,,UMOL/KG,,%TRANS,/METER,,MG/M^3,,MG/CUM,,UE/SQM/S,,UMOL/KG,,UMOL/KG,UMOL/KG,,UMOL/KG,UMOL/KG,,UMOL/KG,UMOL/KG,,UMOL/KG,PMOL/KG,,PMOL/KG,,PMOL/KG,,FMOL/KG,,UMOL/KG,,UMOL/KG,,,DEG C,,/MILLE,,/MILLE,/MILLE,,/MILLE,MBQ/KG,,MBQ/KG,MBQ/KG,,MBQ/KG
  49NZ20130106,  S04I,   152,  1,     36, X12J36,2,20130130,0458,-65.1323,  37.3457, 4836,      6.5,2,   1.2775,2,   1.27377,2,  33.8310,2,  33.8319,2,-999.0000,9,   335.09,2,   334.85,2,   98.251,   0.0706,2,    0.030,2,  -999.00,9,  352.764,2,    47.52,2,     0.10,    25.48,2,     0.04,     0.27,2,     0.01,     1.80,2,     0.01,    5.576,2,    3.047,2,    0.585,2, -999.000,9,   -999.0,9,   -999.0,9,-999.0000,     -999,9, -999.000,9, -999.000,   -999.0,9,   -999.0, -999.000,9, -999.000, -999.000,9, -999.000
  49NZ20130106,  S04I,   152,  1,     35, X12J35,2,20130130,0458,-65.1323,  37.3457, 4836,     25.2,2,   1.2572,2,   1.25672,2,  33.8327,2,  33.8337,2,-999.0000,9,   334.91,2,   334.99,2,   98.238,   0.0711,2,    0.090,2,  -999.00,9,  107.944,2,    47.51,2,     0.10,    25.50,2,     0.04,     0.27,2,     0.01,     1.80,2,     0.01,    5.583,2,    3.052,2,    0.572,2, -999.000,9,   -999.0,9,   -999.0,9,-999.0000,     -999,9, -999.000,9, -999.000,   -999.0,9,   -999.0, -999.000,9, -999.000, -999.000,9, -999.000
  49NZ20130106,  S04I,   152,  1,     34, X12J34,2,20130130,0458,-65.1323,  37.3457, 4836,     51.2,2,  -1.5296,2,  -1.52798,2,  34.1709,2,  34.1695,2,-999.0000,9,   316.98,2,   317.21,2,   97.821,   0.0881,2,    0.200,2,  -999.00,9,   38.954,2,    51.03,2,     0.10,    27.67,2,     0.04,     0.20,2,     0.01,     1.97,2,     0.01,    5.123,6,    2.769,6,    0.514,6, -999.000,9,   -999.0,9,   -999.0,9,-999.0000,     -999,9, -999.000,9, -999.000,   -999.0,9,   -999.0, -999.000,9, -999.000, -999.000,9, -999.000
  49NZ20130106,  S04I,   152,  1,     33, X12J33,2,20130130,0458,-65.1323,  37.3457, 4836,     74.9,2,  -0.1088,2,  -0.11447,2,  34.4194,2,  34.4146,2,-999.0000,9,   259.42,2,   262.64,2,   98.131,   0.0755,2,    0.330,2,  -999.00,9,   13.583,2,    68.39,2,     0.12,    31.02,2,     0.04,     0.06,2,     0.01,     2.16,2,     0.01,    3.460,2,    1.853,2,    0.342,2, -999.000,9,   -999.0,9,   -999.0,9,-999.0000,     -999,9, -999.000,9, -999.000,   -999.0,9,   -999.0, -999.000,9, -999.000, -999.000,9, -999.000
  49NZ20130106,  S04I,   152,  1,     32, X12J32,2,20130130,0458,-65.1323,  37.3457, 4836,     99.7,2,   0.2471,2,   0.24787,2,  34.4967,2,  34.4977,2,-999.0000,9,   227.23,2,   227.52,2,   98.991,   0.0406,2,    0.260,2,  -999.00,9,    4.137,2,    76.38,2,     0.13,    32.91,2,     0.05,     0.09,2,     0.01,     2.29,2,     0.01,    2.560,2,    1.370,2,    0.237,2, -999.000,9,   -999.0,9,   -999.0,9,-999.0000,     -999,9, -999.000,9, -999.000,   -999.0,9,   -999.0, -999.000,9, -999.000, -999.000,9, -999.000
  49NZ20130106,  S04I,   152,  1,     31, X12J31,2,20130130,0458,-65.1323,  37.3457, 4836,    124.5,2,   1.0091,2,   1.00890,2,  34.5804,2,  34.5819,2,-999.0000,9,   195.91,2,   195.75,2,   99.534,   0.0187,2,    0.120,2,  -999.00,9,    1.444,2,    83.52,2,     0.13,    33.87,2,     0.05,     0.06,2,     0.01,     2.34,2,     0.01,    1.515,2,    0.799,2,    0.133,2, -999.000,9,   -999.0,9,   -999.0,9,-999.0000,     -999,9, -999.000,9, -999.000,   -999.0,9,   -999.0, -999.000,9, -999.000, -999.000,9, -999.000
  49NZ20130106,  S04I,   152,  1,     30, X12J30,2,20130130,0458,-65.1323,  37.3457, 4836,    149.8,2,   1.2602,2,   1.25974,2,  34.6156,2,  34.6139,2,-999.0000,9,   188.85,2,   189.01,2,   99.708,   0.0117,2,    0.060,2,  -999.00,9,    0.538,2,    85.89,2,     0.14,    33.92,2,     0.05,     0.04,2,     0.01,     2.34,2,     0.01,    1.205,2,    0.633,2,    0.110,2, -999.000,9,   -999.0,9,   -999.0,9,-999.0000,     -999,9, -999.000,9, -999.000,   -999.0,9,   -999.0, -999.000,9, -999.000, -999.000,9, -999.000
  49NZ20130106,  S04I,   152,  1,     29, X12J29,2,20130130,0458,-65.1323,  37.3457, 4836,    201.7,2,   1.4830,2,   1.48338,2,  34.6603,2,  34.6601,2,-999.0000,9,   184.39,2,   184.37,2,   99.842,   0.0063,2,    0.010,2,  -999.00,9,    0.056,2,    88.45,2,     0.14,    33.48,2,     0.05,     0.03,2,     0.01,     2.31,2,     0.01,    0.819,2,    0.420,2,    0.067,2, -999.000,9,   -999.0,9,   -999.0,9,-999.0000,     -999,9, -999.000,9, -999.000,   -999.0,9,   -999.0, -999.000,9, -999.000, -999.000,9, -999.000
  49NZ20130106,  S04I,   152,  1,     28, X12J28,2,20130130,0458,-65.1323,  37.3457, 4836,    249.9,2,   1.4999,2,   1.49970,2,  34.6809,2,  34.6806,2,-999.0000,9,   185.95,2,   185.83,2,   99.857,   0.0057,2,    0.010,2,  -999.00,9,    0.000,2,    89.38,2,     0.14,    33.00,2,     0.05,     0.02,2,     0.01,     2.28,2,     0.01,    0.687,2,    0.352,2,    0.062,2, -999.000,9,   -999.0,9,   -999.0,9,-999.0000,     -999,9, -999.000,9, -999.000,   -999.0,9,   -999.0, -999.000,9, -999.000, -999.000,9, -999.000
  49NZ20130106,  S04I,   152,  1,     27, X12J27,2,20130130,0458,-65.1323,  37.3457, 4836,    329.6,2,   1.4578,2,   1.45773,2,  34.6996,2,  34.6996,2,-999.0000,9,   189.81,2,   189.85,2,   99.874,   0.0050,2,    0.010,2,  -999.00,9,    0.000,2,    90.82,2,     0.14,    32.39,2,     0.05,     0.01,2,     0.01,     2.24,2,     0.01,    0.572,2,    0.290,2,    0.051,2, -999.000,9,   -999.0,9,   -999.0,9,-999.0000,     -999,9, -999.000,9, -999.000,   -999.0,9,   -999.0, -999.000,9, -999.000, -999.000,9, -999.000
  49NZ20130106,  S04I,   152,  1,     26, X12J26,2,20130130,0458,-65.1323,  37.3457, 4836,    429.0,2,   1.3626,2,   1.36190,2,  34.7096,2,  34.7095,2,-999.0000,9,   193.44,2,   193.44,2,   99.942,   0.0023,2,    0.000,2,  -999.00,9,    0.000,2,    93.34,2,     0.14,    32.08,2,     0.04,     0.01,2,     0.01,     2.22,2,     0.01,    0.502,2,    0.251,2,    0.042,2, -999.000,9,   -999.0,9,   -999.0,9,-999.0000,     -999,9, -999.000,9, -999.000,   -999.0,9,   -999.0, -999.000,9, -999.000, -999.000,9, -999.000
  49NZ20130106,  S04I,   152,  1,     25, X12J25,2,20130130,0458,-65.1323,  37.3457, 4836,    530.0,2,   1.2557,2,   1.25549,2,  34.7129,2,  34.7128,2,-999.0000,9,   195.99,2,   196.03,2,   99.955,   0.0018,2,    0.000,2,  -999.00,9,    0.000,2,    96.26,2,     0.15,    31.95,2,     0.04,     0.01,2,     0.01,     2.20,2,     0.01,    0.466,2,    0.229,2,    0.044,2, -999.000,9,   -999.0,9,   -999.0,9,-999.0000,     -999,9, -999.000,9, -999.000,   -999.0,9,   -999.0, -999.000,9, -999.000, -999.000,9, -999.000
  49NZ20130106,  S04I,   152,  1,     24, X12J24,2,20130130,0458,-65.1323,  37.3457, 4836,    631.4,2,   1.1497,2,   1.14938,2,  34.7134,2,  34.7135,2,-999.0000,9,   198.07,2,   198.16,2,   99.944,   0.0022,2,    0.000,2,  -999.00,9,    0.000,2,    99.06,2,     0.15,    31.95,2,     0.04,     0.01,2,     0.01,     2.21,2,     0.01,    0.434,6,    0.211,6,    0.042,6, -999.000,9,   -999.0,9,   -999.0,9,-999.0000,     -999,9, -999.000,9, -999.000,   -999.0,9,   -999.0, -999.000,9, -999.000, -999.000,9, -999.000
  49NZ20130106,  S04I,   152,  1,     23, X12J23,2,20130130,0458,-65.1323,  37.3457, 4836,    729.5,2,   1.0494,2,   1.04915,2,  34.7117,2,  34.7120,2,-999.0000,9,   199.81,2,   199.72,2,   99.910,   0.0036,2,    0.000,2,  -999.00,9,    0.000,2,   101.76,2,     0.15,    32.02,2,     0.04,     0.01,2,     0.01,     2.22,2,     0.01,    0.411,2,    0.201,2,    0.033,2, -999.000,9,   -999.0,9,   -999.0,9,-999.0000,     -999,9, -999.000,9, -999.000,   -999.0,9,   -999.0, -999.000,9, -999.000, -999.000,9, -999.000
  49NZ20130106,  S04I,   152,  1,     22, X12J22,2,20130130,0458,-65.1323,  37.3457, 4836,    829.6,2,   0.9422,2,   0.94205,2,  34.7073,2,  34.7075,2,-999.0000,9,   201.37,2,   201.27,2,   99.946,   0.0022,2,    0.000,2,  -999.00,9,    0.000,2,   104.67,2,     0.15,    32.20,2,     0.05,     0.01,2,     0.01,     2.23,2,     0.01,    0.426,2,    0.204,2,    0.032,2, -999.000,9,   -999.0,9,   -999.0,9,-999.0000,     -999,9, -999.000,9, -999.000,   -999.0,9,   -999.0, -999.000,9, -999.000, -999.000,9, -999.000
  49NZ20130106,  S04I,   152,  1,     21, X12J21,2,20130130,0458,-65.1323,  37.3457, 4836,    930.8,2,   0.8608,2,   0.86079,2,  34.7053,2,  34.7054,2,-999.0000,9,   202.71,2,   202.74,2,   99.953,   0.0019,2,    0.000,2,  -999.00,9,    0.000,2,   107.05,2,     0.15,    32.22,2,     0.05,     0.01,2,     0.01,     2.24,2,     0.01,    0.381,2,    0.244,2,    0.029,2, -999.000,9,   -999.0,9,   -999.0,9,-999.0000,     -999,9, -999.000,9, -999.000,   -999.0,9,   -999.0, -999.000,9, -999.000, -999.000,9, -999.000
  49NZ20130106,  S04I,   152,  1,     20, X12J20,2,20130130,0458,-65.1323,  37.3457, 4836,   1080.1,2,   0.7410,2,   0.74109,2,  34.7007,2,  34.7008,2,-999.0000,9,   203.86,2,   203.88,2,   99.966,   0.0014,2,    0.000,2,  -999.00,9,    0.000,2,   110.65,2,     0.16,    32.47,2,     0.05,     0.01,2,     0.01,     2.25,2,     0.01,    0.391,2,    0.185,2,    0.027,2, -999.000,9,   -999.0,9,   -999.0,9,-999.0000,     -999,9, -999.000,9, -999.000,   -999.0,9,   -999.0, -999.000,9, -999.000, -999.000,9, -999.000
  49NZ20130106,  S04I,   152,  1,     19, X12J19,2,20130130,0458,-65.1323,  37.3457, 4836,   1329.7,2,   0.5868,2,   0.58680,2,  34.6938,2,  34.6943,2,-999.0000,9,   205.02,2,   205.15,2,   99.972,   0.0011,2,    0.000,2,  -999.00,9,    0.000,2,   115.38,2,     0.16,    32.83,2,     0.05,     0.01,2,     0.01,     2.27,2,     0.01,    0.378,2,    0.176,2,    0.016,2, -999.000,9,   -999.0,9,   -999.0,9,-999.0000,     -999,9, -999.000,9, -999.000,   -999.0,9,   -999.0, -999.000,9, -999.000, -999.000,9, -999.000
  49NZ20130106,  S04I,   152,  1,     18, X12J18,2,20130130,0458,-65.1323,  37.3457, 4836,   1581.5,2,   0.4694,2,   0.46931,2,  34.6886,2,  34.6889,2,-999.0000,9,   207.25,2,   207.38,2,   99.963,   0.0015,2,    0.000,2,  -999.00,9,    0.000,2,   119.06,2,     0.17,    33.00,2,     0.05,     0.01,2,     0.01,     2.29,2,     0.01,    0.350,2,    0.163,2,    0.019,2, -999.000,9,   -999.0,9,   -999.0,9,-999.0000,     -999,9, -999.000,9, -999.000,   -999.0,9,   -999.0, -999.000,9, -999.000, -999.000,9, -999.000
  49NZ20130106,  S04I,   152,  1,     17, X12J17,2,20130130,0458,-65.1323,  37.3457, 4836,   1831.5,2,   0.3586,2,   0.35857,2,  34.6833,2,  34.6836,2,-999.0000,9,   210.16,2,   210.37,2,   99.991,   0.0004,2,    0.000,2,  -999.00,9,    0.000,2,   121.91,2,     0.17,    33.06,2,     0.05,     0.01,2,     0.01,     2.29,2,     0.01,    0.348,2,    0.158,2,    0.021,2, -999.000,9,   -999.0,9,   -999.0,9,-999.0000,     -999,9, -999.000,9, -999.000,   -999.0,9,   -999.0, -999.000,9, -999.000, -999.000,9, -999.000
  49NZ20130106,  S04I,   152,  1,     16, X12J16,2,20130130,0458,-65.1323,  37.3457, 4836,   2081.6,2,   0.2646,2,   0.26456,2,  34.6787,2,  34.6788,2,-999.0000,9,   213.18,2,   213.47,2,   99.998,   0.0001,2,    0.000,2,  -999.00,9,    0.000,2,   123.33,2,     0.17,    33.10,2,     0.05,     0.01,2,     0.01,     2.30,2,     0.01,    0.356,2,    0.164,2,    0.016,2, -999.000,9,   -999.0,9,   -999.0,9,-999.0000,     -999,9, -999.000,9, -999.000,   -999.0,9,   -999.0, -999.000,9, -999.000, -999.000,9, -999.000
  49NZ20130106,  S04I,   152,  1,     15, X12J15,2,20130130,0458,-65.1323,  37.3457, 4836,   2332.6,2,   0.1731,2,   0.17308,2,  34.6743,2,  34.6745,2,-999.0000,9,   216.78,2,   216.93,2,  100.002,  -0.0001,2,    0.000,2,  -999.00,9,    0.000,2,   124.17,2,     0.17,    33.07,2,     0.05,     0.01,2,     0.01,     2.30,2,     0.01,    0.365,2,    0.170,2,    0.022,2, -999.000,9,   -999.0,9,   -999.0,9,-999.0000,     -999,9, -999.000,9, -999.000,   -999.0,9,   -999.0, -999.000,9, -999.000, -999.000,9, -999.000
  49NZ20130106,  S04I,   152,  1,     14, X12J14,2,20130130,0458,-65.1323,  37.3457, 4836,   2580.4,2,   0.0876,2,   0.08763,2,  34.6707,2,  34.6707,2,-999.0000,9,   220.65,2,   220.80,2,   99.993,   0.0003,2,    0.000,2,  -999.00,9,    0.000,2,   124.76,2,     0.17,    33.02,2,     0.05,     0.01,2,     0.01,     2.28,2,     0.01,    0.371,2,    0.172,2,    0.020,2, -999.000,9,   -999.0,9,   -999.0,9,-999.0000,     -999,9, -999.000,9, -999.000,   -999.0,9,   -999.0, -999.000,9, -999.000, -999.000,9, -999.000
  49NZ20130106,  S04I,   152,  1,     13, X12J13,2,20130130,0458,-65.1323,  37.3457, 4836,   2829.9,2,   0.0074,2,   0.00756,2,  34.6668,2,  34.6668,2,-999.0000,9,   224.71,2,   224.73,2,   99.983,   0.0007,2,    0.000,2,  -999.00,9,    0.000,2,   125.14,2,     0.17,    32.99,2,     0.05,     0.01,2,     0.01,     2.29,2,     0.01,    0.406,2,    0.192,2,    0.026,2, -999.000,9,   -999.0,9,   -999.0,9,-999.0000,     -999,9, -999.000,9, -999.000,   -999.0,9,   -999.0, -999.000,9, -999.000, -999.000,9, -999.000
  49NZ20130106,  S04I,   152,  1,     12, X12J12,2,20130130,0458,-65.1323,  37.3457, 4836,   3080.8,2,  -0.0620,2,  -0.06182,2,  34.6633,2,  34.6635,2,-999.0000,9,   229.02,2,   228.83,2,   99.989,   0.0004,2,    0.000,2,  -999.00,9,    0.000,2,   124.79,2,     0.17,    32.87,2,     0.05,     0.01,2,     0.01,     2.29,2,     0.01,    0.495,2,    0.238,2,    0.024,2, -999.000,9,   -999.0,9,   -999.0,9,-999.0000,     -999,9, -999.000,9, -999.000,   -999.0,9,   -999.0, -999.000,9, -999.000, -999.000,9, -999.000
  49NZ20130106,  S04I,   152,  1,     11, X12J11,2,20130130,0458,-65.1323,  37.3457, 4836,   3332.3,2,  -0.1084,2,  -0.10842,2,  34.6613,2,  34.6613,2,-999.0000,9,   231.49,2,   231.17,2,   99.976,   0.0010,2,    0.000,2,  -999.00,9,    0.000,2,   125.46,2,     0.17,    32.90,2,     0.05,     0.01,2,     0.01,     2.29,2,     0.01,    0.483,2,    0.228,2,    0.025,2, -999.000,9,   -999.0,9,   -999.0,9,-999.0000,     -999,9, -999.000,9, -999.000,   -999.0,9,   -999.0, -999.000,9, -999.000, -999.000,9, -999.000
  49NZ20130106,  S04I,   152,  1,     10, X12J10,2,20130130,0458,-65.1323,  37.3457, 4836,   3579.7,2,  -0.1516,2,  -0.15159,2,  34.6585,2,  34.6585,2,-999.0000,9,   235.02,2,   234.69,2,   99.963,   0.0015,2,    0.000,2,  -999.00,9,    0.000,2,   124.58,2,     0.17,    32.74,2,     0.05,     0.01,2,     0.01,     2.28,2,     0.01,    0.592,2,    0.291,2,    0.038,2, -999.000,9,   -999.0,9,   -999.0,9,-999.0000,     -999,9, -999.000,9, -999.000,   -999.0,9,   -999.0, -999.000,9, -999.000, -999.000,9, -999.000
  49NZ20130106,  S04I,   152,  1,      9, X12J09,2,20130130,0458,-65.1323,  37.3457, 4836,   3831.7,2,  -0.1799,2,  -0.17983,2,  34.6573,2,  34.6574,2,-999.0000,9,   236.75,2,   236.54,2,   99.970,   0.0012,2,    0.000,2,  -999.00,9,    0.000,2,   124.96,2,     0.17,    32.72,2,     0.05,     0.01,2,     0.01,     2.28,2,     0.01,    0.540,2,    0.261,2,    0.036,2, -999.000,9,   -999.0,9,   -999.0,9,-999.0000,     -999,9, -999.000,9, -999.000,   -999.0,9,   -999.0, -999.000,9, -999.000, -999.000,9, -999.000
  49NZ20130106,  S04I,   152,  1,      8, X12J08,2,20130130,0458,-65.1323,  37.3457, 4836,   4079.8,2,  -0.2213,2,  -0.22141,2,  34.6529,2,  34.6529,2,-999.0000,9,   242.05,2,   241.75,2,   99.951,   0.0020,2,    0.000,2,  -999.00,9,    0.000,2,   122.46,2,     0.17,    32.50,2,     0.05,     0.01,2,     0.01,     2.26,2,     0.01,    0.955,6,    0.489,6,    0.075,6, -999.000,9,   -999.0,9,   -999.0,9,-999.0000,     -999,9, -999.000,9, -999.000,   -999.0,9,   -999.0, -999.000,9, -999.000, -999.000,9, -999.000
  49NZ20130106,  S04I,   152,  1,      7, X12J07,2,20130130,0458,-65.1323,  37.3457, 4836,   4330.9,2,  -0.2436,2,  -0.24359,2,  34.6513,2,  34.6517,2,-999.0000,9,   243.39,2,   243.31,2,   99.949,   0.0020,2,    0.000,2,  -999.00,9,    0.000,2,   123.99,2,     0.17,    32.52,2,     0.05,     0.01,2,     0.01,     2.26,2,     0.01,    0.925,2,    0.474,2,    0.067,2, -999.000,9,   -999.0,9,   -999.0,9,-999.0000,     -999,9, -999.000,9, -999.000,   -999.0,9,   -999.0, -999.000,9, -999.000, -999.000,9, -999.000
  49NZ20130106,  S04I,   152,  1,      6, X12J06,2,20130130,0458,-65.1323,  37.3457, 4836,   4580.4,2,  -0.2593,2,  -0.25927,2,  34.6499,2,  34.6501,2,-999.0000,9,   244.84,2,   244.88,2,   99.919,   0.0032,2,    0.000,2,  -999.00,9,    0.000,2,   125.80,2,     0.17,    32.51,2,     0.05,     0.01,2,     0.01,     2.27,2,     0.01,    0.958,2,    0.494,2,    0.073,2, -999.000,9,   -999.0,9,   -999.0,9,-999.0000,     -999,9, -999.000,9, -999.000,   -999.0,9,   -999.0, -999.000,9, -999.000, -999.000,9, -999.000
  49NZ20130106,  S04I,   152,  1,      5, X12J05,2,20130130,0458,-65.1323,  37.3457, 4836,   4828.9,2,  -0.2716,2,  -0.27156,2,  34.6497,2,  34.6500,2,-999.0000,9,   242.44,2,   242.30,2,   99.693,   0.0123,2,    0.000,2,  -999.00,9,    0.000,2,   138.28,2,     0.18,    32.84,2,     0.05,     0.01,2,     0.01,     2.29,2,     0.01,    0.744,2,    0.367,2,    0.042,2, -999.000,9,   -999.0,9,   -999.0,9,-999.0000,     -999,9, -999.000,9, -999.000,   -999.0,9,   -999.0, -999.000,9, -999.000, -999.000,9, -999.000
  49NZ20130106,  S04I,   152,  1,      1, X12J01,2,20130130,0458,-65.1323,  37.3457, 4836,   4932.1,2,  -0.2777,2,  -0.27795,2,  34.6502,2,  34.6507,2,-999.0000,9,   241.63,2,   241.76,2,   99.421,   0.0232,2,    0.000,2,  -999.00,9,    0.000,2,   140.04,2,     0.18,    32.88,2,     0.05,     0.01,2,     0.01,     2.30,2,     0.01,    0.562,2,    0.265,2,    0.033,2, -999.000,9,   -999.0,9,   -999.0,9,-999.0000,     -999,9, -999.000,9, -999.000,   -999.0,9,   -999.0, -999.000,9, -999.000, -999.000,9, -999.000