BOTTLE,20220819CCHSIOAMB
EXPOCODE,SECT_ID,STNNBR,CASTNO,SAMPNO,BTLNBR,BTLNBR_FLAG_W,DATE,TIME,LATITUDE,LONGITUDE,DEPTH,CTDPRS,CTDPRS_FLAG_W,CTDTMP,CTDTMP_FLAG_W,SBE35,SBE35_FLAG_W,CTDSAL,CTDSAL_FLAG_W,SALNTY,SALNTY_FLAG_W,DNSSAL,DNSSAL_FLAG_W,CTDOXY,CTDOXY_FLAG_W,OXYGEN,OXYGEN_FLAG_W,CTDXMISS,CTDXMISSCP,CTDXMISS_FLAG_W,CTDFLUOR,CTDFLUOR_FLAG_W,CHLORA,CHLORA_FLAG_W,PAR,PAR_FLAG_W,SILCAT,SILCAT_FLAG_W,SILUNC,NITRAT,NITRAT_FLAG_W,NRAUNC,NITRIT,NITRIT_FLAG_W,NRIUNC,PHSPHT,PHSPHT_FLAG_W,PHPUNC,CFC-11,CFC-11_FLAG_W,CFC-12,CFC-12_FLAG_W,CFC113,CFC113_FLAG_W,SF6,SF6_FLAG_W,TCARBN,TCARBN_FLAG_W,ALKALI,ALKALI_FLAG_W,PH_TOT,PH_TMP,PH_TOT_FLAG_W,DELC13,DELC13_FLAG_W,C13ERR,DELC14,DELC14_FLAG_W,C14ERR,CS-134,CS-134_FLAG_W,CS134ER,CS-137,CS-137_FLAG_W,CS137ER
,,,,,,,,UTC,DEG,DEG,METERS,DBAR,,ITS-90,,ITS-90,,PSS-78,,PSS-78,,G/KG,,UMOL/KG,,UMOL/KG,,%TRANS,/METER,,MG/M^3,,MG/CUM,,UE/SQM/S,,UMOL/KG,,UMOL/KG,UMOL/KG,,UMOL/KG,UMOL/KG,,UMOL/KG,UMOL/KG,,UMOL/KG,PMOL/KG,,PMOL/KG,,PMOL/KG,,FMOL/KG,,UMOL/KG,,UMOL/KG,,,DEG C,,/MILLE,,/MILLE,/MILLE,,/MILLE,MBQ/KG,,MBQ/KG,MBQ/KG,,MBQ/KG
  49NZ20130106,  S04I,   126,  1,     36, X12J36,2,20130122,1922,-63.0900,  61.8130, 4465,      5.9,2,   0.5774,2,   0.57647,2,  33.7116,2,  33.7115,2,-999.0000,9,   342.33,2,   342.13,2,   98.052,   0.0787,2,    0.260,2,  -999.00,9,    0.966,2,    34.58,2,     0.09,    25.58,2,     0.04,     0.25,2,     0.01,     1.76,2,     0.01,    5.760,2,    3.180,2,    0.585,2, -999.000,9,   -999.0,9,   -999.0,9,-999.0000,     -999,9, -999.000,9, -999.000,   -999.0,9,   -999.0, -999.000,9, -999.000, -999.000,9, -999.000
  49NZ20130106,  S04I,   126,  1,     35, X12J35,2,20130122,1922,-63.0900,  61.8130, 4465,     25.2,2,   0.5539,2,   0.55398,2,  33.7113,2,  33.7116,2,-999.0000,9,   342.47,2,   342.25,2,   98.085,   0.0773,2,    0.290,2,  -999.00,9,    0.000,2,    34.62,2,     0.09,    25.63,2,     0.04,     0.25,2,     0.01,     1.77,2,     0.01,    5.757,2,    3.174,2,    0.526,2, -999.000,9,   -999.0,9,   -999.0,9,-999.0000,     -999,9, -999.000,9, -999.000,   -999.0,9,   -999.0, -999.000,9, -999.000, -999.000,9, -999.000
  49NZ20130106,  S04I,   126,  1,     34, X12J34,2,20130122,1922,-63.0900,  61.8130, 4465,     50.5,2,  -0.2025,2,  -0.20103,2,  33.7869,2,  33.7879,2,-999.0000,9,   346.16,2,   346.29,2,   97.542,   0.0995,2,    0.390,2,  -999.00,9,    0.000,2,    36.51,2,     0.09,    25.74,2,     0.04,     0.20,2,     0.01,     1.79,2,     0.01,    5.776,6,    3.173,6,    0.590,6, -999.000,9,   -999.0,9,   -999.0,9,-999.0000,     -999,9, -999.000,9, -999.000,   -999.0,9,   -999.0, -999.000,9, -999.000, -999.000,9, -999.000
  49NZ20130106,  S04I,   126,  1,     33, X12J33,2,20130122,1922,-63.0900,  61.8130, 4465,     76.2,2,  -1.0114,2,  -1.00999,2,  34.1191,2,  34.1179,2,-999.0000,9,   289.08,2,   289.05,2,   98.501,   0.0604,2,    0.320,2,  -999.00,9,    0.000,2,    51.50,2,     0.10,    29.99,2,     0.04,     0.16,2,     0.01,     2.12,2,     0.01,    4.475,2,    2.436,2,    0.439,2, -999.000,9,   -999.0,9,   -999.0,9,-999.0000,     -999,9, -999.000,9, -999.000,   -999.0,9,   -999.0, -999.000,9, -999.000, -999.000,9, -999.000
  49NZ20130106,  S04I,   126,  1,     32, X12J32,2,20130122,1922,-63.0900,  61.8130, 4465,    101.0,2,   0.5340,2,   0.53452,2,  34.3537,2,  34.3505,2,-999.0000,9,   221.28,2,   222.00,2,   99.174,   0.0332,2,    0.210,2,  -999.00,9,    0.000,2,    67.49,2,     0.12,    33.79,2,     0.05,     0.13,2,     0.01,     2.38,2,     0.01,    2.765,2,    1.487,2,    0.242,2, -999.000,9,   -999.0,9,   -999.0,9,-999.0000,     -999,9, -999.000,9, -999.000,   -999.0,9,   -999.0, -999.000,9, -999.000, -999.000,9, -999.000
  49NZ20130106,  S04I,   126,  1,     31, X12J31,2,20130122,1922,-63.0900,  61.8130, 4465,    125.6,2,   1.4688,2,   1.46843,2,  34.4963,2,  34.4971,2,-999.0000,9,   185.45,2,   185.15,2,   99.512,   0.0196,2,    0.110,2,  -999.00,9,    0.000,2,    76.91,2,     0.13,    35.40,2,     0.05,     0.05,2,     0.01,     2.47,2,     0.01,    1.669,2,    0.882,2,    0.131,2, -999.000,9,   -999.0,9,   -999.0,9,-999.0000,     -999,9, -999.000,9, -999.000,   -999.0,9,   -999.0, -999.000,9, -999.000, -999.000,9, -999.000
  49NZ20130106,  S04I,   126,  1,     30, X12J30,2,20130122,1922,-63.0900,  61.8130, 4465,    150.8,2,   1.7416,2,   1.73946,2,  34.5528,2,  34.5502,2,-999.0000,9,   173.61,2,   173.90,2,   99.650,   0.0140,2,    0.060,2,  -999.00,9,    0.000,2,    79.83,2,     0.13,    35.52,2,     0.05,     0.04,2,     0.01,     2.48,2,     0.01,    1.232,2,    0.639,2,    0.103,2, -999.000,9,   -999.0,9,   -999.0,9,-999.0000,     -999,9, -999.000,9, -999.000,   -999.0,9,   -999.0, -999.000,9, -999.000, -999.000,9, -999.000
  49NZ20130106,  S04I,   126,  1,     29, X12J29,2,20130122,1922,-63.0900,  61.8130, 4465,    200.2,2,   1.8235,2,   1.82331,2,  34.6019,2,  34.6018,2,-999.0000,9,   171.32,2,   171.25,2,   99.730,   0.0108,2,    0.020,2,  -999.00,9,    0.000,2,    82.40,2,     0.13,    35.01,2,     0.05,     0.02,2,     0.01,     2.44,2,     0.01,    0.904,2,    0.468,2,    0.067,2, -999.000,9,   -999.0,9,   -999.0,9,-999.0000,     -999,9, -999.000,9, -999.000,   -999.0,9,   -999.0, -999.000,9, -999.000, -999.000,9, -999.000
  49NZ20130106,  S04I,   126,  1,     28, X12J28,2,20130122,1922,-63.0900,  61.8130, 4465,    250.0,2,   1.8465,2,   1.84663,2,  34.6317,2,  34.6313,2,-999.0000,9,   172.53,2,   172.42,2,   99.781,   0.0088,2,    0.010,2,  -999.00,9,    0.000,2,    83.12,2,     0.13,    34.39,2,     0.05,     0.02,2,     0.01,     2.38,2,     0.01,    0.757,2,    0.387,2,    0.060,2, -999.000,9,   -999.0,9,   -999.0,9,-999.0000,     -999,9, -999.000,9, -999.000,   -999.0,9,   -999.0, -999.000,9, -999.000, -999.000,9, -999.000
  49NZ20130106,  S04I,   126,  1,     27, X12J27,2,20130122,1922,-63.0900,  61.8130, 4465,    300.6,2,   1.8547,2,   1.85467,2,  34.6554,2,  34.6554,2,-999.0000,9,   174.76,2,   174.75,2,   99.790,   0.0084,2,    0.010,2,  -999.00,9,    0.000,2,    83.78,2,     0.13,    33.82,2,     0.05,     0.01,2,     0.01,     2.34,2,     0.01,    0.645,2,    0.326,2,    0.062,2, -999.000,9,   -999.0,9,   -999.0,9,-999.0000,     -999,9, -999.000,9, -999.000,   -999.0,9,   -999.0, -999.000,9, -999.000, -999.000,9, -999.000
  49NZ20130106,  S04I,   126,  1,     26, X12J26,2,20130122,1922,-63.0900,  61.8130, 4465,    400.1,2,   1.8042,2,   1.80416,2,  34.6837,2,  34.6837,2,-999.0000,9,   180.00,2,   179.89,2,   99.866,   0.0054,2,    0.010,2,  -999.00,9,    0.000,2,    84.88,2,     0.13,    32.93,2,     0.05,     0.01,2,     0.01,     2.28,2,     0.01,    0.531,2,    0.274,2,    0.048,2, -999.000,9,   -999.0,9,   -999.0,9,-999.0000,     -999,9, -999.000,9, -999.000,   -999.0,9,   -999.0, -999.000,9, -999.000, -999.000,9, -999.000
  49NZ20130106,  S04I,   126,  1,     25, X12J25,2,20130122,1922,-63.0900,  61.8130, 4465,    501.0,2,   1.7603,2,   1.76021,2,  34.7063,2,  34.7062,2,-999.0000,9,   185.06,2,   184.88,2,   99.909,   0.0036,2,    0.010,2,  -999.00,9,    0.000,2,    86.07,2,     0.14,    32.22,2,     0.05,     0.01,2,     0.01,     2.21,2,     0.01,    0.448,2,    0.226,2,    0.038,2, -999.000,9,   -999.0,9,   -999.0,9,-999.0000,     -999,9, -999.000,9, -999.000,   -999.0,9,   -999.0, -999.000,9, -999.000, -999.000,9, -999.000
  49NZ20130106,  S04I,   126,  1,     24, X12J24,2,20130122,1922,-63.0900,  61.8130, 4465,    602.0,2,   1.6997,2,   1.69960,2,  34.7211,2,  34.7211,2,-999.0000,9,   189.74,2,   189.70,2,   99.926,   0.0030,2,    0.000,2,  -999.00,9,    0.000,2,    86.99,2,     0.14,    31.67,2,     0.04,     0.00,2,     0.01,     2.18,2,     0.01,    0.387,6,    0.191,6,    0.029,6, -999.000,9,   -999.0,9,   -999.0,9,-999.0000,     -999,9, -999.000,9, -999.000,   -999.0,9,   -999.0, -999.000,9, -999.000, -999.000,9, -999.000
  49NZ20130106,  S04I,   126,  1,     23, X12J23,2,20130122,1922,-63.0900,  61.8130, 4465,    701.0,2,   1.6462,2,   1.64618,2,  34.7296,2,  34.7298,2,-999.0000,9,   193.19,2,   193.05,2,   99.917,   0.0033,2,    0.000,2,  -999.00,9,    0.000,2,    87.74,2,     0.14,    31.33,2,     0.04,     0.00,2,     0.01,     2.17,2,     0.01,    0.341,2,    0.169,2,    0.028,2, -999.000,9,   -999.0,9,   -999.0,9,-999.0000,     -999,9, -999.000,9, -999.000,   -999.0,9,   -999.0, -999.000,9, -999.000, -999.000,9, -999.000
  49NZ20130106,  S04I,   126,  1,     22, X12J22,2,20130122,1922,-63.0900,  61.8130, 4465,    802.6,2,   1.5483,2,   1.54812,2,  34.7323,2,  34.7326,2,-999.0000,9,   196.08,2,   195.95,2,   99.934,   0.0026,2,    0.000,2,  -999.00,9,    0.000,2,    89.84,2,     0.14,    31.15,2,     0.04,     0.01,2,     0.01,     2.16,2,     0.01,    0.322,2,    0.157,2,    0.025,2, -999.000,9,   -999.0,9,   -999.0,9,-999.0000,     -999,9, -999.000,9, -999.000,   -999.0,9,   -999.0, -999.000,9, -999.000, -999.000,9, -999.000
  49NZ20130106,  S04I,   126,  1,     21, X12J21,2,20130122,1922,-63.0900,  61.8130, 4465,    899.9,2,   1.4427,2,   1.44253,2,  34.7314,2,  34.7318,2,-999.0000,9,   198.23,2,   197.94,2,   99.930,   0.0028,2,    0.000,2,  -999.00,9,    0.000,2,    92.41,2,     0.14,    31.14,2,     0.04,     0.00,2,     0.01,     2.15,2,     0.01,    0.318,2,    0.152,2,    0.026,2, -999.000,9,   -999.0,9,   -999.0,9,-999.0000,     -999,9, -999.000,9, -999.000,   -999.0,9,   -999.0, -999.000,9, -999.000, -999.000,9, -999.000
  49NZ20130106,  S04I,   126,  1,     20, X12J20,2,20130122,1922,-63.0900,  61.8130, 4465,   1000.5,2,   1.3350,2,   1.33483,2,  34.7300,2,  34.7331,3,-999.0000,9,   200.25,2,   200.04,2,   99.934,   0.0026,2,   -0.000,2,  -999.00,9,    0.000,2,    95.17,2,     0.14,    31.19,2,     0.04,     0.00,2,     0.01,     2.16,2,     0.01,    0.302,2,    0.145,2,    0.029,2, -999.000,9,   -999.0,9,   -999.0,9,-999.0000,     -999,9, -999.000,9, -999.000,   -999.0,9,   -999.0, -999.000,9, -999.000, -999.000,9, -999.000
  49NZ20130106,  S04I,   126,  1,     19, X12J19,2,20130122,1922,-63.0900,  61.8130, 4465,   1250.1,2,   1.0954,2,   1.09529,2,  34.7201,2,  34.7203,2,-999.0000,9,   202.94,2,   202.76,2,   99.959,   0.0016,2,    0.000,2,  -999.00,9,    0.000,2,   101.64,2,     0.15,    31.58,2,     0.04,     0.00,2,     0.01,     2.19,2,     0.01,    0.309,6,    0.149,6,    0.027,6, -999.000,9,   -999.0,9,   -999.0,9,-999.0000,     -999,9, -999.000,9, -999.000,   -999.0,9,   -999.0, -999.000,9, -999.000, -999.000,9, -999.000
  49NZ20130106,  S04I,   126,  1,     18, X12J18,2,20130122,1922,-63.0900,  61.8130, 4465,   1501.5,2,   0.9032,2,   0.90326,2,  34.7114,2,  34.7115,2,-999.0000,9,   204.95,2,   204.76,2,   99.964,   0.0014,2,   -0.000,2,  -999.00,9,    0.000,2,   106.93,2,     0.15,    31.93,2,     0.04,     0.00,2,     0.01,     2.21,2,     0.01,    0.311,2,    0.143,2,    0.020,2, -999.000,9,   -999.0,9,   -999.0,9,-999.0000,     -999,9, -999.000,9, -999.000,   -999.0,9,   -999.0, -999.000,9, -999.000, -999.000,9, -999.000
  49NZ20130106,  S04I,   126,  1,     17, X12J17,2,20130122,1922,-63.0900,  61.8130, 4465,   1750.7,2,   0.7258,2,   0.72587,2,  34.7017,2,  34.7016,2,-999.0000,9,   206.21,2,   206.11,2,   99.962,   0.0015,2,   -0.000,2,  -999.00,9,    0.000,2,   112.30,2,     0.16,    32.30,2,     0.05,     0.00,2,     0.01,     2.25,2,     0.01,    0.312,2,    0.145,2,    0.014,2, -999.000,9,   -999.0,9,   -999.0,9,-999.0000,     -999,9, -999.000,9, -999.000,   -999.0,9,   -999.0, -999.000,9, -999.000, -999.000,9, -999.000
  49NZ20130106,  S04I,   126,  1,     16, X12J16,2,20130122,1922,-63.0900,  61.8130, 4465,   2002.3,2,   0.5859,2,   0.58610,2,  34.6946,2,  34.6949,2,-999.0000,9,   208.10,2,   207.95,2,   99.962,   0.0015,2,   -0.000,2,  -999.00,9,    0.000,2,   116.50,2,     0.16,    32.56,2,     0.05,     0.00,2,     0.01,     2.27,2,     0.01,    0.296,2,    0.136,2,    0.016,2, -999.000,9,   -999.0,9,   -999.0,9,-999.0000,     -999,9, -999.000,9, -999.000,   -999.0,9,   -999.0, -999.000,9, -999.000, -999.000,9, -999.000
  49NZ20130106,  S04I,   126,  1,     15, X12J15,2,20130122,1922,-63.0900,  61.8130, 4465,   2250.9,2,   0.4585,2,   0.45861,2,  34.6873,2,  34.6879,2,-999.0000,9,   209.87,2,   209.70,2,   99.953,   0.0019,2,   -0.000,2,  -999.00,9,    0.000,2,   120.09,2,     0.17,    32.82,2,     0.05,     0.01,2,     0.01,     2.26,2,     0.01,    0.307,2,    0.141,2,    0.016,2, -999.000,9,   -999.0,9,   -999.0,9,-999.0000,     -999,9, -999.000,9, -999.000,   -999.0,9,   -999.0, -999.000,9, -999.000, -999.000,9, -999.000
  49NZ20130106,  S04I,   126,  1,     14, X12J14,2,20130122,1922,-63.0900,  61.8130, 4465,   2500.7,2,   0.3663,2,   0.36682,2,  34.6831,2,  34.6832,2,-999.0000,9,   212.80,2,   212.76,2,   99.974,   0.0010,2,   -0.000,2,  -999.00,9,    0.000,2,   122.18,2,     0.17,    32.87,2,     0.05,     0.00,2,     0.01,     2.27,2,     0.01,    0.285,2,    0.131,2,    0.016,2, -999.000,9,   -999.0,9,   -999.0,9,-999.0000,     -999,9, -999.000,9, -999.000,   -999.0,9,   -999.0, -999.000,9, -999.000, -999.000,9, -999.000
  49NZ20130106,  S04I,   126,  1,     13, X12J13,2,20130122,1922,-63.0900,  61.8130, 4465,   2750.3,2,   0.2590,2,   0.25892,2,  34.6778,2,  34.6778,2,-999.0000,9,   216.29,2,   216.22,2,   99.957,   0.0017,2,   -0.010,2,  -999.00,9,    0.000,2,   124.54,2,     0.17,    32.90,2,     0.05,     0.01,2,     0.01,     2.28,2,     0.01,    0.257,2,    0.133,2,    0.009,2,    0.000,2,   -999.0,9,   -999.0,9,-999.0000,     -999,9, -999.000,9, -999.000,   -999.0,9,   -999.0, -999.000,9, -999.000, -999.000,9, -999.000
  49NZ20130106,  S04I,   126,  1,     12, X12J12,2,20130122,1922,-63.0900,  61.8130, 4465,   3000.3,2,   0.1739,2,   0.17394,2,  34.6735,2,  34.6734,2,-999.0000,9,   219.56,2,   219.50,2,   99.970,   0.0012,2,   -0.000,2,  -999.00,9,    0.000,2,   125.92,2,     0.17,    32.93,2,     0.05,     0.00,2,     0.01,     2.28,2,     0.01,    0.263,2,    0.139,2,    0.009,2,    0.019,2,   -999.0,9,   -999.0,9,-999.0000,     -999,9, -999.000,9, -999.000,   -999.0,9,   -999.0, -999.000,9, -999.000, -999.000,9, -999.000
  49NZ20130106,  S04I,   126,  1,     11, X12J11,2,20130122,1922,-63.0900,  61.8130, 4465,   3249.5,2,   0.0963,2,   0.09631,2,  34.6699,2,  34.6698,2,-999.0000,9,   223.13,2,   222.98,2,   99.955,   0.0018,2,   -0.010,2,  -999.00,9,    0.000,2,   127.94,2,     0.17,    32.97,2,     0.05,     0.01,2,     0.01,     2.29,2,     0.01,    0.260,2,    0.138,2,    0.008,2,    0.000,2,   -999.0,9,   -999.0,9,-999.0000,     -999,9, -999.000,9, -999.000,   -999.0,9,   -999.0, -999.000,9, -999.000, -999.000,9, -999.000
  49NZ20130106,  S04I,   126,  1,     10, X12J10,2,20130122,1922,-63.0900,  61.8130, 4465,   3499.5,2,   0.0246,2,   0.02466,2,  34.6661,2,  34.6662,2,-999.0000,9,   226.58,2,   226.44,2,   99.949,   0.0020,2,   -0.010,2,  -999.00,9,    0.000,2,   127.19,2,     0.17,    32.90,2,     0.05,     0.01,2,     0.01,     2.28,2,     0.01,    0.305,2,    0.165,2,    0.011,2,    0.031,2,   -999.0,9,   -999.0,9,-999.0000,     -999,9, -999.000,9, -999.000,   -999.0,9,   -999.0, -999.000,9, -999.000, -999.000,9, -999.000
  49NZ20130106,  S04I,   126,  1,      9, X12J09,2,20130122,1922,-63.0900,  61.8130, 4465,   3750.5,2,  -0.0467,2,  -0.04685,2,  34.6623,2,  34.6625,2,-999.0000,9,   230.40,2,   230.33,2,   99.949,   0.0020,2,   -0.010,2,  -999.00,9,    0.000,2,   127.56,2,     0.17,    32.80,2,     0.05,     0.01,2,     0.01,     2.28,2,     0.01,    0.368,2,    0.198,2,    0.015,2,    0.037,2,   -999.0,9,   -999.0,9,-999.0000,     -999,9, -999.000,9, -999.000,   -999.0,9,   -999.0, -999.000,9, -999.000, -999.000,9, -999.000
  49NZ20130106,  S04I,   126,  1,      8, X12J08,2,20130122,1922,-63.0900,  61.8130, 4465,   3999.9,2,  -0.0999,2,  -0.09994,2,  34.6596,2,  34.6595,2,-999.0000,9,   233.79,2,   233.61,2,   99.926,   0.0030,2,   -0.010,2,  -999.00,9,    0.000,2,   128.18,2,     0.17,    32.77,2,     0.05,     0.00,2,     0.01,     2.28,2,     0.01,    0.441,6,    0.238,6,    0.022,6,    0.064,6,   -999.0,9,   -999.0,9,-999.0000,     -999,9, -999.000,9, -999.000,   -999.0,9,   -999.0, -999.000,9, -999.000, -999.000,9, -999.000
  49NZ20130106,  S04I,   126,  1,      7, X12J07,2,20130122,1922,-63.0900,  61.8130, 4465,   4250.8,2,  -0.1387,2,  -0.13853,2,  34.6577,2,  34.6570,2,-999.0000,9,   235.50,2,   235.68,2,   99.885,   0.0046,2,   -0.010,2,  -999.00,9,    0.000,2,   134.22,2,     0.18,    32.71,2,     0.05,     0.00,2,     0.01,     2.28,2,     0.01,    0.431,2,    0.234,2,    0.019,2,    0.092,2,   -999.0,9,   -999.0,9,-999.0000,     -999,9, -999.000,9, -999.000,   -999.0,9,   -999.0, -999.000,9, -999.000, -999.000,9, -999.000
  49NZ20130106,  S04I,   126,  1,      1, X12J01,2,20130122,1922,-63.0900,  61.8130, 4465,   4541.3,2,  -0.3184,2,  -0.31857,2,  34.6483,2,  34.6487,2,-999.0000,9,   254.38,2,   254.28,2,   99.425,   0.0231,2,   -0.010,2,  -999.00,9,    0.000,2,   110.15,2,     0.16,    31.93,2,     0.04,     0.02,2,     0.01,     2.23,2,     0.01,    2.325,2,    1.228,2,    0.202,2,    0.854,2,   -999.0,9,   -999.0,9,-999.0000,     -999,9, -999.000,9, -999.000,   -999.0,9,   -999.0, -999.000,9, -999.000, -999.000,9, -999.000