BOTTLE,20220819CCHSIOAMB
EXPOCODE,SECT_ID,STNNBR,CASTNO,SAMPNO,BTLNBR,BTLNBR_FLAG_W,DATE,TIME,LATITUDE,LONGITUDE,DEPTH,CTDPRS,CTDPRS_FLAG_W,CTDTMP,CTDTMP_FLAG_W,SBE35,SBE35_FLAG_W,CTDSAL,CTDSAL_FLAG_W,SALNTY,SALNTY_FLAG_W,DNSSAL,DNSSAL_FLAG_W,CTDOXY,CTDOXY_FLAG_W,OXYGEN,OXYGEN_FLAG_W,CTDXMISS,CTDXMISSCP,CTDXMISS_FLAG_W,CTDFLUOR,CTDFLUOR_FLAG_W,CHLORA,CHLORA_FLAG_W,PAR,PAR_FLAG_W,SILCAT,SILCAT_FLAG_W,SILUNC,NITRAT,NITRAT_FLAG_W,NRAUNC,NITRIT,NITRIT_FLAG_W,NRIUNC,PHSPHT,PHSPHT_FLAG_W,PHPUNC,CFC-11,CFC-11_FLAG_W,CFC-12,CFC-12_FLAG_W,CFC113,CFC113_FLAG_W,SF6,SF6_FLAG_W,TCARBN,TCARBN_FLAG_W,ALKALI,ALKALI_FLAG_W,PH_TOT,PH_TMP,PH_TOT_FLAG_W,DELC13,DELC13_FLAG_W,C13ERR,DELC14,DELC14_FLAG_W,C14ERR,CS-134,CS-134_FLAG_W,CS134ER,CS-137,CS-137_FLAG_W,CS137ER
,,,,,,,,UTC,DEG,DEG,METERS,DBAR,,ITS-90,,ITS-90,,PSS-78,,PSS-78,,G/KG,,UMOL/KG,,UMOL/KG,,%TRANS,/METER,,MG/M^3,,MG/CUM,,UE/SQM/S,,UMOL/KG,,UMOL/KG,UMOL/KG,,UMOL/KG,UMOL/KG,,UMOL/KG,UMOL/KG,,UMOL/KG,PMOL/KG,,PMOL/KG,,PMOL/KG,,FMOL/KG,,UMOL/KG,,UMOL/KG,,,DEG C,,/MILLE,,/MILLE,/MILLE,,/MILLE,MBQ/KG,,MBQ/KG,MBQ/KG,,MBQ/KG
  49NZ20130106,  S04I,   164,  1,     36, X12J36,2,20130201,1620,-67.0015,  37.9963, 4413,      4.9,2,   0.4179,2,   0.41779,2,  33.8935,2,  33.8933,2,-999.0000,9,   342.49,2,   342.45,2,   95.342,   0.1908,2,    0.410,2,  -999.00,9,    6.744,2,    48.95,2,     0.10,    25.05,2,     0.04,     0.16,2,     0.01,     1.77,2,     0.01,    5.801,2,    3.172,2,    0.516,2,    2.888,2,   2169.9,2,   2299.2,2,   7.6945,       25,6, -999.000,9, -999.000,   -999.0,9,   -999.0, -999.000,9, -999.000, -999.000,9, -999.000
  49NZ20130106,  S04I,   164,  1,     35, X12J35,2,20130201,1620,-67.0015,  37.9963, 4413,     25.2,2,   0.4175,2,   0.41718,2,  33.8937,2,  33.8942,2,-999.0000,9,   342.58,2,   342.58,2,   95.370,   0.1896,2,    0.400,2,  -999.00,9,    1.700,2,    48.90,2,     0.10,    25.07,2,     0.04,     0.16,2,     0.01,     1.78,2,     0.01,    5.787,2,    3.168,2,    0.512,2,    3.134,2,   2169.2,2,   2297.9,2,   7.6948,       25,2, -999.000,9, -999.000,   -999.0,9,   -999.0, -999.000,9, -999.000, -999.000,9, -999.000
  49NZ20130106,  S04I,   164,  1,     34, X12J34,2,20130201,1620,-67.0015,  37.9963, 4413,     50.4,2,   0.3505,2,   0.34999,2,  33.8946,2,  33.9141,2,-999.0000,9,   341.28,2,   340.71,2,   95.348,   0.1905,2,    0.450,2,  -999.00,9,    0.516,2,    49.40,2,     0.10,    25.25,2,     0.04,     0.15,2,     0.01,     1.80,2,     0.01,    5.737,6,    3.138,6,    0.505,6,    2.811,6,   2171.7,2,   2299.9,2,   7.6919,       25,2, -999.000,9, -999.000,   -999.0,9,   -999.0, -999.000,9, -999.000, -999.000,9, -999.000
  49NZ20130106,  S04I,   164,  1,     33, X12J33,2,20130201,1620,-67.0015,  37.9963, 4413,     74.5,2,  -0.3638,2,  -0.37752,2,  34.4159,2,  34.4128,2,-999.0000,9,   252.16,2,   251.44,2,   97.333,   0.1081,2,    0.460,2,  -999.00,9,    0.141,2,    71.76,2,     0.12,    30.84,2,     0.04,     0.09,2,     0.01,     2.19,2,     0.01,    3.024,2,    1.649,2,    0.267,2,    1.414,2,   2233.2,6,   2327.8,2,   7.5998,       25,2, -999.000,9, -999.000,   -999.0,9,   -999.0, -999.000,9, -999.000, -999.000,9, -999.000
  49NZ20130106,  S04I,   164,  1,     32, X12J32,2,20130201,1620,-67.0015,  37.9963, 4413,     99.7,2,   1.1792,2,   1.17731,2,  34.6338,2,  34.6302,2,-999.0000,9,   188.21,2,   188.96,2,   99.169,   0.0334,2,    0.200,2,  -999.00,9,    0.009,2,    87.04,2,     0.14,    33.60,2,     0.05,     0.13,2,     0.01,     2.36,2,     0.01,    1.145,2,    0.619,2,    0.102,2,    0.363,2,   2261.7,2,   2340.4,6,   7.5531,       25,2, -999.000,9, -999.000,   -999.0,9,   -999.0, -999.000,9, -999.000, -999.000,9, -999.000
  49NZ20130106,  S04I,   164,  1,     31, X12J31,2,20130201,1620,-67.0015,  37.9963, 4413,    124.5,2,   1.1830,2,   1.17748,2,  34.6430,2,  34.6409,2,-999.0000,9,   189.81,2,   190.95,2,   99.444,   0.0223,2,    0.130,2,  -999.00,9,    0.000,2,    87.53,2,     0.14,    33.52,2,     0.05,     0.08,2,     0.01,     2.34,2,     0.01,    1.115,2,    0.608,2,    0.099,2,    0.332,2,   2262.3,2,   2341.3,2,   7.5571,       25,2, -999.000,9, -999.000,   -999.0,9,   -999.0, -999.000,9, -999.000, -999.000,9, -999.000
  49NZ20130106,  S04I,   164,  1,     30, X12J30,2,20130201,1620,-67.0015,  37.9963, 4413,    149.9,2,   1.3527,2,   1.35236,2,  34.6675,2,  34.6668,2,-999.0000,9,   187.29,2,   187.32,2,   99.670,   0.0132,2,    0.090,2,  -999.00,9,    0.000,2,    89.35,2,     0.14,    33.27,2,     0.05,     0.03,2,     0.01,     2.32,2,     0.01,    0.859,2,    0.456,2,    0.073,2,    0.238,2,   2261.9,2,   2343.6,2,   7.5620,       25,2, -999.000,9, -999.000,   -999.0,9,   -999.0, -999.000,9, -999.000, -999.000,9, -999.000
  49NZ20130106,  S04I,   164,  1,     29, X12J29,2,20130201,1620,-67.0015,  37.9963, 4413,    201.0,2,   1.4527,2,   1.45261,2,  34.6919,2,  34.6912,2,-999.0000,9,   187.15,2,   187.08,2,   99.851,   0.0060,2,    0.020,2,  -999.00,9,    0.000,2,    90.72,2,     0.14,    32.82,2,     0.05,     0.01,2,     0.01,     2.29,2,     0.01,    0.639,2,    0.336,2,    0.053,2,    0.143,2,   2261.0,2,   2345.5,2,   7.5713,       25,2, -999.000,9, -999.000,   -999.0,9,   -999.0, -999.000,9, -999.000, -999.000,9, -999.000
  49NZ20130106,  S04I,   164,  1,     28, X12J28,2,20130201,1620,-67.0015,  37.9963, 4413,    249.4,2,   1.4457,2,   1.44553,2,  34.7015,2,  34.7013,2,-999.0000,9,   188.79,2,   188.74,2,   99.849,   0.0060,2,    0.010,2,  -999.00,9,    0.000,2,    91.35,2,     0.14,    32.49,2,     0.05,     0.01,2,     0.01,     2.27,2,     0.01,    0.552,2,    0.290,2,    0.047,2,    0.112,2,   2259.2,2,   2346.8,2,   7.5781,       25,2, -999.000,9, -999.000,   -999.0,9,   -999.0, -999.000,9, -999.000, -999.000,9, -999.000
  49NZ20130106,  S04I,   164,  1,     27, X12J27,2,20130201,1620,-67.0015,  37.9963, 4413,    279.6,2,   1.4197,2,   1.41940,2,  34.7035,2,  34.7033,2,-999.0000,9,   190.17,2,   190.07,2,   99.776,   0.0090,2,    0.010,2,  -999.00,9,    0.000,2,    91.77,2,     0.14,    32.36,2,     0.05,     0.01,2,     0.01,     2.26,2,     0.01,    0.556,2,    0.289,2,    0.048,2,    0.099,2,   2259.1,2,   2347.6,2,   7.5798,       25,2, -999.000,9, -999.000,   -999.0,9,   -999.0, -999.000,9, -999.000, -999.000,9, -999.000
  49NZ20130106,  S04I,   164,  1,     26, X12J26,2,20130201,1620,-67.0015,  37.9963, 4413,    370.7,2,   1.2764,2,   1.27676,2,  34.7052,2,  34.7058,2,-999.0000,9,   195.72,2,   195.46,2,   99.927,   0.0029,2,    0.000,2,  -999.00,9,    0.000,2,    93.01,2,     0.14,    32.06,2,     0.04,     0.01,2,     0.01,     2.22,2,     0.01,    0.587,2,    0.308,2,    0.045,2,    0.154,2,   2257.8,2,   2348.4,2,   7.5872,       25,2, -999.000,9, -999.000,   -999.0,9,   -999.0, -999.000,9, -999.000, -999.000,9, -999.000
  49NZ20130106,  S04I,   164,  1,     25, X12J25,2,20130201,1620,-67.0015,  37.9963, 4413,    469.7,2,   1.2129,2,   1.21290,2,  34.7114,2,  34.7110,2,-999.0000,9,   197.13,2,   197.27,2,   99.942,   0.0023,2,    0.000,2,  -999.00,9,    0.000,2,    95.99,2,     0.14,    31.98,2,     0.04,     0.01,2,     0.01,     2.22,2,     0.01,    0.504,2,    0.263,2,    0.038,2,    0.142,2,   2257.5,2,   2350.3,2,   7.5894,       25,2, -999.000,9, -999.000,   -999.0,9,   -999.0, -999.000,9, -999.000, -999.000,9, -999.000
  49NZ20130106,  S04I,   164,  1,     24, X12J24,2,20130201,1620,-67.0015,  37.9963, 4413,    569.8,2,   1.0601,2,   1.05954,2,  34.7064,2,  34.7063,2,-999.0000,9,   201.54,2,   201.57,2,   99.972,   0.0011,2,    0.000,2,  -999.00,9,    0.000,2,    97.58,2,     0.15,    31.90,2,     0.04,     0.01,2,     0.01,     2.22,2,     0.01,    0.574,6,    0.301,6,    0.047,6,    0.139,6,   2256.8,2,   2350.6,2,   7.5940,       25,2, -999.000,9, -999.000,   -999.0,9,   -999.0, -999.000,9, -999.000, -999.000,9, -999.000
  49NZ20130106,  S04I,   164,  1,     23, X12J23,2,20130201,1620,-67.0015,  37.9963, 4413,    669.3,2,   0.9846,2,   0.98559,2,  34.7066,2,  34.7071,2,-999.0000,9,   202.38,2,   202.04,2,   99.955,   0.0018,2,    0.000,2,  -999.00,9,    0.000,2,   100.47,2,     0.15,    32.00,2,     0.04,     0.00,2,     0.01,     2.23,2,     0.01,    0.511,2,    0.268,2,    0.043,2,    0.032,2,   2257.6,6,   2351.8,2,   7.5939,       25,2, -999.000,9, -999.000,   -999.0,9,   -999.0, -999.000,9, -999.000, -999.000,9, -999.000
  49NZ20130106,  S04I,   164,  1,     22, X12J22,2,20130201,1620,-67.0015,  37.9963, 4413,    771.1,2,   0.8903,2,   0.89062,2,  34.7032,2,  34.7030,2,-999.0000,9,   204.18,2,   204.19,2,   99.981,   0.0008,2,    0.000,2,  -999.00,9,    0.000,2,   102.67,2,     0.15,    32.09,2,     0.05,     0.00,2,     0.01,     2.24,2,     0.01,    0.529,2,    0.275,2,    0.038,2,    0.171,2,   2258.3,2,   2352.7,6,   7.5953,       25,2, -999.000,9, -999.000,   -999.0,9,   -999.0, -999.000,9, -999.000, -999.000,9, -999.000
  49NZ20130106,  S04I,   164,  1,     21, X12J21,2,20130201,1620,-67.0015,  37.9963, 4413,    869.9,2,   0.8134,2,   0.81331,2,  34.7007,2,  34.7010,2,-999.0000,9,   205.50,2,   205.67,2,   99.962,   0.0015,2,    0.000,2,  -999.00,9,    0.000,2,   104.94,2,     0.15,    32.18,2,     0.05,     0.00,2,     0.01,     2.24,2,     0.01,    0.504,2,    0.266,2,    0.030,2,    0.047,2,   2258.0,2,   2353.1,2,   7.5953,       25,6, -999.000,9, -999.000,   -999.0,9,   -999.0, -999.000,9, -999.000, -999.000,9, -999.000
  49NZ20130106,  S04I,   164,  1,     20, X12J20,2,20130201,1620,-67.0015,  37.9963, 4413,    959.0,2,   0.7400,2,   0.73992,2,  34.6974,2,  34.6973,2,-999.0000,9,   206.55,2,   206.68,2,   99.947,   0.0021,2,    0.000,2,  -999.00,9,    0.000,2,   106.94,2,     0.15,    32.30,2,     0.05,     0.00,2,     0.01,     2.25,2,     0.01,    0.520,2,    0.261,2,    0.036,2,    0.145,2,   2257.0,2,   2353.9,2,   7.5938,       25,2, -999.000,9, -999.000,   -999.0,9,   -999.0, -999.000,9, -999.000, -999.000,9, -999.000
  49NZ20130106,  S04I,   164,  1,     19, X12J19,2,20130201,1620,-67.0015,  37.9963, 4413,   1169.3,2,   0.5929,2,   0.59302,2,  34.6910,2,  34.6910,2,-999.0000,9,   208.37,2,   208.58,2,   99.989,   0.0004,2,    0.000,2,  -999.00,9,    0.000,2,   110.82,2,     0.16,    32.55,2,     0.05,     0.00,2,     0.01,     2.27,2,     0.01,    0.515,6,    0.262,6,    0.035,6,    0.073,6,   2258.6,2,   2354.5,2,   7.5931,       25,2, -999.000,9, -999.000,   -999.0,9,   -999.0, -999.000,9, -999.000, -999.000,9, -999.000
  49NZ20130106,  S04I,   164,  1,     18, X12J18,2,20130201,1620,-67.0015,  37.9963, 4413,   1421.1,2,   0.4636,2,   0.46349,2,  34.6859,2,  34.6862,2,-999.0000,9,   209.84,2,   210.03,2,  100.006,  -0.0002,2,    0.000,2,  -999.00,9,    0.000,2,   115.20,2,     0.16,    32.78,2,     0.05,     0.00,2,     0.01,     2.29,2,     0.01,    0.470,2,    0.238,2,    0.032,2,    0.109,2,   2258.8,2,   2354.9,2,   7.5908,       25,2, -999.000,9, -999.000,   -999.0,9,   -999.0, -999.000,9, -999.000, -999.000,9, -999.000
  49NZ20130106,  S04I,   164,  1,     17, X12J17,2,20130201,1620,-67.0015,  37.9963, 4413,   1669.4,2,   0.3513,2,   0.35115,2,  34.6815,2,  34.6814,2,-999.0000,9,   211.83,2,   212.04,2,  100.000,  -0.0000,2,    0.000,2,  -999.00,9,    0.000,2,   119.23,2,     0.17,    32.90,2,     0.05,     0.00,2,     0.01,     2.30,2,     0.01,    0.417,2,    0.211,2,    0.026,2,    0.117,2,   2261.9,2,   2355.1,2,   7.5895,       25,6, -999.000,9, -999.000,   -999.0,9,   -999.0, -999.000,9, -999.000, -999.000,9, -999.000
  49NZ20130106,  S04I,   164,  1,     16, X12J16,2,20130201,1620,-67.0015,  37.9963, 4413,   1920.5,2,   0.2644,2,   0.26431,2,  34.6787,2,  34.6788,2,-999.0000,9,   213.60,2,   213.92,2,  100.021,  -0.0008,2,    0.000,2,  -999.00,9,    0.000,2,   122.09,2,     0.17,    33.04,2,     0.05,     0.00,2,     0.01,     2.31,2,     0.01,    0.357,2,    0.181,2,    0.021,2,    0.069,2,   2260.6,2,   2355.7,2,   7.5892,       25,2, -999.000,9, -999.000,   -999.0,9,   -999.0, -999.000,9, -999.000, -999.000,9, -999.000
  49NZ20130106,  S04I,   164,  1,     15, X12J15,2,20130201,1620,-67.0015,  37.9963, 4413,   2172.3,2,   0.1527,2,   0.15290,2,  34.6723,2,  34.6723,2,-999.0000,9,   218.86,2,   219.22,2,  100.004,  -0.0002,2,    0.000,2,  -999.00,9,    0.000,2,   121.74,2,     0.17,    32.94,2,     0.05,     0.00,2,     0.01,     2.28,2,     0.01,    0.484,2,    0.247,2,    0.032,2,    0.203,2,   2262.6,3,   2355.0,2,   7.5914,       25,2, -999.000,9, -999.000,   -999.0,9,   -999.0, -999.000,9, -999.000, -999.000,9, -999.000
  49NZ20130106,  S04I,   164,  1,     14, X12J14,2,20130201,1620,-67.0015,  37.9963, 4413,   2421.4,2,   0.0696,2,   0.06947,2,  34.6681,2,  34.6680,2,-999.0000,9,   223.21,2,   223.49,2,  100.013,  -0.0005,2,    0.000,2,  -999.00,9,    0.000,2,   121.61,2,     0.17,    32.85,2,     0.05,     0.00,2,     0.01,     2.29,2,     0.01,    0.595,2,    0.306,2,    0.039,2,    0.163,2,   2257.0,6,   2353.6,2,   7.5937,       25,2, -999.000,9, -999.000,   -999.0,9,   -999.0, -999.000,9, -999.000, -999.000,9, -999.000
  49NZ20130106,  S04I,   164,  1,     13, X12J13,2,20130201,1620,-67.0015,  37.9963, 4413,   2673.0,2,  -0.0042,2,  -0.00433,2,  34.6649,2,  34.6649,2,-999.0000,9,   227.24,2,   227.33,2,  100.006,  -0.0002,2,    0.000,2,  -999.00,9,    0.000,2,   121.50,2,     0.17,    32.78,2,     0.05,     0.00,2,     0.01,     2.29,2,     0.01,    0.714,2,    0.364,2,    0.050,2,    0.223,2,   2257.4,2,   2353.7,6,   7.5945,       25,2, -999.000,9, -999.000,   -999.0,9,   -999.0, -999.000,9, -999.000, -999.000,9, -999.000
  49NZ20130106,  S04I,   164,  1,     12, X12J12,2,20130201,1620,-67.0015,  37.9963, 4413,   2921.0,2,  -0.0711,2,  -0.07118,2,  34.6620,2,  34.6615,2,-999.0000,9,   230.82,2,   231.05,2,   99.996,   0.0002,2,    0.000,2,  -999.00,9,    0.000,2,   121.60,2,     0.17,    32.71,2,     0.05,     0.00,2,     0.01,     2.28,2,     0.01,    0.818,2,    0.401,2,    0.057,2,    0.222,2,   2255.8,2,   2352.5,2,   7.5967,       25,6, -999.000,9, -999.000,   -999.0,9,   -999.0, -999.000,9, -999.000, -999.000,9, -999.000
  49NZ20130106,  S04I,   164,  1,     11, X12J11,2,20130201,1620,-67.0015,  37.9963, 4413,   3170.4,2,  -0.1274,2,  -0.12736,2,  34.6594,2,  34.6593,2,-999.0000,9,   233.80,2,   233.81,2,   99.987,   0.0005,2,    0.000,2,  -999.00,9,    0.000,2,   122.36,2,     0.17,    32.71,2,     0.05,     0.00,2,     0.01,     2.28,2,     0.01,    0.805,2,    0.396,2,    0.054,2,    0.250,2,   2254.4,2,   2353.2,2,   7.5985,       25,2, -999.000,9, -999.000,   -999.0,9,   -999.0, -999.000,9, -999.000, -999.000,9, -999.000
  49NZ20130106,  S04I,   164,  1,     10, X12J10,2,20130201,1620,-67.0015,  37.9963, 4413,   3420.4,2,  -0.1770,2,  -0.17687,2,  34.6565,2,  34.6557,2,-999.0000,9,   237.90,2,   238.00,2,   99.966,   0.0014,2,    0.000,2,  -999.00,9,    0.000,2,   120.54,2,     0.17,    32.57,2,     0.05,     0.00,2,     0.01,     2.28,2,     0.01,    0.990,2,    0.521,2,    0.077,2,    0.314,2,   2253.8,2,   2352.7,2,   7.5991,       25,2, -999.000,9, -999.000,   -999.0,9,   -999.0, -999.000,9, -999.000, -999.000,9, -999.000
  49NZ20130106,  S04I,   164,  1,      9, X12J09,2,20130201,1620,-67.0015,  37.9963, 4413,   3669.0,2,  -0.2104,2,  -0.21022,2,  34.6548,2,  34.6543,2,-999.0000,9,   240.44,2,   240.51,2,   99.959,   0.0016,2,    0.000,2,  -999.00,9,    0.000,2,   120.60,2,     0.17,    32.55,2,     0.05,     0.00,2,     0.01,     2.27,2,     0.01,    1.020,2,    0.548,2,    0.079,2,    0.264,2,   2253.0,2,   2351.6,2,   7.6016,       25,2, -999.000,9, -999.000,   -999.0,9,   -999.0, -999.000,9, -999.000, -999.000,9, -999.000
  49NZ20130106,  S04I,   164,  1,      8, X12J08,2,20130201,1620,-67.0015,  37.9963, 4413,   3919.4,2,  -0.2406,2,  -0.24050,2,  34.6528,2,  34.6525,2,-999.0000,9,   242.22,2,   242.38,2,   99.953,   0.0019,2,   -0.000,2,  -999.00,9,    0.000,2,   122.00,2,     0.17,    32.55,2,     0.05,     0.00,2,     0.01,     2.28,2,     0.01,    0.969,6,    0.517,6,    0.076,6,    0.319,6,   2253.6,2,   2351.7,2,   7.6027,       25,2, -999.000,9, -999.000,   -999.0,9,   -999.0, -999.000,9, -999.000, -999.000,9, -999.000
  49NZ20130106,  S04I,   164,  1,      7, X12J07,2,20130201,1620,-67.0015,  37.9963, 4413,   4170.0,2,  -0.2680,2,  -0.26806,2,  34.6506,2,  34.6505,2,-999.0000,9,   244.83,2,   245.09,2,   99.936,   0.0026,2,    0.000,2,  -999.00,9,    0.000,2,   121.73,2,     0.17,    32.48,2,     0.05,     0.00,2,     0.01,     2.27,2,     0.01,    1.082,2,    0.581,2,    0.084,2,    0.356,2,   2251.8,6,   2351.9,2,   7.6026,       25,2, -999.000,9, -999.000,   -999.0,9,   -999.0, -999.000,9, -999.000, -999.000,9, -999.000
  49NZ20130106,  S04I,   164,  1,      6, X12J06,2,20130201,1620,-67.0015,  37.9963, 4413,   4420.9,2,  -0.2941,2,  -0.29415,2,  34.6494,2,  34.6495,2,-999.0000,9,   244.82,2,   245.08,2,   99.829,   0.0068,2,    0.000,2,  -999.00,9,    0.000,2,   128.84,2,     0.17,    32.62,2,     0.05,     0.00,2,     0.01,     2.28,2,     0.01,    0.969,2,    0.515,2,    0.075,2,    0.227,2,   2253.2,2,   2351.7,2,   7.6036,       25,2, -999.000,9, -999.000,   -999.0,9,   -999.0, -999.000,9, -999.000, -999.000,9, -999.000
  49NZ20130106,  S04I,   164,  1,      2, X12J02,2,20130201,1620,-67.0015,  37.9963, 4413,     58.9,2,  -1.4133,2,  -1.41221,2,  34.1654,2,  34.1784,2,-999.0000,9,   319.01,2,   315.52,2,   95.823,   0.1707,2,    0.510,2,     0.31,2,    0.349,2,    54.26,2,     0.11,    27.20,2,     0.04,     0.15,2,     0.01,     1.97,2,     0.01, -999.000,9, -999.000,9, -999.000,9, -999.000,9,   -999.0,9,   -999.0,9,-999.0000,     -999,9, -999.000,9, -999.000,   -999.0,9,   -999.0, -999.000,9, -999.000, -999.000,9, -999.000
  49NZ20130106,  S04I,   164,  1,      1, X12J01,2,20130201,1620,-67.0015,  37.9963, 4413,   4499.5,2,  -0.2979,2,  -0.29787,2,  34.6497,2,  34.6492,2,-999.0000,9,   243.42,2,   243.58,2,   99.561,   0.0176,2,    0.000,2,  -999.00,9,    0.000,2,   134.30,2,     0.18,    32.73,2,     0.05,     0.01,2,     0.01,     2.30,2,     0.01,    0.835,2,    0.442,2,    0.059,2,    0.232,2,   2252.9,2,   2352.2,2,   7.6018,       25,2, -999.000,9, -999.000,   -999.0,9,   -999.0, -999.000,9, -999.000, -999.000,9, -999.000