BOTTLE,20220819CCHSIOAMB
EXPOCODE,SECT_ID,STNNBR,CASTNO,SAMPNO,BTLNBR,BTLNBR_FLAG_W,DATE,TIME,LATITUDE,LONGITUDE,DEPTH,CTDPRS,CTDPRS_FLAG_W,CTDTMP,CTDTMP_FLAG_W,SBE35,SBE35_FLAG_W,CTDSAL,CTDSAL_FLAG_W,SALNTY,SALNTY_FLAG_W,DNSSAL,DNSSAL_FLAG_W,CTDOXY,CTDOXY_FLAG_W,OXYGEN,OXYGEN_FLAG_W,CTDXMISS,CTDXMISSCP,CTDXMISS_FLAG_W,CTDFLUOR,CTDFLUOR_FLAG_W,CHLORA,CHLORA_FLAG_W,PAR,PAR_FLAG_W,SILCAT,SILCAT_FLAG_W,SILUNC,NITRAT,NITRAT_FLAG_W,NRAUNC,NITRIT,NITRIT_FLAG_W,NRIUNC,PHSPHT,PHSPHT_FLAG_W,PHPUNC,CFC-11,CFC-11_FLAG_W,CFC-12,CFC-12_FLAG_W,CFC113,CFC113_FLAG_W,SF6,SF6_FLAG_W,TCARBN,TCARBN_FLAG_W,ALKALI,ALKALI_FLAG_W,PH_TOT,PH_TMP,PH_TOT_FLAG_W,DELC13,DELC13_FLAG_W,C13ERR,DELC14,DELC14_FLAG_W,C14ERR,CS-134,CS-134_FLAG_W,CS134ER,CS-137,CS-137_FLAG_W,CS137ER
,,,,,,,,UTC,DEG,DEG,METERS,DBAR,,ITS-90,,ITS-90,,PSS-78,,PSS-78,,G/KG,,UMOL/KG,,UMOL/KG,,%TRANS,/METER,,MG/M^3,,MG/CUM,,UE/SQM/S,,UMOL/KG,,UMOL/KG,UMOL/KG,,UMOL/KG,UMOL/KG,,UMOL/KG,UMOL/KG,,UMOL/KG,PMOL/KG,,PMOL/KG,,PMOL/KG,,FMOL/KG,,UMOL/KG,,UMOL/KG,,,DEG C,,/MILLE,,/MILLE,/MILLE,,/MILLE,MBQ/KG,,MBQ/KG,MBQ/KG,,MBQ/KG
  49NZ20130106,  S04I,   119,  1,     36, X12J36,2,20130120,1935,-62.0095,  71.6343, 4087,     10.1,2,   0.5009,2,   0.50074,2,  33.6363,2,  33.6360,2,-999.0000,9,   343.37,2,   343.34,2,   97.433,   0.1040,2,    0.290,2,  -999.00,9,    0.227,2,    40.73,2,     0.10,    26.97,2,     0.04,     0.23,2,     0.01,     1.84,2,     0.01,    6.143,2,    3.208,2,    0.648,2,    2.772,2,   2158.2,2,   2276.5,2,   7.6677,       25,2, -999.000,1, -999.000,   -999.0,1,   -999.0, -999.000,9, -999.000, -999.000,9, -999.000
  49NZ20130106,  S04I,   119,  1,     35, X12J35,2,20130120,1935,-62.0095,  71.6343, 4087,     24.8,2,   0.5016,2,   0.50126,2,  33.6361,2,  33.6359,2,-999.0000,9,   343.32,2,   343.21,2,   97.438,   0.1038,2,    0.300,2,  -999.00,9,    0.014,2,    40.76,2,     0.10,    27.00,2,     0.04,     0.23,2,     0.01,     1.85,2,     0.01,    6.119,2,    3.206,2,    0.644,2,    2.857,2,   2160.6,2,   2275.3,2,   7.6677,       25,2, -999.000,1, -999.000,   -999.0,1,   -999.0, -999.000,9, -999.000, -999.000,9, -999.000
  49NZ20130106,  S04I,   119,  1,     34, X12J34,2,20130120,1935,-62.0095,  71.6343, 4087,     50.3,2,  -0.8046,2,  -0.81002,2,  33.8052,2,  33.7963,2,-999.0000,9,   342.65,2,   342.42,2,   93.913,   0.2512,2,    0.720,2,  -999.00,9,    0.000,2,    39.42,2,     0.09,    27.12,2,     0.04,     0.15,2,     0.01,     1.87,2,     0.01,    5.773,6,    3.033,6,    0.601,6,    2.564,6,   2175.0,2,   2287.0,2,   7.6674,       25,2, -999.000,1, -999.000,   -999.0,1,   -999.0, -999.000,9, -999.000, -999.000,9, -999.000
  49NZ20130106,  S04I,   119,  1,     33, X12J33,2,20130120,1935,-62.0095,  71.6343, 4087,     75.9,2,   0.1877,2,   0.18247,2,  34.2828,2,  34.2645,2,-999.0000,9,   242.18,2,   247.82,2,   97.682,   0.0938,2,    0.560,2,  -999.00,9,    0.000,2,    59.69,2,     0.11,    31.87,2,     0.04,     0.09,2,     0.01,     2.22,2,     0.01,    3.305,2,    1.743,2,    0.334,2,    1.288,2,   2224.5,6,   2313.3,2,   7.5827,       25,2, -999.000,1, -999.000,   -999.0,1,   -999.0, -999.000,9, -999.000, -999.000,9, -999.000
  49NZ20130106,  S04I,   119,  1,     32, X12J32,2,20130120,1935,-62.0095,  71.6343, 4087,    100.3,2,   1.7314,2,   1.73107,2,  34.5159,2,  34.5158,2,-999.0000,9,   175.62,2,   175.87,2,   99.338,   0.0266,2,    0.210,2,  -999.00,9,    0.000,2,    76.56,2,     0.13,    35.52,2,     0.05,     0.07,2,     0.01,     2.47,2,     0.01,    1.363,2,    0.725,2,    0.118,2,    0.525,2,   2259.1,2,   2328.3,6,   7.5201,       25,2, -999.000,1, -999.000,   -999.0,1,   -999.0, -999.000,9, -999.000, -999.000,9, -999.000
  49NZ20130106,  S04I,   119,  1,     31, X12J31,2,20130120,1935,-62.0095,  71.6343, 4087,    125.3,2,   1.8471,2,   1.84693,2,  34.5563,2,  34.5553,2,-999.0000,9,   170.97,2,   171.18,2,   99.675,   0.0130,2,    0.070,2,  -999.00,9,    0.000,2,    79.15,2,     0.13,    35.52,2,     0.05,     0.02,2,     0.01,     2.46,2,     0.01,    1.098,2,    0.591,2,    0.095,2,    0.240,2,   2263.8,2,   2330.8,2,   7.5211,       25,2, -999.000,1, -999.000,   -999.0,1,   -999.0, -999.000,9, -999.000, -999.000,9, -999.000
  49NZ20130106,  S04I,   119,  1,     30, X12J30,2,20130120,1935,-62.0095,  71.6343, 4087,    150.5,2,   1.8855,2,   1.88525,2,  34.5790,2,  34.5781,2,-999.0000,9,   170.03,2,   170.20,2,   99.807,   0.0077,2,    0.020,2,  -999.00,9,    0.000,2,    80.35,2,     0.13,    35.26,2,     0.05,     0.01,2,     0.01,     2.44,2,     0.01,    0.943,2,    0.524,2,    0.082,2,    0.203,2,   2265.3,2,   2333.2,2,   7.5260,       25,6, -999.000,1, -999.000,   -999.0,1,   -999.0, -999.000,9, -999.000, -999.000,9, -999.000
  49NZ20130106,  S04I,   119,  1,     29, X12J29,2,20130120,1935,-62.0095,  71.6343, 4087,    200.0,2,   1.9354,2,   1.93517,2,  34.6163,2,  34.6158,2,-999.0000,9,   170.23,2,   170.30,2,   99.826,   0.0070,2,    0.010,2,  -999.00,9,    0.000,2,    81.68,2,     0.13,    34.63,2,     0.05,     0.01,2,     0.01,     2.39,2,     0.01,    0.758,2,    0.405,2,    0.063,2,    0.177,2,   2264.1,2,   2336.0,2,   7.5354,       25,2, -999.000,1, -999.000,   -999.0,1,   -999.0, -999.000,9, -999.000, -999.000,9, -999.000
  49NZ20130106,  S04I,   119,  1,     28, X12J28,2,20130120,1935,-62.0095,  71.6343, 4087,    249.3,2,   1.9447,2,   1.94454,2,  34.6453,2,  34.6455,2,-999.0000,9,   172.41,2,   172.44,2,   99.877,   0.0049,2,    0.000,2,  -999.00,9,    0.000,2,    82.41,2,     0.13,    33.96,2,     0.05,     0.01,2,     0.01,     2.35,2,     0.01,    0.640,2,    0.337,2,    0.053,2,    0.198,2,   2259.6,2,   2338.9,2,   7.5465,       25,2, -999.000,1, -999.000,   -999.0,1,   -999.0, -999.000,9, -999.000, -999.000,9, -999.000
  49NZ20130106,  S04I,   119,  1,     27, X12J27,2,20130120,1935,-62.0095,  71.6343, 4087,    279.5,2,   1.9541,2,   1.95424,2,  34.6560,2,  34.6555,2,-999.0000,9,   173.50,2,   173.52,2,   99.904,   0.0038,2,    0.000,2,  -999.00,9,    0.000,2,    82.49,2,     0.13,    33.70,2,     0.05,     0.01,2,     0.01,     2.34,2,     0.01,    0.598,2,    0.309,2,    0.050,2,    0.138,2,   2257.2,3,   2339.3,2,   7.5516,       25,2, -999.000,1, -999.000,   -999.0,1,   -999.0, -999.000,9, -999.000, -999.000,9, -999.000
  49NZ20130106,  S04I,   119,  1,     26, X12J26,2,20130120,1935,-62.0095,  71.6343, 4087,    369.8,2,   1.9147,2,   1.91446,2,  34.6822,2,  34.6824,2,-999.0000,9,   177.91,2,   177.83,2,   99.921,   0.0032,2,    0.000,2,  -999.00,9,    0.000,2,    83.47,2,     0.13,    33.00,2,     0.05,     0.01,2,     0.01,     2.27,2,     0.01,    0.478,2,    0.257,2,    0.040,2,    0.081,2,   2256.4,2,   2341.8,2,   7.5626,       25,2, -999.000,1, -999.000,   -999.0,1,   -999.0, -999.000,9, -999.000, -999.000,9, -999.000
  49NZ20130106,  S04I,   119,  1,     25, X12J25,2,20130120,1935,-62.0095,  71.6343, 4087,    469.7,2,   1.8844,2,   1.88429,2,  34.7039,2,  34.7042,2,-999.0000,9,   182.34,2,   182.40,2,   99.913,   0.0035,2,    0.000,2,  -999.00,9,    0.000,2,    83.70,2,     0.13,    32.29,2,     0.05,     0.01,2,     0.01,     2.23,2,     0.01,    0.396,2,    0.213,2,    0.031,2,    0.019,2,   2254.8,2,   2343.7,2,   7.5753,       25,2, -999.000,1, -999.000,   -999.0,1,   -999.0, -999.000,9, -999.000, -999.000,9, -999.000
  49NZ20130106,  S04I,   119,  1,     24, X12J24,2,20130120,1935,-62.0095,  71.6343, 4087,    569.4,2,   1.8499,2,   1.84983,2,  34.7201,2,  34.7201,2,-999.0000,9,   186.79,2,   186.73,2,   99.947,   0.0021,2,    0.000,2,  -999.00,9,    0.000,2,    84.10,2,     0.13,    31.65,2,     0.04,     0.01,2,     0.01,     2.19,2,     0.01,    0.341,6,    0.182,6,    0.023,6,    0.046,6,   2251.9,2,   2344.9,2,   7.5858,       25,2, -999.000,1, -999.000,   -999.0,1,   -999.0, -999.000,9, -999.000, -999.000,9, -999.000
  49NZ20130106,  S04I,   119,  1,     23, X12J23,2,20130120,1935,-62.0095,  71.6343, 4087,    671.4,2,   1.7953,2,   1.79533,2,  34.7314,2,  34.7316,2,-999.0000,9,   190.76,2,   190.75,2,   99.955,   0.0018,2,    0.000,2,  -999.00,9,    0.000,2,    84.81,2,     0.13,    31.16,2,     0.04,     0.01,2,     0.01,     2.16,2,     0.01,    0.303,2,    0.157,2,    0.020,2,    0.029,2,   2250.2,6,   2345.8,2,   7.5944,       25,2, -999.000,1, -999.000,   -999.0,1,   -999.0, -999.000,9, -999.000, -999.000,9, -999.000
  49NZ20130106,  S04I,   119,  1,     22, X12J22,2,20130120,1935,-62.0095,  71.6343, 4087,    769.3,2,   1.7067,2,   1.70735,2,  34.7375,2,  34.7375,2,-999.0000,9,   194.40,2,   194.46,2,   99.961,   0.0016,2,    0.000,2,  -999.00,9,    0.000,2,    86.44,2,     0.14,    30.93,2,     0.04,     0.01,2,     0.01,     2.15,2,     0.01,    0.271,2,    0.141,2,    0.019,2,    0.009,2,   2248.9,2,   2347.6,2,   7.6010,       25,2, -999.000,1, -999.000,   -999.0,1,   -999.0, -999.000,9, -999.000, -999.000,9, -999.000
  49NZ20130106,  S04I,   119,  1,     21, X12J21,2,20130120,1935,-62.0095,  71.6343, 4087,    874.8,2,   1.6116,2,   1.61195,2,  34.7413,2,  34.7415,2,-999.0000,9,   197.71,2,   197.86,2,   99.974,   0.0010,2,    0.000,2,  -999.00,9,    0.000,2,    88.09,2,     0.14,    30.71,2,     0.04,     0.01,2,     0.01,     2.13,2,     0.01,    0.250,2,    0.130,2,    0.015,2,    0.083,2,   2248.3,2,   2348.5,2,   7.6064,       25,6, -999.000,1, -999.000,   -999.0,1,   -999.0, -999.000,9, -999.000, -999.000,9, -999.000
  49NZ20130106,  S04I,   119,  1,     20, X12J20,2,20130120,1935,-62.0095,  71.6343, 4087,    963.1,2,   1.5490,2,   1.54898,2,  34.7417,2,  34.7420,2,-999.0000,9,   199.24,2,   199.35,2,   99.976,   0.0010,2,   -0.000,2,  -999.00,9,    0.000,2,    89.46,2,     0.14,    30.62,2,     0.04,     0.01,2,     0.01,     2.13,2,     0.01,    0.240,2,    0.124,2,    0.014,2,    0.019,2,   2248.0,2,   2349.3,2,   7.6082,       25,2, -999.000,1, -999.000,   -999.0,1,   -999.0, -999.000,9, -999.000, -999.000,9, -999.000
  49NZ20130106,  S04I,   119,  1,     19, X12J19,2,20130120,1935,-62.0095,  71.6343, 4087,   1170.7,2,   1.3727,2,   1.37267,2,  34.7376,2,  34.7371,2,-999.0000,9,   201.88,2,   202.23,2,   99.974,   0.0010,2,   -0.000,2,  -999.00,9,    0.000,2,    94.12,2,     0.14,    30.73,2,     0.04,     0.00,2,     0.01,     2.14,2,     0.01,    0.229,6,    0.117,6,    0.011,6,    0.037,6,   2250.1,2,   2351.6,2,   7.6092,       25,2, -999.000,1, -999.000,   -999.0,1,   -999.0, -999.000,9, -999.000, -999.000,9, -999.000
  49NZ20130106,  S04I,   119,  1,     18, X12J18,2,20130120,1935,-62.0095,  71.6343, 4087,   1420.4,2,   1.1426,2,   1.14264,2,  34.7269,2,  34.7268,2,-999.0000,9,   204.17,2,   204.41,2,   99.978,   0.0009,2,   -0.000,2,  -999.00,9,    0.000,2,   100.61,2,     0.15,    31.21,2,     0.04,     0.01,2,     0.01,     2.17,2,     0.01,    0.237,2,    0.124,2,    0.011,2,    0.000,2,   2253.0,2,   2353.6,2,   7.6068,       25,2, -999.000,1, -999.000,   -999.0,1,   -999.0, -999.000,9, -999.000, -999.000,9, -999.000
  49NZ20130106,  S04I,   119,  1,     17, X12J17,2,20130120,1935,-62.0095,  71.6343, 4087,   1671.2,2,   0.9294,2,   0.92919,2,  34.7144,2,  34.7136,2,-999.0000,9,   205.45,2,   205.70,2,   99.983,   0.0007,2,   -0.000,2,  -999.00,9,    0.000,2,   106.78,2,     0.15,    31.75,2,     0.04,     0.01,2,     0.01,     2.21,2,     0.01,    0.254,2,    0.128,2,    0.010,2,    0.067,2,   2257.0,2,   2356.0,2,   7.6015,       25,6, -999.000,1, -999.000,   -999.0,1,   -999.0, -999.000,9, -999.000, -999.000,9, -999.000
  49NZ20130106,  S04I,   119,  1,     16, X12J16,2,20130120,1935,-62.0095,  71.6343, 4087,   1920.2,2,   0.7487,2,   0.74868,2,  34.7041,2,  34.7042,2,-999.0000,9,   206.98,2,   207.29,2,   99.978,   0.0009,2,   -0.000,2,  -999.00,9,    0.000,2,   112.10,2,     0.16,    32.14,2,     0.05,     0.00,2,     0.01,     2.21,2,     0.01,    0.258,2,    0.129,2,    0.008,2,    0.000,2,   2259.1,2,   2356.3,2,   7.5971,       25,2, -999.000,1, -999.000,   -999.0,1,   -999.0, -999.000,9, -999.000, -999.000,9, -999.000
  49NZ20130106,  S04I,   119,  1,     15, X12J15,2,20130120,1935,-62.0095,  71.6343, 4087,   2169.8,2,   0.5952,2,   0.59538,2,  34.6951,2,  34.6952,2,-999.0000,9,   208.31,2,   208.68,2,   99.970,   0.0012,2,   -0.000,2,  -999.00,9,    0.000,2,   116.78,2,     0.16,    32.48,2,     0.05,     0.00,2,     0.01,     2.25,2,     0.01,    0.254,2,    0.125,2,    0.007,2,    0.000,2,   2260.3,2,   2356.7,2,   7.5928,       25,2, -999.000,1, -999.000,   -999.0,1,   -999.0, -999.000,9, -999.000, -999.000,9, -999.000
  49NZ20130106,  S04I,   119,  1,     14, X12J14,2,20130120,1935,-62.0095,  71.6343, 4087,   2421.9,2,   0.4572,2,   0.45759,2,  34.6876,2,  34.6874,2,-999.0000,9,   210.85,2,   211.12,2,   99.983,   0.0007,2,   -0.000,2,  -999.00,9,    0.000,2,   120.55,2,     0.21,    32.71,2,     0.05,     0.00,2,     0.01,     2.27,2,     0.01,    0.252,2,    0.124,2,    0.011,2,    0.000,2,   2261.1,6,   2355.1,2,   7.5920,       25,2, -999.000,1, -999.000,   -999.0,1,   -999.0, -999.000,9, -999.000, -999.000,9, -999.000
  49NZ20130106,  S04I,   119,  1,     13, X12J13,2,20130120,1935,-62.0095,  71.6343, 4087,   2670.4,2,   0.3508,2,   0.35071,2,  34.6823,2,  34.6818,2,-999.0000,9,   213.87,2,   214.34,2,   99.968,   0.0013,2,   -0.010,2,  -999.00,9,    0.000,2,   123.37,2,     0.17,    32.81,2,     0.05,     0.00,2,     0.01,     2.28,2,     0.01,    0.241,2,    0.122,2,    0.009,2,    0.030,2,   2261.2,2,   2355.8,6,   7.5913,       25,2, -999.000,1, -999.000,   -999.0,1,   -999.0, -999.000,9, -999.000, -999.000,9, -999.000
  49NZ20130106,  S04I,   119,  1,     12, X12J12,2,20130120,1935,-62.0095,  71.6343, 4087,   2919.7,2,   0.2495,2,   0.24951,2,  34.6774,2,  34.6771,2,-999.0000,9,   217.27,2,   217.60,2,   99.957,   0.0017,2,   -0.010,2,  -999.00,9,    0.000,2,   125.58,2,     0.17,    32.83,2,     0.05,     0.00,2,     0.01,     2.28,2,     0.01,    0.238,2,    0.119,2,    0.006,2,    0.000,2,   2260.5,2,   2354.5,2,   7.5917,       25,6, -999.000,1, -999.000,   -999.0,1,   -999.0, -999.000,9, -999.000, -999.000,9, -999.000
  49NZ20130106,  S04I,   119,  1,     11, X12J11,2,20130120,1935,-62.0095,  71.6343, 4087,   3170.0,2,   0.1631,2,   0.16313,2,  34.6730,2,  34.6723,2,-999.0000,9,   220.56,2,   221.04,2,   99.951,   0.0020,2,   -0.010,2,  -999.00,9,    0.000,2,   127.02,2,     0.17,    32.87,2,     0.05,     0.00,2,     0.01,     2.29,2,     0.01,    0.259,2,    0.131,2,    0.011,2,    0.000,2,   2260.5,2,   2354.8,2,   7.5931,       25,2, -999.000,1, -999.000,   -999.0,1,   -999.0, -999.000,9, -999.000, -999.000,9, -999.000
  49NZ20130106,  S04I,   119,  1,     10, X12J10,2,20130120,1935,-62.0095,  71.6343, 4087,   3421.0,2,   0.0640,2,   0.06400,2,  34.6685,2,  34.6680,2,-999.0000,9,   224.90,2,   225.34,2,   99.942,   0.0023,2,   -0.010,2,  -999.00,9,    0.000,2,   127.99,2,     0.17,    32.80,2,     0.05,     0.00,2,     0.01,     2.28,2,     0.01,    0.321,2,    0.169,2,    0.015,2,    0.022,2,   2258.0,2,   2354.6,2,   7.5945,       25,2, -999.000,1, -999.000,   -999.0,1,   -999.0, -999.000,9, -999.000, -999.000,9, -999.000
  49NZ20130106,  S04I,   119,  1,      9, X12J09,2,20130120,1935,-62.0095,  71.6343, 4087,   3672.2,2,  -0.0155,2,  -0.01567,2,  34.6647,2,  34.6646,2,-999.0000,9,   228.64,2,   229.08,2,   99.932,   0.0027,2,   -0.010,2,  -999.00,9,    0.000,2,   129.59,2,     0.18,    32.81,2,     0.05,     0.00,2,     0.01,     2.28,2,     0.01,    0.363,2,    0.194,2,    0.018,2,    0.000,2,   2257.9,2,   2354.7,2,   7.5967,       25,2, -999.000,1, -999.000,   -999.0,1,   -999.0, -999.000,9, -999.000, -999.000,9, -999.000
  49NZ20130106,  S04I,   119,  1,      8, X12J08,2,20130120,1935,-62.0095,  71.6343, 4087,   3918.8,2,  -0.0881,2,  -0.08807,2,  34.6613,2,  34.6608,2,-999.0000,9,   231.87,2,   232.42,2,   99.906,   0.0038,2,   -0.010,2,  -999.00,9,    0.000,2,   133.59,2,     0.18,    32.85,2,     0.05,     0.00,2,     0.01,     2.29,2,     0.01,    0.348,6,    0.186,6,    0.019,6,    0.013,6,   2257.6,6,   2354.0,2,   7.5983,       25,2, -999.000,1, -999.000,   -999.0,1,   -999.0, -999.000,9, -999.000, -999.000,9, -999.000
  49NZ20130106,  S04I,   119,  1,      1, X12J01,2,20130120,1935,-62.0095,  71.6343, 4087,   4150.7,2,  -0.1391,2,  -0.13916,2,  34.6581,2,  34.6581,2,-999.0000,9,   233.78,2,   234.10,2,   99.749,   0.0101,2,   -0.010,2,  -999.00,9,    0.000,2,   142.07,2,     0.19,    32.90,2,     0.05,     0.01,2,     0.01,     2.29,2,     0.01,    0.382,2,    0.206,2,    0.018,2,    0.103,2,   2257.1,2,   2354.9,2,   7.5995,       25,2, -999.000,1, -999.000,   -999.0,1,   -999.0, -999.000,9, -999.000, -999.000,9, -999.000