BOTTLE,20220819CCHSIOAMB
EXPOCODE,SECT_ID,STNNBR,CASTNO,SAMPNO,BTLNBR,BTLNBR_FLAG_W,DATE,TIME,LATITUDE,LONGITUDE,DEPTH,CTDPRS,CTDPRS_FLAG_W,CTDTMP,CTDTMP_FLAG_W,SBE35,SBE35_FLAG_W,CTDSAL,CTDSAL_FLAG_W,SALNTY,SALNTY_FLAG_W,DNSSAL,DNSSAL_FLAG_W,CTDOXY,CTDOXY_FLAG_W,OXYGEN,OXYGEN_FLAG_W,CTDXMISS,CTDXMISSCP,CTDXMISS_FLAG_W,CTDFLUOR,CTDFLUOR_FLAG_W,CHLORA,CHLORA_FLAG_W,PAR,PAR_FLAG_W,SILCAT,SILCAT_FLAG_W,SILUNC,NITRAT,NITRAT_FLAG_W,NRAUNC,NITRIT,NITRIT_FLAG_W,NRIUNC,PHSPHT,PHSPHT_FLAG_W,PHPUNC,CFC-11,CFC-11_FLAG_W,CFC-12,CFC-12_FLAG_W,CFC113,CFC113_FLAG_W,SF6,SF6_FLAG_W,TCARBN,TCARBN_FLAG_W,ALKALI,ALKALI_FLAG_W,PH_TOT,PH_TMP,PH_TOT_FLAG_W,DELC13,DELC13_FLAG_W,C13ERR,DELC14,DELC14_FLAG_W,C14ERR,CS-134,CS-134_FLAG_W,CS134ER,CS-137,CS-137_FLAG_W,CS137ER
,,,,,,,,UTC,DEG,DEG,METERS,DBAR,,ITS-90,,ITS-90,,PSS-78,,PSS-78,,G/KG,,UMOL/KG,,UMOL/KG,,%TRANS,/METER,,MG/M^3,,MG/CUM,,UE/SQM/S,,UMOL/KG,,UMOL/KG,UMOL/KG,,UMOL/KG,UMOL/KG,,UMOL/KG,UMOL/KG,,UMOL/KG,PMOL/KG,,PMOL/KG,,PMOL/KG,,FMOL/KG,,UMOL/KG,,UMOL/KG,,,DEG C,,/MILLE,,/MILLE,/MILLE,,/MILLE,MBQ/KG,,MBQ/KG,MBQ/KG,,MBQ/KG
  49NZ20130106,  S04I,   163,  1,     36, X12J36,2,20130201,1013,-67.5008,  38.0007, 4089,      4.5,2,   0.3044,2,   0.30468,2,  33.8293,2,  33.8290,2,-999.0000,9,   344.92,2,   344.98,2,   94.264,   0.2363,2,    0.220,2,  -999.00,9,  208.354,2,    52.18,2,     0.11,    24.94,2,     0.04,     0.15,2,     0.01,     1.72,2,     0.01,    5.724,2,    3.084,2,    0.552,2, -999.000,9,   -999.0,9,   -999.0,9,-999.0000,     -999,9, -999.000,9, -999.000,   -999.0,9,   -999.0, -999.000,9, -999.000, -999.000,9, -999.000
  49NZ20130106,  S04I,   163,  1,     35, X12J35,2,20130201,1013,-67.5008,  38.0007, 4089,     24.9,2,   0.2841,2,   0.28375,2,  33.8292,2,  33.8291,2,-999.0000,9,   344.91,2,   345.04,2,   94.339,   0.2331,2,    0.400,2,  -999.00,9,   41.278,2,    52.29,2,     0.11,    24.96,2,     0.04,     0.14,2,     0.01,     1.73,2,     0.01,    5.717,2,    3.084,2,    0.523,2, -999.000,9,   -999.0,9,   -999.0,9,-999.0000,     -999,9, -999.000,9, -999.000,   -999.0,9,   -999.0, -999.000,9, -999.000, -999.000,9, -999.000
  49NZ20130106,  S04I,   163,  1,     34, X12J34,2,20130201,1013,-67.5008,  38.0007, 4089,     49.1,2,   0.1561,2,   0.15910,2,  33.8337,2,  33.8322,2,-999.0000,9,   343.45,2,   344.77,2,   94.115,   0.2426,2,    0.510,2,  -999.00,9,   11.497,2,    52.63,2,     0.11,    25.03,2,     0.04,     0.14,2,     0.01,     1.74,2,     0.01,    5.701,6,    3.079,6,    0.551,6, -999.000,9,   -999.0,9,   -999.0,9,-999.0000,     -999,9, -999.000,9, -999.000,   -999.0,9,   -999.0, -999.000,9, -999.000, -999.000,9, -999.000
  49NZ20130106,  S04I,   163,  1,     33, X12J33,2,20130201,1013,-67.5008,  38.0007, 4089,     74.7,2,  -1.4892,2,  -1.49282,2,  34.3307,2,  34.3305,2,-999.0000,9,   287.17,2,   285.34,2,   98.104,   0.0766,2,    0.390,2,  -999.00,9,    2.521,2,    65.08,2,     0.12,    29.94,2,     0.04,     0.15,2,     0.01,     2.10,2,     0.01,    4.186,2,    2.245,2,    0.406,2, -999.000,9,   -999.0,9,   -999.0,9,-999.0000,     -999,9, -999.000,9, -999.000,   -999.0,9,   -999.0, -999.000,9, -999.000, -999.000,9, -999.000
  49NZ20130106,  S04I,   163,  1,     32, X12J32,2,20130201,1013,-67.5008,  38.0007, 4089,     99.3,2,  -0.4638,2,  -0.46548,2,  34.4670,2,  34.4663,2,-999.0000,9,   252.27,2,   252.87,2,   99.258,   0.0298,2,    0.240,2,  -999.00,9,    0.890,2,    72.73,2,     0.12,    31.61,2,     0.04,     0.08,2,     0.01,     2.20,2,     0.01,    3.191,2,    1.710,2,    0.309,2, -999.000,9,   -999.0,9,   -999.0,9,-999.0000,     -999,9, -999.000,9, -999.000,   -999.0,9,   -999.0, -999.000,9, -999.000, -999.000,9, -999.000
  49NZ20130106,  S04I,   163,  1,     31, X12J31,2,20130201,1013,-67.5008,  38.0007, 4089,    124.8,2,   0.8908,2,   0.88585,2,  34.6142,2,  34.6105,2,-999.0000,9,   201.04,2,   202.44,2,   99.550,   0.0180,2,    0.090,2,  -999.00,9,    0.297,2,    84.37,2,     0.13,    33.13,2,     0.05,     0.04,2,     0.01,     2.29,2,     0.01,    1.509,2,    0.800,2,    0.137,2, -999.000,9,   -999.0,9,   -999.0,9,-999.0000,     -999,9, -999.000,9, -999.000,   -999.0,9,   -999.0, -999.000,9, -999.000, -999.000,9, -999.000
  49NZ20130106,  S04I,   163,  1,     30, X12J30,2,20130201,1013,-67.5008,  38.0007, 4089,    149.5,2,   1.0856,2,   1.08578,2,  34.6395,2,  34.6373,2,-999.0000,9,   195.73,2,   196.74,2,   99.693,   0.0123,2,    0.070,2,  -999.00,9,    0.081,2,    86.35,2,     0.14,    33.12,2,     0.05,     0.02,2,     0.01,     2.30,2,     0.01,    1.241,2,    0.659,2,    0.114,2, -999.000,9,   -999.0,9,   -999.0,9,-999.0000,     -999,9, -999.000,9, -999.000,   -999.0,9,   -999.0, -999.000,9, -999.000, -999.000,9, -999.000
  49NZ20130106,  S04I,   163,  1,     29, X12J29,2,20130201,1013,-67.5008,  38.0007, 4089,    199.7,2,   1.2635,2,   1.26015,2,  34.6723,2,  34.6706,2,-999.0000,9,   192.83,2,   193.14,2,   99.816,   0.0074,2,    0.030,2,  -999.00,9,    0.000,2,    88.83,2,     0.14,    32.80,2,     0.05,     0.01,2,     0.01,     2.28,2,     0.01,    0.927,2,    0.481,2,    0.081,2, -999.000,9,   -999.0,9,   -999.0,9,-999.0000,     -999,9, -999.000,9, -999.000,   -999.0,9,   -999.0, -999.000,9, -999.000, -999.000,9, -999.000
  49NZ20130106,  S04I,   163,  1,     28, X12J28,2,20130201,1013,-67.5008,  38.0007, 4089,    248.8,2,   1.2583,2,   1.25814,2,  34.6851,2,  34.6844,2,-999.0000,9,   194.86,2,   194.80,2,   99.850,   0.0060,2,    0.010,2,  -999.00,9,    0.000,2,    89.83,2,     0.14,    32.44,2,     0.05,     0.01,2,     0.01,     2.25,2,     0.01,    0.827,2,    0.424,2,    0.068,2, -999.000,9,   -999.0,9,   -999.0,9,-999.0000,     -999,9, -999.000,9, -999.000,   -999.0,9,   -999.0, -999.000,9, -999.000, -999.000,9, -999.000
  49NZ20130106,  S04I,   163,  1,     27, X12J27,2,20130201,1013,-67.5008,  38.0007, 4089,    329.9,2,   1.2557,2,   1.25553,2,  34.6992,2,  34.6988,2,-999.0000,9,   196.45,2,   196.35,2,   99.927,   0.0029,2,    0.000,2,  -999.00,9,    0.000,2,    91.75,2,     0.14,    32.08,2,     0.04,     0.01,2,     0.01,     2.23,2,     0.01,    0.678,2,    0.348,2,    0.054,2, -999.000,9,   -999.0,9,   -999.0,9,-999.0000,     -999,9, -999.000,9, -999.000,   -999.0,9,   -999.0, -999.000,9, -999.000, -999.000,9, -999.000
  49NZ20130106,  S04I,   163,  1,     26, X12J26,2,20130201,1013,-67.5008,  38.0007, 4089,    429.3,2,   1.2045,2,   1.20451,2,  34.7072,2,  34.7072,2,-999.0000,9,   198.36,2,   198.20,2,   99.863,   0.0055,2,    0.000,2,  -999.00,9,    0.000,2,    94.05,2,     0.14,    31.78,2,     0.04,     0.01,2,     0.01,     2.20,2,     0.01,    0.582,2,    0.289,2,    0.050,2, -999.000,9,   -999.0,9,   -999.0,9,-999.0000,     -999,9, -999.000,9, -999.000,   -999.0,9,   -999.0, -999.000,9, -999.000, -999.000,9, -999.000
  49NZ20130106,  S04I,   163,  1,     25, X12J25,2,20130201,1013,-67.5008,  38.0007, 4089,    530.0,2,   1.1051,2,   1.10513,2,  34.7077,2,  34.7077,2,-999.0000,9,   200.38,2,   200.59,2,   99.978,   0.0009,2,    0.000,2,  -999.00,9,    0.000,2,    96.67,2,     0.15,    31.77,2,     0.04,     0.01,2,     0.01,     2.21,2,     0.01,    0.565,2,    0.280,2,    0.046,2, -999.000,9,   -999.0,9,   -999.0,9,-999.0000,     -999,9, -999.000,9, -999.000,   -999.0,9,   -999.0, -999.000,9, -999.000, -999.000,9, -999.000
  49NZ20130106,  S04I,   163,  1,     24, X12J24,2,20130201,1013,-67.5008,  38.0007, 4089,    629.9,2,   0.9980,2,   0.99804,2,  34.7066,2,  34.7065,2,-999.0000,9,   202.26,2,   202.35,2,   99.961,   0.0016,2,    0.000,2,  -999.00,9,    0.000,2,    99.64,2,     0.15,    31.84,2,     0.04,     0.01,2,     0.01,     2.22,2,     0.01,    0.542,6,    0.268,6,    0.042,6, -999.000,9,   -999.0,9,   -999.0,9,-999.0000,     -999,9, -999.000,9, -999.000,   -999.0,9,   -999.0, -999.000,9, -999.000, -999.000,9, -999.000
  49NZ20130106,  S04I,   163,  1,     23, X12J23,2,20130201,1013,-67.5008,  38.0007, 4089,    729.5,2,   0.9289,2,   0.92944,2,  34.7060,2,  34.7063,2,-999.0000,9,   203.05,2,   203.19,2,   99.970,   0.0012,2,    0.000,2,  -999.00,9,    0.000,2,   102.23,2,     0.15,    31.92,2,     0.04,     0.01,2,     0.01,     2.22,2,     0.01,    0.493,2,    0.239,2,    0.035,2, -999.000,9,   -999.0,9,   -999.0,9,-999.0000,     -999,9, -999.000,9, -999.000,   -999.0,9,   -999.0, -999.000,9, -999.000, -999.000,9, -999.000
  49NZ20130106,  S04I,   163,  1,     22, X12J22,2,20130201,1013,-67.5008,  38.0007, 4089,    830.2,2,   0.8479,2,   0.84780,2,  34.7031,2,  34.7031,2,-999.0000,9,   204.06,2,   204.17,2,   99.957,   0.0017,2,    0.000,2,  -999.00,9,    0.000,2,   104.76,2,     0.15,    32.06,2,     0.04,     0.01,2,     0.01,     2.23,2,     0.01,    0.487,2,    0.237,2,    0.031,2, -999.000,9,   -999.0,9,   -999.0,9,-999.0000,     -999,9, -999.000,9, -999.000,   -999.0,9,   -999.0, -999.000,9, -999.000, -999.000,9, -999.000
  49NZ20130106,  S04I,   163,  1,     21, X12J21,2,20130201,1013,-67.5008,  38.0007, 4089,    928.7,2,   0.7723,2,   0.77192,2,  34.7004,2,  34.7006,2,-999.0000,9,   204.93,2,   205.00,2,   99.957,   0.0017,2,    0.000,2,  -999.00,9,    0.000,2,   107.05,2,     0.15,    32.20,2,     0.05,     0.01,2,     0.01,     2.24,2,     0.01,    0.473,2,    0.231,2,    0.038,2, -999.000,9,   -999.0,9,   -999.0,9,-999.0000,     -999,9, -999.000,9, -999.000,   -999.0,9,   -999.0, -999.000,9, -999.000, -999.000,9, -999.000
  49NZ20130106,  S04I,   163,  1,     20, X12J20,2,20130201,1013,-67.5008,  38.0007, 4089,   1079.0,2,   0.6779,2,   0.67807,2,  34.6967,2,  34.6969,2,-999.0000,9,   205.75,2,   206.01,2,   99.959,   0.0016,2,    0.000,2,  -999.00,9,    0.000,2,   110.17,2,     0.16,    32.38,2,     0.05,     0.00,2,     0.01,     2.25,2,     0.01,    0.488,2,    0.215,2,    0.031,2, -999.000,9,   -999.0,9,   -999.0,9,-999.0000,     -999,9, -999.000,9, -999.000,   -999.0,9,   -999.0, -999.000,9, -999.000, -999.000,9, -999.000
  49NZ20130106,  S04I,   163,  1,     19, X12J19,2,20130201,1013,-67.5008,  38.0007, 4089,   1329.5,2,   0.5213,2,   0.52165,2,  34.6889,2,  34.6890,2,-999.0000,9,   208.63,2,   208.79,2,   99.989,   0.0004,2,    0.000,2,  -999.00,9,    0.000,2,   113.81,2,     0.16,    32.58,2,     0.05,     0.00,2,     0.01,     2.26,2,     0.01,    0.478,6,    0.230,6,    0.029,6, -999.000,9,   -999.0,9,   -999.0,9,-999.0000,     -999,9, -999.000,9, -999.000,   -999.0,9,   -999.0, -999.000,9, -999.000, -999.000,9, -999.000
  49NZ20130106,  S04I,   163,  1,     18, X12J18,2,20130201,1013,-67.5008,  38.0007, 4089,   1579.9,2,   0.4076,2,   0.40754,2,  34.6841,2,  34.6843,2,-999.0000,9,   210.44,2,   210.83,2,  100.012,  -0.0005,2,    0.000,2,  -999.00,9,    0.000,2,   117.72,2,     0.16,    32.78,2,     0.05,     0.00,2,     0.01,     2.28,2,     0.01,    0.438,2,    0.206,2,    0.026,2, -999.000,9,   -999.0,9,   -999.0,9,-999.0000,     -999,9, -999.000,9, -999.000,   -999.0,9,   -999.0, -999.000,9, -999.000, -999.000,9, -999.000
  49NZ20130106,  S04I,   163,  1,     17, X12J17,2,20130201,1013,-67.5008,  38.0007, 4089,   1830.6,2,   0.2868,2,   0.28680,2,  34.6783,2,  34.6783,2,-999.0000,9,   214.03,2,   214.36,2,  100.004,  -0.0002,2,    0.000,2,  -999.00,9,    0.000,2,   119.94,2,     0.17,    32.83,2,     0.05,     0.00,2,     0.01,     2.29,2,     0.01,    0.472,2,    0.224,2,    0.028,2, -999.000,9,   -999.0,9,   -999.0,9,-999.0000,     -999,9, -999.000,9, -999.000,   -999.0,9,   -999.0, -999.000,9, -999.000, -999.000,9, -999.000
  49NZ20130106,  S04I,   163,  1,     16, X12J16,2,20130201,1013,-67.5008,  38.0007, 4089,   2079.0,2,   0.1949,2,   0.19506,2,  34.6745,2,  34.6743,2,-999.0000,9,   217.08,2,   217.71,2,   99.974,   0.0010,2,    0.000,2,  -999.00,9,    0.000,2,   121.45,2,     0.17,    32.82,2,     0.05,     0.00,2,     0.01,     2.28,2,     0.01,    0.475,2,    0.228,2,    0.034,2, -999.000,9,   -999.0,9,   -999.0,9,-999.0000,     -999,9, -999.000,9, -999.000,   -999.0,9,   -999.0, -999.000,9, -999.000, -999.000,9, -999.000
  49NZ20130106,  S04I,   163,  1,     15, X12J15,2,20130201,1013,-67.5008,  38.0007, 4089,   2332.2,2,   0.0982,2,   0.09830,2,  34.6698,2,  34.6700,2,-999.0000,9,   221.86,2,   222.08,2,  100.004,  -0.0002,2,    0.000,2,  -999.00,9,    0.000,2,   121.57,2,     0.17,    32.72,2,     0.05,     0.00,2,     0.01,     2.27,2,     0.01,    0.573,2,    0.280,2,    0.036,2, -999.000,9,   -999.0,9,   -999.0,9,-999.0000,     -999,9, -999.000,9, -999.000,   -999.0,9,   -999.0, -999.000,9, -999.000, -999.000,9, -999.000
  49NZ20130106,  S04I,   163,  1,     14, X12J14,2,20130201,1013,-67.5008,  38.0007, 4089,   2581.3,2,   0.0184,2,   0.01845,2,  34.6660,2,  34.6659,2,-999.0000,9,   225.92,2,   226.06,2,  100.001,  -0.0000,2,    0.000,2,  -999.00,9,    0.000,2,   121.40,2,     0.17,    32.66,2,     0.05,     0.00,2,     0.01,     2.27,2,     0.01,    0.679,2,    0.337,2,    0.046,2, -999.000,9,   -999.0,9,   -999.0,9,-999.0000,     -999,9, -999.000,9, -999.000,   -999.0,9,   -999.0, -999.000,9, -999.000, -999.000,9, -999.000
  49NZ20130106,  S04I,   163,  1,     13, X12J13,2,20130201,1013,-67.5008,  38.0007, 4089,   2831.5,2,  -0.0503,2,  -0.05026,2,  34.6628,2,  34.6626,2,-999.0000,9,   229.59,2,   229.88,2,   99.984,   0.0006,2,    0.000,2,  -999.00,9,    0.000,2,   121.11,2,     0.17,    32.59,2,     0.05,     0.00,2,     0.01,     2.27,2,     0.01,    0.791,2,    0.396,2,    0.058,2, -999.000,9,   -999.0,9,   -999.0,9,-999.0000,     -999,9, -999.000,9, -999.000,   -999.0,9,   -999.0, -999.000,9, -999.000, -999.000,9, -999.000
  49NZ20130106,  S04I,   163,  1,     12, X12J12,2,20130201,1013,-67.5008,  38.0007, 4089,   3081.1,2,  -0.1036,2,  -0.10357,2,  34.6602,2,  34.6600,2,-999.0000,9,   232.89,2,   232.88,2,   99.987,   0.0005,2,    0.000,2,  -999.00,9,    0.000,2,   121.03,2,     0.17,    32.53,2,     0.05,     0.00,2,     0.01,     2.26,2,     0.01,    0.866,2,    0.439,2,    0.062,2, -999.000,9,   -999.0,9,   -999.0,9,-999.0000,     -999,9, -999.000,9, -999.000,   -999.0,9,   -999.0, -999.000,9, -999.000, -999.000,9, -999.000
  49NZ20130106,  S04I,   163,  1,     11, X12J11,2,20130201,1013,-67.5008,  38.0007, 4089,   3329.9,2,  -0.1512,2,  -0.15100,2,  34.6561,2,  34.6561,2,-999.0000,9,   236.25,2,   236.53,2,   99.963,   0.0015,2,    0.000,2,  -999.00,9,    0.000,2,   120.65,2,     0.17,    32.44,2,     0.05,     0.00,2,     0.01,     2.26,2,     0.01,    1.067,2,    0.544,2,    0.078,2, -999.000,9,   -999.0,9,   -999.0,9,-999.0000,     -999,9, -999.000,9, -999.000,   -999.0,9,   -999.0, -999.000,9, -999.000, -999.000,9, -999.000
  49NZ20130106,  S04I,   163,  1,     10, X12J10,2,20130201,1013,-67.5008,  38.0007, 4089,   3580.5,2,  -0.1695,2,  -0.16946,2,  34.6547,2,  34.6548,2,-999.0000,9,   238.17,2,   238.65,2,   99.946,   0.0022,2,    0.000,2,  -999.00,9,    0.000,2,   120.82,2,     0.17,    32.38,2,     0.05,     0.00,2,     0.01,     2.26,2,     0.01,    1.156,2,    0.594,2,    0.084,2, -999.000,9,   -999.0,9,   -999.0,9,-999.0000,     -999,9, -999.000,9, -999.000,   -999.0,9,   -999.0, -999.000,9, -999.000, -999.000,9, -999.000
  49NZ20130106,  S04I,   163,  1,      9, X12J09,2,20130201,1013,-67.5008,  38.0007, 4089,   3830.1,2,  -0.1694,2,  -0.16940,2,  34.6537,2,  34.6531,2,-999.0000,9,   239.35,2,   239.79,2,   99.869,   0.0052,2,    0.000,2,  -999.00,9,    0.000,2,   120.86,2,     0.17,    32.40,2,     0.05,     0.00,2,     0.01,     2.26,2,     0.01,    1.239,2,    0.638,2,    0.100,2, -999.000,9,   -999.0,9,   -999.0,9,-999.0000,     -999,9, -999.000,9, -999.000,   -999.0,9,   -999.0, -999.000,9, -999.000, -999.000,9, -999.000
  49NZ20130106,  S04I,   163,  1,      8, X12J08,2,20130201,1013,-67.5008,  38.0007, 4089,   4080.8,2,  -0.1597,2,  -0.15975,2,  34.6534,2,  34.6535,2,-999.0000,9,   239.97,2,   240.37,2,   99.823,   0.0071,2,    0.000,2,  -999.00,9,    0.000,2,   121.29,2,     0.17,    32.41,2,     0.05,     0.01,2,     0.01,     2.26,2,     0.01,    1.231,6,    0.636,6,    0.094,6, -999.000,9,   -999.0,9,   -999.0,9,-999.0000,     -999,9, -999.000,9, -999.000,   -999.0,9,   -999.0, -999.000,9, -999.000, -999.000,9, -999.000
  49NZ20130106,  S04I,   163,  1,      2, X12J02,2,20130201,1013,-67.5008,  38.0007, 4089,     56.8,2,  -1.4683,2,  -1.46540,2,  34.0584,2,  34.1349,2,-999.0000,9,   325.52,2,   314.74,2,   93.257,   0.2792,2,    0.960,2,     0.61,2,    7.359,2,    59.07,2,     0.11,    27.61,2,     0.04,     0.11,2,     0.01,     1.96,2,     0.01, -999.000,9, -999.000,9, -999.000,9, -999.000,9,   -999.0,9,   -999.0,9,-999.0000,     -999,9, -999.000,9, -999.000,   -999.0,9,   -999.0, -999.000,9, -999.000, -999.000,9, -999.000
  49NZ20130106,  S04I,   163,  1,      1, X12J01,2,20130201,1013,-67.5008,  38.0007, 4089,   4162.7,2,  -0.1900,2,  -0.19026,2,  34.6526,2,  34.6525,2,-999.0000,9,   241.93,2,   242.01,2,   99.754,   0.0099,2,    0.000,2,  -999.00,9,    0.000,2,   120.66,2,     0.17,    32.34,2,     0.05,     0.01,2,     0.01,     2.26,2,     0.01,    1.256,2,    0.651,2,    0.109,2, -999.000,9,   -999.0,9,   -999.0,9,-999.0000,     -999,9, -999.000,9, -999.000,   -999.0,9,   -999.0, -999.000,9, -999.000, -999.000,9, -999.000