BOTTLE,20220819CCHSIOAMB
EXPOCODE,SECT_ID,STNNBR,CASTNO,SAMPNO,BTLNBR,BTLNBR_FLAG_W,DATE,TIME,LATITUDE,LONGITUDE,DEPTH,CTDPRS,CTDPRS_FLAG_W,CTDTMP,CTDTMP_FLAG_W,SBE35,SBE35_FLAG_W,CTDSAL,CTDSAL_FLAG_W,SALNTY,SALNTY_FLAG_W,DNSSAL,DNSSAL_FLAG_W,CTDOXY,CTDOXY_FLAG_W,OXYGEN,OXYGEN_FLAG_W,CTDXMISS,CTDXMISSCP,CTDXMISS_FLAG_W,CTDFLUOR,CTDFLUOR_FLAG_W,CHLORA,CHLORA_FLAG_W,PAR,PAR_FLAG_W,SILCAT,SILCAT_FLAG_W,SILUNC,NITRAT,NITRAT_FLAG_W,NRAUNC,NITRIT,NITRIT_FLAG_W,NRIUNC,PHSPHT,PHSPHT_FLAG_W,PHPUNC,CFC-11,CFC-11_FLAG_W,CFC-12,CFC-12_FLAG_W,CFC113,CFC113_FLAG_W,SF6,SF6_FLAG_W,TCARBN,TCARBN_FLAG_W,ALKALI,ALKALI_FLAG_W,PH_TOT,PH_TMP,PH_TOT_FLAG_W,DELC13,DELC13_FLAG_W,C13ERR,DELC14,DELC14_FLAG_W,C14ERR,CS-134,CS-134_FLAG_W,CS134ER,CS-137,CS-137_FLAG_W,CS137ER
,,,,,,,,UTC,DEG,DEG,METERS,DBAR,,ITS-90,,ITS-90,,PSS-78,,PSS-78,,G/KG,,UMOL/KG,,UMOL/KG,,%TRANS,/METER,,MG/M^3,,MG/CUM,,UE/SQM/S,,UMOL/KG,,UMOL/KG,UMOL/KG,,UMOL/KG,UMOL/KG,,UMOL/KG,UMOL/KG,,UMOL/KG,PMOL/KG,,PMOL/KG,,PMOL/KG,,FMOL/KG,,UMOL/KG,,UMOL/KG,,,DEG C,,/MILLE,,/MILLE,/MILLE,,/MILLE,MBQ/KG,,MBQ/KG,MBQ/KG,,MBQ/KG
  49NZ20130106,  S04I,   134,  1,     36, X12J36,2,20130126,0214,-63.9677,  53.4202, 4345,      5.1,2,   0.2232,2,   0.22384,2,  33.7923,2,  33.7921,2,-999.0000,9,   341.23,2,   340.42,2,   98.911,   0.0438,2,    0.040,2,  -999.00,9,  304.034,2,    42.30,2,     0.10,    25.79,2,     0.04,     0.25,2,     0.01,     1.80,2,     0.01,    5.844,2,    3.191,2,    0.542,2, -999.000,9,   -999.0,9,   -999.0,9,-999.0000,     -999,9, -999.000,9, -999.000,   -999.0,9,   -999.0, -999.000,9, -999.000, -999.000,9, -999.000
  49NZ20130106,  S04I,   134,  1,     35, X12J35,2,20130126,0214,-63.9677,  53.4202, 4345,     24.5,2,   0.1706,2,   0.17379,2,  33.7936,2,  33.7939,2,-999.0000,9,   341.85,2,   341.20,2,   98.847,   0.0464,2,    0.110,2,  -999.00,9,   79.905,2,    42.32,2,     0.10,    25.84,2,     0.04,     0.25,2,     0.01,     1.81,2,     0.01,    5.844,2,    3.190,2,    0.556,2, -999.000,9,   -999.0,9,   -999.0,9,-999.0000,     -999,9, -999.000,9, -999.000,   -999.0,9,   -999.0, -999.000,9, -999.000, -999.000,9, -999.000
  49NZ20130106,  S04I,   134,  1,     34, X12J34,2,20130126,0214,-63.9677,  53.4202, 4345,     49.4,2,  -0.0987,2,  -0.09251,2,  33.8737,2,  33.8485,2,-999.0000,9,   332.58,2,   335.59,2,   98.809,   0.0479,2,    0.170,2,  -999.00,9,   25.334,2,    43.96,2,     0.10,    26.29,2,     0.04,     0.22,2,     0.01,     1.85,2,     0.01,    5.671,6,    3.093,6,    0.526,6, -999.000,9,   -999.0,9,   -999.0,9,-999.0000,     -999,9, -999.000,9, -999.000,   -999.0,9,   -999.0, -999.000,9, -999.000, -999.000,9, -999.000
  49NZ20130106,  S04I,   134,  1,     33, X12J33,2,20130126,0214,-63.9677,  53.4202, 4345,     74.4,2,   0.7092,2,   0.70877,2,  34.4391,2,  34.4414,2,-999.0000,9,   218.82,2,   220.11,2,   98.212,   0.0722,2,    0.380,2,  -999.00,9,    8.914,2,    73.41,2,     0.12,    32.98,2,     0.05,     0.06,2,     0.01,     2.28,2,     0.01,    2.409,2,    1.294,2,    0.211,2, -999.000,9,   -999.0,9,   -999.0,9,-999.0000,     -999,9, -999.000,9, -999.000,   -999.0,9,   -999.0, -999.000,9, -999.000, -999.000,9, -999.000
  49NZ20130106,  S04I,   134,  1,     32, X12J32,2,20130126,0214,-63.9677,  53.4202, 4345,     99.4,2,   1.3327,2,   1.33472,2,  34.5488,2,  34.5447,2,-999.0000,9,   189.71,2,   190.03,2,   99.094,   0.0364,2,    0.230,2,  -999.00,9,    2.352,2,    81.07,2,     0.13,    34.41,2,     0.05,     0.05,2,     0.01,     2.38,2,     0.01,    1.546,2,    0.821,2,    0.134,2, -999.000,9,   -999.0,9,   -999.0,9,-999.0000,     -999,9, -999.000,9, -999.000,   -999.0,9,   -999.0, -999.000,9, -999.000, -999.000,9, -999.000
  49NZ20130106,  S04I,   134,  1,     31, X12J31,2,20130126,0214,-63.9677,  53.4202, 4345,    125.2,2,   1.4411,2,   1.43917,2,  34.5818,2,  34.5795,2,-999.0000,9,   184.48,2,   184.25,2,   99.500,   0.0201,2,    0.150,2,  -999.00,9,    0.723,2,    83.33,2,     0.13,    34.48,2,     0.05,     0.06,2,     0.01,     2.38,2,     0.01,    1.288,2,    0.681,2,    0.109,2, -999.000,9,   -999.0,9,   -999.0,9,-999.0000,     -999,9, -999.000,9, -999.000,   -999.0,9,   -999.0, -999.000,9, -999.000, -999.000,9, -999.000
  49NZ20130106,  S04I,   134,  1,     30, X12J30,2,20130126,0214,-63.9677,  53.4202, 4345,    149.6,2,   1.5517,2,   1.55157,2,  34.6116,2,  34.6113,2,-999.0000,9,   180.80,2,   180.39,2,   99.689,   0.0125,2,    0.060,2,  -999.00,9,    0.283,2,    84.65,2,     0.13,    34.29,2,     0.05,     0.03,2,     0.01,     2.36,2,     0.01,    1.053,2,    0.550,2,    0.090,2, -999.000,9,   -999.0,9,   -999.0,9,-999.0000,     -999,9, -999.000,9, -999.000,   -999.0,9,   -999.0, -999.000,9, -999.000, -999.000,9, -999.000
  49NZ20130106,  S04I,   134,  1,     29, X12J29,2,20130126,0214,-63.9677,  53.4202, 4345,    198.9,2,   1.5637,2,   1.56397,2,  34.6386,2,  34.6378,2,-999.0000,9,   181.49,2,   181.14,2,   99.806,   0.0078,2,    0.010,2,  -999.00,9,    0.030,2,    86.38,2,     0.14,    33.94,2,     0.05,     0.01,2,     0.01,     2.34,2,     0.01,    0.907,2,    0.471,2,    0.076,2, -999.000,9,   -999.0,9,   -999.0,9,-999.0000,     -999,9, -999.000,9, -999.000,   -999.0,9,   -999.0, -999.000,9, -999.000, -999.000,9, -999.000
  49NZ20130106,  S04I,   134,  1,     28, X12J28,2,20130126,0214,-63.9677,  53.4202, 4345,    250.4,2,   1.6221,2,   1.62238,2,  34.6708,2,  34.6707,2,-999.0000,9,   182.81,2,   182.51,2,   99.848,   0.0061,2,    0.000,2,  -999.00,9,    0.000,2,    87.24,2,     0.14,    33.24,2,     0.05,     0.01,2,     0.01,     2.29,2,     0.01,    0.693,2,    0.356,2,    0.054,2, -999.000,9,   -999.0,9,   -999.0,9,-999.0000,     -999,9, -999.000,9, -999.000,   -999.0,9,   -999.0, -999.000,9, -999.000, -999.000,9, -999.000
  49NZ20130106,  S04I,   134,  1,     27, X12J27,2,20130126,0214,-63.9677,  53.4202, 4345,    280.8,2,   1.6129,2,   1.61292,2,  34.6834,2,  34.6834,2,-999.0000,9,   184.58,2,   184.06,2,   99.876,   0.0050,2,    0.000,2,  -999.00,9,    0.000,2,    87.88,2,     0.14,    32.88,2,     0.05,     0.01,2,     0.01,     2.27,2,     0.01,    0.625,2,    0.320,2,    0.041,2, -999.000,9,   -999.0,9,   -999.0,9,-999.0000,     -999,9, -999.000,9, -999.000,   -999.0,9,   -999.0, -999.000,9, -999.000, -999.000,9, -999.000
  49NZ20130106,  S04I,   134,  1,     26, X12J26,2,20130126,0214,-63.9677,  53.4202, 4345,    368.7,2,   1.5740,2,   1.57445,2,  34.6995,2,  34.6995,2,-999.0000,9,   187.98,2,   187.57,2,   99.897,   0.0041,2,    0.000,2,  -999.00,9,    0.000,2,    88.84,2,     0.14,    32.34,2,     0.05,     0.00,2,     0.01,     2.23,2,     0.01,    0.550,2,    0.278,2,    0.045,2, -999.000,9,   -999.0,9,   -999.0,9,-999.0000,     -999,9, -999.000,9, -999.000,   -999.0,9,   -999.0, -999.000,9, -999.000, -999.000,9, -999.000
  49NZ20130106,  S04I,   134,  1,     25, X12J25,2,20130126,0214,-63.9677,  53.4202, 4345,    470.4,2,   1.5021,2,   1.50243,2,  34.7140,2,  34.7141,2,-999.0000,9,   192.32,2,   191.97,2,   99.937,   0.0025,2,    0.000,2,  -999.00,9,    0.000,2,    90.58,2,     0.14,    31.84,2,     0.04,     0.00,2,     0.01,     2.19,2,     0.01, -999.000,5, -999.000,5, -999.000,5, -999.000,9,   -999.0,9,   -999.0,9,-999.0000,     -999,9, -999.000,9, -999.000,   -999.0,9,   -999.0, -999.000,9, -999.000, -999.000,9, -999.000
  49NZ20130106,  S04I,   134,  1,     24, X12J24,2,20130126,0214,-63.9677,  53.4202, 4345,    569.8,2,   1.4150,2,   1.41486,2,  34.7193,2,  34.7202,2,-999.0000,9,   195.36,2,   195.24,2,   99.901,   0.0040,2,    0.000,2,  -999.00,9,    0.000,2,    92.76,2,     0.14,    31.63,2,     0.04,     0.00,2,     0.01,     2.17,2,     0.01,    0.454,6,    0.207,6,    0.031,6, -999.000,9,   -999.0,9,   -999.0,9,-999.0000,     -999,9, -999.000,9, -999.000,   -999.0,9,   -999.0, -999.000,9, -999.000, -999.000,9, -999.000
  49NZ20130106,  S04I,   134,  1,     23, X12J23,2,20130126,0214,-63.9677,  53.4202, 4345,    669.6,2,   1.3043,2,   1.30461,2,  34.7211,2,  34.7213,2,-999.0000,9,   198.01,2,   197.93,2,   99.950,   0.0020,2,    0.000,2,  -999.00,9,    0.000,2,    95.47,2,     0.14,    31.54,2,     0.04,     0.00,2,     0.01,     2.17,2,     0.01,    0.391,2,    0.189,2,    0.029,2, -999.000,9,   -999.0,9,   -999.0,9,-999.0000,     -999,9, -999.000,9, -999.000,   -999.0,9,   -999.0, -999.000,9, -999.000, -999.000,9, -999.000
  49NZ20130106,  S04I,   134,  1,     22, X12J22,2,20130126,0214,-63.9677,  53.4202, 4345,    769.6,2,   1.2006,2,   1.20081,2,  34.7197,2,  34.7198,2,-999.0000,9,   200.01,2,   199.67,2,   99.871,   0.0052,2,   -0.000,2,  -999.00,9,    0.000,2,    98.19,2,     0.15,    31.59,2,     0.04,     0.00,2,     0.01,     2.18,2,     0.01,    0.375,2,    0.182,2,    0.025,2, -999.000,9,   -999.0,9,   -999.0,9,-999.0000,     -999,9, -999.000,9, -999.000,   -999.0,9,   -999.0, -999.000,9, -999.000, -999.000,9, -999.000
  49NZ20130106,  S04I,   134,  1,     21, X12J21,2,20130126,0214,-63.9677,  53.4202, 4345,    868.0,2,   1.1093,2,   1.10965,2,  34.7168,2,  34.7175,2,-999.0000,9,   201.32,2,   201.02,2,   99.971,   0.0012,2,    0.000,2,  -999.00,9,    0.000,2,   100.58,2,     0.15,    31.72,2,     0.04,     0.00,2,     0.01,     2.19,2,     0.01,    0.371,2,    0.179,2,    0.026,2, -999.000,9,   -999.0,9,   -999.0,9,-999.0000,     -999,9, -999.000,9, -999.000,   -999.0,9,   -999.0, -999.000,9, -999.000, -999.000,9, -999.000
  49NZ20130106,  S04I,   134,  1,     20, X12J20,2,20130126,0214,-63.9677,  53.4202, 4345,    957.4,2,   1.0079,2,   1.00783,2,  34.7125,2,  34.7129,2,-999.0000,9,   202.31,2,   201.94,2,   99.963,   0.0015,2,    0.000,2,  -999.00,9,    0.000,2,   103.29,2,     0.15,    31.92,2,     0.04,     0.00,2,     0.01,     2.20,2,     0.01,    0.376,2,    0.183,2,    0.032,2, -999.000,9,   -999.0,9,   -999.0,9,-999.0000,     -999,9, -999.000,9, -999.000,   -999.0,9,   -999.0, -999.000,9, -999.000, -999.000,9, -999.000
  49NZ20130106,  S04I,   134,  1,     19, X12J19,2,20130126,0214,-63.9677,  53.4202, 4345,   1171.2,2,   0.8385,2,   0.83873,2,  34.7050,2,  34.7055,2,-999.0000,9,   204.01,2,   203.82,2,   99.954,   0.0018,2,   -0.000,2,  -999.00,9,    0.000,2,   108.07,2,     0.16,    32.24,2,     0.05,     0.00,2,     0.01,     2.22,2,     0.01,    0.380,6,    0.184,6,    0.026,6, -999.000,9,   -999.0,9,   -999.0,9,-999.0000,     -999,9, -999.000,9, -999.000,   -999.0,9,   -999.0, -999.000,9, -999.000, -999.000,9, -999.000
  49NZ20130106,  S04I,   134,  1,     18, X12J18,2,20130126,0214,-63.9677,  53.4202, 4345,   1420.7,2,   0.6852,2,   0.68497,2,  34.6982,2,  34.6985,2,-999.0000,9,   205.34,2,   205.13,2,   99.976,   0.0010,2,   -0.000,2,  -999.00,9,    0.000,2,   112.83,2,     0.16,    32.53,2,     0.05,     0.00,2,     0.01,     2.24,2,     0.01,    0.345,2,    0.175,2,    0.020,2, -999.000,9,   -999.0,9,   -999.0,9,-999.0000,     -999,9, -999.000,9, -999.000,   -999.0,9,   -999.0, -999.000,9, -999.000, -999.000,9, -999.000
  49NZ20130106,  S04I,   134,  1,     17, X12J17,2,20130126,0214,-63.9677,  53.4202, 4345,   1669.7,2,   0.5513,2,   0.55132,2,  34.6921,2,  34.6925,2,-999.0000,9,   206.79,2,   206.66,2,   99.888,   0.0045,2,   -0.000,2,  -999.00,9,    0.000,2,   117.12,2,     0.16,    32.82,2,     0.05,     0.00,2,     0.01,     2.27,2,     0.01,    0.328,2,    0.165,2,    0.026,2, -999.000,9,   -999.0,9,   -999.0,9,-999.0000,     -999,9, -999.000,9, -999.000,   -999.0,9,   -999.0, -999.000,9, -999.000, -999.000,9, -999.000
  49NZ20130106,  S04I,   134,  1,     16, X12J16,2,20130126,0214,-63.9677,  53.4202, 4345,   1922.1,2,   0.4360,2,   0.43610,2,  34.6866,2,  34.6869,2,-999.0000,9,   209.20,2,   209.03,2,   99.971,   0.0012,2,   -0.000,2,  -999.00,9,    0.000,2,   120.45,2,     0.17,    32.98,2,     0.05,     0.00,2,     0.01,     2.28,2,     0.01,    0.334,2,    0.154,2,    0.025,2, -999.000,9,   -999.0,9,   -999.0,9,-999.0000,     -999,9, -999.000,9, -999.000,   -999.0,9,   -999.0, -999.000,9, -999.000, -999.000,9, -999.000
  49NZ20130106,  S04I,   134,  1,     15, X12J15,2,20130126,0214,-63.9677,  53.4202, 4345,   2170.9,2,   0.3309,2,   0.33141,2,  34.6810,2,  34.6812,2,-999.0000,9,   212.41,2,   212.28,2,   99.961,   0.0016,2,   -0.000,2,  -999.00,9,    0.000,2,   121.86,2,     0.17,    33.00,2,     0.05,     0.00,2,     0.01,     2.27,2,     0.01,    0.365,2,    0.169,2,    0.025,2, -999.000,9,   -999.0,9,   -999.0,9,-999.0000,     -999,9, -999.000,9, -999.000,   -999.0,9,   -999.0, -999.000,9, -999.000, -999.000,9, -999.000
  49NZ20130106,  S04I,   134,  1,     14, X12J14,2,20130126,0214,-63.9677,  53.4202, 4345,   2421.7,2,   0.2091,2,   0.20716,2,  34.6728,2,  34.6732,2,-999.0000,9,   218.05,2,   218.16,2,   99.984,   0.0006,2,   -0.010,2,  -999.00,9,    0.000,2,   120.97,2,     0.17,    32.85,2,     0.05,     0.00,2,     0.01,     2.27,2,     0.01,    0.521,2,    0.258,2,    0.025,2, -999.000,9,   -999.0,9,   -999.0,9,-999.0000,     -999,9, -999.000,9, -999.000,   -999.0,9,   -999.0, -999.000,9, -999.000, -999.000,9, -999.000
  49NZ20130106,  S04I,   134,  1,     13, X12J13,2,20130126,0214,-63.9677,  53.4202, 4345,   2670.0,2,   0.1035,2,   0.10388,2,  34.6661,2,  34.6662,2,-999.0000,9,   224.04,2,   224.04,2,   99.959,   0.0016,2,   -0.010,2,  -999.00,9,    0.000,2,   119.96,2,     0.17,    32.75,2,     0.05,     0.00,2,     0.01,     2.26,2,     0.01,    0.708,2,    0.357,2,    0.037,2, -999.000,9,   -999.0,9,   -999.0,9,-999.0000,     -999,9, -999.000,9, -999.000,   -999.0,9,   -999.0, -999.000,9, -999.000, -999.000,9, -999.000
  49NZ20130106,  S04I,   134,  1,     12, X12J12,2,20130126,0214,-63.9677,  53.4202, 4345,   2921.4,2,   0.0514,2,   0.05142,2,  34.6662,2,  34.6662,2,-999.0000,9,   226.76,2,   226.67,2,   99.954,   0.0018,2,   -0.000,2,  -999.00,9,    0.000,2,   120.74,2,     0.17,    32.69,2,     0.05,     0.00,2,     0.01,     2.26,2,     0.01,    0.748,2,    0.382,2,    0.050,2, -999.000,9,   -999.0,9,   -999.0,9,-999.0000,     -999,9, -999.000,9, -999.000,   -999.0,9,   -999.0, -999.000,9, -999.000, -999.000,9, -999.000
  49NZ20130106,  S04I,   134,  1,     11, X12J11,2,20130126,0214,-63.9677,  53.4202, 4345,   3169.9,2,  -0.0398,2,  -0.04000,2,  34.6630,2,  34.6626,2,-999.0000,9,   230.11,2,   229.84,2,   99.967,   0.0013,2,   -0.010,2,  -999.00,9,    0.000,2,   122.91,2,     0.17,    32.77,2,     0.05,     0.00,2,     0.01,     2.27,2,     0.01,    0.684,2,    0.342,2,    0.048,2, -999.000,9,   -999.0,9,   -999.0,9,-999.0000,     -999,9, -999.000,9, -999.000,   -999.0,9,   -999.0, -999.000,9, -999.000, -999.000,9, -999.000
  49NZ20130106,  S04I,   134,  1,     10, X12J10,2,20130126,0214,-63.9677,  53.4202, 4345,   3422.2,2,  -0.1077,2,  -0.10787,2,  34.6588,2,  34.6587,2,-999.0000,9,   236.85,2,   236.63,2,   99.925,   0.0030,2,   -0.010,2,  -999.00,9,    0.000,2,   116.78,2,     0.16,    32.46,2,     0.05,     0.00,2,     0.01,     2.24,2,     0.01,    0.895,2,    0.463,2,    0.059,2, -999.000,9,   -999.0,9,   -999.0,9,-999.0000,     -999,9, -999.000,9, -999.000,   -999.0,9,   -999.0, -999.000,9, -999.000, -999.000,9, -999.000
  49NZ20130106,  S04I,   134,  1,      9, X12J09,2,20130126,0214,-63.9677,  53.4202, 4345,   3670.7,2,  -0.1611,2,  -0.16123,2,  34.6564,2,  34.6565,2,-999.0000,9,   238.81,2,   238.52,2,   99.916,   0.0034,2,   -0.010,2,  -999.00,9,    0.000,2,   119.79,2,     0.17,    32.47,2,     0.05,     0.00,2,     0.01,     2.25,2,     0.01,    1.069,2,    0.555,2,    0.073,2, -999.000,9,   -999.0,9,   -999.0,9,-999.0000,     -999,9, -999.000,9, -999.000,   -999.0,9,   -999.0, -999.000,9, -999.000, -999.000,9, -999.000
  49NZ20130106,  S04I,   134,  1,      8, X12J08,2,20130126,0214,-63.9677,  53.4202, 4345,   3919.2,2,  -0.2368,2,  -0.23681,2,  34.6518,2,  34.6519,2,-999.0000,9,   244.51,2,   244.06,2,   99.816,   0.0074,2,   -0.010,2,  -999.00,9,    0.000,2,   117.86,2,     0.16,    32.35,2,     0.05,     0.00,2,     0.01,     2.24,2,     0.01,    1.341,6,    0.711,6,    0.103,6, -999.000,9,   -999.0,9,   -999.0,9,-999.0000,     -999,9, -999.000,9, -999.000,   -999.0,9,   -999.0, -999.000,9, -999.000, -999.000,9, -999.000
  49NZ20130106,  S04I,   134,  1,      7, X12J07,2,20130126,0214,-63.9677,  53.4202, 4345,   4170.1,2,  -0.2967,2,  -0.29690,2,  34.6488,2,  34.6487,2,-999.0000,9,   248.72,2,   248.20,2,   99.859,   0.0056,2,   -0.010,2,  -999.00,9,    0.000,2,   116.86,2,     0.16,    32.24,2,     0.05,     0.00,2,     0.01,     2.24,2,     0.01,    1.536,2,    0.817,2,    0.128,2, -999.000,9,   -999.0,9,   -999.0,9,-999.0000,     -999,9, -999.000,9, -999.000,   -999.0,9,   -999.0, -999.000,9, -999.000, -999.000,9, -999.000
  49NZ20130106,  S04I,   134,  1,      1, X12J01,2,20130126,0214,-63.9677,  53.4202, 4345,   4419.5,2,  -0.3844,2,  -0.38439,2,  34.6438,2,  34.6442,2,-999.0000,9,   259.62,2,   259.15,2,   99.670,   0.0132,2,   -0.010,2,  -999.00,9,    0.000,2,    98.90,2,     0.15,    31.73,2,     0.04,     0.02,2,     0.01,     2.20,2,     0.01,    2.566,2,    1.382,2,    0.224,2, -999.000,9,   -999.0,9,   -999.0,9,-999.0000,     -999,9, -999.000,9, -999.000,   -999.0,9,   -999.0, -999.000,9, -999.000, -999.000,9, -999.000