BOTTLE,20220819CCHSIOAMB
EXPOCODE,SECT_ID,STNNBR,CASTNO,SAMPNO,BTLNBR,BTLNBR_FLAG_W,DATE,TIME,LATITUDE,LONGITUDE,DEPTH,CTDPRS,CTDPRS_FLAG_W,CTDTMP,CTDTMP_FLAG_W,SBE35,SBE35_FLAG_W,CTDSAL,CTDSAL_FLAG_W,SALNTY,SALNTY_FLAG_W,DNSSAL,DNSSAL_FLAG_W,CTDOXY,CTDOXY_FLAG_W,OXYGEN,OXYGEN_FLAG_W,CTDXMISS,CTDXMISSCP,CTDXMISS_FLAG_W,CTDFLUOR,CTDFLUOR_FLAG_W,CHLORA,CHLORA_FLAG_W,PAR,PAR_FLAG_W,SILCAT,SILCAT_FLAG_W,SILUNC,NITRAT,NITRAT_FLAG_W,NRAUNC,NITRIT,NITRIT_FLAG_W,NRIUNC,PHSPHT,PHSPHT_FLAG_W,PHPUNC,CFC-11,CFC-11_FLAG_W,CFC-12,CFC-12_FLAG_W,CFC113,CFC113_FLAG_W,SF6,SF6_FLAG_W,TCARBN,TCARBN_FLAG_W,ALKALI,ALKALI_FLAG_W,PH_TOT,PH_TMP,PH_TOT_FLAG_W,DELC13,DELC13_FLAG_W,C13ERR,DELC14,DELC14_FLAG_W,C14ERR,CS-134,CS-134_FLAG_W,CS134ER,CS-137,CS-137_FLAG_W,CS137ER
,,,,,,,,UTC,DEG,DEG,METERS,DBAR,,ITS-90,,ITS-90,,PSS-78,,PSS-78,,G/KG,,UMOL/KG,,UMOL/KG,,%TRANS,/METER,,MG/M^3,,MG/CUM,,UE/SQM/S,,UMOL/KG,,UMOL/KG,UMOL/KG,,UMOL/KG,UMOL/KG,,UMOL/KG,UMOL/KG,,UMOL/KG,PMOL/KG,,PMOL/KG,,PMOL/KG,,FMOL/KG,,UMOL/KG,,UMOL/KG,,,DEG C,,/MILLE,,/MILLE,/MILLE,,/MILLE,MBQ/KG,,MBQ/KG,MBQ/KG,,MBQ/KG
  49NZ20130106,  S04I,   113,  1,     36, X12J36,2,20130119,0422,-61.4155,  80.4898, 2438,     11.2,2,   1.5174,2,   1.52519,2,  33.7651,2,  33.7661,2,-999.0000,9,   345.20,2,   345.07,2,   92.767,   0.3003,2,    0.210,2,  -999.00,9,  251.634,2,    42.72,2,     0.10,    26.70,2,     0.04,     0.25,2,     0.01,     1.79,2,     0.01,    5.653,2,    3.100,2,    0.615,2,    2.751,2,   2153.3,2,   2283.6,2,   7.6949,       25,6, -999.000,1, -999.000,   -999.0,1,   -999.0, -999.000,9, -999.000, -999.000,9, -999.000
  49NZ20130106,  S04I,   113,  1,     35, X12J35,2,20130119,0422,-61.4155,  80.4898, 2438,     26.7,2,   0.3596,2,   0.38395,2,  33.8412,2,  33.8069,2,-999.0000,9,   353.45,2,   350.90,2,   90.906,   0.3814,2,    1.010,2,  -999.00,9,   53.891,2,    43.54,2,     0.10,    27.05,2,     0.04,     0.21,2,     0.01,     1.83,2,     0.01,    5.652,2,    3.094,2,    0.615,2,    2.755,2,   2159.0,2,   2287.9,2,   7.6881,       25,2, -999.000,1, -999.000,   -999.0,1,   -999.0, -999.000,9, -999.000, -999.000,9, -999.000
  49NZ20130106,  S04I,   113,  1,     34, X12J34,2,20130119,0422,-61.4155,  80.4898, 2438,     51.6,2,  -0.9348,2,  -0.91950,2,  33.9773,2,  33.9732,2,-999.0000,9,   334.68,2,   332.78,2,   92.061,   0.3309,2,    1.380,2,  -999.00,9,    3.387,2,    47.60,2,     0.10,    28.73,2,     0.04,     0.16,2,     0.01,     1.97,2,     0.01,    5.023,6,    2.781,6,    0.541,6,    2.358,6,   2179.2,2,   2297.1,2,   7.6556,       25,2, -999.000,1, -999.000,   -999.0,1,   -999.0, -999.000,9, -999.000, -999.000,9, -999.000
  49NZ20130106,  S04I,   113,  1,     33, X12J33,2,20130119,0422,-61.4155,  80.4898, 2438,     75.2,2,  -1.3266,2,  -1.32825,2,  34.1042,2,  34.1001,2,-999.0000,9,   293.42,2,   295.76,2,   97.704,   0.0929,2,    0.490,2,  -999.00,9,    0.483,2,    54.55,2,     0.11,    30.90,2,     0.04,     0.17,2,     0.01,     2.15,2,     0.01,    4.269,2,    2.376,2,    0.444,2,    2.046,2,   2203.2,6,   2303.6,2,   7.6077,       25,2, -999.000,1, -999.000,   -999.0,1,   -999.0, -999.000,9, -999.000, -999.000,9, -999.000
  49NZ20130106,  S04I,   113,  1,     32, X12J32,2,20130119,0422,-61.4155,  80.4898, 2438,    101.0,2,  -1.0688,2,  -1.07082,2,  34.1747,2,  34.1733,2,-999.0000,9,   275.26,2,   275.51,2,   98.927,   0.0432,2,    0.300,2,  -999.00,9,    0.093,2,    58.37,2,     0.11,    31.84,2,     0.04,     0.18,2,     0.01,     2.22,2,     0.01,    3.855,2,    2.132,2,    0.404,2,    1.706,2,   2214.5,2,   2307.1,6,   7.5896,       25,2, -999.000,1, -999.000,   -999.0,1,   -999.0, -999.000,9, -999.000, -999.000,9, -999.000
  49NZ20130106,  S04I,   113,  1,     31, X12J31,2,20130119,0422,-61.4155,  80.4898, 2438,    126.3,2,  -0.0135,2,  -0.02206,2,  34.3222,2,  34.3121,2,-999.0000,9,   235.04,2,   238.14,2,   99.516,   0.0194,2,    0.110,2,  -999.00,9,    0.001,2,    65.92,2,     0.12,    33.30,2,     0.05,     0.06,2,     0.01,     2.30,2,     0.01,    2.942,2,    1.558,2,    0.294,2,    1.235,2,   2233.2,2,   2316.0,2,   7.5649,       25,2, -999.000,1, -999.000,   -999.0,1,   -999.0, -999.000,9, -999.000, -999.000,9, -999.000
  49NZ20130106,  S04I,   113,  1,     30, X12J30,2,20130119,0422,-61.4155,  80.4898, 2438,    148.8,2,   0.7309,2,   0.72707,2,  34.4273,2,  34.4267,2,-999.0000,9,   209.83,2,   209.90,2,   99.647,   0.0141,2,    0.060,2,  -999.00,9,    0.000,2,    71.89,2,     0.12,    34.08,2,     0.05,     0.02,2,     0.01,     2.34,2,     0.01,    2.204,2,    1.115,2,    0.203,2,    0.855,2,   2245.1,2,   2322.5,2,   7.5502,       25,6, -999.000,1, -999.000,   -999.0,1,   -999.0, -999.000,9, -999.000, -999.000,9, -999.000
  49NZ20130106,  S04I,   113,  1,     29, X12J29,2,20130119,0422,-61.4155,  80.4898, 2438,    199.8,2,   1.8044,2,   1.80366,2,  34.6132,2,  34.6106,2,-999.0000,9,   175.21,2,   175.41,2,   99.624,   0.0151,2,    0.010,2,  -999.00,9,    0.000,2,    81.19,2,     0.13,    34.30,2,     0.05,     0.01,2,     0.01,     2.35,2,     0.01,    0.817,2,    0.434,2,    0.074,2,    0.269,2,   2261.2,2,   2334.4,2,   7.5434,       25,2, -999.000,1, -999.000,   -999.0,1,   -999.0, -999.000,9, -999.000, -999.000,9, -999.000
  49NZ20130106,  S04I,   113,  1,     28, X12J28,2,20130119,0422,-61.4155,  80.4898, 2438,    249.9,2,   1.9283,2,   1.92807,2,  34.6594,2,  34.6583,2,-999.0000,9,   173.96,2,   173.99,2,   99.787,   0.0085,2,    0.010,2,  -999.00,9,    0.000,2,    82.62,2,     0.13,    33.68,2,     0.05,     0.01,2,     0.01,     2.32,2,     0.01,    0.585,2,    0.294,2,    0.047,2,    0.137,2,   2259.7,2,   2338.7,2,   7.5523,       25,2, -999.000,1, -999.000,   -999.0,1,   -999.0, -999.000,9, -999.000, -999.000,9, -999.000
  49NZ20130106,  S04I,   113,  1,     27, X12J27,2,20130119,0422,-61.4155,  80.4898, 2438,    281.0,2,   1.9413,2,   1.94104,2,  34.6715,2,  34.6704,2,-999.0000,9,   174.84,2,   174.86,2,   99.813,   0.0075,2,    0.000,2,  -999.00,9,    0.000,2,    82.79,2,     0.13,    33.35,2,     0.05,     0.01,2,     0.01,     2.30,2,     0.01,    0.513,2,    0.268,2,    0.041,2,    0.150,2,   2259.3,2,   2339.5,2,   7.5566,       25,2, -999.000,1, -999.000,   -999.0,1,   -999.0, -999.000,9, -999.000, -999.000,9, -999.000
  49NZ20130106,  S04I,   113,  1,     26, X12J26,2,20130119,0422,-61.4155,  80.4898, 2438,    370.7,2,   1.9348,2,   1.93454,2,  34.7017,2,  34.7007,2,-999.0000,9,   179.70,2,   179.58,2,   99.902,   0.0039,2,    0.000,2,  -999.00,9,    0.000,2,    83.14,2,     0.13,    32.53,2,     0.05,     0.01,2,     0.01,     2.25,2,     0.01,    0.379,2,    0.204,2,    0.029,2,    0.136,2,   2254.5,3,   2341.1,2,   7.5721,       25,2, -999.000,1, -999.000,   -999.0,1,   -999.0, -999.000,9, -999.000, -999.000,9, -999.000
  49NZ20130106,  S04I,   113,  1,     25, X12J25,2,20130119,0422,-61.4155,  80.4898, 2438,    470.4,2,   1.8904,2,   1.89018,2,  34.7205,2,  34.7200,2,-999.0000,9,   184.18,2,   184.23,2,   99.921,   0.0032,2,    0.000,2,  -999.00,9,    0.000,2,    83.78,2,     0.13,    31.87,2,     0.04,     0.00,2,     0.01,     2.20,2,     0.01,    0.318,2,    0.168,2,    0.027,2,    0.083,2,   2254.0,2,   2343.8,2,   7.5838,       25,2, -999.000,1, -999.000,   -999.0,1,   -999.0, -999.000,9, -999.000, -999.000,9, -999.000
  49NZ20130106,  S04I,   113,  1,     24, X12J24,2,20130119,0422,-61.4155,  80.4898, 2438,    573.6,2,   1.8345,2,   1.83469,2,  34.7316,2,  34.7315,2,-999.0000,9,   188.02,2,   188.01,2,   99.938,   0.0025,2,    0.000,2,  -999.00,9,    0.000,2,    84.41,2,     0.13,    31.36,2,     0.04,     0.01,2,     0.01,     2.16,2,     0.01,    0.277,6,    0.147,6,    0.021,6,    0.051,6,   2250.1,2,   2345.1,2,   7.5913,       25,2, -999.000,1, -999.000,   -999.0,1,   -999.0, -999.000,9, -999.000, -999.000,9, -999.000
  49NZ20130106,  S04I,   113,  1,     23, X12J23,2,20130119,0422,-61.4155,  80.4898, 2438,    668.9,2,   1.7674,2,   1.76757,2,  34.7385,2,  34.7386,2,-999.0000,9,   191.55,2,   191.58,2,   99.936,   0.0026,2,    0.000,2,  -999.00,9,    0.000,2,    85.44,2,     0.14,    31.04,2,     0.04,     0.01,2,     0.01,     2.14,2,     0.01,    0.249,2,    0.129,2,    0.018,2,    0.034,2,   2249.0,6,   2344.9,3,   7.5979,       25,2, -999.000,1, -999.000,   -999.0,1,   -999.0, -999.000,9, -999.000, -999.000,9, -999.000
  49NZ20130106,  S04I,   113,  1,     22, X12J22,2,20130119,0422,-61.4155,  80.4898, 2438,    771.4,2,   1.6963,2,   1.69669,2,  34.7431,2,  34.7431,2,-999.0000,9,   194.21,2,   194.30,2,   99.978,   0.0009,2,    0.000,2,  -999.00,9,    0.000,2,    86.90,2,     0.14,    30.82,2,     0.04,     0.01,2,     0.01,     2.13,2,     0.01,    0.226,2,    0.114,2,    0.017,2,    0.000,2,   2248.7,2,   2347.2,6,   7.6032,       25,2, -999.000,1, -999.000,   -999.0,1,   -999.0, -999.000,9, -999.000, -999.000,9, -999.000
  49NZ20130106,  S04I,   113,  1,     21, X12J21,2,20130119,0422,-61.4155,  80.4898, 2438,    870.6,2,   1.6052,2,   1.60536,2,  34.7447,2,  34.7446,2,-999.0000,9,   197.11,2,   197.18,2,   99.959,   0.0016,2,    0.000,2,  -999.00,9,    0.000,2,    88.55,2,     0.14,    30.68,2,     0.04,     0.00,2,     0.01,     2.12,2,     0.01,    0.209,2,    0.110,2,    0.015,2,    0.071,2,   2249.0,2,   2348.8,2,   7.6074,       25,2, -999.000,1, -999.000,   -999.0,1,   -999.0, -999.000,9, -999.000, -999.000,9, -999.000
  49NZ20130106,  S04I,   113,  1,     20, X12J20,2,20130119,0422,-61.4155,  80.4898, 2438,    957.9,2,   1.5376,2,   1.53742,2,  34.7440,2,  34.7441,2,-999.0000,9,   198.71,2,   198.84,2,   99.974,   0.0010,2,   -0.000,2,  -999.00,9,    0.000,2,    89.99,2,     0.14,    30.56,2,     0.04,     0.00,2,     0.01,     2.12,2,     0.01,    0.204,2,    0.105,2,    0.014,2,    0.082,2,   2247.3,2,   2348.9,2,   7.6096,       25,2, -999.000,1, -999.000,   -999.0,1,   -999.0, -999.000,9, -999.000, -999.000,9, -999.000
  49NZ20130106,  S04I,   113,  1,     19, X12J19,2,20130119,0422,-61.4155,  80.4898, 2438,   1171.0,2,   1.3519,2,   1.35251,2,  34.7388,2,  34.7392,2,-999.0000,9,   201.99,2,   202.32,2,   99.970,   0.0012,2,   -0.000,2,  -999.00,9,    0.000,2,    94.83,2,     0.14,    30.69,2,     0.04,     0.00,2,     0.01,     2.13,2,     0.01,    0.199,6,    0.102,6,    0.012,6,    0.037,6,   2249.8,2,   2351.5,2,   7.6114,       25,2, -999.000,1, -999.000,   -999.0,1,   -999.0, -999.000,9, -999.000, -999.000,9, -999.000
  49NZ20130106,  S04I,   113,  1,     18, X12J18,2,20130119,0422,-61.4155,  80.4898, 2438,   1418.7,2,   1.1283,2,   1.12864,2,  34.7271,2,  34.7271,2,-999.0000,9,   203.42,2,   203.62,2,   99.974,   0.0010,2,   -0.000,2,  -999.00,9,    0.000,2,   101.41,2,     0.15,    31.22,2,     0.04,     0.00,2,     0.01,     2.17,2,     0.01,    0.208,2,    0.103,2,    0.011,2,    0.000,2,   2253.9,2,   2353.6,2,   7.6071,       25,2, -999.000,1, -999.000,   -999.0,1,   -999.0, -999.000,9, -999.000, -999.000,9, -999.000
  49NZ20130106,  S04I,   113,  1,     17, X12J17,2,20130119,0422,-61.4155,  80.4898, 2438,   1669.9,2,   0.9378,2,   0.93804,2,  34.7158,2,  34.7160,2,-999.0000,9,   204.73,2,   205.03,2,   99.951,   0.0020,2,   -0.000,2,  -999.00,9,    0.000,2,   107.64,2,     0.16,    31.69,2,     0.04,     0.00,2,     0.01,     2.20,2,     0.01,    0.221,2,    0.110,2,    0.012,2,    0.039,2,   2255.0,2,   2355.0,2,   7.6026,       25,6, -999.000,1, -999.000,   -999.0,1,   -999.0, -999.000,9, -999.000, -999.000,9, -999.000
  49NZ20130106,  S04I,   113,  1,     16, X12J16,2,20130119,0422,-61.4155,  80.4898, 2438,   1920.5,2,   0.7633,2,   0.76343,2,  34.7061,2,  34.7062,2,-999.0000,9,   206.53,2,   207.03,2,   99.940,   0.0024,2,   -0.000,2,  -999.00,9,    0.000,2,   113.83,2,     0.16,    32.08,2,     0.04,     0.00,2,     0.01,     2.23,2,     0.01,    0.219,2,    0.105,2,    0.010,2,    0.029,2,   2259.1,2,   2355.6,2,   7.5993,       25,2, -999.000,1, -999.000,   -999.0,1,   -999.0, -999.000,9, -999.000, -999.000,9, -999.000
  49NZ20130106,  S04I,   113,  1,     15, X12J15,2,20130119,0422,-61.4155,  80.4898, 2438,   2169.5,2,   0.5574,2,   0.55764,2,  34.6953,2,  34.6951,2,-999.0000,9,   209.50,2,   210.05,2,   99.902,   0.0039,2,   -0.000,2,  -999.00,9,    0.000,2,   122.62,2,     0.17,    32.47,2,     0.05,     0.00,2,     0.01,     2.26,2,     0.01,    0.212,2,    0.106,2,    0.007,2,    0.000,2,   2260.7,2,   2356.5,2,   7.5961,       25,2, -999.000,1, -999.000,   -999.0,1,   -999.0, -999.000,9, -999.000, -999.000,9, -999.000
  49NZ20130106,  S04I,   113,  1,     14, X12J14,2,20130119,0422,-61.4155,  80.4898, 2438,   2420.9,2,   0.3598,2,   0.35983,2,  34.6843,2,  34.6844,2,-999.0000,9,   212.99,2,   213.40,2,   99.637,   0.0145,2,   -0.000,2,  -999.00,9,    0.000,2,   127.97,2,     0.17,    32.80,2,     0.05,     0.01,2,     0.01,     2.29,2,     0.01,    0.225,2,    0.114,2,    0.007,2,    0.047,2,   2261.2,6,   2356.1,2,   7.5933,       25,2, -999.000,1, -999.000,   -999.0,1,   -999.0, -999.000,9, -999.000, -999.000,9, -999.000
  49NZ20130106,  S04I,   113,  1,      1, X12J01,2,20130119,0422,-61.4155,  80.4898, 2438,   2463.4,2,   0.3631,2,   0.36299,2,  34.6841,2,  34.6843,2,-999.0000,9,   212.99,2,   213.72,2,   99.609,   0.0157,2,   -0.000,2,  -999.00,9,    0.000,2,   127.96,2,     0.17,    32.79,2,     0.05,     0.01,2,     0.01,     2.29,2,     0.01,    0.220,2,    0.112,2,    0.007,2,    0.035,2,   2260.0,2,   2356.7,2,   7.5926,       25,2, -999.000,1, -999.000,   -999.0,1,   -999.0, -999.000,9, -999.000, -999.000,9, -999.000