BOTTLE,20220819CCHSIOAMB
EXPOCODE,SECT_ID,STNNBR,CASTNO,SAMPNO,BTLNBR,BTLNBR_FLAG_W,DATE,TIME,LATITUDE,LONGITUDE,DEPTH,CTDPRS,CTDPRS_FLAG_W,CTDTMP,CTDTMP_FLAG_W,SBE35,SBE35_FLAG_W,CTDSAL,CTDSAL_FLAG_W,SALNTY,SALNTY_FLAG_W,DNSSAL,DNSSAL_FLAG_W,CTDOXY,CTDOXY_FLAG_W,OXYGEN,OXYGEN_FLAG_W,CTDXMISS,CTDXMISSCP,CTDXMISS_FLAG_W,CTDFLUOR,CTDFLUOR_FLAG_W,CHLORA,CHLORA_FLAG_W,PAR,PAR_FLAG_W,SILCAT,SILCAT_FLAG_W,SILUNC,NITRAT,NITRAT_FLAG_W,NRAUNC,NITRIT,NITRIT_FLAG_W,NRIUNC,PHSPHT,PHSPHT_FLAG_W,PHPUNC,CFC-11,CFC-11_FLAG_W,CFC-12,CFC-12_FLAG_W,CFC113,CFC113_FLAG_W,SF6,SF6_FLAG_W,TCARBN,TCARBN_FLAG_W,ALKALI,ALKALI_FLAG_W,PH_TOT,PH_TMP,PH_TOT_FLAG_W,DELC13,DELC13_FLAG_W,C13ERR,DELC14,DELC14_FLAG_W,C14ERR,CS-134,CS-134_FLAG_W,CS134ER,CS-137,CS-137_FLAG_W,CS137ER
,,,,,,,,UTC,DEG,DEG,METERS,DBAR,,ITS-90,,ITS-90,,PSS-78,,PSS-78,,G/KG,,UMOL/KG,,UMOL/KG,,%TRANS,/METER,,MG/M^3,,MG/CUM,,UE/SQM/S,,UMOL/KG,,UMOL/KG,UMOL/KG,,UMOL/KG,UMOL/KG,,UMOL/KG,UMOL/KG,,UMOL/KG,PMOL/KG,,PMOL/KG,,PMOL/KG,,FMOL/KG,,UMOL/KG,,UMOL/KG,,,DEG C,,/MILLE,,/MILLE,/MILLE,,/MILLE,MBQ/KG,,MBQ/KG,MBQ/KG,,MBQ/KG
  49NZ20130106,  S04I,    92,  1,     36, X12J36,2,20130113,2245,-62.0843, 103.2465, 4387,      5.1,2,   1.4817,2,   1.48170,2,  33.8289,2,  33.8300,2,-999.0000,9,   342.07,2,   341.94,2,   92.789,   0.2994,2,    0.350,2,  -999.00,9,  214.504,2,    31.97,2,     0.09,    24.87,2,     0.04,     0.25,2,     0.01,     1.55,2,     0.01,    5.836,2,    3.088,2,    0.577,2,    2.725,2,   2149.9,2,   2287.7,2,   7.7207,       25,6, -999.000,9, -999.000,   -999.0,9,   -999.0, -999.000,9, -999.000, -999.000,9, -999.000
  49NZ20130106,  S04I,    92,  1,     35, X12J35,2,20130113,2245,-62.0843, 103.2465, 4387,     25.5,2,   1.5215,2,   1.51972,2,  33.8536,2,  33.8514,2,-999.0000,9,   342.05,2,   342.31,2,   92.311,   0.3200,2,    0.640,2,  -999.00,9,   13.826,2,    30.89,2,     0.09,    24.80,2,     0.04,     0.25,2,     0.01,     1.56,2,     0.01,    5.827,2,    3.079,2,    0.578,2,    2.837,2,   2147.8,2,   2289.0,2,   7.7216,       25,2, -999.000,9, -999.000,   -999.0,9,   -999.0, -999.000,9, -999.000, -999.000,9, -999.000
  49NZ20130106,  S04I,    92,  1,     34, X12J34,2,20130113,2245,-62.0843, 103.2465, 4387,     50.5,2,  -0.8470,2,  -0.84540,2,  34.0895,2,  34.0894,2,-999.0000,9,   336.94,2,   336.31,2,   94.126,   0.2421,2,    0.970,2,  -999.00,9,    1.438,2,    50.35,2,     0.10,    28.44,2,     0.04,     0.14,2,     0.01,     1.95,2,     0.01,    5.434,6,    2.829,6,    0.543,6,    2.540,6,   2185.9,2,   2303.1,2,   7.6588,       25,2, -999.000,9, -999.000,   -999.0,9,   -999.0, -999.000,9, -999.000, -999.000,9, -999.000
  49NZ20130106,  S04I,    92,  1,     33, X12J33,2,20130113,2245,-62.0843, 103.2465, 4387,     75.3,2,  -0.9902,2,  -0.99298,2,  34.2091,2,  34.2063,2,-999.0000,9,   301.04,2,   302.58,2,   97.824,   0.0880,2,    0.410,2,  -999.00,9,    0.366,2,    59.53,2,     0.11,    30.24,2,     0.04,     0.13,2,     0.01,     2.10,2,     0.01,    4.637,2,    2.442,2,    0.460,2,    2.039,2,   2207.2,6,   2309.3,2,   7.6199,       25,2, -999.000,9, -999.000,   -999.0,9,   -999.0, -999.000,9, -999.000, -999.000,9, -999.000
  49NZ20130106,  S04I,    92,  1,     32, X12J32,2,20130113,2245,-62.0843, 103.2465, 4387,     99.8,2,  -0.8025,2,  -0.80135,2,  34.2949,2,  34.2949,2,-999.0000,9,   277.10,2,   277.19,2,   98.931,   0.0430,2,    0.210,2,  -999.00,9,    0.087,2,    64.42,2,     0.12,    31.42,2,     0.04,     0.12,2,     0.01,     2.18,2,     0.01,    4.054,2,    2.068,2,    0.404,2,    1.797,2,   2220.7,2,   2314.7,6,   7.5978,       25,2, -999.000,9, -999.000,   -999.0,9,   -999.0, -999.000,9, -999.000, -999.000,9, -999.000
  49NZ20130106,  S04I,    92,  1,     31, X12J31,2,20130113,2245,-62.0843, 103.2465, 4387,    125.8,2,  -0.3543,2,  -0.35452,2,  34.3907,2,  34.3905,2,-999.0000,9,   252.91,2,   252.50,2,   99.568,   0.0173,2,    0.120,2,  -999.00,9,    0.000,2,    69.20,2,     0.12,    32.15,2,     0.05,     0.06,2,     0.01,     2.21,2,     0.01,    3.280,2,    1.690,2,    0.310,2,    1.404,2,   2231.1,2,   2320.0,2,   7.5848,       25,2, -999.000,9, -999.000,   -999.0,9,   -999.0, -999.000,9, -999.000, -999.000,9, -999.000
  49NZ20130106,  S04I,    92,  1,     30, X12J30,2,20130113,2245,-62.0843, 103.2465, 4387,    150.5,2,  -0.0285,2,  -0.02922,2,  34.4422,2,  34.4420,2,-999.0000,9,   240.57,2,   239.73,2,   99.655,   0.0138,2,    0.080,2,  -999.00,9,    0.000,2,    71.73,2,     0.12,    32.34,2,     0.05,     0.03,2,     0.01,     2.22,2,     0.01,    2.813,2,    1.481,2,    0.273,2,    1.261,2,   2235.7,2,   2323.6,2,   7.5803,       25,2, -999.000,9, -999.000,   -999.0,9,   -999.0, -999.000,9, -999.000, -999.000,9, -999.000
  49NZ20130106,  S04I,    92,  1,     29, X12J29,2,20130113,2245,-62.0843, 103.2465, 4387,    201.6,2,   0.6988,2,   0.70223,2,  34.5454,2,  34.5441,2,-999.0000,9,   215.30,2,   214.89,2,   99.733,   0.0107,2,    0.040,2,  -999.00,9,    0.000,2,    77.27,2,     0.13,    32.65,2,     0.05,     0.01,2,     0.01,     2.25,2,     0.01,    1.835,2,    1.008,2,    0.170,2,    0.822,2,   2245.7,2,   2330.6,2,   7.5723,       25,2, -999.000,9, -999.000,   -999.0,9,   -999.0, -999.000,9, -999.000, -999.000,9, -999.000
  49NZ20130106,  S04I,    92,  1,     28, X12J28,2,20130113,2245,-62.0843, 103.2465, 4387,    249.5,2,   1.1327,2,   1.13301,2,  34.6103,2,  34.6092,2,-999.0000,9,   201.84,2,   201.48,2,   99.727,   0.0109,2,    0.010,2,  -999.00,9,    0.000,2,    80.57,2,     0.13,    32.63,2,     0.05,     0.01,2,     0.01,     2.24,2,     0.01,    1.341,6,    0.724,6,    0.117,6,    0.586,6,   2250.8,2,   2335.3,2,   7.5711,       25,2, -999.000,9, -999.000,   -999.0,9,   -999.0, -999.000,9, -999.000, -999.000,9, -999.000
  49NZ20130106,  S04I,    92,  1,     27, X12J27,2,20130113,2245,-62.0843, 103.2465, 4387,    280.0,2,   1.2813,2,   1.28053,2,  34.6353,2,  34.6351,2,-999.0000,9,   197.72,2,   197.08,2,   99.762,   0.0095,2,    0.010,2,  -999.00,9,    0.000,2,    81.91,2,     0.13,    32.58,2,     0.05,     0.01,2,     0.01,     2.25,2,     0.01,    1.159,2,    0.612,2,    0.090,2,    0.439,2,   2251.9,2,   2337.3,2,   7.5723,       25,2, -999.000,9, -999.000,   -999.0,9,   -999.0, -999.000,9, -999.000, -999.000,9, -999.000
  49NZ20130106,  S04I,    92,  1,     26, X12J26,2,20130113,2245,-62.0843, 103.2465, 4387,    372.0,2,   1.5630,2,   1.56309,2,  34.6931,2,  34.6932,2,-999.0000,9,   191.89,2,   191.49,2,   99.847,   0.0061,2,    0.010,2,  -999.00,9,    0.000,2,    84.73,2,     0.13,    32.05,2,     0.04,     0.01,2,     0.01,     2.22,2,     0.01,    0.704,2,    0.365,2,    0.047,2,    0.226,2,   2253.2,2,   2341.9,2,   7.5813,       25,2, -999.000,9, -999.000,   -999.0,9,   -999.0, -999.000,9, -999.000, -999.000,9, -999.000
  49NZ20130106,  S04I,    92,  1,     25, X12J25,2,20130113,2245,-62.0843, 103.2465, 4387,    471.1,2,   1.5623,2,   1.56213,2,  34.7127,2,  34.7133,2,-999.0000,9,   193.76,2,   193.27,2,   99.917,   0.0033,2,    0.000,2,  -999.00,9,    0.000,2,    86.53,2,     0.14,    31.60,2,     0.04,     0.01,2,     0.01,     2.17,2,     0.01,    0.549,2,    0.291,2,    0.038,2,    0.167,2,   2252.6,2,   2344.4,2,   7.5896,       25,2, -999.000,9, -999.000,   -999.0,9,   -999.0, -999.000,9, -999.000, -999.000,9, -999.000
  49NZ20130106,  S04I,    92,  1,     24, X12J24,2,20130113,2245,-62.0843, 103.2465, 4387,    570.6,2,   1.5135,2,   1.51376,2,  34.7233,2,  34.7234,2,-999.0000,9,   196.16,2,   195.71,2,   99.917,   0.0033,2,    0.000,2,  -999.00,9,    0.000,2,    88.60,2,     0.14,    31.30,2,     0.04,     0.01,2,     0.01,     2.15,2,     0.01,    0.462,6,    0.230,6,    0.034,6,    0.128,6,   2252.2,2,   2346.1,2,   7.5958,       25,2, -999.000,9, -999.000,   -999.0,9,   -999.0, -999.000,9, -999.000, -999.000,9, -999.000
  49NZ20130106,  S04I,    92,  1,     23, X12J23,2,20130113,2245,-62.0843, 103.2465, 4387,    672.2,2,   1.4621,2,   1.46202,2,  34.7295,2,  34.7302,2,-999.0000,9,   197.82,2,   197.37,2,   99.940,   0.0024,2,    0.000,2,  -999.00,9,    0.000,2,    90.79,2,     0.14,    31.14,2,     0.04,     0.01,2,     0.01,     2.14,2,     0.01,    0.384,2,    0.188,2,    0.026,2,    0.118,2,   2251.6,6,   2347.3,2,   7.5999,       25,2, -999.000,9, -999.000,   -999.0,9,   -999.0, -999.000,9, -999.000, -999.000,9, -999.000
  49NZ20130106,  S04I,    92,  1,     22, X12J22,2,20130113,2245,-62.0843, 103.2465, 4387,    770.8,2,   1.4027,2,   1.40236,2,  34.7321,2,  34.7324,2,-999.0000,9,   199.29,2,   198.97,2,   99.928,   0.0029,2,    0.000,2,  -999.00,9,    0.000,2,    92.83,2,     0.14,    31.08,2,     0.04,     0.01,2,     0.01,     2.14,2,     0.01,    0.335,2,    0.163,2,    0.020,2,    0.096,2,   2251.2,2,   2348.7,6,   7.6033,       25,2, -999.000,9, -999.000,   -999.0,9,   -999.0, -999.000,9, -999.000, -999.000,9, -999.000
  49NZ20130106,  S04I,    92,  1,     21, X12J21,2,20130113,2245,-62.0843, 103.2465, 4387,    870.4,2,   1.3130,2,   1.31291,2,  34.7293,2,  34.7302,2,-999.0000,9,   200.48,2,   200.13,2,   99.947,   0.0021,2,    0.000,2,  -999.00,9,    0.000,2,    95.30,2,     0.14,    31.19,2,     0.04,     0.01,2,     0.01,     2.15,2,     0.01,    0.341,2,    0.165,2,    0.018,2,    0.000,2,   2252.2,2,   2349.7,2,   7.6026,       25,6, -999.000,9, -999.000,   -999.0,9,   -999.0, -999.000,9, -999.000, -999.000,9, -999.000
  49NZ20130106,  S04I,    92,  1,     20, X12J20,2,20130113,2245,-62.0843, 103.2465, 4387,    961.2,2,   1.2278,2,   1.22760,2,  34.7274,2,  34.7280,2,-999.0000,9,   201.76,2,   201.41,2,   99.959,   0.0016,2,   -0.000,2,  -999.00,9,    0.000,2,    97.75,2,     0.15,    31.30,2,     0.04,     0.01,2,     0.01,     2.16,2,     0.01,    0.323,2,    0.156,2,    0.019,2,    0.000,2,   2253.2,2,   2350.8,2,   7.6032,       25,2, -999.000,9, -999.000,   -999.0,9,   -999.0, -999.000,9, -999.000, -999.000,9, -999.000
  49NZ20130106,  S04I,    92,  1,     19, X12J19,2,20130113,2245,-62.0843, 103.2465, 4387,   1170.2,2,   1.0768,2,   1.07656,2,  34.7214,2,  34.7218,2,-999.0000,9,   203.59,2,   203.15,2,   99.980,   0.0008,2,   -0.000,2,  -999.00,9,    0.000,2,   102.39,2,     0.15,    31.54,2,     0.04,     0.01,2,     0.01,     2.18,2,     0.01,    0.304,6,    0.148,6,    0.018,6,    0.054,6,   2254.2,2,   2352.2,2,   7.6021,       25,2, -999.000,9, -999.000,   -999.0,9,   -999.0, -999.000,9, -999.000, -999.000,9, -999.000
  49NZ20130106,  S04I,    92,  1,     18, X12J18,2,20130113,2245,-62.0843, 103.2465, 4387,   1423.1,2,   0.8699,2,   0.86962,2,  34.7104,2,  34.7109,2,-999.0000,9,   206.07,2,   205.82,2,   99.966,   0.0014,2,   -0.000,2,  -999.00,9,    0.000,2,   108.03,2,     0.16,    31.91,2,     0.04,     0.01,2,     0.01,     2.21,2,     0.01,    0.321,2,    0.162,2,    0.018,2,    0.030,2,   2257.4,2,   2353.7,2,   7.5994,       25,2, -999.000,9, -999.000,   -999.0,9,   -999.0, -999.000,9, -999.000, -999.000,9, -999.000
  49NZ20130106,  S04I,    92,  1,     17, X12J17,2,20130113,2245,-62.0843, 103.2465, 4387,   1668.9,2,   0.7144,2,   0.71449,2,  34.7033,2,  34.7034,2,-999.0000,9,   208.22,2,   207.90,2,   99.987,   0.0005,2,   -0.000,2,  -999.00,9,    0.000,2,   113.12,2,     0.16,    32.18,2,     0.05,     0.01,2,     0.01,     2.23,2,     0.01,    0.316,2,    0.155,2,    0.016,2,    0.060,2,   2258.4,2,   2353.3,2,   7.5974,       25,6, -999.000,9, -999.000,   -999.0,9,   -999.0, -999.000,9, -999.000, -999.000,9, -999.000
  49NZ20130106,  S04I,    92,  1,     16, X12J16,2,20130113,2245,-62.0843, 103.2465, 4387,   1922.7,2,   0.5123,2,   0.51243,2,  34.6913,2,  34.6922,2,-999.0000,9,   212.39,2,   212.05,2,   99.987,   0.0005,2,   -0.000,2,  -999.00,9,    0.000,2,   116.13,2,     0.16,    32.36,2,     0.05,     0.01,2,     0.01,     2.25,2,     0.01,    0.449,2,    0.227,2,    0.024,2,    0.133,2,   2258.9,2,   2354.4,2,   7.5948,       25,2, -999.000,9, -999.000,   -999.0,9,   -999.0, -999.000,9, -999.000, -999.000,9, -999.000
  49NZ20130106,  S04I,    92,  1,     15, X12J15,2,20130113,2245,-62.0843, 103.2465, 4387,   2169.7,2,   0.3996,2,   0.39986,2,  34.6870,2,  34.6874,2,-999.0000,9,   215.00,2,   214.80,2,   99.989,   0.0004,2,   -0.000,2,  -999.00,9,    0.000,2,   119.54,2,     0.17,    32.49,2,     0.05,     0.00,2,     0.01,     2.24,2,     0.01,    0.467,2,    0.234,2,    0.024,2,    0.131,2,   2260.9,2,   2354.9,2,   7.5944,       25,2, -999.000,9, -999.000,   -999.0,9,   -999.0, -999.000,9, -999.000, -999.000,9, -999.000
  49NZ20130106,  S04I,    92,  1,     14, X12J14,2,20130113,2245,-62.0843, 103.2465, 4387,   2419.5,2,   0.2848,2,   0.28482,2,  34.6817,2,  34.6821,2,-999.0000,9,   218.40,2,   218.20,2,  100.014,  -0.0006,2,   -0.000,2,  -999.00,9,    0.000,2,   121.14,2,     0.17,    32.52,2,     0.05,     0.00,2,     0.01,     2.25,2,     0.01,    0.607,2,    0.307,2,    0.034,2,    0.176,2,   2261.3,6,   2354.3,2,   7.5939,       25,2, -999.000,9, -999.000,   -999.0,9,   -999.0, -999.000,9, -999.000, -999.000,9, -999.000
  49NZ20130106,  S04I,    92,  1,     13, X12J13,2,20130113,2245,-62.0843, 103.2465, 4387,   2670.1,2,   0.1908,2,   0.19070,2,  34.6779,2,  34.6784,2,-999.0000,9,   221.78,2,   221.48,2,   99.991,   0.0004,2,   -0.000,2,  -999.00,9,    0.000,2,   122.62,2,     0.17,    32.52,2,     0.05,     0.00,2,     0.01,     2.25,2,     0.01,    0.760,2,    0.375,2,    0.040,2,    0.187,2,   2258.0,3,   2353.9,6,   7.5947,       25,2, -999.000,9, -999.000,   -999.0,9,   -999.0, -999.000,9, -999.000, -999.000,9, -999.000
  49NZ20130106,  S04I,    92,  1,     12, X12J12,2,20130113,2245,-62.0843, 103.2465, 4387,   2921.0,2,   0.1152,2,   0.11508,2,  34.6743,2,  34.6744,2,-999.0000,9,   224.79,2,   224.48,2,   99.980,   0.0008,2,   -0.000,2,  -999.00,9,    0.000,2,   123.54,2,     0.17,    32.50,2,     0.05,     0.00,2,     0.01,     2.24,2,     0.01,    0.939,2,    0.453,2,    0.051,2,    0.223,2,   2259.4,2,   2353.9,2,   7.5951,       25,6, -999.000,9, -999.000,   -999.0,9,   -999.0, -999.000,9, -999.000, -999.000,9, -999.000
  49NZ20130106,  S04I,    92,  1,     11, X12J11,2,20130113,2245,-62.0843, 103.2465, 4387,   3171.1,2,   0.0386,2,   0.03863,2,  34.6702,2,  34.6702,2,-999.0000,9,   228.05,2,   227.77,2,   99.970,   0.0012,2,   -0.010,2,  -999.00,9,    0.000,2,   123.20,2,     0.17,    32.44,2,     0.05,     0.00,2,     0.01,     2.24,2,     0.01,    1.130,2,    0.561,2,    0.069,2,    0.315,2,   2258.4,2,   2352.7,2,   7.5947,       25,2, -999.000,9, -999.000,   -999.0,9,   -999.0, -999.000,9, -999.000, -999.000,9, -999.000
  49NZ20130106,  S04I,    92,  1,     10, X12J10,2,20130113,2245,-62.0843, 103.2465, 4387,   3420.9,2,  -0.0022,2,  -0.00224,2,  34.6673,2,  34.6671,2,-999.0000,9,   230.15,2,   229.76,2,   99.944,   0.0022,2,   -0.000,2,  -999.00,9,    0.000,2,   123.68,2,     0.17,    32.43,2,     0.05,     0.00,2,     0.01,     2.24,2,     0.01,    1.240,2,    0.635,2,    0.077,2,    0.313,2,   2256.7,3,   2353.1,3,   7.5950,       25,2, -999.000,9, -999.000,   -999.0,9,   -999.0, -999.000,9, -999.000, -999.000,9, -999.000
  49NZ20130106,  S04I,    92,  1,      9, X12J09,2,20130113,2245,-62.0843, 103.2465, 4387,   3669.7,2,  -0.0410,2,  -0.04094,2,  34.6640,2,  34.6638,2,-999.0000,9,   232.36,2,   232.08,2,   99.898,   0.0041,2,   -0.000,2,  -999.00,9,    0.000,2,   123.54,2,     0.17,    32.39,2,     0.05,     0.00,2,     0.01,     2.24,2,     0.01,    1.395,2,    0.731,2,    0.094,2,    0.456,2,   2257.8,2,   2352.2,2,   7.5948,       25,2, -999.000,9, -999.000,   -999.0,9,   -999.0, -999.000,9, -999.000, -999.000,9, -999.000
  49NZ20130106,  S04I,    92,  1,      8, X12J08,2,20130113,2245,-62.0843, 103.2465, 4387,   3920.9,2,  -0.0669,2,  -0.06686,2,  34.6607,2,  34.6609,2,-999.0000,9,   234.21,2,   233.99,2,   99.856,   0.0058,2,   -0.000,2,  -999.00,9,    0.000,2,   122.83,2,     0.17,    32.35,2,     0.05,     0.00,2,     0.01,     2.24,2,     0.01,    1.564,6,    0.819,6,    0.111,6,    0.450,6,   2257.2,2,   2352.1,2,   7.5943,       25,2, -999.000,9, -999.000,   -999.0,9,   -999.0, -999.000,9, -999.000, -999.000,9, -999.000
  49NZ20130106,  S04I,    92,  1,      7, X12J07,2,20130113,2245,-62.0843, 103.2465, 4387,   4170.7,2,  -0.0814,2,  -0.08135,2,  34.6577,2,-999.0000,5,-999.0000,9,   235.63,2,   235.33,2,   99.724,   0.0111,2,   -0.000,2,  -999.00,9,    0.000,2,   122.39,2,     0.17,    32.32,2,     0.05,     0.00,2,     0.01,     2.24,2,     0.01,    1.725,2,    0.890,2,    0.123,2,    0.532,2,   2256.9,6,   2352.5,2,   7.5940,       25,2, -999.000,9, -999.000,   -999.0,9,   -999.0, -999.000,9, -999.000, -999.000,9, -999.000
  49NZ20130106,  S04I,    92,  1,      1, X12J01,2,20130113,2245,-62.0843, 103.2465, 4387,   4457.1,2,  -0.1326,2,  -0.13281,2,  34.6503,2,  34.6503,2,-999.0000,9,   238.65,2,   238.43,2,   99.396,   0.0242,2,   -0.000,2,  -999.00,9,    0.000,2,   121.45,2,     0.17,    32.25,2,     0.05,     0.00,2,     0.01,     2.24,2,     0.01,    1.995,2,    1.060,2,    0.155,2,    0.709,2,   2258.9,2,   2351.8,2,   7.5926,       25,2, -999.000,9, -999.000,   -999.0,9,   -999.0, -999.000,9, -999.000, -999.000,9, -999.000