BOTTLE,20220819CCHSIOAMB
EXPOCODE,SECT_ID,STNNBR,CASTNO,SAMPNO,BTLNBR,BTLNBR_FLAG_W,DATE,TIME,LATITUDE,LONGITUDE,DEPTH,CTDPRS,CTDPRS_FLAG_W,CTDTMP,CTDTMP_FLAG_W,SBE35,SBE35_FLAG_W,CTDSAL,CTDSAL_FLAG_W,SALNTY,SALNTY_FLAG_W,DNSSAL,DNSSAL_FLAG_W,CTDOXY,CTDOXY_FLAG_W,OXYGEN,OXYGEN_FLAG_W,CTDXMISS,CTDXMISSCP,CTDXMISS_FLAG_W,CTDFLUOR,CTDFLUOR_FLAG_W,CHLORA,CHLORA_FLAG_W,PAR,PAR_FLAG_W,SILCAT,SILCAT_FLAG_W,SILUNC,NITRAT,NITRAT_FLAG_W,NRAUNC,NITRIT,NITRIT_FLAG_W,NRIUNC,PHSPHT,PHSPHT_FLAG_W,PHPUNC,CFC-11,CFC-11_FLAG_W,CFC-12,CFC-12_FLAG_W,CFC113,CFC113_FLAG_W,SF6,SF6_FLAG_W,TCARBN,TCARBN_FLAG_W,ALKALI,ALKALI_FLAG_W,PH_TOT,PH_TMP,PH_TOT_FLAG_W,DELC13,DELC13_FLAG_W,C13ERR,DELC14,DELC14_FLAG_W,C14ERR,CS-134,CS-134_FLAG_W,CS134ER,CS-137,CS-137_FLAG_W,CS137ER
,,,,,,,,UTC,DEG,DEG,METERS,DBAR,,ITS-90,,ITS-90,,PSS-78,,PSS-78,,G/KG,,UMOL/KG,,UMOL/KG,,%TRANS,/METER,,MG/M^3,,MG/CUM,,UE/SQM/S,,UMOL/KG,,UMOL/KG,UMOL/KG,,UMOL/KG,UMOL/KG,,UMOL/KG,UMOL/KG,,UMOL/KG,PMOL/KG,,PMOL/KG,,PMOL/KG,,FMOL/KG,,UMOL/KG,,UMOL/KG,,,DEG C,,/MILLE,,/MILLE,/MILLE,,/MILLE,MBQ/KG,,MBQ/KG,MBQ/KG,,MBQ/KG
  49NZ20130106,  S04I,   132,  1,     36, X12J36,2,20130126,1754,-63.4985,  54.8228, 4750,      5.8,2,   0.4167,2,   0.41593,2,  33.7055,2,  33.7074,2,-999.0000,9,   341.91,2,   341.86,2,   98.451,   0.0624,2,    0.170,2,  -999.00,9,    0.504,2,    40.21,2,     0.09,    25.58,2,     0.04,     0.26,2,     0.01,     1.78,2,     0.01,    5.946,2,    3.215,2,    0.601,2, -999.000,9,   -999.0,9,   -999.0,9,-999.0000,     -999,9, -999.000,9, -999.000,   -999.0,9,   -999.0, -999.000,9, -999.000, -999.000,9, -999.000
  49NZ20130106,  S04I,   132,  1,     35, X12J35,2,20130126,1754,-63.4985,  54.8228, 4750,     25.2,2,   0.3889,2,   0.38802,2,  33.7401,2,  33.7406,2,-999.0000,9,   341.80,2,   341.91,2,   98.505,   0.0603,2,    0.190,2,  -999.00,9,    0.000,2,    40.58,2,     0.10,    25.69,2,     0.04,     0.26,2,     0.01,     1.79,2,     0.01,    5.942,2,    3.213,2,    0.608,2, -999.000,9,   -999.0,9,   -999.0,9,-999.0000,     -999,9, -999.000,9, -999.000,   -999.0,9,   -999.0, -999.000,9, -999.000, -999.000,9, -999.000
  49NZ20130106,  S04I,   132,  1,     34, X12J34,2,20130126,1754,-63.4985,  54.8228, 4750,     50.5,2,  -0.0449,2,  -0.04725,2,  33.7801,2,  33.7831,2,-999.0000,9,   344.29,2,   344.79,2,   98.256,   0.0704,2,    0.260,2,  -999.00,9,    0.000,2,    40.97,2,     0.10,    25.79,2,     0.04,     0.23,2,     0.01,     1.81,2,     0.01,    5.956,6,    3.214,6,    0.608,6, -999.000,9,   -999.0,9,   -999.0,9,-999.0000,     -999,9, -999.000,9, -999.000,   -999.0,9,   -999.0, -999.000,9, -999.000, -999.000,9, -999.000
  49NZ20130106,  S04I,   132,  1,     33, X12J33,2,20130126,1754,-63.4985,  54.8228, 4750,     75.1,2,  -1.2213,2,  -1.22438,2,  34.0783,2,  34.0793,2,-999.0000,9,   315.07,2,   314.57,2,   97.933,   0.0835,2,    0.320,2,  -999.00,9,    0.000,2,    48.14,2,     0.10,    28.05,2,     0.04,     0.17,2,     0.01,     1.96,2,     0.01,    5.101,2,    2.747,2,    0.478,2, -999.000,9,   -999.0,9,   -999.0,9,-999.0000,     -999,9, -999.000,9, -999.000,   -999.0,9,   -999.0, -999.000,9, -999.000, -999.000,9, -999.000
  49NZ20130106,  S04I,   132,  1,     32, X12J32,2,20130126,1754,-63.4985,  54.8228, 4750,    100.5,2,   0.2309,2,   0.22967,2,  34.3244,2,  34.3230,2,-999.0000,9,   240.66,2,   241.00,2,   98.923,   0.0433,2,    0.280,2,  -999.00,9,    0.000,2,    65.19,2,     0.12,    32.65,2,     0.05,     0.14,2,     0.01,     2.27,2,     0.01,    3.297,2,    1.762,2,    0.324,2, -999.000,9,   -999.0,9,   -999.0,9,-999.0000,     -999,9, -999.000,9, -999.000,   -999.0,9,   -999.0, -999.000,9, -999.000, -999.000,9, -999.000
  49NZ20130106,  S04I,   132,  1,     31, X12J31,2,20130126,1754,-63.4985,  54.8228, 4750,    126.1,2,   0.9560,2,   0.95481,2,  34.4460,2,  34.4487,2,-999.0000,9,   207.75,2,   207.08,2,   99.310,   0.0277,2,    0.220,2,  -999.00,9,    0.000,2,    74.51,2,     0.13,    34.32,2,     0.05,     0.11,2,     0.01,     2.38,2,     0.01,    2.263,2,    1.196,2,    0.202,2, -999.000,9,   -999.0,9,   -999.0,9,-999.0000,     -999,9, -999.000,9, -999.000,   -999.0,9,   -999.0, -999.000,9, -999.000, -999.000,9, -999.000
  49NZ20130106,  S04I,   132,  1,     30, X12J30,2,20130126,1754,-63.4985,  54.8228, 4750,    150.6,2,   1.3828,2,   1.38355,2,  34.5269,2,  34.5272,2,-999.0000,9,   189.16,2,   189.03,2,   99.639,   0.0145,2,    0.100,2,  -999.00,9,    0.000,2,    79.48,2,     0.13,    34.86,2,     0.05,     0.03,2,     0.01,     2.40,2,     0.01,    1.609,2,    0.845,2,    0.140,2, -999.000,9,   -999.0,9,   -999.0,9,-999.0000,     -999,9, -999.000,9, -999.000,   -999.0,9,   -999.0, -999.000,9, -999.000, -999.000,9, -999.000
  49NZ20130106,  S04I,   132,  1,     29, X12J29,2,20130126,1754,-63.4985,  54.8228, 4750,    199.9,2,   1.6352,2,   1.63486,2,  34.6048,2,  34.6051,2,-999.0000,9,   180.18,2,   180.02,2,   99.778,   0.0089,2,    0.010,2,  -999.00,9,    0.000,2,    83.15,2,     0.13,    34.40,2,     0.05,     0.01,2,     0.01,     2.36,2,     0.01,    1.041,2,    0.538,2,    0.088,2, -999.000,9,   -999.0,9,   -999.0,9,-999.0000,     -999,9, -999.000,9, -999.000,   -999.0,9,   -999.0, -999.000,9, -999.000, -999.000,9, -999.000
  49NZ20130106,  S04I,   132,  1,     28, X12J28,2,20130126,1754,-63.4985,  54.8228, 4750,    250.3,2,   1.6865,2,   1.68632,2,  34.6467,2,  34.6468,2,-999.0000,9,   180.27,2,   180.12,2,   99.854,   0.0058,2,    0.000,2,  -999.00,9,    0.000,2,    84.89,2,     0.14,    33.77,2,     0.05,     0.00,2,     0.01,     2.32,2,     0.01,    0.793,2,    0.405,2,    0.068,2, -999.000,9,   -999.0,9,   -999.0,9,-999.0000,     -999,9, -999.000,9, -999.000,   -999.0,9,   -999.0, -999.000,9, -999.000, -999.000,9, -999.000
  49NZ20130106,  S04I,   132,  1,     27, X12J27,2,20130126,1754,-63.4985,  54.8228, 4750,    299.5,2,   1.6942,2,   1.69436,2,  34.6693,2,  34.6701,2,-999.0000,9,   181.78,2,   181.70,2,   99.882,   0.0047,2,    0.000,2,  -999.00,9,    0.000,2,    85.71,2,     0.14,    33.26,2,     0.05,     0.01,2,     0.01,     2.28,2,     0.01,    0.669,2,    0.341,2,    0.058,2, -999.000,9,   -999.0,9,   -999.0,9,-999.0000,     -999,9, -999.000,9, -999.000,   -999.0,9,   -999.0, -999.000,9, -999.000, -999.000,9, -999.000
  49NZ20130106,  S04I,   132,  1,     26, X12J26,2,20130126,1754,-63.4985,  54.8228, 4750,    401.2,2,   1.6333,2,   1.63351,2,  34.6931,2,  34.6938,2,-999.0000,9,   186.17,2,   186.18,2,   99.926,   0.0030,2,    0.000,2,  -999.00,9,    0.000,2,    87.62,2,     0.14,    32.58,2,     0.05,     0.00,2,     0.01,     2.24,2,     0.01,    0.568,2,    0.288,2,    0.048,2, -999.000,9,   -999.0,9,   -999.0,9,-999.0000,     -999,9, -999.000,9, -999.000,   -999.0,9,   -999.0, -999.000,9, -999.000, -999.000,9, -999.000
  49NZ20130106,  S04I,   132,  1,     25, X12J25,2,20130126,1754,-63.4985,  54.8228, 4750,    500.0,2,   1.5430,2,   1.54309,2,  34.7087,2,  34.7089,2,-999.0000,9,   190.51,2,   190.39,2,   99.971,   0.0012,2,    0.000,2,  -999.00,9,    0.000,2,    89.33,2,     0.14,    31.95,2,     0.04,     0.00,2,     0.01,     2.19,2,     0.01,    0.497,2,    0.248,2,    0.044,2, -999.000,9,   -999.0,9,   -999.0,9,-999.0000,     -999,9, -999.000,9, -999.000,   -999.0,9,   -999.0, -999.000,9, -999.000, -999.000,9, -999.000
  49NZ20130106,  S04I,   132,  1,     24, X12J24,2,20130126,1754,-63.4985,  54.8228, 4750,    601.0,2,   1.4665,2,   1.46622,2,  34.7169,2,  34.7175,2,-999.0000,9,   194.04,2,   194.01,2,   99.975,   0.0010,2,   -0.000,2,  -999.00,9,    0.000,2,    91.27,2,     0.14,    31.69,2,     0.04,     0.00,2,     0.01,     2.18,2,     0.01,    0.441,6,    0.218,6,    0.041,6, -999.000,9,   -999.0,9,   -999.0,9,-999.0000,     -999,9, -999.000,9, -999.000,   -999.0,9,   -999.0, -999.000,9, -999.000, -999.000,9, -999.000
  49NZ20130106,  S04I,   132,  1,     23, X12J23,2,20130126,1754,-63.4985,  54.8228, 4750,    699.6,2,   1.3724,2,   1.37242,2,  34.7191,2,  34.7196,2,-999.0000,9,   196.41,2,   196.30,2,   99.969,   0.0012,2,    0.000,2,  -999.00,9,    0.000,2,    93.47,2,     0.14,    31.60,2,     0.04,     0.00,2,     0.01,     2.18,2,     0.01,    0.419,2,    0.204,2,    0.031,2, -999.000,9,   -999.0,9,   -999.0,9,-999.0000,     -999,9, -999.000,9, -999.000,   -999.0,9,   -999.0, -999.000,9, -999.000, -999.000,9, -999.000
  49NZ20130106,  S04I,   132,  1,     22, X12J22,2,20130126,1754,-63.4985,  54.8228, 4750,    801.2,2,   1.2855,2,   1.28557,2,  34.7207,2,  34.7212,2,-999.0000,9,   198.57,2,   198.57,2,   99.977,   0.0009,2,    0.000,2,  -999.00,9,    0.000,2,    95.83,2,     0.14,    31.54,2,     0.04,     0.00,2,     0.01,     2.17,2,     0.01,    0.389,2,    0.189,2,    0.027,2, -999.000,9,   -999.0,9,   -999.0,9,-999.0000,     -999,9, -999.000,9, -999.000,   -999.0,9,   -999.0, -999.000,9, -999.000, -999.000,9, -999.000
  49NZ20130106,  S04I,   132,  1,     21, X12J21,2,20130126,1754,-63.4985,  54.8228, 4750,    899.4,2,   1.1633,2,   1.16273,2,  34.7189,2,  34.7194,2,-999.0000,9,   200.93,2,   200.94,2,   99.982,   0.0007,2,    0.000,2,  -999.00,9,    0.000,2,    98.84,2,     0.15,    31.57,2,     0.04,     0.00,2,     0.01,     2.18,2,     0.01,    0.370,2,    0.178,2,    0.027,2, -999.000,9,   -999.0,9,   -999.0,9,-999.0000,     -999,9, -999.000,9, -999.000,   -999.0,9,   -999.0, -999.000,9, -999.000, -999.000,9, -999.000
  49NZ20130106,  S04I,   132,  1,     20, X12J20,2,20130126,1754,-63.4985,  54.8228, 4750,    999.9,2,   1.0738,2,   1.07336,2,  34.7159,2,  34.7168,2,-999.0000,9,   202.13,2,   202.22,2,   99.990,   0.0004,2,   -0.000,2,  -999.00,9,    0.000,2,   101.53,2,     0.15,    31.70,2,     0.04,     0.00,2,     0.01,     2.19,2,     0.01,    0.365,2,    0.175,2,    0.029,2, -999.000,9,   -999.0,9,   -999.0,9,-999.0000,     -999,9, -999.000,9, -999.000,   -999.0,9,   -999.0, -999.000,9, -999.000, -999.000,9, -999.000
  49NZ20130106,  S04I,   132,  1,     19, X12J19,2,20130126,1754,-63.4985,  54.8228, 4750,   1250.2,2,   0.8463,2,   0.84643,2,  34.7059,2,  34.7074,2,-999.0000,9,   204.23,2,   204.44,2,   99.988,   0.0005,2,   -0.000,2,  -999.00,9,    0.000,2,   107.72,2,     0.16,    32.13,2,     0.05,     0.00,2,     0.01,     2.22,2,     0.01,    0.365,6,    0.174,6,    0.028,6, -999.000,9,   -999.0,9,   -999.0,9,-999.0000,     -999,9, -999.000,9, -999.000,   -999.0,9,   -999.0, -999.000,9, -999.000, -999.000,9, -999.000
  49NZ20130106,  S04I,   132,  1,     18, X12J18,2,20130126,1754,-63.4985,  54.8228, 4750,   1499.1,2,   0.6901,2,   0.69007,2,  34.6992,2,  34.7001,2,-999.0000,9,   205.76,2,   205.90,2,   99.984,   0.0006,2,   -0.000,2,  -999.00,9,    0.000,2,   112.65,2,     0.16,    32.46,2,     0.05,     0.00,2,     0.01,     2.24,2,     0.01,    0.352,2,    0.164,2,    0.021,2, -999.000,9,   -999.0,9,   -999.0,9,-999.0000,     -999,9, -999.000,9, -999.000,   -999.0,9,   -999.0, -999.000,9, -999.000, -999.000,9, -999.000
  49NZ20130106,  S04I,   132,  1,     17, X12J17,2,20130126,1754,-63.4985,  54.8228, 4750,   1749.9,2,   0.5536,2,   0.55357,2,  34.6920,2,  34.6928,2,-999.0000,9,   206.98,2,   207.04,2,  100.001,  -0.0000,2,   -0.000,2,  -999.00,9,    0.000,2,   117.03,2,     0.16,    32.77,2,     0.05,     0.00,2,     0.01,     2.26,2,     0.01,    0.351,2,    0.163,2,    0.020,2, -999.000,9,   -999.0,9,   -999.0,9,-999.0000,     -999,9, -999.000,9, -999.000,   -999.0,9,   -999.0, -999.000,9, -999.000, -999.000,9, -999.000
  49NZ20130106,  S04I,   132,  1,     16, X12J16,2,20130126,1754,-63.4985,  54.8228, 4750,   2001.1,2,   0.4373,2,   0.43742,2,  34.6863,2,  34.6867,2,-999.0000,9,   209.33,2,   209.34,2,   99.999,   0.0000,2,   -0.000,2,  -999.00,9,    0.000,2,   120.54,2,     0.17,    32.98,2,     0.05,     0.00,2,     0.01,     2.28,2,     0.01,    0.342,2,    0.156,2,    0.021,2, -999.000,9,   -999.0,9,   -999.0,9,-999.0000,     -999,9, -999.000,9, -999.000,   -999.0,9,   -999.0, -999.000,9, -999.000, -999.000,9, -999.000
  49NZ20130106,  S04I,   132,  1,     15, X12J15,2,20130126,1754,-63.4985,  54.8228, 4750,   2250.0,2,   0.3336,2,   0.33274,2,  34.6811,2,  34.6814,2,-999.0000,9,   212.17,2,   212.37,2,   99.999,   0.0000,2,   -0.000,2,  -999.00,9,    0.000,2,   122.59,2,     0.17,    33.02,2,     0.05,     0.00,2,     0.01,     2.29,2,     0.01,    0.339,2,    0.156,2,    0.020,2, -999.000,9,   -999.0,9,   -999.0,9,-999.0000,     -999,9, -999.000,9, -999.000,   -999.0,9,   -999.0, -999.000,9, -999.000, -999.000,9, -999.000
  49NZ20130106,  S04I,   132,  1,     14, X12J14,2,20130126,1754,-63.4985,  54.8228, 4750,   2499.2,2,   0.2341,2,   0.23373,2,  34.6766,2,  34.6767,2,-999.0000,9,   215.74,2,   215.83,2,   99.990,   0.0004,2,   -0.010,2,  -999.00,9,    0.000,2,   123.73,2,     0.17,    32.95,2,     0.05,     0.00,2,     0.01,     2.27,2,     0.01,    0.344,2,    0.156,2,    0.020,2, -999.000,9,   -999.0,9,   -999.0,9,-999.0000,     -999,9, -999.000,9, -999.000,   -999.0,9,   -999.0, -999.000,9, -999.000, -999.000,9, -999.000
  49NZ20130106,  S04I,   132,  1,     13, X12J13,2,20130126,1754,-63.4985,  54.8228, 4750,   2751.2,2,   0.1415,2,   0.14164,2,  34.6724,2,  34.6727,2,-999.0000,9,   219.67,2,   219.70,2,   99.990,   0.0004,2,   -0.010,2,  -999.00,9,    0.000,2,   125.11,2,     0.17,    32.97,2,     0.05,     0.00,2,     0.01,     2.28,2,     0.01,    0.342,2,    0.157,2,    0.024,2, -999.000,9,   -999.0,9,   -999.0,9,-999.0000,     -999,9, -999.000,9, -999.000,   -999.0,9,   -999.0, -999.000,9, -999.000, -999.000,9, -999.000
  49NZ20130106,  S04I,   132,  1,     12, X12J12,2,20130126,1754,-63.4985,  54.8228, 4750,   3001.5,2,   0.0665,2,   0.06656,2,  34.6687,2,  34.6689,2,-999.0000,9,   223.35,2,   223.38,2,   99.992,   0.0003,2,   -0.010,2,  -999.00,9,    0.000,2,   125.92,2,     0.17,    32.94,2,     0.05,     0.00,2,     0.01,     2.28,2,     0.01,    0.376,2,    0.174,2,    0.010,2,    0.035,2,   -999.0,9,   -999.0,9,-999.0000,     -999,9, -999.000,9, -999.000,   -999.0,9,   -999.0, -999.000,9, -999.000, -999.000,9, -999.000
  49NZ20130106,  S04I,   132,  1,     11, X12J11,2,20130126,1754,-63.4985,  54.8228, 4750,   3249.8,2,  -0.0087,2,  -0.00862,2,  34.6654,2,  34.6657,2,-999.0000,9,   227.15,2,   226.98,2,   99.984,   0.0006,2,   -0.010,2,  -999.00,9,    0.000,2,   126.62,2,     0.17,    32.90,2,     0.05,     0.00,2,     0.01,     2.28,2,     0.01,    0.376,2,    0.180,2,    0.009,2,    0.039,2,   -999.0,9,   -999.0,9,-999.0000,     -999,9, -999.000,9, -999.000,   -999.0,9,   -999.0, -999.000,9, -999.000, -999.000,9, -999.000
  49NZ20130106,  S04I,   132,  1,     10, X12J10,2,20130126,1754,-63.4985,  54.8228, 4750,   3500.7,2,  -0.0634,2,  -0.06366,2,  34.6626,2,  34.6626,2,-999.0000,9,   230.06,2,   229.95,2,   99.977,   0.0009,2,   -0.010,2,  -999.00,9,    0.000,2,   126.83,2,     0.17,    32.88,2,     0.05,     0.00,2,     0.01,     2.27,2,     0.01,    0.405,2,    0.191,2,    0.011,2,    0.034,2,   -999.0,9,   -999.0,9,-999.0000,     -999,9, -999.000,9, -999.000,   -999.0,9,   -999.0, -999.000,9, -999.000, -999.000,9, -999.000
  49NZ20130106,  S04I,   132,  1,      9, X12J09,2,20130126,1754,-63.4985,  54.8228, 4750,   3750.1,2,  -0.1052,2,  -0.10517,2,  34.6604,2,  34.6608,2,-999.0000,9,   232.85,2,   232.73,2,   99.975,   0.0010,2,   -0.000,2,  -999.00,9,    0.000,2,   127.58,2,     0.17,    32.81,2,     0.05,     0.00,2,     0.01,     2.27,2,     0.01,    0.409,2,    0.198,2,    0.011,2,    0.013,2,   -999.0,9,   -999.0,9,-999.0000,     -999,9, -999.000,9, -999.000,   -999.0,9,   -999.0, -999.000,9, -999.000, -999.000,9, -999.000
  49NZ20130106,  S04I,   132,  1,      8, X12J08,2,20130126,1754,-63.4985,  54.8228, 4750,   4001.6,2,  -0.1489,2,  -0.14891,2,  34.6579,2,  34.6584,2,-999.0000,9,   235.70,2,   235.53,2,   99.982,   0.0007,2,   -0.010,2,  -999.00,9,    0.000,2,   127.24,2,     0.17,    32.76,2,     0.05,     0.00,2,     0.01,     2.27,2,     0.01,    0.453,6,    0.219,6,    0.019,6,    0.068,6,   -999.0,9,   -999.0,9,-999.0000,     -999,9, -999.000,9, -999.000,   -999.0,9,   -999.0, -999.000,9, -999.000, -999.000,9, -999.000
  49NZ20130106,  S04I,   132,  1,      7, X12J07,2,20130126,1754,-63.4985,  54.8228, 4750,   4248.8,2,  -0.1803,2,  -0.18033,2,  34.6561,2,  34.6563,2,-999.0000,9,   237.88,2,   237.78,2,   99.958,   0.0017,2,   -0.010,2,  -999.00,9,    0.000,2,   130.66,2,     0.18,    32.74,2,     0.05,     0.00,2,     0.01,     2.27,2,     0.01,    0.469,2,    0.233,2,    0.021,2,    0.087,2,   -999.0,9,   -999.0,9,-999.0000,     -999,9, -999.000,9, -999.000,   -999.0,9,   -999.0, -999.000,9, -999.000, -999.000,9, -999.000
  49NZ20130106,  S04I,   132,  1,      6, X12J06,2,20130126,1754,-63.4985,  54.8228, 4750,   4500.4,2,  -0.2091,2,  -0.20895,2,  34.6543,2,  34.6546,2,-999.0000,9,   239.66,2,   239.68,2,   99.928,   0.0029,2,   -0.010,2,  -999.00,9,    0.000,2,   132.91,2,     0.18,    32.72,2,     0.05,     0.00,2,     0.01,     2.27,2,     0.01,    0.490,2,    0.237,2,    0.025,2,    0.055,2,   -999.0,9,   -999.0,9,-999.0000,     -999,9, -999.000,9, -999.000,   -999.0,9,   -999.0, -999.000,9, -999.000, -999.000,9, -999.000
  49NZ20130106,  S04I,   132,  1,      5, X12J05,2,20130126,1754,-63.4985,  54.8228, 4750,   4749.3,2,  -0.2476,2,  -0.24760,2,  34.6499,2,  34.6509,2,-999.0000,9,   243.02,2,   243.09,2,   99.860,   0.0056,2,   -0.010,2,  -999.00,9,    0.000,2,   135.07,2,     0.18,    32.64,2,     0.05,     0.00,2,     0.01,     2.26,2,     0.01,    0.795,2,    0.404,2,    0.047,2,    0.159,2,   -999.0,9,   -999.0,9,-999.0000,     -999,9, -999.000,9, -999.000,   -999.0,9,   -999.0, -999.000,9, -999.000, -999.000,9, -999.000
  49NZ20130106,  S04I,   132,  1,      1, X12J01,2,20130126,1754,-63.4985,  54.8228, 4750,   4837.9,2,  -0.2865,2,  -0.28655,2,  34.6456,2,  34.6457,2,-999.0000,9,   248.05,2,   247.94,2,   99.701,   0.0120,2,   -0.010,2,  -999.00,9,    0.000,2,   126.89,2,     0.17,    32.40,2,     0.05,     0.01,2,     0.01,     2.24,2,     0.01,    1.308,2,    0.689,2,    0.098,2,    0.408,2,   -999.0,9,   -999.0,9,-999.0000,     -999,9, -999.000,9, -999.000,   -999.0,9,   -999.0, -999.000,9, -999.000, -999.000,9, -999.000