BOTTLE,20220819CCHSIOAMB
EXPOCODE,SECT_ID,STNNBR,CASTNO,SAMPNO,BTLNBR,BTLNBR_FLAG_W,DATE,TIME,LATITUDE,LONGITUDE,DEPTH,CTDPRS,CTDPRS_FLAG_W,CTDTMP,CTDTMP_FLAG_W,SBE35,SBE35_FLAG_W,CTDSAL,CTDSAL_FLAG_W,SALNTY,SALNTY_FLAG_W,DNSSAL,DNSSAL_FLAG_W,CTDOXY,CTDOXY_FLAG_W,OXYGEN,OXYGEN_FLAG_W,CTDXMISS,CTDXMISSCP,CTDXMISS_FLAG_W,CTDFLUOR,CTDFLUOR_FLAG_W,CHLORA,CHLORA_FLAG_W,PAR,PAR_FLAG_W,SILCAT,SILCAT_FLAG_W,SILUNC,NITRAT,NITRAT_FLAG_W,NRAUNC,NITRIT,NITRIT_FLAG_W,NRIUNC,PHSPHT,PHSPHT_FLAG_W,PHPUNC,CFC-11,CFC-11_FLAG_W,CFC-12,CFC-12_FLAG_W,CFC113,CFC113_FLAG_W,SF6,SF6_FLAG_W,TCARBN,TCARBN_FLAG_W,ALKALI,ALKALI_FLAG_W,PH_TOT,PH_TMP,PH_TOT_FLAG_W,DELC13,DELC13_FLAG_W,C13ERR,DELC14,DELC14_FLAG_W,C14ERR,CS-134,CS-134_FLAG_W,CS134ER,CS-137,CS-137_FLAG_W,CS137ER
,,,,,,,,UTC,DEG,DEG,METERS,DBAR,,ITS-90,,ITS-90,,PSS-78,,PSS-78,,G/KG,,UMOL/KG,,UMOL/KG,,%TRANS,/METER,,MG/M^3,,MG/CUM,,UE/SQM/S,,UMOL/KG,,UMOL/KG,UMOL/KG,,UMOL/KG,UMOL/KG,,UMOL/KG,UMOL/KG,,UMOL/KG,PMOL/KG,,PMOL/KG,,PMOL/KG,,FMOL/KG,,UMOL/KG,,UMOL/KG,,,DEG C,,/MILLE,,/MILLE,/MILLE,,/MILLE,MBQ/KG,,MBQ/KG,MBQ/KG,,MBQ/KG
  49NZ20130106,  S04I,   151,  1,     36, X12J36,2,20130129,2247,-64.9348,  38.4690, 4843,      6.2,2,   1.3607,2,   1.36002,2,  33.8165,2,  33.8171,2,  33.9826,2,   334.15,2,   333.90,2,   98.980,   0.0410,2,    0.120,2,  -999.00,9,    3.269,2,    47.85,2,     0.10,    25.95,2,     0.04,     0.28,2,     0.01,     1.82,2,     0.01,    5.704,2,    3.098,2,    0.575,2,    2.913,2,   2171.4,2,   2293.5,2,   7.6735,       25,6, -999.000,9, -999.000,   -999.0,9,   -999.0, -999.000,9, -999.000, -999.000,9, -999.000
  49NZ20130106,  S04I,   151,  1,     35, X12J35,2,20130129,2247,-64.9348,  38.4690, 4843,     25.8,2,   1.3321,2,   1.32893,2,  33.8173,2,  33.8180,2,  33.9839,2,   334.24,2,   334.09,2,   98.959,   0.0419,2,    0.130,2,  -999.00,9,    0.772,2,    47.86,2,     0.10,    25.96,2,     0.04,     0.28,2,     0.01,     1.82,2,     0.01,    5.680,2,    3.121,2,    0.564,2,    2.931,2,   2172.1,2,   2293.2,2,   7.6736,       25,2, -999.000,9, -999.000,   -999.0,9,   -999.0, -999.000,9, -999.000, -999.000,9, -999.000
  49NZ20130106,  S04I,   151,  1,     34, X12J34,2,20130129,2247,-64.9348,  38.4690, 4843,     50.9,2,  -1.3574,2,  -1.35657,2,  34.1829,2,  34.1884,2,  34.3551,2,   317.14,2,   316.14,2,   97.954,   0.0827,2,    0.290,2,  -999.00,9,    0.290,2,    51.87,2,     0.11,    27.29,2,     0.04,     0.16,2,     0.01,     1.92,2,     0.01,    4.957,6,    2.692,6,    0.500,6,    2.307,6,   2202.7,2,   2316.8,2,   7.6512,       25,2, -999.000,9, -999.000,   -999.0,9,   -999.0, -999.000,9, -999.000, -999.000,9, -999.000
  49NZ20130106,  S04I,   151,  1,     33, X12J33,2,20130129,2247,-64.9348,  38.4690, 4843,     75.2,2,  -0.5299,2,  -0.53050,2,  34.3842,2,  34.3867,2,  34.5542,2,   280.15,2,   279.49,2,   98.308,   0.0683,2,    0.300,2,  -999.00,9,    0.031,2,    65.41,2,     0.12,    30.16,2,     0.04,     0.08,2,     0.01,     2.10,2,     0.01,    4.003,2,    2.154,2,    0.393,2,    1.820,2,   2225.9,6,   2327.7,2,   7.6138,       25,2, -999.000,9, -999.000,   -999.0,9,   -999.0, -999.000,9, -999.000, -999.000,9, -999.000
  49NZ20130106,  S04I,   151,  1,     32, X12J32,2,20130129,2247,-64.9348,  38.4690, 4843,    100.6,2,   0.8573,2,   0.85679,2,  34.5501,2,  34.5499,2,  34.7204,2,   202.10,2,   202.37,2,   98.973,   0.0413,2,    0.260,2,  -999.00,9,    0.000,2,    82.11,2,     0.13,    33.68,2,     0.05,     0.06,2,     0.01,     2.34,2,     0.01,    1.845,2,    0.979,2,    0.163,2,    0.728,2,   2255.3,2,   2335.6,6,   7.5517,       25,2, -999.000,9, -999.000,   -999.0,9,   -999.0, -999.000,9, -999.000, -999.000,9, -999.000
  49NZ20130106,  S04I,   151,  1,     31, X12J31,2,20130129,2247,-64.9348,  38.4690, 4843,    126.3,2,   1.2380,2,   1.23632,2,  34.6075,2,  34.6059,2,  34.7764,2,   187.77,2,   188.50,2,   99.561,   0.0176,2,    0.110,2,  -999.00,9,    0.000,2,    86.40,2,     0.14,    34.03,2,     0.05,     0.06,2,     0.01,     2.36,2,     0.01,    1.341,2,    0.679,2,    0.109,2,    0.491,2,   2261.3,2,   2338.5,2,   7.5446,       25,2, -999.000,9, -999.000,   -999.0,9,   -999.0, -999.000,9, -999.000, -999.000,9, -999.000
  49NZ20130106,  S04I,   151,  1,     30, X12J30,2,20130129,2247,-64.9348,  38.4690, 4843,    151.3,2,   1.3865,2,   1.38629,2,  34.6394,2,  34.6395,2,  34.8120,2,   185.03,2,   184.97,2,   99.795,   0.0082,2,    0.040,2,  -999.00,9,    0.000,2,    88.34,2,     0.14,    33.81,2,     0.05,     0.03,2,     0.01,     2.33,2,     0.01,    1.045,2,    0.523,2,    0.082,2,    0.399,2,   2262.4,2,   2341.2,2,   7.5525,       25,6, -999.000,9, -999.000,   -999.0,9,   -999.0, -999.000,9, -999.000, -999.000,9, -999.000
  49NZ20130106,  S04I,   151,  1,     29, X12J29,2,20130129,2247,-64.9348,  38.4690, 4843,    200.8,2,   1.4298,2,   1.42870,2,  34.6696,2,  34.6696,2,  34.8413,2,   186.16,2,   185.95,2,   99.833,   0.0067,2,    0.010,2,  -999.00,9,    0.000,2,    89.79,2,     0.14,    33.24,2,     0.05,     0.02,2,     0.01,     2.30,2,     0.01,    0.793,2,    0.410,2,    0.059,2,    0.276,2,   2259.8,3,   2344.8,2,   7.5636,       25,2, -999.000,9, -999.000,   -999.0,9,   -999.0, -999.000,9, -999.000, -999.000,9, -999.000
  49NZ20130106,  S04I,   151,  1,     28, X12J28,2,20130129,2247,-64.9348,  38.4690, 4843,    249.6,2,   1.4328,2,   1.43271,2,  34.6863,2,  34.6864,2,  34.8568,2,   187.85,2,   187.72,2,   99.859,   0.0056,2,    0.010,2,  -999.00,9,    0.000,2,    90.83,2,     0.14,    32.81,2,     0.05,     0.02,2,     0.01,     2.27,2,     0.01,    0.674,2,    0.349,2,    0.048,2,    0.197,2,   2260.1,2,   2346.4,2,   7.5710,       25,2, -999.000,9, -999.000,   -999.0,9,   -999.0, -999.000,9, -999.000, -999.000,9, -999.000
  49NZ20130106,  S04I,   151,  1,     27, X12J27,2,20130129,2247,-64.9348,  38.4690, 4843,    300.4,2,   1.3971,2,   1.39698,2,  34.6963,2,  34.6963,2,  34.8687,2,   190.24,2,   190.05,2,   99.859,   0.0056,2,    0.010,2,  -999.00,9,    0.000,2,    92.17,2,     0.14,    32.54,2,     0.05,     0.01,2,     0.01,     2.25,2,     0.01,    0.622,2,    0.314,2,    0.043,2,    0.158,2,   2258.6,2,   2346.1,2,   7.5775,       25,2, -999.000,9, -999.000,   -999.0,9,   -999.0, -999.000,9, -999.000, -999.000,9, -999.000
  49NZ20130106,  S04I,   151,  1,     26, X12J26,2,20130129,2247,-64.9348,  38.4690, 4843,    399.7,2,   1.3167,2,   1.31653,2,  34.7081,2,  34.7082,2,  34.8806,2,   194.04,2,   193.78,2,   99.937,   0.0025,2,    0.010,2,  -999.00,9,    0.000,2,    94.37,2,     0.14,    32.12,2,     0.05,     0.01,2,     0.01,     2.22,2,     0.01,    0.514,2,    0.259,2,    0.035,2,    0.188,2,   2255.6,2,   2348.5,2,   7.5870,       25,2, -999.000,9, -999.000,   -999.0,9,   -999.0, -999.000,9, -999.000, -999.000,9, -999.000
  49NZ20130106,  S04I,   151,  1,     25, X12J25,2,20130129,2247,-64.9348,  38.4690, 4843,    500.2,2,   1.1986,2,   1.19911,2,  34.7110,2,  34.7115,2,  34.8832,2,   196.79,2,   196.64,2,   99.935,   0.0026,2,    0.000,2,  -999.00,9,    0.000,2,    97.37,2,     0.15,    31.97,2,     0.04,     0.01,2,     0.01,     2.20,2,     0.01,    0.474,2,    0.240,2,    0.028,2,    0.136,2,   2256.4,2,   2351.2,2,   7.5905,       25,2, -999.000,9, -999.000,   -999.0,9,   -999.0, -999.000,9, -999.000, -999.000,9, -999.000
  49NZ20130106,  S04I,   151,  1,     24, X12J24,2,20130129,2247,-64.9348,  38.4690, 4843,    599.9,2,   1.0966,2,   1.09647,2,  34.7108,2,  34.7109,2,  34.8832,2,   198.84,2,   198.71,2,   99.929,   0.0028,2,    0.010,2,  -999.00,9,    0.000,2,   100.37,2,     0.15,    32.01,2,     0.04,     0.01,2,     0.01,     2.21,2,     0.01,    0.448,6,    0.224,6,    0.025,6,    0.176,6,   2256.9,2,   2352.4,2,   7.5924,       25,2, -999.000,9, -999.000,   -999.0,9,   -999.0, -999.000,9, -999.000, -999.000,9, -999.000
  49NZ20130106,  S04I,   151,  1,     23, X12J23,2,20130129,2247,-64.9348,  38.4690, 4843,    699.4,2,   1.0104,2,   1.01019,2,  34.7097,2,  34.7103,2,  34.8832,2,   200.17,2,   200.07,2,   99.935,   0.0026,2,    0.000,2,  -999.00,9,    0.000,2,   102.88,2,     0.15,    32.10,2,     0.05,     0.01,2,     0.01,     2.22,2,     0.01,    0.414,2,    0.211,2,    0.023,2,    0.110,2,   2257.7,2,   2351.6,2,   7.5937,       25,2, -999.000,9, -999.000,   -999.0,9,   -999.0, -999.000,9, -999.000, -999.000,9, -999.000
  49NZ20130106,  S04I,   151,  1,     22, X12J22,2,20130129,2247,-64.9348,  38.4690, 4843,    801.9,2,   0.9061,2,   0.90602,2,  34.7062,2,  34.7063,2,  34.8779,2,   201.75,2,   201.72,2,   99.961,   0.0016,2,    0.000,2,  -999.00,9,    0.000,2,   105.54,2,     0.15,    32.20,2,     0.05,     0.01,2,     0.01,     2.23,2,     0.01,    0.413,2,    0.206,2,    0.023,2,    0.066,2,   2258.8,2,   2353.5,2,   7.5928,       25,2, -999.000,9, -999.000,   -999.0,9,   -999.0, -999.000,9, -999.000, -999.000,9, -999.000
  49NZ20130106,  S04I,   151,  1,     21, X12J21,2,20130129,2247,-64.9348,  38.4690, 4843,    900.7,2,   0.8201,2,   0.82001,2,  34.7030,2,  34.7036,2,  34.8766,2,   202.78,2,   202.41,2,   99.935,   0.0026,2,    0.000,2,  -999.00,9,    0.000,2,   108.05,2,     0.16,    32.27,2,     0.05,     0.01,2,     0.01,     2.24,2,     0.01,    0.423,2,    0.203,2,    0.026,2,    0.103,2,   2259.8,2,   2352.4,2,   7.5923,       25,6, -999.000,9, -999.000,   -999.0,9,   -999.0, -999.000,9, -999.000, -999.000,9, -999.000
  49NZ20130106,  S04I,   151,  1,     20, X12J20,2,20130129,2247,-64.9348,  38.4690, 4843,   1001.8,2,   0.7445,2,   0.74451,2,  34.7002,2,  34.7005,2,  34.8753,2,   203.49,2,   203.33,2,   99.967,   0.0013,2,    0.000,2,  -999.00,9,    0.000,2,   110.43,2,     0.16,    32.46,2,     0.05,     0.01,2,     0.01,     2.25,2,     0.01,    0.401,2,    0.197,2,    0.023,2,    0.124,2,   2261.6,2,   2355.8,2,   7.5919,       25,2, -999.000,9, -999.000,   -999.0,9,   -999.0, -999.000,9, -999.000, -999.000,9, -999.000
  49NZ20130106,  S04I,   151,  1,     19, X12J19,2,20130129,2247,-64.9348,  38.4690, 4843,   1251.8,2,   0.5976,2,   0.59774,2,  34.6943,2,  34.6945,2,  34.8687,2,   204.97,2,   204.90,2,   99.965,   0.0014,2,    0.000,2,  -999.00,9,    0.000,2,   114.99,2,     0.16,    32.82,2,     0.05,     0.01,2,     0.01,     2.27,2,     0.01,    0.370,6,    0.180,6,    0.018,6,    0.097,6,   2263.1,2,   2353.8,2,   7.5881,       25,2, -999.000,9, -999.000,   -999.0,9,   -999.0, -999.000,9, -999.000, -999.000,9, -999.000
  49NZ20130106,  S04I,   151,  1,     18, X12J18,2,20130129,2247,-64.9348,  38.4690, 4843,   1500.9,2,   0.4721,2,   0.47204,2,  34.6885,2,  34.6892,2,  34.8641,2,   206.96,2,   206.87,2,   99.967,   0.0013,2,    0.000,2,  -999.00,9,    0.000,2,   118.77,2,     0.17,    33.01,2,     0.05,     0.01,2,     0.01,     2.29,2,     0.01,    0.355,2,    0.169,2,    0.016,2,    0.093,2,   2262.9,2,   2356.5,2,   7.5871,       25,2, -999.000,9, -999.000,   -999.0,9,   -999.0, -999.000,9, -999.000, -999.000,9, -999.000
  49NZ20130106,  S04I,   151,  1,     17, X12J17,2,20130129,2247,-64.9348,  38.4690, 4843,   1750.5,2,   0.3684,2,   0.36847,2,  34.6837,2,  34.6842,2,  34.8582,2,   209.54,2,   209.40,2,   99.999,   0.0000,2,    0.000,2,  -999.00,9,    0.000,2,   121.48,2,     0.17,    33.05,2,     0.05,     0.01,2,     0.01,     2.30,2,     0.01,    0.350,2,    0.164,2,    0.013,2,    0.083,2,   2262.9,2,   2354.8,2,   7.5867,       25,6, -999.000,9, -999.000,   -999.0,9,   -999.0, -999.000,9, -999.000, -999.000,9, -999.000
  49NZ20130106,  S04I,   151,  1,     16, X12J16,2,20130129,2247,-64.9348,  38.4690, 4843,   2000.4,2,   0.2666,2,   0.26642,2,  34.6788,2,  34.6789,2,  34.8522,2,   212.77,2,   212.75,2,   99.995,   0.0002,2,    0.000,2,  -999.00,9,    0.000,2,   123.11,2,     0.17,    33.08,2,     0.05,     0.01,2,     0.01,     2.30,2,     0.01,    0.355,2,    0.166,2,    0.015,2,    0.054,2,   2264.7,3,   2355.2,2,   7.5878,       25,2, -999.000,9, -999.000,   -999.0,9,   -999.0, -999.000,9, -999.000, -999.000,9, -999.000
  49NZ20130106,  S04I,   151,  1,     15, X12J15,2,20130129,2247,-64.9348,  38.4690, 4843,   2250.5,2,   0.1799,2,   0.17989,2,  34.6748,2,  34.6749,2,  34.8516,2,   216.50,2,   216.32,2,   99.991,   0.0004,2,    0.000,2,  -999.00,9,    0.000,2,   124.11,2,     0.17,    33.08,2,     0.05,     0.01,2,     0.01,     2.30,2,     0.01,    0.355,2,    0.167,2,    0.014,2,    0.133,2,   2262.5,2,   2356.2,2,   7.5885,       25,2, -999.000,9, -999.000,   -999.0,9,   -999.0, -999.000,9, -999.000, -999.000,9, -999.000
  49NZ20130106,  S04I,   151,  1,     14, X12J14,2,20130129,2247,-64.9348,  38.4690, 4843,   2500.6,2,   0.0960,2,   0.09612,2,  34.6711,2,  34.6711,2,  34.8456,2,   220.24,2,   220.11,2,   99.995,   0.0002,2,    0.000,2,  -999.00,9,    0.000,2,   124.66,2,     0.17,    33.03,2,     0.05,     0.00,2,     0.01,     2.29,2,     0.01,    0.371,2,    0.174,2,    0.017,2,    0.196,2,   2260.7,6,   2355.4,2,   7.5906,       25,2, -999.000,9, -999.000,   -999.0,9,   -999.0, -999.000,9, -999.000, -999.000,9, -999.000
  49NZ20130106,  S04I,   151,  1,     13, X12J13,2,20130129,2247,-64.9348,  38.4690, 4843,   2751.6,2,   0.0190,2,   0.01921,2,  34.6677,2,  34.6677,2,  34.8437,2,   224.02,2,   223.78,2,   99.982,   0.0007,2,    0.000,2,  -999.00,9,    0.000,2,   125.29,2,     0.17,    32.96,2,     0.05,     0.00,2,     0.01,     2.28,2,     0.01,    0.387,2,    0.180,2,    0.015,2,    0.088,2,   2259.4,2,   2355.3,6,   7.5929,       25,2, -999.000,9, -999.000,   -999.0,9,   -999.0, -999.000,9, -999.000, -999.000,9, -999.000
  49NZ20130106,  S04I,   151,  1,     12, X12J12,2,20130129,2247,-64.9348,  38.4690, 4843,   3002.3,2,  -0.0509,2,  -0.05088,2,  34.6642,2,  34.6639,2,  34.8404,2,   227.73,2,   227.47,2,   99.978,   0.0009,2,    0.000,2,  -999.00,9,    0.000,2,   125.46,2,     0.17,    32.90,2,     0.05,     0.01,2,     0.01,     2.28,2,     0.01,    0.409,2,    0.197,2,    0.015,2,    0.085,2,   2257.5,2,   2354.6,2,   7.5948,       25,6, -999.000,9, -999.000,   -999.0,9,   -999.0, -999.000,9, -999.000, -999.000,9, -999.000
  49NZ20130106,  S04I,   151,  1,     11, X12J11,2,20130129,2247,-64.9348,  38.4690, 4843,   3253.1,2,  -0.1028,2,  -0.10272,2,  34.6618,2,  34.6618,2,  34.8384,2,   230.92,2,   230.61,2,   99.976,   0.0010,2,    0.000,2,  -999.00,9,    0.000,2,   125.64,2,     0.17,    32.82,2,     0.05,     0.00,2,     0.01,     2.28,2,     0.01,    0.441,2,    0.214,2,    0.018,2,    0.095,2,   2257.7,2,   2354.2,2,   7.5970,       25,2, -999.000,9, -999.000,   -999.0,9,   -999.0, -999.000,9, -999.000, -999.000,9, -999.000
  49NZ20130106,  S04I,   151,  1,     10, X12J10,2,20130129,2247,-64.9348,  38.4690, 4843,   3500.0,2,  -0.1463,2,  -0.14625,2,  34.6595,2,  34.6592,2,  34.8351,2,   233.74,2,   233.43,2,   99.967,   0.0013,2,    0.000,2,  -999.00,9,    0.000,2,   125.48,2,     0.17,    32.75,2,     0.05,     0.00,2,     0.01,     2.28,2,     0.01,    0.497,2,    0.234,2,    0.024,2,    0.105,2,   2256.0,2,   2354.1,2,   7.5985,       25,2, -999.000,9, -999.000,   -999.0,9,   -999.0, -999.000,9, -999.000, -999.000,9, -999.000
  49NZ20130106,  S04I,   151,  1,      9, X12J09,2,20130129,2247,-64.9348,  38.4690, 4843,   3752.4,2,  -0.1850,2,  -0.18493,2,  34.6573,2,  34.6571,2,  34.8331,2,   236.73,2,   236.23,2,   99.963,   0.0015,2,    0.000,2,  -999.00,9,    0.000,2,   125.25,2,     0.17,    32.72,2,     0.05,     0.01,2,     0.01,     2.27,2,     0.01,    0.533,2,    0.260,2,    0.026,2,    0.126,2,   2256.6,2,   2353.5,2,   7.6009,       25,2, -999.000,9, -999.000,   -999.0,9,   -999.0, -999.000,9, -999.000, -999.000,9, -999.000
  49NZ20130106,  S04I,   151,  1,      8, X12J08,2,20130129,2247,-64.9348,  38.4690, 4843,   3999.7,2,  -0.2151,2,  -0.21513,2,  34.6555,2,  34.6559,2,  34.8311,2,   238.98,2,   238.36,2,   99.963,   0.0015,2,    0.000,2,  -999.00,9,    0.000,2,   125.83,2,     0.17,    32.68,2,     0.05,     0.01,2,     0.01,     2.27,2,     0.01,    0.573,6,    0.266,6,    0.028,6,    0.105,6,   2255.9,2,   2351.8,2,   7.6024,       25,2, -999.000,9, -999.000,   -999.0,9,   -999.0, -999.000,9, -999.000, -999.000,9, -999.000
  49NZ20130106,  S04I,   151,  1,      7, X12J07,2,20130129,2247,-64.9348,  38.4690, 4843,   4253.2,2,  -0.2413,2,  -0.24121,2,  34.6535,2,  34.6538,2,  34.8298,2,   241.31,2,   240.76,2,   99.944,   0.0022,2,    0.000,2,  -999.00,9,    0.000,2,   126.38,2,     0.17,    32.62,2,     0.05,     0.01,2,     0.01,     2.27,2,     0.01,    0.641,2,    0.314,2,    0.035,2,    0.098,2,   2253.7,6,   2353.0,2,   7.6033,       25,2, -999.000,9, -999.000,   -999.0,9,   -999.0, -999.000,9, -999.000, -999.000,9, -999.000
  49NZ20130106,  S04I,   151,  1,      6, X12J06,2,20130129,2247,-64.9348,  38.4690, 4843,   4500.7,2,  -0.2562,2,  -0.25613,2,  34.6527,2,  34.6529,2,  34.8305,2,   242.15,2,   241.58,2,   99.939,   0.0024,2,    0.000,2,  -999.00,9,    0.000,2,   129.64,2,     0.18,    32.63,2,     0.05,     0.01,2,     0.01,     2.27,2,     0.01,    0.571,2,    0.268,2,    0.028,2,    0.101,2,   2252.8,2,   2352.2,2,   7.6047,       25,2, -999.000,9, -999.000,   -999.0,9,   -999.0, -999.000,9, -999.000, -999.000,9, -999.000
  49NZ20130106,  S04I,   151,  1,      5, X12J05,2,20130129,2247,-64.9348,  38.4690, 4843,   4749.7,2,  -0.2683,2,  -0.26838,2,  34.6514,2,  34.6519,2,  34.8272,2,   242.45,2,   242.26,2,   99.910,   0.0036,2,    0.000,2,  -999.00,9,    0.000,2,   133.69,2,     0.18,    32.71,2,     0.05,     0.00,2,     0.01,     2.28,2,     0.01,    0.518,2,    0.255,2,    0.024,2,    0.095,2,   2252.2,2,   2352.8,2,   7.6046,       25,2, -999.000,9, -999.000,   -999.0,9,   -999.0, -999.000,9, -999.000, -999.000,9, -999.000
  49NZ20130106,  S04I,   151,  1,      1, X12J01,2,20130129,2247,-64.9348,  38.4690, 4843,   4933.6,2,  -0.2876,2,  -0.28771,2,  34.6496,2,  34.6502,2,  34.8272,2,   242.35,2,   242.34,2,   99.501,   0.0200,2,    0.000,2,  -999.00,9,    0.000,2,   138.94,2,     0.18,    32.87,2,     0.05,     0.01,2,     0.01,     2.29,2,     0.01,    0.584,2,    0.271,2,    0.022,2,    0.122,2,   2254.5,2,   2353.0,2,   7.6030,       25,2, -999.000,9, -999.000,   -999.0,9,   -999.0, -999.000,9, -999.000, -999.000,9, -999.000