BOTTLE,20220819CCHSIOAMB
EXPOCODE,SECT_ID,STNNBR,CASTNO,SAMPNO,BTLNBR,BTLNBR_FLAG_W,DATE,TIME,LATITUDE,LONGITUDE,DEPTH,CTDPRS,CTDPRS_FLAG_W,CTDTMP,CTDTMP_FLAG_W,SBE35,SBE35_FLAG_W,CTDSAL,CTDSAL_FLAG_W,SALNTY,SALNTY_FLAG_W,DNSSAL,DNSSAL_FLAG_W,CTDOXY,CTDOXY_FLAG_W,OXYGEN,OXYGEN_FLAG_W,CTDXMISS,CTDXMISSCP,CTDXMISS_FLAG_W,CTDFLUOR,CTDFLUOR_FLAG_W,CHLORA,CHLORA_FLAG_W,PAR,PAR_FLAG_W,SILCAT,SILCAT_FLAG_W,SILUNC,NITRAT,NITRAT_FLAG_W,NRAUNC,NITRIT,NITRIT_FLAG_W,NRIUNC,PHSPHT,PHSPHT_FLAG_W,PHPUNC,CFC-11,CFC-11_FLAG_W,CFC-12,CFC-12_FLAG_W,CFC113,CFC113_FLAG_W,SF6,SF6_FLAG_W,TCARBN,TCARBN_FLAG_W,ALKALI,ALKALI_FLAG_W,PH_TOT,PH_TMP,PH_TOT_FLAG_W,DELC13,DELC13_FLAG_W,C13ERR,DELC14,DELC14_FLAG_W,C14ERR,CS-134,CS-134_FLAG_W,CS134ER,CS-137,CS-137_FLAG_W,CS137ER
,,,,,,,,UTC,DEG,DEG,METERS,DBAR,,ITS-90,,ITS-90,,PSS-78,,PSS-78,,G/KG,,UMOL/KG,,UMOL/KG,,%TRANS,/METER,,MG/M^3,,MG/CUM,,UE/SQM/S,,UMOL/KG,,UMOL/KG,UMOL/KG,,UMOL/KG,UMOL/KG,,UMOL/KG,UMOL/KG,,UMOL/KG,PMOL/KG,,PMOL/KG,,PMOL/KG,,FMOL/KG,,UMOL/KG,,UMOL/KG,,,DEG C,,/MILLE,,/MILLE,/MILLE,,/MILLE,MBQ/KG,,MBQ/KG,MBQ/KG,,MBQ/KG
  49NZ20130106,  S04I,   140,  1,     36, X12J36,2,20130125,0013,-65.4547,  53.3610,  463,      5.3,2,  -0.9969,2,  -0.99679,2,  33.8940,2,  33.8940,2,-999.0000,9,   342.37,2,   343.15,2,   96.790,   0.1305,2,    0.300,2,  -999.00,9,   25.586,2,    53.45,2,     0.11,    27.95,2,     0.04,     0.16,2,     0.01,     1.94,2,     0.01,    5.973,2,    3.236,2,    0.534,2,    2.970,2,   2179.4,2,   2295.1,2,   7.6490,       25,2, -999.000,9, -999.000,   -999.0,9,   -999.0, -999.000,9, -999.000, -999.000,9, -999.000
  49NZ20130106,  S04I,   140,  1,     35, X12J35,2,20130125,0013,-65.4547,  53.3610,  463,     25.1,2,  -0.9985,2,  -0.99866,2,  33.8942,2,  33.8939,2,-999.0000,9,   342.12,2,   343.16,2,   96.753,   0.1320,2,    0.330,2,  -999.00,9,    6.679,2,    53.48,2,     0.11,    27.93,2,     0.04,     0.16,2,     0.01,     1.94,2,     0.01,    5.976,2,    3.223,2,    0.535,2,    2.971,2,   2179.8,2,   2294.6,2,   7.6472,       25,2, -999.000,9, -999.000,   -999.0,9,   -999.0, -999.000,9, -999.000, -999.000,9, -999.000
  49NZ20130106,  S04I,   140,  1,     34, X12J34,2,20130125,0013,-65.4547,  53.3610,  463,     49.5,2,  -1.0058,2,  -1.00589,2,  33.9026,2,  33.9024,2,-999.0000,9,   341.84,2,   342.74,2,   96.749,   0.1322,2,    0.330,2,  -999.00,9,    1.906,2,    53.76,2,     0.11,    28.02,2,     0.04,     0.16,2,     0.01,     1.94,2,     0.01,    5.959,6,    3.207,6,    0.544,6,    2.980,6,   2181.8,2,   2294.8,2,   7.6478,       25,2, -999.000,9, -999.000,   -999.0,9,   -999.0, -999.000,9, -999.000, -999.000,9, -999.000
  49NZ20130106,  S04I,   140,  1,     33, X12J33,2,20130125,0013,-65.4547,  53.3610,  463,     74.7,2,  -1.0789,2,  -1.07864,2,  33.9408,2,  33.9414,2,-999.0000,9,   338.03,2,   338.78,2,   96.906,   0.1257,2,    0.310,2,  -999.00,9,    0.492,2,    54.80,2,     0.11,    28.29,2,     0.04,     0.15,2,     0.01,     1.97,2,     0.01,    5.805,2,    3.137,2,    0.538,2,    2.914,2,   2183.4,6,   2297.0,2,   7.6443,       25,2, -999.000,9, -999.000,   -999.0,9,   -999.0, -999.000,9, -999.000, -999.000,9, -999.000
  49NZ20130106,  S04I,   140,  1,     32, X12J32,2,20130125,0013,-65.4547,  53.3610,  463,     99.8,2,  -1.6206,2,  -1.62078,2,  34.1819,2,  34.1781,2,-999.0000,9,   308.55,2,   309.28,2,   98.771,   0.0495,2,    0.230,2,  -999.00,9,    0.117,2,    61.55,2,     0.11,    29.90,2,     0.04,     0.12,2,     0.01,     2.08,2,     0.01,    4.899,2,    2.651,2,    0.443,2,    2.348,2,   2206.8,2,   2311.8,6,   7.6189,       25,2, -999.000,9, -999.000,   -999.0,9,   -999.0, -999.000,9, -999.000, -999.000,9, -999.000
  49NZ20130106,  S04I,   140,  1,     31, X12J31,2,20130125,0013,-65.4547,  53.3610,  463,    123.9,2,  -1.6583,2,  -1.65864,2,  34.3216,2,  34.3194,2,-999.0000,9,   297.80,2,   298.02,2,   99.721,   0.0112,2,    0.070,2,  -999.00,9,    0.014,2,    64.93,2,     0.12,    30.61,2,     0.04,     0.07,2,     0.01,     2.10,2,     0.01,    4.643,2,    2.520,2,    0.419,2,    2.073,2,   2219.6,2,   2320.7,2,   7.6111,       25,2, -999.000,9, -999.000,   -999.0,9,   -999.0, -999.000,9, -999.000, -999.000,9, -999.000
  49NZ20130106,  S04I,   140,  1,     30, X12J30,2,20130125,0013,-65.4547,  53.3610,  463,    151.3,2,  -1.6056,2,  -1.60612,2,  34.3574,2,  34.3564,2,-999.0000,9,   294.99,2,   295.17,2,   99.814,   0.0074,2,    0.040,2,  -999.00,9,    0.000,2,    65.10,2,     0.12,    30.77,2,     0.04,     0.02,2,     0.01,     2.11,2,     0.01,    4.616,2,    2.476,2,    0.408,2,    2.118,2,   2220.5,2,   2322.6,2,   7.6084,       25,6, -999.000,9, -999.000,   -999.0,9,   -999.0, -999.000,9, -999.000, -999.000,9, -999.000
  49NZ20130106,  S04I,   140,  1,     29, X12J29,2,20130125,0013,-65.4547,  53.3610,  463,    198.7,2,  -1.4850,2,  -1.48527,2,  34.4033,2,  34.4027,2,-999.0000,9,   291.71,2,   291.86,2,   99.840,   0.0064,2,    0.010,2,  -999.00,9,    0.000,2,    66.11,2,     0.12,    30.88,2,     0.04,     0.01,2,     0.01,     2.12,2,     0.01,    4.501,2,    2.418,2,    0.401,2,    2.070,2,   2224.0,2,   2329.1,2,   7.6060,       25,2, -999.000,9, -999.000,   -999.0,9,   -999.0, -999.000,9, -999.000, -999.000,9, -999.000
  49NZ20130106,  S04I,   140,  1,     28, X12J28,2,20130125,0013,-65.4547,  53.3610,  463,    250.1,2,  -1.3486,2,  -1.34862,2,  34.4343,2,  34.4342,2,-999.0000,9,   287.81,2,   287.64,2,   99.833,   0.0067,2,    0.010,2,  -999.00,9,    0.000,2,    67.77,2,     0.12,    30.95,2,     0.04,     0.01,2,     0.01,     2.13,2,     0.01,    4.143,4,    2.221,4,    0.376,4,    1.887,4,   2226.5,2,   2328.4,2,   7.6063,       25,2, -999.000,9, -999.000,   -999.0,9,   -999.0, -999.000,9, -999.000, -999.000,9, -999.000
  49NZ20130106,  S04I,   140,  1,     27, X12J27,2,20130125,0013,-65.4547,  53.3610,  463,    281.4,2,  -1.2082,2,  -1.21099,2,  34.4579,2,  34.4597,2,-999.0000,9,   283.77,2,   281.93,2,   99.844,   0.0062,2,    0.000,2,  -999.00,9,    0.000,2,    69.54,2,     0.12,    31.04,2,     0.04,     0.01,2,     0.01,     2.13,2,     0.01,    4.144,2,    2.197,2,    0.374,2,    1.993,2,   2230.0,2,   2329.4,2,   7.6042,       25,2, -999.000,9, -999.000,   -999.0,9,   -999.0, -999.000,9, -999.000, -999.000,9, -999.000
  49NZ20130106,  S04I,   140,  1,     26, X12J26,2,20130125,0013,-65.4547,  53.3610,  463,    370.9,2,  -0.7660,2,  -0.76668,2,  34.5138,2,  34.5127,2,-999.0000,9,   266.22,2,   266.62,2,   99.871,   0.0052,2,    0.010,2,  -999.00,9,    0.000,2,    75.04,2,     0.13,    31.32,2,     0.04,     0.01,2,     0.01,     2.15,2,     0.01,    3.434,2,    1.823,2,    0.312,2,    1.610,2,   2235.1,2,   2333.2,2,   7.5996,       25,2, -999.000,9, -999.000,   -999.0,9,   -999.0, -999.000,9, -999.000, -999.000,9, -999.000
  49NZ20130106,  S04I,   140,  1,      2, X12J02,2,20130125,0013,-65.4547,  53.3610,  463,     60.3,2,  -1.0131,2,  -1.01356,2,  33.9112,2,  33.9092,2,-999.0000,9,   341.60,2,   342.49,2,   96.628,   0.1372,2,    0.310,2,     0.39,2,    1.105,2,    53.96,2,     0.11,    28.03,2,     0.04,     0.16,2,     0.01,     1.95,2,     0.01, -999.000,9, -999.000,9, -999.000,9, -999.000,9,   -999.0,9,   -999.0,9,-999.0000,     -999,9, -999.000,9, -999.000,   -999.0,9,   -999.0, -999.000,9, -999.000, -999.000,9, -999.000
  49NZ20130106,  S04I,   140,  1,      1, X12J01,2,20130125,0013,-65.4547,  53.3610,  463,    454.6,2,  -0.5699,2,  -0.56994,2,  34.5435,2,  34.5439,2,-999.0000,9,   258.39,2,   257.96,2,   99.854,   0.0058,2,    0.010,2,  -999.00,9,    0.000,2,    79.92,2,     0.13,    31.41,2,     0.04,     0.02,2,     0.01,     2.17,2,     0.01,    3.047,2,    1.609,2,    0.272,2,    1.405,2,   2239.2,2,   2338.0,2,   7.5982,       25,2, -999.000,9, -999.000,   -999.0,9,   -999.0, -999.000,9, -999.000, -999.000,9, -999.000
  49NZ20130106,  S04I,   139,  2,     36, X12J36,2,20130125,0423,-65.3682,  53.2462, 1261,      5.1,2,  -0.8123,2,  -0.81239,2,  33.9175,2,  33.9177,2,-999.0000,9,   340.80,2,   340.82,2,   97.301,   0.1094,2,    0.200,2,  -999.00,9,  117.334,2,    52.84,2,     0.11,    27.98,2,     0.04,     0.16,2,     0.01,     1.93,2,     0.01,    5.979,2,    3.161,2,    0.533,2,    2.940,2,   2182.4,2,   2297.3,2,   7.6486,       25,6, -999.000,9, -999.000,   -999.0,9,   -999.0, -999.000,9, -999.000, -999.000,9, -999.000
  49NZ20130106,  S04I,   139,  2,     35, X12J35,2,20130125,0423,-65.3682,  53.2462, 1261,     25.6,2,  -0.8151,2,  -0.81538,2,  33.9178,2,  33.9177,2,-999.0000,9,   340.57,2,   340.76,2,   97.299,   0.1095,2,    0.270,2,  -999.00,9,   29.937,2,    52.83,2,     0.11,    27.97,2,     0.04,     0.16,2,     0.01,     1.94,2,     0.01,    5.982,2,    3.163,2,    0.536,2,    2.898,2,   2182.5,2,   2296.7,2,   7.6487,       25,2, -999.000,9, -999.000,   -999.0,9,   -999.0, -999.000,9, -999.000, -999.000,9, -999.000
  49NZ20130106,  S04I,   139,  2,     34, X12J34,2,20130125,0423,-65.3682,  53.2462, 1261,     50.2,2,  -0.8145,2,  -0.81457,2,  33.9176,2,  33.9178,2,-999.0000,9,   340.52,2,   340.73,2,   97.282,   0.1102,2,    0.280,2,  -999.00,9,    8.568,2,    52.85,2,     0.11,    27.95,2,     0.04,     0.16,2,     0.01,     1.94,2,     0.01,    5.968,6,    3.173,6,    0.533,6,    2.977,6,   2182.8,2,   2296.4,2,   7.6483,       25,2, -999.000,9, -999.000,   -999.0,9,   -999.0, -999.000,9, -999.000, -999.000,9, -999.000
  49NZ20130106,  S04I,   139,  2,     33, X12J33,2,20130125,0423,-65.3682,  53.2462, 1261,     75.9,2,  -1.6511,2,  -1.65072,2,  34.2054,2,  34.2035,2,-999.0000,9,   306.55,2,   306.64,2,   99.092,   0.0365,2,    0.210,2,  -999.00,9,    2.875,2,    61.57,2,     0.11,    30.10,2,     0.04,     0.14,2,     0.01,     2.09,2,     0.01,    4.858,2,    2.582,2,    0.432,2,    2.372,2,   2210.2,6,   2312.7,2,   7.6145,       25,2, -999.000,9, -999.000,   -999.0,9,   -999.0, -999.000,9, -999.000, -999.000,9, -999.000
  49NZ20130106,  S04I,   139,  2,     32, X12J32,2,20130125,0423,-65.3682,  53.2462, 1261,    101.3,2,  -1.6895,2,  -1.68971,2,  34.3119,2,  34.3124,2,-999.0000,9,   302.10,2,   301.93,2,   99.580,   0.0168,2,    0.120,2,  -999.00,9,    1.106,2,    63.74,2,     0.12,    30.59,2,     0.04,     0.09,2,     0.01,     2.10,2,     0.01,    4.821,2,    2.551,2,    0.424,2,    2.258,2,   2219.0,2,   2319.8,6,   7.6102,       25,2, -999.000,9, -999.000,   -999.0,9,   -999.0, -999.000,9, -999.000, -999.000,9, -999.000
  49NZ20130106,  S04I,   139,  2,     31, X12J31,2,20130125,0423,-65.3682,  53.2462, 1261,    125.8,2,  -1.6661,2,  -1.66637,2,  34.3337,2,  34.3337,2,-999.0000,9,   299.03,2,   298.88,2,   99.691,   0.0124,2,    0.070,2,  -999.00,9,    0.447,2,    64.33,2,     0.12,    30.67,2,     0.04,     0.06,2,     0.01,     2.10,2,     0.01,    4.728,2,    2.513,2,    0.427,2,    2.181,2,   2219.8,2,   2321.0,2,   7.6107,       25,2, -999.000,9, -999.000,   -999.0,9,   -999.0, -999.000,9, -999.000, -999.000,9, -999.000
  49NZ20130106,  S04I,   139,  2,     30, X12J30,2,20130125,0423,-65.3682,  53.2462, 1261,    150.5,2,  -1.6389,2,  -1.63912,2,  34.3497,2,  34.3497,2,-999.0000,9,   295.67,2,   295.50,2,   99.761,   0.0096,2,    0.060,2,  -999.00,9,    0.158,2,    64.86,2,     0.12,    30.73,2,     0.04,     0.02,2,     0.01,     2.12,2,     0.01,    4.632,2,    2.462,2,    0.418,2,    2.145,2,   2221.2,2,   2322.2,2,   7.6080,       25,2, -999.000,9, -999.000,   -999.0,9,   -999.0, -999.000,9, -999.000, -999.000,9, -999.000
  49NZ20130106,  S04I,   139,  2,     29, X12J29,2,20130125,0423,-65.3682,  53.2462, 1261,    201.2,2,  -1.5061,2,  -1.50660,2,  34.3899,2,  34.3892,2,-999.0000,9,   290.88,2,   290.93,2,   99.816,   0.0074,2,    0.030,2,  -999.00,9,    0.007,2,    65.30,2,     0.12,    30.91,2,     0.04,     0.01,2,     0.01,     2.11,2,     0.01,    4.512,2,    2.382,2,    0.405,2,    2.035,2,   2224.8,2,   2324.9,2,   7.6055,       25,2, -999.000,9, -999.000,   -999.0,9,   -999.0, -999.000,9, -999.000, -999.000,9, -999.000
  49NZ20130106,  S04I,   139,  2,     28, X12J28,2,20130125,0423,-65.3682,  53.2462, 1261,    249.8,2,  -1.0780,2,  -1.08512,2,  34.4403,2,  34.4389,2,-999.0000,9,   276.35,2,   277.06,2,   99.827,   0.0069,2,    0.030,2,  -999.00,9,    0.000,2,    67.59,2,     0.12,    31.30,2,     0.04,     0.01,2,     0.01,     2.14,2,     0.01,    4.097,2,    2.159,2,    0.375,2,    1.767,2,   2230.0,2,   2330.6,2,   7.5982,       25,2, -999.000,9, -999.000,   -999.0,9,   -999.0, -999.000,9, -999.000, -999.000,9, -999.000
  49NZ20130106,  S04I,   139,  2,     27, X12J27,2,20130125,0423,-65.3682,  53.2462, 1261,    329.6,2,  -0.4037,2,  -0.40419,2,  34.5225,2,  34.5226,2,-999.0000,9,   253.93,2,   253.76,2,   99.867,   0.0053,2,    0.010,2,  -999.00,9,    0.000,2,    74.16,2,     0.13,    31.63,2,     0.04,     0.01,2,     0.01,     2.17,2,     0.01,    3.160,2,    1.667,2,    0.284,2,    1.409,2,   2239.1,2,   2333.9,2,   7.5912,       25,2, -999.000,9, -999.000,   -999.0,9,   -999.0, -999.000,9, -999.000, -999.000,9, -999.000
  49NZ20130106,  S04I,   139,  2,     26, X12J26,2,20130125,0423,-65.3682,  53.2462, 1261,    429.9,2,  -0.0768,2,  -0.07566,2,  34.5705,2,  34.5712,2,-999.0000,9,   243.12,2,   242.68,2,   99.888,   0.0045,2,    0.000,2,  -999.00,9,    0.000,2,    78.95,2,     0.13,    31.59,2,     0.04,     0.01,2,     0.01,     2.17,2,     0.01,    2.598,2,    1.371,2,    0.234,2,    1.143,2,   2241.2,2,   2336.8,2,   7.5942,       25,2, -999.000,9, -999.000,   -999.0,9,   -999.0, -999.000,9, -999.000, -999.000,9, -999.000
  49NZ20130106,  S04I,   139,  2,     25, X12J25,2,20130125,0423,-65.3682,  53.2462, 1261,    529.4,2,  -0.1503,2,  -0.15052,2,  34.5849,2,  34.5860,2,-999.0000,9,   244.02,2,   244.02,2,   99.895,   0.0042,2,    0.000,2,  -999.00,9,    0.000,2,    83.00,2,     0.13,    31.47,2,     0.04,     0.01,2,     0.01,     2.17,2,     0.01,    2.456,2,    1.303,2,    0.221,2,    1.076,2,   2242.3,2,   2340.7,2,   7.5962,       25,2, -999.000,9, -999.000,   -999.0,9,   -999.0, -999.000,9, -999.000, -999.000,9, -999.000
  49NZ20130106,  S04I,   139,  2,     24, X12J24,2,20130125,0423,-65.3682,  53.2462, 1261,    631.5,2,   0.0204,2,   0.01947,2,  34.6093,2,  34.6097,2,-999.0000,9,   236.97,2,   237.28,2,   99.926,   0.0030,2,    0.000,2,  -999.00,9,    0.000,2,    87.32,2,     0.14,    31.63,2,     0.04,     0.01,2,     0.01,     2.18,2,     0.01,    2.091,6,    1.119,6,    0.187,6,    0.943,6,   2241.2,2,   2343.2,2,   7.5967,       25,2, -999.000,9, -999.000,   -999.0,9,   -999.0, -999.000,9, -999.000, -999.000,9, -999.000
  49NZ20130106,  S04I,   139,  2,     23, X12J23,2,20130125,0423,-65.3682,  53.2462, 1261,    729.3,2,   0.1777,2,   0.17737,2,  34.6332,2,  34.6339,2,-999.0000,9,   230.25,2,   230.49,2,   99.933,   0.0027,2,   -0.000,2,  -999.00,9,    0.000,2,    92.50,2,     0.14,    31.79,2,     0.04,     0.01,2,     0.01,     2.19,2,     0.01,    1.706,2,    0.915,2,    0.154,2,    0.805,2,   2250.2,6,   2345.8,2,   7.5959,       25,2, -999.000,9, -999.000,   -999.0,9,   -999.0, -999.000,9, -999.000, -999.000,9, -999.000
  49NZ20130106,  S04I,   139,  2,     22, X12J22,2,20130125,0423,-65.3682,  53.2462, 1261,    830.1,2,   0.1955,2,   0.19521,2,  34.6388,2,  34.6389,2,-999.0000,9,   229.02,2,   229.23,2,   99.924,   0.0030,2,   -0.000,2,  -999.00,9,    0.000,2,    94.19,2,     0.14,    31.86,2,     0.04,     0.01,2,     0.01,     2.19,2,     0.01,    1.633,2,    0.866,2,    0.147,2,    0.696,2,   2251.0,2,   2346.7,6,   7.5961,       25,2, -999.000,9, -999.000,   -999.0,9,   -999.0, -999.000,9, -999.000, -999.000,9, -999.000
  49NZ20130106,  S04I,   139,  2,     21, X12J21,2,20130125,0423,-65.3682,  53.2462, 1261,    929.1,2,   0.1619,2,   0.16171,2,  34.6439,2,  34.6448,2,-999.0000,9,   228.26,2,   228.61,2,   99.924,   0.0030,2,   -0.000,2,  -999.00,9,    0.000,2,    97.70,2,     0.15,    31.98,2,     0.04,     0.01,2,     0.01,     2.20,2,     0.01,    1.493,2,    0.810,2,    0.134,2,    0.697,2,   2250.8,2,   2348.4,2,   7.5952,       25,6, -999.000,9, -999.000,   -999.0,9,   -999.0, -999.000,9, -999.000, -999.000,9, -999.000
  49NZ20130106,  S04I,   139,  2,     20, X12J20,2,20130125,0423,-65.3682,  53.2462, 1261,   1081.2,2,   0.2048,2,   0.20555,2,  34.6592,2,  34.6608,2,-999.0000,9,   223.61,2,   223.82,2,   99.926,   0.0030,2,   -0.000,2,  -999.00,9,    0.000,2,   104.72,2,     0.15,    32.24,2,     0.05,     0.01,2,     0.01,     2.22,2,     0.01,    1.160,2,    0.621,2,    0.101,2,    0.516,2,   2253.4,2,   2350.1,2,   7.5951,       25,2, -999.000,9, -999.000,   -999.0,9,   -999.0, -999.000,9, -999.000, -999.000,9, -999.000
  49NZ20130106,  S04I,   139,  2,      1, X12J01,2,20130125,0423,-65.3682,  53.2462, 1261,   1252.6,2,   0.1274,2,   0.12713,2,  34.6579,2,  34.6588,2,-999.0000,9,   225.88,2,   226.13,2,   99.924,   0.0030,2,   -0.000,2,  -999.00,9,    0.000,2,   106.31,2,     0.15,    32.28,2,     0.05,     0.01,2,     0.01,     2.24,2,     0.01,    1.196,2,    0.645,2,    0.104,2,    0.482,2,   2253.2,2,   2350.9,2,   7.5937,       25,2, -999.000,9, -999.000,   -999.0,9,   -999.0, -999.000,9, -999.000, -999.000,9, -999.000