BOTTLE,20220819CCHSIOAMB
EXPOCODE,SECT_ID,STNNBR,CASTNO,SAMPNO,BTLNBR,BTLNBR_FLAG_W,DATE,TIME,LATITUDE,LONGITUDE,DEPTH,CTDPRS,CTDPRS_FLAG_W,CTDTMP,CTDTMP_FLAG_W,SBE35,SBE35_FLAG_W,CTDSAL,CTDSAL_FLAG_W,SALNTY,SALNTY_FLAG_W,DNSSAL,DNSSAL_FLAG_W,CTDOXY,CTDOXY_FLAG_W,OXYGEN,OXYGEN_FLAG_W,CTDXMISS,CTDXMISSCP,CTDXMISS_FLAG_W,CTDFLUOR,CTDFLUOR_FLAG_W,CHLORA,CHLORA_FLAG_W,PAR,PAR_FLAG_W,SILCAT,SILCAT_FLAG_W,SILUNC,NITRAT,NITRAT_FLAG_W,NRAUNC,NITRIT,NITRIT_FLAG_W,NRIUNC,PHSPHT,PHSPHT_FLAG_W,PHPUNC,CFC-11,CFC-11_FLAG_W,CFC-12,CFC-12_FLAG_W,CFC113,CFC113_FLAG_W,SF6,SF6_FLAG_W,TCARBN,TCARBN_FLAG_W,ALKALI,ALKALI_FLAG_W,PH_TOT,PH_TMP,PH_TOT_FLAG_W,DELC13,DELC13_FLAG_W,C13ERR,DELC14,DELC14_FLAG_W,C14ERR,CS-134,CS-134_FLAG_W,CS134ER,CS-137,CS-137_FLAG_W,CS137ER
,,,,,,,,UTC,DEG,DEG,METERS,DBAR,,ITS-90,,ITS-90,,PSS-78,,PSS-78,,G/KG,,UMOL/KG,,UMOL/KG,,%TRANS,/METER,,MG/M^3,,MG/CUM,,UE/SQM/S,,UMOL/KG,,UMOL/KG,UMOL/KG,,UMOL/KG,UMOL/KG,,UMOL/KG,UMOL/KG,,UMOL/KG,PMOL/KG,,PMOL/KG,,PMOL/KG,,FMOL/KG,,UMOL/KG,,UMOL/KG,,,DEG C,,/MILLE,,/MILLE,/MILLE,,/MILLE,MBQ/KG,,MBQ/KG,MBQ/KG,,MBQ/KG
  49NZ20130106,  S04I,   165,  2,     36, X12J36,2,20130201,2251,-66.5050,  37.9997, 4601,      5.3,2,   0.7568,2,   0.75656,2,  33.8818,2,  33.8825,2,-999.0000,9,   337.76,2,   337.70,2,   97.954,   0.0827,2,    0.240,2,     0.12,2,    4.655,2,    49.37,2,     0.10,    26.03,2,     0.04,     0.24,2,     0.01,     1.83,2,     0.01,    5.624,2,    3.139,2,    0.580,2,    2.742,2,   -999.0,9,   -999.0,9,-999.0000,     -999,9, -999.000,9, -999.000,   -999.0,9,   -999.0, -999.000,9, -999.000, -999.000,9, -999.000
  49NZ20130106,  S04I,   165,  2,     35, X12J35,2,20130201,2251,-66.5050,  37.9997, 4601,     24.8,2,   0.7643,2,   0.76413,2,  33.8826,2,  33.8825,2,-999.0000,9,   337.65,2,   337.62,2,   97.960,   0.0824,2,    0.250,2,     0.12,2,    0.671,2,    49.43,2,     0.10,    26.02,2,     0.04,     0.24,2,     0.01,     1.84,2,     0.01,    5.599,2,    3.144,2,    0.579,2,    2.793,2,   -999.0,9,   -999.0,9,-999.0000,     -999,9, -999.000,9, -999.000,   -999.0,9,   -999.0, -999.000,9, -999.000, -999.000,9, -999.000
  49NZ20130106,  S04I,   165,  2,     34, X12J34,2,20130201,2251,-66.5050,  37.9997, 4601,     49.9,2,   0.5215,2,   0.52637,2,  33.9040,2,  33.9179,2,-999.0000,9,   337.61,2,   336.55,2,   97.694,   0.0933,2,    0.290,2,     0.15,2,    0.187,2,    49.89,2,     0.10,    26.11,2,     0.04,     0.22,2,     0.01,     1.85,2,     0.01,    5.545,6,    3.082,6,    0.571,6,    2.689,6,   -999.0,9,   -999.0,9,-999.0000,     -999,9, -999.000,9, -999.000,   -999.0,9,   -999.0, -999.000,9, -999.000, -999.000,9, -999.000
  49NZ20130106,  S04I,   165,  2,     33, X12J33,2,20130201,2251,-66.5050,  37.9997, 4601,     75.1,2,  -0.3004,2,  -0.27206,2,  34.3939,2,  34.4342,2,-999.0000,9,   248.94,2,   242.29,2,   97.481,   0.1021,2,    0.390,2,     0.34,2,    0.014,2,    71.00,2,     0.12,    31.33,2,     0.04,     0.18,2,     0.01,     2.21,2,     0.01,    2.970,2,    1.601,2,    0.297,2,    1.252,2,   -999.0,9,   -999.0,9,-999.0000,     -999,9, -999.000,9, -999.000,   -999.0,9,   -999.0, -999.000,9, -999.000, -999.000,9, -999.000
  49NZ20130106,  S04I,   165,  2,     32, X12J32,2,20130201,2251,-66.5050,  37.9997, 4601,    101.1,2,   1.1289,2,   1.12820,2,  34.6078,2,  34.6052,2,-999.0000,9,   186.17,2,   186.82,2,   99.175,   0.0331,2,    0.190,2,     0.21,2,    0.000,2,    86.39,2,     0.14,    34.10,2,     0.05,     0.11,2,     0.01,     2.39,2,     0.01,    1.284,2,    0.670,2,    0.111,2,    0.408,2,   -999.0,9,   -999.0,9,-999.0000,     -999,9, -999.000,9, -999.000,   -999.0,9,   -999.0, -999.000,9, -999.000, -999.000,9, -999.000
  49NZ20130106,  S04I,   165,  2,     31, X12J31,2,20130201,2251,-66.5050,  37.9997, 4601,    125.1,2,   1.2639,2,   1.26419,2,  34.6281,2,  34.6276,2,-999.0000,9,   184.21,2,   184.30,2,   99.317,   0.0274,2,    0.180,2,     0.17,2,    0.000,2,    87.49,2,     0.14,    33.93,2,     0.05,     0.13,2,     0.01,     2.37,2,     0.01,    1.065,2,    0.565,2,    0.091,2,    0.327,2,   -999.0,9,   -999.0,9,-999.0000,     -999,9, -999.000,9, -999.000,   -999.0,9,   -999.0, -999.000,9, -999.000, -999.000,9, -999.000
  49NZ20130106,  S04I,   165,  2,     30, X12J30,2,20130201,2251,-66.5050,  37.9997, 4601,    150.3,2,   1.4158,2,   1.41574,2,  34.6550,2,  34.6537,2,-999.0000,9,   183.59,2,   183.62,2,   99.630,   0.0148,2,    0.090,2,     0.07,2,    0.000,2,    89.09,2,     0.14,    33.69,2,     0.05,     0.03,2,     0.01,     2.34,2,     0.01,    0.882,2,    0.461,2,    0.073,2,    0.193,2,   -999.0,9,   -999.0,9,-999.0000,     -999,9, -999.000,9, -999.000,   -999.0,9,   -999.0, -999.000,9, -999.000, -999.000,9, -999.000
  49NZ20130106,  S04I,   165,  2,     29, X12J29,2,20130201,2251,-66.5050,  37.9997, 4601,    199.6,2,   1.4609,2,   1.46057,2,  34.6792,2,  34.6777,2,-999.0000,9,   185.21,2,   185.06,2,   99.762,   0.0095,2,    0.060,2,     0.03,2,    0.000,2,    89.88,2,     0.14,    33.12,2,     0.05,     0.02,2,     0.01,     2.30,2,     0.01,    0.695,2,    0.359,2,    0.051,2,    0.148,2,   -999.0,9,   -999.0,9,-999.0000,     -999,9, -999.000,9, -999.000,   -999.0,9,   -999.0, -999.000,9, -999.000, -999.000,9, -999.000
  49NZ20130106,  S04I,   165,  2,     28, X12J28,2,20130201,2251,-66.5050,  37.9997, 4601,    250.5,2,   1.4642,2,   1.46369,2,  34.6917,2,  34.6915,2,-999.0000,9,   186.84,2,   186.84,2,   99.711,   0.0116,2,    0.020,2,     0.02,2,    0.000,2,    90.71,2,     0.14,    32.75,2,     0.05,     0.01,2,     0.01,     2.28,2,     0.01,    0.621,2,    0.314,2,    0.047,2,    0.154,2,   -999.0,9,   -999.0,9,-999.0000,     -999,9, -999.000,9, -999.000,   -999.0,9,   -999.0, -999.000,9, -999.000, -999.000,9, -999.000
  49NZ20130106,  S04I,   165,  2,     27, X12J27,2,20130201,2251,-66.5050,  37.9997, 4601,    300.5,2,   1.4271,2,   1.42678,2,  34.7031,2,  34.7025,2,-999.0000,9,   189.71,2,   189.68,2,   99.860,   0.0056,2,    0.000,2,  -999.00,9,    0.000,2,    91.70,2,     0.14,    32.37,2,     0.05,     0.01,2,     0.01,     2.25,2,     0.01,    0.534,2,    0.276,2,    0.038,2,    0.130,2,   -999.0,9,   -999.0,9,-999.0000,     -999,9, -999.000,9, -999.000,   -999.0,9,   -999.0, -999.000,9, -999.000, -999.000,9, -999.000
  49NZ20130106,  S04I,   165,  2,     26, X12J26,2,20130201,2251,-66.5050,  37.9997, 4601,    399.0,2,   1.3482,2,   1.34767,2,  34.7119,2,  34.7117,2,-999.0000,9,   193.17,2,   193.02,2,   99.960,   0.0016,2,    0.000,2,  -999.00,9,    0.000,2,    93.52,2,     0.14,    32.01,2,     0.04,     0.01,2,     0.01,     2.21,2,     0.01,    0.473,2,    0.240,2,    0.031,2,    0.128,2,   -999.0,9,   -999.0,9,-999.0000,     -999,9, -999.000,9, -999.000,   -999.0,9,   -999.0, -999.000,9, -999.000, -999.000,9, -999.000
  49NZ20130106,  S04I,   165,  2,     25, X12J25,2,20130201,2251,-66.5050,  37.9997, 4601,    501.2,2,   1.2143,2,   1.21418,2,  34.7139,2,  34.7134,2,-999.0000,9,   196.39,2,   196.29,2,   99.990,   0.0004,2,    0.000,2,  -999.00,9,    0.000,2,    96.87,2,     0.15,    31.95,2,     0.04,     0.01,2,     0.01,     2.21,2,     0.01,    0.425,2,    0.225,2,    0.023,2,    0.075,2,   -999.0,9,   -999.0,9,-999.0000,     -999,9, -999.000,9, -999.000,   -999.0,9,   -999.0, -999.000,9, -999.000, -999.000,9, -999.000
  49NZ20130106,  S04I,   165,  2,     24, X12J24,2,20130201,2251,-66.5050,  37.9997, 4601,    600.6,2,   1.1293,2,   1.12964,2,  34.7139,2,  34.7139,2,-999.0000,9,   198.03,2,   198.11,2,   99.988,   0.0005,2,    0.000,2,  -999.00,9,    0.000,2,    99.60,2,     0.15,    32.00,2,     0.04,     0.01,2,     0.01,     2.22,2,     0.01,    0.406,6,    0.209,6,    0.026,6,    0.085,6,   -999.0,9,   -999.0,9,-999.0000,     -999,9, -999.000,9, -999.000,   -999.0,9,   -999.0, -999.000,9, -999.000, -999.000,9, -999.000
  49NZ20130106,  S04I,   165,  2,     23, X12J23,2,20130201,2251,-66.5050,  37.9997, 4601,    698.9,2,   1.0317,2,   1.03180,2,  34.7120,2,  34.7117,2,-999.0000,9,   199.67,2,   199.79,2,   99.969,   0.0012,2,    0.000,2,  -999.00,9,    0.000,2,   102.04,2,     0.15,    32.07,2,     0.04,     0.01,2,     0.01,     2.23,2,     0.01,    0.388,2,    0.200,2,    0.020,2,    0.121,2,   -999.0,9,   -999.0,9,-999.0000,     -999,9, -999.000,9, -999.000,   -999.0,9,   -999.0, -999.000,9, -999.000, -999.000,9, -999.000
  49NZ20130106,  S04I,   165,  2,     22, X12J22,2,20130201,2251,-66.5050,  37.9997, 4601,    800.4,2,   0.9430,2,   0.94339,2,  34.7091,2,  34.7092,2,-999.0000,9,   201.14,2,   201.04,2,   99.973,   0.0011,2,    0.000,2,  -999.00,9,    0.000,2,   104.53,2,     0.15,    32.12,2,     0.05,     0.01,2,     0.01,     2.24,2,     0.01,    0.383,2,    0.194,2,    0.017,2,    0.052,2,   -999.0,9,   -999.0,9,-999.0000,     -999,9, -999.000,9, -999.000,   -999.0,9,   -999.0, -999.000,9, -999.000, -999.000,9, -999.000
  49NZ20130106,  S04I,   165,  2,     21, X12J21,2,20130201,2251,-66.5050,  37.9997, 4601,    901.3,2,   0.8510,2,   0.85084,2,  34.7056,2,  34.7056,2,-999.0000,9,   202.31,2,   202.11,2,   99.997,   0.0001,2,    0.000,2,  -999.00,9,    0.000,2,   107.19,2,     0.16,    32.28,2,     0.05,     0.01,2,     0.01,     2.25,2,     0.01,    0.387,2,    0.193,2,    0.013,2,    0.053,2,   -999.0,9,   -999.0,9,-999.0000,     -999,9, -999.000,9, -999.000,   -999.0,9,   -999.0, -999.000,9, -999.000, -999.000,9, -999.000
  49NZ20130106,  S04I,   165,  2,     20, X12J20,2,20130201,2251,-66.5050,  37.9997, 4601,    999.7,2,   0.7753,2,   0.77527,2,  34.7021,2,  34.7021,2,-999.0000,9,   202.87,2,   202.75,2,   99.986,   0.0006,2,    0.000,2,  -999.00,9,    0.000,2,   109.47,2,     0.16,    32.44,2,     0.05,     0.01,2,     0.01,     2.26,2,     0.01,    0.368,2,    0.186,2,    0.020,2,    0.087,2,   -999.0,9,   -999.0,9,-999.0000,     -999,9, -999.000,9, -999.000,   -999.0,9,   -999.0, -999.000,9, -999.000, -999.000,9, -999.000
  49NZ20130106,  S04I,   165,  2,     19, X12J19,2,20130201,2251,-66.5050,  37.9997, 4601,   1252.0,2,   0.6211,2,   0.62137,2,  34.6958,2,  34.6958,2,-999.0000,9,   204.32,2,   204.31,2,   99.997,   0.0001,2,    0.000,2,  -999.00,9,    0.000,2,   114.21,2,     0.16,    32.78,2,     0.05,     0.01,2,     0.01,     2.28,2,     0.01,    0.349,6,    0.172,6,    0.018,6,    0.066,6,   -999.0,9,   -999.0,9,-999.0000,     -999,9, -999.000,9, -999.000,   -999.0,9,   -999.0, -999.000,9, -999.000, -999.000,9, -999.000
  49NZ20130106,  S04I,   165,  2,     18, X12J18,2,20130201,2251,-66.5050,  37.9997, 4601,   1502.0,2,   0.4941,2,   0.49389,2,  34.6899,2,  34.6900,2,-999.0000,9,   206.18,2,   206.23,2,  100.007,  -0.0003,2,    0.000,2,  -999.00,9,    0.000,2,   118.17,2,     0.16,    33.00,2,     0.05,     0.01,2,     0.01,     2.30,2,     0.01,    0.333,2,    0.161,2,    0.016,2,    0.005,2,   -999.0,9,   -999.0,9,-999.0000,     -999,9, -999.000,9, -999.000,   -999.0,9,   -999.0, -999.000,9, -999.000, -999.000,9, -999.000
  49NZ20130106,  S04I,   165,  2,     17, X12J17,2,20130201,2251,-66.5050,  37.9997, 4601,   1752.2,2,   0.3955,2,   0.39542,2,  34.6853,2,  34.6852,2,-999.0000,9,   208.89,2,   209.06,2,  100.001,  -0.0000,2,    0.000,2,  -999.00,9,    0.000,2,   120.67,2,     0.17,    33.00,2,     0.05,     0.01,2,     0.01,     2.30,2,     0.01,    0.324,2,    0.153,2,    0.014,2,    0.000,2,   -999.0,9,   -999.0,9,-999.0000,     -999,9, -999.000,9, -999.000,   -999.0,9,   -999.0, -999.000,9, -999.000, -999.000,9, -999.000
  49NZ20130106,  S04I,   165,  2,     16, X12J16,2,20130201,2251,-66.5050,  37.9997, 4601,   2000.4,2,   0.2814,2,   0.28150,2,  34.6793,2,  34.6789,2,-999.0000,9,   213.16,2,   213.17,2,  100.012,  -0.0005,2,    0.000,2,  -999.00,9,    0.000,2,   121.81,2,     0.17,    33.01,2,     0.05,     0.01,2,     0.01,     2.31,2,     0.01,    0.362,2,    0.183,2,    0.016,2,    0.043,2,   -999.0,9,   -999.0,9,-999.0000,     -999,9, -999.000,9, -999.000,   -999.0,9,   -999.0, -999.000,9, -999.000, -999.000,9, -999.000
  49NZ20130106,  S04I,   165,  2,     15, X12J15,2,20130201,2251,-66.5050,  37.9997, 4601,   2248.8,2,   0.1641,2,   0.16419,2,  34.6725,2,  34.6723,2,-999.0000,9,   218.73,2,   218.68,2,  100.014,  -0.0006,2,    0.000,2,  -999.00,9,    0.000,2,   121.20,2,     0.17,    32.89,2,     0.05,     0.00,2,     0.01,     2.28,2,     0.01,    0.479,2,    0.245,2,    0.026,2,    0.044,2,   -999.0,9,   -999.0,9,-999.0000,     -999,9, -999.000,9, -999.000,   -999.0,9,   -999.0, -999.000,9, -999.000, -999.000,9, -999.000
  49NZ20130106,  S04I,   165,  2,     14, X12J14,2,20130201,2251,-66.5050,  37.9997, 4601,   2500.5,2,   0.0821,2,   0.08228,2,  34.6684,2,  34.6682,2,-999.0000,9,   222.95,2,   222.85,2,  100.005,  -0.0002,2,    0.000,2,  -999.00,9,    0.000,2,   121.26,2,     0.17,    32.80,2,     0.05,     0.01,2,     0.01,     2.28,2,     0.01,    0.599,2,    0.297,2,    0.035,2,    0.034,2,   -999.0,9,   -999.0,9,-999.0000,     -999,9, -999.000,9, -999.000,   -999.0,9,   -999.0, -999.000,9, -999.000, -999.000,9, -999.000
  49NZ20130106,  S04I,   165,  2,     13, X12J13,2,20130201,2251,-66.5050,  37.9997, 4601,   2750.1,2,   0.0061,2,   0.00599,2,  34.6652,2,  34.6648,2,-999.0000,9,   226.86,2,   226.73,2,  100.009,  -0.0004,2,    0.000,2,  -999.00,9,    0.000,2,   121.63,2,     0.17,    32.73,2,     0.05,     0.00,2,     0.01,     2.28,2,     0.01,    0.668,2,    0.344,2,    0.042,2,    0.132,2,   -999.0,9,   -999.0,9,-999.0000,     -999,9, -999.000,9, -999.000,   -999.0,9,   -999.0, -999.000,9, -999.000, -999.000,9, -999.000
  49NZ20130106,  S04I,   165,  2,     12, X12J12,2,20130201,2251,-66.5050,  37.9997, 4601,   3001.1,2,  -0.0662,2,  -0.06624,2,  34.6615,2,  34.6611,2,-999.0000,9,   231.17,2,   231.08,2,  100.003,  -0.0001,2,    0.000,2,  -999.00,9,    0.000,2,   120.71,2,     0.17,    32.61,2,     0.05,     0.00,2,     0.01,     2.27,2,     0.01,    0.812,2,    0.437,2,    0.055,2,    0.225,2,   -999.0,9,   -999.0,9,-999.0000,     -999,9, -999.000,9, -999.000,   -999.0,9,   -999.0, -999.000,9, -999.000, -999.000,9, -999.000
  49NZ20130106,  S04I,   165,  2,     11, X12J11,2,20130201,2251,-66.5050,  37.9997, 4601,   3249.8,2,  -0.1195,2,  -0.11948,2,  34.6590,2,  34.6589,2,-999.0000,9,   234.36,2,   234.11,2,   99.999,   0.0000,2,    0.000,2,  -999.00,9,    0.000,2,   120.91,2,     0.17,    32.60,2,     0.05,     0.01,2,     0.01,     2.27,2,     0.01,    0.852,2,    0.454,2,    0.060,2,    0.164,2,   -999.0,9,   -999.0,9,-999.0000,     -999,9, -999.000,9, -999.000,   -999.0,9,   -999.0, -999.000,9, -999.000, -999.000,9, -999.000
  49NZ20130106,  S04I,   165,  2,     10, X12J10,2,20130201,2251,-66.5050,  37.9997, 4601,   3500.3,2,  -0.1608,2,  -0.16064,2,  34.6575,2,  34.6569,2,-999.0000,9,   236.33,2,   236.00,2,   99.995,   0.0002,2,    0.000,2,  -999.00,9,    0.000,2,   122.26,2,     0.17,    32.61,2,     0.05,     0.01,2,     0.01,     2.27,2,     0.01,    0.784,2,    0.411,2,    0.047,2,    0.169,2,   -999.0,9,   -999.0,9,-999.0000,     -999,9, -999.000,9, -999.000,   -999.0,9,   -999.0, -999.000,9, -999.000, -999.000,9, -999.000
  49NZ20130106,  S04I,   165,  2,      9, X12J09,2,20130201,2251,-66.5050,  37.9997, 4601,   3751.2,2,  -0.1999,2,  -0.19954,2,  34.6557,2,  34.6555,2,-999.0000,9,   238.65,2,   238.49,2,   99.971,   0.0012,2,   -0.000,2,  -999.00,9,    0.000,2,   123.24,2,     0.17,    32.59,2,     0.05,     0.00,2,     0.01,     2.27,2,     0.01,    0.769,2,    0.398,2,    0.050,2,    0.151,2,   -999.0,9,   -999.0,9,-999.0000,     -999,9, -999.000,9, -999.000,   -999.0,9,   -999.0, -999.000,9, -999.000, -999.000,9, -999.000
  49NZ20130106,  S04I,   165,  2,      8, X12J08,2,20130201,2251,-66.5050,  37.9997, 4601,   4000.1,2,  -0.2353,2,  -0.23532,2,  34.6527,2,  34.6528,2,-999.0000,9,   242.35,2,   241.97,2,   99.967,   0.0013,2,    0.000,2,  -999.00,9,    0.000,2,   122.00,2,     0.17,    32.48,2,     0.05,     0.01,2,     0.01,     2.27,2,     0.01,    0.955,6,    0.503,6,    0.062,6,    0.275,6,   -999.0,9,   -999.0,9,-999.0000,     -999,9, -999.000,9, -999.000,   -999.0,9,   -999.0, -999.000,9, -999.000, -999.000,9, -999.000
  49NZ20130106,  S04I,   165,  2,      7, X12J07,2,20130201,2251,-66.5050,  37.9997, 4601,   4250.0,2,  -0.2623,2,  -0.26233,2,  34.6506,2,  34.6504,2,-999.0000,9,   244.50,2,   244.34,2,   99.946,   0.0022,2,    0.000,2,  -999.00,9,    0.000,2,   122.63,2,     0.17,    32.37,2,     0.05,     0.01,2,     0.01,     2.27,2,     0.01,    0.997,2,    0.548,2,    0.063,2,    0.260,2,   -999.0,9,   -999.0,9,-999.0000,     -999,9, -999.000,9, -999.000,   -999.0,9,   -999.0, -999.000,9, -999.000, -999.000,9, -999.000
  49NZ20130106,  S04I,   165,  2,      6, X12J06,2,20130201,2251,-66.5050,  37.9997, 4601,   4501.5,2,  -0.2770,2,  -0.27700,2,  34.6501,2,  34.6497,2,-999.0000,9,   244.63,2,   244.72,2,   99.911,   0.0036,2,    0.000,2,  -999.00,9,    0.000,2,   127.14,2,     0.17,    32.50,2,     0.05,     0.01,2,     0.01,     2.27,2,     0.01,    0.893,2,    0.481,2,    0.052,2,    0.228,2,   -999.0,9,   -999.0,9,-999.0000,     -999,9, -999.000,9, -999.000,   -999.0,9,   -999.0, -999.000,9, -999.000, -999.000,9, -999.000
  49NZ20130106,  S04I,   165,  2,      2, X12J02,2,20130201,2251,-66.5050,  37.9997, 4601,     86.1,2,   0.8898,2,   0.87639,2,  34.5746,2,  34.5791,2,-999.0000,9,   194.38,2,   194.28,2,   98.129,   0.0755,2,    0.370,2,     0.38,2,    0.000,2,    84.04,2,     0.13,    33.74,2,     0.05,     0.11,2,     0.01,     2.37,2,     0.01, -999.000,9, -999.000,9, -999.000,9, -999.000,9,   -999.0,9,   -999.0,9,-999.0000,     -999,9, -999.000,9, -999.000,   -999.0,9,   -999.0, -999.000,9, -999.000, -999.000,9, -999.000
  49NZ20130106,  S04I,   165,  2,      1, X12J01,2,20130201,2251,-66.5050,  37.9997, 4601,   4686.8,2,  -0.2900,2,  -0.29013,2,  34.6500,2,  34.6500,2,-999.0000,9,   241.91,2,   241.92,2,   99.394,   0.0243,2,    0.000,2,  -999.00,9,    0.000,2,   139.61,2,     0.18,    32.84,2,     0.05,     0.01,2,     0.01,     2.29,2,     0.01,    0.685,2,    0.348,2,    0.033,2,    0.143,2,   -999.0,9,   -999.0,9,-999.0000,     -999,9, -999.000,9, -999.000,   -999.0,9,   -999.0, -999.000,9, -999.000, -999.000,9, -999.000