BOTTLE,20220819CCHSIOAMB
EXPOCODE,SECT_ID,STNNBR,CASTNO,SAMPNO,BTLNBR,BTLNBR_FLAG_W,DATE,TIME,LATITUDE,LONGITUDE,DEPTH,CTDPRS,CTDPRS_FLAG_W,CTDTMP,CTDTMP_FLAG_W,SBE35,SBE35_FLAG_W,CTDSAL,CTDSAL_FLAG_W,SALNTY,SALNTY_FLAG_W,DNSSAL,DNSSAL_FLAG_W,CTDOXY,CTDOXY_FLAG_W,OXYGEN,OXYGEN_FLAG_W,CTDXMISS,CTDXMISSCP,CTDXMISS_FLAG_W,CTDFLUOR,CTDFLUOR_FLAG_W,CHLORA,CHLORA_FLAG_W,PAR,PAR_FLAG_W,SILCAT,SILCAT_FLAG_W,SILUNC,NITRAT,NITRAT_FLAG_W,NRAUNC,NITRIT,NITRIT_FLAG_W,NRIUNC,PHSPHT,PHSPHT_FLAG_W,PHPUNC,CFC-11,CFC-11_FLAG_W,CFC-12,CFC-12_FLAG_W,CFC113,CFC113_FLAG_W,SF6,SF6_FLAG_W,TCARBN,TCARBN_FLAG_W,ALKALI,ALKALI_FLAG_W,PH_TOT,PH_TMP,PH_TOT_FLAG_W,DELC13,DELC13_FLAG_W,C13ERR,DELC14,DELC14_FLAG_W,C14ERR,CS-134,CS-134_FLAG_W,CS134ER,CS-137,CS-137_FLAG_W,CS137ER
,,,,,,,,UTC,DEG,DEG,METERS,DBAR,,ITS-90,,ITS-90,,PSS-78,,PSS-78,,G/KG,,UMOL/KG,,UMOL/KG,,%TRANS,/METER,,MG/M^3,,MG/CUM,,UE/SQM/S,,UMOL/KG,,UMOL/KG,UMOL/KG,,UMOL/KG,UMOL/KG,,UMOL/KG,UMOL/KG,,UMOL/KG,PMOL/KG,,PMOL/KG,,PMOL/KG,,FMOL/KG,,UMOL/KG,,UMOL/KG,,,DEG C,,/MILLE,,/MILLE,/MILLE,,/MILLE,MBQ/KG,,MBQ/KG,MBQ/KG,,MBQ/KG
  49NZ20130106,  S04I,   103,  1,     36, X12J36,2,20130117,0119,-63.1185,  88.6875, 3830,     10.2,2,   1.0160,2,   1.01670,2,  34.0209,2,  34.0203,2,-999.0000,9,   339.90,2,   339.85,2,   96.733,   0.1329,2,    0.200,2,  -999.00,9,   96.465,2,    54.05,2,     0.11,    27.40,2,     0.04,     0.22,2,     0.01,     1.84,2,     0.01,    5.580,2,    3.066,2,    0.533,2, -999.000,9,   -999.0,9,   -999.0,9,-999.0000,     -999,9, -999.000,9, -999.000,   -999.0,9,   -999.0, -999.000,9, -999.000, -999.000,9, -999.000
  49NZ20130106,  S04I,   103,  1,     35, X12J35,2,20130117,0119,-63.1185,  88.6875, 3830,     24.1,2,   1.0047,2,   1.00497,2,  34.0223,2,  34.0218,2,-999.0000,9,   339.90,2,   339.92,2,   96.752,   0.1321,2,    0.240,2,  -999.00,9,   34.505,2,    54.08,2,     0.11,    27.39,2,     0.04,     0.22,2,     0.01,     1.85,2,     0.01,    5.583,2,    3.071,2,    0.567,2, -999.000,9,   -999.0,9,   -999.0,9,-999.0000,     -999,9, -999.000,9, -999.000,   -999.0,9,   -999.0, -999.000,9, -999.000, -999.000,9, -999.000
  49NZ20130106,  S04I,   103,  1,     34, X12J34,2,20130117,0119,-63.1185,  88.6875, 3830,     51.0,2,   0.0333,2,   0.03496,2,  34.0770,2,  34.0782,2,-999.0000,9,   339.93,2,   340.91,2,   96.627,   0.1372,2,    0.330,2,  -999.00,9,   10.129,2,    55.59,2,     0.11,    27.96,2,     0.04,     0.16,2,     0.01,     1.93,2,     0.01,    5.452,6,    2.983,6,    0.561,6, -999.000,9,   -999.0,9,   -999.0,9,-999.0000,     -999,9, -999.000,9, -999.000,   -999.0,9,   -999.0, -999.000,9, -999.000, -999.000,9, -999.000
  49NZ20130106,  S04I,   103,  1,     33, X12J33,2,20130117,0119,-63.1185,  88.6875, 3830,     76.2,2,  -1.2696,2,  -1.26947,2,  34.2541,2,  34.2466,2,-999.0000,9,   297.94,2,   299.44,2,   97.554,   0.0991,2,    0.440,2,  -999.00,9,    2.464,2,    63.40,2,     0.12,    30.43,2,     0.04,     0.11,2,     0.01,     2.12,2,     0.01,    4.214,2,    2.295,2,    0.386,2, -999.000,9,   -999.0,9,   -999.0,9,-999.0000,     -999,9, -999.000,9, -999.000,   -999.0,9,   -999.0, -999.000,9, -999.000, -999.000,9, -999.000
  49NZ20130106,  S04I,   103,  1,     32, X12J32,2,20130117,0119,-63.1185,  88.6875, 3830,    100.7,2,  -0.7606,2,  -0.76232,2,  34.3664,2,  34.3662,2,-999.0000,9,   261.35,2,   261.01,2,   99.240,   0.0305,2,    0.180,2,  -999.00,9,    0.742,2,    69.64,2,     0.12,    32.02,3,     0.08,     0.10,2,     0.01,     2.21,2,     0.01,    3.307,2,    1.794,2,    0.330,2, -999.000,9,   -999.0,9,   -999.0,9,-999.0000,     -999,9, -999.000,9, -999.000,   -999.0,9,   -999.0, -999.000,9, -999.000, -999.000,9, -999.000
  49NZ20130106,  S04I,   103,  1,     31, X12J31,2,20130117,0119,-63.1185,  88.6875, 3830,    125.9,2,  -0.1604,2,  -0.16011,2,  34.4445,2,  34.4445,2,-999.0000,9,   240.85,2,   240.33,2,   99.556,   0.0178,2,    0.110,2,  -999.00,9,    0.272,2,    73.18,2,     0.12,    32.31,2,     0.05,     0.04,2,     0.01,     2.23,2,     0.01,    2.677,2,    1.455,2,    0.257,2, -999.000,9,   -999.0,9,   -999.0,9,-999.0000,     -999,9, -999.000,9, -999.000,   -999.0,9,   -999.0, -999.000,9, -999.000, -999.000,9, -999.000
  49NZ20130106,  S04I,   103,  1,     30, X12J30,2,20130117,0119,-63.1185,  88.6875, 3830,    150.8,2,   0.3287,2,   0.32746,2,  34.5043,2,  34.5024,2,-999.0000,9,   225.55,2,   225.38,2,   99.666,   0.0134,2,    0.060,2,  -999.00,9,    0.092,2,    76.04,2,     0.13,    32.56,2,     0.05,     0.03,2,     0.01,     2.25,2,     0.01,    2.185,2,    1.184,2,    0.215,2, -999.000,9,   -999.0,9,   -999.0,9,-999.0000,     -999,9, -999.000,9, -999.000,   -999.0,9,   -999.0, -999.000,9, -999.000, -999.000,9, -999.000
  49NZ20130106,  S04I,   103,  1,     29, X12J29,2,20130117,0119,-63.1185,  88.6875, 3830,    200.1,2,   1.1022,2,   1.10058,2,  34.6086,2,  34.6069,2,-999.0000,9,   202.14,2,   202.07,2,   99.677,   0.0129,2,    0.030,2,  -999.00,9,    0.000,2,    81.46,2,     0.13,    32.88,2,     0.05,     0.02,2,     0.01,     2.26,2,     0.01,    1.321,2,    0.708,2,    0.116,2, -999.000,9,   -999.0,9,   -999.0,9,-999.0000,     -999,9, -999.000,9, -999.000,   -999.0,9,   -999.0, -999.000,9, -999.000, -999.000,9, -999.000
  49NZ20130106,  S04I,   103,  1,     28, X12J28,2,20130117,0119,-63.1185,  88.6875, 3830,    252.4,2,   1.4602,2,   1.46026,2,  34.6688,2,  34.6683,2,-999.0000,9,   192.71,2,   192.29,2,   99.738,   0.0105,2,    0.010,2,  -999.00,9,    0.000,2,    84.69,2,     0.13,    32.81,2,     0.05,     0.01,2,     0.01,     2.25,2,     0.01,    0.831,2,    0.437,2,    0.067,2, -999.000,9,   -999.0,9,   -999.0,9,-999.0000,     -999,9, -999.000,9, -999.000,   -999.0,9,   -999.0, -999.000,9, -999.000, -999.000,9, -999.000
  49NZ20130106,  S04I,   103,  1,     27, X12J27,2,20130117,0119,-63.1185,  88.6875, 3830,    331.0,2,   1.5693,2,   1.56917,2,  34.7028,2,  34.7025,2,-999.0000,9,   191.77,2,   191.50,2,   99.878,   0.0049,2,    0.010,2,  -999.00,9,    0.000,2,    86.21,2,     0.14,    32.34,2,     0.05,     0.01,2,     0.01,     2.21,2,     0.01,    0.585,2,    0.297,2,    0.055,2, -999.000,9,   -999.0,9,   -999.0,9,-999.0000,     -999,9, -999.000,9, -999.000,   -999.0,9,   -999.0, -999.000,9, -999.000, -999.000,9, -999.000
  49NZ20130106,  S04I,   103,  1,     26, X12J26,2,20130117,0119,-63.1185,  88.6875, 3830,    430.8,2,   1.5029,2,   1.50286,2,  34.7168,2,  34.7169,2,-999.0000,9,   195.39,2,   195.35,2,   99.935,   0.0026,2,    0.010,2,  -999.00,9,    0.000,2,    87.72,2,     0.14,    31.58,2,     0.04,     0.01,2,     0.01,     2.16,2,     0.01,    0.501,2,    0.254,2,    0.033,2, -999.000,9,   -999.0,9,   -999.0,9,-999.0000,     -999,9, -999.000,9, -999.000,   -999.0,9,   -999.0, -999.000,9, -999.000, -999.000,9, -999.000
  49NZ20130106,  S04I,   103,  1,     25, X12J25,2,20130117,0119,-63.1185,  88.6875, 3830,    528.9,2,   1.4392,2,   1.43923,2,  34.7250,2,  34.7250,2,-999.0000,9,   197.73,2,   197.65,2,   99.937,   0.0025,2,    0.000,2,  -999.00,9,    0.000,2,    90.19,2,     0.14,    31.37,2,     0.04,     0.01,2,     0.01,     2.16,2,     0.01,    0.428,2,    0.215,2,    0.024,2, -999.000,9,   -999.0,9,   -999.0,9,-999.0000,     -999,9, -999.000,9, -999.000,   -999.0,9,   -999.0, -999.000,9, -999.000, -999.000,9, -999.000
  49NZ20130106,  S04I,   103,  1,     24, X12J24,2,20130117,0119,-63.1185,  88.6875, 3830,    630.0,2,   1.3405,2,   1.34069,2,  34.7247,2,  34.7248,2,-999.0000,9,   199.60,2,   199.46,2,   99.916,   0.0034,2,    0.000,2,  -999.00,9,    0.000,2,    92.53,2,     0.14,    31.40,2,     0.04,     0.01,2,     0.01,     2.16,2,     0.01,    0.421,6,    0.208,6,    0.037,6, -999.000,9,   -999.0,9,   -999.0,9,-999.0000,     -999,9, -999.000,9, -999.000,   -999.0,9,   -999.0, -999.000,9, -999.000, -999.000,9, -999.000
  49NZ20130106,  S04I,   103,  1,     23, X12J23,2,20130117,0119,-63.1185,  88.6875, 3830,    731.9,2,   1.2539,2,   1.25383,2,  34.7253,2,  34.7251,2,-999.0000,9,   200.97,2,   200.83,2,   99.910,   0.0036,2,    0.000,2,  -999.00,9,    0.000,2,    95.23,2,     0.14,    31.39,2,     0.04,     0.01,2,     0.01,     2.16,2,     0.01,    0.384,2,    0.192,2,    0.027,2,    0.105,2,   -999.0,9,   -999.0,9,-999.0000,     -999,9, -999.000,9, -999.000,   -999.0,9,   -999.0, -999.000,9, -999.000, -999.000,9, -999.000
  49NZ20130106,  S04I,   103,  1,     22, X12J22,2,20130117,0119,-63.1185,  88.6875, 3830,    830.2,2,   1.1625,2,   1.16255,2,  34.7229,2,  34.7227,2,-999.0000,9,   202.24,2,   202.11,2,   99.950,   0.0020,2,    0.000,2,  -999.00,9,    0.000,2,    97.90,2,     0.15,    31.56,2,     0.04,     0.01,2,     0.01,     2.18,2,     0.01,    0.368,2,    0.184,2,    0.025,2,    0.059,2,   -999.0,9,   -999.0,9,-999.0000,     -999,9, -999.000,9, -999.000,   -999.0,9,   -999.0, -999.000,9, -999.000, -999.000,9, -999.000
  49NZ20130106,  S04I,   103,  1,     21, X12J21,2,20130117,0119,-63.1185,  88.6875, 3830,    931.8,2,   1.0844,2,   1.08465,2,  34.7214,2,  34.7215,2,-999.0000,9,   203.02,2,   202.94,2,   99.956,   0.0018,2,    0.000,2,  -999.00,9,    0.000,2,   101.09,2,     0.15,    31.66,2,     0.04,     0.01,2,     0.01,     2.19,2,     0.01,    0.339,2,    0.162,2,    0.020,2,    0.000,2,   -999.0,9,   -999.0,9,-999.0000,     -999,9, -999.000,9, -999.000,   -999.0,9,   -999.0, -999.000,9, -999.000, -999.000,9, -999.000
  49NZ20130106,  S04I,   103,  1,     20, X12J20,2,20130117,0119,-63.1185,  88.6875, 3830,   1081.1,2,   0.9705,2,   0.97064,2,  34.7170,2,  34.7167,2,-999.0000,9,   204.38,2,   204.35,2,   99.954,   0.0018,2,    0.000,2,  -999.00,9,    0.000,2,   104.76,2,     0.15,    31.84,2,     0.04,     0.01,2,     0.01,     2.20,2,     0.01,    0.300,2,    0.146,2,    0.019,2,    0.067,2,   -999.0,9,   -999.0,9,-999.0000,     -999,9, -999.000,9, -999.000,   -999.0,9,   -999.0, -999.000,9, -999.000, -999.000,9, -999.000
  49NZ20130106,  S04I,   103,  1,     19, X12J19,2,20130117,0119,-63.1185,  88.6875, 3830,   1330.6,2,   0.7689,2,   0.76877,2,  34.7062,2,  34.7053,2,-999.0000,9,   206.56,2,   206.57,2,   99.969,   0.0012,2,   -0.000,2,  -999.00,9,    0.000,2,   110.51,2,     0.16,    32.24,2,     0.05,     0.01,2,     0.01,     2.23,2,     0.01,    0.318,6,    0.154,6,    0.017,6,    0.061,6,   -999.0,9,   -999.0,9,-999.0000,     -999,9, -999.000,9, -999.000,   -999.0,9,   -999.0, -999.000,9, -999.000, -999.000,9, -999.000
  49NZ20130106,  S04I,   103,  1,     18, X12J18,2,20130117,0119,-63.1185,  88.6875, 3830,   1581.7,2,   0.5856,2,   0.58561,2,  34.6966,2,  34.6965,2,-999.0000,9,   209.33,2,   209.34,2,   99.984,   0.0006,2,   -0.000,2,  -999.00,9,    0.000,2,   115.49,2,     0.16,    32.56,2,     0.05,     0.01,2,     0.01,     2.25,2,     0.01,    0.342,2,    0.165,2,    0.017,2,    0.093,2,   -999.0,9,   -999.0,9,-999.0000,     -999,9, -999.000,9, -999.000,   -999.0,9,   -999.0, -999.000,9, -999.000, -999.000,9, -999.000
  49NZ20130106,  S04I,   103,  1,     17, X12J17,2,20130117,0119,-63.1185,  88.6875, 3830,   1831.3,2,   0.4377,2,   0.43778,2,  34.6892,2,  34.6894,2,-999.0000,9,   212.47,2,   212.60,2,   99.975,   0.0010,2,   -0.000,2,  -999.00,9,    0.000,2,   118.89,2,     0.17,    32.74,2,     0.05,     0.01,2,     0.01,     2.27,2,     0.01,    0.393,2,    0.194,2,    0.018,2,    0.095,2,   -999.0,9,   -999.0,9,-999.0000,     -999,9, -999.000,9, -999.000,   -999.0,9,   -999.0, -999.000,9, -999.000, -999.000,9, -999.000
  49NZ20130106,  S04I,   103,  1,     16, X12J16,2,20130117,0119,-63.1185,  88.6875, 3830,   2083.1,2,   0.3134,2,   0.31334,2,  34.6833,2,  34.6839,2,-999.0000,9,   216.02,2,   216.24,2,   99.973,   0.0011,2,   -0.000,2,  -999.00,9,    0.000,2,   120.58,2,     0.17,    32.67,2,     0.05,     0.01,2,     0.01,     2.25,2,     0.01,    0.499,2,    0.247,2,    0.021,2,    0.079,2,   -999.0,9,   -999.0,9,-999.0000,     -999,9, -999.000,9, -999.000,   -999.0,9,   -999.0, -999.000,9, -999.000, -999.000,9, -999.000
  49NZ20130106,  S04I,   103,  1,     15, X12J15,2,20130117,0119,-63.1185,  88.6875, 3830,   2331.3,2,   0.2064,2,   0.20642,2,  34.6784,2,  34.6785,2,-999.0000,9,   219.43,2,   219.58,2,   99.984,   0.0006,2,   -0.000,2,  -999.00,9,    0.000,2,   122.00,2,     0.17,    32.74,2,     0.05,     0.01,2,     0.01,     2.26,2,     0.01,    0.601,2,    0.296,2,    0.034,2,    0.092,2,   -999.0,9,   -999.0,9,-999.0000,     -999,9, -999.000,9, -999.000,   -999.0,9,   -999.0, -999.000,9, -999.000, -999.000,9, -999.000
  49NZ20130106,  S04I,   103,  1,     14, X12J14,2,20130117,0119,-63.1185,  88.6875, 3830,   2581.0,2,   0.1146,2,   0.11458,2,  34.6736,2,  34.6739,2,-999.0000,9,   222.62,2,   222.83,2,   99.982,   0.0007,2,   -0.000,2,  -999.00,9,    0.000,2,   122.76,2,     0.17,    32.74,2,     0.05,     0.01,2,     0.01,     2.27,2,     0.01,    0.690,2,    0.345,2,    0.045,2,    0.149,2,   -999.0,9,   -999.0,9,-999.0000,     -999,9, -999.000,9, -999.000,   -999.0,9,   -999.0, -999.000,9, -999.000, -999.000,9, -999.000
  49NZ20130106,  S04I,   103,  1,     13, X12J13,2,20130117,0119,-63.1185,  88.6875, 3830,   2830.2,2,   0.0398,2,   0.03969,2,  34.6698,2,  34.6692,2,-999.0000,9,   225.86,2,   226.13,2,   99.967,   0.0013,2,   -0.000,2,  -999.00,9,    0.000,2,   122.61,2,     0.17,    32.69,2,     0.05,     0.01,2,     0.01,     2.27,2,     0.01,    0.867,2,    0.434,2,    0.060,2,    0.193,2,   -999.0,9,   -999.0,9,-999.0000,     -999,9, -999.000,9, -999.000,   -999.0,9,   -999.0, -999.000,9, -999.000, -999.000,9, -999.000
  49NZ20130106,  S04I,   103,  1,     12, X12J12,2,20130117,0119,-63.1185,  88.6875, 3830,   3081.1,2,  -0.0164,2,  -0.01637,2,  34.6670,2,  34.6668,2,-999.0000,9,   228.83,2,   228.99,2,   99.948,   0.0021,2,   -0.010,2,  -999.00,9,    0.000,2,   122.43,2,     0.17,    32.64,2,     0.05,     0.01,2,     0.01,     2.25,2,     0.01,    1.067,2,    0.541,2,    0.071,2,    0.188,2,   -999.0,9,   -999.0,9,-999.0000,     -999,9, -999.000,9, -999.000,   -999.0,9,   -999.0, -999.000,9, -999.000, -999.000,9, -999.000
  49NZ20130106,  S04I,   103,  1,     11, X12J11,2,20130117,0119,-63.1185,  88.6875, 3830,   3330.6,2,  -0.0611,2,  -0.06115,2,  34.6639,2,  34.6633,2,-999.0000,9,   231.05,2,   231.36,2,   99.899,   0.0040,2,   -0.010,2,  -999.00,9,    0.000,2,   122.65,2,     0.17,    32.59,2,     0.05,     0.01,2,     0.01,     2.26,2,     0.01,    1.239,2,    0.634,2,    0.081,2,    0.292,2,   -999.0,9,   -999.0,9,-999.0000,     -999,9, -999.000,9, -999.000,   -999.0,9,   -999.0, -999.000,9, -999.000, -999.000,9, -999.000
  49NZ20130106,  S04I,   103,  1,     10, X12J10,2,20130117,0119,-63.1185,  88.6875, 3830,   3579.9,2,  -0.0992,2,  -0.09929,2,  34.6609,2,  34.6603,2,-999.0000,9,   232.70,2,   232.76,2,   99.823,   0.0071,2,   -0.010,2,  -999.00,9,    0.000,2,   125.49,2,     0.17,    32.63,2,     0.05,     0.01,2,     0.01,     2.26,2,     0.01,    1.343,2,    0.697,2,    0.097,2,    0.292,2,   -999.0,9,   -999.0,9,-999.0000,     -999,9, -999.000,9, -999.000,   -999.0,9,   -999.0, -999.000,9, -999.000, -999.000,9, -999.000
  49NZ20130106,  S04I,   103,  1,      9, X12J09,2,20130117,0119,-63.1185,  88.6875, 3830,   3829.8,2,  -0.1402,2,  -0.14037,2,  34.6558,2,  34.6555,2,-999.0000,9,   235.18,2,   235.16,2,   99.473,   0.0211,2,   -0.000,2,  -999.00,9,    0.000,2,   126.13,2,     0.17,    32.57,2,     0.05,     0.01,2,     0.01,     2.26,2,     0.01,    1.727,2,    0.900,2,    0.123,2,    0.465,2,   -999.0,9,   -999.0,9,-999.0000,     -999,9, -999.000,9, -999.000,   -999.0,9,   -999.0, -999.000,9, -999.000, -999.000,9, -999.000
  49NZ20130106,  S04I,   103,  1,      1, X12J01,2,20130117,0119,-63.1185,  88.6875, 3830,   3890.9,2,  -0.1573,2,  -0.15752,2,  34.6533,2,  34.6529,2,-999.0000,9,   236.05,2,   236.36,2,   99.170,   0.0333,2,   -0.010,2,  -999.00,9,    0.000,2,   125.85,2,     0.17,    32.57,2,     0.05,     0.01,2,     0.01,     2.26,2,     0.01,    1.838,2,    0.972,2,    0.135,2,    0.546,2,   -999.0,9,   -999.0,9,-999.0000,     -999,9, -999.000,9, -999.000,   -999.0,9,   -999.0, -999.000,9, -999.000, -999.000,9, -999.000