BOTTLE,20220819CCHSIOAMB
EXPOCODE,SECT_ID,STNNBR,CASTNO,SAMPNO,BTLNBR,BTLNBR_FLAG_W,DATE,TIME,LATITUDE,LONGITUDE,DEPTH,CTDPRS,CTDPRS_FLAG_W,CTDTMP,CTDTMP_FLAG_W,SBE35,SBE35_FLAG_W,CTDSAL,CTDSAL_FLAG_W,SALNTY,SALNTY_FLAG_W,DNSSAL,DNSSAL_FLAG_W,CTDOXY,CTDOXY_FLAG_W,OXYGEN,OXYGEN_FLAG_W,CTDXMISS,CTDXMISSCP,CTDXMISS_FLAG_W,CTDFLUOR,CTDFLUOR_FLAG_W,CHLORA,CHLORA_FLAG_W,PAR,PAR_FLAG_W,SILCAT,SILCAT_FLAG_W,SILUNC,NITRAT,NITRAT_FLAG_W,NRAUNC,NITRIT,NITRIT_FLAG_W,NRIUNC,PHSPHT,PHSPHT_FLAG_W,PHPUNC,CFC-11,CFC-11_FLAG_W,CFC-12,CFC-12_FLAG_W,CFC113,CFC113_FLAG_W,SF6,SF6_FLAG_W,TCARBN,TCARBN_FLAG_W,ALKALI,ALKALI_FLAG_W,PH_TOT,PH_TMP,PH_TOT_FLAG_W,DELC13,DELC13_FLAG_W,C13ERR,DELC14,DELC14_FLAG_W,C14ERR,CS-134,CS-134_FLAG_W,CS134ER,CS-137,CS-137_FLAG_W,CS137ER
,,,,,,,,UTC,DEG,DEG,METERS,DBAR,,ITS-90,,ITS-90,,PSS-78,,PSS-78,,G/KG,,UMOL/KG,,UMOL/KG,,%TRANS,/METER,,MG/M^3,,MG/CUM,,UE/SQM/S,,UMOL/KG,,UMOL/KG,UMOL/KG,,UMOL/KG,UMOL/KG,,UMOL/KG,UMOL/KG,,UMOL/KG,PMOL/KG,,PMOL/KG,,PMOL/KG,,FMOL/KG,,UMOL/KG,,UMOL/KG,,,DEG C,,/MILLE,,/MILLE,/MILLE,,/MILLE,MBQ/KG,,MBQ/KG,MBQ/KG,,MBQ/KG
  49NZ20130106,  S04I,    91,  1,     36, X12J36,2,20130113,1634,-62.0337, 104.3085, 4322,      5.0,2,   1.7607,2,   1.76102,2,  33.5860,2,  33.5863,2,-999.0000,9,   339.04,2,   338.55,2,   94.987,   0.2057,2,    0.430,2,  -999.00,9,    1.359,2,    24.95,2,     0.08,    23.85,2,     0.04,     0.27,2,     0.01,     1.56,2,     0.01,    5.627,2,    3.083,2,    0.499,2,    2.871,2,   -999.0,9,   -999.0,9,-999.0000,     -999,9, -999.000,9, -999.000,   -999.0,9,   -999.0, -999.000,9, -999.000, -999.000,9, -999.000
  49NZ20130106,  S04I,    91,  1,     35, X12J35,2,20130113,1634,-62.0337, 104.3085, 4322,     24.8,2,   1.7443,2,   1.73848,2,  33.8458,2,  33.8189,2,-999.0000,9,   343.42,2,   343.28,2,   94.905,   0.2092,2,    0.520,2,  -999.00,9,    0.000,2,    20.57,2,     0.08,    24.76,2,     0.04,     0.26,2,     0.01,     1.60,2,     0.01,    5.666,2,    3.088,2,    0.503,2,    2.771,2,   -999.0,9,   -999.0,9,-999.0000,     -999,9, -999.000,9, -999.000,   -999.0,9,   -999.0, -999.000,9, -999.000, -999.000,9, -999.000
  49NZ20130106,  S04I,    91,  1,     34, X12J34,2,20130113,1634,-62.0337, 104.3085, 4322,     50.3,2,  -0.4636,2,  -0.45622,2,  33.9160,2,  33.9156,2,-999.0000,9,   354.92,2,   355.40,2,   92.580,   0.3084,2,    0.930,2,  -999.00,9,    0.000,2,    34.38,2,     0.09,    26.51,2,     0.04,     0.18,2,     0.01,     1.84,2,     0.01,    5.776,6,    3.164,6,    0.515,6,    2.923,6,   -999.0,9,   -999.0,9,-999.0000,     -999,9, -999.000,9, -999.000,   -999.0,9,   -999.0, -999.000,9, -999.000, -999.000,9, -999.000
  49NZ20130106,  S04I,    91,  1,     33, X12J33,2,20130113,1634,-62.0337, 104.3085, 4322,     75.1,2,  -0.9956,2,  -0.99620,2,  33.9882,2,  33.9860,2,-999.0000,9,   336.51,2,   336.52,2,   96.210,   0.1545,2,    0.620,2,  -999.00,9,    0.000,2,    42.72,2,     0.10,    28.48,2,     0.04,     0.18,2,     0.01,     2.03,3,     0.01,    5.551,2,    3.019,2,    0.497,2,    2.752,2,   -999.0,9,   -999.0,9,-999.0000,     -999,9, -999.000,9, -999.000,   -999.0,9,   -999.0, -999.000,9, -999.000, -999.000,9, -999.000
  49NZ20130106,  S04I,    91,  1,     32, X12J32,2,20130113,1634,-62.0337, 104.3085, 4322,     99.8,2,  -0.9001,2,  -0.90203,2,  34.1202,2,  34.1133,2,-999.0000,9,   302.44,2,   302.92,2,   98.801,   0.0482,2,    0.220,2,  -999.00,9,    0.000,2,    51.89,2,     0.11,    30.59,2,     0.04,     0.15,2,     0.01,     2.15,2,     0.01,    4.808,2,    2.616,2,    0.424,2,    2.239,2,   -999.0,9,   -999.0,9,-999.0000,     -999,9, -999.000,9, -999.000,   -999.0,9,   -999.0, -999.000,9, -999.000, -999.000,9, -999.000
  49NZ20130106,  S04I,    91,  1,     31, X12J31,2,20130113,1634,-62.0337, 104.3085, 4322,    124.5,2,  -0.2067,2,  -0.20559,2,  34.2518,2,  34.2498,2,-999.0000,9,   264.58,2,   263.78,2,   99.326,   0.0271,2,    0.130,2,  -999.00,9,    0.000,2,    59.09,2,     0.11,    32.29,2,     0.05,     0.11,2,     0.01,     2.24,2,     0.01,    3.736,2,    2.049,2,    0.329,2,    1.727,2,   -999.0,9,   -999.0,9,-999.0000,     -999,9, -999.000,9, -999.000,   -999.0,9,   -999.0, -999.000,9, -999.000, -999.000,9, -999.000
  49NZ20130106,  S04I,    91,  1,     30, X12J30,2,20130113,1634,-62.0337, 104.3085, 4322,    150.5,2,   0.3566,2,   0.35660,2,  34.3496,2,  34.3496,2,-999.0000,9,   238.72,2,   237.76,2,   99.497,   0.0202,2,    0.090,2,  -999.00,9,    0.000,2,    64.73,2,     0.12,    33.19,2,     0.05,     0.04,2,     0.01,     2.29,2,     0.01,    2.939,2,    1.583,2,    0.253,2,    1.290,2,   -999.0,9,   -999.0,9,-999.0000,     -999,9, -999.000,9, -999.000,   -999.0,9,   -999.0, -999.000,9, -999.000, -999.000,9, -999.000
  49NZ20130106,  S04I,    91,  1,     29, X12J29,2,20130113,1634,-62.0337, 104.3085, 4322,    201.3,2,   1.1075,2,   1.10481,2,  34.4911,2,  34.4886,2,-999.0000,9,   206.25,2,   205.88,2,   99.667,   0.0133,2,    0.040,2,  -999.00,9,    0.000,2,    72.04,2,     0.12,    33.68,2,     0.05,     0.02,2,     0.01,     2.32,2,     0.01,    1.792,2,    0.958,2,    0.165,2, -999.000,9,   -999.0,9,   -999.0,9,-999.0000,     -999,9, -999.000,9, -999.000,   -999.0,9,   -999.0, -999.000,9, -999.000, -999.000,9, -999.000
  49NZ20130106,  S04I,    91,  1,     28, X12J28,2,20130113,1634,-62.0337, 104.3085, 4322,    250.6,2,   1.6379,2,   1.63663,2,  34.5832,2,  34.5825,2,-999.0000,9,   187.49,2,   187.02,2,   99.665,   0.0134,2,    0.010,2,  -999.00,9,    0.000,2,    76.48,2,     0.13,    33.73,2,     0.05,     0.01,2,     0.01,     2.32,2,     0.01,    1.092,2,    0.575,2,    0.093,2, -999.000,9,   -999.0,9,   -999.0,9,-999.0000,     -999,9, -999.000,9, -999.000,   -999.0,9,   -999.0, -999.000,9, -999.000, -999.000,9, -999.000
  49NZ20130106,  S04I,    91,  1,     27, X12J27,2,20130113,1634,-62.0337, 104.3085, 4322,    330.8,2,   1.6371,2,   1.63660,2,  34.6308,2,  34.6311,2,-999.0000,9,   187.91,2,   187.51,2,   99.772,   0.0091,2,    0.010,2,  -999.00,9,    0.000,2,    79.32,2,     0.13,    33.09,2,     0.05,     0.01,2,     0.01,     2.28,2,     0.01,    0.895,2,    0.468,2,    0.069,2, -999.000,9,   -999.0,9,   -999.0,9,-999.0000,     -999,9, -999.000,9, -999.000,   -999.0,9,   -999.0, -999.000,9, -999.000, -999.000,9, -999.000
  49NZ20130106,  S04I,    91,  1,     26, X12J26,2,20130113,1634,-62.0337, 104.3085, 4322,    431.5,2,   1.6754,2,   1.67526,2,  34.6754,2,  34.6757,2,-999.0000,9,   188.53,2,   188.05,2,   99.847,   0.0061,2,    0.000,2,  -999.00,9,    0.000,2,    81.99,2,     0.13,    32.45,2,     0.05,     0.01,2,     0.01,     2.23,2,     0.01,    0.681,2,    0.350,2,    0.062,2, -999.000,9,   -999.0,9,   -999.0,9,-999.0000,     -999,9, -999.000,9, -999.000,   -999.0,9,   -999.0, -999.000,9, -999.000, -999.000,9, -999.000
  49NZ20130106,  S04I,    91,  1,     25, X12J25,2,20130113,1634,-62.0337, 104.3085, 4322,    531.8,2,   1.7317,2,   1.73174,2,  34.7070,2,  34.7069,2,-999.0000,9,   189.58,2,   189.05,2,   99.912,   0.0035,2,    0.000,2,  -999.00,9,    0.000,2,    83.53,2,     0.13,    31.85,2,     0.04,     0.01,2,     0.01,     2.19,2,     0.01,    0.477,2,    0.261,2,    0.037,2, -999.000,9,   -999.0,9,   -999.0,9,-999.0000,     -999,9, -999.000,9, -999.000,   -999.0,9,   -999.0, -999.000,9, -999.000, -999.000,9, -999.000
  49NZ20130106,  S04I,    91,  1,     24, X12J24,2,20130113,1634,-62.0337, 104.3085, 4322,    628.9,2,   1.6992,2,   1.69967,2,  34.7215,2,  34.7219,2,-999.0000,9,   192.12,2,   191.40,2,   99.834,   0.0066,2,    0.000,2,  -999.00,9,    0.000,2,    85.17,2,     0.14,    31.46,2,     0.04,     0.01,2,     0.01,     2.17,2,     0.01,    0.407,6,    0.204,6,    0.032,6, -999.000,9,   -999.0,9,   -999.0,9,-999.0000,     -999,9, -999.000,9, -999.000,   -999.0,9,   -999.0, -999.000,9, -999.000, -999.000,9, -999.000
  49NZ20130106,  S04I,    91,  1,     23, X12J23,2,20130113,1634,-62.0337, 104.3085, 4322,    730.0,2,   1.6249,2,   1.62551,2,  34.7286,2,  34.7294,2,-999.0000,9,   194.75,2,   194.09,2,   99.929,   0.0028,2,    0.000,2,  -999.00,9,    0.000,2,    87.27,2,     0.14,    31.25,2,     0.04,     0.01,2,     0.01,     2.15,2,     0.01,    0.370,2,    0.184,2,    0.027,2, -999.000,9,   -999.0,9,   -999.0,9,-999.0000,     -999,9, -999.000,9, -999.000,   -999.0,9,   -999.0, -999.000,9, -999.000, -999.000,9, -999.000
  49NZ20130106,  S04I,    91,  1,     22, X12J22,2,20130113,1634,-62.0337, 104.3085, 4322,    830.0,2,   1.5669,2,   1.56685,2,  34.7333,2,  34.7343,2,-999.0000,9,   196.55,2,   196.23,2,   99.933,   0.0027,2,    0.000,2,  -999.00,9,    0.000,2,    89.05,2,     0.14,    31.07,2,     0.04,     0.01,2,     0.01,     2.14,2,     0.01,    0.323,2,    0.158,2,    0.029,2, -999.000,9,   -999.0,9,   -999.0,9,-999.0000,     -999,9, -999.000,9, -999.000,   -999.0,9,   -999.0, -999.000,9, -999.000, -999.000,9, -999.000
  49NZ20130106,  S04I,    91,  1,     21, X12J21,2,20130113,1634,-62.0337, 104.3085, 4322,    929.0,2,   1.4886,2,   1.48861,2,  34.7349,2,  34.7355,2,-999.0000,9,   198.46,2,   198.08,2,   99.967,   0.0013,2,    0.000,2,  -999.00,9,    0.000,2,    91.43,2,     0.14,    31.05,2,     0.04,     0.01,2,     0.01,     2.14,2,     0.01,    0.298,2,    0.144,2,    0.028,2, -999.000,9,   -999.0,9,   -999.0,9,-999.0000,     -999,9, -999.000,9, -999.000,   -999.0,9,   -999.0, -999.000,9, -999.000, -999.000,9, -999.000
  49NZ20130106,  S04I,    91,  1,     20, X12J20,2,20130113,1634,-62.0337, 104.3085, 4322,   1079.3,2,   1.3562,2,   1.35641,2,  34.7325,2,  34.7327,2,-999.0000,9,   200.72,2,   200.24,2,   99.965,   0.0014,2,    0.000,2,  -999.00,9,    0.000,2,    95.09,2,     0.14,    31.16,2,     0.04,     0.01,2,     0.01,     2.15,2,     0.01,    0.285,2,    0.137,2,    0.028,2, -999.000,9,   -999.0,9,   -999.0,9,-999.0000,     -999,9, -999.000,9, -999.000,   -999.0,9,   -999.0, -999.000,9, -999.000, -999.000,9, -999.000
  49NZ20130106,  S04I,    91,  1,     19, X12J19,2,20130113,1634,-62.0337, 104.3085, 4322,   1329.6,2,   1.1570,2,   1.15705,2,  34.7259,2,  34.7267,2,-999.0000,9,   203.27,2,   202.93,2,   99.990,   0.0004,2,   -0.000,2,  -999.00,9,    0.000,2,   100.95,2,     0.15,    31.42,2,     0.04,     0.01,2,     0.01,     2.17,2,     0.01,    0.259,6,    0.122,6,    0.021,6, -999.000,9,   -999.0,9,   -999.0,9,-999.0000,     -999,9, -999.000,9, -999.000,   -999.0,9,   -999.0, -999.000,9, -999.000, -999.000,9, -999.000
  49NZ20130106,  S04I,    91,  1,     18, X12J18,2,20130113,1634,-62.0337, 104.3085, 4322,   1579.8,2,   0.9628,2,   0.96185,2,  34.7160,2,  34.7164,2,-999.0000,9,   205.41,2,   205.12,2,   99.999,   0.0000,2,   -0.000,2,  -999.00,9,    0.000,2,   106.75,2,     0.15,    31.80,2,     0.04,     0.01,2,     0.01,     2.20,2,     0.01,    0.264,2,    0.125,2,    0.023,2, -999.000,9,   -999.0,9,   -999.0,9,-999.0000,     -999,9, -999.000,9, -999.000,   -999.0,9,   -999.0, -999.000,9, -999.000, -999.000,9, -999.000
  49NZ20130106,  S04I,    91,  1,     17, X12J17,2,20130113,1634,-62.0337, 104.3085, 4322,   1830.7,2,   0.7775,2,   0.77770,2,  34.7058,2,  34.7067,2,-999.0000,9,   207.74,2,   207.51,2,   99.980,   0.0008,2,   -0.000,2,  -999.00,9,    0.000,2,   111.76,2,     0.16,    32.16,2,     0.05,     0.01,2,     0.01,     2.23,2,     0.01,    0.296,2,    0.140,2,    0.023,2, -999.000,9,   -999.0,9,   -999.0,9,-999.0000,     -999,9, -999.000,9, -999.000,   -999.0,9,   -999.0, -999.000,9, -999.000, -999.000,9, -999.000
  49NZ20130106,  S04I,    91,  1,     16, X12J16,2,20130113,1634,-62.0337, 104.3085, 4322,   2081.5,2,   0.5974,2,   0.59757,2,  34.6961,2,  34.6969,2,-999.0000,9,   210.64,2,   210.46,2,  100.007,  -0.0003,2,   -0.000,2,  -999.00,9,    0.000,2,   116.00,2,     0.16,    32.44,2,     0.05,     0.01,2,     0.01,     2.24,2,     0.01,    0.345,2,    0.167,2,    0.021,2, -999.000,9,   -999.0,9,   -999.0,9,-999.0000,     -999,9, -999.000,9, -999.000,   -999.0,9,   -999.0, -999.000,9, -999.000, -999.000,9, -999.000
  49NZ20130106,  S04I,    91,  1,     15, X12J15,2,20130113,1634,-62.0337, 104.3085, 4322,   2331.3,2,   0.4375,2,   0.43759,2,  34.6883,2,  34.6894,2,-999.0000,9,   214.46,2,   214.19,2,   99.999,   0.0000,2,   -0.000,2,  -999.00,9,    0.000,2,   119.13,2,     0.17,    32.49,2,     0.05,     0.00,2,     0.01,     2.24,2,     0.01,    0.431,2,    0.207,2,    0.027,2, -999.000,9,   -999.0,9,   -999.0,9,-999.0000,     -999,9, -999.000,9, -999.000,   -999.0,9,   -999.0, -999.000,9, -999.000, -999.000,9, -999.000
  49NZ20130106,  S04I,    91,  1,     14, X12J14,2,20130113,1634,-62.0337, 104.3085, 4322,   2580.1,2,   0.3157,2,   0.31573,2,  34.6828,2,  34.6834,2,-999.0000,9,   218.13,2,   217.84,2,  100.003,  -0.0001,2,   -0.000,2,  -999.00,9,    0.000,2,   121.06,2,     0.17,    32.47,2,     0.05,     0.00,2,     0.01,     2.25,2,     0.01,    0.571,2,    0.290,2,    0.027,2,    0.147,2,   -999.0,9,   -999.0,9,-999.0000,     -999,9, -999.000,9, -999.000,   -999.0,9,   -999.0, -999.000,9, -999.000, -999.000,9, -999.000
  49NZ20130106,  S04I,    91,  1,     13, X12J13,2,20130113,1634,-62.0337, 104.3085, 4322,   2830.5,2,   0.2224,2,   0.22246,2,  34.6787,2,  34.6793,2,-999.0000,9,   221.40,2,   221.08,2,   99.990,   0.0004,2,   -0.000,2,  -999.00,9,    0.000,2,   122.71,2,     0.17,    32.57,2,     0.05,     0.00,2,     0.01,     2.25,2,     0.01,    0.730,2,    0.355,2,    0.040,2,    0.213,2,   -999.0,9,   -999.0,9,-999.0000,     -999,9, -999.000,9, -999.000,   -999.0,9,   -999.0, -999.000,9, -999.000, -999.000,9, -999.000
  49NZ20130106,  S04I,    91,  1,     12, X12J12,2,20130113,1634,-62.0337, 104.3085, 4322,   3080.2,2,   0.1327,2,   0.13284,2,  34.6748,2,  34.6753,2,-999.0000,9,   224.81,2,   224.60,2,   99.980,   0.0008,2,   -0.000,2,  -999.00,9,    0.000,2,   123.61,2,     0.17,    32.55,2,     0.05,     0.00,2,     0.01,     2.25,2,     0.01,    0.929,2,    0.442,2,    0.052,2,    0.303,2,   -999.0,9,   -999.0,9,-999.0000,     -999,9, -999.000,9, -999.000,   -999.0,9,   -999.0, -999.000,9, -999.000, -999.000,9, -999.000
  49NZ20130106,  S04I,    91,  1,     11, X12J11,2,20130113,1634,-62.0337, 104.3085, 4322,   3330.5,2,   0.0594,2,   0.05956,2,  34.6709,2,  34.6714,2,-999.0000,9,   227.81,2,   227.69,2,   99.969,   0.0012,2,   -0.000,2,  -999.00,9,    0.000,2,   124.13,2,     0.17,    32.52,2,     0.05,     0.00,2,     0.01,     2.25,2,     0.01,    1.081,2,    0.536,2,    0.065,2,    0.254,2,   -999.0,9,   -999.0,9,-999.0000,     -999,9, -999.000,9, -999.000,   -999.0,9,   -999.0, -999.000,9, -999.000, -999.000,9, -999.000
  49NZ20130106,  S04I,    91,  1,     10, X12J10,2,20130113,1634,-62.0337, 104.3085, 4322,   3580.1,2,  -0.0010,2,  -0.00099,2,  34.6668,2,  34.6672,2,-999.0000,9,   230.80,2,   230.64,2,   99.982,   0.0007,2,   -0.010,2,  -999.00,9,    0.000,2,   123.34,2,     0.17,    32.44,2,     0.05,     0.00,2,     0.01,     2.25,2,     0.01,    1.289,2,    0.644,2,    0.087,2,    0.423,2,   -999.0,9,   -999.0,9,-999.0000,     -999,9, -999.000,9, -999.000,   -999.0,9,   -999.0, -999.000,9, -999.000, -999.000,9, -999.000
  49NZ20130106,  S04I,    91,  1,      9, X12J09,2,20130113,1634,-62.0337, 104.3085, 4322,   3832.4,2,  -0.0452,2,  -0.04502,2,  34.6631,2,  34.6636,2,-999.0000,9,   233.16,2,   232.92,2,   99.914,   0.0034,2,   -0.000,2,  -999.00,9,    0.000,2,   123.44,2,     0.17,    32.40,2,     0.05,     0.00,2,     0.01,     2.25,2,     0.01,    1.471,2,    0.749,2,    0.101,2,    0.422,2,   -999.0,9,   -999.0,9,-999.0000,     -999,9, -999.000,9, -999.000,   -999.0,9,   -999.0, -999.000,9, -999.000, -999.000,9, -999.000
  49NZ20130106,  S04I,    91,  1,      8, X12J08,2,20130113,1634,-62.0337, 104.3085, 4322,   4078.9,2,  -0.0836,2,  -0.08346,2,  34.6584,2,  34.6589,2,-999.0000,9,   235.45,2,   235.34,2,   99.836,   0.0066,2,   -0.010,2,  -999.00,9,    0.000,2,   122.56,2,     0.17,    32.34,2,     0.05,     0.00,2,     0.01,     2.24,2,     0.01,    1.711,6,    0.871,6,    0.126,6,    0.572,6,   -999.0,9,   -999.0,9,-999.0000,     -999,9, -999.000,9, -999.000,   -999.0,9,   -999.0, -999.000,9, -999.000, -999.000,9, -999.000
  49NZ20130106,  S04I,    91,  1,      7, X12J07,2,20130113,1634,-62.0337, 104.3085, 4322,   4330.7,2,  -0.1042,2,  -0.10422,2,  34.6546,2,  34.6551,2,-999.0000,9,   237.31,2,   237.21,2,   99.764,   0.0095,2,   -0.010,2,  -999.00,9,    0.000,2,   121.32,2,     0.17,    32.32,2,     0.05,     0.00,2,     0.01,     2.24,2,     0.01,    1.842,2,    0.969,2,    0.151,2,    0.589,2,   -999.0,9,   -999.0,9,-999.0000,     -999,9, -999.000,9, -999.000,   -999.0,9,   -999.0, -999.000,9, -999.000, -999.000,9, -999.000
  49NZ20130106,  S04I,    91,  1,      1, X12J01,2,20130113,1634,-62.0337, 104.3085, 4322,   4398.2,2,  -0.1233,2,  -0.12349,2,  34.6522,2,  34.6530,2,-999.0000,9,   238.02,2,   237.67,2,   99.722,   0.0111,2,   -0.000,2,  -999.00,9,    0.000,2,   122.62,2,     0.17,    32.33,2,     0.05,     0.01,2,     0.01,     2.24,2,     0.01,    1.954,2,    1.026,2,    0.160,2,    0.693,2,   -999.0,9,   -999.0,9,-999.0000,     -999,9, -999.000,9, -999.000,   -999.0,9,   -999.0, -999.000,9, -999.000, -999.000,9, -999.000