BOTTLE,20220819CCHSIOAMB
EXPOCODE,SECT_ID,STNNBR,CASTNO,SAMPNO,BTLNBR,BTLNBR_FLAG_W,DATE,TIME,LATITUDE,LONGITUDE,DEPTH,CTDPRS,CTDPRS_FLAG_W,CTDTMP,CTDTMP_FLAG_W,SBE35,SBE35_FLAG_W,CTDSAL,CTDSAL_FLAG_W,SALNTY,SALNTY_FLAG_W,DNSSAL,DNSSAL_FLAG_W,CTDOXY,CTDOXY_FLAG_W,OXYGEN,OXYGEN_FLAG_W,CTDXMISS,CTDXMISSCP,CTDXMISS_FLAG_W,CTDFLUOR,CTDFLUOR_FLAG_W,CHLORA,CHLORA_FLAG_W,PAR,PAR_FLAG_W,SILCAT,SILCAT_FLAG_W,SILUNC,NITRAT,NITRAT_FLAG_W,NRAUNC,NITRIT,NITRIT_FLAG_W,NRIUNC,PHSPHT,PHSPHT_FLAG_W,PHPUNC,CFC-11,CFC-11_FLAG_W,CFC-12,CFC-12_FLAG_W,CFC113,CFC113_FLAG_W,SF6,SF6_FLAG_W,TCARBN,TCARBN_FLAG_W,ALKALI,ALKALI_FLAG_W,PH_TOT,PH_TMP,PH_TOT_FLAG_W,DELC13,DELC13_FLAG_W,C13ERR,DELC14,DELC14_FLAG_W,C14ERR,CS-134,CS-134_FLAG_W,CS134ER,CS-137,CS-137_FLAG_W,CS137ER
,,,,,,,,UTC,DEG,DEG,METERS,DBAR,,ITS-90,,ITS-90,,PSS-78,,PSS-78,,G/KG,,UMOL/KG,,UMOL/KG,,%TRANS,/METER,,MG/M^3,,MG/CUM,,UE/SQM/S,,UMOL/KG,,UMOL/KG,UMOL/KG,,UMOL/KG,UMOL/KG,,UMOL/KG,UMOL/KG,,UMOL/KG,PMOL/KG,,PMOL/KG,,PMOL/KG,,FMOL/KG,,UMOL/KG,,UMOL/KG,,,DEG C,,/MILLE,,/MILLE,/MILLE,,/MILLE,MBQ/KG,,MBQ/KG,MBQ/KG,,MBQ/KG
  49NZ20130106,  S04I,    95,  1,     36, X12J36,2,20130114,1802,-62.3335,  99.5663, 4274,      5.3,2,   1.4061,2,   1.40613,2,  33.8285,2,  33.8282,2,-999.0000,9,   339.68,2,   339.83,2,   95.962,   0.1649,2,    0.360,2,     0.28,2,    1.959,2,    47.67,2,     0.10,    26.52,2,     0.04,     0.26,2,     0.01,     1.74,2,     0.01,    5.564,2,    3.025,2,    0.518,2, -999.000,9,   -999.0,9,   -999.0,9,-999.0000,     -999,9, -999.000,9, -999.000,   -999.0,9,   -999.0, -999.000,9, -999.000, -999.000,9, -999.000
  49NZ20130106,  S04I,    95,  1,     35, X12J35,2,20130114,1802,-62.3335,  99.5663, 4274,     25.1,2,   0.7477,2,   0.69199,2,  33.8831,2,  33.9523,2,-999.0000,9,   339.88,2,   346.10,2,   95.128,   0.1998,2,    0.490,2,     0.44,2,    0.282,2,    50.09,2,     0.10,    26.98,2,     0.04,     0.18,2,     0.01,     1.79,2,     0.01,    5.418,2,    2.938,2,    0.493,2, -999.000,9,   -999.0,9,   -999.0,9,-999.0000,     -999,9, -999.000,9, -999.000,   -999.0,9,   -999.0, -999.000,9, -999.000, -999.000,9, -999.000
  49NZ20130106,  S04I,    95,  1,     34, X12J34,2,20130114,1802,-62.3335,  99.5663, 4274,     50.8,2,  -1.1699,2,  -1.16876,2,  34.1288,2,  34.1402,2,-999.0000,9,   329.73,2,   328.87,2,   94.026,   0.2464,2,    0.910,2,     0.79,2,    0.003,2,    58.68,2,     0.11,    28.43,2,     0.04,     0.11,2,     0.01,     1.93,2,     0.01,    4.718,6,    2.552,6,    0.438,6, -999.000,9,   -999.0,9,   -999.0,9,-999.0000,     -999,9, -999.000,9, -999.000,   -999.0,9,   -999.0, -999.000,9, -999.000, -999.000,9, -999.000
  49NZ20130106,  S04I,    95,  1,     33, X12J33,2,20130114,1802,-62.3335,  99.5663, 4274,     76.3,2,  -1.4772,2,  -1.46746,2,  34.2292,2,  34.2317,2,-999.0000,9,   306.10,2,   304.78,2,   96.982,   0.1226,2,    0.600,2,     0.71,2,    0.000,2,    63.51,2,     0.12,    29.68,2,     0.04,     0.09,2,     0.01,     2.04,2,     0.01,    4.214,2,    2.278,2,    0.390,2, -999.000,9,   -999.0,9,   -999.0,9,-999.0000,     -999,9, -999.000,9, -999.000,   -999.0,9,   -999.0, -999.000,9, -999.000, -999.000,9, -999.000
  49NZ20130106,  S04I,    95,  1,     32, X12J32,2,20130114,1802,-62.3335,  99.5663, 4274,    100.4,2,  -1.1518,2,  -1.15262,2,  34.3071,2,  34.3125,2,-999.0000,9,   286.49,2,   285.57,2,   98.019,   0.0800,2,    0.480,2,     0.52,2,    0.000,2,    66.31,2,     0.12,    30.60,2,     0.04,     0.11,2,     0.01,     2.12,2,     0.01,    3.804,2,    2.052,2,    0.353,2, -999.000,9,   -999.0,9,   -999.0,9,-999.0000,     -999,9, -999.000,9, -999.000,   -999.0,9,   -999.0, -999.000,9, -999.000, -999.000,9, -999.000
  49NZ20130106,  S04I,    95,  1,     31, X12J31,2,20130114,1802,-62.3335,  99.5663, 4274,    125.4,2,  -0.8088,2,  -0.80922,2,  34.3912,2,  34.3912,2,-999.0000,9,   263.62,2,   263.05,2,   99.291,   0.0285,2,    0.240,2,     0.25,2,    0.000,2,    70.36,2,     0.12,    31.41,2,     0.04,     0.11,2,     0.01,     2.18,2,     0.01,    3.256,2,    1.755,2,    0.306,2, -999.000,9,   -999.0,9,   -999.0,9,-999.0000,     -999,9, -999.000,9, -999.000,   -999.0,9,   -999.0, -999.000,9, -999.000, -999.000,9, -999.000
  49NZ20130106,  S04I,    95,  1,     30, X12J30,2,20130114,1802,-62.3335,  99.5663, 4274,    149.9,2,  -0.2556,2,  -0.25765,2,  34.4581,2,  34.4574,2,-999.0000,9,   244.57,2,   244.02,2,   99.547,   0.0182,2,    0.150,2,     0.13,2,    0.000,2,    73.40,2,     0.12,    31.94,2,     0.05,     0.05,2,     0.01,     2.20,2,     0.01,    2.682,2,    1.447,2,    0.244,2, -999.000,9,   -999.0,9,   -999.0,9,-999.0000,     -999,9, -999.000,9, -999.000,   -999.0,9,   -999.0, -999.000,9, -999.000, -999.000,9, -999.000
  49NZ20130106,  S04I,    95,  1,     29, X12J29,2,20130114,1802,-62.3335,  99.5663, 4274,    200.5,2,   0.4787,2,   0.48091,2,  34.5502,2,  34.5529,2,-999.0000,9,   220.98,2,   219.62,2,   99.725,   0.0110,2,    0.070,2,     0.04,2,    0.000,2,    78.53,2,     0.13,    32.36,2,     0.05,     0.02,2,     0.01,     2.22,2,     0.01,    1.864,2,    1.003,2,    0.166,2, -999.000,9,   -999.0,9,   -999.0,9,-999.0000,     -999,9, -999.000,9, -999.000,   -999.0,9,   -999.0, -999.000,9, -999.000, -999.000,9, -999.000
  49NZ20130106,  S04I,    95,  1,     28, X12J28,2,20130114,1802,-62.3335,  99.5663, 4274,    250.5,2,   1.0872,2,   1.08681,2,  34.6295,2,  34.6306,2,-999.0000,9,   203.09,2,   202.58,2,   99.623,   0.0151,2,    0.020,2,     0.01,2,    0.000,2,    82.69,2,     0.13,    32.45,2,     0.05,     0.02,2,     0.01,     2.23,2,     0.01,    1.208,2,    0.639,2,    0.100,2, -999.000,9,   -999.0,9,   -999.0,9,-999.0000,     -999,9, -999.000,9, -999.000,   -999.0,9,   -999.0, -999.000,9, -999.000, -999.000,9, -999.000
  49NZ20130106,  S04I,    95,  1,     27, X12J27,2,20130114,1802,-62.3335,  99.5663, 4274,    280.1,2,   1.2769,2,   1.27679,2,  34.6571,2,  34.6573,2,-999.0000,9,   197.97,2,   197.56,2,   99.750,   0.0100,2,    0.010,2,  -999.00,9,    0.000,2,    84.10,2,     0.13,    32.38,2,     0.05,     0.02,2,     0.01,     2.23,2,     0.01,    0.970,2,    0.514,2,    0.082,2, -999.000,9,   -999.0,9,   -999.0,9,-999.0000,     -999,9, -999.000,9, -999.000,   -999.0,9,   -999.0, -999.000,9, -999.000, -999.000,9, -999.000
  49NZ20130106,  S04I,    95,  1,     26, X12J26,2,20130114,1802,-62.3335,  99.5663, 4274,    370.4,2,   1.5125,2,   1.51246,2,  34.7022,2,  34.7023,2,-999.0000,9,   193.23,2,   193.00,2,   99.848,   0.0061,2,    0.010,2,  -999.00,9,    0.000,2,    86.46,2,     0.14,    31.95,2,     0.04,     0.01,2,     0.01,     2.20,2,     0.01,    0.601,2,    0.311,2,    0.050,2, -999.000,9,   -999.0,9,   -999.0,9,-999.0000,     -999,9, -999.000,9, -999.000,   -999.0,9,   -999.0, -999.000,9, -999.000, -999.000,9, -999.000
  49NZ20130106,  S04I,    95,  1,     25, X12J25,2,20130114,1802,-62.3335,  99.5663, 4274,    470.4,2,   1.4772,2,   1.47721,2,  34.7175,2,  34.7177,2,-999.0000,9,   195.38,2,   195.15,2,   99.930,   0.0028,2,    0.000,2,  -999.00,9,    0.000,2,    88.40,2,     0.14,    31.50,2,     0.04,     0.01,2,     0.01,     2.16,2,     0.01,    0.501,2,    0.253,2,    0.044,2, -999.000,9,   -999.0,9,   -999.0,9,-999.0000,     -999,9, -999.000,9, -999.000,   -999.0,9,   -999.0, -999.000,9, -999.000, -999.000,9, -999.000
  49NZ20130106,  S04I,    95,  1,     24, X12J24,2,20130114,1802,-62.3335,  99.5663, 4274,    570.1,2,   1.4180,2,   1.41882,2,  34.7234,2,  34.7237,2,-999.0000,9,   197.30,2,   197.10,2,   99.952,   0.0019,2,    0.000,2,  -999.00,9,    0.000,2,    90.73,2,     0.14,    31.41,2,     0.04,     0.01,2,     0.01,     2.16,2,     0.01,    0.444,6,    0.222,6,    0.035,6, -999.000,9,   -999.0,9,   -999.0,9,-999.0000,     -999,9, -999.000,9, -999.000,   -999.0,9,   -999.0, -999.000,9, -999.000, -999.000,9, -999.000
  49NZ20130106,  S04I,    95,  1,     23, X12J23,2,20130114,1802,-62.3335,  99.5663, 4274,    669.9,2,   1.3632,2,   1.36312,2,  34.7287,2,  34.7291,2,-999.0000,9,   199.05,2,   198.72,2,   99.930,   0.0028,2,    0.000,2,  -999.00,9,    0.000,2,    93.17,2,     0.14,    31.25,2,     0.04,     0.01,2,     0.01,     2.15,2,     0.01,    0.363,2,    0.177,2,    0.029,2, -999.000,9,   -999.0,9,   -999.0,9,-999.0000,     -999,9, -999.000,9, -999.000,   -999.0,9,   -999.0, -999.000,9, -999.000, -999.000,9, -999.000
  49NZ20130106,  S04I,    95,  1,     22, X12J22,2,20130114,1802,-62.3335,  99.5663, 4274,    769.7,2,   1.2873,2,   1.28727,2,  34.7280,2,  34.7283,2,-999.0000,9,   200.38,2,   200.09,2,   99.918,   0.0033,2,    0.000,2,  -999.00,9,    0.000,2,    95.50,2,     0.14,    31.32,2,     0.04,     0.01,2,     0.01,     2.16,2,     0.01,    0.348,2,    0.168,2,    0.025,2, -999.000,9,   -999.0,9,   -999.0,9,-999.0000,     -999,9, -999.000,9, -999.000,   -999.0,9,   -999.0, -999.000,9, -999.000, -999.000,9, -999.000
  49NZ20130106,  S04I,    95,  1,     21, X12J21,2,20130114,1802,-62.3335,  99.5663, 4274,    868.7,2,   1.2088,2,   1.20988,2,  34.7264,2,  34.7267,2,-999.0000,9,   201.55,2,   201.41,2,   99.958,   0.0017,2,    0.000,2,  -999.00,9,    0.000,2,    98.03,2,     0.15,    31.40,2,     0.04,     0.01,2,     0.01,     2.16,2,     0.01,    0.316,2,    0.151,2,    0.016,2, -999.000,9,   -999.0,9,   -999.0,9,-999.0000,     -999,9, -999.000,9, -999.000,   -999.0,9,   -999.0, -999.000,9, -999.000, -999.000,9, -999.000
  49NZ20130106,  S04I,    95,  1,     20, X12J20,2,20130114,1802,-62.3335,  99.5663, 4274,    961.0,2,   1.1145,2,   1.11366,2,  34.7222,2,  34.7228,2,-999.0000,9,   202.52,2,   202.25,2,   99.956,   0.0018,2,    0.000,2,  -999.00,9,    0.000,2,   100.53,2,     0.15,    31.58,2,     0.04,     0.01,2,     0.01,     2.18,2,     0.01,    0.317,2,    0.156,2,    0.022,2, -999.000,9,   -999.0,9,   -999.0,9,-999.0000,     -999,9, -999.000,9, -999.000,   -999.0,9,   -999.0, -999.000,9, -999.000, -999.000,9, -999.000
  49NZ20130106,  S04I,    95,  1,     19, X12J19,2,20130114,1802,-62.3335,  99.5663, 4274,   1170.3,2,   0.9290,2,   0.92882,2,  34.7127,2,  34.7152,4,-999.0000,9,   205.08,2,   204.95,2,   99.975,   0.0010,2,   -0.000,2,  -999.00,9,    0.000,2,   105.85,2,     0.15,    31.88,2,     0.04,     0.01,2,     0.01,     2.20,2,     0.01,    0.350,6,    0.172,6,    0.024,6, -999.000,9,   -999.0,9,   -999.0,9,-999.0000,     -999,9, -999.000,9, -999.000,   -999.0,9,   -999.0, -999.000,9, -999.000, -999.000,9, -999.000
  49NZ20130106,  S04I,    95,  1,     18, X12J18,2,20130114,1802,-62.3335,  99.5663, 4274,   1420.5,2,   0.6939,2,   0.69408,2,  34.6990,2,  34.6995,2,-999.0000,9,   209.07,2,   208.99,2,   99.979,   0.0008,2,   -0.000,2,  -999.00,9,    0.000,2,   110.26,2,     0.16,    32.16,2,     0.05,     0.01,2,     0.01,     2.22,2,     0.01,    0.458,2,    0.229,2,    0.025,2,    0.152,2,   -999.0,9,   -999.0,9,-999.0000,     -999,9, -999.000,9, -999.000,   -999.0,9,   -999.0, -999.000,9, -999.000, -999.000,9, -999.000
  49NZ20130106,  S04I,    95,  1,     17, X12J17,2,20130114,1802,-62.3335,  99.5663, 4274,   1669.8,2,   0.5475,2,   0.54774,2,  34.6932,2,  34.6937,2,-999.0000,9,   211.24,2,   211.13,2,   99.992,   0.0003,2,   -0.000,2,  -999.00,9,    0.000,2,   115.18,2,     0.16,    32.41,2,     0.05,     0.01,2,     0.01,     2.24,2,     0.01,    0.446,2,    0.219,2,    0.023,2,    0.221,2,   -999.0,9,   -999.0,9,-999.0000,     -999,9, -999.000,9, -999.000,   -999.0,9,   -999.0, -999.000,9, -999.000, -999.000,9, -999.000
  49NZ20130106,  S04I,    95,  1,     16, X12J16,2,20130114,1802,-62.3335,  99.5663, 4274,   1920.4,2,   0.3931,2,   0.39382,2,  34.6848,2,  34.6850,2,-999.0000,9,   215.28,2,   215.29,2,   99.994,   0.0002,2,   -0.000,2,  -999.00,9,    0.000,2,   116.52,2,     0.16,    32.51,2,     0.05,     0.01,2,     0.01,     2.25,2,     0.01,    0.612,2,    0.317,2,    0.034,2,    0.186,2,   -999.0,9,   -999.0,9,-999.0000,     -999,9, -999.000,9, -999.000,   -999.0,9,   -999.0, -999.000,9, -999.000, -999.000,9, -999.000
  49NZ20130106,  S04I,    95,  1,     15, X12J15,2,20130114,1802,-62.3335,  99.5663, 4274,   2171.0,2,   0.2818,2,   0.28185,2,  34.6812,2,  34.6816,2,-999.0000,9,   218.07,2,   217.93,2,   99.985,   0.0006,2,   -0.000,2,  -999.00,9,    0.000,2,   119.82,2,     0.17,    32.51,2,     0.05,     0.01,2,     0.01,     2.24,2,     0.01,    0.656,2,    0.319,2,    0.035,2,    0.311,2,   -999.0,9,   -999.0,9,-999.0000,     -999,9, -999.000,9, -999.000,   -999.0,9,   -999.0, -999.000,9, -999.000, -999.000,9, -999.000
  49NZ20130106,  S04I,    95,  1,     14, X12J14,2,20130114,1802,-62.3335,  99.5663, 4274,   2419.9,2,   0.1958,2,   0.19572,2,  34.6782,2,  34.6787,2,-999.0000,9,   220.75,2,   220.62,2,   99.968,   0.0013,2,   -0.010,2,  -999.00,9,    0.000,2,   122.26,2,     0.17,    32.54,2,     0.05,     0.01,2,     0.01,     2.25,2,     0.01,    0.714,2,    0.358,2,    0.037,2,    0.190,2,   -999.0,9,   -999.0,9,-999.0000,     -999,9, -999.000,9, -999.000,   -999.0,9,   -999.0, -999.000,9, -999.000, -999.000,9, -999.000
  49NZ20130106,  S04I,    95,  1,     13, X12J13,2,20130114,1802,-62.3335,  99.5663, 4274,   2671.1,2,   0.1014,2,   0.10144,2,  34.6723,2,  34.6727,2,-999.0000,9,   224.71,2,   224.46,2,   99.971,   0.0012,2,   -0.010,2,  -999.00,9,    0.000,2,   121.08,2,     0.17,    32.49,2,     0.05,     0.01,2,     0.01,     2.24,2,     0.01,    0.981,2,    0.494,2,    0.055,2,    0.266,2,   -999.0,9,   -999.0,9,-999.0000,     -999,9, -999.000,9, -999.000,   -999.0,9,   -999.0, -999.000,9, -999.000, -999.000,9, -999.000
  49NZ20130106,  S04I,    95,  1,     12, X12J12,2,20130114,1802,-62.3335,  99.5663, 4274,   2919.8,2,   0.0285,2,   0.02841,2,  34.6682,2,  34.6690,2,-999.0000,9,   227.71,2,   227.59,2,   99.964,   0.0014,2,   -0.010,2,  -999.00,9,    0.000,2,   121.13,2,     0.17,    32.48,2,     0.05,     0.01,2,     0.01,     2.24,2,     0.01,    1.139,2,    0.583,2,    0.071,2,    0.355,2,   -999.0,9,   -999.0,9,-999.0000,     -999,9, -999.000,9, -999.000,   -999.0,9,   -999.0, -999.000,9, -999.000, -999.000,9, -999.000
  49NZ20130106,  S04I,    95,  1,     11, X12J11,2,20130114,1802,-62.3335,  99.5663, 4274,   3169.5,2,  -0.0083,2,  -0.00822,2,  34.6672,2,  34.6671,2,-999.0000,9,   229.58,2,   229.42,2,   99.960,   0.0016,2,   -0.010,2,  -999.00,9,    0.000,2,   122.18,2,     0.17,    32.47,2,     0.05,     0.01,2,     0.01,     2.24,2,     0.01,    1.202,2,    0.637,2,    0.074,2,    0.362,2,   -999.0,9,   -999.0,9,-999.0000,     -999,9, -999.000,9, -999.000,   -999.0,9,   -999.0, -999.000,9, -999.000, -999.000,9, -999.000
  49NZ20130106,  S04I,    95,  1,     10, X12J10,2,20130114,1802,-62.3335,  99.5663, 4274,   3419.9,2,  -0.0474,2,  -0.04734,2,  34.6636,2,  34.6629,2,-999.0000,9,   231.76,2,   231.67,2,   99.952,   0.0019,2,   -0.010,2,  -999.00,9,    0.000,2,   121.72,2,     0.17,    32.42,2,     0.05,     0.01,2,     0.01,     2.24,2,     0.01,    1.405,2,    0.717,2,    0.092,2,    0.430,2,   -999.0,9,   -999.0,9,-999.0000,     -999,9, -999.000,9, -999.000,   -999.0,9,   -999.0, -999.000,9, -999.000, -999.000,9, -999.000
  49NZ20130106,  S04I,    95,  1,      9, X12J09,2,20130114,1802,-62.3335,  99.5663, 4274,   3670.6,2,  -0.0686,2,  -0.06849,2,  34.6620,2,  34.6623,2,-999.0000,9,   233.29,2,   233.10,2,   99.916,   0.0034,2,   -0.000,2,  -999.00,9,    0.000,2,   122.64,2,     0.17,    32.40,2,     0.05,     0.01,2,     0.01,     2.24,2,     0.01,    1.500,2,    0.771,2,    0.098,2,    0.462,2,   -999.0,9,   -999.0,9,-999.0000,     -999,9, -999.000,9, -999.000,   -999.0,9,   -999.0, -999.000,9, -999.000, -999.000,9, -999.000
  49NZ20130106,  S04I,    95,  1,      8, X12J08,2,20130114,1802,-62.3335,  99.5663, 4274,   3920.9,2,  -0.1006,2,  -0.10045,2,  34.6581,2,  34.6583,2,-999.0000,9,   235.20,2,   235.20,2,   99.816,   0.0074,2,   -0.010,2,  -999.00,9,    0.000,2,   122.35,2,     0.17,    32.37,2,     0.05,     0.01,2,     0.01,     2.24,2,     0.01,    1.682,6,    0.872,6,    0.119,6,    0.541,6,   -999.0,9,   -999.0,9,-999.0000,     -999,9, -999.000,9, -999.000,   -999.0,9,   -999.0, -999.000,9, -999.000, -999.000,9, -999.000
  49NZ20130106,  S04I,    95,  1,      7, X12J07,2,20130114,1802,-62.3335,  99.5663, 4274,   4168.8,2,  -0.1439,2,  -0.14405,2,  34.6520,2,  34.6526,2,-999.0000,9,   237.80,2,   237.82,2,   99.691,   0.0124,2,   -0.010,2,  -999.00,9,    0.000,2,   120.77,2,     0.17,    32.33,2,     0.05,     0.01,2,     0.01,     2.24,2,     0.01,    1.936,2,    1.022,2,    0.149,2,    0.612,2,   -999.0,9,   -999.0,9,-999.0000,     -999,9, -999.000,9, -999.000,   -999.0,9,   -999.0, -999.000,9, -999.000, -999.000,9, -999.000
  49NZ20130106,  S04I,    95,  1,      1, X12J01,2,20130114,1802,-62.3335,  99.5663, 4274,   4346.4,2,  -0.1452,2,  -0.14526,2,  34.6505,2,  34.6508,2,-999.0000,9,   238.40,2,   238.41,2,   99.609,   0.0157,2,   -0.010,2,  -999.00,9,    0.000,2,   121.68,2,     0.17,    32.36,2,     0.05,     0.01,2,     0.01,     2.24,2,     0.01,    2.007,2,    1.058,2,    0.157,2,    0.785,2,   -999.0,9,   -999.0,9,-999.0000,     -999,9, -999.000,9, -999.000,   -999.0,9,   -999.0, -999.000,9, -999.000, -999.000,9, -999.000