BOTTLE,20220819CCHSIOAMB
EXPOCODE,SECT_ID,STNNBR,CASTNO,SAMPNO,BTLNBR,BTLNBR_FLAG_W,DATE,TIME,LATITUDE,LONGITUDE,DEPTH,CTDPRS,CTDPRS_FLAG_W,CTDTMP,CTDTMP_FLAG_W,SBE35,SBE35_FLAG_W,CTDSAL,CTDSAL_FLAG_W,SALNTY,SALNTY_FLAG_W,DNSSAL,DNSSAL_FLAG_W,CTDOXY,CTDOXY_FLAG_W,OXYGEN,OXYGEN_FLAG_W,CTDXMISS,CTDXMISSCP,CTDXMISS_FLAG_W,CTDFLUOR,CTDFLUOR_FLAG_W,CHLORA,CHLORA_FLAG_W,PAR,PAR_FLAG_W,SILCAT,SILCAT_FLAG_W,SILUNC,NITRAT,NITRAT_FLAG_W,NRAUNC,NITRIT,NITRIT_FLAG_W,NRIUNC,PHSPHT,PHSPHT_FLAG_W,PHPUNC,CFC-11,CFC-11_FLAG_W,CFC-12,CFC-12_FLAG_W,CFC113,CFC113_FLAG_W,SF6,SF6_FLAG_W,TCARBN,TCARBN_FLAG_W,ALKALI,ALKALI_FLAG_W,PH_TOT,PH_TMP,PH_TOT_FLAG_W,DELC13,DELC13_FLAG_W,C13ERR,DELC14,DELC14_FLAG_W,C14ERR,CS-134,CS-134_FLAG_W,CS134ER,CS-137,CS-137_FLAG_W,CS137ER
,,,,,,,,UTC,DEG,DEG,METERS,DBAR,,ITS-90,,ITS-90,,PSS-78,,PSS-78,,G/KG,,UMOL/KG,,UMOL/KG,,%TRANS,/METER,,MG/M^3,,MG/CUM,,UE/SQM/S,,UMOL/KG,,UMOL/KG,UMOL/KG,,UMOL/KG,UMOL/KG,,UMOL/KG,UMOL/KG,,UMOL/KG,PMOL/KG,,PMOL/KG,,PMOL/KG,,FMOL/KG,,UMOL/KG,,UMOL/KG,,,DEG C,,/MILLE,,/MILLE,/MILLE,,/MILLE,MBQ/KG,,MBQ/KG,MBQ/KG,,MBQ/KG
  49NZ20130106,  S04I,   114,  1,     36, X12J36,2,20130119,0922,-61.5492,  79.4752, 2727,     10.2,2,   1.2395,2,   1.23570,2,  33.7257,2,  33.7263,2,-999.0000,9,   349.07,2,   349.48,2,   92.759,   0.3007,2,    0.460,2,  -999.00,9,   82.833,2,    33.38,2,     0.09,    25.74,2,     0.04,     0.22,2,     0.01,     1.69,2,     0.01,    5.685,2,    3.123,2,    0.505,2, -999.000,9,   -999.0,9,   -999.0,9,-999.0000,     -999,9, -999.000,9, -999.000,   -999.0,9,   -999.0, -999.000,9, -999.000, -999.000,9, -999.000
  49NZ20130106,  S04I,   114,  1,     35, X12J35,2,20130119,0922,-61.5492,  79.4752, 2727,     24.9,2,   1.0675,2,   1.06886,2,  33.7435,2,  33.7443,2,-999.0000,9,   349.57,2,   349.96,2,   93.334,   0.2759,2,    0.580,2,  -999.00,9,   24.605,2,    36.48,2,     0.09,    26.17,2,     0.04,     0.22,2,     0.01,     1.75,2,     0.01,    5.711,2,    3.134,2,    0.518,2, -999.000,9,   -999.0,9,   -999.0,9,-999.0000,     -999,9, -999.000,9, -999.000,   -999.0,9,   -999.0, -999.000,9, -999.000, -999.000,9, -999.000
  49NZ20130106,  S04I,   114,  1,     34, X12J34,2,20130119,0922,-61.5492,  79.4752, 2727,     48.6,2,  -0.1941,2,  -0.18886,2,  33.8229,2,  33.8238,2,-999.0000,9,   353.60,2,   354.90,2,   86.747,   0.5687,2,    2.020,2,  -999.00,9,    2.769,2,    38.47,2,     0.09,    26.80,2,     0.04,     0.18,2,     0.01,     1.84,2,     0.01,    5.636,6,    3.075,6,    0.498,6, -999.000,9,   -999.0,9,   -999.0,9,-999.0000,     -999,9, -999.000,9, -999.000,   -999.0,9,   -999.0, -999.000,9, -999.000, -999.000,9, -999.000
  49NZ20130106,  S04I,   114,  1,     33, X12J33,2,20130119,0922,-61.5492,  79.4752, 2727,     75.1,2,  -1.3931,2,  -1.39161,2,  34.0678,2,  34.0665,2,-999.0000,9,   292.27,2,   292.23,2,   98.639,   0.0548,2,    0.300,2,  -999.00,9,    0.305,2,    51.73,2,     0.11,    30.75,2,     0.04,     0.17,2,     0.01,     2.15,2,     0.01,    4.413,2,    2.386,2,    0.390,2, -999.000,9,   -999.0,9,   -999.0,9,-999.0000,     -999,9, -999.000,9, -999.000,   -999.0,9,   -999.0, -999.000,9, -999.000, -999.000,9, -999.000
  49NZ20130106,  S04I,   114,  1,     32, X12J32,2,20130119,0922,-61.5492,  79.4752, 2727,    100.6,2,  -0.9403,2,  -0.96451,2,  34.1638,2,  34.1565,2,-999.0000,9,   267.77,2,   271.03,2,   99.110,   0.0358,2,    0.220,2,  -999.00,9,    0.053,2,    58.07,2,     0.11,    32.01,2,     0.04,     0.17,2,     0.01,     2.23,2,     0.01,    3.805,2,    2.086,2,    0.329,2, -999.000,9,   -999.0,9,   -999.0,9,-999.0000,     -999,9, -999.000,9, -999.000,   -999.0,9,   -999.0, -999.000,9, -999.000, -999.000,9, -999.000
  49NZ20130106,  S04I,   114,  1,     31, X12J31,2,20130119,0922,-61.5492,  79.4752, 2727,    125.2,2,   0.6657,2,   0.66495,2,  34.3403,2,  34.3390,2,-999.0000,9,   213.30,2,   213.26,2,   99.570,   0.0172,2,    0.100,2,  -999.00,9,    0.000,2,    66.72,2,     0.12,    34.45,2,     0.05,     0.04,2,     0.01,     2.39,2,     0.01,    2.439,2,    1.303,2,    0.216,2, -999.000,9,   -999.0,9,   -999.0,9,-999.0000,     -999,9, -999.000,9, -999.000,   -999.0,9,   -999.0, -999.000,9, -999.000, -999.000,9, -999.000
  49NZ20130106,  S04I,   114,  1,     30, X12J30,2,20130119,0922,-61.5492,  79.4752, 2727,    150.1,2,   1.3219,2,   1.31894,2,  34.4319,2,  34.4318,2,-999.0000,9,   191.51,2,   191.49,2,   99.676,   0.0130,2,    0.040,2,  -999.00,9,    0.000,2,    71.11,2,     0.12,    35.31,2,     0.05,     0.02,2,     0.01,     2.44,2,     0.01,    1.800,2,    0.950,2,    0.154,2, -999.000,9,   -999.0,9,   -999.0,9,-999.0000,     -999,9, -999.000,9, -999.000,   -999.0,9,   -999.0, -999.000,9, -999.000, -999.000,9, -999.000
  49NZ20130106,  S04I,   114,  1,     29, X12J29,2,20130119,0922,-61.5492,  79.4752, 2727,    199.7,2,   1.8585,2,   1.85692,2,  34.5481,2,  34.5478,2,-999.0000,9,   171.83,2,   172.07,2,   99.712,   0.0115,2,    0.010,2,  -999.00,9,    0.000,2,    77.75,2,     0.13,    35.48,2,     0.05,     0.01,2,     0.01,     2.46,2,     0.01,    1.094,2,    0.568,2,    0.086,2, -999.000,9,   -999.0,9,   -999.0,9,-999.0000,     -999,9, -999.000,9, -999.000,   -999.0,9,   -999.0, -999.000,9, -999.000, -999.000,9, -999.000
  49NZ20130106,  S04I,   114,  1,     28, X12J28,2,20130119,0922,-61.5492,  79.4752, 2727,    251.0,2,   2.0041,2,   2.00262,2,  34.6018,2,  34.5999,2,-999.0000,9,   169.19,2,   169.55,2,   99.786,   0.0086,2,    0.000,2,  -999.00,9,    0.000,2,    79.91,2,     0.13,    34.92,2,     0.05,     0.01,2,     0.01,     2.42,2,     0.01,    0.789,2,    0.407,2,    0.058,2, -999.000,9,   -999.0,9,   -999.0,9,-999.0000,     -999,9, -999.000,9, -999.000,   -999.0,9,   -999.0, -999.000,9, -999.000, -999.000,9, -999.000
  49NZ20130106,  S04I,   114,  1,     27, X12J27,2,20130119,0922,-61.5492,  79.4752, 2727,    299.6,2,   2.0154,2,   2.01540,2,  34.6301,2,  34.6297,2,-999.0000,9,   170.69,2,   170.96,2,   99.854,   0.0058,2,    0.000,2,  -999.00,9,    0.000,2,    80.72,2,     0.13,    34.36,2,     0.05,     0.01,2,     0.01,     2.38,2,     0.01,    0.658,2,    0.333,2,    0.052,2, -999.000,9,   -999.0,9,   -999.0,9,-999.0000,     -999,9, -999.000,9, -999.000,   -999.0,9,   -999.0, -999.000,9, -999.000, -999.000,9, -999.000
  49NZ20130106,  S04I,   114,  1,     26, X12J26,2,20130119,0922,-61.5492,  79.4752, 2727,    400.3,2,   2.0441,2,   2.04402,2,  34.6777,2,  34.6781,2,-999.0000,9,   175.44,2,   175.70,2,   99.932,   0.0027,2,    0.000,2,  -999.00,9,    0.000,2,    81.30,2,     0.13,    33.16,2,     0.05,     0.01,2,     0.01,     2.29,2,     0.01,    0.452,2,    0.222,2,    0.030,2, -999.000,9,   -999.0,9,   -999.0,9,-999.0000,     -999,9, -999.000,9, -999.000,   -999.0,9,   -999.0, -999.000,9, -999.000, -999.000,9, -999.000
  49NZ20130106,  S04I,   114,  1,     25, X12J25,2,20130119,0922,-61.5492,  79.4752, 2727,    498.9,2,   2.0012,2,   2.00158,2,  34.7058,2,  34.7058,2,-999.0000,9,   181.15,2,   181.13,2,   99.916,   0.0034,2,    0.000,2,  -999.00,9,    0.000,2,    81.68,2,     0.13,    32.22,2,     0.05,     0.01,2,     0.01,     2.23,2,     0.01,    0.366,2,    0.178,2,    0.019,2, -999.000,9,   -999.0,9,   -999.0,9,-999.0000,     -999,9, -999.000,9, -999.000,   -999.0,9,   -999.0, -999.000,9, -999.000, -999.000,9, -999.000
  49NZ20130106,  S04I,   114,  1,     24, X12J24,2,20130119,0922,-61.5492,  79.4752, 2727,    600.2,2,   1.9513,2,   1.95090,2,  34.7222,2,  34.7221,2,-999.0000,9,   185.60,2,   185.73,2,   99.863,   0.0055,2,    0.000,2,  -999.00,9,    0.000,2,    82.31,2,     0.13,    31.56,2,     0.04,     0.01,2,     0.01,     2.19,2,     0.01,    0.320,6,    0.158,6,    0.018,6,    0.072,6,   -999.0,9,   -999.0,9,-999.0000,     -999,9, -999.000,9, -999.000,   -999.0,9,   -999.0, -999.000,9, -999.000, -999.000,9, -999.000
  49NZ20130106,  S04I,   114,  1,     23, X12J23,2,20130119,0922,-61.5492,  79.4752, 2727,    699.8,2,   1.8899,2,   1.88971,2,  34.7344,2,  34.7350,2,-999.0000,9,   189.71,2,   189.80,2,   99.937,   0.0025,2,    0.000,2,  -999.00,9,    0.000,2,    83.07,2,     0.13,    31.09,2,     0.04,     0.01,2,     0.01,     2.15,2,     0.01,    0.279,2,    0.135,2,    0.019,2,    0.104,2,   -999.0,9,   -999.0,9,-999.0000,     -999,9, -999.000,9, -999.000,   -999.0,9,   -999.0, -999.000,9, -999.000, -999.000,9, -999.000
  49NZ20130106,  S04I,   114,  1,     22, X12J22,2,20130119,0922,-61.5492,  79.4752, 2727,    801.9,2,   1.8104,2,   1.81031,2,  34.7414,2,  34.7416,2,-999.0000,9,   193.35,2,   193.48,2,   99.960,   0.0016,2,   -0.000,2,  -999.00,9,    0.000,2,    84.32,2,     0.13,    30.74,2,     0.04,     0.01,2,     0.01,     2.13,2,     0.01,    0.259,2,    0.122,2,    0.016,2,    0.074,2,   -999.0,9,   -999.0,9,-999.0000,     -999,9, -999.000,9, -999.000,   -999.0,9,   -999.0, -999.000,9, -999.000, -999.000,9, -999.000
  49NZ20130106,  S04I,   114,  1,     21, X12J21,2,20130119,0922,-61.5492,  79.4752, 2727,    899.9,2,   1.7324,2,   1.73232,2,  34.7446,2,  34.7451,2,-999.0000,9,   196.06,2,   196.27,2,   99.952,   0.0019,2,    0.000,2,  -999.00,9,    0.000,2,    85.88,2,     0.14,    30.58,2,     0.04,     0.01,2,     0.01,     2.13,2,     0.01,    0.246,2,    0.117,2,    0.015,2,    0.091,2,   -999.0,9,   -999.0,9,-999.0000,     -999,9, -999.000,9, -999.000,   -999.0,9,   -999.0, -999.000,9, -999.000, -999.000,9, -999.000
  49NZ20130106,  S04I,   114,  1,     20, X12J20,2,20130119,0922,-61.5492,  79.4752, 2727,   1000.1,2,   1.6599,2,   1.65971,2,  34.7468,2,  34.7470,2,-999.0000,9,   197.82,2,   198.16,2,   99.969,   0.0012,2,    0.000,2,  -999.00,9,    0.000,2,    87.46,2,     0.14,    30.49,2,     0.04,     0.01,2,     0.01,     2.12,2,     0.01,    0.221,2,    0.105,2,    0.013,2,    0.036,2,   -999.0,9,   -999.0,9,-999.0000,     -999,9, -999.000,9, -999.000,   -999.0,9,   -999.0, -999.000,9, -999.000, -999.000,9, -999.000
  49NZ20130106,  S04I,   114,  1,     19, X12J19,2,20130119,0922,-61.5492,  79.4752, 2727,   1248.9,2,   1.4322,2,   1.43223,2,  34.7416,2,  34.7419,2,-999.0000,9,   201.30,2,   201.55,2,   99.964,   0.0014,2,   -0.000,2,  -999.00,9,    0.000,2,    93.50,2,     0.14,    30.67,2,     0.04,     0.01,2,     0.01,     2.14,2,     0.01,    0.217,6,    0.101,6,    0.010,6,    0.082,6,   -999.0,9,   -999.0,9,-999.0000,     -999,9, -999.000,9, -999.000,   -999.0,9,   -999.0, -999.000,9, -999.000, -999.000,9, -999.000
  49NZ20130106,  S04I,   114,  1,     18, X12J18,2,20130119,0922,-61.5492,  79.4752, 2727,   1503.2,2,   1.1873,2,   1.18750,2,  34.7290,2,  34.7291,2,-999.0000,9,   202.99,2,   203.26,2,   99.973,   0.0011,2,   -0.000,2,  -999.00,9,    0.000,2,   100.34,2,     0.15,    31.20,2,     0.04,     0.00,2,     0.01,     2.17,2,     0.01,    0.236,2,    0.109,2,    0.010,2,    0.092,2,   -999.0,9,   -999.0,9,-999.0000,     -999,9, -999.000,9, -999.000,   -999.0,9,   -999.0, -999.000,9, -999.000, -999.000,9, -999.000
  49NZ20130106,  S04I,   114,  1,     17, X12J17,2,20130119,0922,-61.5492,  79.4752, 2727,   1750.0,2,   0.9796,2,   0.97967,2,  34.7175,2,  34.7179,2,-999.0000,9,   204.39,2,   204.60,2,   99.966,   0.0014,2,   -0.000,2,  -999.00,9,    0.000,2,   107.23,2,     0.19,    31.68,2,     0.04,     0.00,2,     0.01,     2.20,2,     0.01,    0.242,2,    0.113,2,    0.011,2,    0.036,2,   -999.0,9,   -999.0,9,-999.0000,     -999,9, -999.000,9, -999.000,   -999.0,9,   -999.0, -999.000,9, -999.000, -999.000,9, -999.000
  49NZ20130106,  S04I,   114,  1,     16, X12J16,2,20130119,0922,-61.5492,  79.4752, 2727,   2003.6,2,   0.8153,2,   0.81524,2,  34.7087,2,  34.7090,2,-999.0000,9,   206.52,2,   206.87,2,   99.954,   0.0018,2,   -0.000,2,  -999.00,9,    0.000,2,   112.38,2,     0.16,    32.00,2,     0.04,     0.01,2,     0.01,     2.23,2,     0.01,    0.232,2,    0.109,2,    0.010,2,    0.091,2,   -999.0,9,   -999.0,9,-999.0000,     -999,9, -999.000,9, -999.000,   -999.0,9,   -999.0, -999.000,9, -999.000, -999.000,9, -999.000
  49NZ20130106,  S04I,   114,  1,     15, X12J15,2,20130119,0922,-61.5492,  79.4752, 2727,   2250.8,2,   0.6612,2,   0.66124,2,  34.7001,2,  34.7000,2,-999.0000,9,   208.54,2,   209.09,2,   99.941,   0.0024,2,   -0.000,2,  -999.00,9,    0.000,2,   117.37,2,     0.16,    32.32,2,     0.05,     0.01,2,     0.01,     2.24,2,     0.01,    0.228,2,    0.105,2,    0.008,2,    0.073,2,   -999.0,9,   -999.0,9,-999.0000,     -999,9, -999.000,9, -999.000,   -999.0,9,   -999.0, -999.000,9, -999.000, -999.000,9, -999.000
  49NZ20130106,  S04I,   114,  1,     14, X12J14,2,20130119,0922,-61.5492,  79.4752, 2727,   2501.2,2,   0.4763,2,   0.47626,2,  34.6896,2,  34.6898,2,-999.0000,9,   211.49,2,   212.04,2,   99.899,   0.0040,2,   -0.000,2,  -999.00,9,    0.000,2,   122.56,2,     0.17,    32.65,2,     0.05,     0.01,2,     0.01,     2.28,2,     0.01,    0.238,2,    0.110,2,    0.009,2,    0.056,2,   -999.0,9,   -999.0,9,-999.0000,     -999,9, -999.000,9, -999.000,   -999.0,9,   -999.0, -999.000,9, -999.000, -999.000,9, -999.000
  49NZ20130106,  S04I,   114,  1,      1, X12J01,2,20130119,0922,-61.5492,  79.4752, 2727,   2764.1,2,   0.3536,2,   0.35375,2,  34.6830,2,  34.6830,2,-999.0000,9,   213.73,2,   214.49,2,   99.665,   0.0134,2,   -0.000,2,  -999.00,9,    0.000,2,   128.40,2,     0.17,    32.82,2,     0.05,     0.01,2,     0.01,     2.29,2,     0.01,    0.243,2,    0.115,2,    0.008,2,    0.053,2,   -999.0,9,   -999.0,9,-999.0000,     -999,9, -999.000,9, -999.000,   -999.0,9,   -999.0, -999.000,9, -999.000, -999.000,9, -999.000