BOTTLE,20220819CCHSIOAMB
EXPOCODE,SECT_ID,STNNBR,CASTNO,SAMPNO,BTLNBR,BTLNBR_FLAG_W,DATE,TIME,LATITUDE,LONGITUDE,DEPTH,CTDPRS,CTDPRS_FLAG_W,CTDTMP,CTDTMP_FLAG_W,SBE35,SBE35_FLAG_W,CTDSAL,CTDSAL_FLAG_W,SALNTY,SALNTY_FLAG_W,DNSSAL,DNSSAL_FLAG_W,CTDOXY,CTDOXY_FLAG_W,OXYGEN,OXYGEN_FLAG_W,CTDXMISS,CTDXMISSCP,CTDXMISS_FLAG_W,CTDFLUOR,CTDFLUOR_FLAG_W,CHLORA,CHLORA_FLAG_W,PAR,PAR_FLAG_W,SILCAT,SILCAT_FLAG_W,SILUNC,NITRAT,NITRAT_FLAG_W,NRAUNC,NITRIT,NITRIT_FLAG_W,NRIUNC,PHSPHT,PHSPHT_FLAG_W,PHPUNC,CFC-11,CFC-11_FLAG_W,CFC-12,CFC-12_FLAG_W,CFC113,CFC113_FLAG_W,SF6,SF6_FLAG_W,TCARBN,TCARBN_FLAG_W,ALKALI,ALKALI_FLAG_W,PH_TOT,PH_TMP,PH_TOT_FLAG_W,DELC13,DELC13_FLAG_W,C13ERR,DELC14,DELC14_FLAG_W,C14ERR,CS-134,CS-134_FLAG_W,CS134ER,CS-137,CS-137_FLAG_W,CS137ER
,,,,,,,,UTC,DEG,DEG,METERS,DBAR,,ITS-90,,ITS-90,,PSS-78,,PSS-78,,G/KG,,UMOL/KG,,UMOL/KG,,%TRANS,/METER,,MG/M^3,,MG/CUM,,UE/SQM/S,,UMOL/KG,,UMOL/KG,UMOL/KG,,UMOL/KG,UMOL/KG,,UMOL/KG,UMOL/KG,,UMOL/KG,PMOL/KG,,PMOL/KG,,PMOL/KG,,FMOL/KG,,UMOL/KG,,UMOL/KG,,,DEG C,,/MILLE,,/MILLE,/MILLE,,/MILLE,MBQ/KG,,MBQ/KG,MBQ/KG,,MBQ/KG
  49NZ20130106,  S04I,   115,  1,     36, X12J36,2,20130119,1442,-61.6470,  78.4142, 2942,     10.4,2,   1.3758,2,   1.37976,2,  33.7300,2,  33.7314,2,-999.0000,9,   348.50,2,   349.02,2,   92.743,   0.3014,2,    0.710,2,     0.57,2,    1.551,2,    27.55,2,     0.08,    24.99,2,     0.04,     0.24,2,     0.01,     1.67,2,     0.01,    5.885,2,    3.198,2,    0.548,2,    3.029,2,   2149.5,2,   2284.0,2,   7.7080,       25,6, -999.000,9, -999.000,   -999.0,9,   -999.0, -999.000,9, -999.000, -999.000,9, -999.000
  49NZ20130106,  S04I,   115,  1,     35, X12J35,2,20130119,1442,-61.6470,  78.4142, 2942,     24.0,2,   1.1562,2,   1.15255,2,  33.7327,2,  33.7332,2,-999.0000,9,   351.01,2,   351.11,2,   91.689,   0.3471,2,    0.820,2,     0.63,2,    0.494,2,    27.53,2,     0.08,    25.03,2,     0.04,     0.23,2,     0.01,     1.68,2,     0.01,    5.883,2,    3.237,2,    0.556,2,    3.034,2,   2150.0,2,   2283.4,2,   7.7078,       25,2, -999.000,9, -999.000,   -999.0,9,   -999.0, -999.000,9, -999.000, -999.000,9, -999.000
  49NZ20130106,  S04I,   115,  1,     34, X12J34,2,20130119,1442,-61.6470,  78.4142, 2942,     50.2,2,  -0.5375,2,  -0.53410,2,  33.8046,2,  33.8039,2,-999.0000,9,   354.49,2,   355.02,2,   93.703,   0.2602,2,    0.950,2,     0.66,2,    0.035,2,    31.57,2,     0.09,    26.28,2,     0.04,     0.18,2,     0.01,     1.82,2,     0.01,    5.949,6,    3.225,6,    0.563,6,    3.024,6,   2162.0,2,   2288.6,2,   7.6839,       25,2, -999.000,9, -999.000,   -999.0,9,   -999.0, -999.000,9, -999.000, -999.000,9, -999.000
  49NZ20130106,  S04I,   115,  1,     33, X12J33,2,20130119,1442,-61.6470,  78.4142, 2942,     74.4,2,  -1.5056,2,  -1.50670,2,  33.9293,2,  33.9255,2,-999.0000,9,   324.54,2,   326.36,2,   98.134,   0.0753,2,    0.470,2,     0.39,2,    0.000,2,    39.61,2,     0.09,    28.45,2,     0.04,     0.17,2,     0.01,     2.00,2,     0.01,    5.437,2,    2.952,2,    0.508,2,    2.700,2,   2183.2,6,   2293.6,2,   7.6407,       25,2, -999.000,9, -999.000,   -999.0,9,   -999.0, -999.000,9, -999.000, -999.000,9, -999.000
  49NZ20130106,  S04I,   115,  1,     32, X12J32,2,20130119,1442,-61.6470,  78.4142, 2942,     99.2,2,  -0.8065,2,  -0.80792,2,  34.1045,2,  34.1024,2,-999.0000,9,   277.08,2,   279.21,2,   99.319,   0.0273,2,    0.170,2,     0.15,2,    0.000,2,    50.34,2,     0.10,    31.48,2,     0.04,     0.19,2,     0.01,     2.20,2,     0.01,    4.390,2,    2.356,2,    0.403,2,    2.117,2,   2211.4,2,   2302.0,6,   7.5906,       25,2, -999.000,9, -999.000,   -999.0,9,   -999.0, -999.000,9, -999.000, -999.000,9, -999.000
  49NZ20130106,  S04I,   115,  1,     31, X12J31,2,20130119,1442,-61.6470,  78.4142, 2942,    126.3,2,   0.2495,2,   0.24895,2,  34.2609,2,  34.2557,2,-999.0000,9,   234.62,2,   237.07,2,   99.578,   0.0169,2,    0.080,2,     0.05,2,    0.000,2,    59.42,2,     0.11,    33.51,2,     0.05,     0.03,2,     0.01,     2.32,2,     0.01,    3.262,2,    1.738,2,    0.278,2,    1.480,2,   2231.7,2,   2310.6,2,   7.5580,       25,2, -999.000,9, -999.000,   -999.0,9,   -999.0, -999.000,9, -999.000, -999.000,9, -999.000
  49NZ20130106,  S04I,   115,  1,     30, X12J30,2,20130119,1442,-61.6470,  78.4142, 2942,    150.1,2,   1.3144,2,   1.31604,2,  34.4108,2,  34.4095,2,-999.0000,9,   195.08,2,   195.13,2,   99.660,   0.0136,2,    0.030,2,     0.02,2,    0.000,2,    68.90,2,     0.12,    35.25,2,     0.05,     0.02,2,     0.01,     2.44,2,     0.01,    2.044,2,    1.077,2,    0.172,2,    0.747,2,   2248.9,2,   2319.5,2,   7.5300,       25,6, -999.000,9, -999.000,   -999.0,9,   -999.0, -999.000,9, -999.000, -999.000,9, -999.000
  49NZ20130106,  S04I,   115,  1,     29, X12J29,2,20130119,1442,-61.6470,  78.4142, 2942,    199.7,2,   1.8438,2,   1.84426,2,  34.5142,2,  34.5135,2,-999.0000,9,   174.09,2,   174.85,2,   99.618,   0.0153,2,    0.010,2,     0.01,2,    0.000,2,    75.47,2,     0.13,    35.65,2,     0.05,     0.01,2,     0.01,     2.46,2,     0.01,    1.295,2,    0.672,2,    0.099,2,    0.460,2,   2259.4,2,   2327.2,2,   7.5232,       25,2, -999.000,9, -999.000,   -999.0,9,   -999.0, -999.000,9, -999.000, -999.000,9, -999.000
  49NZ20130106,  S04I,   115,  1,     28, X12J28,2,20130119,1442,-61.6470,  78.4142, 2942,    251.8,2,   1.9460,2,   1.94489,2,  34.5732,2,  34.5713,2,-999.0000,9,   170.56,2,   170.85,2,   99.713,   0.0115,2,    0.000,2,     0.01,2,    0.000,2,    78.45,2,     0.13,    35.12,2,     0.05,     0.01,2,     0.01,     2.41,2,     0.01,    0.955,2,    0.495,2,    0.072,2,    0.281,2,   2260.6,2,   2332.4,2,   7.5298,       25,2, -999.000,9, -999.000,   -999.0,9,   -999.0, -999.000,9, -999.000, -999.000,9, -999.000
  49NZ20130106,  S04I,   115,  1,     27, X12J27,2,20130119,1442,-61.6470,  78.4142, 2942,    331.2,2,   2.0289,2,   2.02857,2,  34.6267,2,  34.6258,2,-999.0000,9,   170.52,2,   170.47,2,   99.830,   0.0068,2,    0.000,2,  -999.00,9,    0.000,2,    80.44,2,     0.13,    34.30,2,     0.05,     0.01,2,     0.01,     2.36,2,     0.01,    0.688,2,    0.348,2,    0.048,2,    0.251,2,   2259.5,2,   2336.4,2,   7.5418,       25,2, -999.000,9, -999.000,   -999.0,9,   -999.0, -999.000,9, -999.000, -999.000,9, -999.000
  49NZ20130106,  S04I,   115,  1,     26, X12J26,2,20130119,1442,-61.6470,  78.4142, 2942,    429.0,2,   2.0503,2,   2.05045,2,  34.6736,2,  34.6730,2,-999.0000,9,   175.52,2,   175.49,2,   99.921,   0.0032,2,    0.000,2,  -999.00,9,    0.000,2,    80.79,2,     0.13,    33.15,2,     0.05,     0.01,2,     0.01,     2.28,2,     0.01,    0.482,2,    0.243,2,    0.029,2,    0.112,2,   2257.9,2,   2340.1,2,   7.5612,       25,2, -999.000,9, -999.000,   -999.0,9,   -999.0, -999.000,9, -999.000, -999.000,9, -999.000
  49NZ20130106,  S04I,   115,  1,     25, X12J25,2,20130119,1442,-61.6470,  78.4142, 2942,    532.3,2,   2.0072,2,   2.00723,2,  34.6994,2,  34.6990,2,-999.0000,9,   179.80,2,   179.76,2,   99.925,   0.0030,2,    0.000,2,  -999.00,9,    0.000,2,    81.78,2,     0.13,    32.45,2,     0.05,     0.01,2,     0.01,     2.24,2,     0.01,    0.407,2,    0.200,2,    0.020,2,    0.118,2,   2254.3,2,   2341.9,2,   7.5728,       25,2, -999.000,9, -999.000,   -999.0,9,   -999.0, -999.000,9, -999.000, -999.000,9, -999.000
  49NZ20130106,  S04I,   115,  1,     24, X12J24,2,20130119,1442,-61.6470,  78.4142, 2942,    631.1,2,   1.9570,2,   1.95677,2,  34.7183,2,  34.7189,2,-999.0000,9,   184.94,2,   185.32,2,   99.913,   0.0035,2,    0.000,2,  -999.00,9,    0.000,2,    82.29,2,     0.13,    31.75,2,     0.04,     0.01,2,     0.01,     2.20,2,     0.01,    0.342,6,    0.168,6,    0.018,6,    0.110,6,   2250.4,2,   2343.7,2,   7.5865,       25,2, -999.000,9, -999.000,   -999.0,9,   -999.0, -999.000,9, -999.000, -999.000,9, -999.000
  49NZ20130106,  S04I,   115,  1,     23, X12J23,2,20130119,1442,-61.6470,  78.4142, 2942,    730.2,2,   1.8896,2,   1.88975,2,  34.7300,2,  34.7296,2,-999.0000,9,   188.47,2,   188.34,2,   99.904,   0.0038,2,    0.000,2,  -999.00,9,    0.000,2,    83.34,2,     0.13,    31.37,2,     0.04,     0.01,2,     0.01,     2.18,2,     0.01,    0.308,2,    0.151,2,    0.012,2,    0.082,2,   2249.9,6,   2344.8,2,   7.5922,       25,2, -999.000,9, -999.000,   -999.0,9,   -999.0, -999.000,9, -999.000, -999.000,9, -999.000
  49NZ20130106,  S04I,   115,  1,     22, X12J22,2,20130119,1442,-61.6470,  78.4142, 2942,    828.2,2,   1.8345,2,   1.83471,2,  34.7379,2,  34.7379,2,-999.0000,9,   192.31,2,   192.38,2,   99.851,   0.0060,2,    0.000,2,  -999.00,9,    0.000,2,    83.93,2,     0.13,    30.93,2,     0.04,     0.01,2,     0.01,     2.14,2,     0.01,    0.281,2,    0.136,2,    0.017,2,    0.077,2,   2248.3,2,   2345.1,6,   7.5988,       25,2, -999.000,9, -999.000,   -999.0,9,   -999.0, -999.000,9, -999.000, -999.000,9, -999.000
  49NZ20130106,  S04I,   115,  1,     21, X12J21,2,20130119,1442,-61.6470,  78.4142, 2942,    931.2,2,   1.7648,2,   1.76455,2,  34.7429,2,  34.7430,2,-999.0000,9,   195.33,2,   195.35,2,   99.923,   0.0031,2,    0.000,2,  -999.00,9,    0.000,2,    85.18,2,     0.14,    30.68,2,     0.04,     0.01,2,     0.01,     2.13,2,     0.01,    0.264,2,    0.123,2,    0.014,2,    0.031,2,   2247.7,2,   2346.7,2,   7.6052,       25,6, -999.000,9, -999.000,   -999.0,9,   -999.0, -999.000,9, -999.000, -999.000,9, -999.000
  49NZ20130106,  S04I,   115,  1,     20, X12J20,2,20130119,1442,-61.6470,  78.4142, 2942,   1080.7,2,   1.6446,2,   1.64460,2,  34.7463,2,  34.7467,2,-999.0000,9,   198.39,2,   198.50,2,   99.953,   0.0019,2,    0.000,2,  -999.00,9,    0.000,2,    87.88,2,     0.14,    30.58,2,     0.04,     0.01,2,     0.01,     2.12,2,     0.01,    0.229,2,    0.110,2,    0.009,2,    0.051,2,   2244.5,3,   2348.4,2,   7.6099,       25,2, -999.000,9, -999.000,   -999.0,9,   -999.0, -999.000,9, -999.000, -999.000,9, -999.000
  49NZ20130106,  S04I,   115,  1,     19, X12J19,2,20130119,1442,-61.6470,  78.4142, 2942,   1331.2,2,   1.3865,2,   1.38644,2,  34.7391,2,  34.7388,2,-999.0000,9,   202.04,2,   202.12,2,   99.949,   0.0020,2,   -0.000,2,  -999.00,9,    0.000,2,    94.20,2,     0.14,    30.76,2,     0.04,     0.01,2,     0.01,     2.11,2,     0.01,    0.224,6,    0.107,6,    0.009,6,    0.064,6,   2246.7,3,   2351.8,2,   7.6111,       25,2, -999.000,9, -999.000,   -999.0,9,   -999.0, -999.000,9, -999.000, -999.000,9, -999.000
  49NZ20130106,  S04I,   115,  1,     18, X12J18,2,20130119,1442,-61.6470,  78.4142, 2942,   1579.9,2,   1.1810,2,   1.18102,2,  34.7292,2,  34.7294,2,-999.0000,9,   203.96,2,   204.22,2,   99.942,   0.0023,2,   -0.000,2,  -999.00,9,    0.000,2,   100.04,2,     0.15,    31.09,2,     0.04,     0.00,2,     0.01,     2.15,2,     0.01,    0.229,2,    0.108,2,    0.011,2,    0.087,2,   2251.4,3,   2354.0,2,   7.6089,       25,2, -999.000,9, -999.000,   -999.0,9,   -999.0, -999.000,9, -999.000, -999.000,9, -999.000
  49NZ20130106,  S04I,   115,  1,     17, X12J17,2,20130119,1442,-61.6470,  78.4142, 2942,   1830.6,2,   0.9462,2,   0.94705,2,  34.7159,2,  34.7161,2,-999.0000,9,   205.62,2,   205.96,2,   99.947,   0.0021,2,   -0.000,2,  -999.00,9,    0.000,2,   106.73,2,     0.15,    31.65,2,     0.04,     0.01,2,     0.01,     2.19,2,     0.01,    0.245,2,    0.115,2,    0.011,2,    0.051,2,   2255.7,2,   2354.7,2,   7.6039,       25,2, -999.000,9, -999.000,   -999.0,9,   -999.0, -999.000,9, -999.000, -999.000,9, -999.000
  49NZ20130106,  S04I,   115,  1,     16, X12J16,2,20130119,1442,-61.6470,  78.4142, 2942,   2081.3,2,   0.7511,2,   0.75167,2,  34.7042,2,  34.7043,2,-999.0000,9,   207.24,2,   207.51,2,   99.949,   0.0020,2,   -0.000,2,  -999.00,9,    0.000,2,   113.02,2,     0.16,    32.19,2,     0.05,     0.00,2,     0.01,     2.23,2,     0.01,    0.257,2,    0.117,2,    0.008,2,    0.043,2,   2259.2,2,   2355.4,2,   7.5987,       25,2, -999.000,9, -999.000,   -999.0,9,   -999.0, -999.000,9, -999.000, -999.000,9, -999.000
  49NZ20130106,  S04I,   115,  1,     15, X12J15,2,20130119,1442,-61.6470,  78.4142, 2942,   2331.0,2,   0.6045,2,   0.60448,2,  34.6961,2,  34.6964,2,-999.0000,9,   209.33,2,   209.74,2,   99.930,   0.0028,2,   -0.000,2,  -999.00,9,    0.000,2,   117.98,2,     0.16,    32.50,2,     0.05,     0.00,2,     0.01,     2.25,2,     0.01,    0.248,2,    0.111,2,    0.010,2,    0.038,2,   2260.2,2,   2356.7,2,   7.5956,       25,2, -999.000,9, -999.000,   -999.0,9,   -999.0, -999.000,9, -999.000, -999.000,9, -999.000
  49NZ20130106,  S04I,   115,  1,     14, X12J14,2,20130119,1442,-61.6470,  78.4142, 2942,   2580.0,2,   0.4734,2,   0.47312,2,  34.6887,2,  34.6889,2,-999.0000,9,   211.55,2,   212.01,2,   99.919,   0.0032,2,   -0.000,2,  -999.00,9,    0.000,2,   121.92,2,     0.17,    32.74,2,     0.05,     0.00,2,     0.01,     2.27,2,     0.01,    0.243,2,    0.149,2,    0.009,2,    0.094,2,   2261.3,6,   2356.9,2,   7.5942,       25,2, -999.000,9, -999.000,   -999.0,9,   -999.0, -999.000,9, -999.000, -999.000,9, -999.000
  49NZ20130106,  S04I,   115,  1,     13, X12J13,2,20130119,1442,-61.6470,  78.4142, 2942,   2831.9,2,   0.3617,2,   0.36159,2,  34.6827,2,  34.6829,2,-999.0000,9,   214.22,2,   214.79,2,   99.889,   0.0044,2,   -0.000,2,  -999.00,9,    0.000,2,   125.33,2,     0.17,    32.88,2,     0.05,     0.00,2,     0.01,     2.29,2,     0.01,    0.245,2,    0.113,2,    0.009,2,    0.054,2,   2260.9,2,   2356.5,6,   7.5931,       25,2, -999.000,9, -999.000,   -999.0,9,   -999.0, -999.000,9, -999.000, -999.000,9, -999.000
  49NZ20130106,  S04I,   115,  1,      3, X12J03,2,20130119,1442,-61.6470,  78.4142, 2942,     34.6,2,   0.8713,2,   0.85011,2,  33.7398,2,-999.0000,9,-999.0000,9,   353.53,2,  -999.00,9,   90.596,   0.3950,2,    1.100,2,  -999.00,9,    0.195,2,  -999.00,9,  -999.00,  -999.00,9,  -999.00,  -999.00,9,  -999.00,  -999.00,9,  -999.00, -999.000,9, -999.000,9, -999.000,9, -999.000,9,   -999.0,9,   -999.0,9,-999.0000,     -999,9, -999.000,9, -999.000,   -999.0,9,   -999.0, -999.000,9, -999.000, -999.000,9, -999.000
  49NZ20130106,  S04I,   115,  1,      2, X12J02,2,20130119,1442,-61.6470,  78.4142, 2942,     33.6,2,   0.7837,2,   0.77256,2,  33.7440,2,  33.7616,2,-999.0000,9,   353.62,2,   355.48,2,   90.526,   0.3981,2,    1.160,2,     0.94,2,    0.229,2,    28.83,2,     0.08,    25.43,2,     0.04,     0.21,2,     0.01,     1.73,2,     0.01, -999.000,9, -999.000,9, -999.000,9, -999.000,9,   -999.0,9,   -999.0,9,-999.0000,     -999,9, -999.000,9, -999.000,   -999.0,9,   -999.0, -999.000,9, -999.000, -999.000,9, -999.000
  49NZ20130106,  S04I,   115,  1,      1, X12J01,2,20130119,1442,-61.6470,  78.4142, 2942,   2981.2,2,   0.3003,2,   0.30028,2,  34.6793,2,  34.6794,2,-999.0000,9,   215.58,2,   216.38,2,   99.754,   0.0099,2,   -0.000,2,  -999.00,9,    0.000,2,   130.16,2,     0.18,    32.95,2,     0.05,     0.01,2,     0.01,     2.29,2,     0.01,    0.247,2,    0.116,2,    0.007,2,    0.046,2,   2261.4,2,   2356.8,2,   7.5920,       25,2, -999.000,9, -999.000,   -999.0,9,   -999.0, -999.000,9, -999.000, -999.000,9, -999.000