BOTTLE,20220819CCHSIOAMB
EXPOCODE,SECT_ID,STNNBR,CASTNO,SAMPNO,BTLNBR,BTLNBR_FLAG_W,DATE,TIME,LATITUDE,LONGITUDE,DEPTH,CTDPRS,CTDPRS_FLAG_W,CTDTMP,CTDTMP_FLAG_W,SBE35,SBE35_FLAG_W,CTDSAL,CTDSAL_FLAG_W,SALNTY,SALNTY_FLAG_W,DNSSAL,DNSSAL_FLAG_W,CTDOXY,CTDOXY_FLAG_W,OXYGEN,OXYGEN_FLAG_W,CTDXMISS,CTDXMISSCP,CTDXMISS_FLAG_W,CTDFLUOR,CTDFLUOR_FLAG_W,CHLORA,CHLORA_FLAG_W,PAR,PAR_FLAG_W,SILCAT,SILCAT_FLAG_W,SILUNC,NITRAT,NITRAT_FLAG_W,NRAUNC,NITRIT,NITRIT_FLAG_W,NRIUNC,PHSPHT,PHSPHT_FLAG_W,PHPUNC,CFC-11,CFC-11_FLAG_W,CFC-12,CFC-12_FLAG_W,CFC113,CFC113_FLAG_W,SF6,SF6_FLAG_W,TCARBN,TCARBN_FLAG_W,ALKALI,ALKALI_FLAG_W,PH_TOT,PH_TMP,PH_TOT_FLAG_W,DELC13,DELC13_FLAG_W,C13ERR,DELC14,DELC14_FLAG_W,C14ERR,CS-134,CS-134_FLAG_W,CS134ER,CS-137,CS-137_FLAG_W,CS137ER
,,,,,,,,UTC,DEG,DEG,METERS,DBAR,,ITS-90,,ITS-90,,PSS-78,,PSS-78,,G/KG,,UMOL/KG,,UMOL/KG,,%TRANS,/METER,,MG/M^3,,MG/CUM,,UE/SQM/S,,UMOL/KG,,UMOL/KG,UMOL/KG,,UMOL/KG,UMOL/KG,,UMOL/KG,UMOL/KG,,UMOL/KG,PMOL/KG,,PMOL/KG,,PMOL/KG,,FMOL/KG,,UMOL/KG,,UMOL/KG,,,DEG C,,/MILLE,,/MILLE,/MILLE,,/MILLE,MBQ/KG,,MBQ/KG,MBQ/KG,,MBQ/KG
  49NZ20130106,  S04I,   137,  1,     36, X12J36,2,20130125,1133,-65.1035,  53.0167, 2492,      5.6,2,  -0.4010,2,  -0.40091,2,  33.8616,2,  33.8621,2,-999.0000,9,   337.60,2,   337.33,2,   98.229,   0.0715,2,    0.150,2,  -999.00,9,  102.464,2,    49.17,2,     0.10,    27.22,2,     0.04,     0.19,2,     0.01,     1.89,2,     0.01,    5.609,2,    3.063,2,    0.570,2, -999.000,9,   -999.0,9,   -999.0,9,-999.0000,     -999,9, -999.000,9, -999.000,   -999.0,9,   -999.0, -999.000,9, -999.000, -999.000,9, -999.000
  49NZ20130106,  S04I,   137,  1,     35, X12J35,2,20130125,1133,-65.1035,  53.0167, 2492,     24.9,2,  -0.4097,2,  -0.41035,2,  33.8626,2,  33.8641,2,-999.0000,9,   337.59,2,   337.87,2,   98.206,   0.0724,2,    0.190,2,  -999.00,9,   27.553,2,    49.38,2,     0.10,    27.31,2,     0.04,     0.18,2,     0.01,     1.90,2,     0.01,    5.622,2,    3.073,2,    0.565,2, -999.000,9,   -999.0,9,   -999.0,9,-999.0000,     -999,9, -999.000,9, -999.000,   -999.0,9,   -999.0, -999.000,9, -999.000, -999.000,9, -999.000
  49NZ20130106,  S04I,   137,  1,     34, X12J34,2,20130125,1133,-65.1035,  53.0167, 2492,     49.4,2,  -1.1791,2,  -1.21218,2,  34.0733,2,  34.0158,2,-999.0000,9,   325.39,2,   327.86,2,   98.004,   0.0806,2,    0.290,2,  -999.00,9,    9.446,2,    55.53,2,     0.11,    28.46,2,     0.04,     0.15,2,     0.01,     1.97,2,     0.01,    5.272,6,    2.878,6,    0.510,6, -999.000,9,   -999.0,9,   -999.0,9,-999.0000,     -999,9, -999.000,9, -999.000,   -999.0,9,   -999.0, -999.000,9, -999.000, -999.000,9, -999.000
  49NZ20130106,  S04I,   137,  1,     33, X12J33,2,20130125,1133,-65.1035,  53.0167, 2492,     74.9,2,  -1.7001,2,  -1.70071,2,  34.2891,2,  34.2806,2,-999.0000,9,   299.46,2,   300.28,2,   98.769,   0.0495,2,    0.290,2,  -999.00,9,    2.981,2,    64.74,2,     0.12,    30.32,2,     0.04,     0.13,2,     0.01,     2.09,2,     0.01,    4.453,2,    2.413,2,    0.423,2, -999.000,9,   -999.0,9,   -999.0,9,-999.0000,     -999,9, -999.000,9, -999.000,   -999.0,9,   -999.0, -999.000,9, -999.000, -999.000,9, -999.000
  49NZ20130106,  S04I,   137,  1,     32, X12J32,2,20130125,1133,-65.1035,  53.0167, 2492,    100.6,2,  -1.6878,2,  -1.68811,2,  34.3038,2,  34.3034,2,-999.0000,9,   297.44,2,   296.97,2,   99.380,   0.0249,2,    0.170,2,  -999.00,9,    1.180,2,    65.64,2,     0.12,    30.54,2,     0.04,     0.08,2,     0.01,     2.10,2,     0.01,    4.424,2,    2.391,2,    0.421,2, -999.000,9,   -999.0,9,   -999.0,9,-999.0000,     -999,9, -999.000,9, -999.000,   -999.0,9,   -999.0, -999.000,9, -999.000, -999.000,9, -999.000
  49NZ20130106,  S04I,   137,  1,     31, X12J31,2,20130125,1133,-65.1035,  53.0167, 2492,    124.9,2,  -1.6670,2,  -1.66749,2,  34.3166,2,  34.3171,2,-999.0000,9,   296.62,2,   296.09,2,   99.633,   0.0147,2,    0.110,2,  -999.00,9,    0.483,2,    65.82,2,     0.12,    30.63,2,     0.04,     0.03,2,     0.01,     2.10,2,     0.01,    4.429,2,    2.389,2,    0.435,2, -999.000,9,   -999.0,9,   -999.0,9,-999.0000,     -999,9, -999.000,9, -999.000,   -999.0,9,   -999.0, -999.000,9, -999.000, -999.000,9, -999.000
  49NZ20130106,  S04I,   137,  1,     30, X12J30,2,20130125,1133,-65.1035,  53.0167, 2492,    149.4,2,  -1.6566,2,  -1.65700,2,  34.3452,2,  34.3450,2,-999.0000,9,   297.17,2,   296.50,2,   99.752,   0.0099,2,    0.060,2,  -999.00,9,    0.219,2,    64.78,2,     0.12,    30.74,2,     0.04,     0.02,2,     0.01,     2.11,2,     0.01,    4.485,2,    2.420,2,    0.438,2, -999.000,9,   -999.0,9,   -999.0,9,-999.0000,     -999,9, -999.000,9, -999.000,   -999.0,9,   -999.0, -999.000,9, -999.000, -999.000,9, -999.000
  49NZ20130106,  S04I,   137,  1,     29, X12J29,2,20130125,1133,-65.1035,  53.0167, 2492,    200.0,2,  -1.5704,2,  -1.57023,2,  34.3767,2,  34.3761,2,-999.0000,9,   293.58,2,   293.18,2,   99.801,   0.0080,2,    0.050,2,  -999.00,9,    0.013,2,    64.90,2,     0.12,    30.87,2,     0.04,     0.02,2,     0.01,     2.11,2,     0.01,    4.395,2,    2.380,2,    0.411,2, -999.000,9,   -999.0,9,   -999.0,9,-999.0000,     -999,9, -999.000,9, -999.000,   -999.0,9,   -999.0, -999.000,9, -999.000, -999.000,9, -999.000
  49NZ20130106,  S04I,   137,  1,     28, X12J28,2,20130125,1133,-65.1035,  53.0167, 2492,    249.8,2,  -0.8959,2,  -0.89760,2,  34.4490,2,  34.4496,2,-999.0000,9,   270.81,2,   270.32,2,   99.788,   0.0085,2,    0.070,2,  -999.00,9,    0.000,2,    69.04,2,     0.12,    31.54,2,     0.04,     0.02,2,     0.01,     2.16,2,     0.01,    3.709,2,    2.001,2,    0.345,2, -999.000,9,   -999.0,9,   -999.0,9,-999.0000,     -999,9, -999.000,9, -999.000,   -999.0,9,   -999.0, -999.000,9, -999.000, -999.000,9, -999.000
  49NZ20130106,  S04I,   137,  1,     27, X12J27,2,20130125,1133,-65.1035,  53.0167, 2492,    281.0,2,  -0.4003,2,  -0.40247,2,  34.5024,2,  34.5018,2,-999.0000,9,   253.60,2,   253.10,2,   99.841,   0.0064,2,    0.020,2,  -999.00,9,    0.000,2,    72.72,2,     0.12,    31.85,2,     0.04,     0.01,2,     0.01,     2.19,2,     0.01,    3.125,2,    1.677,2,    0.298,2, -999.000,9,   -999.0,9,   -999.0,9,-999.0000,     -999,9, -999.000,9, -999.000,   -999.0,9,   -999.0, -999.000,9, -999.000, -999.000,9, -999.000
  49NZ20130106,  S04I,   137,  1,     26, X12J26,2,20130125,1133,-65.1035,  53.0167, 2492,    370.2,2,   0.1024,2,   0.09380,2,  34.5675,2,  34.5687,2,-999.0000,9,   237.77,2,   236.78,2,   99.869,   0.0052,2,    0.000,2,  -999.00,9,    0.000,2,    78.15,2,     0.13,    31.89,2,     0.04,     0.01,2,     0.01,     2.20,2,     0.01,    2.404,2,    1.287,2,    0.216,2, -999.000,9,   -999.0,9,   -999.0,9,-999.0000,     -999,9, -999.000,9, -999.000,   -999.0,9,   -999.0, -999.000,9, -999.000, -999.000,9, -999.000
  49NZ20130106,  S04I,   137,  1,     25, X12J25,2,20130125,1133,-65.1035,  53.0167, 2492,    471.9,2,   0.2890,2,   0.28877,2,  34.6083,2,  34.6086,2,-999.0000,9,   231.77,2,   231.42,2,   99.922,   0.0031,2,    0.000,2,  -999.00,9,    0.000,2,    82.32,2,     0.13,    31.60,2,     0.04,     0.01,2,     0.01,     2.18,2,     0.01,    2.005,2,    1.077,2,    0.185,2, -999.000,9,   -999.0,9,   -999.0,9,-999.0000,     -999,9, -999.000,9, -999.000,   -999.0,9,   -999.0, -999.000,9, -999.000, -999.000,9, -999.000
  49NZ20130106,  S04I,   137,  1,     24, X12J24,2,20130125,1133,-65.1035,  53.0167, 2492,    570.0,2,   0.0896,2,   0.08850,2,  34.6109,2,  34.6116,2,-999.0000,9,   236.16,2,   235.78,2,   99.939,   0.0024,2,   -0.000,2,  -999.00,9,    0.000,2,    86.42,2,     0.14,    31.54,2,     0.04,     0.01,2,     0.01,     2.17,2,     0.01,    2.003,6,    1.072,6,    0.176,6, -999.000,9,   -999.0,9,   -999.0,9,-999.0000,     -999,9, -999.000,9, -999.000,   -999.0,9,   -999.0, -999.000,9, -999.000, -999.000,9, -999.000
  49NZ20130106,  S04I,   137,  1,     23, X12J23,2,20130125,1133,-65.1035,  53.0167, 2492,    670.2,2,   0.1458,2,   0.14411,2,  34.6319,2,  34.6332,2,-999.0000,9,   231.08,2,   230.88,2,   99.939,   0.0024,2,   -0.000,2,  -999.00,9,    0.000,2,    92.57,2,     0.14,    31.72,2,     0.04,     0.01,2,     0.01,     2.18,2,     0.01,    1.679,2,    0.893,2,    0.155,2, -999.000,9,   -999.0,9,   -999.0,9,-999.0000,     -999,9, -999.000,9, -999.000,   -999.0,9,   -999.0, -999.000,9, -999.000, -999.000,9, -999.000
  49NZ20130106,  S04I,   137,  1,     22, X12J22,2,20130125,1133,-65.1035,  53.0167, 2492,    771.7,2,   0.2453,2,   0.24518,2,  34.6504,2,  34.6512,2,-999.0000,9,   225.82,2,   225.57,2,   99.941,   0.0024,2,   -0.000,2,  -999.00,9,    0.000,2,    98.19,2,     0.15,    31.95,2,     0.04,     0.01,2,     0.01,     2.20,2,     0.01,    1.365,2,    0.722,2,    0.117,2, -999.000,9,   -999.0,9,   -999.0,9,-999.0000,     -999,9, -999.000,9, -999.000,   -999.0,9,   -999.0, -999.000,9, -999.000, -999.000,9, -999.000
  49NZ20130106,  S04I,   137,  1,     21, X12J21,2,20130125,1133,-65.1035,  53.0167, 2492,    870.4,2,   0.1751,2,   0.17498,2,  34.6501,2,  34.6512,2,-999.0000,9,   226.94,2,   227.01,2,   99.945,   0.0022,2,   -0.000,2,  -999.00,9,    0.000,2,   100.32,2,     0.15,    32.09,2,     0.04,     0.01,2,     0.01,     2.20,2,     0.01,    1.363,2,    0.720,2,    0.114,2, -999.000,9,   -999.0,9,   -999.0,9,-999.0000,     -999,9, -999.000,9, -999.000,   -999.0,9,   -999.0, -999.000,9, -999.000, -999.000,9, -999.000
  49NZ20130106,  S04I,   137,  1,     20, X12J20,2,20130125,1133,-65.1035,  53.0167, 2492,    959.2,2,   0.2142,2,   0.21377,2,  34.6608,2,  34.6616,2,-999.0000,9,   223.43,2,   223.32,2,   99.952,   0.0019,2,   -0.000,2,  -999.00,9,    0.000,2,   105.07,2,     0.15,    32.22,2,     0.05,     0.01,2,     0.01,     2.21,2,     0.01,    1.129,2,    0.592,2,    0.091,2, -999.000,9,   -999.0,9,   -999.0,9,-999.0000,     -999,9, -999.000,9, -999.000,   -999.0,9,   -999.0, -999.000,9, -999.000, -999.000,9, -999.000
  49NZ20130106,  S04I,   137,  1,     19, X12J19,2,20130125,1133,-65.1035,  53.0167, 2492,   1168.6,2,   0.2063,2,   0.20634,2,  34.6671,2,  34.6680,2,-999.0000,9,   221.40,2,   221.53,2,   99.962,   0.0015,2,    0.000,2,  -999.00,9,    0.000,2,   110.25,2,     0.16,    32.45,2,     0.05,     0.01,2,     0.01,     2.23,2,     0.01,    0.943,6,    0.485,6,    0.069,6, -999.000,9,   -999.0,9,   -999.0,9,-999.0000,     -999,9, -999.000,9, -999.000,   -999.0,9,   -999.0, -999.000,9, -999.000, -999.000,9, -999.000
  49NZ20130106,  S04I,   137,  1,     18, X12J18,2,20130125,1133,-65.1035,  53.0167, 2492,   1420.0,2,   0.1594,2,   0.16043,2,  34.6723,2,  34.6726,2,-999.0000,9,   219.50,2,   219.63,2,  100.001,  -0.0000,2,   -0.000,2,  -999.00,9,    0.000,2,   117.82,2,     0.16,    32.70,2,     0.05,     0.01,2,     0.01,     2.25,2,     0.01,    0.666,2,    0.333,2,    0.048,2, -999.000,9,   -999.0,9,   -999.0,9,-999.0000,     -999,9, -999.000,9, -999.000,   -999.0,9,   -999.0, -999.000,9, -999.000, -999.000,9, -999.000
  49NZ20130106,  S04I,   137,  1,     17, X12J17,2,20130125,1133,-65.1035,  53.0167, 2492,   1669.7,2,   0.0560,2,   0.05580,2,  34.6679,2,  34.6684,2,-999.0000,9,   224.19,2,   224.42,2,   99.975,   0.0010,2,   -0.010,2,  -999.00,9,    0.000,2,   116.97,2,     0.16,    32.65,2,     0.05,     0.00,2,     0.01,     2.25,2,     0.01,    0.833,2,    0.425,2,    0.065,2, -999.000,9,   -999.0,9,   -999.0,9,-999.0000,     -999,9, -999.000,9, -999.000,   -999.0,9,   -999.0, -999.000,9, -999.000, -999.000,9, -999.000
  49NZ20130106,  S04I,   137,  1,     16, X12J16,2,20130125,1133,-65.1035,  53.0167, 2492,   1920.0,2,  -0.1102,2,  -0.11032,2,  34.6618,2,  34.6625,2,-999.0000,9,   232.19,2,   232.29,2,   99.952,   0.0019,2,   -0.000,2,  -999.00,9,    0.000,2,   115.48,2,     0.16,    32.52,2,     0.05,     0.00,2,     0.01,     2.24,2,     0.01,    1.134,2,    0.590,2,    0.084,2, -999.000,9,   -999.0,9,   -999.0,9,-999.0000,     -999,9, -999.000,9, -999.000,   -999.0,9,   -999.0, -999.000,9, -999.000, -999.000,9, -999.000
  49NZ20130106,  S04I,   137,  1,     15, X12J15,2,20130125,1133,-65.1035,  53.0167, 2492,   2171.6,2,  -0.1661,2,  -0.16625,2,  34.6591,2,  34.6596,2,-999.0000,9,   236.09,2,   236.39,2,   99.914,   0.0034,2,   -0.000,2,  -999.00,9,    0.000,2,   113.11,2,     0.16,    32.38,2,     0.05,     0.01,2,     0.01,     2.23,2,     0.01,    1.361,2,    0.711,2,    0.109,2, -999.000,9,   -999.0,9,   -999.0,9,-999.0000,     -999,9, -999.000,9, -999.000,   -999.0,9,   -999.0, -999.000,9, -999.000, -999.000,9, -999.000
  49NZ20130106,  S04I,   137,  1,     14, X12J14,2,20130125,1133,-65.1035,  53.0167, 2492,   2421.2,2,  -0.1830,2,  -0.18315,2,  34.6579,2,  34.6586,2,-999.0000,9,   238.11,2,   238.18,2,   99.882,   0.0047,2,   -0.010,2,  -999.00,9,    0.000,2,   111.81,2,     0.16,    32.36,2,     0.05,     0.01,2,     0.01,     2.23,2,     0.01,    1.471,2,    0.770,2,    0.124,2, -999.000,9,   -999.0,9,   -999.0,9,-999.0000,     -999,9, -999.000,9, -999.000,   -999.0,9,   -999.0, -999.000,9, -999.000, -999.000,9, -999.000
  49NZ20130106,  S04I,   137,  1,      1, X12J01,2,20130125,1133,-65.1035,  53.0167, 2492,   2522.2,2,  -0.1768,2,  -0.17683,2,  34.6578,2,  34.6578,2,-999.0000,9,   238.15,2,   237.98,2,   99.863,   0.0055,2,   -0.010,2,  -999.00,9,    0.000,2,   111.84,2,     0.16,    32.29,2,     0.05,     0.00,2,     0.01,     2.23,2,     0.01,    1.468,2,    0.771,2,    0.121,2, -999.000,9,   -999.0,9,   -999.0,9,-999.0000,     -999,9, -999.000,9, -999.000,   -999.0,9,   -999.0, -999.000,9, -999.000, -999.000,9, -999.000