BOTTLE,20220819CCHSIOAMB
EXPOCODE,SECT_ID,STNNBR,CASTNO,SAMPNO,BTLNBR,BTLNBR_FLAG_W,DATE,TIME,LATITUDE,LONGITUDE,DEPTH,CTDPRS,CTDPRS_FLAG_W,CTDTMP,CTDTMP_FLAG_W,SBE35,SBE35_FLAG_W,CTDSAL,CTDSAL_FLAG_W,SALNTY,SALNTY_FLAG_W,DNSSAL,DNSSAL_FLAG_W,CTDOXY,CTDOXY_FLAG_W,OXYGEN,OXYGEN_FLAG_W,CTDXMISS,CTDXMISSCP,CTDXMISS_FLAG_W,CTDFLUOR,CTDFLUOR_FLAG_W,CHLORA,CHLORA_FLAG_W,PAR,PAR_FLAG_W,SILCAT,SILCAT_FLAG_W,SILUNC,NITRAT,NITRAT_FLAG_W,NRAUNC,NITRIT,NITRIT_FLAG_W,NRIUNC,PHSPHT,PHSPHT_FLAG_W,PHPUNC,CFC-11,CFC-11_FLAG_W,CFC-12,CFC-12_FLAG_W,CFC113,CFC113_FLAG_W,SF6,SF6_FLAG_W,TCARBN,TCARBN_FLAG_W,ALKALI,ALKALI_FLAG_W,PH_TOT,PH_TMP,PH_TOT_FLAG_W,DELC13,DELC13_FLAG_W,C13ERR,DELC14,DELC14_FLAG_W,C14ERR,CS-134,CS-134_FLAG_W,CS134ER,CS-137,CS-137_FLAG_W,CS137ER
,,,,,,,,UTC,DEG,DEG,METERS,DBAR,,ITS-90,,ITS-90,,PSS-78,,PSS-78,,G/KG,,UMOL/KG,,UMOL/KG,,%TRANS,/METER,,MG/M^3,,MG/CUM,,UE/SQM/S,,UMOL/KG,,UMOL/KG,UMOL/KG,,UMOL/KG,UMOL/KG,,UMOL/KG,UMOL/KG,,UMOL/KG,PMOL/KG,,PMOL/KG,,PMOL/KG,,FMOL/KG,,UMOL/KG,,UMOL/KG,,,DEG C,,/MILLE,,/MILLE,/MILLE,,/MILLE,MBQ/KG,,MBQ/KG,MBQ/KG,,MBQ/KG
  49NZ20130106,  S04I,   148,  1,     36, X12J36,2,20130129,0211,-64.2233,  43.2587, 4447,      5.7,2,   0.8403,2,   0.84798,2,  33.8063,2,  33.8037,2,-999.0000,9,   338.30,2,   337.11,2,   98.690,   0.0527,4,    0.040,2,  -999.00,9,  340.224,2,    46.08,2,     0.10,    25.88,2,     0.04,     0.26,2,     0.01,     1.81,2,     0.01,    5.760,2,    3.126,2,    0.572,2,    2.799,2,   2170.9,2,   2291.9,2,   7.6716,       25,6, -999.000,9, -999.000,   -999.0,9,   -999.0, -999.000,9, -999.000, -999.000,9, -999.000
  49NZ20130106,  S04I,   148,  1,     35, X12J35,2,20130129,0211,-64.2233,  43.2587, 4447,     24.6,2,   0.7793,2,   0.77934,2,  33.8073,2,  33.8073,2,-999.0000,9,   338.45,2,   337.46,2,   98.665,   0.0538,4,    0.090,2,  -999.00,9,  107.694,2,    46.21,2,     0.10,    25.88,2,     0.04,     0.25,2,     0.01,     1.81,2,     0.01,    5.789,2,    3.133,2,    0.571,2,    2.718,2,   2171.9,2,   2291.4,2,   7.6695,       25,2, -999.000,9, -999.000,   -999.0,9,   -999.0, -999.000,9, -999.000, -999.000,9, -999.000
  49NZ20130106,  S04I,   148,  1,     34, X12J34,2,20130129,0211,-64.2233,  43.2587, 4447,     49.2,2,  -0.8464,2,  -0.82001,2,  33.9918,2,  33.9640,2,-999.0000,9,   327.39,2,   327.99,2,   98.650,   0.0544,4,    0.160,2,  -999.00,9,   39.133,2,    49.18,2,     0.10,    26.63,2,     0.04,     0.16,2,     0.01,     1.87,2,     0.01,    5.352,6,    2.871,6,    0.518,6,    2.472,6,   2186.2,2,   2301.9,2,   7.6581,       25,2, -999.000,9, -999.000,   -999.0,9,   -999.0, -999.000,9, -999.000, -999.000,9, -999.000
  49NZ20130106,  S04I,   148,  1,     33, X12J33,2,20130129,0211,-64.2233,  43.2587, 4447,     74.7,2,   0.2486,2,   0.25924,2,  34.3974,2,  34.4001,2,-999.0000,9,   238.63,2,   237.30,2,   98.493,   0.0607,4,    0.280,2,  -999.00,9,   13.535,2,    70.20,2,     0.12,    31.83,2,     0.04,     0.07,2,     0.01,     2.22,2,     0.01,    2.935,2,    1.568,2,    0.276,2,    1.266,2,   2237.8,6,   2329.0,2,   7.5796,       25,2, -999.000,9, -999.000,   -999.0,9,   -999.0, -999.000,9, -999.000, -999.000,9, -999.000
  49NZ20130106,  S04I,   148,  1,     32, X12J32,2,20130129,0211,-64.2233,  43.2587, 4447,    100.2,2,   1.2971,2,   1.29696,2,  34.5644,2,  34.5643,2,-999.0000,9,   188.55,2,   188.26,2,   93.781,   0.2568,4,    0.230,2,  -999.00,9,    3.450,2,    83.38,2,     0.13,    34.46,2,     0.05,     0.06,2,     0.01,     2.40,2,     0.01,    1.494,2,    0.774,2,    0.122,2,    0.479,2,   2264.1,3,   2336.1,6,   7.5380,       25,2, -999.000,9, -999.000,   -999.0,9,   -999.0, -999.000,9, -999.000, -999.000,9, -999.000
  49NZ20130106,  S04I,   148,  1,     31, X12J31,2,20130129,0211,-64.2233,  43.2587, 4447,    125.4,2,   1.4075,2,   1.40746,2,  34.6005,2,  34.6011,2,-999.0000,9,   184.44,2,   184.06,2,   99.582,   0.0168,4,    0.100,2,  -999.00,9,    1.107,2,    85.54,2,     0.14,    34.37,2,     0.05,     0.05,2,     0.01,     2.37,2,     0.01,    1.230,2,    0.627,2,    0.096,2,    0.392,2,   2262.3,2,   2337.9,2,   7.5410,       25,2, -999.000,9, -999.000,   -999.0,9,   -999.0, -999.000,9, -999.000, -999.000,9, -999.000
  49NZ20130106,  S04I,   148,  1,     30, X12J30,2,20130129,0211,-64.2233,  43.2587, 4447,    150.7,2,   1.4740,2,   1.47363,2,  34.6241,2,  34.6226,2,-999.0000,9,   182.61,2,   182.28,2,   99.739,   0.0105,4,    0.040,2,  -999.00,9,    0.438,2,    86.69,2,     0.14,    34.16,2,     0.05,     0.03,2,     0.01,     2.36,2,     0.01,    1.016,2,    0.539,2,    0.075,2,    0.359,2,   2262.7,2,   2340.1,2,   7.5450,       25,6, -999.000,9, -999.000,   -999.0,9,   -999.0, -999.000,9, -999.000, -999.000,9, -999.000
  49NZ20130106,  S04I,   148,  1,     29, X12J29,2,20130129,0211,-64.2233,  43.2587, 4447,    200.3,2,   1.5014,2,   1.50145,2,  34.6560,2,  34.6552,2,-999.0000,9,   183.76,2,   183.21,2,   99.824,   0.0070,4,    0.000,2,  -999.00,9,    0.060,2,    88.10,2,     0.14,    33.58,2,     0.05,     0.01,2,     0.01,     2.32,2,     0.01,    0.838,2,    0.425,2,    0.056,2,    0.219,2,   2260.8,2,   2340.6,2,   7.5556,       25,2, -999.000,9, -999.000,   -999.0,9,   -999.0, -999.000,9, -999.000, -999.000,9, -999.000
  49NZ20130106,  S04I,   148,  1,     28, X12J28,2,20130129,0211,-64.2233,  43.2587, 4447,    250.0,2,   1.5174,2,   1.51731,2,  34.6766,2,  34.6758,2,-999.0000,9,   184.73,2,   184.33,2,   99.847,   0.0061,4,    0.010,2,  -999.00,9,    0.000,2,    89.19,2,     0.14,    33.20,2,     0.05,     0.01,2,     0.01,     2.30,2,     0.01,    0.707,2,    0.357,2,    0.052,2,    0.141,2,   2259.0,2,   2344.5,2,   7.5631,       25,2, -999.000,9, -999.000,   -999.0,9,   -999.0, -999.000,9, -999.000, -999.000,9, -999.000
  49NZ20130106,  S04I,   148,  1,     27, X12J27,2,20130129,0211,-64.2233,  43.2587, 4447,    299.1,2,   1.4950,2,   1.49451,2,  34.6925,2,  34.6917,2,-999.0000,9,   187.61,2,   187.24,2,   99.828,   0.0069,4,    0.010,2,  -999.00,9,    0.000,2,    90.22,2,     0.14,    32.74,2,     0.05,     0.01,2,     0.01,     2.27,2,     0.01,    0.636,2,    0.308,2,    0.043,2,    0.138,2,   2258.5,2,   2347.2,2,   7.5718,       25,2, -999.000,9, -999.000,   -999.0,9,   -999.0, -999.000,9, -999.000, -999.000,9, -999.000
  49NZ20130106,  S04I,   148,  1,     26, X12J26,2,20130129,0211,-64.2233,  43.2587, 4447,    399.0,2,   1.4375,2,   1.43746,2,  34.7092,2,  34.7082,2,-999.0000,9,   192.40,2,   192.11,2,   99.916,   0.0034,4,    0.000,2,  -999.00,9,    0.000,2,    91.78,2,     0.14,    32.05,2,     0.04,     0.00,2,     0.01,     2.22,2,     0.01,    0.500,2,    0.255,2,    0.035,2,    0.141,2,   2256.8,2,   2348.6,2,   7.5847,       25,2, -999.000,9, -999.000,   -999.0,9,   -999.0, -999.000,9, -999.000, -999.000,9, -999.000
  49NZ20130106,  S04I,   148,  1,     25, X12J25,2,20130129,0211,-64.2233,  43.2587, 4447,    499.8,2,   1.3492,2,   1.34956,2,  34.7155,2,  34.7153,2,-999.0000,9,   195.56,2,   195.34,2,   99.952,   0.0019,4,    0.010,2,  -999.00,9,    0.000,2,    94.07,2,     0.14,    31.81,2,     0.04,     0.00,2,     0.01,     2.20,2,     0.01,    0.448,2,    0.222,2,    0.031,2,    0.160,2,   2255.5,2,   2350.1,2,   7.5906,       25,2, -999.000,9, -999.000,   -999.0,9,   -999.0, -999.000,9, -999.000, -999.000,9, -999.000
  49NZ20130106,  S04I,   148,  1,     24, X12J24,2,20130129,0211,-64.2233,  43.2587, 4447,    598.8,2,   1.2505,2,   1.25041,2,  34.7173,2,  34.7168,2,-999.0000,9,   197.79,2,   197.52,2,   99.943,   0.0023,4,    0.000,2,  -999.00,9,    0.000,2,    96.68,2,     0.15,    31.75,2,     0.04,     0.00,2,     0.01,     2.20,2,     0.01,    0.420,6,    0.212,6,    0.027,6,    0.130,6,   2256.9,2,   2350.6,2,   7.5940,       25,2, -999.000,9, -999.000,   -999.0,9,   -999.0, -999.000,9, -999.000, -999.000,9, -999.000
  49NZ20130106,  S04I,   148,  1,     23, X12J23,2,20130129,0211,-64.2233,  43.2587, 4447,    699.2,2,   1.1654,2,   1.16561,2,  34.7172,2,  34.7170,2,-999.0000,9,   199.70,2,   199.54,2,   99.907,   0.0037,4,    0.000,2,  -999.00,9,    0.000,2,    99.10,2,     0.15,    31.78,2,     0.04,     0.01,2,     0.01,     2.20,2,     0.01,    0.390,2,    0.197,2,    0.017,2,    0.067,2,   2255.8,6,   2352.2,2,   7.5956,       25,2, -999.000,9, -999.000,   -999.0,9,   -999.0, -999.000,9, -999.000, -999.000,9, -999.000
  49NZ20130106,  S04I,   148,  1,     22, X12J22,2,20130129,0211,-64.2233,  43.2587, 4447,    799.3,2,   1.0503,2,   1.05048,2,  34.7139,2,  34.7136,2,-999.0000,9,   201.21,2,   200.79,2,   99.958,   0.0017,4,    0.000,2,  -999.00,9,    0.000,2,   102.07,2,     0.15,    31.91,2,     0.04,     0.00,2,     0.01,     2.21,2,     0.01,    0.400,2,    0.195,2,    0.017,2,    0.107,2,   2257.8,2,   2353.1,6,   7.5959,       25,2, -999.000,9, -999.000,   -999.0,9,   -999.0, -999.000,9, -999.000, -999.000,9, -999.000
  49NZ20130106,  S04I,   148,  1,     21, X12J21,2,20130129,0211,-64.2233,  43.2587, 4447,    900.6,2,   0.9449,2,   0.94488,2,  34.7098,2,  34.7096,2,-999.0000,9,   202.71,2,   202.35,2,   98.948,   0.0423,4,    0.000,2,  -999.00,9,    0.000,2,   105.04,2,     0.15,    32.03,2,     0.04,     0.00,2,     0.01,     2.22,2,     0.01,    0.380,2,    0.191,2,    0.017,2,    0.142,2,   2258.3,2,   2355.5,3,   7.5960,       25,2, -999.000,9, -999.000,   -999.0,9,   -999.0, -999.000,9, -999.000, -999.000,9, -999.000
  49NZ20130106,  S04I,   148,  1,     20, X12J20,2,20130129,0211,-64.2233,  43.2587, 4447,   1002.0,2,   0.8559,2,   0.85599,2,  34.7062,2,  34.7058,2,-999.0000,9,   203.55,2,   203.13,2,   99.979,   0.0008,4,   -0.000,2,  -999.00,9,    0.000,2,   107.49,2,     0.16,    32.22,2,     0.05,     0.00,2,     0.01,     2.24,2,     0.01,    0.385,2,    0.189,2,    0.016,2,    0.057,2,   2259.0,2,   2354.6,2,   7.5943,       25,2, -999.000,9, -999.000,   -999.0,9,   -999.0, -999.000,9, -999.000, -999.000,9, -999.000
  49NZ20130106,  S04I,   148,  1,     19, X12J19,2,20130129,0211,-64.2233,  43.2587, 4447,   1250.5,2,   0.6748,2,   0.67446,2,  34.6980,2,  34.6976,2,-999.0000,9,   205.56,2,   205.20,2,   99.979,   0.0008,4,   -0.000,2,  -999.00,9,    0.000,2,   112.56,2,     0.16,    32.55,2,     0.05,     0.00,2,     0.01,     2.26,2,     0.01,    0.387,6,    0.190,6,    0.016,6,    0.125,6,   2260.5,2,   2355.8,2,   7.5911,       25,2, -999.000,9, -999.000,   -999.0,9,   -999.0, -999.000,9, -999.000, -999.000,9, -999.000
  49NZ20130106,  S04I,   148,  1,     18, X12J18,2,20130129,0211,-64.2233,  43.2587, 4447,   1499.2,2,   0.5338,2,   0.53372,2,  34.6914,2,  34.6911,2,-999.0000,9,   207.12,2,   206.83,2,   98.933,   0.0429,4,   -0.000,2,  -999.00,9,    0.000,2,   116.83,2,     0.16,    32.86,2,     0.05,     0.00,2,     0.01,     2.28,2,     0.01,    0.374,2,    0.179,2,    0.016,2,    0.110,2,   2263.1,2,   2355.2,2,   7.5884,       25,2, -999.000,9, -999.000,   -999.0,9,   -999.0, -999.000,9, -999.000, -999.000,9, -999.000
  49NZ20130106,  S04I,   148,  1,     17, X12J17,2,20130129,0211,-64.2233,  43.2587, 4447,   1751.1,2,   0.4142,2,   0.41413,2,  34.6858,2,  34.6857,2,-999.0000,9,   209.18,2,   208.97,2,   99.909,   0.0036,4,   -0.000,2,  -999.00,9,    0.000,2,   120.72,2,     0.17,    33.04,2,     0.05,     0.00,2,     0.01,     2.30,2,     0.01,    0.364,2,    0.167,2,    0.014,2,    0.108,2,   2263.1,2,   2356.0,2,   7.5870,       25,6, -999.000,9, -999.000,   -999.0,9,   -999.0, -999.000,9, -999.000, -999.000,9, -999.000
  49NZ20130106,  S04I,   148,  1,     16, X12J16,2,20130129,0211,-64.2233,  43.2587, 4447,   2000.1,2,   0.3093,2,   0.30933,2,  34.6807,2,  34.6801,2,-999.0000,9,   212.40,2,   212.18,2,   99.981,   0.0008,4,   -0.000,2,  -999.00,9,    0.000,2,   122.49,2,     0.17,    33.07,2,     0.05,     0.00,2,     0.01,     2.30,2,     0.01,    0.370,2,    0.175,2,    0.013,2,    0.088,2,   2262.8,2,   2356.3,2,   7.5878,       25,2, -999.000,9, -999.000,   -999.0,9,   -999.0, -999.000,9, -999.000, -999.000,9, -999.000
  49NZ20130106,  S04I,   148,  1,     15, X12J15,2,20130129,0211,-64.2233,  43.2587, 4447,   2249.8,2,   0.1995,2,   0.19959,2,  34.6743,2,  34.6741,2,-999.0000,9,   217.69,2,   217.43,2,   99.847,   0.0061,4,   -0.010,2,  -999.00,9,    0.000,2,   121.98,2,     0.17,    32.95,2,     0.05,     0.00,2,     0.01,     2.28,2,     0.01,    0.480,2,    0.234,2,    0.020,2,    0.038,2,   2260.2,2,   2355.1,2,   7.5899,       25,2, -999.000,9, -999.000,   -999.0,9,   -999.0, -999.000,9, -999.000, -999.000,9, -999.000
  49NZ20130106,  S04I,   148,  1,     14, X12J14,2,20130129,0211,-64.2233,  43.2587, 4447,   2499.9,2,   0.1081,2,   0.10818,2,  34.6700,2,  34.6697,2,-999.0000,9,   221.77,2,   221.49,2,   99.733,   0.0107,4,   -0.010,2,  -999.00,9,    0.000,2,   122.52,2,     0.17,    32.90,2,     0.05,     0.00,2,     0.01,     2.28,2,     0.01,    0.545,2,    0.265,2,    0.032,2,    0.106,2,   2259.4,6,   2354.0,2,   7.5924,       25,2, -999.000,9, -999.000,   -999.0,9,   -999.0, -999.000,9, -999.000, -999.000,9, -999.000
  49NZ20130106,  S04I,   148,  1,     13, X12J13,2,20130129,0211,-64.2233,  43.2587, 4447,   2749.7,2,   0.0158,2,   0.01579,2,  34.6654,2,  34.6648,2,-999.0000,9,   226.99,2,   226.85,2,   99.990,   0.0004,4,   -0.010,2,  -999.00,9,    0.000,2,   121.28,2,     0.17,    32.73,2,     0.05,     0.00,2,     0.01,     2.27,2,     0.01,    0.728,2,    0.368,2,    0.047,2,    0.200,2,   2257.7,2,   2353.7,6,   7.5947,       25,2, -999.000,9, -999.000,   -999.0,9,   -999.0, -999.000,9, -999.000, -999.000,9, -999.000
  49NZ20130106,  S04I,   148,  1,     12, X12J12,2,20130129,0211,-64.2233,  43.2587, 4447,   3001.4,2,  -0.0497,2,  -0.04970,2,  34.6627,2,  34.6624,2,-999.0000,9,   229.96,2,   229.64,2,   97.623,   0.0962,4,   -0.010,2,  -999.00,9,    0.000,2,   122.63,2,     0.17,    32.71,2,     0.05,     0.01,2,     0.01,     2.27,2,     0.01,    0.726,2,    0.374,2,    0.045,2,    0.251,2,   2256.8,2,   2353.1,2,   7.5961,       25,6, -999.000,9, -999.000,   -999.0,9,   -999.0, -999.000,9, -999.000, -999.000,9, -999.000
  49NZ20130106,  S04I,   148,  1,     11, X12J11,2,20130129,0211,-64.2233,  43.2587, 4447,   3251.6,2,  -0.1067,2,  -0.10661,2,  34.6604,2,  34.6599,2,-999.0000,9,   232.87,2,   232.56,2,   99.964,   0.0014,4,   -0.010,2,  -999.00,9,    0.000,2,   123.21,2,     0.17,    32.70,2,     0.05,     0.00,2,     0.01,     2.28,2,     0.01,    0.757,2,    0.377,2,    0.047,2,    0.190,2,   2255.3,2,   2352.9,2,   7.5972,       25,2, -999.000,9, -999.000,   -999.0,9,   -999.0, -999.000,9, -999.000, -999.000,9, -999.000
  49NZ20130106,  S04I,   148,  1,     10, X12J10,2,20130129,0211,-64.2233,  43.2587, 4447,   3500.3,2,  -0.1644,2,  -0.16426,2,  34.6571,2,  34.6567,2,-999.0000,9,   237.05,2,   236.68,2,   98.890,   0.0446,4,   -0.010,2,  -999.00,9,    0.000,2,   122.69,2,     0.17,    32.61,2,     0.05,     0.00,2,     0.01,     2.28,2,     0.01,    0.912,2,    0.484,2,    0.057,2,    0.301,2,   2252.6,2,   2352.4,2,   7.5993,       25,2, -999.000,9, -999.000,   -999.0,9,   -999.0, -999.000,9, -999.000, -999.000,9, -999.000
  49NZ20130106,  S04I,   148,  1,      9, X12J09,2,20130129,0211,-64.2233,  43.2587, 4447,   3750.0,2,  -0.2066,2,  -0.20657,2,  34.6548,2,  34.6544,2,-999.0000,9,   240.00,2,   239.64,2,   99.888,   0.0045,4,   -0.010,2,  -999.00,9,    0.000,2,   123.31,2,     0.17,    32.60,2,     0.05,     0.00,2,     0.01,     2.27,2,     0.01,    0.990,2,    0.517,2,    0.065,2,    0.254,2,   2251.2,2,   2352.5,2,   7.6002,       25,2, -999.000,9, -999.000,   -999.0,9,   -999.0, -999.000,9, -999.000, -999.000,9, -999.000
  49NZ20130106,  S04I,   148,  1,      8, X12J08,2,20130129,0211,-64.2233,  43.2587, 4447,   4000.7,2,  -0.2426,2,  -0.24252,2,  34.6533,2,  34.6523,2,-999.0000,9,   242.63,2,   242.31,2,   99.871,   0.0052,4,   -0.010,2,  -999.00,9,    0.000,2,   123.11,2,     0.17,    32.54,2,     0.05,     0.00,2,     0.01,     2.27,2,     0.01,    1.005,6,    0.524,6,    0.066,6,    0.317,6,   2251.0,2,   2351.4,2,   7.6024,       25,2, -999.000,9, -999.000,   -999.0,9,   -999.0, -999.000,9, -999.000, -999.000,9, -999.000
  49NZ20130106,  S04I,   148,  1,      7, X12J07,2,20130129,0211,-64.2233,  43.2587, 4447,   4251.4,2,  -0.2797,2,  -0.27962,2,  34.6490,2,  34.6490,2,-999.0000,9,   245.86,2,   245.48,2,   99.899,   0.0040,4,   -0.010,2,  -999.00,9,    0.000,2,   122.97,2,     0.17,    32.37,2,     0.05,     0.00,2,     0.01,     2.26,2,     0.01,    1.176,2,    0.606,2,    0.079,2,    0.366,2,   2251.7,6,   2351.1,2,   7.6030,       25,2, -999.000,9, -999.000,   -999.0,9,   -999.0, -999.000,9, -999.000, -999.000,9, -999.000
  49NZ20130106,  S04I,   148,  1,      1, X12J01,2,20130129,0211,-64.2233,  43.2587, 4447,   4529.1,2,  -0.2915,2,  -0.29146,2,  34.6502,2,  34.6503,2,-999.0000,9,   243.22,2,   243.15,2,   99.509,   0.0197,4,   -0.010,2,  -999.00,9,    0.000,2,   135.72,2,     0.18,    32.69,2,     0.05,     0.00,2,     0.01,     2.28,2,     0.01,    0.801,2,    0.404,2,    0.045,2,    0.253,2,   2253.5,2,   2351.6,2,   7.6024,       25,2, -999.000,9, -999.000,   -999.0,9,   -999.0, -999.000,9, -999.000, -999.000,9, -999.000