BOTTLE,20220819CCHSIOAMB
EXPOCODE,SECT_ID,STNNBR,CASTNO,SAMPNO,BTLNBR,BTLNBR_FLAG_W,DATE,TIME,LATITUDE,LONGITUDE,DEPTH,CTDPRS,CTDPRS_FLAG_W,CTDTMP,CTDTMP_FLAG_W,SBE35,SBE35_FLAG_W,CTDSAL,CTDSAL_FLAG_W,SALNTY,SALNTY_FLAG_W,DNSSAL,DNSSAL_FLAG_W,CTDOXY,CTDOXY_FLAG_W,OXYGEN,OXYGEN_FLAG_W,CTDXMISS,CTDXMISSCP,CTDXMISS_FLAG_W,CTDFLUOR,CTDFLUOR_FLAG_W,CHLORA,CHLORA_FLAG_W,PAR,PAR_FLAG_W,SILCAT,SILCAT_FLAG_W,SILUNC,NITRAT,NITRAT_FLAG_W,NRAUNC,NITRIT,NITRIT_FLAG_W,NRIUNC,PHSPHT,PHSPHT_FLAG_W,PHPUNC,CFC-11,CFC-11_FLAG_W,CFC-12,CFC-12_FLAG_W,CFC113,CFC113_FLAG_W,SF6,SF6_FLAG_W,TCARBN,TCARBN_FLAG_W,ALKALI,ALKALI_FLAG_W,PH_TOT,PH_TMP,PH_TOT_FLAG_W,DELC13,DELC13_FLAG_W,C13ERR,DELC14,DELC14_FLAG_W,C14ERR,CS-134,CS-134_FLAG_W,CS134ER,CS-137,CS-137_FLAG_W,CS137ER
,,,,,,,,UTC,DEG,DEG,METERS,DBAR,,ITS-90,,ITS-90,,PSS-78,,PSS-78,,G/KG,,UMOL/KG,,UMOL/KG,,%TRANS,/METER,,MG/M^3,,MG/CUM,,UE/SQM/S,,UMOL/KG,,UMOL/KG,UMOL/KG,,UMOL/KG,UMOL/KG,,UMOL/KG,UMOL/KG,,UMOL/KG,PMOL/KG,,PMOL/KG,,PMOL/KG,,FMOL/KG,,UMOL/KG,,UMOL/KG,,,DEG C,,/MILLE,,/MILLE,/MILLE,,/MILLE,MBQ/KG,,MBQ/KG,MBQ/KG,,MBQ/KG
  49NZ20130106,  S04I,    99,  1,     36, X12J36,2,20130115,2222,-62.2757,  93.1485, 3935,      5.6,2,   1.7356,2,   1.73522,2,  33.9352,2,  33.9350,2,-999.0000,9,   341.29,2,   341.65,2,   93.735,   0.2588,2,    0.270,2,  -999.00,9,   97.946,2,    40.49,2,     0.10,    25.11,2,     0.04,     0.26,2,     0.01,     1.60,2,     0.01,    5.755,2,    3.129,2,    0.587,2,    2.687,2,   -999.0,9,   -999.0,9,-999.0000,     -999,9, -999.000,9, -999.000,   -999.0,9,   -999.0, -999.000,9, -999.000, -999.000,9, -999.000
  49NZ20130106,  S04I,    99,  1,     35, X12J35,2,20130115,2222,-62.2757,  93.1485, 3935,     25.0,2,   1.3343,2,   1.32863,2,  33.9650,2,  33.9782,2,-999.0000,9,   343.30,2,   344.68,2,   93.887,   0.2523,2,    0.480,2,  -999.00,9,   18.145,2,    44.28,2,     0.10,    25.81,2,     0.04,     0.23,2,     0.01,     1.69,2,     0.01,    5.797,2,    3.105,2,    0.608,2,    2.782,2,   -999.0,9,   -999.0,9,-999.0000,     -999,9, -999.000,9, -999.000,   -999.0,9,   -999.0, -999.000,9, -999.000, -999.000,9, -999.000
  49NZ20130106,  S04I,    99,  1,     34, X12J34,2,20130115,2222,-62.2757,  93.1485, 3935,     49.7,2,  -0.4849,2,  -0.48471,2,  34.1351,2,  34.1374,2,-999.0000,9,   337.89,2,   337.85,2,   93.423,   0.2721,2,    1.060,2,  -999.00,9,    2.383,2,    54.64,2,     0.11,    27.88,2,     0.04,     0.14,2,     0.01,     1.89,2,     0.01,    5.337,6,    2.849,6,    0.544,6,    2.496,6,   -999.0,9,   -999.0,9,-999.0000,     -999,9, -999.000,9, -999.000,   -999.0,9,   -999.0, -999.000,9, -999.000, -999.000,9, -999.000
  49NZ20130106,  S04I,    99,  1,     33, X12J33,2,20130115,2222,-62.2757,  93.1485, 3935,     74.8,2,  -1.1215,2,  -1.12190,2,  34.2391,2,  34.2398,2,-999.0000,9,   307.04,2,   306.80,2,   97.133,   0.1164,2,    0.590,2,  -999.00,9,    0.350,2,    62.72,2,     0.12,    29.83,2,     0.04,     0.11,2,     0.01,     2.09,2,     0.01,    4.615,2,    2.445,2,    0.460,2,    2.032,2,   -999.0,9,   -999.0,9,-999.0000,     -999,9, -999.000,9, -999.000,   -999.0,9,   -999.0, -999.000,9, -999.000, -999.000,9, -999.000
  49NZ20130106,  S04I,    99,  1,     32, X12J32,2,20130115,2222,-62.2757,  93.1485, 3935,     99.8,2,  -0.9708,2,  -0.97103,2,  34.3290,2,  34.3310,2,-999.0000,9,   277.69,2,   276.13,2,   98.731,   0.0511,2,    0.280,2,  -999.00,9,    0.083,2,    67.50,2,     0.12,    31.14,2,     0.04,     0.13,2,     0.01,     2.17,2,     0.01,    3.881,2,    2.066,2,    0.381,2,    1.758,2,   -999.0,9,   -999.0,9,-999.0000,     -999,9, -999.000,9, -999.000,   -999.0,9,   -999.0, -999.000,9, -999.000, -999.000,9, -999.000
  49NZ20130106,  S04I,    99,  1,     31, X12J31,2,20130115,2222,-62.2757,  93.1485, 3935,    124.7,2,  -0.6728,2,  -0.67224,2,  34.3956,2,  34.3958,2,-999.0000,9,   258.58,2,   257.96,2,   99.447,   0.0222,2,    0.150,2,  -999.00,9,    0.028,2,    70.85,2,     0.12,    31.81,2,     0.04,     0.09,2,     0.01,     2.20,2,     0.01,    3.360,2,    1.774,2,    0.325,2,    1.486,2,   -999.0,9,   -999.0,9,-999.0000,     -999,9, -999.000,9, -999.000,   -999.0,9,   -999.0, -999.000,9, -999.000, -999.000,9, -999.000
  49NZ20130106,  S04I,    99,  1,     30, X12J30,2,20130115,2222,-62.2757,  93.1485, 3935,    150.0,2,   0.0223,2,   0.01526,2,  34.4706,2,  34.4700,2,-999.0000,9,   235.82,2,   234.88,2,   99.633,   0.0147,2,    0.080,2,  -999.00,9,    0.000,2,    74.35,2,     0.13,    32.32,2,     0.05,     0.03,2,     0.01,     2.23,2,     0.01,    2.587,2,    1.382,2,    0.242,2,    1.131,2,   -999.0,9,   -999.0,9,-999.0000,     -999,9, -999.000,9, -999.000,   -999.0,9,   -999.0, -999.000,9, -999.000, -999.000,9, -999.000
  49NZ20130106,  S04I,    99,  1,     29, X12J29,2,20130115,2222,-62.2757,  93.1485, 3935,    200.2,2,   0.9915,2,   0.99045,2,  34.5936,2,  34.5931,2,-999.0000,9,   205.71,2,   205.32,2,   99.603,   0.0159,2,    0.030,2,  -999.00,9,    0.000,2,    80.35,2,     0.13,    32.64,2,     0.05,     0.02,2,     0.01,     2.25,2,     0.01,    1.462,2,    0.802,2,    0.132,2,    0.624,2,   -999.0,9,   -999.0,9,-999.0000,     -999,9, -999.000,9, -999.000,   -999.0,9,   -999.0, -999.000,9, -999.000, -999.000,9, -999.000
  49NZ20130106,  S04I,    99,  1,     28, X12J28,2,20130115,2222,-62.2757,  93.1485, 3935,    249.4,2,   1.3182,2,   1.31841,2,  34.6506,2,  34.6505,2,-999.0000,9,   196.70,2,   196.35,2,   99.722,   0.0111,2,    0.020,2,  -999.00,9,    0.000,2,    83.29,2,     0.13,    32.47,2,     0.05,     0.01,2,     0.01,     2.24,2,     0.01,    1.029,2,    0.560,2,    0.087,2,    0.403,2,   -999.0,9,   -999.0,9,-999.0000,     -999,9, -999.000,9, -999.000,   -999.0,9,   -999.0, -999.000,9, -999.000, -999.000,9, -999.000
  49NZ20130106,  S04I,    99,  1,     27, X12J27,2,20130115,2222,-62.2757,  93.1485, 3935,    301.9,2,   1.5496,2,   1.54958,2,  34.6923,2,  34.6918,2,-999.0000,9,   191.56,2,   191.46,2,   99.841,   0.0064,2,    0.010,2,  -999.00,9,    0.000,2,    84.93,2,     0.14,    32.12,2,     0.05,     0.01,2,     0.01,     2.22,2,     0.01,    0.695,2,    0.367,2,    0.052,2,    0.243,2,   -999.0,9,   -999.0,9,-999.0000,     -999,9, -999.000,9, -999.000,   -999.0,9,   -999.0, -999.000,9, -999.000, -999.000,9, -999.000
  49NZ20130106,  S04I,    99,  1,     26, X12J26,2,20130115,2222,-62.2757,  93.1485, 3935,    399.7,2,   1.5214,2,   1.52136,2,  34.7114,2,  34.7111,2,-999.0000,9,   194.25,2,   194.15,2,   99.917,   0.0033,2,    0.000,2,  -999.00,9,    0.000,2,    86.85,2,     0.14,    31.60,2,     0.04,     0.01,2,     0.01,     2.17,2,     0.01,    0.559,2,    0.301,2,    0.041,2,    0.186,2,   -999.0,9,   -999.0,9,-999.0000,     -999,9, -999.000,9, -999.000,   -999.0,9,   -999.0, -999.000,9, -999.000, -999.000,9, -999.000
  49NZ20130106,  S04I,    99,  1,     25, X12J25,2,20130115,2222,-62.2757,  93.1485, 3935,    499.5,2,   1.4788,2,   1.47882,2,  34.7225,2,  34.7216,2,-999.0000,9,   196.53,2,   196.27,2,   99.936,   0.0026,2,    0.000,2,  -999.00,9,    0.000,2,    89.00,2,     0.14,    31.33,2,     0.04,     0.01,2,     0.01,     2.16,2,     0.01,    0.460,2,    0.236,2,    0.032,2,    0.141,2,   -999.0,9,   -999.0,9,-999.0000,     -999,9, -999.000,9, -999.000,   -999.0,9,   -999.0, -999.000,9, -999.000, -999.000,9, -999.000
  49NZ20130106,  S04I,    99,  1,     24, X12J24,2,20130115,2222,-62.2757,  93.1485, 3935,    600.3,2,   1.4102,2,   1.40990,2,  34.7276,2,  34.7276,2,-999.0000,9,   198.29,2,   198.09,2,   99.887,   0.0045,2,    0.000,2,  -999.00,9,    0.000,2,    91.49,2,     0.14,    31.23,2,     0.04,     0.01,2,     0.01,     2.16,2,     0.01,    0.404,6,    0.203,6,    0.029,6,    0.131,6,   -999.0,9,   -999.0,9,-999.0000,     -999,9, -999.000,9, -999.000,   -999.0,9,   -999.0, -999.000,9, -999.000, -999.000,9, -999.000
  49NZ20130106,  S04I,    99,  1,     23, X12J23,2,20130115,2222,-62.2757,  93.1485, 3935,    702.6,2,   1.3113,2,   1.31125,2,  34.7271,2,  34.7272,2,-999.0000,9,   200.28,2,   200.18,2,   99.932,   0.0027,2,    0.000,2,  -999.00,9,    0.000,2,    94.13,2,     0.14,    31.24,2,     0.04,     0.01,2,     0.01,     2.16,2,     0.01,    0.382,2,    0.188,2,    0.020,2,    0.108,2,   -999.0,9,   -999.0,9,-999.0000,     -999,9, -999.000,9, -999.000,   -999.0,9,   -999.0, -999.000,9, -999.000, -999.000,9, -999.000
  49NZ20130106,  S04I,    99,  1,     22, X12J22,2,20130115,2222,-62.2757,  93.1485, 3935,    799.7,2,   1.2445,2,   1.24442,2,  34.7276,2,  34.7275,2,-999.0000,9,   201.12,2,   201.02,2,   99.938,   0.0025,2,    0.000,2,  -999.00,9,    0.000,2,    96.52,2,     0.15,    31.27,2,     0.04,     0.01,2,     0.01,     2.16,2,     0.01,    0.342,2,    0.165,2,    0.020,2,    0.057,2,   -999.0,9,   -999.0,9,-999.0000,     -999,9, -999.000,9, -999.000,   -999.0,9,   -999.0, -999.000,9, -999.000, -999.000,9, -999.000
  49NZ20130106,  S04I,    99,  1,     21, X12J21,2,20130115,2222,-62.2757,  93.1485, 3935,    902.9,2,   1.1755,2,   1.17629,2,  34.7254,2,  34.7257,2,-999.0000,9,   202.06,2,   201.92,2,   99.963,   0.0015,2,    0.000,2,  -999.00,9,    0.000,2,    98.62,2,     0.15,    31.36,2,     0.04,     0.01,2,     0.01,     2.17,2,     0.01,    0.333,2,    0.159,2,    0.020,2,    0.086,2,   -999.0,9,   -999.0,9,-999.0000,     -999,9, -999.000,9, -999.000,   -999.0,9,   -999.0, -999.000,9, -999.000, -999.000,9, -999.000
  49NZ20130106,  S04I,    99,  1,     20, X12J20,2,20130115,2222,-62.2757,  93.1485, 3935,   1000.1,2,   1.0798,2,   1.07993,2,  34.7215,2,  34.7214,2,-999.0000,9,   203.17,2,   203.08,2,   99.944,   0.0022,2,    0.000,2,  -999.00,9,    0.000,2,   101.61,2,     0.15,    31.51,2,     0.04,     0.01,2,     0.01,     2.18,2,     0.01,    0.328,2,    0.155,2,    0.016,2,    0.063,2,   -999.0,9,   -999.0,9,-999.0000,     -999,9, -999.000,9, -999.000,   -999.0,9,   -999.0, -999.000,9, -999.000, -999.000,9, -999.000
  49NZ20130106,  S04I,    99,  1,     19, X12J19,2,20130115,2222,-62.2757,  93.1485, 3935,   1250.6,2,   0.8861,2,   0.88602,2,  34.7123,2,  34.7123,2,-999.0000,9,   205.40,2,   205.27,2,   99.985,   0.0006,2,   -0.000,2,  -999.00,9,    0.000,2,   107.50,2,     0.16,    31.89,2,     0.04,     0.01,2,     0.01,     2.21,2,     0.01,    0.313,6,    0.146,6,    0.013,6,    0.070,6,   -999.0,9,   -999.0,9,-999.0000,     -999,9, -999.000,9, -999.000,   -999.0,9,   -999.0, -999.000,9, -999.000, -999.000,9, -999.000
  49NZ20130106,  S04I,    99,  1,     18, X12J18,2,20130115,2222,-62.2757,  93.1485, 3935,   1500.8,2,   0.7010,2,   0.70111,2,  34.7024,2,  34.7019,2,-999.0000,9,   207.66,2,   207.66,2,   99.987,   0.0005,2,   -0.000,2,  -999.00,9,    0.000,2,   112.74,2,     0.16,    32.28,2,     0.05,     0.01,2,     0.01,     2.24,2,     0.01,    0.332,2,    0.157,2,    0.014,2,    0.069,2,   -999.0,9,   -999.0,9,-999.0000,     -999,9, -999.000,9, -999.000,   -999.0,9,   -999.0, -999.000,9, -999.000, -999.000,9, -999.000
  49NZ20130106,  S04I,    99,  1,     17, X12J17,2,20130115,2222,-62.2757,  93.1485, 3935,   1749.0,2,   0.5353,2,   0.53531,2,  34.6935,2,  34.6939,2,-999.0000,9,   210.54,2,   210.52,2,   99.989,   0.0004,2,   -0.000,2,  -999.00,9,    0.000,2,   116.66,2,     0.16,    32.48,2,     0.05,     0.01,2,     0.01,     2.26,2,     0.01,    0.373,2,    0.182,2,    0.014,2,    0.103,2,   -999.0,9,   -999.0,9,-999.0000,     -999,9, -999.000,9, -999.000,   -999.0,9,   -999.0, -999.000,9, -999.000, -999.000,9, -999.000
  49NZ20130106,  S04I,    99,  1,     16, X12J16,2,20130115,2222,-62.2757,  93.1485, 3935,   1999.9,2,   0.3907,2,   0.39057,2,  34.6865,2,  34.6867,2,-999.0000,9,   213.97,2,   214.07,2,   99.989,   0.0004,2,   -0.000,2,  -999.00,9,    0.000,2,   119.47,2,     0.17,    32.54,2,     0.05,     0.01,2,     0.01,     2.25,2,     0.01,    0.455,2,    0.210,2,    0.018,2,    0.060,2,   -999.0,9,   -999.0,9,-999.0000,     -999,9, -999.000,9, -999.000,   -999.0,9,   -999.0, -999.000,9, -999.000, -999.000,9, -999.000
  49NZ20130106,  S04I,    99,  1,     15, X12J15,2,20130115,2222,-62.2757,  93.1485, 3935,   2251.0,2,   0.2681,2,   0.26816,2,  34.6806,2,  34.6810,2,-999.0000,9,   218.20,2,   218.22,2,   99.991,   0.0004,2,   -0.000,2,  -999.00,9,    0.000,2,   120.52,2,     0.17,    32.57,2,     0.05,     0.01,2,     0.01,     2.25,2,     0.01,    0.625,2,    0.318,2,    0.028,2,    0.163,2,   -999.0,9,   -999.0,9,-999.0000,     -999,9, -999.000,9, -999.000,   -999.0,9,   -999.0, -999.000,9, -999.000, -999.000,9, -999.000
  49NZ20130106,  S04I,    99,  1,     14, X12J14,2,20130115,2222,-62.2757,  93.1485, 3935,   2500.9,2,   0.1569,2,   0.15691,2,  34.6748,2,  34.6748,2,-999.0000,9,   222.53,2,   222.58,2,   99.965,   0.0014,2,   -0.000,2,  -999.00,9,    0.000,2,   119.75,2,     0.17,    32.46,2,     0.05,     0.01,2,     0.01,     2.25,2,     0.01,    0.926,2,    0.447,2,    0.048,2,    0.202,2,   -999.0,9,   -999.0,9,-999.0000,     -999,9, -999.000,9, -999.000,   -999.0,9,   -999.0, -999.000,9, -999.000, -999.000,9, -999.000
  49NZ20130106,  S04I,    99,  1,     13, X12J13,2,20130115,2222,-62.2757,  93.1485, 3935,   2750.2,2,   0.0736,2,   0.07366,2,  34.6707,2,  34.6706,2,-999.0000,9,   225.75,2,   225.73,2,   99.965,   0.0014,2,   -0.010,2,  -999.00,9,    0.000,2,   119.91,2,     0.17,    32.43,2,     0.05,     0.01,2,     0.01,     2.25,2,     0.01,    1.070,2,    0.533,2,    0.061,2,    0.341,2,   -999.0,9,   -999.0,9,-999.0000,     -999,9, -999.000,9, -999.000,   -999.0,9,   -999.0, -999.000,9, -999.000, -999.000,9, -999.000
  49NZ20130106,  S04I,    99,  1,     12, X12J12,2,20130115,2222,-62.2757,  93.1485, 3935,   3000.4,2,   0.0093,2,   0.00925,2,  34.6666,2,  34.6665,2,-999.0000,9,   228.56,2,   228.60,2,   99.942,   0.0023,2,   -0.010,2,  -999.00,9,    0.000,2,   119.22,2,     0.17,    32.37,2,     0.05,     0.01,2,     0.01,     2.25,2,     0.01,    1.242,2,    0.633,2,    0.084,2,    0.407,2,   -999.0,9,   -999.0,9,-999.0000,     -999,9, -999.000,9, -999.000,   -999.0,9,   -999.0, -999.000,9, -999.000, -999.000,9, -999.000
  49NZ20130106,  S04I,    99,  1,     11, X12J11,2,20130115,2222,-62.2757,  93.1485, 3935,   3250.8,2,  -0.0252,2,  -0.02492,2,  34.6648,2,  34.6647,2,-999.0000,9,   230.26,2,   230.37,2,   99.923,   0.0031,2,   -0.010,2,  -999.00,9,    0.000,2,   119.90,2,     0.17,    32.38,2,     0.05,     0.01,2,     0.01,     2.25,2,     0.01,    1.349,2,    0.689,2,    0.090,2,    0.423,2,   -999.0,9,   -999.0,9,-999.0000,     -999,9, -999.000,9, -999.000,   -999.0,9,   -999.0, -999.000,9, -999.000, -999.000,9, -999.000
  49NZ20130106,  S04I,    99,  1,     10, X12J10,2,20130115,2222,-62.2757,  93.1485, 3935,   3498.9,2,  -0.0439,2,  -0.04393,2,  34.6642,2,  34.6642,2,-999.0000,9,   231.34,2,   231.50,2,   99.870,   0.0052,2,   -0.010,2,  -999.00,9,    0.000,2,   123.30,2,     0.17,    32.42,2,     0.05,     0.01,2,     0.01,     2.25,2,     0.01,    1.377,2,    0.696,2,    0.091,2,    0.401,2,   -999.0,9,   -999.0,9,-999.0000,     -999,9, -999.000,9, -999.000,   -999.0,9,   -999.0, -999.000,9, -999.000, -999.000,9, -999.000
  49NZ20130106,  S04I,    99,  1,      9, X12J09,2,20130115,2222,-62.2757,  93.1485, 3935,   3750.4,2,  -0.0806,2,  -0.08068,2,  34.6605,2,  34.6602,2,-999.0000,9,   233.51,2,   233.85,2,   99.781,   0.0088,2,   -0.010,2,  -999.00,9,    0.000,2,   122.45,2,     0.17,    32.37,2,     0.05,     0.01,2,     0.01,     2.25,2,     0.01,    1.566,2,    0.799,2,    0.113,2,    0.436,2,   -999.0,9,   -999.0,9,-999.0000,     -999,9, -999.000,9, -999.000,   -999.0,9,   -999.0, -999.000,9, -999.000, -999.000,9, -999.000
  49NZ20130106,  S04I,    99,  1,      1, X12J01,2,20130115,2222,-62.2757,  93.1485, 3935,   3989.2,2,  -0.1545,2,  -0.15466,2,  34.6528,2,  34.6517,2,-999.0000,9,   236.63,2,   236.85,2,   99.169,   0.0334,2,   -0.000,2,  -999.00,9,    0.000,2,   124.46,2,     0.17,    32.36,2,     0.05,     0.01,2,     0.01,     2.25,2,     0.01,    1.877,2,    0.993,2,    0.152,2,    0.640,2,   -999.0,9,   -999.0,9,-999.0000,     -999,9, -999.000,9, -999.000,   -999.0,9,   -999.0, -999.000,9, -999.000, -999.000,9, -999.000