BOTTLE,20220819CCHSIOAMB
EXPOCODE,SECT_ID,STNNBR,CASTNO,SAMPNO,BTLNBR,BTLNBR_FLAG_W,DATE,TIME,LATITUDE,LONGITUDE,DEPTH,CTDPRS,CTDPRS_FLAG_W,CTDTMP,CTDTMP_FLAG_W,SBE35,SBE35_FLAG_W,CTDSAL,CTDSAL_FLAG_W,SALNTY,SALNTY_FLAG_W,DNSSAL,DNSSAL_FLAG_W,CTDOXY,CTDOXY_FLAG_W,OXYGEN,OXYGEN_FLAG_W,CTDXMISS,CTDXMISSCP,CTDXMISS_FLAG_W,CTDFLUOR,CTDFLUOR_FLAG_W,CHLORA,CHLORA_FLAG_W,PAR,PAR_FLAG_W,SILCAT,SILCAT_FLAG_W,SILUNC,NITRAT,NITRAT_FLAG_W,NRAUNC,NITRIT,NITRIT_FLAG_W,NRIUNC,PHSPHT,PHSPHT_FLAG_W,PHPUNC,CFC-11,CFC-11_FLAG_W,CFC-12,CFC-12_FLAG_W,CFC113,CFC113_FLAG_W,SF6,SF6_FLAG_W,TCARBN,TCARBN_FLAG_W,ALKALI,ALKALI_FLAG_W,PH_TOT,PH_TMP,PH_TOT_FLAG_W,DELC13,DELC13_FLAG_W,C13ERR,DELC14,DELC14_FLAG_W,C14ERR,CS-134,CS-134_FLAG_W,CS134ER,CS-137,CS-137_FLAG_W,CS137ER
,,,,,,,,UTC,DEG,DEG,METERS,DBAR,,ITS-90,,ITS-90,,PSS-78,,PSS-78,,G/KG,,UMOL/KG,,UMOL/KG,,%TRANS,/METER,,MG/M^3,,MG/CUM,,UE/SQM/S,,UMOL/KG,,UMOL/KG,UMOL/KG,,UMOL/KG,UMOL/KG,,UMOL/KG,UMOL/KG,,UMOL/KG,PMOL/KG,,PMOL/KG,,PMOL/KG,,FMOL/KG,,UMOL/KG,,UMOL/KG,,,DEG C,,/MILLE,,/MILLE,/MILLE,,/MILLE,MBQ/KG,,MBQ/KG,MBQ/KG,,MBQ/KG
  49NZ20130106,  S04I,   106,  1,     36, X12J36,2,20130117,1902,-62.9568,  84.9872, 2982,      4.9,2,   0.8755,2,   0.87540,2,  33.7681,2,  33.7684,2,-999.0000,9,   348.42,2,   348.18,2,   92.741,   0.3014,2,    0.790,2,  -999.00,9,    2.313,2,    37.85,2,     0.09,    26.36,2,     0.04,     0.23,2,     0.01,     1.76,2,     0.01,    5.698,2,    3.121,2,    0.597,2,    2.835,2,   2158.0,2,   2287.5,2,   7.6909,       25,6, -999.000,9, -999.000,   -999.0,9,   -999.0, -999.000,9, -999.000, -999.000,9, -999.000
  49NZ20130106,  S04I,   106,  1,     35, X12J35,2,20130117,1902,-62.9568,  84.9872, 2982,     25.0,2,   0.7487,2,   0.73995,2,  33.7722,2,  33.7763,2,-999.0000,9,   348.71,2,   348.94,2,   91.917,   0.3371,2,    0.950,2,  -999.00,9,    0.016,2,    38.38,2,     0.09,    26.50,2,     0.04,     0.23,2,     0.01,     1.77,2,     0.01,    5.692,2,    3.110,2,    0.591,2,    2.811,2,   2158.8,2,   2286.9,2,   7.6880,       25,2, -999.000,9, -999.000,   -999.0,9,   -999.0, -999.000,9, -999.000, -999.000,9, -999.000
  49NZ20130106,  S04I,   106,  1,     34, X12J34,2,20130117,1902,-62.9568,  84.9872, 2982,     50.6,2,  -1.4012,2,  -1.40562,2,  33.9839,2,  33.9877,2,-999.0000,9,   320.43,2,   320.33,2,   95.612,   0.1795,2,    0.940,2,  -999.00,9,    0.000,2,    50.43,2,     0.10,    29.16,2,     0.04,     0.13,2,     0.01,     2.00,2,     0.01,    4.769,6,    2.599,6,    0.489,6,    2.299,6,   2189.7,2,   2299.2,2,   7.6392,       25,2, -999.000,9, -999.000,   -999.0,9,   -999.0, -999.000,9, -999.000, -999.000,9, -999.000
  49NZ20130106,  S04I,   106,  1,     33, X12J33,2,20130117,1902,-62.9568,  84.9872, 2982,     75.1,2,  -1.1260,2,  -1.12643,2,  34.1765,2,  34.1819,2,-999.0000,9,   271.41,2,   269.22,2,   98.533,   0.0591,2,    0.380,2,  -999.00,9,    0.000,2,    60.41,2,     0.11,    31.56,2,     0.04,     0.14,2,     0.01,     2.19,2,     0.01,    3.718,2,    1.992,2,    0.373,2,    1.728,2,   2219.3,6,   2309.5,2,   7.5909,       25,2, -999.000,9, -999.000,   -999.0,9,   -999.0, -999.000,9, -999.000, -999.000,9, -999.000
  49NZ20130106,  S04I,   106,  1,     32, X12J32,2,20130117,1902,-62.9568,  84.9872, 2982,    100.8,2,  -0.3512,2,  -0.34551,2,  34.3483,2,  34.3470,2,-999.0000,9,   242.68,2,   242.09,2,   99.277,   0.0290,2,    0.190,2,  -999.00,9,    0.000,2,    68.81,2,     0.12,    32.51,2,     0.05,     0.11,2,     0.01,     2.25,2,     0.01,    2.949,2,    1.588,2,    0.295,2,    1.302,2,   2233.5,2,   2320.7,6,   7.5754,       25,2, -999.000,9, -999.000,   -999.0,9,   -999.0, -999.000,9, -999.000, -999.000,9, -999.000
  49NZ20130106,  S04I,   106,  1,     31, X12J31,2,20130117,1902,-62.9568,  84.9872, 2982,    124.4,2,   0.4973,2,   0.49997,2,  34.4519,2,  34.4443,2,-999.0000,9,   213.95,2,   215.67,2,   99.431,   0.0228,2,    0.140,2,  -999.00,9,    0.000,2,    74.29,2,     0.13,    33.39,2,     0.05,     0.10,2,     0.01,     2.31,2,     0.01,    2.234,2,    1.184,2,    0.205,2,    0.837,2,   2245.7,2,   2325.7,2,   7.5588,       25,2, -999.000,9, -999.000,   -999.0,9,   -999.0, -999.000,9, -999.000, -999.000,9, -999.000
  49NZ20130106,  S04I,   106,  1,     30, X12J30,2,20130117,1902,-62.9568,  84.9872, 2982,    150.4,2,   1.3283,2,   1.32655,2,  34.5568,2,  34.5573,2,-999.0000,9,   187.32,2,   187.04,2,   99.652,   0.0139,2,    0.090,2,  -999.00,9,    0.000,2,    80.30,2,     0.13,    34.24,2,     0.05,     0.04,2,     0.01,     2.37,2,     0.01,    1.320,2,    0.692,2,    0.112,2,    0.453,2,   2258.3,2,   2333.9,2,   7.5442,       25,2, -999.000,9, -999.000,   -999.0,9,   -999.0, -999.000,9, -999.000, -999.000,9, -999.000
  49NZ20130106,  S04I,   106,  1,     29, X12J29,2,20130117,1902,-62.9568,  84.9872, 2982,    200.8,2,   1.7953,2,   1.79488,2,  34.6405,2,  34.6393,2,-999.0000,9,   175.55,2,   175.45,2,   99.800,   0.0080,2,    0.010,2,  -999.00,9,    0.000,2,    83.78,2,     0.13,    34.00,2,     0.05,     0.02,2,     0.01,     2.35,2,     0.01,    0.731,2,    0.387,2,    0.060,2,    0.217,2,   2261.8,2,   2339.3,2,   7.5484,       25,2, -999.000,9, -999.000,   -999.0,9,   -999.0, -999.000,9, -999.000, -999.000,9, -999.000
  49NZ20130106,  S04I,   106,  1,     28, X12J28,2,20130117,1902,-62.9568,  84.9872, 2982,    252.1,2,   1.8618,2,   1.86152,2,  34.6711,2,  34.6706,2,-999.0000,9,   176.57,2,   176.49,2,   99.859,   0.0056,2,    0.000,2,  -999.00,9,    0.000,2,    84.11,2,     0.13,    33.36,2,     0.05,     0.01,2,     0.01,     2.30,2,     0.01,    0.582,2,    0.294,2,    0.042,2,    0.123,2,   2260.2,2,   2341.4,2,   7.5579,       25,2, -999.000,9, -999.000,   -999.0,9,   -999.0, -999.000,9, -999.000, -999.000,9, -999.000
  49NZ20130106,  S04I,   106,  1,     27, X12J27,2,20130117,1902,-62.9568,  84.9872, 2982,    329.2,2,   1.8628,2,   1.86280,2,  34.6990,2,  34.6990,2,-999.0000,9,   180.99,2,   180.75,2,   99.921,   0.0032,2,    0.000,2,  -999.00,9,    0.000,2,    84.49,2,     0.13,    32.60,2,     0.05,     0.01,2,     0.01,     2.24,2,     0.01,    0.430,2,    0.227,2,    0.032,2,    0.148,2,   2257.2,2,   2343.7,2,   7.5718,       25,2, -999.000,9, -999.000,   -999.0,9,   -999.0, -999.000,9, -999.000, -999.000,9, -999.000
  49NZ20130106,  S04I,   106,  1,     26, X12J26,2,20130117,1902,-62.9568,  84.9872, 2982,    430.8,2,   1.8234,2,   1.82334,2,  34.7195,2,  34.7198,2,-999.0000,9,   186.48,2,   186.37,2,   99.976,   0.0010,2,    0.000,2,  -999.00,9,    0.000,2,    84.68,2,     0.13,    31.84,2,     0.04,     0.01,2,     0.01,     2.19,2,     0.01,    0.348,2,    0.185,2,    0.024,2,    0.099,2,   2254.9,2,   2345.3,2,   7.5858,       25,2, -999.000,9, -999.000,   -999.0,9,   -999.0, -999.000,9, -999.000, -999.000,9, -999.000
  49NZ20130106,  S04I,   106,  1,     25, X12J25,2,20130117,1902,-62.9568,  84.9872, 2982,    531.3,2,   1.7466,2,   1.74635,2,  34.7284,2,  34.7287,2,-999.0000,9,   190.09,2,   189.98,2,   99.953,   0.0019,2,    0.000,2,  -999.00,9,    0.000,2,    86.15,2,     0.14,    31.51,2,     0.04,     0.01,2,     0.01,     2.17,2,     0.01,    0.317,2,    0.169,2,    0.021,2,    0.087,2,   2252.3,2,   2346.8,2,   7.5923,       25,2, -999.000,9, -999.000,   -999.0,9,   -999.0, -999.000,9, -999.000, -999.000,9, -999.000
  49NZ20130106,  S04I,   106,  1,     24, X12J24,2,20130117,1902,-62.9568,  84.9872, 2982,    629.8,2,   1.6699,2,   1.66965,2,  34.7365,2,  34.7368,2,-999.0000,9,   194.01,2,   193.92,2,   99.976,   0.0010,2,    0.000,2,  -999.00,9,    0.000,2,    87.14,2,     0.14,    31.13,2,     0.04,     0.01,2,     0.01,     2.14,2,     0.01,    0.280,6,    0.147,6,    0.018,6,    0.077,6,   2250.4,2,   2347.4,2,   7.6002,       25,2, -999.000,9, -999.000,   -999.0,9,   -999.0, -999.000,9, -999.000, -999.000,9, -999.000
  49NZ20130106,  S04I,   106,  1,     23, X12J23,2,20130117,1902,-62.9568,  84.9872, 2982,    730.4,2,   1.5689,2,   1.56916,2,  34.7374,2,  34.7376,2,-999.0000,9,   196.40,2,   196.30,2,   99.978,   0.0009,2,    0.000,2,  -999.00,9,    0.000,2,    89.49,2,     0.14,    31.03,2,     0.04,     0.01,2,     0.01,     2.14,2,     0.01,    0.272,2,    0.140,2,    0.017,2,    0.039,2,   2249.8,6,   2349.3,2,   7.6033,       25,2, -999.000,9, -999.000,   -999.0,9,   -999.0, -999.000,9, -999.000, -999.000,9, -999.000
  49NZ20130106,  S04I,   106,  1,     22, X12J22,2,20130117,1902,-62.9568,  84.9872, 2982,    830.1,2,   1.4748,2,   1.47498,2,  34.7387,2,  34.7391,2,-999.0000,9,   199.25,2,   199.12,2,   99.993,   0.0003,2,    0.000,2,  -999.00,9,    0.000,2,    91.44,2,     0.14,    30.92,2,     0.04,     0.01,2,     0.01,     2.13,2,     0.01,    0.251,2,    0.129,2,    0.013,2,    0.060,2,   2249.8,2,   2350.1,6,   7.6075,       25,2, -999.000,9, -999.000,   -999.0,9,   -999.0, -999.000,9, -999.000, -999.000,9, -999.000
  49NZ20130106,  S04I,   106,  1,     21, X12J21,2,20130117,1902,-62.9568,  84.9872, 2982,    932.2,2,   1.3886,2,   1.38871,2,  34.7367,2,  34.7374,2,-999.0000,9,   200.56,2,   200.53,2,   99.978,   0.0009,2,   -0.000,2,  -999.00,9,    0.000,2,    93.57,2,     0.14,    30.95,2,     0.04,     0.01,2,     0.01,     2.13,2,     0.01,    0.251,2,    0.124,2,    0.013,2,    0.013,2,   2250.4,2,   2351.2,2,   7.6085,       25,6, -999.000,9, -999.000,   -999.0,9,   -999.0, -999.000,9, -999.000, -999.000,9, -999.000
  49NZ20130106,  S04I,   106,  1,     20, X12J20,2,20130117,1902,-62.9568,  84.9872, 2982,   1079.5,2,   1.2481,2,   1.24798,2,  34.7327,2,  34.7332,2,-999.0000,9,   202.76,2,   202.71,2,   99.984,   0.0006,2,   -0.000,2,  -999.00,9,    0.000,2,    97.07,2,     0.15,    31.08,2,     0.04,     0.01,2,     0.01,     2.14,2,     0.01,    0.232,2,    0.117,2,    0.013,2,    0.037,2,   2252.6,2,   2353.0,2,   7.6093,       25,2, -999.000,9, -999.000,   -999.0,9,   -999.0, -999.000,9, -999.000, -999.000,9, -999.000
  49NZ20130106,  S04I,   106,  1,     19, X12J19,2,20130117,1902,-62.9568,  84.9872, 2982,   1329.0,2,   0.9849,2,   0.98471,2,  34.7169,2,  34.7171,2,-999.0000,9,   204.23,2,   204.32,2,   99.978,   0.0009,2,   -0.000,2,  -999.00,9,    0.000,2,   104.19,2,     0.15,    31.65,2,     0.04,     0.01,2,     0.01,     2.18,2,     0.01,    0.276,6,    0.142,6,    0.016,6,    0.038,6,   2256.0,2,   2354.9,2,   7.6023,       25,2, -999.000,9, -999.000,   -999.0,9,   -999.0, -999.000,9, -999.000, -999.000,9, -999.000
  49NZ20130106,  S04I,   106,  1,     18, X12J18,2,20130117,1902,-62.9568,  84.9872, 2982,   1580.8,2,   0.7778,2,   0.77766,2,  34.7045,2,  34.7048,2,-999.0000,9,   206.26,2,   206.50,2,   99.980,   0.0008,2,   -0.000,2,  -999.00,9,    0.000,2,   109.40,2,     0.16,    32.14,2,     0.05,     0.01,2,     0.01,     2.22,2,     0.01,    0.323,2,    0.169,2,    0.019,2,    0.045,2,   2258.9,2,   2355.8,2,   7.5973,       25,2, -999.000,9, -999.000,   -999.0,9,   -999.0, -999.000,9, -999.000, -999.000,9, -999.000
  49NZ20130106,  S04I,   106,  1,     17, X12J17,2,20130117,1902,-62.9568,  84.9872, 2982,   1831.2,2,   0.6059,2,   0.60589,2,  34.6940,2,  34.6947,2,-999.0000,9,   208.99,2,   208.72,2,   99.959,   0.0016,2,   -0.000,2,  -999.00,9,    0.000,2,   113.85,2,     0.16,    32.47,2,     0.05,     0.01,2,     0.01,     2.24,2,     0.01,    0.349,2,    0.187,2,    0.017,2,    0.058,2,   2260.5,2,   2356.1,2,   7.5946,       25,6, -999.000,9, -999.000,   -999.0,9,   -999.0, -999.000,9, -999.000, -999.000,9, -999.000
  49NZ20130106,  S04I,   106,  1,     16, X12J16,2,20130117,1902,-62.9568,  84.9872, 2982,   2080.4,2,   0.4723,2,   0.47204,2,  34.6885,2,  34.6885,2,-999.0000,9,   210.31,2,   210.73,2,   99.970,   0.0012,2,   -0.000,2,  -999.00,9,    0.000,2,   118.59,2,     0.17,    32.74,2,     0.05,     0.01,2,     0.01,     2.27,2,     0.01,    0.310,2,    0.164,2,    0.016,2,    0.033,2,   2260.7,2,   2355.8,2,   7.5922,       25,2, -999.000,9, -999.000,   -999.0,9,   -999.0, -999.000,9, -999.000, -999.000,9, -999.000
  49NZ20130106,  S04I,   106,  1,     15, X12J15,2,20130117,1902,-62.9568,  84.9872, 2982,   2329.9,2,   0.3493,2,   0.34897,2,  34.6826,2,  34.6828,2,-999.0000,9,   213.71,2,   214.00,2,   99.955,   0.0018,2,   -0.000,2,  -999.00,9,    0.000,2,   121.33,2,     0.17,    32.82,2,     0.05,     0.01,2,     0.01,     2.27,2,     0.01,    0.330,2,    0.178,2,    0.015,2,    0.073,2,   2262.6,3,   2355.6,2,   7.5921,       25,2, -999.000,9, -999.000,   -999.0,9,   -999.0, -999.000,9, -999.000, -999.000,9, -999.000
  49NZ20130106,  S04I,   106,  1,     14, X12J14,2,20130117,1902,-62.9568,  84.9872, 2982,   2580.2,2,   0.2417,2,   0.24210,2,  34.6770,2,  34.6770,2,-999.0000,9,   217.86,2,   218.14,2,   99.929,   0.0028,2,   -0.010,2,  -999.00,9,    0.000,2,   121.26,2,     0.17,    32.75,2,     0.05,     0.01,2,     0.01,     2.27,2,     0.01,    0.498,2,    0.263,2,    0.027,2,    0.099,2,   2259.8,6,   2355.5,2,   7.5929,       25,2, -999.000,9, -999.000,   -999.0,9,   -999.0, -999.000,9, -999.000, -999.000,9, -999.000
  49NZ20130106,  S04I,   106,  1,     13, X12J13,2,20130117,1902,-62.9568,  84.9872, 2982,   2831.2,2,   0.1538,2,   0.15361,2,  34.6735,2,  34.6736,2,-999.0000,9,   220.71,2,   221.11,2,   99.921,   0.0032,2,   -0.010,2,  -999.00,9,    0.000,2,   124.27,2,     0.17,    32.80,2,     0.05,     0.01,2,     0.01,     2.27,2,     0.01,    0.485,2,    0.250,2,    0.027,2,    0.065,2,   2259.3,6,   2355.3,6,   7.5936,       25,2, -999.000,9, -999.000,   -999.0,9,   -999.0, -999.000,9, -999.000, -999.000,9, -999.000
  49NZ20130106,  S04I,   106,  1,      3, X12J03,2,20130117,1902,-62.9568,  84.9872, 2982,     39.4,2,  -0.8906,2,  -0.88533,2,  33.9094,2,-999.0000,9,-999.0000,9,   342.68,2,  -999.00,9,   88.766,   0.4767,2,    1.840,2,  -999.00,9,    0.000,2,  -999.00,9,  -999.00,  -999.00,9,  -999.00,  -999.00,9,  -999.00,  -999.00,9,  -999.00, -999.000,9, -999.000,9, -999.000,9, -999.000,9,   -999.0,9,   -999.0,9,-999.0000,     -999,9, -999.000,9, -999.000,   -999.0,9,   -999.0, -999.000,9, -999.000, -999.000,9, -999.000
  49NZ20130106,  S04I,   106,  1,      2, X12J02,2,20130117,1902,-62.9568,  84.9872, 2982,     39.5,2,  -0.8903,2,  -0.89221,2,  33.9092,2,  33.9170,2,-999.0000,9,   342.68,2,   340.31,2,   88.951,   0.4683,2,    1.910,2,     1.49,2,    0.000,2,    45.55,2,     0.10,    27.96,2,     0.04,     0.14,2,     0.01,     1.92,2,     0.01, -999.000,9, -999.000,9, -999.000,9, -999.000,9,   -999.0,9,   -999.0,9,-999.0000,     -999,9, -999.000,9, -999.000,   -999.0,9,   -999.0, -999.000,9, -999.000, -999.000,9, -999.000
  49NZ20130106,  S04I,   106,  1,      1, X12J01,2,20130117,1902,-62.9568,  84.9872, 2982,   3023.4,2,   0.1024,2,   0.10230,2,  34.6713,2,  34.6718,2,-999.0000,9,   222.15,2,   222.48,2,   99.876,   0.0050,2,   -0.000,2,  -999.00,9,    0.000,2,   128.58,2,     0.17,    32.83,2,     0.05,     0.01,2,     0.01,     2.27,2,     0.01,    0.431,2,    0.228,2,    0.025,2,    0.080,2,   2259.3,2,   2355.6,2,   7.5937,       25,2, -999.000,9, -999.000,   -999.0,9,   -999.0, -999.000,9, -999.000, -999.000,9, -999.000