BOTTLE,20220819CCHSIOAMB
EXPOCODE,SECT_ID,STNNBR,CASTNO,SAMPNO,BTLNBR,BTLNBR_FLAG_W,DATE,TIME,LATITUDE,LONGITUDE,DEPTH,CTDPRS,CTDPRS_FLAG_W,CTDTMP,CTDTMP_FLAG_W,SBE35,SBE35_FLAG_W,CTDSAL,CTDSAL_FLAG_W,SALNTY,SALNTY_FLAG_W,DNSSAL,DNSSAL_FLAG_W,CTDOXY,CTDOXY_FLAG_W,OXYGEN,OXYGEN_FLAG_W,CTDXMISS,CTDXMISSCP,CTDXMISS_FLAG_W,CTDFLUOR,CTDFLUOR_FLAG_W,CHLORA,CHLORA_FLAG_W,PAR,PAR_FLAG_W,SILCAT,SILCAT_FLAG_W,SILUNC,NITRAT,NITRAT_FLAG_W,NRAUNC,NITRIT,NITRIT_FLAG_W,NRIUNC,PHSPHT,PHSPHT_FLAG_W,PHPUNC,CFC-11,CFC-11_FLAG_W,CFC-12,CFC-12_FLAG_W,CFC113,CFC113_FLAG_W,SF6,SF6_FLAG_W,TCARBN,TCARBN_FLAG_W,ALKALI,ALKALI_FLAG_W,PH_TOT,PH_TMP,PH_TOT_FLAG_W,DELC13,DELC13_FLAG_W,C13ERR,DELC14,DELC14_FLAG_W,C14ERR,CS-134,CS-134_FLAG_W,CS134ER,CS-137,CS-137_FLAG_W,CS137ER
,,,,,,,,UTC,DEG,DEG,METERS,DBAR,,ITS-90,,ITS-90,,PSS-78,,PSS-78,,G/KG,,UMOL/KG,,UMOL/KG,,%TRANS,/METER,,MG/M^3,,MG/CUM,,UE/SQM/S,,UMOL/KG,,UMOL/KG,UMOL/KG,,UMOL/KG,UMOL/KG,,UMOL/KG,UMOL/KG,,UMOL/KG,PMOL/KG,,PMOL/KG,,PMOL/KG,,FMOL/KG,,UMOL/KG,,UMOL/KG,,,DEG C,,/MILLE,,/MILLE,/MILLE,,/MILLE,MBQ/KG,,MBQ/KG,MBQ/KG,,MBQ/KG
  49NZ20130106,  S04I,    93,  1,     36, X12J36,2,20130114,0423,-62.2133, 102.3442, 4401,      4.5,2,   1.7376,2,   1.74003,2,  33.6509,2,  33.6517,2,-999.0000,9,   338.28,2,   338.00,2,   96.296,   0.1510,2,    0.070,2,  -999.00,9,  500.124,2,    39.11,2,     0.09,    25.64,2,     0.04,     0.28,2,     0.01,     1.67,2,     0.01,    5.578,2,    3.047,2,    0.512,2, -999.000,9,   -999.0,9,   -999.0,9,-999.0000,     -999,9, -999.000,9, -999.000,   -999.0,9,   -999.0, -999.000,9, -999.000, -999.000,9, -999.000
  49NZ20130106,  S04I,    93,  1,     35, X12J35,2,20130114,0423,-62.2133, 102.3442, 4401,     24.3,2,   1.4137,2,   1.40055,2,  33.6852,2,  33.7438,2,-999.0000,9,   340.05,2,   344.67,2,   95.863,   0.1690,2,    0.170,2,  -999.00,9,  234.704,2,    41.23,2,     0.10,    25.91,2,     0.04,     0.24,2,     0.01,     1.67,2,     0.01,    5.579,2,    3.051,2,    0.510,2, -999.000,9,   -999.0,9,   -999.0,9,-999.0000,     -999,9, -999.000,9, -999.000,   -999.0,9,   -999.0, -999.000,9, -999.000, -999.000,9, -999.000
  49NZ20130106,  S04I,    93,  1,     34, X12J34,2,20130114,0423,-62.2133, 102.3442, 4401,     50.1,2,  -0.7396,2,  -0.73655,2,  34.0629,2,  34.0643,2,-999.0000,9,   350.58,2,   350.44,2,   91.967,   0.3350,2,    0.910,2,  -999.00,9,   30.625,2,    49.00,2,     0.10,    27.23,2,     0.04,     0.14,2,     0.01,     1.79,2,     0.01,    5.242,6,    2.854,6,    0.483,6, -999.000,9,   -999.0,9,   -999.0,9,-999.0000,     -999,9, -999.000,9, -999.000,   -999.0,9,   -999.0, -999.000,9, -999.000, -999.000,9, -999.000
  49NZ20130106,  S04I,    93,  1,     33, X12J33,2,20130114,0423,-62.2133, 102.3442, 4401,     74.4,2,  -1.0000,2,  -0.99556,2,  34.1959,2,  34.1942,2,-999.0000,9,   305.83,2,   306.90,2,   97.335,   0.1080,2,    0.520,2,  -999.00,9,    4.972,2,    58.60,2,     0.11,    29.97,2,     0.04,     0.12,2,     0.01,     2.08,2,     0.01,    4.499,2,    2.435,2,    0.412,2, -999.000,9,   -999.0,9,   -999.0,9,-999.0000,     -999,9, -999.000,9, -999.000,   -999.0,9,   -999.0, -999.000,9, -999.000, -999.000,9, -999.000
  49NZ20130106,  S04I,    93,  1,     32, X12J32,2,20130114,0423,-62.2133, 102.3442, 4401,    100.0,2,  -0.8896,2,  -0.88883,2,  34.2945,2,  34.2956,2,-999.0000,9,   279.91,2,   278.84,2,   99.039,   0.0386,2,    0.220,2,  -999.00,9,    1.101,2,    64.69,2,     0.12,    31.22,2,     0.04,     0.13,2,     0.01,     2.16,2,     0.01,    3.827,2,    2.062,2,    0.363,2, -999.000,9,   -999.0,9,   -999.0,9,-999.0000,     -999,9, -999.000,9, -999.000,   -999.0,9,   -999.0, -999.000,9, -999.000, -999.000,9, -999.000
  49NZ20130106,  S04I,    93,  1,     31, X12J31,2,20130114,0423,-62.2133, 102.3442, 4401,    124.4,2,  -0.5930,2,  -0.59315,2,  34.3564,2,  34.3572,2,-999.0000,9,   262.64,2,   262.17,2,   99.413,   0.0235,2,    0.150,2,  -999.00,9,    0.261,2,    67.63,2,     0.12,    31.83,2,     0.04,     0.11,2,     0.01,     2.19,2,     0.01,    3.368,2,    1.811,2,    0.318,2, -999.000,9,   -999.0,9,   -999.0,9,-999.0000,     -999,9, -999.000,9, -999.000,   -999.0,9,   -999.0, -999.000,9, -999.000, -999.000,9, -999.000
  49NZ20130106,  S04I,    93,  1,     30, X12J30,2,20130114,0423,-62.2133, 102.3442, 4401,    149.2,2,  -0.2526,2,  -0.25296,2,  34.4114,2,  34.4110,2,-999.0000,9,   248.55,2,   248.28,2,   99.582,   0.0168,2,    0.100,2,  -999.00,9,    0.122,2,    70.25,2,     0.12,    32.16,2,     0.05,     0.05,2,     0.01,     2.21,2,     0.01,    2.938,2,    1.583,2,    0.284,2, -999.000,9,   -999.0,9,   -999.0,9,-999.0000,     -999,9, -999.000,9, -999.000,   -999.0,9,   -999.0, -999.000,9, -999.000, -999.000,9, -999.000
  49NZ20130106,  S04I,    93,  1,     29, X12J29,2,20130114,0423,-62.2133, 102.3442, 4401,    199.9,2,   0.6566,2,   0.65549,2,  34.5306,2,  34.5306,2,-999.0000,9,   217.22,2,   216.61,2,   99.709,   0.0117,2,    0.040,2,  -999.00,9,    0.000,2,    76.16,2,     0.13,    32.63,2,     0.05,     0.02,2,     0.01,     2.25,2,     0.01,    1.874,2,    1.026,2,    0.169,2, -999.000,9,   -999.0,9,   -999.0,9,-999.0000,     -999,9, -999.000,9, -999.000,   -999.0,9,   -999.0, -999.000,9, -999.000, -999.000,9, -999.000
  49NZ20130106,  S04I,    93,  1,     28, X12J28,2,20130114,0423,-62.2133, 102.3442, 4401,    250.0,2,   1.3195,2,   1.31942,2,  34.6252,2,  34.6250,2,-999.0000,9,   196.85,2,   196.22,2,   99.709,   0.0117,2,    0.010,2,  -999.00,9,    0.000,2,    80.74,2,     0.13,    32.64,2,     0.05,     0.02,2,     0.01,     2.25,2,     0.01,    1.113,2,    0.587,2,    0.107,2, -999.000,9,   -999.0,9,   -999.0,9,-999.0000,     -999,9, -999.000,9, -999.000,   -999.0,9,   -999.0, -999.000,9, -999.000, -999.000,9, -999.000
  49NZ20130106,  S04I,    93,  1,     27, X12J27,2,20130114,0423,-62.2133, 102.3442, 4401,    299.2,2,   1.1882,2,   1.18786,2,  34.6355,2,  34.6345,2,-999.0000,9,   201.33,2,   201.15,2,   99.779,   0.0088,2,    0.010,2,  -999.00,9,    0.000,2,    82.04,2,     0.13,    32.34,2,     0.05,     0.01,2,     0.01,     2.23,2,     0.01,    1.157,2,    0.612,2,    0.108,2, -999.000,9,   -999.0,9,   -999.0,9,-999.0000,     -999,9, -999.000,9, -999.000,   -999.0,9,   -999.0, -999.000,9, -999.000, -999.000,9, -999.000
  49NZ20130106,  S04I,    93,  1,     26, X12J26,2,20130114,0423,-62.2133, 102.3442, 4401,    399.9,2,   1.5563,2,   1.55625,2,  34.6996,2,  34.6992,2,-999.0000,9,   192.45,2,   192.12,2,   99.870,   0.0052,2,    0.000,2,  -999.00,9,    0.000,2,    85.33,2,     0.14,    31.90,2,     0.04,     0.01,2,     0.01,     2.20,2,     0.01,    0.617,2,    0.314,2,    0.058,2, -999.000,9,   -999.0,9,   -999.0,9,-999.0000,     -999,9, -999.000,9, -999.000,   -999.0,9,   -999.0, -999.000,9, -999.000, -999.000,9, -999.000
  49NZ20130106,  S04I,    93,  1,     25, X12J25,2,20130114,0423,-62.2133, 102.3442, 4401,    499.9,2,   1.5926,2,   1.59074,2,  34.7244,2,  34.7226,2,-999.0000,9,   194.60,2,   194.55,2,   99.904,   0.0038,2,    0.000,2,  -999.00,9,    0.000,2,    86.61,2,     0.14,    31.23,2,     0.04,     0.01,2,     0.01,     2.14,2,     0.01,    0.436,2,    0.215,2,    0.036,2, -999.000,9,   -999.0,9,   -999.0,9,-999.0000,     -999,9, -999.000,9, -999.000,   -999.0,9,   -999.0, -999.000,9, -999.000, -999.000,9, -999.000
  49NZ20130106,  S04I,    93,  1,     24, X12J24,2,20130114,0423,-62.2133, 102.3442, 4401,    600.1,2,   1.4046,2,   1.40445,2,  34.7157,2,  34.7157,2,-999.0000,9,   197.42,2,   196.98,2,   99.908,   0.0037,2,    0.000,2,  -999.00,9,    0.000,2,    89.29,2,     0.14,    31.41,2,     0.04,     0.01,2,     0.01,     2.16,2,     0.01,    0.518,6,    0.262,6,    0.041,6, -999.000,9,   -999.0,9,   -999.0,9,-999.0000,     -999,9, -999.000,9, -999.000,   -999.0,9,   -999.0, -999.000,9, -999.000, -999.000,9, -999.000
  49NZ20130106,  S04I,    93,  1,     23, X12J23,2,20130114,0423,-62.2133, 102.3442, 4401,    700.5,2,   1.4305,2,   1.42997,2,  34.7278,2,  34.7288,2,-999.0000,9,   197.99,2,   197.68,2,   99.938,   0.0025,2,    0.000,2,  -999.00,9,    0.000,2,    90.96,2,     0.14,    31.16,2,     0.04,     0.01,2,     0.01,     2.14,2,     0.01,    0.382,2,    0.187,2,    0.025,2, -999.000,9,   -999.0,9,   -999.0,9,-999.0000,     -999,9, -999.000,9, -999.000,   -999.0,9,   -999.0, -999.000,9, -999.000, -999.000,9, -999.000
  49NZ20130106,  S04I,    93,  1,     22, X12J22,2,20130114,0423,-62.2133, 102.3442, 4401,    801.2,2,   1.3653,2,   1.36505,2,  34.7295,2,  34.7299,2,-999.0000,9,   199.23,2,   198.97,2,   99.944,   0.0022,2,    0.000,2,  -999.00,9,    0.000,2,    93.49,2,     0.14,    31.18,2,     0.04,     0.01,2,     0.01,     2.15,2,     0.01,    0.344,2,    0.168,2,    0.021,2, -999.000,9,   -999.0,9,   -999.0,9,-999.0000,     -999,9, -999.000,9, -999.000,   -999.0,9,   -999.0, -999.000,9, -999.000, -999.000,9, -999.000
  49NZ20130106,  S04I,    93,  1,     21, X12J21,2,20130114,0423,-62.2133, 102.3442, 4401,    899.9,2,   1.2788,2,   1.27866,2,  34.7280,2,  34.7286,2,-999.0000,9,   200.37,2,   200.03,2,   99.957,   0.0017,2,    0.000,2,  -999.00,9,    0.000,2,    96.17,2,     0.15,    31.26,2,     0.04,     0.01,2,     0.01,     2.15,2,     0.01,    0.320,2,    0.158,2,    0.020,2, -999.000,9,   -999.0,9,   -999.0,9,-999.0000,     -999,9, -999.000,9, -999.000,   -999.0,9,   -999.0, -999.000,9, -999.000, -999.000,9, -999.000
  49NZ20130106,  S04I,    93,  1,     20, X12J20,2,20130114,0423,-62.2133, 102.3442, 4401,    998.4,2,   1.2086,2,   1.20847,2,  34.7264,2,  34.7270,2,-999.0000,9,   201.55,2,   201.33,2,   99.967,   0.0013,2,    0.000,2,  -999.00,9,    0.000,2,    98.34,2,     0.15,    31.30,2,     0.04,     0.01,2,     0.01,     2.16,2,     0.01,    0.318,2,    0.154,2,    0.029,2, -999.000,9,   -999.0,9,   -999.0,9,-999.0000,     -999,9, -999.000,9, -999.000,   -999.0,9,   -999.0, -999.000,9, -999.000, -999.000,9, -999.000
  49NZ20130106,  S04I,    93,  1,     19, X12J19,2,20130114,0423,-62.2133, 102.3442, 4401,   1250.9,2,   1.0116,2,   1.01147,2,  34.7184,2,  34.7188,2,-999.0000,9,   204.39,2,   204.18,2,   99.976,   0.0010,2,   -0.000,2,  -999.00,9,    0.000,2,   103.93,2,     0.15,    31.59,2,     0.04,     0.00,2,     0.01,     2.18,2,     0.01,    0.293,6,    0.139,6,    0.019,6, -999.000,9,   -999.0,9,   -999.0,9,-999.0000,     -999,9, -999.000,9, -999.000,   -999.0,9,   -999.0, -999.000,9, -999.000, -999.000,9, -999.000
  49NZ20130106,  S04I,    93,  1,     18, X12J18,2,20130114,0423,-62.2133, 102.3442, 4401,   1500.6,2,   0.8360,2,   0.83590,2,  34.7094,2,  34.7098,2,-999.0000,9,   206.34,2,   206.07,2,   99.980,   0.0008,2,   -0.000,2,  -999.00,9,    0.000,2,   109.26,2,     0.16,    31.95,2,     0.04,     0.01,2,     0.01,     2.20,2,     0.01,    0.293,2,    0.139,2,    0.012,2, -999.000,9,   -999.0,9,   -999.0,9,-999.0000,     -999,9, -999.000,9, -999.000,   -999.0,9,   -999.0, -999.000,9, -999.000, -999.000,9, -999.000
  49NZ20130106,  S04I,    93,  1,     17, X12J17,2,20130114,0423,-62.2133, 102.3442, 4401,   1751.5,2,   0.6559,2,   0.65548,2,  34.6998,2,  34.7003,2,-999.0000,9,   209.14,2,   208.77,2,   99.963,   0.0015,2,   -0.000,2,  -999.00,9,    0.000,2,   114.23,2,     0.16,    32.23,2,     0.05,     0.01,2,     0.01,     2.23,2,     0.01,    0.327,2,    0.154,2,    0.027,2, -999.000,9,   -999.0,9,   -999.0,9,-999.0000,     -999,9, -999.000,9, -999.000,   -999.0,9,   -999.0, -999.000,9, -999.000, -999.000,9, -999.000
  49NZ20130106,  S04I,    93,  1,     16, X12J16,2,20130114,0423,-62.2133, 102.3442, 4401,   2000.4,2,   0.4891,2,   0.48920,2,  34.6912,2,  34.6915,2,-999.0000,9,   212.36,2,   212.31,2,   99.982,   0.0007,2,   -0.000,2,  -999.00,9,    0.000,2,   117.92,2,     0.16,    32.42,2,     0.05,     0.00,2,     0.01,     2.24,2,     0.01,    0.401,2,    0.194,2,    0.024,2, -999.000,9,   -999.0,9,   -999.0,9,-999.0000,     -999,9, -999.000,9, -999.000,   -999.0,9,   -999.0, -999.000,9, -999.000, -999.000,9, -999.000
  49NZ20130106,  S04I,    93,  1,     15, X12J15,2,20130114,0423,-62.2133, 102.3442, 4401,   2249.8,2,   0.3677,2,   0.36771,2,  34.6857,2,  34.6858,2,-999.0000,9,   215.54,2,   215.36,2,   99.980,   0.0008,2,   -0.000,2,  -999.00,9,    0.000,2,   120.15,2,     0.17,    32.45,2,     0.05,     0.01,2,     0.01,     2.24,2,     0.01,    0.462,2,    0.223,2,    0.023,2, -999.000,9,   -999.0,9,   -999.0,9,-999.0000,     -999,9, -999.000,9, -999.000,   -999.0,9,   -999.0, -999.000,9, -999.000, -999.000,9, -999.000
  49NZ20130106,  S04I,    93,  1,     14, X12J14,2,20130114,0423,-62.2133, 102.3442, 4401,   2499.3,2,   0.2610,2,   0.26148,2,  34.6814,2,  34.6816,2,-999.0000,9,   219.19,2,   219.01,2,   99.976,   0.0010,2,   -0.000,2,  -999.00,9,    0.000,2,   122.16,2,     0.17,    32.48,2,     0.05,     0.01,2,     0.01,     2.24,2,     0.01,    0.596,2,    0.286,2,    0.042,2, -999.000,9,   -999.0,9,   -999.0,9,-999.0000,     -999,9, -999.000,9, -999.000,   -999.0,9,   -999.0, -999.000,9, -999.000, -999.000,9, -999.000
  49NZ20130106,  S04I,    93,  1,     13, X12J13,2,20130114,0423,-62.2133, 102.3442, 4401,   2752.3,2,   0.1653,2,   0.16524,2,  34.6766,2,  34.6767,2,-999.0000,9,   222.66,2,   222.40,2,   99.978,   0.0009,2,   -0.000,2,  -999.00,9,    0.000,2,   122.69,2,     0.17,    32.46,2,     0.05,     0.01,2,     0.01,     2.25,2,     0.01,    0.749,2,    0.366,2,    0.056,2, -999.000,9,   -999.0,9,   -999.0,9,-999.0000,     -999,9, -999.000,9, -999.000,   -999.0,9,   -999.0, -999.000,9, -999.000, -999.000,9, -999.000
  49NZ20130106,  S04I,    93,  1,     12, X12J12,2,20130114,0423,-62.2133, 102.3442, 4401,   2999.8,2,   0.0849,2,   0.08508,2,  34.6725,2,  34.6725,2,-999.0000,9,   225.98,2,   225.57,2,   99.959,   0.0016,2,   -0.000,2,  -999.00,9,    0.000,2,   123.06,2,     0.17,    32.44,2,     0.05,     0.01,2,     0.01,     2.24,2,     0.01,    0.941,2,    0.462,2,    0.067,2, -999.000,9,   -999.0,9,   -999.0,9,-999.0000,     -999,9, -999.000,9, -999.000,   -999.0,9,   -999.0, -999.000,9, -999.000, -999.000,9, -999.000
  49NZ20130106,  S04I,    93,  1,     11, X12J11,2,20130114,0423,-62.2133, 102.3442, 4401,   3249.6,2,   0.0177,2,   0.01799,2,  34.6686,2,  34.6678,2,-999.0000,9,   228.94,2,   228.68,2,   99.955,   0.0018,2,   -0.000,2,  -999.00,9,    0.000,2,   122.76,2,     0.17,    32.39,2,     0.05,     0.01,2,     0.01,     2.24,2,     0.01,    1.128,2,    0.559,2,    0.079,2, -999.000,9,   -999.0,9,   -999.0,9,-999.0000,     -999,9, -999.000,9, -999.000,   -999.0,9,   -999.0, -999.000,9, -999.000, -999.000,9, -999.000
  49NZ20130106,  S04I,    93,  1,     10, X12J10,2,20130114,0423,-62.2133, 102.3442, 4401,   3500.5,2,  -0.0376,2,  -0.03734,2,  34.6628,2,  34.6626,2,-999.0000,9,   232.14,2,   231.98,2,   99.940,   0.0024,2,   -0.000,2,  -999.00,9,    0.000,2,   119.07,2,     0.17,    32.26,2,     0.05,     0.01,2,     0.01,     2.23,2,     0.01,    1.387,2,    0.704,2,    0.102,2, -999.000,9,   -999.0,9,   -999.0,9,-999.0000,     -999,9, -999.000,9, -999.000,   -999.0,9,   -999.0, -999.000,9, -999.000, -999.000,9, -999.000
  49NZ20130106,  S04I,    93,  1,      9, X12J09,2,20130114,0423,-62.2133, 102.3442, 4401,   3749.2,2,  -0.0650,2,  -0.06489,2,  34.6605,2,  34.6605,2,-999.0000,9,   233.86,2,   233.60,2,   99.906,   0.0038,2,   -0.010,2,  -999.00,9,    0.000,2,   119.95,2,     0.17,    32.25,2,     0.05,     0.01,2,     0.01,     2.23,2,     0.01,    1.513,2,    0.769,2,    0.108,2, -999.000,9,   -999.0,9,   -999.0,9,-999.0000,     -999,9, -999.000,9, -999.000,   -999.0,9,   -999.0, -999.000,9, -999.000, -999.000,9, -999.000
  49NZ20130106,  S04I,    93,  1,      8, X12J08,2,20130114,0423,-62.2133, 102.3442, 4401,   4001.2,2,  -0.0778,2,  -0.07774,2,  34.6593,2,  34.6593,2,-999.0000,9,   234.87,2,   234.73,2,   99.851,   0.0060,2,   -0.010,2,  -999.00,9,    0.000,2,   121.69,2,     0.17,    32.26,2,     0.05,     0.01,2,     0.01,     2.23,2,     0.01,    1.593,6,    0.809,6,    0.131,6, -999.000,9,   -999.0,9,   -999.0,9,-999.0000,     -999,9, -999.000,9, -999.000,   -999.0,9,   -999.0, -999.000,9, -999.000, -999.000,9, -999.000
  49NZ20130106,  S04I,    93,  1,      7, X12J07,2,20130114,0423,-62.2133, 102.3442, 4401,   4248.5,2,  -0.0914,2,  -0.09134,2,  34.6562,2,  34.6563,2,-999.0000,9,   236.28,2,   236.24,2,   99.752,   0.0099,2,   -0.010,2,  -999.00,9,    0.000,2,   121.45,2,     0.17,    32.25,2,     0.05,     0.01,2,     0.01,     2.23,2,     0.01,    1.742,2,    0.887,2,    0.140,2, -999.000,9,   -999.0,9,   -999.0,9,-999.0000,     -999,9, -999.000,9, -999.000,   -999.0,9,   -999.0, -999.000,9, -999.000, -999.000,9, -999.000
  49NZ20130106,  S04I,    93,  1,      1, X12J01,2,20130114,0423,-62.2133, 102.3442, 4401,   4480.8,2,  -0.1362,2,  -0.13622,2,  34.6499,2,  34.6499,2,-999.0000,9,   238.92,2,   238.81,2,   99.568,   0.0173,2,   -0.010,2,  -999.00,9,    0.000,2,   120.81,2,     0.17,    32.22,2,     0.05,     0.01,2,     0.01,     2.23,2,     0.01,    2.000,2,    1.038,2,    0.168,2, -999.000,9,   -999.0,9,   -999.0,9,-999.0000,     -999,9, -999.000,9, -999.000,   -999.0,9,   -999.0, -999.000,9, -999.000, -999.000,9, -999.000