BOTTLE,20220819CCHSIOAMB
EXPOCODE,SECT_ID,STNNBR,CASTNO,SAMPNO,BTLNBR,BTLNBR_FLAG_W,DATE,TIME,LATITUDE,LONGITUDE,DEPTH,CTDPRS,CTDPRS_FLAG_W,CTDTMP,CTDTMP_FLAG_W,SBE35,SBE35_FLAG_W,CTDSAL,CTDSAL_FLAG_W,SALNTY,SALNTY_FLAG_W,DNSSAL,DNSSAL_FLAG_W,CTDOXY,CTDOXY_FLAG_W,OXYGEN,OXYGEN_FLAG_W,CTDXMISS,CTDXMISSCP,CTDXMISS_FLAG_W,CTDFLUOR,CTDFLUOR_FLAG_W,CHLORA,CHLORA_FLAG_W,PAR,PAR_FLAG_W,SILCAT,SILCAT_FLAG_W,SILUNC,NITRAT,NITRAT_FLAG_W,NRAUNC,NITRIT,NITRIT_FLAG_W,NRIUNC,PHSPHT,PHSPHT_FLAG_W,PHPUNC,CFC-11,CFC-11_FLAG_W,CFC-12,CFC-12_FLAG_W,CFC113,CFC113_FLAG_W,SF6,SF6_FLAG_W,TCARBN,TCARBN_FLAG_W,ALKALI,ALKALI_FLAG_W,PH_TOT,PH_TMP,PH_TOT_FLAG_W,DELC13,DELC13_FLAG_W,C13ERR,DELC14,DELC14_FLAG_W,C14ERR,CS-134,CS-134_FLAG_W,CS134ER,CS-137,CS-137_FLAG_W,CS137ER
,,,,,,,,UTC,DEG,DEG,METERS,DBAR,,ITS-90,,ITS-90,,PSS-78,,PSS-78,,G/KG,,UMOL/KG,,UMOL/KG,,%TRANS,/METER,,MG/M^3,,MG/CUM,,UE/SQM/S,,UMOL/KG,,UMOL/KG,UMOL/KG,,UMOL/KG,UMOL/KG,,UMOL/KG,UMOL/KG,,UMOL/KG,PMOL/KG,,PMOL/KG,,PMOL/KG,,FMOL/KG,,UMOL/KG,,UMOL/KG,,,DEG C,,/MILLE,,/MILLE,/MILLE,,/MILLE,MBQ/KG,,MBQ/KG,MBQ/KG,,MBQ/KG
  49NZ20121128,  I09S,   503,  1,     36, X12J36,2,20121227,1126,-59.2027, 114.9927, 4525,      9.7,2,   2.1466,2,   2.14657,2,  33.8425,2,  33.8427,2,  34.0055,2,   336.34,2,   336.28,2,   96.344,   0.1490,2,    0.330,2,  -999.00,9,    4.281,2,    16.49,2,     0.07,    25.78,2,     0.04,     0.27,2,     0.01,     1.69,2,     0.01,    5.588,2,    3.050,2,    0.649,2,    2.841,2,   2149.1,2,   2283.1,2,   7.7133,       25,6, -999.000,9, -999.000,   -999.0,9,   -999.0, -999.000,9, -999.000, -999.000,9, -999.000
  49NZ20121128,  I09S,   503,  1,     35, X12J35,2,20121227,1126,-59.2027, 114.9927, 4525,     26.6,2,   2.1467,2,   2.14685,2,  33.8424,2,  33.8423,2,  34.0046,2,   336.26,2,   336.25,2,   96.350,   0.1487,2,    0.330,2,  -999.00,9,    1.545,2,    16.56,2,     0.07,    25.80,2,     0.04,     0.27,2,     0.01,     1.69,2,     0.01,    5.560,2,    3.067,2,    0.653,2,    2.788,2,   2148.8,2,   2280.7,2,   7.7136,       25,2, -999.000,9, -999.000,   -999.0,9,   -999.0, -999.000,9, -999.000, -999.000,9, -999.000
  49NZ20121128,  I09S,   503,  1,     34, X12J34,2,20121227,1126,-59.2027, 114.9927, 4525,     49.3,2,   1.5432,2,   1.54127,2,  33.8517,2,  33.8517,2,  34.0147,2,   340.08,2,   340.32,2,   95.078,   0.2019,2,    0.620,2,  -999.00,9,    0.362,2,    14.75,2,     0.07,    25.77,2,     0.04,     0.25,2,     0.01,     1.69,2,     0.01,    5.617,6,    3.106,6,    0.646,6,    2.848,6,   2150.3,2,   2282.3,2,   7.7143,       25,2, -999.000,9, -999.000,   -999.0,9,   -999.0, -999.000,9, -999.000, -999.000,9, -999.000
  49NZ20121128,  I09S,   503,  1,     33, X12J33,2,20121227,1126,-59.2027, 114.9927, 4525,     75.1,2,   0.1502,2,   0.14415,2,  33.8550,2,  33.8555,2,  34.0176,2,   348.39,2,   348.09,2,   96.815,   0.1295,2,    0.540,2,  -999.00,9,    0.045,2,    21.57,2,     0.08,    26.94,2,     0.04,     0.21,2,     0.01,     1.88,2,     0.01,    5.907,2,    2.949,2,    0.659,2,    2.943,2,   2157.1,6,   2283.6,2,   7.6910,       25,2, -999.000,9, -999.000,   -999.0,9,   -999.0, -999.000,9, -999.000, -999.000,9, -999.000
  49NZ20121128,  I09S,   503,  1,     32, X12J32,2,20121227,1126,-59.2027, 114.9927, 4525,     98.6,2,  -0.1371,2,  -0.13714,2,  33.8693,2,  33.8700,2,  34.0319,2,   343.04,2,   342.51,2,   98.732,   0.0510,2,    0.290,2,  -999.00,9,    0.000,2,    25.36,2,     0.08,    27.56,2,     0.04,     0.20,2,     0.01,     1.93,2,     0.01,    5.822,2,    3.254,2,    0.655,2,    2.821,2,   2163.4,2,   2284.1,6,   7.6783,       25,2, -999.000,9, -999.000,   -999.0,9,   -999.0, -999.000,9, -999.000, -999.000,9, -999.000
  49NZ20121128,  I09S,   503,  1,     31, X12J31,2,20121227,1126,-59.2027, 114.9927, 4525,    126.1,2,  -0.3125,2,  -0.31061,2,  33.8746,2,  33.8743,2,  34.0358,2,   341.39,2,   340.97,2,   99.178,   0.0330,2,    0.180,2,  -999.00,9,    0.000,2,    27.01,2,     0.08,    27.85,2,     0.04,     0.20,2,     0.01,     1.95,2,     0.01,    5.823,2,    3.232,2,    0.648,2,    2.731,2,   2167.0,2,   2284.0,2,   7.6713,       25,2, -999.000,9, -999.000,   -999.0,9,   -999.0, -999.000,9, -999.000, -999.000,9, -999.000
  49NZ20121128,  I09S,   503,  1,     30, X12J30,2,20121227,1126,-59.2027, 114.9927, 4525,    150.7,2,  -0.2480,2,  -0.24802,2,  33.9262,2,  33.9244,2,  34.0859,2,   324.65,2,   325.70,2,   99.448,   0.0221,2,    0.110,2,  -999.00,9,    0.000,2,    31.91,2,     0.09,    29.01,2,     0.04,     0.17,2,     0.01,     2.02,2,     0.01,    5.515,2,    3.080,2,    0.647,2,    2.720,2,   2175.7,2,   2288.1,2,   7.6534,       25,6, -999.000,9, -999.000,   -999.0,9,   -999.0, -999.000,9, -999.000, -999.000,9, -999.000
  49NZ20121128,  I09S,   503,  1,     29, X12J29,2,20121227,1126,-59.2027, 114.9927, 4525,    201.0,2,   1.7035,2,   1.70771,2,  34.2778,2,  34.2663,2,  34.4281,2,   222.23,2,   223.78,2,   99.700,   0.0120,2,    0.020,2,  -999.00,9,    0.000,2,    52.59,2,     0.11,    34.10,2,     0.05,     0.02,2,     0.01,     2.33,2,     0.01,    2.893,2,    1.584,2,    0.299,2,    1.092,2,   2227.3,2,   2308.0,2,   7.5687,       25,2, -999.000,9, -999.000,   -999.0,9,   -999.0, -999.000,9, -999.000, -999.000,9, -999.000
  49NZ20121128,  I09S,   503,  1,     28, X12J28,2,20121227,1126,-59.2027, 114.9927, 4525,    251.1,2,   2.0034,2,   2.00308,2,  34.3896,2,  34.3865,2,  34.5521,2,   195.75,2,   196.08,2,   99.672,   0.0131,2,    0.010,2,  -999.00,9,    0.000,2,    61.29,2,     0.11,    34.94,2,     0.05,     0.01,2,     0.01,     2.40,2,     0.01,    2.002,2,    1.056,2,    0.155,2,    0.757,2,   2240.6,2,   2317.2,2,   7.5524,       25,2, -999.000,9, -999.000,   -999.0,9,   -999.0, -999.000,9, -999.000, -999.000,9, -999.000
  49NZ20121128,  I09S,   503,  1,     27, X12J27,2,20121227,1126,-59.2027, 114.9927, 4525,    280.7,2,   2.0576,2,   2.05753,2,  34.4200,2,  34.4203,2,  34.5883,2,   190.39,2,   189.85,2,   99.685,   0.0126,2,    0.010,2,  -999.00,9,    0.000,2,    63.72,2,     0.12,    35.06,2,     0.05,     0.01,2,     0.01,     2.41,2,     0.01,    1.784,2,    0.925,2,    0.138,2,    0.614,2,   2244.9,2,   2321.0,2,   7.5486,       25,2, -999.000,9, -999.000,   -999.0,9,   -999.0, -999.000,9, -999.000, -999.000,9, -999.000
  49NZ20121128,  I09S,   503,  1,     26, X12J26,2,20121227,1126,-59.2027, 114.9927, 4525,    370.5,2,   2.2305,2,   2.23016,2,  34.5226,2,  34.5215,2,  34.6905,2,   177.53,2,   177.44,2,   99.725,   0.0110,2,    0.010,2,  -999.00,9,    0.000,2,    69.44,2,     0.12,    34.84,2,     0.05,     0.01,2,     0.01,     2.38,2,     0.01,    1.099,2,    0.575,2,    0.070,2,    0.465,2,   2252.6,2,   2328.9,2,   7.5497,       25,2, -999.000,9, -999.000,   -999.0,9,   -999.0, -999.000,9, -999.000, -999.000,9, -999.000
  49NZ20121128,  I09S,   503,  1,     25, X12J25,2,20121227,1126,-59.2027, 114.9927, 4525,    470.2,2,   2.2286,2,   2.22888,2,  34.5931,2,  34.5921,2,  34.7610,2,   175.33,2,   174.93,2,   99.808,   0.0077,2,    0.000,2,  -999.00,9,    0.000,2,    73.04,2,     0.12,    34.01,2,     0.05,     0.01,2,     0.01,     2.32,2,     0.01,    0.753,2,    0.384,2,    0.043,2,    0.168,2,   2254.6,2,   2334.3,2,   7.5602,       25,2, -999.000,9, -999.000,   -999.0,9,   -999.0, -999.000,9, -999.000, -999.000,9, -999.000
  49NZ20121128,  I09S,   503,  1,     24, X12J24,2,20121227,1126,-59.2027, 114.9927, 4525,    571.5,2,   2.2065,2,   2.20636,2,  34.6413,2,  34.6412,2,  34.8111,2,   177.27,2,   176.90,2,   99.812,   0.0075,2,    0.000,2,  -999.00,9,    0.000,2,    74.92,2,     0.13,    33.15,2,     0.05,     0.00,2,     0.01,     2.27,2,     0.01,    0.561,6,    0.284,6,    0.034,6,    0.209,6,   2254.5,2,   2338.9,2,   7.5711,       25,2, -999.000,9, -999.000,   -999.0,9,   -999.0, -999.000,9, -999.000, -999.000,9, -999.000
  49NZ20121128,  I09S,   503,  1,     23, X12J23,2,20121227,1126,-59.2027, 114.9927, 4525,    669.8,2,   2.1466,2,   2.14640,2,  34.6705,2,  34.6702,2,  34.8408,2,   179.76,2,   179.43,2,   99.850,   0.0060,2,    0.000,2,  -999.00,9,    0.000,2,    76.67,2,     0.13,    32.56,2,     0.05,     0.00,2,     0.01,     2.23,2,     0.01,    0.455,2,    0.232,2,    0.029,2,    0.105,2,   2253.4,6,   2341.2,2,   7.5789,       25,2, -999.000,9, -999.000,   -999.0,9,   -999.0, -999.000,9, -999.000, -999.000,9, -999.000
  49NZ20121128,  I09S,   503,  1,     22, X12J22,2,20121227,1126,-59.2027, 114.9927, 4525,    769.8,2,   2.0947,2,   2.09474,2,  34.6960,2,  34.6959,2,  34.8665,2,   182.82,2,   182.58,2,   99.865,   0.0054,2,    0.000,2,  -999.00,9,    0.000,2,    78.17,2,     0.13,    32.03,2,     0.04,     0.00,2,     0.01,     2.20,2,     0.01,    0.375,2,    0.187,2,    0.022,2,    0.108,2,   2252.8,2,   2343.1,6,   7.5875,       25,2, -999.000,9, -999.000,   -999.0,9,   -999.0, -999.000,9, -999.000, -999.000,9, -999.000
  49NZ20121128,  I09S,   503,  1,     21, X12J21,2,20121227,1126,-59.2027, 114.9927, 4525,    870.2,2,   2.0398,2,   2.03977,2,  34.7153,2,  34.7152,2,  34.8863,2,   185.68,2,   185.46,2,   99.886,   0.0046,2,    0.000,2,  -999.00,9,    0.000,2,    79.93,2,     0.13,    31.63,2,     0.04,     0.00,2,     0.01,     2.17,2,     0.01,    0.313,2,    0.151,2,    0.017,2,    0.071,2,   2252.2,2,   2345.1,2,   7.5955,       25,6, -999.000,9, -999.000,   -999.0,9,   -999.0, -999.000,9, -999.000, -999.000,9, -999.000
  49NZ20121128,  I09S,   503,  1,     20, X12J20,2,20121227,1126,-59.2027, 114.9927, 4525,    961.4,2,   2.0056,2,   2.00556,2,  34.7280,2,  34.7280,2,  34.8988,2,   188.31,2,   188.09,2,   99.892,   0.0043,2,    0.000,2,  -999.00,9,    0.000,2,    80.94,2,     0.13,    31.27,2,     0.04,     0.00,2,     0.01,     2.14,2,     0.01,    0.257,2,    0.122,2,    0.014,2,    0.027,2,   2251.4,2,   2346.6,2,   7.6021,       25,2, -999.000,9, -999.000,   -999.0,9,   -999.0, -999.000,9, -999.000, -999.000,9, -999.000
  49NZ20121128,  I09S,   503,  1,     19, X12J19,2,20121227,1126,-59.2027, 114.9927, 4525,   1170.4,2,   1.8369,2,   1.83702,2,  34.7405,2,  34.7403,2,  34.9100,2,   193.17,2,   193.05,2,   99.928,   0.0029,2,    0.000,2,  -999.00,9,    0.000,2,    85.05,2,     0.14,    30.86,2,     0.04,     0.00,2,     0.01,     2.12,2,     0.01,    0.225,6,    0.106,6,    0.013,6,    0.075,6,   2251.7,2,   2349.5,2,   7.6110,       25,2, -999.000,9, -999.000,   -999.0,9,   -999.0, -999.000,9, -999.000, -999.000,9, -999.000
  49NZ20121128,  I09S,   503,  1,     18, X12J18,2,20121227,1126,-59.2027, 114.9927, 4525,   1421.1,2,   1.6266,2,   1.62647,2,  34.7429,2,  34.7432,2,  34.9140,2,   197.59,2,   197.56,2,   99.945,   0.0022,2,    0.000,2,  -999.00,9,    0.000,2,    90.59,2,     0.14,    30.79,2,     0.04,     0.00,2,     0.01,     2.12,2,     0.01,    0.198,2,    0.093,2,    0.010,2,    0.060,2,   2252.0,2,   2353.3,2,   7.6143,       25,2, -999.000,9, -999.000,   -999.0,9,   -999.0, -999.000,9, -999.000, -999.000,9, -999.000
  49NZ20121128,  I09S,   503,  1,     17, X12J17,2,20121227,1126,-59.2027, 114.9927, 4525,   1672.9,2,   1.3937,2,   1.39378,2,  34.7368,2,  34.7367,2,  34.9081,2,   201.03,2,   200.88,2,   99.968,   0.0013,2,   -0.000,2,  -999.00,9,    0.000,2,    97.20,2,     0.15,    31.07,2,     0.04,     0.00,2,     0.01,     2.14,2,     0.01,    0.187,2,    0.085,2,    0.009,2,    0.074,2,   2256.5,2,   2355.3,2,   7.6156,       25,6, -999.000,9, -999.000,   -999.0,9,   -999.0, -999.000,9, -999.000, -999.000,9, -999.000
  49NZ20121128,  I09S,   503,  1,     16, X12J16,2,20121227,1126,-59.2027, 114.9927, 4525,   1920.6,2,   1.1740,2,   1.17422,2,  34.7267,2,  34.7265,2,  34.8982,2,   203.72,2,   203.48,2,   99.926,   0.0030,2,   -0.000,2,  -999.00,9,    0.000,2,   103.33,2,     0.15,    31.45,2,     0.04,     0.00,2,     0.01,     2.16,2,     0.01,    0.211,2,    0.099,2,    0.009,2,    0.070,2,   2257.5,2,   2357.4,2,   7.6132,       25,2, -999.000,9, -999.000,   -999.0,9,   -999.0, -999.000,9, -999.000, -999.000,9, -999.000
  49NZ20121128,  I09S,   503,  1,     15, X12J15,2,20121227,1126,-59.2027, 114.9927, 4525,   2170.6,2,   0.9674,2,   0.96752,2,  34.7156,2,  34.7156,2,  34.8876,2,   205.98,2,   205.56,2,   99.949,   0.0020,2,   -0.000,2,  -999.00,9,    0.000,2,   108.57,2,     0.16,    31.80,2,     0.04,     0.00,2,     0.01,     2.19,2,     0.01,    0.249,2,    0.116,2,    0.010,2,    0.062,2,   2259.2,2,   2356.8,2,   7.6086,       25,2, -999.000,9, -999.000,   -999.0,9,   -999.0, -999.000,9, -999.000, -999.000,9, -999.000
  49NZ20121128,  I09S,   503,  1,     14, X12J14,2,20121227,1126,-59.2027, 114.9927, 4525,   2421.5,2,   0.7728,2,   0.77269,2,  34.7046,2,  34.7047,2,  34.8784,2,   208.59,2,   208.33,2,   99.960,   0.0016,2,   -0.000,2,  -999.00,9,    0.000,2,   113.71,2,     0.16,    32.09,2,     0.05,     0.00,2,     0.01,     2.21,2,     0.01,    0.296,2,    0.139,2,    0.013,2,    0.000,2,   2261.7,6,   2358.3,2,   7.6046,       25,2, -999.000,9, -999.000,   -999.0,9,   -999.0, -999.000,9, -999.000, -999.000,9, -999.000
  49NZ20121128,  I09S,   503,  1,     13, X12J13,2,20121227,1126,-59.2027, 114.9927, 4525,   2670.1,2,   0.6029,2,   0.60307,2,  34.6961,2,  34.6960,2,  34.8698,2,   211.95,2,   211.64,2,   99.945,   0.0022,2,   -0.000,2,  -999.00,9,    0.000,2,   118.19,2,     0.16,    32.36,2,     0.05,     0.00,2,     0.01,     2.23,2,     0.01,    0.364,2,    0.173,2,    0.014,2,    0.208,2,   2261.8,2,   2360.0,3,   7.6029,       25,2, -999.000,9, -999.000,   -999.0,9,   -999.0, -999.000,9, -999.000, -999.000,9, -999.000
  49NZ20121128,  I09S,   503,  1,     12, X12J12,2,20121227,1126,-59.2027, 114.9927, 4525,   2920.9,2,   0.4519,2,   0.45205,2,  34.6882,2,  34.6883,2,  34.8619,2,   215.51,2,   215.22,2,   99.945,   0.0022,2,   -0.000,2,  -999.00,9,    0.000,2,   120.77,2,     0.17,    32.51,2,     0.05,     0.00,2,     0.01,     2.24,2,     0.01,    0.457,2,    0.228,2,    0.021,2,    0.168,2,   2262.5,2,   2357.5,2,   7.6024,       25,2, -999.000,9, -999.000,   -999.0,9,   -999.0, -999.000,9, -999.000, -999.000,9, -999.000
  49NZ20121128,  I09S,   503,  1,     11, X12J11,2,20121227,1126,-59.2027, 114.9927, 4525,   3170.0,2,   0.3327,2,   0.33264,2,  34.6828,2,  34.6822,2,  34.8553,2,   219.19,2,   218.80,2,   99.949,   0.0020,2,   -0.000,2,  -999.00,9,    0.000,2,   123.34,2,     0.17,    32.58,2,     0.05,     0.00,2,     0.01,     2.25,2,     0.01,    0.602,2,    0.297,2,    0.028,2,    0.149,2,   2261.7,2,   2357.2,2,   7.6019,       25,2, -999.000,9, -999.000,   -999.0,9,   -999.0, -999.000,9, -999.000, -999.000,9, -999.000
  49NZ20121128,  I09S,   503,  1,     10, X12J10,2,20121227,1126,-59.2027, 114.9927, 4525,   3420.4,2,   0.2417,2,   0.24182,2,  34.6786,2,  34.6784,2,  34.8507,2,   222.36,2,   222.03,2,   99.913,   0.0035,2,   -0.000,2,  -999.00,9,    0.000,2,   125.07,2,     0.17,    32.54,2,     0.05,     0.00,2,     0.01,     2.25,2,     0.01,    0.740,2,    0.365,2,    0.036,2,    0.188,2,   2260.8,2,   2357.3,2,   7.6007,       25,2, -999.000,9, -999.000,   -999.0,9,   -999.0, -999.000,9, -999.000, -999.000,9, -999.000
  49NZ20121128,  I09S,   503,  1,      9, X12J09,2,20121227,1126,-59.2027, 114.9927, 4525,   3670.6,2,   0.1701,2,   0.17019,2,  34.6749,2,  34.6750,2,  34.8461,2,   225.15,2,   224.89,2,   99.911,   0.0036,2,   -0.000,2,  -999.00,9,    0.000,2,   125.93,2,     0.17,    32.52,2,     0.05,     0.00,2,     0.01,     2.25,2,     0.01,    0.872,2,    0.438,2,    0.045,2,    0.216,2,   2262.2,2,   2356.7,2,   7.6014,       25,2, -999.000,9, -999.000,   -999.0,9,   -999.0, -999.000,9, -999.000, -999.000,9, -999.000
  49NZ20121128,  I09S,   503,  1,      8, X12J08,2,20121227,1126,-59.2027, 114.9927, 4525,   3919.0,2,   0.1061,2,   0.10631,2,  34.6720,2,  34.6720,2,  34.8461,2,   227.77,2,   227.44,2,   99.909,   0.0036,2,   -0.010,2,  -999.00,9,    0.000,2,   128.62,2,     0.17,    32.56,2,     0.05,     0.00,2,     0.01,     2.24,2,     0.01,    1.011,6,    0.513,6,    0.057,6,    0.215,6,   2261.7,2,   2357.0,2,   7.6022,       25,2, -999.000,9, -999.000,   -999.0,9,   -999.0, -999.000,9, -999.000, -999.000,9, -999.000
  49NZ20121128,  I09S,   503,  1,      7, X12J07,2,20121227,1126,-59.2027, 114.9927, 4525,   4170.4,2,   0.0543,2,   0.05421,2,  34.6680,2,  34.6682,2,  34.8415,2,   230.35,2,   230.08,2,   99.894,   0.0042,2,   -0.010,2,  -999.00,9,    0.000,2,   129.58,2,     0.18,    32.54,2,     0.05,     0.00,2,     0.01,     2.24,2,     0.01,    1.222,2,    0.611,2,    0.073,2,    0.317,2,   2260.3,6,   2356.1,2,   7.6021,       25,2, -999.000,9, -999.000,   -999.0,9,   -999.0, -999.000,9, -999.000, -999.000,9, -999.000
  49NZ20121128,  I09S,   503,  1,      6, X12J06,2,20121227,1126,-59.2027, 114.9927, 4525,   4420.6,2,  -0.0004,2,  -0.00057,2,  34.6621,2,  34.6625,2,  34.8355,2,   233.24,2,   233.06,2,   99.831,   0.0068,2,   -0.010,2,  -999.00,9,    0.000,2,   128.22,2,     0.17,    32.36,2,     0.05,     0.00,2,     0.01,     2.23,2,     0.01,    1.511,2,    0.770,2,    0.105,2,    0.392,2,   2260.7,2,   2354.8,6,   7.6013,       25,2, -999.000,9, -999.000,   -999.0,9,   -999.0, -999.000,9, -999.000, -999.000,9, -999.000
  49NZ20121128,  I09S,   503,  1,      1, X12J01,2,20121227,1126,-59.2027, 114.9927, 4525,   4605.6,2,  -0.0519,2,  -0.05222,2,  34.6560,2,  34.6572,2,  34.8303,2,   235.75,2,   235.70,2,   99.660,   0.0136,2,   -0.010,2,  -999.00,9,    0.000,2,   128.12,2,     0.17,    32.35,2,     0.05,     0.01,2,     0.01,     2.24,2,     0.01,    1.774,2,    0.896,2,    0.133,2,    0.507,2,   2259.5,2,   2354.9,2,   7.6001,       25,2, -999.000,9, -999.000,   -999.0,9,   -999.0, -999.000,9, -999.000, -999.000,9, -999.000