BOTTLE,20220819CCHSIOAMB
EXPOCODE,SECT_ID,STNNBR,CASTNO,SAMPNO,BTLNBR,BTLNBR_FLAG_W,DATE,TIME,LATITUDE,LONGITUDE,DEPTH,CTDPRS,CTDPRS_FLAG_W,CTDTMP,CTDTMP_FLAG_W,SBE35,SBE35_FLAG_W,CTDSAL,CTDSAL_FLAG_W,SALNTY,SALNTY_FLAG_W,DNSSAL,DNSSAL_FLAG_W,CTDOXY,CTDOXY_FLAG_W,OXYGEN,OXYGEN_FLAG_W,CTDXMISS,CTDXMISSCP,CTDXMISS_FLAG_W,CTDFLUOR,CTDFLUOR_FLAG_W,CHLORA,CHLORA_FLAG_W,PAR,PAR_FLAG_W,SILCAT,SILCAT_FLAG_W,SILUNC,NITRAT,NITRAT_FLAG_W,NRAUNC,NITRIT,NITRIT_FLAG_W,NRIUNC,PHSPHT,PHSPHT_FLAG_W,PHPUNC,CFC-11,CFC-11_FLAG_W,CFC-12,CFC-12_FLAG_W,CFC113,CFC113_FLAG_W,SF6,SF6_FLAG_W,TCARBN,TCARBN_FLAG_W,ALKALI,ALKALI_FLAG_W,PH_TOT,PH_TMP,PH_TOT_FLAG_W,DELC13,DELC13_FLAG_W,C13ERR,DELC14,DELC14_FLAG_W,C14ERR,CS-134,CS-134_FLAG_W,CS134ER,CS-137,CS-137_FLAG_W,CS137ER
,,,,,,,,UTC,DEG,DEG,METERS,DBAR,,ITS-90,,ITS-90,,PSS-78,,PSS-78,,G/KG,,UMOL/KG,,UMOL/KG,,%TRANS,/METER,,MG/M^3,,MG/CUM,,UE/SQM/S,,UMOL/KG,,UMOL/KG,UMOL/KG,,UMOL/KG,UMOL/KG,,UMOL/KG,UMOL/KG,,UMOL/KG,PMOL/KG,,PMOL/KG,,PMOL/KG,,FMOL/KG,,UMOL/KG,,UMOL/KG,,,DEG C,,/MILLE,,/MILLE,/MILLE,,/MILLE,MBQ/KG,,MBQ/KG,MBQ/KG,,MBQ/KG
  49NZ20121128,  P14S,    26,  1,     36, X12J36,2,20121209,2031,-63.9947, 171.1228, 2558,      5.3,2,  -0.6550,2,  -0.65456,2,  33.8474,2,  33.8514,3,-999.0000,9,   362.47,2,   363.42,2,   93.942,   0.2500,2,    0.310,2,  -999.00,9,  157.334,2,    53.04,2,     0.11,    25.71,2,     0.04,     0.19,2,     0.01,     1.62,2,     0.01,    5.984,2,    3.258,2,    0.579,2, -999.000,9,   -999.0,9,   -999.0,9,-999.0000,     -999,9, -999.000,9, -999.000,   -999.0,9,   -999.0, -999.000,9, -999.000, -999.000,9, -999.000
  49NZ20121128,  P14S,    26,  1,     35, X12J35,2,20121209,2031,-63.9947, 171.1228, 2558,     24.8,2,  -1.1650,2,  -1.17447,2,  33.9137,2,  33.9465,2,-999.0000,9,   366.31,2,   364.33,2,   91.090,   0.3733,2,    0.910,2,  -999.00,9,   22.274,2,    55.93,2,     0.11,    26.29,2,     0.04,     0.16,2,     0.01,     1.73,2,     0.01,    5.665,2,    3.113,2,    0.557,2, -999.000,9,   -999.0,9,   -999.0,9,-999.0000,     -999,9, -999.000,9, -999.000,   -999.0,9,   -999.0, -999.000,9, -999.000, -999.000,9, -999.000
  49NZ20121128,  P14S,    26,  1,     34, X12J34,2,20121209,2031,-63.9947, 171.1228, 2558,     50.2,2,  -1.6827,2,  -1.68368,2,  34.1296,2,  34.1346,2,-999.0000,9,   342.44,2,   341.27,2,   95.552,   0.1820,2,    1.030,2,  -999.00,9,    1.584,2,    62.52,2,     0.11,    28.59,2,     0.04,     0.16,2,     0.01,     2.00,2,     0.01,    5.345,6,    2.945,6,    0.535,6, -999.000,9,   -999.0,9,   -999.0,9,-999.0000,     -999,9, -999.000,9, -999.000,   -999.0,9,   -999.0, -999.000,9, -999.000, -999.000,9, -999.000
  49NZ20121128,  P14S,    26,  1,     33, X12J33,2,20121209,2031,-63.9947, 171.1228, 2558,     75.0,2,  -1.2347,2,  -1.23541,2,  34.2817,2,  34.2838,2,-999.0000,9,   304.42,2,   303.72,2,   98.574,   0.0575,2,    0.310,2,  -999.00,9,    0.292,2,    70.74,2,     0.12,    30.39,2,     0.04,     0.13,2,     0.01,     2.13,2,     0.01,    4.368,2,    2.412,2,    0.430,2, -999.000,9,   -999.0,9,   -999.0,9,-999.0000,     -999,9, -999.000,9, -999.000,   -999.0,9,   -999.0, -999.000,9, -999.000, -999.000,9, -999.000
  49NZ20121128,  P14S,    26,  1,     32, X12J32,2,20121209,2031,-63.9947, 171.1228, 2558,    100.4,2,  -0.4675,2,  -0.46121,2,  34.4097,2,  34.4111,2,-999.0000,9,   266.05,2,   262.78,2,   99.143,   0.0344,2,    0.190,2,  -999.00,9,    0.055,2,    75.29,2,     0.13,    31.62,2,     0.04,     0.12,2,     0.01,     2.19,2,     0.01,    3.198,2,    1.767,2,    0.326,2, -999.000,9,   -999.0,9,   -999.0,9,-999.0000,     -999,9, -999.000,9, -999.000,   -999.0,9,   -999.0, -999.000,9, -999.000, -999.000,9, -999.000
  49NZ20121128,  P14S,    26,  1,     31, X12J31,2,20121209,2031,-63.9947, 171.1228, 2558,    125.1,2,   1.0586,2,   1.05753,2,  34.5887,2,  34.5891,2,-999.0000,9,   205.26,2,   205.42,2,   99.504,   0.0199,2,    0.090,2,  -999.00,9,    0.000,2,    80.31,2,     0.13,    32.87,2,     0.05,     0.08,2,     0.01,     2.26,2,     0.01,    1.436,2,    0.779,2,    0.108,2, -999.000,9,   -999.0,9,   -999.0,9,-999.0000,     -999,9, -999.000,9, -999.000,   -999.0,9,   -999.0, -999.000,9, -999.000, -999.000,9, -999.000
  49NZ20121128,  P14S,    26,  1,     30, X12J30,2,20121209,2031,-63.9947, 171.1228, 2558,    149.9,2,   1.5069,2,   1.50400,2,  34.6499,2,  34.6489,2,-999.0000,9,   188.66,2,   188.82,2,   99.546,   0.0182,2,    0.060,2,  -999.00,9,    0.000,2,    82.25,2,     0.13,    33.02,2,     0.05,     0.04,2,     0.01,     2.26,2,     0.01,    0.898,2,    0.471,2,    0.062,2, -999.000,9,   -999.0,9,   -999.0,9,-999.0000,     -999,9, -999.000,9, -999.000,   -999.0,9,   -999.0, -999.000,9, -999.000, -999.000,9, -999.000
  49NZ20121128,  P14S,    26,  1,     29, X12J29,2,20121209,2031,-63.9947, 171.1228, 2558,    200.4,2,   1.6158,2,   1.61639,2,  34.6806,2,  34.6799,2,-999.0000,9,   186.42,2,   186.36,2,   99.693,   0.0123,2,    0.050,2,  -999.00,9,    0.000,2,    83.70,2,     0.13,    32.65,2,     0.05,     0.02,2,     0.01,     2.23,2,     0.01,    0.686,2,    0.354,2,    0.052,2, -999.000,9,   -999.0,9,   -999.0,9,-999.0000,     -999,9, -999.000,9, -999.000,   -999.0,9,   -999.0, -999.000,9, -999.000, -999.000,9, -999.000
  49NZ20121128,  P14S,    26,  1,     28, X12J28,2,20121209,2031,-63.9947, 171.1228, 2558,    249.4,2,   1.5458,2,   1.54561,2,  34.6863,2,  34.6859,2,-999.0000,9,   189.26,2,   189.46,2,   99.737,   0.0105,2,    0.030,2,  -999.00,9,    0.000,2,    84.31,2,     0.13,    32.36,2,     0.05,     0.02,2,     0.01,     2.22,2,     0.01,    0.682,2,    0.357,2,    0.053,2, -999.000,9,   -999.0,9,   -999.0,9,-999.0000,     -999,9, -999.000,9, -999.000,   -999.0,9,   -999.0, -999.000,9, -999.000, -999.000,9, -999.000
  49NZ20121128,  P14S,    26,  1,     27, X12J27,2,20121209,2031,-63.9947, 171.1228, 2558,    329.9,2,   1.5677,2,   1.56775,2,  34.7108,2,  34.7103,2,-999.0000,9,   191.12,2,   191.38,2,   99.877,   0.0049,2,    0.020,2,  -999.00,9,    0.000,2,    86.34,2,     0.14,    31.86,2,     0.04,     0.01,2,     0.01,     2.18,2,     0.01,    0.515,2,    0.260,2,    0.053,2, -999.000,9,   -999.0,9,   -999.0,9,-999.0000,     -999,9, -999.000,9, -999.000,   -999.0,9,   -999.0, -999.000,9, -999.000, -999.000,9, -999.000
  49NZ20121128,  P14S,    26,  1,     26, X12J26,2,20121209,2031,-63.9947, 171.1228, 2558,    429.2,2,   1.4776,2,   1.47729,2,  34.7153,2,  34.7151,2,-999.0000,9,   194.13,2,   194.45,2,   99.895,   0.0042,2,    0.010,2,  -999.00,9,    0.000,2,    88.18,2,     0.14,    31.60,2,     0.04,     0.01,2,     0.01,     2.17,2,     0.01,    0.500,2,    0.253,2,    0.048,2, -999.000,9,   -999.0,9,   -999.0,9,-999.0000,     -999,9, -999.000,9, -999.000,   -999.0,9,   -999.0, -999.000,9, -999.000, -999.000,9, -999.000
  49NZ20121128,  P14S,    26,  1,     25, X12J25,2,20121209,2031,-63.9947, 171.1228, 2558,    528.7,2,   1.5502,2,   1.55153,2,  34.7368,2,  34.7363,2,-999.0000,9,   194.70,2,   195.18,2,   99.900,   0.0040,2,    0.010,2,  -999.00,9,    0.000,2,    91.58,2,     0.14,    31.19,2,     0.04,     0.01,2,     0.01,     2.15,2,     0.01,    0.234,2,    0.113,2,    0.025,2, -999.000,9,   -999.0,9,   -999.0,9,-999.0000,     -999,9, -999.000,9, -999.000,   -999.0,9,   -999.0, -999.000,9, -999.000, -999.000,9, -999.000
  49NZ20121128,  P14S,    26,  1,     24, X12J24,2,20121209,2031,-63.9947, 171.1228, 2558,    631.5,2,   1.4698,2,   1.46991,2,  34.7370,2,  34.7369,2,-999.0000,9,   196.43,2,   196.79,2,   99.889,   0.0044,2,    0.010,2,  -999.00,9,    0.000,2,    94.12,2,     0.14,    31.18,2,     0.04,     0.01,2,     0.01,     2.13,2,     0.01,    0.201,6,    0.097,6,    0.021,6, -999.000,9,   -999.0,9,   -999.0,9,-999.0000,     -999,9, -999.000,9, -999.000,   -999.0,9,   -999.0, -999.000,9, -999.000, -999.000,9, -999.000
  49NZ20121128,  P14S,    26,  1,     23, X12J23,2,20121209,2031,-63.9947, 171.1228, 2558,    729.2,2,   1.3092,2,   1.31003,2,  34.7287,2,  34.7286,2,-999.0000,9,   197.89,2,   198.23,2,   99.900,   0.0040,2,    0.010,2,  -999.00,9,    0.000,2,    96.90,2,     0.15,    31.43,2,     0.04,     0.01,2,     0.01,     2.15,2,     0.01,    0.272,2,    0.134,2,    0.021,2, -999.000,9,   -999.0,9,   -999.0,9,-999.0000,     -999,9, -999.000,9, -999.000,   -999.0,9,   -999.0, -999.000,9, -999.000, -999.000,9, -999.000
  49NZ20121128,  P14S,    26,  1,     22, X12J22,2,20121209,2031,-63.9947, 171.1228, 2558,    829.7,2,   1.1667,2,   1.16673,2,  34.7213,2,  34.7213,2,-999.0000,9,   198.03,2,   198.28,2,   99.929,   0.0028,2,    0.010,2,  -999.00,9,    0.000,2,   100.81,2,     0.15,    31.80,2,     0.04,     0.01,2,     0.01,     2.18,2,     0.01,    0.306,2,    0.151,2,    0.022,2, -999.000,9,   -999.0,9,   -999.0,9,-999.0000,     -999,9, -999.000,9, -999.000,   -999.0,9,   -999.0, -999.000,9, -999.000, -999.000,9, -999.000
  49NZ20121128,  P14S,    26,  1,     21, X12J21,2,20121209,2031,-63.9947, 171.1228, 2558,    931.5,2,   1.1067,2,   1.10677,2,  34.7208,2,  34.7211,2,-999.0000,9,   199.63,2,   199.97,2,   99.948,   0.0021,2,    0.010,2,  -999.00,9,    0.000,2,   103.25,2,     0.15,    31.83,2,     0.04,     0.01,2,     0.01,     2.18,2,     0.01,    0.268,2,    0.127,2,    0.021,2, -999.000,9,   -999.0,9,   -999.0,9,-999.0000,     -999,9, -999.000,9, -999.000,   -999.0,9,   -999.0, -999.000,9, -999.000, -999.000,9, -999.000
  49NZ20121128,  P14S,    26,  1,     20, X12J20,2,20121209,2031,-63.9947, 171.1228, 2558,   1082.4,2,   1.0131,2,   1.01316,2,  34.7181,2,  34.7183,2,-999.0000,9,   201.62,2,   202.05,2,   99.933,   0.0027,2,    0.000,2,  -999.00,9,    0.000,2,   106.44,2,     0.15,    31.88,2,     0.04,     0.01,2,     0.01,     2.19,2,     0.01,    0.244,2,    0.116,2,    0.020,2, -999.000,9,   -999.0,9,   -999.0,9,-999.0000,     -999,9, -999.000,9, -999.000,   -999.0,9,   -999.0, -999.000,9, -999.000, -999.000,9, -999.000
  49NZ20121128,  P14S,    26,  1,     19, X12J19,2,20121209,2031,-63.9947, 171.1228, 2558,   1330.6,2,   0.8609,2,   0.86101,2,  34.7124,2,  34.7122,2,-999.0000,9,   204.61,2,   205.06,2,   99.944,   0.0022,2,    0.040,2,  -999.00,9,    0.000,2,   111.92,2,     0.16,    32.07,2,     0.04,     0.01,2,     0.01,     2.20,2,     0.01,    0.244,6,    0.118,6,    0.018,6, -999.000,9,   -999.0,9,   -999.0,9,-999.0000,     -999,9, -999.000,9, -999.000,   -999.0,9,   -999.0, -999.000,9, -999.000, -999.000,9, -999.000
  49NZ20121128,  P14S,    26,  1,     18, X12J18,2,20121209,2031,-63.9947, 171.1228, 2558,   1578.0,2,   0.6953,2,   0.69519,2,  34.7041,2,  34.7044,2,-999.0000,9,   206.59,2,   207.01,2,   99.944,   0.0022,2,    0.000,2,  -999.00,9,    0.000,2,   116.12,2,     0.16,    32.33,2,     0.05,     0.01,2,     0.01,     2.22,2,     0.01,    0.353,2,    0.171,2,    0.027,2, -999.000,9,   -999.0,9,   -999.0,9,-999.0000,     -999,9, -999.000,9, -999.000,   -999.0,9,   -999.0, -999.000,9, -999.000, -999.000,9, -999.000
  49NZ20121128,  P14S,    26,  1,     17, X12J17,2,20121209,2031,-63.9947, 171.1228, 2558,   1831.0,2,   0.5826,2,   0.58260,2,  34.6994,2,  34.6995,2,-999.0000,9,   208.23,2,   208.58,2,   99.952,   0.0019,2,    0.000,2,  -999.00,9,    0.000,2,   118.84,2,     0.17,    32.51,2,     0.05,     0.01,2,     0.01,     2.23,2,     0.01,    0.306,2,    0.147,2,    0.027,2, -999.000,9,   -999.0,9,   -999.0,9,-999.0000,     -999,9, -999.000,9, -999.000,   -999.0,9,   -999.0, -999.000,9, -999.000, -999.000,9, -999.000
  49NZ20121128,  P14S,    26,  1,     16, X12J16,2,20121209,2031,-63.9947, 171.1228, 2558,   2081.5,2,   0.4864,2,   0.48665,2,  34.6954,2,  34.6958,2,-999.0000,9,   210.55,2,   211.02,2,   99.937,   0.0025,2,   -0.000,2,  -999.00,9,    0.000,2,   120.23,2,     0.17,    32.59,2,     0.05,     0.01,2,     0.01,     2.24,2,     0.01,    0.449,2,    0.219,2,    0.034,2, -999.000,9,   -999.0,9,   -999.0,9,-999.0000,     -999,9, -999.000,9, -999.000,   -999.0,9,   -999.0, -999.000,9, -999.000, -999.000,9, -999.000
  49NZ20121128,  P14S,    26,  1,     15, X12J15,2,20121209,2031,-63.9947, 171.1228, 2558,   2332.1,2,   0.3825,2,   0.38278,2,  34.6914,2,  34.6916,2,-999.0000,9,   213.21,2,   213.90,2,   99.902,   0.0039,2,   -0.000,2,  -999.00,9,    0.000,2,   120.68,2,     0.17,    32.59,2,     0.05,     0.01,2,     0.01,     2.24,2,     0.01,    0.575,2,    0.287,2,    0.048,2, -999.000,9,   -999.0,9,   -999.0,9,-999.0000,     -999,9, -999.000,9, -999.000,   -999.0,9,   -999.0, -999.000,9, -999.000, -999.000,9, -999.000
  49NZ20121128,  P14S,    26,  1,      1, X12J01,2,20121209,2031,-63.9947, 171.1228, 2558,   2585.0,2,   0.2642,2,   0.26391,2,  34.6854,2,  34.6856,2,-999.0000,9,   217.27,2,   217.76,2,   99.822,   0.0071,2,   -0.000,2,  -999.00,9,    0.000,2,   119.65,2,     0.17,    32.52,2,     0.05,     0.01,2,     0.01,     2.24,2,     0.01,    0.811,2,    0.411,2,    0.074,2, -999.000,9,   -999.0,9,   -999.0,9,-999.0000,     -999,9, -999.000,9, -999.000,   -999.0,9,   -999.0, -999.000,9, -999.000, -999.000,9, -999.000