BOTTLE,20220819CCHSIOAMB
EXPOCODE,SECT_ID,STNNBR,CASTNO,SAMPNO,BTLNBR,BTLNBR_FLAG_W,DATE,TIME,LATITUDE,LONGITUDE,DEPTH,CTDPRS,CTDPRS_FLAG_W,CTDTMP,CTDTMP_FLAG_W,SBE35,SBE35_FLAG_W,CTDSAL,CTDSAL_FLAG_W,SALNTY,SALNTY_FLAG_W,DNSSAL,DNSSAL_FLAG_W,CTDOXY,CTDOXY_FLAG_W,OXYGEN,OXYGEN_FLAG_W,CTDXMISS,CTDXMISSCP,CTDXMISS_FLAG_W,CTDFLUOR,CTDFLUOR_FLAG_W,CHLORA,CHLORA_FLAG_W,PAR,PAR_FLAG_W,SILCAT,SILCAT_FLAG_W,SILUNC,NITRAT,NITRAT_FLAG_W,NRAUNC,NITRIT,NITRIT_FLAG_W,NRIUNC,PHSPHT,PHSPHT_FLAG_W,PHPUNC,CFC-11,CFC-11_FLAG_W,CFC-12,CFC-12_FLAG_W,CFC113,CFC113_FLAG_W,SF6,SF6_FLAG_W,TCARBN,TCARBN_FLAG_W,ALKALI,ALKALI_FLAG_W,PH_TOT,PH_TMP,PH_TOT_FLAG_W,DELC13,DELC13_FLAG_W,C13ERR,DELC14,DELC14_FLAG_W,C14ERR,CS-134,CS-134_FLAG_W,CS134ER,CS-137,CS-137_FLAG_W,CS137ER
,,,,,,,,UTC,DEG,DEG,METERS,DBAR,,ITS-90,,ITS-90,,PSS-78,,PSS-78,,G/KG,,UMOL/KG,,UMOL/KG,,%TRANS,/METER,,MG/M^3,,MG/CUM,,UE/SQM/S,,UMOL/KG,,UMOL/KG,UMOL/KG,,UMOL/KG,UMOL/KG,,UMOL/KG,UMOL/KG,,UMOL/KG,PMOL/KG,,PMOL/KG,,PMOL/KG,,FMOL/KG,,UMOL/KG,,UMOL/KG,,,DEG C,,/MILLE,,/MILLE,/MILLE,,/MILLE,MBQ/KG,,MBQ/KG,MBQ/KG,,MBQ/KG
  49NZ20121128,   999,   C04,  1,     36, X12J36,2,20121219,0340,-60.0093, 139.9825, 4446,      4.8,2,   1.5101,2,   1.51162,2,  33.7412,2,  33.7416,2,-999.0000,9,   349.13,2,   345.69,2,   97.405,   0.1052,2,    0.090,2,  -999.00,9,  241.224,2,    16.52,2,     0.07,    25.21,2,     0.04,     0.25,2,     0.01,     1.66,2,     0.01,    5.989,2,    3.277,2,    0.566,2,    2.951,2,   -999.0,9,   -999.0,9,-999.0000,     -999,9, -999.000,9, -999.000,   -999.0,9,   -999.0, -999.000,9, -999.000, -999.000,9, -999.000
  49NZ20121128,   999,   C04,  1,     35, X12J35,2,20121219,0340,-60.0093, 139.9825, 4446,     24.8,2,   0.7315,2,   0.73296,2,  33.7481,2,  33.7477,2,-999.0000,9,   351.63,2,   350.15,2,   95.422,   0.1874,2,    0.290,2,  -999.00,9,   66.190,2,    16.15,2,     0.07,    25.27,2,     0.04,     0.21,2,     0.01,     1.67,2,     0.01,    6.011,2,    3.335,2,    0.569,2,    2.926,2,   -999.0,9,   -999.0,9,-999.0000,     -999,9, -999.000,9, -999.000,   -999.0,9,   -999.0, -999.000,9, -999.000, -999.000,9, -999.000
  49NZ20121128,   999,   C04,  1,     34, X12J34,2,20121219,0340,-60.0093, 139.9825, 4446,     50.0,2,   0.2738,2,   0.27486,2,  33.7619,2,  33.7615,2,-999.0000,9,   351.98,2,   350.54,2,   95.863,   0.1690,2,    0.540,2,  -999.00,9,   14.252,2,    17.22,2,     0.07,    25.58,2,     0.04,     0.20,2,     0.01,     1.72,2,     0.01,    6.163,6,    3.371,6,    0.580,6,    3.220,6,   -999.0,9,   -999.0,9,-999.0000,     -999,9, -999.000,9, -999.000,   -999.0,9,   -999.0, -999.000,9, -999.000, -999.000,9, -999.000
  49NZ20121128,   999,   C04,  1,     33, X12J33,2,20121219,0340,-60.0093, 139.9825, 4446,     75.4,2,  -0.2351,2,  -0.23462,2,  33.8180,2,  33.8193,2,-999.0000,9,   345.49,2,   345.03,2,   98.035,   0.0794,2,    0.390,2,  -999.00,9,    3.193,2,    23.07,2,     0.08,    27.23,2,     0.04,     0.19,2,     0.01,     1.94,2,     0.01,    6.069,2,    3.292,2,    0.575,2,    2.778,2,   -999.0,9,   -999.0,9,-999.0000,     -999,9, -999.000,9, -999.000,   -999.0,9,   -999.0, -999.000,9, -999.000, -999.000,9, -999.000
  49NZ20121128,   999,   C04,  1,     32, X12J32,2,20121219,0340,-60.0093, 139.9825, 4446,     99.9,2,  -0.6982,2,  -0.69911,2,  33.8503,2,  33.8506,2,-999.0000,9,   342.91,2,   341.78,2,   99.012,   0.0397,2,    0.240,2,  -999.00,9,    1.095,2,    27.57,2,     0.08,    28.26,2,     0.04,     0.20,2,     0.01,     2.01,2,     0.01,    6.007,2,    3.330,2,    0.568,2,    3.147,2,   -999.0,9,   -999.0,9,-999.0000,     -999,9, -999.000,9, -999.000,   -999.0,9,   -999.0, -999.000,9, -999.000, -999.000,9, -999.000
  49NZ20121128,   999,   C04,  1,     31, X12J31,2,20121219,0340,-60.0093, 139.9825, 4446,    124.9,2,  -0.6226,2,  -0.61285,2,  33.8907,2,  33.8999,2,-999.0000,9,   333.44,2,   332.10,2,   99.283,   0.0288,2,    0.200,2,  -999.00,9,    0.445,2,    29.67,2,     0.09,    29.20,2,     0.04,     0.22,2,     0.01,     2.05,2,     0.01,    5.699,2,    3.127,2,    0.536,2,    2.727,2,   -999.0,9,   -999.0,9,-999.0000,     -999,9, -999.000,9, -999.000,   -999.0,9,   -999.0, -999.000,9, -999.000, -999.000,9, -999.000
  49NZ20121128,   999,   C04,  1,     30, X12J30,2,20121219,0340,-60.0093, 139.9825, 4446,    150.5,2,   0.7455,2,   0.74885,2,  34.0823,2,  34.0734,2,-999.0000,9,   277.26,2,   277.38,2,   99.676,   0.0130,2,    0.090,2,  -999.00,9,    0.145,2,    38.63,2,     0.09,    31.74,2,     0.04,     0.06,2,     0.01,     2.18,2,     0.01,    4.398,2,    2.396,2,    0.395,2,    2.015,2,   -999.0,9,   -999.0,9,-999.0000,     -999,9, -999.000,9, -999.000,   -999.0,9,   -999.0, -999.000,9, -999.000, -999.000,9, -999.000
  49NZ20121128,   999,   C04,  1,     29, X12J29,2,20121219,0340,-60.0093, 139.9825, 4446,    199.7,2,   1.9883,2,   1.98793,2,  34.3158,2,  34.3142,2,-999.0000,9,   210.11,2,   209.88,2,   99.506,   0.0198,2,    0.050,2,  -999.00,9,    0.008,2,    54.75,2,     0.11,    34.62,2,     0.05,     0.03,2,     0.01,     2.37,2,     0.01,    2.537,2,    1.343,2,    0.196,2,    0.833,2,   -999.0,9,   -999.0,9,-999.0000,     -999,9, -999.000,9, -999.000,   -999.0,9,   -999.0, -999.000,9, -999.000, -999.000,9, -999.000
  49NZ20121128,   999,   C04,  1,     28, X12J28,2,20121219,0340,-60.0093, 139.9825, 4446,    249.7,2,   2.1440,2,   2.14376,2,  34.3999,2,  34.4018,2,-999.0000,9,   191.88,2,   191.71,2,   99.718,   0.0113,2,    0.010,2,  -999.00,9,    0.000,2,    61.60,2,     0.11,    35.12,2,     0.05,     0.02,2,     0.01,     2.40,2,     0.01,    1.853,2,    0.966,2,    0.140,2,    0.536,2,   -999.0,9,   -999.0,9,-999.0000,     -999,9, -999.000,9, -999.000,   -999.0,9,   -999.0, -999.000,9, -999.000, -999.000,9, -999.000
  49NZ20121128,   999,   C04,  1,     27, X12J27,2,20121219,0340,-60.0093, 139.9825, 4446,    301.3,2,   2.2377,2,   2.23730,2,  34.4652,2,  34.4629,2,-999.0000,9,   181.35,2,   181.06,2,   99.722,   0.0111,2,    0.010,2,  -999.00,9,    0.000,2,    65.83,2,     0.12,    35.17,2,     0.05,     0.01,2,     0.01,     2.40,2,     0.01,    1.385,2,    0.716,2,    0.102,2,    0.445,2,   -999.0,9,   -999.0,9,-999.0000,     -999,9, -999.000,9, -999.000,   -999.0,9,   -999.0, -999.000,9, -999.000, -999.000,9, -999.000
  49NZ20121128,   999,   C04,  1,     26, X12J26,2,20121219,0340,-60.0093, 139.9825, 4446,    400.1,2,   2.2792,2,   2.27934,2,  34.5489,2,  34.5481,2,-999.0000,9,   173.73,2,   173.14,2,   99.825,   0.0070,2,    0.010,2,  -999.00,9,    0.000,2,    70.97,2,     0.12,    34.71,2,     0.05,     0.01,2,     0.01,     2.38,2,     0.01,    0.918,2,    0.461,2,    0.063,2,    0.326,2,   -999.0,9,   -999.0,9,-999.0000,     -999,9, -999.000,9, -999.000,   -999.0,9,   -999.0, -999.000,9, -999.000, -999.000,9, -999.000
  49NZ20121128,   999,   C04,  1,     25, X12J25,2,20121219,0340,-60.0093, 139.9825, 4446,    502.3,2,   2.2842,2,   2.28417,2,  34.6029,2,  34.6025,2,-999.0000,9,   172.98,2,   172.76,2,   99.880,   0.0048,2,    0.010,2,  -999.00,9,    0.000,2,    73.19,2,     0.12,    33.98,2,     0.05,     0.01,2,     0.01,     2.32,2,     0.01,    0.641,2,    0.321,2,    0.044,2,    0.145,2,   -999.0,9,   -999.0,9,-999.0000,     -999,9, -999.000,9, -999.000,   -999.0,9,   -999.0, -999.000,9, -999.000, -999.000,9, -999.000
  49NZ20121128,   999,   C04,  1,     24, X12J24,2,20121219,0340,-60.0093, 139.9825, 4446,    599.2,2,   2.2528,2,   2.25230,2,  34.6421,2,  34.6415,2,-999.0000,9,   174.90,2,   174.71,2,   99.894,   0.0042,2,    0.010,2,  -999.00,9,    0.000,2,    74.87,2,     0.13,    33.29,2,     0.05,     0.01,2,     0.01,     2.28,2,     0.01,    0.483,6,    0.245,6,    0.032,6,    0.077,6,   -999.0,9,   -999.0,9,-999.0000,     -999,9, -999.000,9, -999.000,   -999.0,9,   -999.0, -999.000,9, -999.000, -999.000,9, -999.000
  49NZ20121128,   999,   C04,  1,     23, X12J23,2,20121219,0340,-60.0093, 139.9825, 4446,    700.5,2,   2.2114,2,   2.21034,2,  34.6764,2,  34.6762,2,-999.0000,9,   178.15,2,   178.01,2,   99.907,   0.0037,2,    0.010,2,  -999.00,9,    0.000,2,    76.23,2,     0.13,    32.57,2,     0.05,     0.01,2,     0.01,     2.23,2,     0.01,    0.367,2,    0.177,2,    0.023,2,    0.000,2,   -999.0,9,   -999.0,9,-999.0000,     -999,9, -999.000,9, -999.000,   -999.0,9,   -999.0, -999.000,9, -999.000, -999.000,9, -999.000
  49NZ20121128,   999,   C04,  1,     22, X12J22,2,20121219,0340,-60.0093, 139.9825, 4446,    800.8,2,   2.1483,2,   2.14729,2,  34.6947,2,  34.6943,2,-999.0000,9,   180.69,2,   180.46,2,   99.957,   0.0017,2,    0.000,2,  -999.00,9,    0.000,2,    77.79,2,     0.13,    32.18,2,     0.05,     0.01,2,     0.01,     2.20,2,     0.01,    0.323,2,    0.160,2,    0.022,2,    0.000,2,   -999.0,9,   -999.0,9,-999.0000,     -999,9, -999.000,9, -999.000,   -999.0,9,   -999.0, -999.000,9, -999.000, -999.000,9, -999.000
  49NZ20121128,   999,   C04,  1,     21, X12J21,2,20121219,0340,-60.0093, 139.9825, 4446,    902.4,2,   2.0871,2,   2.08705,2,  34.7134,2,  34.7127,2,-999.0000,9,   183.91,2,   183.88,2,   99.959,   0.0016,2,    0.000,2,  -999.00,9,    0.000,2,    79.31,2,     0.13,    31.71,2,     0.04,     0.01,2,     0.01,     2.17,2,     0.01,    0.271,2,    0.132,2,    0.018,2,    0.000,2,   -999.0,9,   -999.0,9,-999.0000,     -999,9, -999.000,9, -999.000,   -999.0,9,   -999.0, -999.000,9, -999.000, -999.000,9, -999.000
  49NZ20121128,   999,   C04,  1,     20, X12J20,2,20121219,0340,-60.0093, 139.9825, 4446,    999.4,2,   2.0262,2,   2.02656,2,  34.7250,2,  34.7246,2,-999.0000,9,   186.78,2,   186.79,2,   99.926,   0.0030,2,    0.000,2,  -999.00,9,    0.000,2,    80.53,2,     0.13,    31.38,2,     0.04,     0.01,2,     0.01,     2.15,2,     0.01,    0.244,2,    0.117,2,    0.015,2,    0.000,2,   -999.0,9,   -999.0,9,-999.0000,     -999,9, -999.000,9, -999.000,   -999.0,9,   -999.0, -999.000,9, -999.000, -999.000,9, -999.000
  49NZ20121128,   999,   C04,  1,     19, X12J19,2,20121219,0340,-60.0093, 139.9825, 4446,   1249.3,2,   1.8658,2,   1.86575,2,  34.7451,2,  34.7446,2,-999.0000,9,   193.70,2,   193.68,2,   99.991,   0.0004,2,    0.010,2,  -999.00,9,    0.000,2,    84.46,2,     0.13,    30.66,2,     0.04,     0.01,2,     0.01,     2.10,2,     0.01,    0.162,6,    0.077,6,    0.010,6,    0.000,6,   -999.0,9,   -999.0,9,-999.0000,     -999,9, -999.000,9, -999.000,   -999.0,9,   -999.0, -999.000,9, -999.000, -999.000,9, -999.000
  49NZ20121128,   999,   C04,  1,     18, X12J18,2,20121219,0340,-60.0093, 139.9825, 4446,   1499.5,2,   1.6536,2,   1.65329,2,  34.7450,2,  34.7444,2,-999.0000,9,   197.52,2,   197.53,2,   99.978,   0.0009,2,    0.000,2,  -999.00,9,    0.000,2,    90.33,2,     0.14,    30.72,2,     0.04,     0.01,2,     0.01,     2.11,2,     0.01,    0.152,2,    0.071,2,    0.009,2,    0.000,2,   -999.0,9,   -999.0,9,-999.0000,     -999,9, -999.000,9, -999.000,   -999.0,9,   -999.0, -999.000,9, -999.000, -999.000,9, -999.000
  49NZ20121128,   999,   C04,  1,     17, X12J17,2,20121219,0340,-60.0093, 139.9825, 4446,   1749.7,2,   1.4266,2,   1.42669,2,  34.7383,2,  34.7379,2,-999.0000,9,   200.58,2,   200.59,2,  100.010,  -0.0004,2,   -0.000,2,  -999.00,9,    0.000,2,    96.75,2,     0.15,    30.99,2,     0.04,     0.01,2,     0.01,     2.13,2,     0.01,    0.151,2,    0.072,2,    0.009,2,    0.000,2,   -999.0,9,   -999.0,9,-999.0000,     -999,9, -999.000,9, -999.000,   -999.0,9,   -999.0, -999.000,9, -999.000, -999.000,9, -999.000
  49NZ20121128,   999,   C04,  1,     16, X12J16,2,20121219,0340,-60.0093, 139.9825, 4446,   2003.1,2,   1.2244,2,   1.22451,2,  34.7295,2,  34.7291,2,-999.0000,9,   203.10,2,   203.05,2,  100.010,  -0.0004,2,    0.010,2,  -999.00,9,    0.000,2,   102.61,2,     0.15,    31.31,2,     0.04,     0.01,2,     0.01,     2.16,2,     0.01,    0.157,2,    0.076,2,    0.008,2,    0.000,2,   -999.0,9,   -999.0,9,-999.0000,     -999,9, -999.000,9, -999.000,   -999.0,9,   -999.0, -999.000,9, -999.000, -999.000,9, -999.000
  49NZ20121128,   999,   C04,  1,     15, X12J15,2,20121219,0340,-60.0093, 139.9825, 4446,   2249.9,2,   1.0191,2,   1.01946,2,  34.7190,2,  34.7187,2,-999.0000,9,   205.58,2,   205.48,2,  100.004,  -0.0002,2,   -0.000,2,  -999.00,9,    0.000,2,   108.26,2,     0.16,    31.65,2,     0.04,     0.01,2,     0.01,     2.18,2,     0.01,    0.192,2,    0.091,2,    0.009,2,    0.000,2,   -999.0,9,   -999.0,9,-999.0000,     -999,9, -999.000,9, -999.000,   -999.0,9,   -999.0, -999.000,9, -999.000, -999.000,9, -999.000
  49NZ20121128,   999,   C04,  1,     14, X12J14,2,20121219,0340,-60.0093, 139.9825, 4446,   2500.0,2,   0.8385,2,   0.83877,2,  34.7095,2,  34.7090,2,-999.0000,9,   208.24,2,   208.04,2,  100.010,  -0.0004,2,   -0.000,2,  -999.00,9,    0.000,2,   113.38,2,     0.16,    31.97,2,     0.04,     0.01,2,     0.01,     2.20,2,     0.01,    0.228,2,    0.112,2,    0.014,2,    0.000,2,   -999.0,9,   -999.0,9,-999.0000,     -999,9, -999.000,9, -999.000,   -999.0,9,   -999.0, -999.000,9, -999.000, -999.000,9, -999.000
  49NZ20121128,   999,   C04,  1,     13, X12J13,2,20121219,0340,-60.0093, 139.9825, 4446,   2749.8,2,   0.6546,2,   0.65499,2,  34.6997,2,  34.6995,2,-999.0000,9,   211.43,2,   211.24,2,  100.014,  -0.0006,2,   -0.000,2,  -999.00,9,    0.000,2,   117.85,2,     0.16,    32.24,2,     0.05,     0.01,2,     0.01,     2.22,2,     0.01,    0.287,2,    0.141,2,    0.014,2,    0.000,2,   -999.0,9,   -999.0,9,-999.0000,     -999,9, -999.000,9, -999.000,   -999.0,9,   -999.0, -999.000,9, -999.000, -999.000,9, -999.000
  49NZ20121128,   999,   C04,  1,     12, X12J12,2,20121219,0340,-60.0093, 139.9825, 4446,   3002.3,2,   0.4983,2,   0.49850,2,  34.6919,2,  34.6914,2,-999.0000,9,   214.96,2,   214.74,2,  100.022,  -0.0009,2,   -0.000,2,  -999.00,9,    0.000,2,   121.41,2,     0.17,    32.43,2,     0.05,     0.01,2,     0.01,     2.23,2,     0.01,    0.369,2,    0.178,2,    0.018,2,    0.000,2,   -999.0,9,   -999.0,9,-999.0000,     -999,9, -999.000,9, -999.000,   -999.0,9,   -999.0, -999.000,9, -999.000, -999.000,9, -999.000
  49NZ20121128,   999,   C04,  1,     11, X12J11,2,20121219,0340,-60.0093, 139.9825, 4446,   3250.7,2,   0.3764,2,   0.37660,2,  34.6862,2,  34.6856,2,-999.0000,9,   218.26,2,   218.15,2,  100.018,  -0.0007,2,   -0.000,2,  -999.00,9,    0.000,2,   124.10,2,     0.17,    32.51,2,     0.05,     0.01,2,     0.01,     2.24,2,     0.01,    0.476,2,    0.237,2,    0.023,2,    0.000,2,   -999.0,9,   -999.0,9,-999.0000,     -999,9, -999.000,9, -999.000,   -999.0,9,   -999.0, -999.000,9, -999.000, -999.000,9, -999.000
  49NZ20121128,   999,   C04,  1,     10, X12J10,2,20121219,0340,-60.0093, 139.9825, 4446,   3499.2,2,   0.2793,2,   0.27960,2,  34.6812,2,  34.6808,2,-999.0000,9,   221.28,2,   221.12,2,   99.999,   0.0000,2,   -0.000,2,  -999.00,9,    0.000,2,   125.50,2,     0.17,    32.54,2,     0.05,     0.01,2,     0.01,     2.25,2,     0.01,    0.626,2,    0.300,2,    0.033,2,    0.000,2,   -999.0,9,   -999.0,9,-999.0000,     -999,9, -999.000,9, -999.000,   -999.0,9,   -999.0, -999.000,9, -999.000, -999.000,9, -999.000
  49NZ20121128,   999,   C04,  1,      9, X12J09,2,20121219,0340,-60.0093, 139.9825, 4446,   3750.4,2,   0.2065,2,   0.20655,2,  34.6778,2,  34.6773,2,-999.0000,9,   223.93,2,   223.75,2,   99.989,   0.0004,2,   -0.000,2,  -999.00,9,    0.000,2,   127.34,2,     0.17,    32.54,2,     0.05,     0.01,2,     0.01,     2.24,2,     0.01,    0.781,2,    0.359,2,    0.039,2,    0.000,2,   -999.0,9,   -999.0,9,-999.0000,     -999,9, -999.000,9, -999.000,   -999.0,9,   -999.0, -999.000,9, -999.000, -999.000,9, -999.000
  49NZ20121128,   999,   C04,  1,      8, X12J08,2,20121219,0340,-60.0093, 139.9825, 4446,   4000.9,2,   0.1223,2,   0.12236,2,  34.6732,2,  34.6730,2,-999.0000,9,   227.41,2,   227.22,2,   99.976,   0.0010,2,   -0.010,2,  -999.00,9,    0.000,2,   127.39,2,     0.17,    32.49,2,     0.05,     0.01,2,     0.01,     2.24,2,     0.01,    0.970,6,    0.467,6,    0.057,6,    0.149,6,   -999.0,9,   -999.0,9,-999.0000,     -999,9, -999.000,9, -999.000,   -999.0,9,   -999.0, -999.000,9, -999.000, -999.000,9, -999.000
  49NZ20121128,   999,   C04,  1,      7, X12J07,2,20121219,0340,-60.0093, 139.9825, 4446,   4249.4,2,   0.0463,2,   0.04626,2,  34.6680,2,  34.6676,2,-999.0000,9,   230.80,2,   230.87,2,   99.978,   0.0009,2,   -0.010,2,  -999.00,9,    0.000,2,   127.01,2,     0.17,    32.46,2,     0.05,     0.01,2,     0.01,     2.24,2,     0.01,    1.240,2,    0.624,2,    0.083,2,    0.267,2,   -999.0,9,   -999.0,9,-999.0000,     -999,9, -999.000,9, -999.000,   -999.0,9,   -999.0, -999.000,9, -999.000, -999.000,9, -999.000
  49NZ20121128,   999,   C04,  1,      1, X12J01,2,20121219,0340,-60.0093, 139.9825, 4446,   4525.2,2,  -0.0911,2,  -0.09100,2,  34.6538,2,  34.6538,2,-999.0000,9,   236.33,2,   236.25,2,   99.497,   0.0202,2,   -0.010,2,  -999.00,9,    0.000,2,   130.24,2,     0.18,    32.35,2,     0.05,     0.01,2,     0.01,     2.23,2,     0.01,    1.892,2,    0.969,2,    0.149,2,    0.418,2,   -999.0,9,   -999.0,9,-999.0000,     -999,9, -999.000,9, -999.000,   -999.0,9,   -999.0, -999.000,9, -999.000, -999.000,9, -999.000