BOTTLE,20220819CCHSIOAMB
EXPOCODE,SECT_ID,STNNBR,CASTNO,SAMPNO,BTLNBR,BTLNBR_FLAG_W,DATE,TIME,LATITUDE,LONGITUDE,DEPTH,CTDPRS,CTDPRS_FLAG_W,CTDTMP,CTDTMP_FLAG_W,SBE35,SBE35_FLAG_W,CTDSAL,CTDSAL_FLAG_W,SALNTY,SALNTY_FLAG_W,DNSSAL,DNSSAL_FLAG_W,CTDOXY,CTDOXY_FLAG_W,OXYGEN,OXYGEN_FLAG_W,CTDXMISS,CTDXMISSCP,CTDXMISS_FLAG_W,CTDFLUOR,CTDFLUOR_FLAG_W,CHLORA,CHLORA_FLAG_W,PAR,PAR_FLAG_W,SILCAT,SILCAT_FLAG_W,SILUNC,NITRAT,NITRAT_FLAG_W,NRAUNC,NITRIT,NITRIT_FLAG_W,NRIUNC,PHSPHT,PHSPHT_FLAG_W,PHPUNC,CFC-11,CFC-11_FLAG_W,CFC-12,CFC-12_FLAG_W,CFC113,CFC113_FLAG_W,SF6,SF6_FLAG_W,TCARBN,TCARBN_FLAG_W,ALKALI,ALKALI_FLAG_W,PH_TOT,PH_TMP,PH_TOT_FLAG_W,DELC13,DELC13_FLAG_W,C13ERR,DELC14,DELC14_FLAG_W,C14ERR,CS-134,CS-134_FLAG_W,CS134ER,CS-137,CS-137_FLAG_W,CS137ER
,,,,,,,,UTC,DEG,DEG,METERS,DBAR,,ITS-90,,ITS-90,,PSS-78,,PSS-78,,G/KG,,UMOL/KG,,UMOL/KG,,%TRANS,/METER,,MG/M^3,,MG/CUM,,UE/SQM/S,,UMOL/KG,,UMOL/KG,UMOL/KG,,UMOL/KG,UMOL/KG,,UMOL/KG,UMOL/KG,,UMOL/KG,PMOL/KG,,PMOL/KG,,PMOL/KG,,FMOL/KG,,UMOL/KG,,UMOL/KG,,,DEG C,,/MILLE,,/MILLE,/MILLE,,/MILLE,MBQ/KG,,MBQ/KG,MBQ/KG,,MBQ/KG
  49NZ20121128,  P14S,    17,  1,     36, X12J36,2,20121207,1542,-59.9650, 173.9680, 4443,      5.4,2,   4.1507,2,   4.15057,2,  33.9596,2,  33.9597,2,-999.0000,9,   319.38,2,   318.65,2,   96.576,   0.1394,2,    0.380,2,  -999.00,9,   74.948,2,     6.30,2,     0.06,    22.99,2,     0.03,     0.19,2,     0.01,     1.57,2,     0.01,    4.807,2,    2.688,2,    0.444,2,    2.476,2,   2126.3,2,   2275.9,2,   7.7505,       25,6, -999.000,9, -999.000,   -999.0,9,   -999.0, -999.000,9, -999.000, -999.000,9, -999.000
  49NZ20121128,  P14S,    17,  1,     35, X12J35,2,20121207,1542,-59.9650, 173.9680, 4443,     25.6,2,   4.1414,2,   4.14028,2,  33.9594,2,  33.9595,2,-999.0000,9,   319.23,2,   318.83,2,   96.624,   0.1374,2,    0.470,2,  -999.00,9,   19.399,2,     6.32,2,     0.06,    23.03,2,     0.04,     0.19,2,     0.01,     1.57,2,     0.01,    4.793,2,    2.704,2,    0.439,2,    2.471,2,   2125.9,2,   2276.4,2,   7.7493,       25,2, -999.000,9, -999.000,   -999.0,9,   -999.0, -999.000,9, -999.000, -999.000,9, -999.000
  49NZ20121128,  P14S,    17,  1,     34, X12J34,2,20121207,1542,-59.9650, 173.9680, 4443,     50.0,2,   3.9258,2,   3.92504,2,  33.9673,2,  33.9679,2,-999.0000,9,   317.23,2,   316.73,2,   95.974,   0.1644,2,    0.740,2,  -999.00,9,    3.963,2,     6.80,2,     0.06,    23.24,2,     0.04,     0.18,2,     0.01,     1.60,2,     0.01,    4.798,6,    2.660,6,    0.440,6,    2.510,6,   2129.2,2,   2276.0,2,   7.7437,       25,2, -999.000,9, -999.000,   -999.0,9,   -999.0, -999.000,9, -999.000, -999.000,9, -999.000
  49NZ20121128,  P14S,    17,  1,     33, X12J33,2,20121207,1542,-59.9650, 173.9680, 4443,     75.2,2,   3.9185,2,   3.91744,2,  33.9938,2,  33.9944,2,-999.0000,9,   307.62,2,   307.22,2,   97.418,   0.1046,2,    0.500,2,  -999.00,9,    0.789,2,     8.71,2,     0.07,    23.84,2,     0.04,     0.16,2,     0.01,     1.67,2,     0.01,    4.693,2,    2.595,2,    0.422,2,    2.411,2,   2134.8,6,   2276.9,2,   7.7285,       25,2, -999.000,9, -999.000,   -999.0,9,   -999.0, -999.000,9, -999.000, -999.000,9, -999.000
  49NZ20121128,  P14S,    17,  1,     32, X12J32,2,20121207,1542,-59.9650, 173.9680, 4443,    100.6,2,   3.6428,2,   3.64128,2,  33.9839,2,  33.9813,2,-999.0000,9,   308.40,2,   309.53,2,   98.930,   0.0430,2,    0.260,2,  -999.00,9,    0.267,2,     9.61,2,     0.07,    24.24,2,     0.04,     0.17,2,     0.01,     1.71,2,     0.01,    4.652,2,    2.561,2,    0.420,2,    2.385,2,   2137.3,2,   2274.1,6,   7.7233,       25,2, -999.000,9, -999.000,   -999.0,9,   -999.0, -999.000,9, -999.000, -999.000,9, -999.000
  49NZ20121128,  P14S,    17,  1,     31, X12J31,2,20121207,1542,-59.9650, 173.9680, 4443,    125.1,2,   3.6386,2,   3.63763,2,  33.9960,2,  33.9957,2,-999.0000,9,   301.83,2,   301.71,2,   99.452,   0.0220,2,    0.110,2,  -999.00,9,    0.106,2,    11.52,2,     0.07,    25.04,2,     0.04,     0.14,2,     0.01,     1.76,2,     0.01, -999.000,5,    2.613,2, -999.000,5,    2.296,2,   2142.6,2,   2276.5,2,   7.7098,       25,2, -999.000,9, -999.000,   -999.0,9,   -999.0, -999.000,9, -999.000, -999.000,9, -999.000
  49NZ20121128,  P14S,    17,  1,     30, X12J30,2,20121207,1542,-59.9650, 173.9680, 4443,    150.8,2,   3.5932,2,   3.59261,2,  34.0110,2,  34.0107,2,-999.0000,9,   298.29,2,   297.68,2,   99.440,   0.0225,2,    0.080,2,  -999.00,9,    0.012,2,    12.08,2,     0.07,    25.32,2,     0.04,     0.16,2,     0.01,     1.77,2,     0.01,    4.701,2,    2.581,2,    0.414,2,    2.267,2,   2143.8,2,   2276.5,2,   7.7065,       25,2, -999.000,9, -999.000,   -999.0,9,   -999.0, -999.000,9, -999.000, -999.000,9, -999.000
  49NZ20121128,  P14S,    17,  1,     29, X12J29,2,20121207,1542,-59.9650, 173.9680, 4443,    203.7,2,   3.4532,2,   3.44339,2,  34.0265,2,  34.0294,2,-999.0000,9,   287.62,2,   287.21,2,   99.695,   0.0122,2,    0.040,2,  -999.00,9,    0.000,2,    14.63,2,     0.07,    26.64,2,     0.04,     0.10,2,     0.01,     1.84,2,     0.01,    4.581,2,    2.509,2,    0.395,2,    2.159,2,   2151.2,2,   2276.4,2,   7.6882,       25,2, -999.000,9, -999.000,   -999.0,9,   -999.0, -999.000,9, -999.000, -999.000,9, -999.000
  49NZ20121128,  P14S,    17,  1,     28, X12J28,2,20121207,1542,-59.9650, 173.9680, 4443,    250.5,2,   3.3044,2,   3.30363,2,  34.0424,2,  34.0426,2,-999.0000,9,   280.66,2,   280.13,2,   99.632,   0.0147,2,    0.030,2,  -999.00,9,    0.000,2,    17.29,2,     0.07,    27.71,2,     0.04,     0.02,2,     0.01,     1.91,2,     0.01,    4.479,2,    2.430,2,    0.378,2,    2.019,2,   2161.2,2,   2277.1,2,   7.6752,       25,2, -999.000,9, -999.000,   -999.0,9,   -999.0, -999.000,9, -999.000, -999.000,9, -999.000
  49NZ20121128,  P14S,    17,  1,     27, X12J27,2,20121207,1542,-59.9650, 173.9680, 4443,    332.5,2,   3.5973,2,   3.60000,2,  34.1619,2,  34.1613,2,-999.0000,9,   247.49,2,   248.09,2,   99.793,   0.0083,2,    0.000,2,  -999.00,9,    0.000,2,    24.22,2,     0.08,    29.64,2,     0.04,     0.01,2,     0.01,     2.03,2,     0.01,    3.767,2,    2.015,2,    0.303,2,    1.370,2,   2178.4,2,   2284.5,2,   7.6410,       25,2, -999.000,9, -999.000,   -999.0,9,   -999.0, -999.000,9, -999.000, -999.000,9, -999.000
  49NZ20121128,  P14S,    17,  1,     26, X12J26,2,20121207,1542,-59.9650, 173.9680, 4443,    430.7,2,   3.1834,2,   3.18297,2,  34.2227,2,  34.2229,2,-999.0000,9,   230.64,2,   230.91,2,   99.828,   0.0069,2,    0.000,2,  -999.00,9,    0.000,2,    33.42,2,     0.09,    31.56,2,     0.04,     0.01,2,     0.01,     2.15,2,     0.01,    3.232,2,    1.671,2,    0.248,2,    1.091,2,   2194.9,2,   2293.0,2,   7.6141,       25,2, -999.000,9, -999.000,   -999.0,9,   -999.0, -999.000,9, -999.000, -999.000,9, -999.000
  49NZ20121128,  P14S,    17,  1,     25, X12J25,2,20121207,1542,-59.9650, 173.9680, 4443,    531.8,2,   2.7538,2,   2.75365,2,  34.2696,2,  34.2684,2,-999.0000,9,   218.70,2,   219.11,2,   99.791,   0.0084,2,   -0.000,2,  -999.00,9,    0.000,2,    42.11,2,     0.10,    32.86,2,     0.05,     0.01,2,     0.01,     2.25,2,     0.01,    2.766,2,    1.437,2,    0.215,2,    0.977,2,   2211.0,2,   2300.2,2,   7.5922,       25,2, -999.000,9, -999.000,   -999.0,9,   -999.0, -999.000,9, -999.000, -999.000,9, -999.000
  49NZ20121128,  P14S,    17,  1,     24, X12J24,2,20121207,1542,-59.9650, 173.9680, 4443,    630.2,2,   2.8003,2,   2.79938,2,  34.3607,2,  34.3609,2,-999.0000,9,   197.83,2,   197.79,2,   99.874,   0.0050,2,    0.000,2,  -999.00,9,    0.000,2,    50.65,2,     0.10,    33.74,2,     0.05,     0.00,2,     0.01,     2.31,2,     0.01,    1.920,6,    0.979,6,    0.128,6,    0.582,6,   2222.2,2,   2310.0,2,   7.5768,       25,2, -999.000,9, -999.000,   -999.0,9,   -999.0, -999.000,9, -999.000, -999.000,9, -999.000
  49NZ20121128,  P14S,    17,  1,     23, X12J23,2,20121207,1542,-59.9650, 173.9680, 4443,    730.7,2,   2.6611,2,   2.66121,2,  34.4366,2,  34.4363,2,-999.0000,9,   184.54,2,   184.42,2,   99.849,   0.0060,2,    0.000,2,  -999.00,9,    0.000,2,    58.96,2,     0.11,    34.39,2,     0.05,     0.00,2,     0.01,     2.36,2,     0.01,    1.341,2,    0.687,2,    0.088,2,    0.394,2,   2238.0,6,   2318.1,2,   7.5637,       25,2, -999.000,9, -999.000,   -999.0,9,   -999.0, -999.000,9, -999.000, -999.000,9, -999.000
  49NZ20121128,  P14S,    17,  1,     22, X12J22,2,20121207,1542,-59.9650, 173.9680, 4443,    830.0,2,   2.6743,2,   2.67445,2,  34.4909,2,  34.4912,2,-999.0000,9,   178.48,2,   178.36,2,   99.881,   0.0048,2,    0.000,2,  -999.00,9,    0.000,2,    63.05,2,     0.12,    34.27,2,     0.05,     0.00,2,     0.01,     2.35,2,     0.01,    1.009,2,    0.490,2,    0.057,2,    0.266,2,   2242.7,2,   2323.8,6,   7.5656,       25,2, -999.000,9, -999.000,   -999.0,9,   -999.0, -999.000,9, -999.000, -999.000,9, -999.000
  49NZ20121128,  P14S,    17,  1,     21, X12J21,2,20121207,1542,-59.9650, 173.9680, 4443,    932.2,2,   2.5726,2,   2.57197,2,  34.5326,2,  34.5322,2,-999.0000,9,   175.37,2,   175.42,2,   99.897,   0.0041,2,    0.000,2,  -999.00,9,    0.000,2,    66.74,2,     0.12,    34.22,2,     0.05,     0.00,2,     0.01,     2.35,2,     0.01,    0.796,2,    0.392,2,    0.045,2,    0.196,2,   2246.3,2,   2327.9,2,   7.5642,       25,6, -999.000,9, -999.000,   -999.0,9,   -999.0, -999.000,9, -999.000, -999.000,9, -999.000
  49NZ20121128,  P14S,    17,  1,     20, X12J20,2,20121207,1542,-59.9650, 173.9680, 4443,   1080.5,2,   2.4423,2,   2.44247,2,  34.5908,2,  34.5909,2,-999.0000,9,   173.20,2,   173.16,2,   99.910,   0.0036,2,    0.000,2,  -999.00,9,    0.000,2,    71.35,2,     0.12,    33.89,2,     0.05,     0.00,2,     0.01,     2.33,2,     0.01,    0.575,2,    0.276,2,    0.029,2,    0.138,2,   2250.9,2,   2333.3,2,   7.5646,       25,2, -999.000,9, -999.000,   -999.0,9,   -999.0, -999.000,9, -999.000, -999.000,9, -999.000
  49NZ20121128,  P14S,    17,  1,     19, X12J19,2,20121207,1542,-59.9650, 173.9680, 4443,   1330.5,2,   2.2828,2,   2.28290,2,  34.6741,2,  34.6745,2,-999.0000,9,   177.67,2,   177.75,2,   99.935,   0.0026,2,    0.000,2,  -999.00,9,    0.000,2,    76.72,2,     0.13,    32.59,2,     0.05,     0.00,2,     0.01,     2.24,2,     0.01,    0.320,6,    0.146,6,    0.016,6,    0.091,6,   2251.0,2,   2339.9,2,   7.5825,       25,2, -999.000,9, -999.000,   -999.0,9,   -999.0, -999.000,9, -999.000, -999.000,9, -999.000
  49NZ20121128,  P14S,    17,  1,     18, X12J18,2,20121207,1542,-59.9650, 173.9680, 4443,   1580.5,2,   2.1375,2,   2.13766,2,  34.7144,2,  34.7144,2,-999.0000,9,   183.78,2,   183.81,2,   99.939,   0.0024,2,    0.000,2,  -999.00,9,    0.000,2,    80.53,2,     0.13,    31.69,2,     0.04,     0.00,2,     0.01,     2.17,2,     0.01,    0.222,2,    0.096,2,    0.011,2,    0.043,2,   2248.0,3,   2344.1,2,   7.5980,       25,2, -999.000,9, -999.000,   -999.0,9,   -999.0, -999.000,9, -999.000, -999.000,9, -999.000
  49NZ20121128,  P14S,    17,  1,     17, X12J17,2,20121207,1542,-59.9650, 173.9680, 4443,   1831.8,2,   1.9842,2,   1.98414,2,  34.7325,2,  34.7323,2,-999.0000,9,   188.73,2,   188.94,2,   99.973,   0.0011,2,    0.000,2,  -999.00,9,    0.000,2,    84.58,2,     0.13,    31.25,2,     0.04,     0.00,2,     0.01,     2.15,2,     0.01,    0.182,2,    0.077,2,    0.008,2,    0.075,2,   2249.0,2,   2348.6,2,   7.6066,       25,6, -999.000,9, -999.000,   -999.0,9,   -999.0, -999.000,9, -999.000, -999.000,9, -999.000
  49NZ20121128,  P14S,    17,  1,     16, X12J16,2,20121207,1542,-59.9650, 173.9680, 4443,   2083.1,2,   1.7915,2,   1.79153,2,  34.7385,2,  34.7385,2,-999.0000,9,   193.18,2,   193.36,2,   99.937,   0.0025,2,    0.000,2,  -999.00,9,    0.000,2,    89.86,2,     0.14,    31.09,2,     0.04,     0.00,2,     0.01,     2.14,2,     0.01,    0.153,2,    0.065,2,    0.008,2,    0.000,2,   2250.6,2,   2351.9,2,   7.6115,       25,2, -999.000,9, -999.000,   -999.0,9,   -999.0, -999.000,9, -999.000, -999.000,9, -999.000
  49NZ20121128,  P14S,    17,  1,     15, X12J15,2,20121207,1542,-59.9650, 173.9680, 4443,   2330.7,2,   1.5746,2,   1.57467,2,  34.7364,2,  34.7364,2,-999.0000,9,   196.85,2,   196.89,2,   99.968,   0.0013,2,    0.000,2,  -999.00,9,    0.000,2,    95.82,2,     0.14,    31.18,2,     0.04,     0.00,2,     0.01,     2.14,2,     0.01,    0.151,2,    0.063,2,    0.007,2,    0.055,2,   2249.4,2,   2354.9,2,   7.6138,       25,2, -999.000,9, -999.000,   -999.0,9,   -999.0, -999.000,9, -999.000, -999.000,9, -999.000
  49NZ20121128,  P14S,    17,  1,     14, X12J14,2,20121207,1542,-59.9650, 173.9680, 4443,   2581.2,2,   1.4063,2,   1.40621,2,  34.7310,2,  34.7311,2,-999.0000,9,   199.29,2,   199.31,2,   99.977,   0.0009,2,   -0.000,2,  -999.00,9,    0.000,2,   100.88,2,     0.15,    31.40,2,     0.04,     0.00,2,     0.01,     2.16,2,     0.01,    0.150,2,    0.064,2,    0.007,2,    0.000,2,   2254.7,6,   2357.3,2,   7.6148,       25,2, -999.000,9, -999.000,   -999.0,9,   -999.0, -999.000,9, -999.000, -999.000,9, -999.000
  49NZ20121128,  P14S,    17,  1,     13, X12J13,2,20121207,1542,-59.9650, 173.9680, 4443,   2830.8,2,   1.2406,2,   1.24059,2,  34.7245,2,  34.7244,2,-999.0000,9,   201.65,2,   201.64,2,   99.964,   0.0014,2,   -0.000,2,  -999.00,9,    0.000,2,   106.11,2,     0.15,    31.61,2,     0.04,     0.00,2,     0.01,     2.18,2,     0.01,    0.155,2,    0.069,2,    0.006,2,    0.000,2,   2255.5,2,   2358.3,6,   7.6136,       25,2, -999.000,9, -999.000,   -999.0,9,   -999.0, -999.000,9, -999.000, -999.000,9, -999.000
  49NZ20121128,  P14S,    17,  1,     12, X12J12,2,20121207,1542,-59.9650, 173.9680, 4443,   3080.0,2,   1.0991,2,   1.09921,2,  34.7181,2,  34.7182,2,-999.0000,9,   203.98,2,   204.05,2,   99.945,   0.0022,2,   -0.000,2,  -999.00,9,    0.000,2,   110.26,2,     0.16,    31.82,2,     0.04,     0.00,2,     0.01,     2.19,2,     0.01,    0.182,2,    0.078,2,    0.006,2,    0.032,2,   2252.7,3,   2359.8,2,   7.6126,       25,6, -999.000,9, -999.000,   -999.0,9,   -999.0, -999.000,9, -999.000, -999.000,9, -999.000
  49NZ20121128,  P14S,    17,  1,     11, X12J11,2,20121207,1542,-59.9650, 173.9680, 4443,   3331.7,2,   0.9999,2,   0.99974,2,  34.7130,2,  34.7130,2,-999.0000,9,   206.06,2,   206.02,2,   99.950,   0.0020,2,   -0.000,2,  -999.00,9,    0.000,2,   113.46,2,     0.16,    31.95,2,     0.04,     0.00,2,     0.01,     2.20,2,     0.01,    0.220,2,    0.095,2,    0.010,2,    0.000,2,   2258.6,2,   2360.7,2,   7.6113,       25,2, -999.000,9, -999.000,   -999.0,9,   -999.0, -999.000,9, -999.000, -999.000,9, -999.000
  49NZ20121128,  P14S,    17,  1,     10, X12J10,2,20121207,1542,-59.9650, 173.9680, 4443,   3580.4,2,   0.9135,2,   0.91344,2,  34.7083,2,  34.7082,2,-999.0000,9,   207.72,2,   207.80,2,   99.956,   0.0018,2,   -0.000,2,  -999.00,9,    0.000,2,   116.32,2,     0.16,    32.06,2,     0.04,     0.00,2,     0.01,     2.21,2,     0.01,    0.253,2,    0.118,2,    0.011,2,    0.000,2,   2256.8,2,   2360.9,2,   7.6102,       25,2, -999.000,9, -999.000,   -999.0,9,   -999.0, -999.000,9, -999.000, -999.000,9, -999.000
  49NZ20121128,  P14S,    17,  1,      9, X12J09,2,20121207,1542,-59.9650, 173.9680, 4443,   3831.8,2,   0.8795,2,   0.87937,2,  34.7058,2,  34.7062,2,-999.0000,9,   208.51,2,   208.56,2,   99.941,   0.0024,2,   -0.000,2,  -999.00,9,    0.000,2,   118.15,2,     0.16,    32.16,2,     0.05,     0.00,2,     0.01,     2.22,2,     0.01,    0.279,2,    0.126,2,    0.012,2,    0.056,2,   2257.4,2,   2360.4,2,   7.6091,       25,2, -999.000,9, -999.000,   -999.0,9,   -999.0, -999.000,9, -999.000, -999.000,9, -999.000
  49NZ20121128,  P14S,    17,  1,      8, X12J08,2,20121207,1542,-59.9650, 173.9680, 4443,   4080.1,2,   0.8488,2,   0.84872,2,  34.7034,2,  34.7035,2,-999.0000,9,   209.16,2,   209.31,2,   99.912,   0.0035,2,   -0.000,2,  -999.00,9,    0.000,2,   120.03,2,     0.17,    32.24,2,     0.05,     0.01,2,     0.01,     2.22,2,     0.01,    0.301,6,    0.139,6,    0.014,6,    0.071,6,   2257.6,2,   2361.0,2,   7.6081,       25,2, -999.000,9, -999.000,   -999.0,9,   -999.0, -999.000,9, -999.000, -999.000,9, -999.000
  49NZ20121128,  P14S,    17,  1,      7, X12J07,2,20121207,1542,-59.9650, 173.9680, 4443,   4329.7,2,   0.8551,2,   0.85500,2,  34.7025,2,  34.7030,2,-999.0000,9,   209.35,2,   209.61,2,   99.872,   0.0051,2,   -0.000,2,  -999.00,9,    0.000,2,   121.09,2,     0.17,    32.29,2,     0.05,     0.00,2,     0.01,     2.22,2,     0.01,    0.312,2,    0.148,2,    0.016,2,    0.124,2,   2257.3,6,   2360.9,2,   7.6081,       25,2, -999.000,9, -999.000,   -999.0,9,   -999.0, -999.000,9, -999.000, -999.000,9, -999.000
  49NZ20121128,  P14S,    17,  1,      1, X12J01,2,20121207,1542,-59.9650, 173.9680, 4443,   4546.3,2,   0.8649,2,   0.86469,2,  34.7017,2,  34.7024,2,-999.0000,9,   209.60,2,   209.56,2,   99.826,   0.0070,2,   -0.000,2,  -999.00,9,    0.000,2,   121.25,2,     0.17,    32.28,2,     0.05,     0.00,2,     0.01,     2.22,2,     0.01,    0.327,2,    0.153,2,    0.015,2,    0.086,2,   2258.8,2,   2361.6,2,   7.6072,       25,2, -999.000,9, -999.000,   -999.0,9,   -999.0, -999.000,9, -999.000, -999.000,9, -999.000