BOTTLE,20220819CCHSIOAMB
EXPOCODE,SECT_ID,STNNBR,CASTNO,SAMPNO,BTLNBR,BTLNBR_FLAG_W,DATE,TIME,LATITUDE,LONGITUDE,DEPTH,CTDPRS,CTDPRS_FLAG_W,CTDTMP,CTDTMP_FLAG_W,SBE35,SBE35_FLAG_W,CTDSAL,CTDSAL_FLAG_W,SALNTY,SALNTY_FLAG_W,DNSSAL,DNSSAL_FLAG_W,CTDOXY,CTDOXY_FLAG_W,OXYGEN,OXYGEN_FLAG_W,CTDXMISS,CTDXMISSCP,CTDXMISS_FLAG_W,CTDFLUOR,CTDFLUOR_FLAG_W,CHLORA,CHLORA_FLAG_W,PAR,PAR_FLAG_W,SILCAT,SILCAT_FLAG_W,SILUNC,NITRAT,NITRAT_FLAG_W,NRAUNC,NITRIT,NITRIT_FLAG_W,NRIUNC,PHSPHT,PHSPHT_FLAG_W,PHPUNC,CFC-11,CFC-11_FLAG_W,CFC-12,CFC-12_FLAG_W,CFC113,CFC113_FLAG_W,SF6,SF6_FLAG_W,TCARBN,TCARBN_FLAG_W,ALKALI,ALKALI_FLAG_W,PH_TOT,PH_TMP,PH_TOT_FLAG_W,DELC13,DELC13_FLAG_W,C13ERR,DELC14,DELC14_FLAG_W,C14ERR,CS-134,CS-134_FLAG_W,CS134ER,CS-137,CS-137_FLAG_W,CS137ER
,,,,,,,,UTC,DEG,DEG,METERS,DBAR,,ITS-90,,ITS-90,,PSS-78,,PSS-78,,G/KG,,UMOL/KG,,UMOL/KG,,%TRANS,/METER,,MG/M^3,,MG/CUM,,UE/SQM/S,,UMOL/KG,,UMOL/KG,UMOL/KG,,UMOL/KG,UMOL/KG,,UMOL/KG,UMOL/KG,,UMOL/KG,PMOL/KG,,PMOL/KG,,PMOL/KG,,FMOL/KG,,UMOL/KG,,UMOL/KG,,,DEG C,,/MILLE,,/MILLE,/MILLE,,/MILLE,MBQ/KG,,MBQ/KG,MBQ/KG,,MBQ/KG
  49NZ20121128,   S04,    68,  1,     36, X12J36,2,20121217,2057,-62.0042, 135.5735, 4306,      5.1,2,   0.2583,2,   0.26217,2,  33.8034,2,  33.8036,2,-999.0000,9,   357.90,2,   357.98,2,   92.595,   0.3077,2,    0.370,2,  -999.00,9,  165.424,2,    22.39,2,     0.08,    24.94,2,     0.04,     0.25,2,     0.01,     1.60,2,     0.01,    5.980,2,    3.278,2,    0.535,2, -999.000,9,   -999.0,9,   -999.0,9,-999.0000,     -999,9, -999.000,9, -999.000,   -999.0,9,   -999.0, -999.000,9, -999.000, -999.000,9, -999.000
  49NZ20121128,   S04,    68,  1,     35, X12J35,2,20121217,2057,-62.0042, 135.5735, 4306,     24.9,2,  -0.2114,2,  -0.21292,2,  33.8028,2,  33.8036,2,-999.0000,9,   361.30,2,   360.23,2,   90.553,   0.3969,2,    1.060,2,  -999.00,9,   18.062,2,    22.23,2,     0.08,    24.89,2,     0.04,     0.24,2,     0.01,     1.60,2,     0.01,    5.999,2,    3.284,2,    0.537,2, -999.000,9,   -999.0,9,   -999.0,9,-999.0000,     -999,9, -999.000,9, -999.000,   -999.0,9,   -999.0, -999.000,9, -999.000, -999.000,9, -999.000
  49NZ20121128,   S04,    68,  1,     34, X12J34,2,20121217,2057,-62.0042, 135.5735, 4306,     49.9,2,  -0.4285,2,  -0.42580,2,  33.8087,2,  33.8107,2,-999.0000,9,   356.12,2,   355.59,2,   91.024,   0.3762,2,    1.450,2,  -999.00,9,    1.428,2,    24.29,2,     0.08,    25.49,2,     0.04,     0.23,2,     0.01,     1.71,2,     0.01,    5.974,6,    3.267,6,    0.537,6, -999.000,9,   -999.0,9,   -999.0,9,-999.0000,     -999,9, -999.000,9, -999.000,   -999.0,9,   -999.0, -999.000,9, -999.000, -999.000,9, -999.000
  49NZ20121128,   S04,    68,  1,     33, X12J33,2,20121217,2057,-62.0042, 135.5735, 4306,     75.3,2,  -1.3825,2,  -1.38267,2,  33.9894,2,  33.9880,2,-999.0000,9,   320.29,2,   321.35,2,   99.098,   0.0362,2,    0.270,2,  -999.00,9,    0.157,2,    42.23,2,     0.10,    30.14,2,     0.04,     0.21,2,     0.01,     2.10,2,     0.01,    5.266,2,    2.871,2,    0.482,2, -999.000,9,   -999.0,9,   -999.0,9,-999.0000,     -999,9, -999.000,9, -999.000,   -999.0,9,   -999.0, -999.000,9, -999.000, -999.000,9, -999.000
  49NZ20121128,   S04,    68,  1,     32, X12J32,2,20121217,2057,-62.0042, 135.5735, 4306,    100.6,2,  -0.8575,2,  -0.85803,2,  34.0784,2,  34.0775,2,-999.0000,9,   297.07,2,   296.73,2,   99.425,   0.0231,2,    0.140,2,  -999.00,9,    0.025,2,    42.26,2,     0.10,    30.17,2,     0.04,     0.21,2,     0.01,     2.10,2,     0.01,    4.639,2,    2.523,2,    0.411,2, -999.000,9,   -999.0,9,   -999.0,9,-999.0000,     -999,9, -999.000,9, -999.000,   -999.0,9,   -999.0, -999.000,9, -999.000, -999.000,9, -999.000
  49NZ20121128,   S04,    68,  1,     31, X12J31,2,20121217,2057,-62.0042, 135.5735, 4306,    124.9,2,   0.7008,2,   0.69996,2,  34.2633,2,  34.2633,2,-999.0000,9,   238.21,2,   238.19,2,   99.630,   0.0148,2,    0.070,2,  -999.00,9,    0.000,2,    56.20,2,     0.11,    33.64,2,     0.05,     0.02,2,     0.01,     2.30,2,     0.01,    3.086,2,    1.666,2,    0.265,2, -999.000,9,   -999.0,9,   -999.0,9,-999.0000,     -999,9, -999.000,9, -999.000,   -999.0,9,   -999.0, -999.000,9, -999.000, -999.000,9, -999.000
  49NZ20121128,   S04,    68,  1,     30, X12J30,2,20121217,2057,-62.0042, 135.5735, 4306,    150.4,2,   1.5766,2,   1.57452,2,  34.3952,2,  34.3893,2,-999.0000,9,   202.87,2,   203.62,2,   99.659,   0.0137,2,    0.030,2,  -999.00,9,    0.000,2,    63.34,2,     0.12,    34.74,2,     0.05,     0.02,2,     0.01,     2.38,2,     0.01,    2.080,2,    1.110,2,    0.180,2, -999.000,9,   -999.0,9,   -999.0,9,-999.0000,     -999,9, -999.000,9, -999.000,   -999.0,9,   -999.0, -999.000,9, -999.000, -999.000,9, -999.000
  49NZ20121128,   S04,    68,  1,     29, X12J29,2,20121217,2057,-62.0042, 135.5735, 4306,    199.5,2,   1.9684,2,   1.96790,2,  34.4975,2,  34.4965,2,-999.0000,9,   182.92,2,   182.73,2,   99.615,   0.0154,2,    0.030,2,  -999.00,9,    0.000,2,    69.79,2,     0.12,    34.94,2,     0.05,     0.01,2,     0.01,     2.39,2,     0.01,    1.303,2,    0.703,2,    0.116,2, -999.000,9,   -999.0,9,   -999.0,9,-999.0000,     -999,9, -999.000,9, -999.000,   -999.0,9,   -999.0, -999.000,9, -999.000, -999.000,9, -999.000
  49NZ20121128,   S04,    68,  1,     28, X12J28,2,20121217,2057,-62.0042, 135.5735, 4306,    250.2,2,   2.0838,2,   2.08338,2,  34.5554,2,  34.5553,2,-999.0000,9,   177.19,2,   177.03,2,   99.697,   0.0121,2,    0.020,2,  -999.00,9,    0.000,2,    72.74,2,     0.12,    34.59,2,     0.05,     0.01,2,     0.01,     2.37,2,     0.01,    0.969,2,    0.499,2,    0.090,2, -999.000,9,   -999.0,9,   -999.0,9,-999.0000,     -999,9, -999.000,9, -999.000,   -999.0,9,   -999.0, -999.000,9, -999.000, -999.000,9, -999.000
  49NZ20121128,   S04,    68,  1,     27, X12J27,2,20121217,2057,-62.0042, 135.5735, 4306,    282.9,2,   2.0899,2,   2.08960,2,  34.5814,2,  34.5794,2,-999.0000,9,   176.52,2,   176.29,2,   99.760,   0.0096,2,    0.010,2,  -999.00,9,    0.000,2,    73.88,2,     0.13,    34.32,2,     0.05,     0.01,2,     0.01,     2.35,2,     0.01,    0.847,2,    0.439,2,    0.080,2, -999.000,9,   -999.0,9,   -999.0,9,-999.0000,     -999,9, -999.000,9, -999.000,   -999.0,9,   -999.0, -999.000,9, -999.000, -999.000,9, -999.000
  49NZ20121128,   S04,    68,  1,     26, X12J26,2,20121217,2057,-62.0042, 135.5735, 4306,    370.2,2,   2.0569,2,   2.05664,2,  34.6264,2,  34.6266,2,-999.0000,9,   176.77,2,   176.64,2,   99.798,   0.0081,2,    0.010,2,  -999.00,9,    0.000,2,    76.24,2,     0.13,    33.68,2,     0.05,     0.01,2,     0.01,     2.31,2,     0.01,    0.659,2,    0.341,2,    0.053,2, -999.000,9,   -999.0,9,   -999.0,9,-999.0000,     -999,9, -999.000,9, -999.000,   -999.0,9,   -999.0, -999.000,9, -999.000, -999.000,9, -999.000
  49NZ20121128,   S04,    68,  1,     25, X12J25,2,20121217,2057,-62.0042, 135.5735, 4306,    469.8,2,   2.0482,2,   2.04789,2,  34.6698,2,  34.6699,2,-999.0000,9,   179.23,2,   179.12,2,   99.810,   0.0076,2,    0.010,2,  -999.00,9,    0.000,2,    78.14,2,     0.13,    32.82,2,     0.05,     0.01,2,     0.01,     2.24,2,     0.01,    0.492,2,    0.247,2,    0.054,2, -999.000,9,   -999.0,9,   -999.0,9,-999.0000,     -999,9, -999.000,9, -999.000,   -999.0,9,   -999.0, -999.000,9, -999.000, -999.000,9, -999.000
  49NZ20121128,   S04,    68,  1,     24, X12J24,2,20121217,2057,-62.0042, 135.5735, 4306,    570.5,2,   1.9806,2,   1.98036,2,  34.6941,2,  34.6940,2,-999.0000,9,   182.06,2,   182.06,2,   99.831,   0.0068,2,    0.000,2,  -999.00,9,    0.000,2,    80.16,2,     0.13,    32.29,2,     0.05,     0.01,2,     0.01,     2.20,2,     0.01,    0.423,6,    0.216,6,    0.038,6, -999.000,9,   -999.0,9,   -999.0,9,-999.0000,     -999,9, -999.000,9, -999.000,   -999.0,9,   -999.0, -999.000,9, -999.000, -999.000,9, -999.000
  49NZ20121128,   S04,    68,  1,     23, X12J23,2,20121217,2057,-62.0042, 135.5735, 4306,    669.9,2,   1.9555,2,   1.95529,2,  34.7153,2,  34.7153,2,-999.0000,9,   185.60,2,   185.63,2,   99.898,   0.0041,2,    0.000,2,  -999.00,9,    0.000,2,    81.24,2,     0.13,    31.73,2,     0.04,     0.01,2,     0.01,     2.17,2,     0.01,    0.333,2,    0.164,2,    0.036,2, -999.000,9,   -999.0,9,   -999.0,9,-999.0000,     -999,9, -999.000,9, -999.000,   -999.0,9,   -999.0, -999.000,9, -999.000, -999.000,9, -999.000
  49NZ20121128,   S04,    68,  1,     22, X12J22,2,20121217,2057,-62.0042, 135.5735, 4306,    771.0,2,   1.8911,2,   1.89095,2,  34.7262,2,  34.7263,2,-999.0000,9,   188.04,2,   188.36,2,   99.925,   0.0030,2,    0.000,2,  -999.00,9,    0.000,2,    82.96,2,     0.13,    31.39,2,     0.04,     0.01,2,     0.01,     2.14,2,     0.01,    0.293,2,    0.144,2,    0.027,2, -999.000,9,   -999.0,9,   -999.0,9,-999.0000,     -999,9, -999.000,9, -999.000,   -999.0,9,   -999.0, -999.000,9, -999.000, -999.000,9, -999.000
  49NZ20121128,   S04,    68,  1,     21, X12J21,2,20121217,2057,-62.0042, 135.5735, 4306,    871.4,2,   1.8328,2,   1.83245,2,  34.7360,2,  34.7363,2,-999.0000,9,   190.91,2,   190.88,2,   99.919,   0.0032,2,    0.000,2,  -999.00,9,    0.000,2,    84.72,2,     0.13,    31.11,2,     0.04,     0.01,2,     0.01,     2.13,2,     0.01,    0.242,2,    0.116,2,    0.029,2, -999.000,9,   -999.0,9,   -999.0,9,-999.0000,     -999,9, -999.000,9, -999.000,   -999.0,9,   -999.0, -999.000,9, -999.000, -999.000,9, -999.000
  49NZ20121128,   S04,    68,  1,     20, X12J20,2,20121217,2057,-62.0042, 135.5735, 4306,    960.8,2,   1.7552,2,   1.75511,2,  34.7394,2,  34.7399,2,-999.0000,9,   193.19,2,   193.29,2,   99.936,   0.0026,2,    0.000,2,  -999.00,9,    0.000,2,    86.74,2,     0.14,    30.97,2,     0.04,     0.01,2,     0.01,     2.12,2,     0.01,    0.231,2,    0.110,2,    0.022,2, -999.000,9,   -999.0,9,   -999.0,9,-999.0000,     -999,9, -999.000,9, -999.000,   -999.0,9,   -999.0, -999.000,9, -999.000, -999.000,9, -999.000
  49NZ20121128,   S04,    68,  1,     19, X12J19,2,20121217,2057,-62.0042, 135.5735, 4306,   1169.4,2,   1.6132,2,   1.61321,2,  34.7433,2,  34.7431,2,-999.0000,9,   197.45,2,   197.47,2,   99.940,   0.0024,2,    0.000,2,  -999.00,9,    0.000,2,    90.69,2,     0.14,    30.81,2,     0.04,     0.01,2,     0.01,     2.11,2,     0.01,    0.179,6,    0.084,6,    0.017,6, -999.000,9,   -999.0,9,   -999.0,9,-999.0000,     -999,9, -999.000,9, -999.000,   -999.0,9,   -999.0, -999.000,9, -999.000, -999.000,9, -999.000
  49NZ20121128,   S04,    68,  1,     18, X12J18,2,20121217,2057,-62.0042, 135.5735, 4306,   1420.4,2,   1.3923,2,   1.39221,2,  34.7362,2,  34.7362,2,-999.0000,9,   200.14,2,   200.17,2,   99.944,   0.0022,2,   -0.000,2,  -999.00,9,    0.000,2,    96.47,2,     0.15,    31.08,2,     0.04,     0.01,2,     0.01,     2.13,2,     0.01,    0.194,2,    0.096,2,    0.017,2, -999.000,9,   -999.0,9,   -999.0,9,-999.0000,     -999,9, -999.000,9, -999.000,   -999.0,9,   -999.0, -999.000,9, -999.000, -999.000,9, -999.000
  49NZ20121128,   S04,    68,  1,     17, X12J17,2,20121217,2057,-62.0042, 135.5735, 4306,   1669.2,2,   1.2036,2,   1.20363,2,  34.7287,2,  34.7285,2,-999.0000,9,   202.76,2,   202.82,2,   99.957,   0.0017,2,    0.000,2,  -999.00,9,    0.000,2,   102.32,2,     0.15,    31.37,2,     0.04,     0.01,2,     0.01,     2.15,2,     0.01,    0.183,2,    0.088,2,    0.019,2, -999.000,9,   -999.0,9,   -999.0,9,-999.0000,     -999,9, -999.000,9, -999.000,   -999.0,9,   -999.0, -999.000,9, -999.000, -999.000,9, -999.000
  49NZ20121128,   S04,    68,  1,     16, X12J16,2,20121217,2057,-62.0042, 135.5735, 4306,   1921.9,2,   0.9961,2,   0.99582,2,  34.7180,2,  34.7183,2,-999.0000,9,   205.08,2,   205.06,2,   99.955,   0.0018,2,   -0.000,2,  -999.00,9,    0.000,2,   107.86,2,     0.16,    31.70,2,     0.04,     0.01,2,     0.01,     2.18,2,     0.01,    0.206,2,    0.096,2,    0.019,2, -999.000,9,   -999.0,9,   -999.0,9,-999.0000,     -999,9, -999.000,9, -999.000,   -999.0,9,   -999.0, -999.000,9, -999.000, -999.000,9, -999.000
  49NZ20121128,   S04,    68,  1,     15, X12J15,2,20121217,2057,-62.0042, 135.5735, 4306,   2170.0,2,   0.8079,2,   0.80833,2,  34.7081,2,  34.7079,2,-999.0000,9,   207.79,2,   207.73,2,   99.963,   0.0015,2,   -0.000,2,  -999.00,9,    0.000,2,   113.38,2,     0.16,    32.02,2,     0.04,     0.01,2,     0.01,     2.20,2,     0.01,    0.245,2,    0.114,2,    0.018,2, -999.000,9,   -999.0,9,   -999.0,9,-999.0000,     -999,9, -999.000,9, -999.000,   -999.0,9,   -999.0, -999.000,9, -999.000, -999.000,9, -999.000
  49NZ20121128,   S04,    68,  1,     14, X12J14,2,20121217,2057,-62.0042, 135.5735, 4306,   2421.8,2,   0.6366,2,   0.63652,2,  34.6988,2,  34.6985,2,-999.0000,9,   210.81,2,   210.64,2,   99.955,   0.0018,2,   -0.000,2,  -999.00,9,    0.000,2,   117.46,2,     0.16,    32.30,2,     0.05,     0.01,2,     0.01,     2.22,2,     0.01,    0.305,2,    0.142,2,    0.028,2, -999.000,9,   -999.0,9,   -999.0,9,-999.0000,     -999,9, -999.000,9, -999.000,   -999.0,9,   -999.0, -999.000,9, -999.000, -999.000,9, -999.000
  49NZ20121128,   S04,    68,  1,     13, X12J13,2,20121217,2057,-62.0042, 135.5735, 4306,   2670.1,2,   0.4719,2,   0.47207,2,  34.6905,2,  34.6906,2,-999.0000,9,   214.57,2,   214.39,2,   99.963,   0.0015,2,   -0.000,2,  -999.00,9,    0.000,2,   121.05,2,     0.17,    32.47,2,     0.05,     0.01,2,     0.01,     2.23,2,     0.01,    0.406,2,    0.195,2,    0.027,2, -999.000,9,   -999.0,9,   -999.0,9,-999.0000,     -999,9, -999.000,9, -999.000,   -999.0,9,   -999.0, -999.000,9, -999.000, -999.000,9, -999.000
  49NZ20121128,   S04,    68,  1,     12, X12J12,2,20121217,2057,-62.0042, 135.5735, 4306,   2920.2,2,   0.3467,2,   0.34667,2,  34.6846,2,  34.6846,2,-999.0000,9,   218.08,2,   218.02,2,   99.938,   0.0025,2,   -0.010,2,  -999.00,9,    0.000,2,   123.19,2,     0.17,    32.55,2,     0.05,     0.01,2,     0.01,     2.24,2,     0.01,    0.523,2,    0.254,2,    0.038,2, -999.000,9,   -999.0,9,   -999.0,9,-999.0000,     -999,9, -999.000,9, -999.000,   -999.0,9,   -999.0, -999.000,9, -999.000, -999.000,9, -999.000
  49NZ20121128,   S04,    68,  1,     11, X12J11,2,20121217,2057,-62.0042, 135.5735, 4306,   3170.0,2,   0.2514,2,   0.25123,2,  34.6790,2,  34.6791,2,-999.0000,9,   221.39,2,   221.18,2,   99.936,   0.0026,2,   -0.010,2,  -999.00,9,    0.000,2,   123.58,2,     0.17,    32.52,2,     0.05,     0.01,2,     0.01,     2.24,2,     0.01,    0.690,2,    0.343,2,    0.051,2, -999.000,9,   -999.0,9,   -999.0,9,-999.0000,     -999,9, -999.000,9, -999.000,   -999.0,9,   -999.0, -999.000,9, -999.000, -999.000,9, -999.000
  49NZ20121128,   S04,    68,  1,     10, X12J10,2,20121217,2057,-62.0042, 135.5735, 4306,   3420.3,2,   0.1592,2,   0.15911,2,  34.6741,2,  34.6742,2,-999.0000,9,   224.81,2,   224.62,2,   99.927,   0.0029,2,   -0.000,2,  -999.00,9,    0.000,2,   123.66,2,     0.17,    32.52,2,     0.05,     0.01,2,     0.01,     2.24,2,     0.01,    0.872,2,    0.437,2,    0.061,2, -999.000,9,   -999.0,9,   -999.0,9,-999.0000,     -999,9, -999.000,9, -999.000,   -999.0,9,   -999.0, -999.000,9, -999.000, -999.000,9, -999.000
  49NZ20121128,   S04,    68,  1,      9, X12J09,2,20121217,2057,-62.0042, 135.5735, 4306,   3670.8,2,   0.0786,2,   0.07876,2,  34.6704,2,  34.6699,2,-999.0000,9,   228.06,2,   228.07,2,   99.925,   0.0030,2,   -0.010,2,  -999.00,9,    0.000,2,   123.83,2,     0.17,    32.50,2,     0.05,     0.01,2,     0.01,     2.24,2,     0.01,    1.057,2,    0.531,2,    0.076,2, -999.000,9,   -999.0,9,   -999.0,9,-999.0000,     -999,9, -999.000,9, -999.000,   -999.0,9,   -999.0, -999.000,9, -999.000, -999.000,9, -999.000
  49NZ20121128,   S04,    68,  1,      8, X12J08,2,20121217,2057,-62.0042, 135.5735, 4306,   3920.1,2,   0.0026,2,   0.00273,2,  34.6650,2,  34.6652,2,-999.0000,9,   231.62,2,   231.55,2,   99.896,   0.0042,2,   -0.010,2,  -999.00,9,    0.000,2,   121.99,2,     0.17,    32.42,2,     0.05,     0.01,2,     0.01,     2.23,2,     0.01,    1.337,6,    0.684,6,    0.095,6, -999.000,9,   -999.0,9,   -999.0,9,-999.0000,     -999,9, -999.000,9, -999.000,   -999.0,9,   -999.0, -999.000,9, -999.000, -999.000,9, -999.000
  49NZ20121128,   S04,    68,  1,      7, X12J07,2,20121217,2057,-62.0042, 135.5735, 4306,   4169.7,2,  -0.0675,2,  -0.06752,2,  34.6592,2,  34.6598,2,-999.0000,9,   234.99,2,   235.02,2,   99.854,   0.0058,2,   -0.010,2,  -999.00,9,    0.000,2,   121.84,2,     0.17,    32.34,2,     0.05,     0.01,2,     0.01,     2.23,2,     0.01,    1.636,2,    0.841,2,    0.117,2, -999.000,9,   -999.0,9,   -999.0,9,-999.0000,     -999,9, -999.000,9, -999.000,   -999.0,9,   -999.0, -999.000,9, -999.000, -999.000,9, -999.000
  49NZ20121128,   S04,    68,  1,      1, X12J01,2,20121217,2057,-62.0042, 135.5735, 4306,   4375.8,2,  -0.1462,2,  -0.14613,2,  34.6495,2,  34.6500,2,-999.0000,9,   238.54,2,   238.32,2,   99.412,   0.0236,2,   -0.000,2,  -999.00,9,    0.000,2,   122.93,2,     0.17,    32.27,2,     0.05,     0.01,2,     0.01,     2.23,2,     0.01,    1.998,2,    1.048,2,    0.163,2, -999.000,9,   -999.0,9,   -999.0,9,-999.0000,     -999,9, -999.000,9, -999.000,   -999.0,9,   -999.0, -999.000,9, -999.000, -999.000,9, -999.000