BOTTLE,20220819CCHSIOAMB
EXPOCODE,SECT_ID,STNNBR,CASTNO,SAMPNO,BTLNBR,BTLNBR_FLAG_W,DATE,TIME,LATITUDE,LONGITUDE,DEPTH,CTDPRS,CTDPRS_FLAG_W,CTDTMP,CTDTMP_FLAG_W,SBE35,SBE35_FLAG_W,CTDSAL,CTDSAL_FLAG_W,SALNTY,SALNTY_FLAG_W,DNSSAL,DNSSAL_FLAG_W,CTDOXY,CTDOXY_FLAG_W,OXYGEN,OXYGEN_FLAG_W,CTDXMISS,CTDXMISSCP,CTDXMISS_FLAG_W,CTDFLUOR,CTDFLUOR_FLAG_W,CHLORA,CHLORA_FLAG_W,PAR,PAR_FLAG_W,SILCAT,SILCAT_FLAG_W,SILUNC,NITRAT,NITRAT_FLAG_W,NRAUNC,NITRIT,NITRIT_FLAG_W,NRIUNC,PHSPHT,PHSPHT_FLAG_W,PHPUNC,CFC-11,CFC-11_FLAG_W,CFC-12,CFC-12_FLAG_W,CFC113,CFC113_FLAG_W,SF6,SF6_FLAG_W,TCARBN,TCARBN_FLAG_W,ALKALI,ALKALI_FLAG_W,PH_TOT,PH_TMP,PH_TOT_FLAG_W,DELC13,DELC13_FLAG_W,C13ERR,DELC14,DELC14_FLAG_W,C14ERR,CS-134,CS-134_FLAG_W,CS134ER,CS-137,CS-137_FLAG_W,CS137ER
,,,,,,,,UTC,DEG,DEG,METERS,DBAR,,ITS-90,,ITS-90,,PSS-78,,PSS-78,,G/KG,,UMOL/KG,,UMOL/KG,,%TRANS,/METER,,MG/M^3,,MG/CUM,,UE/SQM/S,,UMOL/KG,,UMOL/KG,UMOL/KG,,UMOL/KG,UMOL/KG,,UMOL/KG,UMOL/KG,,UMOL/KG,PMOL/KG,,PMOL/KG,,PMOL/KG,,FMOL/KG,,UMOL/KG,,UMOL/KG,,,DEG C,,/MILLE,,/MILLE,/MILLE,,/MILLE,MBQ/KG,,MBQ/KG,MBQ/KG,,MBQ/KG
  49NZ20121128,   S04,    65,  1,     36, X12J36,2,20121217,0219,-62.3550, 139.8868, 3927,      4.8,2,  -0.4795,2,  -0.47582,2,  33.7774,2,  33.7781,2,-999.0000,9,   347.35,2,   347.72,2,   94.915,   0.2088,2,    0.170,2,  -999.00,9,  263.774,2,    40.27,2,     0.09,    27.64,2,     0.04,     0.18,2,     0.01,     1.86,2,     0.01,    5.766,2,    3.161,2,    0.563,2, -999.000,9,   -999.0,9,   -999.0,9,-999.0000,     -999,9, -999.000,9, -999.000,   -999.0,9,   -999.0, -999.000,9, -999.000, -999.000,9, -999.000
  49NZ20121128,   S04,    65,  1,     35, X12J35,2,20121217,0219,-62.3550, 139.8868, 3927,     25.4,2,  -0.5026,2,  -0.50070,2,  33.7783,2,  33.7796,2,-999.0000,9,   347.12,2,   347.49,2,   94.917,   0.2087,2,    0.350,2,  -999.00,9,   49.544,2,    40.41,2,     0.09,    27.65,2,     0.04,     0.18,2,     0.01,     1.87,2,     0.01,    5.748,2,    3.159,2,    0.560,2, -999.000,9,   -999.0,9,   -999.0,9,-999.0000,     -999,9, -999.000,9, -999.000,   -999.0,9,   -999.0, -999.000,9, -999.000, -999.000,9, -999.000
  49NZ20121128,   S04,    65,  1,     34, X12J34,2,20121217,0219,-62.3550, 139.8868, 3927,     50.4,2,  -1.1379,2,  -1.13030,2,  34.0412,2,  34.0598,2,-999.0000,9,   304.26,2,   312.44,2,   96.766,   0.1315,2,    0.460,2,  -999.00,9,   12.097,2,    49.70,2,     0.10,    30.02,2,     0.04,     0.13,2,     0.01,     2.08,2,     0.01,    4.671,6,    2.561,6,    0.440,6, -999.000,9,   -999.0,9,   -999.0,9,-999.0000,     -999,9, -999.000,9, -999.000,   -999.0,9,   -999.0, -999.000,9, -999.000, -999.000,9, -999.000
  49NZ20121128,   S04,    65,  1,     33, X12J33,2,20121217,0219,-62.3550, 139.8868, 3927,     74.9,2,   1.0100,2,   1.00980,2,  34.4085,2,  34.3989,2,-999.0000,9,   213.30,2,   216.23,2,   98.834,   0.0469,2,    0.250,2,  -999.00,9,    3.365,2,    66.01,2,     0.12,    33.61,2,     0.05,     0.10,2,     0.01,     2.33,2,     0.01,    2.240,2,    1.216,2,    0.198,2, -999.000,9,   -999.0,9,   -999.0,9,-999.0000,     -999,9, -999.000,9, -999.000,   -999.0,9,   -999.0, -999.000,9, -999.000, -999.000,9, -999.000
  49NZ20121128,   S04,    65,  1,     32, X12J32,2,20121217,0219,-62.3550, 139.8868, 3927,    100.8,2,   1.7563,2,   1.75665,2,  34.5305,2,  34.5325,2,-999.0000,9,   183.26,2,   182.95,2,   99.420,   0.0233,2,    0.120,2,  -999.00,9,    1.073,2,    72.73,2,     0.12,    34.52,2,     0.05,     0.04,2,     0.01,     2.37,2,     0.01,    1.210,2,    0.643,2,    0.105,2, -999.000,9,   -999.0,9,   -999.0,9,-999.0000,     -999,9, -999.000,9, -999.000,   -999.0,9,   -999.0, -999.000,9, -999.000, -999.000,9, -999.000
  49NZ20121128,   S04,    65,  1,     31, X12J31,2,20121217,0219,-62.3550, 139.8868, 3927,    124.5,2,   1.8363,2,   1.83582,2,  34.5688,2,  34.5694,2,-999.0000,9,   179.45,2,   179.31,2,   99.546,   0.0182,2,    0.050,2,  -999.00,9,    0.403,2,    75.02,2,     0.13,    34.38,2,     0.05,     0.03,2,     0.01,     2.36,2,     0.01,    1.018,2,    0.537,2,    0.092,2, -999.000,9,   -999.0,9,   -999.0,9,-999.0000,     -999,9, -999.000,9, -999.000,   -999.0,9,   -999.0, -999.000,9, -999.000, -999.000,9, -999.000
  49NZ20121128,   S04,    65,  1,     30, X12J30,2,20121217,0219,-62.3550, 139.8868, 3927,    150.5,2,   1.9052,2,   1.90443,2,  34.5957,2,  34.5957,2,-999.0000,9,   177.23,2,   177.14,2,   99.596,   0.0162,2,    0.020,2,  -999.00,9,    0.138,2,    76.28,2,     0.13,    34.16,2,     0.05,     0.02,2,     0.01,     2.34,2,     0.01,    0.863,2,    0.451,2,    0.075,2, -999.000,9,   -999.0,9,   -999.0,9,-999.0000,     -999,9, -999.000,9, -999.000,   -999.0,9,   -999.0, -999.000,9, -999.000, -999.000,9, -999.000
  49NZ20121128,   S04,    65,  1,     29, X12J29,2,20121217,0219,-62.3550, 139.8868, 3927,    200.2,2,   1.9619,2,   1.96150,2,  34.6352,2,  34.6353,2,-999.0000,9,   176.25,2,   176.33,2,   99.718,   0.0113,2,    0.010,2,  -999.00,9,    0.000,2,    78.16,2,     0.13,    33.67,2,     0.05,     0.01,2,     0.01,     2.31,2,     0.01,    0.669,2,    0.347,2,    0.065,2, -999.000,9,   -999.0,9,   -999.0,9,-999.0000,     -999,9, -999.000,9, -999.000,   -999.0,9,   -999.0, -999.000,9, -999.000, -999.000,9, -999.000
  49NZ20121128,   S04,    65,  1,     28, X12J28,2,20121217,0219,-62.3550, 139.8868, 3927,    250.0,2,   1.9562,2,   1.95570,2,  34.6546,2,  34.6540,2,-999.0000,9,   177.99,2,   177.93,2,   99.705,   0.0118,2,    0.010,2,  -999.00,9,    0.000,2,    78.90,2,     0.13,    33.27,2,     0.05,     0.01,2,     0.01,     2.28,2,     0.01,    0.598,2,    0.304,2,    0.050,2, -999.000,9,   -999.0,9,   -999.0,9,-999.0000,     -999,9, -999.000,9, -999.000,   -999.0,9,   -999.0, -999.000,9, -999.000, -999.000,9, -999.000
  49NZ20121128,   S04,    65,  1,     27, X12J27,2,20121217,0219,-62.3550, 139.8868, 3927,    281.2,2,   1.9449,2,   1.94476,2,  34.6634,2,  34.6628,2,-999.0000,9,   178.28,2,   178.02,2,   99.663,   0.0135,2,    0.010,2,  -999.00,9,    0.000,2,    79.71,2,     0.13,    33.22,2,     0.05,     0.01,2,     0.01,     2.28,2,     0.01,    0.566,2,    0.292,2,    0.043,2, -999.000,9,   -999.0,9,   -999.0,9,-999.0000,     -999,9, -999.000,9, -999.000,   -999.0,9,   -999.0, -999.000,9, -999.000, -999.000,9, -999.000
  49NZ20121128,   S04,    65,  1,     26, X12J26,2,20121217,0219,-62.3550, 139.8868, 3927,    370.8,2,   1.9437,2,   1.94461,2,  34.6920,2,  34.6914,2,-999.0000,9,   181.35,2,   181.43,2,   99.866,   0.0054,2,    0.000,2,  -999.00,9,    0.000,2,    80.54,2,     0.13,    32.41,2,     0.05,     0.01,2,     0.01,     2.22,2,     0.01,    0.444,2,    0.220,2,    0.045,2, -999.000,9,   -999.0,9,   -999.0,9,-999.0000,     -999,9, -999.000,9, -999.000,   -999.0,9,   -999.0, -999.000,9, -999.000, -999.000,9, -999.000
  49NZ20121128,   S04,    65,  1,     25, X12J25,2,20121217,0219,-62.3550, 139.8868, 3927,    471.4,2,   1.9092,2,   1.90926,2,  34.7085,2,  34.7083,2,-999.0000,9,   184.16,2,   184.45,2,   99.898,   0.0041,2,    0.000,2,  -999.00,9,    0.000,2,    81.74,2,     0.13,    31.95,2,     0.04,     0.01,2,     0.01,     2.19,2,     0.01,    0.376,2,    0.190,2,    0.031,2, -999.000,9,   -999.0,9,   -999.0,9,-999.0000,     -999,9, -999.000,9, -999.000,   -999.0,9,   -999.0, -999.000,9, -999.000, -999.000,9, -999.000
  49NZ20121128,   S04,    65,  1,     24, X12J24,2,20121217,0219,-62.3550, 139.8868, 3927,    569.5,2,   1.8536,2,   1.85337,2,  34.7231,2,  34.7231,2,-999.0000,9,   187.35,2,   187.45,2,   99.919,   0.0032,2,    0.000,2,  -999.00,9,    0.000,2,    83.25,2,     0.13,    31.56,2,     0.04,     0.01,2,     0.01,     2.16,2,     0.01,    0.323,6,    0.160,6,    0.037,6, -999.000,9,   -999.0,9,   -999.0,9,-999.0000,     -999,9, -999.000,9, -999.000,   -999.0,9,   -999.0, -999.000,9, -999.000, -999.000,9, -999.000
  49NZ20121128,   S04,    65,  1,     23, X12J23,2,20121217,0219,-62.3550, 139.8868, 3927,    669.5,2,   1.7895,2,   1.78917,2,  34.7342,2,  34.7342,2,-999.0000,9,   190.62,2,   190.82,2,   99.938,   0.0025,2,    0.000,2,  -999.00,9,    0.000,2,    85.37,2,     0.14,    31.23,2,     0.04,     0.01,2,     0.01,     2.14,2,     0.01,    0.258,2,    0.126,2,    0.032,2, -999.000,9,   -999.0,9,   -999.0,9,-999.0000,     -999,9, -999.000,9, -999.000,   -999.0,9,   -999.0, -999.000,9, -999.000, -999.000,9, -999.000
  49NZ20121128,   S04,    65,  1,     22, X12J22,2,20121217,0219,-62.3550, 139.8868, 3927,    770.9,2,   1.7243,2,   1.72411,2,  34.7389,2,  34.7389,2,-999.0000,9,   193.04,2,   193.25,2,   99.929,   0.0028,2,    0.000,2,  -999.00,9,    0.000,2,    86.99,2,     0.14,    31.03,2,     0.04,     0.01,2,     0.01,     2.13,2,     0.01,    0.229,2,    0.111,2,    0.030,2, -999.000,9,   -999.0,9,   -999.0,9,-999.0000,     -999,9, -999.000,9, -999.000,   -999.0,9,   -999.0, -999.000,9, -999.000, -999.000,9, -999.000
  49NZ20121128,   S04,    65,  1,     21, X12J21,2,20121217,0219,-62.3550, 139.8868, 3927,    870.8,2,   1.6637,2,   1.66254,2,  34.7414,2,  34.7417,2,-999.0000,9,   195.03,2,   195.22,2,   99.942,   0.0023,2,    0.000,2,  -999.00,9,    0.000,2,    88.81,2,     0.14,    30.84,2,     0.04,     0.01,2,     0.01,     2.12,2,     0.01,    0.206,2,    0.099,2,    0.035,2, -999.000,9,   -999.0,9,   -999.0,9,-999.0000,     -999,9, -999.000,9, -999.000,   -999.0,9,   -999.0, -999.000,9, -999.000, -999.000,9, -999.000
  49NZ20121128,   S04,    65,  1,     20, X12J20,2,20121217,0219,-62.3550, 139.8868, 3927,    960.9,2,   1.5676,2,   1.56734,2,  34.7412,2,  34.7415,2,-999.0000,9,   196.97,2,   197.21,2,   99.948,   0.0021,2,    0.000,2,  -999.00,9,    0.000,2,    91.28,2,     0.14,    30.89,2,     0.04,     0.01,2,     0.01,     2.12,2,     0.01,    0.207,2,    0.098,2,    0.013,2,    0.000,2,   -999.0,9,   -999.0,9,-999.0000,     -999,9, -999.000,9, -999.000,   -999.0,9,   -999.0, -999.000,9, -999.000, -999.000,9, -999.000
  49NZ20121128,   S04,    65,  1,     19, X12J19,2,20121217,0219,-62.3550, 139.8868, 3927,   1172.9,2,   1.3798,2,   1.37884,2,  34.7364,2,  34.7362,2,-999.0000,9,   199.99,2,   200.22,2,   99.948,   0.0021,2,   -0.000,2,  -999.00,9,    0.000,2,    96.47,2,     0.15,    31.05,2,     0.04,     0.01,2,     0.01,     2.13,2,     0.01,    0.197,6,    0.092,6,    0.012,6,    0.000,6,   -999.0,9,   -999.0,9,-999.0000,     -999,9, -999.000,9, -999.000,   -999.0,9,   -999.0, -999.000,9, -999.000, -999.000,9, -999.000
  49NZ20121128,   S04,    65,  1,     18, X12J18,2,20121217,0219,-62.3550, 139.8868, 3927,   1420.4,2,   1.1713,2,   1.17111,2,  34.7277,2,  34.7277,2,-999.0000,9,   202.72,2,   202.94,2,   99.973,   0.0011,2,    0.000,2,  -999.00,9,    0.000,2,   102.46,2,     0.15,    31.41,2,     0.04,     0.01,2,     0.01,     2.16,2,     0.01,    0.202,2,    0.092,2,    0.010,2,    0.000,2,   -999.0,9,   -999.0,9,-999.0000,     -999,9, -999.000,9, -999.000,   -999.0,9,   -999.0, -999.000,9, -999.000, -999.000,9, -999.000
  49NZ20121128,   S04,    65,  1,     17, X12J17,2,20121217,0219,-62.3550, 139.8868, 3927,   1670.4,2,   0.9619,2,   0.96183,2,  34.7173,2,  34.7172,2,-999.0000,9,   205.30,2,   205.47,2,   99.948,   0.0021,2,   -0.000,2,  -999.00,9,    0.000,2,   108.75,2,     0.16,    31.82,2,     0.04,     0.01,2,     0.01,     2.19,2,     0.01,    0.225,2,    0.100,2,    0.012,2,    0.000,2,   -999.0,9,   -999.0,9,-999.0000,     -999,9, -999.000,9, -999.000,   -999.0,9,   -999.0, -999.000,9, -999.000, -999.000,9, -999.000
  49NZ20121128,   S04,    65,  1,     16, X12J16,2,20121217,0219,-62.3550, 139.8868, 3927,   1920.9,2,   0.7603,2,   0.76047,2,  34.7057,2,  34.7056,2,-999.0000,9,   208.11,2,   208.17,2,   99.961,   0.0016,2,   -0.000,2,  -999.00,9,    0.000,2,   113.03,2,     0.16,    31.96,2,     0.04,     0.01,2,     0.01,     2.21,2,     0.01,    0.285,2,    0.135,2,    0.015,2,    0.000,2,   -999.0,9,   -999.0,9,-999.0000,     -999,9, -999.000,9, -999.000,   -999.0,9,   -999.0, -999.000,9, -999.000, -999.000,9, -999.000
  49NZ20121128,   S04,    65,  1,     15, X12J15,2,20121217,0219,-62.3550, 139.8868, 3927,   2170.7,2,   0.5768,2,   0.57685,2,  34.6962,2,  34.6963,2,-999.0000,9,   211.46,2,   211.62,2,   99.946,   0.0022,2,   -0.000,2,  -999.00,9,    0.000,2,   117.31,2,     0.16,    32.28,2,     0.05,     0.01,2,     0.01,     2.23,2,     0.01,    0.356,2,    0.173,2,    0.019,2,    0.000,2,   -999.0,9,   -999.0,9,-999.0000,     -999,9, -999.000,9, -999.000,   -999.0,9,   -999.0, -999.000,9, -999.000, -999.000,9, -999.000
  49NZ20121128,   S04,    65,  1,     14, X12J14,2,20121217,0219,-62.3550, 139.8868, 3927,   2419.8,2,   0.4329,2,   0.43275,2,  34.6897,2,  34.6897,2,-999.0000,9,   214.97,2,   215.01,2,   99.965,   0.0014,2,   -0.000,2,  -999.00,9,    0.000,2,   120.76,2,     0.17,    32.42,2,     0.05,     0.01,2,     0.01,     2.24,2,     0.01,    0.447,2,    0.213,2,    0.023,2,    0.000,2,   -999.0,9,   -999.0,9,-999.0000,     -999,9, -999.000,9, -999.000,   -999.0,9,   -999.0, -999.000,9, -999.000, -999.000,9, -999.000
  49NZ20121128,   S04,    65,  1,     13, X12J13,2,20121217,0219,-62.3550, 139.8868, 3927,   2670.0,2,   0.2980,2,   0.29796,2,  34.6830,2,  34.6832,2,-999.0000,9,   218.76,2,   218.87,2,   99.967,   0.0013,2,   -0.000,2,  -999.00,9,    0.000,2,   122.10,2,     0.17,    32.48,2,     0.05,     0.01,2,     0.01,     2.24,2,     0.01,    0.607,2,    0.300,2,    0.036,2,    0.000,2,   -999.0,9,   -999.0,9,-999.0000,     -999,9, -999.000,9, -999.000,   -999.0,9,   -999.0, -999.000,9, -999.000, -999.000,9, -999.000
  49NZ20121128,   S04,    65,  1,     12, X12J12,2,20121217,0219,-62.3550, 139.8868, 3927,   2920.6,2,   0.1930,2,   0.19290,2,  34.6787,2,  34.6789,2,-999.0000,9,   222.07,2,   222.36,2,   99.929,   0.0028,2,   -0.000,2,  -999.00,9,    0.000,2,   124.33,2,     0.17,    32.50,2,     0.05,     0.01,2,     0.01,     2.24,2,     0.01,    0.733,2,    0.351,2,    0.043,2,    0.108,2,   -999.0,9,   -999.0,9,-999.0000,     -999,9, -999.000,9, -999.000,   -999.0,9,   -999.0, -999.000,9, -999.000, -999.000,9, -999.000
  49NZ20121128,   S04,    65,  1,     11, X12J11,2,20121217,0219,-62.3550, 139.8868, 3927,   3171.3,2,   0.0779,2,   0.07781,2,  34.6725,2,  34.6723,2,-999.0000,9,   226.46,2,   226.65,2,   99.938,   0.0025,2,   -0.000,2,  -999.00,9,    0.000,2,   123.51,2,     0.17,    32.40,2,     0.05,     0.01,2,     0.01,     2.24,2,     0.01,    1.010,2,    0.500,2,    0.064,2,    0.210,2,   -999.0,9,   -999.0,9,-999.0000,     -999,9, -999.000,9, -999.000,   -999.0,9,   -999.0, -999.000,9, -999.000, -999.000,9, -999.000
  49NZ20121128,   S04,    65,  1,     10, X12J10,2,20121217,0219,-62.3550, 139.8868, 3927,   3420.3,2,  -0.0332,2,  -0.03309,2,  34.6651,2,  34.6651,2,-999.0000,9,   231.19,2,   231.25,2,   99.900,   0.0040,2,   -0.000,2,  -999.00,9,    0.000,2,   120.78,2,     0.17,    32.35,2,     0.05,     0.01,2,     0.01,     2.23,2,     0.01,    1.368,2,    0.738,2,    0.102,2,    0.332,2,   -999.0,9,   -999.0,9,-999.0000,     -999,9, -999.000,9, -999.000,   -999.0,9,   -999.0, -999.000,9, -999.000, -999.000,9, -999.000
  49NZ20121128,   S04,    65,  1,      9, X12J09,2,20121217,0219,-62.3550, 139.8868, 3927,   3671.0,2,  -0.1057,2,  -0.10573,2,  34.6592,2,  34.6591,2,-999.0000,9,   234.58,2,   234.80,2,   99.810,   0.0076,2,   -0.000,2,  -999.00,9,    0.000,2,   119.00,2,     0.17,    32.27,2,     0.05,     0.01,2,     0.01,     2.23,2,     0.01,    1.637,2,    0.909,2,    0.128,2,    0.498,2,   -999.0,9,   -999.0,9,-999.0000,     -999,9, -999.000,9, -999.000,   -999.0,9,   -999.0, -999.000,9, -999.000, -999.000,9, -999.000
  49NZ20121128,   S04,    65,  1,      8, X12J08,2,20121217,0219,-62.3550, 139.8868, 3927,   3920.1,2,  -0.2030,2,  -0.20297,2,  34.6482,2,  34.6484,2,-999.0000,9,   240.05,2,   240.27,2,   99.479,   0.0209,2,   -0.010,2,  -999.00,9,    0.000,2,   112.27,2,     0.16,    32.15,2,     0.05,     0.01,2,     0.01,     2.22,2,     0.01,    2.152,6,    1.144,6,    0.177,6,    0.766,6,   -999.0,9,   -999.0,9,-999.0000,     -999,9, -999.000,9, -999.000,   -999.0,9,   -999.0, -999.000,9, -999.000, -999.000,9, -999.000
  49NZ20121128,   S04,    65,  1,      1, X12J01,2,20121217,0219,-62.3550, 139.8868, 3927,   3994.2,2,  -0.1949,2,  -0.19507,2,  34.6496,2,  34.6500,2,-999.0000,9,   239.96,2,   240.11,2,   99.540,   0.0184,2,   -0.000,2,  -999.00,9,    0.000,2,   109.86,2,     0.16,    32.11,2,     0.05,     0.01,2,     0.01,     2.23,2,     0.01,    2.204,2,    1.187,2,    0.182,2,    0.704,2,   -999.0,9,   -999.0,9,-999.0000,     -999,9, -999.000,9, -999.000,   -999.0,9,   -999.0, -999.000,9, -999.000, -999.000,9, -999.000