BOTTLE,20220819CCHSIOAMB
EXPOCODE,SECT_ID,STNNBR,CASTNO,SAMPNO,BTLNBR,BTLNBR_FLAG_W,DATE,TIME,LATITUDE,LONGITUDE,DEPTH,CTDPRS,CTDPRS_FLAG_W,CTDTMP,CTDTMP_FLAG_W,SBE35,SBE35_FLAG_W,CTDSAL,CTDSAL_FLAG_W,SALNTY,SALNTY_FLAG_W,DNSSAL,DNSSAL_FLAG_W,CTDOXY,CTDOXY_FLAG_W,OXYGEN,OXYGEN_FLAG_W,CTDXMISS,CTDXMISSCP,CTDXMISS_FLAG_W,CTDFLUOR,CTDFLUOR_FLAG_W,CHLORA,CHLORA_FLAG_W,PAR,PAR_FLAG_W,SILCAT,SILCAT_FLAG_W,SILUNC,NITRAT,NITRAT_FLAG_W,NRAUNC,NITRIT,NITRIT_FLAG_W,NRIUNC,PHSPHT,PHSPHT_FLAG_W,PHPUNC,CFC-11,CFC-11_FLAG_W,CFC-12,CFC-12_FLAG_W,CFC113,CFC113_FLAG_W,SF6,SF6_FLAG_W,TCARBN,TCARBN_FLAG_W,ALKALI,ALKALI_FLAG_W,PH_TOT,PH_TMP,PH_TOT_FLAG_W,DELC13,DELC13_FLAG_W,C13ERR,DELC14,DELC14_FLAG_W,C14ERR,CS-134,CS-134_FLAG_W,CS134ER,CS-137,CS-137_FLAG_W,CS137ER
,,,,,,,,UTC,DEG,DEG,METERS,DBAR,,ITS-90,,ITS-90,,PSS-78,,PSS-78,,G/KG,,UMOL/KG,,UMOL/KG,,%TRANS,/METER,,MG/M^3,,MG/CUM,,UE/SQM/S,,UMOL/KG,,UMOL/KG,UMOL/KG,,UMOL/KG,UMOL/KG,,UMOL/KG,UMOL/KG,,UMOL/KG,PMOL/KG,,PMOL/KG,,PMOL/KG,,FMOL/KG,,UMOL/KG,,UMOL/KG,,,DEG C,,/MILLE,,/MILLE,/MILLE,,/MILLE,MBQ/KG,,MBQ/KG,MBQ/KG,,MBQ/KG
  49NZ20121128,  S04I,    87,  1,     36, X12J36,2,20121225,1338,-61.5258, 108.9620, 4192,      5.1,2,   1.1547,2,   1.14690,2,  33.7695,2,  33.7754,2,  33.9384,2,   365.44,2,   364.82,2,   86.976,   0.5582,2,    1.280,2,  -999.00,9,    1.820,2,    23.56,2,     0.08,    22.81,2,     0.03,     0.26,2,     0.01,     1.40,2,     0.01,    5.762,2,    3.283,2,    0.560,2,    3.145,2,   2134.3,2,   2289.2,2,   7.7610,       25,6, -999.000,1, -999.000,   -999.0,1,   -999.0, -999.000,9, -999.000, -999.000,9, -999.000
  49NZ20121128,  S04I,    87,  1,     35, X12J35,2,20121225,1338,-61.5258, 108.9620, 4192,     25.2,2,   0.6142,2,   0.61421,2,  33.8511,2,  33.8678,2,  34.0320,2,   368.80,2,   368.08,2,   86.463,   0.5818,2,    1.750,2,  -999.00,9,    0.000,2,    25.12,2,     0.08,    23.94,2,     0.04,     0.23,2,     0.01,     1.56,2,     0.01,    5.897,2,    3.369,2,    0.572,2,    3.004,2,   2144.9,2,   2293.5,2,   7.7455,       25,2, -999.000,1, -999.000,   -999.0,1,   -999.0, -999.000,9, -999.000, -999.000,9, -999.000
  49NZ20121128,  S04I,    87,  1,     34, X12J34,2,20121225,1338,-61.5258, 108.9620, 4192,     49.9,2,  -0.8781,2,  -0.89188,2,  33.9242,2,  33.9324,2,  34.0954,2,   349.22,2,   348.91,2,   95.213,   0.1962,2,    0.990,2,  -999.00,9,    0.000,2,    38.07,2,     0.09,    27.49,2,     0.04,     0.19,2,     0.01,     1.97,2,     0.01,    5.820,6,    3.322,6,    0.570,6,    3.042,6,   2173.5,2,   2295.6,2,   7.6769,       25,2, -999.000,1, -999.000,   -999.0,1,   -999.0, -999.000,9, -999.000, -999.000,9, -999.000
  49NZ20121128,  S04I,    87,  1,     33, X12J33,2,20121225,1338,-61.5258, 108.9620, 4192,     74.7,2,  -1.3017,2,  -1.30247,2,  34.0315,2,  34.0352,2,  34.2009,2,   323.45,2,   323.18,2,   98.447,   0.0626,2,    0.310,2,  -999.00,9,    0.000,2,    47.30,2,     0.10,    29.72,2,     0.04,     0.18,2,     0.01,     2.09,2,     0.01,    5.196,2,    2.980,2,    0.510,2,    2.854,2,   2193.9,6,   2298.3,2,   7.6390,       25,2, -999.000,1, -999.000,   -999.0,1,   -999.0, -999.000,9, -999.000, -999.000,9, -999.000
  49NZ20121128,  S04I,    87,  1,     32, X12J32,2,20121225,1338,-61.5258, 108.9620, 4192,    100.4,2,  -1.0458,2,  -1.04769,2,  34.1305,2,  34.1351,2,  34.3013,2,   300.41,2,   298.43,2,   99.043,   0.0385,2,    0.230,2,  -999.00,9,    0.000,2,    52.81,2,     0.11,    30.88,2,     0.04,     0.15,2,     0.01,     2.14,2,     0.01,    4.570,2,    2.563,2,    0.445,2,    2.267,2,   2207.1,2,   2306.1,6,   7.6196,       25,2, -999.000,1, -999.000,   -999.0,1,   -999.0, -999.000,9, -999.000, -999.000,9, -999.000
  49NZ20121128,  S04I,    87,  1,     31, X12J31,2,20121225,1338,-61.5258, 108.9620, 4192,    125.1,2,  -0.0800,2,  -0.08047,2,  34.2945,2,  34.3012,2,  34.4699,2,   255.12,2,   252.13,2,   99.438,   0.0225,2,    0.140,2,  -999.00,9,    0.000,2,    61.39,2,     0.11,    32.70,2,     0.05,     0.06,2,     0.01,     2.25,2,     0.01,    3.358,2,    1.868,2,    0.316,2,    1.567,2,   2226.7,2,   2314.6,2,   7.5873,       25,2, -999.000,1, -999.000,   -999.0,1,   -999.0, -999.000,9, -999.000, -999.000,9, -999.000
  49NZ20121128,  S04I,    87,  1,     30, X12J30,2,20121225,1338,-61.5258, 108.9620, 4192,    150.3,2,   0.7981,2,   0.79846,2,  34.4040,2,  34.4041,2,  34.5714,2,   221.11,2,   220.93,2,   99.630,   0.0148,2,    0.090,2,  -999.00,9,    0.000,2,    66.89,2,     0.12,    33.67,2,     0.05,     0.03,2,     0.01,     2.31,2,     0.01,    2.391,2,    1.316,2,    0.215,2,    1.178,2,   2239.8,2,   2321.1,2,   7.5677,       25,6, -999.000,1, -999.000,   -999.0,1,   -999.0, -999.000,9, -999.000, -999.000,9, -999.000
  49NZ20121128,  S04I,    87,  1,     29, X12J29,2,20121225,1338,-61.5258, 108.9620, 4192,    200.2,2,   1.2941,2,   1.29323,2,  34.5148,2,  34.5120,2,  34.6828,2,   199.01,2,   199.41,2,   99.660,   0.0136,2,    0.040,2,  -999.00,9,    0.000,2,    73.21,2,     0.12,    33.84,2,     0.05,     0.02,2,     0.01,     2.32,2,     0.01,    1.577,2,    0.878,2,    0.139,2,    0.612,2,   2251.8,2,   2328.8,2,   7.5620,       25,2, -999.000,1, -999.000,   -999.0,1,   -999.0, -999.000,9, -999.000, -999.000,9, -999.000
  49NZ20121128,  S04I,    87,  1,     28, X12J28,2,20121225,1338,-61.5258, 108.9620, 4192,    250.3,2,   1.5946,2,   1.59440,2,  34.5880,2,  34.5867,2,  34.7586,2,   188.33,2,   188.09,2,   99.674,   0.0131,2,    0.020,2,  -999.00,9,    0.000,2,    77.12,2,     0.13,    33.69,2,     0.05,     0.01,2,     0.01,     2.32,2,     0.01,    1.086,2,    0.589,2,    0.094,2,    0.390,2,   2254.2,2,   2335.0,2,   7.5626,       25,2, -999.000,1, -999.000,   -999.0,1,   -999.0, -999.000,9, -999.000, -999.000,9, -999.000
  49NZ20121128,  S04I,    87,  1,     27, X12J27,2,20121225,1338,-61.5258, 108.9620, 4192,    299.9,2,   1.7428,2,   1.74261,2,  34.6348,2,  34.6347,2,  34.8038,2,   184.25,2,   184.23,2,   99.721,   0.0112,2,    0.020,2,  -999.00,9,    0.000,2,    79.23,2,     0.13,    33.31,2,     0.05,     0.01,2,     0.01,     2.29,2,     0.01,    0.838,2,    0.442,2,    0.068,2,    0.221,2,   2255.3,2,   2338.5,2,   7.5674,       25,2, -999.000,1, -999.000,   -999.0,1,   -999.0, -999.000,9, -999.000, -999.000,9, -999.000
  49NZ20121128,  S04I,    87,  1,     26, X12J26,2,20121225,1338,-61.5258, 108.9620, 4192,    400.5,2,   1.8021,2,   1.80196,2,  34.6787,2,  34.6798,2,  34.8522,2,   184.48,2,   184.55,2,   99.824,   0.0070,2,    0.010,2,  -999.00,9,    0.000,2,    81.18,2,     0.13,    32.56,2,     0.05,     0.01,2,     0.01,     2.23,2,     0.01,    0.577,2,    0.314,2,    0.047,2,    0.251,2,   2255.7,2,   2342.1,2,   7.5787,       25,2, -999.000,1, -999.000,   -999.0,1,   -999.0, -999.000,9, -999.000, -999.000,9, -999.000
  49NZ20121128,  S04I,    87,  1,     25, X12J25,2,20121225,1338,-61.5258, 108.9620, 4192,    500.8,2,   1.8355,2,   1.83518,2,  34.7115,2,  34.7118,2,  34.8819,2,   186.56,2,   186.80,2,   99.865,   0.0054,2,    0.010,2,  -999.00,9,    0.000,2,    82.75,2,     0.13,    31.90,2,     0.04,     0.01,2,     0.01,     2.18,2,     0.01,    0.386,2,    0.206,2,    0.032,2,    0.128,2,   2253.8,2,   2344.4,2,   7.5905,       25,2, -999.000,1, -999.000,   -999.0,1,   -999.0, -999.000,9, -999.000, -999.000,9, -999.000
  49NZ20121128,  S04I,    87,  1,     24, X12J24,2,20121225,1338,-61.5258, 108.9620, 4192,    600.5,2,   1.7318,2,   1.73208,2,  34.7213,2,  34.7210,2,-999.0000,9,   190.17,2,   190.38,2,   99.898,   0.0041,2,    0.000,2,  -999.00,9,    0.000,2,    85.09,2,     0.14,    31.63,2,     0.04,     0.01,2,     0.01,     2.17,2,     0.01,    0.376,6,    0.201,6,    0.031,6,    0.098,6,   2252.6,2,   2346.5,2,   7.5964,       25,2, -999.000,1, -999.000,   -999.0,1,   -999.0, -999.000,9, -999.000, -999.000,9, -999.000
  49NZ20121128,  S04I,    87,  1,     23, X12J23,2,20121225,1338,-61.5258, 108.9620, 4192,    700.4,2,   1.6854,2,   1.68521,2,  34.7318,2,  34.7319,2,-999.0000,9,   192.75,2,   192.96,2,   99.871,   0.0052,2,    0.000,2,  -999.00,9,    0.000,2,    86.93,2,     0.14,    31.30,2,     0.04,     0.01,2,     0.01,     2.15,2,     0.01,    0.304,2,    0.162,2,    0.024,2,    0.065,2,   2252.7,6,   2348.6,2,   7.6033,       25,2, -999.000,1, -999.000,   -999.0,1,   -999.0, -999.000,9, -999.000, -999.000,9, -999.000
  49NZ20121128,  S04I,    87,  1,     22, X12J22,2,20121225,1338,-61.5258, 108.9620, 4192,    800.0,2,   1.5672,2,   1.56733,2,  34.7304,2,  34.7305,2,-999.0000,9,   195.67,2,   195.88,2,   99.928,   0.0029,2,    0.000,2,  -999.00,9,    0.000,2,    88.78,2,     0.14,    31.23,2,     0.04,     0.01,2,     0.01,     2.15,2,     0.01,    0.337,2,    0.177,2,    0.025,2,    0.147,2,   2251.7,2,   2348.8,2,   7.6052,       25,2, -999.000,1, -999.000,   -999.0,1,   -999.0, -999.000,9, -999.000, -999.000,9, -999.000
  49NZ20121128,  S04I,    87,  1,     21, X12J21,2,20121225,1338,-61.5258, 108.9620, 4192,    900.1,2,   1.4663,2,   1.46581,2,  34.7297,2,  34.7300,2,-999.0000,9,   197.17,2,   197.44,2,   99.890,   0.0044,2,    0.000,2,  -999.00,9,    0.000,2,    91.18,2,     0.14,    31.28,2,     0.04,     0.01,2,     0.01,     2.15,2,     0.01,    0.344,2,    0.180,2,    0.027,2,    0.122,2,   2252.3,2,   2350.6,2,   7.6068,       25,2, -999.000,1, -999.000,   -999.0,1,   -999.0, -999.000,9, -999.000, -999.000,9, -999.000
  49NZ20121128,  S04I,    87,  1,     20, X12J20,2,20121225,1338,-61.5258, 108.9620, 4192,   1000.9,2,   1.4259,2,   1.42570,2,  34.7341,2,  34.7331,2,-999.0000,9,   198.74,2,   198.84,2,   99.920,   0.0032,2,    0.000,2,  -999.00,9,    0.000,2,    93.35,2,     0.14,    31.16,2,     0.04,     0.01,2,     0.01,     2.15,2,     0.01,    0.266,2,    0.141,2,    0.018,2,    0.000,2,   2253.0,2,   2350.5,2,   7.6103,       25,2, -999.000,1, -999.000,   -999.0,1,   -999.0, -999.000,9, -999.000, -999.000,9, -999.000
  49NZ20121128,  S04I,    87,  1,     19, X12J19,2,20121225,1338,-61.5258, 108.9620, 4192,   1250.9,2,   1.2116,2,   1.21140,2,  34.7280,2,  34.7277,2,-999.0000,9,   201.89,2,   202.14,2,   99.947,   0.0021,2,    0.000,2,  -999.00,9,    0.000,2,    99.47,2,     0.15,    31.36,2,     0.04,     0.01,2,     0.01,     2.16,2,     0.01,    0.244,6,    0.130,6,    0.016,6,    0.000,6,   2255.5,2,   2355.0,2,   7.6102,       25,2, -999.000,1, -999.000,   -999.0,1,   -999.0, -999.000,9, -999.000, -999.000,9, -999.000
  49NZ20121128,  S04I,    87,  1,     18, X12J18,2,20121225,1338,-61.5258, 108.9620, 4192,   1500.9,2,   0.9975,2,   0.99759,2,  34.7173,2,  34.7168,2,-999.0000,9,   204.27,2,   204.57,2,   99.966,   0.0014,2,   -0.000,2,  -999.00,9,    0.000,2,   105.40,2,     0.15,    31.76,2,     0.04,     0.01,2,     0.01,     2.20,2,     0.01,    0.267,2,    0.140,2,    0.016,2,    0.000,2,   2258.6,2,   2355.4,2,   7.6080,       25,2, -999.000,1, -999.000,   -999.0,1,   -999.0, -999.000,9, -999.000, -999.000,9, -999.000
  49NZ20121128,  S04I,    87,  1,     17, X12J17,2,20121225,1338,-61.5258, 108.9620, 4192,   1751.7,2,   0.8071,2,   0.80718,2,  34.7074,2,  34.7072,2,-999.0000,9,   206.64,2,   207.04,2,   99.955,   0.0018,2,   -0.000,2,  -999.00,9,    0.000,2,   111.12,2,     0.16,    32.14,2,     0.05,     0.01,2,     0.01,     2.22,2,     0.01,    0.280,2,    0.144,2,    0.015,2,    0.000,2,   2260.5,2,   2357.1,2,   7.6053,       25,6, -999.000,1, -999.000,   -999.0,1,   -999.0, -999.000,9, -999.000, -999.000,9, -999.000
  49NZ20121128,  S04I,    87,  1,     16, X12J16,2,20121225,1338,-61.5258, 108.9620, 4192,   2001.7,2,   0.6388,2,   0.63871,2,  34.6987,2,  34.6988,2,-999.0000,9,   209.33,2,   209.64,2,   99.962,   0.0015,2,   -0.000,2,  -999.00,9,    0.000,2,   115.31,2,     0.16,    32.31,2,     0.05,     0.01,2,     0.01,     2.23,2,     0.01,    0.308,2,    0.157,2,    0.017,2,    0.050,2,   2260.9,2,   2357.5,2,   7.6027,       25,2, -999.000,1, -999.000,   -999.0,1,   -999.0, -999.000,9, -999.000, -999.000,9, -999.000
  49NZ20121128,  S04I,    87,  1,     15, X12J15,2,20121225,1338,-61.5258, 108.9620, 4192,   2251.1,2,   0.4859,2,   0.48588,2,  34.6921,2,  34.6919,2,-999.0000,9,   212.91,2,   213.06,2,   99.943,   0.0023,2,   -0.000,2,  -999.00,9,    0.000,2,   119.49,2,     0.17,    32.46,2,     0.05,     0.01,2,     0.01,     2.24,2,     0.01,    0.377,2,    0.190,2,    0.019,2,    0.000,2,   2262.6,2,   2356.6,2,   7.6017,       25,2, -999.000,1, -999.000,   -999.0,1,   -999.0, -999.000,9, -999.000, -999.000,9, -999.000
  49NZ20121128,  S04I,    87,  1,     14, X12J14,2,20121225,1338,-61.5258, 108.9620, 4192,   2502.3,2,   0.3390,2,   0.33917,2,  34.6842,2,  34.6840,2,-999.0000,9,   216.78,2,   216.92,2,   99.962,   0.0015,2,   -0.000,2,  -999.00,9,    0.000,2,   121.15,2,     0.17,    32.55,2,     0.05,     0.01,2,     0.01,     2.25,2,     0.01,    0.502,2,    0.261,2,    0.029,2,    0.082,2,   2260.9,6,   2356.7,2,   7.6007,       25,2, -999.000,1, -999.000,   -999.0,1,   -999.0, -999.000,9, -999.000, -999.000,9, -999.000
  49NZ20121128,  S04I,    87,  1,     13, X12J13,2,20121225,1338,-61.5258, 108.9620, 4192,   2751.2,2,   0.2523,2,   0.25227,2,  34.6815,2,  34.6813,2,-999.0000,9,   219.81,2,   219.97,2,   99.915,   0.0034,2,    0.010,2,  -999.00,9,    0.000,2,   124.15,2,     0.17,    32.59,2,     0.05,     0.01,2,     0.01,     2.25,2,     0.01,    0.601,2,    0.309,2,    0.033,2,    0.050,2,   2261.3,2,   2356.7,6,   7.6011,       25,2, -999.000,1, -999.000,   -999.0,1,   -999.0, -999.000,9, -999.000, -999.000,9, -999.000
  49NZ20121128,  S04I,    87,  1,     12, X12J12,2,20121225,1338,-61.5258, 108.9620, 4192,   2999.5,2,   0.1645,2,   0.16457,2,  34.6772,2,  34.6772,2,-999.0000,9,   222.83,2,   223.09,2,   99.928,   0.0029,2,   -0.000,2,  -999.00,9,    0.000,2,   125.50,2,     0.17,    32.59,2,     0.05,     0.01,2,     0.01,     2.25,2,     0.01,    0.788,2,    0.391,2,    0.043,2,    0.197,2,   2260.8,2,   2356.5,2,   7.6017,       25,6, -999.000,1, -999.000,   -999.0,1,   -999.0, -999.000,9, -999.000, -999.000,9, -999.000
  49NZ20121128,  S04I,    87,  1,     11, X12J11,2,20121225,1338,-61.5258, 108.9620, 4192,   3249.6,2,   0.0951,2,   0.09509,2,  34.6734,2,  34.6735,2,-999.0000,9,   225.64,2,   225.99,2,   99.732,   0.0107,2,   -0.000,2,  -999.00,9,    0.000,2,   125.70,2,     0.17,    32.55,2,     0.05,     0.01,2,     0.01,     2.25,2,     0.01,    0.927,2,    0.471,2,    0.054,2,    0.217,2,   2260.7,2,   2356.0,2,   7.6025,       25,2, -999.000,1, -999.000,   -999.0,1,   -999.0, -999.000,9, -999.000, -999.000,9, -999.000
  49NZ20121128,  S04I,    87,  1,     10, X12J10,2,20121225,1338,-61.5258, 108.9620, 4192,   3500.2,2,   0.0236,2,   0.02358,2,  34.6691,2,  34.6687,2,-999.0000,9,   228.69,2,   228.99,2,   99.922,   0.0031,2,   -0.000,2,  -999.00,9,    0.000,2,   125.89,2,     0.17,    32.52,2,     0.05,     0.01,2,     0.01,     2.25,2,     0.01,    1.117,2,    0.573,2,    0.070,2,    0.229,2,   2259.4,2,   2356.0,2,   7.6031,       25,2, -999.000,1, -999.000,   -999.0,1,   -999.0, -999.000,9, -999.000, -999.000,9, -999.000
  49NZ20121128,  S04I,    87,  1,      9, X12J09,2,20121225,1338,-61.5258, 108.9620, 4192,   3749.8,2,  -0.0292,2,  -0.02923,2,  34.6650,2,  34.6649,2,-999.0000,9,   231.35,2,   231.71,2,   99.888,   0.0045,2,   -0.010,2,  -999.00,9,    0.000,2,   126.29,2,     0.17,    32.50,2,     0.05,     0.01,2,     0.01,     2.25,2,     0.01,    1.333,2,    0.681,2,    0.087,2,    0.374,2,   2259.5,2,   2354.9,2,   7.6021,       25,2, -999.000,1, -999.000,   -999.0,1,   -999.0, -999.000,9, -999.000, -999.000,9, -999.000
  49NZ20121128,  S04I,    87,  1,      8, X12J08,2,20121225,1338,-61.5258, 108.9620, 4192,   4000.5,2,  -0.0766,2,  -0.07658,2,  34.6597,2,  34.6597,2,-999.0000,9,   234.00,2,   234.50,2,   99.822,   0.0071,2,   -0.010,2,  -999.00,9,    0.000,2,   124.98,2,     0.17,    32.43,2,     0.05,     0.01,2,     0.01,     2.24,2,     0.01,    1.582,6,    0.828,6,    0.112,6,    0.455,6,   2257.9,2,   2354.5,2,   7.6011,       25,2, -999.000,1, -999.000,   -999.0,1,   -999.0, -999.000,9, -999.000, -999.000,9, -999.000
  49NZ20121128,  S04I,    87,  1,      1, X12J01,2,20121225,1338,-61.5258, 108.9620, 4192,   4259.0,2,  -0.1465,2,  -0.14653,2,  34.6511,2,  34.6512,2,-999.0000,9,   237.44,2,   237.90,2,   99.607,   0.0158,2,   -0.010,2,  -999.00,9,    0.000,2,   125.32,2,     0.17,    32.41,2,     0.05,     0.01,2,     0.01,     2.24,2,     0.01,    1.960,2,    1.021,2,    0.144,2,    0.602,2,   2258.5,2,   2353.4,2,   7.5990,       25,2, -999.000,1, -999.000,   -999.0,1,   -999.0, -999.000,9, -999.000, -999.000,9, -999.000