BOTTLE,20220819CCHSIOAMB
EXPOCODE,SECT_ID,STNNBR,CASTNO,SAMPNO,BTLNBR,BTLNBR_FLAG_W,DATE,TIME,LATITUDE,LONGITUDE,DEPTH,CTDPRS,CTDPRS_FLAG_W,CTDTMP,CTDTMP_FLAG_W,SBE35,SBE35_FLAG_W,CTDSAL,CTDSAL_FLAG_W,SALNTY,SALNTY_FLAG_W,DNSSAL,DNSSAL_FLAG_W,CTDOXY,CTDOXY_FLAG_W,OXYGEN,OXYGEN_FLAG_W,CTDXMISS,CTDXMISSCP,CTDXMISS_FLAG_W,CTDFLUOR,CTDFLUOR_FLAG_W,CHLORA,CHLORA_FLAG_W,PAR,PAR_FLAG_W,SILCAT,SILCAT_FLAG_W,SILUNC,NITRAT,NITRAT_FLAG_W,NRAUNC,NITRIT,NITRIT_FLAG_W,NRIUNC,PHSPHT,PHSPHT_FLAG_W,PHPUNC,CFC-11,CFC-11_FLAG_W,CFC-12,CFC-12_FLAG_W,CFC113,CFC113_FLAG_W,SF6,SF6_FLAG_W,TCARBN,TCARBN_FLAG_W,ALKALI,ALKALI_FLAG_W,PH_TOT,PH_TMP,PH_TOT_FLAG_W,DELC13,DELC13_FLAG_W,C13ERR,DELC14,DELC14_FLAG_W,C14ERR,CS-134,CS-134_FLAG_W,CS134ER,CS-137,CS-137_FLAG_W,CS137ER
,,,,,,,,UTC,DEG,DEG,METERS,DBAR,,ITS-90,,ITS-90,,PSS-78,,PSS-78,,G/KG,,UMOL/KG,,UMOL/KG,,%TRANS,/METER,,MG/M^3,,MG/CUM,,UE/SQM/S,,UMOL/KG,,UMOL/KG,UMOL/KG,,UMOL/KG,UMOL/KG,,UMOL/KG,UMOL/KG,,UMOL/KG,PMOL/KG,,PMOL/KG,,PMOL/KG,,FMOL/KG,,UMOL/KG,,UMOL/KG,,,DEG C,,/MILLE,,/MILLE,/MILLE,,/MILLE,MBQ/KG,,MBQ/KG,MBQ/KG,,MBQ/KG
  49NZ20121128,  P14S,    16,  1,     36, X12J36,2,20121207,0954,-59.4712, 174.0163, 4968,      5.4,2,   5.2358,2,   5.23567,2,  34.0293,2,  34.0295,2,-999.0000,9,   311.97,2,   311.52,2,   96.322,   0.1499,2,    0.540,2,  -999.00,9,    0.371,2,     4.59,2,     0.06,    21.27,2,     0.03,     0.20,2,     0.01,     1.46,2,     0.01,    4.417,2,    2.501,2,    0.406,2, -999.000,9,   -999.0,9,   -999.0,9,-999.0000,     -999,9, -999.000,9, -999.000,   -999.0,9,   -999.0, -999.000,9, -999.000, -999.000,9, -999.000
  49NZ20121128,  P14S,    16,  1,     35, X12J35,2,20121207,0954,-59.4712, 174.0163, 4968,     25.4,2,   5.0949,2,   5.09368,2,  34.0378,2,  34.0375,2,-999.0000,9,   312.00,2,   311.64,2,   95.555,   0.1819,2,    0.660,2,  -999.00,9,    0.000,2,     4.59,2,     0.06,    21.16,2,     0.03,     0.19,2,     0.01,     1.46,2,     0.01,    4.398,2,    2.499,2,    0.400,2, -999.000,9,   -999.0,9,   -999.0,9,-999.0000,     -999,9, -999.000,9, -999.000,   -999.0,9,   -999.0, -999.000,9, -999.000, -999.000,9, -999.000
  49NZ20121128,  P14S,    16,  1,     34, X12J34,2,20121207,0954,-59.4712, 174.0163, 4968,     51.1,2,   4.6826,2,   4.68255,2,  34.0042,2,  34.0040,2,-999.0000,9,   314.76,2,   314.18,2,   96.249,   0.1529,2,    0.700,2,  -999.00,9,    0.000,2,     4.76,2,     0.06,    21.84,2,     0.03,     0.18,2,     0.01,     1.52,2,     0.01,    4.506,6,    2.542,6,    0.422,6, -999.000,9,   -999.0,9,   -999.0,9,-999.0000,     -999,9, -999.000,9, -999.000,   -999.0,9,   -999.0, -999.000,9, -999.000, -999.000,9, -999.000
  49NZ20121128,  P14S,    16,  1,     33, X12J33,2,20121207,0954,-59.4712, 174.0163, 4968,     75.9,2,   4.3453,2,   4.34635,2,  33.9972,2,  33.9974,2,-999.0000,9,   314.44,2,   313.97,2,   97.033,   0.1205,2,    0.520,2,  -999.00,9,    0.000,2,     6.07,2,     0.06,    22.54,2,     0.03,     0.17,2,     0.01,     1.59,2,     0.01,    4.572,2,    2.580,2,    0.444,2, -999.000,9,   -999.0,9,   -999.0,9,-999.0000,     -999,9, -999.000,9, -999.000,   -999.0,9,   -999.0, -999.000,9, -999.000, -999.000,9, -999.000
  49NZ20121128,  P14S,    16,  1,     32, X12J32,2,20121207,0954,-59.4712, 174.0163, 4968,    101.3,2,   3.9762,2,   3.97849,2,  33.9931,2,  33.9935,2,-999.0000,9,   308.58,2,   308.18,2,   98.452,   0.0624,2,    0.320,2,  -999.00,9,    0.000,2,     8.54,2,     0.07,    23.68,2,     0.04,     0.16,2,     0.01,     1.68,2,     0.01,    4.586,2,    2.579,2,    0.415,2, -999.000,9,   -999.0,9,   -999.0,9,-999.0000,     -999,9, -999.000,9, -999.000,   -999.0,9,   -999.0, -999.000,9, -999.000, -999.000,9, -999.000
  49NZ20121128,  P14S,    16,  1,     31, X12J31,2,20121207,0954,-59.4712, 174.0163, 4968,    125.4,2,   3.8262,2,   3.82553,2,  34.0004,2,  34.0002,2,-999.0000,9,   301.71,2,   301.28,2,   99.146,   0.0343,2,    0.190,2,  -999.00,9,    0.000,2,    10.53,2,     0.07,    24.64,2,     0.04,     0.15,2,     0.01,     1.73,2,     0.01,    4.557,2,    2.545,2,    0.415,2, -999.000,9,   -999.0,9,   -999.0,9,-999.0000,     -999,9, -999.000,9, -999.000,   -999.0,9,   -999.0, -999.000,9, -999.000, -999.000,9, -999.000
  49NZ20121128,  P14S,    16,  1,     30, X12J30,2,20121207,0954,-59.4712, 174.0163, 4968,    150.6,2,   3.8321,2,   3.83069,2,  34.0195,2,  34.0188,2,-999.0000,9,   295.41,2,   295.49,2,   99.175,   0.0331,2,    0.170,2,  -999.00,9,    0.000,2,    11.49,2,     0.07,    25.12,2,     0.04,     0.14,2,     0.01,     1.76,2,     0.01,    4.492,2,    2.507,2,    0.405,2, -999.000,9,   -999.0,9,   -999.0,9,-999.0000,     -999,9, -999.000,9, -999.000,   -999.0,9,   -999.0, -999.000,9, -999.000, -999.000,9, -999.000
  49NZ20121128,  P14S,    16,  1,     29, X12J29,2,20121207,0954,-59.4712, 174.0163, 4968,    200.7,2,   3.3397,2,   3.33970,2,  33.9873,2,  33.9867,2,-999.0000,9,   302.00,2,   301.60,2,   99.487,   0.0206,2,    0.100,2,  -999.00,9,    0.000,2,    12.52,2,     0.07,    25.68,2,     0.04,     0.19,2,     0.01,     1.80,2,     0.01,    4.640,2,    2.588,2,    0.425,2, -999.000,9,   -999.0,9,   -999.0,9,-999.0000,     -999,9, -999.000,9, -999.000,   -999.0,9,   -999.0, -999.000,9, -999.000, -999.000,9, -999.000
  49NZ20121128,  P14S,    16,  1,     28, X12J28,2,20121207,0954,-59.4712, 174.0163, 4968,    251.7,2,   3.2870,2,   3.28698,2,  34.0175,2,  34.0167,2,-999.0000,9,   288.58,2,   287.97,2,   99.662,   0.0135,2,    0.040,2,  -999.00,9,    0.000,2,    15.60,2,     0.07,    27.10,2,     0.04,     0.10,2,     0.01,     1.87,2,     0.01,    4.485,2,    2.477,2,    0.384,2, -999.000,9,   -999.0,9,   -999.0,9,-999.0000,     -999,9, -999.000,9, -999.000,   -999.0,9,   -999.0, -999.000,9, -999.000, -999.000,9, -999.000
  49NZ20121128,  P14S,    16,  1,     27, X12J27,2,20121207,0954,-59.4712, 174.0163, 4968,    301.6,2,   3.5317,2,   3.53196,2,  34.0899,2,  34.0886,2,-999.0000,9,   266.71,2,   266.54,2,   99.767,   0.0093,2,    0.010,2,  -999.00,9,    0.000,2,    19.50,2,     0.08,    28.42,2,     0.04,     0.02,2,     0.01,     1.95,2,     0.01,    4.121,2,    2.250,2,    0.345,2, -999.000,9,   -999.0,9,   -999.0,9,-999.0000,     -999,9, -999.000,9, -999.000,   -999.0,9,   -999.0, -999.000,9, -999.000, -999.000,9, -999.000
  49NZ20121128,  P14S,    16,  1,     26, X12J26,2,20121207,0954,-59.4712, 174.0163, 4968,    401.3,2,   3.4261,2,   3.42534,2,  34.1751,2,  34.1752,2,-999.0000,9,   243.40,2,   243.50,2,   99.779,   0.0088,2,   -0.000,2,  -999.00,9,    0.000,2,    26.84,2,     0.08,    30.31,2,     0.04,     0.01,2,     0.01,     2.08,2,     0.01,    3.546,2,    1.905,2,    0.281,2, -999.000,9,   -999.0,9,   -999.0,9,-999.0000,     -999,9, -999.000,9, -999.000,   -999.0,9,   -999.0, -999.000,9, -999.000, -999.000,9, -999.000
  49NZ20121128,  P14S,    16,  1,     25, X12J25,2,20121207,0954,-59.4712, 174.0163, 4968,    502.0,2,   3.0828,2,   3.08064,2,  34.2371,2,  34.2370,2,-999.0000,9,   227.13,2,   227.19,2,   99.829,   0.0068,2,   -0.000,2,  -999.00,9,    0.000,2,    35.59,2,     0.09,    31.89,2,     0.04,     0.01,2,     0.01,     2.19,2,     0.01,    2.962,2,    1.568,2,    0.226,2, -999.000,9,   -999.0,9,   -999.0,9,-999.0000,     -999,9, -999.000,9, -999.000,   -999.0,9,   -999.0, -999.000,9, -999.000, -999.000,9, -999.000
  49NZ20121128,  P14S,    16,  1,     24, X12J24,2,20121207,0954,-59.4712, 174.0163, 4968,    600.6,2,   2.8875,2,   2.89092,2,  34.3064,2,  34.3054,2,-999.0000,9,   210.13,2,   210.24,2,   99.861,   0.0056,2,   -0.000,2,  -999.00,9,    0.000,2,    44.51,2,     0.10,    33.07,2,     0.05,     0.01,2,     0.01,     2.27,2,     0.01,    2.340,6,    1.226,6,    0.151,6, -999.000,9,   -999.0,9,   -999.0,9,-999.0000,     -999,9, -999.000,9, -999.000,   -999.0,9,   -999.0, -999.000,9, -999.000, -999.000,9, -999.000
  49NZ20121128,  P14S,    16,  1,     23, X12J23,2,20121207,0954,-59.4712, 174.0163, 4968,    701.5,2,   2.8604,2,   2.86048,2,  34.3837,2,  34.3835,2,-999.0000,9,   193.60,2,   193.57,2,   99.882,   0.0047,2,    0.000,2,  -999.00,9,    0.000,2,    52.33,2,     0.11,    33.90,2,     0.05,     0.01,2,     0.01,     2.33,2,     0.01,    1.668,2,    0.862,2,    0.098,2, -999.000,9,   -999.0,9,   -999.0,9,-999.0000,     -999,9, -999.000,9, -999.000,   -999.0,9,   -999.0, -999.000,9, -999.000, -999.000,9, -999.000
  49NZ20121128,  P14S,    16,  1,     22, X12J22,2,20121207,0954,-59.4712, 174.0163, 4968,    801.6,2,   2.7369,2,   2.73683,2,  34.4404,2,  34.4403,2,-999.0000,9,   184.48,2,   184.44,2,   99.892,   0.0043,2,    0.000,2,  -999.00,9,    0.000,2,    58.47,2,     0.11,    34.31,2,     0.05,     0.01,2,     0.01,     2.35,2,     0.01,    1.281,2,    0.651,2,    0.073,2, -999.000,9,   -999.0,9,   -999.0,9,-999.0000,     -999,9, -999.000,9, -999.000,   -999.0,9,   -999.0, -999.000,9, -999.000, -999.000,9, -999.000
  49NZ20121128,  P14S,    16,  1,     21, X12J21,2,20121207,0954,-59.4712, 174.0163, 4968,    900.2,2,   2.6310,2,   2.63102,2,  34.5015,2,  34.5010,2,-999.0000,9,   177.71,2,   177.52,2,   99.884,   0.0046,2,    0.000,2,  -999.00,9,    0.000,2,    64.27,2,     0.12,    34.33,2,     0.05,     0.01,2,     0.01,     2.36,2,     0.01,    0.924,2,    0.467,2,    0.058,2, -999.000,9,   -999.0,9,   -999.0,9,-999.0000,     -999,9, -999.000,9, -999.000,   -999.0,9,   -999.0, -999.000,9, -999.000, -999.000,9, -999.000
  49NZ20121128,  P14S,    16,  1,     20, X12J20,2,20121207,0954,-59.4712, 174.0163, 4968,   1000.5,2,   2.5490,2,   2.54883,2,  34.5457,2,  34.5455,2,-999.0000,9,   174.78,2,   174.56,2,   99.898,   0.0041,2,    0.000,2,  -999.00,9,    0.000,2,    67.95,2,     0.12,    34.18,2,     0.05,     0.01,2,     0.01,     2.35,2,     0.01,    0.717,2,    0.360,2,    0.030,2, -999.000,9,   -999.0,9,   -999.0,9,-999.0000,     -999,9, -999.000,9, -999.000,   -999.0,9,   -999.0, -999.000,9, -999.000, -999.000,9, -999.000
  49NZ20121128,  P14S,    16,  1,     19, X12J19,2,20121207,0954,-59.4712, 174.0163, 4968,   1251.0,2,   2.3843,2,   2.38470,2,  34.6415,2,  34.6409,2,-999.0000,9,   175.35,2,   175.28,2,   99.948,   0.0021,2,    0.000,2,  -999.00,9,    0.000,2,    74.40,2,     0.13,    33.15,2,     0.05,     0.01,2,     0.01,     2.28,2,     0.01,    0.371,6,    0.182,6,    0.018,6, -999.000,9,   -999.0,9,   -999.0,9,-999.0000,     -999,9, -999.000,9, -999.000,   -999.0,9,   -999.0, -999.000,9, -999.000, -999.000,9, -999.000
  49NZ20121128,  P14S,    16,  1,     18, X12J18,2,20121207,0954,-59.4712, 174.0163, 4968,   1502.2,2,   2.2326,2,   2.23269,2,  34.6965,2,  34.6957,2,-999.0000,9,   180.97,2,   180.79,2,   99.948,   0.0021,2,    0.000,2,  -999.00,9,    0.000,2,    78.30,2,     0.13,    32.12,2,     0.05,     0.01,2,     0.01,     2.21,2,     0.01,    0.231,2,    0.111,2,    0.013,2, -999.000,9,   -999.0,9,   -999.0,9,-999.0000,     -999,9, -999.000,9, -999.000,   -999.0,9,   -999.0, -999.000,9, -999.000, -999.000,9, -999.000
  49NZ20121128,  P14S,    16,  1,     17, X12J17,2,20121207,0954,-59.4712, 174.0163, 4968,   1751.1,2,   2.0757,2,   2.07609,2,  34.7249,2,  34.7248,2,-999.0000,9,   186.56,2,   186.52,2,   99.948,   0.0021,2,    0.000,2,  -999.00,9,    0.000,2,    82.26,2,     0.13,    31.42,2,     0.04,     0.01,2,     0.01,     2.16,2,     0.01,    0.171,2,    0.082,2,    0.013,2, -999.000,9,   -999.0,9,   -999.0,9,-999.0000,     -999,9, -999.000,9, -999.000,   -999.0,9,   -999.0, -999.000,9, -999.000, -999.000,9, -999.000
  49NZ20121128,  P14S,    16,  1,     16, X12J16,2,20121207,0954,-59.4712, 174.0163, 4968,   2001.0,2,   1.8867,2,   1.88687,2,  34.7369,2,  34.7370,2,-999.0000,9,   191.28,2,   191.25,2,   99.965,   0.0014,2,    0.000,2,  -999.00,9,    0.000,2,    87.31,2,     0.14,    31.14,2,     0.04,     0.01,2,     0.01,     2.14,2,     0.01,    0.141,2,    0.068,2,    0.008,2, -999.000,9,   -999.0,9,   -999.0,9,-999.0000,     -999,9, -999.000,9, -999.000,   -999.0,9,   -999.0, -999.000,9, -999.000, -999.000,9, -999.000
  49NZ20121128,  P14S,    16,  1,     15, X12J15,2,20121207,0954,-59.4712, 174.0163, 4968,   2249.5,2,   1.6982,2,   1.69821,2,  34.7383,2,  34.7378,2,-999.0000,9,   195.09,2,   194.89,2,   99.961,   0.0016,2,   -0.000,2,  -999.00,9,    0.000,2,    92.70,2,     0.14,    31.12,2,     0.04,     0.01,2,     0.01,     2.14,2,     0.01,    0.129,2,    0.060,2,    0.005,2, -999.000,9,   -999.0,9,   -999.0,9,-999.0000,     -999,9, -999.000,9, -999.000,   -999.0,9,   -999.0, -999.000,9, -999.000, -999.000,9, -999.000
  49NZ20121128,  P14S,    16,  1,     14, X12J14,2,20121207,0954,-59.4712, 174.0163, 4968,   2500.5,2,   1.5023,2,   1.50256,2,  34.7341,2,  34.7339,2,-999.0000,9,   198.07,2,   197.97,2,   99.980,   0.0008,2,    0.000,2,  -999.00,9,    0.000,2,    98.42,2,     0.15,    31.35,2,     0.04,     0.01,2,     0.01,     2.16,2,     0.01,    0.120,2,    0.056,2,    0.002,2, -999.000,9,   -999.0,9,   -999.0,9,-999.0000,     -999,9, -999.000,9, -999.000,   -999.0,9,   -999.0, -999.000,9, -999.000, -999.000,9, -999.000
  49NZ20121128,  P14S,    16,  1,     13, X12J13,2,20121207,0954,-59.4712, 174.0163, 4968,   2749.3,2,   1.3452,2,   1.34538,2,  34.7286,2,  34.7280,2,-999.0000,9,   200.35,2,   200.21,2,   99.963,   0.0015,2,   -0.000,2,  -999.00,9,    0.000,2,   103.00,2,     0.15,    31.51,2,     0.04,     0.01,2,     0.01,     2.16,2,     0.01,    0.124,2,    0.061,2,    0.001,2, -999.000,9,   -999.0,9,   -999.0,9,-999.0000,     -999,9, -999.000,9, -999.000,   -999.0,9,   -999.0, -999.000,9, -999.000, -999.000,9, -999.000
  49NZ20121128,  P14S,    16,  1,     12, X12J12,2,20121207,0954,-59.4712, 174.0163, 4968,   3000.0,2,   1.1986,2,   1.19871,2,  34.7222,2,  34.7218,2,-999.0000,9,   202.82,2,   202.51,2,   99.917,   0.0033,2,   -0.000,2,  -999.00,9,    0.000,2,   107.67,2,     0.16,    31.71,2,     0.04,     0.01,2,     0.01,     2.18,2,     0.01,    0.152,2,    0.068,2,    0.006,2, -999.000,9,   -999.0,9,   -999.0,9,-999.0000,     -999,9, -999.000,9, -999.000,   -999.0,9,   -999.0, -999.000,9, -999.000, -999.000,9, -999.000
  49NZ20121128,  P14S,    16,  1,     11, X12J11,2,20121207,0954,-59.4712, 174.0163, 4968,   3250.2,2,   1.0872,2,   1.08732,2,  34.7169,2,  34.7163,2,-999.0000,9,   204.84,2,   204.63,2,   99.953,   0.0019,2,   -0.000,2,  -999.00,9,    0.000,2,   111.24,2,     0.16,    31.89,2,     0.04,     0.01,2,     0.01,     2.20,2,     0.01,    0.180,2,    0.085,2,    0.005,2, -999.000,9,   -999.0,9,   -999.0,9,-999.0000,     -999,9, -999.000,9, -999.000,   -999.0,9,   -999.0, -999.000,9, -999.000, -999.000,9, -999.000
  49NZ20121128,  P14S,    16,  1,     10, X12J10,2,20121207,0954,-59.4712, 174.0163, 4968,   3500.7,2,   1.0044,2,   1.00457,2,  34.7125,2,  34.7122,2,-999.0000,9,   206.56,2,   205.98,2,   99.961,   0.0016,2,   -0.000,2,  -999.00,9,    0.000,2,   113.91,2,     0.16,    32.03,2,     0.04,     0.01,2,     0.01,     2.21,2,     0.01,    0.209,2,    0.098,2,    0.007,2, -999.000,9,   -999.0,9,   -999.0,9,-999.0000,     -999,9, -999.000,9, -999.000,   -999.0,9,   -999.0, -999.000,9, -999.000, -999.000,9, -999.000
  49NZ20121128,  P14S,    16,  1,      9, X12J09,2,20121207,0954,-59.4712, 174.0163, 4968,   3750.5,2,   0.9412,2,   0.94134,2,  34.7088,2,  34.7087,2,-999.0000,9,   207.87,2,   207.44,2,   99.946,   0.0022,2,   -0.000,2,  -999.00,9,    0.000,2,   116.28,2,     0.16,    32.15,2,     0.05,     0.00,2,     0.01,     2.21,2,     0.01,    0.235,2,    0.112,2,    0.007,2, -999.000,9,   -999.0,9,   -999.0,9,-999.0000,     -999,9, -999.000,9, -999.000,   -999.0,9,   -999.0, -999.000,9, -999.000, -999.000,9, -999.000
  49NZ20121128,  P14S,    16,  1,      8, X12J08,2,20121207,0954,-59.4712, 174.0163, 4968,   4001.4,2,   0.8919,2,   0.89198,2,  34.7058,2,  34.7057,2,-999.0000,9,   209.01,2,   208.50,2,   99.946,   0.0022,2,   -0.000,2,  -999.00,9,    0.000,2,   118.28,2,     0.17,    32.21,2,     0.05,     0.01,2,     0.01,     2.22,2,     0.01,    0.261,6,    0.126,6,    0.013,6, -999.000,9,   -999.0,9,   -999.0,9,-999.0000,     -999,9, -999.000,9, -999.000,   -999.0,9,   -999.0, -999.000,9, -999.000, -999.000,9, -999.000
  49NZ20121128,  P14S,    16,  1,      7, X12J07,2,20121207,0954,-59.4712, 174.0163, 4968,   4251.3,2,   0.8724,2,   0.87243,2,  34.7038,2,  34.7038,2,-999.0000,9,   209.36,2,   208.83,2,   99.930,   0.0028,2,   -0.000,2,  -999.00,9,    0.000,2,   120.29,2,     0.17,    32.30,2,     0.05,     0.01,2,     0.01,     2.22,2,     0.01,    0.281,2,    0.134,2,    0.012,2, -999.000,9,   -999.0,9,   -999.0,9,-999.0000,     -999,9, -999.000,9, -999.000,   -999.0,9,   -999.0, -999.000,9, -999.000, -999.000,9, -999.000
  49NZ20121128,  P14S,    16,  1,      6, X12J06,2,20121207,0954,-59.4712, 174.0163, 4968,   4501.1,2,   0.8759,2,   0.87595,2,  34.7027,2,  34.7027,2,-999.0000,9,   209.50,2,   209.16,2,   99.890,   0.0044,2,   -0.000,2,  -999.00,9,    0.000,2,   121.70,2,     0.17,    32.35,2,     0.05,     0.01,2,     0.01,     2.23,2,     0.01,    0.296,2,    0.143,2,    0.016,2, -999.000,9,   -999.0,9,   -999.0,9,-999.0000,     -999,9, -999.000,9, -999.000,   -999.0,9,   -999.0, -999.000,9, -999.000, -999.000,9, -999.000
  49NZ20121128,  P14S,    16,  1,      5, X12J05,2,20121207,0954,-59.4712, 174.0163, 4968,   4750.4,2,   0.8894,2,   0.88940,2,  34.7018,2,  34.7021,2,-999.0000,9,   209.80,2,   209.68,2,   99.859,   0.0056,2,   -0.000,2,  -999.00,9,    0.000,2,   121.24,2,     0.17,    32.34,2,     0.05,     0.01,2,     0.01,     2.23,2,     0.01,    0.316,2,    0.151,2,    0.017,2, -999.000,9,   -999.0,9,   -999.0,9,-999.0000,     -999,9, -999.000,9, -999.000,   -999.0,9,   -999.0, -999.000,9, -999.000, -999.000,9, -999.000
  49NZ20121128,  P14S,    16,  1,      4, X12J04,2,20121207,0954,-59.4712, 174.0163, 4968,   5001.8,2,   0.9021,2,   0.90216,2,  34.7009,2,  34.7013,2,-999.0000,9,   210.11,2,   210.01,2,   99.806,   0.0078,2,   -0.000,2,  -999.00,9,    0.000,2,   121.15,2,     0.17,    32.32,2,     0.05,     0.01,2,     0.01,     2.23,2,     0.01,    0.341,2,    0.165,2,    0.017,2, -999.000,9,   -999.0,9,   -999.0,9,-999.0000,     -999,9, -999.000,9, -999.000,   -999.0,9,   -999.0, -999.000,9, -999.000, -999.000,9, -999.000
  49NZ20121128,  P14S,    16,  1,      1, X12J01,2,20121207,0954,-59.4712, 174.0163, 4968,   5066.1,2,   0.8988,2,   0.89884,2,  34.7004,2,  34.7009,2,-999.0000,9,   210.30,2,   210.28,2,   99.775,   0.0090,2,   -0.000,2,  -999.00,9,    0.000,2,   121.20,2,     0.17,    32.32,2,     0.05,     0.01,2,     0.01,     2.23,2,     0.01,    0.356,2,    0.174,2,    0.021,2, -999.000,9,   -999.0,9,   -999.0,9,-999.0000,     -999,9, -999.000,9, -999.000,   -999.0,9,   -999.0, -999.000,9, -999.000, -999.000,9, -999.000