BOTTLE,20220819CCHSIOAMB
EXPOCODE,SECT_ID,STNNBR,CASTNO,SAMPNO,BTLNBR,BTLNBR_FLAG_W,DATE,TIME,LATITUDE,LONGITUDE,DEPTH,CTDPRS,CTDPRS_FLAG_W,CTDTMP,CTDTMP_FLAG_W,SBE35,SBE35_FLAG_W,CTDSAL,CTDSAL_FLAG_W,SALNTY,SALNTY_FLAG_W,DNSSAL,DNSSAL_FLAG_W,CTDOXY,CTDOXY_FLAG_W,OXYGEN,OXYGEN_FLAG_W,CTDXMISS,CTDXMISSCP,CTDXMISS_FLAG_W,CTDFLUOR,CTDFLUOR_FLAG_W,CHLORA,CHLORA_FLAG_W,PAR,PAR_FLAG_W,SILCAT,SILCAT_FLAG_W,SILUNC,NITRAT,NITRAT_FLAG_W,NRAUNC,NITRIT,NITRIT_FLAG_W,NRIUNC,PHSPHT,PHSPHT_FLAG_W,PHPUNC,CFC-11,CFC-11_FLAG_W,CFC-12,CFC-12_FLAG_W,CFC113,CFC113_FLAG_W,SF6,SF6_FLAG_W,TCARBN,TCARBN_FLAG_W,ALKALI,ALKALI_FLAG_W,PH_TOT,PH_TMP,PH_TOT_FLAG_W,DELC13,DELC13_FLAG_W,C13ERR,DELC14,DELC14_FLAG_W,C14ERR,CS-134,CS-134_FLAG_W,CS134ER,CS-137,CS-137_FLAG_W,CS137ER
,,,,,,,,UTC,DEG,DEG,METERS,DBAR,,ITS-90,,ITS-90,,PSS-78,,PSS-78,,G/KG,,UMOL/KG,,UMOL/KG,,%TRANS,/METER,,MG/M^3,,MG/CUM,,UE/SQM/S,,UMOL/KG,,UMOL/KG,UMOL/KG,,UMOL/KG,UMOL/KG,,UMOL/KG,UMOL/KG,,UMOL/KG,PMOL/KG,,PMOL/KG,,PMOL/KG,,FMOL/KG,,UMOL/KG,,UMOL/KG,,,DEG C,,/MILLE,,/MILLE,/MILLE,,/MILLE,MBQ/KG,,MBQ/KG,MBQ/KG,,MBQ/KG
  49NZ20121128,   S04,    63,  1,     36, X12J36,2,20121216,1452,-62.5955, 142.2300, 4110,      5.5,2,  -0.5050,2,  -0.50539,2,  33.7660,2,  33.7656,2,-999.0000,9,   361.02,2,   361.72,2,   87.964,   0.5130,2,    1.790,2,  -999.00,9,    2.703,2,    30.62,2,     0.09,    25.20,2,     0.04,     0.18,2,     0.01,     1.67,2,     0.01,    5.933,2,    3.263,2,    0.542,2, -999.000,9,   -999.0,9,   -999.0,9,-999.0000,     -999,9, -999.000,9, -999.000,   -999.0,9,   -999.0, -999.000,9, -999.000, -999.000,9, -999.000
  49NZ20121128,   S04,    63,  1,     35, X12J35,2,20121216,1452,-62.5955, 142.2300, 4110,     25.7,2,  -0.5083,2,  -0.50926,2,  33.7662,2,  33.7664,2,-999.0000,9,   360.83,2,   361.40,2,   88.371,   0.4945,2,    1.920,2,  -999.00,9,    0.082,2,    30.69,2,     0.09,    25.28,2,     0.04,     0.18,2,     0.01,     1.69,2,     0.01,    5.941,2,    3.261,2,    0.532,2, -999.000,9,   -999.0,9,   -999.0,9,-999.0000,     -999,9, -999.000,9, -999.000,   -999.0,9,   -999.0, -999.000,9, -999.000, -999.000,9, -999.000
  49NZ20121128,   S04,    63,  1,     34, X12J34,2,20121216,1452,-62.5955, 142.2300, 4110,     50.2,2,  -1.5011,2,  -1.50291,2,  33.8960,2,  33.8907,2,-999.0000,9,   337.60,2,   339.33,2,   96.078,   0.1600,2,    0.630,2,  -999.00,9,    0.000,2,    37.16,2,     0.09,    28.40,2,     0.04,     0.20,2,     0.01,     1.98,2,     0.01,    5.651,6,    3.106,6,    0.521,6, -999.000,9,   -999.0,9,   -999.0,9,-999.0000,     -999,9, -999.000,9, -999.000,   -999.0,9,   -999.0, -999.000,9, -999.000, -999.000,9, -999.000
  49NZ20121128,   S04,    63,  1,     33, X12J33,2,20121216,1452,-62.5955, 142.2300, 4110,     74.9,2,  -1.1721,2,  -1.17093,2,  34.0287,2,  34.0272,2,-999.0000,9,   309.64,2,   310.14,2,   99.464,   0.0215,2,    0.140,2,  -999.00,9,    0.000,2,    43.61,2,     0.10,    30.70,2,     0.04,     0.14,2,     0.01,     2.11,2,     0.01,    5.023,2,    2.758,2,    0.458,2, -999.000,9,   -999.0,9,   -999.0,9,-999.0000,     -999,9, -999.000,9, -999.000,   -999.0,9,   -999.0, -999.000,9, -999.000, -999.000,9, -999.000
  49NZ20121128,   S04,    63,  1,     32, X12J32,2,20121216,1452,-62.5955, 142.2300, 4110,    100.9,2,   0.1418,2,   0.14664,2,  34.1891,2,  34.1866,2,-999.0000,9,   260.93,2,   261.32,2,   99.674,   0.0131,2,    0.100,2,  -999.00,9,    0.000,2,    51.84,2,     0.11,    32.67,2,     0.05,     0.02,2,     0.01,     2.23,2,     0.01,    3.737,2,    2.036,2,    0.325,2, -999.000,9,   -999.0,9,   -999.0,9,-999.0000,     -999,9, -999.000,9, -999.000,   -999.0,9,   -999.0, -999.000,9, -999.000, -999.000,9, -999.000
  49NZ20121128,   S04,    63,  1,     31, X12J31,2,20121216,1452,-62.5955, 142.2300, 4110,    126.8,2,   1.4853,2,   1.47257,2,  34.3709,2,  34.3707,2,-999.0000,9,   207.07,2,   208.68,2,   99.718,   0.0113,2,    0.030,2,  -999.00,9,    0.000,2,    61.99,2,     0.11,    34.53,2,     0.05,     0.01,2,     0.01,     2.36,2,     0.01,    2.229,2,    1.200,2,    0.185,2, -999.000,9,   -999.0,9,   -999.0,9,-999.0000,     -999,9, -999.000,9, -999.000,   -999.0,9,   -999.0, -999.000,9, -999.000, -999.000,9, -999.000
  49NZ20121128,   S04,    63,  1,     30, X12J30,2,20121216,1452,-62.5955, 142.2300, 4110,    149.9,2,   2.0348,2,   2.03432,2,  34.4723,2,  34.4713,2,-999.0000,9,   183.77,2,   184.16,2,   99.697,   0.0121,2,    0.010,2,  -999.00,9,    0.000,2,    67.63,2,     0.12,    34.96,2,     0.05,     0.01,2,     0.01,     2.39,2,     0.01,    1.422,2,    0.750,2,    0.115,2, -999.000,9,   -999.0,9,   -999.0,9,-999.0000,     -999,9, -999.000,9, -999.000,   -999.0,9,   -999.0, -999.000,9, -999.000, -999.000,9, -999.000
  49NZ20121128,   S04,    63,  1,     29, X12J29,2,20121216,1452,-62.5955, 142.2300, 4110,    200.0,2,   2.1261,2,   2.12582,2,  34.5407,2,  34.5403,2,-999.0000,9,   176.53,2,   176.31,2,   99.801,   0.0080,2,    0.000,2,  -999.00,9,    0.000,2,    71.47,2,     0.12,    34.67,2,     0.05,     0.01,2,     0.01,     2.37,2,     0.01,    1.004,2,    0.524,2,    0.084,2, -999.000,9,   -999.0,9,   -999.0,9,-999.0000,     -999,9, -999.000,9, -999.000,   -999.0,9,   -999.0, -999.000,9, -999.000, -999.000,9, -999.000
  49NZ20121128,   S04,    63,  1,     28, X12J28,2,20121216,1452,-62.5955, 142.2300, 4110,    251.9,2,   2.1400,2,   2.13983,2,  34.5836,2,  34.5822,2,-999.0000,9,   175.08,2,   174.94,2,   99.812,   0.0075,2,    0.000,2,  -999.00,9,    0.000,2,    73.66,2,     0.12,    34.28,2,     0.05,     0.01,2,     0.01,     2.34,2,     0.01,    0.805,2,    0.418,2,    0.065,2, -999.000,9,   -999.0,9,   -999.0,9,-999.0000,     -999,9, -999.000,9, -999.000,   -999.0,9,   -999.0, -999.000,9, -999.000, -999.000,9, -999.000
  49NZ20121128,   S04,    63,  1,     27, X12J27,2,20121216,1452,-62.5955, 142.2300, 4110,    301.0,2,   2.1228,2,   2.12222,2,  34.6105,2,  34.6098,2,-999.0000,9,   175.34,2,   175.32,2,   99.852,   0.0059,2,    0.000,2,  -999.00,9,    0.000,2,    74.98,2,     0.13,    33.92,2,     0.05,     0.01,2,     0.01,     2.32,2,     0.01,    0.694,2,    0.357,2,    0.059,2, -999.000,9,   -999.0,9,   -999.0,9,-999.0000,     -999,9, -999.000,9, -999.000,   -999.0,9,   -999.0, -999.000,9, -999.000, -999.000,9, -999.000
  49NZ20121128,   S04,    63,  1,     26, X12J26,3,20121216,1452,-62.5955, 142.2300, 4110,    402.3,2,   2.0993,2,   2.09892,2,  34.6568,2,  34.6563,2,-999.0000,9,   177.22,2,   177.21,2,   99.894,   0.0042,2,    0.000,2,  -999.00,9,    0.000,2,    76.87,2,     0.13,    33.02,2,     0.05,     0.01,2,     0.01,     2.25,2,     0.01,    0.512,2,    0.258,2,    0.049,2, -999.000,9,   -999.0,9,   -999.0,9,-999.0000,     -999,9, -999.000,9, -999.000,   -999.0,9,   -999.0, -999.000,9, -999.000, -999.000,9, -999.000
  49NZ20121128,   S04,    63,  1,     25, X12J25,2,20121216,1452,-62.5955, 142.2300, 4110,    500.4,2,   2.0420,2,   2.04181,2,  34.6876,2,  34.6875,2,-999.0000,9,   180.66,2,   180.73,2,   99.902,   0.0039,2,    0.000,2,  -999.00,9,    0.000,2,    78.95,2,     0.13,    32.39,2,     0.05,     0.01,2,     0.01,     2.21,2,     0.01,    0.415,2,    0.212,2,    0.039,2, -999.000,9,   -999.0,9,   -999.0,9,-999.0000,     -999,9, -999.000,9, -999.000,   -999.0,9,   -999.0, -999.000,9, -999.000, -999.000,9, -999.000
  49NZ20121128,   S04,    63,  1,     24, X12J24,2,20121216,1452,-62.5955, 142.2300, 4110,    600.7,2,   2.0164,2,   2.01614,2,  34.7131,2,  34.7133,2,-999.0000,9,   184.09,2,   184.17,2,   99.919,   0.0032,2,    0.000,2,  -999.00,9,    0.000,2,    80.27,2,     0.13,    31.72,2,     0.04,     0.01,2,     0.01,     2.17,2,     0.01,    0.306,6,    0.150,6,    0.038,6, -999.000,9,   -999.0,9,   -999.0,9,-999.0000,     -999,9, -999.000,9, -999.000,   -999.0,9,   -999.0, -999.000,9, -999.000, -999.000,9, -999.000
  49NZ20121128,   S04,    63,  1,     23, X12J23,2,20121216,1452,-62.5955, 142.2300, 4110,    700.1,2,   1.9620,2,   1.96182,2,  34.7281,2,  34.7278,2,-999.0000,9,   187.58,2,   187.79,2,   99.927,   0.0029,2,    0.000,2,  -999.00,9,    0.000,2,    81.57,2,     0.13,    31.25,2,     0.04,     0.01,2,     0.01,     2.14,2,     0.01,    0.248,2,    0.121,2,    0.029,2, -999.000,9,   -999.0,9,   -999.0,9,-999.0000,     -999,9, -999.000,9, -999.000,   -999.0,9,   -999.0, -999.000,9, -999.000, -999.000,9, -999.000
  49NZ20121128,   S04,    63,  1,     22, X12J22,2,20121216,1452,-62.5955, 142.2300, 4110,    802.6,2,   1.8951,2,   1.89514,2,  34.7371,2,  34.7370,2,-999.0000,9,   190.54,2,   190.58,2,   99.967,   0.0013,2,    0.000,2,  -999.00,9,    0.000,2,    83.18,2,     0.13,    30.95,2,     0.04,     0.01,2,     0.01,     2.12,2,     0.01,    0.213,2,    0.105,2,    0.024,2, -999.000,9,   -999.0,9,   -999.0,9,-999.0000,     -999,9, -999.000,9, -999.000,   -999.0,9,   -999.0, -999.000,9, -999.000, -999.000,9, -999.000
  49NZ20121128,   S04,    63,  1,     21, X12J21,2,20121216,1452,-62.5955, 142.2300, 4110,    900.5,2,   1.8067,2,   1.80651,2,  34.7422,2,  34.7418,2,-999.0000,9,   193.13,2,   193.27,2,   99.871,   0.0052,2,    0.000,2,  -999.00,9,    0.000,2,    85.54,2,     0.14,    30.80,2,     0.04,     0.01,2,     0.01,     2.11,2,     0.01,    0.193,2,    0.094,2,    0.022,2, -999.000,9,   -999.0,9,   -999.0,9,-999.0000,     -999,9, -999.000,9, -999.000,   -999.0,9,   -999.0, -999.000,9, -999.000, -999.000,9, -999.000
  49NZ20121128,   S04,    63,  1,     20, X12J20,2,20121216,1452,-62.5955, 142.2300, 4110,   1001.4,2,   1.7195,2,   1.71925,2,  34.7439,2,  34.7437,2,-999.0000,9,   195.22,2,   195.25,2,   99.958,   0.0017,2,    0.000,2,  -999.00,9,    0.000,2,    87.82,2,     0.14,    30.71,2,     0.04,     0.01,2,     0.01,     2.10,2,     0.01,    0.179,2,    0.087,2,    0.024,2, -999.000,9,   -999.0,9,   -999.0,9,-999.0000,     -999,9, -999.000,9, -999.000,   -999.0,9,   -999.0, -999.000,9, -999.000, -999.000,9, -999.000
  49NZ20121128,   S04,    63,  1,     19, X12J19,2,20121216,1452,-62.5955, 142.2300, 4110,   1250.4,2,   1.4904,2,   1.49039,2,  34.7407,2,  34.7407,2,-999.0000,9,   199.09,2,   199.15,2,   99.958,   0.0017,2,    0.000,2,  -999.00,9,    0.000,2,    94.02,2,     0.14,    30.85,2,     0.04,     0.01,2,     0.01,     2.12,2,     0.01,    0.170,6,    0.080,6,    0.021,6, -999.000,9,   -999.0,9,   -999.0,9,-999.0000,     -999,9, -999.000,9, -999.000,   -999.0,9,   -999.0, -999.000,9, -999.000, -999.000,9, -999.000
  49NZ20121128,   S04,    63,  1,     18, X12J18,2,20121216,1452,-62.5955, 142.2300, 4110,   1503.2,2,   1.2660,2,   1.26596,2,  34.7321,2,  34.7321,2,-999.0000,9,   201.89,2,   201.90,2,   99.961,   0.0016,2,    0.000,2,  -999.00,9,    0.000,2,    99.81,2,     0.15,    31.07,2,     0.04,     0.01,2,     0.01,     2.13,2,     0.01,    0.173,2,    0.078,2,    0.024,2, -999.000,9,   -999.0,9,   -999.0,9,-999.0000,     -999,9, -999.000,9, -999.000,   -999.0,9,   -999.0, -999.000,9, -999.000, -999.000,9, -999.000
  49NZ20121128,   S04,    63,  1,     17, X12J17,2,20121216,1452,-62.5955, 142.2300, 4110,   1752.3,2,   1.0673,2,   1.06745,2,  34.7222,2,  34.7223,2,-999.0000,9,   204.26,2,   204.46,2,   99.971,   0.0012,2,    0.000,2,  -999.00,9,    0.000,2,   105.83,2,     0.15,    31.52,2,     0.04,     0.01,2,     0.01,     2.16,2,     0.01,    0.193,2,    0.089,2,    0.028,2, -999.000,9,   -999.0,9,   -999.0,9,-999.0000,     -999,9, -999.000,9, -999.000,   -999.0,9,   -999.0, -999.000,9, -999.000, -999.000,9, -999.000
  49NZ20121128,   S04,    63,  1,     16, X12J16,2,20121216,1452,-62.5955, 142.2300, 4110,   2001.1,2,   0.8549,2,   0.85487,2,  34.7110,2,  34.7112,2,-999.0000,9,   207.08,2,   206.91,2,   99.982,   0.0007,2,   -0.000,2,  -999.00,9,    0.000,2,   111.49,2,     0.16,    31.83,2,     0.04,     0.01,2,     0.01,     2.18,2,     0.01,    0.225,2,    0.107,2,    0.038,2, -999.000,9,   -999.0,9,   -999.0,9,-999.0000,     -999,9, -999.000,9, -999.000,   -999.0,9,   -999.0, -999.000,9, -999.000, -999.000,9, -999.000
  49NZ20121128,   S04,    63,  1,     15, X12J15,2,20121216,1452,-62.5955, 142.2300, 4110,   2252.2,2,   0.6634,2,   0.66348,2,  34.7008,2,  34.7012,2,-999.0000,9,   210.23,2,   210.05,2,   99.971,   0.0012,2,   -0.000,2,  -999.00,9,    0.000,2,   116.07,2,     0.35,    32.16,2,     0.05,     0.01,2,     0.01,     2.20,2,     0.01,    0.289,2,    0.137,2,    0.021,2, -999.000,9,   -999.0,9,   -999.0,9,-999.0000,     -999,9, -999.000,9, -999.000,   -999.0,9,   -999.0, -999.000,9, -999.000, -999.000,9, -999.000
  49NZ20121128,   S04,    63,  1,     14, X12J14,2,20121216,1452,-62.5955, 142.2300, 4110,   2501.4,2,   0.4827,2,   0.48277,2,  34.6909,2,  34.6906,2,-999.0000,9,   214.09,2,   213.97,2,   99.969,   0.0012,2,   -0.000,2,  -999.00,9,    0.000,2,   118.93,2,     0.22,    32.26,2,     0.05,     0.01,2,     0.01,     2.22,2,     0.01,    0.418,2,    0.202,2,    0.042,2, -999.000,9,   -999.0,9,   -999.0,9,-999.0000,     -999,9, -999.000,9, -999.000,   -999.0,9,   -999.0, -999.000,9, -999.000, -999.000,9, -999.000
  49NZ20121128,   S04,    63,  1,     13, X12J13,2,20121216,1452,-62.5955, 142.2300, 4110,   2752.6,2,   0.3427,2,   0.34289,2,  34.6853,2,  34.6851,2,-999.0000,9,   217.73,2,   217.78,2,   99.946,   0.0022,2,   -0.000,2,  -999.00,9,    0.000,2,   122.49,2,     0.17,    32.45,2,     0.05,     0.01,2,     0.01,     2.23,2,     0.01,    0.522,2,    0.250,2,    0.031,2, -999.000,9,   -999.0,9,   -999.0,9,-999.0000,     -999,9, -999.000,9, -999.000,   -999.0,9,   -999.0, -999.000,9, -999.000, -999.000,9, -999.000
  49NZ20121128,   S04,    63,  1,     12, X12J12,2,20121216,1452,-62.5955, 142.2300, 4110,   2998.7,2,   0.2229,2,   0.22289,2,  34.6793,2,  34.6794,2,-999.0000,9,   221.69,2,   221.53,2,   99.956,   0.0018,2,   -0.000,2,  -999.00,9,    0.000,2,   123.42,2,     0.17,    32.44,2,     0.05,     0.01,2,     0.01,     2.23,2,     0.01,    0.697,2,    0.343,2,    0.051,2, -999.000,9,   -999.0,9,   -999.0,9,-999.0000,     -999,9, -999.000,9, -999.000,   -999.0,9,   -999.0, -999.000,9, -999.000, -999.000,9, -999.000
  49NZ20121128,   S04,    63,  1,     11, X12J11,2,20121216,1452,-62.5955, 142.2300, 4110,   3252.4,2,   0.1174,2,   0.11763,2,  34.6742,2,  34.6743,2,-999.0000,9,   225.49,2,   225.34,2,   99.954,   0.0018,2,   -0.010,2,  -999.00,9,    0.000,2,   124.01,2,     0.17,    32.43,2,     0.05,     0.01,2,     0.01,     2.23,2,     0.01,    0.905,2,    0.451,2,    0.064,2, -999.000,9,   -999.0,9,   -999.0,9,-999.0000,     -999,9, -999.000,9, -999.000,   -999.0,9,   -999.0, -999.000,9, -999.000, -999.000,9, -999.000
  49NZ20121128,   S04,    63,  1,     10, X12J10,2,20121216,1452,-62.5955, 142.2300, 4110,   3501.2,2,   0.0111,2,   0.01111,2,  34.6677,2,  34.6680,2,-999.0000,9,   229.99,2,   229.88,2,   99.906,   0.0038,2,   -0.000,2,  -999.00,9,    0.000,2,   122.07,2,     0.17,    32.33,2,     0.05,     0.01,2,     0.01,     2.22,2,     0.01,    1.231,2,    0.620,2,    0.103,2, -999.000,9,   -999.0,9,   -999.0,9,-999.0000,     -999,9, -999.000,9, -999.000,   -999.0,9,   -999.0, -999.000,9, -999.000, -999.000,9, -999.000
  49NZ20121128,   S04,    63,  1,      9, X12J09,2,20121216,1452,-62.5955, 142.2300, 4110,   3751.2,2,  -0.0602,2,  -0.06025,2,  34.6618,2,  34.6617,2,-999.0000,9,   233.32,2,   233.28,2,   99.852,   0.0059,2,   -0.010,2,  -999.00,9,    0.000,2,   119.70,2,     0.17,    32.26,2,     0.05,     0.01,2,     0.01,     2.22,2,     0.01,    1.513,2,    0.799,2,    0.125,2, -999.000,9,   -999.0,9,   -999.0,9,-999.0000,     -999,9, -999.000,9, -999.000,   -999.0,9,   -999.0, -999.000,9, -999.000, -999.000,9, -999.000
  49NZ20121128,   S04,    63,  1,      8, X12J08,2,20121216,1452,-62.5955, 142.2300, 4110,   4000.9,2,  -0.1082,2,  -0.10836,2,  34.6566,2,  34.6563,2,-999.0000,9,   236.02,2,   235.98,2,   99.747,   0.0101,2,   -0.010,2,  -999.00,9,    0.000,2,   117.54,2,     0.16,    32.22,2,     0.05,     0.01,2,     0.01,     2.22,2,     0.01,    1.793,6,    0.935,6,    0.148,6, -999.000,9,   -999.0,9,   -999.0,9,-999.0000,     -999,9, -999.000,9, -999.000,   -999.0,9,   -999.0, -999.000,9, -999.000, -999.000,9, -999.000
  49NZ20121128,   S04,    63,  1,      1, X12J01,2,20121216,1452,-62.5955, 142.2300, 4110,   4173.7,2,  -0.1302,2,  -0.13033,2,  34.6530,2,  34.6531,2,-999.0000,9,   237.59,2,   237.90,2,   99.546,   0.0182,2,   -0.010,2,  -999.00,9,    0.000,2,   116.14,2,     0.16,    32.16,2,     0.05,     0.01,2,     0.01,     2.22,2,     0.01,    1.933,2,    1.011,2,    0.163,2, -999.000,9,   -999.0,9,   -999.0,9,-999.0000,     -999,9, -999.000,9, -999.000,   -999.0,9,   -999.0, -999.000,9, -999.000, -999.000,9, -999.000