BOTTLE,20220819CCHSIOAMB
EXPOCODE,SECT_ID,STNNBR,CASTNO,SAMPNO,BTLNBR,BTLNBR_FLAG_W,DATE,TIME,LATITUDE,LONGITUDE,DEPTH,CTDPRS,CTDPRS_FLAG_W,CTDTMP,CTDTMP_FLAG_W,SBE35,SBE35_FLAG_W,CTDSAL,CTDSAL_FLAG_W,SALNTY,SALNTY_FLAG_W,DNSSAL,DNSSAL_FLAG_W,CTDOXY,CTDOXY_FLAG_W,OXYGEN,OXYGEN_FLAG_W,CTDXMISS,CTDXMISSCP,CTDXMISS_FLAG_W,CTDFLUOR,CTDFLUOR_FLAG_W,CHLORA,CHLORA_FLAG_W,PAR,PAR_FLAG_W,SILCAT,SILCAT_FLAG_W,SILUNC,NITRAT,NITRAT_FLAG_W,NRAUNC,NITRIT,NITRIT_FLAG_W,NRIUNC,PHSPHT,PHSPHT_FLAG_W,PHPUNC,CFC-11,CFC-11_FLAG_W,CFC-12,CFC-12_FLAG_W,CFC113,CFC113_FLAG_W,SF6,SF6_FLAG_W,TCARBN,TCARBN_FLAG_W,ALKALI,ALKALI_FLAG_W,PH_TOT,PH_TMP,PH_TOT_FLAG_W,DELC13,DELC13_FLAG_W,C13ERR,DELC14,DELC14_FLAG_W,C14ERR,CS-134,CS-134_FLAG_W,CS134ER,CS-137,CS-137_FLAG_W,CS137ER
,,,,,,,,UTC,DEG,DEG,METERS,DBAR,,ITS-90,,ITS-90,,PSS-78,,PSS-78,,G/KG,,UMOL/KG,,UMOL/KG,,%TRANS,/METER,,MG/M^3,,MG/CUM,,UE/SQM/S,,UMOL/KG,,UMOL/KG,UMOL/KG,,UMOL/KG,UMOL/KG,,UMOL/KG,UMOL/KG,,UMOL/KG,PMOL/KG,,PMOL/KG,,PMOL/KG,,FMOL/KG,,UMOL/KG,,UMOL/KG,,,DEG C,,/MILLE,,/MILLE,/MILLE,,/MILLE,MBQ/KG,,MBQ/KG,MBQ/KG,,MBQ/KG
  49NZ20121128,   S04,    66,  1,     36, X12J36,2,20121217,0837,-62.1607, 138.4520, 3973,      4.9,2,  -0.7621,2,  -0.76279,2,  33.6607,2,  33.6657,2,-999.0000,9,   363.66,2,   362.53,2,   88.882,   0.4714,2,    1.410,2,  -999.00,9,   48.056,2,    33.46,2,     0.09,    25.67,2,     0.04,     0.18,2,     0.01,     1.70,2,     0.01,    6.078,2,    3.369,2,    0.595,2,    3.025,2,   2146.5,2,   2279.2,2,   7.7145,       25,2, -999.000,9, -999.000,   -999.0,9,   -999.0, -999.000,9, -999.000, -999.000,9, -999.000
  49NZ20121128,   S04,    66,  1,     35, X12J35,2,20121217,0837,-62.1607, 138.4520, 3973,     25.4,2,  -0.7936,2,  -0.79375,2,  33.7084,2,  33.7156,2,-999.0000,9,   360.69,2,   360.77,2,   87.836,   0.5188,2,    1.920,2,  -999.00,9,    2.859,2,    32.06,2,     0.09,    25.52,2,     0.04,     0.17,2,     0.01,     1.72,2,     0.01,    6.087,2,    3.328,2,    0.598,2,    2.944,2,   2149.1,2,   2283.8,2,   7.7132,       25,2, -999.000,9, -999.000,   -999.0,9,   -999.0, -999.000,9, -999.000, -999.000,9, -999.000
  49NZ20121128,   S04,    66,  1,     34, X12J34,2,20121217,0837,-62.1607, 138.4520, 3973,     49.9,2,  -1.2357,2,  -1.23611,2,  33.8402,2,  33.8454,2,-999.0000,9,   339.51,2,   337.53,2,   93.504,   0.2687,2,    1.190,2,  -999.00,9,    0.132,2,    39.29,2,     0.09,    27.76,2,     0.04,     0.16,2,     0.01,  -999.00,5,  -999.00,    5.696,6,    3.099,6,    0.555,6,    2.951,6,   2172.1,2,   2288.6,2,   7.6692,       25,2, -999.000,9, -999.000,   -999.0,9,   -999.0, -999.000,9, -999.000, -999.000,9, -999.000
  49NZ20121128,   S04,    66,  1,     33, X12J33,2,20121217,0837,-62.1607, 138.4520, 3973,     76.2,2,  -0.1492,2,  -0.15250,2,  34.1953,2,  34.1911,2,-999.0000,9,   264.03,2,   265.20,2,   99.208,   0.0318,2,    0.170,2,  -999.00,9,    0.000,2,    54.01,2,     0.11,    32.53,2,     0.05,     0.11,2,     0.01,     2.25,2,     0.01,    3.918,2,    2.125,2,    0.369,2,    1.969,2,   2219.1,6,   2308.8,2,   7.5937,       25,2, -999.000,9, -999.000,   -999.0,9,   -999.0, -999.000,9, -999.000, -999.000,9, -999.000
  49NZ20121128,   S04,    66,  1,     32, X12J32,2,20121217,0837,-62.1607, 138.4520, 3973,    100.7,2,   0.7012,2,   0.70123,2,  34.3397,2,  34.3403,2,-999.0000,9,   227.36,2,   226.56,2,   99.455,   0.0219,2,    0.140,2,  -999.00,9,    0.000,2,    62.43,2,     0.11,    33.77,2,     0.05,     0.08,2,     0.01,     2.33,2,     0.01,    2.724,2,    1.472,2,    0.251,2,    1.119,2,   2237.4,2,   2318.3,6,   7.5683,       25,2, -999.000,9, -999.000,   -999.0,9,   -999.0, -999.000,9, -999.000, -999.000,9, -999.000
  49NZ20121128,   S04,    66,  1,     31, X12J31,2,20121217,0837,-62.1607, 138.4520, 3973,    124.1,2,   1.6748,2,   1.67127,2,  34.4880,2,  34.4885,2,-999.0000,9,   188.53,2,   188.68,2,   99.635,   0.0146,2,    0.060,2,  -999.00,9,    0.000,2,    70.35,2,     0.12,    34.82,2,     0.05,     0.02,2,     0.01,     2.39,2,     0.01,    1.539,2,    0.829,2,    0.127,2,    0.598,2,   2254.0,2,   2325.8,2,   7.5459,       25,2, -999.000,9, -999.000,   -999.0,9,   -999.0, -999.000,9, -999.000, -999.000,9, -999.000
  49NZ20121128,   S04,    66,  1,     30, X12J30,2,20121217,0837,-62.1607, 138.4520, 3973,    150.9,2,   1.8366,2,   1.83983,2,  34.5317,2,  34.5331,2,-999.0000,9,   181.54,2,   181.03,2,   99.702,   0.0119,2,    0.020,2,  -999.00,9,    0.000,2,    72.88,2,     0.12,    34.73,2,     0.05,     0.01,2,     0.01,     2.39,2,     0.01,    1.238,2,    0.638,2,    0.099,2,    0.481,2,   2256.9,2,   2330.8,2,   7.5470,       25,6, -999.000,9, -999.000,   -999.0,9,   -999.0, -999.000,9, -999.000, -999.000,9, -999.000
  49NZ20121128,   S04,    66,  1,     29, X12J29,2,20121217,0837,-62.1607, 138.4520, 3973,    200.0,2,   1.9986,2,   1.99823,2,  34.5969,2,  34.5967,2,-999.0000,9,   175.79,2,   175.53,2,   99.711,   0.0116,2,    0.010,2,  -999.00,9,    0.000,2,    76.07,2,     0.13,    34.32,2,     0.05,     0.01,2,     0.01,     2.35,2,     0.01,    0.863,2,    0.438,2,    0.066,2,    0.139,2,   2259.3,2,   2336.0,2,   7.5526,       25,2, -999.000,9, -999.000,   -999.0,9,   -999.0, -999.000,9, -999.000, -999.000,9, -999.000
  49NZ20121128,   S04,    66,  1,     28, X12J28,2,20121217,0837,-62.1607, 138.4520, 3973,    251.0,2,   2.0028,2,   2.00259,2,  34.6317,2,  34.6315,2,-999.0000,9,   176.79,2,   176.46,2,   99.834,   0.0066,2,    0.000,2,  -999.00,9,    0.000,2,    77.18,2,     0.13,    33.68,2,     0.05,     0.01,2,     0.01,     2.31,2,     0.01,    0.702,2,    0.357,2,    0.053,2,    0.151,2,   2258.8,2,   2338.4,2,   7.5607,       25,2, -999.000,9, -999.000,   -999.0,9,   -999.0, -999.000,9, -999.000, -999.000,9, -999.000
  49NZ20121128,   S04,    66,  1,     27, X12J27,2,20121217,0837,-62.1607, 138.4520, 3973,    300.3,2,   2.0233,2,   2.02339,2,  34.6537,2,  34.6544,2,-999.0000,9,   176.95,2,   176.63,2,   99.692,   0.0123,2,    0.000,2,  -999.00,9,    0.000,2,    78.23,2,     0.13,    33.35,2,     0.05,     0.01,2,     0.01,     2.29,2,     0.01,    0.588,2,    0.295,2,    0.045,2,    0.161,2,   2258.9,2,   2339.9,2,   7.5663,       25,2, -999.000,9, -999.000,   -999.0,9,   -999.0, -999.000,9, -999.000, -999.000,9, -999.000
  49NZ20121128,   S04,    66,  1,     26, X12J26,2,20121217,0837,-62.1607, 138.4520, 3973,    399.5,2,   1.9565,2,   1.95616,2,  34.6848,2,  34.6845,2,-999.0000,9,   180.49,2,   180.37,2,   99.897,   0.0041,2,    0.000,2,  -999.00,9,    0.000,2,    79.96,2,     0.13,    32.54,2,     0.05,     0.01,2,     0.01,     2.23,2,     0.01,    0.491,2,    0.250,2,    0.037,2,    0.144,2,   2257.3,2,   2342.7,2,   7.5757,       25,2, -999.000,9, -999.000,   -999.0,9,   -999.0, -999.000,9, -999.000, -999.000,9, -999.000
  49NZ20121128,   S04,    66,  1,     25, X12J25,2,20121217,0837,-62.1607, 138.4520, 3973,    500.3,2,   1.9627,2,   1.96240,2,  34.7097,2,  34.7095,2,-999.0000,9,   184.06,2,   183.84,2,   99.881,   0.0048,2,    0.000,2,  -999.00,9,    0.000,2,    80.94,2,     0.13,    31.95,2,     0.04,     0.01,2,     0.01,     2.19,2,     0.01,    0.362,2,    0.179,2,    0.026,2,    0.000,2,   2254.7,2,   2344.9,2,   7.5895,       25,2, -999.000,9, -999.000,   -999.0,9,   -999.0, -999.000,9, -999.000, -999.000,9, -999.000
  49NZ20121128,   S04,    66,  1,     24, X12J24,2,20121217,0837,-62.1607, 138.4520, 3973,    600.4,2,   1.8855,2,   1.88517,2,  34.7214,2,  34.7220,2,-999.0000,9,   186.75,2,   186.61,2,   99.937,   0.0025,2,    0.000,2,  -999.00,9,    0.000,2,    82.97,2,     0.13,    31.66,2,     0.04,     0.01,2,     0.01,     2.17,2,     0.01,    0.327,6,    0.163,6,    0.024,6,    0.000,6,   2253.7,2,   2347.4,2,   7.5934,       25,2, -999.000,9, -999.000,   -999.0,9,   -999.0, -999.000,9, -999.000, -999.000,9, -999.000
  49NZ20121128,   S04,    66,  1,     23, X12J23,2,20121217,0837,-62.1607, 138.4520, 3973,    702.8,2,   1.8405,2,   1.84031,2,  34.7340,2,  34.7340,2,-999.0000,9,   190.31,2,   190.06,2,   99.939,   0.0024,2,    0.000,2,  -999.00,9,    0.000,2,    84.18,2,     0.13,    31.25,2,     0.04,     0.00,2,     0.01,     2.14,2,     0.01,    0.264,2,    0.125,2,    0.018,2,    0.000,2,   2252.6,6,   2349.2,2,   7.6022,       25,2, -999.000,9, -999.000,   -999.0,9,   -999.0, -999.000,9, -999.000, -999.000,9, -999.000
  49NZ20121128,   S04,    66,  1,     22, X12J22,2,20121217,0837,-62.1607, 138.4520, 3973,    800.2,2,   1.7756,2,   1.77514,2,  34.7388,2,  34.7390,2,-999.0000,9,   192.63,2,   192.56,2,   99.966,   0.0014,2,    0.000,2,  -999.00,9,    0.000,2,    85.79,2,     0.14,    31.01,2,     0.04,     0.00,2,     0.01,     2.13,2,     0.01,    0.241,2,    0.114,2,    0.016,2,    0.000,2,   2252.2,2,   2349.9,2,   7.6073,       25,2, -999.000,9, -999.000,   -999.0,9,   -999.0, -999.000,9, -999.000, -999.000,9, -999.000
  49NZ20121128,   S04,    66,  1,     21, X12J21,2,20121217,0837,-62.1607, 138.4520, 3973,    900.6,2,   1.6899,2,   1.68981,2,  34.7426,2,  34.7427,2,-999.0000,9,   195.23,2,   195.25,2,   99.971,   0.0012,2,    0.000,2,  -999.00,9,    0.000,2,    88.15,2,     0.14,    30.85,2,     0.04,     0.01,2,     0.01,     2.12,2,     0.01,    0.206,2,    0.093,2,    0.012,2,    0.000,2,   2253.6,2,   2350.8,2,   7.6118,       25,6, -999.000,9, -999.000,   -999.0,9,   -999.0, -999.000,9, -999.000, -999.000,9, -999.000
  49NZ20121128,   S04,    66,  1,     20, X12J20,2,20121217,0837,-62.1607, 138.4520, 3973,    999.4,2,   1.6163,2,   1.61626,2,  34.7424,2,  34.7428,2,-999.0000,9,   196.70,2,   196.80,2,   99.945,   0.0022,2,   -0.000,2,  -999.00,9,    0.000,2,    90.08,2,     0.14,    30.87,2,     0.04,     0.00,2,     0.01,     2.12,2,     0.01,    0.199,2,    0.092,2,    0.012,2,    0.000,2,   2253.8,2,   2352.9,2,   7.6136,       25,2, -999.000,9, -999.000,   -999.0,9,   -999.0, -999.000,9, -999.000, -999.000,9, -999.000
  49NZ20121128,   S04,    66,  1,     19, X12J19,2,20121217,0837,-62.1607, 138.4520, 3973,   1250.1,2,   1.3880,2,   1.38834,2,  34.7367,2,  34.7368,2,-999.0000,9,   200.14,2,   200.13,2,   99.979,   0.0008,2,   -0.000,2,  -999.00,9,    0.000,2,    96.26,2,     0.15,    31.09,2,     0.04,     0.00,2,     0.01,     2.13,2,     0.01,    0.197,6,    0.092,6,    0.011,6,    0.000,6,   2254.6,2,   2355.4,2,   7.6136,       25,2, -999.000,9, -999.000,   -999.0,9,   -999.0, -999.000,9, -999.000, -999.000,9, -999.000
  49NZ20121128,   S04,    66,  1,     18, X12J18,2,20121217,0837,-62.1607, 138.4520, 3973,   1500.2,2,   1.1687,2,   1.16849,2,  34.7275,2,  34.7275,2,-999.0000,9,   202.91,2,   202.96,2,   99.975,   0.0010,2,   -0.000,2,  -999.00,9,    0.000,2,   102.68,2,     0.15,    31.42,2,     0.04,     0.00,2,     0.01,     2.16,2,     0.01,    0.199,2,    0.091,2,    0.011,2,    0.000,2,   2257.5,2,   2357.4,2,   7.6134,       25,2, -999.000,9, -999.000,   -999.0,9,   -999.0, -999.000,9, -999.000, -999.000,9, -999.000
  49NZ20121128,   S04,    66,  1,     17, X12J17,2,20121217,0837,-62.1607, 138.4520, 3973,   1749.3,2,   0.9716,2,   0.97144,2,  34.7177,2,  34.7179,2,-999.0000,9,   205.50,2,   205.33,2,   99.966,   0.0014,2,   -0.000,2,  -999.00,9,    0.000,2,   108.77,2,     0.16,    31.75,2,     0.04,     0.00,2,     0.01,     2.19,2,     0.01,    0.208,2,    0.097,2,    0.010,2,    0.000,2,   2259.7,2,   2359.3,2,   7.6104,       25,6, -999.000,9, -999.000,   -999.0,9,   -999.0, -999.000,9, -999.000, -999.000,9, -999.000
  49NZ20121128,   S04,    66,  1,     16, X12J16,2,20121217,0837,-62.1607, 138.4520, 3973,   1999.9,2,   0.7756,2,   0.77477,2,  34.7070,2,  34.7073,2,-999.0000,9,   208.15,2,   208.05,2,   99.983,   0.0007,2,   -0.000,2,  -999.00,9,    0.000,2,   113.70,2,     0.16,    32.09,2,     0.04,     0.00,2,     0.01,     2.21,2,     0.01,    0.258,2,    0.120,2,    0.012,2,    0.000,2,   2261.7,2,   2358.5,2,   7.6078,       25,2, -999.000,9, -999.000,   -999.0,9,   -999.0, -999.000,9, -999.000, -999.000,9, -999.000
  49NZ20121128,   S04,    66,  1,     15, X12J15,2,20121217,0837,-62.1607, 138.4520, 3973,   2249.6,2,   0.5767,2,   0.57675,2,  34.6951,2,  34.6967,3,-999.0000,9,   211.72,2,   211.55,2,   99.956,   0.0018,2,   -0.000,2,  -999.00,9,    0.000,2,   116.80,2,     0.16,    32.36,2,     0.05,     0.00,2,     0.01,     2.23,2,     0.01,    0.383,2,    0.190,2,    0.021,2,    0.000,2,   2262.7,2,   2358.5,2,   7.6037,       25,2, -999.000,9, -999.000,   -999.0,9,   -999.0, -999.000,9, -999.000, -999.000,9, -999.000
  49NZ20121128,   S04,    66,  1,     14, X12J14,2,20121217,0837,-62.1607, 138.4520, 3973,   2500.0,2,   0.4261,2,   0.42655,2,  34.6888,2,  34.6890,2,-999.0000,9,   215.35,2,   215.12,2,   99.960,   0.0016,2,   -0.000,2,  -999.00,9,    0.000,2,   120.34,2,     0.17,    32.51,2,     0.05,     0.00,2,     0.01,     2.24,2,     0.01,    0.456,2,    0.226,2,    0.025,2,    0.035,2,   2262.9,6,   2356.5,3,   7.6018,       25,2, -999.000,9, -999.000,   -999.0,9,   -999.0, -999.000,9, -999.000, -999.000,9, -999.000
  49NZ20121128,   S04,    66,  1,     13, X12J13,2,20121217,0837,-62.1607, 138.4520, 3973,   2750.5,2,   0.2973,2,   0.29724,2,  34.6832,2,  34.6836,2,-999.0000,9,   219.00,2,   218.79,2,   99.973,   0.0011,2,   -0.000,2,  -999.00,9,    0.000,2,   122.92,2,     0.17,    32.53,2,     0.05,     0.01,2,     0.01,     2.25,2,     0.01,    0.582,2,    0.287,2,    0.031,2,    0.087,2,   2262.4,2,   2357.8,6,   7.6021,       25,2, -999.000,9, -999.000,   -999.0,9,   -999.0, -999.000,9, -999.000, -999.000,9, -999.000
  49NZ20121128,   S04,    66,  1,     12, X12J12,2,20121217,0837,-62.1607, 138.4520, 3973,   3001.6,2,   0.1953,2,   0.19519,2,  34.6788,2,  34.6791,2,-999.0000,9,   222.30,2,   222.29,2,   99.943,   0.0023,2,   -0.000,2,  -999.00,9,    0.000,2,   124.89,2,     0.17,    32.55,2,     0.05,     0.00,2,     0.01,     2.24,2,     0.01,    0.713,2,    0.356,2,    0.040,2,    0.099,2,   2262.0,2,   2356.3,2,   7.6021,       25,6, -999.000,9, -999.000,   -999.0,9,   -999.0, -999.000,9, -999.000, -999.000,9, -999.000
  49NZ20121128,   S04,    66,  1,     11, X12J11,2,20121217,0837,-62.1607, 138.4520, 3973,   3250.8,2,   0.0831,2,   0.08296,2,  34.6712,2,  34.6710,2,-999.0000,9,   226.88,2,   226.83,2,   99.925,   0.0030,2,   -0.000,2,  -999.00,9,    0.000,2,   121.09,2,     0.17,    32.46,2,     0.05,     0.01,2,     0.01,     2.24,2,     0.01,    1.077,2,    0.546,2,    0.070,2,    0.252,2,   2260.8,2,   2356.6,2,   7.6010,       25,2, -999.000,9, -999.000,   -999.0,9,   -999.0, -999.000,9, -999.000, -999.000,9, -999.000
  49NZ20121128,   S04,    66,  1,     10, X12J10,2,20121217,0837,-62.1607, 138.4520, 3973,   3500.6,2,  -0.0019,2,  -0.00200,2,  34.6671,2,  34.6676,2,-999.0000,9,   230.23,2,   230.07,2,   99.908,   0.0037,2,   -0.000,2,  -999.00,9,    0.000,2,   122.76,2,     0.17,    32.47,2,     0.05,     0.01,2,     0.01,     2.24,2,     0.01,    1.286,2,    0.651,2,    0.085,2,    0.386,2,   2261.0,2,   2356.5,2,   7.6019,       25,2, -999.000,9, -999.000,   -999.0,9,   -999.0, -999.000,9, -999.000, -999.000,9, -999.000
  49NZ20121128,   S04,    66,  1,      9, X12J09,2,20121217,0837,-62.1607, 138.4520, 3973,   3750.3,2,  -0.0955,2,  -0.09562,2,  34.6594,2,  34.6600,2,-999.0000,9,   234.38,2,   234.25,2,   99.795,   0.0082,2,   -0.010,2,  -999.00,9,    0.000,2,   119.79,2,     0.17,    32.36,2,     0.05,     0.01,2,     0.01,     2.23,2,     0.01,    1.654,2,    0.887,2,    0.125,2,    0.470,2,   2259.6,2,   2354.6,2,   7.5993,       25,2, -999.000,9, -999.000,   -999.0,9,   -999.0, -999.000,9, -999.000, -999.000,9, -999.000
  49NZ20121128,   S04,    66,  1,      8, X12J08,2,20121217,0837,-62.1607, 138.4520, 3973,   4001.3,2,  -0.1689,2,  -0.16903,2,  34.6512,2,  34.6516,2,-999.0000,9,   238.69,2,   238.41,2,   99.602,   0.0160,2,   -0.010,2,  -999.00,9,    0.000,2,   113.19,2,     0.16,    32.12,2,     0.05,     0.01,2,     0.01,     2.23,2,     0.01,    2.034,6,    1.101,6,    0.160,6,    0.634,6,   2259.1,2,   2353.2,2,   7.5982,       25,2, -999.000,9, -999.000,   -999.0,9,   -999.0, -999.000,9, -999.000, -999.000,9, -999.000
  49NZ20121128,   S04,    66,  1,      1, X12J01,2,20121217,0837,-62.1607, 138.4520, 3973,   4041.6,2,  -0.1671,2,  -0.16735,2,  34.6508,2,  34.6513,2,-999.0000,9,   238.89,2,   238.66,2,   99.531,   0.0188,2,   -0.000,2,  -999.00,9,    0.000,2,   112.96,2,     0.16,    32.15,2,     0.05,     0.01,2,     0.01,     2.22,2,     0.01,    2.081,2,    1.114,2,    0.163,2,    0.653,2,   2258.7,2,   2353.0,2,   7.5966,       25,2, -999.000,9, -999.000,   -999.0,9,   -999.0, -999.000,9, -999.000, -999.000,9, -999.000