BOTTLE,20220819CCHSIOAMB
EXPOCODE,SECT_ID,STNNBR,CASTNO,SAMPNO,BTLNBR,BTLNBR_FLAG_W,DATE,TIME,LATITUDE,LONGITUDE,DEPTH,CTDPRS,CTDPRS_FLAG_W,CTDTMP,CTDTMP_FLAG_W,SBE35,SBE35_FLAG_W,CTDSAL,CTDSAL_FLAG_W,SALNTY,SALNTY_FLAG_W,DNSSAL,DNSSAL_FLAG_W,CTDOXY,CTDOXY_FLAG_W,OXYGEN,OXYGEN_FLAG_W,CTDXMISS,CTDXMISSCP,CTDXMISS_FLAG_W,CTDFLUOR,CTDFLUOR_FLAG_W,CHLORA,CHLORA_FLAG_W,PAR,PAR_FLAG_W,SILCAT,SILCAT_FLAG_W,SILUNC,NITRAT,NITRAT_FLAG_W,NRAUNC,NITRIT,NITRIT_FLAG_W,NRIUNC,PHSPHT,PHSPHT_FLAG_W,PHPUNC,CFC-11,CFC-11_FLAG_W,CFC-12,CFC-12_FLAG_W,CFC113,CFC113_FLAG_W,SF6,SF6_FLAG_W,TCARBN,TCARBN_FLAG_W,ALKALI,ALKALI_FLAG_W,PH_TOT,PH_TMP,PH_TOT_FLAG_W,DELC13,DELC13_FLAG_W,C13ERR,DELC14,DELC14_FLAG_W,C14ERR,CS-134,CS-134_FLAG_W,CS134ER,CS-137,CS-137_FLAG_W,CS137ER
,,,,,,,,UTC,DEG,DEG,METERS,DBAR,,ITS-90,,ITS-90,,PSS-78,,PSS-78,,G/KG,,UMOL/KG,,UMOL/KG,,%TRANS,/METER,,MG/M^3,,MG/CUM,,UE/SQM/S,,UMOL/KG,,UMOL/KG,UMOL/KG,,UMOL/KG,UMOL/KG,,UMOL/KG,UMOL/KG,,UMOL/KG,PMOL/KG,,PMOL/KG,,PMOL/KG,,FMOL/KG,,UMOL/KG,,UMOL/KG,,,DEG C,,/MILLE,,/MILLE,/MILLE,,/MILLE,MBQ/KG,,MBQ/KG,MBQ/KG,,MBQ/KG
  49NZ20121128,  P14S,    27,  1,     36, X12J36,2,20121210,0307,-64.6890, 170.9908, 3379,      5.5,2,  -1.0677,2,  -1.06702,2,  33.8556,2,  33.8559,2,  34.0231,2,   340.86,2,   341.21,2,   95.934,   0.1660,2,    0.130,2,  -999.00,9,  229.394,2,    73.97,2,     0.13,    28.35,2,     0.04,     0.22,2,     0.01,     1.94,2,     0.01, -999.000,5, -999.000,5, -999.000,5, -999.000,5,   2181.8,2,   2291.1,2,   7.6492,       25,2, -999.000,9, -999.000,   -999.0,9,   -999.0, -999.000,9, -999.000, -999.000,9, -999.000
  49NZ20121128,  P14S,    27,  1,     35, X12J35,2,20121210,0307,-64.6890, 170.9908, 3379,     24.9,2,  -1.4068,2,  -1.40653,2,  33.9222,2,  33.9302,2,  34.0986,2,   334.05,2,   334.02,2,   96.240,   0.1533,2,    0.270,2,  -999.00,9,   54.060,2,    74.31,2,     0.13,    28.49,2,     0.04,     0.19,2,     0.01,     1.95,2,     0.01,    5.025,2,    2.785,2,    0.483,2,    2.440,2,   2186.8,2,   2294.8,2,   7.6480,       25,2, -999.000,9, -999.000,   -999.0,9,   -999.0, -999.000,9, -999.000, -999.000,9, -999.000
  49NZ20121128,  P14S,    27,  1,     34, X12J34,2,20121210,0307,-64.6890, 170.9908, 3379,     50.1,2,  -1.7406,2,  -1.74149,2,  34.1314,2,  34.1409,2,  34.3100,2,   319.74,2,   317.91,2,   96.790,   0.1305,2,    0.490,2,  -999.00,9,   14.577,2,    75.21,2,     0.13,    29.22,2,     0.04,     0.16,2,     0.01,     2.00,2,     0.01,    4.552,6,    2.509,6,    0.438,6,    2.262,6,   2203.9,2,   2309.7,2,   7.6355,       25,2, -999.000,9, -999.000,   -999.0,9,   -999.0, -999.000,9, -999.000, -999.000,9, -999.000
  49NZ20121128,  P14S,    27,  1,     33, X12J33,2,20121210,0307,-64.6890, 170.9908, 3379,     75.1,2,  -1.7168,2,  -1.72097,2,  34.1991,2,  34.2064,2,  34.3756,2,   309.63,2,   307.49,2,   97.821,   0.0881,2,    0.480,2,  -999.00,9,    3.680,2,    76.71,2,     0.13,    30.03,2,     0.04,     0.16,2,     0.01,     2.07,2,     0.01,    4.408,2,    2.412,2,    0.416,2,    2.190,2,   2212.9,6,   2312.4,2,   7.6239,       25,2, -999.000,9, -999.000,   -999.0,9,   -999.0, -999.000,9, -999.000, -999.000,9, -999.000
  49NZ20121128,  P14S,    27,  1,     32, X12J32,2,20121210,0307,-64.6890, 170.9908, 3379,     99.8,2,  -0.4829,2,  -0.49071,2,  34.4194,2,  34.4241,2,  34.5957,2,   253.17,2,   250.00,2,   99.249,   0.0302,2,    0.240,2,  -999.00,9,    1.124,2,    82.75,2,     0.13,    31.50,2,     0.04,     0.10,2,     0.01,     2.16,2,     0.01,    2.743,2,    1.512,2,    0.252,2,    1.362,2,   2235.7,2,   2327.4,6,   7.5972,       25,2, -999.000,9, -999.000,   -999.0,9,   -999.0, -999.000,9, -999.000, -999.000,9, -999.000
  49NZ20121128,  P14S,    27,  1,     31, X12J31,2,20121210,0307,-64.6890, 170.9908, 3379,    124.9,2,   0.8001,2,   0.80030,2,  34.6265,2,  34.6262,2,  34.7985,2,   204.35,2,   204.01,2,   99.661,   0.0136,2,    0.110,2,  -999.00,9,    0.400,2,    89.67,2,     0.14,    32.40,2,     0.05,     0.01,2,     0.01,     2.22,2,     0.01,    1.158,2,    0.617,2,    0.095,2,    0.505,2,   2254.0,2,   2340.9,2,   7.5812,       25,2, -999.000,9, -999.000,   -999.0,9,   -999.0, -999.000,9, -999.000, -999.000,9, -999.000
  49NZ20121128,  P14S,    27,  1,     30, X12J30,2,20121210,0307,-64.6890, 170.9908, 3379,    150.2,2,   1.1746,2,   1.17242,2,  34.6889,2,  34.6889,2,  34.8611,2,   191.86,2,   191.51,2,   99.839,   0.0064,2,    0.020,2,  -999.00,9,    0.148,2,    92.73,2,     0.14,    32.54,2,     0.05,     0.01,2,     0.01,     2.24,2,     0.01,    0.686,2,    0.339,2,    0.051,2,    0.266,2,   2259.1,2,   2344.9,2,   7.5788,       25,6, -999.000,9, -999.000,   -999.0,9,   -999.0, -999.000,9, -999.000, -999.000,9, -999.000
  49NZ20121128,  P14S,    27,  1,     29, X12J29,2,20121210,0307,-64.6890, 170.9908, 3379,    200.2,2,   1.2522,2,   1.25197,2,  34.7085,2,  34.7083,2,  34.8828,2,   190.12,2,   189.96,2,   99.910,   0.0036,2,    0.010,2,  -999.00,9,    0.000,2,    94.95,2,     0.14,    32.48,2,     0.05,     0.01,2,     0.01,     2.23,2,     0.01,    0.515,2,    0.249,2,    0.036,2,    0.125,2,   2259.1,2,   2348.4,2,   7.5823,       25,2, -999.000,9, -999.000,   -999.0,9,   -999.0, -999.000,9, -999.000, -999.000,9, -999.000
  49NZ20121128,  P14S,    27,  1,     28, X12J28,2,20121210,0307,-64.6890, 170.9908, 3379,    249.7,2,   1.2445,2,   1.24429,2,  34.7131,2,  34.7133,2,  34.8828,2,   190.71,2,   190.47,2,   99.937,   0.0025,2,    0.000,2,  -999.00,9,    0.000,2,    96.42,2,     0.15,    32.40,2,     0.05,     0.01,2,     0.01,     2.23,2,     0.01,    0.459,2,    0.213,2,    0.031,2,    0.183,2,   2259.6,2,   2349.0,2,   7.5851,       25,2, -999.000,9, -999.000,   -999.0,9,   -999.0, -999.000,9, -999.000, -999.000,9, -999.000
  49NZ20121128,  P14S,    27,  1,     27, X12J27,2,20121210,0307,-64.6890, 170.9908, 3379,    278.8,2,   1.2336,2,   1.23339,2,  34.7152,2,  34.7147,2,  34.8881,2,   191.25,2,   191.08,2,   99.966,   0.0014,2,    0.000,2,  -999.00,9,    0.000,2,    96.85,2,     0.15,    32.27,2,     0.05,     0.01,2,     0.01,     2.22,2,     0.01,    0.430,2,    0.199,2,    0.028,2,    0.097,2,   2259.2,2,   2349.5,2,   7.5871,       25,2, -999.000,9, -999.000,   -999.0,9,   -999.0, -999.000,9, -999.000, -999.000,9, -999.000
  49NZ20121128,  P14S,    27,  1,     26, X12J26,2,20121210,0307,-64.6890, 170.9908, 3379,    370.0,2,   1.1860,2,   1.18574,2,  34.7181,2,  34.7183,2,  34.8905,2,   192.49,2,   192.37,2,  100.017,  -0.0007,2,    0.000,2,  -999.00,9,    0.000,2,    99.87,2,     0.15,    32.23,2,     0.05,     0.01,2,     0.01,     2.21,2,     0.01,    0.353,2,    0.163,2,    0.021,2,    0.110,2,   2260.1,2,   2351.2,2,   7.5910,       25,2, -999.000,9, -999.000,   -999.0,9,   -999.0, -999.000,9, -999.000, -999.000,9, -999.000
  49NZ20121128,  P14S,    27,  1,     25, X12J25,2,20121210,0307,-64.6890, 170.9908, 3379,    469.9,2,   1.1257,2,   1.12557,2,  34.7191,2,  34.7190,2,  34.8879,2,   193.89,2,   193.85,2,   99.994,   0.0002,2,    0.000,2,  -999.00,9,    0.000,2,   102.88,2,     0.15,    32.27,2,     0.05,     0.01,2,     0.01,     2.22,2,     0.01,    0.324,2,    0.156,2,    0.022,2,    0.120,2,   2261.6,2,   2353.1,2,   7.5923,       25,2, -999.000,9, -999.000,   -999.0,9,   -999.0, -999.000,9, -999.000, -999.000,9, -999.000
  49NZ20121128,  P14S,    27,  1,     24, X12J24,2,20121210,0307,-64.6890, 170.9908, 3379,    570.1,2,   1.0642,2,   1.06411,2,  34.7180,2,  34.7180,2,  34.8894,2,   195.25,2,   195.20,2,  100.004,  -0.0002,2,   -0.000,2,  -999.00,9,    0.000,2,   105.16,2,     0.15,    32.28,2,     0.05,     0.01,2,     0.01,     2.22,2,     0.01,    0.274,6,    0.123,6,    0.015,6,    0.106,6,   2261.2,2,   2354.2,2,   7.5946,       25,2, -999.000,9, -999.000,   -999.0,9,   -999.0, -999.000,9, -999.000, -999.000,9, -999.000
  49NZ20121128,  P14S,    27,  1,     23, X12J23,2,20121210,0307,-64.6890, 170.9908, 3379,    670.0,2,   0.9973,2,   0.99766,2,  34.7166,2,  34.7170,2,  34.8914,2,   196.80,2,   196.52,2,   99.994,   0.0002,2,    0.000,2,  -999.00,9,    0.000,2,   107.39,2,     0.16,    32.29,2,     0.05,     0.01,2,     0.01,     2.22,2,     0.01,    0.236,2,    0.107,2,    0.011,2,    0.075,2,   2261.2,6,   2354.4,2,   7.5962,       25,2, -999.000,9, -999.000,   -999.0,9,   -999.0, -999.000,9, -999.000, -999.000,9, -999.000
  49NZ20121128,  P14S,    27,  1,     22, X12J22,2,20121210,0307,-64.6890, 170.9908, 3379,    771.6,2,   0.9339,2,   0.93319,2,  34.7146,2,  34.7143,2,  34.8881,2,   198.37,2,   198.25,2,  100.012,  -0.0005,2,    0.000,2,  -999.00,9,    0.000,2,   109.60,2,     0.16,    32.35,2,     0.05,     0.01,2,     0.01,     2.23,2,     0.01,    0.224,2,    0.100,2,    0.011,2,    0.000,2,   2260.7,2,   2355.4,6,   7.5979,       25,2, -999.000,9, -999.000,   -999.0,9,   -999.0, -999.000,9, -999.000, -999.000,9, -999.000
  49NZ20121128,  P14S,    27,  1,     21, X12J21,2,20121210,0307,-64.6890, 170.9908, 3379,    872.6,2,   0.8650,2,   0.86509,2,  34.7127,2,  34.7126,2,  34.8875,2,   199.88,2,   199.70,2,  100.023,  -0.0009,2,   -0.000,2,  -999.00,9,    0.000,2,   112.40,2,     0.16,    32.42,2,     0.05,     0.01,2,     0.01,     2.23,2,     0.01,    0.201,2,    0.088,2,    0.009,2,    0.065,2,   2262.3,2,   2356.7,2,   7.5987,       25,6, -999.000,9, -999.000,   -999.0,9,   -999.0, -999.000,9, -999.000, -999.000,9, -999.000
  49NZ20121128,  P14S,    27,  1,     20, X12J20,2,20121210,0307,-64.6890, 170.9908, 3379,    960.8,2,   0.8155,2,   0.81510,2,  34.7109,2,  34.7109,2,  34.8842,2,   200.97,2,   200.74,2,  100.029,  -0.0012,2,    0.000,2,  -999.00,9,    0.000,2,   114.18,2,     0.16,    32.49,2,     0.05,     0.01,2,     0.01,     2.24,2,     0.01,    0.198,2,    0.086,2,    0.009,2,    0.056,2,   2262.6,2,   2357.3,2,   7.5998,       25,2, -999.000,9, -999.000,   -999.0,9,   -999.0, -999.000,9, -999.000, -999.000,9, -999.000
  49NZ20121128,  P14S,    27,  1,     19, X12J19,2,20121210,0307,-64.6890, 170.9908, 3379,   1171.5,2,   0.7106,2,   0.71049,2,  34.7075,2,  34.7075,2,  34.8815,2,   203.00,2,   202.91,2,  100.019,  -0.0008,2,   -0.000,2,  -999.00,9,    0.000,2,   117.55,2,     0.16,    32.59,2,     0.05,     0.01,2,     0.01,     2.24,2,     0.01,    0.188,6,    0.086,6,    0.009,6,    0.000,6,   2262.1,2,   2357.7,2,   7.5993,       25,2, -999.000,9, -999.000,   -999.0,9,   -999.0, -999.000,9, -999.000, -999.000,9, -999.000
  49NZ20121128,  P14S,    27,  1,     18, X12J18,2,20121210,0307,-64.6890, 170.9908, 3379,   1421.3,2,   0.5973,2,   0.59734,2,  34.7035,2,  34.7037,2,  34.8802,2,   205.55,2,   205.56,2,  100.014,  -0.0006,2,   -0.000,2,  -999.00,9,    0.000,2,   119.84,2,     0.17,    32.60,2,     0.05,     0.01,2,     0.01,     2.24,2,     0.01,    0.223,2,    0.107,2,    0.012,2,    0.092,2,   2262.4,2,   2358.7,2,   7.5989,       25,2, -999.000,9, -999.000,   -999.0,9,   -999.0, -999.000,9, -999.000, -999.000,9, -999.000
  49NZ20121128,  P14S,    27,  1,     17, X12J17,2,20121210,0307,-64.6890, 170.9908, 3379,   1671.3,2,   0.4948,2,   0.49497,2,  34.7002,2,  34.7003,2,  34.8769,2,   208.21,2,   208.23,2,  100.023,  -0.0009,2,   -0.000,2,  -999.00,9,    0.000,2,   121.31,2,     0.17,    32.59,2,     0.05,     0.01,2,     0.01,     2.24,2,     0.01,    0.298,2,    0.140,2,    0.016,2,    0.168,2,   2262.8,2,   2357.7,2,   7.5996,       25,6, -999.000,9, -999.000,   -999.0,9,   -999.0, -999.000,9, -999.000, -999.000,9, -999.000
  49NZ20121128,  P14S,    27,  1,     16, X12J16,2,20121210,0307,-64.6890, 170.9908, 3379,   1920.7,2,   0.3717,2,   0.37176,2,  34.6956,2,  34.6959,2,  34.8670,2,   211.75,2,   211.72,2,  100.014,  -0.0006,2,   -0.000,2,  -999.00,9,    0.000,2,   121.44,2,     0.17,    32.64,2,     0.05,     0.01,2,     0.01,     2.24,2,     0.01,    0.449,2,    0.222,2,    0.027,2,    0.150,2,   2262.6,2,   2358.1,2,   7.5989,       25,2, -999.000,9, -999.000,   -999.0,9,   -999.0, -999.000,9, -999.000, -999.000,9, -999.000
  49NZ20121128,  P14S,    27,  1,     15, X12J15,2,20121210,0307,-64.6890, 170.9908, 3379,   2170.7,2,   0.2831,2,   0.28309,2,  34.6908,2,  34.6911,2,  34.8644,2,   214.96,2,   215.21,2,   99.998,   0.0001,2,   -0.000,2,  -999.00,9,    0.000,2,   119.80,2,     0.17,    32.59,2,     0.05,     0.01,2,     0.01,     2.24,2,     0.01,    0.673,2,    0.334,2,    0.043,2,    0.250,2,   2262.3,2,   2358.3,2,   7.5992,       25,2, -999.000,9, -999.000,   -999.0,9,   -999.0, -999.000,9, -999.000, -999.000,9, -999.000
  49NZ20121128,  P14S,    27,  1,     14, X12J14,2,20121210,0307,-64.6890, 170.9908, 3379,   2419.8,2,   0.1167,2,   0.11671,2,  34.6811,2,  34.6807,2,  34.8532,2,   221.47,2,   221.60,2,   99.994,   0.0002,2,   -0.000,2,  -999.00,9,    0.000,2,   115.46,2,     0.16,    32.45,2,     0.05,     0.01,2,     0.01,     2.24,2,     0.01,    1.128,2,    0.593,2,    0.082,2,    0.508,2,   2260.6,6,   2354.2,2,   7.5966,       25,2, -999.000,9, -999.000,   -999.0,9,   -999.0, -999.000,9, -999.000, -999.000,9, -999.000
  49NZ20121128,  P14S,    27,  1,     13, X12J13,2,20121210,0307,-64.6890, 170.9908, 3379,   2670.1,2,   0.0336,2,   0.03357,2,  34.6756,2,  34.6755,2,  34.8466,2,   225.22,2,   225.37,2,   99.941,   0.0024,2,   -0.000,2,  -999.00,9,    0.000,2,   113.17,2,     0.16,    32.37,2,     0.05,     0.01,2,     0.01,     2.23,2,     0.01,    1.393,2,    0.744,2,    0.103,2,    0.485,2,   2258.9,2,   2354.2,2,   7.5973,       25,2, -999.000,9, -999.000,   -999.0,9,   -999.0, -999.000,9, -999.000, -999.000,9, -999.000
  49NZ20121128,  P14S,    27,  1,     12, X12J12,2,20121210,0307,-64.6890, 170.9908, 3379,   2921.0,2,   0.0241,2,   0.02423,2,  34.6743,2,  34.6745,2,  34.8486,2,   226.36,2,   226.61,2,   99.902,   0.0039,2,   -0.000,2,  -999.00,9,    0.000,2,   112.06,2,     0.16,    32.33,2,     0.05,     0.00,2,     0.01,     2.23,2,     0.01,    1.501,2,    0.791,2,    0.117,2,    0.498,2,   2259.1,2,   2353.3,2,   7.5957,       25,6, -999.000,9, -999.000,   -999.0,9,   -999.0, -999.000,9, -999.000, -999.000,9, -999.000
  49NZ20121128,  P14S,    27,  1,     11, X12J11,2,20121210,0307,-64.6890, 170.9908, 3379,   3170.0,2,   0.0211,2,   0.02093,2,  34.6745,2,  34.6752,2,  34.8400,2,   227.15,2,   227.47,2,   99.870,   0.0052,2,   -0.000,2,  -999.00,9,    0.000,2,   109.08,2,     0.16,    32.32,2,     0.05,     0.01,2,     0.01,     2.23,2,     0.01,    1.644,2,    0.853,2,    0.127,2,    0.601,2,   2259.3,2,   2353.0,2,   7.5958,       25,2, -999.000,9, -999.000,   -999.0,9,   -999.0, -999.000,9, -999.000, -999.000,9, -999.000
  49NZ20121128,  P14S,    27,  1,      1, X12J01,2,20121210,0307,-64.6890, 170.9908, 3379,   3414.4,2,   0.0220,2,   0.02202,2,  34.6737,2,  34.6740,2,  34.8473,2,   228.21,2,   228.31,2,   99.835,   0.0066,2,   -0.000,2,  -999.00,9,    0.000,2,   108.10,2,     0.16,    32.28,2,     0.05,     0.01,2,     0.01,     2.23,2,     0.01,    1.718,2,    0.898,2,    0.137,2,    0.776,2,   2258.8,2,   2352.7,2,   7.5945,       25,2, -999.000,9, -999.000,   -999.0,9,   -999.0, -999.000,9, -999.000, -999.000,9, -999.000