BOTTLE,20220819CCHSIOAMB
EXPOCODE,SECT_ID,STNNBR,CASTNO,SAMPNO,BTLNBR,BTLNBR_FLAG_W,DATE,TIME,LATITUDE,LONGITUDE,DEPTH,CTDPRS,CTDPRS_FLAG_W,CTDTMP,CTDTMP_FLAG_W,SBE35,SBE35_FLAG_W,CTDSAL,CTDSAL_FLAG_W,SALNTY,SALNTY_FLAG_W,DNSSAL,DNSSAL_FLAG_W,CTDOXY,CTDOXY_FLAG_W,OXYGEN,OXYGEN_FLAG_W,CTDXMISS,CTDXMISSCP,CTDXMISS_FLAG_W,CTDFLUOR,CTDFLUOR_FLAG_W,CHLORA,CHLORA_FLAG_W,PAR,PAR_FLAG_W,SILCAT,SILCAT_FLAG_W,SILUNC,NITRAT,NITRAT_FLAG_W,NRAUNC,NITRIT,NITRIT_FLAG_W,NRIUNC,PHSPHT,PHSPHT_FLAG_W,PHPUNC,CFC-11,CFC-11_FLAG_W,CFC-12,CFC-12_FLAG_W,CFC113,CFC113_FLAG_W,SF6,SF6_FLAG_W,TCARBN,TCARBN_FLAG_W,ALKALI,ALKALI_FLAG_W,PH_TOT,PH_TMP,PH_TOT_FLAG_W,DELC13,DELC13_FLAG_W,C13ERR,DELC14,DELC14_FLAG_W,C14ERR,CS-134,CS-134_FLAG_W,CS134ER,CS-137,CS-137_FLAG_W,CS137ER
,,,,,,,,UTC,DEG,DEG,METERS,DBAR,,ITS-90,,ITS-90,,PSS-78,,PSS-78,,G/KG,,UMOL/KG,,UMOL/KG,,%TRANS,/METER,,MG/M^3,,MG/CUM,,UE/SQM/S,,UMOL/KG,,UMOL/KG,UMOL/KG,,UMOL/KG,UMOL/KG,,UMOL/KG,UMOL/KG,,UMOL/KG,PMOL/KG,,PMOL/KG,,PMOL/KG,,FMOL/KG,,UMOL/KG,,UMOL/KG,,,DEG C,,/MILLE,,/MILLE,/MILLE,,/MILLE,MBQ/KG,,MBQ/KG,MBQ/KG,,MBQ/KG
  49NZ20121128,   S04,    77,  1,     36, X12J36,2,20121222,1404,-62.0027, 122.8385, 4216,      4.9,2,   0.1169,2,   0.11647,2,  33.8385,2,  33.8398,2,-999.0000,9,   362.32,2,   363.27,2,   88.221,   0.5013,2,    1.690,2,     1.64,2,    1.371,2,    27.99,2,     0.08,    23.63,2,     0.04,     0.21,2,     0.01,     1.54,3,     0.01,    5.948,2,    3.272,2,    0.574,2, -999.000,9,   -999.0,9,   -999.0,9,-999.0000,     -999,9, -999.000,9, -999.000,   -999.0,9,   -999.0, -999.000,9, -999.000, -999.000,9, -999.000
  49NZ20121128,   S04,    77,  1,     35, X12J35,2,20121222,1404,-62.0027, 122.8385, 4216,     24.8,2,  -0.1977,2,  -0.20150,2,  33.8550,2,  33.8561,2,-999.0000,9,   359.04,2,   360.52,2,   88.702,   0.4796,2,    2.450,2,     1.88,2,    0.000,2,    29.29,2,     0.08,    24.29,2,     0.04,     0.20,2,     0.01,     1.61,2,     0.01,    5.934,2,    3.259,2,    0.532,2, -999.000,9,   -999.0,9,   -999.0,9,-999.0000,     -999,9, -999.000,9, -999.000,   -999.0,9,   -999.0, -999.000,9, -999.000, -999.000,9, -999.000
  49NZ20121128,   S04,    77,  1,     34, X12J34,2,20121222,1404,-62.0027, 122.8385, 4216,     50.4,2,  -0.4727,2,  -0.47424,2,  33.8606,2,  33.8650,2,-999.0000,9,   356.66,2,   357.05,2,   88.130,   0.5054,2,    1.920,2,     2.10,2,    0.000,2,    31.69,2,     0.09,    25.03,2,     0.04,     0.19,2,     0.01,     1.71,3,     0.02,    5.906,6,    3.244,6,    0.550,6, -999.000,9,   -999.0,9,   -999.0,9,-999.0000,     -999,9, -999.000,9, -999.000,   -999.0,9,   -999.0, -999.000,9, -999.000, -999.000,9, -999.000
  49NZ20121128,   S04,    77,  1,     33, X12J33,2,20121222,1404,-62.0027, 122.8385, 4216,     75.1,2,  -1.6876,2,  -1.68833,2,  33.9805,2,  33.9964,2,-999.0000,9,   328.80,2,   324.57,2,   98.131,   0.0755,2,    0.310,2,     0.33,2,    0.000,2,    46.27,2,     0.10,    30.03,2,     0.04,     0.20,2,     0.01,     2.10,2,     0.01,    5.333,2,    2.927,2,    0.486,2, -999.000,9,   -999.0,9,   -999.0,9,-999.0000,     -999,9, -999.000,9, -999.000,   -999.0,9,   -999.0, -999.000,9, -999.000, -999.000,9, -999.000
  49NZ20121128,   S04,    77,  1,     32, X12J32,2,20121222,1404,-62.0027, 122.8385, 4216,     99.9,2,  -1.2397,2,  -1.24200,2,  34.0782,2,  34.0863,2,-999.0000,9,   302.22,2,   300.45,2,   98.549,   0.0585,2,    0.260,2,     0.21,2,    0.000,2,    49.39,2,     0.10,    31.21,2,     0.04,     0.11,2,     0.01,     2.16,2,     0.01,    4.743,2,    2.601,2,    0.426,2, -999.000,9,   -999.0,9,   -999.0,9,-999.0000,     -999,9, -999.000,9, -999.000,   -999.0,9,   -999.0, -999.000,9, -999.000, -999.000,9, -999.000
  49NZ20121128,   S04,    77,  1,     31, X12J31,2,20121222,1404,-62.0027, 122.8385, 4216,    124.9,2,  -0.3163,2,  -0.32097,2,  34.2115,2,  34.2078,2,-999.0000,9,   265.70,2,   265.07,2,   99.076,   0.0371,2,    0.180,2,     0.15,2,    0.000,2,    55.90,2,     0.11,    32.45,2,     0.05,     0.03,2,     0.01,     2.24,2,     0.01,    3.786,2,    2.064,2,    0.363,2, -999.000,9,   -999.0,9,   -999.0,9,-999.0000,     -999,9, -999.000,9, -999.000,   -999.0,9,   -999.0, -999.000,9, -999.000, -999.000,9, -999.000
  49NZ20121128,   S04,    77,  1,     30, X12J30,2,20121222,1404,-62.0027, 122.8385, 4216,    151.0,2,   0.9407,2,   0.94169,2,  34.3966,2,  34.4022,2,-999.0000,9,   214.82,2,   214.36,2,   99.617,   0.0153,2,    0.070,2,     0.05,2,    0.000,2,    66.19,2,     0.12,    34.03,2,     0.05,     0.02,2,     0.01,     2.34,2,     0.01,    2.244,2,    1.212,2,    0.181,2, -999.000,9,   -999.0,9,   -999.0,9,-999.0000,     -999,9, -999.000,9, -999.000,   -999.0,9,   -999.0, -999.000,9, -999.000, -999.000,9, -999.000
  49NZ20121128,   S04,    77,  1,     29, X12J29,2,20121222,1404,-62.0027, 122.8385, 4216,    199.7,2,   1.8500,2,   1.84955,2,  34.5524,2,  34.5505,2,-999.0000,9,   180.75,2,   180.82,2,   99.611,   0.0156,2,    0.050,2,     0.03,2,    0.000,2,    74.01,2,     0.13,    34.52,2,     0.05,     0.01,2,     0.01,     2.37,2,     0.01,    1.116,2,    0.588,2,    0.081,2, -999.000,9,   -999.0,9,   -999.0,9,-999.0000,     -999,9, -999.000,9, -999.000,   -999.0,9,   -999.0, -999.000,9, -999.000, -999.000,9, -999.000
  49NZ20121128,   S04,    77,  1,     28, X12J28,2,20121222,1404,-62.0027, 122.8385, 4216,    249.8,2,   1.9366,2,   1.93625,2,  34.6046,2,  34.6047,2,-999.0000,9,   177.18,2,   177.16,2,   99.775,   0.0090,2,    0.010,2,     0.01,2,    0.000,2,    76.83,2,     0.13,    34.12,2,     0.05,     0.01,2,     0.01,     2.34,2,     0.01,    0.826,2,    0.431,2,    0.059,2, -999.000,9,   -999.0,9,   -999.0,9,-999.0000,     -999,9, -999.000,9, -999.000,   -999.0,9,   -999.0, -999.000,9, -999.000, -999.000,9, -999.000
  49NZ20121128,   S04,    77,  1,     27, X12J27,2,20121222,1404,-62.0027, 122.8385, 4216,    280.7,2,   1.9467,2,   1.94659,2,  34.6264,2,  34.6287,2,-999.0000,9,   177.42,2,   177.50,2,   99.809,   0.0076,2,    0.010,2,  -999.00,9,    0.000,2,    77.64,2,     0.13,    33.68,2,     0.05,     0.01,2,     0.01,     2.31,2,     0.01,    0.722,2,    0.371,2,    0.061,2, -999.000,9,   -999.0,9,   -999.0,9,-999.0000,     -999,9, -999.000,9, -999.000,   -999.0,9,   -999.0, -999.000,9, -999.000, -999.000,9, -999.000
  49NZ20121128,   S04,    77,  1,     26, X12J26,2,20121222,1404,-62.0027, 122.8385, 4216,    371.5,2,   1.9450,2,   1.94506,2,  34.6683,2,  34.6706,2,-999.0000,9,   179.43,2,   179.84,2,   99.638,   0.0145,2,    0.010,2,  -999.00,9,    0.000,2,    79.67,2,     0.13,    32.96,2,     0.05,     0.01,2,     0.01,     2.26,2,     0.01,    0.555,2,    0.283,2,    0.050,2, -999.000,9,   -999.0,9,   -999.0,9,-999.0000,     -999,9, -999.000,9, -999.000,   -999.0,9,   -999.0, -999.000,9, -999.000, -999.000,9, -999.000
  49NZ20121128,   S04,    77,  1,     25, X12J25,2,20121222,1404,-62.0027, 122.8385, 4216,    470.9,2,   1.9273,2,   1.92698,2,  34.6939,2,  34.6938,2,-999.0000,9,   182.03,2,   182.23,2,   99.868,   0.0053,2,    0.010,2,  -999.00,9,    0.000,2,    81.00,2,     0.13,    32.40,2,     0.05,     0.01,2,     0.01,     2.21,2,     0.01,    0.457,2,    0.230,2,    0.039,2, -999.000,9,   -999.0,9,   -999.0,9,-999.0000,     -999,9, -999.000,9, -999.000,   -999.0,9,   -999.0, -999.000,9, -999.000, -999.000,9, -999.000
  49NZ20121128,   S04,    77,  1,     24, X12J24,2,20121222,1404,-62.0027, 122.8385, 4216,    570.5,2,   1.8845,2,   1.88406,2,  34.7123,2,  34.7128,2,-999.0000,9,   185.27,2,   185.54,2,   99.900,   0.0040,2,    0.010,2,  -999.00,9,    0.000,2,    82.43,2,     0.13,    31.88,2,     0.04,     0.01,2,     0.01,     2.18,2,     0.01,    0.380,6,    0.189,6,    0.036,6, -999.000,9,   -999.0,9,   -999.0,9,-999.0000,     -999,9, -999.000,9, -999.000,   -999.0,9,   -999.0, -999.000,9, -999.000, -999.000,9, -999.000
  49NZ20121128,   S04,    77,  1,     23, X12J23,2,20121222,1404,-62.0027, 122.8385, 4216,    672.0,2,   1.8540,2,   1.85385,2,  34.7267,2,  34.7270,2,-999.0000,9,   187.99,2,   188.47,2,   99.910,   0.0036,2,    0.000,2,  -999.00,9,    0.000,2,    83.97,2,     0.13,    31.51,2,     0.04,     0.01,2,     0.01,     2.16,2,     0.01,    0.301,2,    0.148,2,    0.027,2, -999.000,9,   -999.0,9,   -999.0,9,-999.0000,     -999,9, -999.000,9, -999.000,   -999.0,9,   -999.0, -999.000,9, -999.000, -999.000,9, -999.000
  49NZ20121128,   S04,    77,  1,     22, X12J22,2,20121222,1404,-62.0027, 122.8385, 4216,    769.9,2,   1.8055,2,   1.80542,2,  34.7366,2,  34.7368,2,-999.0000,9,   191.23,2,   191.62,2,   99.978,   0.0009,2,    0.010,2,  -999.00,9,    0.000,2,    85.28,2,     0.14,    31.15,2,     0.04,     0.01,2,     0.01,     2.13,2,     0.01,    0.255,2,    0.123,2,    0.019,2, -999.000,9,   -999.0,9,   -999.0,9,-999.0000,     -999,9, -999.000,9, -999.000,   -999.0,9,   -999.0, -999.000,9, -999.000, -999.000,9, -999.000
  49NZ20121128,   S04,    77,  1,     21, X12J21,2,20121222,1404,-62.0027, 122.8385, 4216,    871.5,2,   1.7222,2,   1.72210,2,  34.7401,2,  34.7402,2,-999.0000,9,   193.67,2,   194.04,2,   99.982,   0.0007,2,    0.000,2,  -999.00,9,    0.000,2,    87.27,2,     0.14,    30.99,2,     0.04,     0.01,2,     0.01,     2.12,2,     0.01,    0.236,2,    0.114,2,    0.021,2, -999.000,9,   -999.0,9,   -999.0,9,-999.0000,     -999,9, -999.000,9, -999.000,   -999.0,9,   -999.0, -999.000,9, -999.000, -999.000,9, -999.000
  49NZ20121128,   S04,    77,  1,     20, X12J20,2,20121222,1404,-62.0027, 122.8385, 4216,    960.2,2,   1.6472,2,   1.64640,2,  34.7429,2,  34.7432,2,-999.0000,9,   196.04,2,   196.47,2,   99.917,   0.0033,2,    0.000,2,  -999.00,9,    0.000,2,    89.40,2,     0.14,    30.88,2,     0.04,     0.00,2,     0.01,     2.12,2,     0.01,    0.193,2,    0.091,2,    0.020,2, -999.000,9,   -999.0,9,   -999.0,9,-999.0000,     -999,9, -999.000,9, -999.000,   -999.0,9,   -999.0, -999.000,9, -999.000, -999.000,9, -999.000
  49NZ20121128,   S04,    77,  1,     19, X12J19,2,20121222,1404,-62.0027, 122.8385, 4216,   1170.5,2,   1.4457,2,   1.44526,2,  34.7384,2,  34.7384,2,-999.0000,9,   199.05,2,   199.55,2,   99.997,   0.0001,2,    0.000,2,  -999.00,9,    0.000,2,    94.69,2,     0.14,    31.06,2,     0.04,     0.00,2,     0.01,     2.13,2,     0.01,    0.206,6,    0.097,6,    0.019,6, -999.000,9,   -999.0,9,   -999.0,9,-999.0000,     -999,9, -999.000,9, -999.000,   -999.0,9,   -999.0, -999.000,9, -999.000, -999.000,9, -999.000
  49NZ20121128,   S04,    77,  1,     18, X12J18,2,20121222,1404,-62.0027, 122.8385, 4216,   1419.8,2,   1.2451,2,   1.24598,2,  34.7309,2,  34.7309,2,-999.0000,9,   201.76,2,   202.11,2,   99.845,   0.0062,2,   -0.000,2,  -999.00,9,    0.000,2,   100.39,2,     0.15,    31.30,2,     0.04,     0.00,2,     0.01,     2.15,2,     0.01,    0.201,2,    0.093,2,    0.020,2, -999.000,9,   -999.0,9,   -999.0,9,-999.0000,     -999,9, -999.000,9, -999.000,   -999.0,9,   -999.0, -999.000,9, -999.000, -999.000,9, -999.000
  49NZ20121128,   S04,    77,  1,     17, X12J17,2,20121222,1404,-62.0027, 122.8385, 4216,   1670.6,2,   1.0297,2,   1.02970,2,  34.7203,2,  34.7205,2,-999.0000,9,   204.43,2,   204.72,2,   99.967,   0.0013,2,    0.000,2,  -999.00,9,    0.000,2,   106.47,2,     0.15,    31.67,2,     0.04,     0.01,2,     0.01,     2.19,2,     0.01,    0.213,2,    0.099,2,    0.018,2, -999.000,9,   -999.0,9,   -999.0,9,-999.0000,     -999,9, -999.000,9, -999.000,   -999.0,9,   -999.0, -999.000,9, -999.000, -999.000,9, -999.000
  49NZ20121128,   S04,    77,  1,     16, X12J16,2,20121222,1404,-62.0027, 122.8385, 4216,   1920.2,2,   0.8527,2,   0.85295,2,  34.7108,2,  34.7105,2,-999.0000,9,   206.79,2,   207.02,2,   99.993,   0.0003,2,   -0.000,2,  -999.00,9,    0.000,2,   111.42,2,     0.16,    32.00,2,     0.04,     0.01,2,     0.01,     2.21,2,     0.01,    0.246,2,    0.111,2,    0.018,2, -999.000,9,   -999.0,9,   -999.0,9,-999.0000,     -999,9, -999.000,9, -999.000,   -999.0,9,   -999.0, -999.000,9, -999.000, -999.000,9, -999.000
  49NZ20121128,   S04,    77,  1,     15, X12J15,2,20121222,1404,-62.0027, 122.8385, 4216,   2172.0,2,   0.6791,2,   0.67889,2,  34.7014,2,  34.7014,2,-999.0000,9,   209.54,2,   209.84,2,   99.978,   0.0009,2,   -0.000,2,  -999.00,9,    0.000,2,   116.00,2,     0.16,    32.27,2,     0.05,     0.00,2,     0.01,     2.22,2,     0.01,    0.299,2,    0.139,2,    0.016,2, -999.000,9,   -999.0,9,   -999.0,9,-999.0000,     -999,9, -999.000,9, -999.000,   -999.0,9,   -999.0, -999.000,9, -999.000, -999.000,9, -999.000
  49NZ20121128,   S04,    77,  1,     14, X12J14,2,20121222,1404,-62.0027, 122.8385, 4216,   2420.8,2,   0.5119,2,   0.51180,2,  34.6929,2,  34.6932,2,-999.0000,9,   213.12,2,   213.37,2,   99.993,   0.0003,2,   -0.000,2,  -999.00,9,    0.000,2,   119.56,2,     0.17,    32.44,2,     0.05,     0.00,2,     0.01,     2.23,2,     0.01, -999.000,5, -999.000,5, -999.000,5, -999.000,9,   -999.0,9,   -999.0,9,-999.0000,     -999,9, -999.000,9, -999.000,   -999.0,9,   -999.0, -999.000,9, -999.000, -999.000,9, -999.000
  49NZ20121128,   S04,    77,  1,     13, X12J13,2,20121222,1404,-62.0027, 122.8385, 4216,   2670.9,2,   0.3759,2,   0.37585,2,  34.6867,2,  34.6865,2,-999.0000,9,   216.68,2,   216.79,2,   99.912,   0.0035,2,   -0.000,2,  -999.00,9,    0.000,2,   122.47,2,     0.17,    32.50,2,     0.05,     0.00,2,     0.01,     2.24,2,     0.01,    0.474,2,    0.227,2,    0.029,2, -999.000,9,   -999.0,9,   -999.0,9,-999.0000,     -999,9, -999.000,9, -999.000,   -999.0,9,   -999.0, -999.000,9, -999.000, -999.000,9, -999.000
  49NZ20121128,   S04,    77,  1,     12, X12J12,2,20121222,1404,-62.0027, 122.8385, 4216,   2920.9,2,   0.2676,2,   0.26756,2,  34.6820,2,  34.6818,2,-999.0000,9,   220.08,2,   220.32,2,   99.944,   0.0022,2,   -0.010,2,  -999.00,9,    0.000,2,   124.82,2,     0.17,    32.56,2,     0.05,     0.00,2,     0.01,     2.24,2,     0.01,    0.590,2,    0.283,2,    0.035,2, -999.000,9,   -999.0,9,   -999.0,9,-999.0000,     -999,9, -999.000,9, -999.000,   -999.0,9,   -999.0, -999.000,9, -999.000, -999.000,9, -999.000
  49NZ20121128,   S04,    77,  1,     11, X12J11,2,20121222,1404,-62.0027, 122.8385, 4216,   3170.6,2,   0.1887,2,   0.18866,2,  34.6783,2,  34.6787,2,-999.0000,9,   222.91,2,   222.96,2,  100.014,  -0.0006,2,   -0.000,2,  -999.00,9,    0.000,2,   126.11,2,     0.17,    32.58,2,     0.05,     0.00,2,     0.01,     2.25,2,     0.01,    0.707,2,    0.342,2,    0.043,2, -999.000,9,   -999.0,9,   -999.0,9,-999.0000,     -999,9, -999.000,9, -999.000,   -999.0,9,   -999.0, -999.000,9, -999.000, -999.000,9, -999.000
  49NZ20121128,   S04,    77,  1,     10, X12J10,2,20121222,1404,-62.0027, 122.8385, 4216,   3420.9,2,   0.1049,2,   0.10482,2,  34.6728,2,  34.6730,2,-999.0000,9,   226.22,2,   226.53,2,   99.986,   0.0006,2,   -0.010,2,  -999.00,9,    0.000,2,   124.83,2,     0.17,    32.54,2,     0.05,     0.00,2,     0.01,     2.24,2,     0.01,    0.928,2,    0.460,2,    0.055,2, -999.000,9,   -999.0,9,   -999.0,9,-999.0000,     -999,9, -999.000,9, -999.000,   -999.0,9,   -999.0, -999.000,9, -999.000, -999.000,9, -999.000
  49NZ20121128,   S04,    77,  1,      9, X12J09,2,20121222,1404,-62.0027, 122.8385, 4216,   3671.7,2,   0.0327,2,   0.03279,2,  34.6688,2,  34.6687,2,-999.0000,9,   229.53,2,   229.58,2,   99.965,   0.0014,2,   -0.010,2,  -999.00,9,    0.000,2,   124.49,2,     0.17,    32.49,2,     0.05,     0.00,2,     0.01,     2.24,2,     0.01,    1.131,2,    0.561,2,    0.076,2, -999.000,9,   -999.0,9,   -999.0,9,-999.0000,     -999,9, -999.000,9, -999.000,   -999.0,9,   -999.0, -999.000,9, -999.000, -999.000,9, -999.000
  49NZ20121128,   S04,    77,  1,      8, X12J08,2,20121222,1404,-62.0027, 122.8385, 4216,   3922.0,2,  -0.0351,2,  -0.03496,2,  34.6638,2,  34.6640,2,-999.0000,9,   232.63,2,   232.84,2,   99.946,   0.0022,2,   -0.000,2,  -999.00,9,    0.000,2,   124.51,2,     0.17,    32.42,2,     0.05,     0.01,2,     0.01,     2.24,2,     0.01,    1.383,6,    0.696,6,    0.102,6, -999.000,9,   -999.0,9,   -999.0,9,-999.0000,     -999,9, -999.000,9, -999.000,   -999.0,9,   -999.0, -999.000,9, -999.000, -999.000,9, -999.000
  49NZ20121128,   S04,    77,  1,      7, X12J07,2,20121222,1404,-62.0027, 122.8385, 4216,   4170.2,2,  -0.1413,2,  -0.14145,2,  34.6521,2,  34.6524,2,-999.0000,9,   237.94,2,   238.34,2,   99.851,   0.0060,2,   -0.000,2,  -999.00,9,    0.000,2,   119.90,2,     0.17,    32.23,2,     0.05,     0.00,2,     0.01,     2.22,2,     0.01,    1.901,2,    0.982,2,    0.138,2, -999.000,9,   -999.0,9,   -999.0,9,-999.0000,     -999,9, -999.000,9, -999.000,   -999.0,9,   -999.0, -999.000,9, -999.000, -999.000,9, -999.000
  49NZ20121128,   S04,    77,  1,      1, X12J01,2,20121222,1404,-62.0027, 122.8385, 4216,   4284.4,2,  -0.1790,2,  -0.17902,2,  34.6480,2,  34.6489,2,-999.0000,9,   239.14,2,   239.33,2,   99.606,   0.0158,2,   -0.010,2,  -999.00,9,    0.000,2,   125.32,2,     0.17,    32.32,2,     0.05,     0.01,2,     0.01,     2.23,2,     0.01,    2.057,2,    1.074,2,    0.155,2, -999.000,9,   -999.0,9,   -999.0,9,-999.0000,     -999,9, -999.000,9, -999.000,   -999.0,9,   -999.0, -999.000,9, -999.000, -999.000,9, -999.000