BOTTLE,20220819CCHSIOAMB
EXPOCODE,SECT_ID,STNNBR,CASTNO,SAMPNO,BTLNBR,BTLNBR_FLAG_W,DATE,TIME,LATITUDE,LONGITUDE,DEPTH,CTDPRS,CTDPRS_FLAG_W,CTDTMP,CTDTMP_FLAG_W,SBE35,SBE35_FLAG_W,CTDSAL,CTDSAL_FLAG_W,SALNTY,SALNTY_FLAG_W,DNSSAL,DNSSAL_FLAG_W,CTDOXY,CTDOXY_FLAG_W,OXYGEN,OXYGEN_FLAG_W,CTDXMISS,CTDXMISSCP,CTDXMISS_FLAG_W,CTDFLUOR,CTDFLUOR_FLAG_W,CHLORA,CHLORA_FLAG_W,PAR,PAR_FLAG_W,SILCAT,SILCAT_FLAG_W,SILUNC,NITRAT,NITRAT_FLAG_W,NRAUNC,NITRIT,NITRIT_FLAG_W,NRIUNC,PHSPHT,PHSPHT_FLAG_W,PHPUNC,CFC-11,CFC-11_FLAG_W,CFC-12,CFC-12_FLAG_W,CFC113,CFC113_FLAG_W,SF6,SF6_FLAG_W,TCARBN,TCARBN_FLAG_W,ALKALI,ALKALI_FLAG_W,PH_TOT,PH_TMP,PH_TOT_FLAG_W,DELC13,DELC13_FLAG_W,C13ERR,DELC14,DELC14_FLAG_W,C14ERR,CS-134,CS-134_FLAG_W,CS134ER,CS-137,CS-137_FLAG_W,CS137ER
,,,,,,,,UTC,DEG,DEG,METERS,DBAR,,ITS-90,,ITS-90,,PSS-78,,PSS-78,,G/KG,,UMOL/KG,,UMOL/KG,,%TRANS,/METER,,MG/M^3,,MG/CUM,,UE/SQM/S,,UMOL/KG,,UMOL/KG,UMOL/KG,,UMOL/KG,UMOL/KG,,UMOL/KG,UMOL/KG,,UMOL/KG,PMOL/KG,,PMOL/KG,,PMOL/KG,,FMOL/KG,,UMOL/KG,,UMOL/KG,,,DEG C,,/MILLE,,/MILLE,/MILLE,,/MILLE,MBQ/KG,,MBQ/KG,MBQ/KG,,MBQ/KG
  49NZ20121128,   S04,    54,  1,     36, X12J36,2,20121214,0210,-63.4347, 155.1830, 3072,      5.6,2,  -1.2896,2,  -1.28449,2,  33.7993,2,  33.8004,2,-999.0000,9,   327.57,2,   327.26,2,   96.956,   0.1237,2,    0.050,2,  -999.00,9,  641.174,2,    62.85,2,     0.12,    30.06,2,     0.04,     0.14,2,     0.01,     2.07,2,     0.01,    4.867,2,    2.661,2,    0.446,2, -999.000,9,   -999.0,9,   -999.0,9,-999.0000,     -999,9, -999.000,9, -999.000,   -999.0,9,   -999.0, -999.000,9, -999.000, -999.000,9, -999.000
  49NZ20121128,   S04,    54,  1,     35, X12J35,2,20121214,0210,-63.4347, 155.1830, 3072,     24.8,2,  -1.4997,2,  -1.49935,2,  33.8018,2,  33.8069,2,-999.0000,9,   326.08,2,   325.36,2,   96.654,   0.1361,2,    0.100,2,  -999.00,9,  161.424,2,    62.81,2,     0.12,    30.06,2,     0.04,     0.13,2,     0.01,     2.08,2,     0.01,    4.783,2,    2.610,2,    0.440,2, -999.000,9,   -999.0,9,   -999.0,9,-999.0000,     -999,9, -999.000,9, -999.000,   -999.0,9,   -999.0, -999.000,9, -999.000, -999.000,9, -999.000
  49NZ20121128,   S04,    54,  1,     34, X12J34,2,20121214,0210,-63.4347, 155.1830, 3072,     50.4,2,  -0.6573,2,  -0.68966,2,  34.2644,2,  34.2513,2,-999.0000,9,   267.11,2,   266.68,2,   97.768,   0.0903,2,    0.260,2,  -999.00,9,   58.459,2,    67.19,2,     0.12,    31.48,2,     0.04,     0.08,2,     0.01,     2.17,2,     0.01,    3.240,6,    1.764,6,    0.296,6, -999.000,9,   -999.0,9,   -999.0,9,-999.0000,     -999,9, -999.000,9, -999.000,   -999.0,9,   -999.0, -999.000,9, -999.000, -999.000,9, -999.000
  49NZ20121128,   S04,    54,  1,     33, X12J33,2,20121214,0210,-63.4347, 155.1830, 3072,     75.0,2,   0.9491,2,   0.92053,2,  34.5246,2,  34.5263,2,-999.0000,9,   210.86,2,   208.65,2,   98.274,   0.0696,2,    0.350,2,  -999.00,9,   11.833,2,    74.92,2,     0.13,    32.79,2,     0.05,     0.06,2,     0.01,     2.27,2,     0.01,    1.564,2,    0.843,2,    0.142,2, -999.000,9,   -999.0,9,   -999.0,9,-999.0000,     -999,9, -999.000,9, -999.000,   -999.0,9,   -999.0, -999.000,9, -999.000, -999.000,9, -999.000
  49NZ20121128,   S04,    54,  1,     32, X12J32,2,20121214,0210,-63.4347, 155.1830, 3072,    100.6,2,   1.6869,2,   1.68555,2,  34.6287,2,  34.6277,2,-999.0000,9,   184.26,2,   184.07,2,   99.461,   0.0216,2,    0.160,2,  -999.00,9,    3.466,2,    79.18,2,     0.13,    33.32,2,     0.05,     0.03,2,     0.01,     2.30,2,     0.01,    0.851,2,    0.447,2,    0.082,2, -999.000,9,   -999.0,9,   -999.0,9,-999.0000,     -999,9, -999.000,9, -999.000,   -999.0,9,   -999.0, -999.000,9, -999.000, -999.000,9, -999.000
  49NZ20121128,   S04,    54,  1,     31, X12J31,2,20121214,0210,-63.4347, 155.1830, 3072,    125.2,2,   1.7380,2,   1.73779,2,  34.6437,2,  34.6431,2,-999.0000,9,   182.63,2,   182.32,2,   99.604,   0.0159,2,    0.100,2,  -999.00,9,    1.486,2,    79.92,2,     0.13,    33.23,2,     0.05,     0.02,2,     0.01,     2.29,2,     0.01,    0.771,2,    0.400,2,    0.068,2, -999.000,9,   -999.0,9,   -999.0,9,-999.0000,     -999,9, -999.000,9, -999.000,   -999.0,9,   -999.0, -999.000,9, -999.000, -999.000,9, -999.000
  49NZ20121128,   S04,    54,  1,     30, X12J30,2,20121214,0210,-63.4347, 155.1830, 3072,    150.5,2,   1.7624,2,   1.76225,2,  34.6572,2,  34.6566,2,-999.0000,9,   182.35,2,   181.92,2,   99.775,   0.0090,2,    0.010,2,  -999.00,9,    0.626,2,    80.89,2,     0.13,    33.07,2,     0.05,     0.01,2,     0.01,     2.28,2,     0.01,    0.701,2,    0.366,2,    0.066,2, -999.000,9,   -999.0,9,   -999.0,9,-999.0000,     -999,9, -999.000,9, -999.000,   -999.0,9,   -999.0, -999.000,9, -999.000, -999.000,9, -999.000
  49NZ20121128,   S04,    54,  1,     29, X12J29,2,20121214,0210,-63.4347, 155.1830, 3072,    200.3,2,   1.8047,2,   1.80441,2,  34.6821,2,  34.6814,2,-999.0000,9,   182.90,2,   182.50,2,   99.863,   0.0055,2,   -0.000,2,  -999.00,9,    0.089,2,    81.92,2,     0.13,    32.67,2,     0.05,     0.01,2,     0.01,     2.25,2,     0.01,    0.569,2,    0.290,2,    0.051,2, -999.000,9,   -999.0,9,   -999.0,9,-999.0000,     -999,9, -999.000,9, -999.000,   -999.0,9,   -999.0, -999.000,9, -999.000, -999.000,9, -999.000
  49NZ20121128,   S04,    54,  1,     28, X12J28,2,20121214,0210,-63.4347, 155.1830, 3072,    249.5,2,   1.7927,2,   1.79254,2,  34.6952,2,  34.6946,2,-999.0000,9,   184.33,2,   184.07,2,   99.922,   0.0031,2,    0.000,2,  -999.00,9,    0.000,2,    82.77,2,     0.13,    32.33,2,     0.05,     0.01,2,     0.01,     2.23,2,     0.01,    0.514,2,    0.262,2,    0.052,2, -999.000,9,   -999.0,9,   -999.0,9,-999.0000,     -999,9, -999.000,9, -999.000,   -999.0,9,   -999.0, -999.000,9, -999.000, -999.000,9, -999.000
  49NZ20121128,   S04,    54,  1,     27, X12J27,2,20121214,0210,-63.4347, 155.1830, 3072,    300.7,2,   1.7974,2,   1.79725,2,  34.7077,2,  34.7070,2,-999.0000,9,   185.59,2,   185.28,2,   99.945,   0.0022,2,    0.000,2,  -999.00,9,    0.000,2,    83.43,2,     0.13,    32.03,2,     0.04,     0.01,2,     0.01,     2.20,2,     0.01,    0.442,2,    0.225,2,    0.045,2, -999.000,9,   -999.0,9,   -999.0,9,-999.0000,     -999,9, -999.000,9, -999.000,   -999.0,9,   -999.0, -999.000,9, -999.000, -999.000,9, -999.000
  49NZ20121128,   S04,    54,  1,     26, X12J26,2,20121214,0210,-63.4347, 155.1830, 3072,    401.5,2,   1.7671,2,   1.76690,2,  34.7221,2,  34.7213,2,-999.0000,9,   188.47,2,   188.16,2,   99.997,   0.0001,2,    0.000,2,  -999.00,9,    0.000,2,    84.74,2,     0.13,    31.59,2,     0.04,     0.01,2,     0.01,     2.17,2,     0.01,    0.368,2,    0.182,2,    0.034,2, -999.000,9,   -999.0,9,   -999.0,9,-999.0000,     -999,9, -999.000,9, -999.000,   -999.0,9,   -999.0, -999.000,9, -999.000, -999.000,9, -999.000
  49NZ20121128,   S04,    54,  1,     25, X12J25,2,20121214,0210,-63.4347, 155.1830, 3072,    501.1,2,   1.7113,2,   1.71127,2,  34.7308,2,  34.7304,2,-999.0000,9,   191.09,2,   191.01,2,  100.022,  -0.0009,2,    0.000,2,  -999.00,9,    0.000,2,    86.34,2,     0.14,    31.30,2,     0.04,     0.00,2,     0.01,     2.15,2,     0.01,    0.318,2,    0.158,2,    0.038,2, -999.000,9,   -999.0,9,   -999.0,9,-999.0000,     -999,9, -999.000,9, -999.000,   -999.0,9,   -999.0, -999.000,9, -999.000, -999.000,9, -999.000
  49NZ20121128,   S04,    54,  1,     24, X12J24,2,20121214,0210,-63.4347, 155.1830, 3072,    600.2,2,   1.6240,2,   1.62389,2,  34.7364,2,  34.7362,2,-999.0000,9,   193.99,2,   193.89,2,  100.010,  -0.0004,2,    0.000,2,  -999.00,9,    0.000,2,    88.98,2,     0.14,    31.13,2,     0.04,     0.00,2,     0.01,     2.14,2,     0.01,    0.273,6,    0.134,6,    0.031,6, -999.000,9,   -999.0,9,   -999.0,9,-999.0000,     -999,9, -999.000,9, -999.000,   -999.0,9,   -999.0, -999.000,9, -999.000, -999.000,9, -999.000
  49NZ20121128,   S04,    54,  1,     23, X12J23,2,20121214,0210,-63.4347, 155.1830, 3072,    700.3,2,   1.5515,2,   1.55139,2,  34.7373,2,  34.7369,2,-999.0000,9,   195.95,2,   195.81,2,   99.961,   0.0016,2,    0.000,2,  -999.00,9,    0.000,2,    90.75,2,     0.14,    31.04,2,     0.04,     0.00,2,     0.01,     2.13,2,     0.01,    0.257,2,    0.125,2,    0.030,2, -999.000,9,   -999.0,9,   -999.0,9,-999.0000,     -999,9, -999.000,9, -999.000,   -999.0,9,   -999.0, -999.000,9, -999.000, -999.000,9, -999.000
  49NZ20121128,   S04,    54,  1,     22, X12J22,2,20121214,0210,-63.4347, 155.1830, 3072,    800.1,2,   1.4739,2,   1.47411,2,  34.7370,2,  34.7369,2,-999.0000,9,   197.70,2,   197.63,2,  100.024,  -0.0010,2,    0.000,2,  -999.00,9,    0.000,2,    92.89,2,     0.14,    31.02,2,     0.04,     0.00,2,     0.01,     2.14,2,     0.01,    0.243,2,    0.118,2,    0.028,2, -999.000,9,   -999.0,9,   -999.0,9,-999.0000,     -999,9, -999.000,9, -999.000,   -999.0,9,   -999.0, -999.000,9, -999.000, -999.000,9, -999.000
  49NZ20121128,   S04,    54,  1,     21, X12J21,2,20121214,0210,-63.4347, 155.1830, 3072,    901.5,2,   1.4023,2,   1.40222,2,  34.7354,2,  34.7352,2,-999.0000,9,   198.98,2,   198.91,2,  100.024,  -0.0010,2,    0.000,2,  -999.00,9,    0.000,2,    94.89,2,     0.14,    31.07,2,     0.04,     0.01,2,     0.01,     2.14,2,     0.01,    0.239,2,    0.113,2,    0.021,2, -999.000,9,   -999.0,9,   -999.0,9,-999.0000,     -999,9, -999.000,9, -999.000,   -999.0,9,   -999.0, -999.000,9, -999.000, -999.000,9, -999.000
  49NZ20121128,   S04,    54,  1,     20, X12J20,2,20121214,0210,-63.4347, 155.1830, 3072,   1000.3,2,   1.2903,2,   1.29082,2,  34.7311,2,  34.7305,2,-999.0000,9,   200.70,2,   200.72,2,  100.001,  -0.0000,2,    0.000,2,  -999.00,9,    0.000,2,    97.55,2,     0.15,    31.18,2,     0.04,     0.00,2,     0.01,     2.15,2,     0.01,    0.247,2,    0.121,2,    0.021,2, -999.000,9,   -999.0,9,   -999.0,9,-999.0000,     -999,9, -999.000,9, -999.000,   -999.0,9,   -999.0, -999.000,9, -999.000, -999.000,9, -999.000
  49NZ20121128,   S04,    54,  1,     19, X12J19,2,20121214,0210,-63.4347, 155.1830, 3072,   1250.4,2,   1.0806,2,   1.08052,2,  34.7214,2,  34.7212,2,-999.0000,9,   203.40,2,   203.33,2,  100.024,  -0.0010,2,   -0.000,2,  -999.00,9,    0.000,2,   103.18,2,     0.15,    31.49,2,     0.04,     0.00,2,     0.01,     2.19,2,     0.01,    0.267,6,    0.129,6,    0.027,6, -999.000,9,   -999.0,9,   -999.0,9,-999.0000,     -999,9, -999.000,9, -999.000,   -999.0,9,   -999.0, -999.000,9, -999.000, -999.000,9, -999.000
  49NZ20121128,   S04,    54,  1,     18, X12J18,2,20121214,0210,-63.4347, 155.1830, 3072,   1501.5,2,   0.8766,2,   0.87641,2,  34.7120,2,  34.7118,2,-999.0000,9,   205.95,2,   205.88,2,  100.010,  -0.0004,2,   -0.000,2,  -999.00,9,    0.000,2,   109.22,2,     0.16,    31.87,2,     0.04,     0.01,2,     0.01,     2.20,2,     0.01,    0.264,2,    0.127,2,    0.030,2, -999.000,9,   -999.0,9,   -999.0,9,-999.0000,     -999,9, -999.000,9, -999.000,   -999.0,9,   -999.0, -999.000,9, -999.000, -999.000,9, -999.000
  49NZ20121128,   S04,    54,  1,     17, X12J17,2,20121214,0210,-63.4347, 155.1830, 3072,   1751.7,2,   0.6800,2,   0.68001,2,  34.7015,2,  34.7014,2,-999.0000,9,   208.90,2,   208.87,2,  100.012,  -0.0005,2,   -0.000,2,  -999.00,9,    0.000,2,   114.17,2,     0.16,    32.16,2,     0.05,     0.01,2,     0.01,     2.22,2,     0.01,    0.324,2,    0.154,2,    0.028,2, -999.000,9,   -999.0,9,   -999.0,9,-999.0000,     -999,9, -999.000,9, -999.000,   -999.0,9,   -999.0, -999.000,9, -999.000, -999.000,9, -999.000
  49NZ20121128,   S04,    54,  1,     16, X12J16,2,20121214,0210,-63.4347, 155.1830, 3072,   2000.4,2,   0.5056,2,   0.50564,2,  34.6933,2,  34.6936,2,-999.0000,9,   212.39,2,   212.39,2,  100.005,  -0.0002,2,   -0.000,2,  -999.00,9,    0.000,2,   118.11,2,     0.16,    32.37,2,     0.05,     0.00,2,     0.01,     2.24,2,     0.01,    0.405,2,    0.185,2,    0.027,2, -999.000,9,   -999.0,9,   -999.0,9,-999.0000,     -999,9, -999.000,9, -999.000,   -999.0,9,   -999.0, -999.000,9, -999.000, -999.000,9, -999.000
  49NZ20121128,   S04,    54,  1,     15, X12J15,2,20121214,0210,-63.4347, 155.1830, 3072,   2250.9,2,   0.3701,2,   0.37002,2,  34.6873,2,  34.6875,2,-999.0000,9,   215.90,2,   215.89,2,  100.016,  -0.0006,2,   -0.000,2,  -999.00,9,    0.000,2,   120.60,2,     0.17,    32.43,2,     0.05,     0.00,2,     0.01,     2.24,2,     0.01,    0.482,2,    0.236,2,    0.053,2, -999.000,9,   -999.0,9,   -999.0,9,-999.0000,     -999,9, -999.000,9, -999.000,   -999.0,9,   -999.0, -999.000,9, -999.000, -999.000,9, -999.000
  49NZ20121128,   S04,    54,  1,     14, X12J14,2,20121214,0210,-63.4347, 155.1830, 3072,   2501.3,2,   0.2357,2,   0.23569,2,  34.6812,2,  34.6814,2,-999.0000,9,   219.85,2,   219.82,2,   99.964,   0.0014,2,   -0.000,2,  -999.00,9,    0.000,2,   121.17,2,     0.17,    32.46,2,     0.05,     0.00,2,     0.01,     2.25,2,     0.01,    0.678,2,    0.337,2,    0.040,2, -999.000,9,   -999.0,9,   -999.0,9,-999.0000,     -999,9, -999.000,9, -999.000,   -999.0,9,   -999.0, -999.000,9, -999.000, -999.000,9, -999.000
  49NZ20121128,   S04,    54,  1,     13, X12J13,2,20121214,0210,-63.4347, 155.1830, 3072,   2751.7,2,   0.1244,2,   0.12440,2,  34.6761,2,  34.6763,2,-999.0000,9,   223.73,2,   223.69,2,   99.955,   0.0018,2,   -0.000,2,  -999.00,9,    0.000,2,   122.31,2,     0.17,    32.47,2,     0.05,     0.01,2,     0.01,     2.25,2,     0.01,    0.895,2,    0.446,2,    0.056,2, -999.000,9,   -999.0,9,   -999.0,9,-999.0000,     -999,9, -999.000,9, -999.000,   -999.0,9,   -999.0, -999.000,9, -999.000, -999.000,9, -999.000
  49NZ20121128,   S04,    54,  1,     12, X12J12,2,20121214,0210,-63.4347, 155.1830, 3072,   3000.5,2,  -0.0197,2,  -0.01960,2,  34.6685,2,  34.6686,2,-999.0000,9,   229.01,2,   228.96,2,   99.869,   0.0052,2,   -0.000,2,  -999.00,9,    0.000,2,   120.19,2,     0.17,    32.36,2,     0.05,     0.01,2,     0.01,     2.24,2,     0.01,    1.315,2,    0.670,2,    0.090,2, -999.000,9,   -999.0,9,   -999.0,9,-999.0000,     -999,9, -999.000,9, -999.000,   -999.0,9,   -999.0, -999.000,9, -999.000, -999.000,9, -999.000
  49NZ20121128,   S04,    54,  1,      1, X12J01,2,20121214,0210,-63.4347, 155.1830, 3072,   3113.7,2,  -0.0456,2,  -0.04545,2,  34.6669,2,  34.6667,2,-999.0000,9,   230.46,2,   230.53,2,   99.823,   0.0071,2,   -0.000,2,  -999.00,9,    0.000,2,   118.13,2,     0.16,    32.29,2,     0.05,     0.01,2,     0.01,     2.24,2,     0.01,    1.449,2,    0.743,2,    0.100,2, -999.000,9,   -999.0,9,   -999.0,9,-999.0000,     -999,9, -999.000,9, -999.000,   -999.0,9,   -999.0, -999.000,9, -999.000, -999.000,9, -999.000