BOTTLE,20220819CCHSIOAMB
EXPOCODE,SECT_ID,STNNBR,CASTNO,SAMPNO,BTLNBR,BTLNBR_FLAG_W,DATE,TIME,LATITUDE,LONGITUDE,DEPTH,CTDPRS,CTDPRS_FLAG_W,CTDTMP,CTDTMP_FLAG_W,SBE35,SBE35_FLAG_W,CTDSAL,CTDSAL_FLAG_W,SALNTY,SALNTY_FLAG_W,DNSSAL,DNSSAL_FLAG_W,CTDOXY,CTDOXY_FLAG_W,OXYGEN,OXYGEN_FLAG_W,CTDXMISS,CTDXMISSCP,CTDXMISS_FLAG_W,CTDFLUOR,CTDFLUOR_FLAG_W,CHLORA,CHLORA_FLAG_W,PAR,PAR_FLAG_W,SILCAT,SILCAT_FLAG_W,SILUNC,NITRAT,NITRAT_FLAG_W,NRAUNC,NITRIT,NITRIT_FLAG_W,NRIUNC,PHSPHT,PHSPHT_FLAG_W,PHPUNC,CFC-11,CFC-11_FLAG_W,CFC-12,CFC-12_FLAG_W,CFC113,CFC113_FLAG_W,SF6,SF6_FLAG_W,TCARBN,TCARBN_FLAG_W,ALKALI,ALKALI_FLAG_W,PH_TOT,PH_TMP,PH_TOT_FLAG_W,DELC13,DELC13_FLAG_W,C13ERR,DELC14,DELC14_FLAG_W,C14ERR,CS-134,CS-134_FLAG_W,CS134ER,CS-137,CS-137_FLAG_W,CS137ER
,,,,,,,,UTC,DEG,DEG,METERS,DBAR,,ITS-90,,ITS-90,,PSS-78,,PSS-78,,G/KG,,UMOL/KG,,UMOL/KG,,%TRANS,/METER,,MG/M^3,,MG/CUM,,UE/SQM/S,,UMOL/KG,,UMOL/KG,UMOL/KG,,UMOL/KG,UMOL/KG,,UMOL/KG,UMOL/KG,,UMOL/KG,PMOL/KG,,PMOL/KG,,PMOL/KG,,FMOL/KG,,UMOL/KG,,UMOL/KG,,,DEG C,,/MILLE,,/MILLE,/MILLE,,/MILLE,MBQ/KG,,MBQ/KG,MBQ/KG,,MBQ/KG
  49NZ20121128,  P14S,    10,  1,     36, X12J36,2,20121205,1411,-56.4788, 173.4802, 5464,      4.9,2,   7.3345,2,   7.33415,2,  34.2963,2,  34.2973,2,-999.0000,9,   298.18,2,   297.53,2,   95.026,   0.2041,2,    0.850,2,     1.05,2,    3.608,2,     2.60,2,     0.06,    15.97,2,     0.03,     0.26,2,     0.01,     1.16,2,     0.01,    3.833,2,    2.213,2,    0.349,2, -999.000,9,   -999.0,9,   -999.0,9,-999.0000,     -999,9, -999.000,9, -999.000,   -999.0,9,   -999.0, -999.000,9, -999.000, -999.000,9, -999.000
  49NZ20121128,  P14S,    10,  1,     35, X12J35,2,20121205,1411,-56.4788, 173.4802, 5464,     25.0,2,   7.3276,2,   7.32744,2,  34.3099,2,  34.3127,2,-999.0000,9,   298.78,2,   298.17,2,   94.855,   0.2113,2,    0.890,2,     1.13,2,    0.471,2,     2.55,2,     0.06,    15.92,2,     0.03,     0.25,2,     0.01,     1.16,2,     0.01,    3.830,2,    2.210,2,    0.350,2, -999.000,9,   -999.0,9,   -999.0,9,-999.0000,     -999,9, -999.000,9, -999.000,   -999.0,9,   -999.0, -999.000,9, -999.000, -999.000,9, -999.000
  49NZ20121128,  P14S,    10,  1,     34, X12J34,2,20121205,1411,-56.4788, 173.4802, 5464,     49.5,2,   7.2832,2,   7.28316,2,  34.3191,2,  34.3196,2,-999.0000,9,   296.25,2,   295.84,2,   95.360,   0.1900,2,    0.960,2,     1.19,2,    0.041,2,     2.83,2,     0.06,    16.15,2,     0.03,     0.26,2,     0.01,     1.19,2,     0.01,    3.829,6,    2.214,6,    0.344,6, -999.000,9,   -999.0,9,   -999.0,9,-999.0000,     -999,9, -999.000,9, -999.000,   -999.0,9,   -999.0, -999.000,9, -999.000, -999.000,9, -999.000
  49NZ20121128,  P14S,    10,  1,     33, X12J33,2,20121205,1411,-56.4788, 173.4802, 5464,     74.0,2,   7.2210,2,   7.22077,2,  34.3228,2,  34.3226,2,-999.0000,9,   293.90,2,   293.93,2,   96.192,   0.1553,2,    0.630,2,     1.06,2,    0.000,2,     3.39,2,     0.06,    16.45,2,     0.03,     0.27,2,     0.01,     1.21,2,     0.01,    3.828,2,    2.210,2,    0.351,2, -999.000,9,   -999.0,9,   -999.0,9,-999.0000,     -999,9, -999.000,9, -999.000,   -999.0,9,   -999.0, -999.000,9, -999.000, -999.000,9, -999.000
  49NZ20121128,  P14S,    10,  1,     32, X12J32,2,20121205,1411,-56.4788, 173.4802, 5464,    100.7,2,   7.0798,2,   7.07993,2,  34.3219,2,  34.3223,2,-999.0000,9,   289.83,2,   289.68,2,   97.782,   0.0897,2,    0.410,2,     0.63,2,    0.000,2,     4.24,2,     0.06,    17.19,2,     0.03,     0.39,2,     0.00,     1.26,2,     0.01,    3.828,2,    2.213,2,    0.344,2, -999.000,9,   -999.0,9,   -999.0,9,-999.0000,     -999,9, -999.000,9, -999.000,   -999.0,9,   -999.0, -999.000,9, -999.000, -999.000,9, -999.000
  49NZ20121128,  P14S,    10,  1,     31, X12J31,2,20121205,1411,-56.4788, 173.4802, 5464,    124.7,2,   6.9310,2,   6.93066,2,  34.3174,2,  34.3176,2,-999.0000,9,   286.16,2,   286.11,2,   99.041,   0.0385,2,    0.190,2,     0.26,2,    0.000,2,     4.74,2,     0.06,    17.97,2,     0.03,     0.50,2,     0.00,     1.31,2,     0.01,    3.820,2,    2.205,2,    0.336,2, -999.000,9,   -999.0,9,   -999.0,9,-999.0000,     -999,9, -999.000,9, -999.000,   -999.0,9,   -999.0, -999.000,9, -999.000, -999.000,9, -999.000
  49NZ20121128,  P14S,    10,  1,     30, X12J30,2,20121205,1411,-56.4788, 173.4802, 5464,    150.2,2,   6.9308,2,   6.93134,2,  34.3182,2,  34.3187,2,-999.0000,9,   285.27,2,   285.23,2,   99.376,   0.0250,2,    0.120,2,     0.12,2,    0.000,2,     4.75,2,     0.06,    18.06,2,     0.03,     0.42,2,     0.00,     1.31,2,     0.01,    3.824,2,    2.213,2,    0.342,2, -999.000,9,   -999.0,9,   -999.0,9,-999.0000,     -999,9, -999.000,9, -999.000,   -999.0,9,   -999.0, -999.000,9, -999.000, -999.000,9, -999.000
  49NZ20121128,  P14S,    10,  1,     29, X12J29,2,20121205,1411,-56.4788, 173.4802, 5464,    200.4,2,   6.8975,2,   6.89748,2,  34.3141,2,  34.3148,2,-999.0000,9,   284.38,2,   284.32,2,   99.674,   0.0131,2,    0.050,2,     0.05,2,    0.000,2,     4.86,2,     0.06,    18.36,2,     0.03,     0.26,2,     0.01,     1.32,2,     0.01,    3.822,2,    2.204,2,    0.323,2, -999.000,9,   -999.0,9,   -999.0,9,-999.0000,     -999,9, -999.000,9, -999.000,   -999.0,9,   -999.0, -999.000,9, -999.000, -999.000,9, -999.000
  49NZ20121128,  P14S,    10,  1,     28, X12J28,2,20121205,1411,-56.4788, 173.4802, 5464,    250.4,2,   6.8181,2,   6.81830,2,  34.3028,2,  34.3034,2,-999.0000,9,   285.47,2,   285.38,2,   99.714,   0.0115,2,    0.050,2,     0.05,2,    0.000,2,     4.94,2,     0.06,    18.45,2,     0.03,     0.35,2,     0.00,     1.33,2,     0.01,    3.849,2,    2.228,2,    0.349,2, -999.000,9,   -999.0,9,   -999.0,9,-999.0000,     -999,9, -999.000,9, -999.000,   -999.0,9,   -999.0, -999.000,9, -999.000, -999.000,9, -999.000
  49NZ20121128,  P14S,    10,  1,     27, X12J27,2,20121205,1411,-56.4788, 173.4802, 5464,    300.8,2,   6.6956,2,   6.69537,2,  34.2873,2,  34.2881,2,-999.0000,9,   282.59,2,   282.49,2,   99.789,   0.0084,2,    0.020,2,  -999.00,9,    0.000,2,     5.41,2,     0.06,    19.21,2,     0.03,     0.13,2,     0.01,     1.36,2,     0.01,    3.852,2,    2.215,2,    0.339,2, -999.000,9,   -999.0,9,   -999.0,9,-999.0000,     -999,9, -999.000,9, -999.000,   -999.0,9,   -999.0, -999.000,9, -999.000, -999.000,9, -999.000
  49NZ20121128,  P14S,    10,  1,     26, X12J26,2,20121205,1411,-56.4788, 173.4802, 5464,    402.1,2,   6.1836,2,   6.18336,2,  34.2420,2,  34.2423,2,-999.0000,9,   273.57,2,   273.58,2,   99.844,   0.0062,2,    0.000,2,  -999.00,9,    0.000,2,     7.80,2,     0.07,    21.72,2,     0.03,     0.02,2,     0.01,     1.51,2,     0.01,    3.846,2,    2.184,2,    0.324,2, -999.000,9,   -999.0,9,   -999.0,9,-999.0000,     -999,9, -999.000,9, -999.000,   -999.0,9,   -999.0, -999.000,9, -999.000, -999.000,9, -999.000
  49NZ20121128,  P14S,    10,  1,     25, X12J25,2,20121205,1411,-56.4788, 173.4802, 5464,    500.7,2,   6.0966,2,   6.09657,2,  34.2728,2,  34.2728,2,-999.0000,9,   257.06,2,   257.47,2,   99.879,   0.0048,2,    0.000,2,  -999.00,9,    0.000,2,    10.48,2,     0.07,    23.26,2,     0.04,     0.02,2,     0.01,     1.61,2,     0.01,    3.633,2,    2.041,2,    0.296,2, -999.000,9,   -999.0,9,   -999.0,9,-999.0000,     -999,9, -999.000,9, -999.000,   -999.0,9,   -999.0, -999.000,9, -999.000, -999.000,9, -999.000
  49NZ20121128,  P14S,    10,  1,     24, X12J24,2,20121205,1411,-56.4788, 173.4802, 5464,    600.8,2,   5.6990,2,   5.69963,2,  34.3017,2,  34.3012,2,-999.0000,9,   230.50,2,   231.27,2,   99.919,   0.0032,2,   -0.010,2,  -999.00,9,    0.000,2,    16.53,2,     0.07,    26.25,2,     0.04,     0.01,2,     0.01,     1.80,2,     0.01,    3.216,6,    1.753,6,    0.230,6, -999.000,9,   -999.0,9,   -999.0,9,-999.0000,     -999,9, -999.000,9, -999.000,   -999.0,9,   -999.0, -999.000,9, -999.000, -999.000,9, -999.000
  49NZ20121128,  P14S,    10,  1,     23, X12J23,2,20121205,1411,-56.4788, 173.4802, 5464,    700.7,2,   4.7873,2,   4.79206,2,  34.2557,2,  34.2566,2,-999.0000,9,   229.84,2,   230.76,2,   99.925,   0.0030,2,   -0.010,2,  -999.00,9,    0.000,2,    21.38,2,     0.08,    28.34,2,     0.04,     0.01,2,     0.01,     1.94,2,     0.01,    3.195,2,    1.725,2,    0.232,2, -999.000,9,   -999.0,9,   -999.0,9,-999.0000,     -999,9, -999.000,9, -999.000,   -999.0,9,   -999.0, -999.000,9, -999.000, -999.000,9, -999.000
  49NZ20121128,  P14S,    10,  1,     22, X12J22,2,20121205,1411,-56.4788, 173.4802, 5464,    802.2,2,   4.0845,2,   4.08461,2,  34.2632,2,  34.2633,2,-999.0000,9,   223.36,2,   223.94,2,   99.938,   0.0025,2,   -0.010,2,  -999.00,9,    0.000,2,    28.49,2,     0.08,    30.22,2,     0.04,     0.01,2,     0.01,     2.07,2,     0.01,    2.896,2,    1.544,2,    0.210,2, -999.000,9,   -999.0,9,   -999.0,9,-999.0000,     -999,9, -999.000,9, -999.000,   -999.0,9,   -999.0, -999.000,9, -999.000, -999.000,9, -999.000
  49NZ20121128,  P14S,    10,  1,     21, X12J21,2,20121205,1411,-56.4788, 173.4802, 5464,    901.2,2,   3.6657,2,   3.66565,2,  34.3025,2,  34.3021,2,-999.0000,9,   212.43,2,   212.90,2,   99.946,   0.0022,2,   -0.000,2,  -999.00,9,    0.000,2,    36.28,2,     0.09,    31.59,2,     0.04,     0.01,2,     0.01,     2.16,2,     0.01,    2.430,2,    1.276,2,    0.172,2, -999.000,9,   -999.0,9,   -999.0,9,-999.0000,     -999,9, -999.000,9, -999.000,   -999.0,9,   -999.0, -999.000,9, -999.000, -999.000,9, -999.000
  49NZ20121128,  P14S,    10,  1,     20, X12J20,2,20121205,1411,-56.4788, 173.4802, 5464,   1000.7,2,   3.2760,2,   3.27595,2,  34.3418,2,  34.3419,2,-999.0000,9,   202.46,2,   202.73,2,   99.938,   0.0025,2,   -0.000,2,  -999.00,9,    0.000,2,    44.40,2,     0.10,    32.81,2,     0.05,     0.01,2,     0.01,     2.25,2,     0.01,    2.007,2,    1.044,2,    0.134,2, -999.000,9,   -999.0,9,   -999.0,9,-999.0000,     -999,9, -999.000,9, -999.000,   -999.0,9,   -999.0, -999.000,9, -999.000, -999.000,9, -999.000
  49NZ20121128,  P14S,    10,  1,     19, X12J19,2,20121205,1411,-56.4788, 173.4802, 5464,   1251.2,2,   2.7722,2,   2.77216,2,  34.4550,2,  34.4546,2,-999.0000,9,   182.57,2,   182.55,2,   99.952,   0.0019,2,    0.000,2,  -999.00,9,    0.000,2,    59.65,2,     0.11,    34.26,2,     0.05,     0.01,2,     0.01,     2.35,2,     0.01,    1.175,6,    0.601,6,    0.080,6, -999.000,9,   -999.0,9,   -999.0,9,-999.0000,     -999,9, -999.000,9, -999.000,   -999.0,9,   -999.0, -999.000,9, -999.000, -999.000,9, -999.000
  49NZ20121128,  P14S,    10,  1,     18, X12J18,2,20121205,1411,-56.4788, 173.4802, 5464,   1502.4,2,   2.5503,2,   2.55017,2,  34.5775,2,  34.5778,2,-999.0000,9,   174.33,2,   174.17,2,   99.934,   0.0026,2,    0.000,2,  -999.00,9,    0.000,2,    69.91,2,     0.12,    33.86,2,     0.05,     0.01,2,     0.01,     2.33,2,     0.01,    0.573,2,    0.284,2,    0.027,2, -999.000,9,   -999.0,9,   -999.0,9,-999.0000,     -999,9, -999.000,9, -999.000,   -999.0,9,   -999.0, -999.000,9, -999.000, -999.000,9, -999.000
  49NZ20121128,  P14S,    10,  1,     17, X12J17,2,20121205,1411,-56.4788, 173.4802, 5464,   1751.7,2,   2.3985,2,   2.39872,2,  34.6529,2,  34.6532,2,-999.0000,9,   176.34,2,   176.39,2,   99.967,   0.0013,2,    0.000,2,  -999.00,9,    0.000,2,    75.04,2,     0.13,    32.90,2,     0.05,     0.01,2,     0.01,     2.26,2,     0.01,    0.341,2,    0.163,2,    0.006,2, -999.000,9,   -999.0,9,   -999.0,9,-999.0000,     -999,9, -999.000,9, -999.000,   -999.0,9,   -999.0, -999.000,9, -999.000, -999.000,9, -999.000
  49NZ20121128,  P14S,    10,  1,     16, X12J16,2,20121205,1411,-56.4788, 173.4802, 5464,   2001.7,2,   2.2392,2,   2.23912,2,  34.7032,2,  34.7034,2,-999.0000,9,   182.34,2,   182.16,2,   99.950,   0.0020,2,    0.000,2,  -999.00,9,    0.000,2,    79.24,2,     0.13,    31.92,2,     0.04,     0.01,2,     0.01,     2.19,2,     0.01,    0.210,2,    0.102,2,    0.008,2, -999.000,9,   -999.0,9,   -999.0,9,-999.0000,     -999,9, -999.000,9, -999.000,   -999.0,9,   -999.0, -999.000,9, -999.000, -999.000,9, -999.000
  49NZ20121128,  P14S,    10,  1,     15, X12J15,2,20121205,1411,-56.4788, 173.4802, 5464,   2252.6,2,   2.0843,2,   2.08435,2,  34.7267,2,  34.7269,2,-999.0000,9,   187.47,2,   187.41,2,   99.977,   0.0009,2,    0.000,2,  -999.00,9,    0.000,2,    83.15,2,     0.13,    31.39,2,     0.04,     0.00,2,     0.01,     2.16,2,     0.01,    0.159,2,    0.077,2,    0.009,2, -999.000,9,   -999.0,9,   -999.0,9,-999.0000,     -999,9, -999.000,9, -999.000,   -999.0,9,   -999.0, -999.000,9, -999.000, -999.000,9, -999.000
  49NZ20121128,  P14S,    10,  1,     14, X12J14,2,20121205,1411,-56.4788, 173.4802, 5464,   2500.7,2,   1.9055,2,   1.90555,2,  34.7367,2,  34.7366,2,-999.0000,9,   191.98,2,   191.76,2,   99.950,   0.0020,2,    0.000,2,  -999.00,9,    0.000,2,    88.15,2,     0.14,    31.12,2,     0.04,     0.01,2,     0.01,     2.14,2,     0.01,    0.138,2,    0.065,2,    0.008,2, -999.000,9,   -999.0,9,   -999.0,9,-999.0000,     -999,9, -999.000,9, -999.000,   -999.0,9,   -999.0, -999.000,9, -999.000, -999.000,9, -999.000
  49NZ20121128,  P14S,    10,  1,     13, X12J13,2,20121205,1411,-56.4788, 173.4802, 5464,   2750.9,2,   1.7174,2,   1.71724,2,  34.7375,2,  34.7376,2,-999.0000,9,   195.53,2,   195.32,2,   99.982,   0.0007,2,    0.000,2,  -999.00,9,    0.000,2,    93.28,2,     0.14,    31.10,2,     0.04,     0.01,2,     0.01,     2.15,2,     0.01,    0.129,2,    0.062,2,    0.006,2, -999.000,9,   -999.0,9,   -999.0,9,-999.0000,     -999,9, -999.000,9, -999.000,   -999.0,9,   -999.0, -999.000,9, -999.000, -999.000,9, -999.000
  49NZ20121128,  P14S,    10,  1,     12, X12J12,2,20121205,1411,-56.4788, 173.4802, 5464,   3002.1,2,   1.5135,2,   1.51350,2,  34.7326,2,  34.7324,2,-999.0000,9,   198.61,2,   198.27,2,   99.971,   0.0012,2,    0.000,2,  -999.00,9,    0.000,2,    99.34,2,     0.15,    31.36,2,     0.04,     0.00,2,     0.01,     2.15,2,     0.01,    0.127,2,    0.060,2,    0.006,2, -999.000,9,   -999.0,9,   -999.0,9,-999.0000,     -999,9, -999.000,9, -999.000,   -999.0,9,   -999.0, -999.000,9, -999.000, -999.000,9, -999.000
  49NZ20121128,  P14S,    10,  1,     11, X12J11,2,20121205,1411,-56.4788, 173.4802, 5464,   3251.1,2,   1.3862,2,   1.38619,2,  34.7279,2,  34.7276,2,-999.0000,9,   200.65,2,   200.18,2,   99.973,   0.0011,2,   -0.000,2,  -999.00,9,    0.000,2,   103.43,2,     0.15,    31.58,2,     0.04,     0.01,2,     0.01,     2.17,2,     0.01,    0.135,2,    0.065,2,    0.005,2, -999.000,9,   -999.0,9,   -999.0,9,-999.0000,     -999,9, -999.000,9, -999.000,   -999.0,9,   -999.0, -999.000,9, -999.000, -999.000,9, -999.000
  49NZ20121128,  P14S,    10,  1,     10, X12J10,2,20121205,1411,-56.4788, 173.4802, 5464,   3500.6,2,   1.2401,2,   1.24018,2,  34.7218,2,  34.7220,2,-999.0000,9,   203.12,2,   202.55,2,   99.950,   0.0020,2,   -0.000,2,  -999.00,9,    0.000,2,   107.86,2,     0.16,    31.74,2,     0.04,     0.01,2,     0.01,     2.18,2,     0.01,    0.162,2,    0.075,2,    0.001,2, -999.000,9,   -999.0,9,   -999.0,9,-999.0000,     -999,9, -999.000,9, -999.000,   -999.0,9,   -999.0, -999.000,9, -999.000, -999.000,9, -999.000
  49NZ20121128,  P14S,    10,  1,      9, X12J09,2,20121205,1411,-56.4788, 173.4802, 5464,   3751.6,2,   1.1307,2,   1.13084,2,  34.7165,2,  34.7167,2,-999.0000,9,   205.17,2,   204.60,2,   99.944,   0.0022,2,   -0.000,2,  -999.00,9,    0.000,2,   110.91,2,     0.16,    31.92,2,     0.04,     0.01,2,     0.01,     2.20,2,     0.01,    0.193,2,    0.090,2,    0.005,2, -999.000,9,   -999.0,9,   -999.0,9,-999.0000,     -999,9, -999.000,9, -999.000,   -999.0,9,   -999.0, -999.000,9, -999.000, -999.000,9, -999.000
  49NZ20121128,  P14S,    10,  1,      8, X12J08,2,20121205,1411,-56.4788, 173.4802, 5464,   4001.5,2,   1.0554,2,   1.05551,2,  34.7122,2,  34.7124,2,-999.0000,9,   206.85,2,   206.33,2,   99.942,   0.0023,2,   -0.000,2,  -999.00,9,    0.000,2,   113.84,2,     0.16,    32.02,2,     0.04,     0.01,2,     0.01,     2.20,2,     0.01,    0.228,6,    0.108,6,    0.011,6, -999.000,9,   -999.0,9,   -999.0,9,-999.0000,     -999,9, -999.000,9, -999.000,   -999.0,9,   -999.0, -999.000,9, -999.000, -999.000,9, -999.000
  49NZ20121128,  P14S,    10,  1,      7, X12J07,2,20121205,1411,-56.4788, 173.4802, 5464,   4251.4,2,   0.9965,2,   0.99667,2,  34.7086,2,  34.7085,2,-999.0000,9,   208.15,2,   207.64,2,   99.946,   0.0022,2,   -0.000,2,  -999.00,9,    0.000,2,   115.94,2,     0.16,    32.11,2,     0.05,     0.01,2,     0.01,     2.21,2,     0.01,    0.254,2,    0.121,2,    0.010,2, -999.000,9,   -999.0,9,   -999.0,9,-999.0000,     -999,9, -999.000,9, -999.000,   -999.0,9,   -999.0, -999.000,9, -999.000, -999.000,9, -999.000
  49NZ20121128,  P14S,    10,  1,      6, X12J06,2,20121205,1411,-56.4788, 173.4802, 5464,   4500.0,2,   0.9630,2,   0.96304,2,  34.7060,2,  34.7065,2,-999.0000,9,   209.10,2,   208.58,2,   99.942,   0.0023,2,   -0.000,2,  -999.00,9,    0.000,2,   117.31,2,     0.16,    32.20,2,     0.05,     0.01,2,     0.01,     2.22,2,     0.01,    0.276,2,    0.131,2,    0.020,2, -999.000,9,   -999.0,9,   -999.0,9,-999.0000,     -999,9, -999.000,9, -999.000,   -999.0,9,   -999.0, -999.000,9, -999.000, -999.000,9, -999.000
  49NZ20121128,  P14S,    10,  1,      5, X12J05,2,20121205,1411,-56.4788, 173.4802, 5464,   4750.9,2,   0.9391,2,   0.93901,2,  34.7034,2,  34.7043,2,-999.0000,9,   209.98,2,   209.59,2,   99.917,   0.0033,2,   -0.000,2,  -999.00,9,    0.000,2,   118.73,2,     0.17,    32.25,2,     0.05,     0.01,2,     0.01,     2.22,2,     0.01,    0.315,2,    0.150,2,    0.013,2, -999.000,9,   -999.0,9,   -999.0,9,-999.0000,     -999,9, -999.000,9, -999.000,   -999.0,9,   -999.0, -999.000,9, -999.000, -999.000,9, -999.000
  49NZ20121128,  P14S,    10,  1,      4, X12J04,2,20121205,1411,-56.4788, 173.4802, 5464,   5000.8,2,   0.9303,2,   0.93027,2,  34.7020,2,  34.7026,2,-999.0000,9,   210.29,2,   209.77,2,   99.896,   0.0042,2,   -0.000,2,  -999.00,9,    0.000,2,   119.77,2,     0.17,    32.28,2,     0.05,     0.01,2,     0.01,     2.22,2,     0.01,    0.327,2,    0.158,2,    0.021,2, -999.000,9,   -999.0,9,   -999.0,9,-999.0000,     -999,9, -999.000,9, -999.000,   -999.0,9,   -999.0, -999.000,9, -999.000, -999.000,9, -999.000
  49NZ20121128,  P14S,    10,  1,      3, X12J03,2,20121205,1411,-56.4788, 173.4802, 5464,   5250.4,2,   0.9308,2,   0.93065,2,  34.7004,2,  34.7015,2,-999.0000,9,   210.64,2,   210.31,2,   99.835,   0.0066,2,   -0.000,2,  -999.00,9,    0.000,2,   120.58,2,     0.17,    32.31,2,     0.05,     0.01,2,     0.01,     2.22,2,     0.01,    0.355,2,    0.173,2,    0.010,2, -999.000,9,   -999.0,9,   -999.0,9,-999.0000,     -999,9, -999.000,9, -999.000,   -999.0,9,   -999.0, -999.000,9, -999.000, -999.000,9, -999.000
  49NZ20121128,  P14S,    10,  1,      2, X12J02,2,20121205,1411,-56.4788, 173.4802, 5464,   5500.2,2,   0.9460,2,   0.94588,2,  34.6997,2,  34.7006,2,-999.0000,9,   210.67,2,   210.47,2,   99.800,   0.0080,2,   -0.000,2,  -999.00,9,    0.000,2,   120.96,2,     0.17,    32.34,2,     0.05,     0.01,2,     0.01,     2.23,2,     0.01,    0.370,2,    0.180,2,    0.014,2, -999.000,9,   -999.0,9,   -999.0,9,-999.0000,     -999,9, -999.000,9, -999.000,   -999.0,9,   -999.0, -999.000,9, -999.000, -999.000,9, -999.000
  49NZ20121128,  P14S,    10,  1,      1, X12J01,2,20121205,1411,-56.4788, 173.4802, 5464,   5570.9,2,   0.9547,2,   0.95446,2,  34.6995,2,  34.7005,2,-999.0000,9,   210.69,2,   210.49,2,   99.804,   0.0078,2,   -0.000,2,  -999.00,9,    0.000,2,   121.08,2,     0.17,    32.33,2,     0.05,     0.01,2,     0.01,     2.23,2,     0.01,    0.529,3,    0.540,3,    0.072,3, -999.000,9,   -999.0,9,   -999.0,9,-999.0000,     -999,9, -999.000,9, -999.000,   -999.0,9,   -999.0, -999.000,9, -999.000, -999.000,9, -999.000