BOTTLE,20220819CCHSIOAMB
EXPOCODE,SECT_ID,STNNBR,CASTNO,SAMPNO,BTLNBR,BTLNBR_FLAG_W,DATE,TIME,LATITUDE,LONGITUDE,DEPTH,CTDPRS,CTDPRS_FLAG_W,CTDTMP,CTDTMP_FLAG_W,SBE35,SBE35_FLAG_W,CTDSAL,CTDSAL_FLAG_W,SALNTY,SALNTY_FLAG_W,DNSSAL,DNSSAL_FLAG_W,CTDOXY,CTDOXY_FLAG_W,OXYGEN,OXYGEN_FLAG_W,CTDXMISS,CTDXMISSCP,CTDXMISS_FLAG_W,CTDFLUOR,CTDFLUOR_FLAG_W,CHLORA,CHLORA_FLAG_W,PAR,PAR_FLAG_W,SILCAT,SILCAT_FLAG_W,SILUNC,NITRAT,NITRAT_FLAG_W,NRAUNC,NITRIT,NITRIT_FLAG_W,NRIUNC,PHSPHT,PHSPHT_FLAG_W,PHPUNC,CFC-11,CFC-11_FLAG_W,CFC-12,CFC-12_FLAG_W,CFC113,CFC113_FLAG_W,SF6,SF6_FLAG_W,TCARBN,TCARBN_FLAG_W,ALKALI,ALKALI_FLAG_W,PH_TOT,PH_TMP,PH_TOT_FLAG_W,DELC13,DELC13_FLAG_W,C13ERR,DELC14,DELC14_FLAG_W,C14ERR,CS-134,CS-134_FLAG_W,CS134ER,CS-137,CS-137_FLAG_W,CS137ER
,,,,,,,,UTC,DEG,DEG,METERS,DBAR,,ITS-90,,ITS-90,,PSS-78,,PSS-78,,G/KG,,UMOL/KG,,UMOL/KG,,%TRANS,/METER,,MG/M^3,,MG/CUM,,UE/SQM/S,,UMOL/KG,,UMOL/KG,UMOL/KG,,UMOL/KG,UMOL/KG,,UMOL/KG,UMOL/KG,,UMOL/KG,PMOL/KG,,PMOL/KG,,PMOL/KG,,FMOL/KG,,UMOL/KG,,UMOL/KG,,,DEG C,,/MILLE,,/MILLE,/MILLE,,/MILLE,MBQ/KG,,MBQ/KG,MBQ/KG,,MBQ/KG
  49NZ20121128,   S04,    71,  1,     36, X12J36,2,20121220,2037,-62.0065, 131.3250, 4508,      5.6,2,   0.6075,2,   0.60792,2,  33.7696,2,  33.7690,2,  33.9282,2,   349.93,2,   348.99,2,   95.912,   0.1670,2,    0.100,2,  -999.00,9,  371.084,2,    17.05,2,     0.07,    25.19,2,     0.04,     0.26,2,     0.01,     1.62,2,     0.01,    5.978,2,    3.354,2,    0.578,2,    3.171,2,   2150.3,2,   2281.8,2,   7.7170,       25,6, -999.000,1, -999.000,   -999.0,1,   -999.0, -999.000,9, -999.000, -999.000,9, -999.000
  49NZ20121128,   S04,    71,  1,     35, X12J35,2,20121220,2037,-62.0065, 131.3250, 4508,     25.0,2,   0.5835,2,   0.58373,2,  33.7695,2,  33.7690,2,  33.9308,2,   350.29,2,   349.47,2,   95.811,   0.1712,2,    0.270,2,  -999.00,9,   71.035,2,    17.07,2,     0.07,    25.22,2,     0.04,     0.26,2,     0.01,     1.63,2,     0.01,    5.967,2,    3.377,2,    0.578,2,    3.290,2,   2148.3,2,   2279.8,2,   7.7166,       25,2, -999.000,1, -999.000,   -999.0,1,   -999.0, -999.000,9, -999.000, -999.000,9, -999.000
  49NZ20121128,   S04,    71,  1,     34, X12J34,2,20121220,2037,-62.0065, 131.3250, 4508,     50.3,2,  -0.0637,2,  -0.06386,2,  33.7841,2,  33.7818,2,  33.9466,2,   355.66,2,   354.90,2,   95.086,   0.2016,2,    0.600,2,  -999.00,9,   16.275,2,    17.86,2,     0.07,    25.47,2,     0.04,     0.24,2,     0.01,     1.68,3,     0.01,    6.134,6,    3.348,6,    0.585,6,    2.978,6,   2151.4,2,   2282.8,2,   7.7136,       25,2, -999.000,1, -999.000,   -999.0,1,   -999.0, -999.000,9, -999.000, -999.000,9, -999.000
  49NZ20121128,   S04,    71,  1,     33, X12J33,2,20121220,2037,-62.0065, 131.3250, 4508,     75.2,2,  -1.1747,2,  -1.17535,2,  33.8433,2,  33.8447,2,  34.0093,2,   351.60,2,   350.14,2,   98.285,   0.0692,2,    0.410,2,  -999.00,9,    3.255,2,    29.34,2,     0.09,    27.92,2,     0.04,     0.21,2,     0.01,     1.97,2,     0.01,    6.131,2,    3.313,2,    0.580,2,    3.040,2,   2168.7,6,   2283.8,2,   7.6711,       25,2, -999.000,1, -999.000,   -999.0,1,   -999.0, -999.000,9, -999.000, -999.000,9, -999.000
  49NZ20121128,   S04,    71,  1,     32, X12J32,2,20121220,2037,-62.0065, 131.3250, 4508,    100.4,2,  -1.1762,2,  -1.17680,2,  33.8817,2,  33.8824,2,  34.0469,2,   342.41,2,   341.41,2,   98.873,   0.0453,2,    0.260,2,  -999.00,9,    1.047,2,    32.92,2,     0.09,    28.57,2,     0.04,     0.21,2,     0.01,     2.00,2,     0.01,    5.890,2,    3.308,2,    0.558,2,    3.005,2,   2174.8,2,   2286.3,6,   7.6600,       25,2, -999.000,1, -999.000,   -999.0,1,   -999.0, -999.000,9, -999.000, -999.000,9, -999.000
  49NZ20121128,   S04,    71,  1,     31, X12J31,2,20121220,2037,-62.0065, 131.3250, 4508,    125.1,2,  -0.9238,2,  -0.92219,2,  33.9535,2,  33.9522,2,  34.1174,2,   327.55,2,   328.02,2,   99.171,   0.0333,2,    0.230,2,  -999.00,9,    0.351,2,    38.01,2,     0.09,    29.58,2,     0.04,     0.19,2,     0.01,     2.06,2,     0.01,    5.498,2,    3.114,2,    0.516,2,    2.745,2,   2184.6,2,   2289.8,2,   7.6436,       25,2, -999.000,1, -999.000,   -999.0,1,   -999.0, -999.000,9, -999.000, -999.000,9, -999.000
  49NZ20121128,   S04,    71,  1,     30, X12J30,2,20121220,2037,-62.0065, 131.3250, 4508,    150.3,2,  -1.1354,2,  -1.14003,2,  34.0033,2,  34.0041,2,  34.1695,2,   318.37,2,   316.60,2,   99.312,   0.0276,2,    0.170,2,  -999.00,9,    0.103,2,    42.56,2,     0.10,    30.35,2,     0.04,     0.18,2,     0.01,     2.12,2,     0.01,    5.227,2,    2.917,2,    0.488,2,    2.527,2,   2193.0,2,   2294.3,2,   7.6305,       25,6, -999.000,1, -999.000,   -999.0,1,   -999.0, -999.000,9, -999.000, -999.000,9, -999.000
  49NZ20121128,   S04,    71,  1,     29, X12J29,2,20121220,2037,-62.0065, 131.3250, 4508,    200.5,2,   0.8156,2,   0.81649,2,  34.2612,2,  34.2618,2,  34.4293,2,   238.09,2,   236.23,2,   99.617,   0.0153,2,    0.070,2,  -999.00,9,    0.000,2,    55.64,2,     0.11,    33.68,2,     0.05,     0.03,2,     0.01,     2.31,2,     0.01,    3.169,2,    1.725,2,    0.277,2,    1.310,2,   2226.8,2,   2308.9,2,   7.5748,       25,2, -999.000,1, -999.000,   -999.0,1,   -999.0, -999.000,9, -999.000, -999.000,9, -999.000
  49NZ20121128,   S04,    71,  1,     28, X12J28,2,20121220,2037,-62.0065, 131.3250, 4508,    249.7,2,   1.7926,2,   1.79228,2,  34.4229,2,  34.4250,2,  34.5934,2,   194.75,2,   193.85,2,   99.575,   0.0170,2,    0.040,2,  -999.00,9,    0.000,2,    65.60,2,     0.12,    35.01,2,     0.05,     0.02,2,     0.01,     2.40,2,     0.01,    1.819,2,    0.993,2,    0.153,2,    0.615,2,   2247.6,2,   2320.1,2,   7.5490,       25,2, -999.000,1, -999.000,   -999.0,1,   -999.0, -999.000,9, -999.000, -999.000,9, -999.000
  49NZ20121128,   S04,    71,  1,     27, X12J27,2,20121220,2037,-62.0065, 131.3250, 4508,    280.3,2,   2.0170,2,   2.01683,2,  34.4913,2,  34.4906,2,  34.6594,2,   182.91,2,   182.36,2,   99.560,   0.0176,2,    0.030,2,  -999.00,9,    0.000,2,    69.38,2,     0.12,    35.04,2,     0.05,     0.02,2,     0.01,     2.41,2,     0.01,    1.357,2,    0.727,2,    0.107,2,    0.404,2,   2252.6,2,   2325.5,2,   7.5463,       25,2, -999.000,1, -999.000,   -999.0,1,   -999.0, -999.000,9, -999.000, -999.000,9, -999.000
  49NZ20121128,   S04,    71,  1,     26, X12J26,2,20121220,2037,-62.0065, 131.3250, 4508,    370.0,2,   2.1339,2,   2.13358,2,  34.5710,2,  34.5705,2,  34.7418,2,   176.41,2,   175.83,2,   99.701,   0.0120,2,    0.010,2,  -999.00,9,    0.000,2,    73.20,2,     0.12,    34.39,2,     0.05,     0.01,2,     0.01,     2.36,2,     0.01,    0.916,2,    0.463,2,    0.066,2,    0.233,2,   2256.1,2,   2336.0,3,   7.5541,       25,2, -999.000,1, -999.000,   -999.0,1,   -999.0, -999.000,9, -999.000, -999.000,9, -999.000
  49NZ20121128,   S04,    71,  1,     25, X12J25,2,20121220,2037,-62.0065, 131.3250, 4508,    470.3,2,   2.1421,2,   2.14066,2,  34.6264,2,  34.6250,2,  34.7952,2,   176.58,2,   176.06,2,   99.812,   0.0075,2,    0.010,2,  -999.00,9,    0.000,2,    75.48,2,     0.13,    33.57,2,     0.05,     0.01,2,     0.01,     2.30,2,     0.01,    0.641,2,    0.334,2,    0.047,2,    0.146,2,   2255.8,2,   2335.4,2,   7.5648,       25,2, -999.000,1, -999.000,   -999.0,1,   -999.0, -999.000,9, -999.000, -999.000,9, -999.000
  49NZ20121128,   S04,    71,  1,     24, X12J24,2,20121220,2037,-62.0065, 131.3250, 4508,    570.0,2,   2.0902,2,   2.09059,2,  34.6629,2,  34.6626,2,  34.8327,2,   179.00,2,   178.43,2,   99.818,   0.0073,2,    0.020,2,  -999.00,9,    0.000,2,    77.53,2,     0.13,    32.93,2,     0.05,     0.01,2,     0.01,     2.26,2,     0.01,    0.501,6,    0.255,6,    0.039,6,    0.130,6,   2255.1,2,   2338.8,2,   7.5746,       25,2, -999.000,1, -999.000,   -999.0,1,   -999.0, -999.000,9, -999.000, -999.000,9, -999.000
  49NZ20121128,   S04,    71,  1,     23, X12J23,2,20121220,2037,-62.0065, 131.3250, 4508,    669.9,2,   2.0491,2,   2.04925,2,  34.6870,2,  34.6869,2,  34.8571,2,   181.41,2,   180.99,2,   99.818,   0.0073,2,    0.010,2,  -999.00,9,    0.000,2,    79.06,2,     0.13,    32.44,2,     0.05,     0.01,2,     0.01,     2.22,2,     0.01,    0.425,2,    0.221,2,    0.031,2,    0.119,2,   2254.7,6,   2341.8,2,   7.5818,       25,2, -999.000,1, -999.000,   -999.0,1,   -999.0, -999.000,9, -999.000, -999.000,9, -999.000
  49NZ20121128,   S04,    71,  1,     22, X12J22,2,20121220,2037,-62.0065, 131.3250, 4508,    771.0,2,   1.9961,2,   1.99603,2,  34.7085,2,  34.7085,2,  34.8789,2,   184.71,2,   184.33,2,   99.840,   0.0064,2,    0.010,2,  -999.00,9,    0.000,2,    80.64,2,     0.13,    31.91,2,     0.04,     0.01,2,     0.01,     2.18,2,     0.01,    0.350,2,    0.176,2,    0.027,2,    0.000,2,   2253.3,2,   2343.3,6,   7.5909,       25,2, -999.000,1, -999.000,   -999.0,1,   -999.0, -999.000,9, -999.000, -999.000,9, -999.000
  49NZ20121128,   S04,    71,  1,     21, X12J21,2,20121220,2037,-62.0065, 131.3250, 4508,    871.4,2,   1.9550,2,   1.95513,2,  34.7234,2,  34.7225,2,  34.8947,2,   187.60,2,   186.99,2,   99.888,   0.0045,2,    0.010,2,  -999.00,9,    0.000,2,    81.99,2,     0.13,    31.50,2,     0.04,     0.01,2,     0.01,     2.16,2,     0.01,    0.285,2,    0.144,2,    0.022,2,    0.000,2,   2252.0,2,   2345.0,2,   7.5976,       25,6, -999.000,1, -999.000,   -999.0,1,   -999.0, -999.000,9, -999.000, -999.000,9, -999.000
  49NZ20121128,   S04,    71,  1,     20, X12J20,2,20121220,2037,-62.0065, 131.3250, 4508,    960.6,2,   1.8653,2,   1.86536,2,  34.7282,2,  34.7279,2,  34.8993,2,   189.48,2,   188.96,2,   99.919,   0.0032,2,    0.010,2,  -999.00,9,    0.000,2,    83.96,2,     0.13,    31.41,2,     0.04,     0.01,2,     0.01,     2.15,2,     0.01,    0.289,2,    0.144,2,    0.024,2,    0.149,2,   2251.5,2,   2346.3,2,   7.5999,       25,2, -999.000,1, -999.000,   -999.0,1,   -999.0, -999.000,9, -999.000, -999.000,9, -999.000
  49NZ20121128,   S04,    71,  1,     19, X12J19,2,20121220,2037,-62.0065, 131.3250, 4508,   1170.2,2,   1.7436,2,   1.74349,2,  34.7410,2,  34.7412,2,  34.9128,2,   194.64,2,   194.39,2,   99.890,   0.0044,2,    0.000,2,  -999.00,9,    0.000,2,    87.49,2,     0.14,    30.93,2,     0.04,     0.01,2,     0.01,     2.12,2,     0.01,    0.211,6,    0.105,6,    0.016,6,    0.000,6,   2251.4,2,   2349.3,2,   7.6107,       25,2, -999.000,1, -999.000,   -999.0,1,   -999.0, -999.000,9, -999.000, -999.000,9, -999.000
  49NZ20121128,   S04,    71,  1,     18, X12J18,2,20121220,2037,-62.0065, 131.3250, 4508,   1420.2,2,   1.5423,2,   1.54221,2,  34.7405,2,  34.7407,2,  34.9105,2,   198.64,2,   198.27,2,   99.936,   0.0026,2,    0.000,2,  -999.00,9,    0.000,2,    92.84,2,     0.14,    30.95,2,     0.04,     0.01,2,     0.01,     2.12,2,     0.01,    0.189,2,    0.096,2,    0.012,2,    0.000,2,   2252.6,2,   2352.0,2,   7.6140,       25,2, -999.000,1, -999.000,   -999.0,1,   -999.0, -999.000,9, -999.000, -999.000,9, -999.000
  49NZ20121128,   S04,    71,  1,     17, X12J17,2,20121220,2037,-62.0065, 131.3250, 4508,   1670.2,2,   1.3315,2,   1.33145,2,  34.7346,2,  34.7346,2,  34.9066,2,   201.92,2,   201.45,2,   99.934,   0.0026,2,   -0.000,2,  -999.00,9,    0.000,2,    99.25,2,     0.15,    31.16,2,     0.04,     0.01,2,     0.01,     2.14,2,     0.01,    0.161,2,    0.080,2,    0.009,2,    0.000,2,   2255.2,2,   2354.8,2,   7.6159,       25,6, -999.000,1, -999.000,   -999.0,1,   -999.0, -999.000,9, -999.000, -999.000,9, -999.000
  49NZ20121128,   S04,    71,  1,     16, X12J16,2,20121220,2037,-62.0065, 131.3250, 4508,   1921.6,2,   1.1268,2,   1.12667,2,  34.7246,2,  34.7245,2,  34.8967,2,   204.28,2,   203.75,2,   99.966,   0.0014,2,   -0.000,2,  -999.00,9,    0.000,2,   105.18,2,     0.15,    31.52,2,     0.04,     0.01,2,     0.01,     2.17,2,     0.01,    0.180,2,    0.088,2,    0.011,2,    0.000,2,   2258.2,2,   2357.3,2,   7.6133,       25,2, -999.000,1, -999.000,   -999.0,1,   -999.0, -999.000,9, -999.000, -999.000,9, -999.000
  49NZ20121128,   S04,    71,  1,     15, X12J15,2,20121220,2037,-62.0065, 131.3250, 4508,   2170.0,2,   0.9460,2,   0.94637,2,  34.7150,2,  34.7146,2,  34.8894,2,   206.61,2,   206.04,2,   99.963,   0.0015,2,   -0.000,2,  -999.00,9,    0.000,2,   110.23,2,     0.16,    31.87,2,     0.04,     0.01,2,     0.01,     2.19,2,     0.01,    0.209,2,    0.098,2,    0.011,2,    0.085,2,   2261.3,2,   2358.3,2,   7.6101,       25,2, -999.000,1, -999.000,   -999.0,1,   -999.0, -999.000,9, -999.000, -999.000,9, -999.000
  49NZ20121128,   S04,    71,  1,     14, X12J14,2,20121220,2037,-62.0065, 131.3250, 4508,   2419.8,2,   0.7476,2,   0.74751,2,  34.7043,2,  34.7048,2,-999.0000,9,   209.61,2,   208.96,2,   99.951,   0.0020,2,   -0.000,2,  -999.00,9,    0.000,2,   115.42,2,     0.16,    32.13,2,     0.05,     0.01,2,     0.01,     2.21,2,     0.01,    0.269,2,    0.126,2,    0.013,2,    0.000,2,   2261.4,6,   2357.8,2,   7.6063,       25,2, -999.000,1, -999.000,   -999.0,1,   -999.0, -999.000,9, -999.000, -999.000,9, -999.000
  49NZ20121128,   S04,    71,  1,     13, X12J13,2,20121220,2037,-62.0065, 131.3250, 4508,   2671.0,2,   0.5807,2,   0.58072,2,  34.6957,2,  34.6946,2,  34.8697,2,   212.88,2,   212.16,2,   99.974,   0.0010,2,   -0.000,2,  -999.00,9,    0.000,2,   119.31,2,     0.17,    32.41,2,     0.05,     0.01,2,     0.01,     2.23,2,     0.01,    0.335,2,    0.163,2,    0.018,2,    0.000,2,   2261.2,2,   2357.4,6,   7.6043,       25,2, -999.000,1, -999.000,   -999.0,1,   -999.0, -999.000,9, -999.000, -999.000,9, -999.000
  49NZ20121128,   S04,    71,  1,     12, X12J12,2,20121220,2037,-62.0065, 131.3250, 4508,   2920.5,2,   0.4399,2,   0.43998,2,  34.6889,2,  34.6881,2,  34.8611,2,   216.44,2,   215.61,2,   99.970,   0.0012,2,   -0.000,2,  -999.00,9,    0.000,2,   122.43,2,     0.17,    32.51,2,     0.05,     0.01,2,     0.01,     2.24,2,     0.01,    0.438,2,    0.207,2,    0.023,2,    0.000,2,   2262.0,2,   2356.4,2,   7.6037,       25,2, -999.000,1, -999.000,   -999.0,1,   -999.0, -999.000,9, -999.000, -999.000,9, -999.000
  49NZ20121128,   S04,    71,  1,     11, X12J11,2,20121220,2037,-62.0065, 131.3250, 4508,   3169.6,2,   0.3369,2,   0.33726,2,  34.6838,2,  34.6833,2,  34.8565,2,   219.42,2,   218.68,2,   99.961,   0.0016,2,   -0.000,2,  -999.00,9,    0.000,2,   124.62,2,     0.17,    32.58,2,     0.05,     0.01,2,     0.01,     2.24,2,     0.01,    0.553,2,    0.268,2,    0.029,2,    0.102,2,   2262.0,2,   2357.1,2,   7.6027,       25,2, -999.000,1, -999.000,   -999.0,1,   -999.0, -999.000,9, -999.000, -999.000,9, -999.000
  49NZ20121128,   S04,    71,  1,     10, X12J10,2,20121220,2037,-62.0065, 131.3250, 4508,   3420.6,2,   0.2495,2,   0.24959,2,  34.6796,2,  34.6787,2,  34.8492,2,   222.44,2,   221.64,2,   99.921,   0.0032,2,   -0.000,2,  -999.00,9,    0.000,2,   126.09,2,     0.17,    32.62,2,     0.05,     0.01,2,     0.01,     2.25,2,     0.01,    0.691,2,    0.332,2,    0.038,2,    0.079,2,   2260.6,2,   2357.0,2,   7.6023,       25,2, -999.000,1, -999.000,   -999.0,1,   -999.0, -999.000,9, -999.000, -999.000,9, -999.000
  49NZ20121128,   S04,    71,  1,      9, X12J09,2,20121220,2037,-62.0065, 131.3250, 4508,   3672.4,2,   0.1831,2,   0.18323,2,  34.6763,2,  34.6761,2,  34.8505,2,   224.96,2,   224.31,2,   99.947,   0.0021,2,   -0.000,2,  -999.00,9,    0.000,2,   127.28,2,     0.17,    32.61,2,     0.05,     0.01,2,     0.01,     2.25,2,     0.01,    0.843,2,    0.391,2,    0.045,2,    0.123,2,   2260.5,2,   2356.1,2,   7.6028,       25,2, -999.000,1, -999.000,   -999.0,1,   -999.0, -999.000,9, -999.000, -999.000,9, -999.000
  49NZ20121128,   S04,    71,  1,      8, X12J08,2,20121220,2037,-62.0065, 131.3250, 4508,   3920.1,2,   0.1072,2,   0.10740,2,  34.6725,2,  34.6719,2,  34.8479,2,   228.09,2,   227.47,2,   99.951,   0.0020,2,   -0.010,2,  -999.00,9,    0.000,2,   128.13,2,     0.17,    32.56,2,     0.05,     0.01,2,     0.01,     2.24,2,     0.01,    1.001,6,    0.484,6,    0.057,6,    0.158,6,   2260.0,2,   2356.1,2,   7.6028,       25,2, -999.000,1, -999.000,   -999.0,1,   -999.0, -999.000,9, -999.000, -999.000,9, -999.000
  49NZ20121128,   S04,    71,  1,      7, X12J07,2,20121220,2037,-62.0065, 131.3250, 4508,   4171.1,2,   0.0374,2,   0.03743,2,  34.6678,2,  34.6680,2,  34.8433,2,   231.22,2,   230.75,2,   99.921,   0.0032,2,   -0.000,2,  -999.00,9,    0.000,2,   127.96,2,     0.17,    32.51,2,     0.05,     0.01,2,     0.01,     2.24,2,     0.01,    1.225,2,    0.610,2,    0.076,2,    0.255,2,   2259.6,6,   2354.8,2,   7.6034,       25,2, -999.000,1, -999.000,   -999.0,1,   -999.0, -999.000,9, -999.000, -999.000,9, -999.000
  49NZ20121128,   S04,    71,  1,      6, X12J06,2,20121220,2037,-62.0065, 131.3250, 4508,   4419.7,2,  -0.0606,2,  -0.06055,2,  34.6577,2,  34.6577,2,  34.8327,2,   236.18,2,   235.79,2,   99.877,   0.0049,2,   -0.010,2,  -999.00,9,    0.000,2,   124.48,2,     0.17,    32.34,2,     0.05,     0.01,2,     0.01,     2.23,2,     0.01,    1.722,2,    0.864,2,    0.122,2,    0.391,2,   2258.5,2,   2353.1,6,   7.6026,       25,2, -999.000,1, -999.000,   -999.0,1,   -999.0, -999.000,9, -999.000, -999.000,9, -999.000
  49NZ20121128,   S04,    71,  1,      1, X12J01,2,20121220,2037,-62.0065, 131.3250, 4508,   4588.5,2,  -0.1257,2,  -0.12580,2,  34.6498,2,  34.6499,2,  34.8229,2,   238.91,2,   238.23,2,   99.573,   0.0171,2,   -0.010,2,  -999.00,9,    0.000,2,   126.96,2,     0.17,    32.32,2,     0.05,     0.01,2,     0.01,     2.23,2,     0.01,    2.033,2,    1.051,2,    0.165,2,    0.563,2,   2259.1,2,   2353.4,2,   7.6000,       25,2, -999.000,1, -999.000,   -999.0,1,   -999.0, -999.000,9, -999.000, -999.000,9, -999.000