BOTTLE,20220819CCHSIOAMB
EXPOCODE,SECT_ID,STNNBR,CASTNO,SAMPNO,BTLNBR,BTLNBR_FLAG_W,DATE,TIME,LATITUDE,LONGITUDE,DEPTH,CTDPRS,CTDPRS_FLAG_W,CTDTMP,CTDTMP_FLAG_W,SBE35,SBE35_FLAG_W,CTDSAL,CTDSAL_FLAG_W,SALNTY,SALNTY_FLAG_W,DNSSAL,DNSSAL_FLAG_W,CTDOXY,CTDOXY_FLAG_W,OXYGEN,OXYGEN_FLAG_W,CTDXMISS,CTDXMISSCP,CTDXMISS_FLAG_W,CTDFLUOR,CTDFLUOR_FLAG_W,CHLORA,CHLORA_FLAG_W,PAR,PAR_FLAG_W,SILCAT,SILCAT_FLAG_W,SILUNC,NITRAT,NITRAT_FLAG_W,NRAUNC,NITRIT,NITRIT_FLAG_W,NRIUNC,PHSPHT,PHSPHT_FLAG_W,PHPUNC,CFC-11,CFC-11_FLAG_W,CFC-12,CFC-12_FLAG_W,CFC113,CFC113_FLAG_W,SF6,SF6_FLAG_W,TCARBN,TCARBN_FLAG_W,ALKALI,ALKALI_FLAG_W,PH_TOT,PH_TMP,PH_TOT_FLAG_W,DELC13,DELC13_FLAG_W,C13ERR,DELC14,DELC14_FLAG_W,C14ERR,CS-134,CS-134_FLAG_W,CS134ER,CS-137,CS-137_FLAG_W,CS137ER
,,,,,,,,UTC,DEG,DEG,METERS,DBAR,,ITS-90,,ITS-90,,PSS-78,,PSS-78,,G/KG,,UMOL/KG,,UMOL/KG,,%TRANS,/METER,,MG/M^3,,MG/CUM,,UE/SQM/S,,UMOL/KG,,UMOL/KG,UMOL/KG,,UMOL/KG,UMOL/KG,,UMOL/KG,UMOL/KG,,UMOL/KG,PMOL/KG,,PMOL/KG,,PMOL/KG,,FMOL/KG,,UMOL/KG,,UMOL/KG,,,DEG C,,/MILLE,,/MILLE,/MILLE,,/MILLE,MBQ/KG,,MBQ/KG,MBQ/KG,,MBQ/KG
  49NZ20121128,  P14S,    22,  1,     36, X12J36,2,20121208,2225,-62.4615, 172.6033, 4412,      5.0,2,   1.7239,2,   1.72448,2,  33.9267,2,  33.9264,2,-999.0000,9,   344.14,2,   344.22,2,   93.574,   0.2657,2,    0.160,2,  -999.00,9,  532.684,2,    21.80,2,     0.08,    26.24,2,     0.04,     0.23,2,     0.01,  -999.00,5,  -999.00,    5.484,2,    3.041,2,    0.501,2, -999.000,9,   -999.0,9,   -999.0,9,-999.0000,     -999,9, -999.000,9, -999.000,   -999.0,9,   -999.0, -999.000,9, -999.000, -999.000,9, -999.000
  49NZ20121128,  P14S,    22,  1,     35, X12J35,2,20121208,2225,-62.4615, 172.6033, 4412,     25.0,2,   1.7159,2,   1.71612,2,  33.9266,2,  33.9265,2,-999.0000,9,   344.02,2,   344.34,2,   93.392,   0.2735,2,    0.580,2,  -999.00,9,   77.311,2,    21.67,2,     0.08,    26.20,2,     0.04,     0.23,2,     0.01,  -999.00,5,  -999.00,    5.491,2,    3.033,2,    0.497,2, -999.000,9,   -999.0,9,   -999.0,9,-999.0000,     -999,9, -999.000,9, -999.000,   -999.0,9,   -999.0, -999.000,9, -999.000, -999.000,9, -999.000
  49NZ20121128,  P14S,    22,  1,     34, X12J34,2,20121208,2225,-62.4615, 172.6033, 4412,     50.4,2,   1.2150,2,   1.19171,2,  33.9279,2,  33.9272,2,-999.0000,9,   348.50,2,   346.99,2,   92.535,   0.3103,2,    1.000,2,  -999.00,9,   10.404,2,    21.94,2,     0.08,    26.28,2,     0.04,     0.21,2,     0.01,  -999.00,5,  -999.00,    5.545,6,    3.057,6,    0.516,6, -999.000,9,   -999.0,9,   -999.0,9,-999.0000,     -999,9, -999.000,9, -999.000,   -999.0,9,   -999.0, -999.000,9, -999.000, -999.000,9, -999.000
  49NZ20121128,  P14S,    22,  1,     33, X12J33,2,20121208,2225,-62.4615, 172.6033, 4412,     75.4,2,   0.7039,2,   0.69506,2,  33.9694,2,  33.9676,2,-999.0000,9,   338.20,2,   338.34,2,   95.121,   0.2001,2,    0.880,2,  -999.00,9,    0.846,2,    29.10,2,     0.08,    27.88,2,     0.04,     0.18,2,     0.01,  -999.00,5,  -999.00,    5.508,2,    3.025,2,    0.509,2, -999.000,9,   -999.0,9,   -999.0,9,-999.0000,     -999,9, -999.000,9, -999.000,   -999.0,9,   -999.0, -999.000,9, -999.000, -999.000,9, -999.000
  49NZ20121128,  P14S,    22,  1,     32, X12J32,2,20121208,2225,-62.4615, 172.6033, 4412,    102.3,2,   0.4824,2,   0.48255,2,  34.0205,2,  34.0197,2,-999.0000,9,   323.79,2,   324.53,2,   98.150,   0.0747,2,    0.330,2,  -999.00,9,    0.118,2,    36.35,2,     0.09,    29.39,2,     0.04,     0.14,2,     0.01,     2.05,2,     0.01,    5.311,2,    2.913,2,    0.493,2, -999.000,9,   -999.0,9,   -999.0,9,-999.0000,     -999,9, -999.000,9, -999.000,   -999.0,9,   -999.0, -999.000,9, -999.000, -999.000,9, -999.000
  49NZ20121128,  P14S,    22,  1,     31, X12J31,2,20121208,2225,-62.4615, 172.6033, 4412,    126.6,2,   0.9637,2,   0.96419,2,  34.0902,2,  34.0896,2,-999.0000,9,   289.73,2,   290.27,2,   99.035,   0.0388,2,    0.140,2,  -999.00,9,    0.007,2,    39.71,2,     0.09,    31.05,2,     0.04,     0.09,2,     0.01,     2.14,2,     0.01,    4.572,2,    2.490,2,    0.407,2, -999.000,9,   -999.0,9,   -999.0,9,-999.0000,     -999,9, -999.000,9, -999.000,   -999.0,9,   -999.0, -999.000,9, -999.000, -999.000,9, -999.000
  49NZ20121128,  P14S,    22,  1,     30, X12J30,2,20121208,2225,-62.4615, 172.6033, 4412,    150.2,2,   0.4182,2,   0.41725,2,  34.0767,2,  34.0766,2,-999.0000,9,   312.37,2,   312.03,2,   98.799,   0.0483,2,    0.170,2,  -999.00,9,    0.000,2,    41.97,2,     0.10,    30.32,2,     0.04,     0.13,2,     0.01,     2.10,2,     0.01,    5.063,2,    2.760,2,    0.465,2, -999.000,9,   -999.0,9,   -999.0,9,-999.0000,     -999,9, -999.000,9, -999.000,   -999.0,9,   -999.0, -999.000,9, -999.000, -999.000,9, -999.000
  49NZ20121128,  P14S,    22,  1,     29, X12J29,2,20121208,2225,-62.4615, 172.6033, 4412,    199.4,2,   0.6816,2,   0.68909,2,  34.1637,2,  34.1587,2,-999.0000,9,   284.84,2,   285.82,2,   99.290,   0.0285,2,    0.090,2,  -999.00,9,    0.000,2,    48.41,2,     0.10,    31.72,2,     0.04,     0.10,2,     0.01,     2.19,2,     0.01,    4.390,2,    2.390,2,    0.391,2, -999.000,9,   -999.0,9,   -999.0,9,-999.0000,     -999,9, -999.000,9, -999.000,   -999.0,9,   -999.0, -999.000,9, -999.000, -999.000,9, -999.000
  49NZ20121128,  P14S,    22,  1,     28, X12J28,2,20121208,2225,-62.4615, 172.6033, 4412,    251.1,2,   1.2874,2,   1.28515,2,  34.3076,2,  34.2974,2,-999.0000,9,   235.40,2,   238.30,2,   99.505,   0.0198,2,    0.040,2,  -999.00,9,    0.000,2,    57.89,2,     0.11,    33.60,2,     0.05,     0.08,2,     0.01,     2.30,2,     0.01,    3.046,2,    1.644,2,    0.272,2, -999.000,9,   -999.0,9,   -999.0,9,-999.0000,     -999,9, -999.000,9, -999.000,   -999.0,9,   -999.0, -999.000,9, -999.000, -999.000,9, -999.000
  49NZ20121128,  P14S,    22,  1,     27, X12J27,2,20121208,2225,-62.4615, 172.6033, 4412,    301.2,2,   2.1003,2,   2.10045,2,  34.4628,2,  34.4616,2,-999.0000,9,   184.65,2,   184.75,2,   99.593,   0.0163,2,    0.020,2,  -999.00,9,    0.000,2,    66.03,2,     0.12,    34.98,2,     0.05,     0.01,2,     0.01,     2.40,2,     0.01,    1.442,2,    0.753,2,    0.119,2, -999.000,9,   -999.0,9,   -999.0,9,-999.0000,     -999,9, -999.000,9, -999.000,   -999.0,9,   -999.0, -999.000,9, -999.000, -999.000,9, -999.000
  49NZ20121128,  P14S,    22,  1,     26, X12J26,2,20121208,2225,-62.4615, 172.6033, 4412,    401.8,2,   2.2120,2,   2.21221,2,  34.5599,2,  34.5586,2,-999.0000,9,   173.83,2,   173.84,2,   99.672,   0.0131,2,    0.010,2,  -999.00,9,    0.000,2,    71.53,2,     0.12,    34.44,2,     0.05,     0.01,2,     0.01,     2.37,2,     0.01,    0.860,2,    0.436,2,    0.069,2, -999.000,9,   -999.0,9,   -999.0,9,-999.0000,     -999,9, -999.000,9, -999.000,   -999.0,9,   -999.0, -999.000,9, -999.000, -999.000,9, -999.000
  49NZ20121128,  P14S,    22,  1,     25, X12J25,2,20121208,2225,-62.4615, 172.6033, 4412,    501.7,2,   2.2067,2,   2.20668,2,  34.6139,2,  34.6135,2,-999.0000,9,   172.70,2,   172.64,2,   99.767,   0.0093,2,    0.010,2,  -999.00,9,    0.000,2,    74.72,2,     0.13,    33.93,2,     0.05,     0.01,2,     0.01,     2.32,2,     0.01,    0.609,2,    0.304,2,    0.047,2, -999.000,9,   -999.0,9,   -999.0,9,-999.0000,     -999,9, -999.000,9, -999.000,   -999.0,9,   -999.0, -999.000,9, -999.000, -999.000,9, -999.000
  49NZ20121128,  P14S,    22,  1,     24, X12J24,2,20121208,2225,-62.4615, 172.6033, 4412,    601.0,2,   2.2054,2,   2.20548,2,  34.6543,2,  34.6536,2,-999.0000,9,   174.68,2,   174.62,2,   99.746,   0.0102,2,    0.010,2,  -999.00,9,    0.000,2,    76.39,2,     0.13,    33.18,2,     0.05,     0.01,2,     0.01,     2.27,2,     0.01,    0.439,6,    0.216,6,    0.041,6, -999.000,9,   -999.0,9,   -999.0,9,-999.0000,     -999,9, -999.000,9, -999.000,   -999.0,9,   -999.0, -999.000,9, -999.000, -999.000,9, -999.000
  49NZ20121128,  P14S,    22,  1,     23, X12J23,2,20121208,2225,-62.4615, 172.6033, 4412,    700.8,2,   2.1446,2,   2.14434,2,  34.6783,2,  34.6783,2,-999.0000,9,   176.68,2,   176.64,2,   99.802,   0.0079,2,    0.010,2,  -999.00,9,    0.000,2,    78.44,2,     0.13,    32.77,2,     0.05,     0.01,2,     0.01,     2.24,2,     0.01,    0.379,2,    0.181,2,    0.032,2, -999.000,9,   -999.0,9,   -999.0,9,-999.0000,     -999,9, -999.000,9, -999.000,   -999.0,9,   -999.0, -999.000,9, -999.000, -999.000,9, -999.000
  49NZ20121128,  P14S,    22,  1,     22, X12J22,2,20121208,2225,-62.4615, 172.6033, 4412,    802.7,2,   2.1533,2,   2.15324,2,  34.7032,2,  34.7030,2,-999.0000,9,   181.31,2,   181.39,2,   99.852,   0.0059,2,    0.000,2,  -999.00,9,    0.000,2,    78.52,2,     0.13,    31.96,2,     0.04,     0.01,2,     0.01,     2.19,2,     0.01,    0.238,2,    0.112,2,    0.019,2, -999.000,9,   -999.0,9,   -999.0,9,-999.0000,     -999,9, -999.000,9, -999.000,   -999.0,9,   -999.0, -999.000,9, -999.000, -999.000,9, -999.000
  49NZ20121128,  P14S,    22,  1,     21, X12J21,2,20121208,2225,-62.4615, 172.6033, 4412,    902.2,2,   2.0782,2,   2.07808,2,  34.7171,2,  34.7168,2,-999.0000,9,   183.93,2,   183.87,2,   99.854,   0.0058,2,    0.000,2,  -999.00,9,    0.000,2,    80.40,2,     0.13,    31.61,2,     0.04,     0.01,2,     0.01,     2.16,2,     0.01,    0.217,2,    0.104,2,    0.015,2, -999.000,9,   -999.0,9,   -999.0,9,-999.0000,     -999,9, -999.000,9, -999.000,   -999.0,9,   -999.0, -999.000,9, -999.000, -999.000,9, -999.000
  49NZ20121128,  P14S,    22,  1,     20, X12J20,2,20121208,2225,-62.4615, 172.6033, 4412,   1004.3,2,   2.0230,2,   2.02278,2,  34.7236,2,  34.7238,2,-999.0000,9,   185.68,2,   185.85,2,   99.921,   0.0032,2,    0.000,2,  -999.00,9,    0.000,2,    82.20,2,     0.13,    31.43,2,     0.04,     0.01,2,     0.01,     2.16,2,     0.01,    0.180,2,    0.082,2,    0.014,2, -999.000,9,   -999.0,9,   -999.0,9,-999.0000,     -999,9, -999.000,9, -999.000,   -999.0,9,   -999.0, -999.000,9, -999.000, -999.000,9, -999.000
  49NZ20121128,  P14S,    22,  1,     19, X12J19,2,20121208,2225,-62.4615, 172.6033, 4412,   1252.8,2,   1.8677,2,   1.86763,2,  34.7369,2,  34.7368,2,-999.0000,9,   190.34,2,   190.48,2,   99.894,   0.0042,2,    0.000,2,  -999.00,9,    0.000,2,    86.26,2,     0.14,    31.11,2,     0.04,     0.01,2,     0.01,     2.14,2,     0.01,    0.167,6,    0.077,6,    0.012,6, -999.000,9,   -999.0,9,   -999.0,9,-999.0000,     -999,9, -999.000,9, -999.000,   -999.0,9,   -999.0, -999.000,9, -999.000, -999.000,9, -999.000
  49NZ20121128,  P14S,    22,  1,     18, X12J18,2,20121208,2225,-62.4615, 172.6033, 4412,   1502.7,2,   1.6522,2,   1.65210,2,  34.7399,2,  34.7401,2,-999.0000,9,   194.85,2,   195.04,2,   99.928,   0.0029,2,   -0.000,2,  -999.00,9,    0.000,2,    91.69,2,     0.14,    31.03,2,     0.04,     0.01,2,     0.01,     2.13,2,     0.01,    0.153,2,    0.070,2,    0.008,2, -999.000,9,   -999.0,9,   -999.0,9,-999.0000,     -999,9, -999.000,9, -999.000,   -999.0,9,   -999.0, -999.000,9, -999.000, -999.000,9, -999.000
  49NZ20121128,  P14S,    22,  1,     17, X12J17,2,20121208,2225,-62.4615, 172.6033, 4412,   1751.1,2,   1.4539,2,   1.45385,2,  34.7348,2,  34.7350,2,-999.0000,9,   197.74,2,   197.88,2,   99.900,   0.0040,2,    0.000,2,  -999.00,9,    0.000,2,    97.42,2,     0.15,    31.17,2,     0.04,     0.00,2,     0.01,     2.15,2,     0.01,    0.134,2,    0.061,2,    0.013,2, -999.000,9,   -999.0,9,   -999.0,9,-999.0000,     -999,9, -999.000,9, -999.000,   -999.0,9,   -999.0, -999.000,9, -999.000, -999.000,9, -999.000
  49NZ20121128,  P14S,    22,  1,     16, X12J16,2,20121208,2225,-62.4615, 172.6033, 4412,   2004.3,2,   1.2713,2,   1.27104,2,  34.7283,2,  34.7285,2,-999.0000,9,   200.37,2,   200.43,2,   99.902,   0.0039,2,    0.000,2,  -999.00,9,    0.000,2,   103.08,2,     0.15,    31.46,2,     0.04,     0.00,2,     0.01,     2.17,2,     0.01,    0.144,2,    0.066,2,    0.014,2, -999.000,9,   -999.0,9,   -999.0,9,-999.0000,     -999,9, -999.000,9, -999.000,   -999.0,9,   -999.0, -999.000,9, -999.000, -999.000,9, -999.000
  49NZ20121128,  P14S,    22,  1,     15, X12J15,2,20121208,2225,-62.4615, 172.6033, 4412,   2249.8,2,   1.1138,2,   1.11396,2,  34.7216,2,  34.7215,2,-999.0000,9,   202.48,2,   202.47,2,   99.894,   0.0042,2,   -0.000,2,  -999.00,9,    0.000,2,   108.17,2,     0.16,    31.71,2,     0.04,     0.00,2,     0.01,     2.17,2,     0.01,    0.154,2,    0.070,2,    0.015,2, -999.000,9,   -999.0,9,   -999.0,9,-999.0000,     -999,9, -999.000,9, -999.000,   -999.0,9,   -999.0, -999.000,9, -999.000, -999.000,9, -999.000
  49NZ20121128,  P14S,    22,  1,     14, X12J14,2,20121208,2225,-62.4615, 172.6033, 4412,   2501.7,2,   0.9803,2,   0.98036,2,  34.7151,2,  34.7152,2,-999.0000,9,   204.80,2,   204.85,2,   99.942,   0.0023,2,   -0.000,2,  -999.00,9,    0.000,2,   111.99,2,     0.16,    31.91,2,     0.04,     0.00,2,     0.01,     2.19,2,     0.01,    0.199,2,    0.095,2,    0.019,2, -999.000,9,   -999.0,9,   -999.0,9,-999.0000,     -999,9, -999.000,9, -999.000,   -999.0,9,   -999.0, -999.000,9, -999.000, -999.000,9, -999.000
  49NZ20121128,  P14S,    22,  1,     13, X12J13,2,20121208,2225,-62.4615, 172.6033, 4412,   2752.1,2,   0.8706,2,   0.87061,2,  34.7098,2,  34.7099,2,-999.0000,9,   206.77,2,   206.72,2,   99.917,   0.0033,2,   -0.000,2,  -999.00,9,    0.000,2,   115.51,2,     0.16,    32.10,2,     0.05,     0.00,2,     0.01,     2.21,2,     0.01,    0.232,2,    0.111,2,    0.018,2, -999.000,9,   -999.0,9,   -999.0,9,-999.0000,     -999,9, -999.000,9, -999.000,   -999.0,9,   -999.0, -999.000,9, -999.000, -999.000,9, -999.000
  49NZ20121128,  P14S,    22,  1,     12, X12J12,2,20121208,2225,-62.4615, 172.6033, 4412,   3000.9,2,   0.7983,2,   0.79832,2,  34.7059,2,  34.7062,2,-999.0000,9,   208.31,2,   208.13,2,   99.909,   0.0036,2,   -0.000,2,  -999.00,9,    0.000,2,   118.00,2,     0.16,    32.19,2,     0.05,     0.00,2,     0.01,     2.22,2,     0.01,    0.270,2,    0.127,2,    0.019,2, -999.000,9,   -999.0,9,   -999.0,9,-999.0000,     -999,9, -999.000,9, -999.000,   -999.0,9,   -999.0, -999.000,9, -999.000, -999.000,9, -999.000
  49NZ20121128,  P14S,    22,  1,     11, X12J11,2,20121208,2225,-62.4615, 172.6033, 4412,   3250.4,2,   0.7693,2,   0.76935,2,  34.7038,2,  34.7042,2,-999.0000,9,   208.86,2,   208.81,2,   99.875,   0.0050,2,   -0.000,2,  -999.00,9,    0.000,2,   119.79,2,     0.17,    32.27,2,     0.05,     0.01,2,     0.01,     2.22,2,     0.01,    0.294,2,    0.141,2,    0.016,2, -999.000,9,   -999.0,9,   -999.0,9,-999.0000,     -999,9, -999.000,9, -999.000,   -999.0,9,   -999.0, -999.000,9, -999.000, -999.000,9, -999.000
  49NZ20121128,  P14S,    22,  1,     10, X12J10,2,20121208,2225,-62.4615, 172.6033, 4412,   3501.7,2,   0.7634,2,   0.76350,2,  34.7027,2,  34.7025,2,-999.0000,9,   209.19,2,   209.22,2,   99.865,   0.0054,2,   -0.000,2,  -999.00,9,    0.000,2,   121.20,2,     0.17,    32.32,2,     0.05,     0.01,2,     0.01,     2.22,2,     0.01,    0.318,2,    0.153,2,    0.017,2, -999.000,9,   -999.0,9,   -999.0,9,-999.0000,     -999,9, -999.000,9, -999.000,   -999.0,9,   -999.0, -999.000,9, -999.000, -999.000,9, -999.000
  49NZ20121128,  P14S,    22,  1,      9, X12J09,2,20121208,2225,-62.4615, 172.6033, 4412,   3748.8,2,   0.7766,2,   0.77665,2,  34.7022,2,  34.7023,2,-999.0000,9,   209.24,2,   209.31,2,   99.842,   0.0063,2,   -0.000,2,  -999.00,9,    0.000,2,   121.64,2,     0.17,    32.33,2,     0.05,     0.00,2,     0.01,     2.22,2,     0.01,    0.325,2,    0.154,2,    0.024,2, -999.000,9,   -999.0,9,   -999.0,9,-999.0000,     -999,9, -999.000,9, -999.000,   -999.0,9,   -999.0, -999.000,9, -999.000, -999.000,9, -999.000
  49NZ20121128,  P14S,    22,  1,      8, X12J08,2,20121208,2225,-62.4615, 172.6033, 4412,   4002.2,2,   0.7984,2,   0.79840,2,  34.7021,2,  34.7025,2,-999.0000,9,   209.14,2,   209.38,2,   99.819,   0.0072,2,   -0.000,2,  -999.00,9,    0.000,2,   121.50,2,     0.17,    32.33,2,     0.05,     0.00,2,     0.01,     2.22,2,     0.01,    0.331,6,    0.159,6,    0.021,6, -999.000,9,   -999.0,9,   -999.0,9,-999.0000,     -999,9, -999.000,9, -999.000,   -999.0,9,   -999.0, -999.000,9, -999.000, -999.000,9, -999.000
  49NZ20121128,  P14S,    22,  1,      7, X12J07,2,20121208,2225,-62.4615, 172.6033, 4412,   4248.9,2,   0.8179,2,   0.81790,2,  34.7017,2,  34.7019,2,-999.0000,9,   209.25,2,   209.52,2,   99.796,   0.0082,2,   -0.000,2,  -999.00,9,    0.000,2,   121.49,2,     0.17,    32.29,2,     0.05,     0.01,2,     0.01,     2.22,2,     0.01,    0.338,2,    0.163,2,    0.023,2, -999.000,9,   -999.0,9,   -999.0,9,-999.0000,     -999,9, -999.000,9, -999.000,   -999.0,9,   -999.0, -999.000,9, -999.000, -999.000,9, -999.000
  49NZ20121128,  P14S,    22,  1,      1, X12J01,2,20121208,2225,-62.4615, 172.6033, 4412,   4481.5,2,   0.8084,2,   0.80833,2,  34.7003,2,  34.7005,2,-999.0000,9,   209.35,2,   209.84,2,   99.537,   0.0186,2,   -0.000,2,  -999.00,9,    0.000,2,   122.46,2,     0.17,    32.34,2,     0.05,     0.01,2,     0.01,     2.23,2,     0.01,    0.370,2,    0.180,2,    0.027,2, -999.000,9,   -999.0,9,   -999.0,9,-999.0000,     -999,9, -999.000,9, -999.000,   -999.0,9,   -999.0, -999.000,9, -999.000, -999.000,9, -999.000