BOTTLE,20220819CCHSIOAMB
EXPOCODE,SECT_ID,STNNBR,CASTNO,SAMPNO,BTLNBR,BTLNBR_FLAG_W,DATE,TIME,LATITUDE,LONGITUDE,DEPTH,CTDPRS,CTDPRS_FLAG_W,CTDTMP,CTDTMP_FLAG_W,SBE35,SBE35_FLAG_W,CTDSAL,CTDSAL_FLAG_W,SALNTY,SALNTY_FLAG_W,DNSSAL,DNSSAL_FLAG_W,CTDOXY,CTDOXY_FLAG_W,OXYGEN,OXYGEN_FLAG_W,CTDXMISS,CTDXMISSCP,CTDXMISS_FLAG_W,CTDFLUOR,CTDFLUOR_FLAG_W,CHLORA,CHLORA_FLAG_W,PAR,PAR_FLAG_W,SILCAT,SILCAT_FLAG_W,SILUNC,NITRAT,NITRAT_FLAG_W,NRAUNC,NITRIT,NITRIT_FLAG_W,NRIUNC,PHSPHT,PHSPHT_FLAG_W,PHPUNC,CFC-11,CFC-11_FLAG_W,CFC-12,CFC-12_FLAG_W,CFC113,CFC113_FLAG_W,SF6,SF6_FLAG_W,TCARBN,TCARBN_FLAG_W,ALKALI,ALKALI_FLAG_W,PH_TOT,PH_TMP,PH_TOT_FLAG_W,DELC13,DELC13_FLAG_W,C13ERR,DELC14,DELC14_FLAG_W,C14ERR,CS-134,CS-134_FLAG_W,CS134ER,CS-137,CS-137_FLAG_W,CS137ER
,,,,,,,,UTC,DEG,DEG,METERS,DBAR,,ITS-90,,ITS-90,,PSS-78,,PSS-78,,G/KG,,UMOL/KG,,UMOL/KG,,%TRANS,/METER,,MG/M^3,,MG/CUM,,UE/SQM/S,,UMOL/KG,,UMOL/KG,UMOL/KG,,UMOL/KG,UMOL/KG,,UMOL/KG,UMOL/KG,,UMOL/KG,PMOL/KG,,PMOL/KG,,PMOL/KG,,FMOL/KG,,UMOL/KG,,UMOL/KG,,,DEG C,,/MILLE,,/MILLE,/MILLE,,/MILLE,MBQ/KG,,MBQ/KG,MBQ/KG,,MBQ/KG
  49NZ20121128,   S04,    64,  1,     36, X12J36,2,20121216,2043,-62.4672, 141.0340, 4156,      5.5,2,  -0.3616,2,  -0.36115,2,  33.8107,2,  33.8105,2,  33.9750,2,   347.88,2,   348.06,2,   94.627,   0.2209,2,    0.280,2,  -999.00,9,  130.604,2,    39.27,2,     0.09,    27.57,2,     0.04,     0.18,2,     0.01,     1.87,2,     0.01,    5.603,2,    3.072,2,    0.597,2,    2.964,2,   2166.6,2,   2287.1,2,   7.6795,       25,6, -999.000,1, -999.000,   -999.0,1,   -999.0, -999.000,9, -999.000, -999.000,9, -999.000
  49NZ20121128,   S04,    64,  1,     35, X12J35,2,20121216,2043,-62.4672, 141.0340, 4156,     24.5,2,  -0.3799,2,  -0.38000,2,  33.8109,2,  33.8108,2,  33.9757,2,   347.74,2,   348.08,2,   94.564,   0.2236,2,    0.470,2,  -999.00,9,   27.093,2,    39.32,2,     0.09,    27.60,2,     0.04,     0.18,2,     0.01,     1.87,2,     0.01,    5.586,2,    3.072,2,    0.601,2,    2.955,2,   2165.3,2,   2286.0,2,   7.6803,       25,2, -999.000,1, -999.000,   -999.0,1,   -999.0, -999.000,9, -999.000, -999.000,9, -999.000
  49NZ20121128,   S04,    64,  1,     34, X12J34,2,20121216,2043,-62.4672, 141.0340, 4156,     50.1,2,  -0.7630,2,  -0.76377,2,  33.8947,2,  33.8925,2,  34.0579,2,   335.78,2,   336.26,2,   95.706,   0.1756,2,    0.660,2,  -999.00,9,    5.384,2,    43.68,2,     0.10,    28.65,2,     0.04,     0.16,2,     0.01,     1.96,2,     0.01,    5.271,6,    2.936,6,    0.561,6,    2.803,6,   2176.7,2,   2292.0,2,   7.6619,       25,2, -999.000,1, -999.000,   -999.0,1,   -999.0, -999.000,9, -999.000, -999.000,9, -999.000
  49NZ20121128,   S04,    64,  1,     33, X12J33,2,20121216,2043,-62.4672, 141.0340, 4156,     75.3,2,  -0.4725,2,  -0.49937,2,  34.1987,2,  34.1842,2,  34.3515,2,   278.93,2,   280.57,2,   98.380,   0.0653,2,    0.320,2,  -999.00,9,    1.292,2,    55.79,2,     0.11,    31.56,2,     0.04,     0.14,2,     0.01,     2.20,2,     0.01,    3.849,2,    2.217,2,    0.409,2,    1.990,2,   2213.5,6,   2308.6,2,   7.6062,       25,2, -999.000,1, -999.000,   -999.0,1,   -999.0, -999.000,9, -999.000, -999.000,9, -999.000
  49NZ20121128,   S04,    64,  1,     32, X12J32,2,20121216,2043,-62.4672, 141.0340, 4156,    100.7,2,   0.8685,2,   0.86879,2,  34.4202,2,  34.4172,2,  34.5869,2,   216.80,2,   216.92,2,   99.258,   0.0298,2,    0.170,2,  -999.00,9,    0.377,2,    67.86,2,     0.12,    33.69,2,     0.05,     0.13,2,     0.01,     2.32,2,     0.01,    2.221,2,    1.236,2,    0.218,2,    1.032,2,   2241.9,2,   2323.7,6,   7.5644,       25,2, -999.000,1, -999.000,   -999.0,1,   -999.0, -999.000,9, -999.000, -999.000,9, -999.000
  49NZ20121128,   S04,    64,  1,     31, X12J31,2,20121216,2043,-62.4672, 141.0340, 4156,    125.3,2,   1.6267,2,   1.62750,2,  34.5263,2,  34.5252,2,  34.6944,2,   187.02,2,   186.97,2,   99.472,   0.0212,2,    0.110,2,  -999.00,9,    0.120,2,    72.93,2,     0.12,    34.46,2,     0.05,     0.06,2,     0.01,     2.37,2,     0.01,    1.295,2,    0.721,2,    0.125,2,    0.558,2,   2253.9,2,   2329.6,2,   7.5501,       25,2, -999.000,1, -999.000,   -999.0,1,   -999.0, -999.000,9, -999.000, -999.000,9, -999.000
  49NZ20121128,   S04,    64,  1,     30, X12J30,2,20121216,2043,-62.4672, 141.0340, 4156,    150.4,2,   1.7569,2,   1.75784,2,  34.5675,2,  34.5645,2,  34.7356,2,   181.64,2,   181.55,2,   99.583,   0.0167,2,    0.060,2,  -999.00,9,    0.022,2,    75.06,2,     0.13,    34.37,2,     0.05,     0.04,2,     0.01,     2.36,2,     0.01,    1.067,2,    0.593,2,    0.104,2,    0.421,2,   2257.9,2,   2333.0,2,   7.5503,       25,6, -999.000,1, -999.000,   -999.0,1,   -999.0, -999.000,9, -999.000, -999.000,9, -999.000
  49NZ20121128,   S04,    64,  1,     29, X12J29,2,20121216,2043,-62.4672, 141.0340, 4156,    200.2,2,   1.9096,2,   1.91012,2,  34.6156,2,  34.6151,2,  34.7860,2,   176.34,2,   176.03,2,   99.608,   0.0157,2,    0.020,2,  -999.00,9,    0.000,2,    77.85,2,     0.13,    34.09,2,     0.05,     0.02,2,     0.01,     2.34,2,     0.01,    0.794,2,    0.424,2,    0.078,2,    0.281,2,   2258.6,2,   2337.0,2,   7.5531,       25,2, -999.000,1, -999.000,   -999.0,1,   -999.0, -999.000,9, -999.000, -999.000,9, -999.000
  49NZ20121128,   S04,    64,  1,     28, X12J28,2,20121216,2043,-62.4672, 141.0340, 4156,    249.1,2,   1.9518,2,   1.95220,2,  34.6439,2,  34.6432,2,  34.8130,2,   176.72,2,   176.54,2,   99.622,   0.0151,2,    0.010,2,  -999.00,9,    0.000,2,    78.69,2,     0.13,    33.59,2,     0.05,     0.01,2,     0.01,     2.30,2,     0.01,    0.647,2,    0.345,2,    0.067,2,    0.166,2,   2258.7,2,   2339.4,2,   7.5615,       25,2, -999.000,1, -999.000,   -999.0,1,   -999.0, -999.000,9, -999.000, -999.000,9, -999.000
  49NZ20121128,   S04,    64,  1,     27, X12J27,2,20121216,2043,-62.4672, 141.0340, 4156,    330.0,2,   1.9225,2,   1.92254,2,  34.6698,2,  34.6696,2,  34.8400,2,   179.83,2,   179.63,2,   99.777,   0.0089,2,    0.010,2,  -999.00,9,    0.000,2,    79.75,2,     0.13,    32.94,2,     0.05,     0.01,2,     0.01,     2.26,2,     0.01,    0.561,2,    0.292,2,    0.061,2,    0.191,2,   2257.3,2,   2342.8,2,   7.5716,       25,2, -999.000,1, -999.000,   -999.0,1,   -999.0, -999.000,9, -999.000, -999.000,9, -999.000
  49NZ20121128,   S04,    64,  1,     26, X12J26,2,20121216,2043,-62.4672, 141.0340, 4156,    432.5,2,   1.9456,2,   1.94638,2,  34.6990,2,  34.6990,2,  34.8704,2,   182.18,2,   182.08,2,   99.874,   0.0050,2,    0.010,2,  -999.00,9,    0.000,2,    80.91,2,     0.13,    32.29,2,     0.05,     0.01,2,     0.01,     2.21,2,     0.01,    0.421,2,    0.209,2,    0.048,2,    0.154,2,   2257.0,2,   2342.1,3,   7.5834,       25,2, -999.000,1, -999.000,   -999.0,1,   -999.0, -999.000,9, -999.000, -999.000,9, -999.000
  49NZ20121128,   S04,    64,  1,     25, X12J25,2,20121216,2043,-62.4672, 141.0340, 4156,    530.0,2,   1.9075,2,   1.90643,2,  34.7130,2,  34.7127,2,  34.8835,2,   184.80,2,   184.91,2,   99.861,   0.0056,2,    0.000,2,  -999.00,9,    0.000,2,    82.17,2,     0.13,    31.91,2,     0.04,     0.01,2,     0.01,     2.18,2,     0.01,    0.375,2,    0.185,2,    0.044,2,    0.215,2,   2254.6,2,   2346.9,2,   7.5901,       25,2, -999.000,1, -999.000,   -999.0,1,   -999.0, -999.000,9, -999.000, -999.000,9, -999.000
  49NZ20121128,   S04,    64,  1,     24, X12J24,2,20121216,2043,-62.4672, 141.0340, 4156,    630.1,2,   1.8795,2,   1.87962,2,  34.7296,2,  34.7292,2,  34.9007,2,   188.39,2,   188.49,2,   99.798,   0.0081,2,    0.000,2,  -999.00,9,    0.000,2,    83.40,2,     0.13,    31.41,2,     0.04,     0.01,2,     0.01,     2.15,2,     0.01,    0.286,6,    0.139,6,    0.037,6,    0.093,6,   2253.0,2,   2346.1,3,   7.5990,       25,2, -999.000,1, -999.000,   -999.0,1,   -999.0, -999.000,9, -999.000, -999.000,9, -999.000
  49NZ20121128,   S04,    64,  1,     23, X12J23,2,20121216,2043,-62.4672, 141.0340, 4156,    731.4,2,   1.8019,2,   1.80204,2,  34.7360,2,  34.7361,2,  34.9086,2,   190.87,2,   191.08,2,   99.901,   0.0040,2,    0.000,2,  -999.00,9,    0.000,2,    85.43,2,     0.14,    31.20,2,     0.04,     0.01,2,     0.01,     2.14,2,     0.01,    0.258,2,    0.125,2,    0.032,2,    0.127,2,   2253.2,6,   2350.3,2,   7.6045,       25,2, -999.000,1, -999.000,   -999.0,1,   -999.0, -999.000,9, -999.000, -999.000,9, -999.000
  49NZ20121128,   S04,    64,  1,     22, X12J22,2,20121216,2043,-62.4672, 141.0340, 4156,    831.2,2,   1.7260,2,   1.72609,2,  34.7386,2,  34.7386,2,  34.9099,2,   193.03,2,   193.11,2,   99.888,   0.0045,2,    0.000,2,  -999.00,9,    0.000,2,    87.22,2,     0.14,    31.09,2,     0.04,     0.01,2,     0.01,     2.13,2,     0.01,    0.246,2,    0.143,2,    0.032,2,    0.116,2,   2252.4,2,   2350.9,6,   7.6073,       25,2, -999.000,1, -999.000,   -999.0,1,   -999.0, -999.000,9, -999.000, -999.000,9, -999.000
  49NZ20121128,   S04,    64,  1,     21, X12J21,2,20121216,2043,-62.4672, 141.0340, 4156,    931.2,2,   1.6464,2,   1.64643,2,  34.7388,2,  34.7392,2,  34.9112,2,   194.96,2,   194.83,2,   99.897,   0.0041,2,    0.000,2,  -999.00,9,    0.000,2,    89.16,2,     0.14,    31.05,2,     0.04,     0.01,2,     0.01,     2.13,2,     0.01,    0.245,2,    0.120,2,    0.031,2,    0.114,2,   2252.9,2,   2352.3,2,   7.6096,       25,6, -999.000,1, -999.000,   -999.0,1,   -999.0, -999.000,9, -999.000, -999.000,9, -999.000
  49NZ20121128,   S04,    64,  1,     20, X12J20,2,20121216,2043,-62.4672, 141.0340, 4156,   1082.2,2,   1.5414,2,   1.54137,2,  34.7383,2,  34.7388,2,  34.9141,2,   197.04,2,   197.09,2,   99.920,   0.0032,2,    0.000,2,  -999.00,9,    0.000,2,    91.89,2,     0.14,    31.06,2,     0.04,     0.01,2,     0.01,     2.13,2,     0.01,    0.241,2,    0.135,2,    0.031,2,    0.077,2,   2254.3,2,   2352.7,2,   7.6116,       25,2, -999.000,1, -999.000,   -999.0,1,   -999.0, -999.000,9, -999.000, -999.000,9, -999.000
  49NZ20121128,   S04,    64,  1,     19, X12J19,2,20121216,2043,-62.4672, 141.0340, 4156,   1332.9,2,   1.3427,2,   1.34271,2,  34.7336,2,  34.7336,2,  34.9060,2,   200.33,2,   200.37,2,   99.918,   0.0033,2,    0.000,2,  -999.00,9,    0.000,2,    97.28,2,     0.15,    31.21,2,     0.04,     0.01,2,     0.01,     2.15,2,     0.01,    0.226,6,    0.110,6,    0.027,6,    0.033,6,   2257.3,2,   2354.8,2,   7.6134,       25,2, -999.000,1, -999.000,   -999.0,1,   -999.0, -999.000,9, -999.000, -999.000,9, -999.000
  49NZ20121128,   S04,    64,  1,     18, X12J18,2,20121216,2043,-62.4672, 141.0340, 4156,   1580.4,2,   1.1608,2,   1.16100,2,  34.7261,2,  34.7263,2,  34.9000,2,   202.84,2,   202.74,2,   99.941,   0.0024,2,   -0.000,2,  -999.00,9,    0.000,2,   102.99,2,     0.15,    31.49,2,     0.04,     0.01,2,     0.01,     2.17,2,     0.01,    0.212,2,    0.100,2,    0.026,2,    0.052,2,   2257.7,2,   2357.1,2,   7.6114,       25,2, -999.000,1, -999.000,   -999.0,1,   -999.0, -999.000,9, -999.000, -999.000,9, -999.000
  49NZ20121128,   S04,    64,  1,     17, X12J17,2,20121216,2043,-62.4672, 141.0340, 4156,   1829.4,2,   0.9568,2,   0.95687,2,  34.7156,2,  34.7158,2,  34.8908,2,   205.38,2,   205.41,2,   99.935,   0.0026,2,   -0.000,2,  -999.00,9,    0.000,2,   108.38,2,     0.16,    31.82,2,     0.04,     0.01,2,     0.01,     2.20,2,     0.01,    0.242,2,    0.111,2,    0.026,2,    0.000,2,   2260.6,2,   2358.6,2,   7.6090,       25,6, -999.000,1, -999.000,   -999.0,1,   -999.0, -999.000,9, -999.000, -999.000,9, -999.000
  49NZ20121128,   S04,    64,  1,     16, X12J16,2,20121216,2043,-62.4672, 141.0340, 4156,   2082.5,2,   0.7703,2,   0.77027,2,  34.7048,2,  34.7054,2,  34.8802,2,   208.24,2,   208.22,2,   99.932,   0.0027,2,   -0.000,2,  -999.00,9,    0.000,2,   112.88,2,     0.16,    32.11,2,     0.05,     0.01,2,     0.01,     2.21,2,     0.01,    0.302,2,    0.147,2,    0.030,2,    0.050,2,   2262.4,2,   2358.9,2,   7.6064,       25,2, -999.000,1, -999.000,   -999.0,1,   -999.0, -999.000,9, -999.000, -999.000,9, -999.000
  49NZ20121128,   S04,    64,  1,     15, X12J15,2,20121216,2043,-62.4672, 141.0340, 4156,   2330.4,2,   0.5874,2,   0.58786,2,  34.6952,2,  34.6952,2,  34.8710,2,   211.56,2,   211.64,2,   99.928,   0.0029,2,   -0.000,2,  -999.00,9,    0.000,2,   116.53,2,     0.16,    32.36,2,     0.05,     0.01,2,     0.01,     2.23,2,     0.01,    0.389,2,    0.191,2,    0.036,2,    0.000,2,   2261.7,2,   2358.6,2,   7.6023,       25,2, -999.000,1, -999.000,   -999.0,1,   -999.0, -999.000,9, -999.000, -999.000,9, -999.000
  49NZ20121128,   S04,    64,  1,     14, X12J14,2,20121216,2043,-62.4672, 141.0340, 4156,   2581.8,2,   0.4632,2,   0.46317,2,  34.6899,2,  34.6895,2,  34.8638,2,   214.61,2,   214.53,2,   99.941,   0.0024,2,    0.000,2,  -999.00,9,    0.000,2,   119.84,2,     0.17,    32.48,2,     0.05,     0.01,2,     0.01,     2.24,2,     0.01,    0.447,2,    0.222,2,    0.033,2,    0.110,2,   2261.7,6,   2357.7,2,   7.6023,       25,2, -999.000,1, -999.000,   -999.0,1,   -999.0, -999.000,9, -999.000, -999.000,9, -999.000
  49NZ20121128,   S04,    64,  1,     13, X12J13,2,20121216,2043,-62.4672, 141.0340, 4156,   2830.6,2,   0.3577,2,   0.35788,2,  34.6856,2,  34.6849,2,  34.8592,2,   217.71,2,   217.49,2,   99.928,   0.0029,2,   -0.000,2,  -999.00,9,    0.000,2,   122.53,2,     0.17,    32.55,2,     0.05,     0.01,2,     0.01,     2.25,2,     0.01,    0.520,2,    0.260,2,    0.038,2,    0.150,2,   2261.5,2,   2358.9,6,   7.6021,       25,2, -999.000,1, -999.000,   -999.0,1,   -999.0, -999.000,9, -999.000, -999.000,9, -999.000
  49NZ20121128,   S04,    64,  1,     12, X12J12,2,20121216,2043,-62.4672, 141.0340, 4156,   3081.3,2,   0.2574,2,   0.25726,2,  34.6810,2,  34.6809,2,  34.8565,2,   220.78,2,   220.69,2,   99.903,   0.0039,2,   -0.000,2,  -999.00,9,    0.000,2,   124.43,2,     0.17,    32.56,2,     0.05,     0.01,2,     0.01,     2.24,2,     0.01,    0.626,2,    0.316,2,    0.045,2,    0.200,2,   2260.7,2,   2358.5,2,   7.6030,       25,2, -999.000,1, -999.000,   -999.0,1,   -999.0, -999.000,9, -999.000, -999.000,9, -999.000
  49NZ20121128,   S04,    64,  1,     11, X12J11,2,20121216,2043,-62.4672, 141.0340, 4156,   3329.8,2,   0.1798,2,   0.17976,2,  34.6770,2,  34.6769,2,  34.8519,2,   223.62,2,   223.54,2,   99.903,   0.0039,2,   -0.010,2,  -999.00,9,    0.000,2,   124.74,2,     0.17,    32.56,2,     0.05,     0.01,2,     0.01,     2.24,2,     0.01,    0.792,2,    0.390,2,    0.055,2,    0.180,2,   2260.9,2,   2358.2,2,   7.6026,       25,2, -999.000,1, -999.000,   -999.0,1,   -999.0, -999.000,9, -999.000, -999.000,9, -999.000
  49NZ20121128,   S04,    64,  1,     10, X12J10,2,20121216,2043,-62.4672, 141.0340, 4156,   3582.1,2,   0.0927,2,   0.09290,2,  34.6723,2,  34.6723,2,  34.8473,2,   227.26,2,   227.17,2,   99.897,   0.0041,2,   -0.000,2,  -999.00,9,    0.000,2,   124.54,2,     0.17,    32.52,2,     0.05,     0.01,2,     0.01,     2.24,2,     0.01,    0.976,2,    0.514,2,    0.076,2,    0.240,2,   2260.9,2,   2357.0,2,   7.6017,       25,2, -999.000,1, -999.000,   -999.0,1,   -999.0, -999.000,9, -999.000, -999.000,9, -999.000
  49NZ20121128,   S04,    64,  1,      9, X12J09,2,20121216,2043,-62.4672, 141.0340, 4156,   3829.6,2,  -0.0012,2,  -0.00110,2,  34.6653,2,  34.6650,2,  34.8407,2,   231.38,2,   231.58,2,   99.851,   0.0060,2,   -0.010,2,  -999.00,9,    0.000,2,   121.65,2,     0.17,    32.43,2,     0.05,     0.01,2,     0.01,     2.24,2,     0.01,    1.339,2,    0.710,2,    0.113,2,    0.330,2,   2260.6,2,   2356.5,2,   7.6016,       25,2, -999.000,1, -999.000,   -999.0,1,   -999.0, -999.000,9, -999.000, -999.000,9, -999.000
  49NZ20121128,   S04,    64,  1,      8, X12J08,2,20121216,2043,-62.4672, 141.0340, 4156,   4080.2,2,  -0.0944,2,  -0.09444,2,  34.6570,2,  34.6571,2,  34.8308,2,   235.79,2,   235.85,2,   99.706,   0.0118,2,   -0.010,2,  -999.00,9,    0.000,2,   117.91,2,     0.16,    32.29,2,     0.05,     0.01,2,     0.01,     2.23,2,     0.01,    1.735,6,    0.952,6,    0.154,6,    0.610,6,   2258.5,2,   2351.5,2,   7.5995,       25,2, -999.000,1, -999.000,   -999.0,1,   -999.0, -999.000,9, -999.000, -999.000,9, -999.000
  49NZ20121128,   S04,    64,  1,      1, X12J01,2,20121216,2043,-62.4672, 141.0340, 4156,   4221.4,2,  -0.1625,2,  -0.16241,2,  34.6496,2,  34.6493,2,  34.8255,2,   239.41,2,   239.35,2,   99.105,   0.0360,2,   -0.000,2,  -999.00,9,    0.000,2,   113.67,2,     0.16,    32.14,2,     0.05,     0.01,2,     0.01,     2.22,2,     0.01,    2.069,2,    1.133,2,    0.191,2,    0.800,2,   2258.3,2,   2352.5,2,   7.5991,       25,2, -999.000,1, -999.000,   -999.0,1,   -999.0, -999.000,9, -999.000, -999.000,9, -999.000