BOTTLE,20220819CCHSIOAMB
EXPOCODE,SECT_ID,STNNBR,CASTNO,SAMPNO,BTLNBR,BTLNBR_FLAG_W,DATE,TIME,LATITUDE,LONGITUDE,DEPTH,CTDPRS,CTDPRS_FLAG_W,CTDTMP,CTDTMP_FLAG_W,SBE35,SBE35_FLAG_W,CTDSAL,CTDSAL_FLAG_W,SALNTY,SALNTY_FLAG_W,DNSSAL,DNSSAL_FLAG_W,CTDOXY,CTDOXY_FLAG_W,OXYGEN,OXYGEN_FLAG_W,CTDXMISS,CTDXMISSCP,CTDXMISS_FLAG_W,CTDFLUOR,CTDFLUOR_FLAG_W,CHLORA,CHLORA_FLAG_W,PAR,PAR_FLAG_W,SILCAT,SILCAT_FLAG_W,SILUNC,NITRAT,NITRAT_FLAG_W,NRAUNC,NITRIT,NITRIT_FLAG_W,NRIUNC,PHSPHT,PHSPHT_FLAG_W,PHPUNC,CFC-11,CFC-11_FLAG_W,CFC-12,CFC-12_FLAG_W,CFC113,CFC113_FLAG_W,SF6,SF6_FLAG_W,TCARBN,TCARBN_FLAG_W,ALKALI,ALKALI_FLAG_W,PH_TOT,PH_TMP,PH_TOT_FLAG_W,DELC13,DELC13_FLAG_W,C13ERR,DELC14,DELC14_FLAG_W,C14ERR,CS-134,CS-134_FLAG_W,CS134ER,CS-137,CS-137_FLAG_W,CS137ER
,,,,,,,,UTC,DEG,DEG,METERS,DBAR,,ITS-90,,ITS-90,,PSS-78,,PSS-78,,G/KG,,UMOL/KG,,UMOL/KG,,%TRANS,/METER,,MG/M^3,,MG/CUM,,UE/SQM/S,,UMOL/KG,,UMOL/KG,UMOL/KG,,UMOL/KG,UMOL/KG,,UMOL/KG,UMOL/KG,,UMOL/KG,PMOL/KG,,PMOL/KG,,PMOL/KG,,FMOL/KG,,UMOL/KG,,UMOL/KG,,,DEG C,,/MILLE,,/MILLE,/MILLE,,/MILLE,MBQ/KG,,MBQ/KG,MBQ/KG,,MBQ/KG
  49NZ20121128,   S04,   410,  1,     36, X12J36,2,20121211,1749,-63.7990, 162.0068, 2904,      7.0,2,  -1.4570,2,  -1.45951,2,  33.6997,2,  33.7006,2,-999.0000,9,   338.17,2,   339.20,2,   94.280,   0.2356,2,    0.430,2,  -999.00,9,   54.718,2,    68.52,2,     0.12,    27.84,2,     0.04,     0.14,2,     0.01,     1.90,2,     0.01,    5.177,2,    2.855,2,    0.482,2, -999.000,9,   -999.0,9,   -999.0,9,-999.0000,     -999,9, -999.000,9, -999.000,   -999.0,9,   -999.0, -999.000,9, -999.000, -999.000,9, -999.000
  49NZ20121128,   S04,   410,  1,     35, X12J35,2,20121211,1749,-63.7990, 162.0068, 2904,     26.2,2,  -1.6562,2,  -1.65771,2,  34.1300,2,  34.1222,2,-999.0000,9,   302.70,2,   303.23,2,   95.686,   0.1764,2,    0.500,2,  -999.00,9,   10.806,2,    70.79,2,     0.12,    28.75,2,     0.04,     0.07,2,     0.01,     1.98,2,     0.01,    3.992,2,    2.190,2,    0.371,2, -999.000,9,   -999.0,9,   -999.0,9,-999.0000,     -999,9, -999.000,9, -999.000,   -999.0,9,   -999.0, -999.000,9, -999.000, -999.000,9, -999.000
  49NZ20121128,   S04,   410,  1,     34, X12J34,2,20121211,1749,-63.7990, 162.0068, 2904,     50.4,2,  -1.6941,2,  -1.69347,2,  34.2392,2,  34.2354,2,-999.0000,9,   287.33,2,   288.08,2,   97.098,   0.1178,2,    0.510,2,  -999.00,9,    1.692,2,    72.52,2,     0.12,    29.66,2,     0.04,     0.06,2,     0.01,     2.04,2,     0.01,    3.768,6,    2.057,6,    0.359,6, -999.000,9,   -999.0,9,   -999.0,9,-999.0000,     -999,9, -999.000,9, -999.000,   -999.0,9,   -999.0, -999.000,9, -999.000, -999.000,9, -999.000
  49NZ20121128,   S04,   410,  1,     33, X12J33,2,20121211,1749,-63.7990, 162.0068, 2904,     75.1,2,  -1.4603,2,  -1.45840,2,  34.3318,2,  34.3309,2,-999.0000,9,   274.96,2,   274.53,2,   98.966,   0.0416,2,    0.280,2,  -999.00,9,    0.399,2,    75.07,2,     0.13,    30.66,2,     0.04,     0.06,2,     0.01,     2.11,2,     0.01,    3.583,2,    1.955,2,    0.324,2, -999.000,9,   -999.0,9,   -999.0,9,-999.0000,     -999,9, -999.000,9, -999.000,   -999.0,9,   -999.0, -999.000,9, -999.000, -999.000,9, -999.000
  49NZ20121128,   S04,   410,  1,     32, X12J32,2,20121211,1749,-63.7990, 162.0068, 2904,    101.2,2,  -0.5806,2,  -0.58000,2,  34.4617,2,  34.4614,2,-999.0000,9,   249.87,2,   249.92,2,   99.540,   0.0184,2,    0.190,2,  -999.00,9,    0.100,2,    79.03,2,     0.13,    31.49,2,     0.04,     0.02,2,     0.01,     2.17,2,     0.01,    2.789,2,    1.517,2,    0.251,2, -999.000,9,   -999.0,9,   -999.0,9,-999.0000,     -999,9, -999.000,9, -999.000,   -999.0,9,   -999.0, -999.000,9, -999.000, -999.000,9, -999.000
  49NZ20121128,   S04,   410,  1,     31, X12J31,2,20121211,1749,-63.7990, 162.0068, 2904,    125.8,2,   0.0320,2,   0.04231,2,  34.5382,2,  34.5362,2,-999.0000,9,   231.76,2,   231.71,2,   99.772,   0.0091,2,    0.090,2,  -999.00,9,    0.013,2,    82.16,2,     0.13,    31.84,2,     0.04,     0.02,2,     0.01,     2.19,2,     0.01,    2.150,2,    1.172,2,    0.199,2, -999.000,9,   -999.0,9,   -999.0,9,-999.0000,     -999,9, -999.000,9, -999.000,   -999.0,9,   -999.0, -999.000,9, -999.000, -999.000,9, -999.000
  49NZ20121128,   S04,   410,  1,     30, X12J30,2,20121211,1749,-63.7990, 162.0068, 2904,    149.5,2,   0.7282,2,   0.72394,2,  34.6205,2,  34.6173,2,-999.0000,9,   210.23,2,   211.12,2,   99.889,   0.0044,2,    0.010,2,  -999.00,9,    0.000,2,    84.96,2,     0.14,    32.13,2,     0.04,     0.01,2,     0.01,     2.21,2,     0.01,    1.430,2,    0.770,2,    0.128,2, -999.000,9,   -999.0,9,   -999.0,9,-999.0000,     -999,9, -999.000,9, -999.000,   -999.0,9,   -999.0, -999.000,9, -999.000, -999.000,9, -999.000
  49NZ20121128,   S04,   410,  1,     29, X12J29,2,20121211,1749,-63.7990, 162.0068, 2904,    200.0,2,   1.1351,2,   1.13534,2,  34.6784,2,  34.6780,2,-999.0000,9,   200.18,2,   200.17,2,   99.973,   0.0011,2,    0.010,2,  -999.00,9,    0.000,2,    87.81,2,     0.14,    31.87,2,     0.04,     0.01,2,     0.01,     2.20,2,     0.01,    0.866,2,    0.451,2,    0.080,2, -999.000,9,   -999.0,9,   -999.0,9,-999.0000,     -999,9, -999.000,9, -999.000,   -999.0,9,   -999.0, -999.000,9, -999.000, -999.000,9, -999.000
  49NZ20121128,   S04,   410,  1,     28, X12J28,2,20121211,1749,-63.7990, 162.0068, 2904,    250.9,2,   1.2059,2,   1.20579,2,  34.6961,2,  34.6951,2,-999.0000,9,   194.77,2,   194.69,2,   99.952,   0.0019,2,    0.010,2,  -999.00,9,    0.000,2,    91.77,2,     0.14,    32.13,2,     0.05,     0.01,2,     0.01,     2.21,2,     0.01,    0.655,2,    0.336,2,    0.065,2, -999.000,9,   -999.0,9,   -999.0,9,-999.0000,     -999,9, -999.000,9, -999.000,   -999.0,9,   -999.0, -999.000,9, -999.000, -999.000,9, -999.000
  49NZ20121128,   S04,   410,  1,     27, X12J27,2,20121211,1749,-63.7990, 162.0068, 2904,    331.7,2,   1.2721,2,   1.27197,2,  34.7150,2,  34.7144,2,-999.0000,9,   191.17,2,   191.13,2,   99.987,   0.0005,2,    0.000,2,  -999.00,9,    0.000,2,    95.55,2,     0.14,    32.09,2,     0.04,     0.01,2,     0.01,     2.21,2,     0.01,    0.424,2,    0.207,2,    0.042,2, -999.000,9,   -999.0,9,   -999.0,9,-999.0000,     -999,9, -999.000,9, -999.000,   -999.0,9,   -999.0, -999.000,9, -999.000, -999.000,9, -999.000
  49NZ20121128,   S04,   410,  1,     26, X12J26,2,20121211,1749,-63.7990, 162.0068, 2904,    431.3,2,   1.1767,2,   1.17670,2,  34.7142,2,  34.7138,2,-999.0000,9,   196.22,2,   196.27,2,  100.002,  -0.0001,2,    0.000,2,  -999.00,9,    0.000,2,    96.90,2,     0.15,    31.80,2,     0.04,     0.01,2,     0.01,     2.19,2,     0.01,    0.430,2,    0.216,2,    0.046,2, -999.000,9,   -999.0,9,   -999.0,9,-999.0000,     -999,9, -999.000,9, -999.000,   -999.0,9,   -999.0, -999.000,9, -999.000, -999.000,9, -999.000
  49NZ20121128,   S04,   410,  1,     25, X12J25,2,20121211,1749,-63.7990, 162.0068, 2904,    531.1,2,   1.1920,2,   1.19181,2,  34.7222,2,  34.7216,2,-999.0000,9,   200.06,2,   200.24,2,   99.998,   0.0001,2,    0.000,2,  -999.00,9,    0.000,2,    97.24,2,     0.15,    31.39,2,     0.04,     0.01,2,     0.01,     2.16,2,     0.01,    0.364,2,    0.178,2,    0.033,2, -999.000,9,   -999.0,9,   -999.0,9,-999.0000,     -999,9, -999.000,9, -999.000,   -999.0,9,   -999.0, -999.000,9, -999.000, -999.000,9, -999.000
  49NZ20121128,   S04,   410,  1,     24, X12J24,2,20121211,1749,-63.7990, 162.0068, 2904,    631.7,2,   1.1004,2,   1.10042,2,  34.7194,2,  34.7197,2,-999.0000,9,   201.11,2,   201.28,2,  100.000,  -0.0000,2,    0.000,2,  -999.00,9,    0.000,2,   100.25,2,     0.15,    31.52,2,     0.04,     0.01,2,     0.01,     2.17,2,     0.01,    0.344,6,    0.169,6,    0.033,6, -999.000,9,   -999.0,9,   -999.0,9,-999.0000,     -999,9, -999.000,9, -999.000,   -999.0,9,   -999.0, -999.000,9, -999.000, -999.000,9, -999.000
  49NZ20121128,   S04,   410,  1,     23, X12J23,2,20121211,1749,-63.7990, 162.0068, 2904,    730.6,2,   1.0363,2,   1.03620,2,  34.7173,2,  34.7171,2,-999.0000,9,   201.52,2,   201.81,2,  100.019,  -0.0008,2,   -0.000,2,  -999.00,9,    0.000,2,   102.70,2,     0.15,    31.65,2,     0.04,     0.01,2,     0.01,     2.18,2,     0.01,    0.325,2,    0.159,2,    0.033,2, -999.000,9,   -999.0,9,   -999.0,9,-999.0000,     -999,9, -999.000,9, -999.000,   -999.0,9,   -999.0, -999.000,9, -999.000, -999.000,9, -999.000
  49NZ20121128,   S04,   410,  1,     22, X12J22,2,20121211,1749,-63.7990, 162.0068, 2904,    830.7,2,   0.9743,2,   0.97418,2,  34.7154,2,  34.7155,2,-999.0000,9,   200.21,2,   200.38,2,  100.029,  -0.0012,2,   -0.000,2,  -999.00,9,    0.000,2,   106.57,2,     0.15,    31.99,2,     0.04,     0.01,2,     0.01,     2.21,2,     0.01,    0.266,2,    0.126,2,    0.030,2, -999.000,9,   -999.0,9,   -999.0,9,-999.0000,     -999,9, -999.000,9, -999.000,   -999.0,9,   -999.0, -999.000,9, -999.000, -999.000,9, -999.000
  49NZ20121128,   S04,   410,  1,     21, X12J21,2,20121211,1749,-63.7990, 162.0068, 2904,    931.0,2,   0.9077,2,   0.90760,2,  34.7129,2,  34.7129,2,-999.0000,9,   201.64,2,   201.93,2,  100.010,  -0.0004,2,   -0.000,2,  -999.00,9,    0.000,2,   108.51,2,     0.16,    32.03,2,     0.04,     0.01,2,     0.01,     2.21,2,     0.01,    0.259,2,    0.127,2,    0.029,2, -999.000,9,   -999.0,9,   -999.0,9,-999.0000,     -999,9, -999.000,9, -999.000,   -999.0,9,   -999.0, -999.000,9, -999.000, -999.000,9, -999.000
  49NZ20121128,   S04,   410,  1,     20, X12J20,2,20121211,1749,-63.7990, 162.0068, 2904,   1082.0,2,   0.8028,2,   0.80277,2,  34.7084,2,  34.7085,2,-999.0000,9,   202.80,2,   203.19,2,  100.004,  -0.0002,2,   -0.000,2,  -999.00,9,    0.000,2,   112.08,2,     0.16,    32.26,2,     0.05,     0.01,2,     0.01,     2.23,2,     0.01,    0.258,2,    0.121,2,    0.032,2, -999.000,9,   -999.0,9,   -999.0,9,-999.0000,     -999,9, -999.000,9, -999.000,   -999.0,9,   -999.0, -999.000,9, -999.000, -999.000,9, -999.000
  49NZ20121128,   S04,   410,  1,     19, X12J19,2,20121211,1749,-63.7990, 162.0068, 2904,   1332.2,2,   0.6615,2,   0.66187,2,  34.7025,2,  34.7025,2,-999.0000,9,   205.64,2,   205.97,2,  100.031,  -0.0012,2,   -0.000,2,  -999.00,9,    0.000,2,   115.46,2,     0.16,    32.29,2,     0.05,     0.01,2,     0.01,     2.23,2,     0.01,    0.292,6,    0.143,6,    0.028,6, -999.000,9,   -999.0,9,   -999.0,9,-999.0000,     -999,9, -999.000,9, -999.000,   -999.0,9,   -999.0, -999.000,9, -999.000, -999.000,9, -999.000
  49NZ20121128,   S04,   410,  1,     18, X12J18,2,20121211,1749,-63.7990, 162.0068, 2904,   1582.1,2,   0.5003,2,   0.50028,2,  34.6944,2,  34.6947,2,-999.0000,9,   209.80,2,   210.23,2,  100.004,  -0.0002,2,   -0.000,2,  -999.00,9,    0.000,2,   117.04,2,     0.16,    32.37,2,     0.05,     0.01,2,     0.01,     2.24,2,     0.01,    0.421,2,    0.211,2,    0.035,2, -999.000,9,   -999.0,9,   -999.0,9,-999.0000,     -999,9, -999.000,9, -999.000,   -999.0,9,   -999.0, -999.000,9, -999.000, -999.000,9, -999.000
  49NZ20121128,   S04,   410,  1,     17, X12J17,2,20121211,1749,-63.7990, 162.0068, 2904,   1830.9,2,   0.3720,2,   0.37196,2,  34.6893,2,  34.6898,2,-999.0000,9,   213.32,2,   213.73,2,  100.004,  -0.0002,2,   -0.000,2,  -999.00,9,    0.000,2,   118.17,2,     0.16,    32.41,2,     0.05,     0.01,2,     0.01,     2.24,2,     0.01, -999.000,5, -999.000,5, -999.000,5, -999.000,9,   -999.0,9,   -999.0,9,-999.0000,     -999,9, -999.000,9, -999.000,   -999.0,9,   -999.0, -999.000,9, -999.000, -999.000,9, -999.000
  49NZ20121128,   S04,   410,  1,     16, X12J16,2,20121211,1749,-63.7990, 162.0068, 2904,   2082.1,2,   0.2528,2,   0.25281,2,  34.6846,2,  34.6849,2,-999.0000,9,   216.95,2,   217.37,2,   99.996,   0.0002,2,   -0.000,2,  -999.00,9,    0.000,2,   118.51,2,     0.17,    32.41,2,     0.05,     0.01,2,     0.01,     2.24,2,     0.01,    0.715,2,    0.362,2,    0.061,2, -999.000,9,   -999.0,9,   -999.0,9,-999.0000,     -999,9, -999.000,9, -999.000,   -999.0,9,   -999.0, -999.000,9, -999.000, -999.000,9, -999.000
  49NZ20121128,   S04,   410,  1,     15, X12J15,2,20121211,1749,-63.7990, 162.0068, 2904,   2331.8,2,   0.1350,2,   0.13504,2,  34.6793,2,  34.6794,2,-999.0000,9,   221.16,2,   221.70,2,   99.973,   0.0011,2,   -0.000,2,  -999.00,9,    0.000,2,   117.07,2,     0.16,    32.39,2,     0.05,     0.01,2,     0.01,     2.23,2,     0.01,    0.983,2,    0.508,2,    0.078,2, -999.000,9,   -999.0,9,   -999.0,9,-999.0000,     -999,9, -999.000,9, -999.000,   -999.0,9,   -999.0, -999.000,9, -999.000, -999.000,9, -999.000
  49NZ20121128,   S04,   410,  1,     14, X12J14,2,20121211,1749,-63.7990, 162.0068, 2904,   2582.4,2,   0.0065,2,   0.00662,2,  34.6726,2,  34.6727,2,-999.0000,9,   226.28,2,   226.83,2,   99.929,   0.0028,2,   -0.010,2,  -999.00,9,    0.000,2,   114.31,2,     0.16,    32.31,2,     0.05,     0.01,2,     0.01,     2.23,2,     0.01,    1.348,2,    0.701,2,    0.106,2, -999.000,9,   -999.0,9,   -999.0,9,-999.0000,     -999,9, -999.000,9, -999.000,   -999.0,9,   -999.0, -999.000,9, -999.000, -999.000,9, -999.000
  49NZ20121128,   S04,   410,  1,     13, X12J13,2,20121211,1749,-63.7990, 162.0068, 2904,   2830.0,2,  -0.0383,2,  -0.03827,2,  34.6702,2,  34.6700,2,-999.0000,9,   228.61,2,   229.16,2,   99.849,   0.0060,2,   -0.000,2,  -999.00,9,    0.000,2,   110.58,2,     0.16,    32.23,2,     0.05,     0.01,2,     0.01,     2.23,2,     0.01,    1.589,2,    0.836,2,    0.135,2, -999.000,9,   -999.0,9,   -999.0,9,-999.0000,     -999,9, -999.000,9, -999.000,   -999.0,9,   -999.0, -999.000,9, -999.000, -999.000,9, -999.000
  49NZ20121128,   S04,   410,  1,      1, X12J01,2,20121211,1749,-63.7990, 162.0068, 2904,   2930.9,2,  -0.0349,2,  -0.03489,2,  34.6702,2,  34.6703,2,-999.0000,9,   228.84,2,   229.49,2,   99.814,   0.0074,2,   -0.000,2,  -999.00,9,    0.000,2,   109.57,2,     0.16,    32.21,2,     0.05,     0.01,2,     0.01,     2.23,2,     0.01,    1.636,2,    0.861,2,    0.128,2, -999.000,9,   -999.0,9,   -999.0,9,-999.0000,     -999,9, -999.000,9, -999.000,   -999.0,9,   -999.0, -999.000,9, -999.000, -999.000,9, -999.000