BOTTLE,20220819CCHSIOAMB
EXPOCODE,SECT_ID,STNNBR,CASTNO,SAMPNO,BTLNBR,BTLNBR_FLAG_W,DATE,TIME,LATITUDE,LONGITUDE,DEPTH,CTDPRS,CTDPRS_FLAG_W,CTDTMP,CTDTMP_FLAG_W,SBE35,SBE35_FLAG_W,CTDSAL,CTDSAL_FLAG_W,SALNTY,SALNTY_FLAG_W,DNSSAL,DNSSAL_FLAG_W,CTDOXY,CTDOXY_FLAG_W,OXYGEN,OXYGEN_FLAG_W,CTDXMISS,CTDXMISSCP,CTDXMISS_FLAG_W,CTDFLUOR,CTDFLUOR_FLAG_W,CHLORA,CHLORA_FLAG_W,PAR,PAR_FLAG_W,SILCAT,SILCAT_FLAG_W,SILUNC,NITRAT,NITRAT_FLAG_W,NRAUNC,NITRIT,NITRIT_FLAG_W,NRIUNC,PHSPHT,PHSPHT_FLAG_W,PHPUNC,CFC-11,CFC-11_FLAG_W,CFC-12,CFC-12_FLAG_W,CFC113,CFC113_FLAG_W,SF6,SF6_FLAG_W,TCARBN,TCARBN_FLAG_W,ALKALI,ALKALI_FLAG_W,PH_TOT,PH_TMP,PH_TOT_FLAG_W,DELC13,DELC13_FLAG_W,C13ERR,DELC14,DELC14_FLAG_W,C14ERR,CS-134,CS-134_FLAG_W,CS134ER,CS-137,CS-137_FLAG_W,CS137ER
,,,,,,,,UTC,DEG,DEG,METERS,DBAR,,ITS-90,,ITS-90,,PSS-78,,PSS-78,,G/KG,,UMOL/KG,,UMOL/KG,,%TRANS,/METER,,MG/M^3,,MG/CUM,,UE/SQM/S,,UMOL/KG,,UMOL/KG,UMOL/KG,,UMOL/KG,UMOL/KG,,UMOL/KG,UMOL/KG,,UMOL/KG,PMOL/KG,,PMOL/KG,,PMOL/KG,,FMOL/KG,,UMOL/KG,,UMOL/KG,,,DEG C,,/MILLE,,/MILLE,/MILLE,,/MILLE,MBQ/KG,,MBQ/KG,MBQ/KG,,MBQ/KG
  49NZ20121128,   S04,    73,  1,     36, X12J36,2,20121221,1028,-62.0142, 128.5233, 4366,      5.0,2,   0.5940,2,   0.59532,2,  33.7553,2,  33.7584,2,-999.0000,9,   353.72,2,   354.28,2,   94.288,   0.2353,2,    0.550,2,     0.58,2,   16.811,2,    18.93,2,     0.08,    24.42,2,     0.04,     0.26,2,     0.01,     1.55,2,     0.01,    6.004,2,    3.315,2,    0.708,2,    3.053,2,   2142.8,2,   2283.7,2,   7.7283,       25,6, -999.000,9, -999.000,   -999.0,9,   -999.0, -999.000,9, -999.000, -999.000,9, -999.000
  49NZ20121128,   S04,    73,  1,     35, X12J35,2,20121221,1028,-62.0142, 128.5233, 4366,     25.1,2,   0.0913,2,   0.09111,2,  33.7830,2,  33.7834,2,-999.0000,9,   361.04,2,   359.75,2,   91.023,   0.3762,2,    1.160,2,     1.15,2,    2.368,2,    19.61,2,     0.08,    24.46,2,     0.04,     0.24,2,     0.01,     1.58,3,     0.01,    6.055,2,    3.343,2,    0.710,2,    3.056,2,   2143.0,2,   2284.5,2,   7.7303,       25,2, -999.000,9, -999.000,   -999.0,9,   -999.0, -999.000,9, -999.000, -999.000,9, -999.000
  49NZ20121128,   S04,    73,  1,     34, X12J34,2,20121221,1028,-62.0142, 128.5233, 4366,     50.2,2,  -0.2309,2,  -0.23137,2,  33.7889,2,  33.7929,2,-999.0000,9,   357.51,2,   356.04,2,   91.812,   0.3417,2,    1.580,2,     1.48,2,    0.204,2,    22.66,2,     0.08,    25.22,2,     0.04,     0.23,2,     0.01,     1.72,2,     0.01,    6.048,6,    3.361,6,    0.707,6,    3.082,6,   2149.6,2,   2285.1,2,   7.7145,       25,2, -999.000,9, -999.000,   -999.0,9,   -999.0, -999.000,9, -999.000, -999.000,9, -999.000
  49NZ20121128,   S04,    73,  1,     33, X12J33,2,20121221,1028,-62.0142, 128.5233, 4366,     75.0,2,  -1.4260,2,  -1.42590,2,  33.9232,2,  33.9261,2,-999.0000,9,   336.70,2,   336.11,2,   98.784,   0.0489,2,    0.260,2,     0.23,2,    0.007,2,    39.32,2,     0.09,    29.12,2,     0.04,     0.19,2,     0.01,     2.04,2,     0.01,    5.692,2,    3.151,2,    0.689,2,    2.852,2,   2182.1,6,   2290.4,2,   7.6465,       25,2, -999.000,9, -999.000,   -999.0,9,   -999.0, -999.000,9, -999.000, -999.000,9, -999.000
  49NZ20121128,   S04,    73,  1,     32, X12J32,2,20121221,1028,-62.0142, 128.5233, 4366,    100.1,2,  -1.0822,2,  -1.07788,2,  33.9983,2,  34.0063,2,-999.0000,9,   318.84,2,   314.83,2,   99.119,   0.0354,2,    0.190,2,     0.15,2,    0.000,2,    42.79,2,     0.10,    30.40,2,     0.04,     0.16,2,     0.01,     2.11,2,     0.01,    5.212,2,    2.897,2,    0.642,2,    2.555,2,   2191.0,2,   2294.7,6,   7.6292,       25,2, -999.000,9, -999.000,   -999.0,9,   -999.0, -999.000,9, -999.000, -999.000,9, -999.000
  49NZ20121128,   S04,    73,  1,     31, X12J31,2,20121221,1028,-62.0142, 128.5233, 4366,    125.0,2,   0.3309,2,   0.31740,2,  34.1840,2,  34.1933,2,-999.0000,9,   259.99,2,   253.01,2,   99.338,   0.0266,2,    0.110,2,     0.07,2,    0.000,2,    51.75,2,     0.11,    33.04,2,     0.05,     0.03,2,     0.01,     2.27,2,     0.01,    3.686,2,    2.003,2,    0.444,2,    1.712,2,   2217.9,2,   2304.7,2,   7.5870,       25,2, -999.000,9, -999.000,   -999.0,9,   -999.0, -999.000,9, -999.000, -999.000,9, -999.000
  49NZ20121128,   S04,    73,  1,     30, X12J30,2,20121221,1028,-62.0142, 128.5233, 4366,    150.1,2,   1.3193,2,   1.30810,2,  34.3264,2,  34.3203,2,-999.0000,9,   218.01,2,   218.48,2,   99.565,   0.0174,2,    0.050,2,     0.04,2,    0.000,2,    58.87,2,     0.11,    34.33,2,     0.05,     0.03,2,     0.01,     2.36,2,     0.01,    2.651,2,    1.428,2,    0.290,2,    1.021,2,   2234.4,2,   2312.7,2,   7.5623,       25,6, -999.000,9, -999.000,   -999.0,9,   -999.0, -999.000,9, -999.000, -999.000,9, -999.000
  49NZ20121128,   S04,    73,  1,     29, X12J29,2,20121221,1028,-62.0142, 128.5233, 4366,    200.4,2,   1.9490,2,   1.94816,2,  34.4557,2,  34.4552,2,-999.0000,9,   187.34,2,   187.23,2,   99.561,   0.0176,2,    0.040,2,     0.02,2,    0.000,2,    67.06,2,     0.12,    35.11,2,     0.05,     0.02,2,     0.01,     2.41,2,     0.01,    1.673,2,    0.848,2,    0.143,2,    0.558,2,   2249.2,2,   2322.7,2,   7.5460,       25,2, -999.000,9, -999.000,   -999.0,9,   -999.0, -999.000,9, -999.000, -999.000,9, -999.000
  49NZ20121128,   S04,    73,  1,     28, X12J28,2,20121221,1028,-62.0142, 128.5233, 4366,    249.8,2,   2.0470,2,   2.04605,2,  34.5216,2,  34.5205,2,-999.0000,9,   179.94,2,   179.73,2,   99.561,   0.0176,2,    0.020,2,     0.02,2,    0.000,2,    70.86,2,     0.12,    34.84,2,     0.05,     0.02,2,     0.01,     2.39,2,     0.01,    1.216,2,    0.632,2,    0.099,2,    0.384,2,   2254.2,2,   2329.6,2,   7.5482,       25,2, -999.000,9, -999.000,   -999.0,9,   -999.0, -999.000,9, -999.000, -999.000,9, -999.000
  49NZ20121128,   S04,    73,  1,     27, X12J27,2,20121221,1028,-62.0142, 128.5233, 4366,    330.5,2,   2.1095,2,   2.10914,2,  34.5835,2,  34.5831,2,-999.0000,9,   176.56,2,   176.22,2,   99.677,   0.0129,2,    0.010,2,  -999.00,9,    0.000,2,    73.95,2,     0.13,    34.27,2,     0.05,     0.02,2,     0.01,     2.35,2,     0.01,    0.855,2,    0.448,2,    0.063,2,    0.300,2,   2255.4,2,   2333.2,2,   7.5549,       25,2, -999.000,9, -999.000,   -999.0,9,   -999.0, -999.000,9, -999.000, -999.000,9, -999.000
  49NZ20121128,   S04,    73,  1,     26, X12J26,2,20121221,1028,-62.0142, 128.5233, 4366,    431.3,2,   2.0609,2,   2.06017,2,  34.6372,2,  34.6378,2,-999.0000,9,   177.84,2,   177.54,2,   99.820,   0.0072,2,    0.010,2,  -999.00,9,    0.000,2,    76.70,2,     0.13,    33.42,2,     0.05,     0.01,2,     0.01,     2.30,2,     0.01,    0.650,2,    0.340,2,    0.046,2,    0.175,2,   2256.5,2,   2335.4,2,   7.5659,       25,2, -999.000,9, -999.000,   -999.0,9,   -999.0, -999.000,9, -999.000, -999.000,9, -999.000
  49NZ20121128,   S04,    73,  1,     25, X12J25,2,20121221,1028,-62.0142, 128.5233, 4366,    530.4,2,   2.0167,2,   2.01616,2,  34.6705,2,  34.6705,2,-999.0000,9,   179.95,2,   179.76,2,   99.788,   0.0085,2,    0.010,2,  -999.00,9,    0.000,2,    78.53,2,     0.13,    32.80,2,     0.05,     0.01,2,     0.01,     2.24,2,     0.01,    0.540,2,    0.279,2,    0.036,2,    0.171,2,   2255.1,2,   2339.7,2,   7.5746,       25,2, -999.000,9, -999.000,   -999.0,9,   -999.0, -999.000,9, -999.000, -999.000,9, -999.000
  49NZ20121128,   S04,    73,  1,     24, X12J24,2,20121221,1028,-62.0142, 128.5233, 4366,    631.5,2,   1.9508,2,   1.95065,2,  34.6947,2,  34.6943,2,-999.0000,9,   182.46,2,   182.39,2,   99.843,   0.0063,2,    0.010,2,  -999.00,9,    0.000,2,    80.73,2,     0.13,    32.35,2,     0.05,     0.01,2,     0.01,     2.21,2,     0.01,    0.446,6,    0.232,6,    0.030,6,    0.159,6,   2254.1,2,   2343.0,2,   7.5813,       25,2, -999.000,9, -999.000,   -999.0,9,   -999.0, -999.000,9, -999.000, -999.000,9, -999.000
  49NZ20121128,   S04,    73,  1,     23, X12J23,2,20121221,1028,-62.0142, 128.5233, 4366,    729.8,2,   1.9861,2,   1.98642,2,  34.7208,2,  34.7205,2,-999.0000,9,   186.56,2,   186.67,2,   99.898,   0.0041,2,    0.010,2,  -999.00,9,    0.000,2,    80.90,2,     0.13,    31.52,2,     0.04,     0.01,2,     0.01,     2.16,2,     0.01,    0.301,2,    0.146,2,    0.017,2,    0.000,2,   2251.1,6,   2345.4,2,   7.5962,       25,2, -999.000,9, -999.000,   -999.0,9,   -999.0, -999.000,9, -999.000, -999.000,9, -999.000
  49NZ20121128,   S04,    73,  1,     22, X12J22,2,20121221,1028,-62.0142, 128.5233, 4366,    830.0,2,   1.9243,2,   1.92467,2,  34.7311,2,  34.7309,2,-999.0000,9,   189.44,2,   189.41,2,   99.911,   0.0036,2,    0.000,2,  -999.00,9,    0.000,2,    82.49,2,     0.13,    31.19,2,     0.04,     0.01,2,     0.01,     2.14,2,     0.01,    0.587,4,    0.147,4,    0.012,4,    0.000,4,   2250.0,2,   2345.9,6,   7.6028,       25,2, -999.000,9, -999.000,   -999.0,9,   -999.0, -999.000,9, -999.000, -999.000,9, -999.000
  49NZ20121128,   S04,    73,  1,     21, X12J21,2,20121221,1028,-62.0142, 128.5233, 4366,    929.3,2,   1.8587,2,   1.85826,2,  34.7382,2,  34.7380,2,-999.0000,9,   192.03,2,   192.05,2,   99.902,   0.0039,2,    0.010,2,  -999.00,9,    0.000,2,    84.18,2,     0.13,    30.96,2,     0.04,     0.01,2,     0.01,     2.13,2,     0.01, -999.000,5, -999.000,5, -999.000,5, -999.000,5,   2251.0,2,   2348.0,2,   7.6081,       25,2, -999.000,9, -999.000,   -999.0,9,   -999.0, -999.000,9, -999.000, -999.000,9, -999.000
  49NZ20121128,   S04,    73,  1,     20, X12J20,2,20121221,1028,-62.0142, 128.5233, 4366,   1080.1,2,   1.7340,2,   1.73373,2,  34.7435,2,  34.7434,2,-999.0000,9,   195.21,2,   195.36,2,   99.949,   0.0020,2,    0.000,2,  -999.00,9,    0.000,2,    87.51,2,     0.14,    30.79,2,     0.04,     0.01,2,     0.01,     2.12,2,     0.01,    0.384,4,    0.090,4,    0.009,4,    0.000,4,   2251.0,2,   2349.5,2,   7.6128,       25,2, -999.000,9, -999.000,   -999.0,9,   -999.0, -999.000,9, -999.000, -999.000,9, -999.000
  49NZ20121128,   S04,    73,  1,     19, X12J19,2,20121221,1028,-62.0142, 128.5233, 4366,   1329.9,2,   1.5020,2,   1.50270,2,  34.7403,2,  34.7394,2,-999.0000,9,   199.08,2,   199.21,2,   99.921,   0.0032,2,    0.000,2,  -999.00,9,    0.000,2,    93.42,2,     0.14,    30.92,2,     0.04,     0.01,2,     0.01,     2.13,2,     0.01,    0.324,4,    0.076,4,    0.008,4,    0.000,4,   2252.6,2,   2352.4,2,   7.6145,       25,2, -999.000,9, -999.000,   -999.0,9,   -999.0, -999.000,9, -999.000, -999.000,9, -999.000
  49NZ20121128,   S04,    73,  1,     18, X12J18,2,20121221,1028,-62.0142, 128.5233, 4366,   1580.4,2,   1.2994,2,   1.29953,2,  34.7324,2,  34.7323,2,-999.0000,9,   201.45,2,   201.39,2,   99.970,   0.0012,2,   -0.000,2,  -999.00,9,    0.000,2,    99.10,2,     0.15,    31.21,2,     0.04,     0.01,2,     0.01,     2.15,2,     0.01,    0.321,4,    0.091,4,    0.007,4,    0.000,4,   2254.5,2,   2354.5,2,   7.6130,       25,2, -999.000,9, -999.000,   -999.0,9,   -999.0, -999.000,9, -999.000, -999.000,9, -999.000
  49NZ20121128,   S04,    73,  1,     17, X12J17,2,20121221,1028,-62.0142, 128.5233, 4366,   1829.6,2,   1.0957,2,   1.09566,2,  34.7230,2,  34.7230,2,-999.0000,9,   204.02,2,   203.95,2,   99.966,   0.0014,2,   -0.000,2,  -999.00,9,    0.000,2,   105.29,2,     0.15,    31.57,2,     0.04,     0.01,2,     0.01,     2.18,2,     0.01,    0.328,4,    0.088,4,    0.009,4,    0.000,4,   2256.6,2,   2356.2,2,   7.6116,       25,6, -999.000,9, -999.000,   -999.0,9,   -999.0, -999.000,9, -999.000, -999.000,9, -999.000
  49NZ20121128,   S04,    73,  1,     16, X12J16,2,20121221,1028,-62.0142, 128.5233, 4366,   2079.6,2,   0.9026,2,   0.90275,2,  34.7128,2,  34.7127,2,-999.0000,9,   206.48,2,   206.45,2,   99.975,   0.0010,2,   -0.000,2,  -999.00,9,    0.000,2,   110.61,2,     0.16,    31.91,2,     0.04,     0.01,2,     0.01,     2.20,2,     0.01,    0.353,4,    0.098,4,    0.010,4,    0.000,4,   2259.0,2,   2357.5,2,   7.6078,       25,2, -999.000,9, -999.000,   -999.0,9,   -999.0, -999.000,9, -999.000, -999.000,9, -999.000
  49NZ20121128,   S04,    73,  1,     15, X12J15,2,20121221,1028,-62.0142, 128.5233, 4366,   2331.6,2,   0.7214,2,   0.72178,2,  34.7030,2,  34.7025,2,-999.0000,9,   209.28,2,   209.25,2,   99.972,   0.0011,2,   -0.000,2,  -999.00,9,    0.000,2,   115.18,2,     0.16,    32.19,2,     0.05,     0.01,2,     0.01,     2.22,2,     0.01,    0.418,4,    0.124,4,    0.012,4,    0.000,4,   2261.1,2,   2357.6,2,   7.6050,       25,2, -999.000,9, -999.000,   -999.0,9,   -999.0, -999.000,9, -999.000, -999.000,9, -999.000
  49NZ20121128,   S04,    73,  1,     14, X12J14,2,20121221,1028,-62.0142, 128.5233, 4366,   2579.7,2,   0.5534,2,   0.55335,2,  34.6945,2,  34.6944,2,-999.0000,9,   212.80,2,   212.66,2,   99.985,   0.0006,2,   -0.000,2,  -999.00,9,    0.000,2,   119.15,2,     0.17,    32.41,2,     0.05,     0.01,2,     0.01,     2.23,2,     0.01,    0.508,4,    0.160,4,    0.016,4,    0.000,4,   2261.1,6,   2357.2,2,   7.6030,       25,2, -999.000,9, -999.000,   -999.0,9,   -999.0, -999.000,9, -999.000, -999.000,9, -999.000
  49NZ20121128,   S04,    73,  1,     13, X12J13,2,20121221,1028,-62.0142, 128.5233, 4366,   2828.6,2,   0.4111,2,   0.41118,2,  34.6883,2,  34.6878,2,-999.0000,9,   216.61,2,   216.36,2,   99.960,   0.0016,2,   -0.000,2,  -999.00,9,    0.000,2,   122.66,2,     0.17,    32.49,2,     0.05,     0.01,2,     0.01,     2.24,2,     0.01,    0.502,4,    0.213,4,    0.021,4,    0.000,4,   2260.2,2,   2357.2,6,   7.6027,       25,2, -999.000,9, -999.000,   -999.0,9,   -999.0, -999.000,9, -999.000, -999.000,9, -999.000
  49NZ20121128,   S04,    73,  1,     12, X12J12,2,20121221,1028,-62.0142, 128.5233, 4366,   3081.7,2,   0.3036,2,   0.30362,2,  34.6826,2,  34.6824,2,-999.0000,9,   219.87,2,   219.82,2,   99.947,   0.0021,2,   -0.000,2,  -999.00,9,    0.000,2,   124.10,2,     0.17,    32.55,2,     0.05,     0.01,2,     0.01,     2.25,2,     0.01,    0.647,4,    0.277,4,    0.027,4,    0.117,4,   2261.1,2,   2357.4,2,   7.6018,       25,6, -999.000,9, -999.000,   -999.0,9,   -999.0, -999.000,9, -999.000, -999.000,9, -999.000
  49NZ20121128,   S04,    73,  1,     11, X12J11,2,20121221,1028,-62.0142, 128.5233, 4366,   3329.1,2,   0.2284,2,   0.22867,2,  34.6796,2,  34.6793,2,-999.0000,9,   222.34,2,   222.24,2,   99.945,   0.0022,2,   -0.000,2,  -999.00,9,    0.000,2,   126.21,2,     0.17,    32.57,2,     0.05,     0.01,2,     0.01,     2.25,2,     0.01,    0.759,4,    0.315,4,    0.032,4,    0.094,4,   2260.0,2,   2358.3,3,   7.6021,       25,2, -999.000,9, -999.000,   -999.0,9,   -999.0, -999.000,9, -999.000, -999.000,9, -999.000
  49NZ20121128,   S04,    73,  1,     10, X12J10,2,20121221,1028,-62.0142, 128.5233, 4366,   3580.2,2,   0.1561,2,   0.15619,2,  34.6763,2,  34.6762,2,-999.0000,9,   225.16,2,   225.00,2,   99.945,   0.0022,2,   -0.000,2,  -999.00,9,    0.000,2,   127.66,2,     0.17,    32.57,2,     0.05,     0.01,2,     0.01,     2.25,2,     0.01,    0.916,4,    0.378,4,    0.041,4,    0.108,4,   2259.3,2,   2356.4,2,   7.6037,       25,2, -999.000,9, -999.000,   -999.0,9,   -999.0, -999.000,9, -999.000, -999.000,9, -999.000
  49NZ20121128,   S04,    73,  1,      9, X12J09,2,20121221,1028,-62.0142, 128.5233, 4366,   3830.5,2,   0.0699,2,   0.07081,2,  34.6708,2,  34.6706,2,-999.0000,9,   228.71,2,   228.86,2,   99.928,   0.0029,2,   -0.010,2,  -999.00,9,    0.000,2,   125.83,2,     0.17,    32.49,2,     0.05,     0.01,2,     0.01,     2.24,2,     0.01,    1.245,4,    0.523,4,    0.061,4,    0.184,4,   2259.1,2,   2355.5,2,   7.6024,       25,2, -999.000,9, -999.000,   -999.0,9,   -999.0, -999.000,9, -999.000, -999.000,9, -999.000
  49NZ20121128,   S04,    73,  1,      8, X12J08,2,20121221,1028,-62.0142, 128.5233, 4366,   4080.5,2,  -0.0034,2,  -0.00335,2,  34.6648,2,  34.6645,2,-999.0000,9,   232.33,2,   232.14,2,   99.890,   0.0044,2,   -0.010,2,  -999.00,9,    0.000,2,   124.24,2,     0.17,    32.39,2,     0.05,     0.01,2,     0.01,     2.24,2,     0.01,    1.615,4,    0.679,4,    0.087,4,    0.298,4,   2259.3,2,   2354.2,2,   7.6019,       25,2, -999.000,9, -999.000,   -999.0,9,   -999.0, -999.000,9, -999.000, -999.000,9, -999.000
  49NZ20121128,   S04,    73,  1,      7, X12J07,2,20121221,1028,-62.0142, 128.5233, 4366,   4329.8,2,  -0.1333,2,  -0.13323,2,  34.6521,2,  34.6518,2,-999.0000,9,   237.89,2,   237.95,2,   99.731,   0.0108,2,   -0.010,2,  -999.00,9,    0.000,2,   123.17,2,     0.17,    32.23,2,     0.05,     0.01,2,     0.01,     2.23,2,     0.01,    2.348,4,    0.981,4,    0.146,4,    0.481,4,   2257.7,6,   2352.7,2,   7.5997,       25,2, -999.000,9, -999.000,   -999.0,9,   -999.0, -999.000,9, -999.000, -999.000,9, -999.000
  49NZ20121128,   S04,    73,  1,      1, X12J01,2,20121221,1028,-62.0142, 128.5233, 4366,   4442.9,2,  -0.1544,2,  -0.15443,2,  34.6486,2,  34.6491,2,-999.0000,9,   238.99,2,   238.79,2,   99.508,   0.0197,2,   -0.000,2,  -999.00,9,    0.000,2,   125.23,2,     0.17,    32.27,2,     0.05,     0.01,2,     0.01,     2.23,2,     0.01,    2.446,4,    1.023,4,    0.154,4,    0.590,4,   2258.3,2,   2351.2,2,   7.5987,       25,2, -999.000,9, -999.000,   -999.0,9,   -999.0, -999.000,9, -999.000, -999.000,9, -999.000