BOTTLE,20220819CCHSIOAMB
EXPOCODE,SECT_ID,STNNBR,CASTNO,SAMPNO,BTLNBR,BTLNBR_FLAG_W,DATE,TIME,LATITUDE,LONGITUDE,DEPTH,CTDPRS,CTDPRS_FLAG_W,CTDTMP,CTDTMP_FLAG_W,SBE35,SBE35_FLAG_W,CTDSAL,CTDSAL_FLAG_W,SALNTY,SALNTY_FLAG_W,DNSSAL,DNSSAL_FLAG_W,CTDOXY,CTDOXY_FLAG_W,OXYGEN,OXYGEN_FLAG_W,CTDXMISS,CTDXMISSCP,CTDXMISS_FLAG_W,CTDFLUOR,CTDFLUOR_FLAG_W,CHLORA,CHLORA_FLAG_W,PAR,PAR_FLAG_W,SILCAT,SILCAT_FLAG_W,SILUNC,NITRAT,NITRAT_FLAG_W,NRAUNC,NITRIT,NITRIT_FLAG_W,NRIUNC,PHSPHT,PHSPHT_FLAG_W,PHPUNC,CFC-11,CFC-11_FLAG_W,CFC-12,CFC-12_FLAG_W,CFC113,CFC113_FLAG_W,SF6,SF6_FLAG_W,TCARBN,TCARBN_FLAG_W,ALKALI,ALKALI_FLAG_W,PH_TOT,PH_TMP,PH_TOT_FLAG_W,DELC13,DELC13_FLAG_W,C13ERR,DELC14,DELC14_FLAG_W,C14ERR,CS-134,CS-134_FLAG_W,CS134ER,CS-137,CS-137_FLAG_W,CS137ER
,,,,,,,,UTC,DEG,DEG,METERS,DBAR,,ITS-90,,ITS-90,,PSS-78,,PSS-78,,G/KG,,UMOL/KG,,UMOL/KG,,%TRANS,/METER,,MG/M^3,,MG/CUM,,UE/SQM/S,,UMOL/KG,,UMOL/KG,UMOL/KG,,UMOL/KG,UMOL/KG,,UMOL/KG,UMOL/KG,,UMOL/KG,PMOL/KG,,PMOL/KG,,PMOL/KG,,FMOL/KG,,UMOL/KG,,UMOL/KG,,,DEG C,,/MILLE,,/MILLE,/MILLE,,/MILLE,MBQ/KG,,MBQ/KG,MBQ/KG,,MBQ/KG
  49NZ20121128,  P14S,    21,  1,     36, X12J36,2,20121208,1613,-62.0138, 173.3030, 4330,      5.2,2,   3.7521,2,   3.75326,2,  33.9495,2,  33.9500,2,-999.0000,9,   323.36,2,   323.34,2,   95.636,   0.1785,2,    0.390,2,  -999.00,9,   77.282,2,     5.99,2,     0.06,    23.04,2,     0.04,     0.20,2,     0.01,     1.56,2,     0.01,    4.953,2,    2.810,2,    0.457,2,    2.483,2,   2128.1,2,   2279.0,2,   7.7519,       25,6, -999.000,9, -999.000,   -999.0,9,   -999.0, -999.000,9, -999.000, -999.000,9, -999.000
  49NZ20121128,  P14S,    21,  1,     35, X12J35,2,20121208,1613,-62.0138, 173.3030, 4330,     25.2,2,   3.7323,2,   3.73199,2,  33.9480,2,  33.9485,2,-999.0000,9,   323.64,2,   323.68,2,   95.548,   0.1822,2,    0.620,2,  -999.00,9,   12.603,2,     5.96,2,     0.06,    23.07,2,     0.04,     0.20,2,     0.01,     1.58,2,     0.01,    4.961,2,    2.790,2,    0.456,2,    2.443,2,   2129.1,2,   2276.6,2,   7.7520,       25,2, -999.000,9, -999.000,   -999.0,9,   -999.0, -999.000,9, -999.000, -999.000,9, -999.000
  49NZ20121128,  P14S,    21,  1,     34, X12J34,2,20121208,1613,-62.0138, 173.3030, 4330,     49.7,2,   3.0373,2,   3.03828,2,  33.9427,2,  33.9418,2,-999.0000,9,   326.51,2,   327.06,2,   91.965,   0.3350,2,    1.740,2,  -999.00,9,    1.720,2,     6.53,2,     0.06,    23.82,2,     0.04,     0.19,2,     0.01,     1.66,2,     0.01,    5.027,6,    2.838,6,    0.460,6,    2.473,6,   2133.3,2,   2278.9,2,   7.7412,       25,2, -999.000,9, -999.000,   -999.0,9,   -999.0, -999.000,9, -999.000, -999.000,9, -999.000
  49NZ20121128,  P14S,    21,  1,     33, X12J33,2,20121208,1613,-62.0138, 173.3030, 4330,     75.3,2,   3.0560,2,   3.05637,2,  33.9622,2,  33.9626,2,-999.0000,9,   318.99,2,   318.87,2,   97.206,   0.1134,2,    0.490,2,  -999.00,9,    0.423,2,     9.87,2,     0.07,    24.44,2,     0.04,     0.20,2,     0.01,     1.70,2,     0.01,    4.972,2,    2.796,2,    0.457,2,    2.488,2,   2140.4,6,   2277.7,2,   7.7251,       25,2, -999.000,9, -999.000,   -999.0,9,   -999.0, -999.000,9, -999.000, -999.000,9, -999.000
  49NZ20121128,  P14S,    21,  1,     32, X12J32,2,20121208,1613,-62.0138, 173.3030, 4330,    100.9,2,   2.8949,2,   2.89475,2,  33.9570,2,  33.9575,2,-999.0000,9,   315.78,2,   315.77,2,   98.902,   0.0442,2,    0.190,2,  -999.00,9,    0.045,2,    11.53,2,     0.07,    25.06,2,     0.04,     0.22,2,     0.01,     1.76,2,     0.01,    4.893,2,    2.689,2,    0.443,2,    2.474,2,   2143.6,2,   2277.1,6,   7.7143,       25,2, -999.000,9, -999.000,   -999.0,9,   -999.0, -999.000,9, -999.000, -999.000,9, -999.000
  49NZ20121128,  P14S,    21,  1,     31, X12J31,2,20121208,1613,-62.0138, 173.3030, 4330,    124.9,2,   2.6301,2,   2.62870,2,  33.9319,2,  33.9320,2,-999.0000,9,   318.27,2,   318.12,2,   99.328,   0.0270,2,    0.130,2,  -999.00,9,    0.000,2,    12.34,2,     0.07,    25.52,2,     0.04,     0.23,2,     0.01,     1.79,2,     0.01,    4.983,2,    2.726,2,    0.473,2,    2.540,2,   2143.8,2,   2276.3,2,   7.7107,       25,2, -999.000,9, -999.000,   -999.0,9,   -999.0, -999.000,9, -999.000, -999.000,9, -999.000
  49NZ20121128,  P14S,    21,  1,     30, X12J30,2,20121208,1613,-62.0138, 173.3030, 4330,    149.2,2,   2.8130,2,   2.81260,2,  33.9567,2,  33.9568,2,-999.0000,9,   314.74,2,   314.53,2,   99.378,   0.0250,2,    0.100,2,  -999.00,9,    0.000,2,    12.20,2,     0.07,    25.42,2,     0.04,     0.27,2,     0.01,     1.78,2,     0.01,    4.883,2,    2.688,2,    0.459,2,    2.474,2,   2146.1,2,   2275.9,2,   7.7097,       25,6, -999.000,9, -999.000,   -999.0,9,   -999.0, -999.000,9, -999.000, -999.000,9, -999.000
  49NZ20121128,  P14S,    21,  1,     29, X12J29,2,20121208,1613,-62.0138, 173.3030, 4330,    201.2,2,   2.5493,2,   2.54866,2,  33.9324,2,  33.9326,2,-999.0000,9,   315.54,2,   315.35,2,   99.529,   0.0189,2,    0.060,2,  -999.00,9,    0.000,2,    13.05,2,     0.07,    25.83,2,     0.04,     0.29,2,     0.01,     1.81,2,     0.01,    4.962,2,    2.748,2,    0.464,2,    2.517,2,   2148.2,2,   2275.9,2,   7.7064,       25,2, -999.000,9, -999.000,   -999.0,9,   -999.0, -999.000,9, -999.000, -999.000,9, -999.000
  49NZ20121128,  P14S,    21,  1,     28, X12J28,2,20121208,1613,-62.0138, 173.3030, 4330,    248.8,2,   2.7270,2,   2.72906,2,  33.9773,2,  33.9769,2,-999.0000,9,   299.94,2,   300.52,2,   99.600,   0.0160,2,    0.040,2,  -999.00,9,    0.000,2,    15.87,2,     0.07,    26.92,2,     0.04,     0.19,2,     0.01,     1.87,2,     0.01,    4.788,2,    2.629,2,    0.433,2,    2.263,2,   2156.0,2,   2277.8,2,   7.6891,       25,2, -999.000,9, -999.000,   -999.0,9,   -999.0, -999.000,9, -999.000, -999.000,9, -999.000
  49NZ20121128,  P14S,    21,  1,     27, X12J27,2,20121208,1613,-62.0138, 173.3030, 4330,    281.9,2,   3.1446,2,   3.14412,2,  34.0811,2,  34.0823,2,-999.0000,9,   268.08,2,   268.17,2,   99.679,   0.0129,2,    0.010,2,  -999.00,9,    0.000,2,    21.75,2,     0.08,    28.98,2,     0.04,     0.03,2,     0.01,     1.98,2,     0.01,    4.229,2,    2.318,2,    0.363,2,    1.752,2,   2174.0,2,   2280.7,2,   7.6547,       25,2, -999.000,9, -999.000,   -999.0,9,   -999.0, -999.000,9, -999.000, -999.000,9, -999.000
  49NZ20121128,  P14S,    21,  1,     26, X12J26,2,20121208,1613,-62.0138, 173.3030, 4330,    373.1,2,   3.1695,2,   3.17036,2,  34.1978,2,  34.1972,2,-999.0000,9,   237.13,2,   237.68,2,   99.767,   0.0093,2,   -0.000,2,  -999.00,9,    0.000,2,    31.15,2,     0.09,    31.13,2,     0.04,     0.01,2,     0.01,     2.13,2,     0.01,    3.458,2,    1.849,2,    0.275,2,    1.271,2,   2194.4,2,   2291.7,2,   7.6192,       25,2, -999.000,9, -999.000,   -999.0,9,   -999.0, -999.000,9, -999.000, -999.000,9, -999.000
  49NZ20121128,  P14S,    21,  1,     25, X12J25,2,20121208,1613,-62.0138, 173.3030, 4330,    471.2,2,   2.8001,2,   2.79982,2,  34.2630,2,  34.2632,2,-999.0000,9,   219.77,2,   220.21,2,   99.767,   0.0093,2,   -0.000,2,  -999.00,9,    0.000,2,    41.03,2,     0.10,    32.68,2,     0.05,     0.01,2,     0.01,     2.23,2,     0.01,    2.813,2,    1.498,2,    0.219,2,    0.896,2,   2211.4,2,   2300.4,2,   7.5944,       25,2, -999.000,9, -999.000,   -999.0,9,   -999.0, -999.000,9, -999.000, -999.000,9, -999.000
  49NZ20121128,  P14S,    21,  1,     24, X12J24,2,20121208,1613,-62.0138, 173.3030, 4330,    571.5,2,   2.7496,2,   2.74979,2,  34.3537,2,  34.3533,2,-999.0000,9,   198.73,2,   199.12,2,   99.849,   0.0060,2,    0.000,2,  -999.00,9,    0.000,2,    50.60,2,     0.10,    33.79,2,     0.05,     0.01,2,     0.01,     2.32,2,     0.01,    1.968,6,    1.047,6,    0.144,6,    0.620,6,   2227.6,2,   2310.4,2,   7.5755,       25,2, -999.000,9, -999.000,   -999.0,9,   -999.0, -999.000,9, -999.000, -999.000,9, -999.000
  49NZ20121128,  P14S,    21,  1,     23, X12J23,2,20121208,1613,-62.0138, 173.3030, 4330,    671.2,2,   2.6459,2,   2.64618,2,  34.4424,2,  34.4419,2,-999.0000,9,   183.71,2,   183.88,2,   99.849,   0.0060,2,    0.000,2,  -999.00,9,    0.000,2,    59.54,2,     0.11,    34.40,2,     0.05,     0.01,2,     0.01,     2.36,2,     0.01,    1.299,2,    0.676,2,    0.088,2,    0.370,2,   2240.6,6,   2319.9,2,   7.5636,       25,2, -999.000,9, -999.000,   -999.0,9,   -999.0, -999.000,9, -999.000, -999.000,9, -999.000
  49NZ20121128,  P14S,    21,  1,     22, X12J22,2,20121208,1613,-62.0138, 173.3030, 4330,    770.9,2,   2.5784,2,   2.57858,2,  34.4957,2,  34.4949,2,-999.0000,9,   177.39,2,   177.49,2,   99.855,   0.0058,2,    0.000,2,  -999.00,9,    0.000,2,    64.24,2,     0.12,    34.49,2,     0.05,     0.01,2,     0.01,     2.37,2,     0.01,    0.994,2,    0.505,2,    0.065,2,    0.262,2,   2247.1,2,   2324.9,6,   7.5616,       25,2, -999.000,9, -999.000,   -999.0,9,   -999.0, -999.000,9, -999.000, -999.000,9, -999.000
  49NZ20121128,  P14S,    21,  1,     21, X12J21,2,20121208,1613,-62.0138, 173.3030, 4330,    871.7,2,   2.5114,2,   2.51152,2,  34.5477,2,  34.5465,2,-999.0000,9,   174.02,2,   174.18,2,   99.855,   0.0058,2,    0.010,2,  -999.00,9,    0.000,2,    68.39,2,     0.12,    34.29,2,     0.05,     0.01,2,     0.01,     2.35,2,     0.01,    0.752,2,    0.372,2,    0.047,2,    0.199,2,   2250.8,2,   2329.8,2,   7.5613,       25,2, -999.000,9, -999.000,   -999.0,9,   -999.0, -999.000,9, -999.000, -999.000,9, -999.000
  49NZ20121128,  P14S,    21,  1,     20, X12J20,2,20121208,1613,-62.0138, 173.3030, 4330,    962.1,2,   2.4349,2,   2.43490,2,  34.5862,2,  34.5858,2,-999.0000,9,   172.97,2,   172.94,2,   99.880,   0.0048,2,    0.000,2,  -999.00,9,    0.000,2,    71.20,2,     0.12,    33.96,2,     0.05,     0.01,2,     0.01,     2.32,2,     0.01,    0.590,2,    0.288,2,    0.037,2,    0.177,2,   2252.7,2,   2331.8,2,   7.5639,       25,2, -999.000,9, -999.000,   -999.0,9,   -999.0, -999.000,9, -999.000, -999.000,9, -999.000
  49NZ20121128,  P14S,    21,  1,     19, X12J19,2,20121208,1613,-62.0138, 173.3030, 4330,   1172.6,2,   2.3261,2,   2.32625,2,  34.6589,2,  34.6584,2,-999.0000,9,   176.00,2,   176.07,2,   99.909,   0.0036,2,    0.000,2,  -999.00,9,    0.000,2,    75.32,2,     0.13,    32.87,2,     0.05,     0.00,2,     0.01,     2.25,2,     0.01,    0.337,6,    0.162,6,    0.018,6,    0.115,6,   2253.6,2,   2341.1,3,   7.5789,       25,2, -999.000,9, -999.000,   -999.0,9,   -999.0, -999.000,9, -999.000, -999.000,9, -999.000
  49NZ20121128,  P14S,    21,  1,     18, X12J18,2,20121208,1613,-62.0138, 173.3030, 4330,   1420.3,2,   2.1661,2,   2.16610,2,  34.7082,2,  34.7076,2,-999.0000,9,   182.41,2,   182.54,2,   99.918,   0.0033,2,    0.000,2,  -999.00,9,    0.000,2,    79.69,2,     0.13,    31.83,2,     0.04,     0.00,2,     0.01,     2.18,2,     0.01,    0.214,2,    0.102,2,    0.011,2,    0.069,2,   2252.5,2,   2344.3,3,   7.5945,       25,2, -999.000,9, -999.000,   -999.0,9,   -999.0, -999.000,9, -999.000, -999.000,9, -999.000
  49NZ20121128,  P14S,    21,  1,     17, X12J17,2,20121208,1613,-62.0138, 173.3030, 4330,   1671.5,2,   2.0077,2,   2.00787,2,  34.7304,2,  34.7302,2,-999.0000,9,   187.51,2,   187.64,2,   99.951,   0.0020,2,    0.000,2,  -999.00,9,    0.000,2,    83.70,2,     0.13,    31.33,2,     0.04,     0.00,2,     0.01,     2.15,2,     0.01,    0.182,2,    0.086,2,    0.009,2,    0.025,2,   2254.6,2,   2348.4,3,   7.6040,       25,6, -999.000,9, -999.000,   -999.0,9,   -999.0, -999.000,9, -999.000, -999.000,9, -999.000
  49NZ20121128,  P14S,    21,  1,     16, X12J16,2,20121208,1613,-62.0138, 173.3030, 4330,   1922.9,2,   1.8075,2,   1.80779,2,  34.7387,2,  34.7384,2,-999.0000,9,   192.38,2,   192.67,2,   99.945,   0.0022,2,    0.000,2,  -999.00,9,    0.000,2,    89.11,2,     0.14,    31.09,2,     0.04,     0.00,2,     0.01,     2.13,2,     0.01,    0.151,2,    0.068,2,    0.008,2,    0.000,2,   2252.9,2,   2351.4,3,   7.6106,       25,2, -999.000,9, -999.000,   -999.0,9,   -999.0, -999.000,9, -999.000, -999.000,9, -999.000
  49NZ20121128,  P14S,    21,  1,     15, X12J15,2,20121208,1613,-62.0138, 173.3030, 4330,   2170.3,2,   1.6014,2,   1.60151,2,  34.7374,2,  34.7367,2,-999.0000,9,   196.01,2,   196.23,2,   99.955,   0.0018,2,   -0.000,2,  -999.00,9,    0.000,2,    94.83,2,     0.14,    31.11,2,     0.04,     0.01,2,     0.01,     2.13,2,     0.01,    0.140,2,    0.061,2,    0.006,2,    0.000,2,   2254.6,2,   2353.8,2,   7.6145,       25,2, -999.000,9, -999.000,   -999.0,9,   -999.0, -999.000,9, -999.000, -999.000,9, -999.000
  49NZ20121128,  P14S,    21,  1,     14, X12J14,2,20121208,1613,-62.0138, 173.3030, 4330,   2421.1,2,   1.4204,2,   1.42024,2,  34.7321,2,  34.7319,2,-999.0000,9,   198.78,2,   198.94,2,   99.964,   0.0014,2,    0.000,2,  -999.00,9,    0.000,2,    99.91,2,     0.15,    31.31,2,     0.04,     0.01,2,     0.01,     2.15,2,     0.01,    0.139,2,    0.065,2,    0.007,2,    0.000,2,   2257.0,6,   2356.8,2,   7.6150,       25,2, -999.000,9, -999.000,   -999.0,9,   -999.0, -999.000,9, -999.000, -999.000,9, -999.000
  49NZ20121128,  P14S,    21,  1,     13, X12J13,2,20121208,1613,-62.0138, 173.3030, 4330,   2670.8,2,   1.2528,2,   1.25292,2,  34.7255,2,  34.7252,2,-999.0000,9,   201.21,2,   201.36,2,   99.937,   0.0025,2,   -0.000,2,  -999.00,9,    0.000,2,   105.11,2,     0.15,    31.58,2,     0.04,     0.00,2,     0.01,     2.17,2,     0.01,    0.159,2,    0.072,2,    0.008,2,    0.000,2,   2259.1,2,   2359.0,2,   7.6136,       25,2, -999.000,9, -999.000,   -999.0,9,   -999.0, -999.000,9, -999.000, -999.000,9, -999.000
  49NZ20121128,  P14S,    21,  1,     12, X12J12,2,20121208,1613,-62.0138, 173.3030, 4330,   2923.1,2,   1.1036,2,   1.10362,2,  34.7187,2,  34.7184,2,-999.0000,9,   203.53,2,   203.79,2,   99.957,   0.0017,2,    0.000,2,  -999.00,9,    0.000,2,   109.38,2,     0.24,    31.76,2,     0.04,     0.01,2,     0.01,     2.18,2,     0.01,    0.180,2,    0.084,2,    0.009,2,    0.000,2,   2260.3,2,   2360.1,2,   7.6127,       25,6, -999.000,9, -999.000,   -999.0,9,   -999.0, -999.000,9, -999.000, -999.000,9, -999.000
  49NZ20121128,  P14S,    21,  1,     11, X12J11,2,20121208,1613,-62.0138, 173.3030, 4330,   3172.1,2,   0.9733,2,   0.97317,2,  34.7123,2,  34.7125,2,-999.0000,9,   205.88,2,   205.99,2,   99.955,   0.0018,2,   -0.000,2,  -999.00,9,    0.000,2,   113.67,2,     0.21,    31.98,2,     0.04,     0.01,2,     0.01,     2.20,2,     0.01,    0.223,2,    0.101,2,    0.009,2,    0.060,2,   2261.7,2,   2360.6,2,   7.6104,       25,2, -999.000,9, -999.000,   -999.0,9,   -999.0, -999.000,9, -999.000, -999.000,9, -999.000
  49NZ20121128,  P14S,    21,  1,     10, X12J10,2,20121208,1613,-62.0138, 173.3030, 4330,   3420.1,2,   0.8806,2,   0.88066,2,  34.7076,2,  34.7076,2,-999.0000,9,   207.45,2,   207.75,2,   99.926,   0.0030,2,   -0.000,2,  -999.00,9,    0.000,2,   116.74,2,     0.16,    32.18,2,     0.05,     0.00,2,     0.01,     2.21,2,     0.01,    0.258,2,    0.120,2,    0.013,2,    0.091,2,   2261.9,2,   2360.2,2,   7.6094,       25,2, -999.000,9, -999.000,   -999.0,9,   -999.0, -999.000,9, -999.000, -999.000,9, -999.000
  49NZ20121128,  P14S,    21,  1,      9, X12J09,2,20121208,1613,-62.0138, 173.3030, 4330,   3671.4,2,   0.8305,2,   0.83056,2,  34.7046,2,  34.7042,2,-999.0000,9,   208.38,2,   208.57,2,   99.918,   0.0033,2,   -0.000,2,  -999.00,9,    0.000,2,   119.11,2,     0.17,    32.24,2,     0.05,     0.00,2,     0.01,     2.22,2,     0.01,    0.291,2,    0.135,2,    0.015,2,    0.076,2,   2262.9,2,   2360.8,2,   7.6072,       25,2, -999.000,9, -999.000,   -999.0,9,   -999.0, -999.000,9, -999.000, -999.000,9, -999.000
  49NZ20121128,  P14S,    21,  1,      8, X12J08,2,20121208,1613,-62.0138, 173.3030, 4330,   3920.3,2,   0.8155,2,   0.81543,2,  34.7030,2,  34.7028,2,-999.0000,9,   208.80,2,   209.03,2,   99.884,   0.0046,2,   -0.000,2,  -999.00,9,    0.000,2,   121.06,2,     0.17,    32.29,2,     0.05,     0.00,2,     0.01,     2.22,2,     0.01,    0.309,6,    0.149,6,    0.017,6,    0.072,6,   2263.5,2,   2361.2,2,   7.6076,       25,2, -999.000,9, -999.000,   -999.0,9,   -999.0, -999.000,9, -999.000, -999.000,9, -999.000
  49NZ20121128,  P14S,    21,  1,      7, X12J07,2,20121208,1613,-62.0138, 173.3030, 4330,   4172.6,2,   0.8274,2,   0.82744,2,  34.7021,2,  34.7023,2,-999.0000,9,   208.93,2,   209.38,2,   99.851,   0.0060,2,   -0.000,2,  -999.00,9,    0.000,2,   121.81,2,     0.17,    32.36,2,     0.05,     0.00,2,     0.01,     2.22,2,     0.01,    0.323,2,    0.158,2,    0.018,2,    0.116,2,   2262.4,6,   2360.5,3,   7.6063,       25,2, -999.000,9, -999.000,   -999.0,9,   -999.0, -999.000,9, -999.000, -999.000,9, -999.000
  49NZ20121128,  P14S,    21,  1,      1, X12J01,2,20121208,1613,-62.0138, 173.3030, 4330,   4455.6,2,   0.8527,2,   0.85239,2,  34.7016,2,  34.7020,2,-999.0000,9,   208.91,2,   209.17,2,   99.815,   0.0074,2,   -0.000,2,  -999.00,9,    0.000,2,   121.92,2,     0.17,    32.38,2,     0.05,     0.00,2,     0.01,     2.23,2,     0.01,    0.325,2,    0.160,2,    0.016,2,    0.055,2,   2262.7,2,   2360.5,3,   7.6072,       25,2, -999.000,9, -999.000,   -999.0,9,   -999.0, -999.000,9, -999.000, -999.000,9, -999.000