BOTTLE,20220819CCHSIOAMB
EXPOCODE,SECT_ID,STNNBR,CASTNO,SAMPNO,BTLNBR,BTLNBR_FLAG_W,DATE,TIME,LATITUDE,LONGITUDE,DEPTH,CTDPRS,CTDPRS_FLAG_W,CTDTMP,CTDTMP_FLAG_W,SBE35,SBE35_FLAG_W,CTDSAL,CTDSAL_FLAG_W,SALNTY,SALNTY_FLAG_W,DNSSAL,DNSSAL_FLAG_W,CTDOXY,CTDOXY_FLAG_W,OXYGEN,OXYGEN_FLAG_W,CTDXMISS,CTDXMISSCP,CTDXMISS_FLAG_W,CTDFLUOR,CTDFLUOR_FLAG_W,CHLORA,CHLORA_FLAG_W,PAR,PAR_FLAG_W,SILCAT,SILCAT_FLAG_W,SILUNC,NITRAT,NITRAT_FLAG_W,NRAUNC,NITRIT,NITRIT_FLAG_W,NRIUNC,PHSPHT,PHSPHT_FLAG_W,PHPUNC,CFC-11,CFC-11_FLAG_W,CFC-12,CFC-12_FLAG_W,CFC113,CFC113_FLAG_W,SF6,SF6_FLAG_W,TCARBN,TCARBN_FLAG_W,ALKALI,ALKALI_FLAG_W,PH_TOT,PH_TMP,PH_TOT_FLAG_W,DELC13,DELC13_FLAG_W,C13ERR,DELC14,DELC14_FLAG_W,C14ERR,CS-134,CS-134_FLAG_W,CS134ER,CS-137,CS-137_FLAG_W,CS137ER
,,,,,,,,UTC,DEG,DEG,METERS,DBAR,,ITS-90,,ITS-90,,PSS-78,,PSS-78,,G/KG,,UMOL/KG,,UMOL/KG,,%TRANS,/METER,,MG/M^3,,MG/CUM,,UE/SQM/S,,UMOL/KG,,UMOL/KG,UMOL/KG,,UMOL/KG,UMOL/KG,,UMOL/KG,UMOL/KG,,UMOL/KG,PMOL/KG,,PMOL/KG,,PMOL/KG,,FMOL/KG,,UMOL/KG,,UMOL/KG,,,DEG C,,/MILLE,,/MILLE,/MILLE,,/MILLE,MBQ/KG,,MBQ/KG,MBQ/KG,,MBQ/KG
  49NZ20121128,   S04,    62,  2,     36, X12J36,2,20121216,0829,-62.7652, 143.6018, 4089,      6.4,2,  -0.4548,2,  -0.45642,2,  33.7810,2,  33.7808,2,-999.0000,9,   347.87,2,   348.39,2,   94.548,   0.2243,2,    0.500,2,  -999.00,9,   26.018,2,    40.05,2,     0.09,    27.51,2,     0.04,     0.18,2,     0.01,     1.86,2,     0.01,    6.051,2,    3.276,2,    0.577,2,    2.901,2,   2161.9,2,   2287.0,2,   7.6804,       25,6, -999.000,9, -999.000,   -999.0,9,   -999.0, -999.000,9, -999.000, -999.000,9, -999.000
  49NZ20121128,   S04,    62,  2,     35, X12J35,2,20121216,0829,-62.7652, 143.6018, 4089,     24.7,2,  -0.4902,2,  -0.49013,2,  33.7791,2,  33.7799,2,-999.0000,9,   347.55,2,   348.03,2,   94.677,   0.2188,2,    0.480,2,  -999.00,9,    6.608,2,    40.24,2,     0.09,    27.60,2,     0.04,     0.18,2,     0.01,     1.87,2,     0.01,    5.970,2,    3.220,2,    0.570,2,    3.057,2,   2168.4,2,   2285.4,2,   7.6787,       25,2, -999.000,9, -999.000,   -999.0,9,   -999.0, -999.000,9, -999.000, -999.000,9, -999.000
  49NZ20121128,   S04,    62,  2,     34, X12J34,2,20121216,0829,-62.7652, 143.6018, 4089,     50.5,2,  -1.0911,2,  -1.09321,2,  34.0391,2,  34.0272,2,-999.0000,9,   314.25,2,   315.36,2,   96.646,   0.1365,2,    0.420,2,  -999.00,9,    1.617,2,    49.28,2,     0.10,    29.80,2,     0.04,     0.13,2,     0.01,     2.07,2,     0.01,    4.901,6,    2.722,6,    0.461,6,    2.412,6,   2192.5,2,   2301.2,2,   7.6383,       25,2, -999.000,9, -999.000,   -999.0,9,   -999.0, -999.000,9, -999.000, -999.000,9, -999.000
  49NZ20121128,   S04,    62,  2,     33, X12J33,2,20121216,0829,-62.7652, 143.6018, 4089,     75.9,2,   0.7396,2,   0.72771,2,  34.3545,2,  34.3450,2,-999.0000,9,   226.69,2,   230.03,2,   98.746,   0.0505,2,    0.270,2,  -999.00,9,    0.412,2,    62.74,2,     0.12,    33.46,2,     0.05,     0.09,2,     0.01,     2.31,2,     0.01,    2.740,2,    1.459,2,    0.252,2,    1.132,2,   2234.6,6,   2314.7,2,   7.5713,       25,2, -999.000,9, -999.000,   -999.0,9,   -999.0, -999.000,9, -999.000, -999.000,9, -999.000
  49NZ20121128,   S04,    62,  2,     32, X12J32,2,20121216,0829,-62.7652, 143.6018, 4089,    100.7,2,   1.7221,2,   1.72194,2,  34.5095,2,  34.5070,2,-999.0000,9,   186.00,2,   186.18,2,   99.592,   0.0164,2,    0.090,2,  -999.00,9,    0.132,2,    71.59,2,     0.12,    34.66,2,     0.05,     0.03,2,     0.01,     2.38,2,     0.01,    1.413,2,    0.765,2,    0.118,2,    0.477,2,   2251.1,2,   2329.7,6,   7.5475,       25,2, -999.000,9, -999.000,   -999.0,9,   -999.0, -999.000,9, -999.000, -999.000,9, -999.000
  49NZ20121128,   S04,    62,  2,     31, X12J31,2,20121216,0829,-62.7652, 143.6018, 4089,    125.0,2,   1.9000,2,   1.89938,2,  34.5564,2,  34.5550,2,-999.0000,9,   178.76,2,   178.76,2,   99.689,   0.0125,2,    0.040,2,  -999.00,9,    0.033,2,    74.19,2,     0.13,    34.53,2,     0.05,     0.02,2,     0.01,     2.37,2,     0.01,    1.098,2,    0.581,2,    0.090,2,    0.344,2,   2254.6,2,   2332.5,2,   7.5477,       25,2, -999.000,9, -999.000,   -999.0,9,   -999.0, -999.000,9, -999.000, -999.000,9, -999.000
  49NZ20121128,   S04,    62,  2,     30, X12J30,2,20121216,0829,-62.7652, 143.6018, 4089,    151.5,2,   1.8753,2,   1.87490,2,  34.5774,2,  34.5766,2,-999.0000,9,   178.26,2,   178.31,2,   99.682,   0.0127,2,    0.040,2,  -999.00,9,    0.000,2,    75.57,2,     0.13,    34.36,2,     0.05,     0.02,2,     0.01,     2.35,2,     0.01,    1.001,2,    0.521,2,    0.079,2,    0.311,2,   2255.6,2,   2334.6,2,   7.5504,       25,2, -999.000,9, -999.000,   -999.0,9,   -999.0, -999.000,9, -999.000, -999.000,9, -999.000
  49NZ20121128,   S04,    62,  2,     29, X12J29,2,20121216,0829,-62.7652, 143.6018, 4089,    201.2,2,   1.9758,2,   1.97565,2,  34.6174,2,  34.6165,2,-999.0000,9,   175.52,2,   175.44,2,   99.743,   0.0103,2,    0.010,2,  -999.00,9,    0.000,2,    77.34,2,     0.13,    33.99,2,     0.05,     0.01,2,     0.01,     2.33,2,     0.01,    0.768,2,    0.398,2,    0.058,2,    0.160,2,   2258.2,2,   2337.8,2,   7.5554,       25,2, -999.000,9, -999.000,   -999.0,9,   -999.0, -999.000,9, -999.000, -999.000,9, -999.000
  49NZ20121128,   S04,    62,  2,     28, X12J28,2,20121216,0829,-62.7652, 143.6018, 4089,    250.1,2,   1.9657,2,   1.96296,2,  34.6359,2,  34.6346,2,-999.0000,9,   176.66,2,   176.51,2,   99.762,   0.0095,2,    0.010,2,  -999.00,9,    0.000,2,    78.20,2,     0.13,    33.62,2,     0.05,     0.01,2,     0.01,     2.31,2,     0.01,    0.697,2,    0.356,2,    0.052,2,    0.193,2,   2256.8,2,   2338.7,2,   7.5595,       25,2, -999.000,9, -999.000,   -999.0,9,   -999.0, -999.000,9, -999.000, -999.000,9, -999.000
  49NZ20121128,   S04,    62,  2,     27, X12J27,2,20121216,0829,-62.7652, 143.6018, 4089,    280.9,2,   1.9655,2,   1.96520,2,  34.6499,2,  34.6493,2,-999.0000,9,   177.54,2,   177.15,2,   99.775,   0.0090,2,    0.010,2,  -999.00,9,    0.000,2,    78.70,2,     0.13,    33.36,2,     0.05,     0.01,2,     0.01,     2.29,2,     0.01,    0.629,2,    0.331,2,    0.048,2,    0.193,2,   2257.0,2,   2339.7,2,   7.5648,       25,2, -999.000,9, -999.000,   -999.0,9,   -999.0, -999.000,9, -999.000, -999.000,9, -999.000
  49NZ20121128,   S04,    62,  2,     26, X12J26,2,20121216,0829,-62.7652, 143.6018, 4089,    370.0,2,   1.9166,2,   1.91629,2,  34.6783,2,  34.6780,2,-999.0000,9,   179.93,2,   179.94,2,   99.825,   0.0070,2,    0.010,2,  -999.00,9,    0.000,2,    80.59,2,     0.13,    32.78,2,     0.05,     0.01,2,     0.01,     2.24,2,     0.01,    0.539,2,    0.275,2,    0.041,2,    0.148,2,   2254.3,2,   2343.0,2,   7.5727,       25,2, -999.000,9, -999.000,   -999.0,9,   -999.0, -999.000,9, -999.000, -999.000,9, -999.000
  49NZ20121128,   S04,    62,  2,     25, X12J25,2,20121216,0829,-62.7652, 143.6018, 4089,    471.2,2,   1.9658,2,   1.96551,2,  34.7058,2,  34.7054,2,-999.0000,9,   182.87,2,   183.10,2,   99.923,   0.0031,2,    0.000,2,  -999.00,9,    0.000,2,    80.96,2,     0.13,    32.07,2,     0.04,     0.01,2,     0.01,     2.19,2,     0.01,    0.377,2,    0.190,2,    0.028,2,    0.000,2,   2252.3,2,   2345.2,2,   7.5861,       25,2, -999.000,9, -999.000,   -999.0,9,   -999.0, -999.000,9, -999.000, -999.000,9, -999.000
  49NZ20121128,   S04,    62,  2,     24, X12J24,2,20121216,0829,-62.7652, 143.6018, 4089,    570.0,2,   1.9222,2,   1.92168,2,  34.7203,2,  34.7201,2,-999.0000,9,   185.82,2,   185.86,2,   99.951,   0.0020,2,    0.000,2,  -999.00,9,    0.000,2,    82.37,2,     0.13,    31.63,2,     0.04,     0.01,2,     0.01,     2.17,2,     0.01,    0.326,6,    0.160,6,    0.023,6,    0.000,6,   2251.0,2,   2346.6,2,   7.5932,       25,2, -999.000,9, -999.000,   -999.0,9,   -999.0, -999.000,9, -999.000, -999.000,9, -999.000
  49NZ20121128,   S04,    62,  2,     23, X12J23,2,20121216,0829,-62.7652, 143.6018, 4089,    669.5,2,   1.8759,2,   1.87575,2,  34.7316,2,  34.7313,2,-999.0000,9,   188.77,2,   188.84,2,   99.953,   0.0019,2,    0.000,2,  -999.00,9,    0.000,2,    83.54,2,     0.13,    31.27,2,     0.04,     0.01,2,     0.01,     2.15,2,     0.01,    0.269,2,    0.129,2,    0.019,2,    0.000,2,   2250.2,6,   2348.4,2,   7.6006,       25,2, -999.000,9, -999.000,   -999.0,9,   -999.0, -999.000,9, -999.000, -999.000,9, -999.000
  49NZ20121128,   S04,    62,  2,     22, X12J22,2,20121216,0829,-62.7652, 143.6018, 4089,    770.6,2,   1.7684,2,   1.76851,2,  34.7339,2,  34.7337,2,-999.0000,9,   191.28,2,   191.55,2,   99.940,   0.0024,2,    0.000,2,  -999.00,9,    0.000,2,    85.62,2,     0.14,    31.17,2,     0.04,     0.01,2,     0.01,     2.14,2,     0.01,    0.286,2,    0.136,2,    0.021,2,    0.000,2,   2250.8,2,   2349.7,6,   7.6028,       25,2, -999.000,9, -999.000,   -999.0,9,   -999.0, -999.000,9, -999.000, -999.000,9, -999.000
  49NZ20121128,   S04,    62,  2,     21, X12J21,2,20121216,0829,-62.7652, 143.6018, 4089,    872.1,2,   1.7031,2,   1.70308,2,  34.7394,2,  34.7395,2,-999.0000,9,   193.65,2,   193.92,2,   99.967,   0.0013,2,    0.000,2,  -999.00,9,    0.000,2,    87.85,2,     0.14,    31.00,2,     0.04,     0.01,2,     0.01,     2.13,2,     0.01,    0.244,2,    0.116,2,    0.017,2,    0.000,2,   2249.5,2,   2351.3,2,   7.6074,       25,6, -999.000,9, -999.000,   -999.0,9,   -999.0, -999.000,9, -999.000, -999.000,9, -999.000
  49NZ20121128,   S04,    62,  2,     20, X12J20,2,20121216,0829,-62.7652, 143.6018, 4089,    961.6,2,   1.6060,2,   1.60584,2,  34.7369,2,  34.7368,2,-999.0000,9,   195.67,2,   195.78,2,   99.963,   0.0015,2,    0.000,2,  -999.00,9,    0.000,2,    89.48,2,     0.14,    30.97,2,     0.04,     0.01,2,     0.01,     2.13,2,     0.01,    0.276,2,    0.134,2,    0.019,2,    0.000,2,   2250.4,2,   2350.3,3,   7.6086,       25,2, -999.000,9, -999.000,   -999.0,9,   -999.0, -999.000,9, -999.000, -999.000,9, -999.000
  49NZ20121128,   S04,    62,  2,     19, X12J19,2,20121216,0829,-62.7652, 143.6018, 4089,   1172.2,2,   1.4547,2,   1.45463,2,  34.7374,2,  34.7374,2,-999.0000,9,   198.62,2,   198.75,2,   99.955,   0.0018,2,    0.000,2,  -999.00,9,    0.000,2,    94.14,2,     0.14,    30.99,2,     0.04,     0.01,2,     0.01,     2.13,2,     0.01,    0.230,6,    0.109,6,    0.015,6,    0.000,6,   2252.8,2,   2354.0,2,   7.6125,       25,2, -999.000,9, -999.000,   -999.0,9,   -999.0, -999.000,9, -999.000, -999.000,9, -999.000
  49NZ20121128,   S04,    62,  2,     18, X12J18,2,20121216,0829,-62.7652, 143.6018, 4089,   1420.7,2,   1.2250,2,   1.22492,2,  34.7277,2,  34.7274,2,-999.0000,9,   201.86,2,   202.18,2,   99.967,   0.0013,2,   -0.000,2,  -999.00,9,    0.000,2,    99.60,2,     0.15,    31.25,2,     0.04,     0.01,2,     0.01,     2.15,2,     0.01,    0.253,2,    0.122,2,    0.014,2,    0.000,2,   2253.8,2,   2356.1,2,   7.6106,       25,2, -999.000,9, -999.000,   -999.0,9,   -999.0, -999.000,9, -999.000, -999.000,9, -999.000
  49NZ20121128,   S04,    62,  2,     17, X12J17,2,20121216,0829,-62.7652, 143.6018, 4089,   1671.6,2,   1.0385,2,   1.03850,2,  34.7189,2,  34.7190,2,-999.0000,9,   204.21,2,   204.24,2,   99.978,   0.0009,2,   -0.000,2,  -999.00,9,    0.000,2,   105.41,2,     0.15,    31.61,2,     0.04,     0.01,2,     0.01,     2.17,2,     0.01,    0.260,2,    0.123,2,    0.014,2,    0.000,2,   2258.2,2,   2359.0,2,   7.6086,       25,6, -999.000,9, -999.000,   -999.0,9,   -999.0, -999.000,9, -999.000, -999.000,9, -999.000
  49NZ20121128,   S04,    62,  2,     16, X12J16,2,20121216,0829,-62.7652, 143.6018, 4089,   1919.6,2,   0.8602,2,   0.86017,2,  34.7102,2,  34.7101,2,-999.0000,9,   206.64,2,   206.74,2,   99.974,   0.0010,2,   -0.000,2,  -999.00,9,    0.000,2,   110.72,2,     0.16,    31.90,2,     0.04,     0.01,2,     0.01,     2.19,2,     0.01,    0.277,2,    0.130,2,    0.014,2,    0.000,2,   2259.8,2,   2357.7,2,   7.6065,       25,2, -999.000,9, -999.000,   -999.0,9,   -999.0, -999.000,9, -999.000, -999.000,9, -999.000
  49NZ20121128,   S04,    62,  2,     15, X12J15,2,20121216,0829,-62.7652, 143.6018, 4089,   2172.4,2,   0.7072,2,   0.70712,2,  34.7032,2,  34.7031,2,-999.0000,9,   209.17,2,   209.30,2,   99.974,   0.0010,2,   -0.000,2,  -999.00,9,    0.000,2,   115.33,2,     0.16,    32.12,2,     0.05,     0.01,2,     0.01,     2.21,2,     0.01,    0.286,2,    0.133,2,    0.015,2,    0.000,2,   2260.3,2,   2357.2,2,   7.6045,       25,2, -999.000,9, -999.000,   -999.0,9,   -999.0, -999.000,9, -999.000, -999.000,9, -999.000
  49NZ20121128,   S04,    62,  2,     14, X12J14,2,20121216,0829,-62.7652, 143.6018, 4089,   2420.7,2,   0.5377,2,   0.53771,2,  34.6938,2,  34.6938,2,-999.0000,9,   212.71,2,   212.76,2,   99.969,   0.0012,2,   -0.000,2,  -999.00,9,    0.000,2,   118.53,2,     0.17,    32.31,2,     0.05,     0.00,2,     0.01,     2.23,2,     0.01,    0.399,2,    0.190,2,    0.021,2,    0.000,2,   2261.1,6,   2358.6,2,   7.6029,       25,2, -999.000,9, -999.000,   -999.0,9,   -999.0, -999.000,9, -999.000, -999.000,9, -999.000
  49NZ20121128,   S04,    62,  2,     13, X12J13,2,20121216,0829,-62.7652, 143.6018, 4089,   2670.8,2,   0.3935,2,   0.39352,2,  34.6868,2,  34.6867,2,-999.0000,9,   216.36,2,   216.50,2,   99.961,   0.0016,2,   -0.000,2,  -999.00,9,    0.000,2,   120.81,2,     0.17,    32.42,2,     0.05,     0.01,2,     0.01,     2.23,2,     0.01,    0.524,2,    0.249,2,    0.030,2,    0.000,2,   2261.6,2,   2359.0,6,   7.6017,       25,2, -999.000,9, -999.000,   -999.0,9,   -999.0, -999.000,9, -999.000, -999.000,9, -999.000
  49NZ20121128,   S04,    62,  2,     12, X12J12,2,20121216,0829,-62.7652, 143.6018, 4089,   2920.4,2,   0.2954,2,   0.29537,2,  34.6830,2,  34.6830,2,-999.0000,9,   219.30,2,   219.56,2,   99.957,   0.0017,2,   -0.000,2,  -999.00,9,    0.000,2,   123.26,2,     0.17,    32.49,2,     0.05,     0.01,2,     0.01,     2.24,2,     0.01,    0.611,2,    0.296,2,    0.033,2,    0.179,2,   2260.9,2,   2356.8,3,   7.6019,       25,6, -999.000,9, -999.000,   -999.0,9,   -999.0, -999.000,9, -999.000, -999.000,9, -999.000
  49NZ20121128,   S04,    62,  2,     11, X12J11,2,20121216,0829,-62.7652, 143.6018, 4089,   3172.8,2,   0.1988,2,   0.19886,2,  34.6781,2,  34.6780,2,-999.0000,9,   222.61,2,   222.86,2,   99.963,   0.0015,2,   -0.000,2,  -999.00,9,    0.000,2,   124.43,2,     0.17,    32.48,2,     0.05,     0.01,2,     0.01,     2.24,2,     0.01,    0.774,2,    0.379,2,    0.045,2,    0.157,2,   2260.3,2,   2358.7,2,   7.6017,       25,2, -999.000,9, -999.000,   -999.0,9,   -999.0, -999.000,9, -999.000, -999.000,9, -999.000
  49NZ20121128,   S04,    62,  2,     10, X12J10,2,20121216,0829,-62.7652, 143.6018, 4089,   3419.9,2,   0.1128,2,   0.11274,2,  34.6736,2,  34.6736,2,-999.0000,9,   225.93,2,   226.18,2,   99.927,   0.0029,2,   -0.000,2,  -999.00,9,    0.000,2,   124.13,2,     0.17,    32.41,2,     0.05,     0.01,2,     0.01,     2.24,2,     0.01,    0.980,2,    0.482,2,    0.063,2,    0.290,2,   2258.5,2,   2358.2,2,   7.6013,       25,2, -999.000,9, -999.000,   -999.0,9,   -999.0, -999.000,9, -999.000, -999.000,9, -999.000
  49NZ20121128,   S04,    62,  2,      9, X12J09,2,20121216,0829,-62.7652, 143.6018, 4089,   3671.8,2,   0.0087,2,   0.00850,2,  34.6673,2,  34.6675,2,-999.0000,9,   230.26,2,   230.53,2,   99.902,   0.0039,2,   -0.010,2,  -999.00,9,    0.000,2,   123.56,2,     0.17,    32.36,2,     0.05,     0.00,2,     0.01,     2.23,2,     0.01,    1.301,2,    0.654,2,    0.087,2,    0.337,2,   2258.8,2,   2356.1,2,   7.6018,       25,2, -999.000,9, -999.000,   -999.0,9,   -999.0, -999.000,9, -999.000, -999.000,9, -999.000
  49NZ20121128,   S04,    62,  2,      8, X12J08,2,20121216,0829,-62.7652, 143.6018, 4089,   3920.6,2,  -0.0696,2,  -0.06955,2,  34.6604,2,  34.6603,2,-999.0000,9,   234.01,2,   234.29,2,   99.781,   0.0088,2,   -0.000,2,  -999.00,9,    0.000,2,   120.24,2,     0.17,    32.28,2,     0.05,     0.01,2,     0.01,     2.23,2,     0.01,    1.657,6,    0.870,6,    0.133,6,    0.448,6,   2259.3,2,   2356.4,2,   7.5999,       25,2, -999.000,9, -999.000,   -999.0,9,   -999.0, -999.000,9, -999.000, -999.000,9, -999.000
  49NZ20121128,   S04,    62,  2,      7, X12J07,2,20121216,0829,-62.7652, 143.6018, 4089,    770.8,2,   1.7685,2,   1.76834,2,  34.7338,2,-999.0000,9,-999.0000,9,   191.30,2,  -999.00,9,   99.955,   0.0018,2,    0.000,2,  -999.00,9,    0.000,2,  -999.00,9,  -999.00,  -999.00,9,  -999.00,  -999.00,9,  -999.00,  -999.00,9,  -999.00, -999.000,9, -999.000,9, -999.000,9, -999.000,9,   -999.0,9,   -999.0,9,-999.0000,     -999,9, -999.000,9, -999.000,   -999.0,9,   -999.0, -999.000,1, -999.000, -999.000,1, -999.000
  49NZ20121128,   S04,    62,  2,      6, X12J06,2,20121216,0829,-62.7652, 143.6018, 4089,    770.7,2,   1.7685,2,   1.76842,2,  34.7338,2,-999.0000,9,-999.0000,9,   191.30,2,  -999.00,9,   99.953,   0.0019,2,    0.000,2,  -999.00,9,    0.000,2,  -999.00,9,  -999.00,  -999.00,9,  -999.00,  -999.00,9,  -999.00,  -999.00,9,  -999.00, -999.000,9, -999.000,9, -999.000,9, -999.000,9,   -999.0,9,   -999.0,9,-999.0000,     -999,9, -999.000,9, -999.000,   -999.0,9,   -999.0, -999.000,1, -999.000, -999.000,1, -999.000
  49NZ20121128,   S04,    62,  2,      5, X12J05,2,20121216,0829,-62.7652, 143.6018, 4089,    770.5,2,   1.7685,2,   1.76840,2,  34.7339,2,-999.0000,9,-999.0000,9,   191.36,2,  -999.00,9,   99.953,   0.0019,2,    0.000,2,  -999.00,9,    0.000,2,  -999.00,9,  -999.00,  -999.00,9,  -999.00,  -999.00,9,  -999.00,  -999.00,9,  -999.00, -999.000,9, -999.000,9, -999.000,9, -999.000,9,   -999.0,9,   -999.0,9,-999.0000,     -999,9, -999.000,9, -999.000,   -999.0,9,   -999.0, -999.000,1, -999.000, -999.000,1, -999.000
  49NZ20121128,   S04,    62,  2,      4, X12J04,2,20121216,0829,-62.7652, 143.6018, 4089,    770.3,2,   1.7685,2,   1.76841,2,  34.7338,2,-999.0000,9,-999.0000,9,   191.28,2,  -999.00,9,   99.942,   0.0023,2,    0.000,2,  -999.00,9,    0.000,2,  -999.00,9,  -999.00,  -999.00,9,  -999.00,  -999.00,9,  -999.00,  -999.00,9,  -999.00, -999.000,9, -999.000,9, -999.000,9, -999.000,9,   -999.0,9,   -999.0,9,-999.0000,     -999,9, -999.000,9, -999.000,   -999.0,9,   -999.0, -999.000,1, -999.000, -999.000,1, -999.000
  49NZ20121128,   S04,    62,  2,      3, X12J03,2,20121216,0829,-62.7652, 143.6018, 4089,    770.2,2,   1.7685,2,   1.76837,2,  34.7339,2,-999.0000,9,-999.0000,9,   191.30,2,  -999.00,9,   99.919,   0.0032,2,    0.000,2,  -999.00,9,    0.000,2,  -999.00,9,  -999.00,  -999.00,9,  -999.00,  -999.00,9,  -999.00,  -999.00,9,  -999.00, -999.000,9, -999.000,9, -999.000,9, -999.000,9,   -999.0,9,   -999.0,9,-999.0000,     -999,9, -999.000,9, -999.000,   -999.0,9,   -999.0, -999.000,1, -999.000, -999.000,1, -999.000
  49NZ20121128,   S04,    62,  2,      2, X12J02,2,20121216,0829,-62.7652, 143.6018, 4089,    770.4,2,   1.7686,2,   1.76853,2,  34.7338,2,-999.0000,9,-999.0000,9,   191.22,2,  -999.00,9,   99.940,   0.0024,2,    0.000,2,  -999.00,9,    0.000,2,  -999.00,9,  -999.00,  -999.00,9,  -999.00,  -999.00,9,  -999.00,  -999.00,9,  -999.00, -999.000,9, -999.000,9, -999.000,9, -999.000,9,   -999.0,9,   -999.0,9,-999.0000,     -999,9, -999.000,9, -999.000,   -999.0,9,   -999.0, -999.000,1, -999.000, -999.000,1, -999.000
  49NZ20121128,   S04,    62,  2,      1, X12J01,2,20121216,0829,-62.7652, 143.6018, 4089,   4154.9,2,  -0.1926,2,  -0.19268,2,  34.6491,2,  34.6495,2,-999.0000,9,   240.19,2,   240.35,2,   99.379,   0.0249,2,   -0.010,2,  -999.00,9,    0.000,2,   111.80,2,     0.16,    32.08,2,     0.04,     0.01,2,     0.01,     2.22,2,     0.01,    2.246,2,    1.230,2,    0.182,2,    0.818,2,   2257.4,2,   2352.6,2,   7.5954,       25,2, -999.000,9, -999.000,   -999.0,9,   -999.0, -999.000,9, -999.000, -999.000,9, -999.000