BOTTLE,20220819CCHSIOAMB
EXPOCODE,SECT_ID,STNNBR,CASTNO,SAMPNO,BTLNBR,BTLNBR_FLAG_W,DATE,TIME,LATITUDE,LONGITUDE,DEPTH,CTDPRS,CTDPRS_FLAG_W,CTDTMP,CTDTMP_FLAG_W,SBE35,SBE35_FLAG_W,CTDSAL,CTDSAL_FLAG_W,SALNTY,SALNTY_FLAG_W,DNSSAL,DNSSAL_FLAG_W,CTDOXY,CTDOXY_FLAG_W,OXYGEN,OXYGEN_FLAG_W,CTDXMISS,CTDXMISSCP,CTDXMISS_FLAG_W,CTDFLUOR,CTDFLUOR_FLAG_W,CHLORA,CHLORA_FLAG_W,PAR,PAR_FLAG_W,SILCAT,SILCAT_FLAG_W,SILUNC,NITRAT,NITRAT_FLAG_W,NRAUNC,NITRIT,NITRIT_FLAG_W,NRIUNC,PHSPHT,PHSPHT_FLAG_W,PHPUNC,CFC-11,CFC-11_FLAG_W,CFC-12,CFC-12_FLAG_W,CFC113,CFC113_FLAG_W,SF6,SF6_FLAG_W,TCARBN,TCARBN_FLAG_W,ALKALI,ALKALI_FLAG_W,PH_TOT,PH_TMP,PH_TOT_FLAG_W,DELC13,DELC13_FLAG_W,C13ERR,DELC14,DELC14_FLAG_W,C14ERR,CS-134,CS-134_FLAG_W,CS134ER,CS-137,CS-137_FLAG_W,CS137ER
,,,,,,,,UTC,DEG,DEG,METERS,DBAR,,ITS-90,,ITS-90,,PSS-78,,PSS-78,,G/KG,,UMOL/KG,,UMOL/KG,,%TRANS,/METER,,MG/M^3,,MG/CUM,,UE/SQM/S,,UMOL/KG,,UMOL/KG,UMOL/KG,,UMOL/KG,UMOL/KG,,UMOL/KG,UMOL/KG,,UMOL/KG,PMOL/KG,,PMOL/KG,,PMOL/KG,,FMOL/KG,,UMOL/KG,,UMOL/KG,,,DEG C,,/MILLE,,/MILLE,/MILLE,,/MILLE,MBQ/KG,,MBQ/KG,MBQ/KG,,MBQ/KG
  49NZ20121128,   S04,    51,  2,     36, X12J36,2,20121213,0710,-63.0442, 159.4370, 2451,      5.4,2,  -1.2759,2,  -1.27156,2,  33.7543,2,  33.7547,2,-999.0000,9,   354.09,2,   354.00,2,   96.028,   0.1621,2,    0.240,2,  -999.00,9,   65.728,2,    66.06,2,     0.12,    27.42,2,     0.04,     0.18,2,     0.01,     1.87,2,     0.01,    5.598,2,    3.007,2,    0.603,2,    2.740,2,   -999.0,9,   -999.0,9,-999.0000,     -999,9, -999.000,9, -999.000,   -999.0,9,   -999.0, -999.000,9, -999.000, -999.000,9, -999.000
  49NZ20121128,   S04,    51,  2,     35, X12J35,2,20121213,0710,-63.0442, 159.4370, 2451,     25.2,2,  -1.3582,2,  -1.35879,2,  33.7600,2,  33.7656,2,-999.0000,9,   355.00,2,   355.10,2,   96.081,   0.1599,2,    0.300,2,  -999.00,9,   14.255,2,    66.03,2,     0.12,    27.35,2,     0.04,     0.18,2,     0.01,     1.86,2,     0.01,    5.612,2,    2.989,2,    0.608,2,    2.770,2,   -999.0,9,   -999.0,9,-999.0000,     -999,9, -999.000,9, -999.000,   -999.0,9,   -999.0, -999.000,9, -999.000, -999.000,9, -999.000
  49NZ20121128,   S04,    51,  2,     34, X12J34,2,20121213,0710,-63.0442, 159.4370, 2451,     49.9,2,  -1.6700,2,  -1.66965,2,  34.1681,2,  34.1672,2,-999.0000,9,   351.81,2,   351.11,2,   94.712,   0.2173,2,    0.740,2,  -999.00,9,    3.792,2,    66.05,2,     0.12,    27.86,2,     0.04,     0.14,2,     0.01,     1.86,2,     0.01,    5.185,6,    2.873,6,    0.570,6,    2.740,6,   -999.0,9,   -999.0,9,-999.0000,     -999,9, -999.000,9, -999.000,   -999.0,9,   -999.0, -999.000,9, -999.000, -999.000,9, -999.000
  49NZ20121128,   S04,    51,  2,     33, X12J33,2,20121213,0710,-63.0442, 159.4370, 2451,     74.7,2,  -1.7538,2,  -1.75507,2,  34.2140,2,  34.2149,2,-999.0000,9,   336.18,2,   334.15,2,   96.621,   0.1375,2,    0.670,2,  -999.00,9,    0.593,2,    68.62,2,     0.12,    29.28,2,     0.04,     0.13,2,     0.01,     2.01,2,     0.01,    5.113,2,    2.785,2,    0.543,2,    2.540,2,   -999.0,9,   -999.0,9,-999.0000,     -999,9, -999.000,9, -999.000,   -999.0,9,   -999.0, -999.000,9, -999.000, -999.000,9, -999.000
  49NZ20121128,   S04,    51,  2,     32, X12J32,2,20121213,0710,-63.0442, 159.4370, 2451,    100.1,2,  -1.6599,2,  -1.66353,2,  34.2543,2,  34.2552,2,-999.0000,9,   326.06,2,   325.00,2,   98.630,   0.0552,2,    0.290,2,  -999.00,9,    0.089,2,    70.09,2,     0.12,    29.74,2,     0.04,     0.14,2,     0.01,     2.07,2,     0.01,    4.931,2,    2.737,2,    0.533,2,    2.480,2,   -999.0,9,   -999.0,9,-999.0000,     -999,9, -999.000,9, -999.000,   -999.0,9,   -999.0, -999.000,9, -999.000, -999.000,9, -999.000
  49NZ20121128,   S04,    51,  2,     31, X12J31,2,20121213,0710,-63.0442, 159.4370, 2451,    125.0,2,  -1.2629,2,  -1.25806,2,  34.3188,2,  34.3200,2,-999.0000,9,   304.26,2,   301.58,2,   99.069,   0.0374,2,    0.200,2,  -999.00,9,    0.000,2,    72.71,2,     0.12,    30.54,2,     0.04,     0.13,2,     0.01,     2.12,2,     0.01,    4.224,2,    2.431,2,    0.469,2,    2.150,2,   -999.0,9,   -999.0,9,-999.0000,     -999,9, -999.000,9, -999.000,   -999.0,9,   -999.0, -999.000,9, -999.000, -999.000,9, -999.000
  49NZ20121128,   S04,    51,  2,     30, X12J30,2,20121213,0710,-63.0442, 159.4370, 2451,    150.7,2,   0.1476,2,   0.15319,2,  34.5379,2,  34.5432,2,-999.0000,9,   234.99,2,   231.51,2,   99.479,   0.0209,2,    0.090,2,  -999.00,9,    0.000,2,    82.79,2,     0.13,    31.97,2,     0.04,     0.10,2,     0.01,     2.21,2,     0.01,    2.154,2,    1.187,2,    0.211,2,    1.010,2,   -999.0,9,   -999.0,9,-999.0000,     -999,9, -999.000,9, -999.000,   -999.0,9,   -999.0, -999.000,9, -999.000, -999.000,9, -999.000
  49NZ20121128,   S04,    51,  2,     29, X12J29,2,20121213,0710,-63.0442, 159.4370, 2451,    201.4,2,   1.1492,2,   1.15027,2,  34.6833,2,  34.6825,2,-999.0000,9,   195.80,2,   195.17,2,   99.800,   0.0080,2,    0.020,2,  -999.00,9,    0.000,2,    89.57,2,     0.14,    32.24,2,     0.05,     0.02,2,     0.01,     2.22,2,     0.01,    0.799,2,    0.416,2,    0.073,2,    0.270,2,   -999.0,9,   -999.0,9,-999.0000,     -999,9, -999.000,9, -999.000,   -999.0,9,   -999.0, -999.000,9, -999.000, -999.000,9, -999.000
  49NZ20121128,   S04,    51,  2,     28, X12J28,2,20121213,0710,-63.0442, 159.4370, 2451,    250.3,2,   1.2172,2,   1.21674,2,  34.6989,2,  34.6985,2,-999.0000,9,   194.66,2,   194.13,2,   99.844,   0.0062,2,    0.010,2,  -999.00,9,    0.000,2,    91.17,2,     0.14,    32.07,2,     0.04,     0.01,2,     0.01,     2.20,2,     0.01,    0.637,2,    0.335,2,    0.059,2,    0.150,2,   -999.0,9,   -999.0,9,-999.0000,     -999,9, -999.000,9, -999.000,   -999.0,9,   -999.0, -999.000,9, -999.000, -999.000,9, -999.000
  49NZ20121128,   S04,    51,  2,     27, X12J27,2,20121213,0710,-63.0442, 159.4370, 2451,    300.8,2,   1.2229,2,   1.22270,2,  34.7073,2,  34.7075,2,-999.0000,9,   194.97,2,   194.45,2,   99.873,   0.0051,2,    0.010,2,  -999.00,9,    0.000,2,    93.14,2,     0.14,    31.96,2,     0.04,     0.01,2,     0.01,     2.19,2,     0.01,    0.535,2,    0.277,2,    0.047,2,    0.260,2,   -999.0,9,   -999.0,9,-999.0000,     -999,9, -999.000,9, -999.000,   -999.0,9,   -999.0, -999.000,9, -999.000, -999.000,9, -999.000
  49NZ20121128,   S04,    51,  2,     26, X12J26,2,20121213,0710,-63.0442, 159.4370, 2451,    399.9,2,   1.1938,2,   1.19336,2,  34.7155,2,  34.7152,2,-999.0000,9,   195.67,2,   195.23,2,   99.946,   0.0022,2,    0.010,2,  -999.00,9,    0.000,2,    96.63,2,     0.15,    31.88,2,     0.04,     0.01,2,     0.01,     2.19,2,     0.01,    0.439,2,    0.216,2,    0.033,2,    0.120,2,   -999.0,9,   -999.0,9,-999.0000,     -999,9, -999.000,9, -999.000,   -999.0,9,   -999.0, -999.000,9, -999.000, -999.000,9, -999.000
  49NZ20121128,   S04,    51,  2,     25, X12J25,2,20121213,0710,-63.0442, 159.4370, 2451,    500.5,2,   1.1441,2,   1.14439,2,  34.7175,2,  34.7168,2,-999.0000,9,   196.71,2,   196.30,2,   99.942,   0.0023,2,    0.010,2,  -999.00,9,    0.000,2,    99.58,2,     0.15,    31.93,2,     0.04,     0.01,2,     0.01,     2.19,2,     0.01,    0.382,2,    0.184,2,    0.027,2,    0.120,2,   -999.0,9,   -999.0,9,-999.0000,     -999,9, -999.000,9, -999.000,   -999.0,9,   -999.0, -999.000,9, -999.000, -999.000,9, -999.000
  49NZ20121128,   S04,    51,  2,     24, X12J24,2,20121213,0710,-63.0442, 159.4370, 2451,    599.7,2,   1.0808,2,   1.08092,2,  34.7177,2,  34.7179,2,-999.0000,9,   198.11,2,   197.81,2,   99.948,   0.0021,2,    0.010,2,  -999.00,9,    0.000,2,   102.06,2,     0.15,    31.86,2,     0.04,     0.01,2,     0.01,     2.19,2,     0.01,    0.329,6,    0.162,6,    0.022,6,    0.195,6,   -999.0,9,   -999.0,9,-999.0000,     -999,9, -999.000,9, -999.000,   -999.0,9,   -999.0, -999.000,9, -999.000, -999.000,9, -999.000
  49NZ20121128,   S04,    51,  2,     23, X12J23,2,20121213,0710,-63.0442, 159.4370, 2451,    699.9,2,   1.0288,2,   1.02876,2,  34.7175,2,  34.7171,2,-999.0000,9,   200.71,2,   200.46,2,   99.938,   0.0025,2,    0.000,2,  -999.00,9,    0.000,2,   103.42,2,     0.15,    31.77,2,     0.04,     0.01,2,     0.01,     2.18,2,     0.01,    0.308,2,    0.152,2,    0.021,2,    0.000,2,   -999.0,9,   -999.0,9,-999.0000,     -999,9, -999.000,9, -999.000,   -999.0,9,   -999.0, -999.000,9, -999.000, -999.000,9, -999.000
  49NZ20121128,   S04,    51,  2,     22, X12J22,2,20121213,0710,-63.0442, 159.4370, 2451,    799.4,2,   0.9496,2,   0.94971,2,  34.7144,2,  34.7144,2,-999.0000,9,   200.83,2,   200.48,2,   99.946,   0.0022,2,    0.000,2,  -999.00,9,    0.000,2,   106.61,2,     0.15,    31.98,2,     0.04,     0.01,2,     0.01,     2.20,2,     0.01,    0.287,2,    0.135,2,    0.025,2,    0.110,2,   -999.0,9,   -999.0,9,-999.0000,     -999,9, -999.000,9, -999.000,   -999.0,9,   -999.0, -999.000,9, -999.000, -999.000,9, -999.000
  49NZ20121128,   S04,    51,  2,     21, X12J21,2,20121213,0710,-63.0442, 159.4370, 2451,    901.9,2,   0.8779,2,   0.87779,2,  34.7116,2,  34.7120,2,-999.0000,9,   202.42,2,   202.18,2,   99.992,   0.0003,2,    0.000,2,  -999.00,9,    0.000,2,   108.88,2,     0.16,    32.04,2,     0.04,     0.01,2,     0.01,     2.21,2,     0.01,    0.277,2,    0.134,2,    0.018,2,    0.000,2,   -999.0,9,   -999.0,9,-999.0000,     -999,9, -999.000,9, -999.000,   -999.0,9,   -999.0, -999.000,9, -999.000, -999.000,9, -999.000
  49NZ20121128,   S04,    51,  2,     20, X12J20,2,20121213,0710,-63.0442, 159.4370, 2451,   1000.2,2,   0.8088,2,   0.80843,2,  34.7088,2,  34.7088,2,-999.0000,9,   203.46,2,   203.30,2,   99.986,   0.0006,2,    0.000,2,  -999.00,9,    0.000,2,   111.05,2,     0.16,    32.14,2,     0.05,     0.01,2,     0.01,     2.21,2,     0.01,    0.276,2,    0.133,2,    0.017,2,    0.000,2,   -999.0,9,   -999.0,9,-999.0000,     -999,9, -999.000,9, -999.000,   -999.0,9,   -999.0, -999.000,9, -999.000, -999.000,9, -999.000
  49NZ20121128,   S04,    51,  2,     19, X12J19,2,20121213,0710,-63.0442, 159.4370, 2451,   1249.8,2,   0.6525,2,   0.65273,2,  34.7019,2,  34.7021,2,-999.0000,9,   206.63,2,   206.47,2,   99.986,   0.0006,2,   -0.000,2,  -999.00,9,    0.000,2,   114.80,2,     0.16,    32.30,2,     0.05,     0.01,2,     0.01,     2.22,2,     0.01,    0.318,6,    0.158,6,    0.021,6,    0.125,6,   -999.0,9,   -999.0,9,-999.0000,     -999,9, -999.000,9, -999.000,   -999.0,9,   -999.0, -999.000,9, -999.000, -999.000,9, -999.000
  49NZ20121128,   S04,    51,  2,     18, X12J18,2,20121213,0710,-63.0442, 159.4370, 2451,   1502.2,2,   0.4897,2,   0.48976,2,  34.6955,2,  34.6956,2,-999.0000,9,   209.97,2,   209.90,2,   99.988,   0.0005,2,   -0.000,2,  -999.00,9,    0.000,2,   118.13,2,     0.16,    32.45,2,     0.05,     0.01,2,     0.01,     2.24,2,     0.01,    0.400,2,    0.202,2,    0.026,2,    0.160,2,   -999.0,9,   -999.0,9,-999.0000,     -999,9, -999.000,9, -999.000,   -999.0,9,   -999.0, -999.000,9, -999.000, -999.000,9, -999.000
  49NZ20121128,   S04,    51,  2,     17, X12J17,2,20121213,0710,-63.0442, 159.4370, 2451,   1750.9,2,   0.3333,2,   0.33327,2,  34.6885,2,  34.6886,2,-999.0000,9,   214.65,2,   214.65,2,   99.988,   0.0005,2,   -0.000,2,  -999.00,9,    0.000,2,   119.09,2,     0.17,    32.45,2,     0.05,     0.01,2,     0.01,     2.24,2,     0.01,    0.569,2,    0.303,2,    0.044,2,    0.170,2,   -999.0,9,   -999.0,9,-999.0000,     -999,9, -999.000,9, -999.000,   -999.0,9,   -999.0, -999.000,9, -999.000, -999.000,9, -999.000
  49NZ20121128,   S04,    51,  2,     16, X12J16,2,20121213,0710,-63.0442, 159.4370, 2451,   2001.1,2,   0.2100,2,   0.21003,2,  34.6837,2,  34.6838,2,-999.0000,9,   218.24,2,   218.30,2,   99.984,   0.0006,2,   -0.000,2,  -999.00,9,    0.000,2,   119.38,2,     0.17,    32.45,2,     0.05,     0.01,2,     0.01,     2.24,2,     0.01,    0.782,2,    0.412,2,    0.059,2,    0.210,2,   -999.0,9,   -999.0,9,-999.0000,     -999,9, -999.000,9, -999.000,   -999.0,9,   -999.0, -999.000,9, -999.000, -999.000,9, -999.000
  49NZ20121128,   S04,    51,  2,     15, X12J15,2,20121213,0710,-63.0442, 159.4370, 2451,   2250.1,2,   0.0845,2,   0.08444,2,  34.6782,2,  34.6785,2,-999.0000,9,   222.13,2,   222.35,2,   99.915,   0.0034,2,   -0.000,2,  -999.00,9,    0.000,2,   119.58,2,     0.17,    32.45,2,     0.05,     0.01,2,     0.01,     2.24,2,     0.01,    1.063,2,    0.571,2,    0.077,2,    0.280,2,   -999.0,9,   -999.0,9,-999.0000,     -999,9, -999.000,9, -999.000,   -999.0,9,   -999.0, -999.000,9, -999.000, -999.000,9, -999.000
  49NZ20121128,   S04,    51,  2,      7, X12J07,2,20121213,0710,-63.0442, 159.4370, 2451,    799.1,2,   0.9496,2,   0.94935,2,  34.7143,2,-999.0000,9,-999.0000,9,   200.81,2,  -999.00,9,   99.948,   0.0021,2,    0.000,2,  -999.00,9,    0.000,2,  -999.00,9,  -999.00,  -999.00,9,  -999.00,  -999.00,9,  -999.00,  -999.00,9,  -999.00, -999.000,9, -999.000,9, -999.000,9, -999.000,9,   -999.0,9,   -999.0,9,-999.0000,     -999,9, -999.000,9, -999.000,   -999.0,9,   -999.0, -999.000,1, -999.000, -999.000,1, -999.000
  49NZ20121128,   S04,    51,  2,      6, X12J06,2,20121213,0710,-63.0442, 159.4370, 2451,    799.0,2,   0.9495,2,   0.94936,2,  34.7144,2,-999.0000,9,-999.0000,9,   200.89,2,  -999.00,9,   99.963,   0.0015,2,    0.000,2,  -999.00,9,    0.000,2,  -999.00,9,  -999.00,  -999.00,9,  -999.00,  -999.00,9,  -999.00,  -999.00,9,  -999.00, -999.000,9, -999.000,9, -999.000,9, -999.000,9,   -999.0,9,   -999.0,9,-999.0000,     -999,9, -999.000,9, -999.000,   -999.0,9,   -999.0, -999.000,1, -999.000, -999.000,1, -999.000
  49NZ20121128,   S04,    51,  2,      5, X12J05,2,20121213,0710,-63.0442, 159.4370, 2451,    799.6,2,   0.9493,2,   0.94922,2,  34.7144,2,-999.0000,9,-999.0000,9,   200.86,2,  -999.00,9,   99.942,   0.0023,2,    0.000,2,  -999.00,9,    0.000,2,  -999.00,9,  -999.00,  -999.00,9,  -999.00,  -999.00,9,  -999.00,  -999.00,9,  -999.00, -999.000,9, -999.000,9, -999.000,9, -999.000,9,   -999.0,9,   -999.0,9,-999.0000,     -999,9, -999.000,9, -999.000,   -999.0,9,   -999.0, -999.000,1, -999.000, -999.000,1, -999.000
  49NZ20121128,   S04,    51,  2,      4, X12J04,2,20121213,0710,-63.0442, 159.4370, 2451,    799.4,2,   0.9498,2,   0.94960,2,  34.7143,2,-999.0000,9,-999.0000,9,   200.78,2,  -999.00,9,   99.988,   0.0005,2,    0.000,2,  -999.00,9,    0.000,2,  -999.00,9,  -999.00,  -999.00,9,  -999.00,  -999.00,9,  -999.00,  -999.00,9,  -999.00, -999.000,9, -999.000,9, -999.000,9, -999.000,9,   -999.0,9,   -999.0,9,-999.0000,     -999,9, -999.000,9, -999.000,   -999.0,9,   -999.0, -999.000,1, -999.000, -999.000,1, -999.000
  49NZ20121128,   S04,    51,  2,      3, X12J03,2,20121213,0710,-63.0442, 159.4370, 2451,    799.1,2,   0.9494,2,   0.94953,2,  34.7144,2,-999.0000,9,-999.0000,9,   200.81,2,  -999.00,9,   99.961,   0.0016,2,    0.000,2,  -999.00,9,    0.000,2,  -999.00,9,  -999.00,  -999.00,9,  -999.00,  -999.00,9,  -999.00,  -999.00,9,  -999.00, -999.000,9, -999.000,9, -999.000,9, -999.000,9,   -999.0,9,   -999.0,9,-999.0000,     -999,9, -999.000,9, -999.000,   -999.0,9,   -999.0, -999.000,1, -999.000, -999.000,1, -999.000
  49NZ20121128,   S04,    51,  2,      2, X12J02,2,20121213,0710,-63.0442, 159.4370, 2451,    799.2,2,   0.9490,2,   0.94927,2,  34.7145,2,-999.0000,9,-999.0000,9,   200.78,2,  -999.00,9,   99.969,   0.0012,2,    0.010,2,  -999.00,9,    0.000,2,  -999.00,9,  -999.00,  -999.00,9,  -999.00,  -999.00,9,  -999.00,  -999.00,9,  -999.00, -999.000,9, -999.000,9, -999.000,9, -999.000,9,   -999.0,9,   -999.0,9,-999.0000,     -999,9, -999.000,9, -999.000,   -999.0,9,   -999.0, -999.000,1, -999.000, -999.000,1, -999.000
  49NZ20121128,   S04,    51,  2,      1, X12J01,2,20121213,0710,-63.0442, 159.4370, 2451,   2472.2,2,   0.0858,2,   0.08579,2,  34.6774,2,  34.6771,2,-999.0000,9,   222.77,2,   222.39,2,   99.881,   0.0048,2,   -0.000,2,  -999.00,9,    0.000,2,   119.61,2,     0.17,    32.46,2,     0.05,     0.01,2,     0.01,     2.24,2,     0.01,    1.101,2,    0.580,2,    0.087,2,    0.250,2,   -999.0,9,   -999.0,9,-999.0000,     -999,9, -999.000,9, -999.000,   -999.0,9,   -999.0, -999.000,9, -999.000, -999.000,9, -999.000