BOTTLE,20220819CCHSIOAMB
EXPOCODE,SECT_ID,STNNBR,CASTNO,SAMPNO,BTLNBR,BTLNBR_FLAG_W,DATE,TIME,LATITUDE,LONGITUDE,DEPTH,CTDPRS,CTDPRS_FLAG_W,CTDTMP,CTDTMP_FLAG_W,SBE35,SBE35_FLAG_W,CTDSAL,CTDSAL_FLAG_W,SALNTY,SALNTY_FLAG_W,DNSSAL,DNSSAL_FLAG_W,CTDOXY,CTDOXY_FLAG_W,OXYGEN,OXYGEN_FLAG_W,CTDXMISS,CTDXMISSCP,CTDXMISS_FLAG_W,CTDFLUOR,CTDFLUOR_FLAG_W,CHLORA,CHLORA_FLAG_W,PAR,PAR_FLAG_W,SILCAT,SILCAT_FLAG_W,SILUNC,NITRAT,NITRAT_FLAG_W,NRAUNC,NITRIT,NITRIT_FLAG_W,NRIUNC,PHSPHT,PHSPHT_FLAG_W,PHPUNC,CFC-11,CFC-11_FLAG_W,CFC-12,CFC-12_FLAG_W,CFC113,CFC113_FLAG_W,SF6,SF6_FLAG_W,TCARBN,TCARBN_FLAG_W,ALKALI,ALKALI_FLAG_W,PH_TOT,PH_TMP,PH_TOT_FLAG_W,DELC13,DELC13_FLAG_W,C13ERR,DELC14,DELC14_FLAG_W,C14ERR,CS-134,CS-134_FLAG_W,CS134ER,CS-137,CS-137_FLAG_W,CS137ER
,,,,,,,,UTC,DEG,DEG,METERS,DBAR,,ITS-90,,ITS-90,,PSS-78,,PSS-78,,G/KG,,UMOL/KG,,UMOL/KG,,%TRANS,/METER,,MG/M^3,,MG/CUM,,UE/SQM/S,,UMOL/KG,,UMOL/KG,UMOL/KG,,UMOL/KG,UMOL/KG,,UMOL/KG,UMOL/KG,,UMOL/KG,PMOL/KG,,PMOL/KG,,PMOL/KG,,FMOL/KG,,UMOL/KG,,UMOL/KG,,,DEG C,,/MILLE,,/MILLE,/MILLE,,/MILLE,MBQ/KG,,MBQ/KG,MBQ/KG,,MBQ/KG
  49NZ20121128,   S04,    67,  1,     36, X12J36,2,20121217,1441,-62.0025, 137.0135, 3969,      5.1,2,  -0.0884,2,  -0.09049,2,  33.7404,2,  33.7410,2,-999.0000,9,   361.71,2,   361.63,2,   89.192,   0.4575,2,    1.520,2,  -999.00,9,    1.038,2,    21.53,2,     0.08,    24.08,2,     0.04,     0.22,2,     0.01,     1.54,2,     0.01,    5.772,2,    3.168,2,    0.620,2,    3.178,2,   2140.9,2,   2282.5,2,   7.7370,       25,6, -999.000,1, -999.000,   -999.0,1,   -999.0, -999.000,9, -999.000, -999.000,9, -999.000
  49NZ20121128,   S04,    67,  1,     35, X12J35,2,20121217,1441,-62.0025, 137.0135, 3969,     25.1,2,  -0.2762,2,  -0.27554,2,  33.7422,2,  33.7432,2,-999.0000,9,   361.10,2,   361.39,2,   88.602,   0.4841,2,    1.690,2,  -999.00,9,    0.008,2,    21.81,2,     0.08,    24.18,2,     0.04,     0.21,2,     0.01,     1.56,2,     0.01,    5.762,2,    3.170,2,    0.624,2,    3.085,2,   2141.0,2,   2282.6,2,   7.7338,       25,2, -999.000,1, -999.000,   -999.0,1,   -999.0, -999.000,9, -999.000, -999.000,9, -999.000
  49NZ20121128,   S04,    67,  1,     34, X12J34,2,20121217,1441,-62.0025, 137.0135, 3969,     50.5,2,  -0.8590,2,  -0.88039,2,  33.8036,2,  33.8192,2,-999.0000,9,   349.44,2,   345.34,2,   92.035,   0.3320,2,    1.460,2,  -999.00,9,    0.000,2,    29.61,2,     0.09,    26.71,2,     0.04,     0.22,2,     0.01,     1.84,2,     0.01,    5.605,6,    3.118,6,    0.603,6,    3.034,6,   2162.5,2,   2285.1,2,   7.6879,       25,2, -999.000,1, -999.000,   -999.0,1,   -999.0, -999.000,9, -999.000, -999.000,9, -999.000
  49NZ20121128,   S04,    67,  1,     33, X12J33,2,20121217,1441,-62.0025, 137.0135, 3969,     75.1,2,  -1.4257,2,  -1.42535,2,  33.9750,2,  33.9762,2,-999.0000,9,   322.25,2,   322.05,2,   99.151,   0.0341,2,    0.210,2,  -999.00,9,    0.000,2,    41.09,2,     0.10,    30.07,2,     0.04,     0.23,2,     0.01,     2.09,2,     0.01,    5.248,2,    2.890,2,    0.549,2,    2.724,2,   2189.9,6,   2293.0,2,   7.6342,       25,2, -999.000,1, -999.000,   -999.0,1,   -999.0, -999.000,9, -999.000, -999.000,9, -999.000
  49NZ20121128,   S04,    67,  1,     32, X12J32,2,20121217,1441,-62.0025, 137.0135, 3969,    100.3,2,  -1.1114,2,  -1.10773,2,  34.0353,2,  34.0381,2,-999.0000,9,   307.64,2,   306.96,2,   99.473,   0.0211,2,    0.130,2,  -999.00,9,    0.000,2,    44.49,2,     0.10,    30.89,2,     0.04,     0.14,2,     0.01,     2.13,2,     0.01,    4.911,2,    2.700,2,    0.507,2,    2.407,2,   2196.5,2,   2295.6,6,   7.6226,       25,2, -999.000,1, -999.000,   -999.0,1,   -999.0, -999.000,9, -999.000, -999.000,9, -999.000
  49NZ20121128,   S04,    67,  1,     31, X12J31,2,20121217,1441,-62.0025, 137.0135, 3969,    125.3,2,   0.2080,2,   0.21063,2,  34.1919,2,  34.1970,2,-999.0000,9,   259.62,2,   257.09,2,   99.379,   0.0249,2,    0.080,2,  -999.00,9,    0.000,2,    51.90,2,     0.11,    32.82,2,     0.05,     0.02,2,     0.01,     2.25,2,     0.01,    3.551,2,    2.047,2,    0.360,2,    1.634,2,   2217.9,2,   2305.9,2,   7.5901,       25,2, -999.000,1, -999.000,   -999.0,1,   -999.0, -999.000,9, -999.000, -999.000,9, -999.000
  49NZ20121128,   S04,    67,  1,     30, X12J30,2,20121217,1441,-62.0025, 137.0135, 3969,    151.0,2,   1.3113,2,   1.31285,2,  34.3343,2,  34.3398,2,-999.0000,9,   216.11,2,   215.18,2,   99.660,   0.0136,2,    0.040,2,  -999.00,9,    0.000,2,    59.72,2,     0.11,    34.29,2,     0.05,     0.02,2,     0.01,     2.35,2,     0.01,    2.457,2,    1.366,2,    0.228,2,    1.041,2,   2235.7,2,   2313.9,2,   7.5614,       25,2, -999.000,1, -999.000,   -999.0,1,   -999.0, -999.000,9, -999.000, -999.000,9, -999.000
  49NZ20121128,   S04,    67,  1,     29, X12J29,2,20121217,1441,-62.0025, 137.0135, 3969,    200.9,2,   1.9003,2,   1.89950,2,  34.4513,2,  34.4496,2,-999.0000,9,   189.10,2,   189.14,2,   99.616,   0.0154,2,    0.020,2,  -999.00,9,    0.000,2,    66.84,2,     0.12,    34.99,2,     0.05,     0.02,2,     0.01,     2.40,2,     0.01,    1.588,2,    0.877,2,    0.145,2,    0.633,2,   2248.8,2,   2322.2,2,   7.5480,       25,2, -999.000,1, -999.000,   -999.0,1,   -999.0, -999.000,9, -999.000, -999.000,9, -999.000
  49NZ20121128,   S04,    67,  1,     28, X12J28,2,20121217,1441,-62.0025, 137.0135, 3969,    250.8,2,   2.0311,2,   2.03086,2,  34.5203,2,  34.5199,2,-999.0000,9,   180.11,2,   179.93,2,   99.737,   0.0105,2,    0.010,2,  -999.00,9,    0.000,2,    70.98,2,     0.12,    34.81,2,     0.05,     0.01,2,     0.01,     2.39,2,     0.01,    1.151,2,    0.629,2,    0.108,2,    0.374,2,   2254.1,2,   2327.9,2,   7.5474,       25,2, -999.000,1, -999.000,   -999.0,1,   -999.0, -999.000,9, -999.000, -999.000,9, -999.000
  49NZ20121128,   S04,    67,  1,     27, X12J27,2,20121217,1441,-62.0025, 137.0135, 3969,    332.2,2,   2.1091,2,   2.10794,2,  34.5919,2,  34.5914,2,-999.0000,9,   175.91,2,   175.77,2,   99.790,   0.0084,2,    0.010,2,  -999.00,9,    0.000,2,    74.31,2,     0.13,    34.16,2,     0.05,     0.01,2,     0.01,     2.34,2,     0.01,    0.807,2,    0.412,2,    0.083,2,    0.291,2,   2256.9,2,   2333.5,2,   7.5560,       25,2, -999.000,1, -999.000,   -999.0,1,   -999.0, -999.000,9, -999.000, -999.000,9, -999.000
  49NZ20121128,   S04,    67,  1,     26, X12J26,2,20121217,1441,-62.0025, 137.0135, 3969,    431.6,2,   2.1193,2,   2.11889,2,  34.6432,2,  34.6439,2,-999.0000,9,   176.72,2,   176.69,2,   99.867,   0.0053,2,    0.000,2,  -999.00,9,    0.000,2,    76.15,2,     0.13,    33.22,2,     0.05,     0.01,2,     0.01,     2.27,2,     0.01,    0.566,2,    0.287,2,    0.061,2,    0.247,2,   2254.6,2,   2339.1,2,   7.5683,       25,2, -999.000,1, -999.000,   -999.0,1,   -999.0, -999.000,9, -999.000, -999.000,9, -999.000
  49NZ20121128,   S04,    67,  1,     25, X12J25,2,20121217,1441,-62.0025, 137.0135, 3969,    531.8,2,   2.0783,2,   2.07785,2,  34.6766,2,  34.6767,2,-999.0000,9,   179.48,2,   179.51,2,   99.878,   0.0049,2,    0.000,2,  -999.00,9,    0.000,2,    78.02,2,     0.13,    32.59,2,     0.05,     0.01,2,     0.01,     2.23,2,     0.01,    0.463,2,    0.231,2,    0.050,2,    0.168,2,   2253.2,2,   2339.9,2,   7.5767,       25,2, -999.000,1, -999.000,   -999.0,1,   -999.0, -999.000,9, -999.000, -999.000,9, -999.000
  49NZ20121128,   S04,    67,  1,     24, X12J24,2,20121217,1441,-62.0025, 137.0135, 3969,    629.6,2,   2.0059,2,   2.00595,2,  34.6979,2,  34.6978,2,-999.0000,9,   181.93,2,   181.99,2,   99.915,   0.0034,2,    0.000,2,  -999.00,9,    0.000,2,    80.01,2,     0.13,    32.20,2,     0.05,     0.01,2,     0.01,     2.21,2,     0.01,    0.412,6,    0.205,6,    0.044,6,    0.128,6,   2253.7,3,   2341.1,2,   7.5839,       25,2, -999.000,1, -999.000,   -999.0,1,   -999.0, -999.000,9, -999.000, -999.000,9, -999.000
  49NZ20121128,   S04,    67,  1,     23, X12J23,2,20121217,1441,-62.0025, 137.0135, 3969,    731.2,2,   1.9844,2,   1.98414,2,  34.7180,2,  34.7182,2,-999.0000,9,   185.59,2,   185.67,2,   99.943,   0.0023,2,    0.000,2,  -999.00,9,    0.000,2,    80.88,2,     0.13,    31.62,2,     0.04,     0.01,2,     0.01,     2.16,2,     0.01,    0.323,2,    0.156,2,    0.035,2,    0.143,2,   2251.1,6,   2342.8,2,   7.5949,       25,2, -999.000,1, -999.000,   -999.0,1,   -999.0, -999.000,9, -999.000, -999.000,9, -999.000
  49NZ20121128,   S04,    67,  1,     22, X12J22,2,20121217,1441,-62.0025, 137.0135, 3969,    830.6,2,   1.9305,2,   1.93023,2,  34.7303,2,  34.7309,2,-999.0000,9,   188.72,2,   188.71,2,   99.951,   0.0020,2,    0.000,2,  -999.00,9,    0.000,2,    82.55,2,     0.13,    31.24,2,     0.04,     0.01,2,     0.01,     2.14,2,     0.01,    0.268,2,    0.130,2,    0.028,2,    0.083,2,   2250.1,2,   2346.4,2,   7.6020,       25,2, -999.000,1, -999.000,   -999.0,1,   -999.0, -999.000,9, -999.000, -999.000,9, -999.000
  49NZ20121128,   S04,    67,  1,     21, X12J21,2,20121217,1441,-62.0025, 137.0135, 3969,    930.7,2,   1.8557,2,   1.85552,2,  34.7382,2,  34.7386,2,-999.0000,9,   191.57,2,   191.51,2,   99.938,   0.0025,2,    0.000,2,  -999.00,9,    0.000,2,    84.34,2,     0.13,    30.93,2,     0.04,     0.01,2,     0.01,     2.12,2,     0.01,    0.238,2,    0.112,2,    0.029,2,    0.059,2,   2250.2,2,   2347.8,2,   7.6080,       25,6, -999.000,1, -999.000,   -999.0,1,   -999.0, -999.000,9, -999.000, -999.000,9, -999.000
  49NZ20121128,   S04,    67,  1,     20, X12J20,2,20121217,1441,-62.0025, 137.0135, 3969,   1081.5,2,   1.7568,2,   1.75660,2,  34.7452,2,  34.7453,2,-999.0000,9,   195.08,2,   195.15,2,   99.903,   0.0039,2,    0.000,2,  -999.00,9,    0.000,2,    87.12,2,     0.14,    30.69,2,     0.04,     0.01,2,     0.01,     2.11,2,     0.01,    0.184,2,    0.084,2,    0.026,2,    0.000,2,   2250.6,2,   2350.5,2,   7.6148,       25,2, -999.000,1, -999.000,   -999.0,1,   -999.0, -999.000,9, -999.000, -999.000,9, -999.000
  49NZ20121128,   S04,    67,  1,     19, X12J19,2,20121217,1441,-62.0025, 137.0135, 3969,   1330.0,2,   1.5262,2,   1.52616,2,  34.7411,2,  34.7414,2,-999.0000,9,   198.55,2,   198.66,2,   99.945,   0.0022,2,    0.000,2,  -999.00,9,    0.000,2,    92.96,2,     0.14,    30.88,2,     0.04,     0.01,2,     0.01,     2.12,2,     0.01,    0.199,6,    0.093,6,    0.024,6,    0.037,6,   2253.0,2,   2353.2,2,   7.6156,       25,2, -999.000,1, -999.000,   -999.0,1,   -999.0, -999.000,9, -999.000, -999.000,9, -999.000
  49NZ20121128,   S04,    67,  1,     18, X12J18,2,20121217,1441,-62.0025, 137.0135, 3969,   1581.1,2,   1.3109,2,   1.31084,2,  34.7334,2,  34.7335,2,-999.0000,9,   201.35,2,   201.37,2,   99.964,   0.0014,2,    0.000,2,  -999.00,9,    0.000,2,    99.22,2,     0.15,    31.14,2,     0.04,     0.01,2,     0.01,     2.14,2,     0.01,    0.187,2,    0.089,2,    0.021,2,    0.000,2,   2254.6,2,   2355.4,2,   7.6146,       25,2, -999.000,1, -999.000,   -999.0,1,   -999.0, -999.000,9, -999.000, -999.000,9, -999.000
  49NZ20121128,   S04,    67,  1,     17, X12J17,2,20121217,1441,-62.0025, 137.0135, 3969,   1830.9,2,   1.1182,2,   1.11807,2,  34.7241,2,  34.7241,2,-999.0000,9,   203.71,2,   203.71,2,   99.945,   0.0022,2,    0.000,2,  -999.00,9,    0.000,2,   104.87,2,     0.15,    31.49,2,     0.04,     0.01,2,     0.01,     2.16,2,     0.01,    0.198,2,    0.093,2,    0.022,2,    0.026,2,   2256.7,2,   2355.4,2,   7.6124,       25,6, -999.000,1, -999.000,   -999.0,1,   -999.0, -999.000,9, -999.000, -999.000,9, -999.000
  49NZ20121128,   S04,    67,  1,     16, X12J16,2,20121217,1441,-62.0025, 137.0135, 3969,   2080.8,2,   0.9403,2,   0.93992,2,  34.7147,2,  34.7150,2,-999.0000,9,   205.93,2,   205.93,2,   99.959,   0.0016,2,   -0.000,2,  -999.00,9,    0.000,2,   110.07,2,     0.16,    31.80,2,     0.04,     0.01,2,     0.01,     2.19,2,     0.01,    0.227,2,    0.105,2,    0.022,2,    0.035,2,   2258.4,2,   2357.6,2,   7.6094,       25,2, -999.000,1, -999.000,   -999.0,1,   -999.0, -999.000,9, -999.000, -999.000,9, -999.000
  49NZ20121128,   S04,    67,  1,     15, X12J15,2,20121217,1441,-62.0025, 137.0135, 3969,   2331.0,2,   0.7291,2,   0.72909,2,  34.7035,2,  34.7036,2,-999.0000,9,   209.06,2,   208.94,2,   99.957,   0.0017,2,   -0.000,2,  -999.00,9,    0.000,2,   115.12,2,     0.16,    32.15,2,     0.05,     0.01,2,     0.01,     2.21,2,     0.01,    0.286,2,    0.133,2,    0.024,2,    0.080,2,   2259.3,2,   2358.4,2,   7.6045,       25,2, -999.000,1, -999.000,   -999.0,1,   -999.0, -999.000,9, -999.000, -999.000,9, -999.000
  49NZ20121128,   S04,    67,  1,     14, X12J14,2,20121217,1441,-62.0025, 137.0135, 3969,   2580.6,2,   0.5766,2,   0.57663,2,  34.6956,2,  34.6961,2,-999.0000,9,   212.19,2,   211.96,2,   99.955,   0.0018,2,   -0.000,2,  -999.00,9,    0.000,2,   118.89,2,     0.17,    32.36,2,     0.05,     0.01,2,     0.01,     2.23,2,     0.01,    0.350,2,    0.163,2,    0.026,2,    0.081,2,   2260.6,6,   2358.0,2,   7.6047,       25,2, -999.000,1, -999.000,   -999.0,1,   -999.0, -999.000,9, -999.000, -999.000,9, -999.000
  49NZ20121128,   S04,    67,  1,     13, X12J13,2,20121217,1441,-62.0025, 137.0135, 3969,   2830.7,2,   0.4130,2,   0.41301,2,  34.6870,2,  34.6876,2,-999.0000,9,   216.18,2,   216.03,2,   99.943,   0.0023,2,   -0.000,2,  -999.00,9,    0.000,2,   120.97,2,     0.17,    32.45,2,     0.05,     0.01,2,     0.01,     2.24,2,     0.01,    0.504,2,    0.253,2,    0.039,2,    0.100,2,   2260.6,2,   2357.8,2,   7.6025,       25,2, -999.000,1, -999.000,   -999.0,1,   -999.0, -999.000,9, -999.000, -999.000,9, -999.000
  49NZ20121128,   S04,    67,  1,     12, X12J12,2,20121217,1441,-62.0025, 137.0135, 3969,   3080.3,2,   0.3021,2,   0.30220,2,  34.6826,2,  34.6827,2,-999.0000,9,   219.56,2,   219.42,2,   99.941,   0.0024,2,   -0.000,2,  -999.00,9,    0.000,2,   124.19,2,     0.17,    32.50,2,     0.05,     0.01,2,     0.01,     2.24,2,     0.01,    0.590,2,    0.288,2,    0.042,2,    0.175,2,   2260.8,2,   2356.3,2,   7.6024,       25,6, -999.000,1, -999.000,   -999.0,1,   -999.0, -999.000,9, -999.000, -999.000,9, -999.000
  49NZ20121128,   S04,    67,  1,     11, X12J11,2,20121217,1441,-62.0025, 137.0135, 3969,   3331.3,2,   0.2124,2,   0.21229,2,  34.6778,2,  34.6780,2,-999.0000,9,   222.65,2,   222.53,2,   99.930,   0.0028,2,   -0.000,2,  -999.00,9,    0.000,2,   123.85,2,     0.17,    32.47,2,     0.05,     0.01,2,     0.01,     2.24,2,     0.01,    0.793,2,    0.381,2,    0.055,2,    0.262,2,   2260.4,2,   2357.2,2,   7.6013,       25,2, -999.000,1, -999.000,   -999.0,1,   -999.0, -999.000,9, -999.000, -999.000,9, -999.000
  49NZ20121128,   S04,    67,  1,     10, X12J10,2,20121217,1441,-62.0025, 137.0135, 3969,   3581.5,2,   0.1346,2,   0.13438,2,  34.6740,2,  34.6741,2,-999.0000,9,   225.65,2,   225.75,2,   99.892,   0.0043,2,   -0.010,2,  -999.00,9,    0.000,2,   124.83,2,     0.17,    32.45,2,     0.05,     0.01,2,     0.01,     2.24,2,     0.01,    0.902,2,    0.460,2,    0.066,2,    0.197,2,   2259.0,2,   2356.3,2,   7.6019,       25,2, -999.000,1, -999.000,   -999.0,1,   -999.0, -999.000,9, -999.000, -999.000,9, -999.000
  49NZ20121128,   S04,    67,  1,      9, X12J09,2,20121217,1441,-62.0025, 137.0135, 3969,   3830.7,2,   0.0053,2,   0.00518,2,  34.6655,2,  34.6659,2,-999.0000,9,   231.03,2,   231.18,2,   99.855,   0.0058,2,   -0.000,2,  -999.00,9,    0.000,2,   121.98,2,     0.17,    32.35,2,     0.05,     0.01,2,     0.01,     2.23,2,     0.01,    1.322,2,    0.694,2,    0.104,2,    0.349,2,   2257.9,2,   2356.3,2,   7.6018,       25,2, -999.000,1, -999.000,   -999.0,1,   -999.0, -999.000,9, -999.000, -999.000,9, -999.000
  49NZ20121128,   S04,    67,  1,      1, X12J01,2,20121217,1441,-62.0025, 137.0135, 3969,   3996.7,2,  -0.1291,2,  -0.12931,2,  34.6546,2,  34.6552,2,-999.0000,9,   236.48,2,   236.70,2,   99.545,   0.0182,2,   -0.010,2,  -999.00,9,    0.000,2,   117.96,2,     0.16,    32.26,2,     0.05,     0.01,2,     0.01,     2.23,2,     0.01,    1.894,2,    1.007,2,    0.162,2,    0.669,2,   2257.2,2,   2351.9,2,   7.5986,       25,2, -999.000,1, -999.000,   -999.0,1,   -999.0, -999.000,9, -999.000, -999.000,9, -999.000