BOTTLE,20220819CCHSIOAMB
EXPOCODE,SECT_ID,STNNBR,CASTNO,SAMPNO,BTLNBR,BTLNBR_FLAG_W,DATE,TIME,LATITUDE,LONGITUDE,DEPTH,CTDPRS,CTDPRS_FLAG_W,CTDTMP,CTDTMP_FLAG_W,SBE35,SBE35_FLAG_W,CTDSAL,CTDSAL_FLAG_W,SALNTY,SALNTY_FLAG_W,DNSSAL,DNSSAL_FLAG_W,CTDOXY,CTDOXY_FLAG_W,OXYGEN,OXYGEN_FLAG_W,CTDXMISS,CTDXMISSCP,CTDXMISS_FLAG_W,CTDFLUOR,CTDFLUOR_FLAG_W,CHLORA,CHLORA_FLAG_W,PAR,PAR_FLAG_W,SILCAT,SILCAT_FLAG_W,SILUNC,NITRAT,NITRAT_FLAG_W,NRAUNC,NITRIT,NITRIT_FLAG_W,NRIUNC,PHSPHT,PHSPHT_FLAG_W,PHPUNC,CFC-11,CFC-11_FLAG_W,CFC-12,CFC-12_FLAG_W,CFC113,CFC113_FLAG_W,SF6,SF6_FLAG_W,TCARBN,TCARBN_FLAG_W,ALKALI,ALKALI_FLAG_W,PH_TOT,PH_TMP,PH_TOT_FLAG_W,DELC13,DELC13_FLAG_W,C13ERR,DELC14,DELC14_FLAG_W,C14ERR,CS-134,CS-134_FLAG_W,CS134ER,CS-137,CS-137_FLAG_W,CS137ER
,,,,,,,,UTC,DEG,DEG,METERS,DBAR,,ITS-90,,ITS-90,,PSS-78,,PSS-78,,G/KG,,UMOL/KG,,UMOL/KG,,%TRANS,/METER,,MG/M^3,,MG/CUM,,UE/SQM/S,,UMOL/KG,,UMOL/KG,UMOL/KG,,UMOL/KG,UMOL/KG,,UMOL/KG,UMOL/KG,,UMOL/KG,PMOL/KG,,PMOL/KG,,PMOL/KG,,FMOL/KG,,UMOL/KG,,UMOL/KG,,,DEG C,,/MILLE,,/MILLE,/MILLE,,/MILLE,MBQ/KG,,MBQ/KG,MBQ/KG,,MBQ/KG
  49NZ20121128,   S04,    72,  1,     36, X12J36,2,20121221,0327,-62.0013, 129.9385, 4466,      4.8,2,   0.6918,2,   0.69188,2,  33.7303,2,  33.7304,2,-999.0000,9,   353.00,2,   352.81,2,   94.392,   0.2309,2,    0.180,2,  -999.00,9,  267.504,2,    14.76,2,     0.07,    24.13,2,     0.04,     0.25,2,     0.01,     1.50,2,     0.01,    5.996,2,    3.265,2,    0.560,2, -999.000,9,   -999.0,9,   -999.0,9,-999.0000,     -999,9, -999.000,9, -999.000,   -999.0,9,   -999.0, -999.000,9, -999.000, -999.000,9, -999.000
  49NZ20121128,   S04,    72,  1,     35, X12J35,2,20121221,0327,-62.0013, 129.9385, 4466,     25.2,2,   0.5908,2,   0.59031,2,  33.7274,2,  33.7279,2,-999.0000,9,   353.55,2,   353.67,2,   94.201,   0.2390,2,    0.450,2,  -999.00,9,   45.444,2,    14.72,2,     0.07,    24.10,2,     0.04,     0.24,2,     0.01,     1.49,2,     0.01,    6.001,2,    3.256,2,    0.558,2, -999.000,9,   -999.0,9,   -999.0,9,-999.0000,     -999,9, -999.000,9, -999.000,   -999.0,9,   -999.0, -999.000,9, -999.000, -999.000,9, -999.000
  49NZ20121128,   S04,    72,  1,     34, X12J34,2,20121221,0327,-62.0013, 129.9385, 4466,     50.0,2,  -0.0662,2,  -0.04460,2,  33.7196,2,  33.7278,2,-999.0000,9,   358.60,2,   356.53,2,   91.709,   0.3462,2,    1.330,2,  -999.00,9,    6.899,2,    18.13,2,     0.07,    24.88,2,     0.04,     0.21,2,     0.01,     1.65,2,     0.01,    6.104,2,    3.318,2,    0.570,2, -999.000,9,   -999.0,9,   -999.0,9,-999.0000,     -999,9, -999.000,9, -999.000,   -999.0,9,   -999.0, -999.000,9, -999.000, -999.000,9, -999.000
  49NZ20121128,   S04,    72,  1,     33, X12J33,2,20121221,0327,-62.0013, 129.9385, 4466,     75.9,2,  -1.3649,2,  -1.36596,2,  33.8657,2,  33.8670,2,-999.0000,9,   340.89,2,   340.50,2,   98.545,   0.0586,2,    0.460,2,  -999.00,9,    1.282,2,    32.63,2,     0.09,    28.77,2,     0.04,     0.23,2,     0.01,     2.03,2,     0.01,    5.879,2,    3.188,2,    0.584,2, -999.000,9,   -999.0,9,   -999.0,9,-999.0000,     -999,9, -999.000,9, -999.000,   -999.0,9,   -999.0, -999.000,9, -999.000, -999.000,9, -999.000
  49NZ20121128,   S04,    72,  1,     32, X12J32,2,20121221,0327,-62.0013, 129.9385, 4466,    100.2,2,  -1.3429,2,  -1.34354,2,  33.9268,2,  33.9320,2,-999.0000,9,   329.32,2,   329.37,2,   99.056,   0.0379,2,    0.210,2,  -999.00,9,    0.416,2,    37.16,2,     0.09,    29.63,2,     0.04,     0.23,2,     0.01,     2.06,2,     0.01,    5.595,2,    3.023,2,    0.555,2, -999.000,9,   -999.0,9,   -999.0,9,-999.0000,     -999,9, -999.000,9, -999.000,   -999.0,9,   -999.0, -999.000,9, -999.000, -999.000,9, -999.000
  49NZ20121128,   S04,    72,  1,     31, X12J31,2,20121221,0327,-62.0013, 129.9385, 4466,    125.2,2,  -1.1109,2,  -1.11472,2,  33.9993,2,  33.9993,2,-999.0000,9,   314.53,2,   314.40,2,   99.425,   0.0231,2,    0.130,2,  -999.00,9,    0.126,2,    41.28,2,     0.10,    30.52,2,     0.04,     0.17,2,     0.01,     2.10,2,     0.01,    5.203,2,    2.805,2,    0.475,2, -999.000,9,   -999.0,9,   -999.0,9,-999.0000,     -999,9, -999.000,9, -999.000,   -999.0,9,   -999.0, -999.000,9, -999.000, -999.000,9, -999.000
  49NZ20121128,   S04,    72,  1,     30, X12J30,2,20121221,0327,-62.0013, 129.9385, 4466,    150.4,2,   0.3569,2,   0.36469,2,  34.1666,2,  34.1702,2,-999.0000,9,   260.67,2,   259.65,2,   99.409,   0.0237,2,    0.100,2,  -999.00,9,    0.025,2,    49.24,2,     0.10,    32.73,2,     0.05,     0.03,2,     0.01,     2.24,2,     0.01,    3.798,2,    2.036,2,    0.354,2, -999.000,9,   -999.0,9,   -999.0,9,-999.0000,     -999,9, -999.000,9, -999.000,   -999.0,9,   -999.0, -999.000,9, -999.000, -999.000,9, -999.000
  49NZ20121128,   S04,    72,  1,     29, X12J29,2,20121221,0327,-62.0013, 129.9385, 4466,    199.6,2,   1.9384,2,   1.93675,2,  34.4007,2,  34.4008,2,-999.0000,9,   195.13,2,   195.04,2,   99.592,   0.0164,2,    0.060,2,  -999.00,9,    0.000,2,    62.67,2,     0.12,    35.05,2,     0.05,     0.02,2,     0.01,     2.39,2,     0.01,    1.888,2,    0.993,2,    0.151,2, -999.000,9,   -999.0,9,   -999.0,9,-999.0000,     -999,9, -999.000,9, -999.000,   -999.0,9,   -999.0, -999.000,9, -999.000, -999.000,9, -999.000
  49NZ20121128,   S04,    72,  1,     28, X12J28,2,20121221,0327,-62.0013, 129.9385, 4466,    249.7,2,   2.1709,2,   2.17058,2,  34.4799,2,  34.4791,2,-999.0000,9,   180.54,2,   180.44,2,   99.560,   0.0176,2,    0.030,2,  -999.00,9,    0.000,2,    67.66,2,     0.12,    35.15,2,     0.05,     0.02,2,     0.01,     2.40,2,     0.01,    1.311,2,    0.678,2,    0.099,2, -999.000,9,   -999.0,9,   -999.0,9,-999.0000,     -999,9, -999.000,9, -999.000,   -999.0,9,   -999.0, -999.000,9, -999.000, -999.000,9, -999.000
  49NZ20121128,   S04,    72,  1,     27, X12J27,2,20121221,0327,-62.0013, 129.9385, 4466,    300.0,2,   2.2013,2,   2.20091,2,  34.5245,2,  34.5240,2,-999.0000,9,   176.55,2,   176.41,2,   99.676,   0.0130,2,    0.020,2,  -999.00,9,    0.000,2,    70.22,2,     0.12,    34.90,2,     0.05,     0.01,2,     0.01,     2.38,2,     0.01,    1.048,2,    0.542,2,    0.074,2, -999.000,9,   -999.0,9,   -999.0,9,-999.0000,     -999,9, -999.000,9, -999.000,   -999.0,9,   -999.0, -999.000,9, -999.000, -999.000,9, -999.000
  49NZ20121128,   S04,    72,  1,     26, X12J26,2,20121221,0327,-62.0013, 129.9385, 4466,    399.5,2,   2.2138,2,   2.21278,2,  34.5938,2,  34.5923,2,-999.0000,9,   174.13,2,   173.91,2,   99.758,   0.0097,2,    0.030,2,  -999.00,9,    0.000,2,    73.53,2,     0.12,    34.19,2,     0.05,     0.01,2,     0.01,     2.34,2,     0.01,    0.712,2,    0.362,2,    0.055,2, -999.000,9,   -999.0,9,   -999.0,9,-999.0000,     -999,9, -999.000,9, -999.000,   -999.0,9,   -999.0, -999.000,9, -999.000, -999.000,9, -999.000
  49NZ20121128,   S04,    72,  1,     25, X12J25,2,20121221,0327,-62.0013, 129.9385, 4466,    499.4,2,   2.1730,2,   2.17249,2,  34.6414,2,  34.6411,2,-999.0000,9,   176.11,2,   175.86,2,   99.827,   0.0069,2,    0.010,2,  -999.00,9,    0.000,2,    75.69,2,     0.13,    33.31,2,     0.05,     0.01,2,     0.01,     2.27,2,     0.01,    0.529,2,    0.267,2,    0.041,2, -999.000,9,   -999.0,9,   -999.0,9,-999.0000,     -999,9, -999.000,9, -999.000,   -999.0,9,   -999.0, -999.000,9, -999.000, -999.000,9, -999.000
  49NZ20121128,   S04,    72,  1,     24, X12J24,2,20121221,0327,-62.0013, 129.9385, 4466,    601.4,2,   2.1338,2,   2.13365,2,  34.6764,2,  34.6760,2,-999.0000,9,   179.04,2,   178.74,2,   99.863,   0.0055,2,    0.010,2,  -999.00,9,    0.000,2,    77.29,2,     0.13,    32.62,2,     0.05,     0.01,2,     0.01,     2.23,2,     0.01,    0.410,6,    0.204,6,    0.032,6, -999.000,9,   -999.0,9,   -999.0,9,-999.0000,     -999,9, -999.000,9, -999.000,   -999.0,9,   -999.0, -999.000,9, -999.000, -999.000,9, -999.000
  49NZ20121128,   S04,    72,  1,     23, X12J23,2,20121221,0327,-62.0013, 129.9385, 4466,    701.9,2,   2.0908,2,   2.09072,2,  34.6986,2,  34.6984,2,-999.0000,9,   182.05,2,   181.95,2,   99.858,   0.0057,2,    0.000,2,  -999.00,9,    0.000,2,    78.56,2,     0.13,    32.09,2,     0.04,     0.01,2,     0.01,     2.19,2,     0.01,    0.345,2,    0.165,2,    0.027,2, -999.000,9,   -999.0,9,   -999.0,9,-999.0000,     -999,9, -999.000,9, -999.000,   -999.0,9,   -999.0, -999.000,9, -999.000, -999.000,9, -999.000
  49NZ20121128,   S04,    72,  1,     22, X12J22,2,20121221,0327,-62.0013, 129.9385, 4466,    800.8,2,   2.0206,2,   2.02048,2,  34.7138,2,  34.7134,2,-999.0000,9,   184.88,2,   184.84,2,   99.896,   0.0042,2,    0.000,2,  -999.00,9,    0.000,2,    80.17,2,     0.13,    31.74,2,     0.04,     0.01,2,     0.01,     2.17,2,     0.01,    0.308,2,    0.149,2,    0.029,2, -999.000,9,   -999.0,9,   -999.0,9,-999.0000,     -999,9, -999.000,9, -999.000,   -999.0,9,   -999.0, -999.000,9, -999.000, -999.000,9, -999.000
  49NZ20121128,   S04,    72,  1,     21, X12J21,2,20121221,0327,-62.0013, 129.9385, 4466,    900.5,2,   1.9681,2,   1.96792,2,  34.7253,2,  34.7251,2,-999.0000,9,   187.58,2,   187.61,2,   99.892,   0.0043,2,    0.000,2,  -999.00,9,    0.000,2,    81.50,2,     0.13,    31.38,2,     0.04,     0.01,2,     0.01,     2.15,2,     0.01,    0.272,2,    0.131,2,    0.020,2, -999.000,9,   -999.0,9,   -999.0,9,-999.0000,     -999,9, -999.000,9, -999.000,   -999.0,9,   -999.0, -999.000,9, -999.000, -999.000,9, -999.000
  49NZ20121128,   S04,    72,  1,     20, X12J20,2,20121221,0327,-62.0013, 129.9385, 4466,   1000.9,2,   1.9136,2,   1.91341,2,  34.7368,2,  34.7362,2,-999.0000,9,   190.88,2,   190.91,2,   99.869,   0.0052,2,    0.000,2,  -999.00,9,    0.000,2,    83.06,2,     0.13,    30.99,2,     0.04,     0.01,2,     0.01,     2.12,2,     0.01,    0.262,4,    0.112,4,    0.013,4,    0.133,4,   -999.0,9,   -999.0,9,-999.0000,     -999,9, -999.000,9, -999.000,   -999.0,9,   -999.0, -999.000,9, -999.000, -999.000,9, -999.000
  49NZ20121128,   S04,    72,  1,     19, X12J19,2,20121221,0327,-62.0013, 129.9385, 4466,   1250.6,2,   1.7132,2,   1.71303,2,  34.7430,2,  34.7426,2,-999.0000,9,   195.54,2,   195.53,2,   99.942,   0.0023,2,    0.000,2,  -999.00,9,    0.000,2,    88.19,2,     0.14,    30.82,2,     0.04,     0.01,2,     0.01,     2.11,2,     0.01, -999.000,5, -999.000,5, -999.000,5, -999.000,5,   -999.0,9,   -999.0,9,-999.0000,     -999,9, -999.000,9, -999.000,   -999.0,9,   -999.0, -999.000,9, -999.000, -999.000,9, -999.000
  49NZ20121128,   S04,    72,  1,     18, X12J18,2,20121221,0327,-62.0013, 129.9385, 4466,   1501.2,2,   1.4983,2,   1.49822,2,  34.7401,2,  34.7401,2,-999.0000,9,   199.43,2,   199.34,2,   99.982,   0.0007,2,    0.000,2,  -999.00,9,    0.000,2,    93.90,2,     0.14,    30.92,2,     0.04,     0.01,2,     0.01,     2.12,2,     0.01, -999.000,5, -999.000,5, -999.000,5, -999.000,5,   -999.0,9,   -999.0,9,-999.0000,     -999,9, -999.000,9, -999.000,   -999.0,9,   -999.0, -999.000,9, -999.000, -999.000,9, -999.000
  49NZ20121128,   S04,    72,  1,     17, X12J17,2,20121221,0327,-62.0013, 129.9385, 4466,   1751.0,2,   1.2788,2,   1.27879,2,  34.7323,2,  34.7318,2,-999.0000,9,   202.37,2,   202.17,2,   99.953,   0.0019,2,   -0.000,2,  -999.00,9,    0.000,2,   100.43,2,     0.15,    31.22,2,     0.04,     0.01,2,     0.01,     2.14,2,     0.01,    0.195,4,    0.082,4,    0.006,4,    0.000,4,   -999.0,9,   -999.0,9,-999.0000,     -999,9, -999.000,9, -999.000,   -999.0,9,   -999.0, -999.000,9, -999.000, -999.000,9, -999.000
  49NZ20121128,   S04,    72,  1,     16, X12J16,2,20121221,0327,-62.0013, 129.9385, 4466,   2000.1,2,   1.0773,2,   1.07708,2,  34.7222,2,  34.7220,2,-999.0000,9,   204.79,2,   204.64,2,   99.982,   0.0007,2,   -0.000,2,  -999.00,9,    0.000,2,   106.46,2,     0.15,    31.60,2,     0.04,     0.01,2,     0.01,     2.17,2,     0.01,    0.212,4,    0.087,4,    0.006,4,    0.000,4,   -999.0,9,   -999.0,9,-999.0000,     -999,9, -999.000,9, -999.000,   -999.0,9,   -999.0, -999.000,9, -999.000, -999.000,9, -999.000
  49NZ20121128,   S04,    72,  1,     15, X12J15,2,20121221,0327,-62.0013, 129.9385, 4466,   2250.5,2,   0.8949,2,   0.89501,2,  34.7127,2,  34.7125,2,-999.0000,9,   207.29,2,   207.12,2,   99.955,   0.0018,2,   -0.000,2,  -999.00,9,    0.000,2,   111.60,2,     0.16,    31.92,2,     0.04,     0.01,2,     0.01,     2.20,2,     0.01,    0.250,4,    0.110,4,    0.007,4,    0.000,4,   -999.0,9,   -999.0,9,-999.0000,     -999,9, -999.000,9, -999.000,   -999.0,9,   -999.0, -999.000,9, -999.000, -999.000,9, -999.000
  49NZ20121128,   S04,    72,  1,     14, X12J14,2,20121221,0327,-62.0013, 129.9385, 4466,   2500.0,2,   0.7055,2,   0.70538,2,  34.7024,2,  34.7019,2,-999.0000,9,   210.27,2,   210.07,2,   99.980,   0.0008,2,   -0.000,2,  -999.00,9,    0.000,2,   116.02,2,     0.16,    32.14,2,     0.05,     0.01,2,     0.01,     2.20,2,     0.01,    0.308,4,    0.138,4,    0.008,4,    0.000,4,   -999.0,9,   -999.0,9,-999.0000,     -999,9, -999.000,9, -999.000,   -999.0,9,   -999.0, -999.000,9, -999.000, -999.000,9, -999.000
  49NZ20121128,   S04,    72,  1,     13, X12J13,2,20121221,0327,-62.0013, 129.9385, 4466,   2751.2,2,   0.5318,2,   0.53165,2,  34.6931,2,  34.6926,2,-999.0000,9,   213.70,2,   213.51,2,   99.945,   0.0022,2,   -0.000,2,  -999.00,9,    0.000,2,   119.67,2,     0.17,    32.39,2,     0.05,     0.01,2,     0.01,     2.23,2,     0.01,    0.374,2,    0.177,2,    0.019,2,    0.068,2,   -999.0,9,   -999.0,9,-999.0000,     -999,9, -999.000,9, -999.000,   -999.0,9,   -999.0, -999.000,9, -999.000, -999.000,9, -999.000
  49NZ20121128,   S04,    72,  1,     12, X12J12,2,20121221,0327,-62.0013, 129.9385, 4466,   3001.3,2,   0.3980,2,   0.39806,2,  34.6873,2,  34.6869,2,-999.0000,9,   217.42,2,   217.18,2,   99.953,   0.0019,2,   -0.000,2,  -999.00,9,    0.000,2,   122.87,2,     0.17,    32.49,2,     0.05,     0.01,2,     0.01,     2.23,2,     0.01,    0.447,2,    0.225,2,    0.023,2,    0.147,2,   -999.0,9,   -999.0,9,-999.0000,     -999,9, -999.000,9, -999.000,   -999.0,9,   -999.0, -999.000,9, -999.000, -999.000,9, -999.000
  49NZ20121128,   S04,    72,  1,     11, X12J11,2,20121221,0327,-62.0013, 129.9385, 4466,   3250.6,2,   0.2937,2,   0.29363,2,  34.6820,2,  34.6817,2,-999.0000,9,   220.55,2,   220.45,2,   99.896,   0.0042,2,   -0.000,2,  -999.00,9,    0.000,2,   124.54,2,     0.17,    32.52,2,     0.05,     0.01,2,     0.01,     2.24,2,     0.01,    0.579,2,    0.286,2,    0.031,2,    0.242,2,   -999.0,9,   -999.0,9,-999.0000,     -999,9, -999.000,9, -999.000,   -999.0,9,   -999.0, -999.000,9, -999.000, -999.000,9, -999.000
  49NZ20121128,   S04,    72,  1,     10, X12J10,2,20121221,0327,-62.0013, 129.9385, 4466,   3500.2,2,   0.2190,2,   0.21903,2,  34.6785,2,  34.6785,2,-999.0000,9,   223.28,2,   223.18,2,   99.966,   0.0014,2,   -0.000,2,  -999.00,9,    0.000,2,   125.84,2,     0.17,    32.54,2,     0.05,     0.01,2,     0.01,     2.24,2,     0.01,    0.703,2,    0.346,2,    0.035,2,    0.132,2,   -999.0,9,   -999.0,9,-999.0000,     -999,9, -999.000,9, -999.000,   -999.0,9,   -999.0, -999.000,9, -999.000, -999.000,9, -999.000
  49NZ20121128,   S04,    72,  1,      9, X12J09,2,20121221,0327,-62.0013, 129.9385, 4466,   3751.0,2,   0.1408,2,   0.14084,2,  34.6741,2,  34.6733,2,-999.0000,9,   226.39,2,   226.24,2,   99.932,   0.0027,2,   -0.010,2,  -999.00,9,    0.000,2,   125.95,2,     0.17,    32.51,2,     0.05,     0.01,2,     0.01,     2.24,2,     0.01,    0.905,2,    0.441,2,    0.046,2,    0.221,2,   -999.0,9,   -999.0,9,-999.0000,     -999,9, -999.000,9, -999.000,   -999.0,9,   -999.0, -999.000,9, -999.000, -999.000,9, -999.000
  49NZ20121128,   S04,    72,  1,      8, X12J08,2,20121221,0327,-62.0013, 129.9385, 4466,   4000.6,2,   0.0649,2,   0.06508,2,  34.6699,2,  34.6696,2,-999.0000,9,   229.51,2,   229.52,2,   99.930,   0.0028,2,   -0.010,2,  -999.00,9,    0.000,2,   126.64,2,     0.17,    32.47,2,     0.05,     0.01,2,     0.01,     2.23,2,     0.01,    1.100,2,    0.558,2,    0.065,2,    0.297,2,   -999.0,9,   -999.0,9,-999.0000,     -999,9, -999.000,9, -999.000,   -999.0,9,   -999.0, -999.000,9, -999.000, -999.000,9, -999.000
  49NZ20121128,   S04,    72,  1,      7, X12J07,2,20121221,0327,-62.0013, 129.9385, 4466,   4251.1,2,  -0.0065,2,  -0.00640,2,  34.6637,2,  34.6633,2,-999.0000,9,   233.16,2,   233.22,2,   99.917,   0.0033,2,   -0.010,2,  -999.00,9,    0.000,2,   124.34,2,     0.17,    32.37,2,     0.05,     0.01,2,     0.01,     2.23,2,     0.01,    1.437,2,    0.722,2,    0.095,2,    0.422,2,   -999.0,9,   -999.0,9,-999.0000,     -999,9, -999.000,9, -999.000,   -999.0,9,   -999.0, -999.000,9, -999.000, -999.000,9, -999.000
  49NZ20121128,   S04,    72,  1,      6, X12J06,2,20121221,0327,-62.0013, 129.9385, 4466,   4500.9,2,  -0.1445,2,  -0.14450,2,  34.6491,2,  34.6489,2,-999.0000,9,   239.01,2,   239.03,2,   99.606,   0.0158,2,   -0.010,2,  -999.00,9,    0.000,2,   126.51,2,     0.17,    32.29,2,     0.05,     0.01,2,     0.01,     2.22,2,     0.01,    2.064,2,    1.073,2,    0.162,2,    0.690,2,   -999.0,9,   -999.0,9,-999.0000,     -999,9, -999.000,9, -999.000,   -999.0,9,   -999.0, -999.000,9, -999.000, -999.000,9, -999.000
  49NZ20121128,   S04,    72,  1,      1, X12J01,2,20121221,0327,-62.0013, 129.9385, 4466,   4543.8,2,  -0.1398,2,  -0.13968,2,  34.6492,2,  34.6494,2,-999.0000,9,   239.03,2,   239.35,2,   99.575,   0.0170,2,   -0.000,2,  -999.00,9,    0.000,2,   126.77,2,     0.17,    32.32,2,     0.05,     0.01,2,     0.01,     2.22,2,     0.01,    2.066,2,    1.073,2,    0.161,2,    0.678,2,   -999.0,9,   -999.0,9,-999.0000,     -999,9, -999.000,9, -999.000,   -999.0,9,   -999.0, -999.000,9, -999.000, -999.000,9, -999.000