BOTTLE,20220819CCHSIOAMB
EXPOCODE,SECT_ID,STNNBR,CASTNO,SAMPNO,BTLNBR,BTLNBR_FLAG_W,DATE,TIME,LATITUDE,LONGITUDE,DEPTH,CTDPRS,CTDPRS_FLAG_W,CTDTMP,CTDTMP_FLAG_W,SBE35,SBE35_FLAG_W,CTDSAL,CTDSAL_FLAG_W,SALNTY,SALNTY_FLAG_W,DNSSAL,DNSSAL_FLAG_W,CTDOXY,CTDOXY_FLAG_W,OXYGEN,OXYGEN_FLAG_W,CTDXMISS,CTDXMISSCP,CTDXMISS_FLAG_W,CTDFLUOR,CTDFLUOR_FLAG_W,CHLORA,CHLORA_FLAG_W,PAR,PAR_FLAG_W,SILCAT,SILCAT_FLAG_W,SILUNC,NITRAT,NITRAT_FLAG_W,NRAUNC,NITRIT,NITRIT_FLAG_W,NRIUNC,PHSPHT,PHSPHT_FLAG_W,PHPUNC,CFC-11,CFC-11_FLAG_W,CFC-12,CFC-12_FLAG_W,CFC113,CFC113_FLAG_W,SF6,SF6_FLAG_W,TCARBN,TCARBN_FLAG_W,ALKALI,ALKALI_FLAG_W,PH_TOT,PH_TMP,PH_TOT_FLAG_W,DELC13,DELC13_FLAG_W,C13ERR,DELC14,DELC14_FLAG_W,C14ERR,CS-134,CS-134_FLAG_W,CS134ER,CS-137,CS-137_FLAG_W,CS137ER
,,,,,,,,UTC,DEG,DEG,METERS,DBAR,,ITS-90,,ITS-90,,PSS-78,,PSS-78,,G/KG,,UMOL/KG,,UMOL/KG,,%TRANS,/METER,,MG/M^3,,MG/CUM,,UE/SQM/S,,UMOL/KG,,UMOL/KG,UMOL/KG,,UMOL/KG,UMOL/KG,,UMOL/KG,UMOL/KG,,UMOL/KG,PMOL/KG,,PMOL/KG,,PMOL/KG,,FMOL/KG,,UMOL/KG,,UMOL/KG,,,DEG C,,/MILLE,,/MILLE,/MILLE,,/MILLE,MBQ/KG,,MBQ/KG,MBQ/KG,,MBQ/KG
  49NZ20121128,   S04,    82,  1,     36, X12J36,2,20121223,2314,-61.9585, 116.4025, 4223,      5.0,2,   0.5190,2,   0.51887,2,  33.8239,2,  33.8247,2,-999.0000,9,   361.13,2,   361.59,2,   86.415,   0.5840,2,    0.430,2,  -999.00,9,  207.944,2,    29.49,2,     0.09,    23.23,2,     0.04,     0.24,2,     0.01,     1.43,2,     0.01,    5.866,2,    3.185,2,    0.559,2, -999.000,9,   -999.0,9,   -999.0,9,-999.0000,     -999,9, -999.000,9, -999.000,   -999.0,9,   -999.0, -999.000,9, -999.000, -999.000,9, -999.000
  49NZ20121128,   S04,    82,  1,     35, X12J35,2,20121223,2314,-61.9585, 116.4025, 4223,     25.3,2,   0.4824,2,   0.48211,2,  33.8259,2,  33.8261,2,-999.0000,9,   361.00,2,   361.19,2,   86.379,   0.5857,2,    1.420,2,  -999.00,9,   12.288,2,    29.92,2,     0.09,    23.34,2,     0.04,     0.24,2,     0.01,     1.46,2,     0.01,    5.858,2,    3.182,2,    0.580,2, -999.000,9,   -999.0,9,   -999.0,9,-999.0000,     -999,9, -999.000,9, -999.000,   -999.0,9,   -999.0, -999.000,9, -999.000, -999.000,9, -999.000
  49NZ20121128,   S04,    82,  1,     34, X12J34,2,20121223,2314,-61.9585, 116.4025, 4223,     50.7,2,  -1.5747,2,  -1.57498,2,  33.9807,2,  33.9774,2,-999.0000,9,   332.19,2,   333.29,2,   97.749,   0.0911,2,    0.400,2,  -999.00,9,    0.761,2,    44.43,2,     0.10,    29.00,2,     0.04,     0.19,2,     0.01,     2.04,2,     0.01,    5.513,6,    2.967,6,    0.536,6, -999.000,9,   -999.0,9,   -999.0,9,-999.0000,     -999,9, -999.000,9, -999.000,   -999.0,9,   -999.0, -999.000,9, -999.000, -999.000,9, -999.000
  49NZ20121128,   S04,    82,  1,     33, X12J33,2,20121223,2314,-61.9585, 116.4025, 4223,     74.6,2,  -1.5362,2,  -1.53551,2,  34.0473,2,  34.0476,2,-999.0000,9,   322.24,2,   322.17,2,   98.577,   0.0573,2,    0.280,2,  -999.00,9,    0.173,2,    47.74,2,     0.10,    29.62,2,     0.04,     0.19,2,     0.01,     2.06,2,     0.01,    5.216,2,    2.809,2,    0.493,2, -999.000,9,   -999.0,9,   -999.0,9,-999.0000,     -999,9, -999.000,9, -999.000,   -999.0,9,   -999.0, -999.000,9, -999.000, -999.000,9, -999.000
  49NZ20121128,   S04,    82,  1,     32, X12J32,2,20121223,2314,-61.9585, 116.4025, 4223,    101.3,2,  -1.4403,2,  -1.44048,2,  34.1304,2,  34.1286,2,-999.0000,9,   306.17,2,   306.68,2,   98.944,   0.0425,2,    0.270,2,  -999.00,9,    0.015,2,    54.26,2,     0.11,    30.29,2,     0.04,     0.15,2,     0.01,     2.10,2,     0.01,    4.706,2,    2.529,2,    0.442,2, -999.000,9,   -999.0,9,   -999.0,9,-999.0000,     -999,9, -999.000,9, -999.000,   -999.0,9,   -999.0, -999.000,9, -999.000, -999.000,9, -999.000
  49NZ20121128,   S04,    82,  1,     31, X12J31,2,20121223,2314,-61.9585, 116.4025, 4223,    125.4,2,  -1.0873,2,  -1.09298,2,  34.2016,2,  34.2050,2,-999.0000,9,   286.74,2,   285.67,2,   99.187,   0.0327,2,    0.200,2,  -999.00,9,    0.000,2,    57.95,2,     0.11,    31.30,2,     0.04,     0.10,2,     0.01,     2.16,2,     0.01,    4.175,2,    2.242,2,    0.386,2, -999.000,9,   -999.0,9,   -999.0,9,-999.0000,     -999,9, -999.000,9, -999.000,   -999.0,9,   -999.0, -999.000,9, -999.000, -999.000,9, -999.000
  49NZ20121128,   S04,    82,  1,     30, X12J30,2,20121223,2314,-61.9585, 116.4025, 4223,    150.7,2,   0.3566,2,   0.35694,2,  34.3735,2,  34.3719,2,-999.0000,9,   233.65,2,   234.17,2,   99.595,   0.0162,2,    0.120,2,  -999.00,9,    0.000,2,    65.66,2,     0.12,    33.06,2,     0.05,     0.03,2,     0.01,     2.27,2,     0.01,    2.731,2,    1.463,2,    0.260,2, -999.000,9,   -999.0,9,   -999.0,9,-999.0000,     -999,9, -999.000,9, -999.000,   -999.0,9,   -999.0, -999.000,9, -999.000, -999.000,9, -999.000
  49NZ20121128,   S04,    82,  1,     29, X12J29,2,20121223,2314,-61.9585, 116.4025, 4223,    200.2,2,   1.5294,2,   1.52879,2,  34.5434,2,  34.5443,2,-999.0000,9,   190.52,2,   190.52,2,   99.656,   0.0138,2,    0.040,2,  -999.00,9,    0.000,2,    74.73,2,     0.13,    34.00,2,     0.05,     0.01,2,     0.01,     2.34,2,     0.01,    1.313,2,    0.696,2,    0.118,2, -999.000,9,   -999.0,9,   -999.0,9,-999.0000,     -999,9, -999.000,9, -999.000,   -999.0,9,   -999.0, -999.000,9, -999.000, -999.000,9, -999.000
  49NZ20121128,   S04,    82,  1,     28, X12J28,2,20121223,2314,-61.9585, 116.4025, 4223,    249.3,2,   1.4396,2,   1.44020,2,  34.5710,2,  34.5711,2,-999.0000,9,   192.91,2,   192.41,2,   99.686,   0.0126,2,    0.030,2,  -999.00,9,    0.000,2,    76.58,2,     0.13,    33.53,2,     0.05,     0.01,2,     0.01,     2.30,2,     0.01,    1.232,2,    0.650,2,    0.105,2, -999.000,9,   -999.0,9,   -999.0,9,-999.0000,     -999,9, -999.000,9, -999.000,   -999.0,9,   -999.0, -999.000,9, -999.000, -999.000,9, -999.000
  49NZ20121128,   S04,    82,  1,     27, X12J27,2,20121223,2314,-61.9585, 116.4025, 4223,    330.6,2,   1.6679,2,   1.66726,2,  34.6375,2,  34.6375,2,-999.0000,9,   186.45,2,   186.29,2,   99.793,   0.0083,2,    0.020,2,  -999.00,9,    0.000,2,    79.78,2,     0.13,    33.13,2,     0.05,     0.01,2,     0.01,     2.27,2,     0.01,    0.843,2,    0.439,2,    0.071,2, -999.000,9,   -999.0,9,   -999.0,9,-999.0000,     -999,9, -999.000,9, -999.000,   -999.0,9,   -999.0, -999.000,9, -999.000, -999.000,9, -999.000
  49NZ20121128,   S04,    82,  1,     26, X12J26,2,20121223,2314,-61.9585, 116.4025, 4223,    430.3,2,   1.7812,2,   1.78085,2,  34.6872,2,  34.6870,2,-999.0000,9,   185.17,2,   185.07,2,   99.861,   0.0056,2,    0.010,2,  -999.00,9,    0.000,2,    81.86,2,     0.13,    32.36,2,     0.05,     0.01,2,     0.01,     2.21,2,     0.01,    0.566,2,    0.290,2,    0.052,2, -999.000,9,   -999.0,9,   -999.0,9,-999.0000,     -999,9, -999.000,9, -999.000,   -999.0,9,   -999.0, -999.000,9, -999.000, -999.000,9, -999.000
  49NZ20121128,   S04,    82,  1,     25, X12J25,2,20121223,2314,-61.9585, 116.4025, 4223,    530.7,2,   1.7837,2,   1.78350,2,  34.7119,2,  34.7119,2,-999.0000,9,   187.48,2,   187.57,2,   99.909,   0.0036,2,    0.010,2,  -999.00,9,    0.000,2,    83.64,2,     0.13,    31.84,2,     0.04,     0.01,2,     0.01,     2.18,2,     0.01,    0.428,2,    0.213,2,    0.040,2, -999.000,9,   -999.0,9,   -999.0,9,-999.0000,     -999,9, -999.000,9, -999.000,   -999.0,9,   -999.0, -999.000,9, -999.000, -999.000,9, -999.000
  49NZ20121128,   S04,    82,  1,     24, X12J24,2,20121223,2314,-61.9585, 116.4025, 4223,    630.7,2,   1.7094,2,   1.70920,2,  34.7219,2,  34.7220,2,-999.0000,9,   190.67,2,   190.76,2,   99.905,   0.0038,2,    0.010,2,  -999.00,9,    0.000,2,    85.50,2,     0.14,    31.53,2,     0.04,     0.01,2,     0.01,     2.16,2,     0.01,    0.395,6,    0.196,6,    0.032,6, -999.000,9,   -999.0,9,   -999.0,9,-999.0000,     -999,9, -999.000,9, -999.000,   -999.0,9,   -999.0, -999.000,9, -999.000, -999.000,9, -999.000
  49NZ20121128,   S04,    82,  1,     23, X12J23,2,20121223,2314,-61.9585, 116.4025, 4223,    730.0,2,   1.6564,2,   1.65625,2,  34.7298,2,  34.7298,2,-999.0000,9,   193.02,2,   193.16,2,   99.928,   0.0029,2,    0.000,2,  -999.00,9,    0.000,2,    87.16,2,     0.14,    31.28,2,     0.04,     0.01,2,     0.01,     2.15,2,     0.01,    0.348,2,    0.170,2,    0.031,2, -999.000,9,   -999.0,9,   -999.0,9,-999.0000,     -999,9, -999.000,9, -999.000,   -999.0,9,   -999.0, -999.000,9, -999.000, -999.000,9, -999.000
  49NZ20121128,   S04,    82,  1,     22, X12J22,2,20121223,2314,-61.9585, 116.4025, 4223,    830.1,2,   1.5818,2,   1.58167,2,  34.7336,2,  34.7339,2,-999.0000,9,   195.30,2,   195.48,2,   99.945,   0.0022,2,    0.000,2,  -999.00,9,    0.000,2,    89.16,2,     0.14,    31.13,2,     0.04,     0.00,2,     0.01,     2.14,2,     0.01,    0.315,2,    0.155,2,    0.030,2, -999.000,9,   -999.0,9,   -999.0,9,-999.0000,     -999,9, -999.000,9, -999.000,   -999.0,9,   -999.0, -999.000,9, -999.000, -999.000,9, -999.000
  49NZ20121128,   S04,    82,  1,     21, X12J21,2,20121223,2314,-61.9585, 116.4025, 4223,    931.0,2,   1.4971,2,   1.49711,2,  34.7348,2,  34.7357,2,-999.0000,9,   196.94,2,   197.14,2,   99.935,   0.0026,2,    0.000,2,  -999.00,9,    0.000,2,    91.60,2,     0.14,    31.13,2,     0.04,     0.00,2,     0.01,     2.14,2,     0.01,    0.291,2,    0.141,2,    0.021,2, -999.000,9,   -999.0,9,   -999.0,9,-999.0000,     -999,9, -999.000,9, -999.000,   -999.0,9,   -999.0, -999.000,9, -999.000, -999.000,9, -999.000
  49NZ20121128,   S04,    82,  1,     20, X12J20,2,20121223,2314,-61.9585, 116.4025, 4223,   1081.7,2,   1.3822,2,   1.38237,2,  34.7342,2,  34.7342,2,-999.0000,9,   199.07,2,   199.21,2,   99.971,   0.0012,2,    0.000,2,  -999.00,9,    0.000,2,    95.23,2,     0.14,    31.17,2,     0.04,     0.00,2,     0.01,     2.14,2,     0.01,    0.255,2,    0.124,2,    0.027,2, -999.000,9,   -999.0,9,   -999.0,9,-999.0000,     -999,9, -999.000,9, -999.000,   -999.0,9,   -999.0, -999.000,9, -999.000, -999.000,9, -999.000
  49NZ20121128,   S04,    82,  1,     19, X12J19,2,20121223,2314,-61.9585, 116.4025, 4223,   1332.3,2,   1.1717,2,   1.17172,2,  34.7264,2,  34.7259,2,-999.0000,9,   202.11,2,   202.31,2,   99.968,   0.0013,2,    0.000,2,  -999.00,9,    0.000,2,   100.87,2,     0.15,    31.44,2,     0.04,     0.00,2,     0.01,     2.16,2,     0.01,    0.257,6,    0.120,6,    0.021,6, -999.000,9,   -999.0,9,   -999.0,9,-999.0000,     -999,9, -999.000,9, -999.000,   -999.0,9,   -999.0, -999.000,9, -999.000, -999.000,9, -999.000
  49NZ20121128,   S04,    82,  1,     18, X12J18,2,20121223,2314,-61.9585, 116.4025, 4223,   1579.7,2,   1.0058,2,   1.00589,2,  34.7185,2,  34.7190,2,-999.0000,9,   204.26,2,   204.43,2,   99.985,   0.0006,2,   -0.000,2,  -999.00,9,    0.000,2,   106.46,2,     0.15,    31.74,2,     0.04,     0.01,2,     0.01,     2.19,2,     0.01,    0.242,2,    0.114,2,    0.017,2, -999.000,9,   -999.0,9,   -999.0,9,-999.0000,     -999,9, -999.000,9, -999.000,   -999.0,9,   -999.0, -999.000,9, -999.000, -999.000,9, -999.000
  49NZ20121128,   S04,    82,  1,     17, X12J17,2,20121223,2314,-61.9585, 116.4025, 4223,   1829.3,2,   0.8136,2,   0.81359,2,  34.7085,2,  34.7087,2,-999.0000,9,   206.78,2,   206.88,2,   99.964,   0.0014,2,   -0.000,2,  -999.00,9,    0.000,2,   111.91,2,     0.16,    32.09,2,     0.05,     0.00,2,     0.01,     2.21,2,     0.01,    0.266,2,    0.123,2,    0.021,2, -999.000,9,   -999.0,9,   -999.0,9,-999.0000,     -999,9, -999.000,9, -999.000,   -999.0,9,   -999.0, -999.000,9, -999.000, -999.000,9, -999.000
  49NZ20121128,   S04,    82,  1,     16, X12J16,2,20121223,2314,-61.9585, 116.4025, 4223,   2083.3,2,   0.6478,2,   0.64785,2,  34.6991,2,  34.6992,2,-999.0000,9,   209.41,2,   209.47,2,   99.996,   0.0002,2,   -0.000,2,  -999.00,9,    0.000,2,   115.54,2,     0.16,    32.28,2,     0.05,     0.01,2,     0.01,     2.22,2,     0.01,    0.315,2,    0.147,2,    0.022,2, -999.000,9,   -999.0,9,   -999.0,9,-999.0000,     -999,9, -999.000,9, -999.000,   -999.0,9,   -999.0, -999.000,9, -999.000, -999.000,9, -999.000
  49NZ20121128,   S04,    82,  1,     15, X12J15,2,20121223,2314,-61.9585, 116.4025, 4223,   2331.9,2,   0.4835,2,   0.48362,2,  34.6912,2,  34.6909,2,-999.0000,9,   213.17,2,   213.10,2,   99.973,   0.0011,2,   -0.000,2,  -999.00,9,    0.000,2,   119.39,2,     0.17,    32.48,2,     0.05,     0.01,2,     0.01,     2.24,2,     0.01,    0.390,2,    0.186,2,    0.029,2, -999.000,9,   -999.0,9,   -999.0,9,-999.0000,     -999,9, -999.000,9, -999.000,   -999.0,9,   -999.0, -999.000,9, -999.000, -999.000,9, -999.000
  49NZ20121128,   S04,    82,  1,     14, X12J14,2,20121223,2314,-61.9585, 116.4025, 4223,   2580.6,2,   0.3538,2,   0.35378,2,  34.6845,2,  34.6849,2,-999.0000,9,   216.82,2,   216.85,2,   99.973,   0.0011,2,   -0.000,2,  -999.00,9,    0.000,2,   120.98,2,     0.17,    32.55,2,     0.05,     0.01,2,     0.01,     2.24,2,     0.01,    0.555,2,    0.259,2,    0.021,2,    0.138,2,   -999.0,9,   -999.0,9,-999.0000,     -999,9, -999.000,9, -999.000,   -999.0,9,   -999.0, -999.000,9, -999.000, -999.000,9, -999.000
  49NZ20121128,   S04,    82,  1,     13, X12J13,2,20121223,2314,-61.9585, 116.4025, 4223,   2830.5,2,   0.2502,2,   0.25019,2,  34.6799,2,  34.6798,2,-999.0000,9,   220.31,2,   220.31,2,   99.985,   0.0006,2,   -0.000,2,  -999.00,9,    0.000,2,   122.66,2,     0.17,    32.55,2,     0.05,     0.01,2,     0.01,     2.25,2,     0.01,    0.688,2,    0.335,2,    0.030,2,    0.195,2,   -999.0,9,   -999.0,9,-999.0000,     -999,9, -999.000,9, -999.000,   -999.0,9,   -999.0, -999.000,9, -999.000, -999.000,9, -999.000
  49NZ20121128,   S04,    82,  1,     12, X12J12,2,20121223,2314,-61.9585, 116.4025, 4223,   3081.0,2,   0.1776,2,   0.17756,2,  34.6768,2,  34.6768,2,-999.0000,9,   222.87,2,   222.92,2,   99.994,   0.0002,2,   -0.010,2,  -999.00,9,    0.000,2,   124.22,2,     0.17,    32.57,2,     0.05,     0.01,2,     0.01,     2.25,2,     0.01,    0.797,2,    0.379,2,    0.034,2,    0.142,2,   -999.0,9,   -999.0,9,-999.0000,     -999,9, -999.000,9, -999.000,   -999.0,9,   -999.0, -999.000,9, -999.000, -999.000,9, -999.000
  49NZ20121128,   S04,    82,  1,     11, X12J11,2,20121223,2314,-61.9585, 116.4025, 4223,   3330.3,2,   0.1102,2,   0.11024,2,  34.6740,2,  34.6739,2,-999.0000,9,   225.50,2,   225.67,2,   99.966,   0.0014,2,   -0.000,2,  -999.00,9,    0.000,2,   126.36,2,     0.17,    32.58,2,     0.05,     0.01,2,     0.01,     2.25,2,     0.01,    0.928,2,    0.436,2,    0.041,2,    0.328,2,   -999.0,9,   -999.0,9,-999.0000,     -999,9, -999.000,9, -999.000,   -999.0,9,   -999.0, -999.000,9, -999.000, -999.000,9, -999.000
  49NZ20121128,   S04,    82,  1,     10, X12J10,2,20121223,2314,-61.9585, 116.4025, 4223,   3581.2,2,   0.0430,2,   0.04278,2,  34.6703,2,  34.6704,2,-999.0000,9,   228.41,2,   228.51,2,   99.952,   0.0019,2,   -0.000,2,  -999.00,9,    0.000,2,   127.33,2,     0.17,    32.54,2,     0.05,     0.00,2,     0.01,     2.24,2,     0.01,    1.097,2,    0.515,2,    0.052,2,    0.238,2,   -999.0,9,   -999.0,9,-999.0000,     -999,9, -999.000,9, -999.000,   -999.0,9,   -999.0, -999.000,9, -999.000, -999.000,9, -999.000
  49NZ20121128,   S04,    82,  1,      9, X12J09,2,20121223,2314,-61.9585, 116.4025, 4223,   3830.6,2,  -0.0100,2,  -0.01009,2,  34.6664,2,  34.6668,2,-999.0000,9,   230.91,2,   231.17,2,   99.903,   0.0039,2,   -0.010,2,  -999.00,9,    0.000,2,   128.09,2,     0.17,    32.50,2,     0.05,     0.00,2,     0.01,     2.24,2,     0.01,    1.320,2,    0.636,2,    0.071,2,    0.339,2,   -999.0,9,   -999.0,9,-999.0000,     -999,9, -999.000,9, -999.000,   -999.0,9,   -999.0, -999.000,9, -999.000, -999.000,9, -999.000
  49NZ20121128,   S04,    82,  1,      8, X12J08,2,20121223,2314,-61.9585, 116.4025, 4223,   4079.5,2,  -0.1006,2,  -0.10066,2,  34.6571,2,  34.6574,2,-999.0000,9,   235.61,2,   235.99,2,   99.863,   0.0055,2,   -0.010,2,  -999.00,9,    0.000,2,   122.97,2,     0.17,    32.35,2,     0.05,     0.01,2,     0.01,     2.23,2,     0.01,    1.803,6,    0.867,6,    0.128,6,    0.612,6,   -999.0,9,   -999.0,9,-999.0000,     -999,9, -999.000,9, -999.000,   -999.0,9,   -999.0, -999.000,9, -999.000, -999.000,9, -999.000
  49NZ20121128,   S04,    82,  1,      1, X12J01,2,20121223,2314,-61.9585, 116.4025, 4223,   4295.0,2,  -0.1776,2,  -0.17765,2,  34.6481,2,  34.6486,2,-999.0000,9,   238.85,2,   238.78,2,   99.506,   0.0198,2,   -0.010,2,  -999.00,9,    0.000,2,   126.00,2,     0.17,    32.37,2,     0.05,     0.01,2,     0.01,     2.23,2,     0.01,    2.138,2,    1.072,2,    0.174,2,    0.845,2,   -999.0,9,   -999.0,9,-999.0000,     -999,9, -999.000,9, -999.000,   -999.0,9,   -999.0, -999.000,9, -999.000, -999.000,9, -999.000