BOTTLE,20220819CCHSIOAMB
EXPOCODE,SECT_ID,STNNBR,CASTNO,SAMPNO,BTLNBR,BTLNBR_FLAG_W,DATE,TIME,LATITUDE,LONGITUDE,DEPTH,CTDPRS,CTDPRS_FLAG_W,CTDTMP,CTDTMP_FLAG_W,SBE35,SBE35_FLAG_W,CTDSAL,CTDSAL_FLAG_W,SALNTY,SALNTY_FLAG_W,DNSSAL,DNSSAL_FLAG_W,CTDOXY,CTDOXY_FLAG_W,OXYGEN,OXYGEN_FLAG_W,CTDXMISS,CTDXMISSCP,CTDXMISS_FLAG_W,CTDFLUOR,CTDFLUOR_FLAG_W,CHLORA,CHLORA_FLAG_W,PAR,PAR_FLAG_W,SILCAT,SILCAT_FLAG_W,SILUNC,NITRAT,NITRAT_FLAG_W,NRAUNC,NITRIT,NITRIT_FLAG_W,NRIUNC,PHSPHT,PHSPHT_FLAG_W,PHPUNC,CFC-11,CFC-11_FLAG_W,CFC-12,CFC-12_FLAG_W,CFC113,CFC113_FLAG_W,SF6,SF6_FLAG_W,TCARBN,TCARBN_FLAG_W,ALKALI,ALKALI_FLAG_W,PH_TOT,PH_TMP,PH_TOT_FLAG_W,DELC13,DELC13_FLAG_W,C13ERR,DELC14,DELC14_FLAG_W,C14ERR,CS-134,CS-134_FLAG_W,CS134ER,CS-137,CS-137_FLAG_W,CS137ER
,,,,,,,,UTC,DEG,DEG,METERS,DBAR,,ITS-90,,ITS-90,,PSS-78,,PSS-78,,G/KG,,UMOL/KG,,UMOL/KG,,%TRANS,/METER,,MG/M^3,,MG/CUM,,UE/SQM/S,,UMOL/KG,,UMOL/KG,UMOL/KG,,UMOL/KG,UMOL/KG,,UMOL/KG,UMOL/KG,,UMOL/KG,PMOL/KG,,PMOL/KG,,PMOL/KG,,FMOL/KG,,UMOL/KG,,UMOL/KG,,,DEG C,,/MILLE,,/MILLE,/MILLE,,/MILLE,MBQ/KG,,MBQ/KG,MBQ/KG,,MBQ/KG
  49NZ20121128,   S04,    79,  1,     36, X12J36,2,20121223,0422,-61.9537, 120.0243, 4169,      4.8,2,   0.4840,2,   0.48669,2,  33.8565,2,  33.8574,2,-999.0000,9,   359.86,2,   360.49,2,   87.762,   0.5222,2,    0.380,2,  -999.00,9,  450.274,2,    24.61,2,     0.08,    23.37,2,     0.04,     0.25,2,     0.01,     1.47,2,     0.01,    6.031,2,    3.266,2,    0.689,2,    2.810,2,   -999.0,9,   -999.0,9,-999.0000,     -999,9, -999.000,9, -999.000,   -999.0,9,   -999.0, -999.000,9, -999.000, -999.000,9, -999.000
  49NZ20121128,   S04,    79,  1,     35, X12J35,2,20121223,0422,-61.9537, 120.0243, 4169,     25.1,2,   0.3652,2,   0.38693,2,  33.8555,2,  33.8618,2,-999.0000,9,   360.28,2,   358.61,2,   87.855,   0.5179,2,    1.240,2,  -999.00,9,   30.510,2,    26.18,2,     0.08,    23.81,2,     0.04,     0.24,2,     0.01,     1.55,2,     0.01,    5.984,2,    3.283,2,    0.676,2,    2.896,2,   -999.0,9,   -999.0,9,-999.0000,     -999,9, -999.000,9, -999.000,   -999.0,9,   -999.0, -999.000,9, -999.000, -999.000,9, -999.000
  49NZ20121128,   S04,    79,  1,     34, X12J34,2,20121223,0422,-61.9537, 120.0243, 4169,     50.2,2,  -1.4954,2,  -1.49381,2,  33.9274,2,  33.9312,2,-999.0000,9,   343.49,2,   342.81,2,   94.324,   0.2337,2,    0.970,2,  -999.00,9,    1.736,2,    42.13,2,     0.10,    28.67,2,     0.04,     0.19,2,     0.01,     2.07,2,     0.01,    5.863,6,    3.176,6,    0.671,6,    2.798,6,   -999.0,9,   -999.0,9,-999.0000,     -999,9, -999.000,9, -999.000,   -999.0,9,   -999.0, -999.000,9, -999.000, -999.000,9, -999.000
  49NZ20121128,   S04,    79,  1,     33, X12J33,2,20121223,0422,-61.9537, 120.0243, 4169,     75.0,2,  -1.7086,2,  -1.70942,2,  33.9562,2,  33.9590,2,-999.0000,9,   338.37,2,   338.46,2,   98.120,   0.0759,2,    0.350,2,  -999.00,9,    0.388,2,    42.93,2,     0.10,    29.28,2,     0.04,     0.20,2,     0.01,     2.07,2,     0.01,    5.799,2,    3.133,2,    0.664,2,    2.880,2,   -999.0,9,   -999.0,9,-999.0000,     -999,9, -999.000,9, -999.000,   -999.0,9,   -999.0, -999.000,9, -999.000, -999.000,9, -999.000
  49NZ20121128,   S04,    79,  1,     32, X12J32,2,20121223,0422,-61.9537, 120.0243, 4169,    100.3,2,  -1.1601,2,  -1.15798,2,  34.0563,2,  34.0656,2,-999.0000,9,   307.57,2,   305.51,2,   98.792,   0.0486,2,    0.250,2,  -999.00,9,    0.066,2,    47.23,2,     0.10,    30.82,2,     0.04,     0.14,2,     0.01,     2.14,2,     0.01,    5.030,2,    2.697,2,    0.583,2,    2.405,2,   -999.0,9,   -999.0,9,-999.0000,     -999,9, -999.000,9, -999.000,   -999.0,9,   -999.0, -999.000,9, -999.000, -999.000,9, -999.000
  49NZ20121128,   S04,    79,  1,     31, X12J31,2,20121223,0422,-61.9537, 120.0243, 4169,    125.1,2,   0.3576,2,   0.35594,2,  34.2795,2,  34.2795,2,-999.0000,9,   243.25,2,   243.75,2,   99.301,   0.0281,2,    0.130,2,  -999.00,9,    0.000,2,    58.19,2,     0.11,    33.19,2,     0.05,     0.03,2,     0.01,     2.28,2,     0.01,    3.288,2,    1.760,2,    0.362,2,    1.524,2,   -999.0,9,   -999.0,9,-999.0000,     -999,9, -999.000,9, -999.000,   -999.0,9,   -999.0, -999.000,9, -999.000, -999.000,9, -999.000
  49NZ20121128,   S04,    79,  1,     30, X12J30,2,20121223,0422,-61.9537, 120.0243, 4169,    150.2,2,   1.2925,2,   1.29431,2,  34.4218,2,  34.4227,2,-999.0000,9,   204.74,2,   204.91,2,   99.537,   0.0186,2,    0.090,2,  -999.00,9,    0.000,2,    66.80,2,     0.12,    34.42,2,     0.05,     0.02,2,     0.01,     2.36,2,     0.01,    2.106,2,    1.101,2,    0.199,2,    0.836,2,   -999.0,9,   -999.0,9,-999.0000,     -999,9, -999.000,9, -999.000,   -999.0,9,   -999.0, -999.000,9, -999.000, -999.000,9, -999.000
  49NZ20121128,   S04,    79,  1,     29, X12J29,2,20121223,0422,-61.9537, 120.0243, 4169,    199.0,2,   1.8677,2,   1.86697,2,  34.5478,2,  34.5472,2,-999.0000,9,   180.58,2,   180.49,2,   99.620,   0.0152,2,    0.040,2,  -999.00,9,    0.000,2,    73.82,2,     0.13,    34.61,2,     0.05,     0.02,2,     0.01,     2.37,2,     0.01,    1.168,2,    0.604,2,    0.086,2,    0.379,2,   -999.0,9,   -999.0,9,-999.0000,     -999,9, -999.000,9, -999.000,   -999.0,9,   -999.0, -999.000,9, -999.000, -999.000,9, -999.000
  49NZ20121128,   S04,    79,  1,     28, X12J28,2,20121223,0422,-61.9537, 120.0243, 4169,    250.3,2,   1.9487,2,   1.94823,2,  34.5970,2,  34.5965,2,-999.0000,9,   177.59,2,   177.49,2,   99.740,   0.0104,2,    0.020,2,  -999.00,9,    0.000,2,    76.04,2,     0.13,    34.13,2,     0.05,     0.01,2,     0.01,     2.34,2,     0.01,    0.877,2,    0.461,2,    0.063,2,    0.360,2,   -999.0,9,   -999.0,9,-999.0000,     -999,9, -999.000,9, -999.000,   -999.0,9,   -999.0, -999.000,9, -999.000, -999.000,9, -999.000
  49NZ20121128,   S04,    79,  1,     27, X12J27,2,20121223,0422,-61.9537, 120.0243, 4169,    329.7,2,   1.9808,2,   1.98050,2,  34.6453,2,  34.6445,2,-999.0000,9,   178.04,2,   177.94,2,   99.839,   0.0064,2,    0.010,2,  -999.00,9,    0.000,2,    77.96,2,     0.13,    33.37,2,     0.05,     0.01,2,     0.01,     2.29,2,     0.01,    0.668,2,    0.344,2,    0.043,2,    0.215,2,   -999.0,9,   -999.0,9,-999.0000,     -999,9, -999.000,9, -999.000,   -999.0,9,   -999.0, -999.000,9, -999.000, -999.000,9, -999.000
  49NZ20121128,   S04,    79,  1,     26, X12J26,2,20121223,0422,-61.9537, 120.0243, 4169,    430.5,2,   1.9511,2,   1.95093,2,  34.6812,2,  34.6811,2,-999.0000,9,   180.32,2,   180.41,2,   99.839,   0.0064,2,    0.010,2,  -999.00,9,    0.000,2,    80.02,2,     0.13,    32.67,2,     0.05,     0.01,2,     0.01,     2.23,2,     0.01,    0.509,2,    0.262,2,    0.030,2,    0.198,2,   -999.0,9,   -999.0,9,-999.0000,     -999,9, -999.000,9, -999.000,   -999.0,9,   -999.0, -999.000,9, -999.000, -999.000,9, -999.000
  49NZ20121128,   S04,    79,  1,     25, X12J25,2,20121223,0422,-61.9537, 120.0243, 4169,    529.6,2,   1.9315,2,   1.93133,2,  34.7051,2,  34.7056,2,-999.0000,9,   183.30,2,   183.45,2,   99.898,   0.0041,2,    0.010,2,  -999.00,9,    0.000,2,    81.33,2,     0.13,    32.06,2,     0.04,     0.01,2,     0.01,     2.20,2,     0.01,    0.402,2,    0.201,2,    0.023,2,    0.065,2,   -999.0,9,   -999.0,9,-999.0000,     -999,9, -999.000,9, -999.000,   -999.0,9,   -999.0, -999.000,9, -999.000, -999.000,9, -999.000
  49NZ20121128,   S04,    79,  1,     24, X12J24,2,20121223,0422,-61.9537, 120.0243, 4169,    630.1,2,   1.8714,2,   1.87121,2,  34.7217,2,  34.7217,2,-999.0000,9,   186.87,2,   186.93,2,   99.919,   0.0032,2,    0.010,2,  -999.00,9,    0.000,2,    83.12,2,     0.13,    31.59,2,     0.04,     0.01,2,     0.01,     2.17,2,     0.01,    0.342,6,    0.167,6,    0.019,6,    0.104,6,   -999.0,9,   -999.0,9,-999.0000,     -999,9, -999.000,9, -999.000,   -999.0,9,   -999.0, -999.000,9, -999.000, -999.000,9, -999.000
  49NZ20121128,   S04,    79,  1,     23, X12J23,2,20121223,0422,-61.9537, 120.0243, 4169,    730.1,2,   1.8096,2,   1.80973,2,  34.7332,2,  34.7335,2,-999.0000,9,   190.03,2,   190.25,2,   99.913,   0.0035,2,    0.010,2,  -999.00,9,    0.000,2,    84.86,2,     0.13,    31.20,2,     0.04,     0.01,2,     0.01,     2.14,2,     0.01,    0.279,2,    0.135,2,    0.014,2,    0.000,2,   -999.0,9,   -999.0,9,-999.0000,     -999,9, -999.000,9, -999.000,   -999.0,9,   -999.0, -999.000,9, -999.000, -999.000,9, -999.000
  49NZ20121128,   S04,    79,  1,     22, X12J22,2,20121223,0422,-61.9537, 120.0243, 4169,    830.3,2,   1.7415,2,   1.74145,2,  34.7379,2,  34.7383,2,-999.0000,9,   192.36,2,   192.70,2,   99.972,   0.0011,2,    0.000,2,  -999.00,9,    0.000,2,    86.59,2,     0.14,    31.00,2,     0.04,     0.01,2,     0.01,     2.13,2,     0.01,    0.266,2,    0.123,2,    0.010,2,    0.000,2,   -999.0,9,   -999.0,9,-999.0000,     -999,9, -999.000,9, -999.000,   -999.0,9,   -999.0, -999.000,9, -999.000, -999.000,9, -999.000
  49NZ20121128,   S04,    79,  1,     21, X12J21,2,20121223,0422,-61.9537, 120.0243, 4169,    930.0,2,   1.6512,2,   1.65115,2,  34.7404,2,  34.7409,2,-999.0000,9,   194.92,2,   195.18,2,   99.970,   0.0012,2,    0.000,2,  -999.00,9,    0.000,2,    89.04,2,     0.14,    30.92,2,     0.04,     0.01,2,     0.01,     2.12,2,     0.01,    0.242,2,    0.109,2,    0.008,2,    0.000,2,   -999.0,9,   -999.0,9,-999.0000,     -999,9, -999.000,9, -999.000,   -999.0,9,   -999.0, -999.000,9, -999.000, -999.000,9, -999.000
  49NZ20121128,   S04,    79,  1,     20, X12J20,2,20121223,0422,-61.9537, 120.0243, 4169,   1080.0,2,   1.5267,2,   1.52664,2,  34.7399,2,  34.7404,2,-999.0000,9,   197.58,2,   197.79,2,   99.748,   0.0101,2,    0.000,2,  -999.00,9,    0.000,2,    92.24,2,     0.14,    30.91,2,     0.04,     0.01,2,     0.01,     2.13,2,     0.01,    0.233,2,    0.103,2,    0.008,2,    0.070,2,   -999.0,9,   -999.0,9,-999.0000,     -999,9, -999.000,9, -999.000,   -999.0,9,   -999.0, -999.000,9, -999.000, -999.000,9, -999.000
  49NZ20121128,   S04,    79,  1,     19, X12J19,2,20121223,0422,-61.9537, 120.0243, 4169,   1329.8,2,   1.3019,2,   1.30273,2,  34.7332,2,  34.7334,2,-999.0000,9,   200.88,2,   201.11,2,   99.970,   0.0012,2,    0.000,2,  -999.00,9,    0.000,2,    98.59,2,     0.15,    31.18,2,     0.04,     0.01,2,     0.01,     2.14,2,     0.01,    0.219,6,    0.100,6,    0.007,6,    0.035,6,   -999.0,9,   -999.0,9,-999.0000,     -999,9, -999.000,9, -999.000,   -999.0,9,   -999.0, -999.000,9, -999.000, -999.000,9, -999.000
  49NZ20121128,   S04,    79,  1,     18, X12J18,2,20121223,0422,-61.9537, 120.0243, 4169,   1579.9,2,   1.0975,2,   1.09733,2,  34.7237,2,  34.7246,2,-999.0000,9,   203.36,2,   203.65,2,   99.985,   0.0006,2,    0.000,2,  -999.00,9,    0.000,2,   104.61,2,     0.15,    31.49,2,     0.04,     0.01,2,     0.01,     2.17,2,     0.01,    0.225,2,    0.102,2,    0.007,2,    0.056,2,   -999.0,9,   -999.0,9,-999.0000,     -999,9, -999.000,9, -999.000,   -999.0,9,   -999.0, -999.000,9, -999.000, -999.000,9, -999.000
  49NZ20121128,   S04,    79,  1,     17, X12J17,2,20121223,0422,-61.9537, 120.0243, 4169,   1830.0,2,   0.8907,2,   0.89116,2,  34.7127,2,  34.7132,2,-999.0000,9,   205.88,2,   206.05,2,  100.004,  -0.0002,2,   -0.000,2,  -999.00,9,    0.000,2,   110.35,2,     0.16,    31.89,2,     0.04,     0.01,2,     0.01,     2.20,2,     0.01,    0.259,2,    0.115,2,    0.008,2,    0.132,2,   -999.0,9,   -999.0,9,-999.0000,     -999,9, -999.000,9, -999.000,   -999.0,9,   -999.0, -999.000,9, -999.000, -999.000,9, -999.000
  49NZ20121128,   S04,    79,  1,     16, X12J16,2,20121223,0422,-61.9537, 120.0243, 4169,   2080.2,2,   0.7151,2,   0.71480,2,  34.7034,2,  34.7038,2,-999.0000,9,   208.68,2,   208.72,2,   99.993,   0.0003,2,   -0.000,2,  -999.00,9,    0.000,2,   114.96,2,     0.16,    32.16,2,     0.05,     0.01,2,     0.01,     2.21,2,     0.01,    0.296,2,    0.138,2,    0.008,2,    0.000,2,   -999.0,9,   -999.0,9,-999.0000,     -999,9, -999.000,9, -999.000,   -999.0,9,   -999.0, -999.000,9, -999.000, -999.000,9, -999.000
  49NZ20121128,   S04,    79,  1,     15, X12J15,2,20121223,0422,-61.9537, 120.0243, 4169,   2331.0,2,   0.5484,2,   0.54820,2,  34.6949,2,  34.6952,2,-999.0000,9,   211.99,2,   212.06,2,  100.004,  -0.0002,2,   -0.000,2,  -999.00,9,    0.000,2,   119.03,2,     0.17,    32.38,2,     0.05,     0.01,2,     0.01,     2.23,2,     0.01,    0.374,2,    0.169,2,    0.013,2,    0.000,2,   -999.0,9,   -999.0,9,-999.0000,     -999,9, -999.000,9, -999.000,   -999.0,9,   -999.0, -999.000,9, -999.000, -999.000,9, -999.000
  49NZ20121128,   S04,    79,  1,     14, X12J14,2,20121223,0422,-61.9537, 120.0243, 4169,   2581.5,2,   0.3964,2,   0.39632,2,  34.6879,2,  34.6881,2,-999.0000,9,   215.88,2,   215.89,2,  100.004,  -0.0002,2,   -0.000,2,  -999.00,9,    0.000,2,   122.22,2,     0.17,    32.48,2,     0.05,     0.01,2,     0.01,     2.24,2,     0.01,    0.473,2,    0.226,2,    0.021,2,    0.136,2,   -999.0,9,   -999.0,9,-999.0000,     -999,9, -999.000,9, -999.000,   -999.0,9,   -999.0, -999.000,9, -999.000, -999.000,9, -999.000
  49NZ20121128,   S04,    79,  1,     13, X12J13,2,20121223,0422,-61.9537, 120.0243, 4169,   2830.8,2,   0.2900,2,   0.29004,2,  34.6830,2,  34.6832,2,-999.0000,9,   219.01,2,   219.11,2,   99.981,   0.0008,2,   -0.000,2,  -999.00,9,    0.000,2,   124.52,2,     0.17,    32.53,2,     0.05,     0.01,2,     0.01,     2.24,2,     0.01,    0.597,2,    0.291,2,    0.026,2,    0.107,2,   -999.0,9,   -999.0,9,-999.0000,     -999,9, -999.000,9, -999.000,   -999.0,9,   -999.0, -999.000,9, -999.000, -999.000,9, -999.000
  49NZ20121128,   S04,    79,  1,     12, X12J12,2,20121223,0422,-61.9537, 120.0243, 4169,   3081.3,2,   0.1984,2,   0.19842,2,  34.6785,2,  34.6789,2,-999.0000,9,   222.06,2,   222.21,2,   99.966,   0.0014,2,   -0.010,2,  -999.00,9,    0.000,2,   125.60,2,     0.17,    32.56,2,     0.05,     0.01,2,     0.01,     2.25,2,     0.01,    0.734,2,    0.358,2,    0.034,2,    0.145,2,   -999.0,9,   -999.0,9,-999.0000,     -999,9, -999.000,9, -999.000,   -999.0,9,   -999.0, -999.000,9, -999.000, -999.000,9, -999.000
  49NZ20121128,   S04,    79,  1,     11, X12J11,2,20121223,0422,-61.9537, 120.0243, 4169,   3331.1,2,   0.1161,2,   0.11601,2,  34.6742,2,  34.6746,2,-999.0000,9,   225.28,2,   225.40,2,   99.964,   0.0014,2,   -0.010,2,  -999.00,9,    0.000,2,   126.19,2,     0.17,    32.55,2,     0.05,     0.01,2,     0.01,     2.25,2,     0.01,    0.911,2,    0.447,2,    0.047,2,    0.177,2,   -999.0,9,   -999.0,9,-999.0000,     -999,9, -999.000,9, -999.000,   -999.0,9,   -999.0, -999.000,9, -999.000, -999.000,9, -999.000
  49NZ20121128,   S04,    79,  1,     10, X12J10,2,20121223,0422,-61.9537, 120.0243, 4169,   3581.9,2,   0.0299,2,   0.02994,2,  34.6681,2,  34.6685,2,-999.0000,9,   229.02,2,   229.16,2,   99.966,   0.0014,2,   -0.010,2,  -999.00,9,    0.000,2,   123.92,2,     0.17,    32.44,2,     0.05,     0.01,2,     0.01,     2.24,2,     0.01,    1.170,2,    0.588,2,    0.068,2,    0.212,2,   -999.0,9,   -999.0,9,-999.0000,     -999,9, -999.000,9, -999.000,   -999.0,9,   -999.0, -999.000,9, -999.000, -999.000,9, -999.000
  49NZ20121128,   S04,    79,  1,      9, X12J09,2,20121223,0422,-61.9537, 120.0243, 4169,   3830.4,2,  -0.0159,2,  -0.01589,2,  34.6659,2,  34.6665,2,-999.0000,9,   231.14,2,   231.24,2,   99.947,   0.0021,2,   -0.010,2,  -999.00,9,    0.000,2,   126.78,2,     0.17,    32.42,2,     0.05,     0.01,2,     0.01,     2.24,2,     0.01,    1.346,2,    0.652,2,    0.076,2,    0.318,2,   -999.0,9,   -999.0,9,-999.0000,     -999,9, -999.000,9, -999.000,   -999.0,9,   -999.0, -999.000,9, -999.000, -999.000,9, -999.000
  49NZ20121128,   S04,    79,  1,      8, X12J08,2,20121223,0422,-61.9537, 120.0243, 4169,   4081.0,2,  -0.1108,2,  -0.11075,2,  34.6566,2,  34.6571,2,-999.0000,9,   235.79,2,   236.02,2,   99.905,   0.0038,2,   -0.010,2,  -999.00,9,    0.000,2,   124.26,2,     0.17,    32.29,2,     0.05,     0.01,2,     0.01,     2.24,2,     0.01,    1.826,6,    0.894,6,    0.129,6,    0.471,6,   -999.0,9,   -999.0,9,-999.0000,     -999,9, -999.000,9, -999.000,   -999.0,9,   -999.0, -999.000,9, -999.000, -999.000,9, -999.000
  49NZ20121128,   S04,    79,  1,      1, X12J01,2,20121223,0422,-61.9537, 120.0243, 4169,   4233.6,2,  -0.1764,2,  -0.17657,2,  34.6486,2,  34.6496,2,-999.0000,9,   238.34,2,   238.68,2,   99.518,   0.0193,2,   -0.000,2,  -999.00,9,    0.000,2,   127.04,2,     0.17,    32.30,2,     0.05,     0.01,2,     0.01,     2.23,2,     0.01,    2.108,2,    1.061,2,    0.167,2,    0.671,2,   -999.0,9,   -999.0,9,-999.0000,     -999,9, -999.000,9, -999.000,   -999.0,9,   -999.0, -999.000,9, -999.000, -999.000,9, -999.000