BOTTLE,20220819CCHSIOAMB
EXPOCODE,SECT_ID,STNNBR,CASTNO,SAMPNO,BTLNBR,BTLNBR_FLAG_W,DATE,TIME,LATITUDE,LONGITUDE,DEPTH,CTDPRS,CTDPRS_FLAG_W,CTDTMP,CTDTMP_FLAG_W,SBE35,SBE35_FLAG_W,CTDSAL,CTDSAL_FLAG_W,SALNTY,SALNTY_FLAG_W,DNSSAL,DNSSAL_FLAG_W,CTDOXY,CTDOXY_FLAG_W,OXYGEN,OXYGEN_FLAG_W,CTDXMISS,CTDXMISSCP,CTDXMISS_FLAG_W,CTDFLUOR,CTDFLUOR_FLAG_W,CHLORA,CHLORA_FLAG_W,PAR,PAR_FLAG_W,SILCAT,SILCAT_FLAG_W,SILUNC,NITRAT,NITRAT_FLAG_W,NRAUNC,NITRIT,NITRIT_FLAG_W,NRIUNC,PHSPHT,PHSPHT_FLAG_W,PHPUNC,CFC-11,CFC-11_FLAG_W,CFC-12,CFC-12_FLAG_W,CFC113,CFC113_FLAG_W,SF6,SF6_FLAG_W,TCARBN,TCARBN_FLAG_W,ALKALI,ALKALI_FLAG_W,PH_TOT,PH_TMP,PH_TOT_FLAG_W,DELC13,DELC13_FLAG_W,C13ERR,DELC14,DELC14_FLAG_W,C14ERR,CS-134,CS-134_FLAG_W,CS134ER,CS-137,CS-137_FLAG_W,CS137ER
,,,,,,,,UTC,DEG,DEG,METERS,DBAR,,ITS-90,,ITS-90,,PSS-78,,PSS-78,,G/KG,,UMOL/KG,,UMOL/KG,,%TRANS,/METER,,MG/M^3,,MG/CUM,,UE/SQM/S,,UMOL/KG,,UMOL/KG,UMOL/KG,,UMOL/KG,UMOL/KG,,UMOL/KG,UMOL/KG,,UMOL/KG,PMOL/KG,,PMOL/KG,,PMOL/KG,,FMOL/KG,,UMOL/KG,,UMOL/KG,,,DEG C,,/MILLE,,/MILLE,/MILLE,,/MILLE,MBQ/KG,,MBQ/KG,MBQ/KG,,MBQ/KG
  49NZ20121128,  P14S,    20,  1,     36, X12J36,2,20121208,0926,-61.5065, 174.0153, 5005,      4.9,2,   4.2433,2,   4.24301,2,  33.9643,2,  33.9647,2,-999.0000,9,   315.40,2,   314.89,2,   97.401,   0.1053,2,    0.350,2,  -999.00,9,    0.526,2,     7.01,2,     0.06,    22.97,2,     0.03,     0.19,2,     0.01,     1.60,2,     0.01,    4.149,4,    3.249,4,    0.353,4,    4.143,4,   2132.1,2,   2275.5,2,   7.7460,       25,6, -999.000,1, -999.000,   -999.0,1,   -999.0, -999.000,9, -999.000, -999.000,9, -999.000
  49NZ20121128,  P14S,    20,  1,     35, X12J35,2,20121208,0926,-61.5065, 174.0153, 5005,     25.8,2,   4.2449,2,   4.24493,2,  33.9643,2,  33.9646,2,-999.0000,9,   315.42,2,   314.91,2,   97.451,   0.1033,2,    0.340,2,  -999.00,9,    0.000,2,     7.02,2,     0.06,    22.99,2,     0.03,     0.19,2,     0.01,     1.59,2,     0.01,    4.284,4,    3.246,4,    0.354,4,    4.363,4,   2131.1,2,   2276.2,2,   7.7468,       25,2, -999.000,1, -999.000,   -999.0,1,   -999.0, -999.000,9, -999.000, -999.000,9, -999.000
  49NZ20121128,  P14S,    20,  1,     34, X12J34,2,20121208,0926,-61.5065, 174.0153, 5005,     50.4,2,   4.1162,2,   4.11596,2,  33.9657,2,  33.9656,2,-999.0000,9,   315.43,2,   315.03,2,   97.305,   0.1093,2,    0.380,2,  -999.00,9,    0.000,2,     7.20,2,     0.07,    23.06,2,     0.04,     0.18,2,     0.01,     1.60,2,     0.01,    4.613,4,    3.216,4,    0.400,4,    4.282,4,   2131.9,2,   2276.0,2,   7.7446,       25,2, -999.000,1, -999.000,   -999.0,1,   -999.0, -999.000,9, -999.000, -999.000,9, -999.000
  49NZ20121128,  P14S,    20,  1,     33, X12J33,2,20121208,0926,-61.5065, 174.0153, 5005,     75.9,2,   3.8822,2,   3.88176,2,  33.9668,2,  33.9662,2,-999.0000,9,   316.11,2,   315.79,2,   96.899,   0.1260,2,    0.550,2,  -999.00,9,    0.000,2,     7.31,2,     0.07,    23.30,2,     0.04,     0.16,2,     0.01,     1.62,2,     0.01,    4.562,4,    3.210,4,    0.392,4,    4.292,4,   2133.5,6,   2274.6,2,   7.7420,       25,2, -999.000,1, -999.000,   -999.0,1,   -999.0, -999.000,9, -999.000, -999.000,9, -999.000
  49NZ20121128,  P14S,    20,  1,     32, X12J32,2,20121208,0926,-61.5065, 174.0153, 5005,    100.7,2,   3.7511,2,   3.75127,2,  33.9684,2,  33.9682,2,-999.0000,9,   315.27,2,   314.88,2,   97.342,   0.1078,2,    0.480,2,  -999.00,9,    0.000,2,     7.88,2,     0.07,    23.56,2,     0.04,     0.17,2,     0.01,     1.65,2,     0.01,    4.632,4,    3.232,4,    0.397,4,    4.016,4,   2135.0,2,   2276.3,6,   7.7368,       25,2, -999.000,1, -999.000,   -999.0,1,   -999.0, -999.000,9, -999.000, -999.000,9, -999.000
  49NZ20121128,  P14S,    20,  1,     31, X12J31,2,20121208,0926,-61.5065, 174.0153, 5005,    125.8,2,   3.6339,2,   3.63438,2,  33.9747,2,  33.9749,2,-999.0000,9,   309.83,2,   309.67,2,   98.617,   0.0557,2,    0.290,2,  -999.00,9,    0.000,2,     9.67,2,     0.07,    24.26,2,     0.04,     0.16,2,     0.01,     1.71,2,     0.01,    4.595,4,    3.223,4,    0.388,4,    3.842,4,   2141.8,2,   2277.1,2,   7.7236,       25,2, -999.000,1, -999.000,   -999.0,1,   -999.0, -999.000,9, -999.000, -999.000,9, -999.000
  49NZ20121128,  P14S,    20,  1,     30, X12J30,2,20121208,0926,-61.5065, 174.0153, 5005,    150.9,2,   3.4068,2,   3.40655,2,  33.9752,2,  33.9756,2,-999.0000,9,   311.61,2,   310.91,2,   98.804,   0.0481,2,    0.230,2,  -999.00,9,    0.000,2,    10.29,2,     0.07,    24.52,2,     0.04,     0.16,2,     0.01,     1.72,2,     0.01,    4.567,4,    3.231,4,    0.383,4,    4.040,4,   2143.8,2,   2277.6,2,   7.7205,       25,6, -999.000,1, -999.000,   -999.0,1,   -999.0, -999.000,9, -999.000, -999.000,9, -999.000
  49NZ20121128,  P14S,    20,  1,     29, X12J29,2,20121208,0926,-61.5065, 174.0153, 5005,    200.9,2,   3.2447,2,   3.24426,2,  33.9708,2,  33.9711,2,-999.0000,9,   314.48,2,   314.20,2,   99.079,   0.0370,2,    0.180,2,  -999.00,9,    0.000,2,    10.28,2,     0.07,    24.48,2,     0.04,     0.18,2,     0.01,     1.72,2,     0.01,    4.455,4,    3.261,4,    0.378,4,    3.869,4,   2143.6,2,   2276.2,2,   7.7213,       25,2, -999.000,1, -999.000,   -999.0,1,   -999.0, -999.000,9, -999.000, -999.000,9, -999.000
  49NZ20121128,  P14S,    20,  1,     28, X12J28,2,20121208,0926,-61.5065, 174.0153, 5005,    251.6,2,   3.0918,2,   3.09050,2,  33.9737,2,  33.9741,2,-999.0000,9,   302.98,2,   302.62,2,   99.558,   0.0177,2,    0.070,2,  -999.00,9,    0.000,2,    13.33,2,     0.07,    26.13,2,     0.04,     0.21,2,     0.01,     1.82,2,     0.01,    4.293,4,    3.275,4,    0.353,4,    3.832,4,   2150.9,2,   2276.0,2,   7.7009,       25,2, -999.000,1, -999.000,   -999.0,1,   -999.0, -999.000,9, -999.000, -999.000,9, -999.000
  49NZ20121128,  P14S,    20,  1,     27, X12J27,2,20121208,0926,-61.5065, 174.0153, 5005,    332.1,2,   3.5122,2,   3.51255,2,  34.0887,2,  34.0882,2,-999.0000,9,   267.20,2,   267.22,2,   99.698,   0.0121,2,    0.020,2,  -999.00,9,    0.000,2,    19.50,2,     0.08,    28.35,2,     0.04,     0.02,2,     0.01,     1.95,2,     0.01,    3.864,4,    2.828,4,    0.291,4,    2.650,4,   2169.3,2,   2281.7,2,   7.6616,       25,2, -999.000,1, -999.000,   -999.0,1,   -999.0, -999.000,9, -999.000, -999.000,9, -999.000
  49NZ20121128,  P14S,    20,  1,     26, X12J26,2,20121208,0926,-61.5065, 174.0153, 5005,    431.7,2,   3.5377,2,   3.53766,2,  34.2117,2,  34.2109,2,-999.0000,9,   234.33,2,   234.66,2,   99.694,   0.0123,2,   -0.000,2,  -999.00,9,    0.000,2,    28.96,2,     0.08,    30.61,2,     0.04,     0.01,2,     0.01,     2.10,2,     0.01,    3.094,4,    2.246,4,    0.223,4,    1.517,4,   2194.8,2,   2288.9,2,   7.6270,       25,2, -999.000,1, -999.000,   -999.0,1,   -999.0, -999.000,9, -999.000, -999.000,9, -999.000
  49NZ20121128,  P14S,    20,  1,     25, X12J25,2,20121208,0926,-61.5065, 174.0153, 5005,    531.5,2,   3.1227,2,   3.12263,2,  34.2557,2,  34.2539,2,-999.0000,9,   222.14,2,   222.95,2,   99.853,   0.0059,2,    0.020,2,  -999.00,9,    0.000,2,    36.93,2,     0.09,    32.06,2,     0.04,     0.01,2,     0.01,     2.20,2,     0.01,    2.566,4,    1.949,4,    0.185,4,    1.388,4,   2207.4,2,   2297.3,2,   7.6050,       25,2, -999.000,1, -999.000,   -999.0,1,   -999.0, -999.000,9, -999.000, -999.000,9, -999.000
  49NZ20121128,  P14S,    20,  1,     24, X12J24,2,20121208,0926,-61.5065, 174.0153, 5005,    630.3,2,   2.7144,2,   2.71450,2,  34.3062,2,  34.3073,2,-999.0000,9,   209.78,2,   209.83,2,   99.809,   0.0076,2,   -0.000,2,  -999.00,9,    0.000,2,    46.40,2,     0.10,    33.42,2,     0.05,     0.01,2,     0.01,     2.28,2,     0.01,    2.156,4,    1.632,4,    0.159,4,    1.174,4,   2222.5,2,   2304.6,2,   7.5840,       25,2, -999.000,1, -999.000,   -999.0,1,   -999.0, -999.000,9, -999.000, -999.000,9, -999.000
  49NZ20121128,  P14S,    20,  1,     23, X12J23,2,20121208,0926,-61.5065, 174.0153, 5005,    730.7,2,   2.6829,2,   2.68291,2,  34.3927,2,  34.3923,2,-999.0000,9,   192.20,2,   192.30,2,   99.822,   0.0071,2,    0.000,2,  -999.00,9,    0.000,2,    54.86,2,     0.11,    34.12,2,     0.05,     0.01,2,     0.01,     2.35,2,     0.01,    1.533,4,    1.172,4,    0.100,4,    0.643,4,   2235.3,6,   2315.0,2,   7.5690,       25,2, -999.000,1, -999.000,   -999.0,1,   -999.0, -999.000,9, -999.000, -999.000,9, -999.000
  49NZ20121128,  P14S,    20,  1,     22, X12J22,2,20121208,0926,-61.5065, 174.0153, 5005,    832.0,2,   2.7117,2,   2.71265,2,  34.4754,2,  34.4753,2,-999.0000,9,   180.37,2,   180.36,2,   99.828,   0.0069,2,    0.000,2,  -999.00,9,    0.000,2,    61.63,2,     0.11,    34.20,2,     0.05,     0.01,2,     0.01,     2.36,2,     0.01,    0.944,4,    0.768,4,    0.062,4,    0.401,4,   2243.3,2,   2323.2,6,   7.5677,       25,2, -999.000,1, -999.000,   -999.0,1,   -999.0, -999.000,9, -999.000, -999.000,9, -999.000
  49NZ20121128,  P14S,    20,  1,     21, X12J21,2,20121208,0926,-61.5065, 174.0153, 5005,    930.6,2,   2.5245,2,   2.52457,2,  34.5132,2,  34.5137,2,-999.0000,9,   176.32,2,   176.02,2,   99.847,   0.0061,2,    0.000,2,  -999.00,9,    0.000,2,    66.40,2,     0.12,    34.47,2,     0.05,     0.01,2,     0.01,     2.37,2,     0.01,    0.803,4,    0.654,4,    0.059,4,    0.232,4,   2249.6,2,   2328.0,2,   7.5586,       25,6, -999.000,1, -999.000,   -999.0,1,   -999.0, -999.000,9, -999.000, -999.000,9, -999.000
  49NZ20121128,  P14S,    20,  1,     20, X12J20,2,20121208,0926,-61.5065, 174.0153, 5005,   1079.7,2,   2.4246,2,   2.42465,2,  34.5786,2,  34.5793,2,-999.0000,9,   172.72,2,   172.46,2,   99.861,   0.0056,2,    0.000,2,  -999.00,9,    0.000,2,    71.25,2,     0.12,    34.17,2,     0.05,     0.01,2,     0.01,     2.35,2,     0.01,    0.556,4,    0.459,4,    0.036,4,    0.170,4,   2255.0,2,   2331.5,2,   7.5603,       25,2, -999.000,1, -999.000,   -999.0,1,   -999.0, -999.000,9, -999.000, -999.000,9, -999.000
  49NZ20121128,  P14S,    20,  1,     19, X12J19,2,20121208,0926,-61.5065, 174.0153, 5005,   1329.6,2,   2.3154,2,   2.31553,2,  34.6668,2,  34.6668,2,-999.0000,9,   176.75,2,   176.53,2,   99.888,   0.0045,2,    0.000,2,  -999.00,9,    0.000,2,    76.05,2,     0.13,    32.73,2,     0.05,     0.01,2,     0.01,     2.25,2,     0.01,    0.283,4,    0.243,4,    0.021,4,    0.096,4,   2253.8,2,   2339.4,2,   7.5803,       25,2, -999.000,1, -999.000,   -999.0,1,   -999.0, -999.000,9, -999.000, -999.000,9, -999.000
  49NZ20121128,  P14S,    20,  1,     18, X12J18,2,20121208,0926,-61.5065, 174.0153, 5005,   1579.6,2,   2.1751,2,   2.17512,2,  34.7090,2,  34.7091,2,-999.0000,9,   182.59,2,   182.44,2,   99.926,   0.0030,2,    0.000,2,  -999.00,9,    0.000,2,    79.83,2,     0.13,    31.80,2,     0.04,     0.01,2,     0.01,     2.19,2,     0.01,    0.188,4,    0.153,4,    0.015,4,    0.000,4,   2253.3,2,   2344.0,2,   7.5948,       25,2, -999.000,1, -999.000,   -999.0,1,   -999.0, -999.000,9, -999.000, -999.000,9, -999.000
  49NZ20121128,  P14S,    20,  1,     17, X12J17,2,20121208,0926,-61.5065, 174.0153, 5005,   1830.3,2,   2.0160,2,   2.01610,2,  34.7300,2,  34.7297,2,-999.0000,9,   187.64,2,   187.65,2,   99.928,   0.0029,2,    0.000,2,  -999.00,9,    0.000,2,    84.19,2,     0.13,    31.29,2,     0.04,     0.01,2,     0.01,     2.16,2,     0.01,    0.159,4,    0.123,4,    0.013,4,    0.000,4,   2253.1,2,   2348.3,2,   7.6038,       25,6, -999.000,1, -999.000,   -999.0,1,   -999.0, -999.000,9, -999.000, -999.000,9, -999.000
  49NZ20121128,  P14S,    20,  1,     16, X12J16,2,20121208,0926,-61.5065, 174.0153, 5005,   2079.3,2,   1.8281,2,   1.82831,2,  34.7391,2,  34.7386,2,-999.0000,9,   192.52,2,   192.47,2,   99.957,   0.0017,2,   -0.000,2,  -999.00,9,    0.000,2,    88.97,2,     0.14,    31.06,2,     0.04,     0.01,2,     0.01,     2.14,2,     0.01,    0.134,4,    0.104,4,    0.010,4,    0.000,4,   2253.6,2,   2349.5,2,   7.6119,       25,2, -999.000,1, -999.000,   -999.0,1,   -999.0, -999.000,9, -999.000, -999.000,9, -999.000
  49NZ20121128,  P14S,    20,  1,     15, X12J15,2,20121208,0926,-61.5065, 174.0153, 5005,   2331.3,2,   1.6300,2,   1.62980,2,  34.7380,2,  34.7379,2,-999.0000,9,   196.18,2,   196.15,2,   99.932,   0.0027,2,    0.000,2,  -999.00,9,    0.000,2,    94.32,2,     0.14,    31.07,2,     0.04,     0.01,2,     0.01,     2.15,2,     0.01,    0.127,4,    0.096,4,    0.009,4,    0.000,4,   2254.7,2,   2353.5,2,   7.6138,       25,2, -999.000,1, -999.000,   -999.0,1,   -999.0, -999.000,9, -999.000, -999.000,9, -999.000
  49NZ20121128,  P14S,    20,  1,     14, X12J14,2,20121208,0926,-61.5065, 174.0153, 5005,   2579.6,2,   1.4490,2,   1.44919,2,  34.7328,2,  34.7324,2,-999.0000,9,   198.75,2,   198.89,2,   99.957,   0.0017,2,    0.000,2,  -999.00,9,    0.000,2,    99.89,2,     0.15,    31.32,2,     0.04,     0.01,2,     0.01,     2.17,2,     0.01,    0.123,4,    0.094,4,    0.007,4,    0.000,4,   2256.9,6,   2357.3,2,   7.6142,       25,2, -999.000,1, -999.000,   -999.0,1,   -999.0, -999.000,9, -999.000, -999.000,9, -999.000
  49NZ20121128,  P14S,    20,  1,     13, X12J13,2,20121208,0926,-61.5065, 174.0153, 5005,   2829.9,2,   1.2872,2,   1.28724,2,  34.7265,2,  34.7261,2,-999.0000,9,   201.38,2,   201.17,2,   99.922,   0.0031,2,   -0.000,2,  -999.00,9,    0.000,2,   104.47,2,     0.15,    31.56,2,     0.04,     0.01,2,     0.01,     2.17,2,     0.01,    0.145,4,    0.112,4,    0.007,4,    0.000,4,   2259.1,2,   2358.1,6,   7.6138,       25,2, -999.000,1, -999.000,   -999.0,1,   -999.0, -999.000,9, -999.000, -999.000,9, -999.000
  49NZ20121128,  P14S,    20,  1,     12, X12J12,2,20121208,0926,-61.5065, 174.0153, 5005,   3079.6,2,   1.1342,2,   1.13419,2,  34.7193,2,  34.7190,2,-999.0000,9,   203.48,2,   203.33,2,   99.953,   0.0019,2,   -0.000,2,  -999.00,9,    0.000,2,   109.18,2,     0.16,    31.81,2,     0.04,     0.01,2,     0.01,     2.19,2,     0.01,    0.164,4,    0.123,4,    0.012,4,    0.000,4,   2260.9,2,   2359.4,2,   7.6117,       25,6, -999.000,1, -999.000,   -999.0,1,   -999.0, -999.000,9, -999.000, -999.000,9, -999.000
  49NZ20121128,  P14S,    20,  1,     11, X12J11,2,20121208,0926,-61.5065, 174.0153, 5005,   3329.9,2,   1.0192,2,   1.01928,2,  34.7138,2,  34.7133,2,-999.0000,9,   205.59,2,   205.31,2,   99.941,   0.0024,2,   -0.000,2,  -999.00,9,    0.000,2,   113.09,2,     0.16,    31.98,2,     0.04,     0.01,2,     0.01,     2.20,2,     0.01,    0.185,4,    0.139,4,    0.013,4,    0.000,4,   2265.8,3,   2360.1,2,   7.6109,       25,2, -999.000,1, -999.000,   -999.0,1,   -999.0, -999.000,9, -999.000, -999.000,9, -999.000
  49NZ20121128,  P14S,    20,  1,     10, X12J10,2,20121208,0926,-61.5065, 174.0153, 5005,   3580.6,2,   0.9308,2,   0.93090,2,  34.7091,2,  34.7088,2,-999.0000,9,   207.36,2,   206.96,2,   99.937,   0.0025,2,   -0.000,2,  -999.00,9,    0.000,2,   116.18,2,     0.16,    32.10,2,     0.05,     0.01,2,     0.01,     2.22,2,     0.01,    0.214,4,    0.161,4,    0.011,4,    0.000,4,   2262.2,2,   2360.3,2,   7.6092,       25,2, -999.000,1, -999.000,   -999.0,1,   -999.0, -999.000,9, -999.000, -999.000,9, -999.000
  49NZ20121128,  P14S,    20,  1,      9, X12J09,2,20121208,0926,-61.5065, 174.0153, 5005,   3830.2,2,   0.8789,2,   0.87889,2,  34.7059,2,  34.7060,2,-999.0000,9,   208.49,2,   208.12,2,   99.926,   0.0030,2,   -0.000,2,  -999.00,9,    0.000,2,   118.77,2,     0.17,    32.21,2,     0.05,     0.01,2,     0.01,     2.23,2,     0.01,    0.242,4,    0.184,4,    0.012,4,    0.000,4,   2263.9,2,   2359.3,2,   7.6084,       25,2, -999.000,1, -999.000,   -999.0,1,   -999.0, -999.000,9, -999.000, -999.000,9, -999.000
  49NZ20121128,  P14S,    20,  1,      8, X12J08,2,20121208,0926,-61.5065, 174.0153, 5005,   4080.2,2,   0.8656,2,   0.86560,2,  34.7044,2,  34.7044,2,-999.0000,9,   208.93,2,   208.62,2,   99.926,   0.0030,2,   -0.000,2,  -999.00,9,    0.000,2,   120.05,2,     0.17,    32.27,2,     0.05,     0.01,2,     0.01,     2.23,2,     0.01,    0.257,4,    0.195,4,    0.013,4,    0.000,4,   2263.7,2,   2360.8,2,   7.6074,       25,2, -999.000,1, -999.000,   -999.0,1,   -999.0, -999.000,9, -999.000, -999.000,9, -999.000
  49NZ20121128,  P14S,    20,  1,      7, X12J07,2,20121208,0926,-61.5065, 174.0153, 5005,   4331.6,2,   0.8596,2,   0.85966,2,  34.7030,2,  34.7034,2,-999.0000,9,   209.32,2,   209.06,2,   99.905,   0.0038,2,   -0.000,2,  -999.00,9,    0.000,2,   121.05,2,     0.17,    32.31,2,     0.05,     0.01,2,     0.01,     2.23,2,     0.01,    0.277,4,    0.211,4,    0.014,4,    0.000,4,   2263.4,6,   2360.3,2,   7.6072,       25,2, -999.000,1, -999.000,   -999.0,1,   -999.0, -999.000,9, -999.000, -999.000,9, -999.000
  49NZ20121128,  P14S,    20,  1,      6, X12J06,2,20121208,0926,-61.5065, 174.0153, 5005,   4579.9,2,   0.8694,2,   0.86957,2,  34.7023,2,  34.7025,2,-999.0000,9,   209.36,2,   209.20,2,   99.861,   0.0056,2,   -0.000,2,  -999.00,9,    0.000,2,   121.88,2,     0.17,    32.36,2,     0.05,     0.01,2,     0.01,     2.23,2,     0.01,    0.289,4,    0.220,4,    0.016,4,    0.000,4,   2266.6,3,   2360.8,6,   7.6064,       25,2, -999.000,1, -999.000,   -999.0,1,   -999.0, -999.000,9, -999.000, -999.000,9, -999.000
  49NZ20121128,  P14S,    20,  1,      5, X12J05,2,20121208,0926,-61.5065, 174.0153, 5005,   4830.1,2,   0.8799,2,   0.87983,2,  34.7015,2,  34.7017,2,-999.0000,9,   209.32,2,   209.25,2,   99.805,   0.0078,2,   -0.000,2,  -999.00,9,    0.000,2,   122.47,2,     0.17,    32.36,2,     0.05,     0.01,2,     0.01,     2.24,2,     0.01,    0.305,4,    0.245,4,    0.016,4,    0.000,4,   2263.4,2,   2360.3,2,   7.6068,       25,2, -999.000,1, -999.000,   -999.0,1,   -999.0, -999.000,9, -999.000, -999.000,9, -999.000
  49NZ20121128,  P14S,    20,  1,      4, X12J04,2,20121208,0926,-61.5065, 174.0153, 5005,   5079.9,2,   0.9090,2,   0.90902,2,  34.7013,2,  34.7018,2,-999.0000,9,   209.32,2,   209.37,2,   99.790,   0.0084,2,   -0.010,2,  -999.00,9,    0.000,2,   122.69,2,     0.17,    32.35,2,     0.05,     0.01,2,     0.01,     2.24,2,     0.01,    0.305,4,    0.246,4,    0.017,4,    0.000,4,   2263.8,2,   2359.8,2,   7.6056,       25,2, -999.000,1, -999.000,   -999.0,1,   -999.0, -999.000,9, -999.000, -999.000,9, -999.000
  49NZ20121128,  P14S,    20,  1,      1, X12J01,2,20121208,0926,-61.5065, 174.0153, 5005,   5134.3,2,   0.9147,2,   0.91461,2,  34.7012,2,  34.7017,2,-999.0000,9,   209.26,2,   209.47,2,   99.782,   0.0087,2,   -0.000,2,  -999.00,9,    0.000,2,   122.83,2,     0.17,    32.37,2,     0.05,     0.01,2,     0.01,     2.24,2,     0.01,    0.307,4,    0.250,4,    0.018,4,    0.000,4,   2263.9,2,   2359.3,2,   7.6060,       25,2, -999.000,1, -999.000,   -999.0,1,   -999.0, -999.000,9, -999.000, -999.000,9, -999.000