BOTTLE,20220819CCHSIOAMB
EXPOCODE,SECT_ID,STNNBR,CASTNO,SAMPNO,BTLNBR,BTLNBR_FLAG_W,DATE,TIME,LATITUDE,LONGITUDE,DEPTH,CTDPRS,CTDPRS_FLAG_W,CTDTMP,CTDTMP_FLAG_W,SBE35,SBE35_FLAG_W,CTDSAL,CTDSAL_FLAG_W,SALNTY,SALNTY_FLAG_W,DNSSAL,DNSSAL_FLAG_W,CTDOXY,CTDOXY_FLAG_W,OXYGEN,OXYGEN_FLAG_W,CTDXMISS,CTDXMISSCP,CTDXMISS_FLAG_W,CTDFLUOR,CTDFLUOR_FLAG_W,CHLORA,CHLORA_FLAG_W,PAR,PAR_FLAG_W,SILCAT,SILCAT_FLAG_W,SILUNC,NITRAT,NITRAT_FLAG_W,NRAUNC,NITRIT,NITRIT_FLAG_W,NRIUNC,PHSPHT,PHSPHT_FLAG_W,PHPUNC,CFC-11,CFC-11_FLAG_W,CFC-12,CFC-12_FLAG_W,CFC113,CFC113_FLAG_W,SF6,SF6_FLAG_W,TCARBN,TCARBN_FLAG_W,ALKALI,ALKALI_FLAG_W,PH_TOT,PH_TMP,PH_TOT_FLAG_W,DELC13,DELC13_FLAG_W,C13ERR,DELC14,DELC14_FLAG_W,C14ERR,CS-134,CS-134_FLAG_W,CS134ER,CS-137,CS-137_FLAG_W,CS137ER
,,,,,,,,UTC,DEG,DEG,METERS,DBAR,,ITS-90,,ITS-90,,PSS-78,,PSS-78,,G/KG,,UMOL/KG,,UMOL/KG,,%TRANS,/METER,,MG/M^3,,MG/CUM,,UE/SQM/S,,UMOL/KG,,UMOL/KG,UMOL/KG,,UMOL/KG,UMOL/KG,,UMOL/KG,UMOL/KG,,UMOL/KG,PMOL/KG,,PMOL/KG,,PMOL/KG,,FMOL/KG,,UMOL/KG,,UMOL/KG,,,DEG C,,/MILLE,,/MILLE,/MILLE,,/MILLE,MBQ/KG,,MBQ/KG,MBQ/KG,,MBQ/KG
  49NZ20121128,  S04I,    84,  2,     36, X12J36,2,20121224,1334,-62.0712, 113.8247, 4162,      5.2,2,   1.2681,2,   1.26426,2,  33.7284,2,  33.7438,2,-999.0000,9,   354.02,2,   355.68,2,   90.243,   0.4107,2,    0.840,2,  -999.00,9,    1.811,2,    20.91,2,     0.08,    22.32,2,     0.03,     0.20,2,     0.01,     1.41,2,     0.01,    5.869,2,    3.201,2,    0.541,2, -999.000,9,   -999.0,9,   -999.0,9,-999.0000,     -999,9, -999.000,9, -999.000,   -999.0,9,   -999.0, -999.000,9, -999.000, -999.000,9, -999.000
  49NZ20121128,  S04I,    84,  2,     35, X12J35,2,20121224,1334,-62.0712, 113.8247, 4162,     24.9,2,   0.4032,2,   0.34455,2,  33.8495,2,  33.8580,2,-999.0000,9,   357.32,2,   360.19,2,   91.272,   0.3653,2,    0.830,2,  -999.00,9,    0.000,2,    35.58,2,     0.09,    24.86,2,     0.04,     0.19,2,     0.01,     1.63,2,     0.01,    5.837,2,    3.180,2,    0.550,2, -999.000,9,   -999.0,9,   -999.0,9,-999.0000,     -999,9, -999.000,9, -999.000,   -999.0,9,   -999.0, -999.000,9, -999.000, -999.000,9, -999.000
  49NZ20121128,  S04I,    84,  2,     34, X12J34,2,20121224,1334,-62.0712, 113.8247, 4162,     50.0,2,  -1.2860,2,  -1.28638,2,  33.9523,2,  33.9553,2,-999.0000,9,   347.75,2,   346.72,2,   92.739,   0.3015,2,    1.340,2,  -999.00,9,    0.000,2,    43.52,2,     0.10,    28.12,2,     0.04,     0.17,2,     0.01,     1.94,2,     0.01,    5.528,6,    2.999,6,    0.516,6, -999.000,9,   -999.0,9,   -999.0,9,-999.0000,     -999,9, -999.000,9, -999.000,   -999.0,9,   -999.0, -999.000,9, -999.000, -999.000,9, -999.000
  49NZ20121128,  S04I,    84,  2,     33, X12J33,2,20121224,1334,-62.0712, 113.8247, 4162,     75.2,2,  -1.3648,2,  -1.36498,2,  34.0848,2,  34.0934,2,-999.0000,9,   313.08,2,   311.02,2,   98.326,   0.0675,2,    0.350,2,  -999.00,9,    0.000,2,    51.65,2,     0.11,    29.91,2,     0.04,     0.15,2,     0.01,     2.09,2,     0.01,    4.827,2,    2.612,2,    0.431,2, -999.000,9,   -999.0,9,   -999.0,9,-999.0000,     -999,9, -999.000,9, -999.000,   -999.0,9,   -999.0, -999.000,9, -999.000, -999.000,9, -999.000
  49NZ20121128,  S04I,    84,  2,     32, X12J32,2,20121224,1334,-62.0712, 113.8247, 4162,     99.3,2,  -0.7239,2,  -0.72490,2,  34.2232,2,  34.2310,2,-999.0000,9,   277.82,2,   273.74,2,   99.171,   0.0333,2,    0.240,2,  -999.00,9,    0.000,2,    58.05,2,     0.11,    31.61,2,     0.04,     0.12,2,     0.01,     2.19,2,     0.01,    3.931,2,    2.124,2,    0.365,2, -999.000,9,   -999.0,9,   -999.0,9,-999.0000,     -999,9, -999.000,9, -999.000,   -999.0,9,   -999.0, -999.000,9, -999.000, -999.000,9, -999.000
  49NZ20121128,  S04I,    84,  2,     31, X12J31,2,20121224,1334,-62.0712, 113.8247, 4162,    124.5,2,   0.1511,2,   0.15072,2,  34.3566,2,  34.3574,2,-999.0000,9,   241.97,2,   241.39,2,   99.519,   0.0193,2,    0.120,2,  -999.00,9,    0.000,2,    64.95,2,     0.12,    32.78,2,     0.05,     0.05,2,     0.01,     2.25,2,     0.01,    2.936,2,    1.587,2,    0.252,2, -999.000,9,   -999.0,9,   -999.0,9,-999.0000,     -999,9, -999.000,9, -999.000,   -999.0,9,   -999.0, -999.000,9, -999.000, -999.000,9, -999.000
  49NZ20121128,  S04I,    84,  2,     30, X12J30,2,20121224,1334,-62.0712, 113.8247, 4162,    150.0,2,   0.7014,2,   0.70283,2,  34.4502,2,  34.4522,2,-999.0000,9,   219.22,2,   217.11,2,   99.623,   0.0151,2,    0.090,2,  -999.00,9,    0.000,2,    70.48,2,     0.12,    33.27,2,     0.05,     0.03,2,     0.01,     2.29,2,     0.01,    2.140,2,    1.154,2,    0.188,2, -999.000,9,   -999.0,9,   -999.0,9,-999.0000,     -999,9, -999.000,9, -999.000,   -999.0,9,   -999.0, -999.000,9, -999.000, -999.000,9, -999.000
  49NZ20121128,  S04I,    84,  2,     29, X12J29,2,20121224,1334,-62.0712, 113.8247, 4162,    200.6,2,   1.1018,2,   1.10154,2,  34.5305,2,  34.5300,2,-999.0000,9,   203.96,2,   203.83,2,   99.648,   0.0141,2,    0.040,2,  -999.00,9,    0.000,2,    74.72,2,     0.13,    33.30,2,     0.05,     0.02,2,     0.01,     2.29,2,     0.01,    1.626,2,    0.875,2,    0.154,2, -999.000,9,   -999.0,9,   -999.0,9,-999.0000,     -999,9, -999.000,9, -999.000,   -999.0,9,   -999.0, -999.000,9, -999.000, -999.000,9, -999.000
  49NZ20121128,  S04I,    84,  2,     28, X12J28,2,20121224,1334,-62.0712, 113.8247, 4162,    249.9,2,   1.2982,2,   1.29652,2,  34.5827,2,  34.5823,2,-999.0000,9,   196.78,2,   196.80,2,   99.722,   0.0111,2,    0.020,2,  -999.00,9,    0.000,2,    77.69,2,     0.13,    33.23,2,     0.05,     0.02,2,     0.01,     2.29,2,     0.01,    1.312,2,    0.701,2,    0.116,2, -999.000,9,   -999.0,9,   -999.0,9,-999.0000,     -999,9, -999.000,9, -999.000,   -999.0,9,   -999.0, -999.000,9, -999.000, -999.000,9, -999.000
  49NZ20121128,  S04I,    84,  2,     27, X12J27,2,20121224,1334,-62.0712, 113.8247, 4162,    299.7,2,   1.4524,2,   1.45189,2,  34.6241,2,  34.6234,2,-999.0000,9,   192.30,2,   192.16,2,   99.756,   0.0098,2,    0.010,2,  -999.00,9,    0.000,2,    79.82,2,     0.13,    32.98,2,     0.05,     0.01,2,     0.01,     2.27,2,     0.01,    1.041,2,    0.553,2,    0.086,2, -999.000,9,   -999.0,9,   -999.0,9,-999.0000,     -999,9, -999.000,9, -999.000,   -999.0,9,   -999.0, -999.000,9, -999.000, -999.000,9, -999.000
  49NZ20121128,  S04I,    84,  2,     26, X12J26,2,20121224,1334,-62.0712, 113.8247, 4162,    399.4,2,   1.4667,2,   1.46651,2,  34.6633,2,  34.6635,2,-999.0000,9,   192.80,2,   192.82,2,   99.868,   0.0053,2,    0.010,2,  -999.00,9,    0.000,2,    82.76,2,     0.13,    32.45,2,     0.05,     0.01,2,     0.01,     2.22,2,     0.01,    0.865,2,    0.459,2,    0.084,2, -999.000,9,   -999.0,9,   -999.0,9,-999.0000,     -999,9, -999.000,9, -999.000,   -999.0,9,   -999.0, -999.000,9, -999.000, -999.000,9, -999.000
  49NZ20121128,  S04I,    84,  2,     25, X12J25,2,20121224,1334,-62.0712, 113.8247, 4162,    499.2,2,   1.7133,2,   1.71316,2,  34.7111,2,  34.7119,2,-999.0000,9,   189.52,2,   189.69,2,   99.901,   0.0040,2,    0.010,2,  -999.00,9,    0.000,2,    84.24,2,     0.13,    31.76,2,     0.04,     0.01,2,     0.01,     2.18,2,     0.01,    0.465,2,    0.237,2,    0.051,2, -999.000,9,   -999.0,9,   -999.0,9,-999.0000,     -999,9, -999.000,9, -999.000,   -999.0,9,   -999.0, -999.000,9, -999.000, -999.000,9, -999.000
  49NZ20121128,  S04I,    84,  2,     24, X12J24,2,20121224,1334,-62.0712, 113.8247, 4162,    600.1,2,   1.6607,2,   1.66067,2,  34.7237,2,  34.7237,2,-999.0000,9,   192.40,2,   192.51,2,   99.908,   0.0037,2,    0.000,2,  -999.00,9,    0.000,2,    86.01,2,     0.14,    31.39,2,     0.04,     0.01,2,     0.01,     2.16,2,     0.01,    0.396,6,    0.199,6,    0.033,6, -999.000,9,   -999.0,9,   -999.0,9,-999.0000,     -999,9, -999.000,9, -999.000,   -999.0,9,   -999.0, -999.000,9, -999.000, -999.000,9, -999.000
  49NZ20121128,  S04I,    84,  2,     23, X12J23,2,20121224,1334,-62.0712, 113.8247, 4162,    699.9,2,   1.6026,2,   1.60222,2,  34.7300,2,  34.7304,2,-999.0000,9,   194.59,2,   194.49,2,   99.927,   0.0029,2,    0.000,2,  -999.00,9,    0.000,2,    87.86,2,     0.14,    31.23,2,     0.04,     0.01,2,     0.01,     2.14,2,     0.01,    0.353,2,    0.174,2,    0.032,2, -999.000,9,   -999.0,9,   -999.0,9,-999.0000,     -999,9, -999.000,9, -999.000,   -999.0,9,   -999.0, -999.000,9, -999.000, -999.000,9, -999.000
  49NZ20121128,  S04I,    84,  2,     22, X12J22,2,20121224,1334,-62.0712, 113.8247, 4162,    800.2,2,   1.5406,2,   1.54026,2,  34.7340,2,  34.7340,2,-999.0000,9,   196.39,2,   196.40,2,   99.944,   0.0022,2,    0.000,2,  -999.00,9,    0.000,2,    89.91,2,     0.14,    31.10,2,     0.04,     0.01,2,     0.01,     2.14,2,     0.01,    0.310,2,    0.152,2,    0.026,2, -999.000,9,   -999.0,9,   -999.0,9,-999.0000,     -999,9, -999.000,9, -999.000,   -999.0,9,   -999.0, -999.000,9, -999.000, -999.000,9, -999.000
  49NZ20121128,  S04I,    84,  2,     21, X12J21,2,20121224,1334,-62.0712, 113.8247, 4162,    899.4,2,   1.4703,2,   1.47018,2,  34.7347,2,  34.7350,2,-999.0000,9,   198.06,2,   197.95,2,   99.969,   0.0012,2,    0.000,2,  -999.00,9,    0.000,2,    92.06,2,     0.14,    31.08,2,     0.04,     0.01,2,     0.01,     2.13,2,     0.01,    0.285,2,    0.139,2,    0.025,2, -999.000,9,   -999.0,9,   -999.0,9,-999.0000,     -999,9, -999.000,9, -999.000,   -999.0,9,   -999.0, -999.000,9, -999.000, -999.000,9, -999.000
  49NZ20121128,  S04I,    84,  2,     20, X12J20,2,20121224,1334,-62.0712, 113.8247, 4162,    999.1,2,   1.3865,2,   1.38631,2,  34.7335,2,  34.7341,2,-999.0000,9,   199.49,2,   199.52,2,   99.959,   0.0016,2,    0.000,2,  -999.00,9,    0.000,2,    94.20,2,     0.14,    31.11,2,     0.04,     0.01,2,     0.01,     2.14,2,     0.01,    0.272,2,    0.133,2,    0.024,2, -999.000,9,   -999.0,9,   -999.0,9,-999.0000,     -999,9, -999.000,9, -999.000,   -999.0,9,   -999.0, -999.000,9, -999.000, -999.000,9, -999.000
  49NZ20121128,  S04I,    84,  2,     19, X12J19,2,20121224,1334,-62.0712, 113.8247, 4162,   1250.3,2,   1.1889,2,   1.18875,2,  34.7274,2,  34.7274,2,-999.0000,9,   202.24,2,   202.18,2,   99.971,   0.0012,2,    0.000,2,  -999.00,9,    0.000,2,   100.32,2,     0.15,    31.37,2,     0.04,     0.01,2,     0.01,     2.16,2,     0.01,    0.246,6,    0.117,6,    0.021,6, -999.000,9,   -999.0,9,   -999.0,9,-999.0000,     -999,9, -999.000,9, -999.000,   -999.0,9,   -999.0, -999.000,9, -999.000, -999.000,9, -999.000
  49NZ20121128,  S04I,    84,  2,     18, X12J18,2,20121224,1334,-62.0712, 113.8247, 4162,   1499.6,2,   0.9891,2,   0.98921,2,  34.7174,2,  34.7174,2,-999.0000,9,   204.52,2,   204.57,2,   99.959,   0.0016,2,   -0.000,2,  -999.00,9,    0.000,2,   105.98,2,     0.15,    31.74,2,     0.04,     0.01,2,     0.01,     2.19,2,     0.01,    0.256,2,    0.122,2,    0.022,2, -999.000,9,   -999.0,9,   -999.0,9,-999.0000,     -999,9, -999.000,9, -999.000,   -999.0,9,   -999.0, -999.000,9, -999.000, -999.000,9, -999.000
  49NZ20121128,  S04I,    84,  2,     17, X12J17,2,20121224,1334,-62.0712, 113.8247, 4162,   1750.6,2,   0.8080,2,   0.80699,2,  34.7083,2,  34.7081,2,-999.0000,9,   207.00,2,   207.03,2,   99.963,   0.0015,2,   -0.000,2,  -999.00,9,    0.000,2,   111.51,2,     0.16,    32.10,2,     0.05,     0.01,2,     0.01,     2.21,2,     0.01,    0.265,2,    0.124,2,    0.019,2, -999.000,9,   -999.0,9,   -999.0,9,-999.0000,     -999,9, -999.000,9, -999.000,   -999.0,9,   -999.0, -999.000,9, -999.000, -999.000,9, -999.000
  49NZ20121128,  S04I,    84,  2,     16, X12J16,2,20121224,1334,-62.0712, 113.8247, 4162,   2000.1,2,   0.6311,2,   0.63159,2,  34.6989,2,  34.6987,2,-999.0000,9,   209.86,2,   209.75,2,   99.959,   0.0016,2,   -0.000,2,  -999.00,9,    0.000,2,   115.75,2,     0.16,    32.27,2,     0.05,     0.01,2,     0.01,     2.22,2,     0.01,    0.317,2,    0.150,2,    0.021,2, -999.000,9,   -999.0,9,   -999.0,9,-999.0000,     -999,9, -999.000,9, -999.000,   -999.0,9,   -999.0, -999.000,9, -999.000, -999.000,9, -999.000
  49NZ20121128,  S04I,    84,  2,     15, X12J15,2,20121224,1334,-62.0712, 113.8247, 4162,   2249.7,2,   0.4699,2,   0.46986,2,  34.6901,2,  34.6905,2,-999.0000,9,   213.26,2,   213.02,2,   99.973,   0.0011,2,   -0.000,2,  -999.00,9,    0.000,2,   118.74,2,     0.17,    32.48,2,     0.05,     0.01,2,     0.01,     2.24,2,     0.01,    0.406,2,    0.193,2,    0.027,2, -999.000,9,   -999.0,9,   -999.0,9,-999.0000,     -999,9, -999.000,9, -999.000,   -999.0,9,   -999.0, -999.000,9, -999.000, -999.000,9, -999.000
  49NZ20121128,  S04I,    84,  2,     14, X12J14,2,20121224,1334,-62.0712, 113.8247, 4162,   2500.2,2,   0.3411,2,   0.34100,2,  34.6839,2,  34.6840,2,-999.0000,9,   216.94,2,   216.75,2,   99.978,   0.0009,2,   -0.000,2,  -999.00,9,    0.000,2,   120.75,2,     0.17,    32.54,2,     0.05,     0.01,2,     0.01,     2.24,2,     0.01,    0.517,2,    0.254,2,    0.037,2, -999.000,9,   -999.0,9,   -999.0,9,-999.0000,     -999,9, -999.000,9, -999.000,   -999.0,9,   -999.0, -999.000,9, -999.000, -999.000,9, -999.000
  49NZ20121128,  S04I,    84,  2,     13, X12J13,2,20121224,1334,-62.0712, 113.8247, 4162,   2750.7,2,   0.2392,2,   0.23927,2,  34.6797,2,  34.6796,2,-999.0000,9,   220.45,2,   220.28,2,   99.961,   0.0016,2,   -0.000,2,  -999.00,9,    0.000,2,   122.26,2,     0.17,    32.54,2,     0.05,     0.01,2,     0.01,     2.24,2,     0.01,    0.655,2,    0.323,2,    0.050,2, -999.000,9,   -999.0,9,   -999.0,9,-999.0000,     -999,9, -999.000,9, -999.000,   -999.0,9,   -999.0, -999.000,9, -999.000, -999.000,9, -999.000
  49NZ20121128,  S04I,    84,  2,     12, X12J12,2,20121224,1334,-62.0712, 113.8247, 4162,   3000.6,2,   0.1554,2,   0.15535,2,  34.6761,2,  34.6761,2,-999.0000,9,   223.47,2,   223.42,2,   99.944,   0.0022,2,   -0.000,2,  -999.00,9,    0.000,2,   124.06,2,     0.17,    32.55,2,     0.05,     0.01,2,     0.01,     2.25,2,     0.01,    0.780,2,    0.383,2,    0.049,2, -999.000,9,   -999.0,9,   -999.0,9,-999.0000,     -999,9, -999.000,9, -999.000,   -999.0,9,   -999.0, -999.000,9, -999.000, -999.000,9, -999.000
  49NZ20121128,  S04I,    84,  2,     11, X12J11,2,20121224,1334,-62.0712, 113.8247, 4162,   3250.4,2,   0.0915,2,   0.09137,2,  34.6727,2,  34.6732,2,-999.0000,9,   226.15,2,   226.14,2,   99.935,   0.0026,2,   -0.000,2,  -999.00,9,    0.000,2,   124.60,2,     0.17,    32.51,2,     0.05,     0.01,2,     0.01,     2.24,2,     0.01,    0.918,2,    0.454,2,    0.065,2, -999.000,9,   -999.0,9,   -999.0,9,-999.0000,     -999,9, -999.000,9, -999.000,   -999.0,9,   -999.0, -999.000,9, -999.000, -999.000,9, -999.000
  49NZ20121128,  S04I,    84,  2,     10, X12J10,2,20121224,1334,-62.0712, 113.8247, 4162,   3500.6,2,   0.0308,2,   0.03066,2,  34.6692,2,  34.6694,2,-999.0000,9,   228.88,2,   228.75,2,   99.916,   0.0034,2,   -0.000,2,  -999.00,9,    0.000,2,   124.92,2,     0.17,    32.48,2,     0.05,     0.01,2,     0.01,     2.24,2,     0.01,    1.095,2,    0.546,2,    0.077,2, -999.000,9,   -999.0,9,   -999.0,9,-999.0000,     -999,9, -999.000,9, -999.000,   -999.0,9,   -999.0, -999.000,9, -999.000, -999.000,9, -999.000
  49NZ20121128,  S04I,    84,  2,      9, X12J09,2,20121224,1334,-62.0712, 113.8247, 4162,   3750.3,2,  -0.0218,2,  -0.02184,2,  34.6656,2,  34.6656,2,-999.0000,9,   231.32,2,   231.31,2,   99.899,   0.0040,2,   -0.010,2,  -999.00,9,    0.000,2,   126.25,2,     0.17,    32.46,2,     0.05,     0.01,2,     0.01,     2.24,2,     0.01,    1.290,2,    0.645,2,    0.085,2, -999.000,9,   -999.0,9,   -999.0,9,-999.0000,     -999,9, -999.000,9, -999.000,   -999.0,9,   -999.0, -999.000,9, -999.000, -999.000,9, -999.000
  49NZ20121128,  S04I,    84,  2,      8, X12J08,2,20121224,1334,-62.0712, 113.8247, 4162,   4001.3,2,  -0.0807,2,  -0.08021,2,  34.6597,2,  34.6595,2,-999.0000,9,   234.40,2,   234.52,2,   99.855,   0.0058,2,   -0.010,2,  -999.00,9,    0.000,2,   126.16,2,     0.17,    32.40,2,     0.05,     0.01,2,     0.01,     2.24,2,     0.01,    1.587,6,    0.806,6,    0.116,6, -999.000,9,   -999.0,9,   -999.0,9,-999.0000,     -999,9, -999.000,9, -999.000,   -999.0,9,   -999.0, -999.000,9, -999.000, -999.000,9, -999.000
  49NZ20121128,  S04I,    84,  2,      7, X12J07,2,20121224,1334,-62.0712, 113.8247, 4162,    800.3,2,   1.5400,2,   1.53999,2,  34.7340,2,-999.0000,9,-999.0000,9,   196.40,2,  -999.00,9,   99.952,   0.0019,2,    0.000,2,  -999.00,9,    0.000,2,  -999.00,9,  -999.00,  -999.00,9,  -999.00,  -999.00,9,  -999.00,  -999.00,9,  -999.00, -999.000,9, -999.000,9, -999.000,9, -999.000,9,   -999.0,9,   -999.0,9,-999.0000,     -999,9, -999.000,9, -999.000,   -999.0,9,   -999.0, -999.000,9, -999.000, -999.000,9, -999.000
  49NZ20121128,  S04I,    84,  2,      6, X12J06,2,20121224,1334,-62.0712, 113.8247, 4162,    800.4,2,   1.5403,2,   1.54043,2,  34.7341,2,-999.0000,9,-999.0000,9,   196.40,2,  -999.00,9,   99.948,   0.0021,2,    0.000,2,  -999.00,9,    0.000,2,  -999.00,9,  -999.00,  -999.00,9,  -999.00,  -999.00,9,  -999.00,  -999.00,9,  -999.00, -999.000,9, -999.000,9, -999.000,9, -999.000,9,   -999.0,9,   -999.0,9,-999.0000,     -999,9, -999.000,9, -999.000,   -999.0,9,   -999.0, -999.000,9, -999.000, -999.000,9, -999.000
  49NZ20121128,  S04I,    84,  2,      5, X12J05,2,20121224,1334,-62.0712, 113.8247, 4162,    800.3,2,   1.5402,2,   1.54013,2,  34.7341,2,-999.0000,9,-999.0000,9,   196.37,2,  -999.00,9,   99.832,   0.0067,2,    0.000,2,  -999.00,9,    0.000,2,  -999.00,9,  -999.00,  -999.00,9,  -999.00,  -999.00,9,  -999.00,  -999.00,9,  -999.00, -999.000,9, -999.000,9, -999.000,9, -999.000,9,   -999.0,9,   -999.0,9,-999.0000,     -999,9, -999.000,9, -999.000,   -999.0,9,   -999.0, -999.000,1, -999.000, -999.000,1, -999.000
  49NZ20121128,  S04I,    84,  2,      4, X12J04,2,20121224,1334,-62.0712, 113.8247, 4162,    800.4,2,   1.5401,2,   1.53991,2,  34.7341,2,-999.0000,9,-999.0000,9,   196.37,2,  -999.00,9,   99.942,   0.0023,2,    0.000,2,  -999.00,9,    0.000,2,  -999.00,9,  -999.00,  -999.00,9,  -999.00,  -999.00,9,  -999.00,  -999.00,9,  -999.00, -999.000,9, -999.000,9, -999.000,9, -999.000,9,   -999.0,9,   -999.0,9,-999.0000,     -999,9, -999.000,9, -999.000,   -999.0,9,   -999.0, -999.000,1, -999.000, -999.000,1, -999.000
  49NZ20121128,  S04I,    84,  2,      3, X12J03,2,20121224,1334,-62.0712, 113.8247, 4162,    800.6,2,   1.5401,2,   1.53999,2,  34.7340,2,-999.0000,9,-999.0000,9,   196.37,2,  -999.00,9,   99.956,   0.0018,2,    0.000,2,  -999.00,9,    0.000,2,  -999.00,9,  -999.00,  -999.00,9,  -999.00,  -999.00,9,  -999.00,  -999.00,9,  -999.00, -999.000,9, -999.000,9, -999.000,9, -999.000,9,   -999.0,9,   -999.0,9,-999.0000,     -999,9, -999.000,9, -999.000,   -999.0,9,   -999.0, -999.000,1, -999.000, -999.000,1, -999.000
  49NZ20121128,  S04I,    84,  2,      2, X12J02,2,20121224,1334,-62.0712, 113.8247, 4162,    800.3,2,   1.5405,2,   1.54049,2,  34.7341,2,-999.0000,9,-999.0000,9,   196.42,2,  -999.00,9,   99.933,   0.0027,2,    0.000,2,  -999.00,9,    0.000,2,  -999.00,9,  -999.00,  -999.00,9,  -999.00,  -999.00,9,  -999.00,  -999.00,9,  -999.00, -999.000,9, -999.000,9, -999.000,9, -999.000,9,   -999.0,9,   -999.0,9,-999.0000,     -999,9, -999.000,9, -999.000,   -999.0,9,   -999.0, -999.000,1, -999.000, -999.000,1, -999.000
  49NZ20121128,  S04I,    84,  2,      1, X12J01,2,20121224,1334,-62.0712, 113.8247, 4162,   4226.8,2,  -0.1895,2,  -0.18959,2,  34.6474,2,  34.6480,2,-999.0000,9,   239.05,2,   239.21,2,   99.572,   0.0172,2,   -0.000,2,  -999.00,9,    0.000,2,   126.01,2,     0.17,    32.34,2,     0.05,     0.01,2,     0.01,     2.23,2,     0.01,    2.079,2,    1.084,2,    0.167,2, -999.000,9,   -999.0,9,   -999.0,9,-999.0000,     -999,9, -999.000,9, -999.000,   -999.0,9,   -999.0, -999.000,9, -999.000, -999.000,9, -999.000