BOTTLE,20220819CCHSIOAMB
EXPOCODE,SECT_ID,STNNBR,CASTNO,SAMPNO,BTLNBR,BTLNBR_FLAG_W,DATE,TIME,LATITUDE,LONGITUDE,DEPTH,CTDPRS,CTDPRS_FLAG_W,CTDTMP,CTDTMP_FLAG_W,SBE35,SBE35_FLAG_W,CTDSAL,CTDSAL_FLAG_W,SALNTY,SALNTY_FLAG_W,DNSSAL,DNSSAL_FLAG_W,CTDOXY,CTDOXY_FLAG_W,OXYGEN,OXYGEN_FLAG_W,CTDXMISS,CTDXMISSCP,CTDXMISS_FLAG_W,CTDFLUOR,CTDFLUOR_FLAG_W,CHLORA,CHLORA_FLAG_W,PAR,PAR_FLAG_W,SILCAT,SILCAT_FLAG_W,SILUNC,NITRAT,NITRAT_FLAG_W,NRAUNC,NITRIT,NITRIT_FLAG_W,NRIUNC,PHSPHT,PHSPHT_FLAG_W,PHPUNC,CFC-11,CFC-11_FLAG_W,CFC-12,CFC-12_FLAG_W,CFC113,CFC113_FLAG_W,SF6,SF6_FLAG_W,TCARBN,TCARBN_FLAG_W,ALKALI,ALKALI_FLAG_W,PH_TOT,PH_TMP,PH_TOT_FLAG_W,DELC13,DELC13_FLAG_W,C13ERR,DELC14,DELC14_FLAG_W,C14ERR,CS-134,CS-134_FLAG_W,CS134ER,CS-137,CS-137_FLAG_W,CS137ER
,,,,,,,,UTC,DEG,DEG,METERS,DBAR,,ITS-90,,ITS-90,,PSS-78,,PSS-78,,G/KG,,UMOL/KG,,UMOL/KG,,%TRANS,/METER,,MG/M^3,,MG/CUM,,UE/SQM/S,,UMOL/KG,,UMOL/KG,UMOL/KG,,UMOL/KG,UMOL/KG,,UMOL/KG,UMOL/KG,,UMOL/KG,PMOL/KG,,PMOL/KG,,PMOL/KG,,FMOL/KG,,UMOL/KG,,UMOL/KG,,,DEG C,,/MILLE,,/MILLE,/MILLE,,/MILLE,MBQ/KG,,MBQ/KG,MBQ/KG,,MBQ/KG
  49NZ20121128,   S04,    59,  1,     36, X12J36,2,20121215,1222,-63.1828, 147.8402, 3875,      5.5,2,  -0.3710,2,  -0.37123,2,  33.7702,2,  33.7706,2,  33.9331,2,   358.55,2,   359.16,2,   87.945,   0.5138,2,    1.800,2,     1.99,2,    0.629,2,    29.88,2,     0.09,    25.01,2,     0.04,     0.18,2,     0.01,     1.63,2,     0.01,    5.638,2,    3.095,2,    0.636,2,    3.010,2,   2145.7,2,   2285.6,2,   7.7228,       25,6, -999.000,9, -999.000,   -999.0,9,   -999.0, -999.000,9, -999.000, -999.000,9, -999.000
  49NZ20121128,   S04,    59,  1,     35, X12J35,2,20121215,1222,-63.1828, 147.8402, 3875,     24.7,2,  -0.3779,2,  -0.37862,2,  33.7700,2,  33.7705,2,  33.9335,2,   358.41,2,   359.45,2,   88.077,   0.5078,2,    1.750,2,     1.97,2,    0.000,2,    29.94,2,     0.09,    25.08,2,     0.04,     0.18,2,     0.01,     1.66,2,     0.01,    5.626,2,    3.100,2,    0.646,2,    3.140,2,   2147.0,2,   2285.0,2,   7.7225,       25,2, -999.000,9, -999.000,   -999.0,9,   -999.0, -999.000,9, -999.000, -999.000,9, -999.000
  49NZ20121128,   S04,    59,  1,     34, X12J34,2,20121215,1222,-63.1828, 147.8402, 3875,     49.9,2,  -0.8940,2,  -0.92974,2,  33.8663,2,  33.8900,2,  34.0499,2,   336.08,2,   335.94,2,   92.240,   0.3231,2,    1.160,2,     1.44,2,    0.000,2,    37.88,2,     0.09,    27.29,2,     0.04,     0.16,2,     0.01,     1.88,2,     0.01,    5.275,6,    2.879,6,    0.588,6,    2.620,6,   2169.7,2,   2290.1,2,   7.6781,       25,2, -999.000,9, -999.000,   -999.0,9,   -999.0, -999.000,9, -999.000, -999.000,9, -999.000
  49NZ20121128,   S04,    59,  1,     33, X12J33,2,20121215,1222,-63.1828, 147.8402, 3875,     75.1,2,   1.0140,2,   1.03670,2,  34.3886,2,  34.3794,2,  34.5470,2,   209.34,2,   215.60,2,   99.337,   0.0266,2,    0.170,2,     0.18,2,    0.000,2,    64.22,2,     0.12,    33.95,2,     0.05,     0.10,2,     0.01,     2.34,2,     0.01,    2.313,2,    1.260,2,    0.229,2,    1.080,2,   2239.7,6,   2318.2,2,   7.5621,       25,2, -999.000,9, -999.000,   -999.0,9,   -999.0, -999.000,9, -999.000, -999.000,9, -999.000
  49NZ20121128,   S04,    59,  1,     32, X12J32,2,20121215,1222,-63.1828, 147.8402, 3875,    100.2,2,   1.7399,2,   1.73818,2,  34.4957,2,  34.4933,2,  34.6597,2,   186.54,2,   187.22,2,   99.641,   0.0144,2,    0.070,2,     0.05,2,    0.000,2,    70.27,2,     0.12,    34.70,2,     0.05,     0.02,2,     0.01,     2.38,2,     0.01,    1.417,2,    0.775,2,    0.138,2,    0.510,2,   2256.9,2,   2326.1,6,   7.5474,       25,2, -999.000,9, -999.000,   -999.0,9,   -999.0, -999.000,9, -999.000, -999.000,9, -999.000
  49NZ20121128,   S04,    59,  1,     31, X12J31,2,20121215,1222,-63.1828, 147.8402, 3875,    124.9,2,   1.8731,2,   1.87269,2,  34.5326,2,  34.5318,2,  34.7006,2,   180.82,2,   180.93,2,   99.687,   0.0125,2,    0.030,2,     0.02,2,    0.000,2,    72.57,2,     0.12,    34.71,2,     0.05,     0.02,2,     0.01,     2.38,2,     0.01,    1.148,2,    0.622,2,    0.112,2,    0.370,2,   2255.1,3,   2328.8,2,   7.5469,       25,2, -999.000,9, -999.000,   -999.0,9,   -999.0, -999.000,9, -999.000, -999.000,9, -999.000
  49NZ20121128,   S04,    59,  1,     30, X12J30,2,20121215,1222,-63.1828, 147.8402, 3875,    150.4,2,   1.9206,2,   1.92030,2,  34.5540,2,  34.5524,2,  34.7230,2,   178.45,2,   178.38,2,   99.687,   0.0125,2,    0.030,2,     0.02,2,    0.000,2,    73.77,2,     0.12,    34.60,2,     0.05,     0.02,2,     0.01,     2.37,2,     0.01,    1.045,2,    0.561,2,    0.097,2,    0.330,2,   2256.5,2,   2330.4,2,   7.5468,       25,6, -999.000,9, -999.000,   -999.0,9,   -999.0, -999.000,9, -999.000, -999.000,9, -999.000
  49NZ20121128,   S04,    59,  1,     29, X12J29,2,20121215,1222,-63.1828, 147.8402, 3875,    199.8,2,   2.0468,2,   2.04675,2,  34.6041,2,  34.6028,2,  34.7724,2,   174.75,2,   174.69,2,   99.687,   0.0125,2,    0.020,2,     0.01,2,    0.000,2,    75.95,2,     0.13,    34.16,2,     0.05,     0.01,2,     0.01,     2.34,2,     0.01,    0.780,2,    0.396,2,    0.068,2,    0.220,2,   2257.8,2,   2334.3,2,   7.5526,       25,2, -999.000,9, -999.000,   -999.0,9,   -999.0, -999.000,9, -999.000, -999.000,9, -999.000
  49NZ20121128,   S04,    59,  1,     28, X12J28,2,20121215,1222,-63.1828, 147.8402, 3875,    250.1,2,   2.0294,2,   2.02932,2,  34.6308,2,  34.6297,2,  34.8001,2,   175.31,2,   175.31,2,   99.742,   0.0103,2,    0.010,2,     0.01,2,    0.000,2,    77.47,2,     0.13,    33.80,2,     0.05,     0.01,2,     0.01,     2.31,2,     0.01,    0.668,2,    0.345,2,    0.061,2,    0.200,2,   2258.1,2,   2336.0,2,   7.5587,       25,2, -999.000,9, -999.000,   -999.0,9,   -999.0, -999.000,9, -999.000, -999.000,9, -999.000
  49NZ20121128,   S04,    59,  1,     27, X12J27,2,20121215,1222,-63.1828, 147.8402, 3875,    280.3,2,   2.0307,2,   2.03054,2,  34.6458,2,  34.6442,2,  34.8166,2,   176.09,2,   176.22,2,   99.790,   0.0084,2,    0.010,2,  -999.00,9,    0.000,2,    77.91,2,     0.13,    33.48,2,     0.05,     0.01,2,     0.01,     2.30,2,     0.01,    0.603,2,    0.313,2,    0.056,2,    0.200,2,   2257.0,2,   2337.2,2,   7.5634,       25,2, -999.000,9, -999.000,   -999.0,9,   -999.0, -999.000,9, -999.000, -999.000,9, -999.000
  49NZ20121128,   S04,    59,  1,     26, X12J26,2,20121215,1222,-63.1828, 147.8402, 3875,    370.6,2,   1.9946,2,   1.99460,2,  34.6755,2,  34.6743,2,  34.8443,2,   178.81,2,   178.76,2,   99.783,   0.0087,2,    0.010,2,  -999.00,9,    0.000,2,    79.30,2,     0.13,    32.83,2,     0.05,     0.01,2,     0.01,     2.24,2,     0.01,    0.514,2,    0.256,2,    0.049,2,    0.290,2,   2256.0,2,   2339.0,2,   7.5721,       25,2, -999.000,9, -999.000,   -999.0,9,   -999.0, -999.000,9, -999.000, -999.000,9, -999.000
  49NZ20121128,   S04,    59,  1,     25, X12J25,2,20121215,1222,-63.1828, 147.8402, 3875,    471.5,2,   1.9657,2,   1.96560,2,  34.6996,2,  34.6994,2,  34.8687,2,   181.73,2,   182.36,2,   99.932,   0.0027,2,    0.000,2,  -999.00,9,    0.000,2,    80.63,2,     0.13,    32.23,2,     0.05,     0.01,2,     0.01,     2.20,2,     0.01,    0.423,2,    0.205,2,    0.039,2,    0.080,2,   2254.2,2,   2341.1,2,   7.5824,       25,2, -999.000,9, -999.000,   -999.0,9,   -999.0, -999.000,9, -999.000, -999.000,9, -999.000
  49NZ20121128,   S04,    59,  1,     24, X12J24,2,20121215,1222,-63.1828, 147.8402, 3875,    570.8,2,   1.9158,2,   1.91574,2,  34.7148,2,  34.7148,2,  34.8852,2,   184.83,2,   185.33,2,   99.930,   0.0028,2,    0.000,2,  -999.00,9,    0.000,2,    82.17,2,     0.13,    31.80,2,     0.04,     0.01,2,     0.01,     2.18,2,     0.01,    0.372,6,    0.175,6,    0.034,6,    0.120,6,   2253.4,2,   2344.5,2,   7.5892,       25,2, -999.000,9, -999.000,   -999.0,9,   -999.0, -999.000,9, -999.000, -999.000,9, -999.000
  49NZ20121128,   S04,    59,  1,     23, X12J23,2,20121215,1222,-63.1828, 147.8402, 3875,    669.4,2,   1.8816,2,   1.88154,2,  34.7307,2,  34.7306,2,  34.9003,2,   188.70,2,   188.98,2,   99.913,   0.0035,2,    0.000,2,  -999.00,9,    0.000,2,    83.31,2,     0.13,    31.26,2,     0.04,     0.01,2,     0.01,     2.14,2,     0.01,    0.286,2,    0.136,2,    0.027,2,    0.110,2,   2250.8,6,   2346.0,2,   7.5991,       25,2, -999.000,9, -999.000,   -999.0,9,   -999.0, -999.000,9, -999.000, -999.000,9, -999.000
  49NZ20121128,   S04,    59,  1,     22, X12J22,2,20121215,1222,-63.1828, 147.8402, 3875,    768.7,2,   1.8219,2,   1.82171,2,  34.7389,2,  34.7385,2,  34.9102,2,   191.69,2,   191.99,2,   99.922,   0.0031,2,    0.000,2,  -999.00,9,    0.000,2,    84.89,2,     0.14,    31.01,2,     0.04,     0.01,2,     0.01,     2.13,2,     0.01,    0.244,2,    0.116,2,    0.023,2,    0.090,2,   2250.5,2,   2347.5,6,   7.6067,       25,2, -999.000,9, -999.000,   -999.0,9,   -999.0, -999.000,9, -999.000, -999.000,9, -999.000
  49NZ20121128,   S04,    59,  1,     21, X12J21,2,20121215,1222,-63.1828, 147.8402, 3875,    871.3,2,   1.7188,2,   1.71870,2,  34.7393,2,  34.7393,2,  34.9079,2,   193.39,2,   193.67,2,   99.959,   0.0016,2,    0.000,2,  -999.00,9,    0.000,2,    87.22,2,     0.14,    30.95,2,     0.04,     0.01,2,     0.01,     2.12,2,     0.01,    0.255,2,    0.121,2,    0.025,2,    0.110,2,   2251.6,2,   2347.5,2,   7.6071,       25,6, -999.000,9, -999.000,   -999.0,9,   -999.0, -999.000,9, -999.000, -999.000,9, -999.000
  49NZ20121128,   S04,    59,  1,     20, X12J20,2,20121215,1222,-63.1828, 147.8402, 3875,    961.8,2,   1.6586,2,   1.65858,2,  34.7413,2,  34.7410,2,  34.9135,2,   195.11,2,   195.47,2,   99.963,   0.0015,2,    0.000,2,  -999.00,9,    0.000,2,    88.93,2,     0.14,    30.88,2,     0.04,     0.01,2,     0.01,     2.12,2,     0.01,    0.234,2,    0.111,2,    0.022,2,    0.070,2,   2252.0,2,   2350.2,2,   7.6101,       25,2, -999.000,9, -999.000,   -999.0,9,   -999.0, -999.000,9, -999.000, -999.000,9, -999.000
  49NZ20121128,   S04,    59,  1,     19, X12J19,2,20121215,1222,-63.1828, 147.8402, 3875,   1171.0,2,   1.4796,2,   1.47972,2,  34.7395,2,  34.7392,2,  34.9102,2,   198.57,2,   198.89,2,   99.947,   0.0021,2,    0.000,2,  -999.00,9,    0.000,2,    93.85,2,     0.14,    30.96,2,     0.04,     0.01,2,     0.01,     2.12,2,     0.01,    0.217,6,    0.102,6,    0.020,6,    0.040,6,   2251.3,2,   2352.6,2,   7.6132,       25,2, -999.000,9, -999.000,   -999.0,9,   -999.0, -999.000,9, -999.000, -999.000,9, -999.000
  49NZ20121128,   S04,    59,  1,     18, X12J18,2,20121215,1222,-63.1828, 147.8402, 3875,   1421.6,2,   1.2597,2,   1.25994,2,  34.7311,2,  34.7311,2,  34.9030,2,   201.54,2,   201.83,2,   99.980,   0.0008,2,    0.000,2,  -999.00,9,    0.000,2,    99.79,2,     0.15,    31.28,2,     0.04,     0.01,2,     0.01,     2.15,2,     0.01,    0.219,2,    0.105,2,    0.023,2,    0.070,2,   2254.4,2,   2356.2,2,   7.6117,       25,2, -999.000,9, -999.000,   -999.0,9,   -999.0, -999.000,9, -999.000, -999.000,9, -999.000
  49NZ20121128,   S04,    59,  1,     17, X12J17,2,20121215,1222,-63.1828, 147.8402, 3875,   1669.9,2,   1.0663,2,   1.06625,2,  34.7220,2,  34.7217,2,  34.8931,2,   203.94,2,   204.27,2,   99.951,   0.0020,2,   -0.000,2,  -999.00,9,    0.000,2,   105.52,2,     0.15,    31.58,2,     0.04,     0.01,2,     0.01,     2.17,2,     0.01,    0.229,2,    0.111,2,    0.024,2,    0.000,2,   2256.5,2,   2356.2,2,   7.6100,       25,2, -999.000,9, -999.000,   -999.0,9,   -999.0, -999.000,9, -999.000, -999.000,9, -999.000
  49NZ20121128,   S04,    59,  1,     16, X12J16,2,20121215,1222,-63.1828, 147.8402, 3875,   1921.3,2,   0.8676,2,   0.86780,2,  34.7108,2,  34.7107,2,  34.8832,2,   206.63,2,   206.94,2,   99.959,   0.0016,2,   -0.000,2,  -999.00,9,    0.000,2,   110.32,2,     0.16,    31.84,2,     0.04,     0.01,2,     0.01,     2.19,2,     0.01,    0.294,2,    0.134,2,    0.022,2,    0.030,2,   2258.8,2,   2356.9,2,   7.6070,       25,2, -999.000,9, -999.000,   -999.0,9,   -999.0, -999.000,9, -999.000, -999.000,9, -999.000
  49NZ20121128,   S04,    59,  1,     15, X12J15,2,20121215,1222,-63.1828, 147.8402, 3875,   2170.8,2,   0.6905,2,   0.69109,2,  34.7027,2,  34.7022,2,  34.8759,2,   209.53,2,   209.70,2,   99.976,   0.0010,2,   -0.000,2,  -999.00,9,    0.000,2,   115.84,2,     0.16,    32.20,2,     0.05,     0.01,2,     0.01,     2.21,2,     0.01,    0.304,2,    0.136,2,    0.019,2,    0.110,2,   2260.9,2,   2359.4,3,   7.6050,       25,2, -999.000,9, -999.000,   -999.0,9,   -999.0, -999.000,9, -999.000, -999.000,9, -999.000
  49NZ20121128,   S04,    59,  1,     14, X12J14,2,20121215,1222,-63.1828, 147.8402, 3875,   2421.0,2,   0.5227,2,   0.52265,2,  34.6939,2,  34.6935,2,  34.8654,2,   213.06,2,   213.26,2,   99.957,   0.0017,2,   -0.000,2,  -999.00,9,    0.000,2,   119.27,2,     0.17,    32.33,2,     0.05,     0.01,2,     0.01,     2.23,2,     0.01,    0.393,2,    0.183,2,    0.024,2,    0.140,2,   2260.8,6,   2357.3,2,   7.6031,       25,2, -999.000,9, -999.000,   -999.0,9,   -999.0, -999.000,9, -999.000, -999.000,9, -999.000
  49NZ20121128,   S04,    59,  1,     13, X12J13,2,20121215,1222,-63.1828, 147.8402, 3875,   2670.2,2,   0.3821,2,   0.38206,2,  34.6875,2,  34.6873,2,  34.8618,2,   216.65,2,   216.89,2,   99.966,   0.0014,2,   -0.000,2,  -999.00,9,    0.000,2,   122.23,2,     0.17,    32.42,2,     0.05,     0.01,2,     0.01,     2.23,2,     0.01,    0.486,2,    0.228,2,    0.027,2,    0.130,2,   2259.9,2,   2357.7,6,   7.6020,       25,2, -999.000,9, -999.000,   -999.0,9,   -999.0, -999.000,9, -999.000, -999.000,9, -999.000
  49NZ20121128,   S04,    59,  1,     12, X12J12,2,20121215,1222,-63.1828, 147.8402, 3875,   2921.7,2,   0.2699,2,   0.27000,2,  34.6825,2,  34.6823,2,  34.8582,2,   220.09,2,   220.18,2,   99.963,   0.0015,2,   -0.000,2,  -999.00,9,    0.000,2,   124.20,2,     0.17,    32.51,2,     0.05,     0.01,2,     0.01,     2.24,2,     0.01,    0.606,2,    0.294,2,    0.037,2,    0.160,2,   2260.1,2,   2357.0,2,   7.6023,       25,6, -999.000,9, -999.000,   -999.0,9,   -999.0, -999.000,9, -999.000, -999.000,9, -999.000
  49NZ20121128,   S04,    59,  1,     11, X12J11,2,20121215,1222,-63.1828, 147.8402, 3875,   3170.5,2,   0.1766,2,   0.17636,2,  34.6778,2,  34.6777,2,  34.8502,2,   223.19,2,   223.51,2,   99.938,   0.0025,2,   -0.000,2,  -999.00,9,    0.000,2,   125.17,2,     0.17,    32.53,2,     0.05,     0.01,2,     0.01,     2.24,2,     0.01,    0.806,2,    0.382,2,    0.048,2,    0.220,2,   2259.3,2,   2357.1,2,   7.6021,       25,2, -999.000,9, -999.000,   -999.0,9,   -999.0, -999.000,9, -999.000, -999.000,9, -999.000
  49NZ20121128,   S04,    59,  1,     10, X12J10,2,20121215,1222,-63.1828, 147.8402, 3875,   3421.9,2,   0.0779,2,   0.07780,2,  34.6723,2,  34.6721,2,  34.8443,2,   227.11,2,   227.29,2,   99.890,   0.0044,2,   -0.010,2,  -999.00,9,    0.000,2,   125.11,2,     0.17,    32.47,2,     0.05,     0.01,2,     0.01,     2.24,2,     0.01,    1.006,2,    0.522,2,    0.071,2,    0.310,2,   2260.0,2,   2356.4,2,   7.6021,       25,2, -999.000,9, -999.000,   -999.0,9,   -999.0, -999.000,9, -999.000, -999.000,9, -999.000
  49NZ20121128,   S04,    59,  1,      9, X12J09,2,20121215,1222,-63.1828, 147.8402, 3875,   3669.4,2,  -0.0110,2,  -0.01113,2,  34.6657,2,  34.6657,2,  34.8386,2,   230.84,2,   231.19,2,   99.802,   0.0079,2,   -0.010,2,  -999.00,9,    0.000,2,   123.03,2,     0.17,    32.39,2,     0.05,     0.01,2,     0.01,     2.23,2,     0.01,    1.352,2,    0.704,2,    0.104,2,    0.410,2,   2258.6,2,   2354.8,2,   7.6011,       25,2, -999.000,9, -999.000,   -999.0,9,   -999.0, -999.000,9, -999.000, -999.000,9, -999.000
  49NZ20121128,   S04,    59,  1,      1, X12J01,2,20121215,1222,-63.1828, 147.8402, 3875,   3941.9,2,  -0.1407,2,  -0.14053,2,  34.6560,2,  34.6572,2,  34.8298,2,   236.32,2,   236.13,2,   99.411,   0.0236,2,   -0.010,2,  -999.00,9,    0.000,2,   117.95,2,     0.16,    32.30,2,     0.05,     0.01,2,     0.01,     2.23,2,     0.01,    1.940,2,    1.025,2,    0.170,2,    0.680,2,   2259.1,2,   2353.2,2,   7.5972,       25,2, -999.000,9, -999.000,   -999.0,9,   -999.0, -999.000,9, -999.000, -999.000,9, -999.000