BOTTLE,20220819CCHSIOAMB
EXPOCODE,SECT_ID,STNNBR,CASTNO,SAMPNO,BTLNBR,BTLNBR_FLAG_W,DATE,TIME,LATITUDE,LONGITUDE,DEPTH,CTDPRS,CTDPRS_FLAG_W,CTDTMP,CTDTMP_FLAG_W,SBE35,SBE35_FLAG_W,CTDSAL,CTDSAL_FLAG_W,SALNTY,SALNTY_FLAG_W,DNSSAL,DNSSAL_FLAG_W,CTDOXY,CTDOXY_FLAG_W,OXYGEN,OXYGEN_FLAG_W,CTDXMISS,CTDXMISSCP,CTDXMISS_FLAG_W,CTDFLUOR,CTDFLUOR_FLAG_W,CHLORA,CHLORA_FLAG_W,PAR,PAR_FLAG_W,SILCAT,SILCAT_FLAG_W,SILUNC,NITRAT,NITRAT_FLAG_W,NRAUNC,NITRIT,NITRIT_FLAG_W,NRIUNC,PHSPHT,PHSPHT_FLAG_W,PHPUNC,CFC-11,CFC-11_FLAG_W,CFC-12,CFC-12_FLAG_W,CFC113,CFC113_FLAG_W,SF6,SF6_FLAG_W,TCARBN,TCARBN_FLAG_W,ALKALI,ALKALI_FLAG_W,PH_TOT,PH_TMP,PH_TOT_FLAG_W,DELC13,DELC13_FLAG_W,C13ERR,DELC14,DELC14_FLAG_W,C14ERR,CS-134,CS-134_FLAG_W,CS134ER,CS-137,CS-137_FLAG_W,CS137ER
,,,,,,,,UTC,DEG,DEG,METERS,DBAR,,ITS-90,,ITS-90,,PSS-78,,PSS-78,,G/KG,,UMOL/KG,,UMOL/KG,,%TRANS,/METER,,MG/M^3,,MG/CUM,,UE/SQM/S,,UMOL/KG,,UMOL/KG,UMOL/KG,,UMOL/KG,UMOL/KG,,UMOL/KG,UMOL/KG,,UMOL/KG,PMOL/KG,,PMOL/KG,,PMOL/KG,,FMOL/KG,,UMOL/KG,,UMOL/KG,,,DEG C,,/MILLE,,/MILLE,/MILLE,,/MILLE,MBQ/KG,,MBQ/KG,MBQ/KG,,MBQ/KG
  49NZ20121128,   S04,    61,  1,     36, X12J36,2,20121216,0035,-62.9008, 145.0433, 3994,      5.0,2,  -0.6509,2,  -0.65039,2,  33.7858,2,  33.7863,2,-999.0000,9,   354.08,2,   354.61,2,   93.052,   0.2880,2,    0.170,2,  -999.00,9,  493.354,2,    30.69,2,     0.09,    26.25,2,     0.04,     0.18,2,     0.01,     1.77,2,     0.01,    5.738,2,    3.113,2,    0.641,2,    3.060,2,   2156.6,2,   2284.0,2,   7.7028,       25,6, -999.000,1, -999.000,   -999.0,1,   -999.0, -999.000,9, -999.000, -999.000,9, -999.000
  49NZ20121128,   S04,    61,  1,     35, X12J35,2,20121216,0035,-62.9008, 145.0433, 3994,     25.2,2,  -0.6649,2,  -0.66518,2,  33.7859,2,  33.7860,2,-999.0000,9,   354.04,2,   354.70,2,   93.052,   0.2880,2,    0.480,2,  -999.00,9,   62.361,2,    30.68,2,     0.09,    26.29,2,     0.04,     0.18,2,     0.01,     1.78,2,     0.01,    5.714,2,    3.128,2,    0.644,2,    3.050,2,   2153.1,2,   2284.9,2,   7.7027,       25,2, -999.000,1, -999.000,   -999.0,1,   -999.0, -999.000,9, -999.000, -999.000,9, -999.000
  49NZ20121128,   S04,    61,  1,     34, X12J34,2,20121216,0035,-62.9008, 145.0433, 3994,     50.1,2,  -0.8086,2,  -0.80902,2,  33.7969,2,  33.7973,2,-999.0000,9,   351.99,2,   352.46,2,   92.901,   0.2945,2,    1.040,2,  -999.00,9,    6.397,2,    31.96,2,     0.09,    26.60,2,     0.04,     0.18,2,     0.01,     1.81,2,     0.01,    5.679,6,    3.110,6,    0.630,6,    2.940,6,   2155.3,2,   2285.5,2,   7.6961,       25,2, -999.000,1, -999.000,   -999.0,1,   -999.0, -999.000,9, -999.000, -999.000,9, -999.000
  49NZ20121128,   S04,    61,  1,     33, X12J33,2,20121216,0035,-62.9008, 145.0433, 3994,     74.7,2,  -1.5557,2,  -1.55423,2,  33.9623,2,  33.9618,2,-999.0000,9,   328.74,2,   329.00,2,   98.984,   0.0408,2,    0.200,2,  -999.00,9,    1.789,2,    39.52,2,     0.09,    29.74,2,     0.04,     0.21,2,     0.01,     2.07,2,     0.01,    5.351,2,    2.945,2,    0.588,2,    2.740,2,   2182.7,6,   2293.5,2,   7.6403,       25,2, -999.000,1, -999.000,   -999.0,1,   -999.0, -999.000,9, -999.000, -999.000,9, -999.000
  49NZ20121128,   S04,    61,  1,     32, X12J32,2,20121216,0035,-62.9008, 145.0433, 3994,    100.5,2,  -0.8238,2,  -0.82721,2,  34.0651,2,  34.0608,2,-999.0000,9,   299.54,2,   300.56,2,   99.407,   0.0238,2,    0.140,2,  -999.00,9,    0.511,2,    45.38,2,     0.10,    31.20,2,     0.04,     0.16,2,     0.01,     2.15,2,     0.01,    4.704,2,    2.590,2,    0.504,2,    2.340,2,   2198.7,2,   2298.4,6,   7.6183,       25,2, -999.000,1, -999.000,   -999.0,1,   -999.0, -999.000,9, -999.000, -999.000,9, -999.000
  49NZ20121128,   S04,    61,  1,     31, X12J31,2,20121216,0035,-62.9008, 145.0433, 3994,    125.2,2,   0.4919,2,   0.48008,2,  34.2176,2,  34.2140,2,-999.0000,9,   249.99,2,   250.53,2,   99.493,   0.0203,2,    0.100,2,  -999.00,9,    0.123,2,    52.83,2,     0.11,    33.20,2,     0.05,     0.03,2,     0.01,     2.27,2,     0.01,    3.423,2,    1.920,2,    0.352,2,    1.650,2,   2220.6,2,   2307.8,2,   7.5842,       25,2, -999.000,1, -999.000,   -999.0,1,   -999.0, -999.000,9, -999.000, -999.000,9, -999.000
  49NZ20121128,   S04,    61,  1,     30, X12J30,2,20121216,0035,-62.9008, 145.0433, 3994,    150.5,2,   1.5045,2,   1.50437,2,  34.3640,2,  34.3586,2,-999.0000,9,   207.93,2,   209.45,2,   99.606,   0.0158,2,    0.040,2,  -999.00,9,    0.040,2,    61.18,2,     0.11,    34.59,2,     0.05,     0.01,2,     0.01,     2.37,2,     0.01,    2.307,2,    1.262,2,    0.221,2,    0.950,2,   2238.8,2,   2316.6,2,   7.5565,       25,6, -999.000,1, -999.000,   -999.0,1,   -999.0, -999.000,9, -999.000, -999.000,9, -999.000
  49NZ20121128,   S04,    61,  1,     29, X12J29,2,20121216,0035,-62.9008, 145.0433, 3994,    201.4,2,   1.9381,2,   1.93795,2,  34.4814,2,  34.4779,2,-999.0000,9,   184.79,2,   185.32,2,   99.640,   0.0144,2,    0.010,2,  -999.00,9,    0.000,2,    68.88,2,     0.12,    35.00,2,     0.05,     0.01,2,     0.01,     2.40,2,     0.01,    1.420,2,    0.769,2,    0.132,2,    0.560,2,   2250.7,2,   2325.2,2,   7.5453,       25,2, -999.000,1, -999.000,   -999.0,1,   -999.0, -999.000,9, -999.000, -999.000,9, -999.000
  49NZ20121128,   S04,    61,  1,     28, X12J28,2,20121216,0035,-62.9008, 145.0433, 3994,    250.4,2,   1.9489,2,   1.94857,2,  34.5348,2,  34.5340,2,-999.0000,9,   180.10,2,   180.13,2,   99.675,   0.0130,2,    0.010,2,  -999.00,9,    0.000,2,    72.53,2,     0.12,    34.76,2,     0.05,     0.01,2,     0.01,     2.38,2,     0.01,    1.115,2,    0.608,2,    0.109,2,    0.350,2,   2254.4,2,   2327.0,2,   7.5478,       25,2, -999.000,1, -999.000,   -999.0,1,   -999.0, -999.000,9, -999.000, -999.000,9, -999.000
  49NZ20121128,   S04,    61,  1,     27, X12J27,2,20121216,0035,-62.9008, 145.0433, 3994,    331.6,2,   2.0713,2,   2.07072,2,  34.6051,2,  34.6037,2,-999.0000,9,   175.84,2,   176.03,2,   99.709,   0.0117,2,    0.000,2,  -999.00,9,    0.000,2,    75.42,2,     0.13,    34.09,2,     0.05,     0.01,2,     0.01,     2.34,2,     0.01,    0.787,2,    0.390,2,    0.069,2,    0.300,2,   2256.5,2,   2331.3,2,   7.5553,       25,2, -999.000,1, -999.000,   -999.0,1,   -999.0, -999.000,9, -999.000, -999.000,9, -999.000
  49NZ20121128,   S04,    61,  1,     26, X12J26,2,20121216,0035,-62.9008, 145.0433, 3994,    432.0,2,   2.0770,2,   2.07699,2,  34.6575,2,  34.6569,2,-999.0000,9,   177.21,2,   177.42,2,   99.822,   0.0071,2,    0.010,2,  -999.00,9,    0.000,2,    77.54,2,     0.13,    33.16,2,     0.05,     0.01,2,     0.01,     2.26,2,     0.01,    0.533,2,    0.267,2,    0.051,2,    0.250,2,   2255.3,2,   2339.9,2,   7.5690,       25,2, -999.000,1, -999.000,   -999.0,1,   -999.0, -999.000,9, -999.000, -999.000,9, -999.000
  49NZ20121128,   S04,    61,  1,     25, X12J25,2,20121216,0035,-62.9008, 145.0433, 3994,    530.0,2,   2.0852,2,   2.08486,2,  34.6908,2,  34.6906,2,-999.0000,9,   180.09,2,   180.60,2,   99.841,   0.0064,2,    0.010,2,  -999.00,9,    0.000,2,    78.61,2,     0.13,    32.40,2,     0.05,     0.01,2,     0.01,     2.21,2,     0.01,    0.395,2,    0.190,2,    0.037,2,    0.090,2,   2253.6,2,   2341.5,2,   7.5812,       25,2, -999.000,1, -999.000,   -999.0,1,   -999.0, -999.000,9, -999.000, -999.000,9, -999.000
  49NZ20121128,   S04,    61,  1,     24, X12J24,2,20121216,0035,-62.9008, 145.0433, 3994,    630.7,2,   2.0073,2,   2.00717,2,  34.7113,2,  34.7110,2,-999.0000,9,   183.71,2,   184.17,2,   99.864,   0.0054,2,    0.000,2,  -999.00,9,    0.000,2,    80.51,2,     0.13,    31.91,2,     0.04,     0.01,2,     0.01,     2.18,2,     0.01,    0.344,6,    0.167,6,    0.033,6,    0.160,6,   2254.2,3,   2344.3,2,   7.5895,       25,2, -999.000,1, -999.000,   -999.0,1,   -999.0, -999.000,9, -999.000, -999.000,9, -999.000
  49NZ20121128,   S04,    61,  1,     23, X12J23,2,20121216,0035,-62.9008, 145.0433, 3994,    734.0,2,   1.9709,2,   1.97107,2,  34.7280,2,  34.7278,2,-999.0000,9,   187.19,2,   187.74,2,   99.868,   0.0053,2,    0.000,2,  -999.00,9,    0.000,2,    81.59,2,     0.13,    31.38,2,     0.04,     0.01,2,     0.01,     2.15,2,     0.01,    0.272,2,    0.126,2,    0.027,2,    0.120,2,   2250.4,6,   2347.5,2,   7.5991,       25,2, -999.000,1, -999.000,   -999.0,1,   -999.0, -999.000,9, -999.000, -999.000,9, -999.000
  49NZ20121128,   S04,    61,  1,     22, X12J22,2,20121216,0035,-62.9008, 145.0433, 3994,    830.1,2,   1.9019,2,   1.90179,2,  34.7363,2,  34.7361,2,-999.0000,9,   190.02,2,   190.39,2,   99.845,   0.0062,2,    0.000,2,  -999.00,9,    0.000,2,    83.17,2,     0.13,    31.10,2,     0.04,     0.01,2,     0.01,     2.13,2,     0.01,    0.239,2,    0.112,2,    0.024,2,    0.000,2,   2249.3,2,   2347.6,6,   7.6045,       25,2, -999.000,1, -999.000,   -999.0,1,   -999.0, -999.000,9, -999.000, -999.000,9, -999.000
  49NZ20121128,   S04,    61,  1,     21, X12J21,2,20121216,0035,-62.9008, 145.0433, 3994,    932.4,2,   1.8251,2,   1.82488,2,  34.7416,2,  34.7414,2,-999.0000,9,   192.39,2,   192.73,2,   99.935,   0.0026,2,    0.000,2,  -999.00,9,    0.000,2,    85.24,2,     0.14,    30.91,2,     0.04,     0.01,2,     0.01,     2.12,2,     0.01,    0.214,2,    0.099,2,    0.022,2,    0.090,2,   2250.2,2,   2349.5,2,   7.6098,       25,2, -999.000,1, -999.000,   -999.0,1,   -999.0, -999.000,9, -999.000, -999.000,9, -999.000
  49NZ20121128,   S04,    61,  1,     20, X12J20,2,20121216,0035,-62.9008, 145.0433, 3994,   1082.3,2,   1.6962,2,   1.69607,2,  34.7428,2,  34.7427,2,-999.0000,9,   194.97,2,   195.55,2,   99.931,   0.0028,2,    0.000,2,  -999.00,9,    0.000,2,    88.35,2,     0.14,    30.88,2,     0.04,     0.01,2,     0.01,     2.12,2,     0.01,    0.216,2,    0.101,2,    0.021,2,    0.000,2,   2251.6,2,   2351.1,2,   7.6107,       25,2, -999.000,1, -999.000,   -999.0,1,   -999.0, -999.000,9, -999.000, -999.000,9, -999.000
  49NZ20121128,   S04,    61,  1,     19, X12J19,2,20121216,0035,-62.9008, 145.0433, 3994,   1333.0,2,   1.4611,2,   1.46151,2,  34.7393,2,  34.7389,2,-999.0000,9,   198.94,2,   199.22,2,   99.916,   0.0034,2,    0.000,2,  -999.00,9,    0.000,2,    94.79,2,     0.14,    31.00,2,     0.04,     0.01,2,     0.01,     2.13,2,     0.01,    0.209,6,    0.096,6,    0.020,6,    0.050,6,   2252.6,2,   2353.7,2,   7.6141,       25,2, -999.000,1, -999.000,   -999.0,1,   -999.0, -999.000,9, -999.000, -999.000,9, -999.000
  49NZ20121128,   S04,    61,  1,     18, X12J18,2,20121216,0035,-62.9008, 145.0433, 3994,   1581.4,2,   1.2388,2,   1.23876,2,  34.7312,2,  34.7309,2,-999.0000,9,   202.18,2,   202.71,2,   99.935,   0.0026,2,   -0.000,2,  -999.00,9,    0.000,2,   101.61,2,     0.15,    31.35,2,     0.04,     0.01,2,     0.01,     2.15,2,     0.01,    0.169,2,    0.084,2,    0.017,2,    0.000,2,   2255.9,2,   2357.2,2,   7.6136,       25,2, -999.000,1, -999.000,   -999.0,1,   -999.0, -999.000,9, -999.000, -999.000,9, -999.000
  49NZ20121128,   S04,    61,  1,     17, X12J17,2,20121216,0035,-62.9008, 145.0433, 3994,   1830.9,2,   1.0178,2,   1.01773,2,  34.7203,2,  34.7198,2,-999.0000,9,   204.90,2,   205.26,2,   99.887,   0.0045,2,   -0.000,2,  -999.00,9,    0.000,2,   108.07,2,     0.16,    31.77,2,     0.04,     0.01,2,     0.01,     2.18,2,     0.01,    0.199,2,    0.096,2,    0.018,2,    0.050,2,   2258.1,2,   2359.2,2,   7.6114,       25,6, -999.000,1, -999.000,   -999.0,1,   -999.0, -999.000,9, -999.000, -999.000,9, -999.000
  49NZ20121128,   S04,    61,  1,     16, X12J16,2,20121216,0035,-62.9008, 145.0433, 3994,   2082.5,2,   0.8123,2,   0.81230,2,  34.7089,2,  34.7089,2,-999.0000,9,   207.48,2,   207.74,2,   99.793,   0.0083,2,   -0.000,2,  -999.00,9,    0.000,2,   112.83,2,     0.16,    31.97,2,     0.04,     0.01,2,     0.01,     2.20,2,     0.01,    0.249,2,    0.120,2,    0.019,2,    0.050,2,   2259.5,2,   2358.5,2,   7.6064,       25,2, -999.000,1, -999.000,   -999.0,1,   -999.0, -999.000,9, -999.000, -999.000,9, -999.000
  49NZ20121128,   S04,    61,  1,     15, X12J15,2,20121216,0035,-62.9008, 145.0433, 3994,   2332.1,2,   0.6465,2,   0.64650,2,  34.7000,2,  34.6997,2,-999.0000,9,   210.39,2,   210.65,2,   99.943,   0.0023,2,    0.000,2,  -999.00,9,    0.000,2,   117.20,2,     0.16,    32.33,2,     0.05,     0.01,2,     0.01,     2.22,2,     0.01,    0.317,2,    0.152,2,    0.025,2,    0.100,2,   2261.0,2,   2358.7,2,   7.6048,       25,2, -999.000,1, -999.000,   -999.0,1,   -999.0, -999.000,9, -999.000, -999.000,9, -999.000
  49NZ20121128,   S04,    61,  1,     14, X12J14,2,20121216,0035,-62.9008, 145.0433, 3994,   2580.6,2,   0.4644,2,   0.46451,2,  34.6910,2,  34.6909,2,-999.0000,9,   214.47,2,   214.76,2,   99.317,   0.0274,4,   -0.000,2,  -999.00,9,    0.000,2,   120.72,2,     0.17,    32.49,2,     0.05,     0.01,2,     0.01,     2.23,2,     0.01,    0.427,2,    0.203,2,    0.031,2,    0.110,2,   2260.2,6,   2358.2,2,   7.6019,       25,2, -999.000,1, -999.000,   -999.0,1,   -999.0, -999.000,9, -999.000, -999.000,9, -999.000
  49NZ20121128,   S04,    61,  1,     13, X12J13,2,20121216,0035,-62.9008, 145.0433, 3994,   2830.1,2,   0.3406,2,   0.34058,2,  34.6858,2,  34.6855,2,-999.0000,9,   217.81,2,   218.36,2,   99.288,   0.0286,4,   -0.000,2,  -999.00,9,    0.000,2,   123.78,2,     0.17,    32.56,2,     0.05,     0.01,2,     0.01,     2.24,2,     0.01,    0.513,2,    0.253,2,    0.035,2,    0.200,2,   2259.7,2,   2358.2,2,   7.6027,       25,2, -999.000,1, -999.000,   -999.0,1,   -999.0, -999.000,9, -999.000, -999.000,9, -999.000
  49NZ20121128,   S04,    61,  1,     12, X12J12,2,20121216,0035,-62.9008, 145.0433, 3994,   3081.0,2,   0.2370,2,   0.23707,2,  34.6808,2,  34.6804,2,-999.0000,9,   221.19,2,   221.50,2,   99.489,   0.0205,4,   -0.000,2,  -999.00,9,    0.000,2,   124.74,2,     0.17,    32.55,2,     0.05,     0.01,2,     0.01,     2.24,2,     0.01,    0.672,2,    0.330,2,    0.047,2,    0.200,2,   2258.9,2,   2357.6,2,   7.6015,       25,6, -999.000,1, -999.000,   -999.0,1,   -999.0, -999.000,9, -999.000, -999.000,9, -999.000
  49NZ20121128,   S04,    61,  1,     11, X12J11,2,20121216,0035,-62.9008, 145.0433, 3994,   3328.9,2,   0.1313,2,   0.13132,2,  34.6751,2,  34.6747,2,-999.0000,9,   225.00,2,   225.45,2,   99.305,   0.0279,4,   -0.000,2,  -999.00,9,    0.000,2,   124.44,2,     0.17,    32.51,2,     0.05,     0.01,2,     0.01,     2.24,2,     0.01,    0.893,2,    0.459,2,    0.066,2,    0.200,2,   2258.6,2,   2358.7,3,   7.6009,       25,2, -999.000,1, -999.000,   -999.0,1,   -999.0, -999.000,9, -999.000, -999.000,9, -999.000
  49NZ20121128,   S04,    61,  1,     10, X12J10,2,20121216,0035,-62.9008, 145.0433, 3994,   3581.0,2,   0.0122,2,   0.01168,2,  34.6676,2,  34.6674,2,-999.0000,9,   229.87,2,   230.18,2,   99.215,   0.0315,4,   -0.010,2,  -999.00,9,    0.000,2,   122.05,2,     0.17,    32.44,2,     0.05,     0.01,2,     0.01,     2.23,2,     0.01,    1.254,2,    0.668,2,    0.101,2,    0.440,2,   2256.8,2,   2355.0,2,   7.6000,       25,2, -999.000,1, -999.000,   -999.0,1,   -999.0, -999.000,9, -999.000, -999.000,9, -999.000
  49NZ20121128,   S04,    61,  1,      9, X12J09,2,20121216,0035,-62.9008, 145.0433, 3994,   3831.5,2,  -0.0798,2,  -0.07965,2,  34.6604,2,  34.6605,2,-999.0000,9,   233.87,2,   234.28,2,   98.800,   0.0483,4,   -0.000,2,  -999.00,9,    0.000,2,   119.93,2,     0.17,    32.36,2,     0.05,     0.01,2,     0.01,     2.23,2,     0.01,    1.647,2,    0.881,2,    0.139,2,    0.540,2,   2257.6,2,   2353.1,2,   7.6001,       25,2, -999.000,1, -999.000,   -999.0,1,   -999.0, -999.000,9, -999.000, -999.000,9, -999.000
  49NZ20121128,   S04,    61,  1,      1, X12J01,2,20121216,0035,-62.9008, 145.0433, 3994,   4061.0,2,  -0.1599,2,  -0.16003,2,  34.6545,2,  34.6543,2,-999.0000,9,   237.48,2,   237.76,2,   98.496,   0.0606,4,   -0.000,2,  -999.00,9,    0.000,2,   113.74,2,     0.16,    32.28,2,     0.05,     0.01,2,     0.01,     2.22,2,     0.01,    2.116,2,    1.168,2,    0.188,2,    0.830,2,   2257.5,2,   2348.9,2,   7.5947,       25,2, -999.000,1, -999.000,   -999.0,1,   -999.0, -999.000,9, -999.000, -999.000,9, -999.000