BOTTLE,20220819CCHSIOAMB
EXPOCODE,SECT_ID,STNNBR,CASTNO,SAMPNO,BTLNBR,BTLNBR_FLAG_W,DATE,TIME,LATITUDE,LONGITUDE,DEPTH,CTDPRS,CTDPRS_FLAG_W,CTDTMP,CTDTMP_FLAG_W,SBE35,SBE35_FLAG_W,CTDSAL,CTDSAL_FLAG_W,SALNTY,SALNTY_FLAG_W,DNSSAL,DNSSAL_FLAG_W,CTDOXY,CTDOXY_FLAG_W,OXYGEN,OXYGEN_FLAG_W,CTDXMISS,CTDXMISSCP,CTDXMISS_FLAG_W,CTDFLUOR,CTDFLUOR_FLAG_W,CHLORA,CHLORA_FLAG_W,PAR,PAR_FLAG_W,SILCAT,SILCAT_FLAG_W,SILUNC,NITRAT,NITRAT_FLAG_W,NRAUNC,NITRIT,NITRIT_FLAG_W,NRIUNC,PHSPHT,PHSPHT_FLAG_W,PHPUNC,CFC-11,CFC-11_FLAG_W,CFC-12,CFC-12_FLAG_W,CFC113,CFC113_FLAG_W,SF6,SF6_FLAG_W,TCARBN,TCARBN_FLAG_W,ALKALI,ALKALI_FLAG_W,PH_TOT,PH_TMP,PH_TOT_FLAG_W,DELC13,DELC13_FLAG_W,C13ERR,DELC14,DELC14_FLAG_W,C14ERR,CS-134,CS-134_FLAG_W,CS134ER,CS-137,CS-137_FLAG_W,CS137ER
,,,,,,,,UTC,DEG,DEG,METERS,DBAR,,ITS-90,,ITS-90,,PSS-78,,PSS-78,,G/KG,,UMOL/KG,,UMOL/KG,,%TRANS,/METER,,MG/M^3,,MG/CUM,,UE/SQM/S,,UMOL/KG,,UMOL/KG,UMOL/KG,,UMOL/KG,UMOL/KG,,UMOL/KG,UMOL/KG,,UMOL/KG,PMOL/KG,,PMOL/KG,,PMOL/KG,,FMOL/KG,,UMOL/KG,,UMOL/KG,,,DEG C,,/MILLE,,/MILLE,/MILLE,,/MILLE,MBQ/KG,,MBQ/KG,MBQ/KG,,MBQ/KG
  49NZ20121128,   S04,    74,  1,     36, X12J36,2,20121221,1721,-62.0077, 127.0905, 4351,      5.1,2,   0.5387,2,   0.53639,2,  33.8188,2,  33.8187,2,-999.0000,9,   356.56,2,   356.31,2,   91.395,   0.3599,2,    0.980,2,  -999.00,9,   15.655,2,    20.64,2,     0.08,    24.04,2,     0.04,     0.26,2,     0.01,     1.53,2,     0.01,    5.887,2,    3.227,2,    0.556,2, -999.000,9,   -999.0,9,   -999.0,9,-999.0000,     -999,9, -999.000,9, -999.000,   -999.0,9,   -999.0, -999.000,9, -999.000, -999.000,9, -999.000
  49NZ20121128,   S04,    74,  1,     35, X12J35,2,20121221,1721,-62.0077, 127.0905, 4351,     25.2,2,   0.4265,2,   0.42667,2,  33.8174,2,  33.8190,2,-999.0000,9,   358.05,2,   357.10,2,   90.750,   0.3882,2,    1.180,2,  -999.00,9,    1.580,2,    20.84,2,     0.08,    24.10,2,     0.04,     0.25,2,     0.01,     1.55,2,     0.01,    5.897,2,    3.233,2,    0.555,2, -999.000,9,   -999.0,9,   -999.0,9,-999.0000,     -999,9, -999.000,9, -999.000,   -999.0,9,   -999.0, -999.000,9, -999.000, -999.000,9, -999.000
  49NZ20121128,   S04,    74,  1,     34, X12J34,2,20121221,1721,-62.0077, 127.0905, 4351,     50.9,2,  -0.7569,2,  -0.76464,2,  33.8771,2,  33.8834,2,-999.0000,9,   354.68,2,   352.89,2,   92.937,   0.2930,2,    1.160,2,  -999.00,9,    0.048,2,    33.62,2,     0.09,    26.55,2,     0.04,     0.21,2,     0.01,     1.92,2,     0.01,    5.919,6,    3.244,6,    0.571,6, -999.000,9,   -999.0,9,   -999.0,9,-999.0000,     -999,9, -999.000,9, -999.000,   -999.0,9,   -999.0, -999.000,9, -999.000, -999.000,9, -999.000
  49NZ20121128,   S04,    74,  1,     33, X12J33,2,20121221,1721,-62.0077, 127.0905, 4351,     75.3,2,  -1.6363,2,  -1.63560,2,  33.9468,2,  33.9480,2,-999.0000,9,   341.46,2,   340.38,2,   98.293,   0.0689,2,    0.330,2,  -999.00,9,    0.000,2,    41.81,2,     0.10,    29.10,2,     0.04,     0.19,2,     0.01,     2.06,2,     0.01,    5.716,2,    3.129,2,    0.563,2, -999.000,9,   -999.0,9,   -999.0,9,-999.0000,     -999,9, -999.000,9, -999.000,   -999.0,9,   -999.0, -999.000,9, -999.000, -999.000,9, -999.000
  49NZ20121128,   S04,    74,  1,     32, X12J32,2,20121221,1721,-62.0077, 127.0905, 4351,    100.7,2,  -1.6129,2,  -1.61477,2,  33.9810,2,  33.9832,2,-999.0000,9,   330.29,2,   329.45,2,   98.850,   0.0463,2,    0.260,2,  -999.00,9,    0.000,2,    44.40,2,     0.10,    29.71,2,     0.04,     0.19,2,     0.01,     2.08,2,     0.01,    5.455,2,    2.986,2,    0.546,2, -999.000,9,   -999.0,9,   -999.0,9,-999.0000,     -999,9, -999.000,9, -999.000,   -999.0,9,   -999.0, -999.000,9, -999.000, -999.000,9, -999.000
  49NZ20121128,   S04,    74,  1,     31, X12J31,2,20121221,1721,-62.0077, 127.0905, 4351,    125.2,2,  -0.4668,2,  -0.44882,2,  34.1059,2,  34.1027,2,-999.0000,9,   289.42,2,   288.36,2,   99.205,   0.0319,2,    0.160,2,  -999.00,9,    0.000,2,    48.29,2,     0.10,    31.53,2,     0.04,     0.10,2,     0.01,     2.18,2,     0.01,    4.539,2,    2.466,2,    0.402,2, -999.000,9,   -999.0,9,   -999.0,9,-999.0000,     -999,9, -999.000,9, -999.000,   -999.0,9,   -999.0, -999.000,9, -999.000, -999.000,9, -999.000
  49NZ20121128,   S04,    74,  1,     30, X12J30,2,20121221,1721,-62.0077, 127.0905, 4351,    150.3,2,   0.6286,2,   0.63119,2,  34.2750,2,  34.2806,2,-999.0000,9,   237.52,2,   236.22,2,   99.436,   0.0226,2,    0.110,2,  -999.00,9,    0.000,2,    57.71,2,     0.11,    33.59,2,     0.05,     0.03,2,     0.01,     2.31,2,     0.01,    3.051,2,    1.648,2,    0.255,2, -999.000,9,   -999.0,9,   -999.0,9,-999.0000,     -999,9, -999.000,9, -999.000,   -999.0,9,   -999.0, -999.000,9, -999.000, -999.000,9, -999.000
  49NZ20121128,   S04,    74,  1,     29, X12J29,2,20121221,1721,-62.0077, 127.0905, 4351,    199.4,2,   1.7897,2,   1.78770,2,  34.4749,2,  34.4728,2,-999.0000,9,   188.87,2,   189.10,2,   99.566,   0.0174,2,    0.040,2,  -999.00,9,    0.000,2,    68.80,2,     0.12,    34.81,2,     0.05,     0.02,2,     0.01,     2.39,2,     0.01,    1.536,2,    0.815,2,    0.120,2, -999.000,9,   -999.0,9,   -999.0,9,-999.0000,     -999,9, -999.000,9, -999.000,   -999.0,9,   -999.0, -999.000,9, -999.000, -999.000,9, -999.000
  49NZ20121128,   S04,    74,  1,     28, X12J28,2,20121221,1721,-62.0077, 127.0905, 4351,    250.5,2,   1.7805,2,   1.78033,2,  34.5324,2,  34.5318,2,-999.0000,9,   183.77,2,   183.57,2,   99.629,   0.0149,2,    0.040,2,  -999.00,9,    0.000,2,    73.06,2,     0.12,    34.64,2,     0.05,     0.01,2,     0.01,     2.38,2,     0.01,    1.251,2,    0.663,2,    0.098,2, -999.000,9,   -999.0,9,   -999.0,9,-999.0000,     -999,9, -999.000,9, -999.000,   -999.0,9,   -999.0, -999.000,9, -999.000, -999.000,9, -999.000
  49NZ20121128,   S04,    74,  1,     27, X12J27,2,20121221,1721,-62.0077, 127.0905, 4351,    279.6,2,   1.9686,2,   1.96614,2,  34.5788,2,  34.5775,2,-999.0000,9,   178.28,2,   178.25,2,   99.657,   0.0137,2,    0.030,2,  -999.00,9,    0.000,2,    74.70,2,     0.13,    34.32,2,     0.05,     0.01,2,     0.01,     2.36,2,     0.01,    0.938,2,    0.489,2,    0.064,2, -999.000,9,   -999.0,9,   -999.0,9,-999.0000,     -999,9, -999.000,9, -999.000,   -999.0,9,   -999.0, -999.000,9, -999.000, -999.000,9, -999.000
  49NZ20121128,   S04,    74,  1,     26, X12J26,2,20121221,1721,-62.0077, 127.0905, 4351,    370.2,2,   1.9906,2,   1.99032,2,  34.6288,2,  34.6286,2,-999.0000,9,   177.78,2,   177.71,2,   99.787,   0.0085,2,    0.010,2,  -999.00,9,    0.000,2,    77.22,2,     0.13,    33.67,2,     0.05,     0.01,2,     0.01,     2.31,2,     0.01,    0.674,2,    0.350,2,    0.046,2, -999.000,9,   -999.0,9,   -999.0,9,-999.0000,     -999,9, -999.000,9, -999.000,   -999.0,9,   -999.0, -999.000,9, -999.000, -999.000,9, -999.000
  49NZ20121128,   S04,    74,  1,     25, X12J25,2,20121221,1721,-62.0077, 127.0905, 4351,    470.3,2,   1.9543,2,   1.95409,2,  34.6663,2,  34.6664,2,-999.0000,9,   180.07,2,   179.98,2,   99.829,   0.0068,2,    0.010,2,  -999.00,9,    0.000,2,    78.97,2,     0.13,    32.93,2,     0.05,     0.01,2,     0.01,     2.25,2,     0.01,    0.567,2,    0.289,2,    0.043,2, -999.000,9,   -999.0,9,   -999.0,9,-999.0000,     -999,9, -999.000,9, -999.000,   -999.0,9,   -999.0, -999.000,9, -999.000, -999.000,9, -999.000
  49NZ20121128,   S04,    74,  1,     24, X12J24,2,20121221,1721,-62.0077, 127.0905, 4351,    570.3,2,   1.9275,2,   1.92734,2,  34.6914,2,  34.6916,2,-999.0000,9,   182.37,2,   182.46,2,   99.823,   0.0071,2,    0.010,2,  -999.00,9,    0.000,2,    80.59,2,     0.13,    32.40,2,     0.05,     0.01,2,     0.01,     2.22,2,     0.01,    0.469,6,    0.236,6,    0.041,6, -999.000,9,   -999.0,9,   -999.0,9,-999.0000,     -999,9, -999.000,9, -999.000,   -999.0,9,   -999.0, -999.000,9, -999.000, -999.000,9, -999.000
  49NZ20121128,   S04,    74,  1,     23, X12J23,2,20121221,1721,-62.0077, 127.0905, 4351,    670.7,2,   1.8849,2,   1.88472,2,  34.7135,2,  34.7133,2,-999.0000,9,   185.79,2,   185.83,2,   99.684,   0.0127,2,    0.010,2,  -999.00,9,    0.000,2,    82.50,2,     0.13,    31.87,2,     0.04,     0.01,2,     0.01,     2.18,2,     0.01,    0.373,2,    0.185,2,    0.030,2, -999.000,9,   -999.0,9,   -999.0,9,-999.0000,     -999,9, -999.000,9, -999.000,   -999.0,9,   -999.0, -999.000,9, -999.000, -999.000,9, -999.000
  49NZ20121128,   S04,    74,  1,     22, X12J22,2,20121221,1721,-62.0077, 127.0905, 4351,    772.2,2,   1.8430,2,   1.84290,2,  34.7259,2,  34.7263,2,-999.0000,9,   188.60,2,   188.54,2,   99.892,   0.0043,2,    0.000,2,  -999.00,9,    0.000,2,    83.83,2,     0.13,    31.46,2,     0.04,     0.01,2,     0.01,     2.16,2,     0.01,    0.321,2,    0.157,2,    0.029,2, -999.000,9,   -999.0,9,   -999.0,9,-999.0000,     -999,9, -999.000,9, -999.000,   -999.0,9,   -999.0, -999.000,9, -999.000, -999.000,9, -999.000
  49NZ20121128,   S04,    74,  1,     21, X12J21,2,20121221,1721,-62.0077, 127.0905, 4351,    871.9,2,   1.7840,2,   1.78385,2,  34.7349,2,  34.7352,2,-999.0000,9,   191.57,2,   191.57,2,   99.913,   0.0035,2,    0.000,2,  -999.00,9,    0.000,2,    85.60,2,     0.14,    31.17,2,     0.04,     0.01,2,     0.01,     2.14,2,     0.01,    0.270,2,    0.131,2,    0.016,2, -999.000,9,   -999.0,9,   -999.0,9,-999.0000,     -999,9, -999.000,9, -999.000,   -999.0,9,   -999.0, -999.000,9, -999.000, -999.000,9, -999.000
  49NZ20121128,   S04,    74,  1,     20, X12J20,2,20121221,1721,-62.0077, 127.0905, 4351,    960.0,2,   1.7263,2,   1.72801,2,  34.7379,2,  34.7378,2,-999.0000,9,   193.39,2,   193.46,2,   99.934,   0.0026,2,    0.000,2,  -999.00,9,    0.000,2,    86.97,2,     0.14,    31.06,2,     0.04,     0.01,2,     0.01,     2.13,2,     0.01,    0.251,2,    0.120,2,    0.019,2, -999.000,9,   -999.0,9,   -999.0,9,-999.0000,     -999,9, -999.000,9, -999.000,   -999.0,9,   -999.0, -999.000,9, -999.000, -999.000,9, -999.000
  49NZ20121128,   S04,    74,  1,     19, X12J19,2,20121221,1721,-62.0077, 127.0905, 4351,   1168.7,2,   1.5670,2,   1.56750,2,  34.7404,2,  34.7400,2,-999.0000,9,   197.63,2,   197.66,2,   99.938,   0.0025,2,    0.000,2,  -999.00,9,    0.000,2,    91.25,2,     0.14,    30.92,2,     0.04,     0.01,2,     0.01,     2.12,2,     0.01,    0.218,6,    0.103,6,    0.018,6, -999.000,9,   -999.0,9,   -999.0,9,-999.0000,     -999,9, -999.000,9, -999.000,   -999.0,9,   -999.0, -999.000,9, -999.000, -999.000,9, -999.000
  49NZ20121128,   S04,    74,  1,     18, X12J18,2,20121221,1721,-62.0077, 127.0905, 4351,   1419.9,2,   1.3520,2,   1.35195,2,  34.7353,2,  34.7357,2,-999.0000,9,   201.04,2,   201.02,2,   99.938,   0.0025,2,    0.000,2,  -999.00,9,    0.000,2,    97.40,2,     0.15,    31.10,2,     0.04,     0.01,2,     0.01,     2.14,2,     0.01,    0.195,2,    0.089,2,    0.015,2, -999.000,9,   -999.0,9,   -999.0,9,-999.0000,     -999,9, -999.000,9, -999.000,   -999.0,9,   -999.0, -999.000,9, -999.000, -999.000,9, -999.000
  49NZ20121128,   S04,    74,  1,     17, X12J17,2,20121221,1721,-62.0077, 127.0905, 4351,   1672.1,2,   1.1463,2,   1.14645,2,  34.7259,2,  34.7260,2,-999.0000,9,   203.46,2,   203.39,2,   99.953,   0.0019,2,   -0.000,2,  -999.00,9,    0.000,2,   103.37,2,     0.15,    31.41,2,     0.04,     0.01,2,     0.01,     2.17,2,     0.01,    0.201,2,    0.094,2,    0.016,2, -999.000,9,   -999.0,9,   -999.0,9,-999.0000,     -999,9, -999.000,9, -999.000,   -999.0,9,   -999.0, -999.000,9, -999.000, -999.000,9, -999.000
  49NZ20121128,   S04,    74,  1,     16, X12J16,2,20121221,1721,-62.0077, 127.0905, 4351,   1922.0,2,   0.9713,2,   0.97131,2,  34.7168,2,  34.7171,2,-999.0000,9,   205.60,2,   205.58,2,   99.943,   0.0023,2,   -0.000,2,  -999.00,9,    0.000,2,   108.52,2,     0.16,    31.81,2,     0.04,     0.01,2,     0.01,     2.19,2,     0.01,    0.220,2,    0.101,2,    0.024,2, -999.000,9,   -999.0,9,   -999.0,9,-999.0000,     -999,9, -999.000,9, -999.000,   -999.0,9,   -999.0, -999.000,9, -999.000, -999.000,9, -999.000
  49NZ20121128,   S04,    74,  1,     15, X12J15,2,20121221,1721,-62.0077, 127.0905, 4351,   2169.9,2,   0.7767,2,   0.77614,2,  34.7063,2,  34.7060,2,-999.0000,9,   208.20,2,   208.33,2,   99.972,   0.0011,2,   -0.000,2,  -999.00,9,    0.000,2,   113.37,2,     0.16,    32.09,2,     0.05,     0.01,2,     0.01,     2.21,2,     0.01,    0.263,2,    0.124,2,    0.015,2, -999.000,9,   -999.0,9,   -999.0,9,-999.0000,     -999,9, -999.000,9, -999.000,   -999.0,9,   -999.0, -999.000,9, -999.000, -999.000,9, -999.000
  49NZ20121128,   S04,    74,  1,     14, X12J14,2,20121221,1721,-62.0077, 127.0905, 4351,   2420.1,2,   0.5989,2,   0.59874,2,  34.6967,2,  34.6967,2,-999.0000,9,   211.51,2,   211.35,2,   99.949,   0.0020,2,   -0.000,2,  -999.00,9,    0.000,2,   117.62,2,     0.16,    32.33,2,     0.05,     0.01,2,     0.01,     2.23,2,     0.01,    0.331,2,    0.156,2,    0.025,2, -999.000,9,   -999.0,9,   -999.0,9,-999.0000,     -999,9, -999.000,9, -999.000,   -999.0,9,   -999.0, -999.000,9, -999.000, -999.000,9, -999.000
  49NZ20121128,   S04,    74,  1,     13, X12J13,2,20121221,1721,-62.0077, 127.0905, 4351,   2670.0,2,   0.4652,2,   0.46466,2,  34.6903,2,  34.6906,2,-999.0000,9,   214.87,2,   214.79,2,   99.955,   0.0018,2,   -0.000,2,  -999.00,9,    0.000,2,   121.02,2,     0.17,    32.47,2,     0.05,     0.01,2,     0.01,     2.24,2,     0.01,    0.417,2,    0.198,2,    0.026,2, -999.000,9,   -999.0,9,   -999.0,9,-999.0000,     -999,9, -999.000,9, -999.000,   -999.0,9,   -999.0, -999.000,9, -999.000, -999.000,9, -999.000
  49NZ20121128,   S04,    74,  1,     12, X12J12,2,20121221,1721,-62.0077, 127.0905, 4351,   2920.3,2,   0.3289,2,   0.32880,2,  34.6835,2,  34.6839,2,-999.0000,9,   218.76,2,   218.56,2,   99.968,   0.0013,2,   -0.000,2,  -999.00,9,    0.000,2,   122.88,2,     0.17,    32.53,2,     0.05,     0.01,2,     0.01,     2.24,2,     0.01,    0.558,2,    0.269,2,    0.033,2, -999.000,9,   -999.0,9,   -999.0,9,-999.0000,     -999,9, -999.000,9, -999.000,   -999.0,9,   -999.0, -999.000,9, -999.000, -999.000,9, -999.000
  49NZ20121128,   S04,    74,  1,     11, X12J11,2,20121221,1721,-62.0077, 127.0905, 4351,   3169.1,2,   0.2404,2,   0.24008,2,  34.6798,2,  34.6797,2,-999.0000,9,   221.77,2,   221.50,2,   99.949,   0.0020,2,   -0.000,2,  -999.00,9,    0.000,2,   124.80,2,     0.17,    32.54,2,     0.05,     0.01,2,     0.01,     2.25,2,     0.01,    0.680,2,    0.327,2,    0.044,2, -999.000,9,   -999.0,9,   -999.0,9,-999.0000,     -999,9, -999.000,9, -999.000,   -999.0,9,   -999.0, -999.000,9, -999.000, -999.000,9, -999.000
  49NZ20121128,   S04,    74,  1,     10, X12J10,2,20121221,1721,-62.0077, 127.0905, 4351,   3421.4,2,   0.1589,2,   0.15875,2,  34.6750,2,  34.6749,2,-999.0000,9,   224.93,2,   224.76,2,   99.924,   0.0030,2,   -0.000,2,  -999.00,9,    0.000,2,   124.05,2,     0.17,    32.50,2,     0.05,     0.01,2,     0.01,     2.24,2,     0.01,    0.850,2,    0.424,2,    0.058,2, -999.000,9,   -999.0,9,   -999.0,9,-999.0000,     -999,9, -999.000,9, -999.000,   -999.0,9,   -999.0, -999.000,9, -999.000, -999.000,9, -999.000
  49NZ20121128,   S04,    74,  1,      9, X12J09,2,20121221,1721,-62.0077, 127.0905, 4351,   3671.0,2,   0.0945,2,   0.09467,2,  34.6726,2,  34.6724,2,-999.0000,9,   227.33,2,   227.25,2,   99.915,   0.0034,2,   -0.010,2,  -999.00,9,    0.000,2,   125.99,3,     0.17,    32.44,2,     0.05,     0.01,2,     0.01,     2.24,2,     0.01,    0.960,2,    0.472,2,    0.060,2, -999.000,9,   -999.0,9,   -999.0,9,-999.0000,     -999,9, -999.000,9, -999.000,   -999.0,9,   -999.0, -999.000,9, -999.000, -999.000,9, -999.000
  49NZ20121128,   S04,    74,  1,      8, X12J08,2,20121221,1721,-62.0077, 127.0905, 4351,   3921.6,2,   0.0185,2,   0.01866,2,  34.6673,2,  34.6668,2,-999.0000,9,   230.86,2,   230.91,2,   99.909,   0.0036,2,   -0.010,2,  -999.00,9,    0.000,2,   124.63,2,     0.17,    32.44,2,     0.05,     0.01,2,     0.01,     2.24,2,     0.01,    1.235,6,    0.621,6,    0.085,6, -999.000,9,   -999.0,9,   -999.0,9,-999.0000,     -999,9, -999.000,9, -999.000,   -999.0,9,   -999.0, -999.000,9, -999.000, -999.000,9, -999.000
  49NZ20121128,   S04,    74,  1,      7, X12J07,2,20121221,1721,-62.0077, 127.0905, 4351,   4170.0,2,  -0.0532,2,  -0.05360,2,  34.6609,2,  34.6610,2,-999.0000,9,   234.49,2,   234.42,2,   99.903,   0.0039,2,   -0.010,2,  -999.00,9,    0.000,2,   124.15,2,     0.17,    32.39,2,     0.05,     0.01,2,     0.01,     2.24,2,     0.01,    1.551,2,    0.791,2,    0.107,2, -999.000,9,   -999.0,9,   -999.0,9,-999.0000,     -999,9, -999.000,9, -999.000,   -999.0,9,   -999.0, -999.000,9, -999.000, -999.000,9, -999.000
  49NZ20121128,   S04,    74,  1,      1, X12J01,2,20121221,1721,-62.0077, 127.0905, 4351,   4411.5,2,  -0.1529,2,  -0.15299,2,  34.6491,2,  34.6496,2,-999.0000,9,   238.70,2,   238.80,2,   99.501,   0.0200,2,   -0.010,2,  -999.00,9,    0.000,2,   126.85,2,     0.17,    32.35,2,     0.05,     0.01,2,     0.01,     2.24,2,     0.01,    2.013,2,    1.045,2,    0.152,2, -999.000,9,   -999.0,9,   -999.0,9,-999.0000,     -999,9, -999.000,9, -999.000,   -999.0,9,   -999.0, -999.000,9, -999.000, -999.000,9, -999.000