BOTTLE,20220819CCHSIOAMB
EXPOCODE,SECT_ID,STNNBR,CASTNO,SAMPNO,BTLNBR,BTLNBR_FLAG_W,DATE,TIME,LATITUDE,LONGITUDE,DEPTH,CTDPRS,CTDPRS_FLAG_W,CTDTMP,CTDTMP_FLAG_W,SBE35,SBE35_FLAG_W,CTDSAL,CTDSAL_FLAG_W,SALNTY,SALNTY_FLAG_W,DNSSAL,DNSSAL_FLAG_W,CTDOXY,CTDOXY_FLAG_W,OXYGEN,OXYGEN_FLAG_W,CTDXMISS,CTDXMISSCP,CTDXMISS_FLAG_W,CTDFLUOR,CTDFLUOR_FLAG_W,CHLORA,CHLORA_FLAG_W,PAR,PAR_FLAG_W,SILCAT,SILCAT_FLAG_W,SILUNC,NITRAT,NITRAT_FLAG_W,NRAUNC,NITRIT,NITRIT_FLAG_W,NRIUNC,PHSPHT,PHSPHT_FLAG_W,PHPUNC,CFC-11,CFC-11_FLAG_W,CFC-12,CFC-12_FLAG_W,CFC113,CFC113_FLAG_W,SF6,SF6_FLAG_W,TCARBN,TCARBN_FLAG_W,ALKALI,ALKALI_FLAG_W,PH_TOT,PH_TMP,PH_TOT_FLAG_W,DELC13,DELC13_FLAG_W,C13ERR,DELC14,DELC14_FLAG_W,C14ERR,CS-134,CS-134_FLAG_W,CS134ER,CS-137,CS-137_FLAG_W,CS137ER
,,,,,,,,UTC,DEG,DEG,METERS,DBAR,,ITS-90,,ITS-90,,PSS-78,,PSS-78,,G/KG,,UMOL/KG,,UMOL/KG,,%TRANS,/METER,,MG/M^3,,MG/CUM,,UE/SQM/S,,UMOL/KG,,UMOL/KG,UMOL/KG,,UMOL/KG,UMOL/KG,,UMOL/KG,UMOL/KG,,UMOL/KG,PMOL/KG,,PMOL/KG,,PMOL/KG,,FMOL/KG,,UMOL/KG,,UMOL/KG,,,DEG C,,/MILLE,,/MILLE,/MILLE,,/MILLE,MBQ/KG,,MBQ/KG,MBQ/KG,,MBQ/KG
  49NZ20121128,   S04,    58,  1,     36, X12J36,2,20121215,0630,-63.3052, 149.2065, 3770,      5.2,2,  -0.9554,2,  -0.95538,2,  33.6708,2,  33.6711,2,-999.0000,9,   355.30,2,   355.55,2,   91.745,   0.3446,2,    0.510,2,  -999.00,9,   79.614,2,    38.57,2,     0.09,    27.12,2,     0.04,     0.17,2,     0.01,     1.74,2,     0.01,    5.816,2,    3.180,2,    0.535,2, -999.000,9,   -999.0,9,   -999.0,9,-999.0000,     -999,9, -999.000,9, -999.000,   -999.0,9,   -999.0, -999.000,9, -999.000, -999.000,9, -999.000
  49NZ20121128,   S04,    58,  1,     35, X12J35,2,20121215,0630,-63.3052, 149.2065, 3770,     24.9,2,  -0.9802,2,  -0.97988,2,  33.6956,2,  33.7062,2,-999.0000,9,   353.47,2,   353.73,2,   92.107,   0.3289,2,    0.760,2,  -999.00,9,   12.062,2,    38.89,2,     0.09,    27.23,2,     0.04,     0.17,2,     0.01,     1.77,2,     0.01,    5.740,2,    3.141,2,    0.523,2, -999.000,9,   -999.0,9,   -999.0,9,-999.0000,     -999,9, -999.000,9, -999.000,   -999.0,9,   -999.0, -999.000,9, -999.000, -999.000,9, -999.000
  49NZ20121128,   S04,    58,  1,     34, X12J34,2,20121215,0630,-63.3052, 149.2065, 3770,     50.5,2,  -0.9696,2,  -0.97608,2,  34.1747,2,  34.1696,2,-999.0000,9,   294.87,2,   294.60,2,   94.730,   0.2166,2,    0.950,2,  -999.00,9,    1.511,2,    54.73,2,     0.11,    30.95,2,     0.04,     0.10,2,     0.01,     2.24,3,     0.02,    4.175,6,    2.276,6,    0.391,6, -999.000,9,   -999.0,9,   -999.0,9,-999.0000,     -999,9, -999.000,9, -999.000,   -999.0,9,   -999.0, -999.000,9, -999.000, -999.000,9, -999.000
  49NZ20121128,   S04,    58,  1,     33, X12J33,2,20121215,0630,-63.3052, 149.2065, 3770,     75.4,2,   1.7467,2,   1.74607,2,  34.5751,2,  34.5735,2,-999.0000,9,   179.01,2,   179.05,2,   99.227,   0.0310,2,    0.150,2,  -999.00,9,    0.277,2,    75.98,2,     0.13,    34.41,2,     0.05,     0.08,2,     0.01,     2.37,2,     0.01,    1.030,2,    0.544,2,    0.108,2, -999.000,9,   -999.0,9,   -999.0,9,-999.0000,     -999,9, -999.000,9, -999.000,   -999.0,9,   -999.0, -999.000,9, -999.000, -999.000,9, -999.000
  49NZ20121128,   S04,    58,  1,     32, X12J32,2,20121215,0630,-63.3052, 149.2065, 3770,    100.1,2,   1.9074,2,   1.90744,2,  34.6062,2,  34.6049,2,-999.0000,9,   175.17,2,   175.06,2,   99.514,   0.0195,2,    0.080,2,  -999.00,9,    0.066,2,    77.21,2,     0.13,    34.27,2,     0.05,     0.04,2,     0.01,     2.35,2,     0.01,    0.832,2,    0.434,2,    0.079,2, -999.000,9,   -999.0,9,   -999.0,9,-999.0000,     -999,9, -999.000,9, -999.000,   -999.0,9,   -999.0, -999.000,9, -999.000, -999.000,9, -999.000
  49NZ20121128,   S04,    58,  1,     31, X12J31,2,20121215,0630,-63.3052, 149.2065, 3770,    125.0,2,   1.9291,2,   1.92887,2,  34.6242,2,  34.6235,2,-999.0000,9,   175.65,2,   175.57,2,   99.698,   0.0121,2,    0.040,2,  -999.00,9,    0.000,2,    77.96,2,     0.13,    33.92,2,     0.05,     0.02,2,     0.01,     2.33,2,     0.01,    0.743,2,    0.387,2,    0.078,2, -999.000,9,   -999.0,9,   -999.0,9,-999.0000,     -999,9, -999.000,9, -999.000,   -999.0,9,   -999.0, -999.000,9, -999.000, -999.000,9, -999.000
  49NZ20121128,   S04,    58,  1,     30, X12J30,2,20121215,0630,-63.3052, 149.2065, 3770,    150.0,2,   1.9479,2,   1.94781,2,  34.6413,2,  34.6400,2,-999.0000,9,   176.03,2,   175.78,2,   99.722,   0.0111,2,    0.020,2,  -999.00,9,    0.000,2,    78.65,2,     0.13,    33.69,2,     0.05,     0.01,2,     0.01,     2.31,2,     0.01,    0.658,2,    0.342,2,    0.065,2, -999.000,9,   -999.0,9,   -999.0,9,-999.0000,     -999,9, -999.000,9, -999.000,   -999.0,9,   -999.0, -999.000,9, -999.000, -999.000,9, -999.000
  49NZ20121128,   S04,    58,  1,     29, X12J29,2,20121215,0630,-63.3052, 149.2065, 3770,    200.3,2,   1.9333,2,   1.93429,2,  34.6606,2,  34.6594,2,-999.0000,9,   177.98,2,   177.89,2,   99.717,   0.0113,2,    0.010,2,  -999.00,9,    0.000,2,    79.52,2,     0.13,    33.23,2,     0.05,     0.01,2,     0.01,     2.28,2,     0.01,    0.593,2,    0.304,2,    0.056,2, -999.000,9,   -999.0,9,   -999.0,9,-999.0000,     -999,9, -999.000,9, -999.000,   -999.0,9,   -999.0, -999.000,9, -999.000, -999.000,9, -999.000
  49NZ20121128,   S04,    58,  1,     28, X12J28,2,20121215,0630,-63.3052, 149.2065, 3770,    250.5,2,   1.9424,2,   1.94242,2,  34.6768,2,  34.6761,2,-999.0000,9,   179.06,2,   179.03,2,   99.707,   0.0117,2,    0.010,2,  -999.00,9,    0.000,2,    80.19,2,     0.13,    32.90,2,     0.05,     0.01,2,     0.01,     2.25,2,     0.01,    0.514,2,    0.259,2,    0.046,2, -999.000,9,   -999.0,9,   -999.0,9,-999.0000,     -999,9, -999.000,9, -999.000,   -999.0,9,   -999.0, -999.000,9, -999.000, -999.000,9, -999.000
  49NZ20121128,   S04,    58,  1,     27, X12J27,2,20121215,0630,-63.3052, 149.2065, 3770,    329.7,2,   1.9177,2,   1.91766,2,  34.6964,2,  34.6960,2,-999.0000,9,   181.68,2,   181.07,3,   99.816,   0.0074,2,    0.010,2,  -999.00,9,    0.000,2,    81.21,2,     0.13,    32.42,2,     0.05,     0.01,2,     0.01,     2.22,2,     0.01,    0.431,2,    0.233,2,    0.048,2, -999.000,9,   -999.0,9,   -999.0,9,-999.0000,     -999,9, -999.000,9, -999.000,   -999.0,9,   -999.0, -999.000,9, -999.000, -999.000,9, -999.000
  49NZ20121128,   S04,    58,  1,     26, X12J26,2,20121215,0630,-63.3052, 149.2065, 3770,    430.1,2,   1.8778,2,   1.87757,2,  34.7135,2,  34.7129,2,-999.0000,9,   184.79,2,   184.93,2,   99.902,   0.0039,2,    0.010,2,  -999.00,9,    0.000,2,    82.65,2,     0.13,    31.98,2,     0.04,     0.01,2,     0.01,     2.18,2,     0.01,    0.373,2,    0.188,2,    0.043,2, -999.000,9,   -999.0,9,   -999.0,9,-999.0000,     -999,9, -999.000,9, -999.000,   -999.0,9,   -999.0, -999.000,9, -999.000, -999.000,9, -999.000
  49NZ20121128,   S04,    58,  1,     25, X12J25,2,20121215,0630,-63.3052, 149.2065, 3770,    531.8,2,   1.8342,2,   1.83447,2,  34.7265,2,  34.7258,2,-999.0000,9,   187.83,2,   188.12,2,   99.937,   0.0025,2,    0.000,2,  -999.00,9,    0.000,2,    83.91,2,     0.13,    31.52,2,     0.04,     0.01,2,     0.01,     2.16,2,     0.01,    0.310,2,    0.153,2,    0.055,2, -999.000,9,   -999.0,9,   -999.0,9,-999.0000,     -999,9, -999.000,9, -999.000,   -999.0,9,   -999.0, -999.000,9, -999.000, -999.000,9, -999.000
  49NZ20121128,   S04,    58,  1,     24, X12J24,2,20121215,0630,-63.3052, 149.2065, 3770,    630.9,2,   1.7670,2,   1.76672,2,  34.7348,2,  34.7340,2,-999.0000,9,   190.84,2,   191.14,2,   99.899,   0.0040,2,    0.000,2,  -999.00,9,    0.000,2,    85.69,2,     0.14,    31.25,2,     0.04,     0.00,2,     0.01,     2.14,2,     0.01,    0.271,6,    0.130,6,    0.038,6, -999.000,9,   -999.0,9,   -999.0,9,-999.0000,     -999,9, -999.000,9, -999.000,   -999.0,9,   -999.0, -999.000,9, -999.000, -999.000,9, -999.000
  49NZ20121128,   S04,    58,  1,     23, X12J23,2,20121215,0630,-63.3052, 149.2065, 3770,    729.3,2,   1.6889,2,   1.68956,2,  34.7384,2,  34.7379,2,-999.0000,9,   193.41,2,   193.71,2,   99.937,   0.0025,2,    0.000,2,  -999.00,9,    0.000,2,    87.58,2,     0.14,    31.08,2,     0.04,     0.01,2,     0.01,     2.13,2,     0.01,    0.249,2,    0.122,2,    0.034,2, -999.000,9,   -999.0,9,   -999.0,9,-999.0000,     -999,9, -999.000,9, -999.000,   -999.0,9,   -999.0, -999.000,9, -999.000, -999.000,9, -999.000
  49NZ20121128,   S04,    58,  1,     22, X12J22,2,20121215,0630,-63.3052, 149.2065, 3770,    830.1,2,   1.6120,2,   1.61085,2,  34.7398,2,  34.7391,2,-999.0000,9,   195.45,2,   195.64,2,   99.943,   0.0023,2,    0.000,2,  -999.00,9,    0.000,2,    89.54,2,     0.14,    31.01,2,     0.04,     0.00,2,     0.01,     2.13,2,     0.01,    0.233,2,    0.112,2,    0.033,2, -999.000,9,   -999.0,9,   -999.0,9,-999.0000,     -999,9, -999.000,9, -999.000,   -999.0,9,   -999.0, -999.000,9, -999.000, -999.000,9, -999.000
  49NZ20121128,   S04,    58,  1,     21, X12J21,2,20121215,0630,-63.3052, 149.2065, 3770,    929.8,2,   1.5454,2,   1.54538,2,  34.7400,2,  34.7396,2,-999.0000,9,   197.08,2,   197.28,2,   99.946,   0.0022,2,    0.000,2,  -999.00,9,    0.000,2,    91.55,2,     0.14,    30.98,2,     0.04,     0.00,2,     0.01,     2.13,2,     0.01,    0.217,2,    0.105,2,    0.028,2, -999.000,9,   -999.0,9,   -999.0,9,-999.0000,     -999,9, -999.000,9, -999.000,   -999.0,9,   -999.0, -999.000,9, -999.000, -999.000,9, -999.000
  49NZ20121128,   S04,    58,  1,     20, X12J20,2,20121215,0630,-63.3052, 149.2065, 3770,   1081.7,2,   1.4035,2,   1.40361,2,  34.7358,2,  34.7353,2,-999.0000,9,   199.20,2,   199.52,2,   99.876,   0.0050,2,    0.000,2,  -999.00,9,    0.000,2,    94.89,2,     0.14,    31.11,2,     0.04,     0.00,2,     0.01,     2.14,2,     0.01,    0.231,2,    0.110,2,    0.022,2, -999.000,9,   -999.0,9,   -999.0,9,-999.0000,     -999,9, -999.000,9, -999.000,   -999.0,9,   -999.0, -999.000,9, -999.000, -999.000,9, -999.000
  49NZ20121128,   S04,    58,  1,     19, X12J19,2,20121215,0630,-63.3052, 149.2065, 3770,   1330.3,2,   1.1986,2,   1.19860,2,  34.7290,2,  34.7284,2,-999.0000,9,   202.11,2,   202.31,2,   99.906,   0.0038,2,    0.000,2,  -999.00,9,    0.000,2,   101.15,2,     0.15,    31.33,2,     0.04,     0.01,2,     0.01,     2.16,2,     0.01,    0.206,6,    0.097,6,    0.020,6, -999.000,9,   -999.0,9,   -999.0,9,-999.0000,     -999,9, -999.000,9, -999.000,   -999.0,9,   -999.0, -999.000,9, -999.000, -999.000,9, -999.000
  49NZ20121128,   S04,    58,  1,     18, X12J18,2,20121215,0630,-63.3052, 149.2065, 3770,   1580.1,2,   1.0056,2,   1.00568,2,  34.7195,2,  34.7186,2,-999.0000,9,   204.55,2,   204.75,2,   99.975,   0.0010,2,   -0.000,2,  -999.00,9,    0.000,2,   106.84,2,     0.15,    31.66,2,     0.04,     0.00,2,     0.01,     2.18,2,     0.01,    0.210,2,    0.103,2,    0.026,2, -999.000,9,   -999.0,9,   -999.0,9,-999.0000,     -999,9, -999.000,9, -999.000,   -999.0,9,   -999.0, -999.000,9, -999.000, -999.000,9, -999.000
  49NZ20121128,   S04,    58,  1,     17, X12J17,2,20121215,0630,-63.3052, 149.2065, 3770,   1830.5,2,   0.8171,2,   0.81735,2,  34.7092,2,  34.7085,2,-999.0000,9,   207.15,2,   207.37,2,   99.979,   0.0008,2,    0.000,2,  -999.00,9,    0.000,2,   111.80,2,     0.16,    32.00,2,     0.04,     0.00,2,     0.01,     2.20,2,     0.01,    0.256,2,    0.121,2,    0.027,2, -999.000,9,   -999.0,9,   -999.0,9,-999.0000,     -999,9, -999.000,9, -999.000,   -999.0,9,   -999.0, -999.000,9, -999.000, -999.000,9, -999.000
  49NZ20121128,   S04,    58,  1,     16, X12J16,2,20121215,0630,-63.3052, 149.2065, 3770,   2080.8,2,   0.6357,2,   0.63585,2,  34.6994,2,  34.6992,2,-999.0000,9,   210.16,2,   210.30,2,   99.956,   0.0018,2,   -0.000,2,  -999.00,9,    0.000,2,   115.97,2,     0.16,    32.25,2,     0.05,     0.00,2,     0.01,     2.22,2,     0.01,    0.319,2,    0.156,2,    0.027,2, -999.000,9,   -999.0,9,   -999.0,9,-999.0000,     -999,9, -999.000,9, -999.000,   -999.0,9,   -999.0, -999.000,9, -999.000, -999.000,9, -999.000
  49NZ20121128,   S04,    58,  1,     15, X12J15,2,20121215,0630,-63.3052, 149.2065, 3770,   2330.4,2,   0.4644,2,   0.46438,2,  34.6900,2,  34.6896,2,-999.0000,9,   213.97,2,   213.91,2,   99.973,   0.0011,2,   -0.000,2,  -999.00,9,    0.000,2,   118.24,2,     0.17,    32.39,2,     0.05,     0.00,2,     0.01,     2.23,2,     0.01,    0.465,2,    0.229,2,    0.038,2, -999.000,9,   -999.0,9,   -999.0,9,-999.0000,     -999,9, -999.000,9, -999.000,   -999.0,9,   -999.0, -999.000,9, -999.000, -999.000,9, -999.000
  49NZ20121128,   S04,    58,  1,     14, X12J14,2,20121215,0630,-63.3052, 149.2065, 3770,   2580.2,2,   0.3399,2,   0.33988,2,  34.6847,2,  34.6846,2,-999.0000,9,   217.32,2,   217.52,2,   99.981,   0.0008,2,   -0.000,2,  -999.00,9,    0.000,2,   120.65,2,     0.17,    32.47,2,     0.05,     0.00,2,     0.01,     2.24,2,     0.01,    0.566,2,    0.282,2,    0.046,2, -999.000,9,   -999.0,9,   -999.0,9,-999.0000,     -999,9, -999.000,9, -999.000,   -999.0,9,   -999.0, -999.000,9, -999.000, -999.000,9, -999.000
  49NZ20121128,   S04,    58,  1,     13, X12J13,2,20121215,0630,-63.3052, 149.2065, 3770,   2831.4,2,   0.2396,2,   0.23970,2,  34.6806,2,  34.6800,2,-999.0000,9,   220.60,2,   220.73,2,   99.952,   0.0019,2,   -0.000,2,  -999.00,9,    0.000,2,   121.81,2,     0.17,    32.48,2,     0.05,     0.00,2,     0.01,     2.25,2,     0.01,    0.698,2,    0.350,2,    0.048,2, -999.000,9,   -999.0,9,   -999.0,9,-999.0000,     -999,9, -999.000,9, -999.000,   -999.0,9,   -999.0, -999.000,9, -999.000, -999.000,9, -999.000
  49NZ20121128,   S04,    58,  1,     12, X12J12,2,20121215,0630,-63.3052, 149.2065, 3770,   3081.2,2,   0.1492,2,   0.14931,2,  34.6766,2,  34.6762,2,-999.0000,9,   223.78,2,   224.02,2,   99.933,   0.0027,2,   -0.000,2,  -999.00,9,    0.000,2,   123.32,2,     0.17,    32.49,2,     0.05,     0.01,2,     0.01,     2.24,2,     0.01,    0.833,2,    0.418,2,    0.064,2, -999.000,9,   -999.0,9,   -999.0,9,-999.0000,     -999,9, -999.000,9, -999.000,   -999.0,9,   -999.0, -999.000,9, -999.000, -999.000,9, -999.000
  49NZ20121128,   S04,    58,  1,     11, X12J11,2,20121215,0630,-63.3052, 149.2065, 3770,   3330.3,2,   0.0509,2,   0.05090,2,  34.6713,2,  34.6710,2,-999.0000,9,   227.54,2,   228.09,2,   99.920,   0.0032,2,   -0.000,2,  -999.00,9,    0.000,2,   123.58,2,     0.17,    32.43,2,     0.05,     0.00,2,     0.01,     2.24,2,     0.01,    1.095,2,    0.557,2,    0.078,2, -999.000,9,   -999.0,9,   -999.0,9,-999.0000,     -999,9, -999.000,9, -999.000,   -999.0,9,   -999.0, -999.000,9, -999.000, -999.000,9, -999.000
  49NZ20121128,   S04,    58,  1,     10, X12J10,2,20121215,0630,-63.3052, 149.2065, 3770,   3580.6,2,  -0.0495,2,  -0.04960,2,  34.6640,2,  34.6639,2,-999.0000,9,   231.87,2,   232.27,2,   99.858,   0.0057,2,   -0.000,2,  -999.00,9,    0.000,2,   119.57,2,     0.17,    32.30,2,     0.05,     0.01,2,     0.01,     2.23,2,     0.01,    1.474,2,    0.759,2,    0.112,2, -999.000,9,   -999.0,9,   -999.0,9,-999.0000,     -999,9, -999.000,9, -999.000,   -999.0,9,   -999.0, -999.000,9, -999.000, -999.000,9, -999.000
  49NZ20121128,   S04,    58,  1,      1, X12J01,2,20121215,0630,-63.3052, 149.2065, 3770,   3828.5,2,  -0.1475,2,  -0.14767,2,  34.6576,2,  34.6574,2,-999.0000,9,   235.44,2,   235.52,2,   99.514,   0.0195,2,   -0.000,2,  -999.00,9,    0.000,2,   117.54,2,     0.16,    32.23,2,     0.05,     0.01,2,     0.01,     2.24,2,     0.01,    1.975,2,    1.045,2,    0.159,2, -999.000,9,   -999.0,9,   -999.0,9,-999.0000,     -999,9, -999.000,9, -999.000,   -999.0,9,   -999.0, -999.000,9, -999.000, -999.000,9, -999.000