BOTTLE,20220819CCHSIOAMB
EXPOCODE,SECT_ID,STNNBR,CASTNO,SAMPNO,BTLNBR,BTLNBR_FLAG_W,DATE,TIME,LATITUDE,LONGITUDE,DEPTH,CTDPRS,CTDPRS_FLAG_W,CTDTMP,CTDTMP_FLAG_W,SBE35,SBE35_FLAG_W,CTDSAL,CTDSAL_FLAG_W,SALNTY,SALNTY_FLAG_W,DNSSAL,DNSSAL_FLAG_W,CTDOXY,CTDOXY_FLAG_W,OXYGEN,OXYGEN_FLAG_W,CTDXMISS,CTDXMISSCP,CTDXMISS_FLAG_W,CTDFLUOR,CTDFLUOR_FLAG_W,CHLORA,CHLORA_FLAG_W,PAR,PAR_FLAG_W,SILCAT,SILCAT_FLAG_W,SILUNC,NITRAT,NITRAT_FLAG_W,NRAUNC,NITRIT,NITRIT_FLAG_W,NRIUNC,PHSPHT,PHSPHT_FLAG_W,PHPUNC,CFC-11,CFC-11_FLAG_W,CFC-12,CFC-12_FLAG_W,CFC113,CFC113_FLAG_W,SF6,SF6_FLAG_W,TCARBN,TCARBN_FLAG_W,ALKALI,ALKALI_FLAG_W,PH_TOT,PH_TMP,PH_TOT_FLAG_W,DELC13,DELC13_FLAG_W,C13ERR,DELC14,DELC14_FLAG_W,C14ERR,CS-134,CS-134_FLAG_W,CS134ER,CS-137,CS-137_FLAG_W,CS137ER
,,,,,,,,UTC,DEG,DEG,METERS,DBAR,,ITS-90,,ITS-90,,PSS-78,,PSS-78,,G/KG,,UMOL/KG,,UMOL/KG,,%TRANS,/METER,,MG/M^3,,MG/CUM,,UE/SQM/S,,UMOL/KG,,UMOL/KG,UMOL/KG,,UMOL/KG,UMOL/KG,,UMOL/KG,UMOL/KG,,UMOL/KG,PMOL/KG,,PMOL/KG,,PMOL/KG,,FMOL/KG,,UMOL/KG,,UMOL/KG,,,DEG C,,/MILLE,,/MILLE,/MILLE,,/MILLE,MBQ/KG,,MBQ/KG,MBQ/KG,,MBQ/KG
  49NZ20121128,  S04I,    86,  1,     36, X12J36,2,20121225,0330,-62.2618, 110.6640, 3939,      5.3,2,   0.7645,2,   0.76422,2,  33.7720,2,  33.7729,2,-999.0000,9,   347.91,2,   348.07,2,   95.990,   0.1637,2,    0.070,2,  -999.00,9,  286.234,2,    40.95,2,     0.10,    26.38,2,     0.04,     0.26,2,     0.01,     1.76,2,     0.01,    5.852,2,    3.174,2,    0.555,2, -999.000,9,   -999.0,9,   -999.0,9,-999.0000,     -999,9, -999.000,9, -999.000,   -999.0,9,   -999.0, -999.000,9, -999.000, -999.000,9, -999.000
  49NZ20121128,  S04I,    86,  1,     35, X12J35,2,20121225,0330,-62.2618, 110.6640, 3939,     25.2,2,  -0.0845,2,  -0.11165,2,  33.8447,2,  33.8226,2,-999.0000,9,   356.26,2,   354.28,2,   95.185,   0.1974,2,    0.250,2,  -999.00,9,   76.155,2,    40.75,2,     0.10,    26.21,2,     0.04,     0.22,2,     0.01,     1.77,2,     0.01,    5.761,2,    3.133,2,    0.537,2, -999.000,9,   -999.0,9,   -999.0,9,-999.0000,     -999,9, -999.000,9, -999.000,   -999.0,9,   -999.0, -999.000,9, -999.000, -999.000,9, -999.000
  49NZ20121128,  S04I,    86,  1,     34, X12J34,2,20121225,0330,-62.2618, 110.6640, 3939,     50.1,2,  -1.3859,2,  -1.38638,2,  34.0373,2,  34.0519,2,-999.0000,9,   331.82,2,   327.95,2,   93.660,   0.2620,2,    0.970,2,  -999.00,9,   11.299,2,    49.95,2,     0.10,    28.88,2,     0.04,     0.14,2,     0.01,     2.00,2,     0.01,    5.011,6,    2.724,6,    0.491,6, -999.000,9,   -999.0,9,   -999.0,9,-999.0000,     -999,9, -999.000,9, -999.000,   -999.0,9,   -999.0, -999.000,9, -999.000, -999.000,9, -999.000
  49NZ20121128,  S04I,    86,  1,     33, X12J33,2,20121225,0330,-62.2618, 110.6640, 3939,     75.3,2,  -1.5206,2,  -1.51845,2,  34.1485,2,  34.1531,2,-999.0000,9,   304.77,2,   304.67,2,   98.229,   0.0715,2,    0.340,2,  -999.00,9,    3.003,2,    55.97,2,     0.11,    30.35,2,     0.04,     0.14,2,     0.01,     2.12,2,     0.01,    4.590,2,    2.497,2,    0.451,2, -999.000,9,   -999.0,9,   -999.0,9,-999.0000,     -999,9, -999.000,9, -999.000,   -999.0,9,   -999.0, -999.000,9, -999.000, -999.000,9, -999.000
  49NZ20121128,  S04I,    86,  1,     32, X12J32,2,20121225,0330,-62.2618, 110.6640, 3939,     99.9,2,  -0.6278,2,  -0.62194,2,  34.2930,2,  34.3000,2,-999.0000,9,   264.90,2,   263.19,2,   99.317,   0.0274,2,    0.180,2,  -999.00,9,    1.009,2,    62.59,2,     0.11,    31.97,2,     0.04,     0.07,2,     0.01,     2.20,2,     0.01,    3.517,2,    1.910,2,    0.314,2, -999.000,9,   -999.0,9,   -999.0,9,-999.0000,     -999,9, -999.000,9, -999.000,   -999.0,9,   -999.0, -999.000,9, -999.000, -999.000,9, -999.000
  49NZ20121128,  S04I,    86,  1,     31, X12J31,2,20121225,0330,-62.2618, 110.6640, 3939,    125.3,2,   0.5057,2,   0.50826,2,  34.4411,2,  34.4410,2,-999.0000,9,   224.18,2,   221.69,2,   99.477,   0.0210,2,    0.140,2,  -999.00,9,    0.378,2,    70.15,2,     0.12,    33.09,2,     0.05,     0.03,2,     0.01,     2.28,2,     0.01,    2.298,2,    1.244,2,    0.204,2, -999.000,9,   -999.0,9,   -999.0,9,-999.0000,     -999,9, -999.000,9, -999.000,   -999.0,9,   -999.0, -999.000,9, -999.000, -999.000,9, -999.000
  49NZ20121128,  S04I,    86,  1,     30, X12J30,2,20121225,0330,-62.2618, 110.6640, 3939,    150.7,2,   1.0222,2,   1.02187,2,  34.5181,2,  34.5181,2,-999.0000,9,   206.37,2,   206.05,2,   99.663,   0.0135,2,    0.060,2,  -999.00,9,    0.145,2,    74.25,2,     0.13,    33.33,2,     0.05,     0.02,2,     0.01,     2.29,2,     0.01,    1.701,2,    0.919,2,    0.151,2, -999.000,9,   -999.0,9,   -999.0,9,-999.0000,     -999,9, -999.000,9, -999.000,   -999.0,9,   -999.0, -999.000,9, -999.000, -999.000,9, -999.000
  49NZ20121128,  S04I,    86,  1,     29, X12J29,2,20121225,0330,-62.2618, 110.6640, 3939,    200.2,2,   1.3863,2,   1.38501,2,  34.5950,2,  34.5965,2,-999.0000,9,   194.43,2,   193.75,2,   99.760,   0.0096,2,    0.010,2,  -999.00,9,    0.000,2,    78.25,2,     0.13,    33.19,2,     0.05,     0.01,2,     0.01,     2.28,2,     0.01,    1.160,2,    0.621,2,    0.102,2, -999.000,9,   -999.0,9,   -999.0,9,-999.0000,     -999,9, -999.000,9, -999.000,   -999.0,9,   -999.0, -999.000,9, -999.000, -999.000,9, -999.000
  49NZ20121128,  S04I,    86,  1,     27, X12J27,2,20121225,0330,-62.2618, 110.6640, 3939,    280.0,2,   1.6343,2,   1.63355,2,  34.6553,2,  34.6542,2,-999.0000,9,   188.12,2,   188.25,2,   99.726,   0.0110,2,    0.010,2,  -999.00,9,    0.000,2,    80.94,2,     0.13,    32.76,2,     0.05,     0.01,2,     0.01,     2.25,2,     0.01,    0.798,2,    0.420,2,    0.064,2, -999.000,9,   -999.0,9,   -999.0,9,-999.0000,     -999,9, -999.000,9, -999.000,   -999.0,9,   -999.0, -999.000,9, -999.000, -999.000,9, -999.000
  49NZ20121128,  S04I,    86,  1,     26, X12J26,2,20121225,0330,-62.2618, 110.6640, 3939,    370.1,2,   1.6918,2,   1.69156,2,  34.6960,2,  34.6962,2,-999.0000,9,   187.88,2,   187.72,2,   99.870,   0.0052,2,    0.000,2,  -999.00,9,    0.000,2,    83.46,2,     0.13,    32.15,2,     0.05,     0.00,2,     0.01,     2.20,2,     0.01,    0.559,2,    0.285,2,    0.049,2, -999.000,9,   -999.0,9,   -999.0,9,-999.0000,     -999,9, -999.000,9, -999.000,   -999.0,9,   -999.0, -999.000,9, -999.000, -999.000,9, -999.000
  49NZ20121128,  S04I,    86,  1,     25, X12J25,2,20121225,0330,-62.2618, 110.6640, 3939,    471.5,2,   1.6400,2,   1.63988,2,  34.7117,2,  34.7118,2,-999.0000,9,   190.52,2,   190.42,2,   99.927,   0.0029,2,    0.000,2,  -999.00,9,    0.000,2,    85.55,2,     0.14,    31.77,2,     0.04,     0.00,2,     0.01,     2.18,2,     0.01,    0.486,2,    0.250,2,    0.041,2, -999.000,9,   -999.0,9,   -999.0,9,-999.0000,     -999,9, -999.000,9, -999.000,   -999.0,9,   -999.0, -999.000,9, -999.000, -999.000,9, -999.000
  49NZ20121128,  S04I,    86,  1,     24, X12J24,2,20121225,0330,-62.2618, 110.6640, 3939,    570.2,2,   1.6226,2,   1.62249,2,  34.7261,2,  34.7260,2,-999.0000,9,   192.61,2,   192.57,2,   99.908,   0.0037,2,    0.000,2,  -999.00,9,    0.000,2,    87.49,2,     0.14,    31.39,2,     0.04,     0.00,2,     0.01,     2.16,2,     0.01,    0.381,6,    0.190,6,    0.034,6, -999.000,9,   -999.0,9,   -999.0,9,-999.0000,     -999,9, -999.000,9, -999.000,   -999.0,9,   -999.0, -999.000,9, -999.000, -999.000,9, -999.000
  49NZ20121128,  S04I,    86,  1,     23, X12J23,2,20121225,0330,-62.2618, 110.6640, 3939,    670.2,2,   1.5663,2,   1.56607,2,  34.7336,2,  34.7338,2,-999.0000,9,   195.25,2,   195.23,2,   99.946,   0.0022,2,    0.000,2,  -999.00,9,    0.000,2,    89.56,2,     0.14,    31.17,2,     0.04,     0.00,2,     0.01,     2.14,2,     0.01,    0.311,2,    0.152,2,    0.025,2, -999.000,9,   -999.0,9,   -999.0,9,-999.0000,     -999,9, -999.000,9, -999.000,   -999.0,9,   -999.0, -999.000,9, -999.000, -999.000,9, -999.000
  49NZ20121128,  S04I,    86,  1,     22, X12J22,2,20121225,0330,-62.2618, 110.6640, 3939,    770.5,2,   1.4697,2,   1.46957,2,  34.7346,2,  34.7348,2,-999.0000,9,   197.25,2,   197.34,2,   99.959,   0.0016,2,    0.000,2,  -999.00,9,    0.000,2,    92.20,2,     0.14,    31.13,2,     0.04,     0.00,2,     0.01,     2.14,2,     0.01,    0.284,2,    0.139,2,    0.020,2, -999.000,9,   -999.0,9,   -999.0,9,-999.0000,     -999,9, -999.000,9, -999.000,   -999.0,9,   -999.0, -999.000,9, -999.000, -999.000,9, -999.000
  49NZ20121128,  S04I,    86,  1,     21, X12J21,2,20121225,0330,-62.2618, 110.6640, 3939,    872.1,2,   1.3799,2,   1.37879,2,  34.7345,2,  34.7347,2,-999.0000,9,   199.25,2,   199.24,2,   99.944,   0.0022,2,    0.000,2,  -999.00,9,    0.000,2,    95.00,2,     0.14,    31.12,2,     0.04,     0.00,2,     0.01,     2.14,2,     0.01,    0.254,2,    0.122,2,    0.018,2, -999.000,9,   -999.0,9,   -999.0,9,-999.0000,     -999,9, -999.000,9, -999.000,   -999.0,9,   -999.0, -999.000,9, -999.000, -999.000,9, -999.000
  49NZ20121128,  S04I,    86,  1,     20, X12J20,2,20121225,0330,-62.2618, 110.6640, 3939,    960.3,2,   1.2995,2,   1.29943,2,  34.7325,2,  34.7326,2,-999.0000,9,   200.61,2,   200.62,2,   99.969,   0.0012,2,    0.000,2,  -999.00,9,    0.000,2,    97.34,2,     0.15,    31.19,2,     0.04,     0.00,2,     0.01,     2.15,2,     0.01,    0.256,2,    0.117,2,    0.011,2,    0.122,2,   -999.0,9,   -999.0,9,-999.0000,     -999,9, -999.000,9, -999.000,   -999.0,9,   -999.0, -999.000,9, -999.000, -999.000,9, -999.000
  49NZ20121128,  S04I,    86,  1,     19, X12J19,2,20121225,0330,-62.2618, 110.6640, 3939,   1169.8,2,   1.1192,2,   1.11947,2,  34.7245,2,  34.7246,2,-999.0000,9,   202.69,2,   202.59,2,   99.963,   0.0015,2,   -0.000,2,  -999.00,9,    0.000,2,   102.43,2,     0.15,    31.49,2,     0.04,     0.00,2,     0.01,     2.17,2,     0.01,    0.265,6,    0.121,6,    0.011,6,    0.040,6,   -999.0,9,   -999.0,9,-999.0000,     -999,9, -999.000,9, -999.000,   -999.0,9,   -999.0, -999.000,9, -999.000, -999.000,9, -999.000
  49NZ20121128,  S04I,    86,  1,     18, X12J18,2,20121225,0330,-62.2618, 110.6640, 3939,   1421.2,2,   0.9245,2,   0.92430,2,  34.7144,2,  34.7144,2,-999.0000,9,   205.10,2,   204.96,2,   99.971,   0.0012,2,   -0.000,2,  -999.00,9,    0.000,2,   107.96,2,     0.16,    31.89,2,     0.04,     0.00,2,     0.01,     2.20,2,     0.01,    0.276,2,    0.127,2,    0.012,2,    0.081,2,   -999.0,9,   -999.0,9,-999.0000,     -999,9, -999.000,9, -999.000,   -999.0,9,   -999.0, -999.000,9, -999.000, -999.000,9, -999.000
  49NZ20121128,  S04I,    86,  1,     17, X12J17,2,20121225,0330,-62.2618, 110.6640, 3939,   1669.6,2,   0.7329,2,   0.73288,2,  34.7043,2,  34.7042,2,-999.0000,9,   207.87,2,   207.76,2,   99.984,   0.0006,2,   -0.000,2,  -999.00,9,    0.000,2,   113.07,2,     0.16,    32.21,2,     0.05,     0.00,2,     0.01,     2.23,2,     0.01,    0.309,2,    0.144,2,    0.011,2,    0.071,2,   -999.0,9,   -999.0,9,-999.0000,     -999,9, -999.000,9, -999.000,   -999.0,9,   -999.0, -999.000,9, -999.000, -999.000,9, -999.000
  49NZ20121128,  S04I,    86,  1,     16, X12J16,2,20121225,0330,-62.2618, 110.6640, 3939,   1918.6,2,   0.5518,2,   0.55186,2,  34.6947,2,  34.6944,2,-999.0000,9,   211.32,2,   211.14,2,   99.969,   0.0012,2,   -0.000,2,  -999.00,9,    0.000,2,   116.64,2,     0.16,    32.37,2,     0.05,     0.00,2,     0.01,     2.23,2,     0.01,    0.376,2,    0.179,2,    0.015,2,    0.098,2,   -999.0,9,   -999.0,9,-999.0000,     -999,9, -999.000,9, -999.000,   -999.0,9,   -999.0, -999.000,9, -999.000, -999.000,9, -999.000
  49NZ20121128,  S04I,    86,  1,     15, X12J15,2,20121225,0330,-62.2618, 110.6640, 3939,   2172.6,2,   0.3894,2,   0.38947,2,  34.6869,2,  34.6867,2,-999.0000,9,   215.30,2,   215.28,2,   99.974,   0.0010,2,   -0.000,2,  -999.00,9,    0.000,2,   119.65,2,     0.17,    32.48,2,     0.05,     0.00,2,     0.01,     2.24,2,     0.01,    0.487,2,    0.237,2,    0.020,2,    0.085,2,   -999.0,9,   -999.0,9,-999.0000,     -999,9, -999.000,9, -999.000,   -999.0,9,   -999.0, -999.000,9, -999.000, -999.000,9, -999.000
  49NZ20121128,  S04I,    86,  1,     14, X12J14,2,20121225,0330,-62.2618, 110.6640, 3939,   2419.9,2,   0.2671,2,   0.26706,2,  34.6814,2,  34.6813,2,-999.0000,9,   219.02,2,   218.96,2,   99.993,   0.0003,2,   -0.000,2,  -999.00,9,    0.000,2,   121.57,2,     0.17,    32.52,2,     0.05,     0.00,2,     0.01,     2.24,2,     0.01,    0.636,2,    0.312,2,    0.033,2,    0.162,2,   -999.0,9,   -999.0,9,-999.0000,     -999,9, -999.000,9, -999.000,   -999.0,9,   -999.0, -999.000,9, -999.000, -999.000,9, -999.000
  49NZ20121128,  S04I,    86,  1,     13, X12J13,2,20121225,0330,-62.2618, 110.6640, 3939,   2670.5,2,   0.1661,2,   0.16633,2,  34.6774,2,  34.6774,2,-999.0000,9,   222.46,2,   222.35,2,   99.974,   0.0010,2,   -0.010,2,  -999.00,9,    0.000,2,   123.43,2,     0.17,    32.52,2,     0.05,     0.00,2,     0.01,     2.24,2,     0.01,    0.767,2,    0.387,2,    0.040,2,    0.221,2,   -999.0,9,   -999.0,9,-999.0000,     -999,9, -999.000,9, -999.000,   -999.0,9,   -999.0, -999.000,9, -999.000, -999.000,9, -999.000
  49NZ20121128,  S04I,    86,  1,     12, X12J12,2,20121225,0330,-62.2618, 110.6640, 3939,   2920.6,2,   0.0889,2,   0.08856,2,  34.6733,2,  34.6737,2,-999.0000,9,   225.40,2,   225.44,2,   99.969,   0.0012,2,   -0.000,2,  -999.00,9,    0.000,2,   123.79,2,     0.17,    32.49,2,     0.05,     0.00,2,     0.01,     2.24,2,     0.01,    0.915,2,    0.467,2,    0.052,2,    0.273,2,   -999.0,9,   -999.0,9,-999.0000,     -999,9, -999.000,9, -999.000,   -999.0,9,   -999.0, -999.000,9, -999.000, -999.000,9, -999.000
  49NZ20121128,  S04I,    86,  1,     11, X12J11,2,20121225,0330,-62.2618, 110.6640, 3939,   3170.4,2,   0.0216,2,   0.02158,2,  34.6700,2,  34.6700,2,-999.0000,9,   228.19,2,   228.30,2,   99.942,   0.0023,2,    0.000,2,  -999.00,9,    0.000,2,   124.71,2,     0.17,    32.47,2,     0.05,     0.00,2,     0.01,     2.24,2,     0.01,    1.058,2,    0.552,2,    0.064,2,    0.291,2,   -999.0,9,   -999.0,9,-999.0000,     -999,9, -999.000,9, -999.000,   -999.0,9,   -999.0, -999.000,9, -999.000, -999.000,9, -999.000
  49NZ20121128,  S04I,    86,  1,     10, X12J10,2,20121225,0330,-62.2618, 110.6640, 3939,   3420.5,2,  -0.0335,2,  -0.03349,2,  34.6663,2,  34.6662,2,-999.0000,9,   230.90,2,   230.95,2,   99.916,   0.0034,2,   -0.010,2,  -999.00,9,    0.000,2,   125.16,2,     0.17,    32.42,2,     0.05,     0.00,2,     0.01,     2.24,2,     0.01,    1.296,2,    0.654,2,    0.081,2,    0.340,2,   -999.0,9,   -999.0,9,-999.0000,     -999,9, -999.000,9, -999.000,   -999.0,9,   -999.0, -999.000,9, -999.000, -999.000,9, -999.000
  49NZ20121128,  S04I,    86,  1,      9, X12J09,2,20121225,0330,-62.2618, 110.6640, 3939,   3671.2,2,  -0.0863,2,  -0.08632,2,  34.6617,2,  34.6620,2,-999.0000,9,   233.66,2,   233.84,2,   99.893,   0.0043,2,   -0.000,2,  -999.00,9,    0.000,2,   124.39,2,     0.17,    32.36,2,     0.05,     0.00,2,     0.01,     2.24,2,     0.01,    1.575,2,    0.784,2,    0.108,2,    0.443,2,   -999.0,9,   -999.0,9,-999.0000,     -999,9, -999.000,9, -999.000,   -999.0,9,   -999.0, -999.000,9, -999.000, -999.000,9, -999.000
  49NZ20121128,  S04I,    86,  1,      8, X12J08,2,20121225,0330,-62.2618, 110.6640, 3939,   3919.9,2,  -0.1941,2,  -0.19417,2,  34.6501,2,  34.6505,2,-999.0000,9,   238.52,2,   238.80,2,   99.712,   0.0115,2,   -0.010,2,  -999.00,9,    0.000,2,   122.64,2,     0.17,    32.28,2,     0.05,     0.00,2,     0.01,     2.23,2,     0.01,    2.034,6,    1.060,6,    0.174,6,    0.688,6,   -999.0,9,   -999.0,9,-999.0000,     -999,9, -999.000,9, -999.000,   -999.0,9,   -999.0, -999.000,9, -999.000, -999.000,9, -999.000
  49NZ20121128,  S04I,    86,  1,      2, X12J02,2,20121225,0330,-62.2618, 110.6640, 3939,    250.6,2,   1.5956,2,   1.59552,2,  34.6441,2,  34.6432,2,-999.0000,9,   188.79,2,   188.72,2,   99.769,   0.0093,2,    0.010,2,  -999.00,9,    0.000,2,    80.51,2,     0.13,    32.88,2,     0.05,     0.01,2,     0.01,     2.26,2,     0.01,    0.859,2,    0.452,2,    0.076,2, -999.000,9,   -999.0,9,   -999.0,9,-999.0000,     -999,9, -999.000,9, -999.000,   -999.0,9,   -999.0, -999.000,9, -999.000, -999.000,9, -999.000
  49NZ20121128,  S04I,    86,  1,      1, X12J01,2,20121225,0330,-62.2618, 110.6640, 3939,   3999.1,2,  -0.2097,2,  -0.20985,2,  34.6478,2,  34.6483,2,-999.0000,9,   239.17,2,   239.10,2,   99.528,   0.0189,2,   -0.010,2,  -999.00,9,    0.000,2,   123.31,2,     0.17,    32.30,2,     0.05,     0.00,2,     0.01,     2.23,2,     0.01,    2.087,2,    1.104,2,    0.170,2,    0.754,2,   -999.0,9,   -999.0,9,-999.0000,     -999,9, -999.000,9, -999.000,   -999.0,9,   -999.0, -999.000,9, -999.000, -999.000,9, -999.000