BOTTLE,20220819CCHSIOAMB
EXPOCODE,SECT_ID,STNNBR,CASTNO,SAMPNO,BTLNBR,BTLNBR_FLAG_W,DATE,TIME,LATITUDE,LONGITUDE,DEPTH,CTDPRS,CTDPRS_FLAG_W,CTDTMP,CTDTMP_FLAG_W,SBE35,SBE35_FLAG_W,CTDSAL,CTDSAL_FLAG_W,SALNTY,SALNTY_FLAG_W,DNSSAL,DNSSAL_FLAG_W,CTDOXY,CTDOXY_FLAG_W,OXYGEN,OXYGEN_FLAG_W,CTDXMISS,CTDXMISSCP,CTDXMISS_FLAG_W,CTDFLUOR,CTDFLUOR_FLAG_W,CHLORA,CHLORA_FLAG_W,PAR,PAR_FLAG_W,SILCAT,SILCAT_FLAG_W,SILUNC,NITRAT,NITRAT_FLAG_W,NRAUNC,NITRIT,NITRIT_FLAG_W,NRIUNC,PHSPHT,PHSPHT_FLAG_W,PHPUNC,CFC-11,CFC-11_FLAG_W,CFC-12,CFC-12_FLAG_W,CFC113,CFC113_FLAG_W,SF6,SF6_FLAG_W,TCARBN,TCARBN_FLAG_W,ALKALI,ALKALI_FLAG_W,PH_TOT,PH_TMP,PH_TOT_FLAG_W,DELC13,DELC13_FLAG_W,C13ERR,DELC14,DELC14_FLAG_W,C14ERR,CS-134,CS-134_FLAG_W,CS134ER,CS-137,CS-137_FLAG_W,CS137ER
,,,,,,,,UTC,DEG,DEG,METERS,DBAR,,ITS-90,,ITS-90,,PSS-78,,PSS-78,,G/KG,,UMOL/KG,,UMOL/KG,,%TRANS,/METER,,MG/M^3,,MG/CUM,,UE/SQM/S,,UMOL/KG,,UMOL/KG,UMOL/KG,,UMOL/KG,UMOL/KG,,UMOL/KG,UMOL/KG,,UMOL/KG,PMOL/KG,,PMOL/KG,,PMOL/KG,,FMOL/KG,,UMOL/KG,,UMOL/KG,,,DEG C,,/MILLE,,/MILLE,/MILLE,,/MILLE,MBQ/KG,,MBQ/KG,MBQ/KG,,MBQ/KG
  49NZ20121128,   S04,    69,  1,     36, X12J36,2,20121220,0137,-62.0192, 134.1945, 4337,      5.6,2,   0.7734,2,   0.76944,2,  33.7857,2,  33.7838,2,-999.0000,9,   357.01,2,   355.83,2,   91.962,   0.3352,2,    0.210,2,  -999.00,9,  367.264,2,    20.00,2,     0.08,    24.21,2,     0.04,     0.27,2,     0.01,     1.53,2,     0.01,    6.009,2,    3.273,2,    0.624,2,    2.916,2,   2143.3,2,   2279.3,2,   7.7339,       25,6, -999.000,9, -999.000,   -999.0,9,   -999.0, -999.000,9, -999.000, -999.000,9, -999.000
  49NZ20121128,   S04,    69,  1,     35, X12J35,2,20121220,0137,-62.0192, 134.1945, 4337,     25.0,2,   0.0147,2,   0.01320,2,  33.7868,2,  33.7878,2,-999.0000,9,   363.51,2,   361.31,2,   90.233,   0.4111,2,    0.760,2,  -999.00,9,   29.109,2,    20.80,2,     0.08,    24.25,2,     0.04,     0.24,2,     0.01,     1.56,2,     0.01,    6.049,2,    3.282,2,    0.634,2,    2.969,2,   2143.7,2,   2285.7,2,   7.7344,       25,2, -999.000,9, -999.000,   -999.0,9,   -999.0, -999.000,9, -999.000, -999.000,9, -999.000
  49NZ20121128,   S04,    69,  1,     34, X12J34,2,20121220,0137,-62.0192, 134.1945, 4337,     50.4,2,  -1.0719,2,  -1.07020,2,  33.8539,2,  33.8626,2,-999.0000,9,   351.20,2,   348.78,2,   93.960,   0.2492,2,    1.070,2,  -999.00,9,    2.658,2,    34.52,2,     0.09,    27.50,2,     0.04,     0.20,2,     0.01,     1.97,2,     0.01,    5.924,6,    3.230,6,    0.609,6,    2.945,6,   2169.9,2,   2287.9,2,   7.6735,       25,2, -999.000,9, -999.000,   -999.0,9,   -999.0, -999.000,9, -999.000, -999.000,9, -999.000
  49NZ20121128,   S04,    69,  1,     33, X12J33,2,20121220,0137,-62.0192, 134.1945, 4337,     75.3,2,  -1.5471,2,  -1.54512,2,  33.9800,2,  33.9851,2,-999.0000,9,   324.75,2,   323.16,2,   98.902,   0.0442,2,    0.320,2,  -999.00,9,    0.813,2,    43.00,2,     0.10,    30.06,2,     0.04,     0.24,2,     0.01,     2.10,2,     0.01,    5.385,2,    2.931,2,    0.552,2,    2.488,2,   2191.4,6,   2294.1,2,   7.6346,       25,2, -999.000,9, -999.000,   -999.0,9,   -999.0, -999.000,9, -999.000, -999.000,9, -999.000
  49NZ20121128,   S04,    69,  1,     32, X12J32,2,20121220,0137,-62.0192, 134.1945, 4337,    100.2,2,  -0.7258,2,  -0.72880,2,  34.1126,2,  34.1234,2,-999.0000,9,   290.44,2,   285.06,2,   99.520,   0.0192,2,    0.110,2,  -999.00,9,    0.236,2,    49.60,2,     0.10,    31.87,2,     0.04,     0.05,2,     0.01,     2.19,2,     0.01,    4.474,2,    2.410,2,    0.447,2,    2.157,2,   2207.8,2,   2301.9,6,   7.6060,       25,2, -999.000,9, -999.000,   -999.0,9,   -999.0, -999.000,9, -999.000, -999.000,9, -999.000
  49NZ20121128,   S04,    69,  1,     31, X12J31,2,20121220,0137,-62.0192, 134.1945, 4337,    124.9,2,   0.7235,2,   0.69937,2,  34.3097,2,  34.3200,2,-999.0000,9,   231.91,2,   223.93,2,   99.673,   0.0131,2,    0.070,2,  -999.00,9,    0.071,2,    60.86,2,     0.11,    33.88,2,     0.05,     0.02,2,     0.01,     2.33,2,     0.01,    2.819,2,    1.489,2,    0.256,2,    1.227,2,   2235.3,2,   2312.2,2,   7.5688,       25,2, -999.000,9, -999.000,   -999.0,9,   -999.0, -999.000,9, -999.000, -999.000,9, -999.000
  49NZ20121128,   S04,    69,  1,     30, X12J30,2,20121220,0137,-62.0192, 134.1945, 4337,    150.1,2,   1.5527,2,   1.54815,2,  34.4478,2,  34.4439,2,-999.0000,9,   198.40,2,   197.33,2,   99.713,   0.0115,2,    0.030,2,  -999.00,9,    0.000,2,    67.68,2,     0.12,    34.69,2,     0.05,     0.02,2,     0.01,     2.38,2,     0.01,    1.881,2,    0.962,2,    0.154,2,    0.768,2,   2246.9,2,   2322.1,2,   7.5522,       25,6, -999.000,9, -999.000,   -999.0,9,   -999.0, -999.000,9, -999.000, -999.000,9, -999.000
  49NZ20121128,   S04,    69,  1,     29, X12J29,2,20121220,0137,-62.0192, 134.1945, 4337,    200.0,2,   1.9009,2,   1.90040,2,  34.5379,2,  34.5366,2,-999.0000,9,   181.40,2,   180.59,2,   99.706,   0.0118,2,    0.020,2,  -999.00,9,    0.000,2,    72.94,2,     0.12,    34.73,2,     0.05,     0.01,2,     0.01,     2.39,2,     0.01,    1.186,2,    0.617,2,    0.091,2,    0.385,2,   2254.4,2,   2325.7,2,   7.5492,       25,2, -999.000,9, -999.000,   -999.0,9,   -999.0, -999.000,9, -999.000, -999.000,9, -999.000
  49NZ20121128,   S04,    69,  1,     28, X12J28,2,20121220,0137,-62.0192, 134.1945, 4337,    252.0,2,   2.1148,2,   2.11483,2,  34.5992,2,  34.5952,2,-999.0000,9,   176.53,2,   175.75,2,   99.809,   0.0076,2,    0.010,2,  -999.00,9,    0.000,2,    74.37,2,     0.13,    34.14,2,     0.05,     0.01,2,     0.01,     2.34,2,     0.01,    0.794,2,    0.400,2,    0.055,2,    0.315,2,   2255.3,2,   2331.8,2,   7.5585,       25,2, -999.000,9, -999.000,   -999.0,9,   -999.0, -999.000,9, -999.000, -999.000,9, -999.000
  49NZ20121128,   S04,    69,  1,     27, X12J27,2,20121220,0137,-62.0192, 134.1945, 4337,    300.6,2,   2.1090,2,   2.10879,2,  34.6207,2,  34.6197,2,-999.0000,9,   176.90,2,   176.10,2,   99.875,   0.0050,2,    0.010,2,  -999.00,9,    0.000,2,    75.43,2,     0.13,    33.75,2,     0.05,     0.01,2,     0.01,     2.32,2,     0.01,    0.665,2,    0.343,2,    0.042,2,    0.147,2,   2255.5,2,   2336.2,2,   7.5630,       25,2, -999.000,9, -999.000,   -999.0,9,   -999.0, -999.000,9, -999.000, -999.000,9, -999.000
  49NZ20121128,   S04,    69,  1,     26, X12J26,2,20121220,0137,-62.0192, 134.1945, 4337,    400.5,2,   2.0379,2,   2.03741,2,  34.6569,2,  34.6563,2,-999.0000,9,   178.38,2,   177.55,2,   99.904,   0.0038,2,    0.010,2,  -999.00,9,    0.000,2,    77.95,2,     0.13,    33.19,2,     0.05,     0.01,2,     0.01,     2.28,2,     0.01,    0.535,2,    0.280,2,    0.039,2,    0.191,2,   2256.1,2,   2338.0,2,   7.5701,       25,2, -999.000,9, -999.000,   -999.0,9,   -999.0, -999.000,9, -999.000, -999.000,9, -999.000
  49NZ20121128,   S04,    69,  1,     25, X12J25,2,20121220,0137,-62.0192, 134.1945, 4337,    501.4,2,   2.0207,2,   2.02067,2,  34.6886,2,  34.6877,2,-999.0000,9,   181.29,2,   180.59,2,   99.902,   0.0039,2,    0.010,2,  -999.00,9,    0.000,2,    79.31,2,     0.13,    32.49,2,     0.05,     0.01,2,     0.01,     2.22,2,     0.01,    0.398,2,    0.216,2,    0.029,2,    0.202,2,   2253.8,2,   2341.1,2,   7.5816,       25,2, -999.000,9, -999.000,   -999.0,9,   -999.0, -999.000,9, -999.000, -999.000,9, -999.000
  49NZ20121128,   S04,    69,  1,     24, X12J24,2,20121220,0137,-62.0192, 134.1945, 4337,    600.7,2,   1.9771,2,   1.97703,2,  34.7083,2,  34.7076,2,-999.0000,9,   184.34,2,   183.69,2,   99.935,   0.0026,2,    0.010,2,  -999.00,9,    0.000,2,    80.81,2,     0.13,    32.00,2,     0.04,     0.01,2,     0.01,     2.19,2,     0.01,    0.365,6,    0.181,6,    0.025,6,    0.077,6,   2252.7,2,   2342.9,2,   7.5893,       25,2, -999.000,9, -999.000,   -999.0,9,   -999.0, -999.000,9, -999.000, -999.000,9, -999.000
  49NZ20121128,   S04,    69,  1,     23, X12J23,2,20121220,0137,-62.0192, 134.1945, 4337,    701.1,2,   1.9069,2,   1.90660,2,  34.7208,2,  34.7197,2,-999.0000,9,   187.32,2,   186.64,2,   99.938,   0.0025,2,    0.000,2,  -999.00,9,    0.000,2,    82.43,2,     0.13,    31.65,2,     0.04,     0.01,2,     0.01,     2.17,2,     0.01,    0.330,2,    0.164,2,    0.022,2,    0.153,2,   2251.2,6,   2345.0,2,   7.5952,       25,2, -999.000,9, -999.000,   -999.0,9,   -999.0, -999.000,9, -999.000, -999.000,9, -999.000
  49NZ20121128,   S04,    69,  1,     22, X12J22,2,20121220,0137,-62.0192, 134.1945, 4337,    800.4,2,   1.8640,2,   1.86384,2,  34.7329,2,  34.7326,2,-999.0000,9,   190.35,2,   189.73,2,   99.994,   0.0002,2,    0.000,2,  -999.00,9,    0.000,2,    83.89,2,     0.13,    31.24,2,     0.04,     0.01,2,     0.01,     2.14,2,     0.01,    0.263,2,    0.128,2,    0.017,2,    0.148,2,   2249.6,3,   2345.6,6,   7.6033,       25,2, -999.000,9, -999.000,   -999.0,9,   -999.0, -999.000,9, -999.000, -999.000,9, -999.000
  49NZ20121128,   S04,    69,  1,     21, X12J21,2,20121220,0137,-62.0192, 134.1945, 4337,    901.8,2,   1.7997,2,   1.79956,2,  34.7389,2,  34.7388,2,-999.0000,9,   193.04,2,   192.44,2,   99.994,   0.0002,2,    0.000,2,  -999.00,9,    0.000,2,    85.62,2,     0.14,    31.04,2,     0.04,     0.01,2,     0.01,     2.13,2,     0.01,    0.235,2,    0.112,2,    0.014,2,    0.068,2,   2251.7,2,   2347.9,2,   7.6086,       25,6, -999.000,9, -999.000,   -999.0,9,   -999.0, -999.000,9, -999.000, -999.000,9, -999.000
  49NZ20121128,   S04,    69,  1,     20, X12J20,2,20121220,0137,-62.0192, 134.1945, 4337,   1002.0,2,   1.7243,2,   1.72445,2,  34.7415,2,  34.7407,2,-999.0000,9,   195.01,2,   194.48,2,   99.992,   0.0003,2,    0.000,2,  -999.00,9,    0.000,2,    87.42,2,     0.14,    30.95,2,     0.04,     0.01,2,     0.01,     2.13,2,     0.01,    0.216,2,    0.108,2,    0.014,2,    0.067,2,   2251.0,2,   2349.3,2,   7.6116,       25,2, -999.000,9, -999.000,   -999.0,9,   -999.0, -999.000,9, -999.000, -999.000,9, -999.000
  49NZ20121128,   S04,    69,  1,     19, X12J19,2,20121220,0137,-62.0192, 134.1945, 4337,   1253.1,2,   1.5172,2,   1.51711,2,  34.7406,2,  34.7396,2,-999.0000,9,   198.93,2,   198.46,2,  100.009,  -0.0004,2,    0.000,2,  -999.00,9,    0.000,2,    93.06,2,     0.14,    30.98,2,     0.04,     0.01,2,     0.01,     2.13,2,     0.01,    0.205,6,    0.095,6,    0.011,6,    0.061,6,   2250.2,2,   2352.6,2,   7.6147,       25,2, -999.000,9, -999.000,   -999.0,9,   -999.0, -999.000,9, -999.000, -999.000,9, -999.000
  49NZ20121128,   S04,    69,  1,     18, X12J18,2,20121220,0137,-62.0192, 134.1945, 4337,   1501.0,2,   1.3010,2,   1.30089,2,  34.7329,2,  34.7326,2,-999.0000,9,   201.76,2,   201.14,2,   99.969,   0.0012,2,   -0.000,2,  -999.00,9,    0.000,2,    99.25,2,     0.15,    31.28,2,     0.04,     0.01,2,     0.01,     2.15,2,     0.01,    0.205,2,    0.096,2,    0.009,2,    0.000,2,   2253.9,2,   2354.3,2,   7.6138,       25,2, -999.000,9, -999.000,   -999.0,9,   -999.0, -999.000,9, -999.000, -999.000,9, -999.000
  49NZ20121128,   S04,    69,  1,     17, X12J17,2,20121220,0137,-62.0192, 134.1945, 4337,   1752.7,2,   1.1061,2,   1.10593,2,  34.7241,2,  34.7239,2,-999.0000,9,   204.24,2,   203.36,2,  100.017,  -0.0007,2,   -0.000,2,  -999.00,9,    0.000,2,   104.82,2,     0.15,    31.60,2,     0.04,     0.01,2,     0.01,     2.18,2,     0.01,    0.221,2,    0.097,2,    0.011,2,    0.000,2,   2256.5,2,   2356.4,2,   7.6124,       25,2, -999.000,9, -999.000,   -999.0,9,   -999.0, -999.000,9, -999.000, -999.000,9, -999.000
  49NZ20121128,   S04,    69,  1,     16, X12J16,2,20121220,0137,-62.0192, 134.1945, 4337,   2000.2,2,   0.9289,2,   0.92896,2,  34.7144,2,  34.7142,2,-999.0000,9,   206.45,2,   205.68,2,   99.999,   0.0000,2,   -0.000,2,  -999.00,9,    0.000,2,   109.87,2,     0.16,    31.90,2,     0.04,     0.01,2,     0.01,     2.20,2,     0.01,    0.239,2,    0.108,2,    0.011,2,    0.069,2,   2258.2,2,   2356.9,2,   7.6093,       25,2, -999.000,9, -999.000,   -999.0,9,   -999.0, -999.000,9, -999.000, -999.000,9, -999.000
  49NZ20121128,   S04,    69,  1,     15, X12J15,2,20121220,0137,-62.0192, 134.1945, 4337,   2252.5,2,   0.7341,2,   0.73417,2,  34.7042,2,  34.7040,2,-999.0000,9,   209.42,2,   208.51,2,  100.026,  -0.0010,2,   -0.000,2,  -999.00,9,    0.000,2,   114.67,2,     0.16,    32.19,2,     0.05,     0.01,2,     0.01,     2.21,2,     0.01,    0.275,2,    0.134,2,    0.012,2,    0.000,2,   2260.8,2,   2357.8,2,   7.6054,       25,2, -999.000,9, -999.000,   -999.0,9,   -999.0, -999.000,9, -999.000, -999.000,9, -999.000
  49NZ20121128,   S04,    69,  1,     14, X12J14,2,20121220,0137,-62.0192, 134.1945, 4337,   2500.8,2,   0.5725,2,   0.57282,2,  34.6959,2,  34.6954,2,-999.0000,9,   212.70,2,   211.77,2,   99.999,   0.0000,2,   -0.000,2,  -999.00,9,    0.000,2,   118.66,2,     0.17,    32.40,2,     0.05,     0.01,2,     0.01,     2.23,2,     0.01,    0.346,2,    0.166,2,    0.016,2,    0.000,2,   2261.5,6,   2358.2,2,   7.6037,       25,2, -999.000,9, -999.000,   -999.0,9,   -999.0, -999.000,9, -999.000, -999.000,9, -999.000
  49NZ20121128,   S04,    69,  1,     13, X12J13,2,20121220,0137,-62.0192, 134.1945, 4337,   2750.4,2,   0.4184,2,   0.41847,2,  34.6887,2,  34.6880,2,-999.0000,9,   216.58,2,   215.67,2,  100.022,  -0.0009,2,   -0.000,2,  -999.00,9,    0.000,2,   122.01,2,     0.17,    32.55,2,     0.05,     0.01,2,     0.01,     2.25,2,     0.01,    0.424,2,    0.226,2,    0.023,2,    0.086,2,   2261.5,2,   2357.0,6,   7.6042,       25,2, -999.000,9, -999.000,   -999.0,9,   -999.0, -999.000,9, -999.000, -999.000,9, -999.000
  49NZ20121128,   S04,    69,  1,     12, X12J12,2,20121220,0137,-62.0192, 134.1945, 4337,   3001.1,2,   0.3105,2,   0.31052,2,  34.6835,2,  34.6829,2,-999.0000,9,   219.85,2,   218.99,2,  100.020,  -0.0008,2,   -0.000,2,  -999.00,9,    0.000,2,   124.46,2,     0.17,    32.59,2,     0.05,     0.01,2,     0.01,     2.25,2,     0.01,    0.540,2,    0.277,2,    0.029,2,    0.162,2,   2260.9,2,   2356.7,2,   7.6027,       25,6, -999.000,9, -999.000,   -999.0,9,   -999.0, -999.000,9, -999.000, -999.000,9, -999.000
  49NZ20121128,   S04,    69,  1,     11, X12J11,2,20121220,0137,-62.0192, 134.1945, 4337,   3250.8,2,   0.2322,2,   0.23239,2,  34.6799,2,  34.6793,2,-999.0000,9,   222.48,2,   221.69,2,   99.992,   0.0003,2,   -0.000,2,  -999.00,9,    0.000,2,   126.19,2,     0.17,    32.63,2,     0.05,     0.01,2,     0.01,     2.25,2,     0.01,    0.659,2,    0.340,2,    0.033,2,    0.222,2,   2260.2,2,   2356.5,2,   7.6027,       25,2, -999.000,9, -999.000,   -999.0,9,   -999.0, -999.000,9, -999.000, -999.000,9, -999.000
  49NZ20121128,   S04,    69,  1,     10, X12J10,2,20121220,0137,-62.0192, 134.1945, 4337,   3500.5,2,   0.1579,2,   0.15801,2,  34.6764,2,  34.6760,2,-999.0000,9,   225.29,2,   224.42,2,   99.980,   0.0008,2,   -0.000,2,  -999.00,9,    0.000,2,   127.28,2,     0.17,    32.61,2,     0.05,     0.01,2,     0.01,     2.25,2,     0.01,    0.806,2,    0.403,2,    0.039,2,    0.335,2,   2260.2,2,   2354.8,3,   7.6033,       25,2, -999.000,9, -999.000,   -999.0,9,   -999.0, -999.000,9, -999.000, -999.000,9, -999.000
  49NZ20121128,   S04,    69,  1,      9, X12J09,2,20121220,0137,-62.0192, 134.1945, 4337,   3751.0,2,   0.0927,2,   0.09268,2,  34.6732,2,  34.6730,2,-999.0000,9,   228.06,2,   227.22,2,   99.978,   0.0009,2,   -0.010,2,  -999.00,9,    0.000,2,   128.33,2,     0.17,    32.59,2,     0.05,     0.01,2,     0.01,     2.25,2,     0.01,    0.953,2,    0.473,2,    0.047,2,    0.246,2,   2259.9,2,   2356.5,2,   7.6035,       25,2, -999.000,9, -999.000,   -999.0,9,   -999.0, -999.000,9, -999.000, -999.000,9, -999.000
  49NZ20121128,   S04,    69,  1,      8, X12J08,2,20121220,0137,-62.0192, 134.1945, 4337,   4002.4,2,   0.0263,2,   0.02630,2,  34.6686,2,  34.6682,2,-999.0000,9,   231.12,2,   230.35,2,   99.971,   0.0012,2,   -0.000,2,  -999.00,9,    0.000,2,   128.20,2,     0.17,    32.55,2,     0.05,     0.01,2,     0.01,     2.25,2,     0.01,    1.193,6,    0.599,6,    0.067,6,    0.294,6,   2260.7,2,   2355.4,2,   7.6034,       25,2, -999.000,9, -999.000,   -999.0,9,   -999.0, -999.000,9, -999.000, -999.000,9, -999.000
  49NZ20121128,   S04,    69,  1,      7, X12J07,2,20121220,0137,-62.0192, 134.1945, 4337,   4250.1,2,  -0.0585,2,  -0.05853,2,  34.6603,2,  34.6600,2,-999.0000,9,   235.20,2,   234.56,2,   99.935,   0.0026,2,   -0.010,2,  -999.00,9,    0.000,2,   127.22,2,     0.17,    32.42,2,     0.05,     0.01,2,     0.01,     2.25,2,     0.01,    1.659,2,    0.822,2,    0.103,2,    0.492,2,   2258.8,6,   2354.4,2,   7.6026,       25,2, -999.000,9, -999.000,   -999.0,9,   -999.0, -999.000,9, -999.000, -999.000,9, -999.000
  49NZ20121128,   S04,    69,  1,      1, X12J01,2,20121220,0137,-62.0192, 134.1945, 4337,   4411.9,2,  -0.1227,2,  -0.12275,2,  34.6524,2,  34.6524,2,-999.0000,9,   237.96,2,   237.36,2,   99.616,   0.0154,2,   -0.010,2,  -999.00,9,    0.000,2,   128.03,2,     0.17,    32.36,2,     0.05,     0.01,2,     0.01,     2.24,2,     0.01,    1.965,2,    1.002,2,    0.139,2,    0.625,2,   2259.5,2,   2353.2,2,   7.5999,       25,2, -999.000,9, -999.000,   -999.0,9,   -999.0, -999.000,9, -999.000, -999.000,9, -999.000