BOTTLE,20220819CCHSIOAMB
EXPOCODE,SECT_ID,STNNBR,CASTNO,SAMPNO,BTLNBR,BTLNBR_FLAG_W,DATE,TIME,LATITUDE,LONGITUDE,DEPTH,CTDPRS,CTDPRS_FLAG_W,CTDTMP,CTDTMP_FLAG_W,SBE35,SBE35_FLAG_W,CTDSAL,CTDSAL_FLAG_W,SALNTY,SALNTY_FLAG_W,DNSSAL,DNSSAL_FLAG_W,CTDOXY,CTDOXY_FLAG_W,OXYGEN,OXYGEN_FLAG_W,CTDXMISS,CTDXMISSCP,CTDXMISS_FLAG_W,CTDFLUOR,CTDFLUOR_FLAG_W,CHLORA,CHLORA_FLAG_W,PAR,PAR_FLAG_W,SILCAT,SILCAT_FLAG_W,SILUNC,NITRAT,NITRAT_FLAG_W,NRAUNC,NITRIT,NITRIT_FLAG_W,NRIUNC,PHSPHT,PHSPHT_FLAG_W,PHPUNC,CFC-11,CFC-11_FLAG_W,CFC-12,CFC-12_FLAG_W,CFC113,CFC113_FLAG_W,SF6,SF6_FLAG_W,TCARBN,TCARBN_FLAG_W,ALKALI,ALKALI_FLAG_W,PH_TOT,PH_TMP,PH_TOT_FLAG_W,DELC13,DELC13_FLAG_W,C13ERR,DELC14,DELC14_FLAG_W,C14ERR,CS-134,CS-134_FLAG_W,CS134ER,CS-137,CS-137_FLAG_W,CS137ER
,,,,,,,,UTC,DEG,DEG,METERS,DBAR,,ITS-90,,ITS-90,,PSS-78,,PSS-78,,G/KG,,UMOL/KG,,UMOL/KG,,%TRANS,/METER,,MG/M^3,,MG/CUM,,UE/SQM/S,,UMOL/KG,,UMOL/KG,UMOL/KG,,UMOL/KG,UMOL/KG,,UMOL/KG,UMOL/KG,,UMOL/KG,PMOL/KG,,PMOL/KG,,PMOL/KG,,FMOL/KG,,UMOL/KG,,UMOL/KG,,,DEG C,,/MILLE,,/MILLE,/MILLE,,/MILLE,MBQ/KG,,MBQ/KG,MBQ/KG,,MBQ/KG
  49NZ20121128,   S04,    52,  1,     36, X12J36,2,20121213,1255,-62.7923, 158.1598, 2349,      5.4,2,  -1.3223,2,  -1.32066,2,  33.8002,2,  33.8005,2,-999.0000,9,   347.41,2,   347.38,2,   96.352,   0.1486,2,    0.300,2,  -999.00,9,    0.741,2,    67.87,2,     0.12,    28.42,2,     0.04,     0.17,2,     0.01,     1.96,2,     0.01,    5.950,2,    3.140,2,    0.555,2,    2.914,2,   2175.4,2,   2291.2,2,   7.6564,       25,6, -999.000,9, -999.000,   -999.0,9,   -999.0, -999.000,9, -999.000, -999.000,9, -999.000
  49NZ20121128,   S04,    52,  1,     35, X12J35,2,20121213,1255,-62.7923, 158.1598, 2349,     25.2,2,  -1.3964,2,  -1.39593,2,  33.8002,2,  33.8150,2,-999.0000,9,   347.48,2,   347.62,2,   96.218,   0.1542,2,    0.370,2,  -999.00,9,    0.011,2,    68.07,2,     0.12,    28.41,2,     0.04,     0.17,2,     0.01,     1.97,2,     0.01,    5.853,2,    3.173,2,    0.544,2,    2.808,2,   2175.5,2,   2293.6,2,   7.6587,       25,2, -999.000,9, -999.000,   -999.0,9,   -999.0, -999.000,9, -999.000, -999.000,9, -999.000
  49NZ20121128,   S04,    52,  1,     34, X12J34,2,20121213,1255,-62.7923, 158.1598, 2349,     50.5,2,  -1.7421,2,  -1.74243,2,  34.1948,2,  34.1954,2,-999.0000,9,   323.36,2,   323.42,2,   97.321,   0.1086,2,    0.430,2,  -999.00,9,    0.000,2,    69.50,2,     0.12,    29.66,2,     0.04,     0.10,2,     0.01,     2.03,2,     0.01,    4.850,6,    2.633,6,    0.444,6,    2.382,6,   2206.7,2,   2305.2,2,   7.6389,       25,2, -999.000,9, -999.000,   -999.0,9,   -999.0, -999.000,9, -999.000, -999.000,9, -999.000
  49NZ20121128,   S04,    52,  1,     33, X12J33,2,20121213,1255,-62.7923, 158.1598, 2349,     75.4,2,  -1.7312,2,  -1.73339,2,  34.2410,2,  34.2424,2,-999.0000,9,   322.27,2,   322.32,2,   97.616,   0.0965,2,    0.480,2,  -999.00,9,    0.000,2,    70.24,2,     0.12,    30.20,2,     0.04,     0.13,2,     0.01,     2.10,2,     0.01,    4.952,2,    2.707,2,    0.455,2,    2.329,2,   2213.4,6,   2313.2,2,   7.6282,       25,2, -999.000,9, -999.000,   -999.0,9,   -999.0, -999.000,9, -999.000, -999.000,9, -999.000
  49NZ20121128,   S04,    52,  1,     32, X12J32,2,20121213,1255,-62.7923, 158.1598, 2349,     99.4,2,  -1.0125,2,  -1.01429,2,  34.3561,2,  34.3480,2,-999.0000,9,   286.20,2,   285.54,2,   99.290,   0.0285,2,    0.200,2,  -999.00,9,    0.000,2,    74.30,2,     0.13,    31.19,2,     0.04,     0.15,2,     0.01,     2.16,2,     0.01,    4.006,2,    2.157,2,    0.369,2,    2.158,2,   2225.0,2,   2320.4,6,   7.6086,       25,2, -999.000,9, -999.000,   -999.0,9,   -999.0, -999.000,9, -999.000, -999.000,9, -999.000
  49NZ20121128,   S04,    52,  1,     31, X12J31,2,20121213,1255,-62.7923, 158.1598, 2349,    125.2,2,   0.7068,2,   0.70584,2,  34.6048,2,  34.5988,2,-999.0000,9,   213.26,2,   213.93,2,   99.686,   0.0126,2,    0.110,2,  -999.00,9,    0.000,2,    83.62,2,     0.13,    32.32,2,     0.05,     0.04,2,     0.01,     2.23,2,     0.01,    1.580,2,    0.877,2,    0.139,2,    0.691,2,   2249.9,2,   2335.1,2,   7.5831,       25,2, -999.000,9, -999.000,   -999.0,9,   -999.0, -999.000,9, -999.000, -999.000,9, -999.000
  49NZ20121128,   S04,    52,  1,     30, X12J30,2,20121213,1255,-62.7923, 158.1598, 2349,    150.3,2,   1.0376,2,   1.03762,2,  34.6525,2,  34.6515,2,-999.0000,9,   201.79,2,   201.35,2,   99.820,   0.0072,2,    0.040,2,  -999.00,9,    0.000,2,    85.99,2,     0.14,    32.25,2,     0.05,     0.02,2,     0.01,     2.22,2,     0.01,    1.121,2,    0.595,2,    0.102,2,    0.470,2,   2254.6,2,   2340.6,2,   7.5847,       25,2, -999.000,9, -999.000,   -999.0,9,   -999.0, -999.000,9, -999.000, -999.000,9, -999.000
  49NZ20121128,   S04,    52,  1,     29, X12J29,2,20121213,1255,-62.7923, 158.1598, 2349,    199.4,2,   1.1515,2,   1.15147,2,  34.6775,2,  34.6770,2,-999.0000,9,   198.24,2,   198.08,2,   99.905,   0.0038,2,    0.010,2,  -999.00,9,    0.000,2,    88.31,2,     0.14,    32.14,2,     0.05,     0.01,2,     0.01,     2.21,2,     0.01,    0.875,2,    0.458,2,    0.078,2,    0.325,2,   2254.6,2,   2343.6,2,   7.5867,       25,2, -999.000,9, -999.000,   -999.0,9,   -999.0, -999.000,9, -999.000, -999.000,9, -999.000
  49NZ20121128,   S04,    52,  1,     28, X12J28,2,20121213,1255,-62.7923, 158.1598, 2349,    251.6,2,   1.2216,2,   1.22155,2,  34.6956,2,  34.6946,2,-999.0000,9,   196.13,2,   196.22,2,   99.910,   0.0036,2,    0.010,2,  -999.00,9,    0.000,2,    90.52,2,     0.14,    32.04,2,     0.04,     0.01,2,     0.01,     2.21,2,     0.01,    0.691,2,    0.355,2,    0.058,2,    0.166,2,   2256.7,2,   2344.5,2,   7.5897,       25,2, -999.000,9, -999.000,   -999.0,9,   -999.0, -999.000,9, -999.000, -999.000,9, -999.000
  49NZ20121128,   S04,    52,  1,     27, X12J27,2,20121213,1255,-62.7923, 158.1598, 2349,    331.0,2,   1.2463,2,   1.24617,2,  34.7096,2,  34.7088,2,-999.0000,9,   196.87,2,   196.78,2,   99.991,   0.0004,2,    0.000,2,  -999.00,9,    0.000,2,    92.68,2,     0.14,    31.80,2,     0.04,     0.01,2,     0.01,     2.19,2,     0.01,    0.539,2,    0.274,2,    0.048,2,    0.180,2,   2255.8,2,   2348.1,2,   7.5959,       25,2, -999.000,9, -999.000,   -999.0,9,   -999.0, -999.000,9, -999.000, -999.000,9, -999.000
  49NZ20121128,   S04,    52,  1,     26, X12J26,2,20121213,1255,-62.7923, 158.1598, 2349,    430.7,2,   1.2051,2,   1.20480,2,  34.7152,2,  34.7149,2,-999.0000,9,   196.76,2,   196.32,2,  100.004,  -0.0002,2,    0.000,2,  -999.00,9,    0.000,2,    95.87,2,     0.14,    31.79,2,     0.04,     0.01,2,     0.01,     2.19,2,     0.01,    0.441,2,    0.220,2,    0.034,2,    0.000,2,   2257.7,2,   2349.8,2,   7.5969,       25,2, -999.000,9, -999.000,   -999.0,9,   -999.0, -999.000,9, -999.000, -999.000,9, -999.000
  49NZ20121128,   S04,    52,  1,     25, X12J25,2,20121213,1255,-62.7923, 158.1598, 2349,    530.2,2,   1.1470,2,   1.14684,2,  34.7178,2,  34.7173,2,-999.0000,9,   197.41,2,   197.05,2,  100.014,  -0.0006,2,    0.000,2,  -999.00,9,    0.000,2,    99.25,2,     0.15,    31.87,2,     0.04,     0.01,2,     0.01,     2.20,2,     0.01,    0.369,2,    0.182,2,    0.026,2,    0.000,2,   2259.7,2,   2352.4,2,   7.5990,       25,2, -999.000,9, -999.000,   -999.0,9,   -999.0, -999.000,9, -999.000, -999.000,9, -999.000
  49NZ20121128,   S04,    52,  1,     24, X12J24,2,20121213,1255,-62.7923, 158.1598, 2349,    628.8,2,   1.0963,2,   1.09619,2,  34.7185,2,  34.7177,2,-999.0000,9,   198.33,2,   197.96,2,   99.989,   0.0004,2,    0.000,2,  -999.00,9,    0.000,2,   101.76,2,     0.15,    31.94,2,     0.04,     0.01,2,     0.01,     2.19,2,     0.01,    0.322,6,    0.157,6,    0.024,6,    0.000,6,   2259.6,2,   2352.5,2,   7.5999,       25,2, -999.000,9, -999.000,   -999.0,9,   -999.0, -999.000,9, -999.000, -999.000,9, -999.000
  49NZ20121128,   S04,    52,  1,     23, X12J23,2,20121213,1255,-62.7923, 158.1598, 2349,    729.7,2,   1.0246,2,   1.02466,2,  34.7164,2,  34.7161,2,-999.0000,9,   199.37,2,   199.09,2,   99.985,   0.0006,2,    0.000,2,  -999.00,9,    0.000,2,   104.34,2,     0.15,    31.98,2,     0.04,     0.01,2,     0.01,     2.21,2,     0.01,    0.302,2,    0.147,2,    0.020,2,    0.000,2,   2261.6,6,   2354.3,2,   7.6006,       25,2, -999.000,9, -999.000,   -999.0,9,   -999.0, -999.000,9, -999.000, -999.000,9, -999.000
  49NZ20121128,   S04,    52,  1,     22, X12J22,2,20121213,1255,-62.7923, 158.1598, 2349,    832.4,2,   0.9482,2,   0.94813,2,  34.7143,2,  34.7140,2,-999.0000,9,   200.47,2,   200.28,2,  100.014,  -0.0006,2,    0.000,2,  -999.00,9,    0.000,2,   107.25,2,     0.16,    32.13,2,     0.05,     0.00,2,     0.01,     2.21,2,     0.01,    0.286,2,    0.135,2,    0.018,2,    0.000,2,   2262.6,2,   2356.8,3,   7.5995,       25,2, -999.000,9, -999.000,   -999.0,9,   -999.0, -999.000,9, -999.000, -999.000,9, -999.000
  49NZ20121128,   S04,    52,  1,     21, X12J21,2,20121213,1255,-62.7923, 158.1598, 2349,    930.8,2,   0.8842,2,   0.88415,2,  34.7115,2,  34.7115,2,-999.0000,9,   203.00,2,   202.82,2,  100.039,  -0.0016,2,   -0.000,2,  -999.00,9,    0.000,2,   108.44,2,     0.16,    32.09,2,     0.05,     0.01,2,     0.01,     2.21,2,     0.01,    0.297,2,    0.138,2,    0.018,2,    0.000,2,   2261.1,2,   2355.9,2,   7.6028,       25,6, -999.000,9, -999.000,   -999.0,9,   -999.0, -999.000,9, -999.000, -999.000,9, -999.000
  49NZ20121128,   S04,    52,  1,     20, X12J20,2,20121213,1255,-62.7923, 158.1598, 2349,   1081.8,2,   0.7715,2,   0.77135,2,  34.7066,2,  34.7065,2,-999.0000,9,   204.51,2,   204.33,2,  100.010,  -0.0004,2,   -0.000,2,  -999.00,9,    0.000,2,   112.20,2,     0.16,    32.28,2,     0.05,     0.00,2,     0.01,     2.23,2,     0.01,    0.300,2,    0.142,2,    0.018,2,    0.000,2,   2262.3,2,   2356.6,2,   7.6016,       25,2, -999.000,9, -999.000,   -999.0,9,   -999.0, -999.000,9, -999.000, -999.000,9, -999.000
  49NZ20121128,   S04,    52,  1,     19, X12J19,2,20121213,1255,-62.7923, 158.1598, 2349,   1330.6,2,   0.6148,2,   0.61495,2,  34.7009,2,  34.7008,2,-999.0000,9,   206.82,2,   206.58,2,  100.020,  -0.0008,2,   -0.000,2,  -999.00,9,    0.000,2,   116.69,2,     0.16,    32.51,2,     0.05,     0.00,2,     0.01,     2.24,2,     0.01,    0.317,6,    0.151,6,    0.019,6,    0.000,6,   2263.5,2,   2357.8,2,   7.5996,       25,2, -999.000,9, -999.000,   -999.0,9,   -999.0, -999.000,9, -999.000, -999.000,9, -999.000
  49NZ20121128,   S04,    52,  1,     18, X12J18,2,20121213,1255,-62.7923, 158.1598, 2349,   1580.7,2,   0.4666,2,   0.46648,2,  34.6946,2,  34.6948,2,-999.0000,9,   210.52,2,   210.40,2,  100.008,  -0.0003,2,   -0.000,2,  -999.00,9,    0.000,2,   118.67,2,     0.17,    32.53,2,     0.05,     0.01,2,     0.01,     2.25,2,     0.01,    0.416,2,    0.200,2,    0.025,2,    0.000,2,   2260.5,3,   2357.9,2,   7.5994,       25,2, -999.000,9, -999.000,   -999.0,9,   -999.0, -999.000,9, -999.000, -999.000,9, -999.000
  49NZ20121128,   S04,    52,  1,     17, X12J17,2,20121213,1255,-62.7923, 158.1598, 2349,   1831.1,2,   0.3238,2,   0.32345,2,  34.6885,2,  34.6884,2,-999.0000,9,   214.83,2,   214.77,2,  100.010,  -0.0004,2,   -0.000,2,  -999.00,9,    0.000,2,   119.38,2,     0.17,    32.55,2,     0.05,     0.00,2,     0.01,     2.25,2,     0.01,    0.596,2,    0.293,2,    0.038,2,    0.104,2,   2262.2,2,   2357.5,2,   7.6002,       25,6, -999.000,9, -999.000,   -999.0,9,   -999.0, -999.000,9, -999.000, -999.000,9, -999.000
  49NZ20121128,   S04,    52,  1,     16, X12J16,2,20121213,1255,-62.7923, 158.1598, 2349,   2080.2,2,   0.1814,2,   0.18145,2,  34.6812,2,  34.6815,2,-999.0000,9,   219.65,2,   219.62,2,   99.968,   0.0013,2,   -0.000,2,  -999.00,9,    0.000,2,   119.82,2,     0.17,    32.55,2,     0.05,     0.01,2,     0.01,     2.25,2,     0.01,    0.872,2,    0.434,2,    0.058,2,    0.000,2,   2259.4,2,   2356.0,2,   7.6001,       25,2, -999.000,9, -999.000,   -999.0,9,   -999.0, -999.000,9, -999.000, -999.000,9, -999.000
  49NZ20121128,   S04,    52,  1,     15, X12J15,2,20121213,1255,-62.7923, 158.1598, 2349,   2331.0,2,   0.1406,2,   0.14067,2,  34.6791,2,  34.6789,2,-999.0000,9,   221.31,2,   221.13,2,   99.920,   0.0032,2,   -0.000,2,  -999.00,9,    0.000,2,   120.25,2,     0.17,    32.54,2,     0.05,     0.01,2,     0.01,     2.26,2,     0.01,    0.986,2,    0.495,2,    0.071,2,    0.000,2,   2258.1,2,   2356.3,2,   7.5988,       25,2, -999.000,9, -999.000,   -999.0,9,   -999.0, -999.000,9, -999.000, -999.000,9, -999.000
  49NZ20121128,   S04,    52,  1,      1, X12J01,2,20121213,1255,-62.7923, 158.1598, 2349,   2380.9,2,   0.1396,2,   0.13958,2,  34.6786,2,  34.6783,2,-999.0000,9,   221.49,2,   221.45,2,   99.903,   0.0039,2,   -0.000,2,  -999.00,9,    0.000,2,   119.88,2,     0.17,    32.43,2,     0.05,     0.01,2,     0.01,     2.25,2,     0.01,    0.991,2,    0.501,2,    0.075,2,    0.226,2,   2258.2,2,   2356.2,2,   7.5992,       25,2, -999.000,9, -999.000,   -999.0,9,   -999.0, -999.000,9, -999.000, -999.000,9, -999.000