BOTTLE,20220819CCHSIOAMB
EXPOCODE,SECT_ID,STNNBR,CASTNO,SAMPNO,BTLNBR,BTLNBR_FLAG_W,DATE,TIME,LATITUDE,LONGITUDE,DEPTH,CTDPRS,CTDPRS_FLAG_W,CTDTMP,CTDTMP_FLAG_W,SBE35,SBE35_FLAG_W,CTDSAL,CTDSAL_FLAG_W,SALNTY,SALNTY_FLAG_W,DNSSAL,DNSSAL_FLAG_W,CTDOXY,CTDOXY_FLAG_W,OXYGEN,OXYGEN_FLAG_W,CTDXMISS,CTDXMISSCP,CTDXMISS_FLAG_W,CTDFLUOR,CTDFLUOR_FLAG_W,CHLORA,CHLORA_FLAG_W,PAR,PAR_FLAG_W,SILCAT,SILCAT_FLAG_W,SILUNC,NITRAT,NITRAT_FLAG_W,NRAUNC,NITRIT,NITRIT_FLAG_W,NRIUNC,PHSPHT,PHSPHT_FLAG_W,PHPUNC,CFC-11,CFC-11_FLAG_W,CFC-12,CFC-12_FLAG_W,CFC113,CFC113_FLAG_W,SF6,SF6_FLAG_W,TCARBN,TCARBN_FLAG_W,ALKALI,ALKALI_FLAG_W,PH_TOT,PH_TMP,PH_TOT_FLAG_W,DELC13,DELC13_FLAG_W,C13ERR,DELC14,DELC14_FLAG_W,C14ERR,CS-134,CS-134_FLAG_W,CS134ER,CS-137,CS-137_FLAG_W,CS137ER
,,,,,,,,UTC,DEG,DEG,METERS,DBAR,,ITS-90,,ITS-90,,PSS-78,,PSS-78,,G/KG,,UMOL/KG,,UMOL/KG,,%TRANS,/METER,,MG/M^3,,MG/CUM,,UE/SQM/S,,UMOL/KG,,UMOL/KG,UMOL/KG,,UMOL/KG,UMOL/KG,,UMOL/KG,UMOL/KG,,UMOL/KG,PMOL/KG,,PMOL/KG,,PMOL/KG,,FMOL/KG,,UMOL/KG,,UMOL/KG,,,DEG C,,/MILLE,,/MILLE,/MILLE,,/MILLE,MBQ/KG,,MBQ/KG,MBQ/KG,,MBQ/KG
  49NZ20121128,   S04,    50,  1,     36, X12J36,2,20121212,0255,-63.5655, 159.7290, 2640,      5.2,2,  -1.3722,2,  -1.37382,2,  33.7816,2,  33.7828,2,-999.0000,9,   336.92,2,   337.67,2,   95.619,   0.1792,2,    0.140,2,  -999.00,9,  325.954,2,    66.56,2,     0.12,    28.50,2,     0.04,     0.16,2,     0.01,     1.96,2,     0.01,    5.135,2,    2.734,2,    0.536,2,    2.460,2,   2176.2,2,   2284.8,2,   7.6526,       25,2, -999.000,1, -999.000,   -999.0,1,   -999.0, -999.000,9, -999.000, -999.000,9, -999.000
  49NZ20121128,   S04,    50,  1,     35, X12J35,2,20121212,0255,-63.5655, 159.7290, 2640,     24.9,2,  -1.4173,2,  -1.41839,2,  33.7836,2,  33.8075,2,-999.0000,9,   336.21,2,   336.20,2,   95.458,   0.1859,2,    0.300,2,  -999.00,9,   79.659,2,    66.57,2,     0.12,    28.42,2,     0.04,     0.15,2,     0.01,     1.95,2,     0.01,    5.062,2,    2.683,2,    0.510,2,    2.530,2,   2177.3,2,   2286.4,2,   7.6522,       25,2, -999.000,1, -999.000,   -999.0,1,   -999.0, -999.000,9, -999.000, -999.000,9, -999.000
  49NZ20121128,   S04,    50,  1,     34, X12J34,2,20121212,0255,-63.5655, 159.7290, 2640,     50.5,2,  -1.7216,2,  -1.72078,2,  34.1896,2,  34.1909,2,-999.0000,9,   313.00,2,   312.95,2,   96.060,   0.1608,2,    0.740,2,  -999.00,9,   11.699,2,    69.38,2,     0.12,    29.14,2,     0.04,     0.09,2,     0.01,     2.01,2,     0.01,    4.259,6,    2.364,6,    0.459,6,    2.195,6,   2205.6,2,   2312.8,2,   7.6425,       25,2, -999.000,1, -999.000,   -999.0,1,   -999.0, -999.000,9, -999.000, -999.000,9, -999.000
  49NZ20121128,   S04,    50,  1,     33, X12J33,2,20121212,0255,-63.5655, 159.7290, 2640,     75.1,2,  -1.4762,2,  -1.47427,2,  34.2854,2,  34.2841,2,-999.0000,9,   288.23,2,   289.98,2,   98.811,   0.0478,2,    0.280,2,  -999.00,9,    2.500,2,    72.74,2,     0.12,    30.53,2,     0.04,     0.10,2,     0.01,     2.12,2,     0.01,    3.891,2,    2.162,2,    0.408,2,    2.000,2,   2220.3,6,   2318.2,2,   7.6159,       25,2, -999.000,1, -999.000,   -999.0,1,   -999.0, -999.000,9, -999.000, -999.000,9, -999.000
  49NZ20121128,   S04,    50,  1,     32, X12J32,2,20121212,0255,-63.5655, 159.7290, 2640,    100.3,2,  -0.0532,2,  -0.06673,2,  34.4969,2,  34.4899,2,-999.0000,9,   239.68,2,   242.73,2,   99.487,   0.0206,2,    0.160,2,  -999.00,9,    0.815,2,    79.06,2,     0.13,    31.79,2,     0.04,     0.12,2,     0.01,     2.21,2,     0.01,    2.591,2,    1.423,2,    0.261,2,    1.250,2,   2240.4,2,   2330.5,6,   7.5915,       25,2, -999.000,1, -999.000,   -999.0,1,   -999.0, -999.000,9, -999.000, -999.000,9, -999.000
  49NZ20121128,   S04,    50,  1,     31, X12J31,2,20121212,0255,-63.5655, 159.7290, 2640,    124.5,2,   0.7177,2,   0.71831,2,  34.6033,2,  34.6034,2,-999.0000,9,   211.37,2,   211.48,2,   99.619,   0.0153,2,    0.070,2,  -999.00,9,    0.276,2,    82.90,2,     0.13,    32.21,2,     0.05,     0.04,2,     0.01,     2.22,2,     0.01,    1.533,2,    0.846,2,    0.149,2,    0.660,2,   2251.4,2,   2337.5,2,   7.5807,       25,2, -999.000,1, -999.000,   -999.0,1,   -999.0, -999.000,9, -999.000, -999.000,9, -999.000
  49NZ20121128,   S04,    50,  1,     30, X12J30,2,20121212,0255,-63.5655, 159.7290, 2640,    150.8,2,   1.0684,2,   1.06835,2,  34.6506,2,  34.6491,2,-999.0000,9,   201.23,2,   201.33,2,   99.839,   0.0064,2,    0.030,2,  -999.00,9,    0.067,2,    84.38,2,     0.13,    32.16,2,     0.05,     0.03,2,     0.01,     2.21,2,     0.01,    1.086,2,    0.601,2,    0.104,2,    0.400,2,   2254.5,2,   2340.5,2,   7.5822,       25,6, -999.000,1, -999.000,   -999.0,1,   -999.0, -999.000,9, -999.000, -999.000,9, -999.000
  49NZ20121128,   S04,    50,  1,     29, X12J29,2,20121212,0255,-63.5655, 159.7290, 2640,    199.8,2,   1.1802,2,   1.18014,2,  34.6746,2,  34.6741,2,-999.0000,9,   197.52,2,   197.55,2,   99.857,   0.0057,2,    0.010,2,  -999.00,9,    0.000,2,    86.57,2,     0.14,    32.08,2,     0.04,     0.02,2,     0.01,     2.21,2,     0.01,    0.881,2,    0.466,2,    0.079,2,    0.410,2,   2255.4,2,   2342.6,2,   7.5854,       25,2, -999.000,1, -999.000,   -999.0,1,   -999.0, -999.000,9, -999.000, -999.000,9, -999.000
  49NZ20121128,   S04,    50,  1,     28, X12J28,2,20121212,0255,-63.5655, 159.7290, 2640,    248.5,2,   1.2619,2,   1.26171,2,  34.6928,2,  34.6924,2,-999.0000,9,   195.69,2,   195.95,2,   99.872,   0.0051,2,    0.010,2,  -999.00,9,    0.000,2,    88.19,2,     0.14,    31.90,2,     0.04,     0.02,2,     0.01,     2.20,2,     0.01,    0.722,2,    0.374,2,    0.064,2,    0.310,2,   2255.6,2,   2344.8,2,   7.5880,       25,2, -999.000,1, -999.000,   -999.0,1,   -999.0, -999.000,9, -999.000, -999.000,9, -999.000
  49NZ20121128,   S04,    50,  1,     27, X12J27,2,20121212,0255,-63.5655, 159.7290, 2640,    279.4,2,   1.2832,2,   1.28270,2,  34.7018,2,  34.7015,2,-999.0000,9,   197.31,2,   197.96,2,   99.933,   0.0027,2,    0.010,2,  -999.00,9,    0.000,2,    89.09,2,     0.14,    31.66,2,     0.04,     0.02,2,     0.01,     2.18,2,     0.01,    0.610,2,    0.338,2,    0.051,2,    0.210,2,   2254.1,2,   2346.1,2,   7.5955,       25,2, -999.000,1, -999.000,   -999.0,1,   -999.0, -999.000,9, -999.000, -999.000,9, -999.000
  49NZ20121128,   S04,    50,  1,     26, X12J26,2,20121212,0255,-63.5655, 159.7290, 2640,    370.3,2,   1.2710,2,   1.27083,2,  34.7124,2,  34.7121,2,-999.0000,9,   196.76,2,   197.15,2,   99.973,   0.0011,2,    0.010,2,  -999.00,9,    0.000,2,    92.00,2,     0.14,    31.58,2,     0.04,     0.02,2,     0.01,     2.18,2,     0.01,    0.522,2,    0.268,2,    0.043,2,    0.250,2,   2255.8,2,   2348.7,2,   7.5966,       25,2, -999.000,1, -999.000,   -999.0,1,   -999.0, -999.000,9, -999.000, -999.000,9, -999.000
  49NZ20121128,   S04,    50,  1,     25, X12J25,2,20121212,0255,-63.5655, 159.7290, 2640,    471.0,2,   1.2344,2,   1.23439,2,  34.7180,2,  34.7178,2,-999.0000,9,   197.91,2,   198.18,2,  100.006,  -0.0002,2,    0.000,2,  -999.00,9,    0.000,2,    94.52,2,     0.14,    31.50,2,     0.04,     0.01,2,     0.01,     2.17,2,     0.01,    0.461,2,    0.221,2,    0.033,2,    0.110,2,   2254.8,2,   2350.0,2,   7.6016,       25,2, -999.000,1, -999.000,   -999.0,1,   -999.0, -999.000,9, -999.000, -999.000,9, -999.000
  49NZ20121128,   S04,    50,  1,     24, X12J24,2,20121212,0255,-63.5655, 159.7290, 2640,    570.8,2,   1.1626,2,   1.16242,2,  34.7181,2,  34.7177,2,-999.0000,9,   196.70,2,   196.87,2,   99.977,   0.0009,2,    0.000,2,  -999.00,9,    0.000,2,    98.88,2,     0.15,    31.83,2,     0.04,     0.02,2,     0.01,     2.20,2,     0.01,    0.380,6,    0.186,6,    0.028,6,    0.140,6,   2257.8,2,   2351.4,2,   7.5977,       25,2, -999.000,1, -999.000,   -999.0,1,   -999.0, -999.000,9, -999.000, -999.000,9, -999.000
  49NZ20121128,   S04,    50,  1,     23, X12J23,2,20121212,0255,-63.5655, 159.7290, 2640,    671.9,2,   1.0899,2,   1.08967,2,  34.7173,2,  34.7178,2,-999.0000,9,   198.12,2,   198.45,2,  100.002,  -0.0001,2,    0.000,2,  -999.00,9,    0.000,2,   101.45,2,     0.15,    31.85,2,     0.04,     0.01,2,     0.01,     2.20,2,     0.01,    0.336,2,    0.165,2,    0.023,2,    0.130,2,   2258.6,6,   2352.6,2,   7.6005,       25,2, -999.000,1, -999.000,   -999.0,1,   -999.0, -999.000,9, -999.000, -999.000,9, -999.000
  49NZ20121128,   S04,    50,  1,     22, X12J22,2,20121212,0255,-63.5655, 159.7290, 2640,    770.0,2,   1.0220,2,   1.02186,2,  34.7156,2,  34.7153,2,-999.0000,9,   199.84,2,   200.17,2,  100.010,  -0.0004,2,    0.000,2,  -999.00,9,    0.000,2,   103.37,2,     0.15,    31.85,2,     0.04,     0.01,2,     0.01,     2.20,2,     0.01,    0.336,2,    0.165,2,    0.022,2,    0.210,2,   2258.4,2,   2353.7,6,   7.6009,       25,2, -999.000,1, -999.000,   -999.0,1,   -999.0, -999.000,9, -999.000, -999.000,9, -999.000
  49NZ20121128,   S04,    50,  1,     21, X12J21,2,20121212,0255,-63.5655, 159.7290, 2640,    872.2,2,   0.9476,2,   0.94761,2,  34.7132,2,  34.7130,2,-999.0000,9,   201.66,2,   202.04,2,  100.012,  -0.0005,2,    0.000,2,  -999.00,9,    0.000,2,   105.47,2,     0.15,    31.88,2,     0.04,     0.02,2,     0.01,     2.20,2,     0.01,    0.338,2,    0.160,2,    0.022,2,    0.000,2,   2259.1,2,   2355.4,2,   7.6026,       25,6, -999.000,1, -999.000,   -999.0,1,   -999.0, -999.000,9, -999.000, -999.000,9, -999.000
  49NZ20121128,   S04,    50,  1,     20, X12J20,2,20121212,0255,-63.5655, 159.7290, 2640,    959.9,2,   0.8913,2,   0.89106,2,  34.7113,2,  34.7112,2,-999.0000,9,   201.29,2,   201.62,2,   99.975,   0.0010,2,   -0.000,2,  -999.00,9,    0.000,2,   108.52,2,     0.16,    32.09,2,     0.04,     0.01,2,     0.01,     2.21,2,     0.01,    0.290,2,    0.139,2,    0.017,2,    0.160,2,   2261.1,2,   2355.3,2,   7.5997,       25,2, -999.000,1, -999.000,   -999.0,1,   -999.0, -999.000,9, -999.000, -999.000,9, -999.000
  49NZ20121128,   S04,    50,  1,     19, X12J19,2,20121212,0255,-63.5655, 159.7290, 2640,   1172.0,2,   0.7521,2,   0.75234,2,  34.7061,2,  34.7059,2,-999.0000,9,   203.66,2,   204.10,2,  100.016,  -0.0006,2,   -0.000,2,  -999.00,9,    0.000,2,   112.93,2,     0.16,    32.25,2,     0.05,     0.01,2,     0.01,     2.23,2,     0.01,    0.287,6,    0.139,6,    0.015,6,    0.195,6,   2261.4,2,   2356.7,2,   7.6012,       25,2, -999.000,1, -999.000,   -999.0,1,   -999.0, -999.000,9, -999.000, -999.000,9, -999.000
  49NZ20121128,   S04,    50,  1,     18, X12J18,2,20121212,0255,-63.5655, 159.7290, 2640,   1422.2,2,   0.5745,2,   0.57463,2,  34.6982,2,  34.6977,2,-999.0000,9,   207.58,2,   208.00,2,   99.993,   0.0003,2,   -0.000,2,  -999.00,9,    0.000,2,   116.41,2,     0.16,    32.37,2,     0.05,     0.01,2,     0.01,     2.24,2,     0.01,    0.364,2,    0.174,2,    0.021,2,    0.080,2,   2261.4,2,   2357.3,2,   7.5995,       25,2, -999.000,1, -999.000,   -999.0,1,   -999.0, -999.000,9, -999.000, -999.000,9, -999.000
  49NZ20121128,   S04,    50,  1,     17, X12J17,2,20121212,0255,-63.5655, 159.7290, 2640,   1673.1,2,   0.4204,2,   0.42059,2,  34.6928,2,  34.6927,2,-999.0000,9,   211.17,2,   211.74,2,  100.010,  -0.0004,2,   -0.000,2,  -999.00,9,    0.000,2,   118.12,2,     0.16,    32.43,2,     0.05,     0.01,2,     0.01,     2.25,2,     0.01,    0.451,2,    0.226,2,    0.026,2,    0.000,2,   2262.2,2,   2357.4,2,   7.5991,       25,6, -999.000,1, -999.000,   -999.0,1,   -999.0, -999.000,9, -999.000, -999.000,9, -999.000
  49NZ20121128,   S04,    50,  1,     16, X12J16,2,20121212,0255,-63.5655, 159.7290, 2640,   1921.2,2,   0.2774,2,   0.27751,2,  34.6867,2,  34.6868,2,-999.0000,9,   215.52,2,   216.05,2,   99.977,   0.0009,2,   -0.000,2,  -999.00,9,    0.000,2,   118.62,2,     0.17,    32.48,2,     0.05,     0.01,2,     0.01,     2.25,2,     0.01,    0.644,2,    0.335,2,    0.043,2,    0.260,2,   2261.5,2,   2355.7,2,   7.5984,       25,2, -999.000,1, -999.000,   -999.0,1,   -999.0, -999.000,9, -999.000, -999.000,9, -999.000
  49NZ20121128,   S04,    50,  1,     15, X12J15,2,20121212,0255,-63.5655, 159.7290, 2640,   2174.1,2,   0.1356,2,   0.13579,2,  34.6791,2,  34.6793,2,-999.0000,9,   220.66,2,   221.39,2,   99.964,   0.0014,2,   -0.000,2,  -999.00,9,    0.000,2,   118.65,2,     0.17,    32.41,2,     0.05,     0.01,2,     0.01,     2.25,2,     0.01,    0.856,2,    0.471,2,    0.064,2,    0.310,2,   2260.0,2,   2354.8,2,   7.5983,       25,2, -999.000,1, -999.000,   -999.0,1,   -999.0, -999.000,9, -999.000, -999.000,9, -999.000
  49NZ20121128,   S04,    50,  1,     14, X12J14,2,20121212,0255,-63.5655, 159.7290, 2640,   2421.8,2,   0.0628,2,   0.06280,2,  34.6754,2,  34.6756,2,-999.0000,9,   223.34,2,   223.98,2,   99.920,   0.0032,2,   -0.000,2,  -999.00,9,    0.000,2,   119.06,2,     0.17,    32.38,2,     0.05,     0.01,2,     0.01,     2.25,2,     0.01,    1.082,2,    0.582,2,    0.083,2,    0.460,2,   2259.7,6,   2354.5,2,   7.5976,       25,2, -999.000,1, -999.000,   -999.0,1,   -999.0, -999.000,9, -999.000, -999.000,9, -999.000
  49NZ20121128,   S04,    50,  1,      1, X12J01,2,20121212,0255,-63.5655, 159.7290, 2640,   2661.9,2,   0.0635,2,   0.06349,2,  34.6745,2,  34.6747,2,-999.0000,9,   223.98,2,   224.72,2,   99.862,   0.0055,2,   -0.000,2,  -999.00,9,    0.000,2,   118.87,2,     0.17,    32.36,2,     0.05,     0.01,2,     0.01,     2.25,2,     0.01,    1.109,2,    0.614,2,    0.086,2,    0.410,2,   2259.2,2,   2354.7,2,   7.5976,       25,2, -999.000,1, -999.000,   -999.0,1,   -999.0, -999.000,9, -999.000, -999.000,9, -999.000