BOTTLE,20220819CCHSIOAMB
EXPOCODE,SECT_ID,STNNBR,CASTNO,SAMPNO,BTLNBR,BTLNBR_FLAG_W,DATE,TIME,LATITUDE,LONGITUDE,DEPTH,CTDPRS,CTDPRS_FLAG_W,CTDTMP,CTDTMP_FLAG_W,SBE35,SBE35_FLAG_W,CTDSAL,CTDSAL_FLAG_W,SALNTY,SALNTY_FLAG_W,DNSSAL,DNSSAL_FLAG_W,CTDOXY,CTDOXY_FLAG_W,OXYGEN,OXYGEN_FLAG_W,CTDXMISS,CTDXMISSCP,CTDXMISS_FLAG_W,CTDFLUOR,CTDFLUOR_FLAG_W,CHLORA,CHLORA_FLAG_W,PAR,PAR_FLAG_W,SILCAT,SILCAT_FLAG_W,SILUNC,NITRAT,NITRAT_FLAG_W,NRAUNC,NITRIT,NITRIT_FLAG_W,NRIUNC,PHSPHT,PHSPHT_FLAG_W,PHPUNC,CFC-11,CFC-11_FLAG_W,CFC-12,CFC-12_FLAG_W,CFC113,CFC113_FLAG_W,SF6,SF6_FLAG_W,TCARBN,TCARBN_FLAG_W,ALKALI,ALKALI_FLAG_W,PH_TOT,PH_TMP,PH_TOT_FLAG_W,DELC13,DELC13_FLAG_W,C13ERR,DELC14,DELC14_FLAG_W,C14ERR,CS-134,CS-134_FLAG_W,CS134ER,CS-137,CS-137_FLAG_W,CS137ER
,,,,,,,,UTC,DEG,DEG,METERS,DBAR,,ITS-90,,ITS-90,,PSS-78,,PSS-78,,G/KG,,UMOL/KG,,UMOL/KG,,%TRANS,/METER,,MG/M^3,,MG/CUM,,UE/SQM/S,,UMOL/KG,,UMOL/KG,UMOL/KG,,UMOL/KG,UMOL/KG,,UMOL/KG,UMOL/KG,,UMOL/KG,PMOL/KG,,PMOL/KG,,PMOL/KG,,FMOL/KG,,UMOL/KG,,UMOL/KG,,,DEG C,,/MILLE,,/MILLE,/MILLE,,/MILLE,MBQ/KG,,MBQ/KG,MBQ/KG,,MBQ/KG
  49NZ20121128,  S04I,    88,  1,     36, X12J36,2,20121225,2039,-61.6407, 107.4457, 4285,      5.4,2,   2.0173,2,   2.01269,2,  33.7935,2,  33.7974,2,-999.0000,9,   353.90,2,   354.47,2,   89.846,   0.4283,2,    0.390,2,  -999.00,9,   68.640,2,    23.80,2,     0.08,    22.72,2,     0.03,     0.29,2,     0.01,     1.38,2,     0.01,    5.939,2,    3.290,2,    0.689,2,    2.953,2,   -999.0,9,   -999.0,9,-999.0000,     -999,9, -999.000,9, -999.000,   -999.0,9,   -999.0, -999.000,9, -999.000, -999.000,9, -999.000
  49NZ20121128,  S04I,    88,  1,     35, X12J35,2,20121225,2039,-61.6407, 107.4457, 4285,     25.4,2,   0.9858,2,   0.98531,2,  33.8855,2,  33.8855,2,-999.0000,9,   365.80,2,   364.18,2,   87.229,   0.5465,2,    1.420,2,  -999.00,9,   10.266,2,    22.12,2,     0.08,    22.90,2,     0.03,     0.22,2,     0.01,     1.44,2,     0.01,    6.065,2,    3.327,2,    0.693,2,    2.988,2,   -999.0,9,   -999.0,9,-999.0000,     -999,9, -999.000,9, -999.000,   -999.0,9,   -999.0, -999.000,9, -999.000, -999.000,9, -999.000
  49NZ20121128,  S04I,    88,  1,     34, X12J34,2,20121225,2039,-61.6407, 107.4457, 4285,     50.7,2,  -1.0303,2,  -1.02984,2,  33.9396,2,  33.9475,2,-999.0000,9,   346.26,2,   343.56,2,   94.978,   0.2061,2,    1.110,2,  -999.00,9,    0.921,2,    42.74,2,     0.10,    27.84,2,     0.04,     0.17,2,     0.01,     1.98,2,     0.01,    5.661,6,    3.054,6,    0.664,6,    2.763,6,   -999.0,9,   -999.0,9,-999.0000,     -999,9, -999.000,9, -999.000,   -999.0,9,   -999.0, -999.000,9, -999.000, -999.000,9, -999.000
  49NZ20121128,  S04I,    88,  1,     33, X12J33,2,20121225,2039,-61.6407, 107.4457, 4285,     75.3,2,  -1.3355,2,  -1.33639,2,  34.0260,2,  34.0391,2,-999.0000,9,   326.62,2,   322.45,2,   98.130,   0.0755,2,    0.360,2,  -999.00,9,    0.110,2,    47.36,2,     0.10,    29.55,2,     0.04,     0.17,2,     0.01,     2.07,2,     0.01,    5.313,2,    2.867,2,    0.630,2,    2.565,2,   -999.0,9,   -999.0,9,-999.0000,     -999,9, -999.000,9, -999.000,   -999.0,9,   -999.0, -999.000,9, -999.000, -999.000,9, -999.000
  49NZ20121128,  S04I,    88,  1,     32, X12J32,2,20121225,2039,-61.6407, 107.4457, 4285,     99.7,2,  -0.8317,2,  -0.74579,2,  34.1732,2,  34.1790,2,-999.0000,9,   287.96,2,   284.46,2,   99.058,   0.0379,2,    0.250,2,  -999.00,9,    0.002,2,    54.97,2,     0.11,    31.28,2,     0.04,     0.13,2,     0.01,     2.17,2,     0.01,    4.377,2,    2.349,2,    0.510,2,    2.009,2,   -999.0,9,   -999.0,9,-999.0000,     -999,9, -999.000,9, -999.000,   -999.0,9,   -999.0, -999.000,9, -999.000, -999.000,9, -999.000
  49NZ20121128,  S04I,    88,  1,     31, X12J31,2,20121225,2039,-61.6407, 107.4457, 4285,    125.2,2,   0.2353,2,   0.23537,2,  34.3399,2,  34.3469,2,-999.0000,9,   241.15,2,   235.18,2,   99.423,   0.0231,2,    0.140,2,  -999.00,9,    0.000,2,    63.93,2,     0.12,    32.99,2,     0.05,     0.04,2,     0.01,     2.27,2,     0.01,    2.947,2,    1.580,2,    0.319,2,    1.188,2,   -999.0,9,   -999.0,9,-999.0000,     -999,9, -999.000,9, -999.000,   -999.0,9,   -999.0, -999.000,9, -999.000, -999.000,9, -999.000
  49NZ20121128,  S04I,    88,  1,     30, X12J30,2,20121225,2039,-61.6407, 107.4457, 4285,    149.8,2,   1.1194,2,   1.11783,2,  34.4664,2,  34.4683,2,-999.0000,9,   206.77,2,   205.92,2,   99.624,   0.0151,2,    0.070,2,  -999.00,9,    0.000,2,    70.76,2,     0.12,    33.83,2,     0.05,     0.02,2,     0.01,     2.33,2,     0.01,    1.952,2,    1.011,2,    0.180,2,    0.803,2,   -999.0,9,   -999.0,9,-999.0000,     -999,9, -999.000,9, -999.000,   -999.0,9,   -999.0, -999.000,9, -999.000, -999.000,9, -999.000
  49NZ20121128,  S04I,    88,  1,     29, X12J29,2,20121225,2039,-61.6407, 107.4457, 4285,    200.7,2,   1.6279,2,   1.62675,2,  34.5747,2,  34.5745,2,-999.0000,9,   187.50,2,   187.20,2,   99.639,   0.0145,2,    0.040,2,  -999.00,9,    0.000,2,    76.30,2,     0.13,    33.83,2,     0.05,     0.01,2,     0.01,     2.33,2,     0.01,    1.162,2,    0.609,2,    0.094,2,    0.466,2,   -999.0,9,   -999.0,9,-999.0000,     -999,9, -999.000,9, -999.000,   -999.0,9,   -999.0, -999.000,9, -999.000, -999.000,9, -999.000
  49NZ20121128,  S04I,    88,  1,     28, X12J28,2,20121225,2039,-61.6407, 107.4457, 4285,    250.7,2,   1.7225,2,   1.72164,2,  34.6230,2,  34.6231,2,-999.0000,9,   184.59,2,   184.19,2,   99.719,   0.0113,2,    0.010,2,  -999.00,9,    0.000,2,    78.60,2,     0.13,    33.36,2,     0.05,     0.01,2,     0.01,     2.29,2,     0.01,    0.886,2,    0.473,2,    0.069,2,    0.293,2,   -999.0,9,   -999.0,9,-999.0000,     -999,9, -999.000,9, -999.000,   -999.0,9,   -999.0, -999.000,9, -999.000, -999.000,9, -999.000
  49NZ20121128,  S04I,    88,  1,     27, X12J27,2,20121225,2039,-61.6407, 107.4457, 4285,    332.3,2,   1.7545,2,   1.75456,2,  34.6640,2,  34.6640,2,-999.0000,9,   184.85,2,   184.44,2,   99.818,   0.0073,2,    0.010,2,  -999.00,9,    0.000,2,    80.80,2,     0.13,    32.81,2,     0.05,     0.01,2,     0.01,     2.25,2,     0.01,    0.712,2,    0.374,2,    0.051,2,    0.235,2,   -999.0,9,   -999.0,9,-999.0000,     -999,9, -999.000,9, -999.000,   -999.0,9,   -999.0, -999.000,9, -999.000, -999.000,9, -999.000
  49NZ20121128,  S04I,    88,  1,     26, X12J26,2,20121225,2039,-61.6407, 107.4457, 4285,    431.6,2,   1.8037,2,   1.80348,2,  34.7009,2,  34.7026,2,-999.0000,9,   186.30,2,   185.99,2,   99.865,   0.0054,2,    0.010,2,  -999.00,9,    0.000,2,    82.69,2,     0.13,    32.07,2,     0.04,     0.01,2,     0.01,     2.20,2,     0.01,    0.475,2,    0.245,2,    0.032,2,    0.176,2,   -999.0,9,   -999.0,9,-999.0000,     -999,9, -999.000,9, -999.000,   -999.0,9,   -999.0, -999.000,9, -999.000, -999.000,9, -999.000
  49NZ20121128,  S04I,    88,  1,     25, X12J25,2,20121225,2039,-61.6407, 107.4457, 4285,    530.3,2,   1.7809,2,   1.78047,2,  34.7210,2,  34.7205,2,-999.0000,9,   189.20,2,   189.02,2,   99.873,   0.0051,2,    0.010,2,  -999.00,9,    0.000,2,    84.33,2,     0.13,    31.61,2,     0.04,     0.01,2,     0.01,     2.17,2,     0.01,    0.383,2,    0.194,2,    0.025,2,    0.000,2,   -999.0,9,   -999.0,9,-999.0000,     -999,9, -999.000,9, -999.000,   -999.0,9,   -999.0, -999.000,9, -999.000, -999.000,9, -999.000
  49NZ20121128,  S04I,    88,  1,     24, X12J24,2,20121225,2039,-61.6407, 107.4457, 4285,    630.0,2,   1.7243,2,   1.72408,2,  34.7302,2,  34.7298,2,-999.0000,9,   191.98,2,   191.91,2,   99.865,   0.0054,2,    0.010,2,  -999.00,9,    0.000,2,    85.97,2,     0.14,    31.30,2,     0.04,     0.01,2,     0.01,     2.15,2,     0.01,    0.338,6,    0.166,6,    0.021,6,    0.120,6,   -999.0,9,   -999.0,9,-999.0000,     -999,9, -999.000,9, -999.000,   -999.0,9,   -999.0, -999.000,9, -999.000, -999.000,9, -999.000
  49NZ20121128,  S04I,    88,  1,     23, X12J23,2,20121225,2039,-61.6407, 107.4457, 4285,    730.5,2,   1.6457,2,   1.64575,2,  34.7346,2,  34.7345,2,-999.0000,9,   194.23,2,   194.23,2,   99.907,   0.0037,2,    0.010,2,  -999.00,9,    0.000,2,    87.95,2,     0.14,    31.16,2,     0.04,     0.01,2,     0.01,     2.14,2,     0.01,    0.311,2,    0.153,2,    0.019,2,    0.095,2,   -999.0,9,   -999.0,9,-999.0000,     -999,9, -999.000,9, -999.000,   -999.0,9,   -999.0, -999.000,9, -999.000, -999.000,9, -999.000
  49NZ20121128,  S04I,    88,  1,     22, X12J22,2,20121225,2039,-61.6407, 107.4457, 4285,    831.3,2,   1.5749,2,   1.57488,2,  34.7369,2,  34.7368,2,-999.0000,9,   196.26,2,   196.11,2,   99.903,   0.0039,2,    0.000,2,  -999.00,9,    0.000,2,    89.97,2,     0.14,    31.06,2,     0.04,     0.00,2,     0.01,     2.14,2,     0.01,    0.294,2,    0.141,2,    0.014,2,    0.142,2,   -999.0,9,   -999.0,9,-999.0000,     -999,9, -999.000,9, -999.000,   -999.0,9,   -999.0, -999.000,9, -999.000, -999.000,9, -999.000
  49NZ20121128,  S04I,    88,  1,     21, X12J21,2,20121225,2039,-61.6407, 107.4457, 4285,    929.9,2,   1.4736,2,   1.47348,2,  34.7368,2,  34.7370,2,-999.0000,9,   198.25,2,   198.26,2,   99.924,   0.0030,2,    0.000,2,  -999.00,9,    0.000,2,    92.70,2,     0.14,    31.07,2,     0.04,     0.01,2,     0.01,     2.14,2,     0.01,    0.275,2,    0.129,2,    0.013,2,    0.000,2,   -999.0,9,   -999.0,9,-999.0000,     -999,9, -999.000,9, -999.000,   -999.0,9,   -999.0, -999.000,9, -999.000, -999.000,9, -999.000
  49NZ20121128,  S04I,    88,  1,     20, X12J20,2,20121225,2039,-61.6407, 107.4457, 4285,   1081.1,2,   1.3371,2,   1.33714,2,  34.7327,2,  34.7324,2,-999.0000,9,   200.24,2,   200.12,2,   99.947,   0.0021,2,    0.000,2,  -999.00,9,    0.000,2,    96.25,2,     0.15,    31.21,2,     0.04,     0.01,2,     0.01,     2.15,2,     0.01,    0.281,2,    0.131,2,    0.012,2,    0.115,2,   -999.0,9,   -999.0,9,-999.0000,     -999,9, -999.000,9, -999.000,   -999.0,9,   -999.0, -999.000,9, -999.000, -999.000,9, -999.000
  49NZ20121128,  S04I,    88,  1,     19, X12J19,2,20121225,2039,-61.6407, 107.4457, 4285,   1331.8,2,   1.1232,2,   1.12311,2,  34.7240,2,  34.7242,2,-999.0000,9,   202.96,2,   202.82,2,   99.951,   0.0020,2,   -0.000,2,  -999.00,9,    0.000,2,   102.57,2,     0.15,    31.55,2,     0.04,     0.00,2,     0.01,     2.17,2,     0.01,    0.272,6,    0.132,6,    0.011,6,    0.101,6,   -999.0,9,   -999.0,9,-999.0000,     -999,9, -999.000,9, -999.000,   -999.0,9,   -999.0, -999.000,9, -999.000, -999.000,9, -999.000
  49NZ20121128,  S04I,    88,  1,     18, X12J18,2,20121225,2039,-61.6407, 107.4457, 4285,   1581.9,2,   0.9137,2,   0.91356,2,  34.7133,2,  34.7132,2,-999.0000,9,   205.44,2,   205.32,2,   99.979,   0.0008,2,   -0.000,2,  -999.00,9,    0.000,2,   108.17,2,     0.16,    31.91,2,     0.04,     0.00,2,     0.01,     2.20,2,     0.01,    0.288,2,    0.136,2,    0.011,2,    0.088,2,   -999.0,9,   -999.0,9,-999.0000,     -999,9, -999.000,9, -999.000,   -999.0,9,   -999.0, -999.000,9, -999.000, -999.000,9, -999.000
  49NZ20121128,  S04I,    88,  1,     17, X12J17,2,20121225,2039,-61.6407, 107.4457, 4285,   1830.5,2,   0.7452,2,   0.74509,2,  34.7042,2,  34.7042,2,-999.0000,9,   207.83,2,   207.72,2,   99.970,   0.0012,2,   -0.000,2,  -999.00,9,    0.000,2,   112.88,2,     0.16,    32.22,2,     0.05,     0.01,2,     0.01,     2.23,2,     0.01,    0.311,2,    0.148,2,    0.013,2,    0.038,2,   -999.0,9,   -999.0,9,-999.0000,     -999,9, -999.000,9, -999.000,   -999.0,9,   -999.0, -999.000,9, -999.000, -999.000,9, -999.000
  49NZ20121128,  S04I,    88,  1,     16, X12J16,2,20121225,2039,-61.6407, 107.4457, 4285,   2079.9,2,   0.5647,2,   0.56446,2,  34.6948,2,  34.6950,2,-999.0000,9,   211.04,2,   211.06,2,   99.985,   0.0006,2,   -0.000,2,  -999.00,9,    0.000,2,   117.27,2,     0.16,    32.45,2,     0.05,     0.00,2,     0.01,     2.24,2,     0.01,    0.360,2,    0.177,2,    0.015,2,    0.103,2,   -999.0,9,   -999.0,9,-999.0000,     -999,9, -999.000,9, -999.000,   -999.0,9,   -999.0, -999.000,9, -999.000, -999.000,9, -999.000
  49NZ20121128,  S04I,    88,  1,     15, X12J15,2,20121225,2039,-61.6407, 107.4457, 4285,   2330.1,2,   0.4086,2,   0.40874,2,  34.6873,2,  34.6874,2,-999.0000,9,   214.77,2,   214.88,2,   99.953,   0.0019,2,   -0.000,2,  -999.00,9,    0.000,2,   120.48,2,     0.17,    32.60,2,     0.05,     0.00,2,     0.01,     2.25,2,     0.01,    0.455,2,    0.225,2,    0.019,2,    0.083,2,   -999.0,9,   -999.0,9,-999.0000,     -999,9, -999.000,9, -999.000,   -999.0,9,   -999.0, -999.000,9, -999.000, -999.000,9, -999.000
  49NZ20121128,  S04I,    88,  1,     14, X12J14,2,20121225,2039,-61.6407, 107.4457, 4285,   2580.5,2,   0.2908,2,   0.29081,2,  34.6820,2,  34.6820,2,-999.0000,9,   218.59,2,   218.37,2,   99.947,   0.0021,2,   -0.010,2,  -999.00,9,    0.000,2,   122.15,2,     0.17,    32.61,2,     0.05,     0.01,2,     0.01,     2.25,2,     0.01,    0.587,2,    0.295,2,    0.028,2,    0.120,2,   -999.0,9,   -999.0,9,-999.0000,     -999,9, -999.000,9, -999.000,   -999.0,9,   -999.0, -999.000,9, -999.000, -999.000,9, -999.000
  49NZ20121128,  S04I,    88,  1,     13, X12J13,2,20121225,2039,-61.6407, 107.4457, 4285,   2830.7,2,   0.1974,2,   0.19744,2,  34.6779,2,  34.6776,2,-999.0000,9,   221.84,2,   221.67,2,   99.920,   0.0032,2,   -0.000,2,  -999.00,9,    0.000,2,   123.52,2,     0.17,    32.63,2,     0.05,     0.00,2,     0.01,     2.25,2,     0.01,    0.722,2,    0.367,2,    0.037,2,    0.174,2,   -999.0,9,   -999.0,9,-999.0000,     -999,9, -999.000,9, -999.000,   -999.0,9,   -999.0, -999.000,9, -999.000, -999.000,9, -999.000
  49NZ20121128,  S04I,    88,  1,     12, X12J12,2,20121225,2039,-61.6407, 107.4457, 4285,   3080.3,2,   0.1240,2,   0.12397,2,  34.6747,2,  34.6742,2,-999.0000,9,   224.76,2,   224.65,2,   99.958,   0.0017,2,   -0.010,2,  -999.00,9,    0.000,2,   124.76,2,     0.17,    32.63,2,     0.05,     0.01,2,     0.01,     2.25,2,     0.01,    0.857,2,    0.426,2,    0.045,2,    0.274,2,   -999.0,9,   -999.0,9,-999.0000,     -999,9, -999.000,9, -999.000,   -999.0,9,   -999.0, -999.000,9, -999.000, -999.000,9, -999.000
  49NZ20121128,  S04I,    88,  1,     11, X12J11,2,20121225,2039,-61.6407, 107.4457, 4285,   3329.5,2,   0.0551,2,   0.05507,2,  34.6705,2,  34.6704,2,-999.0000,9,   227.68,2,   227.58,2,   99.937,   0.0025,2,   -0.000,2,  -999.00,9,    0.000,2,   124.74,2,     0.17,    32.59,2,     0.05,     0.01,2,     0.01,     2.25,2,     0.01,    1.028,2,    0.527,2,    0.057,2,    0.268,2,   -999.0,9,   -999.0,9,-999.0000,     -999,9, -999.000,9, -999.000,   -999.0,9,   -999.0, -999.000,9, -999.000, -999.000,9, -999.000
  49NZ20121128,  S04I,    88,  1,     10, X12J10,2,20121225,2039,-61.6407, 107.4457, 4285,   3580.1,2,  -0.0052,2,  -0.00530,2,  34.6662,2,  34.6664,2,-999.0000,9,   230.50,2,   230.53,2,   99.899,   0.0040,2,   -0.010,2,  -999.00,9,    0.000,2,   124.55,2,     0.17,    32.52,2,     0.05,     0.00,2,     0.01,     2.25,2,     0.01,    1.272,2,    0.634,2,    0.075,2,    0.346,2,   -999.0,9,   -999.0,9,-999.0000,     -999,9, -999.000,9, -999.000,   -999.0,9,   -999.0, -999.000,9, -999.000, -999.000,9, -999.000
  49NZ20121128,  S04I,    88,  1,      9, X12J09,2,20121225,2039,-61.6407, 107.4457, 4285,   3830.4,2,  -0.0423,2,  -0.04261,2,  34.6629,2,  34.6627,2,-999.0000,9,   232.75,2,   232.70,2,   99.873,   0.0051,2,   -0.010,2,  -999.00,9,    0.000,2,   124.84,2,     0.17,    32.48,2,     0.05,     0.01,2,     0.01,     2.24,2,     0.01,    1.463,2,    0.728,2,    0.100,2,    0.392,2,   -999.0,9,   -999.0,9,-999.0000,     -999,9, -999.000,9, -999.000,   -999.0,9,   -999.0, -999.000,9, -999.000, -999.000,9, -999.000
  49NZ20121128,  S04I,    88,  1,      8, X12J08,2,20121225,2039,-61.6407, 107.4457, 4285,   4080.8,2,  -0.0814,2,  -0.08151,2,  34.6581,2,  34.6583,2,-999.0000,9,   235.11,2,   235.19,2,   99.782,   0.0087,2,   -0.010,2,  -999.00,9,    0.000,2,   123.29,2,     0.17,    32.40,2,     0.05,     0.01,2,     0.01,     2.24,2,     0.01,    1.715,6,    0.854,6,    0.121,6,    0.465,6,   -999.0,9,   -999.0,9,-999.0000,     -999,9, -999.000,9, -999.000,   -999.0,9,   -999.0, -999.000,9, -999.000, -999.000,9, -999.000
  49NZ20121128,  S04I,    88,  1,      1, X12J01,2,20121225,2039,-61.6407, 107.4457, 4285,   4352.4,2,  -0.1556,2,  -0.15592,2,  34.6489,2,  34.6490,2,-999.0000,9,   238.54,2,   238.51,2,   99.556,   0.0178,2,   -0.010,2,  -999.00,9,    0.000,2,   125.17,2,     0.17,    32.38,2,     0.05,     0.01,2,     0.01,     2.24,2,     0.01,    2.078,2,    1.067,2,    0.168,2,    0.701,2,   -999.0,9,   -999.0,9,-999.0000,     -999,9, -999.000,9, -999.000,   -999.0,9,   -999.0, -999.000,9, -999.000, -999.000,9, -999.000