BOTTLE,20220819CCHSIOAMB
EXPOCODE,SECT_ID,STNNBR,CASTNO,SAMPNO,BTLNBR,BTLNBR_FLAG_W,DATE,TIME,LATITUDE,LONGITUDE,DEPTH,CTDPRS,CTDPRS_FLAG_W,CTDTMP,CTDTMP_FLAG_W,SBE35,SBE35_FLAG_W,CTDSAL,CTDSAL_FLAG_W,SALNTY,SALNTY_FLAG_W,DNSSAL,DNSSAL_FLAG_W,CTDOXY,CTDOXY_FLAG_W,OXYGEN,OXYGEN_FLAG_W,CTDXMISS,CTDXMISSCP,CTDXMISS_FLAG_W,CTDFLUOR,CTDFLUOR_FLAG_W,CHLORA,CHLORA_FLAG_W,PAR,PAR_FLAG_W,SILCAT,SILCAT_FLAG_W,SILUNC,NITRAT,NITRAT_FLAG_W,NRAUNC,NITRIT,NITRIT_FLAG_W,NRIUNC,PHSPHT,PHSPHT_FLAG_W,PHPUNC,CFC-11,CFC-11_FLAG_W,CFC-12,CFC-12_FLAG_W,CFC113,CFC113_FLAG_W,SF6,SF6_FLAG_W,TCARBN,TCARBN_FLAG_W,ALKALI,ALKALI_FLAG_W,PH_TOT,PH_TMP,PH_TOT_FLAG_W,DELC13,DELC13_FLAG_W,C13ERR,DELC14,DELC14_FLAG_W,C14ERR,CS-134,CS-134_FLAG_W,CS134ER,CS-137,CS-137_FLAG_W,CS137ER
,,,,,,,,UTC,DEG,DEG,METERS,DBAR,,ITS-90,,ITS-90,,PSS-78,,PSS-78,,G/KG,,UMOL/KG,,UMOL/KG,,%TRANS,/METER,,MG/M^3,,MG/CUM,,UE/SQM/S,,UMOL/KG,,UMOL/KG,UMOL/KG,,UMOL/KG,UMOL/KG,,UMOL/KG,UMOL/KG,,UMOL/KG,PMOL/KG,,PMOL/KG,,PMOL/KG,,FMOL/KG,,UMOL/KG,,UMOL/KG,,,DEG C,,/MILLE,,/MILLE,/MILLE,,/MILLE,MBQ/KG,,MBQ/KG,MBQ/KG,,MBQ/KG
  49NZ20121128,   S04,    81,  1,     36, X12J36,2,20121223,1550,-61.8357, 118.0232, 4248,      4.7,2,   0.5389,2,   0.53949,2,  33.8567,2,  33.8568,2,  34.0222,2,   359.82,2,   360.77,2,   87.541,   0.5323,2,    1.700,2,  -999.00,9,    1.727,2,    23.66,2,     0.08,    23.12,2,     0.04,     0.25,2,     0.01,     1.50,2,     0.01,    5.910,2,    3.325,2,    0.567,2,    3.131,2,   2141.4,2,   2291.5,2,   7.7521,       25,6, -999.000,9, -999.000,   -999.0,9,   -999.0, -999.000,9, -999.000, -999.000,9, -999.000
  49NZ20121128,   S04,    81,  1,     35, X12J35,2,20121223,1550,-61.8357, 118.0232, 4248,     25.1,2,   0.5450,2,   0.54224,2,  33.8568,2,  33.8568,2,  34.0189,2,   359.60,2,   360.56,2,   87.543,   0.5322,2,    1.760,2,  -999.00,9,    0.000,2,    23.99,2,     0.08,    23.21,2,     0.04,     0.25,2,     0.01,     1.48,2,     0.01,    5.888,2,    3.289,2,    0.569,2,    2.764,2,   2142.3,2,   2293.7,2,   7.7497,       25,2, -999.000,9, -999.000,   -999.0,9,   -999.0, -999.000,9, -999.000, -999.000,9, -999.000
  49NZ20121128,   S04,    81,  1,     34, X12J34,2,20121223,1550,-61.8357, 118.0232, 4248,     49.8,2,  -0.9963,2,  -0.99246,2,  33.8957,2,  33.9005,2,  34.0644,2,   349.34,2,   348.75,2,   93.162,   0.2833,2,    1.000,2,  -999.00,9,    0.000,2,    38.20,2,     0.09,    27.15,2,     0.04,     0.19,2,     0.01,     1.96,2,     0.01,    5.835,6,    3.283,6,    0.559,6,    2.832,6,   2171.8,2,   2293.0,2,   7.6742,       25,2, -999.000,9, -999.000,   -999.0,9,   -999.0, -999.000,9, -999.000, -999.000,9, -999.000
  49NZ20121128,   S04,    81,  1,     33, X12J33,2,20121223,1550,-61.8357, 118.0232, 4248,     75.2,2,  -1.6976,2,  -1.71477,2,  33.9718,2,  33.9755,2,  34.1422,2,   329.98,2,   330.16,2,   98.650,   0.0544,2,    0.260,2,  -999.00,9,    0.000,2,    45.23,2,     0.10,    29.69,2,     0.04,     0.20,2,     0.01,     2.08,2,     0.01,    5.394,2,    3.060,2,    0.518,2,    2.585,2,   2188.8,6,   2294.7,2,   7.6360,       25,3, -999.000,9, -999.000,   -999.0,9,   -999.0, -999.000,9, -999.000, -999.000,9, -999.000
  49NZ20121128,   S04,    81,  1,     32, X12J32,2,20121223,1550,-61.8357, 118.0232, 4248,    100.1,2,  -1.3149,2,  -1.32713,2,  34.0483,2,  34.0495,2,  34.2167,2,   309.54,2,   307.86,2,   98.724,   0.0514,2,    0.240,2,  -999.00,9,    0.000,2,    48.01,2,     0.10,    30.73,2,     0.04,     0.16,2,     0.01,     2.13,2,     0.01,    4.895,2,    2.780,2,    0.469,2,    2.260,2,   2197.5,2,   2299.4,6,   7.6223,       25,2, -999.000,9, -999.000,   -999.0,9,   -999.0, -999.000,9, -999.000, -999.000,9, -999.000
  49NZ20121128,   S04,    81,  1,     31, X12J31,2,20121223,1550,-61.8357, 118.0232, 4248,    124.6,2,  -0.1342,2,  -0.14007,2,  34.2153,2,  34.2001,2,  34.3687,2,   263.97,2,   261.91,2,   99.125,   0.0352,2,    0.170,2,  -999.00,9,    0.000,2,    54.79,2,     0.11,    32.36,2,     0.05,     0.05,2,     0.01,     2.22,2,     0.01,    3.792,2,    2.139,2,    0.353,2,    1.560,2,   2216.4,2,   2307.7,2,   7.5932,       25,2, -999.000,9, -999.000,   -999.0,9,   -999.0, -999.000,9, -999.000, -999.000,9, -999.000
  49NZ20121128,   S04,    81,  1,     30, X12J30,2,20121223,1550,-61.8357, 118.0232, 4248,    150.2,2,   1.2490,2,   1.24338,2,  34.4111,2,  34.4125,2,  34.5800,2,   206.98,2,   207.67,2,   99.470,   0.0213,2,    0.090,2,  -999.00,9,    0.000,2,    65.88,2,     0.12,    34.25,2,     0.05,     0.02,2,     0.01,     2.35,2,     0.01,    2.061,2,    1.151,2,    0.185,2,    0.846,2,   2241.5,2,   2321.2,2,   7.5570,       25,6, -999.000,9, -999.000,   -999.0,9,   -999.0, -999.000,9, -999.000, -999.000,9, -999.000
  49NZ20121128,   S04,    81,  1,     29, X12J29,2,20121223,1550,-61.8357, 118.0232, 4248,    200.1,2,   1.8371,2,   1.83490,2,  34.5453,2,  34.5416,2,  34.7105,2,   181.02,2,   181.48,2,   99.554,   0.0179,2,    0.050,2,  -999.00,9,    0.000,2,    73.43,2,     0.12,    34.51,2,     0.05,     0.02,2,     0.01,     2.37,2,     0.01,    1.154,2,    0.628,2,    0.098,2,    0.253,2,   2255.0,2,   2330.1,2,   7.5482,       25,2, -999.000,9, -999.000,   -999.0,9,   -999.0, -999.000,9, -999.000, -999.000,9, -999.000
  49NZ20121128,   S04,    81,  1,     28, X12J28,2,20121223,1550,-61.8357, 118.0232, 4248,    250.4,2,   1.9338,2,   1.93339,2,  34.5942,2,  34.5952,2,  34.7648,2,   177.45,2,   177.44,2,   99.698,   0.0121,2,    0.030,2,  -999.00,9,    0.000,2,    76.07,2,     0.13,    34.16,2,     0.05,     0.01,2,     0.01,     2.34,2,     0.01,    0.891,2,    0.457,2,    0.069,2,    0.180,2,   2256.1,2,   2334.5,2,   7.5541,       25,2, -999.000,9, -999.000,   -999.0,9,   -999.0, -999.000,9, -999.000, -999.000,9, -999.000
  49NZ20121128,   S04,    81,  1,     27, X12J27,2,20121223,1550,-61.8357, 118.0232, 4248,    302.3,2,   1.9698,2,   1.97087,2,  34.6344,2,  34.6341,2,  34.8028,2,   177.97,2,   177.84,2,   99.810,   0.0076,2,    0.020,2,  -999.00,9,    0.000,2,    77.40,2,     0.13,    33.51,2,     0.05,     0.01,2,     0.01,     2.30,2,     0.01,    0.734,2,    0.359,2,    0.053,2,    0.248,2,   2255.9,2,   2337.5,2,   7.5634,       25,2, -999.000,9, -999.000,   -999.0,9,   -999.0, -999.000,9, -999.000, -999.000,9, -999.000
  49NZ20121128,   S04,    81,  1,     26, X12J26,2,20121223,1550,-61.8357, 118.0232, 4248,    400.2,2,   1.9688,2,   1.96868,2,  34.6735,2,  34.6743,2,  34.8456,2,   180.06,2,   179.97,2,   99.833,   0.0067,2,    0.010,2,  -999.00,9,    0.000,2,    79.18,2,     0.13,    32.75,2,     0.05,     0.01,2,     0.01,     2.24,2,     0.01,    0.507,2,    0.269,2,    0.040,2,    0.000,2,   2254.5,2,   2341.0,2,   7.5750,       25,2, -999.000,9, -999.000,   -999.0,9,   -999.0, -999.000,9, -999.000, -999.000,9, -999.000
  49NZ20121128,   S04,    81,  1,     25, X12J25,2,20121223,1550,-61.8357, 118.0232, 4248,    502.1,2,   1.9637,2,   1.96372,2,  34.7016,2,  34.7018,2,  34.8713,2,   183.18,2,   183.42,2,   99.875,   0.0050,2,    0.010,2,  -999.00,9,    0.000,2,    80.38,2,     0.13,    32.06,2,     0.04,     0.01,2,     0.01,     2.19,2,     0.01,    0.382,2,    0.195,2,    0.029,2,    0.000,2,   2252.7,2,   2342.9,2,   7.5866,       25,2, -999.000,9, -999.000,   -999.0,9,   -999.0, -999.000,9, -999.000, -999.000,9, -999.000
  49NZ20121128,   S04,    81,  1,     24, X12J24,2,20121223,1550,-61.8357, 118.0232, 4248,    599.9,2,   1.9071,2,   1.90694,2,  34.7195,2,  34.7188,2,-999.0000,9,   186.61,2,   186.59,2,   99.888,   0.0045,2,    0.010,2,  -999.00,9,    0.000,2,    82.01,2,     0.13,    31.56,2,     0.04,     0.01,2,     0.01,     2.15,2,     0.01,    0.315,6,    0.161,6,    0.025,6,    0.000,6,   2250.0,3,   2345.9,2,   7.5948,       25,2, -999.000,9, -999.000,   -999.0,9,   -999.0, -999.000,9, -999.000, -999.000,9, -999.000
  49NZ20121128,   S04,    81,  1,     23, X12J23,2,20121223,1550,-61.8357, 118.0232, 4248,    700.2,2,   1.8424,2,   1.84221,2,  34.7304,2,  34.7303,2,-999.0000,9,   189.41,2,   189.58,2,   99.905,   0.0038,2,    0.010,2,  -999.00,9,    0.000,2,    83.75,2,     0.13,    31.24,2,     0.04,     0.00,2,     0.01,     2.13,2,     0.01,    0.277,2,    0.141,2,    0.021,2,    0.000,2,   2250.8,6,   2346.8,2,   7.6007,       25,2, -999.000,9, -999.000,   -999.0,9,   -999.0, -999.000,9, -999.000, -999.000,9, -999.000
  49NZ20121128,   S04,    81,  1,     22, X12J22,2,20121223,1550,-61.8357, 118.0232, 4248,    800.8,2,   1.7706,2,   1.77039,2,  34.7370,2,  34.7374,2,-999.0000,9,   192.20,2,   192.41,2,   99.930,   0.0028,2,    0.000,2,  -999.00,9,    0.000,2,    85.75,2,     0.14,    31.00,2,     0.04,     0.00,2,     0.01,     2.12,2,     0.01,    0.239,2,    0.122,2,    0.018,2,    0.000,2,   2249.2,2,   2348.9,6,   7.6066,       25,2, -999.000,9, -999.000,   -999.0,9,   -999.0, -999.000,9, -999.000, -999.000,9, -999.000
  49NZ20121128,   S04,    81,  1,     21, X12J21,2,20121223,1550,-61.8357, 118.0232, 4248,    901.0,2,   1.6838,2,   1.68344,2,  34.7395,2,  34.7399,2,-999.0000,9,   194.41,2,   194.58,2,   99.945,   0.0022,2,    0.010,2,  -999.00,9,    0.000,2,    87.78,2,     0.14,    30.91,2,     0.04,     0.00,2,     0.01,     2.12,2,     0.01,    0.224,2,    0.114,2,    0.016,2,    0.000,2,   2250.1,2,   2350.2,2,   7.6101,       25,6, -999.000,9, -999.000,   -999.0,9,   -999.0, -999.000,9, -999.000, -999.000,9, -999.000
  49NZ20121128,   S04,    81,  1,     20, X12J20,2,20121223,1550,-61.8357, 118.0232, 4248,    999.6,2,   1.5973,2,   1.59605,2,  34.7404,2,  34.7408,2,-999.0000,9,   196.42,2,   196.44,2,   99.945,   0.0022,2,    0.000,2,  -999.00,9,    0.000,2,    90.00,2,     0.14,    30.86,2,     0.04,     0.01,2,     0.01,     2.12,2,     0.01,    0.215,2,    0.107,2,    0.016,2,    0.000,2,   2250.5,2,   2350.2,2,   7.6117,       25,2, -999.000,9, -999.000,   -999.0,9,   -999.0, -999.000,9, -999.000, -999.000,9, -999.000
  49NZ20121128,   S04,    81,  1,     19, X12J19,2,20121223,1550,-61.8357, 118.0232, 4248,   1252.1,2,   1.3810,2,   1.38077,2,  34.7356,2,  34.7359,2,-999.0000,9,   199.91,2,   199.86,2,   99.968,   0.0013,2,    0.000,2,  -999.00,9,    0.000,2,    95.98,2,     0.14,    31.04,2,     0.04,     0.01,2,     0.01,     2.13,2,     0.01,    0.201,6,    0.102,6,    0.013,6,    0.000,6,   2252.9,2,   2353.9,2,   7.6137,       25,2, -999.000,9, -999.000,   -999.0,9,   -999.0, -999.000,9, -999.000, -999.000,9, -999.000
  49NZ20121128,   S04,    81,  1,     18, X12J18,2,20121223,1550,-61.8357, 118.0232, 4248,   1500.9,2,   1.1646,2,   1.16537,2,  34.7268,2,  34.7270,2,-999.0000,9,   202.70,2,   202.75,2,   99.964,   0.0014,2,    0.000,2,  -999.00,9,    0.000,2,   102.10,2,     0.15,    31.36,2,     0.04,     0.01,2,     0.01,     2.16,2,     0.01,    0.197,2,    0.098,2,    0.011,2,    0.000,2,   2254.4,2,   2356.2,2,   7.6124,       25,2, -999.000,9, -999.000,   -999.0,9,   -999.0, -999.000,9, -999.000, -999.000,9, -999.000
  49NZ20121128,   S04,    81,  1,     17, X12J17,2,20121223,1550,-61.8357, 118.0232, 4248,   1749.2,2,   0.9758,2,   0.97603,2,  34.7172,2,  34.7177,2,-999.0000,9,   205.00,2,   205.07,2,   99.964,   0.0014,2,   -0.000,2,  -999.00,9,    0.000,2,   107.64,2,     0.16,    31.72,2,     0.04,     0.00,2,     0.01,     2.18,2,     0.01,    0.215,2,    0.104,2,    0.013,2,    0.000,2,   2257.5,2,   2357.6,2,   7.6099,       25,2, -999.000,9, -999.000,   -999.0,9,   -999.0, -999.000,9, -999.000, -999.000,9, -999.000
  49NZ20121128,   S04,    81,  1,     16, X12J16,2,20121223,1550,-61.8357, 118.0232, 4248,   2000.4,2,   0.7914,2,   0.79126,2,  34.7078,2,  34.7079,2,-999.0000,9,   207.74,2,   207.74,2,   99.976,   0.0010,2,   -0.000,2,  -999.00,9,    0.000,2,   112.87,2,     0.16,    31.99,2,     0.04,     0.01,2,     0.01,     2.20,2,     0.01,    0.239,2,    0.120,2,    0.012,2,    0.000,2,   2258.5,2,   2357.1,2,   7.6070,       25,2, -999.000,9, -999.000,   -999.0,9,   -999.0, -999.000,9, -999.000, -999.000,9, -999.000
  49NZ20121128,   S04,    81,  1,     15, X12J15,2,20121223,1550,-61.8357, 118.0232, 4248,   2252.0,2,   0.5940,2,   0.59429,2,  34.6974,2,  34.6977,2,-999.0000,9,   211.19,2,   211.16,2,   99.976,   0.0010,2,   -0.000,2,  -999.00,9,    0.000,2,   117.69,2,     0.16,    32.28,2,     0.05,     0.01,2,     0.01,     2.22,2,     0.01,    0.312,2,    0.153,2,    0.017,2,    0.000,2,   2260.2,2,   2357.7,2,   7.6047,       25,2, -999.000,9, -999.000,   -999.0,9,   -999.0, -999.000,9, -999.000, -999.000,9, -999.000
  49NZ20121128,   S04,    81,  1,     14, X12J14,2,20121223,1550,-61.8357, 118.0232, 4248,   2500.2,2,   0.4432,2,   0.44313,2,  34.6902,2,  34.6901,2,-999.0000,9,   214.90,2,   214.89,2,   99.981,   0.0008,2,   -0.000,2,  -999.00,9,    0.000,2,   121.11,2,     0.17,    32.41,2,     0.05,     0.01,2,     0.01,     2.22,2,     0.01,    0.405,2,    0.198,2,    0.021,2,    0.000,2,   2260.3,6,   2358.0,2,   7.6028,       25,2, -999.000,9, -999.000,   -999.0,9,   -999.0, -999.000,9, -999.000, -999.000,9, -999.000
  49NZ20121128,   S04,    81,  1,     13, X12J13,2,20121223,1550,-61.8357, 118.0232, 4248,   2749.6,2,   0.3227,2,   0.32274,2,  34.6849,2,  34.6849,2,-999.0000,9,   218.17,2,   218.03,2,   99.968,   0.0013,2,   -0.000,2,  -999.00,9,    0.000,2,   123.87,2,     0.17,    32.49,2,     0.05,     0.01,2,     0.01,     2.23,2,     0.01,    0.520,2,    0.258,2,    0.028,2,    0.000,2,   2259.7,2,   2357.4,6,   7.6030,       25,2, -999.000,9, -999.000,   -999.0,9,   -999.0, -999.000,9, -999.000, -999.000,9, -999.000
  49NZ20121128,   S04,    81,  1,     12, X12J12,2,20121223,1550,-61.8357, 118.0232, 4248,   3000.4,2,   0.2375,2,   0.23753,2,  34.6806,2,  34.6808,2,-999.0000,9,   221.00,2,   220.86,2,   99.966,   0.0014,2,   -0.000,2,  -999.00,9,    0.000,2,   125.63,2,     0.17,    32.54,2,     0.05,     0.01,2,     0.01,     2.24,2,     0.01,    0.645,2,    0.313,2,    0.036,2,    0.085,2,   2260.5,2,   2357.1,2,   7.6030,       25,6, -999.000,9, -999.000,   -999.0,9,   -999.0, -999.000,9, -999.000, -999.000,9, -999.000
  49NZ20121128,   S04,    81,  1,     11, X12J11,2,20121223,1550,-61.8357, 118.0232, 4248,   3250.1,2,   0.1618,2,   0.16176,2,  34.6769,2,  34.6771,2,-999.0000,9,   223.71,2,   223.60,2,   99.955,   0.0018,2,   -0.000,2,  -999.00,9,    0.000,2,   126.64,2,     0.17,    32.56,2,     0.05,     0.01,2,     0.01,     2.24,2,     0.01,    0.800,2,    0.375,2,    0.042,2,    0.129,2,   2259.6,2,   2356.6,2,   7.6022,       25,2, -999.000,9, -999.000,   -999.0,9,   -999.0, -999.000,9, -999.000, -999.000,9, -999.000
  49NZ20121128,   S04,    81,  1,     10, X12J10,2,20121223,1550,-61.8357, 118.0232, 4248,   3501.4,2,   0.1001,2,   0.10008,2,  34.6733,2,  34.6737,2,-999.0000,9,   226.34,2,   226.27,2,   99.941,   0.0024,2,   -0.010,2,  -999.00,9,    0.000,2,   127.38,2,     0.17,    32.51,2,     0.05,     0.01,2,     0.01,     2.23,2,     0.01,    0.933,2,    0.456,2,    0.053,2,    0.106,2,   2259.0,2,   2354.1,3,   7.6032,       25,2, -999.000,9, -999.000,   -999.0,9,   -999.0, -999.000,9, -999.000, -999.000,9, -999.000
  49NZ20121128,   S04,    81,  1,      9, X12J09,2,20121223,1550,-61.8357, 118.0232, 4248,   3751.2,2,   0.0310,2,   0.03061,2,  34.6691,2,  34.6693,2,-999.0000,9,   229.28,2,   229.32,2,   99.915,   0.0034,2,   -0.000,2,  -999.00,9,    0.000,2,   128.27,2,     0.17,    32.42,2,     0.05,     0.01,2,     0.01,     2.24,2,     0.01,    1.134,2,    0.564,2,    0.072,2,    0.292,2,   2259.1,2,   2354.4,2,   7.6027,       25,2, -999.000,9, -999.000,   -999.0,9,   -999.0, -999.000,9, -999.000, -999.000,9, -999.000
  49NZ20121128,   S04,    81,  1,      8, X12J08,2,20121223,1550,-61.8357, 118.0232, 4248,   4000.2,2,  -0.0280,2,  -0.02777,2,  34.6641,2,  34.6644,2,-999.0000,9,   232.35,2,   232.31,2,   99.903,   0.0039,2,   -0.010,2,  -999.00,9,    0.000,2,   126.92,2,     0.17,    32.42,2,     0.05,     0.00,2,     0.01,     2.23,2,     0.01,    1.362,6,    0.706,6,    0.095,6,    0.217,6,   2259.3,2,   2352.8,2,   7.6026,       25,2, -999.000,9, -999.000,   -999.0,9,   -999.0, -999.000,9, -999.000, -999.000,9, -999.000
  49NZ20121128,   S04,    81,  1,      7, X12J07,2,20121223,1550,-61.8357, 118.0232, 4248,   4249.7,2,  -0.1475,2,  -0.14723,2,  34.6513,2,  34.6513,2,-999.0000,9,   237.82,2,   238.06,2,   99.734,   0.0107,2,   -0.000,2,  -999.00,9,    0.000,2,   126.24,2,     0.17,    32.27,2,     0.05,     0.01,2,     0.01,     2.22,2,     0.01,    1.968,2,    1.024,2,    0.155,2,    0.567,2,   2258.3,6,   2352.5,2,   7.5997,       25,2, -999.000,9, -999.000,   -999.0,9,   -999.0, -999.000,9, -999.000, -999.000,9, -999.000
  49NZ20121128,   S04,    81,  1,      1, X12J01,2,20121223,1550,-61.8357, 118.0232, 4248,   4314.8,2,  -0.1570,2,  -0.15711,2,  34.6497,2,  34.6504,2,-999.0000,9,   238.16,2,   238.30,2,   99.499,   0.0201,2,   -0.010,2,  -999.00,9,    0.000,2,   126.90,2,     0.17,    32.24,2,     0.05,     0.01,2,     0.01,     2.22,2,     0.01,    1.996,2,    1.051,2,    0.158,2,    0.515,2,   2258.4,2,   2353.6,2,   7.5997,       25,2, -999.000,9, -999.000,   -999.0,9,   -999.0, -999.000,9, -999.000, -999.000,9, -999.000