BOTTLE,20220819CCHSIOAMB
EXPOCODE,SECT_ID,STNNBR,CASTNO,SAMPNO,BTLNBR,BTLNBR_FLAG_W,DATE,TIME,LATITUDE,LONGITUDE,DEPTH,CTDPRS,CTDPRS_FLAG_W,CTDTMP,CTDTMP_FLAG_W,SBE35,SBE35_FLAG_W,CTDSAL,CTDSAL_FLAG_W,SALNTY,SALNTY_FLAG_W,DNSSAL,DNSSAL_FLAG_W,CTDOXY,CTDOXY_FLAG_W,OXYGEN,OXYGEN_FLAG_W,CTDXMISS,CTDXMISSCP,CTDXMISS_FLAG_W,CTDFLUOR,CTDFLUOR_FLAG_W,CHLORA,CHLORA_FLAG_W,PAR,PAR_FLAG_W,SILCAT,SILCAT_FLAG_W,SILUNC,NITRAT,NITRAT_FLAG_W,NRAUNC,NITRIT,NITRIT_FLAG_W,NRIUNC,PHSPHT,PHSPHT_FLAG_W,PHPUNC,CFC-11,CFC-11_FLAG_W,CFC-12,CFC-12_FLAG_W,CFC113,CFC113_FLAG_W,SF6,SF6_FLAG_W,TCARBN,TCARBN_FLAG_W,ALKALI,ALKALI_FLAG_W,PH_TOT,PH_TMP,PH_TOT_FLAG_W,DELC13,DELC13_FLAG_W,C13ERR,DELC14,DELC14_FLAG_W,C14ERR,CS-134,CS-134_FLAG_W,CS134ER,CS-137,CS-137_FLAG_W,CS137ER
,,,,,,,,UTC,DEG,DEG,METERS,DBAR,,ITS-90,,ITS-90,,PSS-78,,PSS-78,,G/KG,,UMOL/KG,,UMOL/KG,,%TRANS,/METER,,MG/M^3,,MG/CUM,,UE/SQM/S,,UMOL/KG,,UMOL/KG,UMOL/KG,,UMOL/KG,UMOL/KG,,UMOL/KG,UMOL/KG,,UMOL/KG,PMOL/KG,,PMOL/KG,,PMOL/KG,,FMOL/KG,,UMOL/KG,,UMOL/KG,,,DEG C,,/MILLE,,/MILLE,/MILLE,,/MILLE,MBQ/KG,,MBQ/KG,MBQ/KG,,MBQ/KG
  49NZ20121128,  S04I,    85,  1,     36, X12J36,2,20121224,2046,-62.0872, 112.1628, 4095,      5.4,2,   1.0371,2,   1.03618,2,  33.7714,2,  33.7690,2,  33.9348,2,   352.26,2,   352.48,2,   92.167,   0.3263,2,    0.280,2,  -999.00,9,  167.114,2,    27.54,2,     0.08,    24.31,2,     0.04,     0.27,2,     0.01,     1.56,2,     0.01,    5.775,2,    3.304,2,    0.556,2,    3.072,2,   2146.5,2,   2286.0,2,   7.7295,       25,6, -999.000,9, -999.000,   -999.0,9,   -999.0, -999.000,9, -999.000, -999.000,9, -999.000
  49NZ20121128,  S04I,    85,  1,     35, X12J35,2,20121224,2046,-62.0872, 112.1628, 4095,     25.3,2,   0.9160,2,   0.91530,2,  33.7794,2,  33.7861,2,  33.9432,2,   353.82,2,   354.88,2,   91.011,   0.3768,2,    0.640,2,  -999.00,9,   24.428,2,    23.83,2,     0.08,    23.72,2,     0.04,     0.25,2,     0.01,     1.50,2,     0.01,    5.786,2,    3.262,2,    0.552,2,    2.984,2,   2143.7,2,   2287.5,2,   7.7394,       25,2, -999.000,9, -999.000,   -999.0,9,   -999.0, -999.000,9, -999.000, -999.000,9, -999.000
  49NZ20121128,  S04I,    85,  1,     34, X12J34,2,20121224,2046,-62.0872, 112.1628, 4095,     50.2,2,  -1.0056,2,  -1.00553,2,  33.9357,2,  33.9368,2,  34.1025,2,   354.64,2,   353.96,2,   94.742,   0.2161,2,    0.790,2,  -999.00,9,    2.512,2,    37.63,2,     0.09,    27.53,2,     0.04,     0.18,2,     0.01,     1.97,2,     0.01,    5.813,6,    3.306,6,    0.553,6,    3.031,6,   2174.5,2,   2295.5,2,   7.6781,       25,2, -999.000,9, -999.000,   -999.0,9,   -999.0, -999.000,9, -999.000, -999.000,9, -999.000
  49NZ20121128,  S04I,    85,  1,     33, X12J33,2,20121224,2046,-62.0872, 112.1628, 4095,     75.0,2,  -1.2533,2,  -1.25657,2,  34.0038,2,  34.0062,2,  34.1733,2,   330.69,2,   329.84,2,   97.171,   0.1148,2,    0.550,2,  -999.00,9,    0.470,2,    45.02,2,     0.10,    29.19,2,     0.04,     0.17,2,     0.01,     2.04,2,     0.01,    5.232,2,    2.965,2,    0.499,2,    2.600,2,   2189.2,6,   2298.9,2,   7.6474,       25,2, -999.000,9, -999.000,   -999.0,9,   -999.0, -999.000,9, -999.000, -999.000,9, -999.000
  49NZ20121128,  S04I,    85,  1,     32, X12J32,2,20121224,2046,-62.0872, 112.1628, 4095,     99.9,2,  -0.4648,2,  -0.46487,2,  34.1977,2,  34.1984,2,  34.3657,2,   278.16,2,   277.50,2,   99.015,   0.0396,2,    0.220,2,  -999.00,9,    0.099,2,    55.53,2,     0.11,    31.68,2,     0.04,     0.12,2,     0.01,     2.20,2,     0.01,    3.973,2,    2.210,2,    0.375,2,    1.963,2,   2215.6,2,   2307.7,6,   7.6043,       25,2, -999.000,9, -999.000,   -999.0,9,   -999.0, -999.000,9, -999.000, -999.000,9, -999.000
  49NZ20121128,  S04I,    85,  1,     31, X12J31,2,20121224,2046,-62.0872, 112.1628, 4095,    125.6,2,   0.6115,2,   0.61138,2,  34.3574,2,  34.3546,2,  34.5195,2,   230.25,2,   230.44,2,   99.486,   0.0206,2,    0.120,2,  -999.00,9,    0.013,2,    63.91,2,     0.12,    33.37,2,     0.05,     0.05,2,     0.01,     2.30,2,     0.01,    2.694,2,    1.486,2,    0.247,2,    1.229,2,   2235.1,2,   2318.0,2,   7.5727,       25,2, -999.000,9, -999.000,   -999.0,9,   -999.0, -999.000,9, -999.000, -999.000,9, -999.000
  49NZ20121128,  S04I,    85,  1,     30, X12J30,2,20121224,2046,-62.0872, 112.1628, 4095,    150.4,2,   1.5263,2,   1.52755,2,  34.4968,2,  34.4991,2,  34.6652,2,   192.80,2,   192.25,2,   99.705,   0.0118,2,    0.030,2,  -999.00,9,    0.000,2,    71.88,2,     0.12,    34.38,2,     0.05,     0.02,2,     0.01,     2.36,2,     0.01,    1.505,2,    0.819,2,    0.127,2,    0.521,2,   2250.6,2,   2326.4,2,   7.5521,       25,2, -999.000,9, -999.000,   -999.0,9,   -999.0, -999.000,9, -999.000, -999.000,9, -999.000
  49NZ20121128,  S04I,    85,  1,     29, X12J29,2,20121224,2046,-62.0872, 112.1628, 4095,    200.1,2,   1.7260,2,   1.72550,2,  34.5697,2,  34.5695,2,  34.7418,2,   184.05,2,   183.69,2,   99.686,   0.0126,2,    0.020,2,  -999.00,9,    0.000,2,    75.65,2,     0.13,    34.09,2,     0.05,     0.02,2,     0.01,     2.35,2,     0.01,    1.098,2,    0.579,2,    0.091,2,    0.310,2,   2255.2,2,   2332.9,2,   7.5553,       25,2, -999.000,9, -999.000,   -999.0,9,   -999.0, -999.000,9, -999.000, -999.000,9, -999.000
  49NZ20121128,  S04I,    85,  1,     28, X12J28,2,20121224,2046,-62.0872, 112.1628, 4095,    249.3,2,   1.7833,2,   1.78298,2,  34.6159,2,  34.6155,2,  34.7871,2,   182.21,2,   181.94,2,   99.638,   0.0145,2,    0.020,2,  -999.00,9,    0.000,2,    77.91,2,     0.13,    33.58,2,     0.05,     0.02,2,     0.01,     2.31,2,     0.01,    0.885,2,    0.462,2,    0.072,2,    0.196,2,   2256.5,2,   2336.1,2,   7.5620,       25,2, -999.000,9, -999.000,   -999.0,9,   -999.0, -999.000,9, -999.000, -999.000,9, -999.000
  49NZ20121128,  S04I,    85,  1,     27, X12J27,2,20121224,2046,-62.0872, 112.1628, 4095,    330.5,2,   1.8296,2,   1.82926,2,  34.6594,2,  34.6591,2,  34.8322,2,   182.50,2,   182.24,2,   99.794,   0.0082,2,    0.010,2,  -999.00,9,    0.000,2,    79.85,2,     0.13,    32.94,2,     0.05,     0.01,2,     0.01,     2.27,2,     0.01,    0.673,2,    0.345,2,    0.055,2,    0.293,2,   2256.3,2,   2340.0,2,   7.5719,       25,2, -999.000,9, -999.000,   -999.0,9,   -999.0, -999.000,9, -999.000, -999.000,9, -999.000
  49NZ20121128,  S04I,    85,  1,     26, X12J26,2,20121224,2046,-62.0872, 112.1628, 4095,    429.8,2,   1.8492,2,   1.84886,2,  34.6957,2,  34.6963,2,  34.8689,2,   184.51,2,   184.34,2,   99.828,   0.0069,2,    0.010,2,  -999.00,9,    0.000,2,    81.57,2,     0.13,    32.18,2,     0.05,     0.01,2,     0.01,     2.21,2,     0.01,    0.469,2,    0.248,2,    0.040,2,    0.190,2,   2255.6,2,   2343.3,2,   7.5836,       25,2, -999.000,9, -999.000,   -999.0,9,   -999.0, -999.000,9, -999.000, -999.000,9, -999.000
  49NZ20121128,  S04I,    85,  1,     25, X12J25,2,20121224,2046,-62.0872, 112.1628, 4095,    530.6,2,   1.8193,2,   1.82004,2,  34.7204,2,  34.7200,2,  34.8893,2,   188.05,2,   187.78,2,   99.879,   0.0048,2,    0.000,2,  -999.00,9,    0.000,2,    83.42,2,     0.13,    31.60,2,     0.04,     0.01,2,     0.01,     2.17,2,     0.01,    0.348,2,    0.179,2,    0.028,2,    0.000,2,   2253.1,2,   2345.7,2,   7.5948,       25,2, -999.000,9, -999.000,   -999.0,9,   -999.0, -999.000,9, -999.000, -999.000,9, -999.000
  49NZ20121128,  S04I,    85,  1,     24, X12J24,2,20121224,2046,-62.0872, 112.1628, 4095,    629.3,2,   1.7591,2,   1.75970,2,  34.7297,2,  34.7292,2,  34.8959,2,   190.73,2,   190.62,2,   99.860,   0.0056,2,    0.010,2,  -999.00,9,    0.000,2,    85.09,2,     0.14,    31.29,2,     0.04,     0.01,2,     0.01,     2.15,2,     0.01,    0.302,6,    0.157,6,    0.024,6,    0.081,6,   2251.5,2,   2347.1,2,   7.6006,       25,2, -999.000,9, -999.000,   -999.0,9,   -999.0, -999.000,9, -999.000, -999.000,9, -999.000
  49NZ20121128,  S04I,    85,  1,     23, X12J23,2,20121224,2046,-62.0872, 112.1628, 4095,    730.2,2,   1.6799,2,   1.67998,2,  34.7357,2,  34.7357,2,  34.9038,2,   193.60,2,   193.55,2,   99.900,   0.0040,2,    0.000,2,  -999.00,9,    0.000,2,    87.22,2,     0.14,    31.07,2,     0.04,     0.01,2,     0.01,     2.14,2,     0.01,    0.267,2,    0.136,2,    0.023,2,    0.000,2,   2251.3,6,   2349.2,2,   7.6061,       25,2, -999.000,9, -999.000,   -999.0,9,   -999.0, -999.000,9, -999.000, -999.000,9, -999.000
  49NZ20121128,  S04I,    85,  1,     22, X12J22,2,20121224,2046,-62.0872, 112.1628, 4095,    830.7,2,   1.6112,2,   1.61108,2,  34.7385,2,  34.7387,2,  34.9163,2,   195.72,2,   195.59,2,   99.910,   0.0036,2,    0.000,2,  -999.00,9,    0.000,2,    89.28,2,     0.14,    30.96,2,     0.04,     0.01,2,     0.01,     2.13,2,     0.01,    0.236,2,    0.124,2,    0.018,2,    0.000,2,   2252.0,2,   2350.6,6,   7.6102,       25,2, -999.000,9, -999.000,   -999.0,9,   -999.0, -999.000,9, -999.000, -999.000,9, -999.000
  49NZ20121128,  S04I,    85,  1,     21, X12J21,2,20121224,2046,-62.0872, 112.1628, 4095,    929.0,2,   1.5091,2,   1.50897,2,  34.7379,2,  34.7375,2,  34.9097,2,   197.71,2,   197.75,2,   99.929,   0.0028,2,    0.000,2,  -999.00,9,    0.000,2,    91.83,2,     0.14,    30.98,2,     0.04,     0.01,2,     0.01,     2.13,2,     0.01,    0.229,2,    0.119,2,    0.018,2,    0.000,2,   2251.8,2,   2350.9,2,   7.6115,       25,6, -999.000,9, -999.000,   -999.0,9,   -999.0, -999.000,9, -999.000, -999.000,9, -999.000
  49NZ20121128,  S04I,    85,  1,     20, X12J20,2,20121224,2046,-62.0872, 112.1628, 4095,   1079.1,2,   1.3737,2,   1.37372,2,  34.7351,2,  34.7349,2,  34.9064,2,   199.90,2,   199.95,2,   99.963,   0.0015,2,   -0.000,2,  -999.00,9,    0.000,2,    95.48,2,     0.14,    31.06,2,     0.04,     0.01,2,     0.01,     2.14,2,     0.01,    0.219,2,    0.113,2,    0.016,2,    0.000,2,   2252.8,2,   2353.8,2,   7.6121,       25,2, -999.000,9, -999.000,   -999.0,9,   -999.0, -999.000,9, -999.000, -999.000,9, -999.000
  49NZ20121128,  S04I,    85,  1,     19, X12J19,2,20121224,2046,-62.0872, 112.1628, 4095,   1329.5,2,   1.1528,2,   1.15277,2,  34.7260,2,  34.7258,2,  34.8965,2,   202.73,2,   202.58,2,   99.965,   0.0014,2,   -0.000,2,  -999.00,9,    0.000,2,   101.70,2,     0.15,    31.40,2,     0.04,     0.01,2,     0.01,     2.17,2,     0.01,    0.224,6,    0.113,6,    0.015,6,    0.000,6,   2255.4,2,   2355.7,2,   7.6114,       25,2, -999.000,9, -999.000,   -999.0,9,   -999.0, -999.000,9, -999.000, -999.000,9, -999.000
  49NZ20121128,  S04I,    85,  1,     18, X12J18,2,20121224,2046,-62.0872, 112.1628, 4095,   1580.7,2,   0.9597,2,   0.95960,2,  34.7159,2,  34.7158,2,  34.8880,2,   204.84,2,   204.86,2,   99.963,   0.0015,2,   -0.000,2,  -999.00,9,    0.000,2,   107.11,2,     0.15,    31.73,2,     0.04,     0.01,2,     0.01,     2.19,2,     0.01,    0.241,2,    0.120,2,    0.015,2,    0.000,2,   2258.1,2,   2357.2,2,   7.6079,       25,2, -999.000,9, -999.000,   -999.0,9,   -999.0, -999.000,9, -999.000, -999.000,9, -999.000
  49NZ20121128,  S04I,    85,  1,     17, X12J17,2,20121224,2046,-62.0872, 112.1628, 4095,   1831.6,2,   0.7545,2,   0.75429,2,  34.7046,2,  34.7048,2,  34.8768,2,   207.54,2,   207.54,2,   99.972,   0.0011,2,   -0.000,2,  -999.00,9,    0.000,2,   112.38,2,     0.16,    32.09,2,     0.05,     0.01,2,     0.01,     2.22,2,     0.01,    0.281,2,    0.140,2,    0.017,2,    0.000,2,   2260.2,2,   2356.7,2,   7.6047,       25,6, -999.000,9, -999.000,   -999.0,9,   -999.0, -999.000,9, -999.000, -999.000,9, -999.000
  49NZ20121128,  S04I,    85,  1,     16, X12J16,2,20121224,2046,-62.0872, 112.1628, 4095,   2080.8,2,   0.5879,2,   0.58773,2,  34.6962,2,  34.6963,2,  34.8669,2,   210.66,2,   210.58,2,   99.961,   0.0016,2,   -0.000,2,  -999.00,9,    0.000,2,   116.76,2,     0.16,    32.35,2,     0.05,     0.01,2,     0.01,     2.23,2,     0.01,    0.323,2,    0.163,2,    0.019,2,    0.072,2,   2260.6,2,   2356.6,2,   7.6036,       25,2, -999.000,9, -999.000,   -999.0,9,   -999.0, -999.000,9, -999.000, -999.000,9, -999.000
  49NZ20121128,  S04I,    85,  1,     15, X12J15,2,20121224,2046,-62.0872, 112.1628, 4095,   2329.7,2,   0.4323,2,   0.43192,2,  34.6890,2,  34.6891,2,  34.8629,2,   214.46,2,   214.35,2,   99.955,   0.0018,2,   -0.000,2,  -999.00,9,    0.000,2,   120.29,2,     0.17,    32.47,2,     0.05,     0.01,2,     0.01,     2.24,2,     0.01,    0.413,2,    0.203,2,    0.024,2,    0.090,2,   2260.8,2,   2357.6,2,   7.6017,       25,2, -999.000,9, -999.000,   -999.0,9,   -999.0, -999.000,9, -999.000, -999.000,9, -999.000
  49NZ20121128,  S04I,    85,  1,     14, X12J14,2,20121224,2046,-62.0872, 112.1628, 4095,   2580.5,2,   0.3170,2,   0.31698,2,  34.6842,2,  34.6841,2,  34.8610,2,   217.86,2,   217.81,2,   99.984,   0.0006,2,   -0.000,2,  -999.00,9,    0.000,2,   122.90,2,     0.17,    32.51,2,     0.05,     0.01,2,     0.01,     2.25,2,     0.01,    0.524,2,    0.268,2,    0.030,2,    0.000,2,   2260.8,6,   2357.2,2,   7.6009,       25,2, -999.000,9, -999.000,   -999.0,9,   -999.0, -999.000,9, -999.000, -999.000,9, -999.000
  49NZ20121128,  S04I,    85,  1,     13, X12J13,2,20121224,2046,-62.0872, 112.1628, 4095,   2831.9,2,   0.2239,2,   0.22381,2,  34.6801,2,  34.6798,2,  34.8583,2,   220.91,2,   220.89,2,   99.936,   0.0026,2,   -0.000,2,  -999.00,9,    0.000,2,   125.34,2,     0.17,    32.54,2,     0.05,     0.01,2,     0.01,     2.25,2,     0.01,    0.670,2,    0.326,2,    0.041,2,    0.094,2,   2260.2,2,   2356.9,6,   7.6020,       25,2, -999.000,9, -999.000,   -999.0,9,   -999.0, -999.000,9, -999.000, -999.000,9, -999.000
  49NZ20121128,  S04I,    85,  1,     12, X12J12,2,20121224,2046,-62.0872, 112.1628, 4095,   3082.1,2,   0.1374,2,   0.13737,2,  34.6761,2,  34.6760,2,  34.8498,2,   224.07,2,   223.84,2,   99.912,   0.0035,2,   -0.000,2,  -999.00,9,    0.000,2,   127.07,2,     0.17,    32.56,2,     0.05,     0.01,2,     0.01,     2.25,2,     0.01,    0.839,2,    0.404,2,    0.051,2,    0.168,2,   2259.5,2,   2357.4,2,   7.6015,       25,6, -999.000,9, -999.000,   -999.0,9,   -999.0, -999.000,9, -999.000, -999.000,9, -999.000
  49NZ20121128,  S04I,    85,  1,     11, X12J11,2,20121224,2046,-62.0872, 112.1628, 4095,   3330.4,2,   0.0824,2,   0.08235,2,  34.6729,2,  34.6730,2,  34.8458,2,   226.38,2,   226.33,2,   99.929,   0.0028,2,   -0.000,2,  -999.00,9,    0.000,2,   127.01,2,     0.17,    32.52,2,     0.05,     0.01,2,     0.01,     2.25,2,     0.01,    0.954,2,    0.471,2,    0.060,2,    0.141,2,   2259.8,2,   2356.6,2,   7.6022,       25,2, -999.000,9, -999.000,   -999.0,9,   -999.0, -999.000,9, -999.000, -999.000,9, -999.000
  49NZ20121128,  S04I,    85,  1,     10, X12J10,2,20121224,2046,-62.0872, 112.1628, 4095,   3581.9,2,   0.0143,2,   0.01424,2,  34.6687,2,  34.6690,2,  34.8438,2,   229.44,2,   229.37,2,   99.917,   0.0033,2,   -0.000,2,  -999.00,9,    0.000,2,   127.11,2,     0.17,    32.48,2,     0.05,     0.01,2,     0.01,     2.25,2,     0.01,    1.142,2,    0.568,2,    0.078,2,    0.303,2,   2258.5,2,   2355.0,2,   7.6022,       25,2, -999.000,9, -999.000,   -999.0,9,   -999.0, -999.000,9, -999.000, -999.000,9, -999.000
  49NZ20121128,  S04I,    85,  1,      9, X12J09,2,20121224,2046,-62.0872, 112.1628, 4095,   3829.9,2,  -0.0350,2,  -0.03503,2,  34.6644,2,  34.6645,2,  34.8399,2,   231.72,2,   231.65,2,   99.849,   0.0060,2,   -0.000,2,  -999.00,9,    0.000,2,   130.06,2,     0.18,    32.42,2,     0.05,     0.01,2,     0.01,     2.24,2,     0.01,    1.367,2,    0.706,2,    0.097,2,    0.320,2,   2258.8,2,   2355.9,2,   7.6022,       25,2, -999.000,9, -999.000,   -999.0,9,   -999.0, -999.000,9, -999.000, -999.000,9, -999.000
  49NZ20121128,  S04I,    85,  1,      8, X12J08,2,20121224,2046,-62.0872, 112.1628, 4095,   4079.1,2,  -0.1110,2,  -0.11123,2,  34.6562,2,  34.6564,2,  34.8339,2,   235.71,2,   235.84,2,   99.826,   0.0070,2,   -0.010,2,  -999.00,9,    0.000,2,   126.27,2,     0.17,    32.32,2,     0.05,     0.01,2,     0.01,     2.24,2,     0.01,    1.728,6,    0.919,6,    0.139,6,    0.490,6,   2257.9,2,   2354.6,2,   7.6001,       25,2, -999.000,9, -999.000,   -999.0,9,   -999.0, -999.000,9, -999.000, -999.000,9, -999.000
  49NZ20121128,  S04I,    85,  1,      1, X12J01,2,20121224,2046,-62.0872, 112.1628, 4095,   4161.2,2,  -0.1627,2,  -0.16292,2,  34.6505,2,  34.6506,2,  34.8254,2,   237.76,2,   237.86,2,   99.638,   0.0145,2,   -0.010,2,  -999.00,9,    0.000,2,   127.03,2,     0.17,    32.28,2,     0.05,     0.01,2,     0.01,     2.24,2,     0.01,    1.966,2,    1.032,2,    0.162,2,    0.705,2,   2257.9,2,   2354.2,2,   7.5987,       25,2, -999.000,9, -999.000,   -999.0,9,   -999.0, -999.000,9, -999.000, -999.000,9, -999.000