BOTTLE,20220819CCHSIOAMB
EXPOCODE,SECT_ID,STNNBR,CASTNO,SAMPNO,BTLNBR,BTLNBR_FLAG_W,DATE,TIME,LATITUDE,LONGITUDE,DEPTH,CTDPRS,CTDPRS_FLAG_W,CTDTMP,CTDTMP_FLAG_W,SBE35,SBE35_FLAG_W,CTDSAL,CTDSAL_FLAG_W,SALNTY,SALNTY_FLAG_W,DNSSAL,DNSSAL_FLAG_W,CTDOXY,CTDOXY_FLAG_W,OXYGEN,OXYGEN_FLAG_W,CTDXMISS,CTDXMISSCP,CTDXMISS_FLAG_W,CTDFLUOR,CTDFLUOR_FLAG_W,CHLORA,CHLORA_FLAG_W,PAR,PAR_FLAG_W,SILCAT,SILCAT_FLAG_W,SILUNC,NITRAT,NITRAT_FLAG_W,NRAUNC,NITRIT,NITRIT_FLAG_W,NRIUNC,PHSPHT,PHSPHT_FLAG_W,PHPUNC,CFC-11,CFC-11_FLAG_W,CFC-12,CFC-12_FLAG_W,CFC113,CFC113_FLAG_W,SF6,SF6_FLAG_W,TCARBN,TCARBN_FLAG_W,ALKALI,ALKALI_FLAG_W,PH_TOT,PH_TMP,PH_TOT_FLAG_W,DELC13,DELC13_FLAG_W,C13ERR,DELC14,DELC14_FLAG_W,C14ERR,CS-134,CS-134_FLAG_W,CS134ER,CS-137,CS-137_FLAG_W,CS137ER
,,,,,,,,UTC,DEG,DEG,METERS,DBAR,,ITS-90,,ITS-90,,PSS-78,,PSS-78,,G/KG,,UMOL/KG,,UMOL/KG,,%TRANS,/METER,,MG/M^3,,MG/CUM,,UE/SQM/S,,UMOL/KG,,UMOL/KG,UMOL/KG,,UMOL/KG,UMOL/KG,,UMOL/KG,UMOL/KG,,UMOL/KG,PMOL/KG,,PMOL/KG,,PMOL/KG,,FMOL/KG,,UMOL/KG,,UMOL/KG,,,DEG C,,/MILLE,,/MILLE,/MILLE,,/MILLE,MBQ/KG,,MBQ/KG,MBQ/KG,,MBQ/KG
  49NZ20121128,  P14S,    18,  1,     36, X12J36,2,20121207,2139,-60.5108, 173.9728, 5048,      5.1,2,   3.9809,2,   3.98165,2,  33.9567,2,  33.9569,2,  34.1153,2,   319.23,2,   318.91,2,   97.518,   0.1005,2,    0.110,2,  -999.00,9,  364.924,2,     7.16,2,     0.07,    23.38,2,     0.04,     0.19,2,     0.01,     1.60,2,     0.01,    4.745,2,    2.714,2,    0.454,2,    2.495,2,   2127.7,2,   2276.1,2,   7.7442,       25,2, -999.000,9, -999.000,   -999.0,9,   -999.0, -999.000,9, -999.000, -999.000,9, -999.000
  49NZ20121128,  P14S,    18,  1,     35, X12J35,2,20121207,2139,-60.5108, 173.9728, 5048,     24.6,2,   3.8794,2,   3.87871,2,  33.9565,2,  33.9566,2,  34.1173,2,   319.89,2,   319.55,2,   97.081,   0.1185,2,    0.280,2,  -999.00,9,   99.522,2,     7.15,2,     0.07,    23.42,2,     0.04,     0.18,2,     0.01,     1.61,2,     0.01,    4.748,2,    2.714,2,    0.455,2,    2.449,2,   2128.7,2,   2275.3,2,   7.7437,       25,2, -999.000,9, -999.000,   -999.0,9,   -999.0, -999.000,9, -999.000, -999.000,9, -999.000
  49NZ20121128,  P14S,    18,  1,     34, X12J34,2,20121207,2139,-60.5108, 173.9728, 5048,     50.2,2,   3.6183,2,   3.61811,2,  33.9595,2,  33.9594,2,  34.1219,2,   318.52,2,   318.21,2,   97.142,   0.1160,2,    0.450,2,  -999.00,9,   25.858,2,     7.86,2,     0.07,    23.71,2,     0.04,     0.17,2,     0.01,     1.65,2,     0.01,    4.717,6,    2.666,6,    0.435,6,    2.432,6,   2127.3,2,   2276.2,2,   7.7377,       25,2, -999.000,9, -999.000,   -999.0,9,   -999.0, -999.000,9, -999.000, -999.000,9, -999.000
  49NZ20121128,  P14S,    18,  1,     33, X12J33,2,20121207,2139,-60.5108, 173.9728, 5048,     74.6,2,   3.3592,2,   3.35916,2,  33.9641,2,  33.9654,2,  34.1278,2,   313.60,2,   313.04,2,   98.962,   0.0417,2,    0.260,2,  -999.00,9,   15.512,2,    10.01,2,     0.07,    24.43,2,     0.04,     0.17,2,     0.01,     1.73,2,     0.01,    4.749,2,    2.645,2,    0.434,2,    2.433,2,   2136.4,6,   2277.2,3,   7.7209,       25,2, -999.000,9, -999.000,   -999.0,9,   -999.0, -999.000,9, -999.000, -999.000,9, -999.000
  49NZ20121128,  P14S,    18,  1,     32, X12J32,2,20121207,2139,-60.5108, 173.9728, 5048,    100.7,2,   3.2627,2,   3.25163,2,  33.9760,2,  33.9749,2,  34.1364,2,   308.28,2,   308.19,2,   99.430,   0.0229,2,    0.120,2,  -999.00,9,    2.199,2,    11.46,2,     0.07,    25.05,2,     0.04,     0.20,2,     0.01,     1.76,2,     0.01,    4.733,2,    2.622,2,    0.427,2,    2.438,2,   2140.5,2,   2275.8,2,   7.7128,       25,2, -999.000,9, -999.000,   -999.0,9,   -999.0, -999.000,9, -999.000, -999.000,9, -999.000
  49NZ20121128,  P14S,    18,  1,     31, X12J31,2,20121207,2139,-60.5108, 173.9728, 5048,    125.0,2,   2.9411,2,   2.94389,2,  33.9526,2,  33.9529,2,  34.1153,2,   314.59,2,   314.21,2,   98.845,   0.0465,2,    0.240,2,  -999.00,9,    1.049,2,    11.40,2,     0.07,    25.24,2,     0.04,     0.20,2,     0.01,     1.78,2,     0.01,    4.906,2,    2.730,2,    0.447,2,    2.500,2,   2143.1,2,   2275.1,2,   7.7139,       25,2, -999.000,9, -999.000,   -999.0,9,   -999.0, -999.000,9, -999.000, -999.000,9, -999.000
  49NZ20121128,  P14S,    18,  1,     30, X12J30,2,20121207,2139,-60.5108, 173.9728, 5048,    149.9,2,   2.8875,2,   2.88631,2,  33.9546,2,  33.9514,2,  34.1120,2,   312.74,2,   313.43,2,   98.521,   0.0596,2,    0.150,2,  -999.00,9,    0.322,2,    12.05,2,     0.07,    25.52,2,     0.04,     0.20,2,     0.01,     1.80,2,     0.01,    4.931,2,    2.729,2,    0.445,2,    2.518,2,   2142.2,2,   2275.9,2,   7.7104,       25,6, -999.000,9, -999.000,   -999.0,9,   -999.0, -999.000,9, -999.000, -999.000,9, -999.000
  49NZ20121128,  P14S,    18,  1,     29, X12J29,2,20121207,2139,-60.5108, 173.9728, 5048,    199.9,2,   2.9278,2,   2.92768,2,  33.9741,2,  33.9748,2,  34.1364,2,   300.94,2,   300.90,2,   99.635,   0.0146,2,    0.040,2,  -999.00,9,    0.102,2,    14.55,2,     0.07,    26.74,2,     0.04,     0.15,2,     0.01,     1.85,2,     0.01,    4.780,2,    2.625,2,    0.442,2,    2.317,2,   2149.5,2,   2276.0,2,   7.6928,       25,2, -999.000,9, -999.000,   -999.0,9,   -999.0, -999.000,9, -999.000, -999.000,9, -999.000
  49NZ20121128,  P14S,    18,  1,     28, X12J28,2,20121207,2139,-60.5108, 173.9728, 5048,    249.9,2,   3.2219,2,   3.22112,2,  34.0539,2,  34.0529,2,  34.2142,2,   275.56,2,   275.62,2,   99.719,   0.0113,2,    0.010,2,  -999.00,9,    0.006,2,    19.36,2,     0.08,    28.39,2,     0.04,     0.02,2,     0.01,     1.95,2,     0.01,    4.378,2,    2.368,2,    0.366,2,    1.923,2,   2163.4,2,   2280.5,2,   7.6648,       25,2, -999.000,9, -999.000,   -999.0,9,   -999.0, -999.000,9, -999.000, -999.000,9, -999.000
  49NZ20121128,  P14S,    18,  1,     27, X12J27,2,20121207,2139,-60.5108, 173.9728, 5048,    279.5,2,   3.3278,2,   3.32359,2,  34.0946,2,  34.0918,2,  34.2557,2,   264.69,2,   264.94,2,   99.710,   0.0116,2,    0.010,2,  -999.00,9,    0.000,2,    21.51,2,     0.08,    29.00,2,     0.04,     0.02,2,     0.01,     1.99,2,     0.01,    4.202,2,    2.252,2,    0.340,2,    1.689,2,   2169.9,2,   2282.6,2,   7.6535,       25,2, -999.000,9, -999.000,   -999.0,9,   -999.0, -999.000,9, -999.000, -999.000,9, -999.000
  49NZ20121128,  P14S,    18,  1,     26, X12J26,2,20121207,2139,-60.5108, 173.9728, 5048,    372.0,2,   3.2033,2,   3.20330,2,  34.1928,2,  34.1924,2,  34.3585,2,   238.78,2,   239.04,2,   99.790,   0.0084,2,    0.010,2,  -999.00,9,    0.000,2,    30.45,2,     0.09,    30.98,2,     0.04,     0.01,2,     0.01,     2.12,2,     0.01,    3.477,2,    1.822,2,    0.264,2,    1.270,2,   2190.2,2,   2290.7,2,   7.6220,       25,2, -999.000,9, -999.000,   -999.0,9,   -999.0, -999.000,9, -999.000, -999.000,9, -999.000
  49NZ20121128,  P14S,    18,  1,     25, X12J25,2,20121207,2139,-60.5108, 173.9728, 5048,    470.7,2,   2.8964,2,   2.89645,2,  34.2482,2,  34.2474,2,  34.4107,2,   224.16,2,   224.28,2,   99.825,   0.0070,2,   -0.000,2,  -999.00,9,    0.000,2,    38.41,2,     0.09,    32.41,2,     0.05,     0.01,2,     0.01,     2.22,2,     0.01,    2.971,2,    1.533,2,    0.235,2,    1.024,2,   2205.7,2,   2297.3,2,   7.6006,       25,2, -999.000,9, -999.000,   -999.0,9,   -999.0, -999.000,9, -999.000, -999.000,9, -999.000
  49NZ20121128,  P14S,    18,  1,     24, X12J24,2,20121207,2139,-60.5108, 173.9728, 5048,    569.2,2,   2.8014,2,   2.80354,2,  34.3356,2,  34.3348,2,  34.4990,2,   202.56,2,   203.21,2,   99.867,   0.0053,2,   -0.000,2,  -999.00,9,    0.000,2,    48.14,2,     0.10,    33.58,2,     0.05,     0.01,2,     0.01,     2.29,2,     0.01, -999.000,5, -999.000,5, -999.000,5, -999.000,5,   2221.5,2,   2307.3,2,   7.5797,       25,2, -999.000,9, -999.000,   -999.0,9,   -999.0, -999.000,9, -999.000, -999.000,9, -999.000
  49NZ20121128,  P14S,    18,  1,     23, X12J23,2,20121207,2139,-60.5108, 173.9728, 5048,    669.8,2,   2.7501,2,   2.75016,2,  34.4103,2,  34.4074,2,  34.5735,2,   188.65,2,   188.94,2,   99.846,   0.0062,2,    0.000,2,  -999.00,9,    0.000,2,    55.71,2,     0.11,    34.23,2,     0.05,     0.01,2,     0.01,     2.35,2,     0.01, -999.000,5, -999.000,5, -999.000,5, -999.000,5,   2231.1,6,   2315.3,2,   7.5692,       25,2, -999.000,9, -999.000,   -999.0,9,   -999.0, -999.000,9, -999.000, -999.000,9, -999.000
  49NZ20121128,  P14S,    18,  1,     22, X12J22,2,20121207,2139,-60.5108, 173.9728, 5048,    769.6,2,   2.6740,2,   2.67394,2,  34.4633,2,  34.4632,2,  34.6302,2,   181.17,2,   181.70,2,   99.863,   0.0055,2,    0.000,2,  -999.00,9,    0.000,2,    61.07,2,     0.11,    34.43,2,     0.05,     0.01,2,     0.01,     2.37,2,     0.01, -999.000,5, -999.000,5, -999.000,5, -999.000,5,   2240.7,2,   2321.2,6,   7.5638,       25,2, -999.000,9, -999.000,   -999.0,9,   -999.0, -999.000,9, -999.000, -999.000,9, -999.000
  49NZ20121128,  P14S,    18,  1,     21, X12J21,2,20121207,2139,-60.5108, 173.9728, 5048,    870.2,2,   2.5519,2,   2.55186,2,  34.5091,2,  34.5105,2,  34.6777,2,   176.25,2,   176.12,2,   99.890,   0.0044,2,    0.000,2,  -999.00,9,    0.000,2,    65.75,2,     0.12,    34.58,2,     0.05,     0.01,2,     0.01,     2.37,2,     0.01, -999.000,5, -999.000,5, -999.000,5, -999.000,5,   2244.3,2,   2323.9,2,   7.5591,       25,6, -999.000,9, -999.000,   -999.0,9,   -999.0, -999.000,9, -999.000, -999.000,9, -999.000
  49NZ20121128,  P14S,    18,  1,     20, X12J20,2,20121207,2139,-60.5108, 173.9728, 5048,    960.7,2,   2.5086,2,   2.50851,2,  34.5510,2,  34.5522,2,  34.7206,2,   173.98,2,   173.78,2,   99.888,   0.0045,2,    0.000,2,  -999.00,9,    0.000,2,    68.83,2,     0.12,    34.32,2,     0.05,     0.01,2,     0.01,     2.36,2,     0.01, -999.000,5, -999.000,5, -999.000,5, -999.000,5,   2251.1,2,   2329.7,2,   7.5617,       25,2, -999.000,9, -999.000,   -999.0,9,   -999.0, -999.000,9, -999.000, -999.000,9, -999.000
  49NZ20121128,  P14S,    18,  1,     19, X12J19,2,20121207,2139,-60.5108, 173.9728, 5048,   1172.2,2,   2.3696,2,   2.36951,2,  34.6326,2,  34.6327,2,  34.8016,2,   174.23,2,   174.35,2,   99.915,   0.0034,2,    0.000,2,  -999.00,9,    0.000,2,    74.35,2,     0.13,    33.41,2,     0.05,     0.01,2,     0.01,     2.29,2,     0.01, -999.000,5, -999.000,5, -999.000,5, -999.000,5,   2252.0,2,   2335.5,2,   7.5710,       25,2, -999.000,9, -999.000,   -999.0,9,   -999.0, -999.000,9, -999.000, -999.000,9, -999.000
  49NZ20121128,  P14S,    18,  1,     18, X12J18,2,20121207,2139,-60.5108, 173.9728, 5048,   1420.6,2,   2.2302,2,   2.23018,2,  34.6917,2,  34.6918,2,  34.8596,2,   179.76,2,   179.85,2,   99.934,   0.0026,2,    0.000,2,  -999.00,9,    0.000,2,    78.37,2,     0.13,    32.31,2,     0.05,     0.01,2,     0.01,     2.22,2,     0.01, -999.000,5, -999.000,5, -999.000,5, -999.000,5,   2251.4,2,   2341.9,2,   7.5884,       25,2, -999.000,9, -999.000,   -999.0,9,   -999.0, -999.000,9, -999.000, -999.000,9, -999.000
  49NZ20121128,  P14S,    18,  1,     17, X12J17,2,20121207,2139,-60.5108, 173.9728, 5048,   1670.2,2,   2.0757,2,   2.07574,2,  34.7234,2,  34.7235,2,  34.8946,2,   185.77,2,   185.96,2,   99.945,   0.0022,2,    0.000,2,  -999.00,9,    0.000,2,    82.40,2,     0.13,    31.54,2,     0.04,     0.01,2,     0.01,     2.17,2,     0.01, -999.000,5, -999.000,5, -999.000,5, -999.000,5,   2250.9,2,   2345.9,2,   7.6015,       25,6, -999.000,9, -999.000,   -999.0,9,   -999.0, -999.000,9, -999.000, -999.000,9, -999.000
  49NZ20121128,  P14S,    18,  1,     16, X12J16,2,20121207,2139,-60.5108, 173.9728, 5048,   1922.7,2,   1.9003,2,   1.90050,2,  34.7367,2,  34.7367,2,  34.9071,2,   190.74,2,   191.05,2,   99.951,   0.0020,2,    0.000,2,  -999.00,9,    0.000,2,    86.98,2,     0.14,    31.22,2,     0.04,     0.01,2,     0.01,     2.15,2,     0.01, -999.000,5, -999.000,5, -999.000,5, -999.000,5,   2251.5,2,   2349.7,2,   7.6084,       25,2, -999.000,9, -999.000,   -999.0,9,   -999.0, -999.000,9, -999.000, -999.000,9, -999.000
  49NZ20121128,  P14S,    18,  1,     15, X12J15,2,20121207,2139,-60.5108, 173.9728, 5048,   2170.2,2,   1.7065,2,   1.70671,2,  34.7389,2,  34.7385,2,  34.9064,2,   194.69,2,   194.94,2,   99.961,   0.0016,2,    0.000,2,  -999.00,9,    0.000,2,    92.38,2,     0.14,    31.16,2,     0.04,     0.01,2,     0.01,     2.14,2,     0.01, -999.000,5, -999.000,5, -999.000,5, -999.000,5,   2253.6,2,   2350.7,2,   7.6137,       25,2, -999.000,9, -999.000,   -999.0,9,   -999.0, -999.000,9, -999.000, -999.000,9, -999.000
  49NZ20121128,  P14S,    18,  1,     14, X12J14,2,20121207,2139,-60.5108, 173.9728, 5048,   2419.4,2,   1.5073,2,   1.50729,2,  34.7349,2,  34.7347,2,  34.9051,2,   197.80,2,   197.84,2,   99.972,   0.0011,2,    0.000,2,  -999.00,9,    0.000,2,    98.41,2,     0.15,    31.35,2,     0.04,     0.01,2,     0.01,     2.16,2,     0.01, -999.000,5, -999.000,5, -999.000,5, -999.000,5,   2252.5,6,   2354.0,2,   7.6141,       25,2, -999.000,9, -999.000,   -999.0,9,   -999.0, -999.000,9, -999.000, -999.000,9, -999.000
  49NZ20121128,  P14S,    18,  1,     13, X12J13,2,20121207,2139,-60.5108, 173.9728, 5048,   2671.1,2,   1.3328,2,   1.33284,2,  34.7285,2,  34.7282,2,  34.8965,2,   200.33,2,   200.29,2,   99.968,   0.0013,2,   -0.000,2,  -999.00,9,    0.000,2,   103.47,2,     0.15,    31.55,2,     0.04,     0.01,2,     0.01,     2.16,2,     0.01, -999.000,5, -999.000,5, -999.000,5, -999.000,5,   2257.6,2,   2358.6,2,   7.6155,       25,2, -999.000,9, -999.000,   -999.0,9,   -999.0, -999.000,9, -999.000, -999.000,9, -999.000
  49NZ20121128,  P14S,    18,  1,     12, X12J12,2,20121207,2139,-60.5108, 173.9728, 5048,   2920.9,2,   1.1948,2,   1.19470,2,  34.7224,2,  34.7226,2,  34.8933,2,   202.51,2,   202.34,2,   99.968,   0.0013,2,   -0.000,2,  -999.00,9,    0.000,2,   107.70,2,     0.16,    31.79,2,     0.04,     0.01,2,     0.01,     2.18,2,     0.01, -999.000,5, -999.000,5, -999.000,5, -999.000,5,   2256.8,2,   2360.6,2,   7.6132,       25,6, -999.000,9, -999.000,   -999.0,9,   -999.0, -999.000,9, -999.000, -999.000,9, -999.000
  49NZ20121128,  P14S,    18,  1,     11, X12J11,2,20121207,2139,-60.5108, 173.9728, 5048,   3169.8,2,   1.0863,2,   1.08632,2,  34.7174,2,  34.7173,2,  34.8913,2,   204.47,2,   204.16,2,   99.970,   0.0012,2,   -0.000,2,  -999.00,9,    0.000,2,   111.34,2,     0.16,    31.96,2,     0.04,     0.01,2,     0.01,     2.20,2,     0.01,    0.171,4,    0.118,4,    0.012,4,    0.000,4,   2256.2,2,   2360.9,2,   7.6123,       25,2, -999.000,9, -999.000,   -999.0,9,   -999.0, -999.000,9, -999.000, -999.000,9, -999.000
  49NZ20121128,  P14S,    18,  1,     10, X12J10,2,20121207,2139,-60.5108, 173.9728, 5048,   3420.6,2,   0.9823,2,   0.98231,2,  34.7120,2,  34.7120,2,  34.8814,2,   206.47,2,   206.15,2,   99.968,   0.0013,2,   -0.000,2,  -999.00,9,    0.000,2,   114.75,2,     0.16,    32.10,2,     0.05,     0.01,2,     0.01,     2.21,2,     0.01,    0.200,4,    0.139,4,    0.010,4,    0.000,4,   2259.6,2,   2361.1,2,   7.6104,       25,2, -999.000,9, -999.000,   -999.0,9,   -999.0, -999.000,9, -999.000, -999.000,9, -999.000
  49NZ20121128,  P14S,    18,  1,      9, X12J09,2,20121207,2139,-60.5108, 173.9728, 5048,   3670.7,2,   0.8995,2,   0.89945,2,  34.7076,2,  34.7077,2,  34.8781,2,   208.11,2,   207.81,2,   99.947,   0.0021,2,   -0.000,2,  -999.00,9,    0.000,2,   117.72,2,     0.16,    32.23,2,     0.05,     0.01,2,     0.01,     2.22,2,     0.01,    0.232,4,    0.164,4,    0.011,4,    0.000,4,   2260.9,2,   2360.4,2,   7.6091,       25,2, -999.000,9, -999.000,   -999.0,9,   -999.0, -999.000,9, -999.000, -999.000,9, -999.000
  49NZ20121128,  P14S,    18,  1,      8, X12J08,2,20121207,2139,-60.5108, 173.9728, 5048,   3922.1,2,   0.8721,2,   0.87210,2,  34.7054,2,  34.7054,2,  34.8781,2,   208.88,2,   208.66,2,   99.932,   0.0027,2,   -0.000,2,  -999.00,9,    0.000,2,   119.40,2,     0.17,    32.32,2,     0.05,     0.01,2,     0.01,     2.22,2,     0.01,    0.253,4,    0.180,4,    0.012,4,    0.000,4,   2261.4,2,   2360.0,2,   7.6089,       25,2, -999.000,9, -999.000,   -999.0,9,   -999.0, -999.000,9, -999.000, -999.000,9, -999.000
  49NZ20121128,  P14S,    18,  1,      7, X12J07,2,20121207,2139,-60.5108, 173.9728, 5048,   4169.3,2,   0.8607,2,   0.86051,2,  34.7036,2,  34.7039,2,  34.8748,2,   209.36,2,   209.14,2,   99.922,   0.0031,2,   -0.000,2,  -999.00,9,    0.000,2,   120.49,2,     0.17,    32.37,2,     0.05,     0.01,2,     0.01,     2.23,2,     0.01,    0.277,4,    0.196,4,    0.015,4,    0.000,4,   2261.3,6,   2359.7,2,   7.6075,       25,2, -999.000,9, -999.000,   -999.0,9,   -999.0, -999.000,9, -999.000, -999.000,9, -999.000
  49NZ20121128,  P14S,    18,  1,      6, X12J06,2,20121207,2139,-60.5108, 173.9728, 5048,   4422.0,2,   0.8679,2,   0.86770,2,  34.7028,2,  34.7030,2,  34.8748,2,   209.46,2,   209.22,2,   99.911,   0.0036,2,   -0.000,2,  -999.00,9,    0.000,2,   121.53,2,     0.17,    32.40,2,     0.05,     0.01,2,     0.01,     2.23,2,     0.01,    0.285,4,    0.202,4,    0.015,4,    0.000,4,   2261.9,2,   2359.7,6,   7.6077,       25,2, -999.000,9, -999.000,   -999.0,9,   -999.0, -999.000,9, -999.000, -999.000,9, -999.000
  49NZ20121128,  P14S,    18,  1,      5, X12J05,2,20121207,2139,-60.5108, 173.9728, 5048,   4669.6,2,   0.8835,2,   0.88338,2,  34.7022,2,  34.7024,2,  34.8735,2,   209.54,2,   209.51,2,   99.869,   0.0052,2,   -0.000,2,  -999.00,9,    0.000,2,   122.25,2,     0.17,    32.42,2,     0.05,     0.01,2,     0.01,     2.23,2,     0.01,    0.297,4,    0.210,4,    0.015,4,    0.000,4,   2262.3,2,   2360.4,2,   7.6074,       25,6, -999.000,9, -999.000,   -999.0,9,   -999.0, -999.000,9, -999.000, -999.000,9, -999.000
  49NZ20121128,  P14S,    18,  1,      4, X12J04,2,20121207,2139,-60.5108, 173.9728, 5048,   4919.9,2,   0.8974,2,   0.89735,2,  34.7017,2,  34.7016,2,  34.8722,2,   209.47,2,   209.54,2,   99.846,   0.0062,2,   -0.000,2,  -999.00,9,    0.000,2,   122.11,2,     0.17,    32.42,2,     0.05,     0.01,2,     0.01,     2.24,2,     0.01,    0.312,4,    0.224,4,    0.016,4,    0.000,4,   2262.5,2,   2358.4,2,   7.6068,       25,2, -999.000,9, -999.000,   -999.0,9,   -999.0, -999.000,9, -999.000, -999.000,9, -999.000
  49NZ20121128,  P14S,    18,  1,      1, X12J01,2,20121207,2139,-60.5108, 173.9728, 5048,   5123.1,2,   0.9151,2,   0.91499,2,  34.7011,2,  34.7018,2,  34.8735,2,   209.36,2,   209.60,2,   99.809,   0.0076,2,   -0.000,2,  -999.00,9,    0.000,2,   122.47,2,     0.17,    32.42,2,     0.05,     0.01,2,     0.01,     2.23,2,     0.01,    0.317,4,    0.247,4,    0.016,4,    0.000,4,   2261.4,2,   2359.9,2,   7.6062,       25,2, -999.000,9, -999.000,   -999.0,9,   -999.0, -999.000,9, -999.000, -999.000,9, -999.000