BOTTLE,20220819CCHSIOAMB
EXPOCODE,SECT_ID,STNNBR,CASTNO,SAMPNO,BTLNBR,BTLNBR_FLAG_W,DATE,TIME,LATITUDE,LONGITUDE,DEPTH,CTDPRS,CTDPRS_FLAG_W,CTDTMP,CTDTMP_FLAG_W,SBE35,SBE35_FLAG_W,CTDSAL,CTDSAL_FLAG_W,SALNTY,SALNTY_FLAG_W,DNSSAL,DNSSAL_FLAG_W,CTDOXY,CTDOXY_FLAG_W,OXYGEN,OXYGEN_FLAG_W,CTDXMISS,CTDXMISSCP,CTDXMISS_FLAG_W,CTDFLUOR,CTDFLUOR_FLAG_W,CHLORA,CHLORA_FLAG_W,PAR,PAR_FLAG_W,SILCAT,SILCAT_FLAG_W,SILUNC,NITRAT,NITRAT_FLAG_W,NRAUNC,NITRIT,NITRIT_FLAG_W,NRIUNC,PHSPHT,PHSPHT_FLAG_W,PHPUNC,CFC-11,CFC-11_FLAG_W,CFC-12,CFC-12_FLAG_W,CFC113,CFC113_FLAG_W,SF6,SF6_FLAG_W,TCARBN,TCARBN_FLAG_W,ALKALI,ALKALI_FLAG_W,PH_TOT,PH_TMP,PH_TOT_FLAG_W,DELC13,DELC13_FLAG_W,C13ERR,DELC14,DELC14_FLAG_W,C14ERR,CS-134,CS-134_FLAG_W,CS134ER,CS-137,CS-137_FLAG_W,CS137ER
,,,,,,,,UTC,DEG,DEG,METERS,DBAR,,ITS-90,,ITS-90,,PSS-78,,PSS-78,,G/KG,,UMOL/KG,,UMOL/KG,,%TRANS,/METER,,MG/M^3,,MG/CUM,,UE/SQM/S,,UMOL/KG,,UMOL/KG,UMOL/KG,,UMOL/KG,UMOL/KG,,UMOL/KG,UMOL/KG,,UMOL/KG,PMOL/KG,,PMOL/KG,,PMOL/KG,,FMOL/KG,,UMOL/KG,,UMOL/KG,,,DEG C,,/MILLE,,/MILLE,/MILLE,,/MILLE,MBQ/KG,,MBQ/KG,MBQ/KG,,MBQ/KG
  49NZ20121128,  P14S,    24,  1,     36, X12J36,2,20121209,0834,-63.0015, 171.7573, 2697,      5.2,2,  -0.4394,2,  -0.43877,2,  33.8575,2,  33.8616,2,-999.0000,9,   356.97,2,   358.19,2,   95.788,   0.1721,2,    0.340,2,     0.33,2,    7.388,2,    55.09,2,     0.11,    27.02,2,     0.04,     0.23,2,     0.01,     1.79,2,     0.01,    6.226,2,    3.473,2,    0.614,2,    3.003,2,   -999.0,9,   -999.0,9,-999.0000,     -999,9, -999.000,9, -999.000,   -999.0,9,   -999.0, -999.000,9, -999.000, -999.000,9, -999.000
  49NZ20121128,  P14S,    24,  1,     35, X12J35,2,20121209,0834,-63.0015, 171.7573, 2697,     25.5,2,  -0.7423,2,  -0.74685,2,  33.8955,2,  33.8958,2,-999.0000,9,   363.14,2,   364.19,2,   93.737,   0.2587,2,    0.570,2,     0.57,2,    1.391,2,    52.90,2,     0.11,    26.58,2,     0.04,     0.19,2,     0.01,     1.72,2,     0.01,    6.195,2,    3.468,2,    0.597,2,    3.042,2,   -999.0,9,   -999.0,9,-999.0000,     -999,9, -999.000,9, -999.000,   -999.0,9,   -999.0, -999.000,9, -999.000, -999.000,9, -999.000
  49NZ20121128,  P14S,    24,  1,     34, X12J34,2,20121209,0834,-63.0015, 171.7573, 2697,     50.4,2,  -1.3842,2,  -1.40316,2,  33.9583,2,  33.9758,2,-999.0000,9,   363.98,2,   363.17,2,   92.606,   0.3073,2,    1.020,2,     1.00,2,    0.169,2,    54.76,2,     0.11,    27.16,2,     0.04,     0.17,2,     0.01,     1.82,2,     0.01,    6.075,6,    3.365,6,    0.578,6,    2.952,6,   -999.0,9,   -999.0,9,-999.0000,     -999,9, -999.000,9, -999.000,   -999.0,9,   -999.0, -999.000,9, -999.000, -999.000,9, -999.000
  49NZ20121128,  P14S,    24,  1,     33, X12J33,2,20121209,0834,-63.0015, 171.7573, 2697,     75.7,2,  -1.6520,2,  -1.65236,2,  34.0861,2,  34.0858,2,-999.0000,9,   346.33,2,   347.74,2,   97.551,   0.0992,2,    0.450,2,     0.59,2,    0.000,2,    60.61,2,     0.11,    28.62,2,     0.04,     0.16,2,     0.01,     2.02,2,     0.01,    5.794,2,    3.202,2,    0.562,2,    2.787,2,   -999.0,9,   -999.0,9,-999.0000,     -999,9, -999.000,9, -999.000,   -999.0,9,   -999.0, -999.000,9, -999.000, -999.000,9, -999.000
  49NZ20121128,  P14S,    24,  1,     32, X12J32,2,20121209,0834,-63.0015, 171.7573, 2697,    100.3,2,  -1.4598,2,  -1.46151,2,  34.1610,2,  34.1585,2,-999.0000,9,   330.56,2,   331.53,2,   98.896,   0.0444,2,    0.210,2,     0.27,2,    0.000,2,    64.69,2,     0.12,    29.86,2,     0.04,     0.20,2,     0.01,     2.10,2,     0.01,    5.460,2,    3.022,2,    0.530,2,    2.656,2,   -999.0,9,   -999.0,9,-999.0000,     -999,9, -999.000,9, -999.000,   -999.0,9,   -999.0, -999.000,9, -999.000, -999.000,9, -999.000
  49NZ20121128,  P14S,    24,  1,     31, X12J31,2,20121209,0834,-63.0015, 171.7573, 2697,    124.7,2,  -0.6989,2,  -0.72242,2,  34.3051,2,  34.3165,2,-999.0000,9,   286.09,2,   284.14,2,   99.249,   0.0302,2,    0.140,2,     0.12,2,    0.000,2,    70.85,2,     0.12,    31.45,2,     0.04,     0.14,2,     0.01,     2.19,2,     0.01,    4.115,2,    2.264,2,    0.397,2,    2.015,2,   -999.0,9,   -999.0,9,-999.0000,     -999,9, -999.000,9, -999.000,   -999.0,9,   -999.0, -999.000,9, -999.000, -999.000,9, -999.000
  49NZ20121128,  P14S,    24,  1,     30, X12J30,2,20121209,0834,-63.0015, 171.7573, 2697,    150.2,2,   0.8746,2,   0.87288,2,  34.5223,2,  34.5209,2,-999.0000,9,   217.71,2,   218.43,2,   99.604,   0.0159,2,    0.050,2,     0.04,2,    0.000,2,    77.00,2,     0.13,    33.02,2,     0.05,     0.03,2,     0.01,     2.27,2,     0.01,    1.973,2,    1.079,2,    0.176,2,    0.890,2,   -999.0,9,   -999.0,9,-999.0000,     -999,9, -999.000,9, -999.000,   -999.0,9,   -999.0, -999.000,9, -999.000, -999.000,9, -999.000
  49NZ20121128,  P14S,    24,  1,     29, X12J29,2,20121209,0834,-63.0015, 171.7573, 2697,    200.9,2,   1.7928,2,   1.79231,2,  34.6669,2,  34.6663,2,-999.0000,9,   179.99,2,   180.35,2,   99.703,   0.0119,2,    0.040,2,     0.02,2,    0.000,2,    81.69,2,     0.13,    33.22,2,     0.05,     0.01,2,     0.01,     2.28,2,     0.01,    0.637,2,    0.328,2,    0.048,2,    0.240,2,   -999.0,9,   -999.0,9,-999.0000,     -999,9, -999.000,9, -999.000,   -999.0,9,   -999.0, -999.000,9, -999.000, -999.000,9, -999.000
  49NZ20121128,  P14S,    24,  1,     28, X12J28,2,20121209,0834,-63.0015, 171.7573, 2697,    250.2,2,   1.8203,2,   1.82001,2,  34.6848,2,  34.6849,2,-999.0000,9,   179.94,2,   180.29,2,   99.747,   0.0101,2,    0.010,2,     0.01,2,    0.000,2,    82.65,2,     0.13,    32.93,2,     0.05,     0.01,2,     0.01,     2.26,2,     0.01,    0.536,2,    0.270,2,    0.038,2,    0.144,2,   -999.0,9,   -999.0,9,-999.0000,     -999,9, -999.000,9, -999.000,   -999.0,9,   -999.0, -999.000,9, -999.000, -999.000,9, -999.000
  49NZ20121128,  P14S,    24,  1,     27, X12J27,2,20121209,0834,-63.0015, 171.7573, 2697,    279.9,2,   1.8097,2,   1.80935,2,  34.6929,2,  34.6929,2,-999.0000,9,   181.13,2,   181.55,2,   99.673,   0.0131,2,    0.010,2,  -999.00,9,    0.000,2,    83.24,2,     0.13,    32.73,2,     0.05,     0.01,2,     0.01,     2.25,2,     0.01,    0.503,2,    0.246,2,    0.035,2,    0.146,2,   -999.0,9,   -999.0,9,-999.0000,     -999,9, -999.000,9, -999.000,   -999.0,9,   -999.0, -999.000,9, -999.000, -999.000,9, -999.000
  49NZ20121128,  P14S,    24,  1,     26, X12J26,2,20121209,0834,-63.0015, 171.7573, 2697,    370.2,2,   1.7918,2,   1.79159,2,  34.7090,2,  34.7090,2,-999.0000,9,   183.78,2,   184.26,2,   99.841,   0.0064,2,    0.010,2,  -999.00,9,    0.000,2,    84.23,2,     0.13,    32.27,2,     0.05,     0.01,2,     0.01,     2.22,2,     0.01,    0.431,2,    0.206,2,    0.026,2,    0.073,2,   -999.0,9,   -999.0,9,-999.0000,     -999,9, -999.000,9, -999.000,   -999.0,9,   -999.0, -999.000,9, -999.000, -999.000,9, -999.000
  49NZ20121128,  P14S,    24,  1,     25, X12J25,2,20121209,0834,-63.0015, 171.7573, 2697,    470.9,2,   1.7430,2,   1.74284,2,  34.7209,2,  34.7211,2,-999.0000,9,   187.23,2,   187.41,2,   99.914,   0.0034,2,    0.000,2,  -999.00,9,    0.000,2,    85.67,2,     0.14,    31.81,2,     0.04,     0.01,2,     0.01,     2.19,2,     0.01,    0.377,2,    0.177,2,    0.026,2,    0.128,2,   -999.0,9,   -999.0,9,-999.0000,     -999,9, -999.000,9, -999.000,   -999.0,9,   -999.0, -999.000,9, -999.000, -999.000,9, -999.000
  49NZ20121128,  P14S,    24,  1,     24, X12J24,2,20121209,0834,-63.0015, 171.7573, 2697,    569.7,2,   1.6632,2,   1.66301,2,  34.7255,2,  34.7259,2,-999.0000,9,   190.35,2,   190.64,2,   99.914,   0.0034,2,    0.000,2,  -999.00,9,    0.000,2,    87.15,2,     0.14,    31.58,2,     0.04,     0.01,2,     0.01,     2.15,2,     0.01,    0.356,6,    0.172,6,    0.024,6,    0.143,6,   -999.0,9,   -999.0,9,-999.0000,     -999,9, -999.000,9, -999.000,   -999.0,9,   -999.0, -999.000,9, -999.000, -999.000,9, -999.000
  49NZ20121128,  P14S,    24,  1,     23, X12J23,2,20121209,0834,-63.0015, 171.7573, 2697,    669.9,2,   1.5860,2,   1.58577,2,  34.7292,2,  34.7299,2,-999.0000,9,   192.80,2,   193.08,2,   99.920,   0.0032,2,    0.000,2,  -999.00,9,    0.000,2,    89.16,2,     0.14,    31.36,2,     0.04,     0.01,2,     0.01,     2.14,2,     0.01,    0.328,2,    0.158,2,    0.019,2,    0.095,2,   -999.0,9,   -999.0,9,-999.0000,     -999,9, -999.000,9, -999.000,   -999.0,9,   -999.0, -999.000,9, -999.000, -999.000,9, -999.000
  49NZ20121128,  P14S,    24,  1,     22, X12J22,2,20121209,0834,-63.0015, 171.7573, 2697,    771.4,2,   1.5139,2,   1.51380,2,  34.7323,2,  34.7328,2,-999.0000,9,   194.71,2,   195.03,2,   99.941,   0.0024,2,    0.000,2,  -999.00,9,    0.000,2,    91.63,2,     0.14,    31.27,2,     0.04,     0.01,2,     0.01,     2.14,2,     0.01,    0.291,2,    0.136,2,    0.015,2,    0.121,2,   -999.0,9,   -999.0,9,-999.0000,     -999,9, -999.000,9, -999.000,   -999.0,9,   -999.0, -999.000,9, -999.000, -999.000,9, -999.000
  49NZ20121128,  P14S,    24,  1,     21, X12J21,2,20121209,0834,-63.0015, 171.7573, 2697,    869.9,2,   1.4289,2,   1.42867,2,  34.7325,2,  34.7329,2,-999.0000,9,   196.55,2,   196.90,2,   99.905,   0.0038,2,    0.000,2,  -999.00,9,    0.000,2,    94.52,2,     0.14,    31.28,2,     0.04,     0.01,2,     0.01,     2.15,2,     0.01,    0.253,2,    0.119,2,    0.013,2,    0.109,2,   -999.0,9,   -999.0,9,-999.0000,     -999,9, -999.000,9, -999.000,   -999.0,9,   -999.0, -999.000,9, -999.000, -999.000,9, -999.000
  49NZ20121128,  P14S,    24,  1,     20, X12J20,2,20121209,0834,-63.0015, 171.7573, 2697,    961.5,2,   1.3469,2,   1.34671,2,  34.7297,2,  34.7303,2,-999.0000,9,   197.51,2,   197.90,2,   99.937,   0.0025,2,    0.000,2,  -999.00,9,    0.000,2,    96.77,2,     0.15,    31.37,2,     0.04,     0.01,2,     0.01,     2.16,2,     0.01,    0.259,2,    0.120,2,    0.014,2,    0.160,2,   -999.0,9,   -999.0,9,-999.0000,     -999,9, -999.000,9, -999.000,   -999.0,9,   -999.0, -999.000,9, -999.000, -999.000,9, -999.000
  49NZ20121128,  P14S,    24,  1,     19, X12J19,2,20121209,0834,-63.0015, 171.7573, 2697,   1170.3,2,   1.1996,2,   1.19929,2,  34.7254,2,  34.7260,2,-999.0000,9,   199.75,2,   200.10,2,   99.941,   0.0024,2,    0.000,2,  -999.00,9,    0.000,2,   101.52,2,     0.15,    31.54,2,     0.04,     0.01,2,     0.01,     2.17,2,     0.01,    0.240,6,    0.110,6,    0.012,6,    0.077,6,   -999.0,9,   -999.0,9,-999.0000,     -999,9, -999.000,9, -999.000,   -999.0,9,   -999.0, -999.000,9, -999.000, -999.000,9, -999.000
  49NZ20121128,  P14S,    24,  1,     18, X12J18,2,20121209,0834,-63.0015, 171.7573, 2697,   1420.9,2,   1.0341,2,   1.03395,2,  34.7183,2,  34.7185,2,-999.0000,9,   201.52,2,   201.82,2,   99.949,   0.0020,2,   -0.000,2,  -999.00,9,    0.000,2,   106.62,2,     0.15,    31.83,2,     0.04,     0.01,2,     0.01,     2.19,2,     0.01,    0.245,2,    0.113,2,    0.013,2,    0.091,2,   -999.0,9,   -999.0,9,-999.0000,     -999,9, -999.000,9, -999.000,   -999.0,9,   -999.0, -999.000,9, -999.000, -999.000,9, -999.000
  49NZ20121128,  P14S,    24,  1,     17, X12J17,2,20121209,0834,-63.0015, 171.7573, 2697,   1671.0,2,   0.7479,2,   0.74764,2,  34.7061,2,  34.7067,2,-999.0000,9,   205.53,2,   205.80,2,   99.945,   0.0022,2,   -0.000,2,  -999.00,9,    0.000,2,   114.61,2,     0.16,    32.21,2,     0.05,     0.01,2,     0.01,     2.22,2,     0.01,    0.301,2,    0.141,2,    0.013,2,    0.073,2,   -999.0,9,   -999.0,9,-999.0000,     -999,9, -999.000,9, -999.000,   -999.0,9,   -999.0, -999.000,9, -999.000, -999.000,9, -999.000
  49NZ20121128,  P14S,    24,  1,     16, X12J16,2,20121209,0834,-63.0015, 171.7573, 2697,   1923.7,2,   0.5648,2,   0.56480,2,  34.6989,2,  34.6995,2,-999.0000,9,   209.10,2,   209.51,2,   99.897,   0.0041,2,   -0.000,2,  -999.00,9,    0.000,2,   119.12,2,     0.17,    32.42,2,     0.05,     0.01,2,     0.01,     2.23,2,     0.01,    0.421,2,    0.203,2,    0.022,2,    0.104,2,   -999.0,9,   -999.0,9,-999.0000,     -999,9, -999.000,9, -999.000,   -999.0,9,   -999.0, -999.000,9, -999.000, -999.000,9, -999.000
  49NZ20121128,  P14S,    24,  1,     15, X12J15,2,20121209,0834,-63.0015, 171.7573, 2697,   2171.0,2,   0.4901,2,   0.49000,2,  34.6956,2,  34.6962,2,-999.0000,9,   210.62,2,   211.07,2,   99.874,   0.0050,2,   -0.000,2,  -999.00,9,    0.000,2,   120.01,2,     0.17,    32.53,2,     0.05,     0.01,2,     0.01,     2.24,2,     0.01,    0.488,2,    0.240,2,    0.025,2,    0.112,2,   -999.0,9,   -999.0,9,-999.0000,     -999,9, -999.000,9, -999.000,   -999.0,9,   -999.0, -999.000,9, -999.000, -999.000,9, -999.000
  49NZ20121128,  P14S,    24,  1,     14, X12J14,2,20121209,0834,-63.0015, 171.7573, 2697,   2422.7,2,   0.4843,2,   0.48425,2,  34.6947,2,  34.6952,2,-999.0000,9,   211.19,2,   211.69,2,   99.832,   0.0067,2,   -0.000,2,  -999.00,9,    0.000,2,   119.85,2,     0.17,    32.47,2,     0.05,     0.01,2,     0.01,     2.24,2,     0.01,    0.515,2,    0.253,2,    0.028,2,    0.145,2,   -999.0,9,   -999.0,9,-999.0000,     -999,9, -999.000,9, -999.000,   -999.0,9,   -999.0, -999.000,9, -999.000, -999.000,9, -999.000
  49NZ20121128,  P14S,    24,  1,      1, X12J01,2,20121209,0834,-63.0015, 171.7573, 2697,   2646.9,2,   0.4768,2,   0.47665,2,  34.6939,2,  34.6945,2,-999.0000,9,   211.74,2,   212.38,2,   99.761,   0.0096,2,   -0.000,2,  -999.00,9,    0.000,2,   120.38,2,     0.17,    32.50,2,     0.05,     0.01,2,     0.01,     2.25,2,     0.01,    0.544,2,    0.262,2,    0.029,2,    0.208,2,   -999.0,9,   -999.0,9,-999.0000,     -999,9, -999.000,9, -999.000,   -999.0,9,   -999.0, -999.000,9, -999.000, -999.000,9, -999.000