BOTTLE,20220819CCHSIOAMB
EXPOCODE,SECT_ID,STNNBR,CASTNO,SAMPNO,BTLNBR,BTLNBR_FLAG_W,DATE,TIME,LATITUDE,LONGITUDE,DEPTH,CTDPRS,CTDPRS_FLAG_W,CTDTMP,CTDTMP_FLAG_W,SBE35,SBE35_FLAG_W,CTDSAL,CTDSAL_FLAG_W,SALNTY,SALNTY_FLAG_W,DNSSAL,DNSSAL_FLAG_W,CTDOXY,CTDOXY_FLAG_W,OXYGEN,OXYGEN_FLAG_W,CTDXMISS,CTDXMISSCP,CTDXMISS_FLAG_W,CTDFLUOR,CTDFLUOR_FLAG_W,CHLORA,CHLORA_FLAG_W,PAR,PAR_FLAG_W,SILCAT,SILCAT_FLAG_W,SILUNC,NITRAT,NITRAT_FLAG_W,NRAUNC,NITRIT,NITRIT_FLAG_W,NRIUNC,PHSPHT,PHSPHT_FLAG_W,PHPUNC,CFC-11,CFC-11_FLAG_W,CFC-12,CFC-12_FLAG_W,CFC113,CFC113_FLAG_W,SF6,SF6_FLAG_W,TCARBN,TCARBN_FLAG_W,ALKALI,ALKALI_FLAG_W,PH_TOT,PH_TMP,PH_TOT_FLAG_W,DELC13,DELC13_FLAG_W,C13ERR,DELC14,DELC14_FLAG_W,C14ERR,CS-134,CS-134_FLAG_W,CS134ER,CS-137,CS-137_FLAG_W,CS137ER
,,,,,,,,UTC,DEG,DEG,METERS,DBAR,,ITS-90,,ITS-90,,PSS-78,,PSS-78,,G/KG,,UMOL/KG,,UMOL/KG,,%TRANS,/METER,,MG/M^3,,MG/CUM,,UE/SQM/S,,UMOL/KG,,UMOL/KG,UMOL/KG,,UMOL/KG,UMOL/KG,,UMOL/KG,UMOL/KG,,UMOL/KG,PMOL/KG,,PMOL/KG,,PMOL/KG,,FMOL/KG,,UMOL/KG,,UMOL/KG,,,DEG C,,/MILLE,,/MILLE,/MILLE,,/MILLE,MBQ/KG,,MBQ/KG,MBQ/KG,,MBQ/KG
  49NZ20121128,  P14S,    13,  1,     36, X12J36,2,20121206,1052,-58.0108, 173.9972, 5194,      5.5,2,   6.5958,2,   6.59571,2,  34.2161,2,  34.2163,2,-999.0000,9,   296.99,2,   296.94,2,   95.598,   0.1801,2,    0.690,2,  -999.00,9,    0.456,2,     3.88,2,     0.06,    18.18,2,     0.03,     0.20,2,     0.01,     1.29,2,     0.01,    3.941,2,    2.281,2,    0.355,2, -999.000,9,   -999.0,9,   -999.0,9,-999.0000,     -999,9, -999.000,9, -999.000,   -999.0,9,   -999.0, -999.000,9, -999.000, -999.000,9, -999.000
  49NZ20121128,  P14S,    13,  1,     35, X12J35,2,20121206,1052,-58.0108, 173.9972, 5194,     25.3,2,   6.5947,2,   6.59463,2,  34.2159,2,  34.2158,2,-999.0000,9,   297.03,2,   297.26,2,   95.583,   0.1807,2,    0.680,2,  -999.00,9,    0.000,2,     3.87,2,     0.06,    18.18,2,     0.03,     0.20,2,     0.01,     1.29,2,     0.01,    3.912,2,    2.277,2,    0.368,2, -999.000,9,   -999.0,9,   -999.0,9,-999.0000,     -999,9, -999.000,9, -999.000,   -999.0,9,   -999.0, -999.000,9, -999.000, -999.000,9, -999.000
  49NZ20121128,  P14S,    13,  1,     34, X12J34,2,20121206,1052,-58.0108, 173.9972, 5194,     50.7,2,   6.5974,2,   6.59721,2,  34.2160,2,  34.2160,2,-999.0000,9,   296.91,2,   297.15,2,   95.627,   0.1789,2,    0.690,2,  -999.00,9,    0.000,2,     3.86,2,     0.06,    18.20,2,     0.03,     0.20,2,     0.01,     1.29,2,     0.01,    3.952,6,    2.284,6,    0.363,6, -999.000,9,   -999.0,9,   -999.0,9,-999.0000,     -999,9, -999.000,9, -999.000,   -999.0,9,   -999.0, -999.000,9, -999.000, -999.000,9, -999.000
  49NZ20121128,  P14S,    13,  1,     33, X12J33,2,20121206,1052,-58.0108, 173.9972, 5194,     75.1,2,   6.5836,2,   6.58374,2,  34.2151,2,  34.2152,2,-999.0000,9,   296.74,2,   297.18,2,   95.982,   0.1640,2,    0.660,2,  -999.00,9,    0.000,2,     3.90,2,     0.06,    18.23,2,     0.03,     0.20,2,     0.01,     1.30,2,     0.01,    3.957,2,    2.283,2,    0.349,2, -999.000,9,   -999.0,9,   -999.0,9,-999.0000,     -999,9, -999.000,9, -999.000,   -999.0,9,   -999.0, -999.000,9, -999.000, -999.000,9, -999.000
  49NZ20121128,  P14S,    13,  1,     32, X12J32,2,20121206,1052,-58.0108, 173.9972, 5194,    100.4,2,   5.9234,2,   5.92299,2,  34.1497,2,  34.1501,2,-999.0000,9,   299.54,2,   299.75,2,   97.276,   0.1105,2,    0.480,2,  -999.00,9,    0.000,2,     4.91,2,     0.06,    19.69,2,     0.03,     0.19,2,     0.01,     1.41,2,     0.01,    4.114,2,    2.366,2,    0.361,2, -999.000,9,   -999.0,9,   -999.0,9,-999.0000,     -999,9, -999.000,9, -999.000,   -999.0,9,   -999.0, -999.000,9, -999.000, -999.000,9, -999.000
  49NZ20121128,  P14S,    13,  1,     31, X12J31,2,20121206,1052,-58.0108, 173.9972, 5194,    126.2,2,   5.4207,2,   5.42087,2,  34.1325,2,  34.1326,2,-999.0000,9,   293.66,2,   293.64,2,   99.108,   0.0358,2,    0.180,2,  -999.00,9,    0.000,2,     6.94,2,     0.06,    21.47,2,     0.03,     0.22,2,     0.01,     1.53,2,     0.01,    4.166,2,    2.369,2,    0.379,2, -999.000,9,   -999.0,9,   -999.0,9,-999.0000,     -999,9, -999.000,9, -999.000,   -999.0,9,   -999.0, -999.000,9, -999.000, -999.000,9, -999.000
  49NZ20121128,  P14S,    13,  1,     30, X12J30,2,20121206,1052,-58.0108, 173.9972, 5194,    149.9,2,   5.3574,2,   5.35815,2,  34.1338,2,  34.1344,2,-999.0000,9,   293.99,2,   293.85,2,   99.290,   0.0285,2,    0.130,2,  -999.00,9,    0.000,2,     7.09,2,     0.06,    21.61,2,     0.03,     0.22,2,     0.01,     1.53,2,     0.01,    4.179,2,    2.389,2,    0.370,2, -999.000,9,   -999.0,9,   -999.0,9,-999.0000,     -999,9, -999.000,9, -999.000,   -999.0,9,   -999.0, -999.000,9, -999.000, -999.000,9, -999.000
  49NZ20121128,  P14S,    13,  1,     29, X12J29,2,20121206,1052,-58.0108, 173.9972, 5194,    202.2,2,   5.7095,2,   5.70581,2,  34.2080,2,  34.2043,2,-999.0000,9,   291.54,2,   291.78,2,   99.539,   0.0185,2,    0.110,2,  -999.00,9,    0.000,2,     6.71,2,     0.06,    20.92,2,     0.03,     0.23,2,     0.01,     1.48,2,     0.01,    4.068,2,    2.335,2,    0.357,2, -999.000,9,   -999.0,9,   -999.0,9,-999.0000,     -999,9, -999.000,9, -999.000,   -999.0,9,   -999.0, -999.000,9, -999.000, -999.000,9, -999.000
  49NZ20121128,  P14S,    13,  1,     28, X12J28,2,20121206,1052,-58.0108, 173.9972, 5194,    251.2,2,   5.5192,2,   5.51946,2,  34.1828,2,  34.1830,2,-999.0000,9,   293.04,2,   292.98,2,   99.652,   0.0139,2,    0.080,2,  -999.00,9,    0.000,2,     6.97,2,     0.06,    21.36,2,     0.03,     0.22,2,     0.01,     1.50,2,     0.01,    4.117,2,    2.347,2,    0.387,2, -999.000,9,   -999.0,9,   -999.0,9,-999.0000,     -999,9, -999.000,9, -999.000,   -999.0,9,   -999.0, -999.000,9, -999.000, -999.000,9, -999.000
  49NZ20121128,  P14S,    13,  1,     27, X12J27,2,20121206,1052,-58.0108, 173.9972, 5194,    301.2,2,   5.4745,2,   5.47445,2,  34.1792,2,  34.1792,2,-999.0000,9,   293.64,2,   293.61,2,   99.729,   0.0109,2,    0.060,2,  -999.00,9,    0.000,2,     6.97,2,     0.06,    21.51,2,     0.03,     0.16,2,     0.01,     1.51,2,     0.01,    4.112,2,    2.363,2,    0.383,2, -999.000,9,   -999.0,9,   -999.0,9,-999.0000,     -999,9, -999.000,9, -999.000,   -999.0,9,   -999.0, -999.000,9, -999.000, -999.000,9, -999.000
  49NZ20121128,  P14S,    13,  1,     26, X12J26,2,20121206,1052,-58.0108, 173.9972, 5194,    400.9,2,   5.5155,2,   5.51303,2,  34.1936,2,  34.1981,2,-999.0000,9,   288.71,2,   289.24,2,   99.785,   0.0086,2,    0.040,2,  -999.00,9,    0.000,2,     7.48,2,     0.07,    21.77,2,     0.03,     0.08,2,     0.01,     1.52,2,     0.01,    4.076,2,    2.321,2,    0.364,2, -999.000,9,   -999.0,9,   -999.0,9,-999.0000,     -999,9, -999.000,9, -999.000,   -999.0,9,   -999.0, -999.000,9, -999.000, -999.000,9, -999.000
  49NZ20121128,  P14S,    13,  1,     25, X12J25,2,20121206,1052,-58.0108, 173.9972, 5194,    501.5,2,   4.6640,2,   4.66592,2,  34.1567,2,  34.1573,2,-999.0000,9,   259.92,2,   260.13,2,   99.842,   0.0063,2,    0.010,2,  -999.00,9,    0.000,2,    14.77,2,     0.07,    26.38,2,     0.04,     0.05,2,     0.01,     1.81,2,     0.01,    3.863,2,    2.128,2,    0.294,2, -999.000,9,   -999.0,9,   -999.0,9,-999.0000,     -999,9, -999.000,9, -999.000,   -999.0,9,   -999.0, -999.000,9, -999.000, -999.000,9, -999.000
  49NZ20121128,  P14S,    13,  1,     24, X12J24,2,20121206,1052,-58.0108, 173.9972, 5194,    600.4,2,   4.3946,2,   4.39488,2,  34.2394,2,  34.2391,2,-999.0000,9,   230.82,2,   231.76,2,   99.915,   0.0034,2,   -0.010,2,  -999.00,9,    0.000,2,    23.28,2,     0.08,    29.17,2,     0.04,     0.01,2,     0.01,     1.99,2,     0.01,    3.234,6,    1.727,6,    0.240,6, -999.000,9,   -999.0,9,   -999.0,9,-999.0000,     -999,9, -999.000,9, -999.000,   -999.0,9,   -999.0, -999.000,9, -999.000, -999.000,9, -999.000
  49NZ20121128,  P14S,    13,  1,     23, X12J23,2,20121206,1052,-58.0108, 173.9972, 5194,    702.1,2,   3.6582,2,   3.65920,2,  34.2492,2,  34.2494,2,-999.0000,9,   225.03,2,   225.57,2,   99.898,   0.0041,2,   -0.010,2,  -999.00,9,    0.000,2,    31.09,2,     0.09,    30.95,2,     0.04,     0.01,2,     0.01,     2.12,2,     0.01,    2.933,2,    1.549,2,    0.209,2, -999.000,9,   -999.0,9,   -999.0,9,-999.0000,     -999,9, -999.000,9, -999.000,   -999.0,9,   -999.0, -999.000,9, -999.000, -999.000,9, -999.000
  49NZ20121128,  P14S,    13,  1,     22, X12J22,2,20121206,1052,-58.0108, 173.9972, 5194,    801.6,2,   3.3651,2,   3.36370,2,  34.2957,2,  34.2954,2,-999.0000,9,   212.55,2,   213.21,2,   99.915,   0.0034,2,   -0.000,2,  -999.00,9,    0.000,2,    38.55,2,     0.09,    32.17,2,     0.05,     0.01,2,     0.01,     2.20,2,     0.01,    2.430,2,    1.272,2,    0.187,2, -999.000,9,   -999.0,9,   -999.0,9,-999.0000,     -999,9, -999.000,9, -999.000,   -999.0,9,   -999.0, -999.000,9, -999.000, -999.000,9, -999.000
  49NZ20121128,  P14S,    13,  1,     21, X12J21,2,20121206,1052,-58.0108, 173.9972, 5194,    902.4,2,   3.0773,2,   3.07686,2,  34.3534,2,  34.3521,2,-999.0000,9,   199.15,2,   199.80,2,   99.929,   0.0028,2,   -0.000,2,  -999.00,9,    0.000,2,    47.11,2,     0.10,    33.31,2,     0.05,     0.01,2,     0.01,     2.28,2,     0.01,    1.900,2,    0.984,2,    0.142,2, -999.000,9,   -999.0,9,   -999.0,9,-999.0000,     -999,9, -999.000,9, -999.000,   -999.0,9,   -999.0, -999.000,9, -999.000, -999.000,9, -999.000
  49NZ20121128,  P14S,    13,  1,     20, X12J20,2,20121206,1052,-58.0108, 173.9972, 5194,   1000.2,2,   2.9079,2,   2.90759,2,  34.4147,2,  34.4163,2,-999.0000,9,   187.96,2,   188.19,2,   99.919,   0.0032,2,    0.000,2,  -999.00,9,    0.000,2,    54.98,2,     0.11,    33.96,2,     0.05,     0.01,2,     0.01,     2.33,2,     0.01,    1.422,2,    0.729,2,    0.097,2, -999.000,9,   -999.0,9,   -999.0,9,-999.0000,     -999,9, -999.000,9, -999.000,   -999.0,9,   -999.0, -999.000,9, -999.000, -999.000,9, -999.000
  49NZ20121128,  P14S,    13,  1,     19, X12J19,2,20121206,1052,-58.0108, 173.9972, 5194,   1251.0,2,   2.6065,2,   2.60639,2,  34.5376,2,  34.5374,2,-999.0000,9,   174.96,2,   175.06,2,   99.917,   0.0033,2,    0.000,2,  -999.00,9,    0.000,2,    67.11,2,     0.12,    34.20,2,     0.05,     0.01,2,     0.01,     2.35,2,     0.01,    0.734,6,    0.367,6,    0.052,6, -999.000,9,   -999.0,9,   -999.0,9,-999.0000,     -999,9, -999.000,9, -999.000,   -999.0,9,   -999.0, -999.000,9, -999.000, -999.000,9, -999.000
  49NZ20121128,  P14S,    13,  1,     18, X12J18,2,20121206,1052,-58.0108, 173.9972, 5194,   1500.5,2,   2.4275,2,   2.42740,2,  34.6310,2,  34.6311,2,-999.0000,9,   174.59,2,   174.57,2,   99.946,   0.0022,2,    0.000,2,  -999.00,9,    0.000,2,    73.63,2,     0.12,    33.25,2,     0.05,     0.01,2,     0.01,     2.29,2,     0.01,    0.393,2,    0.192,2,    0.026,2, -999.000,9,   -999.0,9,   -999.0,9,-999.0000,     -999,9, -999.000,9, -999.000,   -999.0,9,   -999.0, -999.000,9, -999.000, -999.000,9, -999.000
  49NZ20121128,  P14S,    13,  1,     17, X12J17,2,20121206,1052,-58.0108, 173.9972, 5194,   1749.8,2,   2.2857,2,   2.28574,2,  34.6873,2,  34.6873,2,-999.0000,9,   179.64,2,   179.61,2,   99.685,   0.0126,2,    0.000,2,  -999.00,9,    0.000,2,    77.62,2,     0.13,    32.29,2,     0.05,     0.01,2,     0.01,     2.22,2,     0.01,    0.242,2,    0.120,2,    0.020,2, -999.000,9,   -999.0,9,   -999.0,9,-999.0000,     -999,9, -999.000,9, -999.000,   -999.0,9,   -999.0, -999.000,9, -999.000, -999.000,9, -999.000
  49NZ20121128,  P14S,    13,  1,     16, X12J16,2,20121206,1052,-58.0108, 173.9972, 5194,   1999.4,2,   2.1240,2,   2.12434,2,  34.7208,2,  34.7207,2,-999.0000,9,   185.66,2,   185.84,2,   99.957,   0.0017,2,    0.000,2,  -999.00,9,    0.000,2,    81.98,2,     0.13,    31.53,2,     0.04,     0.01,2,     0.01,     2.17,2,     0.01,    0.178,2,    0.085,2,    0.024,2, -999.000,9,   -999.0,9,   -999.0,9,-999.0000,     -999,9, -999.000,9, -999.000,   -999.0,9,   -999.0, -999.000,9, -999.000, -999.000,9, -999.000
  49NZ20121128,  P14S,    13,  1,     15, X12J15,2,20121206,1052,-58.0108, 173.9972, 5194,   2251.9,2,   1.9325,2,   1.93280,2,  34.7355,2,  34.7352,2,-999.0000,9,   190.77,2,   190.64,2,   99.957,   0.0017,2,    0.000,2,  -999.00,9,    0.000,2,    86.94,2,     0.14,    31.19,2,     0.04,     0.01,2,     0.01,     2.14,2,     0.01,    0.141,2,    0.070,2,    0.022,2, -999.000,9,   -999.0,9,   -999.0,9,-999.0000,     -999,9, -999.000,9, -999.000,   -999.0,9,   -999.0, -999.000,9, -999.000, -999.000,9, -999.000
  49NZ20121128,  P14S,    13,  1,     14, X12J14,2,20121206,1052,-58.0108, 173.9972, 5194,   2501.4,2,   1.7349,2,   1.73485,2,  34.7378,2,  34.7373,2,-999.0000,9,   194.59,2,   194.69,2,   99.965,   0.0014,2,   -0.000,2,  -999.00,9,    0.000,2,    92.65,2,     0.14,    31.19,2,     0.04,     0.01,2,     0.01,     2.15,2,     0.01,    0.126,2,    0.059,2,    0.018,2, -999.000,9,   -999.0,9,   -999.0,9,-999.0000,     -999,9, -999.000,9, -999.000,   -999.0,9,   -999.0, -999.000,9, -999.000, -999.000,9, -999.000
  49NZ20121128,  P14S,    13,  1,     13, X12J13,2,20121206,1052,-58.0108, 173.9972, 5194,   2751.5,2,   1.5451,2,   1.54524,2,  34.7341,2,  34.7337,2,-999.0000,9,   197.56,2,   197.53,2,   99.942,   0.0023,2,    0.000,2,  -999.00,9,    0.000,2,    98.26,2,     0.15,    31.36,2,     0.04,     0.01,2,     0.01,     2.16,2,     0.01,    0.123,2,    0.059,2,    0.007,2, -999.000,9,   -999.0,9,   -999.0,9,-999.0000,     -999,9, -999.000,9, -999.000,   -999.0,9,   -999.0, -999.000,9, -999.000, -999.000,9, -999.000
  49NZ20121128,  P14S,    13,  1,     12, X12J12,2,20121206,1052,-58.0108, 173.9972, 5194,   2999.5,2,   1.3834,2,   1.38360,2,  34.7288,2,  34.7282,2,-999.0000,9,   199.97,2,   199.86,2,   99.942,   0.0023,2,    0.000,2,  -999.00,9,    0.000,2,   102.99,2,     0.15,    31.55,2,     0.04,     0.01,2,     0.01,     2.17,2,     0.01,    0.127,2,    0.060,2,    0.009,2, -999.000,9,   -999.0,9,   -999.0,9,-999.0000,     -999,9, -999.000,9, -999.000,   -999.0,9,   -999.0, -999.000,9, -999.000, -999.000,9, -999.000
  49NZ20121128,  P14S,    13,  1,     11, X12J11,2,20121206,1052,-58.0108, 173.9972, 5194,   3249.6,2,   1.2471,2,   1.24716,2,  34.7231,2,  34.7228,2,-999.0000,9,   202.24,2,   202.08,2,   99.944,   0.0022,2,   -0.000,2,  -999.00,9,    0.000,2,   106.98,2,     0.15,    31.69,2,     0.04,     0.01,2,     0.01,     2.18,2,     0.01,    0.148,2,    0.068,2,    0.006,2, -999.000,9,   -999.0,9,   -999.0,9,-999.0000,     -999,9, -999.000,9, -999.000,   -999.0,9,   -999.0, -999.000,9, -999.000, -999.000,9, -999.000
  49NZ20121128,  P14S,    13,  1,     10, X12J10,2,20121206,1052,-58.0108, 173.9972, 5194,   3498.9,2,   1.1423,2,   1.14232,2,  34.7181,2,  34.7174,2,-999.0000,9,   204.23,2,   204.09,2,   99.936,   0.0026,2,   -0.000,2,  -999.00,9,    0.000,2,   110.27,2,     0.16,    31.85,2,     0.04,     0.01,2,     0.01,     2.19,2,     0.01,    0.181,2,    0.083,2,    0.008,2, -999.000,9,   -999.0,9,   -999.0,9,-999.0000,     -999,9, -999.000,9, -999.000,   -999.0,9,   -999.0, -999.000,9, -999.000, -999.000,9, -999.000
  49NZ20121128,  P14S,    13,  1,      9, X12J09,2,20121206,1052,-58.0108, 173.9972, 5194,   3750.4,2,   1.0561,2,   1.05606,2,  34.7134,2,  34.7128,2,-999.0000,9,   205.97,2,   205.76,2,   99.932,   0.0027,2,   -0.000,2,  -999.00,9,    0.000,2,   113.09,2,     0.16,    32.02,2,     0.04,     0.01,2,     0.01,     2.20,2,     0.01,    0.219,2,    0.103,2,    0.012,2, -999.000,9,   -999.0,9,   -999.0,9,-999.0000,     -999,9, -999.000,9, -999.000,   -999.0,9,   -999.0, -999.000,9, -999.000, -999.000,9, -999.000
  49NZ20121128,  P14S,    13,  1,      8, X12J08,2,20121206,1052,-58.0108, 173.9972, 5194,   4000.1,2,   0.9898,2,   0.99000,2,  34.7096,2,  34.7088,2,-999.0000,9,   207.55,2,   207.24,2,   99.923,   0.0031,2,   -0.000,2,  -999.00,9,    0.000,2,   115.26,2,     0.16,    32.08,2,     0.04,     0.01,2,     0.01,     2.20,2,     0.01,    0.252,6,    0.119,6,    0.017,6, -999.000,9,   -999.0,9,   -999.0,9,-999.0000,     -999,9, -999.000,9, -999.000,   -999.0,9,   -999.0, -999.000,9, -999.000, -999.000,9, -999.000
  49NZ20121128,  P14S,    13,  1,      7, X12J07,2,20121206,1052,-58.0108, 173.9972, 5194,   4249.2,2,   0.9470,2,   0.94730,2,  34.7066,2,  34.7063,2,-999.0000,9,   208.60,2,   208.49,2,   99.890,   0.0044,2,   -0.000,2,  -999.00,9,    0.000,2,   116.93,2,     0.16,    32.17,2,     0.05,     0.01,2,     0.01,     2.21,2,     0.01,    0.282,2,    0.132,2,    0.016,2, -999.000,9,   -999.0,9,   -999.0,9,-999.0000,     -999,9, -999.000,9, -999.000,   -999.0,9,   -999.0, -999.000,9, -999.000, -999.000,9, -999.000
  49NZ20121128,  P14S,    13,  1,      6, X12J06,2,20121206,1052,-58.0108, 173.9972, 5194,   4499.6,2,   0.9243,2,   0.92443,2,  34.7044,2,  34.7040,2,-999.0000,9,   209.32,2,   209.20,2,   99.913,   0.0035,2,   -0.000,2,  -999.00,9,    0.000,2,   118.47,2,     0.17,    32.23,2,     0.05,     0.01,2,     0.01,     2.22,2,     0.01,    0.303,2,    0.144,2,    0.012,2, -999.000,9,   -999.0,9,   -999.0,9,-999.0000,     -999,9, -999.000,9, -999.000,   -999.0,9,   -999.0, -999.000,9, -999.000, -999.000,9, -999.000
  49NZ20121128,  P14S,    13,  1,      5, X12J05,2,20121206,1052,-58.0108, 173.9972, 5194,   4751.0,2,   0.9086,2,   0.90864,2,  34.7023,2,  34.7019,2,-999.0000,9,   209.93,2,   209.97,2,   99.869,   0.0052,2,   -0.000,2,  -999.00,9,    0.000,2,   119.54,2,     0.17,    32.28,2,     0.05,     0.01,2,     0.01,     2.22,2,     0.01,    0.334,2,    0.159,2,    0.023,2, -999.000,9,   -999.0,9,   -999.0,9,-999.0000,     -999,9, -999.000,9, -999.000,   -999.0,9,   -999.0, -999.000,9, -999.000, -999.000,9, -999.000
  49NZ20121128,  P14S,    13,  1,      4, X12J04,2,20121206,1052,-58.0108, 173.9972, 5194,   5000.5,2,   0.9056,2,   0.90576,2,  34.7009,2,  34.7010,2,-999.0000,9,   210.20,2,   210.36,2,   99.825,   0.0070,2,   -0.000,2,  -999.00,9,    0.000,2,   120.51,2,     0.17,    32.33,2,     0.05,     0.01,2,     0.01,     2.22,2,     0.01,    0.355,2,    0.171,2,    0.021,2, -999.000,9,   -999.0,9,   -999.0,9,-999.0000,     -999,9, -999.000,9, -999.000,   -999.0,9,   -999.0, -999.000,9, -999.000, -999.000,9, -999.000
  49NZ20121128,  P14S,    13,  1,      3, X12J03,2,20121206,1052,-58.0108, 173.9972, 5194,   5250.1,2,   0.9162,2,   0.91626,2,  34.6998,2,  34.7001,2,-999.0000,9,   210.35,2,   210.64,2,   99.762,   0.0095,2,   -0.000,2,  -999.00,9,    0.000,2,   121.04,2,     0.17,    32.36,2,     0.05,     0.01,2,     0.01,     2.23,2,     0.01,    0.370,2,    0.177,2,    0.023,2, -999.000,9,   -999.0,9,   -999.0,9,-999.0000,     -999,9, -999.000,9, -999.000,   -999.0,9,   -999.0, -999.000,9, -999.000, -999.000,9, -999.000
  49NZ20121128,  P14S,    13,  1,      1, X12J01,2,20121206,1052,-58.0108, 173.9972, 5194,   5295.6,2,   0.9216,2,   0.92155,2,  34.6998,2,  34.7000,2,-999.0000,9,   210.39,2,   210.68,2,   99.739,   0.0105,2,   -0.000,2,  -999.00,9,    0.000,2,   121.21,2,     0.17,    32.38,2,     0.05,     0.01,2,     0.01,     2.23,2,     0.01,    0.372,2,    0.178,2,    0.022,2, -999.000,9,   -999.0,9,   -999.0,9,-999.0000,     -999,9, -999.000,9, -999.000,   -999.0,9,   -999.0, -999.000,9, -999.000, -999.000,9, -999.000