BOTTLE,20220819CCHSIOAMB
# Removed rows with no data at all
# Extracted rows with no pressure into residual file
#BOTTLE,20161206CCHSIORJL
# Change FLUOR to CTDFLUOR
# Change FLUOR_FLAG_W to CTDFLUOR_FLAG_W
#BOTTLE,20161202CCHSIORJL
# Change SECT to SECT_ID
# Change XMISS to CTDXMISS
# Change XMISSCP to CTDXMISSCP
# Change FLUOR units from MG/CUM to MG/M^3
#BOTTLE,20150320JAMSTECRIGC
#Software_Version: whp_btl_exchange.rb_v4.1 (occrp)
#ORIGINAL_SUM_FILE: 49NZ20121128_sum.txt Fri Feb 22 16:05:34 +0900 2013
#ORIGINAL_HYD_FILE: MR12050220150320000000.csv Fri Mar 20 21:11:16 +0900 2015
#DEPTH_TYPE: COR
#EVENT_CODE: BO
EXPOCODE,SECT_ID,STNNBR,CASTNO,SAMPNO,BTLNBR,BTLNBR_FLAG_W,DATE,TIME,LATITUDE,LONGITUDE,DEPTH,CTDPRS,CTDPRS_FLAG_W,CTDTMP,CTDTMP_FLAG_W,SBE35,SBE35_FLAG_W,CTDSAL,CTDSAL_FLAG_W,SALNTY,SALNTY_FLAG_W,DNSSAL,DNSSAL_FLAG_W,CTDOXY,CTDOXY_FLAG_W,OXYGEN,OXYGEN_FLAG_W,CTDXMISS,CTDXMISSCP,CTDXMISS_FLAG_W,CTDFLUOR,CTDFLUOR_FLAG_W,CHLORA,CHLORA_FLAG_W,PAR,PAR_FLAG_W,SILCAT,SILCAT_FLAG_W,SILUNC,NITRAT,NITRAT_FLAG_W,NRAUNC,NITRIT,NITRIT_FLAG_W,NRIUNC,PHSPHT,PHSPHT_FLAG_W,PHPUNC,CFC-11,CFC-11_FLAG_W,CFC-12,CFC-12_FLAG_W,CFC113,CFC113_FLAG_W,SF6,SF6_FLAG_W,TCARBN,TCARBN_FLAG_W,ALKALI,ALKALI_FLAG_W,PH_TOT,PH_TMP,PH_TOT_FLAG_W,DELC13,DELC13_FLAG_W,C13ERR,DELC14,DELC14_FLAG_W,C14ERR,CS-134,CS-134_FLAG_W,CS134ER,CS-137,CS-137_FLAG_W,CS137ER
,,,,,,,,UTC,DEG,DEG,METERS,DBAR,,ITS-90,,ITS-90,,PSS-78,,PSS-78,,G/KG,,UMOL/KG,,UMOL/KG,,%TRANS,/METER,,MG/M^3,,MG/CUM,,UE/SQM/S,,UMOL/KG,,UMOL/KG,UMOL/KG,,UMOL/KG,UMOL/KG,,UMOL/KG,UMOL/KG,,UMOL/KG,PMOL/KG,,PMOL/KG,,PMOL/KG,,FMOL/KG,,UMOL/KG,,UMOL/KG,,,DEG C,,/MILLE,,/MILLE,/MILLE,,/MILLE,MBQ/KG,,MBQ/KG,MBQ/KG,,MBQ/KG
  49NZ20121128,  P14S,     8,  1,     36, X12J36,2,20121205,0039,-55.4973, 172.4603, 5355,      5.2,2,   7.2999,2,   7.30012,2,  34.2473,2,  34.2483,2,-999.0000,9,   292.32,2,   291.71,2,   97.976,   0.0818,2,    0.240,2,  -999.00,9,  113.364,2,     3.75,2,     0.06,    16.91,2,     0.03,     0.24,2,     0.01,     1.23,2,     0.01,    3.832,2,    2.225,2,    0.356,2, -999.000,9,   -999.0,9,   -999.0,9,-999.0000,     -999,9, -999.000,9, -999.000,   -999.0,9,   -999.0, -999.000,9, -999.000, -999.000,9, -999.000
  49NZ20121128,  P14S,     8,  1,     35, X12J35,2,20121205,0039,-55.4973, 172.4603, 5355,     25.4,2,   7.2897,2,   7.28997,2,  34.2610,2,  34.2648,2,-999.0000,9,   292.30,2,   291.65,2,   97.999,   0.0809,2,    0.250,2,  -999.00,9,   33.182,2,     3.72,2,     0.06,    16.84,2,     0.03,     0.24,2,     0.01,     1.22,2,     0.01,    3.838,2,    2.231,2,    0.360,2, -999.000,9,   -999.0,9,   -999.0,9,-999.0000,     -999,9, -999.000,9, -999.000,   -999.0,9,   -999.0, -999.000,9, -999.000, -999.000,9, -999.000
  49NZ20121128,  P14S,     8,  1,     34, X12J34,2,20121205,0039,-55.4973, 172.4603, 5355,     49.9,2,   7.1807,2,   7.18070,2,  34.2531,2,  34.2534,2,-999.0000,9,   292.42,2,   291.86,2,   98.208,   0.0723,2,    0.320,2,  -999.00,9,    9.957,2,     3.74,2,     0.06,    17.11,2,     0.03,     0.24,2,     0.01,     1.24,2,     0.01,    3.854,6,    2.242,6,    0.366,6, -999.000,9,   -999.0,9,   -999.0,9,-999.0000,     -999,9, -999.000,9, -999.000,   -999.0,9,   -999.0, -999.000,9, -999.000, -999.000,9, -999.000
  49NZ20121128,  P14S,     8,  1,     33, X12J33,2,20121205,0039,-55.4973, 172.4603, 5355,     74.6,2,   7.3738,2,   7.37079,2,  34.2982,2,  34.3017,2,-999.0000,9,   288.10,2,   287.93,2,   98.436,   0.0631,2,    0.290,2,  -999.00,9,    3.440,2,     3.78,2,     0.06,    16.81,2,     0.03,     0.27,2,     0.01,     1.23,2,     0.01,    3.794,2,    2.208,2,    0.345,2, -999.000,9,   -999.0,9,   -999.0,9,-999.0000,     -999,9, -999.000,9, -999.000,   -999.0,9,   -999.0, -999.000,9, -999.000, -999.000,9, -999.000
  49NZ20121128,  P14S,     8,  1,     32, X12J32,2,20121205,0039,-55.4973, 172.4603, 5355,    100.8,2,   7.4411,2,   7.44074,2,  34.3442,2,  34.3439,2,-999.0000,9,   282.00,2,   281.78,2,   99.161,   0.0337,2,    0.160,2,  -999.00,9,    1.197,2,     3.94,2,     0.06,    17.15,2,     0.03,     0.26,2,     0.01,     1.24,2,     0.01,    3.754,2,    2.181,2,    0.337,2, -999.000,9,   -999.0,9,   -999.0,9,-999.0000,     -999,9, -999.000,9, -999.000,   -999.0,9,   -999.0, -999.000,9, -999.000, -999.000,9, -999.000
  49NZ20121128,  P14S,     8,  1,     31, X12J31,2,20121205,0039,-55.4973, 172.4603, 5355,    125.6,2,   7.3839,2,   7.38440,2,  34.3375,2,  34.3390,2,-999.0000,9,   281.99,2,   281.45,2,   99.480,   0.0209,2,    0.110,2,  -999.00,9,    0.552,2,     4.03,2,     0.06,    17.36,2,     0.03,     0.19,2,     0.01,     1.25,2,     0.01,    3.750,2,    2.185,2,    0.332,2, -999.000,9,   -999.0,9,   -999.0,9,-999.0000,     -999,9, -999.000,9, -999.000,   -999.0,9,   -999.0, -999.000,9, -999.000, -999.000,9, -999.000
  49NZ20121128,  P14S,     8,  1,     30, X12J30,2,20121205,0039,-55.4973, 172.4603, 5355,    150.7,2,   7.2392,2,   7.23899,2,  34.3157,2,  34.3154,2,-999.0000,9,   281.77,2,   281.41,2,   99.570,   0.0172,2,    0.090,2,  -999.00,9,    0.244,2,     4.23,2,     0.06,    17.79,2,     0.03,     0.18,2,     0.01,     1.28,2,     0.01,    3.772,2,    2.181,2,    0.345,2, -999.000,9,   -999.0,9,   -999.0,9,-999.0000,     -999,9, -999.000,9, -999.000,   -999.0,9,   -999.0, -999.000,9, -999.000, -999.000,9, -999.000
  49NZ20121128,  P14S,     8,  1,     29, X12J29,2,20121205,0039,-55.4973, 172.4603, 5355,    199.8,2,   7.7312,2,   7.73131,2,  34.4194,2,  34.4197,2,-999.0000,9,   279.57,2,   279.50,2,   99.459,   0.0217,2,    0.080,2,  -999.00,9,    0.027,2,     3.95,2,     0.06,    16.45,2,     0.03,     0.28,2,     0.01,     1.20,2,     0.01,    3.651,2,    2.123,2,    0.338,2, -999.000,9,   -999.0,9,   -999.0,9,-999.0000,     -999,9, -999.000,9, -999.000,   -999.0,9,   -999.0, -999.000,9, -999.000, -999.000,9, -999.000
  49NZ20121128,  P14S,     8,  1,     28, X12J28,2,20121205,0039,-55.4973, 172.4603, 5355,    251.9,2,   7.2576,2,   7.25817,2,  34.3371,2,  34.3380,2,-999.0000,9,   277.70,2,   277.64,2,   99.679,   0.0129,2,    0.050,2,  -999.00,9,    0.000,2,     4.68,2,     0.06,    18.11,2,     0.03,     0.12,2,     0.01,     1.30,2,     0.01,    3.725,2,    2.150,2,    0.345,2, -999.000,9,   -999.0,9,   -999.0,9,-999.0000,     -999,9, -999.000,9, -999.000,   -999.0,9,   -999.0, -999.000,9, -999.000, -999.000,9, -999.000
  49NZ20121128,  P14S,     8,  1,     27, X12J27,2,20121205,0039,-55.4973, 172.4603, 5355,    330.7,2,   7.5134,2,   7.51348,2,  34.4068,2,  34.4074,2,-999.0000,9,   278.00,2,   278.13,2,   99.641,   0.0144,2,    0.050,2,  -999.00,9,    0.000,2,     4.36,2,     0.06,    17.23,2,     0.03,     0.07,2,     0.01,     1.24,2,     0.01,    3.620,2,    2.120,2,    0.338,2, -999.000,9,   -999.0,9,   -999.0,9,-999.0000,     -999,9, -999.000,9, -999.000,   -999.0,9,   -999.0, -999.000,9, -999.000, -999.000,9, -999.000
  49NZ20121128,  P14S,     8,  1,     26, X12J26,2,20121205,0039,-55.4973, 172.4603, 5355,    431.4,2,   6.9718,2,   6.97049,2,  34.3707,2,  34.3706,2,-999.0000,9,   240.85,2,   241.77,2,   99.856,   0.0058,2,   -0.000,2,  -999.00,9,    0.000,2,     9.72,2,     0.07,    22.24,2,     0.03,     0.01,2,     0.01,     1.54,2,     0.01,    3.352,2,    1.876,2,    0.265,2, -999.000,9,   -999.0,9,   -999.0,9,-999.0000,     -999,9, -999.000,9, -999.000,   -999.0,9,   -999.0, -999.000,9, -999.000, -999.000,9, -999.000
  49NZ20121128,  P14S,     8,  1,     25, X12J25,2,20121205,0039,-55.4973, 172.4603, 5355,    533.5,2,   6.2360,2,   6.23602,2,  34.3433,2,  34.3428,2,-999.0000,9,   227.27,2,   228.20,2,   99.888,   0.0045,2,   -0.000,2,  -999.00,9,    0.000,2,    14.40,2,     0.07,    25.10,2,     0.04,     0.01,2,     0.01,     1.73,2,     0.01,    3.122,2,    1.712,2,    0.224,2, -999.000,9,   -999.0,9,   -999.0,9,-999.0000,     -999,9, -999.000,9, -999.000,   -999.0,9,   -999.0, -999.000,9, -999.000, -999.000,9, -999.000
  49NZ20121128,  P14S,     8,  1,     24, X12J24,2,20121205,0039,-55.4973, 172.4603, 5355,    631.5,2,   5.1620,2,   5.15436,2,  34.2698,2,  34.2728,2,-999.0000,9,   228.47,2,   228.72,2,   99.884,   0.0046,2,   -0.010,2,  -999.00,9,    0.000,2,    18.66,2,     0.08,    27.54,2,     0.04,     0.01,2,     0.01,     1.89,2,     0.01,    3.310,6,    1.757,6,    0.244,6, -999.000,9,   -999.0,9,   -999.0,9,-999.0000,     -999,9, -999.000,9, -999.000,   -999.0,9,   -999.0, -999.000,9, -999.000, -999.000,9, -999.000
  49NZ20121128,  P14S,     8,  1,     23, X12J23,2,20121205,0039,-55.4973, 172.4603, 5355,    731.2,2,   4.2183,2,   4.21919,2,  34.2306,2,  34.2301,2,-999.0000,9,   231.52,2,   232.11,2,   99.904,   0.0038,2,   -0.010,2,  -999.00,9,    0.000,2,    24.14,2,     0.08,    29.37,2,     0.04,     0.01,2,     0.01,     2.02,2,     0.01,    3.218,2,    1.732,2,    0.250,2, -999.000,9,   -999.0,9,   -999.0,9,-999.0000,     -999,9, -999.000,9, -999.000,   -999.0,9,   -999.0, -999.000,9, -999.000, -999.000,9, -999.000
  49NZ20121128,  P14S,     8,  1,     22, X12J22,2,20121205,0039,-55.4973, 172.4603, 5355,    831.1,2,   3.9779,2,   3.97774,2,  34.2840,2,  34.2839,2,-999.0000,9,   217.15,2,   217.41,2,   99.923,   0.0031,2,   -0.000,2,  -999.00,9,    0.000,2,    31.20,2,     0.09,    30.74,2,     0.04,     0.01,2,     0.01,     2.11,2,     0.01,    2.622,2,    1.393,2,    0.194,2, -999.000,9,   -999.0,9,   -999.0,9,-999.0000,     -999,9, -999.000,9, -999.000,   -999.0,9,   -999.0, -999.000,9, -999.000, -999.000,9, -999.000
  49NZ20121128,  P14S,     8,  1,     21, X12J21,2,20121205,0039,-55.4973, 172.4603, 5355,    931.9,2,   3.3787,2,   3.37864,2,  34.2863,2,  34.2867,2,-999.0000,9,   214.74,2,   214.91,2,   99.913,   0.0035,2,   -0.000,2,  -999.00,9,    0.000,2,    37.55,2,     0.09,    32.00,2,     0.04,     0.01,2,     0.01,     2.20,2,     0.01,    2.480,2,    1.314,2,    0.193,2, -999.000,9,   -999.0,9,   -999.0,9,-999.0000,     -999,9, -999.000,9, -999.000,   -999.0,9,   -999.0, -999.000,9, -999.000, -999.000,9, -999.000
  49NZ20121128,  P14S,     8,  1,     20, X12J20,2,20121205,0039,-55.4973, 172.4603, 5355,   1083.3,2,   3.0342,2,   3.03414,2,  34.3700,2,  34.3685,2,-999.0000,9,   196.58,2,   196.87,2,   99.925,   0.0030,2,   -0.000,2,  -999.00,9,    0.000,2,    49.15,2,     0.10,    33.39,2,     0.05,     0.01,2,     0.01,     2.30,2,     0.01,    1.764,2,    0.926,2,    0.135,2, -999.000,9,   -999.0,9,   -999.0,9,-999.0000,     -999,9, -999.000,9, -999.000,   -999.0,9,   -999.0, -999.000,9, -999.000, -999.000,9, -999.000
  49NZ20121128,  P14S,     8,  1,     19, X12J19,2,20121205,0039,-55.4973, 172.4603, 5355,   1330.3,2,   2.6691,2,   2.66905,2,  34.5085,2,  34.5084,2,-999.0000,9,   177.20,2,   176.88,2,   99.950,   0.0020,2,    0.000,2,  -999.00,9,    0.000,2,    64.51,2,     0.12,    34.20,2,     0.05,     0.01,2,     0.01,     2.36,2,     0.01,    0.875,6,    0.444,6,    0.073,6, -999.000,9,   -999.0,9,   -999.0,9,-999.0000,     -999,9, -999.000,9, -999.000,   -999.0,9,   -999.0, -999.000,9, -999.000, -999.000,9, -999.000
  49NZ20121128,  P14S,     8,  1,     18, X12J18,2,20121205,0039,-55.4973, 172.4603, 5355,   1579.2,2,   2.4783,2,   2.47836,2,  34.6092,2,  34.6098,2,-999.0000,9,   174.22,2,   173.93,2,   99.940,   0.0024,2,    0.000,2,  -999.00,9,    0.000,2,    72.05,2,     0.12,    33.50,2,     0.05,     0.01,2,     0.01,     2.31,2,     0.01,    0.475,2,    0.233,2,    0.050,2, -999.000,9,   -999.0,9,   -999.0,9,-999.0000,     -999,9, -999.000,9, -999.000,   -999.0,9,   -999.0, -999.000,9, -999.000, -999.000,9, -999.000
  49NZ20121128,  P14S,     8,  1,     17, X12J17,2,20121205,0039,-55.4973, 172.4603, 5355,   1828.9,2,   2.3414,2,   2.34140,2,  34.6743,2,  34.6744,2,-999.0000,9,   178.36,2,   178.17,2,   99.959,   0.0016,2,    0.000,2,  -999.00,9,    0.000,2,    76.29,2,     0.13,    32.45,2,     0.05,     0.01,2,     0.01,     2.24,2,     0.01,    0.285,2,    0.136,2,    0.017,2, -999.000,9,   -999.0,9,   -999.0,9,-999.0000,     -999,9, -999.000,9, -999.000,   -999.0,9,   -999.0, -999.000,9, -999.000, -999.000,9, -999.000
  49NZ20121128,  P14S,     8,  1,     16, X12J16,2,20121205,0039,-55.4973, 172.4603, 5355,   2081.1,2,   2.1993,2,   2.19934,2,  34.7126,2,  34.7127,2,-999.0000,9,   183.82,2,   183.68,2,   99.961,   0.0016,2,    0.000,2,  -999.00,9,    0.000,2,    79.98,2,     0.13,    31.64,2,     0.04,     0.01,2,     0.01,     2.18,2,     0.01,    0.202,2,    0.096,2,    0.013,2, -999.000,9,   -999.0,9,   -999.0,9,-999.0000,     -999,9, -999.000,9, -999.000,   -999.0,9,   -999.0, -999.000,9, -999.000, -999.000,9, -999.000
  49NZ20121128,  P14S,     8,  1,     15, X12J15,2,20121205,0039,-55.4973, 172.4603, 5355,   2331.1,2,   2.0026,2,   2.00259,2,  34.7340,2,  34.7337,2,-999.0000,9,   189.82,2,   189.59,2,   99.984,   0.0006,2,    0.000,2,  -999.00,9,    0.000,2,    85.29,2,     0.14,    31.10,2,     0.04,     0.01,2,     0.01,     2.15,2,     0.01,    0.152,2,    0.072,2,    0.009,2, -999.000,9,   -999.0,9,   -999.0,9,-999.0000,     -999,9, -999.000,9, -999.000,   -999.0,9,   -999.0, -999.000,9, -999.000, -999.000,9, -999.000
  49NZ20121128,  P14S,     8,  1,     14, X12J14,2,20121205,0039,-55.4973, 172.4603, 5355,   2580.1,2,   1.8223,2,   1.82213,2,  34.7379,2,  34.7378,2,-999.0000,9,   193.82,2,   193.50,2,   99.969,   0.0012,2,    0.000,2,  -999.00,9,    0.000,2,    90.16,2,     0.14,    31.00,2,     0.04,     0.01,2,     0.01,     2.14,2,     0.01,    0.128,2,    0.061,2,    0.027,2, -999.000,9,   -999.0,9,   -999.0,9,-999.0000,     -999,9, -999.000,9, -999.000,   -999.0,9,   -999.0, -999.000,9, -999.000, -999.000,9, -999.000
  49NZ20121128,  P14S,     8,  1,     13, X12J13,2,20121205,0039,-55.4973, 172.4603, 5355,   2831.4,2,   1.5949,2,   1.59496,2,  34.7353,2,  34.7351,2,-999.0000,9,   197.46,2,   197.08,2,   99.973,   0.0011,2,    0.000,2,  -999.00,9,    0.000,2,    96.90,2,     0.15,    31.19,2,     0.04,     0.01,2,     0.01,     2.16,2,     0.01,    0.125,2,    0.057,2,    0.009,2, -999.000,9,   -999.0,9,   -999.0,9,-999.0000,     -999,9, -999.000,9, -999.000,   -999.0,9,   -999.0, -999.000,9, -999.000, -999.000,9, -999.000
  49NZ20121128,  P14S,     8,  1,     12, X12J12,2,20121205,0039,-55.4973, 172.4603, 5355,   3080.4,2,   1.4278,2,   1.42788,2,  34.7301,2,  34.7298,2,-999.0000,9,   200.02,2,   199.68,2,   99.980,   0.0008,2,    0.000,2,  -999.00,9,    0.000,2,   101.87,2,     0.15,    31.37,2,     0.04,     0.01,2,     0.01,     2.16,2,     0.01,    0.130,2,    0.060,2,    0.012,2, -999.000,9,   -999.0,9,   -999.0,9,-999.0000,     -999,9, -999.000,9, -999.000,   -999.0,9,   -999.0, -999.000,9, -999.000, -999.000,9, -999.000
  49NZ20121128,  P14S,     8,  1,     11, X12J11,2,20121205,0039,-55.4973, 172.4603, 5355,   3329.8,2,   1.2759,2,   1.27606,2,  34.7240,2,  34.7237,2,-999.0000,9,   202.39,2,   201.88,2,   99.984,   0.0006,2,   -0.000,2,  -999.00,9,    0.000,2,   106.54,2,     0.15,    31.58,2,     0.04,     0.00,2,     0.01,     2.17,2,     0.01,    0.150,2,    0.070,2,    0.007,2, -999.000,9,   -999.0,9,   -999.0,9,-999.0000,     -999,9, -999.000,9, -999.000,   -999.0,9,   -999.0, -999.000,9, -999.000, -999.000,9, -999.000
  49NZ20121128,  P14S,     8,  1,     10, X12J10,2,20121205,0039,-55.4973, 172.4603, 5355,   3581.1,2,   1.1646,2,   1.16507,2,  34.7185,2,  34.7185,2,-999.0000,9,   204.48,2,   203.87,2,   99.957,   0.0017,2,   -0.000,2,  -999.00,9,    0.000,2,   109.89,2,     0.16,    31.75,2,     0.04,     0.01,2,     0.01,     2.19,2,     0.01,    0.177,2,    0.083,2,    0.011,2, -999.000,9,   -999.0,9,   -999.0,9,-999.0000,     -999,9, -999.000,9, -999.000,   -999.0,9,   -999.0, -999.000,9, -999.000, -999.000,9, -999.000
  49NZ20121128,  P14S,     8,  1,      9, X12J09,2,20121205,0039,-55.4973, 172.4603, 5355,   3831.6,2,   1.0689,2,   1.06885,2,  34.7135,2,  34.7133,2,-999.0000,9,   206.38,2,   205.73,2,   99.944,   0.0022,2,   -0.000,2,  -999.00,9,    0.000,2,   113.04,2,     0.16,    31.90,2,     0.04,     0.01,2,     0.01,     2.19,2,     0.01,    0.210,2,    0.100,2,    0.007,2, -999.000,9,   -999.0,9,   -999.0,9,-999.0000,     -999,9, -999.000,9, -999.000,   -999.0,9,   -999.0, -999.000,9, -999.000, -999.000,9, -999.000
  49NZ20121128,  P14S,     8,  1,      8, X12J08,2,20121205,0039,-55.4973, 172.4603, 5355,   4081.0,2,   1.0003,2,   1.00044,2,  34.7094,2,  34.7092,2,-999.0000,9,   207.85,2,   207.28,2,   99.934,   0.0026,2,   -0.000,2,  -999.00,9,    0.000,2,   115.23,2,     0.16,    32.00,2,     0.04,     0.00,2,     0.01,     2.21,2,     0.01,    0.246,6,    0.116,6,    0.012,6, -999.000,9,   -999.0,9,   -999.0,9,-999.0000,     -999,9, -999.000,9, -999.000,   -999.0,9,   -999.0, -999.000,9, -999.000, -999.000,9, -999.000
  49NZ20121128,  P14S,     8,  1,      7, X12J07,2,20121205,0039,-55.4973, 172.4603, 5355,   4331.2,2,   0.9550,2,   0.95504,2,  34.7064,2,  34.7066,2,-999.0000,9,   208.98,2,   208.36,2,   99.936,   0.0026,2,   -0.000,2,  -999.00,9,    0.000,2,   117.18,2,     0.16,    32.09,2,     0.05,     0.00,2,     0.01,     2.21,2,     0.01,    0.273,2,    0.130,2,    0.008,2, -999.000,9,   -999.0,9,   -999.0,9,-999.0000,     -999,9, -999.000,9, -999.000,   -999.0,9,   -999.0, -999.000,9, -999.000, -999.000,9, -999.000
  49NZ20121128,  P14S,     8,  1,      6, X12J06,2,20121205,0039,-55.4973, 172.4603, 5355,   4531.4,2,   0.9333,2,   0.93322,2,  34.7044,2,  34.7048,2,-999.0000,9,   209.59,2,   208.98,2,   99.934,   0.0026,2,   -0.000,2,  -999.00,9,    0.000,2,   118.40,2,     0.17,    32.14,2,     0.05,     0.00,2,     0.01,     2.21,2,     0.01,    0.289,2,    0.139,2,    0.017,2, -999.000,9,   -999.0,9,   -999.0,9,-999.0000,     -999,9, -999.000,9, -999.000,   -999.0,9,   -999.0, -999.000,9, -999.000, -999.000,9, -999.000
  49NZ20121128,  P14S,     8,  1,      5, X12J05,2,20121205,0039,-55.4973, 172.4603, 5355,   4832.2,2,   0.9150,2,   0.91497,2,  34.7022,2,  34.7023,2,-999.0000,9,   210.38,2,   209.81,2,   99.917,   0.0033,2,   -0.000,2,  -999.00,9,    0.000,2,   120.14,2,     0.17,    32.22,2,     0.05,     0.00,2,     0.01,     2.22,2,     0.01,    0.322,2,    0.153,2,    0.017,2, -999.000,9,   -999.0,9,   -999.0,9,-999.0000,     -999,9, -999.000,9, -999.000,   -999.0,9,   -999.0, -999.000,9, -999.000, -999.000,9, -999.000
  49NZ20121128,  P14S,     8,  1,      4, X12J04,2,20121205,0039,-55.4973, 172.4603, 5355,   5080.8,2,   0.9093,2,   0.90925,2,  34.7006,2,  34.7007,2,-999.0000,9,   210.75,2,   210.31,2,   99.867,   0.0053,2,   -0.000,2,  -999.00,9,    0.000,2,   120.92,2,     0.17,    32.27,2,     0.05,     0.01,2,     0.01,     2.22,2,     0.01,    0.345,2,    0.166,2,    0.029,2, -999.000,9,   -999.0,9,   -999.0,9,-999.0000,     -999,9, -999.000,9, -999.000,   -999.0,9,   -999.0, -999.000,9, -999.000, -999.000,9, -999.000
  49NZ20121128,  P14S,     8,  1,      3, X12J03,2,20121205,0039,-55.4973, 172.4603, 5355,   5329.6,2,   0.9157,2,   0.91570,2,  34.6994,2,  34.6997,2,-999.0000,9,   210.85,2,   210.59,2,   99.829,   0.0068,2,   -0.000,2,  -999.00,9,    0.000,2,   121.08,2,     0.17,    32.25,2,     0.05,     0.01,2,     0.01,     2.23,2,     0.01,    0.372,2,    0.183,2,    0.027,2, -999.000,9,   -999.0,9,   -999.0,9,-999.0000,     -999,9, -999.000,9, -999.000,   -999.0,9,   -999.0, -999.000,9, -999.000, -999.000,9, -999.000
  49NZ20121128,  P14S,     8,  1,      1, X12J01,2,20121205,0039,-55.4973, 172.4603, 5355,   5460.8,2,   0.9232,2,   0.92315,2,  34.6990,2,  34.6996,2,-999.0000,9,   210.98,2,   210.82,2,   99.794,   0.0082,2,   -0.000,2,  -999.00,9,    0.000,2,   121.24,2,     0.17,    32.26,2,     0.05,     0.01,2,     0.01,     2.23,2,     0.01,    0.384,2,    0.185,2,    0.028,2, -999.000,9,   -999.0,9,   -999.0,9,-999.0000,     -999,9, -999.000,9, -999.000,   -999.0,9,   -999.0, -999.000,9, -999.000, -999.000,9, -999.000