BOTTLE,20220819CCHSIOAMB
EXPOCODE,SECT_ID,STNNBR,CASTNO,SAMPNO,BTLNBR,BTLNBR_FLAG_W,DATE,TIME,LATITUDE,LONGITUDE,DEPTH,CTDPRS,CTDPRS_FLAG_W,CTDTMP,CTDTMP_FLAG_W,SBE35,SBE35_FLAG_W,CTDSAL,CTDSAL_FLAG_W,SALNTY,SALNTY_FLAG_W,DNSSAL,DNSSAL_FLAG_W,CTDOXY,CTDOXY_FLAG_W,OXYGEN,OXYGEN_FLAG_W,CTDXMISS,CTDXMISSCP,CTDXMISS_FLAG_W,CTDFLUOR,CTDFLUOR_FLAG_W,CHLORA,CHLORA_FLAG_W,PAR,PAR_FLAG_W,SILCAT,SILCAT_FLAG_W,SILUNC,NITRAT,NITRAT_FLAG_W,NRAUNC,NITRIT,NITRIT_FLAG_W,NRIUNC,PHSPHT,PHSPHT_FLAG_W,PHPUNC,CFC-11,CFC-11_FLAG_W,CFC-12,CFC-12_FLAG_W,CFC113,CFC113_FLAG_W,SF6,SF6_FLAG_W,TCARBN,TCARBN_FLAG_W,ALKALI,ALKALI_FLAG_W,PH_TOT,PH_TMP,PH_TOT_FLAG_W,DELC13,DELC13_FLAG_W,C13ERR,DELC14,DELC14_FLAG_W,C14ERR,CS-134,CS-134_FLAG_W,CS134ER,CS-137,CS-137_FLAG_W,CS137ER
,,,,,,,,UTC,DEG,DEG,METERS,DBAR,,ITS-90,,ITS-90,,PSS-78,,PSS-78,,G/KG,,UMOL/KG,,UMOL/KG,,%TRANS,/METER,,MG/M^3,,MG/CUM,,UE/SQM/S,,UMOL/KG,,UMOL/KG,UMOL/KG,,UMOL/KG,UMOL/KG,,UMOL/KG,UMOL/KG,,UMOL/KG,PMOL/KG,,PMOL/KG,,PMOL/KG,,FMOL/KG,,UMOL/KG,,UMOL/KG,,,DEG C,,/MILLE,,/MILLE,/MILLE,,/MILLE,MBQ/KG,,MBQ/KG,MBQ/KG,,MBQ/KG
  49NZ20121128,   S04,    83,  1,     36, X12J36,2,20121224,0543,-61.9382, 115.0723, 4252,      5.1,2,   0.9438,2,   0.94313,2,  33.7480,2,  33.7486,2,  33.9127,2,   358.79,2,   359.02,2,   89.761,   0.4321,2,    0.230,2,  -999.00,9,  428.054,2,    15.47,2,     0.07,    22.69,2,     0.03,     0.21,2,     0.01,     1.39,2,     0.01,    6.073,2,    3.272,2,    0.701,2,    2.927,2,   2132.5,2,   2286.3,2,   7.7586,       25,6, -999.000,1, -999.000,   -999.0,1,   -999.0, -999.000,9, -999.000, -999.000,9, -999.000
  49NZ20121128,   S04,    83,  1,     35, X12J35,2,20121224,0543,-61.9382, 115.0723, 4252,     25.1,2,   0.7840,2,   0.78434,2,  33.7531,2,  33.7565,2,  33.9193,2,   359.91,2,   359.12,2,   89.033,   0.4647,2,    1.030,2,  -999.00,9,   41.204,2,    15.85,2,     0.07,    22.91,2,     0.03,     0.20,2,     0.01,     1.41,2,     0.01,    6.078,2,    3.275,2,    0.710,2,    3.026,2,   2134.8,2,   2282.7,2,   7.7555,       25,2, -999.000,1, -999.000,   -999.0,1,   -999.0, -999.000,9, -999.000, -999.000,9, -999.000
  49NZ20121128,   S04,    83,  1,     34, X12J34,2,20121224,0543,-61.9382, 115.0723, 4252,     50.1,2,  -0.9253,2,  -0.92923,2,  33.8207,2,  33.8336,2,  33.9978,2,   354.41,2,   353.30,2,   95.406,   0.1881,2,    0.870,2,  -999.00,9,    3.152,2,    30.14,2,     0.09,    27.19,2,     0.04,     0.20,2,     0.01,     1.93,2,     0.01,    6.155,6,    3.330,6,    0.711,6,    2.990,6,   2164.6,2,   2286.1,2,   7.6827,       25,2, -999.000,1, -999.000,   -999.0,1,   -999.0, -999.000,9, -999.000, -999.000,9, -999.000
  49NZ20121128,   S04,    83,  1,     33, X12J33,2,20121224,0543,-61.9382, 115.0723, 4252,     75.3,2,  -1.4946,2,  -1.49684,2,  33.9239,2,  33.9345,2,  34.0980,2,   338.53,2,   337.82,2,   98.674,   0.0534,2,    0.290,2,  -999.00,9,    0.674,2,    38.34,2,     0.09,    28.91,2,     0.04,     0.21,2,     0.01,     2.03,2,     0.01,    5.900,2,    3.192,2,    0.696,2,    2.929,2,   2183.0,6,   2290.8,2,   7.6512,       25,2, -999.000,1, -999.000,   -999.0,1,   -999.0, -999.000,9, -999.000, -999.000,9, -999.000
  49NZ20121128,   S04,    83,  1,     32, X12J32,2,20121224,0543,-61.9382, 115.0723, 4252,     99.8,2,  -1.1057,2,  -1.11312,2,  34.0236,2,  34.0357,2,  34.2002,2,   313.04,2,   311.54,2,   99.265,   0.0295,2,    0.160,2,  -999.00,9,    0.223,2,    43.71,2,     0.10,    30.51,2,     0.04,     0.15,2,     0.01,     2.11,2,     0.01,    5.238,2,    2.826,2,    0.640,2,    2.570,2,   2194.2,2,   2296.9,6,   7.6279,       25,2, -999.000,1, -999.000,   -999.0,1,   -999.0, -999.000,9, -999.000, -999.000,9, -999.000
  49NZ20121128,   S04,    83,  1,     31, X12J31,2,20121224,0543,-61.9382, 115.0723, 4252,    125.3,2,   0.4961,2,   0.47919,2,  34.2509,2,  34.2419,2,  34.4053,2,   246.74,2,   249.30,2,   99.518,   0.0193,2,    0.080,2,  -999.00,9,    0.067,2,    55.44,2,     0.11,    33.15,2,     0.05,     0.02,2,     0.01,     2.28,2,     0.01,    3.567,2,    1.894,2,    0.398,2,    1.418,2,   2222.5,2,   2308.8,2,   7.5817,       25,2, -999.000,1, -999.000,   -999.0,1,   -999.0, -999.000,9, -999.000, -999.000,9, -999.000
  49NZ20121128,   S04,    83,  1,     30, X12J30,2,20121224,0543,-61.9382, 115.0723, 4252,    150.0,2,   1.3229,2,   1.32424,2,  34.3837,2,  34.3832,2,  34.5486,2,   208.66,2,   208.56,2,   99.615,   0.0154,2,    0.070,2,  -999.00,9,    0.003,2,    64.19,2,     0.12,    34.50,2,     0.05,     0.02,2,     0.01,     2.37,2,     0.01,    2.308,2,    1.222,2,    0.226,2,    0.915,2,   2241.3,2,   2318.5,2,   7.5551,       25,6, -999.000,1, -999.000,   -999.0,1,   -999.0, -999.000,9, -999.000, -999.000,9, -999.000
  49NZ20121128,   S04,    83,  1,     29, X12J29,2,20121224,0543,-61.9382, 115.0723, 4252,    199.3,2,   1.7000,2,   1.70063,2,  34.4937,2,  34.4936,2,  34.6544,2,   188.39,2,   188.06,2,   99.626,   0.0150,2,    0.040,2,  -999.00,9,    0.000,2,    71.16,2,     0.12,    34.74,2,     0.05,     0.01,2,     0.01,     2.39,2,     0.01,    1.555,2,    0.797,2,    0.131,2,    0.563,2,   2252.1,2,   2326.2,2,   7.5477,       25,2, -999.000,1, -999.000,   -999.0,1,   -999.0, -999.000,9, -999.000, -999.000,9, -999.000
  49NZ20121128,   S04,    83,  1,     28, X12J28,2,20121224,0543,-61.9382, 115.0723, 4252,    249.2,2,   1.9459,2,   1.94584,2,  34.5712,2,  34.5709,2,  34.7392,2,   179.07,2,   178.65,2,   99.626,   0.0150,2,    0.020,2,  -999.00,9,    0.000,2,    74.68,2,     0.13,    34.38,2,     0.05,     0.01,2,     0.01,     2.36,2,     0.01,    0.989,2,    0.523,2,    0.069,2,    0.341,2,   2256.0,2,   2331.1,2,   7.5521,       25,2, -999.000,1, -999.000,   -999.0,1,   -999.0, -999.000,9, -999.000, -999.000,9, -999.000
  49NZ20121128,   S04,    83,  1,     27, X12J27,2,20121224,0543,-61.9382, 115.0723, 4252,    279.7,2,   2.0029,2,   2.00273,2,  34.5991,2,  34.5991,2,  34.7669,2,   177.65,2,   177.41,2,   99.679,   0.0129,2,    0.020,2,  -999.00,9,    0.000,2,    75.71,2,     0.13,    34.04,2,     0.05,     0.01,2,     0.01,     2.34,2,     0.01,    0.839,2,    0.439,2,    0.056,2,    0.294,2,   2254.7,3,   2334.3,2,   7.5572,       25,2, -999.000,1, -999.000,   -999.0,1,   -999.0, -999.000,9, -999.000, -999.000,9, -999.000
  49NZ20121128,   S04,    83,  1,     26, X12J26,2,20121224,0543,-61.9382, 115.0723, 4252,    369.0,2,   1.9698,2,   1.96930,2,  34.6486,2,  34.6486,2,  34.8179,2,   178.73,2,   178.47,2,   99.772,   0.0091,2,    0.030,2,  -999.00,9,    0.000,2,    78.25,2,     0.13,    33.30,2,     0.05,     0.00,2,     0.01,     2.29,2,     0.01,    0.650,2,    0.337,2,    0.041,2,    0.263,2,   2256.2,2,   2338.7,2,   7.5673,       25,2, -999.000,1, -999.000,   -999.0,1,   -999.0, -999.000,9, -999.000, -999.000,9, -999.000
  49NZ20121128,   S04,    83,  1,     25, X12J25,2,20121224,0543,-61.9382, 115.0723, 4252,    471.1,2,   1.9805,2,   1.98030,2,  34.6878,2,  34.6873,2,  34.8572,2,   181.80,2,   181.64,2,   99.833,   0.0067,2,    0.010,2,  -999.00,9,    0.000,2,    79.65,2,     0.13,    32.42,2,     0.05,     0.01,2,     0.01,     2.22,2,     0.01,    0.458,2,    0.235,2,    0.029,2,    0.157,2,   2254.5,2,   2341.7,2,   7.5806,       25,2, -999.000,1, -999.000,   -999.0,1,   -999.0, -999.000,9, -999.000, -999.000,9, -999.000
  49NZ20121128,   S04,    83,  1,     24, X12J24,2,20121224,0543,-61.9382, 115.0723, 4252,    570.3,2,   1.9251,2,   1.92498,2,  34.7076,2,  34.7075,2,-999.0000,9,   184.77,2,   184.67,2,   99.820,   0.0072,2,    0.010,2,  -999.00,9,    0.000,2,    81.46,2,     0.13,    31.94,2,     0.04,     0.00,2,     0.01,     2.19,2,     0.01,    0.393,6,    0.201,6,    0.024,6,    0.156,6,   2253.3,2,   2344.0,2,   7.5889,       25,2, -999.000,1, -999.000,   -999.0,1,   -999.0, -999.000,9, -999.000, -999.000,9, -999.000
  49NZ20121128,   S04,    83,  1,     23, X12J23,2,20121224,0543,-61.9382, 115.0723, 4252,    670.4,2,   1.8917,2,   1.89149,2,  34.7233,2,  34.7237,2,-999.0000,9,   187.50,2,   187.47,2,   99.863,   0.0055,2,    0.010,2,  -999.00,9,    0.000,2,    82.94,2,     0.13,    31.52,2,     0.04,     0.00,2,     0.01,     2.16,2,     0.01,    0.323,2,    0.157,2,    0.018,2,    0.111,2,   2253.2,6,   2346.2,2,   7.5962,       25,2, -999.000,1, -999.000,   -999.0,1,   -999.0, -999.000,9, -999.000, -999.000,9, -999.000
  49NZ20121128,   S04,    83,  1,     22, X12J22,2,20121224,0543,-61.9382, 115.0723, 4252,    769.6,2,   1.8095,2,   1.80991,2,  34.7303,2,  34.7304,2,-999.0000,9,   190.00,2,   189.97,2,   99.892,   0.0043,2,    0.000,2,  -999.00,9,    0.000,2,    84.77,2,     0.13,    31.33,2,     0.04,     0.00,2,     0.01,     2.16,2,     0.01,    0.310,2,    0.147,2,    0.017,2,    0.173,2,   2251.8,2,   2347.3,6,   7.6003,       25,2, -999.000,1, -999.000,   -999.0,1,   -999.0, -999.000,9, -999.000, -999.000,9, -999.000
  49NZ20121128,   S04,    83,  1,     21, X12J21,2,20121224,0543,-61.9382, 115.0723, 4252,    870.6,2,   1.7366,2,   1.73668,2,  34.7366,2,  34.7368,2,-999.0000,9,   192.92,2,   192.97,2,   99.930,   0.0028,2,    0.000,2,  -999.00,9,    0.000,2,    86.65,2,     0.14,    31.08,2,     0.04,     0.00,2,     0.01,     2.14,2,     0.01,    0.273,2,    0.128,2,    0.015,2,    0.000,2,   2252.6,2,   2348.2,2,   7.6064,       25,6, -999.000,1, -999.000,   -999.0,1,   -999.0, -999.000,9, -999.000, -999.000,9, -999.000
  49NZ20121128,   S04,    83,  1,     20, X12J20,2,20121224,0543,-61.9382, 115.0723, 4252,    960.0,2,   1.6735,2,   1.67241,2,  34.7404,2,  34.7408,2,-999.0000,9,   194.93,2,   195.03,2,   99.936,   0.0026,2,    0.000,2,  -999.00,9,    0.000,2,    88.50,2,     0.14,    30.95,2,     0.04,     0.00,2,     0.01,     2.13,2,     0.01,    0.236,2,    0.112,2,    0.012,2,    0.089,2,   2252.3,2,   2350.4,2,   7.6104,       25,2, -999.000,1, -999.000,   -999.0,1,   -999.0, -999.000,9, -999.000, -999.000,9, -999.000
  49NZ20121128,   S04,    83,  1,     19, X12J19,2,20121224,0543,-61.9382, 115.0723, 4252,   1169.9,2,   1.4937,2,   1.49385,2,  34.7399,2,  34.7403,2,-999.0000,9,   198.80,2,   198.85,2,   99.947,   0.0021,2,    0.000,2,  -999.00,9,    0.000,2,    92.96,2,     0.14,    30.85,2,     0.04,     0.00,2,     0.01,     2.12,2,     0.01,    0.212,6,    0.098,6,    0.011,6,    0.108,6,   2253.0,2,   2352.6,2,   7.6149,       25,2, -999.000,1, -999.000,   -999.0,1,   -999.0, -999.000,9, -999.000, -999.000,9, -999.000
  49NZ20121128,   S04,    83,  1,     18, X12J18,2,20121224,0543,-61.9382, 115.0723, 4252,   1420.0,2,   1.2665,2,   1.26642,2,  34.7317,2,  34.7314,2,-999.0000,9,   201.92,2,   201.84,2,   99.966,   0.0014,2,   -0.000,2,  -999.00,9,    0.000,2,    99.52,2,     0.15,    31.22,2,     0.04,     0.00,2,     0.01,     2.14,2,     0.01,    0.216,2,    0.099,2,    0.009,2,    0.000,2,   2256.4,2,   2355.4,2,   7.6133,       25,2, -999.000,1, -999.000,   -999.0,1,   -999.0, -999.000,9, -999.000, -999.000,9, -999.000
  49NZ20121128,   S04,    83,  1,     17, X12J17,2,20121224,0543,-61.9382, 115.0723, 4252,   1669.8,2,   1.0694,2,   1.06924,2,  34.7219,2,  34.7220,2,-999.0000,9,   204.10,2,   204.03,2,   99.964,   0.0014,2,   -0.000,2,  -999.00,9,    0.000,2,   105.12,2,     0.15,    31.59,2,     0.04,     0.00,2,     0.01,     2.18,2,     0.01,    0.238,2,    0.109,2,    0.008,2,    0.000,2,   2258.3,2,   2356.4,2,   7.6113,       25,6, -999.000,1, -999.000,   -999.0,1,   -999.0, -999.000,9, -999.000, -999.000,9, -999.000
  49NZ20121128,   S04,    83,  1,     16, X12J16,2,20121224,0543,-61.9382, 115.0723, 4252,   1919.9,2,   0.8706,2,   0.87058,2,  34.7113,2,  34.7113,2,-999.0000,9,   206.56,2,   206.51,2,   99.936,   0.0026,2,   -0.000,2,  -999.00,9,    0.000,2,   110.77,2,     0.16,    31.95,2,     0.04,     0.00,2,     0.01,     2.21,2,     0.01,    0.265,2,    0.121,2,    0.010,2,    0.000,2,   2259.1,2,   2358.1,2,   7.6077,       25,2, -999.000,1, -999.000,   -999.0,1,   -999.0, -999.000,9, -999.000, -999.000,9, -999.000
  49NZ20121128,   S04,    83,  1,     15, X12J15,2,20121224,0543,-61.9382, 115.0723, 4252,   2170.1,2,   0.6795,2,   0.67958,2,  34.7012,2,  34.7012,2,-999.0000,9,   209.47,2,   209.32,2,   99.972,   0.0011,2,   -0.000,2,  -999.00,9,    0.000,2,   115.78,2,     0.16,    32.24,2,     0.05,     0.00,2,     0.01,     2.22,2,     0.01,    0.308,2,    0.143,2,    0.012,2,    0.118,2,   2262.3,2,   2358.8,2,   7.6047,       25,2, -999.000,1, -999.000,   -999.0,1,   -999.0, -999.000,9, -999.000, -999.000,9, -999.000
  49NZ20121128,   S04,    83,  1,     14, X12J14,2,20121224,0543,-61.9382, 115.0723, 4252,   2419.3,2,   0.5172,2,   0.51717,2,  34.6929,2,  34.6927,2,-999.0000,9,   212.90,2,   212.71,2,   99.970,   0.0012,2,   -0.000,2,  -999.00,9,    0.000,2,   119.50,2,     0.17,    32.41,2,     0.05,     0.00,2,     0.01,     2.23,2,     0.01,    0.377,2,    0.179,2,    0.014,2,    0.117,2,   2263.1,6,   2358.2,2,   7.6026,       25,2, -999.000,1, -999.000,   -999.0,1,   -999.0, -999.000,9, -999.000, -999.000,9, -999.000
  49NZ20121128,   S04,    83,  1,     13, X12J13,2,20121224,0543,-61.9382, 115.0723, 4252,   2670.4,2,   0.3842,2,   0.38415,2,  34.6868,2,  34.6872,2,-999.0000,9,   216.28,2,   216.27,2,   99.964,   0.0014,2,   -0.000,2,  -999.00,9,    0.000,2,   122.47,2,     0.17,    32.54,2,     0.05,     0.00,2,     0.01,     2.24,2,     0.01,    0.472,2,    0.238,2,    0.019,2,    0.129,2,   2261.0,3,   2357.8,6,   7.6021,       25,2, -999.000,1, -999.000,   -999.0,1,   -999.0, -999.000,9, -999.000, -999.000,9, -999.000
  49NZ20121128,   S04,    83,  1,     12, X12J12,2,20121224,0543,-61.9382, 115.0723, 4252,   2920.5,2,   0.2725,2,   0.27250,2,  34.6815,2,  34.6818,2,-999.0000,9,   219.95,2,   219.84,2,   99.928,   0.0029,2,   -0.000,2,  -999.00,9,    0.000,2,   124.73,2,     0.17,    32.59,2,     0.05,     0.00,2,     0.01,     2.25,2,     0.01,    0.650,2,    0.323,2,    0.027,2,    0.141,2,   2262.3,2,   2357.3,2,   7.6019,       25,2, -999.000,1, -999.000,   -999.0,1,   -999.0, -999.000,9, -999.000, -999.000,9, -999.000
  49NZ20121128,   S04,    83,  1,     11, X12J11,2,20121224,0543,-61.9382, 115.0723, 4252,   3169.7,2,   0.1777,2,   0.17789,2,  34.6766,2,  34.6765,2,-999.0000,9,   223.32,2,   223.15,2,   99.913,   0.0035,2,   -0.000,2,  -999.00,9,    0.000,2,   124.97,2,     0.17,    32.55,2,     0.05,     0.00,2,     0.01,     2.24,2,     0.01,    0.796,2,    0.407,2,    0.040,2,    0.200,2,   2260.2,2,   2356.6,2,   7.6012,       25,2, -999.000,1, -999.000,   -999.0,1,   -999.0, -999.000,9, -999.000, -999.000,9, -999.000
  49NZ20121128,   S04,    83,  1,     10, X12J10,2,20121224,0543,-61.9382, 115.0723, 4252,   3419.8,2,   0.1122,2,   0.11219,2,  34.6738,2,  34.6739,2,-999.0000,9,   225.75,2,   225.60,2,   99.947,   0.0021,2,   -0.000,2,  -999.00,9,    0.000,2,   127.65,2,     0.17,    32.57,2,     0.05,     0.00,2,     0.01,     2.25,2,     0.01,    0.923,2,    0.456,2,    0.048,2,    0.170,2,   2260.5,2,   2356.4,2,   7.6019,       25,2, -999.000,1, -999.000,   -999.0,1,   -999.0, -999.000,9, -999.000, -999.000,9, -999.000
  49NZ20121128,   S04,    83,  1,      9, X12J09,2,20121224,0543,-61.9382, 115.0723, 4252,   3671.9,2,   0.0564,2,   0.05646,2,  34.6710,2,  34.6712,2,-999.0000,9,   228.31,2,   228.08,2,   99.939,   0.0024,2,   -0.000,2,  -999.00,9,    0.000,2,   127.73,2,     0.17,    32.55,2,     0.05,     0.00,2,     0.01,     2.24,2,     0.01,    1.032,2,    0.527,2,    0.057,2,    0.249,2,   2259.8,2,   2355.2,2,   7.6025,       25,2, -999.000,1, -999.000,   -999.0,1,   -999.0, -999.000,9, -999.000, -999.000,9, -999.000
  49NZ20121128,   S04,    83,  1,      8, X12J08,2,20121224,0543,-61.9382, 115.0723, 4252,   3920.2,2,  -0.0038,2,  -0.00384,2,  34.6659,2,  34.6661,2,-999.0000,9,   231.42,2,   231.25,2,   99.917,   0.0033,2,   -0.010,2,  -999.00,9,    0.000,2,   126.30,2,     0.17,    32.47,2,     0.05,     0.00,2,     0.01,     2.24,2,     0.01,    1.328,6,    0.663,6,    0.081,6,    0.296,6,   2258.4,2,   2355.8,2,   7.6025,       25,2, -999.000,1, -999.000,   -999.0,1,   -999.0, -999.000,9, -999.000, -999.000,9, -999.000
  49NZ20121128,   S04,    83,  1,      7, X12J07,2,20121224,0543,-61.9382, 115.0723, 4252,   4170.2,2,  -0.0932,2,  -0.09330,2,  34.6567,2,  34.6569,2,-999.0000,9,   236.02,2,   235.87,2,   99.877,   0.0049,2,   -0.010,2,  -999.00,9,    0.000,2,   122.08,2,     0.17,    32.30,2,     0.05,     0.00,2,     0.01,     2.23,2,     0.01,    1.804,2,    0.891,2,    0.132,2,    0.562,2,   2257.8,6,   2354.1,2,   7.6014,       25,2, -999.000,1, -999.000,   -999.0,1,   -999.0, -999.000,9, -999.000, -999.000,9, -999.000
  49NZ20121128,   S04,    83,  1,      1, X12J01,2,20121224,0543,-61.9382, 115.0723, 4252,   4328.9,2,  -0.1782,2,  -0.17813,2,  34.6476,2,  34.6481,2,-999.0000,9,   238.97,2,   238.79,2,   99.582,   0.0168,2,   -0.000,2,  -999.00,9,    0.000,2,   126.60,2,     0.17,    32.31,2,     0.05,     0.00,2,     0.01,     2.24,2,     0.01,    2.147,2,    1.100,2,    0.186,2,    0.735,2,   2257.5,2,   2353.6,2,   7.5983,       25,2, -999.000,1, -999.000,   -999.0,1,   -999.0, -999.000,9, -999.000, -999.000,9, -999.000