BOTTLE,20220819CCHSIOAMB
EXPOCODE,SECT_ID,STNNBR,CASTNO,SAMPNO,BTLNBR,BTLNBR_FLAG_W,DATE,TIME,LATITUDE,LONGITUDE,DEPTH,CTDPRS,CTDPRS_FLAG_W,CTDTMP,CTDTMP_FLAG_W,SBE35,SBE35_FLAG_W,CTDSAL,CTDSAL_FLAG_W,SALNTY,SALNTY_FLAG_W,DNSSAL,DNSSAL_FLAG_W,CTDOXY,CTDOXY_FLAG_W,OXYGEN,OXYGEN_FLAG_W,CTDXMISS,CTDXMISSCP,CTDXMISS_FLAG_W,CTDFLUOR,CTDFLUOR_FLAG_W,CHLORA,CHLORA_FLAG_W,PAR,PAR_FLAG_W,SILCAT,SILCAT_FLAG_W,SILUNC,NITRAT,NITRAT_FLAG_W,NRAUNC,NITRIT,NITRIT_FLAG_W,NRIUNC,PHSPHT,PHSPHT_FLAG_W,PHPUNC,CFC-11,CFC-11_FLAG_W,CFC-12,CFC-12_FLAG_W,CFC113,CFC113_FLAG_W,SF6,SF6_FLAG_W,TCARBN,TCARBN_FLAG_W,ALKALI,ALKALI_FLAG_W,PH_TOT,PH_TMP,PH_TOT_FLAG_W,DELC13,DELC13_FLAG_W,C13ERR,DELC14,DELC14_FLAG_W,C14ERR,CS-134,CS-134_FLAG_W,CS134ER,CS-137,CS-137_FLAG_W,CS137ER
,,,,,,,,UTC,DEG,DEG,METERS,DBAR,,ITS-90,,ITS-90,,PSS-78,,PSS-78,,G/KG,,UMOL/KG,,UMOL/KG,,%TRANS,/METER,,MG/M^3,,MG/CUM,,UE/SQM/S,,UMOL/KG,,UMOL/KG,UMOL/KG,,UMOL/KG,UMOL/KG,,UMOL/KG,UMOL/KG,,UMOL/KG,PMOL/KG,,PMOL/KG,,PMOL/KG,,FMOL/KG,,UMOL/KG,,UMOL/KG,,,DEG C,,/MILLE,,/MILLE,/MILLE,,/MILLE,MBQ/KG,,MBQ/KG,MBQ/KG,,MBQ/KG
  49NZ20121128,   S04,    78,  1,     36, X12J36,2,20121222,2134,-61.9997, 121.5262, 4104,      5.0,2,   0.4074,2,   0.40766,2,  33.8393,2,  33.8404,2,  34.0042,2,   363.98,2,   364.24,2,   86.344,   0.5873,2,    0.530,2,  -999.00,9,  457.774,2,    25.54,2,     0.08,    22.80,2,     0.03,     0.22,2,     0.01,     1.46,2,     0.01,    5.944,2,    3.298,2,    0.571,2,    3.007,2,   2139.6,2,   2294.4,2,   7.7584,       25,2, -999.000,1, -999.000,   -999.0,1,   -999.0, -999.000,9, -999.000, -999.000,9, -999.000
  49NZ20121128,   S04,    78,  1,     35, X12J35,2,20121222,2134,-61.9997, 121.5262, 4104,     25.4,2,   0.3517,2,   0.34437,2,  33.8373,2,  33.8420,2,  34.0058,2,   363.00,2,   363.64,2,   86.333,   0.5878,2,    1.610,2,  -999.00,9,    8.002,2,    26.04,2,     0.08,    23.02,2,     0.04,     0.21,2,     0.01,     1.50,2,     0.01,    5.948,2,    3.300,2,    0.572,2,    3.130,2,   2141.2,2,   2291.0,2,   7.7546,       25,2, -999.000,1, -999.000,   -999.0,1,   -999.0, -999.000,9, -999.000, -999.000,9, -999.000
  49NZ20121128,   S04,    78,  1,     34, X12J34,2,20121222,2134,-61.9997, 121.5262, 4104,     51.3,2,  -1.5730,2,  -1.57515,2,  33.9334,2,  33.9362,2,  34.1003,2,   342.89,2,   342.24,2,   95.015,   0.2045,2,    0.720,2,  -999.00,9,    0.328,2,    43.42,2,     0.10,    28.79,2,     0.04,     0.18,2,     0.01,     2.08,2,     0.01,    5.756,6,    3.231,6,    0.553,6,    2.969,6,   2185.1,2,   2294.5,2,   7.6472,       25,2, -999.000,1, -999.000,   -999.0,1,   -999.0, -999.000,9, -999.000, -999.000,9, -999.000
  49NZ20121128,   S04,    78,  1,     33, X12J33,2,20121222,2134,-61.9997, 121.5262, 4104,     74.9,2,  -1.7120,2,  -1.71199,2,  33.9707,2,  33.9708,2,  34.1366,2,   331.80,2,   331.96,2,   98.325,   0.0676,2,    0.330,2,  -999.00,9,    0.099,2,    45.84,2,     0.10,    29.58,2,     0.04,     0.19,2,     0.01,     2.08,2,     0.01,    5.443,2,    3.097,2,    0.521,2,    2.711,2,   2190.7,6,   2294.9,2,   7.6368,       25,2, -999.000,1, -999.000,   -999.0,1,   -999.0, -999.000,9, -999.000, -999.000,9, -999.000
  49NZ20121128,   S04,    78,  1,     32, X12J32,2,20121222,2134,-61.9997, 121.5262, 4104,    100.3,2,  -1.3850,2,  -1.38550,2,  34.0454,2,  34.0572,2,  34.2201,2,   311.48,2,   306.59,2,   98.807,   0.0480,2,    0.280,2,  -999.00,9,    0.000,2,    48.91,2,     0.10,    30.63,2,     0.04,     0.15,2,     0.01,     2.13,2,     0.01,    4.870,2,    2.766,2,    0.464,2,    2.385,2,   2200.1,2,   2299.5,2,   7.6224,       25,2, -999.000,1, -999.000,   -999.0,1,   -999.0, -999.000,9, -999.000, -999.000,9, -999.000
  49NZ20121128,   S04,    78,  1,     31, X12J31,2,20121222,2134,-61.9997, 121.5262, 4104,    125.5,2,   0.2864,2,   0.29688,2,  34.3016,2,  34.3050,2,  34.4736,2,   241.32,2,   240.16,2,   99.387,   0.0246,2,    0.120,2,  -999.00,9,    0.000,2,    60.91,2,     0.11,    33.11,2,     0.05,     0.03,2,     0.01,     2.28,2,     0.01,    3.036,2,    1.687,2,    0.278,2,    1.414,2,   2229.7,2,   2314.4,2,   7.5773,       25,2, -999.000,1, -999.000,   -999.0,1,   -999.0, -999.000,9, -999.000, -999.000,9, -999.000
  49NZ20121128,   S04,    78,  1,     30, X12J30,2,20121222,2134,-61.9997, 121.5262, 4104,    150.3,2,   1.1926,2,   1.18928,2,  34.4332,2,  34.4338,2,  34.5972,2,   205.29,2,   205.40,2,   99.664,   0.0135,2,    0.070,2,  -999.00,9,    0.000,2,    67.82,2,     0.12,    34.15,2,     0.05,     0.02,2,     0.01,     2.35,2,     0.01,    1.979,2,    1.097,2,    0.180,2,    0.696,2,   2245.8,2,   2321.1,2,   7.5568,       25,6, -999.000,1, -999.000,   -999.0,1,   -999.0, -999.000,9, -999.000, -999.000,9, -999.000
  49NZ20121128,   S04,    78,  1,     29, X12J29,2,20121222,2134,-61.9997, 121.5262, 4104,    200.3,2,   1.8686,2,   1.86599,2,  34.5675,2,  34.5654,2,  34.7359,2,   179.26,2,   179.25,2,   99.628,   0.0149,2,    0.030,2,  -999.00,9,    0.000,2,    74.79,2,     0.13,    34.40,2,     0.05,     0.01,2,     0.01,     2.36,2,     0.01,    1.046,2,    0.557,2,    0.091,2,    0.465,2,   2256.1,2,   2327.1,2,   7.5500,       25,2, -999.000,1, -999.000,   -999.0,1,   -999.0, -999.000,9, -999.000, -999.000,9, -999.000
  49NZ20121128,   S04,    78,  1,     28, X12J28,2,20121222,2134,-61.9997, 121.5262, 4104,    249.9,2,   1.9365,2,   1.93620,2,  34.6128,2,  34.6123,2,  34.7824,2,   176.98,2,   176.63,2,   99.780,   0.0088,2,    0.020,2,  -999.00,9,    0.000,2,    77.12,2,     0.13,    33.95,2,     0.05,     0.01,2,     0.01,     2.33,2,     0.01,    0.824,2,    0.412,2,    0.065,2,    0.195,2,   2257.6,2,   2336.0,2,   7.5553,       25,2, -999.000,1, -999.000,   -999.0,1,   -999.0, -999.000,9, -999.000, -999.000,9, -999.000
  49NZ20121128,   S04,    78,  1,     27, X12J27,2,20121222,2134,-61.9997, 121.5262, 4104,    299.6,2,   1.9449,2,   1.94515,2,  34.6361,2,  34.6360,2,  34.8042,2,   177.42,2,   177.16,2,   99.820,   0.0072,2,    0.010,2,  -999.00,9,    0.000,2,    78.17,2,     0.13,    33.60,2,     0.05,     0.01,2,     0.01,     2.31,2,     0.01,    0.735,2,    0.364,2,    0.056,2,    0.166,2,   2257.9,2,   2335.1,2,   7.5617,       25,2, -999.000,1, -999.000,   -999.0,1,   -999.0, -999.000,9, -999.000, -999.000,9, -999.000
  49NZ20121128,   S04,    78,  1,     26, X12J26,2,20121222,2134,-61.9997, 121.5262, 4104,    400.9,2,   1.9609,2,   1.96054,2,  34.6776,2,  34.6778,2,  34.8490,2,   179.73,2,   179.78,2,   99.877,   0.0049,2,    0.010,2,  -999.00,9,    0.000,2,    79.54,2,     0.13,    32.68,2,     0.05,     0.01,2,     0.01,     2.24,2,     0.01,    0.495,2,    0.265,2,    0.040,2,    0.000,2,   2256.8,2,   2340.7,2,   7.5735,       25,2, -999.000,1, -999.000,   -999.0,1,   -999.0, -999.000,9, -999.000, -999.000,9, -999.000
  49NZ20121128,   S04,    78,  1,     25, X12J25,2,20121222,2134,-61.9997, 121.5262, 4104,    500.4,2,   1.9306,2,   1.93056,2,  34.7019,2,  34.7021,2,  34.8723,2,   182.92,2,   182.91,2,   99.881,   0.0048,2,    0.010,2,  -999.00,9,    0.000,2,    80.98,2,     0.13,    32.08,2,     0.04,     0.01,2,     0.01,     2.20,2,     0.01,    0.400,2,    0.205,2,    0.033,2,    0.000,2,   2254.7,2,   2343.0,2,   7.5844,       25,2, -999.000,1, -999.000,   -999.0,1,   -999.0, -999.000,9, -999.000, -999.000,9, -999.000
  49NZ20121128,   S04,    78,  1,     24, X12J24,2,20121222,2134,-61.9997, 121.5262, 4104,    600.1,2,   1.9028,2,   1.90259,2,  34.7198,2,  34.7205,2,  34.8905,2,   186.73,2,   186.99,2,   99.913,   0.0035,2,    0.010,2,  -999.00,9,    0.000,2,    82.16,2,     0.13,    31.49,2,     0.04,     0.00,2,     0.01,     2.16,2,     0.01,    0.309,6,    0.160,6,    0.027,6,    0.000,6,   2253.0,2,   2345.0,2,   7.5945,       25,2, -999.000,1, -999.000,   -999.0,1,   -999.0, -999.000,9, -999.000, -999.000,9, -999.000
  49NZ20121128,   S04,    78,  1,     23, X12J23,2,20121222,2134,-61.9997, 121.5262, 4104,    700.5,2,   1.8485,2,   1.84795,2,  34.7310,2,  34.7317,2,  34.9017,2,   189.53,2,   189.93,2,   99.936,   0.0026,2,    0.000,2,  -999.00,9,    0.000,2,    83.79,2,     0.13,    31.20,2,     0.04,     0.00,2,     0.01,     2.14,2,     0.01,    0.263,2,    0.138,2,    0.022,2,    0.000,2,   2253.2,6,   2346.8,2,   7.6021,       25,2, -999.000,1, -999.000,   -999.0,1,   -999.0, -999.000,9, -999.000, -999.000,9, -999.000
  49NZ20121128,   S04,    78,  1,     22, X12J22,2,20121222,2134,-61.9997, 121.5262, 4104,    801.9,2,   1.7811,2,   1.78087,2,  34.7368,2,  34.7370,2,  34.9077,2,   191.82,2,   191.87,2,   99.942,   0.0023,2,    0.000,2,  -999.00,9,    0.000,2,    85.46,2,     0.14,    31.01,2,     0.04,     0.00,2,     0.01,     2.13,2,     0.01,    0.236,2,    0.123,2,    0.019,2,    0.000,2,   2252.1,2,   2348.1,6,   7.6059,       25,2, -999.000,1, -999.000,   -999.0,1,   -999.0, -999.000,9, -999.000, -999.000,9, -999.000
  49NZ20121128,   S04,    78,  1,     21, X12J21,2,20121222,2134,-61.9997, 121.5262, 4104,    900.0,2,   1.6912,2,   1.69034,2,  34.7400,2,  34.7404,2,  34.9130,2,   194.39,2,   194.45,2,   99.983,   0.0007,2,    0.000,2,  -999.00,9,    0.000,2,    87.85,2,     0.14,    30.88,2,     0.04,     0.00,2,     0.01,     2.12,2,     0.01,    0.224,2,    0.110,2,    0.018,2,    0.000,2,   2250.7,3,   2348.7,2,   7.6099,       25,6, -999.000,1, -999.000,   -999.0,1,   -999.0, -999.000,9, -999.000, -999.000,9, -999.000
  49NZ20121128,   S04,    78,  1,     20, X12J20,2,20121222,2134,-61.9997, 121.5262, 4104,    999.2,2,   1.6047,2,   1.60449,2,  34.7407,2,  34.7411,2,  34.9130,2,   196.32,2,   196.39,2,   99.983,   0.0007,2,    0.000,2,  -999.00,9,    0.000,2,    90.08,2,     0.14,    30.83,2,     0.04,     0.00,2,     0.01,     2.12,2,     0.01,    0.206,2,    0.105,2,    0.015,2,    0.000,2,   2252.6,2,   2351.0,2,   7.6115,       25,2, -999.000,1, -999.000,   -999.0,1,   -999.0, -999.000,9, -999.000, -999.000,9, -999.000
  49NZ20121128,   S04,    78,  1,     19, X12J19,2,20121222,2134,-61.9997, 121.5262, 4104,   1252.1,2,   1.3658,2,   1.36583,2,  34.7353,2,  34.7358,2,  34.9050,2,   200.12,2,   200.06,2,   99.989,   0.0004,2,    0.000,2,  -999.00,9,    0.000,2,    96.54,2,     0.15,    31.03,2,     0.04,     0.00,2,     0.01,     2.13,2,     0.01,    0.203,6,    0.102,6,    0.015,6,    0.000,6,   2254.9,2,   2353.5,2,   7.6131,       25,2, -999.000,1, -999.000,   -999.0,1,   -999.0, -999.000,9, -999.000, -999.000,9, -999.000
  49NZ20121128,   S04,    78,  1,     18, X12J18,2,20121222,2134,-61.9997, 121.5262, 4104,   1499.7,2,   1.1460,2,   1.14599,2,  34.7256,2,  34.7260,2,  34.8978,2,   202.80,2,   202.87,2,   99.974,   0.0010,2,    0.000,2,  -999.00,9,    0.000,2,   102.82,2,     0.15,    31.41,2,     0.04,     0.00,2,     0.01,     2.16,2,     0.01,    0.210,2,    0.101,2,    0.013,2,    0.000,2,   2255.8,2,   2356.0,2,   7.6115,       25,2, -999.000,1, -999.000,   -999.0,1,   -999.0, -999.000,9, -999.000, -999.000,9, -999.000
  49NZ20121128,   S04,    78,  1,     17, X12J17,2,20121222,2134,-61.9997, 121.5262, 4104,   1750.4,2,   0.9595,2,   0.95950,2,  34.7166,2,  34.7169,2,  34.8872,2,   205.34,2,   205.36,2,  100.006,  -0.0002,2,   -0.000,2,  -999.00,9,    0.000,2,   108.27,2,     0.16,    31.74,2,     0.04,     0.00,2,     0.01,     2.19,2,     0.01,    0.221,2,    0.105,2,    0.014,2,    0.000,2,   2259.4,2,   2356.3,2,   7.6100,       25,6, -999.000,1, -999.000,   -999.0,1,   -999.0, -999.000,9, -999.000, -999.000,9, -999.000
  49NZ20121128,   S04,    78,  1,     16, X12J16,2,20121222,2134,-61.9997, 121.5262, 4104,   1999.9,2,   0.7544,2,   0.75448,2,  34.7056,2,  34.7062,2,  34.8813,2,   208.18,2,   208.24,2,   99.995,   0.0002,2,   -0.000,2,  -999.00,9,    0.000,2,   113.52,2,     0.16,    32.01,2,     0.04,     0.00,2,     0.01,     2.20,2,     0.01,    0.256,2,    0.125,2,    0.015,2,    0.000,2,   2259.9,2,   2358.1,2,   7.6054,       25,2, -999.000,1, -999.000,   -999.0,1,   -999.0, -999.000,9, -999.000, -999.000,9, -999.000
  49NZ20121128,   S04,    78,  1,     15, X12J15,2,20121222,2134,-61.9997, 121.5262, 4104,   2250.7,2,   0.5797,2,   0.57974,2,  34.6965,2,  34.6967,2,  34.8688,2,   211.40,2,   211.44,2,   99.999,   0.0000,2,   -0.000,2,  -999.00,9,    0.000,2,   117.68,2,     0.16,    32.25,2,     0.05,     0.00,2,     0.01,     2.22,2,     0.01,    0.325,2,    0.159,2,    0.017,2,    0.000,2,   2260.7,2,   2358.1,2,   7.6037,       25,2, -999.000,1, -999.000,   -999.0,1,   -999.0, -999.000,9, -999.000, -999.000,9, -999.000
  49NZ20121128,   S04,    78,  1,     14, X12J14,2,20121222,2134,-61.9997, 121.5262, 4104,   2501.0,2,   0.4249,2,   0.42483,2,  34.6890,2,  34.6895,2,  34.8635,2,   215.28,2,   215.06,2,   99.997,   0.0001,2,   -0.010,2,  -999.00,9,    0.000,2,   121.49,2,     0.17,    32.40,2,     0.05,     0.00,2,     0.01,     2.24,2,     0.01,    0.437,2,    0.221,2,    0.025,2,    0.084,2,   2261.3,6,   2358.0,2,   7.6033,       25,2, -999.000,1, -999.000,   -999.0,1,   -999.0, -999.000,9, -999.000, -999.000,9, -999.000
  49NZ20121128,   S04,    78,  1,     13, X12J13,2,20121222,2134,-61.9997, 121.5262, 4104,   2749.6,2,   0.3080,2,   0.30800,2,  34.6836,2,  34.6840,2,  34.8589,2,   218.58,2,   218.53,2,   99.995,   0.0002,2,   -0.000,2,  -999.00,9,    0.000,2,   123.53,2,     0.17,    32.46,2,     0.05,     0.00,2,     0.01,     2.24,2,     0.01,    0.551,2,    0.275,2,    0.031,2,    0.000,2,   2262.1,2,   2357.3,6,   7.6025,       25,2, -999.000,1, -999.000,   -999.0,1,   -999.0, -999.000,9, -999.000, -999.000,9, -999.000
  49NZ20121128,   S04,    78,  1,     12, X12J12,2,20121222,2134,-61.9997, 121.5262, 4104,   3000.8,2,   0.2106,2,   0.21075,2,  34.6794,2,  34.6799,2,  34.8543,2,   221.70,2,   222.04,2,   99.993,   0.0003,2,   -0.000,2,  -999.00,9,    0.000,2,   125.40,2,     0.17,    32.47,2,     0.05,     0.00,2,     0.01,     2.24,2,     0.01,    0.683,2,    0.331,2,    0.038,2,    0.088,2,   2261.5,2,   2356.9,2,   7.6028,       25,6, -999.000,1, -999.000,   -999.0,1,   -999.0, -999.000,9, -999.000, -999.000,9, -999.000
  49NZ20121128,   S04,    78,  1,     11, X12J11,2,20121222,2134,-61.9997, 121.5262, 4104,   3250.2,2,   0.1279,2,   0.12789,2,  34.6755,2,  34.6761,2,  34.8484,2,   224.89,2,   224.86,2,   99.978,   0.0009,2,   -0.000,2,  -999.00,9,    0.000,2,   126.69,2,     0.17,    32.47,2,     0.05,     0.00,2,     0.01,     2.24,2,     0.01,    0.845,2,    0.401,2,    0.048,2,    0.000,2,   2261.6,2,   2356.4,2,   7.6029,       25,2, -999.000,1, -999.000,   -999.0,1,   -999.0, -999.000,9, -999.000, -999.000,9, -999.000
  49NZ20121128,   S04,    78,  1,     10, X12J10,2,20121222,2134,-61.9997, 121.5262, 4104,   3501.2,2,   0.0501,2,   0.05013,2,  34.6714,2,  34.6717,2,  34.8464,2,   227.99,2,   228.05,2,   99.974,   0.0010,2,   -0.010,2,  -999.00,9,    0.000,2,   127.19,2,     0.17,    32.42,2,     0.05,     0.00,2,     0.01,     2.24,2,     0.01,    1.029,2,    0.505,2,    0.064,2,    0.150,2,   2260.1,2,   2356.1,2,   7.6029,       25,2, -999.000,1, -999.000,   -999.0,1,   -999.0, -999.000,9, -999.000, -999.000,9, -999.000
  49NZ20121128,   S04,    78,  1,      9, X12J09,2,20121222,2134,-61.9997, 121.5262, 4104,   3750.3,2,  -0.0194,2,  -0.01925,2,  34.6664,2,  34.6668,2,  34.8418,2,   231.24,2,   231.32,2,   99.940,   0.0024,2,   -0.010,2,  -999.00,9,    0.000,2,   126.82,2,     0.17,    32.33,2,     0.05,     0.00,2,     0.01,     2.24,2,     0.01,    1.274,2,    0.639,2,    0.087,2,    0.193,2,   2260.0,2,   2355.1,2,   7.6035,       25,2, -999.000,1, -999.000,   -999.0,1,   -999.0, -999.000,9, -999.000, -999.000,9, -999.000
  49NZ20121128,   S04,    78,  1,      8, X12J08,2,20121222,2134,-61.9997, 121.5262, 4104,   3999.9,2,  -0.1124,2,  -0.11260,2,  34.6573,2,  34.6574,2,  34.8306,2,   235.64,2,   235.92,2,   99.888,   0.0045,2,   -0.010,2,  -999.00,9,    0.000,2,   125.11,2,     0.17,    32.28,2,     0.05,     0.00,2,     0.01,     2.23,2,     0.01,    1.722,6,    0.887,6,    0.131,6,    0.385,6,   2259.7,2,   2354.0,2,   7.6014,       25,2, -999.000,1, -999.000,   -999.0,1,   -999.0, -999.000,9, -999.000, -999.000,9, -999.000
  49NZ20121128,   S04,    78,  1,      1, X12J01,2,20121222,2134,-61.9997, 121.5262, 4104,   4172.9,2,  -0.1879,2,  -0.18799,2,  34.6481,2,  34.6487,2,  34.8226,2,   239.01,2,   239.03,2,   99.605,   0.0158,2,   -0.010,2,  -999.00,9,    0.000,2,   125.34,2,     0.17,    32.21,2,     0.05,     0.00,2,     0.01,     2.23,2,     0.01,    2.075,2,    1.075,2,    0.162,2,    0.610,2,   2260.5,3,   2353.5,2,   7.5993,       25,2, -999.000,1, -999.000,   -999.0,1,   -999.0, -999.000,9, -999.000, -999.000,9, -999.000