BOTTLE,20220819CCHSIOAMB
EXPOCODE,SECT_ID,STNNBR,CASTNO,SAMPNO,BTLNBR,BTLNBR_FLAG_W,DATE,TIME,LATITUDE,LONGITUDE,DEPTH,CTDPRS,CTDPRS_FLAG_W,CTDTMP,CTDTMP_FLAG_W,SBE35,SBE35_FLAG_W,CTDSAL,CTDSAL_FLAG_W,SALNTY,SALNTY_FLAG_W,DNSSAL,DNSSAL_FLAG_W,CTDOXY,CTDOXY_FLAG_W,OXYGEN,OXYGEN_FLAG_W,CTDXMISS,CTDXMISSCP,CTDXMISS_FLAG_W,CTDFLUOR,CTDFLUOR_FLAG_W,CHLORA,CHLORA_FLAG_W,PAR,PAR_FLAG_W,SILCAT,SILCAT_FLAG_W,SILUNC,NITRAT,NITRAT_FLAG_W,NRAUNC,NITRIT,NITRIT_FLAG_W,NRIUNC,PHSPHT,PHSPHT_FLAG_W,PHPUNC,CFC-11,CFC-11_FLAG_W,CFC-12,CFC-12_FLAG_W,CFC113,CFC113_FLAG_W,SF6,SF6_FLAG_W,TCARBN,TCARBN_FLAG_W,ALKALI,ALKALI_FLAG_W,PH_TOT,PH_TMP,PH_TOT_FLAG_W,DELC13,DELC13_FLAG_W,C13ERR,DELC14,DELC14_FLAG_W,C14ERR,CS-134,CS-134_FLAG_W,CS134ER,CS-137,CS-137_FLAG_W,CS137ER
,,,,,,,,UTC,DEG,DEG,METERS,DBAR,,ITS-90,,ITS-90,,PSS-78,,PSS-78,,G/KG,,UMOL/KG,,UMOL/KG,,%TRANS,/METER,,MG/M^3,,MG/CUM,,UE/SQM/S,,UMOL/KG,,UMOL/KG,UMOL/KG,,UMOL/KG,UMOL/KG,,UMOL/KG,UMOL/KG,,UMOL/KG,PMOL/KG,,PMOL/KG,,PMOL/KG,,FMOL/KG,,UMOL/KG,,UMOL/KG,,,DEG C,,/MILLE,,/MILLE,/MILLE,,/MILLE,MBQ/KG,,MBQ/KG,MBQ/KG,,MBQ/KG
  49NZ20121128,   S04,    60,  1,     36, X12J36,2,20121215,1826,-63.0690, 146.4682, 3924,     11.2,2,  -0.4453,2,  -0.44539,2,  33.7789,2,  33.7798,2,-999.0000,9,   358.00,2,   358.87,2,   90.205,   0.4123,2,    0.730,2,  -999.00,9,   59.122,2,    35.29,2,     0.09,    26.03,2,     0.04,     0.17,2,     0.01,     1.66,3,     0.01,    6.021,2,    3.410,2,    0.575,2,    3.269,2,   -999.0,9,   -999.0,9,-999.0000,     -999,9, -999.000,9, -999.000,   -999.0,9,   -999.0, -999.000,9, -999.000, -999.000,9, -999.000
  49NZ20121128,   S04,    60,  1,     35, X12J35,2,20121215,1826,-63.0690, 146.4682, 3924,     26.0,2,  -0.4954,2,  -0.49724,2,  33.8141,2,  33.8129,2,-999.0000,9,   357.14,2,   357.52,2,   91.675,   0.3477,2,    0.890,2,  -999.00,9,   12.688,2,    36.22,2,     0.09,    26.41,2,     0.04,     0.17,2,     0.01,     1.69,2,     0.01,    6.011,2,    3.366,2,    0.572,2,    3.095,2,   -999.0,9,   -999.0,9,-999.0000,     -999,9, -999.000,9, -999.000,   -999.0,9,   -999.0, -999.000,9, -999.000, -999.000,9, -999.000
  49NZ20121128,   S04,    60,  1,     34, X12J34,2,20121215,1826,-63.0690, 146.4682, 3924,     50.7,2,  -0.7090,2,  -0.70905,2,  33.8824,2,  33.8828,2,-999.0000,9,   354.08,2,   354.09,2,   91.954,   0.3355,2,    1.070,2,  -999.00,9,    1.373,2,    38.48,2,     0.09,    27.29,2,     0.04,     0.17,2,     0.01,     1.77,2,     0.01,    5.909,6,    3.326,6,    0.565,6,    3.163,6,   -999.0,9,   -999.0,9,-999.0000,     -999,9, -999.000,9, -999.000,   -999.0,9,   -999.0, -999.000,9, -999.000, -999.000,9, -999.000
  49NZ20121128,   S04,    60,  1,     33, X12J33,2,20121215,1826,-63.0690, 146.4682, 3924,     75.8,2,  -1.4457,2,  -1.43442,2,  34.1179,2,  34.1026,2,-999.0000,9,   316.90,2,   319.47,2,   98.386,   0.0651,2,    0.270,2,  -999.00,9,    0.056,2,    53.28,2,     0.11,    30.34,2,     0.04,     0.11,2,     0.01,     2.15,2,     0.01,    4.892,2,    2.785,2,    0.463,2,    2.375,2,   -999.0,9,   -999.0,9,-999.0000,     -999,9, -999.000,9, -999.000,   -999.0,9,   -999.0, -999.000,9, -999.000, -999.000,9, -999.000
  49NZ20121128,   S04,    60,  1,     32, X12J32,2,20121215,1826,-63.0690, 146.4682, 3924,    100.7,2,   0.2903,2,   0.30138,2,  34.3786,2,  34.3740,2,-999.0000,9,   236.13,2,   236.64,2,   99.259,   0.0298,2,    0.150,2,  -999.00,9,    0.000,2,    66.89,2,     0.12,    33.10,2,     0.05,     0.12,2,     0.01,     2.31,2,     0.01,    2.665,2,    1.503,2,    0.249,2,    1.193,2,   -999.0,9,   -999.0,9,-999.0000,     -999,9, -999.000,9, -999.000,   -999.0,9,   -999.0, -999.000,9, -999.000, -999.000,9, -999.000
  49NZ20121128,   S04,    60,  1,     31, X12J31,2,20121215,1826,-63.0690, 146.4682, 3924,    124.9,2,   1.5841,2,   1.58343,2,  34.5666,2,  34.5659,2,-999.0000,9,   184.97,2,   185.17,2,   99.552,   0.0180,2,    0.070,2,  -999.00,9,    0.000,2,    75.64,2,     0.13,    34.17,2,     0.05,     0.06,2,     0.01,     2.34,2,     0.01,    1.163,2,    0.624,2,    0.098,2,    0.237,2,   -999.0,9,   -999.0,9,-999.0000,     -999,9, -999.000,9, -999.000,   -999.0,9,   -999.0, -999.000,9, -999.000, -999.000,9, -999.000
  49NZ20121128,   S04,    60,  1,     30, X12J30,2,20121215,1826,-63.0690, 146.4682, 3924,    151.4,2,   1.7104,2,   1.70955,2,  34.6018,2,  34.6005,2,-999.0000,9,   181.72,2,   181.52,2,   99.712,   0.0115,2,    0.030,2,  -999.00,9,    0.000,2,    77.30,2,     0.13,    33.93,2,     0.05,     0.02,2,     0.01,     2.32,2,     0.01,    0.973,2,    0.509,2,    0.079,2,    0.306,2,   -999.0,9,   -999.0,9,-999.0000,     -999,9, -999.000,9, -999.000,   -999.0,9,   -999.0, -999.000,9, -999.000, -999.000,9, -999.000
  49NZ20121128,   S04,    60,  1,     29, X12J29,2,20121215,1826,-63.0690, 146.4682, 3924,    200.2,2,   1.7433,2,   1.74309,2,  34.6270,2,  34.6258,2,-999.0000,9,   181.64,2,   181.50,2,   99.714,   0.0115,2,    0.010,2,  -999.00,9,    0.000,2,    78.58,2,     0.13,    33.51,2,     0.05,     0.02,2,     0.01,     2.30,2,     0.01,    0.846,2,    0.465,2,    0.069,2,    0.192,2,   -999.0,9,   -999.0,9,-999.0000,     -999,9, -999.000,9, -999.000,   -999.0,9,   -999.0, -999.000,9, -999.000, -999.000,9, -999.000
  49NZ20121128,   S04,    60,  1,     28, X12J28,2,20121215,1826,-63.0690, 146.4682, 3924,    249.1,2,   1.8604,2,   1.85910,2,  34.6665,2,  34.6646,2,-999.0000,9,   180.69,2,   180.65,2,   99.691,   0.0124,2,    0.010,2,  -999.00,9,    0.000,2,    80.10,2,     0.13,    33.06,2,     0.05,     0.01,2,     0.01,     2.26,2,     0.01,    0.614,2,    0.336,2,    0.048,2,    0.127,2,   -999.0,9,   -999.0,9,-999.0000,     -999,9, -999.000,9, -999.000,   -999.0,9,   -999.0, -999.000,9, -999.000, -999.000,9, -999.000
  49NZ20121128,   S04,    60,  1,     27, X12J27,2,20121215,1826,-63.0690, 146.4682, 3924,    300.9,2,   1.8850,2,   1.88505,2,  34.6862,2,  34.6855,2,-999.0000,9,   181.52,2,   181.58,2,   99.781,   0.0088,2,    0.010,2,  -999.00,9,    0.000,2,    80.85,2,     0.13,    32.66,2,     0.05,     0.01,2,     0.01,     2.23,2,     0.01,    0.518,2,    0.269,2,    0.044,2,    0.000,2,   -999.0,9,   -999.0,9,-999.0000,     -999,9, -999.000,9, -999.000,   -999.0,9,   -999.0, -999.000,9, -999.000, -999.000,9, -999.000
  49NZ20121128,   S04,    60,  1,     26, X12J26,2,20121215,1826,-63.0690, 146.4682, 3924,    401.6,2,   1.8636,2,   1.86344,2,  34.7063,2,  34.7059,2,-999.0000,9,   184.10,2,   184.29,2,   99.862,   0.0055,2,    0.010,2,  -999.00,9,    0.000,2,    82.30,2,     0.13,    32.15,2,     0.05,     0.01,2,     0.01,     2.19,2,     0.01,    0.423,2,    0.217,2,    0.033,2,    0.000,2,   -999.0,9,   -999.0,9,-999.0000,     -999,9, -999.000,9, -999.000,   -999.0,9,   -999.0, -999.000,9, -999.000, -999.000,9, -999.000
  49NZ20121128,   S04,    60,  1,     25, X12J25,2,20121215,1826,-63.0690, 146.4682, 3924,    500.6,2,   1.8240,2,   1.82416,2,  34.7219,2,  34.7210,2,-999.0000,9,   187.22,2,   187.49,2,   99.900,   0.0040,2,    0.000,2,  -999.00,9,    0.000,2,    83.66,2,     0.13,    31.70,2,     0.04,     0.01,2,     0.01,     2.17,2,     0.01,    0.354,2,    0.175,2,    0.027,2,    0.000,2,   -999.0,9,   -999.0,9,-999.0000,     -999,9, -999.000,9, -999.000,   -999.0,9,   -999.0, -999.000,9, -999.000, -999.000,9, -999.000
  49NZ20121128,   S04,    60,  1,     24, X12J24,2,20121215,1826,-63.0690, 146.4682, 3924,    602.4,2,   1.7730,2,   1.77290,2,  34.7294,2,  34.7286,2,-999.0000,9,   189.72,2,   189.81,2,   99.923,   0.0031,2,    0.000,2,  -999.00,9,    0.000,2,    85.01,2,     0.14,    31.44,2,     0.04,     0.01,2,     0.01,     2.15,2,     0.01,    0.314,6,    0.158,6,    0.023,6,    0.000,6,   -999.0,9,   -999.0,9,-999.0000,     -999,9, -999.000,9, -999.000,   -999.0,9,   -999.0, -999.000,9, -999.000, -999.000,9, -999.000
  49NZ20121128,   S04,    60,  1,     23, X12J23,2,20121215,1826,-63.0690, 146.4682, 3924,    702.2,2,   1.7140,2,   1.71390,2,  34.7341,2,  34.7338,2,-999.0000,9,   191.87,2,   192.19,2,   99.902,   0.0039,2,    0.010,2,  -999.00,9,    0.000,2,    86.52,2,     0.14,    31.27,2,     0.04,     0.01,2,     0.01,     2.14,2,     0.01,    0.291,2,    0.144,2,    0.022,2,    0.000,2,   -999.0,9,   -999.0,9,-999.0000,     -999,9, -999.000,9, -999.000,   -999.0,9,   -999.0, -999.000,9, -999.000, -999.000,9, -999.000
  49NZ20121128,   S04,    60,  1,     22, X12J22,2,20121215,1826,-63.0690, 146.4682, 3924,    800.2,2,   1.6259,2,   1.62569,2,  34.7374,2,  34.7368,2,-999.0000,9,   194.58,2,   194.82,2,   99.931,   0.0028,2,    0.000,2,  -999.00,9,    0.000,2,    88.92,2,     0.14,    31.14,2,     0.04,     0.01,2,     0.01,     2.13,2,     0.01,    0.267,2,    0.129,2,    0.019,2,    0.000,2,   -999.0,9,   -999.0,9,-999.0000,     -999,9, -999.000,9, -999.000,   -999.0,9,   -999.0, -999.000,9, -999.000, -999.000,9, -999.000
  49NZ20121128,   S04,    60,  1,     21, X12J21,2,20121215,1826,-63.0690, 146.4682, 3924,    901.3,2,   1.5513,2,   1.55102,2,  34.7380,2,  34.7379,2,-999.0000,9,   196.43,2,   196.61,2,   99.910,   0.0036,2,    0.000,2,  -999.00,9,    0.000,2,    90.78,2,     0.14,    31.06,2,     0.04,     0.01,2,     0.01,     2.13,2,     0.01,    0.260,2,    0.124,2,    0.020,2,    0.000,2,   -999.0,9,   -999.0,9,-999.0000,     -999,9, -999.000,9, -999.000,   -999.0,9,   -999.0, -999.000,9, -999.000, -999.000,9, -999.000
  49NZ20121128,   S04,    60,  1,     20, X12J20,2,20121215,1826,-63.0690, 146.4682, 3924,   1004.0,2,   1.4601,2,   1.46022,2,  34.7376,2,  34.7367,2,-999.0000,9,   198.29,2,   198.55,2,   99.944,   0.0022,2,    0.000,2,  -999.00,9,    0.000,2,    93.21,2,     0.14,    31.04,2,     0.04,     0.01,2,     0.01,     2.13,2,     0.01,    0.241,2,    0.113,2,    0.016,2,    0.000,2,   -999.0,9,   -999.0,9,-999.0000,     -999,9, -999.000,9, -999.000,   -999.0,9,   -999.0, -999.000,9, -999.000, -999.000,9, -999.000
  49NZ20121128,   S04,    60,  1,     19, X12J19,2,20121215,1826,-63.0690, 146.4682, 3924,   1251.2,2,   1.2573,2,   1.25736,2,  34.7312,2,  34.7311,2,-999.0000,9,   201.28,2,   201.59,2,   99.977,   0.0009,2,    0.000,2,  -999.00,9,    0.000,2,    99.14,2,     0.15,    31.32,2,     0.04,     0.01,2,     0.01,     2.15,2,     0.01,    0.219,6,    0.104,6,    0.013,6,    0.000,6,   -999.0,9,   -999.0,9,-999.0000,     -999,9, -999.000,9, -999.000,   -999.0,9,   -999.0, -999.000,9, -999.000, -999.000,9, -999.000
  49NZ20121128,   S04,    60,  1,     18, X12J18,2,20121215,1826,-63.0690, 146.4682, 3924,   1500.9,2,   1.0724,2,   1.07251,2,  34.7225,2,  34.7216,2,-999.0000,9,   203.72,2,   203.98,2,   99.965,   0.0014,2,   -0.000,2,  -999.00,9,    0.000,2,   104.55,2,     0.15,    31.62,2,     0.04,     0.00,2,     0.01,     2.18,2,     0.01,    0.234,2,    0.108,2,    0.013,2,    0.000,2,   -999.0,9,   -999.0,9,-999.0000,     -999,9, -999.000,9, -999.000,   -999.0,9,   -999.0, -999.000,9, -999.000, -999.000,9, -999.000
  49NZ20121128,   S04,    60,  1,     17, X12J17,2,20121215,1826,-63.0690, 146.4682, 3924,   1750.8,2,   0.8781,2,   0.87816,2,  34.7125,2,  34.7122,2,-999.0000,9,   206.33,2,   206.58,2,   99.982,   0.0007,2,   -0.000,2,  -999.00,9,    0.000,2,   110.08,2,     0.16,    31.89,2,     0.04,     0.01,2,     0.01,     2.20,2,     0.01,    0.242,2,    0.119,2,    0.011,2,    0.000,2,   -999.0,9,   -999.0,9,-999.0000,     -999,9, -999.000,9, -999.000,   -999.0,9,   -999.0, -999.000,9, -999.000, -999.000,9, -999.000
  49NZ20121128,   S04,    60,  1,     16, X12J16,2,20121215,1826,-63.0690, 146.4682, 3924,   1998.7,2,   0.6874,2,   0.68758,2,  34.7023,2,  34.7022,2,-999.0000,9,   209.37,2,   209.57,2,   99.961,   0.0016,2,   -0.000,2,  -999.00,9,    0.000,2,   114.56,2,     0.16,    32.18,2,     0.05,     0.00,2,     0.01,     2.21,2,     0.01,    0.297,2,    0.147,2,    0.017,2,    0.000,2,   -999.0,9,   -999.0,9,-999.0000,     -999,9, -999.000,9, -999.000,   -999.0,9,   -999.0, -999.000,9, -999.000, -999.000,9, -999.000
  49NZ20121128,   S04,    60,  1,     15, X12J15,2,20121215,1826,-63.0690, 146.4682, 3924,   2250.1,2,   0.5237,2,   0.52373,2,  34.6934,2,  34.6929,2,-999.0000,9,   212.73,2,   212.83,2,   99.961,   0.0016,2,   -0.000,2,  -999.00,9,    0.000,2,   117.69,2,     0.16,    32.40,2,     0.05,     0.00,2,     0.01,     2.22,2,     0.01, -999.000,5,    0.202,2, -999.000,5,    0.000,2,   -999.0,9,   -999.0,9,-999.0000,     -999,9, -999.000,9, -999.000,   -999.0,9,   -999.0, -999.000,9, -999.000, -999.000,9, -999.000
  49NZ20121128,   S04,    60,  1,     14, X12J14,2,20121215,1826,-63.0690, 146.4682, 3924,   2499.9,2,   0.3580,2,   0.35821,2,  34.6846,2,  34.6843,2,-999.0000,9,   216.89,2,   217.08,2,   99.952,   0.0019,2,   -0.000,2,  -999.00,9,    0.000,2,   119.28,2,     0.17,    32.47,2,     0.05,     0.01,2,     0.01,     2.24,2,     0.01,    0.589,2,    0.302,2,    0.036,2,    0.079,2,   -999.0,9,   -999.0,9,-999.0000,     -999,9, -999.000,9, -999.000,   -999.0,9,   -999.0, -999.000,9, -999.000, -999.000,9, -999.000
  49NZ20121128,   S04,    60,  1,     13, X12J13,2,20121215,1826,-63.0690, 146.4682, 3924,   2750.4,2,   0.2640,2,   0.26404,2,  34.6803,2,  34.6796,2,-999.0000,9,   219.96,2,   220.03,2,   99.946,   0.0022,2,   -0.000,2,  -999.00,9,    0.000,2,   120.37,2,     0.17,    32.52,2,     0.05,     0.00,2,     0.01,     2.24,2,     0.01,    0.713,2,    0.369,2,    0.045,2,    0.146,2,   -999.0,9,   -999.0,9,-999.0000,     -999,9, -999.000,9, -999.000,   -999.0,9,   -999.0, -999.000,9, -999.000, -999.000,9, -999.000
  49NZ20121128,   S04,    60,  1,     12, X12J12,2,20121215,1826,-63.0690, 146.4682, 3924,   2999.5,2,   0.1771,2,   0.17685,2,  34.6772,2,  34.6764,2,-999.0000,9,   222.85,2,   223.00,2,   99.948,   0.0021,2,   -0.000,2,  -999.00,9,    0.000,2,   122.33,2,     0.17,    32.57,2,     0.05,     0.00,2,     0.01,     2.24,2,     0.01,    0.811,2,    0.416,2,    0.049,2,    0.275,2,   -999.0,9,   -999.0,9,-999.0000,     -999,9, -999.000,9, -999.000,   -999.0,9,   -999.0, -999.000,9, -999.000, -999.000,9, -999.000
  49NZ20121128,   S04,    60,  1,     11, X12J11,2,20121215,1826,-63.0690, 146.4682, 3924,   3250.3,2,   0.0731,2,   0.07306,2,  34.6713,2,  34.6712,2,-999.0000,9,   227.00,2,   227.30,2,   99.917,   0.0033,2,   -0.010,2,  -999.00,9,    0.000,2,   120.79,2,     0.17,    32.48,2,     0.05,     0.01,2,     0.01,     2.23,2,     0.01,    1.092,2,    0.560,2,    0.073,2,    0.229,2,   -999.0,9,   -999.0,9,-999.0000,     -999,9, -999.000,9, -999.000,   -999.0,9,   -999.0, -999.000,9, -999.000, -999.000,9, -999.000
  49NZ20121128,   S04,    60,  1,     10, X12J10,2,20121215,1826,-63.0690, 146.4682, 3924,   3501.6,2,  -0.0290,2,  -0.02897,2,  34.6653,2,  34.6648,2,-999.0000,9,   231.40,2,   231.61,2,   99.898,   0.0041,2,   -0.000,2,  -999.00,9,    0.000,2,   119.33,2,     0.17,    32.39,2,     0.05,     0.01,2,     0.01,     2.23,2,     0.01,    1.410,2,    0.742,2,    0.101,2,    0.358,2,   -999.0,9,   -999.0,9,-999.0000,     -999,9, -999.000,9, -999.000,   -999.0,9,   -999.0, -999.000,9, -999.000, -999.000,9, -999.000
  49NZ20121128,   S04,    60,  1,      9, X12J09,2,20121215,1826,-63.0690, 146.4682, 3924,   3749.9,2,  -0.1220,2,  -0.12210,2,  34.6581,2,  34.6578,2,-999.0000,9,   235.37,2,   235.68,2,   99.745,   0.0102,2,   -0.010,2,  -999.00,9,    0.000,2,   116.72,2,     0.16,    32.33,2,     0.05,     0.01,2,     0.01,     2.23,2,     0.01,    1.787,2,    0.960,2,    0.134,2,    0.628,2,   -999.0,9,   -999.0,9,-999.0000,     -999,9, -999.000,9, -999.000,   -999.0,9,   -999.0, -999.000,9, -999.000, -999.000,9, -999.000
  49NZ20121128,   S04,    60,  1,      1, X12J01,2,20121215,1826,-63.0690, 146.4682, 3924,   3979.3,2,  -0.1763,2,  -0.17624,2,  34.6539,2,  34.6538,2,-999.0000,9,   237.96,2,   238.42,2,   98.794,   0.0485,2,   -0.000,2,  -999.00,9,    0.000,2,   112.87,2,     0.16,    32.22,2,     0.05,     0.01,2,     0.01,     2.22,2,     0.01,    2.153,2,    1.166,2,    0.184,2,    0.635,2,   -999.0,9,   -999.0,9,-999.0000,     -999,9, -999.000,9, -999.000,   -999.0,9,   -999.0, -999.000,9, -999.000, -999.000,9, -999.000