BOTTLE,20220819CCHSIOAMB
EXPOCODE,SECT_ID,STNNBR,CASTNO,SAMPNO,BTLNBR,BTLNBR_FLAG_W,DATE,TIME,LATITUDE,LONGITUDE,DEPTH,CTDPRS,CTDPRS_FLAG_W,CTDTMP,CTDTMP_FLAG_W,SBE35,SBE35_FLAG_W,CTDSAL,CTDSAL_FLAG_W,SALNTY,SALNTY_FLAG_W,DNSSAL,DNSSAL_FLAG_W,CTDOXY,CTDOXY_FLAG_W,OXYGEN,OXYGEN_FLAG_W,CTDXMISS,CTDXMISSCP,CTDXMISS_FLAG_W,CTDFLUOR,CTDFLUOR_FLAG_W,CHLORA,CHLORA_FLAG_W,PAR,PAR_FLAG_W,SILCAT,SILCAT_FLAG_W,SILUNC,NITRAT,NITRAT_FLAG_W,NRAUNC,NITRIT,NITRIT_FLAG_W,NRIUNC,PHSPHT,PHSPHT_FLAG_W,PHPUNC,CFC-11,CFC-11_FLAG_W,CFC-12,CFC-12_FLAG_W,CFC113,CFC113_FLAG_W,SF6,SF6_FLAG_W,TCARBN,TCARBN_FLAG_W,ALKALI,ALKALI_FLAG_W,PH_TOT,PH_TMP,PH_TOT_FLAG_W,DELC13,DELC13_FLAG_W,C13ERR,DELC14,DELC14_FLAG_W,C14ERR,CS-134,CS-134_FLAG_W,CS134ER,CS-137,CS-137_FLAG_W,CS137ER
,,,,,,,,UTC,DEG,DEG,METERS,DBAR,,ITS-90,,ITS-90,,PSS-78,,PSS-78,,G/KG,,UMOL/KG,,UMOL/KG,,%TRANS,/METER,,MG/M^3,,MG/CUM,,UE/SQM/S,,UMOL/KG,,UMOL/KG,UMOL/KG,,UMOL/KG,UMOL/KG,,UMOL/KG,UMOL/KG,,UMOL/KG,PMOL/KG,,PMOL/KG,,PMOL/KG,,FMOL/KG,,UMOL/KG,,UMOL/KG,,,DEG C,,/MILLE,,/MILLE,/MILLE,,/MILLE,MBQ/KG,,MBQ/KG,MBQ/KG,,MBQ/KG
  49NZ20121128,  P14S,    23,  1,     36, X12J36,2,20121209,0340,-62.7508, 172.1698, 4217,      6.0,2,  -0.3652,2,  -0.36528,2,  33.7994,2,  33.7999,2,  33.9671,2,   366.57,2,   367.09,2,   92.662,   0.3048,2,    0.330,2,  -999.00,9,  191.204,2,    41.17,2,     0.10,    25.81,2,     0.04,     0.18,2,     0.01,     1.68,2,     0.01,    5.082,4,    4.230,4,    0.420,4,    5.801,4,   2145.7,2,   2287.0,2,   7.7271,       25,4, -999.000,9, -999.000,   -999.0,9,   -999.0, -999.000,9, -999.000, -999.000,9, -999.000
  49NZ20121128,  P14S,    23,  1,     35, X12J35,2,20121209,0340,-62.7508, 172.1698, 4217,     25.4,2,  -0.4192,2,  -0.41864,2,  33.8009,2,  33.8009,2,  33.9684,2,   366.98,2,   367.20,2,   92.307,   0.3202,2,    0.890,2,  -999.00,9,   30.303,2,    41.10,2,     0.10,    25.86,2,     0.04,     0.18,2,     0.01,     1.67,2,     0.01,    5.425,4,    4.167,4,    0.451,4,    5.866,4,   2146.2,2,   2287.0,2,   7.7264,       25,4, -999.000,9, -999.000,   -999.0,9,   -999.0, -999.000,9, -999.000, -999.000,9, -999.000
  49NZ20121128,  P14S,    23,  1,     34, X12J34,2,20121209,0340,-62.7508, 172.1698, 4217,     50.1,2,  -0.7928,2,  -0.80332,2,  33.9020,2,  33.8991,2,  34.0653,2,   359.22,2,   359.11,2,   91.356,   0.3616,2,    1.510,2,  -999.00,9,    2.264,2,    44.03,2,     0.10,    27.62,2,     0.04,     0.19,2,     0.01,     1.89,2,     0.01,    5.223,4,    4.078,4,    0.441,4,    5.800,4,   2165.2,2,   2292.5,2,   7.6910,       25,4, -999.000,9, -999.000,   -999.0,9,   -999.0, -999.000,9, -999.000, -999.000,9, -999.000
  49NZ20121128,  P14S,    23,  1,     33, X12J33,2,20121209,0340,-62.7508, 172.1698, 4217,     74.5,2,  -0.3050,2,  -0.30521,2,  34.0429,2,  34.0419,2,  34.2064,2,   344.51,2,   344.92,2,   96.694,   0.1345,2,    0.600,2,  -999.00,9,    0.228,2,    43.00,2,     0.10,    28.94,2,     0.04,     0.20,2,     0.01,     2.03,2,     0.01,    5.024,4,    3.955,4,    0.431,4,    9.467,4,   2178.0,6,   2296.3,2,   7.6666,       25,4, -999.000,9, -999.000,   -999.0,9,   -999.0, -999.000,9, -999.000, -999.000,9, -999.000
  49NZ20121128,  P14S,    23,  1,     32, X12J32,2,20121209,0340,-62.7508, 172.1698, 4217,    100.8,2,  -0.3147,2,  -0.30576,2,  34.1108,2,  34.1105,2,  34.2783,2,   322.95,2,   324.57,2,   98.402,   0.0644,2,    0.270,2,  -999.00,9,    0.012,2,    51.45,2,     0.10,    30.56,2,     0.04,     0.18,2,     0.01,     2.14,2,     0.01,    4.703,4,    3.652,4,    0.393,4,    8.862,4,   2194.9,2,   2302.1,6,   7.6359,       25,4, -999.000,9, -999.000,   -999.0,9,   -999.0, -999.000,9, -999.000, -999.000,9, -999.000
  49NZ20121128,  P14S,    23,  1,     31, X12J31,2,20121209,0340,-62.7508, 172.1698, 4217,    125.0,2,  -0.5143,2,  -0.49217,2,  34.1905,2,  34.1862,2,  34.3535,2,   308.06,2,   309.21,2,   98.640,   0.0548,2,    0.230,2,  -999.00,9,    0.000,2,    60.36,2,     0.11,    31.24,2,     0.04,     0.16,2,     0.01,     2.19,2,     0.01,    4.386,4,    3.358,4,    0.363,4,    8.254,4,   2208.1,2,   2309.7,2,   7.6169,       25,4, -999.000,9, -999.000,   -999.0,9,   -999.0, -999.000,9, -999.000, -999.000,9, -999.000
  49NZ20121128,  P14S,    23,  1,     30, X12J30,2,20121209,0340,-62.7508, 172.1698, 4217,    151.2,2,   0.2141,2,   0.20820,2,  34.3083,2,  34.3072,2,  34.4748,2,   265.32,2,   265.46,2,   98.626,   0.0553,2,    0.310,2,  -999.00,9,    0.000,2,    65.44,2,     0.12,    32.65,2,     0.05,     0.14,2,     0.01,     2.26,2,     0.01,    3.285,4,    2.591,4,    0.280,4,    6.251,4,   2224.9,2,   2314.7,2,   7.5870,       25,4, -999.000,9, -999.000,   -999.0,9,   -999.0, -999.000,9, -999.000, -999.000,9, -999.000
  49NZ20121128,  P14S,    23,  1,     29, X12J29,2,20121209,0340,-62.7508, 172.1698, 4217,    200.2,2,   1.9295,2,   1.92820,2,  34.5631,2,  34.5595,2,  34.7299,2,   178.83,2,   179.61,2,   99.510,   0.0196,2,    0.070,2,  -999.00,9,    0.000,2,    74.02,2,     0.13,    34.53,2,     0.05,     0.03,2,     0.01,     2.36,2,     0.01,    0.877,4,    0.780,4,    0.068,4,    0.423,4,   2255.5,2,   2330.3,2,   7.5454,       25,4, -999.000,9, -999.000,   -999.0,9,   -999.0, -999.000,9, -999.000, -999.000,9, -999.000
  49NZ20121128,  P14S,    23,  1,     28, X12J28,2,20121209,0340,-62.7508, 172.1698, 4217,    250.3,2,   2.0355,2,   2.03546,2,  34.6193,2,  34.6179,2,  34.7899,2,   173.06,2,   173.15,2,   99.598,   0.0161,2,    0.040,2,  -999.00,9,    0.000,2,    77.31,2,     0.13,    34.15,2,     0.05,     0.02,2,     0.01,     2.34,2,     0.01,    0.579,4,    0.519,4,    0.041,4,    0.000,4,   2258.5,2,   2334.7,2,   7.5502,       25,4, -999.000,9, -999.000,   -999.0,9,   -999.0, -999.000,9, -999.000, -999.000,9, -999.000
  49NZ20121128,  P14S,    23,  1,     27, X12J27,2,20121209,0340,-62.7508, 172.1698, 4217,    331.4,2,   2.0290,2,   2.02888,2,  34.6618,2,  34.6610,2,  34.8301,2,   174.10,2,   174.26,2,   99.738,   0.0105,2,    0.010,2,  -999.00,9,    0.000,2,    79.57,2,     0.13,    33.48,2,     0.05,     0.01,2,     0.01,     2.29,2,     0.01,    0.421,4,    0.387,4,    0.034,4,    0.000,4,   2256.5,2,   2336.7,2,   7.5600,       25,4, -999.000,9, -999.000,   -999.0,9,   -999.0, -999.000,9, -999.000, -999.000,9, -999.000
  49NZ20121128,  P14S,    23,  1,     26, X12J26,2,20121209,0340,-62.7508, 172.1698, 4217,    431.3,2,   1.9926,2,   1.99242,2,  34.6877,2,  34.6871,2,  34.8552,2,   177.13,2,   177.30,2,   99.784,   0.0086,2,    0.020,2,  -999.00,9,    0.000,2,    80.77,2,     0.13,    32.80,2,     0.05,     0.01,2,     0.01,     2.24,2,     0.01,    0.349,4,    0.323,4,    0.024,4,    0.000,4,   2254.9,2,   2341.0,2,   7.5705,       25,4, -999.000,9, -999.000,   -999.0,9,   -999.0, -999.000,9, -999.000, -999.000,9, -999.000
  49NZ20121128,  P14S,    23,  1,     25, X12J25,2,20121209,0340,-62.7508, 172.1698, 4217,    532.2,2,   1.9455,2,   1.94529,2,  34.7045,2,  34.7035,2,  34.8749,2,   180.20,2,   180.56,2,   99.845,   0.0062,2,    0.010,2,  -999.00,9,    0.000,2,    82.14,2,     0.13,    32.34,2,     0.05,     0.01,2,     0.01,     2.21,2,     0.01,    0.306,4,    0.280,4,    0.024,4,    0.000,4,   2254.3,2,   2341.9,2,   7.5779,       25,4, -999.000,9, -999.000,   -999.0,9,   -999.0, -999.000,9, -999.000, -999.000,9, -999.000
  49NZ20121128,  P14S,    23,  1,     24, X12J24,2,20121209,0340,-62.7508, 172.1698, 4217,    631.9,2,   1.8971,2,   1.89693,2,  34.7197,2,  34.7195,2,  34.8901,2,   183.71,2,   184.01,2,   99.874,   0.0050,2,    0.010,2,  -999.00,9,    0.000,2,    83.50,2,     0.13,    31.86,2,     0.04,     0.01,2,     0.01,     2.18,2,     0.01,    0.263,4,    0.223,4,    0.019,4,    0.000,4,   2253.9,2,   2344.7,2,   7.5881,       25,4, -999.000,9, -999.000,   -999.0,9,   -999.0, -999.000,9, -999.000, -999.000,9, -999.000
  49NZ20121128,  P14S,    23,  1,     23, X12J23,2,20121209,0340,-62.7508, 172.1698, 4217,    731.3,2,   1.8352,2,   1.83505,2,  34.7284,2,  34.7283,2,  34.9000,2,   186.87,2,   187.26,2,   99.832,   0.0067,2,    0.010,2,  -999.00,9,    0.000,2,    85.27,2,     0.14,    31.58,2,     0.04,     0.01,2,     0.01,     2.16,2,     0.01,    0.237,4,    0.205,4,    0.018,4,    0.000,4,   2251.4,6,   2346.8,2,   7.5936,       25,4, -999.000,9, -999.000,   -999.0,9,   -999.0, -999.000,9, -999.000, -999.000,9, -999.000
  49NZ20121128,  P14S,    23,  1,     22, X12J22,2,20121209,0340,-62.7508, 172.1698, 4217,    831.4,2,   1.7727,2,   1.77258,2,  34.7358,2,  34.7358,2,  34.9046,2,   190.03,2,   190.63,2,   99.857,   0.0057,2,    0.010,2,  -999.00,9,    0.000,2,    87.08,2,     0.14,    31.27,2,     0.04,     0.01,2,     0.01,     2.14,2,     0.01,    0.187,4,    0.163,4,    0.013,4,    0.000,4,   2251.8,2,   2348.6,6,   7.6011,       25,4, -999.000,9, -999.000,   -999.0,9,   -999.0, -999.000,9, -999.000, -999.000,9, -999.000
  49NZ20121128,  P14S,    23,  1,     21, X12J21,2,20121209,0340,-62.7508, 172.1698, 4217,    931.8,2,   1.7062,2,   1.70610,2,  34.7388,2,  34.7384,2,  34.9092,2,   192.35,2,   192.79,2,   99.903,   0.0039,2,    0.010,2,  -999.00,9,    0.000,2,    88.94,2,     0.14,    31.12,2,     0.04,     0.01,2,     0.01,     2.13,2,     0.01,    0.167,4,    0.141,4,    0.010,4,    0.000,4,   2251.1,2,   2349.1,2,   7.6053,       25,4, -999.000,9, -999.000,   -999.0,9,   -999.0, -999.000,9, -999.000, -999.000,9, -999.000
  49NZ20121128,  P14S,    23,  1,     20, X12J20,2,20121209,0340,-62.7508, 172.1698, 4217,   1083.6,2,   1.5642,2,   1.56426,2,  34.7374,2,  34.7376,2,  34.9092,2,   195.03,2,   195.47,2,   99.878,   0.0049,2,    0.000,2,  -999.00,9,    0.000,2,    92.14,2,     0.14,    31.15,2,     0.04,     0.01,2,     0.01,     2.14,2,     0.01,    0.177,4,    0.154,4,    0.013,4,    0.000,4,   2252.1,2,   2351.1,2,   7.6064,       25,4, -999.000,9, -999.000,   -999.0,9,   -999.0, -999.000,9, -999.000, -999.000,9, -999.000
  49NZ20121128,  P14S,    23,  1,     19, X12J19,2,20121209,0340,-62.7508, 172.1698, 4217,   1332.9,2,   1.3337,2,   1.33351,2,  34.7304,2,  34.7302,2,  34.9020,2,   198.62,2,   198.92,2,   99.934,   0.0026,2,    0.000,2,  -999.00,9,    0.000,2,    98.35,2,     0.15,    31.35,2,     0.04,     0.01,2,     0.01,     2.15,2,     0.01,    0.178,4,    0.159,4,    0.013,4,    0.000,4,   2253.5,2,   2352.4,2,   7.6102,       25,4, -999.000,9, -999.000,   -999.0,9,   -999.0, -999.000,9, -999.000, -999.000,9, -999.000
  49NZ20121128,  P14S,    23,  1,     18, X12J18,2,20121209,0340,-62.7508, 172.1698, 4217,   1580.4,2,   1.1500,2,   1.14969,2,  34.7238,2,  34.7236,2,  34.8967,2,   201.12,2,   201.40,2,   99.920,   0.0032,2,    0.000,2,  -999.00,9,    0.000,2,   104.20,2,     0.15,    31.64,2,     0.04,     0.01,2,     0.01,     2.17,2,     0.01,    0.170,4,    0.150,4,    0.013,4,    0.000,4,   2255.2,2,   2356.0,2,   7.6108,       25,2, -999.000,9, -999.000,   -999.0,9,   -999.0, -999.000,9, -999.000, -999.000,9, -999.000
  49NZ20121128,  P14S,    23,  1,     17, X12J17,2,20121209,0340,-62.7508, 172.1698, 4217,   1832.0,2,   0.9793,2,   0.97956,2,  34.7160,2,  34.7158,2,  34.8888,2,   203.32,2,   203.61,2,   99.953,   0.0019,2,    0.000,2,  -999.00,9,    0.000,2,   109.29,2,     0.16,    31.95,2,     0.04,     0.01,2,     0.01,     2.20,2,     0.01,    0.193,4,    0.166,4,    0.012,4,    0.000,4,   2257.3,2,   2357.1,2,   7.6084,       25,6, -999.000,9, -999.000,   -999.0,9,   -999.0, -999.000,9, -999.000, -999.000,9, -999.000
  49NZ20121128,  P14S,    23,  1,     16, X12J16,2,20121209,0340,-62.7508, 172.1698, 4217,   2080.3,2,   0.8100,2,   0.80992,2,  34.7076,2,  34.7077,2,  34.8802,2,   205.26,2,   205.49,2,   99.924,   0.0030,2,    0.000,2,  -999.00,9,    0.000,2,   113.98,2,     0.16,    32.11,2,     0.05,     0.01,2,     0.01,     2.21,2,     0.01,    0.223,4,    0.195,4,    0.012,4,    0.070,4,   2259.3,2,   2357.7,2,   7.6049,       25,2, -999.000,9, -999.000,   -999.0,9,   -999.0, -999.000,9, -999.000, -999.000,9, -999.000
  49NZ20121128,  P14S,    23,  1,     15, X12J15,2,20121209,0340,-62.7508, 172.1698, 4217,   2331.7,2,   0.6848,2,   0.68480,2,  34.7020,2,  34.7020,2,  34.8743,2,   207.40,2,   207.59,2,   99.924,   0.0030,2,   -0.000,2,  -999.00,9,    0.000,2,   117.55,2,     0.16,    32.30,2,     0.05,     0.01,2,     0.01,     2.22,2,     0.01,    0.283,4,    0.263,4,    0.016,4,    0.048,4,   2259.8,2,   2357.3,2,   7.6029,       25,2, -999.000,9, -999.000,   -999.0,9,   -999.0, -999.000,9, -999.000, -999.000,9, -999.000
  49NZ20121128,  P14S,    23,  1,     14, X12J14,2,20121209,0340,-62.7508, 172.1698, 4217,   2581.2,2,   0.6248,2,   0.62475,2,  34.6995,2,  34.6993,2,  34.8703,2,   209.35,2,   209.58,2,   99.899,   0.0040,2,   -0.000,2,  -999.00,9,    0.000,2,   119.83,2,     0.17,    32.37,2,     0.05,     0.01,2,     0.01,     2.22,2,     0.01,    0.349,4,    0.314,4,    0.024,4,    0.000,4,   2259.8,6,   2357.4,2,   7.6035,       25,2, -999.000,9, -999.000,   -999.0,9,   -999.0, -999.000,9, -999.000, -999.000,9, -999.000
  49NZ20121128,  P14S,    23,  1,     13, X12J13,2,20121209,0340,-62.7508, 172.1698, 4217,   2831.7,2,   0.5238,2,   0.52412,2,  34.6956,2,  34.6954,2,  34.8703,2,   211.30,2,   211.44,2,   99.934,   0.0026,2,   -0.000,2,  -999.00,9,    0.000,2,   120.01,2,     0.17,    32.50,2,     0.05,     0.01,2,     0.01,     2.24,2,     0.01,    0.406,4,    0.364,4,    0.027,4,    0.100,4,   2259.7,2,   2357.4,6,   7.5995,       25,2, -999.000,9, -999.000,   -999.0,9,   -999.0, -999.000,9, -999.000, -999.000,9, -999.000
  49NZ20121128,  P14S,    23,  1,     12, X12J12,2,20121209,0340,-62.7508, 172.1698, 4217,   3080.3,2,   0.4375,2,   0.43752,2,  34.6919,2,  34.6914,2,  34.8578,2,   213.68,2,   213.80,2,   99.914,   0.0034,2,   -0.000,2,  -999.00,9,    0.000,2,   120.22,2,     0.17,    32.52,2,     0.05,     0.01,2,     0.01,     2.24,2,     0.01,    0.491,4,    0.450,4,    0.036,4,    0.214,4,   2261.2,2,   2357.1,2,   7.6000,       25,2, -999.000,9, -999.000,   -999.0,9,   -999.0, -999.000,9, -999.000, -999.000,9, -999.000
  49NZ20121128,  P14S,    23,  1,     11, X12J11,2,20121209,0340,-62.7508, 172.1698, 4217,   3329.5,2,   0.3781,2,   0.37812,2,  34.6891,2,  34.6891,2,  34.8598,2,   215.77,2,   216.14,2,   99.891,   0.0044,2,   -0.000,2,  -999.00,9,    0.000,2,   119.82,2,     0.17,    32.52,2,     0.05,     0.01,2,     0.01,     2.24,2,     0.01,    0.604,4,    0.528,4,    0.041,4,    0.107,4,   2259.7,2,   2357.7,2,   7.5986,       25,2, -999.000,9, -999.000,   -999.0,9,   -999.0, -999.000,9, -999.000, -999.000,9, -999.000
  49NZ20121128,  P14S,    23,  1,     10, X12J10,2,20121209,0340,-62.7508, 172.1698, 4217,   3580.7,2,   0.3479,2,   0.34775,2,  34.6873,2,  34.6872,2,  34.8604,2,   217.12,2,   217.41,2,   99.882,   0.0047,2,   -0.000,2,  -999.00,9,    0.000,2,   119.18,2,     0.17,    32.50,2,     0.05,     0.01,2,     0.01,     2.24,2,     0.01,    0.654,4,    0.603,4,    0.051,4,    0.092,4,   2261.4,2,   2356.2,2,   7.5987,       25,2, -999.000,9, -999.000,   -999.0,9,   -999.0, -999.000,9, -999.000, -999.000,9, -999.000
  49NZ20121128,  P14S,    23,  1,      9, X12J09,2,20121209,0340,-62.7508, 172.1698, 4217,   3830.7,2,   0.3548,2,   0.35478,2,  34.6868,2,  34.6869,2,  34.8598,2,   217.59,2,   217.78,2,   99.859,   0.0056,2,   -0.000,2,  -999.00,9,    0.000,2,   119.06,2,     0.17,    32.55,2,     0.05,     0.01,2,     0.01,     2.24,2,     0.01,    0.666,4,    0.619,4,    0.045,4,    0.258,4,   2262.0,2,   2356.5,2,   7.5987,       25,2, -999.000,9, -999.000,   -999.0,9,   -999.0, -999.000,9, -999.000, -999.000,9, -999.000
  49NZ20121128,  P14S,    23,  1,      8, X12J08,2,20121209,0340,-62.7508, 172.1698, 4217,   4080.1,2,   0.3738,2,   0.37374,2,  34.6863,2,  34.6865,2,  34.8591,2,   217.68,2,   218.09,2,   99.840,   0.0064,2,   -0.000,2,  -999.00,9,    0.000,2,   119.06,2,     0.17,    32.56,2,     0.05,     0.01,2,     0.01,     2.24,2,     0.01,    0.705,4,    0.634,4,    0.055,4,    0.243,4,   2257.7,3,   2356.0,2,   7.5975,       25,2, -999.000,9, -999.000,   -999.0,9,   -999.0, -999.000,9, -999.000, -999.000,9, -999.000
  49NZ20121128,  P14S,    23,  1,      1, X12J01,2,20121209,0340,-62.7508, 172.1698, 4217,   4271.1,2,   0.3772,2,   0.37715,2,  34.6855,2,  34.6855,2,  34.8591,2,   218.16,2,   218.76,2,   99.755,   0.0098,2,   -0.000,2,  -999.00,9,    0.000,2,   118.69,2,     0.17,    32.51,2,     0.05,     0.01,2,     0.01,     2.24,2,     0.01,    0.727,4,    0.658,4,    0.053,4,    0.262,4,   2262.0,2,   2356.3,2,   7.5988,       25,2, -999.000,9, -999.000,   -999.0,9,   -999.0, -999.000,9, -999.000, -999.000,9, -999.000