BOTTLE,20220819CCHSIOAMB
EXPOCODE,SECT_ID,STNNBR,CASTNO,SAMPNO,BTLNBR,BTLNBR_FLAG_W,DATE,TIME,LATITUDE,LONGITUDE,DEPTH,CTDPRS,CTDPRS_FLAG_W,CTDTMP,CTDTMP_FLAG_W,SBE35,SBE35_FLAG_W,CTDSAL,CTDSAL_FLAG_W,SALNTY,SALNTY_FLAG_W,DNSSAL,DNSSAL_FLAG_W,CTDOXY,CTDOXY_FLAG_W,OXYGEN,OXYGEN_FLAG_W,CTDXMISS,CTDXMISSCP,CTDXMISS_FLAG_W,CTDFLUOR,CTDFLUOR_FLAG_W,CHLORA,CHLORA_FLAG_W,PAR,PAR_FLAG_W,SILCAT,SILCAT_FLAG_W,SILUNC,NITRAT,NITRAT_FLAG_W,NRAUNC,NITRIT,NITRIT_FLAG_W,NRIUNC,PHSPHT,PHSPHT_FLAG_W,PHPUNC,CFC-11,CFC-11_FLAG_W,CFC-12,CFC-12_FLAG_W,CFC113,CFC113_FLAG_W,SF6,SF6_FLAG_W,TCARBN,TCARBN_FLAG_W,ALKALI,ALKALI_FLAG_W,PH_TOT,PH_TMP,PH_TOT_FLAG_W,DELC13,DELC13_FLAG_W,C13ERR,DELC14,DELC14_FLAG_W,C14ERR,CS-134,CS-134_FLAG_W,CS134ER,CS-137,CS-137_FLAG_W,CS137ER
,,,,,,,,UTC,DEG,DEG,METERS,DBAR,,ITS-90,,ITS-90,,PSS-78,,PSS-78,,G/KG,,UMOL/KG,,UMOL/KG,,%TRANS,/METER,,MG/M^3,,MG/CUM,,UE/SQM/S,,UMOL/KG,,UMOL/KG,UMOL/KG,,UMOL/KG,UMOL/KG,,UMOL/KG,UMOL/KG,,UMOL/KG,PMOL/KG,,PMOL/KG,,PMOL/KG,,FMOL/KG,,UMOL/KG,,UMOL/KG,,,DEG C,,/MILLE,,/MILLE,/MILLE,,/MILLE,MBQ/KG,,MBQ/KG,MBQ/KG,,MBQ/KG
  49NZ20121128,   S04,   408,  1,     36, X12J36,2,20121211,0949,-64.0453, 163.8175, 3053,      6.5,2,  -1.3809,2,  -1.38123,2,  33.7450,2,  33.7457,2,-999.0000,9,   335.29,2,   335.44,2,   95.369,   0.1897,2,    0.390,2,     0.45,2,    2.972,2,    71.30,2,     0.12,    28.41,2,     0.04,     0.16,2,     0.01,     1.94,2,     0.01,    5.270,2,    2.919,2,    0.531,2,    2.483,2,   2173.9,2,   2284.3,2,   7.6519,       25,6, -999.000,9, -999.000,   -999.0,9,   -999.0, -999.000,9, -999.000, -999.000,9, -999.000
  49NZ20121128,   S04,   408,  1,     35, X12J35,2,20121211,0949,-64.0453, 163.8175, 3053,     25.7,2,  -1.5386,2,  -1.53888,2,  33.8224,2,  33.8663,2,-999.0000,9,   326.80,2,   324.94,2,   95.798,   0.1717,2,    0.400,2,     0.41,2,    0.669,2,    71.60,2,     0.12,    28.48,2,     0.04,     0.13,2,     0.01,     1.95,2,     0.01,    4.867,2,    2.722,2,    0.488,2,    2.379,2,   2183.2,2,   2291.6,2,   7.6500,       25,2, -999.000,9, -999.000,   -999.0,9,   -999.0, -999.000,9, -999.000, -999.000,9, -999.000
  49NZ20121128,   S04,   408,  1,     34, X12J34,2,20121211,0949,-64.0453, 163.8175, 3053,     50.8,2,  -1.7398,2,  -1.74076,2,  34.1693,2,  34.1721,2,-999.0000,9,   298.49,2,   298.07,2,   97.181,   0.1144,2,    0.420,2,     0.48,2,    0.143,2,    73.37,2,     0.12,    29.54,2,     0.04,     0.10,2,     0.01,     2.03,2,     0.01,    4.182,6,    2.335,6,    0.426,6,    1.991,6,   2207.9,2,   2311.6,2,   7.6326,       25,2, -999.000,9, -999.000,   -999.0,9,   -999.0, -999.000,9, -999.000, -999.000,9, -999.000
  49NZ20121128,   S04,   408,  1,     33, X12J33,2,20121211,0949,-64.0453, 163.8175, 3053,     74.8,2,  -1.2497,2,  -1.25007,2,  34.3212,2,  34.3184,2,-999.0000,9,   269.90,2,   269.78,2,   98.896,   0.0444,2,    0.290,2,     0.38,2,    0.010,2,    77.36,2,     0.13,    30.83,2,     0.04,     0.07,2,     0.01,     2.12,2,     0.01,    3.544,2,    1.962,2,    0.364,2,    1.644,2,   2224.7,6,   2319.7,2,   7.6110,       25,2, -999.000,9, -999.000,   -999.0,9,   -999.0, -999.000,9, -999.000, -999.000,9, -999.000
  49NZ20121128,   S04,   408,  1,     32, X12J32,2,20121211,0949,-64.0453, 163.8175, 3053,    100.2,2,   0.8961,2,   0.89897,2,  34.6369,2,  34.6323,2,-999.0000,9,   199.15,2,   199.69,2,   99.741,   0.0104,2,    0.100,2,     0.09,2,    0.000,2,    89.23,2,     0.14,    32.62,2,     0.05,     0.02,2,     0.01,     2.24,2,     0.01,    1.036,2,    0.565,2,    0.097,2,    0.394,2,   2255.5,2,   2340.4,6,   7.5796,       25,2, -999.000,9, -999.000,   -999.0,9,   -999.0, -999.000,9, -999.000, -999.000,9, -999.000
  49NZ20121128,   S04,   408,  1,     31, X12J31,2,20121211,0949,-64.0453, 163.8175, 3053,    125.1,2,   1.2529,2,   1.25299,2,  34.6964,2,  34.6963,2,-999.0000,9,   190.36,2,   190.07,2,   99.905,   0.0038,2,    0.020,2,     0.02,2,    0.000,2,    91.76,2,     0.14,    32.60,2,     0.05,     0.01,2,     0.01,     2.24,2,     0.01,    0.621,2,    0.329,2,    0.052,2,    0.188,2,   2260.3,2,   2344.3,2,   7.5808,       25,2, -999.000,9, -999.000,   -999.0,9,   -999.0, -999.000,9, -999.000, -999.000,9, -999.000
  49NZ20121128,   S04,   408,  1,     30, X12J30,2,20121211,0949,-64.0453, 163.8175, 3053,    150.0,2,   1.2677,2,   1.26748,2,  34.7035,2,  34.7029,2,-999.0000,9,   190.12,2,   189.90,2,   99.913,   0.0035,2,    0.010,2,     0.01,2,    0.000,2,    92.85,2,     0.14,    32.47,2,     0.05,     0.01,2,     0.01,     2.24,2,     0.01,    0.568,2,    0.290,2,    0.047,2,    0.109,2,   2260.7,2,   2347.1,2,   7.5818,       25,6, -999.000,9, -999.000,   -999.0,9,   -999.0, -999.000,9, -999.000, -999.000,9, -999.000
  49NZ20121128,   S04,   408,  1,     29, X12J29,2,20121211,0949,-64.0453, 163.8175, 3053,    199.5,2,   1.2664,2,   1.26619,2,  34.7104,2,  34.7098,2,-999.0000,9,   190.50,2,   190.35,2,   99.955,   0.0018,2,    0.000,2,     0.00,2,    0.000,2,    94.61,2,     0.14,    32.42,2,     0.05,     0.01,2,     0.01,     2.23,2,     0.01,    0.491,2,    0.244,2,    0.038,2,    0.142,2,   2260.7,2,   2345.7,2,   7.5841,       25,2, -999.000,9, -999.000,   -999.0,9,   -999.0, -999.000,9, -999.000, -999.000,9, -999.000
  49NZ20121128,   S04,   408,  1,     28, X12J28,2,20121211,0949,-64.0453, 163.8175, 3053,    249.8,2,   1.2512,2,   1.25138,2,  34.7142,2,  34.7139,2,-999.0000,9,   191.36,2,   191.19,2,   99.980,   0.0008,2,    0.000,2,     0.00,2,    0.000,2,    95.77,2,     0.14,    32.30,2,     0.05,     0.01,2,     0.01,     2.23,2,     0.01,    0.443,2,    0.212,2,    0.033,2,    0.109,2,   2260.6,2,   2348.2,2,   7.5877,       25,2, -999.000,9, -999.000,   -999.0,9,   -999.0, -999.000,9, -999.000, -999.000,9, -999.000
  49NZ20121128,   S04,   408,  1,     27, X12J27,2,20121211,0949,-64.0453, 163.8175, 3053,    299.3,2,   1.2257,2,   1.22560,2,  34.7168,2,  34.7157,2,-999.0000,9,   191.89,2,   191.78,2,   99.990,   0.0004,2,    0.000,2,  -999.00,9,    0.000,2,    97.42,2,     0.15,    32.27,2,     0.05,     0.01,2,     0.01,     2.21,2,     0.01,    0.396,2,    0.189,2,    0.030,2,    0.124,2,   2260.7,2,   2347.0,2,   7.5895,       25,2, -999.000,9, -999.000,   -999.0,9,   -999.0, -999.000,9, -999.000, -999.000,9, -999.000
  49NZ20121128,   S04,   408,  1,     26, X12J26,2,20121211,0949,-64.0453, 163.8175, 3053,    400.9,2,   1.1756,2,   1.17546,2,  34.7193,2,  34.7192,2,-999.0000,9,   193.75,2,   193.60,2,   99.997,   0.0001,2,    0.000,2,  -999.00,9,    0.000,2,   100.30,2,     0.15,    32.15,2,     0.05,     0.01,2,     0.01,     2.21,2,     0.01, -999.000,5, -999.000,5, -999.000,5, -999.000,5,   2260.6,2,   2351.5,2,   7.5936,       25,2, -999.000,9, -999.000,   -999.0,9,   -999.0, -999.000,9, -999.000, -999.000,9, -999.000
  49NZ20121128,   S04,   408,  1,     25, X12J25,2,20121211,0949,-64.0453, 163.8175, 3053,    500.1,2,   1.1153,2,   1.11519,2,  34.7195,2,  34.7190,2,-999.0000,9,   195.11,2,   195.00,2,   99.997,   0.0001,2,    0.000,2,  -999.00,9,    0.000,2,   102.98,2,     0.15,    32.20,2,     0.05,     0.01,2,     0.01,     2.21,2,     0.01,    0.282,2,    0.134,2,    0.016,2,    0.055,2,   2261.9,2,   2351.8,2,   7.5949,       25,2, -999.000,9, -999.000,   -999.0,9,   -999.0, -999.000,9, -999.000, -999.000,9, -999.000
  49NZ20121128,   S04,   408,  1,     24, X12J24,2,20121211,0949,-64.0453, 163.8175, 3053,    600.7,2,   1.0523,2,   1.05208,2,  34.7184,2,  34.7179,2,-999.0000,9,   196.30,2,   196.26,2,  100.013,  -0.0005,2,    0.000,2,  -999.00,9,    0.000,2,   105.44,2,     0.15,    32.23,2,     0.05,     0.01,2,     0.01,     2.22,2,     0.01,    0.263,6,    0.122,6,    0.014,6,    0.040,6,   2262.4,2,   2354.3,2,   7.5969,       25,2, -999.000,9, -999.000,   -999.0,9,   -999.0, -999.000,9, -999.000, -999.000,9, -999.000
  49NZ20121128,   S04,   408,  1,     23, X12J23,2,20121211,0949,-64.0453, 163.8175, 3053,    701.6,2,   0.9759,2,   0.97563,2,  34.7165,2,  34.7161,2,-999.0000,9,   198.27,2,   198.28,2,  100.030,  -0.0012,2,    0.000,2,  -999.00,9,    0.000,2,   108.00,2,     0.16,    32.26,2,     0.05,     0.01,2,     0.01,     2.22,2,     0.01,    0.242,2,    0.108,2,    0.013,2,    0.124,2,   2262.4,6,   2355.2,2,   7.5988,       25,2, -999.000,9, -999.000,   -999.0,9,   -999.0, -999.000,9, -999.000, -999.000,9, -999.000
  49NZ20121128,   S04,   408,  1,     22, X12J22,2,20121211,0949,-64.0453, 163.8175, 3053,    800.2,2,   0.9081,2,   0.90794,2,  34.7143,2,  34.7137,2,-999.0000,9,   198.97,2,   198.83,2,  100.026,  -0.0010,2,   -0.000,2,  -999.00,9,    0.000,2,   110.78,2,     0.16,    32.39,2,     0.05,     0.01,2,     0.01,     2.23,2,     0.01,    0.201,2,    0.097,2,    0.011,2,    0.033,2,   2263.7,2,   2356.1,6,   7.5974,       25,2, -999.000,9, -999.000,   -999.0,9,   -999.0, -999.000,9, -999.000, -999.000,9, -999.000
  49NZ20121128,   S04,   408,  1,     21, X12J21,2,20121211,0949,-64.0453, 163.8175, 3053,    899.4,2,   0.8558,2,   0.85574,2,  34.7124,2,  34.7126,2,-999.0000,9,   201.18,2,   201.02,2,  100.020,  -0.0008,2,   -0.000,2,  -999.00,9,    0.000,2,   111.77,2,     0.16,    32.31,2,     0.05,     0.01,2,     0.01,     2.23,2,     0.01,    0.217,2,    0.101,2,    0.013,2,    0.000,2,   2263.1,2,   2356.7,2,   7.6012,       25,2, -999.000,9, -999.000,   -999.0,9,   -999.0, -999.000,9, -999.000, -999.000,9, -999.000
  49NZ20121128,   S04,   408,  1,     20, X12J20,2,20121211,0949,-64.0453, 163.8175, 3053,    999.6,2,   0.7998,2,   0.79993,2,  34.7102,2,  34.7105,2,-999.0000,9,   202.41,2,   202.48,2,  100.015,  -0.0006,2,   -0.000,2,  -999.00,9,    0.000,2,   113.64,2,     0.16,    32.40,2,     0.05,     0.01,2,     0.01,     2.22,2,     0.01,    0.225,2,    0.102,2,    0.012,2,    0.000,2,   2263.2,2,   2357.0,2,   7.6004,       25,2, -999.000,9, -999.000,   -999.0,9,   -999.0, -999.000,9, -999.000, -999.000,9, -999.000
  49NZ20121128,   S04,   408,  1,     19, X12J19,2,20121211,0949,-64.0453, 163.8175, 3053,   1252.4,2,   0.6749,2,   0.67487,2,  34.7057,2,  34.7046,2,-999.0000,9,   204.48,2,   204.52,2,  100.028,  -0.0011,2,   -0.000,2,  -999.00,9,    0.000,2,   117.64,2,     0.16,    32.53,2,     0.05,     0.01,2,     0.01,     2.24,2,     0.01,    0.219,6,    0.101,6,    0.010,6,    0.035,6,   2264.3,2,   2358.5,2,   7.6008,       25,2, -999.000,9, -999.000,   -999.0,9,   -999.0, -999.000,9, -999.000, -999.000,9, -999.000
  49NZ20121128,   S04,   408,  1,     18, X12J18,2,20121211,0949,-64.0453, 163.8175, 3053,   1499.5,2,   0.5644,2,   0.56429,2,  34.7021,2,  34.7020,2,-999.0000,9,   206.71,2,   206.80,2,  100.024,  -0.0010,2,   -0.000,2,  -999.00,9,    0.000,2,   120.11,2,     0.17,    32.63,2,     0.05,     0.01,2,     0.01,     2.24,2,     0.01,    0.250,2,    0.117,2,    0.011,2,    0.048,2,   2264.2,2,   2359.0,2,   7.6009,       25,2, -999.000,9, -999.000,   -999.0,9,   -999.0, -999.000,9, -999.000, -999.000,9, -999.000
  49NZ20121128,   S04,   408,  1,     17, X12J17,2,20121211,0949,-64.0453, 163.8175, 3053,   1751.2,2,   0.4685,2,   0.46835,2,  34.6996,2,  34.6998,2,-999.0000,9,   208.88,2,   208.96,2,  100.001,  -0.0000,2,   -0.000,2,  -999.00,9,    0.000,2,   121.82,2,     0.17,    32.64,2,     0.05,     0.01,2,     0.01,     2.25,2,     0.01,    0.306,2,    0.146,2,    0.015,2,    0.109,2,   2264.8,2,   2358.7,2,   7.5998,       25,6, -999.000,9, -999.000,   -999.0,9,   -999.0, -999.000,9, -999.000, -999.000,9, -999.000
  49NZ20121128,   S04,   408,  1,     16, X12J16,2,20121211,0949,-64.0453, 163.8175, 3053,   2000.9,2,   0.3751,2,   0.37502,2,  34.6967,2,  34.6971,2,-999.0000,9,   211.54,2,   211.64,2,  100.005,  -0.0002,2,   -0.000,2,  -999.00,9,    0.000,2,   122.12,2,     0.17,    32.66,2,     0.05,     0.01,2,     0.01,     2.25,2,     0.01,    0.421,2,    0.208,2,    0.025,2,    0.169,2,   2265.6,2,   2358.3,2,   7.5988,       25,2, -999.000,9, -999.000,   -999.0,9,   -999.0, -999.000,9, -999.000, -999.000,9, -999.000
  49NZ20121128,   S04,   408,  1,     15, X12J15,2,20121211,0949,-64.0453, 163.8175, 3053,   2251.1,2,   0.3001,2,   0.30018,2,  34.6927,2,  34.6930,2,-999.0000,9,   214.22,2,   214.41,2,   99.997,   0.0001,2,   -0.000,2,  -999.00,9,    0.000,2,   120.45,2,     0.17,    32.65,2,     0.05,     0.01,2,     0.01,     2.25,2,     0.01,    0.586,2,    0.302,2,    0.038,2,    0.201,2,   2264.5,2,   2358.2,2,   7.5989,       25,2, -999.000,9, -999.000,   -999.0,9,   -999.0, -999.000,9, -999.000, -999.000,9, -999.000
  49NZ20121128,   S04,   408,  1,     14, X12J14,2,20121211,0949,-64.0453, 163.8175, 3053,   2501.2,2,   0.1624,2,   0.16248,2,  34.6842,2,  34.6843,2,-999.0000,9,   219.88,2,   220.15,2,   99.951,   0.0020,2,   -0.000,2,  -999.00,9,    0.000,2,   115.69,2,     0.16,    32.53,2,     0.05,     0.01,2,     0.01,     2.25,2,     0.01,    0.986,2,    0.524,2,    0.078,2,    0.387,2,   2262.4,6,   2355.7,2,   7.5978,       25,2, -999.000,9, -999.000,   -999.0,9,   -999.0, -999.000,9, -999.000, -999.000,9, -999.000
  49NZ20121128,   S04,   408,  1,     13, X12J13,2,20121211,0949,-64.0453, 163.8175, 3053,   2750.6,2,  -0.0167,2,  -0.01655,2,  34.6727,2,  34.6729,2,-999.0000,9,   227.66,2,   227.96,2,   99.890,   0.0044,2,   -0.000,2,  -999.00,9,    0.000,2,   110.06,2,     0.16,    32.36,2,     0.05,     0.01,2,     0.01,     2.24,2,     0.01,    1.530,2,    0.819,2,    0.129,2,    0.558,2,   2260.6,2,   2352.8,6,   7.5956,       25,2, -999.000,9, -999.000,   -999.0,9,   -999.0, -999.000,9, -999.000, -999.000,9, -999.000
  49NZ20121128,   S04,   408,  1,     12, X12J12,2,20121211,0949,-64.0453, 163.8175, 3053,   2998.8,2,  -0.0302,2,  -0.03037,2,  34.6707,2,  34.6713,2,-999.0000,9,   229.12,2,   229.33,2,   99.821,   0.0072,2,   -0.000,2,  -999.00,9,    0.000,2,   107.72,2,     0.16,    32.25,2,     0.05,     0.01,2,     0.01,     2.23,2,     0.01,    1.607,2,    0.896,2,    0.138,2,    0.599,2,   2260.6,2,   2353.2,2,   7.5956,       25,6, -999.000,9, -999.000,   -999.0,9,   -999.0, -999.000,9, -999.000, -999.000,9, -999.000
  49NZ20121128,   S04,   408,  1,      1, X12J01,2,20121211,0949,-64.0453, 163.8175, 3053,   3063.4,2,  -0.0251,2,  -0.02495,2,  34.6711,2,  34.6710,2,-999.0000,9,   229.23,2,   229.39,2,   99.815,   0.0074,2,   -0.000,2,  -999.00,9,    0.000,2,   107.73,2,     0.16,    32.26,2,     0.05,     0.01,2,     0.01,     2.24,2,     0.01,    1.624,2,    0.906,2,    0.133,2,    0.584,2,   2260.5,2,   2352.9,2,   7.5952,       25,2, -999.000,9, -999.000,   -999.0,9,   -999.0, -999.000,9, -999.000, -999.000,9, -999.000