BOTTLE,20220819CCHSIOAMB
EXPOCODE,SECT_ID,STNNBR,CASTNO,SAMPNO,BTLNBR,BTLNBR_FLAG_W,DATE,TIME,LATITUDE,LONGITUDE,DEPTH,CTDPRS,CTDPRS_FLAG_W,CTDTMP,CTDTMP_FLAG_W,SBE35,SBE35_FLAG_W,CTDSAL,CTDSAL_FLAG_W,SALNTY,SALNTY_FLAG_W,DNSSAL,DNSSAL_FLAG_W,CTDOXY,CTDOXY_FLAG_W,OXYGEN,OXYGEN_FLAG_W,CTDXMISS,CTDXMISSCP,CTDXMISS_FLAG_W,CTDFLUOR,CTDFLUOR_FLAG_W,CHLORA,CHLORA_FLAG_W,PAR,PAR_FLAG_W,SILCAT,SILCAT_FLAG_W,SILUNC,NITRAT,NITRAT_FLAG_W,NRAUNC,NITRIT,NITRIT_FLAG_W,NRIUNC,PHSPHT,PHSPHT_FLAG_W,PHPUNC,CFC-11,CFC-11_FLAG_W,CFC-12,CFC-12_FLAG_W,CFC113,CFC113_FLAG_W,SF6,SF6_FLAG_W,TCARBN,TCARBN_FLAG_W,ALKALI,ALKALI_FLAG_W,PH_TOT,PH_TMP,PH_TOT_FLAG_W,DELC13,DELC13_FLAG_W,C13ERR,DELC14,DELC14_FLAG_W,C14ERR,CS-134,CS-134_FLAG_W,CS134ER,CS-137,CS-137_FLAG_W,CS137ER
,,,,,,,,UTC,DEG,DEG,METERS,DBAR,,ITS-90,,ITS-90,,PSS-78,,PSS-78,,G/KG,,UMOL/KG,,UMOL/KG,,%TRANS,/METER,,MG/M^3,,MG/CUM,,UE/SQM/S,,UMOL/KG,,UMOL/KG,UMOL/KG,,UMOL/KG,UMOL/KG,,UMOL/KG,UMOL/KG,,UMOL/KG,PMOL/KG,,PMOL/KG,,PMOL/KG,,FMOL/KG,,UMOL/KG,,UMOL/KG,,,DEG C,,/MILLE,,/MILLE,/MILLE,,/MILLE,MBQ/KG,,MBQ/KG,MBQ/KG,,MBQ/KG
  49NZ20121128,  P14S,    15,  1,     36, X12J36,2,20121207,0343,-58.9872, 174.0038, 5116,      5.2,2,   6.7024,2,   6.70015,2,  34.1894,2,  34.1912,2,-999.0000,9,   302.18,2,   302.54,2,   95.194,   0.1970,2,    0.420,2,  -999.00,9,   71.609,2,     3.75,2,     0.06,    18.44,2,     0.03,     0.21,2,     0.01,     1.30,2,     0.01,    4.019,4,    2.824,4,    0.320,4,    3.649,4,   2115.6,2,   2279.3,2,   7.7896,       25,6, -999.000,1, -999.000,   -999.0,1,   -999.0, -999.000,9, -999.000, -999.000,9, -999.000
  49NZ20121128,  P14S,    15,  1,     35, X12J35,2,20121207,0343,-58.9872, 174.0038, 5116,     25.5,2,   6.3467,2,   6.34666,2,  34.1866,2,  34.1881,2,-999.0000,9,   302.93,2,   303.14,2,   95.015,   0.2045,2,    0.810,2,  -999.00,9,   12.543,2,     3.78,2,     0.06,    18.46,2,     0.03,     0.20,2,     0.01,     1.30,2,     0.01,    4.146,4,    2.793,4,    0.334,4,    3.560,4,   2115.1,2,   2279.3,2,   7.7893,       25,2, -999.000,1, -999.000,   -999.0,1,   -999.0, -999.000,9, -999.000, -999.000,9, -999.000
  49NZ20121128,  P14S,    15,  1,     34, X12J34,2,20121207,0343,-58.9872, 174.0038, 5116,     49.7,2,   6.1976,2,   6.19928,2,  34.1993,2,  34.1991,2,-999.0000,9,   299.84,2,   300.41,2,   95.671,   0.1770,2,    0.790,2,  -999.00,9,    2.647,2,     4.36,2,     0.06,    18.84,2,     0.03,     0.19,2,     0.01,     1.34,2,     0.01,    4.048,4,    2.835,4,    0.321,4,    3.508,4,   2120.4,2,   2280.3,2,   7.7812,       25,2, -999.000,1, -999.000,   -999.0,1,   -999.0, -999.000,9, -999.000, -999.000,9, -999.000
  49NZ20121128,  P14S,    15,  1,     33, X12J33,2,20121207,0343,-58.9872, 174.0038, 5116,     75.0,2,   5.9643,2,   5.96612,2,  34.1909,2,  34.1911,2,-999.0000,9,   297.33,2,   297.97,2,   96.902,   0.1259,2,    0.630,2,  -999.00,9,    0.499,2,     5.33,2,     0.06,    19.63,2,     0.03,     0.20,2,     0.01,     1.40,2,     0.01,    4.168,4,    2.818,4,    0.337,4,    3.636,4,   2125.2,6,   2279.9,2,   7.7690,       25,2, -999.000,1, -999.000,   -999.0,1,   -999.0, -999.000,9, -999.000, -999.000,9, -999.000
  49NZ20121128,  P14S,    15,  1,     32, X12J32,2,20121207,0343,-58.9872, 174.0038, 5116,    100.1,2,   5.6287,2,   5.62826,2,  34.1761,2,  34.1767,2,-999.0000,9,   292.03,2,   292.21,2,   99.029,   0.0390,2,    0.240,2,  -999.00,9,    0.202,2,     6.94,2,     0.06,    21.13,2,     0.03,     0.23,2,     0.01,     1.50,2,     0.01,    4.189,4,    2.831,4,    0.330,4,    3.577,4,   2133.5,2,   2280.3,6,   7.7475,       25,2, -999.000,1, -999.000,   -999.0,1,   -999.0, -999.000,9, -999.000, -999.000,9, -999.000
  49NZ20121128,  P14S,    15,  1,     31, X12J31,2,20121207,0343,-58.9872, 174.0038, 5116,    125.2,2,   5.7011,2,   5.69477,2,  34.2024,2,  34.1962,2,-999.0000,9,   291.55,2,   292.04,2,   99.585,   0.0166,2,    0.110,2,  -999.00,9,    0.047,2,     6.82,2,     0.06,    21.08,2,     0.03,     0.19,2,     0.01,     1.48,2,     0.01,    4.192,4,    2.834,4,    0.338,4,    3.722,4,   2133.3,2,   2277.7,2,   7.7492,       25,2, -999.000,1, -999.000,   -999.0,1,   -999.0, -999.000,9, -999.000, -999.000,9, -999.000
  49NZ20121128,  P14S,    15,  1,     30, X12J30,2,20121207,0343,-58.9872, 174.0038, 5116,    150.7,2,   5.6485,2,   5.64786,2,  34.1993,2,  34.1984,2,-999.0000,9,   291.01,2,   291.16,2,   99.713,   0.0115,2,    0.080,2,  -999.00,9,    0.003,2,     6.92,2,     0.06,    21.21,2,     0.03,     0.12,2,     0.01,     1.49,2,     0.01,    4.225,4,    2.822,4,    0.343,4,    3.632,4,   2133.3,2,   2277.9,2,   7.7485,       25,6, -999.000,1, -999.000,   -999.0,1,   -999.0, -999.000,9, -999.000, -999.000,9, -999.000
  49NZ20121128,  P14S,    15,  1,     29, X12J29,2,20121207,0343,-58.9872, 174.0038, 5116,    200.1,2,   5.5276,2,   5.52751,2,  34.1872,2,  34.1864,2,-999.0000,9,   293.13,2,   293.52,2,   99.713,   0.0115,2,    0.070,2,  -999.00,9,    0.000,2,     7.01,2,     0.06,    21.32,2,     0.03,     0.18,2,     0.01,     1.50,2,     0.01,    4.270,4,    2.850,4,    0.346,4,    4.149,4,   2133.1,2,   2278.4,2,   7.7469,       25,2, -999.000,1, -999.000,   -999.0,1,   -999.0, -999.000,9, -999.000, -999.000,9, -999.000
  49NZ20121128,  P14S,    15,  1,     28, X12J28,2,20121207,0343,-58.9872, 174.0038, 5116,    249.0,2,   5.5863,2,   5.58640,2,  34.2004,2,  34.1991,2,-999.0000,9,   293.46,2,   293.61,2,   99.771,   0.0092,2,    0.060,2,  -999.00,9,    0.000,2,     6.93,2,     0.06,    21.27,2,     0.03,     0.09,2,     0.01,     1.49,2,     0.01,    4.306,4,    2.817,4,    0.360,4,    4.349,4,   2133.8,2,   2278.3,2,   7.7488,       25,2, -999.000,1, -999.000,   -999.0,1,   -999.0, -999.000,9, -999.000, -999.000,9, -999.000
  49NZ20121128,  P14S,    15,  1,     27, X12J27,2,20121207,0343,-58.9872, 174.0038, 5116,    280.9,2,   5.6966,2,   5.69651,2,  34.2206,2,  34.2205,2,-999.0000,9,   292.29,2,   292.83,2,   99.826,   0.0070,2,    0.040,2,  -999.00,9,    0.000,2,     6.85,2,     0.06,    21.08,2,     0.03,     0.06,2,     0.01,     1.48,2,     0.01,    4.292,4,    2.786,4,    0.355,4,    4.029,4,   2137.9,2,   2277.7,2,   7.7503,       25,2, -999.000,1, -999.000,   -999.0,1,   -999.0, -999.000,9, -999.000, -999.000,9, -999.000
  49NZ20121128,  P14S,    15,  1,     26, X12J26,2,20121207,0343,-58.9872, 174.0038, 5116,    369.8,2,   5.1357,2,   5.14104,2,  34.1758,2,  34.1755,2,-999.0000,9,   264.61,2,   264.62,2,   99.891,   0.0044,2,    0.000,2,  -999.00,9,    0.000,2,    12.27,2,     0.07,    25.00,2,     0.04,     0.03,2,     0.01,     1.72,2,     0.01,    4.026,4,    2.639,4,    0.302,4,    2.966,4,   2154.5,2,   2276.9,2,   7.7004,       25,2, -999.000,1, -999.000,   -999.0,1,   -999.0, -999.000,9, -999.000, -999.000,9, -999.000
  49NZ20121128,  P14S,    15,  1,     25, X12J25,2,20121207,0343,-58.9872, 174.0038, 5116,    472.0,2,   4.7724,2,   4.77270,2,  34.2508,2,  34.2499,2,-999.0000,9,   231.77,2,   232.75,2,   99.928,   0.0029,2,   -0.010,2,  -999.00,9,    0.000,2,    20.74,2,     0.08,    28.22,2,     0.04,     0.01,2,     0.01,     1.93,2,     0.01,    3.372,4,    2.150,4,    0.223,4,    1.744,4,   2178.1,2,   2285.4,2,   7.6533,       25,2, -999.000,1, -999.000,   -999.0,1,   -999.0, -999.000,9, -999.000, -999.000,9, -999.000
  49NZ20121128,  P14S,    15,  1,     24, X12J24,2,20121207,0343,-58.9872, 174.0038, 5116,    569.9,2,   4.0788,2,   4.07965,2,  34.2533,2,  34.2528,2,-999.0000,9,   225.25,2,   226.35,2,   99.947,   0.0021,2,   -0.010,2,  -999.00,9,    0.000,2,    27.37,2,     0.08,    30.07,2,     0.04,     0.01,2,     0.01,     2.05,2,     0.01,    3.145,4,    1.967,4,    0.219,4,    1.435,4,   2191.2,2,   2289.3,2,   7.6301,       25,2, -999.000,1, -999.000,   -999.0,1,   -999.0, -999.000,9, -999.000, -999.000,9, -999.000
  49NZ20121128,  P14S,    15,  1,     23, X12J23,2,20121207,0343,-58.9872, 174.0038, 5116,    670.2,2,   3.4474,2,   3.44756,2,  34.2828,2,  34.2821,2,-999.0000,9,   216.03,2,   216.83,2,   99.930,   0.0028,2,   -0.000,2,  -999.00,9,    0.000,2,    36.41,2,     0.09,    31.78,2,     0.04,     0.01,2,     0.01,     2.17,2,     0.01,    2.702,4,    1.689,4,    0.190,4,    1.196,4,   2206.4,6,   2298.3,2,   7.6081,       25,2, -999.000,1, -999.000,   -999.0,1,   -999.0, -999.000,9, -999.000, -999.000,9, -999.000
  49NZ20121128,  P14S,    15,  1,     22, X12J22,2,20121207,0343,-58.9872, 174.0038, 5116,    770.3,2,   3.1173,2,   3.11724,2,  34.3338,2,  34.3330,2,-999.0000,9,   203.51,2,   204.07,2,   99.930,   0.0028,2,   -0.000,2,  -999.00,9,    0.000,2,    44.91,2,     0.10,    32.96,2,     0.05,     0.01,2,     0.01,     2.26,2,     0.01,    2.196,4,    1.365,4,    0.148,4,    0.826,4,   2220.1,2,   2305.2,6,   7.5898,       25,2, -999.000,1, -999.000,   -999.0,1,   -999.0, -999.000,9, -999.000, -999.000,9, -999.000
  49NZ20121128,  P14S,    15,  1,     21, X12J21,2,20121207,0343,-58.9872, 174.0038, 5116,    869.2,2,   2.8728,2,   2.87273,2,  34.3849,2,  34.3851,2,-999.0000,9,   193.32,2,   193.67,2,   99.916,   0.0034,2,   -0.000,2,  -999.00,9,    0.000,2,    52.51,2,     0.11,    33.81,2,     0.05,     0.01,2,     0.01,     2.32,2,     0.01,    1.790,4,    1.107,4,    0.122,4,    0.829,4,   2231.6,2,   2312.7,2,   7.5761,       25,6, -999.000,1, -999.000,   -999.0,1,   -999.0, -999.000,9, -999.000, -999.000,9, -999.000
  49NZ20121128,  P14S,    15,  1,     20, X12J20,2,20121207,0343,-58.9872, 174.0038, 5116,    960.2,2,   2.7674,2,   2.76698,2,  34.4425,2,  34.4428,2,-999.0000,9,   183.94,2,   184.25,2,   99.926,   0.0030,2,   -0.000,2,  -999.00,9,    0.000,2,    58.73,2,     0.11,    34.21,2,     0.05,     0.01,2,     0.01,     2.34,2,     0.01,    1.363,4,    0.839,4,    0.088,4,    0.431,4,   2241.1,2,   2318.8,2,   7.5679,       25,2, -999.000,1, -999.000,   -999.0,1,   -999.0, -999.000,9, -999.000, -999.000,9, -999.000
  49NZ20121128,  P14S,    15,  1,     19, X12J19,2,20121207,0343,-58.9872, 174.0038, 5116,   1170.2,2,   2.5475,2,   2.54755,2,  34.5506,2,  34.5498,2,-999.0000,9,   174.37,2,   174.63,2,   99.916,   0.0034,2,    0.000,2,  -999.00,9,    0.000,2,    68.41,2,     0.12,    34.11,2,     0.05,     0.01,2,     0.01,     2.34,2,     0.01,    0.710,4,    0.470,4,    0.047,4,    0.262,4,   2252.7,2,   2328.9,2,   7.5636,       25,2, -999.000,1, -999.000,   -999.0,1,   -999.0, -999.000,9, -999.000, -999.000,9, -999.000
  49NZ20121128,  P14S,    15,  1,     18, X12J18,2,20121207,0343,-58.9872, 174.0038, 5116,   1419.6,2,   2.3874,2,   2.38739,2,  34.6406,2,  34.6407,2,-999.0000,9,   175.02,2,   175.07,2,   99.951,   0.0020,2,    0.000,2,  -999.00,9,    0.000,2,    74.27,2,     0.13,    33.16,2,     0.05,     0.01,2,     0.01,     2.27,2,     0.01,    0.384,4,    0.265,4,    0.028,4,    0.111,4,   2255.1,2,   2336.4,2,   7.5751,       25,2, -999.000,1, -999.000,   -999.0,1,   -999.0, -999.000,9, -999.000, -999.000,9, -999.000
  49NZ20121128,  P14S,    15,  1,     17, X12J17,2,20121207,0343,-58.9872, 174.0038, 5116,   1672.9,2,   2.2299,2,   2.22992,2,  34.6995,2,  34.6993,2,-999.0000,9,   181.30,2,   181.38,2,   99.955,   0.0018,2,    0.000,2,  -999.00,9,    0.000,2,    78.83,2,     0.13,    31.98,2,     0.04,     0.01,2,     0.01,     2.20,2,     0.01,    0.224,4,    0.147,4,    0.019,4,    0.000,4,   2253.5,2,   2341.5,2,   7.5925,       25,6, -999.000,1, -999.000,   -999.0,1,   -999.0, -999.000,9, -999.000, -999.000,9, -999.000
  49NZ20121128,  P14S,    15,  1,     16, X12J16,2,20121207,0343,-58.9872, 174.0038, 5116,   1920.4,2,   2.0695,2,   2.06945,2,  34.7264,2,  34.7256,2,-999.0000,9,   186.67,2,   186.94,2,   99.966,   0.0014,2,    0.000,2,  -999.00,9,    0.000,2,    82.97,2,     0.13,    31.37,2,     0.04,     0.01,2,     0.01,     2.15,2,     0.01,    0.173,4,    0.115,4,    0.013,4,    0.000,4,   2253.5,2,   2346.3,2,   7.6029,       25,2, -999.000,1, -999.000,   -999.0,1,   -999.0, -999.000,9, -999.000, -999.000,9, -999.000
  49NZ20121128,  P14S,    15,  1,     15, X12J15,2,20121207,0343,-58.9872, 174.0038, 5116,   2173.6,2,   1.8812,2,   1.88127,2,  34.7375,2,  34.7371,2,-999.0000,9,   191.66,2,   191.87,2,   99.968,   0.0013,2,    0.000,2,  -999.00,9,    0.000,2,    88.03,2,     0.14,    31.07,2,     0.04,     0.01,2,     0.01,     2.13,2,     0.01,    0.141,4,    0.090,4,    0.010,4,    0.000,4,   2256.7,2,   2350.2,2,   7.6113,       25,2, -999.000,1, -999.000,   -999.0,1,   -999.0, -999.000,9, -999.000, -999.000,9, -999.000
  49NZ20121128,  P14S,    15,  1,     14, X12J14,2,20121207,0343,-58.9872, 174.0038, 5116,   2419.7,2,   1.6771,2,   1.67713,2,  34.7375,2,  34.7366,2,-999.0000,9,   195.32,2,   195.58,2,   99.980,   0.0008,2,    0.000,2,  -999.00,9,    0.000,2,    94.07,2,     0.14,    31.17,2,     0.04,     0.01,2,     0.01,     2.14,2,     0.01,    0.126,4,    0.081,4,    0.009,4,    0.000,4,   2256.5,6,   2353.6,2,   7.6138,       25,2, -999.000,1, -999.000,   -999.0,1,   -999.0, -999.000,9, -999.000, -999.000,9, -999.000
  49NZ20121128,  P14S,    15,  1,     13, X12J13,2,20121207,0343,-58.9872, 174.0038, 5116,   2671.1,2,   1.4862,2,   1.48544,2,  34.7328,2,  34.7320,2,-999.0000,9,   198.24,2,   198.42,2,   99.962,   0.0015,2,    0.000,2,  -999.00,9,    0.000,2,    99.66,2,     0.15,    31.36,2,     0.04,     0.01,2,     0.01,     2.16,2,     0.01,    0.126,4,    0.079,4,    0.010,4,    0.000,4,   2259.1,2,   2357.3,6,   7.6153,       25,2, -999.000,1, -999.000,   -999.0,1,   -999.0, -999.000,9, -999.000, -999.000,9, -999.000
  49NZ20121128,  P14S,    15,  1,     12, X12J12,2,20121207,0343,-58.9872, 174.0038, 5116,   2921.1,2,   1.3263,2,   1.32632,2,  34.7271,2,  34.7262,2,-999.0000,9,   200.66,2,   200.75,2,   99.978,   0.0009,2,    0.000,2,  -999.00,9,    0.000,2,   104.32,2,     0.15,    31.51,2,     0.04,     0.01,2,     0.01,     2.17,2,     0.01,    0.142,4,    0.086,4,    0.009,4,    0.000,4,   2261.6,2,   2358.6,2,   7.6144,       25,6, -999.000,1, -999.000,   -999.0,1,   -999.0, -999.000,9, -999.000, -999.000,9, -999.000
  49NZ20121128,  P14S,    15,  1,     11, X12J11,2,20121207,0343,-58.9872, 174.0038, 5116,   3171.0,2,   1.2004,2,   1.20029,2,  34.7217,2,  34.7210,2,-999.0000,9,   202.71,2,   202.72,2,   99.966,   0.0014,2,   -0.000,2,  -999.00,9,    0.000,2,   108.07,2,     0.16,    31.69,2,     0.04,     0.01,2,     0.01,     2.18,2,     0.01,    0.160,4,    0.099,4,    0.009,4,    0.000,4,   2261.8,2,   2357.9,2,   7.6133,       25,2, -999.000,1, -999.000,   -999.0,1,   -999.0, -999.000,9, -999.000, -999.000,9, -999.000
  49NZ20121128,  P14S,    15,  1,     10, X12J10,2,20121207,0343,-58.9872, 174.0038, 5116,   3420.9,2,   1.0932,2,   1.09322,2,  34.7165,2,  34.7157,2,-999.0000,9,   204.72,2,   204.61,2,   99.941,   0.0024,2,   -0.000,2,  -999.00,9,    0.000,2,   111.38,2,     0.16,    31.84,2,     0.04,     0.01,2,     0.01,     2.19,2,     0.01,    0.191,4,    0.124,4,    0.010,4,    0.000,4,   2262.1,2,   2359.7,2,   7.6121,       25,2, -999.000,1, -999.000,   -999.0,1,   -999.0, -999.000,9, -999.000, -999.000,9, -999.000
  49NZ20121128,  P14S,    15,  1,      9, X12J09,2,20121207,0343,-58.9872, 174.0038, 5116,   3670.7,2,   1.0077,2,   1.00769,2,  34.7119,2,  34.7113,2,-999.0000,9,   206.57,2,   206.51,2,   99.937,   0.0025,2,   -0.000,2,  -999.00,9,    0.000,2,   114.28,2,     0.16,    31.98,2,     0.04,     0.01,2,     0.01,     2.20,2,     0.01,    0.235,4,    0.140,4,    0.016,4,    0.000,4,   2264.2,2,   2359.0,2,   7.6111,       25,2, -999.000,1, -999.000,   -999.0,1,   -999.0, -999.000,9, -999.000, -999.000,9, -999.000
  49NZ20121128,  P14S,    15,  1,      8, X12J08,2,20121207,0343,-58.9872, 174.0038, 5116,   3920.0,2,   0.9499,2,   0.95010,2,  34.7085,2,  34.7077,2,-999.0000,9,   207.80,2,   207.74,2,   99.932,   0.0027,2,   -0.000,2,  -999.00,9,    0.000,2,   116.43,2,     0.16,    32.08,2,     0.04,     0.01,2,     0.01,     2.21,2,     0.01,    0.262,4,    0.157,4,    0.014,4,    0.000,4,   2263.2,2,   2359.3,2,   7.6096,       25,2, -999.000,1, -999.000,   -999.0,1,   -999.0, -999.000,9, -999.000, -999.000,9, -999.000
  49NZ20121128,  P14S,    15,  1,      7, X12J07,2,20121207,0343,-58.9872, 174.0038, 5116,   4170.8,2,   0.9054,2,   0.90534,2,  34.7052,2,  34.7047,2,-999.0000,9,   208.90,2,   208.81,2,   99.928,   0.0029,2,   -0.000,2,  -999.00,9,    0.000,2,   118.19,2,     0.16,    32.17,2,     0.05,     0.01,2,     0.01,     2.21,2,     0.01,    0.289,4,    0.178,4,    0.018,4,    0.000,4,   2262.2,6,   2359.9,2,   7.6097,       25,2, -999.000,1, -999.000,   -999.0,1,   -999.0, -999.000,9, -999.000, -999.000,9, -999.000
  49NZ20121128,  P14S,    15,  1,      6, X12J06,2,20121207,0343,-58.9872, 174.0038, 5116,   4420.6,2,   0.8901,2,   0.89010,2,  34.7034,2,  34.7031,2,-999.0000,9,   209.48,2,   209.33,2,   99.903,   0.0039,2,   -0.000,2,  -999.00,9,    0.000,2,   119.43,2,     0.17,    32.21,2,     0.05,     0.01,2,     0.01,     2.21,2,     0.01,    0.314,4,    0.188,4,    0.017,4,    0.000,4,   2263.7,2,   2358.4,6,   7.6088,       25,2, -999.000,1, -999.000,   -999.0,1,   -999.0, -999.000,9, -999.000, -999.000,9, -999.000
  49NZ20121128,  P14S,    15,  1,      5, X12J05,2,20121207,0343,-58.9872, 174.0038, 5116,   4670.0,2,   0.8842,2,   0.88428,2,  34.7021,2,  34.7014,2,-999.0000,9,   209.86,2,   210.04,2,   99.880,   0.0048,2,   -0.000,2,  -999.00,9,    0.000,2,   120.32,2,     0.17,    32.26,2,     0.05,     0.01,2,     0.01,     2.22,2,     0.01,    0.341,4,    0.207,4,    0.026,4,    0.000,4,   2264.6,2,   2358.5,2,   7.6072,       25,2, -999.000,1, -999.000,   -999.0,1,   -999.0, -999.000,9, -999.000, -999.000,9, -999.000
  49NZ20121128,  P14S,    15,  1,      4, X12J04,2,20121207,0343,-58.9872, 174.0038, 5116,   4921.1,2,   0.8913,2,   0.89131,2,  34.7009,2,  34.7003,2,-999.0000,9,   209.96,2,   210.53,2,   99.797,   0.0081,2,   -0.000,2,  -999.00,9,    0.000,2,   121.06,2,     0.17,    32.30,2,     0.05,     0.01,2,     0.01,     2.22,2,     0.01,    0.367,4,    0.220,4,    0.020,4,    0.000,4,   2263.1,2,   2358.7,2,   7.6070,       25,2, -999.000,1, -999.000,   -999.0,1,   -999.0, -999.000,9, -999.000, -999.000,9, -999.000
  49NZ20121128,  P14S,    15,  1,      3, X12J03,2,20121207,0343,-58.9872, 174.0038, 5116,   5169.3,2,   0.9067,2,   0.90662,2,  34.7002,2,  34.6996,2,-999.0000,9,   209.95,2,   210.39,2,   99.742,   0.0103,2,   -0.000,2,  -999.00,9,    0.000,2,   121.46,2,     0.17,    32.34,2,     0.05,     0.01,2,     0.01,     2.22,2,     0.01,    0.380,4,    0.241,4,    0.021,4,    0.000,4,   2263.8,2,   2358.8,2,   7.6072,       25,2, -999.000,1, -999.000,   -999.0,1,   -999.0, -999.000,9, -999.000, -999.000,9, -999.000
  49NZ20121128,  P14S,    15,  1,      1, X12J01,2,20121207,0343,-58.9872, 174.0038, 5116,   5224.1,2,   0.9130,2,   0.91303,2,  34.7002,2,  34.7001,2,-999.0000,9,   209.89,2,   210.44,2,   99.751,   0.0100,2,   -0.000,2,  -999.00,9,    0.000,2,   121.51,2,     0.17,    32.31,2,     0.05,     0.01,2,     0.01,     2.22,2,     0.01,    0.369,4,    0.249,4,    0.022,4,    0.030,4,   2264.5,2,   2359.5,2,   7.6061,       25,2, -999.000,1, -999.000,   -999.0,1,   -999.0, -999.000,9, -999.000, -999.000,9, -999.000