BOTTLE,20220819CCHSIOAMB
EXPOCODE,SECT_ID,STNNBR,CASTNO,SAMPNO,BTLNBR,BTLNBR_FLAG_W,DATE,TIME,LATITUDE,LONGITUDE,DEPTH,CTDPRS,CTDPRS_FLAG_W,CTDTMP,CTDTMP_FLAG_W,SBE35,SBE35_FLAG_W,CTDSAL,CTDSAL_FLAG_W,SALNTY,SALNTY_FLAG_W,DNSSAL,DNSSAL_FLAG_W,CTDOXY,CTDOXY_FLAG_W,OXYGEN,OXYGEN_FLAG_W,CTDXMISS,CTDXMISSCP,CTDXMISS_FLAG_W,CTDFLUOR,CTDFLUOR_FLAG_W,CHLORA,CHLORA_FLAG_W,PAR,PAR_FLAG_W,SILCAT,SILCAT_FLAG_W,SILUNC,NITRAT,NITRAT_FLAG_W,NRAUNC,NITRIT,NITRIT_FLAG_W,NRIUNC,PHSPHT,PHSPHT_FLAG_W,PHPUNC,CFC-11,CFC-11_FLAG_W,CFC-12,CFC-12_FLAG_W,CFC113,CFC113_FLAG_W,SF6,SF6_FLAG_W,TCARBN,TCARBN_FLAG_W,ALKALI,ALKALI_FLAG_W,PH_TOT,PH_TMP,PH_TOT_FLAG_W,DELC13,DELC13_FLAG_W,C13ERR,DELC14,DELC14_FLAG_W,C14ERR,CS-134,CS-134_FLAG_W,CS134ER,CS-137,CS-137_FLAG_W,CS137ER
,,,,,,,,UTC,DEG,DEG,METERS,DBAR,,ITS-90,,ITS-90,,PSS-78,,PSS-78,,G/KG,,UMOL/KG,,UMOL/KG,,%TRANS,/METER,,MG/M^3,,MG/CUM,,UE/SQM/S,,UMOL/KG,,UMOL/KG,UMOL/KG,,UMOL/KG,UMOL/KG,,UMOL/KG,UMOL/KG,,UMOL/KG,PMOL/KG,,PMOL/KG,,PMOL/KG,,FMOL/KG,,UMOL/KG,,UMOL/KG,,,DEG C,,/MILLE,,/MILLE,/MILLE,,/MILLE,MBQ/KG,,MBQ/KG,MBQ/KG,,MBQ/KG
  49NZ20121128,  P14S,    19,  1,     36, X12J36,2,20121208,0331,-60.9900, 173.9760, 4674,      4.8,2,   3.8747,2,   3.87435,2,  33.9657,2,  33.9656,2,-999.0000,9,   319.78,2,   319.60,2,   96.369,   0.1479,2,    0.390,2,  -999.00,9,  165.544,2,     7.54,2,     0.07,    23.39,2,     0.04,     0.19,2,     0.01,     1.61,2,     0.01,    4.699,2,    2.646,2,    0.442,2, -999.000,9,   -999.0,9,   -999.0,9,-999.0000,     -999,9, -999.000,9, -999.000,   -999.0,9,   -999.0, -999.000,9, -999.000, -999.000,9, -999.000
  49NZ20121128,  P14S,    19,  1,     35, X12J35,2,20121208,0331,-60.9900, 173.9760, 4674,     24.9,2,   3.8192,2,   3.81933,2,  33.9648,2,  33.9643,2,-999.0000,9,   320.14,2,   320.36,2,   96.440,   0.1450,2,    0.440,2,  -999.00,9,   30.773,2,     7.53,2,     0.07,    23.50,2,     0.04,     0.18,2,     0.01,     1.61,2,     0.01,    4.697,2,    2.652,2,    0.452,2, -999.000,9,   -999.0,9,   -999.0,9,-999.0000,     -999,9, -999.000,9, -999.000,   -999.0,9,   -999.0, -999.000,9, -999.000, -999.000,9, -999.000
  49NZ20121128,  P14S,    19,  1,     34, X12J34,2,20121208,0331,-60.9900, 173.9760, 4674,     49.3,2,   3.5064,2,   3.50610,2,  33.9408,2,  33.9559,2,-999.0000,9,   325.65,2,   325.44,2,   95.497,   0.1843,2,    0.720,2,  -999.00,9,    6.763,2,     7.01,2,     0.06,    23.58,2,     0.04,     0.19,2,     0.01,     1.61,2,     0.01,    4.797,6,    2.701,6,    0.461,6, -999.000,9,   -999.0,9,   -999.0,9,-999.0000,     -999,9, -999.000,9, -999.000,   -999.0,9,   -999.0, -999.000,9, -999.000, -999.000,9, -999.000
  49NZ20121128,  P14S,    19,  1,     33, X12J33,2,20121208,0331,-60.9900, 173.9760, 4674,     74.4,2,   3.2388,2,   3.23822,2,  33.9531,2,  33.9531,2,-999.0000,9,   324.62,2,   323.73,2,   95.010,   0.2048,2,    1.080,2,  -999.00,9,    1.250,2,     7.29,2,     0.07,    23.87,2,     0.04,     0.18,2,     0.01,     1.64,2,     0.01,    4.805,2,    2.706,2,    0.461,2, -999.000,9,   -999.0,9,   -999.0,9,-999.0000,     -999,9, -999.000,9, -999.000,   -999.0,9,   -999.0, -999.000,9, -999.000, -999.000,9, -999.000
  49NZ20121128,  P14S,    19,  1,     32, X12J32,2,20121208,0331,-60.9900, 173.9760, 4674,     99.5,2,   3.1164,2,   3.11688,2,  33.9532,2,  33.9530,2,-999.0000,9,   320.57,2,   320.57,2,   96.877,   0.1269,2,    0.690,2,  -999.00,9,    0.148,2,     9.01,2,     0.07,    24.29,2,     0.04,     0.19,2,     0.01,     1.71,2,     0.01,    4.829,2,    2.720,2,    0.456,2, -999.000,9,   -999.0,9,   -999.0,9,-999.0000,     -999,9, -999.000,9, -999.000,   -999.0,9,   -999.0, -999.000,9, -999.000, -999.000,9, -999.000
  49NZ20121128,  P14S,    19,  1,     31, X12J31,2,20121208,0331,-60.9900, 173.9760, 4674,    125.2,2,   3.0266,2,   3.02638,2,  33.9572,2,  33.9595,2,-999.0000,9,   315.43,2,   314.76,2,   98.234,   0.0713,2,    0.360,2,  -999.00,9,    0.006,2,    11.45,2,     0.07,    25.06,2,     0.04,     0.17,2,     0.01,     1.77,2,     0.01,    4.794,2,    2.699,2,    0.431,2, -999.000,9,   -999.0,9,   -999.0,9,-999.0000,     -999,9, -999.000,9, -999.000,   -999.0,9,   -999.0, -999.000,9, -999.000, -999.000,9, -999.000
  49NZ20121128,  P14S,    19,  1,     30, X12J30,2,20121208,0331,-60.9900, 173.9760, 4674,    150.5,2,   2.9754,2,   2.97658,2,  33.9683,2,  33.9684,2,-999.0000,9,   313.03,2,   312.81,2,   99.204,   0.0320,2,    0.160,2,  -999.00,9,    0.000,2,    11.97,2,     0.07,    25.33,2,     0.04,     0.24,2,     0.01,     1.78,2,     0.01,    4.760,2,    2.668,2,    0.442,2, -999.000,9,   -999.0,9,   -999.0,9,-999.0000,     -999,9, -999.000,9, -999.000,   -999.0,9,   -999.0, -999.000,9, -999.000, -999.000,9, -999.000
  49NZ20121128,  P14S,    19,  1,     29, X12J29,2,20121208,0331,-60.9900, 173.9760, 4674,    199.8,2,   2.9884,2,   2.98875,2,  33.9786,2,  33.9785,2,-999.0000,9,   312.14,2,   311.96,2,   99.404,   0.0239,2,    0.110,2,  -999.00,9,    0.000,2,    12.02,2,     0.07,    25.38,2,     0.04,     0.34,2,     0.00,     1.78,2,     0.01,    4.722,2,    2.652,2,    0.448,2, -999.000,9,   -999.0,9,   -999.0,9,-999.0000,     -999,9, -999.000,9, -999.000,   -999.0,9,   -999.0, -999.000,9, -999.000, -999.000,9, -999.000
  49NZ20121128,  P14S,    19,  1,     28, X12J28,2,20121208,0331,-60.9900, 173.9760, 4674,    249.8,2,   2.7942,2,   2.78831,2,  33.9634,2,  33.9654,2,-999.0000,9,   309.51,2,   307.15,2,   99.517,   0.0194,2,    0.070,2,  -999.00,9,    0.000,2,    14.17,2,     0.07,    26.22,2,     0.04,     0.23,2,     0.01,     1.84,2,     0.01,    4.744,2,    2.648,2,    0.433,2, -999.000,9,   -999.0,9,   -999.0,9,-999.0000,     -999,9, -999.000,9, -999.000,   -999.0,9,   -999.0, -999.000,9, -999.000, -999.000,9, -999.000
  49NZ20121128,  P14S,    19,  1,     27, X12J27,2,20121208,0331,-60.9900, 173.9760, 4674,    301.1,2,   2.7464,2,   2.74202,2,  34.0169,2,  34.0209,2,-999.0000,9,   286.99,2,   284.50,2,   99.503,   0.0199,2,    0.030,2,  -999.00,9,    0.000,2,    20.04,2,     0.08,    28.39,2,     0.04,     0.09,2,     0.01,     1.96,2,     0.01,    4.467,2,    2.445,2,    0.400,2, -999.000,9,   -999.0,9,   -999.0,9,-999.0000,     -999,9, -999.000,9, -999.000,   -999.0,9,   -999.0, -999.000,9, -999.000, -999.000,9, -999.000
  49NZ20121128,  P14S,    19,  1,     26, X12J26,2,20121208,0331,-60.9900, 173.9760, 4674,    399.1,2,   3.1722,2,   3.17213,2,  34.1756,2,  34.1762,2,-999.0000,9,   243.31,2,   243.43,2,   99.797,   0.0081,2,    0.000,2,  -999.00,9,    0.000,2,    29.31,2,     0.08,    30.85,2,     0.04,     0.02,2,     0.01,     2.11,2,     0.01,    3.525,2,    1.885,2,    0.287,2, -999.000,9,   -999.0,9,   -999.0,9,-999.0000,     -999,9, -999.000,9, -999.000,   -999.0,9,   -999.0, -999.000,9, -999.000, -999.000,9, -999.000
  49NZ20121128,  P14S,    19,  1,     25, X12J25,2,20121208,0331,-60.9900, 173.9760, 4674,    500.7,2,   2.8918,2,   2.89099,2,  34.2326,2,  34.2326,2,-999.0000,9,   227.90,2,   228.05,2,   99.839,   0.0064,2,   -0.000,2,  -999.00,9,    0.000,2,    37.18,2,     0.09,    32.18,2,     0.05,     0.01,2,     0.01,     2.20,2,     0.01,    3.005,2,    1.584,2,    0.234,2, -999.000,9,   -999.0,9,   -999.0,9,-999.0000,     -999,9, -999.000,9, -999.000,   -999.0,9,   -999.0, -999.000,9, -999.000, -999.000,9, -999.000
  49NZ20121128,  P14S,    19,  1,     24, X12J24,2,20121208,0331,-60.9900, 173.9760, 4674,    600.0,2,   2.7707,2,   2.77110,2,  34.3112,2,  34.3098,2,-999.0000,9,   208.14,2,   208.82,2,   99.825,   0.0070,2,   -0.000,2,  -999.00,9,    0.000,2,    46.00,2,     0.10,    33.35,2,     0.05,     0.01,2,     0.01,     2.29,2,     0.01,    2.307,6,    1.208,6,    0.186,6, -999.000,9,   -999.0,9,   -999.0,9,-999.0000,     -999,9, -999.000,9, -999.000,   -999.0,9,   -999.0, -999.000,9, -999.000, -999.000,9, -999.000
  49NZ20121128,  P14S,    19,  1,     23, X12J23,2,20121208,0331,-60.9900, 173.9760, 4674,    700.8,2,   2.6681,2,   2.66745,2,  34.3837,2,  34.3838,2,-999.0000,9,   193.19,2,   193.40,2,   99.837,   0.0065,2,    0.000,2,  -999.00,9,    0.000,2,    54.23,2,     0.11,    34.16,2,     0.05,     0.01,2,     0.01,     2.34,2,     0.01,    1.715,2,    0.886,2,    0.119,2, -999.000,9,   -999.0,9,   -999.0,9,-999.0000,     -999,9, -999.000,9, -999.000,   -999.0,9,   -999.0, -999.000,9, -999.000, -999.000,9, -999.000
  49NZ20121128,  P14S,    19,  1,     22, X12J22,2,20121208,0331,-60.9900, 173.9760, 4674,    801.2,2,   2.6207,2,   2.62070,2,  34.4606,2,  34.4597,2,-999.0000,9,   181.51,2,   181.45,2,   99.852,   0.0059,2,    0.000,2,  -999.00,9,    0.000,2,    61.25,2,     0.11,    34.48,2,     0.05,     0.01,2,     0.01,     2.37,2,     0.01, -999.000,9, -999.000,9, -999.000,9, -999.000,9,   -999.0,9,   -999.0,9,-999.0000,     -999,9, -999.000,9, -999.000,   -999.0,9,   -999.0, -999.000,9, -999.000, -999.000,9, -999.000
  49NZ20121128,  P14S,    19,  1,     21, X12J21,2,20121208,0331,-60.9900, 173.9760, 4674,    901.0,2,   2.5561,2,   2.55590,2,  34.5202,2,  34.5211,2,-999.0000,9,   175.65,2,   175.42,2,   99.871,   0.0052,2,    0.000,2,  -999.00,9,    0.000,2,    66.19,2,     0.12,    34.40,2,     0.05,     0.01,2,     0.01,     2.36,2,     0.01,    0.849,2,    0.427,2,    0.056,2, -999.000,9,   -999.0,9,   -999.0,9,-999.0000,     -999,9, -999.000,9, -999.000,   -999.0,9,   -999.0, -999.000,9, -999.000, -999.000,9, -999.000
  49NZ20121128,  P14S,    19,  1,     20, X12J20,2,20121208,0331,-60.9900, 173.9760, 4674,   1001.4,2,   2.5094,2,   2.50959,2,  34.5592,2,  34.5593,2,-999.0000,9,   173.87,2,   173.74,2,   99.862,   0.0055,2,    0.000,2,  -999.00,9,    0.000,2,    68.98,2,     0.12,    34.13,2,     0.05,     0.01,2,     0.01,     2.35,2,     0.01,    0.671,2,    0.335,2,    0.040,2, -999.000,9,   -999.0,9,   -999.0,9,-999.0000,     -999,9, -999.000,9, -999.000,   -999.0,9,   -999.0, -999.000,9, -999.000, -999.000,9, -999.000
  49NZ20121128,  P14S,    19,  1,     19, X12J19,2,20121208,0331,-60.9900, 173.9760, 4674,   1251.2,2,   2.3499,2,   2.34992,2,  34.6476,2,  34.6470,2,-999.0000,9,   175.08,2,   174.88,2,   99.908,   0.0037,2,    0.000,2,  -999.00,9,    0.000,2,    74.78,2,     0.13,    33.07,2,     0.05,     0.01,2,     0.01,     2.27,2,     0.01,    0.383,6,    0.186,6,    0.026,6, -999.000,9,   -999.0,9,   -999.0,9,-999.0000,     -999,9, -999.000,9, -999.000,   -999.0,9,   -999.0, -999.000,9, -999.000, -999.000,9, -999.000
  49NZ20121128,  P14S,    19,  1,     18, X12J18,2,20121208,0331,-60.9900, 173.9760, 4674,   1500.4,2,   2.2152,2,   2.21536,2,  34.6992,2,  34.6989,2,-999.0000,9,   180.86,2,   180.88,2,   99.921,   0.0032,2,    0.000,2,  -999.00,9,    0.000,2,    78.66,2,     0.13,    32.02,2,     0.04,     0.01,2,     0.01,     2.20,2,     0.01,    0.238,2,    0.113,2,    0.019,2, -999.000,9,   -999.0,9,   -999.0,9,-999.0000,     -999,9, -999.000,9, -999.000,   -999.0,9,   -999.0, -999.000,9, -999.000, -999.000,9, -999.000
  49NZ20121128,  P14S,    19,  1,     17, X12J17,2,20121208,0331,-60.9900, 173.9760, 4674,   1751.1,2,   2.0352,2,   2.03528,2,  34.7281,2,  34.7277,2,-999.0000,9,   186.90,2,   186.99,2,   99.963,   0.0015,2,    0.000,2,  -999.00,9,    0.000,2,    83.35,2,     0.13,    31.37,2,     0.04,     0.01,2,     0.01,     2.16,2,     0.01,    0.172,2,    0.081,2,    0.015,2, -999.000,9,   -999.0,9,   -999.0,9,-999.0000,     -999,9, -999.000,9, -999.000,   -999.0,9,   -999.0, -999.000,9, -999.000, -999.000,9, -999.000
  49NZ20121128,  P14S,    19,  1,     16, X12J16,2,20121208,0331,-60.9900, 173.9760, 4674,   2002.4,2,   1.8651,2,   1.86501,2,  34.7378,2,  34.7375,2,-999.0000,9,   191.47,2,   191.58,2,   99.948,   0.0021,2,    0.000,2,  -999.00,9,    0.000,2,    87.88,2,     0.14,    31.11,2,     0.04,     0.01,2,     0.01,     2.14,2,     0.01,    0.144,2,    0.065,2,    0.014,2, -999.000,9,   -999.0,9,   -999.0,9,-999.0000,     -999,9, -999.000,9, -999.000,   -999.0,9,   -999.0, -999.000,9, -999.000, -999.000,9, -999.000
  49NZ20121128,  P14S,    19,  1,     15, X12J15,2,20121208,0331,-60.9900, 173.9760, 4674,   2251.4,2,   1.6641,2,   1.66421,2,  34.7385,2,  34.7379,2,-999.0000,9,   195.46,2,   195.47,2,   99.967,   0.0013,2,    0.000,2,  -999.00,9,    0.000,2,    93.59,2,     0.14,    31.13,2,     0.04,     0.01,2,     0.01,     2.15,2,     0.01,    0.135,2,    0.063,2,    0.008,2, -999.000,9,   -999.0,9,   -999.0,9,-999.0000,     -999,9, -999.000,9, -999.000,   -999.0,9,   -999.0, -999.000,9, -999.000, -999.000,9, -999.000
  49NZ20121128,  P14S,    19,  1,     14, X12J14,2,20121208,0331,-60.9900, 173.9760, 4674,   2502.6,2,   1.4858,2,   1.48594,2,  34.7343,2,  34.7335,2,-999.0000,9,   198.37,2,   198.31,2,   99.950,   0.0020,2,   -0.000,2,  -999.00,9,    0.000,2,    98.48,2,     0.15,    31.28,2,     0.04,     0.01,2,     0.01,     2.15,2,     0.01,    0.152,2,    0.073,2,    0.008,2, -999.000,9,   -999.0,9,   -999.0,9,-999.0000,     -999,9, -999.000,9, -999.000,   -999.0,9,   -999.0, -999.000,9, -999.000, -999.000,9, -999.000
  49NZ20121128,  P14S,    19,  1,     13, X12J13,2,20121208,0331,-60.9900, 173.9760, 4674,   2751.3,2,   1.3043,2,   1.30443,2,  34.7275,2,  34.7266,2,-999.0000,9,   200.93,2,   200.84,2,   99.958,   0.0017,2,   -0.000,2,  -999.00,9,    0.000,2,   103.84,2,     0.15,    31.53,2,     0.04,     0.01,2,     0.01,     2.17,2,     0.01,    0.142,2,    0.066,2,    0.005,2, -999.000,9,   -999.0,9,   -999.0,9,-999.0000,     -999,9, -999.000,9, -999.000,   -999.0,9,   -999.0, -999.000,9, -999.000, -999.000,9, -999.000
  49NZ20121128,  P14S,    19,  1,     12, X12J12,2,20121208,0331,-60.9900, 173.9760, 4674,   3001.6,2,   1.1428,2,   1.14275,2,  34.7201,2,  34.7197,2,-999.0000,9,   203.39,2,   203.43,2,   99.937,   0.0025,2,    0.000,2,  -999.00,9,    0.000,2,   108.84,2,     0.16,    31.76,2,     0.04,     0.01,2,     0.01,     2.19,2,     0.01,    0.165,2,    0.077,2,    0.008,2, -999.000,9,   -999.0,9,   -999.0,9,-999.0000,     -999,9, -999.000,9, -999.000,   -999.0,9,   -999.0, -999.000,9, -999.000, -999.000,9, -999.000
  49NZ20121128,  P14S,    19,  1,     11, X12J11,2,20121208,0331,-60.9900, 173.9760, 4674,   3250.6,2,   1.0377,2,   1.03755,2,  34.7147,2,  34.7145,2,-999.0000,9,   205.22,2,   205.17,2,   99.952,   0.0019,2,   -0.000,2,  -999.00,9,    0.000,2,   112.17,2,     0.16,    31.89,2,     0.04,     0.01,2,     0.01,     2.20,2,     0.01,    0.212,2,    0.103,2,    0.012,2, -999.000,9,   -999.0,9,   -999.0,9,-999.0000,     -999,9, -999.000,9, -999.000,   -999.0,9,   -999.0, -999.000,9, -999.000, -999.000,9, -999.000
  49NZ20121128,  P14S,    19,  1,     10, X12J10,2,20121208,0331,-60.9900, 173.9760, 4674,   3501.2,2,   0.9349,2,   0.93485,2,  34.7095,2,  34.7090,2,-999.0000,9,   207.11,2,   207.09,2,   99.948,   0.0021,2,   -0.000,2,  -999.00,9,    0.000,2,   115.93,2,     0.16,    32.11,2,     0.05,     0.01,2,     0.01,     2.21,2,     0.01,    0.233,2,    0.110,2,    0.015,2, -999.000,9,   -999.0,9,   -999.0,9,-999.0000,     -999,9, -999.000,9, -999.000,   -999.0,9,   -999.0, -999.000,9, -999.000, -999.000,9, -999.000
  49NZ20121128,  P14S,    19,  1,      9, X12J09,2,20121208,0331,-60.9900, 173.9760, 4674,   3751.0,2,   0.8689,2,   0.86889,2,  34.7060,2,  34.7056,2,-999.0000,9,   208.38,2,   208.34,2,   99.931,   0.0028,2,   -0.000,2,  -999.00,9,    0.000,2,   118.70,2,     0.17,    32.23,2,     0.05,     0.01,2,     0.01,     2.22,2,     0.01,    0.269,2,    0.124,2,    0.012,2, -999.000,9,   -999.0,9,   -999.0,9,-999.0000,     -999,9, -999.000,9, -999.000,   -999.0,9,   -999.0, -999.000,9, -999.000, -999.000,9, -999.000
  49NZ20121128,  P14S,    19,  1,      8, X12J08,2,20121208,0331,-60.9900, 173.9760, 4674,   3999.9,2,   0.8425,2,   0.84244,2,  34.7038,2,  34.7038,2,-999.0000,9,   208.94,2,   208.90,2,   99.912,   0.0035,2,   -0.000,2,  -999.00,9,    0.000,2,   120.33,2,     0.17,    32.28,2,     0.05,     0.01,2,     0.01,     2.22,2,     0.01,    0.290,6,    0.138,6,    0.018,6, -999.000,9,   -999.0,9,   -999.0,9,-999.0000,     -999,9, -999.000,9, -999.000,   -999.0,9,   -999.0, -999.000,9, -999.000, -999.000,9, -999.000
  49NZ20121128,  P14S,    19,  1,      7, X12J07,2,20121208,0331,-60.9900, 173.9760, 4674,   4251.0,2,   0.8389,2,   0.83890,2,  34.7026,2,  34.7025,2,-999.0000,9,   209.27,2,   209.48,2,   99.879,   0.0048,2,   -0.000,2,  -999.00,9,    0.000,2,   121.50,2,     0.17,    32.33,2,     0.05,     0.01,2,     0.01,     2.23,2,     0.01,    0.311,2,    0.151,2,    0.014,2, -999.000,9,   -999.0,9,   -999.0,9,-999.0000,     -999,9, -999.000,9, -999.000,   -999.0,9,   -999.0, -999.000,9, -999.000, -999.000,9, -999.000
  49NZ20121128,  P14S,    19,  1,      6, X12J06,2,20121208,0331,-60.9900, 173.9760, 4674,   4500.6,2,   0.8475,2,   0.84747,2,  34.7018,2,  34.7016,2,-999.0000,9,   209.30,2,   209.60,2,   99.848,   0.0061,2,   -0.000,2,  -999.00,9,    0.000,2,   122.22,2,     0.17,    32.36,2,     0.05,     0.01,2,     0.01,     2.23,2,     0.01,    0.326,2,    0.159,2,    0.017,2, -999.000,9,   -999.0,9,   -999.0,9,-999.0000,     -999,9, -999.000,9, -999.000,   -999.0,9,   -999.0, -999.000,9, -999.000, -999.000,9, -999.000
  49NZ20121128,  P14S,    19,  1,      1, X12J01,2,20121208,0331,-60.9900, 173.9760, 4674,   4771.8,2,   0.8679,2,   0.86782,2,  34.7012,2,  34.7011,2,-999.0000,9,   209.37,2,   209.86,2,   99.789,   0.0084,2,   -0.000,2,  -999.00,9,    0.000,2,   122.95,2,     0.17,    32.43,2,     0.05,     0.01,2,     0.01,     2.23,2,     0.01,    0.344,2,    0.166,2,    0.020,2, -999.000,9,   -999.0,9,   -999.0,9,-999.0000,     -999,9, -999.000,9, -999.000,   -999.0,9,   -999.0, -999.000,9, -999.000, -999.000,9, -999.000