BOTTLE,20220819CCHSIOAMB
EXPOCODE,SECT_ID,STNNBR,CASTNO,SAMPNO,BTLNBR,BTLNBR_FLAG_W,DATE,TIME,LATITUDE,LONGITUDE,DEPTH,CTDPRS,CTDPRS_FLAG_W,CTDTMP,CTDTMP_FLAG_W,SBE35,SBE35_FLAG_W,CTDSAL,CTDSAL_FLAG_W,SALNTY,SALNTY_FLAG_W,DNSSAL,DNSSAL_FLAG_W,CTDOXY,CTDOXY_FLAG_W,OXYGEN,OXYGEN_FLAG_W,CTDXMISS,CTDXMISSCP,CTDXMISS_FLAG_W,CTDFLUOR,CTDFLUOR_FLAG_W,CHLORA,CHLORA_FLAG_W,PAR,PAR_FLAG_W,SILCAT,SILCAT_FLAG_W,SILUNC,NITRAT,NITRAT_FLAG_W,NRAUNC,NITRIT,NITRIT_FLAG_W,NRIUNC,PHSPHT,PHSPHT_FLAG_W,PHPUNC,CFC-11,CFC-11_FLAG_W,CFC-12,CFC-12_FLAG_W,CFC113,CFC113_FLAG_W,SF6,SF6_FLAG_W,TCARBN,TCARBN_FLAG_W,ALKALI,ALKALI_FLAG_W,PH_TOT,PH_TMP,PH_TOT_FLAG_W,DELC13,DELC13_FLAG_W,C13ERR,DELC14,DELC14_FLAG_W,C14ERR,CS-134,CS-134_FLAG_W,CS134ER,CS-137,CS-137_FLAG_W,CS137ER
,,,,,,,,UTC,DEG,DEG,METERS,DBAR,,ITS-90,,ITS-90,,PSS-78,,PSS-78,,G/KG,,UMOL/KG,,UMOL/KG,,%TRANS,/METER,,MG/M^3,,MG/CUM,,UE/SQM/S,,UMOL/KG,,UMOL/KG,UMOL/KG,,UMOL/KG,UMOL/KG,,UMOL/KG,UMOL/KG,,UMOL/KG,PMOL/KG,,PMOL/KG,,PMOL/KG,,FMOL/KG,,UMOL/KG,,UMOL/KG,,,DEG C,,/MILLE,,/MILLE,/MILLE,,/MILLE,MBQ/KG,,MBQ/KG,MBQ/KG,,MBQ/KG
  49NZ20121128,   S04,   404,  1,     36, X12J36,2,20121210,1925,-63.9950, 167.4615, 3168,      4.6,2,  -0.9966,2,  -0.99615,2,  33.9242,2,  33.9252,2,  34.0922,2,   350.33,2,   350.66,2,   91.289,   0.3646,2,    0.370,2,  -999.00,9,  235.114,2,    71.96,2,     0.12,    27.07,2,     0.04,     0.17,2,     0.01,     1.78,2,     0.01,    5.371,2,    2.967,2,    0.546,2,    2.719,2,   2176.3,2,   2296.4,2,   7.6800,       25,6, -999.000,1, -999.000,   -999.0,1,   -999.0, -999.000,9, -999.000, -999.000,9, -999.000
  49NZ20121128,   S04,   404,  1,     35, X12J35,2,20121210,1925,-63.9950, 167.4615, 3168,     25.1,2,  -1.0949,2,  -1.09448,2,  33.9509,2,  33.9603,2,  34.1259,2,   349.13,2,   348.10,2,   92.713,   0.3026,2,    0.920,2,  -999.00,9,   24.885,2,    71.75,2,     0.12,    27.24,2,     0.04,     0.16,2,     0.01,     1.82,2,     0.01,    5.273,2,    2.920,2,    0.539,2,    2.605,2,   2179.2,2,   2299.7,2,   7.6747,       25,2, -999.000,1, -999.000,   -999.0,1,   -999.0, -999.000,9, -999.000, -999.000,9, -999.000
  49NZ20121128,   S04,   404,  1,     34, X12J34,2,20121210,1925,-63.9950, 167.4615, 3168,     49.8,2,  -1.7293,2,  -1.72974,2,  34.1227,2,  34.1316,2,  34.2989,2,   329.67,2,   328.77,2,   95.453,   0.1861,2,    0.940,2,  -999.00,9,    2.390,2,    73.58,2,     0.12,    28.83,2,     0.04,     0.13,2,     0.01,     1.96,2,     0.01,    4.730,6,    2.640,6,    0.480,6,    2.392,6,   2198.7,2,   2311.9,2,   7.6485,       25,2, -999.000,1, -999.000,   -999.0,1,   -999.0, -999.000,9, -999.000, -999.000,9, -999.000
  49NZ20121128,   S04,   404,  1,     33, X12J33,2,20121210,1925,-63.9950, 167.4615, 3168,     75.0,2,  -1.7848,2,  -1.78230,2,  34.2483,2,  34.2536,2,  34.4206,2,   313.77,2,   312.85,2,   98.325,   0.0676,2,    0.360,2,  -999.00,9,    0.337,2,    74.58,2,     0.13,    30.25,2,     0.04,     0.13,2,     0.01,     2.07,2,     0.01,    4.542,2,    2.545,2,    0.468,2,    2.388,2,   2215.2,6,   2316.5,2,   7.6232,       25,2, -999.000,1, -999.000,   -999.0,1,   -999.0, -999.000,9, -999.000, -999.000,9, -999.000
  49NZ20121128,   S04,   404,  1,     32, X12J32,2,20121210,1925,-63.9950, 167.4615, 3168,     99.6,2,  -1.1075,2,  -1.10032,2,  34.3787,2,  34.3739,2,  34.5455,2,   281.45,2,   282.94,2,   99.498,   0.0201,2,    0.170,2,  -999.00,9,    0.083,2,    77.04,2,     0.13,    31.20,2,     0.04,     0.09,2,     0.01,     2.13,2,     0.01,    3.766,2,    2.103,2,    0.381,2,    2.038,2,   2227.6,2,   2323.7,6,   7.6062,       25,2, -999.000,1, -999.000,   -999.0,1,   -999.0, -999.000,9, -999.000, -999.000,9, -999.000
  49NZ20121128,   S04,   404,  1,     31, X12J31,2,20121210,1925,-63.9950, 167.4615, 3168,    124.7,2,   0.2056,2,   0.20290,2,  34.5441,2,  34.5424,2,  34.7113,2,   232.31,2,   232.43,2,   99.743,   0.0103,2,    0.060,2,  -999.00,9,    0.001,2,    81.83,2,     0.13,    32.17,2,     0.05,     0.03,2,     0.01,     2.20,2,     0.01,    2.143,2,    1.214,2,    0.214,2,    1.049,2,   2244.5,2,   2333.8,2,   7.5879,       25,2, -999.000,1, -999.000,   -999.0,1,   -999.0, -999.000,9, -999.000, -999.000,9, -999.000
  49NZ20121128,   S04,   404,  1,     30, X12J30,2,20121210,1925,-63.9950, 167.4615, 3168,    150.2,2,   0.8855,2,   0.88081,2,  34.6373,2,  34.6345,2,  34.8060,2,   206.17,2,   206.25,2,   99.789,   0.0084,2,    0.020,2,  -999.00,9,    0.000,2,    85.89,2,     0.14,    32.36,2,     0.05,     0.01,2,     0.01,     2.22,2,     0.01,    1.229,2,    0.693,2,    0.118,2,    0.523,2,   2252.1,2,   2338.6,2,   7.5824,       25,6, -999.000,1, -999.000,   -999.0,1,   -999.0, -999.000,9, -999.000, -999.000,9, -999.000
  49NZ20121128,   S04,   404,  1,     29, X12J29,2,20121210,1925,-63.9950, 167.4615, 3168,    202.8,2,   1.1613,2,   1.16137,2,  34.6845,2,  34.6840,2,  34.8537,2,   197.11,2,   196.86,2,   99.864,   0.0054,2,    0.010,2,  -999.00,9,    0.000,2,    89.16,2,     0.14,    32.16,2,     0.05,     0.01,2,     0.01,     2.20,2,     0.01,    0.786,2,    0.417,2,    0.066,2,    0.375,2,   2254.1,2,   2344.2,2,   7.5859,       25,2, -999.000,1, -999.000,   -999.0,1,   -999.0, -999.000,9, -999.000, -999.000,9, -999.000
  49NZ20121128,   S04,   404,  1,     28, X12J28,2,20121210,1925,-63.9950, 167.4615, 3168,    251.1,2,   1.2239,2,   1.22382,2,  34.6999,2,  34.6993,2,  34.8682,2,   195.57,2,   195.28,2,   99.875,   0.0050,2,    0.010,2,  -999.00,9,    0.000,2,    91.13,2,     0.14,    32.05,2,     0.04,     0.01,2,     0.01,     2.19,2,     0.01,    0.630,2,    0.326,2,    0.050,2,    0.298,2,   2255.1,2,   2346.2,2,   7.5890,       25,2, -999.000,1, -999.000,   -999.0,1,   -999.0, -999.000,9, -999.000, -999.000,9, -999.000
  49NZ20121128,   S04,   404,  1,     27, X12J27,2,20121210,1925,-63.9950, 167.4615, 3168,    332.1,2,   1.2260,2,   1.22610,2,  34.7100,2,  34.7096,2,  34.8794,2,   195.61,2,   195.38,2,   99.944,   0.0022,2,    0.000,2,  -999.00,9,    0.000,2,    93.68,2,     0.14,    31.97,2,     0.04,     0.01,2,     0.01,     2.18,2,     0.01,    0.519,2,    0.260,2,    0.039,2,    0.184,2,   2256.0,2,   2348.4,2,   7.5927,       25,2, -999.000,1, -999.000,   -999.0,1,   -999.0, -999.000,9, -999.000, -999.000,9, -999.000
  49NZ20121128,   S04,   404,  1,     26, X12J26,2,20121210,1925,-63.9950, 167.4615, 3168,    431.8,2,   1.1713,2,   1.17120,2,  34.7149,2,  34.7145,2,  34.8827,2,   195.88,2,   195.88,2,   99.977,   0.0009,2,    0.000,2,  -999.00,9,    0.000,2,    97.39,2,     0.15,    32.02,2,     0.04,     0.01,2,     0.01,     2.19,2,     0.01,    0.428,2,    0.208,2,    0.031,2,    0.141,2,   2256.9,2,   2350.4,2,   7.5941,       25,2, -999.000,1, -999.000,   -999.0,1,   -999.0, -999.000,9, -999.000, -999.000,9, -999.000
  49NZ20121128,   S04,   404,  1,     25, X12J25,2,20121210,1925,-63.9950, 167.4615, 3168,    529.5,2,   1.1205,2,   1.12046,2,  34.7169,2,  34.7170,2,  34.8860,2,   196.57,2,   196.41,2,  100.000,  -0.0000,2,    0.000,2,  -999.00,9,    0.000,2,   100.66,2,     0.15,    32.05,2,     0.04,     0.00,2,     0.01,     2.20,2,     0.01,    0.354,2,    0.168,2,    0.025,2,    0.080,2,   2258.0,2,   2352.1,2,   7.5966,       25,2, -999.000,1, -999.000,   -999.0,1,   -999.0, -999.000,9, -999.000, -999.000,9, -999.000
  49NZ20121128,   S04,   404,  1,     24, X12J24,2,20121210,1925,-63.9950, 167.4615, 3168,    630.8,2,   1.0645,2,   1.06432,2,  34.7171,2,  34.7176,2,  34.8860,2,   195.95,2,   195.83,2,  100.004,  -0.0002,2,    0.000,2,  -999.00,9,    0.000,2,   104.50,2,     0.15,    32.31,2,     0.05,     0.01,2,     0.01,     2.21,2,     0.01,    0.293,6,    0.132,6,    0.019,6,    0.092,6,   2260.3,2,   2354.3,2,   7.5951,       25,2, -999.000,1, -999.000,   -999.0,1,   -999.0, -999.000,9, -999.000, -999.000,9, -999.000
  49NZ20121128,   S04,   404,  1,     23, X12J23,2,20121210,1925,-63.9950, 167.4615, 3168,    730.8,2,   1.0142,2,   1.01404,2,  34.7165,2,  34.7165,2,  34.8900,2,   196.84,2,   196.70,2,  100.009,  -0.0004,2,    0.000,2,  -999.00,9,    0.000,2,   106.59,2,     0.15,    32.40,2,     0.05,     0.01,2,     0.01,     2.22,2,     0.01,    0.250,2,    0.116,2,    0.014,2,    0.035,2,   2261.2,6,   2352.4,3,   7.5956,       25,2, -999.000,1, -999.000,   -999.0,1,   -999.0, -999.000,9, -999.000, -999.000,9, -999.000
  49NZ20121128,   S04,   404,  1,     22, X12J22,2,20121210,1925,-63.9950, 167.4615, 3168,    829.9,2,   0.9483,2,   0.94823,2,  34.7146,2,  34.7142,2,  34.8873,2,   198.28,2,   198.30,2,  100.009,  -0.0004,2,   -0.000,2,  -999.00,9,    0.000,2,   108.86,2,     0.16,    32.42,2,     0.05,     0.00,2,     0.01,     2.22,2,     0.01,    0.229,2,    0.106,2,    0.014,2,    0.000,2,   2261.0,2,   2355.3,6,   7.5980,       25,2, -999.000,1, -999.000,   -999.0,1,   -999.0, -999.000,9, -999.000, -999.000,9, -999.000
  49NZ20121128,   S04,   404,  1,     21, X12J21,2,20121210,1925,-63.9950, 167.4615, 3168,    930.8,2,   0.8852,2,   0.88504,2,  34.7126,2,  34.7125,2,  34.8854,2,   199.72,2,   199.63,2,  100.011,  -0.0004,2,   -0.000,2,  -999.00,9,    0.000,2,   110.96,2,     0.16,    32.42,2,     0.05,     0.01,2,     0.01,     2.22,2,     0.01,    0.226,2,    0.097,2,    0.013,2,    0.000,2,   2261.7,2,   2358.9,3,   7.5974,       25,6, -999.000,1, -999.000,   -999.0,1,   -999.0, -999.000,9, -999.000, -999.000,9, -999.000
  49NZ20121128,   S04,   404,  1,     20, X12J20,2,20121210,1925,-63.9950, 167.4615, 3168,   1080.7,2,   0.8015,2,   0.80140,2,  34.7097,2,  34.7093,2,  34.8814,2,   201.63,2,   201.66,2,  100.021,  -0.0008,2,   -0.000,2,  -999.00,9,    0.000,2,   113.66,2,     0.16,    32.47,2,     0.05,     0.01,2,     0.01,     2.23,2,     0.01,    0.176,4,    0.155,4,    0.011,4,    0.000,4,   2262.6,2,   2357.7,2,   7.6000,       25,2, -999.000,1, -999.000,   -999.0,1,   -999.0, -999.000,9, -999.000, -999.000,9, -999.000
  49NZ20121128,   S04,   404,  1,     19, X12J19,2,20121210,1925,-63.9950, 167.4615, 3168,   1333.2,2,   0.6760,2,   0.67624,2,  34.7057,2,  34.7055,2,  34.8755,2,   204.08,2,   204.11,2,  100.034,  -0.0014,2,   -0.000,2,  -999.00,9,    0.000,2,   117.76,2,     0.16,    32.60,2,     0.05,     0.00,2,     0.01,     2.24,2,     0.01,    0.174,4,    0.157,4,    0.009,4,    0.000,4,   2262.9,2,   2357.9,2,   7.5987,       25,2, -999.000,1, -999.000,   -999.0,1,   -999.0, -999.000,9, -999.000, -999.000,9, -999.000
  49NZ20121128,   S04,   404,  1,     18, X12J18,2,20121210,1925,-63.9950, 167.4615, 3168,   1579.9,2,   0.5749,2,   0.57492,2,  34.7021,2,  34.7025,2,  34.8735,2,   206.28,2,   206.42,2,  100.006,  -0.0002,2,   -0.000,2,  -999.00,9,    0.000,2,   119.89,2,     0.17,    32.66,2,     0.05,     0.00,2,     0.01,     2.23,2,     0.01,    0.209,4,    0.184,4,    0.012,4,    0.000,4,   2263.6,2,   2358.1,2,   7.5985,       25,2, -999.000,1, -999.000,   -999.0,1,   -999.0, -999.000,9, -999.000, -999.000,9, -999.000
  49NZ20121128,   S04,   404,  1,     17, X12J17,2,20121210,1925,-63.9950, 167.4615, 3168,   1831.5,2,   0.4586,2,   0.45850,2,  34.6986,2,  34.6992,2,  34.8722,2,   209.16,2,   209.40,2,  100.013,  -0.0005,2,   -0.000,2,  -999.00,9,    0.000,2,   121.37,2,     0.17,    32.69,2,     0.05,     0.00,2,     0.01,     2.24,2,     0.01,    0.278,4,    0.259,4,    0.018,4,    0.000,4,   2263.3,2,   2358.3,2,   7.5998,       25,2, -999.000,1, -999.000,   -999.0,1,   -999.0, -999.000,9, -999.000, -999.000,9, -999.000
  49NZ20121128,   S04,   404,  1,     16, X12J16,2,20121210,1925,-63.9950, 167.4615, 3168,   2079.6,2,   0.3610,2,   0.36102,2,  34.6950,2,  34.6949,2,  34.8820,4,   212.14,2,   212.39,2,  100.013,  -0.0005,2,   -0.000,2,  -999.00,9,    0.000,2,   121.13,2,     0.17,    32.70,2,     0.05,     0.01,2,     0.01,     2.24,2,     0.01,    0.398,4,    0.369,4,    0.027,4,    0.000,4,   2262.9,2,   2359.9,3,   7.5977,       25,2, -999.000,1, -999.000,   -999.0,1,   -999.0, -999.000,9, -999.000, -999.000,9, -999.000
  49NZ20121128,   S04,   404,  1,     15, X12J15,2,20121210,1925,-63.9950, 167.4615, 3168,   2331.4,2,   0.2645,2,   0.26451,2,  34.6900,2,  34.6898,2,  34.8610,2,   215.67,2,   215.78,2,   99.983,   0.0007,2,   -0.000,2,  -999.00,9,    0.000,2,   119.07,2,     0.17,    32.63,2,     0.05,     0.01,2,     0.01,     2.24,2,     0.01,    0.599,4,    0.544,4,    0.046,4,    0.291,4,   2262.2,2,   2357.2,2,   7.5974,       25,2, -999.000,1, -999.000,   -999.0,1,   -999.0, -999.000,9, -999.000, -999.000,9, -999.000
  49NZ20121128,   S04,   404,  1,     14, X12J14,2,20121210,1925,-63.9950, 167.4615, 3168,   2579.8,2,   0.1000,2,   0.09984,2,  34.6797,2,  34.6795,2,  34.8537,2,   222.42,2,   222.77,2,   99.962,   0.0015,2,   -0.000,2,  -999.00,9,    0.000,2,   114.07,2,     0.16,    32.53,2,     0.05,     0.01,2,     0.01,     2.23,2,     0.01,    1.022,4,    0.895,4,    0.080,4,    0.486,4,   2260.2,6,   2356.0,2,   7.5955,       25,2, -999.000,1, -999.000,   -999.0,1,   -999.0, -999.000,9, -999.000, -999.000,9, -999.000
  49NZ20121128,   S04,   404,  1,     13, X12J13,2,20121210,1925,-63.9950, 167.4615, 3168,   2830.6,2,   0.0298,2,   0.02995,2,  34.6753,2,  34.6753,2,  34.8484,2,   225.88,2,   226.28,2,   99.921,   0.0032,2,   -0.000,2,  -999.00,9,    0.000,2,   110.87,2,     0.16,    32.42,2,     0.05,     0.01,2,     0.01,     2.23,2,     0.01,    1.279,4,    1.089,4,    0.102,4,    0.687,4,   2260.0,2,   2353.0,6,   7.5944,       25,2, -999.000,1, -999.000,   -999.0,1,   -999.0, -999.000,9, -999.000, -999.000,9, -999.000
  49NZ20121128,   S04,   404,  1,     12, X12J12,2,20121210,1925,-63.9950, 167.4615, 3168,   3082.2,2,  -0.0099,2,  -0.00992,2,  34.6726,2,  34.6731,2,  34.8405,2,   228.24,2,   228.92,2,   99.854,   0.0058,2,   -0.000,2,  -999.00,9,    0.000,2,   107.35,2,     0.16,    32.23,2,     0.05,     0.01,2,     0.01,     2.22,2,     0.01,    1.469,4,    1.255,4,    0.114,4,    0.822,4,   2259.3,2,   2353.0,2,   7.5934,       25,6, -999.000,1, -999.000,   -999.0,1,   -999.0, -999.000,9, -999.000, -999.000,9, -999.000
  49NZ20121128,   S04,   404,  1,      1, X12J01,2,20121210,1925,-63.9950, 167.4615, 3168,   3221.7,2,  -0.0072,2,  -0.00733,2,  34.6721,2,  34.6725,2,  34.8451,2,   228.71,2,   228.89,2,   99.827,   0.0069,2,   -0.000,2,  -999.00,9,    0.000,2,   106.78,2,     0.15,    32.25,2,     0.05,     0.01,2,     0.01,     2.22,2,     0.01,    1.510,4,    1.279,4,    0.118,4,    0.920,4,   2259.7,2,   2352.4,2,   7.5937,       25,2, -999.000,1, -999.000,   -999.0,1,   -999.0, -999.000,9, -999.000, -999.000,9, -999.000