BOTTLE,20220819CCHSIOAMB
EXPOCODE,SECT_ID,STNNBR,CASTNO,SAMPNO,BTLNBR,BTLNBR_FLAG_W,DATE,TIME,LATITUDE,LONGITUDE,DEPTH,CTDPRS,CTDPRS_FLAG_W,CTDTMP,CTDTMP_FLAG_W,SBE35,SBE35_FLAG_W,CTDSAL,CTDSAL_FLAG_W,SALNTY,SALNTY_FLAG_W,DNSSAL,DNSSAL_FLAG_W,CTDOXY,CTDOXY_FLAG_W,OXYGEN,OXYGEN_FLAG_W,CTDXMISS,CTDXMISSCP,CTDXMISS_FLAG_W,CTDFLUOR,CTDFLUOR_FLAG_W,CHLORA,CHLORA_FLAG_W,PAR,PAR_FLAG_W,SILCAT,SILCAT_FLAG_W,SILUNC,NITRAT,NITRAT_FLAG_W,NRAUNC,NITRIT,NITRIT_FLAG_W,NRIUNC,PHSPHT,PHSPHT_FLAG_W,PHPUNC,CFC-11,CFC-11_FLAG_W,CFC-12,CFC-12_FLAG_W,CFC113,CFC113_FLAG_W,SF6,SF6_FLAG_W,TCARBN,TCARBN_FLAG_W,ALKALI,ALKALI_FLAG_W,PH_TOT,PH_TMP,PH_TOT_FLAG_W,DELC13,DELC13_FLAG_W,C13ERR,DELC14,DELC14_FLAG_W,C14ERR,CS-134,CS-134_FLAG_W,CS134ER,CS-137,CS-137_FLAG_W,CS137ER
,,,,,,,,UTC,DEG,DEG,METERS,DBAR,,ITS-90,,ITS-90,,PSS-78,,PSS-78,,G/KG,,UMOL/KG,,UMOL/KG,,%TRANS,/METER,,MG/M^3,,MG/CUM,,UE/SQM/S,,UMOL/KG,,UMOL/KG,UMOL/KG,,UMOL/KG,UMOL/KG,,UMOL/KG,UMOL/KG,,UMOL/KG,PMOL/KG,,PMOL/KG,,PMOL/KG,,FMOL/KG,,UMOL/KG,,UMOL/KG,,,DEG C,,/MILLE,,/MILLE,/MILLE,,/MILLE,MBQ/KG,,MBQ/KG,MBQ/KG,,MBQ/KG
  49NZ20121128,   S04,    80,  1,     36, X12J36,2,20121223,1006,-61.9860, 119.0390, 4183,      4.6,2,   0.4179,2,   0.41763,2,  33.8679,2,  33.8689,2,-999.0000,9,   361.76,2,   361.79,2,   87.234,   0.5463,2,    1.560,2,  -999.00,9,   18.788,2,    25.81,2,     0.08,    23.48,2,     0.04,     0.25,2,     0.01,     1.51,2,     0.01,    5.981,2,    3.270,2,    0.576,2, -999.000,9,   -999.0,9,   -999.0,9,-999.0000,     -999,9, -999.000,9, -999.000,   -999.0,9,   -999.0, -999.000,9, -999.000, -999.000,9, -999.000
  49NZ20121128,   S04,    80,  1,     35, X12J35,2,20121223,1006,-61.9860, 119.0390, 4183,     25.0,2,   0.3288,2,   0.32267,2,  33.8707,2,  33.8698,2,-999.0000,9,   361.64,2,   361.67,2,   87.391,   0.5391,2,    1.760,2,  -999.00,9,    1.372,2,    26.50,2,     0.08,    23.71,2,     0.04,     0.25,2,     0.01,     1.54,2,     0.01,    5.978,2,    3.276,2,    0.572,2, -999.000,9,   -999.0,9,   -999.0,9,-999.0000,     -999,9, -999.000,9, -999.000,   -999.0,9,   -999.0, -999.000,9, -999.000, -999.000,9, -999.000
  49NZ20121128,   S04,    80,  1,     34, X12J34,2,20121223,1006,-61.9860, 119.0390, 4183,     50.0,2,  -0.5968,2,  -0.58146,2,  33.8825,2,  33.8873,2,-999.0000,9,   351.28,2,   351.18,2,   90.440,   0.4019,2,    1.400,2,  -999.00,9,    0.035,2,    35.03,2,     0.09,    25.96,2,     0.04,     0.21,2,     0.01,     1.85,2,     0.01,    5.938,6,    3.238,6,    0.585,6, -999.000,9,   -999.0,9,   -999.0,9,-999.0000,     -999,9, -999.000,9, -999.000,   -999.0,9,   -999.0, -999.000,9, -999.000, -999.000,9, -999.000
  49NZ20121128,   S04,    80,  1,     33, X12J33,2,20121223,1006,-61.9860, 119.0390, 4183,     74.8,2,  -1.7407,2,  -1.74149,2,  33.9547,2,  33.9556,2,-999.0000,9,   333.68,2,   334.18,2,   97.792,   0.0893,2,    0.380,2,  -999.00,9,    0.000,2,    44.53,2,     0.10,    29.50,2,     0.04,     0.19,2,     0.01,     2.08,2,     0.01,    5.586,2,    3.048,2,    0.515,2, -999.000,9,   -999.0,9,   -999.0,9,-999.0000,     -999,9, -999.000,9, -999.000,   -999.0,9,   -999.0, -999.000,9, -999.000, -999.000,9, -999.000
  49NZ20121128,   S04,    80,  1,     32, X12J32,2,20121223,1006,-61.9860, 119.0390, 4183,    100.3,2,  -1.3323,2,  -1.33224,2,  34.0514,2,  34.0550,2,-999.0000,9,   308.72,2,   307.83,2,   98.947,   0.0423,2,    0.220,2,  -999.00,9,    0.000,2,    48.00,2,     0.10,    30.79,2,     0.04,     0.17,2,     0.01,     2.14,2,     0.01,    4.951,2,    2.688,2,    0.471,2, -999.000,9,   -999.0,9,   -999.0,9,-999.0000,     -999,9, -999.000,9, -999.000,   -999.0,9,   -999.0, -999.000,9, -999.000, -999.000,9, -999.000
  49NZ20121128,   S04,    80,  1,     31, X12J31,2,20121223,1006,-61.9860, 119.0390, 4183,    124.9,2,  -0.3261,2,  -0.32903,2,  34.1967,2,  34.1972,2,-999.0000,9,   268.11,2,   268.08,2,   99.249,   0.0302,2,    0.160,2,  -999.00,9,    0.000,2,    54.69,2,     0.11,    32.32,2,     0.05,     0.04,2,     0.01,     2.23,2,     0.01,    3.851,2,    2.090,2,    0.339,2, -999.000,9,   -999.0,9,   -999.0,9,-999.0000,     -999,9, -999.000,9, -999.000,   -999.0,9,   -999.0, -999.000,9, -999.000, -999.000,9, -999.000
  49NZ20121128,   S04,    80,  1,     30, X12J30,2,20121223,1006,-61.9860, 119.0390, 4183,    150.3,2,   1.0388,2,   1.03666,2,  34.3978,2,  34.3977,2,-999.0000,9,   213.32,2,   213.60,2,   99.418,   0.0233,2,    0.100,2,  -999.00,9,    0.000,2,    65.65,2,     0.12,    34.02,2,     0.05,     0.02,2,     0.01,     2.34,2,     0.01,    2.240,2,    1.203,2,    0.189,2, -999.000,9,   -999.0,9,   -999.0,9,-999.0000,     -999,9, -999.000,9, -999.000,   -999.0,9,   -999.0, -999.000,9, -999.000, -999.000,9, -999.000
  49NZ20121128,   S04,    80,  1,     29, X12J29,2,20121223,1006,-61.9860, 119.0390, 4183,    200.8,2,   1.8526,2,   1.85203,2,  34.5511,2,  34.5510,2,-999.0000,9,   180.50,2,   180.32,2,   99.663,   0.0135,2,    0.050,2,  -999.00,9,    0.000,2,    74.04,2,     0.13,    34.52,2,     0.05,     0.01,2,     0.01,     2.37,2,     0.01,    1.103,2,    0.581,2,    0.083,2, -999.000,9,   -999.0,9,   -999.0,9,-999.0000,     -999,9, -999.000,9, -999.000,   -999.0,9,   -999.0, -999.000,9, -999.000, -999.000,9, -999.000
  49NZ20121128,   S04,    80,  1,     28, X12J28,2,20121223,1006,-61.9860, 119.0390, 4183,    250.3,2,   1.9385,2,   1.93835,2,  34.6001,2,  34.5998,2,-999.0000,9,   177.01,2,   176.90,2,   99.707,   0.0117,2,    0.020,2,  -999.00,9,    0.000,2,    76.47,2,     0.13,    34.07,2,     0.05,     0.01,2,     0.01,     2.34,2,     0.01,    0.841,2,    0.432,2,    0.061,2, -999.000,9,   -999.0,9,   -999.0,9,-999.0000,     -999,9, -999.000,9, -999.000,   -999.0,9,   -999.0, -999.000,9, -999.000, -999.000,9, -999.000
  49NZ20121128,   S04,    80,  1,     27, X12J27,2,20121223,1006,-61.9860, 119.0390, 4183,    280.2,2,   1.9511,2,   1.95072,2,  34.6157,2,  34.6162,2,-999.0000,9,   176.87,2,   176.64,2,   99.779,   0.0088,2,    0.010,2,  -999.00,9,    0.000,2,    77.27,2,     0.13,    33.94,2,     0.05,     0.01,2,     0.01,     2.33,2,     0.01,    0.770,2,    0.396,2,    0.066,2, -999.000,9,   -999.0,9,   -999.0,9,-999.0000,     -999,9, -999.000,9, -999.000,   -999.0,9,   -999.0, -999.000,9, -999.000, -999.000,9, -999.000
  49NZ20121128,   S04,    80,  1,     26, X12J26,2,20121223,1006,-61.9860, 119.0390, 4183,    370.0,2,   1.9534,2,   1.95328,2,  34.6565,2,  34.6562,2,-999.0000,9,   178.73,2,   178.70,2,   99.828,   0.0069,2,    0.010,2,  -999.00,9,    0.000,2,    78.91,2,     0.13,    33.22,2,     0.05,     0.01,2,     0.01,     2.28,2,     0.01,    0.603,2,    0.307,2,    0.052,2, -999.000,9,   -999.0,9,   -999.0,9,-999.0000,     -999,9, -999.000,9, -999.000,   -999.0,9,   -999.0, -999.000,9, -999.000, -999.000,9, -999.000
  49NZ20121128,   S04,    80,  1,     25, X12J25,2,20121223,1006,-61.9860, 119.0390, 4183,    471.2,2,   1.9350,2,   1.93492,2,  34.6964,2,  34.6968,2,-999.0000,9,   182.28,2,   182.28,2,   99.874,   0.0050,2,    0.010,2,  -999.00,9,    0.000,2,    80.77,2,     0.13,    32.24,2,     0.05,     0.01,2,     0.01,     2.21,2,     0.01,    0.435,2,    0.217,2,    0.038,2, -999.000,9,   -999.0,9,   -999.0,9,-999.0000,     -999,9, -999.000,9, -999.000,   -999.0,9,   -999.0, -999.000,9, -999.000, -999.000,9, -999.000
  49NZ20121128,   S04,    80,  1,     24, X12J24,2,20121223,1006,-61.9860, 119.0390, 4183,    570.4,2,   1.8903,2,   1.88967,2,  34.7134,2,  34.7140,2,-999.0000,9,   185.49,2,   185.68,2,   99.887,   0.0045,2,    0.010,2,  -999.00,9,    0.000,2,    82.36,2,     0.13,    31.81,2,     0.04,     0.01,2,     0.01,     2.18,2,     0.01,    0.371,6,    0.184,6,    0.032,6, -999.000,9,   -999.0,9,   -999.0,9,-999.0000,     -999,9, -999.000,9, -999.000,   -999.0,9,   -999.0, -999.000,9, -999.000, -999.000,9, -999.000
  49NZ20121128,   S04,    80,  1,     23, X12J23,2,20121223,1006,-61.9860, 119.0390, 4183,    669.3,2,   1.8523,2,   1.85208,2,  34.7259,2,  34.7263,2,-999.0000,9,   188.11,2,   188.27,2,   99.927,   0.0029,2,    0.000,2,  -999.00,9,    0.000,2,    83.76,2,     0.13,    31.45,2,     0.04,     0.01,2,     0.01,     2.16,2,     0.01,    0.314,2,    0.153,2,    0.035,2, -999.000,9,   -999.0,9,   -999.0,9,-999.0000,     -999,9, -999.000,9, -999.000,   -999.0,9,   -999.0, -999.000,9, -999.000, -999.000,9, -999.000
  49NZ20121128,   S04,    80,  1,     22, X12J22,2,20121223,1006,-61.9860, 119.0390, 4183,    768.6,2,   1.7868,2,   1.78867,2,  34.7353,2,  34.7354,2,-999.0000,9,   191.04,2,   191.19,2,   99.916,   0.0034,2,    0.000,2,  -999.00,9,    0.000,2,    85.39,2,     0.14,    31.13,2,     0.04,     0.01,2,     0.01,     2.14,2,     0.01,    0.264,2,    0.130,2,    0.021,2, -999.000,9,   -999.0,9,   -999.0,9,-999.0000,     -999,9, -999.000,9, -999.000,   -999.0,9,   -999.0, -999.000,9, -999.000, -999.000,9, -999.000
  49NZ20121128,   S04,    80,  1,     21, X12J21,2,20121223,1006,-61.9860, 119.0390, 4183,    869.5,2,   1.7158,2,   1.71613,2,  34.7397,2,  34.7402,2,-999.0000,9,   193.75,2,   194.02,2,   99.956,   0.0018,2,    0.000,2,  -999.00,9,    0.000,2,    87.21,2,     0.14,    30.92,2,     0.04,     0.01,2,     0.01,     2.13,2,     0.01,    0.230,2,    0.111,2,    0.020,2, -999.000,9,   -999.0,9,   -999.0,9,-999.0000,     -999,9, -999.000,9, -999.000,   -999.0,9,   -999.0, -999.000,9, -999.000, -999.000,9, -999.000
  49NZ20121128,   S04,    80,  1,     20, X12J20,2,20121223,1006,-61.9860, 119.0390, 4183,    960.2,2,   1.6443,2,   1.64362,2,  34.7407,2,  34.7414,2,-999.0000,9,   195.41,2,   195.72,2,   99.958,   0.0017,2,    0.000,2,  -999.00,9,    0.000,2,    89.33,2,     0.14,    30.91,2,     0.04,     0.01,2,     0.01,     2.12,2,     0.01,    0.219,2,    0.106,2,    0.020,2, -999.000,9,   -999.0,9,   -999.0,9,-999.0000,     -999,9, -999.000,9, -999.000,   -999.0,9,   -999.0, -999.000,9, -999.000, -999.000,9, -999.000
  49NZ20121128,   S04,    80,  1,     19, X12J19,2,20121223,1006,-61.9860, 119.0390, 4183,   1169.7,2,   1.4546,2,   1.45447,2,  34.7385,2,  34.7390,2,-999.0000,9,   198.96,2,   199.21,2,   99.952,   0.0019,2,    0.000,2,  -999.00,9,    0.000,2,    94.26,2,     0.14,    30.97,2,     0.04,     0.01,2,     0.01,     2.13,2,     0.01,    0.203,6,    0.096,6,    0.018,6, -999.000,9,   -999.0,9,   -999.0,9,-999.0000,     -999,9, -999.000,9, -999.000,   -999.0,9,   -999.0, -999.000,9, -999.000, -999.000,9, -999.000
  49NZ20121128,   S04,    80,  1,     18, X12J18,2,20121223,1006,-61.9860, 119.0390, 4183,   1420.9,2,   1.2479,2,   1.24787,2,  34.7309,2,  34.7313,2,-999.0000,9,   201.78,2,   201.97,2,   99.980,   0.0008,2,    0.000,2,  -999.00,9,    0.000,2,   100.22,2,     0.15,    31.26,2,     0.04,     0.01,2,     0.01,     2.15,2,     0.01,    0.201,2,    0.093,2,    0.019,2, -999.000,9,   -999.0,9,   -999.0,9,-999.0000,     -999,9, -999.000,9, -999.000,   -999.0,9,   -999.0, -999.000,9, -999.000, -999.000,9, -999.000
  49NZ20121128,   S04,    80,  1,     17, X12J17,2,20121223,1006,-61.9860, 119.0390, 4183,   1670.3,2,   1.0204,2,   1.02026,2,  34.7198,2,  34.7200,2,-999.0000,9,   204.44,2,   204.49,2,   99.958,   0.0017,2,   -0.000,2,  -999.00,9,    0.000,2,   106.70,2,     0.15,    31.67,2,     0.04,     0.01,2,     0.01,     2.19,2,     0.01,    0.218,2,    0.102,2,    0.016,2, -999.000,9,   -999.0,9,   -999.0,9,-999.0000,     -999,9, -999.000,9, -999.000,   -999.0,9,   -999.0, -999.000,9, -999.000, -999.000,9, -999.000
  49NZ20121128,   S04,    80,  1,     16, X12J16,2,20121223,1006,-61.9860, 119.0390, 4183,   1920.1,2,   0.8476,2,   0.84791,2,  34.7100,2,  34.7105,2,-999.0000,9,   206.57,2,   206.72,2,   99.980,   0.0008,2,   -0.000,2,  -999.00,9,    0.000,2,   111.34,2,     0.16,    31.98,2,     0.04,     0.01,2,     0.01,     2.21,2,     0.01,    0.248,2,    0.116,2,    0.017,2, -999.000,9,   -999.0,9,   -999.0,9,-999.0000,     -999,9, -999.000,9, -999.000,   -999.0,9,   -999.0, -999.000,9, -999.000, -999.000,9, -999.000
  49NZ20121128,   S04,    80,  1,     15, X12J15,2,20121223,1006,-61.9860, 119.0390, 4183,   2169.5,2,   0.6584,2,   0.65823,2,  34.7000,2,  34.7005,2,-999.0000,9,   209.69,2,   209.71,2,   99.965,   0.0014,2,   -0.000,2,  -999.00,9,    0.000,2,   115.87,2,     0.16,    32.18,2,     0.05,     0.01,2,     0.01,     2.22,2,     0.01,    0.304,2,    0.142,2,    0.019,2, -999.000,9,   -999.0,9,   -999.0,9,-999.0000,     -999,9, -999.000,9, -999.000,   -999.0,9,   -999.0, -999.000,9, -999.000, -999.000,9, -999.000
  49NZ20121128,   S04,    80,  1,     14, X12J14,2,20121223,1006,-61.9860, 119.0390, 4183,   2420.8,2,   0.5039,2,   0.50374,2,  34.6923,2,  34.6928,2,-999.0000,9,   213.06,2,   213.10,2,   99.973,   0.0011,2,   -0.000,2,  -999.00,9,    0.000,2,   119.54,2,     0.17,    32.39,2,     0.05,     0.00,2,     0.01,     2.23,2,     0.01,    0.374,2,    0.175,2,    0.019,2, -999.000,9,   -999.0,9,   -999.0,9,-999.0000,     -999,9, -999.000,9, -999.000,   -999.0,9,   -999.0, -999.000,9, -999.000, -999.000,9, -999.000
  49NZ20121128,   S04,    80,  1,     13, X12J13,2,20121223,1006,-61.9860, 119.0390, 4183,   2669.5,2,   0.3694,2,   0.36889,2,  34.6862,2,  34.6863,2,-999.0000,9,   216.69,2,   216.87,2,   99.971,   0.0012,2,   -0.000,2,  -999.00,9,    0.000,2,   122.64,2,     0.17,    32.45,2,     0.05,     0.00,2,     0.01,     2.24,2,     0.01,    0.487,2,    0.231,2,    0.024,2, -999.000,9,   -999.0,9,   -999.0,9,-999.0000,     -999,9, -999.000,9, -999.000,   -999.0,9,   -999.0, -999.000,9, -999.000, -999.000,9, -999.000
  49NZ20121128,   S04,    80,  1,     12, X12J12,2,20121223,1006,-61.9860, 119.0390, 4183,   2920.2,2,   0.2493,2,   0.24930,2,  34.6811,2,  34.6816,2,-999.0000,9,   220.44,2,   220.49,2,   99.961,   0.0016,2,   -0.000,2,  -999.00,9,    0.000,2,   124.98,2,     0.17,    32.51,2,     0.05,     0.00,2,     0.01,     2.24,2,     0.01,    0.614,2,    0.298,2,    0.032,2, -999.000,9,   -999.0,9,   -999.0,9,-999.0000,     -999,9, -999.000,9, -999.000,   -999.0,9,   -999.0, -999.000,9, -999.000, -999.000,9, -999.000
  49NZ20121128,   S04,    80,  1,     11, X12J11,2,20121223,1006,-61.9860, 119.0390, 4183,   3169.5,2,   0.1718,2,   0.17181,2,  34.6775,2,  34.6779,2,-999.0000,9,   223.23,2,   223.28,2,   99.963,   0.0015,2,   -0.000,2,  -999.00,9,    0.000,2,   126.37,2,     0.17,    32.51,2,     0.05,     0.01,2,     0.01,     2.24,2,     0.01,    0.732,2,    0.354,2,    0.039,2, -999.000,9,   -999.0,9,   -999.0,9,-999.0000,     -999,9, -999.000,9, -999.000,   -999.0,9,   -999.0, -999.000,9, -999.000, -999.000,9, -999.000
  49NZ20121128,   S04,    80,  1,     10, X12J10,2,20121223,1006,-61.9860, 119.0390, 4183,   3419.3,2,   0.0930,2,   0.09311,2,  34.6733,2,  34.6735,2,-999.0000,9,   226.28,2,   226.36,2,   99.944,   0.0022,2,   -0.000,2,  -999.00,9,    0.000,2,   126.87,2,     0.17,    32.48,2,     0.05,     0.00,2,     0.01,     2.24,2,     0.01,    0.906,2,    0.433,2,    0.056,2, -999.000,9,   -999.0,9,   -999.0,9,-999.0000,     -999,9, -999.000,9, -999.000,   -999.0,9,   -999.0, -999.000,9, -999.000, -999.000,9, -999.000
  49NZ20121128,   S04,    80,  1,      9, X12J09,2,20121223,1006,-61.9860, 119.0390, 4183,   3672.1,2,   0.0263,2,   0.02634,2,  34.6690,2,  34.6692,2,-999.0000,9,   229.27,2,   229.40,2,   99.925,   0.0030,2,   -0.000,2,  -999.00,9,    0.000,2,   127.07,2,     0.17,    32.44,2,     0.05,     0.00,2,     0.01,     2.24,2,     0.01,    1.122,2,    0.550,2,    0.070,2, -999.000,9,   -999.0,9,   -999.0,9,-999.0000,     -999,9, -999.000,9, -999.000,   -999.0,9,   -999.0, -999.000,9, -999.000, -999.000,9, -999.000
  49NZ20121128,   S04,    80,  1,      8, X12J08,2,20121223,1006,-61.9860, 119.0390, 4183,   3919.6,2,  -0.0345,2,  -0.03448,2,  34.6646,2,  34.6646,2,-999.0000,9,   232.22,2,   232.36,2,   99.910,   0.0036,2,   -0.000,2,  -999.00,9,    0.000,2,   127.78,2,     0.17,    32.40,2,     0.05,     0.00,2,     0.01,     2.24,2,     0.01,    1.356,6,    0.675,6,    0.092,6, -999.000,9,   -999.0,9,   -999.0,9,-999.0000,     -999,9, -999.000,9, -999.000,   -999.0,9,   -999.0, -999.000,9, -999.000, -999.000,9, -999.000
  49NZ20121128,   S04,    80,  1,      7, X12J07,2,20121223,1006,-61.9860, 119.0390, 4183,   4170.0,2,  -0.1682,2,  -0.16857,2,  34.6502,2,  34.6509,2,-999.0000,9,   238.12,2,   238.31,2,   99.640,   0.0144,2,   -0.010,2,  -999.00,9,    0.000,2,   126.62,2,     0.17,    32.28,2,     0.05,     0.01,2,     0.01,     2.23,2,     0.01,    1.964,2,    1.016,2,    0.146,2, -999.000,9,   -999.0,9,   -999.0,9,-999.0000,     -999,9, -999.000,9, -999.000,   -999.0,9,   -999.0, -999.000,9, -999.000, -999.000,9, -999.000
  49NZ20121128,   S04,    80,  1,      1, X12J01,2,20121223,1006,-61.9860, 119.0390, 4183,   4253.3,2,  -0.1646,2,  -0.16473,2,  34.6496,2,  34.6506,2,-999.0000,9,   238.27,2,   238.27,2,   99.532,   0.0188,2,   -0.000,2,  -999.00,9,    0.000,2,   127.26,2,     0.17,    32.30,2,     0.05,     0.01,2,     0.01,     2.23,2,     0.01,    1.984,2,    1.027,2,    0.146,2, -999.000,9,   -999.0,9,   -999.0,9,-999.0000,     -999,9, -999.000,9, -999.000,   -999.0,9,   -999.0, -999.000,9, -999.000, -999.000,9, -999.000