BOTTLE,20220819CCHSIOAMB
EXPOCODE,SECT_ID,STNNBR,CASTNO,SAMPNO,BTLNBR,BTLNBR_FLAG_W,DATE,TIME,LATITUDE,LONGITUDE,DEPTH,CTDPRS,CTDPRS_FLAG_W,CTDTMP,CTDTMP_FLAG_W,SBE35,SBE35_FLAG_W,CTDSAL,CTDSAL_FLAG_W,SALNTY,SALNTY_FLAG_W,DNSSAL,DNSSAL_FLAG_W,CTDOXY,CTDOXY_FLAG_W,OXYGEN,OXYGEN_FLAG_W,CTDXMISS,CTDXMISSCP,CTDXMISS_FLAG_W,CTDFLUOR,CTDFLUOR_FLAG_W,CHLORA,CHLORA_FLAG_W,PAR,PAR_FLAG_W,SILCAT,SILCAT_FLAG_W,SILUNC,NITRAT,NITRAT_FLAG_W,NRAUNC,NITRIT,NITRIT_FLAG_W,NRIUNC,PHSPHT,PHSPHT_FLAG_W,PHPUNC,CFC-11,CFC-11_FLAG_W,CFC-12,CFC-12_FLAG_W,CFC113,CFC113_FLAG_W,SF6,SF6_FLAG_W,TCARBN,TCARBN_FLAG_W,ALKALI,ALKALI_FLAG_W,PH_TOT,PH_TMP,PH_TOT_FLAG_W,DELC13,DELC13_FLAG_W,C13ERR,DELC14,DELC14_FLAG_W,C14ERR,CS-134,CS-134_FLAG_W,CS134ER,CS-137,CS-137_FLAG_W,CS137ER
,,,,,,,,UTC,DEG,DEG,METERS,DBAR,,ITS-90,,ITS-90,,PSS-78,,PSS-78,,G/KG,,UMOL/KG,,UMOL/KG,,%TRANS,/METER,,MG/M^3,,MG/CUM,,UE/SQM/S,,UMOL/KG,,UMOL/KG,UMOL/KG,,UMOL/KG,UMOL/KG,,UMOL/KG,UMOL/KG,,UMOL/KG,PMOL/KG,,PMOL/KG,,PMOL/KG,,FMOL/KG,,UMOL/KG,,UMOL/KG,,,DEG C,,/MILLE,,/MILLE,/MILLE,,/MILLE,MBQ/KG,,MBQ/KG,MBQ/KG,,MBQ/KG
  49NZ20121128,   S04,    70,  3,     36, X12J36,2,20121220,1412,-61.9945, 132.6047, 4449,      4.5,2,   0.4064,2,   0.40709,2,  33.7658,2,  33.7649,2,-999.0000,9,   351.81,2,   351.36,2,   95.049,   0.2031,2,    0.530,2,  -999.00,9,    1.172,2,    16.27,2,     0.07,    25.04,2,     0.04,     0.25,2,     0.01,     1.61,2,     0.01,    6.029,2,    3.282,2,    0.588,2, -999.000,9,   -999.0,9,   -999.0,9,-999.0000,     -999,9, -999.000,9, -999.000,   -999.0,9,   -999.0, -999.000,9, -999.000, -999.000,9, -999.000
  49NZ20121128,   S04,    70,  3,     35, X12J35,2,20121220,1412,-61.9945, 132.6047, 4449,     24.9,2,   0.3378,2,   0.34432,2,  33.7764,2,  33.7796,2,-999.0000,9,   352.05,2,   352.04,2,   94.959,   0.2069,2,    0.590,2,  -999.00,9,    0.043,2,    16.77,2,     0.07,    25.26,2,     0.04,     0.25,2,     0.01,     1.65,2,     0.01,    6.043,2,    3.300,2,    0.590,2, -999.000,9,   -999.0,9,   -999.0,9,-999.0000,     -999,9, -999.000,9, -999.000,   -999.0,9,   -999.0, -999.000,9, -999.000, -999.000,9, -999.000
  49NZ20121128,   S04,    70,  3,     34, X12J34,2,20121220,1412,-61.9945, 132.6047, 4449,     49.2,2,  -1.0481,2,  -1.06781,2,  33.8155,2,  33.8160,2,-999.0000,9,   351.57,2,   351.44,2,   95.722,   0.1749,2,    0.690,2,  -999.00,9,    0.000,2,    26.53,2,     0.08,    27.27,2,     0.04,     0.22,2,     0.01,     1.91,2,     0.01,    6.116,2,    3.326,2,    0.590,2, -999.000,9,   -999.0,9,   -999.0,9,-999.0000,     -999,9, -999.000,9, -999.000,   -999.0,9,   -999.0, -999.000,9, -999.000, -999.000,9, -999.000
  49NZ20121128,   S04,    70,  3,     33, X12J33,2,20121220,1412,-61.9945, 132.6047, 4449,     74.7,2,  -1.5752,2,  -1.57595,2,  33.8731,2,  33.8746,2,-999.0000,9,   339.31,2,   338.37,2,   98.365,   0.0659,2,    0.300,2,  -999.00,9,    0.000,2,    35.12,2,     0.09,    29.01,2,     0.04,     0.23,2,     0.01,     2.04,2,     0.01,    5.852,2,    3.176,2,    0.534,2, -999.000,9,   -999.0,9,   -999.0,9,-999.0000,     -999,9, -999.000,9, -999.000,   -999.0,9,   -999.0, -999.000,9, -999.000, -999.000,9, -999.000
  49NZ20121128,   S04,    70,  3,     32, X12J32,2,20121220,1412,-61.9945, 132.6047, 4449,    100.3,2,  -1.5969,2,  -1.59729,2,  33.8980,2,  33.8978,2,-999.0000,9,   335.69,2,   335.09,2,   99.344,   0.0263,2,    0.180,2,  -999.00,9,    0.000,2,    37.06,2,     0.09,    29.32,2,     0.04,     0.24,2,     0.01,     2.04,2,     0.01,    5.775,2,    3.136,2,    0.513,2, -999.000,9,   -999.0,9,   -999.0,9,-999.0000,     -999,9, -999.000,9, -999.000,   -999.0,9,   -999.0, -999.000,9, -999.000, -999.000,9, -999.000
  49NZ20121128,   S04,    70,  3,     31, X12J31,2,20121220,1412,-61.9945, 132.6047, 4449,    125.4,2,  -1.5949,2,  -1.59691,2,  33.9256,2,  33.9263,2,-999.0000,9,   331.96,2,   330.46,2,   99.636,   0.0146,2,    0.120,2,  -999.00,9,    0.000,2,    39.11,2,     0.09,    29.62,2,     0.04,     0.24,2,     0.01,     2.06,2,     0.01,    5.651,2,    3.057,2,    0.510,2, -999.000,9,   -999.0,9,   -999.0,9,-999.0000,     -999,9, -999.000,9, -999.000,   -999.0,9,   -999.0, -999.000,9, -999.000, -999.000,9, -999.000
  49NZ20121128,   S04,    70,  3,     30, X12J30,2,20121220,1412,-61.9945, 132.6047, 4449,    150.2,2,  -1.4183,2,  -1.44309,2,  33.9716,2,-999.0000,5,-999.0000,9,   322.79,2,   321.92,2,   99.670,   0.0132,2,    0.080,2,  -999.00,9,    0.000,2,    41.43,2,     0.10,    30.09,2,     0.04,     0.23,2,     0.01,     2.08,2,     0.01,    5.432,2,    2.941,2,    0.485,2, -999.000,9,   -999.0,9,   -999.0,9,-999.0000,     -999,9, -999.000,9, -999.000,   -999.0,9,   -999.0, -999.000,9, -999.000, -999.000,9, -999.000
  49NZ20121128,   S04,    70,  3,     29, X12J29,2,20121220,1412,-61.9945, 132.6047, 4449,    202.6,2,   1.0169,2,   1.02859,2,  34.2583,2,  34.2594,2,-999.0000,9,   231.91,2,   233.77,2,   99.720,   0.0112,2,    0.050,2,  -999.00,9,    0.000,2,    54.22,2,     0.11,    33.77,2,     0.05,     0.03,2,     0.01,     2.31,2,     0.01,    3.052,2,    1.629,2,    0.243,2, -999.000,9,   -999.0,9,   -999.0,9,-999.0000,     -999,9, -999.000,9, -999.000,   -999.0,9,   -999.0, -999.000,9, -999.000, -999.000,9, -999.000
  49NZ20121128,   S04,    70,  3,     28, X12J28,2,20121220,1412,-61.9945, 132.6047, 4449,    249.7,2,   2.0989,2,   2.09816,2,  34.4304,2,  34.4320,2,-999.0000,9,   187.69,2,   187.37,2,   99.670,   0.0132,2,    0.030,2,  -999.00,9,    0.000,2,    64.53,2,     0.12,    35.22,2,     0.05,     0.02,2,     0.01,     2.40,2,     0.01,    1.631,2,    0.856,2,    0.130,2, -999.000,9,   -999.0,9,   -999.0,9,-999.0000,     -999,9, -999.000,9, -999.000,   -999.0,9,   -999.0, -999.000,9, -999.000, -999.000,9, -999.000
  49NZ20121128,   S04,    70,  3,     27, X12J27,2,20121220,1412,-61.9945, 132.6047, 4449,    329.9,2,   2.2466,2,   2.24640,2,  34.5298,2,  34.5296,2,-999.0000,9,   175.29,2,   174.87,2,   99.695,   0.0122,2,    0.030,2,  -999.00,9,    0.000,2,    70.24,2,     0.12,    34.91,2,     0.05,     0.01,2,     0.01,     2.39,2,     0.01,    0.996,2,    0.511,2,    0.079,2, -999.000,9,   -999.0,9,   -999.0,9,-999.0000,     -999,9, -999.000,9, -999.000,   -999.0,9,   -999.0, -999.000,9, -999.000, -999.000,9, -999.000
  49NZ20121128,   S04,    70,  3,     26, X12J26,2,20121220,1412,-61.9945, 132.6047, 4449,    431.5,2,   2.2171,2,   2.21753,2,  34.5963,2,  34.5966,2,-999.0000,9,   174.54,2,   174.05,2,   99.789,   0.0084,2,    0.010,2,  -999.00,9,    0.000,2,    73.61,2,     0.12,    34.09,2,     0.05,     0.01,2,     0.01,     2.34,2,     0.01,    0.698,2,    0.355,2,    0.061,2, -999.000,9,   -999.0,9,   -999.0,9,-999.0000,     -999,9, -999.000,9, -999.000,   -999.0,9,   -999.0, -999.000,9, -999.000, -999.000,9, -999.000
  49NZ20121128,   S04,    70,  3,     25, X12J25,2,20121220,1412,-61.9945, 132.6047, 4449,    530.6,2,   2.1334,2,   2.13379,2,  34.6380,2,  34.6385,2,-999.0000,9,   176.95,2,   176.65,2,   99.808,   0.0077,2,    0.010,2,  -999.00,9,    0.000,2,    76.05,2,     0.13,    33.39,2,     0.05,     0.01,2,     0.01,     2.28,2,     0.01,    0.576,2,    0.292,2,    0.052,2, -999.000,9,   -999.0,9,   -999.0,9,-999.0000,     -999,9, -999.000,9, -999.000,   -999.0,9,   -999.0, -999.000,9, -999.000, -999.000,9, -999.000
  49NZ20121128,   S04,    70,  3,     24, X12J24,2,20121220,1412,-61.9945, 132.6047, 4449,    630.4,2,   2.0901,2,   2.08980,2,  34.6757,2,  34.6748,2,-999.0000,9,   179.97,2,   179.55,2,   99.815,   0.0074,2,    0.010,2,  -999.00,9,    0.000,2,    77.88,2,     0.13,    32.68,2,     0.05,     0.01,2,     0.01,     2.24,2,     0.01,    0.453,6,    0.226,6,    0.040,6, -999.000,9,   -999.0,9,   -999.0,9,-999.0000,     -999,9, -999.000,9, -999.000,   -999.0,9,   -999.0, -999.000,9, -999.000, -999.000,9, -999.000
  49NZ20121128,   S04,    70,  3,     23, X12J23,2,20121220,1412,-61.9945, 132.6047, 4449,    731.3,2,   2.0455,2,   2.04547,2,  34.6991,2,  34.6995,2,-999.0000,9,   182.87,2,   182.65,2,   99.888,   0.0045,2,    0.000,2,  -999.00,9,    0.000,2,    79.28,2,     0.13,    32.14,2,     0.05,     0.01,2,     0.01,     2.20,2,     0.01,    0.371,2,    0.184,2,    0.030,2, -999.000,9,   -999.0,9,   -999.0,9,-999.0000,     -999,9, -999.000,9, -999.000,   -999.0,9,   -999.0, -999.000,9, -999.000, -999.000,9, -999.000
  49NZ20121128,   S04,    70,  3,     22, X12J22,2,20121220,1412,-61.9945, 132.6047, 4449,    832.3,2,   2.0107,2,   2.01043,2,  34.7184,2,  34.7190,2,-999.0000,9,   186.19,2,   186.19,2,   99.876,   0.0050,2,    0.010,2,  -999.00,9,    0.000,2,    80.63,2,     0.13,    31.58,2,     0.04,     0.01,2,     0.01,     2.16,2,     0.01,    0.291,2,    0.143,2,    0.030,2, -999.000,9,   -999.0,9,   -999.0,9,-999.0000,     -999,9, -999.000,9, -999.000,   -999.0,9,   -999.0, -999.000,9, -999.000, -999.000,9, -999.000
  49NZ20121128,   S04,    70,  3,     21, X12J21,2,20121220,1412,-61.9945, 132.6047, 4449,    930.6,2,   1.9471,2,   1.94689,2,  34.7270,2,  34.7278,2,-999.0000,9,   188.50,2,   188.14,2,   99.911,   0.0036,2,    0.000,2,  -999.00,9,    0.000,2,    82.22,2,     0.13,    31.37,2,     0.04,     0.01,2,     0.01,     2.15,2,     0.01,    0.266,2,    0.131,2,    0.027,2, -999.000,9,   -999.0,9,   -999.0,9,-999.0000,     -999,9, -999.000,9, -999.000,   -999.0,9,   -999.0, -999.000,9, -999.000, -999.000,9, -999.000
  49NZ20121128,   S04,    70,  3,     20, X12J20,2,20121220,1412,-61.9945, 132.6047, 4449,   1080.9,2,   1.8259,2,   1.82638,2,  34.7408,2,  34.7411,2,-999.0000,9,   193.19,2,   192.97,2,   99.928,   0.0029,2,    0.000,2,  -999.00,9,    0.000,2,    85.28,2,     0.14,    30.91,2,     0.04,     0.01,2,     0.01,     2.12,2,     0.01,    0.206,2,    0.099,2,    0.019,2, -999.000,9,   -999.0,9,   -999.0,9,-999.0000,     -999,9, -999.000,9, -999.000,   -999.0,9,   -999.0, -999.000,9, -999.000, -999.000,9, -999.000
  49NZ20121128,   S04,    70,  3,     19, X12J19,2,20121220,1412,-61.9945, 132.6047, 4449,   1329.5,2,   1.5943,2,   1.59437,2,  34.7421,2,  34.7421,2,-999.0000,9,   197.88,2,   197.85,2,   99.943,   0.0023,2,    0.000,2,  -999.00,9,    0.000,2,    91.29,2,     0.14,    30.88,2,     0.04,     0.01,2,     0.01,     2.12,2,     0.01,    0.191,6,    0.092,6,    0.019,6, -999.000,9,   -999.0,9,   -999.0,9,-999.0000,     -999,9, -999.000,9, -999.000,   -999.0,9,   -999.0, -999.000,9, -999.000, -999.000,9, -999.000
  49NZ20121128,   S04,    70,  3,     18, X12J18,2,20121220,1412,-61.9945, 132.6047, 4449,   1579.6,2,   1.3790,2,   1.37897,2,  34.7363,2,  34.7366,2,-999.0000,9,   201.07,2,   200.83,2,   99.960,   0.0016,2,    0.000,2,  -999.00,9,    0.000,2,    97.60,2,     0.15,    31.08,2,     0.04,     0.01,2,     0.01,     2.13,2,     0.01,    0.170,2,    0.077,2,    0.021,2, -999.000,9,   -999.0,9,   -999.0,9,-999.0000,     -999,9, -999.000,9, -999.000,   -999.0,9,   -999.0, -999.000,9, -999.000, -999.000,9, -999.000
  49NZ20121128,   S04,    70,  3,     17, X12J17,2,20121220,1412,-61.9945, 132.6047, 4449,   1830.0,2,   1.1740,2,   1.17405,2,  34.7271,2,  34.7272,2,-999.0000,9,   203.57,2,   203.28,2,   99.962,   0.0015,2,   -0.000,2,  -999.00,9,    0.000,2,   103.64,2,     0.15,    31.46,2,     0.04,     0.01,2,     0.01,     2.16,2,     0.01,    0.177,2,    0.081,2,    0.020,2, -999.000,9,   -999.0,9,   -999.0,9,-999.0000,     -999,9, -999.000,9, -999.000,   -999.0,9,   -999.0, -999.000,9, -999.000, -999.000,9, -999.000
  49NZ20121128,   S04,    70,  3,     16, X12J16,2,20121220,1412,-61.9945, 132.6047, 4449,   2079.6,2,   0.9924,2,   0.99236,2,  34.7177,2,  34.7177,2,-999.0000,9,   205.73,2,   205.53,2,   99.995,   0.0002,2,   -0.000,2,  -999.00,9,    0.000,2,   108.70,2,     0.16,    31.79,2,     0.04,     0.01,2,     0.01,     2.19,2,     0.01,    0.208,2,    0.094,2,    0.018,2, -999.000,9,   -999.0,9,   -999.0,9,-999.0000,     -999,9, -999.000,9, -999.000,   -999.0,9,   -999.0, -999.000,9, -999.000, -999.000,9, -999.000
  49NZ20121128,   S04,    70,  3,     15, X12J15,2,20121220,1412,-61.9945, 132.6047, 4449,   2331.2,2,   0.7913,2,   0.79121,2,  34.7069,2,  34.7071,2,-999.0000,9,   208.62,2,   208.38,2,   99.972,   0.0011,2,   -0.000,2,  -999.00,9,    0.000,2,   113.80,2,     0.16,    32.10,2,     0.05,     0.01,2,     0.01,     2.20,2,     0.01,    0.264,2,    0.123,2,    0.023,2, -999.000,9,   -999.0,9,   -999.0,9,-999.0000,     -999,9, -999.000,9, -999.000,   -999.0,9,   -999.0, -999.000,9, -999.000, -999.000,9, -999.000
  49NZ20121128,   S04,    70,  3,     14, X12J14,2,20121220,1412,-61.9945, 132.6047, 4449,   2580.2,2,   0.5945,2,   0.59472,2,  34.6965,2,  34.6963,2,-999.0000,9,   212.24,2,   211.85,2,   99.976,   0.0010,2,   -0.000,2,  -999.00,9,    0.000,2,   118.57,2,     0.17,    32.37,2,     0.05,     0.01,2,     0.01,     2.23,2,     0.01,    0.344,2,    0.163,2,    0.026,2, -999.000,9,   -999.0,9,   -999.0,9,-999.0000,     -999,9, -999.000,9, -999.000,   -999.0,9,   -999.0, -999.000,9, -999.000, -999.000,9, -999.000
  49NZ20121128,   S04,    70,  3,     13, X12J13,2,20121220,1412,-61.9945, 132.6047, 4449,   2830.0,2,   0.4400,2,   0.44013,2,  34.6896,2,  34.6894,2,-999.0000,9,   216.00,2,   215.48,2,   99.951,   0.0020,2,   -0.000,2,  -999.00,9,    0.000,2,   122.19,2,     0.17,    32.50,2,     0.05,     0.01,2,     0.01,     2.24,2,     0.01,    0.435,2,    0.208,2,    0.033,2, -999.000,9,   -999.0,9,   -999.0,9,-999.0000,     -999,9, -999.000,9, -999.000,   -999.0,9,   -999.0, -999.000,9, -999.000, -999.000,9, -999.000
  49NZ20121128,   S04,    70,  3,     12, X12J12,2,20121220,1412,-61.9945, 132.6047, 4449,   3080.0,2,   0.3233,2,   0.32337,2,  34.6842,2,  34.6838,2,-999.0000,9,   219.40,2,   218.85,2,   99.947,   0.0021,2,   -0.000,2,  -999.00,9,    0.000,2,   125.09,2,     0.17,    32.57,2,     0.05,     0.01,2,     0.01,     2.24,2,     0.01,    0.557,2,    0.266,2,    0.033,2, -999.000,9,   -999.0,9,   -999.0,9,-999.0000,     -999,9, -999.000,9, -999.000,   -999.0,9,   -999.0, -999.000,9, -999.000, -999.000,9, -999.000
  49NZ20121128,   S04,    70,  3,     11, X12J11,2,20121220,1412,-61.9945, 132.6047, 4449,   3330.2,2,   0.2431,2,   0.24320,2,  34.6807,2,  34.6804,2,-999.0000,9,   222.01,2,   221.53,2,   99.953,   0.0019,2,   -0.010,2,  -999.00,9,    0.000,2,   127.73,2,     0.17,    32.60,2,     0.05,     0.01,2,     0.01,     2.25,2,     0.01,    0.653,2,    0.314,2,    0.039,2, -999.000,9,   -999.0,9,   -999.0,9,-999.0000,     -999,9, -999.000,9, -999.000,   -999.0,9,   -999.0, -999.000,9, -999.000, -999.000,9, -999.000
  49NZ20121128,   S04,    70,  3,     10, X12J10,2,20121220,1412,-61.9945, 132.6047, 4449,   3580.3,2,   0.1633,2,   0.16340,2,  34.6763,2,  34.6764,2,-999.0000,9,   224.96,2,   224.34,2,   99.941,   0.0024,2,   -0.010,2,  -999.00,9,    0.000,2,   128.54,2,     0.17,    32.63,2,     0.05,     0.01,2,     0.01,     2.25,2,     0.01,    0.798,2,    0.384,2,    0.048,2, -999.000,9,   -999.0,9,   -999.0,9,-999.0000,     -999,9, -999.000,9, -999.000,   -999.0,9,   -999.0, -999.000,9, -999.000, -999.000,9, -999.000
  49NZ20121128,   S04,    70,  3,      9, X12J09,2,20121220,1412,-61.9945, 132.6047, 4449,   3832.0,2,   0.0988,2,   0.09889,2,  34.6722,2,  34.6722,2,-999.0000,9,   227.81,2,   227.42,2,   99.941,   0.0024,2,   -0.000,2,  -999.00,9,    0.000,2,   127.87,2,     0.17,    32.57,2,     0.05,     0.01,2,     0.01,     2.24,2,     0.01,    0.977,2,    0.476,2,    0.055,2, -999.000,9,   -999.0,9,   -999.0,9,-999.0000,     -999,9, -999.000,9, -999.000,   -999.0,9,   -999.0, -999.000,9, -999.000, -999.000,9, -999.000
  49NZ20121128,   S04,    70,  3,      8, X12J08,2,20121220,1412,-61.9945, 132.6047, 4449,   4080.3,2,   0.0210,2,   0.02104,2,  34.6666,2,  34.6669,2,-999.0000,9,   231.45,2,   231.05,2,   99.924,   0.0030,2,   -0.010,2,  -999.00,9,    0.000,2,   125.94,2,     0.17,    32.49,2,     0.05,     0.01,2,     0.01,     2.24,2,     0.01,    1.250,6,    0.622,6,    0.081,6, -999.000,9,   -999.0,9,   -999.0,9,-999.0000,     -999,9, -999.000,9, -999.000,   -999.0,9,   -999.0, -999.000,9, -999.000, -999.000,9, -999.000
  49NZ20121128,   S04,    70,  3,      7, X12J07,2,20121220,1412,-61.9945, 132.6047, 4449,   4331.0,2,  -0.0659,2,  -0.06594,2,  34.6581,2,  34.6582,2,-999.0000,9,   235.63,2,   235.43,2,   99.850,   0.0060,2,   -0.000,2,  -999.00,9,    0.000,2,   123.65,2,     0.17,    32.39,2,     0.05,     0.01,2,     0.01,     2.24,2,     0.01,    1.666,2,    0.845,2,    0.112,2, -999.000,9,   -999.0,9,   -999.0,9,-999.0000,     -999,9, -999.000,9, -999.000,   -999.0,9,   -999.0, -999.000,9, -999.000, -999.000,9, -999.000
  49NZ20121128,   S04,    70,  3,      6, X12J06,2,20121220,1412,-61.9945, 132.6047, 4449,    202.6,2,   1.0705,2,   1.06630,2,  34.2641,2,-999.0000,9,-999.0000,9,   231.21,2,  -999.00,9,   99.661,   0.0136,2,    0.040,2,  -999.00,9,    0.000,2,  -999.00,9,  -999.00,  -999.00,9,  -999.00,  -999.00,9,  -999.00,  -999.00,9,  -999.00, -999.000,9, -999.000,9, -999.000,9, -999.000,9,   -999.0,9,   -999.0,9,-999.0000,     -999,9, -999.000,9, -999.000,   -999.0,9,   -999.0, -999.000,9, -999.000, -999.000,9, -999.000
  49NZ20121128,   S04,    70,  3,      5, X12J05,2,20121220,1412,-61.9945, 132.6047, 4449,    202.9,2,   1.0785,2,   1.08232,2,  34.2672,2,-999.0000,9,-999.0000,9,   230.88,2,  -999.00,9,   99.705,   0.0118,2,    0.060,2,  -999.00,9,    0.000,2,  -999.00,9,  -999.00,  -999.00,9,  -999.00,  -999.00,9,  -999.00,  -999.00,9,  -999.00, -999.000,9, -999.000,9, -999.000,9, -999.000,9,   -999.0,9,   -999.0,9,-999.0000,     -999,9, -999.000,9, -999.000,   -999.0,9,   -999.0, -999.000,1, -999.000, -999.000,1, -999.000
  49NZ20121128,   S04,    70,  3,      4, X12J04,2,20121220,1412,-61.9945, 132.6047, 4449,    203.1,2,   1.1307,2,   1.12038,2,  34.2725,2,-999.0000,9,-999.0000,9,   230.27,2,  -999.00,9,   99.731,   0.0108,2,    0.070,2,  -999.00,9,    0.000,2,  -999.00,9,  -999.00,  -999.00,9,  -999.00,  -999.00,9,  -999.00,  -999.00,9,  -999.00, -999.000,9, -999.000,9, -999.000,9, -999.000,9,   -999.0,9,   -999.0,9,-999.0000,     -999,9, -999.000,9, -999.000,   -999.0,9,   -999.0, -999.000,1, -999.000, -999.000,1, -999.000
  49NZ20121128,   S04,    70,  3,      3, X12J03,2,20121220,1412,-61.9945, 132.6047, 4449,    203.0,2,   1.1426,2,   1.14008,2,  34.2737,2,-999.0000,9,-999.0000,9,   229.87,2,  -999.00,9,   99.739,   0.0105,2,    0.040,2,  -999.00,9,    0.000,2,  -999.00,9,  -999.00,  -999.00,9,  -999.00,  -999.00,9,  -999.00,  -999.00,9,  -999.00, -999.000,9, -999.000,9, -999.000,9, -999.000,9,   -999.0,9,   -999.0,9,-999.0000,     -999,9, -999.000,9, -999.000,   -999.0,9,   -999.0, -999.000,1, -999.000, -999.000,1, -999.000
  49NZ20121128,   S04,    70,  3,      2, X12J02,2,20121220,1412,-61.9945, 132.6047, 4449,    203.3,2,   1.1759,2,   1.13793,2,  34.2755,2,-999.0000,9,-999.0000,9,   229.25,2,  -999.00,9,   99.726,   0.0110,2,    0.040,2,  -999.00,9,    0.000,2,  -999.00,9,  -999.00,  -999.00,9,  -999.00,  -999.00,9,  -999.00,  -999.00,9,  -999.00, -999.000,9, -999.000,9, -999.000,9, -999.000,9,   -999.0,9,   -999.0,9,-999.0000,     -999,9, -999.000,9, -999.000,   -999.0,9,   -999.0, -999.000,1, -999.000, -999.000,1, -999.000
  49NZ20121128,   S04,    70,  3,      1, X12J01,2,20121220,1412,-61.9945, 132.6047, 4449,   4529.0,2,  -0.1410,2,  -0.14099,2,  34.6492,2,  34.6495,2,-999.0000,9,   238.99,2,   238.68,2,   99.504,   0.0199,2,   -0.000,2,  -999.00,9,    0.000,2,   125.89,2,     0.17,    32.34,2,     0.05,     0.01,2,     0.01,     2.23,2,     0.01,    2.023,2,    1.046,2,    0.150,2, -999.000,9,   -999.0,9,   -999.0,9,-999.0000,     -999,9, -999.000,9, -999.000,   -999.0,9,   -999.0, -999.000,9, -999.000, -999.000,9, -999.000