BOTTLE,20220819CCHSIOAMB
EXPOCODE,SECT_ID,STNNBR,CASTNO,SAMPNO,BTLNBR,BTLNBR_FLAG_W,DATE,TIME,LATITUDE,LONGITUDE,DEPTH,CTDPRS,CTDPRS_FLAG_W,CTDTMP,CTDTMP_FLAG_W,SBE35,SBE35_FLAG_W,CTDSAL,CTDSAL_FLAG_W,SALNTY,SALNTY_FLAG_W,DNSSAL,DNSSAL_FLAG_W,CTDOXY,CTDOXY_FLAG_W,OXYGEN,OXYGEN_FLAG_W,CTDXMISS,CTDXMISSCP,CTDXMISS_FLAG_W,CTDFLUOR,CTDFLUOR_FLAG_W,CHLORA,CHLORA_FLAG_W,PAR,PAR_FLAG_W,SILCAT,SILCAT_FLAG_W,SILUNC,NITRAT,NITRAT_FLAG_W,NRAUNC,NITRIT,NITRIT_FLAG_W,NRIUNC,PHSPHT,PHSPHT_FLAG_W,PHPUNC,CFC-11,CFC-11_FLAG_W,CFC-12,CFC-12_FLAG_W,CFC113,CFC113_FLAG_W,SF6,SF6_FLAG_W,TCARBN,TCARBN_FLAG_W,ALKALI,ALKALI_FLAG_W,PH_TOT,PH_TMP,PH_TOT_FLAG_W,DELC13,DELC13_FLAG_W,C13ERR,DELC14,DELC14_FLAG_W,C14ERR,CS-134,CS-134_FLAG_W,CS134ER,CS-137,CS-137_FLAG_W,CS137ER
,,,,,,,,UTC,DEG,DEG,METERS,DBAR,,ITS-90,,ITS-90,,PSS-78,,PSS-78,,G/KG,,UMOL/KG,,UMOL/KG,,%TRANS,/METER,,MG/M^3,,MG/CUM,,UE/SQM/S,,UMOL/KG,,UMOL/KG,UMOL/KG,,UMOL/KG,UMOL/KG,,UMOL/KG,UMOL/KG,,UMOL/KG,PMOL/KG,,PMOL/KG,,PMOL/KG,,FMOL/KG,,UMOL/KG,,UMOL/KG,,,DEG C,,/MILLE,,/MILLE,/MILLE,,/MILLE,MBQ/KG,,MBQ/KG,MBQ/KG,,MBQ/KG
  49NZ20121128,  P14S,    14,  1,     36, X12J36,2,20121206,1833,-58.5035, 173.9782, 5015,      5.6,2,   5.6738,2,   5.67386,2,  34.0824,2,  34.0824,2,-999.0000,9,   304.44,2,   304.55,2,   97.153,   0.1155,2,    0.370,2,  -999.00,9,   72.834,2,     4.67,2,     0.06,    20.17,2,     0.03,     0.18,2,     0.01,     1.42,2,     0.01,    4.324,2,    2.457,2,    0.386,2,    2.278,2,   2119.9,2,   2278.3,2,   7.7729,       25,6, -999.000,9, -999.000,   -999.0,9,   -999.0, -999.000,9, -999.000, -999.000,9, -999.000
  49NZ20121128,  P14S,    14,  1,     35, X12J35,2,20121206,1833,-58.5035, 173.9782, 5015,     25.3,2,   5.6740,2,   5.67403,2,  34.0824,2,  34.0826,2,-999.0000,9,   304.23,2,   304.77,2,   97.088,   0.1182,2,    0.420,2,  -999.00,9,   20.786,2,     4.67,2,     0.06,    20.19,2,     0.03,     0.18,2,     0.01,     1.42,2,     0.01,    4.338,2,    2.453,2,    0.387,2,    2.254,2,   2121.5,2,   2277.0,2,   7.7728,       25,2, -999.000,9, -999.000,   -999.0,9,   -999.0, -999.000,9, -999.000, -999.000,9, -999.000
  49NZ20121128,  P14S,    14,  1,     34, X12J34,2,20121206,1833,-58.5035, 173.9782, 5015,     51.2,2,   5.6742,2,   5.67440,2,  34.0826,2,  34.0825,2,-999.0000,9,   304.19,2,   304.67,2,   97.149,   0.1157,2,    0.460,2,  -999.00,9,   15.551,2,     4.66,2,     0.06,    20.20,2,     0.03,     0.18,2,     0.01,     1.42,2,     0.01,    4.354,6,    2.483,6,    0.393,6,    2.301,6,   2121.0,2,   2276.6,2,   7.7726,       25,2, -999.000,9, -999.000,   -999.0,9,   -999.0, -999.000,9, -999.000, -999.000,9, -999.000
  49NZ20121128,  P14S,    14,  1,     33, X12J33,2,20121206,1833,-58.5035, 173.9782, 5015,     75.3,2,   5.5762,2,   5.58241,2,  34.0838,2,  34.0829,2,-999.0000,9,   303.67,2,   304.19,2,   97.481,   0.1021,2,    0.440,2,  -999.00,9,    5.322,2,     4.81,2,     0.06,    20.31,2,     0.03,     0.18,2,     0.01,     1.43,2,     0.01,    4.371,2,    2.507,2,    0.396,2,    2.360,2,   2120.8,6,   2273.2,2,   7.7710,       25,2, -999.000,9, -999.000,   -999.0,9,   -999.0, -999.000,9, -999.000, -999.000,9, -999.000
  49NZ20121128,  P14S,    14,  1,     32, X12J32,2,20121206,1833,-58.5035, 173.9782, 5015,    101.1,2,   5.3732,2,   5.37137,2,  34.1090,2,  34.1099,2,-999.0000,9,   297.21,2,   297.65,2,   98.712,   0.0519,2,    0.270,2,  -999.00,9,    1.725,2,     6.41,2,     0.06,    21.24,2,     0.03,     0.18,2,     0.01,     1.52,2,     0.01,    4.346,2,    2.492,2,    0.389,2,    2.296,2,   2131.9,2,   2278.1,6,   7.7512,       25,2, -999.000,9, -999.000,   -999.0,9,   -999.0, -999.000,9, -999.000, -999.000,9, -999.000
  49NZ20121128,  P14S,    14,  1,     31, X12J31,2,20121206,1833,-58.5035, 173.9782, 5015,    125.0,2,   5.0055,2,   5.00953,2,  34.0685,2,  34.0689,2,-999.0000,9,   298.95,2,   299.04,2,   99.174,   0.0332,2,    0.190,2,  -999.00,9,    0.640,2,     7.04,2,     0.06,    22.04,2,     0.03,     0.19,2,     0.01,     1.57,2,     0.01,    4.438,2,    2.534,2,    0.397,2,    2.392,2,   2132.8,2,   2276.4,2,   7.7429,       25,2, -999.000,9, -999.000,   -999.0,9,   -999.0, -999.000,9, -999.000, -999.000,9, -999.000
  49NZ20121128,  P14S,    14,  1,     30, X12J30,2,20121206,1833,-58.5035, 173.9782, 5015,    150.2,2,   4.7660,2,   4.76591,2,  34.0470,2,  34.0472,2,-999.0000,9,   297.99,2,   297.96,2,   99.441,   0.0224,2,    0.140,2,  -999.00,9,    0.256,2,     7.83,2,     0.07,    22.81,2,     0.03,     0.19,2,     0.01,     1.62,2,     0.01,    4.481,2,    2.565,2,    0.406,2,    2.288,2,   2134.3,2,   2275.8,2,   7.7350,       25,6, -999.000,9, -999.000,   -999.0,9,   -999.0, -999.000,9, -999.000, -999.000,9, -999.000
  49NZ20121128,  P14S,    14,  1,     29, X12J29,2,20121206,1833,-58.5035, 173.9782, 5015,    200.6,2,   5.4156,2,   5.41476,2,  34.1739,2,  34.1739,2,-999.0000,9,   292.63,2,   293.00,2,   99.736,   0.0106,2,    0.060,2,  -999.00,9,    0.027,2,     7.08,2,     0.06,    21.69,2,     0.03,     0.12,2,     0.01,     1.53,2,     0.01,    4.259,2,    2.450,2,    0.381,2,    2.198,2,   2133.3,2,   2278.5,2,   7.7458,       25,2, -999.000,9, -999.000,   -999.0,9,   -999.0, -999.000,9, -999.000, -999.000,9, -999.000
  49NZ20121128,  P14S,    14,  1,     28, X12J28,2,20121206,1833,-58.5035, 173.9782, 5015,    251.5,2,   4.6554,2,   4.65628,2,  34.0828,2,  34.0932,2,-999.0000,9,   286.69,2,   287.12,2,   99.751,   0.0100,2,    0.040,2,  -999.00,9,    0.000,2,     9.66,2,     0.07,    23.89,2,     0.04,     0.14,2,     0.01,     1.67,2,     0.01,    4.344,2,    2.459,2,    0.381,2,    2.161,2,   2141.3,2,   2277.9,2,   7.7204,       25,2, -999.000,9, -999.000,   -999.0,9,   -999.0, -999.000,9, -999.000, -999.000,9, -999.000
  49NZ20121128,  P14S,    14,  1,     27, X12J27,2,20121206,1833,-58.5035, 173.9782, 5015,    330.3,2,   4.4560,2,   4.44021,2,  34.1223,2,  34.1207,2,-999.0000,9,   266.55,2,   268.14,2,   99.759,   0.0097,2,    0.020,2,  -999.00,9,    0.000,2,    14.27,2,     0.07,    26.25,2,     0.04,     0.08,2,     0.01,     1.82,2,     0.01,    4.145,2,    2.307,2,    0.342,2,    1.846,2,   2156.2,2,   2278.9,2,   7.6889,       25,2, -999.000,9, -999.000,   -999.0,9,   -999.0, -999.000,9, -999.000, -999.000,9, -999.000
  49NZ20121128,  P14S,    14,  1,     26, X12J26,2,20121206,1833,-58.5035, 173.9782, 5015,    431.7,2,   4.6592,2,   4.65610,2,  34.2264,2,  34.2223,2,-999.0000,9,   236.30,2,   237.47,2,   99.847,   0.0061,2,    0.000,2,  -999.00,9,    0.000,2,    19.67,2,     0.08,    28.16,2,     0.04,     0.02,2,     0.01,     1.93,2,     0.01,    3.537,2,    1.920,2,    0.260,2,    1.336,2,   2175.2,2,   2284.1,2,   7.6569,       25,2, -999.000,9, -999.000,   -999.0,9,   -999.0, -999.000,9, -999.000, -999.000,9, -999.000
  49NZ20121128,  P14S,    14,  1,     25, X12J25,2,20121206,1833,-58.5035, 173.9782, 5015,    533.1,2,   3.7092,2,   3.71245,2,  34.1929,2,  34.1955,2,-999.0000,9,   238.97,2,   239.23,2,   99.845,   0.0062,2,   -0.000,2,  -999.00,9,    0.000,2,    25.64,2,     0.08,    29.99,2,     0.04,     0.01,2,     0.01,     2.05,2,     0.01,    3.528,2,    1.905,2,    0.273,2,    1.349,2,   2184.8,2,   2288.2,2,   7.6365,       25,2, -999.000,9, -999.000,   -999.0,9,   -999.0, -999.000,9, -999.000, -999.000,9, -999.000
  49NZ20121128,  P14S,    14,  1,     24, X12J24,2,20121206,1833,-58.5035, 173.9782, 5015,    631.1,2,   3.5818,2,   3.58167,2,  34.2738,2,  34.2735,2,-999.0000,9,   217.75,2,   218.71,2,   99.901,   0.0040,2,   -0.000,2,  -999.00,9,    0.000,2,    34.14,2,     0.09,    31.52,2,     0.04,     0.01,2,     0.01,     2.16,2,     0.01,    2.753,6,    1.456,6,    0.200,6,    0.876,6,   2201.3,2,   2297.1,2,   7.6147,       25,2, -999.000,9, -999.000,   -999.0,9,   -999.0, -999.000,9, -999.000, -999.000,9, -999.000
  49NZ20121128,  P14S,    14,  1,     23, X12J23,2,20121206,1833,-58.5035, 173.9782, 5015,    730.6,2,   2.8206,2,   2.81996,2,  34.2655,2,  34.2604,2,-999.0000,9,   218.85,2,   220.97,2,   99.851,   0.0060,2,   -0.000,2,  -999.00,9,    0.000,2,    40.84,2,     0.10,    32.85,2,     0.05,     0.01,2,     0.01,     2.25,2,     0.01,    2.820,2,    1.497,2,    0.222,2,    0.940,2,   2210.3,6,   2300.9,2,   7.5966,       25,2, -999.000,9, -999.000,   -999.0,9,   -999.0, -999.000,9, -999.000, -999.000,9, -999.000
  49NZ20121128,  P14S,    14,  1,     22, X12J22,2,20121206,1833,-58.5035, 173.9782, 5015,    830.9,2,   2.9507,2,   2.95071,2,  34.3696,2,  34.3701,2,-999.0000,9,   195.73,2,   196.04,2,   99.926,   0.0030,2,    0.000,2,  -999.00,9,    0.000,2,    50.28,2,     0.10,    33.72,2,     0.05,     0.01,2,     0.01,     2.32,2,     0.01,    1.822,2,    0.938,2,    0.124,2,    0.543,2,   2227.3,2,   2312.2,6,   7.5821,       25,2, -999.000,9, -999.000,   -999.0,9,   -999.0, -999.000,9, -999.000, -999.000,9, -999.000
  49NZ20121128,  P14S,    14,  1,     21, X12J21,2,20121206,1833,-58.5035, 173.9782, 5015,    930.5,2,   2.8093,2,   2.80913,2,  34.4327,2,  34.4316,2,-999.0000,9,   185.07,2,   185.54,2,   99.914,   0.0034,2,    0.000,2,  -999.00,9,    0.000,2,    57.36,2,     0.11,    34.24,2,     0.05,     0.01,2,     0.01,     2.35,2,     0.01,    1.314,2,    0.679,2,    0.087,2,    0.307,2,   2236.3,2,   2319.3,2,   7.5720,       25,6, -999.000,9, -999.000,   -999.0,9,   -999.0, -999.000,9, -999.000, -999.000,9, -999.000
  49NZ20121128,  P14S,    14,  1,     20, X12J20,2,20121206,1833,-58.5035, 173.9782, 5015,   1080.3,2,   2.6094,2,   2.60944,2,  34.5038,2,  34.5050,2,-999.0000,9,   177.20,2,   177.21,2,   99.918,   0.0033,2,    0.000,2,  -999.00,9,    0.000,2,    65.00,2,     0.12,    34.48,2,     0.05,     0.01,2,     0.01,     2.37,2,     0.01,    0.949,2,    0.475,2,    0.061,2,    0.216,2,   2245.6,2,   2327.1,2,   7.5649,       25,2, -999.000,9, -999.000,   -999.0,9,   -999.0, -999.000,9, -999.000, -999.000,9, -999.000
  49NZ20121128,  P14S,    14,  1,     19, X12J19,2,20121206,1833,-58.5035, 173.9782, 5015,   1330.8,2,   2.4658,2,   2.46580,2,  34.6092,2,  34.6098,2,-999.0000,9,   173.77,2,   173.86,2,   99.939,   0.0024,2,    0.000,2,  -999.00,9,    0.000,2,    72.46,2,     0.12,    33.65,2,     0.05,     0.01,2,     0.01,     2.31,2,     0.01,    0.466,6,    0.225,6,    0.027,6,    0.128,6,   2252.7,2,   2336.4,2,   7.5732,       25,2, -999.000,9, -999.000,   -999.0,9,   -999.0, -999.000,9, -999.000, -999.000,9, -999.000
  49NZ20121128,  P14S,    14,  1,     18, X12J18,2,20121206,1833,-58.5035, 173.9782, 5015,   1582.1,2,   2.3114,2,   2.31146,2,  34.6776,2,  34.6775,2,-999.0000,9,   178.38,2,   178.54,2,   99.945,   0.0022,2,    0.000,2,  -999.00,9,    0.000,2,    77.12,2,     0.13,    32.51,2,     0.05,     0.01,2,     0.01,     2.24,2,     0.01,    0.275,2,    0.130,2,    0.013,2,    0.089,2,   2250.7,3,   2342.2,2,   7.5883,       25,2, -999.000,9, -999.000,   -999.0,9,   -999.0, -999.000,9, -999.000, -999.000,9, -999.000
  49NZ20121128,  P14S,    14,  1,     17, X12J17,2,20121206,1833,-58.5035, 173.9782, 5015,   1832.2,2,   2.1330,2,   2.13270,2,  34.7180,2,  34.7171,2,-999.0000,9,   184.68,2,   184.80,2,   99.949,   0.0020,2,    0.000,2,  -999.00,9,    0.000,2,    81.40,2,     0.13,    31.67,2,     0.04,     0.01,2,     0.01,     2.18,2,     0.01,    0.185,2,    0.090,2,    0.009,2,    0.042,2,   2249.3,3,   2346.8,2,   7.6025,       25,6, -999.000,9, -999.000,   -999.0,9,   -999.0, -999.000,9, -999.000, -999.000,9, -999.000
  49NZ20121128,  P14S,    14,  1,     16, X12J16,2,20121206,1833,-58.5035, 173.9782, 5015,   2079.2,2,   1.9651,2,   1.96500,2,  34.7341,2,  34.7338,2,-999.0000,9,   189.68,2,   189.82,2,   99.964,   0.0014,2,    0.000,2,  -999.00,9,    0.000,2,    85.93,2,     0.14,    31.17,2,     0.04,     0.01,2,     0.01,     2.15,2,     0.01,    0.147,2,    0.067,2,    0.006,2,    0.036,2,   2258.0,3,   2350.7,2,   7.6102,       25,2, -999.000,9, -999.000,   -999.0,9,   -999.0, -999.000,9, -999.000, -999.000,9, -999.000
  49NZ20121128,  P14S,    14,  1,     15, X12J15,2,20121206,1833,-58.5035, 173.9782, 5015,   2330.5,2,   1.7798,2,   1.78004,2,  34.7378,2,  34.7375,2,-999.0000,9,   193.51,2,   193.75,2,   99.951,   0.0020,2,    0.000,2,  -999.00,9,    0.000,2,    91.02,2,     0.14,    31.17,2,     0.04,     0.01,2,     0.01,     2.15,2,     0.01,    0.133,2,    0.060,2,    0.006,2,    0.047,2,   2255.6,2,   2353.0,2,   7.6149,       25,2, -999.000,9, -999.000,   -999.0,9,   -999.0, -999.000,9, -999.000, -999.000,9, -999.000
  49NZ20121128,  P14S,    14,  1,     14, X12J14,2,20121206,1833,-58.5035, 173.9782, 5015,   2582.2,2,   1.5898,2,   1.58966,2,  34.7356,2,  34.7353,2,-999.0000,9,   196.74,2,   196.88,2,   99.974,   0.0010,2,   -0.000,2,  -999.00,9,    0.000,2,    96.84,2,     0.15,    31.30,2,     0.04,     0.01,2,     0.01,     2.16,2,     0.01,    0.125,2,    0.058,2,    0.005,2,    0.047,2,   2257.3,6,   2357.0,2,   7.6165,       25,2, -999.000,9, -999.000,   -999.0,9,   -999.0, -999.000,9, -999.000, -999.000,9, -999.000
  49NZ20121128,  P14S,    14,  1,     13, X12J13,2,20121206,1833,-58.5035, 173.9782, 5015,   2831.5,2,   1.4037,2,   1.40371,2,  34.7301,2,  34.7292,2,-999.0000,9,   199.40,2,   199.46,2,   99.964,   0.0014,2,    0.000,2,  -999.00,9,    0.000,2,   102.33,2,     0.15,    31.56,2,     0.04,     0.01,2,     0.01,     2.17,2,     0.01,    0.131,2,    0.061,2,    0.006,2,    0.150,2,   2259.5,2,   2359.0,6,   7.6167,       25,2, -999.000,9, -999.000,   -999.0,9,   -999.0, -999.000,9, -999.000, -999.000,9, -999.000
  49NZ20121128,  P14S,    14,  1,     12, X12J12,2,20121206,1833,-58.5035, 173.9782, 5015,   3080.5,2,   1.2474,2,   1.24752,2,  34.7238,2,  34.7234,2,-999.0000,9,   201.85,2,   201.90,2,   99.970,   0.0012,2,    0.000,2,  -999.00,9,    0.000,2,   107.01,2,     0.15,    31.78,2,     0.04,     0.01,2,     0.01,     2.19,2,     0.01,    0.150,2,    0.071,2,    0.006,2,    0.000,2,   2261.8,2,   2360.3,2,   7.6158,       25,2, -999.000,9, -999.000,   -999.0,9,   -999.0, -999.000,9, -999.000, -999.000,9, -999.000
  49NZ20121128,  P14S,    14,  1,     11, X12J11,2,20121206,1833,-58.5035, 173.9782, 5015,   3330.6,2,   1.1287,2,   1.12887,2,  34.7183,2,  34.7174,2,-999.0000,9,   203.94,2,   203.93,2,   99.953,   0.0019,2,   -0.000,2,  -999.00,9,    0.000,2,   110.54,2,     0.16,    31.95,2,     0.04,     0.01,2,     0.01,     2.20,2,     0.01,    0.185,2,    0.086,2,    0.007,2,    0.088,2,   2261.2,2,   2361.1,2,   7.6145,       25,2, -999.000,9, -999.000,   -999.0,9,   -999.0, -999.000,9, -999.000, -999.000,9, -999.000
  49NZ20121128,  P14S,    14,  1,     10, X12J10,2,20121206,1833,-58.5035, 173.9782, 5015,   3581.3,2,   1.0353,2,   1.03519,2,  34.7133,2,  34.7126,2,-999.0000,9,   205.99,2,   205.73,2,   99.945,   0.0022,2,   -0.000,2,  -999.00,9,    0.000,2,   113.63,2,     0.16,    32.08,2,     0.04,     0.01,2,     0.01,     2.21,2,     0.01,    0.216,2,    0.100,2,    0.009,2,    0.063,2,   2263.7,2,   2360.6,2,   7.6132,       25,2, -999.000,9, -999.000,   -999.0,9,   -999.0, -999.000,9, -999.000, -999.000,9, -999.000
  49NZ20121128,  P14S,    14,  1,      9, X12J09,2,20121206,1833,-58.5035, 173.9782, 5015,   3830.5,2,   0.9587,2,   0.95872,2,  34.7091,2,  34.7082,2,-999.0000,9,   207.60,2,   207.44,2,   99.907,   0.0037,2,   -0.000,2,  -999.00,9,    0.000,2,   116.07,2,     0.16,    32.16,2,     0.05,     0.01,2,     0.01,     2.22,2,     0.01,    0.247,2,    0.117,2,    0.009,2,    0.040,2,   2262.7,2,   2360.3,2,   7.6112,       25,2, -999.000,9, -999.000,   -999.0,9,   -999.0, -999.000,9, -999.000, -999.000,9, -999.000
  49NZ20121128,  P14S,    14,  1,      8, X12J08,2,20121206,1833,-58.5035, 173.9782, 5015,   4080.4,2,   0.9062,2,   0.90640,2,  34.7058,2,  34.7052,2,-999.0000,9,   208.74,2,   208.64,2,   99.922,   0.0031,2,   -0.000,2,  -999.00,9,    0.000,2,   117.89,2,     0.16,    32.27,2,     0.05,     0.01,2,     0.01,     2.22,2,     0.01,    0.285,6,    0.134,6,    0.011,6,    0.057,6,   2263.1,6,   2360.7,2,   7.6108,       25,2, -999.000,9, -999.000,   -999.0,9,   -999.0, -999.000,9, -999.000, -999.000,9, -999.000
  49NZ20121128,  P14S,    14,  1,      7, X12J07,2,20121206,1833,-58.5035, 173.9782, 5015,   4330.9,2,   0.8811,2,   0.88104,2,  34.7036,2,  34.7032,2,-999.0000,9,   209.31,2,   209.29,2,   99.920,   0.0032,2,   -0.000,2,  -999.00,9,    0.000,2,   119.66,2,     0.17,    32.34,2,     0.05,     0.01,2,     0.01,     2.23,2,     0.01,    0.295,2,    0.144,2,    0.012,2,    0.095,2,   2262.6,6,   2360.8,2,   7.6099,       25,2, -999.000,9, -999.000,   -999.0,9,   -999.0, -999.000,9, -999.000, -999.000,9, -999.000
  49NZ20121128,  P14S,    14,  1,      6, X12J06,2,20121206,1833,-58.5035, 173.9782, 5015,   4580.0,2,   0.8752,2,   0.87532,2,  34.7021,2,  34.7019,2,-999.0000,9,   209.75,2,   209.83,2,   99.874,   0.0050,2,   -0.000,2,  -999.00,9,    0.000,2,   120.62,2,     0.17,    32.37,2,     0.05,     0.01,2,     0.01,     2.23,2,     0.01,    0.322,2,    0.159,2,    0.018,2,    0.068,2,   2262.5,2,   2360.5,6,   7.6089,       25,2, -999.000,9, -999.000,   -999.0,9,   -999.0, -999.000,9, -999.000, -999.000,9, -999.000
  49NZ20121128,  P14S,    14,  1,      5, X12J05,2,20121206,1833,-58.5035, 173.9782, 5015,   4829.3,2,   0.8855,2,   0.88558,2,  34.7013,2,  34.7011,2,-999.0000,9,   209.82,2,   210.08,2,   99.842,   0.0063,2,   -0.000,2,  -999.00,9,    0.000,2,   121.34,2,     0.17,    32.38,2,     0.05,     0.01,2,     0.01,     2.23,2,     0.01,    0.336,2,    0.164,2,    0.018,2,    0.077,2,   2263.0,2,   2361.8,2,   7.6088,       25,6, -999.000,9, -999.000,   -999.0,9,   -999.0, -999.000,9, -999.000, -999.000,9, -999.000
  49NZ20121128,  P14S,    14,  1,      1, X12J01,2,20121206,1833,-58.5035, 173.9782, 5015,   5108.6,2,   0.8934,2,   0.89338,2,  34.7001,2,  34.7000,2,-999.0000,9,   210.21,2,   210.48,2,   99.744,   0.0103,2,   -0.000,2,  -999.00,9,    0.000,2,   121.46,2,     0.17,    32.40,2,     0.05,     0.01,2,     0.01,     2.23,2,     0.01,    0.370,2,    0.181,2,    0.019,2,    0.088,2,   2263.8,2,   2360.3,2,   7.6073,       25,2, -999.000,9, -999.000,   -999.0,9,   -999.0, -999.000,9, -999.000, -999.000,9, -999.000