BOTTLE,20220819CCHSIOAMB
EXPOCODE,SECT_ID,STNNBR,CASTNO,SAMPNO,BTLNBR,BTLNBR_FLAG_W,DATE,TIME,LATITUDE,LONGITUDE,DEPTH,CTDPRS,CTDPRS_FLAG_W,CTDTMP,CTDTMP_FLAG_W,SBE35,SBE35_FLAG_W,CTDSAL,CTDSAL_FLAG_W,SALNTY,SALNTY_FLAG_W,DNSSAL,DNSSAL_FLAG_W,CTDOXY,CTDOXY_FLAG_W,OXYGEN,OXYGEN_FLAG_W,CTDXMISS,CTDXMISSCP,CTDXMISS_FLAG_W,CTDFLUOR,CTDFLUOR_FLAG_W,CHLORA,CHLORA_FLAG_W,PAR,PAR_FLAG_W,SILCAT,SILCAT_FLAG_W,SILUNC,NITRAT,NITRAT_FLAG_W,NRAUNC,NITRIT,NITRIT_FLAG_W,NRIUNC,PHSPHT,PHSPHT_FLAG_W,PHPUNC,CFC-11,CFC-11_FLAG_W,CFC-12,CFC-12_FLAG_W,CFC113,CFC113_FLAG_W,SF6,SF6_FLAG_W,TCARBN,TCARBN_FLAG_W,ALKALI,ALKALI_FLAG_W,PH_TOT,PH_TMP,PH_TOT_FLAG_W,DELC13,DELC13_FLAG_W,C13ERR,DELC14,DELC14_FLAG_W,C14ERR,CS-134,CS-134_FLAG_W,CS134ER,CS-137,CS-137_FLAG_W,CS137ER
,,,,,,,,UTC,DEG,DEG,METERS,DBAR,,ITS-90,,ITS-90,,PSS-78,,PSS-78,,G/KG,,UMOL/KG,,UMOL/KG,,%TRANS,/METER,,MG/M^3,,MG/CUM,,UE/SQM/S,,UMOL/KG,,UMOL/KG,UMOL/KG,,UMOL/KG,UMOL/KG,,UMOL/KG,UMOL/KG,,UMOL/KG,PMOL/KG,,PMOL/KG,,PMOL/KG,,FMOL/KG,,UMOL/KG,,UMOL/KG,,,DEG C,,/MILLE,,/MILLE,/MILLE,,/MILLE,MBQ/KG,,MBQ/KG,MBQ/KG,,MBQ/KG
  49NZ20121128,   S04,    57,  1,     36, X12J36,2,20121215,0034,-63.4338, 150.6627, 3717,      5.5,2,  -0.8582,2,  -0.85821,2,  33.7298,2,  33.7300,2,-999.0000,9,   352.51,2,   352.92,2,   95.745,   0.1739,2,    0.130,2,  -999.00,9,  235.354,2,    46.69,2,     0.10,    27.64,2,     0.04,     0.18,2,     0.01,     1.81,2,     0.01,    6.040,2,    3.332,2,    0.566,2,    3.225,2,   2162.3,2,   2280.4,2,   7.6811,       25,2, -999.000,1, -999.000,   -999.0,1,   -999.0, -999.000,9, -999.000, -999.000,9, -999.000
  49NZ20121128,   S04,    57,  1,     35, X12J35,2,20121215,0034,-63.4338, 150.6627, 3717,     24.8,2,  -0.8615,2,  -0.86171,2,  33.7380,2,  33.7410,2,-999.0000,9,   352.25,2,   352.61,2,   95.690,   0.1762,2,    0.310,2,  -999.00,9,   51.553,2,    46.54,2,     0.10,    27.64,2,     0.04,     0.18,2,     0.01,     1.80,2,     0.01,    5.988,2,    3.327,2,    0.562,2,    2.858,2,   2163.5,2,   2281.6,2,   7.6803,       25,2, -999.000,1, -999.000,   -999.0,1,   -999.0, -999.000,9, -999.000, -999.000,9, -999.000
  49NZ20121128,   S04,    57,  1,     34, X12J34,2,20121215,0034,-63.4338, 150.6627, 3717,     50.5,2,  -1.3528,2,  -1.35464,2,  34.1206,2,  34.1297,2,-999.0000,9,   318.75,2,   316.52,2,   95.470,   0.1854,2,    0.700,2,  -999.00,9,   10.426,2,    52.99,2,     0.11,    29.91,2,     0.04,     0.11,2,     0.01,     2.07,2,     0.01,    4.514,6,    2.505,6,    0.422,6,    2.276,6,   2200.7,2,   2306.4,2,   7.6402,       25,2, -999.000,1, -999.000,   -999.0,1,   -999.0, -999.000,9, -999.000, -999.000,9, -999.000
  49NZ20121128,   S04,    57,  1,     33, X12J33,2,20121215,0034,-63.4338, 150.6627, 3717,     74.6,2,   1.2133,2,   1.21630,2,  34.5129,2,  34.5270,2,-999.0000,9,   197.48,2,   188.01,2,   98.881,   0.0450,2,    0.200,2,  -999.00,9,    1.875,2,    73.89,2,     0.13,    33.94,2,     0.05,     0.10,2,     0.01,     2.37,2,     0.01,    1.318,2,    0.711,2,    0.119,2,    0.474,2,   2253.8,6,   2329.7,2,   7.5520,       25,2, -999.000,1, -999.000,   -999.0,1,   -999.0, -999.000,9, -999.000, -999.000,9, -999.000
  49NZ20121128,   S04,    57,  1,     32, X12J32,2,20121215,0034,-63.4338, 150.6627, 3717,    100.4,2,   1.8220,2,   1.82193,2,  34.5962,2,  34.5957,2,-999.0000,9,   176.60,2,   176.68,2,   99.308,   0.0278,2,    0.130,2,  -999.00,9,    0.647,2,    77.10,2,     0.13,    34.27,2,     0.05,     0.06,2,     0.01,     2.36,2,     0.01,    0.929,2,    0.484,2,    0.074,2,    0.294,2,   2260.3,2,   2333.9,6,   7.5479,       25,2, -999.000,1, -999.000,   -999.0,1,   -999.0, -999.000,9, -999.000, -999.000,9, -999.000
  49NZ20121128,   S04,    57,  1,     31, X12J31,2,20121215,0034,-63.4338, 150.6627, 3717,    124.8,2,   1.9089,2,   1.90855,2,  34.6225,2,  34.6213,2,-999.0000,9,   175.44,2,   175.30,2,   99.599,   0.0161,2,    0.060,2,  -999.00,9,    0.259,2,    78.31,2,     0.13,    34.03,2,     0.05,     0.03,2,     0.01,     2.34,2,     0.01,    0.765,2,    0.400,2,    0.063,2,    0.268,2,   2260.3,2,   2335.6,2,   7.5526,       25,2, -999.000,1, -999.000,   -999.0,1,   -999.0, -999.000,9, -999.000, -999.000,9, -999.000
  49NZ20121128,   S04,    57,  1,     30, X12J30,2,20121215,0034,-63.4338, 150.6627, 3717,    150.7,2,   1.9237,2,   1.92352,2,  34.6373,2,  34.6358,2,-999.0000,9,   176.29,2,   176.21,2,   99.685,   0.0126,2,    0.030,2,  -999.00,9,    0.084,2,    78.35,2,     0.13,    33.68,2,     0.05,     0.02,2,     0.01,     2.30,2,     0.01,    0.705,2,    0.364,2,    0.056,2,    0.155,2,   2259.6,2,   2337.1,2,   7.5575,       25,6, -999.000,1, -999.000,   -999.0,1,   -999.0, -999.000,9, -999.000, -999.000,9, -999.000
  49NZ20121128,   S04,    57,  1,     29, X12J29,2,20121215,0034,-63.4338, 150.6627, 3717,    199.9,2,   1.9239,2,   1.92380,2,  34.6626,2,  34.6616,2,-999.0000,9,   177.89,2,   177.97,2,   99.683,   0.0127,2,    0.010,2,  -999.00,9,    0.000,2,    79.76,2,     0.13,    33.20,2,     0.05,     0.01,2,     0.01,     2.27,2,     0.01,    0.603,2,    0.306,2,    0.045,2,    0.121,2,   2259.3,2,   2339.0,2,   7.5652,       25,2, -999.000,1, -999.000,   -999.0,1,   -999.0, -999.000,9, -999.000, -999.000,9, -999.000
  49NZ20121128,   S04,    57,  1,     28, X12J28,2,20121215,0034,-63.4338, 150.6627, 3717,    250.3,2,   1.9368,2,   1.93655,2,  34.6786,2,  34.6795,2,-999.0000,9,   178.94,2,   179.33,2,   99.766,   0.0094,2,    0.010,2,  -999.00,9,    0.000,2,    80.28,2,     0.13,    32.80,2,     0.05,     0.01,2,     0.01,     2.25,2,     0.01,    0.516,2,    0.266,2,    0.045,2,    0.138,2,   2257.6,2,   2340.3,2,   7.5722,       25,2, -999.000,1, -999.000,   -999.0,1,   -999.0, -999.000,9, -999.000, -999.000,9, -999.000
  49NZ20121128,   S04,    57,  1,     27, X12J27,2,20121215,0034,-63.4338, 150.6627, 3717,    299.8,2,   1.9232,2,   1.92312,2,  34.6902,2,  34.6899,2,-999.0000,9,   180.48,2,   180.71,2,   99.831,   0.0068,2,    0.010,2,  -999.00,9,    0.000,2,    80.73,2,     0.13,    32.56,2,     0.05,     0.01,2,     0.01,     2.23,2,     0.01,    0.479,2,    0.242,2,    0.037,2,    0.000,2,   2256.2,2,   2341.4,2,   7.5764,       25,2, -999.000,1, -999.000,   -999.0,1,   -999.0, -999.000,9, -999.000, -999.000,9, -999.000
  49NZ20121128,   S04,    57,  1,     26, X12J26,2,20121215,0034,-63.4338, 150.6627, 3717,    400.0,2,   1.8847,2,   1.88446,2,  34.7096,2,  34.7093,2,-999.0000,9,   183.80,2,   184.06,2,   99.925,   0.0030,2,    0.000,2,  -999.00,9,    0.000,2,    82.16,2,     0.13,    32.05,2,     0.04,     0.01,2,     0.01,     2.19,2,     0.01,    0.402,2,    0.200,2,    0.030,2,    0.000,2,   2254.6,2,   2343.8,2,   7.5852,       25,2, -999.000,1, -999.000,   -999.0,1,   -999.0, -999.000,9, -999.000, -999.000,9, -999.000
  49NZ20121128,   S04,    57,  1,     25, X12J25,2,20121215,0034,-63.4338, 150.6627, 3717,    499.8,2,   1.8367,2,   1.83676,2,  34.7245,2,  34.7231,2,-999.0000,9,   187.05,2,   187.49,2,   99.940,   0.0024,2,    0.000,2,  -999.00,9,    0.000,2,    83.80,2,     0.13,    31.60,2,     0.04,     0.01,2,     0.01,     2.17,2,     0.01,    0.333,2,    0.162,2,    0.025,2,    0.000,2,   2255.6,3,   2345.5,2,   7.5940,       25,2, -999.000,1, -999.000,   -999.0,1,   -999.0, -999.000,9, -999.000, -999.000,9, -999.000
  49NZ20121128,   S04,    57,  1,     24, X12J24,2,20121215,0034,-63.4338, 150.6627, 3717,    600.9,2,   1.7787,2,   1.77878,2,  34.7339,2,  34.7332,2,-999.0000,9,   190.22,2,   190.66,2,   99.963,   0.0015,2,    0.000,2,  -999.00,9,    0.000,2,    85.25,2,     0.14,    31.21,2,     0.04,     0.01,2,     0.01,     2.14,2,     0.01,    0.283,6,    0.137,6,    0.020,6,    0.000,6,   2254.2,3,   2349.5,2,   7.6009,       25,2, -999.000,1, -999.000,   -999.0,1,   -999.0, -999.000,9, -999.000, -999.000,9, -999.000
  49NZ20121128,   S04,    57,  1,     23, X12J23,2,20121215,0034,-63.4338, 150.6627, 3717,    700.4,2,   1.7153,2,   1.71582,2,  34.7398,2,  34.7396,2,-999.0000,9,   192.96,2,   193.23,2,   99.919,   0.0032,2,    0.000,2,  -999.00,9,    0.000,2,    87.24,2,     0.14,    31.04,2,     0.04,     0.01,2,     0.01,     2.13,2,     0.01,    0.241,2,    0.115,2,    0.016,2,    0.000,2,   2251.7,2,   2349.7,2,   7.6062,       25,2, -999.000,1, -999.000,   -999.0,1,   -999.0, -999.000,9, -999.000, -999.000,9, -999.000
  49NZ20121128,   S04,    57,  1,     22, X12J22,2,20121215,0034,-63.4338, 150.6627, 3717,    800.3,2,   1.6238,2,   1.62353,2,  34.7411,2,  34.7405,2,-999.0000,9,   195.16,2,   195.62,2,   99.938,   0.0025,2,    0.000,2,  -999.00,9,    0.000,2,    89.57,2,     0.14,    30.96,2,     0.04,     0.01,2,     0.01,     2.12,2,     0.01,    0.227,2,    0.108,2,    0.017,2,    0.000,2,   2253.6,3,   2350.7,6,   7.6095,       25,2, -999.000,1, -999.000,   -999.0,1,   -999.0, -999.000,9, -999.000, -999.000,9, -999.000
  49NZ20121128,   S04,    57,  1,     21, X12J21,2,20121215,0034,-63.4338, 150.6627, 3717,    901.4,2,   1.5364,2,   1.53606,2,  34.7400,2,  34.7399,2,-999.0000,9,   196.84,2,   197.34,2,   99.923,   0.0031,2,    0.000,2,  -999.00,9,    0.000,2,    91.77,2,     0.14,    31.00,2,     0.04,     0.01,2,     0.01,     2.13,2,     0.01,    0.227,2,    0.107,2,    0.015,2,    0.000,2,   2252.8,2,   2352.2,2,   7.6104,       25,6, -999.000,1, -999.000,   -999.0,1,   -999.0, -999.000,9, -999.000, -999.000,9, -999.000
  49NZ20121128,   S04,    57,  1,     20, X12J20,2,20121215,0034,-63.4338, 150.6627, 3717,   1000.7,2,   1.4475,2,   1.44751,2,  34.7385,2,  34.7381,2,-999.0000,9,   198.41,2,   198.85,2,   99.978,   0.0009,2,    0.000,2,  -999.00,9,    0.000,2,    93.92,2,     0.14,    31.05,2,     0.04,     0.01,2,     0.01,     2.13,2,     0.01,    0.218,2,    0.102,2,    0.013,2,    0.000,2,   2254.0,2,   2352.6,2,   7.6118,       25,2, -999.000,1, -999.000,   -999.0,1,   -999.0, -999.000,9, -999.000, -999.000,9, -999.000
  49NZ20121128,   S04,    57,  1,     19, X12J19,2,20121215,0034,-63.4338, 150.6627, 3717,   1250.4,2,   1.2412,2,   1.24081,2,  34.7311,2,  34.7307,2,-999.0000,9,   201.35,2,   201.83,2,   99.976,   0.0010,2,    0.000,2,  -999.00,9,    0.000,2,    99.84,2,     0.15,    31.23,2,     0.04,     0.01,2,     0.01,     2.14,2,     0.01,    0.211,6,    0.096,6,    0.012,6,    0.000,6,   2256.2,2,   2355.0,2,   7.6120,       25,2, -999.000,1, -999.000,   -999.0,1,   -999.0, -999.000,9, -999.000, -999.000,9, -999.000
  49NZ20121128,   S04,    57,  1,     18, X12J18,2,20121215,0034,-63.4338, 150.6627, 3717,   1500.5,2,   1.0325,2,   1.03201,2,  34.7197,2,  34.7195,2,-999.0000,9,   204.00,2,   204.40,2,   99.967,   0.0013,2,    0.000,2,  -999.00,9,    0.000,2,   105.02,2,     0.15,    31.60,2,     0.04,     0.01,2,     0.01,     2.17,2,     0.01,    0.262,2,    0.123,2,    0.015,2,    0.000,2,   2257.4,2,   2356.5,2,   7.6086,       25,2, -999.000,1, -999.000,   -999.0,1,   -999.0, -999.000,9, -999.000, -999.000,9, -999.000
  49NZ20121128,   S04,    57,  1,     17, X12J17,2,20121215,0034,-63.4338, 150.6627, 3717,   1749.4,2,   0.8280,2,   0.82816,2,  34.7087,2,  34.7085,2,-999.0000,9,   206.72,2,   207.13,2,   99.999,   0.0000,2,   -0.000,2,  -999.00,9,    0.000,2,   110.05,2,     0.16,    31.91,2,     0.04,     0.01,2,     0.01,     2.20,2,     0.01,    0.301,2,    0.144,2,    0.016,2,    0.000,2,   2260.0,2,   2356.7,2,   7.6056,       25,6, -999.000,1, -999.000,   -999.0,1,   -999.0, -999.000,9, -999.000, -999.000,9, -999.000
  49NZ20121128,   S04,    57,  1,     16, X12J16,2,20121215,0034,-63.4338, 150.6627, 3717,   2000.8,2,   0.6547,2,   0.65476,2,  34.7008,2,  34.7008,2,-999.0000,9,   209.60,2,   210.01,2,   99.961,   0.0016,2,   -0.000,2,  -999.00,9,    0.000,2,   115.38,2,     0.16,    32.21,2,     0.05,     0.01,2,     0.01,     2.22,2,     0.01,    0.316,2,    0.149,2,    0.017,2,    0.000,2,   2261.6,2,   2357.6,2,   7.6035,       25,2, -999.000,1, -999.000,   -999.0,1,   -999.0, -999.000,9, -999.000, -999.000,9, -999.000
  49NZ20121128,   S04,    57,  1,     15, X12J15,2,20121215,0034,-63.4338, 150.6627, 3717,   2250.1,2,   0.4912,2,   0.49124,2,  34.6924,2,  34.6924,2,-999.0000,9,   213.01,2,   213.59,2,   99.982,   0.0007,2,   -0.000,2,  -999.00,9,    0.000,2,   118.98,2,     0.17,    32.40,2,     0.05,     0.01,2,     0.01,     2.23,2,     0.01,    0.410,2,    0.198,2,    0.024,2,    0.000,2,   2261.6,2,   2357.9,2,   7.6017,       25,2, -999.000,1, -999.000,   -999.0,1,   -999.0, -999.000,9, -999.000, -999.000,9, -999.000
  49NZ20121128,   S04,    57,  1,     14, X12J14,2,20121215,0034,-63.4338, 150.6627, 3717,   2500.9,2,   0.3576,2,   0.35763,2,  34.6865,2,  34.6861,2,-999.0000,9,   216.51,2,   216.99,2,   99.992,   0.0003,2,   -0.000,2,  -999.00,9,    0.000,2,   121.23,2,     0.17,    32.50,2,     0.05,     0.01,2,     0.01,     2.24,2,     0.01,    0.523,2,    0.250,2,    0.029,2,    0.132,2,   2261.2,6,   2357.2,2,   7.6010,       25,2, -999.000,1, -999.000,   -999.0,1,   -999.0, -999.000,9, -999.000, -999.000,9, -999.000
  49NZ20121128,   S04,    57,  1,     13, X12J13,2,20121215,0034,-63.4338, 150.6627, 3717,   2750.3,2,   0.2494,2,   0.24949,2,  34.6820,2,  34.6821,2,-999.0000,9,   219.70,2,   220.36,2,   99.955,   0.0018,2,   -0.000,2,  -999.00,9,    0.000,2,   123.26,2,     0.17,    32.54,2,     0.05,     0.01,2,     0.01,     2.24,2,     0.01,    0.641,2,    0.310,2,    0.037,2,    0.119,2,   2260.3,2,   2357.2,6,   7.6016,       25,2, -999.000,1, -999.000,   -999.0,1,   -999.0, -999.000,9, -999.000, -999.000,9, -999.000
  49NZ20121128,   S04,    57,  1,     12, X12J12,2,20121215,0034,-63.4338, 150.6627, 3717,   3001.3,2,   0.1561,2,   0.15535,2,  34.6774,2,  34.6770,2,-999.0000,9,   223.01,2,   223.84,2,   99.944,   0.0022,2,   -0.000,2,  -999.00,9,    0.000,2,   123.77,2,     0.17,    32.47,2,     0.05,     0.01,2,     0.01,     2.24,2,     0.01,    0.806,2,    0.400,2,    0.048,2,    0.164,2,   2260.8,2,   2356.3,2,   7.6016,       25,6, -999.000,1, -999.000,   -999.0,1,   -999.0, -999.000,9, -999.000, -999.000,9, -999.000
  49NZ20121128,   S04,    57,  1,     11, X12J11,2,20121215,0034,-63.4338, 150.6627, 3717,   3251.2,2,   0.0573,2,   0.05714,2,  34.6717,2,  34.6712,2,-999.0000,9,   226.89,2,   227.61,2,   99.932,   0.0027,2,   -0.000,2,  -999.00,9,    0.000,2,   122.92,2,     0.17,    32.47,2,     0.05,     0.01,2,     0.01,     2.24,2,     0.01,    1.108,2,    0.542,2,    0.076,2,    0.150,2,   2259.9,2,   2355.8,2,   7.6003,       25,2, -999.000,1, -999.000,   -999.0,1,   -999.0, -999.000,9, -999.000, -999.000,9, -999.000
  49NZ20121128,   S04,    57,  1,     10, X12J10,2,20121215,0034,-63.4338, 150.6627, 3717,   3499.4,2,  -0.0430,2,  -0.04284,2,  34.6648,2,  34.6649,2,-999.0000,9,   231.14,2,   231.83,2,   99.840,   0.0064,2,   -0.000,2,  -999.00,9,    0.000,2,   119.91,2,     0.17,    32.38,2,     0.05,     0.01,2,     0.01,     2.23,2,     0.01,    1.506,2,    0.742,2,    0.119,2,    0.394,2,   2258.9,2,   2355.0,2,   7.5994,       25,2, -999.000,1, -999.000,   -999.0,1,   -999.0, -999.000,9, -999.000, -999.000,9, -999.000
  49NZ20121128,   S04,    57,  1,      1, X12J01,2,20121215,0034,-63.4338, 150.6627, 3717,   3774.5,2,  -0.1208,2,  -0.12158,2,  34.6588,2,  34.6581,2,-999.0000,9,   234.33,2,   234.86,2,   99.515,   0.0194,2,   -0.000,2,  -999.00,9,    0.000,2,   117.78,2,     0.16,    32.32,2,     0.05,     0.01,2,     0.01,     2.23,2,     0.01,    1.925,2,    0.959,2,    0.157,2,    0.557,2,   2259.2,2,   2352.3,2,   7.5962,       25,2, -999.000,1, -999.000,   -999.0,1,   -999.0, -999.000,9, -999.000, -999.000,9, -999.000