BOTTLE,20220819CCHSIOAMB
EXPOCODE,SECT_ID,STNNBR,CASTNO,SAMPNO,BTLNBR,BTLNBR_FLAG_W,DATE,TIME,LATITUDE,LONGITUDE,DEPTH,CTDPRS,CTDPRS_FLAG_W,CTDTMP,CTDTMP_FLAG_W,SBE35,SBE35_FLAG_W,CTDSAL,CTDSAL_FLAG_W,SALNTY,SALNTY_FLAG_W,DNSSAL,DNSSAL_FLAG_W,CTDOXY,CTDOXY_FLAG_W,OXYGEN,OXYGEN_FLAG_W,CTDXMISS,CTDXMISSCP,CTDXMISS_FLAG_W,CTDFLUOR,CTDFLUOR_FLAG_W,CHLORA,CHLORA_FLAG_W,PAR,PAR_FLAG_W,SILCAT,SILCAT_FLAG_W,SILUNC,NITRAT,NITRAT_FLAG_W,NRAUNC,NITRIT,NITRIT_FLAG_W,NRIUNC,PHSPHT,PHSPHT_FLAG_W,PHPUNC,CFC-11,CFC-11_FLAG_W,CFC-12,CFC-12_FLAG_W,CFC113,CFC113_FLAG_W,SF6,SF6_FLAG_W,TCARBN,TCARBN_FLAG_W,ALKALI,ALKALI_FLAG_W,PH_TOT,PH_TMP,PH_TOT_FLAG_W,DELC13,DELC13_FLAG_W,C13ERR,DELC14,DELC14_FLAG_W,C14ERR,CS-134,CS-134_FLAG_W,CS134ER,CS-137,CS-137_FLAG_W,CS137ER
,,,,,,,,UTC,DEG,DEG,METERS,DBAR,,ITS-90,,ITS-90,,PSS-78,,PSS-78,,G/KG,,UMOL/KG,,UMOL/KG,,%TRANS,/METER,,MG/M^3,,MG/CUM,,UE/SQM/S,,UMOL/KG,,UMOL/KG,UMOL/KG,,UMOL/KG,UMOL/KG,,UMOL/KG,UMOL/KG,,UMOL/KG,PMOL/KG,,PMOL/KG,,PMOL/KG,,FMOL/KG,,UMOL/KG,,UMOL/KG,,,DEG C,,/MILLE,,/MILLE,/MILLE,,/MILLE,MBQ/KG,,MBQ/KG,MBQ/KG,,MBQ/KG
  49NZ20121128,   S04,   402,  1,     36, X12J36,2,20121210,1206,-64.0042, 169.2873, 3029,      4.9,2,  -0.8600,2,  -0.85780,2,  33.9137,2,  33.9138,2,-999.0000,9,   355.40,2,   355.98,2,   92.970,   0.2916,2,    0.770,2,  -999.00,9,    0.821,2,    62.00,2,     0.11,    26.61,2,     0.04,     0.19,2,     0.01,     1.73,2,     0.01,    5.699,2,    3.120,2,    0.525,2, -999.000,9,   -999.0,9,   -999.0,9,-999.0000,     -999,9, -999.000,9, -999.000,   -999.0,9,   -999.0, -999.000,9, -999.000, -999.000,9, -999.000
  49NZ20121128,   S04,   402,  1,     35, X12J35,2,20121210,1206,-64.0042, 169.2873, 3029,     25.2,2,  -0.8908,2,  -0.89155,2,  33.9128,2,  33.9253,2,-999.0000,9,   354.90,2,   354.81,2,   92.673,   0.3044,2,    0.840,2,  -999.00,9,    0.041,2,    62.59,2,     0.11,    26.71,2,     0.04,     0.19,2,     0.01,     1.74,2,     0.01,    5.615,2,    3.078,2,    0.509,2, -999.000,9,   -999.0,9,   -999.0,9,-999.0000,     -999,9, -999.000,9, -999.000,   -999.0,9,   -999.0, -999.000,9, -999.000, -999.000,9, -999.000
  49NZ20121128,   S04,   402,  1,     34, X12J34,2,20121210,1206,-64.0042, 169.2873, 3029,     51.0,2,  -1.7521,2,  -1.75305,2,  34.1817,2,  34.1760,2,-999.0000,9,   327.31,2,   327.25,2,   95.704,   0.1756,2,    0.840,2,  -999.00,9,    0.000,2,    72.93,2,     0.12,    28.95,2,     0.04,     0.14,2,     0.01,     1.97,2,     0.01,    4.672,6,    2.584,6,    0.432,6, -999.000,9,   -999.0,9,   -999.0,9,-999.0000,     -999,9, -999.000,9, -999.000,   -999.0,9,   -999.0, -999.000,9, -999.000, -999.000,9, -999.000
  49NZ20121128,   S04,   402,  1,     33, X12J33,2,20121210,1206,-64.0042, 169.2873, 3029,     74.8,2,  -1.7421,2,  -1.74253,2,  34.2644,2,  34.2651,2,-999.0000,9,   316.62,2,   316.68,2,   98.929,   0.0431,2,    0.290,2,  -999.00,9,    0.000,2,    73.20,2,     0.12,    30.21,2,     0.04,     0.14,2,     0.01,     2.08,2,     0.01,    4.679,2,    2.581,2,    0.426,2, -999.000,9,   -999.0,9,   -999.0,9,-999.0000,     -999,9, -999.000,9, -999.000,   -999.0,9,   -999.0, -999.000,9, -999.000, -999.000,9, -999.000
  49NZ20121128,   S04,   402,  1,     32, X12J32,2,20121210,1206,-64.0042, 169.2873, 3029,    100.7,2,  -1.3942,2,  -1.39521,2,  34.3396,2,  34.3344,2,-999.0000,9,   298.10,2,   298.60,2,   99.531,   0.0188,2,    0.160,2,  -999.00,9,    0.000,2,    75.32,2,     0.13,    30.90,2,     0.04,     0.13,2,     0.01,     2.12,2,     0.01,    4.179,2,    2.305,2,    0.383,2, -999.000,9,   -999.0,9,   -999.0,9,-999.0000,     -999,9, -999.000,9, -999.000,   -999.0,9,   -999.0, -999.000,9, -999.000, -999.000,9, -999.000
  49NZ20121128,   S04,   402,  1,     31, X12J31,2,20121210,1206,-64.0042, 169.2873, 3029,    126.8,2,  -0.2017,2,  -0.20234,2,  34.4927,2,  34.4921,2,-999.0000,9,   247.94,2,   248.81,2,   99.650,   0.0140,2,    0.080,2,  -999.00,9,    0.000,2,    79.69,2,     0.13,    31.83,2,     0.04,     0.04,2,     0.01,     2.18,2,     0.01,    2.688,2,    1.475,2,    0.252,2, -999.000,9,   -999.0,9,   -999.0,9,-999.0000,     -999,9, -999.000,9, -999.000,   -999.0,9,   -999.0, -999.000,9, -999.000, -999.000,9, -999.000
  49NZ20121128,   S04,   402,  1,     30, X12J30,2,20121210,1206,-64.0042, 169.2873, 3029,    151.3,2,   0.7269,2,   0.72718,2,  34.6224,2,  34.6215,2,-999.0000,9,   210.43,2,   209.93,2,   99.855,   0.0058,2,    0.030,2,  -999.00,9,    0.000,2,    86.22,2,     0.14,    32.20,2,     0.05,     0.01,2,     0.01,     2.21,2,     0.01,    1.365,2,    0.732,2,    0.110,2, -999.000,9,   -999.0,9,   -999.0,9,-999.0000,     -999,9, -999.000,9, -999.000,   -999.0,9,   -999.0, -999.000,9, -999.000, -999.000,9, -999.000
  49NZ20121128,   S04,   402,  1,     29, X12J29,2,20121210,1206,-64.0042, 169.2873, 3029,    199.5,2,   1.1594,2,   1.15915,2,  34.6825,2,  34.6819,2,-999.0000,9,   195.59,2,   195.24,2,   99.870,   0.0052,2,    0.010,2,  -999.00,9,    0.000,2,    89.96,2,     0.14,    32.30,2,     0.05,     0.01,2,     0.01,     2.22,2,     0.01,    0.773,2,    0.404,2,    0.073,2, -999.000,9,   -999.0,9,   -999.0,9,-999.0000,     -999,9, -999.000,9, -999.000,   -999.0,9,   -999.0, -999.000,9, -999.000, -999.000,9, -999.000
  49NZ20121128,   S04,   402,  1,     28, X12J28,2,20121210,1206,-64.0042, 169.2873, 3029,    251.2,2,   1.2273,2,   1.22712,2,  34.7008,2,  34.7006,2,-999.0000,9,   193.66,2,   193.48,2,   99.918,   0.0033,2,    0.010,2,  -999.00,9,    0.000,2,    92.38,2,     0.14,    32.19,2,     0.05,     0.01,2,     0.01,     2.21,2,     0.01,    0.596,2,    0.306,2,    0.058,2, -999.000,9,   -999.0,9,   -999.0,9,-999.0000,     -999,9, -999.000,9, -999.000,   -999.0,9,   -999.0, -999.000,9, -999.000, -999.000,9, -999.000
  49NZ20121128,   S04,   402,  1,     27, X12J27,2,20121210,1206,-64.0042, 169.2873, 3029,    299.8,2,   1.2275,2,   1.22732,2,  34.7065,2,  34.7062,2,-999.0000,9,   193.90,2,   194.02,2,   99.922,   0.0031,2,    0.010,2,  -999.00,9,    0.000,2,    93.22,2,     0.14,    32.04,2,     0.04,     0.01,2,     0.01,     2.20,2,     0.01,    0.538,2,    0.271,2,    0.047,2, -999.000,9,   -999.0,9,   -999.0,9,-999.0000,     -999,9, -999.000,9, -999.000,   -999.0,9,   -999.0, -999.000,9, -999.000, -999.000,9, -999.000
  49NZ20121128,   S04,   402,  1,     26, X12J26,2,20121210,1206,-64.0042, 169.2873, 3029,    401.1,2,   1.1995,2,   1.19927,2,  34.7134,2,  34.7133,2,-999.0000,9,   194.58,2,   194.53,2,   99.968,   0.0013,2,    0.000,2,  -999.00,9,    0.000,2,    96.48,2,     0.15,    31.99,2,     0.04,     0.01,2,     0.01,     2.19,2,     0.01,    0.434,2,    0.217,2,    0.043,2, -999.000,9,   -999.0,9,   -999.0,9,-999.0000,     -999,9, -999.000,9, -999.000,   -999.0,9,   -999.0, -999.000,9, -999.000, -999.000,9, -999.000
  49NZ20121128,   S04,   402,  1,     25, X12J25,2,20121210,1206,-64.0042, 169.2873, 3029,    502.2,2,   1.1443,2,   1.14417,2,  34.7159,2,  34.7162,2,-999.0000,9,   195.87,2,   195.68,2,   99.998,   0.0001,2,    0.000,2,  -999.00,9,    0.000,2,    99.31,2,     0.15,    31.99,2,     0.04,     0.01,2,     0.01,     2.19,2,     0.01,    0.377,2,    0.187,2,    0.040,2, -999.000,9,   -999.0,9,   -999.0,9,-999.0000,     -999,9, -999.000,9, -999.000,   -999.0,9,   -999.0, -999.000,9, -999.000, -999.000,9, -999.000
  49NZ20121128,   S04,   402,  1,     24, X12J24,2,20121210,1206,-64.0042, 169.2873, 3029,    601.1,2,   1.0816,2,   1.08152,2,  34.7163,2,  34.7165,2,-999.0000,9,   197.06,2,   196.88,2,  100.006,  -0.0002,2,    0.000,2,  -999.00,9,    0.000,2,   102.22,2,     0.15,    32.04,2,     0.04,     0.01,2,     0.01,     2.20,2,     0.01,    0.327,6,    0.160,6,    0.032,6, -999.000,9,   -999.0,9,   -999.0,9,-999.0000,     -999,9, -999.000,9, -999.000,   -999.0,9,   -999.0, -999.000,9, -999.000, -999.000,9, -999.000
  49NZ20121128,   S04,   402,  1,     23, X12J23,2,20121210,1206,-64.0042, 169.2873, 3029,    700.6,2,   1.0200,2,   1.01966,2,  34.7156,2,  34.7158,2,-999.0000,9,   198.39,2,   198.31,2,  100.004,  -0.0002,2,    0.000,2,  -999.00,9,    0.000,2,   104.62,2,     0.15,    32.07,2,     0.04,     0.01,2,     0.01,     2.20,2,     0.01,    0.292,2,    0.139,2,    0.031,2, -999.000,9,   -999.0,9,   -999.0,9,-999.0000,     -999,9, -999.000,9, -999.000,   -999.0,9,   -999.0, -999.000,9, -999.000, -999.000,9, -999.000
  49NZ20121128,   S04,   402,  1,     22, X12J22,2,20121210,1206,-64.0042, 169.2873, 3029,    802.0,2,   0.9589,2,   0.95889,2,  34.7139,2,  34.7141,2,-999.0000,9,   199.46,2,   199.39,2,   99.993,   0.0003,2,    0.000,2,  -999.00,9,    0.000,2,   106.71,2,     0.15,    32.13,2,     0.05,     0.01,2,     0.01,     2.21,2,     0.01,    0.273,2,    0.134,2,    0.029,2, -999.000,9,   -999.0,9,   -999.0,9,-999.0000,     -999,9, -999.000,9, -999.000,   -999.0,9,   -999.0, -999.000,9, -999.000, -999.000,9, -999.000
  49NZ20121128,   S04,   402,  1,     21, X12J21,2,20121210,1206,-64.0042, 169.2873, 3029,    903.8,2,   0.8823,2,   0.88196,2,  34.7115,2,  34.7117,2,-999.0000,9,   200.86,2,   200.85,2,  100.000,  -0.0000,2,   -0.000,2,  -999.00,9,    0.000,2,   109.42,2,     0.16,    32.23,2,     0.05,     0.01,2,     0.01,     2.21,2,     0.01,    0.253,2,    0.125,2,    0.025,2, -999.000,9,   -999.0,9,   -999.0,9,-999.0000,     -999,9, -999.000,9, -999.000,   -999.0,9,   -999.0, -999.000,9, -999.000, -999.000,9, -999.000
  49NZ20121128,   S04,   402,  1,     20, X12J20,2,20121210,1206,-64.0042, 169.2873, 3029,   1002.9,2,   0.8141,2,   0.81400,2,  34.7085,2,  34.7082,2,-999.0000,9,   202.44,2,   202.45,2,  100.021,  -0.0008,2,   -0.000,2,  -999.00,9,    0.000,2,   111.17,2,     0.16,    32.31,2,     0.05,     0.00,2,     0.01,     2.22,2,     0.01,    0.253,2,    0.133,2,    0.025,2, -999.000,9,   -999.0,9,   -999.0,9,-999.0000,     -999,9, -999.000,9, -999.000,   -999.0,9,   -999.0, -999.000,9, -999.000, -999.000,9, -999.000
  49NZ20121128,   S04,   402,  1,     19, X12J19,2,20121210,1206,-64.0042, 169.2873, 3029,   1250.7,2,   0.6591,2,   0.65896,2,  34.7033,2,  34.7030,2,-999.0000,9,   206.19,2,   206.14,2,   99.991,   0.0004,2,    0.000,2,  -999.00,9,    0.000,2,   115.94,2,     0.16,    32.37,2,     0.05,     0.01,2,     0.01,     2.23,2,     0.01,    0.299,6,    0.145,6,    0.027,6, -999.000,9,   -999.0,9,   -999.0,9,-999.0000,     -999,9, -999.000,9, -999.000,   -999.0,9,   -999.0, -999.000,9, -999.000, -999.000,9, -999.000
  49NZ20121128,   S04,   402,  1,     18, X12J18,2,20121210,1206,-64.0042, 169.2873, 3029,   1501.1,2,   0.5418,2,   0.54170,2,  34.6983,2,  34.6987,2,-999.0000,9,   209.31,2,   209.42,2,   99.973,   0.0011,2,   -0.000,2,  -999.00,9,    0.000,2,   118.22,2,     0.17,    32.33,2,     0.05,     0.01,2,     0.01,     2.22,2,     0.01,    0.404,2,    0.195,2,    0.036,2, -999.000,9,   -999.0,9,   -999.0,9,-999.0000,     -999,9, -999.000,9, -999.000,   -999.0,9,   -999.0, -999.000,9, -999.000, -999.000,9, -999.000
  49NZ20121128,   S04,   402,  1,     17, X12J17,2,20121210,1206,-64.0042, 169.2873, 3029,   1750.9,2,   0.4251,2,   0.42510,2,  34.6939,2,  34.6943,2,-999.0000,9,   211.62,2,   211.77,2,   99.979,   0.0008,2,   -0.000,2,  -999.00,9,    0.000,2,   119.65,2,     0.17,    32.46,2,     0.05,     0.01,2,     0.01,     2.23,2,     0.01,    0.495,2,    0.243,2,    0.038,2, -999.000,9,   -999.0,9,   -999.0,9,-999.0000,     -999,9, -999.000,9, -999.000,   -999.0,9,   -999.0, -999.000,9, -999.000, -999.000,9, -999.000
  49NZ20121128,   S04,   402,  1,     16, X12J16,2,20121210,1206,-64.0042, 169.2873, 3029,   2002.9,2,   0.3072,2,   0.30749,2,  34.6898,2,  34.6901,2,-999.0000,9,   214.50,2,   214.77,2,   99.973,   0.0011,2,   -0.000,2,  -999.00,9,    0.000,2,   119.39,2,     0.17,    32.48,2,     0.05,     0.01,2,     0.01,     2.23,2,     0.01,    0.633,2,    0.315,2,    0.049,2, -999.000,9,   -999.0,9,   -999.0,9,-999.0000,     -999,9, -999.000,9, -999.000,   -999.0,9,   -999.0, -999.000,9, -999.000, -999.000,9, -999.000
  49NZ20121128,   S04,   402,  1,     15, X12J15,2,20121210,1206,-64.0042, 169.2873, 3029,   2249.8,2,   0.1684,2,   0.16859,2,  34.6831,2,  34.6835,2,-999.0000,9,   219.33,2,   219.34,2,   99.964,   0.0014,2,   -0.000,2,  -999.00,9,    0.000,2,   117.81,2,     0.16,    32.47,2,     0.05,     0.01,2,     0.01,     2.23,2,     0.01,    0.921,2,    0.470,2,    0.073,2, -999.000,9,   -999.0,9,   -999.0,9,-999.0000,     -999,9, -999.000,9, -999.000,   -999.0,9,   -999.0, -999.000,9, -999.000, -999.000,9, -999.000
  49NZ20121128,   S04,   402,  1,     14, X12J14,2,20121210,1206,-64.0042, 169.2873, 3029,   2500.1,2,   0.0793,2,   0.07939,2,  34.6778,2,  34.6783,2,-999.0000,9,   223.03,2,   223.23,2,   99.941,   0.0024,2,   -0.000,2,  -999.00,9,    0.000,2,   116.04,2,     0.16,    32.40,2,     0.05,     0.01,2,     0.01,     2.23,2,     0.01,    1.170,2,    0.603,2,    0.093,2, -999.000,9,   -999.0,9,   -999.0,9,-999.0000,     -999,9, -999.000,9, -999.000,   -999.0,9,   -999.0, -999.000,9, -999.000, -999.000,9, -999.000
  49NZ20121128,   S04,   402,  1,     13, X12J13,2,20121210,1206,-64.0042, 169.2873, 3029,   2747.8,2,   0.0597,2,   0.05964,2,  34.6757,2,  34.6763,2,-999.0000,9,   224.33,2,   224.57,2,   99.901,   0.0040,2,   -0.000,2,  -999.00,9,    0.000,2,   115.10,2,     0.16,    32.38,2,     0.05,     0.01,2,     0.01,     2.23,2,     0.01,    1.269,2,    0.655,2,    0.099,2, -999.000,9,   -999.0,9,   -999.0,9,-999.0000,     -999,9, -999.000,9, -999.000,   -999.0,9,   -999.0, -999.000,9, -999.000, -999.000,9, -999.000
  49NZ20121128,   S04,   402,  1,     12, X12J12,2,20121210,1206,-64.0042, 169.2873, 3029,   3000.7,2,   0.0437,2,   0.04389,2,  34.6740,2,  34.6747,2,-999.0000,9,   225.66,2,   226.08,2,   99.860,   0.0056,2,   -0.000,2,  -999.00,9,    0.000,2,   113.49,2,     0.16,    32.37,2,     0.05,     0.01,2,     0.01,     2.23,2,     0.01,    1.395,2,    0.721,2,    0.116,2, -999.000,9,   -999.0,9,   -999.0,9,-999.0000,     -999,9, -999.000,9, -999.000,   -999.0,9,   -999.0, -999.000,9, -999.000, -999.000,9, -999.000
  49NZ20121128,   S04,   402,  1,      1, X12J01,2,20121210,1206,-64.0042, 169.2873, 3029,   3083.4,2,   0.0356,2,   0.03541,2,  34.6737,2,  34.6742,2,-999.0000,9,   226.30,2,   226.78,2,   99.845,   0.0062,2,   -0.000,2,  -999.00,9,    0.000,2,   112.28,2,     0.16,    32.35,2,     0.05,     0.01,2,     0.01,     2.23,2,     0.01,    1.450,2,    0.755,2,    0.123,2, -999.000,9,   -999.0,9,   -999.0,9,-999.0000,     -999,9, -999.000,9, -999.000,   -999.0,9,   -999.0, -999.000,9, -999.000, -999.000,9, -999.000