BOTTLE,20220819CCHSIOAMB
EXPOCODE,SECT_ID,STNNBR,CASTNO,SAMPNO,BTLNBR,BTLNBR_FLAG_W,DATE,TIME,LATITUDE,LONGITUDE,DEPTH,CTDPRS,CTDPRS_FLAG_W,CTDTMP,CTDTMP_FLAG_W,SBE35,SBE35_FLAG_W,CTDSAL,CTDSAL_FLAG_W,SALNTY,SALNTY_FLAG_W,DNSSAL,DNSSAL_FLAG_W,CTDOXY,CTDOXY_FLAG_W,OXYGEN,OXYGEN_FLAG_W,CTDXMISS,CTDXMISSCP,CTDXMISS_FLAG_W,CTDFLUOR,CTDFLUOR_FLAG_W,CHLORA,CHLORA_FLAG_W,PAR,PAR_FLAG_W,SILCAT,SILCAT_FLAG_W,SILUNC,NITRAT,NITRAT_FLAG_W,NRAUNC,NITRIT,NITRIT_FLAG_W,NRIUNC,PHSPHT,PHSPHT_FLAG_W,PHPUNC,CFC-11,CFC-11_FLAG_W,CFC-12,CFC-12_FLAG_W,CFC113,CFC113_FLAG_W,SF6,SF6_FLAG_W,TCARBN,TCARBN_FLAG_W,ALKALI,ALKALI_FLAG_W,PH_TOT,PH_TMP,PH_TOT_FLAG_W,DELC13,DELC13_FLAG_W,C13ERR,DELC14,DELC14_FLAG_W,C14ERR,CS-134,CS-134_FLAG_W,CS134ER,CS-137,CS-137_FLAG_W,CS137ER
,,,,,,,,UTC,DEG,DEG,METERS,DBAR,,ITS-90,,ITS-90,,PSS-78,,PSS-78,,G/KG,,UMOL/KG,,UMOL/KG,,%TRANS,/METER,,MG/M^3,,MG/CUM,,UE/SQM/S,,UMOL/KG,,UMOL/KG,UMOL/KG,,UMOL/KG,UMOL/KG,,UMOL/KG,UMOL/KG,,UMOL/KG,PMOL/KG,,PMOL/KG,,PMOL/KG,,FMOL/KG,,UMOL/KG,,UMOL/KG,,,DEG C,,/MILLE,,/MILLE,/MILLE,,/MILLE,MBQ/KG,,MBQ/KG,MBQ/KG,,MBQ/KG
  49NZ20121128,  P14S,    25,  1,     36, X12J36,2,20121209,1542,-63.5055, 170.9830, 2338,      4.7,2,  -0.8178,2,  -0.81803,2,  33.8905,2,  33.8913,2,-999.0000,9,   359.07,2,   359.85,2,   95.615,   0.1794,2,    0.400,2,  -999.00,9,   15.316,2,    54.38,2,     0.11,    27.02,2,     0.04,     0.22,2,     0.01,     1.79,2,     0.01,    6.100,2,    3.360,2,    0.606,2,    2.993,2,   2168.4,2,   2291.6,2,   7.6903,       25,6, -999.000,1, -999.000,   -999.0,1,   -999.0, -999.000,9, -999.000, -999.000,9, -999.000
  49NZ20121128,  P14S,    25,  1,     35, X12J35,2,20121209,1542,-63.5055, 170.9830, 2338,     25.1,2,  -0.8199,2,  -0.81995,2,  33.8901,2,  33.8943,2,-999.0000,9,   358.71,2,   359.98,2,   95.558,   0.1817,2,    0.440,2,  -999.00,9,    2.968,2,    54.30,2,     0.11,    27.05,2,     0.04,     0.22,2,     0.01,     1.79,2,     0.01,    6.095,2,    3.353,2,    0.612,2,    2.907,2,   2168.3,2,   2292.8,2,   7.6893,       25,2, -999.000,1, -999.000,   -999.0,1,   -999.0, -999.000,9, -999.000, -999.000,9, -999.000
  49NZ20121128,  P14S,    25,  1,     34, X12J34,2,20121209,1542,-63.5055, 170.9830, 2338,     49.9,2,  -1.6945,2,  -1.69494,2,  34.0603,2,  34.0608,2,-999.0000,9,   351.19,2,   352.05,2,   95.868,   0.1688,2,    0.710,2,  -999.00,9,    0.459,2,    57.80,2,     0.11,    28.40,2,     0.04,     0.20,2,     0.01,     1.97,2,     0.01,    5.736,6,    3.201,6,    0.563,6,    2.856,6,   2186.2,2,   2303.0,2,   7.6666,       25,2, -999.000,1, -999.000,   -999.0,1,   -999.0, -999.000,9, -999.000, -999.000,9, -999.000
  49NZ20121128,  P14S,    25,  1,     33, X12J33,2,20121209,1542,-63.5055, 170.9830, 2338,     74.8,2,  -1.6257,2,  -1.62682,2,  34.1339,2,  34.1357,2,-999.0000,9,   336.49,2,   336.29,2,   98.145,   0.0749,2,    0.390,2,  -999.00,9,    0.063,2,    63.16,2,     0.12,    29.41,2,     0.04,     0.22,2,     0.01,     2.07,2,     0.01,    5.607,2,    3.199,2,    0.563,2,    2.824,2,   2200.3,6,   2308.0,2,   7.6415,       25,2, -999.000,1, -999.000,   -999.0,1,   -999.0, -999.000,9, -999.000, -999.000,9, -999.000
  49NZ20121128,  P14S,    25,  1,     32, X12J32,2,20121209,1542,-63.5055, 170.9830, 2338,    100.4,2,  -1.0885,2,  -1.08697,2,  34.2588,2,  34.2632,2,-999.0000,9,   305.01,2,   302.68,2,   99.272,   0.0292,2,    0.170,2,  -999.00,9,    0.000,2,    69.21,2,     0.12,    30.82,2,     0.04,     0.20,2,     0.01,     2.14,2,     0.01,    4.685,2,    2.645,2,    0.459,2,    2.283,2,   2217.3,2,   2315.0,6,   7.6134,       25,2, -999.000,1, -999.000,   -999.0,1,   -999.0, -999.000,9, -999.000, -999.000,9, -999.000
  49NZ20121128,  P14S,    25,  1,     31, X12J31,2,20121209,1542,-63.5055, 170.9830, 2338,    124.9,2,   0.0997,2,   0.09920,2,  34.4170,2,  34.4281,2,-999.0000,9,   248.11,2,   247.18,2,   99.515,   0.0194,2,    0.100,2,  -999.00,9,    0.000,2,    73.93,2,     0.13,    32.36,2,     0.05,     0.10,2,     0.01,     2.23,2,     0.01,    2.962,2,    1.652,2,    0.290,2,    1.455,2,   2235.9,2,   2323.8,2,   7.5859,       25,2, -999.000,1, -999.000,   -999.0,1,   -999.0, -999.000,9, -999.000, -999.000,9, -999.000
  49NZ20121128,  P14S,    25,  1,     30, X12J30,2,20121209,1542,-63.5055, 170.9830, 2338,    149.5,2,   1.1327,2,   1.13244,2,  34.5576,2,  34.5563,2,-999.0000,9,   206.33,2,   207.05,2,   99.663,   0.0135,2,    0.060,2,  -999.00,9,    0.000,2,    77.76,2,     0.13,    33.14,2,     0.05,     0.05,2,     0.01,     2.27,2,     0.01,    1.628,2,    0.903,2,    0.156,2,    0.758,2,   2249.2,2,   2330.6,2,   7.5695,       25,2, -999.000,1, -999.000,   -999.0,1,   -999.0, -999.000,9, -999.000, -999.000,9, -999.000
  49NZ20121128,  P14S,    25,  1,     29, X12J29,2,20121209,1542,-63.5055, 170.9830, 2338,    200.8,2,   1.8307,2,   1.83051,2,  34.6721,2,  34.6724,2,-999.0000,9,   178.52,2,   178.78,2,   99.745,   0.0102,2,    0.020,2,  -999.00,9,    0.000,2,    81.67,2,     0.13,    33.18,2,     0.05,     0.02,2,     0.01,     2.27,2,     0.01,    0.580,2,    0.299,2,    0.038,2,    0.242,2,   2257.6,2,   2333.7,2,   7.5658,       25,2, -999.000,1, -999.000,   -999.0,1,   -999.0, -999.000,9, -999.000, -999.000,9, -999.000
  49NZ20121128,  P14S,    25,  1,     28, X12J28,2,20121209,1542,-63.5055, 170.9830, 2338,    249.7,2,   1.8890,2,   1.88858,2,  34.6963,2,  34.6963,2,-999.0000,9,   179.48,2,   179.72,2,   99.795,   0.0082,2,    0.010,2,  -999.00,9,    0.000,2,    82.22,2,     0.13,    32.64,2,     0.05,     0.01,2,     0.01,     2.23,2,     0.01,    0.438,2,    0.217,2,    0.029,2,    0.172,2,   2256.4,2,   2340.5,2,   7.5747,       25,2, -999.000,1, -999.000,   -999.0,1,   -999.0, -999.000,9, -999.000, -999.000,9, -999.000
  49NZ20121128,  P14S,    25,  1,     27, X12J27,2,20121209,1542,-63.5055, 170.9830, 2338,    300.4,2,   1.8736,2,   1.87332,2,  34.7073,2,  34.7072,2,-999.0000,9,   181.68,2,   181.87,2,   99.874,   0.0050,2,    0.010,2,  -999.00,9,    0.000,2,    82.93,2,     0.13,    32.31,2,     0.05,     0.01,2,     0.01,     2.21,2,     0.01,    0.388,2,    0.192,2,    0.025,2,    0.132,2,   2255.5,2,   2343.4,2,   7.5813,       25,2, -999.000,1, -999.000,   -999.0,1,   -999.0, -999.000,9, -999.000, -999.000,9, -999.000
  49NZ20121128,  P14S,    25,  1,     26, X12J26,2,20121209,1542,-63.5055, 170.9830, 2338,    401.2,2,   1.7923,2,   1.79222,2,  34.7207,2,  34.7206,2,-999.0000,9,   185.63,2,   186.05,2,   99.803,   0.0079,2,    0.010,2,  -999.00,9,    0.000,2,    84.87,2,     0.13,    31.90,2,     0.04,     0.01,2,     0.01,     2.19,2,     0.01,    0.343,2,    0.167,2,    0.023,2,    0.105,2,   2254.3,2,   2345.4,2,   7.5901,       25,2, -999.000,1, -999.000,   -999.0,1,   -999.0, -999.000,9, -999.000, -999.000,9, -999.000
  49NZ20121128,  P14S,    25,  1,     25, X12J25,2,20121209,1542,-63.5055, 170.9830, 2338,    500.4,2,   1.7039,2,   1.70353,2,  34.7269,2,  34.7273,2,-999.0000,9,   189.22,2,   189.72,2,   99.874,   0.0050,2,    0.010,2,  -999.00,9,    0.000,2,    86.83,2,     0.14,    31.61,2,     0.04,     0.01,2,     0.01,     2.17,2,     0.01,    0.327,2,    0.161,2,    0.023,2,    0.100,2,   2253.4,2,   2348.0,3,   7.5963,       25,2, -999.000,1, -999.000,   -999.0,1,   -999.0, -999.000,9, -999.000, -999.000,9, -999.000
  49NZ20121128,  P14S,    25,  1,     24, X12J24,2,20121209,1542,-63.5055, 170.9830, 2338,    601.7,2,   1.6422,2,   1.64194,2,  34.7340,2,  34.7345,2,-999.0000,9,   191.96,2,   192.54,2,   99.931,   0.0028,2,    0.000,2,  -999.00,9,    0.000,2,    88.56,2,     0.14,    31.22,2,     0.04,     0.01,2,     0.01,     2.14,2,     0.01,    0.270,6,    0.127,6,    0.019,6,    0.092,6,   2252.7,2,   2348.2,2,   7.6027,       25,2, -999.000,1, -999.000,   -999.0,1,   -999.0, -999.000,9, -999.000, -999.000,9, -999.000
  49NZ20121128,  P14S,    25,  1,     23, X12J23,2,20121209,1542,-63.5055, 170.9830, 2338,    700.0,2,   1.5626,2,   1.56224,2,  34.7344,2,  34.7349,2,-999.0000,9,   193.81,2,   194.55,2,   99.889,   0.0044,2,    0.000,2,  -999.00,9,    0.000,2,    90.59,2,     0.14,    31.19,2,     0.04,     0.01,2,     0.01,     2.13,2,     0.01,    0.258,2,    0.122,2,    0.017,2,    0.049,2,   2252.8,6,   2350.8,2,   7.6057,       25,2, -999.000,1, -999.000,   -999.0,1,   -999.0, -999.000,9, -999.000, -999.000,9, -999.000
  49NZ20121128,  P14S,    25,  1,     22, X12J22,2,20121209,1542,-63.5055, 170.9830, 2338,    800.8,2,   1.4721,2,   1.47209,2,  34.7339,2,  34.7344,2,-999.0000,9,   195.69,2,   196.46,2,   99.968,   0.0013,2,    0.000,2,  -999.00,9,    0.000,2,    93.26,2,     0.14,    31.21,2,     0.04,     0.01,2,     0.01,     2.14,2,     0.01,    0.245,2,    0.113,2,    0.016,2,    0.101,2,   2253.2,2,   2351.4,6,   7.6072,       25,2, -999.000,1, -999.000,   -999.0,1,   -999.0, -999.000,9, -999.000, -999.000,9, -999.000
  49NZ20121128,  P14S,    25,  1,     21, X12J21,2,20121209,1542,-63.5055, 170.9830, 2338,    901.1,2,   1.3828,2,   1.38281,2,  34.7335,2,  34.7340,2,-999.0000,9,   197.58,2,   198.37,2,   99.958,   0.0017,2,    0.000,2,  -999.00,9,    0.000,2,    96.29,2,     0.15,    31.23,2,     0.04,     0.01,2,     0.01,     2.14,2,     0.01,    0.161,4,    0.152,4,    0.012,4,    0.000,4,   2254.4,2,   2353.2,2,   7.6102,       25,6, -999.000,1, -999.000,   -999.0,1,   -999.0, -999.000,9, -999.000, -999.000,9, -999.000
  49NZ20121128,  P14S,    25,  1,     20, X12J20,2,20121209,1542,-63.5055, 170.9830, 2338,   1000.0,2,   1.3064,2,   1.30630,2,  34.7313,2,  34.7318,2,-999.0000,9,   198.71,2,   199.54,2,   99.985,   0.0006,2,    0.000,2,  -999.00,9,    0.000,2,    98.66,2,     0.15,    31.34,2,     0.04,     0.01,2,     0.01,     2.15,2,     0.01,    0.152,4,    0.147,4,    0.011,4,    0.000,4,   2255.3,2,   2354.6,2,   7.6101,       25,2, -999.000,1, -999.000,   -999.0,1,   -999.0, -999.000,9, -999.000, -999.000,9, -999.000
  49NZ20121128,  P14S,    25,  1,     19, X12J19,2,20121209,1542,-63.5055, 170.9830, 2338,   1250.1,2,   1.0799,2,   1.07986,2,  34.7199,2,  34.7205,2,-999.0000,9,   200.22,2,   200.98,2,   99.927,   0.0029,2,    0.000,2,  -999.00,9,    0.000,2,   104.44,2,     0.15,    31.80,2,     0.04,     0.01,2,     0.01,     2.18,2,     0.01,    0.193,4,    0.181,4,    0.011,4,    0.000,4,   2257.8,2,   2355.2,2,   7.6046,       25,2, -999.000,1, -999.000,   -999.0,1,   -999.0, -999.000,9, -999.000, -999.000,9, -999.000
  49NZ20121128,  P14S,    25,  1,     18, X12J18,2,20121209,1542,-63.5055, 170.9830, 2338,   1501.7,2,   0.8872,2,   0.88725,2,  34.7121,2,  34.7129,2,-999.0000,9,   203.34,2,   204.08,2,   99.979,   0.0008,2,   -0.000,2,  -999.00,9,    0.000,2,   110.54,2,     0.16,    32.06,2,     0.04,     0.01,2,     0.01,     2.20,2,     0.01,    0.186,4,    0.181,4,    0.012,4,    0.000,4,   2260.0,2,   2357.1,2,   7.6046,       25,2, -999.000,1, -999.000,   -999.0,1,   -999.0, -999.000,9, -999.000, -999.000,9, -999.000
  49NZ20121128,  P14S,    25,  1,     17, X12J17,2,20121209,1542,-63.5055, 170.9830, 2338,   1750.3,2,   0.7138,2,   0.71373,2,  34.7043,2,  34.7050,2,-999.0000,9,   206.22,2,   207.12,2,   99.935,   0.0026,2,   -0.000,2,  -999.00,9,    0.000,2,   115.28,2,     0.16,    32.26,2,     0.05,     0.01,2,     0.01,     2.21,2,     0.01,    0.240,4,    0.243,4,    0.013,4,    0.000,4,   2260.6,2,   2357.2,2,   7.6030,       25,6, -999.000,1, -999.000,   -999.0,1,   -999.0, -999.000,9, -999.000, -999.000,9, -999.000
  49NZ20121128,  P14S,    25,  1,     16, X12J16,2,20121209,1542,-63.5055, 170.9830, 2338,   2002.1,2,   0.5886,2,   0.58870,2,  34.6989,2,  34.6997,2,-999.0000,9,   208.63,2,   208.85,2,   99.908,   0.0037,2,    0.000,2,  -999.00,9,    0.000,2,   118.08,2,     0.16,    32.42,2,     0.05,     0.01,2,     0.01,     2.23,2,     0.01,    0.315,4,    0.297,4,    0.016,4,    0.000,4,   2261.0,2,   2357.6,2,   7.6008,       25,2, -999.000,1, -999.000,   -999.0,1,   -999.0, -999.000,9, -999.000, -999.000,9, -999.000
  49NZ20121128,  P14S,    25,  1,     15, X12J15,2,20121209,1542,-63.5055, 170.9830, 2338,   2250.2,2,   0.5913,2,   0.59130,2,  34.6982,2,  34.6991,2,-999.0000,9,   208.78,2,   209.29,2,   99.868,   0.0053,2,   -0.000,2,  -999.00,9,    0.000,2,   118.19,3,     0.20,    32.38,2,     0.05,     0.01,2,     0.01,     2.23,2,     0.01,    0.304,4,    0.308,4,    0.015,4,    0.000,4,   2261.5,2,   2356.6,2,   7.6009,       25,2, -999.000,1, -999.000,   -999.0,1,   -999.0, -999.000,9, -999.000, -999.000,9, -999.000
  49NZ20121128,  P14S,    25,  1,      1, X12J01,2,20121209,1542,-63.5055, 170.9830, 2338,   2361.5,2,   0.5881,2,   0.58799,2,  34.6977,2,  34.6982,2,-999.0000,9,   209.04,2,   209.79,2,   99.818,   0.0073,2,   -0.000,2,  -999.00,9,    0.000,2,   118.55,2,     0.17,    32.46,2,     0.05,     0.01,2,     0.01,     2.23,2,     0.01,    0.298,4,    0.318,4,    0.015,4,    0.000,4,   2269.4,3,   2358.1,2,   7.6001,       25,2, -999.000,1, -999.000,   -999.0,1,   -999.0, -999.000,9, -999.000, -999.000,9, -999.000