BOTTLE,20220819CCHSIOAMB
EXPOCODE,SECT_ID,STNNBR,CASTNO,SAMPNO,BTLNBR,BTLNBR_FLAG_W,DATE,TIME,LATITUDE,LONGITUDE,DEPTH,CTDPRS,CTDPRS_FLAG_W,CTDTMP,CTDTMP_FLAG_W,SBE35,SBE35_FLAG_W,CTDSAL,CTDSAL_FLAG_W,SALNTY,SALNTY_FLAG_W,DNSSAL,DNSSAL_FLAG_W,CTDOXY,CTDOXY_FLAG_W,OXYGEN,OXYGEN_FLAG_W,CTDXMISS,CTDXMISSCP,CTDXMISS_FLAG_W,CTDFLUOR,CTDFLUOR_FLAG_W,CHLORA,CHLORA_FLAG_W,PAR,PAR_FLAG_W,SILCAT,SILCAT_FLAG_W,SILUNC,NITRAT,NITRAT_FLAG_W,NRAUNC,NITRIT,NITRIT_FLAG_W,NRIUNC,PHSPHT,PHSPHT_FLAG_W,PHPUNC,CFC-11,CFC-11_FLAG_W,CFC-12,CFC-12_FLAG_W,CFC113,CFC113_FLAG_W,SF6,SF6_FLAG_W,TCARBN,TCARBN_FLAG_W,ALKALI,ALKALI_FLAG_W,PH_TOT,PH_TMP,PH_TOT_FLAG_W,DELC13,DELC13_FLAG_W,C13ERR,DELC14,DELC14_FLAG_W,C14ERR,CS-134,CS-134_FLAG_W,CS134ER,CS-137,CS-137_FLAG_W,CS137ER
,,,,,,,,UTC,DEG,DEG,METERS,DBAR,,ITS-90,,ITS-90,,PSS-78,,PSS-78,,G/KG,,UMOL/KG,,UMOL/KG,,%TRANS,/METER,,MG/M^3,,MG/CUM,,UE/SQM/S,,UMOL/KG,,UMOL/KG,UMOL/KG,,UMOL/KG,UMOL/KG,,UMOL/KG,UMOL/KG,,UMOL/KG,PMOL/KG,,PMOL/KG,,PMOL/KG,,FMOL/KG,,UMOL/KG,,UMOL/KG,,,DEG C,,/MILLE,,/MILLE,/MILLE,,/MILLE,MBQ/KG,,MBQ/KG,MBQ/KG,,MBQ/KG
  49NZ20121128,  P14S,    11,  1,     36, X12J36,2,20121205,2110,-56.9945, 173.9860, 5442,      5.5,2,   6.9907,2,   6.99078,2,  34.1900,2,  34.1906,2,  34.3511,2,   295.71,2,   295.25,2,   96.837,   0.1286,2,    0.270,2,  -999.00,9,  168.674,2,     3.80,2,     0.06,    17.52,2,     0.03,     0.20,2,     0.01,     1.26,2,     0.01,    4.000,2,    2.307,2,    0.355,2,    2.171,2,   2113.2,2,   2279.1,2,   7.7939,       25,6, -999.000,1, -999.000,   -999.0,1,   -999.0, -999.000,9, -999.000, -999.000,9, -999.000
  49NZ20121128,  P14S,    11,  1,     35, X12J35,2,20121205,2110,-56.9945, 173.9860, 5442,     25.2,2,   6.9878,2,   6.98780,2,  34.1991,2,  34.2005,2,  34.3603,2,   295.56,2,   295.24,2,   96.879,   0.1268,2,    0.420,2,  -999.00,9,   32.645,2,     3.81,2,     0.06,    17.54,2,     0.03,     0.20,2,     0.01,     1.26,2,     0.01,    4.022,2,    2.313,2,    0.359,2,    2.208,2,   2113.1,2,   2278.8,2,   7.7934,       25,2, -999.000,1, -999.000,   -999.0,1,   -999.0, -999.000,9, -999.000, -999.000,9, -999.000
  49NZ20121128,  P14S,    11,  1,     34, X12J34,2,20121205,2110,-56.9945, 173.9860, 5442,     50.5,2,   6.9569,2,   6.95685,2,  34.2284,2,  34.2317,2,  34.3933,2,   293.13,2,   292.63,2,   97.504,   0.1011,2,    0.430,2,  -999.00,9,    7.646,2,     4.00,2,     0.06,    17.80,2,     0.03,     0.21,2,     0.01,     1.28,2,     0.01,    4.015,6,    2.311,6,    0.353,6,    2.161,6,   2118.5,2,   2280.6,2,   7.7870,       25,2, -999.000,1, -999.000,   -999.0,1,   -999.0, -999.000,9, -999.000, -999.000,9, -999.000
  49NZ20121128,  P14S,    11,  1,     33, X12J33,2,20121205,2110,-56.9945, 173.9860, 5442,     75.2,2,   6.8388,2,   6.83831,2,  34.2728,2,  34.2731,2,  34.4322,2,   282.17,2,   282.04,2,   99.284,   0.0287,2,    0.160,2,  -999.00,9,    3.364,2,     4.94,2,     0.06,    18.88,2,     0.03,     0.24,2,     0.01,     1.36,2,     0.01,    3.976,2,    2.281,2,    0.334,2,    2.160,2,   2125.9,6,   2280.3,2,   7.7657,       25,2, -999.000,1, -999.000,   -999.0,1,   -999.0, -999.000,9, -999.000, -999.000,9, -999.000
  49NZ20121128,  P14S,    11,  1,     32, X12J32,2,20121205,2110,-56.9945, 173.9860, 5442,    100.1,2,   6.9062,2,   6.90508,2,  34.3055,2,  34.3060,2,  34.4664,2,   286.43,2,   286.68,2,   98.419,   0.0637,2,    0.290,2,  -999.00,9,    1.416,2,     4.42,2,     0.06,    18.01,2,     0.03,     0.37,2,     0.00,     1.31,2,     0.01,    3.963,2,    2.289,2,    0.345,2,    2.112,2,   2123.7,2,   2282.6,6,   7.7753,       25,2, -999.000,1, -999.000,   -999.0,1,   -999.0, -999.000,9, -999.000, -999.000,9, -999.000
  49NZ20121128,  P14S,    11,  1,     31, X12J31,2,20121205,2110,-56.9945, 173.9860, 5442,    125.3,2,   6.8200,2,   6.82027,2,  34.3040,2,  34.3045,2,  34.4664,2,   284.48,2,   284.52,2,   98.603,   0.0563,2,    0.220,2,  -999.00,9,    0.393,2,     4.71,2,     0.06,    18.42,2,     0.03,     0.38,2,     0.00,     1.33,2,     0.01,    3.953,2,    2.276,2,    0.339,2,    2.120,2,   2125.3,2,   2280.7,2,   7.7700,       25,2, -999.000,1, -999.000,   -999.0,1,   -999.0, -999.000,9, -999.000, -999.000,9, -999.000
  49NZ20121128,  P14S,    11,  1,     30, X12J30,2,20121205,2110,-56.9945, 173.9860, 5442,    149.9,2,   6.6693,2,   6.66982,2,  34.2816,2,  34.2837,2,  34.4453,2,   283.90,2,   283.94,2,   99.167,   0.0335,2,    0.150,2,  -999.00,9,    0.107,2,     5.21,2,     0.06,    18.97,2,     0.03,     0.32,2,     0.01,     1.36,2,     0.01,    3.976,2,    2.296,2,    0.339,2,    2.107,2,   2126.6,2,   2283.2,2,   7.7648,       25,6, -999.000,1, -999.000,   -999.0,1,   -999.0, -999.000,9, -999.000, -999.000,9, -999.000
  49NZ20121128,  P14S,    11,  1,     29, X12J29,2,20121205,2110,-56.9945, 173.9860, 5442,    201.4,2,   6.1010,2,   6.10094,2,  34.2118,2,  34.2129,2,  34.3755,2,   281.03,2,   280.35,2,   99.618,   0.0153,2,    0.070,2,  -999.00,9,    0.000,2,     6.85,2,     0.06,    21.03,2,     0.03,     0.21,2,     0.01,     1.48,2,     0.01,    4.040,2,    2.279,2,    0.334,2,    2.054,2,   2134.0,2,   2278.5,2,   7.7453,       25,2, -999.000,1, -999.000,   -999.0,1,   -999.0, -999.000,9, -999.000, -999.000,9, -999.000
  49NZ20121128,  P14S,    11,  1,     28, X12J28,2,20121205,2110,-56.9945, 173.9860, 5442,    250.7,2,   5.9401,2,   5.94112,2,  34.2103,2,  34.2093,2,  34.3721,2,   283.48,2,   283.47,2,   99.706,   0.0118,2,    0.050,2,  -999.00,9,    0.000,2,     7.14,2,     0.07,    21.44,2,     0.03,     0.13,2,     0.01,     1.50,2,     0.01,    4.068,2,    2.297,2,    0.342,2,    2.063,2,   2134.8,2,   2279.2,2,   7.7440,       25,2, -999.000,1, -999.000,   -999.0,1,   -999.0, -999.000,9, -999.000, -999.000,9, -999.000
  49NZ20121128,  P14S,    11,  1,     27, X12J27,2,20121205,2110,-56.9945, 173.9860, 5442,    330.7,2,   5.6387,2,   5.64014,2,  34.1923,2,  34.1938,2,  34.3550,2,   285.39,2,   284.58,2,   99.802,   0.0079,2,    0.020,2,  -999.00,9,    0.000,2,     7.74,2,     0.07,    22.10,2,     0.03,     0.04,2,     0.01,     1.53,2,     0.01,    4.122,2,    2.312,2,    0.343,2,    2.113,2,   2137.0,2,   2276.7,2,   7.7386,       25,2, -999.000,1, -999.000,   -999.0,1,   -999.0, -999.000,9, -999.000, -999.000,9, -999.000
  49NZ20121128,  P14S,    11,  1,     26, X12J26,2,20121205,2110,-56.9945, 173.9860, 5442,    431.5,2,   5.3792,2,   5.37851,2,  34.1664,2,  34.1671,2,  34.3286,2,   293.42,2,   292.97,2,   99.794,   0.0082,2,    0.040,2,  -999.00,9,    0.000,2,     7.21,2,     0.07,    21.84,2,     0.03,     0.14,2,     0.01,     1.53,2,     0.01,    4.182,2,    2.397,2,    0.361,2,    2.129,2,   2133.7,2,   2276.9,2,   7.7437,       25,2, -999.000,1, -999.000,   -999.0,1,   -999.0, -999.000,9, -999.000, -999.000,9, -999.000
  49NZ20121128,  P14S,    11,  1,     25, X12J25,2,20121205,2110,-56.9945, 173.9860, 5442,    529.1,2,   5.1481,2,   5.14226,2,  34.2083,2,  34.2104,2,  34.3717,2,   249.38,2,   249.09,2,   99.884,   0.0046,2,   -0.010,2,  -999.00,9,    0.000,2,    14.87,2,     0.07,    26.25,2,     0.04,     0.01,2,     0.01,     1.80,2,     0.01,    3.736,2,    2.027,2,    0.270,2,    1.487,2,   2162.0,2,   2282.1,2,   7.6816,       25,2, -999.000,1, -999.000,   -999.0,1,   -999.0, -999.000,9, -999.000, -999.000,9, -999.000
  49NZ20121128,  P14S,    11,  1,     24, X12J24,2,20121205,2110,-56.9945, 173.9860, 5442,    630.6,2,   4.5656,2,   4.56528,2,  34.2357,2,  34.2352,2,  34.3965,2,   233.78,2,   234.31,2,   99.913,   0.0035,2,   -0.010,2,  -999.00,9,    0.000,2,    21.53,2,     0.08,    28.56,2,     0.04,     0.01,2,     0.01,     1.95,2,     0.01,    3.376,6,    1.805,6,    0.237,6,    1.182,6,   2177.8,2,   2287.5,2,   7.6501,       25,2, -999.000,1, -999.000,   -999.0,1,   -999.0, -999.000,9, -999.000, -999.000,9, -999.000
  49NZ20121128,  P14S,    11,  1,     23, X12J23,2,20121205,2110,-56.9945, 173.9860, 5442,    732.1,2,   4.0536,2,   4.05329,2,  34.2558,2,  34.2567,2,  34.4190,2,   225.04,2,   225.37,2,   99.921,   0.0032,2,   -0.000,2,  -999.00,9,    0.000,2,    27.92,2,     0.08,    30.18,2,     0.04,     0.01,2,     0.01,     2.06,2,     0.01,    2.983,2,    1.601,2,    0.207,2,    0.932,2,   2191.6,6,   2291.3,2,   7.6299,       25,2, -999.000,1, -999.000,   -999.0,1,   -999.0, -999.000,9, -999.000, -999.000,9, -999.000
  49NZ20121128,  P14S,    11,  1,     22, X12J22,2,20121205,2110,-56.9945, 173.9860, 5442,    829.4,2,   3.6325,2,   3.62975,2,  34.2931,2,  34.2940,2,  34.4579,2,   214.26,2,   214.54,2,   99.919,   0.0032,2,   -0.000,2,  -999.00,9,    0.000,2,    35.71,2,     0.09,    31.55,2,     0.04,     0.01,2,     0.01,     2.17,2,     0.01,    2.528,2,    1.337,2,    0.175,2,    0.719,2,   2204.9,2,   2301.1,6,   7.6117,       25,2, -999.000,1, -999.000,   -999.0,1,   -999.0, -999.000,9, -999.000, -999.000,9, -999.000
  49NZ20121128,  P14S,    11,  1,     21, X12J21,2,20121205,2110,-56.9945, 173.9860, 5442,    930.6,2,   3.2431,2,   3.24292,2,  34.3279,2,  34.3275,2,  34.4921,2,   205.34,2,   205.67,2,   99.927,   0.0029,2,   -0.000,2,  -999.00,9,    0.000,2,    42.94,2,     0.10,    32.67,2,     0.05,     0.01,2,     0.01,     2.25,2,     0.01,    2.138,2,    1.140,2,    0.153,2,    0.638,2,   2216.5,2,   2306.5,2,   7.5951,       25,6, -999.000,1, -999.000,   -999.0,1,   -999.0, -999.000,9, -999.000, -999.000,9, -999.000
  49NZ20121128,  P14S,    11,  1,     20, X12J20,2,20121205,2110,-56.9945, 173.9860, 5442,   1080.1,2,   2.9161,2,   2.91591,2,  34.4071,2,  34.4073,2,  34.5732,2,   189.93,2,   190.13,2,   99.927,   0.0029,2,   -0.000,2,  -999.00,9,    0.000,2,    54.02,2,     0.11,    33.83,2,     0.05,     0.01,2,     0.01,     2.32,2,     0.01,    1.490,2,    0.786,2,    0.098,2,    0.426,2,   2233.9,2,   2317.5,2,   7.5763,       25,2, -999.000,1, -999.000,   -999.0,1,   -999.0, -999.000,9, -999.000, -999.000,9, -999.000
  49NZ20121128,  P14S,    11,  1,     19, X12J19,2,20121205,2110,-56.9945, 173.9860, 5442,   1330.7,2,   2.6056,2,   2.60634,2,  34.5408,2,  34.5426,2,  34.7117,2,   175.21,2,   175.16,2,   99.921,   0.0032,2,    0.000,2,  -999.00,9,    0.000,2,    67.29,2,     0.12,    34.12,2,     0.05,     0.01,2,     0.01,     2.34,2,     0.01,    0.733,6,    0.371,6,    0.044,6,    0.173,6,   2249.7,2,   2331.3,2,   7.5656,       25,2, -999.000,1, -999.000,   -999.0,1,   -999.0, -999.000,9, -999.000, -999.000,9, -999.000
  49NZ20121128,  P14S,    11,  1,     18, X12J18,2,20121205,2110,-56.9945, 173.9860, 5442,   1580.2,2,   2.4411,2,   2.44050,2,  34.6308,2,  34.6310,2,  34.7993,2,   175.05,2,   175.03,2,   99.952,   0.0019,2,    0.000,2,  -999.00,9,    0.000,2,    73.46,2,     0.12,    33.21,2,     0.05,     0.01,2,     0.01,     2.28,2,     0.01,    0.406,2,    0.198,2,    0.023,2,    0.111,2,   2252.8,2,   2338.5,2,   7.5759,       25,2, -999.000,1, -999.000,   -999.0,1,   -999.0, -999.000,9, -999.000, -999.000,9, -999.000
  49NZ20121128,  P14S,    11,  1,     17, X12J17,2,20121205,2110,-56.9945, 173.9860, 5442,   1829.6,2,   2.2901,2,   2.29017,2,  34.6884,2,  34.6891,2,  34.8580,2,   180.10,2,   180.02,2,   99.938,   0.0025,2,    0.000,2,  -999.00,9,    0.000,2,    77.73,2,     0.13,    32.22,2,     0.05,     0.01,2,     0.01,     2.21,2,     0.01,    0.259,2,    0.123,2,    0.013,2,    0.060,2,   2252.8,2,   2343.5,2,   7.5903,       25,2, -999.000,1, -999.000,   -999.0,1,   -999.0, -999.000,9, -999.000, -999.000,9, -999.000
  49NZ20121128,  P14S,    11,  1,     16, X12J16,2,20121205,2110,-56.9945, 173.9860, 5442,   2080.9,2,   2.1479,2,   2.14797,2,  34.7188,2,  34.7190,2,  34.8897,2,   185.32,2,   185.30,2,   99.969,   0.0012,2,    0.000,2,  -999.00,9,    0.000,2,    81.47,2,     0.13,    31.57,2,     0.04,     0.01,2,     0.01,     2.17,2,     0.01,    0.193,2,    0.089,2,    0.010,2,    0.035,2,   2252.4,2,   2347.4,2,   7.6008,       25,2, -999.000,1, -999.000,   -999.0,1,   -999.0, -999.000,9, -999.000, -999.000,9, -999.000
  49NZ20121128,  P14S,    11,  1,     15, X12J15,2,20121205,2110,-56.9945, 173.9860, 5442,   2331.1,2,   1.9779,2,   1.97840,2,  34.7342,2,  34.7341,2,  34.9048,2,   190.20,2,   190.02,2,   99.961,   0.0016,2,    0.000,2,  -999.00,9,    0.000,2,    85.96,2,     0.14,    31.20,2,     0.04,     0.01,2,     0.01,     2.14,2,     0.01,    0.161,2,    0.070,2,    0.010,2,    0.050,2,   2252.5,2,   2351.6,2,   7.6088,       25,2, -999.000,1, -999.000,   -999.0,1,   -999.0, -999.000,9, -999.000, -999.000,9, -999.000
  49NZ20121128,  P14S,    11,  1,     14, X12J14,2,20121205,2110,-56.9945, 173.9860, 5442,   2580.1,2,   1.7763,2,   1.77629,2,  34.7378,2,  34.7377,2,  34.9114,2,   194.32,2,   194.10,2,   99.971,   0.0012,2,    0.000,2,  -999.00,9,    0.000,2,    91.59,2,     0.14,    31.16,2,     0.04,     0.01,2,     0.01,     2.14,2,     0.01,    0.149,2,    0.063,2,    0.008,2,    0.015,2,   2254.6,6,   2355.3,2,   7.6134,       25,2, -999.000,1, -999.000,   -999.0,1,   -999.0, -999.000,9, -999.000, -999.000,9, -999.000
  49NZ20121128,  P14S,    11,  1,     13, X12J13,2,20121205,2110,-56.9945, 173.9860, 5442,   2832.6,2,   1.5711,2,   1.57139,2,  34.7346,2,  34.7343,2,  34.9074,2,   197.58,2,   197.26,2,   99.969,   0.0012,2,   -0.000,2,  -999.00,9,    0.000,2,    97.61,2,     0.15,    31.32,2,     0.04,     0.01,2,     0.01,     2.16,2,     0.01,    0.139,2,    0.060,2,    0.007,2,    0.000,2,   2258.4,2,   2356.7,6,   7.6149,       25,2, -999.000,1, -999.000,   -999.0,1,   -999.0, -999.000,9, -999.000, -999.000,9, -999.000
  49NZ20121128,  P14S,    11,  1,     12, X12J12,2,20121205,2110,-56.9945, 173.9860, 5442,   3081.2,2,   1.4084,2,   1.40873,2,  34.7295,2,  34.7292,2,  34.9009,2,   200.05,2,   199.79,2,   99.978,   0.0009,2,    0.000,2,  -999.00,9,    0.000,2,   102.42,2,     0.15,    31.45,2,     0.04,     0.01,2,     0.01,     2.16,2,     0.01,    0.147,2,    0.062,2,    0.006,2,    0.026,2,   2260.0,2,   2358.0,2,   7.6151,       25,6, -999.000,1, -999.000,   -999.0,1,   -999.0, -999.000,9, -999.000, -999.000,9, -999.000
  49NZ20121128,  P14S,    11,  1,     11, X12J11,2,20121205,2110,-56.9945, 173.9860, 5442,   3331.0,2,   1.2768,2,   1.27686,2,  34.7240,2,  34.7237,2,  34.8989,2,   202.20,2,   201.90,2,   99.957,   0.0017,2,    0.000,2,  -999.00,9,    0.000,2,   106.44,2,     0.15,    31.66,2,     0.04,     0.01,2,     0.01,     2.18,2,     0.01,    0.160,2,    0.069,2,    0.007,2,    0.016,2,   2261.0,2,   2361.5,2,   7.6146,       25,2, -999.000,1, -999.000,   -999.0,1,   -999.0, -999.000,9, -999.000, -999.000,9, -999.000
  49NZ20121128,  P14S,    11,  1,     10, X12J10,2,20121205,2110,-56.9945, 173.9860, 5442,   3580.8,2,   1.1637,2,   1.16331,2,  34.7186,2,  34.7187,2,  34.8920,2,   204.30,2,   203.82,2,   99.952,   0.0019,2,   -0.000,2,  -999.00,9,    0.000,2,   109.91,2,     0.16,    31.86,2,     0.04,     0.01,2,     0.01,     2.19,2,     0.01,    0.194,2,    0.088,2,    0.010,2,    0.028,2,   2261.2,2,   2362.1,2,   7.6137,       25,2, -999.000,1, -999.000,   -999.0,1,   -999.0, -999.000,9, -999.000, -999.000,9, -999.000
  49NZ20121128,  P14S,    11,  1,      9, X12J09,2,20121205,2110,-56.9945, 173.9860, 5442,   3831.8,2,   1.0742,2,   1.07424,2,  34.7138,2,  34.7139,2,  34.8850,2,   206.18,2,   205.75,2,   99.950,   0.0020,2,   -0.000,2,  -999.00,9,    0.000,2,   112.76,2,     0.16,    31.97,2,     0.04,     0.01,2,     0.01,     2.20,2,     0.01,    0.223,2,    0.102,2,    0.011,2,    0.088,2,   2261.3,2,   2362.1,2,   7.6119,       25,2, -999.000,1, -999.000,   -999.0,1,   -999.0, -999.000,9, -999.000, -999.000,9, -999.000
  49NZ20121128,  P14S,    11,  1,      8, X12J08,2,20121205,2110,-56.9945, 173.9860, 5442,   4079.4,2,   0.9929,2,   0.99292,2,  34.7093,2,  34.7092,2,  34.8833,2,   207.86,2,   207.49,2,   99.950,   0.0020,2,   -0.000,2,  -999.00,9,    0.000,2,   115.68,2,     0.16,    32.10,2,     0.05,     0.01,2,     0.01,     2.21,2,     0.01,    0.255,6,    0.121,6,    0.011,6,    0.050,6,   2261.7,2,   2361.1,2,   7.6108,       25,2, -999.000,1, -999.000,   -999.0,1,   -999.0, -999.000,9, -999.000, -999.000,9, -999.000
  49NZ20121128,  P14S,    11,  1,      7, X12J07,2,20121205,2110,-56.9945, 173.9860, 5442,   4329.9,2,   0.9552,2,   0.95518,2,  34.7065,2,  34.7064,2,  34.8831,2,   208.87,2,   208.54,2,   99.934,   0.0026,2,   -0.000,2,  -999.00,9,    0.000,2,   117.17,2,     0.16,    32.18,2,     0.05,     0.01,2,     0.01,     2.22,2,     0.01,    0.285,2,    0.135,2,    0.013,2,    0.094,2,   2261.7,6,   2361.5,2,   7.6095,       25,2, -999.000,1, -999.000,   -999.0,1,   -999.0, -999.000,9, -999.000, -999.000,9, -999.000
  49NZ20121128,  P14S,    11,  1,      6, X12J06,2,20121205,2110,-56.9945, 173.9860, 5442,   4579.5,2,   0.9306,2,   0.93069,2,  34.7043,2,  34.7044,2,  34.8804,2,   209.69,2,   209.33,2,   99.932,   0.0027,2,   -0.000,2,  -999.00,9,    0.000,2,   118.61,2,     0.17,    32.24,2,     0.05,     0.01,2,     0.01,     2.22,2,     0.01,    0.298,2,    0.146,2,    0.014,2,    0.044,2,   2262.1,2,   2360.8,6,   7.6080,       25,2, -999.000,1, -999.000,   -999.0,1,   -999.0, -999.000,9, -999.000, -999.000,9, -999.000
  49NZ20121128,  P14S,    11,  1,      5, X12J05,2,20121205,2110,-56.9945, 173.9860, 5442,   4828.8,2,   0.9166,2,   0.91668,2,  34.7025,2,  34.7028,2,  34.8758,2,   210.23,2,   209.72,2,   99.904,   0.0038,2,   -0.000,2,  -999.00,9,    0.000,2,   119.82,2,     0.17,    32.32,2,     0.05,     0.01,2,     0.01,     2.22,2,     0.01,    0.322,2,    0.158,2,    0.016,2,    0.033,2,   2262.0,2,   2360.6,2,   7.6079,       25,6, -999.000,1, -999.000,   -999.0,1,   -999.0, -999.000,9, -999.000, -999.000,9, -999.000
  49NZ20121128,  P14S,    11,  1,      4, X12J04,2,20121205,2110,-56.9945, 173.9860, 5442,   5080.5,2,   0.9209,2,   0.92094,2,  34.7013,2,  34.7018,2,  34.8732,2,   210.44,2,   210.09,2,   99.867,   0.0053,2,   -0.000,2,  -999.00,9,    0.000,2,   120.44,2,     0.17,    32.33,2,     0.05,     0.01,2,     0.01,     2.22,2,     0.01,    0.347,2,    0.170,2,    0.018,2,    0.069,2,   2262.0,2,   2360.3,2,   7.6073,       25,2, -999.000,1, -999.000,   -999.0,1,   -999.0, -999.000,9, -999.000, -999.000,9, -999.000
  49NZ20121128,  P14S,    11,  1,      3, X12J03,2,20121205,2110,-56.9945, 173.9860, 5442,   5329.0,2,   0.9366,2,   0.93649,2,  34.7004,2,  34.7011,2,  34.8742,2,   210.51,2,   210.27,2,   99.840,   0.0064,2,   -0.000,2,  -999.00,9,    0.000,2,   121.01,2,     0.17,    32.39,2,     0.05,     0.01,2,     0.01,     2.23,2,     0.01,    0.360,2,    0.178,2,    0.019,2,    0.076,2,   2261.9,2,   2360.7,2,   7.6076,       25,2, -999.000,1, -999.000,   -999.0,1,   -999.0, -999.000,9, -999.000, -999.000,9, -999.000
  49NZ20121128,  P14S,    11,  1,      1, X12J01,2,20121205,2110,-56.9945, 173.9860, 5442,   5551.1,2,   0.9462,2,   0.94640,2,  34.6996,2,  34.7004,2,  34.8738,2,   210.63,2,   210.59,2,   99.773,   0.0091,2,   -0.000,2,  -999.00,9,    0.000,2,   121.38,2,     0.17,    32.36,2,     0.05,     0.01,2,     0.01,     2.23,2,     0.01,    0.380,2,    0.187,2,    0.021,2,    0.081,2,   2261.4,2,   2359.6,2,   7.6068,       25,2, -999.000,1, -999.000,   -999.0,1,   -999.0, -999.000,9, -999.000, -999.000,9, -999.000