BOTTLE,20220819CCHSIOAMB
EXPOCODE,SECT_ID,STNNBR,CASTNO,SAMPNO,BTLNBR,BTLNBR_FLAG_W,DATE,TIME,LATITUDE,LONGITUDE,DEPTH,CTDPRS,CTDPRS_FLAG_W,CTDTMP,CTDTMP_FLAG_W,SBE35,SBE35_FLAG_W,CTDSAL,CTDSAL_FLAG_W,SALNTY,SALNTY_FLAG_W,DNSSAL,DNSSAL_FLAG_W,CTDOXY,CTDOXY_FLAG_W,OXYGEN,OXYGEN_FLAG_W,CTDXMISS,CTDXMISSCP,CTDXMISS_FLAG_W,CTDFLUOR,CTDFLUOR_FLAG_W,CHLORA,CHLORA_FLAG_W,PAR,PAR_FLAG_W,SILCAT,SILCAT_FLAG_W,SILUNC,NITRAT,NITRAT_FLAG_W,NRAUNC,NITRIT,NITRIT_FLAG_W,NRIUNC,PHSPHT,PHSPHT_FLAG_W,PHPUNC,CFC-11,CFC-11_FLAG_W,CFC-12,CFC-12_FLAG_W,CFC113,CFC113_FLAG_W,SF6,SF6_FLAG_W,TCARBN,TCARBN_FLAG_W,ALKALI,ALKALI_FLAG_W,PH_TOT,PH_TMP,PH_TOT_FLAG_W,DELC13,DELC13_FLAG_W,C13ERR,DELC14,DELC14_FLAG_W,C14ERR,CS-134,CS-134_FLAG_W,CS134ER,CS-137,CS-137_FLAG_W,CS137ER
,,,,,,,,UTC,DEG,DEG,METERS,DBAR,,ITS-90,,ITS-90,,PSS-78,,PSS-78,,G/KG,,UMOL/KG,,UMOL/KG,,%TRANS,/METER,,MG/M^3,,MG/CUM,,UE/SQM/S,,UMOL/KG,,UMOL/KG,UMOL/KG,,UMOL/KG,UMOL/KG,,UMOL/KG,UMOL/KG,,UMOL/KG,PMOL/KG,,PMOL/KG,,PMOL/KG,,FMOL/KG,,UMOL/KG,,UMOL/KG,,,DEG C,,/MILLE,,/MILLE,/MILLE,,/MILLE,MBQ/KG,,MBQ/KG,MBQ/KG,,MBQ/KG
  49NZ20121128,   S04,   406,  1,     36, X12J36,2,20121211,0228,-64.0108, 165.6547, 3064,      4.9,2,  -1.1194,2,  -1.11972,2,  33.8749,2,  33.8755,2,-999.0000,9,   334.12,2,   334.54,2,   95.790,   0.1720,2,    0.280,2,  -999.00,9,  109.794,2,    71.60,2,     0.12,    28.52,2,     0.04,     0.17,2,     0.01,     1.94,2,     0.01,    5.123,2,    2.804,2,    0.481,2, -999.000,9,   -999.0,9,   -999.0,9,-999.0000,     -999,9, -999.000,9, -999.000,   -999.0,9,   -999.0, -999.000,9, -999.000, -999.000,9, -999.000
  49NZ20121128,   S04,   406,  1,     35, X12J35,2,20121211,0228,-64.0108, 165.6547, 3064,     24.6,2,  -1.6532,2,  -1.65285,2,  34.0301,2,  34.0396,2,-999.0000,9,   314.65,2,   312.82,2,   96.087,   0.1597,2,    0.430,2,  -999.00,9,   23.240,2,    72.45,2,     0.12,    28.76,2,     0.04,     0.12,2,     0.01,     1.97,2,     0.01,    4.346,2,    2.379,2,    0.414,2, -999.000,9,   -999.0,9,   -999.0,9,-999.0000,     -999,9, -999.000,9, -999.000,   -999.0,9,   -999.0, -999.000,9, -999.000, -999.000,9, -999.000
  49NZ20121128,   S04,   406,  1,     34, X12J34,2,20121211,0228,-64.0108, 165.6547, 3064,     49.5,2,  -1.7182,2,  -1.71860,2,  34.1256,2,  34.1264,2,-999.0000,9,   303.33,2,   301.94,2,   97.122,   0.1168,2,    0.470,2,  -999.00,9,    4.985,2,    73.09,2,     0.12,    29.32,2,     0.04,     0.12,2,     0.01,     2.01,2,     0.01,    4.156,6,    2.271,6,    0.391,6, -999.000,9,   -999.0,9,   -999.0,9,-999.0000,     -999,9, -999.000,9, -999.000,   -999.0,9,   -999.0, -999.000,9, -999.000, -999.000,9, -999.000
  49NZ20121128,   S04,   406,  1,     33, X12J33,2,20121211,0228,-64.0108, 165.6547, 3064,     74.7,2,  -0.7354,2,  -0.72173,2,  34.3760,2,  34.3863,2,-999.0000,9,   261.83,2,   258.04,2,   98.653,   0.0542,2,    0.350,2,  -999.00,9,    1.269,2,    80.69,2,     0.13,    31.16,2,     0.04,     0.08,2,     0.01,     2.14,2,     0.01,    2.886,2,    1.576,2,    0.272,2, -999.000,9,   -999.0,9,   -999.0,9,-999.0000,     -999,9, -999.000,9, -999.000,   -999.0,9,   -999.0, -999.000,9, -999.000, -999.000,9, -999.000
  49NZ20121128,   S04,   406,  1,     32, X12J32,2,20121211,0228,-64.0108, 165.6547, 3064,    100.4,2,   0.5600,2,   0.55916,2,  34.5919,2,  34.5912,2,-999.0000,9,   214.74,2,   214.77,2,   99.385,   0.0247,2,    0.190,2,  -999.00,9,    0.381,2,    87.61,2,     0.14,    32.20,2,     0.05,     0.03,2,     0.01,     2.21,2,     0.01,    1.467,2,    0.790,2,    0.138,2, -999.000,9,   -999.0,9,   -999.0,9,-999.0000,     -999,9, -999.000,9, -999.000,   -999.0,9,   -999.0, -999.000,9, -999.000, -999.000,9, -999.000
  49NZ20121128,   S04,   406,  1,     31, X12J31,2,20121211,0228,-64.0108, 165.6547, 3064,    125.1,2,   1.1556,2,   1.15481,2,  34.6819,2,  34.6814,2,-999.0000,9,   193.54,2,   193.21,2,   99.764,   0.0095,2,    0.070,2,  -999.00,9,    0.139,2,    91.16,2,     0.14,    32.46,2,     0.05,     0.01,2,     0.01,     2.23,2,     0.01,    0.728,2,    0.373,2,    0.068,2, -999.000,9,   -999.0,9,   -999.0,9,-999.0000,     -999,9, -999.000,9, -999.000,   -999.0,9,   -999.0, -999.000,9, -999.000, -999.000,9, -999.000
  49NZ20121128,   S04,   406,  1,     30, X12J30,2,20121211,0228,-64.0108, 165.6547, 3064,    150.3,2,   1.2302,2,   1.22994,2,  34.6978,2,  34.6977,2,-999.0000,9,   191.28,2,   191.17,2,   99.896,   0.0042,2,    0.010,2,  -999.00,9,    0.044,2,    92.54,2,     0.14,    32.40,2,     0.05,     0.01,2,     0.01,     2.23,2,     0.01,    0.606,2,    0.308,2,    0.052,2, -999.000,9,   -999.0,9,   -999.0,9,-999.0000,     -999,9, -999.000,9, -999.000,   -999.0,9,   -999.0, -999.000,9, -999.000, -999.000,9, -999.000
  49NZ20121128,   S04,   406,  1,     29, X12J29,2,20121211,0228,-64.0108, 165.6547, 3064,    200.1,2,   1.2635,2,   1.26358,2,  34.7100,2,  34.7096,2,-999.0000,9,   191.05,2,   190.78,2,   99.938,   0.0025,2,    0.010,2,  -999.00,9,    0.000,2,    94.62,2,     0.14,    32.29,2,     0.05,     0.01,2,     0.01,     2.22,2,     0.01,    0.474,2,    0.242,2,    0.045,2, -999.000,9,   -999.0,9,   -999.0,9,-999.0000,     -999,9, -999.000,9, -999.000,   -999.0,9,   -999.0, -999.000,9, -999.000, -999.000,9, -999.000
  49NZ20121128,   S04,   406,  1,     28, X12J28,2,20121211,0228,-64.0108, 165.6547, 3064,    250.4,2,   1.2466,2,   1.24653,2,  34.7144,2,  34.7137,2,-999.0000,9,   191.51,2,   191.55,2,   99.965,   0.0014,2,    0.000,2,  -999.00,9,    0.000,2,    96.41,2,     0.15,    32.26,2,     0.05,     0.01,2,     0.01,     2.22,2,     0.01,    0.418,2,    0.210,2,    0.037,2, -999.000,9,   -999.0,9,   -999.0,9,-999.0000,     -999,9, -999.000,9, -999.000,   -999.0,9,   -999.0, -999.000,9, -999.000, -999.000,9, -999.000
  49NZ20121128,   S04,   406,  1,     27, X12J27,2,20121211,0228,-64.0108, 165.6547, 3064,    282.7,2,   1.2375,2,   1.23749,2,  34.7172,2,  34.7167,2,-999.0000,9,   191.76,2,   191.98,2,   99.975,   0.0010,2,    0.000,2,  -999.00,9,    0.000,2,    97.15,2,     0.15,    32.13,2,     0.05,     0.01,2,     0.01,     2.20,2,     0.01,    0.369,2,    0.181,2,    0.039,2, -999.000,9,   -999.0,9,   -999.0,9,-999.0000,     -999,9, -999.000,9, -999.000,   -999.0,9,   -999.0, -999.000,9, -999.000, -999.000,9, -999.000
  49NZ20121128,   S04,   406,  1,     26, X12J26,2,20121211,0228,-64.0108, 165.6547, 3064,    370.5,2,   1.1641,2,   1.16380,2,  34.7159,2,  34.7157,2,-999.0000,9,   194.60,2,   194.67,2,   99.977,   0.0009,2,    0.000,2,  -999.00,9,    0.000,2,    98.81,2,     0.15,    32.03,2,     0.04,     0.01,2,     0.01,     2.20,2,     0.01,    0.372,2,    0.181,2,    0.030,2, -999.000,9,   -999.0,9,   -999.0,9,-999.0000,     -999,9, -999.000,9, -999.000,   -999.0,9,   -999.0, -999.000,9, -999.000, -999.000,9, -999.000
  49NZ20121128,   S04,   406,  1,     25, X12J25,2,20121211,0228,-64.0108, 165.6547, 3064,    471.2,2,   1.1204,2,   1.12020,2,  34.7190,2,  34.7190,2,-999.0000,9,   194.60,2,   194.57,2,  100.017,  -0.0007,2,    0.000,2,  -999.00,9,    0.000,2,   102.71,2,     0.15,    32.14,2,     0.05,     0.01,2,     0.01,     2.21,2,     0.01,    0.273,2,    0.133,2,    0.023,2, -999.000,9,   -999.0,9,   -999.0,9,-999.0000,     -999,9, -999.000,9, -999.000,   -999.0,9,   -999.0, -999.000,9, -999.000, -999.000,9, -999.000
  49NZ20121128,   S04,   406,  1,     24, X12J24,2,20121211,0228,-64.0108, 165.6547, 3064,    571.6,2,   1.0522,2,   1.05188,2,  34.7179,2,  34.7177,2,-999.0000,9,   196.56,2,   196.67,2,  100.015,  -0.0006,2,    0.000,2,  -999.00,9,    0.000,2,   104.80,2,     0.15,    32.13,2,     0.05,     0.01,2,     0.01,     2.21,2,     0.01,    0.258,6,    0.125,6,    0.027,6, -999.000,9,   -999.0,9,   -999.0,9,-999.0000,     -999,9, -999.000,9, -999.000,   -999.0,9,   -999.0, -999.000,9, -999.000, -999.000,9, -999.000
  49NZ20121128,   S04,   406,  1,     23, X12J23,2,20121211,0228,-64.0108, 165.6547, 3064,    669.8,2,   0.9884,2,   0.98822,2,  34.7161,2,  34.7158,2,-999.0000,9,   198.15,2,   198.85,2,  100.017,  -0.0007,2,    0.000,2,  -999.00,9,    0.000,2,   106.83,2,     0.15,    32.17,2,     0.05,     0.01,2,     0.01,     2.21,2,     0.01,    0.240,2,    0.115,2,    0.026,2, -999.000,9,   -999.0,9,   -999.0,9,-999.0000,     -999,9, -999.000,9, -999.000,   -999.0,9,   -999.0, -999.000,9, -999.000, -999.000,9, -999.000
  49NZ20121128,   S04,   406,  1,     22, X12J22,2,20121211,0228,-64.0108, 165.6547, 3064,    768.7,2,   0.9356,2,   0.93560,2,  34.7148,2,  34.7149,2,-999.0000,9,   198.93,2,   199.00,2,  100.007,  -0.0003,2,    0.000,2,  -999.00,9,    0.000,2,   109.35,2,     0.16,    32.28,2,     0.05,     0.01,2,     0.01,     2.22,2,     0.01,    0.210,2,    0.100,2,    0.021,2, -999.000,9,   -999.0,9,   -999.0,9,-999.0000,     -999,9, -999.000,9, -999.000,   -999.0,9,   -999.0, -999.000,9, -999.000, -999.000,9, -999.000
  49NZ20121128,   S04,   406,  1,     21, X12J21,2,20121211,0228,-64.0108, 165.6547, 3064,    869.9,2,   0.8736,2,   0.87350,2,  34.7130,2,  34.7133,2,-999.0000,9,   200.28,2,   200.43,2,  100.015,  -0.0006,2,   -0.000,2,  -999.00,9,    0.000,2,   111.51,2,     0.16,    32.28,2,     0.05,     0.01,2,     0.01,     2.22,2,     0.01,    0.196,2,    0.095,2,    0.018,2, -999.000,9,   -999.0,9,   -999.0,9,-999.0000,     -999,9, -999.000,9, -999.000,   -999.0,9,   -999.0, -999.000,9, -999.000, -999.000,9, -999.000
  49NZ20121128,   S04,   406,  1,     20, X12J20,2,20121211,0228,-64.0108, 165.6547, 3064,    961.2,2,   0.8149,2,   0.81487,2,  34.7106,2,  34.7112,2,-999.0000,9,   201.37,2,   201.42,2,  100.017,  -0.0007,2,   -0.000,2,  -999.00,9,    0.000,2,   113.29,2,     0.16,    32.31,2,     0.05,     0.01,2,     0.01,     2.22,2,     0.01,    0.190,2,    0.094,2,    0.016,2, -999.000,9,   -999.0,9,   -999.0,9,-999.0000,     -999,9, -999.000,9, -999.000,   -999.0,9,   -999.0, -999.000,9, -999.000, -999.000,9, -999.000
  49NZ20121128,   S04,   406,  1,     19, X12J19,2,20121211,0228,-64.0108, 165.6547, 3064,   1170.8,2,   0.7022,2,   0.70217,2,  34.7068,2,  34.7068,2,-999.0000,9,   203.43,2,   203.54,2,  100.028,  -0.0011,2,   -0.000,2,  -999.00,9,    0.000,2,   117.16,2,     0.16,    32.49,2,     0.05,     0.01,2,     0.01,     2.24,2,     0.01,    0.195,6,    0.094,6,    0.016,6, -999.000,9,   -999.0,9,   -999.0,9,-999.0000,     -999,9, -999.000,9, -999.000,   -999.0,9,   -999.0, -999.000,9, -999.000, -999.000,9, -999.000
  49NZ20121128,   S04,   406,  1,     18, X12J18,2,20121211,0228,-64.0108, 165.6547, 3064,   1421.6,2,   0.5965,2,   0.59648,2,  34.7035,2,  34.7039,2,-999.0000,9,   205.65,2,   205.74,2,  100.017,  -0.0007,2,   -0.000,2,  -999.00,9,    0.000,2,   119.37,2,     0.17,    32.46,2,     0.05,     0.01,2,     0.01,     2.23,2,     0.01,    0.214,2,    0.105,2,    0.026,2, -999.000,9,   -999.0,9,   -999.0,9,-999.0000,     -999,9, -999.000,9, -999.000,   -999.0,9,   -999.0, -999.000,9, -999.000, -999.000,9, -999.000
  49NZ20121128,   S04,   406,  1,     17, X12J17,2,20121211,0228,-64.0108, 165.6547, 3064,   1670.7,2,   0.4928,2,   0.49279,2,  34.7005,2,  34.7005,2,-999.0000,9,   208.18,2,   208.34,2,  100.013,  -0.0005,2,   -0.000,2,  -999.00,9,    0.000,2,   121.65,2,     0.17,    32.55,2,     0.05,     0.01,2,     0.01,     2.24,2,     0.01,    0.276,2,    0.136,2,    0.028,2, -999.000,9,   -999.0,9,   -999.0,9,-999.0000,     -999,9, -999.000,9, -999.000,   -999.0,9,   -999.0, -999.000,9, -999.000, -999.000,9, -999.000
  49NZ20121128,   S04,   406,  1,     16, X12J16,2,20121211,0228,-64.0108, 165.6547, 3064,   1921.2,2,   0.4050,2,   0.40506,2,  34.6973,2,  34.6973,2,-999.0000,9,   210.64,2,   210.82,2,  100.011,  -0.0004,2,   -0.000,2,  -999.00,9,    0.000,2,   121.78,2,     0.17,    32.56,2,     0.05,     0.01,2,     0.01,     2.24,2,     0.01,    0.387,2,    0.192,2,    0.035,2, -999.000,9,   -999.0,9,   -999.0,9,-999.0000,     -999,9, -999.000,9, -999.000,   -999.0,9,   -999.0, -999.000,9, -999.000, -999.000,9, -999.000
  49NZ20121128,   S04,   406,  1,     15, X12J15,2,20121211,0228,-64.0108, 165.6547, 3064,   2171.9,2,   0.3023,2,   0.30229,2,  34.6927,2,  34.6930,2,-999.0000,9,   214.05,2,   214.28,2,   99.986,   0.0006,2,   -0.000,2,  -999.00,9,    0.000,2,   120.48,2,     0.17,    32.57,2,     0.05,     0.01,2,     0.01,     2.24,2,     0.01,    0.587,2,    0.294,2,    0.047,2, -999.000,9,   -999.0,9,   -999.0,9,-999.0000,     -999,9, -999.000,9, -999.000,   -999.0,9,   -999.0, -999.000,9, -999.000, -999.000,9, -999.000
  49NZ20121128,   S04,   406,  1,     14, X12J14,2,20121211,0228,-64.0108, 165.6547, 3064,   2422.0,2,   0.1612,2,   0.16140,2,  34.6839,2,  34.6842,2,-999.0000,9,   219.80,2,   220.05,2,   99.965,   0.0014,2,   -0.000,2,  -999.00,9,    0.000,2,   115.83,2,     0.16,    32.46,2,     0.05,     0.01,2,     0.01,     2.24,2,     0.01,    0.993,2,    0.512,2,    0.084,2, -999.000,9,   -999.0,9,   -999.0,9,-999.0000,     -999,9, -999.000,9, -999.000,   -999.0,9,   -999.0, -999.000,9, -999.000, -999.000,9, -999.000
  49NZ20121128,   S04,   406,  1,     13, X12J13,2,20121211,0228,-64.0108, 165.6547, 3064,   2671.3,2,   0.0236,2,   0.02346,2,  34.6750,2,  34.6755,2,-999.0000,9,   225.79,2,   226.25,2,   99.921,   0.0032,2,   -0.000,2,  -999.00,9,    0.000,2,   111.22,2,     0.16,    32.29,2,     0.05,     0.01,2,     0.01,     2.23,2,     0.01,    1.429,2,    0.744,2,    0.131,2, -999.000,9,   -999.0,9,   -999.0,9,-999.0000,     -999,9, -999.000,9, -999.000,   -999.0,9,   -999.0, -999.000,9, -999.000, -999.000,9, -999.000
  49NZ20121128,   S04,   406,  1,     12, X12J12,2,20121211,0228,-64.0108, 165.6547, 3064,   2921.8,2,  -0.0269,2,  -0.02685,2,  34.6720,2,  34.6727,2,-999.0000,9,   228.59,2,   229.01,2,   99.860,   0.0056,2,   -0.000,2,  -999.00,9,    0.000,2,   107.78,2,     0.16,    32.19,2,     0.05,     0.01,2,     0.01,     2.23,2,     0.01,    1.664,2,    0.872,2,    0.141,2, -999.000,9,   -999.0,9,   -999.0,9,-999.0000,     -999,9, -999.000,9, -999.000,   -999.0,9,   -999.0, -999.000,9, -999.000, -999.000,9, -999.000
  49NZ20121128,   S04,   406,  1,      1, X12J01,2,20121211,0228,-64.0108, 165.6547, 3064,   3100.6,2,  -0.0418,2,  -0.04190,2,  34.6710,2,  34.6717,2,-999.0000,9,   229.84,2,   230.07,2,   99.829,   0.0068,2,   -0.000,2,  -999.00,9,    0.000,2,   105.58,2,     0.15,    32.15,2,     0.05,     0.01,2,     0.01,     2.22,2,     0.01,    1.776,2,    0.938,2,    0.158,2, -999.000,9,   -999.0,9,   -999.0,9,-999.0000,     -999,9, -999.000,9, -999.000,   -999.0,9,   -999.0, -999.000,9, -999.000, -999.000,9, -999.000