BOTTLE,20220819CCHSIOAMB
EXPOCODE,SECT_ID,STNNBR,CASTNO,SAMPNO,BTLNBR,BTLNBR_FLAG_W,DATE,TIME,LATITUDE,LONGITUDE,DEPTH,CTDPRS,CTDPRS_FLAG_W,CTDTMP,CTDTMP_FLAG_W,SBE35,SBE35_FLAG_W,CTDSAL,CTDSAL_FLAG_W,SALNTY,SALNTY_FLAG_W,DNSSAL,DNSSAL_FLAG_W,CTDOXY,CTDOXY_FLAG_W,OXYGEN,OXYGEN_FLAG_W,CTDXMISS,CTDXMISSCP,CTDXMISS_FLAG_W,CTDFLUOR,CTDFLUOR_FLAG_W,CHLORA,CHLORA_FLAG_W,PAR,PAR_FLAG_W,SILCAT,SILCAT_FLAG_W,SILUNC,NITRAT,NITRAT_FLAG_W,NRAUNC,NITRIT,NITRIT_FLAG_W,NRIUNC,PHSPHT,PHSPHT_FLAG_W,PHPUNC,CFC-11,CFC-11_FLAG_W,CFC-12,CFC-12_FLAG_W,CFC113,CFC113_FLAG_W,SF6,SF6_FLAG_W,TCARBN,TCARBN_FLAG_W,ALKALI,ALKALI_FLAG_W,PH_TOT,PH_TMP,PH_TOT_FLAG_W,DELC13,DELC13_FLAG_W,C13ERR,DELC14,DELC14_FLAG_W,C14ERR,CS-134,CS-134_FLAG_W,CS134ER,CS-137,CS-137_FLAG_W,CS137ER
,,,,,,,,UTC,DEG,DEG,METERS,DBAR,,ITS-90,,ITS-90,,PSS-78,,PSS-78,,G/KG,,UMOL/KG,,UMOL/KG,,%TRANS,/METER,,MG/M^3,,MG/CUM,,UE/SQM/S,,UMOL/KG,,UMOL/KG,UMOL/KG,,UMOL/KG,UMOL/KG,,UMOL/KG,UMOL/KG,,UMOL/KG,PMOL/KG,,PMOL/KG,,PMOL/KG,,FMOL/KG,,UMOL/KG,,UMOL/KG,,,DEG C,,/MILLE,,/MILLE,/MILLE,,/MILLE,MBQ/KG,,MBQ/KG,MBQ/KG,,MBQ/KG
  49NZ20121128,   S04,    75,  1,     36, X12J36,2,20121222,0013,-62.0028, 125.6558, 4302,      4.8,2,   0.6655,2,   0.66521,2,  33.8182,2,  33.8187,2,-999.0000,9,   354.37,2,   354.75,2,   91.171,   0.3697,2,    0.300,2,  -999.00,9,  238.724,2,    21.59,2,     0.08,    23.95,2,     0.04,     0.25,2,     0.01,     1.51,3,     0.01,    5.870,2,    3.374,2,    0.566,2,    3.398,2,   2144.8,2,   2287.9,2,   7.7377,       25,6, -999.000,1, -999.000,   -999.0,1,   -999.0, -999.000,9, -999.000, -999.000,9, -999.000
  49NZ20121128,   S04,    75,  1,     35, X12J35,2,20121222,0013,-62.0028, 125.6558, 4302,     25.2,2,  -0.0785,2,  -0.07760,2,  33.8323,2,  33.8370,2,-999.0000,9,   362.61,2,   362.84,2,   87.310,   0.5428,2,    1.670,2,  -999.00,9,   25.543,2,    27.14,2,     0.08,    23.81,2,     0.04,     0.20,2,     0.01,     1.56,2,     0.01,    5.904,2,    3.360,2,    0.571,2,    3.157,2,   2145.7,2,   2291.1,2,   7.7419,       25,2, -999.000,1, -999.000,   -999.0,1,   -999.0, -999.000,9, -999.000, -999.000,9, -999.000
  49NZ20121128,   S04,    75,  1,     34, X12J34,2,20121222,0013,-62.0028, 125.6558, 4302,     50.5,2,  -0.4609,2,  -0.46057,2,  33.8474,2,  33.8514,2,-999.0000,9,   354.16,2,   354.55,2,   87.034,   0.5555,2,    2.380,2,  -999.00,9,    1.046,2,    31.76,2,     0.09,    24.78,2,     0.04,     0.19,2,     0.01,     1.72,3,     0.01,    5.899,6,    3.374,6,    0.572,6,    3.210,6,   2155.7,2,   2292.0,2,   7.7180,       25,2, -999.000,1, -999.000,   -999.0,1,   -999.0, -999.000,9, -999.000, -999.000,9, -999.000
  49NZ20121128,   S04,    75,  1,     33, X12J33,2,20121222,0013,-62.0028, 125.6558, 4302,     74.6,2,  -1.6442,2,  -1.64542,2,  34.0034,2,  34.0049,2,-999.0000,9,   325.22,2,   325.19,2,   97.930,   0.0837,2,    0.400,2,  -999.00,9,    0.074,2,    48.09,2,     0.10,    29.78,2,     0.04,     0.18,2,     0.01,     2.11,2,     0.01,    5.174,2,    3.007,2,    0.494,2,    2.755,2,   2194.9,6,   2297.0,2,   7.6338,       25,2, -999.000,1, -999.000,   -999.0,1,   -999.0, -999.000,9, -999.000, -999.000,9, -999.000
  49NZ20121128,   S04,    75,  1,     32, X12J32,2,20121222,0013,-62.0028, 125.6558, 4302,    100.4,2,  -0.6601,2,  -0.65924,2,  34.1301,2,  34.1332,2,-999.0000,9,   283.49,2,   282.27,2,   99.239,   0.0306,2,    0.180,2,  -999.00,9,    0.000,2,    51.88,2,     0.11,    31.83,2,     0.04,     0.09,2,     0.01,     2.20,2,     0.01,    4.192,2,    2.371,2,    0.395,2,    2.016,2,   2212.5,2,   2303.4,2,   7.6056,       25,2, -999.000,1, -999.000,   -999.0,1,   -999.0, -999.000,9, -999.000, -999.000,9, -999.000
  49NZ20121128,   S04,    75,  1,     31, X12J31,2,20121222,0013,-62.0028, 125.6558, 4302,    125.3,2,   0.3464,2,   0.34613,2,  34.2608,2,  34.2587,2,-999.0000,9,   245.28,2,   244.60,2,   99.431,   0.0228,2,    0.110,2,  -999.00,9,    0.000,2,    57.77,2,     0.11,    33.19,2,     0.05,     0.03,2,     0.01,     2.28,2,     0.01,    3.225,2,    1.810,2,    0.279,2,    1.392,2,   2228.3,2,   2310.4,2,   7.5804,       25,2, -999.000,1, -999.000,   -999.0,1,   -999.0, -999.000,9, -999.000, -999.000,9, -999.000
  49NZ20121128,   S04,    75,  1,     30, X12J30,2,20121222,0013,-62.0028, 125.6558, 4302,    150.6,2,   1.3650,2,   1.36596,2,  34.4055,2,  34.4074,2,-999.0000,9,   205.12,2,   204.71,2,   99.604,   0.0159,2,    0.070,2,  -999.00,9,    0.000,2,    65.41,2,     0.12,    34.43,2,     0.05,     0.02,2,     0.01,     2.37,2,     0.01,    2.034,2,    1.114,2,    0.168,2,    0.767,2,   2245.1,2,   2319.8,2,   7.5563,       25,6, -999.000,1, -999.000,   -999.0,1,   -999.0, -999.000,9, -999.000, -999.000,9, -999.000
  49NZ20121128,   S04,    75,  1,     29, X12J29,2,20121222,0013,-62.0028, 125.6558, 4302,    199.7,2,   1.8164,2,   1.81611,2,  34.5156,2,  34.5159,2,-999.0000,9,   184.71,2,   184.57,2,   99.695,   0.0122,2,    0.020,2,  -999.00,9,    0.000,2,    71.75,2,     0.12,    34.64,2,     0.05,     0.01,2,     0.01,     2.38,2,     0.01,    1.292,2,    0.702,2,    0.106,2,    0.361,2,   2254.4,2,   2328.2,2,   7.5500,       25,2, -999.000,1, -999.000,   -999.0,1,   -999.0, -999.000,9, -999.000, -999.000,9, -999.000
  49NZ20121128,   S04,    75,  1,     28, X12J28,2,20121222,0013,-62.0028, 125.6558, 4302,    250.6,2,   1.9682,2,   1.96794,2,  34.5786,2,  34.5786,2,-999.0000,9,   177.69,2,   177.60,2,   99.790,   0.0084,2,    0.020,2,  -999.00,9,    0.000,2,    75.08,2,     0.13,    34.37,2,     0.05,     0.01,2,     0.01,     2.36,2,     0.01,    0.941,2,    0.496,2,    0.074,2,    0.214,2,   2258.5,2,   2332.1,2,   7.5523,       25,2, -999.000,1, -999.000,   -999.0,1,   -999.0, -999.000,9, -999.000, -999.000,9, -999.000
  49NZ20121128,   S04,    75,  1,     27, X12J27,2,20121222,0013,-62.0028, 125.6558, 4302,    300.7,2,   1.9981,2,   1.99800,2,  34.6159,2,  34.6159,2,-999.0000,9,   176.86,2,   176.81,2,   99.879,   0.0048,2,    0.010,2,  -999.00,9,    0.000,2,    76.71,2,     0.13,    33.88,2,     0.05,     0.01,2,     0.01,     2.33,2,     0.01,    0.781,2,    0.400,2,    0.063,2,    0.238,2,   2258.7,2,   2335.6,2,   7.5589,       25,2, -999.000,1, -999.000,   -999.0,1,   -999.0, -999.000,9, -999.000, -999.000,9, -999.000
  49NZ20121128,   S04,    75,  1,     26, X12J26,2,20121222,0013,-62.0028, 125.6558, 4302,    401.9,2,   1.9941,2,   1.99356,2,  34.6603,2,  34.6604,2,-999.0000,9,   178.52,2,   178.52,2,   99.917,   0.0033,2,    0.010,2,  -999.00,9,    0.000,2,    78.64,2,     0.13,    33.08,2,     0.05,     0.01,2,     0.01,     2.27,2,     0.01,    0.559,2,    0.293,2,    0.043,2,    0.118,2,   2257.5,2,   2338.8,2,   7.5702,       25,2, -999.000,1, -999.000,   -999.0,1,   -999.0, -999.000,9, -999.000, -999.000,9, -999.000
  49NZ20121128,   S04,    75,  1,     25, X12J25,2,20121222,0013,-62.0028, 125.6558, 4302,    500.3,2,   1.9786,2,   1.97836,2,  34.6890,2,  34.6893,2,-999.0000,9,   181.50,2,   181.65,2,   99.942,   0.0023,2,    0.010,2,  -999.00,9,    0.000,2,    80.05,2,     0.13,    32.42,2,     0.05,     0.01,2,     0.01,     2.22,2,     0.01,    0.436,2,    0.233,2,    0.036,2,    0.125,2,   2256.4,2,   2341.7,2,   7.5805,       25,2, -999.000,1, -999.000,   -999.0,1,   -999.0, -999.000,9, -999.000, -999.000,9, -999.000
  49NZ20121128,   S04,    75,  1,     24, X12J24,2,20121222,0013,-62.0028, 125.6558, 4302,    600.8,2,   1.9214,2,   1.92118,2,  34.7090,2,  34.7084,2,-999.0000,9,   184.30,2,   184.50,2,   99.919,   0.0032,2,    0.010,2,  -999.00,9,    0.000,2,    82.01,2,     0.13,    31.97,2,     0.04,     0.01,2,     0.01,     2.19,2,     0.01,    0.366,6,    0.189,6,    0.029,6,    0.128,6,   2257.3,3,   2342.9,2,   7.5880,       25,2, -999.000,1, -999.000,   -999.0,1,   -999.0, -999.000,9, -999.000, -999.000,9, -999.000
  49NZ20121128,   S04,    75,  1,     23, X12J23,2,20121222,0013,-62.0028, 125.6558, 4302,    701.7,2,   1.8668,2,   1.86644,2,  34.7238,2,  34.7240,2,-999.0000,9,   187.55,2,   187.89,2,   99.963,   0.0015,2,    0.000,2,  -999.00,9,    0.000,2,    83.62,2,     0.13,    31.53,2,     0.04,     0.01,2,     0.01,     2.17,2,     0.01,    0.302,2,    0.157,2,    0.024,2,    0.078,2,   2252.9,6,   2346.1,2,   7.5964,       25,2, -999.000,1, -999.000,   -999.0,1,   -999.0, -999.000,9, -999.000, -999.000,9, -999.000
  49NZ20121128,   S04,    75,  1,     22, X12J22,2,20121222,0013,-62.0028, 125.6558, 4302,    801.1,2,   1.8040,2,   1.80463,2,  34.7342,2,  34.7342,2,-999.0000,9,   190.89,2,   191.18,2,   99.974,   0.0010,2,    0.000,2,  -999.00,9,    0.000,2,    85.28,2,     0.14,    31.18,2,     0.04,     0.01,2,     0.01,     2.14,2,     0.01,    0.260,2,    0.133,2,    0.018,2,    0.000,2,   2252.9,2,   2347.4,6,   7.6039,       25,2, -999.000,1, -999.000,   -999.0,1,   -999.0, -999.000,9, -999.000, -999.000,9, -999.000
  49NZ20121128,   S04,    75,  1,     21, X12J21,2,20121222,0013,-62.0028, 125.6558, 4302,    900.8,2,   1.7424,2,   1.74250,2,  34.7387,2,  34.7385,2,-999.0000,9,   193.13,2,   193.40,2,  100.003,  -0.0001,2,    0.000,2,  -999.00,9,    0.000,2,    86.99,2,     0.14,    31.02,2,     0.04,     0.01,2,     0.01,     2.13,2,     0.01,    0.231,2,    0.118,2,    0.017,2,    0.000,2,   2252.5,2,   2349.0,2,   7.6071,       25,2, -999.000,1, -999.000,   -999.0,1,   -999.0, -999.000,9, -999.000, -999.000,9, -999.000
  49NZ20121128,   S04,    75,  1,     20, X12J20,2,20121222,0013,-62.0028, 125.6558, 4302,   1000.8,2,   1.6685,2,   1.66850,2,  34.7406,2,  34.7407,2,-999.0000,9,   195.06,2,   195.34,2,   99.995,   0.0002,2,    0.010,2,  -999.00,9,    0.000,2,    88.76,2,     0.14,    30.89,2,     0.04,     0.01,2,     0.01,     2.12,2,     0.01,    0.215,2,    0.109,2,    0.015,2,    0.000,2,   2251.7,2,   2350.2,2,   7.6105,       25,2, -999.000,1, -999.000,   -999.0,1,   -999.0, -999.000,9, -999.000, -999.000,9, -999.000
  49NZ20121128,   S04,    75,  1,     19, X12J19,2,20121222,0013,-62.0028, 125.6558, 4302,   1249.9,2,   1.4822,2,   1.48234,2,  34.7388,2,  34.7389,2,-999.0000,9,   198.71,2,   199.20,2,  100.001,  -0.0000,2,    0.000,2,  -999.00,9,    0.000,2,    93.82,2,     0.14,    30.97,2,     0.04,     0.00,2,     0.01,     2.13,2,     0.01,    0.197,6,    0.101,6,    0.013,6,    0.000,6,   2252.2,2,   2352.5,2,   7.6142,       25,2, -999.000,1, -999.000,   -999.0,1,   -999.0, -999.000,9, -999.000, -999.000,9, -999.000
  49NZ20121128,   S04,    75,  1,     18, X12J18,2,20121222,0013,-62.0028, 125.6558, 4302,   1500.2,2,   1.2521,2,   1.25192,2,  34.7307,2,  34.7308,2,-999.0000,9,   201.78,2,   202.09,2,  100.024,  -0.0010,2,   -0.000,2,  -999.00,9,    0.000,2,   100.28,2,     0.15,    31.25,2,     0.04,     0.01,2,     0.01,     2.15,2,     0.01,    0.193,2,    0.098,2,    0.011,2,    0.000,2,   2255.9,2,   2355.2,2,   7.6130,       25,2, -999.000,1, -999.000,   -999.0,1,   -999.0, -999.000,9, -999.000, -999.000,9, -999.000
  49NZ20121128,   S04,    75,  1,     17, X12J17,2,20121222,0013,-62.0028, 125.6558, 4302,   1751.5,2,   1.0503,2,   1.05021,2,  34.7210,2,  34.7211,2,-999.0000,9,   204.18,2,   204.50,2,  100.045,  -0.0018,2,   -0.000,2,  -999.00,9,    0.000,2,   106.15,2,     0.15,    31.62,2,     0.04,     0.01,2,     0.01,     2.18,2,     0.01,    0.203,2,    0.100,2,    0.011,2,    0.000,2,   2257.2,2,   2356.7,2,   7.6109,       25,6, -999.000,1, -999.000,   -999.0,1,   -999.0, -999.000,9, -999.000, -999.000,9, -999.000
  49NZ20121128,   S04,    75,  1,     16, X12J16,2,20121222,0013,-62.0028, 125.6558, 4302,   2000.4,2,   0.8745,2,   0.87464,2,  34.7117,2,  34.7114,2,-999.0000,9,   206.47,2,   206.78,2,  100.028,  -0.0011,2,   -0.000,2,  -999.00,9,    0.000,2,   111.35,2,     0.16,    31.97,2,     0.04,     0.01,2,     0.01,     2.21,2,     0.01,    0.225,2,    0.111,2,    0.011,2,    0.000,2,   2259.3,2,   2358.0,2,   7.6078,       25,2, -999.000,1, -999.000,   -999.0,1,   -999.0, -999.000,9, -999.000, -999.000,9, -999.000
  49NZ20121128,   S04,    75,  1,     15, X12J15,2,20121222,0013,-62.0028, 125.6558, 4302,   2252.8,2,   0.6975,2,   0.69761,2,  34.7022,2,  34.7022,2,-999.0000,9,   209.32,2,   209.51,2,  100.012,  -0.0005,2,   -0.000,2,  -999.00,9,    0.000,2,   115.56,2,     0.16,    32.20,2,     0.05,     0.00,2,     0.01,     2.22,2,     0.01,    0.270,2,    0.133,2,    0.013,2,    0.000,2,   2261.6,2,   2358.1,2,   7.6054,       25,2, -999.000,1, -999.000,   -999.0,1,   -999.0, -999.000,9, -999.000, -999.000,9, -999.000
  49NZ20121128,   S04,    75,  1,     14, X12J14,2,20121222,0013,-62.0028, 125.6558, 4302,   2501.2,2,   0.5271,2,   0.52709,2,  34.6935,2,  34.6934,2,-999.0000,9,   212.93,2,   213.09,2,  100.039,  -0.0016,2,   -0.000,2,  -999.00,9,    0.000,2,   119.48,2,     0.17,    32.40,2,     0.05,     0.01,2,     0.01,     2.24,2,     0.01,    0.364,2,    0.178,2,    0.018,2,    0.083,2,   2263.2,3,   2356.4,2,   7.6037,       25,2, -999.000,1, -999.000,   -999.0,1,   -999.0, -999.000,9, -999.000, -999.000,9, -999.000
  49NZ20121128,   S04,    75,  1,     13, X12J13,2,20121222,0013,-62.0028, 125.6558, 4302,   2751.8,2,   0.3865,2,   0.38651,2,  34.6868,2,  34.6866,2,-999.0000,9,   216.71,2,   216.80,2,  100.020,  -0.0008,2,   -0.000,2,  -999.00,9,    0.000,2,   122.18,2,     0.17,    32.48,2,     0.05,     0.00,2,     0.01,     2.24,2,     0.01,    0.475,2,    0.240,2,    0.025,2,    0.104,2,   2261.2,2,   2357.1,6,   7.6027,       25,2, -999.000,1, -999.000,   -999.0,1,   -999.0, -999.000,9, -999.000, -999.000,9, -999.000
  49NZ20121128,   S04,    75,  1,     12, X12J12,2,20121222,0013,-62.0028, 125.6558, 4302,   3002.0,2,   0.2796,2,   0.27962,2,  34.6819,2,  34.6820,2,-999.0000,9,   219.95,2,   220.12,2,  100.028,  -0.0011,2,   -0.000,2,  -999.00,9,    0.000,2,   124.13,2,     0.17,    32.50,2,     0.05,     0.00,2,     0.01,     2.24,2,     0.01,    0.612,2,    0.303,2,    0.034,2,    0.088,2,   2260.4,2,   2357.3,2,   7.6024,       25,6, -999.000,1, -999.000,   -999.0,1,   -999.0, -999.000,9, -999.000, -999.000,9, -999.000
  49NZ20121128,   S04,    75,  1,     11, X12J11,2,20121222,0013,-62.0028, 125.6558, 4302,   3252.2,2,   0.1967,2,   0.19694,2,  34.6781,2,  34.6782,2,-999.0000,9,   222.87,2,   222.99,2,  100.028,  -0.0011,2,   -0.000,2,  -999.00,9,    0.000,2,   125.63,2,     0.17,    32.55,2,     0.05,     0.00,2,     0.01,     2.24,2,     0.01,    0.777,2,    0.362,2,    0.043,2,    0.176,2,   2261.2,2,   2356.8,2,   7.6026,       25,2, -999.000,1, -999.000,   -999.0,1,   -999.0, -999.000,9, -999.000, -999.000,9, -999.000
  49NZ20121128,   S04,    75,  1,     10, X12J10,2,20121222,0013,-62.0028, 125.6558, 4302,   3500.4,2,   0.1193,2,   0.11946,2,  34.6742,2,  34.6745,2,-999.0000,9,   225.83,2,   226.16,2,  100.024,  -0.0010,2,   -0.000,2,  -999.00,9,    0.000,2,   126.60,2,     0.17,    32.53,2,     0.05,     0.01,2,     0.01,     2.24,2,     0.01,    0.916,2,    0.439,2,    0.052,2,    0.152,2,   2260.2,2,   2356.5,2,   7.6029,       25,2, -999.000,1, -999.000,   -999.0,1,   -999.0, -999.000,9, -999.000, -999.000,9, -999.000
  49NZ20121128,   S04,    75,  1,      9, X12J09,2,20121222,0013,-62.0028, 125.6558, 4302,   3749.2,2,   0.0541,2,   0.05428,2,  34.6703,2,  34.6702,2,-999.0000,9,   228.72,2,   229.15,2,  100.003,  -0.0001,2,   -0.000,2,  -999.00,9,    0.000,2,   126.91,2,     0.17,    32.49,2,     0.05,     0.00,2,     0.01,     2.24,2,     0.01,    1.095,2,    0.539,2,    0.068,2,    0.253,2,   2260.1,2,   2355.7,2,   7.6026,       25,2, -999.000,1, -999.000,   -999.0,1,   -999.0, -999.000,9, -999.000, -999.000,9, -999.000
  49NZ20121128,   S04,    75,  1,      8, X12J08,2,20121222,0013,-62.0028, 125.6558, 4302,   4000.8,2,  -0.0149,2,  -0.01482,2,  34.6653,2,  34.6653,2,-999.0000,9,   231.95,2,   232.43,2,   99.976,   0.0010,2,   -0.010,2,  -999.00,9,    0.000,2,   126.86,2,     0.17,    32.40,2,     0.05,     0.00,2,     0.01,     2.24,2,     0.01,    1.360,6,    0.678,6,    0.097,6,    0.361,6,   2259.1,2,   2356.1,2,   7.6029,       25,2, -999.000,1, -999.000,   -999.0,1,   -999.0, -999.000,9, -999.000, -999.000,9, -999.000
  49NZ20121128,   S04,    75,  1,      7, X12J07,2,20121222,0013,-62.0028, 125.6558, 4302,   4249.4,2,  -0.1256,2,  -0.12546,2,  34.6530,2,  34.6531,2,-999.0000,9,   237.71,2,   238.24,2,   99.921,   0.0032,2,   -0.010,2,  -999.00,9,    0.000,2,   120.46,2,     0.17,    32.24,2,     0.05,     0.01,2,     0.01,     2.23,2,     0.01,    1.912,2,    0.987,2,    0.155,2,    0.547,2,   2257.7,6,   2353.9,2,   7.6008,       25,2, -999.000,1, -999.000,   -999.0,1,   -999.0, -999.000,9, -999.000, -999.000,9, -999.000
  49NZ20121128,   S04,    75,  1,      1, X12J01,2,20121222,0013,-62.0028, 125.6558, 4302,   4377.9,2,  -0.1659,2,  -0.16597,2,  34.6483,2,  34.6487,2,-999.0000,9,   239.01,2,   239.07,2,   99.663,   0.0135,2,   -0.010,2,  -999.00,9,    0.000,2,   124.95,2,     0.17,    32.25,2,     0.05,     0.01,2,     0.01,     2.23,2,     0.01,    2.088,2,    1.094,2,    0.169,2,    0.648,2,   2258.8,2,   2353.3,2,   7.5986,       25,2, -999.000,1, -999.000,   -999.0,1,   -999.0, -999.000,9, -999.000, -999.000,9, -999.000