BOTTLE,20220819CCHSIOAMB
EXPOCODE,SECT_ID,STNNBR,CASTNO,SAMPNO,BTLNBR,BTLNBR_FLAG_W,DATE,TIME,LATITUDE,LONGITUDE,DEPTH,CTDPRS,CTDPRS_FLAG_W,CTDTMP,CTDTMP_FLAG_W,SBE35,SBE35_FLAG_W,CTDSAL,CTDSAL_FLAG_W,SALNTY,SALNTY_FLAG_W,DNSSAL,DNSSAL_FLAG_W,CTDOXY,CTDOXY_FLAG_W,OXYGEN,OXYGEN_FLAG_W,CTDXMISS,CTDXMISSCP,CTDXMISS_FLAG_W,CTDFLUOR,CTDFLUOR_FLAG_W,CHLORA,CHLORA_FLAG_W,PAR,PAR_FLAG_W,SILCAT,SILCAT_FLAG_W,SILUNC,NITRAT,NITRAT_FLAG_W,NRAUNC,NITRIT,NITRIT_FLAG_W,NRIUNC,PHSPHT,PHSPHT_FLAG_W,PHPUNC,CFC-11,CFC-11_FLAG_W,CFC-12,CFC-12_FLAG_W,CFC113,CFC113_FLAG_W,SF6,SF6_FLAG_W,TCARBN,TCARBN_FLAG_W,ALKALI,ALKALI_FLAG_W,PH_TOT,PH_TMP,PH_TOT_FLAG_W,DELC13,DELC13_FLAG_W,C13ERR,DELC14,DELC14_FLAG_W,C14ERR,CS-134,CS-134_FLAG_W,CS134ER,CS-137,CS-137_FLAG_W,CS137ER
,,,,,,,,UTC,DEG,DEG,METERS,DBAR,,ITS-90,,ITS-90,,PSS-78,,PSS-78,,G/KG,,UMOL/KG,,UMOL/KG,,%TRANS,/METER,,MG/M^3,,MG/CUM,,UE/SQM/S,,UMOL/KG,,UMOL/KG,UMOL/KG,,UMOL/KG,UMOL/KG,,UMOL/KG,UMOL/KG,,UMOL/KG,PMOL/KG,,PMOL/KG,,PMOL/KG,,FMOL/KG,,UMOL/KG,,UMOL/KG,,,DEG C,,/MILLE,,/MILLE,/MILLE,,/MILLE,MBQ/KG,,MBQ/KG,MBQ/KG,,MBQ/KG
  49NZ20121128,   S04,    76,  1,     36, X12J36,2,20121222,0702,-62.0025, 124.2540, 4231,      5.5,2,   0.8126,2,   0.81221,2,  33.7920,2,  33.7926,2,-999.0000,9,   347.70,2,   348.24,2,   94.498,   0.2264,2,    0.320,2,  -999.00,9,   82.859,2,    17.59,2,     0.07,    24.65,2,     0.04,     0.25,2,     0.01,     1.59,2,     0.01,    5.939,2,    3.239,2,    0.686,2,    3.014,2,   -999.0,9,   -999.0,9,-999.0000,     -999,9, -999.000,9, -999.000,   -999.0,9,   -999.0, -999.000,9, -999.000, -999.000,9, -999.000
  49NZ20121128,   S04,    76,  1,     35, X12J35,2,20121222,0702,-62.0025, 124.2540, 4231,     25.3,2,   0.7648,2,   0.76482,2,  33.7981,2,  33.7998,2,-999.0000,9,   347.35,2,   348.47,2,   94.637,   0.2205,2,    0.490,2,  -999.00,9,   13.926,2,    17.63,2,     0.07,    24.88,2,     0.04,     0.25,2,     0.01,     1.62,2,     0.01,    5.940,2,    3.237,2,    0.683,2,    3.131,2,   -999.0,9,   -999.0,9,-999.0000,     -999,9, -999.000,9, -999.000,   -999.0,9,   -999.0, -999.000,9, -999.000, -999.000,9, -999.000
  49NZ20121128,   S04,    76,  1,     34, X12J34,2,20121222,0702,-62.0025, 124.2540, 4231,     50.3,2,   0.1371,2,   0.16204,2,  33.8207,2,  33.8237,2,-999.0000,9,   349.67,2,   350.44,2,   94.291,   0.2351,2,    0.740,2,  -999.00,9,    5.122,2,    22.85,2,     0.08,    25.90,2,     0.04,     0.23,2,     0.01,     1.78,2,     0.01,    6.008,6,    3.270,6,    0.686,6,    3.111,6,   -999.0,9,   -999.0,9,-999.0000,     -999,9, -999.000,9, -999.000,   -999.0,9,   -999.0, -999.000,9, -999.000, -999.000,9, -999.000
  49NZ20121128,   S04,    76,  1,     33, X12J33,2,20121222,0702,-62.0025, 124.2540, 4231,     74.5,2,  -1.4475,2,  -1.44925,2,  33.9281,2,  33.9316,2,-999.0000,9,   345.95,2,   346.11,2,   97.050,   0.1198,2,    0.600,2,  -999.00,9,    0.958,2,    40.30,2,     0.09,    28.53,2,     0.04,     0.18,2,     0.01,     2.03,2,     0.01,    5.807,2,    3.167,2,    0.660,2,    2.964,2,   -999.0,9,   -999.0,9,-999.0000,     -999,9, -999.000,9, -999.000,   -999.0,9,   -999.0, -999.000,9, -999.000, -999.000,9, -999.000
  49NZ20121128,   S04,    76,  1,     32, X12J32,2,20121222,0702,-62.0025, 124.2540, 4231,     99.6,2,  -1.6164,2,  -1.61806,2,  33.9686,2,  33.9711,2,-999.0000,9,   332.83,2,   333.22,2,   98.663,   0.0538,2,    0.330,2,  -999.00,9,    0.435,2,    44.22,2,     0.10,    29.48,2,     0.04,     0.19,2,     0.01,     2.07,2,     0.01,    5.584,2,    3.065,2,    0.645,2,    2.770,2,   -999.0,9,   -999.0,9,-999.0000,     -999,9, -999.000,9, -999.000,   -999.0,9,   -999.0, -999.000,9, -999.000, -999.000,9, -999.000
  49NZ20121128,   S04,    76,  1,     31, X12J31,2,20121222,0702,-62.0025, 124.2540, 4231,    124.9,2,  -0.8031,2,  -0.84755,2,  34.0775,2,  34.0690,2,-999.0000,9,   297.24,2,   300.80,2,   99.247,   0.0302,2,    0.160,2,  -999.00,9,    0.136,2,    47.04,2,     0.10,    30.82,2,     0.04,     0.12,2,     0.01,     2.14,2,     0.01,    4.953,2,    2.679,2,    0.574,2,    2.424,2,   -999.0,9,   -999.0,9,-999.0000,     -999,9, -999.000,9, -999.000,   -999.0,9,   -999.0, -999.000,9, -999.000, -999.000,9, -999.000
  49NZ20121128,   S04,    76,  1,     30, X12J30,2,20121222,0702,-62.0025, 124.2540, 4231,    150.2,2,   0.9098,2,   0.91078,2,  34.2980,2,  34.2978,2,-999.0000,9,   229.79,2,   230.11,2,   99.475,   0.0211,2,    0.110,2,  -999.00,9,    0.060,2,    58.71,2,     0.11,    33.83,2,     0.05,     0.03,2,     0.01,     2.33,2,     0.01,    2.973,2,    1.593,2,    0.295,2,    1.205,2,   -999.0,9,   -999.0,9,-999.0000,     -999,9, -999.000,9, -999.000,   -999.0,9,   -999.0, -999.000,9, -999.000, -999.000,9, -999.000
  49NZ20121128,   S04,    76,  1,     29, X12J29,2,20121222,0702,-62.0025, 124.2540, 4231,    200.2,2,   1.5634,2,   1.56124,2,  34.4713,2,  34.4705,2,-999.0000,9,   193.54,2,   194.09,2,   99.701,   0.0120,2,    0.040,2,  -999.00,9,    0.000,2,    69.67,2,     0.12,    34.55,2,     0.05,     0.01,2,     0.01,     2.38,2,     0.01,    1.784,2,    0.890,2,    0.143,2,    0.674,2,   -999.0,9,   -999.0,9,-999.0000,     -999,9, -999.000,9, -999.000,   -999.0,9,   -999.0, -999.000,9, -999.000, -999.000,9, -999.000
  49NZ20121128,   S04,    76,  1,     28, X12J28,2,20121222,0702,-62.0025, 124.2540, 4231,    250.2,2,   1.8280,2,   1.82681,2,  34.5508,2,  34.5499,2,-999.0000,9,   181.45,2,   181.76,2,   99.615,   0.0154,2,    0.030,2,  -999.00,9,    0.000,2,    74.34,2,     0.13,    34.47,2,     0.05,     0.01,2,     0.01,     2.37,2,     0.01,    1.200,2,    0.610,2,    0.088,2,    0.453,2,   -999.0,9,   -999.0,9,-999.0000,     -999,9, -999.000,9, -999.000,   -999.0,9,   -999.0, -999.000,9, -999.000, -999.000,9, -999.000
  49NZ20121128,   S04,    76,  1,     27, X12J27,2,20121222,0702,-62.0025, 124.2540, 4231,    330.3,2,   1.9601,2,   1.95998,2,  34.6238,2,  34.6241,2,-999.0000,9,   177.44,2,   177.46,2,   99.775,   0.0090,2,    0.020,2,  -999.00,9,    0.000,2,    77.55,2,     0.13,    33.71,2,     0.05,     0.01,2,     0.01,     2.32,2,     0.01,    0.772,2,    0.395,2,    0.051,2,    0.295,2,   -999.0,9,   -999.0,9,-999.0000,     -999,9, -999.000,9, -999.000,   -999.0,9,   -999.0, -999.000,9, -999.000, -999.000,9, -999.000
  49NZ20121128,   S04,    76,  1,     26, X12J26,2,20121222,0702,-62.0025, 124.2540, 4231,    430.2,2,   1.9589,2,   1.95864,2,  34.6655,2,  34.6658,2,-999.0000,9,   178.57,2,   178.53,2,   99.830,   0.0068,2,    0.010,2,  -999.00,9,    0.000,2,    79.46,2,     0.13,    32.97,2,     0.05,     0.01,2,     0.01,     2.26,2,     0.01,    0.597,2,    0.302,2,    0.033,2,    0.195,2,   -999.0,9,   -999.0,9,-999.0000,     -999,9, -999.000,9, -999.000,   -999.0,9,   -999.0, -999.000,9, -999.000, -999.000,9, -999.000
  49NZ20121128,   S04,    76,  1,     25, X12J25,2,20121222,0702,-62.0025, 124.2540, 4231,    531.1,2,   1.9263,2,   1.92617,2,  34.6911,2,  34.6910,2,-999.0000,9,   181.98,2,   182.04,2,   99.857,   0.0057,2,    0.010,2,  -999.00,9,    0.000,2,    80.87,2,     0.13,    32.37,2,     0.05,     0.00,2,     0.01,     2.22,2,     0.01,    0.482,2,    0.250,2,    0.031,2,    0.219,2,   -999.0,9,   -999.0,9,-999.0000,     -999,9, -999.000,9, -999.000,   -999.0,9,   -999.0, -999.000,9, -999.000, -999.000,9, -999.000
  49NZ20121128,   S04,    76,  1,     24, X12J24,2,20121222,0702,-62.0025, 124.2540, 4231,    630.0,2,   1.9091,2,   1.90900,2,  34.7139,2,  34.7138,2,-999.0000,9,   185.18,2,   185.21,2,   99.908,   0.0037,2,    0.010,2,  -999.00,9,    0.000,2,    82.42,2,     0.13,    31.80,2,     0.04,     0.00,2,     0.01,     2.18,2,     0.01,    0.375,6,    0.184,6,    0.021,6,    0.122,6,   -999.0,9,   -999.0,9,-999.0000,     -999,9, -999.000,9, -999.000,   -999.0,9,   -999.0, -999.000,9, -999.000, -999.000,9, -999.000
  49NZ20121128,   S04,    76,  1,     23, X12J23,2,20121222,0702,-62.0025, 124.2540, 4231,    729.6,2,   1.8642,2,   1.86428,2,  34.7265,2,  34.7267,2,-999.0000,9,   187.85,2,   188.08,2,   99.940,   0.0024,2,    0.010,2,  -999.00,9,    0.000,2,    83.80,2,     0.13,    31.39,2,     0.04,     0.00,2,     0.01,     2.16,2,     0.01,    0.317,2,    0.153,2,    0.016,2,    0.080,2,   -999.0,9,   -999.0,9,-999.0000,     -999,9, -999.000,9, -999.000,   -999.0,9,   -999.0, -999.000,9, -999.000, -999.000,9, -999.000
  49NZ20121128,   S04,    76,  1,     22, X12J22,2,20121222,0702,-62.0025, 124.2540, 4231,    830.3,2,   1.8169,2,   1.81695,2,  34.7339,2,  34.7343,2,-999.0000,9,   190.59,2,   190.95,2,   99.967,   0.0013,2,    0.000,2,  -999.00,9,    0.000,2,    85.02,2,     0.14,    31.13,2,     0.04,     0.00,2,     0.01,     2.14,2,     0.01,    0.280,2,    0.133,2,    0.011,2,    0.000,2,   -999.0,9,   -999.0,9,-999.0000,     -999,9, -999.000,9, -999.000,   -999.0,9,   -999.0, -999.000,9, -999.000, -999.000,9, -999.000
  49NZ20121128,   S04,    76,  1,     21, X12J21,2,20121222,0702,-62.0025, 124.2540, 4231,    929.7,2,   1.7352,2,   1.73527,2,  34.7392,2,  34.7395,2,-999.0000,9,   193.29,2,   193.56,2,   99.980,   0.0008,2,    0.000,2,  -999.00,9,    0.000,2,    87.00,2,     0.14,    30.94,2,     0.04,     0.00,2,     0.01,     2.13,2,     0.01,    0.252,2,    0.119,2,    0.009,2,    0.000,2,   -999.0,9,   -999.0,9,-999.0000,     -999,9, -999.000,9, -999.000,   -999.0,9,   -999.0, -999.000,9, -999.000, -999.000,9, -999.000
  49NZ20121128,   S04,    76,  1,     20, X12J20,2,20121222,0702,-62.0025, 124.2540, 4231,   1080.0,2,   1.6082,2,   1.60799,2,  34.7405,2,  34.7409,2,-999.0000,9,   196.08,2,   196.51,2,   99.986,   0.0006,2,    0.000,2,  -999.00,9,    0.000,2,    90.28,2,     0.14,    30.87,2,     0.04,     0.00,2,     0.01,     2.13,2,     0.01,    0.235,2,    0.112,2,    0.007,2,    0.000,2,   -999.0,9,   -999.0,9,-999.0000,     -999,9, -999.000,9, -999.000,   -999.0,9,   -999.0, -999.000,9, -999.000, -999.000,9, -999.000
  49NZ20121128,   S04,    76,  1,     19, X12J19,2,20121222,0702,-62.0025, 124.2540, 4231,   1328.7,2,   1.3875,2,   1.38743,2,  34.7366,2,  34.7367,2,-999.0000,9,   200.19,2,   200.59,2,   99.936,   0.0026,2,   -0.000,2,  -999.00,9,    0.000,2,    96.41,2,     0.15,    30.98,2,     0.04,     0.00,2,     0.01,     2.14,2,     0.01,    0.208,6,    0.094,6,    0.007,6,    0.000,6,   -999.0,9,   -999.0,9,-999.0000,     -999,9, -999.000,9, -999.000,   -999.0,9,   -999.0, -999.000,9, -999.000, -999.000,9, -999.000
  49NZ20121128,   S04,    76,  1,     18, X12J18,2,20121222,0702,-62.0025, 124.2540, 4231,   1580.5,2,   1.1705,2,   1.17083,2,  34.7267,2,  34.7268,2,-999.0000,9,   202.64,2,   202.91,2,   99.999,   0.0000,2,   -0.000,2,  -999.00,9,    0.000,2,   102.41,2,     0.15,    31.39,2,     0.04,     0.00,2,     0.01,     2.17,2,     0.01,    0.232,2,    0.108,2,    0.008,2,    0.000,2,   -999.0,9,   -999.0,9,-999.0000,     -999,9, -999.000,9, -999.000,   -999.0,9,   -999.0, -999.000,9, -999.000, -999.000,9, -999.000
  49NZ20121128,   S04,    76,  1,     17, X12J17,2,20121222,0702,-62.0025, 124.2540, 4231,   1830.2,2,   0.9832,2,   0.98332,2,  34.7175,2,  34.7176,2,-999.0000,9,   205.03,2,   205.21,2,  100.022,  -0.0009,2,   -0.000,2,  -999.00,9,    0.000,2,   107.98,2,     0.16,    31.72,2,     0.04,     0.00,2,     0.01,     2.19,2,     0.01,    0.238,2,    0.110,2,    0.009,2,    0.000,2,   -999.0,9,   -999.0,9,-999.0000,     -999,9, -999.000,9, -999.000,   -999.0,9,   -999.0, -999.000,9, -999.000, -999.000,9, -999.000
  49NZ20121128,   S04,    76,  1,     16, X12J16,2,20121222,0702,-62.0025, 124.2540, 4231,   2079.6,2,   0.7921,2,   0.79215,2,  34.7071,2,  34.7074,2,-999.0000,9,   207.55,2,   207.77,2,  100.018,  -0.0007,2,   -0.000,2,  -999.00,9,    0.000,2,   112.86,2,     0.16,    31.99,2,     0.04,     0.00,2,     0.01,     2.21,2,     0.01,    0.273,2,    0.122,2,    0.009,2,    0.000,2,   -999.0,9,   -999.0,9,-999.0000,     -999,9, -999.000,9, -999.000,   -999.0,9,   -999.0, -999.000,9, -999.000, -999.000,9, -999.000
  49NZ20121128,   S04,    76,  1,     15, X12J15,2,20121222,0702,-62.0025, 124.2540, 4231,   2332.4,2,   0.6327,2,   0.63296,2,  34.6989,2,  34.6991,2,-999.0000,9,   210.47,2,   210.70,2,  100.018,  -0.0007,2,   -0.000,2,  -999.00,9,    0.000,2,   117.04,2,     0.16,    32.22,2,     0.05,     0.00,2,     0.01,     2.23,2,     0.01,    0.331,2,    0.149,2,    0.010,2,    0.000,2,   -999.0,9,   -999.0,9,-999.0000,     -999,9, -999.000,9, -999.000,   -999.0,9,   -999.0, -999.000,9, -999.000, -999.000,9, -999.000
  49NZ20121128,   S04,    76,  1,     14, X12J14,2,20121222,0702,-62.0025, 124.2540, 4231,   2581.9,2,   0.4535,2,   0.45362,2,  34.6902,2,  34.6900,2,-999.0000,9,   214.73,2,   214.82,2,  100.054,  -0.0022,2,   -0.000,2,  -999.00,9,    0.000,2,   120.84,2,     0.17,    32.38,2,     0.05,     0.00,2,     0.01,     2.24,2,     0.01,    0.429,2,    0.211,2,    0.017,2,    0.000,2,   -999.0,9,   -999.0,9,-999.0000,     -999,9, -999.000,9, -999.000,   -999.0,9,   -999.0, -999.000,9, -999.000, -999.000,9, -999.000
  49NZ20121128,   S04,    76,  1,     13, X12J13,2,20121222,0702,-62.0025, 124.2540, 4231,   2829.9,2,   0.3306,2,   0.33075,2,  34.6843,2,  34.6843,2,-999.0000,9,   218.35,2,   218.31,2,  100.060,  -0.0024,2,   -0.000,2,  -999.00,9,    0.000,2,   123.15,2,     0.17,    32.45,2,     0.05,     0.00,2,     0.01,     2.25,2,     0.01,    0.561,2,    0.283,2,    0.024,2,    0.126,2,   -999.0,9,   -999.0,9,-999.0000,     -999,9, -999.000,9, -999.000,   -999.0,9,   -999.0, -999.000,9, -999.000, -999.000,9, -999.000
  49NZ20121128,   S04,    76,  1,     12, X12J12,2,20121222,0702,-62.0025, 124.2540, 4231,   3082.7,2,   0.2343,2,   0.23424,2,  34.6796,2,  34.6796,2,-999.0000,9,   221.53,2,   221.59,2,  100.005,  -0.0002,2,   -0.000,2,  -999.00,9,    0.000,2,   124.58,2,     0.17,    32.46,2,     0.05,     0.00,2,     0.01,     2.25,2,     0.01,    0.704,2,    0.355,2,    0.033,2,    0.124,2,   -999.0,9,   -999.0,9,-999.0000,     -999,9, -999.000,9, -999.000,   -999.0,9,   -999.0, -999.000,9, -999.000, -999.000,9, -999.000
  49NZ20121128,   S04,    76,  1,     11, X12J11,2,20121222,0702,-62.0025, 124.2540, 4231,   3331.9,2,   0.1496,2,   0.14961,2,  34.6756,2,  34.6759,2,-999.0000,9,   224.54,2,   224.63,2,   99.995,   0.0002,2,   -0.000,2,  -999.00,9,    0.000,2,   125.51,2,     0.17,    32.46,2,     0.05,     0.00,2,     0.01,     2.25,2,     0.01,    0.823,2,    0.424,2,    0.042,2,    0.168,2,   -999.0,9,   -999.0,9,-999.0000,     -999,9, -999.000,9, -999.000,   -999.0,9,   -999.0, -999.000,9, -999.000, -999.000,9, -999.000
  49NZ20121128,   S04,    76,  1,     10, X12J10,2,20121222,0702,-62.0025, 124.2540, 4231,   3581.0,2,   0.0706,2,   0.07057,2,  34.6710,2,  34.6710,2,-999.0000,9,   227.76,2,   227.95,2,   99.999,   0.0000,2,   -0.000,2,  -999.00,9,    0.000,2,   125.01,2,     0.17,    32.41,2,     0.05,     0.00,2,     0.01,     2.24,2,     0.01,    1.044,2,    0.528,2,    0.059,2,    0.249,2,   -999.0,9,   -999.0,9,-999.0000,     -999,9, -999.000,9, -999.000,   -999.0,9,   -999.0, -999.000,9, -999.000, -999.000,9, -999.000
  49NZ20121128,   S04,    76,  1,      9, X12J09,2,20121222,0702,-62.0025, 124.2540, 4231,   3831.3,2,   0.0064,2,   0.00655,2,  34.6670,2,  34.6674,2,-999.0000,9,   230.77,2,   230.91,2,   99.959,   0.0016,2,   -0.010,2,  -999.00,9,    0.000,2,   125.70,2,     0.17,    32.37,2,     0.05,     0.00,2,     0.01,     2.24,2,     0.01,    1.289,2,    0.636,2,    0.074,2,    0.306,2,   -999.0,9,   -999.0,9,-999.0000,     -999,9, -999.000,9, -999.000,   -999.0,9,   -999.0, -999.000,9, -999.000, -999.000,9, -999.000
  49NZ20121128,   S04,    76,  1,      8, X12J08,2,20121222,0702,-62.0025, 124.2540, 4231,   4079.5,2,  -0.0776,2,  -0.07769,2,  34.6598,2,  34.6599,2,-999.0000,9,   234.75,2,   235.08,2,   99.906,   0.0038,2,   -0.010,2,  -999.00,9,    0.000,2,   124.27,2,     0.17,    32.30,2,     0.05,     0.00,2,     0.01,     2.24,2,     0.01,    1.708,6,    0.838,6,    0.120,6,    0.472,6,   -999.0,9,   -999.0,9,-999.0000,     -999,9, -999.000,9, -999.000,   -999.0,9,   -999.0, -999.000,9, -999.000, -999.000,9, -999.000
  49NZ20121128,   S04,    76,  1,      1, X12J01,2,20121222,0702,-62.0025, 124.2540, 4231,   4305.3,2,  -0.1619,2,  -0.16196,2,  34.6496,2,  34.6503,2,-999.0000,9,   238.57,2,   238.60,2,   99.632,   0.0147,2,   -0.010,2,  -999.00,9,    0.000,2,   126.43,2,     0.17,    32.28,2,     0.05,     0.00,2,     0.01,     2.23,2,     0.01,    2.062,2,    1.060,2,    0.172,2,    0.708,2,   -999.0,9,   -999.0,9,-999.0000,     -999,9, -999.000,9, -999.000,   -999.0,9,   -999.0, -999.000,9, -999.000, -999.000,9, -999.000