BOTTLE,20220819CCHSIOAMB
EXPOCODE,SECT_ID,STNNBR,CASTNO,SAMPNO,BTLNBR,BTLNBR_FLAG_W,DATE,TIME,LATITUDE,LONGITUDE,DEPTH,CTDPRS,CTDPRS_FLAG_W,CTDTMP,CTDTMP_FLAG_W,SBE35,SBE35_FLAG_W,CTDSAL,CTDSAL_FLAG_W,SALNTY,SALNTY_FLAG_W,DNSSAL,DNSSAL_FLAG_W,CTDOXY,CTDOXY_FLAG_W,OXYGEN,OXYGEN_FLAG_W,CTDXMISS,CTDXMISSCP,CTDXMISS_FLAG_W,CTDFLUOR,CTDFLUOR_FLAG_W,CHLORA,CHLORA_FLAG_W,PAR,PAR_FLAG_W,SILCAT,SILCAT_FLAG_W,SILUNC,NITRAT,NITRAT_FLAG_W,NRAUNC,NITRIT,NITRIT_FLAG_W,NRIUNC,PHSPHT,PHSPHT_FLAG_W,PHPUNC,CFC-11,CFC-11_FLAG_W,CFC-12,CFC-12_FLAG_W,CFC113,CFC113_FLAG_W,SF6,SF6_FLAG_W,TCARBN,TCARBN_FLAG_W,ALKALI,ALKALI_FLAG_W,PH_TOT,PH_TMP,PH_TOT_FLAG_W,DELC13,DELC13_FLAG_W,C13ERR,DELC14,DELC14_FLAG_W,C14ERR,CS-134,CS-134_FLAG_W,CS134ER,CS-137,CS-137_FLAG_W,CS137ER
,,,,,,,,UTC,DEG,DEG,METERS,DBAR,,ITS-90,,ITS-90,,PSS-78,,PSS-78,,G/KG,,UMOL/KG,,UMOL/KG,,%TRANS,/METER,,MG/M^3,,MG/CUM,,UE/SQM/S,,UMOL/KG,,UMOL/KG,UMOL/KG,,UMOL/KG,UMOL/KG,,UMOL/KG,UMOL/KG,,UMOL/KG,PMOL/KG,,PMOL/KG,,PMOL/KG,,FMOL/KG,,UMOL/KG,,UMOL/KG,,,DEG C,,/MILLE,,/MILLE,/MILLE,,/MILLE,MBQ/KG,,MBQ/KG,MBQ/KG,,MBQ/KG
  49NZ20121128,   S04,    53,  1,     36, X12J36,2,20121213,2011,-63.4345, 156.6527, 3187,      5.1,2,  -1.3057,2,  -1.30461,2,  33.8187,2,  33.8177,2,  33.9798,2,   329.52,2,   329.38,2,   96.657,   0.1360,2,    0.180,2,  -999.00,9,  211.304,2,    62.55,2,     0.11,    29.70,2,     0.04,     0.15,2,     0.01,     2.03,2,     0.01,    4.919,2,    2.698,2,    0.516,2,    2.350,2,   2182.6,2,   2281.6,2,   7.6366,       25,6, -999.000,1, -999.000,   -999.0,1,   -999.0, -999.000,9, -999.000, -999.000,9, -999.000
  49NZ20121128,   S04,    53,  1,     35, X12J35,2,20121213,2011,-63.4345, 156.6527, 3187,     25.9,2,  -1.4477,2,  -1.44819,2,  33.8201,2,  33.8202,2,  33.9844,2,   327.05,2,   326.91,2,   96.613,   0.1378,2,    0.310,2,  -999.00,9,   42.399,2,    62.71,2,     0.12,    29.78,2,     0.04,     0.14,2,     0.01,     2.03,2,     0.01,    4.838,2,    2.649,2,    0.498,2,    2.320,2,   2181.5,2,   2284.8,2,   7.6348,       25,2, -999.000,1, -999.000,   -999.0,1,   -999.0, -999.000,9, -999.000, -999.000,9, -999.000
  49NZ20121128,   S04,    53,  1,     34, X12J34,2,20121213,2011,-63.4345, 156.6527, 3187,     51.0,2,  -1.5921,2,  -1.58860,2,  34.1953,2,  34.1965,2,  34.3642,2,   304.41,2,   304.28,2,   97.857,   0.0867,2,    0.350,2,  -999.00,9,   11.567,2,    64.23,2,     0.12,    30.63,2,     0.04,     0.11,2,     0.01,     2.10,2,     0.01,    4.166,6,    2.339,6,    0.434,6,    2.075,6,   2209.7,2,   2309.6,2,   7.6222,       25,2, -999.000,1, -999.000,   -999.0,1,   -999.0, -999.000,9, -999.000, -999.000,9, -999.000
  49NZ20121128,   S04,    53,  1,     33, X12J33,2,20121213,2011,-63.4345, 156.6527, 3187,     75.1,2,   0.5863,2,   0.57655,2,  34.4994,2,  34.4972,2,  34.6629,2,   219.24,2,   220.28,2,   98.750,   0.0503,2,    0.320,2,  -999.00,9,    3.625,2,    74.63,2,     0.13,    32.51,2,     0.05,     0.06,2,     0.01,     2.23,2,     0.01,    1.911,2,    1.031,2,    0.183,2,    0.830,2,   2242.8,6,   2329.0,2,   7.5810,       25,2, -999.000,1, -999.000,   -999.0,1,   -999.0, -999.000,9, -999.000, -999.000,9, -999.000
  49NZ20121128,   S04,    53,  1,     32, X12J32,2,20121213,2011,-63.4345, 156.6527, 3187,    100.3,2,   1.6323,2,   1.62443,2,  34.6401,2,  34.6359,2,  34.8046,2,   185.76,2,   186.21,2,   99.615,   0.0154,2,    0.100,2,  -999.00,9,    1.192,2,    79.99,2,     0.13,    33.11,2,     0.05,     0.02,2,     0.01,     2.27,2,     0.01,    0.879,2,    0.465,2,    0.076,2,    0.370,2,   2254.3,2,   2336.7,6,   7.5683,       25,2, -999.000,1, -999.000,   -999.0,1,   -999.0, -999.000,9, -999.000, -999.000,9, -999.000
  49NZ20121128,   S04,    53,  1,     31, X12J31,2,20121213,2011,-63.4345, 156.6527, 3187,    126.2,2,   1.7127,2,   1.71178,2,  34.6595,2,  34.6580,2,  34.8257,2,   184.08,2,   183.74,2,   99.805,   0.0078,2,    0.010,2,  -999.00,9,    0.459,2,    80.99,2,     0.13,    32.97,2,     0.05,     0.01,2,     0.01,     2.26,2,     0.01,    0.727,2,    0.383,2,    0.061,2,    0.330,2,   2256.8,2,   2337.4,2,   7.5705,       25,2, -999.000,1, -999.000,   -999.0,1,   -999.0, -999.000,9, -999.000, -999.000,9, -999.000
  49NZ20121128,   S04,    53,  1,     30, X12J30,2,20121213,2011,-63.4345, 156.6527, 3187,    151.5,2,   1.6674,2,   1.66699,2,  34.6616,2,  34.6607,2,  34.8277,2,   185.98,2,   185.64,2,   99.832,   0.0067,2,    0.010,2,  -999.00,9,    0.176,2,    81.31,2,     0.13,    32.82,2,     0.05,     0.01,2,     0.01,     2.25,2,     0.01,    0.742,2,    0.391,2,    0.063,2,    0.320,2,   2256.0,2,   2339.8,2,   7.5730,       25,6, -999.000,1, -999.000,   -999.0,1,   -999.0, -999.000,9, -999.000, -999.000,9, -999.000
  49NZ20121128,   S04,    53,  1,     29, X12J29,2,20121213,2011,-63.4345, 156.6527, 3187,    199.9,2,   1.7001,2,   1.70062,2,  34.6821,2,  34.6804,2,  34.8488,2,   186.26,2,   186.06,2,   99.891,   0.0044,2,    0.000,2,  -999.00,9,    0.003,2,    82.28,2,     0.13,    32.50,2,     0.05,     0.01,2,     0.01,     2.23,2,     0.01,    0.631,2,    0.334,2,    0.056,2,    0.220,2,   2255.2,2,   2341.1,2,   7.5782,       25,2, -999.000,1, -999.000,   -999.0,1,   -999.0, -999.000,9, -999.000, -999.000,9, -999.000
  49NZ20121128,   S04,    53,  1,     28, X12J28,2,20121213,2011,-63.4345, 156.6527, 3187,    249.5,2,   1.6982,2,   1.69832,2,  34.6953,2,  34.6943,2,  34.8580,2,   187.57,2,   187.40,2,   99.920,   0.0032,2,    0.000,2,  -999.00,9,    0.000,2,    83.33,2,     0.13,    32.25,2,     0.05,     0.01,2,     0.01,     2.21,2,     0.01,    0.568,2,    0.302,2,    0.047,2,    0.230,2,   2254.7,2,   2343.7,3,   7.5839,       25,2, -999.000,1, -999.000,   -999.0,1,   -999.0, -999.000,9, -999.000, -999.000,9, -999.000
  49NZ20121128,   S04,    53,  1,     27, X12J27,2,20121213,2011,-63.4345, 156.6527, 3187,    281.4,2,   1.6901,2,   1.68977,2,  34.7013,2,  34.6998,2,  34.8679,2,   187.91,2,   187.87,2,   99.927,   0.0029,2,    0.000,2,  -999.00,9,    0.000,2,    83.77,2,     0.13,    32.04,2,     0.04,     0.01,2,     0.01,     2.20,2,     0.01,    0.545,2,    0.288,2,    0.042,2,    0.190,2,   2253.0,2,   2342.8,2,   7.5856,       25,2, -999.000,1, -999.000,   -999.0,1,   -999.0, -999.000,9, -999.000, -999.000,9, -999.000
  49NZ20121128,   S04,    53,  1,     26, X12J26,2,20121213,2011,-63.4345, 156.6527, 3187,    369.9,2,   1.6888,2,   1.68904,2,  34.7195,2,  34.7197,2,  34.8883,2,   190.05,2,   190.05,2,   99.952,   0.0019,2,    0.000,2,  -999.00,9,    0.000,2,    85.46,2,     0.14,    31.62,2,     0.04,     0.01,2,     0.01,     2.17,2,     0.01,    0.425,2,    0.212,2,    0.032,2,    0.170,2,   2252.3,2,   2345.7,2,   7.5942,       25,2, -999.000,1, -999.000,   -999.0,1,   -999.0, -999.000,9, -999.000, -999.000,9, -999.000
  49NZ20121128,   S04,    53,  1,     25, X12J25,2,20121213,2011,-63.4345, 156.6527, 3187,    470.9,2,   1.6329,2,   1.63176,2,  34.7276,2,  34.7266,2,  34.8943,2,   192.93,2,   192.95,2,   99.992,   0.0003,2,    0.000,2,  -999.00,9,    0.000,2,    86.94,2,     0.14,    31.32,2,     0.04,     0.01,2,     0.01,     2.15,2,     0.01,    0.383,2,    0.194,2,    0.024,2,    0.100,2,   2251.1,2,   2347.7,2,   7.6006,       25,2, -999.000,1, -999.000,   -999.0,1,   -999.0, -999.000,9, -999.000, -999.000,9, -999.000
  49NZ20121128,   S04,    53,  1,     24, X12J24,2,20121213,2011,-63.4345, 156.6527, 3187,    569.4,2,   1.5355,2,   1.53550,2,  34.7278,2,  34.7266,2,  34.8963,2,   195.90,2,   195.96,2,   99.992,   0.0003,2,    0.000,2,  -999.00,9,    0.000,2,    88.50,2,     0.14,    31.21,2,     0.04,     0.01,2,     0.01,     2.14,2,     0.01,    0.402,6,    0.204,6,    0.025,6,    0.140,6,   2251.6,2,   2348.3,2,   7.6039,       25,2, -999.000,1, -999.000,   -999.0,1,   -999.0, -999.000,9, -999.000, -999.000,9, -999.000
  49NZ20121128,   S04,    53,  1,     23, X12J23,2,20121213,2011,-63.4345, 156.6527, 3187,    670.5,2,   1.3978,2,   1.39696,2,  34.7251,2,  34.7244,2,  34.8949,2,   198.83,2,   198.98,2,  100.010,  -0.0004,2,   -0.000,2,  -999.00,9,    0.000,2,    90.94,2,     0.14,    31.15,2,     0.04,     0.01,2,     0.01,     2.14,2,     0.01,    0.426,2,    0.217,2,    0.026,2,    0.150,2,   2250.7,6,   2348.7,2,   7.6060,       25,2, -999.000,1, -999.000,   -999.0,1,   -999.0, -999.000,9, -999.000, -999.000,9, -999.000
  49NZ20121128,   S04,    53,  1,     22, X12J22,2,20121213,2011,-63.4345, 156.6527, 3187,    770.0,2,   1.3745,2,   1.37473,2,  34.7310,2,  34.7305,2,  34.9002,2,   199.26,2,   199.44,2,  100.021,  -0.0008,2,    0.000,2,  -999.00,9,    0.000,2,    93.76,2,     0.14,    31.14,2,     0.04,     0.01,2,     0.01,     2.14,2,     0.01,    0.325,2,    0.159,2,    0.018,2,    0.130,2,   2251.1,2,   2351.9,6,   7.6092,       25,2, -999.000,1, -999.000,   -999.0,1,   -999.0, -999.000,9, -999.000, -999.000,9, -999.000
  49NZ20121128,   S04,    53,  1,     21, X12J21,2,20121213,2011,-63.4345, 156.6527, 3187,    871.6,2,   1.2883,2,   1.28818,2,  34.7292,2,  34.7288,2,  34.8995,2,   200.45,2,   200.50,2,  100.000,  -0.0000,2,    0.000,2,  -999.00,9,    0.000,2,    96.48,2,     0.15,    31.23,2,     0.04,     0.01,2,     0.01,     2.15,2,     0.01,    0.303,2,    0.150,2,    0.018,2,    0.110,2,   2251.7,2,   2353.2,2,   7.6097,       25,6, -999.000,1, -999.000,   -999.0,1,   -999.0, -999.000,9, -999.000, -999.000,9, -999.000
  49NZ20121128,   S04,    53,  1,     20, X12J20,2,20121213,2011,-63.4345, 156.6527, 3187,    961.9,2,   1.1851,2,   1.18500,2,  34.7255,2,  34.7252,2,  34.8976,2,   201.98,2,   202.13,2,  100.021,  -0.0008,2,   -0.000,2,  -999.00,9,    0.000,2,    99.35,2,     0.15,    31.35,2,     0.04,     0.01,2,     0.01,     2.15,2,     0.01,    0.301,2,    0.148,2,    0.030,2,    0.060,2,   2254.0,2,   2354.3,2,   7.6099,       25,2, -999.000,1, -999.000,   -999.0,1,   -999.0, -999.000,9, -999.000, -999.000,9, -999.000
  49NZ20121128,   S04,    53,  1,     19, X12J19,2,20121213,2011,-63.4345, 156.6527, 3187,   1172.1,2,   1.0162,2,   1.01619,2,  34.7168,2,  34.7158,2,  34.8864,2,   203.98,2,   204.14,2,  100.017,  -0.0007,2,   -0.000,2,  -999.00,9,    0.000,2,   103.55,2,     0.15,    31.64,2,     0.04,     0.01,2,     0.01,     2.18,2,     0.01,    0.342,6,    0.164,6,    0.029,6,    0.070,2,   2255.4,2,   2354.3,2,   7.6080,       25,2, -999.000,1, -999.000,   -999.0,1,   -999.0, -999.000,9, -999.000, -999.000,9, -999.000
  49NZ20121128,   S04,    53,  1,     18, X12J18,2,20121213,2011,-63.4345, 156.6527, 3187,   1420.2,2,   0.8456,2,   0.84572,2,  34.7106,2,  34.7102,2,  34.8798,2,   206.17,2,   206.33,2,  100.023,  -0.0009,2,   -0.000,2,  -999.00,9,    0.000,2,   109.69,2,     0.16,    31.88,2,     0.04,     0.01,2,     0.01,     2.19,2,     0.01,    0.291,2,    0.133,2,    0.019,2,    0.280,2,   2258.0,2,   2355.5,2,   7.6065,       25,2, -999.000,1, -999.000,   -999.0,1,   -999.0, -999.000,9, -999.000, -999.000,9, -999.000
  49NZ20121128,   S04,    53,  1,     17, X12J17,2,20121213,2011,-63.4345, 156.6527, 3187,   1671.4,2,   0.6519,2,   0.65178,2,  34.7000,2,  34.6996,2,  34.8712,2,   209.21,2,   209.46,2,  100.004,  -0.0002,2,   -0.000,2,  -999.00,9,    0.000,2,   114.33,2,     0.16,    32.20,2,     0.05,     0.01,2,     0.01,     2.22,2,     0.01,    0.358,2,    0.176,2,    0.022,2,    0.110,2,   2259.8,2,   2356.7,2,   7.6030,       25,6, -999.000,1, -999.000,   -999.0,1,   -999.0, -999.000,9, -999.000, -999.000,9, -999.000
  49NZ20121128,   S04,    53,  1,     16, X12J16,2,20121213,2011,-63.4345, 156.6527, 3187,   1921.3,2,   0.5044,2,   0.50430,2,  34.6926,2,  34.6925,2,  34.8633,2,   212.25,2,   212.36,2,  100.017,  -0.0007,2,   -0.000,2,  -999.00,9,    0.000,2,   117.02,2,     0.16,    32.37,2,     0.05,     0.01,2,     0.01,     2.22,2,     0.01,    0.435,2,    0.213,2,    0.027,2,    0.120,2,   2259.9,2,   2356.5,2,   7.6032,       25,2, -999.000,1, -999.000,   -999.0,1,   -999.0, -999.000,9, -999.000, -999.000,9, -999.000
  49NZ20121128,   S04,    53,  1,     15, X12J15,2,20121213,2011,-63.4345, 156.6527, 3187,   2170.7,2,   0.3701,2,   0.37030,2,  34.6875,2,  34.6866,2,  34.8593,2,   215.60,2,   216.01,2,  100.019,  -0.0008,2,   -0.000,2,  -999.00,9,    0.000,2,   120.10,2,     0.17,    32.44,2,     0.05,     0.01,2,     0.01,     2.24,2,     0.01,    0.496,2,    0.252,2,    0.030,2,    0.110,2,   2258.8,2,   2356.5,2,   7.6012,       25,2, -999.000,1, -999.000,   -999.0,1,   -999.0, -999.000,9, -999.000, -999.000,9, -999.000
  49NZ20121128,   S04,    53,  1,     14, X12J14,2,20121213,2011,-63.4345, 156.6527, 3187,   2421.9,2,   0.2258,2,   0.22605,2,  34.6809,2,  34.6806,2,  34.8534,2,   219.85,2,   220.07,2,   99.985,   0.0006,2,   -0.000,2,  -999.00,9,    0.000,2,   120.49,2,     0.17,    32.40,2,     0.05,     0.01,2,     0.01,     2.24,2,     0.01,    0.689,2,    0.357,2,    0.045,2,    0.190,2,   2259.0,6,   2357.2,2,   7.6006,       25,2, -999.000,1, -999.000,   -999.0,1,   -999.0, -999.000,9, -999.000, -999.000,9, -999.000
  49NZ20121128,   S04,    53,  1,     13, X12J13,2,20121213,2011,-63.4345, 156.6527, 3187,   2672.3,2,   0.1105,2,   0.11046,2,  34.6758,2,  34.6760,2,  34.8462,2,   223.79,2,   224.07,2,   99.979,   0.0008,2,   -0.010,2,  -999.00,9,    0.000,2,   122.14,2,     0.17,    32.43,2,     0.05,     0.01,2,     0.01,     2.23,2,     0.01,    0.894,2,    0.457,2,    0.060,2,    0.230,2,   2261.8,3,   2355.8,2,   7.6001,       25,2, -999.000,1, -999.000,   -999.0,1,   -999.0, -999.000,9, -999.000, -999.000,9, -999.000
  49NZ20121128,   S04,    53,  1,     12, X12J12,2,20121213,2011,-63.4345, 156.6527, 3187,   2920.5,2,   0.0287,2,   0.02866,2,  34.6715,2,  34.6712,2,  34.8448,2,   226.94,2,   227.19,2,   99.937,   0.0025,2,   -0.000,2,  -999.00,9,    0.000,2,   122.24,2,     0.17,    32.47,2,     0.05,     0.01,2,     0.01,     2.24,2,     0.01,    1.117,2,    0.586,2,    0.079,2,    0.310,2,   2257.9,2,   2355.2,2,   7.5992,       25,2, -999.000,1, -999.000,   -999.0,1,   -999.0, -999.000,9, -999.000, -999.000,9, -999.000
  49NZ20121128,   S04,    53,  1,     11, X12J11,2,20121213,2011,-63.4345, 156.6527, 3187,   3168.9,2,  -0.0190,2,  -0.01905,2,  34.6683,2,  34.6681,2,  34.8422,2,   229.15,2,   231.79,3,   99.824,   0.0070,2,   -0.000,2,  -999.00,9,    0.000,2,   119.80,2,     0.17,    32.44,2,     0.05,     0.01,2,     0.01,     2.24,2,     0.01,    1.361,2,    0.715,2,    0.104,2,    0.390,2,   2258.5,2,   2354.3,2,   7.5984,       25,2, -999.000,1, -999.000,   -999.0,1,   -999.0, -999.000,9, -999.000, -999.000,9, -999.000
  49NZ20121128,   S04,    53,  1,      1, X12J01,2,20121213,2011,-63.4345, 156.6527, 3187,   3223.3,2,  -0.0192,2,  -0.01936,2,  34.6679,2,  34.6676,2,  34.8415,2,   229.34,2,   229.38,2,   99.812,   0.0075,2,   -0.000,2,  -999.00,9,    0.000,2,   119.51,2,     0.17,    32.41,2,     0.05,     0.01,2,     0.01,     2.23,2,     0.01,    1.376,2,    0.728,2,    0.109,2,    0.400,2,   2258.3,2,   2355.3,2,   7.5983,       25,2, -999.000,1, -999.000,   -999.0,1,   -999.0, -999.000,9, -999.000, -999.000,9, -999.000