BOTTLE,20220819CCHSIOAMB
EXPOCODE,SECT_ID,STNNBR,CASTNO,SAMPNO,BTLNBR,BTLNBR_FLAG_W,DATE,TIME,LATITUDE,LONGITUDE,DEPTH,CTDPRS,CTDPRS_FLAG_W,CTDTMP,CTDTMP_FLAG_W,SBE35,SBE35_FLAG_W,CTDSAL,CTDSAL_FLAG_W,SALNTY,SALNTY_FLAG_W,CTDOXY,CTDOXY_FLAG_W,OPTOXY,OPTOXY_FLAG_W,DWNPRS,DWNPRS_FLAG_W,DWNOXY,DWNOXY_FLAG_W,OXYGEN,OXYGEN_FLAG_W,SILCAT,SILCAT_FLAG_W,SILUNC,NITRAT,NITRAT_FLAG_W,NRAUNC,NITRIT,NITRIT_FLAG_W,NRIUNC,PHSPHT,PHSPHT_FLAG_W,PHPUNC,CFC-11,CFC-11_FLAG_W,CFC-12,CFC-12_FLAG_W,CFC113,CFC113_FLAG_W,TCARBN,TCARBN_FLAG_W,ALKALI,ALKALI_FLAG_W,PH,PH_FLAG_W,DELC13,DELC13_FLAG_W,C13ERR,DELC14,DELC14_FLAG_W,C14ERR,THETA,SIG0
,,,,,,,,UTC,DEG,DEG,METERS,DBAR,,ITS-90,,ITS-90,,PSS-78,,PSS-78,,UMOL/KG,,UMOL/KG,,DBAR,,UMOL/KG,,UMOL/KG,,UMOL/KG,,UMOL/KG,UMOL/KG,,UMOL/KG,UMOL/KG,,UMOL/KG,UMOL/KG,,UMOL/KG,PMOL/KG,,PMOL/KG,,PMOL/KG,,UMOL/KG,,UMOL/KG,,,,/MILLE,,/MILLE,/MILLE,,/MILLE,DEG C,KG/M^3
    49NZ20060120,   P03W,   374,  1,     36, X12042,2,20060120,1234, 26.6048, 126.5223, 1516,      9.0,2,  22.3041,2,  22.30479,2,  34.8189,2,  34.8163,2,   198.20,1,   216.07,2,     18.9,2,   218.87,2,   216.66,2,     1.27,2,     0.12,     0.04,2,     0.03,     0.00,2,     0.01,    0.047,2,    0.036,    1.808,2,    1.046,2, -999.000,5,   -999.0,9,   -999.0,9,-999.0000,9, -999.000,9, -999.000,   -999.0,9,   -999.0,  22.3023,  23.9952
    49NZ20060120,   P03W,   374,  1,     35, X12041,2,20060120,1234, 26.6048, 126.5223, 1516,     50.5,2,  22.3048,2,  22.30546,2,  34.8251,2,  34.8242,2,   198.07,1,   215.21,2,     47.5,2,   218.69,2,   216.36,2,     1.28,2,     0.12,     0.03,2,     0.03,     0.00,2,     0.01,    0.048,2,    0.035,    1.800,2,    1.035,2, -999.000,5,   -999.0,9,   -999.0,9,-999.0000,9, -999.000,9, -999.000,   -999.0,9,   -999.0,  22.2947,  24.0020
    49NZ20060120,   P03W,   374,  1,     34, X12016,2,20060120,1234, 26.6048, 126.5223, 1516,    100.5,2,  22.1991,2,  22.19947,2,  34.8328,2,  34.8321,2,   195.89,1,   212.30,2,    103.0,2,   217.64,2,   214.16,2,     1.36,2,     0.12,     0.07,2,     0.03,     0.02,2,     0.01,    0.055,2,    0.032,    1.799,2,    1.035,2, -999.000,5,   -999.0,9,   -999.0,9,-999.0000,9, -999.000,9, -999.000,   -999.0,9,   -999.0,  22.1791,  24.0405
    49NZ20060120,   P03W,   374,  1,     33, X12039,2,20060120,1234, 26.6048, 126.5223, 1516,    149.5,2,  20.2708,2,  20.26325,2,  34.9058,2,  34.9061,2,   183.89,1,   199.50,2,    155.9,2,   200.41,2,   201.00,2,     2.20,2,     0.12,     1.66,2,     0.04,     0.03,2,     0.01,    0.168,2,    0.017,    2.051,2,    1.146,2, -999.000,5,   -999.0,9,   -999.0,9,-999.0000,9, -999.000,9, -999.000,   -999.0,9,   -999.0,  20.2429,  24.6256
    49NZ20060120,   P03W,   374,  1,     32, X12038,2,20060120,1234, 26.6048, 126.5223, 1516,    198.7,2,  18.8603,2,  18.86089,2,  34.8694,2,  34.8686,2,   177.46,1,   192.48,2,    203.3,2,   196.84,2,   193.83,2,     3.20,2,     0.13,     3.70,2,     0.04,     0.01,2,     0.01,    0.303,2,    0.014,    2.181,2,    1.206,2, -999.000,5,   -999.0,9,   -999.0,9,-999.0000,9, -999.000,9, -999.000,   -999.0,9,   -999.0,  18.8251,  24.9658
    49NZ20060120,   P03W,   374,  1,     31, X12037,2,20060120,1234, 26.6048, 126.5223, 1516,    252.2,2,  17.5944,2,  17.59129,2,  34.8054,2,  34.8055,2,   187.59,1,   203.15,2,    248.0,2,   206.79,2,   204.43,2,     3.76,2,     0.13,     4.29,2,     0.04,     0.01,2,     0.01,    0.328,2,    0.014,    2.298,6,    1.269,6, -999.000,5,   -999.0,9,   -999.0,9,-999.0000,9, -999.000,9, -999.000,   -999.0,9,   -999.0,  17.5518,  25.2325
    49NZ20060120,   P03W,   374,  1,     30, X12008,2,20060120,1234, 26.6048, 126.5223, 1516,    302.7,2,  16.7477,2,  16.74870,2,  34.7434,2,  34.7436,2,   186.20,1,   201.17,2,    299.6,2,   200.53,2,   203.07,2,     5.09,2,     0.13,     5.69,2,     0.05,     0.01,2,     0.01,    0.420,2,    0.013,    2.371,2,    1.285,2,    0.053,4,   -999.0,9,   -999.0,9,-999.0000,9, -999.000,9, -999.000,   -999.0,9,   -999.0,  16.6982,  25.3886
    49NZ20060120,   P03W,   374,  1,     29, X12035,2,20060120,1234, 26.6048, 126.5223, 1516,    400.8,2,  13.8600,2,  13.85797,2,  34.5048,2,  34.5037,2,   168.13,1,   181.86,2,    402.5,2,   186.63,2,   183.05,2,    13.03,2,     0.15,    11.86,2,     0.07,     0.00,2,     0.01,    0.871,2,    0.013,    2.483,2,    1.269,2,    0.041,4,   -999.0,9,   -999.0,9,-999.0000,9, -999.000,9, -999.000,   -999.0,9,   -999.0,  13.8023,  25.8456
    49NZ20060120,   P03W,   374,  1,     28, X12034,2,20060120,1234, 26.6048, 126.5223, 1516,    500.2,2,  10.7965,2,  10.79545,2,  34.3266,2,  34.3263,6,   144.79,1,   156.71,2,    501.6,2,   156.35,2,   157.59,2,    28.71,2,     0.18,    19.39,2,     0.09,     0.00,2,     0.01,    1.423,2,    0.014,    2.151,2,    1.049,2,    0.044,2,   -999.0,9,   -999.0,9,-999.0000,9, -999.000,9, -999.000,   -999.0,9,   -999.0,  10.7352,  26.2985
    49NZ20060120,   P03W,   374,  1,     27, X12033,2,20060120,1234, 26.6048, 126.5223, 1516,    600.2,2,   8.5963,2,   8.59526,2,  34.1956,2,  34.1959,2,   131.47,1,   142.32,2,    602.9,2,   143.85,2,   142.78,2,    42.08,2,     0.21,    24.63,2,     0.10,     0.00,2,     0.01,    1.804,2,    0.015,    1.900,2,    0.913,2,    0.053,2,   -999.0,9,   -999.0,9,-999.0000,9, -999.000,9, -999.000,   -999.0,9,   -999.0,   8.5321,  26.5615
    49NZ20060120,   P03W,   374,  1,     26, X12032,2,20060120,1234, 26.6048, 126.5223, 1516,    700.4,2,   6.6741,2,   6.67401,2,  34.1745,2,  34.1743,2,    98.94,1,   107.61,2,    700.1,2,   108.08,2,   107.28,2,    64.02,2,     0.26,    31.31,2,     0.12,     0.00,2,     0.01,    2.291,2,    0.016,    1.260,2,    0.599,2,    0.035,2,   -999.0,9,   -999.0,9,-999.0000,9, -999.000,9, -999.000,   -999.0,9,   -999.0,   6.6087,  26.8214
    49NZ20060120,   P03W,   374,  1,     25, X12001,2,20060120,1234, 26.6048, 126.5223, 1516,    800.2,2,   5.8135,2,   5.81260,2,  34.3180,2,  34.3177,2,    81.30,1,    88.35,2,    802.2,2,    88.98,2,    87.91,2,    85.07,2,     0.31,    34.38,2,     0.13,     0.00,2,     0.01,    2.506,2,    0.016,    0.691,6,    0.330,6,    0.021,6,   -999.0,9,   -999.0,9,-999.0000,9, -999.000,9, -999.000,   -999.0,9,   -999.0,   5.7433,  27.0459
    49NZ20060120,   P03W,   374,  1,     24, X12030,2,20060120,1234, 26.6048, 126.5223, 1516,    899.4,2,   4.5855,2,   4.58598,2,  34.3418,2,  34.3415,2,    64.48,1,    70.49,2,    899.4,2,    70.20,2,    69.80,2,   102.36,2,     0.34,    38.14,2,     0.14,     0.00,2,     0.01,    2.765,2,    0.017,    0.346,2,    0.167,2,    0.019,2,   -999.0,9,   -999.0,9,-999.0000,9, -999.000,9, -999.000,   -999.0,9,   -999.0,   4.5143,  27.2079
    49NZ20060120,   P03W,   374,  1,     23, X12049,2,20060120,1234, 26.6048, 126.5223, 1516,   1002.3,2,   4.4534,2,   4.45343,2,  34.4038,2,  34.4035,6,    69.23,1,    75.50,2,   1002.6,2,    75.17,2,    74.69,2,   107.67,2,     0.36,    37.77,2,     0.14,     0.00,2,     0.01,    2.733,2,    0.017,    0.278,2,    0.132,2,    0.000,2,   -999.0,9,   -999.0,9,-999.0000,9, -999.000,9, -999.000,   -999.0,9,   -999.0,   4.3742,  27.2724
    49NZ20060120,   P03W,   374,  1,     22, X12028,2,20060120,1234, 26.6048, 126.5223, 1516,   1200.1,2,   4.0729,2,   4.07308,2,  34.4251,2,  34.4251,2,    67.94,1,    73.84,2,   1200.0,2,    72.97,2,    73.20,2,   113.56,2,     0.37,    38.53,2,     0.14,     0.00,2,     0.01,    2.793,2,    0.017,    0.200,2,    0.097,2,    0.000,2,   -999.0,9,   -999.0,9,-999.0000,9, -999.000,9, -999.000,   -999.0,9,   -999.0,   3.9798,  27.3309
    49NZ20060120,   P03W,   374,  1,     21, X12009,2,20060120,1234, 26.6048, 126.5223, 1516,   1400.7,2,   3.9339,2,   3.93445,2,  34.4436,2,  34.4435,2,    68.87,1,    74.49,2,   1400.3,2,    74.07,2,    74.22,2,   116.93,2,     0.38,    38.71,2,     0.14,     0.01,2,     0.01,    2.794,2,    0.017,    0.167,2,    0.081,2,    0.000,2,   -999.0,9,   -999.0,9,-999.0000,9, -999.000,9, -999.000,   -999.0,9,   -999.0,   3.8246,  27.3615
    49NZ20060120,   P03W,   374,  1,     20, X12026,9,20060120,1234, 26.6048, 126.5223, 1516,   1506.6,2,   3.8652,2,   3.86521,2,  34.4483,2,-999.0000,9,    69.29,1,    74.51,2,   1506.6,2,    74.31,2,  -999.00,9,  -999.00,9,  -999.00,  -999.00,9,  -999.00,  -999.00,9,  -999.00, -999.000,9, -999.000, -999.000,9, -999.000,9, -999.000,9,   -999.0,9,   -999.0,9,-999.0000,9, -999.000,9, -999.000,   -999.0,9,   -999.0,   3.7472,  27.3730
    49NZ20060120,   P03W,   374,  1,     19, X12025,9,20060120,1234, 26.6048, 126.5223, 1516,      9.7,2,  22.3052,2,  22.30607,2,  34.8226,2,-999.0000,9,   198.05,1,   216.11,2,     20.2,2,   218.88,2,  -999.00,9,  -999.00,9,  -999.00,  -999.00,9,  -999.00,  -999.00,9,  -999.00, -999.000,9, -999.000, -999.000,9, -999.000,9, -999.000,9,   -999.0,9,   -999.0,9,-999.0000,9, -999.000,9, -999.000,   -999.0,9,   -999.0,  22.3033,  23.9977
    49NZ20060120,   P03W,   374,  1,     18, X12024,9,20060120,1234, 26.6048, 126.5223, 1516,     51.4,2,  22.3001,2,  22.30051,2,  34.8251,2,-999.0000,9,   197.96,1,   215.23,2,     48.6,2,   218.71,2,  -999.00,9,  -999.00,9,  -999.00,  -999.00,9,  -999.00,  -999.00,9,  -999.00, -999.000,9, -999.000, -999.000,9, -999.000,9, -999.000,9,   -999.0,9,   -999.0,9,-999.0000,9, -999.000,9, -999.000,   -999.0,9,   -999.0,  22.2899,  24.0034
    49NZ20060120,   P03W,   374,  1,     17, X12023,9,20060120,1234, 26.6048, 126.5223, 1516,    100.4,2,  22.1988,2,  22.19876,2,  34.8332,2,-999.0000,9,   195.91,1,   212.35,2,    103.0,2,   217.64,2,  -999.00,9,  -999.00,9,  -999.00,  -999.00,9,  -999.00,  -999.00,9,  -999.00, -999.000,9, -999.000, -999.000,9, -999.000,9, -999.000,9,   -999.0,9,   -999.0,9,-999.0000,9, -999.000,9, -999.000,   -999.0,9,   -999.0,  22.1788,  24.0409
    49NZ20060120,   P03W,   374,  1,     16, X12022,9,20060120,1234, 26.6048, 126.5223, 1516,    150.2,2,  20.2323,2,  20.24018,2,  34.9073,2,-999.0000,9,   183.72,1,   199.26,2,    156.2,2,   200.52,2,  -999.00,9,  -999.00,9,  -999.00,  -999.00,9,  -999.00,  -999.00,9,  -999.00, -999.000,9, -999.000, -999.000,9, -999.000,9, -999.000,9,   -999.0,9,   -999.0,9,-999.0000,9, -999.000,9, -999.000,   -999.0,9,   -999.0,  20.2043,  24.6370
    49NZ20060120,   P03W,   374,  1,     15, X12021,9,20060120,1234, 26.6048, 126.5223, 1516,    200.2,2,  18.8627,2,  18.86356,2,  34.8694,2,-999.0000,9,   177.43,1,   192.46,2,    203.9,2,   196.98,2,  -999.00,9,  -999.00,9,  -999.00,  -999.00,9,  -999.00,  -999.00,9,  -999.00, -999.000,9, -999.000, -999.000,9, -999.000,9, -999.000,9,   -999.0,9,   -999.0,9,-999.0000,9, -999.000,9, -999.000,   -999.0,9,   -999.0,  18.8272,  24.9653
    49NZ20060120,   P03W,   374,  1,     14, X12020,9,20060120,1234, 26.6048, 126.5223, 1516,    251.9,2,  17.5588,2,  17.55807,2,  34.8037,2,-999.0000,9,   187.69,1,   203.36,2,    249.1,2,   206.77,2,  -999.00,9,  -999.00,9,  -999.00,  -999.00,9,  -999.00,  -999.00,9,  -999.00, -999.000,9, -999.000, -999.000,9, -999.000,9, -999.000,9,   -999.0,9,   -999.0,9,-999.0000,9, -999.000,9, -999.000,   -999.0,9,   -999.0,  17.5163,  25.2398
    49NZ20060120,   P03W,   374,  1,     13, X12019,9,20060120,1234, 26.6048, 126.5223, 1516,    303.3,2,  16.7261,2,  16.72617,2,  34.7415,2,-999.0000,9,   185.83,1,   200.73,2,    301.0,2,   200.06,2,  -999.00,9,  -999.00,9,  -999.00,  -999.00,9,  -999.00,  -999.00,9,  -999.00, -999.000,9, -999.000, -999.000,9, -999.000,9, -999.000,9,   -999.0,9,   -999.0,9,-999.0000,9, -999.000,9, -999.000,   -999.0,9,   -999.0,  16.6766,  25.3922
    49NZ20060120,   P03W,   374,  1,     12, X12018,9,20060120,1234, 26.6048, 126.5223, 1516,    400.8,2,  13.8716,2,  13.87168,2,  34.5060,2,-999.0000,9,   168.18,1,   182.00,2,    402.3,2,   186.53,2,  -999.00,9,  -999.00,9,  -999.00,  -999.00,9,  -999.00,  -999.00,9,  -999.00, -999.000,9, -999.000, -999.000,9, -999.000,9, -999.000,9,   -999.0,9,   -999.0,9,-999.0000,9, -999.000,9, -999.000,   -999.0,9,   -999.0,  13.8139,  25.8442
    49NZ20060120,   P03W,   374,  1,     11, X12005,9,20060120,1234, 26.6048, 126.5223, 1516,    500.2,2,  10.7983,2,  10.79808,2,  34.3271,2,-999.0000,9,   144.73,1,   156.56,2,    501.6,2,   156.32,2,  -999.00,9,  -999.00,9,  -999.00,  -999.00,9,  -999.00,  -999.00,9,  -999.00, -999.000,9, -999.000, -999.000,9, -999.000,9, -999.000,9,   -999.0,9,   -999.0,9,-999.0000,9, -999.000,9, -999.000,   -999.0,9,   -999.0,  10.7370,  26.2985
    49NZ20060120,   P03W,   374,  1,     10, X12010,9,20060120,1234, 26.6048, 126.5223, 1516,    601.7,2,   8.5807,2,   8.57936,2,  34.1952,2,-999.0000,9,   131.49,1,   142.31,2,    604.0,2,   143.84,2,  -999.00,9,  -999.00,9,  -999.00,  -999.00,9,  -999.00,  -999.00,9,  -999.00, -999.000,9, -999.000, -999.000,9, -999.000,9, -999.000,9,   -999.0,9,   -999.0,9,-999.0000,9, -999.000,9, -999.000,   -999.0,9,   -999.0,   8.5164,  26.5636
    49NZ20060120,   P03W,   374,  1,      9, X12015,9,20060120,1234, 26.6048, 126.5223, 1516,    701.0,2,   6.6663,2,   6.66857,2,  34.1743,2,-999.0000,9,    98.85,1,   107.61,2,    700.6,2,   108.03,2,  -999.00,9,  -999.00,9,  -999.00,  -999.00,9,  -999.00,  -999.00,9,  -999.00, -999.000,9, -999.000, -999.000,9, -999.000,9, -999.000,9,   -999.0,9,   -999.0,9,-999.0000,9, -999.000,9, -999.000,   -999.0,9,   -999.0,   6.6009,  26.8223
    49NZ20060120,   P03W,   374,  1,      8, X12014,9,20060120,1234, 26.6048, 126.5223, 1516,    801.5,2,   5.8079,2,   5.80795,2,  34.3189,2,-999.0000,9,    81.35,1,    88.41,2,    803.4,2,    88.91,2,  -999.00,9,  -999.00,9,  -999.00,  -999.00,9,  -999.00,  -999.00,9,  -999.00, -999.000,9, -999.000, -999.000,9, -999.000,9, -999.000,9,   -999.0,9,   -999.0,9,-999.0000,9, -999.000,9, -999.000,   -999.0,9,   -999.0,   5.7376,  27.0473
    49NZ20060120,   P03W,   374,  1,      7, X12013,9,20060120,1234, 26.6048, 126.5223, 1516,    900.0,2,   4.5651,2,   4.56528,2,  34.3431,2,-999.0000,9,    64.43,1,    70.43,2,    900.4,2,    70.12,2,  -999.00,9,  -999.00,9,  -999.00,  -999.00,9,  -999.00,  -999.00,9,  -999.00, -999.000,9, -999.000, -999.000,9, -999.000,9, -999.000,9,   -999.0,9,   -999.0,9,-999.0000,9, -999.000,9, -999.000,   -999.0,9,   -999.0,   4.4940,  27.2112
    49NZ20060120,   P03W,   374,  1,      6, X12048,9,20060120,1234, 26.6048, 126.5223, 1516,   1002.8,2,   4.4522,2,   4.45240,2,  34.4040,2,-999.0000,9,    69.23,1,    75.48,2,   1003.1,2,    75.16,2,  -999.00,9,  -999.00,9,  -999.00,  -999.00,9,  -999.00,  -999.00,9,  -999.00, -999.000,9, -999.000, -999.000,9, -999.000,9, -999.000,9,   -999.0,9,   -999.0,9,-999.0000,9, -999.000,9, -999.000,   -999.0,9,   -999.0,   4.3730,  27.2727
    49NZ20060120,   P03W,   374,  1,      5, X12047,9,20060120,1234, 26.6048, 126.5223, 1516,   1200.4,2,   4.0727,2,   4.07303,2,  34.4251,2,-999.0000,9,    67.97,1,    73.89,2,   1200.2,2,    72.96,2,  -999.00,9,  -999.00,9,  -999.00,  -999.00,9,  -999.00,  -999.00,9,  -999.00, -999.000,9, -999.000, -999.000,9, -999.000,9, -999.000,9,   -999.0,9,   -999.0,9,-999.0000,9, -999.000,9, -999.000,   -999.0,9,   -999.0,   3.9796,  27.3310
    49NZ20060120,   P03W,   374,  1,      4, X12046,9,20060120,1234, 26.6048, 126.5223, 1516,   1400.8,2,   3.9336,2,   3.93358,2,  34.4435,2,-999.0000,9,    68.87,1,    74.52,2,   1400.4,2,    74.07,2,  -999.00,9,  -999.00,9,  -999.00,  -999.00,9,  -999.00,  -999.00,9,  -999.00, -999.000,9, -999.000, -999.000,9, -999.000,9, -999.000,9,   -999.0,9,   -999.0,9,-999.0000,9, -999.000,9, -999.000,   -999.0,9,   -999.0,   3.8243,  27.3615
    49NZ20060120,   P03W,   374,  1,      3, X12003,2,20060120,1234, 26.6048, 126.5223, 1516,     23.1,2,  22.3049,2,  22.30531,2,  34.8236,2,  34.8212,2,   197.95,1,   215.75,2,     29.2,2,   218.81,2,   216.38,2,     1.31,2,     0.12,     0.05,2,     0.03,     0.00,2,     0.01,    0.049,2,    0.035,    1.792,2,    1.036,2, -999.000,5,   -999.0,9,   -999.0,9,-999.0000,9, -999.000,9, -999.000,   -999.0,9,   -999.0,  22.3003,  23.9994
    49NZ20060120,   P03W,   374,  1,      2, X12044,2,20060120,1234, 26.6048, 126.5223, 1516,     75.8,2,  22.2375,2,  22.23823,2,  34.8267,2,  34.8259,2,   197.60,1,   214.53,2,     75.6,2,   218.47,2,   216.09,2,     1.30,2,     0.12,     0.03,2,     0.03,     0.00,2,     0.01,    0.044,2,    0.038,    1.790,2,    1.042,2, -999.000,5,   -999.0,9,   -999.0,9,-999.0000,9, -999.000,9, -999.000,   -999.0,9,   -999.0,  22.2224,  24.0237
    49NZ20060120,   P03W,   374,  1,      1, X12051,2,20060120,1234, 26.6048, 126.5223, 1516,   1506.8,2,   3.8646,2,   3.86461,2,  34.4484,2,  34.4482,6,    69.26,1,    74.51,2,   1506.9,2,    74.32,2,    74.10,2,   118.10,2,     0.38,    38.75,2,     0.14,     0.00,2,     0.01,    2.794,2,    0.017,    0.158,2,    0.077,2,    0.000,2,   -999.0,9,   -999.0,9,-999.0000,9, -999.000,9, -999.000,   -999.0,9,   -999.0,   3.7466,  27.3732