BOTTLE,20220819CCHSIOAMB
EXPOCODE,SECT_ID,STNNBR,CASTNO,SAMPNO,BTLNBR,BTLNBR_FLAG_W,DATE,TIME,LATITUDE,LONGITUDE,DEPTH,CTDPRS,CTDPRS_FLAG_W,CTDTMP,CTDTMP_FLAG_W,SBE35,SBE35_FLAG_W,CTDSAL,CTDSAL_FLAG_W,SALNTY,SALNTY_FLAG_W,CTDOXY,CTDOXY_FLAG_W,OPTOXY,OPTOXY_FLAG_W,DWNPRS,DWNPRS_FLAG_W,DWNOXY,DWNOXY_FLAG_W,OXYGEN,OXYGEN_FLAG_W,SILCAT,SILCAT_FLAG_W,SILUNC,NITRAT,NITRAT_FLAG_W,NRAUNC,NITRIT,NITRIT_FLAG_W,NRIUNC,PHSPHT,PHSPHT_FLAG_W,PHPUNC,CFC-11,CFC-11_FLAG_W,CFC-12,CFC-12_FLAG_W,CFC113,CFC113_FLAG_W,TCARBN,TCARBN_FLAG_W,ALKALI,ALKALI_FLAG_W,PH,PH_FLAG_W,DELC13,DELC13_FLAG_W,C13ERR,DELC14,DELC14_FLAG_W,C14ERR,THETA,SIG0
,,,,,,,,UTC,DEG,DEG,METERS,DBAR,,ITS-90,,ITS-90,,PSS-78,,PSS-78,,UMOL/KG,,UMOL/KG,,DBAR,,UMOL/KG,,UMOL/KG,,UMOL/KG,,UMOL/KG,UMOL/KG,,UMOL/KG,UMOL/KG,,UMOL/KG,UMOL/KG,,UMOL/KG,PMOL/KG,,PMOL/KG,,PMOL/KG,,UMOL/KG,,UMOL/KG,,,,/MILLE,,/MILLE,/MILLE,,/MILLE,DEG C,KG/M^3
    49NZ20060120,   P03W,   390,  1,     36, X12042,2,20060123,0435, 28.8568, 129.8305,  215,     10.2,2,  21.0627,2,  21.06374,2,  34.8042,2,  34.8046,2,   195.71,1,   215.68,2,     11.8,2,   215.79,2,   216.21,2,     1.61,2,     0.12,     0.43,2,     0.03,     0.19,2,     0.01,    0.081,2,    0.025,    1.890,2,    1.071,2,    0.183,2,   1976.1,2,   2281.2,2,   8.0590,6, -999.000,9, -999.000,   -999.0,9,   -999.0,  21.0608,  24.3283
    49NZ20060120,   P03W,   390,  1,     35, X12041,2,20060123,0435, 28.8568, 129.8305,  215,     50.1,2,  21.0746,2,  21.07533,2,  34.8041,2,  34.8038,2,   195.42,1,   214.99,2,     51.1,2,   215.36,2,   216.01,2,     1.59,2,     0.12,     0.42,2,     0.03,     0.20,2,     0.01,    0.083,2,    0.024,    1.889,2,    1.077,2,    0.177,2,   1977.6,6,   2277.8,2,   8.0583,2, -999.000,9, -999.000,   -999.0,9,   -999.0,  21.0650,  24.3271
    49NZ20060120,   P03W,   390,  1,     34, X12016,2,20060123,0435, 28.8568, 129.8305,  215,     99.9,2,  21.0886,2,  21.08859,2,  34.8037,2,  34.8040,2,   195.60,1,   214.71,2,    100.3,2,   215.50,2,   216.11,2,     1.58,2,     0.12,     0.42,2,     0.03,     0.20,2,     0.01,    0.077,2,    0.026,    1.884,2,    1.072,2,    0.169,2,   1978.4,2,   2284.7,6,   8.0586,2, -999.000,9, -999.000,   -999.0,9,   -999.0,  21.0695,  24.3256
    49NZ20060120,   P03W,   390,  1,     33, X12039,2,20060123,0435, 28.8568, 129.8305,  215,    150.7,2,  20.4275,2,  20.43536,2,  34.8579,2,  34.8580,2,   181.32,1,   200.96,2,    150.5,2,   198.64,2,   200.46,2,     2.42,2,     0.12,     2.15,2,     0.04,     0.06,2,     0.01,    0.180,2,    0.017,    1.971,2,    1.118,2,    0.127,2,   2004.6,2,   2281.9,2,   8.0183,6, -999.000,9, -999.000,   -999.0,9,   -999.0,  20.3993,  24.5475
    49NZ20060120,   P03W,   390,  1,     21, X12009,9,20060123,0435, 28.8568, 129.8305,  215,     25.2,2,  21.0691,2,  21.06963,2,  34.8036,2,-999.0000,9,   195.63,1,   215.46,2,     26.1,2,   215.52,2,  -999.00,9,  -999.00,9,  -999.00,  -999.00,9,  -999.00,  -999.00,9,  -999.00, -999.000,9, -999.000, -999.000,9, -999.000,9, -999.000,9,   -999.0,9,   -999.0,9,-999.0000,9, -999.000,9, -999.000,   -999.0,9,   -999.0,  21.0643,  24.3269
    49NZ20060120,   P03W,   390,  1,     20, X12026,9,20060123,0435, 28.8568, 129.8305,  215,     75.4,2,  21.0754,2,  21.07614,2,  34.8038,2,-999.0000,9,   195.21,1,   214.58,2,     76.3,2,   215.08,2,  -999.00,9,  -999.00,9,  -999.00,  -999.00,9,  -999.00,  -999.00,9,  -999.00, -999.000,9, -999.000, -999.000,9, -999.000,9, -999.000,9,   -999.0,9,   -999.0,9,-999.0000,9, -999.000,9, -999.000,   -999.0,9,   -999.0,  21.0610,  24.3280
    49NZ20060120,   P03W,   390,  1,     19, X12025,9,20060123,0435, 28.8568, 129.8305,  215,    202.0,2,  19.5481,2,  19.53850,2,  34.8459,2,-999.0000,9,   177.58,1,   195.20,2,    201.8,2,   196.08,2,  -999.00,9,  -999.00,9,  -999.00,  -999.00,9,  -999.00,  -999.00,9,  -999.00, -999.000,9, -999.000, -999.000,9, -999.000,9, -999.000,9,   -999.0,9,   -999.0,9,-999.0000,9, -999.000,9, -999.000,   -999.0,9,   -999.0,  19.5114,  24.7719
    49NZ20060120,   P03W,   390,  1,     18, X12024,9,20060123,0435, 28.8568, 129.8305,  215,     10.0,2,  21.0616,2,  21.06295,2,  34.8043,2,-999.0000,9,   195.67,1,   215.78,2,     11.7,2,   215.77,2,  -999.00,9,  -999.00,9,  -999.00,  -999.00,9,  -999.00,  -999.00,9,  -999.00, -999.000,9, -999.000, -999.000,9, -999.000,9, -999.000,9,   -999.0,9,   -999.0,9,-999.0000,9, -999.000,9, -999.000,   -999.0,9,   -999.0,  21.0597,  24.3287
    49NZ20060120,   P03W,   390,  1,     17, X12023,9,20060123,0435, 28.8568, 129.8305,  215,     50.4,2,  21.0763,2,  21.07693,2,  34.8042,2,-999.0000,9,   195.52,1,   214.94,2,     51.3,2,   215.33,2,  -999.00,9,  -999.00,9,  -999.00,  -999.00,9,  -999.00,  -999.00,9,  -999.00, -999.000,9, -999.000, -999.000,9, -999.000,9, -999.000,9,   -999.0,9,   -999.0,9,-999.0000,9, -999.000,9, -999.000,   -999.0,9,   -999.0,  21.0667,  24.3268
    49NZ20060120,   P03W,   390,  1,     16, X12022,9,20060123,0435, 28.8568, 129.8305,  215,    100.0,2,  21.0829,2,  21.08257,2,  34.8036,2,-999.0000,9,   195.50,1,   214.61,2,    100.8,2,   215.58,2,  -999.00,9,  -999.00,9,  -999.00,  -999.00,9,  -999.00,  -999.00,9,  -999.00, -999.000,9, -999.000, -999.000,9, -999.000,9, -999.000,9,   -999.0,9,   -999.0,9,-999.0000,9, -999.000,9, -999.000,   -999.0,9,   -999.0,  21.0638,  24.3271
    49NZ20060120,   P03W,   390,  1,     15, X12021,9,20060123,0435, 28.8568, 129.8305,  215,    150.9,2,  20.4211,2,  20.42651,2,  34.8585,2,-999.0000,9,   181.36,1,   201.29,2,    150.7,2,   198.49,2,  -999.00,9,  -999.00,9,  -999.00,  -999.00,9,  -999.00,  -999.00,9,  -999.00, -999.000,9, -999.000, -999.000,9, -999.000,9, -999.000,9,   -999.0,9,   -999.0,9,-999.0000,9, -999.000,9, -999.000,   -999.0,9,   -999.0,  20.3928,  24.5497
    49NZ20060120,   P03W,   390,  1,      3, X12003,2,20060123,0435, 28.8568, 129.8305,  215,     25.1,2,  21.0692,2,  21.06975,2,  34.8038,2,  34.8035,2,   195.58,1,   215.49,2,     26.0,2,   215.53,2,   216.30,2,     1.56,2,     0.12,     0.39,2,     0.03,     0.20,2,     0.01,    0.073,2,    0.026,    1.883,2,    1.073,2,    0.185,2,   1975.9,2,   2280.5,2,   8.0590,2, -999.000,9, -999.000,   -999.0,9,   -999.0,  21.0644,  24.3270
    49NZ20060120,   P03W,   390,  1,      2, X12044,2,20060123,0435, 28.8568, 129.8305,  215,     75.4,2,  21.0757,2,  21.07668,2,  34.8037,2,  34.8028,2,   195.44,1,   214.51,2,     76.3,2,   215.08,2,   215.98,2,     1.58,2,     0.12,     0.43,2,     0.03,     0.20,2,     0.01,    0.078,2,    0.025,    1.887,2,    1.075,2,    0.183,2,   1977.3,2,   2286.7,2,   8.0582,2, -999.000,9, -999.000,   -999.0,9,   -999.0,  21.0613,  24.3278
    49NZ20060120,   P03W,   390,  1,      1, X12051,2,20060123,0435, 28.8568, 129.8305,  215,    202.4,2,  19.5346,2,  19.52707,2,  34.8466,2,  34.8465,6,   178.03,1,   195.72,2,    202.3,2,   196.06,2,   196.31,2,     3.15,2,     0.13,     3.22,2,     0.04,     0.04,2,     0.01,    0.253,2,    0.015,    2.034,6,    1.153,6,    0.096,6,   2018.5,2,   2285.7,2,   7.9956,2, -999.000,9, -999.000,   -999.0,9,   -999.0,  19.4978,  24.7759
    49NZ20060120,   P03W,   392,  1,     36, X12042,2,20060123,0623, 29.0043, 129.9082,  664,     10.0,2,  21.3755,2,  21.37364,2,  34.6684,2,  34.6684,2,   196.65,1,   216.30,2,      9.6,2,   217.27,2,   217.20,2,     2.19,2,     0.12,     0.72,2,     0.03,     0.26,2,     0.01,    0.110,2,    0.021,    1.842,2,    1.060,2, -999.000,5,   1968.7,2,   2278.3,2,   8.0608,6, -999.000,9, -999.000,   -999.0,9,   -999.0,  21.3736,  24.1395
    49NZ20060120,   P03W,   392,  1,     35, X12041,2,20060123,0623, 29.0043, 129.9082,  664,     50.1,2,  21.3373,2,  21.33763,2,  34.7063,2,  34.7046,2,   196.20,1,   215.24,2,     50.2,2,   216.15,2,   216.60,2,     1.90,2,     0.12,     0.57,2,     0.03,     0.24,2,     0.01,    0.095,2,    0.023,    1.872,2,    1.069,2, -999.000,5,   1969.4,6,   2277.1,2,   8.0615,2, -999.000,9, -999.000,   -999.0,9,   -999.0,  21.3276,  24.1809
    49NZ20060120,   P03W,   392,  1,     34, X12016,2,20060123,0623, 29.0043, 129.9082,  664,    101.0,2,  21.3418,2,  21.34254,2,  34.7588,2,  34.7588,2,   195.67,1,   213.92,2,    102.1,2,   215.41,2,   215.91,2,     1.59,2,     0.12,     0.35,2,     0.03,     0.23,2,     0.01,    0.075,2,    0.026,    1.854,2,    1.074,2, -999.000,5,   1972.9,2,   2283.6,6,   8.0621,2, -999.000,9, -999.000,   -999.0,9,   -999.0,  21.3223,  24.2224
    49NZ20060120,   P03W,   392,  1,     33, X12039,2,20060123,0623, 29.0043, 129.9082,  664,    151.0,2,  20.9378,2,  20.93849,2,  34.8176,2,  34.8170,2,   186.50,1,   203.81,2,    149.3,2,   205.91,2,   205.73,2,     2.14,2,     0.12,     1.44,2,     0.04,     0.17,2,     0.01,    0.141,2,    0.018,    1.923,2,    1.095,2, -999.000,5,   1991.1,2,   2284.3,2,   8.0357,6, -999.000,9, -999.000,   -999.0,9,   -999.0,  20.9090,  24.3798
    49NZ20060120,   P03W,   392,  1,     32, X12038,2,20060123,0623, 29.0043, 129.9082,  664,    200.9,2,  19.1887,2,  19.18940,2,  34.8632,2,  34.8624,2,   173.41,1,   189.66,2,    197.2,2,   191.27,2,   191.06,2,     3.42,2,     0.13,     3.92,2,     0.04,     0.01,2,     0.01,    0.296,2,    0.014,    2.132,2,    1.202,2, -999.000,5,   2028.0,2,   2281.9,2,   7.9786,2, -999.000,9, -999.000,   -999.0,9,   -999.0,  19.1526,  24.8776
    49NZ20060120,   P03W,   392,  1,     31, X12037,2,20060123,0623, 29.0043, 129.9082,  664,    249.4,2,  17.2284,2,  17.22961,2,  34.7591,2,  34.7581,2,   176.89,1,   193.06,2,    248.8,2,   194.00,2,   194.63,2,     5.26,2,     0.13,     5.91,2,     0.05,     0.01,2,     0.01,    0.426,2,    0.013,    2.291,6,    1.255,6, -999.000,5,   2039.0,2,   2274.8,2,   7.9464,2, -999.000,9, -999.000,   -999.0,9,   -999.0,  17.1869,  25.2848
    49NZ20060120,   P03W,   392,  1,     30, X12008,2,20060123,0623, 29.0043, 129.9082,  664,    302.5,2,  16.0036,2,  16.03023,2,  34.6694,2,  34.6745,2,   172.02,1,   188.34,2,    304.5,2,   188.42,2,   189.40,2,     7.89,2,     0.14,     8.01,2,     0.06,     0.01,2,     0.01,    0.572,2,    0.013,    2.340,2,    1.255,2,    0.049,4,   2054.4,2,   2276.0,2,   7.9130,2, -999.000,9, -999.000,   -999.0,9,   -999.0,  15.9557,  25.5034
    49NZ20060120,   P03W,   392,  1,     29, X12035,2,20060123,0623, 29.0043, 129.9082,  664,    400.1,2,  14.4187,2,  14.41884,2,  34.5531,2,  34.5533,2,   164.13,1,   179.41,2,    398.3,2,   179.64,2,   180.00,2,    12.92,2,     0.15,    11.44,2,     0.06,     0.01,2,     0.01,    0.821,2,    0.013,    2.360,2,    1.233,2,    0.041,4,   2079.3,2,   2271.2,2,   7.8587,2, -999.000,9, -999.000,   -999.0,9,   -999.0,  14.3596,  25.7657
    49NZ20060120,   P03W,   392,  1,     28, X12034,2,20060123,0623, 29.0043, 129.9082,  664,    501.2,2,  11.7204,2,  11.72088,2,  34.3921,2,  34.3914,6,   146.59,1,   160.34,2,    499.7,2,   159.73,2,   160.05,2,    25.61,2,     0.18,    17.81,2,     0.08,     0.00,2,     0.01,    1.282,2,    0.014,    2.150,2,    1.083,2,    0.051,2,   2126.6,2,   2271.9,2,   7.7632,2, -999.000,9, -999.000,   -999.0,9,   -999.0,  11.6556,  26.1818
    49NZ20060120,   P03W,   392,  1,     27, X12033,2,20060123,0623, 29.0043, 129.9082,  664,    599.5,2,   9.5724,2,   9.57313,2,  34.3211,2,  34.3205,2,   125.05,1,   137.38,2,    599.0,2,   136.32,2,   135.98,2,    42.67,2,     0.21,    23.70,2,     0.10,     0.00,2,     0.01,    1.718,2,    0.014,    1.707,2,    0.842,2,    0.041,2,   2175.1,2,   2286.8,2,   7.6741,2, -999.000,9, -999.000,   -999.0,9,   -999.0,   9.5039,  26.5048
    49NZ20060120,   P03W,   392,  1,     21, X12009,9,20060123,0623, 29.0043, 129.9082,  664,     24.9,2,  21.3521,2,  21.35173,2,  34.6665,2,-999.0000,9,   196.77,1,   216.15,2,     26.3,2,   216.80,2,  -999.00,9,  -999.00,9,  -999.00,  -999.00,9,  -999.00,  -999.00,9,  -999.00, -999.000,9, -999.000, -999.000,9, -999.000,9, -999.000,9,   -999.0,9,   -999.0,9,-999.0000,9, -999.000,9, -999.000,   -999.0,9,   -999.0,  21.3473,  24.1452
    49NZ20060120,   P03W,   392,  1,     20, X12026,9,20060123,0623, 29.0043, 129.9082,  664,     75.4,2,  21.3349,2,  21.33531,2,  34.7481,2,-999.0000,9,   195.37,1,   214.01,2,     75.6,2,   215.27,2,  -999.00,9,  -999.00,9,  -999.00,  -999.00,9,  -999.00,  -999.00,9,  -999.00, -999.000,9, -999.000, -999.000,9, -999.000,9, -999.000,9,   -999.0,9,   -999.0,9,-999.0000,9, -999.000,9, -999.000,   -999.0,9,   -999.0,  21.3203,  24.2147
    49NZ20060120,   P03W,   392,  1,     19, X12025,9,20060123,0623, 29.0043, 129.9082,  664,    667.6,2,   8.3172,2,   8.24809,2,  34.2972,2,-999.0000,9,   110.98,1,   123.34,2,    666.9,2,   121.52,2,  -999.00,9,  -999.00,9,  -999.00,  -999.00,9,  -999.00,  -999.00,9,  -999.00, -999.000,9, -999.000, -999.000,9, -999.000,9, -999.000,9,   -999.0,9,   -999.0,9,-999.0000,9, -999.000,9, -999.000,   -999.0,9,   -999.0,   8.2467,  26.6848
    49NZ20060120,   P03W,   392,  1,     18, X12024,9,20060123,0623, 29.0043, 129.9082,  664,     10.2,2,  21.3912,2,  21.38996,2,  34.6688,2,-999.0000,9,   196.75,1,   216.22,2,      8.7,2,   217.27,2,  -999.00,9,  -999.00,9,  -999.00,  -999.00,9,  -999.00,  -999.00,9,  -999.00, -999.000,9, -999.000, -999.000,9, -999.000,9, -999.000,9,   -999.0,9,   -999.0,9,-999.0000,9, -999.000,9, -999.000,   -999.0,9,   -999.0,  21.3892,  24.1355
    49NZ20060120,   P03W,   392,  1,     17, X12023,9,20060123,0623, 29.0043, 129.9082,  664,     50.2,2,  21.3374,2,  21.33789,2,  34.7057,2,-999.0000,9,   196.19,1,   215.28,2,     50.2,2,   216.15,2,  -999.00,9,  -999.00,9,  -999.00,  -999.00,9,  -999.00,  -999.00,9,  -999.00, -999.000,9, -999.000, -999.000,9, -999.000,9, -999.000,9,   -999.0,9,   -999.0,9,-999.0000,9, -999.000,9, -999.000,   -999.0,9,   -999.0,  21.3277,  24.1805
    49NZ20060120,   P03W,   392,  1,     16, X12022,9,20060123,0623, 29.0043, 129.9082,  664,    101.6,2,  21.3404,2,  21.34144,2,  34.7592,2,-999.0000,9,   195.60,1,   213.89,2,    102.6,2,   215.47,2,  -999.00,9,  -999.00,9,  -999.00,  -999.00,9,  -999.00,  -999.00,9,  -999.00, -999.000,9, -999.000, -999.000,9, -999.000,9, -999.000,9,   -999.0,9,   -999.0,9,-999.0000,9, -999.000,9, -999.000,   -999.0,9,   -999.0,  21.3208,  24.2231
    49NZ20060120,   P03W,   392,  1,     15, X12021,9,20060123,0623, 29.0043, 129.9082,  664,    151.4,2,  20.9392,2,  20.93964,2,  34.8167,2,-999.0000,9,   186.43,1,   203.78,2,    149.3,2,   205.91,2,  -999.00,9,  -999.00,9,  -999.00,  -999.00,9,  -999.00,  -999.00,9,  -999.00, -999.000,9, -999.000, -999.000,9, -999.000,9, -999.000,9,   -999.0,9,   -999.0,9,-999.0000,9, -999.000,9, -999.000,   -999.0,9,   -999.0,  20.9103,  24.3787
    49NZ20060120,   P03W,   392,  1,     14, X12020,9,20060123,0623, 29.0043, 129.9082,  664,    201.4,2,  19.1775,2,  19.17843,2,  34.8619,2,-999.0000,9,   173.37,1,   189.60,2,    198.3,2,   190.88,2,  -999.00,9,  -999.00,9,  -999.00,  -999.00,9,  -999.00,  -999.00,9,  -999.00, -999.000,9, -999.000, -999.000,9, -999.000,9, -999.000,9,   -999.0,9,   -999.0,9,-999.0000,9, -999.000,9, -999.000,   -999.0,9,   -999.0,  19.1414,  24.8795
    49NZ20060120,   P03W,   392,  1,     13, X12019,9,20060123,0623, 29.0043, 129.9082,  664,    249.7,2,  17.2304,2,  17.23053,2,  34.7592,2,-999.0000,9,   176.87,1,   193.02,2,    248.9,2,   194.02,2,  -999.00,9,  -999.00,9,  -999.00,  -999.00,9,  -999.00,  -999.00,9,  -999.00, -999.000,9, -999.000, -999.000,9, -999.000,9, -999.000,9,   -999.0,9,   -999.0,9,-999.0000,9, -999.000,9, -999.000,   -999.0,9,   -999.0,  17.1888,  25.2844
    49NZ20060120,   P03W,   392,  1,     12, X12018,9,20060123,0623, 29.0043, 129.9082,  664,    302.3,2,  15.9915,2,  15.99678,2,  34.6675,2,-999.0000,9,   172.17,1,   188.02,2,    304.5,2,   188.43,2,  -999.00,9,  -999.00,9,  -999.00,  -999.00,9,  -999.00,  -999.00,9,  -999.00, -999.000,9, -999.000, -999.000,9, -999.000,9, -999.000,9,   -999.0,9,   -999.0,9,-999.0000,9, -999.000,9, -999.000,   -999.0,9,   -999.0,  15.9437,  25.5047
    49NZ20060120,   P03W,   392,  1,     11, X12005,9,20060123,0623, 29.0043, 129.9082,  664,    399.6,2,  14.4188,2,  14.42001,2,  34.5533,2,-999.0000,9,   164.18,1,   179.30,2,    398.0,2,   179.64,2,  -999.00,9,  -999.00,9,  -999.00,  -999.00,9,  -999.00,  -999.00,9,  -999.00, -999.000,9, -999.000, -999.000,9, -999.000,9, -999.000,9,   -999.0,9,   -999.0,9,-999.0000,9, -999.000,9, -999.000,   -999.0,9,   -999.0,  14.3597,  25.7658
    49NZ20060120,   P03W,   392,  1,     10, X12010,9,20060123,0623, 29.0043, 129.9082,  664,    500.8,2,  11.7186,2,  11.71523,2,  34.3921,2,-999.0000,9,   146.64,1,   160.31,2,    499.6,2,   159.80,2,  -999.00,9,  -999.00,9,  -999.00,  -999.00,9,  -999.00,  -999.00,9,  -999.00, -999.000,9, -999.000, -999.000,9, -999.000,9, -999.000,9,   -999.0,9,   -999.0,9,-999.0000,9, -999.000,9, -999.000,   -999.0,9,   -999.0,  11.6539,  26.1821
    49NZ20060120,   P03W,   392,  1,      9, X12015,9,20060123,0623, 29.0043, 129.9082,  664,    599.5,2,   9.5888,2,   9.58707,2,  34.3216,2,-999.0000,9,   125.17,1,   137.30,2,    598.5,2,   136.35,2,  -999.00,9,  -999.00,9,  -999.00,  -999.00,9,  -999.00,  -999.00,9,  -999.00, -999.000,9, -999.000, -999.000,9, -999.000,9, -999.000,9,   -999.0,9,   -999.0,9,-999.0000,9, -999.000,9, -999.000,   -999.0,9,   -999.0,   9.5202,  26.5025
    49NZ20060120,   P03W,   392,  1,      3, X12003,2,20060123,0623, 29.0043, 129.9082,  664,     24.7,2,  21.3514,2,  21.35233,2,  34.6669,2,  34.6671,2,   196.70,1,   216.10,2,     26.2,2,   216.79,2,   217.25,2,     2.20,2,     0.12,     0.74,2,     0.03,     0.26,2,     0.01,    0.107,2,    0.021,    1.863,2,    1.074,2, -999.000,5,   1968.8,2,   2277.4,2,   8.0613,2, -999.000,9, -999.000,   -999.0,9,   -999.0,  21.3466,  24.1457
    49NZ20060120,   P03W,   392,  1,      2, X12044,2,20060123,0623, 29.0043, 129.9082,  664,     75.3,2,  21.3359,2,  21.33632,2,  34.7483,2,  34.7482,2,   195.30,1,   213.82,2,     75.4,2,   215.25,2,   215.45,2,     1.71,2,     0.12,     0.45,2,     0.03,     0.23,2,     0.01,    0.080,2,    0.025,    1.864,2,    1.071,2, -999.000,5,   1971.9,2,   2281.5,2,   8.0615,2, -999.000,9, -999.000,   -999.0,9,   -999.0,  21.3214,  24.2146
    49NZ20060120,   P03W,   392,  1,      1, X12051,2,20060123,0623, 29.0043, 129.9082,  664,    666.5,2,   8.5423,2,   8.50357,2,  34.3055,2,  34.3055,6,   114.47,1,   126.43,2,    665.9,2,   124.86,2,   126.59,2,    49.95,2,     0.23,    25.89,2,     0.11,     0.00,2,     0.01,    1.875,2,    0.015,    1.514,2,    0.739,2,    0.031,2,   2194.3,2,   2300.6,2,   7.6395,2, -999.000,9, -999.000,   -999.0,9,   -999.0,   8.4708,  26.6571