BOTTLE,20220819CCHSIOAMB
EXPOCODE,SECT_ID,STNNBR,CASTNO,SAMPNO,BTLNBR,BTLNBR_FLAG_W,DATE,TIME,LATITUDE,LONGITUDE,DEPTH,CTDPRS,CTDPRS_FLAG_W,CTDTMP,CTDTMP_FLAG_W,SBE35,SBE35_FLAG_W,CTDSAL,CTDSAL_FLAG_W,SALNTY,SALNTY_FLAG_W,CTDOXY,CTDOXY_FLAG_W,OPTOXY,OPTOXY_FLAG_W,DWNPRS,DWNPRS_FLAG_W,DWNOXY,DWNOXY_FLAG_W,OXYGEN,OXYGEN_FLAG_W,SILCAT,SILCAT_FLAG_W,SILUNC,NITRAT,NITRAT_FLAG_W,NRAUNC,NITRIT,NITRIT_FLAG_W,NRIUNC,PHSPHT,PHSPHT_FLAG_W,PHPUNC,CFC-11,CFC-11_FLAG_W,CFC-12,CFC-12_FLAG_W,CFC113,CFC113_FLAG_W,TCARBN,TCARBN_FLAG_W,ALKALI,ALKALI_FLAG_W,PH,PH_FLAG_W,DELC13,DELC13_FLAG_W,C13ERR,DELC14,DELC14_FLAG_W,C14ERR,THETA,SIG0
,,,,,,,,UTC,DEG,DEG,METERS,DBAR,,ITS-90,,ITS-90,,PSS-78,,PSS-78,,UMOL/KG,,UMOL/KG,,DBAR,,UMOL/KG,,UMOL/KG,,UMOL/KG,,UMOL/KG,UMOL/KG,,UMOL/KG,UMOL/KG,,UMOL/KG,UMOL/KG,,UMOL/KG,PMOL/KG,,PMOL/KG,,PMOL/KG,,UMOL/KG,,UMOL/KG,,,,/MILLE,,/MILLE,/MILLE,,/MILLE,DEG C,KG/M^3
    49NZ20060120,   P03W,   376,  1,     36, X12042,2,20060120,1557, 26.7397, 126.3295, 1913,     10.0,2,  22.7566,2,  22.75728,2,  34.6395,2,  34.6389,2,   196.46,1,   214.53,2,     10.4,2,   217.10,2,   214.77,2,     1.47,2,     0.12,     0.10,2,     0.03,     0.11,2,     0.01,    0.070,2,    0.027,    1.729,2,    1.025,2,    0.190,2,   1957.7,2,   2275.8,2,   8.0754,6,    0.975,2,    0.003,     72.2,2,      3.2,  22.7546,  23.7306
    49NZ20060120,   P03W,   376,  1,     35, X12041,2,20060120,1557, 26.7397, 126.3295, 1913,     50.0,2,  22.7560,2,  22.76077,2,  34.6423,2,  34.6413,2,   196.80,1,   213.68,2,     48.7,2,   217.56,2,   215.03,2,     1.45,2,     0.12,     0.08,2,     0.03,     0.11,2,     0.01,    0.077,2,    0.026,    1.715,2,    1.020,2,    0.186,2,   1957.9,6,   2274.7,2,   8.0772,2,    0.906,2,    0.002,     73.8,2,      3.2,  22.7459,  23.7352
    49NZ20060120,   P03W,   376,  1,     34, X12016,2,20060120,1557, 26.7397, 126.3295, 1913,    101.4,2,  22.2904,2,  22.29090,2,  34.8002,2,  34.7996,2,   196.87,1,   213.30,2,     97.8,2,   216.40,2,   214.98,2,     1.32,2,     0.12,     0.02,2,     0.03,     0.01,2,     0.01,    0.043,2,    0.039,    1.744,2,    1.033,2,    0.225,2,   1965.6,2,   2284.2,6,   8.0771,2,    0.933,2,    0.002,     83.5,2,      3.4,  22.2702,  23.9901
    49NZ20060120,   P03W,   376,  1,     33, X12039,2,20060120,1557, 26.7397, 126.3295, 1913,    151.6,2,  21.0991,2,  21.10521,2,  34.8635,2,  34.8589,2,   181.66,1,   197.95,2,    154.3,2,   193.78,2,   200.20,2,     2.06,2,     0.12,     1.46,2,     0.04,     0.11,2,     0.01,    0.159,2,    0.017,    1.859,2,    1.091,2,    0.149,2,   1997.2,2,   2289.7,2,   8.0287,6,    0.779,2,    0.006,     79.9,2,      3.3,  21.0700,  24.3710
    49NZ20060120,   P03W,   376,  1,     32, X12038,2,20060120,1557, 26.7397, 126.3295, 1913,    200.3,2,  18.7533,2,  18.75036,2,  34.8159,2,  34.8158,2,   171.40,1,   185.96,2,    207.6,2,   191.90,2,   187.06,2,     4.95,2,     0.13,     4.97,2,     0.05,     0.01,2,     0.01,    0.388,2,    0.013,    2.024,2,    1.164,2,    0.074,2,   2034.9,2,   2283.8,2,   7.9640,2,    0.609,6,    0.002,     80.0,6,      2.7,  18.7179,  24.9520
    49NZ20060120,   P03W,   376,  1,     31, X12037,2,20060120,1557, 26.7397, 126.3295, 1913,    250.5,2,  17.3955,2,  17.39280,2,  34.7586,2,  34.7587,2,   173.01,1,   187.44,2,    254.9,2,   193.82,2,   188.47,2,     6.13,2,     0.13,     6.28,2,     0.05,     0.02,2,     0.01,    0.476,2,    0.013,    2.110,6,    1.209,6,    0.050,6,   2043.7,2,   2284.3,2,   7.9409,2,    0.538,2,    0.000,     80.8,2,      3.3,  17.3535,  25.2445
    49NZ20060120,   P03W,   376,  1,     30, X12008,2,20060120,1557, 26.7397, 126.3295, 1913,    302.5,2,  15.8364,2,  15.83930,2,  34.6553,2,  34.6571,2,   173.77,1,   188.26,2,    312.1,2,   197.40,2,   189.28,2,     7.89,2,     0.14,     8.21,2,     0.06,     0.01,2,     0.01,    0.604,2,    0.013,    2.230,2,    1.254,2,    0.045,2,   2056.8,2,   2279.9,2,   7.9073,2,    0.365,2,    0.004,     77.6,2,      3.4,  15.7888,  25.5304
    49NZ20060120,   P03W,   376,  1,     29, X12035,2,20060120,1557, 26.7397, 126.3295, 1913,    399.4,2,  12.5246,2,  12.52554,2,  34.4177,2,  34.4180,2,   160.14,1,   173.32,2,    406.4,2,   177.89,2,   174.26,2,    18.57,2,     0.16,    14.91,2,     0.07,     0.00,2,     0.01,    1.093,2,    0.013,    2.223,2,    1.182,2,    0.045,2,   2104.6,2,   2275.4,2,   7.8022,2,    0.349,2,    0.002,     52.9,2,      3.2,  12.4709,  26.0461
    49NZ20060120,   P03W,   376,  1,     28, X12034,2,20060120,1557, 26.7397, 126.3295, 1913,    500.3,2,   9.4421,2,   9.44028,2,  34.2339,2,  34.2347,6,   140.78,1,   152.42,2,    505.2,2,   157.15,2,   152.63,2,    35.33,2,     0.20,    22.17,2,     0.09,     0.01,2,     0.01,    1.624,2,    0.014,    1.969,2,    0.998,2,    0.056,2,   2157.3,2,   2282.9,2,   7.6910,2,    0.167,2,    0.006,      7.8,2,      3.1,   9.3857,  26.4560
    49NZ20060120,   P03W,   376,  1,     27, X12033,2,20060120,1557, 26.7397, 126.3295, 1913,    602.0,2,   7.6098,2,   7.61102,2,  34.2224,2,  34.2220,2,   107.20,1,   116.51,2,    600.8,2,   116.62,2,   116.10,2,    56.01,2,     0.24,    28.86,2,     0.11,     0.00,2,     0.01,    2.117,2,    0.015,    1.329,2,    0.654,2,    0.045,2,   2212.4,2,   2300.4,2,   7.5890,2,    0.015,2,    0.002,    -49.1,2,      3.0,   7.5497,  26.7289
    49NZ20060120,   P03W,   376,  1,     26, X12032,2,20060120,1557, 26.7397, 126.3295, 1913,    702.4,2,   5.6535,2,   5.65187,2,  34.2134,2,  34.2127,2,    77.08,1,    84.23,2,    700.8,2,    82.92,2,    83.38,2,    79.68,2,     0.29,    35.18,2,     0.13,     0.00,2,     0.01,    2.577,2,    0.016,    0.747,2,    0.367,2,    0.027,2,   2269.7,6,   2316.0,2,   7.4896,2,   -0.179,2,    0.003,   -107.8,2,      3.0,   5.5933,  26.9815
    49NZ20060120,   P03W,   376,  1,     25, X12001,2,20060120,1557, 26.7397, 126.3295, 1913,    801.2,2,   5.2184,2,   5.21880,2,  34.3365,2,  34.3358,2,    72.81,1,    79.56,2,    801.6,2,    74.71,2,    78.53,2,    93.90,2,     0.33,    36.19,2,     0.13,     0.01,2,     0.01,    2.636,2,    0.017,    0.477,6,    0.241,6,    0.015,6,   2292.5,2,   2339.6,6,   7.4864,2,   -0.165,2,    0.005,   -135.4,2,      2.8,   5.1517,  27.1316
    49NZ20060120,   P03W,   376,  1,     24, X12030,2,20060120,1557, 26.7397, 126.3295, 1913,    900.3,2,   4.7001,2,   4.70079,2,  34.3998,2,  34.3994,2,    71.18,1,    77.85,2,    901.8,2,    79.02,2,    76.82,2,   104.42,2,     0.35,    37.11,2,     0.14,     0.00,2,     0.01,    2.690,2,    0.017,    0.314,2,    0.164,2,    0.008,2,   2307.3,2,   2351.5,2,   7.4800,6,   -0.204,2,    0.004,   -147.9,2,      2.7,   4.6280,  27.2414
    49NZ20060120,   P03W,   376,  1,     23, X12049,2,20060120,1557, 26.7397, 126.3295, 1913,   1000.2,2,   4.5283,2,   4.52844,2,  34.4201,2,  34.4197,6,    71.48,1,    78.13,2,   1000.2,2,    77.37,2,    77.11,2,   107.97,2,     0.36,    37.35,2,     0.14,     0.00,2,     0.01,    2.706,2,    0.017,    0.272,2,    0.145,2,    0.010,2,   2313.7,2,   2356.0,2,   7.4816,2,   -0.185,2,    0.004,   -161.2,2,      2.9,   4.4487,  27.2772
    49NZ20060120,   P03W,   376,  1,     22, X12028,2,20060120,1557, 26.7397, 126.3295, 1913,   1203.8,2,   4.0730,2,   4.07333,2,  34.4345,2,  34.4345,2,    69.14,1,    75.41,2,   1204.2,2,    74.45,2,    74.45,2,   114.39,2,     0.37,    38.34,2,     0.14,     0.00,2,     0.01,    2.781,2,    0.017,    0.185,2,    0.095,2,    0.007,2,   2321.9,2,   2366.1,2,   7.4723,2,   -0.198,2,    0.003,   -176.9,2,      2.7,   3.9796,  27.3384
    49NZ20060120,   P03W,   376,  1,     21, X12009,2,20060120,1557, 26.7397, 126.3295, 1913,   1403.4,2,   3.8913,2,   3.89098,2,  34.4460,2,  34.4461,2,    69.23,1,    75.45,2,   1403.3,2,    74.51,2,    74.51,2,   117.52,2,     0.38,    38.65,2,     0.14,     0.01,2,     0.01,    2.798,2,    0.017,    0.157,2,    0.080,2,    0.009,2,   2326.3,2,   2369.0,2,   7.4696,2,   -0.199,2,    0.004,   -182.4,2,      2.7,   3.7822,  27.3677
    49NZ20060120,   P03W,   376,  1,     20, X12026,2,20060120,1557, 26.7397, 126.3295, 1913,   1602.1,2,   3.8430,2,   3.84305,2,  34.4525,2,  34.4521,2,    69.61,1,    75.58,2,   1602.3,2,    74.78,2,    74.58,2,   118.75,2,     0.38,    38.80,2,     0.14,     0.00,2,     0.01,    2.803,2,    0.017,    0.147,2,    0.077,2,    0.010,2,   2328.5,2,   2369.2,2,   7.4699,6,   -0.191,2,    0.004,   -183.6,2,      2.7,   3.7167,  27.3794
    49NZ20060120,   P03W,   376,  1,     19, X12025,2,20060120,1557, 26.7397, 126.3295, 1913,   1799.6,2,   3.8160,2,   3.81609,2,  34.4600,2,  34.4597,2,    70.68,1,    76.45,2,   1799.5,2,    75.95,2,    75.92,2,   119.71,2,     0.38,    38.69,2,     0.14,     0.00,2,     0.01,    2.802,2,    0.017,    0.141,2,    0.074,2,    0.008,2,   2329.5,2,   2372.7,2,   7.4724,2,   -0.190,2,    0.003,   -184.5,2,      2.6,   3.6718,  27.3899
    49NZ20060120,   P03W,   376,  1,     18, X12024,9,20060120,1557, 26.7397, 126.3295, 1913,   1911.1,2,   3.8026,2,   3.80269,2,  34.4612,2,-999.0000,9,    70.62,1,    76.03,2,   1911.1,2,    75.66,2,  -999.00,9,  -999.00,9,  -999.00,  -999.00,9,  -999.00,  -999.00,9,  -999.00, -999.000,9, -999.000, -999.000,9, -999.000,9, -999.000,9,   -999.0,9,   -999.0,9,-999.0000,9, -999.000,9, -999.000,   -999.0,9,   -999.0,   3.6481,  27.3932
    49NZ20060120,   P03W,   376,  1,     17, X12023,2,20060120,1557, 26.7397, 126.3295, 1913,   1798.8,2,   3.8176,2,   3.81799,2,  34.4599,2,  34.4599,2,    70.68,1,    76.49,2,   1798.7,2,    75.94,2,    76.04,2,   119.71,2,     0.38,    38.69,2,     0.14,     0.01,2,     0.01,    2.801,2,    0.017, -999.000,9, -999.000,9, -999.000,9,   2328.7,2,   2372.8,2,   7.4761,2, -999.000,9, -999.000,   -999.0,9,   -999.0,   3.6735,  27.3897
    49NZ20060120,   P03W,   376,  1,     16, X12022,9,20060120,1557, 26.7397, 126.3295, 1913,     10.2,2,  22.7609,2,  22.76163,2,  34.6396,2,-999.0000,9,   196.51,1,   214.34,2,     10.3,2,   217.09,2,  -999.00,9,  -999.00,9,  -999.00,  -999.00,9,  -999.00,  -999.00,9,  -999.00, -999.000,9, -999.000, -999.000,9, -999.000,9, -999.000,9,   -999.0,9,   -999.0,9,-999.0000,9, -999.000,9, -999.000,   -999.0,9,   -999.0,  22.7588,  23.7294
    49NZ20060120,   P03W,   376,  1,     15, X12021,9,20060120,1557, 26.7397, 126.3295, 1913,     49.3,2,  22.7367,2,  22.73746,2,  34.6450,2,-999.0000,9,   196.93,1,   213.87,2,     49.0,2,   217.59,2,  -999.00,9,  -999.00,9,  -999.00,  -999.00,9,  -999.00,  -999.00,9,  -999.00, -999.000,9, -999.000, -999.000,9, -999.000,9, -999.000,9,   -999.0,9,   -999.0,9,-999.0000,9, -999.000,9, -999.000,   -999.0,9,   -999.0,  22.7267,  23.7427
    49NZ20060120,   P03W,   376,  1,     14, X12020,9,20060120,1557, 26.7397, 126.3295, 1913,    101.2,2,  22.2909,2,  22.29210,2,  34.8005,2,-999.0000,9,   196.89,1,   213.42,2,     97.7,2,   216.39,2,  -999.00,9,  -999.00,9,  -999.00,  -999.00,9,  -999.00,  -999.00,9,  -999.00, -999.000,9, -999.000, -999.000,9, -999.000,9, -999.000,9,   -999.0,9,   -999.0,9,-999.0000,9, -999.000,9, -999.000,   -999.0,9,   -999.0,  22.2707,  23.9901
    49NZ20060120,   P03W,   376,  1,     13, X12019,9,20060120,1557, 26.7397, 126.3295, 1913,    151.3,2,  21.0708,2,  21.07006,2,  34.8670,2,-999.0000,9,   181.40,1,   197.00,2,    154.7,2,   193.62,2,  -999.00,9,  -999.00,9,  -999.00,  -999.00,9,  -999.00,  -999.00,9,  -999.00, -999.000,9, -999.000, -999.000,9, -999.000,9, -999.000,9,   -999.0,9,   -999.0,9,-999.0000,9, -999.000,9, -999.000,   -999.0,9,   -999.0,  21.0418,  24.3813
    49NZ20060120,   P03W,   376,  1,     12, X12018,9,20060120,1557, 26.7397, 126.3295, 1913,    200.8,2,  18.7537,2,  18.75634,2,  34.8161,2,-999.0000,9,   171.53,1,   185.90,2,    207.7,2,   191.67,2,  -999.00,9,  -999.00,9,  -999.00,  -999.00,9,  -999.00,  -999.00,9,  -999.00, -999.000,9, -999.000, -999.000,9, -999.000,9, -999.000,9,   -999.0,9,   -999.0,9,-999.0000,9, -999.000,9, -999.000,   -999.0,9,   -999.0,  18.7182,  24.9521
    49NZ20060120,   P03W,   376,  1,     11, X12005,9,20060120,1557, 26.7397, 126.3295, 1913,    251.6,2,  17.3510,2,  17.35397,2,  34.7569,2,-999.0000,9,   173.07,1,   187.63,2,    256.9,2,   193.70,2,  -999.00,9,  -999.00,9,  -999.00,  -999.00,9,  -999.00,  -999.00,9,  -999.00, -999.000,9, -999.000, -999.000,9, -999.000,9, -999.000,9,   -999.0,9,   -999.0,9,-999.0000,9, -999.000,9, -999.000,   -999.0,9,   -999.0,  17.3089,  25.2539
    49NZ20060120,   P03W,   376,  1,     10, X12010,9,20060120,1557, 26.7397, 126.3295, 1913,    302.8,2,  15.8247,2,  15.82833,2,  34.6545,2,-999.0000,9,   173.43,1,   188.04,2,    312.4,2,   197.30,2,  -999.00,9,  -999.00,9,  -999.00,  -999.00,9,  -999.00,  -999.00,9,  -999.00, -999.000,9, -999.000, -999.000,9, -999.000,9, -999.000,9,   -999.0,9,   -999.0,9,-999.0000,9, -999.000,9, -999.000,   -999.0,9,   -999.0,  15.7771,  25.5325
    49NZ20060120,   P03W,   376,  1,      9, X12015,9,20060120,1557, 26.7397, 126.3295, 1913,    399.8,2,  12.5232,2,  12.52327,2,  34.4178,2,-999.0000,9,   160.06,1,   173.23,2,    406.5,2,   177.93,2,  -999.00,9,  -999.00,9,  -999.00,  -999.00,9,  -999.00,  -999.00,9,  -999.00, -999.000,9, -999.000, -999.000,9, -999.000,9, -999.000,9,   -999.0,9,   -999.0,9,-999.0000,9, -999.000,9, -999.000,   -999.0,9,   -999.0,  12.4694,  26.0465
    49NZ20060120,   P03W,   376,  1,      8, X12014,9,20060120,1557, 26.7397, 126.3295, 1913,    499.7,2,   9.4362,2,   9.43594,2,  34.2336,2,-999.0000,9,   140.72,1,   152.38,2,    504.9,2,   157.25,2,  -999.00,9,  -999.00,9,  -999.00,  -999.00,9,  -999.00,  -999.00,9,  -999.00, -999.000,9, -999.000, -999.000,9, -999.000,9, -999.000,9,   -999.0,9,   -999.0,9,-999.0000,9, -999.000,9, -999.000,   -999.0,9,   -999.0,   9.3799,  26.4567
    49NZ20060120,   P03W,   376,  1,      7, X12013,9,20060120,1557, 26.7397, 126.3295, 1913,    603.2,2,   7.6107,2,   7.61011,2,  34.2214,2,-999.0000,9,   107.36,1,   116.66,2,    601.1,2,   116.51,2,  -999.00,9,  -999.00,9,  -999.00,  -999.00,9,  -999.00,  -999.00,9,  -999.00, -999.000,9, -999.000, -999.000,9, -999.000,9, -999.000,9,   -999.0,9,   -999.0,9,-999.0000,9, -999.000,9, -999.000,   -999.0,9,   -999.0,   7.5505,  26.7280
    49NZ20060120,   P03W,   376,  1,      6, X12048,9,20060120,1557, 26.7397, 126.3295, 1913,    703.3,2,   5.6505,2,   5.65100,2,  34.2137,2,-999.0000,9,    77.06,1,    84.13,2,    701.4,2,    82.83,2,  -999.00,9,  -999.00,9,  -999.00,  -999.00,9,  -999.00,  -999.00,9,  -999.00, -999.000,9, -999.000, -999.000,9, -999.000,9, -999.000,9,   -999.0,9,   -999.0,9,-999.0000,9, -999.000,9, -999.000,   -999.0,9,   -999.0,   5.5902,  26.9821
    49NZ20060120,   P03W,   376,  1,      5, X12047,9,20060120,1557, 26.7397, 126.3295, 1913,    802.5,2,   5.2213,2,   5.22180,2,  34.3376,2,-999.0000,9,    72.85,1,    79.66,2,    802.8,2,    74.94,2,  -999.00,9,  -999.00,9,  -999.00,  -999.00,9,  -999.00,  -999.00,9,  -999.00, -999.000,9, -999.000, -999.000,9, -999.000,9, -999.000,9,   -999.0,9,   -999.0,9,-999.0000,9, -999.000,9, -999.000,   -999.0,9,   -999.0,   5.1544,  27.1322
    49NZ20060120,   P03W,   376,  1,      4, X12046,9,20060120,1557, 26.7397, 126.3295, 1913,    900.3,2,   4.7010,2,   4.70123,2,  34.3992,2,-999.0000,9,    71.18,1,    77.82,2,    901.6,2,    79.02,2,  -999.00,9,  -999.00,9,  -999.00,  -999.00,9,  -999.00,  -999.00,9,  -999.00, -999.000,9, -999.000, -999.000,9, -999.000,9, -999.000,9,   -999.0,9,   -999.0,9,-999.0000,9, -999.000,9, -999.000,   -999.0,9,   -999.0,   4.6289,  27.2408
    49NZ20060120,   P03W,   376,  1,      3, X12003,2,20060120,1557, 26.7397, 126.3295, 1913,     25.4,2,  22.7637,2,  22.76412,2,  34.6399,2,  34.6392,2,   196.77,1,   213.99,2,     25.9,2,   217.09,2,   214.65,2,     1.53,2,     0.12,     0.10,2,     0.03,     0.11,2,     0.01,    0.074,2,    0.026,    1.727,2,    1.024,2,    0.185,2,   1957.8,2,   2275.5,2,   8.0765,2,    0.972,2,    0.002,     89.8,2,      3.3,  22.7586,  23.7297
    49NZ20060120,   P03W,   376,  1,      2, X12044,2,20060120,1557, 26.7397, 126.3295, 1913,     75.1,2,  22.4962,2,  22.49665,2,  34.6581,2,  34.6571,2,   195.33,1,   212.03,2,     73.2,2,   217.84,2,   213.16,2,     1.59,2,     0.12,     0.20,2,     0.03,     0.20,2,     0.01,    0.086,2,    0.024,    1.733,2,    1.023,2,    0.190,2,   1962.3,2,   2277.1,2,   8.0722,2,    0.946,2,    0.004,     83.4,2,      3.1,  22.4811,  23.8225
    49NZ20060120,   P03W,   376,  1,      1, X12051,2,20060120,1557, 26.7397, 126.3295, 1913,   1911.4,2,   3.8027,2,   3.80269,2,  34.4612,2,  34.4609,6,    70.62,1,    76.07,2,   1911.4,2,    75.67,2,    75.54,2,   120.20,2,     0.38,    38.77,2,     0.14,     0.01,2,     0.01,    2.798,2,    0.017,    0.141,2,    0.071,2,    0.003,2,   2329.7,2,   2373.3,2,   7.4732,2,   -0.202,2,    0.005,   -190.0,2,      2.8,   3.6482,  27.3932