BOTTLE,20220819CCHSIOAMB
EXPOCODE,SECT_ID,STNNBR,CASTNO,SAMPNO,BTLNBR,BTLNBR_FLAG_W,DATE,TIME,LATITUDE,LONGITUDE,DEPTH,CTDPRS,CTDPRS_FLAG_W,CTDTMP,CTDTMP_FLAG_W,SBE35,SBE35_FLAG_W,CTDSAL,CTDSAL_FLAG_W,SALNTY,SALNTY_FLAG_W,CTDOXY,CTDOXY_FLAG_W,OPTOXY,OPTOXY_FLAG_W,DWNPRS,DWNPRS_FLAG_W,DWNOXY,DWNOXY_FLAG_W,OXYGEN,OXYGEN_FLAG_W,SILCAT,SILCAT_FLAG_W,SILUNC,NITRAT,NITRAT_FLAG_W,NRAUNC,NITRIT,NITRIT_FLAG_W,NRIUNC,PHSPHT,PHSPHT_FLAG_W,PHPUNC,CFC-11,CFC-11_FLAG_W,CFC-12,CFC-12_FLAG_W,CFC113,CFC113_FLAG_W,TCARBN,TCARBN_FLAG_W,ALKALI,ALKALI_FLAG_W,PH,PH_FLAG_W,DELC13,DELC13_FLAG_W,C13ERR,DELC14,DELC14_FLAG_W,C14ERR,THETA,SIG0
,,,,,,,,UTC,DEG,DEG,METERS,DBAR,,ITS-90,,ITS-90,,PSS-78,,PSS-78,,UMOL/KG,,UMOL/KG,,DBAR,,UMOL/KG,,UMOL/KG,,UMOL/KG,,UMOL/KG,UMOL/KG,,UMOL/KG,UMOL/KG,,UMOL/KG,UMOL/KG,,UMOL/KG,PMOL/KG,,PMOL/KG,,PMOL/KG,,UMOL/KG,,UMOL/KG,,,,/MILLE,,/MILLE,/MILLE,,/MILLE,DEG C,KG/M^3
    49NZ20060120,   P03W,   384,  1,     36, X12042,2,20060122,0100, 27.1650, 125.8827,  304,     10.1,2,  22.9933,2,  22.99407,2,  34.5683,2,  34.5693,2,   191.39,1,   210.33,2,     10.1,2,   210.84,2,   211.55,2,     1.36,2,     0.12,     0.29,2,     0.03,     0.10,2,     0.01,    0.089,2,    0.023,    1.672,2,    1.010,2,    0.016,2,   1951.4,2,   2271.0,2,   8.0779,6, -999.000,9, -999.000,   -999.0,9,   -999.0,  22.9912,  23.6087
    49NZ20060120,   P03W,   384,  1,     35, X12041,2,20060122,0100, 27.1650, 125.8827,  304,     49.5,2,  23.0079,2,  23.00815,2,  34.5713,2,  34.5755,2,   190.23,1,   207.77,2,     39.3,2,   210.19,2,   210.48,2,     1.47,2,     0.12,     0.44,2,     0.03,     0.11,2,     0.01,    0.099,2,    0.022,    1.677,2,    1.015,2,    0.011,2,   1954.6,6,   2271.0,2,   8.0757,2, -999.000,9, -999.000,   -999.0,9,   -999.0,  22.9978,  23.6091
    49NZ20060120,   P03W,   384,  1,     34, X12016,2,20060122,0100, 27.1650, 125.8827,  304,    100.1,2,  21.7709,2,  21.77349,2,  34.6865,2,  34.6806,2,   174.61,1,   191.71,2,    101.2,2,   189.28,2,   193.36,2,     3.93,2,     0.13,     2.83,2,     0.04,     0.08,2,     0.01,    0.253,2,    0.015,    1.744,2,    1.040,2,    0.142,2,   1991.8,2,   2277.9,6,   8.0258,2, -999.000,9, -999.000,   -999.0,9,   -999.0,  21.7513,  24.0490
    49NZ20060120,   P03W,   384,  1,     33, X12039,2,20060122,0100, 27.1650, 125.8827,  304,    149.2,2,  19.2014,2,  19.20668,2,  34.5063,2,  34.5078,2,   204.53,1,   223.52,2,    149.3,2,   225.50,2,   225.40,2,     5.25,2,     0.13,     2.80,2,     0.04,     0.36,2,     0.00,    0.282,2,    0.014,    1.950,2,    1.166,2,    0.170,2,   1989.2,2,   2274.5,2,   8.0179,6, -999.000,9, -999.000,   -999.0,9,   -999.0,  19.1747,  24.5993
    49NZ20060120,   P03W,   384,  1,     32, X12038,2,20060122,0100, 27.1650, 125.8827,  304,    200.5,2,  17.2193,2,  17.22321,2,  34.6565,2,  34.6661,2,   163.63,1,   179.66,2,    202.7,2,   179.77,2,   180.46,2,    10.99,2,     0.14,     8.26,2,     0.06,     0.05,2,     0.01,    0.632,2,    0.013,    1.945,2,    1.119,2,    0.069,2,   2055.2,2,   2285.6,2,   7.9215,2, -999.000,9, -999.000,   -999.0,9,   -999.0,  17.1860,  25.2063
    49NZ20060120,   P03W,   384,  1,     31, X12037,2,20060122,0100, 27.1650, 125.8827,  304,    250.1,2,  12.9544,2,  12.95477,2,  34.4990,2,  34.4987,2,   140.34,1,   154.96,2,    251.0,2,   153.47,2,   153.92,2,    26.10,2,     0.18,    16.47,2,     0.08,     0.02,2,     0.01,    1.224,2,    0.013,    1.826,6,    0.994,6,    0.041,6,   2121.0,2,   2290.9,2,   7.7879,2, -999.000,9, -999.000,   -999.0,9,   -999.0,  12.9202,  26.0207
    49NZ20060120,   P03W,   384,  1,     21, X12009,9,20060122,0100, 27.1650, 125.8827,  304,     24.7,2,  23.0104,2,  23.01148,2,  34.5680,2,-999.0000,9,   191.24,1,   209.75,2,     12.8,2,   210.69,2,  -999.00,9,  -999.00,9,  -999.00,  -999.00,9,  -999.00,  -999.00,9,  -999.00, -999.000,9, -999.000, -999.000,9, -999.000,9, -999.000,9,   -999.0,9,   -999.0,9,-999.0000,9, -999.000,9, -999.000,   -999.0,9,   -999.0,  23.0054,  23.6044
    49NZ20060120,   P03W,   384,  1,     20, X12026,9,20060122,0100, 27.1650, 125.8827,  304,     74.9,2,  22.5399,2,  22.54103,2,  34.6607,2,-999.0000,9,   179.17,1,   196.56,2,     73.5,2,   199.97,2,  -999.00,9,  -999.00,9,  -999.00,  -999.00,9,  -999.00,  -999.00,9,  -999.00, -999.000,9, -999.000, -999.000,9, -999.000,9, -999.000,9,   -999.0,9,   -999.0,9,-999.0000,9, -999.000,9, -999.000,   -999.0,9,   -999.0,  22.5249,  23.8121
    49NZ20060120,   P03W,   384,  1,     19, X12025,9,20060122,0100, 27.1650, 125.8827,  304,    289.1,2,  11.1486,2,  11.15100,2,  34.4234,2,-999.0000,9,   126.88,1,   138.79,2,    288.8,2,   138.93,2,  -999.00,9,  -999.00,9,  -999.00,  -999.00,9,  -999.00,  -999.00,9,  -999.00, -999.000,9, -999.000, -999.000,9, -999.000,9, -999.000,9,   -999.0,9,   -999.0,9,-999.0000,9, -999.000,9, -999.000,   -999.0,9,   -999.0,  11.1127,  26.3061
    49NZ20060120,   P03W,   384,  1,     18, X12024,9,20060122,0100, 27.1650, 125.8827,  304,      9.8,2,  22.9946,2,  22.99513,2,  34.5680,2,-999.0000,9,   191.61,1,   210.44,2,      9.8,2,   210.93,2,  -999.00,9,  -999.00,9,  -999.00,  -999.00,9,  -999.00,  -999.00,9,  -999.00, -999.000,9, -999.000, -999.000,9, -999.000,9, -999.000,9,   -999.0,9,   -999.0,9,-999.0000,9, -999.000,9, -999.000,   -999.0,9,   -999.0,  22.9926,  23.6081
    49NZ20060120,   P03W,   384,  1,     17, X12023,9,20060122,0100, 27.1650, 125.8827,  304,     49.5,2,  23.0112,2,  23.01227,2,  34.5742,2,-999.0000,9,   189.87,1,   208.27,2,     39.5,2,   210.18,2,  -999.00,9,  -999.00,9,  -999.00,  -999.00,9,  -999.00,  -999.00,9,  -999.00, -999.000,9, -999.000, -999.000,9, -999.000,9, -999.000,9,   -999.0,9,   -999.0,9,-999.0000,9, -999.000,9, -999.000,   -999.0,9,   -999.0,  23.0011,  23.6103
    49NZ20060120,   P03W,   384,  1,     16, X12022,9,20060122,0100, 27.1650, 125.8827,  304,     99.1,2,  21.7793,2,  21.77075,2,  34.6859,2,-999.0000,9,   174.06,1,   191.18,2,    100.6,2,   189.31,2,  -999.00,9,  -999.00,9,  -999.00,  -999.00,9,  -999.00,  -999.00,9,  -999.00, -999.000,9, -999.000, -999.000,9, -999.000,9, -999.000,9,   -999.0,9,   -999.0,9,-999.0000,9, -999.000,9, -999.000,   -999.0,9,   -999.0,  21.7599,  24.0461
    49NZ20060120,   P03W,   384,  1,     15, X12021,9,20060122,0100, 27.1650, 125.8827,  304,    149.8,2,  19.1880,2,  19.19780,2,  34.5062,2,-999.0000,9,   204.63,1,   223.33,2,    149.7,2,   225.64,2,  -999.00,9,  -999.00,9,  -999.00,  -999.00,9,  -999.00,  -999.00,9,  -999.00, -999.000,9, -999.000, -999.000,9, -999.000,9, -999.000,9,   -999.0,9,   -999.0,9,-999.0000,9, -999.000,9, -999.000,   -999.0,9,   -999.0,  19.1612,  24.6026
    49NZ20060120,   P03W,   384,  1,     14, X12020,9,20060122,0100, 27.1650, 125.8827,  304,    200.3,2,  17.2820,2,  17.28755,2,  34.6665,2,-999.0000,9,   164.18,1,   179.82,2,    202.5,2,   179.81,2,  -999.00,9,  -999.00,9,  -999.00,  -999.00,9,  -999.00,  -999.00,9,  -999.00, -999.000,9, -999.000, -999.000,9, -999.000,9, -999.000,9,   -999.0,9,   -999.0,9,-999.0000,9, -999.000,9, -999.000,   -999.0,9,   -999.0,  17.2486,  25.1990
    49NZ20060120,   P03W,   384,  1,     13, X12019,9,20060122,0100, 27.1650, 125.8827,  304,    250.0,2,  12.9611,2,  12.96162,2,  34.4994,2,-999.0000,9,   140.24,1,   154.94,2,    250.8,2,   153.52,2,  -999.00,9,  -999.00,9,  -999.00,  -999.00,9,  -999.00,  -999.00,9,  -999.00, -999.000,9, -999.000, -999.000,9, -999.000,9, -999.000,9,   -999.0,9,   -999.0,9,-999.0000,9, -999.000,9, -999.000,   -999.0,9,   -999.0,  12.9269,  26.0197
    49NZ20060120,   P03W,   384,  1,      3, X12003,2,20060122,0100, 27.1650, 125.8827,  304,     24.5,2,  23.0100,2,  23.01044,2,  34.5688,2,  34.5690,2,   191.19,1,   209.67,2,     12.8,2,   210.69,2,   211.14,2,     1.35,2,     0.12,     0.31,2,     0.03,     0.10,2,     0.01,    0.091,2,    0.023,    1.671,2,    1.015,2,    0.010,2,   1954.2,2,   2270.6,2,   8.0776,2, -999.000,9, -999.000,   -999.0,9,   -999.0,  23.0050,  23.6052
    49NZ20060120,   P03W,   384,  1,      2, X12044,2,20060122,0100, 27.1650, 125.8827,  304,     74.3,2,  22.5385,2,  22.53894,2,  34.6602,2,  34.6612,2,   179.17,1,   196.61,2,     73.5,2,   199.97,2,   198.08,2,     2.70,2,     0.12,     1.75,2,     0.04,     0.17,2,     0.01,    0.182,2,    0.017,    1.696,2,    1.023,2,    0.160,2,   1977.0,2,   2276.4,2,   8.0467,2, -999.000,9, -999.000,   -999.0,9,   -999.0,  22.5236,  23.8121
    49NZ20060120,   P03W,   384,  1,      1, X12051,2,20060122,0100, 27.1650, 125.8827,  304,    289.1,2,  11.1473,2,  11.14767,2,  34.4237,2,  34.4215,6,   126.75,1,   138.64,2,    288.9,2,   138.93,2,   138.25,2,    36.35,2,     0.20,    20.87,2,     0.09,     0.02,2,     0.01,    1.534,2,    0.014,    1.618,2,    0.857,2,    0.039,2,   2155.2,2,   2293.3,2,   7.7201,2, -999.000,9, -999.000,   -999.0,9,   -999.0,  11.1114,  26.3066
    49NZ20060120,   P03W,   385,  1,     36, X12042,2,20060122,0244, 27.3142, 125.7373,  145,      9.7,2,  22.6354,2,  22.63546,2,  34.5978,2,  34.5986,2,   193.81,1,   211.97,2,   -999.0,9,  -999.00,9,   213.97,2,     1.50,2,     0.12,     0.30,2,     0.03,     0.17,2,     0.01,    0.099,2,    0.022,    1.764,2,    1.029,2,    0.192,4,   -999.0,9,   -999.0,9,-999.0000,9, -999.000,9, -999.000,   -999.0,9,   -999.0,  22.6334,  23.7335
    49NZ20060120,   P03W,   385,  1,     35, X12041,2,20060122,0244, 27.3142, 125.7373,  145,     49.0,2,  20.8982,2,  20.90967,2,  34.6049,2,  34.6055,2,   182.57,1,   199.93,2,     45.9,2,   209.22,2,   201.07,2,     5.03,2,     0.13,     3.16,2,     0.04,     0.23,2,     0.01,    0.294,2,    0.014,    1.890,2,    1.068,2,    0.165,4,   -999.0,9,   -999.0,9,-999.0000,9, -999.000,9, -999.000,   -999.0,9,   -999.0,  20.8889,  24.2233
    49NZ20060120,   P03W,   385,  1,     34, X12016,2,20060122,0244, 27.3142, 125.7373,  145,     99.7,2,  19.3653,2,  19.36520,2,  34.5363,2,  34.5368,2,   195.73,1,   215.52,2,     99.7,2,   215.54,2,   215.16,2,     6.15,2,     0.13,     3.81,2,     0.04,     0.07,2,     0.01,    0.333,2,    0.014,    2.028,6,    1.144,6,    0.190,4,   -999.0,9,   -999.0,9,-999.0000,9, -999.000,9, -999.000,   -999.0,9,   -999.0,  19.3474,  24.5779
    49NZ20060120,   P03W,   385,  1,     21, X12009,9,20060122,0244, 27.3142, 125.7373,  145,     24.8,2,  22.6541,2,  22.65367,2,  34.5969,2,-999.0000,9,   193.91,1,   211.95,2,     23.7,2,   213.73,2,  -999.00,9,  -999.00,9,  -999.00,  -999.00,9,  -999.00,  -999.00,9,  -999.00, -999.000,9, -999.000, -999.000,9, -999.000,9, -999.000,9,   -999.0,9,   -999.0,9,-999.0000,9, -999.000,9, -999.000,   -999.0,9,   -999.0,  22.6491,  23.7284
    49NZ20060120,   P03W,   385,  1,     20, X12026,9,20060122,0244, 27.3142, 125.7373,  145,     74.5,2,  20.0673,2,  20.06778,2,  34.5644,2,-999.0000,9,   195.74,1,   216.16,2,     73.4,2,   213.70,2,  -999.00,9,  -999.00,9,  -999.00,  -999.00,9,  -999.00,  -999.00,9,  -999.00, -999.000,9, -999.000, -999.000,9, -999.000,9, -999.000,9,   -999.0,9,   -999.0,9,-999.0000,9, -999.000,9, -999.000,   -999.0,9,   -999.0,  20.0536,  24.4154
    49NZ20060120,   P03W,   385,  1,     19, X12025,9,20060122,0244, 27.3142, 125.7373,  145,    135.6,2,  18.7106,2,  18.71309,2,  34.4993,2,-999.0000,9,   200.88,1,   219.53,2,    136.0,2,   221.16,2,  -999.00,9,  -999.00,9,  -999.00,  -999.00,9,  -999.00,  -999.00,9,  -999.00, -999.000,9, -999.000, -999.000,9, -999.000,9, -999.000,9,   -999.0,9,   -999.0,9,-999.0000,9, -999.000,9, -999.000,   -999.0,9,   -999.0,  18.6868,  24.7178
    49NZ20060120,   P03W,   385,  1,     18, X12024,9,20060122,0244, 27.3142, 125.7373,  145,      9.7,2,  22.6406,2,  22.64146,2,  34.5981,2,-999.0000,9,   194.01,1,   212.05,2,   -999.0,9,  -999.00,9,  -999.00,9,  -999.00,9,  -999.00,  -999.00,9,  -999.00,  -999.00,9,  -999.00, -999.000,9, -999.000, -999.000,9, -999.000,9, -999.000,9,   -999.0,9,   -999.0,9,-999.0000,9, -999.000,9, -999.000,   -999.0,9,   -999.0,  22.6386,  23.7322
    49NZ20060120,   P03W,   385,  1,     17, X12023,9,20060122,0244, 27.3142, 125.7373,  145,     48.9,2,  20.9114,2,  20.91851,2,  34.6056,2,-999.0000,9,   182.27,1,   199.88,2,     45.8,2,   209.15,2,  -999.00,9,  -999.00,9,  -999.00,  -999.00,9,  -999.00,  -999.00,9,  -999.00, -999.000,9, -999.000, -999.000,9, -999.000,9, -999.000,9,   -999.0,9,   -999.0,9,-999.0000,9, -999.000,9, -999.000,   -999.0,9,   -999.0,  20.9021,  24.2202
    49NZ20060120,   P03W,   385,  1,     16, X12022,9,20060122,0244, 27.3142, 125.7373,  145,    100.0,2,  19.3560,2,  19.35426,2,  34.5362,2,-999.0000,9,   195.64,1,   215.60,2,    100.0,2,   215.61,2,  -999.00,9,  -999.00,9,  -999.00,  -999.00,9,  -999.00,  -999.00,9,  -999.00, -999.000,9, -999.000, -999.000,9, -999.000,9, -999.000,9,   -999.0,9,   -999.0,9,-999.0000,9, -999.000,9, -999.000,   -999.0,9,   -999.0,  19.3380,  24.5802
    49NZ20060120,   P03W,   385,  1,      3, X12003,2,20060122,0244, 27.3142, 125.7373,  145,     24.4,2,  22.6497,2,  22.65075,2,  34.5968,2,  34.5974,2,   193.83,1,   211.95,2,     23.6,2,   213.74,2,   213.61,2,     1.44,2,     0.12,     0.30,2,     0.03,     0.17,2,     0.01,    0.095,2,    0.023,    1.768,2,    1.017,2,    0.187,4,   -999.0,9,   -999.0,9,-999.0000,9, -999.000,9, -999.000,   -999.0,9,   -999.0,  22.6448,  23.7295
    49NZ20060120,   P03W,   385,  1,      2, X12044,2,20060122,0244, 27.3142, 125.7373,  145,     74.8,2,  20.0576,2,  20.05816,2,  34.5639,2,  34.5641,2,   195.44,1,   216.21,2,     73.4,2,   213.76,2,   215.20,2,     4.75,2,     0.13,     2.72,2,     0.04,     0.31,2,     0.01,    0.270,2,    0.015,    1.977,2,    1.117,2,    0.184,4,   -999.0,9,   -999.0,9,-999.0000,9, -999.000,9, -999.000,   -999.0,9,   -999.0,  20.0438,  24.4176
    49NZ20060120,   P03W,   385,  1,      1, X12051,2,20060122,0244, 27.3142, 125.7373,  145,    134.8,2,  18.7975,2,  18.80353,2,  34.5029,2,  34.5019,6,   200.67,1,   218.91,2,    134.9,2,   221.09,2,   220.21,2,     6.41,2,     0.13,     3.92,2,     0.04,     0.14,2,     0.01,    0.338,2,    0.014,    2.088,2,    1.160,2,    0.181,4,   -999.0,9,   -999.0,9,-999.0000,9, -999.000,9, -999.000,   -999.0,9,   -999.0,  18.7737,  24.6986
    49NZ20060120,   P03W,   386,  1,     36, X12042,2,20060122,0409, 27.4535, 125.5880,  122,      9.6,2,  20.6016,2,  20.60197,2,  34.5950,2,  34.5958,2,   203.45,1,   222.75,2,     10.7,2,   224.61,2,   224.49,2,     2.31,2,     0.12,     0.89,2,     0.04,     0.15,2,     0.01,    0.150,2,    0.018,    1.854,2,    1.097,2,    0.170,2,   -999.0,9,   -999.0,9,-999.0000,9, -999.000,9, -999.000,   -999.0,9,   -999.0,  20.5998,  24.2936
    49NZ20060120,   P03W,   386,  1,     35, X12041,2,20060122,0409, 27.4535, 125.5880,  122,     50.0,2,  19.0371,2,  19.03701,2,  34.4979,2,  34.4981,2,   208.06,1,   230.07,2,     51.2,2,   229.60,2,   229.04,2,     4.88,2,     0.13,     2.50,2,     0.04,     0.21,2,     0.01,    0.266,2,    0.015,    1.988,2,    1.179,2,    0.178,2,   -999.0,9,   -999.0,9,-999.0000,9, -999.000,9, -999.000,   -999.0,9,   -999.0,  19.0282,  24.6302
    49NZ20060120,   P03W,   386,  1,     34, X12016,2,20060122,0409, 27.4535, 125.5880,  122,     99.8,2,  18.2489,2,  18.24870,2,  34.4327,2,  34.4326,2,   207.35,1,   227.25,2,    100.2,2,   228.39,2,   227.93,2,     6.52,2,     0.13,     3.91,2,     0.04,     0.14,2,     0.01,    0.342,2,    0.014,    2.043,2,    1.211,2,    0.164,2,   -999.0,9,   -999.0,9,-999.0000,9, -999.000,9, -999.000,   -999.0,9,   -999.0,  18.2317,  24.7804
    49NZ20060120,   P03W,   386,  1,     21, X12009,9,20060122,0409, 27.4535, 125.5880,  122,     24.7,2,  20.5995,2,  20.59975,2,  34.5936,2,-999.0000,9,   203.19,1,   222.36,2,     25.3,2,   224.34,2,  -999.00,9,  -999.00,9,  -999.00,  -999.00,9,  -999.00,  -999.00,9,  -999.00, -999.000,9, -999.000, -999.000,9, -999.000,9, -999.000,9,   -999.0,9,   -999.0,9,-999.0000,9, -999.000,9, -999.000,   -999.0,9,   -999.0,  20.5949,  24.2938
    49NZ20060120,   P03W,   386,  1,     20, X12026,9,20060122,0409, 27.4535, 125.5880,  122,     75.1,2,  18.4544,2,  18.45563,2,  34.4468,2,-999.0000,9,   207.25,1,   228.35,2,     75.5,2,   228.12,2,  -999.00,9,  -999.00,9,  -999.00,  -999.00,9,  -999.00,  -999.00,9,  -999.00, -999.000,9, -999.000, -999.000,9, -999.000,9, -999.000,9,   -999.0,9,   -999.0,9,-999.0000,9, -999.000,9, -999.000,   -999.0,9,   -999.0,  18.4414,  24.7391
    49NZ20060120,   P03W,   386,  1,     19, X12025,9,20060122,0409, 27.4535, 125.5880,  122,    110.5,2,  18.2425,2,  18.24267,2,  34.4329,2,-999.0000,9,   207.34,1,   226.31,2,    110.6,2,   228.45,2,  -999.00,9,  -999.00,9,  -999.00,  -999.00,9,  -999.00,  -999.00,9,  -999.00, -999.000,9, -999.000, -999.000,9, -999.000,9, -999.000,9,   -999.0,9,   -999.0,9,-999.0000,9, -999.000,9, -999.000,   -999.0,9,   -999.0,  18.2235,  24.7826
    49NZ20060120,   P03W,   386,  1,     18, X12024,9,20060122,0409, 27.4535, 125.5880,  122,      9.6,2,  20.6012,2,  20.60072,2,  34.5948,2,-999.0000,9,   203.68,1,   223.20,2,     10.8,2,   224.61,2,  -999.00,9,  -999.00,9,  -999.00,  -999.00,9,  -999.00,  -999.00,9,  -999.00, -999.000,9, -999.000, -999.000,9, -999.000,9, -999.000,9,   -999.0,9,   -999.0,9,-999.0000,9, -999.000,9, -999.000,   -999.0,9,   -999.0,  20.5994,  24.2935
    49NZ20060120,   P03W,   386,  1,     17, X12023,9,20060122,0409, 27.4535, 125.5880,  122,     49.6,2,  19.0408,2,  19.04076,2,  34.4981,2,-999.0000,9,   208.23,1,   229.87,2,     50.9,2,   229.56,2,  -999.00,9,  -999.00,9,  -999.00,  -999.00,9,  -999.00,  -999.00,9,  -999.00, -999.000,9, -999.000, -999.000,9, -999.000,9, -999.000,9,   -999.0,9,   -999.0,9,-999.0000,9, -999.000,9, -999.000,   -999.0,9,   -999.0,  19.0320,  24.6294
    49NZ20060120,   P03W,   386,  1,     16, X12022,9,20060122,0409, 27.4535, 125.5880,  122,     99.9,2,  18.2448,2,  18.24393,2,  34.4328,2,-999.0000,9,   207.41,1,   227.26,2,    100.6,2,   228.43,2,  -999.00,9,  -999.00,9,  -999.00,  -999.00,9,  -999.00,  -999.00,9,  -999.00, -999.000,9, -999.000, -999.000,9, -999.000,9, -999.000,9,   -999.0,9,   -999.0,9,-999.0000,9, -999.000,9, -999.000,   -999.0,9,   -999.0,  18.2276,  24.7815
    49NZ20060120,   P03W,   386,  1,      3, X12003,2,20060122,0409, 27.4535, 125.5880,  122,     24.7,2,  20.5989,2,  20.59920,2,  34.5934,2,  34.5952,2,   203.30,1,   222.63,2,     25.3,2,   224.33,2,   224.32,2,     2.26,2,     0.12,     0.87,2,     0.04,     0.16,2,     0.01,    0.152,2,    0.018,    1.857,2,    1.094,2,    0.174,2,   -999.0,9,   -999.0,9,-999.0000,9, -999.000,9, -999.000,   -999.0,9,   -999.0,  20.5943,  24.2938
    49NZ20060120,   P03W,   386,  1,      2, X12044,2,20060122,0409, 27.4535, 125.5880,  122,     74.7,2,  18.4544,2,  18.45737,2,  34.4467,2,  34.4480,2,   207.36,1,   228.38,2,     75.4,2,   228.09,2,   227.94,2,     6.16,2,     0.13,     3.57,2,     0.04,     0.20,2,     0.01,    0.323,2,    0.014,    2.029,2,    1.199,2,    0.173,2,   -999.0,9,   -999.0,9,-999.0000,9, -999.000,9, -999.000,   -999.0,9,   -999.0,  18.4414,  24.7390
    49NZ20060120,   P03W,   386,  1,      1, X12051,2,20060122,0409, 27.4535, 125.5880,  122,    111.5,2,  18.2362,2,  18.23773,2,  34.4328,2,  34.4332,6,   207.35,1,   226.21,2,    111.7,2,   228.45,2,   227.76,2,     6.54,2,     0.13,     3.92,2,     0.04,     0.13,2,     0.01,    0.342,2,    0.014,    2.044,6,    1.211,6,    0.172,6,   -999.0,9,   -999.0,9,-999.0000,9, -999.000,9, -999.000,   -999.0,9,   -999.0,  18.2170,  24.7841