BOTTLE,20220819CCHSIOAMB
EXPOCODE,SECT_ID,STNNBR,CASTNO,SAMPNO,BTLNBR,BTLNBR_FLAG_W,DATE,TIME,LATITUDE,LONGITUDE,DEPTH,CTDPRS,CTDPRS_FLAG_W,CTDTMP,CTDTMP_FLAG_W,SBE35,SBE35_FLAG_W,CTDSAL,CTDSAL_FLAG_W,SALNTY,SALNTY_FLAG_W,CTDOXY,CTDOXY_FLAG_W,OPTOXY,OPTOXY_FLAG_W,DWNPRS,DWNPRS_FLAG_W,DWNOXY,DWNOXY_FLAG_W,OXYGEN,OXYGEN_FLAG_W,SILCAT,SILCAT_FLAG_W,SILUNC,NITRAT,NITRAT_FLAG_W,NRAUNC,NITRIT,NITRIT_FLAG_W,NRIUNC,PHSPHT,PHSPHT_FLAG_W,PHPUNC,CFC-11,CFC-11_FLAG_W,CFC-12,CFC-12_FLAG_W,CFC113,CFC113_FLAG_W,TCARBN,TCARBN_FLAG_W,ALKALI,ALKALI_FLAG_W,PH,PH_FLAG_W,DELC13,DELC13_FLAG_W,C13ERR,DELC14,DELC14_FLAG_W,C14ERR,THETA,SIG0
,,,,,,,,UTC,DEG,DEG,METERS,DBAR,,ITS-90,,ITS-90,,PSS-78,,PSS-78,,UMOL/KG,,UMOL/KG,,DBAR,,UMOL/KG,,UMOL/KG,,UMOL/KG,,UMOL/KG,UMOL/KG,,UMOL/KG,UMOL/KG,,UMOL/KG,UMOL/KG,,UMOL/KG,PMOL/KG,,PMOL/KG,,PMOL/KG,,UMOL/KG,,UMOL/KG,,,,/MILLE,,/MILLE,/MILLE,,/MILLE,DEG C,KG/M^3
    49NZ20060120,   P03W,   387,  1,     36, X12042,2,20060122,0542, 27.6060, 125.4378,  118,     10.0,2,  19.9261,2,  19.92740,2,  34.5846,2,  34.5850,2,   203.98,1,   223.59,2,     10.1,2,   224.56,2,   224.68,2,     3.51,2,     0.13,     1.71,2,     0.04,     0.19,2,     0.01,    0.190,2,    0.016,    2.001,2,    1.128,2,    0.180,2,   -999.0,9,   -999.0,9,-999.0000,9, -999.000,9, -999.000,   -999.0,9,   -999.0,  19.9243,  24.4648
    49NZ20060120,   P03W,   387,  1,     35, X12041,2,20060122,0542, 27.6060, 125.4378,  118,     50.2,2,  18.3586,2,  18.35810,2,  34.4669,2,  34.4674,2,   203.51,1,   225.51,2,     51.2,2,   223.81,2,   223.77,2,     6.81,2,     0.13,     4.15,2,     0.04,     0.09,2,     0.01,    0.345,2,    0.014,    2.149,2,    1.209,2,    0.187,2,   -999.0,9,   -999.0,9,-999.0000,9, -999.000,9, -999.000,   -999.0,9,   -999.0,  18.3499,  24.7773
    49NZ20060120,   P03W,   387,  1,     21, X12009,9,20060122,0542, 27.6060, 125.4378,  118,     24.6,2,  19.9138,2,  19.91293,2,  34.5830,2,-999.0000,9,   203.88,1,   223.29,2,     25.1,2,   223.98,2,  -999.00,9,  -999.00,9,  -999.00,  -999.00,9,  -999.00,  -999.00,9,  -999.00, -999.000,9, -999.000, -999.000,9, -999.000,9, -999.000,9,   -999.0,9,   -999.0,9,-999.0000,9, -999.000,9, -999.000,   -999.0,9,   -999.0,  19.9093,  24.4675
    49NZ20060120,   P03W,   387,  1,     20, X12026,9,20060122,0542, 27.6060, 125.4378,  118,     74.3,2,  18.2956,2,  18.29559,2,  34.4676,2,-999.0000,9,   204.28,1,   224.90,2,     74.0,2,   224.83,2,  -999.00,9,  -999.00,9,  -999.00,  -999.00,9,  -999.00,  -999.00,9,  -999.00, -999.000,9, -999.000, -999.000,9, -999.000,9, -999.000,9,   -999.0,9,   -999.0,9,-999.0000,9, -999.000,9, -999.000,   -999.0,9,   -999.0,  18.2828,  24.7945
    49NZ20060120,   P03W,   387,  1,     19, X12025,9,20060122,0542, 27.6060, 125.4378,  118,    102.3,2,  18.2395,2,  18.23809,2,  34.4879,2,-999.0000,9,   205.52,1,   224.79,2,    102.5,2,   226.47,2,  -999.00,9,  -999.00,9,  -999.00,  -999.00,9,  -999.00,  -999.00,9,  -999.00, -999.000,9, -999.000, -999.000,9, -999.000,9, -999.000,9,   -999.0,9,   -999.0,9,-999.0000,9, -999.000,9, -999.000,   -999.0,9,   -999.0,  18.2219,  24.8251
    49NZ20060120,   P03W,   387,  1,     18, X12024,9,20060122,0542, 27.6060, 125.4378,  118,      9.9,2,  19.9606,2,  19.97088,2,  34.5857,2,-999.0000,9,   203.87,1,   223.59,2,      8.5,2,   224.24,2,  -999.00,9,  -999.00,9,  -999.00,  -999.00,9,  -999.00,  -999.00,9,  -999.00, -999.000,9, -999.000, -999.000,9, -999.000,9, -999.000,9,   -999.0,9,   -999.0,9,-999.0000,9, -999.000,9, -999.000,   -999.0,9,   -999.0,  19.9588,  24.4566
    49NZ20060120,   P03W,   387,  1,     17, X12023,9,20060122,0542, 27.6060, 125.4378,  118,     50.4,2,  18.3627,2,  18.36362,2,  34.4673,2,-999.0000,9,   203.48,1,   225.53,2,     51.2,2,   223.82,2,  -999.00,9,  -999.00,9,  -999.00,  -999.00,9,  -999.00,  -999.00,9,  -999.00, -999.000,9, -999.000, -999.000,9, -999.000,9, -999.000,9,   -999.0,9,   -999.0,9,-999.0000,9, -999.000,9, -999.000,   -999.0,9,   -999.0,  18.3540,  24.7766
    49NZ20060120,   P03W,   387,  1,      3, X12003,2,20060122,0542, 27.6060, 125.4378,  118,     24.6,2,  19.9099,2,  19.91727,2,  34.5828,2,  34.5823,2,   203.83,1,   223.49,2,     25.2,2,   223.97,2,   224.67,2,     3.56,2,     0.13,     1.72,2,     0.04,     0.19,2,     0.01,    0.191,2,    0.016,    1.994,2,    1.131,2,    0.181,2,   -999.0,9,   -999.0,9,-999.0000,9, -999.000,9, -999.000,   -999.0,9,   -999.0,  19.9054,  24.4683
    49NZ20060120,   P03W,   387,  1,      2, X12044,2,20060122,0542, 27.6060, 125.4378,  118,     74.7,2,  18.2965,2,  18.29714,2,  34.4677,2,  34.4675,2,   204.28,1,   224.87,2,     74.3,2,   224.80,2,   224.72,2,     6.86,2,     0.13,     4.10,2,     0.04,     0.12,2,     0.01,    0.344,2,    0.014,    2.164,2,    1.216,2,    0.196,2,   -999.0,9,   -999.0,9,-999.0000,9, -999.000,9, -999.000,   -999.0,9,   -999.0,  18.2836,  24.7944
    49NZ20060120,   P03W,   387,  1,      1, X12051,2,20060122,0542, 27.6060, 125.4378,  118,    102.9,2,  18.2383,2,  18.23981,2,  34.4885,2,  34.4871,6,   205.48,1,   224.72,2,    102.9,2,   226.45,2,   225.87,2,     6.86,2,     0.13,     3.85,2,     0.04,     0.31,2,     0.01,    0.345,2,    0.014,    2.162,2,    1.221,2,    0.187,4,   -999.0,9,   -999.0,9,-999.0000,9, -999.000,9, -999.000,   -999.0,9,   -999.0,  18.2206,  24.8259
    49NZ20060120,   P03W,   388,  1,     36, X12042,2,20060122,0732, 27.7493, 125.2153,  112,     10.1,2,  17.3044,2,  17.30471,2,  34.3133,2,  34.3126,2,   215.53,1,   237.10,2,     11.4,2,   237.16,2,   236.99,2,     6.89,2,     0.13,     4.02,2,     0.04,     0.20,2,     0.01,    0.336,2,    0.014,    2.188,2,    1.260,2,    0.178,2,   -999.0,9,   -999.0,9,-999.0000,9, -999.000,9, -999.000,   -999.0,9,   -999.0,  17.3027,  24.9152
    49NZ20060120,   P03W,   388,  1,     35, X12041,2,20060122,0732, 27.7493, 125.2153,  112,     51.3,2,  17.3219,2,  17.32244,2,  34.3139,2,  34.3136,2,   215.51,1,   238.93,2,     51.9,2,   237.31,2,   236.89,2,     6.88,2,     0.13,     3.99,2,     0.04,     0.20,2,     0.01,    0.342,2,    0.014,    2.183,2,    1.260,2,    0.180,2,   -999.0,9,   -999.0,9,-999.0000,9, -999.000,9, -999.000,   -999.0,9,   -999.0,  17.3134,  24.9131
    49NZ20060120,   P03W,   388,  1,     21, X12009,9,20060122,0732, 27.7493, 125.2153,  112,     24.9,2,  17.3129,2,  17.31371,2,  34.3126,2,-999.0000,9,   215.54,1,   237.20,2,     25.6,2,   237.09,2,  -999.00,9,  -999.00,9,  -999.00,  -999.00,9,  -999.00,  -999.00,9,  -999.00, -999.000,9, -999.000, -999.000,9, -999.000,9, -999.000,9,   -999.0,9,   -999.0,9,-999.0000,9, -999.000,9, -999.000,   -999.0,9,   -999.0,  17.3088,  24.9132
    49NZ20060120,   P03W,   388,  1,     20, X12026,9,20060122,0732, 27.7493, 125.2153,  112,     75.3,2,  17.3242,2,  17.32629,2,  34.3124,2,-999.0000,9,   215.74,1,   237.82,2,     75.4,2,   237.51,2,  -999.00,9,  -999.00,9,  -999.00,  -999.00,9,  -999.00,  -999.00,9,  -999.00, -999.000,9, -999.000, -999.000,9, -999.000,9, -999.000,9,   -999.0,9,   -999.0,9,-999.0000,9, -999.000,9, -999.000,   -999.0,9,   -999.0,  17.3117,  24.9123
    49NZ20060120,   P03W,   388,  1,     19, X12025,9,20060122,0732, 27.7493, 125.2153,  112,     99.8,2,  17.2785,2,  17.27923,2,  34.3047,2,-999.0000,9,   215.68,1,   237.45,2,     99.8,2,   237.48,2,  -999.00,9,  -999.00,9,  -999.00,  -999.00,9,  -999.00,  -999.00,9,  -999.00, -999.000,9, -999.000, -999.000,9, -999.000,9, -999.000,9,   -999.0,9,   -999.0,9,-999.0000,9, -999.000,9, -999.000,   -999.0,9,   -999.0,  17.2620,  24.9183
    49NZ20060120,   P03W,   388,  1,     18, X12024,9,20060122,0732, 27.7493, 125.2153,  112,     10.3,2,  17.3080,2,  17.30790,2,  34.3130,2,-999.0000,9,   215.44,1,   237.15,2,     11.4,2,   237.16,2,  -999.00,9,  -999.00,9,  -999.00,  -999.00,9,  -999.00,  -999.00,9,  -999.00, -999.000,9, -999.000, -999.000,9, -999.000,9, -999.000,9,   -999.0,9,   -999.0,9,-999.0000,9, -999.000,9, -999.000,   -999.0,9,   -999.0,  17.3063,  24.9141
    49NZ20060120,   P03W,   388,  1,     17, X12023,9,20060122,0732, 27.7493, 125.2153,  112,     51.4,2,  17.3230,2,  17.32360,2,  34.3142,2,-999.0000,9,   215.40,1,   238.97,2,     52.0,2,   237.30,2,  -999.00,9,  -999.00,9,  -999.00,  -999.00,9,  -999.00,  -999.00,9,  -999.00, -999.000,9, -999.000, -999.000,9, -999.000,9, -999.000,9,   -999.0,9,   -999.0,9,-999.0000,9, -999.000,9, -999.000,   -999.0,9,   -999.0,  17.3145,  24.9130
    49NZ20060120,   P03W,   388,  1,      3, X12003,2,20060122,0732, 27.7493, 125.2153,  112,     25.2,2,  17.3126,2,  17.31324,2,  34.3126,2,  34.3121,2,   215.63,1,   237.07,2,     26.0,2,   237.07,2,   237.01,2,     6.88,2,     0.13,     3.96,2,     0.04,     0.20,2,     0.01,    0.331,2,    0.014,    2.192,2,    1.270,2,    0.200,2,   -999.0,9,   -999.0,9,-999.0000,9, -999.000,9, -999.000,   -999.0,9,   -999.0,  17.3084,  24.9133
    49NZ20060120,   P03W,   388,  1,      2, X12044,2,20060122,0732, 27.7493, 125.2153,  112,     75.5,2,  17.3141,2,  17.31377,2,  34.3118,2,  34.3122,2,   215.74,1,   237.93,2,     76.1,2,   237.53,2,   236.93,2,     6.89,2,     0.13,     3.98,2,     0.04,     0.20,2,     0.01,    0.333,2,    0.014,    2.182,2,    1.281,2,    0.179,2,   -999.0,9,   -999.0,9,-999.0000,9, -999.000,9, -999.000,   -999.0,9,   -999.0,  17.3016,  24.9143
    49NZ20060120,   P03W,   388,  1,      1, X12051,2,20060122,0732, 27.7493, 125.2153,  112,     99.3,2,  17.2817,2,  17.28245,2,  34.3055,2,  34.3047,6,   215.68,1,   237.47,2,     99.2,2,   237.43,2,   236.77,2,     6.97,2,     0.13,     4.07,2,     0.04,     0.18,2,     0.01,    0.338,2,    0.014,    2.173,6,    1.268,6,    0.176,6,   -999.0,9,   -999.0,9,-999.0000,9, -999.000,9, -999.000,   -999.0,9,   -999.0,  17.2652,  24.9181
    49NZ20060120,   P03W,   389,  1,     36, X12042,2,20060122,0955, 28.0018, 124.9887,  104,      9.6,2,  17.1243,2,  17.12520,2,  34.3288,2,  34.3282,2,   216.04,1,   238.57,2,     10.3,2,   237.96,2,   237.73,2,     6.88,2,     0.13,     3.91,2,     0.04,     0.20,2,     0.01,    0.330,2,    0.014,    2.308,2,    1.287,2,    0.198,2,   -999.0,9,   -999.0,9,-999.0000,9, -999.000,9, -999.000,   -999.0,9,   -999.0,  17.1227,  24.9700
    49NZ20060120,   P03W,   389,  1,     35, X12041,2,20060122,0955, 28.0018, 124.9887,  104,     50.9,2,  17.1377,2,  17.13837,2,  34.3267,2,  34.3268,2,   216.00,1,   239.86,2,     51.2,2,   237.73,2,   237.59,2,     6.89,2,     0.13,     3.89,2,     0.04,     0.20,2,     0.01,    0.334,2,    0.014,    2.313,2,    1.288,2,    0.200,2,   -999.0,9,   -999.0,9,-999.0000,9, -999.000,9, -999.000,   -999.0,9,   -999.0,  17.1293,  24.9668
    49NZ20060120,   P03W,   389,  1,     21, X12009,9,20060122,0955, 28.0018, 124.9887,  104,     25.6,2,  17.1208,2,  17.12299,2,  34.3284,2,-999.0000,9,   216.04,1,   239.67,2,     26.7,2,   237.98,2,  -999.00,9,  -999.00,9,  -999.00,  -999.00,9,  -999.00,  -999.00,9,  -999.00, -999.000,9, -999.000, -999.000,9, -999.000,9, -999.000,9,   -999.0,9,   -999.0,9,-999.0000,9, -999.000,9, -999.000,   -999.0,9,   -999.0,  17.1166,  24.9712
    49NZ20060120,   P03W,   389,  1,     20, X12026,9,20060122,0955, 28.0018, 124.9887,  104,     75.0,2,  17.1495,2,  17.14998,2,  34.3294,2,-999.0000,9,   216.08,1,   239.01,2,     75.2,2,   238.01,2,  -999.00,9,  -999.00,9,  -999.00,  -999.00,9,  -999.00,  -999.00,9,  -999.00, -999.000,9, -999.000, -999.000,9, -999.000,9, -999.000,9,   -999.0,9,   -999.0,9,-999.0000,9, -999.000,9, -999.000,   -999.0,9,   -999.0,  17.1371,  24.9670
    49NZ20060120,   P03W,   389,  1,     19, X12025,9,20060122,0955, 28.0018, 124.9887,  104,     91.9,2,  17.1309,2,  17.13246,2,  34.3308,2,-999.0000,9,   215.11,1,   237.86,2,     92.0,2,   236.98,2,  -999.00,9,  -999.00,9,  -999.00,  -999.00,9,  -999.00,  -999.00,9,  -999.00, -999.000,9, -999.000, -999.000,9, -999.000,9, -999.000,9,   -999.0,9,   -999.0,9,-999.0000,9, -999.000,9, -999.000,   -999.0,9,   -999.0,  17.1158,  24.9732
    49NZ20060120,   P03W,   389,  1,     18, X12024,9,20060122,0955, 28.0018, 124.9887,  104,      9.7,2,  17.1261,2,  17.12685,2,  34.3288,2,-999.0000,9,   216.12,1,   239.05,2,     10.3,2,   237.96,2,  -999.00,9,  -999.00,9,  -999.00,  -999.00,9,  -999.00,  -999.00,9,  -999.00, -999.000,9, -999.000, -999.000,9, -999.000,9, -999.000,9,   -999.0,9,   -999.0,9,-999.0000,9, -999.000,9, -999.000,   -999.0,9,   -999.0,  17.1245,  24.9696
    49NZ20060120,   P03W,   389,  1,     17, X12023,2,20060122,0955, 28.0018, 124.9887,  104,     51.0,2,  17.1384,2,  17.13905,2,  34.3265,2,-999.0000,9,   215.94,1,   239.77,2,     51.2,2,   237.73,2,  -999.00,9,  -999.00,9,  -999.00,  -999.00,9,  -999.00,  -999.00,9,  -999.00, -999.000,9, -999.000, -999.000,9, -999.000,9, -999.000,9,   -999.0,9,   -999.0,9,-999.0000,9, -999.000,9, -999.000,   -999.0,9,   -999.0,  17.1300,  24.9665
    49NZ20060120,   P03W,   389,  1,      3, X12003,2,20060122,0955, 28.0018, 124.9887,  104,     25.2,2,  17.1281,2,  17.12882,2,  34.3280,2,  34.3274,2,   216.06,1,   239.65,2,     26.0,2,   238.01,2,   237.62,2,     6.83,2,     0.13,     3.87,2,     0.04,     0.20,2,     0.01,    0.331,2,    0.014,    2.335,2,    1.303,2,    0.210,2,   -999.0,9,   -999.0,9,-999.0000,9, -999.000,9, -999.000,   -999.0,9,   -999.0,  17.1240,  24.9691
    49NZ20060120,   P03W,   389,  1,      2, X12044,2,20060122,0955, 28.0018, 124.9887,  104,     75.2,2,  17.1489,2,  17.14962,2,  34.3294,2,  34.3296,2,   216.04,1,   238.90,2,     75.5,2,   238.03,2,   237.52,2,     6.83,2,     0.13,     3.89,2,     0.04,     0.20,2,     0.01,    0.330,2,    0.014,    2.306,6,    1.293,6,    0.205,6,   -999.0,9,   -999.0,9,-999.0000,9, -999.000,9, -999.000,   -999.0,9,   -999.0,  17.1365,  24.9672
    49NZ20060120,   P03W,   389,  1,      1, X12051,2,20060122,0955, 28.0018, 124.9887,  104,     91.3,2,  17.1237,2,  17.12358,2,  34.3314,2,  34.3316,6,   215.13,1,   237.79,2,     91.5,2,   236.89,2,   236.47,2,     6.90,2,     0.13,     4.00,2,     0.04,     0.16,2,     0.01,    0.342,2,    0.014,    2.295,2,    1.278,2,    0.188,2,   -999.0,9,   -999.0,9,-999.0000,9, -999.000,9, -999.000,   -999.0,9,   -999.0,  17.1087,  24.9754