BOTTLE,20220819CCHSIOAMB
# Removed rows with no data at all
# Extracted rows with no pressure into residual file
# Evaluated Bob's submission: (14166) 49NZ20060120.exc.csv:
# The nutrient uncertainties were misinterpreted to be "uncorrected" and were deleted
# Station names were changed
# The Bob "header" was accepted and merged into the corrected file
#BOTTLE,20161116CCHSIORJL
#Change EXPOCODE from 49MR0505_3 to 49NZ20060120
#Change SECT to SECT_ID
#Change SECT_ID from P03 to P03W
#Change DEPTH units from M to METERS
#Change SIG0 units from KG/CUM to KG/M^3
#BOTTLE,20100316JAMSTECRIGC
#Software_Version: whp_btl_exchange.rb_v2.1 (ogc_group)
#ORIGINAL_SUM_FILE: 49MR0505_3_sum.txt Sun Jan 29 14:01:04 +0900 2006
#ORIGINAL_HYD_FILE: 49MR0505_3_sea.txt Tue Mar 16 12:18:03 +0900 2010
#DEPTH_TYPE: COR
#EVENT_CODE: BO
# 09/06/2018 Initialized README file  
# Data source:  
# SHIP: R/V Mirai 
# Cruise: Leg 3 of P03 occupation 
# Region: far western Pacific 26-35N, 125-131E 
# EXPOCODE:49NZ20060120 
# DATES: 20060120 - 20060130 
# Chief Scientist: Suichi Watanabe 
# 23 stations on the section + 7 labeled as test (1:7 here) with 24 place Rosette 
# CTD: Who - S.Watanabe; Status - final 
# 	Includes: CTDSAL, CTDOXY 
# Salinty: Who - T. Kawano; Status - final 
# 	Notes: 	Standard seawater batch145 with conductivity ratio .99981 
# Nutrients: Who - M.Aoyama; Status - final 
# 	Includes: nitrate, nitrite, silicate, phopshpate 
# O2: Who - Y.Kumamoto; Status -final 
# 	Notes:Standard deviation of replicates was .085umol/kg (N=45) 
# TCO2: Who -A.Murata; Status - final 
# 	Notes: accuracy estimated at 2.0umol/kg 
# 	CRM Batch 69 and 72 
# ALKALI: Who - A.Murata; Status - final 
# 	Notes: replicate precision 1.9umol/kg (N=20) and accuracy of 2-3umol/kg 
# 	CRM Batch 69 and 72 
# pH_TOT: Who - A.Murata; Status - final 
# 	Notes: at 25C 
# CFC: Who - ; Status - final 
# 	Notes: includes 11,12,113 
# C14/C13: Who - ; Status - final 
# 	Notes:  
# These data should be cited as: 
# See final, and very thorough cruise report 
# References that have used data from this cruise: 
EXPOCODE,SECT_ID,STNNBR,CASTNO,SAMPNO,BTLNBR,BTLNBR_FLAG_W,DATE,TIME,LATITUDE,LONGITUDE,DEPTH,CTDPRS,CTDPRS_FLAG_W,CTDTMP,CTDTMP_FLAG_W,SBE35,SBE35_FLAG_W,CTDSAL,CTDSAL_FLAG_W,SALNTY,SALNTY_FLAG_W,CTDOXY,CTDOXY_FLAG_W,OPTOXY,OPTOXY_FLAG_W,DWNPRS,DWNPRS_FLAG_W,DWNOXY,DWNOXY_FLAG_W,OXYGEN,OXYGEN_FLAG_W,SILCAT,SILCAT_FLAG_W,SILUNC,NITRAT,NITRAT_FLAG_W,NRAUNC,NITRIT,NITRIT_FLAG_W,NRIUNC,PHSPHT,PHSPHT_FLAG_W,PHPUNC,CFC-11,CFC-11_FLAG_W,CFC-12,CFC-12_FLAG_W,CFC113,CFC113_FLAG_W,TCARBN,TCARBN_FLAG_W,ALKALI,ALKALI_FLAG_W,PH,PH_FLAG_W,DELC13,DELC13_FLAG_W,C13ERR,DELC14,DELC14_FLAG_W,C14ERR,THETA,SIG0
,,,,,,,,UTC,DEG,DEG,METERS,DBAR,,ITS-90,,ITS-90,,PSS-78,,PSS-78,,UMOL/KG,,UMOL/KG,,DBAR,,UMOL/KG,,UMOL/KG,,UMOL/KG,,UMOL/KG,UMOL/KG,,UMOL/KG,UMOL/KG,,UMOL/KG,UMOL/KG,,UMOL/KG,PMOL/KG,,PMOL/KG,,PMOL/KG,,UMOL/KG,,UMOL/KG,,,,/MILLE,,/MILLE,/MILLE,,/MILLE,DEG C,KG/M^3
    49NZ20060120,   P03W,   370,  1,     36, X12042,2,20060120,0659, 26.3885, 126.7037,  328,      9.5,2,  22.2994,2,  22.30004,2,  34.7972,2,  34.7949,2,   198.15,1,   216.45,2,     11.7,2,   218.22,2,   216.53,2,     1.37,2,     0.12,     0.04,2,     0.03,     0.00,2,     0.01,    0.044,2,    0.038,    1.813,2,    1.025,2, -999.000,5,   -999.0,9,   -999.0,9,-999.0000,9, -999.000,9, -999.000,   -999.0,9,   -999.0,  22.2975,  23.9801
    49NZ20060120,   P03W,   370,  1,     35, X12041,2,20060120,0659, 26.3885, 126.7037,  328,     48.5,2,  22.2450,2,  22.24563,2,  34.7986,2,  34.7971,2,   197.18,1,   214.82,2,     47.4,2,   217.77,2,   215.66,2,     1.37,2,     0.12,     0.07,2,     0.03,     0.01,2,     0.01,    0.048,2,    0.035,    1.811,2,    1.019,2, -999.000,5,   -999.0,9,   -999.0,9,-999.0000,9, -999.000,9, -999.000,   -999.0,9,   -999.0,  22.2354,  23.9987
    49NZ20060120,   P03W,   370,  1,     34, X12016,2,20060120,0659, 26.3885, 126.7037,  328,    101.1,2,  22.1876,2,  22.18702,2,  34.8012,2,  34.8006,2,   196.72,1,   213.15,2,    101.3,2,   216.67,2,   215.00,2,     1.41,2,     0.12,     0.10,2,     0.03,     0.02,2,     0.01,    0.053,2,    0.033,    1.826,2,    1.029,2, -999.000,5,   -999.0,9,   -999.0,9,-999.0000,9, -999.000,9, -999.000,   -999.0,9,   -999.0,  22.1675,  24.0197
    49NZ20060120,   P03W,   370,  1,     33, X12039,2,20060120,0659, 26.3885, 126.7037,  328,    151.9,2,  19.3040,2,  19.30551,2,  34.8612,2,  34.8604,2,   179.70,1,   194.69,2,    156.6,2,   196.59,2,   196.06,2,     3.24,2,     0.13,     3.27,2,     0.04,     0.02,2,     0.01,    0.265,2,    0.015,    2.117,2,    1.158,2, -999.000,5,   -999.0,9,   -999.0,9,-999.0000,9, -999.000,9, -999.000,   -999.0,9,   -999.0,  19.2766,  24.8442
    49NZ20060120,   P03W,   370,  1,     32, X12038,2,20060120,0659, 26.3885, 126.7037,  328,    199.2,2,  17.7967,2,  17.79572,2,  34.8005,2,  34.7994,2,   180.61,1,   196.20,2,    200.1,2,   198.46,2,   196.92,2,     4.41,2,     0.13,     4.89,2,     0.05,     0.01,2,     0.01,    0.363,2,    0.014,    2.260,2,    1.216,2,    0.074,4,   -999.0,9,   -999.0,9,-999.0000,9, -999.000,9, -999.000,   -999.0,9,   -999.0,  17.7628,  25.1774
    49NZ20060120,   P03W,   370,  1,     31, X12037,2,20060120,0659, 26.3885, 126.7037,  328,    250.2,2,  17.1239,2,  17.12369,2,  34.7642,2,  34.7625,2,   182.76,1,   198.72,2,    251.0,2,   200.91,2,   199.14,2,     5.06,2,     0.13,     5.57,2,     0.05,     0.01,2,     0.01,    0.410,2,    0.013,    2.314,6,    1.238,6,    0.061,4,   -999.0,9,   -999.0,9,-999.0000,9, -999.000,9, -999.000,   -999.0,9,   -999.0,  17.0824,  25.3137
    49NZ20060120,   P03W,   370,  1,     21, X12009,9,20060120,0659, 26.3885, 126.7037,  328,     24.4,2,  22.2569,2,  22.25768,2,  34.7976,2,-999.0000,9,   197.58,1,   215.17,2,     25.5,2,   218.21,2,  -999.00,9,  -999.00,9,  -999.00,  -999.00,9,  -999.00,  -999.00,9,  -999.00, -999.000,9, -999.000, -999.000,9, -999.000,9, -999.000,9,   -999.0,9,   -999.0,9,-999.0000,9, -999.000,9, -999.000,   -999.0,9,   -999.0,  22.2520,  23.9932
    49NZ20060120,   P03W,   370,  1,     20, X12026,9,20060120,0659, 26.3885, 126.7037,  328,     74.1,2,  22.2314,2,  22.23199,2,  34.7993,2,-999.0000,9,   197.24,1,   213.93,2,     73.3,2,   217.05,2,  -999.00,9,  -999.00,9,  -999.00,  -999.00,9,  -999.00,  -999.00,9,  -999.00, -999.000,9, -999.000, -999.000,9, -999.000,9, -999.000,9,   -999.0,9,   -999.0,9,-999.0000,9, -999.000,9, -999.000,   -999.0,9,   -999.0,  22.2167,  24.0045
    49NZ20060120,   P03W,   370,  1,     19, X12025,9,20060120,0659, 26.3885, 126.7037,  328,    309.0,2,  16.6322,2,  16.63271,2,  34.7254,2,-999.0000,9,   180.38,1,   195.45,2,    310.2,2,   199.29,2,  -999.00,9,  -999.00,9,  -999.00,  -999.00,9,  -999.00,  -999.00,9,  -999.00, -999.000,9, -999.000, -999.000,9, -999.000,9, -999.000,9,   -999.0,9,   -999.0,9,-999.0000,9, -999.000,9, -999.000,   -999.0,9,   -999.0,  16.5819,  25.4019
    49NZ20060120,   P03W,   370,  1,     18, X12024,9,20060120,0659, 26.3885, 126.7037,  328,      9.8,2,  22.3083,2,  22.30420,2,  34.7961,2,-999.0000,9,   198.26,1,   216.25,2,     11.6,2,   218.25,2,  -999.00,9,  -999.00,9,  -999.00,  -999.00,9,  -999.00,  -999.00,9,  -999.00, -999.000,9, -999.000, -999.000,9, -999.000,9, -999.000,9,   -999.0,9,   -999.0,9,-999.0000,9, -999.000,9, -999.000,   -999.0,9,   -999.0,  22.3063,  23.9767
    49NZ20060120,   P03W,   370,  1,     17, X12023,9,20060120,0659, 26.3885, 126.7037,  328,     49.4,2,  22.2454,2,  22.24554,2,  34.7990,2,-999.0000,9,   197.17,1,   214.64,2,     48.4,2,   217.86,2,  -999.00,9,  -999.00,9,  -999.00,  -999.00,9,  -999.00,  -999.00,9,  -999.00, -999.000,9, -999.000, -999.000,9, -999.000,9, -999.000,9,   -999.0,9,   -999.0,9,-999.0000,9, -999.000,9, -999.000,   -999.0,9,   -999.0,  22.2356,  23.9990
    49NZ20060120,   P03W,   370,  1,     16, X12022,9,20060120,0659, 26.3885, 126.7037,  328,    100.6,2,  22.1797,2,  22.18148,2,  34.7998,2,-999.0000,9,   196.55,1,   213.16,2,    101.1,2,   216.64,2,  -999.00,9,  -999.00,9,  -999.00,  -999.00,9,  -999.00,  -999.00,9,  -999.00, -999.000,9, -999.000, -999.000,9, -999.000,9, -999.000,9,   -999.0,9,   -999.0,9,-999.0000,9, -999.000,9, -999.000,   -999.0,9,   -999.0,  22.1597,  24.0209
    49NZ20060120,   P03W,   370,  1,     15, X12021,9,20060120,0659, 26.3885, 126.7037,  328,    150.9,2,  19.4769,2,  19.47199,2,  34.8636,2,-999.0000,9,   179.37,1,   194.55,2,    155.6,2,   195.89,2,  -999.00,9,  -999.00,9,  -999.00,  -999.00,9,  -999.00,  -999.00,9,  -999.00, -999.000,9, -999.000, -999.000,9, -999.000,9, -999.000,9,   -999.0,9,   -999.0,9,-999.0000,9, -999.000,9, -999.000,   -999.0,9,   -999.0,  19.4496,  24.8014
    49NZ20060120,   P03W,   370,  1,     14, X12020,9,20060120,0659, 26.3885, 126.7037,  328,    198.5,2,  17.7851,2,  17.78476,2,  34.7993,2,-999.0000,9,   180.53,1,   196.34,2,    200.0,2,   198.36,2,  -999.00,9,  -999.00,9,  -999.00,  -999.00,9,  -999.00,  -999.00,9,  -999.00, -999.000,9, -999.000, -999.000,9, -999.000,9, -999.000,9,   -999.0,9,   -999.0,9,-999.0000,9, -999.000,9, -999.000,   -999.0,9,   -999.0,  17.7513,  25.1793
    49NZ20060120,   P03W,   370,  1,     13, X12019,9,20060120,0659, 26.3885, 126.7037,  328,    250.2,2,  17.1149,2,  17.11178,2,  34.7634,2,-999.0000,9,   182.62,1,   199.72,2,    251.3,2,   200.92,2,  -999.00,9,  -999.00,9,  -999.00,  -999.00,9,  -999.00,  -999.00,9,  -999.00, -999.000,9, -999.000, -999.000,9, -999.000,9, -999.000,9,   -999.0,9,   -999.0,9,-999.0000,9, -999.000,9, -999.000,   -999.0,9,   -999.0,  17.0734,  25.3152
    49NZ20060120,   P03W,   370,  1,      3, X12003,2,20060120,0659, 26.3885, 126.7037,  328,     24.3,2,  22.2565,2,  22.25741,2,  34.7976,2,  34.7961,2,   197.66,1,   215.35,2,     25.5,2,   218.21,2,   215.71,2,     1.37,2,     0.12,     0.04,2,     0.03,     0.00,2,     0.01,    0.049,2,    0.035,    1.822,2,    1.023,2, -999.000,5,   -999.0,9,   -999.0,9,-999.0000,9, -999.000,9, -999.000,   -999.0,9,   -999.0,  22.2517,  23.9933
    49NZ20060120,   P03W,   370,  1,      2, X12044,2,20060120,0659, 26.3885, 126.7037,  328,     73.5,2,  22.2321,2,  22.23224,2,  34.7986,2,  34.7969,2,   197.19,1,   214.06,2,     72.6,2,   217.10,2,   215.31,2,     1.36,2,     0.12,     0.06,2,     0.03,     0.01,2,     0.01,    0.052,2,    0.033,    1.818,2,    1.031,2, -999.000,5,   -999.0,9,   -999.0,9,-999.0000,9, -999.000,9, -999.000,   -999.0,9,   -999.0,  22.2175,  24.0037
    49NZ20060120,   P03W,   370,  1,      1, X12051,2,20060120,0659, 26.3885, 126.7037,  328,    309.1,2,  16.6130,2,  16.62783,2,  34.7242,2,  34.7285,6,   180.77,1,   195.90,2,    310.5,2,   199.58,2,   196.40,2,     6.04,2,     0.13,     6.44,2,     0.05,     0.00,2,     0.01,    0.474,2,    0.013,    2.339,2,    1.246,2,    0.072,4,   -999.0,9,   -999.0,9,-999.0000,9, -999.000,9, -999.000,   -999.0,9,   -999.0,  16.5627,  25.4054