BOTTLE,20220819CCHSIOAMB
EXPOCODE,SECT_ID,STNNBR,CASTNO,SAMPNO,BTLNBR,BTLNBR_FLAG_W,DATE,TIME,LATITUDE,LONGITUDE,DEPTH,CTDPRS,CTDPRS_FLAG_W,CTDTMP,CTDTMP_FLAG_W,SBE35,SBE35_FLAG_W,CTDSAL,CTDSAL_FLAG_W,SALNTY,SALNTY_FLAG_W,CTDOXY,CTDOXY_FLAG_W,OPTOXY,OPTOXY_FLAG_W,DWNPRS,DWNPRS_FLAG_W,DWNOXY,DWNOXY_FLAG_W,OXYGEN,OXYGEN_FLAG_W,SILCAT,SILCAT_FLAG_W,SILUNC,NITRAT,NITRAT_FLAG_W,NRAUNC,NITRIT,NITRIT_FLAG_W,NRIUNC,PHSPHT,PHSPHT_FLAG_W,PHPUNC,CFC-11,CFC-11_FLAG_W,CFC-12,CFC-12_FLAG_W,CFC113,CFC113_FLAG_W,TCARBN,TCARBN_FLAG_W,ALKALI,ALKALI_FLAG_W,PH,PH_FLAG_W,DELC13,DELC13_FLAG_W,C13ERR,DELC14,DELC14_FLAG_W,C14ERR,THETA,SIG0
,,,,,,,,UTC,DEG,DEG,METERS,DBAR,,ITS-90,,ITS-90,,PSS-78,,PSS-78,,UMOL/KG,,UMOL/KG,,DBAR,,UMOL/KG,,UMOL/KG,,UMOL/KG,,UMOL/KG,UMOL/KG,,UMOL/KG,UMOL/KG,,UMOL/KG,UMOL/KG,,UMOL/KG,PMOL/KG,,PMOL/KG,,PMOL/KG,,UMOL/KG,,UMOL/KG,,,,/MILLE,,/MILLE,/MILLE,,/MILLE,DEG C,KG/M^3
    49NZ20060120,   P03W,   406,  1,     36, X12042,2,20060123,2345, 30.0287, 130.4130,  415,      9.9,2,  20.6007,2,  20.60575,2,  34.7187,2,  34.7178,2,   196.99,1,   216.78,2,      8.9,2,   217.39,2,   217.49,2,     2.34,2,     0.12,     1.02,2,     0.04,     0.28,2,     0.01,    0.135,2,    0.019,    1.909,2,    1.086,2,    0.173,2,   1980.9,2,   2284.6,2,   8.0478,6, -999.000,9, -999.000,   -999.0,9,   -999.0,  20.5988,  24.3880
    49NZ20060120,   P03W,   406,  1,     35, X12041,2,20060123,2345, 30.0287, 130.4130,  415,     49.8,2,  20.5971,2,  20.59770,2,  34.7178,2,  34.7176,2,   196.79,1,   215.92,2,     49.7,2,   217.14,2,   217.31,2,     2.33,2,     0.12,     1.01,2,     0.04,     0.28,2,     0.01,    0.138,2,    0.019,    1.908,2,    1.090,2,    0.160,2,   1980.8,6,   2282.2,2,   8.0485,2, -999.000,9, -999.000,   -999.0,9,   -999.0,  20.5877,  24.3904
    49NZ20060120,   P03W,   406,  1,     34, X12016,2,20060123,2345, 30.0287, 130.4130,  415,     99.6,2,  20.5184,2,  20.51788,2,  34.7083,2,  34.7084,2,   196.34,1,   214.61,2,    100.2,2,   216.10,2,   216.63,2,     2.48,2,     0.12,     1.19,2,     0.04,     0.27,2,     0.01,    0.151,2,    0.018,    1.928,2,    1.104,2,    0.165,2,   1983.2,2,   2283.4,6,   8.0465,2, -999.000,9, -999.000,   -999.0,9,   -999.0,  20.4997,  24.4067
    49NZ20060120,   P03W,   406,  1,     33, X12039,2,20060123,2345, 30.0287, 130.4130,  415,    150.3,2,  19.0703,2,  19.07115,2,  34.6313,2,  34.6323,2,   185.80,1,   202.92,2,    149.5,2,   203.64,2,   204.85,2,     5.87,2,     0.13,     4.07,2,     0.04,     0.14,2,     0.01,    0.342,2,    0.014,    1.996,2,    1.125,2,    0.136,2,   2006.6,2,   2282.3,2,   7.9990,6, -999.000,9, -999.000,   -999.0,9,   -999.0,  19.0435,  24.7283
    49NZ20060120,   P03W,   406,  1,     32, X12038,2,20060123,2345, 30.0287, 130.4130,  415,    199.8,2,  16.3801,2,  16.38342,2,  34.5936,2,  34.5951,2,   162.28,1,   176.28,2,    197.7,2,   176.16,2,   177.98,2,    14.17,2,     0.15,     9.96,2,     0.06,     0.02,2,     0.01,    0.748,2,    0.013,    2.025,2,    1.108,2,    0.081,2,   2066.0,2,   2284.7,2,   7.8999,2, -999.000,9, -999.000,   -999.0,9,   -999.0,  16.3481,  25.3550
    49NZ20060120,   P03W,   406,  1,     31, X12037,2,20060123,2345, 30.0287, 130.4130,  415,    251.1,2,  13.8269,2,  13.82151,2,  34.5199,2,  34.5213,2,   145.65,1,   159.94,2,    252.7,2,   155.83,2,   159.46,2,    22.21,2,     0.17,    14.79,2,     0.07,     0.01,2,     0.01,    1.094,2,    0.013,    1.955,6,    1.020,6,    0.047,6,   2107.9,2,   2287.8,2,   7.8171,2, -999.000,9, -999.000,   -999.0,9,   -999.0,  13.7910,  25.8596
    49NZ20060120,   P03W,   406,  1,     30, X12008,2,20060123,2345, 30.0287, 130.4130,  415,    301.3,2,  12.4384,2,  12.43604,2,  34.4574,2,  34.4548,2,   137.70,1,   150.92,2,    296.2,2,   150.20,2,   150.60,2,    27.79,2,     0.18,    17.79,2,     0.08,     0.00,2,     0.01,    1.310,2,    0.014,    1.920,2,    0.987,2,    0.037,2,   2133.4,2,   2290.6,2,   7.7701,2, -999.000,9, -999.000,   -999.0,9,   -999.0,  12.3982,  26.0911
    49NZ20060120,   P03W,   406,  1,     21, X12009,9,20060123,2345, 30.0287, 130.4130,  415,     25.6,2,  20.5921,2,  20.59264,2,  34.7180,2,-999.0000,9,   196.84,1,   216.41,2,     25.5,2,   217.11,2,  -999.00,9,  -999.00,9,  -999.00,  -999.00,9,  -999.00,  -999.00,9,  -999.00, -999.000,9, -999.000, -999.000,9, -999.000,9, -999.000,9,   -999.0,9,   -999.0,9,-999.0000,9, -999.000,9, -999.000,   -999.0,9,   -999.0,  20.5873,  24.3906
    49NZ20060120,   P03W,   406,  1,     20, X12026,9,20060123,2345, 30.0287, 130.4130,  415,     75.2,2,  20.5979,2,  20.59851,2,  34.7177,2,-999.0000,9,   196.86,1,   215.57,2,     75.1,2,   217.26,2,  -999.00,9,  -999.00,9,  -999.00,  -999.00,9,  -999.00,  -999.00,9,  -999.00, -999.000,9, -999.000, -999.000,9, -999.000,9, -999.000,9,   -999.0,9,   -999.0,9,-999.0000,9, -999.000,9, -999.000,   -999.0,9,   -999.0,  20.5838,  24.3913
    49NZ20060120,   P03W,   406,  1,     19, X12025,9,20060123,2345, 30.0287, 130.4130,  415,    407.6,2,   7.5347,2,   7.53346,2,  34.3284,2,-999.0000,9,    99.55,1,   107.80,2,    405.3,2,   105.90,2,  -999.00,9,  -999.00,9,  -999.00,  -999.00,9,  -999.00,  -999.00,9,  -999.00, -999.000,9, -999.000, -999.000,9, -999.000,9, -999.000,9,   -999.0,9,   -999.0,9,-999.0000,9, -999.000,9, -999.000,   -999.0,9,   -999.0,   7.4947,  26.8202
    49NZ20060120,   P03W,   406,  1,     18, X12024,9,20060123,2345, 30.0287, 130.4130,  415,     10.0,2,  20.6509,2,  20.65089,2,  34.7211,2,-999.0000,9,   196.93,1,   216.71,2,      6.7,2,   217.36,2,  -999.00,9,  -999.00,9,  -999.00,  -999.00,9,  -999.00,  -999.00,9,  -999.00, -999.000,9, -999.000, -999.000,9, -999.000,9, -999.000,9,   -999.0,9,   -999.0,9,-999.0000,9, -999.000,9, -999.000,   -999.0,9,   -999.0,  20.6490,  24.3764
    49NZ20060120,   P03W,   406,  1,     17, X12023,9,20060123,2345, 30.0287, 130.4130,  415,     49.5,2,  20.5967,2,  20.59715,2,  34.7179,2,-999.0000,9,   196.95,1,   216.04,2,     49.4,2,   217.09,2,  -999.00,9,  -999.00,9,  -999.00,  -999.00,9,  -999.00,  -999.00,9,  -999.00, -999.000,9, -999.000, -999.000,9, -999.000,9, -999.000,9,   -999.0,9,   -999.0,9,-999.0000,9, -999.000,9, -999.000,   -999.0,9,   -999.0,  20.5874,  24.3905
    49NZ20060120,   P03W,   406,  1,     16, X12022,9,20060123,2345, 30.0287, 130.4130,  415,    100.0,2,  20.5102,2,  20.51080,2,  34.7071,2,-999.0000,9,   196.34,1,   214.73,2,    100.8,2,   216.09,2,  -999.00,9,  -999.00,9,  -999.00,  -999.00,9,  -999.00,  -999.00,9,  -999.00, -999.000,9, -999.000, -999.000,9, -999.000,9, -999.000,9,   -999.0,9,   -999.0,9,-999.0000,9, -999.000,9, -999.000,   -999.0,9,   -999.0,  20.4914,  24.4080
    49NZ20060120,   P03W,   406,  1,     15, X12021,9,20060123,2345, 30.0287, 130.4130,  415,    150.2,2,  19.0707,2,  19.07101,2,  34.6315,2,-999.0000,9,   185.94,1,   203.23,2,    149.4,2,   203.64,2,  -999.00,9,  -999.00,9,  -999.00,  -999.00,9,  -999.00,  -999.00,9,  -999.00, -999.000,9, -999.000, -999.000,9, -999.000,9, -999.000,9,   -999.0,9,   -999.0,9,-999.0000,9, -999.000,9, -999.000,   -999.0,9,   -999.0,  19.0439,  24.7283
    49NZ20060120,   P03W,   406,  1,     14, X12020,9,20060123,2345, 30.0287, 130.4130,  415,    199.9,2,  16.3585,2,  16.37581,2,  34.5960,2,-999.0000,9,   162.27,1,   177.33,2,    198.1,2,   175.78,2,  -999.00,9,  -999.00,9,  -999.00,  -999.00,9,  -999.00,  -999.00,9,  -999.00, -999.000,9, -999.000, -999.000,9, -999.000,9, -999.000,9,   -999.0,9,   -999.0,9,-999.0000,9, -999.000,9, -999.000,   -999.0,9,   -999.0,  16.3265,  25.3618
    49NZ20060120,   P03W,   406,  1,     13, X12019,9,20060123,2345, 30.0287, 130.4130,  415,    251.3,2,  13.8687,2,  13.87551,2,  34.5200,2,-999.0000,9,   145.48,1,   159.45,2,    252.2,2,   156.60,2,  -999.00,9,  -999.00,9,  -999.00,  -999.00,9,  -999.00,  -999.00,9,  -999.00, -999.000,9, -999.000, -999.000,9, -999.000,9, -999.000,9,   -999.0,9,   -999.0,9,-999.0000,9, -999.000,9, -999.000,   -999.0,9,   -999.0,  13.8327,  25.8510
    49NZ20060120,   P03W,   406,  1,     12, X12018,9,20060123,2345, 30.0287, 130.4130,  415,    301.4,2,  12.4317,2,  12.43286,2,  34.4572,2,-999.0000,9,   137.65,1,   151.06,2,    296.6,2,   150.25,2,  -999.00,9,  -999.00,9,  -999.00,  -999.00,9,  -999.00,  -999.00,9,  -999.00, -999.000,9, -999.000, -999.000,9, -999.000,9, -999.000,9,   -999.0,9,   -999.0,9,-999.0000,9, -999.000,9, -999.000,   -999.0,9,   -999.0,  12.3915,  26.0922
    49NZ20060120,   P03W,   406,  1,      3, X12003,2,20060123,2345, 30.0287, 130.4130,  415,     25.4,2,  20.5906,2,  20.59194,2,  34.7180,2,  34.7173,2,   196.82,1,   216.43,2,     25.3,2,   217.12,2,   217.30,2,     2.29,2,     0.12,     1.01,2,     0.04,     0.28,2,     0.01,    0.142,2,    0.018,    1.911,2,    1.098,2,    0.171,2,   1981.1,2,   2281.4,2,   8.0496,2, -999.000,9, -999.000,   -999.0,9,   -999.0,  20.5858,  24.3910
    49NZ20060120,   P03W,   406,  1,      2, X12044,2,20060123,2345, 30.0287, 130.4130,  415,     75.1,2,  20.5983,2,  20.59912,2,  34.7177,2,  34.7177,2,   197.02,1,   215.52,2,     75.0,2,   217.26,2,   217.35,2,     2.29,2,     0.12,     1.01,2,     0.04,     0.28,2,     0.01,    0.144,2,    0.018,    1.921,2,    1.105,2,    0.170,2,   1980.7,2,   2281.5,2,   8.0496,2, -999.000,9, -999.000,   -999.0,9,   -999.0,  20.5842,  24.3912
    49NZ20060120,   P03W,   406,  1,      1, X12051,2,20060123,2345, 30.0287, 130.4130,  415,    407.4,2,   7.4932,2,   7.50045,2,  34.3303,2,  34.3269,6,    99.58,1,   107.75,2,    406.2,2,   106.24,2,   108.47,2,    66.29,2,     0.26,    29.50,2,     0.12,     0.00,2,     0.01,    2.162,2,    0.015,    1.116,2,    0.544,2,    0.034,2,   2232.5,2,   2316.8,2,   7.5895,2, -999.000,9, -999.000,   -999.0,9,   -999.0,   7.4534,  26.8276
    49NZ20060120,   P03W,   408,  1,     36, X12042,2,20060124,0147, 30.1132, 130.4705,  241,      9.8,2,  20.4728,2,  20.47426,2,  34.6832,2,  34.6835,2,   196.82,1,   216.20,2,     10.9,2,   216.80,2,   217.13,2,     2.82,2,     0.13,     1.40,2,     0.04,     0.25,2,     0.01,    0.163,2,    0.017,    1.927,2,    1.080,2,    0.131,2,   1983.5,2,   2280.1,2,   8.0441,6, -999.000,9, -999.000,   -999.0,9,   -999.0,  20.4710,  24.3952
    49NZ20060120,   P03W,   408,  1,     35, X12041,2,20060124,0147, 30.1132, 130.4705,  241,     50.2,2,  20.1825,2,  20.18340,2,  34.6512,2,  34.6518,2,   196.72,1,   215.70,2,     50.5,2,   216.86,2,   216.65,2,     3.17,2,     0.13,     1.69,2,     0.04,     0.27,2,     0.01,    0.184,2,    0.016,    1.968,2,    1.113,2,    0.182,4,   1984.5,6,   2279.0,2,   8.0395,2, -999.000,9, -999.000,   -999.0,9,   -999.0,  20.1732,  24.4500
    49NZ20060120,   P03W,   408,  1,     34, X12016,2,20060124,0147, 30.1132, 130.4705,  241,    100.2,2,  19.7882,2,  19.78922,2,  34.6170,2,  34.6179,2,   197.76,1,   216.04,2,    101.5,2,   217.72,2,   217.62,2,     3.47,2,     0.13,     1.91,2,     0.04,     0.32,2,     0.01,    0.206,2,    0.016,    1.998,2,    1.121,2, -999.000,5,   1985.1,2,   2279.1,2,   8.0349,2, -999.000,9, -999.000,   -999.0,9,   -999.0,  19.7699,  24.5299
    49NZ20060120,   P03W,   408,  1,     33, X12039,2,20060124,0147, 30.1132, 130.4705,  241,    149.7,2,  19.5417,2,  19.54292,2,  34.6147,2,  34.6151,2,   196.53,1,   214.58,2,    150.5,2,   215.36,2,   215.88,2,     4.10,2,     0.13,     2.46,2,     0.04,     0.25,2,     0.01,    0.239,2,    0.015,    2.011,2,    1.119,2, -999.000,5,   1990.9,2,   2275.0,2,   8.0272,6, -999.000,9, -999.000,   -999.0,9,   -999.0,  19.5145,  24.5946
    49NZ20060120,   P03W,   408,  1,     32, X12038,2,20060124,0147, 30.1132, 130.4705,  241,    199.9,2,  17.3448,2,  17.34459,2,  34.5971,2,  34.5967,2,   171.22,1,   187.12,2,    201.3,2,   170.17,2,   186.66,2,    11.77,2,     0.14,     7.99,2,     0.06,     0.09,2,     0.01,    0.612,2,    0.013,    2.019,2,    1.086,2, -999.000,5,   2045.8,2,   2278.9,2,   7.9377,2, -999.000,9, -999.000,   -999.0,9,   -999.0,  17.3114,  25.1307
    49NZ20060120,   P03W,   408,  1,     21, X12009,9,20060124,0147, 30.1132, 130.4705,  241,     24.8,2,  20.4788,2,  20.47930,2,  34.6822,2,-999.0000,9,   196.86,1,   215.87,2,     25.2,2,   216.48,2,  -999.00,9,  -999.00,9,  -999.00,  -999.00,9,  -999.00,  -999.00,9,  -999.00, -999.000,9, -999.000, -999.000,9, -999.000,9, -999.000,9,   -999.0,9,   -999.0,9,-999.0000,9, -999.000,9, -999.000,   -999.0,9,   -999.0,  20.4742,  24.3936
    49NZ20060120,   P03W,   408,  1,     20, X12026,9,20060124,0147, 30.1132, 130.4705,  241,     74.4,2,  19.9673,2,  19.96778,2,  34.6312,2,-999.0000,9,   197.05,1,   215.87,2,     74.3,2,   217.20,2,  -999.00,9,  -999.00,9,  -999.00,  -999.00,9,  -999.00,  -999.00,9,  -999.00, -999.000,9, -999.000, -999.000,9, -999.000,9, -999.000,9,   -999.0,9,   -999.0,9,-999.0000,9, -999.000,9, -999.000,   -999.0,9,   -999.0,  19.9536,  24.4926
    49NZ20060120,   P03W,   408,  1,     19, X12025,9,20060124,0147, 30.1132, 130.4705,  241,    229.2,2,  13.6817,2,  13.68267,2,  34.5106,2,-999.0000,9,   147.59,1,   160.21,2,    228.6,2,   161.95,2,  -999.00,9,  -999.00,9,  -999.00,  -999.00,9,  -999.00,  -999.00,9,  -999.00, -999.000,9, -999.000, -999.000,9, -999.000,9, -999.000,9,   -999.0,9,   -999.0,9,-999.0000,9, -999.000,9, -999.000,   -999.0,9,   -999.0,  13.6492,  25.8818
    49NZ20060120,   P03W,   408,  1,     18, X12024,9,20060124,0147, 30.1132, 130.4705,  241,      9.8,2,  20.4767,2,  20.47757,2,  34.6829,2,-999.0000,9,   196.78,1,   216.20,2,     10.5,2,   216.76,2,  -999.00,9,  -999.00,9,  -999.00,  -999.00,9,  -999.00,  -999.00,9,  -999.00, -999.000,9, -999.000, -999.000,9, -999.000,9, -999.000,9,   -999.0,9,   -999.0,9,-999.0000,9, -999.000,9, -999.000,   -999.0,9,   -999.0,  20.4749,  24.3939
    49NZ20060120,   P03W,   408,  1,     17, X12023,2,20060124,0147, 30.1132, 130.4705,  241,     50.1,2,  20.1842,2,  20.18498,2,  34.6516,2,-999.0000,9,   196.67,1,   215.73,2,     50.5,2,   216.85,2,  -999.00,9,  -999.00,9,  -999.00,  -999.00,9,  -999.00,  -999.00,9,  -999.00, -999.000,9, -999.000, -999.000,9, -999.000,9, -999.000,9,   -999.0,9,   -999.0,9,-999.0000,9, -999.000,9, -999.000,   -999.0,9,   -999.0,  20.1749,  24.4499
    49NZ20060120,   P03W,   408,  1,     16, X12022,2,20060124,0147, 30.1132, 130.4705,  241,    100.1,2,  19.7892,2,  19.79032,2,  34.6173,2,-999.0000,9,   197.65,1,   216.08,2,    101.4,2,   217.70,2,  -999.00,9,  -999.00,9,  -999.00,  -999.00,9,  -999.00,  -999.00,9,  -999.00, -999.000,9, -999.000, -999.000,9, -999.000,9, -999.000,9,   -999.0,9,   -999.0,9,-999.0000,9, -999.000,9, -999.000,   -999.0,9,   -999.0,  19.7709,  24.5299
    49NZ20060120,   P03W,   408,  1,     15, X12021,9,20060124,0147, 30.1132, 130.4705,  241,    150.0,2,  19.5442,2,  19.54444,2,  34.6150,2,-999.0000,9,   196.62,1,   214.56,2,    150.6,2,   215.35,2,  -999.00,9,  -999.00,9,  -999.00,  -999.00,9,  -999.00,  -999.00,9,  -999.00, -999.000,9, -999.000, -999.000,9, -999.000,9, -999.000,9,   -999.0,9,   -999.0,9,-999.0000,9, -999.000,9, -999.000,   -999.0,9,   -999.0,  19.5170,  24.5942
    49NZ20060120,   P03W,   408,  1,     14, X12020,9,20060124,0147, 30.1132, 130.4705,  241,    200.1,2,  17.3425,2,  17.34234,2,  34.5980,2,-999.0000,9,   171.31,1,   187.94,2,    201.4,2,   169.96,2,  -999.00,9,  -999.00,9,  -999.00,  -999.00,9,  -999.00,  -999.00,9,  -999.00, -999.000,9, -999.000, -999.000,9, -999.000,9, -999.000,9,   -999.0,9,   -999.0,9,-999.0000,9, -999.000,9, -999.000,   -999.0,9,   -999.0,  17.3091,  25.1320
    49NZ20060120,   P03W,   408,  1,      3, X12003,2,20060124,0147, 30.1132, 130.4705,  241,     24.8,2,  20.4785,2,  20.47911,2,  34.6817,2,  34.6806,2,   196.77,1,   216.07,2,     25.2,2,   216.48,2,   217.06,2,     2.76,2,     0.13,     1.36,2,     0.04,     0.25,2,     0.01,    0.164,2,    0.017,    1.921,2,    1.084,2, -999.000,5,   1980.9,2,   2278.4,2,   8.0455,2, -999.000,9, -999.000,   -999.0,9,   -999.0,  20.4739,  24.3933
    49NZ20060120,   P03W,   408,  1,      2, X12044,2,20060124,0147, 30.1132, 130.4705,  241,     74.6,2,  19.9674,2,  19.96945,2,  34.6310,2,  34.6309,2,   197.11,1,   215.72,2,     74.3,2,   217.21,2,   217.16,2,     3.37,2,     0.13,     1.84,2,     0.04,     0.30,2,     0.01,    0.198,2,    0.016,    1.974,2,    1.109,2,    0.178,4,   1984.7,2,   2278.1,2,   8.0368,2, -999.000,9, -999.000,   -999.0,9,   -999.0,  19.9537,  24.4924
    49NZ20060120,   P03W,   408,  1,      1, X12051,2,20060124,0147, 30.1132, 130.4705,  241,    229.2,2,  13.6756,2,  13.67613,2,  34.5104,2,  34.5099,6,   147.50,1,   159.83,2,    228.9,2,   161.88,2,   161.74,2,    22.76,2,     0.17,    14.82,2,     0.07,     0.03,2,     0.01,    1.094,2,    0.013,    2.037,6,    1.052,6, -999.000,5,   2109.4,2,   2287.4,2,   7.8176,2, -999.000,9, -999.000,   -999.0,9,   -999.0,  13.6431,  25.8829