BOTTLE,20220819CCHSIOAMB
EXPOCODE,SECT_ID,STNNBR,CASTNO,SAMPNO,BTLNBR,BTLNBR_FLAG_W,DATE,TIME,LATITUDE,LONGITUDE,DEPTH,CTDPRS,CTDPRS_FLAG_W,CTDTMP,CTDTMP_FLAG_W,SBE35,SBE35_FLAG_W,CTDSAL,CTDSAL_FLAG_W,SALNTY,SALNTY_FLAG_W,CTDOXY,CTDOXY_FLAG_W,OPTOXY,OPTOXY_FLAG_W,DWNPRS,DWNPRS_FLAG_W,DWNOXY,DWNOXY_FLAG_W,OXYGEN,OXYGEN_FLAG_W,SILCAT,SILCAT_FLAG_W,SILUNC,NITRAT,NITRAT_FLAG_W,NRAUNC,NITRIT,NITRIT_FLAG_W,NRIUNC,PHSPHT,PHSPHT_FLAG_W,PHPUNC,CFC-11,CFC-11_FLAG_W,CFC-12,CFC-12_FLAG_W,CFC113,CFC113_FLAG_W,TCARBN,TCARBN_FLAG_W,ALKALI,ALKALI_FLAG_W,PH,PH_FLAG_W,DELC13,DELC13_FLAG_W,C13ERR,DELC14,DELC14_FLAG_W,C14ERR,THETA,SIG0
,,,,,,,,UTC,DEG,DEG,METERS,DBAR,,ITS-90,,ITS-90,,PSS-78,,PSS-78,,UMOL/KG,,UMOL/KG,,DBAR,,UMOL/KG,,UMOL/KG,,UMOL/KG,,UMOL/KG,UMOL/KG,,UMOL/KG,UMOL/KG,,UMOL/KG,UMOL/KG,,UMOL/KG,PMOL/KG,,PMOL/KG,,PMOL/KG,,UMOL/KG,,UMOL/KG,,,,/MILLE,,/MILLE,/MILLE,,/MILLE,DEG C,KG/M^3
    49NZ20060120,   P03W,   402,  1,     36, X12042,2,20060123,1938, 29.7425, 130.2753,  304,     10.2,2,  20.7540,2,  20.75493,2,  34.7045,2,  34.7042,2,   196.12,1,   215.74,2,     11.1,2,   216.61,2,   216.45,2,     2.33,2,     0.12,     1.12,2,     0.04,     0.27,2,     0.01,    0.139,2,    0.019,    1.887,2,    1.104,2,    0.163,2,   1981.2,2,   2280.5,2,   8.0469,6, -999.000,9, -999.000,   -999.0,9,   -999.0,  20.7521,  24.3360
    49NZ20060120,   P03W,   402,  1,     35, X12041,2,20060123,1938, 29.7425, 130.2753,  304,     49.7,2,  20.7735,2,  20.77388,2,  34.7059,2,  34.7051,2,   195.85,1,   214.56,2,     51.6,2,   216.01,2,   216.10,2,     2.28,2,     0.12,     1.13,2,     0.04,     0.27,2,     0.01,    0.139,2,    0.019,    1.899,2,    1.096,2,    0.163,2,   1980.9,6,   2279.8,2,   8.0477,2, -999.000,9, -999.000,   -999.0,9,   -999.0,  20.7641,  24.3339
    49NZ20060120,   P03W,   402,  1,     34, X12016,2,20060123,1938, 29.7425, 130.2753,  304,    100.6,2,  20.5501,2,  20.55002,2,  34.7141,2,  34.7151,2,   189.39,1,   206.85,2,    101.0,2,   207.59,2,   208.91,2,     3.26,2,     0.13,     2.08,2,     0.04,     0.22,2,     0.01,    0.200,2,    0.016,    1.915,2,    1.093,2,    0.156,2,   1990.5,2,   2280.8,6,   8.0315,2, -999.000,9, -999.000,   -999.0,9,   -999.0,  20.5312,  24.4027
    49NZ20060120,   P03W,   402,  1,     33, X12039,2,20060123,1938, 29.7425, 130.2753,  304,    150.2,2,  18.5745,2,  18.56840,2,  34.6745,2,  34.6768,2,   173.28,1,   189.50,2,    148.3,2,   190.19,2,   190.97,2,     7.84,2,     0.14,     5.93,2,     0.05,     0.05,2,     0.01,    0.458,2,    0.013,    1.988,2,    1.123,2,    0.100,2,   2031.3,2,   2285.1,2,   7.9650,6, -999.000,9, -999.000,   -999.0,9,   -999.0,  18.5482,  24.8865
    49NZ20060120,   P03W,   402,  1,     32, X12038,2,20060123,1938, 29.7425, 130.2753,  304,    199.9,2,  15.0030,2,  15.00529,2,  34.5844,2,  34.5831,2,   151.74,1,   166.03,2,    201.2,2,   166.10,2,   166.40,2,    18.18,2,     0.16,    12.58,2,     0.07,     0.02,2,     0.01,    0.925,2,    0.013,    1.995,2,    1.064,2,    0.056,2,   2093.1,2,   2286.3,2,   7.8535,2, -999.000,9, -999.000,   -999.0,9,   -999.0,  14.9728,  25.6575
    49NZ20060120,   P03W,   402,  1,     31, X12037,2,20060123,1938, 29.7425, 130.2753,  304,    250.1,2,  12.8867,2,  12.88867,2,  34.4839,2,  34.4824,2,   141.27,1,   155.63,2,    250.3,2,   153.73,2,   154.53,2,    25.77,2,     0.18,    16.65,2,     0.08,     0.01,2,     0.01,    1.226,2,    0.013,    1.933,6,    1.004,6,    0.040,6,   2125.0,2,   2285.0,2,   7.7865,2, -999.000,9, -999.000,   -999.0,9,   -999.0,  12.8526,  26.0224
    49NZ20060120,   P03W,   402,  1,     21, X12009,9,20060123,1938, 29.7425, 130.2753,  304,     25.3,2,  20.7672,2,  20.76761,2,  34.7052,2,-999.0000,9,   195.91,1,   215.27,2,     26.7,2,   216.42,2,  -999.00,9,  -999.00,9,  -999.00,  -999.00,9,  -999.00,  -999.00,9,  -999.00, -999.000,9, -999.000, -999.000,9, -999.000,9, -999.000,9,   -999.0,9,   -999.0,9,-999.0000,9, -999.000,9, -999.000,   -999.0,9,   -999.0,  20.7624,  24.3338
    49NZ20060120,   P03W,   402,  1,     20, X12026,9,20060123,1938, 29.7425, 130.2753,  304,     75.5,2,  20.7777,2,  20.77810,2,  34.7054,2,-999.0000,9,   195.79,1,   214.24,2,     76.0,2,   213.57,2,  -999.00,9,  -999.00,9,  -999.00,  -999.00,9,  -999.00,  -999.00,9,  -999.00, -999.000,9, -999.000, -999.000,9, -999.000,9, -999.000,9,   -999.0,9,   -999.0,9,-999.0000,9, -999.000,9, -999.000,   -999.0,9,   -999.0,  20.7634,  24.3336
    49NZ20060120,   P03W,   402,  1,     19, X12025,9,20060123,1938, 29.7425, 130.2753,  304,    295.6,2,  11.1483,2,  11.14388,2,  34.4065,2,-999.0000,9,   131.81,1,   144.13,2,    295.6,2,   144.62,2,  -999.00,9,  -999.00,9,  -999.00,  -999.00,9,  -999.00,  -999.00,9,  -999.00, -999.000,9, -999.000, -999.000,9, -999.000,9, -999.000,9,   -999.0,9,   -999.0,9,-999.0000,9, -999.000,9, -999.000,   -999.0,9,   -999.0,  11.1116,  26.2931
    49NZ20060120,   P03W,   402,  1,     18, X12024,9,20060123,1938, 29.7425, 130.2753,  304,     10.1,2,  20.7538,2,  20.75488,2,  34.7048,2,-999.0000,9,   196.02,1,   215.73,2,     11.0,2,   216.62,2,  -999.00,9,  -999.00,9,  -999.00,  -999.00,9,  -999.00,  -999.00,9,  -999.00, -999.000,9, -999.000, -999.000,9, -999.000,9, -999.000,9,   -999.0,9,   -999.0,9,-999.0000,9, -999.000,9, -999.000,   -999.0,9,   -999.0,  20.7519,  24.3363
    49NZ20060120,   P03W,   402,  1,     17, X12023,9,20060123,1938, 29.7425, 130.2753,  304,     49.9,2,  20.7736,2,  20.77416,2,  34.7068,2,-999.0000,9,   195.69,1,   214.56,2,     51.9,2,   216.01,2,  -999.00,9,  -999.00,9,  -999.00,  -999.00,9,  -999.00,  -999.00,9,  -999.00, -999.000,9, -999.000, -999.000,9, -999.000,9, -999.000,9,   -999.0,9,   -999.0,9,-999.0000,9, -999.000,9, -999.000,   -999.0,9,   -999.0,  20.7642,  24.3345
    49NZ20060120,   P03W,   402,  1,     16, X12022,9,20060123,1938, 29.7425, 130.2753,  304,    100.9,2,  20.5675,2,  20.56856,2,  34.7142,2,-999.0000,9,   189.56,1,   207.37,2,    100.4,2,   207.73,2,  -999.00,9,  -999.00,9,  -999.00,  -999.00,9,  -999.00,  -999.00,9,  -999.00, -999.000,9, -999.000, -999.000,9, -999.000,9, -999.000,9,   -999.0,9,   -999.0,9,-999.0000,9, -999.000,9, -999.000,   -999.0,9,   -999.0,  20.5485,  24.3981
    49NZ20060120,   P03W,   402,  1,     15, X12021,9,20060123,1938, 29.7425, 130.2753,  304,    150.4,2,  18.5430,2,  18.54677,2,  34.6705,2,-999.0000,9,   173.32,1,   189.54,2,    148.8,2,   190.24,2,  -999.00,9,  -999.00,9,  -999.00,  -999.00,9,  -999.00,  -999.00,9,  -999.00, -999.000,9, -999.000, -999.000,9, -999.000,9, -999.000,9,   -999.0,9,   -999.0,9,-999.0000,9, -999.000,9, -999.000,   -999.0,9,   -999.0,  18.5167,  24.8914
    49NZ20060120,   P03W,   402,  1,     14, X12020,9,20060123,1938, 29.7425, 130.2753,  304,    199.6,2,  14.9709,2,  14.97270,2,  34.5835,2,-999.0000,9,   151.51,1,   166.16,2,    201.7,2,   166.05,2,  -999.00,9,  -999.00,9,  -999.00,  -999.00,9,  -999.00,  -999.00,9,  -999.00, -999.000,9, -999.000, -999.000,9, -999.000,9, -999.000,9,   -999.0,9,   -999.0,9,-999.0000,9, -999.000,9, -999.000,   -999.0,9,   -999.0,  14.9408,  25.6638
    49NZ20060120,   P03W,   402,  1,     13, X12019,9,20060123,1938, 29.7425, 130.2753,  304,    250.0,2,  12.8806,2,  12.88145,2,  34.4838,2,-999.0000,9,   141.20,1,   155.83,2,    250.4,2,   153.72,2,  -999.00,9,  -999.00,9,  -999.00,  -999.00,9,  -999.00,  -999.00,9,  -999.00, -999.000,9, -999.000, -999.000,9, -999.000,9, -999.000,9,   -999.0,9,   -999.0,9,-999.0000,9, -999.000,9, -999.000,   -999.0,9,   -999.0,  12.8465,  26.0236
    49NZ20060120,   P03W,   402,  1,      3, X12003,2,20060123,1938, 29.7425, 130.2753,  304,     25.2,2,  20.7668,2,  20.76720,2,  34.7045,2,  34.7046,2,   195.93,1,   215.25,2,     26.5,2,   216.43,2,   216.36,2,     2.27,2,     0.12,     1.10,2,     0.04,     0.27,2,     0.01,    0.142,2,    0.018,    1.885,2,    1.091,2,    0.174,2,   1980.7,2,   2283.5,2,   8.0491,2, -999.000,9, -999.000,   -999.0,9,   -999.0,  20.7620,  24.3333
    49NZ20060120,   P03W,   402,  1,      2, X12044,2,20060123,1938, 29.7425, 130.2753,  304,     75.8,2,  20.7788,2,  20.77955,2,  34.7039,2,  34.7037,2,   195.90,1,   214.35,2,     76.0,2,   213.57,2,   216.15,2,     2.28,2,     0.12,     1.12,2,     0.04,     0.27,2,     0.01,    0.144,2,    0.018,    1.883,2,    1.093,2,    0.169,2,   1980.0,2,   2282.7,2,   8.0487,2, -999.000,9, -999.000,   -999.0,9,   -999.0,  20.7644,  24.3322
    49NZ20060120,   P03W,   402,  1,      1, X12051,2,20060123,1938, 29.7425, 130.2753,  304,    295.6,2,  11.2039,2,  11.17919,2,  34.4085,2,  34.4085,6,   132.07,1,   143.75,2,    295.0,2,   144.51,2,   144.84,2,    34.12,2,     0.19,    20.09,2,     0.09,     0.01,2,     0.01,    1.475,2,    0.014,    1.809,2,    0.911,2,    0.042,2,   2152.0,2,   2292.0,2,   7.7302,2, -999.000,9, -999.000,   -999.0,9,   -999.0,  11.1671,  26.2846
    49NZ20060120,   P03W,   404,  1,     36, X12042,2,20060123,2140, 29.9438, 130.3765,  416,     10.2,2,  20.7683,2,  20.76865,2,  34.6898,2,  34.6891,2,   196.10,1,   215.83,2,      9.7,2,   216.87,2,   216.40,2,     2.38,2,     0.12,     1.08,2,     0.04,     0.31,2,     0.01,    0.141,2,    0.018,    1.921,2,    1.084,2, -999.000,5,   1978.8,2,   2279.0,2,   8.0490,6, -999.000,9, -999.000,   -999.0,9,   -999.0,  20.7664,  24.3209
    49NZ20060120,   P03W,   404,  1,     35, X12041,2,20060123,2140, 29.9438, 130.3765,  416,     50.7,2,  20.7758,2,  20.77636,2,  34.6922,2,  34.6928,2,   196.10,1,   215.23,2,     51.1,2,   216.49,2,   216.42,2,     2.30,2,     0.12,     1.05,2,     0.04,     0.31,2,     0.01,    0.140,2,    0.018,    1.937,2,    1.097,2, -999.000,5,   1979.6,6,   2283.2,2,   8.0497,2, -999.000,9, -999.000,   -999.0,9,   -999.0,  20.7662,  24.3229
    49NZ20060120,   P03W,   404,  1,     34, X12016,2,20060123,2140, 29.9438, 130.3765,  416,     99.7,2,  20.5823,2,  20.58761,2,  34.7136,2,  34.7153,2,   191.64,1,   210.08,2,     99.2,2,   207.54,2,   211.84,2,     2.83,2,     0.13,     1.62,2,     0.04,     0.26,2,     0.01,    0.175,2,    0.017,    1.956,2,    1.105,2, -999.000,5,   1986.0,2,   2283.7,6,   8.0390,2, -999.000,9, -999.000,   -999.0,9,   -999.0,  20.5635,  24.3936
    49NZ20060120,   P03W,   404,  1,     33, X12039,2,20060123,2140, 29.9438, 130.3765,  416,    150.1,2,  18.1811,2,  18.17529,2,  34.6706,2,  34.6715,2,   169.30,1,   185.40,2,    154.0,2,   185.59,2,   186.88,2,     8.87,2,     0.14,     6.67,2,     0.05,     0.04,2,     0.01,    0.511,2,    0.013,    2.055,2,    1.126,2, -999.000,5,   2038.9,2,   2286.4,2,   7.9521,6, -999.000,9, -999.000,   -999.0,9,   -999.0,  18.1552,  24.9814
    49NZ20060120,   P03W,   404,  1,     32, X12038,2,20060123,2140, 29.9438, 130.3765,  416,    200.9,2,  15.8040,2,  15.78551,2,  34.6011,2,  34.6033,2,   155.79,1,   170.94,2,    199.6,2,   164.28,2,   170.81,2,    15.74,2,     0.15,    11.10,2,     0.06,     0.02,2,     0.01,    0.825,2,    0.013,    2.060,2,    1.088,2, -999.000,5,   2077.7,2,   2287.6,2,   7.8787,2, -999.000,9, -999.000,   -999.0,9,   -999.0,  15.7726,  25.4924
    49NZ20060120,   P03W,   404,  1,     31, X12037,2,20060123,2140, 29.9438, 130.3765,  416,    250.4,2,  12.8160,2,  12.81384,2,  34.4768,2,  34.4780,2,   139.75,1,   153.21,2,    256.8,2,   153.52,2,   152.77,2,    26.02,2,     0.18,    16.89,2,     0.08,     0.01,2,     0.01,    1.243,2,    0.013,    1.967,6,    1.004,6, -999.000,5,   2126.2,2,   2287.0,2,   7.7814,2, -999.000,9, -999.000,   -999.0,9,   -999.0,  12.7820,  26.0309
    49NZ20060120,   P03W,   404,  1,     30, X12008,2,20060123,2140, 29.9438, 130.3765,  416,    302.4,2,  11.8137,2,  11.81762,2,  34.4328,2,  34.4330,2,   134.00,1,   147.06,2,    306.6,2,   146.00,2,   146.25,2,    31.25,2,     0.19,    19.11,2,     0.09,     0.02,2,     0.01,    1.403,2,    0.014,    1.875,2,    0.948,2,    0.053,2,   2142.0,2,   2287.6,2,   7.7491,2, -999.000,9, -999.000,   -999.0,9,   -999.0,  11.7747,  26.1912
    49NZ20060120,   P03W,   404,  1,     21, X12009,9,20060123,2140, 29.9438, 130.3765,  416,     25.1,2,  20.7752,2,  20.77574,2,  34.6911,2,-999.0000,9,   196.35,1,   215.74,2,     24.4,2,   216.64,2,  -999.00,9,  -999.00,9,  -999.00,  -999.00,9,  -999.00,  -999.00,9,  -999.00, -999.000,9, -999.000, -999.000,9, -999.000,9, -999.000,9,   -999.0,9,   -999.0,9,-999.0000,9, -999.000,9, -999.000,   -999.0,9,   -999.0,  20.7705,  24.3209
    49NZ20060120,   P03W,   404,  1,     20, X12026,9,20060123,2140, 29.9438, 130.3765,  416,     75.4,2,  20.7822,2,  20.78264,2,  34.6910,2,-999.0000,9,   196.07,1,   214.44,2,     75.6,2,   216.48,2,  -999.00,9,  -999.00,9,  -999.00,  -999.00,9,  -999.00,  -999.00,9,  -999.00, -999.000,9, -999.000, -999.000,9, -999.000,9, -999.000,9,   -999.0,9,   -999.0,9,-999.0000,9, -999.000,9, -999.000,   -999.0,9,   -999.0,  20.7679,  24.3215
    49NZ20060120,   P03W,   404,  1,     19, X12025,9,20060123,2140, 29.9438, 130.3765,  416,    406.5,2,   7.7162,2,   7.71636,2,  34.3041,2,-999.0000,9,   103.56,1,   112.95,2,    406.7,2,   112.77,2,  -999.00,9,  -999.00,9,  -999.00,  -999.00,9,  -999.00,  -999.00,9,  -999.00, -999.000,9, -999.000, -999.000,9, -999.000,9, -999.000,9,   -999.0,9,   -999.0,9,-999.0000,9, -999.000,9, -999.000,   -999.0,9,   -999.0,   7.6758,  26.7749
    49NZ20060120,   P03W,   404,  1,     18, X12024,9,20060123,2140, 29.9438, 130.3765,  416,     10.1,2,  20.7660,2,  20.76661,2,  34.6892,2,-999.0000,9,   196.10,1,   215.98,2,      9.6,2,   216.87,2,  -999.00,9,  -999.00,9,  -999.00,  -999.00,9,  -999.00,  -999.00,9,  -999.00, -999.000,9, -999.000, -999.000,9, -999.000,9, -999.000,9,   -999.0,9,   -999.0,9,-999.0000,9, -999.000,9, -999.000,   -999.0,9,   -999.0,  20.7641,  24.3211
    49NZ20060120,   P03W,   404,  1,     17, X12023,9,20060123,2140, 29.9438, 130.3765,  416,     50.9,2,  20.7783,2,  20.77949,2,  34.6920,2,-999.0000,9,   196.09,1,   215.02,2,     51.1,2,   216.49,2,  -999.00,9,  -999.00,9,  -999.00,  -999.00,9,  -999.00,  -999.00,9,  -999.00, -999.000,9, -999.000, -999.000,9, -999.000,9, -999.000,9,   -999.0,9,   -999.0,9,-999.0000,9, -999.000,9, -999.000,   -999.0,9,   -999.0,  20.7687,  24.3221
    49NZ20060120,   P03W,   404,  1,     16, X12022,9,20060123,2140, 29.9438, 130.3765,  416,    100.1,2,  20.5689,2,  20.56871,2,  34.7146,2,-999.0000,9,   191.73,1,   210.01,2,     99.3,2,   207.51,2,  -999.00,9,  -999.00,9,  -999.00,  -999.00,9,  -999.00,  -999.00,9,  -999.00, -999.000,9, -999.000, -999.000,9, -999.000,9, -999.000,9,   -999.0,9,   -999.0,9,-999.0000,9, -999.000,9, -999.000,   -999.0,9,   -999.0,  20.5501,  24.3980
    49NZ20060120,   P03W,   404,  1,     15, X12021,9,20060123,2140, 29.9438, 130.3765,  416,    150.2,2,  18.1726,2,  18.16060,2,  34.6692,2,-999.0000,9,   169.53,1,   185.32,2,    154.0,2,   185.61,2,  -999.00,9,  -999.00,9,  -999.00,  -999.00,9,  -999.00,  -999.00,9,  -999.00, -999.000,9, -999.000, -999.000,9, -999.000,9, -999.000,9,   -999.0,9,   -999.0,9,-999.0000,9, -999.000,9, -999.000,   -999.0,9,   -999.0,  18.1467,  24.9825
    49NZ20060120,   P03W,   404,  1,     14, X12020,9,20060123,2140, 29.9438, 130.3765,  416,    200.8,2,  15.7948,2,  15.79654,2,  34.6013,2,-999.0000,9,   155.35,1,   170.80,2,    199.7,2,   164.28,2,  -999.00,9,  -999.00,9,  -999.00,  -999.00,9,  -999.00,  -999.00,9,  -999.00, -999.000,9, -999.000, -999.000,9, -999.000,9, -999.000,9,   -999.0,9,   -999.0,9,-999.0000,9, -999.000,9, -999.000,   -999.0,9,   -999.0,  15.7634,  25.4946
    49NZ20060120,   P03W,   404,  1,     13, X12019,9,20060123,2140, 29.9438, 130.3765,  416,    250.2,2,  12.8163,2,  12.80570,2,  34.4761,2,-999.0000,9,   139.47,1,   153.11,2,    256.6,2,   153.53,2,  -999.00,9,  -999.00,9,  -999.00,  -999.00,9,  -999.00,  -999.00,9,  -999.00, -999.000,9, -999.000, -999.000,9, -999.000,9, -999.000,9,   -999.0,9,   -999.0,9,-999.0000,9, -999.000,9, -999.000,   -999.0,9,   -999.0,  12.7823,  26.0303
    49NZ20060120,   P03W,   404,  1,     12, X12018,9,20060123,2140, 29.9438, 130.3765,  416,    302.8,2,  11.8777,2,  11.88209,2,  34.4361,2,-999.0000,9,   134.14,1,   147.07,2,    305.2,2,   146.84,2,  -999.00,9,  -999.00,9,  -999.00,  -999.00,9,  -999.00,  -999.00,9,  -999.00, -999.000,9, -999.000, -999.000,9, -999.000,9, -999.000,9,   -999.0,9,   -999.0,9,-999.0000,9, -999.000,9, -999.000,   -999.0,9,   -999.0,  11.8385,  26.1817
    49NZ20060120,   P03W,   404,  1,      3, X12003,2,20060123,2140, 29.9438, 130.3765,  416,     25.1,2,  20.7743,2,  20.77484,2,  34.6909,2,  34.6906,2,   196.20,1,   215.62,2,     24.4,2,   216.64,2,   216.60,2,     2.27,2,     0.12,     1.03,2,     0.04,     0.32,2,     0.01,    0.141,2,    0.018,    1.935,2,    1.099,2, -999.000,5,   1979.4,2,   2280.6,2,   8.0511,2, -999.000,9, -999.000,   -999.0,9,   -999.0,  20.7696,  24.3209
    49NZ20060120,   P03W,   404,  1,      2, X12044,2,20060123,2140, 29.9438, 130.3765,  416,     75.5,2,  20.7826,2,  20.78311,2,  34.6907,2,  34.6922,2,   195.96,1,   214.39,2,     75.6,2,   216.47,2,   216.04,2,     2.30,2,     0.12,     1.07,2,     0.04,     0.31,2,     0.01,    0.143,2,    0.018,    1.933,2,    1.092,2, -999.000,5,   1980.3,2,   2282.1,2,   8.0498,2, -999.000,9, -999.000,   -999.0,9,   -999.0,  20.7683,  24.3211
    49NZ20060120,   P03W,   404,  1,      1, X12051,2,20060123,2140, 29.9438, 130.3765,  416,    406.0,2,   7.7164,2,   7.71537,2,  34.3041,2,  34.3021,6,   103.66,1,   112.98,2,    406.3,2,   112.82,2,   112.90,2,    61.57,2,     0.25,    28.82,2,     0.11,     0.01,2,     0.01,    2.104,2,    0.015,    1.243,2,    0.605,2,    0.026,2,   2224.1,2,   2309.7,2,   7.5954,2, -999.000,9, -999.000,   -999.0,9,   -999.0,   7.6760,  26.7749