BOTTLE,20220819CCHSIOAMB
EXPOCODE,SECT_ID,STNNBR,CASTNO,SAMPNO,BTLNBR,BTLNBR_FLAG_W,DATE,TIME,LATITUDE,LONGITUDE,DEPTH,CTDPRS,CTDPRS_FLAG_W,CTDTMP,CTDTMP_FLAG_W,SBE35,SBE35_FLAG_W,CTDSAL,CTDSAL_FLAG_W,SALNTY,SALNTY_FLAG_W,CTDOXY,CTDOXY_FLAG_W,OPTOXY,OPTOXY_FLAG_W,DWNPRS,DWNPRS_FLAG_W,DWNOXY,DWNOXY_FLAG_W,OXYGEN,OXYGEN_FLAG_W,SILCAT,SILCAT_FLAG_W,SILUNC,NITRAT,NITRAT_FLAG_W,NRAUNC,NITRIT,NITRIT_FLAG_W,NRIUNC,PHSPHT,PHSPHT_FLAG_W,PHPUNC,CFC-11,CFC-11_FLAG_W,CFC-12,CFC-12_FLAG_W,CFC113,CFC113_FLAG_W,TCARBN,TCARBN_FLAG_W,ALKALI,ALKALI_FLAG_W,PH,PH_FLAG_W,DELC13,DELC13_FLAG_W,C13ERR,DELC14,DELC14_FLAG_W,C14ERR,THETA,SIG0
,,,,,,,,UTC,DEG,DEG,METERS,DBAR,,ITS-90,,ITS-90,,PSS-78,,PSS-78,,UMOL/KG,,UMOL/KG,,DBAR,,UMOL/KG,,UMOL/KG,,UMOL/KG,,UMOL/KG,UMOL/KG,,UMOL/KG,UMOL/KG,,UMOL/KG,UMOL/KG,,UMOL/KG,PMOL/KG,,PMOL/KG,,PMOL/KG,,UMOL/KG,,UMOL/KG,,,,/MILLE,,/MILLE,/MILLE,,/MILLE,DEG C,KG/M^3
    49NZ20060120,   P03W,   396,  1,     36, X12042,2,20060123,1211, 29.2945, 130.0462, 1199,      9.7,2,  21.2580,2,  21.25853,2,  34.6672,2,  34.6673,2,   195.19,1,   214.67,2,     11.2,2,   215.38,2,   215.29,2,     2.24,2,     0.12,     0.88,2,     0.04,     0.30,2,     0.01,    0.125,2,    0.019,    1.881,2,    1.068,2, -999.000,5,   1970.0,2,   2280.6,2,   8.0546,6, -999.000,9, -999.000,   -999.0,9,   -999.0,  21.2561,  24.1707
    49NZ20060120,   P03W,   396,  1,     35, X12041,2,20060123,1211, 29.2945, 130.0462, 1199,     50.9,2,  21.2673,2,  21.26663,2,  34.6678,2,  34.6672,2,   194.98,1,   213.93,2,     45.7,2,   211.46,2,   215.19,2,     2.22,2,     0.12,     0.88,2,     0.04,     0.29,2,     0.01,    0.126,2,    0.019,    1.882,2,    1.062,2, -999.000,5,   1971.9,6,   2280.4,2,   8.0550,2, -999.000,9, -999.000,   -999.0,9,   -999.0,  21.2575,  24.1709
    49NZ20060120,   P03W,   396,  1,     34, X12016,2,20060123,1211, 29.2945, 130.0462, 1199,    101.0,2,  21.1138,2,  21.11521,2,  34.7150,2,  34.7148,2,   188.45,1,   206.25,2,     97.0,2,   205.35,2,   208.19,2,     2.60,2,     0.12,     1.50,2,     0.04,     0.23,2,     0.01,    0.160,2,    0.017,    1.904,2,    1.055,2, -999.000,5,   1984.3,2,   2278.5,6,   8.0412,2, -999.000,9, -999.000,   -999.0,9,   -999.0,  21.0944,  24.2513
    49NZ20060120,   P03W,   396,  1,     33, X12039,2,20060123,1211, 29.2945, 130.0462, 1199,    150.9,2,  20.5193,2,  20.52011,2,  34.7701,2,  34.7692,2,   179.20,1,   195.81,2,    135.6,2,   192.97,2,   197.50,2,     3.60,2,     0.13,     2.86,2,     0.04,     0.11,2,     0.01,    0.249,2,    0.015,    1.971,2,    1.093,2, -999.000,5,   2001.5,2,   2286.8,2,   8.0130,6, -999.000,9, -999.000,   -999.0,9,   -999.0,  20.4909,  24.4561
    49NZ20060120,   P03W,   396,  1,     32, X12038,2,20060123,1211, 29.2945, 130.0462, 1199,    201.3,2,  18.8300,2,  18.83342,2,  34.7843,2,  34.7844,2,   170.82,1,   186.70,2,    210.0,2,   187.60,2,   188.23,2,     5.35,2,     0.13,     5.08,2,     0.05,     0.03,2,     0.01,    0.396,2,    0.013,    2.114,2,    1.161,2, -999.000,5,   2031.1,2,   2283.9,2,   7.9662,2, -999.000,9, -999.000,   -999.0,9,   -999.0,  18.7944,  24.9085
    49NZ20060120,   P03W,   396,  1,     31, X12037,2,20060123,1211, 29.2945, 130.0462, 1199,    250.6,2,  18.4135,2,  18.41598,2,  34.7844,2,  34.7835,2,   169.40,1,   185.04,2,    250.3,2,   186.15,2,   186.45,2,     5.95,2,     0.13,     5.60,2,     0.05,     0.02,2,     0.01,    0.439,2,    0.013,    2.141,6,    1.168,6, -999.000,5,   2036.7,2,   2286.9,2,   7.9554,2, -999.000,9, -999.000,   -999.0,9,   -999.0,  18.3698,  25.0153
    49NZ20060120,   P03W,   396,  1,     30, X12008,2,20060123,1211, 29.2945, 130.0462, 1199,    301.7,2,  16.6701,2,  16.67058,2,  34.6987,2,  34.6986,2,   165.02,1,   180.35,2,    296.3,2,   180.59,2,   181.35,2,     9.57,2,     0.14,     8.28,2,     0.06,     0.01,2,     0.01,    0.624,2,    0.013,    2.197,2,    1.175,2,    0.061,4,   2058.4,2,   2287.7,2,   7.9091,2, -999.000,9, -999.000,   -999.0,9,   -999.0,  16.6209,  25.3723
    49NZ20060120,   P03W,   396,  1,     29, X12035,2,20060123,1211, 29.2945, 130.0462, 1199,    401.4,2,  13.1833,2,  13.20176,2,  34.5041,2,  34.5113,2,   145.67,1,   160.03,2,    406.0,2,   158.74,2,   160.46,2,    22.43,2,     0.17,    15.19,2,     0.08,     0.01,2,     0.01,    1.129,2,    0.013,    2.063,2,    1.059,2,    0.042,2,   2111.6,2,   2284.1,2,   7.8051,2, -999.000,9, -999.000,   -999.0,9,   -999.0,  13.1274,  25.9831
    49NZ20060120,   P03W,   396,  1,     28, X12034,2,20060123,1211, 29.2945, 130.0462, 1199,    501.6,2,  10.5484,2,  10.54853,2,  34.3633,2,  34.3635,6,   130.18,1,   142.34,2,    508.3,2,   143.49,2,   142.25,2,    36.20,2,     0.20,    21.37,2,     0.09,     0.01,2,     0.01,    1.578,2,    0.014,    1.829,2,    0.901,2,    0.041,2,   2157.7,2,   2293.7,2,   7.7108,2, -999.000,9, -999.000,   -999.0,9,   -999.0,  10.4878,  26.3707
    49NZ20060120,   P03W,   396,  1,     27, X12033,2,20060123,1211, 29.2945, 130.0462, 1199,    601.6,2,   8.5968,2,   8.59654,2,  34.3131,2,  34.3133,2,   112.30,1,   122.49,2,    597.8,2,   121.16,2,   121.99,2,    53.46,2,     0.24,    26.60,2,     0.11,     0.00,2,     0.01,    1.955,2,    0.015,    1.433,2,    0.698,2,    0.026,2,   2199.1,2,   2303.8,2,   7.6297,2, -999.000,9, -999.000,   -999.0,9,   -999.0,   8.5323,  26.6536
    49NZ20060120,   P03W,   396,  1,     26, X12032,2,20060123,1211, 29.2945, 130.0462, 1199,    701.6,2,   6.4079,2,   6.42065,2,  34.3301,2,  34.3295,2,    88.28,1,    96.53,2,    697.9,2,    93.55,2,    95.83,2,    79.35,2,     0.29,    32.52,2,     0.12,     0.00,2,     0.01,    2.383,2,    0.016,    0.824,2,    0.401,2,    0.025,2,   2258.5,6,   2328.2,2,   7.5432,2, -999.000,9, -999.000,   -999.0,9,   -999.0,   6.3436,  26.9792
    49NZ20060120,   P03W,   396,  1,     25, X12001,2,20060123,1211, 29.2945, 130.0462, 1199,    799.4,2,   4.7558,2,   4.75567,2,  34.3661,2,  34.3669,2,    69.46,1,    75.75,2,    792.1,2,    71.64,2,    74.97,2,   104.30,2,     0.35,    37.21,2,     0.14,     0.00,2,     0.01,    2.705,2,    0.017,    0.424,2,    0.206,2,    0.010,2,   2304.0,2,   2353.1,6,   7.4802,2, -999.000,9, -999.000,   -999.0,9,   -999.0,   4.6920,  27.2076
    49NZ20060120,   P03W,   396,  1,     24, X12030,2,20060123,1211, 29.2945, 130.0462, 1199,    901.2,2,   3.6184,2,   3.61869,2,  34.4142,2,  34.4142,2,    60.53,1,    66.10,2,    898.3,2,    64.79,2,    65.31,2,   122.15,2,     0.39,    39.67,2,     0.14,     0.00,2,     0.01,    2.874,2,    0.017,    0.175,2,    0.085,2,    0.005,2,   2331.2,2,   2367.8,2,   7.4495,6, -999.000,9, -999.000,   -999.0,9,   -999.0,   3.5537,  27.3651
    49NZ20060120,   P03W,   396,  1,     23, X12049,2,20060123,1211, 29.2945, 130.0462, 1199,   1001.5,2,   3.3588,2,   3.35855,2,  34.4354,2,  34.4359,2,    60.50,1,    65.90,2,   1001.3,2,    65.01,2,    65.36,2,   127.11,2,     0.40,    40.11,2,     0.15,     0.00,2,     0.01,    2.904,2,    0.017,    0.124,2,    0.059,2,    0.010,2,   2337.4,2,   2376.7,2,   7.4525,2, -999.000,9, -999.000,   -999.0,9,   -999.0,   3.2881,  27.4076
    49NZ20060120,   P03W,   396,  1,     22, X12028,9,20060123,1211, 29.2945, 130.0462, 1199,   1183.2,2,   2.9789,2,   2.97886,2,  34.4777,2,-999.0000,9,    64.84,1,    69.87,2,   1183.2,2,    69.52,2,  -999.00,9,  -999.00,9,  -999.00,  -999.00,9,  -999.00,  -999.00,9,  -999.00, -999.000,9, -999.000, -999.000,9, -999.000,9, -999.000,9,   -999.0,9,   -999.0,9,-999.0000,9, -999.000,9, -999.000,   -999.0,9,   -999.0,   2.8971,  27.4775
    49NZ20060120,   P03W,   396,  1,     21, X12009,9,20060123,1211, 29.2945, 130.0462, 1199,      9.6,2,  21.2571,2,  21.25766,2,  34.6671,2,-999.0000,9,   195.23,1,   214.75,2,     11.2,2,   215.38,2,  -999.00,9,  -999.00,9,  -999.00,  -999.00,9,  -999.00,  -999.00,9,  -999.00, -999.000,9, -999.000, -999.000,9, -999.000,9, -999.000,9,   -999.0,9,   -999.0,9,-999.0000,9, -999.000,9, -999.000,   -999.0,9,   -999.0,  21.2553,  24.1709
    49NZ20060120,   P03W,   396,  1,     20, X12026,9,20060123,1211, 29.2945, 130.0462, 1199,     25.5,2,  21.2650,2,  21.26565,2,  34.6668,2,-999.0000,9,   195.13,1,   214.64,2,     26.4,2,   215.23,2,  -999.00,9,  -999.00,9,  -999.00,  -999.00,9,  -999.00,  -999.00,9,  -999.00, -999.000,9, -999.000, -999.000,9, -999.000,9, -999.000,9,   -999.0,9,   -999.0,9,-999.0000,9, -999.000,9, -999.000,   -999.0,9,   -999.0,  21.2601,  24.1694
    49NZ20060120,   P03W,   396,  1,     19, X12025,9,20060123,1211, 29.2945, 130.0462, 1199,     50.5,2,  21.2665,2,  21.26679,2,  34.6673,2,-999.0000,9,   195.14,1,   214.07,2,     45.3,2,   211.44,2,  -999.00,9,  -999.00,9,  -999.00,  -999.00,9,  -999.00,  -999.00,9,  -999.00, -999.000,9, -999.000, -999.000,9, -999.000,9, -999.000,9,   -999.0,9,   -999.0,9,-999.0000,9, -999.000,9, -999.000,   -999.0,9,   -999.0,  21.2568,  24.1707
    49NZ20060120,   P03W,   396,  1,     18, X12024,9,20060123,1211, 29.2945, 130.0462, 1199,     74.8,2,  21.2606,2,  21.26075,2,  34.6665,2,-999.0000,9,   195.28,1,   213.67,2,     67.6,2,   210.73,2,  -999.00,9,  -999.00,9,  -999.00,  -999.00,9,  -999.00,  -999.00,9,  -999.00, -999.000,9, -999.000, -999.000,9, -999.000,9, -999.000,9,   -999.0,9,   -999.0,9,-999.0000,9, -999.000,9, -999.000,   -999.0,9,   -999.0,  21.2462,  24.1729
    49NZ20060120,   P03W,   396,  1,     17, X12023,9,20060123,1211, 29.2945, 130.0462, 1199,    101.0,2,  21.1121,2,  21.11156,2,  34.7150,2,-999.0000,9,   188.58,1,   206.48,2,     97.0,2,   205.35,2,  -999.00,9,  -999.00,9,  -999.00,  -999.00,9,  -999.00,  -999.00,9,  -999.00, -999.000,9, -999.000, -999.000,9, -999.000,9, -999.000,9,   -999.0,9,   -999.0,9,-999.0000,9, -999.000,9, -999.000,   -999.0,9,   -999.0,  21.0927,  24.2518
    49NZ20060120,   P03W,   396,  1,     16, X12022,2,20060123,1211, 29.2945, 130.0462, 1199,    150.9,2,  20.5149,2,  20.51530,2,  34.7613,2,-999.0000,9,   179.49,1,   196.10,2,    135.4,2,   192.90,2,  -999.00,9,  -999.00,9,  -999.00,  -999.00,9,  -999.00,  -999.00,9,  -999.00, -999.000,9, -999.000, -999.000,9, -999.000,9, -999.000,9,   -999.0,9,   -999.0,9,-999.0000,9, -999.000,9, -999.000,   -999.0,9,   -999.0,  20.4865,  24.4506
    49NZ20060120,   P03W,   396,  1,     15, X12021,2,20060123,1211, 29.2945, 130.0462, 1199,    201.3,2,  18.8576,2,  18.86355,2,  34.7838,2,-999.0000,9,   170.83,1,   186.78,2,    208.3,2,   188.00,2,  -999.00,9,  -999.00,9,  -999.00,  -999.00,9,  -999.00,  -999.00,9,  -999.00, -999.000,9, -999.000, -999.000,9, -999.000,9, -999.000,9,   -999.0,9,   -999.0,9,-999.0000,9, -999.000,9, -999.000,   -999.0,9,   -999.0,  18.8219,  24.9011
    49NZ20060120,   P03W,   396,  1,     14, X12020,2,20060123,1211, 29.2945, 130.0462, 1199,    251.2,2,  18.3997,2,  18.39683,2,  34.7841,2,-999.0000,9,   169.44,1,   185.13,2,    251.1,2,   186.25,2,  -999.00,9,  -999.00,9,  -999.00,  -999.00,9,  -999.00,  -999.00,9,  -999.00, -999.000,9, -999.000, -999.000,9, -999.000,9, -999.000,9,   -999.0,9,   -999.0,9,-999.0000,9, -999.000,9, -999.000,   -999.0,9,   -999.0,  18.3559,  25.0185
    49NZ20060120,   P03W,   396,  1,     13, X12019,9,20060123,1211, 29.2945, 130.0462, 1199,    301.7,2,  16.6735,2,  16.67421,2,  34.6990,2,-999.0000,9,   165.04,1,   180.30,2,    296.2,2,   180.57,2,  -999.00,9,  -999.00,9,  -999.00,  -999.00,9,  -999.00,  -999.00,9,  -999.00, -999.000,9, -999.000, -999.000,9, -999.000,9, -999.000,9,   -999.0,9,   -999.0,9,-999.0000,9, -999.000,9, -999.000,   -999.0,9,   -999.0,  16.6243,  25.3718
    49NZ20060120,   P03W,   396,  1,     12, X12018,9,20060123,1211, 29.2945, 130.0462, 1199,    401.5,2,  13.1704,2,  13.16163,2,  34.5001,2,-999.0000,9,   145.69,1,   159.15,2,    406.0,2,   158.73,2,  -999.00,9,  -999.00,9,  -999.00,  -999.00,9,  -999.00,  -999.00,9,  -999.00, -999.000,9, -999.000, -999.000,9, -999.000,9, -999.000,9,   -999.0,9,   -999.0,9,-999.0000,9, -999.000,9, -999.000,   -999.0,9,   -999.0,  13.1145,  25.9826
    49NZ20060120,   P03W,   396,  1,     11, X12005,9,20060123,1211, 29.2945, 130.0462, 1199,    501.7,2,  10.5486,2,  10.54894,2,  34.3634,2,-999.0000,9,   130.04,1,   142.13,2,    508.4,2,   143.48,2,  -999.00,9,  -999.00,9,  -999.00,  -999.00,9,  -999.00,  -999.00,9,  -999.00, -999.000,9, -999.000, -999.000,9, -999.000,9, -999.000,9,   -999.0,9,   -999.0,9,-999.0000,9, -999.000,9, -999.000,   -999.0,9,   -999.0,  10.4880,  26.3707
    49NZ20060120,   P03W,   396,  1,     10, X12010,9,20060123,1211, 29.2945, 130.0462, 1199,    601.7,2,   8.5922,2,   8.59019,2,  34.3131,2,-999.0000,9,   112.31,1,   122.61,2,    597.9,2,   121.13,2,  -999.00,9,  -999.00,9,  -999.00,  -999.00,9,  -999.00,  -999.00,9,  -999.00, -999.000,9, -999.000, -999.000,9, -999.000,9, -999.000,9,   -999.0,9,   -999.0,9,-999.0000,9, -999.000,9, -999.000,   -999.0,9,   -999.0,   8.5277,  26.6543
    49NZ20060120,   P03W,   396,  1,      9, X12015,9,20060123,1211, 29.2945, 130.0462, 1199,    701.7,2,   6.4145,2,   6.43009,2,  34.3298,2,-999.0000,9,    87.94,1,    96.39,2,    697.8,2,    93.55,2,  -999.00,9,  -999.00,9,  -999.00,  -999.00,9,  -999.00,  -999.00,9,  -999.00, -999.000,9, -999.000, -999.000,9, -999.000,9, -999.000,9,   -999.0,9,   -999.0,9,-999.0000,9, -999.000,9, -999.000,   -999.0,9,   -999.0,   6.3502,  26.9781
    49NZ20060120,   P03W,   396,  1,      8, X12014,9,20060123,1211, 29.2945, 130.0462, 1199,    799.5,2,   4.7527,2,   4.75252,2,  34.3664,2,-999.0000,9,    69.45,1,    75.90,2,    792.3,2,    71.60,2,  -999.00,9,  -999.00,9,  -999.00,  -999.00,9,  -999.00,  -999.00,9,  -999.00, -999.000,9, -999.000, -999.000,9, -999.000,9, -999.000,9,   -999.0,9,   -999.0,9,-999.0000,9, -999.000,9, -999.000,   -999.0,9,   -999.0,   4.6889,  27.2082
    49NZ20060120,   P03W,   396,  1,      7, X12013,9,20060123,1211, 29.2945, 130.0462, 1199,    900.9,2,   3.6180,2,   3.61768,2,  34.4141,2,-999.0000,9,    60.50,1,    66.08,2,    898.0,2,    64.80,2,  -999.00,9,  -999.00,9,  -999.00,  -999.00,9,  -999.00,  -999.00,9,  -999.00, -999.000,9, -999.000, -999.000,9, -999.000,9, -999.000,9,   -999.0,9,   -999.0,9,-999.0000,9, -999.000,9, -999.000,   -999.0,9,   -999.0,   3.5533,  27.3651
    49NZ20060120,   P03W,   396,  1,      6, X12048,9,20060123,1211, 29.2945, 130.0462, 1199,   1001.6,2,   3.3583,2,   3.35825,2,  34.4356,2,-999.0000,9,    60.50,1,    65.90,2,   1001.4,2,    65.01,2,  -999.00,9,  -999.00,9,  -999.00,  -999.00,9,  -999.00,  -999.00,9,  -999.00, -999.000,9, -999.000, -999.000,9, -999.000,9, -999.000,9,   -999.0,9,   -999.0,9,-999.0000,9, -999.000,9, -999.000,   -999.0,9,   -999.0,   3.2876,  27.4078
    49NZ20060120,   P03W,   396,  1,      3, X12003,2,20060123,1211, 29.2945, 130.0462, 1199,     25.5,2,  21.2653,2,  21.26579,2,  34.6669,2,  34.6666,2,   195.02,1,   214.40,2,     26.4,2,   215.24,2,   215.24,2,     2.26,2,     0.12,     0.88,2,     0.04,     0.30,2,     0.01,    0.123,2,    0.020,    1.880,2,    1.056,2, -999.000,5,   1972.2,2,   2276.1,2,   8.0557,2, -999.000,9, -999.000,   -999.0,9,   -999.0,  21.2604,  24.1694
    49NZ20060120,   P03W,   396,  1,      2, X12044,2,20060123,1211, 29.2945, 130.0462, 1199,     74.9,2,  21.2631,2,  21.26376,2,  34.6666,2,  34.6661,2,   195.16,1,   213.52,2,     67.5,2,   210.74,2,   215.20,2,     2.25,2,     0.12,     0.87,2,     0.04,     0.30,2,     0.01,    0.123,2,    0.020,    1.884,2,    1.058,2, -999.000,5,   1973.5,2,   2278.9,2,   8.0559,2, -999.000,9, -999.000,   -999.0,9,   -999.0,  21.2487,  24.1723
    49NZ20060120,   P03W,   396,  1,      1, X12051,2,20060123,1211, 29.2945, 130.0462, 1199,   1183.0,2,   2.9792,2,   2.97927,2,  34.4777,2,  34.4778,6,    64.84,1,    69.85,2,   1183.0,2,    69.52,2,    70.23,2,   134.24,2,     0.41,    40.24,2,     0.15,     0.00,2,     0.01,    2.899,2,    0.017,    0.075,2,    0.035,2,    0.000,2,   2344.6,2,   2384.0,2,   7.4558,2, -999.000,9, -999.000,   -999.0,9,   -999.0,   2.8974,  27.4774