BOTTLE,20220819CCHSIOAMB
EXPOCODE,SECT_ID,STNNBR,CASTNO,SAMPNO,BTLNBR,BTLNBR_FLAG_W,DATE,TIME,LATITUDE,LONGITUDE,DEPTH,CTDPRS,CTDPRS_FLAG_W,CTDTMP,CTDTMP_FLAG_W,SBE35,SBE35_FLAG_W,CTDSAL,CTDSAL_FLAG_W,SALNTY,SALNTY_FLAG_W,CTDOXY,CTDOXY_FLAG_W,OPTOXY,OPTOXY_FLAG_W,DWNPRS,DWNPRS_FLAG_W,DWNOXY,DWNOXY_FLAG_W,OXYGEN,OXYGEN_FLAG_W,SILCAT,SILCAT_FLAG_W,SILUNC,NITRAT,NITRAT_FLAG_W,NRAUNC,NITRIT,NITRIT_FLAG_W,NRIUNC,PHSPHT,PHSPHT_FLAG_W,PHPUNC,CFC-11,CFC-11_FLAG_W,CFC-12,CFC-12_FLAG_W,CFC113,CFC113_FLAG_W,TCARBN,TCARBN_FLAG_W,ALKALI,ALKALI_FLAG_W,PH,PH_FLAG_W,DELC13,DELC13_FLAG_W,C13ERR,DELC14,DELC14_FLAG_W,C14ERR,THETA,SIG0
,,,,,,,,UTC,DEG,DEG,METERS,DBAR,,ITS-90,,ITS-90,,PSS-78,,PSS-78,,UMOL/KG,,UMOL/KG,,DBAR,,UMOL/KG,,UMOL/KG,,UMOL/KG,,UMOL/KG,UMOL/KG,,UMOL/KG,UMOL/KG,,UMOL/KG,UMOL/KG,,UMOL/KG,PMOL/KG,,PMOL/KG,,PMOL/KG,,UMOL/KG,,UMOL/KG,,,,/MILLE,,/MILLE,/MILLE,,/MILLE,DEG C,KG/M^3
    49NZ20060120,   P03W,   TS3,  1,     36, X12042,2,20060126,0149, 35.0092, 129.9780,  135,     10.3,2,  14.1907,2,  14.19110,2,  34.4901,2,  34.4906,2,   226.74,1,   250.28,2,     10.1,2,   249.80,2,   249.35,2,     7.44,2,     0.14,     4.03,2,     0.04,     0.71,2,     0.00,    0.385,2,    0.013, -999.000,5, -999.000,5, -999.000,5,   -999.0,9,   -999.0,9,-999.0000,9, -999.000,9, -999.000,   -999.0,9,   -999.0,  14.1892,  25.7532
    49NZ20060120,   P03W,   TS3,  1,     35, X12041,2,20060126,0149, 35.0092, 129.9780,  135,     50.5,2,  14.1920,2,  14.19238,2,  34.4900,2,  34.4905,2,   226.46,1,   249.52,2,     50.5,2,   249.09,2,   249.01,2,     7.42,2,     0.14,     4.05,2,     0.04,     0.71,2,     0.00,    0.384,2,    0.013,    2.597,2,    1.409,2,    0.224,2,   -999.0,9,   -999.0,9,-999.0000,9, -999.000,9, -999.000,   -999.0,9,   -999.0,  14.1847,  25.7541
    49NZ20060120,   P03W,   TS3,  1,     21, X12009,9,20060126,0149, 35.0092, 129.9780,  135,     25.2,2,  14.1901,2,  14.19080,2,  34.4901,2,-999.0000,9,   226.45,1,   249.72,2,     25.1,2,   249.49,2,  -999.00,9,  -999.00,9,  -999.00,  -999.00,9,  -999.00,  -999.00,9,  -999.00, -999.000,9, -999.000, -999.000,9, -999.000,9, -999.000,9,   -999.0,9,   -999.0,9,-999.0000,9, -999.000,9, -999.000,   -999.0,9,   -999.0,  14.1865,  25.7538
    49NZ20060120,   P03W,   TS3,  1,     20, X12026,9,20060126,0149, 35.0092, 129.9780,  135,     76.0,2,  14.1940,2,  14.19467,2,  34.4902,2,-999.0000,9,   226.47,1,   251.65,2,     76.2,2,   249.05,2,  -999.00,9,  -999.00,9,  -999.00,  -999.00,9,  -999.00,  -999.00,9,  -999.00, -999.000,9, -999.000, -999.000,9, -999.000,9, -999.000,9,   -999.0,9,   -999.0,9,-999.0000,9, -999.000,9, -999.000,   -999.0,9,   -999.0,  14.1830,  25.7546
    49NZ20060120,   P03W,   TS3,  1,     19, X12025,9,20060126,0149, 35.0092, 129.9780,  135,    124.1,2,  14.2007,2,  14.20123,2,  34.4898,2,-999.0000,9,   226.56,1,   250.00,2,    124.0,2,   249.07,2,  -999.00,9,  -999.00,9,  -999.00,  -999.00,9,  -999.00,  -999.00,9,  -999.00, -999.000,9, -999.000, -999.000,9, -999.000,9, -999.000,9,   -999.0,9,   -999.0,9,-999.0000,9, -999.000,9, -999.000,   -999.0,9,   -999.0,  14.1827,  25.7544
    49NZ20060120,   P03W,   TS3,  1,     18, X12024,9,20060126,0149, 35.0092, 129.9780,  135,     10.2,2,  14.1902,2,  14.19076,2,  34.4900,2,-999.0000,9,   226.64,1,   250.33,2,     10.0,2,   249.80,2,  -999.00,9,  -999.00,9,  -999.00,  -999.00,9,  -999.00,  -999.00,9,  -999.00, -999.000,9, -999.000, -999.000,9, -999.000,9, -999.000,9,   -999.0,9,   -999.0,9,-999.0000,9, -999.000,9, -999.000,   -999.0,9,   -999.0,  14.1887,  25.7532
    49NZ20060120,   P03W,   TS3,  1,     17, X12023,9,20060126,0149, 35.0092, 129.9780,  135,     50.6,2,  14.1917,2,  14.19227,2,  34.4901,2,-999.0000,9,   226.67,1,   249.83,2,     50.7,2,   249.08,2,  -999.00,9,  -999.00,9,  -999.00,  -999.00,9,  -999.00,  -999.00,9,  -999.00, -999.000,9, -999.000, -999.000,9, -999.000,9, -999.000,9,   -999.0,9,   -999.0,9,-999.0000,9, -999.000,9, -999.000,   -999.0,9,   -999.0,  14.1844,  25.7543
    49NZ20060120,   P03W,   TS3,  1,      3, X12003,2,20060126,0149, 35.0092, 129.9780,  135,     25.2,2,  14.1893,2,  14.19006,2,  34.4902,2,  34.4902,2,   226.43,1,   249.68,2,     25.2,2,   249.50,2,   249.23,2,     7.41,2,     0.14,     4.04,2,     0.04,     0.70,2,     0.00,    0.397,2,    0.013,    2.578,2,    1.447,2,    0.221,2,   -999.0,9,   -999.0,9,-999.0000,9, -999.000,9, -999.000,   -999.0,9,   -999.0,  14.1857,  25.7540
    49NZ20060120,   P03W,   TS3,  1,      2, X12044,2,20060126,0149, 35.0092, 129.9780,  135,     76.1,2,  14.1932,2,  14.19365,2,  34.4902,2,  34.4910,2,   226.61,1,   251.57,2,     76.3,2,   249.04,2,   249.30,2,     7.41,2,     0.14,     4.04,2,     0.04,     0.70,2,     0.00,    0.393,2,    0.013,    2.569,6,    1.394,6,    0.224,6,   -999.0,9,   -999.0,9,-999.0000,9, -999.000,9, -999.000,   -999.0,9,   -999.0,  14.1822,  25.7547
    49NZ20060120,   P03W,   TS3,  1,      1, X12051,2,20060126,0149, 35.0092, 129.9780,  135,    123.9,2,  14.2010,2,  14.20144,2,  34.4898,2,  34.4903,6,   226.49,1,   250.00,2,    123.9,2,   249.07,2,   249.09,2,     7.44,2,     0.14,     4.07,2,     0.04,     0.70,2,     0.00,    0.392,2,    0.013,    2.552,2,    1.403,2,    0.223,2,   -999.0,9,   -999.0,9,-999.0000,9, -999.000,9, -999.000,   -999.0,9,   -999.0,  14.1830,  25.7543
    49NZ20060120,   P03W,   TS2,  1,     36, X12042,2,20060126,0341, 35.1947, 129.7328,  142,      9.7,2,  13.8997,2,  13.90075,2,  34.4916,2,  34.4917,2,   229.33,1,   252.78,2,     10.7,2,   252.04,2,   252.24,2,     7.87,2,     0.14,     4.73,2,     0.05,     0.40,2,     0.00,    0.407,2,    0.013,    2.557,2,    1.389,2,    0.180,2,   -999.0,9,   -999.0,9,-999.0000,9, -999.000,9, -999.000,   -999.0,9,   -999.0,  13.8983,  25.8154
    49NZ20060120,   P03W,   TS2,  1,     35, X12041,2,20060126,0341, 35.1947, 129.7328,  142,     49.8,2,  13.8729,2,  13.87370,2,  34.4890,2,  34.4894,2,   228.01,1,   251.00,2,     50.1,2,   250.62,2,   250.71,2,     7.89,2,     0.14,     4.76,2,     0.05,     0.41,2,     0.00,    0.407,2,    0.013,    2.575,2,    1.402,2,    0.182,2,   -999.0,9,   -999.0,9,-999.0000,9, -999.000,9, -999.000,   -999.0,9,   -999.0,  13.8658,  25.8202
    49NZ20060120,   P03W,   TS2,  1,     34, X12016,2,20060126,0341, 35.1947, 129.7328,  142,    100.5,2,  13.7690,2,  13.76900,2,  34.4761,2,  34.4771,2,   229.32,1,   254.06,2,    100.5,2,   252.09,2,   252.03,2,     6.96,2,     0.13,     4.44,2,     0.05,     0.50,2,     0.00,    0.376,2,    0.014,    2.588,6,    1.418,6,    0.192,6,   -999.0,9,   -999.0,9,-999.0000,9, -999.000,9, -999.000,   -999.0,9,   -999.0,  13.7548,  25.8333
    49NZ20060120,   P03W,   TS2,  1,     21, X12009,9,20060126,0341, 35.1947, 129.7328,  142,     24.8,2,  13.8798,2,  13.88049,2,  34.4903,2,-999.0000,9,   228.63,1,   251.85,2,     25.3,2,   251.69,2,  -999.00,9,  -999.00,9,  -999.00,  -999.00,9,  -999.00,  -999.00,9,  -999.00, -999.000,9, -999.000, -999.000,9, -999.000,9, -999.000,9,   -999.0,9,   -999.0,9,-999.0000,9, -999.000,9, -999.000,   -999.0,9,   -999.0,  13.8763,  25.8190
    49NZ20060120,   P03W,   TS2,  1,     20, X12026,9,20060126,0341, 35.1947, 129.7328,  142,     74.5,2,  13.8418,2,  13.84599,2,  34.4856,2,-999.0000,9,   227.68,1,   252.97,2,     75.0,2,   250.26,2,  -999.00,9,  -999.00,9,  -999.00,  -999.00,9,  -999.00,  -999.00,9,  -999.00, -999.000,9, -999.000, -999.000,9, -999.000,9, -999.000,9,   -999.0,9,   -999.0,9,-999.0000,9, -999.000,9, -999.000,   -999.0,9,   -999.0,  13.8312,  25.8247
    49NZ20060120,   P03W,   TS2,  1,     19, X12025,9,20060126,0341, 35.1947, 129.7328,  142,    130.8,2,  13.1800,2,  13.18243,2,  34.3984,2,-999.0000,9,   225.62,1,   249.56,2,    130.4,2,   248.37,2,  -999.00,9,  -999.00,9,  -999.00,  -999.00,9,  -999.00,  -999.00,9,  -999.00, -999.000,9, -999.000, -999.000,9, -999.000,9, -999.000,9,   -999.0,9,   -999.0,9,-999.0000,9, -999.000,9, -999.000,   -999.0,9,   -999.0,  13.1620,  25.8943
    49NZ20060120,   P03W,   TS2,  1,     18, X12024,9,20060126,0341, 35.1947, 129.7328,  142,      9.8,2,  13.9026,2,  13.90388,2,  34.4917,2,-999.0000,9,   229.24,1,   252.87,2,     10.6,2,   252.04,2,  -999.00,9,  -999.00,9,  -999.00,  -999.00,9,  -999.00,  -999.00,9,  -999.00, -999.000,9, -999.000, -999.000,9, -999.000,9, -999.000,9,   -999.0,9,   -999.0,9,-999.0000,9, -999.000,9, -999.000,   -999.0,9,   -999.0,  13.9012,  25.8149
    49NZ20060120,   P03W,   TS2,  1,     17, X12023,9,20060126,0341, 35.1947, 129.7328,  142,     50.1,2,  13.8684,2,  13.86936,2,  34.4889,2,-999.0000,9,   227.89,1,   251.04,2,     50.5,2,   250.57,2,  -999.00,9,  -999.00,9,  -999.00,  -999.00,9,  -999.00,  -999.00,9,  -999.00, -999.000,9, -999.000, -999.000,9, -999.000,9, -999.000,9,   -999.0,9,   -999.0,9,-999.0000,9, -999.000,9, -999.000,   -999.0,9,   -999.0,  13.8613,  25.8211
    49NZ20060120,   P03W,   TS2,  1,     16, X12022,9,20060126,0341, 35.1947, 129.7328,  142,    100.5,2,  13.7751,2,  13.77590,2,  34.4773,2,-999.0000,9,   229.37,1,   254.04,2,    100.4,2,   252.08,2,  -999.00,9,  -999.00,9,  -999.00,  -999.00,9,  -999.00,  -999.00,9,  -999.00, -999.000,9, -999.000, -999.000,9, -999.000,9, -999.000,9,   -999.0,9,   -999.0,9,-999.0000,9, -999.000,9, -999.000,   -999.0,9,   -999.0,  13.7608,  25.8330
    49NZ20060120,   P03W,   TS2,  1,      3, X12003,2,20060126,0341, 35.1947, 129.7328,  142,     24.5,2,  13.8775,2,  13.87747,2,  34.4902,2,  34.4907,2,   228.64,1,   251.48,2,     25.1,2,   251.67,2,   251.03,2,     7.86,2,     0.14,     4.73,2,     0.05,     0.41,2,     0.00,    0.408,2,    0.013,    2.569,2,    1.410,2,    0.189,2,   -999.0,9,   -999.0,9,-999.0000,9, -999.000,9, -999.000,   -999.0,9,   -999.0,  13.8740,  25.8194
    49NZ20060120,   P03W,   TS2,  1,      2, X12044,2,20060126,0341, 35.1947, 129.7328,  142,     74.7,2,  13.8591,2,  13.85932,2,  34.4871,2,  34.4864,2,   227.60,1,   252.36,2,     74.7,2,   250.20,2,   250.38,2,     7.75,2,     0.14,     4.74,2,     0.05,     0.43,2,     0.00,    0.409,2,    0.013,    2.563,2,    1.401,2,    0.184,2,   -999.0,9,   -999.0,9,-999.0000,9, -999.000,9, -999.000,   -999.0,9,   -999.0,  13.8485,  25.8223
    49NZ20060120,   P03W,   TS2,  1,      1, X12051,2,20060126,0341, 35.1947, 129.7328,  142,    130.9,2,  13.1986,2,  13.20007,2,  34.4007,2,  34.4091,6,   225.90,1,   249.24,2,    130.3,2,   248.28,2,   248.67,2,     8.85,2,     0.14,     5.54,2,     0.05,     0.43,2,     0.00,    0.480,2,    0.013,    2.663,2,    1.453,2,    0.191,2,   -999.0,9,   -999.0,9,-999.0000,9, -999.000,9, -999.000,   -999.0,9,   -999.0,  13.1806,  25.8923
    49NZ20060120,   P03W,   TS1,  1,     36, X12042,2,20060126,0504, 35.2703, 129.6505,  144,     10.1,2,  14.1577,2,  14.15846,2,  34.5004,2,  34.5010,2,   225.91,1,   248.94,2,     11.0,2,   248.51,2,   248.46,2,     7.29,2,     0.14,     4.33,2,     0.04,     0.65,2,     0.00,    0.390,2,    0.013,    2.584,2,    1.396,2,    0.227,2,   -999.0,9,   -999.0,9,-999.0000,9, -999.000,9, -999.000,   -999.0,9,   -999.0,  14.1562,  25.7681
    49NZ20060120,   P03W,   TS1,  1,     35, X12041,2,20060126,0504, 35.2703, 129.6505,  144,     50.2,2,  14.1584,2,  14.15885,2,  34.5006,2,  34.5002,2,   225.16,1,   247.65,2,     50.5,2,   247.36,2,   247.65,2,     7.31,2,     0.14,     4.36,2,     0.05,     0.65,2,     0.00,    0.399,2,    0.013,    2.593,2,    1.403,2,    0.216,2,   -999.0,9,   -999.0,9,-999.0000,9, -999.000,9, -999.000,   -999.0,9,   -999.0,  14.1512,  25.7694
    49NZ20060120,   P03W,   TS1,  1,     34, X12016,2,20060126,0504, 35.2703, 129.6505,  144,    100.0,2,  14.1181,2,  14.11980,2,  34.4943,2,  34.4939,2,   224.18,1,   247.61,2,    100.4,2,   246.24,2,   246.53,2,     7.59,2,     0.14,     4.51,2,     0.05,     0.66,2,     0.00,    0.408,2,    0.013,    2.579,6,    1.396,6,    0.209,2,   -999.0,9,   -999.0,9,-999.0000,9, -999.000,9, -999.000,   -999.0,9,   -999.0,  14.1037,  25.7745
    49NZ20060120,   P03W,   TS1,  1,     21, X12009,9,20060126,0504, 35.2703, 129.6505,  144,     10.1,2,  14.1721,2,  14.17021,2,  34.5006,2,-999.0000,9,   225.97,1,   248.92,2,     10.5,2,   248.71,2,  -999.00,9,  -999.00,9,  -999.00,  -999.00,9,  -999.00,  -999.00,9,  -999.00, -999.000,9, -999.000, -999.000,9, -999.000,9, -999.000,9,   -999.0,9,   -999.0,9,-999.0000,9, -999.000,9, -999.000,   -999.0,9,   -999.0,  14.1706,  25.7652
    49NZ20060120,   P03W,   TS1,  1,     20, X12026,9,20060126,0504, 35.2703, 129.6505,  144,    135.0,2,  13.0901,2,  13.08987,2,  34.3832,2,-999.0000,9,   223.13,1,   244.72,2,    134.2,2,   244.36,2,  -999.00,9,  -999.00,9,  -999.00,  -999.00,9,  -999.00,  -999.00,9,  -999.00, -999.000,9, -999.000, -999.000,9, -999.000,9, -999.000,9,   -999.0,9,   -999.0,9,-999.0000,9, -999.000,9, -999.000,   -999.0,9,   -999.0,  13.0716,  25.9007
    49NZ20060120,   P03W,   TS1,  1,     19, X12025,9,20060126,0504, 35.2703, 129.6505,  144,    100.0,2,  14.0806,2,  14.08380,2,  34.4891,2,-999.0000,9,   223.72,1,   247.78,2,    101.2,2,   246.11,2,  -999.00,9,  -999.00,9,  -999.00,  -999.00,9,  -999.00,  -999.00,9,  -999.00, -999.000,9, -999.000, -999.000,9, -999.000,9, -999.000,9,   -999.0,9,   -999.0,9,-999.0000,9, -999.000,9, -999.000,   -999.0,9,   -999.0,  14.0662,  25.7784
    49NZ20060120,   P03W,   TS1,  1,     18, X12024,9,20060126,0504, 35.2703, 129.6505,  144,     74.7,2,  14.1558,2,  14.15607,2,  34.4999,2,-999.0000,9,   225.03,1,   249.47,2,     74.8,2,   246.99,2,  -999.00,9,  -999.00,9,  -999.00,  -999.00,9,  -999.00,  -999.00,9,  -999.00, -999.000,9, -999.000, -999.000,9, -999.000,9, -999.000,9,   -999.0,9,   -999.0,9,-999.0000,9, -999.000,9, -999.000,   -999.0,9,   -999.0,  14.1450,  25.7701
    49NZ20060120,   P03W,   TS1,  1,     17, X12023,2,20060126,0504, 35.2703, 129.6505,  144,     50.2,2,  14.1582,2,  14.15866,2,  34.5006,2,-999.0000,9,   225.30,1,   247.70,2,     50.5,2,   247.36,2,  -999.00,9,  -999.00,9,  -999.00,  -999.00,9,  -999.00,  -999.00,9,  -999.00, -999.000,9, -999.000, -999.000,9, -999.000,9, -999.000,9,   -999.0,9,   -999.0,9,-999.0000,9, -999.000,9, -999.000,   -999.0,9,   -999.0,  14.1510,  25.7694
    49NZ20060120,   P03W,   TS1,  1,     16, X12022,9,20060126,0504, 35.2703, 129.6505,  144,     24.7,2,  14.1579,2,  14.15842,2,  34.5008,2,-999.0000,9,   225.43,1,   248.29,2,     25.0,2,   248.06,2,  -999.00,9,  -999.00,9,  -999.00,  -999.00,9,  -999.00,  -999.00,9,  -999.00, -999.000,9, -999.000, -999.000,9, -999.000,9, -999.000,9,   -999.0,9,   -999.0,9,-999.0000,9, -999.000,9, -999.000,   -999.0,9,   -999.0,  14.1543,  25.7688
    49NZ20060120,   P03W,   TS1,  1,     15, X12021,9,20060126,0504, 35.2703, 129.6505,  144,     24.6,2,  14.1580,2,  14.15859,2,  34.5009,2,-999.0000,9,   225.36,1,   248.31,2,     24.9,2,   248.05,2,  -999.00,9,  -999.00,9,  -999.00,  -999.00,9,  -999.00,  -999.00,9,  -999.00, -999.000,9, -999.000, -999.000,9, -999.000,9, -999.000,9,   -999.0,9,   -999.0,9,-999.0000,9, -999.000,9, -999.000,   -999.0,9,   -999.0,  14.1545,  25.7689
    49NZ20060120,   P03W,   TS1,  1,      3, X12003,2,20060126,0504, 35.2703, 129.6505,  144,     24.8,2,  14.1582,2,  14.15878,2,  34.5009,2,  34.5012,2,   225.52,1,   248.26,2,     25.1,2,   248.05,2,   247.96,2,     7.28,2,     0.14,     4.31,2,     0.04,     0.65,2,     0.00,    0.385,2,    0.013,    2.580,2,    1.400,2,    0.222,2,   -999.0,9,   -999.0,9,-999.0000,9, -999.000,9, -999.000,   -999.0,9,   -999.0,  14.1546,  25.7689
    49NZ20060120,   P03W,   TS1,  1,      2, X12044,2,20060126,0504, 35.2703, 129.6505,  144,     74.8,2,  14.1562,2,  14.15686,2,  34.4999,2,  34.4998,2,   224.98,1,   249.45,2,     74.9,2,   246.98,2,   247.39,2,     7.36,2,     0.14,     4.36,2,     0.05,     0.66,2,     0.00,    0.390,2,    0.013,    2.581,2,    1.402,2,    0.228,2,   -999.0,9,   -999.0,9,-999.0000,9, -999.000,9, -999.000,   -999.0,9,   -999.0,  14.1454,  25.7700
    49NZ20060120,   P03W,   TS1,  1,      1, X12051,2,20060126,0504, 35.2703, 129.6505,  144,    135.0,2,  13.0948,2,  13.09539,2,  34.3832,2,  34.3830,6,   222.96,1,   244.01,2,    134.1,2,   244.28,2,   244.91,2,    10.04,2,     0.14,     6.09,2,     0.05,     0.44,2,     0.00,    0.542,2,    0.013,    2.756,2,    1.482,2,    0.240,4,   -999.0,9,   -999.0,9,-999.0000,9, -999.000,9, -999.000,   -999.0,9,   -999.0,  13.0763,  25.8998