BOTTLE,20220819CCHSIOAMB
EXPOCODE,SECT_ID,STNNBR,CASTNO,SAMPNO,BTLNBR,BTLNBR_FLAG_W,DATE,TIME,LATITUDE,LONGITUDE,DEPTH,CTDPRS,CTDPRS_FLAG_W,CTDTMP,CTDTMP_FLAG_W,SBE35,SBE35_FLAG_W,CTDSAL,CTDSAL_FLAG_W,SALNTY,SALNTY_FLAG_W,CTDOXY,CTDOXY_FLAG_W,OPTOXY,OPTOXY_FLAG_W,DWNPRS,DWNPRS_FLAG_W,DWNOXY,DWNOXY_FLAG_W,OXYGEN,OXYGEN_FLAG_W,SILCAT,SILCAT_FLAG_W,SILUNC,NITRAT,NITRAT_FLAG_W,NRAUNC,NITRIT,NITRIT_FLAG_W,NRIUNC,PHSPHT,PHSPHT_FLAG_W,PHPUNC,CFC-11,CFC-11_FLAG_W,CFC-12,CFC-12_FLAG_W,CFC113,CFC113_FLAG_W,TCARBN,TCARBN_FLAG_W,ALKALI,ALKALI_FLAG_W,PH,PH_FLAG_W,DELC13,DELC13_FLAG_W,C13ERR,DELC14,DELC14_FLAG_W,C14ERR,THETA,SIG0
,,,,,,,,UTC,DEG,DEG,METERS,DBAR,,ITS-90,,ITS-90,,PSS-78,,PSS-78,,UMOL/KG,,UMOL/KG,,DBAR,,UMOL/KG,,UMOL/KG,,UMOL/KG,,UMOL/KG,UMOL/KG,,UMOL/KG,UMOL/KG,,UMOL/KG,UMOL/KG,,UMOL/KG,PMOL/KG,,PMOL/KG,,PMOL/KG,,UMOL/KG,,UMOL/KG,,,,/MILLE,,/MILLE,/MILLE,,/MILLE,DEG C,KG/M^3
    49NZ20060120,   P03W,   382,  2,     36, X12042,2,20060121,2315, 27.0743, 125.9755,  829,      9.2,2,  23.4657,2,  23.46551,2,  34.5228,2,  34.5230,2,   191.87,1,   210.83,2,     13.2,2,   210.55,2,   211.99,2,  -999.00,9,  -999.00,  -999.00,9,  -999.00,  -999.00,9,  -999.00, -999.000,9, -999.000, -999.000,9, -999.000,9, -999.000,9,   -999.0,9,   -999.0,9,-999.0000,9, -999.000,9, -999.000,   -999.0,9,   -999.0,  23.4638,  23.4374
    49NZ20060120,   P03W,   382,  2,     35, X12041,2,20060121,2315, 27.0743, 125.9755,  829,     49.2,2,  23.4772,2,  23.47745,2,  34.5233,2,  34.5239,2,   191.78,1,   210.02,2,     52.1,2,   210.37,2,   212.00,2,  -999.00,9,  -999.00,  -999.00,9,  -999.00,  -999.00,9,  -999.00, -999.000,9, -999.000, -999.000,9, -999.000,9, -999.000,9,   -999.0,9,   -999.0,9,-999.0000,9, -999.000,9, -999.000,   -999.0,9,   -999.0,  23.4670,  23.4369
    49NZ20060120,   P03W,   382,  2,     34, X12016,2,20060121,2315, 27.0743, 125.9755,  829,     99.7,2,  23.1028,2,  23.10468,2,  34.6104,2,  34.6110,2,   181.40,1,   199.01,2,     99.1,2,   199.45,2,   200.81,2,  -999.00,9,  -999.00,  -999.00,9,  -999.00,  -999.00,9,  -999.00, -999.000,9, -999.000, -999.000,9, -999.000,9, -999.000,9,   -999.0,9,   -999.0,9,-999.0000,9, -999.000,9, -999.000,   -999.0,9,   -999.0,  23.0824,  23.6144
    49NZ20060120,   P03W,   382,  2,     33, X12039,2,20060121,2315, 27.0743, 125.9755,  829,    150.1,2,  21.0097,2,  21.01263,2,  34.6122,2,  34.6093,2,   183.63,1,   201.01,2,    151.5,2,   198.32,2,   203.49,2,  -999.00,9,  -999.00,  -999.00,9,  -999.00,  -999.00,9,  -999.00, -999.000,9, -999.000, -999.000,9, -999.000,9, -999.000,9,   -999.0,9,   -999.0,9,-999.0000,9, -999.000,9, -999.000,   -999.0,9,   -999.0,  20.9810,  24.2039
    49NZ20060120,   P03W,   382,  2,     32, X12038,2,20060121,2315, 27.0743, 125.9755,  829,    200.8,2,  19.1677,2,  19.17006,2,  34.7100,2,  34.7119,2,   166.85,1,   183.45,2,    201.4,2,   182.76,2,   184.38,2,  -999.00,9,  -999.00,  -999.00,9,  -999.00,  -999.00,9,  -999.00, -999.000,9, -999.000, -999.000,9, -999.000,9, -999.000,9,   -999.0,9,   -999.0,9,-999.0000,9, -999.000,9, -999.000,   -999.0,9,   -999.0,  19.1317,  24.7659
    49NZ20060120,   P03W,   382,  2,     31, X12037,2,20060121,2315, 27.0743, 125.9755,  829,    249.9,2,  13.9167,2,  13.91531,2,  34.5399,2,  34.5426,2,   140.93,1,   154.82,2,    250.9,2,   153.25,2,   155.29,2,  -999.00,9,  -999.00,  -999.00,9,  -999.00,  -999.00,9,  -999.00, -999.000,9, -999.000, -999.000,9, -999.000,9, -999.000,9,   -999.0,9,   -999.0,9,-999.0000,9, -999.000,9, -999.000,   -999.0,9,   -999.0,  13.8808,  25.8564
    49NZ20060120,   P03W,   382,  2,     30, X12008,2,20060121,2315, 27.0743, 125.9755,  829,    300.1,2,  12.0788,2,  12.08108,2,  34.4655,2,  34.4668,2,   131.29,1,   144.16,2,    297.2,2,   142.79,2,   144.16,2,  -999.00,9,  -999.00,  -999.00,9,  -999.00,  -999.00,9,  -999.00, -999.000,9, -999.000, -999.000,9, -999.000,9, -999.000,9,   -999.0,9,   -999.0,9,-999.0000,9, -999.000,9, -999.000,   -999.0,9,   -999.0,  12.0395,  26.1664
    49NZ20060120,   P03W,   382,  2,     29, X12035,2,20060121,2315, 27.0743, 125.9755,  829,    398.8,2,   8.9257,2,   8.93163,2,  34.3341,2,  34.3338,2,   105.57,1,   115.76,2,    402.0,2,   115.83,2,   115.32,2,  -999.00,9,  -999.00,  -999.00,9,  -999.00,  -999.00,9,  -999.00, -999.000,9, -999.000, -999.000,9, -999.000,9, -999.000,9,   -999.0,9,   -999.0,9,-999.0000,9, -999.000,9, -999.000,   -999.0,9,   -999.0,   8.8825,  26.6153
    49NZ20060120,   P03W,   382,  2,     28, X12034,2,20060121,2315, 27.0743, 125.9755,  829,    501.6,2,   7.6067,2,   7.59424,2,  34.3091,2,  34.3096,6,    99.67,1,   109.15,2,    504.9,2,   107.84,2,   109.01,2,  -999.00,9,  -999.00,  -999.00,9,  -999.00,  -999.00,9,  -999.00, -999.000,9, -999.000, -999.000,9, -999.000,9, -999.000,9,   -999.0,9,   -999.0,9,-999.0000,9, -999.000,9, -999.000,   -999.0,9,   -999.0,   7.5569,  26.7960
    49NZ20060120,   P03W,   382,  2,     27, X12033,2,20060121,2315, 27.0743, 125.9755,  829,    599.7,2,   6.1723,2,   6.17366,2,  34.2791,2,  34.2795,2,    84.55,1,    93.08,2,    598.8,2,    91.71,2,    92.09,2,  -999.00,9,  -999.00,  -999.00,9,  -999.00,  -999.00,9,  -999.00, -999.000,9, -999.000, -999.000,9, -999.000,9, -999.000,9,   -999.0,9,   -999.0,9,-999.0000,9, -999.000,9, -999.000,   -999.0,9,   -999.0,   6.1189,  26.9679
    49NZ20060120,   P03W,   382,  2,     26, X12032,2,20060121,2315, 27.0743, 125.9755,  829,    699.6,2,   5.6551,2,   5.65509,2,  34.3370,2,  34.3373,2,    78.53,1,    86.32,2,    700.4,2,    85.37,2,    85.58,2,  -999.00,9,  -999.00,  -999.00,9,  -999.00,  -999.00,9,  -999.00, -999.000,9, -999.000, -999.000,9, -999.000,9, -999.000,9,   -999.0,9,   -999.0,9,-999.0000,9, -999.000,9, -999.000,   -999.0,9,   -999.0,   5.5950,  27.0791
    49NZ20060120,   P03W,   382,  2,     25, X12001,2,20060121,2315, 27.0743, 125.9755,  829,    798.7,2,   5.3539,2,   5.35437,2,  34.3718,2,  34.3718,2,    75.78,1,    83.05,2,    798.7,2,    81.82,2,    82.54,2,  -999.00,9,  -999.00,  -999.00,9,  -999.00,  -999.00,9,  -999.00, -999.000,9, -999.000, -999.000,9, -999.000,9, -999.000,9,   -999.0,9,   -999.0,9,-999.0000,9, -999.000,9, -999.000,   -999.0,9,   -999.0,   5.2865,  27.1437
    49NZ20060120,   P03W,   382,  2,     21, X12009,9,20060121,2315, 27.0743, 125.9755,  829,     24.5,2,  23.4771,2,  23.47750,2,  34.5222,2,-999.0000,9,   191.95,1,   210.68,2,     27.7,2,   210.51,2,  -999.00,9,  -999.00,9,  -999.00,  -999.00,9,  -999.00,  -999.00,9,  -999.00, -999.000,9, -999.000, -999.000,9, -999.000,9, -999.000,9,   -999.0,9,   -999.0,9,-999.0000,9, -999.000,9, -999.000,   -999.0,9,   -999.0,  23.4720,  23.4346
    49NZ20060120,   P03W,   382,  2,     20, X12026,9,20060121,2315, 27.0743, 125.9755,  829,     75.3,2,  23.4480,2,  23.45166,2,  34.5352,2,-999.0000,9,   191.65,1,   209.85,2,     72.3,2,   205.52,2,  -999.00,9,  -999.00,9,  -999.00,  -999.00,9,  -999.00,  -999.00,9,  -999.00, -999.000,9, -999.000, -999.000,9, -999.000,9, -999.000,9,   -999.0,9,   -999.0,9,-999.0000,9, -999.000,9, -999.000,   -999.0,9,   -999.0,  23.4325,  23.4560
    49NZ20060120,   P03W,   382,  2,     19, X12025,9,20060121,2315, 27.0743, 125.9755,  829,    825.9,2,   5.1959,2,   5.19601,2,  34.3799,2,-999.0000,9,    74.66,1,    81.51,2,    825.8,2,    80.56,2,  -999.00,9,  -999.00,9,  -999.00,  -999.00,9,  -999.00,  -999.00,9,  -999.00, -999.000,9, -999.000, -999.000,9, -999.000,9, -999.000,9,   -999.0,9,   -999.0,9,-999.0000,9, -999.000,9, -999.000,   -999.0,9,   -999.0,   5.1271,  27.1689
    49NZ20060120,   P03W,   382,  2,     18, X12024,9,20060121,2315, 27.0743, 125.9755,  829,      9.5,2,  23.4574,2,  23.45728,2,  34.5232,2,-999.0000,9,   191.92,1,   211.06,2,     14.1,2,   210.58,2,  -999.00,9,  -999.00,9,  -999.00,  -999.00,9,  -999.00,  -999.00,9,  -999.00, -999.000,9, -999.000, -999.000,9, -999.000,9, -999.000,9,   -999.0,9,   -999.0,9,-999.0000,9, -999.000,9, -999.000,   -999.0,9,   -999.0,  23.4554,  23.4402
    49NZ20060120,   P03W,   382,  2,     17, X12023,9,20060121,2315, 27.0743, 125.9755,  829,     48.9,2,  23.4773,2,  23.47808,2,  34.5232,2,-999.0000,9,   191.90,1,   210.14,2,     51.8,2,   210.38,2,  -999.00,9,  -999.00,9,  -999.00,  -999.00,9,  -999.00,  -999.00,9,  -999.00, -999.000,9, -999.000, -999.000,9, -999.000,9, -999.000,9,   -999.0,9,   -999.0,9,-999.0000,9, -999.000,9, -999.000,   -999.0,9,   -999.0,  23.4672,  23.4368
    49NZ20060120,   P03W,   382,  2,     16, X12022,9,20060121,2315, 27.0743, 125.9755,  829,     99.7,2,  23.0872,2,  23.08743,2,  34.6120,2,-999.0000,9,   181.25,1,   198.73,2,     99.4,2,   199.43,2,  -999.00,9,  -999.00,9,  -999.00,  -999.00,9,  -999.00,  -999.00,9,  -999.00, -999.000,9, -999.000, -999.000,9, -999.000,9, -999.000,9,   -999.0,9,   -999.0,9,-999.0000,9, -999.000,9, -999.000,   -999.0,9,   -999.0,  23.0668,  23.6201
    49NZ20060120,   P03W,   382,  2,     15, X12021,9,20060121,2315, 27.0743, 125.9755,  829,    150.4,2,  21.0430,2,  21.04327,2,  34.6052,2,-999.0000,9,   184.17,1,   201.30,2,    150.8,2,   197.54,2,  -999.00,9,  -999.00,9,  -999.00,  -999.00,9,  -999.00,  -999.00,9,  -999.00, -999.000,9, -999.000, -999.000,9, -999.000,9, -999.000,9,   -999.0,9,   -999.0,9,-999.0000,9, -999.000,9, -999.000,   -999.0,9,   -999.0,  21.0142,  24.1895
    49NZ20060120,   P03W,   382,  2,     14, X12020,9,20060121,2315, 27.0743, 125.9755,  829,    200.5,2,  19.1496,2,  19.14810,2,  34.7092,2,-999.0000,9,   166.91,1,   182.96,2,    201.7,2,   182.71,2,  -999.00,9,  -999.00,9,  -999.00,  -999.00,9,  -999.00,  -999.00,9,  -999.00, -999.000,9, -999.000, -999.000,9, -999.000,9, -999.000,9,   -999.0,9,   -999.0,9,-999.0000,9, -999.000,9, -999.000,   -999.0,9,   -999.0,  19.1137,  24.7699
    49NZ20060120,   P03W,   382,  2,     13, X12019,9,20060121,2315, 27.0743, 125.9755,  829,    250.1,2,  13.9009,2,  13.89697,2,  34.5399,2,-999.0000,9,   140.89,1,   154.88,2,    251.1,2,   153.19,2,  -999.00,9,  -999.00,9,  -999.00,  -999.00,9,  -999.00,  -999.00,9,  -999.00, -999.000,9, -999.000, -999.000,9, -999.000,9, -999.000,9,   -999.0,9,   -999.0,9,-999.0000,9, -999.000,9, -999.000,   -999.0,9,   -999.0,  13.8650,  25.8597
    49NZ20060120,   P03W,   382,  2,     12, X12018,9,20060121,2315, 27.0743, 125.9755,  829,    299.9,2,  12.0885,2,  12.09168,2,  34.4663,2,-999.0000,9,   131.26,1,   144.11,2,    297.1,2,   142.79,2,  -999.00,9,  -999.00,9,  -999.00,  -999.00,9,  -999.00,  -999.00,9,  -999.00, -999.000,9, -999.000, -999.000,9, -999.000,9, -999.000,9,   -999.0,9,   -999.0,9,-999.0000,9, -999.000,9, -999.000,   -999.0,9,   -999.0,  12.0492,  26.1652
    49NZ20060120,   P03W,   382,  2,     11, X12005,9,20060121,2315, 27.0743, 125.9755,  829,    399.2,2,   8.9498,2,   8.95052,2,  34.3340,2,-999.0000,9,   105.77,1,   116.11,2,    401.7,2,   115.89,2,  -999.00,9,  -999.00,9,  -999.00,  -999.00,9,  -999.00,  -999.00,9,  -999.00, -999.000,9, -999.000, -999.000,9, -999.000,9, -999.000,9,   -999.0,9,   -999.0,9,-999.0000,9, -999.000,9, -999.000,   -999.0,9,   -999.0,   8.9065,  26.6114
    49NZ20060120,   P03W,   382,  2,     10, X12010,9,20060121,2315, 27.0743, 125.9755,  829,    501.5,2,   7.5993,2,   7.60004,2,  34.3094,2,-999.0000,9,    99.50,1,   109.46,2,    505.0,2,   107.78,2,  -999.00,9,  -999.00,9,  -999.00,  -999.00,9,  -999.00,  -999.00,9,  -999.00, -999.000,9, -999.000, -999.000,9, -999.000,9, -999.000,9,   -999.0,9,   -999.0,9,-999.0000,9, -999.000,9, -999.000,   -999.0,9,   -999.0,   7.5496,  26.7974
    49NZ20060120,   P03W,   382,  2,      9, X12015,9,20060121,2315, 27.0743, 125.9755,  829,    600.0,2,   6.1898,2,   6.18758,2,  34.2841,2,-999.0000,9,    84.75,1,    93.06,2,    599.4,2,    91.72,2,  -999.00,9,  -999.00,9,  -999.00,  -999.00,9,  -999.00,  -999.00,9,  -999.00, -999.000,9, -999.000, -999.000,9, -999.000,9, -999.000,9,   -999.0,9,   -999.0,9,-999.0000,9, -999.000,9, -999.000,   -999.0,9,   -999.0,   6.1363,  26.9696
    49NZ20060120,   P03W,   382,  2,      8, X12014,9,20060121,2315, 27.0743, 125.9755,  829,    700.7,2,   5.6554,2,   5.65592,2,  34.3369,2,-999.0000,9,    78.58,1,    86.45,2,    701.3,2,    85.31,2,  -999.00,9,  -999.00,9,  -999.00,  -999.00,9,  -999.00,  -999.00,9,  -999.00, -999.000,9, -999.000, -999.000,9, -999.000,9, -999.000,9,   -999.0,9,   -999.0,9,-999.0000,9, -999.000,9, -999.000,   -999.0,9,   -999.0,   5.5952,  27.0790
    49NZ20060120,   P03W,   382,  2,      7, X12013,9,20060121,2315, 27.0743, 125.9755,  829,    799.3,2,   5.3562,2,   5.35654,2,  34.3717,2,-999.0000,9,    75.78,1,    83.11,2,    799.1,2,    81.81,2,  -999.00,9,  -999.00,9,  -999.00,  -999.00,9,  -999.00,  -999.00,9,  -999.00, -999.000,9, -999.000, -999.000,9, -999.000,9, -999.000,9,   -999.0,9,   -999.0,9,-999.0000,9, -999.000,9, -999.000,   -999.0,9,   -999.0,   5.2888,  27.1434
    49NZ20060120,   P03W,   382,  2,      3, X12003,2,20060121,2315, 27.0743, 125.9755,  829,     24.3,2,  23.4721,2,  23.47276,2,  34.5227,2,  34.5226,2,   191.99,1,   210.55,2,     27.9,2,   210.54,2,   212.09,2,  -999.00,9,  -999.00,  -999.00,9,  -999.00,  -999.00,9,  -999.00, -999.000,9, -999.000, -999.000,9, -999.000,9, -999.000,9,   -999.0,9,   -999.0,9,-999.0000,9, -999.000,9, -999.000,   -999.0,9,   -999.0,  23.4671,  23.4364
    49NZ20060120,   P03W,   382,  2,      2, X12044,2,20060121,2315, 27.0743, 125.9755,  829,     74.6,2,  23.4411,2,  23.44221,2,  34.5366,2,  34.5378,2,   191.46,1,   209.62,2,     72.2,2,   205.53,2,   211.81,2,  -999.00,9,  -999.00,  -999.00,9,  -999.00,  -999.00,9,  -999.00, -999.000,9, -999.000, -999.000,9, -999.000,9, -999.000,9,   -999.0,9,   -999.0,9,-999.0000,9, -999.000,9, -999.000,   -999.0,9,   -999.0,  23.4257,  23.4590
    49NZ20060120,   P03W,   382,  2,      1, X12051,2,20060121,2315, 27.0743, 125.9755,  829,    825.9,2,   5.1957,2,   5.19618,2,  34.3802,2,  34.3796,6,    74.66,1,    81.48,2,    825.9,2,    80.56,2,    80.98,2,  -999.00,9,  -999.00,  -999.00,9,  -999.00,  -999.00,9,  -999.00, -999.000,9, -999.000, -999.000,9, -999.000,9, -999.000,9,   -999.0,9,   -999.0,9,-999.0000,9, -999.000,9, -999.000,   -999.0,9,   -999.0,   5.1269,  27.1691