BOTTLE,20220819CCHSIOAMB
EXPOCODE,SECT_ID,STNNBR,CASTNO,SAMPNO,BTLNBR,BTLNBR_FLAG_W,DATE,TIME,LATITUDE,LONGITUDE,DEPTH,CTDPRS,CTDPRS_FLAG_W,CTDTMP,CTDTMP_FLAG_W,SBE35,SBE35_FLAG_W,CTDSAL,CTDSAL_FLAG_W,SALNTY,SALNTY_FLAG_W,CTDOXY,CTDOXY_FLAG_W,OPTOXY,OPTOXY_FLAG_W,DWNPRS,DWNPRS_FLAG_W,DWNOXY,DWNOXY_FLAG_W,OXYGEN,OXYGEN_FLAG_W,SILCAT,SILCAT_FLAG_W,SILUNC,NITRAT,NITRAT_FLAG_W,NRAUNC,NITRIT,NITRIT_FLAG_W,NRIUNC,PHSPHT,PHSPHT_FLAG_W,PHPUNC,CFC-11,CFC-11_FLAG_W,CFC-12,CFC-12_FLAG_W,CFC113,CFC113_FLAG_W,TCARBN,TCARBN_FLAG_W,ALKALI,ALKALI_FLAG_W,PH,PH_FLAG_W,DELC13,DELC13_FLAG_W,C13ERR,DELC14,DELC14_FLAG_W,C14ERR,THETA,SIG0
,,,,,,,,UTC,DEG,DEG,METERS,DBAR,,ITS-90,,ITS-90,,PSS-78,,PSS-78,,UMOL/KG,,UMOL/KG,,DBAR,,UMOL/KG,,UMOL/KG,,UMOL/KG,,UMOL/KG,UMOL/KG,,UMOL/KG,UMOL/KG,,UMOL/KG,UMOL/KG,,UMOL/KG,PMOL/KG,,PMOL/KG,,PMOL/KG,,UMOL/KG,,UMOL/KG,,,,/MILLE,,/MILLE,/MILLE,,/MILLE,DEG C,KG/M^3
    49NZ20060120,   P03W,   380,  1,     36, X12042,2,20060120,2248, 26.9698, 126.0823, 1356,     10.1,2,  23.4568,2,  23.45599,2,  34.5423,2,  34.5427,2,   194.26,1,   211.73,2,     12.2,2,   213.90,2,   212.66,2,     1.24,2,     0.12,     0.08,2,     0.03,     0.08,2,     0.01,    0.065,2,    0.028,    1.698,2,    0.987,2,    0.112,2,   1947.6,2,   2269.6,2,   8.0834,6, -999.000,9, -999.000,   -999.0,9,   -999.0,  23.4547,  23.4549
    49NZ20060120,   P03W,   380,  1,     35, X12041,2,20060120,2248, 26.9698, 126.0823, 1356,     51.0,2,  23.4691,2,  23.47038,2,  34.5432,2,  34.5431,2,   193.98,1,   210.55,2,     49.0,2,   209.63,2,   212.16,2,     1.24,2,     0.12,     0.09,2,     0.03,     0.08,2,     0.01,    0.067,2,    0.028,    1.704,2,    1.010,2,    0.108,2,   1950.0,6,   2271.4,2,   8.0846,2, -999.000,9, -999.000,   -999.0,9,   -999.0,  23.4586,  23.4544
    49NZ20060120,   P03W,   380,  1,     34, X12016,2,20060120,2248, 26.9698, 126.0823, 1356,     99.7,2,  22.8680,2,  22.86745,2,  34.6296,2,  34.6302,2,   191.65,1,   208.04,2,     90.8,2,   203.38,2,   209.53,2,     1.71,2,     0.12,     0.40,2,     0.03,     0.33,2,     0.01,    0.099,2,    0.022,    1.739,2,    1.020,2,    0.098,2,   1960.9,2,   2274.7,6,   8.0713,2, -999.000,9, -999.000,   -999.0,9,   -999.0,  22.8478,  23.6964
    49NZ20060120,   P03W,   380,  1,     33, X12039,2,20060120,2248, 26.9698, 126.0823, 1356,    149.9,2,  21.3260,2,  21.33419,2,  34.6793,2,  34.6839,2,   170.47,1,   185.78,2,    148.8,2,   186.33,2,   186.78,2,     4.98,2,     0.13,     3.79,2,     0.04,     0.05,2,     0.01,    0.318,2,    0.014,    1.836,2,    1.053,2,    0.049,2,   2003.6,2,   2278.3,2,   8.0071,6, -999.000,9, -999.000,   -999.0,9,   -999.0,  21.2971,  24.1688
    49NZ20060120,   P03W,   380,  1,     32, X12038,2,20060120,2248, 26.9698, 126.0823, 1356,    200.3,2,  19.1679,2,  19.16235,2,  34.7885,2,  34.7895,2,   167.46,1,   182.08,2,    200.5,2,   184.68,2,   182.90,2,     5.88,2,     0.13,     5.34,2,     0.05,     0.02,2,     0.01,    0.416,2,    0.013,    1.997,2,    1.134,2,    0.064,2,   2034.3,2,   2285.7,2,   7.9639,2, -999.000,9, -999.000,   -999.0,9,   -999.0,  19.1320,  24.8258
    49NZ20060120,   P03W,   380,  1,     31, X12037,2,20060120,2248, 26.9698, 126.0823, 1356,    250.0,2,  16.8394,2,  16.83704,2,  34.6848,2,  34.6858,2,   160.93,1,   175.10,2,    253.2,2,   177.73,2,   175.64,2,    11.38,2,     0.14,     8.93,2,     0.06,     0.01,2,     0.01,    0.666,2,    0.013,    2.025,6,    1.131,6,    0.055,6,   2064.0,2,   2284.3,2,   7.9077,2, -999.000,9, -999.000,   -999.0,9,   -999.0,  16.7984,  25.3199
    49NZ20060120,   P03W,   380,  1,     30, X12008,2,20060120,2248, 26.9698, 126.0823, 1356,    297.8,2,  13.9407,2,  13.93251,2,  34.5433,2,  34.5455,2,   146.31,1,   158.79,2,    306.0,2,   159.29,2,   159.03,2,    21.84,2,     0.17,    14.61,2,     0.07,     0.01,2,     0.01,    1.074,2,    0.013,    1.943,2,    1.040,2,    0.046,2,   2108.3,2,   2285.7,2,   7.8198,2, -999.000,9, -999.000,   -999.0,9,   -999.0,  13.8978,  25.8555
    49NZ20060120,   P03W,   380,  1,     29, X12035,2,20060120,2248, 26.9698, 126.0823, 1356,    401.3,2,   9.6989,2,   9.68792,2,  34.3562,2,  34.3603,2,   115.18,1,   125.26,2,    407.3,2,   126.08,2,   124.58,2,    42.80,2,     0.21,    24.54,2,     0.10,     0.01,2,     0.01,    1.790,2,    0.015,    1.465,2,    0.734,2,    0.033,2,   2184.3,2,   2293.7,2,   7.6611,2, -999.000,9, -999.000,   -999.0,9,   -999.0,   9.6531,  26.5076
    49NZ20060120,   P03W,   380,  1,     28, X12034,2,20060120,2248, 26.9698, 126.0823, 1356,    500.2,2,   8.2699,2,   8.26826,2,  34.3207,2,  34.3238,6,   104.61,1,   113.73,2,    503.9,2,   114.06,2,   112.98,2,    55.96,2,     0.24,    28.04,2,     0.11,     0.00,2,     0.01,    2.044,2,    0.015,    1.207,2,    0.599,2,    0.031,2,   2214.4,2,   2302.5,2,   7.6092,2, -999.000,9, -999.000,   -999.0,9,   -999.0,   8.2178,  26.7077
    49NZ20060120,   P03W,   380,  1,     27, X12033,2,20060120,2248, 26.9698, 126.0823, 1356,    599.3,2,   6.7830,2,   6.78379,2,  34.3223,2,  34.3227,2,    91.90,1,   100.27,2,    603.0,2,   100.94,2,    99.27,2,    73.98,2,     0.28,    31.74,2,     0.12,     0.00,2,     0.01,    2.312,2,    0.016,    0.886,2,    0.445,2,    0.025,2,   2251.6,2,   2322.4,2,   7.5533,2, -999.000,9, -999.000,   -999.0,9,   -999.0,   6.7268,  26.9222
    49NZ20060120,   P03W,   380,  1,     26, X12032,2,20060120,2248, 26.9698, 126.0823, 1356,    699.6,2,   5.6478,2,   5.64682,2,  34.3469,2,  34.3466,2,    78.58,1,    85.79,2,    697.5,2,    85.11,2,    84.90,2,    89.43,2,     0.32,    35.00,2,     0.13,     0.00,2,     0.01,    2.538,2,    0.016,    0.535,2,    0.264,2,    0.013,2,   2282.6,6,   2335.7,2,   7.5084,2, -999.000,9, -999.000,   -999.0,9,   -999.0,   5.5877,  27.0878
    49NZ20060120,   P03W,   380,  1,     25, X12001,2,20060120,2248, 26.9698, 126.0823, 1356,    800.4,2,   5.2639,2,   5.26530,2,  34.3692,2,  34.3692,2,    75.00,1,    81.75,2,    798.3,2,    80.56,2,    81.02,2,    95.80,2,     0.33,    35.89,2,     0.13,     0.01,2,     0.01,    2.606,2,    0.016,    0.458,6,    0.231,6,    0.012,6,   2293.5,2,   2346.1,6,   7.4960,2, -999.000,9, -999.000,   -999.0,9,   -999.0,   5.1969,  27.1522
    49NZ20060120,   P03W,   380,  1,     24, X12030,2,20060120,2248, 26.9698, 126.0823, 1356,    903.5,2,   4.9471,2,   4.94712,2,  34.3952,2,  34.3957,2,    73.07,1,    79.65,2,    903.8,2,    78.93,2,    78.72,2,   101.74,2,     0.34,    36.47,2,     0.13,     0.00,2,     0.01,    2.653,2,    0.017,    0.369,2,    0.188,2,    0.012,2,   2302.8,2,   2351.4,2,   7.4900,6, -999.000,9, -999.000,   -999.0,9,   -999.0,   4.8730,  27.2103
    49NZ20060120,   P03W,   380,  1,     23, X12049,4,20060120,2248, 26.9698, 126.0823, 1356,    999.3,2,   4.5532,2,   4.55392,2,  34.4119,2,  34.4934,4,    70.98,1,    77.38,2,    999.6,2,    76.73,2,   149.04,4,   107.29,4,     0.36,    37.42,4,     0.14,     0.00,4,     0.01,    2.707,4,    0.017, -999.000,9, -999.000,9, -999.000,9,   -999.0,9,   -999.0,9,-999.0000,9, -999.000,9, -999.000,   -999.0,9,   -999.0,   4.4735,  27.2680
    49NZ20060120,   P03W,   380,  1,     22, X12028,2,20060120,2248, 26.9698, 126.0823, 1356,   1201.1,2,   4.0777,2,   4.07786,2,  34.4382,2,  34.4390,2,    70.05,1,    75.96,2,   1200.4,2,    75.55,2,    75.19,2,   114.45,2,     0.37,    38.37,2,     0.14,     0.00,2,     0.01,    2.766,2,    0.017,    0.188,2,    0.093,2,    0.000,2,   2321.2,2,   2364.4,2,   7.4727,2, -999.000,9, -999.000,   -999.0,9,   -999.0,   3.9844,  27.3409
    49NZ20060120,   P03W,   380,  1,     21, X12009,9,20060120,2248, 26.9698, 126.0823, 1356,     25.2,2,  23.4674,2,  23.46797,2,  34.5430,2,-999.0000,9,   194.11,1,   211.30,2,     27.2,2,   214.04,2,  -999.00,9,  -999.00,9,  -999.00,  -999.00,9,  -999.00,  -999.00,9,  -999.00, -999.000,9, -999.000, -999.000,9, -999.000,9, -999.000,9,   -999.0,9,   -999.0,9,-999.0000,9, -999.000,9, -999.000,   -999.0,9,   -999.0,  23.4622,  23.4532
    49NZ20060120,   P03W,   380,  1,     20, X12026,9,20060120,2248, 26.9698, 126.0823, 1356,     74.4,2,  23.2534,2,  23.25287,2,  34.5914,2,-999.0000,9,   188.45,1,   204.79,2,     69.8,2,   196.37,2,  -999.00,9,  -999.00,9,  -999.00,  -999.00,9,  -999.00,  -999.00,9,  -999.00, -999.000,9, -999.000, -999.000,9, -999.000,9, -999.000,9,   -999.0,9,   -999.0,9,-999.0000,9, -999.000,9, -999.000,   -999.0,9,   -999.0,  23.2381,  23.5550
    49NZ20060120,   P03W,   380,  1,     19, X12025,9,20060120,2248, 26.9698, 126.0823, 1356,   1353.9,2,   3.9604,2,   3.96061,2,  34.4492,2,-999.0000,9,    70.42,1,    75.77,2,   1353.9,2,    75.66,2,  -999.00,9,  -999.00,9,  -999.00,  -999.00,9,  -999.00,  -999.00,9,  -999.00, -999.000,9, -999.000, -999.000,9, -999.000,9, -999.000,9,   -999.0,9,   -999.0,9,-999.0000,9, -999.000,9, -999.000,   -999.0,9,   -999.0,   3.8549,  27.3629
    49NZ20060120,   P03W,   380,  1,     18, X12024,9,20060120,2248, 26.9698, 126.0823, 1356,     10.2,2,  23.4485,2,  23.44865,2,  34.5412,2,-999.0000,9,   194.18,1,   211.70,2,     12.6,2,   213.96,2,  -999.00,9,  -999.00,9,  -999.00,  -999.00,9,  -999.00,  -999.00,9,  -999.00, -999.000,9, -999.000, -999.000,9, -999.000,9, -999.000,9,   -999.0,9,   -999.0,9,-999.0000,9, -999.000,9, -999.000,   -999.0,9,   -999.0,  23.4464,  23.4565
    49NZ20060120,   P03W,   380,  1,     17, X12023,9,20060120,2248, 26.9698, 126.0823, 1356,     50.0,2,  23.4724,2,  23.47325,2,  34.5424,2,-999.0000,9,   194.27,1,   210.59,2,     48.3,2,   210.24,2,  -999.00,9,  -999.00,9,  -999.00,  -999.00,9,  -999.00,  -999.00,9,  -999.00, -999.000,9, -999.000, -999.000,9, -999.000,9, -999.000,9,   -999.0,9,   -999.0,9,-999.0000,9, -999.000,9, -999.000,   -999.0,9,   -999.0,  23.4621,  23.4528
    49NZ20060120,   P03W,   380,  1,     16, X12022,9,20060120,2248, 26.9698, 126.0823, 1356,    100.8,2,  22.8552,2,  22.85526,2,  34.6286,2,-999.0000,9,   192.00,1,   208.28,2,     92.3,2,   203.38,2,  -999.00,9,  -999.00,9,  -999.00,  -999.00,9,  -999.00,  -999.00,9,  -999.00, -999.000,9, -999.000, -999.000,9, -999.000,9, -999.000,9,   -999.0,9,   -999.0,9,-999.0000,9, -999.000,9, -999.000,   -999.0,9,   -999.0,  22.8348,  23.6993
    49NZ20060120,   P03W,   380,  1,     15, X12021,9,20060120,2248, 26.9698, 126.0823, 1356,    149.6,2,  21.2082,2,  21.22416,2,  34.6801,2,-999.0000,9,   170.39,1,   185.58,2,    149.4,2,   186.39,2,  -999.00,9,  -999.00,9,  -999.00,  -999.00,9,  -999.00,  -999.00,9,  -999.00, -999.000,9, -999.000, -999.000,9, -999.000,9, -999.000,9,   -999.0,9,   -999.0,9,-999.0000,9, -999.000,9, -999.000,   -999.0,9,   -999.0,  21.1794,  24.2016
    49NZ20060120,   P03W,   380,  1,     14, X12020,9,20060120,2248, 26.9698, 126.0823, 1356,    201.4,2,  19.0939,2,  19.09260,2,  34.7877,2,-999.0000,9,   167.44,1,   181.93,2,    201.9,2,   184.92,2,  -999.00,9,  -999.00,9,  -999.00,  -999.00,9,  -999.00,  -999.00,9,  -999.00, -999.000,9, -999.000, -999.000,9, -999.000,9, -999.000,9,   -999.0,9,   -999.0,9,-999.0000,9, -999.000,9, -999.000,   -999.0,9,   -999.0,  19.0579,  24.8441
    49NZ20060120,   P03W,   380,  1,     13, X12019,9,20060120,2248, 26.9698, 126.0823, 1356,    251.2,2,  16.6570,2,  16.66373,2,  34.6860,2,-999.0000,9,   162.42,1,   176.12,2,    254.7,2,   177.98,2,  -999.00,9,  -999.00,9,  -999.00,  -999.00,9,  -999.00,  -999.00,9,  -999.00, -999.000,9, -999.000, -999.000,9, -999.000,9, -999.000,9,   -999.0,9,   -999.0,9,-999.0000,9, -999.000,9, -999.000,   -999.0,9,   -999.0,  16.6162,  25.3636
    49NZ20060120,   P03W,   380,  1,     12, X12018,9,20060120,2248, 26.9698, 126.0823, 1356,    299.0,2,  13.8781,2,  13.88278,2,  34.5413,2,-999.0000,9,   145.89,1,   158.62,2,    306.7,2,   159.02,2,  -999.00,9,  -999.00,9,  -999.00,  -999.00,9,  -999.00,  -999.00,9,  -999.00, -999.000,9, -999.000, -999.000,9, -999.000,9, -999.000,9,   -999.0,9,   -999.0,9,-999.0000,9, -999.000,9, -999.000,   -999.0,9,   -999.0,  13.8352,  25.8670
    49NZ20060120,   P03W,   380,  1,     11, X12005,9,20060120,2248, 26.9698, 126.0823, 1356,    400.8,2,   9.6846,2,   9.69315,2,  34.3548,2,-999.0000,9,   115.06,1,   125.30,2,    407.2,2,   126.09,2,  -999.00,9,  -999.00,9,  -999.00,  -999.00,9,  -999.00,  -999.00,9,  -999.00, -999.000,9, -999.000, -999.000,9, -999.000,9, -999.000,9,   -999.0,9,   -999.0,9,-999.0000,9, -999.000,9, -999.000,   -999.0,9,   -999.0,   9.6389,  26.5088
    49NZ20060120,   P03W,   380,  1,     10, X12010,9,20060120,2248, 26.9698, 126.0823, 1356,    501.0,2,   8.2573,2,   8.25975,2,  34.3199,2,-999.0000,9,   104.95,1,   114.06,2,    504.3,2,   114.15,2,  -999.00,9,  -999.00,9,  -999.00,  -999.00,9,  -999.00,  -999.00,9,  -999.00, -999.000,9, -999.000, -999.000,9, -999.000,9, -999.000,9,   -999.0,9,   -999.0,9,-999.0000,9, -999.000,9, -999.000,   -999.0,9,   -999.0,   8.2052,  26.7089
    49NZ20060120,   P03W,   380,  1,      9, X12015,9,20060120,2248, 26.9698, 126.0823, 1356,    599.2,2,   6.7869,2,   6.78728,2,  34.3226,2,-999.0000,9,    92.02,1,   100.27,2,    603.0,2,   100.94,2,  -999.00,9,  -999.00,9,  -999.00,  -999.00,9,  -999.00,  -999.00,9,  -999.00, -999.000,9, -999.000, -999.000,9, -999.000,9, -999.000,9,   -999.0,9,   -999.0,9,-999.0000,9, -999.000,9, -999.000,   -999.0,9,   -999.0,   6.7307,  26.9219
    49NZ20060120,   P03W,   380,  1,      8, X12014,9,20060120,2248, 26.9698, 126.0823, 1356,    700.1,2,   5.6329,2,   5.63372,2,  34.3494,2,-999.0000,9,    78.45,1,    85.74,2,    698.5,2,    85.08,2,  -999.00,9,  -999.00,9,  -999.00,  -999.00,9,  -999.00,  -999.00,9,  -999.00, -999.000,9, -999.000, -999.000,9, -999.000,9, -999.000,9,   -999.0,9,   -999.0,9,-999.0000,9, -999.000,9, -999.000,   -999.0,9,   -999.0,   5.5729,  27.0916
    49NZ20060120,   P03W,   380,  1,      7, X12013,9,20060120,2248, 26.9698, 126.0823, 1356,    799.3,2,   5.2695,2,   5.26966,2,  34.3693,2,-999.0000,9,    75.06,1,    81.86,2,    797.3,2,    80.58,2,  -999.00,9,  -999.00,9,  -999.00,  -999.00,9,  -999.00,  -999.00,9,  -999.00, -999.000,9, -999.000, -999.000,9, -999.000,9, -999.000,9,   -999.0,9,   -999.0,9,-999.0000,9, -999.000,9, -999.000,   -999.0,9,   -999.0,   5.2026,  27.1516
    49NZ20060120,   P03W,   380,  1,      6, X12048,9,20060120,2248, 26.9698, 126.0823, 1356,    902.8,2,   4.9503,2,   4.95037,2,  34.3952,2,-999.0000,9,    73.08,1,    79.64,2,    903.0,2,    78.96,2,  -999.00,9,  -999.00,9,  -999.00,  -999.00,9,  -999.00,  -999.00,9,  -999.00, -999.000,9, -999.000, -999.000,9, -999.000,9, -999.000,9,   -999.0,9,   -999.0,9,-999.0000,9, -999.000,9, -999.000,   -999.0,9,   -999.0,   4.8762,  27.2099
    49NZ20060120,   P03W,   380,  1,      5, X12047,2,20060120,2248, 26.9698, 126.0823, 1356,    999.2,2,   4.5550,2,   4.55518,2,  34.4119,2,  34.4121,6,    71.02,1,    77.42,2,    999.5,2,    76.72,2,    76.55,2,  -999.00,9,  -999.00,  -999.00,9,  -999.00,  -999.00,9,  -999.00, -999.000,9, -999.000,    0.286,2,    0.145,2,    0.013,2,   2314.4,2,   2356.5,2,   7.4788,2, -999.000,9, -999.000,   -999.0,9,   -999.0,   4.4753,  27.2678
    49NZ20060120,   P03W,   380,  1,      4, X12046,9,20060120,2248, 26.9698, 126.0823, 1356,   1202.3,2,   4.0800,2,   4.08007,2,  34.4378,2,-999.0000,9,    70.01,1,    75.96,2,   1201.4,2,    75.55,2,  -999.00,9,  -999.00,9,  -999.00,  -999.00,9,  -999.00,  -999.00,9,  -999.00, -999.000,9, -999.000, -999.000,9, -999.000,9, -999.000,9,   -999.0,9,   -999.0,9,-999.0000,9, -999.000,9, -999.000,   -999.0,9,   -999.0,   3.9866,  27.3403
    49NZ20060120,   P03W,   380,  1,      3, X12003,2,20060120,2248, 26.9698, 126.0823, 1356,     25.3,2,  23.4609,2,  23.46209,2,  34.5417,2,  34.5419,2,   194.23,1,   211.16,2,     27.5,2,   214.12,2,   212.24,2,     1.28,2,     0.12,     0.08,2,     0.03,     0.08,2,     0.01,    0.071,2,    0.027,    1.707,2,    0.996,2,    0.097,2,   1948.5,2,   2270.8,2,   8.0854,2, -999.000,9, -999.000,   -999.0,9,   -999.0,  23.4557,  23.4542
    49NZ20060120,   P03W,   380,  1,      2, X12044,2,20060120,2248, 26.9698, 126.0823, 1356,     74.2,2,  23.2528,2,  23.25328,2,  34.5910,2,  34.5910,2,   188.71,1,   204.98,2,     69.8,2,   196.38,2,   206.23,2,     1.83,2,     0.12,     0.57,2,     0.03,     0.30,2,     0.01,    0.109,2,    0.021,    1.716,2,    1.004,2,    0.088,2,   1959.8,2,   2271.8,2,   8.0725,2, -999.000,9, -999.000,   -999.0,9,   -999.0,  23.2376,  23.5549
    49NZ20060120,   P03W,   380,  1,      1, X12051,2,20060120,2248, 26.9698, 126.0823, 1356,   1353.3,2,   3.9607,2,   3.96117,2,  34.4492,2,  34.4495,6,    70.43,1,    75.76,2,   1353.3,2,    75.67,2,    75.70,2,   116.76,2,     0.38,    38.51,2,     0.14,     0.00,2,     0.01,    2.772,2,    0.017,    0.173,2,    0.086,2,    0.013,2,   2326.6,2,   2369.0,2,   7.4723,2, -999.000,9, -999.000,   -999.0,9,   -999.0,   3.8553,  27.3629