BOTTLE,20220819CCHSIOAMB
EXPOCODE,SECT_ID,STNNBR,CASTNO,SAMPNO,BTLNBR,BTLNBR_FLAG_W,DATE,TIME,LATITUDE,LONGITUDE,DEPTH,CTDPRS,CTDPRS_FLAG_W,CTDTMP,CTDTMP_FLAG_W,SBE35,SBE35_FLAG_W,CTDSAL,CTDSAL_FLAG_W,SALNTY,SALNTY_FLAG_W,CTDOXY,CTDOXY_FLAG_W,OPTOXY,OPTOXY_FLAG_W,DWNPRS,DWNPRS_FLAG_W,DWNOXY,DWNOXY_FLAG_W,OXYGEN,OXYGEN_FLAG_W,SILCAT,SILCAT_FLAG_W,SILUNC,NITRAT,NITRAT_FLAG_W,NRAUNC,NITRIT,NITRIT_FLAG_W,NRIUNC,PHSPHT,PHSPHT_FLAG_W,PHPUNC,CFC-11,CFC-11_FLAG_W,CFC-12,CFC-12_FLAG_W,CFC113,CFC113_FLAG_W,TCARBN,TCARBN_FLAG_W,ALKALI,ALKALI_FLAG_W,PH,PH_FLAG_W,DELC13,DELC13_FLAG_W,C13ERR,DELC14,DELC14_FLAG_W,C14ERR,THETA,SIG0
,,,,,,,,UTC,DEG,DEG,METERS,DBAR,,ITS-90,,ITS-90,,PSS-78,,PSS-78,,UMOL/KG,,UMOL/KG,,DBAR,,UMOL/KG,,UMOL/KG,,UMOL/KG,,UMOL/KG,UMOL/KG,,UMOL/KG,UMOL/KG,,UMOL/KG,UMOL/KG,,UMOL/KG,PMOL/KG,,PMOL/KG,,PMOL/KG,,UMOL/KG,,UMOL/KG,,,,/MILLE,,/MILLE,/MILLE,,/MILLE,DEG C,KG/M^3
    49NZ20060120,   P03W,   378,  1,     36, X12042,2,20060120,1935, 26.8913, 126.1863, 1535,     10.1,2,  23.1891,2,  23.19009,2,  34.5903,2,  34.5906,2,   196.12,1,   213.03,2,     10.1,2,   218.34,2,   214.37,2,     1.19,2,     0.12,     0.05,2,     0.03,     0.04,2,     0.01,    0.056,2,    0.032,    1.706,2,    1.000,2, -999.000,5,   -999.0,9,   -999.0,9,-999.0000,9, -999.000,9, -999.000,   -999.0,9,   -999.0,  23.1870,  23.5689
    49NZ20060120,   P03W,   378,  1,     35, X12041,2,20060120,1935, 26.8913, 126.1863, 1535,     49.7,2,  22.7805,2,  22.78014,2,  34.6952,2,  34.6949,2,   194.21,1,   210.87,2,     46.6,2,   216.82,2,   212.32,2,     1.30,2,     0.12,     0.15,2,     0.03,     0.11,2,     0.01,    0.060,2,    0.030,    1.735,2,    1.024,2, -999.000,5,   -999.0,9,   -999.0,9,-999.0000,9, -999.000,9, -999.000,   -999.0,9,   -999.0,  22.7704,  23.7683
    49NZ20060120,   P03W,   378,  1,     34, X12016,2,20060120,1935, 26.8913, 126.1863, 1535,     98.8,2,  22.3978,2,  22.39990,2,  34.7165,2,  34.7163,2,   189.44,1,   205.81,2,    104.3,2,   207.63,2,   207.72,2,     1.66,2,     0.12,     0.61,2,     0.03,     0.28,2,     0.01,    0.101,2,    0.022,    1.760,2,    1.032,2, -999.000,5,   -999.0,9,   -999.0,9,-999.0000,9, -999.000,9, -999.000,   -999.0,9,   -999.0,  22.3780,  23.8960
    49NZ20060120,   P03W,   378,  1,     33, X12039,2,20060120,1935, 26.8913, 126.1863, 1535,    149.3,2,  21.0837,2,  21.08904,2,  34.8430,2,  34.8415,2,   173.34,1,   188.46,2,    153.2,2,   192.00,2,   189.83,2,     2.84,2,     0.13,     2.72,2,     0.04,     0.03,2,     0.01,    0.232,2,    0.015,    1.929,2,    1.114,2, -999.000,5,   -999.0,9,   -999.0,9,-999.0000,9, -999.000,9, -999.000,   -999.0,9,   -999.0,  21.0551,  24.3594
    49NZ20060120,   P03W,   378,  1,     32, X12038,2,20060120,1935, 26.8913, 126.1863, 1535,    201.3,2,  18.6087,2,  18.61701,2,  34.8319,2,  34.8332,2,   172.92,1,   187.51,2,    203.3,2,   190.73,2,   188.95,2,     4.09,2,     0.13,     4.73,2,     0.05,     0.01,2,     0.01,    0.356,2,    0.014,    2.128,2,    1.196,2, -999.000,5,   -999.0,9,   -999.0,9,-999.0000,9, -999.000,9, -999.000,   -999.0,9,   -999.0,  18.5733,  25.0006
    49NZ20060120,   P03W,   378,  1,     31, X12037,2,20060120,1935, 26.8913, 126.1863, 1535,    249.3,2,  16.6591,2,  16.65499,2,  34.7103,2,  34.7138,2,   172.40,1,   186.91,2,    250.4,2,   187.49,2,   188.24,2,     6.77,2,     0.13,     7.24,2,     0.05,     0.01,2,     0.01,    0.529,2,    0.013,    2.270,6,    1.240,6,    0.058,4,   -999.0,9,   -999.0,9,-999.0000,9, -999.000,9, -999.000,   -999.0,9,   -999.0,  16.6186,  25.3817
    49NZ20060120,   P03W,   378,  1,     30, X12008,2,20060120,1935, 26.8913, 126.1863, 1535,    299.6,2,  15.3607,2,  15.36108,2,  34.6238,2,  34.6247,2,   167.87,1,   181.98,2,    299.0,2,   182.17,2,   182.62,2,    10.69,2,     0.14,     9.78,2,     0.06,     0.01,2,     0.01,    0.708,2,    0.013,    2.279,2,    1.208,2,    0.053,4,   -999.0,9,   -999.0,9,-999.0000,9, -999.000,9, -999.000,   -999.0,9,   -999.0,  15.3146,  25.6125
    49NZ20060120,   P03W,   378,  1,     29, X12035,2,20060120,1935, 26.8913, 126.1863, 1535,    400.7,2,  11.1297,2,  11.13353,2,  34.4031,2,  34.4039,2,   130.52,1,   141.79,2,    403.2,2,   140.92,2,   141.59,2,    33.25,2,     0.19,    20.61,2,     0.09,     0.01,2,     0.01,    1.505,2,    0.014,    1.783,2,    0.899,2,    0.038,2,   -999.0,9,   -999.0,9,-999.0000,9, -999.000,9, -999.000,   -999.0,9,   -999.0,  11.0798,  26.2962
    49NZ20060120,   P03W,   378,  1,     28, X12034,2,20060120,1935, 26.8913, 126.1863, 1535,    499.8,2,   9.0127,2,   9.01334,2,  34.3144,2,  34.3147,6,   113.55,1,   123.34,2,    501.0,2,   124.24,2,   122.86,2,    47.02,2,     0.22,    25.16,3,     0.10,     0.00,2,     0.01,    1.894,2,    0.015,    1.435,2,    0.706,2,    0.033,2,   -999.0,9,   -999.0,9,-999.0000,9, -999.000,9, -999.000,   -999.0,9,   -999.0,   8.9579,  26.5880
    49NZ20060120,   P03W,   378,  1,     27, X12033,2,20060120,1935, 26.8913, 126.1863, 1535,    599.6,2,   7.4275,2,   7.42528,2,  34.3148,2,  34.3158,2,    97.34,1,   105.85,2,    600.9,2,   106.11,2,   105.07,2,    66.01,2,     0.26,    30.40,2,     0.12,     0.00,2,     0.01,    2.206,2,    0.016,    1.040,2,    0.515,2,    0.033,2,   -999.0,9,   -999.0,9,-999.0000,9, -999.000,9, -999.000,   -999.0,9,   -999.0,   7.3684,  26.8275
    49NZ20060120,   P03W,   378,  1,     26, X12032,2,20060120,1935, 26.8913, 126.1863, 1535,    700.3,2,   5.8149,2,   5.81759,2,  34.2743,2,  34.2745,2,    79.64,1,    86.92,2,    700.2,2,    88.41,2,    86.00,2,    82.39,2,     0.30,    34.91,2,     0.13,     0.01,2,     0.01,    2.530,2,    0.016,    0.715,2,    0.346,2,    0.024,2,   -999.0,9,   -999.0,9,-999.0000,9, -999.000,9, -999.000,   -999.0,9,   -999.0,   5.7540,  27.0100
    49NZ20060120,   P03W,   378,  1,     25, X12001,2,20060120,1935, 26.8913, 126.1863, 1535,    799.4,2,   5.2570,2,   5.25636,2,  34.3791,2,  34.3792,2,    75.96,1,    82.78,2,    799.1,2,    82.37,2,    81.76,2,    96.64,2,     0.33,    35.91,2,     0.13,     0.00,2,     0.01,    2.599,2,    0.016,    0.468,6,    0.230,6,    0.012,6,   -999.0,9,   -999.0,9,-999.0000,9, -999.000,9, -999.000,   -999.0,9,   -999.0,   5.1902,  27.1609
    49NZ20060120,   P03W,   378,  1,     24, X12030,2,20060120,1935, 26.8913, 126.1863, 1535,    899.7,2,   4.7846,2,   4.78397,2,  34.3935,2,  34.3931,2,    71.60,1,    78.20,2,    898.5,2,    77.50,2,    76.96,2,   103.27,2,     0.35,    37.12,2,     0.14,     0.00,2,     0.01,    2.687,2,    0.017,    0.352,2,    0.172,2,    0.010,2,   -999.0,9,   -999.0,9,-999.0000,9, -999.000,9, -999.000,   -999.0,9,   -999.0,   4.7119,  27.2271
    49NZ20060120,   P03W,   378,  1,     23, X12049,2,20060120,1935, 26.8913, 126.1863, 1535,   1001.7,2,   4.4585,2,   4.45980,2,  34.4153,2,  34.4154,6,    70.60,1,    77.09,2,   1001.7,2,    76.26,2,    75.99,2,   108.60,2,     0.36,    37.75,2,     0.14,     0.00,2,     0.01,    2.729,2,    0.017,    0.269,2,    0.130,2,    0.011,2,   -999.0,9,   -999.0,9,-999.0000,9, -999.000,9, -999.000,   -999.0,9,   -999.0,   4.3793,  27.2810
    49NZ20060120,   P03W,   378,  1,     22, X12028,2,20060120,1935, 26.8913, 126.1863, 1535,   1202.1,2,   4.0721,2,   4.07197,2,  34.4415,2,  34.4420,2,    70.24,1,    76.37,2,   1202.3,2,    75.61,2,    75.39,2,   114.93,2,     0.37,    38.50,2,     0.14,     0.00,2,     0.01,    2.770,2,    0.017,    0.194,2,    0.096,2,    0.010,2,   -999.0,9,   -999.0,9,-999.0000,9, -999.000,9, -999.000,   -999.0,9,   -999.0,   3.9788,  27.3441
    49NZ20060120,   P03W,   378,  1,     21, X12009,2,20060120,1935, 26.8913, 126.1863, 1535,   1401.9,2,   3.8705,2,   3.87066,2,  34.4537,2,  34.4544,2,    70.53,1,    76.28,2,   1402.4,2,    75.85,2,    75.50,2,   118.11,2,     0.38,    38.75,2,     0.14,     0.01,2,     0.01,    2.788,2,    0.017,    0.160,2,    0.079,2,    0.009,2,   -999.0,9,   -999.0,9,-999.0000,9, -999.000,9, -999.000,   -999.0,9,   -999.0,   3.7617,  27.3759
    49NZ20060120,   P03W,   378,  1,     20, X12026,9,20060120,1935, 26.8913, 126.1863, 1535,     74.8,2,  22.6169,2,  22.61762,2,  34.7042,2,-999.0000,9,   193.22,1,   209.90,2,     75.0,2,   211.33,2,  -999.00,9,  -999.00,9,  -999.00,  -999.00,9,  -999.00,  -999.00,9,  -999.00, -999.000,9, -999.000, -999.000,9, -999.000,9, -999.000,9,   -999.0,9,   -999.0,9,-999.0000,9, -999.000,9, -999.000,   -999.0,9,   -999.0,  22.6018,  23.8232
    49NZ20060120,   P03W,   378,  1,     19, X12025,9,20060120,1935, 26.8913, 126.1863, 1535,   1532.7,2,   3.8119,2,   3.81190,2,  34.4587,2,-999.0000,9,    70.45,1,    75.77,2,   1532.7,2,    75.63,2,  -999.00,9,  -999.00,9,  -999.00,  -999.00,9,  -999.00,  -999.00,9,  -999.00, -999.000,9, -999.000, -999.000,9, -999.000,9, -999.000,9,   -999.0,9,   -999.0,9,-999.0000,9, -999.000,9, -999.000,   -999.0,9,   -999.0,   3.6922,  27.3868
    49NZ20060120,   P03W,   378,  1,     18, X12024,9,20060120,1935, 26.8913, 126.1863, 1535,     10.1,2,  23.2026,2,  23.20313,2,  34.5882,2,-999.0000,9,   195.88,1,   212.96,2,     10.1,2,   218.34,2,  -999.00,9,  -999.00,9,  -999.00,  -999.00,9,  -999.00,  -999.00,9,  -999.00, -999.000,9, -999.000, -999.000,9, -999.000,9, -999.000,9,   -999.0,9,   -999.0,9,-999.0000,9, -999.000,9, -999.000,   -999.0,9,   -999.0,  23.2005,  23.5634
    49NZ20060120,   P03W,   378,  1,     17, X12023,9,20060120,1935, 26.8913, 126.1863, 1535,     50.0,2,  22.7823,2,  22.78247,2,  34.6953,2,-999.0000,9,   194.23,1,   211.09,2,     46.7,2,   216.82,2,  -999.00,9,  -999.00,9,  -999.00,  -999.00,9,  -999.00,  -999.00,9,  -999.00, -999.000,9, -999.000, -999.000,9, -999.000,9, -999.000,9,   -999.0,9,   -999.0,9,-999.0000,9, -999.000,9, -999.000,   -999.0,9,   -999.0,  22.7722,  23.7678
    49NZ20060120,   P03W,   378,  1,     16, X12022,9,20060120,1935, 26.8913, 126.1863, 1535,     99.7,2,  22.3935,2,  22.39640,2,  34.7173,2,-999.0000,9,   189.72,1,   205.95,2,    104.7,2,   207.58,2,  -999.00,9,  -999.00,9,  -999.00,  -999.00,9,  -999.00,  -999.00,9,  -999.00, -999.000,9, -999.000, -999.000,9, -999.000,9, -999.000,9,   -999.0,9,   -999.0,9,-999.0000,9, -999.000,9, -999.000,   -999.0,9,   -999.0,  22.3736,  23.8979
    49NZ20060120,   P03W,   378,  1,     15, X12021,9,20060120,1935, 26.8913, 126.1863, 1535,    149.0,2,  21.0606,2,  21.05779,2,  34.8446,2,-999.0000,9,   173.28,1,   188.29,2,    153.4,2,   191.78,2,  -999.00,9,  -999.00,9,  -999.00,  -999.00,9,  -999.00,  -999.00,9,  -999.00, -999.000,9, -999.000, -999.000,9, -999.000,9, -999.000,9,   -999.0,9,   -999.0,9,-999.0000,9, -999.000,9, -999.000,   -999.0,9,   -999.0,  21.0321,  24.3669
    49NZ20060120,   P03W,   378,  1,     14, X12020,9,20060120,1935, 26.8913, 126.1863, 1535,    202.0,2,  18.5891,2,  18.59065,2,  34.8315,2,-999.0000,9,   172.97,1,   187.53,2,    203.9,2,   190.80,2,  -999.00,9,  -999.00,9,  -999.00,  -999.00,9,  -999.00,  -999.00,9,  -999.00, -999.000,9, -999.000, -999.000,9, -999.000,9, -999.000,9,   -999.0,9,   -999.0,9,-999.0000,9, -999.000,9, -999.000,   -999.0,9,   -999.0,  18.5537,  25.0053
    49NZ20060120,   P03W,   378,  1,     13, X12019,9,20060120,1935, 26.8913, 126.1863, 1535,    249.8,2,  16.6347,2,  16.63103,2,  34.7087,2,-999.0000,9,   172.20,1,   186.60,2,    250.8,2,   187.35,2,  -999.00,9,  -999.00,9,  -999.00,  -999.00,9,  -999.00,  -999.00,9,  -999.00, -999.000,9, -999.000, -999.000,9, -999.000,9, -999.000,9,   -999.0,9,   -999.0,9,-999.0000,9, -999.000,9, -999.000,   -999.0,9,   -999.0,  16.5941,  25.3862
    49NZ20060120,   P03W,   378,  1,     12, X12018,9,20060120,1935, 26.8913, 126.1863, 1535,    300.7,2,  15.3537,2,  15.35459,2,  34.6241,2,-999.0000,9,   167.92,1,   181.92,2,    299.2,2,   182.20,2,  -999.00,9,  -999.00,9,  -999.00,  -999.00,9,  -999.00,  -999.00,9,  -999.00, -999.000,9, -999.000, -999.000,9, -999.000,9, -999.000,9,   -999.0,9,   -999.0,9,-999.0000,9, -999.000,9, -999.000,   -999.0,9,   -999.0,  15.3074,  25.6143
    49NZ20060120,   P03W,   378,  1,     11, X12005,9,20060120,1935, 26.8913, 126.1863, 1535,    401.3,2,  11.1179,2,  11.11771,2,  34.4030,2,-999.0000,9,   130.61,1,   141.80,2,    403.7,2,   140.36,2,  -999.00,9,  -999.00,9,  -999.00,  -999.00,9,  -999.00,  -999.00,9,  -999.00, -999.000,9, -999.000, -999.000,9, -999.000,9, -999.000,9,   -999.0,9,   -999.0,9,-999.0000,9, -999.000,9, -999.000,   -999.0,9,   -999.0,  11.0680,  26.2983
    49NZ20060120,   P03W,   378,  1,     10, X12010,9,20060120,1935, 26.8913, 126.1863, 1535,    498.8,2,   9.0141,2,   9.01420,2,  34.3147,2,-999.0000,9,   113.56,1,   123.40,2,    500.4,2,   124.32,2,  -999.00,9,  -999.00,9,  -999.00,  -999.00,9,  -999.00,  -999.00,9,  -999.00, -999.000,9, -999.000, -999.000,9, -999.000,9, -999.000,9,   -999.0,9,   -999.0,9,-999.0000,9, -999.000,9, -999.000,   -999.0,9,   -999.0,   8.9594,  26.5880
    49NZ20060120,   P03W,   378,  1,      9, X12015,9,20060120,1935, 26.8913, 126.1863, 1535,    598.6,2,   7.4362,2,   7.43762,2,  34.3158,2,-999.0000,9,    97.33,1,   105.97,2,    600.4,2,   106.12,2,  -999.00,9,  -999.00,9,  -999.00,  -999.00,9,  -999.00,  -999.00,9,  -999.00, -999.000,9, -999.000, -999.000,9, -999.000,9, -999.000,9,   -999.0,9,   -999.0,9,-999.0000,9, -999.000,9, -999.000,   -999.0,9,   -999.0,   7.3772,  26.8270
    49NZ20060120,   P03W,   378,  1,      8, X12014,9,20060120,1935, 26.8913, 126.1863, 1535,    701.3,2,   5.8108,2,   5.81297,2,  34.2761,2,-999.0000,9,    79.72,1,    86.84,2,    701.1,2,    88.03,2,  -999.00,9,  -999.00,9,  -999.00,  -999.00,9,  -999.00,  -999.00,9,  -999.00, -999.000,9, -999.000, -999.000,9, -999.000,9, -999.000,9,   -999.0,9,   -999.0,9,-999.0000,9, -999.000,9, -999.000,   -999.0,9,   -999.0,   5.7498,  27.0119
    49NZ20060120,   P03W,   378,  1,      7, X12013,9,20060120,1935, 26.8913, 126.1863, 1535,    799.7,2,   5.2565,2,   5.25724,2,  34.3795,2,-999.0000,9,    75.92,1,    82.78,2,    799.5,2,    82.33,2,  -999.00,9,  -999.00,9,  -999.00,  -999.00,9,  -999.00,  -999.00,9,  -999.00, -999.000,9, -999.000, -999.000,9, -999.000,9, -999.000,9,   -999.0,9,   -999.0,9,-999.0000,9, -999.000,9, -999.000,   -999.0,9,   -999.0,   5.1896,  27.1612
    49NZ20060120,   P03W,   378,  1,      6, X12048,9,20060120,1935, 26.8913, 126.1863, 1535,    900.2,2,   4.7783,2,   4.77750,2,  34.3960,2,-999.0000,9,    71.68,1,    78.25,2,    899.4,2,    77.51,2,  -999.00,9,  -999.00,9,  -999.00,  -999.00,9,  -999.00,  -999.00,9,  -999.00, -999.000,9, -999.000, -999.000,9, -999.000,9, -999.000,9,   -999.0,9,   -999.0,9,-999.0000,9, -999.000,9, -999.000,   -999.0,9,   -999.0,   4.7056,  27.2298
    49NZ20060120,   P03W,   378,  1,      5, X12047,9,20060120,1935, 26.8913, 126.1863, 1535,   1001.9,2,   4.4522,2,   4.45152,2,  34.4158,2,-999.0000,9,    70.64,1,    77.04,2,   1002.1,2,    76.26,2,  -999.00,9,  -999.00,9,  -999.00,  -999.00,9,  -999.00,  -999.00,9,  -999.00, -999.000,9, -999.000, -999.000,9, -999.000,9, -999.000,9,   -999.0,9,   -999.0,9,-999.0000,9, -999.000,9, -999.000,   -999.0,9,   -999.0,   4.3730,  27.2821
    49NZ20060120,   P03W,   378,  1,      4, X12046,9,20060120,1935, 26.8913, 126.1863, 1535,   1204.0,2,   4.0682,2,   4.06853,2,  34.4417,2,-999.0000,9,    70.23,1,    76.39,2,   1204.3,2,    75.59,2,  -999.00,9,  -999.00,9,  -999.00,  -999.00,9,  -999.00,  -999.00,9,  -999.00, -999.000,9, -999.000, -999.000,9, -999.000,9, -999.000,9,   -999.0,9,   -999.0,9,-999.0000,9, -999.000,9, -999.000,   -999.0,9,   -999.0,   3.9748,  27.3447
    49NZ20060120,   P03W,   378,  1,      3, X12003,2,20060120,1935, 26.8913, 126.1863, 1535,     23.9,2,  23.1520,2,  23.15559,2,  34.5992,2,  34.6005,2,   196.31,1,   213.34,2,     23.9,2,   218.52,2,   214.69,2,     1.18,2,     0.12,     0.05,2,     0.03,     0.04,2,     0.01,    0.054,2,    0.033,    1.703,2,    1.000,2, -999.000,5,   -999.0,9,   -999.0,9,-999.0000,9, -999.000,9, -999.000,   -999.0,9,   -999.0,  23.1471,  23.5872
    49NZ20060120,   P03W,   378,  1,      2, X12044,2,20060120,1935, 26.8913, 126.1863, 1535,     76.0,2,  22.6152,2,  22.61603,2,  34.7053,2,  34.7041,2,   193.22,1,   209.76,2,     76.3,2,   210.67,2,   211.24,2,     1.42,2,     0.12,     0.17,2,     0.03,     0.24,2,     0.01,    0.071,2,    0.027,    1.745,2,    1.022,2, -999.000,5,   -999.0,9,   -999.0,9,-999.0000,9, -999.000,9, -999.000,   -999.0,9,   -999.0,  22.5999,  23.8246
    49NZ20060120,   P03W,   378,  1,      1, X12051,2,20060120,1935, 26.8913, 126.1863, 1535,   1531.5,2,   3.8117,2,   3.81175,2,  34.4586,2,  34.4590,6,    70.49,1,    75.76,2,   1531.5,2,    75.65,2,    76.17,2,   119.75,2,     0.38,    38.81,2,     0.14,     0.00,2,     0.01,    2.800,2,    0.017,    0.148,2,    0.074,2,    0.007,2,   -999.0,9,   -999.0,9,-999.0000,9, -999.000,9, -999.000,   -999.0,9,   -999.0,   3.6921,  27.3867