BOTTLE,20220819CCHSIOAMB
EXPOCODE,SECT_ID,STNNBR,CASTNO,SAMPNO,BTLNBR,BTLNBR_FLAG_W,DATE,TIME,LATITUDE,LONGITUDE,DEPTH,CTDPRS,CTDPRS_FLAG_W,CTDTMP,CTDTMP_FLAG_W,SBE35,SBE35_FLAG_W,CTDSAL,CTDSAL_FLAG_W,SALNTY,SALNTY_FLAG_W,CTDOXY,CTDOXY_FLAG_W,OPTOXY,OPTOXY_FLAG_W,DWNPRS,DWNPRS_FLAG_W,DWNOXY,DWNOXY_FLAG_W,OXYGEN,OXYGEN_FLAG_W,SILCAT,SILCAT_FLAG_W,SILUNC,NITRAT,NITRAT_FLAG_W,NRAUNC,NITRIT,NITRIT_FLAG_W,NRIUNC,PHSPHT,PHSPHT_FLAG_W,PHPUNC,CFC-11,CFC-11_FLAG_W,CFC-12,CFC-12_FLAG_W,CFC113,CFC113_FLAG_W,TCARBN,TCARBN_FLAG_W,ALKALI,ALKALI_FLAG_W,PH,PH_FLAG_W,DELC13,DELC13_FLAG_W,C13ERR,DELC14,DELC14_FLAG_W,C14ERR,THETA,SIG0
,,,,,,,,UTC,DEG,DEG,METERS,DBAR,,ITS-90,,ITS-90,,PSS-78,,PSS-78,,UMOL/KG,,UMOL/KG,,DBAR,,UMOL/KG,,UMOL/KG,,UMOL/KG,,UMOL/KG,UMOL/KG,,UMOL/KG,UMOL/KG,,UMOL/KG,UMOL/KG,,UMOL/KG,PMOL/KG,,PMOL/KG,,PMOL/KG,,UMOL/KG,,UMOL/KG,,,,/MILLE,,/MILLE,/MILLE,,/MILLE,DEG C,KG/M^3
    49NZ20060120,   P03W,   TS7,  1,     36, X12042,2,20060125,1905, 34.4232, 130.7280,  101,     10.0,2,  14.4450,2,  14.44542,2,  34.5356,2,  34.5349,2,   231.04,1,   255.13,2,     10.3,2,   253.92,2,   254.01,2,     4.83,2,     0.13,     2.79,2,     0.04,     0.84,2,     0.00,    0.293,2,    0.014,    2.498,2,    1.379,2,    0.215,2,   -999.0,9,   -999.0,9,-999.0000,9, -999.000,9, -999.000,   -999.0,9,   -999.0,  14.4435,  25.7343
    49NZ20060120,   P03W,   TS7,  1,     35, X12041,2,20060125,1905, 34.4232, 130.7280,  101,     50.3,2,  14.4152,2,  14.41589,2,  34.5367,2,  34.5366,2,   231.76,1,   256.29,2,     50.1,2,   255.07,2,   254.85,2,     4.35,2,     0.13,     2.51,2,     0.04,     0.89,2,     0.00,    0.272,2,    0.015,    2.508,2,    1.379,2,    0.227,2,   -999.0,9,   -999.0,9,-999.0000,9, -999.000,9, -999.000,   -999.0,9,   -999.0,  14.4079,  25.7428
    49NZ20060120,   P03W,   TS7,  1,     21, X12009,9,20060125,1905, 34.4232, 130.7280,  101,     25.1,2,  14.4369,2,  14.43753,2,  34.5351,2,-999.0000,9,   231.31,1,   256.98,2,     26.0,2,   253.90,2,  -999.00,9,  -999.00,9,  -999.00,  -999.00,9,  -999.00,  -999.00,9,  -999.00, -999.000,9, -999.000, -999.000,9, -999.000,9, -999.000,9,   -999.0,9,   -999.0,9,-999.0000,9, -999.000,9, -999.000,   -999.0,9,   -999.0,  14.4332,  25.7361
    49NZ20060120,   P03W,   TS7,  1,     20, X12026,9,20060125,1905, 34.4232, 130.7280,  101,     74.5,2,  14.3545,2,  14.35383,2,  34.5342,2,-999.0000,9,   231.80,1,   255.24,2,     75.1,2,   254.22,2,  -999.00,9,  -999.00,9,  -999.00,  -999.00,9,  -999.00,  -999.00,9,  -999.00, -999.000,9, -999.000, -999.000,9, -999.000,9, -999.000,9,   -999.0,9,   -999.0,9,-999.0000,9, -999.000,9, -999.000,   -999.0,9,   -999.0,  14.3436,  25.7545
    49NZ20060120,   P03W,   TS7,  1,     19, X12025,9,20060125,1905, 34.4232, 130.7280,  101,     86.5,2,  14.3223,2,  14.32486,2,  34.5324,2,-999.0000,9,   231.30,1,   254.53,2,     86.1,2,   254.20,2,  -999.00,9,  -999.00,9,  -999.00,  -999.00,9,  -999.00,  -999.00,9,  -999.00, -999.000,9, -999.000, -999.000,9, -999.000,9, -999.000,9,   -999.0,9,   -999.0,9,-999.0000,9, -999.000,9, -999.000,   -999.0,9,   -999.0,  14.3097,  25.7603
    49NZ20060120,   P03W,   TS7,  1,     18, X12024,9,20060125,1905, 34.4232, 130.7280,  101,      9.9,2,  14.4470,2,  14.44765,2,  34.5354,2,-999.0000,9,   231.01,1,   254.96,2,     10.1,2,   253.92,2,  -999.00,9,  -999.00,9,  -999.00,  -999.00,9,  -999.00,  -999.00,9,  -999.00, -999.000,9, -999.000, -999.000,9, -999.000,9, -999.000,9,   -999.0,9,   -999.0,9,-999.0000,9, -999.000,9, -999.000,   -999.0,9,   -999.0,  14.4456,  25.7337
    49NZ20060120,   P03W,   TS7,  1,     17, X12023,2,20060125,1905, 34.4232, 130.7280,  101,     50.1,2,  14.4160,2,  14.41679,2,  34.5367,2,-999.0000,9,   231.87,1,   256.46,2,     49.9,2,   255.05,2,  -999.00,9,  -999.00,9,  -999.00,  -999.00,9,  -999.00,  -999.00,9,  -999.00, -999.000,9, -999.000, -999.000,9, -999.000,9, -999.000,9,   -999.0,9,   -999.0,9,-999.0000,9, -999.000,9, -999.000,   -999.0,9,   -999.0,  14.4087,  25.7426
    49NZ20060120,   P03W,   TS7,  1,      3, X12003,2,20060125,1905, 34.4232, 130.7280,  101,     25.2,2,  14.4355,2,  14.43572,2,  34.5351,2,  34.5345,2,   231.43,1,   257.06,2,     26.2,2,   253.98,2,   254.56,2,     4.58,2,     0.13,     2.66,2,     0.04,     0.87,2,     0.00,    0.276,2,    0.014,    2.499,2,    1.373,2,    0.228,2,   -999.0,9,   -999.0,9,-999.0000,9, -999.000,9, -999.000,   -999.0,9,   -999.0,  14.4318,  25.7364
    49NZ20060120,   P03W,   TS7,  1,      2, X12044,2,20060125,1905, 34.4232, 130.7280,  101,     74.6,2,  14.3516,2,  14.35403,2,  34.5345,2,  34.5348,2,   231.77,1,   255.39,2,     75.3,2,   254.23,2,   254.77,2,     4.13,2,     0.13,     2.31,2,     0.04,     0.90,2,     0.00,    0.284,2,    0.014,    2.509,6,    1.377,6,    0.221,6,   -999.0,9,   -999.0,9,-999.0000,9, -999.000,9, -999.000,   -999.0,9,   -999.0,  14.3407,  25.7553
    49NZ20060120,   P03W,   TS7,  1,      1, X12051,2,20060125,1905, 34.4232, 130.7280,  101,     86.4,2,  14.3345,2,  14.33418,2,  34.5330,2,  34.5317,6,   231.34,1,   254.24,2,     85.6,2,   254.14,2,   254.22,2,     4.10,2,     0.13,     2.26,2,     0.04,     0.89,2,     0.00,    0.276,2,    0.014,    2.482,2,    1.373,2,    0.232,2,   -999.0,9,   -999.0,9,-999.0000,9, -999.000,9, -999.000,   -999.0,9,   -999.0,  14.3219,  25.7582
    49NZ20060120,   P03W,   TS6,  1,     36, X12042,2,20060125,2035, 34.5028, 130.6472,  119,     10.0,2,  14.3719,2,  14.37246,2,  34.5278,2,  34.5278,2,   228.09,1,   250.87,2,      9.7,2,   250.98,2,   250.79,2,     5.27,2,     0.13,     2.96,2,     0.04,     0.95,2,     0.00,    0.316,2,    0.014,    2.487,2,    1.375,2,    0.192,2,   -999.0,9,   -999.0,9,-999.0000,9, -999.000,9, -999.000,   -999.0,9,   -999.0,  14.3704,  25.7439
    49NZ20060120,   P03W,   TS6,  1,     35, X12041,2,20060125,2035, 34.5028, 130.6472,  119,     49.8,2,  14.3771,2,  14.37749,2,  34.5275,2,  34.5272,2,   228.22,1,   252.65,2,     50.0,2,   250.88,2,   250.82,2,     5.25,2,     0.13,     2.96,2,     0.04,     0.96,2,     0.00,    0.318,2,    0.014,    2.486,2,    1.371,2,    0.208,2,   -999.0,9,   -999.0,9,-999.0000,9, -999.000,9, -999.000,   -999.0,9,   -999.0,  14.3698,  25.7438
    49NZ20060120,   P03W,   TS6,  1,     21, X12009,9,20060125,2035, 34.5028, 130.6472,  119,     25.2,2,  14.3734,2,  14.37420,2,  34.5277,2,-999.0000,9,   228.02,1,   250.54,2,     25.6,2,   250.89,2,  -999.00,9,  -999.00,9,  -999.00,  -999.00,9,  -999.00,  -999.00,9,  -999.00, -999.000,9, -999.000, -999.000,9, -999.000,9, -999.000,9,   -999.0,9,   -999.0,9,-999.0000,9, -999.000,9, -999.000,   -999.0,9,   -999.0,  14.3697,  25.7439
    49NZ20060120,   P03W,   TS6,  1,     20, X12026,9,20060125,2035, 34.5028, 130.6472,  119,     75.0,2,  14.3750,2,  14.37556,2,  34.5271,2,-999.0000,9,   228.08,1,   251.04,2,     75.5,2,   250.74,2,  -999.00,9,  -999.00,9,  -999.00,  -999.00,9,  -999.00,  -999.00,9,  -999.00, -999.000,9, -999.000, -999.000,9, -999.000,9, -999.000,9,   -999.0,9,   -999.0,9,-999.0000,9, -999.000,9, -999.000,   -999.0,9,   -999.0,  14.3641,  25.7447
    49NZ20060120,   P03W,   TS6,  1,     19, X12025,9,20060125,2035, 34.5028, 130.6472,  119,    108.0,2,  14.2997,2,  14.29989,2,  34.5189,2,-999.0000,9,   226.78,1,   248.77,2,    107.8,2,   249.50,2,  -999.00,9,  -999.00,9,  -999.00,  -999.00,9,  -999.00,  -999.00,9,  -999.00, -999.000,9, -999.000, -999.000,9, -999.000,9, -999.000,9,   -999.0,9,   -999.0,9,-999.0000,9, -999.000,9, -999.000,   -999.0,9,   -999.0,  14.2840,  25.7554
    49NZ20060120,   P03W,   TS6,  1,     18, X12024,9,20060125,2035, 34.5028, 130.6472,  119,      9.9,2,  14.3715,2,  14.37235,2,  34.5279,2,-999.0000,9,   228.05,1,   251.10,2,      9.7,2,   250.97,2,  -999.00,9,  -999.00,9,  -999.00,  -999.00,9,  -999.00,  -999.00,9,  -999.00, -999.000,9, -999.000, -999.000,9, -999.000,9, -999.000,9,   -999.0,9,   -999.0,9,-999.0000,9, -999.000,9, -999.000,   -999.0,9,   -999.0,  14.3701,  25.7440
    49NZ20060120,   P03W,   TS6,  1,     17, X12023,9,20060125,2035, 34.5028, 130.6472,  119,     49.8,2,  14.3767,2,  14.37737,2,  34.5275,2,-999.0000,9,   228.24,1,   252.55,2,     50.1,2,   250.87,2,  -999.00,9,  -999.00,9,  -999.00,  -999.00,9,  -999.00,  -999.00,9,  -999.00, -999.000,9, -999.000, -999.000,9, -999.000,9, -999.000,9,   -999.0,9,   -999.0,9,-999.0000,9, -999.000,9, -999.000,   -999.0,9,   -999.0,  14.3694,  25.7439
    49NZ20060120,   P03W,   TS6,  1,      3, X12003,2,20060125,2035, 34.5028, 130.6472,  119,     25.2,2,  14.3723,2,  14.37275,2,  34.5271,2,  34.5267,2,   228.03,1,   250.41,2,     25.5,2,   250.91,2,   250.77,2,     5.38,2,     0.13,     3.07,2,     0.04,     0.96,2,     0.00,    0.328,2,    0.014,    2.496,2,    1.384,2,    0.183,2,   -999.0,9,   -999.0,9,-999.0000,9, -999.000,9, -999.000,   -999.0,9,   -999.0,  14.3686,  25.7437
    49NZ20060120,   P03W,   TS6,  1,      2, X12044,2,20060125,2035, 34.5028, 130.6472,  119,     74.8,2,  14.3741,2,  14.37481,2,  34.5267,2,  34.5270,2,   227.98,1,   250.94,2,     75.3,2,   250.71,2,   250.70,2,     5.30,2,     0.13,     2.96,2,     0.04,     0.97,2,     0.00,    0.320,2,    0.014,    2.480,6,    1.364,6,    0.185,6,   -999.0,9,   -999.0,9,-999.0000,9, -999.000,9, -999.000,   -999.0,9,   -999.0,  14.3632,  25.7445
    49NZ20060120,   P03W,   TS6,  1,      1, X12051,2,20060125,2035, 34.5028, 130.6472,  119,    108.2,2,  14.2995,2,  14.29937,2,  34.5188,2,  34.5194,6,   227.02,1,   248.70,2,    108.0,2,   249.48,2,   249.43,2,     5.38,2,     0.13,     2.86,2,     0.04,     1.02,2,     0.00,    0.338,2,    0.014,    2.493,2,    1.370,2,    0.182,2,   -999.0,9,   -999.0,9,-999.0000,9, -999.000,9, -999.000,   -999.0,9,   -999.0,  14.2837,  25.7554
    49NZ20060120,   P03W,   TS5,  1,     36, X12042,2,20060125,2222, 34.6635, 130.4337,  133,     10.9,2,  14.6607,2,  14.66158,2,  34.5439,2,  34.5440,2,   226.73,1,   249.75,2,     11.5,2,   249.53,2,   249.14,2,     5.68,2,     0.13,     3.35,2,     0.04,     0.80,2,     0.00,    0.313,2,    0.014,    2.473,2,    1.369,2,    0.216,2,   -999.0,9,   -999.0,9,-999.0000,9, -999.000,9, -999.000,   -999.0,9,   -999.0,  14.6591,  25.6944
    49NZ20060120,   P03W,   TS5,  1,     35, X12041,2,20060125,2222, 34.6635, 130.4337,  133,     50.1,2,  14.6693,2,  14.67010,2,  34.5429,2,  34.5428,2,   226.67,1,   249.63,2,     50.0,2,   249.41,2,   249.19,2,     5.71,2,     0.13,     3.36,2,     0.04,     0.79,2,     0.00,    0.338,2,    0.014,    2.471,2,    1.364,2,    0.212,2,   -999.0,9,   -999.0,9,-999.0000,9, -999.000,9, -999.000,   -999.0,9,   -999.0,  14.6619,  25.6930
    49NZ20060120,   P03W,   TS5,  1,     21, X12009,9,20060125,2222, 34.6635, 130.4337,  133,     25.3,2,  14.6668,2,  14.66656,2,  34.5439,2,-999.0000,9,   226.78,1,   249.64,2,     25.6,2,   249.55,2,  -999.00,9,  -999.00,9,  -999.00,  -999.00,9,  -999.00,  -999.00,9,  -999.00, -999.000,9, -999.000, -999.000,9, -999.000,9, -999.000,9,   -999.0,9,   -999.0,9,-999.0000,9, -999.000,9, -999.000,   -999.0,9,   -999.0,  14.6631,  25.6935
    49NZ20060120,   P03W,   TS5,  1,     20, X12026,9,20060125,2222, 34.6635, 130.4337,  133,     75.7,2,  14.5429,2,  14.54561,2,  34.5328,2,-999.0000,9,   226.59,1,   250.93,2,     77.4,2,   248.75,2,  -999.00,9,  -999.00,9,  -999.00,  -999.00,9,  -999.00,  -999.00,9,  -999.00, -999.000,9, -999.000, -999.000,9, -999.000,9, -999.000,9,   -999.0,9,   -999.0,9,-999.0000,9, -999.000,9, -999.000,   -999.0,9,   -999.0,  14.5318,  25.7132
    49NZ20060120,   P03W,   TS5,  1,     19, X12025,9,20060125,2222, 34.6635, 130.4337,  133,    119.4,2,  14.4692,2,  14.46969,2,  34.5516,2,-999.0000,9,   225.95,1,   248.31,2,    119.6,2,   248.55,2,  -999.00,9,  -999.00,9,  -999.00,  -999.00,9,  -999.00,  -999.00,9,  -999.00, -999.000,9, -999.000, -999.000,9, -999.000,9, -999.000,9,   -999.0,9,   -999.0,9,-999.0000,9, -999.000,9, -999.000,   -999.0,9,   -999.0,  14.4517,  25.7449
    49NZ20060120,   P03W,   TS5,  1,     18, X12024,9,20060125,2222, 34.6635, 130.4337,  133,     10.7,2,  14.6624,2,  14.66301,2,  34.5440,2,-999.0000,9,   226.79,1,   249.80,2,     11.3,2,   249.56,2,  -999.00,9,  -999.00,9,  -999.00,  -999.00,9,  -999.00,  -999.00,9,  -999.00, -999.000,9, -999.000, -999.000,9, -999.000,9, -999.000,9,   -999.0,9,   -999.0,9,-999.0000,9, -999.000,9, -999.000,   -999.0,9,   -999.0,  14.6608,  25.6941
    49NZ20060120,   P03W,   TS5,  1,     17, X12023,9,20060125,2222, 34.6635, 130.4337,  133,     50.1,2,  14.6705,2,  14.67098,2,  34.5427,2,-999.0000,9,   226.77,1,   249.70,2,     50.0,2,   249.41,2,  -999.00,9,  -999.00,9,  -999.00,  -999.00,9,  -999.00,  -999.00,9,  -999.00, -999.000,9, -999.000, -999.000,9, -999.000,9, -999.000,9,   -999.0,9,   -999.0,9,-999.0000,9, -999.000,9, -999.000,   -999.0,9,   -999.0,  14.6631,  25.6926
    49NZ20060120,   P03W,   TS5,  1,      3, X12003,2,20060125,2222, 34.6635, 130.4337,  133,     25.3,2,  14.6646,2,  14.66549,2,  34.5439,2,  34.5431,2,   226.72,1,   249.56,2,     25.9,2,   249.54,2,   249.19,2,     5.68,2,     0.13,     3.33,2,     0.04,     0.79,2,     0.00,    0.318,2,    0.014,    2.468,2,    1.368,2,    0.218,2,   -999.0,9,   -999.0,9,-999.0000,9, -999.000,9, -999.000,   -999.0,9,   -999.0,  14.6609,  25.6940
    49NZ20060120,   P03W,   TS5,  1,      2, X12044,2,20060125,2222, 34.6635, 130.4337,  133,     76.0,2,  14.5154,2,  14.52026,2,  34.5337,2,  34.5330,2,   226.81,1,   250.91,2,     78.4,2,   248.83,2,   249.05,2,     5.79,2,     0.13,     3.30,2,     0.04,     0.86,2,     0.00,    0.345,2,    0.014,    2.493,6,    1.377,6,    0.215,6,   -999.0,9,   -999.0,9,-999.0000,9, -999.000,9, -999.000,   -999.0,9,   -999.0,  14.5042,  25.7198
    49NZ20060120,   P03W,   TS5,  1,      1, X12051,2,20060125,2222, 34.6635, 130.4337,  133,    119.6,2,  14.4689,2,  14.46950,2,  34.5517,2,  34.5513,6,   225.86,1,   248.30,2,    119.7,2,   248.55,2,   248.19,2,     6.19,2,     0.13,     3.55,2,     0.04,     0.88,2,     0.00,    0.359,2,    0.014,    2.512,2,    1.387,2,    0.221,2,   -999.0,9,   -999.0,9,-999.0000,9, -999.000,9, -999.000,   -999.0,9,   -999.0,  14.4513,  25.7451
    49NZ20060120,   P03W,   TS4,  1,     36, X12042,2,20060126,0006, 34.8340, 130.1970,  126,     10.2,2,  14.4120,2,  14.41214,2,  34.5234,2,  34.5232,2,   226.80,1,   251.58,2,     10.1,2,   249.37,2,   249.44,2,     6.18,2,     0.13,     3.39,2,     0.04,     0.91,2,     0.00,    0.335,2,    0.014,    2.479,2,    1.369,2,    0.192,2,   -999.0,9,   -999.0,9,-999.0000,9, -999.000,9, -999.000,   -999.0,9,   -999.0,  14.4105,  25.7319
    49NZ20060120,   P03W,   TS4,  1,     35, X12041,2,20060126,0006, 34.8340, 130.1970,  126,     50.5,2,  14.4150,2,  14.41581,2,  34.5230,2,  34.5232,2,   226.38,1,   250.73,2,     50.1,2,   249.19,2,   249.15,2,     6.09,2,     0.13,     3.39,2,     0.04,     0.92,2,     0.00,    0.342,2,    0.014,    2.477,2,    1.361,2,    0.187,2,   -999.0,9,   -999.0,9,-999.0000,9, -999.000,9, -999.000,   -999.0,9,   -999.0,  14.4076,  25.7323
    49NZ20060120,   P03W,   TS4,  1,     21, X12009,9,20060126,0006, 34.8340, 130.1970,  126,     24.9,2,  14.4112,2,  14.41169,2,  34.5231,2,-999.0000,9,   226.58,1,   249.72,2,     25.0,2,   249.11,2,  -999.00,9,  -999.00,9,  -999.00,  -999.00,9,  -999.00,  -999.00,9,  -999.00, -999.000,9, -999.000, -999.000,9, -999.000,9, -999.000,9,   -999.0,9,   -999.0,9,-999.0000,9, -999.000,9, -999.000,   -999.0,9,   -999.0,  14.4076,  25.7323
    49NZ20060120,   P03W,   TS4,  1,     20, X12026,9,20060126,0006, 34.8340, 130.1970,  126,     75.8,2,  14.3013,2,  14.30205,2,  34.5096,2,-999.0000,9,   227.16,1,   251.57,2,     76.0,2,   249.56,2,  -999.00,9,  -999.00,9,  -999.00,  -999.00,9,  -999.00,  -999.00,9,  -999.00, -999.000,9, -999.000, -999.000,9, -999.000,9, -999.000,9,   -999.0,9,   -999.0,9,-999.0000,9, -999.000,9, -999.000,   -999.0,9,   -999.0,  14.2903,  25.7468
    49NZ20060120,   P03W,   TS4,  1,     19, X12025,9,20060126,0006, 34.8340, 130.1970,  126,    113.8,2,  14.2898,2,  14.29045,2,  34.5073,2,-999.0000,9,   227.20,1,   250.65,2,    113.7,2,   249.94,2,  -999.00,9,  -999.00,9,  -999.00,  -999.00,9,  -999.00,  -999.00,9,  -999.00, -999.000,9, -999.000, -999.000,9, -999.000,9, -999.000,9,   -999.0,9,   -999.0,9,-999.0000,9, -999.000,9, -999.000,   -999.0,9,   -999.0,  14.2732,  25.7487
    49NZ20060120,   P03W,   TS4,  1,     18, X12024,9,20060126,0006, 34.8340, 130.1970,  126,     10.3,2,  14.4114,2,  14.41237,2,  34.5235,2,-999.0000,9,   226.69,1,   251.51,2,     10.2,2,   249.39,2,  -999.00,9,  -999.00,9,  -999.00,  -999.00,9,  -999.00,  -999.00,9,  -999.00, -999.000,9, -999.000, -999.000,9, -999.000,9, -999.000,9,   -999.0,9,   -999.0,9,-999.0000,9, -999.000,9, -999.000,   -999.0,9,   -999.0,  14.4099,  25.7321
    49NZ20060120,   P03W,   TS4,  1,     17, X12023,2,20060126,0006, 34.8340, 130.1970,  126,     50.5,2,  14.4147,2,  14.41518,2,  34.5232,2,-999.0000,9,   226.40,1,   249.61,2,     50.3,2,   249.20,2,  -999.00,9,  -999.00,9,  -999.00,  -999.00,9,  -999.00,  -999.00,9,  -999.00, -999.000,9, -999.000, -999.000,9, -999.000,9, -999.000,9,   -999.0,9,   -999.0,9,-999.0000,9, -999.000,9, -999.000,   -999.0,9,   -999.0,  14.4073,  25.7325
    49NZ20060120,   P03W,   TS4,  1,      3, X12003,2,20060126,0006, 34.8340, 130.1970,  126,     25.2,2,  14.4111,2,  14.41172,2,  34.5231,2,  34.5228,2,   226.56,1,   249.62,2,     25.3,2,   249.11,2,   249.26,2,     6.06,2,     0.13,     3.39,2,     0.04,     0.92,2,     0.00,    0.329,2,    0.014,    2.485,2,    1.368,2,    0.187,2,   -999.0,9,   -999.0,9,-999.0000,9, -999.000,9, -999.000,   -999.0,9,   -999.0,  14.4074,  25.7324
    49NZ20060120,   P03W,   TS4,  1,      2, X12044,2,20060126,0006, 34.8340, 130.1970,  126,     75.6,2,  14.3013,2,  14.30238,2,  34.5094,2,  34.5096,2,   227.07,1,   251.55,2,     75.8,2,   249.60,2,   249.80,2,     6.66,2,     0.13,     3.66,2,     0.04,     0.85,2,     0.00,    0.363,2,    0.014,    2.492,6,    1.371,6,    0.186,6,   -999.0,9,   -999.0,9,-999.0000,9, -999.000,9, -999.000,   -999.0,9,   -999.0,  14.2903,  25.7467
    49NZ20060120,   P03W,   TS4,  1,      1, X12051,2,20060126,0006, 34.8340, 130.1970,  126,    113.8,2,  14.2886,2,  14.28934,2,  34.5073,2,  34.5072,6,   227.28,1,   250.65,2,    113.8,2,   249.95,2,   249.89,2,     6.83,2,     0.13,     3.72,2,     0.04,     0.84,2,     0.00,    0.364,2,    0.014,    2.484,2,    1.371,2,    0.182,2,   -999.0,9,   -999.0,9,-999.0000,9, -999.000,9, -999.000,   -999.0,9,   -999.0,  14.2720,  25.7490