BOTTLE,20220819CCHSIOAMB
EXPOCODE,SECT_ID,STNNBR,CASTNO,SAMPNO,BTLNBR,BTLNBR_FLAG_W,DATE,TIME,LATITUDE,LONGITUDE,DEPTH,CTDPRS,CTDPRS_FLAG_W,CTDTMP,CTDTMP_FLAG_W,SBE35,SBE35_FLAG_W,CTDSAL,CTDSAL_FLAG_W,SALNTY,SALNTY_FLAG_W,CTDOXY,CTDOXY_FLAG_W,OPTOXY,OPTOXY_FLAG_W,DWNPRS,DWNPRS_FLAG_W,DWNOXY,DWNOXY_FLAG_W,OXYGEN,OXYGEN_FLAG_W,SILCAT,SILCAT_FLAG_W,SILUNC,NITRAT,NITRAT_FLAG_W,NRAUNC,NITRIT,NITRIT_FLAG_W,NRIUNC,PHSPHT,PHSPHT_FLAG_W,PHPUNC,CFC-11,CFC-11_FLAG_W,CFC-12,CFC-12_FLAG_W,CFC113,CFC113_FLAG_W,TCARBN,TCARBN_FLAG_W,ALKALI,ALKALI_FLAG_W,PH,PH_FLAG_W,DELC13,DELC13_FLAG_W,C13ERR,DELC14,DELC14_FLAG_W,C14ERR,THETA,SIG0
,,,,,,,,UTC,DEG,DEG,METERS,DBAR,,ITS-90,,ITS-90,,PSS-78,,PSS-78,,UMOL/KG,,UMOL/KG,,DBAR,,UMOL/KG,,UMOL/KG,,UMOL/KG,,UMOL/KG,UMOL/KG,,UMOL/KG,UMOL/KG,,UMOL/KG,UMOL/KG,,UMOL/KG,PMOL/KG,,PMOL/KG,,PMOL/KG,,UMOL/KG,,UMOL/KG,,,,/MILLE,,/MILLE,/MILLE,,/MILLE,DEG C,KG/M^3
    49NZ20060120,   P03W,   382,  1,     36, X12042,2,20060121,0206, 27.0740, 125.9760,  836,      9.6,2,  22.9733,2,  22.97413,2,  34.5924,2,  34.5932,2,   197.35,1,   214.56,2,     18.8,2,   217.49,2,   215.34,2,     1.21,2,     0.12,     0.06,2,     0.03,     0.05,2,     0.01,    0.062,2,    0.029,    1.730,2,    1.011,2, -999.000,5,   1952.8,2,   2271.3,2,   8.0793,6, -999.000,9, -999.000,   -999.0,9,   -999.0,  22.9713,  23.6327
    49NZ20060120,   P03W,   382,  1,     35, X12041,2,20060121,0206, 27.0740, 125.9760,  836,     49.6,2,  22.9105,2,  22.91111,2,  34.6041,2,  34.6048,2,   195.75,1,   212.63,2,     49.2,2,   215.62,2,   213.79,2,     1.34,2,     0.12,     0.14,2,     0.03,     0.10,2,     0.01,    0.070,2,    0.027,    1.740,2,    1.007,2, -999.000,5,   1955.7,6,   2275.3,2,   8.0773,2, -999.000,9, -999.000,   -999.0,9,   -999.0,  22.9004,  23.6619
    49NZ20060120,   P03W,   382,  1,     34, X12016,2,20060121,0206, 27.0740, 125.9760,  836,    100.4,2,  22.4988,2,  22.49428,2,  34.6440,2,  34.6502,2,   188.26,1,   204.20,2,    105.4,2,   207.97,2,   205.57,2,     2.30,2,     0.12,     1.01,2,     0.04,     0.30,2,     0.01,    0.135,2,    0.019,    1.758,2,    1.019,2, -999.000,5,   1970.2,2,   2275.6,6,   8.0600,2, -999.000,9, -999.000,   -999.0,9,   -999.0,  22.4787,  23.8125
    49NZ20060120,   P03W,   382,  1,     33, X12039,2,20060121,0206, 27.0740, 125.9760,  836,    150.7,2,  21.3440,2,  21.35243,2,  34.7364,2,  34.7385,2,   172.47,1,   187.77,2,    154.6,2,   192.82,2,   188.45,2,     4.25,2,     0.13,     3.30,2,     0.04,     0.06,2,     0.01,    0.281,2,    0.014,    1.850,2,    1.070,2, -999.000,5,   2003.7,2,   2284.2,2,   8.0113,6, -999.000,9, -999.000,   -999.0,9,   -999.0,  21.3149,  24.2073
    49NZ20060120,   P03W,   382,  1,     32, X12038,2,20060121,0206, 27.0740, 125.9760,  836,    200.2,2,  16.9571,2,  16.95290,2,  34.6195,2,  34.6221,2,   156.77,1,   167.86,2,    201.7,2,   175.61,2,   170.56,2,    14.97,2,     0.15,    10.06,2,     0.06,     0.03,2,     0.01,    0.754,2,    0.013,    1.913,2,    1.054,2, -999.000,5,   2066.3,2,   2285.5,2,   7.8997,2, -999.000,9, -999.000,   -999.0,9,   -999.0,  16.9242,  25.2401
    49NZ20060120,   P03W,   382,  1,     31, X12037,2,20060121,0206, 27.0740, 125.9760,  836,    250.3,2,  13.6890,2,  13.69109,2,  34.5358,2,  34.5374,2,   143.36,1,   155.93,2,    250.4,2,   157.82,2,   156.05,2,    23.78,2,     0.17,    15.27,2,     0.08,     0.01,2,     0.01,    1.127,2,    0.013,    1.905,6,    1.011,6,    0.054,4,   2113.5,2,   2289.5,2,   7.8090,2, -999.000,9, -999.000,   -999.0,9,   -999.0,  13.6535,  25.9004
    49NZ20060120,   P03W,   382,  1,     30, X12008,2,20060121,0206, 27.0740, 125.9760,  836,    301.2,2,  11.4734,2,  11.47379,2,  34.4303,2,  34.4328,2,   129.63,1,   141.25,2,    303.8,2,   143.39,2,   141.57,2,    33.44,2,     0.19,    20.01,2,     0.09,     0.01,2,     0.01,    1.472,2,    0.014,    1.734,2,    0.886,2,    0.040,2,   2150.5,2,   2290.7,2,   7.7322,2, -999.000,9, -999.000,   -999.0,9,   -999.0,  11.4353,  26.2524
    49NZ20060120,   P03W,   382,  1,     29, X12035,2,20060121,0206, 27.0740, 125.9760,  836,    399.7,2,   9.0462,2,   9.04812,2,  34.3331,2,  34.3335,2,   110.57,1,   120.17,2,    400.5,2,   119.92,2,   119.65,2,    47.39,2,     0.22,    26.04,2,     0.11,     0.01,2,     0.01,    1.915,2,    0.015,    1.364,2,    0.681,2,    0.035,2,   2195.9,2,   2297.3,2,   7.6358,2, -999.000,9, -999.000,   -999.0,9,   -999.0,   9.0025,  26.5955
    49NZ20060120,   P03W,   382,  1,     28, X12034,2,20060121,0206, 27.0740, 125.9760,  836,    502.3,2,   7.5312,2,   7.53057,2,  34.3115,2,  34.3111,6,    99.89,1,   109.13,2,    505.8,2,   108.78,2,   108.46,2,    63.76,2,     0.26,    29.61,2,     0.12,     0.00,2,     0.01,    2.166,2,    0.015,    1.087,2,    0.544,2,    0.023,2,   2229.1,2,   2311.7,2,   7.5854,2, -999.000,9, -999.000,   -999.0,9,   -999.0,   7.4816,  26.8088
    49NZ20060120,   P03W,   382,  1,     27, X12033,2,20060121,0206, 27.0740, 125.9760,  836,    599.0,2,   6.1295,2,   6.13039,2,  34.2901,2,  34.2894,2,    84.72,1,    92.40,2,    599.8,2,    91.54,2,    91.41,2,    79.11,2,     0.29,    33.46,2,     0.13,     0.00,2,     0.01,    2.449,2,    0.016,    0.778,2,    0.381,2,    0.030,2,   2261.2,2,   2323.1,2,   7.5224,2, -999.000,9, -999.000,   -999.0,9,   -999.0,   6.0764,  26.9820
    49NZ20060120,   P03W,   382,  1,     26, X12032,2,20060121,0206, 27.0740, 125.9760,  836,    698.1,2,   5.6570,2,   5.65889,2,  34.3494,2,  34.3493,2,    79.17,1,    86.33,2,    697.7,2,    85.77,2,    85.46,2,    89.48,2,     0.32,    34.78,2,     0.13,     0.01,2,     0.01,    2.535,2,    0.016,    0.575,2,    0.287,2,    0.011,2,   2281.7,6,   2337.4,2,   7.5094,2, -999.000,9, -999.000,   -999.0,9,   -999.0,   5.5970,  27.0886
    49NZ20060120,   P03W,   382,  1,     25, X12001,2,20060121,0206, 27.0740, 125.9760,  836,    799.6,2,   5.2671,2,   5.26716,2,  34.3757,2,  34.3758,2,    75.63,1,    82.03,2,    799.7,2,    81.80,2,    81.41,2,    96.20,2,     0.33,    35.76,2,     0.13,     0.01,2,     0.01,    2.609,2,    0.016,    0.459,6,    0.229,6,    0.018,6,   2294.7,2,   2344.9,6,   7.4977,2, -999.000,9, -999.000,   -999.0,9,   -999.0,   5.2002,  27.1570
    49NZ20060120,   P03W,   382,  1,     23, X12049,2,20060121,0206, 27.0740, 125.9760,  836,    800.2,2,   5.2780,2,   5.27749,2,  34.3750,2,  34.3751,2,    75.71,1,    82.29,2,    799.9,2,    81.79,2,    81.64,2,  -999.00,9,  -999.00,  -999.00,9,  -999.00,  -999.00,9,  -999.00, -999.000,9, -999.000, -999.000,9, -999.000,9, -999.000,9,   -999.0,9,   -999.0,9,-999.0000,9, -999.000,9, -999.000,   -999.0,9,   -999.0,   5.2110,  27.1552
    49NZ20060120,   P03W,   382,  1,     21, X12009,9,20060121,0206, 27.0740, 125.9760,  836,     25.2,2,  22.9633,2,  22.96408,2,  34.5932,2,-999.0000,9,   196.94,1,   214.25,2,     34.2,2,   217.46,2,  -999.00,9,  -999.00,9,  -999.00,  -999.00,9,  -999.00,  -999.00,9,  -999.00, -999.000,9, -999.000, -999.000,9, -999.000,9, -999.000,9,   -999.0,9,   -999.0,9,-999.0000,9, -999.000,9, -999.000,   -999.0,9,   -999.0,  22.9582,  23.6371
    49NZ20060120,   P03W,   382,  1,     20, X12026,9,20060121,0206, 27.0740, 125.9760,  836,     75.6,2,  22.7396,2,  22.74025,2,  34.6318,2,-999.0000,9,   194.15,1,   210.65,2,     76.6,2,   214.14,2,  -999.00,9,  -999.00,9,  -999.00,  -999.00,9,  -999.00,  -999.00,9,  -999.00, -999.000,9, -999.000, -999.000,9, -999.000,9, -999.000,9,   -999.0,9,   -999.0,9,-999.0000,9, -999.000,9, -999.000,   -999.0,9,   -999.0,  22.7243,  23.7334
    49NZ20060120,   P03W,   382,  1,     19, X12025,9,20060121,0206, 27.0740, 125.9760,  836,    837.8,2,   5.1047,2,   5.10452,2,  34.3843,2,-999.0000,9,    74.61,1,    80.56,2,    837.8,2,    80.59,2,  -999.00,9,  -999.00,9,  -999.00,  -999.00,9,  -999.00,  -999.00,9,  -999.00, -999.000,9, -999.000, -999.000,9, -999.000,9, -999.000,9,   -999.0,9,   -999.0,9,-999.0000,9, -999.000,9, -999.000,   -999.0,9,   -999.0,   5.0354,  27.1830
    49NZ20060120,   P03W,   382,  1,     18, X12024,9,20060121,0206, 27.0740, 125.9760,  836,     10.0,2,  22.9739,2,  22.97491,2,  34.5925,2,-999.0000,9,   197.42,1,   214.70,2,     19.2,2,   217.55,2,  -999.00,9,  -999.00,9,  -999.00,  -999.00,9,  -999.00,  -999.00,9,  -999.00, -999.000,9, -999.000, -999.000,9, -999.000,9, -999.000,9,   -999.0,9,   -999.0,9,-999.0000,9, -999.000,9, -999.000,   -999.0,9,   -999.0,  22.9719,  23.6326
    49NZ20060120,   P03W,   382,  1,     17, X12023,9,20060121,0206, 27.0740, 125.9760,  836,     49.5,2,  22.9108,2,  22.91346,2,  34.6042,2,-999.0000,9,   195.86,1,   212.71,2,     49.2,2,   215.62,2,  -999.00,9,  -999.00,9,  -999.00,  -999.00,9,  -999.00,  -999.00,9,  -999.00, -999.000,9, -999.000, -999.000,9, -999.000,9, -999.000,9,   -999.0,9,   -999.0,9,-999.0000,9, -999.000,9, -999.000,   -999.0,9,   -999.0,  22.9008,  23.6619
    49NZ20060120,   P03W,   382,  1,     16, X12022,9,20060121,0206, 27.0740, 125.9760,  836,    100.0,2,  22.5241,2,  22.53499,2,  34.6470,2,-999.0000,9,   187.95,1,   203.80,2,    104.4,2,   208.01,2,  -999.00,9,  -999.00,9,  -999.00,  -999.00,9,  -999.00,  -999.00,9,  -999.00, -999.000,9, -999.000, -999.000,9, -999.000,9, -999.000,9,   -999.0,9,   -999.0,9,-999.0000,9, -999.000,9, -999.000,   -999.0,9,   -999.0,  22.5040,  23.8076
    49NZ20060120,   P03W,   382,  1,     15, X12021,2,20060121,0206, 27.0740, 125.9760,  836,    150.7,2,  21.3372,2,  21.33825,2,  34.7370,2,-999.0000,9,   172.45,1,   187.37,2,    154.7,2,   192.82,2,  -999.00,9,  -999.00,9,  -999.00,  -999.00,9,  -999.00,  -999.00,9,  -999.00, -999.000,9, -999.000, -999.000,9, -999.000,9, -999.000,9,   -999.0,9,   -999.0,9,-999.0000,9, -999.000,9, -999.000,   -999.0,9,   -999.0,  21.3081,  24.2097
    49NZ20060120,   P03W,   382,  1,     14, X12020,9,20060121,0206, 27.0740, 125.9760,  836,    200.2,2,  17.0641,2,  17.07400,2,  34.6243,2,-999.0000,9,   157.04,1,   170.83,2,    200.9,2,   177.03,2,  -999.00,9,  -999.00,9,  -999.00,  -999.00,9,  -999.00,  -999.00,9,  -999.00, -999.000,9, -999.000, -999.000,9, -999.000,9, -999.000,9,   -999.0,9,   -999.0,9,-999.0000,9, -999.000,9, -999.000,   -999.0,9,   -999.0,  17.0311,  25.2185
    49NZ20060120,   P03W,   382,  1,     13, X12019,2,20060121,0206, 27.0740, 125.9760,  836,    251.0,2,  13.7093,2,  13.71023,2,  34.5371,2,-999.0000,9,   143.44,1,   155.84,2,    250.4,2,   157.82,2,  -999.00,9,  -999.00,9,  -999.00,  -999.00,9,  -999.00,  -999.00,9,  -999.00, -999.000,9, -999.000, -999.000,9, -999.000,9, -999.000,9,   -999.0,9,   -999.0,9,-999.0000,9, -999.000,9, -999.000,   -999.0,9,   -999.0,  13.6736,  25.8972
    49NZ20060120,   P03W,   382,  1,     12, X12018,9,20060121,0206, 27.0740, 125.9760,  836,    301.0,2,  11.4652,2,  11.47449,2,  34.4314,2,-999.0000,9,   129.96,1,   141.27,2,    303.9,2,   143.38,2,  -999.00,9,  -999.00,9,  -999.00,  -999.00,9,  -999.00,  -999.00,9,  -999.00, -999.000,9, -999.000, -999.000,9, -999.000,9, -999.000,9,   -999.0,9,   -999.0,9,-999.0000,9, -999.000,9, -999.000,   -999.0,9,   -999.0,  11.4271,  26.2548
    49NZ20060120,   P03W,   382,  1,     11, X12005,9,20060121,0206, 27.0740, 125.9760,  836,    397.2,2,   9.0717,2,   9.07315,2,  34.3342,2,-999.0000,9,   110.45,1,   120.20,2,    398.3,2,   119.93,2,  -999.00,9,  -999.00,9,  -999.00,  -999.00,9,  -999.00,  -999.00,9,  -999.00, -999.000,9, -999.000, -999.000,9, -999.000,9, -999.000,9,   -999.0,9,   -999.0,9,-999.0000,9, -999.000,9, -999.000,   -999.0,9,   -999.0,   9.0282,  26.5922
    49NZ20060120,   P03W,   382,  1,     10, X12010,9,20060121,0206, 27.0740, 125.9760,  836,    503.2,2,   7.5217,2,   7.52139,2,  34.3114,2,-999.0000,9,    99.63,1,   108.65,2,    506.5,2,   108.58,2,  -999.00,9,  -999.00,9,  -999.00,  -999.00,9,  -999.00,  -999.00,9,  -999.00, -999.000,9, -999.000, -999.000,9, -999.000,9, -999.000,9,   -999.0,9,   -999.0,9,-999.0000,9, -999.000,9, -999.000,   -999.0,9,   -999.0,   7.4721,  26.8101
    49NZ20060120,   P03W,   382,  1,      9, X12015,9,20060121,0206, 27.0740, 125.9760,  836,    598.2,2,   6.1229,2,   6.12326,2,  34.2937,2,-999.0000,9,    84.66,1,    92.34,2,    599.9,2,    91.55,2,  -999.00,9,  -999.00,9,  -999.00,  -999.00,9,  -999.00,  -999.00,9,  -999.00, -999.000,9, -999.000, -999.000,9, -999.000,9, -999.000,9,   -999.0,9,   -999.0,9,-999.0000,9, -999.000,9, -999.000,   -999.0,9,   -999.0,   6.0699,  26.9857
    49NZ20060120,   P03W,   382,  1,      8, X12014,9,20060121,0206, 27.0740, 125.9760,  836,    698.1,2,   5.6614,2,   5.65863,2,  34.3493,2,-999.0000,9,    79.27,1,    86.41,2,    697.6,2,    85.76,2,  -999.00,9,  -999.00,9,  -999.00,  -999.00,9,  -999.00,  -999.00,9,  -999.00, -999.000,9, -999.000, -999.000,9, -999.000,9, -999.000,9,   -999.0,9,   -999.0,9,-999.0000,9, -999.000,9, -999.000,   -999.0,9,   -999.0,   5.6014,  27.0880
    49NZ20060120,   P03W,   382,  1,      7, X12013,9,20060121,0206, 27.0740, 125.9760,  836,    800.3,2,   5.2694,2,   5.27117,2,  34.3755,2,-999.0000,9,    75.63,1,    82.17,2,    800.3,2,    81.78,2,  -999.00,9,  -999.00,9,  -999.00,  -999.00,9,  -999.00,  -999.00,9,  -999.00, -999.000,9, -999.000, -999.000,9, -999.000,9, -999.000,9,   -999.0,9,   -999.0,9,-999.0000,9, -999.000,9, -999.000,   -999.0,9,   -999.0,   5.2024,  27.1566
    49NZ20060120,   P03W,   382,  1,      3, X12003,2,20060121,0206, 27.0740, 125.9760,  836,     24.8,2,  22.9698,2,  22.97064,2,  34.5921,2,  34.5927,2,   197.11,1,   214.26,2,     33.3,2,   217.32,2,   215.18,2,     1.18,2,     0.12,     0.08,2,     0.03,     0.05,2,     0.01,    0.063,2,    0.029,    1.731,2,    1.009,2, -999.000,5,   1953.8,2,   2275.0,2,   8.0817,2, -999.000,9, -999.000,   -999.0,9,   -999.0,  22.9648,  23.6344
    49NZ20060120,   P03W,   382,  1,      2, X12044,2,20060121,0206, 27.0740, 125.9760,  836,     75.6,2,  22.7385,2,  22.73931,2,  34.6322,2,  34.6326,2,   193.87,1,   210.19,2,     76.8,2,   214.14,2,   211.86,2,     1.67,2,     0.12,     0.38,2,     0.03,     0.25,2,     0.01,    0.096,2,    0.022,    1.745,2,    1.018,2, -999.000,5,   1961.1,2,   2276.0,2,   8.0722,2, -999.000,9, -999.000,   -999.0,9,   -999.0,  22.7232,  23.7340
    49NZ20060120,   P03W,   382,  1,      1, X12051,2,20060121,0206, 27.0740, 125.9760,  836,    837.7,2,   5.1085,2,   5.10841,2,  34.3841,2,  34.3839,6,    74.65,1,    80.47,2,    837.6,2,    80.60,2,    80.18,2,    98.57,2,     0.34,    35.98,2,     0.13,     0.00,2,     0.01,    2.626,2,    0.017,    0.425,2,    0.209,2,    0.021,2,   2298.4,2,   2347.1,2,   7.4928,2, -999.000,9, -999.000,   -999.0,9,   -999.0,   5.0392,  27.1824