BOTTLE,20220819CCHSIOAMB
EXPOCODE,SECT_ID,STNNBR,CASTNO,SAMPNO,BTLNBR,BTLNBR_FLAG_W,DATE,TIME,LATITUDE,LONGITUDE,DEPTH,CTDPRS,CTDPRS_FLAG_W,CTDTMP,CTDTMP_FLAG_W,SBE35,SBE35_FLAG_W,CTDSAL,CTDSAL_FLAG_W,SALNTY,SALNTY_FLAG_W,CTDOXY,CTDOXY_FLAG_W,OPTOXY,OPTOXY_FLAG_W,DWNPRS,DWNPRS_FLAG_W,DWNOXY,DWNOXY_FLAG_W,OXYGEN,OXYGEN_FLAG_W,SILCAT,SILCAT_FLAG_W,SILUNC,NITRAT,NITRAT_FLAG_W,NRAUNC,NITRIT,NITRIT_FLAG_W,NRIUNC,PHSPHT,PHSPHT_FLAG_W,PHPUNC,CFC-11,CFC-11_FLAG_W,CFC-12,CFC-12_FLAG_W,CFC113,CFC113_FLAG_W,TCARBN,TCARBN_FLAG_W,ALKALI,ALKALI_FLAG_W,PH,PH_FLAG_W,DELC13,DELC13_FLAG_W,C13ERR,DELC14,DELC14_FLAG_W,C14ERR,THETA,SIG0
,,,,,,,,UTC,DEG,DEG,METERS,DBAR,,ITS-90,,ITS-90,,PSS-78,,PSS-78,,UMOL/KG,,UMOL/KG,,DBAR,,UMOL/KG,,UMOL/KG,,UMOL/KG,,UMOL/KG,UMOL/KG,,UMOL/KG,UMOL/KG,,UMOL/KG,UMOL/KG,,UMOL/KG,PMOL/KG,,PMOL/KG,,PMOL/KG,,UMOL/KG,,UMOL/KG,,,,/MILLE,,/MILLE,/MILLE,,/MILLE,DEG C,KG/M^3
    49NZ20060120,   P03W,   394,  1,     36, X12042,2,20060123,0857, 29.1075, 129.9655, 1135,      9.8,2,  21.4162,2,  21.41668,2,  34.6439,2,  34.6434,2,   196.56,1,   215.80,2,     11.9,2,   216.93,2,   216.76,2,     2.23,2,     0.12,     0.77,2,     0.03,     0.34,2,     0.00,    0.120,2,    0.020,    1.855,2,    1.062,2,    0.184,2,   1967.8,2,   2274.2,2,   8.0584,6, -999.000,9, -999.000,   -999.0,9,   -999.0,  21.4143,  24.1096
    49NZ20060120,   P03W,   394,  1,     35, X12041,2,20060123,0857, 29.1075, 129.9655, 1135,     50.1,2,  21.4227,2,  21.42471,2,  34.6961,2,  34.6879,2,   195.99,1,   214.95,2,     54.7,2,   215.71,2,   216.30,2,     1.99,2,     0.12,     0.59,2,     0.03,     0.30,2,     0.01,    0.106,2,    0.021,    1.853,2,    1.065,2,    0.173,2,   1968.6,6,   2281.1,2,   8.0606,2, -999.000,9, -999.000,   -999.0,9,   -999.0,  21.4130,  24.1497
    49NZ20060120,   P03W,   394,  1,     34, X12016,2,20060123,0857, 29.1075, 129.9655, 1135,    100.8,2,  21.3341,2,  21.33479,2,  34.7501,2,  34.7502,2,   195.79,1,   213.98,2,    101.2,2,   216.15,2,   216.08,2,     1.66,2,     0.12,     0.40,2,     0.03,     0.26,2,     0.01,    0.086,2,    0.024,    1.856,2,    1.069,2,    0.160,2,   1971.2,2,   2284.8,6,   8.0616,2, -999.000,9, -999.000,   -999.0,9,   -999.0,  21.3146,  24.2178
    49NZ20060120,   P03W,   394,  1,     33, X12039,2,20060123,0857, 29.1075, 129.9655, 1135,    150.2,2,  21.1126,2,  21.11313,2,  34.8147,2,  34.8175,2,   184.98,1,   202.21,2,    154.3,2,   198.74,2,   204.20,2,     2.19,2,     0.12,     1.49,2,     0.04,     0.13,2,     0.01,    0.149,2,    0.018,    1.898,2,    1.082,2,    0.148,2,   1989.5,2,   2286.2,2,   8.0371,6, -999.000,9, -999.000,   -999.0,9,   -999.0,  21.0838,  24.3301
    49NZ20060120,   P03W,   394,  1,     32, X12038,2,20060123,0857, 29.1075, 129.9655, 1135,    201.4,2,  18.8704,2,  18.87236,2,  34.7527,2,  34.7654,2,   169.14,1,   184.92,2,    197.5,2,   185.93,2,   186.61,2,     6.20,2,     0.13,     5.38,2,     0.05,     0.02,2,     0.01,    0.411,2,    0.013,    2.048,2,    1.137,2,    0.079,2,   2032.3,2,   2286.8,2,   7.9636,2, -999.000,9, -999.000,   -999.0,9,   -999.0,  18.8347,  24.8741
    49NZ20060120,   P03W,   394,  1,     31, X12037,2,20060123,0857, 29.1075, 129.9655, 1135,    252.0,2,  17.7698,2,  17.76880,2,  34.7799,2,  34.7801,2,   171.43,1,   187.17,2,    247.7,2,   188.07,2,   188.63,2,     5.45,2,     0.13,     5.85,2,     0.05,     0.01,2,     0.01,    0.436,2,    0.013,    2.180,6,    1.211,6,    0.040,6,   2040.3,2,   2286.0,2,   7.9474,2, -999.000,9, -999.000,   -999.0,9,   -999.0,  17.7269,  25.1704
    49NZ20060120,   P03W,   394,  1,     30, X12008,2,20060123,0857, 29.1075, 129.9655, 1135,    301.3,2,  16.7128,2,  16.71397,2,  34.7111,2,  34.7094,2,   169.64,1,   185.29,2,    289.0,2,   186.48,2,   186.51,2,     7.41,2,     0.14,     7.52,2,     0.05,     0.01,2,     0.01,    0.548,2,    0.013,    2.222,2,    1.220,2,    0.041,2,   2052.5,2,   2284.0,2,   7.9205,2, -999.000,9, -999.000,   -999.0,9,   -999.0,  16.6636,  25.3719
    49NZ20060120,   P03W,   394,  1,     29, X12035,2,20060123,0857, 29.1075, 129.9655, 1135,    400.8,2,  14.0966,2,  14.10269,2,  34.5288,2,  34.5295,2,   163.74,1,   178.90,2,    398.2,2,   177.27,2,   179.20,2,    13.69,2,     0.15,    11.96,2,     0.07,     0.00,2,     0.01,    0.861,2,    0.013,    2.297,2,    1.202,2,    0.035,2,   2084.1,2,   2277.6,2,   7.8498,2, -999.000,9, -999.000,   -999.0,9,   -999.0,  14.0382,  25.8149
    49NZ20060120,   P03W,   394,  1,     28, X12034,2,20060123,0857, 29.1075, 129.9655, 1135,    500.3,2,  12.0273,2,  12.02723,2,  34.4116,2,  34.4125,6,   146.94,1,   160.12,2,    492.1,2,   158.47,2,   160.56,2,    24.42,2,     0.17,    17.17,2,     0.08,     0.00,2,     0.01,    1.248,2,    0.013,    2.104,2,    1.059,2,    0.042,2,   2124.0,2,   2282.7,2,   7.7706,2, -999.000,9, -999.000,   -999.0,9,   -999.0,  11.9615,  26.1394
    49NZ20060120,   P03W,   394,  1,     27, X12033,2,20060123,0857, 29.1075, 129.9655, 1135,    601.6,2,   8.8922,2,   8.89256,2,  34.3053,2,  34.3056,2,   115.87,1,   126.46,2,    595.1,2,   124.72,2,   126.27,2,    48.98,2,     0.23,    25.80,2,     0.11,     0.00,2,     0.01,    1.874,2,    0.015,    1.511,2,    0.737,2,    0.037,2,   2191.8,2,   2298.1,2,   7.6420,2, -999.000,9, -999.000,   -999.0,9,   -999.0,   8.8264,  26.6016
    49NZ20060120,   P03W,   394,  1,     26, X12032,2,20060123,0857, 29.1075, 129.9655, 1135,    700.8,2,   7.3904,2,   7.39050,2,  34.3066,2,  34.3077,2,    98.75,1,   107.71,2,    696.3,2,   106.49,2,   107.26,2,    66.70,2,     0.27,    30.11,2,     0.12,     0.00,2,     0.01,    2.188,2,    0.015,    1.100,2,    0.533,2,    0.022,2,   2231.6,6,   2313.7,2,   7.5792,2, -999.000,9, -999.000,   -999.0,9,   -999.0,   7.3211,  26.8277
    49NZ20060120,   P03W,   394,  1,     25, X12001,2,20060123,0857, 29.1075, 129.9655, 1135,    801.3,2,   4.6730,2,   4.67340,2,  34.3895,2,  34.3900,2,    72.66,1,    79.42,2,    809.6,2,    81.38,2,    78.74,2,   106.54,2,     0.35,    36.95,2,     0.14,     0.00,2,     0.01,    2.671,2,    0.017,    0.424,6,    0.207,6,    0.016,6,   2305.1,2,   2355.4,6,   7.4968,2, -999.000,9, -999.000,   -999.0,9,   -999.0,   4.6096,  27.2353
    49NZ20060120,   P03W,   394,  1,     24, X12030,2,20060123,0857, 29.1075, 129.9655, 1135,    900.4,2,   3.7690,2,   3.76920,2,  34.4194,2,  34.4209,2,    64.14,1,    70.02,2,    895.8,2,    68.00,2,    69.14,2,   120.77,2,     0.38,    39.21,2,     0.14,     0.00,2,     0.01,    2.820,2,    0.017,    0.211,2,    0.102,2,    0.017,2,   2328.1,2,   2367.0,2,   7.4637,6, -999.000,9, -999.000,   -999.0,9,   -999.0,   3.7033,  27.3544
    49NZ20060120,   P03W,   394,  1,     23, X12049,2,20060123,0857, 29.1075, 129.9655, 1135,   1001.8,2,   3.2562,2,   3.25613,2,  34.4462,2,  34.4465,2,    61.31,1,    66.64,2,   1001.6,2,    65.82,2,    66.43,2,   129.02,2,     0.40,    40.24,2,     0.15,     0.00,2,     0.01,    2.893,2,    0.017,    0.107,2,    0.053,2,    0.000,2,   2341.5,2,   2376.8,2,   7.4521,2, -999.000,9, -999.000,   -999.0,9,   -999.0,   3.1863,  27.4258
    49NZ20060120,   P03W,   394,  1,     21, X12009,9,20060123,0857, 29.1075, 129.9655, 1135,     24.8,2,  21.4453,2,  21.44459,2,  34.6499,2,-999.0000,9,   196.19,1,   215.47,2,     26.8,2,   216.73,2,  -999.00,9,  -999.00,9,  -999.00,  -999.00,9,  -999.00,  -999.00,9,  -999.00, -999.000,9, -999.000, -999.000,9, -999.000,9, -999.000,9,   -999.0,9,   -999.0,9,-999.0000,9, -999.000,9, -999.000,   -999.0,9,   -999.0,  21.4405,  24.1070
    49NZ20060120,   P03W,   394,  1,     20, X12026,9,20060123,0857, 29.1075, 129.9655, 1135,     75.2,2,  21.3090,2,  21.30982,2,  34.7312,2,-999.0000,9,   196.02,1,   214.80,2,     76.7,2,   216.58,2,  -999.00,9,  -999.00,9,  -999.00,  -999.00,9,  -999.00,  -999.00,9,  -999.00, -999.000,9, -999.000, -999.000,9, -999.000,9, -999.000,9,   -999.0,9,   -999.0,9,-999.0000,9, -999.000,9, -999.000,   -999.0,9,   -999.0,  21.2945,  24.2089
    49NZ20060120,   P03W,   394,  1,     19, X12025,9,20060123,0857, 29.1075, 129.9655, 1135,   1142.7,2,   3.2178,2,   3.21756,2,  34.4515,2,-999.0000,9,    62.00,1,    66.81,2,   1142.7,2,    66.40,2,  -999.00,9,  -999.00,9,  -999.00,  -999.00,9,  -999.00,  -999.00,9,  -999.00, -999.000,9, -999.000, -999.000,9, -999.000,9, -999.000,9,   -999.0,9,   -999.0,9,-999.0000,9, -999.000,9, -999.000,   -999.0,9,   -999.0,   3.1371,  27.4346
    49NZ20060120,   P03W,   394,  1,     18, X12024,9,20060123,0857, 29.1075, 129.9655, 1135,      9.9,2,  21.4231,2,  21.42329,2,  34.6434,2,-999.0000,9,   196.38,1,   215.85,2,     11.4,2,   216.99,2,  -999.00,9,  -999.00,9,  -999.00,  -999.00,9,  -999.00,  -999.00,9,  -999.00, -999.000,9, -999.000, -999.000,9, -999.000,9, -999.000,9,   -999.0,9,   -999.0,9,-999.0000,9, -999.000,9, -999.000,   -999.0,9,   -999.0,  21.4212,  24.1074
    49NZ20060120,   P03W,   394,  1,     17, X12023,9,20060123,0857, 29.1075, 129.9655, 1135,     50.0,2,  21.4345,2,  21.43451,2,  34.6922,2,-999.0000,9,   195.99,1,   214.97,2,     54.1,2,   215.77,2,  -999.00,9,  -999.00,9,  -999.00,  -999.00,9,  -999.00,  -999.00,9,  -999.00, -999.000,9, -999.000, -999.000,9, -999.000,9, -999.000,9,   -999.0,9,   -999.0,9,-999.0000,9, -999.000,9, -999.000,   -999.0,9,   -999.0,  21.4248,  24.1435
    49NZ20060120,   P03W,   394,  1,     16, X12022,9,20060123,0857, 29.1075, 129.9655, 1135,    101.0,2,  21.3356,2,  21.33618,2,  34.7504,2,-999.0000,9,   195.81,1,   213.99,2,    101.4,2,   216.16,2,  -999.00,9,  -999.00,9,  -999.00,  -999.00,9,  -999.00,  -999.00,9,  -999.00, -999.000,9, -999.000, -999.000,9, -999.000,9, -999.000,9,   -999.0,9,   -999.0,9,-999.0000,9, -999.000,9, -999.000,   -999.0,9,   -999.0,  21.3161,  24.2177
    49NZ20060120,   P03W,   394,  1,     15, X12021,9,20060123,0857, 29.1075, 129.9655, 1135,    150.2,2,  21.1112,2,  21.11662,2,  34.8146,2,-999.0000,9,   184.85,1,   202.30,2,    154.3,2,   198.72,2,  -999.00,9,  -999.00,9,  -999.00,  -999.00,9,  -999.00,  -999.00,9,  -999.00, -999.000,9, -999.000, -999.000,9, -999.000,9, -999.000,9,   -999.0,9,   -999.0,9,-999.0000,9, -999.000,9, -999.000,   -999.0,9,   -999.0,  21.0824,  24.3304
    49NZ20060120,   P03W,   394,  1,     14, X12020,9,20060123,0857, 29.1075, 129.9655, 1135,    201.3,2,  18.8765,2,  18.87734,2,  34.7529,2,-999.0000,9,   169.15,1,   184.80,2,    197.4,2,   185.92,2,  -999.00,9,  -999.00,9,  -999.00,  -999.00,9,  -999.00,  -999.00,9,  -999.00, -999.000,9, -999.000, -999.000,9, -999.000,9, -999.000,9,   -999.0,9,   -999.0,9,-999.0000,9, -999.000,9, -999.000,   -999.0,9,   -999.0,  18.8408,  24.8727
    49NZ20060120,   P03W,   394,  1,     13, X12019,9,20060123,0857, 29.1075, 129.9655, 1135,    252.4,2,  17.7694,2,  17.77024,2,  34.7803,2,-999.0000,9,   171.35,1,   187.11,2,    248.1,2,   188.09,2,  -999.00,9,  -999.00,9,  -999.00,  -999.00,9,  -999.00,  -999.00,9,  -999.00, -999.000,9, -999.000, -999.000,9, -999.000,9, -999.000,9,   -999.0,9,   -999.0,9,-999.0000,9, -999.000,9, -999.000,   -999.0,9,   -999.0,  17.7264,  25.1708
    49NZ20060120,   P03W,   394,  1,     12, X12018,9,20060123,0857, 29.1075, 129.9655, 1135,    302.1,2,  16.7085,2,  16.70985,2,  34.7110,2,-999.0000,9,   169.66,1,   185.45,2,    289.6,2,   186.45,2,  -999.00,9,  -999.00,9,  -999.00,  -999.00,9,  -999.00,  -999.00,9,  -999.00, -999.000,9, -999.000, -999.000,9, -999.000,9, -999.000,9,   -999.0,9,   -999.0,9,-999.0000,9, -999.000,9, -999.000,   -999.0,9,   -999.0,  16.6592,  25.3728
    49NZ20060120,   P03W,   394,  1,     11, X12005,9,20060123,0857, 29.1075, 129.9655, 1135,    401.0,2,  14.1051,2,  14.11346,2,  34.5291,2,-999.0000,9,   163.14,1,   178.39,2,    398.2,2,   177.31,2,  -999.00,9,  -999.00,9,  -999.00,  -999.00,9,  -999.00,  -999.00,9,  -999.00, -999.000,9, -999.000, -999.000,9, -999.000,9, -999.000,9,   -999.0,9,   -999.0,9,-999.0000,9, -999.000,9, -999.000,   -999.0,9,   -999.0,  14.0467,  25.8134
    49NZ20060120,   P03W,   394,  1,     10, X12010,9,20060123,0857, 29.1075, 129.9655, 1135,    500.0,2,  12.0200,2,  12.02279,2,  34.4115,2,-999.0000,9,   146.73,1,   160.08,2,    492.1,2,   158.47,2,  -999.00,9,  -999.00,9,  -999.00,  -999.00,9,  -999.00,  -999.00,9,  -999.00, -999.000,9, -999.000, -999.000,9, -999.000,9, -999.000,9,   -999.0,9,   -999.0,9,-999.0000,9, -999.000,9, -999.000,   -999.0,9,   -999.0,  11.9543,  26.1407
    49NZ20060120,   P03W,   394,  1,      9, X12015,9,20060123,0857, 29.1075, 129.9655, 1135,    601.3,2,   8.8996,2,   8.89976,2,  34.3057,2,-999.0000,9,   115.85,1,   126.41,2,    594.7,2,   124.77,2,  -999.00,9,  -999.00,9,  -999.00,  -999.00,9,  -999.00,  -999.00,9,  -999.00, -999.000,9, -999.000, -999.000,9, -999.000,9, -999.000,9,   -999.0,9,   -999.0,9,-999.0000,9, -999.000,9, -999.000,   -999.0,9,   -999.0,   8.8338,  26.6008
    49NZ20060120,   P03W,   394,  1,      8, X12014,9,20060123,0857, 29.1075, 129.9655, 1135,    701.0,2,   7.3895,2,   7.38991,2,  34.3068,2,-999.0000,9,    98.77,1,   107.83,2,    696.6,2,   106.48,2,  -999.00,9,  -999.00,9,  -999.00,  -999.00,9,  -999.00,  -999.00,9,  -999.00, -999.000,9, -999.000, -999.000,9, -999.000,9, -999.000,9,   -999.0,9,   -999.0,9,-999.0000,9, -999.000,9, -999.000,   -999.0,9,   -999.0,   7.3202,  26.8280
    49NZ20060120,   P03W,   394,  1,      7, X12013,9,20060123,0857, 29.1075, 129.9655, 1135,    801.1,2,   4.6737,2,   4.67306,2,  34.3897,2,-999.0000,9,    72.67,1,    79.40,2,    809.5,2,    81.39,2,  -999.00,9,  -999.00,9,  -999.00,  -999.00,9,  -999.00,  -999.00,9,  -999.00, -999.000,9, -999.000, -999.000,9, -999.000,9, -999.000,9,   -999.0,9,   -999.0,9,-999.0000,9, -999.000,9, -999.000,   -999.0,9,   -999.0,   4.6103,  27.2354
    49NZ20060120,   P03W,   394,  1,      6, X12048,9,20060123,0857, 29.1075, 129.9655, 1135,    900.3,2,   3.7698,2,   3.77008,2,  34.4195,2,-999.0000,9,    64.08,1,    70.07,2,    895.8,2,    68.00,2,  -999.00,9,  -999.00,9,  -999.00,  -999.00,9,  -999.00,  -999.00,9,  -999.00, -999.000,9, -999.000, -999.000,9, -999.000,9, -999.000,9,   -999.0,9,   -999.0,9,-999.0000,9, -999.000,9, -999.000,   -999.0,9,   -999.0,   3.7041,  27.3544
    49NZ20060120,   P03W,   394,  1,      5, X12047,9,20060123,0857, 29.1075, 129.9655, 1135,   1001.9,2,   3.2569,2,   3.25681,2,  34.4461,2,-999.0000,9,    61.34,1,    66.64,2,   1001.8,2,    65.82,2,  -999.00,9,  -999.00,9,  -999.00,  -999.00,9,  -999.00,  -999.00,9,  -999.00, -999.000,9, -999.000, -999.000,9, -999.000,9, -999.000,9,   -999.0,9,   -999.0,9,-999.0000,9, -999.000,9, -999.000,   -999.0,9,   -999.0,   3.1869,  27.4257
    49NZ20060120,   P03W,   394,  1,      3, X12003,2,20060123,0857, 29.1075, 129.9655, 1135,     24.7,2,  21.4465,2,  21.44814,2,  34.6505,2,  34.6459,2,   196.35,1,   215.76,2,     26.7,2,   216.73,2,   216.59,2,     2.22,2,     0.12,     0.75,2,     0.03,     0.33,2,     0.01,    0.124,2,    0.020,    1.857,2,    1.062,2,    0.169,2,   1967.8,2,   2271.6,2,   8.0600,2, -999.000,9, -999.000,   -999.0,9,   -999.0,  21.4417,  24.1071
    49NZ20060120,   P03W,   394,  1,      2, X12044,2,20060123,0857, 29.1075, 129.9655, 1135,     75.0,2,  21.3091,2,  21.30976,2,  34.7310,2,  34.7302,2,   196.13,1,   214.80,2,     76.5,2,   216.57,2,   216.30,2,     1.73,2,     0.12,     0.46,2,     0.03,     0.26,2,     0.01,    0.096,2,    0.022,    1.855,2,    1.072,2,    0.173,2,   1971.3,2,   2278.3,2,   8.0614,2, -999.000,9, -999.000,   -999.0,9,   -999.0,  21.2946,  24.2087
    49NZ20060120,   P03W,   394,  1,      1, X12051,2,20060123,0857, 29.1075, 129.9655, 1135,   1142.5,2,   3.2177,2,   3.21757,2,  34.4516,2,  34.4523,6,    62.00,1,    66.80,2,   1142.5,2,    66.40,2,    66.97,2,   129.82,2,     0.40,    40.16,2,     0.15,    -0.01,2,     0.01,    2.888,2,    0.017,    0.104,2,    0.049,2,    0.000,2,   2340.5,2,   2379.0,2,   7.4510,2, -999.000,9, -999.000,   -999.0,9,   -999.0,   3.1370,  27.4347