BOTTLE,20220819CCHSIOAMB
# Set missing CASTNO to 1, Set missing SALNTY flags from 2 to 9, Changed units for CTDTMP from ITS90 to ITS-90
#BOTTLE,20010820WHPSIOKJU
#code : jjward hyd_to_exchange.pl 
#original files copied from HTML directory: 20010820
#original HYD file: pr23_chy.txt   Thu Aug  9 11:24:31 2001
#original SUM file: pr23_csu.txt   Mon Nov 20 15:49:40 2000
EXPOCODE,SECT_ID,STNNBR,CASTNO,SAMPNO,BTLNBR,BTLNBR_FLAG_W,DATE,TIME,LATITUDE,LONGITUDE,DEPTH,CTDPRS,CTDTMP,CTDTMP_FLAG_W,CTDSAL,CTDSAL_FLAG_W,SALNTY,SALNTY_FLAG_W,OXYGEN,OXYGEN_FLAG_W,SILCAT,SILCAT_FLAG_W,NITRAT,NITRAT_FLAG_W,NITRIT,NITRIT_FLAG_W,PHSPHT,PHSPHT_FLAG_W,TRITUM,TRITUM_FLAG_W,HELIUM,HELIUM_FLAG_W,DELHE3,DELHE3_FLAG_W,DELC14,DELC14_FLAG_W,DELC13
,,,,,,,,,,,,DBAR,ITS-90,,PSS-78,,PSS-78,,UMOL/KG,,UMOL/KG,,UMOL/KG,,UMOL/KG,,UMOL/KG,,TU,,NMOL/KG,,PERCNT,,/MILLE,,/MILLE
    49XK9406_1,  PR23,     1,  1,     34,     34,2,19950115,0059,  7.4960, 134.0022, 3844,      9.1,  28.0662,2,  34.1043,2,-999.0000,5,    207.1,6,     0.91,6,    -0.01,6,     0.01,6,     0.02,2, -999.000,9,-999.0000,9,  -999.00,9,   -999.0,9,   -999.0
    49XK9406_1,  PR23,     1,  1,     35,     35,2,19950115,0059,  7.4960, 134.0022, 3844,      9.3,  28.0732,2,  34.1047,2,-999.0000,9,   -999.0,5,     1.08,2,    -0.01,2,     0.01,2,     0.01,2, -999.000,9,-999.0000,9,  -999.00,9,   -999.0,9,   -999.0
    49XK9406_1,  PR23,     1,  1,     36,     36,2,19950115,0059,  7.4960, 134.0022, 3844,      9.4,  28.0734,2,  34.1049,2,  34.1009,2,   -999.0,5,     1.04,6,    -0.01,6,     0.01,6,     0.02,2, -999.000,9,-999.0000,9,  -999.00,9,   -999.0,9,   -999.0
    49XK9406_1,  PR23,     1,  1,     33,     33,2,19950115,0059,  7.4960, 134.0022, 3844,     18.2,  28.0168,2,  34.1022,2,  34.1005,2,    199.2,2,  -999.00,9,  -999.00,9,  -999.00,9,  -999.00,9, -999.000,9,-999.0000,9,  -999.00,9,   -999.0,9,   -999.0
    49XK9406_1,  PR23,     1,  1,     32,     32,2,19950115,0059,  7.4960, 134.0022, 3844,     28.9,  28.0133,2,  34.1018,2,  34.1015,2,    199.1,2,     0.94,2,     0.03,2,     0.01,2,     0.02,2, -999.000,9,-999.0000,9,  -999.00,1,   -999.0,1,   -999.0
    49XK9406_1,  PR23,     1,  1,     31,     31,2,19950115,0059,  7.4960, 134.0022, 3844,     48.6,  27.9330,2,  34.1343,2,  34.1760,2,    199.3,2,     1.15,2,     0.08,2,     0.01,2,     0.03,2, -999.000,9,-999.0000,9,  -999.00,1,   -999.0,1,   -999.0
    49XK9406_1,  PR23,     1,  1,     30,     30,2,19950115,0059,  7.4960, 134.0022, 3844,     73.6,  21.2917,2,  34.7486,2,  34.7476,2,    171.1,2,     4.39,2,     3.29,2,     0.17,2,     0.40,2, -999.000,9,-999.0000,9,  -999.00,9,   -999.0,9,   -999.0
    49XK9406_1,  PR23,     1,  1,     29,     29,2,19950115,0059,  7.4960, 134.0022, 3844,     98.4,  14.6750,2,  34.6103,2,  34.6166,2,    133.7,6,    15.16,6,    15.53,6,     0.03,6,     1.14,2, -999.000,9,-999.0000,9,  -999.00,1,   -999.0,1,   -999.0
    49XK9406_1,  PR23,     1,  1,     28,     28,3,19950115,0059,  7.4960, 134.0022, 3844,    123.1,  12.8851,2,  34.5631,2,-999.0000,5,    114.1,2,  -999.00,9,  -999.00,9,  -999.00,9,  -999.00,9, -999.000,9,-999.0000,9,  -999.00,9,   -999.0,9,   -999.0
    49XK9406_1,  PR23,     1,  1,     27,     27,2,19950115,0059,  7.4960, 134.0022, 3844,    148.6,  11.9782,2,  34.5467,2,  34.5372,2,    105.5,2,    25.06,2,    23.14,2,     0.01,2,     1.67,2, -999.000,9,-999.0000,9,  -999.00,1,   -999.0,1,   -999.0
    49XK9406_1,  PR23,     1,  1,     26,     26,2,19950115,0059,  7.4960, 134.0022, 3844,    198.4,  10.1014,2,  34.5276,2,  34.5272,2,     85.7,2,    33.16,2,    28.27,2,     0.01,2,     2.03,2, -999.000,9,-999.0000,9,  -999.00,1,   -999.0,1,   -999.0
    49XK9406_1,  PR23,     1,  1,     25,     25,2,19950115,0059,  7.4960, 134.0022, 3844,    248.7,   9.2624,2,  34.5307,2,  34.5290,2,     75.6,2,    37.71,2,    30.80,2,     0.01,2,     2.20,2, -999.000,9,-999.0000,9,  -999.00,9,   -999.0,9,   -999.0
    49XK9406_1,  PR23,     1,  1,     24,     24,2,19950115,0059,  7.4960, 134.0022, 3844,    298.7,   8.5213,2,  34.5330,2,  34.5333,2,     73.7,2,    40.85,2,    32.43,2,     0.01,2,     2.30,2, -999.000,9,-999.0000,9,  -999.00,1,   -999.0,1,   -999.0
    49XK9406_1,  PR23,     1,  1,     23,     23,2,19950115,0059,  7.4960, 134.0022, 3844,    399.3,   7.6170,2,  34.5310,2,  34.5307,2,     83.3,2,    45.60,2,    33.43,2,     0.01,2,     2.37,2, -999.000,9,-999.0000,9,  -999.00,1,   -999.0,1,   -999.0
    49XK9406_1,  PR23,     1,  1,     22,     22,2,19950115,0059,  7.4960, 134.0022, 3844,    498.0,   7.2048,2,  34.5507,2,  34.5502,2,     82.8,2,    47.14,2,    34.45,2,     0.01,2,     2.45,2, -999.000,9,-999.0000,9,  -999.00,9,   -999.0,9,   -999.0
    49XK9406_1,  PR23,     1,  1,     21,     21,2,19950115,0059,  7.4960, 134.0022, 3844,    598.2,   6.6257,2,  34.5309,2,  34.5309,2,     84.4,2,    54.45,2,    35.31,2,     0.01,2,     2.51,2, -999.000,9,-999.0000,9,  -999.00,1,   -999.0,1,   -999.0
    49XK9406_1,  PR23,     1,  1,     20,     20,2,19950115,0059,  7.4960, 134.0022, 3844,    697.6,   6.0530,2,  34.5260,2,  34.5260,2,   -999.0,5,    62.33,2,    36.39,2,     0.01,2,     2.59,2, -999.000,9,-999.0000,9,  -999.00,9,   -999.0,9,   -999.0
    49XK9406_1,  PR23,     1,  1,     19,     19,3,19950115,0059,  7.4960, 134.0022, 3844,    798.3,   5.5730,2,  34.5285,2,-999.0000,5,     85.6,2,    70.81,2,    36.81,2,     0.00,2,     2.63,2, -999.000,9,-999.0000,9,  -999.00,9,   -999.0,9,   -999.0
    49XK9406_1,  PR23,     1,  1,     18,     18,2,19950115,0059,  7.4960, 134.0022, 3844,    898.2,   5.0395,2,  34.5379,2,  34.5384,2,     91.8,2,    77.66,2,    37.22,2,     0.01,2,     2.64,2, -999.000,9,-999.0000,9,  -999.00,9,   -999.0,9,   -999.0
    49XK9406_1,  PR23,     1,  1,     15,     15,2,19950115,0059,  7.4960, 134.0022, 3844,    999.4,   4.5293,2,  34.5461,2,-999.0000,5,     89.8,2,    89.81,2,    37.79,2,     0.01,2,     2.70,2, -999.000,9,-999.0000,9,  -999.00,1,   -999.0,1,   -999.0
    49XK9406_1,  PR23,     1,  1,     16,     16,2,19950115,0059,  7.4960, 134.0022, 3844,    999.5,   4.5346,2,  34.5459,2,-999.0000,5,     89.9,2,    90.15,2,    37.72,2,     0.01,2,     2.70,2, -999.000,9,-999.0000,9,  -999.00,9,   -999.0,9,   -999.0
    49XK9406_1,  PR23,     1,  1,     17,     17,2,19950115,0059,  7.4960, 134.0022, 3844,    999.5,   4.5363,2,  34.5458,2,  34.5464,2,     89.8,2,    89.74,2,    37.65,2,     0.00,2,     2.70,2, -999.000,9,-999.0000,9,  -999.00,9,   -999.0,9,   -999.0
    49XK9406_1,  PR23,     1,  1,     14,     14,2,19950115,0059,  7.4960, 134.0022, 3844,   1248.8,   3.5242,2,  34.5764,2,  34.5771,2,     98.4,2,   109.10,2,    38.31,2,     0.01,2,     2.74,2, -999.000,9,-999.0000,9,  -999.00,9,   -999.0,9,   -999.0
    49XK9406_1,  PR23,     1,  1,     13,     13,2,19950115,0059,  7.4960, 134.0022, 3844,   1498.4,   2.9194,2,  34.5987,2,  34.5995,2,    104.4,2,   122.24,2,    38.18,2,     0.00,2,     2.72,3, -999.000,9,-999.0000,9,  -999.00,1,   -999.0,1,   -999.0
    49XK9406_1,  PR23,     1,  1,     12,     12,2,19950115,0059,  7.4960, 134.0022, 3844,   1747.5,   2.4485,2,  34.6206,2,  34.6213,6,    110.7,2,   130.77,2,    38.24,2,     0.01,2,     2.69,2, -999.000,9,-999.0000,9,  -999.00,9,   -999.0,9,   -999.0
    49XK9406_1,  PR23,     1,  1,     11,     11,2,19950115,0059,  7.4960, 134.0022, 3844,   1998.5,   2.1328,2,  34.6376,2,-999.0000,5,    118.8,2,   135.39,2,    38.04,2,     0.00,2,     2.65,2, -999.000,9,-999.0000,9,  -999.00,9,   -999.0,9,   -999.0
    49XK9406_1,  PR23,     1,  1,     10,     10,2,19950115,0059,  7.4960, 134.0022, 3844,   1998.6,   2.1324,2,  34.6377,2,  34.6384,2,    118.7,2,   135.52,2,    37.67,2,     0.01,2,     2.66,2, -999.000,9,-999.0000,9,  -999.00,1,   -999.0,1,   -999.0
    49XK9406_1,  PR23,     1,  1,      9,      9,2,19950115,0059,  7.4960, 134.0022, 3844,   2248.3,   1.8677,2,  34.6523,2,  34.6529,2,    127.6,2,   139.54,2,    37.46,2,     0.01,2,     2.61,2, -999.000,9,-999.0000,9,  -999.00,9,   -999.0,9,   -999.0
    49XK9406_1,  PR23,     1,  1,      8,      8,2,19950115,0059,  7.4960, 134.0022, 3844,   2498.3,   1.7419,2,  34.6599,2,  34.6602,2,    134.3,2,   139.38,2,    36.88,2,     0.01,2,     2.58,2, -999.000,9,-999.0000,9,  -999.00,1,   -999.0,1,   -999.0
    49XK9406_1,  PR23,     1,  1,      7,      7,2,19950115,0059,  7.4960, 134.0022, 3844,   2749.1,   1.6513,2,  34.6664,2,  34.6661,2,    139.4,2,   140.24,2,    36.52,2,     0.01,2,     2.55,2, -999.000,9,-999.0000,9,  -999.00,9,   -999.0,9,   -999.0
    49XK9406_1,  PR23,     1,  1,      6,      6,2,19950115,0059,  7.4960, 134.0022, 3844,   2999.4,   1.6049,2,  34.6706,2,  34.6698,2,    143.2,6,   140.49,6,    36.30,6,     0.01,6,     2.52,2, -999.000,9,-999.0000,9,  -999.00,1,   -999.0,1,   -999.0
    49XK9406_1,  PR23,     1,  1,      5,      5,2,19950115,0059,  7.4960, 134.0022, 3844,   3249.6,   1.5706,2,  34.6743,2,  34.6736,6,    146.6,2,   140.04,2,    36.17,2,     0.00,2,     2.51,2, -999.000,9,-999.0000,9,  -999.00,9,   -999.0,9,   -999.0
    49XK9406_1,  PR23,     1,  1,      4,      4,2,19950115,0059,  7.4960, 134.0022, 3844,   3499.8,   1.5618,2,  34.6765,2,  34.6759,2,   -999.0,5,   139.60,2,    35.96,2,     0.01,2,     2.51,2, -999.000,9,-999.0000,9,  -999.00,1,   -999.0,1,   -999.0
    49XK9406_1,  PR23,     1,  1,      3,      3,2,19950115,0059,  7.4960, 134.0022, 3844,   3749.9,   1.5644,2,  34.6783,2,  34.6771,2,    150.2,2,   140.32,2,    36.06,2,     0.01,2,     2.48,2, -999.000,9,-999.0000,9,  -999.00,9,   -999.0,9,   -999.0
    49XK9406_1,  PR23,     1,  1,      1,      1,2,19950115,0059,  7.4960, 134.0022, 3844,   3905.5,   1.5730,2,  34.6789,2,  34.6787,2,   -999.0,5,   139.96,6,    35.86,6,     0.01,6,     2.49,2, -999.000,9,-999.0000,9,  -999.00,9,   -999.0,9,   -999.0
    49XK9406_1,  PR23,     1,  1,      2,      2,2,19950115,0059,  7.4960, 134.0022, 3844,   3905.6,   1.5733,2,  34.6789,2,  34.6789,2,   -999.0,5,   140.06,2,    35.91,2,     0.00,2,     2.49,2, -999.000,9,-999.0000,9,  -999.00,9,   -999.0,9,   -999.0
    49XK9406_1,  PR23,     2,  1,     36,     36,2,19950115,0651,  7.5018, 133.5042, 4891,      7.6,  28.1566,2,  34.0943,2,  34.0911,6,    198.5,2,    -0.47,2,     0.06,2,     0.01,2,     0.03,2, -999.000,9,-999.0000,9,  -999.00,9,   -999.0,9,   -999.0
    49XK9406_1,  PR23,     2,  1,     35,     35,2,19950115,0651,  7.5018, 133.5042, 4891,     28.0,  28.0380,2,  34.0936,2,  34.0923,2,   -999.0,5,    -3.70,2,     0.07,2,     0.01,2,     0.03,2, -999.000,9,-999.0000,9,  -999.00,9,   -999.0,9,   -999.0
    49XK9406_1,  PR23,     2,  1,     34,     34,2,19950115,0651,  7.5018, 133.5042, 4891,     49.1,  27.4258,2,  34.2916,2,  34.2921,2,   -999.0,5,     1.36,2,     0.09,2,     0.01,2,     0.05,2, -999.000,9,-999.0000,9,  -999.00,9,   -999.0,9,   -999.0
    49XK9406_1,  PR23,     2,  1,     33,     33,2,19950115,0651,  7.5018, 133.5042, 4891,     75.3,  21.0449,2,  34.7945,2,  34.7889,2,    171.6,2,     2.41,2,     3.35,2,     0.16,2,     0.40,2, -999.000,9,-999.0000,9,  -999.00,9,   -999.0,9,   -999.0
    49XK9406_1,  PR23,     2,  1,     32,     32,2,19950115,0651,  7.5018, 133.5042, 4891,     99.4,  19.0102,2,  34.7720,2,  34.7716,2,    159.2,6,    10.43,6,    11.51,6,     0.12,6,     0.88,2, -999.000,9,-999.0000,9,  -999.00,9,   -999.0,9,   -999.0
    49XK9406_1,  PR23,     2,  1,     31,     31,2,19950115,0651,  7.5018, 133.5042, 4891,    122.2,  16.8722,2,  34.7061,2,  34.7028,2,    145.3,2,    10.50,2,    11.61,2,     0.07,2,     0.87,2, -999.000,9,-999.0000,9,  -999.00,9,   -999.0,9,   -999.0
    49XK9406_1,  PR23,     2,  1,     30,     30,2,19950115,0651,  7.5018, 133.5042, 4891,    148.9,  13.7165,2,  34.5866,2,  34.5830,2,    122.0,2,    18.25,2,    18.76,2,     0.02,2,     1.37,2, -999.000,9,-999.0000,9,  -999.00,9,   -999.0,9,   -999.0
    49XK9406_1,  PR23,     2,  1,     29,     29,2,19950115,0651,  7.5018, 133.5042, 4891,    198.8,  10.7945,2,  34.5415,2,  34.5406,2,     88.7,2,    29.45,2,    26.89,2,     0.02,2,     1.93,2, -999.000,9,-999.0000,9,  -999.00,9,   -999.0,9,   -999.0
    49XK9406_1,  PR23,     2,  1,     28,     28,2,19950115,0651,  7.5018, 133.5042, 4891,    249.1,   9.3411,2,  34.5720,2,  34.5728,2,     66.6,2,    37.48,2,    31.82,2,     0.01,2,     2.26,2, -999.000,9,-999.0000,9,  -999.00,9,   -999.0,9,   -999.0
    49XK9406_1,  PR23,     2,  1,     27,     27,2,19950115,0651,  7.5018, 133.5042, 4891,    299.2,   8.6344,2,  34.5881,2,  34.5869,2,     67.2,2,    38.16,2,    33.34,2,     0.01,2,     2.33,2, -999.000,9,-999.0000,9,  -999.00,9,   -999.0,9,   -999.0
    49XK9406_1,  PR23,     2,  1,     26,     26,3,19950115,0651,  7.5018, 133.5042, 4891,    399.5,   8.1920,2,  34.5806,2,  34.5794,2,   -999.0,5,    41.40,2,    33.79,2,     0.01,2,     2.37,2, -999.000,9,-999.0000,9,  -999.00,9,   -999.0,9,   -999.0
    49XK9406_1,  PR23,     2,  1,     25,     25,3,19950115,0651,  7.5018, 133.5042, 4891,    499.0,   7.1111,2,  34.5286,2,  34.5282,2,     87.2,2,    48.42,2,    34.17,2,     0.01,2,     2.40,2, -999.000,9,-999.0000,9,  -999.00,9,   -999.0,9,   -999.0
    49XK9406_1,  PR23,     2,  1,     24,     24,2,19950115,0651,  7.5018, 133.5042, 4891,    600.3,   6.5187,2,  34.5251,2,  34.5248,2,     89.7,2,    53.67,2,    35.09,2,     0.01,2,     2.48,2, -999.000,9,-999.0000,9,  -999.00,9,   -999.0,9,   -999.0
    49XK9406_1,  PR23,     2,  1,     23,     23,2,19950115,0651,  7.5018, 133.5042, 4891,    700.4,   6.1181,2,  34.5231,2,  34.5233,2,     88.1,2,    62.03,2,    35.98,2,     0.01,2,     2.54,2, -999.000,9,-999.0000,9,  -999.00,9,   -999.0,9,   -999.0
    49XK9406_1,  PR23,     2,  1,     22,     22,2,19950115,0651,  7.5018, 133.5042, 4891,    798.8,   5.6929,2,  34.5225,2,  34.5227,2,     87.1,2,    68.44,2,    36.74,2,     0.01,2,     2.58,2, -999.000,9,-999.0000,9,  -999.00,9,   -999.0,9,   -999.0
    49XK9406_1,  PR23,     2,  1,     21,     21,2,19950115,0651,  7.5018, 133.5042, 4891,    898.9,   4.9815,2,  34.5384,2,  34.5388,2,     85.1,2,    82.98,2,    37.94,2,     0.01,2,     2.67,2, -999.000,9,-999.0000,9,  -999.00,9,   -999.0,9,   -999.0
    49XK9406_1,  PR23,     2,  1,     18,     18,2,19950115,0651,  7.5018, 133.5042, 4891,    997.9,   4.3063,2,  34.5529,2,  34.5529,2,     89.0,2,    95.67,2,    38.39,2,     0.01,2,     2.71,2, -999.000,9,-999.0000,9,  -999.00,9,   -999.0,9,   -999.0
    49XK9406_1,  PR23,     2,  1,     19,     19,2,19950115,0651,  7.5018, 133.5042, 4891,    998.1,   4.3071,2,  34.5529,2,  34.5537,2,   -999.0,5,    93.20,2,    38.45,2,     0.00,2,     2.71,2, -999.000,9,-999.0000,9,  -999.00,9,   -999.0,9,   -999.0
    49XK9406_1,  PR23,     2,  1,     20,     20,2,19950115,0651,  7.5018, 133.5042, 4891,    998.2,   4.3072,2,  34.5529,2,  34.5533,2,   -999.0,5,    95.64,2,    38.24,2,     0.01,2,     2.71,2, -999.000,9,-999.0000,9,  -999.00,9,   -999.0,9,   -999.0
    49XK9406_1,  PR23,     2,  1,     17,     17,2,19950115,0651,  7.5018, 133.5042, 4891,   1249.4,   3.5902,2,  34.5730,2,  34.5728,2,     94.5,2,   110.72,2,    38.69,2,     0.00,2,     2.71,2, -999.000,9,-999.0000,9,  -999.00,9,   -999.0,9,   -999.0
    49XK9406_1,  PR23,     2,  1,     16,     16,2,19950115,0651,  7.5018, 133.5042, 4891,   1500.4,   2.9473,2,  34.5972,2,  34.5973,6,    101.7,2,   122.78,2,    38.69,2,     0.01,2,     2.71,2, -999.000,9,-999.0000,9,  -999.00,9,   -999.0,9,   -999.0
    49XK9406_1,  PR23,     2,  1,     15,     15,2,19950115,0651,  7.5018, 133.5042, 4891,   1749.3,   2.5505,2,  34.6155,2,  34.6160,2,    107.5,2,   129.96,2,    38.67,2,     0.01,2,     2.69,2, -999.000,9,-999.0000,9,  -999.00,9,   -999.0,9,   -999.0
    49XK9406_1,  PR23,     2,  1,     14,     14,2,19950115,0651,  7.5018, 133.5042, 4891,   1998.9,   2.1960,2,  34.6335,2,  34.6341,2,    115.7,2,   136.09,2,    38.23,2,     0.00,2,     2.65,2, -999.000,9,-999.0000,9,  -999.00,9,   -999.0,9,   -999.0
    49XK9406_1,  PR23,     2,  1,     13,     13,2,19950115,0651,  7.5018, 133.5042, 4891,   2247.2,   1.9437,2,  34.6480,2,  34.6486,2,    124.9,2,   140.03,2,    37.85,2,     0.00,2,     2.61,2, -999.000,9,-999.0000,9,  -999.00,9,   -999.0,9,   -999.0
    49XK9406_1,  PR23,     2,  1,     12,     12,2,19950115,0651,  7.5018, 133.5042, 4891,   2499.0,   1.7882,2,  34.6572,2,  34.6569,2,    131.8,2,   140.49,2,    37.31,2,     0.00,2,     2.58,2, -999.000,9,-999.0000,9,  -999.00,9,   -999.0,9,   -999.0
    49XK9406_1,  PR23,     2,  1,     11,     11,2,19950115,0651,  7.5018, 133.5042, 4891,   2750.7,   1.6955,2,  34.6641,2,  34.6639,2,    137.6,2,   140.84,2,    36.99,2,     0.01,2,     2.55,2, -999.000,9,-999.0000,9,  -999.00,9,   -999.0,9,   -999.0
    49XK9406_1,  PR23,     2,  1,     10,     10,2,19950115,0651,  7.5018, 133.5042, 4891,   3000.4,   1.6234,2,  34.6695,2,  34.6688,6,    142.5,3,   141.51,6,    36.32,6,     0.05,6,     2.49,2, -999.000,9,-999.0000,9,  -999.00,9,   -999.0,9,   -999.0
    49XK9406_1,  PR23,     2,  1,      9,      9,2,19950115,0651,  7.5018, 133.5042, 4891,   3250.1,   1.5960,2,  34.6727,2,  34.6728,2,    145.2,2,   140.24,2,    36.46,2,     0.01,2,     2.49,2, -999.000,9,-999.0000,9,  -999.00,9,   -999.0,9,   -999.0
    49XK9406_1,  PR23,     2,  1,      8,      8,2,19950115,0651,  7.5018, 133.5042, 4891,   3499.8,   1.5701,2,  34.6759,2,  34.6757,2,    148.3,2,   139.31,2,    36.08,2,     0.00,2,     2.48,2, -999.000,9,-999.0000,9,  -999.00,9,   -999.0,9,   -999.0
    49XK9406_1,  PR23,     2,  1,      7,      7,2,19950115,0651,  7.5018, 133.5042, 4891,   3750.0,   1.5581,2,  34.6786,2,  34.6791,2,    150.8,2,   139.22,2,    36.00,2,     0.00,2,     2.46,2, -999.000,9,-999.0000,9,  -999.00,9,   -999.0,9,   -999.0
    49XK9406_1,  PR23,     2,  1,      6,      6,2,19950115,0651,  7.5018, 133.5042, 4891,   4001.0,   1.5767,2,  34.6794,2,  34.6793,2,    151.7,2,   138.85,2,    35.95,2,     0.01,2,     2.47,2, -999.000,9,-999.0000,9,  -999.00,9,   -999.0,9,   -999.0
    49XK9406_1,  PR23,     2,  1,      5,      5,2,19950115,0651,  7.5018, 133.5042, 4891,   4251.2,   1.6020,2,  34.6795,2,  34.6793,2,    151.7,2,   137.69,2,    35.81,2,     0.01,2,     2.46,2, -999.000,9,-999.0000,9,  -999.00,9,   -999.0,9,   -999.0
    49XK9406_1,  PR23,     2,  1,      4,      4,2,19950115,0651,  7.5018, 133.5042, 4891,   4500.6,   1.6304,2,  34.6796,2,  34.6794,2,    152.3,2,   138.49,2,    35.79,2,     0.00,2,     2.46,2, -999.000,9,-999.0000,9,  -999.00,9,   -999.0,9,   -999.0
    49XK9406_1,  PR23,     2,  1,      3,      3,2,19950115,0651,  7.5018, 133.5042, 4891,   4748.5,   1.6593,2,  34.6799,2,  34.6796,2,    152.0,2,   138.57,2,    35.83,2,     0.01,2,     2.47,2, -999.000,9,-999.0000,9,  -999.00,9,   -999.0,9,   -999.0
    49XK9406_1,  PR23,     2,  1,      1,      1,2,19950115,0651,  7.5018, 133.5042, 4891,   4957.6,   1.6854,2,  34.6799,2,  34.6794,6,    152.1,6,   138.39,6,    35.98,6,     0.00,6,     2.46,2, -999.000,9,-999.0000,9,  -999.00,9,   -999.0,9,   -999.0
    49XK9406_1,  PR23,     2,  1,      2,      2,2,19950115,0651,  7.5018, 133.5042, 4891,   4958.7,   1.6855,2,  34.6799,2,  34.6798,6,    152.1,2,   139.55,2,    35.92,2,     0.01,2,     2.47,2, -999.000,9,-999.0000,9,  -999.00,9,   -999.0,9,   -999.0