BOTTLE,20220819CCHSIOAMB
EXPOCODE,SECT_ID,STNNBR,CASTNO,SAMPNO,BTLNBR,BTLNBR_FLAG_W,DATE,TIME,LATITUDE,LONGITUDE,DEPTH,CTDPRS,CTDTMP,CTDTMP_FLAG_W,CTDSAL,CTDSAL_FLAG_W,SALNTY,SALNTY_FLAG_W,OXYGEN,OXYGEN_FLAG_W,SILCAT,SILCAT_FLAG_W,NITRAT,NITRAT_FLAG_W,NITRIT,NITRIT_FLAG_W,PHSPHT,PHSPHT_FLAG_W,TRITUM,TRITUM_FLAG_W,HELIUM,HELIUM_FLAG_W,DELHE3,DELHE3_FLAG_W,DELC14,DELC14_FLAG_W,DELC13
,,,,,,,,,,,,DBAR,ITS-90,,PSS-78,,PSS-78,,UMOL/KG,,UMOL/KG,,UMOL/KG,,UMOL/KG,,UMOL/KG,,TU,,NMOL/KG,,PERCNT,,/MILLE,,/MILLE
    49XK9406_1,  PR23,    11,  1,     24,     35,2,19950122,0852,  7.0067, 129.0167, 4916,     48.8,  26.1405,2,  34.6286,2,  34.7046,6,    200.1,2,     1.63,2,     0.08,2,     0.00,2,     0.11,2, -999.000,9,-999.0000,9,  -999.00,9,   -999.0,9,   -999.0
    49XK9406_1,  PR23,    11,  1,     23,     33,2,19950122,0852,  7.0067, 129.0167, 4916,     98.6,  15.8510,2,  34.6611,2,  34.6612,2,    137.1,6,    12.63,6,    13.74,6,     0.01,6,     0.99,2, -999.000,9,-999.0000,9,  -999.00,9,   -999.0,9,   -999.0
    49XK9406_1,  PR23,    11,  1,     22,     32,2,19950122,0852,  7.0067, 129.0167, 4916,    199.8,  10.2203,2,  34.4744,2,  34.4760,2,     91.8,2,    32.18,2,    27.10,2,     0.00,2,     1.93,2, -999.000,9,-999.0000,9,  -999.00,9,   -999.0,9,   -999.0
    49XK9406_1,  PR23,    11,  1,     21,     31,2,19950122,0852,  7.0067, 129.0167, 4916,    299.7,   8.5568,2,  34.5419,2,  34.5419,2,     74.4,2,    40.47,2,    32.10,2,    -0.02,2,     2.26,2, -999.000,9,-999.0000,9,  -999.00,9,   -999.0,9,   -999.0
    49XK9406_1,  PR23,    11,  1,     20,     29,2,19950122,0852,  7.0067, 129.0167, 4916,    399.7,   7.7369,2,  34.5495,2,  34.5498,6,     74.5,2,    44.31,2,    34.11,2,    -0.01,2,     2.38,2, -999.000,9,-999.0000,9,  -999.00,9,   -999.0,9,   -999.0
    49XK9406_1,  PR23,    11,  1,     19,     27,2,19950122,0852,  7.0067, 129.0167, 4916,    500.8,   6.9131,2,  34.5216,2,  34.5217,3,     86.7,2,    51.05,2,    34.57,2,     0.01,2,     2.43,2, -999.000,9,-999.0000,9,  -999.00,9,   -999.0,9,   -999.0
    49XK9406_1,  PR23,    11,  1,     18,     26,2,19950122,0852,  7.0067, 129.0167, 4916,    602.3,   6.4565,2,  34.5232,2,  34.5231,2,     91.7,2,    54.64,2,    34.80,2,    -0.02,2,     2.45,2, -999.000,9,-999.0000,9,  -999.00,9,   -999.0,9,   -999.0
    49XK9406_1,  PR23,    11,  1,     17,     25,2,19950122,0852,  7.0067, 129.0167, 4916,    801.1,   5.7057,2,  34.5190,2,  34.5184,2,     89.8,2,    67.13,2,    36.20,2,    -0.01,2,     2.55,2, -999.000,9,-999.0000,9,  -999.00,9,   -999.0,9,   -999.0
    49XK9406_1,  PR23,    11,  1,     16,     23,2,19950122,0852,  7.0067, 129.0167, 4916,   1002.0,   4.5465,2,  34.5430,2,  34.5431,6,     86.1,2,    89.38,2,    37.98,2,    -0.01,2,     2.68,2, -999.000,9,-999.0000,9,  -999.00,9,   -999.0,9,   -999.0
    49XK9406_1,  PR23,    11,  1,     15,     21,2,19950122,0852,  7.0067, 129.0167, 4916,   1249.2,   3.3438,2,  34.5771,2,  34.5771,2,     96.3,2,   112.65,2,    38.26,2,    -0.01,2,     2.69,2, -999.000,9,-999.0000,9,  -999.00,9,   -999.0,9,   -999.0
    49XK9406_1,  PR23,    11,  1,     14,     20,2,19950122,0852,  7.0067, 129.0167, 4916,   1498.9,   2.7589,2,  34.6020,2,  34.6007,2,    102.7,2,   123.78,2,    38.25,2,     0.00,2,     2.66,2, -999.000,9,-999.0000,9,  -999.00,9,   -999.0,9,   -999.0
    49XK9406_1,  PR23,    11,  1,     13,     19,2,19950122,0852,  7.0067, 129.0167, 4916,   1999.2,   2.1694,2,  34.6347,2,  34.6348,6,    117.1,2,   133.15,2,    37.73,2,     0.00,2,     2.65,2, -999.000,9,-999.0000,9,  -999.00,9,   -999.0,9,   -999.0
    49XK9406_1,  PR23,    11,  1,     12,     17,2,19950122,0852,  7.0067, 129.0167, 4916,   2498.1,   1.7348,2,  34.6575,2,  34.6572,3,    133.2,2,   139.27,2,    36.92,2,    -0.01,2,     2.57,2, -999.000,9,-999.0000,9,  -999.00,9,   -999.0,9,   -999.0