BOTTLE,20220819CCHSIOAMB
EXPOCODE,SECT_ID,STNNBR,CASTNO,SAMPNO,BTLNBR,BTLNBR_FLAG_W,DATE,TIME,LATITUDE,LONGITUDE,DEPTH,CTDPRS,CTDTMP,CTDTMP_FLAG_W,CTDSAL,CTDSAL_FLAG_W,SALNTY,SALNTY_FLAG_W,OXYGEN,OXYGEN_FLAG_W,SILCAT,SILCAT_FLAG_W,NITRAT,NITRAT_FLAG_W,NITRIT,NITRIT_FLAG_W,PHSPHT,PHSPHT_FLAG_W,TRITUM,TRITUM_FLAG_W,HELIUM,HELIUM_FLAG_W,DELHE3,DELHE3_FLAG_W,DELC14,DELC14_FLAG_W,DELC13
,,,,,,,,,,,,DBAR,ITS-90,,PSS-78,,PSS-78,,UMOL/KG,,UMOL/KG,,UMOL/KG,,UMOL/KG,,UMOL/KG,,TU,,NMOL/KG,,PERCNT,,/MILLE,,/MILLE
    49XK9406_1,  PR23,    17,  1,     24,     35,2,19950120,2224,  6.9975, 126.7482, 3658,     50.5,  27.3983,2,  34.2173,2,  34.2130,6,    201.2,2,     0.82,2,    -0.05,2,     0.00,2,     0.01,2, -999.000,9,-999.0000,9,  -999.00,1,   -999.0,1,   -999.0
    49XK9406_1,  PR23,    17,  1,     23,     33,2,19950120,2224,  6.9975, 126.7482, 3658,     97.4,  23.6890,2,  34.9487,2,  34.9394,2,    179.4,6,     2.08,6,     1.29,6,     0.07,6,     0.21,2, -999.000,9,-999.0000,9,  -999.00,1,   -999.0,1,   -999.0
    49XK9406_1,  PR23,    17,  1,     22,     32,2,19950120,2224,  6.9975, 126.7482, 3658,    148.6,  17.7568,2,  34.8014,2,  34.7992,2,    171.5,2,     5.26,2,     7.12,2,     0.00,2,     0.52,2, -999.000,9,-999.0000,9,  -999.00,1,   -999.0,1,   -999.0
    49XK9406_1,  PR23,    17,  1,     21,     31,2,19950120,2224,  6.9975, 126.7482, 3658,    198.6,  13.2576,2,  34.4805,2,  34.4799,2,    149.7,2,    15.21,2,    16.25,2,     0.00,2,     1.11,2, -999.000,9,-999.0000,9,  -999.00,1,   -999.0,1,   -999.0
    49XK9406_1,  PR23,    17,  1,     20,     29,2,19950120,2224,  6.9975, 126.7482, 3658,    245.5,  10.9247,2,  34.3398,2,  34.3390,2,    137.7,2,    24.40,2,    21.80,2,     0.01,2,     1.50,2, -999.000,9,-999.0000,9,  -999.00,9,   -999.0,9,   -999.0
    49XK9406_1,  PR23,    17,  1,     19,     27,2,19950120,2224,  6.9975, 126.7482, 3658,    299.0,   9.2627,2,  34.3536,2,  34.3529,2,     94.9,2,    36.18,2,    29.28,2,    -0.01,2,     2.01,2, -999.000,9,-999.0000,9,  -999.00,1,   -999.0,1,   -999.0
    49XK9406_1,  PR23,    17,  1,     18,     26,2,19950120,2224,  6.9975, 126.7482, 3658,    398.2,   7.8635,2,  34.3716,2,  34.3656,2,     86.3,2,    48.76,2,    32.96,2,     0.00,2,     2.25,2, -999.000,9,-999.0000,9,  -999.00,1,   -999.0,1,   -999.0
    49XK9406_1,  PR23,    17,  1,     17,     25,2,19950120,2224,  6.9975, 126.7482, 3658,    496.9,   7.5378,2,  34.4779,2,  34.4777,2,     80.4,2,    49.22,2,    34.83,2,     0.00,2,     2.35,2, -999.000,9,-999.0000,9,  -999.00,9,   -999.0,9,   -999.0
    49XK9406_1,  PR23,    17,  1,     16,     23,2,19950120,2224,  6.9975, 126.7482, 3658,    598.0,   6.8652,2,  34.5080,2,  34.5076,6,     87.8,2,    53.40,2,    35.78,2,     0.00,2,     2.42,2, -999.000,9,-999.0000,9,  -999.00,1,   -999.0,1,   -999.0
    49XK9406_1,  PR23,    17,  1,     15,     21,2,19950120,2224,  6.9975, 126.7482, 3658,    796.9,   5.8166,2,  34.5136,2,  34.5133,2,     93.7,2,    66.03,2,    37.34,2,     0.00,2,     2.51,2, -999.000,9,-999.0000,9,  -999.00,1,   -999.0,1,   -999.0
    49XK9406_1,  PR23,    17,  1,     14,     20,2,19950120,2224,  6.9975, 126.7482, 3658,    897.7,   5.3221,2,  34.5296,2,  34.5303,2,     90.4,2,    74.66,2,    38.32,2,     0.00,2,     2.59,2, -999.000,9,-999.0000,9,  -999.00,9,   -999.0,9,   -999.0
    49XK9406_1,  PR23,    17,  1,     13,     19,2,19950120,2224,  6.9975, 126.7482, 3658,    998.6,   4.7713,2,  34.5469,2,  34.5480,2,     95.2,2,    83.40,2,    38.54,2,     0.00,2,     2.61,2, -999.000,9,-999.0000,9,  -999.00,1,   -999.0,1,   -999.0
    49XK9406_1,  PR23,    17,  1,     12,     17,2,19950120,2224,  6.9975, 126.7482, 3658,   1248.7,   3.7952,2,  34.5682,2,  34.5681,2,     94.8,2,   104.56,2,    39.79,2,     0.00,2,     2.69,2, -999.000,9,-999.0000,9,  -999.00,9,   -999.0,9,   -999.0
    49XK9406_1,  PR23,    17,  1,     11,     15,2,19950120,2224,  6.9975, 126.7482, 3658,   1498.2,   2.9256,2,  34.5952,2,  34.5956,2,    102.1,2,   121.83,2,    40.03,2,     0.01,2,     2.67,2, -999.000,9,-999.0000,9,  -999.00,1,   -999.0,1,   -999.0
    49XK9406_1,  PR23,    17,  1,     10,     14,2,19950120,2224,  6.9975, 126.7482, 3658,   1748.9,   2.4370,2,  34.6127,2,  34.6132,6,    108.8,2,   131.14,2,    40.02,2,     0.00,2,     2.67,2, -999.000,9,-999.0000,9,  -999.00,9,   -999.0,9,   -999.0
    49XK9406_1,  PR23,    17,  1,      9,     13,3,19950120,2224,  6.9975, 126.7482, 3658,   1996.3,   2.1337,2,  34.6307,2,  34.6315,3,    116.0,2,   135.81,2,    39.33,2,     0.00,2,     2.64,2, -999.000,9,-999.0000,9,  -999.00,1,   -999.0,1,   -999.0
    49XK9406_1,  PR23,    17,  1,      8,     11,2,19950120,2224,  6.9975, 126.7482, 3658,   2248.3,   1.9026,2,  34.6459,2,  34.6455,2,    123.7,2,   138.94,2,    39.03,2,     0.00,2,     2.61,2, -999.000,9,-999.0000,9,  -999.00,9,   -999.0,9,   -999.0
    49XK9406_1,  PR23,    17,  1,      7,      9,2,19950120,2224,  6.9975, 126.7482, 3658,   2497.5,   1.7665,2,  34.6550,2,  34.6557,2,    130.8,2,   139.93,2,    38.98,2,     0.00,2,     2.56,2, -999.000,9,-999.0000,9,  -999.00,1,   -999.0,1,   -999.0
    49XK9406_1,  PR23,    17,  1,      6,      8,2,19950120,2224,  6.9975, 126.7482, 3658,   2745.7,   1.6803,2,  34.6617,2,  34.6618,2,    136.5,2,   140.11,2,    38.38,2,     0.00,2,     2.53,2, -999.000,9,-999.0000,9,  -999.00,9,   -999.0,9,   -999.0
    49XK9406_1,  PR23,    17,  1,      5,      7,2,19950120,2224,  6.9975, 126.7482, 3658,   2998.3,   1.6350,2,  34.6662,2,  34.6663,6,    140.8,6,   140.04,6,    37.96,6,    -0.01,6,     2.50,2, -999.000,9,-999.0000,9,  -999.00,1,   -999.0,1,   -999.0
    49XK9406_1,  PR23,    17,  1,      4,      5,2,19950120,2224,  6.9975, 126.7482, 3658,   3247.6,   1.5986,2,  34.6704,2,  34.6698,2,    145.0,2,   138.85,2,    38.01,2,     0.00,2,     2.52,2, -999.000,9,-999.0000,9,  -999.00,9,   -999.0,9,   -999.0
    49XK9406_1,  PR23,    17,  1,      3,      3,2,19950120,2224,  6.9975, 126.7482, 3658,   3499.5,   1.5736,2,  34.6744,2,  34.6741,2,    148.3,2,   138.96,2,    38.01,2,     0.00,2,     2.48,2, -999.000,9,-999.0000,9,  -999.00,1,   -999.0,1,   -999.0
    49XK9406_1,  PR23,    17,  1,      2,      2,2,19950120,2224,  6.9975, 126.7482, 3658,   3673.0,   1.5572,2,  34.6772,2,  34.6763,2,    150.7,2,   139.13,2,    37.44,2,     0.01,2,     2.46,2, -999.000,9,-999.0000,9,  -999.00,9,   -999.0,9,   -999.0
    49XK9406_1,  PR23,    17,  1,      1,      1,2,19950120,2224,  6.9975, 126.7482, 3658,   3673.0,   1.5571,2,  34.6771,2,  34.6765,6,    150.6,6,   139.11,6,    37.41,6,     0.00,6,     2.48,2, -999.000,9,-999.0000,9,  -999.00,9,   -999.0,9,   -999.0
    49XK9406_1,  PR23,    16,  1,     24,     35,2,19950121,0309,  7.0013, 127.0015, 5591,     49.6,  27.4121,2,  34.1612,2,  34.1644,6,    201.1,2,     1.15,2,     0.05,2,     0.00,2,     0.02,2, -999.000,9,-999.0000,9,  -999.00,9,   -999.0,9,   -999.0
    49XK9406_1,  PR23,    16,  1,     23,     33,2,19950121,0309,  7.0013, 127.0015, 5591,     98.8,  21.6721,2,  34.9129,2,  34.8957,2,    169.7,2,     3.36,2,     2.59,2,     0.03,2,     0.29,2, -999.000,9,-999.0000,9,  -999.00,9,   -999.0,9,   -999.0
    49XK9406_1,  PR23,    16,  1,     22,     32,2,19950121,0309,  7.0013, 127.0015, 5591,    195.4,  12.2181,2,  34.4451,2,  34.4438,2,    130.9,2,    20.89,2,    19.38,2,     0.01,2,     1.39,2, -999.000,9,-999.0000,9,  -999.00,9,   -999.0,9,   -999.0
    49XK9406_1,  PR23,    16,  1,     21,     31,2,19950121,0309,  7.0013, 127.0015, 5591,    296.9,   8.8568,2,  34.4629,2,  34.4640,2,    101.6,2,    44.15,2,    29.12,2,     0.00,2,     2.04,2, -999.000,9,-999.0000,9,  -999.00,9,   -999.0,9,   -999.0
    49XK9406_1,  PR23,    16,  1,     20,     29,2,19950121,0309,  7.0013, 127.0015, 5591,    397.7,   8.4604,2,  34.5632,2,  34.5641,6,    105.7,2,    43.72,2,    29.78,2,     0.01,2,     2.08,2, -999.000,9,-999.0000,9,  -999.00,9,   -999.0,9,   -999.0
    49XK9406_1,  PR23,    16,  1,     19,     27,2,19950121,0309,  7.0013, 127.0015, 5591,    499.8,   7.3992,2,  34.4683,2,  34.4687,2,     79.3,2,    51.02,2,    33.93,2,     0.00,2,     2.39,2, -999.000,9,-999.0000,9,  -999.00,9,   -999.0,9,   -999.0
    49XK9406_1,  PR23,    16,  1,     18,     26,2,19950121,0309,  7.0013, 127.0015, 5591,    598.9,   6.7014,2,  34.4987,2,  34.4987,2,     86.2,2,    55.19,2,    34.57,2,     0.00,2,     2.45,2, -999.000,9,-999.0000,9,  -999.00,9,   -999.0,9,   -999.0
    49XK9406_1,  PR23,    16,  1,     17,     25,2,19950121,0309,  7.0013, 127.0015, 5591,    797.9,   5.6993,2,  34.5206,2,  34.5207,2,     92.6,2,    68.43,2,    35.74,2,     0.01,2,     2.52,2, -999.000,9,-999.0000,9,  -999.00,9,   -999.0,9,   -999.0
    49XK9406_1,  PR23,    16,  1,     16,     23,2,19950121,0309,  7.0013, 127.0015, 5591,    998.0,   4.7766,2,  34.5371,2,  34.5378,2,     89.1,2,    85.49,2,    37.40,2,     0.00,2,     2.65,2, -999.000,9,-999.0000,9,  -999.00,9,   -999.0,9,   -999.0
    49XK9406_1,  PR23,    16,  1,     15,     21,2,19950121,0309,  7.0013, 127.0015, 5591,   1500.2,   2.9208,2,  34.5917,2,  34.5924,2,    100.0,2,   122.10,2,    38.63,2,     0.00,2,     2.71,2, -999.000,9,-999.0000,9,  -999.00,9,   -999.0,9,   -999.0
    49XK9406_1,  PR23,    16,  1,     14,     20,2,19950121,0309,  7.0013, 127.0015, 5591,   1999.5,   2.1212,2,  34.6357,2,  34.6360,6,    117.6,2,   135.02,2,    37.92,2,     0.00,2,     2.63,2, -999.000,9,-999.0000,9,  -999.00,9,   -999.0,9,   -999.0
    49XK9406_1,  PR23,    16,  1,     13,     19,2,19950121,0309,  7.0013, 127.0015, 5591,   2499.0,   1.8055,2,  34.6541,2,  34.6545,3,    129.9,2,   139.37,2,    37.07,2,     0.00,2,     2.55,2, -999.000,9,-999.0000,9,  -999.00,9,   -999.0,9,   -999.0
    49XK9406_1,  PR23,    16,  1,     12,     17,2,19950121,0309,  7.0013, 127.0015, 5591,   2997.7,   1.5991,2,  34.6681,2,  34.6679,2,    142.9,6,   139.13,6,    36.18,6,     0.00,6,     2.47,2, -999.000,9,-999.0000,9,  -999.00,9,   -999.0,9,   -999.0
    49XK9406_1,  PR23,    16,  1,     11,     15,2,19950121,0309,  7.0013, 127.0015, 5591,   3248.2,   1.5559,2,  34.6730,2,  34.6726,2,    147.7,2,   138.98,2,    35.84,2,     0.00,2,     2.47,2, -999.000,9,-999.0000,9,  -999.00,9,   -999.0,9,   -999.0
    49XK9406_1,  PR23,    16,  1,     10,     14,2,19950121,0309,  7.0013, 127.0015, 5591,   3499.1,   1.5597,2,  34.6749,2,  34.6745,2,    149.4,2,   138.91,2,    35.71,2,     0.01,2,     2.45,2, -999.000,9,-999.0000,9,  -999.00,9,   -999.0,9,   -999.0
    49XK9406_1,  PR23,    16,  1,      9,     13,2,19950121,0309,  7.0013, 127.0015, 5591,   3749.5,   1.5626,2,  34.6769,2,  34.6767,2,    150.8,2,   139.05,2,    35.78,2,     0.00,2,     2.45,2, -999.000,9,-999.0000,9,  -999.00,9,   -999.0,9,   -999.0
    49XK9406_1,  PR23,    16,  1,      8,     11,2,19950121,0309,  7.0013, 127.0015, 5591,   3998.6,   1.5762,2,  34.6779,2,  34.6781,6,    151.8,2,   138.15,2,    35.72,2,     0.01,2,     2.45,2, -999.000,9,-999.0000,9,  -999.00,9,   -999.0,9,   -999.0
    49XK9406_1,  PR23,    16,  1,      7,      9,2,19950121,0309,  7.0013, 127.0015, 5591,   4248.0,   1.5966,2,  34.6783,2,  34.6781,2,    152.7,2,   137.98,2,    35.89,2,     0.00,2,     2.44,2, -999.000,9,-999.0000,9,  -999.00,9,   -999.0,9,   -999.0
    49XK9406_1,  PR23,    16,  1,      6,      8,2,19950121,0309,  7.0013, 127.0015, 5591,   4498.0,   1.6221,2,  34.6788,2,  34.6787,2,    152.8,2,   138.39,2,    35.53,2,     0.01,2,     2.42,2, -999.000,9,-999.0000,9,  -999.00,9,   -999.0,9,   -999.0
    49XK9406_1,  PR23,    16,  1,      5,      7,2,19950121,0309,  7.0013, 127.0015, 5591,   4750.1,   1.6505,2,  34.6788,2,  34.6789,2,    153.1,2,   138.29,2,    35.61,2,     0.01,2,     2.43,2, -999.000,9,-999.0000,9,  -999.00,9,   -999.0,9,   -999.0
    49XK9406_1,  PR23,    16,  1,      4,      5,2,19950121,0309,  7.0013, 127.0015, 5591,   5000.8,   1.6794,2,  34.6791,2,  34.6785,2,    153.1,2,   137.67,2,    35.65,2,     0.00,2,     2.46,2, -999.000,9,-999.0000,9,  -999.00,9,   -999.0,9,   -999.0
    49XK9406_1,  PR23,    16,  1,      3,      3,2,19950121,0309,  7.0013, 127.0015, 5591,   5249.3,   1.7101,2,  34.6794,2,  34.6789,2,    153.3,2,   137.91,2,    35.60,2,     0.00,2,     2.45,2, -999.000,9,-999.0000,9,  -999.00,9,   -999.0,9,   -999.0
    49XK9406_1,  PR23,    16,  1,      1,      1,2,19950121,0309,  7.0013, 127.0015, 5591,   5637.2,   1.7610,2,  34.6792,2,  34.6786,2,    153.1,6,   138.23,6,    35.73,6,     0.00,6,     2.45,2, -999.000,9,-999.0000,9,  -999.00,9,   -999.0,9,   -999.0
    49XK9406_1,  PR23,    16,  1,      2,      2,2,19950121,0309,  7.0013, 127.0015, 5591,   5637.3,   1.7610,2,  34.6792,2,  34.6793,2,    153.3,2,   138.11,2,    35.92,2,     0.01,2,     2.45,2, -999.000,9,-999.0000,9,  -999.00,9,   -999.0,9,   -999.0
    49XK9406_1,  PR23,    15,  1,     15,     21,2,19950121,0715,  7.0015, 127.2467, 8290,     47.8,  27.5879,2,  34.2141,2,  34.2168,6,    201.3,2,     0.68,2,    -0.05,2,    -0.02,2,     0.05,2, -999.000,9,-999.0000,9,  -999.00,1,   -999.0,1,   -999.0
    49XK9406_1,  PR23,    15,  1,     16,     23,2,19950121,0715,  7.0015, 127.2467, 8290,     48.1,  27.5866,2,  34.2181,2,-999.0000,9,   -999.0,9,  -999.00,9,  -999.00,9,  -999.00,9,  -999.00,5, -999.000,9,-999.0000,9,  -999.00,9,   -999.0,9,   -999.0
    49XK9406_1,  PR23,    15,  1,     17,     25,2,19950121,0715,  7.0015, 127.2467, 8290,     48.5,  27.5827,2,  34.2226,2,-999.0000,9,   -999.0,9,  -999.00,9,  -999.00,9,  -999.00,9,  -999.00,5, -999.000,9,-999.0000,9,  -999.00,9,   -999.0,9,   -999.0
    49XK9406_1,  PR23,    15,  1,     18,     26,2,19950121,0715,  7.0015, 127.2467, 8290,     49.1,  27.5757,2,  34.2253,2,-999.0000,9,   -999.0,9,  -999.00,9,  -999.00,9,  -999.00,9,  -999.00,9, -999.000,9,-999.0000,9,  -999.00,9,   -999.0,9,   -999.0
    49XK9406_1,  PR23,    15,  1,     19,     27,2,19950121,0715,  7.0015, 127.2467, 8290,     49.6,  27.5680,2,  34.2291,2,-999.0000,9,   -999.0,9,  -999.00,9,  -999.00,9,  -999.00,9,  -999.00,5, -999.000,9,-999.0000,9,  -999.00,9,   -999.0,9,   -999.0
    49XK9406_1,  PR23,    15,  1,     21,     31,2,19950121,0715,  7.0015, 127.2467, 8290,     50.1,  27.5633,2,  34.2319,2,-999.0000,9,   -999.0,9,  -999.00,9,  -999.00,9,  -999.00,9,  -999.00,9, -999.000,9,-999.0000,9,  -999.00,9,   -999.0,9,   -999.0
    49XK9406_1,  PR23,    15,  1,     20,     29,2,19950121,0715,  7.0015, 127.2467, 8290,     50.3,  27.5610,2,  34.2325,2,-999.0000,9,   -999.0,9,  -999.00,9,  -999.00,9,  -999.00,9,  -999.00,5, -999.000,9,-999.0000,9,  -999.00,9,   -999.0,9,   -999.0
    49XK9406_1,  PR23,    15,  1,     22,     32,2,19950121,0715,  7.0015, 127.2467, 8290,     50.9,  27.5516,2,  34.2347,2,-999.0000,9,   -999.0,9,  -999.00,9,  -999.00,9,  -999.00,9,  -999.00,9, -999.000,9,-999.0000,9,  -999.00,9,   -999.0,9,   -999.0
    49XK9406_1,  PR23,    15,  1,     23,     33,2,19950121,0715,  7.0015, 127.2467, 8290,     51.2,  27.5439,2,  34.2358,2,-999.0000,9,   -999.0,9,  -999.00,9,  -999.00,9,  -999.00,9,  -999.00,9, -999.000,9,-999.0000,9,  -999.00,9,   -999.0,9,   -999.0
    49XK9406_1,  PR23,    15,  1,     14,     20,2,19950121,0715,  7.0015, 127.2467, 8290,     99.5,  21.2460,2,  34.9359,2,  34.9364,2,    171.4,6,     3.04,6,     2.72,6,     0.10,6,     0.33,2, -999.000,9,-999.0000,9,  -999.00,1,   -999.0,1,   -999.0
    49XK9406_1,  PR23,    15,  1,     13,     19,2,19950121,0715,  7.0015, 127.2467, 8290,    147.7,  15.3243,2,  34.6280,2,  34.6280,2,    137.5,2,    13.17,2,    14.38,2,    -0.01,2,     1.04,2, -999.000,9,-999.0000,9,  -999.00,1,   -999.0,1,   -999.0
    49XK9406_1,  PR23,    15,  1,     12,     17,2,19950121,0715,  7.0015, 127.2467, 8290,    197.6,  10.7899,2,  34.3812,2,  34.3817,2,    117.7,2,    26.51,2,    23.12,2,    -0.02,2,     1.64,2, -999.000,9,-999.0000,9,  -999.00,1,   -999.0,1,   -999.0
    49XK9406_1,  PR23,    15,  1,     11,     15,2,19950121,0715,  7.0015, 127.2467, 8290,    248.5,   9.4597,2,  34.5052,2,  34.5105,2,    106.4,3,    41.62,3,    27.69,3,    -0.01,3,     1.94,2, -999.000,9,-999.0000,9,  -999.00,1,   -999.0,1,   -999.0
    49XK9406_1,  PR23,    15,  1,     10,     14,2,19950121,0715,  7.0015, 127.2467, 8290,    298.9,   9.5387,2,  34.6366,2,  34.6022,2,    116.8,3,    34.54,3,    27.11,3,    -0.02,3,     1.88,2, -999.000,9,-999.0000,9,  -999.00,9,   -999.0,9,   -999.0
    49XK9406_1,  PR23,    15,  1,      9,     13,2,19950121,0715,  7.0015, 127.2467, 8290,    399.0,   8.4106,2,  34.6108,2,  34.4149,2,    125.7,2,    32.02,2,    28.61,2,    -0.02,2,     1.96,2, -999.000,9,-999.0000,9,  -999.00,1,   -999.0,1,   -999.0
    49XK9406_1,  PR23,    15,  1,      8,     11,2,19950121,0715,  7.0015, 127.2467, 8290,    500.0,   7.1992,2,  34.4956,2,  34.4956,2,     83.6,2,    51.14,2,    33.89,2,    -0.02,2,     2.36,2, -999.000,9,-999.0000,9,  -999.00,9,   -999.0,9,   -999.0
    49XK9406_1,  PR23,    15,  1,      7,      9,2,19950121,0715,  7.0015, 127.2467, 8290,    598.2,   6.7341,2,  34.5028,2,  34.5029,6,     90.5,2,    54.51,2,    34.57,2,    -0.01,2,     2.39,2, -999.000,9,-999.0000,9,  -999.00,1,   -999.0,1,   -999.0
    49XK9406_1,  PR23,    15,  1,      6,      8,2,19950121,0715,  7.0015, 127.2467, 8290,    799.9,   5.7735,2,  34.5282,2,  34.5292,2,    118.6,2,    53.41,2,    34.47,2,    -0.03,2,     2.38,2, -999.000,9,-999.0000,9,  -999.00,1,   -999.0,1,   -999.0
    49XK9406_1,  PR23,    15,  1,      5,      7,2,19950121,0715,  7.0015, 127.2467, 8290,    996.9,   4.9890,2,  34.5494,2,  34.5500,2,     96.1,2,    80.04,2,    36.83,2,    -0.01,2,     2.55,2, -999.000,9,-999.0000,9,  -999.00,1,   -999.0,1,   -999.0
    49XK9406_1,  PR23,    15,  1,      4,      5,2,19950121,0715,  7.0015, 127.2467, 8290,   1247.9,   3.8674,2,  34.5638,2,  34.5645,2,     95.1,2,   103.36,2,    38.28,2,    -0.01,2,     2.66,2, -999.000,9,-999.0000,9,  -999.00,9,   -999.0,9,   -999.0
    49XK9406_1,  PR23,    15,  1,      3,      3,2,19950121,0715,  7.0015, 127.2467, 8290,   1499.3,   3.0602,2,  34.5870,2,  34.5881,6,     99.5,2,   119.39,2,    38.50,2,    -0.02,2,     2.67,2, -999.000,9,-999.0000,9,  -999.00,1,   -999.0,1,   -999.0
    49XK9406_1,  PR23,    15,  1,      1,      1,2,19950121,0715,  7.0015, 127.2467, 8290,   1751.4,   2.4810,2,  34.6116,2,  34.6132,2,    107.6,6,   129.98,6,    38.17,6,    -0.01,6,     2.67,2, -999.000,9,-999.0000,9,  -999.00,9,   -999.0,9,   -999.0
    49XK9406_1,  PR23,    15,  1,      2,      2,2,19950121,0715,  7.0015, 127.2467, 8290,   1751.8,   2.4756,2,  34.6119,2,-999.0000,9,   -999.0,5,   130.38,3,    38.57,3,    -0.02,3,     2.66,2, -999.000,9,-999.0000,9,  -999.00,9,   -999.0,9,   -999.0