BOTTLE,20220819CCHSIOAMB
EXPOCODE,SECT_ID,STNNBR,CASTNO,SAMPNO,BTLNBR,BTLNBR_FLAG_W,DATE,TIME,LATITUDE,LONGITUDE,DEPTH,CTDPRS,CTDTMP,CTDTMP_FLAG_W,CTDSAL,CTDSAL_FLAG_W,SALNTY,SALNTY_FLAG_W,OXYGEN,OXYGEN_FLAG_W,SILCAT,SILCAT_FLAG_W,NITRAT,NITRAT_FLAG_W,NITRIT,NITRIT_FLAG_W,PHSPHT,PHSPHT_FLAG_W,TRITUM,TRITUM_FLAG_W,HELIUM,HELIUM_FLAG_W,DELHE3,DELHE3_FLAG_W,DELC14,DELC14_FLAG_W,DELC13
,,,,,,,,,,,,DBAR,ITS-90,,PSS-78,,PSS-78,,UMOL/KG,,UMOL/KG,,UMOL/KG,,UMOL/KG,,UMOL/KG,,TU,,NMOL/KG,,PERCNT,,/MILLE,,/MILLE
    49XK9406_1,  PR23,     3,  1,     36,     36,2,19950115,1245,  7.5000, 133.0012, 4286,      9.4,  28.1214,2,  34.1016,2,  34.1011,6,    198.5,2,     1.83,2,    -0.03,2,     0.00,2,     0.05,2, -999.000,9,-999.0000,9,  -999.00,9,   -999.0,9,   -999.0
    49XK9406_1,  PR23,     3,  1,     35,     35,2,19950115,1245,  7.5000, 133.0012, 4286,     19.1,  28.1210,2,  34.1012,2,  34.1023,3,    198.7,2,     1.70,2,    -0.03,2,     0.00,2,     0.07,2, -999.000,9,-999.0000,9,  -999.00,9,   -999.0,9,   -999.0
    49XK9406_1,  PR23,     3,  1,     34,     34,2,19950115,1245,  7.5000, 133.0012, 4286,     29.0,  28.1089,2,  34.1030,2,  34.1078,2,    198.9,2,     0.68,2,    -0.04,2,     0.00,2,     0.08,2, -999.000,9,-999.0000,9,  -999.00,1,   -999.0,1,   -999.0
    49XK9406_1,  PR23,     3,  1,     33,     33,2,19950115,1245,  7.5000, 133.0012, 4286,     50.9,  23.1492,2,  34.7645,2,  34.7675,2,    189.5,2,     2.19,2,     0.17,2,     0.02,3,     0.27,2, -999.000,9,-999.0000,9,  -999.00,1,   -999.0,1,   -999.0
    49XK9406_1,  PR23,     3,  1,     32,     32,2,19950115,1245,  7.5000, 133.0012, 4286,     74.0,  19.0551,2,  34.7700,2,  34.7693,2,    157.0,2,     7.37,2,     7.35,2,     0.24,2,     0.70,2, -999.000,9,-999.0000,9,  -999.00,1,   -999.0,1,   -999.0
    49XK9406_1,  PR23,     3,  1,     31,     31,2,19950115,1245,  7.5000, 133.0012, 4286,     99.6,  16.4519,2,  34.6855,2,  34.6836,2,    140.9,6,    11.90,6,    12.53,6,     0.04,6,     0.98,2, -999.000,9,-999.0000,9,  -999.00,1,   -999.0,1,   -999.0
    49XK9406_1,  PR23,     3,  1,     30,     30,2,19950115,1245,  7.5000, 133.0012, 4286,    124.3,  13.7627,2,  34.5867,2,  34.5877,2,    122.9,2,    18.69,2,    18.27,2,     0.01,2,     1.41,2, -999.000,9,-999.0000,9,  -999.00,9,   -999.0,9,   -999.0
    49XK9406_1,  PR23,     3,  1,     29,     29,2,19950115,1245,  7.5000, 133.0012, 4286,    148.4,  12.9877,2,  34.5641,2,  34.5657,2,   -999.0,5,    21.56,2,    20.09,2,     0.01,2,     1.46,2, -999.000,9,-999.0000,9,  -999.00,1,   -999.0,1,   -999.0
    49XK9406_1,  PR23,     3,  1,     28,     28,2,19950115,1245,  7.5000, 133.0012, 4286,    198.6,  10.9729,2,  34.5371,2,  34.5378,6,     93.6,2,    29.67,2,    25.77,2,     0.01,2,     1.85,2, -999.000,9,-999.0000,9,  -999.00,1,   -999.0,1,   -999.0
    49XK9406_1,  PR23,     3,  1,     27,     27,2,19950115,1245,  7.5000, 133.0012, 4286,    250.6,   9.2588,2,  34.5621,2,  34.5624,2,     69.8,2,    35.90,2,    31.37,2,     0.00,2,     2.21,2, -999.000,9,-999.0000,9,  -999.00,9,   -999.0,9,   -999.0
    49XK9406_1,  PR23,     3,  1,     26,     26,2,19950115,1245,  7.5000, 133.0012, 4286,    299.0,   8.9152,2,  34.5774,2,  34.5773,2,     65.6,2,    37.46,2,    32.47,2,     0.00,2,     2.29,2, -999.000,9,-999.0000,9,  -999.00,1,   -999.0,1,   -999.0
    49XK9406_1,  PR23,     3,  1,     25,     25,2,19950115,1245,  7.5000, 133.0012, 4286,    398.0,   7.8507,2,  34.5275,2,  34.5278,2,     77.0,2,    44.31,2,    33.18,2,     0.00,2,     2.36,2, -999.000,9,-999.0000,9,  -999.00,1,   -999.0,1,   -999.0
    49XK9406_1,  PR23,     3,  1,     24,     24,2,19950115,1245,  7.5000, 133.0012, 4286,    498.7,   7.3501,2,  34.5517,2,  34.5514,2,     85.5,2,    44.60,2,    33.94,2,     0.00,2,     2.40,2, -999.000,9,-999.0000,9,  -999.00,9,   -999.0,9,   -999.0
    49XK9406_1,  PR23,     3,  1,     23,     23,2,19950115,1245,  7.5000, 133.0012, 4286,    599.0,   6.7645,2,  34.5319,2,  34.5321,2,     83.1,2,    51.96,2,    34.93,2,     0.00,2,     2.50,2, -999.000,9,-999.0000,9,  -999.00,1,   -999.0,1,   -999.0
    49XK9406_1,  PR23,     3,  1,     22,     22,2,19950115,1245,  7.5000, 133.0012, 4286,    698.6,   6.1135,2,  34.5229,2,  34.5229,2,     85.0,2,    60.73,2,    35.64,2,     0.00,2,     2.57,2, -999.000,9,-999.0000,9,  -999.00,9,   -999.0,9,   -999.0
    49XK9406_1,  PR23,     3,  1,     18,     18,2,19950115,1245,  7.5000, 133.0012, 4286,    799.7,   5.5787,2,  34.5266,2,  34.5266,2,     84.3,2,    69.46,2,    36.49,2,     0.01,2,     2.62,2, -999.000,9,-999.0000,9,  -999.00,1,   -999.0,1,   -999.0
    49XK9406_1,  PR23,     3,  1,     19,     19,2,19950115,1245,  7.5000, 133.0012, 4286,    799.9,   5.5770,2,  34.5266,2,  34.5264,2,   -999.0,5,    69.72,2,    36.39,2,     0.00,2,     2.63,2, -999.000,9,-999.0000,9,  -999.00,9,   -999.0,9,   -999.0
    49XK9406_1,  PR23,     3,  1,     20,     20,2,19950115,1245,  7.5000, 133.0012, 4286,    800.1,   5.5797,2,  34.5265,2,  34.5266,2,   -999.0,5,    69.53,2,    36.61,2,     0.01,2,     2.58,2, -999.000,9,-999.0000,9,  -999.00,9,   -999.0,9,   -999.0
    49XK9406_1,  PR23,     3,  1,     21,     21,2,19950115,1245,  7.5000, 133.0012, 4286,    800.1,   5.5822,2,  34.5264,2,  34.5268,2,   -999.0,5,    69.61,2,    36.61,2,     0.01,2,     2.64,2, -999.000,9,-999.0000,9,  -999.00,9,   -999.0,9,   -999.0
    49XK9406_1,  PR23,     3,  1,     17,     17,2,19950115,1245,  7.5000, 133.0012, 4286,    898.7,   4.9034,2,  34.5370,2,  34.5370,2,     87.5,2,    81.60,2,    37.53,2,     0.01,2,     2.66,2, -999.000,9,-999.0000,9,  -999.00,9,   -999.0,9,   -999.0
    49XK9406_1,  PR23,     3,  1,     16,     16,2,19950115,1245,  7.5000, 133.0012, 4286,    998.0,   4.3894,2,  34.5492,2,  34.5492,2,     89.1,2,    92.01,2,    37.55,2,     0.00,2,     2.68,2, -999.000,9,-999.0000,9,  -999.00,1,   -999.0,1,   -999.0
    49XK9406_1,  PR23,     3,  1,     15,     15,2,19950115,1245,  7.5000, 133.0012, 4286,   1248.3,   3.4872,2,  34.5741,2,  34.5749,2,     95.6,2,   109.77,2,    37.93,2,     0.01,2,     2.70,2, -999.000,9,-999.0000,9,  -999.00,9,   -999.0,9,   -999.0
    49XK9406_1,  PR23,     3,  1,     14,     14,2,19950115,1245,  7.5000, 133.0012, 4286,   1498.0,   2.9095,2,  34.5983,2,  34.5985,2,    102.0,2,   120.09,2,    37.95,2,     0.00,2,     2.69,2, -999.000,9,-999.0000,9,  -999.00,1,   -999.0,1,   -999.0
    49XK9406_1,  PR23,     3,  1,     13,     13,2,19950115,1245,  7.5000, 133.0012, 4286,   1747.4,   2.4830,2,  34.6189,2,  34.6189,2,    108.6,2,   128.61,2,    38.01,2,     0.01,2,     2.67,2, -999.000,9,-999.0000,9,  -999.00,9,   -999.0,9,   -999.0
    49XK9406_1,  PR23,     3,  1,     12,     12,2,19950115,1245,  7.5000, 133.0012, 4286,   1998.3,   2.1722,2,  34.6341,2,  34.6346,2,    116.1,2,   134.03,2,    37.76,2,     0.01,2,     2.63,2, -999.000,9,-999.0000,9,  -999.00,1,   -999.0,1,   -999.0
    49XK9406_1,  PR23,     3,  1,     11,     11,2,19950115,1245,  7.5000, 133.0012, 4286,   2250.1,   1.9341,2,  34.6479,2,  34.6478,2,    124.6,2,   137.05,2,    37.11,2,     0.01,2,     2.58,2, -999.000,9,-999.0000,9,  -999.00,9,   -999.0,9,   -999.0
    49XK9406_1,  PR23,     3,  1,     10,     10,2,19950115,1245,  7.5000, 133.0012, 4286,   2498.0,   1.7733,2,  34.6577,2,  34.6576,3,    133.2,2,   138.11,2,    36.42,2,     0.01,2,     2.56,2, -999.000,9,-999.0000,9,  -999.00,1,   -999.0,1,   -999.0
    49XK9406_1,  PR23,     3,  1,      9,      9,2,19950115,1245,  7.5000, 133.0012, 4286,   2749.0,   1.6760,2,  34.6645,2,  34.6649,2,    137.8,2,   139.29,2,    36.39,2,     0.00,2,     2.54,2, -999.000,9,-999.0000,9,  -999.00,9,   -999.0,9,   -999.0
    49XK9406_1,  PR23,     3,  1,      8,      8,2,19950115,1245,  7.5000, 133.0012, 4286,   2998.4,   1.6077,2,  34.6698,2,  34.6698,6,    142.9,6,   138.70,6,    36.04,6,     0.00,6,     2.55,2, -999.000,9,-999.0000,9,  -999.00,1,   -999.0,1,   -999.0
    49XK9406_1,  PR23,     3,  1,      7,      7,2,19950115,1245,  7.5000, 133.0012, 4286,   3249.5,   1.5663,2,  34.6740,2,  34.6737,2,    146.6,2,   138.39,2,    35.86,2,     0.01,2,     2.48,2, -999.000,9,-999.0000,9,  -999.00,9,   -999.0,9,   -999.0
    49XK9406_1,  PR23,     3,  1,      6,      6,2,19950115,1245,  7.5000, 133.0012, 4286,   3498.6,   1.5440,2,  34.6775,2,  34.6769,2,    149.6,2,   138.39,2,    35.70,2,     0.01,2,     2.46,2, -999.000,9,-999.0000,9,  -999.00,1,   -999.0,1,   -999.0
    49XK9406_1,  PR23,     3,  1,      5,      5,2,19950115,1245,  7.5000, 133.0012, 4286,   3749.3,   1.5511,2,  34.6790,2,  34.6785,2,    151.4,2,   138.20,2,    35.33,2,     0.01,2,     2.45,2, -999.000,9,-999.0000,9,  -999.00,9,   -999.0,9,   -999.0
    49XK9406_1,  PR23,     3,  1,      4,      4,2,19950115,1245,  7.5000, 133.0012, 4286,   4000.3,   1.5749,2,  34.6792,2,  34.6789,2,    151.3,2,   138.14,2,    35.48,2,     0.01,2,     2.46,2, -999.000,9,-999.0000,9,  -999.00,1,   -999.0,1,   -999.0
    49XK9406_1,  PR23,     3,  1,      3,      3,2,19950115,1245,  7.5000, 133.0012, 4286,   4249.6,   1.6018,2,  34.6794,2,  34.6793,2,    151.6,2,   137.89,2,    35.57,2,     0.01,2,     2.45,2, -999.000,9,-999.0000,9,  -999.00,9,   -999.0,9,   -999.0
    49XK9406_1,  PR23,     3,  1,      1,      1,2,19950115,1245,  7.5000, 133.0012, 4286,   4339.7,   1.6123,2,  34.6794,2,  34.6794,6,    151.6,6,   137.98,6,    35.43,6,     0.01,6,     2.45,2, -999.000,9,-999.0000,9,  -999.00,9,   -999.0,9,   -999.0
    49XK9406_1,  PR23,     3,  1,      2,      2,2,19950115,1245,  7.5000, 133.0012, 4286,   4340.0,   1.6125,2,  34.6793,2,  34.6793,2,   -999.0,5,   138.00,2,    35.66,2,     0.01,2,     2.45,2, -999.000,9,-999.0000,9,  -999.00,9,   -999.0,9,   -999.0
    49XK9406_1,  PR23,     4,  1,     36,     36,2,19950115,1844,  7.5023, 132.5050, 4449,      7.2,  28.0892,2,  34.1111,2,  34.1111,6,    198.5,2,     1.43,2,     0.09,2,     0.01,2,     0.03,2, -999.000,9,-999.0000,9,  -999.00,9,   -999.0,9,   -999.0
    49XK9406_1,  PR23,     4,  1,     35,     35,2,19950115,1844,  7.5023, 132.5050, 4449,     15.6,  28.0901,2,  34.1102,2,  34.5034,2,    198.4,2,     1.43,2,     0.08,2,     0.01,2,     0.04,2, -999.000,9,-999.0000,9,  -999.00,9,   -999.0,9,   -999.0
    49XK9406_1,  PR23,     4,  1,     34,     34,2,19950115,1844,  7.5023, 132.5050, 4449,     28.7,  28.0957,2,  34.1092,2,  34.1121,2,    198.3,2,     1.47,2,     0.09,2,     0.01,2,     0.06,2, -999.000,9,-999.0000,9,  -999.00,9,   -999.0,9,   -999.0
    49XK9406_1,  PR23,     4,  1,     33,     33,2,19950115,1844,  7.5023, 132.5050, 4449,     46.8,  24.8991,2,  34.6605,2,  34.6588,2,    196.9,2,     2.21,2,     0.10,2,     0.01,2,     0.15,2, -999.000,9,-999.0000,9,  -999.00,9,   -999.0,9,   -999.0
    49XK9406_1,  PR23,     4,  1,     32,     32,2,19950115,1844,  7.5023, 132.5050, 4449,     73.8,  19.7242,2,  34.7823,2,  34.7846,2,    161.5,2,     6.40,2,     5.96,2,     0.32,2,     0.56,2, -999.000,9,-999.0000,9,  -999.00,9,   -999.0,9,   -999.0
    49XK9406_1,  PR23,     4,  1,     31,     31,2,19950115,1844,  7.5023, 132.5050, 4449,     95.6,  17.8255,2,  34.7416,2,  34.7418,2,    152.7,6,     8.77,6,     9.16,6,     0.13,6,     0.74,2, -999.000,9,-999.0000,9,  -999.00,9,   -999.0,9,   -999.0
    49XK9406_1,  PR23,     4,  1,     30,     30,2,19950115,1844,  7.5023, 132.5050, 4449,    126.4,  15.7416,2,  34.6581,2,  34.6610,2,    139.9,2,    13.04,2,    13.27,2,     0.06,2,     1.00,2, -999.000,9,-999.0000,9,  -999.00,9,   -999.0,9,   -999.0
    49XK9406_1,  PR23,     4,  1,     29,     29,2,19950115,1844,  7.5023, 132.5050, 4449,    147.6,  14.0328,2,  34.5940,2,  34.5940,2,    125.7,2,    18.03,2,    17.36,2,     0.03,2,     1.29,2, -999.000,9,-999.0000,9,  -999.00,9,   -999.0,9,   -999.0
    49XK9406_1,  PR23,     4,  1,     28,     28,3,19950115,1844,  7.5023, 132.5050, 4449,    199.7,  10.4099,2,  34.5399,2,  34.5398,6,     83.3,2,    31.53,2,    27.89,2,     0.01,2,     1.98,2, -999.000,9,-999.0000,9,  -999.00,9,   -999.0,9,   -999.0
    49XK9406_1,  PR23,     4,  1,     27,     27,2,19950115,1844,  7.5023, 132.5050, 4449,    246.2,   9.4124,2,  34.5491,2,-999.0000,5,     73.6,2,    35.97,2,    30.70,2,     0.02,2,     2.18,2, -999.000,9,-999.0000,9,  -999.00,9,   -999.0,9,   -999.0
    49XK9406_1,  PR23,     4,  1,     26,     26,3,19950115,1844,  7.5023, 132.5050, 4449,    300.3,   8.7139,2,  34.5438,2,  34.5417,2,   -999.0,5,    39.48,2,    32.15,2,     0.01,2,     2.26,2, -999.000,9,-999.0000,9,  -999.00,9,   -999.0,9,   -999.0
    49XK9406_1,  PR23,     4,  1,     25,     25,4,19950115,1844,  7.5023, 132.5050, 4449,    394.2,   8.1513,2,  34.5684,2,  34.5682,2,     69.5,2,    41.17,2,    34.05,2,     0.01,2,     2.36,2, -999.000,9,-999.0000,9,  -999.00,9,   -999.0,9,   -999.0
    49XK9406_1,  PR23,     4,  1,     24,     24,2,19950115,1844,  7.5023, 132.5050, 4449,    496.3,   7.2897,2,  34.5290,2,  34.5296,2,     84.3,2,    47.17,2,    34.08,2,     0.02,2,     2.38,2, -999.000,9,-999.0000,9,  -999.00,9,   -999.0,9,   -999.0
    49XK9406_1,  PR23,     4,  1,     23,     23,2,19950115,1844,  7.5023, 132.5050, 4449,    597.4,   6.6356,2,  34.5213,2,  34.5211,2,     85.0,2,    54.35,2,    35.19,2,     0.02,2,     2.47,2, -999.000,9,-999.0000,9,  -999.00,9,   -999.0,9,   -999.0
    49XK9406_1,  PR23,     4,  1,     22,     22,2,19950115,1844,  7.5023, 132.5050, 4449,    699.0,   5.9950,2,  34.5169,2,  34.5164,2,     86.7,2,    62.54,2,    36.12,2,     0.01,2,     2.53,2, -999.000,9,-999.0000,9,  -999.00,9,   -999.0,9,   -999.0
    49XK9406_1,  PR23,     4,  1,     18,     18,2,19950115,1844,  7.5023, 132.5050, 4449,    798.8,   5.4596,2,  34.5271,2,  34.5272,2,     85.6,2,    71.47,2,    37.13,2,     0.00,2,     2.61,2, -999.000,9,-999.0000,9,  -999.00,9,   -999.0,9,   -999.0
    49XK9406_1,  PR23,     4,  1,     20,     20,2,19950115,1844,  7.5023, 132.5050, 4449,    799.3,   5.4609,2,  34.5270,2,  34.5270,2,   -999.0,5,    71.08,2,    37.29,2,     0.01,2,     2.60,2, -999.000,9,-999.0000,9,  -999.00,9,   -999.0,9,   -999.0
    49XK9406_1,  PR23,     4,  1,     19,     19,4,19950115,1844,  7.5023, 132.5050, 4449,    799.3,   5.4616,2,  34.5268,2,  34.5266,2,   -999.0,5,    71.59,2,    37.30,2,     0.01,2,     2.60,2, -999.000,9,-999.0000,9,  -999.00,9,   -999.0,9,   -999.0
    49XK9406_1,  PR23,     4,  1,     21,     21,2,19950115,1844,  7.5023, 132.5050, 4449,    799.7,   5.4615,2,  34.5269,2,-999.0000,9,   -999.0,5,    70.86,2,    37.23,2,     0.01,2,     2.60,2, -999.000,9,-999.0000,9,  -999.00,9,   -999.0,9,   -999.0
    49XK9406_1,  PR23,     4,  1,     17,     17,2,19950115,1844,  7.5023, 132.5050, 4449,    899.9,   4.8183,2,  34.5392,2,  34.5392,2,     86.5,2,    83.50,2,    37.95,2,     0.01,2,     2.68,2, -999.000,9,-999.0000,9,  -999.00,9,   -999.0,9,   -999.0
    49XK9406_1,  PR23,     4,  1,     16,     16,2,19950115,1844,  7.5023, 132.5050, 4449,    999.1,   4.2902,2,  34.5520,2,  34.5519,6,     89.4,2,    93.61,2,    38.21,2,     0.00,2,     2.69,2, -999.000,9,-999.0000,9,  -999.00,9,   -999.0,9,   -999.0
    49XK9406_1,  PR23,     4,  1,     15,     15,2,19950115,1844,  7.5023, 132.5050, 4449,   1248.9,   3.4279,2,  34.5769,2,-999.0000,5,     96.1,2,   110.68,2,    38.66,2,     0.00,2,     2.70,2, -999.000,9,-999.0000,9,  -999.00,9,   -999.0,9,   -999.0
    49XK9406_1,  PR23,     4,  1,     14,     14,2,19950115,1844,  7.5023, 132.5050, 4449,   1498.4,   2.8756,2,  34.5996,2,  34.6001,2,    102.6,2,   121.06,2,    38.51,2,     0.00,2,     2.70,2, -999.000,9,-999.0000,9,  -999.00,9,   -999.0,9,   -999.0
    49XK9406_1,  PR23,     4,  1,     13,     13,2,19950115,1844,  7.5023, 132.5050, 4449,   1749.6,   2.4956,2,  34.6183,2,  34.6191,2,    108.7,2,   128.17,2,    38.52,2,     0.00,2,     2.68,2, -999.000,9,-999.0000,9,  -999.00,9,   -999.0,9,   -999.0
    49XK9406_1,  PR23,     4,  1,     12,     12,2,19950115,1844,  7.5023, 132.5050, 4449,   1999.3,   2.1920,2,  34.6340,2,  34.6346,6,    115.9,2,   133.06,2,    38.34,2,     0.00,2,     2.66,2, -999.000,9,-999.0000,9,  -999.00,9,   -999.0,9,   -999.0
    49XK9406_1,  PR23,     4,  1,     11,     11,2,19950115,1844,  7.5023, 132.5050, 4449,   2248.4,   1.9617,2,  34.6464,2,  34.6470,2,    123.4,2,   136.69,2,    37.62,2,     0.01,2,     2.61,2, -999.000,9,-999.0000,9,  -999.00,9,   -999.0,9,   -999.0
    49XK9406_1,  PR23,     4,  1,     10,     10,2,19950115,1844,  7.5023, 132.5050, 4449,   2497.3,   1.8074,2,  34.6561,2,  34.6569,2,    130.6,2,   138.01,2,    37.06,2,     0.01,2,     2.57,2, -999.000,9,-999.0000,9,  -999.00,9,   -999.0,9,   -999.0
    49XK9406_1,  PR23,     4,  1,      9,      9,2,19950115,1844,  7.5023, 132.5050, 4449,   2749.4,   1.6854,2,  34.6639,2,  34.9201,2,    137.3,2,   138.22,2,    36.56,2,     0.00,2,     2.56,2, -999.000,9,-999.0000,9,  -999.00,9,   -999.0,9,   -999.0
    49XK9406_1,  PR23,     4,  1,      8,      8,2,19950115,1844,  7.5023, 132.5050, 4449,   2997.8,   1.6070,2,  34.6699,2,  34.6700,2,    142.7,6,   137.86,6,    35.85,6,     0.00,6,     2.47,2, -999.000,9,-999.0000,9,  -999.00,9,   -999.0,9,   -999.0
    49XK9406_1,  PR23,     4,  1,      7,      7,2,19950115,1844,  7.5023, 132.5050, 4449,   3248.7,   1.5726,2,  34.6737,2,  34.6734,2,    146.2,2,   137.92,2,    35.94,2,     0.00,2,     2.48,2, -999.000,9,-999.0000,9,  -999.00,9,   -999.0,9,   -999.0
    49XK9406_1,  PR23,     4,  1,      6,      6,2,19950115,1844,  7.5023, 132.5050, 4449,   3497.5,   1.5476,2,  34.6774,2,  34.6767,2,    149.5,2,   137.37,2,    35.60,2,     0.00,2,     2.45,2, -999.000,9,-999.0000,9,  -999.00,9,   -999.0,9,   -999.0
    49XK9406_1,  PR23,     4,  1,      5,      5,2,19950115,1844,  7.5023, 132.5050, 4449,   3743.7,   1.5516,2,  34.6788,2,  34.6783,2,    150.7,2,   137.54,2,    35.67,2,    -0.01,2,     2.46,2, -999.000,9,-999.0000,9,  -999.00,9,   -999.0,9,   -999.0
    49XK9406_1,  PR23,     4,  1,      4,      4,2,19950115,1844,  7.5023, 132.5050, 4449,   4000.3,   1.5738,2,  34.6793,2,  34.6791,2,    151.5,2,   137.74,2,    35.40,2,     0.01,2,     2.47,2, -999.000,9,-999.0000,9,  -999.00,9,   -999.0,9,   -999.0
    49XK9406_1,  PR23,     4,  1,      3,      3,2,19950115,1844,  7.5023, 132.5050, 4449,   4250.4,   1.6012,2,  34.6793,2,  34.6787,2,    151.5,2,   137.62,2,    35.42,2,     0.00,2,     2.45,2, -999.000,9,-999.0000,9,  -999.00,9,   -999.0,9,   -999.0
    49XK9406_1,  PR23,     4,  1,      1,      1,2,19950115,1844,  7.5023, 132.5050, 4449,   4408.5,   1.6197,2,  34.6793,2,  34.6790,6,    151.4,6,   137.62,6,    35.70,6,     0.01,6,     2.46,2, -999.000,9,-999.0000,9,  -999.00,9,   -999.0,9,   -999.0
    49XK9406_1,  PR23,     4,  1,      2,      2,2,19950115,1844,  7.5023, 132.5050, 4449,   4410.6,   1.6199,2,  34.6794,2,  34.6791,6,    151.5,2,   137.27,2,    35.59,2,     0.00,2,     2.45,2, -999.000,9,-999.0000,9,  -999.00,9,   -999.0,9,   -999.0