BOTTLE,20220819CCHSIOAMB
EXPOCODE,SECT_ID,STNNBR,CASTNO,SAMPNO,BTLNBR,BTLNBR_FLAG_W,DATE,TIME,LATITUDE,LONGITUDE,DEPTH,CTDPRS,CTDTMP,CTDTMP_FLAG_W,CTDSAL,CTDSAL_FLAG_W,SALNTY,SALNTY_FLAG_W,OXYGEN,OXYGEN_FLAG_W,SILCAT,SILCAT_FLAG_W,NITRAT,NITRAT_FLAG_W,NITRIT,NITRIT_FLAG_W,PHSPHT,PHSPHT_FLAG_W,TRITUM,TRITUM_FLAG_W,HELIUM,HELIUM_FLAG_W,DELHE3,DELHE3_FLAG_W,DELC14,DELC14_FLAG_W,DELC13
,,,,,,,,,,,,DBAR,ITS-90,,PSS-78,,PSS-78,,UMOL/KG,,UMOL/KG,,UMOL/KG,,UMOL/KG,,UMOL/KG,,TU,,NMOL/KG,,PERCNT,,/MILLE,,/MILLE
    49XK9406_1,  PR23,     5,  1,     36,     36,2,19950116,0059,  7.5097, 131.9945, 4416,     49.8,  27.7693,2,  34.2387,2,  34.2342,2,    200.2,2,     1.51,2,     0.02,2,     0.00,2,     0.04,2, -999.000,9,-999.0000,9,  -999.00,9,   -999.0,9,   -999.0
    49XK9406_1,  PR23,     5,  1,     35,     35,2,19950116,0059,  7.5097, 131.9945, 4416,    100.2,  19.9593,2,  34.7879,2,  34.7905,2,   -999.0,5,     5.86,6,     5.33,6,     0.29,6,     0.51,2, -999.000,9,-999.0000,9,  -999.00,9,   -999.0,9,   -999.0
    49XK9406_1,  PR23,     5,  1,     34,     34,2,19950116,0059,  7.5097, 131.9945, 4416,    148.1,  14.0869,2,  34.5976,2,  34.5971,2,    125.0,2,    18.08,2,    17.57,2,     0.03,2,     1.27,2, -999.000,9,-999.0000,9,  -999.00,9,   -999.0,9,   -999.0
    49XK9406_1,  PR23,     5,  1,     33,     33,2,19950116,0059,  7.5097, 131.9945, 4416,    197.8,  10.3210,2,  34.4838,2,  34.4854,2,     91.3,2,    31.54,2,    26.94,2,     0.01,2,     1.92,2, -999.000,9,-999.0000,9,  -999.00,9,   -999.0,9,   -999.0
    49XK9406_1,  PR23,     5,  1,     23,     23,2,19950116,0059,  7.5097, 131.9945, 4416,    299.4,   8.8801,2,  34.5511,2,  34.5514,6,     70.1,2,    38.71,2,    31.97,2,     0.01,2,     2.25,3, -999.000,9,-999.0000,9,  -999.00,9,   -999.0,9,   -999.0
    49XK9406_1,  PR23,     5,  1,     24,     24,2,19950116,0059,  7.5097, 131.9945, 4416,    299.9,   8.8814,2,  34.5512,2,  34.5514,2,   -999.0,5,    38.80,2,    31.98,2,     0.01,2,     2.25,2, -999.000,9,-999.0000,9,  -999.00,9,   -999.0,9,   -999.0
    49XK9406_1,  PR23,     5,  1,     25,     25,2,19950116,0059,  7.5097, 131.9945, 4416,    300.2,   8.8817,2,  34.5510,2,  34.5514,2,   -999.0,5,    38.50,2,    32.09,2,     0.01,2,     2.26,2, -999.000,9,-999.0000,9,  -999.00,9,   -999.0,9,   -999.0
    49XK9406_1,  PR23,     5,  1,     26,     26,2,19950116,0059,  7.5097, 131.9945, 4416,    300.4,   8.8812,2,  34.5509,2,  34.5510,2,   -999.0,5,    38.58,2,    32.09,2,     0.01,2,     2.26,2, -999.000,9,-999.0000,9,  -999.00,9,   -999.0,9,   -999.0
    49XK9406_1,  PR23,     5,  1,     27,     27,2,19950116,0059,  7.5097, 131.9945, 4416,    300.8,   8.8815,2,  34.5511,2,  34.5512,2,   -999.0,5,    38.71,2,    32.05,2,     0.00,2,     2.26,2, -999.000,9,-999.0000,9,  -999.00,9,   -999.0,9,   -999.0
    49XK9406_1,  PR23,     5,  1,     29,     29,2,19950116,0059,  7.5097, 131.9945, 4416,    300.9,   8.8818,2,  34.5513,2,  34.5516,2,   -999.0,5,    38.50,2,    32.01,2,     0.00,2,     2.26,2, -999.000,9,-999.0000,9,  -999.00,9,   -999.0,9,   -999.0
    49XK9406_1,  PR23,     5,  1,     28,     28,2,19950116,0059,  7.5097, 131.9945, 4416,    301.0,   8.8817,2,  34.5512,2,  34.5512,2,   -999.0,5,    38.60,2,    31.93,2,     0.01,2,     2.25,2, -999.000,9,-999.0000,9,  -999.00,9,   -999.0,9,   -999.0
    49XK9406_1,  PR23,     5,  1,     32,     32,2,19950116,0059,  7.5097, 131.9945, 4416,    301.2,   8.8817,2,  34.5511,2,  34.5512,2,   -999.0,5,    38.57,2,    32.06,2,     0.01,2,     2.26,2, -999.000,9,-999.0000,9,  -999.00,9,   -999.0,9,   -999.0
    49XK9406_1,  PR23,     5,  1,     31,     31,2,19950116,0059,  7.5097, 131.9945, 4416,    301.4,   8.8820,2,  34.5513,2,  34.5518,2,   -999.0,5,    38.76,2,    31.96,2,     0.01,2,     2.25,2, -999.000,9,-999.0000,9,  -999.00,9,   -999.0,9,   -999.0
    49XK9406_1,  PR23,     5,  1,     30,     30,2,19950116,0059,  7.5097, 131.9945, 4416,    301.4,   8.8821,2,  34.5512,2,  34.5518,2,   -999.0,5,    38.66,2,    32.12,2,     0.01,2,     2.27,2, -999.000,9,-999.0000,9,  -999.00,9,   -999.0,9,   -999.0
    49XK9406_1,  PR23,     5,  1,     22,     22,2,19950116,0059,  7.5097, 131.9945, 4416,    400.4,   8.2128,2,  34.5628,2,  34.5631,2,     70.3,2,    41.21,2,    33.39,2,     0.01,2,     2.35,2, -999.000,9,-999.0000,9,  -999.00,9,   -999.0,9,   -999.0
    49XK9406_1,  PR23,     5,  1,     21,     21,2,19950116,0059,  7.5097, 131.9945, 4416,    500.5,   7.3149,2,  34.5098,2,  34.5091,2,     83.2,2,    48.65,2,    33.75,2,     0.01,2,     2.38,2, -999.000,9,-999.0000,9,  -999.00,9,   -999.0,9,   -999.0
    49XK9406_1,  PR23,     5,  1,     20,     20,2,19950116,0059,  7.5097, 131.9945, 4416,    598.9,   6.7533,2,  34.5215,2,  34.5219,2,     92.3,2,    51.41,2,    34.30,2,     0.01,2,     2.39,2, -999.000,9,-999.0000,9,  -999.00,9,   -999.0,9,   -999.0
    49XK9406_1,  PR23,     5,  1,     19,     19,3,19950116,0059,  7.5097, 131.9945, 4416,    698.6,   6.1894,2,  34.5162,2,  34.5166,2,     87.6,2,    60.10,2,    35.71,2,     0.01,2,     2.51,2, -999.000,9,-999.0000,9,  -999.00,9,   -999.0,9,   -999.0
    49XK9406_1,  PR23,     5,  1,     18,     18,2,19950116,0059,  7.5097, 131.9945, 4416,    796.8,   5.4502,2,  34.5292,2,  34.5288,2,     83.5,2,    72.11,2,    37.05,2,     0.01,2,     2.63,2, -999.000,9,-999.0000,9,  -999.00,9,   -999.0,9,   -999.0
    49XK9406_1,  PR23,     5,  1,     17,     17,2,19950116,0059,  7.5097, 131.9945, 4416,    899.4,   4.9342,2,  34.5362,2,  34.5362,2,     86.1,2,    81.09,2,    37.55,2,     0.01,2,     2.65,2, -999.000,9,-999.0000,9,  -999.00,9,   -999.0,9,   -999.0
    49XK9406_1,  PR23,     5,  1,     16,     16,2,19950116,0059,  7.5097, 131.9945, 4416,    997.4,   4.5002,2,  34.5459,2,  34.5466,2,     87.8,2,    89.68,2,    37.93,2,     0.01,2,     2.71,2, -999.000,9,-999.0000,9,  -999.00,9,   -999.0,9,   -999.0
    49XK9406_1,  PR23,     5,  1,     15,     15,2,19950116,0059,  7.5097, 131.9945, 4416,   1250.9,   3.4501,2,  34.5783,2,  34.5789,2,     96.0,2,   109.48,2,    38.36,2,     0.01,2,     2.71,2, -999.000,9,-999.0000,9,  -999.00,9,   -999.0,9,   -999.0
    49XK9406_1,  PR23,     5,  1,     14,     14,2,19950116,0059,  7.5097, 131.9945, 4416,   1500.6,   2.9160,2,  34.5982,2,  34.5987,2,    101.8,2,   120.21,2,    38.27,2,     0.01,2,     2.70,2, -999.000,9,-999.0000,9,  -999.00,9,   -999.0,9,   -999.0
    49XK9406_1,  PR23,     5,  1,     13,     13,2,19950116,0059,  7.5097, 131.9945, 4416,   1746.2,   2.4977,2,  34.6180,2,  34.6185,2,    108.6,2,   128.02,2,    38.34,2,     0.01,2,     2.67,2, -999.000,9,-999.0000,9,  -999.00,9,   -999.0,9,   -999.0
    49XK9406_1,  PR23,     5,  1,     12,     12,2,19950116,0059,  7.5097, 131.9945, 4416,   1998.2,   2.2134,2,  34.6325,2,  34.6329,2,    115.4,2,   133.23,2,    38.06,2,     0.01,2,     2.64,2, -999.000,9,-999.0000,9,  -999.00,9,   -999.0,9,   -999.0
    49XK9406_1,  PR23,     5,  1,     11,     11,2,19950116,0059,  7.5097, 131.9945, 4416,   2247.9,   1.9916,2,  34.6445,2,  34.6443,2,    122.8,2,   136.62,2,    37.55,2,     0.01,2,     2.60,2, -999.000,9,-999.0000,9,  -999.00,9,   -999.0,9,   -999.0
    49XK9406_1,  PR23,     5,  1,     10,     10,2,19950116,0059,  7.5097, 131.9945, 4416,   2497.6,   1.8140,2,  34.6553,2,  34.6557,2,    130.1,2,   138.81,2,    36.91,2,     0.01,2,     2.57,2, -999.000,9,-999.0000,9,  -999.00,9,   -999.0,9,   -999.0
    49XK9406_1,  PR23,     5,  1,      9,      9,2,19950116,0059,  7.5097, 131.9945, 4416,   2751.1,   1.6941,2,  34.6633,2,  34.6633,2,    137.0,2,   139.62,2,    36.64,2,     0.01,2,     2.55,2, -999.000,9,-999.0000,9,  -999.00,9,   -999.0,9,   -999.0
    49XK9406_1,  PR23,     5,  1,      8,      8,2,19950116,0059,  7.5097, 131.9945, 4416,   2997.3,   1.6042,2,  34.6693,2,  34.6692,6,    142.4,6,   138.48,6,    36.27,6,     0.01,6,     2.50,2, -999.000,9,-999.0000,9,  -999.00,9,   -999.0,9,   -999.0
    49XK9406_1,  PR23,     5,  1,      7,      7,2,19950116,0059,  7.5097, 131.9945, 4416,   3248.9,   1.5533,2,  34.6745,2,  34.6745,2,    147.5,2,   138.71,2,    35.87,2,     0.01,2,     2.51,2, -999.000,9,-999.0000,9,  -999.00,9,   -999.0,9,   -999.0
    49XK9406_1,  PR23,     5,  1,      6,      6,2,19950116,0059,  7.5097, 131.9945, 4416,   3496.4,   1.5421,2,  34.6771,2,  34.6765,2,    150.1,2,   138.72,2,    35.71,2,     0.01,2,     2.46,2, -999.000,9,-999.0000,9,  -999.00,9,   -999.0,9,   -999.0
    49XK9406_1,  PR23,     5,  1,      5,      5,2,19950116,0059,  7.5097, 131.9945, 4416,   3748.6,   1.5506,2,  34.6787,2,  34.6785,2,    151.2,2,   138.46,2,    35.61,2,     0.01,2,     2.47,2, -999.000,9,-999.0000,9,  -999.00,9,   -999.0,9,   -999.0
    49XK9406_1,  PR23,     5,  1,      4,      4,2,19950116,0059,  7.5097, 131.9945, 4416,   3998.3,   1.5742,2,  34.6789,2,  34.6785,2,    151.5,2,   138.35,2,    35.73,2,     0.01,2,     2.48,2, -999.000,9,-999.0000,9,  -999.00,9,   -999.0,9,   -999.0
    49XK9406_1,  PR23,     5,  1,      3,      3,2,19950116,0059,  7.5097, 131.9945, 4416,   4245.0,   1.6006,2,  34.6791,2,  34.6779,2,    151.7,2,   138.68,2,    35.75,2,     0.01,2,     2.46,2, -999.000,9,-999.0000,9,  -999.00,9,   -999.0,9,   -999.0
    49XK9406_1,  PR23,     5,  1,      2,      2,2,19950116,0059,  7.5097, 131.9945, 4416,   4465.0,   1.6250,2,  34.6793,2,  34.6791,2,    152.0,2,   138.28,2,    35.53,2,     0.01,2,     2.45,2, -999.000,9,-999.0000,9,  -999.00,9,   -999.0,9,   -999.0
    49XK9406_1,  PR23,     5,  1,      1,      1,2,19950116,0059,  7.5097, 131.9945, 4416,   4465.2,   1.6249,2,  34.6792,2,  34.6793,6,    151.6,6,   138.20,6,    35.64,6,     0.01,6,     2.48,2, -999.000,9,-999.0000,9,  -999.00,9,   -999.0,9,   -999.0
    49XK9406_1,  PR24,PR2404,  1,     24,     35,2,19950119,2346,  6.2647, 126.8282, 2790,     48.4,  27.7189,2,  34.0917,2,  34.0944,2,    200.0,2,     0.69,2,    -0.07,2,     0.02,2,     0.02,2, -999.000,9,-999.0000,9,  -999.00,9,   -999.0,9,   -999.0
    49XK9406_1,  PR24,PR2404,  1,     23,     33,2,19950119,2346,  6.2647, 126.8282, 2790,     75.1,  27.6105,2,  34.1165,2,  34.1038,2,    199.8,3,     3.41,3,     3.90,3,     0.07,3,     0.40,2, -999.000,9,-999.0000,9,  -999.00,9,   -999.0,9,   -999.0
    49XK9406_1,  PR24,PR2404,  1,     22,     32,2,19950119,2346,  6.2647, 126.8282, 2790,     98.5,  24.7906,2,  34.7494,2,  34.7496,3,    191.5,6,     1.25,6,     0.01,6,     0.01,6,     0.12,2, -999.000,9,-999.0000,9,  -999.00,9,   -999.0,9,   -999.0
    49XK9406_1,  PR24,PR2404,  1,     21,     31,2,19950119,2346,  6.2647, 126.8282, 2790,    124.1,  20.6929,2,  34.9038,2,  34.9065,2,    166.6,3,     1.56,3,     0.02,3,     0.01,3,     0.15,2, -999.000,9,-999.0000,9,  -999.00,9,   -999.0,9,   -999.0
    49XK9406_1,  PR24,PR2404,  1,     20,     29,2,19950119,2346,  6.2647, 126.8282, 2790,    150.0,  17.8679,2,  34.7589,2,  34.7624,2,    149.3,2,     7.87,2,     9.66,2,     0.03,2,     0.74,2, -999.000,9,-999.0000,9,  -999.00,9,   -999.0,9,   -999.0
    49XK9406_1,  PR24,PR2404,  1,     19,     27,2,19950119,2346,  6.2647, 126.8282, 2790,    198.2,  14.0594,2,  34.5522,2,  34.5506,2,    137.7,2,    15.10,2,    16.04,2,     0.01,2,     1.17,2, -999.000,9,-999.0000,9,  -999.00,9,   -999.0,9,   -999.0
    49XK9406_1,  PR24,PR2404,  1,     18,     26,2,19950119,2346,  6.2647, 126.8282, 2790,    248.4,  10.9508,2,  34.4275,2,  34.4288,2,   -999.0,5,    27.58,2,    23.02,2,     0.02,2,     1.66,2, -999.000,9,-999.0000,9,  -999.00,9,   -999.0,9,   -999.0
    49XK9406_1,  PR24,PR2404,  1,     17,     25,2,19950119,2346,  6.2647, 126.8282, 2790,    297.3,   9.6998,2,  34.4501,2,  34.4512,2,     96.1,2,    34.56,2,    27.51,2,     0.02,2,     1.97,2, -999.000,9,-999.0000,9,  -999.00,9,   -999.0,9,   -999.0
    49XK9406_1,  PR24,PR2404,  1,     16,     23,2,19950119,2346,  6.2647, 126.8282, 2790,    398.2,   8.3232,2,  34.4477,2,  34.4483,2,     75.0,2,    43.79,2,    32.14,2,     0.01,2,     2.30,2, -999.000,9,-999.0000,9,  -999.00,9,   -999.0,9,   -999.0
    49XK9406_1,  PR24,PR2404,  1,     15,     21,2,19950119,2346,  6.2647, 126.8282, 2790,    498.0,   7.1463,2,  34.4097,2,  34.4098,2,     73.6,2,    55.43,2,    33.98,2,     0.01,2,     2.42,2, -999.000,9,-999.0000,9,  -999.00,9,   -999.0,9,   -999.0
    49XK9406_1,  PR24,PR2404,  1,     14,     20,2,19950119,2346,  6.2647, 126.8282, 2790,    599.7,   6.2996,2,  34.4780,2,  34.4781,2,     82.8,2,    61.29,2,    35.26,2,     0.01,2,     2.51,2, -999.000,9,-999.0000,9,  -999.00,9,   -999.0,9,   -999.0
    49XK9406_1,  PR24,PR2404,  1,     13,     19,2,19950119,2346,  6.2647, 126.8282, 2790,    698.5,   5.9806,2,  34.5000,2,  34.4991,2,     88.4,2,    63.43,2,    35.39,2,     0.01,2,     2.53,2, -999.000,9,-999.0000,9,  -999.00,9,   -999.0,9,   -999.0
    49XK9406_1,  PR24,PR2404,  1,     12,     17,2,19950119,2346,  6.2647, 126.8282, 2790,    798.5,   5.6407,2,  34.5103,2,  34.5111,2,     89.7,2,    68.59,2,    36.26,2,     0.01,2,     2.57,2, -999.000,9,-999.0000,9,  -999.00,9,   -999.0,9,   -999.0
    49XK9406_1,  PR24,PR2404,  1,     11,     15,2,19950119,2346,  6.2647, 126.8282, 2790,    898.5,   4.9969,2,  34.5431,2,  34.5431,2,     92.9,2,    79.51,2,    36.52,2,     0.01,2,     2.59,2, -999.000,9,-999.0000,9,  -999.00,9,   -999.0,9,   -999.0
    49XK9406_1,  PR24,PR2404,  1,     10,     14,2,19950119,2346,  6.2647, 126.8282, 2790,    998.7,   3.9693,2,  34.5591,2,  34.5586,2,     93.9,2,   100.41,2,    38.10,2,     0.01,2,     2.67,2, -999.000,9,-999.0000,9,  -999.00,9,   -999.0,9,   -999.0
    49XK9406_1,  PR24,PR2404,  1,      9,     13,2,19950119,2346,  6.2647, 126.8282, 2790,   1249.4,   3.2254,2,  34.5875,2,  34.5881,2,    100.9,2,   113.53,2,    37.81,2,     0.01,2,     2.68,2, -999.000,9,-999.0000,9,  -999.00,9,   -999.0,9,   -999.0
    49XK9406_1,  PR24,PR2404,  1,      8,     11,2,19950119,2346,  6.2647, 126.8282, 2790,   1499.1,   2.8323,2,  34.6006,2,  34.5997,2,    103.5,2,   121.32,2,    38.20,2,     0.01,2,     2.69,2, -999.000,9,-999.0000,9,  -999.00,9,   -999.0,9,   -999.0
    49XK9406_1,  PR24,PR2404,  1,      7,      9,2,19950119,2346,  6.2647, 126.8282, 2790,   1747.7,   2.3236,2,  34.6202,2,  34.7439,2,    111.0,2,   131.55,2,    37.90,2,     0.00,2,     2.67,2, -999.000,9,-999.0000,9,  -999.00,9,   -999.0,9,   -999.0
    49XK9406_1,  PR24,PR2404,  1,      6,      8,2,19950119,2346,  6.2647, 126.8282, 2790,   1997.5,   1.9847,2,  34.6425,2,  34.6435,3,    122.3,2,   136.15,2,    37.39,2,     0.01,2,     2.61,2, -999.000,9,-999.0000,9,  -999.00,9,   -999.0,9,   -999.0
    49XK9406_1,  PR24,PR2404,  1,      5,      7,2,19950119,2346,  6.2647, 126.8282, 2790,   2247.6,   1.8685,2,  34.6500,2,  34.6504,2,    126.4,2,   137.91,2,    36.97,2,     0.01,2,     2.60,2, -999.000,9,-999.0000,9,  -999.00,9,   -999.0,9,   -999.0
    49XK9406_1,  PR24,PR2404,  1,      4,      5,2,19950119,2346,  6.2647, 126.8282, 2790,   2497.5,   1.7080,2,  34.6590,2,  34.6588,2,    134.1,2,   140.17,2,    36.59,2,     0.01,2,     2.55,2, -999.000,9,-999.0000,9,  -999.00,9,   -999.0,9,   -999.0
    49XK9406_1,  PR24,PR2404,  1,      3,      3,2,19950119,2346,  6.2647, 126.8282, 2790,   2748.0,   1.6074,2,  34.6665,2,  34.6663,2,    141.4,2,   138.79,2,    36.19,2,     0.01,2,     2.53,2, -999.000,9,-999.0000,9,  -999.00,9,   -999.0,9,   -999.0
    49XK9406_1,  PR24,PR2404,  1,      2,      2,2,19950119,2346,  6.2647, 126.8282, 2790,   2770.5,   1.6003,2,  34.6672,2,  34.6671,2,    141.7,2,   138.82,2,    36.03,2,     0.01,2,     2.49,2, -999.000,9,-999.0000,9,  -999.00,9,   -999.0,9,   -999.0
    49XK9406_1,  PR24,PR2404,  1,      1,      1,2,19950119,2346,  6.2647, 126.8282, 2790,   2771.0,   1.5997,2,  34.6672,2,  34.6671,2,    141.7,6,   138.22,6,    36.15,6,     0.01,6,     2.50,2, -999.000,9,-999.0000,9,  -999.00,9,   -999.0,9,   -999.0