BOTTLE,20220819CCHSIOAMB
EXPOCODE,SECT_ID,STNNBR,CASTNO,SAMPNO,BTLNBR,BTLNBR_FLAG_W,DATE,TIME,LATITUDE,LONGITUDE,DEPTH,CTDPRS,CTDTMP,CTDTMP_FLAG_W,CTDSAL,CTDSAL_FLAG_W,SALNTY,SALNTY_FLAG_W,OXYGEN,OXYGEN_FLAG_W,SILCAT,SILCAT_FLAG_W,NITRAT,NITRAT_FLAG_W,NITRIT,NITRIT_FLAG_W,PHSPHT,PHSPHT_FLAG_W,TRITUM,TRITUM_FLAG_W,HELIUM,HELIUM_FLAG_W,DELHE3,DELHE3_FLAG_W,DELC14,DELC14_FLAG_W,DELC13
,,,,,,,,,,,,DBAR,ITS-90,,PSS-78,,PSS-78,,UMOL/KG,,UMOL/KG,,UMOL/KG,,UMOL/KG,,UMOL/KG,,TU,,NMOL/KG,,PERCNT,,/MILLE,,/MILLE
    49XK9406_1,  PR24,PR2403,  1,     22,     32,2,19950120,0427,  6.5423, 126.6600, 3049,     48.3,  27.4833,2,  34.2423,2,  34.2385,2,   -999.0,5,     0.56,3,    -0.02,2,     0.01,2,     0.01,2, -999.000,9,-999.0000,9,  -999.00,9,   -999.0,9,   -999.0
    49XK9406_1,  PR24,PR2403,  1,     24,     35,2,19950120,0427,  6.5423, 126.6600, 3049,     48.5,  27.4815,2,  34.2452,2,  34.2411,2,   -999.0,5,     0.56,3,    -0.02,2,     0.01,2,     0.00,2, -999.000,9,-999.0000,9,  -999.00,9,   -999.0,9,   -999.0
    49XK9406_1,  PR24,PR2403,  1,     23,     33,2,19950120,0427,  6.5423, 126.6600, 3049,     48.6,  27.4827,2,  34.2431,2,  34.2381,2,   -999.0,5,     0.56,3,    -0.03,2,     0.01,2,     0.00,2, -999.000,9,-999.0000,9,  -999.00,9,   -999.0,9,   -999.0
    49XK9406_1,  PR24,PR2403,  1,     21,     31,2,19950120,0427,  6.5423, 126.6600, 3049,     77.8,  26.7794,2,  34.5774,2,  34.9406,2,   -999.0,5,     0.60,3,    -0.03,2,     0.01,2,     0.03,2, -999.000,9,-999.0000,9,  -999.00,9,   -999.0,9,   -999.0
    49XK9406_1,  PR24,PR2403,  1,     20,     29,2,19950120,0427,  6.5423, 126.6600, 3049,     97.7,  23.9991,2,  34.9141,2,  34.9209,2,    182.1,6,     1.38,6,     0.63,6,     0.10,6,     0.16,2, -999.000,9,-999.0000,9,  -999.00,9,   -999.0,9,   -999.0
    49XK9406_1,  PR24,PR2403,  1,     19,     27,2,19950120,0427,  6.5423, 126.6600, 3049,    147.0,  18.9271,2,  34.8663,2,  34.8646,2,    167.3,2,     4.20,2,     5.80,2,     0.02,2,     0.48,2, -999.000,9,-999.0000,9,  -999.00,9,   -999.0,9,   -999.0
    49XK9406_1,  PR24,PR2403,  1,     18,     26,2,19950120,0427,  6.5423, 126.6600, 3049,    197.4,  14.2965,2,  34.5398,2,  34.5372,2,    162.5,2,    11.16,2,    12.49,2,     0.01,2,     0.91,2, -999.000,9,-999.0000,9,  -999.00,9,   -999.0,9,   -999.0
    49XK9406_1,  PR24,PR2403,  1,     17,     25,2,19950120,0427,  6.5423, 126.6600, 3049,    251.1,  10.8078,2,  34.3512,2,  34.3554,2,    128.4,2,    24.38,2,    21.46,2,     0.01,2,     1.56,2, -999.000,9,-999.0000,9,  -999.00,9,   -999.0,9,   -999.0
    49XK9406_1,  PR24,PR2403,  1,     16,     23,2,19950120,0427,  6.5423, 126.6600, 3049,    298.7,   9.9422,2,  34.4839,2,  34.4811,2,    109.1,2,    38.50,2,    26.67,2,     0.01,2,     1.89,2, -999.000,9,-999.0000,9,  -999.00,9,   -999.0,9,   -999.0
    49XK9406_1,  PR24,PR2403,  1,     15,     21,2,19950120,0427,  6.5423, 126.6600, 3049,    396.8,   9.0104,2,  34.5456,2,  34.5378,2,    106.6,2,    39.29,2,    28.31,2,     0.01,2,     1.98,2, -999.000,9,-999.0000,9,  -999.00,9,   -999.0,9,   -999.0
    49XK9406_1,  PR24,PR2403,  1,     14,     20,2,19950120,0427,  6.5423, 126.6600, 3049,    499.1,   7.2329,2,  34.4282,2,  34.4273,2,     75.1,2,    53.64,2,    33.75,2,     0.01,2,     2.41,2, -999.000,9,-999.0000,9,  -999.00,9,   -999.0,9,   -999.0
    49XK9406_1,  PR24,PR2403,  1,     13,     19,2,19950120,0427,  6.5423, 126.6600, 3049,    597.3,   6.5414,2,  34.4756,2,  34.4777,2,     84.1,2,    58.46,2,    34.66,2,     0.02,2,     2.47,2, -999.000,9,-999.0000,9,  -999.00,9,   -999.0,9,   -999.0
    49XK9406_1,  PR24,PR2403,  1,     12,     17,2,19950120,0427,  6.5423, 126.6600, 3049,    798.0,   5.4444,2,  34.5269,2,  34.5252,2,     90.6,2,    71.76,2,    36.32,2,     0.01,2,     2.58,2, -999.000,9,-999.0000,9,  -999.00,9,   -999.0,9,   -999.0
    49XK9406_1,  PR24,PR2403,  1,     11,     15,2,19950120,0427,  6.5423, 126.6600, 3049,    999.1,   4.4524,2,  34.5565,2,  34.5567,6,     95.0,2,    89.02,2,    37.24,2,     0.02,2,     2.62,2, -999.000,9,-999.0000,9,  -999.00,9,   -999.0,9,   -999.0
    49XK9406_1,  PR24,PR2403,  1,     10,     14,2,19950120,0427,  6.5423, 126.6600, 3049,   1249.2,   3.3878,2,  34.5754,2,  34.5753,2,     95.9,2,   112.31,2,    38.21,2,     0.02,2,     2.68,2, -999.000,9,-999.0000,9,  -999.00,9,   -999.0,9,   -999.0
    49XK9406_1,  PR24,PR2403,  1,      9,     13,2,19950120,0427,  6.5423, 126.6600, 3049,   1497.1,   2.7228,2,  34.6008,2,  34.6012,2,    102.9,2,   125.12,2,    38.30,2,     0.01,2,     2.69,2, -999.000,9,-999.0000,9,  -999.00,9,   -999.0,9,   -999.0
    49XK9406_1,  PR24,PR2403,  1,      8,     11,2,19950120,0427,  6.5423, 126.6600, 3049,   1751.3,   2.3878,2,  34.6199,2,  34.6201,2,    110.2,2,   130.16,2,    37.95,2,     0.01,2,     2.67,2, -999.000,9,-999.0000,9,  -999.00,9,   -999.0,9,   -999.0
    49XK9406_1,  PR24,PR2403,  1,      7,      9,2,19950120,0427,  6.5423, 126.6600, 3049,   1998.2,   2.0949,2,  34.6341,2,  34.6345,2,    117.2,2,   135.06,2,    37.92,2,     0.01,2,     2.63,2, -999.000,9,-999.0000,9,  -999.00,9,   -999.0,9,   -999.0
    49XK9406_1,  PR24,PR2403,  1,      6,      8,2,19950120,0427,  6.5423, 126.6600, 3049,   2247.2,   1.8302,2,  34.6499,2,  34.6506,3,    127.0,2,   138.37,2,    37.18,2,     0.01,2,     2.59,2, -999.000,9,-999.0000,9,  -999.00,9,   -999.0,9,   -999.0
    49XK9406_1,  PR24,PR2403,  1,      5,      7,2,19950120,0427,  6.5423, 126.6600, 3049,   2499.5,   1.7706,2,  34.6555,2,  34.6557,2,    130.8,2,   139.13,2,    36.99,2,     0.01,2,     2.56,2, -999.000,9,-999.0000,9,  -999.00,9,   -999.0,9,   -999.0
    49XK9406_1,  PR24,PR2403,  1,      4,      5,2,19950120,0427,  6.5423, 126.6600, 3049,   2749.5,   1.6805,2,  34.6623,2,  34.6620,6,    136.7,2,   138.71,2,    36.54,2,     0.01,2,     2.54,2, -999.000,9,-999.0000,9,  -999.00,9,   -999.0,9,   -999.0
    49XK9406_1,  PR24,PR2403,  1,      3,      3,2,19950120,0427,  6.5423, 126.6600, 3049,   2998.4,   1.5944,2,  34.6691,2,  34.6690,2,    143.3,6,   137.84,6,    36.21,6,     0.01,6,     2.46,2, -999.000,9,-999.0000,9,  -999.00,9,   -999.0,9,   -999.0
    49XK9406_1,  PR24,PR2403,  1,      2,      2,2,19950120,0427,  6.5423, 126.6600, 3049,   3087.8,   1.5907,2,  34.6702,2,  34.6702,2,    144.3,2,   138.50,2,    36.23,2,     0.01,2,     2.50,2, -999.000,9,-999.0000,9,  -999.00,9,   -999.0,9,   -999.0
    49XK9406_1,  PR24,PR2403,  1,      1,      1,2,19950120,0427,  6.5423, 126.6600, 3049,   3088.3,   1.5916,2,  34.6701,2,  34.6694,2,    144.4,6,   138.59,6,    36.16,6,     0.02,6,     2.49,2, -999.000,9,-999.0000,9,  -999.00,9,   -999.0,9,   -999.0
    49XK9406_1,  PR24,PR2402,  1,     24,     35,2,19950120,0748,  6.6873, 126.5747, 2459,     49.4,  27.4285,2,  34.2456,2,  34.2426,6,    200.8,2,     0.74,2,     0.01,2,     0.01,2,     0.01,2, -999.000,9,-999.0000,9,  -999.00,9,   -999.0,9,   -999.0
    49XK9406_1,  PR24,PR2402,  1,     23,     33,2,19950120,0748,  6.6873, 126.5747, 2459,     69.1,  27.4333,2,  34.2815,2,  34.2772,2,   -999.0,5,     0.70,2,     0.02,2,     0.01,2,     0.01,2, -999.000,9,-999.0000,9,  -999.00,9,   -999.0,9,   -999.0
    49XK9406_1,  PR24,PR2402,  1,     22,     32,2,19950120,0748,  6.6873, 126.5747, 2459,     96.4,  23.5523,2,  34.8625,2,  34.8646,2,   -999.0,5,     1.67,2,     1.32,2,     0.05,2,     0.16,2, -999.000,9,-999.0000,9,  -999.00,9,   -999.0,9,   -999.0
    49XK9406_1,  PR24,PR2402,  1,     21,     31,2,19950120,0748,  6.6873, 126.5747, 2459,     97.4,  23.5252,2,  34.8668,2,  34.8658,2,   -999.0,5,     1.72,2,     1.36,2,     0.06,2,     0.18,2, -999.000,9,-999.0000,9,  -999.00,9,   -999.0,9,   -999.0
    49XK9406_1,  PR24,PR2402,  1,     20,     29,2,19950120,0748,  6.6873, 126.5747, 2459,     98.6,  23.5218,2,  34.8679,2,  34.8696,2,    183.7,6,     1.65,6,     1.34,6,     0.06,6,     0.16,2, -999.000,9,-999.0000,9,  -999.00,9,   -999.0,9,   -999.0
    49XK9406_1,  PR24,PR2402,  1,     19,     27,2,19950120,0748,  6.6873, 126.5747, 2459,    125.2,  19.5969,2,  34.9015,2,  34.9008,2,    165.4,2,     3.68,2,     5.00,2,     0.01,2,     0.44,2, -999.000,9,-999.0000,9,  -999.00,9,   -999.0,9,   -999.0
    49XK9406_1,  PR24,PR2402,  1,     18,     26,2,19950120,0748,  6.6873, 126.5747, 2459,    151.4,  17.5128,2,  34.7734,2,  34.7726,2,   -999.0,5,     6.12,2,     7.86,2,     0.01,2,     0.64,2, -999.000,9,-999.0000,9,  -999.00,9,   -999.0,9,   -999.0
    49XK9406_1,  PR24,PR2402,  1,     17,     25,2,19950120,0748,  6.6873, 126.5747, 2459,    198.7,  13.5347,2,  34.4874,2,  34.4909,2,    167.8,2,    12.45,2,    14.07,2,     0.00,2,     0.96,2, -999.000,9,-999.0000,9,  -999.00,9,   -999.0,9,   -999.0
    49XK9406_1,  PR24,PR2402,  1,     16,     23,2,19950120,0748,  6.6873, 126.5747, 2459,    250.5,  10.8986,2,  34.3581,2,  34.3580,2,    139.7,2,    25.56,2,    20.49,2,     0.00,2,     1.50,2, -999.000,9,-999.0000,9,  -999.00,9,   -999.0,9,   -999.0
    49XK9406_1,  PR24,PR2402,  1,     15,     21,2,19950120,0748,  6.6873, 126.5747, 2459,    297.0,   9.5116,2,  34.3427,2,  34.3397,2,    110.5,2,    34.22,2,    25.75,2,     0.00,2,     1.88,2, -999.000,9,-999.0000,9,  -999.00,9,   -999.0,9,   -999.0
    49XK9406_1,  PR24,PR2402,  1,     14,     20,2,19950120,0748,  6.6873, 126.5747, 2459,    397.1,   8.8469,2,  34.4800,2,  34.4883,2,     95.2,2,    41.18,2,    29.41,2,     0.00,2,     2.11,2, -999.000,9,-999.0000,9,  -999.00,9,   -999.0,9,   -999.0
    49XK9406_1,  PR24,PR2402,  1,     13,     19,2,19950120,0748,  6.6873, 126.5747, 2459,    498.1,   7.4267,2,  34.4494,2,  34.4483,6,     77.1,2,    51.05,2,    33.55,2,     0.00,2,     2.41,2, -999.000,9,-999.0000,9,  -999.00,9,   -999.0,9,   -999.0
    49XK9406_1,  PR24,PR2402,  1,     12,     17,2,19950120,0748,  6.6873, 126.5747, 2459,    598.5,   6.5383,2,  34.4705,2,  34.4707,2,     82.0,2,    58.78,2,    34.89,2,     0.00,2,     2.49,2, -999.000,9,-999.0000,9,  -999.00,9,   -999.0,9,   -999.0
    49XK9406_1,  PR24,PR2402,  1,     11,     15,2,19950120,0748,  6.6873, 126.5747, 2459,    699.4,   6.0361,2,  34.4717,2,  34.4726,2,     82.9,3,    65.81,3,    35.83,3,     0.00,3,     2.54,2, -999.000,9,-999.0000,9,  -999.00,9,   -999.0,9,   -999.0
    49XK9406_1,  PR24,PR2402,  1,     10,     14,2,19950120,0748,  6.6873, 126.5747, 2459,    799.6,   5.6904,2,  34.5272,2,  34.5274,2,     92.7,3,    67.16,3,    35.78,3,     0.00,3,     2.54,2, -999.000,9,-999.0000,9,  -999.00,9,   -999.0,9,   -999.0
    49XK9406_1,  PR24,PR2402,  1,      9,     13,2,19950120,0748,  6.6873, 126.5747, 2459,    901.1,   5.0643,2,  34.5299,2,  34.5300,2,     89.8,2,    79.08,2,    37.05,2,    -0.01,2,     2.62,2, -999.000,9,-999.0000,9,  -999.00,9,   -999.0,9,   -999.0
    49XK9406_1,  PR24,PR2402,  1,      8,     11,2,19950120,0748,  6.6873, 126.5747, 2459,    995.4,   4.5732,2,  34.5522,2,  34.5523,2,     91.5,2,    87.99,2,    37.41,2,     0.00,2,     2.67,2, -999.000,9,-999.0000,9,  -999.00,9,   -999.0,9,   -999.0
    49XK9406_1,  PR24,PR2402,  1,      7,      9,2,19950120,0748,  6.6873, 126.5747, 2459,   1247.8,   3.4329,2,  34.5847,2,  34.5853,2,    100.2,2,   108.55,2,    38.06,2,    -0.01,2,     2.70,2, -999.000,9,-999.0000,9,  -999.00,9,   -999.0,9,   -999.0
    49XK9406_1,  PR24,PR2402,  1,      6,      8,2,19950120,0748,  6.6873, 126.5747, 2459,   1497.5,   2.7526,2,  34.6016,2,  34.6022,6,    104.6,2,   123.70,2,    38.31,2,    -0.01,2,     2.70,2, -999.000,9,-999.0000,9,  -999.00,9,   -999.0,9,   -999.0
    49XK9406_1,  PR24,PR2402,  1,      5,      7,2,19950120,0748,  6.6873, 126.5747, 2459,   1746.7,   2.4191,2,  34.6156,2,  34.6158,2,    109.3,2,   130.23,2,    38.05,2,     0.00,2,     2.69,2, -999.000,9,-999.0000,9,  -999.00,9,   -999.0,9,   -999.0
    49XK9406_1,  PR24,PR2402,  1,      4,      5,2,19950120,0748,  6.6873, 126.5747, 2459,   1999.2,   2.1130,2,  34.6329,2,  34.6317,2,    116.7,2,   134.07,2,    37.55,2,    -0.01,2,     2.66,2, -999.000,9,-999.0000,9,  -999.00,9,   -999.0,9,   -999.0
    49XK9406_1,  PR24,PR2402,  1,      3,      3,2,19950120,0748,  6.6873, 126.5747, 2459,   2250.0,   1.9910,2,  34.6423,2,  34.6380,2,    121.7,2,   136.67,2,    37.60,2,     0.00,2,     2.62,2, -999.000,9,-999.0000,9,  -999.00,9,   -999.0,9,   -999.0
    49XK9406_1,  PR24,PR2402,  1,      2,      2,2,19950120,0748,  6.6873, 126.5747, 2459,   2424.2,   1.8249,2,  34.6537,2,  34.6535,2,    129.7,2,   137.89,2,    37.14,2,     0.00,2,     2.58,2, -999.000,9,-999.0000,9,  -999.00,9,   -999.0,9,   -999.0
    49XK9406_1,  PR24,PR2402,  1,      1,      1,2,19950120,0748,  6.6873, 126.5747, 2459,   2424.4,   1.8240,2,  34.6535,2,  34.6532,6,    129.8,6,   137.21,6,    37.07,6,     0.00,6,     2.57,2, -999.000,9,-999.0000,9,  -999.00,9,   -999.0,9,   -999.0
    49XK9406_1,  PR24,PR2401,  1,     24,     35,2,19950120,1109,  6.8153, 126.4903, 2402,     49.4,  26.4640,2,  34.1294,2,  34.1332,6,    197.7,2,     2.04,2,     0.40,2,     0.02,2,     0.07,2, -999.000,9,-999.0000,9,  -999.00,9,   -999.0,9,   -999.0
    49XK9406_1,  PR24,PR2401,  1,     23,     33,2,19950120,1109,  6.8153, 126.4903, 2402,     74.8,  24.7174,2,  34.4107,2,  34.4624,2,    188.1,2,     2.52,2,     1.76,2,     0.03,2,     0.18,2, -999.000,9,-999.0000,9,  -999.00,9,   -999.0,9,   -999.0
    49XK9406_1,  PR24,PR2401,  1,     22,     32,2,19950120,1109,  6.8153, 126.4903, 2402,     97.6,  21.2719,2,  34.8562,2,  34.8422,2,   -999.0,5,     3.15,2,     3.28,2,     0.04,2,     0.30,2, -999.000,9,-999.0000,9,  -999.00,9,   -999.0,9,   -999.0
    49XK9406_1,  PR24,PR2401,  1,     21,     31,2,19950120,1109,  6.8153, 126.4903, 2402,     98.0,  21.4492,2,  34.8450,2,  34.8471,2,    177.9,2,     2.91,2,     3.01,2,     0.04,2,     0.28,2, -999.000,9,-999.0000,9,  -999.00,9,   -999.0,9,   -999.0
    49XK9406_1,  PR24,PR2401,  1,     20,     29,2,19950120,1109,  6.8153, 126.4903, 2402,     98.0,  21.7769,2,  34.8414,2,  34.8422,2,    177.5,6,     2.88,6,     3.15,6,     0.04,6,     0.30,2, -999.000,9,-999.0000,9,  -999.00,9,   -999.0,9,   -999.0
    49XK9406_1,  PR24,PR2401,  1,     19,     27,2,19950120,1109,  6.8153, 126.4903, 2402,    125.2,  16.7225,2,  34.6958,2,  34.7125,2,    165.9,2,     8.21,2,     8.95,2,     0.01,2,     0.66,2, -999.000,9,-999.0000,9,  -999.00,9,   -999.0,9,   -999.0
    49XK9406_1,  PR24,PR2401,  1,     18,     26,2,19950120,1109,  6.8153, 126.4903, 2402,    151.1,  14.6523,2,  34.5644,2,  34.5679,2,    161.9,2,    12.07,2,    12.33,2,     0.00,2,     0.88,2, -999.000,9,-999.0000,9,  -999.00,9,   -999.0,9,   -999.0
    49XK9406_1,  PR24,PR2401,  1,     17,     25,2,19950120,1109,  6.8153, 126.4903, 2402,    195.7,  13.1271,2,  34.4672,2,  34.4707,2,    159.5,2,    15.38,2,    14.75,2,     0.00,2,     1.05,2, -999.000,9,-999.0000,9,  -999.00,9,   -999.0,9,   -999.0
    49XK9406_1,  PR24,PR2401,  1,     16,     23,2,19950120,1109,  6.8153, 126.4903, 2402,    247.6,  10.8283,2,  34.3573,2,  34.3582,6,    136.3,2,    26.78,2,    21.04,2,     0.00,2,     1.50,2, -999.000,9,-999.0000,9,  -999.00,9,   -999.0,9,   -999.0
    49XK9406_1,  PR24,PR2401,  1,     15,     21,2,19950120,1109,  6.8153, 126.4903, 2402,    299.1,   9.3877,2,  34.3303,2,  34.3319,2,    113.0,2,    36.41,2,    25.99,2,     0.00,2,     1.86,2, -999.000,9,-999.0000,9,  -999.00,9,   -999.0,9,   -999.0
    49XK9406_1,  PR24,PR2401,  1,     14,     20,2,19950120,1109,  6.8153, 126.4903, 2402,    399.2,   8.4699,2,  34.3345,2,  34.3376,2,     95.9,2,    43.65,2,    29.17,2,     0.00,2,     2.07,2, -999.000,9,-999.0000,9,  -999.00,9,   -999.0,9,   -999.0
    49XK9406_1,  PR24,PR2401,  1,     13,     19,2,19950120,1109,  6.8153, 126.4903, 2402,    499.1,   8.2841,2,  34.5741,2,  34.5720,2,    109.6,2,    37.80,2,    29.83,2,     0.00,2,     2.07,2, -999.000,9,-999.0000,9,  -999.00,9,   -999.0,9,   -999.0
    49XK9406_1,  PR24,PR2401,  1,     12,     17,2,19950120,1109,  6.8153, 126.4903, 2402,    598.9,   6.5112,2,  34.4502,2,  34.4516,6,     80.2,2,    60.61,2,    34.93,2,    -0.01,2,     2.48,2, -999.000,9,-999.0000,9,  -999.00,9,   -999.0,9,   -999.0
    49XK9406_1,  PR24,PR2401,  1,     11,     15,2,19950120,1109,  6.8153, 126.4903, 2402,    698.6,   6.1530,2,  34.5125,2,  34.5133,2,     89.9,2,    60.35,2,    35.70,2,     0.00,2,     2.49,2, -999.000,9,-999.0000,9,  -999.00,9,   -999.0,9,   -999.0
    49XK9406_1,  PR24,PR2401,  1,     10,     14,2,19950120,1109,  6.8153, 126.4903, 2402,    798.8,   5.5611,2,  34.5217,2,  34.5225,2,     90.5,2,    69.20,2,    36.32,2,    -0.01,2,     2.51,2, -999.000,9,-999.0000,9,  -999.00,9,   -999.0,9,   -999.0
    49XK9406_1,  PR24,PR2401,  1,      9,     13,2,19950120,1109,  6.8153, 126.4903, 2402,    898.8,   5.0801,2,  34.5324,2,  34.5331,2,     89.7,2,    78.57,2,    37.04,2,    -0.01,2,     2.59,2, -999.000,9,-999.0000,9,  -999.00,9,   -999.0,9,   -999.0
    49XK9406_1,  PR24,PR2401,  1,      8,     11,2,19950120,1109,  6.8153, 126.4903, 2402,    998.9,   4.5726,2,  34.5571,2,  34.5573,6,     96.1,2,    86.55,2,    37.15,2,    -0.01,2,     2.60,2, -999.000,9,-999.0000,9,  -999.00,9,   -999.0,9,   -999.0
    49XK9406_1,  PR24,PR2401,  1,      7,      9,2,19950120,1109,  6.8153, 126.4903, 2402,   1248.6,   3.4473,2,  34.5801,2,  34.5806,2,     98.3,2,   109.71,2,    38.10,2,     0.00,2,     2.65,2, -999.000,9,-999.0000,9,  -999.00,9,   -999.0,9,   -999.0
    49XK9406_1,  PR24,PR2401,  1,      6,      8,2,19950120,1109,  6.8153, 126.4903, 2402,   1499.0,   2.8530,2,  34.5958,2,  34.5961,6,    102.9,2,   122.41,2,    38.16,2,     0.00,2,     2.69,2, -999.000,9,-999.0000,9,  -999.00,9,   -999.0,9,   -999.0
    49XK9406_1,  PR24,PR2401,  1,      5,      7,2,19950120,1109,  6.8153, 126.4903, 2402,   1749.4,   2.3692,2,  34.6170,2,  34.6174,2,    109.8,2,   131.50,2,    38.61,2,     0.00,2,     2.66,2, -999.000,9,-999.0000,9,  -999.00,9,   -999.0,9,   -999.0
    49XK9406_1,  PR24,PR2401,  1,      4,      5,2,19950120,1109,  6.8153, 126.4903, 2402,   1999.7,   2.0497,2,  34.6380,2,  34.6382,6,    118.9,2,   136.00,2,    38.05,2,     0.00,2,     2.62,2, -999.000,9,-999.0000,9,  -999.00,9,   -999.0,9,   -999.0
    49XK9406_1,  PR24,PR2401,  1,      3,      3,2,19950120,1109,  6.8153, 126.4903, 2402,   2249.1,   1.9338,2,  34.6454,2,  34.6443,2,    123.4,2,   137.88,2,    37.60,2,     0.00,2,     2.62,2, -999.000,9,-999.0000,9,  -999.00,9,   -999.0,9,   -999.0
    49XK9406_1,  PR24,PR2401,  1,      1,      1,2,19950120,1109,  6.8153, 126.4903, 2402,   2382.6,   1.9085,2,  34.6476,2,  34.6470,6,    125.0,6,   138.12,6,    37.39,6,     0.00,6,     2.57,2, -999.000,9,-999.0000,9,  -999.00,9,   -999.0,9,   -999.0
    49XK9406_1,  PR24,PR2401,  1,      2,      2,2,19950120,1109,  6.8153, 126.4903, 2402,   2382.7,   1.9074,2,  34.6478,2,  34.6470,2,    125.2,2,   137.98,2,    37.40,2,     0.00,2,     2.60,2, -999.000,9,-999.0000,9,  -999.00,9,   -999.0,9,   -999.0