BOTTLE,20220819CCHSIOAMB
EXPOCODE,SECT_ID,STNNBR,CASTNO,SAMPNO,BTLNBR,BTLNBR_FLAG_W,DATE,TIME,LATITUDE,LONGITUDE,DEPTH,CTDPRS,CTDTMP,CTDTMP_FLAG_W,CTDSAL,CTDSAL_FLAG_W,SALNTY,SALNTY_FLAG_W,OXYGEN,OXYGEN_FLAG_W,SILCAT,SILCAT_FLAG_W,NITRAT,NITRAT_FLAG_W,NITRIT,NITRIT_FLAG_W,PHSPHT,PHSPHT_FLAG_W,TRITUM,TRITUM_FLAG_W,HELIUM,HELIUM_FLAG_W,DELHE3,DELHE3_FLAG_W,DELC14,DELC14_FLAG_W,DELC13
,,,,,,,,,,,,DBAR,ITS-90,,PSS-78,,PSS-78,,UMOL/KG,,UMOL/KG,,UMOL/KG,,UMOL/KG,,UMOL/KG,,TU,,NMOL/KG,,PERCNT,,/MILLE,,/MILLE
    49XK9406_1,  PR23,    15,  2,     24,     35,2,19950121,1132,  7.0110, 127.2560, 8264,   1999.1,   2.0420,2,  34.6383,2,  34.6388,3,    119.2,2,   136.36,2,    37.27,2,    -0.01,2,     2.59,2, -999.000,9,-999.0000,9,  -999.00,1,   -999.0,1,   -999.0
    49XK9406_1,  PR23,    15,  2,     23,     33,2,19950121,1132,  7.0110, 127.2560, 8264,   2498.1,   1.7624,2,  34.6556,2,  34.6559,3,    131.7,2,   139.33,2,    36.44,2,    -0.01,2,     2.51,2, -999.000,9,-999.0000,9,  -999.00,1,   -999.0,1,   -999.0
    49XK9406_1,  PR23,    15,  2,     22,     32,2,19950121,1132,  7.0110, 127.2560, 8264,   2749.3,   1.6293,2,  34.6646,2,  34.6645,2,    139.3,2,   138.98,2,    36.49,2,     0.00,2,     2.52,2, -999.000,9,-999.0000,9,  -999.00,9,   -999.0,9,   -999.0
    49XK9406_1,  PR23,    15,  2,     21,     31,2,19950121,1132,  7.0110, 127.2560, 8264,   2996.8,   1.5702,2,  34.6698,2,  34.6698,6,    144.7,6,   139.04,6,    35.87,6,     0.00,6,     2.47,2, -999.000,9,-999.0000,9,  -999.00,1,   -999.0,1,   -999.0
    49XK9406_1,  PR23,    15,  2,     20,     29,2,19950121,1132,  7.0110, 127.2560, 8264,   3246.3,   1.5478,2,  34.6730,2,  34.6726,2,    147.8,2,   138.80,2,    35.71,2,     0.00,2,     2.46,2, -999.000,9,-999.0000,9,  -999.00,9,   -999.0,9,   -999.0
    49XK9406_1,  PR23,    15,  2,     19,     27,2,19950121,1132,  7.0110, 127.2560, 8264,   3498.2,   1.5428,2,  34.6757,2,  34.6755,2,    149.8,2,   138.71,2,    35.75,2,    -0.01,2,     2.47,2, -999.000,9,-999.0000,9,  -999.00,1,   -999.0,1,   -999.0
    49XK9406_1,  PR23,    15,  2,     18,     26,2,19950121,1132,  7.0110, 127.2560, 8264,   3749.9,   1.5563,2,  34.6771,2,  34.6765,2,    150.7,2,   138.07,2,    35.75,2,    -0.01,2,     2.49,2, -999.000,9,-999.0000,9,  -999.00,9,   -999.0,9,   -999.0
    49XK9406_1,  PR23,    15,  2,     17,     25,2,19950121,1132,  7.0110, 127.2560, 8264,   3998.0,   1.5735,2,  34.6780,2,  34.6775,2,    151.7,2,   138.90,2,    35.38,2,    -0.01,2,     2.45,2, -999.000,9,-999.0000,9,  -999.00,1,   -999.0,1,   -999.0
    49XK9406_1,  PR23,    15,  2,     16,     23,2,19950121,1132,  7.0110, 127.2560, 8264,   4247.1,   1.5973,2,  34.6783,2,  34.6783,2,    151.6,2,   139.17,2,    35.42,2,    -0.01,2,     2.44,2, -999.000,9,-999.0000,9,  -999.00,9,   -999.0,9,   -999.0
    49XK9406_1,  PR23,    15,  2,     15,     21,2,19950121,1132,  7.0110, 127.2560, 8264,   4498.2,   1.6234,2,  34.6785,2,  34.6783,2,    151.9,2,   138.52,2,    35.26,2,    -0.01,2,     2.44,2, -999.000,9,-999.0000,9,  -999.00,1,   -999.0,1,   -999.0
    49XK9406_1,  PR23,    15,  2,     14,     20,2,19950121,1132,  7.0110, 127.2560, 8264,   4748.5,   1.6525,2,  34.6786,2,  34.6779,2,    152.1,2,   137.76,2,    35.34,2,    -0.01,2,     2.45,2, -999.000,9,-999.0000,9,  -999.00,9,   -999.0,9,   -999.0
    49XK9406_1,  PR23,    15,  2,     13,     19,2,19950121,1132,  7.0110, 127.2560, 8264,   4997.7,   1.6830,2,  34.6787,2,  34.6787,6,    152.3,2,   139.06,2,    35.16,2,     0.00,2,     2.45,2, -999.000,9,-999.0000,9,  -999.00,1,   -999.0,1,   -999.0
    49XK9406_1,  PR23,    15,  2,     12,     17,2,19950121,1132,  7.0110, 127.2560, 8264,   5248.8,   1.7151,2,  34.6787,2,  34.6787,2,    152.4,2,   138.75,2,    35.46,2,     0.00,2,     2.45,2, -999.000,9,-999.0000,9,  -999.00,9,   -999.0,9,   -999.0
    49XK9406_1,  PR23,    15,  2,     11,     15,3,19950121,1132,  7.0110, 127.2560, 8264,   5499.3,   1.7466,2,  34.6789,2,-999.0000,9,   -999.0,5,   138.88,2,    35.49,2,    -0.02,2,     2.45,2, -999.000,9,-999.0000,9,  -999.00,9,   -999.0,9,   -999.0
    49XK9406_1,  PR23,    15,  2,     10,     14,2,19950121,1132,  7.0110, 127.2560, 8264,   5748.4,   1.7795,2,  34.6788,2,  34.6787,2,    152.6,2,   138.41,2,    35.43,2,     0.00,2,     2.44,2, -999.000,9,-999.0000,9,  -999.00,9,   -999.0,9,   -999.0
    49XK9406_1,  PR23,    15,  2,      9,     13,2,19950121,1132,  7.0110, 127.2560, 8264,   5999.6,   1.8133,2,  34.6787,2,  34.6785,2,    152.8,6,   137.86,6,    35.42,6,     0.00,6,     2.44,2, -999.000,9,-999.0000,9,  -999.00,1,   -999.0,1,   -999.0
    49XK9406_1,  PR23,    15,  2,      8,     11,2,19950121,1132,  7.0110, 127.2560, 8264,   6250.2,   1.8482,2,  34.6788,2,  34.6783,2,    152.8,2,   138.49,2,    35.33,2,    -0.01,2,     2.44,3, -999.000,9,-999.0000,9,  -999.00,9,   -999.0,9,   -999.0
    49XK9406_1,  PR23,    15,  2,      7,      9,2,19950121,1132,  7.0110, 127.2560, 8264,   6498.7,   1.8833,2,  34.6790,2,  34.6787,2,    152.9,2,   138.29,2,    35.50,2,    -0.01,2,     2.43,2, -999.000,9,-999.0000,9,  -999.00,1,   -999.0,1,   -999.0
    49XK9406_1,  PR23,    15,  2,      6,      8,2,19950121,1132,  7.0110, 127.2560, 8264,   6748.8,   1.9203,2,  34.6788,2,  34.6779,2,    152.9,2,   138.44,2,    35.61,2,    -0.01,2,     2.45,2, -999.000,9,-999.0000,9,  -999.00,9,   -999.0,9,   -999.0
    49XK9406_1,  PR23,    15,  2,      5,      7,2,19950121,1132,  7.0110, 127.2560, 8264,   6999.8,   1.9575,2,  34.6789,2,  34.6789,2,    153.0,2,   138.47,2,    35.35,2,     0.01,2,     2.44,2, -999.000,9,-999.0000,9,  -999.00,1,   -999.0,1,   -999.0
    49XK9406_1,  PR23,    15,  2,      4,      5,2,19950121,1132,  7.0110, 127.2560, 8264,   7248.9,   1.9955,2,  34.6791,2,  34.6789,2,    153.3,2,   138.26,2,    35.16,2,    -0.01,2,     2.44,2, -999.000,9,-999.0000,9,  -999.00,9,   -999.0,9,   -999.0
    49XK9406_1,  PR23,    15,  2,      3,      3,2,19950121,1132,  7.0110, 127.2560, 8264,   7498.4,   2.0339,2,  34.6792,2,  34.6789,2,    153.1,2,   138.02,2,    35.36,2,     0.00,2,     2.46,2, -999.000,9,-999.0000,9,  -999.00,1,   -999.0,1,   -999.0
    49XK9406_1,  PR23,    15,  2,      1,      1,2,19950121,1132,  7.0110, 127.2560, 8264,   7921.1,   2.1012,2,  34.6794,2,  34.6792,6,    153.1,6,   138.13,6,    35.33,6,     0.00,6,     2.45,2, -999.000,9,-999.0000,9,  -999.00,1,   -999.0,1,   -999.0
    49XK9406_1,  PR23,    15,  2,      2,      2,2,19950121,1132,  7.0110, 127.2560, 8264,   7921.5,   2.1013,2,  34.6794,2,  34.6791,2,    153.0,2,   138.39,2,    35.39,2,     0.01,2,     2.46,2, -999.000,9,-999.0000,9,  -999.00,9,   -999.0,9,   -999.0
    49XK9406_1,  PR23,    14,  1,     24,     35,2,19950121,1752,  7.0062, 127.5052, 7246,     47.5,  27.6412,2,  34.1641,2,  34.1660,6,    199.7,2,     1.13,2,     0.08,2,    -0.03,2,     0.05,2, -999.000,9,-999.0000,9,  -999.00,9,   -999.0,9,   -999.0
    49XK9406_1,  PR23,    14,  1,     23,     33,2,19950121,1752,  7.0062, 127.5052, 7246,     98.6,  21.8885,2,  34.9856,2,  34.9595,2,    172.7,6,     3.11,6,     2.33,6,     0.14,6,     0.30,2, -999.000,9,-999.0000,9,  -999.00,9,   -999.0,9,   -999.0
    49XK9406_1,  PR23,    14,  1,     22,     32,2,19950121,1752,  7.0062, 127.5052, 7246,    199.4,   9.6932,2,  34.3653,2,  34.3651,2,    102.8,2,    33.49,2,    26.40,2,     0.00,2,     1.88,2, -999.000,9,-999.0000,9,  -999.00,9,   -999.0,9,   -999.0
    49XK9406_1,  PR23,    14,  1,     21,     31,2,19950121,1752,  7.0062, 127.5052, 7246,    298.9,   9.0555,2,  34.5781,2,  34.5720,2,    107.6,2,    40.89,2,    27.96,2,     0.00,2,     1.97,2, -999.000,9,-999.0000,9,  -999.00,9,   -999.0,9,   -999.0
    49XK9406_1,  PR23,    14,  1,     20,     29,2,19950121,1752,  7.0062, 127.5052, 7246,    399.7,   8.3576,2,  34.6096,2,  34.6060,2,    124.8,2,    33.67,2,    28.23,2,     0.00,2,     1.98,2, -999.000,9,-999.0000,9,  -999.00,9,   -999.0,9,   -999.0
    49XK9406_1,  PR23,    14,  1,     19,     27,2,19950121,1752,  7.0062, 127.5052, 7246,    499.0,   7.3041,2,  34.5574,2,  34.5580,6,    115.7,2,    40.96,2,    31.40,2,    -0.01,2,     2.17,2, -999.000,9,-999.0000,9,  -999.00,9,   -999.0,9,   -999.0
    49XK9406_1,  PR23,    14,  1,     18,     26,2,19950121,1752,  7.0062, 127.5052, 7246,    599.5,   6.7293,2,  34.5341,2,  34.5333,2,     93.5,2,    50.44,2,    34.50,2,    -0.02,2,     2.39,2, -999.000,9,-999.0000,9,  -999.00,9,   -999.0,9,   -999.0
    49XK9406_1,  PR23,    14,  1,     17,     25,2,19950121,1752,  7.0062, 127.5052, 7246,    800.2,   5.8803,2,  34.5209,2,  34.5211,2,     99.5,2,    60.34,2,    35.17,2,    -0.01,2,     2.42,2, -999.000,9,-999.0000,9,  -999.00,9,   -999.0,9,   -999.0
    49XK9406_1,  PR23,    14,  1,     16,     23,2,19950121,1752,  7.0062, 127.5052, 7246,   1001.0,   4.9642,2,  34.5429,2,  34.5431,2,    100.0,2,    75.05,2,    36.62,2,    -0.02,2,     2.57,2, -999.000,9,-999.0000,9,  -999.00,9,   -999.0,9,   -999.0
    49XK9406_1,  PR23,    14,  1,     15,     21,2,19950121,1752,  7.0062, 127.5052, 7246,   1503.0,   3.0062,2,  34.5927,2,  34.5934,2,    100.9,2,   119.22,2,    38.61,2,    -0.01,2,     2.66,2, -999.000,9,-999.0000,9,  -999.00,9,   -999.0,9,   -999.0
    49XK9406_1,  PR23,    14,  1,     14,     20,2,19950121,1752,  7.0062, 127.5052, 7246,   2002.0,   2.0661,2,  34.6381,2,  34.6388,6,    118.7,2,   135.70,2,    37.60,2,    -0.01,2,     2.62,2, -999.000,9,-999.0000,9,  -999.00,9,   -999.0,9,   -999.0
    49XK9406_1,  PR23,    14,  1,     13,     19,2,19950121,1752,  7.0062, 127.5052, 7246,   2501.1,   1.7262,2,  34.6584,2,  34.6586,2,    133.5,2,   139.50,2,    36.92,2,    -0.02,2,     2.53,2, -999.000,9,-999.0000,9,  -999.00,9,   -999.0,9,   -999.0
    49XK9406_1,  PR23,    14,  1,     12,     17,2,19950121,1752,  7.0062, 127.5052, 7246,   2997.6,   1.5779,2,  34.6700,2,  34.6702,2,    143.9,6,   139.08,6,    36.14,6,    -0.03,6,     2.46,2, -999.000,9,-999.0000,9,  -999.00,9,   -999.0,9,   -999.0
    49XK9406_1,  PR23,    14,  1,     11,     15,2,19950121,1752,  7.0062, 127.5052, 7246,   3248.2,   1.5372,2,  34.6746,2,  34.6747,2,    148.8,2,   138.65,2,    35.71,2,    -0.02,2,     2.46,2, -999.000,9,-999.0000,9,  -999.00,9,   -999.0,9,   -999.0
    49XK9406_1,  PR23,    14,  1,     10,     14,2,19950121,1752,  7.0062, 127.5052, 7246,   3498.8,   1.5388,2,  34.6766,2,  34.6769,6,    150.2,2,   138.78,2,    35.72,2,    -0.02,2,     2.45,2, -999.000,9,-999.0000,9,  -999.00,9,   -999.0,9,   -999.0
    49XK9406_1,  PR23,    14,  1,      9,     13,2,19950121,1752,  7.0062, 127.5052, 7246,   3749.4,   1.5506,2,  34.6781,2,  34.6781,2,    151.3,2,   138.06,2,    35.81,2,    -0.02,2,     2.47,2, -999.000,9,-999.0000,9,  -999.00,9,   -999.0,9,   -999.0
    49XK9406_1,  PR23,    14,  1,      8,     11,2,19950121,1752,  7.0062, 127.5052, 7246,   3998.0,   1.5704,2,  34.6787,2,  34.6783,2,    151.6,2,   138.22,2,    35.76,2,    -0.02,2,     2.45,2, -999.000,9,-999.0000,9,  -999.00,9,   -999.0,9,   -999.0
    49XK9406_1,  PR23,    14,  1,      7,      9,2,19950121,1752,  7.0062, 127.5052, 7246,   4246.9,   1.5950,2,  34.6791,2,  34.6791,2,    151.7,2,   137.75,2,    35.78,2,    -0.01,2,     2.45,2, -999.000,9,-999.0000,9,  -999.00,9,   -999.0,9,   -999.0
    49XK9406_1,  PR23,    14,  1,      6,      8,2,19950121,1752,  7.0062, 127.5052, 7246,   4494.6,   1.6221,2,  34.6793,2,  34.6785,2,    152.1,2,   138.05,2,    35.74,2,    -0.01,2,     2.46,2, -999.000,9,-999.0000,9,  -999.00,9,   -999.0,9,   -999.0
    49XK9406_1,  PR23,    14,  1,      5,      7,2,19950121,1752,  7.0062, 127.5052, 7246,   4742.7,   1.6506,2,  34.6796,2,  34.6793,2,    152.2,2,   137.95,2,    35.54,2,    -0.01,2,     2.46,2, -999.000,9,-999.0000,9,  -999.00,9,   -999.0,9,   -999.0
    49XK9406_1,  PR23,    14,  1,      4,      5,2,19950121,1752,  7.0062, 127.5052, 7246,   4994.5,   1.6812,2,  34.6797,2,  34.6794,2,    152.3,2,   137.84,2,    35.57,2,    -0.01,2,     2.42,2, -999.000,9,-999.0000,9,  -999.00,9,   -999.0,9,   -999.0
    49XK9406_1,  PR23,    14,  1,      3,      3,2,19950121,1752,  7.0062, 127.5052, 7246,   5247.1,   1.7136,2,  34.6797,2,  34.6793,2,    152.3,2,   137.73,2,    35.69,2,     0.00,2,     2.44,2, -999.000,9,-999.0000,9,  -999.00,9,   -999.0,9,   -999.0
    49XK9406_1,  PR23,    14,  1,      2,      2,2,19950121,1752,  7.0062, 127.5052, 7246,   5525.8,   1.7491,2,  34.6796,2,  34.6794,2,    152.6,2,   137.81,2,    35.63,2,    -0.01,2,     2.43,2, -999.000,9,-999.0000,9,  -999.00,9,   -999.0,9,   -999.0
    49XK9406_1,  PR23,    14,  1,      1,      1,2,19950121,1752,  7.0062, 127.5052, 7246,   5525.8,   1.7492,2,  34.6795,2,  34.6796,6,    152.3,6,   137.70,6,    35.59,6,    -0.02,6,     2.43,3, -999.000,9,-999.0000,9,  -999.00,9,   -999.0,9,   -999.0
    49XK9406_1,  PR23,    13,  1,     24,     35,2,19950121,2355,  7.0065, 128.0037, 4649,     47.5,  25.8781,2,  34.7229,2,  34.7290,6,    200.0,2,     1.23,2,     0.24,2,    -0.01,2,     0.08,2, -999.000,9,-999.0000,9,  -999.00,9,   -999.0,9,   -999.0
    49XK9406_1,  PR23,    13,  1,     23,     33,2,19950121,2355,  7.0065, 128.0037, 4649,     99.2,  16.6688,2,  34.6951,2,  34.6567,2,    140.9,6,    11.83,6,    13.26,6,     0.00,6,     0.95,2, -999.000,9,-999.0000,9,  -999.00,9,   -999.0,9,   -999.0
    49XK9406_1,  PR23,    13,  1,     22,     32,2,19950121,2355,  7.0065, 128.0037, 4649,    198.5,   9.6122,2,  34.4038,2,  34.4063,6,     95.6,2,    34.97,2,    27.56,2,     0.00,2,     1.96,2, -999.000,9,-999.0000,9,  -999.00,9,   -999.0,9,   -999.0
    49XK9406_1,  PR23,    13,  1,     21,     31,2,19950121,2355,  7.0065, 128.0037, 4649,    298.8,   9.1747,2,  34.6494,2,  34.6472,2,    123.0,2,    29.37,2,    27.28,2,    -0.01,2,     1.88,2, -999.000,9,-999.0000,9,  -999.00,9,   -999.0,9,   -999.0
    49XK9406_1,  PR23,    13,  1,     20,     29,2,19950121,2355,  7.0065, 128.0037, 4649,    399.3,   7.9047,2,  34.5532,2,  34.5525,2,     94.7,2,    41.38,2,    32.06,2,    -0.01,2,     2.23,2, -999.000,9,-999.0000,9,  -999.00,9,   -999.0,9,   -999.0
    49XK9406_1,  PR23,    13,  1,     19,     27,2,19950121,2355,  7.0065, 128.0037, 4649,    498.7,   7.0206,2,  34.5253,2,  34.5264,2,     88.2,2,    49.39,2,    34.05,2,    -0.01,2,     2.39,2, -999.000,9,-999.0000,9,  -999.00,9,   -999.0,9,   -999.0
    49XK9406_1,  PR23,    13,  1,     18,     26,2,19950121,2355,  7.0065, 128.0037, 4649,    598.5,   6.4704,2,  34.5355,2,  34.5331,2,    125.9,2,    44.44,2,    32.27,2,    -0.01,2,     2.23,2, -999.000,9,-999.0000,9,  -999.00,9,   -999.0,9,   -999.0
    49XK9406_1,  PR23,    13,  1,     17,     25,2,19950121,2355,  7.0065, 128.0037, 4649,    799.5,   5.8034,2,  34.5340,2,  34.5347,2,    110.5,2,    58.09,2,    34.61,2,    -0.01,2,     2.43,2, -999.000,9,-999.0000,9,  -999.00,9,   -999.0,9,   -999.0
    49XK9406_1,  PR23,    13,  1,     16,     23,2,19950121,2355,  7.0065, 128.0037, 4649,    999.9,   4.9168,2,  34.5429,2,  34.5439,6,     95.2,2,    79.85,2,    36.84,2,    -0.01,2,     2.60,2, -999.000,9,-999.0000,9,  -999.00,9,   -999.0,9,   -999.0
    49XK9406_1,  PR23,    13,  1,     15,     21,2,19950121,2355,  7.0065, 128.0037, 4649,   1247.2,   3.6995,2,  34.5622,2,  34.5624,2,     92.6,2,   107.21,2,    38.03,2,    -0.01,2,     2.69,2, -999.000,9,-999.0000,9,  -999.00,9,   -999.0,9,   -999.0
    49XK9406_1,  PR23,    13,  1,     14,     20,2,19950121,2355,  7.0065, 128.0037, 4649,   1500.0,   2.9999,2,  34.5932,2,  34.5936,2,    101.1,2,   119.31,2,    38.31,2,    -0.01,2,     2.70,2, -999.000,9,-999.0000,9,  -999.00,9,   -999.0,9,   -999.0
    49XK9406_1,  PR23,    13,  1,     13,     19,2,19950121,2355,  7.0065, 128.0037, 4649,   1748.2,   2.5059,2,  34.6204,2,  34.6213,2,    112.7,2,   127.22,2,    38.61,2,    -0.01,2,     2.64,2, -999.000,9,-999.0000,9,  -999.00,9,   -999.0,9,   -999.0
    49XK9406_1,  PR23,    13,  1,     12,     17,2,19950121,2355,  7.0065, 128.0037, 4649,   1998.7,   2.1280,2,  34.6333,2,  34.6323,6,    117.0,2,   136.08,2,    38.43,2,     0.00,2,     2.63,2, -999.000,9,-999.0000,9,  -999.00,9,   -999.0,9,   -999.0
    49XK9406_1,  PR23,    13,  1,     11,     15,2,19950121,2355,  7.0065, 128.0037, 4649,   2498.3,   1.7738,2,  34.6563,2,  34.6567,2,    131.8,2,   139.71,2,    37.55,2,     0.00,2,     2.54,2, -999.000,9,-999.0000,9,  -999.00,9,   -999.0,9,   -999.0
    49XK9406_1,  PR23,    13,  1,     10,     14,2,19950121,2355,  7.0065, 128.0037, 4649,   2749.4,   1.6719,2,  34.6629,2,  34.6631,3,    137.4,2,   140.59,2,    37.15,2,    -0.01,2,     2.52,2, -999.000,9,-999.0000,9,  -999.00,9,   -999.0,9,   -999.0
    49XK9406_1,  PR23,    13,  1,      9,     13,2,19950121,2355,  7.0065, 128.0037, 4649,   3001.6,   1.6010,2,  34.6684,2,  34.6679,2,    143.0,6,   139.66,6,    36.30,3,    -0.02,6,     2.48,2, -999.000,9,-999.0000,9,  -999.00,9,   -999.0,9,   -999.0
    49XK9406_1,  PR23,    13,  1,      8,     11,2,19950121,2355,  7.0065, 128.0037, 4649,   3248.4,   1.5513,2,  34.6735,2,  34.6736,2,    147.8,2,   139.33,2,    35.55,2,    -0.01,2,     2.46,2, -999.000,9,-999.0000,9,  -999.00,9,   -999.0,9,   -999.0
    49XK9406_1,  PR23,    13,  1,      7,      9,2,19950121,2355,  7.0065, 128.0037, 4649,   3544.8,   1.5311,2,  34.6776,2,  34.6773,6,    151.0,2,   138.84,2,    35.35,2,     0.00,2,     2.44,2, -999.000,9,-999.0000,9,  -999.00,9,   -999.0,9,   -999.0
    49XK9406_1,  PR23,    13,  1,      6,      8,2,19950121,2355,  7.0065, 128.0037, 4649,   3747.4,   1.5427,2,  34.6787,2,  34.6785,2,    152.2,2,   138.63,2,    35.43,2,    -0.01,2,     2.45,2, -999.000,9,-999.0000,9,  -999.00,9,   -999.0,9,   -999.0
    49XK9406_1,  PR23,    13,  1,      5,      7,2,19950121,2355,  7.0065, 128.0037, 4649,   3996.3,   1.5648,2,  34.6790,2,  34.6793,2,    152.5,2,   138.48,2,    35.36,2,     0.00,2,     2.45,2, -999.000,9,-999.0000,9,  -999.00,9,   -999.0,9,   -999.0
    49XK9406_1,  PR23,    13,  1,      4,      5,2,19950121,2355,  7.0065, 128.0037, 4649,   4249.0,   1.5924,2,  34.6792,2,  34.6791,2,    152.6,2,   138.51,2,    35.33,2,     0.00,2,     2.43,2, -999.000,9,-999.0000,9,  -999.00,9,   -999.0,9,   -999.0
    49XK9406_1,  PR23,    13,  1,      3,      3,2,19950121,2355,  7.0065, 128.0037, 4649,   4499.6,   1.6208,2,  34.6792,2,  34.6793,2,    152.5,2,   138.59,2,    35.56,2,     0.00,2,     2.46,2, -999.000,9,-999.0000,9,  -999.00,9,   -999.0,9,   -999.0
    49XK9406_1,  PR23,    13,  1,      1,      1,2,19950121,2355,  7.0065, 128.0037, 4649,   4819.8,   1.6594,2,  34.6793,2,  34.6789,6,    152.4,6,   138.66,6,    35.42,6,     0.00,6,     2.44,2, -999.000,9,-999.0000,9,  -999.00,9,   -999.0,9,   -999.0
    49XK9406_1,  PR23,    13,  1,      2,      2,2,19950121,2355,  7.0065, 128.0037, 4649,   4820.8,   1.6595,2,  34.6792,2,  34.6793,2,    152.6,2,   138.52,2,    35.52,2,    -0.01,2,     2.46,2, -999.000,9,-999.0000,9,  -999.00,9,   -999.0,9,   -999.0