BOTTLE,20220819CCHSIOAMB
EXPOCODE,SECT_ID,STNNBR,CASTNO,SAMPNO,BTLNBR,BTLNBR_FLAG_W,DATE,TIME,LATITUDE,LONGITUDE,DEPTH,CTDPRS,CTDPRS_FLAG_W,CTDTMP,CTDTMP_FLAG_W,SBE35,SBE35_FLAG_W,CTDSAL,CTDSAL_FLAG_W,SALNTY,SALNTY_FLAG_W,CTDOXY,CTDOXY_FLAG_W,OXYGEN,OXYGEN_FLAG_W,XMISS,CTDXMISSCP,XMISS_FLAG_W,FLUOR,FLUOR_FLAG_W,CHLORA,CHLORA_FLAG_W,PAR,PAR_FLAG_W
,,,,,,,,UTC,DEG,DEG,METERS,DBAR,,ITS-90,,ITS-90,,PSS-78,,PSS-78,,UMOL/KG,,UMOL/KG,,%TRANS,/METER,,MG/K^3,,MG/CUM,,UE/SQM/S,
  49NZ20121105,   999,   C03,  1,     36, X12J36,2,20121113,0947, 10.0032, 150.4470, 5730,     10.5,2,  29.5125,2,  29.51265,2,  34.3299,2,  34.3302,2,   194.60,2,   194.46,2,   99.240,   0.0305,2,    0.034,2,  -999.00,9,    0.478,2
  49NZ20121105,   999,   C03,  1,     35, X12J35,2,20121113,0947, 10.0032, 150.4470, 5730,     49.8,2,  29.4985,2,  29.49866,2,  34.3286,2,  34.3296,2,   194.32,2,   194.54,2,   99.298,   0.0282,2,    0.036,2,  -999.00,9,    0.000,2
  49NZ20121105,   999,   C03,  1,     34, X12J34,2,20121113,0947, 10.0032, 150.4470, 5730,    100.4,2,  27.4730,2,  27.46922,2,  35.0004,2,  35.0004,2,   205.49,2,   206.41,2,   99.035,   0.0388,2,    0.284,2,  -999.00,9,    0.000,2
  49NZ20121105,   999,   C03,  1,     33, X12J33,2,20121113,0947, 10.0032, 150.4470, 5730,    150.1,2,  22.5836,2,  22.57773,2,  35.0626,2,  35.0653,2,   176.90,2,   177.06,2,   99.303,   0.0280,2,    0.381,2,  -999.00,9,    0.000,2
  49NZ20121105,   999,   C03,  1,     32, X12J32,2,20121113,0947, 10.0032, 150.4470, 5730,    198.9,2,  16.5278,2,  16.48846,2,  34.6850,2,  34.6849,2,   158.62,2,   158.84,2,   99.697,   0.0121,2,    0.099,2,  -999.00,9,    0.000,2
  49NZ20121105,   999,   C03,  1,     31, X12J31,2,20121113,0947, 10.0032, 150.4470, 5730,    249.8,2,  11.6179,2,  11.61715,2,  34.4833,2,  34.4826,2,    86.08,2,    86.21,2,   99.760,   0.0096,2,    0.005,2,  -999.00,9,    0.000,2
  49NZ20121105,   999,   C03,  1,     30, X12J30,2,20121113,0947, 10.0032, 150.4470, 5730,    299.0,2,   9.8423,2,   9.84242,2,  34.5437,2,  34.5430,2,    63.70,2,    63.74,2,   99.729,   0.0109,2,    0.006,2,  -999.00,9,    0.000,2
  49NZ20121105,   999,   C03,  1,     29, X12J29,2,20121113,0947, 10.0032, 150.4470, 5730,    399.3,2,   8.5349,2,   8.53495,2,  34.5494,2,  34.5509,2,    67.11,2,    67.16,2,   99.764,   0.0095,2,    0.007,2,  -999.00,9,    0.000,2
  49NZ20121105,   999,   C03,  1,     28, X12J28,2,20121113,0947, 10.0032, 150.4470, 5730,    499.4,2,   7.7270,2,   7.72660,2,  34.5459,2,  34.5451,2,    72.22,2,    72.22,2,   99.835,   0.0066,2,    0.007,2,  -999.00,9,    0.000,2
  49NZ20121105,   999,   C03,  1,     27, X12J27,2,20121113,0947, 10.0032, 150.4470, 5730,    599.5,2,   6.7549,2,   6.75380,2,  34.5336,2,  34.5329,2,    72.25,2,    72.33,2,   99.898,   0.0041,2,    0.008,2,  -999.00,9,    0.000,2
  49NZ20121105,   999,   C03,  1,     26, X12J26,2,20121113,0947, 10.0032, 150.4470, 5730,    699.2,2,   6.0734,2,   6.07302,2,  34.5285,2,  34.5283,2,    76.05,2,    76.27,2,   99.904,   0.0038,2,    0.007,2,  -999.00,9,    0.000,2
  49NZ20121105,   999,   C03,  1,     25, X12J25,2,20121113,0947, 10.0032, 150.4470, 5730,    798.4,2,   5.5064,2,   5.51271,2,  34.5312,2,  34.5305,2,    78.51,2,    78.28,2,   99.916,   0.0034,2,    0.007,2,  -999.00,9,    0.000,2
  49NZ20121105,   999,   C03,  1,     24, X12J24,2,20121113,0947, 10.0032, 150.4470, 5730,    899.7,2,   5.1497,2,   5.15188,2,  34.5395,2,  34.5395,2,    78.94,2,    78.94,2,   99.896,   0.0042,2,    0.007,2,  -999.00,9,    0.000,2
  49NZ20121105,   999,   C03,  1,     23, X12J23,2,20121113,0947, 10.0032, 150.4470, 5730,   1000.5,2,   4.5981,2,   4.59850,2,  34.5494,2,  34.5494,2,    82.95,2,    82.97,2,   99.919,   0.0032,2,    0.007,2,  -999.00,9,    0.000,2
  49NZ20121105,   999,   C03,  1,     22, X12J22,2,20121113,0947, 10.0032, 150.4470, 5730,   1199.5,2,   3.7509,2,   3.75088,2,  34.5678,2,  34.5679,2,    84.25,2,    84.23,2,   99.933,   0.0027,2,    0.007,2,  -999.00,9,    0.000,2
  49NZ20121105,   999,   C03,  1,     21, X12J21,2,20121113,0947, 10.0032, 150.4470, 5730,   1399.8,2,   3.1796,2,   3.17983,2,  34.5885,2,  34.5888,2,    93.28,2,    93.32,2,   99.933,   0.0027,2,    0.006,2,  -999.00,9,    0.000,2
  49NZ20121105,   999,   C03,  1,     20, X12J20,2,20121113,0947, 10.0032, 150.4470, 5730,   1599.4,2,   2.7306,2,   2.73149,2,  34.6065,2,  34.6067,2,    98.45,2,    98.57,2,   99.925,   0.0030,2,    0.005,2,  -999.00,9,    0.000,2
  49NZ20121105,   999,   C03,  1,     19, X12J19,2,20121113,0947, 10.0032, 150.4470, 5730,   1800.1,2,   2.4120,2,   2.41210,2,  34.6232,2,  34.6231,2,   104.81,2,   104.81,2,   99.925,   0.0030,2,    0.004,2,  -999.00,9,    0.000,2
  49NZ20121105,   999,   C03,  1,     18, X12J18,2,20121113,0947, 10.0032, 150.4470, 5730,   2001.8,2,   2.1963,2,   2.19613,2,  34.6354,2,  34.6345,2,   109.39,2,   109.24,2,   99.916,   0.0034,2,    0.004,2,  -999.00,9,    0.000,2
  49NZ20121105,   999,   C03,  1,     17, X12J17,2,20121113,0947, 10.0032, 150.4470, 5730,    599.6,2,   6.7992,2,   6.80420,2,  34.5330,2,-999.0000,9,    72.46,2,  -999.00,9,   99.866,   0.0054,2,    0.008,2,  -999.00,9,    0.000,2
  49NZ20121105,   999,   C03,  1,     16, X12J16,2,20121113,0947, 10.0032, 150.4470, 5730,    599.7,2,   6.8042,2,   6.79624,2,  34.5323,2,-999.0000,9,    72.53,2,  -999.00,9,   99.873,   0.0051,2,    0.007,2,  -999.00,9,    0.000,2
  49NZ20121105,   999,   C03,  1,     15, X12J15,2,20121113,0947, 10.0032, 150.4470, 5730,    599.6,2,   6.7765,2,   6.77105,2,  34.5324,2,-999.0000,9,    72.55,2,  -999.00,9,   99.868,   0.0053,2,    0.007,2,  -999.00,9,    0.000,2
  49NZ20121105,   999,   C03,  1,     14, X12J14,2,20121113,0947, 10.0032, 150.4470, 5730,    599.3,2,   6.7598,2,   6.75690,2,  34.5329,2,-999.0000,9,    72.39,2,  -999.00,9,   99.871,   0.0052,2,    0.007,2,  -999.00,9,    0.000,2
  49NZ20121105,   999,   C03,  1,     13, X12J13,2,20121113,0947, 10.0032, 150.4470, 5730,    599.3,2,   6.7520,2,   6.75185,2,  34.5331,2,-999.0000,9,    72.41,2,    72.17,2,   99.887,   0.0045,2,    0.007,2,  -999.00,9,    0.000,2
  49NZ20121105,   999,   C03,  1,     12, X12J12,2,20121113,0947, 10.0032, 150.4470, 5730,   2002.2,2,   2.1932,2,   2.19292,2,  34.6357,2,-999.0000,9,   109.34,2,  -999.00,9,   99.935,   0.0026,2,    0.006,2,  -999.00,9,    0.000,2
  49NZ20121105,   999,   C03,  1,     11, X12J11,2,20121113,0947, 10.0032, 150.4470, 5730,   2002.5,2,   2.1931,2,   2.19299,2,  34.6356,2,-999.0000,9,   109.34,2,  -999.00,9,   99.939,   0.0024,2,    0.006,2,  -999.00,9,    0.000,2
  49NZ20121105,   999,   C03,  1,     10, X12J10,2,20121113,0947, 10.0032, 150.4470, 5730,   2002.5,2,   2.1930,2,   2.19287,2,  34.6356,2,-999.0000,9,   109.36,2,  -999.00,9,   99.946,   0.0022,2,    0.005,2,  -999.00,9,    0.000,2
  49NZ20121105,   999,   C03,  1,      9, X12J09,2,20121113,0947, 10.0032, 150.4470, 5730,   2002.4,2,   2.1932,2,   2.19325,2,  34.6356,2,-999.0000,9,   109.34,2,  -999.00,9,   99.942,   0.0023,2,    0.005,2,  -999.00,9,    0.000,2
  49NZ20121105,   999,   C03,  1,      8, X12J08,2,20121113,0947, 10.0032, 150.4470, 5730,   2002.4,2,   2.1932,2,   2.19304,2,  34.6356,2,-999.0000,9,   109.33,2,  -999.00,9,   99.944,   0.0022,2,    0.006,2,  -999.00,9,    0.000,2
  49NZ20121105,   999,   C03,  1,      7, X12J07,2,20121113,0947, 10.0032, 150.4470, 5730,   2002.3,2,   2.1940,2,   2.19370,2,  34.6355,2,-999.0000,9,   109.39,2,  -999.00,9,   99.946,   0.0022,2,    0.005,2,  -999.00,9,    0.000,2
  49NZ20121105,   999,   C03,  1,      6, X12J06,2,20121113,0947, 10.0032, 150.4470, 5730,   2002.3,2,   2.1937,2,   2.19351,2,  34.6355,2,-999.0000,9,   109.36,2,  -999.00,9,   99.944,   0.0022,2,    0.005,2,  -999.00,9,    0.000,2
  49NZ20121105,   999,   C03,  1,      5, X12J05,2,20121113,0947, 10.0032, 150.4470, 5730,   2002.4,2,   2.1936,2,   2.19351,2,  34.6356,2,-999.0000,9,   109.32,2,  -999.00,9,   99.937,   0.0025,2,    0.005,2,  -999.00,9,    0.000,2
  49NZ20121105,   999,   C03,  1,      4, X12J04,2,20121113,0947, 10.0032, 150.4470, 5730,   2002.1,2,   2.1943,2,   2.19416,2,  34.6355,2,-999.0000,9,   109.32,2,  -999.00,9,   99.925,   0.0030,2,    0.005,2,  -999.00,9,    0.000,2
  49NZ20121105,   999,   C03,  1,      3, X12J03,2,20121113,0947, 10.0032, 150.4470, 5730,   2002.3,2,   2.1939,2,   2.19395,2,  34.6356,2,-999.0000,9,   109.31,2,  -999.00,9,   99.923,   0.0031,2,    0.005,2,  -999.00,9,    0.000,2
  49NZ20121105,   999,   C03,  1,      2, X12J02,2,20121113,0947, 10.0032, 150.4470, 5730,   2002.0,2,   2.1941,2,   2.19412,2,  34.6355,2,-999.0000,9,   109.37,2,  -999.00,9,   99.919,   0.0032,2,    0.005,2,  -999.00,9,    0.000,2
  49NZ20121105,   999,   C03,  1,      1, X12J01,2,20121113,0947, 10.0032, 150.4470, 5730,      4.8,2,  29.5002,2,  29.50006,2,  34.3309,2,-999.0000,9,   194.78,2,  -999.00,9,   99.229,   0.0310,2,    0.033,2,  -999.00,9,    2.294,2