BOTTLE,20220819CCHSIOAMB
# Removed rows with no data
#BOTTLE,20161117CCHSIORJL
#Change XMISSCP to CTDXMISSCP
#Change XMISSCP units from METER to /METER
#BOTTLE,20161116CCHSIORJL
#Change SECT to SECT_ID
#Change XMISSCP units from /METER to METER
#Change FLUOR units from MG/CUM to MG/M^3
#BOTTLE,20141202JAMSTECRIGC
#Software_Version: btl_exchange.rb_v4.0 (occrp)
#ORIGINAL_SUM_FILE: 49NZ20121105_sum.txt Fri Feb 22 15:55:50 +0900 2013
#ORIGINAL_HYD_FILE: MR12050120140825000000.csv Fri Nov 28 09:13:14 +0900 2014
#DEPTH_TYPE: COR
#EVENT_CODE: BO
EXPOCODE,SECT_ID,STNNBR,CASTNO,SAMPNO,BTLNBR,BTLNBR_FLAG_W,DATE,TIME,LATITUDE,LONGITUDE,DEPTH,CTDPRS,CTDPRS_FLAG_W,CTDTMP,CTDTMP_FLAG_W,SBE35,SBE35_FLAG_W,CTDSAL,CTDSAL_FLAG_W,SALNTY,SALNTY_FLAG_W,CTDOXY,CTDOXY_FLAG_W,OXYGEN,OXYGEN_FLAG_W,XMISS,CTDXMISSCP,XMISS_FLAG_W,FLUOR,FLUOR_FLAG_W,CHLORA,CHLORA_FLAG_W,PAR,PAR_FLAG_W
,,,,,,,,UTC,DEG,DEG,METERS,DBAR,,ITS-90,,ITS-90,,PSS-78,,PSS-78,,UMOL/KG,,UMOL/KG,,%TRANS,/METER,,MG/K^3,,MG/CUM,,UE/SQM/S,
  49NZ20121105,   999,   C01,  1,     36, X12J36,2,20121112,0632, 14.0022, 149.2640, 5110,     10.5,2,  29.4511,2,  29.45108,2,  34.5736,2,  34.5719,2,   194.88,2,   194.67,2,   99.236,   0.0307,2,    0.036,2,  -999.00,9,    2.131,2
  49NZ20121105,   999,   C01,  1,     35, X12J35,2,20121112,0632, 14.0022, 149.2640, 5110,     49.6,2,  29.4224,2,  29.42259,2,  34.5755,2,  34.5743,2,   194.87,2,   194.81,2,   99.257,   0.0298,2,    0.032,2,  -999.00,9,    0.790,2
  49NZ20121105,   999,   C01,  1,     34, X12J34,2,20121112,0632, 14.0022, 149.2640, 5110,    100.5,2,  27.6668,2,  27.66794,2,  35.0399,2,  35.0398,2,   201.89,2,   203.18,2,   99.204,   0.0320,2,    0.163,2,  -999.00,9,    0.219,2
  49NZ20121105,   999,   C01,  1,     33, X12J33,2,20121112,0632, 14.0022, 149.2640, 5110,    150.0,2,  24.7725,2,  24.75673,2,  35.1355,2,  35.1416,2,   183.07,2,   183.67,2,   99.359,   0.0257,2,    0.364,2,  -999.00,9,    0.000,2
  49NZ20121105,   999,   C01,  1,     32, X12J32,2,20121112,0632, 14.0022, 149.2640, 5110,    200.9,2,  21.3075,2,  21.30219,2,  35.1275,2,  35.1275,2,   177.63,2,   177.51,2,   99.729,   0.0109,2,    0.057,2,  -999.00,9,    0.000,2
  49NZ20121105,   999,   C01,  1,     31, X12J31,2,20121112,0632, 14.0022, 149.2640, 5110,    249.3,2,  17.0757,2,  17.07617,2,  34.7377,2,  34.7030,2,   174.97,2,   174.00,2,   99.875,   0.0050,2,   -0.005,2,  -999.00,9,    0.000,2
  49NZ20121105,   999,   C01,  1,     30, X12J30,2,20121112,0632, 14.0022, 149.2640, 5110,    299.4,2,  13.8433,2,  13.85028,2,  34.4483,2,  34.4588,2,   161.48,2,   161.73,2,   99.902,   0.0039,2,   -0.004,2,  -999.00,9,    0.000,2
  49NZ20121105,   999,   C01,  1,     29, X12J29,2,20121112,0632, 14.0022, 149.2640, 5110,    399.8,2,   8.8278,2,   8.82648,2,  34.2352,2,  34.2343,2,   106.67,2,   106.86,2,   99.919,   0.0032,2,    0.002,2,  -999.00,9,    0.000,2
  49NZ20121105,   999,   C01,  1,     28, X12J28,2,20121112,0632, 14.0022, 149.2640, 5110,    499.9,2,   6.9572,2,   6.95700,2,  34.3290,2,  34.3289,2,    61.37,2,    61.35,2,   99.910,   0.0036,2,    0.007,2,  -999.00,9,    0.000,2
  49NZ20121105,   999,   C01,  1,     27, X12J27,2,20121112,0632, 14.0022, 149.2640, 5110,    599.7,2,   6.0247,2,   6.02404,2,  34.4089,2,  34.4092,2,    57.54,2,    57.42,2,   99.923,   0.0031,2,    0.007,2,  -999.00,9,    0.000,2
  49NZ20121105,   999,   C01,  1,     26, X12J26,2,20121112,0632, 14.0022, 149.2640, 5110,    698.9,2,   5.4226,2,   5.42278,2,  34.4600,2,  34.4602,2,    61.68,2,    61.79,2,   99.962,   0.0015,2,    0.007,2,  -999.00,9,    0.000,2
  49NZ20121105,   999,   C01,  1,     25, X12J25,2,20121112,0632, 14.0022, 149.2640, 5110,    798.6,2,   4.9751,2,   4.97531,2,  34.4874,2,  34.4874,2,    66.47,2,    66.35,2,   99.962,   0.0015,2,    0.007,2,  -999.00,9,    0.000,2
  49NZ20121105,   999,   C01,  1,     24, X12J24,2,20121112,0632, 14.0022, 149.2640, 5110,    899.3,2,   4.4696,2,   4.47023,2,  34.5176,2,  34.5177,2,    72.55,2,    72.29,2,   99.975,   0.0010,2,    0.006,2,  -999.00,9,    0.000,2
  49NZ20121105,   999,   C01,  1,     23, X12J23,2,20121112,0632, 14.0022, 149.2640, 5110,   1001.2,2,   4.0141,2,   4.01432,2,  34.5422,2,  34.5424,2,    77.42,2,    77.17,2,   99.996,   0.0002,2,    0.006,2,  -999.00,9,    0.000,2
  49NZ20121105,   999,   C01,  1,     22, X12J22,2,20121112,0632, 14.0022, 149.2640, 5110,   1200.7,2,   3.4236,2,   3.42422,2,  34.5668,2,  34.5668,2,    83.54,2,    83.61,2,   99.983,   0.0007,2,    0.006,2,  -999.00,9,    0.000,2
  49NZ20121105,   999,   C01,  1,     21, X12J21,2,20121112,0632, 14.0022, 149.2640, 5110,   1400.0,2,   2.9604,2,   2.96029,2,  34.5845,2,  34.5845,2,    89.96,2,    89.93,2,   99.994,   0.0002,2,    0.004,2,  -999.00,9,    0.000,2
  49NZ20121105,   999,   C01,  1,     20, X12J20,2,20121112,0632, 14.0022, 149.2640, 5110,   1601.6,2,   2.6377,2,   2.63774,2,  34.5982,2,  34.5978,2,    94.61,2,    94.60,2,   99.973,   0.0011,2,    0.004,2,  -999.00,9,    0.000,2
  49NZ20121105,   999,   C01,  1,     19, X12J19,2,20121112,0632, 14.0022, 149.2640, 5110,   1800.4,2,   2.4233,2,   2.42320,2,  34.6112,2,  34.6112,2,   100.44,2,   100.60,2,  100.000,  -0.0000,2,    0.003,2,  -999.00,9,    0.000,2
  49NZ20121105,   999,   C01,  1,     18, X12J18,2,20121112,0632, 14.0022, 149.2640, 5110,   2001.9,2,   2.1962,2,   2.19644,2,  34.6269,2,  34.6256,2,   107.41,2,   107.29,2,   99.996,   0.0002,2,    0.007,2,  -999.00,9,    0.000,2
  49NZ20121105,   999,   C01,  1,     17, X12J17,2,20121112,0632, 14.0022, 149.2640, 5110,   2001.6,2,   2.1981,2,   2.19857,2,  34.6269,2,  34.6256,2,   107.39,2,   107.42,2,   99.998,   0.0001,2,    0.006,2,  -999.00,9,    0.000,2
  49NZ20121105,   999,   C01,  1,     16, X12J16,2,20121112,0632, 14.0022, 149.2640, 5110,   2001.2,2,   2.2007,2,   2.20068,2,  34.6264,2,  34.6257,2,   107.36,2,   107.41,2,   99.998,   0.0001,2,    0.007,2,  -999.00,9,    0.000,2
  49NZ20121105,   999,   C01,  1,     15, X12J15,2,20121112,0632, 14.0022, 149.2640, 5110,   2001.1,2,   2.2007,2,   2.20048,2,  34.6261,2,  34.6252,2,   107.30,2,   107.56,2,   99.998,   0.0001,2,    0.006,2,  -999.00,9,    0.000,2
  49NZ20121105,   999,   C01,  1,     14, X12J14,2,20121112,0632, 14.0022, 149.2640, 5110,   2001.0,2,   2.2004,2,   2.20027,2,  34.6261,2,  34.6250,2,   107.30,2,   107.48,2,   99.985,   0.0006,2,    0.005,2,  -999.00,9,    0.000,2
  49NZ20121105,   999,   C01,  1,     13, X12J13,2,20121112,0632, 14.0022, 149.2640, 5110,   2000.8,2,   2.2002,2,   2.20007,2,  34.6259,2,  34.6251,2,   107.24,2,   107.45,2,   99.979,   0.0008,2,    0.005,2,  -999.00,9,    0.000,2
  49NZ20121105,   999,   C01,  1,     12, X12J12,2,20121112,0632, 14.0022, 149.2640, 5110,   2000.5,2,   2.2004,2,   2.20014,2,  34.6257,2,  34.6250,2,   107.28,2,   107.45,2,   99.975,   0.0010,2,    0.005,2,  -999.00,9,    0.000,2
  49NZ20121105,   999,   C01,  1,     11, X12J11,2,20121112,0632, 14.0022, 149.2640, 5110,   2000.6,2,   2.2001,2,   2.19994,2,  34.6258,2,  34.6252,2,   107.25,2,   107.47,2,   99.969,   0.0012,2,    0.004,2,  -999.00,9,    0.000,2
  49NZ20121105,   999,   C01,  1,     10, X12J10,2,20121112,0632, 14.0022, 149.2640, 5110,   2000.4,2,   2.2003,2,   2.20017,2,  34.6257,2,  34.6249,2,   107.24,2,   107.34,2,   99.977,   0.0009,2,    0.004,2,  -999.00,9,    0.000,2
  49NZ20121105,   999,   C01,  1,      9, X12J09,2,20121112,0632, 14.0022, 149.2640, 5110,   2000.6,2,   2.2001,2,   2.19987,2,  34.6258,2,  34.6254,2,   107.25,2,   107.23,2,   99.975,   0.0010,2,    0.004,2,  -999.00,9,    0.000,2
  49NZ20121105,   999,   C01,  1,      8, X12J08,2,20121112,0632, 14.0022, 149.2640, 5110,   2000.4,2,   2.2004,2,   2.20001,2,  34.6256,2,  34.6253,2,   107.22,2,   107.16,2,   99.973,   0.0011,2,    0.004,2,  -999.00,9,    0.000,2
  49NZ20121105,   999,   C01,  1,      7, X12J07,2,20121112,0632, 14.0022, 149.2640, 5110,   2000.4,2,   2.2004,2,   2.20023,2,  34.6256,2,  34.6253,2,   107.20,2,   107.23,2,   99.975,   0.0010,2,    0.004,2,  -999.00,9,    0.000,2
  49NZ20121105,   999,   C01,  1,      6, X12J06,2,20121112,0632, 14.0022, 149.2640, 5110,   2000.6,2,   2.2002,2,   2.20001,2,  34.6256,2,  34.6250,2,   107.27,2,   107.21,2,   99.985,   0.0006,2,    0.003,2,  -999.00,9,    0.000,2
  49NZ20121105,   999,   C01,  1,      5, X12J05,2,20121112,0632, 14.0022, 149.2640, 5110,   2000.4,2,   2.2003,2,   2.20009,2,  34.6257,2,  34.6250,2,   107.24,2,   107.27,2,   99.985,   0.0006,2,    0.003,2,  -999.00,9,    0.000,2
  49NZ20121105,   999,   C01,  1,      4, X12J04,2,20121112,0632, 14.0022, 149.2640, 5110,   2000.6,2,   2.2004,2,   2.20024,2,  34.6257,2,  34.6254,2,   107.25,2,   107.18,2,   99.990,   0.0004,2,    0.004,2,  -999.00,9,    0.000,2
  49NZ20121105,   999,   C01,  1,      3, X12J03,2,20121112,0632, 14.0022, 149.2640, 5110,   2001.1,2,   2.2007,2,   2.20052,2,  34.6256,2,  34.6246,2,   107.28,2,   107.32,2,   99.998,   0.0001,2,    0.004,2,  -999.00,9,    0.000,2
  49NZ20121105,   999,   C01,  1,      2, X12J02,2,20121112,0632, 14.0022, 149.2640, 5110,   2000.4,2,   2.2009,2,   2.20081,2,  34.6256,2,  34.6250,2,   107.26,2,   107.38,2,  100.000,  -0.0000,2,    0.003,2,  -999.00,9,    0.000,2
  49NZ20121105,   999,   C01,  1,      1, X12J01,2,20121112,0632, 14.0022, 149.2640, 5110,   2001.0,2,   2.2004,2,   2.20028,2,  34.6258,2,  34.6253,2,   107.30,2,   107.33,2,  100.000,  -0.0000,2,    0.004,2,  -999.00,9,    0.000,2
  49NZ20121105,   999,   C02,  1,     36, X12J36,2,20121112,2230, 12.0002, 149.8477, 5927,   2003.6,2,   2.1720,2,   2.17190,2,  34.6326,2,  34.6318,2,   110.47,2,   110.46,2,   99.969,   0.0012,2,    0.006,2,  -999.00,9,    0.000,2
  49NZ20121105,   999,   C02,  1,     35, X12J35,2,20121112,2230, 12.0002, 149.8477, 5927,   2003.2,2,   2.1727,2,   2.17251,2,  34.6326,2,  34.6319,2,   110.50,2,   110.35,2,   99.973,   0.0011,2,    0.006,2,  -999.00,9,    0.000,2
  49NZ20121105,   999,   C02,  1,     34, X12J34,2,20121112,2230, 12.0002, 149.8477, 5927,   2003.5,2,   2.1725,2,   2.17234,2,  34.6326,2,  34.6318,2,   110.48,2,   110.43,2,   99.975,   0.0010,2,    0.006,2,  -999.00,9,    0.000,2
  49NZ20121105,   999,   C02,  1,     33, X12J33,2,20121112,2230, 12.0002, 149.8477, 5927,   2003.8,2,   2.1723,2,   2.17225,2,  34.6326,2,  34.6321,2,   110.49,2,   110.51,2,   99.975,   0.0010,2,    0.006,2,  -999.00,9,    0.000,2
  49NZ20121105,   999,   C02,  1,     32, X12J32,2,20121112,2230, 12.0002, 149.8477, 5927,   2003.3,2,   2.1726,2,   2.17249,2,  34.6326,2,  34.6320,2,   110.48,2,   110.51,2,   99.977,   0.0009,2,    0.006,2,  -999.00,9,    0.000,2
  49NZ20121105,   999,   C02,  1,     31, X12J31,2,20121112,2230, 12.0002, 149.8477, 5927,   2003.3,2,   2.1726,2,   2.17259,2,  34.6326,2,  34.6324,2,   110.47,2,   110.47,2,   99.975,   0.0010,2,    0.007,2,  -999.00,9,    0.000,2
  49NZ20121105,   999,   C02,  1,     30, X12J30,2,20121112,2230, 12.0002, 149.8477, 5927,   2003.2,2,   2.1728,2,   2.17277,2,  34.6326,2,  34.6321,2,   110.55,2,   110.43,2,   99.979,   0.0008,2,    0.006,2,  -999.00,9,    0.000,2
  49NZ20121105,   999,   C02,  1,     29, X12J29,2,20121112,2230, 12.0002, 149.8477, 5927,   2003.1,2,   2.1731,2,   2.17311,2,  34.6327,2,  34.6323,2,   110.50,2,   110.50,2,   99.977,   0.0009,2,    0.005,2,  -999.00,9,    0.000,2
  49NZ20121105,   999,   C02,  1,     28, X12J28,2,20121112,2230, 12.0002, 149.8477, 5927,   2002.7,2,   2.1736,2,   2.17365,2,  34.6326,2,  34.6323,2,   110.46,2,   110.44,2,   99.975,   0.0010,2,    0.004,2,  -999.00,9,    0.000,2
  49NZ20121105,   999,   C02,  1,     27, X12J27,2,20121112,2230, 12.0002, 149.8477, 5927,   2002.5,2,   2.1732,2,   2.17324,2,  34.6327,2,  34.6322,2,   110.53,2,   110.43,2,   99.973,   0.0011,2,    0.004,2,  -999.00,9,    0.000,2
  49NZ20121105,   999,   C02,  1,     26, X12J26,2,20121112,2230, 12.0002, 149.8477, 5927,   2003.0,2,   2.1731,2,   2.17298,2,  34.6326,2,  34.6327,2,   110.50,2,   110.36,2,   99.971,   0.0012,2,    0.004,2,  -999.00,9,    0.000,2
  49NZ20121105,   999,   C02,  1,     25, X12J25,2,20121112,2230, 12.0002, 149.8477, 5927,   2002.8,2,   2.1734,2,   2.17344,2,  34.6326,2,  34.6323,2,   110.48,2,   110.41,2,   99.969,   0.0012,2,    0.004,2,  -999.00,9,    0.000,2
  49NZ20121105,   999,   C02,  1,     24, X12J24,2,20121112,2230, 12.0002, 149.8477, 5927,   2002.3,2,   2.1739,2,   2.17386,2,  34.6325,2,  34.6325,2,   110.51,2,   110.34,2,   99.958,   0.0017,2,    0.003,2,  -999.00,9,    0.000,2
  49NZ20121105,   999,   C02,  1,     23, X12J23,2,20121112,2230, 12.0002, 149.8477, 5927,   2002.1,2,   2.1736,2,   2.17361,2,  34.6327,2,  34.6322,2,   110.49,2,   110.40,2,   99.960,   0.0016,2,    0.004,2,  -999.00,9,    0.000,2
  49NZ20121105,   999,   C02,  1,     22, X12J22,2,20121112,2230, 12.0002, 149.8477, 5927,   2002.4,2,   2.1736,2,   2.17361,2,  34.6326,2,  34.6321,2,   110.46,2,   110.31,2,   99.956,   0.0018,2,    0.004,2,  -999.00,9,    0.000,2
  49NZ20121105,   999,   C02,  1,     21, X12J21,2,20121112,2230, 12.0002, 149.8477, 5927,   2002.4,2,   2.1739,2,   2.17406,2,  34.6326,2,  34.6324,2,   110.48,2,   110.41,2,   99.948,   0.0021,2,    0.004,2,  -999.00,9,    0.000,2
  49NZ20121105,   999,   C02,  1,     20, X12J20,2,20121112,2230, 12.0002, 149.8477, 5927,   2001.6,2,   2.1752,2,   2.17525,2,  34.6325,2,  34.6322,2,   110.45,2,   110.30,2,   99.952,   0.0019,2,    0.003,2,  -999.00,9,    0.000,2
  49NZ20121105,   999,   C02,  1,     19, X12J19,2,20121112,2230, 12.0002, 149.8477, 5927,   2001.4,2,   2.1756,2,   2.17539,2,  34.6324,2,  34.6320,2,   110.44,2,   110.34,2,   99.948,   0.0021,2,    0.004,2,  -999.00,9,    0.000,2
  49NZ20121105,   999,   C02,  1,     18, X12J18,2,20121112,2230, 12.0002, 149.8477, 5927,     10.3,2,  29.4237,2,  29.42525,2,  34.5039,2,  34.5032,2,   193.94,2,   193.94,2,   99.401,   0.0240,2,    0.003,2,     0.04,2,  695.454,2
  49NZ20121105,   999,   C02,  1,     17, X12J17,2,20121112,2230, 12.0002, 149.8477, 5927,     50.1,2,  29.4665,2,  29.46628,2,  34.5763,2,  34.5763,2,   194.58,2,   194.66,2,   99.342,   0.0264,2,    0.032,2,     0.06,2,  130.264,2
  49NZ20121105,   999,   C02,  1,     16, X12J16,2,20121112,2230, 12.0002, 149.8477, 5927,    100.5,2,  27.2760,2,  27.27510,2,  35.0679,2,  35.0710,2,   200.25,2,   200.19,2,   99.252,   0.0300,2,    0.169,2,     0.17,2,   30.618,2
  49NZ20121105,   999,   C02,  1,     15, X12J15,2,20121112,2230, 12.0002, 149.8477, 5927,    151.1,2,  24.1203,2,  24.12137,2,  35.2011,2,  35.2014,2,   180.44,2,   180.44,2,   99.307,   0.0278,2,    0.338,2,     0.22,2,    2.566,2
  49NZ20121105,   999,   C02,  1,     14, X12J14,2,20121112,2230, 12.0002, 149.8477, 5927,    198.5,2,  19.5172,2,  19.51803,2,  34.9466,2,  34.9411,2,   174.18,2,   173.92,2,   99.741,   0.0104,2,    0.035,2,     0.03,2,    0.281,2
  49NZ20121105,   999,   C02,  1,     13, X12J13,2,20121112,2230, 12.0002, 149.8477, 5927,    249.1,2,  14.2130,2,  14.22191,2,  34.4731,2,  34.4462,2,   161.33,2,   159.62,2,   99.877,   0.0049,2,   -0.004,2,     0.00,2,    0.011,2
  49NZ20121105,   999,   C02,  1,     12, X12J12,2,20121112,2230, 12.0002, 149.8477, 5927,    300.1,2,  10.9653,2,  10.96656,2,  34.3342,2,  34.3277,2,   115.95,2,   115.56,2,   99.862,   0.0055,2,   -0.001,2,  -999.00,9,    0.000,2
  49NZ20121105,   999,   C02,  1,     11, X12J11,2,20121112,2230, 12.0002, 149.8477, 5927,    399.8,2,   8.2358,2,   8.23573,2,  34.4168,2,  34.4192,2,    56.05,2,    55.79,2,   99.845,   0.0062,2,    0.008,2,  -999.00,9,    0.000,2
  49NZ20121105,   999,   C02,  1,     10, X12J10,2,20121112,2230, 12.0002, 149.8477, 5927,    499.3,2,   7.0641,2,   7.06409,2,  34.4421,2,  34.4451,2,    61.57,2,    61.16,2,   99.898,   0.0041,2,    0.007,2,  -999.00,9,    0.000,2
  49NZ20121105,   999,   C02,  1,      9, X12J09,2,20121112,2230, 12.0002, 149.8477, 5927,    599.2,2,   6.3237,2,   6.32438,2,  34.4959,2,  34.4956,2,    58.91,2,    58.83,2,   99.923,   0.0031,2,    0.007,2,  -999.00,9,    0.000,2
  49NZ20121105,   999,   C02,  1,      8, X12J08,2,20121112,2230, 12.0002, 149.8477, 5927,    700.5,2,   5.6587,2,   5.65826,2,  34.5083,2,  34.5084,2,    60.30,2,    60.24,2,   99.948,   0.0021,2,    0.008,2,  -999.00,9,    0.000,2
  49NZ20121105,   999,   C02,  1,      7, X12J07,2,20121112,2230, 12.0002, 149.8477, 5927,    799.9,2,   5.2231,2,   5.22334,2,  34.5191,2,  34.5193,2,    60.64,2,    60.70,2,   99.946,   0.0022,2,    0.008,2,  -999.00,9,    0.000,2
  49NZ20121105,   999,   C02,  1,      6, X12J06,2,20121112,2230, 12.0002, 149.8477, 5927,    899.5,2,   4.7622,2,   4.76228,2,  34.5309,2,  34.5307,2,    63.70,2,    64.04,2,   99.954,   0.0018,2,    0.008,2,  -999.00,9,    0.000,2
  49NZ20121105,   999,   C02,  1,      5, X12J05,2,20121112,2230, 12.0002, 149.8477, 5927,    998.9,2,   4.3894,2,   4.38830,2,  34.5416,2,  34.5415,2,    67.52,2,    67.53,2,   99.950,   0.0020,2,    0.008,2,  -999.00,9,    0.000,2
  49NZ20121105,   999,   C02,  1,      4, X12J04,2,20121112,2230, 12.0002, 149.8477, 5927,   1198.1,2,   3.6960,2,   3.69513,2,  34.5608,2,  34.5612,2,    75.59,2,    75.52,2,   99.973,   0.0011,2,    0.007,2,  -999.00,9,    0.000,2
  49NZ20121105,   999,   C02,  1,      3, X12J03,2,20121112,2230, 12.0002, 149.8477, 5927,   1401.3,2,   3.1149,2,   3.11498,2,  34.5814,2,  34.5814,2,    84.21,2,    84.11,2,   99.987,   0.0005,2,    0.006,2,  -999.00,9,    0.000,2
  49NZ20121105,   999,   C02,  1,      2, X12J02,2,20121112,2230, 12.0002, 149.8477, 5927,   1600.2,2,   2.7006,2,   2.70062,2,  34.6019,2,  34.6019,2,    94.60,2,    94.80,2,   99.979,   0.0008,2,    0.004,2,  -999.00,9,    0.000,2
  49NZ20121105,   999,   C02,  1,      1, X12J01,2,20121112,2230, 12.0002, 149.8477, 5927,   1801.3,2,   2.3936,2,   2.39354,2,  34.6199,2,  34.6197,2,   104.95,2,   104.96,2,   99.948,   0.0021,2,    0.004,2,  -999.00,9,    0.000,2