BOTTLE,20220818CCHSIOAMB
EXPOCODE,SECT_ID,STNNBR,CASTNO,SAMPNO,BTLNBR,BTLNBR_FLAG_W,DATE,TIME,LATITUDE,LONGITUDE,DEPTH,CTDPRS,CTDPRS_FLAG_W,CTDTMP,CTDTMP_FLAG_W,SBE35,SBE35_FLAG_W,CTDSAL,CTDSAL_FLAG_W,SALNTY,SALNTY_FLAG_W,CTDOXY,CTDOXY_FLAG_W,OXYGEN,OXYGEN_FLAG_W,SILCAT,SILCAT_FLAG_W,SILUNC,NITRAT,NITRAT_FLAG_W,NRAUNC,NITRIT,NITRIT_FLAG_W,NRIUNC,PHSPHT,PHSPHT_FLAG_W,PHPUNC,CFC-11,CFC-11_FLAG_W,CFC-12,CFC-12_FLAG_W,CFC113,CFC113_FLAG_W,TCARBN,TCARBN_FLAG_W,ALKALI,ALKALI_FLAG_W,PH_TOT,PH_TMP,PH_TOT_FLAG_W,DELC13,DELC13_FLAG_W,C13ERR,DELC14,DELC14_FLAG_W,C14ERR,THETA,SIG0
,,,,,,,,,,,METERS,DBAR,,ITS-90,,ITS-90,,PSS-78,,PSS-78,,UMOL/KG,,UMOL/KG,,UMOL/KG,,UMOL/KG,UMOL/KG,,UMOL/KG,UMOL/KG,,UMOL/KG,UMOL/KG,,UMOL/KG,PMOL/KG,,PMOL/KG,,PMOL/KG,,UMOL/KG,,UMOL/KG,,,DEG C,,/MILLE,,/MILLE,/MILLE,,/MILLE,DEG C,KG/M^3
  49NZ20090410,   P21,   119,  1,     36, X12006,2,20090509,1139,-16.7500,-126.0052, 3786,     10.2,2,  27.2308,2,  27.22979,2,  36.4012,2,  36.4007,2,   200.60,2,   200.20,2,     0.55,2,     0.12,     0.98,2,     0.04,     0.02,2,     0.01,    0.328,2,    0.014,    1.502,2,    0.966,2, -999.000,5,   -999.0,9,   -999.0,9,-999.0000,-999,9,  -999.00,9,  -999.00,   -999.0,9,   -999.0,  27.2284,  23.7001
  49NZ20090410,   P21,   119,  1,     35, X12047,2,20090509,1139,-16.7500,-126.0052, 3786,     49.9,2,  27.2417,2,  27.24134,2,  36.4181,2,  36.4258,2,   199.83,2,   200.14,2,     0.55,2,     0.12,     0.86,2,     0.04,     0.02,2,     0.01,    0.333,2,    0.014,    1.514,2,    0.980,2, -999.000,5,   -999.0,9,   -999.0,9,-999.0000,-999,9,  -999.00,9,  -999.00,   -999.0,9,   -999.0,  27.2301,  23.7122
  49NZ20090410,   P21,   119,  1,     34, X12004,2,20090509,1139,-16.7500,-126.0052, 3786,     99.5,2,  23.9731,2,  23.98135,2,  36.4184,2,  36.4168,2,   198.43,2,   197.87,2,     0.60,2,     0.12,     0.24,2,     0.03,     0.20,2,     0.01,    0.341,2,    0.014,    1.777,6,    1.119,6, -999.000,5,   -999.0,9,   -999.0,9,-999.0000,-999,9,  -999.00,9,  -999.00,   -999.0,9,   -999.0,  23.9521,  24.7299
  49NZ20090410,   P21,   119,  1,     33, X12003,2,20090509,1139,-16.7500,-126.0052, 3786,    150.3,2,  22.4575,2,  22.46091,2,  36.2236,2,  36.2240,2,   191.71,2,   191.38,2,     0.52,2,     0.12,     1.04,2,     0.04,     0.73,2,     0.00,    0.374,2,    0.014,    1.905,2,    1.176,2, -999.000,5,   -999.0,9,   -999.0,9,-999.0000,-999,9,  -999.00,9,  -999.00,   -999.0,9,   -999.0,  22.4272,  25.0267
  49NZ20090410,   P21,   119,  1,     32, X12002,2,20090509,1139,-16.7500,-126.0052, 3786,    202.7,2,  20.8921,2,  20.89036,2,  35.9351,2,  35.9397,2,   189.48,2,   188.98,2,     0.57,2,     0.12,     2.81,2,     0.04,     0.03,2,     0.01,    0.475,2,    0.013,    2.063,2,    1.261,2,    0.119,2,   -999.0,9,   -999.0,9,-999.0000,-999,9,  -999.00,9,  -999.00,   -999.0,9,   -999.0,  20.8532,  25.2460
  49NZ20090410,   P21,   119,  1,     31, X12001,2,20090509,1139,-16.7500,-126.0052, 3786,    248.9,2,  18.6753,2,  18.67254,2,  35.5058,2,  35.5044,6,   188.68,2,   188.79,2,     0.72,2,     0.12,     3.83,2,     0.04,     0.02,2,     0.01,    0.497,2,    0.013,    2.287,2,    1.371,2,    0.078,2,   -999.0,9,   -999.0,9,-999.0000,-999,9,  -999.00,9,  -999.00,   -999.0,9,   -999.0,  18.6312,  25.5017
  49NZ20090410,   P21,   119,  1,     30, X12030,2,20090509,1139,-16.7500,-126.0052, 3786,    329.4,2,  12.7778,2,  12.82194,2,  34.6600,2,  34.6460,2,   164.82,2,   163.68,2,     4.43,2,     0.13,    13.68,2,     0.07,     0.01,2,     0.01,    1.204,2,    0.013,    2.595,2,    1.402,2,    0.070,2,   -999.0,9,   -999.0,9,-999.0000,-999,9,  -999.00,9,  -999.00,   -999.0,9,   -999.0,  12.7329,  26.1826
  49NZ20090410,   P21,   119,  1,     29, X12044,2,20090509,1139,-16.7500,-126.0052, 3786,    428.1,2,   8.6098,2,   8.62415,2,  34.4472,2,  34.4470,2,   105.47,2,   104.78,2,    15.60,2,     0.15,    28.91,2,     0.11,     0.01,2,     0.01,    2.245,2,    0.016,    1.255,2,    0.625,2,    0.000,2,   -999.0,9,   -999.0,9,-999.0000,-999,9,  -999.00,9,  -999.00,   -999.0,9,   -999.0,   8.5642,  26.7538
  49NZ20090410,   P21,   119,  1,     28, X12048,2,20090509,1139,-16.7500,-126.0052, 3786,    532.4,2,   6.2770,2,   6.30234,2,  34.3482,2,  34.3490,6,   176.49,2,   173.92,2,    15.77,2,     0.15,    29.73,2,     0.12,     0.01,2,     0.01,    2.105,2,    0.015,    1.058,2,    0.528,2,    0.000,2,   -999.0,9,   -999.0,9,-999.0000,-999,9,  -999.00,9,  -999.00,   -999.0,9,   -999.0,   6.2294,  27.0083
  49NZ20090410,   P21,   119,  1,     27, X12027,2,20090509,1139,-16.7500,-126.0052, 3786,    631.6,2,   5.6226,2,   5.62251,2,  34.3573,2,  34.3567,2,   162.80,2,   162.41,2,    23.63,2,     0.17,    32.22,2,     0.12,     0.01,2,     0.01,    2.261,2,    0.016,    0.430,6,    0.220,6,    0.000,6,   -999.0,9,   -999.0,9,-999.0000,-999,9,  -999.00,9,  -999.00,   -999.0,9,   -999.0,   5.5688,  27.0983
  49NZ20090410,   P21,   119,  1,     26, X12026,2,20090509,1139,-16.7500,-126.0052, 3786,    730.8,2,   5.3138,2,   5.31395,2,  34.4447,2,  34.4442,2,   127.82,2,   127.49,2,    41.54,2,     0.21,    35.51,2,     0.13,     0.01,2,     0.01,    2.497,2,    0.016,    0.078,2,    0.043,2,    0.000,2,   -999.0,9,   -999.0,9,-999.0000,-999,9,  -999.00,9,  -999.00,   -999.0,9,   -999.0,   5.2527,  27.2055
  49NZ20090410,   P21,   119,  1,     25, X12025,2,20090509,1139,-16.7500,-126.0052, 3786,    829.2,2,   4.9448,2,   4.94475,2,  34.4855,2,  34.4856,2,   112.88,2,   112.61,2,    54.05,2,     0.24,    37.40,2,     0.14,     0.01,2,     0.01,    2.634,2,    0.017,    0.028,2,    0.012,2,    0.000,2,   -999.0,9,   -999.0,9,-999.0000,-999,9,  -999.00,9,  -999.00,   -999.0,9,   -999.0,   4.8771,  27.2814
  49NZ20090410,   P21,   119,  1,     24, X12024,2,20090509,1139,-16.7500,-126.0052, 3786,    930.4,2,   4.4876,2,   4.48720,2,  34.5044,2,  34.5046,2,   110.33,2,   109.42,2,    64.08,2,     0.26,    38.12,2,     0.14,     0.01,2,     0.01,    2.700,2,    0.017,    0.009,2,    0.007,2,    0.000,2,   -999.0,9,   -999.0,9,-999.0000,-999,9,  -999.00,9,  -999.00,   -999.0,9,   -999.0,   4.4142,  27.3480
  49NZ20090410,   P21,   119,  1,     23, X12028,2,20090509,1139,-16.7500,-126.0052, 3786,   1072.1,2,   4.0266,2,   4.02644,2,  34.5243,2,  34.5244,6,   108.65,2,   108.50,2,    74.28,2,     0.28,    38.61,2,     0.14,     0.01,2,     0.01,    2.746,2,    0.017,    0.004,2,    0.000,2,    0.000,2,   -999.0,9,   -999.0,9,-999.0000,-999,9,  -999.00,9,  -999.00,   -999.0,9,   -999.0,   3.9447,  27.4135
  49NZ20090410,   P21,   119,  1,     22, X12022,2,20090509,1139,-16.7500,-126.0052, 3786,   1272.8,2,   3.4418,2,   3.44302,2,  34.5561,2,  34.5563,2,   105.11,2,   104.89,2,    89.40,2,     0.32,    39.33,2,     0.14,     0.01,2,     0.01,    2.816,2,    0.017,    0.002,2,    0.000,2,    0.000,2,   -999.0,9,   -999.0,9,-999.0000,-999,9,  -999.00,9,  -999.00,   -999.0,9,   -999.0,   3.3482,  27.4981
  49NZ20090410,   P21,   119,  1,     21, X12021,2,20090509,1139,-16.7500,-126.0052, 3786,   1471.5,2,   2.9300,2,   2.92973,2,  34.5840,2,  34.5841,2,   115.07,2,   115.06,2,   100.68,2,     0.34,    38.70,2,     0.14,     0.01,2,     0.01,    2.753,2,    0.017,    0.002,2,    0.000,2,    0.000,2,   -999.0,9,   -999.0,9,-999.0000,-999,9,  -999.00,9,  -999.00,   -999.0,9,   -999.0,   2.8253,  27.5688
  49NZ20090410,   P21,   119,  1,     20, X12020,2,20090509,1139,-16.7500,-126.0052, 3786,   1670.9,2,   2.5309,2,   2.53077,2,  34.6081,2,  34.6083,2,   127.87,2,   127.66,2,   107.52,2,     0.36,    37.65,2,     0.14,     0.01,2,     0.01,    2.669,2,    0.017,    0.000,2,    0.001,2,    0.000,2,   -999.0,9,   -999.0,9,-999.0000,-999,9,  -999.00,9,  -999.00,   -999.0,9,   -999.0,   2.4145,  27.6238
  49NZ20090410,   P21,   119,  1,     19, X12019,2,20090509,1139,-16.7500,-126.0052, 3786,   1871.3,2,   2.1987,2,   2.19853,2,  34.6317,2,  34.6317,6,   141.54,2,   141.45,2,   112.18,2,     0.37,    36.60,2,     0.14,     0.01,2,     0.01,    2.576,2,    0.016,    0.000,2,    0.000,2,    0.000,2,   -999.0,9,   -999.0,9,-999.0000,-999,9,  -999.00,9,  -999.00,   -999.0,9,   -999.0,   2.0701,  27.6710
  49NZ20090410,   P21,   119,  1,     18, X12043,2,20090509,1139,-16.7500,-126.0052, 3786,   2072.5,2,   2.0235,2,   2.02347,2,  34.6477,2,  34.6474,2,   147.84,2,   147.75,2,   115.86,2,     0.37,    36.10,2,     0.13,     0.01,2,     0.01,    2.535,2,    0.016,    0.000,2,    0.000,2,    0.000,2,   -999.0,9,   -999.0,9,-999.0000,-999,9,  -999.00,9,  -999.00,   -999.0,9,   -999.0,   1.8805,  27.6988
  49NZ20090410,   P21,   119,  1,     17, X12042,2,20090509,1139,-16.7500,-126.0052, 3786,   2270.9,2,   1.9020,2,   1.90212,2,  34.6605,2,  34.6604,2,   150.26,2,   150.09,2,   120.36,2,     0.38,    35.92,2,     0.13,     0.01,2,     0.01,    2.517,2,    0.016,    0.001,2,    0.001,2,    0.000,2,   -999.0,9,   -999.0,9,-999.0000,-999,9,  -999.00,9,  -999.00,   -999.0,9,   -999.0,   1.7439,  27.7195
  49NZ20090410,   P21,   119,  1,     16, X12016,2,20090509,1139,-16.7500,-126.0052, 3786,   2471.0,2,   1.8310,2,   1.83115,2,  34.6680,2,  34.6676,2,   151.26,2,   151.14,2,   123.47,2,     0.39,    35.77,2,     0.13,     0.01,2,     0.01,    2.505,2,    0.016,    0.001,2,    0.000,2,    0.000,2,   -999.0,9,   -999.0,9,-999.0000,-999,9,  -999.00,9,  -999.00,   -999.0,9,   -999.0,   1.6564,  27.7322
  49NZ20090410,   P21,   119,  1,     15, X12015,2,20090509,1139,-16.7500,-126.0052, 3786,   2670.5,2,   1.7843,2,   1.78444,2,  34.6722,2,  34.6719,2,   153.20,2,   153.07,2,   125.27,2,     0.39,    35.69,2,     0.13,     0.01,2,     0.01,    2.501,2,    0.016,    0.000,2,    0.000,2,    0.000,2,   -999.0,9,   -999.0,9,-999.0000,-999,9,  -999.00,9,  -999.00,   -999.0,9,   -999.0,   1.5924,  27.7404
  49NZ20090410,   P21,   119,  1,     14, X12050,2,20090509,1139,-16.7500,-126.0052, 3786,   2870.1,2,   1.7288,2,   1.72887,2,  34.6761,2,  34.6758,6,   156.22,2,   155.99,2,   126.18,2,     0.40,    35.54,2,     0.13,     0.01,2,     0.01,    2.490,2,    0.016,    0.000,2,    0.000,2,    0.000,2,   -999.0,9,   -999.0,9,-999.0000,-999,9,  -999.00,9,  -999.00,   -999.0,9,   -999.0,   1.5194,  27.7488
  49NZ20090410,   P21,   119,  1,     13, X12013,7,20090509,1139,-16.7500,-126.0052, 3786,   3081.6,2,   1.6899,2,   1.69009,2,  34.6791,2,  34.6797,2,   158.59,2,   158.49,2,   126.61,2,     0.40,    35.45,2,     0.13,     0.01,2,     0.01,    2.481,2,    0.016,    0.000,2,    0.001,2,    0.000,2,   -999.0,9,   -999.0,9,-999.0000,-999,9,  -999.00,9,  -999.00,   -999.0,9,   -999.0,   1.4610,  27.7555
  49NZ20090410,   P21,   119,  1,     12, X12012,2,20090509,1139,-16.7500,-126.0052, 3786,   3330.4,2,   1.6417,2,   1.64175,2,  34.6822,2,  34.6822,2,   161.66,2,   161.42,2,   127.34,2,     0.40,    35.27,2,     0.13,     0.01,2,     0.01,    2.468,2,    0.016,    0.000,2,    0.000,2,    0.000,2,   -999.0,9,   -999.0,9,-999.0000,-999,9,  -999.00,9,  -999.00,   -999.0,9,   -999.0,   1.3893,  27.7632
  49NZ20090410,   P21,   119,  1,     11, X12041,2,20090509,1139,-16.7500,-126.0052, 3786,   3580.2,2,   1.6262,2,   1.62617,2,  34.6840,2,  34.6841,2,   163.48,2,   163.38,2,   127.34,2,     0.40,    35.20,2,     0.13,     0.01,2,     0.01,    2.462,2,    0.016,    0.000,2,    0.001,2,    0.000,2,   -999.0,9,   -999.0,9,-999.0000,-999,9,  -999.00,9,  -999.00,   -999.0,9,   -999.0,   1.3486,  27.7675
  49NZ20090410,   P21,   119,  1,     10, X12040,9,20090509,1139,-16.7500,-126.0052, 3786,     10.2,2,  27.2316,2,  27.23114,2,  36.4015,2,-999.0000,9,   200.59,2,  -999.00,9,  -999.00,9,  -999.00,  -999.00,9,  -999.00,  -999.00,9,  -999.00, -999.000,9, -999.000, -999.000,9, -999.000,9, -999.000,9,   -999.0,9,   -999.0,9,-999.0000,-999,9,  -999.00,9,  -999.00,   -999.0,9,   -999.0,  27.2292,  23.7000
  49NZ20090410,   P21,   119,  1,      9, X12009,9,20090509,1139,-16.7500,-126.0052, 3786,   2470.7,2,   1.8311,2,   1.83125,2,  34.6681,2,-999.0000,9,   151.31,2,  -999.00,9,  -999.00,9,  -999.00,  -999.00,9,  -999.00,  -999.00,9,  -999.00, -999.000,9, -999.000, -999.000,9, -999.000,9, -999.000,9,   -999.0,9,   -999.0,9,-999.0000,-999,9,  -999.00,9,  -999.00,   -999.0,9,   -999.0,   1.6565,  27.7322
  49NZ20090410,   P21,   119,  1,      8, X12008,9,20090509,1139,-16.7500,-126.0052, 3786,   3331.5,2,   1.6419,2,   1.64183,2,  34.6822,2,-999.0000,9,   161.60,2,  -999.00,9,  -999.00,9,  -999.00,  -999.00,9,  -999.00,  -999.00,9,  -999.00, -999.000,9, -999.000, -999.000,9, -999.000,9, -999.000,9,   -999.0,9,   -999.0,9,-999.0000,-999,9,  -999.00,9,  -999.00,   -999.0,9,   -999.0,   1.3893,  27.7632
  49NZ20090410,   P21,   119,  1,      7, X12007,9,20090509,1139,-16.7500,-126.0052, 3786,   3579.6,2,   1.6263,2,   1.62621,2,  34.6840,2,-999.0000,9,   163.48,2,  -999.00,9,  -999.00,9,  -999.00,  -999.00,9,  -999.00,  -999.00,9,  -999.00, -999.000,9, -999.000, -999.000,9, -999.000,9, -999.000,9,   -999.0,9,   -999.0,9,-999.0000,-999,9,  -999.00,9,  -999.00,   -999.0,9,   -999.0,   1.3487,  27.7674
  49NZ20090410,   P21,   119,  1,      6, X12035,9,20090509,1139,-16.7500,-126.0052, 3786,   3814.3,2,   1.6207,2,   1.62049,2,  34.6854,2,-999.0000,9,   164.55,2,  -999.00,9,  -999.00,9,  -999.00,  -999.00,9,  -999.00,  -999.00,9,  -999.00, -999.000,9, -999.000, -999.000,9, -999.000,9, -999.000,9,   -999.0,9,   -999.0,9,-999.0000,-999,9,  -999.00,9,  -999.00,   -999.0,9,   -999.0,   1.3185,  27.7707
  49NZ20090410,   P21,   119,  1,      5, X12038,9,20090509,1139,-16.7500,-126.0052, 3786,   2671.2,2,   1.7845,2,   1.78452,2,  34.6722,2,-999.0000,9,   153.22,2,  -999.00,9,  -999.00,9,  -999.00,  -999.00,9,  -999.00,  -999.00,9,  -999.00, -999.000,9, -999.000, -999.000,9, -999.000,9, -999.000,9,   -999.0,9,   -999.0,9,-999.0000,-999,9,  -999.00,9,  -999.00,   -999.0,9,   -999.0,   1.5926,  27.7403
  49NZ20090410,   P21,   119,  1,      4, X12034,9,20090509,1139,-16.7500,-126.0052, 3786,   2870.6,2,   1.7284,2,   1.72848,2,  34.6762,2,-999.0000,9,   156.20,2,  -999.00,9,  -999.00,9,  -999.00,  -999.00,9,  -999.00,  -999.00,9,  -999.00, -999.000,9, -999.000, -999.000,9, -999.000,9, -999.000,9,   -999.0,9,   -999.0,9,-999.0000,-999,9,  -999.00,9,  -999.00,   -999.0,9,   -999.0,   1.5190,  27.7489
  49NZ20090410,   P21,   119,  1,      3, X12033,9,20090509,1139,-16.7500,-126.0052, 3786,   3082.6,2,   1.6899,2,   1.69005,2,  34.6790,2,-999.0000,9,   158.61,2,  -999.00,9,  -999.00,9,  -999.00,  -999.00,9,  -999.00,  -999.00,9,  -999.00, -999.000,9, -999.000, -999.000,9, -999.000,9, -999.000,9,   -999.0,9,   -999.0,9,-999.0000,-999,9,  -999.00,9,  -999.00,   -999.0,9,   -999.0,   1.4609,  27.7554
  49NZ20090410,   P21,   119,  1,      2, X12032,9,20090509,1139,-16.7500,-126.0052, 3786,    929.3,2,   4.4871,2,   4.48715,2,  34.5046,2,-999.0000,9,   109.95,2,  -999.00,9,  -999.00,9,  -999.00,  -999.00,9,  -999.00,  -999.00,9,  -999.00, -999.000,9, -999.000, -999.000,9, -999.000,9, -999.000,9,   -999.0,9,   -999.0,9,-999.0000,-999,9,  -999.00,9,  -999.00,   -999.0,9,   -999.0,   4.4138,  27.3482
  49NZ20090410,   P21,   119,  1,      1, X12046,2,20090509,1139,-16.7500,-126.0052, 3786,   3814.3,2,   1.6206,2,   1.62050,2,  34.6854,2,  34.6850,6,   164.57,2,   164.20,2,   127.54,2,     0.40,    35.13,2,     0.13,     0.01,2,     0.01,    2.460,2,    0.016,    0.000,2,    0.000,2,    0.000,2,   -999.0,9,   -999.0,9,-999.0000,-999,9,  -999.00,9,  -999.00,   -999.0,9,   -999.0,   1.3184,  27.7707