BOTTLE,20220818CCHSIOAMB
EXPOCODE,SECT_ID,STNNBR,CASTNO,SAMPNO,BTLNBR,BTLNBR_FLAG_W,DATE,TIME,LATITUDE,LONGITUDE,DEPTH,CTDPRS,CTDPRS_FLAG_W,CTDTMP,CTDTMP_FLAG_W,SBE35,SBE35_FLAG_W,CTDSAL,CTDSAL_FLAG_W,SALNTY,SALNTY_FLAG_W,CTDOXY,CTDOXY_FLAG_W,OXYGEN,OXYGEN_FLAG_W,SILCAT,SILCAT_FLAG_W,SILUNC,NITRAT,NITRAT_FLAG_W,NRAUNC,NITRIT,NITRIT_FLAG_W,NRIUNC,PHSPHT,PHSPHT_FLAG_W,PHPUNC,CFC-11,CFC-11_FLAG_W,CFC-12,CFC-12_FLAG_W,CFC113,CFC113_FLAG_W,TCARBN,TCARBN_FLAG_W,ALKALI,ALKALI_FLAG_W,PH_TOT,PH_TMP,PH_TOT_FLAG_W,DELC13,DELC13_FLAG_W,C13ERR,DELC14,DELC14_FLAG_W,C14ERR,THETA,SIG0
,,,,,,,,,,,METERS,DBAR,,ITS-90,,ITS-90,,PSS-78,,PSS-78,,UMOL/KG,,UMOL/KG,,UMOL/KG,,UMOL/KG,UMOL/KG,,UMOL/KG,UMOL/KG,,UMOL/KG,UMOL/KG,,UMOL/KG,PMOL/KG,,PMOL/KG,,PMOL/KG,,UMOL/KG,,UMOL/KG,,,DEG C,,/MILLE,,/MILLE,/MILLE,,/MILLE,DEG C,KG/M^3
  49NZ20090410,   P21,   127,  1,     36, X12006,2,20090511,0734,-16.7545,-131.3337, 3902,      9.4,2,  27.6467,2,  27.64644,2,  36.3099,2,  36.3096,2,   198.87,2,   198.49,2,     0.35,2,     0.12,     0.52,2,     0.03,     0.02,2,     0.01,    0.273,2,    0.014,    1.462,2,    0.940,2,    0.141,4,   -999.0,9,   -999.0,9,-999.0000,-999,9,  -999.00,9,  -999.00,   -999.0,9,   -999.0,  27.6445,  23.4964
  49NZ20090410,   P21,   127,  1,     35, X12047,2,20090511,0734,-16.7545,-131.3337, 3902,     49.2,2,  27.3983,2,  27.39102,2,  36.5500,2,  36.5488,2,   202.25,2,   204.34,2,     0.48,2,     0.12,     0.08,2,     0.03,     0.01,2,     0.01,    0.224,2,    0.015,    1.535,2,    0.996,2, -999.000,5,   -999.0,9,   -999.0,9,-999.0000,-999,9,  -999.00,9,  -999.00,   -999.0,9,   -999.0,  27.3868,  23.7610
  49NZ20090410,   P21,   127,  1,     34, X12004,2,20090511,0734,-16.7545,-131.3337, 3902,     99.1,2,  24.1842,2,  24.16425,2,  36.3212,2,  36.3367,2,   206.38,2,   206.75,2,     0.38,2,     0.12,     0.05,2,     0.03,     0.02,2,     0.01,    0.190,2,    0.016,    1.728,6,    1.093,6, -999.000,5,   -999.0,9,   -999.0,9,-999.0000,-999,9,  -999.00,9,  -999.00,   -999.0,9,   -999.0,  24.1631,  24.5933
  49NZ20090410,   P21,   127,  1,     33, X12003,2,20090511,0734,-16.7545,-131.3337, 3902,    149.5,2,  23.1566,2,  23.16697,2,  36.2303,2,  36.2421,2,   194.57,2,   195.07,2,     0.46,2,     0.12,     0.21,2,     0.03,     0.79,2,     0.00,    0.289,2,    0.014,    1.798,2,    1.135,2, -999.000,5,   -999.0,9,   -999.0,9,-999.0000,-999,9,  -999.00,9,  -999.00,   -999.0,9,   -999.0,  23.1258,  24.8306
  49NZ20090410,   P21,   127,  1,     32, X12002,2,20090511,0734,-16.7545,-131.3337, 3902,    199.1,2,  21.7142,2,  21.69402,2,  36.0630,2,  36.0574,2,   186.14,2,   185.74,2,     0.51,2,     0.12,     2.56,2,     0.04,     0.06,2,     0.01,    0.438,2,    0.013,    1.940,2,    1.213,2,    0.172,4,   -999.0,9,   -999.0,9,-999.0000,-999,9,  -999.00,9,  -999.00,   -999.0,9,   -999.0,  21.6750,  25.1170
  49NZ20090410,   P21,   127,  1,     31, X12001,2,20090511,0734,-16.7545,-131.3337, 3902,    249.8,2,  19.0004,2,  18.99011,2,  35.5475,2,  35.5417,6,   188.01,2,   187.91,2,     0.53,2,     0.12,     3.30,2,     0.04,     0.02,2,     0.01,    0.440,2,    0.013,    2.222,2,    1.336,2,    0.039,2,   -999.0,9,   -999.0,9,-999.0000,-999,9,  -999.00,9,  -999.00,   -999.0,9,   -999.0,  18.9556,  25.4511
  49NZ20090410,   P21,   127,  1,     30, X12030,2,20090511,0734,-16.7545,-131.3337, 3902,    300.8,2,  15.7299,2,  15.74604,2,  35.0285,2,  35.0099,2,   181.40,2,   180.97,2,     1.63,2,     0.12,     7.60,2,     0.05,     0.02,2,     0.01,    0.749,2,    0.013,    2.498,2,    1.410,2,    0.045,2,   -999.0,9,   -999.0,9,-999.0000,-999,9,  -999.00,9,  -999.00,   -999.0,9,   -999.0,  15.6827,  25.8417
  49NZ20090410,   P21,   127,  1,     29, X12044,2,20090511,0734,-16.7545,-131.3337, 3902,    399.5,2,  10.6293,2,  10.63055,2,  34.5239,2,  34.5209,2,   118.21,2,   116.53,2,    10.89,2,     0.14,    22.39,2,     0.10,     0.01,2,     0.01,    1.878,2,    0.015,    1.783,2,    0.920,2,    0.018,2,   -999.0,9,   -999.0,9,-999.0000,-999,9,  -999.00,9,  -999.00,   -999.0,9,   -999.0,  10.5809,  26.4795
  49NZ20090410,   P21,   127,  1,     28, X12048,2,20090511,0734,-16.7545,-131.3337, 3902,    501.2,2,   7.0685,2,   7.06823,2,  34.3935,2,  34.3933,6,   141.48,2,   141.30,2,    16.57,2,     0.16,    30.70,2,     0.12,     0.01,2,     0.01,    2.220,2,    0.016,    0.876,2,    0.444,2,    0.009,2,   -999.0,9,   -999.0,9,-999.0000,-999,9,  -999.00,9,  -999.00,   -999.0,9,   -999.0,   7.0207,  26.9382
  49NZ20090410,   P21,   127,  1,     27, X12027,2,20090511,0734,-16.7545,-131.3337, 3902,    601.5,2,   5.9603,2,   5.96055,2,  34.4037,2,  34.4038,2,   131.83,2,   131.78,2,    27.04,2,     0.18,    34.48,2,     0.13,     0.01,2,     0.01,    2.416,2,    0.016,    0.240,6,    0.131,6,    0.000,6,   -999.0,9,   -999.0,9,-999.0000,-999,9,  -999.00,9,  -999.00,   -999.0,9,   -999.0,   5.9076,  27.0931
  49NZ20090410,   P21,   127,  1,     26, X12026,2,20090511,0734,-16.7545,-131.3337, 3902,    699.8,2,   5.4939,2,   5.49431,2,  34.4465,2,  34.4463,2,   116.26,2,   116.21,2,    39.72,2,     0.21,    36.51,2,     0.14,     0.01,2,     0.01,    2.563,2,    0.016,    0.060,2,    0.037,2,    0.000,2,   -999.0,9,   -999.0,9,-999.0000,-999,9,  -999.00,9,  -999.00,   -999.0,9,   -999.0,   5.4345,  27.1852
  49NZ20090410,   P21,   127,  1,     25, X12025,2,20090511,0734,-16.7545,-131.3337, 3902,    800.5,2,   5.0479,2,   5.04757,2,  34.4877,2,  34.4873,2,   101.03,2,   100.82,2,    53.18,2,     0.24,    38.49,2,     0.14,     0.01,2,     0.01,    2.719,2,    0.017,    0.013,2,    0.010,2,    0.000,2,   -999.0,9,   -999.0,9,-999.0000,-999,9,  -999.00,9,  -999.00,   -999.0,9,   -999.0,   4.9821,  27.2712
  49NZ20090410,   P21,   127,  1,     24, X12024,2,20090511,0734,-16.7545,-131.3337, 3902,    899.3,2,   4.6969,2,   4.69941,2,  34.4998,2,  34.4996,2,   103.32,2,   103.05,2,    60.46,2,     0.25,    38.66,2,     0.14,     0.01,2,     0.01,    2.742,2,    0.017,    0.010,2,    0.005,2,    0.000,2,   -999.0,9,   -999.0,9,-999.0000,-999,9,  -999.00,9,  -999.00,   -999.0,9,   -999.0,   4.6247,  27.3212
  49NZ20090410,   P21,   127,  1,     23, X12028,2,20090511,0734,-16.7545,-131.3337, 3902,   1000.2,2,   4.2974,2,   4.29725,2,  34.5150,2,  34.5153,6,   102.97,2,   102.87,2,    69.01,2,     0.27,    38.99,2,     0.14,     0.01,2,     0.01,    2.770,2,    0.017,    0.006,2,    0.004,2,    0.000,2,   -999.0,9,   -999.0,9,-999.0000,-999,9,  -999.00,9,  -999.00,   -999.0,9,   -999.0,   4.2194,  27.3773
  49NZ20090410,   P21,   127,  1,     22, X12022,2,20090511,0734,-16.7545,-131.3337, 3902,   1199.2,2,   3.6768,2,   3.67853,2,  34.5411,2,  34.5414,2,   110.43,2,   109.91,2,    81.97,2,     0.30,    38.67,2,     0.14,     0.01,2,     0.01,    2.764,2,    0.017,    0.004,2,    0.003,2,    0.000,2,   -999.0,9,   -999.0,9,-999.0000,-999,9,  -999.00,9,  -999.00,   -999.0,9,   -999.0,   3.5872,  27.4629
  49NZ20090410,   P21,   127,  1,     21, X12021,2,20090511,0734,-16.7545,-131.3337, 3902,   1401.8,2,   3.1161,2,   3.11727,2,  34.5705,2,  34.5705,2,   118.20,2,   117.40,2,    94.38,2,     0.33,    38.35,2,     0.14,     0.01,2,     0.01,    2.731,2,    0.017,    0.003,2,    0.000,2,    0.000,2,   -999.0,9,   -999.0,9,-999.0000,-999,9,  -999.00,9,  -999.00,   -999.0,9,   -999.0,   3.0151,  27.5409
  49NZ20090410,   P21,   127,  1,     20, X12020,2,20090511,0734,-16.7545,-131.3337, 3902,   1600.7,2,   2.7184,2,   2.71852,2,  34.5932,2,  34.5934,2,   128.24,2,   128.21,2,   102.15,2,     0.34,    37.48,2,     0.14,     0.01,2,     0.01,    2.666,2,    0.017,    0.001,2,    0.001,2,    0.000,2,   -999.0,9,   -999.0,9,-999.0000,-999,9,  -999.00,9,  -999.00,   -999.0,9,   -999.0,   2.6055,  27.5955
  49NZ20090410,   P21,   127,  1,     19, X12019,2,20090511,0734,-16.7545,-131.3337, 3902,   1801.3,2,   2.3504,2,   2.35058,2,  34.6183,2,  34.6183,2,   138.64,2,   138.56,2,   108.77,2,     0.36,    36.81,2,     0.14,     0.01,2,     0.01,    2.594,2,    0.016,    0.000,2,    0.000,2,    0.000,2,   -999.0,9,   -999.0,9,-999.0000,-999,9,  -999.00,9,  -999.00,   -999.0,9,   -999.0,   2.2255,  27.6477
  49NZ20090410,   P21,   127,  1,     18, X12043,2,20090511,0734,-16.7545,-131.3337, 3902,   2001.3,2,   2.0955,2,   2.09545,2,  34.6406,2,  34.6406,6,   145.49,2,   145.44,2,   114.13,2,     0.37,    36.22,2,     0.13,     0.01,2,     0.01,    2.545,2,    0.016,    0.000,2,    0.000,2,    0.000,2,   -999.0,9,   -999.0,9,-999.0000,-999,9,  -999.00,9,  -999.00,   -999.0,9,   -999.0,   1.9575,  27.6871
  49NZ20090410,   P21,   127,  1,     17, X12042,2,20090511,0734,-16.7545,-131.3337, 3902,   2199.6,2,   1.9569,2,   1.95720,2,  34.6541,2,  34.6536,2,   149.56,2,   149.44,2,   117.85,2,     0.38,    36.00,2,     0.13,     0.01,2,     0.01,    2.524,2,    0.016,    0.000,2,    0.000,2,    0.000,2,   -999.0,9,   -999.0,9,-999.0000,-999,9,  -999.00,9,  -999.00,   -999.0,9,   -999.0,   1.8041,  27.7099
  49NZ20090410,   P21,   127,  1,     16, X12016,2,20090511,0734,-16.7545,-131.3337, 3902,   2399.4,2,   1.8557,2,   1.85555,2,  34.6634,2,  34.6632,2,   152.11,2,   151.96,2,   121.21,2,     0.39,    35.71,2,     0.13,     0.01,2,     0.01,    2.510,2,    0.016,    0.003,2,    0.000,2,    0.000,2,   -999.0,9,   -999.0,9,-999.0000,-999,9,  -999.00,9,  -999.00,   -999.0,9,   -999.0,   1.6871,  27.7262
  49NZ20090410,   P21,   127,  1,     15, X12015,2,20090511,0734,-16.7545,-131.3337, 3902,   2601.0,2,   1.7822,2,   1.78224,2,  34.6698,2,  34.6693,2,   154.29,2,   154.18,2,   123.40,2,     0.39,    35.68,2,     0.13,     0.01,2,     0.01,    2.498,2,    0.016,    0.000,2,    0.000,2,    0.000,2,   -999.0,9,   -999.0,9,-999.0000,-999,9,  -999.00,9,  -999.00,   -999.0,9,   -999.0,   1.5968,  27.7380
  49NZ20090410,   P21,   127,  1,     14, X12050,2,20090511,0734,-16.7545,-131.3337, 3902,   2800.1,2,   1.7201,2,   1.72021,2,  34.6744,2,  34.6742,2,   156.77,2,   156.65,2,   125.19,2,     0.39,    35.58,2,     0.13,     0.01,2,     0.01,    2.492,2,    0.016,    0.001,2,    0.000,2,    0.000,2,   -999.0,9,   -999.0,9,-999.0000,-999,9,  -999.00,9,  -999.00,   -999.0,9,   -999.0,   1.5175,  27.7476
  49NZ20090410,   P21,   127,  1,     13, X12013,7,20090511,0734,-16.7545,-131.3337, 3902,   2998.7,2,   1.6743,2,   1.67419,2,  34.6780,2,  34.6786,6,   158.54,2,   158.38,2,   126.41,2,     0.40,    35.54,2,     0.13,     0.01,2,     0.01,    2.482,2,    0.016,    0.002,2,    0.000,2,    0.000,2,   -999.0,9,   -999.0,9,-999.0000,-999,9,  -999.00,9,  -999.00,   -999.0,9,   -999.0,   1.4538,  27.7551
  49NZ20090410,   P21,   127,  1,     12, X12012,2,20090511,0734,-16.7545,-131.3337, 3902,   3250.2,2,   1.6293,2,   1.62935,2,  34.6818,2,  34.6812,2,   160.54,2,   160.35,2,   127.75,2,     0.40,    35.39,2,     0.13,     0.01,2,     0.01,    2.477,2,    0.016,    0.004,2,    0.000,2,    0.000,2,   -999.0,9,   -999.0,9,-999.0000,-999,9,  -999.00,9,  -999.00,   -999.0,9,   -999.0,   1.3852,  27.7631
  49NZ20090410,   P21,   127,  1,     11, X12041,2,20090511,0734,-16.7545,-131.3337, 3902,   3500.3,2,   1.5794,2,   1.57937,2,  34.6856,2,  34.6850,2,   163.43,2,   163.25,2,   128.34,2,     0.40,    35.22,2,     0.13,     0.01,2,     0.01,    2.464,2,    0.016,    0.000,2,    0.000,2,    0.000,2,   -999.0,9,   -999.0,9,-999.0000,-999,9,  -999.00,9,  -999.00,   -999.0,9,   -999.0,   1.3112,  27.7714
  49NZ20090410,   P21,   127,  1,     10, X12040,2,20090511,0734,-16.7545,-131.3337, 3902,   3750.3,2,   1.5740,2,   1.57387,2,  34.6871,2,  34.6870,2,   165.03,2,   164.91,2,   128.34,2,     0.40,    35.17,2,     0.13,     0.01,2,     0.01,    2.452,2,    0.016,    0.002,2,    0.000,2,    0.000,2,   -999.0,9,   -999.0,9,-999.0000,-999,9,  -999.00,9,  -999.00,   -999.0,9,   -999.0,   1.2799,  27.7748
  49NZ20090410,   P21,   127,  1,      9, X12009,9,20090511,0734,-16.7545,-131.3337, 3902,      9.4,2,  27.6463,2,  27.64584,2,  36.3100,2,-999.0000,9,   198.82,2,  -999.00,9,  -999.00,9,  -999.00,  -999.00,9,  -999.00,  -999.00,9,  -999.00, -999.000,9, -999.000, -999.000,9, -999.000,9, -999.000,9,   -999.0,9,   -999.0,9,-999.0000,-999,9,  -999.00,9,  -999.00,   -999.0,9,   -999.0,  27.6441,  23.4966
  49NZ20090410,   P21,   127,  1,      8, X12008,9,20090511,0734,-16.7545,-131.3337, 3902,    800.0,2,   5.0468,2,   5.04672,2,  34.4878,2,-999.0000,9,   101.06,2,  -999.00,9,  -999.00,9,  -999.00,  -999.00,9,  -999.00,  -999.00,9,  -999.00, -999.000,9, -999.000, -999.000,9, -999.000,9, -999.000,9,   -999.0,9,   -999.0,9,-999.0000,-999,9,  -999.00,9,  -999.00,   -999.0,9,   -999.0,   4.9810,  27.2713
  49NZ20090410,   P21,   127,  1,      7, X12007,9,20090511,0734,-16.7545,-131.3337, 3902,   1199.2,2,   3.6781,2,   3.67732,2,  34.5409,2,-999.0000,9,   110.22,2,  -999.00,9,  -999.00,9,  -999.00,  -999.00,9,  -999.00,  -999.00,9,  -999.00, -999.000,9, -999.000, -999.000,9, -999.000,9, -999.000,9,   -999.0,9,   -999.0,9,-999.0000,-999,9,  -999.00,9,  -999.00,   -999.0,9,   -999.0,   3.5885,  27.4626
  49NZ20090410,   P21,   127,  1,      6, X12035,9,20090511,0734,-16.7545,-131.3337, 3902,   1801.0,2,   2.3496,2,   2.34931,2,  34.6183,2,-999.0000,9,   138.61,2,  -999.00,9,  -999.00,9,  -999.00,  -999.00,9,  -999.00,  -999.00,9,  -999.00, -999.000,9, -999.000, -999.000,9, -999.000,9, -999.000,9,   -999.0,9,   -999.0,9,-999.0000,-999,9,  -999.00,9,  -999.00,   -999.0,9,   -999.0,   2.2248,  27.6478
  49NZ20090410,   P21,   127,  1,      5, X12038,9,20090511,0734,-16.7545,-131.3337, 3902,   2601.0,2,   1.7822,2,   1.78235,2,  34.6698,2,-999.0000,9,   154.31,2,  -999.00,9,  -999.00,9,  -999.00,  -999.00,9,  -999.00,  -999.00,9,  -999.00, -999.000,9, -999.000, -999.000,9, -999.000,9, -999.000,9,   -999.0,9,   -999.0,9,-999.0000,-999,9,  -999.00,9,  -999.00,   -999.0,9,   -999.0,   1.5968,  27.7380
  49NZ20090410,   P21,   127,  1,      4, X12034,9,20090511,0734,-16.7545,-131.3337, 3902,   2799.9,2,   1.7202,2,   1.72044,2,  34.6743,2,-999.0000,9,   156.75,2,  -999.00,9,  -999.00,9,  -999.00,  -999.00,9,  -999.00,  -999.00,9,  -999.00, -999.000,9, -999.000, -999.000,9, -999.000,9, -999.000,9,   -999.0,9,   -999.0,9,-999.0000,-999,9,  -999.00,9,  -999.00,   -999.0,9,   -999.0,   1.5176,  27.7475
  49NZ20090410,   P21,   127,  1,      3, X12033,9,20090511,0734,-16.7545,-131.3337, 3902,   2998.6,2,   1.6743,2,   1.67424,2,  34.6781,2,-999.0000,9,   158.54,2,  -999.00,9,  -999.00,9,  -999.00,  -999.00,9,  -999.00,  -999.00,9,  -999.00, -999.000,9, -999.000, -999.000,9, -999.000,9, -999.000,9,   -999.0,9,   -999.0,9,-999.0000,-999,9,  -999.00,9,  -999.00,   -999.0,9,   -999.0,   1.4538,  27.7552
  49NZ20090410,   P21,   127,  1,      2, X12032,9,20090511,0734,-16.7545,-131.3337, 3902,    899.3,2,   4.7026,2,   4.70303,2,  34.4994,2,-999.0000,9,   102.78,2,  -999.00,9,  -999.00,9,  -999.00,  -999.00,9,  -999.00,  -999.00,9,  -999.00, -999.000,9, -999.000, -999.000,9, -999.000,9, -999.000,9,   -999.0,9,   -999.0,9,-999.0000,-999,9,  -999.00,9,  -999.00,   -999.0,9,   -999.0,   4.6304,  27.3202
  49NZ20090410,   P21,   127,  1,      1, X12046,2,20090511,0734,-16.7545,-131.3337, 3902,   3964.8,2,   1.5867,2,   1.58667,2,  34.6876,2,  34.6874,6,   165.66,2,   165.34,2,   128.33,2,     0.40,    35.14,2,     0.13,     0.01,2,     0.01,    2.461,2,    0.016,    0.000,2,    0.000,2,    0.000,2,   -999.0,9,   -999.0,9,-999.0000,-999,9,  -999.00,9,  -999.00,   -999.0,9,   -999.0,   1.2692,  27.7759