BOTTLE,20220818CCHSIOAMB
EXPOCODE,SECT_ID,STNNBR,CASTNO,SAMPNO,BTLNBR,BTLNBR_FLAG_W,DATE,TIME,LATITUDE,LONGITUDE,DEPTH,CTDPRS,CTDPRS_FLAG_W,CTDTMP,CTDTMP_FLAG_W,SBE35,SBE35_FLAG_W,CTDSAL,CTDSAL_FLAG_W,SALNTY,SALNTY_FLAG_W,CTDOXY,CTDOXY_FLAG_W,OXYGEN,OXYGEN_FLAG_W,SILCAT,SILCAT_FLAG_W,SILUNC,NITRAT,NITRAT_FLAG_W,NRAUNC,NITRIT,NITRIT_FLAG_W,NRIUNC,PHSPHT,PHSPHT_FLAG_W,PHPUNC,CFC-11,CFC-11_FLAG_W,CFC-12,CFC-12_FLAG_W,CFC113,CFC113_FLAG_W,TCARBN,TCARBN_FLAG_W,ALKALI,ALKALI_FLAG_W,PH_TOT,PH_TMP,PH_TOT_FLAG_W,DELC13,DELC13_FLAG_W,C13ERR,DELC14,DELC14_FLAG_W,C14ERR,THETA,SIG0
,,,,,,,,,,,METERS,DBAR,,ITS-90,,ITS-90,,PSS-78,,PSS-78,,UMOL/KG,,UMOL/KG,,UMOL/KG,,UMOL/KG,UMOL/KG,,UMOL/KG,UMOL/KG,,UMOL/KG,UMOL/KG,,UMOL/KG,PMOL/KG,,PMOL/KG,,PMOL/KG,,UMOL/KG,,UMOL/KG,,,DEG C,,/MILLE,,/MILLE,/MILLE,,/MILLE,DEG C,KG/M^3
  49NZ20090410,   P21,    79,  1,     36, X12006,2,20090501,1428,-16.7500,-104.6682, 1201,     10.2,2,  24.8367,2,  24.83633,2,  36.1194,2,  36.1187,2,   209.41,2,   209.52,2,     0.64,2,     0.12,     0.15,2,     0.03,     0.01,2,     0.01,    0.350,2,    0.014,    1.669,2,    1.060,2, -999.000,5,   2055.9,2,   2389.0,2,   8.0759,  25,6,  -999.00,9,  -999.00,   -999.0,9,   -999.0,  24.8345,  24.2380
  49NZ20090410,   P21,    79,  1,     35, X12047,2,20090501,1428,-16.7500,-104.6682, 1201,     49.7,2,  24.7427,2,  24.74191,2,  36.0995,2,  36.0999,2,   208.99,2,   209.68,2,     0.65,2,     0.12,     0.11,2,     0.03,     0.01,2,     0.01,    0.351,2,    0.014,    1.678,2,    1.067,2, -999.000,5,   2055.0,6,   2387.0,2,   8.0760,  25,2,  -999.00,9,  -999.00,   -999.0,9,   -999.0,  24.7320,  24.2540
  49NZ20090410,   P21,    79,  1,     34, X12004,2,20090501,1428,-16.7500,-104.6682, 1201,     99.6,2,  21.5740,2,  21.57761,2,  35.8752,2,  35.8967,2,   205.45,2,   207.57,2,     0.56,2,     0.12,     0.54,2,     0.03,     0.65,2,     0.00,    0.457,2,    0.013,    1.976,6,    1.228,6, -999.000,5,   2086.3,2,   2375.2,6,   8.0070,  25,2,  -999.00,9,  -999.00,   -999.0,9,   -999.0,  21.5545,  25.0076
  49NZ20090410,   P21,    79,  1,     33, X12003,2,20090501,1428,-16.7500,-104.6682, 1201,    150.6,2,  20.2932,2,  20.29808,2,  35.7779,2,  35.7727,2,   208.07,2,   209.44,2,     0.33,2,     0.12,     0.81,2,     0.04,     0.46,2,     0.00,    0.349,2,    0.014,    2.106,2,    1.296,2, -999.000,5,   2086.2,2,   2361.0,2,   7.9887,  25,2,  -999.00,9,  -999.00,   -999.0,9,   -999.0,  20.2650,  25.2848
  49NZ20090410,   P21,    79,  1,     32, X12002,2,20090501,1428,-16.7500,-104.6682, 1201,    199.0,2,  18.1741,2,  18.17547,2,  35.3391,2,  35.3376,2,   201.03,2,   202.11,2,     0.62,2,     0.12,     3.94,2,     0.04,     0.03,2,     0.01,    0.552,2,    0.013,    2.327,2,    1.401,2,    0.173,2,   2092.6,2,   2333.4,2,   7.9345,  25,2,  -999.00,9,  -999.00,   -999.0,9,   -999.0,  18.1396,  25.4972
  49NZ20090410,   P21,    79,  1,     31, X12001,2,20090501,1428,-16.7500,-104.6682, 1201,    250.2,2,  15.2008,2,  15.20196,2,  34.8610,2,  34.8650,6,   182.28,2,   181.79,2,     2.08,2,     0.12,     9.46,2,     0.06,     0.02,2,     0.01,    0.920,2,    0.013,    2.585,2,    1.499,2,    0.102,2,   2110.3,2,   2301.3,2,   7.8449,  25,2,  -999.00,9,  -999.00,   -999.0,9,   -999.0,  15.1625,  25.8290
  49NZ20090410,   P21,    79,  1,     30, X12030,2,20090501,1428,-16.7500,-104.6682, 1201,    280.8,2,  12.6258,2,  12.64916,2,  34.5627,2,  34.5682,2,   121.88,2,   122.24,2,     7.43,2,     0.14,    17.61,2,     0.08,     0.02,2,     0.01,    1.666,2,    0.014,    2.453,2,    1.360,2,    0.083,2,   2167.9,2,   2278.4,2,   7.6692,  25,2,  -999.00,9,  -999.00,   -999.0,9,   -999.0,  12.5880,  26.1357
  49NZ20090410,   P21,    79,  1,     29, X12044,2,20090501,1428,-16.7500,-104.6682, 1201,    369.6,2,   9.9721,2,   9.97763,2,  34.6230,2,  34.6234,2,    17.92,2,    17.22,2,    23.61,2,     0.17,    31.56,2,     0.12,     0.01,2,     0.01,    2.724,2,    0.017,    0.607,2,    0.315,2,    0.019,2,   2269.6,2,   2292.2,2,   7.3999,  25,2,  -999.00,9,  -999.00,   -999.0,9,   -999.0,   9.9291,  26.6696
  49NZ20090410,   P21,    79,  1,     28, X12048,2,20090501,1428,-16.7500,-104.6682, 1201,    470.1,2,   7.9627,2,   7.96093,2,  34.5452,2,  34.5438,6,    37.67,2,    37.46,2,    28.58,2,     0.18,    38.37,2,     0.14,     0.01,2,     0.01,    2.788,2,    0.017,    0.228,2,    0.117,2,    0.015,2,   2268.1,2,   2294.2,2,   7.4127,  25,2,  -999.00,9,  -999.00,   -999.0,9,   -999.0,   7.9147,  26.9293
  49NZ20090410,   P21,    79,  1,     27, X12027,2,20090501,1428,-16.7500,-104.6682, 1201,    570.7,2,   6.7964,2,   6.79529,2,  34.4875,2,  34.4854,2,    71.70,2,    72.33,2,    31.12,2,     0.19,    38.43,2,     0.14,     0.01,2,     0.01,    2.690,2,    0.017,    0.123,6,    0.065,6,    0.012,6,   2254.0,2,   2295.6,2,   7.4635,  25,2,  -999.00,9,  -999.00,   -999.0,9,   -999.0,   6.7428,  27.0502
  49NZ20090410,   P21,    79,  1,     26, X12026,2,20090501,1428,-16.7500,-104.6682, 1201,    670.1,2,   5.8628,2,   5.86272,2,  34.4803,2,  34.4802,2,    70.93,2,    70.77,2,    41.89,2,     0.21,    40.44,2,     0.15,     0.01,2,     0.01,    2.846,2,    0.017,    0.017,2,    0.009,2,    0.000,2,   2268.5,6,   2307.5,2,   7.4521,  25,2,  -999.00,9,  -999.00,   -999.0,9,   -999.0,   5.8042,  27.1666
  49NZ20090410,   P21,    79,  1,     25, X12025,2,20090501,1428,-16.7500,-104.6682, 1201,    770.1,2,   5.3472,2,   5.34761,2,  34.4965,2,  34.4964,2,    58.18,2,    58.26,2,    53.47,2,     0.24,    42.49,2,     0.15,     0.01,2,     0.01,    2.997,2,    0.017,    0.005,2,    0.003,2,    0.000,2,   2288.9,2,   2320.1,6,   7.4257,  25,2,  -999.00,9,  -999.00,   -999.0,9,   -999.0,   5.2823,  27.2430
  49NZ20090410,   P21,    79,  1,     24, X12024,2,20090501,1428,-16.7500,-104.6682, 1201,    870.2,2,   5.0035,2,   5.00340,2,  34.5026,2,  34.5026,2,    60.34,2,    60.35,2,    59.98,2,     0.25,    42.85,2,     0.15,     0.01,2,     0.01,    3.031,2,    0.018,    0.001,2,    0.000,2,    0.000,2,   2296.0,2,   2328.0,2,   7.4264,  25,6,  -999.00,9,  -999.00,   -999.0,9,   -999.0,   4.9318,  27.2888
  49NZ20090410,   P21,    79,  1,     23, X12028,2,20090501,1428,-16.7500,-104.6682, 1201,    969.8,2,   4.5471,2,   4.54662,2,  34.5147,2,  34.5147,6,    66.19,2,    66.26,2,    69.16,2,     0.27,    42.58,2,     0.15,     0.01,2,     0.01,    3.031,2,    0.018,    0.003,2,    0.001,2,    0.000,2,   2302.9,2,   2337.3,2,   7.4346,  25,2,  -999.00,9,  -999.00,   -999.0,9,   -999.0,   4.4699,  27.3501
  49NZ20090410,   P21,    79,  1,     22, X12022,2,20090501,1428,-16.7500,-104.6682, 1201,   1129.9,2,   3.9045,2,   3.90411,2,  34.5414,2,  34.5425,2,    76.06,2,    75.98,2,    84.11,2,     0.30,    41.88,2,     0.15,     0.01,2,     0.01,    3.007,2,    0.017,    0.004,2,    0.001,2,    0.000,2,   2314.4,2,   2354.2,2,   7.4525,  25,2,  -999.00,9,  -999.00,   -999.0,9,   -999.0,   3.8187,  27.4399
  49NZ20090410,   P21,    79,  1,     21, X12021,9,20090501,1428,-16.7500,-104.6682, 1201,     10.1,2,  24.8363,2,  24.83645,2,  36.1194,2,-999.0000,9,   209.38,2,  -999.00,9,  -999.00,9,  -999.00,  -999.00,9,  -999.00,  -999.00,9,  -999.00, -999.000,9, -999.000, -999.000,9, -999.000,9, -999.000,9,   -999.0,9,   -999.0,9,-999.0000,-999,9,  -999.00,9,  -999.00,   -999.0,9,   -999.0,  24.8341,  24.2381
  49NZ20090410,   P21,    79,  1,     20, X12020,9,20090501,1428,-16.7500,-104.6682, 1201,     10.0,2,  24.8348,2,  24.83517,2,  36.1194,2,-999.0000,9,   209.39,2,  -999.00,9,  -999.00,9,  -999.00,  -999.00,9,  -999.00,  -999.00,9,  -999.00, -999.000,9, -999.000, -999.000,9, -999.000,9, -999.000,9,   -999.0,9,   -999.0,9,-999.0000,-999,9,  -999.00,9,  -999.00,   -999.0,9,   -999.0,  24.8326,  24.2386
  49NZ20090410,   P21,    79,  1,     19, X12019,9,20090501,1428,-16.7500,-104.6682, 1201,     50.0,2,  24.7475,2,  24.74619,2,  36.1000,2,-999.0000,9,   209.30,2,  -999.00,9,  -999.00,9,  -999.00,  -999.00,9,  -999.00,  -999.00,9,  -999.00, -999.000,9, -999.000, -999.000,9, -999.000,9, -999.000,9,   -999.0,9,   -999.0,9,-999.0000,-999,9,  -999.00,9,  -999.00,   -999.0,9,   -999.0,  24.7367,  24.2530
  49NZ20090410,   P21,    79,  1,     18, X12043,9,20090501,1428,-16.7500,-104.6682, 1201,     49.4,2,  24.7422,2,  24.74196,2,  36.0997,2,-999.0000,9,   209.32,2,  -999.00,9,  -999.00,9,  -999.00,  -999.00,9,  -999.00,  -999.00,9,  -999.00, -999.000,9, -999.000, -999.000,9, -999.000,9, -999.000,9,   -999.0,9,   -999.0,9,-999.0000,-999,9,  -999.00,9,  -999.00,   -999.0,9,   -999.0,  24.7315,  24.2544
  49NZ20090410,   P21,    79,  1,     17, X12042,9,20090501,1428,-16.7500,-104.6682, 1201,     99.6,2,  21.5583,2,  21.55171,2,  35.8774,2,-999.0000,9,   206.55,2,  -999.00,9,  -999.00,9,  -999.00,  -999.00,9,  -999.00,  -999.00,9,  -999.00, -999.000,9, -999.000, -999.000,9, -999.000,9, -999.000,9,   -999.0,9,   -999.0,9,-999.0000,-999,9,  -999.00,9,  -999.00,   -999.0,9,   -999.0,  21.5388,  25.0136
  49NZ20090410,   P21,    79,  1,     16, X12016,9,20090501,1428,-16.7500,-104.6682, 1201,     99.6,2,  21.5521,2,  21.54522,2,  35.8770,2,-999.0000,9,   206.13,2,  -999.00,9,  -999.00,9,  -999.00,  -999.00,9,  -999.00,  -999.00,9,  -999.00, -999.000,9, -999.000, -999.000,9, -999.000,9, -999.000,9,   -999.0,9,   -999.0,9,-999.0000,-999,9,  -999.00,9,  -999.00,   -999.0,9,   -999.0,  21.5326,  25.0150
  49NZ20090410,   P21,    79,  1,     15, X12015,9,20090501,1428,-16.7500,-104.6682, 1201,    150.6,2,  20.3134,2,  20.31301,2,  35.7826,2,-999.0000,9,   208.36,2,  -999.00,9,  -999.00,9,  -999.00,  -999.00,9,  -999.00,  -999.00,9,  -999.00, -999.000,9, -999.000, -999.000,9, -999.000,9, -999.000,9,   -999.0,9,   -999.0,9,-999.0000,-999,9,  -999.00,9,  -999.00,   -999.0,9,   -999.0,  20.2851,  25.2830
  49NZ20090410,   P21,    79,  1,     14, X12050,9,20090501,1428,-16.7500,-104.6682, 1201,    150.7,2,  20.3182,2,  20.31890,2,  35.7820,2,-999.0000,9,   208.17,2,  -999.00,9,  -999.00,9,  -999.00,  -999.00,9,  -999.00,  -999.00,9,  -999.00, -999.000,9, -999.000, -999.000,9, -999.000,9, -999.000,9,   -999.0,9,   -999.0,9,-999.0000,-999,9,  -999.00,9,  -999.00,   -999.0,9,   -999.0,  20.2899,  25.2813
  49NZ20090410,   P21,    79,  1,     13, X12013,9,20090501,1428,-16.7500,-104.6682, 1201,    198.5,2,  18.1774,2,  18.17726,2,  35.3405,2,-999.0000,9,   201.09,2,  -999.00,9,  -999.00,9,  -999.00,  -999.00,9,  -999.00,  -999.00,9,  -999.00, -999.000,9, -999.000, -999.000,9, -999.000,9, -999.000,9,   -999.0,9,   -999.0,9,-999.0000,-999,9,  -999.00,9,  -999.00,   -999.0,9,   -999.0,  18.1430,  25.4975
  49NZ20090410,   P21,    79,  1,     12, X12012,9,20090501,1428,-16.7500,-104.6682, 1201,    248.6,2,  15.2378,2,  15.23979,2,  34.8687,2,-999.0000,9,   181.87,2,  -999.00,9,  -999.00,9,  -999.00,  -999.00,9,  -999.00,  -999.00,9,  -999.00, -999.000,9, -999.000, -999.000,9, -999.000,9, -999.000,9,   -999.0,9,   -999.0,9,-999.0000,-999,9,  -999.00,9,  -999.00,   -999.0,9,   -999.0,  15.1997,  25.8267
  49NZ20090410,   P21,    79,  1,     11, X12041,9,20090501,1428,-16.7500,-104.6682, 1201,    281.4,2,  12.5210,2,  12.52646,2,  34.5583,2,-999.0000,9,   119.34,2,  -999.00,9,  -999.00,9,  -999.00,  -999.00,9,  -999.00,  -999.00,9,  -999.00, -999.000,9, -999.000, -999.000,9, -999.000,9, -999.000,9,   -999.0,9,   -999.0,9,-999.0000,-999,9,  -999.00,9,  -999.00,   -999.0,9,   -999.0,  12.4833,  26.1528
  49NZ20090410,   P21,    79,  1,     10, X12040,9,20090501,1428,-16.7500,-104.6682, 1201,    370.0,2,   9.9644,2,   9.96073,2,  34.6217,2,-999.0000,9,    18.04,2,  -999.00,9,  -999.00,9,  -999.00,  -999.00,9,  -999.00,  -999.00,9,  -999.00, -999.000,9, -999.000, -999.000,9, -999.000,9, -999.000,9,   -999.0,9,   -999.0,9,-999.0000,-999,9,  -999.00,9,  -999.00,   -999.0,9,   -999.0,   9.9214,  26.6699
  49NZ20090410,   P21,    79,  1,      9, X12009,9,20090501,1428,-16.7500,-104.6682, 1201,    470.2,2,   7.9615,2,   7.96164,2,  34.5455,2,-999.0000,9,    36.86,2,  -999.00,9,  -999.00,9,  -999.00,  -999.00,9,  -999.00,  -999.00,9,  -999.00, -999.000,9, -999.000, -999.000,9, -999.000,9, -999.000,9,   -999.0,9,   -999.0,9,-999.0000,-999,9,  -999.00,9,  -999.00,   -999.0,9,   -999.0,   7.9135,  26.9298
  49NZ20090410,   P21,    79,  1,      8, X12008,9,20090501,1428,-16.7500,-104.6682, 1201,    570.7,2,   6.7948,2,   6.79454,2,  34.4875,2,-999.0000,9,    71.39,2,  -999.00,9,  -999.00,9,  -999.00,  -999.00,9,  -999.00,  -999.00,9,  -999.00, -999.000,9, -999.000, -999.000,9, -999.000,9, -999.000,9,   -999.0,9,   -999.0,9,-999.0000,-999,9,  -999.00,9,  -999.00,   -999.0,9,   -999.0,   6.7412,  27.0504
  49NZ20090410,   P21,    79,  1,      7, X12007,9,20090501,1428,-16.7500,-104.6682, 1201,    669.6,2,   5.8613,2,   5.86143,2,  34.4803,2,-999.0000,9,    70.97,2,  -999.00,9,  -999.00,9,  -999.00,  -999.00,9,  -999.00,  -999.00,9,  -999.00, -999.000,9, -999.000, -999.000,9, -999.000,9, -999.000,9,   -999.0,9,   -999.0,9,-999.0000,-999,9,  -999.00,9,  -999.00,   -999.0,9,   -999.0,   5.8027,  27.1668
  49NZ20090410,   P21,    79,  1,      6, X12035,9,20090501,1428,-16.7500,-104.6682, 1201,    769.8,2,   5.3487,2,   5.34797,2,  34.4964,2,-999.0000,9,    58.22,2,  -999.00,9,  -999.00,9,  -999.00,  -999.00,9,  -999.00,  -999.00,9,  -999.00, -999.000,9, -999.000, -999.000,9, -999.000,9, -999.000,9,   -999.0,9,   -999.0,9,-999.0000,-999,9,  -999.00,9,  -999.00,   -999.0,9,   -999.0,   5.2838,  27.2427
  49NZ20090410,   P21,    79,  1,      5, X12038,9,20090501,1428,-16.7500,-104.6682, 1201,    870.7,2,   5.0048,2,   5.00418,2,  34.5027,2,-999.0000,9,    60.32,2,  -999.00,9,  -999.00,9,  -999.00,  -999.00,9,  -999.00,  -999.00,9,  -999.00, -999.000,9, -999.000, -999.000,9, -999.000,9, -999.000,9,   -999.0,9,   -999.0,9,-999.0000,-999,9,  -999.00,9,  -999.00,   -999.0,9,   -999.0,   4.9330,  27.2887
  49NZ20090410,   P21,    79,  1,      4, X12034,9,20090501,1428,-16.7500,-104.6682, 1201,    969.2,2,   4.5443,2,   4.54679,2,  34.5149,2,-999.0000,9,    66.13,2,  -999.00,9,  -999.00,9,  -999.00,  -999.00,9,  -999.00,  -999.00,9,  -999.00, -999.000,9, -999.000, -999.000,9, -999.000,9, -999.000,9,   -999.0,9,   -999.0,9,-999.0000,-999,9,  -999.00,9,  -999.00,   -999.0,9,   -999.0,   4.4671,  27.3505
  49NZ20090410,   P21,    79,  1,      3, X12033,9,20090501,1428,-16.7500,-104.6682, 1201,   1130.0,2,   3.9084,2,   3.90703,2,  34.5413,2,-999.0000,9,    76.05,2,  -999.00,9,  -999.00,9,  -999.00,  -999.00,9,  -999.00,  -999.00,9,  -999.00, -999.000,9, -999.000, -999.000,9, -999.000,9, -999.000,9,   -999.0,9,   -999.0,9,-999.0000,-999,9,  -999.00,9,  -999.00,   -999.0,9,   -999.0,   3.8225,  27.4395
  49NZ20090410,   P21,    79,  1,      2, X12032,9,20090501,1428,-16.7500,-104.6682, 1201,   1217.8,2,   3.7846,2,   3.78506,2,  34.5472,2,-999.0000,9,    78.28,2,  -999.00,9,  -999.00,9,  -999.00,  -999.00,9,  -999.00,  -999.00,9,  -999.00, -999.000,9, -999.000, -999.000,9, -999.000,9, -999.000,9,   -999.0,9,   -999.0,9,-999.0000,-999,9,  -999.00,9,  -999.00,   -999.0,9,   -999.0,   3.6924,  27.4573
  49NZ20090410,   P21,    79,  1,      1, X12046,2,20090501,1428,-16.7500,-104.6682, 1201,   1216.9,2,   3.7858,2,   3.78564,2,  34.5472,2,  34.5473,6,    78.29,2,    78.24,2,    86.91,2,     0.31,    41.77,2,     0.15,     0.01,2,     0.01,    2.999,2,    0.017,    0.001,2,    0.001,2,    0.000,2,   2314.7,2,   2356.8,2,   7.4562,  25,2,  -999.00,9,  -999.00,   -999.0,9,   -999.0,   3.6937,  27.4572