BOTTLE,20220818CCHSIOAMB
EXPOCODE,SECT_ID,STNNBR,CASTNO,SAMPNO,BTLNBR,BTLNBR_FLAG_W,DATE,TIME,LATITUDE,LONGITUDE,DEPTH,CTDPRS,CTDPRS_FLAG_W,CTDTMP,CTDTMP_FLAG_W,SBE35,SBE35_FLAG_W,CTDSAL,CTDSAL_FLAG_W,SALNTY,SALNTY_FLAG_W,CTDOXY,CTDOXY_FLAG_W,OXYGEN,OXYGEN_FLAG_W,SILCAT,SILCAT_FLAG_W,SILUNC,NITRAT,NITRAT_FLAG_W,NRAUNC,NITRIT,NITRIT_FLAG_W,NRIUNC,PHSPHT,PHSPHT_FLAG_W,PHPUNC,CFC-11,CFC-11_FLAG_W,CFC-12,CFC-12_FLAG_W,CFC113,CFC113_FLAG_W,TCARBN,TCARBN_FLAG_W,ALKALI,ALKALI_FLAG_W,PH_TOT,PH_TMP,PH_TOT_FLAG_W,DELC13,DELC13_FLAG_W,C13ERR,DELC14,DELC14_FLAG_W,C14ERR,THETA,SIG0
,,,,,,,,,,,METERS,DBAR,,ITS-90,,ITS-90,,PSS-78,,PSS-78,,UMOL/KG,,UMOL/KG,,UMOL/KG,,UMOL/KG,UMOL/KG,,UMOL/KG,UMOL/KG,,UMOL/KG,UMOL/KG,,UMOL/KG,PMOL/KG,,PMOL/KG,,PMOL/KG,,UMOL/KG,,UMOL/KG,,,DEG C,,/MILLE,,/MILLE,/MILLE,,/MILLE,DEG C,KG/M^3
  49NZ20090410,   P21,   159,  1,     36, X12006,2,20090517,1837,-17.4975,-148.8358, 2946,      9.9,2,  27.8674,2,  27.86745,2,  36.3093,2,  36.3091,2,   197.23,2,   197.29,2,     0.67,2,     0.12,     0.09,2,     0.03,     0.00,2,     0.01,    0.233,2,    0.015,    1.436,2,    0.933,2, -999.000,5,   -999.0,9,   -999.0,9,-999.0000,-999,9,  -999.00,9,  -999.00,   -999.0,9,   -999.0,  27.8651,  23.4239
  49NZ20090410,   P21,   159,  1,     35, X12047,2,20090517,1837,-17.4975,-148.8358, 2946,     49.9,2,  27.8637,2,  27.86171,2,  36.3074,2,  36.3079,2,   197.01,2,   197.40,2,     0.64,2,     0.12,     0.07,2,     0.03,     0.00,2,     0.01,    0.235,2,    0.015,    1.439,2,    0.935,2, -999.000,5,   -999.0,9,   -999.0,9,-999.0000,-999,9,  -999.00,9,  -999.00,   -999.0,9,   -999.0,  27.8519,  23.4268
  49NZ20090410,   P21,   159,  1,     34, X12004,2,20090517,1837,-17.4975,-148.8358, 2946,     99.8,2,  25.8836,2,  25.88071,2,  36.3994,2,  36.4002,2,   206.96,2,   206.92,2,     0.62,2,     0.12,     0.07,2,     0.03,     0.01,2,     0.01,    0.220,2,    0.015,    1.631,6,    1.042,6, -999.000,5,   -999.0,9,   -999.0,9,-999.0000,-999,9,  -999.00,9,  -999.00,   -999.0,9,   -999.0,  25.8613,  24.1330
  49NZ20090410,   P21,   159,  1,     33, X12003,2,20090517,1837,-17.4975,-148.8358, 2946,    149.3,2,  24.2901,2,  24.29023,2,  36.2713,2,  36.2705,2,   192.20,2,   192.11,2,     0.67,2,     0.12,     0.24,2,     0.03,     0.38,2,     0.00,    0.273,2,    0.014,    1.725,2,    1.086,2, -999.000,5,   -999.0,9,   -999.0,9,-999.0000,-999,9,  -999.00,9,  -999.00,   -999.0,9,   -999.0,  24.2582,  24.5270
  49NZ20090410,   P21,   159,  1,     32, X12002,2,20090517,1837,-17.4975,-148.8358, 2946,    202.1,2,  22.2307,2,  22.21916,2,  36.0265,2,  36.0316,2,   180.70,2,   180.85,2,     0.60,2,     0.12,     2.25,2,     0.04,     0.03,2,     0.01,    0.388,2,    0.013,    1.928,2,    1.183,2,    0.126,2,   -999.0,9,   -999.0,9,-999.0000,-999,9,  -999.00,9,  -999.00,   -999.0,9,   -999.0,  22.1902,  24.9443
  49NZ20090410,   P21,   159,  1,     31, X12001,2,20090517,1837,-17.4975,-148.8358, 2946,    249.6,2,  20.0921,2,  20.09051,2,  35.7043,2,  35.7060,6,   180.93,2,   181.15,2,     0.73,2,     0.12,     3.39,2,     0.04,     0.01,2,     0.01,    0.455,2,    0.013,    2.145,2,    1.273,2,    0.058,2,   -999.0,9,   -999.0,9,-999.0000,-999,9,  -999.00,9,  -999.00,   -999.0,9,   -999.0,  20.0456,  25.2870
  49NZ20090410,   P21,   159,  1,     30, X12030,2,20090517,1837,-17.4975,-148.8358, 2946,    330.4,2,  16.2276,2,  16.22689,2,  35.1608,2,  35.1724,2,   176.59,2,   176.65,2,     2.25,2,     0.12,     7.67,2,     0.05,     0.01,2,     0.01,    0.757,2,    0.013,    2.354,2,    1.319,2,    0.024,2,   -999.0,9,   -999.0,9,-999.0000,-999,9,  -999.00,9,  -999.00,   -999.0,9,   -999.0,  16.1745,  25.8312
  49NZ20090410,   P21,   159,  1,     29, X12044,2,20090517,1837,-17.4975,-148.8358, 2946,    431.2,2,  11.5362,2,  11.53207,2,  34.6669,2,  34.6777,2,   149.51,2,   150.15,2,     7.92,2,     0.14,    17.69,2,     0.08,     0.00,2,     0.01,    1.460,2,    0.014,    1.936,6,    1.019,6,    0.042,6,   -999.0,9,   -999.0,9,-999.0000,-999,9,  -999.00,9,  -999.00,   -999.0,9,   -999.0,  11.4810,  26.4280
  49NZ20090410,   P21,   159,  1,     28, X12048,2,20090517,1837,-17.4975,-148.8358, 2946,    531.1,2,   8.1750,2,   8.17395,2,  34.4506,2,  34.4512,6,   152.05,2,   152.29,2,    14.30,2,     0.15,    26.30,2,     0.11,     0.01,2,     0.01,    1.950,2,    0.015,    1.288,2,    0.656,2,    0.024,2,   -999.0,9,   -999.0,9,-999.0000,-999,9,  -999.00,9,  -999.00,   -999.0,9,   -999.0,   8.1198,  26.8244
  49NZ20090410,   P21,   159,  1,     27, X12027,2,20090517,1837,-17.4975,-148.8358, 2946,    632.1,2,   6.5079,2,   6.51374,2,  34.4238,2,  34.4240,2,   151.78,2,   151.54,2,    24.48,2,     0.17,    30.57,2,     0.12,     0.01,2,     0.01,    2.186,2,    0.015,    0.608,6,    0.316,6,    0.013,6,   -999.0,9,   -999.0,9,-999.0000,-999,9,  -999.00,9,  -999.00,   -999.0,9,   -999.0,   6.4497,  27.0391
  49NZ20090410,   P21,   159,  1,     26, X12026,2,20090517,1837,-17.4975,-148.8358, 2946,    731.1,2,   5.5765,2,   5.57673,2,  34.4354,2,  34.4351,2,   148.11,2,   148.04,2,    36.68,2,     0.20,    32.84,2,     0.12,     0.01,2,     0.01,    2.331,2,    0.016,    0.240,2,    0.130,2,    0.000,2,   -999.0,9,   -999.0,9,-999.0000,-999,9,  -999.00,9,  -999.00,   -999.0,9,   -999.0,   5.5139,  27.1668
  49NZ20090410,   P21,   159,  1,     25, X12025,2,20090517,1837,-17.4975,-148.8358, 2946,    830.3,2,   4.9538,2,   4.95434,2,  34.4540,2,  34.4538,2,   145.62,2,   145.42,2,    47.21,2,     0.22,    33.99,2,     0.13,     0.00,2,     0.01,    2.401,2,    0.016,    0.109,2,    0.061,2,    0.000,2,   -999.0,9,   -999.0,9,-999.0000,-999,9,  -999.00,9,  -999.00,   -999.0,9,   -999.0,   4.8860,  27.2554
  49NZ20090410,   P21,   159,  1,     24, X12024,2,20090517,1837,-17.4975,-148.8358, 2946,    928.7,2,   4.4533,2,   4.45332,2,  34.4696,2,  34.4697,2,   145.25,2,   145.09,2,    55.89,2,     0.24,    34.56,2,     0.13,     0.01,2,     0.01,    2.448,2,    0.016,    0.056,2,    0.032,2,    0.000,2,   -999.0,9,   -999.0,9,-999.0000,-999,9,  -999.00,9,  -999.00,   -999.0,9,   -999.0,   4.3803,  27.3240
  49NZ20090410,   P21,   159,  1,     23, X12028,2,20090517,1837,-17.4975,-148.8358, 2946,   1069.8,2,   3.8305,2,   3.83066,2,  34.5015,2,  34.5018,6,   145.13,2,   144.98,2,    68.72,2,     0.27,    35.22,2,     0.13,     0.01,2,     0.01,    2.491,2,    0.016,    0.017,2,    0.009,2,    0.000,2,   -999.0,9,   -999.0,9,-999.0000,-999,9,  -999.00,9,  -999.00,   -999.0,9,   -999.0,   3.7504,  27.4151
  49NZ20090410,   P21,   159,  1,     22, X12022,2,20090517,1837,-17.4975,-148.8358, 2946,   1270.3,2,   3.1655,2,   3.16542,2,  34.5502,2,  34.5508,2,   143.31,2,   143.23,2,    85.20,2,     0.31,    35.81,2,     0.13,     0.01,2,     0.01,    2.537,2,    0.016,    0.002,2,    0.002,2,    0.000,2,   -999.0,9,   -999.0,9,-999.0000,-999,9,  -999.00,9,  -999.00,   -999.0,9,   -999.0,   3.0749,  27.5192
  49NZ20090410,   P21,   159,  1,     21, X12021,2,20090517,1837,-17.4975,-148.8358, 2946,   1470.2,2,   2.8351,2,   2.83510,2,  34.5734,2,  34.5732,2,   145.37,2,   145.37,2,    93.20,2,     0.32,    35.80,2,     0.13,     0.01,2,     0.01,    2.532,2,    0.016,    0.000,2,    0.000,2,    0.000,2,   -999.0,9,   -999.0,9,-999.0000,-999,9,  -999.00,9,  -999.00,   -999.0,9,   -999.0,   2.7316,  27.5687
  49NZ20090410,   P21,   159,  1,     20, X12020,2,20090517,1837,-17.4975,-148.8358, 2946,   1671.2,2,   2.5661,2,   2.56677,2,  34.5971,2,  34.5969,6,   146.35,2,   146.42,2,   101.08,2,     0.34,    35.89,2,     0.13,     0.01,2,     0.01,    2.538,2,    0.016,    0.001,2,    0.000,2,    0.000,2,   -999.0,9,   -999.0,9,-999.0000,-999,9,  -999.00,9,  -999.00,   -999.0,9,   -999.0,   2.4492,  27.6121
  49NZ20090410,   P21,   159,  1,     19, X12019,2,20090517,1837,-17.4975,-148.8358, 2946,   1871.1,2,   2.3234,2,   2.32334,2,  34.6171,2,  34.6167,2,   148.69,2,   148.78,2,   107.27,2,     0.35,    35.86,2,     0.13,     0.00,2,     0.01,    2.533,2,    0.016,    0.000,2,    0.000,2,    0.000,2,   -999.0,9,   -999.0,9,-999.0000,-999,9,  -999.00,9,  -999.00,   -999.0,9,   -999.0,   2.1931,  27.6494
  49NZ20090410,   P21,   159,  1,     18, X12043,2,20090517,1837,-17.4975,-148.8358, 2946,   2070.6,2,   2.1515,2,   2.15173,2,  34.6322,2,  34.6321,2,   151.00,2,   150.90,2,   111.76,2,     0.36,    35.68,2,     0.13,     0.01,2,     0.01,    2.518,2,    0.016,    0.002,2,    0.000,2,    0.000,2,   -999.0,9,   -999.0,9,-999.0000,-999,9,  -999.00,9,  -999.00,   -999.0,9,   -999.0,   2.0067,  27.6765
  49NZ20090410,   P21,   159,  1,     17, X12042,2,20090517,1837,-17.4975,-148.8358, 2946,   2272.0,2,   2.0013,2,   2.00122,2,  34.6449,2,  34.6448,6,   153.61,2,   153.60,2,   115.41,2,     0.37,    35.53,2,     0.13,     0.01,2,     0.01,    2.510,2,    0.016,    0.001,2,    0.000,2,    0.000,2,   -999.0,9,   -999.0,9,-999.0000,-999,9,  -999.00,9,  -999.00,   -999.0,9,   -999.0,   1.8414,  27.6996
  49NZ20090410,   P21,   159,  1,     16, X12016,2,20090517,1837,-17.4975,-148.8358, 2946,   2472.2,2,   1.8768,2,   1.87677,2,  34.6556,2,  34.6552,2,   156.81,2,   156.75,2,   117.81,2,     0.38,    35.39,2,     0.13,     0.01,2,     0.01,    2.492,2,    0.016,    0.002,2,    0.000,2,    0.000,2,   -999.0,9,   -999.0,9,-999.0000,-999,9,  -999.00,9,  -999.00,   -999.0,9,   -999.0,   1.7013,  27.7189
  49NZ20090410,   P21,   159,  1,     15, X12015,2,20090517,1837,-17.4975,-148.8358, 2946,   2669.3,2,   1.7887,2,   1.78837,2,  34.6633,2,  34.6629,2,   159.31,2,   159.25,2,   119.53,2,     0.38,    35.24,2,     0.13,     0.00,2,     0.01,    2.479,2,    0.016,    0.000,2,    0.000,2,    0.000,2,   -999.0,9,   -999.0,9,-999.0000,-999,9,  -999.00,9,  -999.00,   -999.0,9,   -999.0,   1.5969,  27.7329
  49NZ20090410,   P21,   159,  1,     14, X12050,2,20090517,1837,-17.4975,-148.8358, 2946,   2869.7,2,   1.7218,2,   1.72157,2,  34.6691,2,  34.6685,2,   161.91,2,   161.95,2,   120.57,2,     0.38,    35.01,2,     0.13,     0.01,2,     0.01,    2.464,2,    0.016,    0.001,2,    0.000,2,    0.000,2,   -999.0,9,   -999.0,9,-999.0000,-999,9,  -999.00,9,  -999.00,   -999.0,9,   -999.0,   1.5126,  27.7437
  49NZ20090410,   P21,   159,  1,     13, X12014,9,20090517,1837,-17.4975,-148.8358, 2946,      9.5,2,  27.8730,2,  27.87410,2,  36.3096,2,-999.0000,9,   197.14,2,  -999.00,9,  -999.00,9,  -999.00,  -999.00,9,  -999.00,  -999.00,9,  -999.00, -999.000,9, -999.000, -999.000,9, -999.000,9, -999.000,9,   -999.0,9,   -999.0,9,-999.0000,-999,9,  -999.00,9,  -999.00,   -999.0,9,   -999.0,  27.8708,  23.4223
  49NZ20090410,   P21,   159,  1,     12, X12012,9,20090517,1837,-17.4975,-148.8358, 2946,    829.7,2,   4.9564,2,   4.95645,2,  34.4537,2,-999.0000,9,   145.62,2,  -999.00,9,  -999.00,9,  -999.00,  -999.00,9,  -999.00,  -999.00,9,  -999.00, -999.000,9, -999.000, -999.000,9, -999.000,9, -999.000,9,   -999.0,9,   -999.0,9,-999.0000,-999,9,  -999.00,9,  -999.00,   -999.0,9,   -999.0,   4.8886,  27.2549
  49NZ20090410,   P21,   159,  1,     11, X12041,9,20090517,1837,-17.4975,-148.8358, 2946,   1071.0,2,   3.8295,2,   3.82961,2,  34.5015,2,-999.0000,9,   145.15,2,  -999.00,9,  -999.00,9,  -999.00,  -999.00,9,  -999.00,  -999.00,9,  -999.00, -999.000,9, -999.000, -999.000,9, -999.000,9, -999.000,9,   -999.0,9,   -999.0,9,-999.0000,-999,9,  -999.00,9,  -999.00,   -999.0,9,   -999.0,   3.7493,  27.4152
  49NZ20090410,   P21,   159,  1,     10, X12040,9,20090517,1837,-17.4975,-148.8358, 2946,   1270.1,2,   3.1660,2,   3.16587,2,  34.5502,2,-999.0000,9,   143.27,2,  -999.00,9,  -999.00,9,  -999.00,  -999.00,9,  -999.00,  -999.00,9,  -999.00, -999.000,9, -999.000, -999.000,9, -999.000,9, -999.000,9,   -999.0,9,   -999.0,9,-999.0000,-999,9,  -999.00,9,  -999.00,   -999.0,9,   -999.0,   3.0754,  27.5191
  49NZ20090410,   P21,   159,  1,      9, X12009,9,20090517,1837,-17.4975,-148.8358, 2946,   1470.2,2,   2.8350,2,   2.83509,2,  34.5734,2,-999.0000,9,   145.31,2,  -999.00,9,  -999.00,9,  -999.00,  -999.00,9,  -999.00,  -999.00,9,  -999.00, -999.000,9, -999.000, -999.000,9, -999.000,9, -999.000,9,   -999.0,9,   -999.0,9,-999.0000,-999,9,  -999.00,9,  -999.00,   -999.0,9,   -999.0,   2.7315,  27.5687
  49NZ20090410,   P21,   159,  1,      8, X12008,9,20090517,1837,-17.4975,-148.8358, 2946,   1671.6,2,   2.5668,2,   2.56706,2,  34.5970,2,-999.0000,9,   146.37,2,  -999.00,9,  -999.00,9,  -999.00,  -999.00,9,  -999.00,  -999.00,9,  -999.00, -999.000,9, -999.000, -999.000,9, -999.000,9, -999.000,9,   -999.0,9,   -999.0,9,-999.0000,-999,9,  -999.00,9,  -999.00,   -999.0,9,   -999.0,   2.4499,  27.6120
  49NZ20090410,   P21,   159,  1,      7, X12007,9,20090517,1837,-17.4975,-148.8358, 2946,   1871.4,2,   2.3227,2,   2.32270,2,  34.6171,2,-999.0000,9,   148.75,2,  -999.00,9,  -999.00,9,  -999.00,  -999.00,9,  -999.00,  -999.00,9,  -999.00, -999.000,9, -999.000, -999.000,9, -999.000,9, -999.000,9,   -999.0,9,   -999.0,9,-999.0000,-999,9,  -999.00,9,  -999.00,   -999.0,9,   -999.0,   2.1924,  27.6494
  49NZ20090410,   P21,   159,  1,      6, X12035,9,20090517,1837,-17.4975,-148.8358, 2946,   2072.4,2,   2.1515,2,   2.15149,2,  34.6321,2,-999.0000,9,   151.01,2,  -999.00,9,  -999.00,9,  -999.00,  -999.00,9,  -999.00,  -999.00,9,  -999.00, -999.000,9, -999.000, -999.000,9, -999.000,9, -999.000,9,   -999.0,9,   -999.0,9,-999.0000,-999,9,  -999.00,9,  -999.00,   -999.0,9,   -999.0,   2.0066,  27.6764
  49NZ20090410,   P21,   159,  1,      5, X12038,9,20090517,1837,-17.4975,-148.8358, 2946,   2272.0,2,   2.0016,2,   2.00175,2,  34.6449,2,-999.0000,9,   153.67,2,  -999.00,9,  -999.00,9,  -999.00,  -999.00,9,  -999.00,  -999.00,9,  -999.00, -999.000,9, -999.000, -999.000,9, -999.000,9, -999.000,9,   -999.0,9,   -999.0,9,-999.0000,-999,9,  -999.00,9,  -999.00,   -999.0,9,   -999.0,   1.8417,  27.6996
  49NZ20090410,   P21,   159,  1,      4, X12034,9,20090517,1837,-17.4975,-148.8358, 2946,   2471.0,2,   1.8772,2,   1.87730,2,  34.6556,2,-999.0000,9,   156.78,2,  -999.00,9,  -999.00,9,  -999.00,  -999.00,9,  -999.00,  -999.00,9,  -999.00, -999.000,9, -999.000, -999.000,9, -999.000,9, -999.000,9,   -999.0,9,   -999.0,9,-999.0000,-999,9,  -999.00,9,  -999.00,   -999.0,9,   -999.0,   1.7018,  27.7189
  49NZ20090410,   P21,   159,  1,      3, X12033,9,20090517,1837,-17.4975,-148.8358, 2946,   2668.4,2,   1.7877,2,   1.78707,2,  34.6634,2,-999.0000,9,   159.30,2,  -999.00,9,  -999.00,9,  -999.00,  -999.00,9,  -999.00,  -999.00,9,  -999.00, -999.000,9, -999.000, -999.000,9, -999.000,9, -999.000,9,   -999.0,9,   -999.0,9,-999.0000,-999,9,  -999.00,9,  -999.00,   -999.0,9,   -999.0,   1.5960,  27.7330
  49NZ20090410,   P21,   159,  1,      2, X12032,9,20090517,1837,-17.4975,-148.8358, 2946,    930.3,2,   4.4527,2,   4.45366,2,  34.4697,2,-999.0000,9,   145.27,2,  -999.00,9,  -999.00,9,  -999.00,  -999.00,9,  -999.00,  -999.00,9,  -999.00, -999.000,9, -999.000, -999.000,9, -999.000,9, -999.000,9,   -999.0,9,   -999.0,9,-999.0000,-999,9,  -999.00,9,  -999.00,   -999.0,9,   -999.0,   4.3796,  27.3242
  49NZ20090410,   P21,   159,  1,      1, X12046,2,20090517,1837,-17.4975,-148.8358, 2946,   2952.5,2,   1.6687,2,   1.66799,2,  34.6731,2,  34.6724,6,   164.20,2,   164.03,2,   120.98,2,     0.39,    34.97,2,     0.13,     0.00,2,     0.01,    2.460,2,    0.016,    0.000,2,    0.000,2,    0.000,2,   -999.0,9,   -999.0,9,-999.0000,-999,9,  -999.00,9,  -999.00,   -999.0,9,   -999.0,   1.4528,  27.7512