BOTTLE,20220818CCHSIOAMB
EXPOCODE,SECT_ID,STNNBR,CASTNO,SAMPNO,BTLNBR,BTLNBR_FLAG_W,DATE,TIME,LATITUDE,LONGITUDE,DEPTH,CTDPRS,CTDPRS_FLAG_W,CTDTMP,CTDTMP_FLAG_W,SBE35,SBE35_FLAG_W,CTDSAL,CTDSAL_FLAG_W,SALNTY,SALNTY_FLAG_W,CTDOXY,CTDOXY_FLAG_W,OXYGEN,OXYGEN_FLAG_W,SILCAT,SILCAT_FLAG_W,SILUNC,NITRAT,NITRAT_FLAG_W,NRAUNC,NITRIT,NITRIT_FLAG_W,NRIUNC,PHSPHT,PHSPHT_FLAG_W,PHPUNC,CFC-11,CFC-11_FLAG_W,CFC-12,CFC-12_FLAG_W,CFC113,CFC113_FLAG_W,TCARBN,TCARBN_FLAG_W,ALKALI,ALKALI_FLAG_W,PH_TOT,PH_TMP,PH_TOT_FLAG_W,DELC13,DELC13_FLAG_W,C13ERR,DELC14,DELC14_FLAG_W,C14ERR,THETA,SIG0
,,,,,,,,,,,METERS,DBAR,,ITS-90,,ITS-90,,PSS-78,,PSS-78,,UMOL/KG,,UMOL/KG,,UMOL/KG,,UMOL/KG,UMOL/KG,,UMOL/KG,UMOL/KG,,UMOL/KG,UMOL/KG,,UMOL/KG,PMOL/KG,,PMOL/KG,,PMOL/KG,,UMOL/KG,,UMOL/KG,,,DEG C,,/MILLE,,/MILLE,/MILLE,,/MILLE,DEG C,KG/M^3
  49NZ20090410,   P21,    37,  1,     36, X12006,2,20090423,0213,-16.7465, -83.9983, 4631,      9.5,2,  24.2240,2,  24.22316,2,  35.6648,2,  35.6657,2,   209.56,2,   209.30,2,     0.43,2,     0.12,     0.11,2,     0.03,     0.01,2,     0.01,    0.470,2,    0.013,    1.659,2,    1.050,2, -999.000,5,   -999.0,9,   -999.0,9,-999.0000,-999,9,  -999.00,9,  -999.00,   -999.0,9,   -999.0,  24.2220,  24.0786
  49NZ20090410,   P21,    37,  1,     35, X12047,2,20090423,0213,-16.7465, -83.9983, 4631,     49.6,2,  19.6884,2,  19.68631,2,  35.1789,2,  35.1631,2,   242.31,2,   244.97,2,     0.38,2,     0.12,     0.08,2,     0.03,     0.01,2,     0.01,    0.419,2,    0.013,    2.268,2,    1.388,2, -999.000,5,   -999.0,9,   -999.0,9,-999.0000,-999,9,  -999.00,9,  -999.00,   -999.0,9,   -999.0,  19.6793,  24.9824
  49NZ20090410,   P21,    37,  1,     34, X12004,2,20090423,0213,-16.7465, -83.9983, 4631,     98.7,2,  17.3646,2,  17.37479,2,  35.0422,2,  35.0450,2,   214.22,2,   212.86,2,     0.79,2,     0.12,     4.05,2,     0.04,     0.43,2,     0.01,    0.746,2,    0.013,    2.376,6,    1.448,6,    0.240,4,   -999.0,9,   -999.0,9,-999.0000,-999,9,  -999.00,9,  -999.00,   -999.0,9,   -999.0,  17.3481,  25.4633
  49NZ20090410,   P21,    37,  1,     33, X12003,2,20090423,0213,-16.7465, -83.9983, 4631,    149.9,2,  13.4436,2,  13.44185,2,  34.5730,2,  34.5724,2,   153.96,2,   147.21,2,     5.24,2,     0.13,    16.06,2,     0.08,     0.02,2,     0.01,    1.554,2,    0.014,    2.555,2,    1.472,2,    0.102,2,   -999.0,9,   -999.0,9,-999.0000,-999,9,  -999.00,9,  -999.00,   -999.0,9,   -999.0,  13.4226,  25.9766
  49NZ20090410,   P21,    37,  1,     32, X12002,2,20090423,0213,-16.7465, -83.9983, 4631,    198.5,2,  12.0057,2,  12.00553,2,  34.7134,2,  34.7110,2,    13.31,2,    14.25,2,    21.35,2,     0.17,    21.87,2,     0.09,     0.01,2,     0.01,    2.661,2,    0.017,    1.205,2,    0.667,2,    0.030,2,   -999.0,9,   -999.0,9,-999.0000,-999,9,  -999.00,9,  -999.00,   -999.0,9,   -999.0,  11.9799,  26.3704
  49NZ20090410,   P21,    37,  1,     31, X12001,2,20090423,0213,-16.7465, -83.9983, 4631,    248.5,2,  11.1185,2,  11.11488,2,  34.7204,2,  34.7194,6,     4.11,2,     4.06,2,    24.21,2,     0.17,    27.44,2,     0.11,     0.01,2,     0.01,    2.745,2,    0.017,    0.616,2,    0.326,2,    0.019,2,   -999.0,9,   -999.0,9,-999.0000,-999,9,  -999.00,9,  -999.00,   -999.0,9,   -999.0,  11.0877,  26.5419
  49NZ20090410,   P21,    37,  1,     30, X12030,2,20090423,0213,-16.7465, -83.9983, 4631,    300.6,2,  10.0666,2,  10.06967,2,  34.6799,2,  34.6791,2,     4.07,2,     3.85,2,    27.03,2,     0.18,    32.51,2,     0.12,     0.01,2,     0.01,    2.814,2,    0.017,    0.356,2,    0.192,2,    0.008,2,   -999.0,9,   -999.0,9,-999.0000,-999,9,  -999.00,9,  -999.00,   -999.0,9,   -999.0,  10.0315,  26.6966
  49NZ20090410,   P21,    37,  1,     29, X12044,2,20090423,0213,-16.7465, -83.9983, 4631,    400.4,2,   8.3898,2,   8.38779,2,  34.5871,2,  34.5880,2,    17.27,2,    17.16,2,    29.89,2,     0.18,    38.80,2,     0.14,     0.01,2,     0.01,    2.878,2,    0.017,    0.180,2,    0.097,2,    0.000,2,   -999.0,9,   -999.0,9,-999.0000,-999,9,  -999.00,9,  -999.00,   -999.0,9,   -999.0,   8.3478,  26.8970
  49NZ20090410,   P21,    37,  1,     28, X12048,2,20090423,0213,-16.7465, -83.9983, 4631,    502.1,2,   7.3558,2,   7.35732,2,  34.5485,2,  34.5481,6,    31.47,2,    31.62,2,    35.02,2,     0.20,    40.83,2,     0.15,     0.01,2,     0.01,    2.912,2,    0.017,    0.069,2,    0.039,2,    0.000,2,   -999.0,9,   -999.0,9,-999.0000,-999,9,  -999.00,9,  -999.00,   -999.0,9,   -999.0,   7.3067,  27.0201
  49NZ20090410,   P21,    37,  1,     27, X12027,2,20090423,0213,-16.7465, -83.9983, 4631,    600.1,2,   6.4465,2,   6.44922,2,  34.5065,2,  34.5069,2,    42.57,2,    42.47,2,    40.08,2,     0.21,    41.99,2,     0.15,     0.01,2,     0.01,    2.988,2,    0.017,    0.039,6,    0.023,6,    0.000,6,   -999.0,9,   -999.0,9,-999.0000,-999,9,  -999.00,9,  -999.00,   -999.0,9,   -999.0,   6.3916,  27.1121
  49NZ20090410,   P21,    37,  1,     26, X12026,2,20090423,0213,-16.7465, -83.9983, 4631,    700.0,2,   5.7615,2,   5.76171,2,  34.4871,2,  34.4876,2,    48.70,2,    48.65,2,    46.88,2,     0.22,    42.93,2,     0.15,     0.01,2,     0.01,    3.052,2,    0.018,    0.021,2,    0.011,2,    0.000,2,   -999.0,9,   -999.0,9,-999.0000,-999,9,  -999.00,9,  -999.00,   -999.0,9,   -999.0,   5.7006,  27.1849
  49NZ20090410,   P21,    37,  1,     25, X12025,2,20090423,0213,-16.7465, -83.9983, 4631,    798.9,2,   5.1437,2,   5.14452,2,  34.4863,2,  34.4859,2,    54.36,2,    54.37,2,    56.53,2,     0.24,    43.24,2,     0.15,     0.01,2,     0.01,    3.082,2,    0.018,    0.017,2,    0.010,2,    0.000,2,   -999.0,9,   -999.0,9,-999.0000,-999,9,  -999.00,9,  -999.00,   -999.0,9,   -999.0,   5.0774,  27.2590
  49NZ20090410,   P21,    37,  1,     24, X12024,2,20090423,0213,-16.7465, -83.9983, 4631,    899.8,2,   4.6061,2,   4.60638,2,  34.5067,2,  34.5068,2,    62.43,2,    62.43,2,    67.53,2,     0.27,    42.87,2,     0.15,     0.01,2,     0.01,    3.069,2,    0.018,    0.001,2,    0.002,2,    0.000,2,   -999.0,9,   -999.0,9,-999.0000,-999,9,  -999.00,9,  -999.00,   -999.0,9,   -999.0,   4.5345,  27.3367
  49NZ20090410,   P21,    37,  1,     23, X12028,2,20090423,0213,-16.7465, -83.9983, 4631,    999.4,2,   4.2314,2,   4.23138,2,  34.5249,2,  34.5247,6,    69.22,2,    69.20,2,    76.53,2,     0.29,    42.39,2,     0.15,     0.01,2,     0.01,    3.041,2,    0.018,    0.001,2,    0.000,2,    0.000,2,   -999.0,9,   -999.0,9,-999.0000,-999,9,  -999.00,9,  -999.00,   -999.0,9,   -999.0,   4.1540,  27.3921
  49NZ20090410,   P21,    37,  1,     22, X12022,2,20090423,0213,-16.7465, -83.9983, 4631,   1200.8,2,   3.6508,2,   3.65110,2,  34.5592,2,  34.5595,2,    71.93,2,    72.01,2,    93.78,2,     0.33,    42.11,2,     0.15,     0.01,2,     0.01,    3.059,2,    0.018,    0.000,2,    0.000,2,    0.000,2,   -999.0,9,   -999.0,9,-999.0000,-999,9,  -999.00,9,  -999.00,   -999.0,9,   -999.0,   3.5612,  27.4798
  49NZ20090410,   P21,    37,  1,     21, X12021,2,20090423,0213,-16.7465, -83.9983, 4631,   1401.4,2,   3.1907,2,   3.19087,2,  34.5833,2,  34.5836,2,    80.42,2,    80.59,2,   105.98,2,     0.35,    41.37,2,     0.15,     0.01,2,     0.01,    3.001,2,    0.017,    0.000,2,    0.000,2,    0.000,2,   -999.0,9,   -999.0,9,-999.0000,-999,9,  -999.00,9,  -999.00,   -999.0,9,   -999.0,   3.0889,  27.5442
  49NZ20090410,   P21,    37,  1,     20, X12020,2,20090423,0213,-16.7465, -83.9983, 4631,   1599.5,2,   2.8165,2,   2.81659,2,  34.6036,2,  34.6036,2,    91.30,2,    91.37,2,   114.44,2,     0.37,    40.42,2,     0.15,     0.01,2,     0.01,    2.928,2,    0.017,    0.001,2,    0.000,2,    0.000,2,   -999.0,9,   -999.0,9,-999.0000,-999,9,  -999.00,9,  -999.00,   -999.0,9,   -999.0,   2.7025,  27.5954
  49NZ20090410,   P21,    37,  1,     19, X12019,2,20090423,0213,-16.7465, -83.9983, 4631,   1798.1,2,   2.5076,2,   2.50770,2,  34.6234,2,  34.6234,2,   101.27,2,   101.15,2,   122.01,2,     0.39,    39.88,2,     0.14,     0.01,2,     0.01,    2.850,2,    0.017,    0.000,2,    0.000,2,    0.000,2,   -999.0,9,   -999.0,9,-999.0000,-999,9,  -999.00,9,  -999.00,   -999.0,9,   -999.0,   2.3808,  27.6389
  49NZ20090410,   P21,    37,  1,     18, X12043,2,20090423,0213,-16.7465, -83.9983, 4631,   2001.2,2,   2.2852,2,   2.28554,2,  34.6381,2,  34.6383,2,   110.92,2,   110.81,2,   126.47,2,     0.40,    38.86,2,     0.14,     0.01,2,     0.01,    2.782,2,    0.017,    0.000,2,    0.002,2,    0.000,2,   -999.0,9,   -999.0,9,-999.0000,-999,9,  -999.00,9,  -999.00,   -999.0,9,   -999.0,   2.1443,  27.6702
  49NZ20090410,   P21,    37,  1,     17, X12042,2,20090423,0213,-16.7465, -83.9983, 4631,   2199.5,2,   2.0884,2,   2.08844,2,  34.6511,2,  34.6513,6,   124.91,2,   124.74,2,   126.31,2,     0.40,    37.75,2,     0.14,     0.01,2,     0.01,    2.684,2,    0.017,    0.000,2,    0.000,2,    0.000,2,   -999.0,9,   -999.0,9,-999.0000,-999,9,  -999.00,9,  -999.00,   -999.0,9,   -999.0,   1.9334,  27.6974
  49NZ20090410,   P21,    37,  1,     16, X12016,2,20090423,0213,-16.7465, -83.9983, 4631,   2401.1,2,   1.9564,2,   1.95645,2,  34.6610,2,  34.6616,2,   135.64,2,   135.54,2,   125.97,2,     0.40,    37.05,2,     0.14,     0.01,2,     0.01,    2.616,2,    0.017,    0.000,2,    0.000,2,    0.000,2,   -999.0,9,   -999.0,9,-999.0000,-999,9,  -999.00,9,  -999.00,   -999.0,9,   -999.0,   1.7858,  27.7168
  49NZ20090410,   P21,    37,  1,     15, X12015,2,20090423,0213,-16.7465, -83.9983, 4631,   2600.9,2,   1.8682,2,   1.86840,2,  34.6695,2,  34.6695,2,   137.25,2,   137.20,2,   129.79,2,     0.40,    36.93,2,     0.14,     0.01,2,     0.01,    2.603,2,    0.016,    0.000,2,    0.000,2,    0.000,2,   -999.0,9,   -999.0,9,-999.0000,-999,9,  -999.00,9,  -999.00,   -999.0,9,   -999.0,   1.6811,  27.7316
  49NZ20090410,   P21,    37,  1,     14, X12050,2,20090423,0213,-16.7465, -83.9983, 4631,   2800.0,2,   1.8266,2,   1.82671,2,  34.6742,2,  34.6742,2,   139.99,2,   139.77,2,   130.53,2,     0.41,    36.60,2,     0.14,     0.00,2,     0.01,    2.578,2,    0.016,    0.000,2,    0.000,2,    0.000,2,   -999.0,9,   -999.0,9,-999.0000,-999,9,  -999.00,9,  -999.00,   -999.0,9,   -999.0,   1.6218,  27.7398
  49NZ20090410,   P21,    37,  1,     13, X12013,7,20090423,0213,-16.7465, -83.9983, 4631,   2999.9,2,   1.8052,2,   1.80511,2,  34.6774,2,  34.6777,2,   139.23,2,   139.19,2,   133.49,2,     0.41,    36.70,2,     0.14,     0.01,2,     0.01,    2.585,2,    0.016,    0.000,2,    0.000,2,    0.000,2,   -999.0,9,   -999.0,9,-999.0000,-999,9,  -999.00,9,  -999.00,   -999.0,9,   -999.0,   1.5817,  27.7453
  49NZ20090410,   P21,    37,  1,     12, X12012,2,20090423,0213,-16.7465, -83.9983, 4631,   3250.4,2,   1.7915,2,   1.79157,2,  34.6806,2,  34.6805,2,   140.97,2,   141.01,2,   133.95,2,     0.41,    36.63,2,     0.14,     0.00,2,     0.01,    2.576,2,    0.016,    0.000,2,    0.000,2,    0.000,2,   -999.0,9,   -999.0,9,-999.0000,-999,9,  -999.00,9,  -999.00,   -999.0,9,   -999.0,   1.5435,  27.7507
  49NZ20090410,   P21,    37,  1,     11, X12041,2,20090423,0213,-16.7465, -83.9983, 4631,   3501.0,2,   1.7861,2,   1.78622,2,  34.6831,2,  34.6828,6,   142.92,2,   142.93,2,   133.59,2,     0.41,    36.43,2,     0.13,     0.01,2,     0.01,    2.558,2,    0.016,    0.000,2,    0.000,2,    0.000,2,   -999.0,9,   -999.0,9,-999.0000,-999,9,  -999.00,9,  -999.00,   -999.0,9,   -999.0,   1.5127,  27.7549
  49NZ20090410,   P21,    37,  1,     10, X12040,2,20090423,0213,-16.7465, -83.9983, 4631,   3750.1,2,   1.7777,2,   1.77780,2,  34.6855,2,  34.6858,2,   147.36,2,   147.36,2,   130.54,2,     0.41,    36.12,2,     0.13,     0.01,2,     0.01,    2.539,2,    0.016,    0.000,2,    0.000,2,    0.000,2,   -999.0,9,   -999.0,9,-999.0000,-999,9,  -999.00,9,  -999.00,   -999.0,9,   -999.0,   1.4782,  27.7594
  49NZ20090410,   P21,    37,  1,      9, X12009,2,20090423,0213,-16.7465, -83.9983, 4631,   3999.9,2,   1.7713,2,   1.77140,2,  34.6879,2,  34.6880,2,   151.51,2,   151.57,2,   127.94,2,     0.40,    35.73,2,     0.13,     0.01,2,     0.01,    2.511,2,    0.016,    0.000,2,    0.000,2,    0.000,2,   -999.0,9,   -999.0,9,-999.0000,-999,9,  -999.00,9,  -999.00,   -999.0,9,   -999.0,   1.4448,  27.7637
  49NZ20090410,   P21,    37,  1,      8, X12008,2,20090423,0213,-16.7465, -83.9983, 4631,   4250.0,2,   1.7777,2,   1.77772,2,  34.6892,2,  34.6896,2,   152.95,2,   153.08,2,   127.09,2,     0.40,    35.59,2,     0.13,     0.01,2,     0.01,    2.500,2,    0.016,    0.000,2,    0.000,2,    0.000,2,   -999.0,9,   -999.0,9,-999.0000,-999,9,  -999.00,9,  -999.00,   -999.0,9,   -999.0,   1.4229,  27.7664
  49NZ20090410,   P21,    37,  1,      7, X12007,2,20090423,0213,-16.7465, -83.9983, 4631,   4501.8,2,   1.7958,2,   1.79595,2,  34.6899,2,  34.6897,2,   153.56,2,   153.76,2,   126.91,2,     0.40,    35.57,2,     0.13,     0.01,2,     0.01,    2.500,2,    0.016,    0.002,2,    0.000,2,    0.000,2,   -999.0,9,   -999.0,9,-999.0000,-999,9,  -999.00,9,  -999.00,   -999.0,9,   -999.0,   1.4114,  27.7677
  49NZ20090410,   P21,    37,  1,      6, X12035,2,20090423,0213,-16.7465, -83.9983, 4631,   3750.3,2,   1.7777,2,   1.77780,2,  34.6856,2,  34.6851,2,   147.38,2,   147.47,2,   130.69,2,     0.41,    36.07,2,     0.13,     0.01,2,     0.01,    2.534,2,    0.016, -999.000,9, -999.000,9, -999.000,9,   -999.0,9,   -999.0,9,-999.0000,-999,9,  -999.00,9,  -999.00,   -999.0,9,   -999.0,   1.4782,  27.7595
  49NZ20090410,   P21,    37,  1,      5, X12038,9,20090423,0213,-16.7465, -83.9983, 4631,      9.1,2,  24.2218,2,  24.22281,2,  35.6650,2,-999.0000,9,   209.54,2,  -999.00,9,  -999.00,9,  -999.00,  -999.00,9,  -999.00,  -999.00,9,  -999.00, -999.000,9, -999.000, -999.000,9, -999.000,9, -999.000,9,   -999.0,9,   -999.0,9,-999.0000,-999,9,  -999.00,9,  -999.00,   -999.0,9,   -999.0,  24.2199,  24.0794
  49NZ20090410,   P21,    37,  1,      4, X12034,9,20090423,0213,-16.7465, -83.9983, 4631,     49.4,2,  19.6685,2,  19.67242,2,  35.1749,2,-999.0000,9,   242.51,2,  -999.00,9,  -999.00,9,  -999.00,  -999.00,9,  -999.00,  -999.00,9,  -999.00, -999.000,9, -999.000, -999.000,9, -999.000,9, -999.000,9,   -999.0,9,   -999.0,9,-999.0000,-999,9,  -999.00,9,  -999.00,   -999.0,9,   -999.0,  19.6595,  24.9846
  49NZ20090410,   P21,    37,  1,      3, X12033,9,20090423,0213,-16.7465, -83.9983, 4631,     99.4,2,  17.3999,2,  17.39749,2,  35.0463,2,-999.0000,9,   214.53,2,  -999.00,9,  -999.00,9,  -999.00,  -999.00,9,  -999.00,  -999.00,9,  -999.00, -999.000,9, -999.000, -999.000,9, -999.000,9, -999.000,9,   -999.0,9,   -999.0,9,-999.0000,-999,9,  -999.00,9,  -999.00,   -999.0,9,   -999.0,  17.3833,  25.4580
  49NZ20090410,   P21,    37,  1,      2, X12032,9,20090423,0213,-16.7465, -83.9983, 4631,   2999.8,2,   1.8051,2,   1.80504,2,  34.6774,2,-999.0000,9,   139.28,2,  -999.00,9,  -999.00,9,  -999.00,  -999.00,9,  -999.00,  -999.00,9,  -999.00, -999.000,9, -999.000, -999.000,9, -999.000,9, -999.000,9,   -999.0,9,   -999.0,9,-999.0000,-999,9,  -999.00,9,  -999.00,   -999.0,9,   -999.0,   1.5816,  27.7453
  49NZ20090410,   P21,    37,  1,      1, X12046,2,20090423,0213,-16.7465, -83.9983, 4631,   4695.5,2,   1.8194,2,   1.81928,2,  34.6895,2,  34.6898,6,   153.59,2,   153.77,2,   127.05,2,     0.40,    35.59,2,     0.13,     0.01,2,     0.01,    2.500,2,    0.016,    0.005,2,    0.000,2,    0.000,2,   -999.0,9,   -999.0,9,-999.0000,-999,9,  -999.00,9,  -999.00,   -999.0,9,   -999.0,   1.4114,  27.7675