BOTTLE,20220818CCHSIOAMB
EXPOCODE,SECT_ID,STNNBR,CASTNO,SAMPNO,BTLNBR,BTLNBR_FLAG_W,DATE,TIME,LATITUDE,LONGITUDE,DEPTH,CTDPRS,CTDPRS_FLAG_W,CTDTMP,CTDTMP_FLAG_W,SBE35,SBE35_FLAG_W,CTDSAL,CTDSAL_FLAG_W,SALNTY,SALNTY_FLAG_W,CTDOXY,CTDOXY_FLAG_W,OXYGEN,OXYGEN_FLAG_W,SILCAT,SILCAT_FLAG_W,SILUNC,NITRAT,NITRAT_FLAG_W,NRAUNC,NITRIT,NITRIT_FLAG_W,NRIUNC,PHSPHT,PHSPHT_FLAG_W,PHPUNC,CFC-11,CFC-11_FLAG_W,CFC-12,CFC-12_FLAG_W,CFC113,CFC113_FLAG_W,TCARBN,TCARBN_FLAG_W,ALKALI,ALKALI_FLAG_W,PH_TOT,PH_TMP,PH_TOT_FLAG_W,DELC13,DELC13_FLAG_W,C13ERR,DELC14,DELC14_FLAG_W,C14ERR,THETA,SIG0
,,,,,,,,,,,METERS,DBAR,,ITS-90,,ITS-90,,PSS-78,,PSS-78,,UMOL/KG,,UMOL/KG,,UMOL/KG,,UMOL/KG,UMOL/KG,,UMOL/KG,UMOL/KG,,UMOL/KG,UMOL/KG,,UMOL/KG,PMOL/KG,,PMOL/KG,,PMOL/KG,,UMOL/KG,,UMOL/KG,,,DEG C,,/MILLE,,/MILLE,/MILLE,,/MILLE,DEG C,KG/M^3
  49NZ20090410,   P21,    95,  1,     36, X12006,2,20090504,0459,-16.7497,-109.9912, 3589,      9.9,2,  25.7149,2,  25.71395,2,  36.1247,2,  36.1242,2,   206.50,2,   206.27,2,     0.81,2,     0.12,     0.93,2,     0.04,     0.02,2,     0.01,    0.388,2,    0.013,    1.567,2,    1.007,2, -999.000,5,   -999.0,9,   -999.0,9,-999.0000,-999,9,  -999.00,9,  -999.00,   -999.0,9,   -999.0,  25.7127,  23.9718
  49NZ20090410,   P21,    95,  1,     35, X12047,2,20090504,0459,-16.7497,-109.9912, 3589,     50.2,2,  25.7323,2,  25.73168,2,  36.2333,2,  36.2243,2,   206.19,2,   206.75,2,     0.74,2,     0.12,     0.59,2,     0.03,     0.02,2,     0.01,    0.367,2,    0.014,    1.589,2,    1.023,2, -999.000,5,   -999.0,9,   -999.0,9,-999.0000,-999,9,  -999.00,9,  -999.00,   -999.0,9,   -999.0,  25.7211,  24.0512
  49NZ20090410,   P21,    95,  1,     34, X12004,2,20090504,0459,-16.7497,-109.9912, 3589,     99.2,2,  22.2238,2,  22.22418,2,  36.1721,2,  36.1718,2,   214.71,2,   214.99,2,     0.36,2,     0.12,     0.15,3,     0.03,     0.02,2,     0.01,    0.293,2,    0.014,    1.889,6,    1.184,6, -999.000,5,   -999.0,9,   -999.0,9,-999.0000,-999,9,  -999.00,9,  -999.00,   -999.0,9,   -999.0,  22.2039,  25.0511
  49NZ20090410,   P21,    95,  1,     33, X12003,2,20090504,0459,-16.7497,-109.9912, 3589,    149.0,2,  20.5252,2,  20.51347,2,  35.8563,2,  35.9134,2,   207.48,2,   209.19,2,     0.36,2,     0.12,     0.51,2,     0.03,     0.38,2,     0.00,    0.324,2,    0.014,    2.022,2,    1.251,2, -999.000,5,   -999.0,9,   -999.0,9,-999.0000,-999,9,  -999.00,9,  -999.00,   -999.0,9,   -999.0,  20.4970,  25.2823
  49NZ20090410,   P21,    95,  1,     32, X12002,2,20090504,0459,-16.7497,-109.9912, 3589,    200.0,2,  19.0424,2,  19.05703,2,  35.5477,2,  35.5314,2,   202.18,2,   202.18,2,     0.52,2,     0.12,     2.84,2,     0.04,     0.03,2,     0.01,    0.482,2,    0.013,    2.192,2,    1.330,2,    0.186,2,   -999.0,9,   -999.0,9,-999.0000,-999,9,  -999.00,9,  -999.00,   -999.0,9,   -999.0,  19.0065,  25.4382
  49NZ20090410,   P21,    95,  1,     31, X12001,2,20090504,0459,-16.7497,-109.9912, 3589,    252.0,2,  14.6435,2,  14.64660,2,  34.8100,2,  34.8215,6,   180.13,2,   180.31,2,     1.97,2,     0.12,     9.46,2,     0.06,     0.01,2,     0.01,    0.898,2,    0.013,    2.573,2,    1.484,2,    0.078,2,   -999.0,9,   -999.0,9,-999.0000,-999,9,  -999.00,9,  -999.00,   -999.0,9,   -999.0,  14.6059,  25.9112
  49NZ20090410,   P21,    95,  1,     30, X12030,2,20090504,0459,-16.7497,-109.9912, 3589,    329.8,2,  10.3386,2,  10.33850,2,  34.5127,2,  34.5138,2,    70.79,2,    73.59,2,    15.54,2,     0.15,    25.70,2,     0.10,     0.01,2,     0.01,    2.274,2,    0.016,    1.496,2,    0.781,2,    0.034,2,   -999.0,9,   -999.0,9,-999.0000,-999,9,  -999.00,9,  -999.00,   -999.0,9,   -999.0,  10.2995,  26.5200
  49NZ20090410,   P21,    95,  1,     29, X12044,2,20090504,0459,-16.7497,-109.9912, 3589,    430.0,2,   8.0267,2,   8.03219,2,  34.4938,2,  34.4930,2,    69.82,2,    69.77,2,    22.29,2,     0.17,    34.40,2,     0.13,     0.01,2,     0.01,    2.547,2,    0.016,    0.429,2,    0.226,2,    0.017,2,   -999.0,9,   -999.0,9,-999.0000,-999,9,  -999.00,9,  -999.00,   -999.0,9,   -999.0,   7.9828,  26.8789
  49NZ20090410,   P21,    95,  1,     28, X12048,2,20090504,0459,-16.7497,-109.9912, 3589,    529.1,2,   6.8440,2,   6.84171,2,  34.4758,2,  34.4751,6,    86.94,2,    86.92,2,    28.33,2,     0.18,    36.41,2,     0.13,     0.01,2,     0.01,    2.565,2,    0.016,    0.172,2,    0.093,2,    0.000,2,   -999.0,9,   -999.0,9,-999.0000,-999,9,  -999.00,9,  -999.00,   -999.0,9,   -999.0,   6.7943,  27.0340
  49NZ20090410,   P21,    95,  1,     27, X12027,2,20090504,0459,-16.7497,-109.9912, 3589,    630.7,2,   6.1572,2,   6.16034,2,  34.4919,2,  34.4913,2,    71.10,2,    72.72,2,    38.76,2,     0.20,    39.34,2,     0.14,     0.01,2,     0.01,    2.767,2,    0.017,    0.029,6,    0.016,6,    0.000,6,   -999.0,9,   -999.0,9,-999.0000,-999,9,  -999.00,9,  -999.00,   -999.0,9,   -999.0,   6.1008,  27.1383
  49NZ20090410,   P21,    95,  1,     26, X12026,2,20090504,0459,-16.7497,-109.9912, 3589,    730.9,2,   5.5751,2,   5.57596,2,  34.4956,2,  34.4948,2,    63.67,2,    63.27,2,    48.80,2,     0.23,    41.51,2,     0.15,     0.01,2,     0.01,    2.924,2,    0.017,    0.004,2,    0.001,2,    0.000,2,   -999.0,9,   -999.0,9,-999.0000,-999,9,  -999.00,9,  -999.00,   -999.0,9,   -999.0,   5.5124,  27.2146
  49NZ20090410,   P21,    95,  1,     25, X12025,2,20090504,0459,-16.7497,-109.9912, 3589,    830.5,2,   5.0656,2,   5.06674,2,  34.4999,2,  34.4993,2,    68.00,2,    68.15,2,    57.25,2,     0.24,    41.79,2,     0.15,     0.01,2,     0.01,    2.964,2,    0.017,    0.003,2,    0.001,2,    0.000,2,   -999.0,9,   -999.0,9,-999.0000,-999,9,  -999.00,9,  -999.00,   -999.0,9,   -999.0,   4.9970,  27.2791
  49NZ20090410,   P21,    95,  1,     24, X12024,2,20090504,0459,-16.7497,-109.9912, 3589,    930.4,2,   4.6903,2,   4.69120,2,  34.5140,2,  34.5138,2,    64.63,2,    64.51,2,    66.77,2,     0.27,    42.45,2,     0.15,     0.01,2,     0.01,    3.028,2,    0.018,    0.001,2,    0.000,2,    0.000,2,   -999.0,9,   -999.0,9,-999.0000,-999,9,  -999.00,9,  -999.00,   -999.0,9,   -999.0,   4.6154,  27.3335
  49NZ20090410,   P21,    95,  1,     23, X12028,2,20090504,0459,-16.7497,-109.9912, 3589,   1069.1,2,   4.1571,2,   4.15585,2,  34.5321,2,  34.5324,6,    71.14,2,    71.12,2,    78.45,2,     0.29,    42.08,2,     0.15,     0.00,2,     0.01,    3.031,2,    0.018,    0.001,2,    0.001,2,    0.000,2,   -999.0,9,   -999.0,9,-999.0000,-999,9,  -999.00,9,  -999.00,   -999.0,9,   -999.0,   4.0743,  27.4062
  49NZ20090410,   P21,    95,  1,     22, X12022,2,20090504,0459,-16.7497,-109.9912, 3589,   1271.8,2,   3.5502,2,   3.55033,2,  34.5588,2,  34.5598,2,    82.38,2,    82.53,2,    92.44,2,     0.32,    41.28,2,     0.15,     0.01,2,     0.01,    2.981,2,    0.017,    0.001,2,    0.000,2,    0.000,2,   -999.0,9,   -999.0,9,-999.0000,-999,9,  -999.00,9,  -999.00,   -999.0,9,   -999.0,   3.4557,  27.4899
  49NZ20090410,   P21,    95,  1,     21, X12021,2,20090504,0459,-16.7497,-109.9912, 3589,   1470.0,2,   3.0525,2,   3.05260,2,  34.5852,2,  34.5855,2,    93.71,2,    93.85,2,   104.11,2,     0.35,    40.38,2,     0.15,     0.00,2,     0.01,    2.906,2,    0.017,    0.002,2,    0.001,2,    0.000,2,   -999.0,9,   -999.0,9,-999.0000,-999,9,  -999.00,9,  -999.00,   -999.0,9,   -999.0,   2.9465,  27.5589
  49NZ20090410,   P21,    95,  1,     20, X12020,2,20090504,0459,-16.7497,-109.9912, 3589,   1668.1,2,   2.6856,2,   2.68521,2,  34.6072,2,  34.6082,2,   106.50,2,   106.27,2,   112.00,2,     0.37,    39.21,2,     0.14,     0.01,2,     0.01,    2.823,2,    0.017,    0.000,2,    0.000,2,    0.000,2,   -999.0,9,   -999.0,9,-999.0000,-999,9,  -999.00,9,  -999.00,   -999.0,9,   -999.0,   2.5674,  27.6100
  49NZ20090410,   P21,    95,  1,     19, X12019,2,20090504,0459,-16.7497,-109.9912, 3589,   1869.4,2,   2.3803,2,   2.38003,2,  34.6257,2,  34.6272,6,   120.73,2,   121.31,2,   116.08,2,     0.37,    38.06,2,     0.14,     0.01,2,     0.01,    2.717,2,    0.017,    0.001,2,    0.000,2,    0.000,2,   -999.0,9,   -999.0,9,-999.0000,-999,9,  -999.00,9,  -999.00,   -999.0,9,   -999.0,   2.2493,  27.6517
  49NZ20090410,   P21,    95,  1,     18, X12043,2,20090504,0459,-16.7497,-109.9912, 3589,   2069.4,2,   2.1074,2,   2.10738,2,  34.6418,2,  34.6425,2,   140.71,2,   141.00,2,   115.49,2,     0.37,    36.44,2,     0.13,     0.01,2,     0.01,    2.581,2,    0.016, -999.000,9, -999.000,9, -999.000,9,   -999.0,9,   -999.0,9,-999.0000,-999,9,  -999.00,9,  -999.00,   -999.0,9,   -999.0,   1.9634,  27.6876
  49NZ20090410,   P21,    95,  1,     17, X12042,2,20090504,0459,-16.7497,-109.9912, 3589,   2269.7,2,   1.9332,2,   1.93328,2,  34.6570,2,  34.6578,2,   152.98,2,   153.30,2,   115.61,2,     0.37,    35.58,2,     0.13,     0.01,2,     0.01,    2.504,2,    0.016,    0.000,2,    0.002,2,    0.000,2,   -999.0,9,   -999.0,9,-999.0000,-999,9,  -999.00,9,  -999.00,   -999.0,9,   -999.0,   1.7747,  27.7144
  49NZ20090410,   P21,    95,  1,     16, X12016,2,20090504,0459,-16.7497,-109.9912, 3589,   2470.3,2,   1.8437,2,   1.84367,2,  34.6692,2,  34.6700,2,   154.46,2,   154.75,2,   119.00,2,     0.38,    35.33,2,     0.13,     0.01,2,     0.01,    2.481,2,    0.016, -999.000,9, -999.000,9, -999.000,9,   -999.0,9,   -999.0,9,-999.0000,-999,9,  -999.00,9,  -999.00,   -999.0,9,   -999.0,   1.6689,  27.7322
  49NZ20090410,   P21,    95,  1,     15, X12015,2,20090504,0459,-16.7497,-109.9912, 3589,   2669.4,2,   1.8213,2,   1.82117,2,  34.6766,2,  34.6768,6,   150.89,2,   151.12,2,   124.46,2,     0.39,    35.57,2,     0.13,     0.01,2,     0.01,    2.508,2,    0.016, -999.000,9, -999.000,9, -999.000,9,   -999.0,9,   -999.0,9,-999.0000,-999,9,  -999.00,9,  -999.00,   -999.0,9,   -999.0,   1.6288,  27.7411
  49NZ20090410,   P21,    95,  1,     14, X12050,2,20090504,0459,-16.7497,-109.9912, 3589,   2870.4,2,   1.8235,2,   1.82343,2,  34.6786,2,  34.6789,2,   146.55,2,   146.73,2,   129.18,2,     0.40,    36.01,2,     0.13,     0.01,2,     0.01,    2.539,2,    0.016,    0.001,2,    0.000,2,    0.000,2,   -999.0,9,   -999.0,9,-999.0000,-999,9,  -999.00,9,  -999.00,   -999.0,9,   -999.0,   1.6121,  27.7440
  49NZ20090410,   P21,    95,  1,     13, X12013,7,20090504,0459,-16.7497,-109.9912, 3589,   3079.7,2,   1.8279,2,   1.82792,2,  34.6791,2,  34.6799,2,   144.62,2,   144.96,2,   130.97,2,     0.41,    36.14,2,     0.13,     0.01,2,     0.01,    2.548,2,    0.016, -999.000,9, -999.000,9, -999.000,9,   -999.0,9,   -999.0,9,-999.0000,-999,9,  -999.00,9,  -999.00,   -999.0,9,   -999.0,   1.5961,  27.7456
  49NZ20090410,   P21,    95,  1,     12, X12012,2,20090504,0459,-16.7497,-109.9912, 3589,   3329.9,2,   1.8358,2,   1.83588,2,  34.6795,2,  34.6795,2,   142.82,2,   143.14,2,   133.45,2,     0.41,    36.34,2,     0.13,     0.01,2,     0.01,    2.560,2,    0.016,    0.000,2,    0.000,2,    0.000,2,   -999.0,9,   -999.0,9,-999.0000,-999,9,  -999.00,9,  -999.00,   -999.0,9,   -999.0,   1.5788,  27.7472
  49NZ20090410,   P21,    95,  1,     11, X12041,2,20090504,0459,-16.7497,-109.9912, 3589,   3580.9,2,   1.8481,2,   1.84795,2,  34.6821,2,  34.6828,2,   145.99,2,   146.35,2,   130.63,2,     0.41,    36.04,2,     0.13,     0.00,2,     0.01,    2.548,2,    0.016,    0.000,2,    0.002,2,    0.000,2,   -999.0,9,   -999.0,9,-999.0000,-999,9,  -999.00,9,  -999.00,   -999.0,9,   -999.0,   1.5647,  27.7503
  49NZ20090410,   P21,    95,  1,     10, X12040,9,20090504,0459,-16.7497,-109.9912, 3589,      9.9,2,  25.7129,2,  25.71266,2,  36.1240,2,-999.0000,9,   206.51,2,  -999.00,9,  -999.00,9,  -999.00,  -999.00,9,  -999.00,  -999.00,9,  -999.00, -999.000,9, -999.000, -999.000,9, -999.000,9, -999.000,9,   -999.0,9,   -999.0,9,-999.0000,-999,9,  -999.00,9,  -999.00,   -999.0,9,   -999.0,  25.7107,  23.9719
  49NZ20090410,   P21,    95,  1,      9, X12009,9,20090504,0459,-16.7497,-109.9912, 3589,     49.5,2,  25.7305,2,  25.73213,2,  36.2222,2,-999.0000,9,   206.15,2,  -999.00,9,  -999.00,9,  -999.00,  -999.00,9,  -999.00,  -999.00,9,  -999.00, -999.000,9, -999.000, -999.000,9, -999.000,9, -999.000,9,   -999.0,9,   -999.0,9,-999.0000,-999,9,  -999.00,9,  -999.00,   -999.0,9,   -999.0,  25.7195,  24.0433
  49NZ20090410,   P21,    95,  1,      8, X12008,9,20090504,0459,-16.7497,-109.9912, 3589,     99.3,2,  22.2233,2,  22.22998,2,  36.1725,2,-999.0000,9,   214.68,2,  -999.00,9,  -999.00,9,  -999.00,  -999.00,9,  -999.00,  -999.00,9,  -999.00, -999.000,9, -999.000, -999.000,9, -999.000,9, -999.000,9,   -999.0,9,   -999.0,9,-999.0000,-999,9,  -999.00,9,  -999.00,   -999.0,9,   -999.0,  22.2034,  25.0515
  49NZ20090410,   P21,    95,  1,      7, X12007,9,20090504,0459,-16.7497,-109.9912, 3589,    148.7,2,  20.6411,2,  20.62353,2,  35.8851,2,-999.0000,9,   208.75,2,  -999.00,9,  -999.00,9,  -999.00,  -999.00,9,  -999.00,  -999.00,9,  -999.00, -999.000,9, -999.000, -999.000,9, -999.000,9, -999.000,9,   -999.0,9,   -999.0,9,-999.0000,-999,9,  -999.00,9,  -999.00,   -999.0,9,   -999.0,  20.6129,  25.2731
  49NZ20090410,   P21,    95,  1,      6, X12035,9,20090504,0459,-16.7497,-109.9912, 3589,    199.8,2,  18.9882,2,  18.99369,2,  35.5376,2,-999.0000,9,   202.21,2,  -999.00,9,  -999.00,9,  -999.00,  -999.00,9,  -999.00,  -999.00,9,  -999.00, -999.000,9, -999.000, -999.000,9, -999.000,9, -999.000,9,   -999.0,9,   -999.0,9,-999.0000,-999,9,  -999.00,9,  -999.00,   -999.0,9,   -999.0,  18.9525,  25.4443
  49NZ20090410,   P21,    95,  1,      5, X12038,9,20090504,0459,-16.7497,-109.9912, 3589,    930.3,2,   4.6936,2,   4.69351,2,  34.5138,2,-999.0000,9,    64.96,2,  -999.00,9,  -999.00,9,  -999.00,  -999.00,9,  -999.00,  -999.00,9,  -999.00, -999.000,9, -999.000, -999.000,9, -999.000,9, -999.000,9,   -999.0,9,   -999.0,9,-999.0000,-999,9,  -999.00,9,  -999.00,   -999.0,9,   -999.0,   4.6187,  27.3330
  49NZ20090410,   P21,    95,  1,      4, X12034,9,20090504,0459,-16.7497,-109.9912, 3589,   2669.0,2,   1.8213,2,   1.82124,2,  34.6767,2,-999.0000,9,   150.89,2,  -999.00,9,  -999.00,9,  -999.00,  -999.00,9,  -999.00,  -999.00,9,  -999.00, -999.000,9, -999.000, -999.000,9, -999.000,9, -999.000,9,   -999.0,9,   -999.0,9,-999.0000,-999,9,  -999.00,9,  -999.00,   -999.0,9,   -999.0,   1.6288,  27.7412
  49NZ20090410,   P21,    95,  1,      3, X12033,9,20090504,0459,-16.7497,-109.9912, 3589,   2870.5,2,   1.8234,2,   1.82335,2,  34.6786,2,-999.0000,9,   146.55,2,  -999.00,9,  -999.00,9,  -999.00,  -999.00,9,  -999.00,  -999.00,9,  -999.00, -999.000,9, -999.000, -999.000,9, -999.000,9, -999.000,9,   -999.0,9,   -999.0,9,-999.0000,-999,9,  -999.00,9,  -999.00,   -999.0,9,   -999.0,   1.6119,  27.7440
  49NZ20090410,   P21,    95,  1,      2, X12032,9,20090504,0459,-16.7497,-109.9912, 3589,   3079.6,2,   1.8279,2,   1.82798,2,  34.6792,2,-999.0000,9,   144.66,2,  -999.00,9,  -999.00,9,  -999.00,  -999.00,9,  -999.00,  -999.00,9,  -999.00, -999.000,9, -999.000, -999.000,9, -999.000,9, -999.000,9,   -999.0,9,   -999.0,9,-999.0000,-999,9,  -999.00,9,  -999.00,   -999.0,9,   -999.0,   1.5961,  27.7456
  49NZ20090410,   P21,    95,  1,      1, X12046,2,20090504,0459,-16.7497,-109.9912, 3589,   3626.3,2,   1.8522,2,   1.85223,2,  34.6823,2,  34.6826,6,   146.15,2,   146.54,2,   130.25,2,     0.41,    36.03,2,     0.13,     0.01,2,     0.01,    2.542,2,    0.016,    0.000,2,    0.001,2,    0.000,2,   -999.0,9,   -999.0,9,-999.0000,-999,9,  -999.00,9,  -999.00,   -999.0,9,   -999.0,   1.5639,  27.7505