BOTTLE,20220818CCHSIOAMB
EXPOCODE,SECT_ID,STNNBR,CASTNO,SAMPNO,BTLNBR,BTLNBR_FLAG_W,DATE,TIME,LATITUDE,LONGITUDE,DEPTH,CTDPRS,CTDPRS_FLAG_W,CTDTMP,CTDTMP_FLAG_W,SBE35,SBE35_FLAG_W,CTDSAL,CTDSAL_FLAG_W,SALNTY,SALNTY_FLAG_W,CTDOXY,CTDOXY_FLAG_W,OXYGEN,OXYGEN_FLAG_W,SILCAT,SILCAT_FLAG_W,SILUNC,NITRAT,NITRAT_FLAG_W,NRAUNC,NITRIT,NITRIT_FLAG_W,NRIUNC,PHSPHT,PHSPHT_FLAG_W,PHPUNC,CFC-11,CFC-11_FLAG_W,CFC-12,CFC-12_FLAG_W,CFC113,CFC113_FLAG_W,TCARBN,TCARBN_FLAG_W,ALKALI,ALKALI_FLAG_W,PH_TOT,PH_TMP,PH_TOT_FLAG_W,DELC13,DELC13_FLAG_W,C13ERR,DELC14,DELC14_FLAG_W,C14ERR,THETA,SIG0
,,,,,,,,,,,METERS,DBAR,,ITS-90,,ITS-90,,PSS-78,,PSS-78,,UMOL/KG,,UMOL/KG,,UMOL/KG,,UMOL/KG,UMOL/KG,,UMOL/KG,UMOL/KG,,UMOL/KG,UMOL/KG,,UMOL/KG,PMOL/KG,,PMOL/KG,,PMOL/KG,,UMOL/KG,,UMOL/KG,,,DEG C,,/MILLE,,/MILLE,/MILLE,,/MILLE,DEG C,KG/M^3
  49NZ20090410,   P21,    35,  1,     36, X12006,2,20090422,0602,-16.7453, -82.6662, 4712,     10.1,2,  23.4895,2,  23.48891,2,  35.6020,2,  35.6031,2,   213.39,2,   213.78,2,     0.83,2,     0.12,     0.05,2,     0.03,     0.01,2,     0.01,    0.518,2,    0.013,    1.766,2,    1.112,2, -999.000,5,   2068.2,2,   2365.0,2,   8.0302,  25,6,  -999.00,9,  -999.00,   -999.0,9,   -999.0,  23.4874,  24.2484
  49NZ20090410,   P21,    35,  1,     35, X12047,2,20090422,0602,-16.7453, -82.6662, 4712,     49.7,2,  23.0158,2,  23.02809,2,  35.5529,2,  35.4189,4,   218.81,2,   236.94,2,     1.01,2,     0.12,     0.28,2,     0.03,     0.05,2,     0.01,    0.556,2,    0.013,    1.989,2,    1.246,2, -999.000,5,   2066.7,6,   2352.0,2,   8.0150,  25,2,  -999.00,9,  -999.00,   -999.0,9,   -999.0,  23.0056,  24.3514
  49NZ20090410,   P21,    35,  1,     34, X12004,2,20090422,0602,-16.7453, -82.6662, 4712,    100.7,2,  15.5330,2,  15.53471,2,  34.8003,2,  34.8013,2,   181.58,2,   177.43,2,     3.58,2,     0.13,    13.23,2,     0.07,     0.04,2,     0.01,    1.363,2,    0.014,    2.515,6,    1.501,6,    0.180,6,   2138.3,2,   2301.3,6,   7.7840,  25,2,  -999.00,9,  -999.00,   -999.0,9,   -999.0,  15.5174,  25.7032
  49NZ20090410,   P21,    35,  1,     33, X12003,2,20090422,0602,-16.7453, -82.6662, 4712,    151.0,2,  12.9852,2,  12.99065,2,  34.7687,2,  34.7775,2,    14.08,2,    13.50,2,    19.26,2,     0.16,    21.85,2,     0.09,     0.02,2,     0.01,    2.677,2,    0.017,    1.546,2,    0.890,2,    0.052,2,   2266.8,2,   2296.5,2,   7.4263,  25,6,  -999.00,9,  -999.00,   -999.0,9,   -999.0,  12.9645,  26.2208
  49NZ20090410,   P21,    35,  1,     32, X12002,2,20090422,0602,-16.7453, -82.6662, 4712,    202.6,2,  12.0619,2,  12.05668,2,  34.8027,2,  34.8024,2,     1.48,2,     1.07,2,    25.15,2,     0.17,    21.34,2,     0.09,     0.02,2,     0.01,    2.741,2,    0.017,    0.816,2,    0.465,2,    0.019,2,   2275.4,2,   2301.7,2,   7.4133,  25,2,  -999.00,9,  -999.00,   -999.0,9,   -999.0,  12.0354,  26.4291
  49NZ20090410,   P21,    35,  1,     31, X12001,2,20090422,0602,-16.7453, -82.6662, 4712,    251.4,2,  11.2050,2,  11.20500,2,  34.7648,2,  34.7642,6,     1.44,2,     1.01,3,    26.36,2,     0.18,    25.97,2,     0.11,     1.08,2,     0.01,    2.759,2,    0.017,    0.500,2,    0.275,2,    0.009,2,   2280.5,2,   2297.5,2,   7.3950,  25,2,  -999.00,9,  -999.00,   -999.0,9,   -999.0,  11.1736,  26.5608
  49NZ20090410,   P21,    35,  1,     30, X12030,2,20090422,0602,-16.7453, -82.6662, 4712,    279.4,2,  10.8479,2,  10.84867,2,  34.7600,2,  34.7561,2,     1.49,2,     1.36,3,    28.20,2,     0.18,    29.81,4,     0.43,     2.15,2,     0.01,    2.896,4,    0.022,    0.352,2,    0.197,2,    0.013,2,   2280.6,2,   2299.2,2,   7.3924,  25,2,  -999.00,9,  -999.00,   -999.0,9,   -999.0,  10.8137,  26.6222
  49NZ20090410,   P21,    35,  1,     29, X12044,2,20090422,0602,-16.7453, -82.6662, 4712,    349.3,2,   9.8041,2,   9.80608,2,  34.6965,2,  34.6934,2,     1.74,2,     1.55,2,    29.78,2,     0.18,    35.27,2,     0.13,     0.01,2,     0.01,    2.829,2,    0.017,    0.176,2,    0.092,2,    0.007,2,   2284.5,2,   2298.1,2,   7.3826,  25,2,  -999.00,9,  -999.00,   -999.0,9,   -999.0,   9.7639,  26.7550
  49NZ20090410,   P21,    35,  1,     28, X12048,2,20090422,0602,-16.7453, -82.6662, 4712,    471.8,2,   8.1283,2,   8.12942,2,  34.5988,2,  34.5974,6,    10.47,2,    11.16,2,    34.73,2,     0.20,    40.41,2,     0.15,     0.01,2,     0.01,    2.979,2,    0.017,    0.096,2,    0.051,2,    0.005,2,   4582.7,4,   2299.5,2,   7.3719,  25,2,  -999.00,9,  -999.00,   -999.0,9,   -999.0,   8.0795,  26.9468
  49NZ20090410,   P21,    35,  1,     27, X12027,2,20090422,0602,-16.7453, -82.6662, 4712,    570.8,2,   6.9799,2,   6.97917,2,  34.5346,2,  34.5349,2,    25.77,2,    26.04,2,    39.09,2,     0.20,    42.25,2,     0.15,     0.01,2,     0.01,    3.036,2,    0.018,    0.076,6,    0.038,6,    0.002,6,   2289.0,2,   2299.8,2,   7.3806,  25,2,  -999.00,9,  -999.00,   -999.0,9,   -999.0,   6.9255,  27.0624
  49NZ20090410,   P21,    35,  1,     26, X12026,2,20090422,0602,-16.7453, -82.6662, 4712,    671.1,2,   6.1709,2,   6.17070,2,  34.5147,2,  34.5123,2,    30.15,2,    31.72,2,    46.60,2,     0.22,    43.59,2,     0.15,     0.01,2,     0.01,    3.124,2,    0.018,    0.023,2,    0.013,2,    0.001,2,   2296.9,6,   2308.2,2,   7.3798,  25,2,  -999.00,9,  -999.00,   -999.0,9,   -999.0,   6.1106,  27.1551
  49NZ20090410,   P21,    35,  1,     25, X12025,2,20090422,0602,-16.7453, -82.6662, 4712,    771.0,2,   5.5215,2,   5.52212,2,  34.5057,2,  34.5047,2,    36.58,2,    37.07,2,    55.03,2,     0.24,    44.21,2,     0.16,     0.01,2,     0.01,    3.167,2,    0.018,    0.009,2,    0.005,2,    0.000,2,   2303.9,2,   2317.4,6,   7.3826,  25,2,  -999.00,9,  -999.00,   -999.0,9,   -999.0,   5.4555,  27.2295
  49NZ20090410,   P21,    35,  1,     24, X12024,2,20090422,0602,-16.7453, -82.6662, 4712,    869.3,2,   5.0382,2,   5.03935,2,  34.5143,2,  34.5142,2,    41.90,2,    42.41,2,    63.96,2,     0.26,    44.43,2,     0.16,     0.01,2,     0.01,    3.185,2,    0.018,    0.005,2,    0.001,2,    0.000,2,   2309.9,2,   2326.5,2,   7.3915,  25,6,  -999.00,9,  -999.00,   -999.0,9,   -999.0,   4.9663,  27.2940
  49NZ20090410,   P21,    35,  1,     23, X12028,2,20090422,0602,-16.7453, -82.6662, 4712,    969.3,2,   4.5893,2,   4.59084,2,  34.5194,2,  34.5191,6,    52.54,2,    53.00,2,    71.82,2,     0.28,    43.64,2,     0.15,     0.01,2,     0.01,    3.153,2,    0.018,    0.004,2,    0.001,2,    0.000,2,   2313.5,2,   2337.3,2,   7.4082,  25,2,  -999.00,9,  -999.00,   -999.0,9,   -999.0,   4.5118,  27.3492
  49NZ20090410,   P21,    35,  1,     22, X12022,2,20090422,0602,-16.7453, -82.6662, 4712,   1130.4,2,   3.9699,2,   3.97091,2,  34.5349,2,  34.5351,2,    72.09,2,    71.99,2,    82.56,2,     0.30,    42.11,2,     0.15,     0.01,2,     0.01,    3.050,2,    0.018,    0.002,2,    0.001,2,    0.000,2,   2315.8,2,   2349.6,2,   7.4427,  25,2,  -999.00,9,  -999.00,   -999.0,9,   -999.0,   3.8835,  27.4282
  49NZ20090410,   P21,    35,  1,     21, X12021,2,20090422,0602,-16.7453, -82.6662, 4712,   1330.7,2,   3.3992,2,   3.39939,2,  34.5682,2,  34.5683,2,    79.44,2,    79.66,2,    98.28,2,     0.34,    41.58,2,     0.15,     0.01,2,     0.01,    3.018,2,    0.017,    0.002,2,    0.000,2,    0.000,2,   2326.9,2,   2368.2,2,   7.4574,  25,2,  -999.00,9,  -999.00,   -999.0,9,   -999.0,   3.3012,  27.5123
  49NZ20090410,   P21,    35,  1,     20, X12020,2,20090422,0602,-16.7453, -82.6662, 4712,   1528.4,2,   2.9407,2,   2.94074,2,  34.5950,2,  34.5952,2,    88.96,2,    88.94,2,   110.19,2,     0.36,    40.71,2,     0.15,     0.01,2,     0.01,    2.954,2,    0.017,    0.001,2,    0.000,2,    0.000,2,   2335.7,2,   2380.8,2,   7.4760,  25,6,  -999.00,9,  -999.00,   -999.0,9,   -999.0,   2.8311,  27.5771
  49NZ20090410,   P21,    35,  1,     19, X12019,2,20090422,0602,-16.7453, -82.6662, 4712,   1732.0,2,   2.6084,2,   2.60841,2,  34.6159,2,  34.6160,2,    98.91,2,    98.73,2,   118.54,2,     0.38,    39.99,2,     0.14,     0.01,2,     0.01,    2.883,2,    0.017,    0.000,2,    0.000,2,    0.000,2,   2338.3,2,   2390.8,2,   7.4955,  25,2,  -999.00,9,  -999.00,   -999.0,9,   -999.0,   2.4859,  27.6240
  49NZ20090410,   P21,    35,  1,     18, X12043,2,20090422,0602,-16.7453, -82.6662, 4712,   1930.0,2,   2.3447,2,   2.34486,2,  34.6316,2,  34.6320,2,   113.82,2,   113.62,2,   121.30,2,     0.39,    38.78,2,     0.14,     0.00,2,     0.01,    2.775,2,    0.017,    0.000,2,    0.000,2,    0.000,2,   2333.2,2,   2396.5,2,   7.5219,  25,2,  -999.00,9,  -999.00,   -999.0,9,   -999.0,   2.2090,  27.6597
  49NZ20090410,   P21,    35,  1,     17, X12042,2,20090422,0602,-16.7453, -82.6662, 4712,   2129.2,2,   2.1402,2,   2.14017,2,  34.6460,2,  34.6465,2,   124.83,2,   124.67,2,   123.63,2,     0.39,    37.80,2,     0.14,     0.01,2,     0.01,    2.695,2,    0.017, -999.000,9, -999.000,9, -999.000,9,   2328.4,2,   2399.6,2,   7.5420,  25,2,  -999.00,9,  -999.00,   -999.0,9,   -999.0,   1.9905,  27.6888
  49NZ20090410,   P21,    35,  1,     16, X12016,2,20090422,0602,-16.7453, -82.6662, 4712,   2330.5,2,   1.9979,2,   1.99795,2,  34.6576,2,  34.6577,6,   133.09,2,   132.83,2,   125.18,2,     0.39,    37.33,2,     0.14,     0.01,2,     0.01,    2.638,2,    0.017, -999.000,9, -999.000,9, -999.000,9,   2327.2,6,   2402.2,2,   7.5562,  25,2,  -999.00,9,  -999.00,   -999.0,9,   -999.0,   1.8329,  27.7104
  49NZ20090410,   P21,    35,  1,     15, X12015,2,20090422,0602,-16.7453, -82.6662, 4712,   2532.2,2,   1.8907,2,   1.89092,2,  34.6671,2,  34.6673,2,   138.90,2,   138.61,2,   126.85,2,     0.40,    36.70,2,     0.14,     0.01,2,     0.01,    2.600,2,    0.016,    0.001,2,    0.001,2,    0.000,2,   2327.7,2,   2406.1,6,   7.5676,  25,2,  -999.00,9,  -999.00,   -999.0,9,   -999.0,   1.7095,  27.7274
  49NZ20090410,   P21,    35,  1,     14, X12050,2,20090422,0602,-16.7453, -82.6662, 4712,   2729.3,2,   1.8365,2,   1.83652,2,  34.6729,2,  34.6732,2,   136.94,2,   136.70,2,   131.68,2,     0.41,    36.91,2,     0.14,     0.01,2,     0.01,    2.603,2,    0.016, -999.000,9, -999.000,9, -999.000,9,   2334.0,2,   2413.0,2,   7.5693,  25,6,  -999.00,9,  -999.00,   -999.0,9,   -999.0,   1.6381,  27.7375
  49NZ20090410,   P21,    35,  1,     13, X12013,7,20090422,0602,-16.7453, -82.6662, 4712,   2930.3,2,   1.8055,2,   1.80558,2,  34.6768,2,  34.6773,2,   136.48,2,   136.27,2,   134.85,2,     0.42,    37.12,2,     0.14,     0.01,2,     0.01,    2.612,2,    0.017, -999.000,9, -999.000,9, -999.000,9,   2336.4,2,   2418.2,2,   7.5732,  25,2,  -999.00,9,  -999.00,   -999.0,9,   -999.0,   1.5887,  27.7443
  49NZ20090410,   P21,    35,  1,     12, X12012,2,20090422,0602,-16.7453, -82.6662, 4712,   3172.5,2,   1.7954,2,   1.79559,2,  34.6795,2,  34.6798,2,   137.08,2,   136.94,2,   136.26,2,     0.42,    36.96,2,     0.14,     0.00,2,     0.01,    2.608,2,    0.016,    0.002,2,    0.001,2,    0.000,2,   2339.1,2,   2421.2,2,   7.5762,  25,2,  -999.00,9,  -999.00,   -999.0,9,   -999.0,   1.5551,  27.7489
  49NZ20090410,   P21,    35,  1,     11, X12041,2,20090422,0602,-16.7453, -82.6662, 4712,   3419.8,2,   1.7956,2,   1.79562,2,  34.6816,2,  34.6819,2,   139.00,2,   138.88,2,   135.86,2,     0.42,    36.85,2,     0.14,     0.00,2,     0.01,    2.594,2,    0.016, -999.000,9, -999.000,9, -999.000,9,   2338.7,2,   2421.5,2,   7.5798,  25,2,  -999.00,9,  -999.00,   -999.0,9,   -999.0,   1.5303,  27.7525
  49NZ20090410,   P21,    35,  1,     10, X12040,2,20090422,0602,-16.7453, -82.6662, 4712,   3673.4,2,   1.7934,2,   1.79356,2,  34.6839,2,  34.6844,6,   142.61,2,   142.63,2,   133.72,2,     0.41,    36.52,2,     0.14,     0.00,2,     0.01,    2.569,2,    0.016, -999.000,9, -999.000,9, -999.000,9,   2333.0,2,   2419.4,2,   7.5833,  25,2,  -999.00,9,  -999.00,   -999.0,9,   -999.0,   1.5017,  27.7564
  49NZ20090410,   P21,    35,  1,      9, X12009,2,20090422,0602,-16.7453, -82.6662, 4712,   3922.1,2,   1.7861,2,   1.78622,2,  34.6864,2,  34.6861,2,   148.17,2,   148.18,2,   129.86,2,     0.40,    36.00,2,     0.13,     0.00,2,     0.01,    2.537,2,    0.016,    0.001,2,    0.001,2,    0.000,2,   2326.1,2,   2414.1,2,   7.5871,  25,2,  -999.00,9,  -999.00,   -999.0,9,   -999.0,   1.4677,  27.7609
  49NZ20090410,   P21,    35,  1,      8, X12008,2,20090422,0602,-16.7453, -82.6662, 4712,   4170.2,2,   1.7842,2,   1.78419,2,  34.6882,2,  34.6885,2,   152.84,2,   152.93,2,   126.30,2,     0.40,    35.62,2,     0.13,     0.00,2,     0.01,    2.504,2,    0.016,    0.002,2,    0.000,2,    0.000,2,   2318.8,6,   2409.0,2,   7.5914,  25,2,  -999.00,9,  -999.00,   -999.0,9,   -999.0,   1.4383,  27.7645
  49NZ20090410,   P21,    35,  1,      7, X12007,2,20090422,0602,-16.7453, -82.6662, 4712,   4421.2,2,   1.7895,2,   1.78941,2,  34.6896,2,  34.6898,2,   153.87,2,   154.04,2,   126.36,2,     0.40,    35.63,2,     0.13,     0.00,2,     0.01,    2.499,2,    0.016,    0.005,2,    0.000,2,    0.000,2,   2318.0,2,   2408.9,6,   7.5923,  25,2,  -999.00,9,  -999.00,   -999.0,9,   -999.0,   1.4147,  27.7672
  49NZ20090410,   P21,    35,  1,      6, X12035,2,20090422,0602,-16.7453, -82.6662, 4712,   4671.2,2,   1.8160,2,   1.81598,2,  34.6897,2,  34.6901,2,   153.62,2,   153.82,2,   126.53,2,     0.40,    35.79,2,     0.13,     0.00,2,     0.01,    2.503,2,    0.016,    0.008,2,    0.001,2,    0.000,2,   2318.6,2,   2407.1,2,   7.5917,  25,2,  -999.00,9,  -999.00,   -999.0,9,   -999.0,   1.4110,  27.7676
  49NZ20090410,   P21,    35,  1,      5, X12038,9,20090422,0602,-16.7453, -82.6662, 4712,      9.3,2,  23.4863,2,  23.48636,2,  35.6023,2,-999.0000,9,   213.44,2,  -999.00,9,  -999.00,9,  -999.00,  -999.00,9,  -999.00,  -999.00,9,  -999.00, -999.000,9, -999.000, -999.000,9, -999.000,9, -999.000,9,   -999.0,9,   -999.0,9,-999.0000,-999,9,  -999.00,9,  -999.00,   -999.0,9,   -999.0,  23.4844,  24.2495
  49NZ20090410,   P21,    35,  1,      4, X12034,9,20090422,0602,-16.7453, -82.6662, 4712,    870.3,2,   5.0417,2,   5.04183,2,  34.5143,2,-999.0000,9,    41.78,2,  -999.00,9,  -999.00,9,  -999.00,  -999.00,9,  -999.00,  -999.00,9,  -999.00, -999.000,9, -999.000, -999.000,9, -999.000,9, -999.000,9,   -999.0,9,   -999.0,9,-999.0000,-999,9,  -999.00,9,  -999.00,   -999.0,9,   -999.0,   4.9697,  27.2937
  49NZ20090410,   P21,    35,  1,      3, X12033,9,20090422,0602,-16.7453, -82.6662, 4712,    968.8,2,   4.5875,2,   4.58801,2,  34.5195,2,-999.0000,9,    52.56,2,  -999.00,9,  -999.00,9,  -999.00,  -999.00,9,  -999.00,  -999.00,9,  -999.00, -999.000,9, -999.000, -999.000,9, -999.000,9, -999.000,9,   -999.0,9,   -999.0,9,-999.0000,-999,9,  -999.00,9,  -999.00,   -999.0,9,   -999.0,   4.5100,  27.3495
  49NZ20090410,   P21,    35,  1,      2, X12032,9,20090422,0602,-16.7453, -82.6662, 4712,   2930.6,2,   1.8056,2,   1.80567,2,  34.6768,2,-999.0000,9,   136.57,2,  -999.00,9,  -999.00,9,  -999.00,  -999.00,9,  -999.00,  -999.00,9,  -999.00, -999.000,9, -999.000, -999.000,9, -999.000,9, -999.000,9,   -999.0,9,   -999.0,9,-999.0000,-999,9,  -999.00,9,  -999.00,   -999.0,9,   -999.0,   1.5888,  27.7443
  49NZ20090410,   P21,    35,  1,      1, X12046,2,20090422,0602,-16.7453, -82.6662, 4712,   4772.8,2,   1.8287,2,   1.82869,2,  34.6897,2,  34.6895,6,   153.66,2,   153.77,2,   126.60,2,     0.40,    35.50,2,     0.13,     0.00,2,     0.01,    2.505,2,    0.016,    0.007,2,    0.000,2,    0.000,2,   2318.4,2,   2408.7,2,   7.5921,  25,2,  -999.00,9,  -999.00,   -999.0,9,   -999.0,   1.4111,  27.7676