BOTTLE,20220818CCHSIOAMB
EXPOCODE,SECT_ID,STNNBR,CASTNO,SAMPNO,BTLNBR,BTLNBR_FLAG_W,DATE,TIME,LATITUDE,LONGITUDE,DEPTH,CTDPRS,CTDPRS_FLAG_W,CTDTMP,CTDTMP_FLAG_W,SBE35,SBE35_FLAG_W,CTDSAL,CTDSAL_FLAG_W,SALNTY,SALNTY_FLAG_W,CTDOXY,CTDOXY_FLAG_W,OXYGEN,OXYGEN_FLAG_W,SILCAT,SILCAT_FLAG_W,SILUNC,NITRAT,NITRAT_FLAG_W,NRAUNC,NITRIT,NITRIT_FLAG_W,NRIUNC,PHSPHT,PHSPHT_FLAG_W,PHPUNC,CFC-11,CFC-11_FLAG_W,CFC-12,CFC-12_FLAG_W,CFC113,CFC113_FLAG_W,TCARBN,TCARBN_FLAG_W,ALKALI,ALKALI_FLAG_W,PH_TOT,PH_TMP,PH_TOT_FLAG_W,DELC13,DELC13_FLAG_W,C13ERR,DELC14,DELC14_FLAG_W,C14ERR,THETA,SIG0
,,,,,,,,,,,METERS,DBAR,,ITS-90,,ITS-90,,PSS-78,,PSS-78,,UMOL/KG,,UMOL/KG,,UMOL/KG,,UMOL/KG,UMOL/KG,,UMOL/KG,UMOL/KG,,UMOL/KG,UMOL/KG,,UMOL/KG,PMOL/KG,,PMOL/KG,,PMOL/KG,,UMOL/KG,,UMOL/KG,,,DEG C,,/MILLE,,/MILLE,/MILLE,,/MILLE,DEG C,KG/M^3
  49NZ20090410,   P21,   152,  1,     36, X12006,2,20090516,1617,-17.4912,-145.8378, 4146,     10.0,2,  27.9847,2,  27.98497,2,  36.3363,2,  36.3368,2,   196.61,2,   196.61,2,     0.87,2,     0.12,     0.10,2,     0.03,     0.01,2,     0.01,    0.286,2,    0.014,    1.446,2,    0.950,2, -999.000,5,   2026.9,2,   2396.3,2,   8.1273,  25,6,  -999.00,9,  -999.00,   -999.0,9,   -999.0,  27.9823,  23.4057
  49NZ20090410,   P21,   152,  1,     35, X12047,2,20090516,1617,-17.4912,-145.8378, 4146,     48.6,2,  27.9926,2,  27.99228,2,  36.3353,2,  36.3358,2,   196.39,2,   196.52,2,     0.84,2,     0.12,     0.08,2,     0.03,     0.01,2,     0.01,    0.252,2,    0.015,    1.446,2,    0.931,2, -999.000,5,   2027.5,6,   2393.9,2,   8.1272,  25,2,  -999.00,9,  -999.00,   -999.0,9,   -999.0,  27.9811,  23.4054
  49NZ20090410,   P21,   152,  1,     34, X12004,2,20090516,1617,-17.4912,-145.8378, 4146,    101.3,2,  27.1306,2,  27.13299,2,  36.3714,2,  36.3723,2,   200.14,2,   200.26,2,     0.84,2,     0.12,     0.21,2,     0.03,     0.03,2,     0.01,    0.278,2,    0.014,    1.552,6,    1.006,6, -999.000,5,   2045.5,2,   2397.1,6,   8.1040,  25,2,  -999.00,9,  -999.00,   -999.0,9,   -999.0,  27.1072,  23.7167
  49NZ20090410,   P21,   152,  1,     33, X12003,2,20090516,1617,-17.4912,-145.8378, 4146,    149.2,2,  24.7082,2,  24.70629,2,  36.3986,2,  36.4002,2,   187.05,2,   187.13,2,     0.72,2,     0.12,     0.42,2,     0.03,     1.29,2,     0.00,    0.365,2,    0.014,    1.698,2,    1.075,2, -999.000,5,   2077.5,2,   2396.1,2,   8.0532,  25,2,  -999.00,9,  -999.00,   -999.0,9,   -999.0,  24.6759,  24.4974
  49NZ20090410,   P21,   152,  1,     32, X12002,2,20090516,1617,-17.4912,-145.8378, 4146,    199.8,2,  22.0957,2,  22.09420,2,  36.0856,2,  36.0868,2,   181.66,2,   181.14,2,     0.68,2,     0.12,     2.65,2,     0.04,     0.03,2,     0.01,    0.427,2,    0.013,    1.938,2,    1.202,2,    0.146,2,   2092.0,2,   2375.0,2,   7.9992,  25,2,  -999.00,9,  -999.00,   -999.0,9,   -999.0,  22.0558,  25.0272
  49NZ20090410,   P21,   152,  1,     31, X12001,2,20090516,1617,-17.4912,-145.8378, 4146,    249.6,2,  19.7843,2,  19.78465,2,  35.6757,2,  35.6752,6,   180.27,2,   180.02,2,     0.92,2,     0.12,     4.05,2,     0.04,     0.02,2,     0.01,    0.513,2,    0.013,    2.145,2,    1.297,2,    0.036,2,   2094.6,2,   2348.0,2,   7.9585,  25,2,  -999.00,9,  -999.00,   -999.0,9,   -999.0,  19.7383,  25.3463
  49NZ20090410,   P21,   152,  1,     30, X12030,2,20090516,1617,-17.4912,-145.8378, 4146,    279.3,2,  18.6000,2,  18.59091,2,  35.4800,2,  35.4917,2,   178.46,2,   178.78,2,     1.19,2,     0.12,     5.06,2,     0.05,     0.02,2,     0.01,    0.585,2,    0.013,    2.244,2,    1.333,2,    0.036,2,   2098.4,2,   2337.1,2,   7.9345,  25,2,  -999.00,9,  -999.00,   -999.0,9,   -999.0,  18.5507,  25.5022
  49NZ20090410,   P21,   152,  1,     29, X12044,2,20090516,1617,-17.4912,-145.8378, 4146,    369.4,2,  12.6425,2,  12.64528,2,  34.7670,2,  34.7726,2,   158.89,2,   159.39,2,     6.14,2,     0.13,    14.95,2,     0.07,     0.01,2,     0.01,    1.268,2,    0.014,    2.121,2,    1.151,2,    0.038,2,   2137.4,2,   2295.2,2,   7.7738,  25,2,  -999.00,9,  -999.00,   -999.0,9,   -999.0,  12.5924,  26.2933
  49NZ20090410,   P21,   152,  1,     28, X12048,2,20090516,1617,-17.4912,-145.8378, 4146,    470.3,2,   8.4030,2,   8.40299,2,  34.4780,2,  34.4795,6,   135.31,2,   135.24,2,    16.43,2,     0.16,    27.15,2,     0.11,     0.01,2,     0.01,    2.034,2,    0.015,    1.110,2,    0.582,2,    0.015,2,   2194.6,2,   2288.5,2,   7.6133,  25,2,  -999.00,9,  -999.00,   -999.0,9,   -999.0,   8.3535,  26.8105
  49NZ20090410,   P21,   152,  1,     27, X12027,2,20090516,1617,-17.4912,-145.8378, 4146,    569.3,2,   6.7650,2,   6.76553,2,  34.4465,2,  34.4464,2,   138.75,2,   138.67,2,    25.95,2,     0.18,    31.21,2,     0.12,     0.01,2,     0.01,    2.238,2,    0.016,    0.522,6,    0.272,6,    0.013,6,   2211.2,2,   2296.4,2,   7.5897,  25,2,  -999.00,9,  -999.00,   -999.0,9,   -999.0,   6.7117,  27.0221
  49NZ20090410,   P21,   152,  1,     26, X12026,2,20090516,1617,-17.4912,-145.8378, 4146,    669.0,2,   5.6783,2,   5.67865,2,  34.4166,2,  34.4168,2,   152.99,2,   152.92,2,    32.49,2,     0.19,    32.48,2,     0.12,     0.01,2,     0.01,    2.283,2,    0.016,    0.332,2,    0.174,2,    0.000,2,   2216.2,6,   2302.1,2,   7.5963,  25,2,  -999.00,9,  -999.00,   -999.0,9,   -999.0,   5.6208,  27.1389
  49NZ20090410,   P21,   152,  1,     25, X12025,2,20090516,1617,-17.4912,-145.8378, 4146,    769.6,2,   5.0903,2,   5.09076,2,  34.4497,2,  34.4495,2,   144.20,2,   144.25,2,    44.84,2,     0.22,    34.10,2,     0.13,     0.01,2,     0.01,    2.403,2,    0.016,    0.135,2,    0.069,2,    0.000,2,   2233.1,2,   2316.0,6,   7.5798,  25,2,  -999.00,9,  -999.00,   -999.0,9,   -999.0,   5.0270,  27.2358
  49NZ20090410,   P21,   152,  1,     24, X12024,2,20090516,1617,-17.4912,-145.8378, 4146,    870.3,2,   4.5839,2,   4.58447,2,  34.4706,2,  34.4704,2,   143.72,2,   143.68,2,    54.20,2,     0.24,    34.55,2,     0.13,     0.01,2,     0.01,    2.448,2,    0.016,    0.064,2,    0.033,2,    0.000,2,   2244.5,2,   2324.5,2,   7.5766,  25,6,  -999.00,9,  -999.00,   -999.0,9,   -999.0,   4.5150,  27.3101
  49NZ20090410,   P21,   152,  1,     23, X12028,2,20090516,1617,-17.4912,-145.8378, 4146,    968.4,2,   4.2323,2,   4.23220,2,  34.4985,2,  34.4986,6,   140.44,2,   140.70,2,    63.70,2,     0.26,    35.27,2,     0.13,     0.02,2,     0.01,    2.496,2,    0.016,    0.037,2,    0.021,2,    0.000,2,   2257.3,2,   2334.4,2,   7.5716,  25,2,  -999.00,9,  -999.00,   -999.0,9,   -999.0,   4.1575,  27.3707
  49NZ20090410,   P21,   152,  1,     22, X12022,2,20090516,1617,-17.4912,-145.8378, 4146,   1130.6,2,   3.6715,2,   3.67113,2,  34.5257,2,  34.5263,2,   140.68,2,   140.60,2,    75.26,2,     0.28,    35.72,2,     0.13,     0.01,2,     0.01,    2.531,2,    0.016,    0.012,2,    0.007,2,    0.000,2,   2268.1,2,   2347.0,2,   7.5689,  25,2,  -999.00,9,  -999.00,   -999.0,9,   -999.0,   3.5877,  27.4506
  49NZ20090410,   P21,   152,  1,     21, X12021,2,20090516,1617,-17.4912,-145.8378, 4146,   1330.4,2,   3.2109,2,   3.21100,2,  34.5494,2,  34.5492,2,   143.22,2,   143.25,2,    84.57,2,     0.31,    35.89,2,     0.13,     0.01,2,     0.01,    2.542,2,    0.016,    0.003,2,    0.004,2,    0.000,2,   2277.9,2,   2358.1,2,   7.5714,  25,2,  -999.00,9,  -999.00,   -999.0,9,   -999.0,   3.1149,  27.5148
  49NZ20090410,   P21,   152,  1,     20, X12020,2,20090516,1617,-17.4912,-145.8378, 4146,   1530.3,2,   2.8027,2,   2.80279,2,  34.5768,2,  34.5765,2,   145.47,2,   145.43,2,    94.25,2,     0.33,    35.91,2,     0.13,     0.02,2,     0.01,    2.545,2,    0.016,    0.000,2,    0.000,2,    0.000,2,   2288.4,2,   2368.7,2,   7.5731,  25,6,  -999.00,9,  -999.00,   -999.0,9,   -999.0,   2.6946,  27.5746
  49NZ20090410,   P21,   152,  1,     19, X12019,2,20090516,1617,-17.4912,-145.8378, 4146,   1731.8,2,   2.5072,2,   2.50750,2,  34.6025,2,  34.6020,2,   147.93,2,   147.83,2,   101.78,2,     0.34,    35.82,2,     0.13,     0.01,2,     0.01,    2.533,2,    0.016,    0.000,2,    0.000,2,    0.000,2,   2293.5,2,   2377.1,2,   7.5779,  25,2,  -999.00,9,  -999.00,   -999.0,9,   -999.0,   2.3861,  27.6217
  49NZ20090410,   P21,   152,  1,     18, X12043,2,20090516,1617,-17.4912,-145.8378, 4146,   1930.1,2,   2.3012,2,   2.30139,2,  34.6194,2,  34.6192,6,   149.83,2,   149.73,2,   107.19,2,     0.35,    35.83,2,     0.13,     0.01,2,     0.01,    2.530,2,    0.016,    0.000,2,    0.001,2,    0.000,2,   2299.9,2,   2383.4,2,   7.5808,  25,2,  -999.00,9,  -999.00,   -999.0,9,   -999.0,   2.1662,  27.6534
  49NZ20090410,   P21,   152,  1,     17, X12042,2,20090516,1617,-17.4912,-145.8378, 4146,   2130.9,2,   2.1018,2,   2.10186,2,  34.6365,2,  34.6365,2,   152.93,2,   152.86,2,   111.93,2,     0.37,    35.52,2,     0.13,     0.01,2,     0.01,    2.507,2,    0.016,    0.000,2,    0.000,2,    0.000,2,   2302.5,2,   2388.0,2,   7.5857,  25,2,  -999.00,9,  -999.00,   -999.0,9,   -999.0,   1.9526,  27.6842
  49NZ20090410,   P21,   152,  1,     16, X12016,2,20090516,1617,-17.4912,-145.8378, 4146,   2331.2,2,   1.9906,2,   1.99076,2,  34.6470,2,  34.6470,2,   154.26,2,   154.18,2,   115.21,2,     0.37,    35.54,2,     0.13,     0.01,2,     0.01,    2.499,2,    0.016,    0.000,2,    0.000,2,    0.000,2,   2305.7,6,   2391.6,2,   7.5874,  25,2,  -999.00,9,  -999.00,   -999.0,9,   -999.0,   1.8257,  27.7025
  49NZ20090410,   P21,   152,  1,     15, X12015,2,20090516,1617,-17.4912,-145.8378, 4146,   2530.0,2,   1.8799,2,   1.87996,2,  34.6571,2,  34.6572,2,   156.09,2,   156.09,2,   118.53,2,     0.38,    35.47,2,     0.13,     0.01,2,     0.01,    2.501,2,    0.016,    0.000,2,    0.000,2,    0.000,2,   2307.9,2,   2394.5,6,   7.5910,  25,2,  -999.00,9,  -999.00,   -999.0,9,   -999.0,   1.6991,  27.7202
  49NZ20090410,   P21,   152,  1,     14, X12050,2,20090516,1617,-17.4912,-145.8378, 4146,   2727.6,2,   1.8050,2,   1.80486,2,  34.6640,2,  34.6639,2,   158.03,2,   157.90,2,   119.99,2,     0.38,    35.32,2,     0.13,     0.01,2,     0.01,    2.492,2,    0.016,    0.000,2,    0.000,2,    0.000,2,   2310.4,2,   2396.7,2,   7.5931,  25,6,  -999.00,9,  -999.00,   -999.0,9,   -999.0,   1.6075,  27.7326
  49NZ20090410,   P21,   152,  1,     13, X12014,2,20090516,1617,-17.4912,-145.8378, 4146,   2930.6,2,   1.7502,2,   1.75029,2,  34.6692,2,  34.6689,2,   160.20,2,   160.09,2,   121.17,2,     0.39,    35.32,2,     0.13,     0.01,2,     0.01,    2.481,2,    0.016,    0.000,2,    0.000,2,    0.000,2,   2307.0,2,   2395.8,2,   7.5954,  25,2,  -999.00,9,  -999.00,   -999.0,9,   -999.0,   1.5346,  27.7422
  49NZ20090410,   P21,   152,  1,     12, X12012,2,20090516,1617,-17.4912,-145.8378, 4146,   3171.0,2,   1.6831,2,   1.68314,2,  34.6748,2,  34.6745,6,   164.18,2,   164.13,2,   121.20,2,     0.39,    34.97,2,     0.13,     0.01,2,     0.01,    2.464,2,    0.016,    0.000,2,    0.000,2,    0.000,2,   2306.4,2,   2395.1,2,   7.5994,  25,2,  -999.00,9,  -999.00,   -999.0,9,   -999.0,   1.4456,  27.7532
  49NZ20090410,   P21,   152,  1,     11, X12041,2,20090516,1617,-17.4912,-145.8378, 4146,   3419.1,2,   1.5737,2,   1.57371,2,  34.6829,2,  34.6823,2,   170.86,2,   170.78,2,   120.68,2,     0.38,    34.49,2,     0.13,     0.01,2,     0.01,    2.431,2,    0.016,    0.000,2,    0.000,2,    0.000,2,   2299.7,2,   2390.8,2,   7.6042,  25,2,  -999.00,9,  -999.00,   -999.0,9,   -999.0,   1.3140,  27.7690
  49NZ20090410,   P21,   152,  1,     10, X12040,2,20090516,1617,-17.4912,-145.8378, 4146,   3670.8,2,   1.4989,2,   1.49913,2,  34.6889,2,  34.6895,2,   176.07,2,   176.20,2,   119.96,2,     0.38,    34.09,2,     0.13,     0.02,2,     0.01,    2.401,2,    0.016,    0.000,2,    0.000,2,    0.000,2,   2296.0,2,   2387.7,2,   7.6078,  25,2,  -999.00,9,  -999.00,   -999.0,9,   -999.0,   1.2151,  27.7807
  49NZ20090410,   P21,   152,  1,      9, X12009,2,20090516,1617,-17.4912,-145.8378, 4146,   3920.8,2,   1.4607,2,   1.46081,2,  34.6926,2,  34.6918,2,   179.41,2,   179.41,2,   119.75,2,     0.38,    33.84,2,     0.13,     0.01,2,     0.01,    2.382,2,    0.016,    0.000,2,    0.000,2,    0.000,2,   2293.7,2,   2386.4,2,   7.6104,  25,2,  -999.00,9,  -999.00,   -999.0,9,   -999.0,   1.1514,  27.7882
  49NZ20090410,   P21,   152,  1,      8, X12008,9,20090516,1617,-17.4912,-145.8378, 4146,     10.0,2,  27.9843,2,  27.98442,2,  36.3363,2,-999.0000,9,   196.68,2,  -999.00,9,  -999.00,9,  -999.00,  -999.00,9,  -999.00,  -999.00,9,  -999.00, -999.000,9, -999.000, -999.000,9, -999.000,9, -999.000,9,   -999.0,9,   -999.0,9,-999.0000,-999,9,  -999.00,9,  -999.00,   -999.0,9,   -999.0,  27.9819,  23.4059
  49NZ20090410,   P21,   152,  1,      7, X12007,9,20090516,1617,-17.4912,-145.8378, 4146,     49.9,2,  27.9927,2,  27.99215,2,  36.3353,2,-999.0000,9,   196.60,2,  -999.00,9,  -999.00,9,  -999.00,  -999.00,9,  -999.00,  -999.00,9,  -999.00, -999.000,9, -999.000, -999.000,9, -999.000,9, -999.000,9,   -999.0,9,   -999.0,9,-999.0000,-999,9,  -999.00,9,  -999.00,   -999.0,9,   -999.0,  27.9809,  23.4055
  49NZ20090410,   P21,   152,  1,      6, X12035,9,20090516,1617,-17.4912,-145.8378, 4146,    101.2,2,  27.1264,2,  27.12109,2,  36.3720,2,-999.0000,9,   200.25,2,  -999.00,9,  -999.00,9,  -999.00,  -999.00,9,  -999.00,  -999.00,9,  -999.00, -999.000,9, -999.000, -999.000,9, -999.000,9, -999.000,9,   -999.0,9,   -999.0,9,-999.0000,-999,9,  -999.00,9,  -999.00,   -999.0,9,   -999.0,  27.1030,  23.7185
  49NZ20090410,   P21,   152,  1,      5, X12038,9,20090516,1617,-17.4912,-145.8378, 4146,    149.9,2,  24.6950,2,  24.69805,2,  36.3983,2,-999.0000,9,   187.15,2,  -999.00,9,  -999.00,9,  -999.00,  -999.00,9,  -999.00,  -999.00,9,  -999.00, -999.000,9, -999.000, -999.000,9, -999.000,9, -999.000,9,   -999.0,9,   -999.0,9,-999.0000,-999,9,  -999.00,9,  -999.00,   -999.0,9,   -999.0,  24.6626,  24.5012
  49NZ20090410,   P21,   152,  1,      4, X12034,9,20090516,1617,-17.4912,-145.8378, 4146,    199.2,2,  22.0945,2,  22.09335,2,  36.0858,2,-999.0000,9,   181.66,2,  -999.00,9,  -999.00,9,  -999.00,  -999.00,9,  -999.00,  -999.00,9,  -999.00, -999.000,9, -999.000, -999.000,9, -999.000,9, -999.000,9,   -999.0,9,   -999.0,9,-999.0000,-999,9,  -999.00,9,  -999.00,   -999.0,9,   -999.0,  22.0547,  25.0277
  49NZ20090410,   P21,   152,  1,      3, X12033,9,20090516,1617,-17.4912,-145.8378, 4146,    249.1,2,  19.7841,2,  19.78526,2,  35.6763,2,-999.0000,9,   180.37,2,  -999.00,9,  -999.00,9,  -999.00,  -999.00,9,  -999.00,  -999.00,9,  -999.00, -999.000,9, -999.000, -999.000,9, -999.000,9, -999.000,9,   -999.0,9,   -999.0,9,-999.0000,-999,9,  -999.00,9,  -999.00,   -999.0,9,   -999.0,  19.7382,  25.3468
  49NZ20090410,   P21,   152,  1,      2, X12032,9,20090516,1617,-17.4912,-145.8378, 4146,    279.7,2,  18.6244,2,  18.63155,2,  35.4858,2,-999.0000,9,   178.44,2,  -999.00,9,  -999.00,9,  -999.00,  -999.00,9,  -999.00,  -999.00,9,  -999.00, -999.000,9, -999.000, -999.000,9, -999.000,9, -999.000,9,   -999.0,9,   -999.0,9,-999.0000,-999,9,  -999.00,9,  -999.00,   -999.0,9,   -999.0,  18.5750,  25.5006
  49NZ20090410,   P21,   152,  1,      1, X12046,2,20090516,1617,-17.4912,-145.8378, 4146,   4205.6,2,   1.4792,2,   1.47939,2,  34.6934,2,  34.6932,6,   180.23,2,   179.96,2,   119.74,2,     0.38,    33.89,2,     0.13,     0.01,2,     0.01,    2.375,2,    0.016,    0.002,2,    0.000,2,    0.000,2,   2292.0,2,   2385.5,2,   7.6108,  25,2,  -999.00,9,  -999.00,   -999.0,9,   -999.0,   1.1382,  27.7897