BOTTLE,20220818CCHSIOAMB
EXPOCODE,SECT_ID,STNNBR,CASTNO,SAMPNO,BTLNBR,BTLNBR_FLAG_W,DATE,TIME,LATITUDE,LONGITUDE,DEPTH,CTDPRS,CTDPRS_FLAG_W,CTDTMP,CTDTMP_FLAG_W,SBE35,SBE35_FLAG_W,CTDSAL,CTDSAL_FLAG_W,SALNTY,SALNTY_FLAG_W,CTDOXY,CTDOXY_FLAG_W,OXYGEN,OXYGEN_FLAG_W,SILCAT,SILCAT_FLAG_W,SILUNC,NITRAT,NITRAT_FLAG_W,NRAUNC,NITRIT,NITRIT_FLAG_W,NRIUNC,PHSPHT,PHSPHT_FLAG_W,PHPUNC,CFC-11,CFC-11_FLAG_W,CFC-12,CFC-12_FLAG_W,CFC113,CFC113_FLAG_W,TCARBN,TCARBN_FLAG_W,ALKALI,ALKALI_FLAG_W,PH_TOT,PH_TMP,PH_TOT_FLAG_W,DELC13,DELC13_FLAG_W,C13ERR,DELC14,DELC14_FLAG_W,C14ERR,THETA,SIG0
,,,,,,,,,,,METERS,DBAR,,ITS-90,,ITS-90,,PSS-78,,PSS-78,,UMOL/KG,,UMOL/KG,,UMOL/KG,,UMOL/KG,UMOL/KG,,UMOL/KG,UMOL/KG,,UMOL/KG,UMOL/KG,,UMOL/KG,PMOL/KG,,PMOL/KG,,PMOL/KG,,UMOL/KG,,UMOL/KG,,,DEG C,,/MILLE,,/MILLE,/MILLE,,/MILLE,DEG C,KG/M^3
  49NZ20090410,   P21,    61,  1,     36, X12006,2,20090427,0648,-16.7467, -92.6700, 4232,     10.8,2,  23.6356,2,  23.63522,2,  35.8168,2,  35.8171,2,   213.58,2,   213.55,2,     0.43,2,     0.12,     0.23,2,     0.03,     0.02,2,     0.01,    0.406,2,    0.013,    1.735,2,    1.111,2, -999.000,5,   2051.3,2,   2373.5,2,   8.0640,  25,6,  -999.00,9,  -999.00,   -999.0,9,   -999.0,  23.6333,  24.3684
  49NZ20090410,   P21,    61,  1,     35, X12047,2,20090427,0648,-16.7467, -92.6700, 4232,     49.7,2,  23.6276,2,  23.62508,2,  35.8145,2,  35.7989,2,   213.02,2,   214.32,2,     0.43,2,     0.12,     0.22,2,     0.03,     0.02,2,     0.01,    0.411,2,    0.013,    1.758,2,    1.114,2, -999.000,5,   2050.5,6,   2372.9,2,   8.0615,  25,2,  -999.00,9,  -999.00,   -999.0,9,   -999.0,  23.6172,  24.3714
  49NZ20090410,   P21,    61,  1,     34, X12004,2,20090427,0648,-16.7467, -92.6700, 4232,    100.6,2,  18.9331,2,  18.92722,2,  35.3519,2,  35.3513,2,   215.70,2,   214.61,2,     1.08,2,     0.12,     2.47,2,     0.04,     1.01,2,     0.01,    0.775,2,    0.013,    2.217,6,    1.373,6,    0.224,4,   2093.4,2,   2344.1,6,   7.9467,  25,2,  -999.00,9,  -999.00,   -999.0,9,   -999.0,  18.9152,  25.3118
  49NZ20090410,   P21,    61,  1,     33, X12003,2,20090427,0648,-16.7467, -92.6700, 4232,    150.1,2,  17.3450,2,  17.39894,2,  35.1389,2,  35.1480,2,   195.05,2,   191.82,2,     1.59,2,     0.12,     8.42,2,     0.06,     0.04,2,     0.01,    0.979,2,    0.013,    2.356,2,    1.442,2,    0.171,2,   2111.8,2,   2324.7,2,   7.8774,  25,6,  -999.00,9,  -999.00,   -999.0,9,   -999.0,  17.3199,  25.5443
  49NZ20090410,   P21,    61,  1,     32, X12002,2,20090427,0648,-16.7467, -92.6700, 4232,    202.4,2,  13.9882,2,  13.97589,2,  34.6816,2,  34.6873,2,   159.74,2,   158.58,2,     4.29,2,     0.13,    14.03,2,     0.07,     0.02,2,     0.01,    1.374,2,    0.014,    2.540,2,    1.486,2,    0.078,2,   2139.3,2,   2292.4,2,   7.7555,  25,2,  -999.00,9,  -999.00,   -999.0,9,   -999.0,  13.9590,  25.9496
  49NZ20090410,   P21,    61,  1,     31, X12001,2,20090427,0648,-16.7467, -92.6700, 4232,    249.6,2,  11.8137,2,  11.81094,2,  34.5950,2,  34.5881,6,    48.83,2,    52.65,2,    15.83,2,     0.15,    22.22,2,     0.10,     0.02,2,     0.01,    2.356,2,    0.016,    1.713,2,    0.945,2,    0.033,2,   2229.7,2,   2285.3,2,   7.4962,  25,2,  -999.00,9,  -999.00,   -999.0,9,   -999.0,  11.7815,  26.3159
  49NZ20090410,   P21,    61,  1,     30, X12030,2,20090427,0648,-16.7467, -92.6700, 4232,    329.3,2,  10.2913,2,  10.29009,2,  34.6640,2,  34.6614,2,     8.74,2,     8.79,2,    24.65,2,     0.17,    31.17,2,     0.12,     0.02,2,     0.01,    2.769,2,    0.017,    0.519,2,    0.270,2,    0.011,2,   2273.5,2,   2294.4,2,   7.3898,  25,2,  -999.00,9,  -999.00,   -999.0,9,   -999.0,  10.2523,  26.6462
  49NZ20090410,   P21,    61,  1,     29, X12044,2,20090427,0648,-16.7467, -92.6700, 4232,    428.3,2,   8.6393,2,   8.63218,2,  34.5876,2,  34.5866,2,    20.15,2,    19.95,2,    27.97,2,     0.18,    37.58,2,     0.14,     0.02,2,     0.01,    2.832,2,    0.017,    0.252,2,    0.133,2,    0.003,2,   2275.3,2,   2294.6,2,   7.3896,  25,2,  -999.00,9,  -999.00,   -999.0,9,   -999.0,   8.5935,  26.8593
  49NZ20090410,   P21,    61,  1,     28, X12048,2,20090427,0648,-16.7467, -92.6700, 4232,    528.9,2,   7.3052,2,   7.30637,2,  34.5378,2,  34.5379,6,    39.84,2,    39.78,2,    33.56,2,     0.19,    40.22,2,     0.15,     0.02,2,     0.01,    2.856,2,    0.017,    0.103,2,    0.055,2,    0.000,2,   2271.2,2,   2300.3,2,   7.4138,  25,2,  -999.00,9,  -999.00,   -999.0,9,   -999.0,   7.2536,  27.0192
  49NZ20090410,   P21,    61,  1,     27, X12027,2,20090427,0648,-16.7467, -92.6700, 4232,    629.7,2,   6.4497,2,   6.45144,2,  34.5065,2,  34.5068,2,    46.51,2,    46.69,2,    39.55,2,     0.21,    41.69,2,     0.15,     0.02,2,     0.01,    2.951,2,    0.017,    0.043,6,    0.022,6,    0.000,6,   2277.1,2,   2306.4,2,   7.4125,  25,2,  -999.00,9,  -999.00,   -999.0,9,   -999.0,   6.3920,  27.1121
  49NZ20090410,   P21,    61,  1,     26, X12026,2,20090427,0648,-16.7467, -92.6700, 4232,    729.1,2,   5.8622,2,   5.86398,2,  34.5121,2,  34.5118,2,    42.60,2,    42.82,2,    49.28,2,     0.23,    43.44,2,     0.15,     0.02,2,     0.01,    3.065,2,    0.018,    0.005,2,    0.002,2,    0.000,2,   2290.5,6,   2314.9,2,   7.4028,  25,2,  -999.00,9,  -999.00,   -999.0,9,   -999.0,   5.7981,  27.1925
  49NZ20090410,   P21,    61,  1,     25, X12025,2,20090427,0648,-16.7467, -92.6700, 4232,    829.2,2,   5.2649,2,   5.26707,2,  34.5048,2,  34.5047,2,    47.82,2,    47.65,2,    49.21,4,     0.23,    43.29,4,     0.15,     0.01,4,     0.01,    3.061,4,    0.018,    0.001,2,    0.001,2,    0.000,2,   2298.7,2,   2324.0,6,   7.4023,  25,2,  -999.00,9,  -999.00,   -999.0,9,   -999.0,   5.1952,  27.2599
  49NZ20090410,   P21,    61,  1,     24, X12024,2,20090427,0648,-16.7467, -92.6700, 4232,    929.5,2,   4.7270,2,   4.72698,2,  34.5137,2,  34.5136,2,    55.58,2,    56.13,2,    67.51,2,     0.27,    43.54,2,     0.15,     0.01,2,     0.01,    3.111,2,    0.018,    0.000,2,    0.000,2,    0.000,2,   2305.4,2,   2334.9,2,   7.4156,  25,2,  -999.00,9,  -999.00,   -999.0,9,   -999.0,   4.6520,  27.3292
  49NZ20090410,   P21,    61,  1,     23, X12028,2,20090427,0648,-16.7467, -92.6700, 4232,   1069.9,2,   4.1955,2,   4.20160,2,  34.5317,2,  34.5307,6,    67.14,2,    66.62,2,    78.32,2,     0.29,    42.78,2,     0.15,     0.01,2,     0.01,    3.070,2,    0.018,    0.001,2,    0.001,2,    0.000,2,   2311.4,2,   2347.4,2,   7.4346,  25,2,  -999.00,9,  -999.00,   -999.0,9,   -999.0,   4.1123,  27.4019
  49NZ20090410,   P21,    61,  1,     22, X12022,2,20090427,0648,-16.7467, -92.6700, 4232,   1270.7,2,   3.5197,2,   3.51959,2,  34.5539,2,  34.5539,2,    88.69,2,    88.85,2,    90.53,2,     0.32,    40.84,2,     0.15,     0.01,2,     0.01,    2.940,2,    0.017,    0.003,2,    0.001,2,    0.000,2,   2312.8,2,   2362.4,2,   7.4727,  25,2,  -999.00,9,  -999.00,   -999.0,9,   -999.0,   3.4256,  27.4889
  49NZ20090410,   P21,    61,  1,     21, X12021,2,20090427,0648,-16.7467, -92.6700, 4232,   1468.6,2,   3.0168,2,   3.01668,2,  34.5835,2,  34.5835,2,    98.11,2,    98.11,2,   102.68,2,     0.34,    40.23,2,     0.15,     0.01,2,     0.01,    2.876,2,    0.017,    0.002,2,    0.000,2,    0.000,2,   2322.1,2,   2376.8,2,   7.4888,  25,2,  -999.00,9,  -999.00,   -999.0,9,   -999.0,   2.9114,  27.5607
  49NZ20090410,   P21,    61,  1,     20, X12020,2,20090427,0648,-16.7467, -92.6700, 4232,   1670.3,2,   2.6291,2,   2.62907,2,  34.6094,2,  34.6095,2,   107.67,2,   107.58,2,   112.27,2,     0.37,    39.18,2,     0.14,     0.01,2,     0.01,    2.816,2,    0.017,    0.000,2,    0.000,2,    0.000,2,   2326.8,2,   2389.1,2,   7.5078,  25,6,  -999.00,9,  -999.00,   -999.0,9,   -999.0,   2.5115,  27.6166
  49NZ20090410,   P21,    61,  1,     19, X12019,2,20090427,0648,-16.7467, -92.6700, 4232,   1870.5,2,   2.3738,2,   2.37359,2,  34.6280,2,  34.6282,2,   116.32,2,   116.31,2,   118.49,2,     0.38,    38.67,2,     0.14,     0.01,2,     0.01,    2.752,2,    0.017,    0.000,2,    0.000,2,    0.000,2,   2327.1,2,   2395.7,2,   7.5253,  25,2,  -999.00,9,  -999.00,   -999.0,9,   -999.0,   2.2428,  27.6541
  49NZ20090410,   P21,    61,  1,     18, X12043,2,20090427,0648,-16.7467, -92.6700, 4232,   2071.1,2,   2.1753,2,   2.17512,2,  34.6427,2,  34.6426,2,   125.68,2,   125.77,2,   121.70,2,     0.39,    37.81,2,     0.14,     0.01,2,     0.01,    2.693,2,    0.017, -999.000,9, -999.000,9, -999.000,9,   2325.0,2,   2401.5,2,   7.5425,  25,2,  -999.00,9,  -999.00,   -999.0,9,   -999.0,   2.0301,  27.6830
  49NZ20090410,   P21,    61,  1,     17, X12042,2,20090427,0648,-16.7467, -92.6700, 4232,   2268.6,2,   2.0001,2,   2.00010,2,  34.6560,2,  34.6560,6,   137.42,2,   137.47,2,   122.07,2,     0.39,    36.96,2,     0.14,     0.02,2,     0.01,    2.607,2,    0.016,    0.001,2,    0.001,2,    0.000,2,   2318.6,2,   2402.0,2,   7.5620,  25,2,  -999.00,9,  -999.00,   -999.0,9,   -999.0,   1.8405,  27.7086
  49NZ20090410,   P21,    61,  1,     16, X12016,2,20090427,0648,-16.7467, -92.6700, 4232,   2469.9,2,   1.8901,2,   1.89034,2,  34.6662,2,  34.6660,2,   142.91,2,   143.09,2,   124.00,2,     0.39,    36.45,2,     0.13,     0.02,2,     0.01,    2.564,2,    0.016, -999.000,9, -999.000,9, -999.000,9,   2320.4,6,   2405.1,2,   7.5730,  25,2,  -999.00,9,  -999.00,   -999.0,9,   -999.0,   1.7145,  27.7263
  49NZ20090410,   P21,    61,  1,     15, X12015,2,20090427,0648,-16.7467, -92.6700, 4232,   2669.6,2,   1.8272,2,   1.82714,2,  34.6732,2,  34.6733,2,   145.14,2,   145.29,2,   126.35,2,     0.40,    36.35,2,     0.13,     0.02,2,     0.01,    2.553,2,    0.016,    0.001,2,    0.001,2,    0.000,2,   2324.0,2,   2409.6,6,   7.5804,  25,2,  -999.00,9,  -999.00,   -999.0,9,   -999.0,   1.6346,  27.7380
  49NZ20090410,   P21,    61,  1,     14, X12050,9,20090427,0648,-16.7467, -92.6700, 4232,   2869.7,2,   1.7956,2,   1.79557,2,  34.6777,2,-999.0000,9,   144.82,2,  -999.00,9,  -999.00,9,  -999.00,  -999.00,9,  -999.00,  -999.00,9,  -999.00, -999.000,9, -999.000, -999.000,9, -999.000,9, -999.000,9,   -999.0,9,   -999.0,9,-999.0000,-999,9,  -999.00,9,  -999.00,   -999.0,9,   -999.0,   1.5848,  27.7453
  49NZ20090410,   P21,    61,  1,     13, X12013,7,20090427,0648,-16.7467, -92.6700, 4232,   3080.3,2,   1.7766,2,   1.77654,2,  34.6811,2,  34.6810,2,   145.14,2,   145.32,2,   129.94,2,     0.40,    36.31,2,     0.13,     0.01,2,     0.01,    2.554,2,    0.016, -999.000,9, -999.000,9, -999.000,9,   2328.7,2,   2416.6,2,   7.5850,  25,2,  -999.00,9,  -999.00,   -999.0,9,   -999.0,   1.5459,  27.7509
  49NZ20090410,   P21,    61,  1,     12, X12012,2,20090427,0648,-16.7467, -92.6700, 4232,   3331.2,2,   1.7656,2,   1.76562,2,  34.6842,2,  34.6838,6,   146.78,2,   147.06,2,   129.84,2,     0.40,    36.15,2,     0.13,     0.02,2,     0.01,    2.541,2,    0.016, -999.000,9, -999.000,9, -999.000,9,   2326.8,2,   2416.8,2,   7.5873,  25,2,  -999.00,9,  -999.00,   -999.0,9,   -999.0,   1.5101,  27.7560
  49NZ20090410,   P21,    61,  1,     11, X12041,2,20090427,0648,-16.7467, -92.6700, 4232,   3579.8,2,   1.7577,2,   1.75762,2,  34.6866,2,  34.6862,2,   149.23,2,   149.50,2,   128.25,2,     0.40,    35.98,2,     0.13,     0.01,2,     0.01,    2.531,2,    0.016,    0.004,2,    0.001,2,    0.000,2,   2323.1,2,   2415.7,2,   7.5899,  25,2,  -999.00,9,  -999.00,   -999.0,9,   -999.0,   1.4767,  27.7604
  49NZ20090410,   P21,    61,  1,     10, X12040,2,20090427,0648,-16.7467, -92.6700, 4232,   3831.3,2,   1.7651,2,   1.76497,2,  34.6881,2,  34.6879,2,   150.41,2,   150.69,2,   127.71,2,     0.40,    35.82,2,     0.13,     0.02,2,     0.01,    2.518,2,    0.016,    0.001,2,    0.000,2,    0.000,2,   2323.0,2,   2415.0,2,   7.5910,  25,2,  -999.00,9,  -999.00,   -999.0,9,   -999.0,   1.4572,  27.7630
  49NZ20090410,   P21,    61,  1,      9, X12009,2,20090427,0648,-16.7467, -92.6700, 4232,   4079.2,2,   1.7888,2,   1.78868,2,  34.6883,2,  34.6882,2,   150.67,2,   151.01,2,   127.73,2,     0.40,    35.86,2,     0.13,     0.01,2,     0.01,    2.522,2,    0.016,    0.001,2,    0.001,2,    0.000,2,   2322.9,2,   2415.0,2,   7.5915,  25,2,  -999.00,9,  -999.00,   -999.0,9,   -999.0,   1.4530,  27.7635
  49NZ20090410,   P21,    61,  1,      8, X12008,9,20090427,0648,-16.7467, -92.6700, 4232,     10.8,2,  23.6353,2,  23.63507,2,  35.8168,2,-999.0000,9,   213.59,2,  -999.00,9,  -999.00,9,  -999.00,  -999.00,9,  -999.00,  -999.00,9,  -999.00, -999.000,9, -999.000, -999.000,9, -999.000,9, -999.000,9,   -999.0,9,   -999.0,9,-999.0000,-999,9,  -999.00,9,  -999.00,   -999.0,9,   -999.0,  23.6330,  24.3685
  49NZ20090410,   P21,    61,  1,      7, X12007,9,20090427,0648,-16.7467, -92.6700, 4232,     50.0,2,  23.6327,2,  23.63203,2,  35.8151,2,-999.0000,9,   213.15,2,  -999.00,9,  -999.00,9,  -999.00,  -999.00,9,  -999.00,  -999.00,9,  -999.00, -999.000,9, -999.000, -999.000,9, -999.000,9, -999.000,9,   -999.0,9,   -999.0,9,-999.0000,-999,9,  -999.00,9,  -999.00,   -999.0,9,   -999.0,  23.6223,  24.3703
  49NZ20090410,   P21,    61,  1,      6, X12035,9,20090427,0648,-16.7467, -92.6700, 4232,    100.9,2,  18.9165,2,  18.91904,2,  35.3491,2,-999.0000,9,   215.89,2,  -999.00,9,  -999.00,9,  -999.00,  -999.00,9,  -999.00,  -999.00,9,  -999.00, -999.000,9, -999.000, -999.000,9, -999.000,9, -999.000,9,   -999.0,9,   -999.0,9,-999.0000,-999,9,  -999.00,9,  -999.00,   -999.0,9,   -999.0,  18.8986,  25.3139
  49NZ20090410,   P21,    61,  1,      5, X12038,9,20090427,0648,-16.7467, -92.6700, 4232,    150.4,2,  17.3794,2,  17.38841,2,  35.1427,2,-999.0000,9,   195.12,2,  -999.00,9,  -999.00,9,  -999.00,  -999.00,9,  -999.00,  -999.00,9,  -999.00, -999.000,9, -999.000, -999.000,9, -999.000,9, -999.000,9,   -999.0,9,   -999.0,9,-999.0000,-999,9,  -999.00,9,  -999.00,   -999.0,9,   -999.0,  17.3542,  25.5389
  49NZ20090410,   P21,    61,  1,      4, X12034,9,20090427,0648,-16.7467, -92.6700, 4232,    201.8,2,  13.9681,2,  13.96832,2,  34.6813,2,-999.0000,9,   159.79,2,  -999.00,9,  -999.00,9,  -999.00,  -999.00,9,  -999.00,  -999.00,9,  -999.00, -999.000,9, -999.000, -999.000,9, -999.000,9, -999.000,9,   -999.0,9,   -999.0,9,-999.0000,-999,9,  -999.00,9,  -999.00,   -999.0,9,   -999.0,  13.9391,  25.9535
  49NZ20090410,   P21,    61,  1,      3, X12033,9,20090427,0648,-16.7467, -92.6700, 4232,    249.2,2,  11.8541,2,  11.85673,2,  34.5871,2,-999.0000,9,    53.28,2,  -999.00,9,  -999.00,9,  -999.00,  -999.00,9,  -999.00,  -999.00,9,  -999.00, -999.000,9, -999.000, -999.000,9, -999.000,9, -999.000,9,   -999.0,9,   -999.0,9,-999.0000,-999,9,  -999.00,9,  -999.00,   -999.0,9,   -999.0,  11.8219,  26.3021
  49NZ20090410,   P21,    61,  1,      2, X12032,9,20090427,0648,-16.7467, -92.6700, 4232,   3081.4,2,   1.7766,2,   1.77652,2,  34.6811,2,-999.0000,9,   145.18,2,  -999.00,9,  -999.00,9,  -999.00,  -999.00,9,  -999.00,  -999.00,9,  -999.00, -999.000,9, -999.000, -999.000,9, -999.000,9, -999.000,9,   -999.0,9,   -999.0,9,-999.0000,-999,9,  -999.00,9,  -999.00,   -999.0,9,   -999.0,   1.5458,  27.7509
  49NZ20090410,   P21,    61,  1,      1, X12046,2,20090427,0648,-16.7467, -92.6700, 4232,   4291.2,2,   1.8115,2,   1.81140,2,  34.6885,2,  34.6885,6,   150.73,2,   151.23,2,   127.65,2,     0.40,    35.87,2,     0.13,     0.02,2,     0.01,    2.523,2,    0.016,    0.002,2,    0.001,2,    0.000,2,   2322.5,2,   2415.2,2,   7.5917,  25,2,  -999.00,9,  -999.00,   -999.0,9,   -999.0,   1.4510,  27.7637