BOTTLE,20220818CCHSIOAMB
EXPOCODE,SECT_ID,STNNBR,CASTNO,SAMPNO,BTLNBR,BTLNBR_FLAG_W,DATE,TIME,LATITUDE,LONGITUDE,DEPTH,CTDPRS,CTDPRS_FLAG_W,CTDTMP,CTDTMP_FLAG_W,SBE35,SBE35_FLAG_W,CTDSAL,CTDSAL_FLAG_W,SALNTY,SALNTY_FLAG_W,CTDOXY,CTDOXY_FLAG_W,OXYGEN,OXYGEN_FLAG_W,SILCAT,SILCAT_FLAG_W,SILUNC,NITRAT,NITRAT_FLAG_W,NRAUNC,NITRIT,NITRIT_FLAG_W,NRIUNC,PHSPHT,PHSPHT_FLAG_W,PHPUNC,CFC-11,CFC-11_FLAG_W,CFC-12,CFC-12_FLAG_W,CFC113,CFC113_FLAG_W,TCARBN,TCARBN_FLAG_W,ALKALI,ALKALI_FLAG_W,PH_TOT,PH_TMP,PH_TOT_FLAG_W,DELC13,DELC13_FLAG_W,C13ERR,DELC14,DELC14_FLAG_W,C14ERR,THETA,SIG0
,,,,,,,,,,,METERS,DBAR,,ITS-90,,ITS-90,,PSS-78,,PSS-78,,UMOL/KG,,UMOL/KG,,UMOL/KG,,UMOL/KG,UMOL/KG,,UMOL/KG,UMOL/KG,,UMOL/KG,UMOL/KG,,UMOL/KG,PMOL/KG,,PMOL/KG,,PMOL/KG,,UMOL/KG,,UMOL/KG,,,DEG C,,/MILLE,,/MILLE,/MILLE,,/MILLE,DEG C,KG/M^3
  49NZ20090410,   P21,    99,  1,     36, X12006,2,20090505,0326,-16.7498,-112.6722, 3166,      9.8,2,  25.6108,2,  25.60750,2,  36.2053,2,  36.1933,2,   206.57,2,   206.30,2,     0.68,2,     0.12,     0.34,2,     0.03,     0.03,2,     0.01,    0.354,2,    0.014,    1.571,2,    0.991,2, -999.000,5,   -999.0,9,   -999.0,9,-999.0000,-999,9,  -999.00,9,  -999.00,   -999.0,9,   -999.0,  25.6086,  24.0650
  49NZ20090410,   P21,    99,  1,     35, X12047,2,20090505,0326,-16.7498,-112.6722, 3166,     49.2,2,  25.5801,2,  25.57984,2,  36.3027,2,  36.3057,2,   205.23,2,   206.36,2,     0.60,2,     0.12,     0.14,2,     0.03,     0.02,2,     0.01,    0.343,2,    0.014,    1.597,2,    1.018,2, -999.000,5,   -999.0,9,   -999.0,9,-999.0000,-999,9,  -999.00,9,  -999.00,   -999.0,9,   -999.0,  25.5692,  24.1509
  49NZ20090410,   P21,    99,  1,     34, X12004,2,20090505,0326,-16.7498,-112.6722, 3166,     99.3,2,  22.2225,2,  22.22433,2,  36.1534,2,  36.1529,2,   209.71,2,   209.59,2,     0.38,2,     0.12,     0.10,2,     0.03,     0.13,2,     0.01,    0.338,2,    0.014,    1.874,6,    1.183,6, -999.000,5,   -999.0,9,   -999.0,9,-999.0000,-999,9,  -999.00,9,  -999.00,   -999.0,9,   -999.0,  22.2026,  25.0373
  49NZ20090410,   P21,    99,  1,     33, X12003,2,20090505,0326,-16.7498,-112.6722, 3166,    150.3,2,  20.5326,2,  20.52949,2,  35.8691,2,  35.8701,2,   202.26,2,   202.06,2,     0.38,2,     0.12,     1.53,2,     0.04,     0.21,2,     0.01,    0.394,2,    0.013,    2.020,2,    1.271,2, -999.000,5,   -999.0,9,   -999.0,9,-999.0000,-999,9,  -999.00,9,  -999.00,   -999.0,9,   -999.0,  20.5042,  25.2902
  49NZ20090410,   P21,    99,  1,     32, X12002,2,20090505,0326,-16.7498,-112.6722, 3166,    199.1,2,  18.8165,2,  18.81961,2,  35.5157,2,  35.5136,2,   200.76,2,   201.15,2,     0.46,2,     0.12,     2.87,2,     0.04,     0.03,2,     0.01,    0.461,2,    0.013,    2.197,2,    1.360,2,    0.134,2,   -999.0,9,   -999.0,9,-999.0000,-999,9,  -999.00,9,  -999.00,   -999.0,9,   -999.0,  18.7811,  25.4712
  49NZ20090410,   P21,    99,  1,     31, X12001,2,20090505,0326,-16.7498,-112.6722, 3166,    249.7,2,  14.6684,2,  14.67090,2,  34.8268,2,  34.8273,6,   180.46,2,   180.59,2,     2.00,2,     0.12,     9.33,2,     0.06,     0.02,2,     0.01,    0.886,2,    0.013,    2.576,2,    1.507,2,    0.072,2,   -999.0,9,   -999.0,9,-999.0000,-999,9,  -999.00,9,  -999.00,   -999.0,9,   -999.0,  14.6311,  25.9188
  49NZ20090410,   P21,    99,  1,     30, X12030,2,20090505,0326,-16.7498,-112.6722, 3166,    280.2,2,  12.2562,2,  12.25441,2,  34.5702,2,  34.5704,2,   118.11,2,   117.73,2,     8.14,2,     0.14,    18.09,2,     0.08,     0.02,2,     0.01,    1.691,2,    0.014,    2.299,2,    1.278,2,    0.093,2,   -999.0,9,   -999.0,9,-999.0000,-999,9,  -999.00,9,  -999.00,   -999.0,9,   -999.0,  12.2192,  26.2132
  49NZ20090410,   P21,    99,  1,     29, X12044,2,20090505,0326,-16.7498,-112.6722, 3166,    370.0,2,   9.2530,2,   9.25106,2,  34.5573,2,  34.5577,2,    41.88,2,    40.99,2,    21.71,2,     0.17,    32.50,2,     0.12,     0.02,2,     0.01,    2.614,2,    0.017,    0.561,2,    0.286,2,    0.012,2,   -999.0,9,   -999.0,9,-999.0000,-999,9,  -999.00,9,  -999.00,   -999.0,9,   -999.0,   9.2119,  26.7373
  49NZ20090410,   P21,    99,  1,     28, X12048,2,20090505,0326,-16.7498,-112.6722, 3166,    470.4,2,   7.4084,2,   7.40521,2,  34.4910,2,  34.4906,6,    74.79,2,    74.53,2,    25.63,2,     0.18,    36.13,2,     0.13,     0.02,2,     0.01,    2.589,2,    0.016,    0.279,2,    0.150,2,    0.000,2,   -999.0,9,   -999.0,9,-999.0000,-999,9,  -999.00,9,  -999.00,   -999.0,9,   -999.0,   7.3624,  26.9670
  49NZ20090410,   P21,    99,  1,     27, X12027,2,20090505,0326,-16.7498,-112.6722, 3166,    570.9,2,   6.5240,2,   6.52239,2,  34.4970,2,  34.4968,2,    72.71,2,    72.43,2,    35.18,2,     0.20,    38.70,2,     0.14,     0.02,2,     0.01,    2.714,2,    0.017,    0.050,6,    0.031,6,    0.000,6,   -999.0,9,   -999.0,9,-999.0000,-999,9,  -999.00,9,  -999.00,   -999.0,9,   -999.0,   6.4716,  27.0940
  49NZ20090410,   P21,    99,  1,     26, X12026,2,20090505,0326,-16.7498,-112.6722, 3166,    671.8,2,   5.8996,2,   5.89947,2,  34.4946,2,  34.4946,2,    71.01,2,    70.73,2,    43.47,2,     0.21,    40.13,2,     0.15,     0.02,2,     0.01,    2.818,2,    0.017,    0.006,2,    0.004,2,    0.000,2,   -999.0,9,   -999.0,9,-999.0000,-999,9,  -999.00,9,  -999.00,   -999.0,9,   -999.0,   5.8406,  27.1734
  49NZ20090410,   P21,    99,  1,     25, X12025,2,20090505,0326,-16.7498,-112.6722, 3166,    770.7,2,   5.3891,2,   5.38853,2,  34.4957,2,  34.4956,2,    72.08,2,    71.66,2,    51.38,2,     0.23,    40.97,2,     0.15,     0.02,2,     0.01,    2.892,2,    0.017,    0.003,2,    0.001,2,    0.000,2,   -999.0,9,   -999.0,9,-999.0000,-999,9,  -999.00,9,  -999.00,   -999.0,9,   -999.0,   5.3239,  27.2374
  49NZ20090410,   P21,    99,  1,     24, X12024,2,20090505,0326,-16.7498,-112.6722, 3166,    869.5,2,   4.9632,2,   4.96327,2,  34.5002,2,  34.5003,2,    78.58,2,    78.45,2,    58.61,2,     0.25,    40.92,2,     0.15,     0.02,2,     0.01,    2.896,2,    0.017,    0.004,2,    0.002,2,    0.000,2,   -999.0,9,   -999.0,9,-999.0000,-999,9,  -999.00,9,  -999.00,   -999.0,9,   -999.0,   4.8918,  27.2914
  49NZ20090410,   P21,    99,  1,     23, X12028,2,20090505,0326,-16.7498,-112.6722, 3166,    971.5,2,   4.5535,2,   4.55379,2,  34.5129,2,  34.5132,6,    79.17,2,    79.22,2,    67.38,2,     0.27,    41.23,2,     0.15,     0.02,2,     0.01,    2.929,2,    0.017,    0.000,2,    0.000,2,    0.000,2,   -999.0,9,   -999.0,9,-999.0000,-999,9,  -999.00,9,  -999.00,   -999.0,9,   -999.0,   4.4761,  27.3480
  49NZ20090410,   P21,    99,  1,     22, X12022,2,20090505,0326,-16.7498,-112.6722, 3166,   1129.1,2,   3.9264,2,   3.92689,2,  34.5382,2,  34.5386,2,    84.11,2,    84.25,2,    81.76,2,     0.30,    41.08,2,     0.15,     0.02,2,     0.01,    2.942,2,    0.017,    0.000,2,    0.000,2,    0.000,2,   -999.0,9,   -999.0,9,-999.0000,-999,9,  -999.00,9,  -999.00,   -999.0,9,   -999.0,   3.8405,  27.4352
  49NZ20090410,   P21,    99,  1,     21, X12021,2,20090505,0326,-16.7498,-112.6722, 3166,   1329.4,2,   3.3842,2,   3.38420,2,  34.5657,2,  34.5662,2,    89.77,2,    89.83,2,    95.62,2,     0.33,    40.76,2,     0.15,     0.02,2,     0.01,    2.932,2,    0.017,    0.000,2,    0.000,2,    0.000,2,   -999.0,9,   -999.0,9,-999.0000,-999,9,  -999.00,9,  -999.00,   -999.0,9,   -999.0,   3.2865,  27.5117
  49NZ20090410,   P21,    99,  1,     20, X12020,2,20090505,0326,-16.7498,-112.6722, 3166,   1529.4,2,   2.9215,2,   2.92131,2,  34.5925,2,  34.5929,2,   100.98,2,   101.06,2,   106.63,2,     0.35,    39.79,2,     0.14,     0.02,2,     0.01,    2.856,2,    0.017,    0.000,2,    0.000,2,    0.000,2,   -999.0,9,   -999.0,9,-999.0000,-999,9,  -999.00,9,  -999.00,   -999.0,9,   -999.0,   2.8121,  27.5768
  49NZ20090410,   P21,    99,  1,     19, X12019,2,20090505,0326,-16.7498,-112.6722, 3166,   1731.2,2,   2.5881,2,   2.58785,2,  34.6129,2,  34.6128,6,   113.23,2,   113.38,2,   113.21,2,     0.37,    38.75,2,     0.14,     0.02,2,     0.01,    2.773,2,    0.017,    0.000,2,    0.000,2,    0.000,2,   -999.0,9,   -999.0,9,-999.0000,-999,9,  -999.00,9,  -999.00,   -999.0,9,   -999.0,   2.4659,  27.6233
  49NZ20090410,   P21,    99,  1,     18, X12043,2,20090505,0326,-16.7498,-112.6722, 3166,   1931.0,2,   2.2619,2,   2.26186,2,  34.6273,2,  34.6276,2,   136.20,2,   136.49,2,   112.13,2,     0.37,    36.90,2,     0.14,     0.02,2,     0.01,    2.615,2,    0.017,    0.000,2,    0.000,2,    0.000,2,   -999.0,9,   -999.0,9,-999.0000,-999,9,  -999.00,9,  -999.00,   -999.0,9,   -999.0,   2.1274,  27.6629
  49NZ20090410,   P21,    99,  1,     17, X12042,2,20090505,0326,-16.7498,-112.6722, 3166,   2129.9,2,   2.0401,2,   2.03983,2,  34.6452,2,  34.6460,2,   148.82,2,   149.10,2,   114.08,2,     0.37,    35.92,2,     0.13,     0.02,2,     0.01,    2.525,2,    0.016,    0.000,2,    0.000,2,    0.000,2,   -999.0,9,   -999.0,9,-999.0000,-999,9,  -999.00,9,  -999.00,   -999.0,9,   -999.0,   1.8920,  27.6959
  49NZ20090410,   P21,    99,  1,     16, X12016,2,20090505,0326,-16.7498,-112.6722, 3166,   2330.2,2,   1.8926,2,   1.89259,2,  34.6620,2,  34.6625,2,   153.38,2,   153.40,2,   117.66,2,     0.38,    35.46,2,     0.13,     0.02,2,     0.01,    2.499,2,    0.016,    0.000,2,    0.000,2,    0.000,2,   -999.0,9,   -999.0,9,-999.0000,-999,9,  -999.00,9,  -999.00,   -999.0,9,   -999.0,   1.7294,  27.7219
  49NZ20090410,   P21,    99,  1,     15, X12015,2,20090505,0326,-16.7498,-112.6722, 3166,   2529.7,2,   1.8368,2,   1.83676,2,  34.6711,2,  34.6716,6,   150.94,2,   151.07,2,   122.85,2,     0.39,    35.68,2,     0.13,     0.02,2,     0.01,    2.511,2,    0.016,    0.000,2,    0.000,2,    0.000,2,   -999.0,9,   -999.0,9,-999.0000,-999,9,  -999.00,9,  -999.00,   -999.0,9,   -999.0,   1.6568,  27.7346
  49NZ20090410,   P21,    99,  1,     14, X12050,2,20090505,0326,-16.7498,-112.6722, 3166,   2730.2,2,   1.8271,2,   1.82698,2,  34.6763,2,  34.6763,2,   149.15,2,   149.16,2,   126.39,2,     0.40,    35.86,2,     0.13,     0.02,2,     0.01,    2.523,2,    0.016,    0.000,2,    0.000,2,    0.000,2,   -999.0,9,   -999.0,9,-999.0000,-999,9,  -999.00,9,  -999.00,   -999.0,9,   -999.0,   1.6288,  27.7409
  49NZ20090410,   P21,    99,  1,     13, X12013,7,20090505,0326,-16.7498,-112.6722, 3166,   2930.3,2,   1.8358,2,   1.83574,2,  34.6777,2,  34.6780,2,   145.54,2,   145.64,2,   130.08,2,     0.41,    36.16,2,     0.13,     0.02,2,     0.01,    2.542,2,    0.016,    0.000,2,    0.000,2,    0.000,2,   -999.0,9,   -999.0,9,-999.0000,-999,9,  -999.00,9,  -999.00,   -999.0,9,   -999.0,   1.6184,  27.7428
  49NZ20090410,   P21,    99,  1,     12, X12012,9,20090505,0326,-16.7498,-112.6722, 3166,      9.7,2,  25.6110,2,  25.60816,2,  36.2044,2,-999.0000,9,   206.66,2,  -999.00,9,  -999.00,9,  -999.00,  -999.00,9,  -999.00,  -999.00,9,  -999.00, -999.000,9, -999.000, -999.000,9, -999.000,9, -999.000,9,   -999.0,9,   -999.0,9,-999.0000,-999,9,  -999.00,9,  -999.00,   -999.0,9,   -999.0,  25.6089,  24.0643
  49NZ20090410,   P21,    99,  1,     11, X12041,9,20090505,0326,-16.7498,-112.6722, 3166,     49.6,2,  25.5961,2,  25.59589,2,  36.3003,2,-999.0000,9,   205.21,2,  -999.00,9,  -999.00,9,  -999.00,  -999.00,9,  -999.00,  -999.00,9,  -999.00, -999.000,9, -999.000, -999.000,9, -999.000,9, -999.000,9,   -999.0,9,   -999.0,9,-999.0000,-999,9,  -999.00,9,  -999.00,   -999.0,9,   -999.0,  25.5851,  24.1441
  49NZ20090410,   P21,    99,  1,     10, X12040,9,20090505,0326,-16.7498,-112.6722, 3166,     99.7,2,  22.2282,2,  22.22647,2,  36.1541,2,-999.0000,9,   209.67,2,  -999.00,9,  -999.00,9,  -999.00,  -999.00,9,  -999.00,  -999.00,9,  -999.00, -999.000,9, -999.000, -999.000,9, -999.000,9, -999.000,9,   -999.0,9,   -999.0,9,-999.0000,-999,9,  -999.00,9,  -999.00,   -999.0,9,   -999.0,  22.2082,  25.0362
  49NZ20090410,   P21,    99,  1,      9, X12009,9,20090505,0326,-16.7498,-112.6722, 3166,    150.5,2,  20.5318,2,  20.52777,2,  35.8692,2,-999.0000,9,   202.38,2,  -999.00,9,  -999.00,9,  -999.00,  -999.00,9,  -999.00,  -999.00,9,  -999.00, -999.000,9, -999.000, -999.000,9, -999.000,9, -999.000,9,   -999.0,9,   -999.0,9,-999.0000,-999,9,  -999.00,9,  -999.00,   -999.0,9,   -999.0,  20.5033,  25.2905
  49NZ20090410,   P21,    99,  1,      8, X12008,9,20090505,0326,-16.7498,-112.6722, 3166,    198.2,2,  18.8458,2,  18.84725,2,  35.5227,2,-999.0000,9,   200.80,2,  -999.00,9,  -999.00,9,  -999.00,  -999.00,9,  -999.00,  -999.00,9,  -999.00, -999.000,9, -999.000, -999.000,9, -999.000,9, -999.000,9,   -999.0,9,   -999.0,9,-999.0000,-999,9,  -999.00,9,  -999.00,   -999.0,9,   -999.0,  18.8105,  25.4691
  49NZ20090410,   P21,    99,  1,      7, X12007,9,20090505,0326,-16.7498,-112.6722, 3166,    249.1,2,  14.6700,2,  14.67063,2,  34.8278,2,-999.0000,9,   180.52,2,  -999.00,9,  -999.00,9,  -999.00,  -999.00,9,  -999.00,  -999.00,9,  -999.00, -999.000,9, -999.000, -999.000,9, -999.000,9, -999.000,9,   -999.0,9,   -999.0,9,-999.0000,-999,9,  -999.00,9,  -999.00,   -999.0,9,   -999.0,  14.6328,  25.9192
  49NZ20090410,   P21,    99,  1,      6, X12035,9,20090505,0326,-16.7498,-112.6722, 3166,    281.0,2,  12.2229,2,  12.22092,2,  34.5673,2,-999.0000,9,   118.33,2,  -999.00,9,  -999.00,9,  -999.00,  -999.00,9,  -999.00,  -999.00,9,  -999.00, -999.000,9, -999.000, -999.000,9, -999.000,9, -999.000,9,   -999.0,9,   -999.0,9,-999.0000,-999,9,  -999.00,9,  -999.00,   -999.0,9,   -999.0,  12.1858,  26.2174
  49NZ20090410,   P21,    99,  1,      5, X12038,9,20090505,0326,-16.7498,-112.6722, 3166,    869.9,2,   4.9601,2,   4.95997,2,  34.5004,2,-999.0000,9,    78.60,2,  -999.00,9,  -999.00,9,  -999.00,  -999.00,9,  -999.00,  -999.00,9,  -999.00, -999.000,9, -999.000, -999.000,9, -999.000,9, -999.000,9,   -999.0,9,   -999.0,9,-999.0000,-999,9,  -999.00,9,  -999.00,   -999.0,9,   -999.0,   4.8887,  27.2919
  49NZ20090410,   P21,    99,  1,      4, X12034,9,20090505,0326,-16.7498,-112.6722, 3166,   2530.3,2,   1.8371,2,   1.83700,2,  34.6710,2,-999.0000,9,   150.98,2,  -999.00,9,  -999.00,9,  -999.00,  -999.00,9,  -999.00,  -999.00,9,  -999.00, -999.000,9, -999.000, -999.000,9, -999.000,9, -999.000,9,   -999.0,9,   -999.0,9,-999.0000,-999,9,  -999.00,9,  -999.00,   -999.0,9,   -999.0,   1.6570,  27.7345
  49NZ20090410,   P21,    99,  1,      3, X12033,9,20090505,0326,-16.7498,-112.6722, 3166,   2731.5,2,   1.8273,2,   1.82715,2,  34.6763,2,-999.0000,9,   149.14,2,  -999.00,9,  -999.00,9,  -999.00,  -999.00,9,  -999.00,  -999.00,9,  -999.00, -999.000,9, -999.000, -999.000,9, -999.000,9, -999.000,9,   -999.0,9,   -999.0,9,-999.0000,-999,9,  -999.00,9,  -999.00,   -999.0,9,   -999.0,   1.6289,  27.7409
  49NZ20090410,   P21,    99,  1,      2, X12032,9,20090505,0326,-16.7498,-112.6722, 3166,   2929.9,2,   1.8358,2,   1.83576,2,  34.6777,2,-999.0000,9,   145.58,2,  -999.00,9,  -999.00,9,  -999.00,  -999.00,9,  -999.00,  -999.00,9,  -999.00, -999.000,9, -999.000, -999.000,9, -999.000,9, -999.000,9,   -999.0,9,   -999.0,9,-999.0000,-999,9,  -999.00,9,  -999.00,   -999.0,9,   -999.0,   1.6184,  27.7428
  49NZ20090410,   P21,    99,  1,      1, X12046,2,20090505,0326,-16.7498,-112.6722, 3166,   3173.9,2,   1.8531,2,   1.85309,2,  34.6774,2,  34.6775,6,   142.78,2,   142.83,2,   133.01,2,     0.41,    36.43,2,     0.13,     0.02,2,     0.01,    2.564,2,    0.016,    0.000,2,    0.000,2,    0.000,2,   -999.0,9,   -999.0,9,-999.0000,-999,9,  -999.00,9,  -999.00,   -999.0,9,   -999.0,   1.6114,  27.7431