BOTTLE,20220818CCHSIOAMB
EXPOCODE,SECT_ID,STNNBR,CASTNO,SAMPNO,BTLNBR,BTLNBR_FLAG_W,DATE,TIME,LATITUDE,LONGITUDE,DEPTH,CTDPRS,CTDPRS_FLAG_W,CTDTMP,CTDTMP_FLAG_W,SBE35,SBE35_FLAG_W,CTDSAL,CTDSAL_FLAG_W,SALNTY,SALNTY_FLAG_W,CTDOXY,CTDOXY_FLAG_W,OXYGEN,OXYGEN_FLAG_W,SILCAT,SILCAT_FLAG_W,SILUNC,NITRAT,NITRAT_FLAG_W,NRAUNC,NITRIT,NITRIT_FLAG_W,NRIUNC,PHSPHT,PHSPHT_FLAG_W,PHPUNC,CFC-11,CFC-11_FLAG_W,CFC-12,CFC-12_FLAG_W,CFC113,CFC113_FLAG_W,TCARBN,TCARBN_FLAG_W,ALKALI,ALKALI_FLAG_W,PH_TOT,PH_TMP,PH_TOT_FLAG_W,DELC13,DELC13_FLAG_W,C13ERR,DELC14,DELC14_FLAG_W,C14ERR,THETA,SIG0
,,,,,,,,,,,METERS,DBAR,,ITS-90,,ITS-90,,PSS-78,,PSS-78,,UMOL/KG,,UMOL/KG,,UMOL/KG,,UMOL/KG,UMOL/KG,,UMOL/KG,UMOL/KG,,UMOL/KG,UMOL/KG,,UMOL/KG,PMOL/KG,,PMOL/KG,,PMOL/KG,,UMOL/KG,,UMOL/KG,,,DEG C,,/MILLE,,/MILLE,/MILLE,,/MILLE,DEG C,KG/M^3
  49NZ20090410,   P21,   106,  1,     36, X12006,2,20090506,1455,-16.7485,-117.3367, 3415,      9.8,2,  25.9142,2,  25.91447,2,  36.3679,2,  36.3673,2,   205.16,2,   204.89,2,     0.68,2,     0.12,     0.12,2,     0.03,     0.01,2,     0.01,    0.323,2,    0.014,    1.554,2,    1.008,2, -999.000,5,   2053.0,2,   2402.4,2,   8.0964,  25,6,  -999.00,9,  -999.00,   -999.0,9,   -999.0,  25.9120,  24.0934
  49NZ20090410,   P21,   106,  1,     35, X12047,2,20090506,1455,-16.7485,-117.3367, 3415,     49.8,2,  25.9098,2,  25.90892,2,  36.3678,2,  36.3680,2,   205.02,2,   204.79,2,     0.64,2,     0.12,     0.11,2,     0.03,     0.01,2,     0.01,    0.332,2,    0.014,    1.560,2,    1.004,2,    0.150,4,   2052.6,6,   2401.6,2,   8.0969,  25,2,  -999.00,9,  -999.00,   -999.0,9,   -999.0,  25.8987,  24.0975
  49NZ20090410,   P21,   106,  1,     34, X12004,2,20090506,1455,-16.7485,-117.3367, 3415,     99.7,2,  23.6214,2,  23.61573,2,  36.2854,2,  36.2880,2,   212.50,2,   212.87,2,     0.63,2,     0.12,     0.24,2,     0.03,     0.03,2,     0.01,    0.347,2,    0.014,    1.787,6,    1.131,6, -999.000,5,   2076.3,2,   2394.9,6,   8.0507,  25,2,  -999.00,9,  -999.00,   -999.0,9,   -999.0,  23.6005,  24.7333
  49NZ20090410,   P21,   106,  1,     33, X12003,2,20090506,1455,-16.7485,-117.3367, 3415,    150.0,2,  22.2124,2,  22.21344,2,  36.2437,2,  36.2456,2,   200.73,2,   200.68,2,     0.46,2,     0.12,     0.21,2,     0.03,     1.04,2,     0.00,    0.340,2,    0.014,    1.874,2,    1.178,2, -999.000,5,   2089.3,2,   2387.1,2,   8.0163,  25,2,  -999.00,9,  -999.00,   -999.0,9,   -999.0,  22.1824,  25.1116
  49NZ20090410,   P21,   106,  1,     32, X12002,2,20090506,1455,-16.7485,-117.3367, 3415,    199.5,2,  20.0840,2,  20.07936,2,  35.7721,2,  35.7733,2,   196.12,2,   196.12,2,     0.50,2,     0.12,     2.79,2,     0.04,     0.05,2,     0.01,    0.499,2,    0.013,    2.095,2,    1.303,2,    0.181,2,   2094.8,2,   2359.8,2,   7.9680,  25,2,  -999.00,9,  -999.00,   -999.0,9,   -999.0,  20.0468,  25.3384
  49NZ20090410,   P21,   106,  1,     31, X12001,2,20090506,1455,-16.7485,-117.3367, 3415,    249.0,2,  17.3346,2,  17.34538,2,  35.2693,2,  35.2815,6,   185.85,2,   186.15,2,     1.03,2,     0.12,     5.54,2,     0.05,     0.02,2,     0.01,    0.627,2,    0.013,    2.359,2,    1.410,2,    0.059,2,   2096.2,2,   2324.0,2,   7.9133,  25,2,  -999.00,9,  -999.00,   -999.0,9,   -999.0,  17.2928,  25.6508
  49NZ20090410,   P21,   106,  1,     30, X12030,2,20090506,1455,-16.7485,-117.3367, 3415,    301.3,2,  12.3951,2,  12.37579,2,  34.5719,2,  34.5728,2,   158.30,2,   156.50,2,     5.13,2,     0.13,    14.86,2,     0.07,     0.01,2,     0.01,    1.325,2,    0.014,    2.597,2,    1.430,2,    0.072,2,   2136.4,2,   2282.2,2,   7.7451,  25,2,  -999.00,9,  -999.00,   -999.0,9,   -999.0,  12.3550,  26.1883
  49NZ20090410,   P21,   106,  1,     29, X12044,2,20090506,1455,-16.7485,-117.3367, 3415,    400.3,2,   9.4799,2,   9.47907,2,  34.5177,2,  34.5180,2,    32.32,2,    30.85,2,    21.22,2,     0.17,    31.44,2,     0.12,     0.01,2,     0.01,    2.717,2,    0.017,    1.265,2,    0.637,2,    0.018,2,   2265.1,2,   2282.2,2,   7.3862,  25,2,  -999.00,9,  -999.00,   -999.0,9,   -999.0,   9.4348,  26.6699
  49NZ20090410,   P21,   106,  1,     28, X12048,2,20090506,1455,-16.7485,-117.3367, 3415,    499.5,2,   7.4796,2,   7.48469,2,  34.4375,2,  34.4372,6,   101.75,2,   101.65,2,    19.99,2,     0.16,    33.14,2,     0.13,     0.01,2,     0.01,    2.423,2,    0.016,    0.788,2,    0.384,2,    0.000,2,   2225.9,2,   2284.0,2,   7.5102,  25,2,  -999.00,9,  -999.00,   -999.0,9,   -999.0,   7.4304,  26.9152
  49NZ20090410,   P21,   106,  1,     27, X12027,2,20090506,1455,-16.7485,-117.3367, 3415,    601.2,2,   6.5638,2,   6.56506,2,  34.4691,2,  34.4691,2,    96.00,2,    95.88,2,    30.24,2,     0.19,    36.33,2,     0.13,     0.01,2,     0.01,    2.554,2,    0.016,    0.143,6,    0.074,6,    0.000,6,   2238.5,2,   2296.3,2,   7.5061,  25,2,  -999.00,9,  -999.00,   -999.0,9,   -999.0,   6.5083,  27.0672
  49NZ20090410,   P21,   106,  1,     26, X12026,2,20090506,1455,-16.7485,-117.3367, 3415,    701.3,2,   5.6071,2,   5.60676,2,  34.4588,2,  34.4582,2,    98.29,2,    98.02,2,    40.63,2,     0.21,    38.07,2,     0.14,     0.01,2,     0.01,    2.667,2,    0.017,    0.031,2,    0.019,2,    0.000,2,   2251.4,6,   2306.7,2,   7.4999,  25,2,  -999.00,9,  -999.00,   -999.0,9,   -999.0,   5.5470,  27.1813
  49NZ20090410,   P21,   106,  1,     25, X12025,2,20090506,1455,-16.7485,-117.3367, 3415,    801.2,2,   5.2932,2,   5.29348,2,  34.4893,2,  34.4892,2,    86.32,2,    86.27,2,    50.84,2,     0.23,    39.60,2,     0.14,     0.01,2,     0.01,    2.796,2,    0.017,    0.003,2,    0.003,2,    0.000,2,   2269.0,2,   2318.1,6,   7.4806,  25,2,  -999.00,9,  -999.00,   -999.0,9,   -999.0,   5.2258,  27.2440
  49NZ20090410,   P21,   106,  1,     24, X12024,2,20090506,1455,-16.7485,-117.3367, 3415,    900.0,2,   4.7260,2,   4.72597,2,  34.5051,2,  34.5047,2,    83.50,2,    83.19,2,    62.59,2,     0.26,    40.68,2,     0.15,     0.01,2,     0.01,    2.883,2,    0.017,    0.001,2,    0.001,2,    0.000,2,   2284.1,2,   2330.8,2,   7.4701,  25,6,  -999.00,9,  -999.00,   -999.0,9,   -999.0,   4.6536,  27.3222
  49NZ20090410,   P21,   106,  1,     23, X12028,2,20090506,1455,-16.7485,-117.3367, 3415,    999.9,2,   4.3400,2,   4.34002,2,  34.5220,2,  34.5221,6,    81.28,2,    80.88,2,    72.12,2,     0.28,    41.17,2,     0.15,     0.01,2,     0.01,    2.932,2,    0.017,    0.000,2,    0.000,2,    0.000,2,   2297.3,2,   2341.0,2,   7.4644,  25,2,  -999.00,9,  -999.00,   -999.0,9,   -999.0,   4.2617,  27.3784
  49NZ20090410,   P21,   106,  1,     22, X12022,2,20090506,1455,-16.7485,-117.3367, 3415,   1199.1,2,   3.7419,2,   3.74245,2,  34.5465,2,  34.5466,2,    88.45,2,    88.32,2,    85.60,2,     0.31,    40.67,2,     0.15,     0.01,2,     0.01,    2.922,2,    0.017,    0.000,2,    0.000,2,    0.000,2,   2308.5,2,   2356.8,2,   7.4744,  25,2,  -999.00,9,  -999.00,   -999.0,9,   -999.0,   3.6517,  27.4608
  49NZ20090410,   P21,   106,  1,     21, X12021,2,20090506,1455,-16.7485,-117.3367, 3415,   1399.8,2,   3.2253,2,   3.22526,2,  34.5730,2,  34.5730,2,    98.32,2,    98.16,2,    97.63,2,     0.33,    39.99,2,     0.14,     0.01,2,     0.01,    2.867,2,    0.017,    0.001,2,    0.004,2,    0.000,2,   2316.1,2,   2370.1,2,   7.4925,  25,2,  -999.00,9,  -999.00,   -999.0,9,   -999.0,   3.1233,  27.5329
  49NZ20090410,   P21,   106,  1,     20, X12020,2,20090506,1455,-16.7485,-117.3367, 3415,   1599.3,2,   2.7938,2,   2.79389,2,  34.5976,2,  34.5976,2,   110.64,2,   110.57,2,   106.82,2,     0.35,    39.00,2,     0.14,     0.01,2,     0.01,    2.786,2,    0.017,    0.000,2,    0.000,2,    0.000,2,   2319.9,2,   2380.9,2,   7.5141,  25,6,  -999.00,9,  -999.00,   -999.0,9,   -999.0,   2.6801,  27.5926
  49NZ20090410,   P21,   106,  1,     19, X12019,2,20090506,1455,-16.7485,-117.3367, 3415,   1800.1,2,   2.4312,2,   2.43144,2,  34.6179,2,  34.6180,6,   126.57,2,   126.69,2,   111.12,2,     0.36,    37.69,2,     0.14,     0.01,2,     0.01,    2.678,2,    0.017,    0.000,2,    0.000,2,    0.000,2,   2314.6,2,   2386.7,2,   7.5413,  25,2,  -999.00,9,  -999.00,   -999.0,9,   -999.0,   2.3053,  27.6408
  49NZ20090410,   P21,   106,  1,     18, X12043,2,20090506,1455,-16.7485,-117.3367, 3415,   1999.1,2,   2.1556,2,   2.15582,2,  34.6360,2,  34.6358,2,   142.90,2,   142.92,2,   112.30,2,     0.37,    36.24,2,     0.13,     0.01,2,     0.01,    2.556,2,    0.016,    0.000,2,    0.000,2,    0.000,2,   2307.2,2,   2388.5,2,   7.5676,  25,2,  -999.00,9,  -999.00,   -999.0,9,   -999.0,   2.0169,  27.6787
  49NZ20090410,   P21,   106,  1,     17, X12042,2,20090506,1455,-16.7485,-117.3367, 3415,   2200.3,2,   1.9507,2,   1.95068,2,  34.6549,2,  34.6551,2,   153.19,2,   153.19,2,   115.57,2,     0.37,    35.49,2,     0.13,     0.01,2,     0.01,    2.493,2,    0.016,    0.000,2,    0.000,2,    0.000,2,   2305.4,2,   2392.5,2,   7.5852,  25,2,  -999.00,9,  -999.00,   -999.0,9,   -999.0,   1.7979,  27.7110
  49NZ20090410,   P21,   106,  1,     16, X12016,2,20090506,1455,-16.7485,-117.3367, 3415,   2400.1,2,   1.8667,2,   1.86661,2,  34.6660,2,  34.6660,2,   154.59,2,   154.52,2,   119.56,2,     0.38,    35.34,2,     0.13,     0.01,2,     0.01,    2.477,2,    0.016,    0.000,2,    0.000,2,    0.000,2,   2308.4,6,   2398.2,2,   7.5908,  25,2,  -999.00,9,  -999.00,   -999.0,9,   -999.0,   1.6978,  27.7275
  49NZ20090410,   P21,   106,  1,     15, X12015,2,20090506,1455,-16.7485,-117.3367, 3415,   2599.7,2,   1.8319,2,   1.83196,2,  34.6708,2,  34.6713,6,   155.62,2,   155.62,2,   121.41,2,     0.39,    35.33,2,     0.13,     0.01,2,     0.01,    2.473,2,    0.016,    0.000,2,    0.000,2,    0.000,2,   2311.5,2,   2401.4,6,   7.5947,  25,2,  -999.00,9,  -999.00,   -999.0,9,   -999.0,   1.6456,  27.7353
  49NZ20090410,   P21,   106,  1,     14, X12050,2,20090506,1455,-16.7485,-117.3367, 3415,   2800.2,2,   1.7949,2,   1.79498,2,  34.6730,2,  34.6732,2,   158.06,2,   157.96,2,   122.11,2,     0.39,    35.20,2,     0.13,     0.01,2,     0.01,    2.473,2,    0.016,    0.000,2,    0.000,2,    0.000,2,   2309.1,2,   2401.5,2,   7.5982,  25,6,  -999.00,9,  -999.00,   -999.0,9,   -999.0,   1.5907,  27.7411
  49NZ20090410,   P21,   106,  1,     13, X12013,7,20090506,1455,-16.7485,-117.3367, 3415,   3001.7,2,   1.7562,2,   1.75620,2,  34.6750,2,  34.6757,2,   160.20,2,   160.14,2,   122.76,2,     0.39,    35.14,2,     0.13,     0.01,2,     0.01,    2.470,2,    0.016,    0.000,2,    0.001,2,    0.000,2,   2310.0,2,   2402.3,2,   7.6022,  25,2,  -999.00,9,  -999.00,   -999.0,9,   -999.0,   1.5336,  27.7469
  49NZ20090410,   P21,   106,  1,     12, X12012,2,20090506,1455,-16.7485,-117.3367, 3415,   3249.1,2,   1.7374,2,   1.73745,2,  34.6773,2,  34.6777,2,   160.78,2,   160.66,2,   124.32,2,     0.39,    35.21,2,     0.13,     0.01,2,     0.01,    2.467,2,    0.016,    0.000,2,    0.000,2,    0.000,2,   2311.9,2,   2405.3,2,   7.6041,  25,2,  -999.00,9,  -999.00,   -999.0,9,   -999.0,   1.4909,  27.7519
  49NZ20090410,   P21,   106,  1,     11, X12041,9,20090506,1455,-16.7485,-117.3367, 3415,      9.7,2,  25.9129,2,  25.91217,2,  36.3679,2,-999.0000,9,   205.25,2,  -999.00,9,  -999.00,9,  -999.00,  -999.00,9,  -999.00,  -999.00,9,  -999.00, -999.000,9, -999.000, -999.000,9, -999.000,9, -999.000,9,   -999.0,9,   -999.0,9,-999.0000,-999,9,  -999.00,9,  -999.00,   -999.0,9,   -999.0,  25.9107,  24.0937
  49NZ20090410,   P21,   106,  1,     10, X12040,9,20090506,1455,-16.7485,-117.3367, 3415,   1999.1,2,   2.1550,2,   2.15527,2,  34.6361,2,-999.0000,9,   142.90,2,  -999.00,9,  -999.00,9,  -999.00,  -999.00,9,  -999.00,  -999.00,9,  -999.00, -999.000,9, -999.000, -999.000,9, -999.000,9, -999.000,9,   -999.0,9,   -999.0,9,-999.0000,-999,9,  -999.00,9,  -999.00,   -999.0,9,   -999.0,   2.0163,  27.6788
  49NZ20090410,   P21,   106,  1,      9, X12009,9,20090506,1455,-16.7485,-117.3367, 3415,   2200.1,2,   1.9511,2,   1.95111,2,  34.6550,2,-999.0000,9,   153.17,2,  -999.00,9,  -999.00,9,  -999.00,  -999.00,9,  -999.00,  -999.00,9,  -999.00, -999.000,9, -999.000, -999.000,9, -999.000,9, -999.000,9,   -999.0,9,   -999.0,9,-999.0000,-999,9,  -999.00,9,  -999.00,   -999.0,9,   -999.0,   1.7983,  27.7110
  49NZ20090410,   P21,   106,  1,      8, X12008,9,20090506,1455,-16.7485,-117.3367, 3415,   2400.0,2,   1.8666,2,   1.86639,2,  34.6660,2,-999.0000,9,   154.57,2,  -999.00,9,  -999.00,9,  -999.00,  -999.00,9,  -999.00,  -999.00,9,  -999.00, -999.000,9, -999.000, -999.000,9, -999.000,9, -999.000,9,   -999.0,9,   -999.0,9,-999.0000,-999,9,  -999.00,9,  -999.00,   -999.0,9,   -999.0,   1.6977,  27.7275
  49NZ20090410,   P21,   106,  1,      7, X12007,9,20090506,1455,-16.7485,-117.3367, 3415,   3249.3,2,   1.7375,2,   1.73748,2,  34.6773,2,-999.0000,9,   160.76,2,  -999.00,9,  -999.00,9,  -999.00,  -999.00,9,  -999.00,  -999.00,9,  -999.00, -999.000,9, -999.000, -999.000,9, -999.000,9, -999.000,9,   -999.0,9,   -999.0,9,-999.0000,-999,9,  -999.00,9,  -999.00,   -999.0,9,   -999.0,   1.4909,  27.7519
  49NZ20090410,   P21,   106,  1,      6, X12035,9,20090506,1455,-16.7485,-117.3367, 3415,   3443.8,2,   1.7202,2,   1.72014,2,  34.6795,2,-999.0000,9,   160.98,2,  -999.00,9,  -999.00,9,  -999.00,  -999.00,9,  -999.00,  -999.00,9,  -999.00, -999.000,9, -999.000, -999.000,9, -999.000,9, -999.000,9,   -999.0,9,   -999.0,9,-999.0000,-999,9,  -999.00,9,  -999.00,   -999.0,9,   -999.0,   1.4543,  27.7562
  49NZ20090410,   P21,   106,  1,      5, X12038,9,20090506,1455,-16.7485,-117.3367, 3415,   2600.3,2,   1.8319,2,   1.83198,2,  34.6709,2,-999.0000,9,   155.64,2,  -999.00,9,  -999.00,9,  -999.00,  -999.00,9,  -999.00,  -999.00,9,  -999.00, -999.000,9, -999.000, -999.000,9, -999.000,9, -999.000,9,   -999.0,9,   -999.0,9,-999.0000,-999,9,  -999.00,9,  -999.00,   -999.0,9,   -999.0,   1.6456,  27.7353
  49NZ20090410,   P21,   106,  1,      4, X12034,9,20090506,1455,-16.7485,-117.3367, 3415,   2800.6,2,   1.7949,2,   1.79486,2,  34.6729,2,-999.0000,9,   158.10,2,  -999.00,9,  -999.00,9,  -999.00,  -999.00,9,  -999.00,  -999.00,9,  -999.00, -999.000,9, -999.000, -999.000,9, -999.000,9, -999.000,9,   -999.0,9,   -999.0,9,-999.0000,-999,9,  -999.00,9,  -999.00,   -999.0,9,   -999.0,   1.5907,  27.7410
  49NZ20090410,   P21,   106,  1,      3, X12033,9,20090506,1455,-16.7485,-117.3367, 3415,   3001.2,2,   1.7558,2,   1.75596,2,  34.6750,2,-999.0000,9,   160.20,2,  -999.00,9,  -999.00,9,  -999.00,  -999.00,9,  -999.00,  -999.00,9,  -999.00, -999.000,9, -999.000, -999.000,9, -999.000,9, -999.000,9,   -999.0,9,   -999.0,9,-999.0000,-999,9,  -999.00,9,  -999.00,   -999.0,9,   -999.0,   1.5333,  27.7470
  49NZ20090410,   P21,   106,  1,      2, X12032,9,20090506,1455,-16.7485,-117.3367, 3415,    900.1,2,   4.7236,2,   4.72361,2,  34.5052,2,-999.0000,9,    83.57,2,  -999.00,9,  -999.00,9,  -999.00,  -999.00,9,  -999.00,  -999.00,9,  -999.00, -999.000,9, -999.000, -999.000,9, -999.000,9, -999.000,9,   -999.0,9,   -999.0,9,-999.0000,-999,9,  -999.00,9,  -999.00,   -999.0,9,   -999.0,   4.6512,  27.3226
  49NZ20090410,   P21,   106,  1,      1, X12046,2,20090506,1455,-16.7485,-117.3367, 3415,   3443.4,2,   1.7200,2,   1.71999,2,  34.6795,2,  34.6792,6,   160.98,2,   160.74,2,   125.71,2,     0.40,    35.24,2,     0.13,     0.01,2,     0.01,    2.472,2,    0.016,    0.000,2,    0.000,2,    0.000,2,   2313.0,2,   2407.6,2,   7.6054,  25,2,  -999.00,9,  -999.00,   -999.0,9,   -999.0,   1.4542,  27.7563