BOTTLE,20220818CCHSIOAMB
EXPOCODE,SECT_ID,STNNBR,CASTNO,SAMPNO,BTLNBR,BTLNBR_FLAG_W,DATE,TIME,LATITUDE,LONGITUDE,DEPTH,CTDPRS,CTDPRS_FLAG_W,CTDTMP,CTDTMP_FLAG_W,SBE35,SBE35_FLAG_W,CTDSAL,CTDSAL_FLAG_W,SALNTY,SALNTY_FLAG_W,CTDOXY,CTDOXY_FLAG_W,OXYGEN,OXYGEN_FLAG_W,SILCAT,SILCAT_FLAG_W,SILUNC,NITRAT,NITRAT_FLAG_W,NRAUNC,NITRIT,NITRIT_FLAG_W,NRIUNC,PHSPHT,PHSPHT_FLAG_W,PHPUNC,CFC-11,CFC-11_FLAG_W,CFC-12,CFC-12_FLAG_W,CFC113,CFC113_FLAG_W,TCARBN,TCARBN_FLAG_W,ALKALI,ALKALI_FLAG_W,PH_TOT,PH_TMP,PH_TOT_FLAG_W,DELC13,DELC13_FLAG_W,C13ERR,DELC14,DELC14_FLAG_W,C14ERR,THETA,SIG0
,,,,,,,,,,,METERS,DBAR,,ITS-90,,ITS-90,,PSS-78,,PSS-78,,UMOL/KG,,UMOL/KG,,UMOL/KG,,UMOL/KG,UMOL/KG,,UMOL/KG,UMOL/KG,,UMOL/KG,UMOL/KG,,UMOL/KG,PMOL/KG,,PMOL/KG,,PMOL/KG,,UMOL/KG,,UMOL/KG,,,DEG C,,/MILLE,,/MILLE,/MILLE,,/MILLE,DEG C,KG/M^3
  49NZ20090410,   P21,    85,  1,     36, X12006,2,20090501,2350,-16.7505,-106.0005, 3837,      9.9,2,  25.2583,2,  25.25786,2,  36.0890,2,  36.0934,2,   210.59,2,   209.48,2,     0.75,2,     0.12,     0.49,2,     0.03,     0.02,2,     0.01,    0.366,2,    0.014,    1.631,2,    1.034,2, -999.000,5,   2050.4,2,   2384.9,2,   8.0833,  25,6,  -999.00,9,  -999.00,   -999.0,9,   -999.0,  25.2561,  24.0860
  49NZ20090410,   P21,    85,  1,     35, X12047,2,20090501,2350,-16.7505,-106.0005, 3837,     49.4,2,  25.1394,2,  25.14145,2,  36.0849,2,  36.0855,2,   208.94,2,   211.34,2,     0.73,2,     0.12,     0.59,2,     0.03,     0.02,2,     0.01,    0.380,2,    0.013,    1.640,2,    1.042,2, -999.000,5,   2050.8,6,   2384.2,2,   8.0801,  25,2,  -999.00,9,  -999.00,   -999.0,9,   -999.0,  25.1286,  24.1221
  49NZ20090410,   P21,    85,  1,     34, X12004,2,20090501,2350,-16.7505,-106.0005, 3837,     99.3,2,  21.5085,2,  21.50807,2,  35.8613,2,  35.8666,2,   207.15,2,   206.65,2,     0.54,2,     0.12,     0.39,2,     0.03,     0.43,2,     0.00,    0.504,2,    0.013,    1.958,6,    1.214,6, -999.000,5,   2087.2,2,   2373.7,6,   8.0072,  25,2,  -999.00,9,  -999.00,   -999.0,9,   -999.0,  21.4891,  25.0151
  49NZ20090410,   P21,    85,  1,     33, X12003,2,20090501,2350,-16.7505,-106.0005, 3837,    148.8,2,  20.7140,2,  20.71300,2,  35.8842,2,  35.8846,2,   210.62,2,   211.29,2,     0.31,2,     0.12,     0.49,2,     0.03,     0.49,2,     0.00,    0.329,2,    0.014,    2.032,2,    1.248,2, -999.000,5,   2084.7,2,   2366.4,2,   8.0005,  25,6,  -999.00,9,  -999.00,   -999.0,9,   -999.0,  20.6857,  25.2528
  49NZ20090410,   P21,    85,  1,     32, X12002,2,20090501,2350,-16.7505,-106.0005, 3837,    200.7,2,  18.4933,2,  18.49313,2,  35.4131,2,  35.4041,2,   202.05,2,   202.26,2,     0.51,2,     0.12,     3.51,2,     0.04,     0.03,2,     0.01,    0.530,2,    0.013,    2.259,2,    1.368,2,    0.173,2,   2092.2,2,   2336.2,2,   7.9435,  25,2,  -999.00,9,  -999.00,   -999.0,9,   -999.0,  18.4581,  25.4744
  49NZ20090410,   P21,    85,  1,     31, X12001,2,20090501,2350,-16.7505,-106.0005, 3837,    250.8,2,  15.4644,2,  15.46494,2,  34.9117,2,  34.9098,6,   186.88,2,   186.40,2,     1.66,2,     0.12,     8.26,2,     0.06,     0.02,2,     0.01,    0.832,2,    0.013,    2.541,2,    1.477,2,    0.099,2,   2104.0,2,   2303.5,2,   7.8655,  25,2,  -999.00,9,  -999.00,   -999.0,9,   -999.0,  15.4256,  25.8096
  49NZ20090410,   P21,    85,  1,     30, X12030,2,20090501,2350,-16.7505,-106.0005, 3837,    330.8,2,  11.0257,2,  11.02646,2,  34.6642,2,  34.6627,2,    16.96,2,    16.64,2,    22.10,2,     0.17,    26.44,2,     0.11,     0.01,2,     0.01,    2.673,2,    0.017,    0.932,2,    0.489,2,    0.010,2,   2266.0,2,   2292.8,2,   7.4146,  25,2,  -999.00,9,  -999.00,   -999.0,9,   -999.0,  10.9848,  26.5168
  49NZ20090410,   P21,    85,  1,     29, X12044,2,20090501,2350,-16.7505,-106.0005, 3837,    429.6,2,   8.6033,2,   8.60228,2,  34.5734,2,  34.5726,2,    26.86,2,    26.88,2,    26.74,2,     0.18,    36.85,2,     0.14,     0.01,2,     0.01,    2.786,2,    0.017,    0.291,2,    0.147,2,    0.000,2,   2273.3,2,   2292.2,2,   7.4013,  25,2,  -999.00,9,  -999.00,   -999.0,9,   -999.0,   8.5575,  26.8539
  49NZ20090410,   P21,    85,  1,     28, X12048,2,20090501,2350,-16.7505,-106.0005, 3837,    529.7,2,   7.0654,2,   7.06390,2,  34.4953,2,  34.4971,6,    66.71,2,    64.10,2,    29.78,2,     0.18,    38.30,2,     0.14,     0.01,2,     0.01,    2.713,2,    0.017,    0.166,2,    0.086,2,    0.000,2,   2257.4,2,   2295.9,2,   7.4504,  25,2,  -999.00,9,  -999.00,   -999.0,9,   -999.0,   7.0147,  27.0192
  49NZ20090410,   P21,    85,  1,     27, X12027,2,20090501,2350,-16.7505,-106.0005, 3837,    632.5,2,   6.1936,2,   6.19293,2,  34.4719,2,  34.4729,2,    80.01,2,    78.06,2,    35.73,2,     0.20,    38.93,2,     0.14,     0.01,2,     0.01,    2.742,2,    0.017,    0.053,6,    0.028,6,    0.000,6,   2258.0,2,   2300.5,2,   7.4689,  25,2,  -999.00,9,  -999.00,   -999.0,9,   -999.0,   6.1369,  27.1179
  49NZ20090410,   P21,    85,  1,     26, X12026,2,20090501,2350,-16.7505,-106.0005, 3837,    731.4,2,   5.4647,2,   5.46470,2,  34.4747,2,  34.4754,2,    76.73,2,    76.07,2,    46.62,2,     0.22,    40.62,2,     0.15,     0.01,2,     0.01,    2.861,2,    0.017,    0.008,2,    0.006,2,    0.000,2,   2274.2,6,   2313.1,2,   7.4585,  25,2,  -999.00,9,  -999.00,   -999.0,9,   -999.0,   5.4026,  27.2114
  49NZ20090410,   P21,    85,  1,     25, X12025,2,20090501,2350,-16.7505,-106.0005, 3837,    830.9,2,   5.0144,2,   5.01410,2,  34.4964,2,  34.4959,2,    70.45,2,    70.06,2,    57.73,2,     0.25,    41.75,2,     0.15,     0.01,2,     0.01,    2.969,2,    0.017,    0.002,2,    0.001,2,    0.000,2,   2287.6,2,   2323.8,6,   7.4451,  25,2,  -999.00,9,  -999.00,   -999.0,9,   -999.0,   4.9461,  27.2822
  49NZ20090410,   P21,    85,  1,     24, X12024,2,20090501,2350,-16.7505,-106.0005, 3837,    930.4,2,   4.6335,2,   4.63348,2,  34.5101,2,  34.5100,2,    65.62,2,    65.49,2,    66.97,2,     0.27,    42.78,2,     0.15,     0.01,2,     0.01,    3.046,2,    0.018,    0.001,2,    0.001,2,    0.000,2,   2301.3,2,   2334.4,2,   7.4334,  25,2,  -999.00,9,  -999.00,   -999.0,9,   -999.0,   4.5590,  27.3366
  49NZ20090410,   P21,    85,  1,     23, X12028,2,20090501,2350,-16.7505,-106.0005, 3837,   1069.6,2,   4.1470,2,   4.14774,2,  34.5324,2,  34.5325,6,    71.43,2,    71.09,2,    78.94,2,     0.29,    42.17,2,     0.15,     0.01,2,     0.01,    3.037,2,    0.018,    0.000,2,    0.001,2,    0.000,2,   2311.5,2,   2347.1,2,   7.4434,  25,2,  -999.00,9,  -999.00,   -999.0,9,   -999.0,   4.0643,  27.4075
  49NZ20090410,   P21,    85,  1,     22, X12022,2,20090501,2350,-16.7505,-106.0005, 3837,   1270.0,2,   3.5060,2,   3.50560,2,  34.5609,2,  34.5612,2,    82.37,2,    82.44,2,    93.95,2,     0.33,    41.39,2,     0.15,     0.01,2,     0.01,    2.999,2,    0.017,    0.002,2,    0.000,2,    0.000,2,   2320.5,2,   2366.5,2,   7.4635,  25,2,  -999.00,9,  -999.00,   -999.0,9,   -999.0,   3.4120,  27.4958
  49NZ20090410,   P21,    85,  1,     21, X12021,2,20090501,2350,-16.7505,-106.0005, 3837,   1469.9,2,   2.9899,2,   2.99002,2,  34.5896,2,  34.5896,2,    93.99,2,    94.11,2,   106.44,2,     0.35,    40.41,2,     0.15,     0.01,2,     0.01,    2.920,2,    0.017,    0.000,2,    0.000,2,    0.000,2,   2328.9,2,   2379.3,2,   7.4853,  25,2,  -999.00,9,  -999.00,   -999.0,9,   -999.0,   2.8846,  27.5679
  49NZ20090410,   P21,    85,  1,     20, X12020,2,20090501,2350,-16.7505,-106.0005, 3837,   1670.5,2,   2.5945,2,   2.59454,2,  34.6139,2,  34.6140,2,   107.60,2,   107.67,2,   114.61,2,     0.37,    39.26,2,     0.14,     0.01,2,     0.01,    2.812,2,    0.017,    0.000,2,    0.000,2,    0.000,2,   2330.4,2,   2388.8,2,   7.5099,  25,6,  -999.00,9,  -999.00,   -999.0,9,   -999.0,   2.4773,  27.6231
  49NZ20090410,   P21,    85,  1,     19, X12019,2,20090501,2350,-16.7505,-106.0005, 3837,   1869.5,2,   2.3107,2,   2.31044,2,  34.6313,2,  34.6317,6,   122.18,2,   122.25,2,   118.09,2,     0.38,    38.03,2,     0.14,     0.01,2,     0.01,    2.710,2,    0.017,    0.000,2,    0.000,2,    0.000,2,   2325.5,2,   2394.5,2,   7.5359,  25,2,  -999.00,9,  -999.00,   -999.0,9,   -999.0,   2.1806,  27.6618
  49NZ20090410,   P21,    85,  1,     18, X12043,2,20090501,2350,-16.7505,-106.0005, 3837,   2070.2,2,   2.0820,2,   2.08162,2,  34.6473,2,  34.6470,2,   137.25,2,   137.22,2,   118.61,2,     0.38,    36.92,2,     0.14,     0.01,2,     0.01,    2.603,2,    0.016, -999.000,9, -999.000,9, -999.000,9,   2317.0,2,   2397.0,2,   7.5609,  25,2,  -999.00,9,  -999.00,   -999.0,9,   -999.0,   1.9383,  27.6939
  49NZ20090410,   P21,    85,  1,     17, X12042,2,20090501,2350,-16.7505,-106.0005, 3837,   2269.2,2,   1.9117,2,   1.91158,2,  34.6618,2,  34.6619,2,   146.66,2,   146.79,2,   121.04,2,     0.39,    36.05,2,     0.13,     0.01,2,     0.01,    2.547,2,    0.016,    0.000,2,    0.000,2,    0.000,2,   2314.6,2,   2400.9,2,   7.5800,  25,2,  -999.00,9,  -999.00,   -999.0,9,   -999.0,   1.7536,  27.7198
  49NZ20090410,   P21,    85,  1,     16, X12016,2,20090501,2350,-16.7505,-106.0005, 3837,   2468.7,2,   1.8440,2,   1.84385,2,  34.6698,2,  34.6698,2,   148.03,2,   148.18,2,   124.07,2,     0.39,    35.98,2,     0.13,     0.01,2,     0.01,    2.530,2,    0.016, -999.000,9, -999.000,9, -999.000,9,   2319.3,6,   2407.4,2,   7.5859,  25,2,  -999.00,9,  -999.00,   -999.0,9,   -999.0,   1.6694,  27.7327
  49NZ20090410,   P21,    85,  1,     15, X12015,2,20090501,2350,-16.7505,-106.0005, 3837,   2669.5,2,   1.8301,2,   1.82997,2,  34.6730,2,  34.6730,2,   147.86,2,   147.92,2,   125.85,2,     0.40,    36.12,2,     0.13,     0.01,2,     0.01,    2.536,2,    0.016, -999.000,9, -999.000,9, -999.000,9,   2320.9,2,   2409.4,6,   7.5874,  25,2,  -999.00,9,  -999.00,   -999.0,9,   -999.0,   1.6374,  27.7376
  49NZ20090410,   P21,    85,  1,     14, X12050,2,20090501,2350,-16.7505,-106.0005, 3837,   2868.9,2,   1.8124,2,   1.81244,2,  34.6764,2,  34.6761,6,   146.24,2,   146.22,2,   129.36,2,     0.40,    36.19,2,     0.13,     0.01,2,     0.01,    2.547,2,    0.016,    0.000,2,    0.001,2,    0.000,2,   2324.9,2,   2415.9,2,   7.5891,  25,6,  -999.00,9,  -999.00,   -999.0,9,   -999.0,   1.6013,  27.7430
  49NZ20090410,   P21,    85,  1,     13, X12013,7,20090501,2350,-16.7505,-106.0005, 3837,   3078.6,2,   1.8043,2,   1.80428,2,  34.6775,2,  34.6777,2,   143.05,2,   143.14,2,   133.24,2,     0.41,    36.54,2,     0.14,     0.01,2,     0.01,    2.562,2,    0.016,    0.002,2,    0.000,2,    0.000,2,   2332.0,2,   2420.4,2,   7.5876,  25,2,  -999.00,9,  -999.00,   -999.0,9,   -999.0,   1.5731,  27.7460
  49NZ20090410,   P21,    85,  1,     12, X12012,2,20090501,2350,-16.7505,-106.0005, 3837,   3329.9,2,   1.8048,2,   1.80468,2,  34.6777,2,  34.6779,2,   139.82,2,   139.83,2,   137.69,2,     0.42,    36.88,2,     0.14,     0.01,2,     0.01,    2.584,2,    0.016,    0.000,2,    0.000,2,    0.000,2,   2339.5,2,   2424.6,2,   7.5873,  25,2,  -999.00,9,  -999.00,   -999.0,9,   -999.0,   1.5485,  27.7480
  49NZ20090410,   P21,    85,  1,     11, X12041,2,20090501,2350,-16.7505,-106.0005, 3837,   3579.9,2,   1.8196,2,   1.81960,2,  34.6777,2,  34.6775,2,   138.45,2,   138.51,2,   139.66,2,     0.43,    36.98,2,     0.14,     0.01,2,     0.01,    2.596,2,    0.016,    0.000,2,    0.000,2,    0.000,2,   2339.6,2,   2428.4,2,   7.5865,  25,2,  -999.00,9,  -999.00,   -999.0,9,   -999.0,   1.5371,  27.7488
  49NZ20090410,   P21,    85,  1,     10, X12040,2,20090501,2350,-16.7505,-106.0005, 3837,   3829.7,2,   1.8440,2,   1.84394,2,  34.6775,2,  34.6781,2,   138.16,2,   138.11,2,   139.44,2,     0.43,    36.93,2,     0.14,     0.01,2,     0.01,    2.593,2,    0.016,    0.000,2,    0.000,2,    0.000,2,   2341.0,2,   2427.9,2,   7.5858,  25,2,  -999.00,9,  -999.00,   -999.0,9,   -999.0,   1.5342,  27.7489
  49NZ20090410,   P21,    85,  1,      9, X12009,9,20090501,2350,-16.7505,-106.0005, 3837,     10.1,2,  25.2586,2,  25.25805,2,  36.0868,2,-999.0000,9,   210.59,2,  -999.00,9,  -999.00,9,  -999.00,  -999.00,9,  -999.00,  -999.00,9,  -999.00, -999.000,9, -999.000, -999.000,9, -999.000,9, -999.000,9,   -999.0,9,   -999.0,9,-999.0000,-999,9,  -999.00,9,  -999.00,   -999.0,9,   -999.0,  25.2564,  24.0843
  49NZ20090410,   P21,    85,  1,      8, X12008,9,20090501,2350,-16.7505,-106.0005, 3837,     49.4,2,  25.1366,2,  25.13411,2,  36.0850,2,-999.0000,9,   209.04,2,  -999.00,9,  -999.00,9,  -999.00,  -999.00,9,  -999.00,  -999.00,9,  -999.00, -999.000,9, -999.000, -999.000,9, -999.000,9, -999.000,9,   -999.0,9,   -999.0,9,-999.0000,-999,9,  -999.00,9,  -999.00,   -999.0,9,   -999.0,  25.1258,  24.1230
  49NZ20090410,   P21,    85,  1,      7, X12007,9,20090501,2350,-16.7505,-106.0005, 3837,     99.2,2,  21.5087,2,  21.50836,2,  35.8602,2,-999.0000,9,   207.12,2,  -999.00,9,  -999.00,9,  -999.00,  -999.00,9,  -999.00,  -999.00,9,  -999.00, -999.000,9, -999.000, -999.000,9, -999.000,9, -999.000,9,   -999.0,9,   -999.0,9,-999.0000,-999,9,  -999.00,9,  -999.00,   -999.0,9,   -999.0,  21.4893,  25.0143
  49NZ20090410,   P21,    85,  1,      6, X12035,9,20090501,2350,-16.7505,-106.0005, 3837,    148.8,2,  20.7208,2,  20.71954,2,  35.8859,2,-999.0000,9,   210.66,2,  -999.00,9,  -999.00,9,  -999.00,  -999.00,9,  -999.00,  -999.00,9,  -999.00, -999.000,9, -999.000, -999.000,9, -999.000,9, -999.000,9,   -999.0,9,   -999.0,9,-999.0000,-999,9,  -999.00,9,  -999.00,   -999.0,9,   -999.0,  20.6925,  25.2522
  49NZ20090410,   P21,    85,  1,      5, X12038,9,20090501,2350,-16.7505,-106.0005, 3837,    200.2,2,  18.4851,2,  18.48263,2,  35.4124,2,-999.0000,9,   202.12,2,  -999.00,9,  -999.00,9,  -999.00,  -999.00,9,  -999.00,  -999.00,9,  -999.00, -999.000,9, -999.000, -999.000,9, -999.000,9, -999.000,9,   -999.0,9,   -999.0,9,-999.0000,-999,9,  -999.00,9,  -999.00,   -999.0,9,   -999.0,  18.4500,  25.4759
  49NZ20090410,   P21,    85,  1,      4, X12034,9,20090501,2350,-16.7505,-106.0005, 3837,    248.7,2,  15.5625,2,  15.56652,2,  34.9267,2,-999.0000,9,   187.07,2,  -999.00,9,  -999.00,9,  -999.00,  -999.00,9,  -999.00,  -999.00,9,  -999.00, -999.000,9, -999.000, -999.000,9, -999.000,9, -999.000,9,   -999.0,9,   -999.0,9,-999.0000,-999,9,  -999.00,9,  -999.00,   -999.0,9,   -999.0,  15.5238,  25.7991
  49NZ20090410,   P21,    85,  1,      3, X12033,9,20090501,2350,-16.7505,-106.0005, 3837,    330.7,2,  11.0338,2,  11.03421,2,  34.6642,2,-999.0000,9,    16.89,2,  -999.00,9,  -999.00,9,  -999.00,  -999.00,9,  -999.00,  -999.00,9,  -999.00, -999.000,9, -999.000, -999.000,9, -999.000,9, -999.000,9,   -999.0,9,   -999.0,9,-999.0000,-999,9,  -999.00,9,  -999.00,   -999.0,9,   -999.0,  10.9929,  26.5153
  49NZ20090410,   P21,    85,  1,      2, X12032,9,20090501,2350,-16.7505,-106.0005, 3837,    429.9,2,   8.6044,2,   8.60435,2,  34.5734,2,-999.0000,9,    26.92,2,  -999.00,9,  -999.00,9,  -999.00,  -999.00,9,  -999.00,  -999.00,9,  -999.00, -999.000,9, -999.000, -999.000,9, -999.000,9, -999.000,9,   -999.0,9,   -999.0,9,-999.0000,-999,9,  -999.00,9,  -999.00,   -999.0,9,   -999.0,   8.5586,  26.8537
  49NZ20090410,   P21,    85,  1,      1, X12046,2,20090501,2350,-16.7505,-106.0005, 3837,   3908.5,2,   1.8514,2,   1.85147,2,  34.6776,2,  34.6779,6,   138.08,2,   138.12,2,   140.29,2,     0.43,    37.03,2,     0.14,     0.01,2,     0.01,    2.600,2,    0.016,    0.000,2,    0.000,2,    0.000,2,   2342.2,2,   2428.8,2,   7.5863,  25,2,  -999.00,9,  -999.00,   -999.0,9,   -999.0,   1.5328,  27.7491