BOTTLE,20220818CCHSIOAMB
EXPOCODE,SECT_ID,STNNBR,CASTNO,SAMPNO,BTLNBR,BTLNBR_FLAG_W,DATE,TIME,LATITUDE,LONGITUDE,DEPTH,CTDPRS,CTDPRS_FLAG_W,CTDTMP,CTDTMP_FLAG_W,SBE35,SBE35_FLAG_W,CTDSAL,CTDSAL_FLAG_W,SALNTY,SALNTY_FLAG_W,CTDOXY,CTDOXY_FLAG_W,OXYGEN,OXYGEN_FLAG_W,SILCAT,SILCAT_FLAG_W,SILUNC,NITRAT,NITRAT_FLAG_W,NRAUNC,NITRIT,NITRIT_FLAG_W,NRIUNC,PHSPHT,PHSPHT_FLAG_W,PHPUNC,CFC-11,CFC-11_FLAG_W,CFC-12,CFC-12_FLAG_W,CFC113,CFC113_FLAG_W,TCARBN,TCARBN_FLAG_W,ALKALI,ALKALI_FLAG_W,PH_TOT,PH_TMP,PH_TOT_FLAG_W,DELC13,DELC13_FLAG_W,C13ERR,DELC14,DELC14_FLAG_W,C14ERR,THETA,SIG0
,,,,,,,,,,,METERS,DBAR,,ITS-90,,ITS-90,,PSS-78,,PSS-78,,UMOL/KG,,UMOL/KG,,UMOL/KG,,UMOL/KG,UMOL/KG,,UMOL/KG,UMOL/KG,,UMOL/KG,UMOL/KG,,UMOL/KG,PMOL/KG,,PMOL/KG,,PMOL/KG,,UMOL/KG,,UMOL/KG,,,DEG C,,/MILLE,,/MILLE,/MILLE,,/MILLE,DEG C,KG/M^3
  49NZ20090410,   P21,    50,  1,     36, X12006,3,20090424,2111,-16.7452, -87.6722, 4397,      9.7,2,  23.1788,2,  23.17861,2,  35.7370,2,  35.7368,2,   215.68,2,   215.83,2,     0.68,2,     0.12,     0.10,2,     0.03,     0.01,2,     0.01,    0.429,2,    0.013,    1.771,2,    1.124,2, -999.000,5,   -999.0,9,   -999.0,9,-999.0000,-999,9,  -999.00,9,  -999.00,   -999.0,9,   -999.0,  23.1768,  24.4414
  49NZ20090410,   P21,    50,  1,     35, X12047,2,20090424,2111,-16.7452, -87.6722, 4397,     50.0,2,  23.1374,2,  23.13562,2,  35.7451,2,  35.7405,2,   215.24,2,   216.16,2,     0.60,2,     0.12,     0.09,2,     0.03,     0.01,2,     0.01,    0.420,2,    0.013,    1.775,2,    1.132,2, -999.000,5,   -999.0,9,   -999.0,9,-999.0000,-999,9,  -999.00,9,  -999.00,   -999.0,9,   -999.0,  23.1271,  24.4620
  49NZ20090410,   P21,    50,  1,     34, X12004,2,20090424,2111,-16.7452, -87.6722, 4397,     99.8,2,  19.1758,2,  19.17605,2,  35.4145,2,  35.4166,2,   214.99,2,   214.52,2,     0.83,2,     0.12,     1.54,2,     0.04,     1.32,2,     0.01,    0.662,2,    0.013,    2.146,6,    1.342,6,    0.216,4,   -999.0,9,   -999.0,9,-999.0000,-999,9,  -999.00,9,  -999.00,   -999.0,9,   -999.0,  19.1579,  25.2975
  49NZ20090410,   P21,    50,  1,     33, X12003,2,20090424,2111,-16.7452, -87.6722, 4397,    150.2,2,  16.9410,2,  16.93556,2,  35.0461,2,  35.0471,2,   198.47,2,   195.47,2,     1.48,2,     0.12,     7.97,2,     0.06,     0.03,2,     0.01,    0.926,2,    0.013,    2.327,2,    1.426,2,    0.175,2,   -999.0,9,   -999.0,9,-999.0000,-999,9,  -999.00,9,  -999.00,   -999.0,9,   -999.0,  16.9163,  25.5695
  49NZ20090410,   P21,    50,  1,     32, X12002,2,20090424,2111,-16.7452, -87.6722, 4397,    199.1,2,  13.2593,2,  13.26336,2,  34.6061,2,  34.6024,2,   140.84,2,   132.85,2,     6.53,2,     0.13,    17.14,2,     0.08,     0.02,2,     0.01,    1.645,2,    0.014,    2.423,2,    1.397,2,    0.081,2,   -999.0,9,   -999.0,9,-999.0000,-999,9,  -999.00,9,  -999.00,   -999.0,9,   -999.0,  13.2317,  26.0411
  49NZ20090410,   P21,    50,  1,     31, X12001,2,20090424,2111,-16.7452, -87.6722, 4397,    251.3,2,  11.5452,2,  11.54473,2,  34.6932,2,  34.6843,6,    12.98,2,    15.02,2,    21.67,2,     0.17,    24.11,2,     0.10,     0.01,2,     0.01,    2.662,2,    0.017,    1.056,2,    0.580,2,    0.016,2,   -999.0,9,   -999.0,9,-999.0000,-999,9,  -999.00,9,  -999.00,   -999.0,9,   -999.0,  11.5133,  26.4424
  49NZ20090410,   P21,    50,  1,     30, X12030,2,20090424,2111,-16.7452, -87.6722, 4397,    280.6,2,  10.9705,2,  10.97087,2,  34.6766,2,  34.6747,2,    11.70,2,    12.07,2,    23.11,2,     0.17,    27.07,2,     0.11,     0.01,2,     0.01,    2.712,2,    0.017,    0.806,2,    0.435,2,    0.014,2,   -999.0,9,   -999.0,9,-999.0000,-999,9,  -999.00,9,  -999.00,   -999.0,9,   -999.0,  10.9360,  26.5353
  49NZ20090410,   P21,    50,  1,     29, X12044,2,20090424,2111,-16.7452, -87.6722, 4397,    369.7,2,   9.1296,2,   9.12190,2,  34.6095,2,  34.6090,2,    13.84,2,    14.38,2,    26.90,2,     0.18,    35.95,2,     0.13,     0.01,2,     0.01,    2.814,2,    0.017,    0.317,2,    0.166,2,    0.004,2,   -999.0,9,   -999.0,9,-999.0000,-999,9,  -999.00,9,  -999.00,   -999.0,9,   -999.0,   9.0889,  26.7981
  49NZ20090410,   P21,    50,  1,     28, X12048,2,20090424,2111,-16.7452, -87.6722, 4397,    470.1,2,   7.6280,2,   7.62609,2,  34.5388,2,  34.5370,6,    36.87,2,    36.64,2,    30.90,2,     0.19,    39.45,2,     0.14,     0.01,2,     0.01,    2.842,2,    0.017,    0.190,2,    0.098,2,    0.000,2,   -999.0,9,   -999.0,9,-999.0000,-999,9,  -999.00,9,  -999.00,   -999.0,9,   -999.0,   7.5812,  26.9732
  49NZ20090410,   P21,    50,  1,     27, X12027,2,20090424,2111,-16.7452, -87.6722, 4397,    569.2,2,   6.6530,2,   6.65311,2,  34.5172,2,  34.5164,2,    38.67,2,    38.84,2,    39.25,2,     0.21,    41.91,2,     0.15,     0.01,2,     0.01,    2.977,2,    0.017,    0.045,6,    0.025,6,    0.000,6,   -999.0,9,   -999.0,9,-999.0000,-999,9,  -999.00,9,  -999.00,   -999.0,9,   -999.0,   6.6002,  27.0929
  49NZ20090410,   P21,    50,  1,     26, X12026,2,20090424,2111,-16.7452, -87.6722, 4397,    669.3,2,   5.9673,2,   5.96789,2,  34.5070,2,  34.5055,2,    42.48,2,    42.52,2,    47.11,2,     0.22,    43.09,2,     0.15,     0.01,2,     0.01,    3.058,2,    0.018,    0.009,2,    0.005,2,    0.000,2,   -999.0,9,   -999.0,9,-999.0000,-999,9,  -999.00,9,  -999.00,   -999.0,9,   -999.0,   5.9082,  27.1747
  49NZ20090410,   P21,    50,  1,     25, X12025,2,20090424,2111,-16.7452, -87.6722, 4397,    770.6,2,   5.3754,2,   5.37538,2,  34.5046,2,  34.5040,2,    44.24,2,    44.26,2,    56.06,2,     0.24,    43.91,2,     0.16,     0.01,2,     0.01,    3.117,2,    0.018,    0.002,2,    0.001,2,    0.000,2,   -999.0,9,   -999.0,9,-999.0000,-999,9,  -999.00,9,  -999.00,   -999.0,9,   -999.0,   5.3103,  27.2461
  49NZ20090410,   P21,    50,  1,     24, X12024,2,20090424,2111,-16.7452, -87.6722, 4397,    868.8,2,   4.9064,2,   4.90764,2,  34.5123,2,  34.5114,2,    48.46,2,    48.76,2,    64.80,2,     0.26,    43.88,2,     0.16,     0.01,2,     0.01,    3.131,2,    0.018,    0.001,2,    0.003,2,    0.000,2,   -999.0,9,   -999.0,9,-999.0000,-999,9,  -999.00,9,  -999.00,   -999.0,9,   -999.0,   4.8355,  27.3074
  49NZ20090410,   P21,    50,  1,     23, X12028,2,20090424,2111,-16.7452, -87.6722, 4397,    969.5,2,   4.4983,2,   4.49867,2,  34.5206,2,  34.5204,6,    59.25,2,    59.47,2,    72.38,2,     0.28,    43.07,2,     0.15,     0.01,2,     0.01,    3.098,2,    0.018,    0.001,2,    0.001,2,    0.000,2,   -999.0,9,   -999.0,9,-999.0000,-999,9,  -999.00,9,  -999.00,   -999.0,9,   -999.0,   4.4214,  27.3601
  49NZ20090410,   P21,    50,  1,     22, X12022,2,20090424,2111,-16.7452, -87.6722, 4397,   1129.6,2,   3.8968,2,   3.89660,2,  34.5425,2,  34.5429,2,    72.21,2,    72.13,2,    85.39,2,     0.31,    42.15,2,     0.15,     0.01,2,     0.01,    3.041,2,    0.018,    0.000,2,    0.000,2,    0.000,2,   -999.0,9,   -999.0,9,-999.0000,-999,9,  -999.00,9,  -999.00,   -999.0,9,   -999.0,   3.8111,  27.4416
  49NZ20090410,   P21,    50,  1,     21, X12021,2,20090424,2111,-16.7452, -87.6722, 4397,   1328.2,2,   3.3189,2,   3.31862,2,  34.5715,2,  34.5712,2,    83.52,2,    83.75,2,    99.42,2,     0.34,    41.21,2,     0.15,     0.01,2,     0.01,    2.983,2,    0.017,    0.000,2,    0.000,2,    0.000,2,   -999.0,9,   -999.0,9,-999.0000,-999,9,  -999.00,9,  -999.00,   -999.0,9,   -999.0,   3.2219,  27.5224
  49NZ20090410,   P21,    50,  1,     20, X12020,2,20090424,2111,-16.7452, -87.6722, 4397,   1529.5,2,   2.8577,2,   2.85761,2,  34.5967,2,  34.5973,2,    96.60,2,    96.50,2,   109.71,2,     0.36,    40.08,2,     0.15,     0.01,2,     0.01,    2.886,2,    0.017,    0.000,2,    0.002,2,    0.000,2,   -999.0,9,   -999.0,9,-999.0000,-999,9,  -999.00,9,  -999.00,   -999.0,9,   -999.0,   2.7490,  27.5857
  49NZ20090410,   P21,    50,  1,     19, X12019,2,20090424,2111,-16.7452, -87.6722, 4397,   1729.6,2,   2.5484,2,   2.54832,2,  34.6176,2,  34.6178,2,   105.28,2,   105.29,2,   117.54,2,     0.38,    39.44,2,     0.14,     0.01,2,     0.01,    2.831,2,    0.017,    0.000,2,    0.000,2,    0.000,2,   -999.0,9,   -999.0,9,-999.0000,-999,9,  -999.00,9,  -999.00,   -999.0,9,   -999.0,   2.4269,  27.6304
  49NZ20090410,   P21,    50,  1,     18, X12043,2,20090424,2111,-16.7452, -87.6722, 4397,   1929.2,2,   2.3135,2,   2.31313,2,  34.6338,2,  34.6338,2,   114.91,2,   114.84,2,   122.34,2,     0.39,    38.48,2,     0.14,     0.01,2,     0.01,    2.749,2,    0.017,    0.000,2,    0.000,2,    0.000,2,   -999.0,9,   -999.0,9,-999.0000,-999,9,  -999.00,9,  -999.00,   -999.0,9,   -999.0,   2.1783,  27.6640
  49NZ20090410,   P21,    50,  1,     17, X12042,2,20090424,2111,-16.7452, -87.6722, 4397,   2127.7,2,   2.1088,2,   2.10855,2,  34.6481,2,  34.6479,6,   127.35,2,   127.21,2,   123.85,2,     0.39,    37.66,2,     0.14,     0.01,2,     0.01,    2.668,2,    0.017,    0.000,2,    0.000,2,    0.000,2,   -999.0,9,   -999.0,9,-999.0000,-999,9,  -999.00,9,  -999.00,   -999.0,9,   -999.0,   1.9597,  27.6930
  49NZ20090410,   P21,    50,  1,     16, X12016,2,20090424,2111,-16.7452, -87.6722, 4397,   2330.9,2,   1.9647,2,   1.96461,2,  34.6601,2,  34.6601,2,   134.57,2,   134.47,2,   125.95,2,     0.40,    37.02,2,     0.14,     0.01,2,     0.01,    2.611,2,    0.017,    0.000,2,    0.000,2,    0.000,2,   -999.0,9,   -999.0,9,-999.0000,-999,9,  -999.00,9,  -999.00,   -999.0,9,   -999.0,   1.8002,  27.7149
  49NZ20090410,   P21,    50,  1,     15, X12015,2,20090424,2111,-16.7452, -87.6722, 4397,   2531.6,2,   1.8612,2,   1.86117,2,  34.6694,2,  34.6687,2,   139.63,2,   139.55,2,   128.27,2,     0.40,    36.64,2,     0.14,     0.01,2,     0.01,    2.582,2,    0.016,    0.000,2,    0.000,2,    0.000,2,   -999.0,9,   -999.0,9,-999.0000,-999,9,  -999.00,9,  -999.00,   -999.0,9,   -999.0,   1.6806,  27.7315
  49NZ20090410,   P21,    50,  1,     14, X12050,2,20090424,2111,-16.7452, -87.6722, 4397,   2728.9,2,   1.8150,2,   1.81485,2,  34.6746,2,  34.6747,2,   138.04,2,   138.04,2,   132.66,2,     0.41,    36.81,2,     0.14,     0.01,2,     0.01,    2.588,2,    0.016,    0.000,2,    0.000,2,    0.000,2,   -999.0,9,   -999.0,9,-999.0000,-999,9,  -999.00,9,  -999.00,   -999.0,9,   -999.0,   1.6171,  27.7404
  49NZ20090410,   P21,    50,  1,     13, X12013,7,20090424,2111,-16.7452, -87.6722, 4397,   2930.6,2,   1.7944,2,   1.79426,2,  34.6781,2,  34.6781,2,   143.52,2,   143.46,2,   130.28,2,     0.41,    36.32,2,     0.13,     0.02,2,     0.01,    2.556,2,    0.016,    0.000,2,    0.001,2,    0.000,2,   -999.0,9,   -999.0,9,-999.0000,-999,9,  -999.00,9,  -999.00,   -999.0,9,   -999.0,   1.5778,  27.7461
  49NZ20090410,   P21,    50,  1,     12, X12012,2,20090424,2111,-16.7452, -87.6722, 4397,   3169.1,2,   1.7807,2,   1.78055,2,  34.6809,2,  34.6808,2,   140.89,2,   140.99,2,   134.03,2,     0.41,    36.45,2,     0.13,     0.02,2,     0.01,    2.563,2,    0.016,    0.000,2,    0.000,2,    0.000,2,   -999.0,9,   -999.0,9,-999.0000,-999,9,  -999.00,9,  -999.00,   -999.0,9,   -999.0,   1.5411,  27.7511
  49NZ20090410,   P21,    50,  1,     11, X12041,2,20090424,2111,-16.7452, -87.6722, 4397,   3419.4,2,   1.7720,2,   1.77199,2,  34.6837,2,  34.6835,6,   144.11,2,   144.30,2,   132.25,2,     0.41,    36.22,2,     0.13,     0.01,2,     0.01,    2.542,2,    0.016,    0.000,2,    0.000,2,    0.000,2,   -999.0,9,   -999.0,9,-999.0000,-999,9,  -999.00,9,  -999.00,   -999.0,9,   -999.0,   1.5073,  27.7558
  49NZ20090410,   P21,    50,  1,     10, X12040,2,20090424,2111,-16.7452, -87.6722, 4397,   3670.7,2,   1.7571,2,   1.75709,2,  34.6868,2,  34.6868,2,   149.66,2,   149.73,2,   128.78,2,     0.40,    35.72,2,     0.13,     0.02,2,     0.01,    2.513,2,    0.016,    0.000,2,    0.000,2,    0.000,2,   -999.0,9,   -999.0,9,-999.0000,-999,9,  -999.00,9,  -999.00,   -999.0,9,   -999.0,   1.4666,  27.7613
  49NZ20090410,   P21,    50,  1,      9, X12009,2,20090424,2111,-16.7452, -87.6722, 4397,   3919.7,2,   1.7576,2,   1.75752,2,  34.6887,2,  34.6885,2,   151.98,2,   152.12,2,   127.53,2,     0.40,    35.64,2,     0.13,     0.01,2,     0.01,    2.501,2,    0.016,    0.000,2,    0.000,2,    0.000,2,   -999.0,9,   -999.0,9,-999.0000,-999,9,  -999.00,9,  -999.00,   -999.0,9,   -999.0,   1.4402,  27.7647
  49NZ20090410,   P21,    50,  1,      8, X12008,2,20090424,2111,-16.7452, -87.6722, 4397,   4170.1,2,   1.7724,2,   1.77220,2,  34.6893,2,  34.6895,2,   152.62,2,   152.85,2,   127.12,2,     0.40,    35.52,2,     0.13,     0.02,2,     0.01,    2.495,2,    0.016,    0.000,2,    0.001,2,    0.000,2,   -999.0,9,   -999.0,9,-999.0000,-999,9,  -999.00,9,  -999.00,   -999.0,9,   -999.0,   1.4268,  27.7661
  49NZ20090410,   P21,    50,  1,      7, X12007,2,20090424,2111,-16.7452, -87.6722, 4397,     10.2,2,  23.1795,2,  23.17960,2,  35.7367,2,-999.0000,9,   215.82,2,  -999.00,9,     0.70,2,     0.12,     0.10,2,     0.03,     0.01,2,     0.01,    0.434,2,    0.013, -999.000,9, -999.000,9, -999.000,9,   -999.0,9,   -999.0,9,-999.0000,-999,9,  -999.00,9,  -999.00,   -999.0,9,   -999.0,  23.1774,  24.4411
  49NZ20090410,   P21,    50,  1,      6, X12035,2,20090424,2111,-16.7452, -87.6722, 4397,     50.0,2,  23.1376,2,  23.13594,2,  35.7456,2,-999.0000,9,   215.35,2,  -999.00,9,     0.68,2,     0.12,     0.14,2,     0.03,     0.02,2,     0.01,    0.428,2,    0.013, -999.000,9, -999.000,9, -999.000,9,   -999.0,9,   -999.0,9,-999.0000,-999,9,  -999.00,9,  -999.00,   -999.0,9,   -999.0,  23.1273,  24.4623
  49NZ20090410,   P21,    50,  1,      5, X12038,2,20090424,2111,-16.7452, -87.6722, 4397,     99.8,2,  19.1771,2,  19.17538,2,  35.4152,2,-999.0000,9,   215.23,2,  -999.00,9,     0.92,2,     0.12,     1.82,2,     0.04,     1.26,2,     0.01,    0.678,2,    0.013, -999.000,9, -999.000,9, -999.000,9,   -999.0,9,   -999.0,9,-999.0000,-999,9,  -999.00,9,  -999.00,   -999.0,9,   -999.0,  19.1592,  25.2978
  49NZ20090410,   P21,    50,  1,      4, X12034,2,20090424,2111,-16.7452, -87.6722, 4397,    150.1,2,  16.9384,2,  16.93951,2,  35.0468,2,-999.0000,9,   198.46,2,  -999.00,9,     1.65,2,     0.12,     8.23,2,     0.06,     0.04,2,     0.01,    0.949,2,    0.013, -999.000,9, -999.000,9, -999.000,9,   -999.0,9,   -999.0,9,-999.0000,-999,9,  -999.00,9,  -999.00,   -999.0,9,   -999.0,  16.9137,  25.5707
  49NZ20090410,   P21,    50,  1,      3, X12033,2,20090424,2111,-16.7452, -87.6722, 4397,    198.7,2,  13.2843,2,  13.28200,2,  34.6087,2,-999.0000,9,   139.30,2,  -999.00,9,     7.41,2,     0.14,    17.58,2,     0.08,     0.02,2,     0.01,    1.712,2,    0.014, -999.000,9, -999.000,9, -999.000,9,   -999.0,9,   -999.0,9,-999.0000,-999,9,  -999.00,9,  -999.00,   -999.0,9,   -999.0,  13.2567,  26.0380
  49NZ20090410,   P21,    50,  1,      2, X12032,2,20090424,2111,-16.7452, -87.6722, 4397,    250.7,2,  11.5389,2,  11.53881,2,  34.6895,2,-999.0000,9,    13.52,2,  -999.00,9,    22.19,2,     0.17,    24.19,2,     0.10,     0.02,2,     0.01,    2.675,2,    0.017, -999.000,9, -999.000,9, -999.000,9,   -999.0,9,   -999.0,9,-999.0000,-999,9,  -999.00,9,  -999.00,   -999.0,9,   -999.0,  11.5071,  26.4408
  49NZ20090410,   P21,    50,  1,      1, X12046,2,20090424,2111,-16.7452, -87.6722, 4397,   4427.3,2,   1.8008,2,   1.80054,2,  34.6893,2,  34.6897,6,   152.63,2,   152.82,2,   126.83,2,     0.40,    35.47,2,     0.13,     0.01,2,     0.01,    2.491,2,    0.016,    0.000,2,    0.001,2,    0.000,2,   -999.0,9,   -999.0,9,-999.0000,-999,9,  -999.00,9,  -999.00,   -999.0,9,   -999.0,   1.4250,  27.7663