BOTTLE,20220818CCHSIOAMB
EXPOCODE,SECT_ID,STNNBR,CASTNO,SAMPNO,BTLNBR,BTLNBR_FLAG_W,DATE,TIME,LATITUDE,LONGITUDE,DEPTH,CTDPRS,CTDPRS_FLAG_W,CTDTMP,CTDTMP_FLAG_W,SBE35,SBE35_FLAG_W,CTDSAL,CTDSAL_FLAG_W,SALNTY,SALNTY_FLAG_W,CTDOXY,CTDOXY_FLAG_W,OXYGEN,OXYGEN_FLAG_W,SILCAT,SILCAT_FLAG_W,SILUNC,NITRAT,NITRAT_FLAG_W,NRAUNC,NITRIT,NITRIT_FLAG_W,NRIUNC,PHSPHT,PHSPHT_FLAG_W,PHPUNC,CFC-11,CFC-11_FLAG_W,CFC-12,CFC-12_FLAG_W,CFC113,CFC113_FLAG_W,TCARBN,TCARBN_FLAG_W,ALKALI,ALKALI_FLAG_W,PH_TOT,PH_TMP,PH_TOT_FLAG_W,DELC13,DELC13_FLAG_W,C13ERR,DELC14,DELC14_FLAG_W,C14ERR,THETA,SIG0
,,,,,,,,,,,METERS,DBAR,,ITS-90,,ITS-90,,PSS-78,,PSS-78,,UMOL/KG,,UMOL/KG,,UMOL/KG,,UMOL/KG,UMOL/KG,,UMOL/KG,UMOL/KG,,UMOL/KG,UMOL/KG,,UMOL/KG,PMOL/KG,,PMOL/KG,,PMOL/KG,,UMOL/KG,,UMOL/KG,,,DEG C,,/MILLE,,/MILLE,/MILLE,,/MILLE,DEG C,KG/M^3
  49NZ20090410,   P21,   125,  1,     36, X12006,2,20090510,2016,-16.7533,-129.9997, 4097,     10.0,2,  27.4625,2,  27.46181,2,  36.3467,2,  36.3469,2,   200.34,2,   199.81,2,     0.41,2,     0.12,     0.55,2,     0.03,     0.02,2,     0.01,    0.293,2,    0.014,    1.489,2,    0.963,2, -999.000,5,   2031.6,2,   2397.5,2,   8.1252,  25,2,  -999.00,9,  -999.00,   -999.0,9,   -999.0,  27.4602,  23.5840
  49NZ20090410,   P21,   125,  1,     35, X12047,2,20090510,2016,-16.7533,-129.9997, 4097,     49.8,2,  27.4514,2,  27.45147,2,  36.3451,2,  36.3577,2,   199.94,2,   200.33,2,     0.41,2,     0.12,     0.53,2,     0.03,     0.02,2,     0.01,    0.293,2,    0.014,    1.503,2,    0.976,2, -999.000,5,   2032.9,6,   2398.0,2,   8.1232,  25,2,  -999.00,9,  -999.00,   -999.0,9,   -999.0,  27.4398,  23.5894
  49NZ20090410,   P21,   125,  1,     34, X12004,2,20090510,2016,-16.7533,-129.9997, 4097,    100.4,2,  24.2657,2,  24.26554,2,  36.4448,2,  36.4437,2,   199.79,2,   198.96,2,     0.59,2,     0.12,     0.17,2,     0.03,     0.18,2,     0.01,    0.313,2,    0.014,    1.742,6,    1.100,6, -999.000,5,   2074.2,2,   2400.1,6,   8.0622,  25,2,  -999.00,9,  -999.00,   -999.0,9,   -999.0,  24.2443,  24.6626
  49NZ20090410,   P21,   125,  1,     33, X12003,2,20090510,2016,-16.7533,-129.9997, 4097,    149.5,2,  23.0934,2,  23.09361,2,  36.3119,2,  36.3128,2,   192.96,2,   192.25,2,     0.50,2,     0.12,     0.34,2,     0.03,     1.07,2,     0.00,    0.341,2,    0.014,    1.829,2,    1.133,2, -999.000,5,   2083.4,2,   2389.5,2,   8.0340,  25,6,  -999.00,9,  -999.00,   -999.0,9,   -999.0,  23.0626,  24.9108
  49NZ20090410,   P21,   125,  1,     32, X12002,2,20090510,2016,-16.7533,-129.9997, 4097,    199.9,2,  21.6649,2,  21.66777,2,  36.0590,2,  36.0611,2,   187.46,2,   186.65,2,     0.51,2,     0.12,     2.17,2,     0.04,     0.06,2,     0.01,    0.410,2,    0.013,    1.996,2,    1.235,2,    0.167,2,   2090.4,2,   2373.3,2,   7.9999,  25,2,  -999.00,9,  -999.00,   -999.0,9,   -999.0,  21.6256,  25.1277
  49NZ20090410,   P21,   125,  1,     31, X12001,2,20090510,2016,-16.7533,-129.9997, 4097,    249.6,2,  20.0546,2,  20.05378,2,  35.7525,2,  35.7527,6,   189.95,2,   189.68,2,     0.55,2,     0.12,     2.53,2,     0.04,     0.02,2,     0.01,    0.419,2,    0.013,    2.162,2,    1.318,2,    0.084,2,   2085.3,2,   2353.0,2,   7.9774,  25,2,  -999.00,9,  -999.00,   -999.0,9,   -999.0,  20.0081,  25.3337
  49NZ20090410,   P21,   125,  1,     30, X12030,2,20090510,2016,-16.7533,-129.9997, 4097,    330.6,2,  15.0438,2,  15.04262,2,  34.9338,2,  34.9443,2,   182.15,2,   181.80,2,     1.83,2,     0.12,     8.14,2,     0.06,     0.01,2,     0.01,    0.795,2,    0.013,    2.591,2,    1.454,2,    0.073,2,   2099.9,2,   2302.3,2,   7.8668,  25,2,  -999.00,9,  -999.00,   -999.0,9,   -999.0,  14.9935,  25.9224
  49NZ20090410,   P21,   125,  1,     29, X12044,2,20090510,2016,-16.7533,-129.9997, 4097,    430.9,2,   9.0886,2,   9.09051,2,  34.4653,2,  34.4664,2,   106.88,2,   106.63,2,    14.50,2,     0.15,    27.29,2,     0.11,     0.01,2,     0.01,    2.162,2,    0.015,    1.313,2,    0.664,2,    0.044,2,   2205.3,2,   2281.4,2,   7.5617,  25,2,  -999.00,9,  -999.00,   -999.0,9,   -999.0,   9.0412,  26.6928
  49NZ20090410,   P21,   125,  1,     28, X12048,2,20090510,2016,-16.7533,-129.9997, 4097,    529.5,2,   6.8129,2,   6.81347,2,  34.4014,2,  34.4012,6,   134.64,2,   134.36,2,    19.23,2,     0.16,    32.01,2,     0.12,     0.01,2,     0.01,    2.294,2,    0.016,    0.625,2,    0.324,2,    0.023,2,   2207.9,2,   2285.3,2,   7.5657,  25,2,  -999.00,9,  -999.00,   -999.0,9,   -999.0,   6.7633,  26.9795
  49NZ20090410,   P21,   125,  1,     27, X12027,2,20090510,2016,-16.7533,-129.9997, 4097,    629.4,2,   5.8741,2,   5.87399,2,  34.4125,2,  34.4123,2,   129.85,2,   129.50,2,    29.44,2,     0.18,    34.70,2,     0.13,     0.01,2,     0.01,    2.430,2,    0.016,    0.177,6,    0.096,6,    0.000,6,   2222.1,2,   2295.0,2,   7.5527,  25,2,  -999.00,9,  -999.00,   -999.0,9,   -999.0,   5.8192,  27.1112
  49NZ20090410,   P21,   125,  1,     26, X12026,2,20090510,2016,-16.7533,-129.9997, 4097,    729.6,2,   5.3894,2,   5.38984,2,  34.4621,2,  34.4620,2,   108.74,2,   108.42,2,    44.08,2,     0.22,    37.31,2,     0.14,     0.01,2,     0.01,    2.623,2,    0.017,    0.032,2,    0.018,2,    0.000,2,   2248.8,6,   2311.5,2,   7.5202,  25,2,  -999.00,9,  -999.00,   -999.0,9,   -999.0,   5.3279,  27.2104
  49NZ20090410,   P21,   125,  1,     25, X12025,2,20090510,2016,-16.7533,-129.9997, 4097,    831.0,2,   4.9770,2,   4.97655,2,  34.4917,2,  34.4912,2,    98.74,2,    98.42,2,    55.27,2,     0.24,    38.78,2,     0.14,     0.01,2,     0.01,    2.741,2,    0.017,    0.008,2,    0.003,2,    0.000,2,   2266.7,2,   2323.8,6,   7.5025,  25,2,  -999.00,9,  -999.00,   -999.0,9,   -999.0,   4.9089,  27.2827
  49NZ20090410,   P21,   125,  1,     24, X12024,2,20090510,2016,-16.7533,-129.9997, 4097,    930.5,2,   4.5804,2,   4.58033,2,  34.5060,2,  34.5060,2,    97.34,2,    96.94,2,    64.00,2,     0.26,    39.41,2,     0.14,     0.01,2,     0.01,    2.792,2,    0.017,    0.006,2,    0.007,2,    0.000,2,   2277.6,2,   2333.4,2,   7.4971,  25,6,  -999.00,9,  -999.00,   -999.0,9,   -999.0,   4.5063,  27.3392
  49NZ20090410,   P21,   125,  1,     23, X12028,2,20090510,2016,-16.7533,-129.9997, 4097,   1069.7,2,   4.1031,2,   4.10310,2,  34.5272,2,  34.5272,6,    95.71,2,    95.36,2,    75.21,2,     0.28,    39.86,2,     0.14,     0.01,2,     0.01,    2.835,2,    0.017,    0.002,2,    0.002,2,    0.000,2,   2291.9,2,   2345.1,2,   7.4917,  25,2,  -999.00,9,  -999.00,   -999.0,9,   -999.0,   4.0207,  27.4079
  49NZ20090410,   P21,   125,  1,     22, X12022,2,20090510,2016,-16.7533,-129.9997, 4097,   1269.6,2,   3.4709,2,   3.46987,2,  34.5561,2,  34.5567,2,   103.37,2,   103.30,2,    89.47,2,     0.32,    39.48,2,     0.14,     0.01,2,     0.01,    2.822,2,    0.017,    0.000,2,    0.001,2,    0.000,2,   2303.5,2,   2361.8,2,   7.5037,  25,2,  -999.00,9,  -999.00,   -999.0,9,   -999.0,   3.3773,  27.4953
  49NZ20090410,   P21,   125,  1,     21, X12021,2,20090510,2016,-16.7533,-129.9997, 4097,   1470.6,2,   2.9634,2,   2.96344,2,  34.5806,2,  34.5806,2,   119.13,2,   119.18,2,    98.60,2,     0.34,    38.34,2,     0.14,     0.01,2,     0.01,    2.723,2,    0.017,    0.000,2,    0.000,2,    0.000,2,   2304.4,2,   2372.9,2,   7.5294,  25,2,  -999.00,9,  -999.00,   -999.0,9,   -999.0,   2.8584,  27.5631
  49NZ20090410,   P21,   125,  1,     20, X12020,2,20090510,2016,-16.7533,-129.9997, 4097,   1670.9,2,   2.5448,2,   2.54531,2,  34.6029,2,  34.6028,2,   134.29,2,   134.26,2,   104.97,2,     0.35,    37.13,2,     0.14,     0.01,2,     0.01,    2.630,2,    0.017,    0.000,2,    0.000,2,    0.000,2,   2302.8,2,   2380.0,2,   7.5538,  25,6,  -999.00,9,  -999.00,   -999.0,9,   -999.0,   2.4282,  27.6185
  49NZ20090410,   P21,   125,  1,     19, X12019,2,20090510,2016,-16.7533,-129.9997, 4097,   1872.1,2,   2.2488,2,   2.24886,2,  34.6270,2,  34.6272,2,   140.90,2,   140.76,2,   111.12,2,     0.36,    36.65,2,     0.14,     0.01,2,     0.01,    2.585,2,    0.016,    0.000,2,    0.001,2,    0.000,2,   2306.0,2,   2387.1,2,   7.5651,  25,2,  -999.00,9,  -999.00,   -999.0,9,   -999.0,   2.1194,  27.6633
  49NZ20090410,   P21,   125,  1,     18, X12043,2,20090510,2016,-16.7533,-129.9997, 4097,   2069.6,2,   2.0254,2,   2.02546,2,  34.6474,2,  34.6475,6,   147.69,2,   147.55,2,   116.05,2,     0.37,    36.08,2,     0.13,     0.01,2,     0.01,    2.539,2,    0.016,    0.000,2,    0.000,2,    0.000,2,   2307.5,2,   2393.4,2,   7.5785,  25,2,  -999.00,9,  -999.00,   -999.0,9,   -999.0,   1.8826,  27.6984
  49NZ20090410,   P21,   125,  1,     17, X12042,2,20090510,2016,-16.7533,-129.9997, 4097,   2271.3,2,   1.9229,2,   1.92295,2,  34.6582,2,  34.6580,2,   150.46,2,   150.29,2,   119.47,2,     0.38,    35.84,2,     0.13,     0.01,2,     0.01,    2.518,2,    0.016,    0.000,2,    0.000,2,    0.000,2,   2310.6,2,   2398.4,2,   7.5847,  25,2,  -999.00,9,  -999.00,   -999.0,9,   -999.0,   1.7644,  27.7161
  49NZ20090410,   P21,   125,  1,     16, X12016,2,20090510,2016,-16.7533,-129.9997, 4097,   2470.9,2,   1.8450,2,   1.84516,2,  34.6658,2,  34.6659,2,   152.56,2,   152.38,2,   122.12,2,     0.39,    35.61,2,     0.13,     0.01,2,     0.01,    2.498,2,    0.016,    0.000,2,    0.000,2,    0.000,2,   2311.7,6,   2401.6,2,   7.5902,  25,2,  -999.00,9,  -999.00,   -999.0,9,   -999.0,   1.6702,  27.7294
  49NZ20090410,   P21,   125,  1,     15, X12015,2,20090510,2016,-16.7533,-129.9997, 4097,   2669.8,2,   1.7662,2,   1.76621,2,  34.6713,2,  34.6710,2,   155.77,2,   155.44,2,   123.89,2,     0.39,    35.59,2,     0.13,     0.01,2,     0.01,    2.493,2,    0.016,    0.000,2,    0.000,2,    0.000,2,   2312.6,2,   2402.9,6,   7.5951,  25,2,  -999.00,9,  -999.00,   -999.0,9,   -999.0,   1.5748,  27.7409
  49NZ20090410,   P21,   125,  1,     14, X12050,2,20090510,2016,-16.7533,-129.9997, 4097,   2870.5,2,   1.7107,2,   1.71076,2,  34.6753,2,  34.6751,2,   158.15,2,   157.68,2,   125.33,2,     0.39,    35.47,2,     0.13,     0.01,2,     0.01,    2.480,2,    0.016,    0.000,2,    0.001,2,    0.000,2,   2312.5,2,   2404.8,2,   7.5991,  25,6,  -999.00,9,  -999.00,   -999.0,9,   -999.0,   1.5016,  27.7494
  49NZ20090410,   P21,   125,  1,     13, X12013,7,20090510,2016,-16.7533,-129.9997, 4097,   3080.7,2,   1.6508,2,   1.65095,2,  34.6798,2,  34.6804,6,   160.07,2,   159.67,2,   127.02,2,     0.40,    35.41,2,     0.13,     0.01,2,     0.01,    2.482,2,    0.016,    0.002,2,    0.002,2,    0.000,2,   2311.5,2,   2406.6,2,   7.6032,  25,2,  -999.00,9,  -999.00,   -999.0,9,   -999.0,   1.4229,  27.7588
  49NZ20090410,   P21,   125,  1,     12, X12012,2,20090510,2016,-16.7533,-129.9997, 4097,   3330.3,2,   1.6100,2,   1.61012,2,  34.6834,2,  34.6834,2,   161.43,2,   161.20,2,   128.59,2,     0.40,    35.32,2,     0.13,     0.01,2,     0.01,    2.471,2,    0.016,    0.001,2,    0.001,2,    0.000,2,   2311.7,2,   2409.0,2,   7.6062,  25,2,  -999.00,9,  -999.00,   -999.0,9,   -999.0,   1.3583,  27.7663
  49NZ20090410,   P21,   125,  1,     11, X12041,2,20090510,2016,-16.7533,-129.9997, 4097,   3581.1,2,   1.5703,2,   1.57032,2,  34.6865,2,  34.6862,2,   164.33,2,   163.98,2,   128.96,2,     0.40,    35.23,2,     0.13,     0.01,2,     0.01,    2.467,2,    0.016,    0.000,2,    0.000,2,    0.000,2,   2311.0,2,   2409.2,2,   7.6094,  25,2,  -999.00,9,  -999.00,   -999.0,9,   -999.0,   1.2940,  27.7733
  49NZ20090410,   P21,   125,  1,     10, X12040,2,20090510,2016,-16.7533,-129.9997, 4097,   3828.7,2,   1.5687,2,   1.56872,2,  34.6878,2,  34.6882,2,   165.87,2,   165.55,2,   128.56,2,     0.40,    35.09,2,     0.13,     0.01,2,     0.01,    2.455,2,    0.016,    0.001,2,    0.000,2,    0.000,2,   2309.2,2,   2408.1,2,   7.6110,  25,2,  -999.00,9,  -999.00,   -999.0,9,   -999.0,   1.2664,  27.7763
  49NZ20090410,   P21,   125,  1,      9, X12009,2,20090510,2016,-16.7533,-129.9997, 4097,   4078.9,2,   1.5763,2,   1.57630,2,  34.6888,2,  34.6885,2,   167.10,2,   166.61,2,   128.47,2,     0.40,    34.97,2,     0.13,     0.01,2,     0.01,    2.447,2,    0.016,    0.000,2,    0.000,2,    0.000,2,   2309.4,2,   2408.0,2,   7.6119,  25,2,  -999.00,9,  -999.00,   -999.0,9,   -999.0,   1.2466,  27.7785
  49NZ20090410,   P21,   125,  1,      8, X12008,9,20090510,2016,-16.7533,-129.9997, 4097,      9.9,2,  27.4573,2,  27.45702,2,  36.3468,2,-999.0000,9,   200.27,2,  -999.00,9,  -999.00,9,  -999.00,  -999.00,9,  -999.00,  -999.00,9,  -999.00, -999.000,9, -999.000, -999.000,9, -999.000,9, -999.000,9,   -999.0,9,   -999.0,9,-999.0000,-999,9,  -999.00,9,  -999.00,   -999.0,9,   -999.0,  27.4550,  23.5858
  49NZ20090410,   P21,   125,  1,      7, X12007,9,20090510,2016,-16.7533,-129.9997, 4097,   2271.2,2,   1.9231,2,   1.92331,2,  34.6582,2,-999.0000,9,   150.44,2,  -999.00,9,  -999.00,9,  -999.00,  -999.00,9,  -999.00,  -999.00,9,  -999.00, -999.000,9, -999.000, -999.000,9, -999.000,9, -999.000,9,   -999.0,9,   -999.0,9,-999.0000,-999,9,  -999.00,9,  -999.00,   -999.0,9,   -999.0,   1.7646,  27.7161
  49NZ20090410,   P21,   125,  1,      6, X12035,9,20090510,2016,-16.7533,-129.9997, 4097,   2470.9,2,   1.8450,2,   1.84509,2,  34.6657,2,-999.0000,9,   152.58,2,  -999.00,9,  -999.00,9,  -999.00,  -999.00,9,  -999.00,  -999.00,9,  -999.00, -999.000,9, -999.000, -999.000,9, -999.000,9, -999.000,9,   -999.0,9,   -999.0,9,-999.0000,-999,9,  -999.00,9,  -999.00,   -999.0,9,   -999.0,   1.6702,  27.7293
  49NZ20090410,   P21,   125,  1,      5, X12038,9,20090510,2016,-16.7533,-129.9997, 4097,   2669.9,2,   1.7663,2,   1.76624,2,  34.6712,2,-999.0000,9,   155.79,2,  -999.00,9,  -999.00,9,  -999.00,  -999.00,9,  -999.00,  -999.00,9,  -999.00, -999.000,9, -999.000, -999.000,9, -999.000,9, -999.000,9,   -999.0,9,   -999.0,9,-999.0000,-999,9,  -999.00,9,  -999.00,   -999.0,9,   -999.0,   1.5749,  27.7408
  49NZ20090410,   P21,   125,  1,      4, X12034,9,20090510,2016,-16.7533,-129.9997, 4097,   2870.9,2,   1.7107,2,   1.71075,2,  34.6752,2,-999.0000,9,   158.15,2,  -999.00,9,  -999.00,9,  -999.00,  -999.00,9,  -999.00,  -999.00,9,  -999.00, -999.000,9, -999.000, -999.000,9, -999.000,9, -999.000,9,   -999.0,9,   -999.0,9,-999.0000,-999,9,  -999.00,9,  -999.00,   -999.0,9,   -999.0,   1.5016,  27.7494
  49NZ20090410,   P21,   125,  1,      3, X12033,9,20090510,2016,-16.7533,-129.9997, 4097,   3080.1,2,   1.6509,2,   1.65100,2,  34.6799,2,-999.0000,9,   160.09,2,  -999.00,9,  -999.00,9,  -999.00,  -999.00,9,  -999.00,  -999.00,9,  -999.00, -999.000,9, -999.000, -999.000,9, -999.000,9, -999.000,9,   -999.0,9,   -999.0,9,-999.0000,-999,9,  -999.00,9,  -999.00,   -999.0,9,   -999.0,   1.4230,  27.7588
  49NZ20090410,   P21,   125,  1,      2, X12032,9,20090510,2016,-16.7533,-129.9997, 4097,    930.4,2,   4.5805,2,   4.58054,2,  34.5061,2,-999.0000,9,    97.30,2,  -999.00,9,  -999.00,9,  -999.00,  -999.00,9,  -999.00,  -999.00,9,  -999.00, -999.000,9, -999.000, -999.000,9, -999.000,9, -999.000,9,   -999.0,9,   -999.0,9,-999.0000,-999,9,  -999.00,9,  -999.00,   -999.0,9,   -999.0,   4.5064,  27.3392
  49NZ20090410,   P21,   125,  1,      1, X12046,2,20090510,2016,-16.7533,-129.9997, 4097,   4142.8,2,   1.5805,2,   1.58032,2,  34.6888,2,  34.6889,6,   167.35,2,   166.92,2,   128.24,2,     0.40,    35.03,2,     0.13,     0.01,2,     0.01,    2.442,2,    0.016,    0.001,2,    0.001,2,    0.000,2,   2309.7,2,   2408.4,2,   7.6122,  25,2,  -999.00,9,  -999.00,   -999.0,9,   -999.0,   1.2436,  27.7787