BOTTLE,20220818CCHSIOAMB
EXPOCODE,SECT_ID,STNNBR,CASTNO,SAMPNO,BTLNBR,BTLNBR_FLAG_W,DATE,TIME,LATITUDE,LONGITUDE,DEPTH,CTDPRS,CTDPRS_FLAG_W,CTDTMP,CTDTMP_FLAG_W,SBE35,SBE35_FLAG_W,CTDSAL,CTDSAL_FLAG_W,SALNTY,SALNTY_FLAG_W,CTDOXY,CTDOXY_FLAG_W,OXYGEN,OXYGEN_FLAG_W,SILCAT,SILCAT_FLAG_W,SILUNC,NITRAT,NITRAT_FLAG_W,NRAUNC,NITRIT,NITRIT_FLAG_W,NRIUNC,PHSPHT,PHSPHT_FLAG_W,PHPUNC,CFC-11,CFC-11_FLAG_W,CFC-12,CFC-12_FLAG_W,CFC113,CFC113_FLAG_W,TCARBN,TCARBN_FLAG_W,ALKALI,ALKALI_FLAG_W,PH_TOT,PH_TMP,PH_TOT_FLAG_W,DELC13,DELC13_FLAG_W,C13ERR,DELC14,DELC14_FLAG_W,C14ERR,THETA,SIG0
,,,,,,,,,,,METERS,DBAR,,ITS-90,,ITS-90,,PSS-78,,PSS-78,,UMOL/KG,,UMOL/KG,,UMOL/KG,,UMOL/KG,UMOL/KG,,UMOL/KG,UMOL/KG,,UMOL/KG,UMOL/KG,,UMOL/KG,PMOL/KG,,PMOL/KG,,PMOL/KG,,UMOL/KG,,UMOL/KG,,,DEG C,,/MILLE,,/MILLE,/MILLE,,/MILLE,DEG C,KG/M^3
  49NZ20090410,   P21,    76,  1,     36, X12006,2,20090430,1834,-16.7475,-102.6743, 3694,     10.1,2,  25.0541,2,  25.05839,2,  35.9625,2,  35.9627,2,   209.89,2,   209.30,2,     0.71,2,     0.12,     0.21,2,     0.03,     0.02,2,     0.01,    0.387,2,    0.013,    1.642,2,    1.054,2, -999.000,5,   -999.0,9,   -999.0,9,-999.0000,-999,9,  -999.00,9,  -999.00,   -999.0,9,   -999.0,  25.0519,  24.0530
  49NZ20090410,   P21,    76,  1,     35, X12047,2,20090430,1834,-16.7475,-102.6743, 3694,     50.1,2,  24.7399,2,  24.73818,2,  35.9455,2,  35.9467,2,   209.78,2,   209.49,2,     0.61,2,     0.12,     0.08,2,     0.03,     0.01,2,     0.01,    0.379,2,    0.013,    1.656,2,    1.069,2, -999.000,5,   -999.0,9,   -999.0,9,-999.0000,-999,9,  -999.00,9,  -999.00,   -999.0,9,   -999.0,  24.7291,  24.1384
  49NZ20090410,   P21,    76,  1,     34, X12004,2,20090430,1834,-16.7475,-102.6743, 3694,    100.6,2,  21.1135,2,  21.11968,2,  35.7811,2,  35.7684,2,   211.59,2,   211.77,2,     0.70,2,     0.12,     0.53,2,     0.03,     0.19,2,     0.01,    0.535,2,    0.013,    1.999,6,    1.257,6, -999.000,5,   -999.0,9,   -999.0,9,-999.0000,-999,9,  -999.00,9,  -999.00,   -999.0,9,   -999.0,  21.0941,  25.0629
  49NZ20090410,   P21,    76,  1,     33, X12003,2,20090430,1834,-16.7475,-102.6743, 3694,    150.4,2,  19.4701,2,  19.46823,2,  35.5057,2,  35.5052,2,   195.93,2,   195.14,2,     0.81,2,     0.12,     4.31,2,     0.04,     0.18,2,     0.01,    0.689,2,    0.013,    2.154,2,    1.338,2,    0.208,4,   -999.0,9,   -999.0,9,-999.0000,-999,9,  -999.00,9,  -999.00,   -999.0,9,   -999.0,  19.4428,  25.2936
  49NZ20090410,   P21,    76,  1,     32, X12002,2,20090430,1834,-16.7475,-102.6743, 3694,    199.6,2,  17.4073,2,  17.41028,2,  35.1782,2,  35.1795,2,   187.69,2,   186.97,2,     1.58,2,     0.12,     8.22,2,     0.06,     0.02,2,     0.01,    0.924,2,    0.013,    2.370,2,    1.440,2,    0.144,2,   -999.0,9,   -999.0,9,-999.0000,-999,9,  -999.00,9,  -999.00,   -999.0,9,   -999.0,  17.3738,  25.5615
  49NZ20090410,   P21,    76,  1,     31, X12001,2,20090430,1834,-16.7475,-102.6743, 3694,    252.3,2,  14.0970,2,  14.10484,2,  34.7950,2,  34.7973,6,   117.10,2,   115.54,2,     6.92,2,     0.13,    17.45,2,     0.08,     0.02,2,     0.01,    1.670,2,    0.014,    2.307,2,    1.352,2,    0.088,2,   -999.0,9,   -999.0,9,-999.0000,-999,9,  -999.00,9,  -999.00,   -999.0,9,   -999.0,  14.0604,  26.0159
  49NZ20090410,   P21,    76,  1,     30, X12030,2,20090430,1834,-16.7475,-102.6743, 3694,    329.8,2,  10.1874,2,  10.18777,2,  34.5653,2,  34.5650,2,    44.41,2,    44.22,2,    19.35,2,     0.16,    28.32,2,     0.11,     0.01,2,     0.01,    2.522,2,    0.016,    1.068,2,    0.564,2,    0.024,2,   -999.0,9,   -999.0,9,-999.0000,-999,9,  -999.00,9,  -999.00,   -999.0,9,   -999.0,  10.1486,  26.5871
  49NZ20090410,   P21,    76,  1,     29, X12044,2,20090430,1834,-16.7475,-102.6743, 3694,    431.8,2,   8.1843,2,   8.18649,2,  34.5381,2,  34.5383,2,    43.86,2,    43.55,2,    25.83,2,     0.18,    36.60,2,     0.14,     0.01,2,     0.01,    2.712,2,    0.017,    0.287,2,    0.157,2,    0.008,2,   -999.0,9,   -999.0,9,-999.0000,-999,9,  -999.00,9,  -999.00,   -999.0,9,   -999.0,   8.1396,  26.8901
  49NZ20090410,   P21,    76,  1,     28, X12048,2,20090430,1834,-16.7475,-102.6743, 3694,    531.1,2,   6.9905,2,   6.99053,2,  34.4984,2,  34.4983,6,    62.18,2,    62.02,2,    30.94,2,     0.19,    38.77,2,     0.14,     0.01,2,     0.01,    2.752,2,    0.017,    0.138,2,    0.072,2,    0.000,2,   -999.0,9,   -999.0,9,-999.0000,-999,9,  -999.00,9,  -999.00,   -999.0,9,   -999.0,   6.9400,  27.0319
  49NZ20090410,   P21,    76,  1,     27, X12027,2,20090430,1834,-16.7475,-102.6743, 3694,    629.3,2,   6.2734,2,   6.27385,2,  34.4962,2,  34.4961,2,    57.29,2,    57.25,2,    39.50,2,     0.21,    40.97,2,     0.15,     0.01,2,     0.01,    2.885,2,    0.017,    0.032,6,    0.019,6,    0.000,6,   -999.0,9,   -999.0,9,-999.0000,-999,9,  -999.00,9,  -999.00,   -999.0,9,   -999.0,   6.2165,  27.1268
  49NZ20090410,   P21,    76,  1,     26, X12026,2,20090430,1834,-16.7475,-102.6743, 3694,    731.4,2,   5.6611,2,   5.66089,2,  34.4975,2,  34.4963,2,    56.61,2,    57.25,2,    48.68,2,     0.23,    42.26,2,     0.15,     0.01,2,     0.01,    2.969,2,    0.017,    0.006,2,    0.005,2,    0.000,2,   -999.0,9,   -999.0,9,-999.0000,-999,9,  -999.00,9,  -999.00,   -999.0,9,   -999.0,   5.5979,  27.2057
  49NZ20090410,   P21,    76,  1,     25, X12025,2,20090430,1834,-16.7475,-102.6743, 3694,    830.0,2,   5.1800,2,   5.18000,2,  34.5034,2,  34.5037,2,    54.78,2,    54.75,2,    57.90,2,     0.25,    43.25,2,     0.15,     0.01,2,     0.01,    3.067,2,    0.018,    0.000,2,    0.001,2,    0.000,2,   -999.0,9,   -999.0,9,-999.0000,-999,9,  -999.00,9,  -999.00,   -999.0,9,   -999.0,   5.1107,  27.2687
  49NZ20090410,   P21,    76,  1,     24, X12024,2,20090430,1834,-16.7475,-102.6743, 3694,    929.1,2,   4.7245,2,   4.72388,2,  34.5154,2,  34.5149,2,    57.12,2,    57.18,2,    67.42,2,     0.27,    43.49,2,     0.15,     0.01,2,     0.01,    3.094,2,    0.018,    0.000,2,    0.001,2,    0.000,2,   -999.0,9,   -999.0,9,-999.0000,-999,9,  -999.00,9,  -999.00,   -999.0,9,   -999.0,   4.6495,  27.3309
  49NZ20090410,   P21,    76,  1,     23, X12028,2,20090430,1834,-16.7475,-102.6743, 3694,   1068.9,2,   4.1846,2,   4.18434,2,  34.5302,2,  34.5303,6,    70.33,2,    70.13,2,    78.11,2,     0.29,    42.33,2,     0.15,     0.01,2,     0.01,    3.045,2,    0.018,    0.002,2,    0.002,2,    0.000,2,   -999.0,9,   -999.0,9,-999.0000,-999,9,  -999.00,9,  -999.00,   -999.0,9,   -999.0,   4.1016,  27.4019
  49NZ20090410,   P21,    76,  1,     22, X12022,2,20090430,1834,-16.7475,-102.6743, 3694,   1270.3,2,   3.5141,2,   3.51407,2,  34.5598,2,  34.5600,2,    82.56,2,    82.39,2,    93.50,2,     0.32,    41.37,2,     0.15,     0.01,2,     0.01,    2.987,2,    0.017,    0.000,2,    0.001,2,    0.000,2,   -999.0,9,   -999.0,9,-999.0000,-999,9,  -999.00,9,  -999.00,   -999.0,9,   -999.0,   3.4200,  27.4941
  49NZ20090410,   P21,    76,  1,     21, X12021,2,20090430,1834,-16.7475,-102.6743, 3694,   1470.4,2,   3.0909,2,   3.09107,2,  34.5837,2,  34.5837,2,    90.12,2,    90.07,2,   104.26,2,     0.35,    40.77,2,     0.15,     0.01,2,     0.01,    2.944,2,    0.017,    0.000,2,    0.001,2,    0.000,2,   -999.0,9,   -999.0,9,-999.0000,-999,9,  -999.00,9,  -999.00,   -999.0,9,   -999.0,   2.9845,  27.5542
  49NZ20090410,   P21,    76,  1,     20, X12020,2,20090430,1834,-16.7475,-102.6743, 3694,   1668.7,2,   2.6813,2,   2.68152,2,  34.6090,2,  34.6089,2,   102.36,2,   102.15,2,   113.80,2,     0.37,    39.86,2,     0.14,     0.01,2,     0.01,    2.848,2,    0.017,    0.000,2,    0.000,2,    0.000,2,   -999.0,9,   -999.0,9,-999.0000,-999,9,  -999.00,9,  -999.00,   -999.0,9,   -999.0,   2.5631,  27.6119
  49NZ20090410,   P21,    76,  1,     19, X12019,2,20090430,1834,-16.7475,-102.6743, 3694,   1870.8,2,   2.3934,2,   2.39342,2,  34.6274,2,  34.6276,6,   115.54,2,   115.28,2,   118.42,2,     0.38,    38.79,2,     0.14,     0.01,2,     0.01,    2.752,2,    0.017,    0.001,2,    0.001,2,    0.000,2,   -999.0,9,   -999.0,9,-999.0000,-999,9,  -999.00,9,  -999.00,   -999.0,9,   -999.0,   2.2621,  27.6520
  49NZ20090410,   P21,    76,  1,     18, X12043,2,20090430,1834,-16.7475,-102.6743, 3694,   2070.7,2,   2.1312,2,   2.13114,2,  34.6432,2,  34.6434,2,   134.51,2,   134.26,2,   118.18,2,     0.38,    37.24,2,     0.14,     0.01,2,     0.01,    2.621,2,    0.017, -999.000,9, -999.000,9, -999.000,9,   -999.0,9,   -999.0,9,-999.0000,-999,9,  -999.00,9,  -999.00,   -999.0,9,   -999.0,   1.9867,  27.6869
  49NZ20090410,   P21,    76,  1,     17, X12042,2,20090430,1834,-16.7475,-102.6743, 3694,   2272.5,2,   1.9551,2,   1.95521,2,  34.6574,2,  34.6578,2,   146.38,2,   146.20,2,   119.09,2,     0.38,    36.20,2,     0.13,     0.01,2,     0.01,    2.543,2,    0.016,    0.001,2,    0.001,2,    0.000,2,   -999.0,9,   -999.0,9,-999.0000,-999,9,  -999.00,9,  -999.00,   -999.0,9,   -999.0,   1.7959,  27.7131
  49NZ20090410,   P21,    76,  1,     16, X12016,2,20090430,1834,-16.7475,-102.6743, 3694,   2470.9,2,   1.8582,2,   1.85817,2,  34.6678,2,  34.6679,2,   151.41,2,   151.35,2,   120.66,2,     0.38,    35.74,2,     0.13,     0.01,2,     0.01,    2.492,2,    0.016, -999.000,9, -999.000,9, -999.000,9,   -999.0,9,   -999.0,9,-999.0000,-999,9,  -999.00,9,  -999.00,   -999.0,9,   -999.0,   1.6831,  27.7300
  49NZ20090410,   P21,    76,  1,     15, X12015,2,20090430,1834,-16.7475,-102.6743, 3694,   2671.5,2,   1.8156,2,   1.81554,2,  34.6749,2,  34.6748,6,   149.40,2,   149.34,2,   125.24,2,     0.39,    35.94,2,     0.13,     0.01,2,     0.01,    2.519,2,    0.016, -999.000,9, -999.000,9, -999.000,9,   -999.0,9,   -999.0,9,-999.0000,-999,9,  -999.00,9,  -999.00,   -999.0,9,   -999.0,   1.6230,  27.7402
  49NZ20090410,   P21,    76,  1,     14, X12050,2,20090430,1834,-16.7475,-102.6743, 3694,   2870.7,2,   1.8080,2,   1.80805,2,  34.6782,2,  34.6782,2,   147.28,2,   147.19,2,   128.66,2,     0.40,    36.15,2,     0.13,     0.01,2,     0.01,    2.526,2,    0.016,    0.017,4,    0.013,4,    0.000,4,   -999.0,9,   -999.0,9,-999.0000,-999,9,  -999.00,9,  -999.00,   -999.0,9,   -999.0,   1.5969,  27.7448
  49NZ20090410,   P21,    76,  1,     13, X12013,7,20090430,1834,-16.7475,-102.6743, 3694,   3081.3,2,   1.8019,2,   1.80184,2,  34.6792,2,  34.6799,2,   144.43,2,   144.29,2,   131.98,2,     0.41,    36.51,2,     0.14,     0.01,2,     0.01,    2.554,2,    0.016, -999.000,9, -999.000,9, -999.000,9,   -999.0,9,   -999.0,9,-999.0000,-999,9,  -999.00,9,  -999.00,   -999.0,9,   -999.0,   1.5705,  27.7476
  49NZ20090410,   P21,    76,  1,     12, X12012,2,20090430,1834,-16.7475,-102.6743, 3694,   3331.4,2,   1.8097,2,   1.80967,2,  34.6801,2,  34.6801,2,   143.80,2,   143.75,2,   133.13,2,     0.41,    36.49,2,     0.13,     0.01,2,     0.01,    2.551,2,    0.016, -999.000,9, -999.000,9, -999.000,9,   -999.0,9,   -999.0,9,-999.0000,-999,9,  -999.00,9,  -999.00,   -999.0,9,   -999.0,   1.5531,  27.7496
  49NZ20090410,   P21,    76,  1,     11, X12041,2,20090430,1834,-16.7475,-102.6743, 3694,   3580.1,2,   1.8267,2,   1.82651,2,  34.6814,2,  34.6821,2,   145.21,2,   145.15,2,   131.91,2,     0.41,    36.50,2,     0.14,     0.01,2,     0.01,    2.554,2,    0.016,    0.002,2,    0.000,2,    0.000,2,   -999.0,9,   -999.0,9,-999.0000,-999,9,  -999.00,9,  -999.00,   -999.0,9,   -999.0,   1.5440,  27.7513
  49NZ20090410,   P21,    76,  1,     10, X12040,9,20090430,1834,-16.7475,-102.6743, 3694,     10.5,2,  24.9819,2,  24.97164,2,  35.9616,2,-999.0000,9,   210.48,2,  -999.00,9,  -999.00,9,  -999.00,  -999.00,9,  -999.00,  -999.00,9,  -999.00, -999.000,9, -999.000, -999.000,9, -999.000,9, -999.000,9,   -999.0,9,   -999.0,9,-999.0000,-999,9,  -999.00,9,  -999.00,   -999.0,9,   -999.0,  24.9796,  24.0744
  49NZ20090410,   P21,    76,  1,      9, X12009,9,20090430,1834,-16.7475,-102.6743, 3694,   1668.9,2,   2.6827,2,   2.68254,2,  34.6089,2,-999.0000,9,   102.26,2,  -999.00,9,  -999.00,9,  -999.00,  -999.00,9,  -999.00,  -999.00,9,  -999.00, -999.000,9, -999.000, -999.000,9, -999.000,9, -999.000,9,   -999.0,9,   -999.0,9,-999.0000,-999,9,  -999.00,9,  -999.00,   -999.0,9,   -999.0,   2.5645,  27.6116
  49NZ20090410,   P21,    76,  1,      8, X12008,9,20090430,1834,-16.7475,-102.6743, 3694,   1870.2,2,   2.3937,2,   2.39382,2,  34.6274,2,-999.0000,9,   115.54,2,  -999.00,9,  -999.00,9,  -999.00,  -999.00,9,  -999.00,  -999.00,9,  -999.00, -999.000,9, -999.000, -999.000,9, -999.000,9, -999.000,9,   -999.0,9,   -999.0,9,-999.0000,-999,9,  -999.00,9,  -999.00,   -999.0,9,   -999.0,   2.2624,  27.6519
  49NZ20090410,   P21,    76,  1,      7, X12007,9,20090430,1834,-16.7475,-102.6743, 3694,   2070.4,2,   2.1311,2,   2.13105,2,  34.6433,2,-999.0000,9,   134.51,2,  -999.00,9,  -999.00,9,  -999.00,  -999.00,9,  -999.00,  -999.00,9,  -999.00, -999.000,9, -999.000, -999.000,9, -999.000,9, -999.000,9,   -999.0,9,   -999.0,9,-999.0000,-999,9,  -999.00,9,  -999.00,   -999.0,9,   -999.0,   1.9866,  27.6870
  49NZ20090410,   P21,    76,  1,      6, X12035,9,20090430,1834,-16.7475,-102.6743, 3694,   2272.1,2,   1.9549,2,   1.95500,2,  34.6575,2,-999.0000,9,   146.38,2,  -999.00,9,  -999.00,9,  -999.00,  -999.00,9,  -999.00,  -999.00,9,  -999.00, -999.000,9, -999.000, -999.000,9, -999.000,9, -999.000,9,   -999.0,9,   -999.0,9,-999.0000,-999,9,  -999.00,9,  -999.00,   -999.0,9,   -999.0,   1.7958,  27.7132
  49NZ20090410,   P21,    76,  1,      5, X12038,9,20090430,1834,-16.7475,-102.6743, 3694,   2470.8,2,   1.8573,2,   1.85703,2,  34.6679,2,-999.0000,9,   151.45,2,  -999.00,9,  -999.00,9,  -999.00,  -999.00,9,  -999.00,  -999.00,9,  -999.00, -999.000,9, -999.000, -999.000,9, -999.000,9, -999.000,9,   -999.0,9,   -999.0,9,-999.0000,-999,9,  -999.00,9,  -999.00,   -999.0,9,   -999.0,   1.6822,  27.7302
  49NZ20090410,   P21,    76,  1,      4, X12034,9,20090430,1834,-16.7475,-102.6743, 3694,   2671.5,2,   1.8154,2,   1.81532,2,  34.6749,2,-999.0000,9,   149.44,2,  -999.00,9,  -999.00,9,  -999.00,  -999.00,9,  -999.00,  -999.00,9,  -999.00, -999.000,9, -999.000, -999.000,9, -999.000,9, -999.000,9,   -999.0,9,   -999.0,9,-999.0000,-999,9,  -999.00,9,  -999.00,   -999.0,9,   -999.0,   1.6228,  27.7402
  49NZ20090410,   P21,    76,  1,      3, X12033,9,20090430,1834,-16.7475,-102.6743, 3694,   2870.9,2,   1.8080,2,   1.80801,2,  34.6783,2,-999.0000,9,   147.29,2,  -999.00,9,  -999.00,9,  -999.00,  -999.00,9,  -999.00,  -999.00,9,  -999.00, -999.000,9, -999.000, -999.000,9, -999.000,9, -999.000,9,   -999.0,9,   -999.0,9,-999.0000,-999,9,  -999.00,9,  -999.00,   -999.0,9,   -999.0,   1.5968,  27.7449
  49NZ20090410,   P21,    76,  1,      2, X12032,9,20090430,1834,-16.7475,-102.6743, 3694,   3081.0,2,   1.8019,2,   1.80188,2,  34.6792,2,-999.0000,9,   144.43,2,  -999.00,9,  -999.00,9,  -999.00,  -999.00,9,  -999.00,  -999.00,9,  -999.00, -999.000,9, -999.000, -999.000,9, -999.000,9, -999.000,9,   -999.0,9,   -999.0,9,-999.0000,-999,9,  -999.00,9,  -999.00,   -999.0,9,   -999.0,   1.5705,  27.7476
  49NZ20090410,   P21,    76,  1,      1, X12046,2,20090430,1834,-16.7475,-102.6743, 3694,   3674.7,2,   1.8318,2,   1.83176,2,  34.6825,2,  34.6831,6,   146.43,2,   146.38,2,   130.90,2,     0.41,    36.31,2,     0.13,     0.01,2,     0.01,    2.538,2,    0.016,    0.000,2,    0.000,2,    0.000,2,   -999.0,9,   -999.0,9,-999.0000,-999,9,  -999.00,9,  -999.00,   -999.0,9,   -999.0,   1.5389,  27.7526