BOTTLE,20220818CCHSIOAMB
EXPOCODE,SECT_ID,STNNBR,CASTNO,SAMPNO,BTLNBR,BTLNBR_FLAG_W,DATE,TIME,LATITUDE,LONGITUDE,DEPTH,CTDPRS,CTDPRS_FLAG_W,CTDTMP,CTDTMP_FLAG_W,SBE35,SBE35_FLAG_W,CTDSAL,CTDSAL_FLAG_W,SALNTY,SALNTY_FLAG_W,CTDOXY,CTDOXY_FLAG_W,OXYGEN,OXYGEN_FLAG_W,SILCAT,SILCAT_FLAG_W,SILUNC,NITRAT,NITRAT_FLAG_W,NRAUNC,NITRIT,NITRIT_FLAG_W,NRIUNC,PHSPHT,PHSPHT_FLAG_W,PHPUNC,CFC-11,CFC-11_FLAG_W,CFC-12,CFC-12_FLAG_W,CFC113,CFC113_FLAG_W,TCARBN,TCARBN_FLAG_W,ALKALI,ALKALI_FLAG_W,PH_TOT,PH_TMP,PH_TOT_FLAG_W,DELC13,DELC13_FLAG_W,C13ERR,DELC14,DELC14_FLAG_W,C14ERR,THETA,SIG0
,,,,,,,,,,,METERS,DBAR,,ITS-90,,ITS-90,,PSS-78,,PSS-78,,UMOL/KG,,UMOL/KG,,UMOL/KG,,UMOL/KG,UMOL/KG,,UMOL/KG,UMOL/KG,,UMOL/KG,UMOL/KG,,UMOL/KG,PMOL/KG,,PMOL/KG,,PMOL/KG,,UMOL/KG,,UMOL/KG,,,DEG C,,/MILLE,,/MILLE,/MILLE,,/MILLE,DEG C,KG/M^3
  49NZ20090410,   P21,    70,  1,     36, X12006,2,20090429,0950,-16.7460, -98.6687, 3975,      9.2,2,  24.3155,2,  24.31532,2,  35.9446,2,  35.9447,2,   211.08,2,   210.36,2,     0.48,2,     0.12,     0.15,2,     0.03,     0.01,2,     0.01,    0.383,2,    0.013,    1.686,2,    1.061,2, -999.000,5,   -999.0,9,   -999.0,9,-999.0000,-999,9,  -999.00,9,  -999.00,   -999.0,9,   -999.0,  24.3135,  24.2630
  49NZ20090410,   P21,    70,  1,     35, X12047,2,20090429,0950,-16.7460, -98.6687, 3975,     49.7,2,  24.1343,2,  24.13255,2,  35.9186,2,  35.8863,2,   210.93,2,   213.48,2,     0.51,2,     0.12,     0.10,2,     0.03,     0.01,2,     0.01,    0.409,2,    0.013,    1.744,2,    1.088,2, -999.000,5,   -999.0,9,   -999.0,9,-999.0000,-999,9,  -999.00,9,  -999.00,   -999.0,9,   -999.0,  24.1238,  24.3001
  49NZ20090410,   P21,    70,  1,     34, X12004,2,20090429,0950,-16.7460, -98.6687, 3975,     99.9,2,  19.1410,2,  19.13951,2,  35.3380,2,  35.3353,2,   221.16,2,   222.69,2,     1.17,2,     0.12,     2.84,2,     0.04,     0.32,2,     0.01,    0.760,2,    0.013,    2.229,6,    1.352,6, -999.000,5,   -999.0,9,   -999.0,9,-999.0000,-999,9,  -999.00,9,  -999.00,   -999.0,9,   -999.0,  19.1231,  25.2480
  49NZ20090410,   P21,    70,  1,     33, X12003,2,20090429,0950,-16.7460, -98.6687, 3975,    149.8,2,  18.1173,2,  18.11891,2,  35.2331,2,  35.2324,2,   205.24,2,   205.91,2,     1.49,2,     0.12,     6.98,2,     0.05,     0.34,2,     0.00,    0.931,2,    0.013,    2.309,2,    1.384,2,    0.204,2,   -999.0,9,   -999.0,9,-999.0000,-999,9,  -999.00,9,  -999.00,   -999.0,9,   -999.0,  18.0914,  25.4280
  49NZ20090410,   P21,    70,  1,     32, X12002,2,20090429,0950,-16.7460, -98.6687, 3975,    199.5,2,  15.9476,2,  15.94657,2,  34.9399,2,  34.9392,2,   174.24,2,   173.03,2,     3.33,2,     0.13,    13.26,2,     0.07,     0.02,2,     0.01,    1.341,2,    0.014,    2.460,2,    1.444,2,    0.153,2,   -999.0,9,   -999.0,9,-999.0000,-999,9,  -999.00,9,  -999.00,   -999.0,9,   -999.0,  15.9161,  25.7205
  49NZ20090410,   P21,    70,  1,     31, X12001,2,20090429,0950,-16.7460, -98.6687, 3975,    249.9,2,  12.5185,2,  12.52333,2,  34.6078,2,  34.6076,6,    72.01,2,    72.82,2,    12.59,2,     0.15,    20.96,2,     0.09,     0.01,2,     0.01,    2.168,2,    0.015,    2.039,2,    1.136,2,    0.055,2,   -999.0,9,   -999.0,9,-999.0000,-999,9,  -999.00,9,  -999.00,   -999.0,9,   -999.0,  12.4850,  26.1909
  49NZ20090410,   P21,    70,  1,     30, X12030,2,20090429,0950,-16.7460, -98.6687, 3975,    329.5,2,   9.8542,2,   9.85366,2,  34.5991,2,  34.5988,2,    26.35,2,    25.75,2,    22.42,2,     0.17,    31.61,2,     0.12,     0.00,2,     0.01,    2.664,2,    0.017,    0.634,2,    0.329,2,    0.013,2,   -999.0,9,   -999.0,9,-999.0000,-999,9,  -999.00,9,  -999.00,   -999.0,9,   -999.0,   9.8162,  26.6701
  49NZ20090410,   P21,    70,  1,     29, X12044,2,20090429,0950,-16.7460, -98.6687, 3975,    430.0,2,   8.0701,2,   8.07114,2,  34.5556,2,  34.5548,2,    38.13,2,    37.97,2,    28.21,2,     0.18,    37.83,2,     0.14,     0.01,2,     0.01,    2.742,2,    0.017,    0.188,2,    0.101,2,    0.004,2,   -999.0,9,   -999.0,9,-999.0000,-999,9,  -999.00,9,  -999.00,   -999.0,9,   -999.0,   8.0260,  26.9209
  49NZ20090410,   P21,    70,  1,     28, X12048,2,20090429,0950,-16.7460, -98.6687, 3975,    529.5,2,   6.9741,2,   6.97396,2,  34.5127,2,  34.5122,6,    54.51,2,    54.35,2,    33.18,2,     0.19,    39.64,2,     0.14,     0.00,2,     0.01,    2.781,2,    0.017,    0.095,2,    0.050,2,    0.005,2,   -999.0,9,   -999.0,9,-999.0000,-999,9,  -999.00,9,  -999.00,   -999.0,9,   -999.0,   6.9238,  27.0454
  49NZ20090410,   P21,    70,  1,     27, X12027,2,20090429,0950,-16.7460, -98.6687, 3975,    629.9,2,   6.4050,2,   6.40507,2,  34.5099,2,  34.5096,2,    48.84,2,    48.81,2,    40.44,2,     0.21,    41.46,2,     0.15,     0.00,2,     0.01,    2.914,2,    0.017,    0.025,6,    0.015,6,    0.000,6,   -999.0,9,   -999.0,9,-999.0000,-999,9,  -999.00,9,  -999.00,   -999.0,9,   -999.0,   6.3475,  27.1206
  49NZ20090410,   P21,    70,  1,     26, X12026,2,20090429,0950,-16.7460, -98.6687, 3975,    729.8,2,   5.7528,2,   5.75244,2,  34.5022,2,  34.5017,2,    48.20,2,    48.16,2,    49.12,2,     0.23,    42.98,2,     0.15,     0.01,2,     0.01,    3.021,2,    0.018,    0.003,2,    0.003,2,    0.000,2,   -999.0,9,   -999.0,9,-999.0000,-999,9,  -999.00,9,  -999.00,   -999.0,9,   -999.0,   5.6892,  27.1982
  49NZ20090410,   P21,    70,  1,     25, X12025,2,20090429,0950,-16.7460, -98.6687, 3975,    830.2,2,   5.2226,2,   5.22284,2,  34.5069,2,  34.5066,2,    47.26,2,    47.27,2,    58.66,2,     0.25,    44.00,2,     0.16,     0.01,2,     0.01,    3.107,2,    0.018,    0.000,2,    0.001,2,    0.000,2,   -999.0,9,   -999.0,9,-999.0000,-999,9,  -999.00,9,  -999.00,   -999.0,9,   -999.0,   5.1530,  27.2665
  49NZ20090410,   P21,    70,  1,     24, X12024,2,20090429,0950,-16.7460, -98.6687, 3975,    931.6,2,   4.7386,2,   4.73878,2,  34.5153,2,  34.5148,2,    55.12,2,    55.11,2,    67.60,2,     0.27,    43.65,2,     0.16,     0.01,2,     0.01,    3.102,2,    0.018,    0.000,2,    0.000,2,    0.000,2,   -999.0,9,   -999.0,9,-999.0000,-999,9,  -999.00,9,  -999.00,   -999.0,9,   -999.0,   4.6633,  27.3292
  49NZ20090410,   P21,    70,  1,     23, X12028,2,20090429,0950,-16.7460, -98.6687, 3975,   1069.5,2,   4.1787,2,   4.17875,2,  34.5319,2,  34.5313,6,    67.65,2,    67.73,2,    78.98,2,     0.29,    42.58,2,     0.15,     0.00,2,     0.01,    3.060,2,    0.018,    0.000,2,    0.000,2,    0.000,2,   -999.0,9,   -999.0,9,-999.0000,-999,9,  -999.00,9,  -999.00,   -999.0,9,   -999.0,   4.0957,  27.4038
  49NZ20090410,   P21,    70,  1,     22, X12022,2,20090429,0950,-16.7460, -98.6687, 3975,   1269.6,2,   3.5306,2,   3.52905,2,  34.5591,2,  34.5598,2,    81.96,2,    82.02,2,    93.42,2,     0.32,    41.54,2,     0.15,     0.00,2,     0.01,    2.984,2,    0.017,    0.000,2,    0.000,2,    0.000,2,   -999.0,9,   -999.0,9,-999.0000,-999,9,  -999.00,9,  -999.00,   -999.0,9,   -999.0,   3.4364,  27.4920
  49NZ20090410,   P21,    70,  1,     21, X12021,2,20090429,0950,-16.7460, -98.6687, 3975,   1470.1,2,   3.0429,2,   3.04298,2,  34.5863,2,  34.5866,2,    91.80,2,    91.99,2,   105.51,2,     0.35,    40.58,2,     0.15,     0.00,2,     0.01,    2.922,2,    0.017,    0.000,2,    0.000,2,    0.000,2,   -999.0,9,   -999.0,9,-999.0000,-999,9,  -999.00,9,  -999.00,   -999.0,9,   -999.0,   2.9370,  27.5606
  49NZ20090410,   P21,    70,  1,     20, X12020,2,20090429,0950,-16.7460, -98.6687, 3975,   1671.9,2,   2.7103,2,   2.71063,2,  34.6079,2,  34.6076,2,    99.76,2,    99.51,2,   113.99,2,     0.37,    39.97,2,     0.14,     0.00,2,     0.01,    2.866,2,    0.017,    0.000,2,    0.000,2,    0.000,2,   -999.0,9,   -999.0,9,-999.0000,-999,9,  -999.00,9,  -999.00,   -999.0,9,   -999.0,   2.5915,  27.6085
  49NZ20090410,   P21,    70,  1,     19, X12019,2,20090429,0950,-16.7460, -98.6687, 3975,   1869.6,2,   2.4258,2,   2.42577,2,  34.6266,2,  34.6265,2,   111.06,2,   111.05,2,   119.87,2,     0.38,    39.03,2,     0.14,     0.00,2,     0.01,    2.783,2,    0.017,    0.000,2,    0.000,2,    0.000,2,   -999.0,9,   -999.0,9,-999.0000,-999,9,  -999.00,9,  -999.00,   -999.0,9,   -999.0,   2.2941,  27.6487
  49NZ20090410,   P21,    70,  1,     18, X12043,2,20090429,0950,-16.7460, -98.6687, 3975,   2071.1,2,   2.1693,2,   2.16940,2,  34.6424,2,  34.6422,6,   129.50,2,   129.24,2,   120.08,2,     0.38,    37.54,2,     0.14,     0.00,2,     0.01,    2.651,2,    0.017, -999.000,9, -999.000,9, -999.000,9,   -999.0,9,   -999.0,9,-999.0000,-999,9,  -999.00,9,  -999.00,   -999.0,9,   -999.0,   2.0242,  27.6832
  49NZ20090410,   P21,    70,  1,     17, X12042,2,20090429,0950,-16.7460, -98.6687, 3975,   2270.6,2,   1.9706,2,   1.97077,2,  34.6565,2,  34.6565,2,   144.95,2,   144.77,2,   119.28,2,     0.38,    36.38,2,     0.13,     0.01,2,     0.01,    2.542,2,    0.016,    0.000,2,    0.000,2,    0.000,2,   -999.0,9,   -999.0,9,-999.0000,-999,9,  -999.00,9,  -999.00,   -999.0,9,   -999.0,   1.8113,  27.7112
  49NZ20090410,   P21,    70,  1,     16, X12016,2,20090429,0950,-16.7460, -98.6687, 3975,   2469.5,2,   1.8618,2,   1.86184,2,  34.6675,2,  34.6675,2,   151.57,2,   151.43,2,   120.25,2,     0.38,    35.78,2,     0.13,     0.00,2,     0.01,    2.487,2,    0.016, -999.000,9, -999.000,9, -999.000,9,   -999.0,9,   -999.0,9,-999.0000,-999,9,  -999.00,9,  -999.00,   -999.0,9,   -999.0,   1.6868,  27.7295
  49NZ20090410,   P21,    70,  1,     15, X12015,2,20090429,0950,-16.7460, -98.6687, 3975,   2670.1,2,   1.8140,2,   1.81394,2,  34.6745,2,  34.6743,2,   148.22,2,   148.06,2,   126.47,2,     0.40,    36.03,2,     0.13,     0.00,2,     0.01,    2.517,2,    0.016, -999.000,9, -999.000,9, -999.000,9,   -999.0,9,   -999.0,9,-999.0000,-999,9,  -999.00,9,  -999.00,   -999.0,9,   -999.0,   1.6216,  27.7400
  49NZ20090410,   P21,    70,  1,     14, X12050,2,20090429,0950,-16.7460, -98.6687, 3975,   2870.5,2,   1.7997,2,   1.79961,2,  34.6779,2,  34.6776,2,   146.82,2,   146.73,2,   129.41,2,     0.40,    36.13,2,     0.13,     0.00,2,     0.01,    2.529,2,    0.016,    0.000,2,    0.000,2,    0.000,2,   -999.0,9,   -999.0,9,-999.0000,-999,9,  -999.00,9,  -999.00,   -999.0,9,   -999.0,   1.5888,  27.7452
  49NZ20090410,   P21,    70,  1,     13, X12013,7,20090429,0950,-16.7460, -98.6687, 3975,   3080.4,2,   1.7991,2,   1.79910,2,  34.6795,2,  34.6799,6,   145.24,2,   145.12,2,   131.56,2,     0.41,    36.42,2,     0.13,     0.00,2,     0.01,    2.541,2,    0.016, -999.000,9, -999.000,9, -999.000,9,   -999.0,9,   -999.0,9,-999.0000,-999,9,  -999.00,9,  -999.00,   -999.0,9,   -999.0,   1.5679,  27.7480
  49NZ20090410,   P21,    70,  1,     12, X12012,2,20090429,0950,-16.7460, -98.6687, 3975,   3331.7,2,   1.8063,2,   1.80620,2,  34.6813,2,  34.6811,2,   145.91,2,   145.85,2,   131.05,2,     0.41,    36.29,2,     0.13,     0.00,2,     0.01,    2.539,2,    0.016, -999.000,9, -999.000,9, -999.000,9,   -999.0,9,   -999.0,9,-999.0000,-999,9,  -999.00,9,  -999.00,   -999.0,9,   -999.0,   1.5498,  27.7508
  49NZ20090410,   P21,    70,  1,     11, X12041,2,20090429,0950,-16.7460, -98.6687, 3975,   3582.0,2,   1.8102,2,   1.81014,2,  34.6841,2,  34.6835,2,   147.92,2,   147.96,2,   129.52,2,     0.40,    36.12,2,     0.13,     0.00,2,     0.01,    2.518,2,    0.016,    0.000,2,    0.000,2,    0.000,2,   -999.0,9,   -999.0,9,-999.0000,-999,9,  -999.00,9,  -999.00,   -999.0,9,   -999.0,   1.5277,  27.7546
  49NZ20090410,   P21,    70,  1,     10, X12040,2,20090429,0950,-16.7460, -98.6687, 3975,   3830.6,2,   1.8238,2,   1.82368,2,  34.6852,2,  34.6854,2,   148.73,2,   148.85,2,   128.87,2,     0.40,    36.02,2,     0.13,     0.00,2,     0.01,    2.516,2,    0.016,    0.000,2,    0.000,2,    0.000,2,   -999.0,9,   -999.0,9,-999.0000,-999,9,  -999.00,9,  -999.00,   -999.0,9,   -999.0,   1.5144,  27.7565
  49NZ20090410,   P21,    70,  1,      9, X12009,9,20090429,0950,-16.7460, -98.6687, 3975,      8.8,2,  24.3149,2,  24.31469,2,  35.9448,2,-999.0000,9,   211.19,2,  -999.00,9,  -999.00,9,  -999.00,  -999.00,9,  -999.00,  -999.00,9,  -999.00, -999.000,9, -999.000, -999.000,9, -999.000,9, -999.000,9,   -999.0,9,   -999.0,9,-999.0000,-999,9,  -999.00,9,  -999.00,   -999.0,9,   -999.0,  24.3130,  24.2633
  49NZ20090410,   P21,    70,  1,      8, X12008,9,20090429,0950,-16.7460, -98.6687, 3975,   3331.2,2,   1.8062,2,   1.80613,2,  34.6814,2,-999.0000,9,   145.89,2,  -999.00,9,  -999.00,9,  -999.00,  -999.00,9,  -999.00,  -999.00,9,  -999.00, -999.000,9, -999.000, -999.000,9, -999.000,9, -999.000,9,   -999.0,9,   -999.0,9,-999.0000,-999,9,  -999.00,9,  -999.00,   -999.0,9,   -999.0,   1.5497,  27.7509
  49NZ20090410,   P21,    70,  1,      7, X12007,9,20090429,0950,-16.7460, -98.6687, 3975,   3581.8,2,   1.8102,2,   1.81003,2,  34.6840,2,-999.0000,9,   147.97,2,  -999.00,9,  -999.00,9,  -999.00,  -999.00,9,  -999.00,  -999.00,9,  -999.00, -999.000,9, -999.000, -999.000,9, -999.000,9, -999.000,9,   -999.0,9,   -999.0,9,-999.0000,-999,9,  -999.00,9,  -999.00,   -999.0,9,   -999.0,   1.5277,  27.7545
  49NZ20090410,   P21,    70,  1,      6, X12035,9,20090429,0950,-16.7460, -98.6687, 3975,   3830.0,2,   1.8236,2,   1.82353,2,  34.6853,2,-999.0000,9,   148.75,2,  -999.00,9,  -999.00,9,  -999.00,  -999.00,9,  -999.00,  -999.00,9,  -999.00, -999.000,9, -999.000, -999.000,9, -999.000,9, -999.000,9,   -999.0,9,   -999.0,9,-999.0000,-999,9,  -999.00,9,  -999.00,   -999.0,9,   -999.0,   1.5142,  27.7566
  49NZ20090410,   P21,    70,  1,      5, X12038,9,20090429,0950,-16.7460, -98.6687, 3975,   4022.6,2,   1.8317,2,   1.83150,2,  34.6861,2,-999.0000,9,   149.20,2,  -999.00,9,  -999.00,9,  -999.00,  -999.00,9,  -999.00,  -999.00,9,  -999.00, -999.000,9, -999.000, -999.000,9, -999.000,9, -999.000,9,   -999.0,9,   -999.0,9,-999.0000,-999,9,  -999.00,9,  -999.00,   -999.0,9,   -999.0,   1.5010,  27.7582
  49NZ20090410,   P21,    70,  1,      4, X12034,9,20090429,0950,-16.7460, -98.6687, 3975,   2669.4,2,   1.8137,2,   1.81367,2,  34.6745,2,-999.0000,9,   148.21,2,  -999.00,9,  -999.00,9,  -999.00,  -999.00,9,  -999.00,  -999.00,9,  -999.00, -999.000,9, -999.000, -999.000,9, -999.000,9, -999.000,9,   -999.0,9,   -999.0,9,-999.0000,-999,9,  -999.00,9,  -999.00,   -999.0,9,   -999.0,   1.6213,  27.7400
  49NZ20090410,   P21,    70,  1,      3, X12033,9,20090429,0950,-16.7460, -98.6687, 3975,   2870.1,2,   1.7997,2,   1.79983,2,  34.6780,2,-999.0000,9,   146.82,2,  -999.00,9,  -999.00,9,  -999.00,  -999.00,9,  -999.00,  -999.00,9,  -999.00, -999.000,9, -999.000, -999.000,9, -999.000,9, -999.000,9,   -999.0,9,   -999.0,9,-999.0000,-999,9,  -999.00,9,  -999.00,   -999.0,9,   -999.0,   1.5888,  27.7453
  49NZ20090410,   P21,    70,  1,      2, X12032,9,20090429,0950,-16.7460, -98.6687, 3975,   3080.6,2,   1.7992,2,   1.79919,2,  34.6795,2,-999.0000,9,   145.25,2,  -999.00,9,  -999.00,9,  -999.00,  -999.00,9,  -999.00,  -999.00,9,  -999.00, -999.000,9, -999.000, -999.000,9, -999.000,9, -999.000,9,   -999.0,9,   -999.0,9,-999.0000,-999,9,  -999.00,9,  -999.00,   -999.0,9,   -999.0,   1.5679,  27.7480
  49NZ20090410,   P21,    70,  1,      1, X12046,2,20090429,0950,-16.7460, -98.6687, 3975,   4022.7,2,   1.8316,2,   1.83157,2,  34.6861,2,  34.6860,6,   149.22,2,   149.21,2,   128.59,2,     0.40,    36.04,2,     0.13,     0.01,2,     0.01,    2.511,2,    0.016,    0.002,2,    0.000,2,    0.000,2,   -999.0,9,   -999.0,9,-999.0000,-999,9,  -999.00,9,  -999.00,   -999.0,9,   -999.0,   1.5008,  27.7582