BOTTLE,20220818CCHSIOAMB
EXPOCODE,SECT_ID,STNNBR,CASTNO,SAMPNO,BTLNBR,BTLNBR_FLAG_W,DATE,TIME,LATITUDE,LONGITUDE,DEPTH,CTDPRS,CTDPRS_FLAG_W,CTDTMP,CTDTMP_FLAG_W,SBE35,SBE35_FLAG_W,CTDSAL,CTDSAL_FLAG_W,SALNTY,SALNTY_FLAG_W,CTDOXY,CTDOXY_FLAG_W,OXYGEN,OXYGEN_FLAG_W,SILCAT,SILCAT_FLAG_W,SILUNC,NITRAT,NITRAT_FLAG_W,NRAUNC,NITRIT,NITRIT_FLAG_W,NRIUNC,PHSPHT,PHSPHT_FLAG_W,PHPUNC,CFC-11,CFC-11_FLAG_W,CFC-12,CFC-12_FLAG_W,CFC113,CFC113_FLAG_W,TCARBN,TCARBN_FLAG_W,ALKALI,ALKALI_FLAG_W,PH_TOT,PH_TMP,PH_TOT_FLAG_W,DELC13,DELC13_FLAG_W,C13ERR,DELC14,DELC14_FLAG_W,C14ERR,THETA,SIG0
,,,,,,,,,,,METERS,DBAR,,ITS-90,,ITS-90,,PSS-78,,PSS-78,,UMOL/KG,,UMOL/KG,,UMOL/KG,,UMOL/KG,UMOL/KG,,UMOL/KG,UMOL/KG,,UMOL/KG,UMOL/KG,,UMOL/KG,PMOL/KG,,PMOL/KG,,PMOL/KG,,UMOL/KG,,UMOL/KG,,,DEG C,,/MILLE,,/MILLE,/MILLE,,/MILLE,DEG C,KG/M^3
  49NZ20090410,   P21,   146,  1,     36, X12006,2,20090515,1314,-17.2495,-142.9998, 1530,     10.2,2,  27.9230,2,  27.92307,2,  36.2989,2,  36.2988,2,   196.41,2,   197.13,2,     0.78,2,     0.12,     0.16,2,     0.03,     0.02,2,     0.01,    0.251,2,    0.015,    1.430,2,    0.936,2, -999.000,5,   -999.0,9,   -999.0,9,-999.0000,-999,9,  -999.00,9,  -999.00,   -999.0,9,   -999.0,  27.9206,  23.3979
  49NZ20090410,   P21,   146,  1,     35, X12047,2,20090515,1314,-17.2495,-142.9998, 1530,     50.1,2,  27.9246,2,  27.92427,2,  36.2981,2,  36.2984,2,   196.18,2,   197.09,2,     0.76,2,     0.12,     0.14,2,     0.03,     0.02,2,     0.01,    0.250,2,    0.015,    1.433,2,    0.947,2, -999.000,5,   -999.0,9,   -999.0,9,-999.0000,-999,9,  -999.00,9,  -999.00,   -999.0,9,   -999.0,  27.9128,  23.3998
  49NZ20090410,   P21,   146,  1,     34, X12004,2,20090515,1314,-17.2495,-142.9998, 1530,     99.6,2,  25.9084,2,  25.91218,2,  36.4061,2,  36.4072,2,   204.03,2,   205.56,2,     0.59,2,     0.12,     0.08,2,     0.03,     0.03,2,     0.01,    0.206,2,    0.016,    1.618,6,    1.047,6, -999.000,5,   -999.0,9,   -999.0,9,-999.0000,-999,9,  -999.00,9,  -999.00,   -999.0,9,   -999.0,  25.8861,  24.1303
  49NZ20090410,   P21,   146,  1,     33, X12003,2,20090515,1314,-17.2495,-142.9998, 1530,    149.5,2,  24.4142,2,  24.41739,2,  36.3338,2,  36.3368,2,   190.76,2,   191.24,2,     0.63,2,     0.12,     0.38,2,     0.03,     0.75,2,     0.00,    0.299,2,    0.014,    1.697,2,    1.087,2, -999.000,5,   -999.0,9,   -999.0,9,-999.0000,-999,9,  -999.00,9,  -999.00,   -999.0,9,   -999.0,  24.3822,  24.5371
  49NZ20090410,   P21,   146,  1,     32, X12002,2,20090515,1314,-17.2495,-142.9998, 1530,    199.7,2,  22.3655,2,  22.36663,2,  36.1318,2,  36.1317,2,   178.74,2,   178.71,2,     0.76,2,     0.12,     3.09,2,     0.04,     0.16,2,     0.01,    0.476,2,    0.013,    1.880,2,    1.176,2,    0.188,4,   -999.0,9,   -999.0,9,-999.0000,-999,9,  -999.00,9,  -999.00,   -999.0,9,   -999.0,  22.3253,  24.9860
  49NZ20090410,   P21,   146,  1,     31, X12001,2,20090515,1314,-17.2495,-142.9998, 1530,    248.3,2,  20.0242,2,  20.02513,2,  35.7184,2,  35.7221,6,   176.57,2,   176.96,2,     0.94,2,     0.12,     4.56,2,     0.05,     0.02,2,     0.01,    0.556,2,    0.013,    2.093,2,    1.281,2,    0.075,2,   -999.0,9,   -999.0,9,-999.0000,-999,9,  -999.00,9,  -999.00,   -999.0,9,   -999.0,  19.9780,  25.3157
  49NZ20090410,   P21,   146,  1,     30, X12030,2,20090515,1314,-17.2495,-142.9998, 1530,    279.9,2,  18.3781,2,  18.37327,2,  35.4404,2,  35.4486,2,   174.98,2,   175.79,2,     1.35,2,     0.12,     5.75,2,     0.05,     0.02,2,     0.01,    0.635,2,    0.013,    2.226,2,    1.328,2,    0.040,2,   -999.0,9,   -999.0,9,-999.0000,-999,9,  -999.00,9,  -999.00,   -999.0,9,   -999.0,  18.3291,  25.5276
  49NZ20090410,   P21,   146,  1,     29, X12044,2,20090515,1314,-17.2495,-142.9998, 1530,    370.1,2,  12.2881,2,  12.29068,2,  34.6965,2,  34.6933,2,   138.60,2,   137.77,2,     7.64,2,     0.14,    17.16,2,     0.08,     0.01,2,     0.01,    1.482,2,    0.014,    2.014,2,    1.097,2,    0.033,2,   -999.0,9,   -999.0,9,-999.0000,-999,9,  -999.00,9,  -999.00,   -999.0,9,   -999.0,  12.2389,  26.3075
  49NZ20090410,   P21,   146,  1,     28, X12048,2,20090515,1314,-17.2495,-142.9998, 1530,    469.5,2,   8.3583,2,   8.36410,2,  34.4840,2,  34.4843,6,   119.58,2,   119.34,2,    18.14,2,     0.16,    28.57,2,     0.11,     0.01,2,     0.01,    2.147,2,    0.015,    0.922,2,    0.491,2,    0.015,2,   -999.0,9,   -999.0,9,-999.0000,-999,9,  -999.00,9,  -999.00,   -999.0,9,   -999.0,   8.3091,  26.8219
  49NZ20090410,   P21,   146,  1,     27, X12027,2,20090515,1314,-17.2495,-142.9998, 1530,    570.4,2,   6.6364,2,   6.63653,2,  34.4536,2,  34.4542,2,   131.83,2,   131.95,2,    28.46,2,     0.18,    32.08,2,     0.12,     0.01,2,     0.01,    2.297,2,    0.016,    0.393,6,    0.212,6,    0.008,6,   -999.0,9,   -999.0,9,-999.0000,-999,9,  -999.00,9,  -999.00,   -999.0,9,   -999.0,   6.5836,  27.0449
  49NZ20090410,   P21,   146,  1,     26, X12026,2,20090515,1314,-17.2495,-142.9998, 1530,    670.8,2,   5.9818,2,   5.98185,2,  34.4518,2,  34.4520,2,   137.33,2,   137.36,2,    34.76,2,     0.20,    33.02,2,     0.13,     0.01,2,     0.01,    2.342,2,    0.016,    0.258,2,    0.136,2,    0.010,2,   -999.0,9,   -999.0,9,-999.0000,-999,9,  -999.00,9,  -999.00,   -999.0,9,   -999.0,   5.9225,  27.1293
  49NZ20090410,   P21,   146,  1,     25, X12025,2,20090515,1314,-17.2495,-142.9998, 1530,    769.8,2,   5.1249,2,   5.12511,2,  34.4719,2,  34.4725,2,   138.17,2,   138.20,2,    48.31,2,     0.23,    34.17,2,     0.13,     0.01,2,     0.01,    2.425,2,    0.016,    0.107,2,    0.061,2,    0.000,2,   -999.0,9,   -999.0,9,-999.0000,-999,9,  -999.00,9,  -999.00,   -999.0,9,   -999.0,   5.0614,  27.2494
  49NZ20090410,   P21,   146,  1,     24, X12024,2,20090515,1314,-17.2495,-142.9998, 1530,    871.3,2,   4.6297,2,   4.63048,2,  34.4839,2,  34.4839,2,   139.34,2,   139.35,2,    56.26,2,     0.24,    34.77,2,     0.13,     0.01,2,     0.01,    2.466,2,    0.016,    0.067,2,    0.037,2,    0.000,2,   -999.0,9,   -999.0,9,-999.0000,-999,9,  -999.00,9,  -999.00,   -999.0,9,   -999.0,   4.5604,  27.3157
  49NZ20090410,   P21,   146,  1,     23, X12028,2,20090515,1314,-17.2495,-142.9998, 1530,    969.0,2,   4.2166,2,   4.21767,2,  34.4977,2,  34.4978,6,   140.32,2,   140.32,2,    63.89,2,     0.26,    35.16,2,     0.13,     0.02,2,     0.01,    2.493,2,    0.016,    0.036,2,    0.022,2,    0.000,2,   -999.0,9,   -999.0,9,-999.0000,-999,9,  -999.00,9,  -999.00,   -999.0,9,   -999.0,   4.1419,  27.3718
  49NZ20090410,   P21,   146,  1,     22, X12022,2,20090515,1314,-17.2495,-142.9998, 1530,   1131.3,2,   3.6203,2,   3.62026,2,  34.5284,2,  34.5293,2,   141.74,2,   141.79,2,    76.40,2,     0.29,    35.56,2,     0.13,     0.01,2,     0.01,    2.518,2,    0.016,    0.017,2,    0.009,2,    0.000,2,   -999.0,9,   -999.0,9,-999.0000,-999,9,  -999.00,9,  -999.00,   -999.0,9,   -999.0,   3.5368,  27.4578
  49NZ20090410,   P21,   146,  1,     21, X12021,2,20090515,1314,-17.2495,-142.9998, 1530,   1329.5,2,   3.2432,2,   3.24335,2,  34.5507,2,  34.5504,2,   143.66,2,   143.66,2,    84.69,2,     0.31,    35.76,2,     0.13,     0.01,2,     0.01,    2.528,2,    0.016,    0.009,2,    0.005,2,    0.000,2,   -999.0,9,   -999.0,9,-999.0000,-999,9,  -999.00,9,  -999.00,   -999.0,9,   -999.0,   3.1469,  27.5128
  49NZ20090410,   P21,   146,  1,     20, X12020,9,20090515,1314,-17.2495,-142.9998, 1530,   1329.6,2,   3.2448,2,   3.24447,2,  34.5506,2,-999.0000,9,   143.71,2,  -999.00,9,  -999.00,9,  -999.00,  -999.00,9,  -999.00,  -999.00,9,  -999.00, -999.000,9, -999.000, -999.000,9, -999.000,9, -999.000,9,   -999.0,9,   -999.0,9,-999.0000,-999,9,  -999.00,9,  -999.00,   -999.0,9,   -999.0,   3.1485,  27.5126
  49NZ20090410,   P21,   146,  1,     19, X12019,9,20090515,1314,-17.2495,-142.9998, 1530,   1330.1,2,   3.2455,2,   3.24542,2,  34.5506,2,-999.0000,9,   143.67,2,  -999.00,9,  -999.00,9,  -999.00,  -999.00,9,  -999.00,  -999.00,9,  -999.00, -999.000,9, -999.000, -999.000,9, -999.000,9, -999.000,9,   -999.0,9,   -999.0,9,-999.0000,-999,9,  -999.00,9,  -999.00,   -999.0,9,   -999.0,   3.1492,  27.5125
  49NZ20090410,   P21,   146,  1,     18, X12043,9,20090515,1314,-17.2495,-142.9998, 1530,      9.8,2,  27.9210,2,  27.92059,2,  36.2989,2,-999.0000,9,   196.48,2,  -999.00,9,  -999.00,9,  -999.00,  -999.00,9,  -999.00,  -999.00,9,  -999.00, -999.000,9, -999.000, -999.000,9, -999.000,9, -999.000,9,   -999.0,9,   -999.0,9,-999.0000,-999,9,  -999.00,9,  -999.00,   -999.0,9,   -999.0,  27.9187,  23.3985
  49NZ20090410,   P21,   146,  1,     17, X12042,9,20090515,1314,-17.2495,-142.9998, 1530,     50.7,2,  27.9265,2,  27.92547,2,  36.2981,2,-999.0000,9,   196.12,2,  -999.00,9,  -999.00,9,  -999.00,  -999.00,9,  -999.00,  -999.00,9,  -999.00, -999.000,9, -999.000, -999.000,9, -999.000,9, -999.000,9,   -999.0,9,   -999.0,9,-999.0000,-999,9,  -999.00,9,  -999.00,   -999.0,9,   -999.0,  27.9145,  23.3992
  49NZ20090410,   P21,   146,  1,     16, X12016,9,20090515,1314,-17.2495,-142.9998, 1530,    100.3,2,  25.9297,2,  25.93016,2,  36.4071,2,-999.0000,9,   204.10,2,  -999.00,9,  -999.00,9,  -999.00,  -999.00,9,  -999.00,  -999.00,9,  -999.00, -999.000,9, -999.000, -999.000,9, -999.000,9, -999.000,9,   -999.0,9,   -999.0,9,-999.0000,-999,9,  -999.00,9,  -999.00,   -999.0,9,   -999.0,  25.9073,  24.1245
  49NZ20090410,   P21,   146,  1,     15, X12015,9,20090515,1314,-17.2495,-142.9998, 1530,    149.7,2,  24.4214,2,  24.41549,2,  36.3355,2,-999.0000,9,   190.77,2,  -999.00,9,  -999.00,9,  -999.00,  -999.00,9,  -999.00,  -999.00,9,  -999.00, -999.000,9, -999.000, -999.000,9, -999.000,9, -999.000,9,   -999.0,9,   -999.0,9,-999.0000,-999,9,  -999.00,9,  -999.00,   -999.0,9,   -999.0,  24.3893,  24.5362
  49NZ20090410,   P21,   146,  1,     14, X12050,9,20090515,1314,-17.2495,-142.9998, 1530,    199.3,2,  22.3672,2,  22.36724,2,  36.1327,2,-999.0000,9,   178.80,2,  -999.00,9,  -999.00,9,  -999.00,  -999.00,9,  -999.00,  -999.00,9,  -999.00, -999.000,9, -999.000, -999.000,9, -999.000,9, -999.000,9,   -999.0,9,   -999.0,9,-999.0000,-999,9,  -999.00,9,  -999.00,   -999.0,9,   -999.0,  22.3271,  24.9862
  49NZ20090410,   P21,   146,  1,     13, X12014,2,20090515,1314,-17.2495,-142.9998, 1530,   1530.4,2,   2.7770,2,   2.77684,2,  34.5814,2,  34.5818,2,   147.25,2,  -999.00,9,  -999.00,9,  -999.00,  -999.00,9,  -999.00,  -999.00,9,  -999.00, -999.000,9, -999.000, -999.000,9, -999.000,9, -999.000,9,   -999.0,9,   -999.0,9,-999.0000,-999,9,  -999.00,9,  -999.00,   -999.0,9,   -999.0,   2.6692,  27.5806
  49NZ20090410,   P21,   146,  1,     12, X12012,9,20090515,1314,-17.2495,-142.9998, 1530,    249.1,2,  20.0959,2,  20.07814,2,  35.7316,2,-999.0000,9,   176.50,2,  -999.00,9,  -999.00,9,  -999.00,  -999.00,9,  -999.00,  -999.00,9,  -999.00, -999.000,9, -999.000, -999.000,9, -999.000,9, -999.000,9,   -999.0,9,   -999.0,9,-999.0000,-999,9,  -999.00,9,  -999.00,   -999.0,9,   -999.0,  20.0494,  25.3068
  49NZ20090410,   P21,   146,  1,     11, X12041,9,20090515,1314,-17.2495,-142.9998, 1530,    279.2,2,  18.3010,2,  18.46090,2,  35.4323,2,-999.0000,9,   175.43,2,  -999.00,9,  -999.00,9,  -999.00,  -999.00,9,  -999.00,  -999.00,9,  -999.00, -999.000,9, -999.000, -999.000,9, -999.000,9, -999.000,9,   -999.0,9,   -999.0,9,-999.0000,-999,9,  -999.00,9,  -999.00,   -999.0,9,   -999.0,  18.2523,  25.5406
  49NZ20090410,   P21,   146,  1,     10, X12040,9,20090515,1314,-17.2495,-142.9998, 1530,    370.9,2,  12.2914,2,  12.29187,2,  34.6975,2,-999.0000,9,   139.33,2,  -999.00,9,  -999.00,9,  -999.00,  -999.00,9,  -999.00,  -999.00,9,  -999.00, -999.000,9, -999.000, -999.000,9, -999.000,9, -999.000,9,   -999.0,9,   -999.0,9,-999.0000,-999,9,  -999.00,9,  -999.00,   -999.0,9,   -999.0,  12.2421,  26.3077
  49NZ20090410,   P21,   146,  1,      9, X12009,9,20090515,1314,-17.2495,-142.9998, 1530,    470.8,2,   8.4049,2,   8.40220,2,  34.4851,2,-999.0000,9,   119.43,2,  -999.00,9,  -999.00,9,  -999.00,  -999.00,9,  -999.00,  -999.00,9,  -999.00, -999.000,9, -999.000, -999.000,9, -999.000,9, -999.000,9,   -999.0,9,   -999.0,9,-999.0000,-999,9,  -999.00,9,  -999.00,   -999.0,9,   -999.0,   8.3554,  26.8157
  49NZ20090410,   P21,   146,  1,      8, X12008,9,20090515,1314,-17.2495,-142.9998, 1530,    570.2,2,   6.6344,2,   6.63360,2,  34.4542,2,-999.0000,9,   131.85,2,  -999.00,9,  -999.00,9,  -999.00,  -999.00,9,  -999.00,  -999.00,9,  -999.00, -999.000,9, -999.000, -999.000,9, -999.000,9, -999.000,9,   -999.0,9,   -999.0,9,-999.0000,-999,9,  -999.00,9,  -999.00,   -999.0,9,   -999.0,   6.5816,  27.0457
  49NZ20090410,   P21,   146,  1,      7, X12007,9,20090515,1314,-17.2495,-142.9998, 1530,    669.2,2,   5.9813,2,   5.98066,2,  34.4520,2,-999.0000,9,   137.29,2,  -999.00,9,  -999.00,9,  -999.00,  -999.00,9,  -999.00,  -999.00,9,  -999.00, -999.000,9, -999.000, -999.000,9, -999.000,9, -999.000,9,   -999.0,9,   -999.0,9,-999.0000,-999,9,  -999.00,9,  -999.00,   -999.0,9,   -999.0,   5.9222,  27.1295
  49NZ20090410,   P21,   146,  1,      6, X12035,9,20090515,1314,-17.2495,-142.9998, 1530,    770.2,2,   5.1273,2,   5.12777,2,  34.4720,2,-999.0000,9,   138.16,2,  -999.00,9,  -999.00,9,  -999.00,  -999.00,9,  -999.00,  -999.00,9,  -999.00, -999.000,9, -999.000, -999.000,9, -999.000,9, -999.000,9,   -999.0,9,   -999.0,9,-999.0000,-999,9,  -999.00,9,  -999.00,   -999.0,9,   -999.0,   5.0637,  27.2493
  49NZ20090410,   P21,   146,  1,      5, X12038,9,20090515,1314,-17.2495,-142.9998, 1530,    969.2,2,   4.2210,2,   4.22118,2,  34.4977,2,-999.0000,9,   140.30,2,  -999.00,9,  -999.00,9,  -999.00,  -999.00,9,  -999.00,  -999.00,9,  -999.00, -999.000,9, -999.000, -999.000,9, -999.000,9, -999.000,9,   -999.0,9,   -999.0,9,-999.0000,-999,9,  -999.00,9,  -999.00,   -999.0,9,   -999.0,   4.1463,  27.3713
  49NZ20090410,   P21,   146,  1,      4, X12034,9,20090515,1314,-17.2495,-142.9998, 1530,   1131.4,2,   3.6188,2,   3.61854,2,  34.5287,2,-999.0000,9,   141.76,2,  -999.00,9,  -999.00,9,  -999.00,  -999.00,9,  -999.00,  -999.00,9,  -999.00, -999.000,9, -999.000, -999.000,9, -999.000,9, -999.000,9,   -999.0,9,   -999.0,9,-999.0000,-999,9,  -999.00,9,  -999.00,   -999.0,9,   -999.0,   3.5354,  27.4581
  49NZ20090410,   P21,   146,  1,      3, X12033,9,20090515,1314,-17.2495,-142.9998, 1530,   1530.1,2,   2.7760,2,   2.77610,2,  34.5815,2,-999.0000,9,   147.29,2,  -999.00,9,  -999.00,9,  -999.00,  -999.00,9,  -999.00,  -999.00,9,  -999.00, -999.000,9, -999.000, -999.000,9, -999.000,9, -999.000,9,   -999.0,9,   -999.0,9,-999.0000,-999,9,  -999.00,9,  -999.00,   -999.0,9,   -999.0,   2.6683,  27.5807
  49NZ20090410,   P21,   146,  1,      2, X12032,9,20090515,1314,-17.2495,-142.9998, 1530,    871.6,2,   4.6255,2,   4.62561,2,  34.4843,2,-999.0000,9,   139.38,2,  -999.00,9,  -999.00,9,  -999.00,  -999.00,9,  -999.00,  -999.00,9,  -999.00, -999.000,9, -999.000, -999.000,9, -999.000,9, -999.000,9,   -999.0,9,   -999.0,9,-999.0000,-999,9,  -999.00,9,  -999.00,   -999.0,9,   -999.0,   4.5562,  27.3164
  49NZ20090410,   P21,   146,  1,      1, X12046,2,20090515,1314,-17.2495,-142.9998, 1530,   1530.0,2,   2.7767,2,   2.77637,2,  34.5814,2,  34.5816,6,   147.29,2,   146.92,2,    95.24,2,     0.33,    35.75,2,     0.13,     0.01,2,     0.01,    2.533,2,    0.016,    0.001,2,    0.001,2,    0.000,2,   -999.0,9,   -999.0,9,-999.0000,-999,9,  -999.00,9,  -999.00,   -999.0,9,   -999.0,   2.6690,  27.5806