BOTTLE,20220818CCHSIOAMB
EXPOCODE,SECT_ID,STNNBR,CASTNO,SAMPNO,BTLNBR,BTLNBR_FLAG_W,DATE,TIME,LATITUDE,LONGITUDE,DEPTH,CTDPRS,CTDPRS_FLAG_W,CTDTMP,CTDTMP_FLAG_W,SBE35,SBE35_FLAG_W,CTDSAL,CTDSAL_FLAG_W,SALNTY,SALNTY_FLAG_W,CTDOXY,CTDOXY_FLAG_W,OXYGEN,OXYGEN_FLAG_W,SILCAT,SILCAT_FLAG_W,SILUNC,NITRAT,NITRAT_FLAG_W,NRAUNC,NITRIT,NITRIT_FLAG_W,NRIUNC,PHSPHT,PHSPHT_FLAG_W,PHPUNC,CFC-11,CFC-11_FLAG_W,CFC-12,CFC-12_FLAG_W,CFC113,CFC113_FLAG_W,TCARBN,TCARBN_FLAG_W,ALKALI,ALKALI_FLAG_W,PH_TOT,PH_TMP,PH_TOT_FLAG_W,DELC13,DELC13_FLAG_W,C13ERR,DELC14,DELC14_FLAG_W,C14ERR,THETA,SIG0
,,,,,,,,,,,METERS,DBAR,,ITS-90,,ITS-90,,PSS-78,,PSS-78,,UMOL/KG,,UMOL/KG,,UMOL/KG,,UMOL/KG,UMOL/KG,,UMOL/KG,UMOL/KG,,UMOL/KG,UMOL/KG,,UMOL/KG,PMOL/KG,,PMOL/KG,,PMOL/KG,,UMOL/KG,,UMOL/KG,,,DEG C,,/MILLE,,/MILLE,/MILLE,,/MILLE,DEG C,KG/M^3
  49NZ20090410,   P21,   155,  1,     36, X12006,2,20090517,0844,-17.5023,-147.8412, 3808,      9.3,2,  28.1765,2,  28.17613,2,  36.3201,2,  36.3190,2,   196.34,2,   196.06,2,     0.74,2,     0.12,     0.09,2,     0.03,     0.01,2,     0.01,    0.238,2,    0.015,    1.430,2,    0.939,2, -999.000,5,   -999.0,9,   -999.0,9,-999.0000,-999,9,  -999.00,9,  -999.00,   -999.0,9,   -999.0,  28.1743,  23.3304
  49NZ20090410,   P21,   155,  1,     35, X12047,2,20090517,0844,-17.5023,-147.8412, 3808,     50.8,2,  28.1699,2,  28.16962,2,  36.3175,2,  36.3176,2,   196.32,2,   196.27,2,     0.68,2,     0.12,     0.09,2,     0.03,     0.01,2,     0.01,    0.240,2,    0.015,    1.430,2,    0.938,2, -999.000,5,   -999.0,9,   -999.0,9,-999.0000,-999,9,  -999.00,9,  -999.00,   -999.0,9,   -999.0,  28.1578,  23.3339
  49NZ20090410,   P21,   155,  1,     34, X12004,2,20090517,0844,-17.5023,-147.8412, 3808,     99.7,2,  26.1816,2,  26.18418,2,  36.4336,2,  36.4335,2,   201.96,2,   201.77,2,     0.69,2,     0.12,     0.09,2,     0.03,     0.06,2,     0.01,    0.238,2,    0.015,    1.613,6,    1.038,6, -999.000,5,   -999.0,9,   -999.0,9,-999.0000,-999,9,  -999.00,9,  -999.00,   -999.0,9,   -999.0,  26.1591,  24.0654
  49NZ20090410,   P21,   155,  1,     33, X12003,2,20090517,0844,-17.5023,-147.8412, 3808,    150.2,2,  24.4848,2,  24.49564,2,  36.3548,2,  36.3575,2,   186.21,2,   186.31,2,     0.65,2,     0.12,     0.64,2,     0.03,     0.73,2,     0.00,    0.329,2,    0.014,    1.701,2,    1.080,2, -999.000,5,   -999.0,9,   -999.0,9,-999.0000,-999,9,  -999.00,9,  -999.00,   -999.0,9,   -999.0,  24.4525,  24.5318
  49NZ20090410,   P21,   155,  1,     32, X12002,2,20090517,0844,-17.5023,-147.8412, 3808,    199.8,2,  22.4802,2,  22.47254,2,  36.0818,2,  36.0932,2,   179.53,2,   178.76,2,     0.63,2,     0.12,     2.47,2,     0.04,     0.03,2,     0.01,    0.405,2,    0.013,    1.885,2,    1.167,2,    0.138,2,   -999.0,9,   -999.0,9,-999.0000,-999,9,  -999.00,9,  -999.00,   -999.0,9,   -999.0,  22.4398,  24.9154
  49NZ20090410,   P21,   155,  1,     31, X12001,2,20090517,0844,-17.5023,-147.8412, 3808,    249.3,2,  19.8171,2,  19.82101,2,  35.6667,2,  35.6542,6,   180.41,2,   180.30,2,     0.86,2,     0.12,     3.88,2,     0.04,     0.02,2,     0.01,    0.484,2,    0.013,    2.150,2,    1.284,2,    0.061,2,   -999.0,9,   -999.0,9,-999.0000,-999,9,  -999.00,9,  -999.00,   -999.0,9,   -999.0,  19.7711,  25.3308
  49NZ20090410,   P21,   155,  1,     30, X12030,2,20090517,0844,-17.5023,-147.8412, 3808,    279.9,2,  18.3120,2,  18.31143,2,  35.4463,2,  35.4457,2,   180.37,2,   180.33,2,     1.23,2,     0.12,     5.11,2,     0.05,     0.02,2,     0.01,    0.569,2,    0.013,    2.251,2,    1.320,2,    0.050,2,   -999.0,9,   -999.0,9,-999.0000,-999,9,  -999.00,9,  -999.00,   -999.0,9,   -999.0,  18.2631,  25.5486
  49NZ20090410,   P21,   155,  1,     29, X12044,2,20090517,0844,-17.5023,-147.8412, 3808,    371.0,2,  13.0458,2,  13.04694,2,  34.8085,2,  34.8129,2,   164.66,2,   164.74,2,     5.21,2,     0.13,    13.67,2,     0.07,     0.01,2,     0.01,    1.165,2,    0.013,    2.209,6,    1.200,6,    0.035,6,   -999.0,9,   -999.0,9,-999.0000,-999,9,  -999.00,9,  -999.00,   -999.0,9,   -999.0,  12.9944,  26.2457
  49NZ20090410,   P21,   155,  1,     28, X12048,2,20090517,0844,-17.5023,-147.8412, 3808,    469.4,2,   9.8613,2,   9.86262,2,  34.5515,2,  34.5512,6,   138.93,2,   138.92,2,    12.14,2,     0.15,    23.11,2,     0.10,     0.01,2,     0.01,    1.793,2,    0.015,    1.516,2,    0.799,2,    0.034,2,   -999.0,9,   -999.0,9,-999.0000,-999,9,  -999.00,9,  -999.00,   -999.0,9,   -999.0,   9.8069,  26.6344
  49NZ20090410,   P21,   155,  1,     27, X12027,2,20090517,0844,-17.5023,-147.8412, 3808,    571.4,2,   7.3971,2,   7.39661,2,  34.4496,2,  34.4495,2,   142.39,2,   142.36,2,    20.68,2,     0.16,    29.35,2,     0.11,     0.01,2,     0.01,    2.126,2,    0.015,    0.814,6,    0.424,6,    0.018,6,   -999.0,9,   -999.0,9,-999.0000,-999,9,  -999.00,9,  -999.00,   -999.0,9,   -999.0,   7.3409,  26.9375
  49NZ20090410,   P21,   155,  1,     26, X12026,2,20090517,0844,-17.5023,-147.8412, 3808,    671.2,2,   6.1293,2,   6.13008,2,  34.4336,2,  34.4333,2,   149.11,2,   148.93,2,    30.47,2,     0.19,    31.70,2,     0.12,     0.01,2,     0.01,    2.240,2,    0.016,    0.437,2,    0.230,2,    0.015,2,   -999.0,9,   -999.0,9,-999.0000,-999,9,  -999.00,9,  -999.00,   -999.0,9,   -999.0,   6.0693,  27.0963
  49NZ20090410,   P21,   155,  1,     25, X12025,2,20090517,0844,-17.5023,-147.8412, 3808,    770.2,2,   5.3381,2,   5.33895,2,  34.4518,2,  34.4517,2,   145.19,2,   144.99,2,    42.19,2,     0.21,    33.46,2,     0.13,     0.01,2,     0.01,    2.351,2,    0.016,    0.179,2,    0.096,2,    0.000,2,   -999.0,9,   -999.0,9,-999.0000,-999,9,  -999.00,9,  -999.00,   -999.0,9,   -999.0,   5.2733,  27.2086
  49NZ20090410,   P21,   155,  1,     24, X12024,2,20090517,0844,-17.5023,-147.8412, 3808,    871.5,2,   4.7123,2,   4.71221,2,  34.4622,2,  34.4622,2,   145.47,2,   145.45,2,    51.46,2,     0.23,    34.41,2,     0.13,     0.01,2,     0.01,    2.423,2,    0.016,    0.079,2,    0.044,2,    0.000,2,   -999.0,9,   -999.0,9,-999.0000,-999,9,  -999.00,9,  -999.00,   -999.0,9,   -999.0,   4.6425,  27.2893
  49NZ20090410,   P21,   155,  1,     23, X12028,2,20090517,0844,-17.5023,-147.8412, 3808,    972.0,2,   4.0805,2,   4.08032,2,  34.4912,2,  34.4913,6,   144.72,2,   144.54,2,    63.86,2,     0.26,    35.19,2,     0.13,     0.01,2,     0.01,    2.476,2,    0.016,    0.025,2,    0.014,2,    0.000,2,   -999.0,9,   -999.0,9,-999.0000,-999,9,  -999.00,9,  -999.00,   -999.0,9,   -999.0,   4.0066,  27.3808
  49NZ20090410,   P21,   155,  1,     22, X12022,2,20090517,0844,-17.5023,-147.8412, 3808,   1131.1,2,   3.5992,2,   3.59940,2,  34.5223,2,  34.5217,2,   142.51,2,   143.04,2,    75.18,2,     0.28,    35.57,2,     0.13,     0.01,2,     0.01,    2.519,2,    0.016,    0.008,2,    0.006,2,    0.014,2,   -999.0,9,   -999.0,9,-999.0000,-999,9,  -999.00,9,  -999.00,   -999.0,9,   -999.0,   3.5160,  27.4549
  49NZ20090410,   P21,   155,  1,     21, X12021,2,20090517,0844,-17.5023,-147.8412, 3808,   1329.3,2,   3.1229,2,   3.12306,2,  34.5574,2,  34.5575,2,   142.12,2,   142.25,2,    87.30,2,     0.31,    36.14,2,     0.13,     0.01,2,     0.01,    2.539,2,    0.016,    0.002,2,    0.002,2,    0.000,2,   -999.0,9,   -999.0,9,-999.0000,-999,9,  -999.00,9,  -999.00,   -999.0,9,   -999.0,   3.0279,  27.5292
  49NZ20090410,   P21,   155,  1,     20, X12020,2,20090517,0844,-17.5023,-147.8412, 3808,   1530.3,2,   2.7520,2,   2.75185,2,  34.5836,2,  34.5836,2,   144.44,2,   144.65,2,    96.32,2,     0.33,    36.16,2,     0.13,     0.01,2,     0.01,    2.536,2,    0.016,    0.000,2,    0.000,2,    0.000,2,   -999.0,9,   -999.0,9,-999.0000,-999,9,  -999.00,9,  -999.00,   -999.0,9,   -999.0,   2.6445,  27.5845
  49NZ20090410,   P21,   155,  1,     19, X12019,2,20090517,0844,-17.5023,-147.8412, 3808,   1730.7,2,   2.4979,2,   2.49818,2,  34.6049,2,  34.6047,2,   146.43,2,   146.60,2,   103.27,2,     0.35,    36.14,2,     0.13,     0.01,2,     0.01,    2.536,2,    0.016,    0.000,2,    0.000,2,    0.000,2,   -999.0,9,   -999.0,9,-999.0000,-999,9,  -999.00,9,  -999.00,   -999.0,9,   -999.0,   2.3770,  27.6244
  49NZ20090410,   P21,   155,  1,     18, X12043,2,20090517,0844,-17.5023,-147.8412, 3808,   1930.3,2,   2.2834,2,   2.28340,2,  34.6226,2,  34.6223,6,   148.86,2,   148.95,2,   108.54,2,     0.36,    36.06,2,     0.13,     0.01,2,     0.01,    2.525,2,    0.016,    0.000,2,    0.001,2,    0.000,2,   -999.0,9,   -999.0,9,-999.0000,-999,9,  -999.00,9,  -999.00,   -999.0,9,   -999.0,   2.1486,  27.6574
  49NZ20090410,   P21,   155,  1,     17, X12042,2,20090517,0844,-17.5023,-147.8412, 3808,   2130.6,2,   2.1268,2,   2.12687,2,  34.6356,2,  34.6354,2,   150.90,2,   151.09,2,   112.74,2,     0.37,    35.83,2,     0.13,     0.01,2,     0.01,    2.520,2,    0.016,    0.000,2,    0.000,2,    0.000,2,   -999.0,9,   -999.0,9,-999.0000,-999,9,  -999.00,9,  -999.00,   -999.0,9,   -999.0,   1.9772,  27.6815
  49NZ20090410,   P21,   155,  1,     16, X12016,2,20090517,0844,-17.5023,-147.8412, 3808,   2328.5,2,   2.0019,2,   2.00213,2,  34.6460,2,  34.6462,2,   153.33,2,   153.40,2,   115.63,2,     0.37,    35.83,2,     0.13,     0.01,2,     0.01,    2.498,2,    0.016,    0.000,2,    0.000,2,    0.000,2,   -999.0,9,   -999.0,9,-999.0000,-999,9,  -999.00,9,  -999.00,   -999.0,9,   -999.0,   1.8370,  27.7008
  49NZ20090410,   P21,   155,  1,     15, X12015,2,20090517,0844,-17.5023,-147.8412, 3808,   2530.0,2,   1.8899,2,   1.89002,2,  34.6559,2,  34.6559,2,   155.83,2,   155.80,2,   118.27,2,     0.38,    35.56,2,     0.13,     0.01,2,     0.01,    2.490,2,    0.016,    0.001,2,    0.000,2,    0.000,2,   -999.0,9,   -999.0,9,-999.0000,-999,9,  -999.00,9,  -999.00,   -999.0,9,   -999.0,   1.7089,  27.7185
  49NZ20090410,   P21,   155,  1,     14, X12050,2,20090517,0844,-17.5023,-147.8412, 3808,   2730.3,2,   1.8016,2,   1.80164,2,  34.6633,2,  34.6628,2,   158.62,2,   158.61,2,   119.80,2,     0.38,    35.52,2,     0.13,     0.01,2,     0.01,    2.479,2,    0.016,    0.000,2,    0.000,2,    0.000,2,   -999.0,9,   -999.0,9,-999.0000,-999,9,  -999.00,9,  -999.00,   -999.0,9,   -999.0,   1.6039,  27.7323
  49NZ20090410,   P21,   155,  1,     13, X12014,2,20090517,0844,-17.5023,-147.8412, 3808,   2929.7,2,   1.7189,2,   1.71897,2,  34.6704,2,  34.6699,6,   162.31,2,   162.26,2,   120.50,2,     0.38,    35.22,2,     0.13,     0.01,2,     0.01,    2.458,2,    0.016,    0.000,2,    0.001,2,    0.000,2,   -999.0,9,   -999.0,9,-999.0000,-999,9,  -999.00,9,  -999.00,   -999.0,9,   -999.0,   1.5041,  27.7454
  49NZ20090410,   P21,   155,  1,     12, X12012,2,20090517,0844,-17.5023,-147.8412, 3808,   3170.7,2,   1.6094,2,   1.60958,2,  34.6788,2,  34.6783,2,   167.36,2,   167.36,2,   121.25,2,     0.39,    34.87,2,     0.13,     0.01,2,     0.01,    2.433,2,    0.016,    0.000,2,    0.000,2,    0.000,2,   -999.0,9,   -999.0,9,-999.0000,-999,9,  -999.00,9,  -999.00,   -999.0,9,   -999.0,   1.3736,  27.7615
  49NZ20090410,   P21,   155,  1,     11, X12041,2,20090517,0844,-17.5023,-147.8412, 3808,   3420.1,2,   1.5493,2,   1.54949,2,  34.6839,2,  34.6835,2,   171.14,2,   171.22,2,   121.29,2,     0.39,    34.59,2,     0.13,     0.01,2,     0.01,    2.412,2,    0.016,    0.000,2,    0.000,2,    0.000,2,   -999.0,9,   -999.0,9,-999.0000,-999,9,  -999.00,9,  -999.00,   -999.0,9,   -999.0,   1.2900,  27.7715
  49NZ20090410,   P21,   155,  1,     10, X12040,2,20090517,0844,-17.5023,-147.8412, 3808,   3669.9,2,   1.4687,2,   1.46881,2,  34.6902,2,  34.6912,2,   177.04,2,   177.22,2,   120.39,2,     0.38,    34.11,2,     0.13,     0.01,2,     0.01,    2.383,2,    0.016,    0.001,2,    0.000,2,    0.000,2,   -999.0,9,   -999.0,9,-999.0000,-999,9,  -999.00,9,  -999.00,   -999.0,9,   -999.0,   1.1858,  27.7838
  49NZ20090410,   P21,   155,  1,      9, X12009,9,20090517,0844,-17.5023,-147.8412, 3808,      9.2,2,  28.1777,2,  28.17639,2,  36.3200,2,-999.0000,9,   196.42,2,  -999.00,9,  -999.00,9,  -999.00,  -999.00,9,  -999.00,  -999.00,9,  -999.00, -999.000,9, -999.000, -999.000,9, -999.000,9, -999.000,9,   -999.0,9,   -999.0,9,-999.0000,-999,9,  -999.00,9,  -999.00,   -999.0,9,   -999.0,  28.1755,  23.3300
  49NZ20090410,   P21,   155,  1,      8, X12008,9,20090517,0844,-17.5023,-147.8412, 3808,   1131.6,2,   3.5991,2,   3.59910,2,  34.5222,2,-999.0000,9,   142.51,2,  -999.00,9,  -999.00,9,  -999.00,  -999.00,9,  -999.00,  -999.00,9,  -999.00, -999.000,9, -999.000, -999.000,9, -999.000,9, -999.000,9,   -999.0,9,   -999.0,9,-999.0000,-999,9,  -999.00,9,  -999.00,   -999.0,9,   -999.0,   3.5158,  27.4548
  49NZ20090410,   P21,   155,  1,      7, X12007,9,20090517,0844,-17.5023,-147.8412, 3808,   2130.6,2,   2.1267,2,   2.12676,2,  34.6356,2,-999.0000,9,   150.92,2,  -999.00,9,  -999.00,9,  -999.00,  -999.00,9,  -999.00,  -999.00,9,  -999.00, -999.000,9, -999.000, -999.000,9, -999.000,9, -999.000,9,   -999.0,9,   -999.0,9,-999.0000,-999,9,  -999.00,9,  -999.00,   -999.0,9,   -999.0,   1.9771,  27.6816
  49NZ20090410,   P21,   155,  1,      6, X12035,9,20090517,0844,-17.5023,-147.8412, 3808,   2328.8,2,   2.0032,2,   2.00329,2,  34.6460,2,-999.0000,9,   153.34,2,  -999.00,9,  -999.00,9,  -999.00,  -999.00,9,  -999.00,  -999.00,9,  -999.00, -999.000,9, -999.000, -999.000,9, -999.000,9, -999.000,9,   -999.0,9,   -999.0,9,-999.0000,-999,9,  -999.00,9,  -999.00,   -999.0,9,   -999.0,   1.8383,  27.7007
  49NZ20090410,   P21,   155,  1,      5, X12038,9,20090517,0844,-17.5023,-147.8412, 3808,   2530.2,2,   1.8899,2,   1.89005,2,  34.6560,2,-999.0000,9,   155.83,2,  -999.00,9,  -999.00,9,  -999.00,  -999.00,9,  -999.00,  -999.00,9,  -999.00, -999.000,9, -999.000, -999.000,9, -999.000,9, -999.000,9,   -999.0,9,   -999.0,9,-999.0000,-999,9,  -999.00,9,  -999.00,   -999.0,9,   -999.0,   1.7089,  27.7186
  49NZ20090410,   P21,   155,  1,      4, X12034,9,20090517,0844,-17.5023,-147.8412, 3808,   2730.4,2,   1.8019,2,   1.80197,2,  34.6633,2,-999.0000,9,   158.60,2,  -999.00,9,  -999.00,9,  -999.00,  -999.00,9,  -999.00,  -999.00,9,  -999.00, -999.000,9, -999.000, -999.000,9, -999.000,9, -999.000,9,   -999.0,9,   -999.0,9,-999.0000,-999,9,  -999.00,9,  -999.00,   -999.0,9,   -999.0,   1.6042,  27.7323
  49NZ20090410,   P21,   155,  1,      3, X12033,2,20090517,0844,-17.5023,-147.8412, 3808,   2929.5,2,   1.7195,2,   1.71964,2,  34.6702,2,  34.6702,2,   162.33,2,  -999.00,9,  -999.00,9,  -999.00,  -999.00,9,  -999.00,  -999.00,9,  -999.00, -999.000,9, -999.000, -999.000,9, -999.000,9, -999.000,9,   -999.0,9,   -999.0,9,-999.0000,-999,9,  -999.00,9,  -999.00,   -999.0,9,   -999.0,   1.5047,  27.7452
  49NZ20090410,   P21,   155,  1,      2, X12032,9,20090517,0844,-17.5023,-147.8412, 3808,    872.3,2,   4.7115,2,   4.71159,2,  34.4628,2,-999.0000,9,   145.44,2,  -999.00,9,  -999.00,9,  -999.00,  -999.00,9,  -999.00,  -999.00,9,  -999.00, -999.000,9, -999.000, -999.000,9, -999.000,9, -999.000,9,   -999.0,9,   -999.0,9,-999.0000,-999,9,  -999.00,9,  -999.00,   -999.0,9,   -999.0,   4.6416,  27.2899
  49NZ20090410,   P21,   155,  1,      1, X12046,2,20090517,0844,-17.5023,-147.8412, 3808,   3910.6,2,   1.4709,2,   1.47094,2,  34.6917,2,  34.6915,6,   178.54,2,   178.48,2,   120.07,2,     0.38,    34.10,2,     0.13,     0.01,2,     0.01,    2.377,2,    0.016,    0.000,2,    0.000,2,    0.000,2,   -999.0,9,   -999.0,9,-999.0000,-999,9,  -999.00,9,  -999.00,   -999.0,9,   -999.0,   1.1624,  27.7867