BOTTLE,20220818CCHSIOAMB
EXPOCODE,SECT_ID,STNNBR,CASTNO,SAMPNO,BTLNBR,BTLNBR_FLAG_W,DATE,TIME,LATITUDE,LONGITUDE,DEPTH,CTDPRS,CTDPRS_FLAG_W,CTDTMP,CTDTMP_FLAG_W,SBE35,SBE35_FLAG_W,CTDSAL,CTDSAL_FLAG_W,SALNTY,SALNTY_FLAG_W,CTDOXY,CTDOXY_FLAG_W,OXYGEN,OXYGEN_FLAG_W,SILCAT,SILCAT_FLAG_W,SILUNC,NITRAT,NITRAT_FLAG_W,NRAUNC,NITRIT,NITRIT_FLAG_W,NRIUNC,PHSPHT,PHSPHT_FLAG_W,PHPUNC,CFC-11,CFC-11_FLAG_W,CFC-12,CFC-12_FLAG_W,CFC113,CFC113_FLAG_W,TCARBN,TCARBN_FLAG_W,ALKALI,ALKALI_FLAG_W,PH_TOT,PH_TMP,PH_TOT_FLAG_W,DELC13,DELC13_FLAG_W,C13ERR,DELC14,DELC14_FLAG_W,C14ERR,THETA,SIG0
,,,,,,,,,,,METERS,DBAR,,ITS-90,,ITS-90,,PSS-78,,PSS-78,,UMOL/KG,,UMOL/KG,,UMOL/KG,,UMOL/KG,UMOL/KG,,UMOL/KG,UMOL/KG,,UMOL/KG,UMOL/KG,,UMOL/KG,PMOL/KG,,PMOL/KG,,PMOL/KG,,UMOL/KG,,UMOL/KG,,,DEG C,,/MILLE,,/MILLE,/MILLE,,/MILLE,DEG C,KG/M^3
  49NZ20090410,   P21,    66,  1,     36, X12006,2,20090428,1126,-16.7522, -96.0050, 4206,     10.9,2,  24.0841,2,  24.08353,2,  35.8484,2,  35.8461,2,   211.29,2,   211.27,2,     0.64,2,     0.12,     0.11,2,     0.03,     0.01,2,     0.01,    0.426,2,    0.013,    1.710,2,    1.082,2, -999.000,5,   2061.4,2,   2375.0,2,   8.0526,  25,6,  -999.00,9,  -999.00,   -999.0,9,   -999.0,  24.0818,  24.2595
  49NZ20090410,   P21,    66,  1,     35, X12047,2,20090428,1126,-16.7522, -96.0050, 4206,     49.4,2,  24.0854,2,  24.08492,2,  35.8457,2,  35.8457,2,   210.49,2,   211.29,2,     0.64,2,     0.12,     0.08,2,     0.03,     0.01,2,     0.01,    0.426,2,    0.013,    1.705,2,    1.081,2, -999.000,5,   2061.1,6,   2375.9,2,   8.0524,  25,2,  -999.00,9,  -999.00,   -999.0,9,   -999.0,  24.0749,  24.2595
  49NZ20090410,   P21,    66,  1,     34, X12004,2,20090428,1126,-16.7522, -96.0050, 4206,     99.5,2,  19.0082,2,  19.00442,2,  35.3839,2,  35.3848,2,   210.54,2,   209.57,2,     1.12,2,     0.12,     3.74,2,     0.04,     1.26,2,     0.01,    0.795,2,    0.013,    2.219,6,    1.368,6,    0.205,6,   2098.4,2,   2344.6,6,   7.9417,  25,2,  -999.00,9,  -999.00,   -999.0,9,   -999.0,  18.9904,  25.3171
  49NZ20090410,   P21,    66,  1,     33, X12003,2,20090428,1126,-16.7522, -96.0050, 4206,    149.3,2,  16.5954,2,  16.58939,2,  35.0272,2,  35.0260,2,   186.92,2,   183.58,2,     2.38,2,     0.12,    10.91,2,     0.06,     0.03,2,     0.01,    1.160,2,    0.013,    2.448,2,    1.475,2,    0.155,2,   2127.6,2,   2317.0,2,   7.8344,  25,6,  -999.00,9,  -999.00,   -999.0,9,   -999.0,  16.5712,  25.6363
  49NZ20090410,   P21,    66,  1,     32, X12002,2,20090428,1126,-16.7522, -96.0050, 4206,    200.1,2,  12.9530,2,  12.94849,2,  34.6510,2,  34.6476,2,    88.54,2,    85.75,2,    10.39,2,     0.14,    20.30,2,     0.09,     0.01,2,     0.01,    2.032,2,    0.015,    2.172,2,    1.217,2,    0.063,2,   2203.1,2,   2288.9,2,   7.5847,  25,2,  -999.00,9,  -999.00,   -999.0,9,   -999.0,  12.9256,  26.1373
  49NZ20090410,   P21,    66,  1,     31, X12001,2,20090428,1126,-16.7522, -96.0050, 4206,    249.5,2,  11.5377,2,  11.53606,2,  34.7290,2,  34.7283,6,     7.05,2,     7.31,2,    22.54,2,     0.17,    25.45,2,     0.10,     0.01,2,     0.01,    2.689,2,    0.017,    0.806,2,    0.436,2,    0.012,2,   2268.0,2,   2296.1,2,   7.4161,  25,2,  -999.00,9,  -999.00,   -999.0,9,   -999.0,  11.5060,  26.4717
  49NZ20090410,   P21,    66,  1,     30, X12030,2,20090428,1126,-16.7522, -96.0050, 4206,    300.9,2,  10.4669,2,  10.46588,2,  34.6962,2,  34.6945,2,     3.96,2,     3.86,2,    25.53,2,     0.18,    30.88,2,     0.12,     0.01,2,     0.01,    2.773,2,    0.017,    0.429,2,    0.225,2,    0.000,2,   2278.0,2,   2295.9,2,   7.3859,  25,2,  -999.00,9,  -999.00,   -999.0,9,   -999.0,  10.4309,  26.6403
  49NZ20090410,   P21,    66,  1,     29, X12044,2,20090428,1126,-16.7522, -96.0050, 4206,    400.2,2,   8.9924,2,   8.99813,2,  34.6335,2,  34.6317,2,     9.22,2,     9.22,2,    29.37,2,     0.18,    37.50,2,     0.14,     0.01,2,     0.01,    2.849,2,    0.017,    0.156,2,    0.081,2,    0.000,2,   2280.2,2,   2298.6,2,   7.3828,  25,2,  -999.00,9,  -999.00,   -999.0,9,   -999.0,   8.9486,  26.8393
  49NZ20090410,   P21,    66,  1,     28, X12048,2,20090428,1126,-16.7522, -96.0050, 4206,    500.5,2,   7.7073,2,   7.70629,2,  34.5697,2,  34.5704,6,    33.35,2,    33.66,2,    33.19,2,     0.19,    39.55,2,     0.14,     0.01,2,     0.01,    2.819,2,    0.017,    0.072,2,    0.036,2,    0.000,2,   2272.0,2,   2301.1,2,   7.4156,  25,2,  -999.00,9,  -999.00,   -999.0,9,   -999.0,   7.6571,  26.9865
  49NZ20090410,   P21,    66,  1,     27, X12027,2,20090428,1126,-16.7522, -96.0050, 4206,    600.2,2,   6.6904,2,   6.68912,2,  34.5311,2,  34.5306,2,    40.85,2,    41.21,2,    40.08,2,     0.21,    41.36,2,     0.15,     0.01,2,     0.01,    2.937,2,    0.017,    0.021,6,    0.011,6,    0.000,6,   2278.3,2,   2305.8,2,   7.4113,  25,2,  -999.00,9,  -999.00,   -999.0,9,   -999.0,   6.6344,  27.0993
  49NZ20090410,   P21,    66,  1,     26, X12026,2,20090428,1126,-16.7522, -96.0050, 4206,    699.7,2,   5.8722,2,   5.87210,2,  34.5033,2,  34.5027,2,    42.54,2,    42.70,2,    47.84,2,     0.22,    43.14,2,     0.15,     0.01,2,     0.01,    3.058,2,    0.018,    0.009,2,    0.002,2,    0.000,2,   2289.4,6,   2312.1,2,   7.3989,  25,2,  -999.00,9,  -999.00,   -999.0,9,   -999.0,   5.8108,  27.1840
  49NZ20090410,   P21,    66,  1,     25, X12025,2,20090428,1126,-16.7522, -96.0050, 4206,    800.3,2,   5.3435,2,   5.34371,2,  34.5046,2,  34.5034,2,    45.37,2,    45.64,2,    56.32,2,     0.24,    43.76,2,     0.16,     0.01,2,     0.01,    3.113,2,    0.018,    0.004,2,    0.003,2,    0.000,2,   2297.5,2,   2321.6,6,   7.3989,  25,2,  -999.00,9,  -999.00,   -999.0,9,   -999.0,   5.2759,  27.2502
  49NZ20090410,   P21,    66,  1,     24, X12024,2,20090428,1126,-16.7522, -96.0050, 4206,    900.2,2,   4.9116,2,   4.91146,2,  34.5096,2,  34.5090,2,    51.86,2,    52.15,2,    63.93,2,     0.26,    43.67,2,     0.16,     0.01,2,     0.01,    3.121,2,    0.018,    0.002,2,    0.000,2,    0.000,2,   2303.1,2,   2330.6,2,   7.4087,  25,6,  -999.00,9,  -999.00,   -999.0,9,   -999.0,   4.8379,  27.3050
  49NZ20090410,   P21,    66,  1,     23, X12028,2,20090428,1126,-16.7522, -96.0050, 4206,    999.8,2,   4.4567,2,   4.45668,2,  34.5173,2,  34.5170,6,    67.74,2,    67.56,2,    71.24,2,     0.28,    42.51,2,     0.15,     0.01,2,     0.01,    3.045,2,    0.018,    0.000,2,    0.000,2,    0.000,2,   2302.5,2,   2339.3,2,   7.4366,  25,2,  -999.00,9,  -999.00,   -999.0,9,   -999.0,   4.3775,  27.3622
  49NZ20090410,   P21,    66,  1,     22, X12022,2,20090428,1126,-16.7522, -96.0050, 4206,   1200.6,2,   3.7126,2,   3.71266,2,  34.5517,2,  34.5517,2,    76.55,2,    76.17,2,    89.59,2,     0.32,    41.73,2,     0.15,     0.01,2,     0.01,    3.025,2,    0.018,    0.000,2,    0.000,2,    0.000,2,   2317.9,2,   2360.3,2,   7.4515,  25,2,  -999.00,9,  -999.00,   -999.0,9,   -999.0,   3.6225,  27.4678
  49NZ20090410,   P21,    66,  1,     21, X12021,2,20090428,1126,-16.7522, -96.0050, 4206,   1399.5,2,   3.1706,2,   3.17065,2,  34.5795,2,  34.5794,2,    87.65,2,    87.60,2,   102.49,2,     0.34,    40.81,2,     0.15,     0.01,2,     0.01,    2.954,2,    0.017,    0.000,2,    0.000,2,    0.000,2,   2326.1,2,   2375.7,2,   7.4728,  25,2,  -999.00,9,  -999.00,   -999.0,9,   -999.0,   3.0692,  27.5430
  49NZ20090410,   P21,    66,  1,     20, X12020,2,20090428,1126,-16.7522, -96.0050, 4206,   1598.7,2,   2.7741,2,   2.77431,2,  34.6032,2,  34.6034,2,    98.10,2,    97.80,2,   111.81,2,     0.36,    39.87,2,     0.14,     0.01,2,     0.01,    2.876,2,    0.017,    0.000,2,    0.000,2,    0.000,2,   2330.0,2,   2387.2,2,   7.4924,  25,6,  -999.00,9,  -999.00,   -999.0,9,   -999.0,   2.6606,  27.5987
  49NZ20090410,   P21,    66,  1,     19, X12019,2,20090428,1126,-16.7522, -96.0050, 4206,   1799.6,2,   2.5121,2,   2.51202,2,  34.6214,2,  34.6209,2,   105.91,2,   105.61,2,   118.92,2,     0.38,    39.36,2,     0.14,     0.01,2,     0.01,    2.824,2,    0.017,    0.000,2,    0.000,2,    0.000,2,   2331.4,2,   2394.8,2,   7.5082,  25,2,  -999.00,9,  -999.00,   -999.0,9,   -999.0,   2.3851,  27.6369
  49NZ20090410,   P21,    66,  1,     18, X12043,2,20090428,1126,-16.7522, -96.0050, 4206,   2001.1,2,   2.2946,2,   2.29457,2,  34.6371,2,  34.6365,6,   114.11,2,   113.92,2,   123.71,2,     0.39,    38.60,2,     0.14,     0.01,2,     0.01,    2.754,2,    0.017, -999.000,9, -999.000,9, -999.000,9,   2333.0,2,   2401.6,2,   7.5247,  25,2,  -999.00,9,  -999.00,   -999.0,9,   -999.0,   2.1536,  27.6686
  49NZ20090410,   P21,    66,  1,     17, X12042,2,20090428,1126,-16.7522, -96.0050, 4206,   2199.3,2,   2.1044,2,   2.10533,2,  34.6494,2,  34.6496,2,   126.93,2,   126.84,2,   124.19,2,     0.39,    37.63,2,     0.14,     0.01,2,     0.01,    2.672,2,    0.017, -999.000,9, -999.000,9, -999.000,9,   2326.3,2,   2403.2,2,   7.5468,  25,2,  -999.00,9,  -999.00,   -999.0,9,   -999.0,   1.9492,  27.6948
  49NZ20090410,   P21,    66,  1,     16, X12016,2,20090428,1126,-16.7522, -96.0050, 4206,   2399.4,2,   1.9639,2,   1.96379,2,  34.6604,2,  34.6603,2,   136.47,2,   136.24,2,   124.67,2,     0.39,    36.74,2,     0.14,     0.01,2,     0.01,    2.601,2,    0.016,    0.000,2,    0.000,2,    0.000,2,   2321.4,6,   2404.9,2,   7.5628,  25,2,  -999.00,9,  -999.00,   -999.0,9,   -999.0,   1.7933,  27.7157
  49NZ20090410,   P21,    66,  1,     15, X12015,2,20090428,1126,-16.7522, -96.0050, 4206,   2600.3,2,   1.8745,2,   1.87429,2,  34.6685,2,  34.6685,2,   143.63,2,   143.47,2,   124.74,2,     0.39,    36.24,2,     0.13,     0.01,2,     0.01,    2.551,2,    0.016, -999.000,9, -999.000,9, -999.000,9,   2319.2,2,   2406.9,6,   7.5762,  25,2,  -999.00,9,  -999.00,   -999.0,9,   -999.0,   1.6874,  27.7302
  49NZ20090410,   P21,    66,  1,     14, X12050,2,20090428,1126,-16.7522, -96.0050, 4206,   2799.9,2,   1.8176,2,   1.81746,2,  34.6755,2,  34.6755,2,   149.46,2,   149.12,2,   124.88,2,     0.39,    35.86,2,     0.13,     0.01,2,     0.01,    2.518,2,    0.016, -999.000,9, -999.000,9, -999.000,9,   2314.9,2,   2409.0,2,   7.5878,  25,2,  -999.00,9,  -999.00,   -999.0,9,   -999.0,   1.6130,  27.7414
  49NZ20090410,   P21,    66,  1,     13, X12013,7,20090428,1126,-16.7522, -96.0050, 4206,   2999.9,2,   1.7999,2,   1.79973,2,  34.6793,2,  34.6798,6,   147.63,2,   147.51,2,   128.26,2,     0.40,    36.00,2,     0.13,     0.01,2,     0.01,    2.529,2,    0.016,    0.000,2,    0.000,2,    0.000,2,   2321.1,2,   2415.9,2,   7.5916,  25,2,  -999.00,9,  -999.00,   -999.0,9,   -999.0,   1.5765,  27.7472
  49NZ20090410,   P21,    66,  1,     12, X12012,2,20090428,1126,-16.7522, -96.0050, 4206,   3249.0,2,   1.7884,2,   1.78826,2,  34.6825,2,  34.6821,2,   147.43,2,   147.41,2,   129.37,2,     0.40,    35.98,2,     0.13,     0.01,2,     0.01,    2.531,2,    0.016, -999.000,9, -999.000,9, -999.000,9,   2323.8,2,   2418.8,2,   7.5920,  25,2,  -999.00,9,  -999.00,   -999.0,9,   -999.0,   1.5407,  27.7524
  49NZ20090410,   P21,    66,  1,     11, X12041,2,20090428,1126,-16.7522, -96.0050, 4206,   3499.4,2,   1.7955,2,   1.79542,2,  34.6846,2,  34.6842,2,   148.20,2,   148.20,2,   128.88,2,     0.40,    35.99,2,     0.13,     0.01,2,     0.01,    2.523,2,    0.016, -999.000,9, -999.000,9, -999.000,9,   2324.7,2,   2418.3,2,   7.5931,  25,2,  -999.00,9,  -999.00,   -999.0,9,   -999.0,   1.5220,  27.7555
  49NZ20090410,   P21,    66,  1,     10, X12040,2,20090428,1126,-16.7522, -96.0050, 4206,   3749.5,2,   1.8031,2,   1.80306,2,  34.6860,2,  34.6856,2,   148.80,2,   148.91,2,   128.32,2,     0.40,    35.81,2,     0.13,     0.01,2,     0.01,    2.519,2,    0.016,    0.001,2,    0.000,2,    0.000,2,   2324.0,2,   2418.5,2,   7.5933,  25,2,  -999.00,9,  -999.00,   -999.0,9,   -999.0,   1.5030,  27.7579
  49NZ20090410,   P21,    66,  1,      9, X12009,2,20090428,1126,-16.7522, -96.0050, 4206,   3999.8,2,   1.8088,2,   1.80872,2,  34.6869,2,  34.6862,2,   149.38,2,   149.52,2,   128.23,2,     0.40,    35.86,2,     0.13,     0.01,2,     0.01,    2.518,2,    0.016,    0.000,2,    0.000,2,    0.000,2,   2323.3,2,   2416.7,2,   7.5926,  25,2,  -999.00,9,  -999.00,   -999.0,9,   -999.0,   1.4812,  27.7602
  49NZ20090410,   P21,    66,  1,      8, X12008,9,20090428,1126,-16.7522, -96.0050, 4206,     10.8,2,  24.0833,2,  24.08313,2,  35.8484,2,-999.0000,9,   211.33,2,  -999.00,9,  -999.00,9,  -999.00,  -999.00,9,  -999.00,  -999.00,9,  -999.00, -999.000,9, -999.000, -999.000,9, -999.000,9, -999.000,9,   -999.0,9,   -999.0,9,-999.0000,-999,9,  -999.00,9,  -999.00,   -999.0,9,   -999.0,  24.0810,  24.2597
  49NZ20090410,   P21,    66,  1,      7, X12007,9,20090428,1126,-16.7522, -96.0050, 4206,     49.8,2,  24.0950,2,  24.09540,2,  35.8463,2,-999.0000,9,   210.76,2,  -999.00,9,  -999.00,9,  -999.00,  -999.00,9,  -999.00,  -999.00,9,  -999.00, -999.000,9, -999.000, -999.000,9, -999.000,9, -999.000,9,   -999.0,9,   -999.0,9,-999.0000,-999,9,  -999.00,9,  -999.00,   -999.0,9,   -999.0,  24.0845,  24.2571
  49NZ20090410,   P21,    66,  1,      6, X12035,9,20090428,1126,-16.7522, -96.0050, 4206,     99.9,2,  19.0182,2,  19.01805,2,  35.3855,2,-999.0000,9,   210.59,2,  -999.00,9,  -999.00,9,  -999.00,  -999.00,9,  -999.00,  -999.00,9,  -999.00, -999.000,9, -999.000, -999.000,9, -999.000,9, -999.000,9,   -999.0,9,   -999.0,9,-999.0000,-999,9,  -999.00,9,  -999.00,   -999.0,9,   -999.0,  19.0004,  25.3158
  49NZ20090410,   P21,    66,  1,      5, X12038,9,20090428,1126,-16.7522, -96.0050, 4206,    149.8,2,  16.6677,2,  16.67230,2,  35.0354,2,-999.0000,9,   188.29,2,  -999.00,9,  -999.00,9,  -999.00,  -999.00,9,  -999.00,  -999.00,9,  -999.00, -999.000,9, -999.000, -999.000,9, -999.000,9, -999.000,9,   -999.0,9,   -999.0,9,-999.0000,-999,9,  -999.00,9,  -999.00,   -999.0,9,   -999.0,  16.6433,  25.6257
  49NZ20090410,   P21,    66,  1,      4, X12034,9,20090428,1126,-16.7522, -96.0050, 4206,    200.6,2,  12.9277,2,  12.92806,2,  34.6482,2,-999.0000,9,    89.18,2,  -999.00,9,  -999.00,9,  -999.00,  -999.00,9,  -999.00,  -999.00,9,  -999.00, -999.000,9, -999.000, -999.000,9, -999.000,9, -999.000,9,   -999.0,9,   -999.0,9,-999.0000,-999,9,  -999.00,9,  -999.00,   -999.0,9,   -999.0,  12.9003,  26.1403
  49NZ20090410,   P21,    66,  1,      3, X12033,9,20090428,1126,-16.7522, -96.0050, 4206,    249.5,2,  11.5437,2,  11.53976,2,  34.7276,2,-999.0000,9,     7.38,2,  -999.00,9,  -999.00,9,  -999.00,  -999.00,9,  -999.00,  -999.00,9,  -999.00, -999.000,9, -999.000, -999.000,9, -999.000,9, -999.000,9,   -999.0,9,   -999.0,9,-999.0000,-999,9,  -999.00,9,  -999.00,   -999.0,9,   -999.0,  11.5120,  26.4695
  49NZ20090410,   P21,    66,  1,      2, X12032,9,20090428,1126,-16.7522, -96.0050, 4206,    300.6,2,  10.4597,2,  10.46010,2,  34.6964,2,-999.0000,9,     3.95,2,  -999.00,9,  -999.00,9,  -999.00,  -999.00,9,  -999.00,  -999.00,9,  -999.00, -999.000,9, -999.000, -999.000,9, -999.000,9, -999.000,9,   -999.0,9,   -999.0,9,-999.0000,-999,9,  -999.00,9,  -999.00,   -999.0,9,   -999.0,  10.4238,  26.6417
  49NZ20090410,   P21,    66,  1,      1, X12046,2,20090428,1126,-16.7522, -96.0050, 4206,   4236.0,2,   1.8275,2,   1.82737,2,  34.6873,2,  34.6869,6,   149.67,2,   149.88,2,   128.06,2,     0.40,    35.85,2,     0.13,     0.01,2,     0.01,    2.517,2,    0.016,    0.001,2,    0.001,2,    0.000,2,   2323.8,2,   2418.7,2,   7.5921,  25,2,  -999.00,9,  -999.00,   -999.0,9,   -999.0,   1.4729,  27.7612