BOTTLE,20220818CCHSIOAMB
EXPOCODE,SECT_ID,STNNBR,CASTNO,SAMPNO,BTLNBR,BTLNBR_FLAG_W,DATE,TIME,LATITUDE,LONGITUDE,DEPTH,CTDPRS,CTDPRS_FLAG_W,CTDTMP,CTDTMP_FLAG_W,SBE35,SBE35_FLAG_W,CTDSAL,CTDSAL_FLAG_W,SALNTY,SALNTY_FLAG_W,CTDOXY,CTDOXY_FLAG_W,OXYGEN,OXYGEN_FLAG_W,SILCAT,SILCAT_FLAG_W,SILUNC,NITRAT,NITRAT_FLAG_W,NRAUNC,NITRIT,NITRIT_FLAG_W,NRIUNC,PHSPHT,PHSPHT_FLAG_W,PHPUNC,CFC-11,CFC-11_FLAG_W,CFC-12,CFC-12_FLAG_W,CFC113,CFC113_FLAG_W,TCARBN,TCARBN_FLAG_W,ALKALI,ALKALI_FLAG_W,PH_TOT,PH_TMP,PH_TOT_FLAG_W,DELC13,DELC13_FLAG_W,C13ERR,DELC14,DELC14_FLAG_W,C14ERR,THETA,SIG0
,,,,,,,,,,,METERS,DBAR,,ITS-90,,ITS-90,,PSS-78,,PSS-78,,UMOL/KG,,UMOL/KG,,UMOL/KG,,UMOL/KG,UMOL/KG,,UMOL/KG,UMOL/KG,,UMOL/KG,UMOL/KG,,UMOL/KG,PMOL/KG,,PMOL/KG,,PMOL/KG,,UMOL/KG,,UMOL/KG,,,DEG C,,/MILLE,,/MILLE,/MILLE,,/MILLE,DEG C,KG/M^3
  49NZ20090410,   P21,   136,  1,     36, X12006,2,20090513,1552,-16.7498,-137.3313, 3701,     10.1,2,  27.9851,2,  27.98472,2,  36.3677,2,  36.3670,2,   197.09,2,   197.11,2,     0.83,2,     0.12,     0.16,2,     0.03,     0.02,2,     0.01,    0.260,2,    0.015,    1.448,2,    0.946,2, -999.000,5,   -999.0,9,   -999.0,9,-999.0000,-999,9,  -999.00,9,  -999.00,   -999.0,9,   -999.0,  27.9827,  23.4293
  49NZ20090410,   P21,   136,  1,     35, X12047,2,20090513,1552,-16.7498,-137.3313, 3701,     49.9,2,  27.9934,2,  27.99240,2,  36.3662,2,  36.3667,2,   196.80,2,   197.11,2,     0.80,2,     0.12,     0.15,2,     0.03,     0.01,2,     0.01,    0.273,2,    0.014,    1.448,2,    0.945,2, -999.000,5,   -999.0,9,   -999.0,9,-999.0000,-999,9,  -999.00,9,  -999.00,   -999.0,9,   -999.0,  27.9816,  23.4285
  49NZ20090410,   P21,   136,  1,     34, X12004,2,20090513,1552,-16.7498,-137.3313, 3701,     99.7,2,  25.1092,2,  25.10764,2,  36.3857,2,  36.3864,2,   202.48,2,   202.31,2,     0.66,2,     0.12,     0.04,2,     0.03,     0.02,2,     0.01,    0.236,2,    0.015,    1.684,6,    1.070,6, -999.000,5,   -999.0,9,   -999.0,9,-999.0000,-999,9,  -999.00,9,  -999.00,   -999.0,9,   -999.0,  25.0874,  24.3622
  49NZ20090410,   P21,   136,  1,     33, X12003,2,20090513,1552,-16.7498,-137.3313, 3701,    150.4,2,  23.7493,2,  23.75567,2,  36.2859,2,  36.2811,2,   192.38,2,   192.35,2,     0.62,2,     0.12,     0.17,2,     0.03,     0.95,2,     0.00,    0.295,2,    0.014,    1.758,2,    1.105,2, -999.000,5,   -999.0,9,   -999.0,9,-999.0000,-999,9,  -999.00,9,  -999.00,   -999.0,9,   -999.0,  23.7177,  24.6990
  49NZ20090410,   P21,   136,  1,     32, X12002,2,20090513,1552,-16.7498,-137.3313, 3701,    199.2,2,  21.9805,2,  21.97962,2,  36.0163,2,  36.0155,2,   184.77,2,   184.58,2,     0.64,2,     0.12,     2.01,2,     0.04,     0.06,2,     0.01,    0.369,2,    0.014,    1.944,2,    1.202,2,    0.170,4,   -999.0,9,   -999.0,9,-999.0000,-999,9,  -999.00,9,  -999.00,   -999.0,9,   -999.0,  21.9409,  25.0069
  49NZ20090410,   P21,   136,  1,     31, X12001,2,20090513,1552,-16.7498,-137.3313, 3701,    251.7,2,  19.7397,2,  19.73184,2,  35.6526,2,  35.6624,6,   182.73,2,   182.79,2,     0.74,2,     0.12,     3.37,2,     0.04,     0.02,2,     0.01,    0.455,2,    0.013,    2.156,2,    1.294,2,    0.047,2,   -999.0,9,   -999.0,9,-999.0000,-999,9,  -999.00,9,  -999.00,   -999.0,9,   -999.0,  19.6934,  25.3404
  49NZ20090410,   P21,   136,  1,     30, X12030,2,20090513,1552,-16.7498,-137.3313, 3701,    332.1,2,  14.2816,2,  14.28713,2,  34.8712,2,  34.8809,2,   167.32,2,   168.65,2,     3.25,2,     0.13,    10.66,2,     0.06,     0.02,2,     0.01,    0.981,2,    0.013,    2.461,2,    1.367,2,    0.040,2,   -999.0,9,   -999.0,9,-999.0000,-999,9,  -999.00,9,  -999.00,   -999.0,9,   -999.0,  14.2328,  26.0384
  49NZ20090410,   P21,   136,  1,     29, X12044,2,20090513,1552,-16.7498,-137.3313, 3701,    429.3,2,   9.6880,2,   9.69075,2,  34.5089,2,  34.5085,2,   132.97,2,   136.45,2,    11.31,2,     0.14,    23.43,2,     0.10,     0.01,2,     0.01,    1.852,2,    0.015,    1.643,2,    0.852,2,    0.040,2,   -999.0,9,   -999.0,9,-999.0000,-999,9,  -999.00,9,  -999.00,   -999.0,9,   -999.0,   9.6389,  26.6293
  49NZ20090410,   P21,   136,  1,     28, X12048,2,20090513,1552,-16.7498,-137.3313, 3701,    529.5,2,   7.0144,2,   7.01332,2,  34.4113,2,  34.4112,6,   140.87,2,   140.97,2,    19.20,2,     0.16,    30.68,2,     0.12,     0.01,2,     0.01,    2.205,2,    0.016,    0.732,2,    0.384,2,    0.000,2,   -999.0,9,   -999.0,9,-999.0000,-999,9,  -999.00,9,  -999.00,   -999.0,9,   -999.0,   6.9640,  26.9600
  49NZ20090410,   P21,   136,  1,     27, X12027,2,20090513,1552,-16.7498,-137.3313, 3701,    629.6,2,   6.0979,2,   6.09511,2,  34.4613,2,  34.4484,2,   121.64,2,   126.32,2,    32.68,2,     0.19,    34.18,2,     0.13,     0.01,2,     0.01,    2.406,2,    0.016,    0.175,6,    0.099,6,    0.000,6,   -999.0,9,   -999.0,9,-999.0000,-999,9,  -999.00,9,  -999.00,   -999.0,9,   -999.0,   6.0419,  27.1217
  49NZ20090410,   P21,   136,  1,     26, X12026,2,20090513,1552,-16.7498,-137.3313, 3701,    731.5,2,   5.5077,2,   5.52088,2,  34.4800,2,  34.4791,2,   118.55,2,   117.60,2,    44.63,2,     0.22,    35.80,2,     0.13,     0.01,2,     0.01,    2.525,2,    0.016,    0.054,2,    0.034,2,    0.000,2,   -999.0,9,   -999.0,9,-999.0000,-999,9,  -999.00,9,  -999.00,   -999.0,9,   -999.0,   5.4454,  27.2104
  49NZ20090410,   P21,   136,  1,     25, X12025,2,20090513,1552,-16.7498,-137.3313, 3701,    829.4,2,   5.0056,2,   5.00826,2,  34.4872,2,  34.4875,2,   115.71,2,   116.44,2,    53.22,2,     0.24,    36.76,2,     0.14,     0.01,2,     0.01,    2.590,2,    0.016,    0.031,2,    0.021,2,    0.000,2,   -999.0,9,   -999.0,9,-999.0000,-999,9,  -999.00,9,  -999.00,   -999.0,9,   -999.0,   4.9375,  27.2759
  49NZ20090410,   P21,   136,  1,     24, X12024,2,20090513,1552,-16.7498,-137.3313, 3701,    930.3,2,   4.5491,2,   4.54885,2,  34.5034,2,  34.5031,2,   116.56,2,   116.65,2,    62.27,2,     0.26,    37.21,2,     0.14,     0.01,2,     0.01,    2.629,2,    0.017,    0.020,2,    0.011,2,    0.000,2,   -999.0,9,   -999.0,9,-999.0000,-999,9,  -999.00,9,  -999.00,   -999.0,9,   -999.0,   4.4753,  27.3405
  49NZ20090410,   P21,   136,  1,     23, X12028,2,20090513,1552,-16.7498,-137.3313, 3701,   1070.4,2,   3.9797,2,   3.98072,2,  34.5220,2,  34.5214,6,   127.49,2,   127.51,2,    72.08,2,     0.28,    36.65,2,     0.14,     0.01,2,     0.01,    2.596,2,    0.016,    0.015,2,    0.008,2,    0.000,2,   -999.0,9,   -999.0,9,-999.0000,-999,9,  -999.00,9,  -999.00,   -999.0,9,   -999.0,   3.8983,  27.4164
  49NZ20090410,   P21,   136,  1,     22, X12022,2,20090513,1552,-16.7498,-137.3313, 3701,   1271.7,2,   3.3485,2,   3.34730,2,  34.5526,2,  34.5522,2,   130.38,2,   130.30,2,    85.17,2,     0.31,    36.99,2,     0.14,     0.01,2,     0.01,    2.620,2,    0.017,    0.006,2,    0.006,2,    0.000,2,   -999.0,9,   -999.0,9,-999.0000,-999,9,  -999.00,9,  -999.00,   -999.0,9,   -999.0,   3.2559,  27.5041
  49NZ20090410,   P21,   136,  1,     21, X12021,2,20090513,1552,-16.7498,-137.3313, 3701,   1471.4,2,   2.8788,2,   2.88444,2,  34.5740,2,  34.5735,2,   140.99,2,   139.98,2,    92.91,2,     0.32,    36.35,2,     0.13,     0.01,2,     0.01,    2.568,2,    0.016,    0.005,2,    0.003,2,    0.000,2,   -999.0,9,   -999.0,9,-999.0000,-999,9,  -999.00,9,  -999.00,   -999.0,9,   -999.0,   2.7747,  27.5654
  49NZ20090410,   P21,   136,  1,     20, X12020,2,20090513,1552,-16.7498,-137.3313, 3701,   1669.7,2,   2.5348,2,   2.53613,2,  34.5958,2,  34.5956,2,   146.73,2,   146.98,2,   100.04,2,     0.34,    35.88,2,     0.13,     0.01,2,     0.01,    2.533,2,    0.016,    0.002,2,    0.000,2,    0.000,2,   -999.0,9,   -999.0,9,-999.0000,-999,9,  -999.00,9,  -999.00,   -999.0,9,   -999.0,   2.4185,  27.6136
  49NZ20090410,   P21,   136,  1,     19, X12019,2,20090513,1552,-16.7498,-137.3313, 3701,   1870.3,2,   2.2374,2,   2.23743,2,  34.6219,2,  34.6222,2,   149.24,2,   149.42,2,   108.18,2,     0.36,    35.97,2,     0.13,     0.01,2,     0.01,    2.531,2,    0.016,    0.000,2,    0.000,2,    0.000,2,   -999.0,9,   -999.0,9,-999.0000,-999,9,  -999.00,9,  -999.00,   -999.0,9,   -999.0,   2.1083,  27.6601
  49NZ20090410,   P21,   136,  1,     18, X12043,2,20090513,1552,-16.7498,-137.3313, 3701,   2068.9,2,   2.0609,2,   2.06108,2,  34.6409,2,  34.6404,6,   149.74,2,   150.00,2,   113.88,2,     0.37,    35.93,2,     0.13,     0.01,2,     0.01,    2.525,2,    0.016,    0.000,2,    0.000,2,    0.000,2,   -999.0,9,   -999.0,9,-999.0000,-999,9,  -999.00,9,  -999.00,   -999.0,9,   -999.0,   1.9177,  27.6905
  49NZ20090410,   P21,   136,  1,     17, X12042,2,20090513,1552,-16.7498,-137.3313, 3701,   2269.2,2,   1.9335,2,   1.93363,2,  34.6540,2,  34.6536,2,   151.84,2,   152.99,2,   117.60,2,     0.38,    35.69,2,     0.13,     0.01,2,     0.01,    2.506,2,    0.016,    0.001,2,    0.000,2,    0.000,2,   -999.0,9,   -999.0,9,-999.0000,-999,9,  -999.00,9,  -999.00,   -999.0,9,   -999.0,   1.7750,  27.7120
  49NZ20090410,   P21,   136,  1,     16, X12016,2,20090513,1552,-16.7498,-137.3313, 3701,   2470.3,2,   1.8544,2,   1.85455,2,  34.6607,2,  34.6604,2,   155.46,2,   155.46,2,   119.33,2,     0.38,    35.50,2,     0.13,     0.01,2,     0.01,    2.497,2,    0.016,    0.002,2,    0.000,2,    0.000,2,   -999.0,9,   -999.0,9,-999.0000,-999,9,  -999.00,9,  -999.00,   -999.0,9,   -999.0,   1.6795,  27.7246
  49NZ20090410,   P21,   136,  1,     15, X12015,2,20090513,1552,-16.7498,-137.3313, 3701,   2670.7,2,   1.7896,2,   1.78967,2,  34.6674,2,  34.6673,2,   156.38,2,   156.77,2,   121.65,2,     0.39,    35.53,2,     0.13,     0.01,2,     0.01,    2.489,2,    0.016,    0.000,2,    0.001,2,    0.000,2,   -999.0,9,   -999.0,9,-999.0000,-999,9,  -999.00,9,  -999.00,   -999.0,9,   -999.0,   1.5976,  27.7361
  49NZ20090410,   P21,   136,  1,     14, X12050,2,20090513,1552,-16.7498,-137.3313, 3701,   2870.3,2,   1.7327,2,   1.73285,2,  34.6739,2,  34.6735,6,   156.57,2,   156.69,2,   124.72,2,     0.39,    35.49,2,     0.13,     0.01,2,     0.01,    2.480,2,    0.016,    0.000,2,    0.000,2,    0.000,2,   -999.0,9,   -999.0,9,-999.0000,-999,9,  -999.00,9,  -999.00,   -999.0,9,   -999.0,   1.5232,  27.7468
  49NZ20090410,   P21,   136,  1,     13, X12013,7,20090513,1552,-16.7498,-137.3313, 3701,   3079.3,2,   1.6957,2,   1.69585,2,  34.6773,2,  34.6777,2,   158.25,2,   158.35,2,   125.81,2,     0.40,    35.35,2,     0.13,     0.01,2,     0.01,    2.476,2,    0.016,    0.003,2,    0.001,2,    0.000,2,   -999.0,9,   -999.0,9,-999.0000,-999,9,  -999.00,9,  -999.00,   -999.0,9,   -999.0,   1.4669,  27.7536
  49NZ20090410,   P21,   136,  1,     12, X12012,2,20090513,1552,-16.7498,-137.3313, 3701,   3330.4,2,   1.6423,2,   1.64241,2,  34.6817,2,  34.6815,2,   160.22,2,   160.44,2,   127.75,2,     0.40,    35.19,2,     0.13,     0.01,2,     0.01,    2.467,2,    0.016,    0.000,2,    0.000,2,    0.000,2,   -999.0,9,   -999.0,9,-999.0000,-999,9,  -999.00,9,  -999.00,   -999.0,9,   -999.0,   1.3898,  27.7627
  49NZ20090410,   P21,   136,  1,     11, X12041,2,20090513,1552,-16.7498,-137.3313, 3701,   3580.6,2,   1.6060,2,   1.60601,2,  34.6848,2,  34.6848,2,   162.60,2,   162.75,2,   128.47,2,     0.40,    35.15,2,     0.13,     0.01,2,     0.01,    2.462,2,    0.016,    0.000,2,    0.000,2,    0.000,2,   -999.0,9,   -999.0,9,-999.0000,-999,9,  -999.00,9,  -999.00,   -999.0,9,   -999.0,   1.3289,  27.7695
  49NZ20090410,   P21,   136,  1,     10, X12040,9,20090513,1552,-16.7498,-137.3313, 3701,   2671.1,2,   1.7897,2,   1.78968,2,  34.6673,2,-999.0000,9,   156.85,2,  -999.00,9,  -999.00,9,  -999.00,  -999.00,9,  -999.00,  -999.00,9,  -999.00, -999.000,9, -999.000, -999.000,9, -999.000,9, -999.000,9,   -999.0,9,   -999.0,9,-999.0000,-999,9,  -999.00,9,  -999.00,   -999.0,9,   -999.0,   1.5977,  27.7360
  49NZ20090410,   P21,   136,  1,      9, X12009,2,20090513,1552,-16.7498,-137.3313, 3701,   3079.6,2,   1.6958,2,   1.69592,2,  34.6773,2,  34.6771,2,   158.25,2,  -999.00,9,  -999.00,9,  -999.00,  -999.00,9,  -999.00,  -999.00,9,  -999.00, -999.000,9, -999.000, -999.000,9, -999.000,9, -999.000,9,   -999.0,9,   -999.0,9,-999.0000,-999,9,  -999.00,9,  -999.00,   -999.0,9,   -999.0,   1.4670,  27.7536
  49NZ20090410,   P21,   136,  1,      8, X12008,9,20090513,1552,-16.7498,-137.3313, 3701,    930.1,2,   4.5487,2,   4.54869,2,  34.5037,2,-999.0000,9,   116.60,2,  -999.00,9,  -999.00,9,  -999.00,  -999.00,9,  -999.00,  -999.00,9,  -999.00, -999.000,9, -999.000, -999.000,9, -999.000,9, -999.000,9,   -999.0,9,   -999.0,9,-999.0000,-999,9,  -999.00,9,  -999.00,   -999.0,9,   -999.0,   4.4749,  27.3408
  49NZ20090410,   P21,   136,  1,      7, X12007,2,20090513,1552,-16.7498,-137.3313, 3701,     10.1,2,  27.9856,2,  27.98557,2,  36.3679,2,-999.0000,9,   197.20,2,  -999.00,9,     0.78,2,     0.12,     0.16,2,     0.03,     0.02,2,     0.01,    0.263,2,    0.015, -999.000,9, -999.000,9, -999.000,9,   -999.0,9,   -999.0,9,-999.0000,-999,9,  -999.00,9,  -999.00,   -999.0,9,   -999.0,  27.9832,  23.4293
  49NZ20090410,   P21,   136,  1,      6, X12035,2,20090513,1552,-16.7498,-137.3313, 3701,     50.0,2,  27.9929,2,  27.99163,2,  36.3664,2,-999.0000,9,   196.83,2,  -999.00,9,     0.82,2,     0.12,     0.17,2,     0.03,     0.01,2,     0.01,    0.270,2,    0.015, -999.000,9, -999.000,9, -999.000,9,   -999.0,9,   -999.0,9,-999.0000,-999,9,  -999.00,9,  -999.00,   -999.0,9,   -999.0,  27.9811,  23.4289
  49NZ20090410,   P21,   136,  1,      5, X12038,2,20090513,1552,-16.7498,-137.3313, 3701,    100.1,2,  25.1197,2,  25.11956,2,  36.3901,2,-999.0000,9,   202.15,2,  -999.00,9,     0.73,2,     0.12,     0.08,2,     0.03,     0.03,2,     0.01,    0.249,2,    0.015, -999.000,9, -999.000,9, -999.000,9,   -999.0,9,   -999.0,9,-999.0000,-999,9,  -999.00,9,  -999.00,   -999.0,9,   -999.0,  25.0978,  24.3623
  49NZ20090410,   P21,   136,  1,      4, X12034,2,20090513,1552,-16.7498,-137.3313, 3701,    150.5,2,  23.7624,2,  23.74842,2,  36.2871,2,-999.0000,9,   192.37,2,  -999.00,9,     0.72,2,     0.12,     0.34,2,     0.03,     0.97,2,     0.00,    0.312,2,    0.014, -999.000,9, -999.000,9, -999.000,9,   -999.0,9,   -999.0,9,-999.0000,-999,9,  -999.00,9,  -999.00,   -999.0,9,   -999.0,  23.7308,  24.6961
  49NZ20090410,   P21,   136,  1,      3, X12033,2,20090513,1552,-16.7498,-137.3313, 3701,    198.9,2,  21.9915,2,  21.99262,2,  36.0191,2,-999.0000,9,   184.84,2,  -999.00,9,     0.86,2,     0.12,     2.15,2,     0.04,     0.06,2,     0.01,    0.379,2,    0.014, -999.000,9, -999.000,9, -999.000,9,   -999.0,9,   -999.0,9,-999.0000,-999,9,  -999.00,9,  -999.00,   -999.0,9,   -999.0,  21.9519,  25.0060
  49NZ20090410,   P21,   136,  1,      2, X12032,2,20090513,1552,-16.7498,-137.3313, 3701,    252.3,2,  19.7503,2,  19.73035,2,  35.6563,2,-999.0000,9,   182.57,2,  -999.00,9,     1.16,2,     0.12,     3.52,2,     0.04,     0.02,2,     0.01,    0.468,2,    0.013, -999.000,9, -999.000,9, -999.000,9,   -999.0,9,   -999.0,9,-999.0000,-999,9,  -999.00,9,  -999.00,   -999.0,9,   -999.0,  19.7038,  25.3404
  49NZ20090410,   P21,   136,  1,      1, X12046,2,20090513,1552,-16.7498,-137.3313, 3701,   3735.0,2,   1.5783,2,   1.57832,2,  34.6871,2,  34.6868,6,   164.45,2,   164.61,2,   128.49,2,     0.40,    35.09,2,     0.13,     0.01,2,     0.01,    2.454,2,    0.016,    0.001,2,    0.000,2,    0.000,2,   -999.0,9,   -999.0,9,-999.0000,-999,9,  -999.00,9,  -999.00,   -999.0,9,   -999.0,   1.2857,  27.7744