BOTTLE,20220818CCHSIOAMB
EXPOCODE,SECT_ID,STNNBR,CASTNO,SAMPNO,BTLNBR,BTLNBR_FLAG_W,DATE,TIME,LATITUDE,LONGITUDE,DEPTH,CTDPRS,CTDPRS_FLAG_W,CTDTMP,CTDTMP_FLAG_W,SBE35,SBE35_FLAG_W,CTDSAL,CTDSAL_FLAG_W,SALNTY,SALNTY_FLAG_W,CTDOXY,CTDOXY_FLAG_W,OXYGEN,OXYGEN_FLAG_W,SILCAT,SILCAT_FLAG_W,SILUNC,NITRAT,NITRAT_FLAG_W,NRAUNC,NITRIT,NITRIT_FLAG_W,NRIUNC,PHSPHT,PHSPHT_FLAG_W,PHPUNC,CFC-11,CFC-11_FLAG_W,CFC-12,CFC-12_FLAG_W,CFC113,CFC113_FLAG_W,TCARBN,TCARBN_FLAG_W,ALKALI,ALKALI_FLAG_W,PH_TOT,PH_TMP,PH_TOT_FLAG_W,DELC13,DELC13_FLAG_W,C13ERR,DELC14,DELC14_FLAG_W,C14ERR,THETA,SIG0
,,,,,,,,,,,METERS,DBAR,,ITS-90,,ITS-90,,PSS-78,,PSS-78,,UMOL/KG,,UMOL/KG,,UMOL/KG,,UMOL/KG,UMOL/KG,,UMOL/KG,UMOL/KG,,UMOL/KG,UMOL/KG,,UMOL/KG,PMOL/KG,,PMOL/KG,,PMOL/KG,,UMOL/KG,,UMOL/KG,,,DEG C,,/MILLE,,/MILLE,/MILLE,,/MILLE,DEG C,KG/M^3
  49NZ20090410,   P21,   156,  1,     36, X12006,2,20090518,0625,-17.4992,-149.3333,  958,      9.9,2,  28.3010,2,  28.30122,2,  36.2280,2,  36.2275,2,   194.85,2,   195.71,2,     1.11,2,     0.12,     0.12,2,     0.03,     0.01,2,     0.01,    0.226,2,    0.015,    1.432,2,    0.950,2, -999.000,5,   2021.4,2,   2384.4,2,   8.1280,  25,2,  -999.00,9,  -999.00,   -999.0,9,   -999.0,  28.2986,  23.2201
  49NZ20090410,   P21,   156,  1,     35, X12047,2,20090518,0625,-17.4992,-149.3333,  958,     50.5,2,  28.0406,2,  28.04028,2,  36.2105,2,  36.2132,2,   195.72,2,   196.82,2,     0.98,2,     0.12,     0.06,2,     0.03,     0.01,2,     0.01,    0.208,2,    0.016,    1.441,2,    0.944,2, -999.000,5,   2020.4,6,   2382.4,2,   8.1248,  25,2,  -999.00,9,  -999.00,   -999.0,9,   -999.0,  28.0286,  23.2959
  49NZ20090410,   P21,   156,  1,     34, X12004,2,20090518,0625,-17.4992,-149.3333,  958,    100.3,2,  25.7593,2,  25.75884,2,  36.3164,2,  36.3166,2,   197.29,2,   197.82,2,     0.81,2,     0.12,     0.16,2,     0.03,     0.11,2,     0.01,    0.235,2,    0.015,    1.626,6,    1.045,6, -999.000,5,   2048.2,2,   2388.7,6,   8.0900,  25,2,  -999.00,9,  -999.00,   -999.0,9,   -999.0,  25.7370,  24.1091
  49NZ20090410,   P21,   156,  1,     33, X12003,2,20090518,0625,-17.4992,-149.3333,  958,    149.6,2,  24.3663,2,  24.36473,2,  36.2514,2,  36.2494,2,   185.50,2,   185.91,2,     0.87,2,     0.12,     1.14,2,     0.04,     0.06,2,     0.01,    0.307,2,    0.014,    1.697,2,    1.082,2, -999.000,5,   2064.3,2,   2384.4,2,   8.0583,  25,6,  -999.00,9,  -999.00,   -999.0,9,   -999.0,  24.3343,  24.4891
  49NZ20090410,   P21,   156,  1,     32, X12002,2,20090518,0625,-17.4992,-149.3333,  958,    201.4,2,  22.1351,2,  22.10152,2,  35.9560,2,  35.9678,2,   180.28,2,   180.74,2,     0.82,2,     0.12,     2.27,2,     0.04,     0.03,2,     0.01,    0.372,2,    0.014,    1.889,2,    1.180,2,    0.113,2,   2074.7,2,   2364.4,2,   8.0137,  25,2,  -999.00,9,  -999.00,   -999.0,9,   -999.0,  22.0949,  24.9177
  49NZ20090410,   P21,   156,  1,     31, X12001,2,20090518,0625,-17.4992,-149.3333,  958,    250.3,2,  20.5573,2,  20.54958,2,  35.7552,2,  35.7585,6,   178.67,2,   179.39,2,     0.87,2,     0.12,     3.30,2,     0.04,     0.02,2,     0.01,    0.443,2,    0.013,    2.035,2,    1.248,2,    0.049,2,   2087.1,2,   2350.5,2,   7.9780,  25,2,  -999.00,9,  -999.00,   -999.0,9,   -999.0,  20.5099,  25.2019
  49NZ20090410,   P21,   156,  1,     30, X12030,2,20090518,0625,-17.4992,-149.3333,  958,    331.9,2,  15.7112,2,  15.72850,2,  35.1217,2,  35.1422,2,   175.77,2,   176.35,2,     2.70,2,     0.12,     8.27,2,     0.06,     0.01,2,     0.01,    0.784,2,    0.013,    2.261,2,    1.302,2,    0.034,2,   2108.2,2,   2314.0,2,   7.8792,  25,2,  -999.00,9,  -999.00,   -999.0,9,   -999.0,  15.6591,  25.9188
  49NZ20090410,   P21,   156,  1,     29, X12044,2,20090518,0625,-17.4992,-149.3333,  958,    429.0,2,  11.2182,2,  11.22222,2,  34.6634,2,  34.6636,2,   160.98,2,   161.24,2,     8.15,2,     0.14,    17.99,2,     0.08,     0.01,2,     0.01,    1.439,2,    0.014,    1.904,6,    1.022,6,    0.029,6,   2148.9,2,   2290.0,2,   7.7380,  25,2,  -999.00,9,  -999.00,   -999.0,9,   -999.0,  11.1643,  26.4835
  49NZ20090410,   P21,   156,  1,     28, X12048,2,20090518,0625,-17.4992,-149.3333,  958,    531.5,2,   8.3390,2,   8.36373,2,  34.4771,2,  34.4808,6,   153.41,2,   154.04,2,    14.65,2,     0.15,    25.38,2,     0.10,     0.01,2,     0.01,    1.893,2,    0.015,    1.315,2,    0.692,2,    0.022,2,   2181.0,2,   2286.4,2,   7.6493,  25,2,  -999.00,9,  -999.00,   -999.0,9,   -999.0,   8.2831,  26.8205
  49NZ20090410,   P21,   156,  1,     27, X12027,2,20090518,0625,-17.4992,-149.3333,  958,    629.3,2,   6.7528,2,   6.75293,2,  34.4412,2,  34.4416,2,   151.94,2,   152.12,2,    25.15,2,     0.17,    29.86,2,     0.12,     0.01,2,     0.01,    2.143,2,    0.015,    0.661,6,    0.345,6,    0.009,6,   2202.6,2,   2294.5,2,   7.6133,  25,2,  -999.00,9,  -999.00,   -999.0,9,   -999.0,   6.6937,  27.0203
  49NZ20090410,   P21,   156,  1,     26, X12026,2,20090518,0625,-17.4992,-149.3333,  958,    730.3,2,   5.8162,2,   5.81650,2,  34.4416,2,  34.4426,2,   150.59,2,   150.68,2,    35.44,2,     0.20,    31.83,2,     0.12,     0.01,2,     0.01,    2.271,2,    0.016,    0.344,2,    0.184,2,    0.000,2,   2216.3,6,   2304.9,2,   7.5996,  25,2,  -999.00,9,  -999.00,   -999.0,9,   -999.0,   5.7523,  27.1425
  49NZ20090410,   P21,   156,  1,     25, X12025,2,20090518,0625,-17.4992,-149.3333,  958,    830.4,2,   4.9302,2,   4.92678,2,  34.4575,2,  34.4586,2,   148.34,2,   148.40,2,    48.55,2,     0.23,    33.62,2,     0.13,     0.01,2,     0.01,    2.382,2,    0.016,    0.140,2,    0.080,2,    0.000,2,   2234.7,2,   2319.2,6,   7.5872,  25,2,  -999.00,9,  -999.00,   -999.0,9,   -999.0,   4.8625,  27.2609
  49NZ20090410,   P21,   156,  1,     24, X12024,2,20090518,0625,-17.4992,-149.3333,  958,    930.3,2,   4.1288,2,   4.17586,2,  34.4869,2,  34.4841,3,   145.85,2,   146.52,2,    60.85,2,     0.25,    34.74,2,     0.13,     0.01,2,     0.01,    2.451,2,    0.016,    0.052,2,    0.029,2,    0.000,2,   2250.0,2,   2331.2,2,   7.5790,  25,6,  -999.00,9,  -999.00,   -999.0,9,   -999.0,   4.0580,  27.3720
  49NZ20090410,   P21,   156,  1,     23, X12028,9,20090518,0625,-17.4992,-149.3333,  958,     99.8,2,  25.7601,2,  25.76055,2,  36.3164,2,-999.0000,9,   197.20,2,  -999.00,9,  -999.00,9,  -999.00,  -999.00,9,  -999.00,  -999.00,9,  -999.00, -999.000,9, -999.000, -999.000,9, -999.000,9, -999.000,9,   -999.0,9,   -999.0,9,-999.0000,-999,9,  -999.00,9,  -999.00,   -999.0,9,   -999.0,  25.7379,  24.1088
  49NZ20090410,   P21,   156,  1,     22, X12022,9,20090518,0625,-17.4992,-149.3333,  958,    150.0,2,  24.3845,2,  24.38806,2,  36.2531,2,-999.0000,9,   185.54,2,  -999.00,9,  -999.00,9,  -999.00,  -999.00,9,  -999.00,  -999.00,9,  -999.00, -999.000,9, -999.000, -999.000,9, -999.000,9, -999.000,9,   -999.0,9,   -999.0,9,-999.0000,-999,9,  -999.00,9,  -999.00,   -999.0,9,   -999.0,  24.3524,  24.4850
  49NZ20090410,   P21,   156,  1,     21, X12021,9,20090518,0625,-17.4992,-149.3333,  958,    201.5,2,  22.2074,2,  22.18657,2,  35.9667,2,-999.0000,9,   180.45,2,  -999.00,9,  -999.00,9,  -999.00,  -999.00,9,  -999.00,  -999.00,9,  -999.00, -999.000,9, -999.000, -999.000,9, -999.000,9, -999.000,9,   -999.0,9,   -999.0,9,-999.0000,-999,9,  -999.00,9,  -999.00,   -999.0,9,   -999.0,  22.1671,  24.9055
  49NZ20090410,   P21,   156,  1,     20, X12020,9,20090518,0625,-17.4992,-149.3333,  958,    250.0,2,  20.5551,2,  20.55579,2,  35.7565,2,-999.0000,9,   178.73,2,  -999.00,9,  -999.00,9,  -999.00,  -999.00,9,  -999.00,  -999.00,9,  -999.00, -999.000,9, -999.000, -999.000,9, -999.000,9, -999.000,9,   -999.0,9,   -999.0,9,-999.0000,-999,9,  -999.00,9,  -999.00,   -999.0,9,   -999.0,  20.5077,  25.2034
  49NZ20090410,   P21,   156,  1,     19, X12019,9,20090518,0625,-17.4992,-149.3333,  958,    331.5,2,  15.7379,2,  15.76651,2,  35.1201,2,-999.0000,9,   175.79,2,  -999.00,9,  -999.00,9,  -999.00,  -999.00,9,  -999.00,  -999.00,9,  -999.00, -999.000,9, -999.000, -999.000,9, -999.000,9, -999.000,9,   -999.0,9,   -999.0,9,-999.0000,-999,9,  -999.00,9,  -999.00,   -999.0,9,   -999.0,  15.6858,  25.9115
  49NZ20090410,   P21,   156,  1,     18, X12043,9,20090518,0625,-17.4992,-149.3333,  958,    428.8,2,  11.2164,2,  11.22250,2,  34.6648,2,-999.0000,9,   161.24,2,  -999.00,9,  -999.00,9,  -999.00,  -999.00,9,  -999.00,  -999.00,9,  -999.00, -999.000,9, -999.000, -999.000,9, -999.000,9, -999.000,9,   -999.0,9,   -999.0,9,-999.0000,-999,9,  -999.00,9,  -999.00,   -999.0,9,   -999.0,  11.1625,  26.4850
  49NZ20090410,   P21,   156,  1,     17, X12042,9,20090518,0625,-17.4992,-149.3333,  958,    532.1,2,   8.2966,2,   8.32397,2,  34.4773,2,-999.0000,9,   153.50,2,  -999.00,9,  -999.00,9,  -999.00,  -999.00,9,  -999.00,  -999.00,9,  -999.00, -999.000,9, -999.000, -999.000,9, -999.000,9, -999.000,9,   -999.0,9,   -999.0,9,-999.0000,-999,9,  -999.00,9,  -999.00,   -999.0,9,   -999.0,   8.2408,  26.8271
  49NZ20090410,   P21,   156,  1,     16, X12016,9,20090518,0625,-17.4992,-149.3333,  958,    629.6,2,   6.7517,2,   6.75162,2,  34.4412,2,-999.0000,9,   151.99,2,  -999.00,9,  -999.00,9,  -999.00,  -999.00,9,  -999.00,  -999.00,9,  -999.00, -999.000,9, -999.000, -999.000,9, -999.000,9, -999.000,9,   -999.0,9,   -999.0,9,-999.0000,-999,9,  -999.00,9,  -999.00,   -999.0,9,   -999.0,   6.6926,  27.0205
  49NZ20090410,   P21,   156,  1,     15, X12015,9,20090518,0625,-17.4992,-149.3333,  958,    730.2,2,   5.8168,2,   5.81727,2,  34.4419,2,-999.0000,9,   150.61,2,  -999.00,9,  -999.00,9,  -999.00,  -999.00,9,  -999.00,  -999.00,9,  -999.00, -999.000,9, -999.000, -999.000,9, -999.000,9, -999.000,9,   -999.0,9,   -999.0,9,-999.0000,-999,9,  -999.00,9,  -999.00,   -999.0,9,   -999.0,   5.7529,  27.1426
  49NZ20090410,   P21,   156,  1,     14, X12050,9,20090518,0625,-17.4992,-149.3333,  958,     10.0,2,  28.2991,2,  28.29806,2,  36.2279,2,-999.0000,9,   194.90,2,  -999.00,9,  -999.00,9,  -999.00,  -999.00,9,  -999.00,  -999.00,9,  -999.00, -999.000,9, -999.000, -999.000,9, -999.000,9, -999.000,9,   -999.0,9,   -999.0,9,-999.0000,-999,9,  -999.00,9,  -999.00,   -999.0,9,   -999.0,  28.2967,  23.2207
  49NZ20090410,   P21,   156,  1,     13, X12014,9,20090518,0625,-17.4992,-149.3333,  958,      9.8,2,  28.2985,2,  28.29771,2,  36.2280,2,-999.0000,9,   194.90,2,  -999.00,9,  -999.00,9,  -999.00,  -999.00,9,  -999.00,  -999.00,9,  -999.00, -999.000,9, -999.000, -999.000,9, -999.000,9, -999.000,9,   -999.0,9,   -999.0,9,-999.0000,-999,9,  -999.00,9,  -999.00,   -999.0,9,   -999.0,  28.2962,  23.2209
  49NZ20090410,   P21,   156,  1,     12, X12012,9,20090518,0625,-17.4992,-149.3333,  958,     50.2,2,  28.0363,2,  28.03739,2,  36.2111,2,-999.0000,9,   195.77,2,  -999.00,9,  -999.00,9,  -999.00,  -999.00,9,  -999.00,  -999.00,9,  -999.00, -999.000,9, -999.000, -999.000,9, -999.000,9, -999.000,9,   -999.0,9,   -999.0,9,-999.0000,-999,9,  -999.00,9,  -999.00,   -999.0,9,   -999.0,  28.0244,  23.2977
  49NZ20090410,   P21,   156,  1,     11, X12041,9,20090518,0625,-17.4992,-149.3333,  958,    100.6,2,  25.7609,2,  25.76061,2,  36.3163,2,-999.0000,9,   197.23,2,  -999.00,9,  -999.00,9,  -999.00,  -999.00,9,  -999.00,  -999.00,9,  -999.00, -999.000,9, -999.000, -999.000,9, -999.000,9, -999.000,9,   -999.0,9,   -999.0,9,-999.0000,-999,9,  -999.00,9,  -999.00,   -999.0,9,   -999.0,  25.7385,  24.1085
  49NZ20090410,   P21,   156,  1,     10, X12040,9,20090518,0625,-17.4992,-149.3333,  958,    149.9,2,  24.3681,2,  24.36886,2,  36.2514,2,-999.0000,9,   185.72,2,  -999.00,9,  -999.00,9,  -999.00,  -999.00,9,  -999.00,  -999.00,9,  -999.00, -999.000,9, -999.000, -999.000,9, -999.000,9, -999.000,9,   -999.0,9,   -999.0,9,-999.0000,-999,9,  -999.00,9,  -999.00,   -999.0,9,   -999.0,  24.3360,  24.4886
  49NZ20090410,   P21,   156,  1,      9, X12009,9,20090518,0625,-17.4992,-149.3333,  958,    201.1,2,  22.1613,2,  22.12280,2,  35.9607,2,-999.0000,9,   180.44,2,  -999.00,9,  -999.00,9,  -999.00,  -999.00,9,  -999.00,  -999.00,9,  -999.00, -999.000,9, -999.000, -999.000,9, -999.000,9, -999.000,9,   -999.0,9,   -999.0,9,-999.0000,-999,9,  -999.00,9,  -999.00,   -999.0,9,   -999.0,  22.1211,  24.9139
  49NZ20090410,   P21,   156,  1,      8, X12008,9,20090518,0625,-17.4992,-149.3333,  958,    249.8,2,  20.5560,2,  20.55741,2,  35.7600,2,-999.0000,9,   178.70,2,  -999.00,9,  -999.00,9,  -999.00,  -999.00,9,  -999.00,  -999.00,9,  -999.00, -999.000,9, -999.000, -999.000,9, -999.000,9, -999.000,9,   -999.0,9,   -999.0,9,-999.0000,-999,9,  -999.00,9,  -999.00,   -999.0,9,   -999.0,  20.5087,  25.2058
  49NZ20090410,   P21,   156,  1,      7, X12007,9,20090518,0625,-17.4992,-149.3333,  958,    331.9,2,  15.6760,2,  15.68054,2,  35.1173,2,-999.0000,9,   176.49,2,  -999.00,9,  -999.00,9,  -999.00,  -999.00,9,  -999.00,  -999.00,9,  -999.00, -999.000,9, -999.000, -999.000,9, -999.000,9, -999.000,9,   -999.0,9,   -999.0,9,-999.0000,-999,9,  -999.00,9,  -999.00,   -999.0,9,   -999.0,  15.6240,  25.9234
  49NZ20090410,   P21,   156,  1,      6, X12035,9,20090518,0625,-17.4992,-149.3333,  958,    429.0,2,  11.2153,2,  11.21612,2,  34.6635,2,-999.0000,9,   161.06,2,  -999.00,9,  -999.00,9,  -999.00,  -999.00,9,  -999.00,  -999.00,9,  -999.00, -999.000,9, -999.000, -999.000,9, -999.000,9, -999.000,9,   -999.0,9,   -999.0,9,-999.0000,-999,9,  -999.00,9,  -999.00,   -999.0,9,   -999.0,  11.1614,  26.4842
  49NZ20090410,   P21,   156,  1,      5, X12038,9,20090518,0625,-17.4992,-149.3333,  958,    531.6,2,   8.3153,2,   8.31656,2,  34.4768,2,-999.0000,9,   153.44,2,  -999.00,9,  -999.00,9,  -999.00,  -999.00,9,  -999.00,  -999.00,9,  -999.00, -999.000,9, -999.000, -999.000,9, -999.000,9, -999.000,9,   -999.0,9,   -999.0,9,-999.0000,-999,9,  -999.00,9,  -999.00,   -999.0,9,   -999.0,   8.2595,  26.8238
  49NZ20090410,   P21,   156,  1,      4, X12034,9,20090518,0625,-17.4992,-149.3333,  958,    629.3,2,   6.7523,2,   6.75205,2,  34.4412,2,-999.0000,9,   152.01,2,  -999.00,9,  -999.00,9,  -999.00,  -999.00,9,  -999.00,  -999.00,9,  -999.00, -999.000,9, -999.000, -999.000,9, -999.000,9, -999.000,9,   -999.0,9,   -999.0,9,-999.0000,-999,9,  -999.00,9,  -999.00,   -999.0,9,   -999.0,   6.6932,  27.0204
  49NZ20090410,   P21,   156,  1,      3, X12033,9,20090518,0625,-17.4992,-149.3333,  958,    730.2,2,   5.8183,2,   5.81876,2,  34.4418,2,-999.0000,9,   150.60,2,  -999.00,9,  -999.00,9,  -999.00,  -999.00,9,  -999.00,  -999.00,9,  -999.00, -999.000,9, -999.000, -999.000,9, -999.000,9, -999.000,9,   -999.0,9,   -999.0,9,-999.0000,-999,9,  -999.00,9,  -999.00,   -999.0,9,   -999.0,   5.7544,  27.1424
  49NZ20090410,   P21,   156,  1,      2, X12032,9,20090518,0625,-17.4992,-149.3333,  958,    830.4,2,   4.9330,2,   4.93271,2,  34.4578,2,-999.0000,9,   148.36,2,  -999.00,9,  -999.00,9,  -999.00,  -999.00,9,  -999.00,  -999.00,9,  -999.00, -999.000,9, -999.000, -999.000,9, -999.000,9, -999.000,9,   -999.0,9,   -999.0,9,-999.0000,-999,9,  -999.00,9,  -999.00,   -999.0,9,   -999.0,   4.8653,  27.2608
  49NZ20090410,   P21,   156,  1,      1, X12046,2,20090518,0625,-17.4992,-149.3333,  958,    978.0,2,   3.7619,2,   3.76006,2,  34.5075,2,  34.5066,6,   145.50,2,   145.24,2,    70.26,2,     0.27,    35.19,2,     0.13,     0.01,2,     0.01,    2.494,2,    0.016,    0.018,2,    0.012,2,    0.000,2,   2260.3,2,   2341.7,2,   7.5750,  25,2,  -999.00,9,  -999.00,   -999.0,9,   -999.0,   3.6899,  27.4260