BOTTLE,20220818CCHSIOAMB
EXPOCODE,SECT_ID,STNNBR,CASTNO,SAMPNO,BTLNBR,BTLNBR_FLAG_W,DATE,TIME,LATITUDE,LONGITUDE,DEPTH,CTDPRS,CTDPRS_FLAG_W,CTDTMP,CTDTMP_FLAG_W,SBE35,SBE35_FLAG_W,CTDSAL,CTDSAL_FLAG_W,SALNTY,SALNTY_FLAG_W,CTDOXY,CTDOXY_FLAG_W,OXYGEN,OXYGEN_FLAG_W,SILCAT,SILCAT_FLAG_W,SILUNC,NITRAT,NITRAT_FLAG_W,NRAUNC,NITRIT,NITRIT_FLAG_W,NRIUNC,PHSPHT,PHSPHT_FLAG_W,PHPUNC,CFC-11,CFC-11_FLAG_W,CFC-12,CFC-12_FLAG_W,CFC113,CFC113_FLAG_W,TCARBN,TCARBN_FLAG_W,ALKALI,ALKALI_FLAG_W,PH_TOT,PH_TMP,PH_TOT_FLAG_W,DELC13,DELC13_FLAG_W,C13ERR,DELC14,DELC14_FLAG_W,C14ERR,THETA,SIG0
,,,,,,,,,,,METERS,DBAR,,ITS-90,,ITS-90,,PSS-78,,PSS-78,,UMOL/KG,,UMOL/KG,,UMOL/KG,,UMOL/KG,UMOL/KG,,UMOL/KG,UMOL/KG,,UMOL/KG,UMOL/KG,,UMOL/KG,PMOL/KG,,PMOL/KG,,PMOL/KG,,UMOL/KG,,UMOL/KG,,,DEG C,,/MILLE,,/MILLE,/MILLE,,/MILLE,DEG C,KG/M^3
  49NZ20090410,   P21,    97,  2,     36, X12006,2,20090504,1715,-16.7498,-111.3357, 3445,      9.9,2,  25.5881,2,  25.58825,2,  36.1628,2,  36.1620,2,   206.66,2,   206.67,2,     0.73,2,     0.12,     0.28,2,     0.03,     0.02,2,     0.01,    0.349,2,    0.014,    1.559,2,    1.018,2, -999.000,5,   -999.0,9,   -999.0,9,-999.0000,-999,9,  -999.00,9,  -999.00,   -999.0,9,   -999.0,  25.5859,  24.0400
  49NZ20090410,   P21,    97,  2,     35, X12047,2,20090504,1715,-16.7498,-111.3357, 3445,     50.2,2,  25.4856,2,  25.48460,2,  36.2904,2,  36.2849,2,   205.80,2,   207.01,2,     0.61,2,     0.12,     0.10,2,     0.03,     0.02,2,     0.01,    0.343,2,    0.014,    1.587,2,    1.037,2, -999.000,5,   -999.0,9,   -999.0,9,-999.0000,-999,9,  -999.00,9,  -999.00,   -999.0,9,   -999.0,  25.4745,  24.1709
  49NZ20090410,   P21,    97,  2,     34, X12004,2,20090504,1715,-16.7498,-111.3357, 3445,    100.6,2,  22.1260,2,  22.12621,2,  36.1461,2,  36.1445,2,   212.83,2,   212.56,2,     0.39,2,     0.12,     0.10,2,     0.03,     0.08,2,     0.01,    0.312,2,    0.014,    1.875,6,    1.176,6, -999.000,5,   -999.0,9,   -999.0,9,-999.0000,-999,9,  -999.00,9,  -999.00,   -999.0,9,   -999.0,  22.1059,  25.0591
  49NZ20090410,   P21,    97,  2,     33, X12003,2,20090504,1715,-16.7498,-111.3357, 3445,    150.7,2,  20.5329,2,  20.53326,2,  35.8672,2,  35.8659,2,   202.03,2,   202.33,2,     0.42,2,     0.12,     1.60,2,     0.04,     0.20,2,     0.01,    0.400,2,    0.013,    2.020,2,    1.173,3, -999.000,5,   -999.0,9,   -999.0,9,-999.0000,-999,9,  -999.00,9,  -999.00,   -999.0,9,   -999.0,  20.5044,  25.2887
  49NZ20090410,   P21,    97,  2,     32, X12002,2,20090504,1715,-16.7498,-111.3357, 3445,    199.5,2,  18.9366,2,  18.93758,2,  35.5356,2,  35.5337,2,   199.42,2,   200.12,2,     0.53,2,     0.12,     2.92,2,     0.04,     0.03,2,     0.01,    0.461,2,    0.013,    2.185,2,    1.066,3,    0.146,2,   -999.0,9,   -999.0,9,-999.0000,-999,9,  -999.00,9,  -999.00,   -999.0,9,   -999.0,  18.9010,  25.4560
  49NZ20090410,   P21,    97,  2,     31, X12001,2,20090504,1715,-16.7498,-111.3357, 3445,    250.2,2,  15.4300,2,  15.42923,2,  34.9372,2,  34.9338,6,   187.38,2,   187.55,2,     1.47,2,     0.12,     7.54,2,     0.05,     0.02,2,     0.01,    0.748,2,    0.013,    2.044,4,    0.310,4,    0.077,4,   -999.0,9,   -999.0,9,-999.0000,-999,9,  -999.00,9,  -999.00,   -999.0,9,   -999.0,  15.3913,  25.8369
  49NZ20090410,   P21,    97,  2,     30, X12030,2,20090504,1715,-16.7498,-111.3357, 3445,    301.9,2,  11.8011,2,  11.80435,2,  34.4872,2,  34.4871,2,   142.74,2,   142.39,2,     6.58,2,     0.13,    17.09,2,     0.08,     0.01,2,     0.01,    1.518,2,    0.014,    2.498,2,    1.381,2,    0.056,2,   -999.0,9,   -999.0,9,-999.0000,-999,9,  -999.00,9,  -999.00,   -999.0,9,   -999.0,  11.7622,  26.2357
  49NZ20090410,   P21,    97,  2,     29, X12044,2,20090504,1715,-16.7498,-111.3357, 3445,    400.5,2,   8.7763,2,   8.77711,2,  34.5072,2,  34.5055,2,    63.65,2,    63.28,2,    19.94,2,     0.16,    32.08,2,     0.12,     0.01,2,     0.01,    2.499,2,    0.016,    0.670,2,    0.351,2,    0.007,2,   -999.0,9,   -999.0,9,-999.0000,-999,9,  -999.00,9,  -999.00,   -999.0,9,   -999.0,   8.7332,  26.7745
  49NZ20090410,   P21,    97,  2,     28, X12048,2,20090504,1715,-16.7498,-111.3357, 3445,    502.3,2,   7.1491,2,   7.14825,2,  34.4842,2,  34.4851,6,    80.96,2,    80.33,2,    26.88,2,     0.18,    36.31,2,     0.13,     0.01,2,     0.01,    2.565,2,    0.016,    0.206,2,    0.110,2,    0.000,2,   -999.0,9,   -999.0,9,-999.0000,-999,9,  -999.00,9,  -999.00,   -999.0,9,   -999.0,   7.1008,  26.9984
  49NZ20090410,   P21,    97,  2,     27, X12027,2,20090504,1715,-16.7498,-111.3357, 3445,    600.3,2,   6.2174,2,   6.21814,2,  34.4712,2,  34.4692,2,    89.63,2,    90.05,2,    34.50,2,     0.19,    37.76,2,     0.14,     0.01,2,     0.01,    2.629,2,    0.017,    0.073,6,    0.040,6,    0.000,6,   -999.0,9,   -999.0,9,-999.0000,-999,9,  -999.00,9,  -999.00,   -999.0,9,   -999.0,   6.1636,  27.1139
  49NZ20090410,   P21,    97,  2,     26, X12026,2,20090504,1715,-16.7498,-111.3357, 3445,    699.9,2,   5.6709,2,   5.67050,2,  34.4789,2,  34.4787,2,    85.12,2,    85.10,2,    43.54,2,     0.21,    39.24,2,     0.14,     0.01,2,     0.01,    2.743,2,    0.017,    0.018,2,    0.013,2,    0.000,2,   -999.0,9,   -999.0,9,-999.0000,-999,9,  -999.00,9,  -999.00,   -999.0,9,   -999.0,   5.6105,  27.1895
  49NZ20090410,   P21,    97,  2,     25, X12025,2,20090504,1715,-16.7498,-111.3357, 3445,    800.6,2,   5.1921,2,   5.19231,2,  34.4918,2,  34.4917,2,    79.65,2,    79.68,2,    53.30,2,     0.24,    40.60,2,     0.15,     0.01,2,     0.01,    2.855,2,    0.017,    0.005,2,    0.002,2,    0.000,2,   -999.0,9,   -999.0,9,-999.0000,-999,9,  -999.00,9,  -999.00,   -999.0,9,   -999.0,   5.1254,  27.2578
  49NZ20090410,   P21,    97,  2,     24, X12024,2,20090504,1715,-16.7498,-111.3357, 3445,    900.6,2,   4.7655,2,   4.76549,2,  34.5107,2,  34.5098,2,    66.77,2,    66.65,2,    64.60,2,     0.26,    42.43,2,     0.15,     0.01,2,     0.01,    3.001,2,    0.017,    0.002,2,    0.003,2,    0.000,2,   -999.0,9,   -999.0,9,-999.0000,-999,9,  -999.00,9,  -999.00,   -999.0,9,   -999.0,   4.6927,  27.3223
  49NZ20090410,   P21,    97,  2,     23, X12028,2,20090504,1715,-16.7498,-111.3357, 3445,   1000.5,2,   4.3557,2,   4.35561,2,  34.5237,2,  34.5234,6,    71.11,2,    70.23,2,    73.48,2,     0.28,    42.24,2,     0.15,     0.01,2,     0.01,    3.011,2,    0.017,    0.002,2,    0.000,2,    0.000,2,   -999.0,9,   -999.0,9,-999.0000,-999,9,  -999.00,9,  -999.00,   -999.0,9,   -999.0,   4.2772,  27.3781
  49NZ20090410,   P21,    97,  2,     22, X12022,2,20090504,1715,-16.7498,-111.3357, 3445,   1199.8,2,   3.7360,2,   3.73605,2,  34.5510,2,  34.5509,2,    77.52,2,    77.38,2,    88.71,2,     0.31,    41.79,2,     0.15,     0.01,2,     0.01,    2.999,2,    0.017,    0.001,2,    0.000,2,    0.000,2,   -999.0,9,   -999.0,9,-999.0000,-999,9,  -999.00,9,  -999.00,   -999.0,9,   -999.0,   3.6458,  27.4650
  49NZ20090410,   P21,    97,  2,     21, X12021,2,20090504,1715,-16.7498,-111.3357, 3445,   1400.7,2,   3.2290,2,   3.22924,2,  34.5747,2,  34.5741,2,    91.37,2,    91.48,2,    99.43,2,     0.34,    40.70,2,     0.15,     0.01,2,     0.01,    2.914,2,    0.017,    0.003,2,    0.000,2,    0.000,2,   -999.0,9,   -999.0,9,-999.0000,-999,9,  -999.00,9,  -999.00,   -999.0,9,   -999.0,   3.1269,  27.5339
  49NZ20090410,   P21,    97,  2,     20, X12020,2,20090504,1715,-16.7498,-111.3357, 3445,   1597.9,2,   2.7837,2,   2.78372,2,  34.6013,2,  34.6012,2,   103.60,2,   103.67,2,   109.76,2,     0.36,    39.61,2,     0.14,     0.01,2,     0.01,    2.831,2,    0.017,    0.000,2,    0.000,2,    0.000,2,   -999.0,9,   -999.0,9,-999.0000,-999,9,  -999.00,9,  -999.00,   -999.0,9,   -999.0,   2.6702,  27.5964
  49NZ20090410,   P21,    97,  2,     19, X12019,2,20090504,1715,-16.7498,-111.3357, 3445,   1800.8,2,   2.4714,2,   2.47120,2,  34.6201,2,  34.6195,6,   116.26,2,   116.33,2,   114.58,2,     0.37,    38.38,2,     0.14,     0.01,2,     0.01,    2.732,2,    0.017,    0.000,2,    0.000,2,    0.000,2,   -999.0,9,   -999.0,9,-999.0000,-999,9,  -999.00,9,  -999.00,   -999.0,9,   -999.0,   2.3449,  27.6393
  49NZ20090410,   P21,    97,  2,     18, X12043,2,20090504,1715,-16.7498,-111.3357, 3445,   2000.4,2,   2.1900,2,   2.19019,2,  34.6358,2,  34.6357,2,   135.70,2,   135.84,2,   114.95,2,     0.37,    36.98,2,     0.14,     0.01,2,     0.01,    2.600,2,    0.016, -999.000,9, -999.000,9, -999.000,9,   -999.0,9,   -999.0,9,-999.0000,-999,9,  -999.00,9,  -999.00,   -999.0,9,   -999.0,   2.0506,  27.6758
  49NZ20090410,   P21,    97,  2,     17, X12042,2,20090504,1715,-16.7498,-111.3357, 3445,   2202.0,2,   1.9956,2,   1.99539,2,  34.6517,2,  34.6519,2,   147.46,2,   147.58,2,   116.49,2,     0.38,    35.95,2,     0.13,     0.01,2,     0.01,    2.522,2,    0.016, -999.000,9, -999.000,9, -999.000,9,   -999.0,9,   -999.0,9,-999.0000,-999,9,  -999.00,9,  -999.00,   -999.0,9,   -999.0,   1.8419,  27.7050
  49NZ20090410,   P21,    97,  2,     16, X12016,2,20090504,1715,-16.7498,-111.3357, 3445,   2400.6,2,   1.8753,2,   1.87510,2,  34.6649,2,  34.6651,2,   152.57,2,   152.69,2,   118.77,2,     0.38,    35.56,2,     0.13,     0.01,2,     0.01,    2.485,2,    0.016,    0.000,2,    0.000,2,    0.000,2,   -999.0,9,   -999.0,9,-999.0000,-999,9,  -999.00,9,  -999.00,   -999.0,9,   -999.0,   1.7062,  27.7259
  49NZ20090410,   P21,    97,  2,     15, X12015,2,20090504,1715,-16.7498,-111.3357, 3445,   2600.5,2,   1.8283,2,   1.82818,2,  34.6736,2,  34.6736,6,   152.02,2,   152.08,2,   122.82,2,     0.39,    35.60,2,     0.13,     0.01,2,     0.01,    2.495,2,    0.016, -999.000,9, -999.000,9, -999.000,9,   -999.0,9,   -999.0,9,-999.0000,-999,9,  -999.00,9,  -999.00,   -999.0,9,   -999.0,   1.6420,  27.7378
  49NZ20090410,   P21,    97,  2,     14, X12050,2,20090504,1715,-16.7498,-111.3357, 3445,   2799.8,2,   1.8224,2,   1.82235,2,  34.6780,2,  34.6819,3,   147.83,2,   147.94,2,   127.45,2,     0.40,    36.04,2,     0.13,     0.01,2,     0.01,    2.522,2,    0.016, -999.000,9, -999.000,9, -999.000,9,   -999.0,9,   -999.0,9,-999.0000,-999,9,  -999.00,9,  -999.00,   -999.0,9,   -999.0,   1.6177,  27.7431
  49NZ20090410,   P21,    97,  2,     13, X12013,7,20090504,1715,-16.7498,-111.3357, 3445,   3000.2,2,   1.8262,2,   1.82610,2,  34.6784,2,  34.6789,2,   144.13,2,   144.28,2,   131.57,2,     0.41,    36.36,2,     0.13,     0.01,2,     0.01,    2.542,2,    0.016,    0.003,2,    0.001,2,    0.000,2,   -999.0,9,   -999.0,9,-999.0000,-999,9,  -999.00,9,  -999.00,   -999.0,9,   -999.0,   1.6022,  27.7446
  49NZ20090410,   P21,    97,  2,     12, X12012,2,20090504,1715,-16.7498,-111.3357, 3445,   3251.0,2,   1.8401,2,   1.84013,2,  34.6779,2,  34.6777,2,   140.91,2,   141.20,2,   135.01,2,     0.42,    36.72,2,     0.14,     0.01,2,     0.01,    2.565,2,    0.016,    0.000,2,    0.000,2,    0.000,2,   -999.0,9,   -999.0,9,-999.0000,-999,9,  -999.00,9,  -999.00,   -999.0,9,   -999.0,   1.5910,  27.7450
  49NZ20090410,   P21,    97,  2,     11, X12041,9,20090504,1715,-16.7498,-111.3357, 3445,      9.9,2,  25.5855,2,  25.58530,2,  36.1638,2,-999.0000,9,   206.62,2,  -999.00,9,  -999.00,9,  -999.00,  -999.00,9,  -999.00,  -999.00,9,  -999.00, -999.000,9, -999.000, -999.000,9, -999.000,9, -999.000,9,   -999.0,9,   -999.0,9,-999.0000,-999,9,  -999.00,9,  -999.00,   -999.0,9,   -999.0,  25.5833,  24.0416
  49NZ20090410,   P21,    97,  2,     10, X12040,9,20090504,1715,-16.7498,-111.3357, 3445,   1801.3,2,   2.4710,2,   2.47100,2,  34.6202,2,-999.0000,9,   116.26,2,  -999.00,9,  -999.00,9,  -999.00,  -999.00,9,  -999.00,  -999.00,9,  -999.00, -999.000,9, -999.000, -999.000,9, -999.000,9, -999.000,9,   -999.0,9,   -999.0,9,-999.0000,-999,9,  -999.00,9,  -999.00,   -999.0,9,   -999.0,   2.3445,  27.6393
  49NZ20090410,   P21,    97,  2,      9, X12009,9,20090504,1715,-16.7498,-111.3357, 3445,   2000.1,2,   2.1901,2,   2.18990,2,  34.6358,2,-999.0000,9,   135.66,2,  -999.00,9,  -999.00,9,  -999.00,  -999.00,9,  -999.00,  -999.00,9,  -999.00, -999.000,9, -999.000, -999.000,9, -999.000,9, -999.000,9,   -999.0,9,   -999.0,9,-999.0000,-999,9,  -999.00,9,  -999.00,   -999.0,9,   -999.0,   2.0508,  27.6758
  49NZ20090410,   P21,    97,  2,      8, X12008,9,20090504,1715,-16.7498,-111.3357, 3445,   2201.2,2,   1.9953,2,   1.99556,2,  34.6518,2,-999.0000,9,   147.52,2,  -999.00,9,  -999.00,9,  -999.00,  -999.00,9,  -999.00,  -999.00,9,  -999.00, -999.000,9, -999.000, -999.000,9, -999.000,9, -999.000,9,   -999.0,9,   -999.0,9,-999.0000,-999,9,  -999.00,9,  -999.00,   -999.0,9,   -999.0,   1.8417,  27.7051
  49NZ20090410,   P21,    97,  2,      7, X12007,9,20090504,1715,-16.7498,-111.3357, 3445,   2399.9,2,   1.8745,2,   1.87458,2,  34.6649,2,-999.0000,9,   152.65,2,  -999.00,9,  -999.00,9,  -999.00,  -999.00,9,  -999.00,  -999.00,9,  -999.00, -999.000,9, -999.000, -999.000,9, -999.000,9, -999.000,9,   -999.0,9,   -999.0,9,-999.0000,-999,9,  -999.00,9,  -999.00,   -999.0,9,   -999.0,   1.7055,  27.7260
  49NZ20090410,   P21,    97,  2,      6, X12035,9,20090504,1715,-16.7498,-111.3357, 3445,   3250.1,2,   1.8401,2,   1.84013,2,  34.6779,2,-999.0000,9,   140.92,2,  -999.00,9,  -999.00,9,  -999.00,  -999.00,9,  -999.00,  -999.00,9,  -999.00, -999.000,9, -999.000, -999.000,9, -999.000,9, -999.000,9,   -999.0,9,   -999.0,9,-999.0000,-999,9,  -999.00,9,  -999.00,   -999.0,9,   -999.0,   1.5911,  27.7450
  49NZ20090410,   P21,    97,  2,      5, X12038,9,20090504,1715,-16.7498,-111.3357, 3445,    901.7,2,   4.7608,2,   4.76116,2,  34.5108,2,-999.0000,9,    67.10,2,  -999.00,9,  -999.00,9,  -999.00,  -999.00,9,  -999.00,  -999.00,9,  -999.00, -999.000,9, -999.000, -999.000,9, -999.000,9, -999.000,9,   -999.0,9,   -999.0,9,-999.0000,-999,9,  -999.00,9,  -999.00,   -999.0,9,   -999.0,   4.6880,  27.3229
  49NZ20090410,   P21,    97,  2,      4, X12034,9,20090504,1715,-16.7498,-111.3357, 3445,   2599.8,2,   1.8285,2,   1.82829,2,  34.6736,2,-999.0000,9,   152.03,2,  -999.00,9,  -999.00,9,  -999.00,  -999.00,9,  -999.00,  -999.00,9,  -999.00, -999.000,9, -999.000, -999.000,9, -999.000,9, -999.000,9,   -999.0,9,   -999.0,9,-999.0000,-999,9,  -999.00,9,  -999.00,   -999.0,9,   -999.0,   1.6423,  27.7377
  49NZ20090410,   P21,    97,  2,      3, X12033,9,20090504,1715,-16.7498,-111.3357, 3445,   2800.5,2,   1.8224,2,   1.82233,2,  34.6780,2,-999.0000,9,   147.83,2,  -999.00,9,  -999.00,9,  -999.00,  -999.00,9,  -999.00,  -999.00,9,  -999.00, -999.000,9, -999.000, -999.000,9, -999.000,9, -999.000,9,   -999.0,9,   -999.0,9,-999.0000,-999,9,  -999.00,9,  -999.00,   -999.0,9,   -999.0,   1.6176,  27.7431
  49NZ20090410,   P21,    97,  2,      2, X12032,9,20090504,1715,-16.7498,-111.3357, 3445,   3000.7,2,   1.8261,2,   1.82614,2,  34.6785,2,-999.0000,9,   144.15,2,  -999.00,9,  -999.00,9,  -999.00,  -999.00,9,  -999.00,  -999.00,9,  -999.00, -999.000,9, -999.000, -999.000,9, -999.000,9, -999.000,9,   -999.0,9,   -999.0,9,-999.0000,-999,9,  -999.00,9,  -999.00,   -999.0,9,   -999.0,   1.6021,  27.7446
  49NZ20090410,   P21,    97,  2,      1, X12046,2,20090504,1715,-16.7498,-111.3357, 3445,   3489.5,2,   1.8591,2,   1.85905,2,  34.6778,2,  34.6778,6,   140.64,2,   140.93,2,   135.41,2,     0.42,    36.68,2,     0.14,     0.01,2,     0.01,    2.567,2,    0.016,    0.001,2,    0.000,2,    0.000,2,   -999.0,9,   -999.0,9,-999.0000,-999,9,  -999.00,9,  -999.00,   -999.0,9,   -999.0,   1.5851,  27.7453