BOTTLE,20220818CCHSIOAMB
EXPOCODE,SECT_ID,STNNBR,CASTNO,SAMPNO,BTLNBR,BTLNBR_FLAG_W,DATE,TIME,LATITUDE,LONGITUDE,DEPTH,CTDPRS,CTDPRS_FLAG_W,CTDTMP,CTDTMP_FLAG_W,SBE35,SBE35_FLAG_W,CTDSAL,CTDSAL_FLAG_W,SALNTY,SALNTY_FLAG_W,CTDOXY,CTDOXY_FLAG_W,OXYGEN,OXYGEN_FLAG_W,SILCAT,SILCAT_FLAG_W,SILUNC,NITRAT,NITRAT_FLAG_W,NRAUNC,NITRIT,NITRIT_FLAG_W,NRIUNC,PHSPHT,PHSPHT_FLAG_W,PHPUNC,CFC-11,CFC-11_FLAG_W,CFC-12,CFC-12_FLAG_W,CFC113,CFC113_FLAG_W,TCARBN,TCARBN_FLAG_W,ALKALI,ALKALI_FLAG_W,PH_TOT,PH_TMP,PH_TOT_FLAG_W,DELC13,DELC13_FLAG_W,C13ERR,DELC14,DELC14_FLAG_W,C14ERR,THETA,SIG0
,,,,,,,,,,,METERS,DBAR,,ITS-90,,ITS-90,,PSS-78,,PSS-78,,UMOL/KG,,UMOL/KG,,UMOL/KG,,UMOL/KG,UMOL/KG,,UMOL/KG,UMOL/KG,,UMOL/KG,UMOL/KG,,UMOL/KG,PMOL/KG,,PMOL/KG,,PMOL/KG,,UMOL/KG,,UMOL/KG,,,DEG C,,/MILLE,,/MILLE,/MILLE,,/MILLE,DEG C,KG/M^3
  49NZ20090410,   P21,    30,  1,     36, X12006,2,20090414,1951,-16.7532, -79.3358, 4462,     10.2,2,  24.7239,2,  24.72337,2,  35.5764,2,  35.5738,2,   209.22,2,   209.23,2,     0.60,2,     0.12,     0.16,2,     0.03,     0.03,2,     0.01,    0.503,2,    0.014,    1.669,2,    1.060,2, -999.000,5,   2058.2,2,   2365.8,2,   8.0460,  25,6,  -999.00,9,  -999.00,   -999.0,9,   -999.0,  24.7217,  23.8615
  49NZ20090410,   P21,    30,  1,     35, X12047,2,20090414,1951,-16.7532, -79.3358, 4462,     49.8,2,  20.1081,2,  20.09622,2,  35.1993,2,  35.2010,2,   249.18,2,   250.12,2,     0.55,2,     0.12,     0.12,2,     0.03,     0.02,2,     0.01,    0.424,2,    0.014,    2.247,2,    1.379,2, -999.000,5,   2058.7,6,   2335.0,2,   8.0038,  25,2,  -999.00,9,  -999.00,   -999.0,9,   -999.0,  20.0989,  24.8876
  49NZ20090410,   P21,    30,  1,     34, X12004,2,20090414,1951,-16.7532, -79.3358, 4462,     99.0,2,  16.0137,2,  16.03349,2,  34.8736,2,  34.8757,2,   200.31,2,   192.61,2,     4.75,2,     1.89,    10.52,2,     0.63,     0.06,2,     0.01,    1.158,2,    0.066,    2.495,6,    1.503,6,    0.194,6,   2120.4,2,   2306.8,6,   7.8320,  25,2,  -999.00,9,  -999.00,   -999.0,9,   -999.0,  15.9981,  25.6508
  49NZ20090410,   P21,    30,  1,     33, X12003,2,20090414,1951,-16.7532, -79.3358, 4462,    148.8,2,  13.2696,2,  13.26562,2,  34.7943,2,  34.7910,2,    14.75,2,    16.01,2,    22.29,2,     1.31,    22.52,2,     0.35,    -0.03,3,     0.05,    2.676,2,    0.017,    1.643,2,    0.941,2,    0.052,2,   2264.5,2,   2294.4,2,   7.4270,  25,6,  -999.00,9,  -999.00,   -999.0,9,   -999.0,  13.2489,  26.1832
  49NZ20090410,   P21,    30,  1,     32, X12002,2,20090414,1951,-16.7532, -79.3358, 4462,    199.0,2,  12.4845,2,  12.48434,2,  34.8550,2,  34.8530,2,     1.12,2,     1.83,3,    28.81,2,     1.89,    18.13,2,     0.27,     2.92,2,     0.03,    2.748,2,    0.039,    0.800,2,    0.466,2,    0.025,2,   2275.1,2,   2304.7,2,   7.4234,  25,2,  -999.00,9,  -999.00,   -999.0,9,   -999.0,  12.4579,  26.3880
  49NZ20090410,   P21,    30,  1,     31, X12001,2,20090414,1951,-16.7532, -79.3358, 4462,    249.2,2,  11.5227,2,  11.52104,2,  34.7933,2,  34.7912,6,     1.22,2,     1.16,3,    30.76,2,     0.19,    24.53,2,     0.32,     1.62,2,     0.01,    2.786,2,    0.017,    0.530,2,    0.299,2,    0.032,2,   2277.9,2,   2299.2,2,   7.4035,  25,2,  -999.00,9,  -999.00,   -999.0,9,   -999.0,  11.4910,  26.5244
  49NZ20090410,   P21,    30,  1,     30, X12030,2,20090414,1951,-16.7532, -79.3358, 4462,    299.3,2,  10.6999,2,  10.69944,2,  34.7436,2,  34.7420,2,     1.35,2,     1.52,3,    31.13,2,     0.19,    28.92,2,     0.54,     1.72,2,     0.01,    2.869,2,    0.017,    0.357,2,    0.200,2,    0.026,2,   2281.3,2,   2297.2,2,   7.3856,  25,2,  -999.00,9,  -999.00,   -999.0,9,   -999.0,  10.6636,  26.6361
  49NZ20090410,   P21,    30,  1,     29, X12044,2,20090414,1951,-16.7532, -79.3358, 4462,    399.5,2,   8.9208,2,   8.92145,2,  34.6123,2,  34.6104,2,    13.49,2,    14.07,2,    28.59,2,     0.18,    37.14,2,     0.14,     0.01,2,     0.01,    2.828,2,    0.017,    0.223,2,    0.119,2,    0.020,2,   2278.1,2,   2293.0,2,   7.3855,  25,2,  -999.00,9,  -999.00,   -999.0,9,   -999.0,   8.8773,  26.8341
  49NZ20090410,   P21,    30,  1,     28, X12048,2,20090414,1951,-16.7532, -79.3358, 4462,    498.8,2,   7.7150,2,   7.71378,2,  34.5666,2,  34.5648,6,    19.15,2,    19.79,2,    34.94,2,     0.20,    40.84,2,     0.15,     0.01,2,     0.01,    2.978,2,    0.017,    0.120,2,    0.060,2,    0.034,2,   2284.5,2,   2297.7,2,   7.3799,  25,2,  -999.00,9,  -999.00,   -999.0,9,   -999.0,   7.6649,  26.9829
  49NZ20090410,   P21,    30,  1,     27, X12027,2,20090414,1951,-16.7532, -79.3358, 4462,    600.4,2,   6.6770,2,   6.67704,2,  34.5184,2,  34.5169,2,    35.91,2,    36.41,2,    39.31,2,     0.21,    42.10,2,     0.15,     0.00,2,     0.01,    2.999,2,    0.017,    0.053,6,    0.030,6,    0.015,6,   2281.1,2,   2302.6,2,   7.3961,  25,2,  -999.00,9,  -999.00,   -999.0,9,   -999.0,   6.6210,  27.0910
  49NZ20090410,   P21,    30,  1,     26, X12026,2,20090414,1951,-16.7532, -79.3358, 4462,    699.6,2,   5.9167,2,   5.91686,2,  34.5050,2,  34.5033,2,    35.26,2,    35.82,2,    48.82,2,     0.23,    43.57,2,     0.15,     0.01,2,     0.01,    3.126,2,    0.018,    0.022,2,    0.012,2,    0.000,2,   2294.5,6,   2311.4,2,   7.3849,  25,2,  -999.00,9,  -999.00,   -999.0,9,   -999.0,   5.8550,  27.1798
  49NZ20090410,   P21,    30,  1,     25, X12025,2,20090414,1951,-16.7532, -79.3358, 4462,    800.6,2,   5.3193,2,   5.31913,2,  34.5102,2,  34.5091,2,    37.60,2,    37.90,2,    59.08,2,     0.25,    44.35,2,     0.16,     0.00,2,     0.01,    3.185,2,    0.018,    0.004,2,    0.003,2,    0.000,2,   2305.7,2,   2321.5,6,   7.3848,  25,2,  -999.00,9,  -999.00,   -999.0,9,   -999.0,   5.2518,  27.2575
  49NZ20090410,   P21,    30,  1,     24, X12024,2,20090414,1951,-16.7532, -79.3358, 4462,    899.1,2,   4.8189,2,   4.81902,2,  34.5164,2,  34.5145,2,    46.93,2,    47.57,2,    67.77,2,     0.27,    44.02,2,     0.16,     0.01,2,     0.01,    3.178,2,    0.018,    0.001,2,    0.000,2,    0.000,2,   2309.0,2,   2331.0,2,   7.3994,  25,6,  -999.00,9,  -999.00,   -999.0,9,   -999.0,   4.7459,  27.3208
  49NZ20090410,   P21,    30,  1,     23, X12028,2,20090414,1951,-16.7532, -79.3358, 4462,    999.5,2,   4.4142,2,   4.41496,2,  34.5261,2,  34.5251,6,    56.51,2,    56.50,2,    75.84,2,     0.29,    43.40,2,     0.15,     0.01,2,     0.01,    3.144,2,    0.018,    0.001,2,    0.001,2,    0.000,2,   2313.3,2,   2340.8,2,   7.4152,  25,2,  -999.00,9,  -999.00,   -999.0,9,   -999.0,   4.3354,  27.3737
  49NZ20090410,   P21,    30,  1,     22, X12022,2,20090414,1951,-16.7532, -79.3358, 4462,   1199.8,2,   3.7020,2,   3.70265,2,  34.5500,2,  34.5493,2,    75.37,2,    74.93,2,    89.75,2,     0.32,    41.91,2,     0.15,     0.01,2,     0.01,    3.043,2,    0.018,    0.001,2,    0.001,2,    0.000,2,   2320.9,2,   2357.0,2,   7.4482,  25,2,  -999.00,9,  -999.00,   -999.0,9,   -999.0,   3.6121,  27.4675
  49NZ20090410,   P21,    30,  1,     21, X12021,2,20090414,1951,-16.7532, -79.3358, 4462,   1400.0,2,   3.2110,2,   3.21117,2,  34.5772,2,  34.5770,2,    85.63,2,    85.43,2,   102.11,2,     0.34,    40.93,2,     0.15,     0.01,2,     0.01,    2.971,2,    0.017,    0.001,2,    0.001,2,    0.000,2,   2326.7,2,   2371.8,2,   7.4683,  25,2,  -999.00,9,  -999.00,   -999.0,9,   -999.0,   3.1092,  27.5375
  49NZ20090410,   P21,    30,  1,     20, X12020,2,20090414,1951,-16.7532, -79.3358, 4462,   1600.1,2,   2.8372,2,   2.83676,2,  34.6011,2,  34.6005,2,    93.56,2,    93.18,2,   112.30,2,     0.37,    40.28,2,     0.15,     0.01,2,     0.01,    2.918,2,    0.017,    0.001,2,    0.001,2,    0.000,2,   2332.3,2,   2384.6,2,   7.4847,  25,2,  -999.00,9,  -999.00,   -999.0,9,   -999.0,   2.7229,  27.5916
  49NZ20090410,   P21,    30,  1,     19, X12019,2,20090414,1951,-16.7532, -79.3358, 4462,   1802.8,2,   2.5155,2,   2.51578,2,  34.6197,2,  34.6182,2,   108.43,2,   108.26,2,   116.77,2,     0.38,    39.05,2,     0.14,     0.00,2,     0.01,    2.807,2,    0.017,    0.000,2,    0.001,2,    0.000,2,   2329.9,2,   2391.0,2,   7.5114,  25,2,  -999.00,9,  -999.00,   -999.0,9,   -999.0,   2.3882,  27.6353
  49NZ20090410,   P21,    30,  1,     18, X12043,2,20090414,1951,-16.7532, -79.3358, 4462,   1999.2,2,   2.2788,2,   2.27806,2,  34.6382,2,  34.6376,2,   113.86,2,   113.39,2,   124.24,2,     0.39,    38.40,2,     0.14,     0.01,2,     0.01,    2.763,2,    0.017,    0.004,2,    0.000,2,    0.000,2,   2330.0,2,   2400.5,2,   7.5236,  25,2,  -999.00,9,  -999.00,   -999.0,9,   -999.0,   2.1382,  27.6707
  49NZ20090410,   P21,    30,  1,     17, X12042,2,20090414,1951,-16.7532, -79.3358, 4462,   2199.7,2,   2.0820,2,   2.08224,2,  34.6514,2,  34.6511,6,   128.37,2,   128.14,2,   124.35,2,     0.39,    37.38,2,     0.14,     0.00,2,     0.01,    2.659,2,    0.017,    0.000,2,    0.001,2,    0.000,2,   2325.7,2,   2401.4,2,   7.5481,  25,2,  -999.00,9,  -999.00,   -999.0,9,   -999.0,   1.9271,  27.6982
  49NZ20090410,   P21,    30,  1,     16, X12016,2,20090414,1951,-16.7532, -79.3358, 4462,   2401.2,2,   1.9374,2,   1.93705,2,  34.6626,2,  34.6617,2,   139.71,2,   139.18,2,   123.43,2,     0.39,    36.40,2,     0.13,     0.01,2,     0.01,    2.581,2,    0.016,    0.000,2,    0.000,2,    0.000,2,   2318.9,6,   2401.1,2,   7.5668,  25,2,  -999.00,9,  -999.00,   -999.0,9,   -999.0,   1.7671,  27.7195
  49NZ20090410,   P21,    30,  1,     15, X12015,2,20090414,1951,-16.7532, -79.3358, 4462,   2602.2,2,   1.8488,2,   1.84866,2,  34.6711,2,  34.6708,2,   146.41,2,   145.99,2,   123.78,2,     0.39,    36.00,2,     0.13,     0.01,2,     0.01,    2.540,2,    0.016,    0.003,2,    0.002,2,    0.000,2,   2316.2,2,   2403.1,6,   7.5788,  25,2,  -999.00,9,  -999.00,   -999.0,9,   -999.0,   1.6620,  27.7342
  49NZ20090410,   P21,    30,  1,     14, X12050,2,20090414,1951,-16.7532, -79.3358, 4462,   2801.7,2,   1.8061,2,   1.80626,2,  34.6765,2,  34.6760,2,   140.94,2,   141.29,2,   130.51,2,     0.41,    36.45,2,     0.13,     0.01,2,     0.01,    2.570,2,    0.016,    0.000,2,    0.000,2,    0.000,2,   2325.8,2,   2412.2,2,   7.5777,  25,6,  -999.00,9,  -999.00,   -999.0,9,   -999.0,   1.6015,  27.7431
  49NZ20090410,   P21,    30,  1,     13, X12013,7,20090414,1951,-16.7532, -79.3358, 4462,   3001.8,2,   1.7861,2,   1.78617,2,  34.6794,2,  34.6794,2,   138.39,2,   138.45,2,   134.90,2,     0.42,    36.64,2,     0.14,     0.01,2,     0.01,    2.587,2,    0.016,    0.003,2,    0.002,2,    0.000,2,   2332.1,2,   2418.7,2,   7.5777,  25,2,  -999.00,9,  -999.00,   -999.0,9,   -999.0,   1.5628,  27.7483
  49NZ20090410,   P21,    30,  1,     12, X12012,2,20090414,1951,-16.7532, -79.3358, 4462,   3252.5,2,   1.7840,2,   1.78412,2,  34.6818,2,  34.6808,6,   140.40,2,   140.40,2,   134.70,2,     0.42,    36.48,2,     0.13,     0.00,2,     0.01,    2.570,2,    0.016,    0.000,2,    0.000,2,    0.000,2,   2329.5,2,   2418.3,2,   7.5811,  25,2,  -999.00,9,  -999.00,   -999.0,9,   -999.0,   1.5360,  27.7522
  49NZ20090410,   P21,    30,  1,     11, X12041,2,20090414,1951,-16.7532, -79.3358, 4462,   3499.7,2,   1.7736,2,   1.77354,2,  34.6844,2,  34.6838,2,   143.34,2,   143.32,2,   133.48,2,     0.41,    36.25,2,     0.13,     0.01,2,     0.01,    2.550,2,    0.016,    0.000,2,    0.000,2,    0.000,2,   2325.4,2,   2418.7,2,   7.5834,  25,2,  -999.00,9,  -999.00,   -999.0,9,   -999.0,   1.5006,  27.7568
  49NZ20090410,   P21,    30,  1,     10, X12040,2,20090414,1951,-16.7532, -79.3358, 4462,   3751.3,2,   1.7608,2,   1.76084,2,  34.6873,2,  34.6866,2,   151.06,2,   151.09,2,   127.74,2,     0.40,    35.60,2,     0.13,     0.00,2,     0.01,    2.504,2,    0.016,    0.004,2,    0.000,2,    0.000,2,   2317.4,2,   2411.9,2,   7.5907,  25,2,  -999.00,9,  -999.00,   -999.0,9,   -999.0,   1.4616,  27.7620
  49NZ20090410,   P21,    30,  1,      9, X12009,2,20090414,1951,-16.7532, -79.3358, 4462,   4001.2,2,   1.7593,2,   1.75931,2,  34.6892,2,  34.6885,2,   154.69,2,   154.99,2,   125.39,2,     0.39,    35.34,2,     0.13,     0.01,2,     0.01,    2.482,2,    0.016,    0.001,2,    0.000,2,    0.000,2,   2315.5,2,   2408.9,2,   7.5938,  25,2,  -999.00,9,  -999.00,   -999.0,9,   -999.0,   1.4329,  27.7656
  49NZ20090410,   P21,    30,  1,      8, X12008,2,20090414,1951,-16.7532, -79.3358, 4462,   4247.7,2,   1.7672,2,   1.76719,2,  34.6902,2,  34.6904,2,   155.52,2,   155.74,2,   125.24,2,     0.39,    35.32,2,     0.13,     0.01,2,     0.01,    2.481,2,    0.016,    0.011,4,    0.007,4,    0.000,4,   2315.0,2,   2406.3,2,   7.5958,  25,2,  -999.00,9,  -999.00,   -999.0,9,   -999.0,   1.4130,  27.7679
  49NZ20090410,   P21,    30,  1,      7, X12007,9,20090414,1951,-16.7532, -79.3358, 4462,     10.5,2,  24.7173,2,  24.71406,2,  35.5733,2,-999.0000,9,   209.16,2,  -999.00,9,  -999.00,9,  -999.00,  -999.00,9,  -999.00,  -999.00,9,  -999.00, -999.000,9, -999.000, -999.000,9, -999.000,9, -999.000,9,   -999.0,9,   -999.0,9,-999.0000,-999,9,  -999.00,9,  -999.00,   -999.0,9,   -999.0,  24.7150,  23.8611
  49NZ20090410,   P21,    30,  1,      6, X12035,9,20090414,1951,-16.7532, -79.3358, 4462,     49.6,2,  19.8671,2,  19.92407,2,  35.1996,2,-999.0000,9,   250.93,2,  -999.00,9,  -999.00,9,  -999.00,  -999.00,9,  -999.00,  -999.00,9,  -999.00, -999.000,9, -999.000, -999.000,9, -999.000,9, -999.000,9,   -999.0,9,   -999.0,9,-999.0000,-999,9,  -999.00,9,  -999.00,   -999.0,9,   -999.0,  19.8580,  24.9514
  49NZ20090410,   P21,    30,  1,      5, X12038,9,20090414,1951,-16.7532, -79.3358, 4462,     99.4,2,  16.0149,2,  16.02074,2,  34.8718,2,-999.0000,9,   200.03,2,  -999.00,9,  -999.00,9,  -999.00,  -999.00,9,  -999.00,  -999.00,9,  -999.00, -999.000,9, -999.000, -999.000,9, -999.000,9, -999.000,9,   -999.0,9,   -999.0,9,-999.0000,-999,9,  -999.00,9,  -999.00,   -999.0,9,   -999.0,  15.9992,  25.6492
  49NZ20090410,   P21,    30,  1,      4, X12034,9,20090414,1951,-16.7532, -79.3358, 4462,    149.1,2,  13.2619,2,  13.25651,2,  34.7942,2,-999.0000,9,    11.25,2,  -999.00,9,  -999.00,9,  -999.00,  -999.00,9,  -999.00,  -999.00,9,  -999.00, -999.000,9, -999.000, -999.000,9, -999.000,9, -999.000,9,   -999.0,9,   -999.0,9,-999.0000,-999,9,  -999.00,9,  -999.00,   -999.0,9,   -999.0,  13.2412,  26.1848
  49NZ20090410,   P21,    30,  1,      3, X12033,9,20090414,1951,-16.7532, -79.3358, 4462,    199.9,2,  12.4768,2,  12.47600,2,  34.8536,2,-999.0000,9,     1.12,2,  -999.00,9,  -999.00,9,  -999.00,  -999.00,9,  -999.00,  -999.00,9,  -999.00, -999.000,9, -999.000, -999.000,9, -999.000,9, -999.000,9,   -999.0,9,   -999.0,9,-999.0000,-999,9,  -999.00,9,  -999.00,   -999.0,9,   -999.0,  12.4501,  26.3884
  49NZ20090410,   P21,    30,  1,      2, X12032,9,20090414,1951,-16.7532, -79.3358, 4462,    251.0,2,  11.5112,2,  11.51112,2,  34.7924,2,-999.0000,9,     1.22,2,  -999.00,9,  -999.00,9,  -999.00,  -999.00,9,  -999.00,  -999.00,9,  -999.00, -999.000,9, -999.000, -999.000,9, -999.000,9, -999.000,9,   -999.0,9,   -999.0,9,-999.0000,-999,9,  -999.00,9,  -999.00,   -999.0,9,   -999.0,  11.4793,  26.5259
  49NZ20090410,   P21,    30,  1,      1, X12046,2,20090414,1951,-16.7532, -79.3358, 4462,   4505.7,2,   1.7852,2,   1.78517,2,  34.6906,2,  34.6905,6,   155.02,2,   155.21,2,   126.05,2,     0.40,    35.30,2,     0.13,     0.00,2,     0.01,    2.481,2,    0.016, -999.000,5, -999.000,5, -999.000,5,   2314.2,2,   2407.4,2,   7.5930,  25,2,  -999.00,9,  -999.00,   -999.0,9,   -999.0,   1.4007,  27.7691