BOTTLE,20220818CCHSIOAMB
EXPOCODE,SECT_ID,STNNBR,CASTNO,SAMPNO,BTLNBR,BTLNBR_FLAG_W,DATE,TIME,LATITUDE,LONGITUDE,DEPTH,CTDPRS,CTDPRS_FLAG_W,CTDTMP,CTDTMP_FLAG_W,SBE35,SBE35_FLAG_W,CTDSAL,CTDSAL_FLAG_W,SALNTY,SALNTY_FLAG_W,CTDOXY,CTDOXY_FLAG_W,OXYGEN,OXYGEN_FLAG_W,SILCAT,SILCAT_FLAG_W,SILUNC,NITRAT,NITRAT_FLAG_W,NRAUNC,NITRIT,NITRIT_FLAG_W,NRIUNC,PHSPHT,PHSPHT_FLAG_W,PHPUNC,CFC-11,CFC-11_FLAG_W,CFC-12,CFC-12_FLAG_W,CFC113,CFC113_FLAG_W,TCARBN,TCARBN_FLAG_W,ALKALI,ALKALI_FLAG_W,PH_TOT,PH_TMP,PH_TOT_FLAG_W,DELC13,DELC13_FLAG_W,C13ERR,DELC14,DELC14_FLAG_W,C14ERR,THETA,SIG0
,,,,,,,,,,,METERS,DBAR,,ITS-90,,ITS-90,,PSS-78,,PSS-78,,UMOL/KG,,UMOL/KG,,UMOL/KG,,UMOL/KG,UMOL/KG,,UMOL/KG,UMOL/KG,,UMOL/KG,UMOL/KG,,UMOL/KG,PMOL/KG,,PMOL/KG,,PMOL/KG,,UMOL/KG,,UMOL/KG,,,DEG C,,/MILLE,,/MILLE,/MILLE,,/MILLE,DEG C,KG/M^3
  49NZ20090410,   P21,   X18,  1,     36, X12006,2,20090430,2317,-17.0045,-103.0003, 3895,      9.6,2,  24.7795,2,  24.78236,2,  36.0169,2,  36.0173,2,   210.50,2,   210.35,2,     0.59,2,     0.12,     0.07,2,     0.03,     0.02,2,     0.01,    0.368,2,    0.014,    1.663,2,    1.070,2, -999.000,5,   2054.6,2,   2381.4,2,   8.0692,  25,6,  -999.00,1,  -999.00,   -999.0,1,   -999.0,  24.7774,  24.1778
  49NZ20090410,   P21,   X18,  1,     35, X12047,2,20090430,2317,-17.0045,-103.0003, 3895,     49.6,2,  23.2438,2,  23.24292,2,  35.9358,2,  35.9187,2,   220.83,2,   223.25,2,     0.56,2,     0.12,     0.09,2,     0.03,     0.02,2,     0.01,    0.383,2,    0.013,    1.851,2,    1.179,2, -999.000,5,   2062.5,6,   2376.0,2,   8.0475,  25,2,  -999.00,1,  -999.00,   -999.0,1,   -999.0,  23.2336,  24.5757
  49NZ20090410,   P21,   X18,  1,     34, X12004,2,20090430,2317,-17.0045,-103.0003, 3895,     99.7,2,  21.0105,2,  21.00999,2,  35.7993,2,  35.7991,2,   206.04,2,   206.06,2,     0.43,2,     0.12,     0.38,2,     0.03,     1.37,2,     0.00,    0.525,2,    0.013,    1.973,6,    1.240,6, -999.000,5,   2088.3,2,   2367.0,6,   7.9961,  25,2,  -999.00,1,  -999.00,   -999.0,1,   -999.0,  20.9914,  25.1050
  49NZ20090410,   P21,   X18,  1,     33, X12003,2,20090430,2317,-17.0045,-103.0003, 3895,    150.3,2,  18.9639,2,  18.97295,2,  35.4774,2,  35.4827,2,   203.44,2,   203.50,2,     0.36,2,     0.12,     2.77,2,     0.04,     0.05,2,     0.01,    0.508,2,    0.013,    2.175,2,    1.352,2,    0.178,2,   2090.3,2,   2341.6,2,   7.9556,  25,6,  -999.00,1,  -999.00,   -999.0,1,   -999.0,  18.9371,  25.4022
  49NZ20090410,   P21,   X18,  1,     32, X12002,2,20090430,2317,-17.0045,-103.0003, 3895,    198.9,2,  17.5127,2,  17.51208,2,  35.1927,2,  35.1846,2,   192.79,2,   192.96,2,     1.11,2,     0.12,     6.82,2,     0.05,     0.03,2,     0.01,    0.793,2,    0.013,    2.337,2,    1.431,2,    0.135,2,   2105.7,2,   2323.3,2,   7.8938,  25,2,  -999.00,1,  -999.00,   -999.0,1,   -999.0,  17.4791,  25.5471
  49NZ20090410,   P21,   X18,  1,     31, X12001,2,20090430,2317,-17.0045,-103.0003, 3895,    249.2,2,  13.0509,2,  13.06239,2,  34.5972,2,  34.5892,6,   136.01,2,   133.21,2,     6.14,2,     0.13,    16.36,2,     0.08,     0.02,2,     0.01,    1.542,2,    0.014,    2.436,2,    1.397,2,    0.063,2,   2156.1,2,   2282.0,2,   7.6998,  25,2,  -999.00,1,  -999.00,   -999.0,1,   -999.0,  13.0166,  26.0775
  49NZ20090410,   P21,   X18,  1,     30, X12030,2,20090430,2317,-17.0045,-103.0003, 3895,    278.7,2,  11.8695,2,  11.86989,2,  34.5805,2,  34.5829,2,    59.15,2,    57.91,2,    14.90,2,     0.15,    22.13,2,     0.09,     0.02,2,     0.01,    2.292,2,    0.016,    1.759,2,    0.973,2,    0.043,2,   2225.1,2,   2282.7,2,   7.5116,  25,2,  -999.00,1,  -999.00,   -999.0,1,   -999.0,  11.8334,  26.2948
  49NZ20090410,   P21,   X18,  1,     29, X12044,2,20090430,2317,-17.0045,-103.0003, 3895,    369.6,2,   9.7015,2,   9.69819,2,  34.6234,2,  34.6220,2,    14.96,2,    14.18,2,    24.73,2,     0.17,    33.25,2,     0.13,     0.02,2,     0.01,    2.778,2,    0.017,    0.468,2,    0.243,2,    0.009,2,   2272.6,2,   2290.3,2,   7.3892,  25,2,  -999.00,1,  -999.00,   -999.0,1,   -999.0,   9.6592,  26.7154
  49NZ20090410,   P21,   X18,  1,     28, X12048,2,20090430,2317,-17.0045,-103.0003, 3895,    469.8,2,   7.8799,2,   7.88083,2,  34.5441,2,  34.5433,6,    37.16,2,    36.94,2,    29.00,2,     0.18,    38.52,2,     0.14,     0.02,2,     0.01,    2.809,2,    0.017,    0.218,2,    0.112,2,    0.005,2,   2269.1,2,   2293.4,2,   7.4102,  25,2,  -999.00,1,  -999.00,   -999.0,1,   -999.0,   7.8323,  26.9407
  49NZ20090410,   P21,   X18,  1,     27, X12027,2,20090430,2317,-17.0045,-103.0003, 3895,    571.7,2,   6.8037,2,   6.80395,2,  34.5169,2,  34.5153,2,    50.73,2,    51.32,2,    35.63,2,     0.20,    40.28,2,     0.15,     0.01,2,     0.01,    2.854,2,    0.017,    0.055,6,    0.032,6,    0.000,6,   2269.8,2,   2299.0,2,   7.4294,  25,2,  -999.00,1,  -999.00,   -999.0,1,   -999.0,   6.7500,  27.0724
  49NZ20090410,   P21,   X18,  1,     26, X12026,2,20090430,2317,-17.0045,-103.0003, 3895,    669.4,2,   6.1463,2,   6.14804,2,  34.5068,2,  34.5068,2,    52.41,2,    52.30,2,    43.29,2,     0.21,    41.71,2,     0.15,     0.01,2,     0.01,    2.941,2,    0.017,    0.014,2,    0.008,2,    0.000,2,   2279.0,6,   2306.3,2,   7.4245,  25,2,  -999.00,1,  -999.00,   -999.0,1,   -999.0,   6.0863,  27.1519
  49NZ20090410,   P21,   X18,  1,     25, X12025,2,20090430,2317,-17.0045,-103.0003, 3895,    768.5,2,   5.4624,2,   5.46782,2,  34.5009,2,  34.5007,2,    50.76,2,    50.67,2,    52.83,2,     0.24,    43.18,2,     0.15,     0.01,2,     0.01,    3.063,2,    0.018,    0.005,2,    0.001,2,    0.000,2,   2292.2,2,   2316.0,6,   7.4120,  25,2,  -999.00,1,  -999.00,   -999.0,1,   -999.0,   5.3969,  27.2328
  49NZ20090410,   P21,   X18,  1,     24, X12024,2,20090430,2317,-17.0045,-103.0003, 3895,    870.5,2,   4.9944,2,   4.99424,2,  34.5066,2,  34.5068,2,    55.49,2,    55.56,2,    61.33,2,     0.25,    43.22,2,     0.15,     0.01,2,     0.01,    3.096,2,    0.018,    0.003,2,    0.001,2,    0.000,2,   2299.2,2,   2325.6,2,   7.4167,  25,6,  -999.00,1,  -999.00,   -999.0,1,   -999.0,   4.9227,  27.2930
  49NZ20090410,   P21,   X18,  1,     23, X12028,2,20090430,2317,-17.0045,-103.0003, 3895,    969.2,2,   4.5279,2,   4.52764,2,  34.5156,2,  34.5157,6,    67.22,2,    67.22,2,    69.60,2,     0.27,    42.60,2,     0.15,     0.01,2,     0.01,    3.050,2,    0.018,    0.000,2,    0.000,2,    0.003,2,   2302.0,2,   2335.5,2,   7.4380,  25,2,  -999.00,1,  -999.00,   -999.0,1,   -999.0,   4.4508,  27.3528
  49NZ20090410,   P21,   X18,  1,     22, X12022,2,20090430,2317,-17.0045,-103.0003, 3895,   1129.3,2,   3.8698,2,   3.86988,2,  34.5421,2,  34.5425,2,    77.19,2,    77.34,2,    84.65,2,     0.31,    41.81,2,     0.15,     0.01,2,     0.01,    3.022,2,    0.018,    0.002,2,    0.003,2,    0.000,2,   2312.9,2,   2352.8,2,   7.4540,  25,2,  -999.00,1,  -999.00,   -999.0,1,   -999.0,   3.7843,  27.4440
  49NZ20090410,   P21,   X18,  1,     21, X12021,2,20090430,2317,-17.0045,-103.0003, 3895,   1329.5,2,   3.3404,2,   3.34056,2,  34.5688,2,  34.5688,2,    86.38,2,    87.57,2,    97.55,2,     0.33,    41.13,2,     0.15,     0.01,2,     0.01,    2.977,2,    0.017,    0.000,2,    0.001,2,    0.000,2,   2321.8,2,   2367.5,2,   7.4694,  25,2,  -999.00,1,  -999.00,   -999.0,1,   -999.0,   3.2431,  27.5183
  49NZ20090410,   P21,   X18,  1,     20, X12020,2,20090430,2317,-17.0045,-103.0003, 3895,   1529.6,2,   2.9303,2,   2.93039,2,  34.5924,2,  34.5927,2,    96.03,2,    96.01,2,   107.34,2,     0.36,    40.33,2,     0.15,     0.01,2,     0.01,    2.908,2,    0.017,    0.000,2,    0.002,2,    0.000,2,   2327.1,2,   2378.4,2,   7.4880,  25,6,  -999.00,1,  -999.00,   -999.0,1,   -999.0,   2.8208,  27.5760
  49NZ20090410,   P21,   X18,  1,     19, X12019,2,20090430,2317,-17.0045,-103.0003, 3895,   1730.3,2,   2.6140,2,   2.61404,2,  34.6132,2,  34.6138,2,   105.27,2,   105.28,2,   115.10,2,     0.37,    39.45,2,     0.14,     0.01,2,     0.01,    2.839,2,    0.017,    0.000,2,    0.000,2,    0.000,2,   2330.6,2,   2389.2,2,   7.5063,  25,2,  -999.00,1,  -999.00,   -999.0,1,   -999.0,   2.4915,  27.6213
  49NZ20090410,   P21,   X18,  1,     18, X12043,2,20090430,2317,-17.0045,-103.0003, 3895,   1929.4,2,   2.3151,2,   2.31500,2,  34.6318,2,  34.6328,6,   121.28,2,   121.53,2,   118.61,2,     0.38,    38.19,2,     0.14,     0.01,2,     0.01,    2.730,2,    0.017,    0.000,2,    0.001,2,    0.000,2,   2325.3,2,   2393.5,2,   7.5349,  25,2,  -999.00,1,  -999.00,   -999.0,1,   -999.0,   2.1799,  27.6623
  49NZ20090410,   P21,   X18,  1,     17, X12042,2,20090430,2317,-17.0045,-103.0003, 3895,   2131.4,2,   2.0635,2,   2.06342,2,  34.6480,2,  34.6487,2,   139.42,2,   139.41,2,   118.17,2,     0.38,    36.78,2,     0.14,     0.01,2,     0.01,    2.598,2,    0.016, -999.000,9, -999.000,9, -999.000,9,   2314.9,2,   2393.6,2,   7.5642,  25,2,  -999.00,1,  -999.00,   -999.0,1,   -999.0,   1.9148,  27.6964
  49NZ20090410,   P21,   X18,  1,     16, X12016,2,20090430,2317,-17.0045,-103.0003, 3895,   2329.1,2,   1.9351,2,   1.93514,2,  34.6592,2,  34.6604,2,   148.61,2,   148.63,2,   118.41,2,     0.38,    35.92,2,     0.13,     0.01,2,     0.01,    2.518,2,    0.016, -999.000,9, -999.000,9, -999.000,9,   2311.1,6,   2396.0,2,   7.5796,  25,2,  -999.00,1,  -999.00,   -999.0,1,   -999.0,   1.7713,  27.7165
  49NZ20090410,   P21,   X18,  1,     15, X12015,2,20090430,2317,-17.0045,-103.0003, 3895,   2531.8,2,   1.8596,2,   1.85962,2,  34.6681,2,  34.6683,2,   152.53,2,   152.45,2,   119.87,2,     0.38,    35.57,2,     0.13,     0.01,2,     0.01,    2.502,2,    0.016,    0.001,2,    0.000,2,    0.000,2,   2310.2,2,   2397.5,6,   7.5870,  25,2,  -999.00,1,  -999.00,   -999.0,1,   -999.0,   1.6790,  27.7305
  49NZ20090410,   P21,   X18,  1,     14, X12050,2,20090430,2317,-17.0045,-103.0003, 3895,   2729.4,2,   1.8183,2,   1.81825,2,  34.6746,2,  34.6756,2,   152.22,2,   152.20,2,   122.75,2,     0.39,    35.72,2,     0.13,     0.01,2,     0.01,    2.503,2,    0.016, -999.000,9, -999.000,9, -999.000,9,   2314.9,2,   2403.7,2,   7.5902,  25,2,  -999.00,1,  -999.00,   -999.0,1,   -999.0,   1.6203,  27.7402
  49NZ20090410,   P21,   X18,  1,     13, X12013,7,20090430,2317,-17.0045,-103.0003, 3895,   2930.2,2,   1.8024,2,   1.80228,2,  34.6789,2,  34.6800,6,   149.17,2,   149.14,2,   126.95,2,     0.40,    35.88,2,     0.13,     0.01,2,     0.01,    2.525,2,    0.016, -999.000,9, -999.000,9, -999.000,9,   2320.8,2,   2411.5,2,   7.5927,  25,2,  -999.00,1,  -999.00,   -999.0,1,   -999.0,   1.5857,  27.7462
  49NZ20090410,   P21,   X18,  1,     12, X12012,2,20090430,2317,-17.0045,-103.0003, 3895,   3169.0,2,   1.7949,2,   1.79495,2,  34.6810,2,  34.6814,2,   146.21,2,   146.28,2,   130.87,2,     0.41,    36.30,2,     0.13,     0.01,2,     0.01,    2.548,2,    0.016,    0.000,2,    0.000,2,    0.000,2,   2327.9,2,   2413.4,2,   7.5911,  25,2,  -999.00,1,  -999.00,   -999.0,1,   -999.0,   1.5550,  27.7501
  49NZ20090410,   P21,   X18,  1,     11, X12041,2,20090430,2317,-17.0045,-103.0003, 3895,   3419.6,2,   1.7990,2,   1.79884,2,  34.6836,2,  34.6838,2,   147.70,2,   147.77,2,   129.62,2,     0.40,    36.19,2,     0.13,     0.01,2,     0.01,    2.536,2,    0.016,    0.000,2,    0.000,2,    0.000,2,   2327.6,2,   2415.7,2,   7.5932,  25,2,  -999.00,1,  -999.00,   -999.0,1,   -999.0,   1.5337,  27.7538
  49NZ20090410,   P21,   X18,  1,     10, X12040,2,20090430,2317,-17.0045,-103.0003, 3895,   3669.1,2,   1.8109,2,   1.81096,2,  34.6853,2,  34.6856,2,   148.83,2,   148.87,2,   128.70,2,     0.40,    35.95,2,     0.13,     0.01,2,     0.01,    2.528,2,    0.016,    0.001,2,    0.001,2,    0.000,2,   2326.7,2,   2416.0,2,   7.5940,  25,2,  -999.00,1,  -999.00,   -999.0,1,   -999.0,   1.5191,  27.7563
  49NZ20090410,   P21,   X18,  1,      9, X12009,2,20090430,2317,-17.0045,-103.0003, 3895,   3918.8,2,   1.8334,2,   1.83344,2,  34.6859,2,  34.6859,2,   149.11,2,   149.13,2,   128.50,2,     0.40,    35.95,2,     0.13,     0.01,2,     0.01,    2.528,2,    0.016,    0.000,2,    0.000,2,    0.000,2,   2326.8,2,   2415.7,2,   7.5947,  25,2,  -999.00,1,  -999.00,   -999.0,1,   -999.0,   1.5141,  27.7571
  49NZ20090410,   P21,   X18,  1,      8, X12008,9,20090430,2317,-17.0045,-103.0003, 3895,      9.6,2,  24.8126,2,  24.81324,2,  36.0170,2,-999.0000,9,   210.47,2,  -999.00,9,  -999.00,9,  -999.00,  -999.00,9,  -999.00,  -999.00,9,  -999.00, -999.000,9, -999.000, -999.000,9, -999.000,9, -999.000,9,   -999.0,9,   -999.0,9,-999.0000,-999,9,  -999.00,9,  -999.00,   -999.0,9,   -999.0,  24.8105,  24.1678
  49NZ20090410,   P21,   X18,  1,      7, X12007,9,20090430,2317,-17.0045,-103.0003, 3895,     49.5,2,  23.4286,2,  23.42284,2,  35.9370,2,-999.0000,9,   219.58,2,  -999.00,9,  -999.00,9,  -999.00,  -999.00,9,  -999.00,  -999.00,9,  -999.00, -999.000,9, -999.000, -999.000,9, -999.000,9, -999.000,9,   -999.0,9,   -999.0,9,-999.0000,-999,9,  -999.00,9,  -999.00,   -999.0,9,   -999.0,  23.4183,  24.5227
  49NZ20090410,   P21,   X18,  1,      6, X12035,9,20090430,2317,-17.0045,-103.0003, 3895,     99.6,2,  21.0097,2,  21.00943,2,  35.7995,2,-999.0000,9,   206.10,2,  -999.00,9,  -999.00,9,  -999.00,  -999.00,9,  -999.00,  -999.00,9,  -999.00, -999.000,9, -999.000, -999.000,9, -999.000,9, -999.000,9,   -999.0,9,   -999.0,9,-999.0000,-999,9,  -999.00,9,  -999.00,   -999.0,9,   -999.0,  20.9906,  25.1053
  49NZ20090410,   P21,   X18,  1,      5, X12038,9,20090430,2317,-17.0045,-103.0003, 3895,   2329.9,2,   1.9350,2,   1.93491,2,  34.6593,2,-999.0000,9,   148.59,2,  -999.00,9,  -999.00,9,  -999.00,  -999.00,9,  -999.00,  -999.00,9,  -999.00, -999.000,9, -999.000, -999.000,9, -999.000,9, -999.000,9,   -999.0,9,   -999.0,9,-999.0000,-999,9,  -999.00,9,  -999.00,   -999.0,9,   -999.0,   1.7711,  27.7165
  49NZ20090410,   P21,   X18,  1,      4, X12034,9,20090430,2317,-17.0045,-103.0003, 3895,   2532.2,2,   1.8593,2,   1.85929,2,  34.6681,2,-999.0000,9,   152.59,2,  -999.00,9,  -999.00,9,  -999.00,  -999.00,9,  -999.00,  -999.00,9,  -999.00, -999.000,9, -999.000, -999.000,9, -999.000,9, -999.000,9,   -999.0,9,   -999.0,9,-999.0000,-999,9,  -999.00,9,  -999.00,   -999.0,9,   -999.0,   1.6787,  27.7306
  49NZ20090410,   P21,   X18,  1,      3, X12033,9,20090430,2317,-17.0045,-103.0003, 3895,   2729.7,2,   1.8182,2,   1.81808,2,  34.6746,2,-999.0000,9,   152.24,2,  -999.00,9,  -999.00,9,  -999.00,  -999.00,9,  -999.00,  -999.00,9,  -999.00, -999.000,9, -999.000, -999.000,9, -999.000,9, -999.000,9,   -999.0,9,   -999.0,9,-999.0000,-999,9,  -999.00,9,  -999.00,   -999.0,9,   -999.0,   1.6202,  27.7402
  49NZ20090410,   P21,   X18,  1,      2, X12032,9,20090430,2317,-17.0045,-103.0003, 3895,   2930.1,2,   1.8023,2,   1.80227,2,  34.6790,2,-999.0000,9,   149.17,2,  -999.00,9,  -999.00,9,  -999.00,  -999.00,9,  -999.00,  -999.00,9,  -999.00, -999.000,9, -999.000, -999.000,9, -999.000,9, -999.000,9,   -999.0,9,   -999.0,9,-999.0000,-999,9,  -999.00,9,  -999.00,   -999.0,9,   -999.0,   1.5856,  27.7463
  49NZ20090410,   P21,   X18,  1,      1, X12046,2,20090430,2317,-17.0045,-103.0003, 3895,   3970.9,2,   1.8337,2,   1.83391,2,  34.6862,2,  34.6864,6,   149.21,2,   149.18,2,   128.37,2,     0.40,    35.98,2,     0.13,     0.01,2,     0.01,    2.529,2,    0.016,    0.000,2,    0.002,2,    0.000,2,   2325.8,2,   2415.6,2,   7.5942,  25,2,  -999.00,1,  -999.00,   -999.0,1,   -999.0,   1.5086,  27.7577