BOTTLE,20220818CCHSIOAMB
EXPOCODE,SECT_ID,STNNBR,CASTNO,SAMPNO,BTLNBR,BTLNBR_FLAG_W,DATE,TIME,LATITUDE,LONGITUDE,DEPTH,CTDPRS,CTDPRS_FLAG_W,CTDTMP,CTDTMP_FLAG_W,SBE35,SBE35_FLAG_W,CTDSAL,CTDSAL_FLAG_W,SALNTY,SALNTY_FLAG_W,CTDOXY,CTDOXY_FLAG_W,OXYGEN,OXYGEN_FLAG_W,SILCAT,SILCAT_FLAG_W,SILUNC,NITRAT,NITRAT_FLAG_W,NRAUNC,NITRIT,NITRIT_FLAG_W,NRIUNC,PHSPHT,PHSPHT_FLAG_W,PHPUNC,CFC-11,CFC-11_FLAG_W,CFC-12,CFC-12_FLAG_W,CFC113,CFC113_FLAG_W,TCARBN,TCARBN_FLAG_W,ALKALI,ALKALI_FLAG_W,PH_TOT,PH_TMP,PH_TOT_FLAG_W,DELC13,DELC13_FLAG_W,C13ERR,DELC14,DELC14_FLAG_W,C14ERR,THETA,SIG0
,,,,,,,,,,,METERS,DBAR,,ITS-90,,ITS-90,,PSS-78,,PSS-78,,UMOL/KG,,UMOL/KG,,UMOL/KG,,UMOL/KG,UMOL/KG,,UMOL/KG,UMOL/KG,,UMOL/KG,UMOL/KG,,UMOL/KG,PMOL/KG,,PMOL/KG,,PMOL/KG,,UMOL/KG,,UMOL/KG,,,DEG C,,/MILLE,,/MILLE,/MILLE,,/MILLE,DEG C,KG/M^3
  49NZ20090410,   P21,   100,  1,     36, X12006,2,20090505,0821,-16.7523,-113.3403, 3004,      9.6,2,  25.5287,2,  25.52776,2,  36.3082,2,  36.3065,2,   205.71,2,   205.75,2,     0.58,2,     0.12,     0.09,2,     0.03,     0.01,2,     0.01,    0.345,2,    0.014,    1.584,2, -999.000,5, -999.000,5,   2055.4,2,   2399.7,2,   8.0917,  25,6,  -999.00,1,  -999.00,   -999.0,1,   -999.0,  25.5266,  24.1683
  49NZ20090410,   P21,   100,  1,     35, X12047,2,20090505,0821,-16.7523,-113.3403, 3004,     49.8,2,  25.5082,2,  25.50745,2,  36.3080,2,  36.3077,2,   205.28,2,   205.99,2,     0.60,2,     0.12,     0.08,2,     0.03,     0.01,2,     0.01,    0.339,2,    0.014, -999.000,5, -999.000,5, -999.000,5,   2056.6,6,   2398.4,2,   8.0898,  25,2,  -999.00,1,  -999.00,   -999.0,1,   -999.0,  25.4972,  24.1772
  49NZ20090410,   P21,   100,  1,     34, X12004,2,20090505,0821,-16.7523,-113.3403, 3004,    100.0,2,  22.4787,2,  22.48311,2,  36.2148,2,  36.2119,2,   212.89,2,   213.45,2,     0.39,2,     0.12,     0.09,2,     0.03,     0.03,2,     0.01,    0.307,2,    0.014,    1.883,6,    1.205,6, -999.000,5,   2084.3,2,   2388.9,6,   8.0328,  25,2,  -999.00,1,  -999.00,   -999.0,1,   -999.0,  22.4585,  25.0111
  49NZ20090410,   P21,   100,  1,     33, X12003,2,20090505,0821,-16.7523,-113.3403, 3004,    150.3,2,  20.8293,2,  20.83032,2,  35.9401,2,  35.9464,2,   205.38,2,   204.95,2,     0.40,2,     0.12,     0.84,2,     0.04,     0.42,2,     0.00,    0.362,2,    0.014,    2.031,2,    1.288,2, -999.000,5,   2088.7,2,   2369.8,2,   7.9980,  25,6,  -999.00,1,  -999.00,   -999.0,1,   -999.0,  20.8006,  25.2642
  49NZ20090410,   P21,   100,  1,     32, X12002,2,20090505,0821,-16.7523,-113.3403, 3004,    199.0,2,  19.0210,2,  19.02015,2,  35.5498,2,  35.5496,2,   201.18,2,   201.54,2,     0.50,2,     0.12,     2.76,2,     0.04,     0.03,2,     0.01,    0.470,2,    0.013,    2.218,2,    1.390,2,    0.179,2,   2090.8,2,   2344.9,2,   7.9588,  25,2,  -999.00,1,  -999.00,   -999.0,1,   -999.0,  18.9854,  25.4452
  49NZ20090410,   P21,   100,  1,     31, X12001,2,20090505,0821,-16.7523,-113.3403, 3004,    251.5,2,  15.9053,2,  15.90231,2,  35.0082,2,  35.0126,6,   188.13,2,   188.65,2,     1.31,2,     0.12,     6.98,2,     0.05,     0.02,2,     0.01,    0.721,2,    0.013,    2.516,2,    1.519,2,    0.102,2,   2098.0,2,   2308.6,2,   7.8863,  25,2,  -999.00,1,  -999.00,   -999.0,1,   -999.0,  15.8656,  25.7846
  49NZ20090410,   P21,   100,  1,     30, X12030,2,20090505,0821,-16.7523,-113.3403, 3004,    302.2,2,  12.2518,2,  12.23526,2,  34.5443,2,  34.5538,2,   143.62,2,   142.83,2,     5.85,2,     0.13,    16.04,2,     0.08,     0.01,2,     0.01,    1.446,2,    0.014,    2.514,2,    1.426,2,    0.076,2,   2148.8,2,   2280.7,2,   7.7173,  25,2,  -999.00,1,  -999.00,   -999.0,1,   -999.0,  12.2119,  26.1946
  49NZ20090410,   P21,   100,  1,     29, X12044,2,20090505,0821,-16.7523,-113.3403, 3004,    400.1,2,   9.0825,2,   9.08515,2,  34.5063,2,  34.5059,2,    65.76,2,    65.88,2,    18.78,2,     0.16,    30.93,2,     0.12,     0.01,2,     0.01,    2.470,2,    0.016,    0.825,2,    0.430,2,    0.018,2,   2238.2,2,   2283.9,2,   7.4779,  25,2,  -999.00,1,  -999.00,   -999.0,1,   -999.0,   9.0386,  26.7253
  49NZ20090410,   P21,   100,  1,     28, X12048,2,20090505,0821,-16.7523,-113.3403, 3004,    500.8,2,   7.1011,2,   7.10125,2,  34.4786,2,  34.4780,6,    82.90,2,    82.93,2,    26.48,2,     0.18,    36.32,2,     0.13,     0.01,2,     0.01,    2.567,2,    0.016,    0.249,2,    0.133,2,    0.017,2,   2243.9,2,   2291.8,2,   7.4853,  25,2,  -999.00,1,  -999.00,   -999.0,1,   -999.0,   7.0532,  27.0007
  49NZ20090410,   P21,   100,  1,     27, X12027,2,20090505,0821,-16.7523,-113.3403, 3004,    600.0,2,   6.4092,2,   6.40883,2,  34.4936,2,  34.4929,2,    73.31,2,    73.42,2,    36.05,2,     0.20,    38.94,2,     0.14,     0.01,2,     0.01,    2.727,2,    0.017,    0.051,6,    0.028,6,    0.000,6,   2258.7,2,   2301.6,2,   7.4674,  25,2,  -999.00,1,  -999.00,   -999.0,1,   -999.0,   6.3545,  27.1068
  49NZ20090410,   P21,   100,  1,     26, X12026,2,20090505,0821,-16.7523,-113.3403, 3004,    700.1,2,   5.7990,2,   5.79872,2,  34.4906,2,  34.4903,2,    72.86,2,    73.12,2,    44.04,2,     0.22,    40.28,2,     0.15,     0.01,2,     0.01,    2.822,2,    0.017,    0.010,2,    0.006,2,    0.000,2,   2269.2,6,   2310.6,2,   7.4594,  25,2,  -999.00,1,  -999.00,   -999.0,1,   -999.0,   5.7379,  27.1830
  49NZ20090410,   P21,   100,  1,     25, X12025,2,20090505,0821,-16.7523,-113.3403, 3004,    799.2,2,   5.2604,2,   5.26041,2,  34.4981,2,  34.4977,2,    73.90,2,    73.46,2,    53.48,2,     0.24,    41.09,2,     0.15,     0.01,2,     0.01,    2.900,2,    0.017,    0.004,2,    0.002,2,    0.000,2,   2279.9,2,   2320.3,6,   7.4575,  25,2,  -999.00,1,  -999.00,   -999.0,1,   -999.0,   5.1934,  27.2548
  49NZ20090410,   P21,   100,  1,     24, X12024,2,20090505,0821,-16.7523,-113.3403, 3004,    900.9,2,   4.8456,2,   4.84511,2,  34.5048,2,  34.5068,2,    77.77,2,    77.45,2,    60.96,2,     0.25,    41.18,2,     0.15,     0.01,2,     0.01,    2.918,2,    0.017,    0.003,2,    0.001,2,    0.000,2,   2286.8,2,   2328.9,2,   7.4612,  25,6,  -999.00,1,  -999.00,   -999.0,1,   -999.0,   4.7722,  27.3086
  49NZ20090410,   P21,   100,  1,     23, X12028,2,20090505,0821,-16.7523,-113.3403, 3004,   1001.6,2,   4.3511,2,   4.35048,2,  34.5206,2,  34.5199,6,    79.87,2,    79.68,2,    71.71,2,     0.28,    41.28,2,     0.15,     0.01,2,     0.01,    2.945,2,    0.017,    0.000,2,    0.000,2,    0.000,2,   2297.8,2,   2339.9,2,   7.4622,  25,2,  -999.00,1,  -999.00,   -999.0,1,   -999.0,   4.2726,  27.3761
  49NZ20090410,   P21,   100,  1,     22, X12022,2,20090505,0821,-16.7523,-113.3403, 3004,   1199.1,2,   3.7255,2,   3.72546,2,  34.5495,2,  34.5492,2,    82.24,2,    82.00,2,    87.48,2,     0.31,    41.37,2,     0.15,     0.01,2,     0.01,    2.973,2,    0.017,    0.000,2,    0.000,2,    0.000,2,   2315.1,2,   2358.0,2,   7.4646,  25,2,  -999.00,1,  -999.00,   -999.0,1,   -999.0,   3.6354,  27.4648
  49NZ20090410,   P21,   100,  1,     21, X12021,2,20090505,0821,-16.7523,-113.3403, 3004,   1398.5,2,   3.1567,2,   3.15719,2,  34.5788,2,  34.5787,2,    94.66,2,    94.47,2,   100.74,2,     0.34,    40.34,2,     0.15,     0.01,2,     0.01,    2.905,2,    0.017,    0.001,2,    0.000,2,    0.000,2,   2321.7,2,   2373.1,2,   7.4861,  25,2,  -999.00,1,  -999.00,   -999.0,1,   -999.0,   3.0556,  27.5437
  49NZ20090410,   P21,   100,  1,     20, X12020,2,20090505,0821,-16.7523,-113.3403, 3004,   1600.3,2,   2.7404,2,   2.74035,2,  34.6016,2,  34.6013,2,   107.57,2,   107.59,2,   108.83,2,     0.36,    39.26,2,     0.14,     0.01,2,     0.01,    2.808,2,    0.017,    0.000,2,    0.000,2,    0.000,2,   2324.3,2,   2383.1,2,   7.5094,  25,2,  -999.00,1,  -999.00,   -999.0,1,   -999.0,   2.6272,  27.6004
  49NZ20090410,   P21,   100,  1,     19, X12019,2,20090505,0821,-16.7523,-113.3403, 3004,   1801.1,2,   2.3911,2,   2.39117,2,  34.6183,2,  34.6178,6,   128.92,2,   128.76,2,   110.59,2,     0.36,    37.50,2,     0.14,     0.01,2,     0.01,    2.668,2,    0.017,    0.000,2,    0.000,2,    0.000,2,   2313.6,2,   2385.0,2,   7.5437,  25,2,  -999.00,1,  -999.00,   -999.0,1,   -999.0,   2.2657,  27.6444
  49NZ20090410,   P21,   100,  1,     18, X12043,2,20090505,0821,-16.7523,-113.3403, 3004,   1999.4,2,   2.0843,2,   2.08403,2,  34.6399,2,  34.6397,2,   147.55,2,   147.35,2,   112.26,2,     0.37,    36.06,2,     0.13,     0.01,2,     0.01,    2.534,2,    0.016,    0.000,2,    0.001,2,    0.000,2,   2305.0,2,   2387.9,2,   7.5758,  25,2,  -999.00,1,  -999.00,   -999.0,1,   -999.0,   1.9466,  27.6874
  49NZ20090410,   P21,   100,  1,     17, X12042,2,20090505,0821,-16.7523,-113.3403, 3004,   2201.4,2,   1.9380,2,   1.93791,2,  34.6553,2,  34.6552,2,   154.11,2,   154.06,2,   114.68,2,     0.37,    35.52,2,     0.13,     0.01,2,     0.01,    2.493,2,    0.016,    0.000,2,    0.000,2,    0.000,2,   2303.3,2,   2391.5,2,   7.5859,  25,2,  -999.00,1,  -999.00,   -999.0,1,   -999.0,   1.7853,  27.7123
  49NZ20090410,   P21,   100,  1,     16, X12016,2,20090505,0821,-16.7523,-113.3403, 3004,   2400.7,2,   1.8579,2,   1.85784,2,  34.6673,2,  34.6673,6,   155.24,2,   155.14,2,   118.68,2,     0.38,    35.35,2,     0.13,     0.01,2,     0.01,    2.479,2,    0.016,    0.000,2,    0.000,2,    0.000,2,   2307.9,6,   2397.1,2,   7.5910,  25,2,  -999.00,1,  -999.00,   -999.0,1,   -999.0,   1.6891,  27.7292
  49NZ20090410,   P21,   100,  1,     15, X12015,2,20090505,0821,-16.7523,-113.3403, 3004,   2600.5,2,   1.8466,2,   1.84652,2,  34.6742,2,  34.6740,2,   152.67,2,   152.68,2,   122.77,2,     0.39,    35.53,2,     0.13,     0.01,2,     0.01,    2.497,2,    0.016,    0.000,2,    0.000,2,    0.000,2,   2314.1,2,   2403.6,6,   7.5927,  25,2,  -999.00,1,  -999.00,   -999.0,1,   -999.0,   1.6599,  27.7369
  49NZ20090410,   P21,   100,  1,     14, X12050,2,20090505,0821,-16.7523,-113.3403, 3004,   2799.7,2,   1.8547,2,   1.85473,2,  34.6757,2,  34.6755,2,   151.64,2,   151.64,2,   124.27,2,     0.39,    35.59,2,     0.13,     0.01,2,     0.01,    2.515,2,    0.016,    0.001,2,    0.000,2,    0.000,2,   2316.5,2,   2407.2,2,   7.5957,  25,6,  -999.00,1,  -999.00,   -999.0,1,   -999.0,   1.6493,  27.7389
  49NZ20090410,   P21,   100,  1,     13, X12013,9,20090505,0821,-16.7523,-113.3403, 3004,      9.7,2,  25.5285,2,  25.52763,2,  36.3083,2,-999.0000,9,   205.74,2,  -999.00,9,  -999.00,9,  -999.00,  -999.00,9,  -999.00,  -999.00,9,  -999.00, -999.000,9, -999.000, -999.000,9, -999.000,9, -999.000,9,   -999.0,9,   -999.0,9,-999.0000,-999,9,  -999.00,9,  -999.00,   -999.0,9,   -999.0,  25.5264,  24.1684
  49NZ20090410,   P21,   100,  1,     12, X12012,9,20090505,0821,-16.7523,-113.3403, 3004,     49.5,2,  25.5043,2,  25.50546,2,  36.3088,2,-999.0000,9,   205.30,2,  -999.00,9,  -999.00,9,  -999.00,  -999.00,9,  -999.00,  -999.00,9,  -999.00, -999.000,9, -999.000, -999.000,9, -999.000,9, -999.000,9,   -999.0,9,   -999.0,9,-999.0000,-999,9,  -999.00,9,  -999.00,   -999.0,9,   -999.0,  25.4934,  24.1790
  49NZ20090410,   P21,   100,  1,     11, X12041,9,20090505,0821,-16.7523,-113.3403, 3004,    100.4,2,  22.4931,2,  22.49281,2,  36.2162,2,-999.0000,9,   213.19,2,  -999.00,9,  -999.00,9,  -999.00,  -999.00,9,  -999.00,  -999.00,9,  -999.00, -999.000,9, -999.000, -999.000,9, -999.000,9, -999.000,9,   -999.0,9,   -999.0,9,-999.0000,-999,9,  -999.00,9,  -999.00,   -999.0,9,   -999.0,  22.4728,  25.0081
  49NZ20090410,   P21,   100,  1,     10, X12040,9,20090505,0821,-16.7523,-113.3403, 3004,    149.7,2,  20.8524,2,  20.84934,2,  35.9452,2,-999.0000,9,   205.04,2,  -999.00,9,  -999.00,9,  -999.00,  -999.00,9,  -999.00,  -999.00,9,  -999.00, -999.000,9, -999.000, -999.000,9, -999.000,9, -999.000,9,   -999.0,9,   -999.0,9,-999.0000,-999,9,  -999.00,9,  -999.00,   -999.0,9,   -999.0,  20.8238,  25.2617
  49NZ20090410,   P21,   100,  1,      9, X12009,9,20090505,0821,-16.7523,-113.3403, 3004,    199.3,2,  19.0202,2,  19.02006,2,  35.5497,2,-999.0000,9,   201.19,2,  -999.00,9,  -999.00,9,  -999.00,  -999.00,9,  -999.00,  -999.00,9,  -999.00, -999.000,9, -999.000, -999.000,9, -999.000,9, -999.000,9,   -999.0,9,   -999.0,9,-999.0000,-999,9,  -999.00,9,  -999.00,   -999.0,9,   -999.0,  18.9845,  25.4454
  49NZ20090410,   P21,   100,  1,      8, X12008,9,20090505,0821,-16.7523,-113.3403, 3004,    252.2,2,  15.8177,2,  15.83238,2,  34.9967,2,-999.0000,9,   187.47,2,  -999.00,9,  -999.00,9,  -999.00,  -999.00,9,  -999.00,  -999.00,9,  -999.00, -999.000,9, -999.000, -999.000,9, -999.000,9, -999.000,9,   -999.0,9,   -999.0,9,-999.0000,-999,9,  -999.00,9,  -999.00,   -999.0,9,   -999.0,  15.7780,  25.7956
  49NZ20090410,   P21,   100,  1,      7, X12007,9,20090505,0821,-16.7523,-113.3403, 3004,    302.4,2,  12.3018,2,  12.30560,2,  34.5480,2,-999.0000,9,   142.94,2,  -999.00,9,  -999.00,9,  -999.00,  -999.00,9,  -999.00,  -999.00,9,  -999.00, -999.000,9, -999.000, -999.000,9, -999.000,9, -999.000,9,   -999.0,9,   -999.0,9,-999.0000,-999,9,  -999.00,9,  -999.00,   -999.0,9,   -999.0,  12.2617,  26.1879
  49NZ20090410,   P21,   100,  1,      6, X12035,9,20090505,0821,-16.7523,-113.3403, 3004,    400.3,2,   9.0912,2,   9.09117,2,  34.5065,2,-999.0000,9,    65.67,2,  -999.00,9,  -999.00,9,  -999.00,  -999.00,9,  -999.00,  -999.00,9,  -999.00, -999.000,9, -999.000, -999.000,9, -999.000,9, -999.000,9,   -999.0,9,   -999.0,9,-999.0000,-999,9,  -999.00,9,  -999.00,   -999.0,9,   -999.0,   9.0472,  26.7241
  49NZ20090410,   P21,   100,  1,      5, X12038,9,20090505,0821,-16.7523,-113.3403, 3004,    500.8,2,   7.0984,2,   7.10018,2,  34.4786,2,-999.0000,9,    82.92,2,  -999.00,9,  -999.00,9,  -999.00,  -999.00,9,  -999.00,  -999.00,9,  -999.00, -999.000,9, -999.000, -999.000,9, -999.000,9, -999.000,9,   -999.0,9,   -999.0,9,-999.0000,-999,9,  -999.00,9,  -999.00,   -999.0,9,   -999.0,   7.0505,  27.0011
  49NZ20090410,   P21,   100,  1,      4, X12034,9,20090505,0821,-16.7523,-113.3403, 3004,   2600.7,2,   1.8467,2,   1.84653,2,  34.6741,2,-999.0000,9,   152.71,2,  -999.00,9,  -999.00,9,  -999.00,  -999.00,9,  -999.00,  -999.00,9,  -999.00, -999.000,9, -999.000, -999.000,9, -999.000,9, -999.000,9,   -999.0,9,   -999.0,9,-999.0000,-999,9,  -999.00,9,  -999.00,   -999.0,9,   -999.0,   1.6600,  27.7368
  49NZ20090410,   P21,   100,  1,      3, X12033,9,20090505,0821,-16.7523,-113.3403, 3004,   2799.9,2,   1.8549,2,   1.85491,2,  34.6758,2,-999.0000,9,   151.58,2,  -999.00,9,  -999.00,9,  -999.00,  -999.00,9,  -999.00,  -999.00,9,  -999.00, -999.000,9, -999.000, -999.000,9, -999.000,9, -999.000,9,   -999.0,9,   -999.0,9,-999.0000,-999,9,  -999.00,9,  -999.00,   -999.0,9,   -999.0,   1.6495,  27.7389
  49NZ20090410,   P21,   100,  1,      2, X12032,9,20090505,0821,-16.7523,-113.3403, 3004,    900.4,2,   4.8478,2,   4.84710,2,  34.5047,2,-999.0000,9,    77.74,2,  -999.00,9,  -999.00,9,  -999.00,  -999.00,9,  -999.00,  -999.00,9,  -999.00, -999.000,9, -999.000, -999.000,9, -999.000,9, -999.000,9,   -999.0,9,   -999.0,9,-999.0000,-999,9,  -999.00,9,  -999.00,   -999.0,9,   -999.0,   4.7745,  27.3083
  49NZ20090410,   P21,   100,  1,      1, X12046,2,20090505,0821,-16.7523,-113.3403, 3004,   3007.7,2,   1.8744,2,   1.87428,2,  34.6760,2,  34.6764,6,   150.88,2,   150.89,2,   124.99,2,     0.39,    35.70,2,     0.13,     0.01,2,     0.01,    2.518,2,    0.016,    0.001,2,    0.000,2,    0.000,2,   2317.6,2,   2408.5,2,   7.5951,  25,2,  -999.00,1,  -999.00,   -999.0,1,   -999.0,   1.6486,  27.7392