BOTTLE,20220818CCHSIOAMB
EXPOCODE,SECT_ID,STNNBR,CASTNO,SAMPNO,BTLNBR,BTLNBR_FLAG_W,DATE,TIME,LATITUDE,LONGITUDE,DEPTH,CTDPRS,CTDPRS_FLAG_W,CTDTMP,CTDTMP_FLAG_W,SBE35,SBE35_FLAG_W,CTDSAL,CTDSAL_FLAG_W,SALNTY,SALNTY_FLAG_W,CTDOXY,CTDOXY_FLAG_W,OXYGEN,OXYGEN_FLAG_W,SILCAT,SILCAT_FLAG_W,SILUNC,NITRAT,NITRAT_FLAG_W,NRAUNC,NITRIT,NITRIT_FLAG_W,NRIUNC,PHSPHT,PHSPHT_FLAG_W,PHPUNC,CFC-11,CFC-11_FLAG_W,CFC-12,CFC-12_FLAG_W,CFC113,CFC113_FLAG_W,TCARBN,TCARBN_FLAG_W,ALKALI,ALKALI_FLAG_W,PH_TOT,PH_TMP,PH_TOT_FLAG_W,DELC13,DELC13_FLAG_W,C13ERR,DELC14,DELC14_FLAG_W,C14ERR,THETA,SIG0
,,,,,,,,,,,METERS,DBAR,,ITS-90,,ITS-90,,PSS-78,,PSS-78,,UMOL/KG,,UMOL/KG,,UMOL/KG,,UMOL/KG,UMOL/KG,,UMOL/KG,UMOL/KG,,UMOL/KG,UMOL/KG,,UMOL/KG,PMOL/KG,,PMOL/KG,,PMOL/KG,,UMOL/KG,,UMOL/KG,,,DEG C,,/MILLE,,/MILLE,/MILLE,,/MILLE,DEG C,KG/M^3
  49NZ20090410,   P21,    46,  1,     36, X12006,2,20090423,1727,-16.7452, -84.9993, 4760,     10.9,2,  23.0137,2,  23.01246,2,  35.4410,2,  35.4420,2,   215.94,2,   216.20,2,     0.42,2,     0.12,     0.08,2,     0.03,     0.01,2,     0.01,    0.396,2,    0.013,    1.797,2,    1.131,2, -999.000,5,   2065.8,2,   2353.7,2,   8.0164,  25,2,  -999.00,9,  -999.00,   -999.0,9,   -999.0,  23.0115,  24.2648
  49NZ20090410,   P21,    46,  1,     35, X12047,2,20090423,1727,-16.7452, -84.9993, 4760,     50.8,2,  19.4573,2,  19.45612,2,  35.2432,2,  35.2503,2,   239.49,2,   241.57,2,     0.32,2,     0.12,     0.05,2,     0.03,     0.01,2,     0.01,    0.378,2,    0.014,    2.216,2,    1.377,2, -999.000,5,   2062.3,6,   2336.7,2,   8.0004,  25,2,  -999.00,9,  -999.00,   -999.0,9,   -999.0,  19.4481,  25.0917
  49NZ20090410,   P21,    46,  1,     34, X12004,2,20090423,1727,-16.7452, -84.9993, 4760,     99.6,2,  16.9927,2,  16.99528,2,  34.9872,2,  34.9890,2,   211.39,2,   209.96,2,     0.69,2,     0.12,     4.32,2,     0.04,     0.16,2,     0.01,    0.672,2,    0.013,    2.408,6,    1.470,6,    0.235,6,   2088.7,2,   2316.7,6,   7.9173,  25,2,  -999.00,9,  -999.00,   -999.0,9,   -999.0,  16.9763,  25.5101
  49NZ20090410,   P21,    46,  1,     33, X12003,2,20090423,1727,-16.7452, -84.9993, 4760,    150.8,2,  13.7304,2,  13.72493,2,  34.6285,2,  34.6268,2,   160.99,2,   156.58,2,     4.46,2,     0.13,    14.92,2,     0.07,     0.02,2,     0.01,    1.416,2,    0.014,    2.576,2,    1.482,2,    0.111,2,   2144.9,2,   2287.6,2,   7.7414,  25,6,  -999.00,9,  -999.00,   -999.0,9,   -999.0,  13.7090,  25.9606
  49NZ20090410,   P21,    46,  1,     32, X12002,2,20090423,1727,-16.7452, -84.9993, 4760,    199.9,2,  12.4259,2,  12.42819,2,  34.8171,2,  34.8156,2,     1.55,2,     1.36,3,    27.35,2,     1.49,    15.36,2,     0.08,     1.32,2,     0.02,    2.742,2,    0.066,    0.918,2,    0.533,2,    0.026,2,   2283.1,2,   2307.9,2,   7.4039,  25,2,  -999.00,9,  -999.00,   -999.0,9,   -999.0,  12.3993,  26.3700
  49NZ20090410,   P21,    46,  1,     31, X12001,2,20090423,1727,-16.7452, -84.9993, 4760,    249.5,2,  11.6118,2,  11.61265,2,  34.7965,2,  34.7954,6,     1.61,2,     1.92,3,    31.74,2,     1.42,    22.18,2,     0.68,     2.96,2,     0.01,    2.775,2,    0.017,    0.572,2,    0.318,2,    0.021,2,   2281.1,2,   2301.6,2,   7.3922,  25,2,  -999.00,9,  -999.00,   -999.0,9,   -999.0,  11.5799,  26.5104
  49NZ20090410,   P21,    46,  1,     30, X12030,2,20090423,1727,-16.7452, -84.9993, 4760,    299.7,2,  10.1623,2,  10.16284,2,  34.6802,2,  34.6788,2,     4.94,2,     5.11,2,    26.22,2,     0.18,    32.15,2,     0.12,     0.02,2,     0.01,    2.787,2,    0.017,    0.387,2,    0.204,2,    0.010,2,   2279.7,2,   2295.4,2,   7.3824,  25,2,  -999.00,9,  -999.00,   -999.0,9,   -999.0,  10.1271,  26.6805
  49NZ20090410,   P21,    46,  1,     29, X12044,2,20090423,1727,-16.7452, -84.9993, 4760,    399.5,2,   8.6735,2,   8.67324,2,  34.6159,2,  34.6153,2,    18.24,2,    18.56,2,    29.47,2,     0.18,    38.16,2,     0.14,     0.02,2,     0.01,    2.788,2,    0.017,    0.128,2,    0.067,2,    0.000,2,   2275.3,2,   2296.4,2,   7.3988,  25,2,  -999.00,9,  -999.00,   -999.0,9,   -999.0,   8.6308,  26.8758
  49NZ20090410,   P21,    46,  1,     28, X12048,2,20090423,1727,-16.7452, -84.9993, 4760,    499.3,2,   7.4919,2,   7.49209,2,  34.5580,2,  34.5577,6,    26.34,2,    26.56,2,    35.12,2,     0.20,    41.08,2,     0.15,     0.02,2,     0.01,    2.930,2,    0.017,    0.090,2,    0.050,2,    0.000,2,   2281.1,2,   2299.7,2,   7.3918,  25,2,  -999.00,9,  -999.00,   -999.0,9,   -999.0,   7.4426,  27.0083
  49NZ20090410,   P21,    46,  1,     27, X12027,2,20090423,1727,-16.7452, -84.9993, 4760,    600.0,2,   6.5713,2,   6.57075,2,  34.5230,2,  34.5217,2,    30.40,2,    31.66,2,    41.98,2,     0.21,    42.94,2,     0.15,     0.02,2,     0.01,    3.051,2,    0.018,    0.036,6,    0.018,6,    0.000,6,   2287.2,2,   2305.3,2,   7.3860,  25,2,  -999.00,9,  -999.00,   -999.0,9,   -999.0,   6.5158,  27.1087
  49NZ20090410,   P21,    46,  1,     26, X12026,2,20090423,1727,-16.7452, -84.9993, 4760,    700.9,2,   5.8922,2,   5.89229,2,  34.5094,2,  34.5090,2,    35.09,2,    35.66,2,    49.38,2,     0.23,    44.04,2,     0.16,     0.01,2,     0.01,    3.122,2,    0.018,    0.009,2,    0.006,2,    0.000,2,   2295.8,6,   2312.0,2,   7.3851,  25,2,  -999.00,9,  -999.00,   -999.0,9,   -999.0,   5.8305,  27.1863
  49NZ20090410,   P21,    46,  1,     25, X12025,2,20090423,1727,-16.7452, -84.9993, 4760,    801.3,2,   5.2129,2,   5.21370,2,  34.4998,2,  34.4999,2,    47.33,2,    47.75,2,    57.65,2,     0.25,    43.85,2,     0.16,     0.02,2,     0.01,    3.110,2,    0.018,    0.004,2,    0.002,2,    0.000,2,   2299.1,2,   2321.6,6,   7.4001,  25,2,  -999.00,9,  -999.00,   -999.0,9,   -999.0,   5.1460,  27.2617
  49NZ20090410,   P21,    46,  1,     24, X12024,2,20090423,1727,-16.7452, -84.9993, 4760,    900.6,2,   4.7262,2,   4.72539,2,  34.5172,2,  34.5167,2,    50.57,2,    51.12,2,    68.73,2,     0.27,    44.01,2,     0.16,     0.01,2,     0.01,    3.138,2,    0.018,    0.002,2,    0.000,2,    0.000,2,   2310.6,2,   2335.0,2,   7.4060,  25,6,  -999.00,9,  -999.00,   -999.0,9,   -999.0,   4.6537,  27.3318
  49NZ20090410,   P21,    46,  1,     23, X12028,2,20090423,1727,-16.7452, -84.9993, 4760,    998.8,2,   4.3662,2,   4.36617,2,  34.5300,2,  34.5303,6,    57.69,2,    57.94,2,    76.97,2,     0.29,    43.45,2,     0.15,     0.02,2,     0.01,    3.118,2,    0.018,    0.003,2,    0.000,2,    0.000,2,   2315.5,2,   2343.5,2,   7.4191,  25,2,  -999.00,9,  -999.00,   -999.0,9,   -999.0,   4.2878,  27.3820
  49NZ20090410,   P21,    46,  1,     22, X12022,2,20090423,1727,-16.7452, -84.9993, 4760,   1200.2,2,   3.6566,2,   3.65697,2,  34.5509,2,  34.5511,2,    79.97,2,    80.01,2,    89.63,2,     0.32,    41.63,2,     0.15,     0.01,2,     0.01,    2.993,2,    0.017,    0.001,2,    0.000,2,    0.000,2,   2315.3,2,   2359.5,2,   7.4575,  25,2,  -999.00,9,  -999.00,   -999.0,9,   -999.0,   3.5671,  27.4727
  49NZ20090410,   P21,    46,  1,     21, X12021,2,20090423,1727,-16.7452, -84.9993, 4760,   1400.0,2,   3.1229,2,   3.12329,2,  34.5788,2,  34.5794,2,    91.50,2,    91.29,2,   102.43,2,     0.34,    40.72,2,     0.15,     0.01,2,     0.01,    2.921,2,    0.017,    0.002,2,    0.000,2,    0.000,2,   2322.6,2,   2373.9,2,   7.4779,  25,2,  -999.00,9,  -999.00,   -999.0,9,   -999.0,   3.0220,  27.5469
  49NZ20090410,   P21,    46,  1,     20, X12020,2,20090423,1727,-16.7452, -84.9993, 4760,   1600.1,2,   2.7267,2,   2.72641,2,  34.6062,2,  34.6069,2,    97.99,2,    97.36,2,   114.23,2,     0.37,    40.05,2,     0.14,     0.01,2,     0.01,    2.879,2,    0.017,    0.000,2,    0.000,2,    0.000,2,   2332.4,2,   2386.4,2,   7.4916,  25,6,  -999.00,9,  -999.00,   -999.0,9,   -999.0,   2.6137,  27.6052
  49NZ20090410,   P21,    46,  1,     19, X12019,2,20090423,1727,-16.7452, -84.9993, 4760,   1800.7,2,   2.4388,2,   2.43890,2,  34.6267,2,  34.6271,2,   105.67,2,   105.52,2,   122.27,2,     0.39,    39.42,2,     0.14,     0.02,2,     0.01,    2.812,2,    0.017,    0.000,2,    0.001,2,    0.000,2,   2335.0,2,   2398.0,2,   7.5086,  25,2,  -999.00,9,  -999.00,   -999.0,9,   -999.0,   2.3127,  27.6472
  49NZ20090410,   P21,    46,  1,     18, X12043,2,20090423,1727,-16.7452, -84.9993, 4760,   2001.2,2,   2.2096,2,   2.20945,2,  34.6425,2,  34.6427,2,   115.73,2,   115.42,2,   126.44,2,     0.40,    38.62,2,     0.14,     0.02,2,     0.01,    2.747,2,    0.017,    0.000,2,    0.001,2,    0.000,2,   2335.4,2,   2403.4,2,   7.5271,  25,2,  -999.00,9,  -999.00,   -999.0,9,   -999.0,   2.0698,  27.6797
  49NZ20090410,   P21,    46,  1,     17, X12042,2,20090423,1727,-16.7452, -84.9993, 4760,   2201.2,2,   2.0573,2,   2.05725,2,  34.6532,2,  34.6533,2,   126.32,2,   126.09,2,   126.44,2,     0.40,    37.80,2,     0.14,     0.02,2,     0.01,    2.664,2,    0.017,    0.000,2,    0.000,2,    0.000,2,   2329.4,2,   2405.2,2,   7.5457,  25,2,  -999.00,9,  -999.00,   -999.0,9,   -999.0,   1.9027,  27.7015
  49NZ20090410,   P21,    46,  1,     16, X12016,2,20090423,1727,-16.7452, -84.9993, 4760,   2401.2,2,   1.9243,2,   1.92430,2,  34.6637,2,  34.6640,6,   135.11,2,   134.79,2,   127.32,2,     0.40,    37.15,2,     0.14,     0.01,2,     0.01,    2.607,2,    0.016,    0.000,2,    0.000,2,    0.000,2,   2326.3,6,   2406.1,2,   7.5614,  25,2,  -999.00,9,  -999.00,   -999.0,9,   -999.0,   1.7543,  27.7214
  49NZ20090410,   P21,    46,  1,     15, X12015,2,20090423,1727,-16.7452, -84.9993, 4760,   2600.8,2,   1.8508,2,   1.85069,2,  34.6708,2,  34.6710,2,   136.73,2,   136.60,2,   130.56,2,     0.41,    37.03,2,     0.14,     0.01,2,     0.01,    2.588,2,    0.016,    0.000,2,    0.000,2,    0.000,2,   2329.9,2,   2413.0,6,   7.5671,  25,2,  -999.00,9,  -999.00,   -999.0,9,   -999.0,   1.6641,  27.7339
  49NZ20090410,   P21,    46,  1,     14, X12050,2,20090423,1727,-16.7452, -84.9993, 4760,   2800.2,2,   1.8106,2,   1.81056,2,  34.6755,2,  34.6752,2,   137.18,2,   137.03,2,   133.77,2,     0.41,    36.94,2,     0.14,     0.01,2,     0.01,    2.588,2,    0.016,    0.000,2,    0.000,2,    0.000,2,   2332.2,2,   2418.7,2,   7.5721,  25,6,  -999.00,9,  -999.00,   -999.0,9,   -999.0,   1.6061,  27.7419
  49NZ20090410,   P21,    46,  1,     13, X12013,7,20090423,1727,-16.7452, -84.9993, 4760,   3001.4,2,   1.7972,2,   1.79704,2,  34.6780,2,  34.6778,2,   137.70,2,   137.52,2,   134.74,2,     0.42,    36.89,2,     0.14,     0.01,2,     0.01,    2.582,2,    0.016,    0.001,2,    0.000,2,    0.000,2,   2333.1,2,   2420.8,2,   7.5762,  25,2,  -999.00,9,  -999.00,   -999.0,9,   -999.0,   1.5737,  27.7464
  49NZ20090410,   P21,    46,  1,     12, X12012,2,20090423,1727,-16.7452, -84.9993, 4760,   3250.5,2,   1.7894,2,   1.78936,2,  34.6809,2,  34.6806,2,   140.27,2,   140.03,2,   134.44,2,     0.41,    36.65,2,     0.14,     0.01,2,     0.01,    2.567,2,    0.016,    0.000,2,    0.000,2,    0.000,2,   2331.6,2,   2422.4,2,   7.5805,  25,2,  -999.00,9,  -999.00,   -999.0,9,   -999.0,   1.5415,  27.7511
  49NZ20090410,   P21,    46,  1,     11, X12041,2,20090423,1727,-16.7452, -84.9993, 4760,   3501.0,2,   1.7871,2,   1.78697,2,  34.6832,2,  34.6833,2,   142.74,2,   142.53,2,   133.09,2,     0.41,    36.57,2,     0.14,     0.01,2,     0.01,    2.548,2,    0.016,    0.000,2,    0.002,2,    0.000,2,   2329.6,2,   2418.1,2,   7.5834,  25,2,  -999.00,9,  -999.00,   -999.0,9,   -999.0,   1.5136,  27.7549
  49NZ20090410,   P21,    46,  1,     10, X12040,2,20090423,1727,-16.7452, -84.9993, 4760,   3750.1,2,   1.7783,2,   1.77829,2,  34.6855,2,  34.6857,6,   146.94,2,   146.90,2,   130.65,2,     0.41,    36.24,2,     0.13,     0.01,2,     0.01,    2.518,2,    0.016,    0.000,2,    0.000,2,    0.000,2,   2325.0,2,   2416.0,2,   7.5863,  25,2,  -999.00,9,  -999.00,   -999.0,9,   -999.0,   1.4788,  27.7594
  49NZ20090410,   P21,    46,  1,      9, X12009,2,20090423,1727,-16.7452, -84.9993, 4760,   4000.4,2,   1.7720,2,   1.77204,2,  34.6879,2,  34.6878,2,   151.64,2,   151.50,2,   127.47,2,     0.40,    35.83,2,     0.13,     0.01,2,     0.01,    2.497,2,    0.016,    0.001,2,    0.000,2,    0.000,2,   2320.2,2,   2411.8,2,   7.5900,  25,2,  -999.00,9,  -999.00,   -999.0,9,   -999.0,   1.4454,  27.7637
  49NZ20090410,   P21,    46,  1,      8, X12008,2,20090423,1727,-16.7452, -84.9993, 4760,   4251.7,2,   1.7791,2,   1.77906,2,  34.6894,2,  34.6893,2,   152.91,2,   152.85,2,   126.67,2,     0.40,    35.70,2,     0.13,     0.02,2,     0.01,    2.483,2,    0.016,    0.002,2,    0.002,2,    0.000,2,   2318.6,6,   2411.4,2,   7.5914,  25,2,  -999.00,9,  -999.00,   -999.0,9,   -999.0,   1.4241,  27.7664
  49NZ20090410,   P21,    46,  1,      7, X12007,2,20090423,1727,-16.7452, -84.9993, 4760,   4500.3,2,   1.8027,2,   1.80270,2,  34.6897,2,  34.6896,2,   153.07,2,   153.13,2,   126.78,2,     0.40,    35.62,2,     0.13,     0.01,2,     0.01,    2.485,2,    0.016,    0.003,2,    0.001,2,    0.000,2,   2318.9,2,   2410.6,6,   7.5907,  25,2,  -999.00,9,  -999.00,   -999.0,9,   -999.0,   1.4183,  27.7671
  49NZ20090410,   P21,    46,  1,      6, X12035,2,20090423,1727,-16.7452, -84.9993, 4760,   4751.2,2,   1.8326,2,   1.83246,2,  34.6895,2,  34.6901,2,   152.99,2,   153.14,2,   126.65,2,     0.40,    35.64,2,     0.13,     0.01,2,     0.01,    2.484,2,    0.016,    0.003,2,    0.001,2,    0.000,2,   2319.5,2,   2411.7,2,   7.5906,  25,6,  -999.00,9,  -999.00,   -999.0,9,   -999.0,   1.4175,  27.7670
  49NZ20090410,   P21,    46,  1,      5, X12038,9,20090423,1727,-16.7452, -84.9993, 4760,     10.5,2,  23.0102,2,  23.00842,2,  35.4413,2,-999.0000,9,   216.05,2,  -999.00,9,  -999.00,9,  -999.00,  -999.00,9,  -999.00,  -999.00,9,  -999.00, -999.000,9, -999.000, -999.000,9, -999.000,9, -999.000,9,   -999.0,9,   -999.0,9,-999.0000,-999,9,  -999.00,9,  -999.00,   -999.0,9,   -999.0,  23.0081,  24.2660
  49NZ20090410,   P21,    46,  1,      4, X12034,9,20090423,1727,-16.7452, -84.9993, 4760,   4500.5,2,   1.8028,2,   1.80278,2,  34.6897,2,-999.0000,9,   153.05,2,  -999.00,9,  -999.00,9,  -999.00,  -999.00,9,  -999.00,  -999.00,9,  -999.00, -999.000,9, -999.000, -999.000,9, -999.000,9, -999.000,9,   -999.0,9,   -999.0,9,-999.0000,-999,9,  -999.00,9,  -999.00,   -999.0,9,   -999.0,   1.4184,  27.7671
  49NZ20090410,   P21,    46,  1,      3, X12033,9,20090423,1727,-16.7452, -84.9993, 4760,   4751.7,2,   1.8326,2,   1.83253,2,  34.6896,2,-999.0000,9,   152.95,2,  -999.00,9,  -999.00,9,  -999.00,  -999.00,9,  -999.00,  -999.00,9,  -999.00, -999.000,9, -999.000, -999.000,9, -999.000,9, -999.000,9,   -999.0,9,   -999.0,9,-999.0000,-999,9,  -999.00,9,  -999.00,   -999.0,9,   -999.0,   1.4174,  27.7671
  49NZ20090410,   P21,    46,  1,      2, X12032,9,20090423,1727,-16.7452, -84.9993, 4760,   3000.6,2,   1.7972,2,   1.79713,2,  34.6781,2,-999.0000,9,   137.75,2,  -999.00,9,  -999.00,9,  -999.00,  -999.00,9,  -999.00,  -999.00,9,  -999.00, -999.000,9, -999.000, -999.000,9, -999.000,9, -999.000,9,   -999.0,9,   -999.0,9,-999.0000,-999,9,  -999.00,9,  -999.00,   -999.0,9,   -999.0,   1.5738,  27.7464
  49NZ20090410,   P21,    46,  1,      1, X12046,2,20090423,1727,-16.7452, -84.9993, 4760,   4850.2,2,   1.8449,2,   1.84487,2,  34.6895,2,  34.6898,6,   153.07,2,   153.15,2,   126.74,2,     0.40,    35.65,2,     0.13,     0.01,2,     0.01,    2.485,2,    0.016,    0.000,2,    0.000,2,    0.000,2,   2320.9,2,   2410.7,2,   7.5915,  25,2,  -999.00,9,  -999.00,   -999.0,9,   -999.0,   1.4174,  27.7670