BOTTLE,20220818CCHSIOAMB
EXPOCODE,SECT_ID,STNNBR,CASTNO,SAMPNO,BTLNBR,BTLNBR_FLAG_W,DATE,TIME,LATITUDE,LONGITUDE,DEPTH,CTDPRS,CTDPRS_FLAG_W,CTDTMP,CTDTMP_FLAG_W,SBE35,SBE35_FLAG_W,CTDSAL,CTDSAL_FLAG_W,SALNTY,SALNTY_FLAG_W,CTDOXY,CTDOXY_FLAG_W,OXYGEN,OXYGEN_FLAG_W,SILCAT,SILCAT_FLAG_W,SILUNC,NITRAT,NITRAT_FLAG_W,NRAUNC,NITRIT,NITRIT_FLAG_W,NRIUNC,PHSPHT,PHSPHT_FLAG_W,PHPUNC,CFC-11,CFC-11_FLAG_W,CFC-12,CFC-12_FLAG_W,CFC113,CFC113_FLAG_W,TCARBN,TCARBN_FLAG_W,ALKALI,ALKALI_FLAG_W,PH_TOT,PH_TMP,PH_TOT_FLAG_W,DELC13,DELC13_FLAG_W,C13ERR,DELC14,DELC14_FLAG_W,C14ERR,THETA,SIG0
,,,,,,,,,,,METERS,DBAR,,ITS-90,,ITS-90,,PSS-78,,PSS-78,,UMOL/KG,,UMOL/KG,,UMOL/KG,,UMOL/KG,UMOL/KG,,UMOL/KG,UMOL/KG,,UMOL/KG,UMOL/KG,,UMOL/KG,PMOL/KG,,PMOL/KG,,PMOL/KG,,UMOL/KG,,UMOL/KG,,,DEG C,,/MILLE,,/MILLE,/MILLE,,/MILLE,DEG C,KG/M^3
  49NZ20090410,   P21,   135,  1,     36, X12006,2,20090513,1017,-16.7532,-136.6645, 4279,      9.9,2,  27.6493,2,  27.64899,2,  36.4304,2,  36.4300,2,   198.18,2,   198.03,2,     0.75,2,     0.12,     0.14,2,     0.03,     0.02,2,     0.01,    0.233,2,    0.015,    1.464,2,    0.965,2, -999.000,5,   -999.0,9,   -999.0,9,-999.0000,-999,9,  -999.00,9,  -999.00,   -999.0,9,   -999.0,  27.6470,  23.5863
  49NZ20090410,   P21,   135,  1,     35, X12047,2,20090513,1017,-16.7532,-136.6645, 4279,     49.4,2,  27.6651,2,  27.66485,2,  36.4285,2,  36.4291,2,   197.96,2,   198.02,2,     0.72,2,     0.12,     0.14,2,     0.03,     0.01,2,     0.01,    0.236,2,    0.015,    1.474,2,    0.975,2, -999.000,5,   -999.0,9,   -999.0,9,-999.0000,-999,9,  -999.00,9,  -999.00,   -999.0,9,   -999.0,  27.6535,  23.5827
  49NZ20090410,   P21,   135,  1,     34, X12004,2,20090513,1017,-16.7532,-136.6645, 4279,    100.1,2,  25.9875,2,  25.97768,2,  36.4021,2,  36.4052,2,   202.93,2,   203.48,2,     1.01,2,     0.12,     0.66,2,     0.03,     0.03,2,     0.01,    0.345,2,    0.014,    1.651,6,    1.071,6, -999.000,5,   -999.0,9,   -999.0,9,-999.0000,-999,9,  -999.00,9,  -999.00,   -999.0,9,   -999.0,  25.9651,  24.1026
  49NZ20090410,   P21,   135,  1,     33, X12003,2,20090513,1017,-16.7532,-136.6645, 4279,    149.7,2,  23.7284,2,  23.73369,2,  36.3319,2,  36.3315,2,   189.14,2,   189.11,2,     0.66,2,     0.12,     0.30,2,     0.03,     1.28,2,     0.00,    0.337,2,    0.014,    1.771,2,    1.131,2, -999.000,5,   -999.0,9,   -999.0,9,-999.0000,-999,9,  -999.00,9,  -999.00,   -999.0,9,   -999.0,  23.6970,  24.7401
  49NZ20090410,   P21,   135,  1,     32, X12002,2,20090513,1017,-16.7532,-136.6645, 4279,    199.9,2,  22.2796,2,  22.27974,2,  36.1691,2,  36.1704,2,   185.02,2,   184.96,2,     0.70,2,     0.12,     2.21,2,     0.04,     0.25,2,     0.01,    0.423,2,    0.013,    1.895,2,    1.193,2,    0.177,4,   -999.0,9,   -999.0,9,-999.0000,-999,9,  -999.00,9,  -999.00,   -999.0,9,   -999.0,  22.2395,  25.0387
  49NZ20090410,   P21,   135,  1,     31, X12001,2,20090513,1017,-16.7532,-136.6645, 4279,    249.3,2,  19.5361,2,  19.53023,2,  35.6425,2,  35.6037,6,   183.21,2,   183.40,2,     0.84,2,     0.12,     3.85,2,     0.04,     0.02,2,     0.01,    0.484,2,    0.013,    2.198,2,    1.338,2,    0.039,2,   -999.0,9,   -999.0,9,-999.0000,-999,9,  -999.00,9,  -999.00,   -999.0,9,   -999.0,  19.4905,  25.3857
  49NZ20090410,   P21,   135,  1,     30, X12030,2,20090513,1017,-16.7532,-136.6645, 4279,    300.2,2,  15.9890,2,  15.98733,2,  35.0760,2,  35.0673,2,   176.96,2,   178.09,2,     1.87,2,     0.12,     7.60,2,     0.05,     0.01,2,     0.01,    0.748,2,    0.013,    2.455,2,    1.429,2,    0.039,2,   -999.0,9,   -999.0,9,-999.0000,-999,9,  -999.00,9,  -999.00,   -999.0,9,   -999.0,  15.9413,  25.8195
  49NZ20090410,   P21,   135,  1,     29, X12044,2,20090513,1017,-16.7532,-136.6645, 4279,    399.3,2,   9.7857,2,   9.78828,2,  34.4995,2,  34.5012,2,   108.05,2,   107.93,2,    13.23,2,     0.15,    25.26,2,     0.10,     0.01,2,     0.01,    2.050,2,    0.015,    1.455,2,    0.760,2,    0.021,2,   -999.0,9,   -999.0,9,-999.0000,-999,9,  -999.00,9,  -999.00,   -999.0,9,   -999.0,   9.7398,  26.6051
  49NZ20090410,   P21,   135,  1,     28, X12048,2,20090513,1017,-16.7532,-136.6645, 4279,    500.1,2,   6.9355,2,   6.93546,2,  34.3857,2,  34.3857,6,   157.20,2,   157.44,2,    16.32,2,     0.15,    29.43,2,     0.12,     0.01,2,     0.01,    2.118,2,    0.015,    1.018,2,    0.526,2,    0.015,2,   -999.0,9,   -999.0,9,-999.0000,-999,9,  -999.00,9,  -999.00,   -999.0,9,   -999.0,   6.8883,  26.9502
  49NZ20090410,   P21,   135,  1,     27, X12027,2,20090513,1017,-16.7532,-136.6645, 4279,    599.6,2,   5.9180,2,   5.91830,2,  34.4072,2,  34.4069,2,   143.70,2,   143.89,2,    28.42,2,     0.18,    33.16,2,     0.13,     0.01,2,     0.01,    2.333,2,    0.016,    0.329,6,    0.177,6,    0.000,6,   -999.0,9,   -999.0,9,-999.0000,-999,9,  -999.00,9,  -999.00,   -999.0,9,   -999.0,   5.8657,  27.1011
  49NZ20090410,   P21,   135,  1,     26, X12026,2,20090513,1017,-16.7532,-136.6645, 4279,    700.0,2,   5.5002,2,   5.49857,2,  34.4561,2,  34.4561,2,   121.55,2,   121.81,2,    41.36,2,     0.21,    35.63,2,     0.13,     0.01,2,     0.01,    2.509,2,    0.016,    0.079,2,    0.044,2,    0.000,2,   -999.0,9,   -999.0,9,-999.0000,-999,9,  -999.00,9,  -999.00,   -999.0,9,   -999.0,   5.4408,  27.1920
  49NZ20090410,   P21,   135,  1,     25, X12025,2,20090513,1017,-16.7532,-136.6645, 4279,    799.7,2,   5.1604,2,   5.16040,2,  34.4824,2,  34.4822,2,   110.30,2,   110.40,2,    50.62,2,     0.23,    37.26,2,     0.14,     0.01,2,     0.01,    2.634,2,    0.017,    0.029,2,    0.017,2,    0.000,2,   -999.0,9,   -999.0,9,-999.0000,-999,9,  -999.00,9,  -999.00,   -999.0,9,   -999.0,   5.0940,  27.2540
  49NZ20090410,   P21,   135,  1,     24, X12024,2,20090513,1017,-16.7532,-136.6645, 4279,    899.2,2,   4.7154,2,   4.71605,2,  34.5003,2,  34.5002,2,   104.36,2,   104.71,2,    60.30,2,     0.25,    38.43,2,     0.14,     0.01,2,     0.01,    2.724,2,    0.017,    0.013,2,    0.008,2,    0.000,2,   -999.0,9,   -999.0,9,-999.0000,-999,9,  -999.00,9,  -999.00,   -999.0,9,   -999.0,   4.6431,  27.3195
  49NZ20090410,   P21,   135,  1,     23, X12028,2,20090513,1017,-16.7532,-136.6645, 4279,   1000.3,2,   4.3668,2,   4.36697,2,  34.5132,2,  34.5130,6,   104.52,2,   104.79,2,    67.77,2,     0.27,    38.74,2,     0.14,     0.01,2,     0.01,    2.750,2,    0.017,    0.007,2,    0.003,2,    0.000,2,   -999.0,9,   -999.0,9,-999.0000,-999,9,  -999.00,9,  -999.00,   -999.0,9,   -999.0,   4.2883,  27.3685
  49NZ20090410,   P21,   135,  1,     22, X12022,2,20090513,1017,-16.7532,-136.6645, 4279,   1199.7,2,   3.6920,2,   3.68976,2,  34.5392,2,  34.5403,2,   112.00,2,   112.16,2,    81.58,2,     0.30,    38.51,2,     0.14,     0.01,2,     0.01,    2.749,2,    0.017,    0.005,2,    0.003,2,    0.000,2,   -999.0,9,   -999.0,9,-999.0000,-999,9,  -999.00,9,  -999.00,   -999.0,9,   -999.0,   3.6022,  27.4599
  49NZ20090410,   P21,   135,  1,     21, X12021,2,20090513,1017,-16.7532,-136.6645, 4279,   1399.5,2,   3.0984,2,   3.10299,2,  34.5640,2,  34.5639,2,   132.03,2,   131.33,2,    90.60,2,     0.32,    37.10,2,     0.14,     0.01,2,     0.01,    2.632,2,    0.017,    0.002,2,    0.000,2,    0.000,2,   -999.0,9,   -999.0,9,-999.0000,-999,9,  -999.00,9,  -999.00,   -999.0,9,   -999.0,   2.9978,  27.5372
  49NZ20090410,   P21,   135,  1,     20, X12020,2,20090513,1017,-16.7532,-136.6645, 4279,   1599.5,2,   2.6579,2,   2.65917,2,  34.5873,2,  34.5867,2,   143.60,2,   143.82,2,    97.69,2,     0.33,    36.27,2,     0.13,     0.01,2,     0.01,    2.559,2,    0.016,    0.002,2,    0.000,2,    0.000,2,   -999.0,9,   -999.0,9,-999.0000,-999,9,  -999.00,9,  -999.00,   -999.0,9,   -999.0,   2.5458,  27.5960
  49NZ20090410,   P21,   135,  1,     19, X12019,2,20090513,1017,-16.7532,-136.6645, 4279,   1799.3,2,   2.3406,2,   2.34055,2,  34.6129,2,  34.6128,2,   146.48,2,   146.84,2,   105.97,2,     0.35,    36.08,2,     0.13,     0.01,2,     0.01,    2.550,2,    0.016,    0.000,2,    0.000,2,    0.000,2,   -999.0,9,   -999.0,9,-999.0000,-999,9,  -999.00,9,  -999.00,   -999.0,9,   -999.0,   2.2161,  27.6441
  49NZ20090410,   P21,   135,  1,     18, X12043,2,20090513,1017,-16.7532,-136.6645, 4279,   2000.3,2,   2.1242,2,   2.12421,2,  34.6339,2,  34.6339,2,   149.29,2,   149.49,2,   111.80,2,     0.36,    35.97,2,     0.13,     0.01,2,     0.01,    2.533,2,    0.016,    0.000,2,    0.000,2,    0.000,2,   -999.0,9,   -999.0,9,-999.0000,-999,9,  -999.00,9,  -999.00,   -999.0,9,   -999.0,   1.9858,  27.6795
  49NZ20090410,   P21,   135,  1,     17, X12042,2,20090513,1017,-16.7532,-136.6645, 4279,   2200.5,2,   1.9685,2,   1.96860,2,  34.6511,2,  34.6503,6,   150.45,2,   150.63,2,   117.07,2,     0.38,    35.87,2,     0.13,     0.01,2,     0.01,    2.525,2,    0.016,    0.002,2,    0.000,2,    0.000,2,   -999.0,9,   -999.0,9,-999.0000,-999,9,  -999.00,9,  -999.00,   -999.0,9,   -999.0,   1.8154,  27.7066
  49NZ20090410,   P21,   135,  1,     16, X12016,2,20090513,1017,-16.7532,-136.6645, 4279,   2399.9,2,   1.8721,2,   1.87218,2,  34.6618,2,  34.6611,2,   150.98,2,   151.07,2,   120.85,2,     0.38,    35.69,2,     0.13,     0.01,2,     0.01,    2.508,2,    0.016,    0.002,2,    0.000,2,    0.000,2,   -999.0,9,   -999.0,9,-999.0000,-999,9,  -999.00,9,  -999.00,   -999.0,9,   -999.0,   1.7031,  27.7237
  49NZ20090410,   P21,   135,  1,     15, X12015,2,20090513,1017,-16.7532,-136.6645, 4279,   2600.1,2,   1.8120,2,   1.81203,2,  34.6678,2,  34.6672,2,   152.37,2,   152.56,2,   123.09,2,     0.39,    35.63,2,     0.13,     0.01,2,     0.01,    2.504,2,    0.016,    0.001,2,    0.000,2,    0.000,2,   -999.0,9,   -999.0,9,-999.0000,-999,9,  -999.00,9,  -999.00,   -999.0,9,   -999.0,   1.6261,  27.7343
  49NZ20090410,   P21,   135,  1,     14, X12050,2,20090513,1017,-16.7532,-136.6645, 4279,   2799.6,2,   1.7525,2,   1.75278,2,  34.6736,2,  34.6732,2,   153.66,2,   153.82,2,   125.65,2,     0.40,    35.52,2,     0.13,     0.01,2,     0.01,    2.502,2,    0.016,    0.001,2,    0.000,2,    0.000,2,   -999.0,9,   -999.0,9,-999.0000,-999,9,  -999.00,9,  -999.00,   -999.0,9,   -999.0,   1.5493,  27.7446
  49NZ20090410,   P21,   135,  1,     13, X12013,7,20090513,1017,-16.7532,-136.6645, 4279,   3002.2,2,   1.7167,2,   1.71666,2,  34.6767,2,  34.6775,2,   155.31,2,   155.49,2,   127.07,2,     0.40,    35.59,2,     0.13,     0.01,2,     0.01,    2.501,2,    0.016,    0.002,2,    0.001,2,    0.000,2,   -999.0,9,   -999.0,9,-999.0000,-999,9,  -999.00,9,  -999.00,   -999.0,9,   -999.0,   1.4949,  27.7511
  49NZ20090410,   P21,   135,  1,     12, X12012,2,20090513,1017,-16.7532,-136.6645, 4279,   3250.2,2,   1.6708,2,   1.67086,2,  34.6810,2,  34.6805,6,   156.88,2,   157.14,2,   129.17,2,     0.40,    35.57,2,     0.13,     0.01,2,     0.01,    2.498,2,    0.016,    0.001,2,    0.000,2,    0.000,2,   -999.0,9,   -999.0,9,-999.0000,-999,9,  -999.00,9,  -999.00,   -999.0,9,   -999.0,   1.4257,  27.7595
  49NZ20090410,   P21,   135,  1,     11, X12041,2,20090513,1017,-16.7532,-136.6645, 4279,   3499.6,2,   1.6218,2,   1.62193,2,  34.6843,2,  34.6838,2,   160.08,2,   160.32,2,   129.41,2,     0.40,    35.43,2,     0.13,     0.01,2,     0.01,    2.484,2,    0.016,    0.001,2,    0.000,2,    0.000,2,   -999.0,9,   -999.0,9,-999.0000,-999,9,  -999.00,9,  -999.00,   -999.0,9,   -999.0,   1.3526,  27.7674
  49NZ20090410,   P21,   135,  1,     10, X12040,2,20090513,1017,-16.7532,-136.6645, 4279,   3749.6,2,   1.5841,2,   1.58426,2,  34.6871,2,  34.6873,2,   163.50,2,   163.71,2,   128.99,2,     0.40,    35.22,2,     0.13,     0.01,2,     0.01,    2.471,2,    0.016,    0.001,2,    0.000,2,    0.000,2,   -999.0,9,   -999.0,9,-999.0000,-999,9,  -999.00,9,  -999.00,   -999.0,9,   -999.0,   1.2898,  27.7741
  49NZ20090410,   P21,   135,  1,      9, X12009,2,20090513,1017,-16.7532,-136.6645, 4279,   3999.8,2,   1.5426,2,   1.54269,2,  34.6899,2,  34.6897,2,   167.95,2,   168.24,2,   127.74,2,     0.40,    34.89,2,     0.13,     0.01,2,     0.01,    2.442,2,    0.016,    0.001,2,    0.000,2,    0.000,2,   -999.0,9,   -999.0,9,-999.0000,-999,9,  -999.00,9,  -999.00,   -999.0,9,   -999.0,   1.2225,  27.7811
  49NZ20090410,   P21,   135,  1,      8, X12008,2,20090513,1017,-16.7532,-136.6645, 4279,   4250.3,2,   1.5303,2,   1.53034,2,  34.6915,2,  34.6914,2,   170.78,2,   171.08,2,   126.72,2,     0.40,    34.71,2,     0.13,     0.01,2,     0.01,    2.428,2,    0.016,    0.000,2,    0.000,2,    0.000,2,   -999.0,9,   -999.0,9,-999.0000,-999,9,  -999.00,9,  -999.00,   -999.0,9,   -999.0,   1.1828,  27.7851
  49NZ20090410,   P21,   135,  1,      7, X12007,9,20090513,1017,-16.7532,-136.6645, 4279,      9.5,2,  27.6526,2,  27.65296,2,  36.4303,2,-999.0000,9,   198.25,2,  -999.00,9,  -999.00,9,  -999.00,  -999.00,9,  -999.00,  -999.00,9,  -999.00, -999.000,9, -999.000, -999.000,9, -999.000,9, -999.000,9,   -999.0,9,   -999.0,9,-999.0000,-999,9,  -999.00,9,  -999.00,   -999.0,9,   -999.0,  27.6504,  23.5851
  49NZ20090410,   P21,   135,  1,      6, X12035,9,20090513,1017,-16.7532,-136.6645, 4279,   1199.5,2,   3.6940,2,   3.69526,2,  34.5394,2,-999.0000,9,   112.01,2,  -999.00,9,  -999.00,9,  -999.00,  -999.00,9,  -999.00,  -999.00,9,  -999.00, -999.000,9, -999.000, -999.000,9, -999.000,9, -999.000,9,   -999.0,9,   -999.0,9,-999.0000,-999,9,  -999.00,9,  -999.00,   -999.0,9,   -999.0,   3.6042,  27.4599
  49NZ20090410,   P21,   135,  1,      5, X12038,9,20090513,1017,-16.7532,-136.6645, 4279,   2600.1,2,   1.8114,2,   1.81171,2,  34.6680,2,-999.0000,9,   152.41,2,  -999.00,9,  -999.00,9,  -999.00,  -999.00,9,  -999.00,  -999.00,9,  -999.00, -999.000,9, -999.000, -999.000,9, -999.000,9, -999.000,9,   -999.0,9,   -999.0,9,-999.0000,-999,9,  -999.00,9,  -999.00,   -999.0,9,   -999.0,   1.6255,  27.7345
  49NZ20090410,   P21,   135,  1,      4, X12034,9,20090513,1017,-16.7532,-136.6645, 4279,   2800.1,2,   1.7531,2,   1.75321,2,  34.6736,2,-999.0000,9,   153.66,2,  -999.00,9,  -999.00,9,  -999.00,  -999.00,9,  -999.00,  -999.00,9,  -999.00, -999.000,9, -999.000, -999.000,9, -999.000,9, -999.000,9,   -999.0,9,   -999.0,9,-999.0000,-999,9,  -999.00,9,  -999.00,   -999.0,9,   -999.0,   1.5498,  27.7446
  49NZ20090410,   P21,   135,  1,      3, X12033,2,20090513,1017,-16.7532,-136.6645, 4279,   3002.1,2,   1.7167,2,   1.71673,2,  34.6768,2,  34.6764,2,   155.35,2,  -999.00,9,  -999.00,9,  -999.00,  -999.00,9,  -999.00,  -999.00,9,  -999.00, -999.000,9, -999.000, -999.000,9, -999.000,9, -999.000,9,   -999.0,9,   -999.0,9,-999.0000,-999,9,  -999.00,9,  -999.00,   -999.0,9,   -999.0,   1.4949,  27.7512
  49NZ20090410,   P21,   135,  1,      2, X12032,9,20090513,1017,-16.7532,-136.6645, 4279,    899.4,2,   4.7170,2,   4.71685,2,  34.5003,2,-999.0000,9,   104.58,2,  -999.00,9,  -999.00,9,  -999.00,  -999.00,9,  -999.00,  -999.00,9,  -999.00, -999.000,9, -999.000, -999.000,9, -999.000,9, -999.000,9,   -999.0,9,   -999.0,9,-999.0000,-999,9,  -999.00,9,  -999.00,   -999.0,9,   -999.0,   4.6447,  27.3194
  49NZ20090410,   P21,   135,  1,      1, X12046,2,20090513,1017,-16.7532,-136.6645, 4279,   4340.0,2,   1.5341,2,   1.53412,2,  34.6919,2,  34.6915,6,   171.39,2,   171.55,2,   126.71,2,     0.40,    34.69,2,     0.13,     0.01,2,     0.01,    2.425,2,    0.016,    0.001,2,    0.000,2,    0.000,2,   -999.0,9,   -999.0,9,-999.0000,-999,9,  -999.00,9,  -999.00,   -999.0,9,   -999.0,   1.1764,  27.7858