BOTTLE,20220818CCHSIOAMB
EXPOCODE,SECT_ID,STNNBR,CASTNO,SAMPNO,BTLNBR,BTLNBR_FLAG_W,DATE,TIME,LATITUDE,LONGITUDE,DEPTH,CTDPRS,CTDPRS_FLAG_W,CTDTMP,CTDTMP_FLAG_W,SBE35,SBE35_FLAG_W,CTDSAL,CTDSAL_FLAG_W,SALNTY,SALNTY_FLAG_W,CTDOXY,CTDOXY_FLAG_W,OXYGEN,OXYGEN_FLAG_W,SILCAT,SILCAT_FLAG_W,SILUNC,NITRAT,NITRAT_FLAG_W,NRAUNC,NITRIT,NITRIT_FLAG_W,NRIUNC,PHSPHT,PHSPHT_FLAG_W,PHPUNC,CFC-11,CFC-11_FLAG_W,CFC-12,CFC-12_FLAG_W,CFC113,CFC113_FLAG_W,TCARBN,TCARBN_FLAG_W,ALKALI,ALKALI_FLAG_W,PH_TOT,PH_TMP,PH_TOT_FLAG_W,DELC13,DELC13_FLAG_W,C13ERR,DELC14,DELC14_FLAG_W,C14ERR,THETA,SIG0
,,,,,,,,,,,METERS,DBAR,,ITS-90,,ITS-90,,PSS-78,,PSS-78,,UMOL/KG,,UMOL/KG,,UMOL/KG,,UMOL/KG,UMOL/KG,,UMOL/KG,UMOL/KG,,UMOL/KG,UMOL/KG,,UMOL/KG,PMOL/KG,,PMOL/KG,,PMOL/KG,,UMOL/KG,,UMOL/KG,,,DEG C,,/MILLE,,/MILLE,/MILLE,,/MILLE,DEG C,KG/M^3
  49NZ20090410,   P21,    96,  1,     36, X12006,2,20090504,1032,-16.7507,-110.6725, 3707,      9.7,2,  25.5862,2,  25.58632,2,  36.2237,2,  36.2236,2,   206.25,2,   206.28,2,     0.63,2,     0.12,     0.14,2,     0.03,     0.02,2,     0.01,    0.354,2,    0.014,    1.622,2,    1.026,2, -999.000,5,   2050.0,2,   2394.9,2,   8.0925,  25,6,  -999.00,9,  -999.00,   -999.0,9,   -999.0,  25.5841,  24.0866
  49NZ20090410,   P21,    96,  1,     35, X12047,2,20090504,1032,-16.7507,-110.6725, 3707,     49.5,2,  25.6041,2,  25.60325,2,  36.3190,2,  36.3135,2,   205.00,2,   207.32,2,     0.52,2,     0.12,     0.03,2,     0.03,     0.01,2,     0.01,    0.350,2,    0.014,    1.654,2,    1.052,2, -999.000,5,   2060.1,6,   2398.8,2,   8.0851,  25,2,  -999.00,9,  -999.00,   -999.0,9,   -999.0,  25.5931,  24.1557
  49NZ20090410,   P21,    96,  1,     34, X12004,2,20090504,1032,-16.7507,-110.6725, 3707,    100.8,2,  21.7967,2,  21.79351,2,  36.0360,2,  36.0234,2,   208.76,2,   208.25,2,     0.42,2,     0.12,     0.20,2,     0.03,     0.47,2,     0.00,    0.403,2,    0.013,    1.977,6,    1.225,6, -999.000,5,   2090.2,2,   2379.8,6,   8.0122,  25,2,  -999.00,9,  -999.00,   -999.0,9,   -999.0,  21.7768,  25.0679
  49NZ20090410,   P21,    96,  1,     33, X12003,2,20090504,1032,-16.7507,-110.6725, 3707,    149.9,2,  20.2192,2,  20.21486,2,  35.7849,2,  35.7960,2,   205.38,2,   206.26,2,     0.37,2,     0.12,     1.14,2,     0.04,     0.36,2,     0.00,    0.390,2,    0.013,    2.107,2,    1.294,2, -999.000,5,   2091.6,2,   2361.1,2,   7.9871,  25,2,  -999.00,9,  -999.00,   -999.0,9,   -999.0,  20.1912,  25.3098
  49NZ20090410,   P21,    96,  1,     32, X12002,2,20090504,1032,-16.7507,-110.6725, 3707,    199.7,2,  18.5050,2,  18.50573,2,  35.4313,2,  35.4296,2,   200.87,2,   201.51,2,     0.56,2,     0.12,     3.40,2,     0.04,     0.02,2,     0.01,    0.526,2,    0.013,    2.288,2,    1.380,2,    0.144,2,   2091.9,2,   2338.0,2,   7.9455,  25,2,  -999.00,9,  -999.00,   -999.0,9,   -999.0,  18.4699,  25.4853
  49NZ20090410,   P21,    96,  1,     31, X12001,2,20090504,1032,-16.7507,-110.6725, 3707,    250.4,2,  14.9750,2,  14.97387,2,  34.8639,2,  34.8687,6,   184.13,2,   184.33,2,     1.70,2,     0.12,     8.48,2,     0.06,     0.02,2,     0.01,    0.838,2,    0.013,    2.609,2,    1.510,2,    0.069,2,   2103.8,2,   2300.0,2,   7.8606,  25,2,  -999.00,9,  -999.00,   -999.0,9,   -999.0,  14.9371,  25.8808
  49NZ20090410,   P21,    96,  1,     30, X12030,2,20090504,1032,-16.7507,-110.6725, 3707,    279.3,2,  12.4898,2,  12.49372,2,  34.5521,2,  34.5457,2,   158.83,2,   158.12,2,     4.65,2,     0.13,    14.59,2,     0.07,     0.01,2,     0.01,    1.313,2,    0.014,    2.659,2,    1.458,2,    0.057,2,   2138.5,2,   2281.1,2,   7.7491,  25,2,  -999.00,9,  -999.00,   -999.0,9,   -999.0,  12.4524,  26.1540
  49NZ20090410,   P21,    96,  1,     29, X12044,2,20090504,1032,-16.7507,-110.6725, 3707,    370.1,2,   9.4154,2,   9.40793,2,  34.5350,2,  34.5322,2,    50.95,2,    53.12,2,    19.53,2,     0.16,    30.82,2,     0.12,     0.01,2,     0.01,    2.533,2,    0.016,    0.838,2,    0.421,2,    0.012,2,   2246.3,2,   2284.5,2,   7.4589,  25,2,  -999.00,9,  -999.00,   -999.0,9,   -999.0,   9.3739,  26.6934
  49NZ20090410,   P21,    96,  1,     28, X12048,2,20090504,1032,-16.7507,-110.6725, 3707,    469.4,2,   7.4355,2,   7.43759,2,  34.4685,2,  34.4686,6,    86.17,2,    85.88,2,    22.98,2,     0.17,    34.93,2,     0.13,     0.01,2,     0.01,    2.519,2,    0.016,    0.385,2,    0.192,2,    0.013,2,   2239.9,2,   2286.8,2,   7.4899,  25,2,  -999.00,9,  -999.00,   -999.0,9,   -999.0,   7.3895,  26.9454
  49NZ20090410,   P21,    96,  1,     27, X12027,2,20090504,1032,-16.7507,-110.6725, 3707,    570.6,2,   6.5183,2,   6.51759,2,  34.4777,2,  34.4780,2,    82.45,2,    82.21,2,    32.27,2,     0.19,    37.73,2,     0.14,     0.01,2,     0.01,    2.660,2,    0.017,    0.091,6,    0.049,6,    0.000,6,   2252.7,2,   2298.0,2,   7.4814,  25,2,  -999.00,9,  -999.00,   -999.0,9,   -999.0,   6.4659,  27.0796
  49NZ20090410,   P21,    96,  1,     26, X12026,2,20090504,1032,-16.7507,-110.6725, 3707,    669.7,2,   5.9142,2,   5.91335,2,  34.4822,2,  34.4815,2,    74.09,2,    74.69,2,    41.22,2,     0.21,    39.89,2,     0.14,     0.01,2,     0.01,    2.798,2,    0.017,    0.016,2,    0.008,2,    0.000,2,   2267.2,6,   2306.7,2,   7.4616,  25,2,  -999.00,9,  -999.00,   -999.0,9,   -999.0,   5.8553,  27.1618
  49NZ20090410,   P21,    96,  1,     25, X12025,2,20090504,1032,-16.7507,-110.6725, 3707,    770.6,2,   5.3734,2,   5.37557,2,  34.4933,2,  34.4930,2,    67.99,2,    68.17,2,    51.37,2,     0.23,    41.49,2,     0.15,     0.01,2,     0.01,    2.929,2,    0.017,    0.005,2,    0.003,2,    0.000,2,   2282.6,2,   2316.6,6,   7.4452,  25,2,  -999.00,9,  -999.00,   -999.0,9,   -999.0,   5.3083,  27.2374
  49NZ20090410,   P21,    96,  1,     24, X12024,2,20090504,1032,-16.7507,-110.6725, 3707,    871.0,2,   4.9185,2,   4.91896,2,  34.5050,2,  34.5049,2,    64.55,2,    64.65,2,    61.07,2,     0.25,    42.46,2,     0.15,     0.01,2,     0.01,    3.007,2,    0.017,    0.001,2,    0.001,2,    0.000,2,   2296.7,2,   2327.8,2,   7.4346,  25,6,  -999.00,9,  -999.00,   -999.0,9,   -999.0,   4.8473,  27.3003
  49NZ20090410,   P21,    96,  1,     23, X12028,2,20090504,1032,-16.7507,-110.6725, 3707,    969.6,2,   4.5226,2,   4.52189,2,  34.5199,2,  34.5196,6,    64.23,2,    63.99,2,    70.61,2,     0.27,    42.68,2,     0.15,     0.01,2,     0.01,    3.052,2,    0.018,    0.001,2,    0.000,2,    0.000,2,   2308.7,2,   2338.1,2,   7.4329,  25,2,  -999.00,9,  -999.00,   -999.0,9,   -999.0,   4.4455,  27.3569
  49NZ20090410,   P21,    96,  1,     22, X12022,2,20090504,1032,-16.7507,-110.6725, 3707,   1128.5,2,   3.9013,2,   3.90151,2,  34.5405,2,  34.5409,2,    80.58,2,    80.61,2,    82.94,2,     0.30,    41.46,2,     0.15,     0.01,2,     0.01,    2.972,2,    0.017,    0.000,2,    0.000,2,    0.000,2,   2313.6,2,   2352.7,2,   7.4608,  25,2,  -999.00,9,  -999.00,   -999.0,9,   -999.0,   3.8156,  27.4395
  49NZ20090410,   P21,    96,  1,     21, X12021,2,20090504,1032,-16.7507,-110.6725, 3707,   1329.9,2,   3.3956,2,   3.39755,2,  34.5660,2,  34.5658,2,    86.66,2,    86.63,2,    95.45,2,     0.33,    40.98,2,     0.15,     0.01,2,     0.01,    2.947,2,    0.017,    0.000,2,    0.000,2,    0.000,2,   2323.9,2,   2366.9,2,   7.4706,  25,2,  -999.00,9,  -999.00,   -999.0,9,   -999.0,   3.2977,  27.5108
  49NZ20090410,   P21,    96,  1,     20, X12020,2,20090504,1032,-16.7507,-110.6725, 3707,   1530.6,2,   2.9281,2,   2.92799,2,  34.5924,2,  34.5926,2,    98.07,2,    98.31,2,   106.53,2,     0.35,    39.93,2,     0.14,     0.01,2,     0.01,    2.873,2,    0.017,    0.000,2,    0.000,2,    0.000,2,   2328.8,2,   2379.4,2,   7.4929,  25,6,  -999.00,9,  -999.00,   -999.0,9,   -999.0,   2.8185,  27.5761
  49NZ20090410,   P21,    96,  1,     19, X12019,2,20090504,1032,-16.7507,-110.6725, 3707,   1730.9,2,   2.5853,2,   2.58536,2,  34.6139,2,  34.6138,2,   110.11,2,   110.34,2,   113.43,2,     0.37,    38.93,2,     0.14,     0.01,2,     0.01,    2.786,2,    0.017,    0.000,2,    0.000,2,    0.000,2,   2330.5,2,   2388.5,2,   7.5148,  25,2,  -999.00,9,  -999.00,   -999.0,9,   -999.0,   2.4632,  27.6243
  49NZ20090410,   P21,    96,  1,     18, X12043,2,20090504,1032,-16.7507,-110.6725, 3707,   1930.6,2,   2.2879,2,   2.28783,2,  34.6310,2,  34.6311,6,   127.14,2,   127.35,2,   115.86,2,     0.37,    37.76,2,     0.14,     0.01,2,     0.01,    2.672,2,    0.017,    0.000,2,    0.000,2,    0.000,2,   2321.6,2,   2392.1,2,   7.5435,  25,2,  -999.00,9,  -999.00,   -999.0,9,   -999.0,   2.1530,  27.6638
  49NZ20090410,   P21,    96,  1,     17, X12042,2,20090504,1032,-16.7507,-110.6725, 3707,   2132.1,2,   2.0509,2,   2.05076,2,  34.6472,2,  34.6474,2,   143.01,2,   143.20,2,   116.29,2,     0.37,    36.39,2,     0.13,     0.01,2,     0.01,    2.566,2,    0.016, -999.000,9, -999.000,9, -999.000,9,   2311.2,2,   2393.6,2,   7.5696,  25,2,  -999.00,9,  -999.00,   -999.0,9,   -999.0,   1.9024,  27.6967
  49NZ20090410,   P21,    96,  1,     16, X12016,2,20090504,1032,-16.7507,-110.6725, 3707,   2330.3,2,   1.9013,2,   1.90125,2,  34.6615,2,  34.6611,2,   152.27,2,   152.40,2,   117.00,2,     0.38,    35.68,2,     0.13,     0.01,2,     0.01,    2.498,2,    0.016, -999.000,9, -999.000,9, -999.000,9,   2309.5,2,   2395.0,2,   7.5845,  25,2,  -999.00,9,  -999.00,   -999.0,9,   -999.0,   1.7380,  27.7208
  49NZ20090410,   P21,    96,  1,     15, X12015,2,20090504,1032,-16.7507,-110.6725, 3707,   2530.4,2,   1.8322,2,   1.83239,2,  34.6718,2,  34.6710,2,   153.03,2,   153.21,2,   120.73,2,     0.38,    35.56,2,     0.13,     0.01,2,     0.01,    2.497,2,    0.016,    0.000,2,    0.000,2,    0.000,2,   2313.2,2,   2401.7,6,   7.5909,  25,2,  -999.00,9,  -999.00,   -999.0,9,   -999.0,   1.6522,  27.7355
  49NZ20090410,   P21,    96,  1,     14, X12050,2,20090504,1032,-16.7507,-110.6725, 3707,   2730.6,2,   1.8210,2,   1.82086,2,  34.6766,2,  34.6768,2,   149.63,2,   149.78,2,   125.14,2,     0.39,    35.76,2,     0.13,     0.01,2,     0.01,    2.521,2,    0.016, -999.000,9, -999.000,9, -999.000,9,   2321.2,2,   2410.4,2,   7.5920,  25,6,  -999.00,9,  -999.00,   -999.0,9,   -999.0,   1.6228,  27.7416
  49NZ20090410,   P21,    96,  1,     13, X12013,7,20090504,1032,-16.7507,-110.6725, 3707,   2931.8,2,   1.8213,2,   1.82120,2,  34.6789,2,  34.6792,6,   146.30,2,   146.33,2,   128.92,2,     0.40,    36.06,2,     0.13,     0.01,2,     0.01,    2.537,2,    0.016, -999.000,9, -999.000,9, -999.000,9,   2328.1,2,   2416.2,2,   7.5925,  25,2,  -999.00,9,  -999.00,   -999.0,9,   -999.0,   1.6040,  27.7448
  49NZ20090410,   P21,    96,  1,     12, X12012,2,20090504,1032,-16.7507,-110.6725, 3707,   3170.5,2,   1.8231,2,   1.82310,2,  34.6786,2,  34.6781,2,   141.73,2,   141.82,2,   134.04,2,     0.41,    36.54,2,     0.14,     0.01,2,     0.01,    2.574,2,    0.016, -999.000,9, -999.000,9, -999.000,9,   2334.0,2,   2422.2,2,   7.5895,  25,2,  -999.00,9,  -999.00,   -999.0,9,   -999.0,   1.5824,  27.7462
  49NZ20090410,   P21,    96,  1,     11, X12041,2,20090504,1032,-16.7507,-110.6725, 3707,   3423.5,2,   1.8401,2,   1.84014,2,  34.6782,2,  34.6776,2,   140.01,2,   140.32,2,   135.84,2,     0.42,    36.80,2,     0.14,     0.01,2,     0.01,    2.579,2,    0.016,    0.000,2,    0.000,2,    0.000,2,   2341.1,2,   2424.2,2,   7.5878,  25,2,  -999.00,9,  -999.00,   -999.0,9,   -999.0,   1.5734,  27.7466
  49NZ20090410,   P21,    96,  1,     10, X12040,2,20090504,1032,-16.7507,-110.6725, 3707,   3671.2,2,   1.8656,2,   1.86576,2,  34.6782,2,  34.6780,2,   139.87,2,   139.98,2,   136.24,2,     0.42,    36.80,2,     0.14,     0.01,2,     0.01,    2.589,2,    0.016,    0.001,2,    0.001,2,    0.000,2,   2340.1,2,   2424.5,2,   7.5878,  25,2,  -999.00,9,  -999.00,   -999.0,9,   -999.0,   1.5722,  27.7466
  49NZ20090410,   P21,    96,  1,      9, X12009,9,20090504,1032,-16.7507,-110.6725, 3707,    870.4,2,   4.9183,2,   4.91836,2,  34.5050,2,-999.0000,9,    64.64,2,  -999.00,9,  -999.00,9,  -999.00,  -999.00,9,  -999.00,  -999.00,9,  -999.00, -999.000,9, -999.000, -999.000,9, -999.000,9, -999.000,9,   -999.0,9,   -999.0,9,-999.0000,-999,9,  -999.00,9,  -999.00,   -999.0,9,   -999.0,   4.8471,  27.3004
  49NZ20090410,   P21,    96,  1,      8, X12008,9,20090504,1032,-16.7507,-110.6725, 3707,      9.9,2,  25.5876,2,  25.58708,2,  36.2236,2,-999.0000,9,   206.24,2,  -999.00,9,  -999.00,9,  -999.00,  -999.00,9,  -999.00,  -999.00,9,  -999.00, -999.000,9, -999.000, -999.000,9, -999.000,9, -999.000,9,   -999.0,9,   -999.0,9,-999.0000,-999,9,  -999.00,9,  -999.00,   -999.0,9,   -999.0,  25.5854,  24.0861
  49NZ20090410,   P21,    96,  1,      7, X12007,9,20090504,1032,-16.7507,-110.6725, 3707,     49.4,2,  25.5921,2,  25.58994,2,  36.3189,2,-999.0000,9,   205.13,2,  -999.00,9,  -999.00,9,  -999.00,  -999.00,9,  -999.00,  -999.00,9,  -999.00, -999.000,9, -999.000, -999.000,9, -999.000,9, -999.000,9,   -999.0,9,   -999.0,9,-999.0000,-999,9,  -999.00,9,  -999.00,   -999.0,9,   -999.0,  25.5812,  24.1594
  49NZ20090410,   P21,    96,  1,      6, X12035,9,20090504,1032,-16.7507,-110.6725, 3707,    100.3,2,  21.7774,2,  21.77756,2,  36.0210,2,-999.0000,9,   208.39,2,  -999.00,9,  -999.00,9,  -999.00,  -999.00,9,  -999.00,  -999.00,9,  -999.00, -999.000,9, -999.000, -999.000,9, -999.000,9, -999.000,9,   -999.0,9,   -999.0,9,-999.0000,-999,9,  -999.00,9,  -999.00,   -999.0,9,   -999.0,  21.7576,  25.0619
  49NZ20090410,   P21,    96,  1,      5, X12038,9,20090504,1032,-16.7507,-110.6725, 3707,    148.3,2,  20.2454,2,  20.24052,2,  35.7913,2,-999.0000,9,   205.64,2,  -999.00,9,  -999.00,9,  -999.00,  -999.00,9,  -999.00,  -999.00,9,  -999.00, -999.000,9, -999.000, -999.000,9, -999.000,9, -999.000,9,   -999.0,9,   -999.0,9,-999.0000,-999,9,  -999.00,9,  -999.00,   -999.0,9,   -999.0,  20.2176,  25.3077
  49NZ20090410,   P21,    96,  1,      4, X12034,9,20090504,1032,-16.7507,-110.6725, 3707,    199.9,2,  18.4946,2,  18.49934,2,  35.4300,2,-999.0000,9,   201.02,2,  -999.00,9,  -999.00,9,  -999.00,  -999.00,9,  -999.00,  -999.00,9,  -999.00, -999.000,9, -999.000, -999.000,9, -999.000,9, -999.000,9,   -999.0,9,   -999.0,9,-999.0000,-999,9,  -999.00,9,  -999.00,   -999.0,9,   -999.0,  18.4595,  25.4869
  49NZ20090410,   P21,    96,  1,      3, X12033,9,20090504,1032,-16.7507,-110.6725, 3707,    251.9,2,  14.8554,2,  14.85527,2,  34.8463,2,-999.0000,9,   184.31,2,  -999.00,9,  -999.00,9,  -999.00,  -999.00,9,  -999.00,  -999.00,9,  -999.00, -999.000,9, -999.000, -999.000,9, -999.000,9, -999.000,9,   -999.0,9,   -999.0,9,-999.0000,-999,9,  -999.00,9,  -999.00,   -999.0,9,   -999.0,  14.8175,  25.8934
  49NZ20090410,   P21,    96,  1,      2, X12032,9,20090504,1032,-16.7507,-110.6725, 3707,    278.9,2,  12.4959,2,  12.49436,2,  34.5531,2,-999.0000,9,   159.72,2,  -999.00,9,  -999.00,9,  -999.00,  -999.00,9,  -999.00,  -999.00,9,  -999.00, -999.000,9, -999.000, -999.000,9, -999.000,9, -999.000,9,   -999.0,9,   -999.0,9,-999.0000,-999,9,  -999.00,9,  -999.00,   -999.0,9,   -999.0,  12.4586,  26.1536
  49NZ20090410,   P21,    96,  1,      1, X12046,2,20090504,1032,-16.7507,-110.6725, 3707,   3795.7,2,   1.8793,2,   1.87927,2,  34.6781,2,  34.6775,6,   139.89,2,   140.21,2,   136.08,2,     0.42,    36.86,2,     0.14,     0.01,2,     0.01,    2.581,2,    0.016,    0.000,2,    0.002,2,    0.000,2,   2339.4,2,   2425.3,2,   7.5887,  25,2,  -999.00,9,  -999.00,   -999.0,9,   -999.0,   1.5722,  27.7465