BOTTLE,20220818CCHSIOAMB
EXPOCODE,SECT_ID,STNNBR,CASTNO,SAMPNO,BTLNBR,BTLNBR_FLAG_W,DATE,TIME,LATITUDE,LONGITUDE,DEPTH,CTDPRS,CTDPRS_FLAG_W,CTDTMP,CTDTMP_FLAG_W,SBE35,SBE35_FLAG_W,CTDSAL,CTDSAL_FLAG_W,SALNTY,SALNTY_FLAG_W,CTDOXY,CTDOXY_FLAG_W,OXYGEN,OXYGEN_FLAG_W,SILCAT,SILCAT_FLAG_W,SILUNC,NITRAT,NITRAT_FLAG_W,NRAUNC,NITRIT,NITRIT_FLAG_W,NRIUNC,PHSPHT,PHSPHT_FLAG_W,PHPUNC,CFC-11,CFC-11_FLAG_W,CFC-12,CFC-12_FLAG_W,CFC113,CFC113_FLAG_W,TCARBN,TCARBN_FLAG_W,ALKALI,ALKALI_FLAG_W,PH_TOT,PH_TMP,PH_TOT_FLAG_W,DELC13,DELC13_FLAG_W,C13ERR,DELC14,DELC14_FLAG_W,C14ERR,THETA,SIG0
,,,,,,,,,,,METERS,DBAR,,ITS-90,,ITS-90,,PSS-78,,PSS-78,,UMOL/KG,,UMOL/KG,,UMOL/KG,,UMOL/KG,UMOL/KG,,UMOL/KG,UMOL/KG,,UMOL/KG,UMOL/KG,,UMOL/KG,PMOL/KG,,PMOL/KG,,PMOL/KG,,UMOL/KG,,UMOL/KG,,,DEG C,,/MILLE,,/MILLE,/MILLE,,/MILLE,DEG C,KG/M^3
  49NZ20090410,   P21,    63,  1,     36, X12006,2,20090427,1821,-16.7438, -93.9977, 4351,     10.2,2,  23.8831,2,  23.88217,2,  35.8166,2,  35.8163,2,   213.60,2,   213.81,2,     0.30,2,     0.12,     0.42,2,     0.03,     0.02,2,     0.01,    0.402,2,    0.013,    1.708,2,    1.089,2, -999.000,5,   2046.1,2,   2373.5,2,   8.0691,  25,6,  -999.00,9,  -999.00,   -999.0,9,   -999.0,  23.8810,  24.2951
  49NZ20090410,   P21,    63,  1,     35, X12047,2,20090427,1821,-16.7438, -93.9977, 4351,     50.8,2,  23.8555,2,  23.85307,2,  35.8209,2,  35.8223,2,   212.78,2,   213.32,2,     0.31,2,     0.12,     0.41,2,     0.03,     0.03,2,     0.01,    0.401,2,    0.013,    1.710,2,    1.093,2, -999.000,5,   2044.8,6,   2372.3,2,   8.0685,  25,2,  -999.00,9,  -999.00,   -999.0,9,   -999.0,  23.8448,  24.3091
  49NZ20090410,   P21,    63,  1,     34, X12004,2,20090427,1821,-16.7438, -93.9977, 4351,    101.6,2,  18.8108,2,  18.81036,2,  35.3465,2,  35.3473,2,   210.20,2,   208.97,2,     1.19,2,     0.12,     4.09,2,     0.04,     1.60,2,     0.01,    0.844,2,    0.013,    2.206,6,    1.368,6,    0.200,6,   2102.8,2,   2341.4,6,   7.9321,  25,2,  -999.00,9,  -999.00,   -999.0,9,   -999.0,  18.7928,  25.3389
  49NZ20090410,   P21,    63,  1,     33, X12003,2,20090427,1821,-16.7438, -93.9977, 4351,    150.3,2,  16.6393,2,  16.63186,2,  35.0348,2,  35.0386,2,   185.97,2,   182.69,2,     2.35,2,     0.12,    11.12,2,     0.06,     0.03,2,     0.01,    1.179,2,    0.013,    2.405,2,    1.460,2,    0.165,2,   2128.6,2,   2317.7,2,   7.8325,  25,6,  -999.00,9,  -999.00,   -999.0,9,   -999.0,  16.6149,  25.6319
  49NZ20090410,   P21,    63,  1,     32, X12002,2,20090427,1821,-16.7438, -93.9977, 4351,    201.0,2,  13.1632,2,  13.15676,2,  34.6836,2,  34.6888,2,    89.30,2,    86.07,2,    10.18,2,     0.14,    20.43,2,     0.09,     0.02,2,     0.01,    2.045,2,    0.015,    2.142,2,    1.235,2,    0.061,2,   2206.1,2,   2291.0,2,   7.5863,  25,2,  -999.00,9,  -999.00,   -999.0,9,   -999.0,  13.1354,  26.1205
  49NZ20090410,   P21,    63,  1,     31, X12001,2,20090427,1821,-16.7438, -93.9977, 4351,    250.5,2,  11.9826,2,  11.98766,2,  34.7506,2,  34.7486,6,     6.05,2,     6.46,2,    22.03,2,     0.17,    23.57,2,     0.10,     0.02,2,     0.01,    2.682,2,    0.017,    0.944,2,    0.530,2,    0.020,2,   2267.3,2,   2297.9,2,   7.4204,  25,2,  -999.00,9,  -999.00,   -999.0,9,   -999.0,  11.9500,  26.4049
  49NZ20090410,   P21,    63,  1,     30, X12030,2,20090427,1821,-16.7438, -93.9977, 4351,    299.3,2,  11.0243,2,  11.02431,2,  34.7130,2,  34.7111,2,     6.04,2,     6.21,2,    23.62,2,     0.17,    28.54,2,     0.11,     0.01,2,     0.01,    2.723,2,    0.017,    0.592,2,    0.323,2,    0.019,2,   2268.4,2,   2295.7,2,   7.4047,  25,2,  -999.00,9,  -999.00,   -999.0,9,   -999.0,  10.9873,  26.5543
  49NZ20090410,   P21,    63,  1,     29, X12044,2,20090427,1821,-16.7438, -93.9977, 4351,    399.4,2,   9.2413,2,   9.23953,2,  34.6441,2,  34.6427,2,    17.86,2,    18.15,2,    27.27,2,     0.18,    36.00,2,     0.13,     0.01,2,     0.01,    2.726,2,    0.017,    0.187,2,    0.102,2,    0.008,2,   2269.9,2,   2297.8,2,   7.4101,  25,2,  -999.00,9,  -999.00,   -999.0,9,   -999.0,   9.1969,  26.8077
  49NZ20090410,   P21,    63,  1,     28, X12048,2,20090427,1821,-16.7438, -93.9977, 4351,    500.3,2,   7.9491,2,   7.94846,2,  34.5876,2,  34.5868,6,    39.54,2,    39.61,2,    31.92,2,     0.19,    38.37,2,     0.14,     0.01,2,     0.01,    2.727,2,    0.017,    0.071,2,    0.038,2,    0.000,2,   2265.1,2,   2301.1,2,   7.4340,  25,2,  -999.00,9,  -999.00,   -999.0,9,   -999.0,   7.8980,  26.9652
  49NZ20090410,   P21,    63,  1,     27, X12027,2,20090427,1821,-16.7438, -93.9977, 4351,    602.2,2,   6.8853,2,   6.88563,2,  34.5435,2,  34.5415,2,    42.35,2,    43.22,2,    38.94,2,     0.20,    40.96,2,     0.15,     0.01,2,     0.01,    2.878,2,    0.017,    0.024,6,    0.015,6,    0.000,6,   2274.7,2,   2306.1,2,   7.4213,  25,2,  -999.00,9,  -999.00,   -999.0,9,   -999.0,   6.8282,  27.0828
  49NZ20090410,   P21,    63,  1,     26, X12026,2,20090427,1821,-16.7438, -93.9977, 4351,    700.5,2,   6.1582,2,   6.15935,2,  34.5166,2,  34.5158,2,    44.49,2,    44.86,2,    45.36,2,     0.22,    42.50,2,     0.15,     0.01,2,     0.01,    2.986,2,    0.017,    0.007,2,    0.004,2,    0.000,2,   2284.2,6,   2311.2,2,   7.4108,  25,2,  -999.00,9,  -999.00,   -999.0,9,   -999.0,   6.0952,  27.1586
  49NZ20090410,   P21,    63,  1,     25, X12025,2,20090427,1821,-16.7438, -93.9977, 4351,    799.9,2,   5.6138,2,   5.61391,2,  34.5103,2,  34.5095,2,    45.83,2,    46.20,2,    52.83,2,     0.24,    43.33,2,     0.15,     0.01,2,     0.01,    3.066,2,    0.018,    0.001,2,    0.001,2,    0.000,2,   2295.1,2,   2318.6,6,   7.4051,  25,2,  -999.00,9,  -999.00,   -999.0,9,   -999.0,   5.5446,  27.2224
  49NZ20090410,   P21,    63,  1,     24, X12024,2,20090427,1821,-16.7438, -93.9977, 4351,    898.6,2,   5.0242,2,   5.02416,2,  34.5151,2,  34.5144,2,    49.97,2,    50.44,2,    63.10,2,     0.26,    43.89,2,     0.16,     0.01,2,     0.01,    3.107,2,    0.018,    0.001,2,    0.003,2,    0.000,2,   2304.1,2,   2329.4,2,   7.4080,  25,6,  -999.00,9,  -999.00,   -999.0,9,   -999.0,   4.9498,  27.2966
  49NZ20090410,   P21,    63,  1,     23, X12028,2,20090427,1821,-16.7438, -93.9977, 4351,    999.6,2,   4.6646,2,   4.66443,2,  34.5224,2,  34.5221,6,    56.62,2,    57.15,2,    69.94,2,     0.27,    43.40,2,     0.15,     0.01,2,     0.01,    3.094,2,    0.018,    0.001,2,    0.001,2,    0.000,2,   2306.4,2,   2338.4,2,   7.4188,  25,2,  -999.00,9,  -999.00,   -999.0,9,   -999.0,   4.5838,  27.3437
  49NZ20090410,   P21,    63,  1,     22, X12022,2,20090427,1821,-16.7438, -93.9977, 4351,   1200.1,2,   3.9034,2,   3.90323,2,  34.5445,2,  34.5445,2,    72.63,2,    72.44,2,    85.75,2,     0.31,    42.23,2,     0.15,     0.01,2,     0.01,    3.040,2,    0.018,    0.001,2,    0.001,2,    0.000,2,   2314.9,2,   2355.9,2,   7.4461,  25,2,  -999.00,9,  -999.00,   -999.0,9,   -999.0,   3.8116,  27.4432
  49NZ20090410,   P21,    63,  1,     21, X12021,2,20090427,1821,-16.7438, -93.9977, 4351,   1400.7,2,   3.3635,2,   3.36412,2,  34.5708,2,  34.5704,2,    82.94,2,    82.76,2,    98.81,2,     0.34,    41.23,2,     0.15,     0.01,2,     0.01,    2.980,2,    0.017,    0.003,3,    0.002,3,    0.007,3,   2318.8,2,   2370.5,2,   7.4637,  25,2,  -999.00,9,  -999.00,   -999.0,9,   -999.0,   3.2600,  27.5182
  49NZ20090410,   P21,    63,  1,     20, X12020,2,20090427,1821,-16.7438, -93.9977, 4351,   1599.6,2,   2.8706,2,   2.87071,2,  34.5973,2,  34.5970,2,    95.87,2,    95.69,2,   109.81,2,     0.36,    40.30,2,     0.15,     0.01,2,     0.01,    2.898,2,    0.017,    0.000,2,    0.000,2,    0.000,2,   2329.6,2,   2384.1,2,   7.4876,  25,2,  -999.00,9,  -999.00,   -999.0,9,   -999.0,   2.7559,  27.5856
  49NZ20090410,   P21,    63,  1,     19, X12019,2,20090427,1821,-16.7438, -93.9977, 4351,   1799.6,2,   2.5580,2,   2.55791,2,  34.6179,2,  34.6176,2,   105.18,2,   104.95,2,   117.44,2,     0.38,    39.46,2,     0.14,     0.01,2,     0.01,    2.824,2,    0.017,    0.000,2,    0.000,2,    0.000,2,   2332.5,2,   2393.6,2,   7.5053,  25,2,  -999.00,9,  -999.00,   -999.0,9,   -999.0,   2.4304,  27.6303
  49NZ20090410,   P21,    63,  1,     18, X12043,2,20090427,1821,-16.7438, -93.9977, 4351,   2000.9,2,   2.2920,2,   2.29193,2,  34.6354,2,  34.6355,2,   117.84,2,   117.61,2,   121.64,2,     0.39,    38.50,2,     0.14,     0.01,2,     0.01,    2.732,2,    0.017, -999.000,9, -999.000,9, -999.000,9,   2328.5,2,   2398.9,2,   7.5296,  25,2,  -999.00,9,  -999.00,   -999.0,9,   -999.0,   2.1510,  27.6675
  49NZ20090410,   P21,    63,  1,     17, X12042,2,20090427,1821,-16.7438, -93.9977, 4351,   2200.2,2,   2.0726,2,   2.07258,2,  34.6509,2,  34.6508,6,   131.49,2,   131.23,2,   122.81,2,     0.39,    37.30,2,     0.14,     0.01,2,     0.01,    2.633,2,    0.017, -999.000,9, -999.000,9, -999.000,9,   2323.1,2,   2402.1,2,   7.5524,  25,2,  -999.00,9,  -999.00,   -999.0,9,   -999.0,   1.9178,  27.6985
  49NZ20090410,   P21,    63,  1,     16, X12016,2,20090427,1821,-16.7438, -93.9977, 4351,   2400.6,2,   1.9505,2,   1.95041,2,  34.6609,2,  34.6605,2,   139.98,2,   139.75,2,   123.36,2,     0.39,    36.61,2,     0.14,     0.01,2,     0.01,    2.573,2,    0.016,    0.000,2,    0.000,2,    0.000,2,   2318.8,6,   2403.6,2,   7.5681,  25,2,  -999.00,9,  -999.00,   -999.0,9,   -999.0,   1.7801,  27.7171
  49NZ20090410,   P21,    63,  1,     15, X12015,2,20090427,1821,-16.7438, -93.9977, 4351,   2601.0,2,   1.8656,2,   1.86560,2,  34.6696,2,  34.6692,2,   142.47,2,   142.25,2,   126.32,2,     0.40,    36.38,2,     0.13,     0.01,2,     0.01,    2.563,2,    0.016, -999.000,9, -999.000,9, -999.000,9,   2322.2,2,   2408.4,6,   7.5754,  25,2,  -999.00,9,  -999.00,   -999.0,9,   -999.0,   1.6786,  27.7318
  49NZ20090410,   P21,    63,  1,     14, X12050,2,20090427,1821,-16.7438, -93.9977, 4351,   2801.3,2,   1.8173,2,   1.81725,2,  34.6754,2,  34.6749,2,   144.83,2,   144.44,2,   127.89,2,     0.40,    36.18,2,     0.13,     0.01,2,     0.01,    2.542,2,    0.016, -999.000,9, -999.000,9, -999.000,9,   2321.8,2,   2411.9,2,   7.5818,  25,6,  -999.00,9,  -999.00,   -999.0,9,   -999.0,   1.6126,  27.7414
  49NZ20090410,   P21,    63,  1,     13, X12013,7,20090427,1821,-16.7438, -93.9977, 4351,   2999.6,2,   1.7960,2,   1.79582,2,  34.6788,2,  34.6796,2,   144.91,2,   144.66,2,   129.51,2,     0.40,    36.28,2,     0.13,     0.01,2,     0.01,    2.545,2,    0.016,    0.001,2,    0.001,2,    0.000,2,   2325.7,2,   2414.6,2,   7.5849,  25,2,  -999.00,9,  -999.00,   -999.0,9,   -999.0,   1.5727,  27.7471
  49NZ20090410,   P21,    63,  1,     12, X12012,2,20090427,1821,-16.7438, -93.9977, 4351,   3250.2,2,   1.7843,2,   1.78421,2,  34.6822,2,  34.6818,6,   145.77,2,   145.54,2,   130.49,2,     0.41,    36.28,2,     0.13,     0.01,2,     0.01,    2.536,2,    0.016, -999.000,9, -999.000,9, -999.000,9,   2326.8,2,   2416.9,2,   7.5871,  25,2,  -999.00,9,  -999.00,   -999.0,9,   -999.0,   1.5365,  27.7524
  49NZ20090410,   P21,    63,  1,     11, X12041,2,20090427,1821,-16.7438, -93.9977, 4351,   3500.1,2,   1.7754,2,   1.77522,2,  34.6849,2,  34.6844,2,   147.27,2,   147.14,2,   130.01,2,     0.41,    36.05,2,     0.13,     0.01,2,     0.01,    2.528,2,    0.016, -999.000,9, -999.000,9, -999.000,9,   2325.3,2,   2417.1,2,   7.5893,  25,2,  -999.00,9,  -999.00,   -999.0,9,   -999.0,   1.5023,  27.7572
  49NZ20090410,   P21,    63,  1,     10, X12040,2,20090427,1821,-16.7438, -93.9977, 4351,   3749.6,2,   1.7689,2,   1.76885,2,  34.6873,2,  34.6873,2,   149.59,2,   149.50,2,   128.69,2,     0.40,    35.88,2,     0.13,     0.01,2,     0.01,    2.512,2,    0.016,    0.000,2,    0.000,2,    0.000,2,   2322.2,2,   2415.5,2,   7.5912,  25,2,  -999.00,9,  -999.00,   -999.0,9,   -999.0,   1.4697,  27.7615
  49NZ20090410,   P21,    63,  1,      9, X12009,2,20090427,1821,-16.7438, -93.9977, 4351,   4001.3,2,   1.7852,2,   1.78509,2,  34.6881,2,  34.6880,2,   150.33,2,   150.32,2,   128.14,2,     0.40,    35.77,2,     0.13,     0.01,2,     0.01,    2.505,2,    0.016,    0.000,2,    0.001,2,    0.000,2,   2323.9,2,   2415.0,2,   7.5919,  25,2,  -999.00,9,  -999.00,   -999.0,9,   -999.0,   1.4581,  27.7629
  49NZ20090410,   P21,    63,  1,      8, X12008,2,20090427,1821,-16.7438, -93.9977, 4351,   4249.3,2,   1.8089,2,   1.80885,2,  34.6884,2,  34.6879,2,   150.57,2,   150.62,2,   128.04,2,     0.40,    35.81,2,     0.13,     0.01,2,     0.01,    2.505,2,    0.016,    0.000,2,    0.000,2,    0.000,2,   2321.9,6,   2415.1,2,   7.5913,  25,2,  -999.00,9,  -999.00,   -999.0,9,   -999.0,   1.4533,  27.7635
  49NZ20090410,   P21,    63,  1,      7, X12007,9,20090427,1821,-16.7438, -93.9977, 4351,     10.3,2,  23.8839,2,  23.87860,2,  35.8170,2,-999.0000,9,   213.68,2,  -999.00,9,  -999.00,9,  -999.00,  -999.00,9,  -999.00,  -999.00,9,  -999.00, -999.000,9, -999.000, -999.000,9, -999.000,9, -999.000,9,   -999.0,9,   -999.0,9,-999.0000,-999,9,  -999.00,9,  -999.00,   -999.0,9,   -999.0,  23.8817,  24.2952
  49NZ20090410,   P21,    63,  1,      6, X12035,9,20090427,1821,-16.7438, -93.9977, 4351,   2200.0,2,   2.0726,2,   2.07253,2,  34.6509,2,-999.0000,9,   131.51,2,  -999.00,9,  -999.00,9,  -999.00,  -999.00,9,  -999.00,  -999.00,9,  -999.00, -999.000,9, -999.000, -999.000,9, -999.000,9, -999.000,9,   -999.0,9,   -999.0,9,-999.0000,-999,9,  -999.00,9,  -999.00,   -999.0,9,   -999.0,   1.9178,  27.6984
  49NZ20090410,   P21,    63,  1,      5, X12038,9,20090427,1821,-16.7438, -93.9977, 4351,   2400.5,2,   1.9505,2,   1.95042,2,  34.6609,2,-999.0000,9,   139.96,2,  -999.00,9,  -999.00,9,  -999.00,  -999.00,9,  -999.00,  -999.00,9,  -999.00, -999.000,9, -999.000, -999.000,9, -999.000,9, -999.000,9,   -999.0,9,   -999.0,9,-999.0000,-999,9,  -999.00,9,  -999.00,   -999.0,9,   -999.0,   1.7801,  27.7171
  49NZ20090410,   P21,    63,  1,      4, X12034,9,20090427,1821,-16.7438, -93.9977, 4351,   2600.6,2,   1.8658,2,   1.86568,2,  34.6696,2,-999.0000,9,   142.45,2,  -999.00,9,  -999.00,9,  -999.00,  -999.00,9,  -999.00,  -999.00,9,  -999.00, -999.000,9, -999.000, -999.000,9, -999.000,9, -999.000,9,   -999.0,9,   -999.0,9,-999.0000,-999,9,  -999.00,9,  -999.00,   -999.0,9,   -999.0,   1.6788,  27.7318
  49NZ20090410,   P21,    63,  1,      3, X12033,9,20090427,1821,-16.7438, -93.9977, 4351,   2800.3,2,   1.8173,2,   1.81727,2,  34.6753,2,-999.0000,9,   144.87,2,  -999.00,9,  -999.00,9,  -999.00,  -999.00,9,  -999.00,  -999.00,9,  -999.00, -999.000,9, -999.000, -999.000,9, -999.000,9, -999.000,9,   -999.0,9,   -999.0,9,-999.0000,-999,9,  -999.00,9,  -999.00,   -999.0,9,   -999.0,   1.6127,  27.7413
  49NZ20090410,   P21,    63,  1,      2, X12032,9,20090427,1821,-16.7438, -93.9977, 4351,   3000.0,2,   1.7959,2,   1.79579,2,  34.6788,2,-999.0000,9,   144.91,2,  -999.00,9,  -999.00,9,  -999.00,  -999.00,9,  -999.00,  -999.00,9,  -999.00, -999.000,9, -999.000, -999.000,9, -999.000,9, -999.000,9,   -999.0,9,   -999.0,9,-999.0000,-999,9,  -999.00,9,  -999.00,   -999.0,9,   -999.0,   1.5726,  27.7471
  49NZ20090410,   P21,    63,  1,      1, X12046,2,20090427,1821,-16.7438, -93.9977, 4351,   4399.1,2,   1.8267,2,   1.82669,2,  34.6884,2,  34.6881,6,   150.65,2,   150.97,2,   127.99,2,     0.40,    35.81,2,     0.13,     0.01,2,     0.01,    2.506,2,    0.016,    0.000,2,    0.000,2,    0.000,2,   2322.6,2,   2415.0,2,   7.5922,  25,2,  -999.00,9,  -999.00,   -999.0,9,   -999.0,   1.4534,  27.7635