BOTTLE,20220818CCHSIOAMB
EXPOCODE,SECT_ID,STNNBR,CASTNO,SAMPNO,BTLNBR,BTLNBR_FLAG_W,DATE,TIME,LATITUDE,LONGITUDE,DEPTH,CTDPRS,CTDPRS_FLAG_W,CTDTMP,CTDTMP_FLAG_W,SBE35,SBE35_FLAG_W,CTDSAL,CTDSAL_FLAG_W,SALNTY,SALNTY_FLAG_W,CTDOXY,CTDOXY_FLAG_W,OXYGEN,OXYGEN_FLAG_W,SILCAT,SILCAT_FLAG_W,SILUNC,NITRAT,NITRAT_FLAG_W,NRAUNC,NITRIT,NITRIT_FLAG_W,NRIUNC,PHSPHT,PHSPHT_FLAG_W,PHPUNC,CFC-11,CFC-11_FLAG_W,CFC-12,CFC-12_FLAG_W,CFC113,CFC113_FLAG_W,TCARBN,TCARBN_FLAG_W,ALKALI,ALKALI_FLAG_W,PH_TOT,PH_TMP,PH_TOT_FLAG_W,DELC13,DELC13_FLAG_W,C13ERR,DELC14,DELC14_FLAG_W,C14ERR,THETA,SIG0
,,,,,,,,,,,METERS,DBAR,,ITS-90,,ITS-90,,PSS-78,,PSS-78,,UMOL/KG,,UMOL/KG,,UMOL/KG,,UMOL/KG,UMOL/KG,,UMOL/KG,UMOL/KG,,UMOL/KG,UMOL/KG,,UMOL/KG,PMOL/KG,,PMOL/KG,,PMOL/KG,,UMOL/KG,,UMOL/KG,,,DEG C,,/MILLE,,/MILLE,/MILLE,,/MILLE,DEG C,KG/M^3
  49NZ20090410,   P21,   144,  1,     36, X12006,2,20090515,0638,-16.7443,-142.6662, 1844,      9.3,2,  28.2121,2,  28.21232,2,  36.2619,2,  36.2626,2,   196.04,2,   196.49,2,     0.97,2,     0.12,     0.31,2,     0.03,     0.02,2,     0.01,    0.293,2,    0.014,    1.435,2,    0.946,2,    0.132,4,   2023.1,2,   2391.2,2,   8.1320,  25,2,  -999.00,1,  -999.00,   -999.0,1,   -999.0,  28.2099,  23.2749
  49NZ20090410,   P21,   144,  1,     35, X12047,2,20090515,0638,-16.7443,-142.6662, 1844,     49.3,2,  28.2227,2,  28.22264,2,  36.2608,2,  36.2611,2,   195.74,2,   196.48,2,     0.94,2,     0.12,     0.31,2,     0.03,     0.02,2,     0.01,    0.292,2,    0.014,    1.434,2,    0.947,2,    0.122,4,   2024.2,6,   2390.8,2,   8.1326,  25,2,  -999.00,1,  -999.00,   -999.0,1,   -999.0,  28.2110,  23.2737
  49NZ20090410,   P21,   144,  1,     34, X12004,2,20090515,0638,-16.7443,-142.6662, 1844,    100.8,2,  26.9812,2,  26.98632,2,  36.2329,2,  36.2351,2,   192.95,2,   192.66,2,     1.16,2,     0.12,     1.55,2,     0.04,     0.15,2,     0.01,    0.453,2,    0.013,    1.570,6,    1.019,6, -999.000,5,   2056.1,2,   2388.9,6,   8.0845,  25,2,  -999.00,1,  -999.00,   -999.0,1,   -999.0,  26.9580,  23.6603
  49NZ20090410,   P21,   144,  1,     33, X12003,2,20090515,0638,-16.7443,-142.6662, 1844,    150.4,2,  24.0223,2,  24.02003,2,  36.1618,2,  36.1626,2,   175.62,2,   176.09,2,     1.04,3,     2.05,     2.98,2,     0.45,     2.19,2,     0.02,    0.702,2,    0.050,    1.755,2,    1.111,2, -999.000,5,   2093.4,2,   2381.0,2,   8.0103,  25,6,  -999.00,1,  -999.00,   -999.0,1,   -999.0,  23.9905,  24.5241
  49NZ20090410,   P21,   144,  1,     32, X12002,2,20090515,0638,-16.7443,-142.6662, 1844,    199.3,2,  21.3928,2,  21.39443,2,  35.8951,2,  35.8987,2,   170.57,2,   170.45,2,     1.40,2,     0.12,     5.37,2,     0.05,     0.17,2,     0.01,    0.655,2,    0.013,    1.979,2,    1.230,2,    0.135,2,   2108.2,2,   2363.0,2,   7.9586,  25,2,  -999.00,1,  -999.00,   -999.0,1,   -999.0,  21.3540,  25.0783
  49NZ20090410,   P21,   144,  1,     31, X12001,2,20090515,0638,-16.7443,-142.6662, 1844,    249.3,2,  17.6315,2,  17.64391,2,  35.3129,2,  35.3148,6,   168.52,2,   168.73,2,     1.86,2,     0.12,     7.44,2,     0.05,     0.02,2,     0.01,    0.776,2,    0.013,    2.288,2,    1.362,2,    0.037,2,   2111.9,2,   2323.7,2,   7.8922,  25,2,  -999.00,1,  -999.00,   -999.0,1,   -999.0,  17.5892,  25.6125
  49NZ20090410,   P21,   144,  1,     30, X12030,2,20090515,0638,-16.7443,-142.6662, 1844,    300.4,2,  15.1277,2,  15.13494,2,  34.9623,2,  34.9732,2,   159.79,2,   159.49,2,     3.34,2,     0.13,    10.61,2,     0.06,     0.02,2,     0.01,    1.015,2,    0.013,    2.385,2,    1.367,2,    0.045,2,   2124.7,2,   2304.3,2,   7.8274,  25,2,  -999.00,1,  -999.00,   -999.0,1,   -999.0,  15.0818,  25.9249
  49NZ20090410,   P21,   144,  1,     29, X12044,2,20090515,0638,-16.7443,-142.6662, 1844,    398.6,2,  10.7766,2,  10.77464,2,  34.5601,2,  34.5608,2,    95.69,2,    95.58,2,    12.90,2,     0.15,    23.54,2,     0.10,     0.02,2,     0.01,    2.018,2,    0.015,    1.541,2,    0.816,2,    0.023,2,   2200.9,2,   2283.5,2,   7.5912,  25,2,  -999.00,1,  -999.00,   -999.0,1,   -999.0,  10.7279,  26.4817
  49NZ20090410,   P21,   144,  1,     28, X12048,2,20090515,0638,-16.7443,-142.6662, 1844,    499.6,2,   7.8587,2,   7.86024,2,  34.4658,2,  34.4653,6,   113.35,2,   113.71,2,    19.99,2,     0.16,    30.77,2,     0.12,     0.01,2,     0.01,    2.273,2,    0.016,    0.706,2,    0.365,2,    0.008,2,   2215.7,2,   2286.8,2,   7.5575,  25,2,  -999.00,1,  -999.00,   -999.0,1,   -999.0,   7.8081,  26.8827
  49NZ20090410,   P21,   144,  1,     27, X12027,2,20090515,0638,-16.7443,-142.6662, 1844,    598.9,2,   6.4230,2,   6.42637,2,  34.4771,2,  34.4771,2,   125.33,2,   125.63,2,    33.08,2,     0.19,    33.09,2,     0.13,     0.01,2,     0.01,    2.362,2,    0.016,    0.213,6,    0.118,6,    0.000,6,   2225.8,2,   2302.1,2,   7.5691,  25,2,  -999.00,1,  -999.00,   -999.0,1,   -999.0,   6.3684,  27.0920
  49NZ20090410,   P21,   144,  1,     26, X12026,2,20090515,0638,-16.7443,-142.6662, 1844,    699.2,2,   5.5271,2,   5.52708,2,  34.4788,2,  34.4784,2,   133.16,2,   133.40,2,    44.13,2,     0.22,    34.18,2,     0.13,     0.01,2,     0.01,    2.409,2,    0.016,    0.106,2,    0.060,2,    0.000,2,   2236.1,6,   2313.3,2,   7.5726,  25,2,  -999.00,1,  -999.00,   -999.0,1,   -999.0,   5.4676,  27.2068
  49NZ20090410,   P21,   144,  1,     25, X12025,2,20090515,0638,-16.7443,-142.6662, 1844,    799.5,2,   4.9607,2,   4.96078,2,  34.4860,2,  34.4858,2,   133.70,2,   134.13,2,    52.78,2,     0.24,    34.91,2,     0.13,     0.01,2,     0.01,    2.472,2,    0.016,    0.065,2,    0.038,2,    0.000,2,   2243.9,2,   2322.7,6,   7.5678,  25,2,  -999.00,1,  -999.00,   -999.0,1,   -999.0,   4.8955,  27.2797
  49NZ20090410,   P21,   144,  1,     24, X12024,2,20090515,0638,-16.7443,-142.6662, 1844,    900.9,2,   4.4891,2,   4.48709,2,  34.5019,2,  34.5018,2,   126.84,2,   127.25,2,    62.01,2,     0.26,    36.31,2,     0.13,     0.01,2,     0.01,    2.567,2,    0.016,    0.029,2,    0.020,2,    0.000,2,   2260.6,2,   2331.4,2,   7.5516,  25,6,  -999.00,1,  -999.00,   -999.0,1,   -999.0,   4.4182,  27.3456
  49NZ20090410,   P21,   144,  1,     23, X12028,2,20090515,0638,-16.7443,-142.6662, 1844,   1002.2,2,   4.0358,2,   4.03602,2,  34.5190,2,  34.5190,6,   128.15,2,   128.45,2,    70.89,2,     0.27,    36.52,2,     0.14,     0.01,2,     0.01,    2.598,2,    0.016,    0.014,2,    0.012,2,    0.000,2,   2269.5,2,   2339.4,2,   7.5509,  25,2,  -999.00,1,  -999.00,   -999.0,1,   -999.0,   3.9597,  27.4077
  49NZ20090410,   P21,   144,  1,     22, X12022,2,20090515,0638,-16.7443,-142.6662, 1844,   1200.6,2,   3.4904,2,   3.49095,2,  34.5423,2,  34.5429,2,   133.94,2,   133.86,2,    81.09,2,     0.30,    36.58,2,     0.14,     0.01,2,     0.01,    2.588,2,    0.016,    0.010,2,    0.007,2,    0.000,2,   2278.7,2,   2352.3,2,   7.5567,  25,2,  -999.00,1,  -999.00,   -999.0,1,   -999.0,   3.4024,  27.4819
  49NZ20090410,   P21,   144,  1,     21, X12021,2,20090515,0638,-16.7443,-142.6662, 1844,   1401.3,2,   3.0254,2,   3.02520,2,  34.5668,2,  34.5674,6,   141.66,2,   141.83,2,    90.08,2,     0.32,    36.14,2,     0.13,     0.01,2,     0.01,    2.556,2,    0.016,    0.004,2,    0.002,2,    0.000,2,   2284.0,2,   2362.3,2,   7.5680,  25,2,  -999.00,1,  -999.00,   -999.0,1,   -999.0,   2.9255,  27.5460
  49NZ20090410,   P21,   144,  1,     20, X12020,2,20090515,0638,-16.7443,-142.6662, 1844,   1600.2,2,   2.7502,2,   2.75012,2,  34.5846,2,  34.5856,2,   146.25,2,   146.34,2,    95.87,2,     0.33,    35.91,2,     0.13,     0.01,2,     0.01,    2.536,2,    0.016,    0.000,2,    0.001,2,    0.000,2,   2288.7,2,   2369.5,2,   7.5738,  25,6,  -999.00,1,  -999.00,   -999.0,1,   -999.0,   2.6370,  27.5859
  49NZ20090410,   P21,   144,  1,     19, X12019,2,20090515,0638,-16.7443,-142.6662, 1844,   1798.7,2,   2.4332,2,   2.43239,2,  34.6085,2,  34.6093,2,   150.38,2,   150.42,2,   103.24,2,     0.35,    35.70,2,     0.13,     0.01,2,     0.01,    2.517,2,    0.016,    0.001,2,    0.002,2,    0.000,2,   2295.0,2,   2376.5,2,   7.5801,  25,2,  -999.00,1,  -999.00,   -999.0,1,   -999.0,   2.3074,  27.6331
  49NZ20090410,   P21,   144,  1,     18, X12043,9,20090515,0638,-16.7443,-142.6662, 1844,      9.5,2,  28.2121,2,  28.21245,2,  36.2620,2,-999.0000,9,   195.95,2,  -999.00,9,  -999.00,9,  -999.00,  -999.00,9,  -999.00,  -999.00,9,  -999.00, -999.000,9, -999.000, -999.000,9, -999.000,9, -999.000,9,   -999.0,9,   -999.0,9,-999.0000,-999,9,  -999.00,9,  -999.00,   -999.0,9,   -999.0,  28.2098,  23.2750
  49NZ20090410,   P21,   144,  1,     17, X12042,9,20090515,0638,-16.7443,-142.6662, 1844,    151.2,2,  24.0028,2,  24.00570,2,  36.1587,2,-999.0000,9,   175.75,2,  -999.00,9,  -999.00,9,  -999.00,  -999.00,9,  -999.00,  -999.00,9,  -999.00, -999.000,9, -999.000, -999.000,9, -999.000,9, -999.000,9,   -999.0,9,   -999.0,9,-999.0000,-999,9,  -999.00,9,  -999.00,   -999.0,9,   -999.0,  23.9708,  24.5276
  49NZ20090410,   P21,   144,  1,     16, X12016,9,20090515,0638,-16.7443,-142.6662, 1844,    199.0,2,  21.3944,2,  21.39263,2,  35.8942,2,-999.0000,9,   170.57,2,  -999.00,9,  -999.00,9,  -999.00,  -999.00,9,  -999.00,  -999.00,9,  -999.00, -999.000,9, -999.000, -999.000,9, -999.000,9, -999.000,9,   -999.0,9,   -999.0,9,-999.0000,-999,9,  -999.00,9,  -999.00,   -999.0,9,   -999.0,  21.3556,  25.0771
  49NZ20090410,   P21,   144,  1,     15, X12015,9,20090515,0638,-16.7443,-142.6662, 1844,    249.4,2,  17.6418,2,  17.64294,2,  35.3143,2,-999.0000,9,   168.91,2,  -999.00,9,  -999.00,9,  -999.00,  -999.00,9,  -999.00,  -999.00,9,  -999.00, -999.000,9, -999.000, -999.000,9, -999.000,9, -999.000,9,   -999.0,9,   -999.0,9,-999.0000,-999,9,  -999.00,9,  -999.00,   -999.0,9,   -999.0,  17.5994,  25.6111
  49NZ20090410,   P21,   144,  1,     14, X12050,9,20090515,0638,-16.7443,-142.6662, 1844,    300.3,2,  15.1314,2,  15.14574,2,  34.9627,2,-999.0000,9,   159.71,2,  -999.00,9,  -999.00,9,  -999.00,  -999.00,9,  -999.00,  -999.00,9,  -999.00, -999.000,9, -999.000, -999.000,9, -999.000,9, -999.000,9,   -999.0,9,   -999.0,9,-999.0000,-999,9,  -999.00,9,  -999.00,   -999.0,9,   -999.0,  15.0855,  25.9244
  49NZ20090410,   P21,   144,  1,     13, X12014,2,20090515,0638,-16.7443,-142.6662, 1844,   1843.1,2,   2.4244,2,   2.42421,2,  34.6094,2,  34.6099,2,   150.55,2,  -999.00,9,  -999.00,9,  -999.00,  -999.00,9,  -999.00,  -999.00,9,  -999.00, -999.000,9, -999.000, -999.000,9, -999.000,9, -999.000,9,   -999.0,9,   -999.0,9,-999.0000,-999,9,  -999.00,9,  -999.00,   -999.0,9,   -999.0,   2.2950,  27.6348
  49NZ20090410,   P21,   144,  1,     12, X12012,9,20090515,0638,-16.7443,-142.6662, 1844,    398.7,2,  10.7366,2,  10.73335,2,  34.5587,2,-999.0000,9,    95.47,2,  -999.00,9,  -999.00,9,  -999.00,  -999.00,9,  -999.00,  -999.00,9,  -999.00, -999.000,9, -999.000, -999.000,9, -999.000,9, -999.000,9,   -999.0,9,   -999.0,9,-999.0000,-999,9,  -999.00,9,  -999.00,   -999.0,9,   -999.0,  10.6880,  26.4877
  49NZ20090410,   P21,   144,  1,     11, X12041,9,20090515,0638,-16.7443,-142.6662, 1844,    499.3,2,   7.8664,2,   7.86660,2,  34.4657,2,-999.0000,9,   113.56,2,  -999.00,9,  -999.00,9,  -999.00,  -999.00,9,  -999.00,  -999.00,9,  -999.00, -999.000,9, -999.000, -999.000,9, -999.000,9, -999.000,9,   -999.0,9,   -999.0,9,-999.0000,-999,9,  -999.00,9,  -999.00,   -999.0,9,   -999.0,   7.8158,  26.8815
  49NZ20090410,   P21,   144,  1,     10, X12040,9,20090515,0638,-16.7443,-142.6662, 1844,    599.9,2,   6.4301,2,   6.43029,2,  34.4769,2,-999.0000,9,   125.34,2,  -999.00,9,  -999.00,9,  -999.00,  -999.00,9,  -999.00,  -999.00,9,  -999.00, -999.000,9, -999.000, -999.000,9, -999.000,9, -999.000,9,   -999.0,9,   -999.0,9,-999.0000,-999,9,  -999.00,9,  -999.00,   -999.0,9,   -999.0,   6.3753,  27.0908
  49NZ20090410,   P21,   144,  1,      9, X12009,9,20090515,0638,-16.7443,-142.6662, 1844,    698.6,2,   5.5237,2,   5.52550,2,  34.4789,2,-999.0000,9,   133.14,2,  -999.00,9,  -999.00,9,  -999.00,  -999.00,9,  -999.00,  -999.00,9,  -999.00, -999.000,9, -999.000, -999.000,9, -999.000,9, -999.000,9,   -999.0,9,   -999.0,9,-999.0000,-999,9,  -999.00,9,  -999.00,   -999.0,9,   -999.0,   5.4642,  27.2073
  49NZ20090410,   P21,   144,  1,      8, X12008,9,20090515,0638,-16.7443,-142.6662, 1844,    799.4,2,   4.9604,2,   4.96067,2,  34.4860,2,-999.0000,9,   133.73,2,  -999.00,9,  -999.00,9,  -999.00,  -999.00,9,  -999.00,  -999.00,9,  -999.00, -999.000,9, -999.000, -999.000,9, -999.000,9, -999.000,9,   -999.0,9,   -999.0,9,-999.0000,-999,9,  -999.00,9,  -999.00,   -999.0,9,   -999.0,   4.8952,  27.2798
  49NZ20090410,   P21,   144,  1,      7, X12007,9,20090515,0638,-16.7443,-142.6662, 1844,   1002.2,2,   4.0360,2,   4.03616,2,  34.5190,2,-999.0000,9,   128.18,2,  -999.00,9,  -999.00,9,  -999.00,  -999.00,9,  -999.00,  -999.00,9,  -999.00, -999.000,9, -999.000, -999.000,9, -999.000,9, -999.000,9,   -999.0,9,   -999.0,9,-999.0000,-999,9,  -999.00,9,  -999.00,   -999.0,9,   -999.0,   3.9599,  27.4077
  49NZ20090410,   P21,   144,  1,      6, X12035,9,20090515,0638,-16.7443,-142.6662, 1844,   1200.3,2,   3.4894,2,   3.48943,2,  34.5423,2,-999.0000,9,   133.93,2,  -999.00,9,  -999.00,9,  -999.00,  -999.00,9,  -999.00,  -999.00,9,  -999.00, -999.000,9, -999.000, -999.000,9, -999.000,9, -999.000,9,   -999.0,9,   -999.0,9,-999.0000,-999,9,  -999.00,9,  -999.00,   -999.0,9,   -999.0,   3.4014,  27.4820
  49NZ20090410,   P21,   144,  1,      5, X12038,9,20090515,0638,-16.7443,-142.6662, 1844,   1401.5,2,   3.0254,2,   3.02568,2,  34.5668,2,-999.0000,9,   141.66,2,  -999.00,9,  -999.00,9,  -999.00,  -999.00,9,  -999.00,  -999.00,9,  -999.00, -999.000,9, -999.000, -999.000,9, -999.000,9, -999.000,9,   -999.0,9,   -999.0,9,-999.0000,-999,9,  -999.00,9,  -999.00,   -999.0,9,   -999.0,   2.9255,  27.5461
  49NZ20090410,   P21,   144,  1,      4, X12034,9,20090515,0638,-16.7443,-142.6662, 1844,   1600.1,2,   2.7503,2,   2.75014,2,  34.5846,2,-999.0000,9,   146.29,2,  -999.00,9,  -999.00,9,  -999.00,  -999.00,9,  -999.00,  -999.00,9,  -999.00, -999.000,9, -999.000, -999.000,9, -999.000,9, -999.000,9,   -999.0,9,   -999.0,9,-999.0000,-999,9,  -999.00,9,  -999.00,   -999.0,9,   -999.0,   2.6371,  27.5859
  49NZ20090410,   P21,   144,  1,      3, X12033,9,20090515,0638,-16.7443,-142.6662, 1844,   1798.7,2,   2.4339,2,   2.43339,2,  34.6085,2,-999.0000,9,   150.38,2,  -999.00,9,  -999.00,9,  -999.00,  -999.00,9,  -999.00,  -999.00,9,  -999.00, -999.000,9, -999.000, -999.000,9, -999.000,9, -999.000,9,   -999.0,9,   -999.0,9,-999.0000,-999,9,  -999.00,9,  -999.00,   -999.0,9,   -999.0,   2.3081,  27.6330
  49NZ20090410,   P21,   144,  1,      2, X12032,9,20090515,0638,-16.7443,-142.6662, 1844,    901.1,2,   4.4915,2,   4.49075,2,  34.5017,2,-999.0000,9,   126.77,2,  -999.00,9,  -999.00,9,  -999.00,  -999.00,9,  -999.00,  -999.00,9,  -999.00, -999.000,9, -999.000, -999.000,9, -999.000,9, -999.000,9,   -999.0,9,   -999.0,9,-999.0000,-999,9,  -999.00,9,  -999.00,   -999.0,9,   -999.0,   4.4206,  27.3452
  49NZ20090410,   P21,   144,  1,      1, X12046,2,20090515,0638,-16.7443,-142.6662, 1844,   1843.1,2,   2.4245,2,   2.42429,2,  34.6094,2,  34.6097,6,   150.53,2,   150.44,2,   103.42,2,     0.35,    35.71,2,     0.13,     0.01,2,     0.01,    2.518,2,    0.016,    0.000,2,    0.001,2,    0.000,2,   2297.2,2,   2377.0,2,   7.5812,  25,2,  -999.00,1,  -999.00,   -999.0,1,   -999.0,   2.2951,  27.6348