BOTTLE,20220818CCHSIOAMB
EXPOCODE,SECT_ID,STNNBR,CASTNO,SAMPNO,BTLNBR,BTLNBR_FLAG_W,DATE,TIME,LATITUDE,LONGITUDE,DEPTH,CTDPRS,CTDPRS_FLAG_W,CTDTMP,CTDTMP_FLAG_W,SBE35,SBE35_FLAG_W,CTDSAL,CTDSAL_FLAG_W,SALNTY,SALNTY_FLAG_W,CTDOXY,CTDOXY_FLAG_W,OXYGEN,OXYGEN_FLAG_W,SILCAT,SILCAT_FLAG_W,SILUNC,NITRAT,NITRAT_FLAG_W,NRAUNC,NITRIT,NITRIT_FLAG_W,NRIUNC,PHSPHT,PHSPHT_FLAG_W,PHPUNC,CFC-11,CFC-11_FLAG_W,CFC-12,CFC-12_FLAG_W,CFC113,CFC113_FLAG_W,TCARBN,TCARBN_FLAG_W,ALKALI,ALKALI_FLAG_W,PH_TOT,PH_TMP,PH_TOT_FLAG_W,DELC13,DELC13_FLAG_W,C13ERR,DELC14,DELC14_FLAG_W,C14ERR,THETA,SIG0
,,,,,,,,,,,METERS,DBAR,,ITS-90,,ITS-90,,PSS-78,,PSS-78,,UMOL/KG,,UMOL/KG,,UMOL/KG,,UMOL/KG,UMOL/KG,,UMOL/KG,UMOL/KG,,UMOL/KG,UMOL/KG,,UMOL/KG,PMOL/KG,,PMOL/KG,,PMOL/KG,,UMOL/KG,,UMOL/KG,,,DEG C,,/MILLE,,/MILLE,/MILLE,,/MILLE,DEG C,KG/M^3
  49NZ20090410,   P21,    53,  1,     36, X12006,2,20090426,0240,-16.7463, -89.6660, 4491,     10.7,2,  23.7979,2,  23.79718,2,  35.7604,2,  35.7607,2,   213.09,2,   212.90,2,     0.45,2,     0.12,     0.20,2,     0.03,     0.02,2,     0.01,    0.423,2,    0.013,    1.712,2,    1.085,2, -999.000,5,   -999.0,9,   -999.0,9,-999.0000,-999,9,  -999.00,9,  -999.00,   -999.0,9,   -999.0,  23.7957,  24.2778
  49NZ20090410,   P21,    53,  1,     35, X12047,2,20090426,0240,-16.7463, -89.6660, 4491,     49.2,2,  23.0716,2,  22.77551,2,  35.6744,2,  35.6972,2,   216.62,2,   216.36,2,     0.38,2,     0.12,     0.16,2,     0.03,     0.02,2,     0.01,    0.426,2,    0.013,    1.792,2,    1.129,2, -999.000,5,   -999.0,9,   -999.0,9,-999.0000,-999,9,  -999.00,9,  -999.00,   -999.0,9,   -999.0,  23.0615,  24.4274
  49NZ20090410,   P21,    53,  1,     34, X12004,2,20090426,0240,-16.7463, -89.6660, 4491,    100.2,2,  18.7208,2,  18.71903,2,  35.3263,2,  35.3278,2,   210.22,2,   208.68,2,     0.80,2,     0.12,     3.23,2,     0.04,     0.84,2,     0.01,    0.715,2,    0.013,    2.233,6,    1.373,6,    0.217,4,   -999.0,9,   -999.0,9,-999.0000,-999,9,  -999.00,9,  -999.00,   -999.0,9,   -999.0,  18.7031,  25.3461
  49NZ20090410,   P21,    53,  1,     33, X12003,2,20090426,0240,-16.7463, -89.6660, 4491,    149.1,2,  16.1809,2,  16.16679,2,  34.9544,2,  34.9456,2,   185.98,2,   182.30,2,     2.21,2,     0.12,    10.69,2,     0.06,     0.03,2,     0.01,    1.125,2,    0.013,    2.496,2,    1.496,2,    0.145,2,   -999.0,9,   -999.0,9,-999.0000,-999,9,  -999.00,9,  -999.00,   -999.0,9,   -999.0,  16.1572,  25.6765
  49NZ20090410,   P21,    53,  1,     32, X12002,2,20090426,0240,-16.7463, -89.6660, 4491,    199.8,2,  12.6506,2,  12.66165,2,  34.6749,2,  34.6470,2,    42.91,2,    66.47,2,    12.63,2,     0.15,    21.51,2,     0.09,     0.03,2,     0.01,    2.210,2,    0.016,    2.002,2,    1.119,2,    0.055,2,   -999.0,9,   -999.0,9,-999.0000,-999,9,  -999.00,9,  -999.00,   -999.0,9,   -999.0,  12.6237,  26.2157
  49NZ20090410,   P21,    53,  1,     31, X12001,2,20090426,0240,-16.7463, -89.6660, 4491,    248.6,2,  11.6380,2,  11.64291,2,  34.7484,2,  34.7486,6,     3.70,2,     3.34,2,    23.40,2,     0.17,    24.87,2,     0.10,     0.02,2,     0.01,    2.720,2,    0.017,    0.761,2,    0.418,2,    0.016,2,   -999.0,9,   -999.0,9,-999.0000,-999,9,  -999.00,9,  -999.00,   -999.0,9,   -999.0,  11.6062,  26.4681
  49NZ20090410,   P21,    53,  1,     30, X12030,2,20090426,0240,-16.7463, -89.6660, 4491,    280.4,2,  11.0594,2,  11.05591,2,  34.7164,2,  34.7173,2,     4.86,2,     4.50,2,    23.90,2,     0.17,    27.98,2,     0.11,     0.02,2,     0.01,    2.732,2,    0.017,    0.609,2,    0.326,2,    0.007,2,   -999.0,9,   -999.0,9,-999.0000,-999,9,  -999.00,9,  -999.00,   -999.0,9,   -999.0,  11.0247,  26.5502
  49NZ20090410,   P21,    53,  1,     29, X12044,2,20090426,0240,-16.7463, -89.6660, 4491,    371.7,2,   9.5881,2,   9.58288,2,  34.6587,2,  34.6597,2,     9.01,2,     8.05,2,    27.07,2,     0.18,    35.21,2,     0.13,     0.02,2,     0.01,    2.784,2,    0.017,    0.226,2,    0.122,2,    0.000,2,   -999.0,9,   -999.0,9,-999.0000,-999,9,  -999.00,9,  -999.00,   -999.0,9,   -999.0,   9.5459,  26.7619
  49NZ20090410,   P21,    53,  1,     28, X12048,2,20090426,0240,-16.7463, -89.6660, 4491,    472.3,2,   8.1989,2,   8.19689,2,  34.5802,2,  34.5812,6,    21.50,2,    21.42,2,    30.31,2,     0.19,    39.15,2,     0.14,     0.02,2,     0.01,    2.861,2,    0.017,    0.138,2,    0.073,2,    0.000,2,   -999.0,9,   -999.0,9,-999.0000,-999,9,  -999.00,9,  -999.00,   -999.0,9,   -999.0,   8.1498,  26.9216
  49NZ20090410,   P21,    53,  1,     27, X12027,2,20090426,0240,-16.7463, -89.6660, 4491,    569.6,2,   7.0320,2,   7.03322,2,  34.5302,2,  34.5300,2,    36.58,2,    36.61,2,    36.12,2,     0.20,    41.32,2,     0.15,     0.02,2,     0.01,    2.930,2,    0.017,    0.066,6,    0.035,6,    0.000,6,   -999.0,9,   -999.0,9,-999.0000,-999,9,  -999.00,9,  -999.00,   -999.0,9,   -999.0,   6.9775,  27.0518
  49NZ20090410,   P21,    53,  1,     26, X12026,2,20090426,0240,-16.7463, -89.6660, 4491,    670.9,2,   6.1615,2,   6.16110,2,  34.5066,2,  34.5065,2,    40.99,2,    41.08,2,    44.06,2,     0.22,    42.90,2,     0.15,     0.02,2,     0.01,    3.044,2,    0.018,    0.017,2,    0.008,2,    0.000,2,   -999.0,9,   -999.0,9,-999.0000,-999,9,  -999.00,9,  -999.00,   -999.0,9,   -999.0,   6.1013,  27.1498
  49NZ20090410,   P21,    53,  1,     25, X12025,2,20090426,0240,-16.7463, -89.6660, 4491,    769.5,2,   5.5753,2,   5.57417,2,  34.5042,2,  34.5038,2,    42.96,2,    43.04,2,    52.55,2,     0.23,    43.76,2,     0.16,     0.02,2,     0.01,    3.098,2,    0.018,    0.005,2,    0.001,2,    0.000,2,   -999.0,9,   -999.0,9,-999.0000,-999,9,  -999.00,9,  -999.00,   -999.0,9,   -999.0,   5.5091,  27.2219
  49NZ20090410,   P21,    53,  1,     24, X12024,2,20090426,0240,-16.7463, -89.6660, 4491,    871.1,2,   5.0230,2,   5.02332,2,  34.5071,2,  34.5075,2,    49.72,2,    49.13,2,    61.64,2,     0.25,    43.94,2,     0.16,     0.02,2,     0.01,    3.118,2,    0.018,    0.000,2,    0.000,2,    0.000,2,   -999.0,9,   -999.0,9,-999.0000,-999,9,  -999.00,9,  -999.00,   -999.0,9,   -999.0,   4.9511,  27.2901
  49NZ20090410,   P21,    53,  1,     23, X12028,2,20090426,0240,-16.7463, -89.6660, 4491,    969.5,2,   4.5402,2,   4.53977,2,  34.5209,2,  34.5208,6,    57.57,2,    57.49,2,    71.61,2,     0.28,    43.47,2,     0.15,     0.01,2,     0.01,    3.112,2,    0.018,    0.001,2,    0.001,2,    0.000,2,   -999.0,9,   -999.0,9,-999.0000,-999,9,  -999.00,9,  -999.00,   -999.0,9,   -999.0,   4.4630,  27.3558
  49NZ20090410,   P21,    53,  1,     22, X12022,2,20090426,0240,-16.7463, -89.6660, 4491,   1130.8,2,   4.0219,2,   4.02184,2,  34.5412,2,  34.5410,2,    67.52,2,    67.42,2,    83.55,2,     0.30,    42.78,2,     0.15,     0.01,2,     0.01,    3.066,2,    0.018,    0.000,2,    0.000,2,    0.000,2,   -999.0,9,   -999.0,9,-999.0000,-999,9,  -999.00,9,  -999.00,   -999.0,9,   -999.0,   3.9350,  27.4279
  49NZ20090410,   P21,    53,  1,     21, X12021,2,20090426,0240,-16.7463, -89.6660, 4491,   1329.2,2,   3.5016,2,   3.50096,2,  34.5640,2,  34.5642,2,    78.40,2,    78.28,2,    95.95,2,     0.33,    41.82,2,     0.15,     0.02,2,     0.01,    3.019,2,    0.018,    0.000,2,    0.000,2,    0.000,2,   -999.0,9,   -999.0,9,-999.0000,-999,9,  -999.00,9,  -999.00,   -999.0,9,   -999.0,   3.4027,  27.4992
  49NZ20090410,   P21,    53,  1,     20, X12020,2,20090426,0240,-16.7463, -89.6660, 4491,   1531.7,2,   2.9886,2,   2.98794,2,  34.5909,2,  34.5911,2,    91.17,2,    91.18,2,   107.82,2,     0.36,    40.73,2,     0.15,     0.01,2,     0.01,    2.928,2,    0.017,    0.000,2,    0.000,2,    0.000,2,   -999.0,9,   -999.0,9,-999.0000,-999,9,  -999.00,9,  -999.00,   -999.0,9,   -999.0,   2.8782,  27.5696
  49NZ20090410,   P21,    53,  1,     19, X12019,2,20090426,0240,-16.7463, -89.6660, 4491,   1728.2,2,   2.6096,2,   2.60992,2,  34.6137,2,  34.6138,2,   103.80,2,   103.80,2,   115.74,2,     0.37,    39.68,2,     0.14,     0.01,2,     0.01,    2.836,2,    0.017,    0.000,2,    0.000,2,    0.000,2,   -999.0,9,   -999.0,9,-999.0000,-999,9,  -999.00,9,  -999.00,   -999.0,9,   -999.0,   2.4874,  27.6221
  49NZ20090410,   P21,    53,  1,     18, X12043,2,20090426,0240,-16.7463, -89.6660, 4491,   1929.6,2,   2.3404,2,   2.34028,2,  34.6312,2,  34.6314,2,   116.03,2,   115.88,2,   120.36,2,     0.38,    38.59,2,     0.14,     0.02,2,     0.01,    2.747,2,    0.017,    0.000,2,    0.000,2,    0.000,2,   -999.0,9,   -999.0,9,-999.0000,-999,9,  -999.00,9,  -999.00,   -999.0,9,   -999.0,   2.2048,  27.6597
  49NZ20090410,   P21,    53,  1,     17, X12042,2,20090426,0240,-16.7463, -89.6660, 4491,   2130.6,2,   2.1267,2,   2.12651,2,  34.6468,2,  34.6472,6,   126.38,2,   126.37,2,   123.51,2,     0.39,    37.75,2,     0.14,     0.02,2,     0.01,    2.672,2,    0.017, -999.000,9, -999.000,9, -999.000,9,   -999.0,9,   -999.0,9,-999.0000,-999,9,  -999.00,9,  -999.00,   -999.0,9,   -999.0,   1.9771,  27.6905
  49NZ20090410,   P21,    53,  1,     16, X12016,2,20090426,0240,-16.7463, -89.6660, 4491,   2330.2,2,   1.9680,2,   1.96835,2,  34.6605,2,  34.6607,2,   130.94,2,   130.97,2,   128.31,2,     0.40,    37.42,2,     0.14,     0.02,2,     0.01,    2.637,2,    0.017, -999.000,9, -999.000,9, -999.000,9,   -999.0,9,   -999.0,9,-999.0000,-999,9,  -999.00,9,  -999.00,   -999.0,9,   -999.0,   1.8035,  27.7150
  49NZ20090410,   P21,    53,  1,     15, X12015,2,20090426,0240,-16.7463, -89.6660, 4491,   2529.8,2,   1.8921,2,   1.89204,2,  34.6671,2,  34.6674,2,   137.18,2,   137.11,2,   128.38,2,     0.40,    37.04,2,     0.14,     0.01,2,     0.01,    2.602,2,    0.016,    0.000,2,    0.001,2,    0.000,2,   -999.0,9,   -999.0,9,-999.0000,-999,9,  -999.00,9,  -999.00,   -999.0,9,   -999.0,   1.7111,  27.7274
  49NZ20090410,   P21,    53,  1,     14, X12050,2,20090426,0240,-16.7463, -89.6660, 4491,   2728.7,2,   1.8308,2,   1.83064,2,  34.6733,2,  34.6735,2,   142.24,2,   142.28,2,   128.57,2,     0.40,    36.55,2,     0.14,     0.01,2,     0.01,    2.555,2,    0.016, -999.000,9, -999.000,9, -999.000,9,   -999.0,9,   -999.0,9,-999.0000,-999,9,  -999.00,9,  -999.00,   -999.0,9,   -999.0,   1.6326,  27.7382
  49NZ20090410,   P21,    53,  1,     13, X12013,7,20090426,0240,-16.7463, -89.6660, 4491,   2930.9,2,   1.8043,2,   1.80423,2,  34.6772,2,  34.6778,2,   143.43,2,   143.46,2,   129.89,2,     0.40,    36.36,2,     0.13,     0.01,2,     0.01,    2.548,2,    0.016, -999.000,9, -999.000,9, -999.000,9,   -999.0,9,   -999.0,9,-999.0000,-999,9,  -999.00,9,  -999.00,   -999.0,9,   -999.0,   1.5875,  27.7447
  49NZ20090410,   P21,    53,  1,     12, X12012,2,20090426,0240,-16.7463, -89.6660, 4491,   3170.3,2,   1.7870,2,   1.78698,2,  34.6811,2,  34.6809,2,   144.52,2,   144.57,2,   131.08,2,     0.41,    36.33,2,     0.13,     0.01,2,     0.01,    2.546,2,    0.016,    0.000,2,    0.000,2,    0.000,2,   -999.0,9,   -999.0,9,-999.0000,-999,9,  -999.00,9,  -999.00,   -999.0,9,   -999.0,   1.5472,  27.7508
  49NZ20090410,   P21,    53,  1,     11, X12041,2,20090426,0240,-16.7463, -89.6660, 4491,   3420.2,2,   1.7795,2,   1.77962,2,  34.6838,2,  34.6838,6,   145.81,2,   145.78,2,   130.70,2,     0.41,    36.28,2,     0.13,     0.01,2,     0.01,    2.541,2,    0.016, -999.000,9, -999.000,9, -999.000,9,   -999.0,9,   -999.0,9,-999.0000,-999,9,  -999.00,9,  -999.00,   -999.0,9,   -999.0,   1.5146,  27.7553
  49NZ20090410,   P21,    53,  1,     10, X12040,2,20090426,0240,-16.7463, -89.6660, 4491,   3670.7,2,   1.7728,2,   1.77282,2,  34.6860,2,  34.6861,2,   148.28,2,   148.48,2,   129.22,2,     0.40,    36.09,2,     0.13,     0.01,2,     0.01,    2.518,2,    0.016, -999.000,9, -999.000,9, -999.000,9,   -999.0,9,   -999.0,9,-999.0000,-999,9,  -999.00,9,  -999.00,   -999.0,9,   -999.0,   1.4819,  27.7595
  49NZ20090410,   P21,    53,  1,      9, X12009,2,20090426,0240,-16.7463, -89.6660, 4491,   3920.5,2,   1.7743,2,   1.77436,2,  34.6878,2,  34.6874,2,   150.38,2,   150.49,2,   128.12,2,     0.40,    35.80,2,     0.13,     0.01,2,     0.01,    2.509,2,    0.016,    0.000,2,    0.000,2,    0.000,2,   -999.0,9,   -999.0,9,-999.0000,-999,9,  -999.00,9,  -999.00,   -999.0,9,   -999.0,   1.4564,  27.7628
  49NZ20090410,   P21,    53,  1,      8, X12008,2,20090426,0240,-16.7463, -89.6660, 4491,   4171.6,2,   1.7879,2,   1.78787,2,  34.6887,2,  34.6887,2,   151.29,2,   151.53,2,   127.64,2,     0.40,    35.91,2,     0.13,     0.02,2,     0.01,    2.498,2,    0.016,    0.000,2,    0.001,2,    0.000,2,   -999.0,9,   -999.0,9,-999.0000,-999,9,  -999.00,9,  -999.00,   -999.0,9,   -999.0,   1.4417,  27.7646
  49NZ20090410,   P21,    53,  1,      7, X12007,2,20090426,0240,-16.7463, -89.6660, 4491,   4420.0,2,   1.8124,2,   1.81227,2,  34.6888,2,  34.6887,2,   151.54,2,   151.88,2,   127.37,2,     0.40,    35.82,2,     0.13,     0.01,2,     0.01,    2.496,2,    0.016,    0.000,2,    0.000,2,    0.000,2,   -999.0,9,   -999.0,9,-999.0000,-999,9,  -999.00,9,  -999.00,   -999.0,9,   -999.0,   1.4371,  27.7650
  49NZ20090410,   P21,    53,  1,      6, X12035,9,20090426,0240,-16.7463, -89.6660, 4491,     10.9,2,  23.7968,2,  23.79673,2,  35.7605,2,-999.0000,9,   213.13,2,  -999.00,9,  -999.00,9,  -999.00,  -999.00,9,  -999.00,  -999.00,9,  -999.00, -999.000,9, -999.000, -999.000,9, -999.000,9, -999.000,9,   -999.0,9,   -999.0,9,-999.0000,-999,9,  -999.00,9,  -999.00,   -999.0,9,   -999.0,  23.7945,  24.2782
  49NZ20090410,   P21,    53,  1,      5, X12038,9,20090426,0240,-16.7463, -89.6660, 4491,     49.1,2,  23.2627,2,  23.23239,2,  35.6932,2,-999.0000,9,   215.66,2,  -999.00,9,  -999.00,9,  -999.00,  -999.00,9,  -999.00,  -999.00,9,  -999.00, -999.000,9, -999.000, -999.000,9, -999.000,9, -999.000,9,   -999.0,9,   -999.0,9,-999.0000,-999,9,  -999.00,9,  -999.00,   -999.0,9,   -999.0,  23.2526,  24.3862
  49NZ20090410,   P21,    53,  1,      4, X12034,9,20090426,0240,-16.7463, -89.6660, 4491,    101.2,2,  18.6675,2,  18.66992,2,  35.3190,2,-999.0000,9,   209.81,2,  -999.00,9,  -999.00,9,  -999.00,  -999.00,9,  -999.00,  -999.00,9,  -999.00, -999.000,9, -999.000, -999.000,9, -999.000,9, -999.000,9,   -999.0,9,   -999.0,9,-999.0000,-999,9,  -999.00,9,  -999.00,   -999.0,9,   -999.0,  18.6497,  25.3541
  49NZ20090410,   P21,    53,  1,      3, X12033,9,20090426,0240,-16.7463, -89.6660, 4491,   2930.8,2,   1.8043,2,   1.80420,2,  34.6773,2,-999.0000,9,   143.45,2,  -999.00,9,  -999.00,9,  -999.00,  -999.00,9,  -999.00,  -999.00,9,  -999.00, -999.000,9, -999.000, -999.000,9, -999.000,9, -999.000,9,   -999.0,9,   -999.0,9,-999.0000,-999,9,  -999.00,9,  -999.00,   -999.0,9,   -999.0,   1.5875,  27.7447
  49NZ20090410,   P21,    53,  1,      2, X12032,2,20090426,0240,-16.7463, -89.6660, 4491,   2130.3,2,   2.1268,2,   2.12671,2,  34.6470,2,  34.6469,2,   126.38,2,   126.28,2,   123.63,2,     0.39,    37.74,2,     0.14,     0.01,2,     0.01,    2.671,2,    0.017, -999.000,9, -999.000,9, -999.000,9,   -999.0,9,   -999.0,9,-999.0000,-999,9,  -999.00,9,  -999.00,   -999.0,9,   -999.0,   1.9772,  27.6907
  49NZ20090410,   P21,    53,  1,      1, X12046,2,20090426,0240,-16.7463, -89.6660, 4491,   4550.7,2,   1.8255,2,   1.82544,2,  34.6889,2,  34.6893,6,   151.70,2,   152.13,2,   127.16,2,     0.40,    35.80,2,     0.13,     0.01,2,     0.01,    2.504,2,    0.016,    0.000,2,    0.000,2,    0.000,2,   -999.0,9,   -999.0,9,-999.0000,-999,9,  -999.00,9,  -999.00,   -999.0,9,   -999.0,   1.4345,  27.7653