BOTTLE,20220818CCHSIOAMB
EXPOCODE,SECT_ID,STNNBR,CASTNO,SAMPNO,BTLNBR,BTLNBR_FLAG_W,DATE,TIME,LATITUDE,LONGITUDE,DEPTH,CTDPRS,CTDPRS_FLAG_W,CTDTMP,CTDTMP_FLAG_W,SBE35,SBE35_FLAG_W,CTDSAL,CTDSAL_FLAG_W,SALNTY,SALNTY_FLAG_W,CTDOXY,CTDOXY_FLAG_W,OXYGEN,OXYGEN_FLAG_W,SILCAT,SILCAT_FLAG_W,SILUNC,NITRAT,NITRAT_FLAG_W,NRAUNC,NITRIT,NITRIT_FLAG_W,NRIUNC,PHSPHT,PHSPHT_FLAG_W,PHPUNC,CFC-11,CFC-11_FLAG_W,CFC-12,CFC-12_FLAG_W,CFC113,CFC113_FLAG_W,TCARBN,TCARBN_FLAG_W,ALKALI,ALKALI_FLAG_W,PH_TOT,PH_TMP,PH_TOT_FLAG_W,DELC13,DELC13_FLAG_W,C13ERR,DELC14,DELC14_FLAG_W,C14ERR,THETA,SIG0
,,,,,,,,,,,METERS,DBAR,,ITS-90,,ITS-90,,PSS-78,,PSS-78,,UMOL/KG,,UMOL/KG,,UMOL/KG,,UMOL/KG,UMOL/KG,,UMOL/KG,UMOL/KG,,UMOL/KG,UMOL/KG,,UMOL/KG,PMOL/KG,,PMOL/KG,,PMOL/KG,,UMOL/KG,,UMOL/KG,,,DEG C,,/MILLE,,/MILLE,/MILLE,,/MILLE,DEG C,KG/M^3
  49NZ20090410,   P21,    32,  1,     36, X12006,2,20090415,0807,-16.7440, -80.6617, 4727,     10.2,2,  23.7287,2,  23.72890,2,  35.5715,2,  35.5722,2,   212.82,2,   212.13,2,     0.69,2,     0.12,     0.08,2,     0.03,     0.01,2,     0.01,    0.519,2,    0.013,    1.762,2,    1.093,2, -999.000,5,   2064.4,2,   2363.9,2,   8.0345,  25,6,  -999.00,1,  -999.00,   -999.0,1,   -999.0,  23.7266,  24.1550
  49NZ20090410,   P21,    32,  1,     35, X12047,2,20090415,0807,-16.7440, -80.6617, 4727,     50.2,2,  19.1079,2,  19.10545,2,  35.0919,2,  35.0850,2,   246.02,2,   246.35,2,     0.28,2,     0.12,     0.07,2,     0.03,     0.01,2,     0.01,    0.359,2,    0.014,    2.302,2,    1.395,2, -999.000,5,   2054.0,6,   2326.1,2,   7.9999,  25,2,  -999.00,1,  -999.00,   -999.0,1,   -999.0,  19.0989,  25.0661
  49NZ20090410,   P21,    32,  1,     34, X12004,2,20090415,0807,-16.7440, -80.6617, 4727,     99.7,2,  15.5249,2,  15.51625,2,  34.7805,2,  34.7698,2,   185.12,2,   187.88,2,     2.66,2,     0.12,    10.90,2,     0.06,     0.05,2,     0.01,    1.173,2,    0.013,    2.540,6,    1.515,6,    0.166,6,   2121.3,2,   2300.7,6,   7.8182,  25,2,  -999.00,1,  -999.00,   -999.0,1,   -999.0,  15.5095,  25.6897
  49NZ20090410,   P21,    32,  1,     33, X12003,2,20090415,0807,-16.7440, -80.6617, 4727,    150.9,2,  13.1022,2,  13.10391,2,  34.6982,2,  34.7052,2,    57.59,2,    54.07,2,    13.85,2,     0.16,    22.28,2,     0.09,     0.03,2,     0.01,    2.383,2,    0.016,    1.988,2,    1.107,2,    0.057,2,   2233.2,2,   2292.2,2,   7.4983,  25,6,  -999.00,1,  -999.00,   -999.0,1,   -999.0,  13.0814,  26.1427
  49NZ20090410,   P21,    32,  1,     32, X12002,2,20090415,0807,-16.7440, -80.6617, 4727,    200.1,2,  12.2084,2,  12.20895,2,  34.7992,2,  34.7959,2,     2.27,2,     2.02,2,    24.81,2,     0.16,    20.54,2,     0.09,     0.02,2,     0.01,    2.746,2,    0.017,    0.896,2,    0.498,2,    0.023,2,   2272.9,2,   2301.9,2,   7.4158,  25,2,  -999.00,1,  -999.00,   -999.0,1,   -999.0,  12.1820,  26.3982
  49NZ20090410,   P21,    32,  1,     31, X12001,2,20090415,0807,-16.7440, -80.6617, 4727,    248.5,2,  11.2816,2,  11.27938,2,  34.7627,2,  34.7609,6,     1.36,2,     0.76,2,    25.68,2,     0.16,    26.96,2,     0.11,     0.04,2,     0.01,    2.740,2,    0.017,    0.525,2,    0.280,2,    0.015,2,   2275.3,2,   2299.0,2,   7.3998,  25,2,  -999.00,1,  -999.00,   -999.0,1,   -999.0,  11.2505,  26.5451
  49NZ20090410,   P21,    32,  1,     30, X12030,2,20090415,0807,-16.7440, -80.6617, 4727,    278.8,2,  10.6525,2,  10.65223,2,  34.7244,2,  34.7231,2,     1.56,2,     1.27,2,    26.35,2,     0.18,    30.47,2,     0.12,     0.02,2,     0.01,    2.773,2,    0.017,    0.378,2,    0.210,2,    0.000,4,   2277.6,2,   2297.0,2,   7.3896,  25,2,  -999.00,1,  -999.00,   -999.0,1,   -999.0,  10.6188,  26.6292
  49NZ20090410,   P21,    32,  1,     29, X12044,2,20090415,0807,-16.7440, -80.6617, 4727,    369.2,2,   9.2639,2,   9.26609,2,  34.6613,2,  34.6604,2,     2.80,2,     2.85,2,    30.69,2,     0.19,    36.80,2,     0.14,     0.01,2,     0.01,    2.885,2,    0.017,    0.142,2,    0.084,2,    0.000,4,   2284.4,2,   2297.6,2,   7.3766,  25,2,  -999.00,1,  -999.00,   -999.0,1,   -999.0,   9.2228,  26.8169
  49NZ20090410,   P21,    32,  1,     28, X12048,2,20090415,0807,-16.7440, -80.6617, 4727,    469.8,2,   7.9053,2,   7.90436,2,  34.5826,2,  34.5817,6,    17.03,2,    18.01,2,    34.07,2,     0.19,    40.43,2,     0.15,     0.01,2,     0.01,    2.948,2,    0.017,    0.079,2,    0.040,2,    0.000,2,   2280.5,2,   2298.8,2,   7.3841,  25,2,  -999.00,1,  -999.00,   -999.0,1,   -999.0,   7.8575,  26.9672
  49NZ20090410,   P21,    32,  1,     27, X12027,2,20090415,0807,-16.7440, -80.6617, 4727,    568.5,2,   6.7498,2,   6.74807,2,  34.5240,2,  34.5234,2,    28.54,2,    28.31,2,    40.53,2,     0.21,    42.60,2,     0.15,     0.02,2,     0.01,    3.079,2,    0.018,    0.076,6,    0.043,6,    0.000,6,   2286.4,2,   2303.3,2,   7.3802,  25,2,  -999.00,1,  -999.00,   -999.0,1,   -999.0,   6.6966,  27.0852
  49NZ20090410,   P21,    32,  1,     26, X12026,2,20090415,0807,-16.7440, -80.6617, 4727,    670.5,2,   5.9574,2,   5.95679,2,  34.4977,2,  34.4969,2,    41.81,2,    41.67,2,    45.80,2,     0.22,    43.09,2,     0.15,     0.01,2,     0.01,    3.081,2,    0.018,    0.018,2,    0.015,2,    0.000,2,   2284.7,6,   2309.7,2,   7.3949,  25,2,  -999.00,1,  -999.00,   -999.0,1,   -999.0,   5.8982,  27.1686
  49NZ20090410,   P21,    32,  1,     25, X12025,2,20090415,0807,-16.7440, -80.6617, 4727,    772.1,2,   5.4220,2,   5.42246,2,  34.5050,2,  34.5046,2,    40.31,2,    40.19,2,    55.60,2,     0.24,    44.19,2,     0.16,     0.01,2,     0.01,    3.157,2,    0.018,    0.008,2,    0.002,2,    0.000,2,   2295.9,2,   2318.6,6,   7.3903,  25,2,  -999.00,1,  -999.00,   -999.0,1,   -999.0,   5.3565,  27.2409
  49NZ20090410,   P21,    32,  1,     24, X12024,2,20090415,0807,-16.7440, -80.6617, 4727,    870.5,2,   4.9318,2,   4.93212,2,  34.5125,2,  34.5118,2,    46.33,2,    46.50,2,    64.53,2,     0.26,    44.10,2,     0.16,     0.01,2,     0.01,    3.165,2,    0.018,    0.004,2,    0.003,2,    0.000,2,   2304.3,2,   2329.2,2,   7.3985,  25,6,  -999.00,1,  -999.00,   -999.0,1,   -999.0,   4.8605,  27.3047
  49NZ20090410,   P21,    32,  1,     23, X12028,2,20090415,0807,-16.7440, -80.6617, 4727,    970.2,2,   4.5530,2,   4.55304,2,  34.5279,2,  34.5276,6,    50.35,2,    50.42,2,    74.44,2,     0.28,    43.84,2,     0.16,     0.01,2,     0.01,    3.181,2,    0.018,    0.003,2,    0.002,2,    0.000,2,   2314.0,2,   2339.7,2,   7.4067,  25,2,  -999.00,1,  -999.00,   -999.0,1,   -999.0,   4.4757,  27.3600
  49NZ20090410,   P21,    32,  1,     22, X12022,2,20090415,0807,-16.7440, -80.6617, 4727,   1130.9,2,   3.9587,2,   3.96002,2,  34.5457,2,  34.5449,2,    65.36,2,    65.33,2,    86.10,2,     0.31,    42.52,2,     0.15,     0.02,2,     0.01,    3.107,2,    0.018,    0.003,2,    0.005,2,    0.000,2,   2319.4,2,   2353.8,2,   7.4334,  25,2,  -999.00,1,  -999.00,   -999.0,1,   -999.0,   3.8723,  27.4380
  49NZ20090410,   P21,    32,  1,     21, X12021,2,20090415,0807,-16.7440, -80.6617, 4727,   1332.6,2,   3.3785,2,   3.37842,2,  34.5713,2,  34.5711,2,    78.70,2,    78.25,2,    99.69,2,     0.34,    41.57,2,     0.15,     0.01,2,     0.01,    3.029,2,    0.018,    0.003,2,    0.004,2,    0.000,2,   2325.1,2,   2369.9,2,   7.4561,  25,2,  -999.00,1,  -999.00,   -999.0,1,   -999.0,   3.2805,  27.5167
  49NZ20090410,   P21,    32,  1,     20, X12020,2,20090415,0807,-16.7440, -80.6617, 4727,   1530.8,2,   2.8874,2,   2.88727,2,  34.5926,2,  34.5930,2,    98.36,2,    97.98,2,   107.06,2,     0.35,    39.98,2,     0.14,     0.01,2,     0.01,    2.888,2,    0.017,    0.000,2,    0.000,2,    0.000,2,   2325.3,2,   2378.5,2,   7.4913,  25,6,  -999.00,1,  -999.00,   -999.0,1,   -999.0,   2.7783,  27.5799
  49NZ20090410,   P21,    32,  1,     19, X12019,2,20090415,0807,-16.7440, -80.6617, 4727,   1729.9,2,   2.5705,2,   2.57032,2,  34.6155,2,  34.6160,2,   104.85,2,   104.40,2,   116.20,2,     0.37,    39.29,2,     0.14,     0.01,2,     0.01,    2.837,2,    0.017,    0.000,2,    0.000,2,    0.000,2,   2330.6,2,   2390.2,2,   7.5050,  25,2,  -999.00,1,  -999.00,   -999.0,1,   -999.0,   2.4486,  27.6269
  49NZ20090410,   P21,    32,  1,     18, X12043,2,20090415,0807,-16.7440, -80.6617, 4727,   1929.8,2,   2.3225,2,   2.32273,2,  34.6362,2,  34.6360,2,   108.11,2,   107.95,2,   126.19,2,     0.40,    38.98,2,     0.14,     0.01,2,     0.01,    2.806,2,    0.017,    0.001,2,    0.001,2,    0.000,2,   2335.1,2,   2400.5,2,   7.5154,  25,2,  -999.00,1,  -999.00,   -999.0,1,   -999.0,   2.1872,  27.6651
  49NZ20090410,   P21,    32,  1,     17, X12042,2,20090415,0807,-16.7440, -80.6617, 4727,   2131.0,2,   2.0976,2,   2.09747,2,  34.6484,2,  34.6484,6,   129.97,2,   129.54,2,   121.95,2,     0.39,    37.35,2,     0.14,     0.01,2,     0.01,    2.658,2,    0.017, -999.000,9, -999.000,9, -999.000,9,   2320.9,2,   2398.5,2,   7.5499,  25,2,  -999.00,1,  -999.00,   -999.0,1,   -999.0,   1.9484,  27.6940
  49NZ20090410,   P21,    32,  1,     16, X12016,2,20090415,0807,-16.7440, -80.6617, 4727,   2330.2,2,   1.9407,2,   1.94062,2,  34.6616,2,  34.6616,2,   137.78,2,   137.44,2,   124.11,2,     0.39,    36.69,2,     0.14,     0.01,2,     0.01,    2.602,2,    0.016,    0.000,2,    0.000,2,    0.000,2,   2317.6,6,   2402.0,2,   7.5645,  25,2,  -999.00,1,  -999.00,   -999.0,1,   -999.0,   1.7767,  27.7179
  49NZ20090410,   P21,    32,  1,     15, X12015,2,20090415,0807,-16.7440, -80.6617, 4727,   2529.6,2,   1.8595,2,   1.85947,2,  34.6698,2,  34.6696,2,   139.76,2,   139.49,2,   127.14,2,     0.40,    36.60,2,     0.14,     0.01,2,     0.01,    2.587,2,    0.016,    0.000,2,    0.000,2,    0.000,2,   2321.5,2,   2407.3,6,   7.5699,  25,2,  -999.00,1,  -999.00,   -999.0,1,   -999.0,   1.6791,  27.7319
  49NZ20090410,   P21,    32,  1,     14, X12050,2,20090415,0807,-16.7440, -80.6617, 4727,   2731.5,2,   1.8091,2,   1.80911,2,  34.6752,2,  34.6755,2,   141.42,2,   141.21,2,   129.48,2,     0.40,    36.43,2,     0.13,     0.01,2,     0.01,    2.569,2,    0.016, -999.000,9, -999.000,9, -999.000,9,   2322.3,2,   2410.6,2,   7.5774,  25,2,  -999.00,1,  -999.00,   -999.0,1,   -999.0,   1.6111,  27.7413
  49NZ20090410,   P21,    32,  1,     13, X12013,7,20090415,0807,-16.7440, -80.6617, 4727,   2931.2,2,   1.7903,2,   1.79036,2,  34.6781,2,  34.6783,2,   136.74,2,   136.59,2,   135.15,2,     0.42,    36.79,2,     0.14,     0.01,2,     0.01,    2.596,2,    0.016, -999.000,9, -999.000,9, -999.000,9,   2332.2,2,   2419.3,2,   7.5750,  25,2,  -999.00,1,  -999.00,   -999.0,1,   -999.0,   1.5737,  27.7464
  49NZ20090410,   P21,    32,  1,     12, X12012,2,20090415,0807,-16.7440, -80.6617, 4727,   3170.2,2,   1.7831,2,   1.78319,2,  34.6805,2,  34.6801,2,   137.33,2,   137.18,2,   136.24,2,     0.42,    36.78,2,     0.14,     0.01,2,     0.01,    2.590,2,    0.016,    0.000,2,    0.000,2,    0.000,2,   2333.7,2,   2421.7,2,   7.5778,  25,2,  -999.00,1,  -999.00,   -999.0,1,   -999.0,   1.5434,  27.7506
  49NZ20090410,   P21,    32,  1,     11, X12041,2,20090415,0807,-16.7440, -80.6617, 4727,   3420.0,2,   1.7766,2,   1.77678,2,  34.6832,2,  34.6829,6,   141.75,2,   141.71,2,   133.98,2,     0.41,    36.42,2,     0.13,     0.01,2,     0.01,    2.563,2,    0.016, -999.000,9, -999.000,9, -999.000,9,   2328.7,2,   2418.3,2,   7.5820,  25,2,  -999.00,1,  -999.00,   -999.0,1,   -999.0,   1.5118,  27.7551
  49NZ20090410,   P21,    32,  1,     10, X12040,2,20090415,0807,-16.7440, -80.6617, 4727,   3671.3,2,   1.7623,2,   1.76237,2,  34.6862,2,  34.6862,2,   149.01,2,   148.96,2,   128.92,2,     0.40,    35.75,2,     0.13,     0.01,2,     0.01,    2.526,2,    0.016, -999.000,9, -999.000,9, -999.000,9,   2318.3,2,   2412.2,2,   7.5891,  25,2,  -999.00,1,  -999.00,   -999.0,1,   -999.0,   1.4716,  27.7604
  49NZ20090410,   P21,    32,  1,      9, X12009,2,20090415,0807,-16.7440, -80.6617, 4727,   3921.7,2,   1.7552,2,   1.75521,2,  34.6885,2,  34.6883,2,   154.19,2,   154.03,2,   125.56,2,     0.40,    35.48,2,     0.13,     0.01,2,     0.01,    2.493,2,    0.016,    0.000,2,    0.000,2,    0.000,2,   2314.8,2,   2408.1,2,   7.5934,  25,2,  -999.00,1,  -999.00,   -999.0,1,   -999.0,   1.4377,  27.7647
  49NZ20090410,   P21,    32,  1,      8, X12008,2,20090415,0807,-16.7440, -80.6617, 4727,   4171.4,2,   1.7598,2,   1.75970,2,  34.6896,2,  34.6901,2,   155.14,2,   155.05,2,   125.36,2,     0.39,    35.35,2,     0.13,     0.01,2,     0.01,    2.485,2,    0.016, -999.000,9, -999.000,9, -999.000,9,   2313.0,6,   2407.1,2,   7.5940,  25,2,  -999.00,1,  -999.00,   -999.0,1,   -999.0,   1.4144,  27.7673
  49NZ20090410,   P21,    32,  1,      7, X12007,2,20090415,0807,-16.7440, -80.6617, 4727,   4418.9,2,   1.7780,2,   1.77789,2,  34.6901,2,  34.6903,2,   154.68,2,   154.78,2,   125.70,2,     0.40,    35.37,2,     0.13,     0.01,2,     0.01,    2.487,2,    0.016, -999.000,9, -999.000,9, -999.000,9,   2312.9,2,   2407.6,6,   7.5930,  25,2,  -999.00,1,  -999.00,   -999.0,1,   -999.0,   1.4038,  27.7684
  49NZ20090410,   P21,    32,  1,      6, X12035,2,20090415,0807,-16.7440, -80.6617, 4727,   4669.9,2,   1.8065,2,   1.80645,2,  34.6900,2,  34.6908,2,   154.79,2,   241.39,4,   125.64,2,     0.40,    35.28,2,     0.13,     0.01,2,     0.01,    2.487,2,    0.016,    0.005,2,    0.001,2,    0.000,2,   2313.1,2,   2407.0,2,   7.5931,  25,6,  -999.00,1,  -999.00,   -999.0,1,   -999.0,   1.4019,  27.7685
  49NZ20090410,   P21,    32,  1,      5, X12038,9,20090415,0807,-16.7440, -80.6617, 4727,      9.9,2,  23.7234,2,  23.72281,2,  35.5717,2,-999.0000,9,   213.02,2,  -999.00,9,  -999.00,9,  -999.00,  -999.00,9,  -999.00,  -999.00,9,  -999.00, -999.000,9, -999.000, -999.000,9, -999.000,9, -999.000,9,   -999.0,9,   -999.0,9,-999.0000,-999,9,  -999.00,9,  -999.00,   -999.0,9,   -999.0,  23.7213,  24.1567
  49NZ20090410,   P21,    32,  1,      4, X12034,9,20090415,0807,-16.7440, -80.6617, 4727,   4170.6,2,   1.7599,2,   1.75987,2,  34.6897,2,-999.0000,9,   155.10,2,  -999.00,9,  -999.00,9,  -999.00,  -999.00,9,  -999.00,  -999.00,9,  -999.00, -999.000,9, -999.000, -999.000,9, -999.000,9, -999.000,9,   -999.0,9,   -999.0,9,-999.0000,-999,9,  -999.00,9,  -999.00,   -999.0,9,   -999.0,   1.4146,  27.7673
  49NZ20090410,   P21,    32,  1,      3, X12033,9,20090415,0807,-16.7440, -80.6617, 4727,   4418.1,2,   1.7779,2,   1.77788,2,  34.6902,2,-999.0000,9,   154.64,2,  -999.00,9,  -999.00,9,  -999.00,  -999.00,9,  -999.00,  -999.00,9,  -999.00, -999.000,9, -999.000, -999.000,9, -999.000,9, -999.000,9,   -999.0,9,   -999.0,9,-999.0000,-999,9,  -999.00,9,  -999.00,   -999.0,9,   -999.0,   1.4038,  27.7685
  49NZ20090410,   P21,    32,  1,      2, X12032,9,20090415,0807,-16.7440, -80.6617, 4727,   4773.6,2,   1.8185,2,   1.81846,2,  34.6900,2,-999.0000,9,   154.86,2,  -999.00,9,  -999.00,9,  -999.00,  -999.00,9,  -999.00,  -999.00,9,  -999.00, -999.000,9, -999.000, -999.000,9, -999.000,9, -999.000,9,   -999.0,9,   -999.0,9,-999.0000,-999,9,  -999.00,9,  -999.00,   -999.0,9,   -999.0,   1.4011,  27.7686
  49NZ20090410,   P21,    32,  1,      1, X12046,2,20090415,0807,-16.7440, -80.6617, 4727,   4773.0,2,   1.8185,2,   1.81860,2,  34.6902,2,  34.6905,6,   154.85,2,   155.15,2,   125.77,2,     0.40,    35.36,2,     0.13,     0.01,2,     0.01,    2.486,2,    0.016,    0.008,2,    0.000,2,    0.000,2,   2314.0,2,   2407.3,2,   7.5934,  25,2,  -999.00,1,  -999.00,   -999.0,1,   -999.0,   1.4012,  27.7687