BOTTLE,20220818CCHSIOAMB
EXPOCODE,SECT_ID,STNNBR,CASTNO,SAMPNO,BTLNBR,BTLNBR_FLAG_W,DATE,TIME,LATITUDE,LONGITUDE,DEPTH,CTDPRS,CTDPRS_FLAG_W,CTDTMP,CTDTMP_FLAG_W,SBE35,SBE35_FLAG_W,CTDSAL,CTDSAL_FLAG_W,SALNTY,SALNTY_FLAG_W,CTDOXY,CTDOXY_FLAG_W,OXYGEN,OXYGEN_FLAG_W,SILCAT,SILCAT_FLAG_W,SILUNC,NITRAT,NITRAT_FLAG_W,NRAUNC,NITRIT,NITRIT_FLAG_W,NRIUNC,PHSPHT,PHSPHT_FLAG_W,PHPUNC,CFC-11,CFC-11_FLAG_W,CFC-12,CFC-12_FLAG_W,CFC113,CFC113_FLAG_W,TCARBN,TCARBN_FLAG_W,ALKALI,ALKALI_FLAG_W,PH_TOT,PH_TMP,PH_TOT_FLAG_W,DELC13,DELC13_FLAG_W,C13ERR,DELC14,DELC14_FLAG_W,C14ERR,THETA,SIG0
,,,,,,,,,,,METERS,DBAR,,ITS-90,,ITS-90,,PSS-78,,PSS-78,,UMOL/KG,,UMOL/KG,,UMOL/KG,,UMOL/KG,UMOL/KG,,UMOL/KG,UMOL/KG,,UMOL/KG,UMOL/KG,,UMOL/KG,PMOL/KG,,PMOL/KG,,PMOL/KG,,UMOL/KG,,UMOL/KG,,,DEG C,,/MILLE,,/MILLE,/MILLE,,/MILLE,DEG C,KG/M^3
  49NZ20090410,   P21,    51,  1,     36, X12006,2,20090425,0658,-16.7468, -88.3317, 4279,      9.7,2,  23.1925,2,  23.19232,2,  35.7649,2,  35.7647,2,   215.55,2,   215.61,2,     0.69,2,     0.12,     0.09,2,     0.03,     0.02,2,     0.01,    0.406,2,    0.013,    1.749,2,    1.106,2, -999.000,5,   -999.0,9,   -999.0,9,-999.0000,-999,9,  -999.00,9,  -999.00,   -999.0,9,   -999.0,  23.1905,  24.4586
  49NZ20090410,   P21,    51,  1,     35, X12047,2,20090425,0658,-16.7468, -88.3317, 4279,     50.9,2,  23.1907,2,  23.19171,2,  35.7586,2,  35.7543,2,   215.02,2,   216.01,2,     0.68,2,     0.12,     0.08,2,     0.03,     0.01,2,     0.01,    0.409,2,    0.013,    1.770,2,    1.116,2, -999.000,5,   -999.0,9,   -999.0,9,-999.0000,-999,9,  -999.00,9,  -999.00,   -999.0,9,   -999.0,  23.1802,  24.4569
  49NZ20090410,   P21,    51,  1,     34, X12004,2,20090425,0658,-16.7468, -88.3317, 4279,    100.6,2,  18.8084,2,  18.81026,2,  35.3333,2,  35.3357,2,   211.82,2,   211.54,2,     0.97,4,     1.92,     3.80,2,     0.04,     2.05,2,     0.01,    0.779,2,    0.050,    2.191,6,    1.361,6, -999.000,5,   -999.0,9,   -999.0,9,-999.0000,-999,9,  -999.00,9,  -999.00,   -999.0,9,   -999.0,  18.7906,  25.3293
  49NZ20090410,   P21,    51,  1,     33, X12003,2,20090425,0658,-16.7468, -88.3317, 4279,    151.7,2,  17.2330,2,  17.23967,2,  35.1037,2,  35.1055,2,   197.84,2,   194.72,2,     1.61,2,     0.12,     8.33,2,     0.06,     0.03,2,     0.01,    0.966,2,    0.013,    2.296,2,    1.401,2,    0.191,2,   -999.0,9,   -999.0,9,-999.0000,-999,9,  -999.00,9,  -999.00,   -999.0,9,   -999.0,  17.2077,  25.5443
  49NZ20090410,   P21,    51,  1,     32, X12002,2,20090425,0658,-16.7468, -88.3317, 4279,    200.9,2,  13.8111,2,  13.81296,2,  34.6725,2,  34.6754,2,   149.21,2,   145.38,2,     5.45,2,     0.13,    16.05,2,     0.08,     0.02,2,     0.01,    1.563,2,    0.014,    2.454,2,    1.423,2,    0.063,2,   -999.0,9,   -999.0,9,-999.0000,-999,9,  -999.00,9,  -999.00,   -999.0,9,   -999.0,  13.7824,  25.9794
  49NZ20090410,   P21,    51,  1,     31, X12001,2,20090425,0658,-16.7468, -88.3317, 4279,    250.0,2,  11.6656,2,  11.66658,2,  34.6110,2,  34.6119,6,    39.98,2,    39.52,2,    17.64,2,     0.16,    23.01,2,     0.10,     0.02,2,     0.01,    2.452,2,    0.016,    1.497,2,    0.814,2,    0.015,2,   -999.0,9,   -999.0,9,-999.0000,-999,9,  -999.00,9,  -999.00,   -999.0,9,   -999.0,  11.6336,  26.3561
  49NZ20090410,   P21,    51,  1,     30, X12030,2,20090425,0658,-16.7468, -88.3317, 4279,    330.1,2,  10.0021,2,  10.00068,2,  34.6569,2,  34.6565,2,     7.88,2,     7.76,2,    25.44,2,     0.17,    32.64,2,     0.12,     0.01,2,     0.01,    2.785,2,    0.017,    0.403,2,    0.207,2,    0.009,2,   -999.0,9,   -999.0,9,-999.0000,-999,9,  -999.00,9,  -999.00,   -999.0,9,   -999.0,   9.9637,  26.6902
  49NZ20090410,   P21,    51,  1,     29, X12044,2,20090425,0658,-16.7468, -88.3317, 4279,    431.8,2,   8.2008,2,   8.20459,2,  34.5649,2,  34.5635,2,    26.02,2,    26.47,2,    28.79,2,     0.18,    38.48,2,     0.14,     0.02,2,     0.01,    2.829,2,    0.017,    0.225,2,    0.116,2,    0.000,2,   -999.0,9,   -999.0,9,-999.0000,-999,9,  -999.00,9,  -999.00,   -999.0,9,   -999.0,   8.1561,  26.9086
  49NZ20090410,   P21,    51,  1,     28, X12048,2,20090425,0658,-16.7468, -88.3317, 4279,    528.2,2,   6.9761,2,   6.97515,2,  34.5052,2,  34.5048,6,    51.22,2,    50.98,2,    32.77,2,     0.19,    40.03,2,     0.14,     0.01,2,     0.01,    2.834,2,    0.017,    0.135,2,    0.067,2,    0.000,2,   -999.0,9,   -999.0,9,-999.0000,-999,9,  -999.00,9,  -999.00,   -999.0,9,   -999.0,   6.9259,  27.0392
  49NZ20090410,   P21,    51,  1,     27, X12027,2,20090425,0658,-16.7468, -88.3317, 4279,    629.0,2,   6.1720,2,   6.17313,2,  34.4945,2,  34.4935,2,    50.58,2,    50.71,2,    41.05,2,     0.21,    41.75,2,     0.15,     0.01,2,     0.01,    2.952,2,    0.017,    0.029,6,    0.016,6,    0.000,6,   -999.0,9,   -999.0,9,-999.0000,-999,9,  -999.00,9,  -999.00,   -999.0,9,   -999.0,   6.1157,  27.1385
  49NZ20090410,   P21,    51,  1,     26, X12026,2,20090425,0658,-16.7468, -88.3317, 4279,    729.7,2,   5.4083,2,   5.40647,2,  34.4890,2,  34.4880,2,    52.88,2,    52.53,2,    51.63,2,     0.23,    43.06,2,     0.15,     0.01,2,     0.01,    3.050,2,    0.018,    0.000,2,    0.002,2,    0.000,2,   -999.0,9,   -999.0,9,-999.0000,-999,9,  -999.00,9,  -999.00,   -999.0,9,   -999.0,   5.3467,  27.2294
  49NZ20090410,   P21,    51,  1,     25, X12025,2,20090425,0658,-16.7468, -88.3317, 4279,    832.5,2,   4.9327,2,   4.93267,2,  34.4975,2,  34.4973,2,    58.90,2,    58.91,2,    60.28,2,     0.25,    43.08,2,     0.15,     0.01,2,     0.01,    3.056,2,    0.018,    0.000,2,    0.000,2,    0.000,2,   -999.0,9,   -999.0,9,-999.0000,-999,9,  -999.00,9,  -999.00,   -999.0,9,   -999.0,   4.8648,  27.2924
  49NZ20090410,   P21,    51,  1,     24, X12024,2,20090425,0658,-16.7468, -88.3317, 4279,    930.8,2,   4.5223,2,   4.52175,2,  34.5151,2,  34.5160,2,    64.06,2,    63.73,2,    70.35,2,     0.27,    42.91,2,     0.15,     0.01,2,     0.01,    3.058,2,    0.018,    0.000,2,    0.000,2,    0.000,2,   -999.0,9,   -999.0,9,-999.0000,-999,9,  -999.00,9,  -999.00,   -999.0,9,   -999.0,   4.4486,  27.3527
  49NZ20090410,   P21,    51,  1,     23, X12028,2,20090425,0658,-16.7468, -88.3317, 4279,   1070.0,2,   3.9066,2,   3.90837,2,  34.5365,2,  34.5359,6,    80.38,2,    79.52,2,    81.76,2,     0.30,    41.64,2,     0.15,     0.01,2,     0.01,    2.979,2,    0.017,    0.000,2,    0.001,2,    0.000,2,   -999.0,9,   -999.0,9,-999.0000,-999,9,  -999.00,9,  -999.00,   -999.0,9,   -999.0,   3.8258,  27.4354
  49NZ20090410,   P21,    51,  1,     22, X12022,2,20090425,0658,-16.7468, -88.3317, 4279,   1271.6,2,   3.3862,2,   3.38370,2,  34.5645,2,  34.5647,2,    86.38,2,    85.94,2,    94.83,2,     0.33,    40.95,2,     0.15,     0.01,2,     0.01,    2.941,2,    0.017,    0.000,2,    0.000,2,    0.000,2,   -999.0,9,   -999.0,9,-999.0000,-999,9,  -999.00,9,  -999.00,   -999.0,9,   -999.0,   3.2933,  27.5101
  49NZ20090410,   P21,    51,  1,     21, X12021,2,20090425,0658,-16.7468, -88.3317, 4279,   1470.1,2,   2.9278,2,   2.92760,2,  34.5912,2,  34.5914,2,    95.79,2,    95.38,2,   106.86,2,     0.35,    40.29,2,     0.15,     0.01,2,     0.01,    2.894,2,    0.017,    0.000,2,    0.000,2,    0.000,2,   -999.0,9,   -999.0,9,-999.0000,-999,9,  -999.00,9,  -999.00,   -999.0,9,   -999.0,   2.8232,  27.5748
  49NZ20090410,   P21,    51,  1,     20, X12020,2,20090425,0658,-16.7468, -88.3317, 4279,   1670.3,2,   2.5896,2,   2.58944,2,  34.6139,2,  34.6139,2,   105.23,2,   104.70,2,   115.20,2,     0.37,    39.56,2,     0.14,     0.01,2,     0.01,    2.818,2,    0.017,    0.000,2,    0.000,2,    0.000,2,   -999.0,9,   -999.0,9,-999.0000,-999,9,  -999.00,9,  -999.00,   -999.0,9,   -999.0,   2.4725,  27.6235
  49NZ20090410,   P21,    51,  1,     19, X12019,2,20090425,0658,-16.7468, -88.3317, 4279,   1872.0,2,   2.3586,2,   2.35859,2,  34.6305,2,  34.6305,2,   113.14,2,   112.65,2,   120.59,2,     0.38,    38.70,2,     0.14,     0.01,2,     0.01,    2.758,2,    0.017,    0.002,2,    0.000,2,    0.000,2,   -999.0,9,   -999.0,9,-999.0000,-999,9,  -999.00,9,  -999.00,   -999.0,9,   -999.0,   2.2277,  27.6573
  49NZ20090410,   P21,    51,  1,     18, X12043,2,20090425,0658,-16.7468, -88.3317, 4279,   2070.0,2,   2.1391,2,   2.13904,2,  34.6456,2,  34.6453,2,   125.34,2,   124.71,2,   123.43,2,     0.39,    37.90,2,     0.14,     0.01,2,     0.01,    2.673,2,    0.017,    0.000,2,    0.000,2,    0.000,2,   -999.0,9,   -999.0,9,-999.0000,-999,9,  -999.00,9,  -999.00,   -999.0,9,   -999.0,   1.9945,  27.6881
  49NZ20090410,   P21,    51,  1,     17, X12042,2,20090425,0658,-16.7468, -88.3317, 4279,   2269.8,2,   1.9916,2,   1.99155,2,  34.6571,2,  34.6572,6,   134.80,2,   134.32,2,   124.17,2,     0.39,    37.07,2,     0.14,     0.01,2,     0.01,    2.613,2,    0.017,    0.000,2,    0.000,2,    0.000,2,   -999.0,9,   -999.0,9,-999.0000,-999,9,  -999.00,9,  -999.00,   -999.0,9,   -999.0,   1.8321,  27.7101
  49NZ20090410,   P21,    51,  1,     16, X12016,2,20090425,0658,-16.7468, -88.3317, 4279,   2472.2,2,   1.8914,2,   1.89138,2,  34.6662,2,  34.6664,2,   140.57,2,   140.16,2,   125.45,2,     0.39,    36.57,2,     0.14,     0.01,2,     0.01,    2.571,2,    0.016,    0.000,2,    0.000,2,    0.000,2,   -999.0,9,   -999.0,9,-999.0000,-999,9,  -999.00,9,  -999.00,   -999.0,9,   -999.0,   1.7156,  27.7263
  49NZ20090410,   P21,    51,  1,     15, X12015,2,20090425,0658,-16.7468, -88.3317, 4279,   2672.2,2,   1.8340,2,   1.83388,2,  34.6725,2,  34.6725,2,   142.13,2,   141.61,2,   128.25,2,     0.40,    36.57,2,     0.14,     0.01,2,     0.01,    2.557,2,    0.016,    0.000,2,    0.000,2,    0.000,2,   -999.0,9,   -999.0,9,-999.0000,-999,9,  -999.00,9,  -999.00,   -999.0,9,   -999.0,   1.6410,  27.7369
  49NZ20090410,   P21,    51,  1,     14, X12050,2,20090425,0658,-16.7468, -88.3317, 4279,   2869.3,2,   1.8013,2,   1.80118,2,  34.6768,2,  34.6766,2,   143.26,2,   142.92,2,   130.10,2,     0.41,    36.40,2,     0.13,     0.01,2,     0.01,    2.553,2,    0.016,    0.000,2,    0.000,2,    0.000,2,   -999.0,9,   -999.0,9,-999.0000,-999,9,  -999.00,9,  -999.00,   -999.0,9,   -999.0,   1.5904,  27.7442
  49NZ20090410,   P21,    51,  1,     13, X12013,7,20090425,0658,-16.7468, -88.3317, 4279,   3082.3,2,   1.7861,2,   1.78595,2,  34.6799,2,  34.6806,2,   143.75,2,   143.33,2,   130.93,2,     0.41,    36.43,2,     0.13,     0.01,2,     0.01,    2.544,2,    0.016,    0.000,2,    0.000,2,    0.000,2,   -999.0,9,   -999.0,9,-999.0000,-999,9,  -999.00,9,  -999.00,   -999.0,9,   -999.0,   1.5550,  27.7492
  49NZ20090410,   P21,    51,  1,     12, X12012,2,20090425,0658,-16.7468, -88.3317, 4279,   3330.2,2,   1.7707,2,   1.77074,2,  34.6833,2,  34.6831,6,   145.64,2,   145.29,2,   130.82,2,     0.41,    36.30,2,     0.13,     0.01,2,     0.01,    2.536,2,    0.016,    0.001,2,    0.000,2,    0.000,2,   -999.0,9,   -999.0,9,-999.0000,-999,9,  -999.00,9,  -999.00,   -999.0,9,   -999.0,   1.5152,  27.7549
  49NZ20090410,   P21,    51,  1,     11, X12041,2,20090425,0658,-16.7468, -88.3317, 4279,   3580.2,2,   1.7575,2,   1.75747,2,  34.6860,2,  34.6860,2,   148.77,2,   148.51,2,   129.09,2,     0.40,    36.06,2,     0.13,     0.01,2,     0.01,    2.515,2,    0.016,    0.000,2,    0.000,2,    0.000,2,   -999.0,9,   -999.0,9,-999.0000,-999,9,  -999.00,9,  -999.00,   -999.0,9,   -999.0,   1.4765,  27.7599
  49NZ20090410,   P21,    51,  1,     10, X12040,2,20090425,0658,-16.7468, -88.3317, 4279,   3829.9,2,   1.7580,2,   1.75788,2,  34.6880,2,  34.6880,2,   151.22,2,   151.01,2,   127.44,2,     0.40,    35.76,2,     0.13,     0.01,2,     0.01,    2.494,2,    0.016,    0.000,2,    0.000,2,    0.000,2,   -999.0,9,   -999.0,9,-999.0000,-999,9,  -999.00,9,  -999.00,   -999.0,9,   -999.0,   1.4504,  27.7634
  49NZ20090410,   P21,    51,  1,      9, X12009,2,20090425,0658,-16.7468, -88.3317, 4279,   4079.0,2,   1.7748,2,   1.77463,2,  34.6888,2,  34.6887,2,   151.75,2,   151.58,2,   127.44,2,     0.40,    35.85,2,     0.13,     0.01,2,     0.01,    2.495,2,    0.016,    0.000,2,    0.000,2,    0.000,2,   -999.0,9,   -999.0,9,-999.0000,-999,9,  -999.00,9,  -999.00,   -999.0,9,   -999.0,   1.4394,  27.7649
  49NZ20090410,   P21,    51,  1,      8, X12008,9,20090425,0658,-16.7468, -88.3317, 4279,      9.9,2,  23.1914,2,  23.19124,2,  35.7651,2,-999.0000,9,   215.56,2,  -999.00,9,  -999.00,9,  -999.00,  -999.00,9,  -999.00,  -999.00,9,  -999.00, -999.000,9, -999.000, -999.000,9, -999.000,9, -999.000,9,   -999.0,9,   -999.0,9,-999.0000,-999,9,  -999.00,9,  -999.00,   -999.0,9,   -999.0,  23.1894,  24.4591
  49NZ20090410,   P21,    51,  1,      7, X12007,9,20090425,0658,-16.7468, -88.3317, 4279,   2071.1,2,   2.1408,2,   2.14101,2,  34.6454,2,-999.0000,9,   125.24,2,  -999.00,9,  -999.00,9,  -999.00,  -999.00,9,  -999.00,  -999.00,9,  -999.00, -999.000,9, -999.000, -999.000,9, -999.000,9, -999.000,9,   -999.0,9,   -999.0,9,-999.0000,-999,9,  -999.00,9,  -999.00,   -999.0,9,   -999.0,   1.9961,  27.6879
  49NZ20090410,   P21,    51,  1,      6, X12035,9,20090425,0658,-16.7468, -88.3317, 4279,   2270.2,2,   1.9916,2,   1.99157,2,  34.6571,2,-999.0000,9,   134.79,2,  -999.00,9,  -999.00,9,  -999.00,  -999.00,9,  -999.00,  -999.00,9,  -999.00, -999.000,9, -999.000, -999.000,9, -999.000,9, -999.000,9,   -999.0,9,   -999.0,9,-999.0000,-999,9,  -999.00,9,  -999.00,   -999.0,9,   -999.0,   1.8320,  27.7101
  49NZ20090410,   P21,    51,  1,      5, X12038,9,20090425,0658,-16.7468, -88.3317, 4279,   2472.0,2,   1.8915,2,   1.89141,2,  34.6661,2,-999.0000,9,   140.59,2,  -999.00,9,  -999.00,9,  -999.00,  -999.00,9,  -999.00,  -999.00,9,  -999.00, -999.000,9, -999.000, -999.000,9, -999.000,9, -999.000,9,   -999.0,9,   -999.0,9,-999.0000,-999,9,  -999.00,9,  -999.00,   -999.0,9,   -999.0,   1.7157,  27.7262
  49NZ20090410,   P21,    51,  1,      4, X12034,9,20090425,0658,-16.7468, -88.3317, 4279,   2869.4,2,   1.8014,2,   1.80123,2,  34.6768,2,-999.0000,9,   143.26,2,  -999.00,9,  -999.00,9,  -999.00,  -999.00,9,  -999.00,  -999.00,9,  -999.00, -999.000,9, -999.000, -999.000,9, -999.000,9, -999.000,9,   -999.0,9,   -999.0,9,-999.0000,-999,9,  -999.00,9,  -999.00,   -999.0,9,   -999.0,   1.5905,  27.7441
  49NZ20090410,   P21,    51,  1,      3, X12033,9,20090425,0658,-16.7468, -88.3317, 4279,   3081.9,2,   1.7859,2,   1.78586,2,  34.6800,2,-999.0000,9,   143.75,2,  -999.00,9,  -999.00,9,  -999.00,  -999.00,9,  -999.00,  -999.00,9,  -999.00, -999.000,9, -999.000, -999.000,9, -999.000,9, -999.000,9,   -999.0,9,   -999.0,9,-999.0000,-999,9,  -999.00,9,  -999.00,   -999.0,9,   -999.0,   1.5548,  27.7493
  49NZ20090410,   P21,    51,  1,      2, X12032,2,20090425,0658,-16.7468, -88.3317, 4279,   2672.8,2,   1.8340,2,   1.83388,2,  34.6725,2,  34.6727,2,   142.15,2,   141.81,2,   128.42,2,     0.40,    36.58,2,     0.14,     0.01,2,     0.01,    2.556,2,    0.016, -999.000,9, -999.000,9, -999.000,9,   -999.0,9,   -999.0,9,-999.0000,-999,9,  -999.00,9,  -999.00,   -999.0,9,   -999.0,   1.6409,  27.7369
  49NZ20090410,   P21,    51,  1,      1, X12046,2,20090425,0658,-16.7468, -88.3317, 4279,   4324.2,2,   1.7966,2,   1.79657,2,  34.6890,2,  34.6889,6,   152.07,2,   151.86,2,   126.89,2,     0.40,    35.82,2,     0.13,     0.01,2,     0.01,    2.496,2,    0.016,    0.000,2,    0.001,2,    0.000,2,   -999.0,9,   -999.0,9,-999.0000,-999,9,  -999.00,9,  -999.00,   -999.0,9,   -999.0,   1.4328,  27.7655