BOTTLE,20220818CCHSIOAMB
EXPOCODE,SECT_ID,STNNBR,CASTNO,SAMPNO,BTLNBR,BTLNBR_FLAG_W,DATE,TIME,LATITUDE,LONGITUDE,DEPTH,CTDPRS,CTDPRS_FLAG_W,CTDTMP,CTDTMP_FLAG_W,SBE35,SBE35_FLAG_W,CTDSAL,CTDSAL_FLAG_W,SALNTY,SALNTY_FLAG_W,CTDOXY,CTDOXY_FLAG_W,OXYGEN,OXYGEN_FLAG_W,SILCAT,SILCAT_FLAG_W,SILUNC,NITRAT,NITRAT_FLAG_W,NRAUNC,NITRIT,NITRIT_FLAG_W,NRIUNC,PHSPHT,PHSPHT_FLAG_W,PHPUNC,CFC-11,CFC-11_FLAG_W,CFC-12,CFC-12_FLAG_W,CFC113,CFC113_FLAG_W,TCARBN,TCARBN_FLAG_W,ALKALI,ALKALI_FLAG_W,PH_TOT,PH_TMP,PH_TOT_FLAG_W,DELC13,DELC13_FLAG_W,C13ERR,DELC14,DELC14_FLAG_W,C14ERR,THETA,SIG0
,,,,,,,,,,,METERS,DBAR,,ITS-90,,ITS-90,,PSS-78,,PSS-78,,UMOL/KG,,UMOL/KG,,UMOL/KG,,UMOL/KG,UMOL/KG,,UMOL/KG,UMOL/KG,,UMOL/KG,UMOL/KG,,UMOL/KG,PMOL/KG,,PMOL/KG,,PMOL/KG,,UMOL/KG,,UMOL/KG,,,DEG C,,/MILLE,,/MILLE,/MILLE,,/MILLE,DEG C,KG/M^3
  49NZ20090410,   P21,    55,  1,     36, X12006,2,20090425,1151,-16.7452, -88.6600, 4363,     10.2,2,  23.2703,2,  23.27010,2,  35.7721,2,  35.7721,2,   215.97,2,   216.37,2,     0.71,2,     0.12,     0.32,2,     0.03,     0.02,2,     0.01,    0.425,2,    0.013,    1.785,2,    1.145,2, -999.000,5,   2054.1,2,   2377.5,2,   8.0555,  25,6,  -999.00,9,  -999.00,   -999.0,9,   -999.0,  23.2682,  24.4414
  49NZ20090410,   P21,    55,  1,     35, X12047,2,20090425,1151,-16.7452, -88.6600, 4363,     50.3,2,  23.2793,2,  23.27770,2,  35.7699,2,  35.7712,2,   215.50,2,   216.33,2,     0.68,2,     0.12,     0.29,2,     0.03,     0.03,2,     0.01,    0.429,2,    0.013,    1.780,2,    1.132,2, -999.000,5,   2053.9,6,   2373.4,2,   8.0558,  25,2,  -999.00,9,  -999.00,   -999.0,9,   -999.0,  23.2689,  24.4395
  49NZ20090410,   P21,    55,  1,     34, X12004,2,20090425,1151,-16.7452, -88.6600, 4363,     99.6,2,  19.0597,2,  19.05206,2,  35.3888,2,  35.3892,2,   213.10,2,   212.43,2,     0.71,2,     0.12,     1.80,2,     0.04,     1.47,2,     0.01,    0.688,2,    0.013,    2.193,6,    1.365,6,    0.209,4,   2090.5,2,   2346.9,6,   7.9540,  25,2,  -999.00,9,  -999.00,   -999.0,9,   -999.0,  19.0419,  25.3077
  49NZ20090410,   P21,    55,  1,     33, X12003,2,20090425,1151,-16.7452, -88.6600, 4363,    149.7,2,  17.8960,2,  17.89004,2,  35.1844,2,  35.1842,2,   203.28,2,   203.53,2,     1.04,2,     0.12,     6.04,2,     0.05,     0.04,2,     0.01,    0.838,2,    0.013,    2.312,2,    1.434,2,    0.197,2,   2099.0,2,   2331.3,2,   7.9123,  25,6,  -999.00,9,  -999.00,   -999.0,9,   -999.0,  17.8704,  25.4453
  49NZ20090410,   P21,    55,  1,     32, X12002,2,20090425,1151,-16.7452, -88.6600, 4363,    199.8,2,  14.8819,2,  14.88288,2,  34.7761,2,  34.7691,2,   175.37,2,   167.69,2,     3.37,2,     0.13,    13.18,2,     0.07,     0.02,2,     0.01,    1.296,2,    0.014,    2.547,2,    1.513,2,    0.097,2,   2133.2,2,   2298.8,2,   7.7805,  25,2,  -999.00,9,  -999.00,   -999.0,9,   -999.0,  14.8519,  25.8317
  49NZ20090410,   P21,    55,  1,     31, X12001,2,20090425,1151,-16.7452, -88.6600, 4363,    249.7,2,  11.9188,2,  11.92225,2,  34.6684,2,  34.6657,6,    23.47,2,    25.16,2,    18.89,2,     0.16,    22.87,2,     0.10,     0.02,2,     0.01,    2.565,2,    0.016,    1.390,2,    0.777,2,    0.031,2,   2252.0,2,   2293.0,2,   7.4459,  25,2,  -999.00,9,  -999.00,   -999.0,9,   -999.0,  11.8864,  26.3532
  49NZ20090410,   P21,    55,  1,     30, X12030,2,20090425,1151,-16.7452, -88.6600, 4363,    281.4,2,  11.2987,2,  11.29911,2,  34.6925,2,  34.6906,2,    10.53,2,    11.09,2,    22.34,2,     0.17,    25.93,2,     0.11,     0.02,2,     0.01,    2.702,2,    0.017,    0.895,2,    0.492,2,    0.016,2,   2265.1,2,   2294.3,2,   7.4099,  25,2,  -999.00,9,  -999.00,   -999.0,9,   -999.0,  11.2634,  26.4881
  49NZ20090410,   P21,    55,  1,     29, X12044,2,20090425,1151,-16.7452, -88.6600, 4363,    369.8,2,   9.5353,2,   9.53163,2,  34.6205,2,  34.6219,2,    13.78,2,    13.96,2,    25.30,2,     0.17,    34.03,2,     0.13,     0.02,2,     0.01,    2.777,2,    0.017,    0.417,2,    0.219,2,    0.010,2,   2273.5,2,   2294.5,2,   7.3896,  25,2,  -999.00,9,  -999.00,   -999.0,9,   -999.0,   9.4935,  26.7407
  49NZ20090410,   P21,    55,  1,     28, X12048,2,20090425,1151,-16.7452, -88.6600, 4363,    470.3,2,   7.9428,2,   7.93981,2,  34.5587,2,  34.5581,6,    30.52,2,    30.84,2,    30.03,2,     0.19,    39.14,2,     0.14,     0.02,2,     0.01,    2.828,2,    0.017,    0.173,2,    0.092,2,    0.010,2,   2272.4,2,   2297.8,2,   7.4041,  25,2,  -999.00,9,  -999.00,   -999.0,9,   -999.0,   7.8949,  26.9429
  49NZ20090410,   P21,    55,  1,     27, X12027,2,20090425,1151,-16.7452, -88.6600, 4363,    570.3,2,   6.9507,2,   6.95140,2,  34.5202,2,  34.5204,2,    42.55,2,    42.69,2,    35.30,2,     0.20,    40.84,2,     0.15,     0.01,2,     0.01,    2.896,2,    0.017,    0.084,6,    0.044,6,    0.000,6,   2272.8,2,   2302.7,2,   7.4127,  25,2,  -999.00,9,  -999.00,   -999.0,9,   -999.0,   6.8965,  27.0551
  49NZ20090410,   P21,    55,  1,     26, X12026,2,20090425,1151,-16.7452, -88.6600, 4363,    669.2,2,   6.1532,2,   6.15269,2,  34.4925,2,  34.4922,2,    51.19,2,    51.59,2,    41.31,2,     0.21,    41.93,2,     0.15,     0.01,2,     0.01,    2.955,2,    0.017,    0.031,2,    0.018,2,    0.000,2,   2275.7,6,   2307.3,2,   7.4165,  25,2,  -999.00,9,  -999.00,   -999.0,9,   -999.0,   6.0932,  27.1397
  49NZ20090410,   P21,    55,  1,     25, X12025,2,20090425,1151,-16.7452, -88.6600, 4363,    768.4,2,   5.5805,2,   5.57947,2,  34.4961,2,  34.4958,2,    47.35,2,    47.26,2,    50.84,2,     0.23,    43.33,2,     0.15,     0.01,2,     0.01,    3.074,2,    0.018,    0.006,2,    0.003,2,    0.000,2,   2290.5,2,   2317.7,6,   7.4036,  25,2,  -999.00,9,  -999.00,   -999.0,9,   -999.0,   5.5144,  27.2148
  49NZ20090410,   P21,    55,  1,     24, X12024,2,20090425,1151,-16.7452, -88.6600, 4363,    868.6,2,   4.9388,2,   4.93878,2,  34.5051,2,  34.5050,2,    55.39,2,    55.82,2,    61.98,2,     0.26,    43.46,2,     0.15,     0.01,2,     0.01,    3.083,2,    0.018,    0.000,2,    0.001,2,    0.000,2,   2298.8,2,   2330.0,2,   7.4162,  25,6,  -999.00,9,  -999.00,   -999.0,9,   -999.0,   4.8677,  27.2981
  49NZ20090410,   P21,    55,  1,     23, X12028,2,20090425,1151,-16.7452, -88.6600, 4363,    970.6,2,   4.4807,2,   4.48123,2,  34.5196,2,  34.5197,6,    62.76,2,    62.86,2,    71.52,2,     0.28,    42.91,2,     0.15,     0.01,2,     0.01,    3.065,2,    0.018,    0.002,2,    0.002,2,    0.000,2,   2305.8,2,   2341.1,2,   7.4286,  25,2,  -999.00,9,  -999.00,   -999.0,9,   -999.0,   4.4039,  27.3612
  49NZ20090410,   P21,    55,  1,     22, X12022,2,20090425,1151,-16.7452, -88.6600, 4363,   1128.1,2,   3.8736,2,   3.87326,2,  34.5374,2,  34.5370,2,    81.23,2,    80.75,2,    82.56,2,     0.30,    41.49,2,     0.15,     0.01,2,     0.01,    2.979,2,    0.017,    0.002,2,    0.002,2,    0.000,2,   2307.7,2,   2354.8,2,   7.4612,  25,2,  -999.00,9,  -999.00,   -999.0,9,   -999.0,   3.7882,  27.4398
  49NZ20090410,   P21,    55,  1,     21, X12021,2,20090425,1151,-16.7452, -88.6600, 4363,   1329.6,2,   3.3419,2,   3.34202,2,  34.5672,2,  34.5674,2,    86.75,2,    86.21,2,    96.61,2,     0.33,    41.05,2,     0.15,     0.01,2,     0.01,    2.952,2,    0.017,    0.001,2,    0.002,2,    0.000,2,   2320.6,2,   2370.5,2,   7.4694,  25,2,  -999.00,9,  -999.00,   -999.0,9,   -999.0,   3.2446,  27.5168
  49NZ20090410,   P21,    55,  1,     20, X12020,2,20090425,1151,-16.7452, -88.6600, 4363,   1528.8,2,   2.9017,2,   2.90111,2,  34.5926,2,  34.5928,2,    97.45,2,    97.11,2,   107.05,2,     0.35,    40.24,2,     0.15,     0.01,2,     0.01,    2.890,2,    0.017,    0.000,2,    0.002,2,    0.000,2,   2325.8,2,   2382.2,2,   7.4898,  25,2,  -999.00,9,  -999.00,   -999.0,9,   -999.0,   2.7926,  27.5786
  49NZ20090410,   P21,    55,  1,     19, X12019,2,20090425,1151,-16.7452, -88.6600, 4363,   1731.3,2,   2.5553,2,   2.55589,2,  34.6169,2,  34.6170,2,   105.34,2,   104.85,2,   116.66,2,     0.38,    39.54,2,     0.14,     0.01,2,     0.01,    2.826,2,    0.017,    0.000,2,    0.000,2,    0.000,2,   2330.8,2,   2393.0,2,   7.5054,  25,2,  -999.00,9,  -999.00,   -999.0,9,   -999.0,   2.4335,  27.6292
  49NZ20090410,   P21,    55,  1,     18, X12043,2,20090425,1151,-16.7452, -88.6600, 4363,   1931.2,2,   2.3060,2,   2.30592,2,  34.6333,2,  34.6332,2,   117.63,2,   117.39,2,   120.49,2,     0.38,    38.38,2,     0.14,     0.01,2,     0.01,    2.742,2,    0.017,    0.000,2,    0.000,2,    0.000,2,   2327.9,2,   2399.2,2,   7.5282,  25,2,  -999.00,9,  -999.00,   -999.0,9,   -999.0,   2.1708,  27.6641
  49NZ20090410,   P21,    55,  1,     17, X12042,2,20090425,1151,-16.7452, -88.6600, 4363,   2130.3,2,   2.1060,2,   2.10609,2,  34.6480,2,  34.6480,6,   128.37,2,   127.98,2,   122.62,2,     0.39,    37.60,2,     0.14,     0.01,2,     0.01,    2.661,2,    0.017, -999.000,9, -999.000,9, -999.000,9,   2324.5,2,   2402.8,2,   7.5474,  25,2,  -999.00,9,  -999.00,   -999.0,9,   -999.0,   1.9567,  27.6931
  49NZ20090410,   P21,    55,  1,     16, X12016,2,20090425,1151,-16.7452, -88.6600, 4363,   2329.5,2,   1.9662,2,   1.96609,2,  34.6596,2,  34.6596,2,   135.19,2,   135.04,2,   124.74,2,     0.39,    37.06,2,     0.14,     0.01,2,     0.01,    2.610,2,    0.017, -999.000,9, -999.000,9, -999.000,9,   2323.6,6,   2405.8,2,   7.5607,  25,2,  -999.00,9,  -999.00,   -999.0,9,   -999.0,   1.8018,  27.7144
  49NZ20090410,   P21,    55,  1,     15, X12015,2,20090425,1151,-16.7452, -88.6600, 4363,   2531.9,2,   1.8770,2,   1.87693,2,  34.6681,2,  34.6681,2,   139.10,2,   138.90,2,   127.01,2,     0.40,    36.66,2,     0.14,     0.01,2,     0.01,    2.582,2,    0.016,    0.000,2,    0.001,2,    0.000,2,   2324.9,2,   2410.8,6,   7.5696,  25,2,  -999.00,9,  -999.00,   -999.0,9,   -999.0,   1.6961,  27.7293
  49NZ20090410,   P21,    55,  1,     14, X12050,2,20090425,1151,-16.7452, -88.6600, 4363,   2731.3,2,   1.8265,2,   1.82646,2,  34.6737,2,  34.6736,2,   141.33,2,   140.92,2,   129.06,2,     0.40,    36.53,2,     0.14,     0.01,2,     0.01,    2.575,2,    0.016, -999.000,9, -999.000,9, -999.000,9,   2325.7,2,   2414.4,2,   7.5767,  25,6,  -999.00,9,  -999.00,   -999.0,9,   -999.0,   1.6281,  27.7389
  49NZ20090410,   P21,    55,  1,     13, X12013,7,20090425,1151,-16.7452, -88.6600, 4363,   2930.0,2,   1.7987,2,   1.79874,2,  34.6779,2,  34.6781,2,   143.31,2,   142.96,2,   130.02,2,     0.41,    36.55,2,     0.14,     0.02,2,     0.01,    2.559,2,    0.016, -999.000,9, -999.000,9, -999.000,9,   2327.2,2,   2417.6,2,   7.5830,  25,2,  -999.00,9,  -999.00,   -999.0,9,   -999.0,   1.5821,  27.7456
  49NZ20090410,   P21,    55,  1,     12, X12012,2,20090425,1151,-16.7452, -88.6600, 4363,   3170.4,2,   1.7887,2,   1.78865,2,  34.6808,2,  34.6806,2,   144.17,2,   143.83,2,   130.76,2,     0.41,    36.42,2,     0.13,     0.01,2,     0.01,    2.555,2,    0.016,    0.001,2,    0.002,2,    0.000,2,   2326.6,2,   2419.5,2,   7.5857,  25,2,  -999.00,9,  -999.00,   -999.0,9,   -999.0,   1.5488,  27.7504
  49NZ20090410,   P21,    55,  1,     11, X12041,2,20090425,1151,-16.7452, -88.6600, 4363,   3420.2,2,   1.7753,2,   1.77521,2,  34.6838,2,  34.6837,6,   145.87,2,   145.55,2,   130.37,2,     0.41,    36.31,2,     0.13,     0.01,2,     0.01,    2.540,2,    0.016, -999.000,9, -999.000,9, -999.000,9,   2325.0,2,   2419.1,2,   7.5876,  25,2,  -999.00,9,  -999.00,   -999.0,9,   -999.0,   1.5105,  27.7557
  49NZ20090410,   P21,    55,  1,     10, X12040,2,20090425,1151,-16.7452, -88.6600, 4363,   3669.7,2,   1.7679,2,   1.76792,2,  34.6863,2,  34.6862,2,   148.52,2,   148.35,2,   128.74,2,     0.40,    35.87,2,     0.13,     0.01,2,     0.01,    2.518,2,    0.016, -999.000,9, -999.000,9, -999.000,9,   2322.3,2,   2416.7,2,   7.5890,  25,2,  -999.00,9,  -999.00,   -999.0,9,   -999.0,   1.4772,  27.7601
  49NZ20090410,   P21,    55,  1,      9, X12009,2,20090425,1151,-16.7452, -88.6600, 4363,   3921.2,2,   1.7678,2,   1.76788,2,  34.6882,2,  34.6879,2,   150.96,2,   150.84,2,   127.27,2,     0.40,    35.85,2,     0.13,     0.01,2,     0.01,    2.511,2,    0.016,    0.000,2,    0.000,2,    0.000,2,   2321.0,2,   2415.1,2,   7.5912,  25,2,  -999.00,9,  -999.00,   -999.0,9,   -999.0,   1.4500,  27.7636
  49NZ20090410,   P21,    55,  1,      8, X12008,2,20090425,1151,-16.7452, -88.6600, 4363,   4170.0,2,   1.7842,2,   1.78409,2,  34.6887,2,  34.6888,2,   151.66,2,   151.56,2,   126.90,2,     0.40,    35.78,2,     0.13,     0.01,2,     0.01,    2.506,2,    0.016,    0.000,2,    0.000,2,    0.000,2,   2320.0,2,   2414.3,2,   7.5907,  25,2,  -999.00,9,  -999.00,   -999.0,9,   -999.0,   1.4383,  27.7649
  49NZ20090410,   P21,    55,  1,      7, X12007,9,20090425,1151,-16.7452, -88.6600, 4363,      9.5,2,  23.2693,2,  23.26896,2,  35.7722,2,-999.0000,9,   216.03,2,  -999.00,9,  -999.00,9,  -999.00,  -999.00,9,  -999.00,  -999.00,9,  -999.00, -999.000,9, -999.000, -999.000,9, -999.000,9, -999.000,9,   -999.0,9,   -999.0,9,-999.0000,-999,9,  -999.00,9,  -999.00,   -999.0,9,   -999.0,  23.2673,  24.4418
  49NZ20090410,   P21,    55,  1,      6, X12035,9,20090425,1151,-16.7452, -88.6600, 4363,    568.3,2,   6.9654,2,   6.96571,2,  34.5209,2,-999.0000,9,    42.42,2,  -999.00,9,  -999.00,9,  -999.00,  -999.00,9,  -999.00,  -999.00,9,  -999.00, -999.000,9, -999.000, -999.000,9, -999.000,9, -999.000,9,   -999.0,9,   -999.0,9,-999.0000,-999,9,  -999.00,9,  -999.00,   -999.0,9,   -999.0,   6.9113,  27.0536
  49NZ20090410,   P21,    55,  1,      5, X12038,9,20090425,1151,-16.7452, -88.6600, 4363,   2128.8,2,   2.1072,2,   2.10720,2,  34.6479,2,-999.0000,9,   128.34,2,  -999.00,9,  -999.00,9,  -999.00,  -999.00,9,  -999.00,  -999.00,9,  -999.00, -999.000,9, -999.000, -999.000,9, -999.000,9, -999.000,9,   -999.0,9,   -999.0,9,-999.0000,-999,9,  -999.00,9,  -999.00,   -999.0,9,   -999.0,   1.9581,  27.6929
  49NZ20090410,   P21,    55,  1,      4, X12034,9,20090425,1151,-16.7452, -88.6600, 4363,   2330.2,2,   1.9662,2,   1.96624,2,  34.6597,2,-999.0000,9,   135.18,2,  -999.00,9,  -999.00,9,  -999.00,  -999.00,9,  -999.00,  -999.00,9,  -999.00, -999.000,9, -999.000, -999.000,9, -999.000,9, -999.000,9,   -999.0,9,   -999.0,9,-999.0000,-999,9,  -999.00,9,  -999.00,   -999.0,9,   -999.0,   1.8018,  27.7145
  49NZ20090410,   P21,    55,  1,      3, X12033,9,20090425,1151,-16.7452, -88.6600, 4363,   2530.7,2,   1.8773,2,   1.87724,2,  34.6681,2,-999.0000,9,   139.06,2,  -999.00,9,  -999.00,9,  -999.00,  -999.00,9,  -999.00,  -999.00,9,  -999.00, -999.000,9, -999.000, -999.000,9, -999.000,9, -999.000,9,   -999.0,9,   -999.0,9,-999.0000,-999,9,  -999.00,9,  -999.00,   -999.0,9,   -999.0,   1.6965,  27.7292
  49NZ20090410,   P21,    55,  1,      2, X12032,9,20090425,1151,-16.7452, -88.6600, 4363,   2929.6,2,   1.7989,2,   1.79886,2,  34.6778,2,-999.0000,9,   143.34,2,  -999.00,9,  -999.00,9,  -999.00,  -999.00,9,  -999.00,  -999.00,9,  -999.00, -999.000,9, -999.000, -999.000,9, -999.000,9, -999.000,9,   -999.0,9,   -999.0,9,-999.0000,-999,9,  -999.00,9,  -999.00,   -999.0,9,   -999.0,   1.5823,  27.7456
  49NZ20090410,   P21,    55,  1,      1, X12046,2,20090425,1151,-16.7452, -88.6600, 4363,   4394.4,2,   1.8045,2,   1.80438,2,  34.6889,2,  34.6892,6,   152.09,2,   152.41,2,   126.61,2,     0.40,    35.72,2,     0.13,     0.01,2,     0.01,    2.508,2,    0.016,    0.002,2,    0.003,2,    0.000,2,   2320.0,2,   2414.5,2,   7.5921,  25,2,  -999.00,9,  -999.00,   -999.0,9,   -999.0,   1.4324,  27.7654