BOTTLE,20220818CCHSIOAMB
EXPOCODE,SECT_ID,STNNBR,CASTNO,SAMPNO,BTLNBR,BTLNBR_FLAG_W,DATE,TIME,LATITUDE,LONGITUDE,DEPTH,CTDPRS,CTDPRS_FLAG_W,CTDTMP,CTDTMP_FLAG_W,SBE35,SBE35_FLAG_W,CTDSAL,CTDSAL_FLAG_W,SALNTY,SALNTY_FLAG_W,CTDOXY,CTDOXY_FLAG_W,OXYGEN,OXYGEN_FLAG_W,SILCAT,SILCAT_FLAG_W,SILUNC,NITRAT,NITRAT_FLAG_W,NRAUNC,NITRIT,NITRIT_FLAG_W,NRIUNC,PHSPHT,PHSPHT_FLAG_W,PHPUNC,CFC-11,CFC-11_FLAG_W,CFC-12,CFC-12_FLAG_W,CFC113,CFC113_FLAG_W,TCARBN,TCARBN_FLAG_W,ALKALI,ALKALI_FLAG_W,PH_TOT,PH_TMP,PH_TOT_FLAG_W,DELC13,DELC13_FLAG_W,C13ERR,DELC14,DELC14_FLAG_W,C14ERR,THETA,SIG0
,,,,,,,,,,,METERS,DBAR,,ITS-90,,ITS-90,,PSS-78,,PSS-78,,UMOL/KG,,UMOL/KG,,UMOL/KG,,UMOL/KG,UMOL/KG,,UMOL/KG,UMOL/KG,,UMOL/KG,UMOL/KG,,UMOL/KG,PMOL/KG,,PMOL/KG,,PMOL/KG,,UMOL/KG,,UMOL/KG,,,DEG C,,/MILLE,,/MILLE,/MILLE,,/MILLE,DEG C,KG/M^3
  49NZ20090410,   P21,    87,  1,     36, X12006,2,20090503,0750,-16.7438,-107.3340, 2843,      9.6,2,  25.3641,2,  25.36390,2,  36.1595,2,  36.1587,2,   207.54,2,   207.90,2,     0.82,2,     0.12,     0.27,2,     0.03,     0.02,2,     0.01,    0.351,2,    0.014,    1.603,2,    1.029,2, -999.000,5,   -999.0,9,   -999.0,9,-999.0000,-999,9,  -999.00,9,  -999.00,   -999.0,9,   -999.0,  25.3620,  24.1067
  49NZ20090410,   P21,    87,  1,     35, X12047,2,20090503,0750,-16.7438,-107.3340, 2843,     49.5,2,  25.3390,2,  25.33844,2,  36.1705,2,  36.1762,2,   206.93,2,   207.76,2,     0.75,2,     0.12,     0.15,2,     0.03,     0.02,2,     0.01,    0.344,2,    0.014,    1.614,2,    1.041,2, -999.000,5,   -999.0,9,   -999.0,9,-999.0000,-999,9,  -999.00,9,  -999.00,   -999.0,9,   -999.0,  25.3281,  24.1255
  49NZ20090410,   P21,    87,  1,     34, X12004,2,20090503,0750,-16.7438,-107.3340, 2843,     99.0,2,  21.7609,2,  21.76952,2,  35.9265,2,  35.9388,2,   208.28,2,   209.67,2,     0.67,2,     0.12,     0.31,2,     0.03,     0.27,2,     0.01,    0.449,2,    0.013,    1.929,6,    1.212,6, -999.000,5,   -999.0,9,   -999.0,9,-999.0000,-999,9,  -999.00,9,  -999.00,   -999.0,9,   -999.0,  21.7414,  24.9945
  49NZ20090410,   P21,    87,  1,     33, X12003,2,20090503,0750,-16.7438,-107.3340, 2843,    149.5,2,  20.2978,2,  20.30008,2,  35.7580,2,  35.7535,2,   205.04,2,   205.54,2,     0.51,2,     0.12,     1.54,2,     0.04,     0.23,2,     0.01,    0.417,2,    0.013,    2.057,2,    1.275,2, -999.000,5,   -999.0,9,   -999.0,9,-999.0000,-999,9,  -999.00,9,  -999.00,   -999.0,9,   -999.0,  20.2698,  25.2683
  49NZ20090410,   P21,    87,  1,     32, X12002,2,20090503,0750,-16.7438,-107.3340, 2843,    199.5,2,  18.0968,2,  18.09692,2,  35.3315,2,  35.3336,2,   200.57,2,   201.62,2,     0.79,2,     0.12,     4.08,2,     0.04,     0.03,2,     0.01,    0.578,2,    0.013, -999.000,5, -999.000,5, -999.000,5,   -999.0,9,   -999.0,9,-999.0000,-999,9,  -999.00,9,  -999.00,   -999.0,9,   -999.0,  18.0623,  25.5106
  49NZ20090410,   P21,    87,  1,     31, X12001,2,20090503,0750,-16.7438,-107.3340, 2843,    248.9,2,  14.0047,2,  14.00724,2,  34.7179,2,  34.7204,6,   155.36,2,   156.18,2,     4.15,2,     0.13,    13.50,2,     0.07,     0.01,2,     0.01,    1.268,2,    0.014,    2.518,2,    1.460,2,    0.069,2,   -999.0,9,   -999.0,9,-999.0000,-999,9,  -999.00,9,  -999.00,   -999.0,9,   -999.0,  13.9687,  25.9756
  49NZ20090410,   P21,    87,  1,     30, X12030,2,20090503,0750,-16.7438,-107.3340, 2843,    300.3,2,  11.4559,2,  11.45573,2,  34.5604,2,  34.5578,2,    68.80,2,    69.58,2,    14.96,2,     0.15,    21.99,2,     0.09,     0.01,2,     0.01,    2.213,2,    0.016,    1.788,2,    0.956,2,    0.037,2,   -999.0,9,   -999.0,9,-999.0000,-999,9,  -999.00,9,  -999.00,   -999.0,9,   -999.0,  11.4179,  26.3569
  49NZ20090410,   P21,    87,  1,     29, X12044,2,20090503,0750,-16.7438,-107.3340, 2843,    399.5,2,   9.1316,2,   9.12954,2,  34.5728,2,  34.5725,2,    34.04,2,    33.45,2,    23.55,2,     0.17,    34.04,2,     0.13,     0.01,2,     0.01,    2.671,2,    0.017,    0.443,2,    0.224,2,    0.000,2,   -999.0,9,   -999.0,9,-999.0000,-999,9,  -999.00,9,  -999.00,   -999.0,9,   -999.0,   9.0875,  26.7695
  49NZ20090410,   P21,    87,  1,     28, X12048,2,20090503,0750,-16.7438,-107.3340, 2843,    501.4,2,   7.2223,2,   7.22192,2,  34.4772,2,  34.4765,6,    77.31,2,    77.38,2,    25.75,2,     0.18,    36.26,2,     0.13,     0.01,2,     0.01,    2.589,2,    0.016,    0.265,2,    0.133,2,    0.000,2,   -999.0,9,   -999.0,9,-999.0000,-999,9,  -999.00,9,  -999.00,   -999.0,9,   -999.0,   7.1739,  26.9827
  49NZ20090410,   P21,    87,  1,     27, X12027,2,20090503,0750,-16.7438,-107.3340, 2843,    598.4,2,   6.5845,2,   6.58340,2,  34.5013,2,  34.5003,2,    52.51,2,    52.45,2,    36.52,2,     0.20,    40.59,2,     0.15,     0.01,2,     0.01,    2.866,2,    0.017,    0.066,6,    0.033,6,    0.000,6,   -999.0,9,   -999.0,9,-999.0000,-999,9,  -999.00,9,  -999.00,   -999.0,9,   -999.0,   6.5292,  27.0898
  49NZ20090410,   P21,    87,  1,     26, X12026,2,20090503,0750,-16.7438,-107.3340, 2843,    700.0,2,   5.8599,2,   5.85892,2,  34.4905,2,  34.4905,2,    53.15,2,    52.91,2,    45.11,2,     0.22,    42.45,2,     0.15,     0.01,2,     0.01,    2.988,2,    0.017,    0.012,2,    0.008,2,    0.000,2,   -999.0,9,   -999.0,9,-999.0000,-999,9,  -999.00,9,  -999.00,   -999.0,9,   -999.0,   5.7985,  27.1754
  49NZ20090410,   P21,    87,  1,     25, X12025,2,20090503,0750,-16.7438,-107.3340, 2843,    799.8,2,   5.2577,2,   5.25837,2,  34.4920,2,  34.4913,2,    65.53,2,    65.39,2,    53.30,2,     0.24,    42.04,2,     0.15,     0.01,2,     0.01,    2.967,2,    0.017,    0.002,2,    0.001,2,    0.000,2,   -999.0,9,   -999.0,9,-999.0000,-999,9,  -999.00,9,  -999.00,   -999.0,9,   -999.0,   5.1907,  27.2503
  49NZ20090410,   P21,    87,  1,     24, X12024,2,20090503,0750,-16.7438,-107.3340, 2843,    900.3,2,   4.7859,2,   4.78568,2,  34.5067,2,  34.5062,2,    64.35,2,    64.65,2,    63.76,2,     0.26,    42.48,2,     0.15,     0.01,2,     0.01,    3.017,2,    0.017,    0.000,2,    0.000,2,    0.000,2,   -999.0,9,   -999.0,9,-999.0000,-999,9,  -999.00,9,  -999.00,   -999.0,9,   -999.0,   4.7130,  27.3168
  49NZ20090410,   P21,    87,  1,     23, X12028,2,20090503,0750,-16.7438,-107.3340, 2843,    999.3,2,   4.4137,2,   4.41295,2,  34.5226,2,  34.5229,6,    66.35,2,    66.64,2,    72.93,2,     0.28,    42.33,2,     0.15,     0.01,2,     0.01,    3.038,2,    0.018,    0.000,2,    0.000,2,    0.000,2,   -999.0,9,   -999.0,9,-999.0000,-999,9,  -999.00,9,  -999.00,   -999.0,9,   -999.0,   4.3349,  27.3710
  49NZ20090410,   P21,    87,  1,     22, X12022,2,20090503,0750,-16.7438,-107.3340, 2843,   1199.9,2,   3.7691,2,   3.76909,2,  34.5488,2,  34.5496,2,    77.04,2,    77.42,2,    87.75,2,     0.31,    41.48,2,     0.15,     0.01,2,     0.01,    3.009,2,    0.017,    0.000,2,    0.000,2,    0.000,2,   -999.0,9,   -999.0,9,-999.0000,-999,9,  -999.00,9,  -999.00,   -999.0,9,   -999.0,   3.6786,  27.4600
  49NZ20090410,   P21,    87,  1,     21, X12021,2,20090503,0750,-16.7438,-107.3340, 2843,   1399.4,2,   3.2190,2,   3.21902,2,  34.5767,2,  34.5767,2,    88.23,2,    88.75,2,   100.46,2,     0.34,    40.65,2,     0.15,     0.01,2,     0.01,    2.942,2,    0.017,    0.000,2,    0.000,2,    0.000,2,   -999.0,9,   -999.0,9,-999.0000,-999,9,  -999.00,9,  -999.00,   -999.0,9,   -999.0,   3.1171,  27.5364
  49NZ20090410,   P21,    87,  1,     20, X12020,2,20090503,0750,-16.7438,-107.3340, 2843,   1599.7,2,   2.8464,2,   2.84634,2,  34.5988,2,  34.5996,2,    97.96,2,    98.50,2,   109.47,2,     0.36,    39.79,2,     0.14,     0.01,2,     0.01,    2.867,2,    0.017,    0.000,2,    0.000,2,    0.000,2,   -999.0,9,   -999.0,9,-999.0000,-999,9,  -999.00,9,  -999.00,   -999.0,9,   -999.0,   2.7320,  27.5890
  49NZ20090410,   P21,    87,  1,     19, X12019,2,20090503,0750,-16.7438,-107.3340, 2843,   1799.7,2,   2.4897,2,   2.48957,2,  34.6206,2,  34.6215,6,   112.01,2,   112.84,2,   115.94,2,     0.37,    38.60,2,     0.14,     0.01,2,     0.01,    2.771,2,    0.017,    0.000,2,    0.000,2,    0.000,2,   -999.0,9,   -999.0,9,-999.0000,-999,9,  -999.00,9,  -999.00,   -999.0,9,   -999.0,   2.3630,  27.6381
  49NZ20090410,   P21,    87,  1,     18, X12043,2,20090503,0750,-16.7438,-107.3340, 2843,   1999.5,2,   2.2090,2,   2.20930,2,  34.6383,2,  34.6387,2,   128.07,2,   128.78,2,   118.04,2,     0.38,    37.35,2,     0.14,     0.01,2,     0.01,    2.655,2,    0.017, -999.000,9, -999.000,9, -999.000,9,   -999.0,9,   -999.0,9,-999.0000,-999,9,  -999.00,9,  -999.00,   -999.0,9,   -999.0,   2.0694,  27.6764
  49NZ20090410,   P21,    87,  1,     17, X12042,2,20090503,0750,-16.7438,-107.3340, 2843,   2200.0,2,   1.9885,2,   1.98862,2,  34.6547,2,  34.6553,2,   142.49,2,   143.28,2,   118.77,2,     0.38,    36.17,2,     0.13,     0.01,2,     0.01,    2.553,2,    0.016, -999.000,9, -999.000,9, -999.000,9,   -999.0,9,   -999.0,9,-999.0000,-999,9,  -999.00,9,  -999.00,   -999.0,9,   -999.0,   1.8351,  27.7079
  49NZ20090410,   P21,    87,  1,     16, X12016,2,20090503,0750,-16.7438,-107.3340, 2843,   2401.2,2,   1.9250,2,   1.92497,2,  34.6618,2,  34.6624,6,   145.17,2,   145.69,2,   121.23,2,     0.39,    35.99,2,     0.13,     0.01,2,     0.01,    2.540,2,    0.016,    0.000,2,    0.000,2,    0.000,2,   -999.0,9,   -999.0,9,-999.0000,-999,9,  -999.00,9,  -999.00,   -999.0,9,   -999.0,   1.7550,  27.7198
  49NZ20090410,   P21,    87,  1,     15, X12015,2,20090503,0750,-16.7438,-107.3340, 2843,   2600.6,2,   1.8947,2,   1.89458,2,  34.6661,2,  34.6665,2,   146.64,2,   147.27,2,   122.26,2,     0.39,    35.96,2,     0.13,     0.01,2,     0.01,    2.527,2,    0.016,    0.000,2,    0.000,2,    0.000,2,   -999.0,9,   -999.0,9,-999.0000,-999,9,  -999.00,9,  -999.00,   -999.0,9,   -999.0,   1.7071,  27.7268
  49NZ20090410,   P21,    87,  1,     14, X12050,2,20090503,0750,-16.7438,-107.3340, 2843,   2799.2,2,   1.8093,2,   1.80926,2,  34.6758,2,  34.6764,2,   145.35,2,   146.02,2,   128.88,2,     0.40,    36.14,2,     0.13,     0.01,2,     0.01,    2.537,2,    0.016,    0.000,2,    0.000,2,    0.000,2,   -999.0,9,   -999.0,9,-999.0000,-999,9,  -999.00,9,  -999.00,   -999.0,9,   -999.0,   1.6049,  27.7423
  49NZ20090410,   P21,    87,  1,     13, X12013,9,20090503,0750,-16.7438,-107.3340, 2843,      9.5,2,  25.3628,2,  25.36287,2,  36.1594,2,-999.0000,9,   207.51,2,  -999.00,9,  -999.00,9,  -999.00,  -999.00,9,  -999.00,  -999.00,9,  -999.00, -999.000,9, -999.000, -999.000,9, -999.000,9, -999.000,9,   -999.0,9,   -999.0,9,-999.0000,-999,9,  -999.00,9,  -999.00,   -999.0,9,   -999.0,  25.3607,  24.1071
  49NZ20090410,   P21,    87,  1,     12, X12012,9,20090503,0750,-16.7438,-107.3340, 2843,     49.2,2,  25.3401,2,  25.33755,2,  36.1710,2,-999.0000,9,   207.16,2,  -999.00,9,  -999.00,9,  -999.00,  -999.00,9,  -999.00,  -999.00,9,  -999.00, -999.000,9, -999.000, -999.000,9, -999.000,9, -999.000,9,   -999.0,9,   -999.0,9,-999.0000,-999,9,  -999.00,9,  -999.00,   -999.0,9,   -999.0,  25.3293,  24.1255
  49NZ20090410,   P21,    87,  1,     11, X12041,9,20090503,0750,-16.7438,-107.3340, 2843,     99.6,2,  21.8401,2,  21.84976,2,  35.9430,2,-999.0000,9,   209.05,2,  -999.00,9,  -999.00,9,  -999.00,  -999.00,9,  -999.00,  -999.00,9,  -999.00, -999.000,9, -999.000, -999.000,9, -999.000,9, -999.000,9,   -999.0,9,   -999.0,9,-999.0000,-999,9,  -999.00,9,  -999.00,   -999.0,9,   -999.0,  21.8204,  24.9850
  49NZ20090410,   P21,    87,  1,     10, X12040,9,20090503,0750,-16.7438,-107.3340, 2843,    149.3,2,  20.3207,2,  20.32698,2,  35.7633,2,-999.0000,9,   204.95,2,  -999.00,9,  -999.00,9,  -999.00,  -999.00,9,  -999.00,  -999.00,9,  -999.00, -999.000,9, -999.000, -999.000,9, -999.000,9, -999.000,9,   -999.0,9,   -999.0,9,-999.0000,-999,9,  -999.00,9,  -999.00,   -999.0,9,   -999.0,  20.2927,  25.2662
  49NZ20090410,   P21,    87,  1,      9, X12009,9,20090503,0750,-16.7438,-107.3340, 2843,    200.2,2,  18.0833,2,  18.08410,2,  35.3286,2,-999.0000,9,   200.76,2,  -999.00,9,  -999.00,9,  -999.00,  -999.00,9,  -999.00,  -999.00,9,  -999.00, -999.000,9, -999.000, -999.000,9, -999.000,9, -999.000,9,   -999.0,9,   -999.0,9,-999.0000,-999,9,  -999.00,9,  -999.00,   -999.0,9,   -999.0,  18.0487,  25.5117
  49NZ20090410,   P21,    87,  1,      8, X12008,9,20090503,0750,-16.7438,-107.3340, 2843,    249.4,2,  14.0233,2,  14.02107,2,  34.7199,2,-999.0000,9,   156.26,2,  -999.00,9,  -999.00,9,  -999.00,  -999.00,9,  -999.00,  -999.00,9,  -999.00, -999.000,9, -999.000, -999.000,9, -999.000,9, -999.000,9,   -999.0,9,   -999.0,9,-999.0000,-999,9,  -999.00,9,  -999.00,   -999.0,9,   -999.0,  13.9872,  25.9733
  49NZ20090410,   P21,    87,  1,      7, X12007,9,20090503,0750,-16.7438,-107.3340, 2843,    300.8,2,  11.4516,2,  11.45247,2,  34.5617,2,-999.0000,9,    68.23,2,  -999.00,9,  -999.00,9,  -999.00,  -999.00,9,  -999.00,  -999.00,9,  -999.00, -999.000,9, -999.000, -999.000,9, -999.000,9, -999.000,9,   -999.0,9,   -999.0,9,-999.0000,-999,9,  -999.00,9,  -999.00,   -999.0,9,   -999.0,  11.4135,  26.3586
  49NZ20090410,   P21,    87,  1,      6, X12035,9,20090503,0750,-16.7438,-107.3340, 2843,    900.3,2,   4.7851,2,   4.78582,2,  34.5068,2,-999.0000,9,    64.33,2,  -999.00,9,  -999.00,9,  -999.00,  -999.00,9,  -999.00,  -999.00,9,  -999.00, -999.000,9, -999.000, -999.000,9, -999.000,9, -999.000,9,   -999.0,9,   -999.0,9,-999.0000,-999,9,  -999.00,9,  -999.00,   -999.0,9,   -999.0,   4.7122,  27.3170
  49NZ20090410,   P21,    87,  1,      5, X12038,9,20090503,0750,-16.7438,-107.3340, 2843,   2401.3,2,   1.9253,2,   1.92545,2,  34.6618,2,-999.0000,9,   145.15,2,  -999.00,9,  -999.00,9,  -999.00,  -999.00,9,  -999.00,  -999.00,9,  -999.00, -999.000,9, -999.000, -999.000,9, -999.000,9, -999.000,9,   -999.0,9,   -999.0,9,-999.0000,-999,9,  -999.00,9,  -999.00,   -999.0,9,   -999.0,   1.7553,  27.7197
  49NZ20090410,   P21,    87,  1,      4, X12034,9,20090503,0750,-16.7438,-107.3340, 2843,   2600.3,2,   1.8942,2,   1.89424,2,  34.6662,2,-999.0000,9,   146.68,2,  -999.00,9,  -999.00,9,  -999.00,  -999.00,9,  -999.00,  -999.00,9,  -999.00, -999.000,9, -999.000, -999.000,9, -999.000,9, -999.000,9,   -999.0,9,   -999.0,9,-999.0000,-999,9,  -999.00,9,  -999.00,   -999.0,9,   -999.0,   1.7067,  27.7270
  49NZ20090410,   P21,    87,  1,      3, X12033,9,20090503,0750,-16.7438,-107.3340, 2843,   2799.3,2,   1.8094,2,   1.80928,2,  34.6757,2,-999.0000,9,   145.33,2,  -999.00,9,  -999.00,9,  -999.00,  -999.00,9,  -999.00,  -999.00,9,  -999.00, -999.000,9, -999.000, -999.000,9, -999.000,9, -999.000,9,   -999.0,9,   -999.0,9,-999.0000,-999,9,  -999.00,9,  -999.00,   -999.0,9,   -999.0,   1.6050,  27.7422
  49NZ20090410,   P21,    87,  1,      2, X12032,9,20090503,0750,-16.7438,-107.3340, 2843,    399.5,2,   9.1188,2,   9.12036,2,  34.5732,2,-999.0000,9,    34.17,2,  -999.00,9,  -999.00,9,  -999.00,  -999.00,9,  -999.00,  -999.00,9,  -999.00, -999.000,9, -999.000, -999.000,9, -999.000,9, -999.000,9,   -999.0,9,   -999.0,9,-999.0000,-999,9,  -999.00,9,  -999.00,   -999.0,9,   -999.0,   9.0748,  26.7719
  49NZ20090410,   P21,    87,  1,      1, X12046,2,20090503,0750,-16.7438,-107.3340, 2843,   2920.1,2,   1.8029,2,   1.80282,2,  34.6769,2,  34.6775,6,   143.81,2,   144.51,2,   131.20,2,     0.41,    36.17,2,     0.13,     0.01,2,     0.01,    2.546,2,    0.016,    0.000,2,    0.000,2,    0.000,2,   -999.0,9,   -999.0,9,-999.0000,-999,9,  -999.00,9,  -999.00,   -999.0,9,   -999.0,   1.5871,  27.7445