BOTTLE,20220818CCHSIOAMB
EXPOCODE,SECT_ID,STNNBR,CASTNO,SAMPNO,BTLNBR,BTLNBR_FLAG_W,DATE,TIME,LATITUDE,LONGITUDE,DEPTH,CTDPRS,CTDPRS_FLAG_W,CTDTMP,CTDTMP_FLAG_W,SBE35,SBE35_FLAG_W,CTDSAL,CTDSAL_FLAG_W,SALNTY,SALNTY_FLAG_W,CTDOXY,CTDOXY_FLAG_W,OXYGEN,OXYGEN_FLAG_W,SILCAT,SILCAT_FLAG_W,SILUNC,NITRAT,NITRAT_FLAG_W,NRAUNC,NITRIT,NITRIT_FLAG_W,NRIUNC,PHSPHT,PHSPHT_FLAG_W,PHPUNC,CFC-11,CFC-11_FLAG_W,CFC-12,CFC-12_FLAG_W,CFC113,CFC113_FLAG_W,TCARBN,TCARBN_FLAG_W,ALKALI,ALKALI_FLAG_W,PH_TOT,PH_TMP,PH_TOT_FLAG_W,DELC13,DELC13_FLAG_W,C13ERR,DELC14,DELC14_FLAG_W,C14ERR,THETA,SIG0
,,,,,,,,,,,METERS,DBAR,,ITS-90,,ITS-90,,PSS-78,,PSS-78,,UMOL/KG,,UMOL/KG,,UMOL/KG,,UMOL/KG,UMOL/KG,,UMOL/KG,UMOL/KG,,UMOL/KG,UMOL/KG,,UMOL/KG,PMOL/KG,,PMOL/KG,,PMOL/KG,,UMOL/KG,,UMOL/KG,,,DEG C,,/MILLE,,/MILLE,/MILLE,,/MILLE,DEG C,KG/M^3
  49NZ20090410,   P21,   123,  1,     36, X12006,2,20090510,0911,-16.7518,-128.6722, 3945,      9.7,2,  27.0207,2,  27.02064,2,  36.4553,2,  36.4551,2,   201.01,2,   200.67,2,     0.79,2,     0.12,     0.66,2,     0.03,     0.02,2,     0.01,    0.308,2,    0.014,    1.476,2,    0.971,2, -999.000,5,   2045.1,2,   2406.9,2,   8.1132,  25,6,  -999.00,1,  -999.00,   -999.0,1,   -999.0,  27.0185,  23.8085
  49NZ20090410,   P21,   123,  1,     35, X12047,2,20090510,0911,-16.7518,-128.6722, 3945,     49.2,2,  26.9424,2,  26.94353,2,  36.4497,2,  36.4501,2,   200.60,2,   200.96,2,     0.78,2,     0.12,     0.67,2,     0.03,     0.02,2,     0.01,    0.319,2,    0.014,    1.502,2,    0.999,2, -999.000,5,   2047.2,6,   2405.6,2,   8.1083,  25,2,  -999.00,1,  -999.00,   -999.0,1,   -999.0,  26.9311,  23.8323
  49NZ20090410,   P21,   123,  1,     34, X12004,2,20090510,0911,-16.7518,-128.6722, 3945,    100.4,2,  24.1672,2,  24.17045,2,  36.4159,2,  36.4231,2,   210.26,2,   210.00,2,     0.61,2,     0.12,     0.08,2,     0.03,     0.01,2,     0.01,    0.243,2,    0.015,    1.726,6,    1.122,6, -999.000,5,   2070.6,2,   2398.3,6,   8.0667,  25,2,  -999.00,1,  -999.00,   -999.0,1,   -999.0,  24.1458,  24.6702
  49NZ20090410,   P21,   123,  1,     33, X12003,2,20090510,0911,-16.7518,-128.6722, 3945,    150.2,2,  22.8922,2,  22.89394,2,  36.3170,2,  36.3156,2,   199.16,2,   199.06,2,     0.58,2,     0.12,     0.18,2,     0.03,     0.74,2,     0.00,    0.320,2,    0.014,    1.800,2,    1.155,2,    0.277,4,   2082.5,2,   2391.8,2,   8.0360,  25,6,  -999.00,1,  -999.00,   -999.0,1,   -999.0,  22.8614,  24.9730
  49NZ20090410,   P21,   123,  1,     32, X12002,2,20090510,0911,-16.7518,-128.6722, 3945,    200.1,2,  21.4867,2,  21.48838,2,  36.0600,2,  36.0566,2,   190.14,2,   189.57,2,     0.63,2,     0.12,     2.38,2,     0.04,     0.06,2,     0.01,    0.447,2,    0.013,    1.935,2,    1.236,2,    0.182,2,   2096.7,2,   2375.8,2,   7.9918,  25,2,  -999.00,1,  -999.00,   -999.0,1,   -999.0,  21.4475,  25.1779
  49NZ20090410,   P21,   123,  1,     31, X12001,2,20090510,0911,-16.7518,-128.6722, 3945,    248.4,2,  19.2662,2,  19.27521,2,  35.6132,2,  35.6103,6,   188.88,2,   188.89,2,     0.78,2,     0.12,     3.42,2,     0.04,     0.01,2,     0.01,    0.480,2,    0.013,    2.152,2,    1.335,2,    0.064,2,   2091.0,2,   2344.9,2,   7.9570,  25,2,  -999.00,1,  -999.00,   -999.0,1,   -999.0,  19.2212,  25.4331
  49NZ20090410,   P21,   123,  1,     30, X12030,2,20090510,0911,-16.7518,-128.6722, 3945,    279.6,2,  17.9585,2,  17.95735,2,  35.3695,2,  35.3695,2,   190.19,2,   190.66,2,     0.82,2,     0.12,     3.75,2,     0.04,     0.01,2,     0.01,    0.468,2,    0.013,    2.291,2,    1.387,2,    0.032,2,   2083.9,2,   2327.4,2,   7.9401,  25,2,  -999.00,1,  -999.00,   -999.0,1,   -999.0,  17.9104,  25.5773
  49NZ20090410,   P21,   123,  1,     29, X12044,2,20090510,0911,-16.7518,-128.6722, 3945,    369.3,2,  11.9214,2,  11.92408,2,  34.5885,2,  34.5925,2,   163.67,2,   163.84,2,     5.14,2,     0.13,    15.00,2,     0.07,     0.01,2,     0.01,    1.285,2,    0.014,    2.467,2,    1.340,2,    0.051,2,   2134.2,2,   2282.4,2,   7.7557,  25,2,  -999.00,1,  -999.00,   -999.0,1,   -999.0,  11.8733,  26.2935
  49NZ20090410,   P21,   123,  1,     28, X12048,2,20090510,0911,-16.7518,-128.6722, 3945,    470.2,2,   7.2813,2,   7.28228,2,  34.4104,2,  34.4108,6,   126.24,2,   125.92,2,    17.72,2,     0.16,    31.35,2,     0.12,     0.00,2,     0.01,    2.279,2,    0.016,    0.850,2,    0.441,2,    0.012,2,   2210.7,2,   2283.6,2,   7.5546,  25,2,  -999.00,1,  -999.00,   -999.0,1,   -999.0,   7.2358,  26.9214
  49NZ20090410,   P21,   123,  1,     27, X12027,2,20090510,0911,-16.7518,-128.6722, 3945,    570.0,2,   5.9617,2,   5.96168,2,  34.3590,2,  34.3585,2,   163.01,2,   162.73,2,    20.54,2,     0.16,    31.64,2,     0.12,     0.01,2,     0.01,    2.221,2,    0.016,    0.590,6,    0.310,6,    0.012,6,   2196.8,2,   2286.1,2,   7.5990,  25,2,  -999.00,1,  -999.00,   -999.0,1,   -999.0,   5.9119,  27.0572
  49NZ20090410,   P21,   123,  1,     26, X12026,2,20090510,0911,-16.7518,-128.6722, 3945,    669.0,2,   5.4845,2,   5.48412,2,  34.4268,2,  34.4266,2,   128.77,2,   128.39,2,    36.71,2,     0.20,    35.38,2,     0.13,     0.00,2,     0.01,    2.477,2,    0.016,    0.106,2,    0.060,2,    0.000,2,   2231.8,6,   2304.5,2,   7.5504,  25,2,  -999.00,1,  -999.00,   -999.0,1,   -999.0,   5.4280,  27.1704
  49NZ20090410,   P21,   123,  1,     25, X12025,2,20090510,0911,-16.7518,-128.6722, 3945,    771.5,2,   5.1150,2,   5.11466,2,  34.4773,2,  34.4773,2,   113.65,2,   113.31,2,    50.28,2,     0.23,    36.99,2,     0.14,     0.00,2,     0.01,    2.616,2,    0.017,    0.031,2,    0.018,2,    0.000,2,   2252.7,2,   2319.6,6,   7.5298,  25,2,  -999.00,1,  -999.00,   -999.0,1,   -999.0,   5.0514,  27.2549
  49NZ20090410,   P21,   123,  1,     24, X12024,2,20090510,0911,-16.7518,-128.6722, 3945,    869.8,2,   4.7269,2,   4.72693,2,  34.4962,2,  34.4961,2,   107.58,2,   107.51,2,    59.07,2,     0.25,    38.01,2,     0.14,     0.00,2,     0.01,    2.688,2,    0.017,    0.012,2,    0.006,2,    0.000,2,   2266.7,2,   2327.4,2,   7.5167,  25,6,  -999.00,1,  -999.00,   -999.0,1,   -999.0,   4.6571,  27.3147
  49NZ20090410,   P21,   123,  1,     23, X12028,2,20090510,0911,-16.7518,-128.6722, 3945,    969.0,2,   4.3445,2,   4.34317,2,  34.5154,2,  34.5152,6,    95.63,2,    95.24,2,    68.98,2,     0.27,    39.42,2,     0.14,     0.00,2,     0.01,    2.800,2,    0.017,    0.002,2,    0.001,2,    0.000,2,   2284.5,2,   2336.0,2,   7.4933,  25,2,  -999.00,1,  -999.00,   -999.0,1,   -999.0,   4.2688,  27.3724
  49NZ20090410,   P21,   123,  1,     22, X12022,2,20090510,0911,-16.7518,-128.6722, 3945,   1128.8,2,   3.7903,2,   3.79038,2,  34.5391,2,  34.5387,2,   100.66,2,   100.54,2,    81.65,2,     0.30,    39.54,2,     0.14,     0.00,2,     0.01,    2.825,2,    0.017,    0.002,2,    0.001,2,    0.000,2,   2296.6,2,   2352.3,2,   7.4989,  25,2,  -999.00,1,  -999.00,   -999.0,1,   -999.0,   3.7056,  27.4495
  49NZ20090410,   P21,   123,  1,     21, X12021,2,20090510,0911,-16.7518,-128.6722, 3945,   1330.6,2,   3.2775,2,   3.27762,2,  34.5657,2,  34.5652,2,   107.67,2,   107.53,2,    93.37,2,     0.32,    39.13,2,     0.14,     0.00,2,     0.01,    2.801,2,    0.017,    0.001,2,    0.001,2,    0.000,2,   2306.6,2,   2365.3,2,   7.5093,  25,2,  -999.00,1,  -999.00,   -999.0,1,   -999.0,   3.1808,  27.5217
  49NZ20090410,   P21,   123,  1,     20, X12020,2,20090510,0911,-16.7518,-128.6722, 3945,   1529.9,2,   2.8303,2,   2.83017,2,  34.5887,2,  34.5887,2,   120.68,2,   120.68,2,   101.40,2,     0.34,    37.96,2,     0.14,     0.00,2,     0.01,    2.706,2,    0.017,    0.000,2,    0.000,2,    0.000,2,   2308.7,2,   2376.1,2,   7.5321,  25,6,  -999.00,1,  -999.00,   -999.0,1,   -999.0,   2.7219,  27.5818
  49NZ20090410,   P21,   123,  1,     19, X12019,2,20090510,0911,-16.7518,-128.6722, 3945,   1729.1,2,   2.4724,2,   2.47237,2,  34.6105,2,  34.6109,2,   133.35,2,   133.33,2,   107.49,2,     0.36,    37.06,2,     0.14,     0.00,2,     0.01,    2.630,2,    0.017,    0.000,2,    0.000,2,    0.000,2,   2308.0,2,   2383.1,2,   7.5518,  25,2,  -999.00,1,  -999.00,   -999.0,1,   -999.0,   2.3519,  27.6310
  49NZ20090410,   P21,   123,  1,     18, X12043,2,20090510,0911,-16.7518,-128.6722, 3945,   1931.5,2,   2.1611,2,   2.16127,2,  34.6363,2,  34.6363,6,   141.45,2,   141.42,2,   113.75,2,     0.37,    36.47,2,     0.13,     0.00,2,     0.01,    2.571,2,    0.016,    0.000,2,    0.001,2,    0.000,2,   2310.2,2,   2391.8,2,   7.5672,  25,2,  -999.00,1,  -999.00,   -999.0,1,   -999.0,   2.0280,  27.6780
  49NZ20090410,   P21,   123,  1,     17, X12042,2,20090510,0911,-16.7518,-128.6722, 3945,   2129.5,2,   1.9991,2,   1.99926,2,  34.6506,2,  34.6505,2,   147.36,2,   147.18,2,   117.21,2,     0.38,    36.00,2,     0.13,     0.00,2,     0.01,    2.536,2,    0.016,    0.000,2,    0.001,2,    0.000,2,   2310.3,2,   2396.0,2,   7.5773,  25,2,  -999.00,1,  -999.00,   -999.0,1,   -999.0,   1.8516,  27.7034
  49NZ20090410,   P21,   123,  1,     16, X12016,2,20090510,0911,-16.7518,-128.6722, 3945,   2331.0,2,   1.9054,2,   1.90558,2,  34.6605,2,  34.6603,2,   149.71,2,   149.61,2,   120.65,2,     0.38,    35.93,2,     0.13,     0.00,2,     0.01,    2.511,2,    0.016,    0.000,2,    0.000,2,    0.000,2,   2312.6,6,   2399.5,2,   7.5844,  25,2,  -999.00,1,  -999.00,   -999.0,1,   -999.0,   1.7419,  27.7197
  49NZ20090410,   P21,   123,  1,     15, X12015,2,20090510,0911,-16.7518,-128.6722, 3945,   2529.3,2,   1.8314,2,   1.83143,2,  34.6684,2,  34.6680,2,   150.94,2,   150.80,2,   123.99,2,     0.39,    35.76,2,     0.13,     0.00,2,     0.01,    2.512,2,    0.016,    0.000,2,    0.000,2,    0.000,2,   2316.0,2,   2405.2,6,   7.5891,  25,2,  -999.00,1,  -999.00,   -999.0,1,   -999.0,   1.6515,  27.7328
  49NZ20090410,   P21,   123,  1,     14, X12050,2,20090510,0911,-16.7518,-128.6722, 3945,   2730.8,2,   1.7777,2,   1.77780,2,  34.6723,2,  34.6718,2,   153.56,2,   153.38,2,   124.94,2,     0.39,    35.56,2,     0.13,     0.00,2,     0.01,    2.493,2,    0.016,    0.000,2,    0.000,2,    0.000,2,   2315.2,2,   2406.4,2,   7.5929,  25,2,  -999.00,1,  -999.00,   -999.0,1,   -999.0,   1.5804,  27.7413
  49NZ20090410,   P21,   123,  1,     13, X12013,7,20090510,0911,-16.7518,-128.6722, 3945,   2929.5,2,   1.7208,2,   1.72076,2,  34.6755,2,  34.6760,6,   157.33,2,   157.20,2,   125.20,2,     0.39,    35.37,2,     0.13,     0.00,2,     0.01,    2.484,2,    0.016,    0.003,2,    0.000,2,    0.000,2,   2315.1,2,   2405.4,2,   7.5989,  25,2,  -999.00,1,  -999.00,   -999.0,1,   -999.0,   1.5059,  27.7493
  49NZ20090410,   P21,   123,  1,     12, X12012,2,20090510,0911,-16.7518,-128.6722, 3945,   3168.9,2,   1.6511,2,   1.65113,2,  34.6798,2,  34.6799,2,   161.03,2,   160.91,2,   126.36,2,     0.40,    35.23,2,     0.13,     0.00,2,     0.01,    2.470,2,    0.016,    0.000,2,    0.000,2,    0.000,2,   2312.1,2,   2407.0,2,   7.6027,  25,2,  -999.00,1,  -999.00,   -999.0,1,   -999.0,   1.4145,  27.7594
  49NZ20090410,   P21,   123,  1,     11, X12041,2,20090510,0911,-16.7518,-128.6722, 3945,   3419.0,2,   1.5900,2,   1.59005,2,  34.6846,2,  34.6850,2,   163.09,2,   163.04,2,   128.16,2,     0.40,    35.12,2,     0.13,     0.00,2,     0.01,    2.463,2,    0.016,    0.000,2,    0.000,2,    0.000,2,   2312.6,2,   2408.6,2,   7.6066,  25,2,  -999.00,1,  -999.00,   -999.0,1,   -999.0,   1.3299,  27.7693
  49NZ20090410,   P21,   123,  1,     10, X12040,2,20090510,0911,-16.7518,-128.6722, 3945,   3671.2,2,   1.5569,2,   1.55697,2,  34.6875,2,  34.6884,2,   165.64,2,   165.67,2,   128.31,2,     0.40,    35.02,2,     0.13,     0.00,2,     0.01,    2.452,2,    0.016,    0.001,2,    0.000,2,    0.000,2,   2311.9,2,   2408.1,2,   7.6090,  25,2,  -999.00,1,  -999.00,   -999.0,1,   -999.0,   1.2716,  27.7757
  49NZ20090410,   P21,   123,  1,      9, X12009,2,20090510,0911,-16.7518,-128.6722, 3945,   3919.8,2,   1.5601,2,   1.56018,2,  34.6887,2,  34.6891,2,   167.13,2,   167.02,2,   128.01,2,     0.40,    34.91,2,     0.13,     0.00,2,     0.01,    2.445,2,    0.016,    0.000,2,    0.000,2,    0.000,2,   2311.0,2,   2408.1,2,   7.6111,  25,2,  -999.00,1,  -999.00,   -999.0,1,   -999.0,   1.2482,  27.7783
  49NZ20090410,   P21,   123,  1,      8, X12008,9,20090510,0911,-16.7518,-128.6722, 3945,   1931.0,2,   2.1615,2,   2.16156,2,  34.6362,2,-999.0000,9,   141.48,2,  -999.00,9,  -999.00,9,  -999.00,  -999.00,9,  -999.00,  -999.00,9,  -999.00, -999.000,9, -999.000, -999.000,9, -999.000,9, -999.000,9,   -999.0,9,   -999.0,9,-999.0000,-999,9,  -999.00,9,  -999.00,   -999.0,9,   -999.0,   2.0284,  27.6780
  49NZ20090410,   P21,   123,  1,      7, X12007,9,20090510,0911,-16.7518,-128.6722, 3945,   2129.9,2,   2.0001,2,   1.99998,2,  34.6505,2,-999.0000,9,   147.32,2,  -999.00,9,  -999.00,9,  -999.00,  -999.00,9,  -999.00,  -999.00,9,  -999.00, -999.000,9, -999.000, -999.000,9, -999.000,9, -999.000,9,   -999.0,9,   -999.0,9,-999.0000,-999,9,  -999.00,9,  -999.00,   -999.0,9,   -999.0,   1.8526,  27.7032
  49NZ20090410,   P21,   123,  1,      6, X12035,9,20090510,0911,-16.7518,-128.6722, 3945,   2331.1,2,   1.9058,2,   1.90587,2,  34.6605,2,-999.0000,9,   149.70,2,  -999.00,9,  -999.00,9,  -999.00,  -999.00,9,  -999.00,  -999.00,9,  -999.00, -999.000,9, -999.000, -999.000,9, -999.000,9, -999.000,9,   -999.0,9,   -999.0,9,-999.0000,-999,9,  -999.00,9,  -999.00,   -999.0,9,   -999.0,   1.7423,  27.7197
  49NZ20090410,   P21,   123,  1,      5, X12038,9,20090510,0911,-16.7518,-128.6722, 3945,   2528.9,2,   1.8313,2,   1.83137,2,  34.6684,2,-999.0000,9,   150.96,2,  -999.00,9,  -999.00,9,  -999.00,  -999.00,9,  -999.00,  -999.00,9,  -999.00, -999.000,9, -999.000, -999.000,9, -999.000,9, -999.000,9,   -999.0,9,   -999.0,9,-999.0000,-999,9,  -999.00,9,  -999.00,   -999.0,9,   -999.0,   1.6515,  27.7329
  49NZ20090410,   P21,   123,  1,      4, X12034,9,20090510,0911,-16.7518,-128.6722, 3945,   2730.9,2,   1.7774,2,   1.77742,2,  34.6723,2,-999.0000,9,   153.60,2,  -999.00,9,  -999.00,9,  -999.00,  -999.00,9,  -999.00,  -999.00,9,  -999.00, -999.000,9, -999.000, -999.000,9, -999.000,9, -999.000,9,   -999.0,9,   -999.0,9,-999.0000,-999,9,  -999.00,9,  -999.00,   -999.0,9,   -999.0,   1.5801,  27.7413
  49NZ20090410,   P21,   123,  1,      3, X12033,9,20090510,0911,-16.7518,-128.6722, 3945,   2929.5,2,   1.7208,2,   1.72077,2,  34.6755,2,-999.0000,9,   157.35,2,  -999.00,9,  -999.00,9,  -999.00,  -999.00,9,  -999.00,  -999.00,9,  -999.00, -999.000,9, -999.000, -999.000,9, -999.000,9, -999.000,9,   -999.0,9,   -999.0,9,-999.0000,-999,9,  -999.00,9,  -999.00,   -999.0,9,   -999.0,   1.5059,  27.7494
  49NZ20090410,   P21,   123,  1,      2, X12032,9,20090510,0911,-16.7518,-128.6722, 3945,    869.6,2,   4.7271,2,   4.72690,2,  34.4962,2,-999.0000,9,   107.65,2,  -999.00,9,  -999.00,9,  -999.00,  -999.00,9,  -999.00,  -999.00,9,  -999.00, -999.000,9, -999.000, -999.000,9, -999.000,9, -999.000,9,   -999.0,9,   -999.0,9,-999.0000,-999,9,  -999.00,9,  -999.00,   -999.0,9,   -999.0,   4.6573,  27.3147
  49NZ20090410,   P21,   123,  1,      1, X12046,2,20090510,0911,-16.7518,-128.6722, 3945,   3996.5,2,   1.5657,2,   1.56574,2,  34.6889,2,  34.6888,6,   167.38,2,   167.12,2,   128.04,2,     0.40,    34.82,2,     0.13,     0.00,2,     0.01,    2.448,2,    0.016,    0.000,2,    0.000,2,    0.000,2,   2309.7,2,   2407.7,2,   7.6111,  25,2,  -999.00,1,  -999.00,   -999.0,1,   -999.0,   1.2453,  27.7787