BOTTLE,20220818CCHSIOAMB
EXPOCODE,SECT_ID,STNNBR,CASTNO,SAMPNO,BTLNBR,BTLNBR_FLAG_W,DATE,TIME,LATITUDE,LONGITUDE,DEPTH,CTDPRS,CTDPRS_FLAG_W,CTDTMP,CTDTMP_FLAG_W,SBE35,SBE35_FLAG_W,CTDSAL,CTDSAL_FLAG_W,SALNTY,SALNTY_FLAG_W,CTDOXY,CTDOXY_FLAG_W,OXYGEN,OXYGEN_FLAG_W,SILCAT,SILCAT_FLAG_W,SILUNC,NITRAT,NITRAT_FLAG_W,NRAUNC,NITRIT,NITRIT_FLAG_W,NRIUNC,PHSPHT,PHSPHT_FLAG_W,PHPUNC,CFC-11,CFC-11_FLAG_W,CFC-12,CFC-12_FLAG_W,CFC113,CFC113_FLAG_W,TCARBN,TCARBN_FLAG_W,ALKALI,ALKALI_FLAG_W,PH_TOT,PH_TMP,PH_TOT_FLAG_W,DELC13,DELC13_FLAG_W,C13ERR,DELC14,DELC14_FLAG_W,C14ERR,THETA,SIG0
,,,,,,,,,,,METERS,DBAR,,ITS-90,,ITS-90,,PSS-78,,PSS-78,,UMOL/KG,,UMOL/KG,,UMOL/KG,,UMOL/KG,UMOL/KG,,UMOL/KG,UMOL/KG,,UMOL/KG,UMOL/KG,,UMOL/KG,PMOL/KG,,PMOL/KG,,PMOL/KG,,UMOL/KG,,UMOL/KG,,,DEG C,,/MILLE,,/MILLE,/MILLE,,/MILLE,DEG C,KG/M^3
  49NZ20090410,   P21,    38,  1,     36, X12006,2,20090423,1228,-16.7482, -84.6663, 4617,     10.4,2,  22.9463,2,  22.94584,2,  35.6309,2,  35.6323,2,   215.10,2,   215.23,2,     0.59,2,     0.12,     0.04,2,     0.03,     0.01,2,     0.01,    0.421,2,    0.013,    1.816,2,    1.148,2, -999.000,5,   -999.0,9,   -999.0,9,-999.0000,-999,9,  -999.00,9,  -999.00,   -999.0,9,   -999.0,  22.9442,  24.4283
  49NZ20090410,   P21,    38,  1,     35, X12047,2,20090423,1228,-16.7482, -84.6663, 4617,     50.7,2,  20.0666,2,  20.06677,2,  35.3733,2,  35.3777,2,   237.15,2,   239.37,2,     0.33,2,     0.12,     0.04,2,     0.03,     0.01,2,     0.01,    0.374,2,    0.014,    2.189,2,    1.362,2, -999.000,5,   -999.0,9,   -999.0,9,-999.0000,-999,9,  -999.00,9,  -999.00,   -999.0,9,   -999.0,  20.0572,  25.0314
  49NZ20090410,   P21,    38,  1,     34, X12004,2,20090423,1228,-16.7482, -84.6663, 4617,     99.5,2,  18.0327,2,  18.03207,2,  35.1549,2,  35.1588,2,   218.62,2,   217.93,2,     0.53,2,     0.12,     1.74,2,     0.04,     0.41,2,     0.01,    0.594,2,    0.013,    2.324,6,    1.425,6, -999.000,5,   -999.0,9,   -999.0,9,-999.0000,-999,9,  -999.00,9,  -999.00,   -999.0,9,   -999.0,  18.0156,  25.3868
  49NZ20090410,   P21,    38,  1,     33, X12003,2,20090423,1228,-16.7482, -84.6663, 4617,    149.5,2,  14.0713,2,  14.06736,2,  34.6298,2,  34.6283,2,   172.11,2,   169.06,2,     3.44,2,     0.13,    13.32,2,     0.07,     0.02,2,     0.01,    1.282,2,    0.014,    2.622,2,    1.520,2,    0.107,2,   -999.0,9,   -999.0,9,-999.0000,-999,9,  -999.00,9,  -999.00,   -999.0,9,   -999.0,  14.0497,  25.8905
  49NZ20090410,   P21,    38,  1,     32, X12002,2,20090423,1228,-16.7482, -84.6663, 4617,    198.6,2,  11.7376,2,  11.73865,2,  34.5859,2,  34.5856,2,    49.65,2,    48.68,2,    16.28,2,     0.15,    22.49,2,     0.10,     0.01,2,     0.01,    2.386,2,    0.016,    1.708,2,    0.942,2,    0.048,2,   -999.0,9,   -999.0,9,-999.0000,-999,9,  -999.00,9,  -999.00,   -999.0,9,   -999.0,  11.7122,  26.3219
  49NZ20090410,   P21,    38,  1,     31, X12001,2,20090423,1228,-16.7482, -84.6663, 4617,    248.3,2,  10.8112,2,  10.81119,2,  34.6719,2,  34.6706,6,    10.66,2,    10.93,2,    23.22,2,     0.17,    27.97,2,     0.11,     0.01,2,     0.01,    2.723,2,    0.017,    0.774,2,    0.417,2,    0.015,2,   -999.0,9,   -999.0,9,-999.0000,-999,9,  -999.00,9,  -999.00,   -999.0,9,   -999.0,  10.7810,  26.5594
  49NZ20090410,   P21,    38,  1,     30, X12030,2,20090423,1228,-16.7482, -84.6663, 4617,    279.7,2,  10.1869,2,  10.18727,2,  34.6356,2,  34.6345,2,    13.94,2,    14.34,2,    23.60,2,     0.17,    30.65,2,     0.12,     0.01,2,     0.01,    2.740,2,    0.017,    0.686,2,    0.359,2,    0.010,2,   -999.0,9,   -999.0,9,-999.0000,-999,9,  -999.00,9,  -999.00,   -999.0,9,   -999.0,  10.1541,  26.6410
  49NZ20090410,   P21,    38,  1,     29, X12044,2,20090423,1228,-16.7482, -84.6663, 4617,    369.5,2,   8.9244,2,   8.92540,2,  34.6266,2,  34.6261,2,    13.79,2,    13.17,2,    28.88,2,     0.18,    37.33,2,     0.14,     0.01,2,     0.01,    2.807,2,    0.017,    0.167,2,    0.084,2,    0.006,2,   -999.0,9,   -999.0,9,-999.0000,-999,9,  -999.00,9,  -999.00,   -999.0,9,   -999.0,   8.8843,  26.8442
  49NZ20090410,   P21,    38,  1,     28, X12048,2,20090423,1228,-16.7482, -84.6663, 4617,    469.6,2,   7.7534,2,   7.75761,2,  34.5760,2,  34.5761,6,    19.79,2,    19.83,2,    34.86,2,     0.20,    40.71,2,     0.15,     0.01,2,     0.01,    2.945,2,    0.017,    0.076,2,    0.042,2,    0.000,2,   -999.0,9,   -999.0,9,-999.0000,-999,9,  -999.00,9,  -999.00,   -999.0,9,   -999.0,   7.7062,  26.9843
  49NZ20090410,   P21,    38,  1,     27, X12027,2,20090423,1228,-16.7482, -84.6663, 4617,    571.3,2,   6.7400,2,   6.73994,2,  34.5268,2,  34.5264,2,    36.70,2,    37.14,2,    39.22,2,     0.21,    41.69,2,     0.15,     0.01,2,     0.01,    2.970,2,    0.017,    0.039,6,    0.022,6,    0.000,6,   -999.0,9,   -999.0,9,-999.0000,-999,9,  -999.00,9,  -999.00,   -999.0,9,   -999.0,   6.6866,  27.0888
  49NZ20090410,   P21,    38,  1,     26, X12026,2,20090423,1228,-16.7482, -84.6663, 4617,    670.3,2,   5.9415,2,   5.94088,2,  34.5038,2,  34.5033,2,    39.49,2,    39.98,2,    47.07,2,     0.22,    43.29,2,     0.15,     0.01,2,     0.01,    3.082,2,    0.018,    0.015,2,    0.010,2,    0.000,2,   -999.0,9,   -999.0,9,-999.0000,-999,9,  -999.00,9,  -999.00,   -999.0,9,   -999.0,   5.8824,  27.1754
  49NZ20090410,   P21,    38,  1,     25, X12025,2,20090423,1228,-16.7482, -84.6663, 4617,    771.6,2,   5.3530,2,   5.35294,2,  34.5070,2,  34.5066,2,    40.37,2,    40.85,2,    56.94,2,     0.24,    44.26,2,     0.16,     0.01,2,     0.01,    3.145,2,    0.018,    0.005,2,    0.002,2,    0.000,2,   -999.0,9,   -999.0,9,-999.0000,-999,9,  -999.00,9,  -999.00,   -999.0,9,   -999.0,   5.2879,  27.2507
  49NZ20090410,   P21,    38,  1,     24, X12024,2,20090423,1228,-16.7482, -84.6663, 4617,    869.3,2,   4.9028,2,   4.90261,2,  34.5060,2,  34.5059,2,    53.06,2,    53.32,2,    63.03,2,     0.26,    43.46,2,     0.15,     0.01,2,     0.01,    3.102,2,    0.018,    0.005,2,    0.004,2,    0.000,2,   -999.0,9,   -999.0,9,-999.0000,-999,9,  -999.00,9,  -999.00,   -999.0,9,   -999.0,   4.8318,  27.3029
  49NZ20090410,   P21,    38,  1,     23, X12028,2,20090423,1228,-16.7482, -84.6663, 4617,    969.3,2,   4.4503,2,   4.44986,2,  34.5165,2,  34.5165,6,    64.47,2,    64.61,2,    71.38,2,     0.28,    42.73,2,     0.15,     0.01,2,     0.01,    3.064,2,    0.018,    0.002,2,    0.003,2,    0.000,2,   -999.0,9,   -999.0,9,-999.0000,-999,9,  -999.00,9,  -999.00,   -999.0,9,   -999.0,   4.3738,  27.3620
  49NZ20090410,   P21,    38,  1,     22, X12022,2,20090423,1228,-16.7482, -84.6663, 4617,   1129.8,2,   3.8123,2,   3.81270,2,  34.5407,2,  34.5416,2,    76.21,2,    76.39,2,    85.64,2,     0.31,    41.81,2,     0.15,     0.01,2,     0.01,    3.018,2,    0.017,    0.003,2,    0.005,2,    0.000,2,   -999.0,9,   -999.0,9,-999.0000,-999,9,  -999.00,9,  -999.00,   -999.0,9,   -999.0,   3.7273,  27.4487
  49NZ20090410,   P21,    38,  1,     21, X12021,2,20090423,1228,-16.7482, -84.6663, 4617,   1329.5,2,   3.2408,2,   3.24064,2,  34.5765,2,  34.5770,2,    82.71,2,    82.88,2,   102.16,2,     0.34,    41.12,2,     0.15,     0.01,2,     0.01,    2.993,2,    0.017,    0.000,2,    0.001,2,    0.000,2,   -999.0,9,   -999.0,9,-999.0000,-999,9,  -999.00,9,  -999.00,   -999.0,9,   -999.0,   3.1445,  27.5337
  49NZ20090410,   P21,    38,  1,     20, X12020,2,20090423,1228,-16.7482, -84.6663, 4617,   1530.2,2,   2.8219,2,   2.82202,2,  34.5988,2,  34.5996,2,    96.78,2,    96.52,2,   110.31,2,     0.36,    40.05,2,     0.14,     0.01,2,     0.01,    2.889,2,    0.017,    0.000,2,    0.001,2,    0.000,2,   -999.0,9,   -999.0,9,-999.0000,-999,9,  -999.00,9,  -999.00,   -999.0,9,   -999.0,   2.7136,  27.5906
  49NZ20090410,   P21,    38,  1,     19, X12019,2,20090423,1228,-16.7482, -84.6663, 4617,   1731.6,2,   2.5139,2,   2.51394,2,  34.6214,2,  34.6212,2,   103.21,2,   103.03,2,   119.59,2,     0.38,    39.44,2,     0.14,     0.01,2,     0.01,    2.838,2,    0.017,    0.000,2,    0.000,2,    0.000,2,   -999.0,9,   -999.0,9,-999.0000,-999,9,  -999.00,9,  -999.00,   -999.0,9,   -999.0,   2.3926,  27.6363
  49NZ20090410,   P21,    38,  1,     18, X12043,2,20090423,1228,-16.7482, -84.6663, 4617,   1931.1,2,   2.3099,2,   2.30955,2,  34.6362,2,  34.6358,2,   110.02,2,   109.59,2,   125.29,2,     0.39,    38.88,2,     0.14,     0.01,2,     0.01,    2.788,2,    0.017,    0.000,2,    0.003,2,    0.000,2,   -999.0,9,   -999.0,9,-999.0000,-999,9,  -999.00,9,  -999.00,   -999.0,9,   -999.0,   2.1746,  27.6662
  49NZ20090410,   P21,    38,  1,     17, X12042,2,20090423,1228,-16.7482, -84.6663, 4617,   2129.9,2,   2.1206,2,   2.12058,2,  34.6490,2,  34.6493,6,   120.85,2,   120.69,2,   127.30,2,     0.40,    37.99,2,     0.14,     0.01,2,     0.01,    2.705,2,    0.017,    0.000,2,    0.000,2,    0.000,2,   -999.0,9,   -999.0,9,-999.0000,-999,9,  -999.00,9,  -999.00,   -999.0,9,   -999.0,   1.9711,  27.6927
  49NZ20090410,   P21,    38,  1,     16, X12016,2,20090423,1228,-16.7482, -84.6663, 4617,   2329.1,2,   1.9706,2,   1.97062,2,  34.6604,2,  34.6607,2,   129.51,2,   129.47,2,   128.72,2,     0.40,    37.42,2,     0.14,     0.01,2,     0.01,    2.643,2,    0.017,    0.000,2,    0.000,2,    0.000,2,   -999.0,9,   -999.0,9,-999.0000,-999,9,  -999.00,9,  -999.00,   -999.0,9,   -999.0,   1.8062,  27.7147
  49NZ20090410,   P21,    38,  1,     15, X12015,2,20090423,1228,-16.7482, -84.6663, 4617,   2529.8,2,   1.8817,2,   1.88167,2,  34.6682,2,  34.6678,2,   133.72,2,   133.65,2,   130.85,2,     0.41,    37.02,2,     0.14,     0.01,2,     0.01,    2.619,2,    0.017,    0.000,2,    0.002,2,    0.000,2,   -999.0,9,   -999.0,9,-999.0000,-999,9,  -999.00,9,  -999.00,   -999.0,9,   -999.0,   1.7009,  27.7290
  49NZ20090410,   P21,    38,  1,     14, X12050,2,20090423,1228,-16.7482, -84.6663, 4617,   2730.9,2,   1.8315,2,   1.83144,2,  34.6734,2,  34.6733,2,   133.83,2,   133.58,2,   134.29,2,     0.41,    37.05,2,     0.14,     0.01,2,     0.01,    2.611,2,    0.017,    0.000,2,    0.001,2,    0.000,2,   -999.0,9,   -999.0,9,-999.0000,-999,9,  -999.00,9,  -999.00,   -999.0,9,   -999.0,   1.6331,  27.7382
  49NZ20090410,   P21,    38,  1,     13, X12013,7,20090423,1228,-16.7482, -84.6663, 4617,   2929.6,2,   1.8056,2,   1.80558,2,  34.6767,2,  34.6772,2,   135.51,2,   135.33,2,   135.44,2,     0.42,    36.85,2,     0.14,     0.01,2,     0.01,    2.602,2,    0.016,    0.000,2,    0.003,2,    0.000,2,   -999.0,9,   -999.0,9,-999.0000,-999,9,  -999.00,9,  -999.00,   -999.0,9,   -999.0,   1.5889,  27.7442
  49NZ20090410,   P21,    38,  1,     12, X12012,2,20090423,1228,-16.7482, -84.6663, 4617,   3170.6,2,   1.7961,2,   1.79608,2,  34.6796,2,  34.6794,2,   137.93,2,   137.73,2,   135.66,2,     0.42,    36.68,2,     0.14,     0.01,2,     0.01,    2.587,2,    0.016,    0.000,2,    0.001,2,    0.000,2,   -999.0,9,   -999.0,9,-999.0000,-999,9,  -999.00,9,  -999.00,   -999.0,9,   -999.0,   1.5560,  27.7489
  49NZ20090410,   P21,    38,  1,     11, X12041,2,20090423,1228,-16.7482, -84.6663, 4617,   3420.7,2,   1.7932,2,   1.79317,2,  34.6821,2,  34.6815,6,   141.16,2,   141.06,2,   133.91,2,     0.41,    36.47,2,     0.13,     0.01,2,     0.01,    2.566,2,    0.016,    0.000,2,    0.000,2,    0.000,2,   -999.0,9,   -999.0,9,-999.0000,-999,9,  -999.00,9,  -999.00,   -999.0,9,   -999.0,   1.5279,  27.7530
  49NZ20090410,   P21,    38,  1,     10, X12040,2,20090423,1228,-16.7482, -84.6663, 4617,   3670.3,2,   1.7860,2,   1.78596,2,  34.6845,2,  34.6846,2,   144.41,2,   144.35,2,   131.97,2,     0.41,    36.11,2,     0.13,     0.01,2,     0.01,    2.541,2,    0.016,    0.000,2,    0.000,2,    0.000,2,   -999.0,9,   -999.0,9,-999.0000,-999,9,  -999.00,9,  -999.00,   -999.0,9,   -999.0,   1.4948,  27.7574
  49NZ20090410,   P21,    38,  1,      9, X12009,2,20090423,1228,-16.7482, -84.6663, 4617,   3919.9,2,   1.7780,2,   1.77797,2,  34.6868,2,  34.6862,2,   148.99,2,   149.01,2,   128.96,2,     0.40,    35.77,2,     0.13,     0.01,2,     0.01,    2.521,2,    0.016,    0.001,2,    0.000,2,    0.000,2,   -999.0,9,   -999.0,9,-999.0000,-999,9,  -999.00,9,  -999.00,   -999.0,9,   -999.0,   1.4601,  27.7618
  49NZ20090410,   P21,    38,  1,      8, X12008,2,20090423,1228,-16.7482, -84.6663, 4617,   4171.4,2,   1.7803,2,   1.78022,2,  34.6884,2,  34.6881,2,   152.41,2,   152.46,2,   126.92,2,     0.40,    35.56,2,     0.13,     0.01,2,     0.01,    2.501,2,    0.016,    0.003,2,    0.000,2,    0.000,2,   -999.0,9,   -999.0,9,-999.0000,-999,9,  -999.00,9,  -999.00,   -999.0,9,   -999.0,   1.4344,  27.7649
  49NZ20090410,   P21,    38,  1,      7, X12007,2,20090423,1228,-16.7482, -84.6663, 4617,   4418.8,2,   1.7911,2,   1.79101,2,  34.6894,2,  34.6896,2,   153.21,2,   153.40,2,   126.57,2,     0.40,    35.49,2,     0.13,     0.01,2,     0.01,    2.502,2,    0.016,    0.004,2,    0.001,2,    0.000,2,   -999.0,9,   -999.0,9,-999.0000,-999,9,  -999.00,9,  -999.00,   -999.0,9,   -999.0,   1.4165,  27.7670
  49NZ20090410,   P21,    38,  1,      6, X12035,9,20090423,1228,-16.7482, -84.6663, 4617,      9.9,2,  22.9469,2,  22.94664,2,  35.6310,2,-999.0000,9,   215.03,2,  -999.00,9,  -999.00,9,  -999.00,  -999.00,9,  -999.00,  -999.00,9,  -999.00, -999.000,9, -999.000, -999.000,9, -999.000,9, -999.000,9,   -999.0,9,   -999.0,9,-999.0000,-999,9,  -999.00,9,  -999.00,   -999.0,9,   -999.0,  22.9449,  24.4282
  49NZ20090410,   P21,    38,  1,      5, X12038,9,20090423,1228,-16.7482, -84.6663, 4617,   4418.7,2,   1.7910,2,   1.79098,2,  34.6895,2,-999.0000,9,   153.21,2,  -999.00,9,  -999.00,9,  -999.00,  -999.00,9,  -999.00,  -999.00,9,  -999.00, -999.000,9, -999.000, -999.000,9, -999.000,9, -999.000,9,   -999.0,9,   -999.0,9,-999.0000,-999,9,  -999.00,9,  -999.00,   -999.0,9,   -999.0,   1.4165,  27.7671
  49NZ20090410,   P21,    38,  1,      4, X12034,9,20090423,1228,-16.7482, -84.6663, 4617,   4658.3,2,   1.8170,2,   1.81688,2,  34.6896,2,-999.0000,9,   153.13,2,  -999.00,9,  -999.00,9,  -999.00,  -999.00,9,  -999.00,  -999.00,9,  -999.00, -999.000,9, -999.000, -999.000,9, -999.000,9, -999.000,9,   -999.0,9,   -999.0,9,-999.0000,-999,9,  -999.00,9,  -999.00,   -999.0,9,   -999.0,   1.4135,  27.7673
  49NZ20090410,   P21,    38,  1,      3, X12033,9,20090423,1228,-16.7482, -84.6663, 4617,   2930.8,2,   1.8056,2,   1.80558,2,  34.6768,2,-999.0000,9,   135.41,2,  -999.00,9,  -999.00,9,  -999.00,  -999.00,9,  -999.00,  -999.00,9,  -999.00, -999.000,9, -999.000, -999.000,9, -999.000,9, -999.000,9,   -999.0,9,   -999.0,9,-999.0000,-999,9,  -999.00,9,  -999.00,   -999.0,9,   -999.0,   1.5888,  27.7442
  49NZ20090410,   P21,    38,  1,      2, X12032,2,20090423,1228,-16.7482, -84.6663, 4617,   3420.1,2,   1.7932,2,   1.79316,2,  34.6821,2,  34.6821,2,   141.16,2,   140.99,2,   134.20,2,     0.41,    36.52,2,     0.14,     0.01,2,     0.01,    2.570,2,    0.016, -999.000,9, -999.000,9, -999.000,9,   -999.0,9,   -999.0,9,-999.0000,-999,9,  -999.00,9,  -999.00,   -999.0,9,   -999.0,   1.5280,  27.7530
  49NZ20090410,   P21,    38,  1,      1, X12046,2,20090423,1228,-16.7482, -84.6663, 4617,   4657.6,2,   1.8169,2,   1.81682,2,  34.6896,2,  34.6897,6,   153.11,2,   153.22,2,   126.64,2,     0.40,    35.44,2,     0.13,     0.01,2,     0.01,    2.499,2,    0.016,    0.006,2,    0.001,2,    0.000,2,   -999.0,9,   -999.0,9,-999.0000,-999,9,  -999.00,9,  -999.00,   -999.0,9,   -999.0,   1.4135,  27.7674