BOTTLE,20220818CCHSIOAMB
EXPOCODE,SECT_ID,STNNBR,CASTNO,SAMPNO,BTLNBR,BTLNBR_FLAG_W,DATE,TIME,LATITUDE,LONGITUDE,DEPTH,CTDPRS,CTDPRS_FLAG_W,CTDTMP,CTDTMP_FLAG_W,SBE35,SBE35_FLAG_W,CTDSAL,CTDSAL_FLAG_W,SALNTY,SALNTY_FLAG_W,CTDOXY,CTDOXY_FLAG_W,OXYGEN,OXYGEN_FLAG_W,SILCAT,SILCAT_FLAG_W,SILUNC,NITRAT,NITRAT_FLAG_W,NRAUNC,NITRIT,NITRIT_FLAG_W,NRIUNC,PHSPHT,PHSPHT_FLAG_W,PHPUNC,CFC-11,CFC-11_FLAG_W,CFC-12,CFC-12_FLAG_W,CFC113,CFC113_FLAG_W,TCARBN,TCARBN_FLAG_W,ALKALI,ALKALI_FLAG_W,PH_TOT,PH_TMP,PH_TOT_FLAG_W,DELC13,DELC13_FLAG_W,C13ERR,DELC14,DELC14_FLAG_W,C14ERR,THETA,SIG0
,,,,,,,,,,,METERS,DBAR,,ITS-90,,ITS-90,,PSS-78,,PSS-78,,UMOL/KG,,UMOL/KG,,UMOL/KG,,UMOL/KG,UMOL/KG,,UMOL/KG,UMOL/KG,,UMOL/KG,UMOL/KG,,UMOL/KG,PMOL/KG,,PMOL/KG,,PMOL/KG,,UMOL/KG,,UMOL/KG,,,DEG C,,/MILLE,,/MILLE,/MILLE,,/MILLE,DEG C,KG/M^3
  49NZ20090410,   P21,    72,  1,     36, X12006,2,20090429,2038,-16.7458,-100.0015, 3991,      9.1,2,  24.6644,2,  24.66623,2,  36.0462,2,  36.0458,2,   210.90,2,   209.98,2,     0.65,2,     0.12,     0.11,2,     0.03,     0.01,2,     0.01,    0.384,2,    0.013,    1.667,2,    1.068,2, -999.000,5,   -999.0,9,   -999.0,9,-999.0000,-999,9,  -999.00,9,  -999.00,   -999.0,9,   -999.0,  24.6624,  24.2348
  49NZ20090410,   P21,    72,  1,     35, X12047,2,20090429,2038,-16.7458,-100.0015, 3991,     49.9,2,  24.2471,2,  24.24381,2,  36.0341,2,  36.0360,2,   210.97,2,   210.69,2,     0.63,2,     0.12,     0.07,2,     0.03,     0.02,2,     0.01,    0.387,2,    0.013,    1.680,2,    1.080,2, -999.000,5,   -999.0,9,   -999.0,9,-999.0000,-999,9,  -999.00,9,  -999.00,   -999.0,9,   -999.0,  24.2365,  24.3539
  49NZ20090410,   P21,    72,  1,     34, X12004,2,20090429,2038,-16.7458,-100.0015, 3991,     99.9,2,  20.4796,2,  20.47819,2,  35.6473,2,  35.6478,2,   222.45,2,   223.75,2,     0.54,2,     0.12,     0.08,2,     0.03,     0.06,2,     0.01,    0.472,2,    0.013,    2.054,6,    1.292,6, -999.000,5,   -999.0,9,   -999.0,9,-999.0000,-999,9,  -999.00,9,  -999.00,   -999.0,9,   -999.0,  20.4608,  25.1328
  49NZ20090410,   P21,    72,  1,     33, X12003,2,20090429,2038,-16.7458,-100.0015, 3991,    149.8,2,  19.5566,2,  19.55668,2,  35.5118,2,  35.5158,2,   208.80,2,   209.60,2,     0.55,2,     0.12,     1.35,2,     0.04,     0.40,2,     0.00,    0.559,2,    0.013,    2.124,2,    1.319,2,    0.221,4,   -999.0,9,   -999.0,9,-999.0000,-999,9,  -999.00,9,  -999.00,   -999.0,9,   -999.0,  19.5293,  25.2758
  49NZ20090410,   P21,    72,  1,     32, X12002,3,20090429,2038,-16.7458,-100.0015, 3991,    199.8,2,  16.9034,2,  16.90964,2,  35.0868,2,  35.0874,2,   197.19,2,   197.69,2,     1.20,2,     0.12,     6.27,2,     0.05,     0.03,2,     0.01,    0.739,2,    0.013,    2.423,2,    1.459,2,    0.126,2,   -999.0,9,   -999.0,9,-999.0000,-999,9,  -999.00,9,  -999.00,   -999.0,9,   -999.0,  16.8705,  25.6116
  49NZ20090410,   P21,    72,  1,     31, X12001,2,20090429,2038,-16.7458,-100.0015, 3991,    250.3,2,  12.4068,2,  12.41890,2,  34.5342,2,  34.5403,6,   121.96,2,   123.58,2,     7.65,2,     0.14,    17.84,2,     0.08,     0.02,2,     0.01,    1.678,2,    0.014,    2.436,2,    1.374,2,    0.073,2,   -999.0,9,   -999.0,9,-999.0000,-999,9,  -999.00,9,  -999.00,   -999.0,9,   -999.0,  12.3735,  26.1555
  49NZ20090410,   P21,    72,  1,     30, X12030,2,20090429,2038,-16.7458,-100.0015, 3991,    299.7,2,  11.1303,2,  11.12934,2,  34.5980,2,  34.5981,2,    42.88,2,    42.25,2,    18.23,2,     0.16,    24.88,2,     0.10,     0.02,2,     0.01,    2.465,2,    0.016,    1.318,2,    0.713,2,    0.031,2,   -999.0,9,   -999.0,9,-999.0000,-999,9,  -999.00,9,  -999.00,   -999.0,9,   -999.0,  11.0931,  26.4456
  49NZ20090410,   P21,    72,  1,     29, X12044,2,20090429,2038,-16.7458,-100.0015, 3991,    399.4,2,   8.6004,2,   8.59736,2,  34.5668,2,  34.5661,2,    31.27,2,    31.04,2,    26.01,2,     0.18,    36.32,2,     0.13,     0.01,2,     0.01,    2.759,2,    0.017,    0.299,2,    0.154,2,    0.011,2,   -999.0,9,   -999.0,9,-999.0000,-999,9,  -999.00,9,  -999.00,   -999.0,9,   -999.0,   8.5579,  26.8486
  49NZ20090410,   P21,    72,  1,     28, X12048,2,20090429,2038,-16.7458,-100.0015, 3991,    500.1,2,   7.2477,2,   7.24792,2,  34.5158,2,  34.5160,6,    53.42,2,    52.95,2,    30.86,2,     0.19,    38.91,2,     0.14,     0.01,2,     0.01,    2.767,2,    0.017,    0.143,2,    0.075,2,    0.000,2,   -999.0,9,   -999.0,9,-999.0000,-999,9,  -999.00,9,  -999.00,   -999.0,9,   -999.0,   7.1993,  27.0096
  49NZ20090410,   P21,    72,  1,     27, X12027,2,20090429,2038,-16.7458,-100.0015, 3991,    599.6,2,   6.3831,2,   6.38266,2,  34.5137,2,  34.5137,2,    49.07,2,    48.70,2,    41.14,2,     0.21,    41.59,2,     0.15,     0.02,2,     0.01,    2.934,2,    0.017,    0.020,6,    0.011,6,    0.000,6,   -999.0,9,   -999.0,9,-999.0000,-999,9,  -999.00,9,  -999.00,   -999.0,9,   -999.0,   6.3285,  27.1260
  49NZ20090410,   P21,    72,  1,     26, X12026,2,20090429,2038,-16.7458,-100.0015, 3991,    699.5,2,   5.8439,2,   5.84395,2,  34.5083,2,  34.5075,2,    47.50,2,    47.26,2,    48.44,2,     0.23,    42.78,2,     0.15,     0.01,2,     0.01,    3.028,2,    0.018,    0.004,2,    0.002,2,    0.000,2,   -999.0,9,   -999.0,9,-999.0000,-999,9,  -999.00,9,  -999.00,   -999.0,9,   -999.0,   5.7826,  27.1914
  49NZ20090410,   P21,    72,  1,     25, X12025,2,20090429,2038,-16.7458,-100.0015, 3991,    799.1,2,   5.2531,2,   5.25337,2,  34.5025,2,  34.5025,2,    55.40,2,    55.10,2,    56.31,2,     0.24,    43.10,2,     0.15,     0.02,2,     0.01,    3.054,2,    0.018,    0.001,2,    0.001,2,    0.000,2,   -999.0,9,   -999.0,9,-999.0000,-999,9,  -999.00,9,  -999.00,   -999.0,9,   -999.0,   5.1861,  27.2591
  49NZ20090410,   P21,    72,  1,     24, X12024,2,20090429,2038,-16.7458,-100.0015, 3991,    901.4,2,   4.7769,2,   4.77606,2,  34.5157,2,  34.5155,2,    55.30,2,    55.12,2,    66.80,2,     0.27,    43.44,2,     0.15,     0.02,2,     0.01,    3.115,2,    0.018,    0.000,2,    0.000,2,    0.000,2,   -999.0,9,   -999.0,9,-999.0000,-999,9,  -999.00,9,  -999.00,   -999.0,9,   -999.0,   4.7040,  27.3250
  49NZ20090410,   P21,    72,  1,     23, X12028,2,20090429,2038,-16.7458,-100.0015, 3991,   1000.6,2,   4.3622,2,   4.36228,2,  34.5242,2,  34.5245,6,    66.56,2,    66.60,2,    74.36,2,     0.28,    42.69,2,     0.15,     0.01,2,     0.01,    3.066,2,    0.018,    0.000,2,    0.001,2,    0.000,2,   -999.0,9,   -999.0,9,-999.0000,-999,9,  -999.00,9,  -999.00,   -999.0,9,   -999.0,   4.2837,  27.3778
  49NZ20090410,   P21,    72,  1,     22, X12022,2,20090429,2038,-16.7458,-100.0015, 3991,   1201.8,2,   3.6866,2,   3.68769,2,  34.5531,2,  34.5537,2,    77.38,2,    77.54,2,    90.16,2,     0.32,    41.93,2,     0.15,     0.01,2,     0.01,    3.027,2,    0.018,    0.001,2,    0.001,2,    0.000,2,   -999.0,9,   -999.0,9,-999.0000,-999,9,  -999.00,9,  -999.00,   -999.0,9,   -999.0,   3.5966,  27.4715
  49NZ20090410,   P21,    72,  1,     21, X12021,2,20090429,2038,-16.7458,-100.0015, 3991,   1400.1,2,   3.1001,2,   3.09994,2,  34.5836,2,  34.5837,2,    89.40,2,    89.40,2,   104.16,2,     0.35,    40.83,2,     0.15,     0.01,2,     0.01,    2.951,2,    0.017,    0.000,2,    0.000,2,    0.000,2,   -999.0,9,   -999.0,9,-999.0000,-999,9,  -999.00,9,  -999.00,   -999.0,9,   -999.0,   2.9994,  27.5528
  49NZ20090410,   P21,    72,  1,     20, X12020,2,20090429,2038,-16.7458,-100.0015, 3991,   1600.7,2,   2.8046,2,   2.80461,2,  34.6018,2,  34.6019,2,    96.89,2,    96.82,2,   111.83,2,     0.37,    40.22,2,     0.15,     0.01,2,     0.01,    2.902,2,    0.017,    0.000,2,    0.000,2,    0.000,2,   -999.0,9,   -999.0,9,-999.0000,-999,9,  -999.00,9,  -999.00,   -999.0,9,   -999.0,   2.6906,  27.5950
  49NZ20090410,   P21,    72,  1,     19, X12019,2,20090429,2038,-16.7458,-100.0015, 3991,   1800.2,2,   2.5331,2,   2.53288,2,  34.6195,2,  34.6198,2,   106.67,2,   106.49,2,   117.71,2,     0.38,    39.26,2,     0.14,     0.01,2,     0.01,    2.828,2,    0.017,    0.000,2,    0.000,2,    0.000,2,   -999.0,9,   -999.0,9,-999.0000,-999,9,  -999.00,9,  -999.00,   -999.0,9,   -999.0,   2.4058,  27.6337
  49NZ20090410,   P21,    72,  1,     18, X12043,2,20090429,2038,-16.7458,-100.0015, 3991,   2001.0,2,   2.2577,2,   2.25831,2,  34.6367,2,  34.6370,6,   123.65,2,   123.33,2,   119.64,2,     0.38,    38.06,2,     0.14,     0.01,2,     0.01,    2.704,2,    0.017, -999.000,9, -999.000,9, -999.000,9,   -999.0,9,   -999.0,9,-999.0000,-999,9,  -999.00,9,  -999.00,   -999.0,9,   -999.0,   2.1172,  27.6712
  49NZ20090410,   P21,    72,  1,     17, X12042,2,20090429,2038,-16.7458,-100.0015, 3991,   2201.4,2,   2.0255,2,   2.02556,2,  34.6524,2,  34.6526,2,   140.46,2,   140.42,2,   119.60,2,     0.38,    36.75,2,     0.14,     0.01,2,     0.01,    2.590,2,    0.016, -999.000,9, -999.000,9, -999.000,9,   -999.0,9,   -999.0,9,-999.0000,-999,9,  -999.00,9,  -999.00,   -999.0,9,   -999.0,   1.8714,  27.7033
  49NZ20090410,   P21,    72,  1,     16, X12016,2,20090429,2038,-16.7458,-100.0015, 3991,   2399.0,2,   1.8975,2,   1.89745,2,  34.6634,2,  34.6633,2,   150.00,2,   150.18,2,   119.32,2,     0.38,    35.88,2,     0.13,     0.01,2,     0.01,    2.517,2,    0.016,    0.000,2,    0.000,2,    0.000,2,   -999.0,9,   -999.0,9,-999.0000,-999,9,  -999.00,9,  -999.00,   -999.0,9,   -999.0,   1.7282,  27.7231
  49NZ20090410,   P21,    72,  1,     15, X12015,2,20090429,2038,-16.7458,-100.0015, 3991,   2598.6,2,   1.8436,2,   1.84354,2,  34.6708,2,  34.6711,2,   151.06,2,   151.06,2,   122.36,2,     0.39,    35.82,2,     0.13,     0.01,2,     0.01,    2.510,2,    0.016, -999.000,9, -999.000,9, -999.000,9,   -999.0,9,   -999.0,9,-999.0000,-999,9,  -999.00,9,  -999.00,   -999.0,9,   -999.0,   1.6572,  27.7344
  49NZ20090410,   P21,    72,  1,     14, X12050,2,20090429,2038,-16.7458,-100.0015, 3991,   2800.3,2,   1.8096,2,   1.80954,2,  34.6771,2,  34.6773,2,   150.70,2,   150.55,2,   125.16,2,     0.39,    35.83,2,     0.13,     0.02,2,     0.01,    2.522,2,    0.016, -999.000,9, -999.000,9, -999.000,9,   -999.0,9,   -999.0,9,-999.0000,-999,9,  -999.00,9,  -999.00,   -999.0,9,   -999.0,   1.6051,  27.7433
  49NZ20090410,   P21,    72,  1,     13, X12013,7,20090429,2038,-16.7458,-100.0015, 3991,   2999.9,2,   1.8003,2,   1.80014,2,  34.6795,2,  34.6801,6,   147.66,2,   147.55,2,   128.87,2,     0.40,    36.16,2,     0.13,     0.02,2,     0.01,    2.535,2,    0.016,    0.001,2,    0.001,2,    0.000,2,   -999.0,9,   -999.0,9,-999.0000,-999,9,  -999.00,9,  -999.00,   -999.0,9,   -999.0,   1.5769,  27.7474
  49NZ20090410,   P21,    72,  1,     12, X12012,2,20090429,2038,-16.7458,-100.0015, 3991,   3250.2,2,   1.7954,2,   1.79532,2,  34.6817,2,  34.6820,2,   146.57,2,   146.59,2,   130.70,2,     0.41,    36.17,2,     0.13,     0.01,2,     0.01,    2.545,2,    0.016, -999.000,9, -999.000,9, -999.000,9,   -999.0,9,   -999.0,9,-999.0000,-999,9,  -999.00,9,  -999.00,   -999.0,9,   -999.0,   1.5474,  27.7513
  49NZ20090410,   P21,    72,  1,     11, X12041,2,20090429,2038,-16.7458,-100.0015, 3991,   3499.9,2,   1.8046,2,   1.80449,2,  34.6838,2,  34.6840,2,   147.96,2,   147.98,2,   129.47,2,     0.40,    36.11,2,     0.13,     0.01,2,     0.01,    2.537,2,    0.016, -999.000,9, -999.000,9, -999.000,9,   -999.0,9,   -999.0,9,-999.0000,-999,9,  -999.00,9,  -999.00,   -999.0,9,   -999.0,   1.5308,  27.7542
  49NZ20090410,   P21,    72,  1,     10, X12040,2,20090429,2038,-16.7458,-100.0015, 3991,   3750.3,2,   1.8182,2,   1.81800,2,  34.6852,2,  34.6855,2,   148.72,2,   148.82,2,   128.84,2,     0.40,    35.92,2,     0.13,     0.01,2,     0.01,    2.529,2,    0.016,    0.001,2,    0.001,2,    0.000,2,   -999.0,9,   -999.0,9,-999.0000,-999,9,  -999.00,9,  -999.00,   -999.0,9,   -999.0,   1.5176,  27.7563
  49NZ20090410,   P21,    72,  1,      9, X12009,9,20090429,2038,-16.7458,-100.0015, 3991,      9.2,2,  24.6638,2,  24.66339,2,  36.0462,2,-999.0000,9,   210.98,2,  -999.00,9,  -999.00,9,  -999.00,  -999.00,9,  -999.00,  -999.00,9,  -999.00, -999.000,9, -999.000, -999.000,9, -999.000,9, -999.000,9,   -999.0,9,   -999.0,9,-999.0000,-999,9,  -999.00,9,  -999.00,   -999.0,9,   -999.0,  24.6618,  24.2350
  49NZ20090410,   P21,    72,  1,      8, X12008,9,20090429,2038,-16.7458,-100.0015, 3991,     50.3,2,  24.2870,2,  24.28190,2,  36.0380,2,-999.0000,9,   210.87,2,  -999.00,9,  -999.00,9,  -999.00,  -999.00,9,  -999.00,  -999.00,9,  -999.00, -999.000,9, -999.000, -999.000,9, -999.000,9, -999.000,9,   -999.0,9,   -999.0,9,-999.0000,-999,9,  -999.00,9,  -999.00,   -999.0,9,   -999.0,  24.2763,  24.3449
  49NZ20090410,   P21,    72,  1,      7, X12007,9,20090429,2038,-16.7458,-100.0015, 3991,    100.3,2,  20.4740,2,  20.47329,2,  35.6471,2,-999.0000,9,   222.54,2,  -999.00,9,  -999.00,9,  -999.00,  -999.00,9,  -999.00,  -999.00,9,  -999.00, -999.000,9, -999.000, -999.000,9, -999.000,9, -999.000,9,   -999.0,9,   -999.0,9,-999.0000,-999,9,  -999.00,9,  -999.00,   -999.0,9,   -999.0,  20.4551,  25.1342
  49NZ20090410,   P21,    72,  1,      6, X12035,9,20090429,2038,-16.7458,-100.0015, 3991,    149.7,2,  19.5642,2,  19.56179,2,  35.5141,2,-999.0000,9,   208.81,2,  -999.00,9,  -999.00,9,  -999.00,  -999.00,9,  -999.00,  -999.00,9,  -999.00, -999.000,9, -999.000, -999.000,9, -999.000,9, -999.000,9,   -999.0,9,   -999.0,9,-999.0000,-999,9,  -999.00,9,  -999.00,   -999.0,9,   -999.0,  19.5369,  25.2755
  49NZ20090410,   P21,    72,  1,      5, X12038,9,20090429,2038,-16.7458,-100.0015, 3991,    199.8,2,  16.9011,2,  16.90512,2,  35.0872,2,-999.0000,9,   197.53,2,  -999.00,9,  -999.00,9,  -999.00,  -999.00,9,  -999.00,  -999.00,9,  -999.00, -999.000,9, -999.000, -999.000,9, -999.000,9, -999.000,9,   -999.0,9,   -999.0,9,-999.0000,-999,9,  -999.00,9,  -999.00,   -999.0,9,   -999.0,  16.8682,  25.6125
  49NZ20090410,   P21,    72,  1,      4, X12034,9,20090429,2038,-16.7458,-100.0015, 3991,   2598.6,2,   1.8437,2,   1.84358,2,  34.6707,2,-999.0000,9,   151.04,2,  -999.00,9,  -999.00,9,  -999.00,  -999.00,9,  -999.00,  -999.00,9,  -999.00, -999.000,9, -999.000, -999.000,9, -999.000,9, -999.000,9,   -999.0,9,   -999.0,9,-999.0000,-999,9,  -999.00,9,  -999.00,   -999.0,9,   -999.0,   1.6573,  27.7343
  49NZ20090410,   P21,    72,  1,      3, X12033,9,20090429,2038,-16.7458,-100.0015, 3991,   2798.8,2,   1.8096,2,   1.80955,2,  34.6772,2,-999.0000,9,   150.73,2,  -999.00,9,  -999.00,9,  -999.00,  -999.00,9,  -999.00,  -999.00,9,  -999.00, -999.000,9, -999.000, -999.000,9, -999.000,9, -999.000,9,   -999.0,9,   -999.0,9,-999.0000,-999,9,  -999.00,9,  -999.00,   -999.0,9,   -999.0,   1.6052,  27.7434
  49NZ20090410,   P21,    72,  1,      2, X12032,9,20090429,2038,-16.7458,-100.0015, 3991,   2999.7,2,   1.8004,2,   1.80017,2,  34.6795,2,-999.0000,9,   147.67,2,  -999.00,9,  -999.00,9,  -999.00,  -999.00,9,  -999.00,  -999.00,9,  -999.00, -999.000,9, -999.000, -999.000,9, -999.000,9, -999.000,9,   -999.0,9,   -999.0,9,-999.0000,-999,9,  -999.00,9,  -999.00,   -999.0,9,   -999.0,   1.5770,  27.7473
  49NZ20090410,   P21,    72,  1,      1, X12046,2,20090429,2038,-16.7458,-100.0015, 3991,   3984.9,2,   1.8381,2,   1.83803,2,  34.6858,2,  34.6857,6,   149.00,2,   148.98,2,   128.75,2,     0.40,    35.87,2,     0.13,     0.01,2,     0.01,    2.532,2,    0.016,    0.001,2,    0.000,2,    0.000,2,   -999.0,9,   -999.0,9,-999.0000,-999,9,  -999.00,9,  -999.00,   -999.0,9,   -999.0,   1.5114,  27.7572