BOTTLE,20220818CCHSIOAMB
EXPOCODE,SECT_ID,STNNBR,CASTNO,SAMPNO,BTLNBR,BTLNBR_FLAG_W,DATE,TIME,LATITUDE,LONGITUDE,DEPTH,CTDPRS,CTDPRS_FLAG_W,CTDTMP,CTDTMP_FLAG_W,SBE35,SBE35_FLAG_W,CTDSAL,CTDSAL_FLAG_W,SALNTY,SALNTY_FLAG_W,CTDOXY,CTDOXY_FLAG_W,OXYGEN,OXYGEN_FLAG_W,SILCAT,SILCAT_FLAG_W,SILUNC,NITRAT,NITRAT_FLAG_W,NRAUNC,NITRIT,NITRIT_FLAG_W,NRIUNC,PHSPHT,PHSPHT_FLAG_W,PHPUNC,CFC-11,CFC-11_FLAG_W,CFC-12,CFC-12_FLAG_W,CFC113,CFC113_FLAG_W,TCARBN,TCARBN_FLAG_W,ALKALI,ALKALI_FLAG_W,PH_TOT,PH_TMP,PH_TOT_FLAG_W,DELC13,DELC13_FLAG_W,C13ERR,DELC14,DELC14_FLAG_W,C14ERR,THETA,SIG0
,,,,,,,,,,,METERS,DBAR,,ITS-90,,ITS-90,,PSS-78,,PSS-78,,UMOL/KG,,UMOL/KG,,UMOL/KG,,UMOL/KG,UMOL/KG,,UMOL/KG,UMOL/KG,,UMOL/KG,UMOL/KG,,UMOL/KG,PMOL/KG,,PMOL/KG,,PMOL/KG,,UMOL/KG,,UMOL/KG,,,DEG C,,/MILLE,,/MILLE,/MILLE,,/MILLE,DEG C,KG/M^3
  49NZ20090410,   P21,    36,  1,     36, X12006,2,20090422,1609,-16.7423, -83.3260, 4666,      9.2,2,  23.7972,2,  23.79830,2,  35.5826,2,  35.5842,2,   212.32,2,   212.72,2,     0.92,2,     0.12,     0.09,2,     0.03,     0.01,2,     0.01,    0.550,2,    0.013,    1.709,2,    1.079,2, -999.000,5,   -999.0,9,   -999.0,9,-999.0000,-999,9,  -999.00,9,  -999.00,   -999.0,9,   -999.0,  23.7953,  24.1431
  49NZ20090410,   P21,    36,  1,     35, X12047,2,20090422,1609,-16.7423, -83.3260, 4666,     49.5,2,  19.6119,2,  19.61838,2,  35.1521,2,  35.1537,2,   257.04,2,   262.44,2,     0.94,2,     0.12,     0.18,2,     0.03,     0.04,2,     0.01,    0.482,2,    0.013,    2.280,2,    1.421,2, -999.000,5,   -999.0,9,   -999.0,9,-999.0000,-999,9,  -999.00,9,  -999.00,   -999.0,9,   -999.0,  19.6029,  24.9819
  49NZ20090410,   P21,    36,  1,     34, X12004,2,20090422,1609,-16.7423, -83.3260, 4666,     99.5,2,  16.9606,2,  16.96093,2,  35.0712,2,  35.0656,2,   178.83,2,   173.24,2,     3.82,2,     0.13,    14.62,2,     0.07,     0.04,2,     0.01,    1.451,2,    0.014,    2.342,6,    1.431,6,    0.193,6,   -999.0,9,   -999.0,9,-999.0000,-999,9,  -999.00,9,  -999.00,   -999.0,9,   -999.0,  16.9442,  25.5821
  49NZ20090410,   P21,    36,  1,     33, X12003,2,20090422,1609,-16.7423, -83.3260, 4666,    150.5,2,  13.7104,2,  13.70844,2,  34.7780,2,  34.7777,2,    58.67,2,    56.53,2,    12.77,2,     0.15,    23.26,2,     0.10,     0.02,2,     0.01,    2.368,2,    0.016,    1.999,2,    1.168,2,    0.078,2,   -999.0,9,   -999.0,9,-999.0000,-999,9,  -999.00,9,  -999.00,   -999.0,9,   -999.0,  13.6890,  26.0804
  49NZ20090410,   P21,    36,  1,     32, X12002,2,20090422,1609,-16.7423, -83.3260, 4666,    201.0,2,  12.3659,2,  12.36876,2,  34.7972,2,  34.7938,2,     1.45,2,     1.48,2,    24.01,2,     0.17,    20.01,2,     0.09,     0.02,2,     0.01,    2.743,2,    0.017,    0.988,2,    0.569,2,    0.020,2,   -999.0,9,   -999.0,9,-999.0000,-999,9,  -999.00,9,  -999.00,   -999.0,9,   -999.0,  12.3392,  26.3662
  49NZ20090410,   P21,    36,  1,     31, X12001,2,20090422,1609,-16.7423, -83.3260, 4666,    251.6,2,  11.6111,2,  11.61235,2,  34.7967,2,  34.7947,6,     1.49,2,     1.17,3,    25.69,2,     0.18,    24.28,2,     0.10,     1.44,2,     0.01,    2.706,2,    0.017,    0.550,2,    0.310,2,    0.012,2,   -999.0,9,   -999.0,9,-999.0000,-999,9,  -999.00,9,  -999.00,   -999.0,9,   -999.0,  11.5790,  26.5107
  49NZ20090410,   P21,    36,  1,     30, X12030,2,20090422,1609,-16.7423, -83.3260, 4666,    331.2,2,  10.2929,2,  10.29136,2,  34.7161,2,  34.7175,2,     1.61,2,     1.01,2,    27.92,2,     0.18,    31.54,2,     0.12,     0.32,2,     0.01,    2.790,2,    0.017,    0.275,2,    0.149,2,    0.000,2,   -999.0,9,   -999.0,9,-999.0000,-999,9,  -999.00,9,  -999.00,   -999.0,9,   -999.0,  10.2536,  26.6866
  49NZ20090410,   P21,    36,  1,     29, X12044,2,20090422,1609,-16.7423, -83.3260, 4666,    430.3,2,   8.8574,2,   8.85686,2,  34.6332,2,  34.6324,2,     6.26,2,     6.36,2,    31.10,2,     0.19,    38.34,2,     0.14,     0.01,2,     0.01,    2.903,2,    0.017,    0.132,2,    0.073,2,    0.000,2,   -999.0,9,   -999.0,9,-999.0000,-999,9,  -999.00,9,  -999.00,   -999.0,9,   -999.0,   8.8107,  26.8610
  49NZ20090410,   P21,    36,  1,     28, X12048,2,20090422,1609,-16.7423, -83.3260, 4666,    530.7,2,   7.5398,2,   7.54094,2,  34.5687,2,  34.5684,6,    15.72,2,    16.10,2,    37.37,2,     0.20,    41.84,2,     0.15,     0.01,2,     0.01,    3.024,2,    0.018,    0.069,2,    0.036,2,    0.000,2,   -999.0,9,   -999.0,9,-999.0000,-999,9,  -999.00,9,  -999.00,   -999.0,9,   -999.0,   7.4871,  27.0103
  49NZ20090410,   P21,    36,  1,     27, X12027,2,20090422,1609,-16.7423, -83.3260, 4666,    630.2,2,   6.5264,2,   6.52605,2,  34.5237,2,  34.5228,2,    28.08,2,    28.69,2,    42.95,2,     0.21,    43.19,2,     0.15,     0.01,2,     0.01,    3.085,2,    0.018,    0.032,6,    0.016,6,    0.000,6,   -999.0,9,   -999.0,9,-999.0000,-999,9,  -999.00,9,  -999.00,   -999.0,9,   -999.0,   6.4682,  27.1156
  49NZ20090410,   P21,    36,  1,     26, X12026,2,20090422,1609,-16.7423, -83.3260, 4666,    729.5,2,   5.7789,2,   5.77760,2,  34.4899,2,  34.4898,2,    46.97,2,    47.30,2,    46.80,2,     0.22,    43.08,2,     0.15,     0.01,2,     0.01,    3.055,2,    0.018,    0.018,2,    0.013,2,    0.000,2,   -999.0,9,   -999.0,9,-999.0000,-999,9,  -999.00,9,  -999.00,   -999.0,9,   -999.0,   5.7152,  27.1853
  49NZ20090410,   P21,    36,  1,     25, X12025,2,20090422,1609,-16.7423, -83.3260, 4666,    831.3,2,   5.2204,2,   5.22081,2,  34.5060,2,  34.5056,2,    43.16,2,    43.82,2,    58.84,2,     0.25,    44.23,2,     0.16,     0.01,2,     0.01,    3.145,2,    0.018,    0.004,2,    0.004,2,    0.000,2,   -999.0,9,   -999.0,9,-999.0000,-999,9,  -999.00,9,  -999.00,   -999.0,9,   -999.0,   5.1508,  27.2660
  49NZ20090410,   P21,    36,  1,     24, X12024,2,20090422,1609,-16.7423, -83.3260, 4666,    930.0,2,   4.6714,2,   4.67161,2,  34.5122,2,  34.5122,2,    56.04,2,    56.51,2,    67.88,2,     0.27,    43.41,2,     0.15,     0.01,2,     0.01,    3.104,2,    0.018,    0.002,2,    0.001,2,    0.000,2,   -999.0,9,   -999.0,9,-999.0000,-999,9,  -999.00,9,  -999.00,   -999.0,9,   -999.0,   4.5967,  27.3342
  49NZ20090410,   P21,    36,  1,     23, X12028,2,20090422,1609,-16.7423, -83.3260, 4666,   1071.2,2,   4.1645,2,   4.16479,2,  34.5361,2,  34.5361,6,    63.07,2,    63.25,2,    80.65,2,     0.30,    43.04,2,     0.15,     0.01,2,     0.01,    3.096,2,    0.018,    0.000,2,    0.002,2,    0.000,2,   -999.0,9,   -999.0,9,-999.0000,-999,9,  -999.00,9,  -999.00,   -999.0,9,   -999.0,   4.0815,  27.4086
  49NZ20090410,   P21,    36,  1,     22, X12022,2,20090422,1609,-16.7423, -83.3260, 4666,   1270.2,2,   3.5762,2,   3.57603,2,  34.5584,2,  34.5587,2,    77.31,2,    77.45,2,    93.21,2,     0.32,    41.81,2,     0.15,     0.01,2,     0.01,    3.019,2,    0.017,    0.000,2,    0.001,2,    0.000,2,   -999.0,9,   -999.0,9,-999.0000,-999,9,  -999.00,9,  -999.00,   -999.0,9,   -999.0,   3.4815,  27.4870
  49NZ20090410,   P21,    36,  1,     21, X12021,2,20090422,1609,-16.7423, -83.3260, 4666,   1470.7,2,   3.0992,2,   3.09950,2,  34.5849,2,  34.5848,2,    86.37,2,    86.53,2,   105.39,2,     0.35,    40.97,2,     0.15,     0.01,2,     0.01,    2.961,2,    0.017,    0.001,2,    0.001,2,    0.000,2,   -999.0,9,   -999.0,9,-999.0000,-999,9,  -999.00,9,  -999.00,   -999.0,9,   -999.0,   2.9927,  27.5544
  49NZ20090410,   P21,    36,  1,     20, X12020,2,20090422,1609,-16.7423, -83.3260, 4666,   1672.5,2,   2.7030,2,   2.70324,2,  34.6109,2,  34.6111,2,    94.35,2,    94.48,2,   116.89,2,     0.38,    40.14,2,     0.15,     0.01,2,     0.01,    2.900,2,    0.017,    0.000,2,    0.000,2,    0.000,2,   -999.0,9,   -999.0,9,-999.0000,-999,9,  -999.00,9,  -999.00,   -999.0,9,   -999.0,   2.5842,  27.6115
  49NZ20090410,   P21,    36,  1,     19, X12019,2,20090422,1609,-16.7423, -83.3260, 4666,   1871.5,2,   2.4092,2,   2.40924,2,  34.6291,2,  34.6293,2,   106.15,2,   105.97,2,   122.87,2,     0.39,    39.22,2,     0.14,     0.01,2,     0.01,    2.805,2,    0.017, -999.000,9, -999.000,9, -999.000,9,   -999.0,9,   -999.0,9,-999.0000,-999,9,  -999.00,9,  -999.00,   -999.0,9,   -999.0,   2.2776,  27.6521
  49NZ20090410,   P21,    36,  1,     18, X12043,2,20090422,1609,-16.7423, -83.3260, 4666,   2072.6,2,   2.2178,2,   2.21796,2,  34.6416,2,  34.6418,2,   117.59,2,   117.32,2,   124.83,2,     0.39,    38.36,2,     0.14,     0.01,2,     0.01,    2.732,2,    0.017, -999.000,9, -999.000,9, -999.000,9,   -999.0,9,   -999.0,9,-999.0000,-999,9,  -999.00,9,  -999.00,   -999.0,9,   -999.0,   2.0718,  27.6788
  49NZ20090410,   P21,    36,  1,     17, X12042,2,20090422,1609,-16.7423, -83.3260, 4666,   2270.7,2,   2.0272,2,   2.02715,2,  34.6550,2,  34.6551,6,   131.36,2,   131.04,2,   124.86,2,     0.39,    37.22,2,     0.14,     0.01,2,     0.01,    2.634,2,    0.017,    0.001,2,    0.000,2,    0.000,2,   -999.0,9,   -999.0,9,-999.0000,-999,9,  -999.00,9,  -999.00,   -999.0,9,   -999.0,   1.8670,  27.7057
  49NZ20090410,   P21,    36,  1,     16, X12016,2,20090422,1609,-16.7423, -83.3260, 4666,   2471.3,2,   1.9159,2,   1.91596,2,  34.6647,2,  34.6648,2,   137.58,2,   137.19,2,   126.11,2,     0.40,    37.00,2,     0.14,     0.00,2,     0.01,    2.594,2,    0.016, -999.000,9, -999.000,9, -999.000,9,   -999.0,9,   -999.0,9,-999.0000,-999,9,  -999.00,9,  -999.00,   -999.0,9,   -999.0,   1.7397,  27.7233
  49NZ20090410,   P21,    36,  1,     15, X12015,4,20090422,1609,-16.7423, -83.3260, 4666,   2669.5,2,   1.8500,2,   1.85020,2,  34.6715,2,  34.6618,4,   138.03,2,   135.28,4,   125.70,4,     0.40,    37.11,4,     0.14,     0.01,4,     0.01,    2.604,4,    0.016, -999.000,9, -999.000,9, -999.000,9,   -999.0,9,   -999.0,9,-999.0000,-999,9,  -999.00,9,  -999.00,   -999.0,9,   -999.0,   1.6569,  27.7349
  49NZ20090410,   P21,    36,  1,     14, X12050,2,20090422,1609,-16.7423, -83.3260, 4666,   2870.1,2,   1.8139,2,   1.81394,2,  34.6758,2,  34.6758,2,   136.46,2,   136.27,2,   133.99,2,     0.41,    36.94,2,     0.14,     0.01,2,     0.01,    2.594,2,    0.016,    0.000,2,    0.000,2,    0.000,2,   -999.0,9,   -999.0,9,-999.0000,-999,9,  -999.00,9,  -999.00,   -999.0,9,   -999.0,   1.6027,  27.7424
  49NZ20090410,   P21,    36,  1,     13, X12013,7,20090422,1609,-16.7423, -83.3260, 4666,   3080.8,2,   1.7984,2,   1.79852,2,  34.6787,2,  34.6791,2,   136.52,2,   136.30,2,   136.08,2,     0.42,    36.84,2,     0.14,     0.01,2,     0.01,    2.593,2,    0.016, -999.000,9, -999.000,9, -999.000,9,   -999.0,9,   -999.0,9,-999.0000,-999,9,  -999.00,9,  -999.00,   -999.0,9,   -999.0,   1.5671,  27.7474
  49NZ20090410,   P21,    36,  1,     12, X12012,2,20090422,1609,-16.7423, -83.3260, 4666,   3330.7,2,   1.7966,2,   1.79669,2,  34.6808,2,  34.6807,2,   137.60,2,   137.49,2,   136.46,2,     0.42,    36.83,2,     0.14,     0.01,2,     0.01,    2.583,2,    0.016, -999.000,9, -999.000,9, -999.000,9,   -999.0,9,   -999.0,9,-999.0000,-999,9,  -999.00,9,  -999.00,   -999.0,9,   -999.0,   1.5404,  27.7511
  49NZ20090410,   P21,    36,  1,     11, X12041,2,20090422,1609,-16.7423, -83.3260, 4666,   3581.4,2,   1.7954,2,   1.79546,2,  34.6830,2,  34.6829,6,   141.31,2,   141.20,2,   134.39,2,     0.41,    36.61,2,     0.14,     0.01,2,     0.01,    2.558,2,    0.016,    0.000,2,    0.000,2,    0.000,2,   -999.0,9,   -999.0,9,-999.0000,-999,9,  -999.00,9,  -999.00,   -999.0,9,   -999.0,   1.5133,  27.7548
  49NZ20090410,   P21,    36,  1,     10, X12040,2,20090422,1609,-16.7423, -83.3260, 4666,   3830.6,2,   1.7884,2,   1.78843,2,  34.6855,2,  34.6853,2,   146.31,2,   146.18,2,   131.07,2,     0.41,    36.29,2,     0.13,     0.01,2,     0.01,    2.529,2,    0.016, -999.000,9, -999.000,9, -999.000,9,   -999.0,9,   -999.0,9,-999.0000,-999,9,  -999.00,9,  -999.00,   -999.0,9,   -999.0,   1.4799,  27.7593
  49NZ20090410,   P21,    36,  1,      9, X12009,2,20090422,1609,-16.7423, -83.3260, 4666,   4079.4,2,   1.7837,2,   1.78383,2,  34.6877,2,  34.6876,2,   151.02,2,   150.99,2,   127.88,2,     0.40,    35.81,2,     0.13,     0.01,2,     0.01,    2.502,2,    0.016,    0.001,2,    0.000,2,    0.000,2,   -999.0,9,   -999.0,9,-999.0000,-999,9,  -999.00,9,  -999.00,   -999.0,9,   -999.0,   1.4480,  27.7634
  49NZ20090410,   P21,    36,  1,      8, X12008,2,20090422,1609,-16.7423, -83.3260, 4666,   4330.9,2,   1.7846,2,   1.78461,2,  34.6893,2,  34.6895,2,   154.00,2,   154.03,2,   125.97,2,     0.40,    35.67,2,     0.13,     0.01,2,     0.01,    2.482,2,    0.016,    0.003,2,    0.000,2,    0.000,2,   -999.0,9,   -999.0,9,-999.0000,-999,9,  -999.00,9,  -999.00,   -999.0,9,   -999.0,   1.4204,  27.7666
  49NZ20090410,   P21,    36,  1,      7, X12007,2,20090422,1609,-16.7423, -83.3260, 4666,   4579.2,2,   1.8043,2,   1.80435,2,  34.6899,2,  34.6897,2,   153.62,2,   153.67,2,   126.31,2,     0.40,    35.47,2,     0.13,     0.01,2,     0.01,    2.485,2,    0.016,    0.004,2,    0.001,2,    0.000,2,   -999.0,9,   -999.0,9,-999.0000,-999,9,  -999.00,9,  -999.00,   -999.0,9,   -999.0,   1.4106,  27.7678
  49NZ20090410,   P21,    36,  1,      6, X12035,9,20090422,1609,-16.7423, -83.3260, 4666,      9.4,2,  23.7976,2,  23.79690,2,  35.5828,2,-999.0000,9,   212.43,2,  -999.00,9,  -999.00,9,  -999.00,  -999.00,9,  -999.00,  -999.00,9,  -999.00, -999.000,9, -999.000, -999.000,9, -999.000,9, -999.000,9,   -999.0,9,   -999.0,9,-999.0000,-999,9,  -999.00,9,  -999.00,   -999.0,9,   -999.0,  23.7956,  24.1432
  49NZ20090410,   P21,    36,  1,      5, X12038,2,20090422,1609,-16.7423, -83.3260, 4666,   4080.5,2,   1.7837,2,   1.78368,2,  34.6877,2,  34.6872,2,   151.04,2,   151.06,2,   127.84,2,     0.40,    35.78,2,     0.13,     0.01,2,     0.01,    2.500,2,    0.016, -999.000,9, -999.000,9, -999.000,9,   -999.0,9,   -999.0,9,-999.0000,-999,9,  -999.00,9,  -999.00,   -999.0,9,   -999.0,   1.4479,  27.7633
  49NZ20090410,   P21,    36,  1,      4, X12034,2,20090422,1609,-16.7423, -83.3260, 4666,   4579.4,2,   1.8045,2,   1.80459,2,  34.6898,2,-999.0000,9,   153.60,2,   153.73,2,  -999.00,9,  -999.00,  -999.00,9,  -999.00,  -999.00,9,  -999.00, -999.000,9, -999.000,    0.006,6,    0.002,6,    0.000,6,   -999.0,9,   -999.0,9,-999.0000,-999,9,  -999.00,9,  -999.00,   -999.0,9,   -999.0,   1.4107,  27.7677
  49NZ20090410,   P21,    36,  1,      3, X12033,2,20090422,1609,-16.7423, -83.3260, 4666,   4744.6,2,   1.8247,2,   1.82470,2,  34.6898,2,-999.0000,9,   153.62,2,   153.72,2,  -999.00,9,  -999.00,  -999.00,9,  -999.00,  -999.00,9,  -999.00, -999.000,9, -999.000,    0.008,6,    0.001,6,    0.000,6,   -999.0,9,   -999.0,9,-999.0000,-999,9,  -999.00,9,  -999.00,   -999.0,9,   -999.0,   1.4106,  27.7677
  49NZ20090410,   P21,    36,  1,      2, X12032,9,20090422,1609,-16.7423, -83.3260, 4666,   3079.5,2,   1.7985,2,   1.79874,2,  34.6788,2,-999.0000,9,   136.52,2,  -999.00,9,  -999.00,9,  -999.00,  -999.00,9,  -999.00,  -999.00,9,  -999.00, -999.000,9, -999.000, -999.000,9, -999.000,9, -999.000,9,   -999.0,9,   -999.0,9,-999.0000,-999,9,  -999.00,9,  -999.00,   -999.0,9,   -999.0,   1.5674,  27.7475
  49NZ20090410,   P21,    36,  1,      1, X12046,2,20090422,1609,-16.7423, -83.3260, 4666,   4744.3,2,   1.8248,2,   1.82475,2,  34.6896,2,  34.6898,6,   153.64,2,   153.69,2,   126.32,2,     0.40,    35.51,2,     0.13,     0.01,2,     0.01,    2.483,2,    0.016,    0.005,2,    0.003,2,    0.000,2,   -999.0,9,   -999.0,9,-999.0000,-999,9,  -999.00,9,  -999.00,   -999.0,9,   -999.0,   1.4107,  27.7675