BOTTLE,20220818CCHSIOAMB
EXPOCODE,SECT_ID,STNNBR,CASTNO,SAMPNO,BTLNBR,BTLNBR_FLAG_W,DATE,TIME,LATITUDE,LONGITUDE,DEPTH,CTDPRS,CTDPRS_FLAG_W,CTDTMP,CTDTMP_FLAG_W,SBE35,SBE35_FLAG_W,CTDSAL,CTDSAL_FLAG_W,SALNTY,SALNTY_FLAG_W,CTDOXY,CTDOXY_FLAG_W,OXYGEN,OXYGEN_FLAG_W,SILCAT,SILCAT_FLAG_W,SILUNC,NITRAT,NITRAT_FLAG_W,NRAUNC,NITRIT,NITRIT_FLAG_W,NRIUNC,PHSPHT,PHSPHT_FLAG_W,PHPUNC,CFC-11,CFC-11_FLAG_W,CFC-12,CFC-12_FLAG_W,CFC113,CFC113_FLAG_W,TCARBN,TCARBN_FLAG_W,ALKALI,ALKALI_FLAG_W,PH_TOT,PH_TMP,PH_TOT_FLAG_W,DELC13,DELC13_FLAG_W,C13ERR,DELC14,DELC14_FLAG_W,C14ERR,THETA,SIG0
,,,,,,,,,,,METERS,DBAR,,ITS-90,,ITS-90,,PSS-78,,PSS-78,,UMOL/KG,,UMOL/KG,,UMOL/KG,,UMOL/KG,UMOL/KG,,UMOL/KG,UMOL/KG,,UMOL/KG,UMOL/KG,,UMOL/KG,PMOL/KG,,PMOL/KG,,PMOL/KG,,UMOL/KG,,UMOL/KG,,,DEG C,,/MILLE,,/MILLE,/MILLE,,/MILLE,DEG C,KG/M^3
  49NZ20090410,   P21,   157,  1,     36, X12006,2,20090518,0244,-17.4995,-149.1713, 2668,      9.8,2,  28.1697,2,  28.17243,2,  36.2292,2,  36.2288,2,   196.37,2,   196.50,2,     0.80,2,     0.12,     0.07,2,     0.03,     0.01,2,     0.01,    0.221,2,    0.015,    1.438,2,    0.942,2, -999.000,5,   -999.0,9,   -999.0,9,-999.0000,-999,9,  -999.00,9,  -999.00,   -999.0,9,   -999.0,  28.1674,  23.2643
  49NZ20090410,   P21,   157,  1,     35, X12047,2,20090518,0244,-17.4995,-149.1713, 2668,     49.7,2,  28.1153,2,  28.11513,2,  36.2317,2,  36.2326,2,   196.27,2,   196.36,2,     0.78,2,     0.12,     0.04,2,     0.03,     0.01,2,     0.01,    0.223,2,    0.015,    1.437,2,    0.942,2, -999.000,5,   -999.0,9,   -999.0,9,-999.0000,-999,9,  -999.00,9,  -999.00,   -999.0,9,   -999.0,  28.1035,  23.2872
  49NZ20090410,   P21,   157,  1,     34, X12004,2,20090518,0244,-17.4995,-149.1713, 2668,    100.1,2,  25.5475,2,  25.54551,2,  36.3733,2,  36.3736,2,   195.10,2,   194.89,2,     0.73,2,     0.12,     0.12,2,     0.03,     0.14,2,     0.01,    0.253,2,    0.015,    1.636,6,    1.048,6, -999.000,5,   -999.0,9,   -999.0,9,-999.0000,-999,9,  -999.00,9,  -999.00,   -999.0,9,   -999.0,  25.5253,  24.2178
  49NZ20090410,   P21,   157,  1,     33, X12003,2,20090518,0244,-17.4995,-149.1713, 2668,    150.4,2,  24.1823,2,  24.17868,2,  36.2980,2,  36.2885,2,   181.72,2,   181.45,2,     0.71,2,     0.12,     1.60,2,     0.04,     0.03,2,     0.01,    0.349,2,    0.014,    1.726,2,    1.099,2,    0.155,4,   -999.0,9,   -999.0,9,-999.0000,-999,9,  -999.00,9,  -999.00,   -999.0,9,   -999.0,  24.1503,  24.5795
  49NZ20090410,   P21,   157,  1,     32, X12002,2,20090518,0244,-17.4995,-149.1713, 2668,    198.7,2,  22.1564,2,  22.16504,2,  36.0107,2,  36.0129,2,   178.02,2,   177.71,2,     0.71,2,     0.12,     2.54,2,     0.04,     0.02,2,     0.01,    0.403,2,    0.013,    1.907,2,    1.178,2,    0.106,2,   -999.0,9,   -999.0,9,-999.0000,-999,9,  -999.00,9,  -999.00,   -999.0,9,   -999.0,  22.1167,  24.9531
  49NZ20090410,   P21,   157,  1,     31, X12001,2,20090518,0244,-17.4995,-149.1713, 2668,    249.7,2,  20.6201,2,  20.60743,2,  35.7894,2,  35.7791,6,   177.58,2,   177.92,2,     0.82,2,     0.12,     3.53,2,     0.04,     0.02,2,     0.01,    0.470,2,    0.013,    2.061,2,    1.258,2,    0.056,2,   -999.0,9,   -999.0,9,-999.0000,-999,9,  -999.00,9,  -999.00,   -999.0,9,   -999.0,  20.5727,  25.2110
  49NZ20090410,   P21,   157,  1,     30, X12030,2,20090518,0244,-17.4995,-149.1713, 2668,    302.7,2,  17.5469,2,  17.54714,2,  35.3405,2,  35.3421,2,   178.69,2,   178.79,2,     1.61,2,     0.12,     5.86,2,     0.05,     0.01,2,     0.01,    0.624,2,    0.013,    2.266,2,    1.327,2,    0.035,2,   -999.0,9,   -999.0,9,-999.0000,-999,9,  -999.00,9,  -999.00,   -999.0,9,   -999.0,  17.4956,  25.6564
  49NZ20090410,   P21,   157,  1,     29, X12044,2,20090518,0244,-17.4995,-149.1713, 2668,    400.2,2,  12.7980,2,  12.79854,2,  34.7840,2,  34.7835,2,   163.19,2,   163.20,2,     5.63,2,     0.13,    14.23,2,     0.07,     0.01,2,     0.01,    1.207,2,    0.013,    2.146,6,    1.169,6,    0.018,6,   -999.0,9,   -999.0,9,-999.0000,-999,9,  -999.00,9,  -999.00,   -999.0,9,   -999.0,  12.7432,  26.2767
  49NZ20090410,   P21,   157,  1,     28, X12048,2,20090518,0244,-17.4995,-149.1713, 2668,    500.5,2,   8.3734,2,   8.37818,2,  34.4690,2,  34.4719,6,   145.63,2,   145.84,2,    14.94,2,     0.15,    26.06,2,     0.11,     0.01,2,     0.01,    1.952,2,    0.015,    1.246,2,    0.647,2,    0.020,2,   -999.0,9,   -999.0,9,-999.0000,-999,9,  -999.00,9,  -999.00,   -999.0,9,   -999.0,   8.3208,  26.8084
  49NZ20090410,   P21,   157,  1,     27, X12027,2,20090518,0244,-17.4995,-149.1713, 2668,    599.7,2,   6.5234,2,   6.52303,2,  34.4186,2,  34.4186,2,   156.91,2,   156.75,2,    24.04,2,     0.17,    30.02,2,     0.12,     0.01,2,     0.01,    2.152,2,    0.015,    0.680,6,    0.352,6,    0.008,6,   -999.0,9,   -999.0,9,-999.0000,-999,9,  -999.00,9,  -999.00,   -999.0,9,   -999.0,   6.4683,  27.0326
  49NZ20090410,   P21,   157,  1,     26, X12026,2,20090518,0244,-17.4995,-149.1713, 2668,    701.6,2,   5.6280,2,   5.62893,2,  34.4383,2,  34.4383,2,   149.85,2,   149.84,2,    36.29,2,     0.20,    32.24,2,     0.12,     0.01,2,     0.01,    2.292,2,    0.016,    0.263,2,    0.141,2,    0.000,2,   -999.0,9,   -999.0,9,-999.0000,-999,9,  -999.00,9,  -999.00,   -999.0,9,   -999.0,   5.5678,  27.1625
  49NZ20090410,   P21,   157,  1,     25, X12025,2,20090518,0244,-17.4995,-149.1713, 2668,    799.7,2,   4.9111,2,   4.91590,2,  34.4476,2,  34.4485,2,   146.20,2,   146.94,2,    46.83,2,     0.22,    33.88,2,     0.13,     0.01,2,     0.01,    2.400,2,    0.016,    0.117,2,    0.070,2,    0.000,2,   -999.0,9,   -999.0,9,-999.0000,-999,9,  -999.00,9,  -999.00,   -999.0,9,   -999.0,   4.8463,  27.2549
  49NZ20090410,   P21,   157,  1,     24, X12024,2,20090518,0244,-17.4995,-149.1713, 2668,    900.1,2,   4.2986,2,   4.30043,2,  34.4769,2,  34.4765,2,   144.26,2,   144.36,2,    58.59,2,     0.25,    34.81,2,     0.13,     0.01,2,     0.01,    2.452,2,    0.016,    0.044,2,    0.026,2,    0.000,2,   -999.0,9,   -999.0,9,-999.0000,-999,9,  -999.00,9,  -999.00,   -999.0,9,   -999.0,   4.2291,  27.3460
  49NZ20090410,   P21,   157,  1,     23, X12028,2,20090518,0244,-17.4995,-149.1713, 2668,    999.3,2,   3.8321,2,   3.83565,2,  34.5018,2,  34.5010,6,   144.92,2,   145.01,2,    68.35,2,     0.27,    35.14,2,     0.13,     0.01,2,     0.01,    2.487,2,    0.016,    0.013,2,    0.010,2,    0.000,2,   -999.0,9,   -999.0,9,-999.0000,-999,9,  -999.00,9,  -999.00,   -999.0,9,   -999.0,   3.7578,  27.4146
  49NZ20090410,   P21,   157,  1,     22, X12022,2,20090518,0244,-17.4995,-149.1713, 2668,   1200.7,2,   3.3408,2,   3.34090,2,  34.5354,2,  34.5368,2,   143.62,2,   143.94,2,    80.77,2,     0.30,    35.65,2,     0.13,     0.01,2,     0.01,    2.525,2,    0.016,    0.003,2,    0.004,2,    0.000,2,   -999.0,9,   -999.0,9,-999.0000,-999,9,  -999.00,9,  -999.00,   -999.0,9,   -999.0,   3.2542,  27.4905
  49NZ20090410,   P21,   157,  1,     21, X12021,2,20090518,0244,-17.4995,-149.1713, 2668,   1400.6,2,   2.8920,2,   2.89132,2,  34.5700,2,  34.5706,2,   144.47,2,   144.69,2,    92.35,2,     0.32,    35.86,2,     0.13,     0.01,2,     0.01,    2.539,2,    0.016,    0.000,2,    0.000,2,    0.000,2,   -999.0,9,   -999.0,9,-999.0000,-999,9,  -999.00,9,  -999.00,   -999.0,9,   -999.0,   2.7936,  27.5605
  49NZ20090410,   P21,   157,  1,     20, X12020,2,20090518,0244,-17.4995,-149.1713, 2668,   1600.8,2,   2.6117,2,   2.61276,2,  34.5925,2,  34.5922,6,   146.06,2,   146.33,2,    99.45,2,     0.34,    35.84,2,     0.13,     0.01,2,     0.01,    2.536,2,    0.016,    0.000,2,    0.000,2,    0.000,2,   -999.0,9,   -999.0,9,-999.0000,-999,9,  -999.00,9,  -999.00,   -999.0,9,   -999.0,   2.5001,  27.6040
  49NZ20090410,   P21,   157,  1,     19, X12019,2,20090518,0244,-17.4995,-149.1713, 2668,   1800.5,2,   2.3489,2,   2.34892,2,  34.6140,2,  34.6141,2,   148.39,2,   148.58,2,   106.55,2,     0.35,    35.78,2,     0.13,     0.01,2,     0.01,    2.528,2,    0.016,    0.000,2,    0.000,2,    0.000,2,   -999.0,9,   -999.0,9,-999.0000,-999,9,  -999.00,9,  -999.00,   -999.0,9,   -999.0,   2.2241,  27.6444
  49NZ20090410,   P21,   157,  1,     18, X12043,2,20090518,0244,-17.4995,-149.1713, 2668,   1999.1,2,   2.1819,2,   2.18184,2,  34.6285,2,  34.6290,2,   150.67,2,   151.05,2,   110.81,2,     0.36,    35.61,2,     0.13,     0.01,2,     0.01,    2.516,2,    0.016,    0.000,2,    0.000,2,    0.000,2,   -999.0,9,   -999.0,9,-999.0000,-999,9,  -999.00,9,  -999.00,   -999.0,9,   -999.0,   2.0428,  27.6707
  49NZ20090410,   P21,   157,  1,     17, X12042,2,20090518,0244,-17.4995,-149.1713, 2668,   2201.1,2,   2.0283,2,   2.02865,2,  34.6420,2,  34.6423,6,   153.22,2,   153.38,2,   114.55,2,     0.37,    35.51,2,     0.13,     0.01,2,     0.01,    2.508,2,    0.016,    0.000,2,    0.000,2,    0.000,2,   -999.0,9,   -999.0,9,-999.0000,-999,9,  -999.00,9,  -999.00,   -999.0,9,   -999.0,   1.8742,  27.6947
  49NZ20090410,   P21,   157,  1,     16, X12016,2,20090518,0244,-17.4995,-149.1713, 2668,   2399.9,2,   1.9320,2,   1.93196,2,  34.6507,2,  34.6508,2,   155.24,2,   155.42,2,   116.84,2,     0.38,    35.41,2,     0.13,     0.01,2,     0.01,    2.498,2,    0.016,    0.000,2,    0.000,2,    0.000,2,   -999.0,9,   -999.0,9,-999.0000,-999,9,  -999.00,9,  -999.00,   -999.0,9,   -999.0,   1.7620,  27.7103
  49NZ20090410,   P21,   157,  1,     15, X12015,2,20090518,0244,-17.4995,-149.1713, 2668,   2599.9,2,   1.8127,2,   1.81277,2,  34.6609,2,  34.6611,2,   158.56,2,   158.57,2,   119.04,2,     0.38,    35.25,2,     0.13,     0.01,2,     0.01,    2.483,2,    0.016,    0.001,2,    0.000,2,    0.000,2,   -999.0,9,   -999.0,9,-999.0000,-999,9,  -999.00,9,  -999.00,   -999.0,9,   -999.0,   1.6268,  27.7287
  49NZ20090410,   P21,   157,  1,     14, X12050,9,20090518,0244,-17.4995,-149.1713, 2668,      9.8,2,  28.1770,2,  28.17839,2,  36.2295,2,-999.0000,9,   196.48,2,  -999.00,9,  -999.00,9,  -999.00,  -999.00,9,  -999.00,  -999.00,9,  -999.00, -999.000,9, -999.000, -999.000,9, -999.000,9, -999.000,9,   -999.0,9,   -999.0,9,-999.0000,-999,9,  -999.00,9,  -999.00,   -999.0,9,   -999.0,  28.1747,  23.2622
  49NZ20090410,   P21,   157,  1,     13, X12014,9,20090518,0244,-17.4995,-149.1713, 2668,    701.5,2,   5.6345,2,   5.63866,2,  34.4388,2,-999.0000,9,   149.86,2,  -999.00,9,  -999.00,9,  -999.00,  -999.00,9,  -999.00,  -999.00,9,  -999.00, -999.000,9, -999.000, -999.000,9, -999.000,9, -999.000,9,   -999.0,9,   -999.0,9,-999.0000,-999,9,  -999.00,9,  -999.00,   -999.0,9,   -999.0,   5.5742,  27.1621
  49NZ20090410,   P21,   157,  1,     12, X12012,9,20090518,0244,-17.4995,-149.1713, 2668,    799.4,2,   4.8928,2,   4.88962,2,  34.4492,2,-999.0000,9,   146.60,2,  -999.00,9,  -999.00,9,  -999.00,  -999.00,9,  -999.00,  -999.00,9,  -999.00, -999.000,9, -999.000, -999.000,9, -999.000,9, -999.000,9,   -999.0,9,   -999.0,9,-999.0000,-999,9,  -999.00,9,  -999.00,   -999.0,9,   -999.0,   4.8281,  27.2582
  49NZ20090410,   P21,   157,  1,     11, X12041,9,20090518,0244,-17.4995,-149.1713, 2668,    999.0,2,   3.8319,2,   3.83194,2,  34.5019,2,-999.0000,9,   144.94,2,  -999.00,9,  -999.00,9,  -999.00,  -999.00,9,  -999.00,  -999.00,9,  -999.00, -999.000,9, -999.000, -999.000,9, -999.000,9, -999.000,9,   -999.0,9,   -999.0,9,-999.0000,-999,9,  -999.00,9,  -999.00,   -999.0,9,   -999.0,   3.7576,  27.4147
  49NZ20090410,   P21,   157,  1,     10, X12040,9,20090518,0244,-17.4995,-149.1713, 2668,   1200.7,2,   3.3404,2,   3.34091,2,  34.5354,2,-999.0000,9,   143.72,2,  -999.00,9,  -999.00,9,  -999.00,  -999.00,9,  -999.00,  -999.00,9,  -999.00, -999.000,9, -999.000, -999.000,9, -999.000,9, -999.000,9,   -999.0,9,   -999.0,9,-999.0000,-999,9,  -999.00,9,  -999.00,   -999.0,9,   -999.0,   3.2538,  27.4906
  49NZ20090410,   P21,   157,  1,      9, X12009,9,20090518,0244,-17.4995,-149.1713, 2668,   1400.3,2,   2.8919,2,   2.89065,2,  34.5699,2,-999.0000,9,   144.47,2,  -999.00,9,  -999.00,9,  -999.00,  -999.00,9,  -999.00,  -999.00,9,  -999.00, -999.000,9, -999.000, -999.000,9, -999.000,9, -999.000,9,   -999.0,9,   -999.0,9,-999.0000,-999,9,  -999.00,9,  -999.00,   -999.0,9,   -999.0,   2.7935,  27.5604
  49NZ20090410,   P21,   157,  1,      8, X12008,9,20090518,0244,-17.4995,-149.1713, 2668,   1601.4,2,   2.6140,2,   2.61419,2,  34.5922,2,-999.0000,9,   146.09,2,  -999.00,9,  -999.00,9,  -999.00,  -999.00,9,  -999.00,  -999.00,9,  -999.00, -999.000,9, -999.000, -999.000,9, -999.000,9, -999.000,9,   -999.0,9,   -999.0,9,-999.0000,-999,9,  -999.00,9,  -999.00,   -999.0,9,   -999.0,   2.5023,  27.6036
  49NZ20090410,   P21,   157,  1,      7, X12007,9,20090518,0244,-17.4995,-149.1713, 2668,   1800.9,2,   2.3491,2,   2.34907,2,  34.6140,2,-999.0000,9,   148.39,2,  -999.00,9,  -999.00,9,  -999.00,  -999.00,9,  -999.00,  -999.00,9,  -999.00, -999.000,9, -999.000, -999.000,9, -999.000,9, -999.000,9,   -999.0,9,   -999.0,9,-999.0000,-999,9,  -999.00,9,  -999.00,   -999.0,9,   -999.0,   2.2243,  27.6443
  49NZ20090410,   P21,   157,  1,      6, X12035,9,20090518,0244,-17.4995,-149.1713, 2668,   1999.0,2,   2.1823,2,   2.18201,2,  34.6285,2,-999.0000,9,   150.71,2,  -999.00,9,  -999.00,9,  -999.00,  -999.00,9,  -999.00,  -999.00,9,  -999.00, -999.000,9, -999.000, -999.000,9, -999.000,9, -999.000,9,   -999.0,9,   -999.0,9,-999.0000,-999,9,  -999.00,9,  -999.00,   -999.0,9,   -999.0,   2.0432,  27.6706
  49NZ20090410,   P21,   157,  1,      5, X12038,9,20090518,0244,-17.4995,-149.1713, 2668,   2201.4,2,   2.0283,2,   2.02836,2,  34.6421,2,-999.0000,9,   153.20,2,  -999.00,9,  -999.00,9,  -999.00,  -999.00,9,  -999.00,  -999.00,9,  -999.00, -999.000,9, -999.000, -999.000,9, -999.000,9, -999.000,9,   -999.0,9,   -999.0,9,-999.0000,-999,9,  -999.00,9,  -999.00,   -999.0,9,   -999.0,   1.8742,  27.6948
  49NZ20090410,   P21,   157,  1,      4, X12034,9,20090518,0244,-17.4995,-149.1713, 2668,   2400.6,2,   1.9319,2,   1.93181,2,  34.6508,2,-999.0000,9,   155.28,2,  -999.00,9,  -999.00,9,  -999.00,  -999.00,9,  -999.00,  -999.00,9,  -999.00, -999.000,9, -999.000, -999.000,9, -999.000,9, -999.000,9,   -999.0,9,   -999.0,9,-999.0000,-999,9,  -999.00,9,  -999.00,   -999.0,9,   -999.0,   1.7618,  27.7104
  49NZ20090410,   P21,   157,  1,      3, X12033,9,20090518,0244,-17.4995,-149.1713, 2668,   2600.1,2,   1.8130,2,   1.81298,2,  34.6608,2,-999.0000,9,   158.48,2,  -999.00,9,  -999.00,9,  -999.00,  -999.00,9,  -999.00,  -999.00,9,  -999.00, -999.000,9, -999.000, -999.000,9, -999.000,9, -999.000,9,   -999.0,9,   -999.0,9,-999.0000,-999,9,  -999.00,9,  -999.00,   -999.0,9,   -999.0,   1.6271,  27.7286
  49NZ20090410,   P21,   157,  1,      2, X12032,9,20090518,0244,-17.4995,-149.1713, 2668,    900.2,2,   4.3224,2,   4.32514,2,  34.4761,2,-999.0000,9,   144.14,2,  -999.00,9,  -999.00,9,  -999.00,  -999.00,9,  -999.00,  -999.00,9,  -999.00, -999.000,9, -999.000, -999.000,9, -999.000,9, -999.000,9,   -999.0,9,   -999.0,9,-999.0000,-999,9,  -999.00,9,  -999.00,   -999.0,9,   -999.0,   4.2528,  27.3428
  49NZ20090410,   P21,   157,  1,      1, X12046,2,20090518,0244,-17.4995,-149.1713, 2668,   2663.9,2,   1.7939,2,   1.79358,2,  34.6625,2,  34.6624,6,   159.32,2,   159.19,2,   119.44,2,     0.38,    35.21,2,     0.13,     0.01,2,     0.01,    2.477,2,    0.016,    0.000,2,    0.000,2,    0.000,2,   -999.0,9,   -999.0,9,-999.0000,-999,9,  -999.00,9,  -999.00,   -999.0,9,   -999.0,   1.6025,  27.7318