BOTTLE,20220818CCHSIOAMB
EXPOCODE,SECT_ID,STNNBR,CASTNO,SAMPNO,BTLNBR,BTLNBR_FLAG_W,DATE,TIME,LATITUDE,LONGITUDE,DEPTH,CTDPRS,CTDPRS_FLAG_W,CTDTMP,CTDTMP_FLAG_W,SBE35,SBE35_FLAG_W,CTDSAL,CTDSAL_FLAG_W,SALNTY,SALNTY_FLAG_W,CTDOXY,CTDOXY_FLAG_W,OXYGEN,OXYGEN_FLAG_W,SILCAT,SILCAT_FLAG_W,SILUNC,NITRAT,NITRAT_FLAG_W,NRAUNC,NITRIT,NITRIT_FLAG_W,NRIUNC,PHSPHT,PHSPHT_FLAG_W,PHPUNC,CFC-11,CFC-11_FLAG_W,CFC-12,CFC-12_FLAG_W,CFC113,CFC113_FLAG_W,TCARBN,TCARBN_FLAG_W,ALKALI,ALKALI_FLAG_W,PH_TOT,PH_TMP,PH_TOT_FLAG_W,DELC13,DELC13_FLAG_W,C13ERR,DELC14,DELC14_FLAG_W,C14ERR,THETA,SIG0
,,,,,,,,,,,METERS,DBAR,,ITS-90,,ITS-90,,PSS-78,,PSS-78,,UMOL/KG,,UMOL/KG,,UMOL/KG,,UMOL/KG,UMOL/KG,,UMOL/KG,UMOL/KG,,UMOL/KG,UMOL/KG,,UMOL/KG,PMOL/KG,,PMOL/KG,,PMOL/KG,,UMOL/KG,,UMOL/KG,,,DEG C,,/MILLE,,/MILLE,/MILLE,,/MILLE,DEG C,KG/M^3
  49NZ20090410,   P21,   103,  1,     36, X12006,2,20090505,2323,-16.7533,-115.3377, 3308,      9.8,2,  26.0591,2,  26.05693,2,  36.2658,2,  36.2645,2,   205.44,2,   205.24,2,     0.72,2,     0.12,     0.53,2,     0.03,     0.02,2,     0.01,    0.347,2,    0.014,    1.553,2,    0.989,2, -999.000,5,   -999.0,9,   -999.0,9,-999.0000,-999,9,  -999.00,9,  -999.00,   -999.0,9,   -999.0,  26.0569,  23.9709
  49NZ20090410,   P21,   103,  1,     35, X12047,2,20090505,2323,-16.7533,-115.3377, 3308,     49.4,2,  25.8433,2,  25.84099,2,  36.2619,2,  36.2628,2,   205.32,2,   205.30,2,     0.69,2,     0.12,     0.55,2,     0.03,     0.02,2,     0.01,    0.354,2,    0.014,    1.563,2,    1.003,2, -999.000,5,   -999.0,9,   -999.0,9,-999.0000,-999,9,  -999.00,9,  -999.00,   -999.0,9,   -999.0,  25.8323,  24.0382
  49NZ20090410,   P21,   103,  1,     34, X12004,2,20090505,2323,-16.7533,-115.3377, 3308,     99.9,2,  22.3765,2,  22.34961,2,  36.1030,2,  36.0972,2,   201.03,2,   201.40,2,     0.60,2,     0.12,     0.49,2,     0.03,     0.37,2,     0.00,    0.477,2,    0.013,    1.856,6,    1.164,6, -999.000,5,   -999.0,9,   -999.0,9,-999.0000,-999,9,  -999.00,9,  -999.00,   -999.0,9,   -999.0,  22.3564,  24.9553
  49NZ20090410,   P21,   103,  1,     33, X12003,2,20090505,2323,-16.7533,-115.3377, 3308,    151.0,2,  20.3457,2,  20.33895,2,  35.7811,2,  35.7823,2,   196.15,2,   195.93,2,     0.58,2,     0.12,     2.88,2,     0.04,     0.22,2,     0.01,    0.522,2,    0.013,    2.042,2,    1.267,2, -999.000,5,   -999.0,9,   -999.0,9,-999.0000,-999,9,  -999.00,9,  -999.00,   -999.0,9,   -999.0,  20.3173,  25.2733
  49NZ20090410,   P21,   103,  1,     32, X12002,2,20090505,2323,-16.7533,-115.3377, 3308,    199.4,2,  19.2555,2,  19.25483,2,  35.5801,2,  35.5697,2,   197.91,2,   198.44,2,     0.57,2,     0.12,     3.33,2,     0.04,     0.03,2,     0.01,    0.520,2,    0.013,    2.160,2,    1.332,2,    0.162,2,   -999.0,9,   -999.0,9,-999.0000,-999,9,  -999.00,9,  -999.00,   -999.0,9,   -999.0,  19.2195,  25.4082
  49NZ20090410,   P21,   103,  1,     31, X12001,2,20090505,2323,-16.7533,-115.3377, 3308,    253.4,2,  16.0650,2,  16.06948,2,  35.0475,2,  35.0448,6,   191.01,2,   191.06,2,     1.14,2,     0.12,     6.32,2,     0.05,     0.01,2,     0.01,    0.656,2,    0.013,    2.474,2,    1.455,2,    0.047,2,   -999.0,9,   -999.0,9,-999.0000,-999,9,  -999.00,9,  -999.00,   -999.0,9,   -999.0,  16.0247,  25.7785
  49NZ20090410,   P21,   103,  1,     30, X12030,2,20090505,2323,-16.7533,-115.3377, 3308,    300.4,2,  12.9510,2,  12.95268,2,  34.6070,2,  34.5906,2,   149.63,2,   146.75,2,     5.32,2,     0.13,    15.17,2,     0.08,     0.01,2,     0.01,    1.383,2,    0.014,    2.521,2,    1.406,2,    0.048,2,   -999.0,9,   -999.0,9,-999.0000,-999,9,  -999.00,9,  -999.00,   -999.0,9,   -999.0,  12.9098,  26.1064
  49NZ20090410,   P21,   103,  1,     29, X12044,2,20090505,2323,-16.7533,-115.3377, 3308,    398.8,2,   9.0804,2,   9.08497,2,  34.4947,2,  34.4938,2,    71.94,2,    72.20,2,    18.17,2,     0.16,    30.38,2,     0.12,     0.01,2,     0.01,    2.421,2,    0.016,    0.933,2,    0.463,2,    0.000,2,   -999.0,9,   -999.0,9,-999.0000,-999,9,  -999.00,9,  -999.00,   -999.0,9,   -999.0,   9.0366,  26.7166
  49NZ20090410,   P21,   103,  1,     28, X12048,2,20090505,2323,-16.7533,-115.3377, 3308,    501.7,2,   6.7086,2,   6.70846,2,  34.4059,2,  34.4059,6,   122.12,2,   121.86,2,    20.87,2,     0.16,    33.61,2,     0.13,     0.00,2,     0.01,    2.381,2,    0.016,    0.586,2,    0.292,2,    0.000,2,   -999.0,9,   -999.0,9,-999.0000,-999,9,  -999.00,9,  -999.00,   -999.0,9,   -999.0,   6.6621,  26.9968
  49NZ20090410,   P21,   103,  1,     27, X12027,2,20090505,2323,-16.7533,-115.3377, 3308,    599.4,2,   5.7570,2,   5.75619,2,  34.4134,2,  34.4135,2,   117.42,2,   117.35,2,    31.38,2,     0.19,    36.24,2,     0.13,     0.01,2,     0.01,    2.528,2,    0.016,    0.125,6,    0.064,6,    0.000,6,   -999.0,9,   -999.0,9,-999.0000,-999,9,  -999.00,9,  -999.00,   -999.0,9,   -999.0,   5.7054,  27.1260
  49NZ20090410,   P21,   103,  1,     26, X12026,2,20090505,2323,-16.7533,-115.3377, 3308,    699.2,2,   5.3580,2,   5.35775,2,  34.4615,2,  34.4622,2,    95.73,2,    95.75,2,    45.19,2,     0.22,    38.74,2,     0.14,     0.01,2,     0.01,    2.722,2,    0.017,    0.017,2,    0.015,2,    0.000,2,   -999.0,9,   -999.0,9,-999.0000,-999,9,  -999.00,9,  -999.00,   -999.0,9,   -999.0,   5.2994,  27.2132
  49NZ20090410,   P21,   103,  1,     25, X12025,2,20090505,2323,-16.7533,-115.3377, 3308,    799.4,2,   5.0126,2,   5.01224,2,  34.4932,2,  34.4929,2,    83.67,2,    84.00,2,    55.88,2,     0.24,    40.29,2,     0.15,     0.01,2,     0.01,    2.847,2,    0.017,    0.006,2,    0.006,2,    0.000,2,   -999.0,9,   -999.0,9,-999.0000,-999,9,  -999.00,9,  -999.00,   -999.0,9,   -999.0,   4.9471,  27.2795
  49NZ20090410,   P21,   103,  1,     24, X12024,2,20090505,2323,-16.7533,-115.3377, 3308,    899.0,2,   4.5899,2,   4.58358,2,  34.5093,2,  34.5092,2,    83.32,2,    82.99,2,    65.61,2,     0.26,    40.80,2,     0.15,     0.01,2,     0.01,    2.889,2,    0.017,    0.001,2,    0.000,2,    0.000,2,   -999.0,9,   -999.0,9,-999.0000,-999,9,  -999.00,9,  -999.00,   -999.0,9,   -999.0,   4.5185,  27.3405
  49NZ20090410,   P21,   103,  1,     23, X12028,2,20090505,2323,-16.7533,-115.3377, 3308,   1002.8,2,   4.2216,2,   4.22401,2,  34.5263,2,  34.5250,6,    82.15,2,    82.31,2,    74.29,2,     0.28,    41.11,2,     0.15,     0.00,2,     0.01,    2.928,2,    0.017,    0.004,2,    0.000,2,    0.000,2,   -999.0,9,   -999.0,9,-999.0000,-999,9,  -999.00,9,  -999.00,   -999.0,9,   -999.0,   4.1440,  27.3943
  49NZ20090410,   P21,   103,  1,     22, X12022,2,20090505,2323,-16.7533,-115.3377, 3308,   1200.1,2,   3.6540,2,   3.65282,2,  34.5508,2,  34.5514,2,    89.36,2,    89.60,2,    87.88,2,     0.31,    40.66,2,     0.15,     0.00,2,     0.01,    2.908,2,    0.017,    0.004,2,    0.003,2,    0.000,2,   -999.0,9,   -999.0,9,-999.0000,-999,9,  -999.00,9,  -999.00,   -999.0,9,   -999.0,   3.5645,  27.4728
  49NZ20090410,   P21,   103,  1,     21, X12021,2,20090505,2323,-16.7533,-115.3377, 3308,   1399.8,2,   3.1100,2,   3.11035,2,  34.5790,2,  34.5791,2,    98.71,2,    98.95,2,   100.71,2,     0.34,    40.02,2,     0.14,     0.00,2,     0.01,    2.863,2,    0.017,    0.002,2,    0.000,2,    0.000,2,   -999.0,9,   -999.0,9,-999.0000,-999,9,  -999.00,9,  -999.00,   -999.0,9,   -999.0,   3.0093,  27.5482
  49NZ20090410,   P21,   103,  1,     20, X12020,2,20090505,2323,-16.7533,-115.3377, 3308,   1600.1,2,   2.7041,2,   2.70563,2,  34.6019,2,  34.6014,2,   111.57,2,   111.52,2,   108.21,2,     0.36,    38.95,2,     0.14,     0.01,2,     0.01,    2.775,2,    0.017,    0.000,2,    0.000,2,    0.000,2,   -999.0,9,   -999.0,9,-999.0000,-999,9,  -999.00,9,  -999.00,   -999.0,9,   -999.0,   2.5914,  27.6037
  49NZ20090410,   P21,   103,  1,     19, X12019,2,20090505,2323,-16.7533,-115.3377, 3308,   1799.8,2,   2.3177,2,   2.31734,2,  34.6222,2,  34.6227,6,   133.71,2,   133.97,2,   110.87,2,     0.36,    37.16,2,     0.14,     0.01,2,     0.01,    2.621,2,    0.017,    0.000,2,    0.000,2,    0.000,2,   -999.0,9,   -999.0,9,-999.0000,-999,9,  -999.00,9,  -999.00,   -999.0,9,   -999.0,   2.1934,  27.6535
  49NZ20090410,   P21,   103,  1,     18, X12043,2,20090505,2323,-16.7533,-115.3377, 3308,   1999.9,2,   2.0325,2,   2.03227,2,  34.6442,2,  34.6450,2,   151.03,2,   151.15,2,   112.66,2,     0.37,    35.76,2,     0.13,     0.01,2,     0.01,    2.504,2,    0.016,    0.000,2,    0.000,2,    0.000,2,   -999.0,9,   -999.0,9,-999.0000,-999,9,  -999.00,9,  -999.00,   -999.0,9,   -999.0,   1.8955,  27.6948
  49NZ20090410,   P21,   103,  1,     17, X12042,2,20090505,2323,-16.7533,-115.3377, 3308,   2198.4,2,   1.9080,2,   1.90806,2,  34.6597,2,  34.6598,2,   154.08,2,   154.10,2,   116.96,2,     0.38,    35.52,2,     0.13,     0.01,2,     0.01,    2.475,2,    0.016,    0.000,2,    0.000,2,    0.000,2,   -999.0,9,   -999.0,9,-999.0000,-999,9,  -999.00,9,  -999.00,   -999.0,9,   -999.0,   1.7561,  27.7180
  49NZ20090410,   P21,   103,  1,     16, X12016,2,20090505,2323,-16.7533,-115.3377, 3308,   2399.9,2,   1.8587,2,   1.85856,2,  34.6685,2,  34.6688,2,   154.26,2,   154.26,2,   120.60,2,     0.38,    35.38,2,     0.13,     0.01,2,     0.01,    2.467,2,    0.016,    0.001,2,    0.000,2,    0.000,2,   -999.0,9,   -999.0,9,-999.0000,-999,9,  -999.00,9,  -999.00,   -999.0,9,   -999.0,   1.6899,  27.7301
  49NZ20090410,   P21,   103,  1,     15, X12015,2,20090505,2323,-16.7533,-115.3377, 3308,   2599.7,2,   1.8299,2,   1.82982,2,  34.6724,2,  34.6732,6,   155.31,2,   155.37,2,   122.26,2,     0.39,    35.37,2,     0.13,     0.01,2,     0.01,    2.472,2,    0.016,    0.001,2,    0.001,2,    0.000,2,   -999.0,9,   -999.0,9,-999.0000,-999,9,  -999.00,9,  -999.00,   -999.0,9,   -999.0,   1.6437,  27.7367
  49NZ20090410,   P21,   103,  1,     14, X12050,2,20090505,2323,-16.7533,-115.3377, 3308,   2801.5,2,   1.8019,2,   1.80196,2,  34.6739,2,  34.6739,2,   157.44,2,   157.50,2,   122.67,2,     0.39,    35.29,2,     0.13,     0.00,2,     0.01,    2.472,2,    0.016,    0.000,2,    0.000,2,    0.000,2,   -999.0,9,   -999.0,9,-999.0000,-999,9,  -999.00,9,  -999.00,   -999.0,9,   -999.0,   1.5975,  27.7413
  49NZ20090410,   P21,   103,  1,     13, X12013,7,20090505,2323,-16.7533,-115.3377, 3308,   3001.2,2,   1.7780,2,   1.77806,2,  34.6748,2,  34.6751,2,   159.33,2,   159.46,2,   122.71,2,     0.39,    35.26,2,     0.13,     0.01,2,     0.01,    2.465,2,    0.016,    0.000,2,    0.000,2,    0.000,2,   -999.0,9,   -999.0,9,-999.0000,-999,9,  -999.00,9,  -999.00,   -999.0,9,   -999.0,   1.5550,  27.7452
  49NZ20090410,   P21,   103,  1,     12, X12012,2,20090505,2323,-16.7533,-115.3377, 3308,   3250.3,2,   1.7665,2,   1.76640,2,  34.6762,2,  34.6764,2,   160.13,2,   160.28,2,   123.86,2,     0.39,    35.28,2,     0.13,     0.01,2,     0.01,    2.462,2,    0.016,    0.000,2,    0.000,2,    0.000,2,   -999.0,9,   -999.0,9,-999.0000,-999,9,  -999.00,9,  -999.00,   -999.0,9,   -999.0,   1.5192,  27.7489
  49NZ20090410,   P21,   103,  1,     11, X12041,9,20090505,2323,-16.7533,-115.3377, 3308,      9.8,2,  26.0363,2,  26.03457,2,  36.2652,2,-999.0000,9,   205.45,2,  -999.00,9,  -999.00,9,  -999.00,  -999.00,9,  -999.00,  -999.00,9,  -999.00, -999.000,9, -999.000, -999.000,9, -999.000,9, -999.000,9,   -999.0,9,   -999.0,9,-999.0000,-999,9,  -999.00,9,  -999.00,   -999.0,9,   -999.0,  26.0341,  23.9775
  49NZ20090410,   P21,   103,  1,     10, X12040,9,20090505,2323,-16.7533,-115.3377, 3308,   1199.2,2,   3.6521,2,   3.65307,2,  34.5512,2,-999.0000,9,    89.39,2,  -999.00,9,  -999.00,9,  -999.00,  -999.00,9,  -999.00,  -999.00,9,  -999.00, -999.000,9, -999.000, -999.000,9, -999.000,9, -999.000,9,   -999.0,9,   -999.0,9,-999.0000,-999,9,  -999.00,9,  -999.00,   -999.0,9,   -999.0,   3.5627,  27.4734
  49NZ20090410,   P21,   103,  1,      9, X12009,9,20090505,2323,-16.7533,-115.3377, 3308,   1799.5,2,   2.3176,2,   2.31783,2,  34.6224,2,-999.0000,9,   133.71,2,  -999.00,9,  -999.00,9,  -999.00,  -999.00,9,  -999.00,  -999.00,9,  -999.00, -999.000,9, -999.000, -999.000,9, -999.000,9, -999.000,9,   -999.0,9,   -999.0,9,-999.0000,-999,9,  -999.00,9,  -999.00,   -999.0,9,   -999.0,   2.1933,  27.6536
  49NZ20090410,   P21,   103,  1,      8, X12008,9,20090505,2323,-16.7533,-115.3377, 3308,   1999.7,2,   2.0331,2,   2.03315,2,  34.6442,2,-999.0000,9,   151.08,2,  -999.00,9,  -999.00,9,  -999.00,  -999.00,9,  -999.00,  -999.00,9,  -999.00, -999.000,9, -999.000, -999.000,9, -999.000,9, -999.000,9,   -999.0,9,   -999.0,9,-999.0000,-999,9,  -999.00,9,  -999.00,   -999.0,9,   -999.0,   1.8961,  27.6948
  49NZ20090410,   P21,   103,  1,      7, X12007,9,20090505,2323,-16.7533,-115.3377, 3308,   2199.4,2,   1.9089,2,   1.90901,2,  34.6597,2,-999.0000,9,   154.08,2,  -999.00,9,  -999.00,9,  -999.00,  -999.00,9,  -999.00,  -999.00,9,  -999.00, -999.000,9, -999.000, -999.000,9, -999.000,9, -999.000,9,   -999.0,9,   -999.0,9,-999.0000,-999,9,  -999.00,9,  -999.00,   -999.0,9,   -999.0,   1.7569,  27.7179
  49NZ20090410,   P21,   103,  1,      6, X12035,9,20090505,2323,-16.7533,-115.3377, 3308,   2401.2,2,   1.8585,2,   1.85837,2,  34.6686,2,-999.0000,9,   154.31,2,  -999.00,9,  -999.00,9,  -999.00,  -999.00,9,  -999.00,  -999.00,9,  -999.00, -999.000,9, -999.000, -999.000,9, -999.000,9, -999.000,9,   -999.0,9,   -999.0,9,-999.0000,-999,9,  -999.00,9,  -999.00,   -999.0,9,   -999.0,   1.6896,  27.7301
  49NZ20090410,   P21,   103,  1,      5, X12038,9,20090505,2323,-16.7533,-115.3377, 3308,   2599.5,2,   1.8299,2,   1.82982,2,  34.6725,2,-999.0000,9,   155.33,2,  -999.00,9,  -999.00,9,  -999.00,  -999.00,9,  -999.00,  -999.00,9,  -999.00, -999.000,9, -999.000, -999.000,9, -999.000,9, -999.000,9,   -999.0,9,   -999.0,9,-999.0000,-999,9,  -999.00,9,  -999.00,   -999.0,9,   -999.0,   1.6437,  27.7367
  49NZ20090410,   P21,   103,  1,      4, X12034,9,20090505,2323,-16.7533,-115.3377, 3308,   2800.6,2,   1.8019,2,   1.80192,2,  34.6740,2,-999.0000,9,   157.47,2,  -999.00,9,  -999.00,9,  -999.00,  -999.00,9,  -999.00,  -999.00,9,  -999.00, -999.000,9, -999.000, -999.000,9, -999.000,9, -999.000,9,   -999.0,9,   -999.0,9,-999.0000,-999,9,  -999.00,9,  -999.00,   -999.0,9,   -999.0,   1.5975,  27.7413
  49NZ20090410,   P21,   103,  1,      3, X12033,9,20090505,2323,-16.7533,-115.3377, 3308,   3001.1,2,   1.7780,2,   1.77795,2,  34.6748,2,-999.0000,9,   159.33,2,  -999.00,9,  -999.00,9,  -999.00,  -999.00,9,  -999.00,  -999.00,9,  -999.00, -999.000,9, -999.000, -999.000,9, -999.000,9, -999.000,9,   -999.0,9,   -999.0,9,-999.0000,-999,9,  -999.00,9,  -999.00,   -999.0,9,   -999.0,   1.5550,  27.7452
  49NZ20090410,   P21,   103,  1,      2, X12032,9,20090505,2323,-16.7533,-115.3377, 3308,    899.6,2,   4.5934,2,   4.59264,2,  34.5092,2,-999.0000,9,    83.10,2,  -999.00,9,  -999.00,9,  -999.00,  -999.00,9,  -999.00,  -999.00,9,  -999.00, -999.000,9, -999.000, -999.000,9, -999.000,9, -999.000,9,   -999.0,9,   -999.0,9,-999.0000,-999,9,  -999.00,9,  -999.00,   -999.0,9,   -999.0,   4.5219,  27.3400
  49NZ20090410,   P21,   103,  1,      1, X12046,2,20090505,2323,-16.7533,-115.3377, 3308,   3379.4,2,   1.7792,2,   1.77923,2,  34.6764,2,  34.6765,6,   160.18,2,   160.23,2,   123.88,2,     0.39,    35.22,2,     0.13,     0.01,2,     0.01,    2.468,2,    0.016,    0.001,2,    0.000,2,    0.000,2,   -999.0,9,   -999.0,9,-999.0000,-999,9,  -999.00,9,  -999.00,   -999.0,9,   -999.0,   1.5185,  27.7491