BOTTLE,20220818CCHSIOAMB
EXPOCODE,SECT_ID,STNNBR,CASTNO,SAMPNO,BTLNBR,BTLNBR_FLAG_W,DATE,TIME,LATITUDE,LONGITUDE,DEPTH,CTDPRS,CTDPRS_FLAG_W,CTDTMP,CTDTMP_FLAG_W,SBE35,SBE35_FLAG_W,CTDSAL,CTDSAL_FLAG_W,SALNTY,SALNTY_FLAG_W,CTDOXY,CTDOXY_FLAG_W,OXYGEN,OXYGEN_FLAG_W,SILCAT,SILCAT_FLAG_W,SILUNC,NITRAT,NITRAT_FLAG_W,NRAUNC,NITRIT,NITRIT_FLAG_W,NRIUNC,PHSPHT,PHSPHT_FLAG_W,PHPUNC,CFC-11,CFC-11_FLAG_W,CFC-12,CFC-12_FLAG_W,CFC113,CFC113_FLAG_W,TCARBN,TCARBN_FLAG_W,ALKALI,ALKALI_FLAG_W,PH_TOT,PH_TMP,PH_TOT_FLAG_W,DELC13,DELC13_FLAG_W,C13ERR,DELC14,DELC14_FLAG_W,C14ERR,THETA,SIG0
,,,,,,,,,,,METERS,DBAR,,ITS-90,,ITS-90,,PSS-78,,PSS-78,,UMOL/KG,,UMOL/KG,,UMOL/KG,,UMOL/KG,UMOL/KG,,UMOL/KG,UMOL/KG,,UMOL/KG,UMOL/KG,,UMOL/KG,PMOL/KG,,PMOL/KG,,PMOL/KG,,UMOL/KG,,UMOL/KG,,,DEG C,,/MILLE,,/MILLE,/MILLE,,/MILLE,DEG C,KG/M^3
  49NZ20090410,   P21,   102,  1,     36, X12006,2,20090505,1807,-16.7542,-114.6685, 3258,      9.7,2,  25.9527,2,  25.95341,2,  36.1791,2,  36.1806,2,   205.23,2,   205.22,2,     0.71,2,     0.12,     0.85,2,     0.04,     0.03,2,     0.01,    0.369,2,    0.014,    1.558,2,    1.006,2,    0.158,4,   2042.8,2,   2390.0,2,   8.0979,  25,6,  -999.00,9,  -999.00,   -999.0,9,   -999.0,  25.9505,  23.9387
  49NZ20090410,   P21,   102,  1,     35, X12047,2,20090505,1807,-16.7542,-114.6685, 3258,     49.5,2,  25.9327,2,  25.93203,2,  36.2317,2,  36.2325,2,   205.01,2,   205.22,2,     0.69,2,     0.12,     0.85,2,     0.04,     0.03,2,     0.01,    0.373,2,    0.014,    1.561,2,    1.011,2,    0.157,4,   2045.6,6,   2392.3,2,   8.0974,  25,2,  -999.00,9,  -999.00,   -999.0,9,   -999.0,  25.9216,  23.9875
  49NZ20090410,   P21,   102,  1,     34, X12004,2,20090505,1807,-16.7542,-114.6685, 3258,     99.7,2,  23.3938,2,  23.39401,2,  36.2847,2,  36.2843,2,   212.18,2,   212.31,2,     0.57,2,     0.12,     0.17,2,     0.03,     0.03,2,     0.01,    0.338,2,    0.014,    1.814,6,    1.150,6, -999.000,5,   2080.7,2,   2394.4,6,   8.0454,  25,2,  -999.00,9,  -999.00,   -999.0,9,   -999.0,  23.3731,  24.7996
  49NZ20090410,   P21,   102,  1,     33, X12003,2,20090505,1807,-16.7542,-114.6685, 3258,    149.9,2,  21.7699,2,  21.77288,2,  36.1350,2,  36.1267,2,   202.15,2,   202.35,2,     0.47,2,     0.12,     0.46,2,     0.03,     0.81,2,     0.00,    0.341,2,    0.014,    1.935,2,    1.224,2, -999.000,5,   2088.8,2,   2379.7,2,   8.0109,  25,6,  -999.00,9,  -999.00,   -999.0,9,   -999.0,  21.7403,  25.1534
  49NZ20090410,   P21,   102,  1,     32, X12002,2,20090505,1807,-16.7542,-114.6685, 3258,    199.7,2,  19.6006,2,  19.60707,2,  35.6749,2,  35.6644,2,   198.74,2,   199.48,2,     0.51,2,     0.12,     2.61,2,     0.04,     0.04,2,     0.01,    0.451,2,    0.013,    2.159,2,    1.348,2,    0.149,2,   2091.9,2,   2351.6,2,   7.9645,  25,2,  -999.00,9,  -999.00,   -999.0,9,   -999.0,  19.5640,  25.3913
  49NZ20090410,   P21,   102,  1,     31, X12001,2,20090505,1807,-16.7542,-114.6685, 3258,    249.4,2,  16.8001,2,  16.92833,2,  35.1566,2,  35.1471,6,   187.54,2,   187.87,2,     1.25,2,     0.12,     6.38,2,     0.05,     0.02,2,     0.01,    0.690,2,    0.013,    2.449,2,    1.464,2,    0.068,2,   2098.5,2,   2316.3,2,   7.8986,  25,2,  -999.00,9,  -999.00,   -999.0,9,   -999.0,  16.7592,  25.6915
  49NZ20090410,   P21,   102,  1,     30, X12030,2,20090505,1807,-16.7542,-114.6685, 3258,    278.9,2,  13.4041,2,  13.38258,2,  34.6700,2,  34.6908,2,   159.36,2,   161.99,2,     3.63,2,     0.13,    12.62,2,     0.07,     0.02,2,     0.01,    1.159,2,    0.013,    2.596,2,    1.480,2,    0.069,2,   2127.8,2,   2289.8,2,   7.7865,  25,2,  -999.00,9,  -999.00,   -999.0,9,   -999.0,  13.3650,  26.0635
  49NZ20090410,   P21,   102,  1,     29, X12044,2,20090505,1807,-16.7542,-114.6685, 3258,    369.1,2,   9.7582,2,   9.75863,2,  34.4943,2,  34.4936,2,    82.54,2,    84.60,2,    15.18,2,     0.15,    26.67,2,     0.11,     0.01,2,     0.01,    2.236,2,    0.016,    1.411,2,    0.711,2,    0.020,2,   2217.4,2,   2280.8,2,   7.5301,  25,2,  -999.00,9,  -999.00,   -999.0,9,   -999.0,   9.7159,  26.6050
  49NZ20090410,   P21,   102,  1,     28, X12048,2,20090505,1807,-16.7542,-114.6685, 3258,    470.2,2,   7.4328,2,   7.43075,2,  34.4393,2,  34.4359,6,   100.06,2,   101.09,2,    20.26,2,     0.16,    33.55,2,     0.13,     0.01,2,     0.01,    2.428,2,    0.016,    0.675,2,    0.325,2,    0.025,2,   2229.4,2,   2284.8,2,   7.5085,  25,2,  -999.00,9,  -999.00,   -999.0,9,   -999.0,   7.3868,  26.9228
  49NZ20090410,   P21,   102,  1,     27, X12027,2,20090505,1807,-16.7542,-114.6685, 3258,    569.9,2,   6.0387,2,   6.03839,2,  34.4168,2,  34.4177,2,   115.30,2,   117.32,2,    28.58,2,     0.18,    35.59,2,     0.13,     0.01,2,     0.01,    2.491,2,    0.016,    0.192,6,    0.099,6,    0.018,6,   2231.1,2,   2293.5,2,   7.5283,  25,2,  -999.00,9,  -999.00,   -999.0,9,   -999.0,   5.9885,  27.0933
  49NZ20090410,   P21,   102,  1,     26, X12026,2,20090505,1807,-16.7542,-114.6685, 3258,    670.1,2,   5.6133,2,   5.61337,2,  34.4672,2,  34.4673,2,    92.95,2,    92.59,2,    42.24,2,     0.21,    38.63,2,     0.14,     0.01,2,     0.01,    2.697,2,    0.017,    0.022,2,    0.012,2,    0.005,2,   2257.6,6,   2308.9,2,   7.4920,  25,2,  -999.00,9,  -999.00,   -999.0,9,   -999.0,   5.5560,  27.1869
  49NZ20090410,   P21,   102,  1,     25, X12025,2,20090505,1807,-16.7542,-114.6685, 3258,    769.6,2,   5.1636,2,   5.16379,2,  34.4840,2,  34.4842,2,    87.29,2,    87.04,2,    51.92,2,     0.23,    39.88,2,     0.14,     0.01,2,     0.01,    2.801,2,    0.017,    0.007,2,    0.004,2,    0.000,2,   2271.6,2,   2318.4,6,   7.4788,  25,2,  -999.00,9,  -999.00,   -999.0,9,   -999.0,   5.0998,  27.2546
  49NZ20090410,   P21,   102,  1,     24, X12024,2,20090505,1807,-16.7542,-114.6685, 3258,    872.4,2,   4.7746,2,   4.77460,2,  34.5087,2,  34.5082,2,    76.15,2,    76.04,2,    62.86,2,     0.26,    41.30,2,     0.15,     0.01,2,     0.01,    2.918,2,    0.017,    0.003,2,    0.003,2,    0.000,2,   2289.8,2,   2330.9,2,   7.4578,  25,6,  -999.00,9,  -999.00,   -999.0,9,   -999.0,   4.7042,  27.3194
  49NZ20090410,   P21,   102,  1,     23, X12028,2,20090505,1807,-16.7542,-114.6685, 3258,    968.7,2,   4.3579,2,   4.35786,2,  34.5200,2,  34.5195,6,    81.57,2,    81.49,2,    71.38,2,     0.28,    41.15,2,     0.15,     0.01,2,     0.01,    2.922,2,    0.017,    0.001,2,    0.002,2,    0.000,2,   2297.1,2,   2340.6,2,   7.4657,  25,2,  -999.00,9,  -999.00,   -999.0,9,   -999.0,   4.2821,  27.3746
  49NZ20090410,   P21,   102,  1,     22, X12022,2,20090505,1807,-16.7542,-114.6685, 3258,   1130.2,2,   3.8070,2,   3.80704,2,  34.5439,2,  34.5440,2,    86.74,2,    86.75,2,    84.20,2,     0.30,    40.96,2,     0.15,     0.01,2,     0.01,    2.919,2,    0.017,    0.004,2,    0.002,2,    0.000,2,   2308.7,2,   2354.5,2,   7.4720,  25,2,  -999.00,9,  -999.00,   -999.0,9,   -999.0,   3.7220,  27.4517
  49NZ20090410,   P21,   102,  1,     21, X12021,2,20090505,1807,-16.7542,-114.6685, 3258,   1330.3,2,   3.2582,2,   3.25820,2,  34.5708,2,  34.5702,2,    95.98,2,    95.66,2,    96.58,2,     0.33,    40.23,2,     0.15,     0.01,2,     0.01,    2.878,2,    0.017,    0.000,2,    0.002,2,    0.000,2,   2317.0,2,   2368.5,2,   7.4879,  25,2,  -999.00,9,  -999.00,   -999.0,9,   -999.0,   3.1617,  27.5275
  49NZ20090410,   P21,   102,  1,     20, X12020,2,20090505,1807,-16.7542,-114.6685, 3258,   1528.9,2,   2.8125,2,   2.81325,2,  34.5975,2,  34.5969,2,   105.91,2,   105.79,2,   107.36,2,     0.36,    39.35,2,     0.14,     0.01,2,     0.01,    2.812,2,    0.017,    0.000,2,    0.000,2,    0.000,2,   2322.7,2,   2380.9,2,   7.5059,  25,6,  -999.00,9,  -999.00,   -999.0,9,   -999.0,   2.7044,  27.5904
  49NZ20090410,   P21,   102,  1,     19, X12019,2,20090505,1807,-16.7542,-114.6685, 3258,   1729.1,2,   2.5013,2,   2.50136,2,  34.6137,2,  34.6135,6,   120.26,2,   120.44,2,   111.17,2,     0.36,    38.29,2,     0.14,     0.01,2,     0.01,    2.710,2,    0.017,    0.000,2,    0.000,2,    0.000,2,   2319.2,2,   2385.6,2,   7.5307,  25,2,  -999.00,9,  -999.00,   -999.0,9,   -999.0,   2.3804,  27.6312
  49NZ20090410,   P21,   102,  1,     18, X12043,2,20090505,1807,-16.7542,-114.6685, 3258,   1929.7,2,   2.1442,2,   2.14419,2,  34.6347,2,  34.6341,2,   144.49,2,   144.63,2,   111.56,2,     0.36,    36.33,2,     0.13,     0.01,2,     0.01,    2.549,2,    0.016,    0.000,2,    0.000,2,    0.000,2,   2304.9,2,   2386.8,2,   7.5686,  25,2,  -999.00,9,  -999.00,   -999.0,9,   -999.0,   2.0115,  27.6781
  49NZ20090410,   P21,   102,  1,     17, X12042,2,20090505,1807,-16.7542,-114.6685, 3258,   2129.7,2,   1.9515,2,   1.95128,2,  34.6533,2,  34.6541,2,   153.69,2,   153.74,2,   114.58,2,     0.37,    35.53,2,     0.13,     0.01,2,     0.01,    2.485,2,    0.016,    0.000,2,    0.000,2,    0.000,2,   2301.9,2,   2390.6,2,   7.5849,  25,2,  -999.00,9,  -999.00,   -999.0,9,   -999.0,   1.8048,  27.7091
  49NZ20090410,   P21,   102,  1,     16, X12016,2,20090505,1807,-16.7542,-114.6685, 3258,   2330.2,2,   1.8677,2,   1.86768,2,  34.6669,2,  34.6667,2,   154.45,2,   154.41,2,   119.30,2,     0.38,    35.32,2,     0.13,     0.01,2,     0.01,    2.458,2,    0.016,    0.000,2,    0.000,2,    0.000,2,   2307.6,6,   2397.6,2,   7.5904,  25,2,  -999.00,9,  -999.00,   -999.0,9,   -999.0,   1.7050,  27.7276
  49NZ20090410,   P21,   102,  1,     15, X12015,2,20090505,1807,-16.7542,-114.6685, 3258,   2531.3,2,   1.8460,2,   1.84589,2,  34.6721,2,  34.6722,6,   154.30,2,   154.27,2,   121.77,2,     0.39,    35.34,2,     0.13,     0.01,2,     0.01,    2.464,2,    0.016,    0.001,2,    0.000,2,    0.000,2,   2310.5,2,   2401.6,6,   7.5941,  25,2,  -999.00,9,  -999.00,   -999.0,9,   -999.0,   1.6657,  27.7348
  49NZ20090410,   P21,   102,  1,     14, X12050,2,20090505,1807,-16.7542,-114.6685, 3258,   2730.9,2,   1.8350,2,   1.83495,2,  34.6739,2,  34.6739,2,   155.12,2,   155.17,2,   122.49,2,     0.39,    35.37,2,     0.13,     0.01,2,     0.01,    2.473,2,    0.016,    0.000,2,    0.000,2,    0.000,2,   2310.3,2,   2403.4,2,   7.5960,  25,2,  -999.00,9,  -999.00,   -999.0,9,   -999.0,   1.6365,  27.7384
  49NZ20090410,   P21,   102,  1,     13, X12013,7,20090505,1807,-16.7542,-114.6685, 3258,   2930.8,2,   1.8071,2,   1.80708,2,  34.6745,2,  34.6757,3,   157.72,2,   157.74,2,   122.55,2,     0.39,    35.28,2,     0.13,     0.01,2,     0.01,    2.467,2,    0.016,    0.000,2,    0.000,2,    0.000,2,   2309.2,2,   2402.8,2,   7.6002,  25,2,  -999.00,9,  -999.00,   -999.0,9,   -999.0,   1.5902,  27.7423
  49NZ20090410,   P21,   102,  1,     12, X12012,2,20090505,1807,-16.7542,-114.6685, 3258,   3169.5,2,   1.7935,2,   1.79346,2,  34.6750,2,  34.6750,2,   159.26,2,   159.26,2,   122.96,2,     0.39,    35.19,2,     0.13,     0.01,2,     0.01,    2.465,2,    0.016,    0.000,2,    0.001,2,    0.000,2,   2309.2,2,   2402.2,2,   7.6008,  25,2,  -999.00,9,  -999.00,   -999.0,9,   -999.0,   1.5536,  27.7454
  49NZ20090410,   P21,   102,  1,     11, X12041,9,20090505,1807,-16.7542,-114.6685, 3258,      9.3,2,  25.9710,2,  25.97081,2,  36.1753,2,-999.0000,9,   205.16,2,  -999.00,9,  -999.00,9,  -999.00,  -999.00,9,  -999.00,  -999.00,9,  -999.00, -999.000,9, -999.000, -999.000,9, -999.000,9, -999.000,9,   -999.0,9,   -999.0,9,-999.0000,-999,9,  -999.00,9,  -999.00,   -999.0,9,   -999.0,  25.9689,  23.9301
  49NZ20090410,   P21,   102,  1,     10, X12040,9,20090505,1807,-16.7542,-114.6685, 3258,   1929.4,2,   2.1450,2,   2.14483,2,  34.6347,2,-999.0000,9,   144.45,2,  -999.00,9,  -999.00,9,  -999.00,  -999.00,9,  -999.00,  -999.00,9,  -999.00, -999.000,9, -999.000, -999.000,9, -999.000,9, -999.000,9,   -999.0,9,   -999.0,9,-999.0000,-999,9,  -999.00,9,  -999.00,   -999.0,9,   -999.0,   2.0123,  27.6780
  49NZ20090410,   P21,   102,  1,      9, X12009,9,20090505,1807,-16.7542,-114.6685, 3258,   2130.1,2,   1.9515,2,   1.95147,2,  34.6534,2,-999.0000,9,   153.67,2,  -999.00,9,  -999.00,9,  -999.00,  -999.00,9,  -999.00,  -999.00,9,  -999.00, -999.000,9, -999.000, -999.000,9, -999.000,9, -999.000,9,   -999.0,9,   -999.0,9,-999.0000,-999,9,  -999.00,9,  -999.00,   -999.0,9,   -999.0,   1.8047,  27.7093
  49NZ20090410,   P21,   102,  1,      8, X12008,9,20090505,1807,-16.7542,-114.6685, 3258,   2330.3,2,   1.8677,2,   1.86768,2,  34.6669,2,-999.0000,9,   154.43,2,  -999.00,9,  -999.00,9,  -999.00,  -999.00,9,  -999.00,  -999.00,9,  -999.00, -999.000,9, -999.000, -999.000,9, -999.000,9, -999.000,9,   -999.0,9,   -999.0,9,-999.0000,-999,9,  -999.00,9,  -999.00,   -999.0,9,   -999.0,   1.7049,  27.7277
  49NZ20090410,   P21,   102,  1,      7, X12007,9,20090505,1807,-16.7542,-114.6685, 3258,   3169.6,2,   1.7935,2,   1.79347,2,  34.6751,2,-999.0000,9,   159.22,2,  -999.00,9,  -999.00,9,  -999.00,  -999.00,9,  -999.00,  -999.00,9,  -999.00, -999.000,9, -999.000, -999.000,9, -999.000,9, -999.000,9,   -999.0,9,   -999.0,9,-999.0000,-999,9,  -999.00,9,  -999.00,   -999.0,9,   -999.0,   1.5536,  27.7455
  49NZ20090410,   P21,   102,  1,      6, X12035,9,20090505,1807,-16.7542,-114.6685, 3258,   3288.1,2,   1.8024,2,   1.80233,2,  34.6751,2,-999.0000,9,   159.41,2,  -999.00,9,  -999.00,9,  -999.00,  -999.00,9,  -999.00,  -999.00,9,  -999.00, -999.000,9, -999.000, -999.000,9, -999.000,9, -999.000,9,   -999.0,9,   -999.0,9,-999.0000,-999,9,  -999.00,9,  -999.00,   -999.0,9,   -999.0,   1.5504,  27.7457
  49NZ20090410,   P21,   102,  1,      5, X12038,9,20090505,1807,-16.7542,-114.6685, 3258,   2531.6,2,   1.8458,2,   1.84576,2,  34.6722,2,-999.0000,9,   154.26,2,  -999.00,9,  -999.00,9,  -999.00,  -999.00,9,  -999.00,  -999.00,9,  -999.00, -999.000,9, -999.000, -999.000,9, -999.000,9, -999.000,9,   -999.0,9,   -999.0,9,-999.0000,-999,9,  -999.00,9,  -999.00,   -999.0,9,   -999.0,   1.6655,  27.7348
  49NZ20090410,   P21,   102,  1,      4, X12034,9,20090505,1807,-16.7542,-114.6685, 3258,   2731.1,2,   1.8349,2,   1.83493,2,  34.6739,2,-999.0000,9,   155.08,2,  -999.00,9,  -999.00,9,  -999.00,  -999.00,9,  -999.00,  -999.00,9,  -999.00, -999.000,9, -999.000, -999.000,9, -999.000,9, -999.000,9,   -999.0,9,   -999.0,9,-999.0000,-999,9,  -999.00,9,  -999.00,   -999.0,9,   -999.0,   1.6364,  27.7384
  49NZ20090410,   P21,   102,  1,      3, X12033,9,20090505,1807,-16.7542,-114.6685, 3258,   2931.0,2,   1.8071,2,   1.80710,2,  34.6744,2,-999.0000,9,   157.70,2,  -999.00,9,  -999.00,9,  -999.00,  -999.00,9,  -999.00,  -999.00,9,  -999.00, -999.000,9, -999.000, -999.000,9, -999.000,9, -999.000,9,   -999.0,9,   -999.0,9,-999.0000,-999,9,  -999.00,9,  -999.00,   -999.0,9,   -999.0,   1.5902,  27.7423
  49NZ20090410,   P21,   102,  1,      2, X12032,9,20090505,1807,-16.7542,-114.6685, 3258,    872.4,2,   4.7748,2,   4.77502,2,  34.5088,2,-999.0000,9,    76.17,2,  -999.00,9,  -999.00,9,  -999.00,  -999.00,9,  -999.00,  -999.00,9,  -999.00, -999.000,9, -999.000, -999.000,9, -999.000,9, -999.000,9,   -999.0,9,   -999.0,9,-999.0000,-999,9,  -999.00,9,  -999.00,   -999.0,9,   -999.0,   4.7044,  27.3194
  49NZ20090410,   P21,   102,  1,      1, X12046,2,20090505,1807,-16.7542,-114.6685, 3258,   3287.2,2,   1.8026,2,   1.80250,2,  34.6751,2,  34.6752,6,   159.45,2,   159.43,2,   123.07,2,     0.39,    35.23,2,     0.13,     0.01,2,     0.01,    2.463,2,    0.016,    0.000,2,    0.001,2,    0.000,2,   2308.2,2,   2403.6,2,   7.6020,  25,2,  -999.00,9,  -999.00,   -999.0,9,   -999.0,   1.5507,  27.7457