BOTTLE,20220818CCHSIOAMB
EXPOCODE,SECT_ID,STNNBR,CASTNO,SAMPNO,BTLNBR,BTLNBR_FLAG_W,DATE,TIME,LATITUDE,LONGITUDE,DEPTH,CTDPRS,CTDPRS_FLAG_W,CTDTMP,CTDTMP_FLAG_W,SBE35,SBE35_FLAG_W,CTDSAL,CTDSAL_FLAG_W,SALNTY,SALNTY_FLAG_W,CTDOXY,CTDOXY_FLAG_W,OXYGEN,OXYGEN_FLAG_W,SILCAT,SILCAT_FLAG_W,SILUNC,NITRAT,NITRAT_FLAG_W,NRAUNC,NITRIT,NITRIT_FLAG_W,NRIUNC,PHSPHT,PHSPHT_FLAG_W,PHPUNC,CFC-11,CFC-11_FLAG_W,CFC-12,CFC-12_FLAG_W,CFC113,CFC113_FLAG_W,TCARBN,TCARBN_FLAG_W,ALKALI,ALKALI_FLAG_W,PH_TOT,PH_TMP,PH_TOT_FLAG_W,DELC13,DELC13_FLAG_W,C13ERR,DELC14,DELC14_FLAG_W,C14ERR,THETA,SIG0
,,,,,,,,,,,METERS,DBAR,,ITS-90,,ITS-90,,PSS-78,,PSS-78,,UMOL/KG,,UMOL/KG,,UMOL/KG,,UMOL/KG,UMOL/KG,,UMOL/KG,UMOL/KG,,UMOL/KG,UMOL/KG,,UMOL/KG,PMOL/KG,,PMOL/KG,,PMOL/KG,,UMOL/KG,,UMOL/KG,,,DEG C,,/MILLE,,/MILLE,/MILLE,,/MILLE,DEG C,KG/M^3
  49NZ20090410,   P21,   124,  1,     36, X12006,2,20090510,1443,-16.7507,-129.3335, 4068,     10.7,2,  27.3325,2,  27.33235,2,  36.3496,2,  36.3488,2,   200.30,2,   199.76,2,     0.61,2,     0.12,     0.93,2,     0.04,     0.03,2,     0.01,    0.335,2,    0.014,    1.489,2,    0.963,2,    0.138,2,   -999.0,9,   -999.0,9,-999.0000,-999,9,  -999.00,9,  -999.00,   -999.0,9,   -999.0,  27.3300,  23.6284
  49NZ20090410,   P21,   124,  1,     35, X12047,2,20090510,1443,-16.7507,-129.3335, 4068,     49.1,2,  27.3488,2,  27.34836,2,  36.3511,2,  36.3520,2,   199.87,2,   199.67,2,     0.59,2,     0.12,     0.93,2,     0.04,     0.03,2,     0.01,    0.332,2,    0.014,    1.493,2,    0.968,2,    0.151,4,   -999.0,9,   -999.0,9,-999.0000,-999,9,  -999.00,9,  -999.00,   -999.0,9,   -999.0,  27.3374,  23.6271
  49NZ20090410,   P21,   124,  1,     34, X12004,2,20090510,1443,-16.7507,-129.3335, 4068,    100.2,2,  24.8652,2,  24.86505,2,  36.4708,2,  36.4710,2,   203.82,2,   203.37,2,     0.68,2,     0.12,     0.18,2,     0.03,     0.03,2,     0.01,    0.289,2,    0.014,    1.704,6,    1.085,6, -999.000,5,   -999.0,9,   -999.0,9,-999.0000,-999,9,  -999.00,9,  -999.00,   -999.0,9,   -999.0,  24.8434,  24.5011
  49NZ20090410,   P21,   124,  1,     33, X12003,2,20090510,1443,-16.7507,-129.3335, 4068,    149.4,2,  23.5185,2,  23.52277,2,  36.3811,2,  36.3843,2,   197.99,2,   197.23,2,     0.53,2,     0.12,     0.10,2,     0.03,     0.54,2,     0.00,    0.292,2,    0.014,    1.776,2,    1.119,2, -999.000,5,   -999.0,9,   -999.0,9,-999.0000,-999,9,  -999.00,9,  -999.00,   -999.0,9,   -999.0,  23.4873,  24.8392
  49NZ20090410,   P21,   124,  1,     32, X12002,2,20090510,1443,-16.7507,-129.3335, 4068,    199.6,2,  21.8518,2,  21.85359,2,  36.1134,2,  36.1161,2,   188.62,2,   188.02,2,     0.58,2,     0.12,     2.26,2,     0.04,     0.14,2,     0.01,    0.437,2,    0.013,    1.933,2,    1.194,2,    0.187,4,   -999.0,9,   -999.0,9,-999.0000,-999,9,  -999.00,9,  -999.00,   -999.0,9,   -999.0,  21.8123,  25.1168
  49NZ20090410,   P21,   124,  1,     31, X12001,2,20090510,1443,-16.7507,-129.3335, 4068,    248.6,2,  19.6163,2,  19.60859,2,  35.6716,2,  35.6739,6,   189.96,2,   189.62,2,     0.60,2,     0.12,     2.83,2,     0.04,     0.02,2,     0.01,    0.424,2,    0.013,    2.166,2,    1.309,2,    0.058,2,   -999.0,9,   -999.0,9,-999.0000,-999,9,  -999.00,9,  -999.00,   -999.0,9,   -999.0,  19.5707,  25.3870
  49NZ20090410,   P21,   124,  1,     30, X12030,2,20090510,1443,-16.7507,-129.3335, 4068,    300.3,2,  15.6420,2,  15.64388,2,  35.0093,2,  35.0338,2,   184.27,2,   184.18,2,     1.46,2,     0.12,     6.98,2,     0.05,     0.01,2,     0.01,    0.708,2,    0.013,    2.520,2,    1.436,2,    0.038,2,   -999.0,9,   -999.0,9,-999.0000,-999,9,  -999.00,9,  -999.00,   -999.0,9,   -999.0,  15.5951,  25.8467
  49NZ20090410,   P21,   124,  1,     29, X12044,2,20090510,1443,-16.7507,-129.3335, 4068,    400.7,2,   9.7173,2,   9.71696,2,  34.4688,2,  34.4693,2,   118.91,2,   118.36,2,    12.05,2,     0.15,    24.41,2,     0.10,     0.01,2,     0.01,    1.983,2,    0.015,    1.733,2,    0.884,2,    0.012,2,   -999.0,9,   -999.0,9,-999.0000,-999,9,  -999.00,9,  -999.00,   -999.0,9,   -999.0,   9.6715,  26.5925
  49NZ20090410,   P21,   124,  1,     28, X12048,2,20090510,1443,-16.7507,-129.3335, 4068,    500.3,2,   7.1400,2,   7.13907,2,  34.4143,2,  34.4142,6,   124.94,2,   124.52,2,    18.78,2,     0.16,    31.98,2,     0.12,     0.01,2,     0.01,    2.299,2,    0.016,    0.697,2,    0.353,2,    0.000,2,   -999.0,9,   -999.0,9,-999.0000,-999,9,  -999.00,9,  -999.00,   -999.0,9,   -999.0,   7.0920,  26.9446
  49NZ20090410,   P21,   124,  1,     27, X12027,2,20090510,1443,-16.7507,-129.3335, 4068,    599.5,2,   6.0429,2,   6.04208,2,  34.3969,2,  34.3965,2,   136.04,2,   135.49,2,    25.22,2,     0.17,    33.90,2,     0.13,     0.01,2,     0.01,    2.369,2,    0.016,    0.309,6,    0.162,6,    0.000,6,   -999.0,9,   -999.0,9,-999.0000,-999,9,  -999.00,9,  -999.00,   -999.0,9,   -999.0,   5.9900,  27.0773
  49NZ20090410,   P21,   124,  1,     26, X12026,2,20090510,1443,-16.7507,-129.3335, 4068,    700.6,2,   5.5257,2,   5.52580,2,  34.4375,2,  34.4376,2,   120.86,2,   120.30,2,    37.92,2,     0.20,    35.98,2,     0.13,     0.01,2,     0.01,    2.520,2,    0.016,    0.078,2,    0.044,2,    0.000,2,   -999.0,9,   -999.0,9,-999.0000,-999,9,  -999.00,9,  -999.00,   -999.0,9,   -999.0,   5.4661,  27.1743
  49NZ20090410,   P21,   124,  1,     25, X12025,2,20090510,1443,-16.7507,-129.3335, 4068,    799.0,2,   5.1618,2,   5.16194,2,  34.4782,2,  34.4778,2,   108.20,2,   107.81,2,    49.83,2,     0.23,    37.59,2,     0.14,     0.01,2,     0.01,    2.646,2,    0.017,    0.022,2,    0.014,2,    0.000,2,   -999.0,9,   -999.0,9,-999.0000,-999,9,  -999.00,9,  -999.00,   -999.0,9,   -999.0,   5.0954,  27.2505
  49NZ20090410,   P21,   124,  1,     24, X12024,2,20090510,1443,-16.7507,-129.3335, 4068,    900.4,2,   4.7581,2,   4.75764,2,  34.4972,2,  34.4971,2,   102.73,2,   102.43,2,    59.34,2,     0.25,    38.62,2,     0.14,     0.01,2,     0.01,    2.723,2,    0.017,    0.009,2,    0.005,2,    0.000,2,   -999.0,9,   -999.0,9,-999.0000,-999,9,  -999.00,9,  -999.00,   -999.0,9,   -999.0,   4.6854,  27.3123
  49NZ20090410,   P21,   124,  1,     23, X12028,2,20090510,1443,-16.7507,-129.3335, 4068,   1002.5,2,   4.3219,2,   4.32194,2,  34.5176,2,  34.5173,6,    95.62,2,    95.17,2,    70.04,2,     0.27,    39.77,2,     0.14,     0.01,2,     0.01,    2.816,2,    0.017,    0.002,2,    0.000,2,    0.000,2,   -999.0,9,   -999.0,9,-999.0000,-999,9,  -999.00,9,  -999.00,   -999.0,9,   -999.0,   4.2435,  27.3768
  49NZ20090410,   P21,   124,  1,     22, X12022,2,20090510,1443,-16.7507,-129.3335, 4068,   1201.8,2,   3.7047,2,   3.70465,2,  34.5447,2,  34.5453,2,   100.61,2,   100.44,2,    83.93,2,     0.30,    39.70,2,     0.14,     0.01,2,     0.01,    2.830,2,    0.017,    0.003,2,    0.001,2,    0.000,2,   -999.0,9,   -999.0,9,-999.0000,-999,9,  -999.00,9,  -999.00,   -999.0,9,   -999.0,   3.6146,  27.4630
  49NZ20090410,   P21,   124,  1,     21, X12021,2,20090510,1443,-16.7507,-129.3335, 4068,   1401.6,2,   3.1276,2,   3.12775,2,  34.5732,2,  34.5729,2,   114.65,2,   114.56,2,    95.77,2,     0.33,    38.53,2,     0.14,     0.01,2,     0.01,    2.746,2,    0.017,    0.000,2,    0.000,2,    0.000,2,   -999.0,9,   -999.0,9,-999.0000,-999,9,  -999.00,9,  -999.00,   -999.0,9,   -999.0,   3.0265,  27.5420
  49NZ20090410,   P21,   124,  1,     20, X12020,2,20090510,1443,-16.7507,-129.3335, 4068,   1602.5,2,   2.7125,2,   2.71255,2,  34.5942,2,  34.5944,2,   127.68,2,   127.54,2,   102.84,2,     0.35,    37.60,2,     0.14,     0.01,2,     0.01,    2.663,2,    0.017,    0.001,2,    0.002,2,    0.000,2,   -999.0,9,   -999.0,9,-999.0000,-999,9,  -999.00,9,  -999.00,   -999.0,9,   -999.0,   2.5995,  27.5969
  49NZ20090410,   P21,   124,  1,     19, X12019,2,20090510,1443,-16.7507,-129.3335, 4068,   1801.2,2,   2.3884,2,   2.38824,2,  34.6176,2,  34.6179,2,   135.37,2,   135.37,2,   109.58,2,     0.36,    37.04,2,     0.14,     0.01,2,     0.01,    2.614,2,    0.017,    0.000,2,    0.001,2,    0.000,2,   -999.0,9,   -999.0,9,-999.0000,-999,9,  -999.00,9,  -999.00,   -999.0,9,   -999.0,   2.2630,  27.6441
  49NZ20090410,   P21,   124,  1,     18, X12043,2,20090510,1443,-16.7507,-129.3335, 4068,   2000.2,2,   2.1243,2,   2.12433,2,  34.6391,2,  34.6391,6,   143.41,2,   143.33,2,   114.70,2,     0.37,    36.39,2,     0.13,     0.01,2,     0.01,    2.561,2,    0.016,    0.000,2,    0.000,2,    0.000,2,   -999.0,9,   -999.0,9,-999.0000,-999,9,  -999.00,9,  -999.00,   -999.0,9,   -999.0,   1.9859,  27.6837
  49NZ20090410,   P21,   124,  1,     17, X12042,2,20090510,1443,-16.7507,-129.3335, 4068,   2200.6,2,   1.9828,2,   1.98278,2,  34.6529,2,  34.6528,2,   147.56,2,   147.36,2,   118.39,2,     0.38,    36.09,2,     0.13,     0.01,2,     0.01,    2.529,2,    0.016,    0.000,2,    0.000,2,    0.000,2,   -999.0,9,   -999.0,9,-999.0000,-999,9,  -999.00,9,  -999.00,   -999.0,9,   -999.0,   1.8295,  27.7069
  49NZ20090410,   P21,   124,  1,     16, X12016,2,20090510,1443,-16.7507,-129.3335, 4068,   2401.4,2,   1.8758,2,   1.87576,2,  34.6635,2,  34.6630,2,   150.45,2,   150.26,2,   121.80,2,     0.39,    35.85,2,     0.13,     0.01,2,     0.01,    2.507,2,    0.016,    0.000,2,    0.000,2,    0.000,2,   -999.0,9,   -999.0,9,-999.0000,-999,9,  -999.00,9,  -999.00,   -999.0,9,   -999.0,   1.7066,  27.7248
  49NZ20090410,   P21,   124,  1,     15, X12015,2,20090510,1443,-16.7507,-129.3335, 4068,   2601.9,2,   1.8043,2,   1.80434,2,  34.6692,2,  34.6689,2,   153.50,2,   153.30,2,   123.74,2,     0.39,    35.62,2,     0.13,     0.01,2,     0.01,    2.499,2,    0.016,    0.000,2,    0.001,2,    0.000,2,   -999.0,9,   -999.0,9,-999.0000,-999,9,  -999.00,9,  -999.00,   -999.0,9,   -999.0,   1.6184,  27.7360
  49NZ20090410,   P21,   124,  1,     14, X12050,2,20090510,1443,-16.7507,-129.3335, 4068,   2801.3,2,   1.7389,2,   1.73888,2,  34.6734,2,  34.6732,2,   157.12,2,   156.88,2,   124.34,2,     0.39,    35.48,2,     0.13,     0.01,2,     0.01,    2.489,2,    0.016,    0.000,2,    0.000,2,    0.000,2,   -999.0,9,   -999.0,9,-999.0000,-999,9,  -999.00,9,  -999.00,   -999.0,9,   -999.0,   1.5358,  27.7455
  49NZ20090410,   P21,   124,  1,     13, X12013,7,20090510,1443,-16.7507,-129.3335, 4068,   3000.9,2,   1.6804,2,   1.68032,2,  34.6775,2,  34.6782,6,   159.57,2,   159.51,2,   125.61,2,     0.40,    35.28,2,     0.13,     0.01,2,     0.01,    2.474,2,    0.016,    0.001,2,    0.001,2,    0.000,2,   -999.0,9,   -999.0,9,-999.0000,-999,9,  -999.00,9,  -999.00,   -999.0,9,   -999.0,   1.4595,  27.7543
  49NZ20090410,   P21,   124,  1,     12, X12012,2,20090510,1443,-16.7507,-129.3335, 4068,   3250.2,2,   1.6187,2,   1.61864,2,  34.6820,2,  34.6819,2,   162.02,2,   161.85,2,   127.36,2,     0.40,    35.21,2,     0.13,     0.01,2,     0.01,    2.465,2,    0.016,    0.001,2,    0.000,2,    0.000,2,   -999.0,9,   -999.0,9,-999.0000,-999,9,  -999.00,9,  -999.00,   -999.0,9,   -999.0,   1.3748,  27.7640
  49NZ20090410,   P21,   124,  1,     11, X12041,2,20090510,1443,-16.7507,-129.3335, 4068,   3500.3,2,   1.5693,2,   1.56933,2,  34.6860,2,  34.6857,2,   164.10,2,   163.89,2,   127.92,2,     0.40,    34.98,2,     0.13,     0.01,2,     0.01,    2.445,2,    0.016,    0.000,2,    0.000,2,    0.000,2,   -999.0,9,   -999.0,9,-999.0000,-999,9,  -999.00,9,  -999.00,   -999.0,9,   -999.0,   1.3014,  27.7725
  49NZ20090410,   P21,   124,  1,     10, X12040,2,20090510,1443,-16.7507,-129.3335, 4068,   3750.7,2,   1.5550,2,   1.55502,2,  34.6880,2,  34.6882,2,   166.19,2,   166.21,2,   128.31,2,     0.40,    35.05,2,     0.13,     0.01,2,     0.01,    2.447,2,    0.016,    0.002,2,    0.000,2,    0.000,2,   -999.0,9,   -999.0,9,-999.0000,-999,9,  -999.00,9,  -999.00,   -999.0,9,   -999.0,   1.2613,  27.7769
  49NZ20090410,   P21,   124,  1,      9, X12009,2,20090510,1443,-16.7507,-129.3335, 4068,   4000.3,2,   1.5662,2,   1.56631,2,  34.6888,2,  34.6881,2,   167.19,2,   167.14,2,   128.18,2,     0.40,    35.02,2,     0.13,     0.01,2,     0.01,    2.443,2,    0.016,    0.000,2,    0.001,2,    0.000,2,   -999.0,9,   -999.0,9,-999.0000,-999,9,  -999.00,9,  -999.00,   -999.0,9,   -999.0,   1.2454,  27.7786
  49NZ20090410,   P21,   124,  1,      8, X12008,9,20090510,1443,-16.7507,-129.3335, 4068,     10.5,2,  27.3313,2,  27.33134,2,  36.3498,2,-999.0000,9,   200.31,2,  -999.00,9,  -999.00,9,  -999.00,  -999.00,9,  -999.00,  -999.00,9,  -999.00, -999.000,9, -999.000, -999.000,9, -999.000,9, -999.000,9,   -999.0,9,   -999.0,9,-999.0000,-999,9,  -999.00,9,  -999.00,   -999.0,9,   -999.0,  27.3289,  23.6289
  49NZ20090410,   P21,   124,  1,      7, X12007,9,20090510,1443,-16.7507,-129.3335, 4068,   4000.6,2,   1.5663,2,   1.56629,2,  34.6887,2,-999.0000,9,   167.21,2,  -999.00,9,  -999.00,9,  -999.00,  -999.00,9,  -999.00,  -999.00,9,  -999.00, -999.000,9, -999.000, -999.000,9, -999.000,9, -999.000,9,   -999.0,9,   -999.0,9,-999.0000,-999,9,  -999.00,9,  -999.00,   -999.0,9,   -999.0,   1.2454,  27.7785
  49NZ20090410,   P21,   124,  1,      6, X12035,9,20090510,1443,-16.7507,-129.3335, 4068,   4113.1,2,   1.5729,2,   1.57282,2,  34.6890,2,-999.0000,9,   167.74,2,  -999.00,9,  -999.00,9,  -999.00,  -999.00,9,  -999.00,  -999.00,9,  -999.00, -999.000,9, -999.000, -999.000,9, -999.000,9, -999.000,9,   -999.0,9,   -999.0,9,-999.0000,-999,9,  -999.00,9,  -999.00,   -999.0,9,   -999.0,   1.2395,  27.7791
  49NZ20090410,   P21,   124,  1,      5, X12038,9,20090510,1443,-16.7507,-129.3335, 4068,   2600.9,2,   1.8055,2,   1.80524,2,  34.6692,2,-999.0000,9,   153.45,2,  -999.00,9,  -999.00,9,  -999.00,  -999.00,9,  -999.00,  -999.00,9,  -999.00, -999.000,9, -999.000, -999.000,9, -999.000,9, -999.000,9,   -999.0,9,   -999.0,9,-999.0000,-999,9,  -999.00,9,  -999.00,   -999.0,9,   -999.0,   1.6196,  27.7359
  49NZ20090410,   P21,   124,  1,      4, X12034,9,20090510,1443,-16.7507,-129.3335, 4068,   2801.1,2,   1.7389,2,   1.73897,2,  34.6735,2,-999.0000,9,   157.10,2,  -999.00,9,  -999.00,9,  -999.00,  -999.00,9,  -999.00,  -999.00,9,  -999.00, -999.000,9, -999.000, -999.000,9, -999.000,9, -999.000,9,   -999.0,9,   -999.0,9,-999.0000,-999,9,  -999.00,9,  -999.00,   -999.0,9,   -999.0,   1.5358,  27.7455
  49NZ20090410,   P21,   124,  1,      3, X12033,9,20090510,1443,-16.7507,-129.3335, 4068,   3000.9,2,   1.6803,2,   1.68031,2,  34.6775,2,-999.0000,9,   159.65,2,  -999.00,9,  -999.00,9,  -999.00,  -999.00,9,  -999.00,  -999.00,9,  -999.00, -999.000,9, -999.000, -999.000,9, -999.000,9, -999.000,9,   -999.0,9,   -999.0,9,-999.0000,-999,9,  -999.00,9,  -999.00,   -999.0,9,   -999.0,   1.4594,  27.7543
  49NZ20090410,   P21,   124,  1,      2, X12032,9,20090510,1443,-16.7507,-129.3335, 4068,    900.2,2,   4.7568,2,   4.75694,2,  34.4973,2,-999.0000,9,   102.77,2,  -999.00,9,  -999.00,9,  -999.00,  -999.00,9,  -999.00,  -999.00,9,  -999.00, -999.000,9, -999.000, -999.000,9, -999.000,9, -999.000,9,   -999.0,9,   -999.0,9,-999.0000,-999,9,  -999.00,9,  -999.00,   -999.0,9,   -999.0,   4.6841,  27.3126
  49NZ20090410,   P21,   124,  1,      1, X12046,2,20090510,1443,-16.7507,-129.3335, 4068,   4113.4,2,   1.5729,2,   1.57285,2,  34.6890,2,  34.6887,6,   167.74,2,   167.23,2,   128.18,2,     0.40,    34.87,2,     0.13,     0.01,2,     0.01,    2.440,2,    0.016,    0.003,2,    0.001,2,    0.000,2,   -999.0,9,   -999.0,9,-999.0000,-999,9,  -999.00,9,  -999.00,   -999.0,9,   -999.0,   1.2394,  27.7791