BOTTLE,20220818CCHSIOAMB
EXPOCODE,SECT_ID,STNNBR,CASTNO,SAMPNO,BTLNBR,BTLNBR_FLAG_W,DATE,TIME,LATITUDE,LONGITUDE,DEPTH,CTDPRS,CTDPRS_FLAG_W,CTDTMP,CTDTMP_FLAG_W,SBE35,SBE35_FLAG_W,CTDSAL,CTDSAL_FLAG_W,SALNTY,SALNTY_FLAG_W,CTDOXY,CTDOXY_FLAG_W,OXYGEN,OXYGEN_FLAG_W,SILCAT,SILCAT_FLAG_W,SILUNC,NITRAT,NITRAT_FLAG_W,NRAUNC,NITRIT,NITRIT_FLAG_W,NRIUNC,PHSPHT,PHSPHT_FLAG_W,PHPUNC,CFC-11,CFC-11_FLAG_W,CFC-12,CFC-12_FLAG_W,CFC113,CFC113_FLAG_W,TCARBN,TCARBN_FLAG_W,ALKALI,ALKALI_FLAG_W,PH_TOT,PH_TMP,PH_TOT_FLAG_W,DELC13,DELC13_FLAG_W,C13ERR,DELC14,DELC14_FLAG_W,C14ERR,THETA,SIG0
,,,,,,,,,,,METERS,DBAR,,ITS-90,,ITS-90,,PSS-78,,PSS-78,,UMOL/KG,,UMOL/KG,,UMOL/KG,,UMOL/KG,UMOL/KG,,UMOL/KG,UMOL/KG,,UMOL/KG,UMOL/KG,,UMOL/KG,PMOL/KG,,PMOL/KG,,PMOL/KG,,UMOL/KG,,UMOL/KG,,,DEG C,,/MILLE,,/MILLE,/MILLE,,/MILLE,DEG C,KG/M^3
  49NZ20090410,   P21,   122,  1,     36, X12006,2,20090510,0347,-16.7535,-128.0060, 3876,      9.3,2,  27.2103,2,  27.21006,2,  36.4247,2,  36.4238,2,   200.83,2,   200.53,2,     0.65,2,     0.12,     0.80,2,     0.04,     0.02,2,     0.01,    0.312,2,    0.014,    1.477,2,    0.989,2,    0.163,4,   -999.0,9,   -999.0,9,-999.0000,-999,9,  -999.00,9,  -999.00,   -999.0,9,   -999.0,  27.2081,  23.7243
  49NZ20090410,   P21,   122,  1,     35, X12047,2,20090510,0347,-16.7535,-128.0060, 3876,     50.4,2,  27.0737,2,  27.07270,2,  36.4632,2,  36.4642,2,   201.03,2,   200.83,2,     0.69,2,     0.12,     0.58,2,     0.03,     0.02,2,     0.01,    0.292,2,    0.014,    1.490,2,    0.996,2, -999.000,5,   -999.0,9,   -999.0,9,-999.0000,-999,9,  -999.00,9,  -999.00,   -999.0,9,   -999.0,  27.0621,  23.8004
  49NZ20090410,   P21,   122,  1,     34, X12004,2,20090510,0347,-16.7535,-128.0060, 3876,     99.8,2,  24.5355,2,  24.53411,2,  36.4127,2,  36.4173,2,   197.61,2,   197.11,2,     0.84,2,     0.12,     0.46,2,     0.03,     0.09,2,     0.01,    0.379,2,    0.014,    1.707,6,    1.119,6, -999.000,5,   -999.0,9,   -999.0,9,-999.0000,-999,9,  -999.00,9,  -999.00,   -999.0,9,   -999.0,  24.5140,  24.5571
  49NZ20090410,   P21,   122,  1,     33, X12003,2,20090510,0347,-16.7535,-128.0060, 3876,    150.6,2,  22.4917,2,  22.49783,2,  36.1861,2,  36.1884,2,   185.48,2,   184.71,2,     0.82,2,     0.12,     1.81,2,     0.04,     1.27,2,     0.00,    0.492,2,    0.013,    1.871,2,    1.208,2,    0.207,4,   -999.0,9,   -999.0,9,-999.0000,-999,9,  -999.00,9,  -999.00,   -999.0,9,   -999.0,  22.4613,  24.9885
  49NZ20090410,   P21,   122,  1,     32, X12002,2,20090510,0347,-16.7535,-128.0060, 3876,    200.2,2,  21.0461,2,  21.04385,2,  35.9446,2,  35.9417,2,   184.17,2,   183.37,2,     0.76,2,     0.12,     3.53,2,     0.04,     0.03,2,     0.01,    0.521,2,    0.013,    2.029,2,    1.287,2,    0.118,2,   -999.0,9,   -999.0,9,-999.0000,-999,9,  -999.00,9,  -999.00,   -999.0,9,   -999.0,  21.0075,  25.2112
  49NZ20090410,   P21,   122,  1,     31, X12001,3,20090510,0347,-16.7535,-128.0060, 3876,    251.2,2,  17.6934,2,  17.59954,2,  35.3219,2,  35.3180,6,   176.58,2,   177.78,2,     1.36,2,     0.12,     6.42,2,     0.05,     0.01,2,     0.01,    0.692,2,    0.013,    2.324,2,    1.401,2,    0.058,2,   -999.0,9,   -999.0,9,-999.0000,-999,9,  -999.00,9,  -999.00,   -999.0,9,   -999.0,  17.6506,  25.6045
  49NZ20090410,   P21,   122,  1,     30, X12030,2,20090510,0347,-16.7535,-128.0060, 3876,    331.0,2,  12.2950,2,  12.28983,2,  34.6265,2,  34.6277,2,   151.07,2,   149.70,2,     5.83,2,     0.13,    15.51,2,     0.08,     0.01,2,     0.01,    1.360,2,    0.014,    2.401,2,    1.327,2,    0.045,2,   -999.0,9,   -999.0,9,-999.0000,-999,9,  -999.00,9,  -999.00,   -999.0,9,   -999.0,  12.2511,  26.2508
  49NZ20090410,   P21,   122,  1,     29, X12044,2,20090510,0347,-16.7535,-128.0060, 3876,    429.2,2,   8.8287,2,   8.83265,2,  34.4643,2,  34.4642,2,    98.23,2,    98.00,2,    15.94,2,     0.15,    29.05,2,     0.11,     0.01,2,     0.01,    2.263,2,    0.016,    1.132,2,    0.589,2,    0.020,2,   -999.0,9,   -999.0,9,-999.0000,-999,9,  -999.00,9,  -999.00,   -999.0,9,   -999.0,   8.7823,  26.7332
  49NZ20090410,   P21,   122,  1,     28, X12048,2,20090510,0347,-16.7535,-128.0060, 3876,    531.2,2,   6.5362,2,   6.53760,2,  34.3914,2,  34.3917,6,   141.63,2,   141.13,2,    19.74,2,     0.16,    32.25,2,     0.12,     0.01,2,     0.01,    2.273,2,    0.016,    0.637,2,    0.330,2,    0.000,2,   -999.0,9,   -999.0,9,-999.0000,-999,9,  -999.00,9,  -999.00,   -999.0,9,   -999.0,   6.4876,  27.0086
  49NZ20090410,   P21,   122,  1,     27, X12027,2,20090510,0347,-16.7535,-128.0060, 3876,    629.8,2,   5.6487,2,   5.64857,2,  34.3931,2,  34.3934,2,   140.53,2,   140.29,2,    29.03,2,     0.18,    34.29,2,     0.13,     0.01,2,     0.01,    2.397,2,    0.016,    0.218,6,    0.119,6,    0.000,6,   -999.0,9,   -999.0,9,-999.0000,-999,9,  -999.00,9,  -999.00,   -999.0,9,   -999.0,   5.5949,  27.1235
  49NZ20090410,   P21,   122,  1,     26, X12026,2,20090510,0347,-16.7535,-128.0060, 3876,    730.2,2,   5.3053,2,   5.30539,2,  34.4636,2,  34.4635,2,   113.99,2,   113.58,2,    45.05,2,     0.22,    36.94,2,     0.14,     0.01,2,     0.01,    2.593,2,    0.016,    0.039,2,    0.021,2,    0.000,2,   -999.0,9,   -999.0,9,-999.0000,-999,9,  -999.00,9,  -999.00,   -999.0,9,   -999.0,   5.2442,  27.2214
  49NZ20090410,   P21,   122,  1,     25, X12025,2,20090510,0347,-16.7535,-128.0060, 3876,    831.1,2,   4.9419,2,   4.94293,2,  34.4913,2,  34.4910,2,   101.61,2,   101.40,2,    55.30,2,     0.24,    38.59,2,     0.14,     0.01,2,     0.01,    2.722,2,    0.017,    0.010,2,    0.006,2,    0.000,2,   -999.0,9,   -999.0,9,-999.0000,-999,9,  -999.00,9,  -999.00,   -999.0,9,   -999.0,   4.8741,  27.2864
  49NZ20090410,   P21,   122,  1,     24, X12024,2,20090510,0347,-16.7535,-128.0060, 3876,    930.3,2,   4.5592,2,   4.55916,2,  34.5071,2,  34.5077,2,    96.82,2,    96.78,2,    64.37,2,     0.26,    39.54,2,     0.14,     0.01,2,     0.01,    2.793,2,    0.017,    0.004,2,    0.001,2,    0.000,2,   -999.0,9,   -999.0,9,-999.0000,-999,9,  -999.00,9,  -999.00,   -999.0,9,   -999.0,   4.4853,  27.3423
  49NZ20090410,   P21,   122,  1,     23, X12028,2,20090510,0347,-16.7535,-128.0060, 3876,   1070.4,2,   4.0464,2,   4.04721,2,  34.5283,2,  34.5283,6,    97.10,2,    97.02,2,    75.97,2,     0.29,    39.90,2,     0.14,     0.01,2,     0.01,    2.832,2,    0.017,    0.001,2,    0.001,2,    0.000,2,   -999.0,9,   -999.0,9,-999.0000,-999,9,  -999.00,9,  -999.00,   -999.0,9,   -999.0,   3.9644,  27.4146
  49NZ20090410,   P21,   122,  1,     22, X12022,2,20090510,0347,-16.7535,-128.0060, 3876,   1271.9,2,   3.4542,2,   3.45462,2,  34.5568,2,  34.5573,2,   105.19,2,   104.97,2,    89.30,2,     0.32,    39.41,2,     0.14,     0.01,2,     0.01,    2.808,2,    0.017,    0.001,2,    0.001,2,    0.000,2,   -999.0,9,   -999.0,9,-999.0000,-999,9,  -999.00,9,  -999.00,   -999.0,9,   -999.0,   3.3606,  27.4975
  49NZ20090410,   P21,   122,  1,     21, X12021,2,20090510,0347,-16.7535,-128.0060, 3876,   1471.0,2,   2.9782,2,   2.97815,2,  34.5806,2,  34.5809,2,   116.97,2,   116.99,2,    98.95,2,     0.34,    38.55,2,     0.14,     0.00,2,     0.01,    2.734,2,    0.017,    0.001,2,    0.000,2,    0.000,2,   -999.0,9,   -999.0,9,-999.0000,-999,9,  -999.00,9,  -999.00,   -999.0,9,   -999.0,   2.8730,  27.5618
  49NZ20090410,   P21,   122,  1,     20, X12020,2,20090510,0347,-16.7535,-128.0060, 3876,   1670.3,2,   2.5715,2,   2.57124,2,  34.6043,2,  34.6047,2,   129.79,2,   129.72,2,   106.16,2,     0.35,    37.52,2,     0.14,     0.01,2,     0.01,    2.658,2,    0.017,    0.002,2,    0.000,2,    0.000,2,   -999.0,9,   -999.0,9,-999.0000,-999,9,  -999.00,9,  -999.00,   -999.0,9,   -999.0,   2.4546,  27.6174
  49NZ20090410,   P21,   122,  1,     19, X12019,2,20090510,0347,-16.7535,-128.0060, 3876,   1870.4,2,   2.2253,2,   2.22526,2,  34.6308,2,  34.6307,2,   139.34,2,   139.29,2,   112.87,2,     0.37,    36.84,2,     0.14,     0.01,2,     0.01,    2.589,2,    0.016,    0.000,2,    0.000,2,    0.000,2,   -999.0,9,   -999.0,9,-999.0000,-999,9,  -999.00,9,  -999.00,   -999.0,9,   -999.0,   2.0964,  27.6682
  49NZ20090410,   P21,   122,  1,     18, X12043,2,20090510,0347,-16.7535,-128.0060, 3876,   2069.7,2,   2.0603,2,   2.06039,2,  34.6461,2,  34.6463,6,   144.27,2,   144.39,2,   116.64,2,     0.38,    36.46,2,     0.13,     0.01,2,     0.01,    2.556,2,    0.016,    0.000,2,    0.000,2,    0.000,2,   -999.0,9,   -999.0,9,-999.0000,-999,9,  -999.00,9,  -999.00,   -999.0,9,   -999.0,   1.9170,  27.6947
  49NZ20090410,   P21,   122,  1,     17, X12042,2,20090510,0347,-16.7535,-128.0060, 3876,   2269.9,2,   1.9277,2,   1.92771,2,  34.6586,2,  34.6590,2,   148.55,2,   148.53,2,   120.42,2,     0.38,    36.12,2,     0.13,     0.01,2,     0.01,    2.529,2,    0.016,    0.002,2,    0.000,2,    0.000,2,   -999.0,9,   -999.0,9,-999.0000,-999,9,  -999.00,9,  -999.00,   -999.0,9,   -999.0,   1.7692,  27.7161
  49NZ20090410,   P21,   122,  1,     16, X12016,2,20090510,0347,-16.7535,-128.0060, 3876,   2471.3,2,   1.8598,2,   1.86001,2,  34.6661,2,  34.6660,2,   150.25,2,   150.23,2,   123.06,2,     0.39,    35.87,2,     0.13,     0.00,2,     0.01,    2.514,2,    0.016,    0.000,2,    0.000,2,    0.000,2,   -999.0,9,   -999.0,9,-999.0000,-999,9,  -999.00,9,  -999.00,   -999.0,9,   -999.0,   1.6847,  27.7285
  49NZ20090410,   P21,   122,  1,     15, X12015,2,20090510,0347,-16.7535,-128.0060, 3876,   2669.2,2,   1.8104,2,   1.81056,2,  34.6705,2,  34.6705,2,   151.96,2,   151.83,2,   124.72,2,     0.39,    35.86,2,     0.13,     0.01,2,     0.01,    2.506,2,    0.016,    0.002,2,    0.000,2,    0.000,2,   -999.0,9,   -999.0,9,-999.0000,-999,9,  -999.00,9,  -999.00,   -999.0,9,   -999.0,   1.6182,  27.7370
  49NZ20090410,   P21,   122,  1,     14, X12050,2,20090510,0347,-16.7535,-128.0060, 3876,   2869.5,2,   1.7478,2,   1.74788,2,  34.6743,2,  34.6743,6,   155.48,2,   155.30,2,   125.58,2,     0.40,    35.70,2,     0.13,     0.01,2,     0.01,    2.491,2,    0.016,    0.001,2,    0.000,2,    0.000,2,   -999.0,9,   -999.0,9,-999.0000,-999,9,  -999.00,9,  -999.00,   -999.0,9,   -999.0,   1.5381,  27.7460
  49NZ20090410,   P21,   122,  1,     13, X12013,7,20090510,0347,-16.7535,-128.0060, 3876,   3079.2,2,   1.6899,2,   1.68997,2,  34.6776,2,  34.6788,2,   159.16,2,   159.00,2,   125.79,2,     0.40,    35.52,2,     0.13,     0.00,2,     0.01,    2.475,2,    0.016,    0.000,2,    0.000,2,    0.000,2,   -999.0,9,   -999.0,9,-999.0000,-999,9,  -999.00,9,  -999.00,   -999.0,9,   -999.0,   1.4612,  27.7543
  49NZ20090410,   P21,   122,  1,     12, X12012,2,20090510,0347,-16.7535,-128.0060, 3876,   3330.8,2,   1.6290,2,   1.62911,2,  34.6819,2,  34.6820,2,   162.02,2,   161.75,2,   127.19,2,     0.40,    35.39,2,     0.13,     0.01,2,     0.01,    2.470,2,    0.016,    0.000,2,    0.000,2,    0.000,2,   -999.0,9,   -999.0,9,-999.0000,-999,9,  -999.00,9,  -999.00,   -999.0,9,   -999.0,   1.3768,  27.7638
  49NZ20090410,   P21,   122,  1,     11, X12041,2,20090510,0347,-16.7535,-128.0060, 3876,   3579.6,2,   1.5622,2,   1.56228,2,  34.6866,2,  34.6866,2,   165.26,2,   165.17,2,   128.31,2,     0.40,    35.29,2,     0.13,     0.00,2,     0.01,    2.451,2,    0.016,    0.000,2,    0.000,2,    0.000,2,   -999.0,9,   -999.0,9,-999.0000,-999,9,  -999.00,9,  -999.00,   -999.0,9,   -999.0,   1.2863,  27.7740
  49NZ20090410,   P21,   122,  1,     10, X12040,2,20090510,0347,-16.7535,-128.0060, 3876,   3829.4,2,   1.5566,2,   1.55655,2,  34.6884,2,  34.6892,2,   166.99,2,   166.73,2,   128.07,2,     0.40,    35.08,2,     0.13,     0.01,2,     0.01,    2.445,2,    0.016,    0.000,2,    0.001,2,    0.000,2,   -999.0,9,   -999.0,9,-999.0000,-999,9,  -999.00,9,  -999.00,   -999.0,9,   -999.0,   1.2545,  27.7777
  49NZ20090410,   P21,   122,  1,      9, X12009,9,20090510,0347,-16.7535,-128.0060, 3876,    199.8,2,  21.0614,2,  21.06116,2,  35.9480,2,-999.0000,9,   184.06,2,  -999.00,9,  -999.00,9,  -999.00,  -999.00,9,  -999.00,  -999.00,9,  -999.00, -999.000,9, -999.000, -999.000,9, -999.000,9, -999.000,9,   -999.0,9,   -999.0,9,-999.0000,-999,9,  -999.00,9,  -999.00,   -999.0,9,   -999.0,  21.0229,  25.2096
  49NZ20090410,   P21,   122,  1,      8, X12008,9,20090510,0347,-16.7535,-128.0060, 3876,   2069.8,2,   2.0604,2,   2.06040,2,  34.6460,2,-999.0000,9,   144.29,2,  -999.00,9,  -999.00,9,  -999.00,  -999.00,9,  -999.00,  -999.00,9,  -999.00, -999.000,9, -999.000, -999.000,9, -999.000,9, -999.000,9,   -999.0,9,   -999.0,9,-999.0000,-999,9,  -999.00,9,  -999.00,   -999.0,9,   -999.0,   1.9171,  27.6946
  49NZ20090410,   P21,   122,  1,      7, X12007,9,20090510,0347,-16.7535,-128.0060, 3876,   2269.2,2,   1.9280,2,   1.92804,2,  34.6586,2,-999.0000,9,   148.54,2,  -999.00,9,  -999.00,9,  -999.00,  -999.00,9,  -999.00,  -999.00,9,  -999.00, -999.000,9, -999.000, -999.000,9, -999.000,9, -999.000,9,   -999.0,9,   -999.0,9,-999.0000,-999,9,  -999.00,9,  -999.00,   -999.0,9,   -999.0,   1.7696,  27.7161
  49NZ20090410,   P21,   122,  1,      6, X12035,9,20090510,0347,-16.7535,-128.0060, 3876,   2471.3,2,   1.8598,2,   1.85988,2,  34.6660,2,-999.0000,9,   150.25,2,  -999.00,9,  -999.00,9,  -999.00,  -999.00,9,  -999.00,  -999.00,9,  -999.00, -999.000,9, -999.000, -999.000,9, -999.000,9, -999.000,9,   -999.0,9,   -999.0,9,-999.0000,-999,9,  -999.00,9,  -999.00,   -999.0,9,   -999.0,   1.6847,  27.7285
  49NZ20090410,   P21,   122,  1,      5, X12038,9,20090510,0347,-16.7535,-128.0060, 3876,   2669.4,2,   1.8101,2,   1.81010,2,  34.6704,2,-999.0000,9,   151.92,2,  -999.00,9,  -999.00,9,  -999.00,  -999.00,9,  -999.00,  -999.00,9,  -999.00, -999.000,9, -999.000, -999.000,9, -999.000,9, -999.000,9,   -999.0,9,   -999.0,9,-999.0000,-999,9,  -999.00,9,  -999.00,   -999.0,9,   -999.0,   1.6178,  27.7370
  49NZ20090410,   P21,   122,  1,      4, X12034,9,20090510,0347,-16.7535,-128.0060, 3876,   2870.6,2,   1.7477,2,   1.74782,2,  34.6743,2,-999.0000,9,   155.47,2,  -999.00,9,  -999.00,9,  -999.00,  -999.00,9,  -999.00,  -999.00,9,  -999.00, -999.000,9, -999.000, -999.000,9, -999.000,9, -999.000,9,   -999.0,9,   -999.0,9,-999.0000,-999,9,  -999.00,9,  -999.00,   -999.0,9,   -999.0,   1.5379,  27.7460
  49NZ20090410,   P21,   122,  1,      3, X12033,9,20090510,0347,-16.7535,-128.0060, 3876,   3079.3,2,   1.6897,2,   1.68981,2,  34.6778,2,-999.0000,9,   159.18,2,  -999.00,9,  -999.00,9,  -999.00,  -999.00,9,  -999.00,  -999.00,9,  -999.00, -999.000,9, -999.000, -999.000,9, -999.000,9, -999.000,9,   -999.0,9,   -999.0,9,-999.0000,-999,9,  -999.00,9,  -999.00,   -999.0,9,   -999.0,   1.4610,  27.7544
  49NZ20090410,   P21,   122,  1,      2, X12032,9,20090510,0347,-16.7535,-128.0060, 3876,    928.6,2,   4.5603,2,   4.56009,2,  34.5070,2,-999.0000,9,    96.81,2,  -999.00,9,  -999.00,9,  -999.00,  -999.00,9,  -999.00,  -999.00,9,  -999.00, -999.000,9, -999.000, -999.000,9, -999.000,9, -999.000,9,   -999.0,9,   -999.0,9,-999.0000,-999,9,  -999.00,9,  -999.00,   -999.0,9,   -999.0,   4.4865,  27.3421
  49NZ20090410,   P21,   122,  1,      1, X12046,2,20090510,0347,-16.7535,-128.0060, 3876,   3912.9,2,   1.5651,2,   1.56504,2,  34.6884,2,  34.6885,6,   167.13,2,   166.63,2,   128.19,2,     0.40,    35.11,2,     0.13,     0.00,2,     0.01,    2.444,2,    0.016,    0.000,2,    0.000,2,    0.000,2,   -999.0,9,   -999.0,9,-999.0000,-999,9,  -999.00,9,  -999.00,   -999.0,9,   -999.0,   1.2538,  27.7777