BOTTLE,20220818CCHSIOAMB
EXPOCODE,SECT_ID,STNNBR,CASTNO,SAMPNO,BTLNBR,BTLNBR_FLAG_W,DATE,TIME,LATITUDE,LONGITUDE,DEPTH,CTDPRS,CTDPRS_FLAG_W,CTDTMP,CTDTMP_FLAG_W,SBE35,SBE35_FLAG_W,CTDSAL,CTDSAL_FLAG_W,SALNTY,SALNTY_FLAG_W,CTDOXY,CTDOXY_FLAG_W,OXYGEN,OXYGEN_FLAG_W,SILCAT,SILCAT_FLAG_W,SILUNC,NITRAT,NITRAT_FLAG_W,NRAUNC,NITRIT,NITRIT_FLAG_W,NRIUNC,PHSPHT,PHSPHT_FLAG_W,PHPUNC,CFC-11,CFC-11_FLAG_W,CFC-12,CFC-12_FLAG_W,CFC113,CFC113_FLAG_W,TCARBN,TCARBN_FLAG_W,ALKALI,ALKALI_FLAG_W,PH_TOT,PH_TMP,PH_TOT_FLAG_W,DELC13,DELC13_FLAG_W,C13ERR,DELC14,DELC14_FLAG_W,C14ERR,THETA,SIG0
,,,,,,,,,,,METERS,DBAR,,ITS-90,,ITS-90,,PSS-78,,PSS-78,,UMOL/KG,,UMOL/KG,,UMOL/KG,,UMOL/KG,UMOL/KG,,UMOL/KG,UMOL/KG,,UMOL/KG,UMOL/KG,,UMOL/KG,PMOL/KG,,PMOL/KG,,PMOL/KG,,UMOL/KG,,UMOL/KG,,,DEG C,,/MILLE,,/MILLE,/MILLE,,/MILLE,DEG C,KG/M^3
  49NZ20090410,   P21,   121,  1,     36, X12006,2,20090509,2215,-16.7537,-127.3397, 4001,      9.2,2,  27.4599,2,  27.46000,2,  36.3282,2,  36.3275,2,   200.54,2,   199.88,2,     0.45,2,     0.12,     1.25,2,     0.04,     0.03,2,     0.01,    0.348,2,    0.014,    1.462,2,    0.964,2, -999.000,5,   2039.6,2,   2396.7,2,   8.1134,  25,6,  -999.00,9,  -999.00,   -999.0,9,   -999.0,  27.4578,  23.5709
  49NZ20090410,   P21,   121,  1,     35, X12047,2,20090509,2215,-16.7537,-127.3397, 4001,     49.7,2,  27.3456,2,  27.34516,2,  36.3202,2,  36.3196,2,   200.29,2,   199.88,2,     0.40,2,     0.12,     1.27,2,     0.04,     0.03,2,     0.01,    0.353,2,    0.014,    1.473,2,    0.970,2, -999.000,5,   2037.8,6,   2396.1,2,   8.1132,  25,2,  -999.00,9,  -999.00,   -999.0,9,   -999.0,  27.3340,  23.6050
  49NZ20090410,   P21,   121,  1,     34, X12004,2,20090509,2215,-16.7537,-127.3397, 4001,    100.4,2,  24.7274,2,  24.73122,2,  36.3764,2,  36.3939,2,   197.39,2,   197.11,2,     0.97,2,     0.12,     0.72,2,     0.03,     0.06,2,     0.01,    0.428,2,    0.013,    1.674,6,    1.083,6, -999.000,5,   2077.8,2,   2401.6,6,   8.0596,  25,2,  -999.00,9,  -999.00,   -999.0,9,   -999.0,  24.7057,  24.4716
  49NZ20090410,   P21,   121,  1,     33, X12003,2,20090509,2215,-16.7537,-127.3397, 4001,    149.7,2,  23.1642,2,  23.16323,2,  36.3346,2,  36.3325,2,   192.61,2,   192.04,2,     0.63,2,     0.12,     0.34,2,     0.03,     1.27,2,     0.00,    0.363,2,    0.014,    1.777,2,    1.126,2, -999.000,5,   2086.8,2,   2392.2,2,   8.0306,  25,6,  -999.00,9,  -999.00,   -999.0,9,   -999.0,  23.1333,  24.9075
  49NZ20090410,   P21,   121,  1,     32, X12002,2,20090509,2215,-16.7537,-127.3397, 4001,    198.8,2,  20.9270,2,  20.92862,2,  35.9457,2,  35.9419,2,   189.83,2,   189.24,2,     0.65,2,     0.12,     2.75,2,     0.04,     0.04,2,     0.01,    0.464,2,    0.013,    1.994,2,    1.247,2,    0.137,2,   2098.6,2,   2368.8,2,   7.9803,  25,2,  -999.00,9,  -999.00,   -999.0,9,   -999.0,  20.8888,  25.2444
  49NZ20090410,   P21,   121,  1,     31, X12001,2,20090509,2215,-16.7537,-127.3397, 4001,    249.3,2,  18.3643,2,  18.37379,2,  35.4451,2,  35.4608,6,   181.82,2,   180.96,2,     1.12,2,     0.12,     5.35,2,     0.05,     0.02,2,     0.01,    0.629,2,    0.013,    2.219,2,    1.353,2,    0.054,2,   2103.3,2,   2337.0,2,   7.9243,  25,2,  -999.00,9,  -999.00,   -999.0,9,   -999.0,  18.3207,  25.5333
  49NZ20090410,   P21,   121,  1,     30, X12030,2,20090509,2215,-16.7537,-127.3397, 4001,    299.6,2,  15.0175,2,  15.02613,2,  34.9267,2,  34.9215,2,   162.14,2,   161.72,2,     3.07,2,     0.13,    10.64,2,     0.06,     0.01,2,     0.01,    1.009,2,    0.013,    2.421,2,    1.397,2,    0.050,2,   2121.9,2,   2301.7,2,   7.8220,  25,2,  -999.00,9,  -999.00,   -999.0,9,   -999.0,  14.9720,  25.9216
  49NZ20090410,   P21,   121,  1,     29, X12044,2,20090509,2215,-16.7537,-127.3397, 4001,    400.0,2,   9.6922,2,   9.69783,2,  34.4864,2,  34.4868,2,    99.57,2,    99.30,2,    14.11,2,     0.15,    26.23,2,     0.11,     0.01,2,     0.01,    2.135,2,    0.015,    1.407,2,    0.733,2,    0.008,2,   2206.6,2,   2281.3,2,   7.5604,  25,2,  -999.00,9,  -999.00,   -999.0,9,   -999.0,   9.6465,  26.6104
  49NZ20090410,   P21,   121,  1,     28, X12048,2,20090509,2215,-16.7537,-127.3397, 4001,    501.9,2,   7.2218,2,   7.22382,2,  34.4297,2,  34.4292,6,   114.62,2,   114.51,2,    19.99,2,     0.16,    32.76,2,     0.12,     0.01,2,     0.01,    2.356,2,    0.016,    0.562,2,    0.298,2,    0.000,2,   2220.6,2,   2285.3,2,   7.5350,  25,2,  -999.00,9,  -999.00,   -999.0,9,   -999.0,   7.1734,  26.9454
  49NZ20090410,   P21,   121,  1,     27, X12027,2,20090509,2215,-16.7537,-127.3397, 4001,    599.5,2,   5.9949,2,   5.99472,2,  34.4025,2,  34.4021,2,   132.34,2,   131.77,2,    26.56,2,     0.18,    34.34,2,     0.13,     0.01,2,     0.01,    2.404,2,    0.016,    0.262,6,    0.145,6,    0.000,6,   2218.8,2,   2292.3,2,   7.5518,  25,2,  -999.00,9,  -999.00,   -999.0,9,   -999.0,   5.9422,  27.0878
  49NZ20090410,   P21,   121,  1,     26, X12026,2,20090509,2215,-16.7537,-127.3397, 4001,    699.4,2,   5.4376,2,   5.43750,2,  34.4511,2,  34.4506,2,   113.40,2,   113.11,2,    41.37,2,     0.21,    36.93,2,     0.14,     0.01,2,     0.01,    2.582,2,    0.016,    0.051,2,    0.031,2,    0.000,2,   2245.2,6,   2308.4,2,   7.5138,  25,2,  -999.00,9,  -999.00,   -999.0,9,   -999.0,   5.3786,  27.1956
  49NZ20090410,   P21,   121,  1,     25, X12025,2,20090509,2215,-16.7537,-127.3397, 4001,    800.8,2,   5.0439,2,   5.04346,2,  34.4836,2,  34.4830,2,   106.12,2,   105.98,2,    52.46,2,     0.23,    37.99,2,     0.14,     0.01,2,     0.01,    2.675,2,    0.017,    0.018,2,    0.014,2,    0.000,2,   2261.4,2,   2321.0,6,   7.5233,  25,2,  -999.00,9,  -999.00,   -999.0,9,   -999.0,   4.9781,  27.2683
  49NZ20090410,   P21,   121,  1,     24, X12024,2,20090509,2215,-16.7537,-127.3397, 4001,    899.0,2,   4.5966,2,   4.59707,2,  34.5013,2,  34.5009,2,   106.69,2,   106.38,2,    61.88,2,     0.26,    38.36,2,     0.14,     0.01,2,     0.01,    2.707,2,    0.017,    0.010,2,    0.008,2,    0.000,2,   2272.6,2,   2331.9,2,   7.5118,  25,6,  -999.00,9,  -999.00,   -999.0,9,   -999.0,   4.5251,  27.3334
  49NZ20090410,   P21,   121,  1,     23, X12028,2,20090509,2215,-16.7537,-127.3397, 4001,    999.6,2,   4.2386,2,   4.24010,2,  34.5168,2,  34.5174,6,   103.30,2,   103.69,2,    70.22,2,     0.27,    38.93,2,     0.14,     0.01,2,     0.01,    2.763,2,    0.017,    0.004,2,    0.003,2,    0.000,2,   2283.5,2,   2340.6,2,   7.5044,  25,2,  -999.00,9,  -999.00,   -999.0,9,   -999.0,   4.1611,  27.3850
  49NZ20090410,   P21,   121,  1,     22, X12022,2,20090509,2215,-16.7537,-127.3397, 4001,   1199.7,2,   3.5707,2,   3.57069,2,  34.5482,2,  34.5492,2,   106.53,2,   106.41,2,    85.65,2,     0.31,    39.23,2,     0.14,     0.01,2,     0.01,    2.789,2,    0.017,    0.002,2,    0.001,2,    0.000,2,   2300.0,2,   2357.5,2,   7.5061,  25,2,  -999.00,9,  -999.00,   -999.0,9,   -999.0,   3.4820,  27.4788
  49NZ20090410,   P21,   121,  1,     21, X12021,2,20090509,2215,-16.7537,-127.3397, 4001,   1399.9,2,   3.1241,2,   3.12435,2,  34.5732,2,  34.5734,2,   110.90,2,   110.69,2,    96.54,2,     0.33,    39.02,2,     0.14,     0.01,2,     0.01,    2.774,2,    0.017,    0.001,2,    0.000,2,    0.000,2,   2308.3,2,   2369.8,2,   7.5121,  25,2,  -999.00,9,  -999.00,   -999.0,9,   -999.0,   3.0232,  27.5422
  49NZ20090410,   P21,   121,  1,     20, X12020,2,20090509,2215,-16.7537,-127.3397, 4001,   1602.9,2,   2.6800,2,   2.67993,2,  34.5983,2,  34.5985,2,   124.49,2,   124.44,2,   104.84,2,     0.35,    37.94,2,     0.14,     0.01,2,     0.01,    2.690,2,    0.017,    0.000,2,    0.000,2,    0.000,2,   2309.8,2,   2379.8,2,   7.5356,  25,2,  -999.00,9,  -999.00,   -999.0,9,   -999.0,   2.5674,  27.6029
  49NZ20090410,   P21,   121,  1,     19, X12019,2,20090509,2215,-16.7537,-127.3397, 4001,   1799.4,2,   2.3568,2,   2.35640,2,  34.6197,2,  34.6201,2,   135.97,2,   135.86,2,   110.09,2,     0.36,    37.06,2,     0.14,     0.01,2,     0.01,    2.616,2,    0.017,    0.001,2,    0.001,2,    0.000,2,   2308.9,2,   2386.0,2,   7.5547,  25,2,  -999.00,9,  -999.00,   -999.0,9,   -999.0,   2.2320,  27.6483
  49NZ20090410,   P21,   121,  1,     18, X12043,2,20090509,2215,-16.7537,-127.3397, 4001,   2000.4,2,   2.1212,2,   2.12142,2,  34.6405,2,  34.6407,6,   142.33,2,   142.25,2,   115.49,2,     0.37,    36.58,2,     0.14,     0.01,2,     0.01,    2.567,2,    0.016,    0.000,2,    0.000,2,    0.000,2,   2311.5,2,   2392.9,2,   7.5672,  25,2,  -999.00,9,  -999.00,   -999.0,9,   -999.0,   1.9829,  27.6850
  49NZ20090410,   P21,   121,  1,     17, X12042,2,20090509,2215,-16.7537,-127.3397, 4001,   2199.4,2,   1.9558,2,   1.95592,2,  34.6560,2,  34.6558,2,   148.28,2,   148.19,2,   119.05,2,     0.38,    36.06,2,     0.13,     0.01,2,     0.01,    2.520,2,    0.016,    0.000,2,    0.000,2,    0.000,2,   2311.8,2,   2397.6,2,   7.5785,  25,2,  -999.00,9,  -999.00,   -999.0,9,   -999.0,   1.8030,  27.7115
  49NZ20090410,   P21,   121,  1,     16, X12016,2,20090509,2215,-16.7537,-127.3397, 4001,   2400.8,2,   1.8821,2,   1.88210,2,  34.6641,2,  34.6636,2,   149.84,2,   149.72,2,   122.19,2,     0.39,    35.92,2,     0.13,     0.01,2,     0.01,    2.504,2,    0.016,    0.001,2,    0.000,2,    0.000,2,   2314.4,6,   2402.7,2,   7.5840,  25,2,  -999.00,9,  -999.00,   -999.0,9,   -999.0,   1.7129,  27.7248
  49NZ20090410,   P21,   121,  1,     15, X12015,2,20090509,2215,-16.7537,-127.3397, 4001,   2600.0,2,   1.8228,2,   1.82282,2,  34.6698,2,  34.6698,2,   151.42,2,   151.21,2,   124.71,2,     0.39,    35.80,2,     0.13,     0.01,2,     0.01,    2.501,2,    0.016,    0.000,2,    0.000,2,    0.000,2,   2315.8,2,   2405.5,6,   7.5877,  25,2,  -999.00,9,  -999.00,   -999.0,9,   -999.0,   1.6367,  27.7351
  49NZ20090410,   P21,   121,  1,     14, X12050,2,20090509,2215,-16.7537,-127.3397, 4001,   2802.1,2,   1.7706,2,   1.77064,2,  34.6738,2,  34.6735,2,   153.74,2,   153.50,2,   126.02,2,     0.40,    35.78,2,     0.13,     0.01,2,     0.01,    2.495,2,    0.016,    0.000,2,    0.001,2,    0.000,2,   2315.2,2,   2407.5,2,   7.5924,  25,6,  -999.00,9,  -999.00,   -999.0,9,   -999.0,   1.5668,  27.7435
  49NZ20090410,   P21,   121,  1,     13, X12013,7,20090509,2215,-16.7537,-127.3397, 4001,   3001.3,2,   1.7207,2,   1.72059,2,  34.6766,2,  34.6771,6,   156.94,2,   156.73,2,   126.38,2,     0.40,    35.47,2,     0.13,     0.01,2,     0.01,    2.479,2,    0.016,    0.002,2,    0.001,2,    0.000,2,   2313.5,2,   2407.3,2,   7.5973,  25,2,  -999.00,9,  -999.00,   -999.0,9,   -999.0,   1.4989,  27.7508
  49NZ20090410,   P21,   121,  1,     12, X12012,2,20090509,2215,-16.7537,-127.3397, 4001,   3250.6,2,   1.6582,2,   1.65815,2,  34.6801,2,  34.6798,2,   160.99,2,   160.78,2,   126.41,2,     0.40,    35.19,2,     0.13,     0.01,2,     0.01,    2.468,2,    0.016,    0.000,2,    0.000,2,    0.000,2,   2311.4,2,   2407.1,2,   7.6008,  25,2,  -999.00,9,  -999.00,   -999.0,9,   -999.0,   1.4134,  27.7597
  49NZ20090410,   P21,   121,  1,     11, X12041,2,20090509,2215,-16.7537,-127.3397, 4001,   3501.2,2,   1.6040,2,   1.60398,2,  34.6842,2,  34.6839,2,   163.46,2,   163.20,2,   127.77,2,     0.40,    35.25,2,     0.13,     0.01,2,     0.01,    2.460,2,    0.016,    0.000,2,    0.001,2,    0.000,2,   2311.1,2,   2408.1,2,   7.6049,  25,2,  -999.00,9,  -999.00,   -999.0,9,   -999.0,   1.3351,  27.7686
  49NZ20090410,   P21,   121,  1,     10, X12040,2,20090509,2215,-16.7537,-127.3397, 4001,   3749.4,2,   1.5658,2,   1.56573,2,  34.6875,2,  34.6881,2,   166.21,2,   165.91,2,   128.08,2,     0.40,    35.00,2,     0.13,     0.01,2,     0.01,    2.443,2,    0.016,    0.001,6,    0.001,6,    0.000,6,   2309.9,2,   2408.7,2,   7.6092,  25,2,  -999.00,9,  -999.00,   -999.0,9,   -999.0,   1.2720,  27.7757
  49NZ20090410,   P21,   121,  1,      9, X12009,9,20090509,2215,-16.7537,-127.3397, 4001,      9.0,2,  27.4581,2,  27.45783,2,  36.3284,2,-999.0000,9,   200.37,2,  -999.00,9,  -999.00,9,  -999.00,  -999.00,9,  -999.00,  -999.00,9,  -999.00, -999.000,9, -999.000, -999.000,9, -999.000,9, -999.000,9,   -999.0,9,   -999.0,9,-999.0000,-999,9,  -999.00,9,  -999.00,   -999.0,9,   -999.0,  27.4560,  23.5716
  49NZ20090410,   P21,   121,  1,      8, X12008,9,20090509,2215,-16.7537,-127.3397, 4001,     49.8,2,  27.3454,2,  27.34547,2,  36.3205,2,-999.0000,9,   200.29,2,  -999.00,9,  -999.00,9,  -999.00,  -999.00,9,  -999.00,  -999.00,9,  -999.00, -999.000,9, -999.000, -999.000,9, -999.000,9, -999.000,9,   -999.0,9,   -999.0,9,-999.0000,-999,9,  -999.00,9,  -999.00,   -999.0,9,   -999.0,  27.3338,  23.6052
  49NZ20090410,   P21,   121,  1,      7, X12007,9,20090509,2215,-16.7537,-127.3397, 4001,    100.0,2,  24.7450,2,  24.74974,2,  36.3787,2,-999.0000,9,   197.68,2,  -999.00,9,  -999.00,9,  -999.00,  -999.00,9,  -999.00,  -999.00,9,  -999.00, -999.000,9, -999.000, -999.000,9, -999.000,9, -999.000,9,   -999.0,9,   -999.0,9,-999.0000,-999,9,  -999.00,9,  -999.00,   -999.0,9,   -999.0,  24.7234,  24.4679
  49NZ20090410,   P21,   121,  1,      6, X12035,9,20090509,2215,-16.7537,-127.3397, 4001,    149.1,2,  23.1606,2,  23.16056,2,  36.3353,2,-999.0000,9,   192.63,2,  -999.00,9,  -999.00,9,  -999.00,  -999.00,9,  -999.00,  -999.00,9,  -999.00, -999.000,9, -999.000, -999.000,9, -999.000,9, -999.000,9,   -999.0,9,   -999.0,9,-999.0000,-999,9,  -999.00,9,  -999.00,   -999.0,9,   -999.0,  23.1298,  24.9090
  49NZ20090410,   P21,   121,  1,      5, X12038,9,20090509,2215,-16.7537,-127.3397, 4001,    199.1,2,  20.9525,2,  20.95621,2,  35.9522,2,-999.0000,9,   190.19,2,  -999.00,9,  -999.00,9,  -999.00,  -999.00,9,  -999.00,  -999.00,9,  -999.00, -999.000,9, -999.000, -999.000,9, -999.000,9, -999.000,9,   -999.0,9,   -999.0,9,-999.0000,-999,9,  -999.00,9,  -999.00,   -999.0,9,   -999.0,  20.9142,  25.2424
  49NZ20090410,   P21,   121,  1,      4, X12034,9,20090509,2215,-16.7537,-127.3397, 4001,    250.0,2,  18.7437,2,  18.74156,2,  35.5088,2,-999.0000,9,   181.79,2,  -999.00,9,  -999.00,9,  -999.00,  -999.00,9,  -999.00,  -999.00,9,  -999.00, -999.000,9, -999.000, -999.000,9, -999.000,9, -999.000,9,   -999.0,9,   -999.0,9,-999.0000,-999,9,  -999.00,9,  -999.00,   -999.0,9,   -999.0,  18.6993,  25.4867
  49NZ20090410,   P21,   121,  1,      3, X12033,9,20090509,2215,-16.7537,-127.3397, 4001,    299.8,2,  14.9925,2,  14.99496,2,  34.9230,2,-999.0000,9,   161.95,2,  -999.00,9,  -999.00,9,  -999.00,  -999.00,9,  -999.00,  -999.00,9,  -999.00, -999.000,9, -999.000, -999.000,9, -999.000,9, -999.000,9,   -999.0,9,   -999.0,9,-999.0000,-999,9,  -999.00,9,  -999.00,   -999.0,9,   -999.0,  14.9470,  25.9242
  49NZ20090410,   P21,   121,  1,      2, X12032,2,20090509,2215,-16.7537,-127.3397, 4001,     72.5,2,  26.2072,2,  26.23095,2,  36.3433,2,-999.0000,9,   202.04,2,  -999.00,9,  -999.00,9,  -999.00,  -999.00,9,  -999.00,  -999.00,9,  -999.00, -999.000,9, -999.000, -999.000,9, -999.000,9, -999.000,9,   -999.0,9,   -999.0,9,-999.0000,-999,9,  -999.00,9,  -999.00,   -999.0,9,   -999.0,  26.1909,  23.9872
  49NZ20090410,   P21,   121,  1,      1, X12046,2,20090509,2215,-16.7537,-127.3397, 4001,   4044.9,2,   1.5755,2,   1.57536,2,  34.6886,2,  34.6887,6,   167.42,2,   167.06,2,   128.15,2,     0.40,    34.88,2,     0.13,     0.01,2,     0.01,    2.439,2,    0.016,    0.001,2,    0.000,2,    0.000,2,   2311.0,2,   2408.3,2,   7.6100,  25,2,  -999.00,9,  -999.00,   -999.0,9,   -999.0,   1.2495,  27.7782