BOTTLE,20220818CCHSIOAMB
EXPOCODE,SECT_ID,STNNBR,CASTNO,SAMPNO,BTLNBR,BTLNBR_FLAG_W,DATE,TIME,LATITUDE,LONGITUDE,DEPTH,CTDPRS,CTDPRS_FLAG_W,CTDTMP,CTDTMP_FLAG_W,SBE35,SBE35_FLAG_W,CTDSAL,CTDSAL_FLAG_W,SALNTY,SALNTY_FLAG_W,CTDOXY,CTDOXY_FLAG_W,OXYGEN,OXYGEN_FLAG_W,SILCAT,SILCAT_FLAG_W,SILUNC,NITRAT,NITRAT_FLAG_W,NRAUNC,NITRIT,NITRIT_FLAG_W,NRIUNC,PHSPHT,PHSPHT_FLAG_W,PHPUNC,CFC-11,CFC-11_FLAG_W,CFC-12,CFC-12_FLAG_W,CFC113,CFC113_FLAG_W,TCARBN,TCARBN_FLAG_W,ALKALI,ALKALI_FLAG_W,PH_TOT,PH_TMP,PH_TOT_FLAG_W,DELC13,DELC13_FLAG_W,C13ERR,DELC14,DELC14_FLAG_W,C14ERR,THETA,SIG0
,,,,,,,,,,,METERS,DBAR,,ITS-90,,ITS-90,,PSS-78,,PSS-78,,UMOL/KG,,UMOL/KG,,UMOL/KG,,UMOL/KG,UMOL/KG,,UMOL/KG,UMOL/KG,,UMOL/KG,UMOL/KG,,UMOL/KG,PMOL/KG,,PMOL/KG,,PMOL/KG,,UMOL/KG,,UMOL/KG,,,DEG C,,/MILLE,,/MILLE,/MILLE,,/MILLE,DEG C,KG/M^3
  49NZ20090410,   P21,   112,  1,     36, X12006,2,20090507,2206,-16.7490,-121.3370, 3613,      9.9,2,  26.6478,2,  26.64394,2,  36.4786,2,  36.4801,2,   202.56,2,   202.37,2,     0.71,2,     0.12,     0.30,2,     0.03,     0.02,2,     0.01,    0.303,2,    0.014,    1.538,2,    0.993,2, -999.000,5,   2053.3,2,   2407.5,2,   8.1060,  25,6,  -999.00,9,  -999.00,   -999.0,9,   -999.0,  26.6455,  23.9453
  49NZ20090410,   P21,   112,  1,     35, X12047,2,20090507,2206,-16.7490,-121.3370, 3613,     49.5,2,  26.3340,2,  26.33729,2,  36.5691,2,  36.5654,2,   202.83,2,   202.85,2,     0.70,2,     0.12,     0.16,2,     0.03,     0.02,2,     0.01,    0.293,2,    0.014,    1.543,2,    0.998,2, -999.000,5,   2058.6,6,   2411.8,2,   8.1033,  25,2,  -999.00,9,  -999.00,   -999.0,9,   -999.0,  26.3228,  24.1161
  49NZ20090410,   P21,   112,  1,     34, X12004,2,20090507,2206,-16.7490,-121.3370, 3613,     98.8,2,  23.0735,2,  23.06366,2,  36.3062,2,  36.3055,2,   206.72,2,   206.96,2,     0.61,2,     0.12,     0.16,2,     0.03,     0.04,2,     0.01,    0.330,2,    0.014,    1.827,6,    1.159,6, -999.000,5,   2084.9,2,   2394.0,6,   8.0408,  25,2,  -999.00,9,  -999.00,   -999.0,9,   -999.0,  23.0532,  24.9092
  49NZ20090410,   P21,   112,  1,     33, X12003,2,20090507,2206,-16.7490,-121.3370, 3613,    150.9,2,  21.6585,2,  21.66233,2,  36.1049,2,  36.1057,2,   206.77,2,   206.52,2,     0.52,2,     0.12,     0.11,2,     0.03,     0.18,2,     0.01,    0.246,2,    0.015,    1.932,2,    1.214,2, -999.000,5,   2076.6,2,   2375.4,2,   8.0281,  25,6,  -999.00,9,  -999.00,   -999.0,9,   -999.0,  21.6288,  25.1617
  49NZ20090410,   P21,   112,  1,     32, X12002,2,20090507,2206,-16.7490,-121.3370, 3613,    199.4,2,  20.2128,2,  20.20760,2,  35.8094,2,  35.8039,2,   201.76,2,   202.06,2,     0.52,2,     0.12,     1.03,2,     0.04,     0.12,2,     0.01,    0.305,2,    0.014,    2.079,2,    1.278,2,    0.171,2,   2079.6,2,   2354.7,2,   7.9947,  25,2,  -999.00,9,  -999.00,   -999.0,9,   -999.0,  20.1755,  25.3327
  49NZ20090410,   P21,   112,  1,     31, X12001,2,20090507,2206,-16.7490,-121.3370, 3613,    249.9,2,  17.6346,2,  17.64814,2,  35.3194,2,  35.3170,6,   196.26,2,   196.22,2,     0.76,2,     0.12,     3.52,2,     0.04,     0.02,2,     0.01,    0.455,2,    0.013,    2.347,2,    1.409,2,    0.063,2,   2084.1,2,   2324.2,2,   7.9415,  25,2,  -999.00,9,  -999.00,   -999.0,9,   -999.0,  17.5921,  25.6168
  49NZ20090410,   P21,   112,  1,     30, X12030,2,20090507,2206,-16.7490,-121.3370, 3613,    299.1,2,  13.7286,2,  13.70404,2,  34.7187,2,  34.7183,2,   170.93,2,   170.47,2,     3.18,2,     0.13,    11.51,2,     0.07,     0.02,2,     0.01,    1.049,2,    0.013,    2.616,2,    1.484,2,    0.068,2,   2119.9,2,   2290.3,2,   7.8080,  25,2,  -999.00,9,  -999.00,   -999.0,9,   -999.0,  13.6859,  26.0352
  49NZ20090410,   P21,   112,  1,     29, X12044,2,20090507,2206,-16.7490,-121.3370, 3613,    398.6,2,   8.5326,2,   8.53650,2,  34.4456,2,  34.4453,2,   105.42,2,   105.24,2,    15.75,2,     0.15,    29.08,2,     0.11,     0.01,2,     0.01,    2.247,2,    0.016,    1.246,2,    0.641,2,    0.057,2,   2214.5,2,   2279.7,2,   7.5390,  25,2,  -999.00,9,  -999.00,   -999.0,9,   -999.0,   8.4905,  26.7640
  49NZ20090410,   P21,   112,  1,     28, X12048,2,20090507,2206,-16.7490,-121.3370, 3613,    499.7,2,   6.5200,2,   6.51796,2,  34.3847,2,  34.3858,6,   144.19,2,   142.76,2,    19.28,2,     0.16,    32.00,2,     0.12,     0.02,2,     0.01,    2.261,2,    0.016,    0.689,2,    0.358,2,    0.027,2,   2207.0,2,   2284.0,2,   7.5716,  25,2,  -999.00,9,  -999.00,   -999.0,9,   -999.0,   6.4745,  27.0050
  49NZ20090410,   P21,   112,  1,     27, X12027,2,20090507,2206,-16.7490,-121.3370, 3613,    601.8,2,   5.8925,2,   5.89246,2,  34.4300,2,  34.4304,2,   116.88,2,   116.66,2,    32.07,2,     0.19,    35.86,2,     0.13,     0.01,2,     0.01,    2.503,2,    0.016,    0.131,6,    0.073,6,    0.018,6,   2235.0,2,   2296.9,2,   7.5320,  25,2,  -999.00,9,  -999.00,   -999.0,9,   -999.0,   5.8401,  27.1224
  49NZ20090410,   P21,   112,  1,     26, X12026,2,20090507,2206,-16.7490,-121.3370, 3613,    699.3,2,   5.3335,2,   5.33360,2,  34.4485,2,  34.4485,2,   114.01,2,   113.94,2,    42.56,2,     0.21,    36.89,2,     0.14,     0.01,2,     0.01,    2.586,2,    0.016,    0.051,2,    0.030,2,    0.005,2,   2246.6,6,   2308.2,2,   7.5252,  25,2,  -999.00,9,  -999.00,   -999.0,9,   -999.0,   5.2750,  27.2059
  49NZ20090410,   P21,   112,  1,     25, X12025,2,20090507,2206,-16.7490,-121.3370, 3613,    799.3,2,   5.0239,2,   5.02338,2,  34.4872,2,  34.4875,3,    98.93,2,    99.98,2,    53.86,2,     0.24,    38.69,2,     0.14,     0.01,2,     0.01,    2.717,2,    0.017,    0.015,2,    0.008,2,    0.000,2,   2265.4,2,   2321.3,6,   7.5034,  25,2,  -999.00,9,  -999.00,   -999.0,9,   -999.0,   4.9583,  27.2735
  49NZ20090410,   P21,   112,  1,     24, X12024,2,20090507,2206,-16.7490,-121.3370, 3613,    900.5,2,   4.5691,2,   4.56892,2,  34.5028,2,  34.5026,2,   101.24,2,   102.99,2,    63.15,2,     0.26,    38.76,2,     0.14,     0.01,2,     0.01,    2.741,2,    0.017,    0.008,2,    0.003,2,    0.000,2,   2274.1,2,   2331.4,2,   7.5064,  25,6,  -999.00,9,  -999.00,   -999.0,9,   -999.0,   4.4977,  27.3376
  49NZ20090410,   P21,   112,  1,     23, X12028,2,20090507,2206,-16.7490,-121.3370, 3613,    999.2,2,   4.2211,2,   4.22014,2,  34.5185,2,  34.5190,6,   100.62,2,   100.63,2,    71.34,2,     0.28,    39.32,2,     0.14,     0.01,2,     0.01,    2.784,2,    0.017,    0.003,2,    0.005,2,    0.000,2,   2286.4,2,   2340.3,2,   7.4999,  25,2,  -999.00,9,  -999.00,   -999.0,9,   -999.0,   4.1438,  27.3881
  49NZ20090410,   P21,   112,  1,     22, X12022,2,20090507,2206,-16.7490,-121.3370, 3613,   1200.1,2,   3.6211,2,   3.62193,2,  34.5480,2,  34.5490,2,   100.84,2,   100.88,2,    86.02,2,     0.31,    39.68,2,     0.14,     0.02,2,     0.01,    2.821,2,    0.017,    0.004,2,    0.000,2,    0.000,2,   2301.7,2,   2356.1,2,   7.4982,  25,2,  -999.00,9,  -999.00,   -999.0,9,   -999.0,   3.5319,  27.4739
  49NZ20090410,   P21,   112,  1,     21, X12021,2,20090507,2206,-16.7490,-121.3370, 3613,   1398.9,2,   3.1054,2,   3.10268,2,  34.5767,2,  34.5770,2,   106.50,2,   106.13,2,    99.04,2,     0.34,    39.36,2,     0.14,     0.01,2,     0.01,    2.807,2,    0.017,    0.000,2,    0.000,2,    0.000,2,   2312.9,2,   2370.7,2,   7.5070,  25,2,  -999.00,9,  -999.00,   -999.0,9,   -999.0,   3.0048,  27.5467
  49NZ20090410,   P21,   112,  1,     20, X12020,2,20090507,2206,-16.7490,-121.3370, 3613,   1600.8,2,   2.7062,2,   2.70623,2,  34.5993,2,  34.5997,2,   117.36,2,   117.64,2,   106.60,2,     0.35,    38.52,2,     0.14,     0.01,2,     0.01,    2.732,2,    0.017,    0.000,2,    0.000,2,    0.000,2,   2315.6,2,   2379.8,2,   7.5254,  25,6,  -999.00,9,  -999.00,   -999.0,9,   -999.0,   2.5934,  27.6015
  49NZ20090410,   P21,   112,  1,     19, X12019,2,20090507,2206,-16.7490,-121.3370, 3613,   1799.4,2,   2.3658,2,   2.36552,2,  34.6219,2,  34.6223,6,   131.43,2,   131.53,2,   111.76,2,     0.36,    37.36,2,     0.14,     0.01,2,     0.01,    2.637,2,    0.017,    0.001,2,    0.000,2,    0.000,2,   2312.6,2,   2386.1,2,   7.5494,  25,2,  -999.00,9,  -999.00,   -999.0,9,   -999.0,   2.2409,  27.6493
  49NZ20090410,   P21,   112,  1,     18, X12043,2,20090507,2206,-16.7490,-121.3370, 3613,   2002.4,2,   2.0901,2,   2.09007,2,  34.6429,2,  34.6432,2,   143.88,2,   143.86,2,   115.30,2,     0.37,    36.38,2,     0.13,     0.01,2,     0.01,    2.553,2,    0.016,    0.000,2,    0.000,2,    0.000,2,   2310.3,2,   2391.2,2,   7.5708,  25,2,  -999.00,9,  -999.00,   -999.0,9,   -999.0,   1.9521,  27.6893
  49NZ20090410,   P21,   112,  1,     17, X12042,2,20090507,2206,-16.7490,-121.3370, 3613,   2199.1,2,   1.9291,2,   1.92904,2,  34.6576,2,  34.6577,2,   151.51,2,   151.45,2,   118.07,2,     0.38,    35.75,2,     0.13,     0.01,2,     0.01,    2.501,2,    0.016,    0.000,2,    0.000,2,    0.000,2,   2307.9,2,   2395.1,2,   7.5848,  25,2,  -999.00,9,  -999.00,   -999.0,9,   -999.0,   1.7768,  27.7147
  49NZ20090410,   P21,   112,  1,     16, X12016,2,20090507,2206,-16.7490,-121.3370, 3613,   2400.1,2,   1.8512,2,   1.85123,2,  34.6664,2,  34.6666,2,   154.01,2,   154.04,2,   120.61,2,     0.38,    35.46,2,     0.13,     0.02,2,     0.01,    2.475,2,    0.016,    0.000,2,    0.002,2,    0.000,2,   2310.4,6,   2398.8,2,   7.5910,  25,2,  -999.00,9,  -999.00,   -999.0,9,   -999.0,   1.6826,  27.7289
  49NZ20090410,   P21,   112,  1,     15, X12015,2,20090507,2206,-16.7490,-121.3370, 3613,   2599.5,2,   1.7993,2,   1.79930,2,  34.6710,2,  34.6706,6,   156.46,2,   156.45,2,   122.12,2,     0.39,    35.33,2,     0.13,     0.01,2,     0.01,    2.475,2,    0.016,    0.001,2,    0.001,2,    0.000,2,   2313.0,2,   2401.3,6,   7.5966,  25,2,  -999.00,9,  -999.00,   -999.0,9,   -999.0,   1.6137,  27.7378
  49NZ20090410,   P21,   112,  1,     14, X12050,2,20090507,2206,-16.7490,-121.3370, 3613,   2799.9,2,   1.7590,2,   1.75909,2,  34.6744,2,  34.6742,2,   158.02,2,   157.98,2,   123.41,2,     0.39,    35.44,2,     0.13,     0.01,2,     0.01,    2.470,2,    0.016,    0.002,2,    0.001,2,    0.000,2,   2313.1,2,   2403.6,2,   7.6000,  25,2,  -999.00,9,  -999.00,   -999.0,9,   -999.0,   1.5556,  27.7448
  49NZ20090410,   P21,   112,  1,     13, X12013,3,20090507,2206,-16.7490,-121.3370, 3613,   3000.2,2,   1.7399,2,   1.73974,2,  34.6760,2,  34.6763,2,   159.67,2,   159.63,2,   123.77,2,     0.39,    35.27,2,     0.13,     0.01,2,     0.01,    2.460,2,    0.016,    0.001,2,    0.002,2,    0.000,2,   2311.4,2,   2403.9,2,   7.6029,  25,2,  -999.00,9,  -999.00,   -999.0,9,   -999.0,   1.5178,  27.7488
  49NZ20090410,   P21,   112,  1,     12, X12012,2,20090507,2206,-16.7490,-121.3370, 3613,   3250.5,2,   1.7305,2,   1.73043,2,  34.6778,2,  34.6775,2,   160.28,2,   160.34,2,   125.00,2,     0.39,    35.31,2,     0.13,     0.01,2,     0.01,    2.464,2,    0.016,    0.000,2,    0.000,2,    0.000,2,   2311.5,2,   2405.6,2,   7.6034,  25,2,  -999.00,9,  -999.00,   -999.0,9,   -999.0,   1.4840,  27.7528
  49NZ20090410,   P21,   112,  1,     11, X12041,2,20090507,2206,-16.7490,-121.3370, 3613,   3500.5,2,   1.7021,2,   1.70205,2,  34.6802,2,  34.6803,2,   161.62,2,   161.66,2,   125.94,2,     0.40,    35.28,2,     0.13,     0.01,2,     0.01,    2.459,2,    0.016,    0.000,2,    0.000,2,    0.000,2,   2311.3,2,   2407.3,2,   7.6060,  25,2,  -999.00,9,  -999.00,   -999.0,9,   -999.0,   1.4308,  27.7586
  49NZ20090410,   P21,   112,  1,     10, X12040,9,20090507,2206,-16.7490,-121.3370, 3613,    900.5,2,   4.5692,2,   4.56909,2,  34.5022,2,-999.0000,9,   102.16,2,  -999.00,9,  -999.00,9,  -999.00,  -999.00,9,  -999.00,  -999.00,9,  -999.00, -999.000,9, -999.000, -999.000,9, -999.000,9, -999.000,9,   -999.0,9,   -999.0,9,-999.0000,-999,9,  -999.00,9,  -999.00,   -999.0,9,   -999.0,   4.4978,  27.3371
  49NZ20090410,   P21,   112,  1,      9, X12009,9,20090507,2206,-16.7490,-121.3370, 3613,      9.4,2,  26.6440,2,  26.64505,2,  36.4791,2,-999.0000,9,   202.61,2,  -999.00,9,  -999.00,9,  -999.00,  -999.00,9,  -999.00,  -999.00,9,  -999.00, -999.000,9, -999.000, -999.000,9, -999.000,9, -999.000,9,   -999.0,9,   -999.0,9,-999.0000,-999,9,  -999.00,9,  -999.00,   -999.0,9,   -999.0,  26.6419,  23.9469
  49NZ20090410,   P21,   112,  1,      8, X12008,9,20090507,2206,-16.7490,-121.3370, 3613,     49.2,2,  26.3854,2,  26.38740,2,  36.5597,2,-999.0000,9,   202.65,2,  -999.00,9,  -999.00,9,  -999.00,  -999.00,9,  -999.00,  -999.00,9,  -999.00, -999.000,9, -999.000, -999.000,9, -999.000,9, -999.000,9,   -999.0,9,   -999.0,9,-999.0000,-999,9,  -999.00,9,  -999.00,   -999.0,9,   -999.0,  26.3742,  24.0927
  49NZ20090410,   P21,   112,  1,      7, X12007,9,20090507,2206,-16.7490,-121.3370, 3613,     99.1,2,  23.0741,2,  23.06810,2,  36.3060,2,-999.0000,9,   207.22,2,  -999.00,9,  -999.00,9,  -999.00,  -999.00,9,  -999.00,  -999.00,9,  -999.00, -999.000,9, -999.000, -999.000,9, -999.000,9, -999.000,9,   -999.0,9,   -999.0,9,-999.0000,-999,9,  -999.00,9,  -999.00,   -999.0,9,   -999.0,  23.0537,  24.9089
  49NZ20090410,   P21,   112,  1,      6, X12035,9,20090507,2206,-16.7490,-121.3370, 3613,    150.9,2,  21.6529,2,  21.65493,2,  36.1043,2,-999.0000,9,   206.78,2,  -999.00,9,  -999.00,9,  -999.00,  -999.00,9,  -999.00,  -999.00,9,  -999.00, -999.000,9, -999.000, -999.000,9, -999.000,9, -999.000,9,   -999.0,9,   -999.0,9,-999.0000,-999,9,  -999.00,9,  -999.00,   -999.0,9,   -999.0,  21.6232,  25.1628
  49NZ20090410,   P21,   112,  1,      5, X12038,9,20090507,2206,-16.7490,-121.3370, 3613,    199.4,2,  20.2277,2,  20.22714,2,  35.8126,2,-999.0000,9,   201.87,2,  -999.00,9,  -999.00,9,  -999.00,  -999.00,9,  -999.00,  -999.00,9,  -999.00, -999.000,9, -999.000, -999.000,9, -999.000,9, -999.000,9,   -999.0,9,   -999.0,9,-999.0000,-999,9,  -999.00,9,  -999.00,   -999.0,9,   -999.0,  20.1904,  25.3312
  49NZ20090410,   P21,   112,  1,      4, X12034,9,20090507,2206,-16.7490,-121.3370, 3613,    250.0,2,  17.5995,2,  17.61208,2,  35.3141,2,-999.0000,9,   196.74,2,  -999.00,9,  -999.00,9,  -999.00,  -999.00,9,  -999.00,  -999.00,9,  -999.00, -999.000,9, -999.000, -999.000,9, -999.000,9, -999.000,9,   -999.0,9,   -999.0,9,-999.0000,-999,9,  -999.00,9,  -999.00,   -999.0,9,   -999.0,  17.5571,  25.6212
  49NZ20090410,   P21,   112,  1,      3, X12033,9,20090507,2206,-16.7490,-121.3370, 3613,    299.1,2,  13.7253,2,  13.72133,2,  34.7186,2,-999.0000,9,   171.30,2,  -999.00,9,  -999.00,9,  -999.00,  -999.00,9,  -999.00,  -999.00,9,  -999.00, -999.000,9, -999.000, -999.000,9, -999.000,9, -999.000,9,   -999.0,9,   -999.0,9,-999.0000,-999,9,  -999.00,9,  -999.00,   -999.0,9,   -999.0,  13.6826,  26.0358
  49NZ20090410,   P21,   112,  1,      2, X12032,9,20090507,2206,-16.7490,-121.3370, 3613,    399.1,2,   8.5617,2,   8.56138,2,  34.4459,2,-999.0000,9,   105.25,2,  -999.00,9,  -999.00,9,  -999.00,  -999.00,9,  -999.00,  -999.00,9,  -999.00, -999.000,9, -999.000, -999.000,9, -999.000,9, -999.000,9,   -999.0,9,   -999.0,9,-999.0000,-999,9,  -999.00,9,  -999.00,   -999.0,9,   -999.0,   8.5194,  26.7598
  49NZ20090410,   P21,   112,  1,      1, X12046,2,20090507,2206,-16.7490,-121.3370, 3613,   3651.4,2,   1.7056,2,   1.70555,2,  34.6808,2,  34.6804,6,   161.97,2,   161.81,2,   126.12,2,     0.40,    35.23,2,     0.13,     0.01,2,     0.01,    2.458,2,    0.016,    0.002,2,    0.001,2,    0.000,2,   2313.4,2,   2406.6,2,   7.6068,  25,2,  -999.00,9,  -999.00,   -999.0,9,   -999.0,   1.4185,  27.7599