BOTTLE,20220818CCHSIOAMB
EXPOCODE,SECT_ID,STNNBR,CASTNO,SAMPNO,BTLNBR,BTLNBR_FLAG_W,DATE,TIME,LATITUDE,LONGITUDE,DEPTH,CTDPRS,CTDPRS_FLAG_W,CTDTMP,CTDTMP_FLAG_W,SBE35,SBE35_FLAG_W,CTDSAL,CTDSAL_FLAG_W,SALNTY,SALNTY_FLAG_W,CTDOXY,CTDOXY_FLAG_W,OXYGEN,OXYGEN_FLAG_W,SILCAT,SILCAT_FLAG_W,SILUNC,NITRAT,NITRAT_FLAG_W,NRAUNC,NITRIT,NITRIT_FLAG_W,NRIUNC,PHSPHT,PHSPHT_FLAG_W,PHPUNC,CFC-11,CFC-11_FLAG_W,CFC-12,CFC-12_FLAG_W,CFC113,CFC113_FLAG_W,TCARBN,TCARBN_FLAG_W,ALKALI,ALKALI_FLAG_W,PH_TOT,PH_TMP,PH_TOT_FLAG_W,DELC13,DELC13_FLAG_W,C13ERR,DELC14,DELC14_FLAG_W,C14ERR,THETA,SIG0
,,,,,,,,,,,METERS,DBAR,,ITS-90,,ITS-90,,PSS-78,,PSS-78,,UMOL/KG,,UMOL/KG,,UMOL/KG,,UMOL/KG,UMOL/KG,,UMOL/KG,UMOL/KG,,UMOL/KG,UMOL/KG,,UMOL/KG,PMOL/KG,,PMOL/KG,,PMOL/KG,,UMOL/KG,,UMOL/KG,,,DEG C,,/MILLE,,/MILLE,/MILLE,,/MILLE,DEG C,KG/M^3
  49NZ20090410,   P21,   140,  1,     36, X12006,2,20090514,1126,-16.7487,-139.9968, 2579,      9.7,2,  27.7094,2,  27.70918,2,  36.3950,2,  36.3952,2,   197.36,2,   197.85,2,     0.81,2,     0.12,     0.07,2,     0.03,     0.00,2,     0.01,    0.248,2,    0.015,    1.452,2,    0.948,2, -999.000,5,   -999.0,9,   -999.0,9,-999.0000,-999,9,  -999.00,9,  -999.00,   -999.0,9,   -999.0,  27.7071,  23.5401
  49NZ20090410,   P21,   140,  1,     35, X12047,2,20090514,1126,-16.7487,-139.9968, 2579,     49.5,2,  27.2924,2,  27.33749,2,  36.4115,2,  36.4149,2,   200.70,2,   202.62,2,     0.71,2,     0.12,     0.05,2,     0.03,     0.00,2,     0.01,    0.239,2,    0.015,    1.515,2,    0.982,2, -999.000,5,   -999.0,9,   -999.0,9,-999.0000,-999,9,  -999.00,9,  -999.00,   -999.0,9,   -999.0,  27.2809,  23.6909
  49NZ20090410,   P21,   140,  1,     34, X12004,2,20090514,1126,-16.7487,-139.9968, 2579,    100.3,2,  24.1012,2,  24.10175,2,  36.3492,2,  36.3490,2,   196.19,2,   196.63,2,     0.56,2,     0.12,     0.10,2,     0.03,     0.30,2,     0.01,    0.268,2,    0.015,    1.724,6,    1.102,6, -999.000,5,   -999.0,9,   -999.0,9,-999.0000,-999,9,  -999.00,9,  -999.00,   -999.0,9,   -999.0,  24.0799,  24.6394
  49NZ20090410,   P21,   140,  1,     33, X12003,2,20090514,1126,-16.7487,-139.9968, 2579,    150.8,2,  22.7984,2,  22.80001,2,  36.1745,2,  36.1769,2,   188.75,2,   189.01,2,     0.60,2,     0.12,     0.91,2,     0.04,     0.60,2,     0.00,    0.338,2,    0.014,    1.830,2,    1.145,2,    0.185,4,   -999.0,9,   -999.0,9,-999.0000,-999,9,  -999.00,9,  -999.00,   -999.0,9,   -999.0,  22.7676,  24.8919
  49NZ20090410,   P21,   140,  1,     32, X12002,2,20090514,1126,-16.7487,-139.9968, 2579,    200.0,2,  20.3156,2,  20.31037,2,  35.7691,2,  35.7703,2,   184.27,2,   184.29,2,     0.69,2,     0.12,     2.96,2,     0.04,     0.01,2,     0.01,    0.431,2,    0.013,    2.082,2,    1.273,2,    0.061,2,   -999.0,9,   -999.0,9,-999.0000,-999,9,  -999.00,9,  -999.00,   -999.0,9,   -999.0,  20.2780,  25.2746
  49NZ20090410,   P21,   140,  1,     31, X12001,2,20090514,1126,-16.7487,-139.9968, 2579,    250.3,2,  18.4849,2,  18.48484,2,  35.4532,2,  35.4537,6,   184.36,2,   184.51,2,     0.86,2,     0.12,     4.24,2,     0.04,     0.01,2,     0.01,    0.510,2,    0.013,    2.250,2,    1.340,2,    0.024,2,   -999.0,9,   -999.0,9,-999.0000,-999,9,  -999.00,9,  -999.00,   -999.0,9,   -999.0,  18.4409,  25.5093
  49NZ20090410,   P21,   140,  1,     30, X12030,2,20090514,1126,-16.7487,-139.9968, 2579,    279.6,2,  17.7237,2,  17.72367,2,  35.3479,2,  35.3478,2,   184.29,2,   184.87,2,     1.09,2,     0.12,     4.88,2,     0.05,     0.01,2,     0.01,    0.553,2,    0.013,    2.316,2,    1.351,2,    0.034,2,   -999.0,9,   -999.0,9,-999.0000,-999,9,  -999.00,9,  -999.00,   -999.0,9,   -999.0,  17.6760,  25.6182
  49NZ20090410,   P21,   140,  1,     29, X12044,2,20090514,1126,-16.7487,-139.9968, 2579,    369.1,2,  13.0542,2,  13.05824,2,  34.8007,2,  34.7965,2,   173.58,2,   172.07,2,     4.44,2,     0.13,    13.04,2,     0.07,     0.01,2,     0.01,    1.102,2,    0.013,    2.308,2,    1.247,2,    0.025,2,   -999.0,9,   -999.0,9,-999.0000,-999,9,  -999.00,9,  -999.00,   -999.0,9,   -999.0,  13.0031,  26.2379
  49NZ20090410,   P21,   140,  1,     28, X12048,2,20090514,1126,-16.7487,-139.9968, 2579,    469.8,2,   7.9078,2,   7.91210,2,  34.4373,2,  34.4376,6,   127.47,2,   127.42,2,    16.52,2,     0.16,    29.46,2,     0.12,     0.00,2,     0.01,    2.166,2,    0.015,    0.966,2,    0.496,2,    0.019,2,   -999.0,9,   -999.0,9,-999.0000,-999,9,  -999.00,9,  -999.00,   -999.0,9,   -999.0,   7.8601,  26.8526
  49NZ20090410,   P21,   140,  1,     27, X12027,2,20090514,1126,-16.7487,-139.9968, 2579,    569.7,2,   6.4268,2,   6.43204,2,  34.4025,2,  34.4023,2,   139.58,2,   139.85,2,    22.43,2,     0.17,    32.31,2,     0.12,     0.00,2,     0.01,    2.282,2,    0.016,    0.480,6,    0.252,6,    0.003,6,   -999.0,9,   -999.0,9,-999.0000,-999,9,  -999.00,9,  -999.00,   -999.0,9,   -999.0,   6.3750,  27.0322
  49NZ20090410,   P21,   140,  1,     26, X12026,2,20090514,1126,-16.7487,-139.9968, 2579,    671.6,2,   5.7478,2,   5.74798,2,  34.4456,2,  34.4462,2,   124.48,2,   124.30,2,    36.53,2,     0.20,    35.28,2,     0.13,     0.00,2,     0.01,    2.468,2,    0.016,    0.120,2,    0.063,2,    0.000,2,   -999.0,9,   -999.0,9,-999.0000,-999,9,  -999.00,9,  -999.00,   -999.0,9,   -999.0,   5.6897,  27.1534
  49NZ20090410,   P21,   140,  1,     25, X12025,2,20090514,1126,-16.7487,-139.9968, 2579,    770.2,2,   5.3252,2,   5.32492,2,  34.4758,2,  34.4756,2,   114.98,2,   115.03,2,    47.05,2,     0.22,    36.67,2,     0.14,     0.01,2,     0.01,    2.576,2,    0.016,    0.039,2,    0.025,2,    0.000,2,   -999.0,9,   -999.0,9,-999.0000,-999,9,  -999.00,9,  -999.00,   -999.0,9,   -999.0,   5.2604,  27.2292
  49NZ20090410,   P21,   140,  1,     24, X12024,2,20090514,1126,-16.7487,-139.9968, 2579,    869.7,2,   4.8947,2,   4.89565,2,  34.4927,2,  34.4927,2,   111.57,2,   111.77,2,    56.17,2,     0.24,    37.55,2,     0.14,     0.01,2,     0.01,    2.637,2,    0.017,    0.017,2,    0.011,2,    0.000,2,   -999.0,9,   -999.0,9,-999.0000,-999,9,  -999.00,9,  -999.00,   -999.0,9,   -999.0,   4.8238,  27.2932
  49NZ20090410,   P21,   140,  1,     23, X12028,2,20090514,1126,-16.7487,-139.9968, 2579,    971.3,2,   4.4445,2,   4.44634,2,  34.5086,2,  34.5086,6,   111.85,2,   111.85,2,    65.37,2,     0.26,    37.98,2,     0.14,     0.00,2,     0.01,    2.684,2,    0.017,    0.010,2,    0.010,2,    0.000,2,   -999.0,9,   -999.0,9,-999.0000,-999,9,  -999.00,9,  -999.00,   -999.0,9,   -999.0,   4.3679,  27.3563
  49NZ20090410,   P21,   140,  1,     22, X12022,2,20090514,1126,-16.7487,-139.9968, 2579,   1131.5,2,   3.8570,2,   3.85709,2,  34.5292,2,  34.5294,2,   119.44,2,   119.75,2,    76.14,2,     0.29,    37.70,2,     0.14,     0.00,2,     0.01,    2.662,2,    0.017,    0.007,2,    0.002,2,    0.000,2,   -999.0,9,   -999.0,9,-999.0000,-999,9,  -999.00,9,  -999.00,   -999.0,9,   -999.0,   3.7715,  27.4351
  49NZ20090410,   P21,   140,  1,     21, X12021,2,20090514,1126,-16.7487,-139.9968, 2579,   1330.6,2,   3.2617,2,   3.26140,2,  34.5517,2,  34.5516,2,   134.98,2,   135.21,2,    85.84,2,     0.31,    36.84,2,     0.14,     0.01,2,     0.01,    2.593,2,    0.016,    0.001,2,    0.001,2,    0.000,2,   -999.0,9,   -999.0,9,-999.0000,-999,9,  -999.00,9,  -999.00,   -999.0,9,   -999.0,   3.1651,  27.5119
  49NZ20090410,   P21,   140,  1,     20, X12020,2,20090514,1126,-16.7487,-139.9968, 2579,   1530.0,2,   2.8078,2,   2.80732,2,  34.5828,2,  34.5832,6,   137.34,2,   137.58,2,    97.14,2,     0.33,    36.83,2,     0.14,     0.00,2,     0.01,    2.591,2,    0.016,    0.000,2,    0.000,2,    0.000,2,   -999.0,9,   -999.0,9,-999.0000,-999,9,  -999.00,9,  -999.00,   -999.0,9,   -999.0,   2.6997,  27.5790
  49NZ20090410,   P21,   140,  1,     19, X12019,2,20090514,1126,-16.7487,-139.9968, 2579,   1732.1,2,   2.4449,2,   2.44473,2,  34.6085,2,  34.6085,2,   142.85,2,   143.08,2,   104.91,2,     0.35,    36.54,2,     0.14,     0.00,2,     0.01,    2.565,2,    0.016,    0.000,2,    0.000,2,    0.000,2,   -999.0,9,   -999.0,9,-999.0000,-999,9,  -999.00,9,  -999.00,   -999.0,9,   -999.0,   2.3245,  27.6316
  49NZ20090410,   P21,   140,  1,     18, X12043,2,20090514,1126,-16.7487,-139.9968, 2579,   1930.7,2,   2.1954,2,   2.19546,2,  34.6274,2,  34.6276,2,   149.00,2,   149.26,2,   109.99,2,     0.36,    36.08,2,     0.13,     0.00,2,     0.01,    2.527,2,    0.016,    0.000,2,    0.000,2,    0.000,2,   -999.0,9,   -999.0,9,-999.0000,-999,9,  -999.00,9,  -999.00,   -999.0,9,   -999.0,   2.0619,  27.6683
  49NZ20090410,   P21,   140,  1,     17, X12042,2,20090514,1126,-16.7487,-139.9968, 2579,   2130.0,2,   2.0350,2,   2.03494,2,  34.6429,2,  34.6431,6,   151.06,2,   151.25,2,   114.85,2,     0.37,    35.98,2,     0.13,     0.00,2,     0.01,    2.516,2,    0.016,    0.000,2,    0.000,2,    0.000,2,   -999.0,9,   -999.0,9,-999.0000,-999,9,  -999.00,9,  -999.00,   -999.0,9,   -999.0,   1.8869,  27.6945
  49NZ20090410,   P21,   140,  1,     16, X12016,2,20090514,1126,-16.7487,-139.9968, 2579,   2329.3,2,   1.9387,2,   1.93874,2,  34.6524,2,  34.6525,2,   153.48,2,   153.71,2,   117.00,2,     0.38,    35.72,2,     0.13,     0.00,2,     0.01,    2.495,2,    0.016,    0.000,2,    0.000,2,    0.000,2,   -999.0,9,   -999.0,9,-999.0000,-999,9,  -999.00,9,  -999.00,   -999.0,9,   -999.0,   1.7748,  27.7107
  49NZ20090410,   P21,   140,  1,     15, X12015,2,20090514,1126,-16.7487,-139.9968, 2579,   2530.2,2,   1.8140,2,   1.81385,2,  34.6612,2,  34.6614,2,   160.06,2,   160.21,2,   117.76,2,     0.38,    35.33,2,     0.13,     0.00,2,     0.01,    2.467,2,    0.016,    0.000,2,    0.000,2,    0.000,2,   -999.0,9,   -999.0,9,-999.0000,-999,9,  -999.00,9,  -999.00,   -999.0,9,   -999.0,   1.6344,  27.7284
  49NZ20090410,   P21,   140,  1,     14, X12050,9,20090514,1126,-16.7487,-139.9968, 2579,      9.9,2,  27.7076,2,  27.70783,2,  36.3950,2,-999.0000,9,   197.37,2,  -999.00,9,  -999.00,9,  -999.00,  -999.00,9,  -999.00,  -999.00,9,  -999.00, -999.000,9, -999.000, -999.000,9, -999.000,9, -999.000,9,   -999.0,9,   -999.0,9,-999.0000,-999,9,  -999.00,9,  -999.00,   -999.0,9,   -999.0,  27.7053,  23.5407
  49NZ20090410,   P21,   140,  1,     13, X12013,9,20090514,1126,-16.7487,-139.9968, 2579,   2599.4,2,   1.7992,2,   1.79914,2,  34.6628,2,-999.0000,9,   160.82,2,  -999.00,9,  -999.00,9,  -999.00,  -999.00,9,  -999.00,  -999.00,9,  -999.00, -999.000,9, -999.000, -999.000,9, -999.000,9, -999.000,9,   -999.0,9,   -999.0,9,-999.0000,-999,9,  -999.00,9,  -999.00,   -999.0,9,   -999.0,   1.6136,  27.7312
  49NZ20090410,   P21,   140,  1,     12, X12012,9,20090514,1126,-16.7487,-139.9968, 2579,    770.3,2,   5.3251,2,   5.32490,2,  34.4758,2,-999.0000,9,   115.00,2,  -999.00,9,  -999.00,9,  -999.00,  -999.00,9,  -999.00,  -999.00,9,  -999.00, -999.000,9, -999.000, -999.000,9, -999.000,9, -999.000,9,   -999.0,9,   -999.0,9,-999.0000,-999,9,  -999.00,9,  -999.00,   -999.0,9,   -999.0,   5.2603,  27.2292
  49NZ20090410,   P21,   140,  1,     11, X12041,9,20090514,1126,-16.7487,-139.9968, 2579,    969.8,2,   4.4497,2,   4.44967,2,  34.5083,2,-999.0000,9,   111.87,2,  -999.00,9,  -999.00,9,  -999.00,  -999.00,9,  -999.00,  -999.00,9,  -999.00, -999.000,9, -999.000, -999.000,9, -999.000,9, -999.000,9,   -999.0,9,   -999.0,9,-999.0000,-999,9,  -999.00,9,  -999.00,   -999.0,9,   -999.0,   4.3732,  27.3555
  49NZ20090410,   P21,   140,  1,     10, X12040,9,20090514,1126,-16.7487,-139.9968, 2579,   1131.0,2,   3.8631,2,   3.86298,2,  34.5288,2,-999.0000,9,   119.46,2,  -999.00,9,  -999.00,9,  -999.00,  -999.00,9,  -999.00,  -999.00,9,  -999.00, -999.000,9, -999.000, -999.000,9, -999.000,9, -999.000,9,   -999.0,9,   -999.0,9,-999.0000,-999,9,  -999.00,9,  -999.00,   -999.0,9,   -999.0,   3.7776,  27.4341
  49NZ20090410,   P21,   140,  1,      9, X12009,9,20090514,1126,-16.7487,-139.9968, 2579,   1331.2,2,   3.2630,2,   3.26337,2,  34.5520,2,-999.0000,9,   134.92,2,  -999.00,9,  -999.00,9,  -999.00,  -999.00,9,  -999.00,  -999.00,9,  -999.00, -999.000,9, -999.000, -999.000,9, -999.000,9, -999.000,9,   -999.0,9,   -999.0,9,-999.0000,-999,9,  -999.00,9,  -999.00,   -999.0,9,   -999.0,   3.1664,  27.5120
  49NZ20090410,   P21,   140,  1,      8, X12008,9,20090514,1126,-16.7487,-139.9968, 2579,   1531.3,2,   2.8040,2,   2.80453,2,  34.5831,2,-999.0000,9,   137.39,2,  -999.00,9,  -999.00,9,  -999.00,  -999.00,9,  -999.00,  -999.00,9,  -999.00, -999.000,9, -999.000, -999.000,9, -999.000,9, -999.000,9,   -999.0,9,   -999.0,9,-999.0000,-999,9,  -999.00,9,  -999.00,   -999.0,9,   -999.0,   2.6958,  27.5796
  49NZ20090410,   P21,   140,  1,      7, X12007,9,20090514,1126,-16.7487,-139.9968, 2579,   1732.6,2,   2.4438,2,   2.44395,2,  34.6086,2,-999.0000,9,   142.89,2,  -999.00,9,  -999.00,9,  -999.00,  -999.00,9,  -999.00,  -999.00,9,  -999.00, -999.000,9, -999.000, -999.000,9, -999.000,9, -999.000,9,   -999.0,9,   -999.0,9,-999.0000,-999,9,  -999.00,9,  -999.00,   -999.0,9,   -999.0,   2.3234,  27.6319
  49NZ20090410,   P21,   140,  1,      6, X12035,9,20090514,1126,-16.7487,-139.9968, 2579,   1929.8,2,   2.1949,2,   2.19499,2,  34.6275,2,-999.0000,9,   149.02,2,  -999.00,9,  -999.00,9,  -999.00,  -999.00,9,  -999.00,  -999.00,9,  -999.00, -999.000,9, -999.000, -999.000,9, -999.000,9, -999.000,9,   -999.0,9,   -999.0,9,-999.0000,-999,9,  -999.00,9,  -999.00,   -999.0,9,   -999.0,   2.0615,  27.6683
  49NZ20090410,   P21,   140,  1,      5, X12038,9,20090514,1126,-16.7487,-139.9968, 2579,   2129.5,2,   2.0348,2,   2.03474,2,  34.6429,2,-999.0000,9,   151.06,2,  -999.00,9,  -999.00,9,  -999.00,  -999.00,9,  -999.00,  -999.00,9,  -999.00, -999.000,9, -999.000, -999.000,9, -999.000,9, -999.000,9,   -999.0,9,   -999.0,9,-999.0000,-999,9,  -999.00,9,  -999.00,   -999.0,9,   -999.0,   1.8868,  27.6945
  49NZ20090410,   P21,   140,  1,      4, X12034,9,20090514,1126,-16.7487,-139.9968, 2579,   2329.3,2,   1.9389,2,   1.93881,2,  34.6522,2,-999.0000,9,   153.52,2,  -999.00,9,  -999.00,9,  -999.00,  -999.00,9,  -999.00,  -999.00,9,  -999.00, -999.000,9, -999.000, -999.000,9, -999.000,9, -999.000,9,   -999.0,9,   -999.0,9,-999.0000,-999,9,  -999.00,9,  -999.00,   -999.0,9,   -999.0,   1.7750,  27.7106
  49NZ20090410,   P21,   140,  1,      3, X12033,9,20090514,1126,-16.7487,-139.9968, 2579,   2529.5,2,   1.8138,2,   1.81378,2,  34.6613,2,-999.0000,9,   160.08,2,  -999.00,9,  -999.00,9,  -999.00,  -999.00,9,  -999.00,  -999.00,9,  -999.00, -999.000,9, -999.000, -999.000,9, -999.000,9, -999.000,9,   -999.0,9,   -999.0,9,-999.0000,-999,9,  -999.00,9,  -999.00,   -999.0,9,   -999.0,   1.6343,  27.7284
  49NZ20090410,   P21,   140,  1,      2, X12032,9,20090514,1126,-16.7487,-139.9968, 2579,    870.0,2,   4.8949,2,   4.89402,2,  34.4928,2,-999.0000,9,   111.60,2,  -999.00,9,  -999.00,9,  -999.00,  -999.00,9,  -999.00,  -999.00,9,  -999.00, -999.000,9, -999.000, -999.000,9, -999.000,9, -999.000,9,   -999.0,9,   -999.0,9,-999.0000,-999,9,  -999.00,9,  -999.00,   -999.0,9,   -999.0,   4.8240,  27.2932
  49NZ20090410,   P21,   140,  1,      1, X12046,2,20090514,1126,-16.7487,-139.9968, 2579,   2599.3,2,   1.7996,2,   1.79926,2,  34.6627,2,  34.6626,6,   160.80,2,   160.72,2,   118.10,2,     0.38,    35.30,2,     0.13,     0.01,2,     0.01,    2.465,2,    0.016,    0.000,2,    0.000,2,    0.000,2,   -999.0,9,   -999.0,9,-999.0000,-999,9,  -999.00,9,  -999.00,   -999.0,9,   -999.0,   1.6140,  27.7311