BOTTLE,20220818CCHSIOAMB
EXPOCODE,SECT_ID,STNNBR,CASTNO,SAMPNO,BTLNBR,BTLNBR_FLAG_W,DATE,TIME,LATITUDE,LONGITUDE,DEPTH,CTDPRS,CTDPRS_FLAG_W,CTDTMP,CTDTMP_FLAG_W,SBE35,SBE35_FLAG_W,CTDSAL,CTDSAL_FLAG_W,SALNTY,SALNTY_FLAG_W,CTDOXY,CTDOXY_FLAG_W,OXYGEN,OXYGEN_FLAG_W,SILCAT,SILCAT_FLAG_W,SILUNC,NITRAT,NITRAT_FLAG_W,NRAUNC,NITRIT,NITRIT_FLAG_W,NRIUNC,PHSPHT,PHSPHT_FLAG_W,PHPUNC,CFC-11,CFC-11_FLAG_W,CFC-12,CFC-12_FLAG_W,CFC113,CFC113_FLAG_W,TCARBN,TCARBN_FLAG_W,ALKALI,ALKALI_FLAG_W,PH_TOT,PH_TMP,PH_TOT_FLAG_W,DELC13,DELC13_FLAG_W,C13ERR,DELC14,DELC14_FLAG_W,C14ERR,THETA,SIG0
,,,,,,,,,,,METERS,DBAR,,ITS-90,,ITS-90,,PSS-78,,PSS-78,,UMOL/KG,,UMOL/KG,,UMOL/KG,,UMOL/KG,UMOL/KG,,UMOL/KG,UMOL/KG,,UMOL/KG,UMOL/KG,,UMOL/KG,PMOL/KG,,PMOL/KG,,PMOL/KG,,UMOL/KG,,UMOL/KG,,,DEG C,,/MILLE,,/MILLE,/MILLE,,/MILLE,DEG C,KG/M^3
  49NZ20090410,   P21,   128,  1,     36, X12006,2,20090511,1318,-16.7533,-131.9987, 4332,     10.1,2,  27.5464,2,  27.54591,2,  36.4662,2,  36.4663,2,   199.51,2,   198.96,2,     0.52,2,     0.12,     0.36,2,     0.03,     0.01,2,     0.01,    0.278,2,    0.014,    1.479,2,    0.982,2, -999.000,5,   2038.7,2,   2405.9,2,   8.1265,  25,6,  -999.00,9,  -999.00,   -999.0,9,   -999.0,  27.5440,  23.6468
  49NZ20090410,   P21,   128,  1,     35, X12047,2,20090511,1318,-16.7533,-131.9987, 4332,     50.8,2,  27.5691,2,  27.56909,2,  36.4830,2,  36.4870,2,   199.70,2,   199.96,2,     0.52,2,     0.12,     0.36,2,     0.03,     0.01,2,     0.01,    0.273,2,    0.014,    1.481,2,    0.977,2, -999.000,5,   2039.8,6,   2405.7,2,   8.1238,  25,2,  -999.00,9,  -999.00,   -999.0,9,   -999.0,  27.5572,  23.6552
  49NZ20090410,   P21,   128,  1,     34, X12004,2,20090511,1318,-16.7533,-131.9987, 4332,     99.0,2,  24.6946,2,  24.69567,2,  36.3934,2,  36.3942,2,   207.01,2,   206.55,2,     0.50,2,     0.12,     0.10,2,     0.03,     0.01,2,     0.01,    0.213,2,    0.016,    1.717,6,    1.109,6, -999.000,5,   2058.8,2,   2394.6,6,   8.0813,  25,2,  -999.00,9,  -999.00,   -999.0,9,   -999.0,  24.6732,  24.4942
  49NZ20090410,   P21,   128,  1,     33, X12003,2,20090511,1318,-16.7533,-131.9987, 4332,    150.5,2,  23.5352,2,  23.53390,2,  36.2844,2,  36.2830,2,   196.99,2,   197.03,2,     0.50,2,     0.12,     0.15,2,     0.03,     0.71,2,     0.00,    0.292,2,    0.014,    1.803,2,    1.146,2, -999.000,5,   2069.6,2,   2386.2,2,   8.0526,  25,2,  -999.00,9,  -999.00,   -999.0,9,   -999.0,  23.5038,  24.7610
  49NZ20090410,   P21,   128,  1,     32, X12002,2,20090511,1318,-16.7533,-131.9987, 4332,    201.7,2,  21.8558,2,  21.85248,2,  36.0558,2,  36.0633,2,   190.61,2,   190.25,2,     0.47,2,     0.12,     1.38,2,     0.04,     0.21,2,     0.01,    0.339,2,    0.014,    1.966,2,    1.209,2,    0.198,4,   2081.6,2,   2372.2,2,   8.0131,  25,2,  -999.00,9,  -999.00,   -999.0,9,   -999.0,  21.8159,  25.0721
  49NZ20090410,   P21,   128,  1,     31, X12001,2,20090511,1318,-16.7533,-131.9987, 4332,    252.1,2,  19.3590,2,  19.36067,2,  35.6008,2,  35.6064,6,   188.39,2,   188.29,2,     0.54,2,     0.12,     2.85,2,     0.04,     0.01,2,     0.01,    0.419,2,    0.013,    2.244,2,    1.356,2,    0.065,2,   2081.5,2,   2341.5,2,   7.9674,  25,2,  -999.00,9,  -999.00,   -999.0,9,   -999.0,  19.3132,  25.3999
  49NZ20090410,   P21,   128,  1,     30, X12030,2,20090511,1318,-16.7533,-131.9987, 4332,    329.9,2,  14.3710,2,  14.36623,2,  34.8543,2,  34.8569,2,   174.22,2,   174.07,2,     2.60,2,     0.12,     9.97,2,     0.06,     0.01,2,     0.01,    0.929,2,    0.013,    2.595,2,    1.455,2,    0.062,2,   2110.3,2,   2297.4,2,   7.8381,  25,2,  -999.00,9,  -999.00,   -999.0,9,   -999.0,  14.3223,  26.0062
  49NZ20090410,   P21,   128,  1,     29, X12044,2,20090511,1318,-16.7533,-131.9987, 4332,    430.9,2,   8.9472,2,   8.94941,2,  34.4506,2,  34.4507,2,   116.23,2,   116.14,2,    13.71,2,     0.15,    27.07,2,     0.11,     0.00,2,     0.01,    2.118,2,    0.015,    1.440,2,    0.743,2,    0.027,2,   2201.9,2,   2280.9,2,   7.5746,  25,2,  -999.00,9,  -999.00,   -999.0,9,   -999.0,   8.9003,  26.7038
  49NZ20090410,   P21,   128,  1,     28, X12048,2,20090511,1318,-16.7533,-131.9987, 4332,    532.7,2,   7.0246,2,   7.03146,2,  34.4285,2,  34.4283,6,   121.05,2,   120.27,2,    20.98,2,     0.17,    32.84,2,     0.12,     0.01,2,     0.01,    2.351,2,    0.016,    0.477,2,    0.256,2,    0.000,2,   2215.9,2,   2287.9,2,   7.5483,  25,2,  -999.00,9,  -999.00,   -999.0,9,   -999.0,   6.9739,  26.9721
  49NZ20090410,   P21,   128,  1,     27, X12027,2,20090511,1318,-16.7533,-131.9987, 4332,    629.7,2,   5.8081,2,   5.80804,2,  34.3890,2,  34.3891,2,   141.88,2,   141.83,2,    26.63,2,     0.18,    33.93,2,     0.13,     0.01,2,     0.01,    2.370,2,    0.016,    0.260,6,    0.145,6,    0.000,6,   2213.4,2,   2293.3,2,   7.5687,  25,2,  -999.00,9,  -999.00,   -999.0,9,   -999.0,   5.7535,  27.1007
  49NZ20090410,   P21,   128,  1,     26, X12026,2,20090511,1318,-16.7533,-131.9987, 4332,    730.3,2,   5.3316,2,   5.33190,2,  34.4614,2,  34.4607,2,   111.37,2,   111.46,2,    44.53,2,     0.22,    37.17,2,     0.14,     0.01,2,     0.01,    2.618,2,    0.017,    0.034,2,    0.021,2,    0.000,2,   2247.0,6,   2312.5,2,   7.5256,  25,2,  -999.00,9,  -999.00,   -999.0,9,   -999.0,   5.2704,  27.2166
  49NZ20090410,   P21,   128,  1,     25, X12025,2,20090511,1318,-16.7533,-131.9987, 4332,    829.8,2,   4.9129,2,   4.91280,2,  34.4905,2,  34.4905,2,   104.17,2,   104.08,2,    55.79,2,     0.24,    38.36,2,     0.14,     0.00,2,     0.01,    2.713,2,    0.017,    0.012,2,    0.007,2,    0.000,2,   2264.0,2,   2325.0,6,   7.5122,  25,2,  -999.00,9,  -999.00,   -999.0,9,   -999.0,   4.8454,  27.2891
  49NZ20090410,   P21,   128,  1,     24, X12024,2,20090511,1318,-16.7533,-131.9987, 4332,    930.3,2,   4.5525,2,   4.55265,2,  34.5046,2,  34.5045,2,   103.87,2,   103.79,2,    63.47,2,     0.26,    38.66,2,     0.14,     0.00,2,     0.01,    2.737,2,    0.017,    0.008,2,    0.004,2,    0.000,2,   2273.0,2,   2333.1,2,   7.5098,  25,6,  -999.00,9,  -999.00,   -999.0,9,   -999.0,   4.4786,  27.3411
  49NZ20090410,   P21,   128,  1,     23, X12028,2,20090511,1318,-16.7533,-131.9987, 4332,   1071.4,2,   4.0717,2,   4.07196,2,  34.5279,2,  34.5278,6,    97.22,2,    97.31,2,    75.51,2,     0.29,    39.83,2,     0.14,     0.00,2,     0.01,    2.831,2,    0.017,    0.000,2,    0.001,2,    0.000,2,   2290.6,2,   2347.0,2,   7.4941,  25,2,  -999.00,9,  -999.00,   -999.0,9,   -999.0,   3.9894,  27.4117
  49NZ20090410,   P21,   128,  1,     22, X12022,2,20090511,1318,-16.7533,-131.9987, 4332,   1272.3,2,   3.4568,2,   3.45646,2,  34.5557,2,  34.5559,2,   109.32,2,   109.26,2,    88.47,2,     0.31,    39.07,2,     0.14,     0.00,2,     0.01,    2.772,2,    0.017,    0.007,2,    0.001,2,    0.000,2,   2299.6,2,   2360.7,2,   7.5147,  25,2,  -999.00,9,  -999.00,   -999.0,9,   -999.0,   3.3631,  27.4964
  49NZ20090410,   P21,   128,  1,     21, X12021,2,20090511,1318,-16.7533,-131.9987, 4332,   1470.3,2,   2.9992,2,   2.99960,2,  34.5790,2,  34.5790,2,   120.56,2,   120.47,2,    97.58,2,     0.33,    38.15,2,     0.14,     0.00,2,     0.01,    2.711,2,    0.017,    0.000,2,    0.000,2,    0.000,2,   2303.6,2,   2371.7,2,   7.5329,  25,2,  -999.00,9,  -999.00,   -999.0,9,   -999.0,   2.8938,  27.5587
  49NZ20090410,   P21,   128,  1,     20, X12020,2,20090511,1318,-16.7533,-131.9987, 4332,   1670.4,2,   2.5916,2,   2.59173,2,  34.6007,2,  34.6011,2,   133.66,2,   133.55,2,   104.12,2,     0.35,    37.19,2,     0.14,     0.01,2,     0.01,    2.632,2,    0.017,    0.001,2,    0.001,2,    0.000,2,   2303.4,2,   2379.1,2,   7.5535,  25,6,  -999.00,9,  -999.00,   -999.0,9,   -999.0,   2.4745,  27.6128
  49NZ20090410,   P21,   128,  1,     19, X12019,2,20090511,1318,-16.7533,-131.9987, 4332,   1870.7,2,   2.2951,2,   2.29503,2,  34.6235,2,  34.6238,2,   140.34,2,   140.26,2,   110.22,2,     0.36,    36.56,2,     0.14,     0.00,2,     0.01,    2.576,2,    0.016,    0.000,2,    0.000,2,    0.000,2,   2305.7,2,   2386.8,2,   7.5651,  25,2,  -999.00,9,  -999.00,   -999.0,9,   -999.0,   2.1652,  27.6568
  49NZ20090410,   P21,   128,  1,     18, X12043,2,20090511,1318,-16.7533,-131.9987, 4332,   2070.6,2,   2.0672,2,   2.06809,2,  34.6436,2,  34.6436,2,   146.22,2,   146.22,2,   115.64,2,     0.37,    36.20,2,     0.13,     0.01,2,     0.01,    2.545,2,    0.016,    0.000,2,    0.000,2,    0.000,2,   2308.1,2,   2393.4,2,   7.5769,  25,2,  -999.00,9,  -999.00,   -999.0,9,   -999.0,   1.9237,  27.6921
  49NZ20090410,   P21,   128,  1,     17, X12042,2,20090511,1318,-16.7533,-131.9987, 4332,   2270.1,2,   1.9455,2,   1.94561,2,  34.6542,2,  34.6542,6,   151.25,2,   151.05,2,   117.90,2,     0.38,    35.86,2,     0.13,     0.01,2,     0.01,    2.515,2,    0.016,    0.000,2,    0.001,2,    0.000,2,   2308.3,2,   2396.1,2,   7.5852,  25,2,  -999.00,9,  -999.00,   -999.0,9,   -999.0,   1.7867,  27.7113
  49NZ20090410,   P21,   128,  1,     16, X12016,2,20090511,1318,-16.7533,-131.9987, 4332,   2469.7,2,   1.8566,2,   1.85668,2,  34.6627,2,  34.6627,2,   153.46,2,   153.30,2,   120.95,2,     0.39,    35.72,2,     0.13,     0.00,2,     0.01,    2.503,2,    0.016,    0.000,2,    0.000,2,    0.000,2,   2309.5,6,   2399.4,2,   7.5898,  25,2,  -999.00,9,  -999.00,   -999.0,9,   -999.0,   1.6817,  27.7261
  49NZ20090410,   P21,   128,  1,     15, X12015,2,20090511,1318,-16.7533,-131.9987, 4332,   2670.5,2,   1.7838,2,   1.78381,2,  34.6695,2,  34.6692,2,   155.05,2,   154.85,2,   123.64,2,     0.39,    35.68,2,     0.13,     0.00,2,     0.01,    2.500,2,    0.016,    0.001,2,    0.000,2,    0.000,2,   2311.9,2,   2403.4,6,   7.5940,  25,2,  -999.00,9,  -999.00,   -999.0,9,   -999.0,   1.5920,  27.7382
  49NZ20090410,   P21,   128,  1,     14, X12050,2,20090511,1318,-16.7533,-131.9987, 4332,   2870.5,2,   1.7251,2,   1.72513,2,  34.6748,2,  34.6744,2,   156.36,2,   156.08,2,   125.87,2,     0.40,    35.68,2,     0.13,     0.00,2,     0.01,    2.490,2,    0.016,    0.001,2,    0.000,2,    0.000,2,   2314.3,2,   2405.9,2,   7.5975,  25,6,  -999.00,9,  -999.00,   -999.0,9,   -999.0,   1.5157,  27.7480
  49NZ20090410,   P21,   128,  1,     13, X12013,7,20090511,1318,-16.7533,-131.9987, 4332,   3081.4,2,   1.6857,2,   1.68583,2,  34.6783,2,  34.6791,2,   157.97,2,   157.87,2,   127.03,2,     0.40,    35.57,2,     0.13,     0.00,2,     0.01,    2.486,2,    0.016,    0.001,2,    0.001,2,    0.000,2,   2313.1,2,   2407.4,2,   7.6014,  25,2,  -999.00,9,  -999.00,   -999.0,9,   -999.0,   1.4569,  27.7551
  49NZ20090410,   P21,   128,  1,     12, X12012,2,20090511,1318,-16.7533,-131.9987, 4332,   3329.1,2,   1.6208,2,   1.62102,2,  34.6832,2,  34.6827,6,   160.58,2,   160.34,2,   128.75,2,     0.40,    35.31,2,     0.13,     0.00,2,     0.01,    2.467,2,    0.016,    0.000,2,    0.000,2,    0.000,2,   2313.4,2,   2409.6,2,   7.6051,  25,2,  -999.00,9,  -999.00,   -999.0,9,   -999.0,   1.3690,  27.7653
  49NZ20090410,   P21,   128,  1,     11, X12041,2,20090511,1318,-16.7533,-131.9987, 4332,   3581.3,2,   1.5854,2,   1.58538,2,  34.6860,2,  34.6856,2,   163.32,2,   162.98,2,   128.94,2,     0.40,    35.24,2,     0.13,     0.00,2,     0.01,    2.459,2,    0.016,    0.001,2,    0.000,2,    0.000,2,   2312.0,2,   2409.8,2,   7.6089,  25,2,  -999.00,9,  -999.00,   -999.0,9,   -999.0,   1.3087,  27.7719
  49NZ20090410,   P21,   128,  1,     10, X12040,2,20090511,1318,-16.7533,-131.9987, 4332,   3831.7,2,   1.5625,2,   1.56254,2,  34.6881,2,  34.6886,2,   166.01,2,   165.85,2,   128.54,2,     0.40,    35.13,2,     0.13,     0.00,2,     0.01,    2.447,2,    0.016,    0.002,2,    0.000,2,    0.000,2,   2308.8,2,   2408.2,2,   7.6116,  25,2,  -999.00,9,  -999.00,   -999.0,9,   -999.0,   1.2600,  27.7770
  49NZ20090410,   P21,   128,  1,      9, X12009,2,20090511,1318,-16.7533,-131.9987, 4332,   4079.4,2,   1.5639,2,   1.56390,2,  34.6893,2,  34.6891,2,   167.60,2,   167.38,2,   128.11,2,     0.40,    35.00,2,     0.13,     0.00,2,     0.01,    2.441,2,    0.016,    0.000,2,    0.000,2,    0.000,2,   2308.4,2,   2407.4,2,   7.6116,  25,2,  -999.00,9,  -999.00,   -999.0,9,   -999.0,   1.2345,  27.7797
  49NZ20090410,   P21,   128,  1,      8, X12008,9,20090511,1318,-16.7533,-131.9987, 4332,    930.3,2,   4.5536,2,   4.55262,2,  34.5045,2,-999.0000,9,   103.93,2,  -999.00,9,  -999.00,9,  -999.00,  -999.00,9,  -999.00,  -999.00,9,  -999.00, -999.000,9, -999.000, -999.000,9, -999.000,9, -999.000,9,   -999.0,9,   -999.0,9,-999.0000,-999,9,  -999.00,9,  -999.00,   -999.0,9,   -999.0,   4.4797,  27.3409
  49NZ20090410,   P21,   128,  1,      7, X12007,2,20090511,1318,-16.7533,-131.9987, 4332,      9.6,2,  27.5480,2,  27.54817,2,  36.4668,2,-999.0000,9,   199.47,2,  -999.00,9,     0.51,2,     0.12,     0.35,2,     0.03,     0.02,2,     0.01,    0.273,2,    0.014, -999.000,9, -999.000,9, -999.000,9,   -999.0,9,   -999.0,9,-999.0000,-999,9,  -999.00,9,  -999.00,   -999.0,9,   -999.0,  27.5458,  23.6467
  49NZ20090410,   P21,   128,  1,      6, X12035,2,20090511,1318,-16.7533,-131.9987, 4332,     51.0,2,  27.5710,2,  27.56985,2,  36.4828,2,-999.0000,9,   199.72,2,  -999.00,9,     0.54,2,     0.12,     0.30,2,     0.03,     0.01,2,     0.01,    0.267,2,    0.015, -999.000,9, -999.000,9, -999.000,9,   -999.0,9,   -999.0,9,-999.0000,-999,9,  -999.00,9,  -999.00,   -999.0,9,   -999.0,  27.5591,  23.6544
  49NZ20090410,   P21,   128,  1,      5, X12038,2,20090511,1318,-16.7533,-131.9987, 4332,     99.9,2,  24.7040,2,  24.70392,2,  36.3903,2,-999.0000,9,   207.23,2,  -999.00,9,     0.53,2,     0.12,     0.12,2,     0.03,     0.01,2,     0.01,    0.213,2,    0.016, -999.000,9, -999.000,9, -999.000,9,   -999.0,9,   -999.0,9,-999.0000,-999,9,  -999.00,9,  -999.00,   -999.0,9,   -999.0,  24.6824,  24.4891
  49NZ20090410,   P21,   128,  1,      4, X12034,2,20090511,1318,-16.7533,-131.9987, 4332,    150.4,2,  23.5409,2,  23.53848,2,  36.2835,2,-999.0000,9,   197.15,2,  -999.00,9,     0.53,2,     0.12,     0.24,2,     0.03,     0.83,2,     0.00,    0.297,2,    0.014, -999.000,9, -999.000,9, -999.000,9,   -999.0,9,   -999.0,9,-999.0000,-999,9,  -999.00,9,  -999.00,   -999.0,9,   -999.0,  23.5095,  24.7587
  49NZ20090410,   P21,   128,  1,      3, X12033,2,20090511,1318,-16.7533,-131.9987, 4332,    202.6,2,  21.8186,2,  21.82280,2,  36.0518,2,-999.0000,9,   190.50,2,  -999.00,9,     0.60,2,     0.12,     1.47,2,     0.04,     0.20,2,     0.01,    0.356,2,    0.014, -999.000,9, -999.000,9, -999.000,9,   -999.0,9,   -999.0,9,-999.0000,-999,9,  -999.00,9,  -999.00,   -999.0,9,   -999.0,  21.7785,  25.0795
  49NZ20090410,   P21,   128,  1,      2, X12032,2,20090511,1318,-16.7533,-131.9987, 4332,    252.2,2,  19.3184,2,  19.31509,2,  35.5956,2,-999.0000,9,   188.37,2,  -999.00,9,     0.79,2,     0.12,     3.05,2,     0.04,     0.01,2,     0.01,    0.424,2,    0.013, -999.000,9, -999.000,9, -999.000,9,   -999.0,9,   -999.0,9,-999.0000,-999,9,  -999.00,9,  -999.00,   -999.0,9,   -999.0,  19.2727,  25.4064
  49NZ20090410,   P21,   128,  1,      1, X12046,2,20090511,1318,-16.7533,-131.9987, 4332,   4377.5,2,   1.5927,2,   1.59274,2,  34.6894,2,  34.6895,6,   168.04,2,   168.02,2,   128.09,2,     0.40,    35.04,2,     0.13,     0.00,2,     0.01,    2.444,2,    0.016,    0.000,2,    0.000,2,    0.000,2,   2306.9,2,   2406.8,2,   7.6126,  25,2,  -999.00,9,  -999.00,   -999.0,9,   -999.0,   1.2289,  27.7802