BOTTLE,20220818CCHSIOAMB
EXPOCODE,SECT_ID,STNNBR,CASTNO,SAMPNO,BTLNBR,BTLNBR_FLAG_W,DATE,TIME,LATITUDE,LONGITUDE,DEPTH,CTDPRS,CTDPRS_FLAG_W,CTDTMP,CTDTMP_FLAG_W,SBE35,SBE35_FLAG_W,CTDSAL,CTDSAL_FLAG_W,SALNTY,SALNTY_FLAG_W,CTDOXY,CTDOXY_FLAG_W,OXYGEN,OXYGEN_FLAG_W,SILCAT,SILCAT_FLAG_W,SILUNC,NITRAT,NITRAT_FLAG_W,NRAUNC,NITRIT,NITRIT_FLAG_W,NRIUNC,PHSPHT,PHSPHT_FLAG_W,PHPUNC,CFC-11,CFC-11_FLAG_W,CFC-12,CFC-12_FLAG_W,CFC113,CFC113_FLAG_W,TCARBN,TCARBN_FLAG_W,ALKALI,ALKALI_FLAG_W,PH_TOT,PH_TMP,PH_TOT_FLAG_W,DELC13,DELC13_FLAG_W,C13ERR,DELC14,DELC14_FLAG_W,C14ERR,THETA,SIG0
,,,,,,,,,,,METERS,DBAR,,ITS-90,,ITS-90,,PSS-78,,PSS-78,,UMOL/KG,,UMOL/KG,,UMOL/KG,,UMOL/KG,UMOL/KG,,UMOL/KG,UMOL/KG,,UMOL/KG,UMOL/KG,,UMOL/KG,PMOL/KG,,PMOL/KG,,PMOL/KG,,UMOL/KG,,UMOL/KG,,,DEG C,,/MILLE,,/MILLE,/MILLE,,/MILLE,DEG C,KG/M^3
  49NZ20090410,   P21,   153,  1,     36, X12006,2,20090516,2146,-17.4952,-146.5055, 4120,      9.5,2,  28.0094,2,  28.00772,2,  36.3348,2,  36.3346,2,   197.14,2,   196.89,2,     0.88,2,     0.12,     0.12,2,     0.03,     0.01,2,     0.01,    0.261,2,    0.015,    1.448,2,    0.953,2, -999.000,5,   -999.0,9,   -999.0,9,-999.0000,-999,9,  -999.00,9,  -999.00,   -999.0,9,   -999.0,  28.0072,  23.3965
  49NZ20090410,   P21,   153,  1,     35, X12047,2,20090516,2146,-17.4952,-146.5055, 4120,     49.3,2,  27.9143,2,  27.91375,2,  36.3322,2,  36.3321,2,   197.00,2,   197.16,2,     0.85,2,     0.12,     0.11,2,     0.03,     0.01,2,     0.01,    0.261,2,    0.015,    1.447,2,    0.949,2, -999.000,5,   -999.0,9,   -999.0,9,-999.0000,-999,9,  -999.00,9,  -999.00,   -999.0,9,   -999.0,  27.9027,  23.4288
  49NZ20090410,   P21,   153,  1,     34, X12004,2,20090516,2146,-17.4952,-146.5055, 4120,     98.8,2,  25.9655,2,  25.96251,2,  36.4287,2,  36.4293,2,   196.26,2,   196.31,2,     0.84,2,     0.12,     0.31,2,     0.03,     0.11,2,     0.01,    0.324,2,    0.014,    1.620,6,    1.047,6, -999.000,5,   -999.0,9,   -999.0,9,-999.0000,-999,9,  -999.00,9,  -999.00,   -999.0,9,   -999.0,  25.9434,  24.1294
  49NZ20090410,   P21,   153,  1,     33, X12003,2,20090516,2146,-17.4952,-146.5055, 4120,    149.8,2,  24.4182,2,  24.41647,2,  36.3743,2,  36.3735,2,   186.59,2,   186.26,2,     0.70,2,     0.12,     0.45,2,     0.03,     1.16,2,     0.00,    0.349,2,    0.014,    1.710,2,    1.096,2, -999.000,5,   -999.0,9,   -999.0,9,-999.0000,-999,9,  -999.00,9,  -999.00,   -999.0,9,   -999.0,  24.3861,  24.5665
  49NZ20090410,   P21,   153,  1,     32, X12002,2,20090516,2146,-17.4952,-146.5055, 4120,    200.8,2,  22.9394,2,  22.93583,2,  36.2099,2,  36.2092,2,   181.35,2,   180.92,2,     0.69,2,     0.12,     2.25,2,     0.04,     0.14,2,     0.01,    0.412,2,    0.013,    1.849,2,    1.165,2,    0.167,4,   -999.0,9,   -999.0,9,-999.0000,-999,9,  -999.00,9,  -999.00,   -999.0,9,   -999.0,  22.8982,  24.8810
  49NZ20090410,   P21,   153,  1,     31, X12001,2,20090516,2146,-17.4952,-146.5055, 4120,    250.3,2,  20.1188,2,  20.11328,2,  35.7286,2,  35.7514,6,   181.47,2,   181.37,2,     0.78,2,     0.12,     3.46,2,     0.04,     0.01,2,     0.01,    0.466,2,    0.013,    2.086,2,    1.276,2,    0.041,2,   -999.0,9,   -999.0,9,-999.0000,-999,9,  -999.00,9,  -999.00,   -999.0,9,   -999.0,  20.0721,  25.2985
  49NZ20090410,   P21,   153,  1,     30, X12030,2,20090516,2146,-17.4952,-146.5055, 4120,    299.0,2,  17.0749,2,  17.07377,2,  35.2746,2,  35.2749,2,   181.56,2,   181.70,2,     1.76,2,     0.12,     6.12,2,     0.05,     0.01,2,     0.01,    0.632,2,    0.013,    2.305,2,    1.341,2,    0.029,2,   -999.0,9,   -999.0,9,-999.0000,-999,9,  -999.00,9,  -999.00,   -999.0,9,   -999.0,  17.0252,  25.7191
  49NZ20090410,   P21,   153,  1,     29, X12044,2,20090516,2146,-17.4952,-146.5055, 4120,    399.9,2,  11.5652,2,  11.57003,2,  34.6730,2,  34.6743,2,   155.02,2,   155.18,2,     7.63,2,     0.14,    17.56,2,     0.08,     0.01,2,     0.01,    1.434,2,    0.014,    1.987,6,    1.075,6,    0.026,6,   -999.0,9,   -999.0,9,-999.0000,-999,9,  -999.00,9,  -999.00,   -999.0,9,   -999.0,  11.5140,  26.4266
  49NZ20090410,   P21,   153,  1,     28, X12048,2,20090516,2146,-17.4952,-146.5055, 4120,    499.2,2,   7.9969,2,   7.99853,2,  34.4616,2,  34.4613,6,   137.09,2,   137.02,2,    17.58,2,     0.16,    28.15,2,     0.11,     0.00,2,     0.01,    2.081,2,    0.015,    1.012,2,    0.529,2,    0.013,2,   -999.0,9,   -999.0,9,-999.0000,-999,9,  -999.00,9,  -999.00,   -999.0,9,   -999.0,   7.9458,  26.8591
  49NZ20090410,   P21,   153,  1,     27, X12027,2,20090516,2146,-17.4952,-146.5055, 4120,    599.9,2,   6.8146,2,   6.81561,2,  34.4450,2,  34.4443,2,   139.02,2,   138.95,2,    25.21,2,     0.17,    31.20,2,     0.12,     0.01,2,     0.01,    2.226,2,    0.016,    0.550,6,    0.293,6,    0.000,6,   -999.0,9,   -999.0,9,-999.0000,-999,9,  -999.00,9,  -999.00,   -999.0,9,   -999.0,   6.7581,  27.0146
  49NZ20090410,   P21,   153,  1,     26, X12026,2,20090516,2146,-17.4952,-146.5055, 4120,    702.0,2,   5.7998,2,   5.80021,2,  34.4679,2,  34.4677,2,   138.57,2,   138.42,2,    39.08,2,     0.20,    33.16,2,     0.13,     0.01,2,     0.01,    2.331,2,    0.016,    0.202,2,    0.112,2,    0.000,2,   -999.0,9,   -999.0,9,-999.0000,-999,9,  -999.00,9,  -999.00,   -999.0,9,   -999.0,   5.7386,  27.1650
  49NZ20090410,   P21,   153,  1,     25, X12025,2,20090516,2146,-17.4952,-146.5055, 4120,    800.3,2,   4.9660,2,   4.96561,2,  34.4757,2,  34.4758,2,   140.09,2,   140.10,2,    50.82,2,     0.22,    34.35,2,     0.13,     0.01,2,     0.01,    2.421,2,    0.016,    0.101,2,    0.055,2,    0.000,2,   -999.0,9,   -999.0,9,-999.0000,-999,9,  -999.00,9,  -999.00,   -999.0,9,   -999.0,   4.9007,  27.2710
  49NZ20090410,   P21,   153,  1,     24, X12024,2,20090516,2146,-17.4952,-146.5055, 4120,    901.8,2,   4.5017,2,   4.50189,2,  34.4910,2,  34.4909,2,   139.66,2,   139.57,2,    59.21,2,     0.25,    35.10,2,     0.13,     0.01,2,     0.01,    2.469,2,    0.016,    0.053,2,    0.033,2,    0.000,2,   -999.0,9,   -999.0,9,-999.0000,-999,9,  -999.00,9,  -999.00,   -999.0,9,   -999.0,   4.4307,  27.3355
  49NZ20090410,   P21,   153,  1,     23, X12028,2,20090516,2146,-17.4952,-146.5055, 4120,   1000.0,2,   4.0774,2,   4.07798,2,  34.5046,2,  34.5047,6,   141.13,2,   141.05,2,    66.59,2,     0.27,    35.41,2,     0.13,     0.01,2,     0.01,    2.490,2,    0.016,    0.030,2,    0.020,2,    0.000,2,   -999.0,9,   -999.0,9,-999.0000,-999,9,  -999.00,9,  -999.00,   -999.0,9,   -999.0,   4.0011,  27.3920
  49NZ20090410,   P21,   153,  1,     22, X12022,2,20090516,2146,-17.4952,-146.5055, 4120,   1200.2,2,   3.4747,2,   3.47470,2,  34.5397,2,  34.5398,2,   140.91,2,   140.70,2,    80.00,2,     0.30,    35.97,2,     0.13,     0.00,2,     0.01,    2.522,2,    0.016,    0.011,2,    0.007,2,    0.000,2,   -999.0,9,   -999.0,9,-999.0000,-999,9,  -999.00,9,  -999.00,   -999.0,9,   -999.0,   3.3869,  27.4813
  49NZ20090410,   P21,   153,  1,     21, X12021,2,20090516,2146,-17.4952,-146.5055, 4120,   1399.9,2,   3.0591,2,   3.05888,2,  34.5624,2,  34.5625,2,   143.84,2,   143.62,2,    88.76,2,     0.31,    36.09,2,     0.13,     0.00,2,     0.01,    2.527,2,    0.016,    0.003,2,    0.004,2,    0.000,2,   -999.0,9,   -999.0,9,-999.0000,-999,9,  -999.00,9,  -999.00,   -999.0,9,   -999.0,   2.9589,  27.5395
  49NZ20090410,   P21,   153,  1,     20, X12020,2,20090516,2146,-17.4952,-146.5055, 4120,   1599.4,2,   2.7109,2,   2.71081,2,  34.5864,2,  34.5868,2,   146.09,2,   145.87,2,    97.06,2,     0.33,    36.06,2,     0.13,     0.00,2,     0.01,    2.525,2,    0.016,    0.001,2,    0.002,2,    0.000,2,   -999.0,9,   -999.0,9,-999.0000,-999,9,  -999.00,9,  -999.00,   -999.0,9,   -999.0,   2.5982,  27.5908
  49NZ20090410,   P21,   153,  1,     19, X12019,2,20090516,2146,-17.4952,-146.5055, 4120,   1800.0,2,   2.3998,2,   2.39980,2,  34.6114,2,  34.6117,2,   149.01,2,   148.73,2,   104.84,2,     0.35,    36.01,2,     0.13,     0.00,2,     0.01,    2.518,2,    0.016,    0.000,2,    0.001,2,    0.002,2,   -999.0,9,   -999.0,9,-999.0000,-999,9,  -999.00,9,  -999.00,   -999.0,9,   -999.0,   2.2744,  27.6382
  49NZ20090410,   P21,   153,  1,     18, X12043,2,20090516,2146,-17.4952,-146.5055, 4120,   2000.4,2,   2.1506,2,   2.15070,2,  34.6320,2,  34.6320,6,   151.94,2,   151.69,2,   111.15,2,     0.36,    35.79,2,     0.13,     0.00,2,     0.01,    2.510,2,    0.016,    0.001,2,    0.000,2,    0.000,2,   -999.0,9,   -999.0,9,-999.0000,-999,9,  -999.00,9,  -999.00,   -999.0,9,   -999.0,   2.0118,  27.6759
  49NZ20090410,   P21,   153,  1,     17, X12042,2,20090516,2146,-17.4952,-146.5055, 4120,   2198.7,2,   2.0197,2,   2.01985,2,  34.6438,2,  34.6437,2,   153.70,2,   153.52,2,   114.56,2,     0.37,    35.72,2,     0.13,     0.01,2,     0.01,    2.498,2,    0.016,    0.002,2,    0.000,2,    0.000,2,   -999.0,9,   -999.0,9,-999.0000,-999,9,  -999.00,9,  -999.00,   -999.0,9,   -999.0,   1.8659,  27.6968
  49NZ20090410,   P21,   153,  1,     16, X12016,2,20090516,2146,-17.4952,-146.5055, 4120,   2401.4,2,   1.9359,2,   1.93594,2,  34.6522,2,  34.6517,2,   154.51,2,   154.35,2,   117.24,2,     0.38,    35.59,2,     0.13,     0.00,2,     0.01,    2.491,2,    0.016,    0.002,2,    0.001,2,    0.000,2,   -999.0,9,   -999.0,9,-999.0000,-999,9,  -999.00,9,  -999.00,   -999.0,9,   -999.0,   1.7657,  27.7112
  49NZ20090410,   P21,   153,  1,     15, X12015,2,20090516,2146,-17.4952,-146.5055, 4120,   2600.9,2,   1.8525,2,   1.85271,2,  34.6602,2,  34.6597,2,   156.00,2,   155.74,2,   119.73,2,     0.38,    35.54,2,     0.13,     0.01,2,     0.01,    2.494,2,    0.016,    0.002,2,    0.000,2,    0.000,2,   -999.0,9,   -999.0,9,-999.0000,-999,9,  -999.00,9,  -999.00,   -999.0,9,   -999.0,   1.6658,  27.7252
  49NZ20090410,   P21,   153,  1,     14, X12050,2,20090516,2146,-17.4952,-146.5055, 4120,   2800.5,2,   1.7667,2,   1.76677,2,  34.6669,2,  34.6665,2,   159.57,2,   159.33,2,   120.63,2,     0.38,    35.25,2,     0.13,     0.00,2,     0.01,    2.473,2,    0.016,    0.001,2,    0.001,2,    0.000,2,   -999.0,9,   -999.0,9,-999.0000,-999,9,  -999.00,9,  -999.00,   -999.0,9,   -999.0,   1.5631,  27.7382
  49NZ20090410,   P21,   153,  1,     13, X12014,2,20090516,2146,-17.4952,-146.5055, 4120,   3000.1,2,   1.6914,2,   1.69135,2,  34.6732,2,  34.6731,6,   162.89,2,   162.55,2,   121.41,2,     0.39,    35.08,2,     0.13,     0.01,2,     0.01,    2.456,2,    0.016,    0.000,2,    0.000,2,    0.000,2,   -999.0,9,   -999.0,9,-999.0000,-999,9,  -999.00,9,  -999.00,   -999.0,9,   -999.0,   1.4704,  27.7501
  49NZ20090410,   P21,   153,  1,     12, X12012,2,20090516,2146,-17.4952,-146.5055, 4120,   3250.8,2,   1.6207,2,   1.62074,2,  34.6790,2,  34.6785,2,   167.44,2,   167.27,2,   121.13,2,     0.39,    34.81,2,     0.13,     0.00,2,     0.01,    2.433,2,    0.016,    0.000,2,    0.000,2,    0.000,2,   -999.0,9,   -999.0,9,-999.0000,-999,9,  -999.00,9,  -999.00,   -999.0,9,   -999.0,   1.3767,  27.7615
  49NZ20090410,   P21,   153,  1,     11, X12041,2,20090516,2146,-17.4952,-146.5055, 4120,   3500.4,2,   1.5310,2,   1.53123,2,  34.6859,2,  34.6855,2,   173.38,2,   173.18,2,   120.66,2,     0.38,    34.44,2,     0.13,     0.00,2,     0.01,    2.402,2,    0.016,    0.000,2,    0.000,2,    0.000,2,   -999.0,9,   -999.0,9,-999.0000,-999,9,  -999.00,9,  -999.00,   -999.0,9,   -999.0,   1.2640,  27.7749
  49NZ20090410,   P21,   153,  1,     10, X12040,2,20090516,2146,-17.4952,-146.5055, 4120,   3750.2,2,   1.4740,2,   1.47415,2,  34.6908,2,  34.6911,2,   177.71,2,   177.44,2,   120.07,2,     0.38,    34.15,2,     0.13,     0.01,2,     0.01,    2.380,2,    0.016,    0.001,2,    0.000,2,    0.000,2,   -999.0,9,   -999.0,9,-999.0000,-999,9,  -999.00,9,  -999.00,   -999.0,9,   -999.0,   1.1825,  27.7845
  49NZ20090410,   P21,   153,  1,      9, X12009,2,20090516,2146,-17.4952,-146.5055, 4120,   3999.7,2,   1.4681,2,   1.46828,2,  34.6927,2,  34.6924,2,   179.45,2,   179.27,2,   119.96,2,     0.38,    33.97,2,     0.13,     0.00,2,     0.01,    2.372,2,    0.016,    0.002,2,    0.002,2,    0.000,2,   -999.0,9,   -999.0,9,-999.0000,-999,9,  -999.00,9,  -999.00,   -999.0,9,   -999.0,   1.1501,  27.7883
  49NZ20090410,   P21,   153,  1,      8, X12008,9,20090516,2146,-17.4952,-146.5055, 4120,      9.4,2,  28.0140,2,  28.01399,2,  36.3351,2,-999.0000,9,   197.15,2,  -999.00,9,  -999.00,9,  -999.00,  -999.00,9,  -999.00,  -999.00,9,  -999.00, -999.000,9, -999.000, -999.000,9, -999.000,9, -999.000,9,   -999.0,9,   -999.0,9,-999.0000,-999,9,  -999.00,9,  -999.00,   -999.0,9,   -999.0,  28.0118,  23.3952
  49NZ20090410,   P21,   153,  1,      7, X12007,9,20090516,2146,-17.4952,-146.5055, 4120,   4000.0,2,   1.4680,2,   1.46803,2,  34.6927,2,-999.0000,9,   179.52,2,  -999.00,9,  -999.00,9,  -999.00,  -999.00,9,  -999.00,  -999.00,9,  -999.00, -999.000,9, -999.000, -999.000,9, -999.000,9, -999.000,9,   -999.0,9,   -999.0,9,-999.0000,-999,9,  -999.00,9,  -999.00,   -999.0,9,   -999.0,   1.1500,  27.7883
  49NZ20090410,   P21,   153,  1,      6, X12035,9,20090516,2146,-17.4952,-146.5055, 4120,   4170.9,2,   1.4798,2,   1.47971,2,  34.6930,2,-999.0000,9,   179.91,2,  -999.00,9,  -999.00,9,  -999.00,  -999.00,9,  -999.00,  -999.00,9,  -999.00, -999.000,9, -999.000, -999.000,9, -999.000,9, -999.000,9,   -999.0,9,   -999.0,9,-999.0000,-999,9,  -999.00,9,  -999.00,   -999.0,9,   -999.0,   1.1426,  27.7891
  49NZ20090410,   P21,   153,  1,      5, X12038,9,20090516,2146,-17.4952,-146.5055, 4120,   2600.5,2,   1.8526,2,   1.85260,2,  34.6601,2,-999.0000,9,   156.00,2,  -999.00,9,  -999.00,9,  -999.00,  -999.00,9,  -999.00,  -999.00,9,  -999.00, -999.000,9, -999.000, -999.000,9, -999.000,9, -999.000,9,   -999.0,9,   -999.0,9,-999.0000,-999,9,  -999.00,9,  -999.00,   -999.0,9,   -999.0,   1.6659,  27.7251
  49NZ20090410,   P21,   153,  1,      4, X12034,9,20090516,2146,-17.4952,-146.5055, 4120,   2800.7,2,   1.7667,2,   1.76680,2,  34.6669,2,-999.0000,9,   159.59,2,  -999.00,9,  -999.00,9,  -999.00,  -999.00,9,  -999.00,  -999.00,9,  -999.00, -999.000,9, -999.000, -999.000,9, -999.000,9, -999.000,9,   -999.0,9,   -999.0,9,-999.0000,-999,9,  -999.00,9,  -999.00,   -999.0,9,   -999.0,   1.5631,  27.7382
  49NZ20090410,   P21,   153,  1,      3, X12033,2,20090516,2146,-17.4952,-146.5055, 4120,   2999.8,2,   1.6915,2,   1.69143,2,  34.6733,2,  34.6730,2,   162.86,2,  -999.00,9,  -999.00,9,  -999.00,  -999.00,9,  -999.00,  -999.00,9,  -999.00, -999.000,9, -999.000, -999.000,9, -999.000,9, -999.000,9,   -999.0,9,   -999.0,9,-999.0000,-999,9,  -999.00,9,  -999.00,   -999.0,9,   -999.0,   1.4705,  27.7501
  49NZ20090410,   P21,   153,  1,      2, X12032,9,20090516,2146,-17.4952,-146.5055, 4120,    902.3,2,   4.5007,2,   4.50074,2,  34.4910,2,-999.0000,9,   139.66,2,  -999.00,9,  -999.00,9,  -999.00,  -999.00,9,  -999.00,  -999.00,9,  -999.00, -999.000,9, -999.000, -999.000,9, -999.000,9, -999.000,9,   -999.0,9,   -999.0,9,-999.0000,-999,9,  -999.00,9,  -999.00,   -999.0,9,   -999.0,   4.4296,  27.3357
  49NZ20090410,   P21,   153,  1,      1, X12046,2,20090516,2146,-17.4952,-146.5055, 4120,   4170.3,2,   1.4798,2,   1.47971,2,  34.6930,2,  34.6928,6,   179.98,2,   179.72,2,   119.84,2,     0.38,    33.90,2,     0.13,     0.01,2,     0.01,    2.366,2,    0.016,    0.000,2,    0.000,2,    0.000,2,   -999.0,9,   -999.0,9,-999.0000,-999,9,  -999.00,9,  -999.00,   -999.0,9,   -999.0,   1.1427,  27.7890