BOTTLE,20220818CCHSIOAMB
EXPOCODE,SECT_ID,STNNBR,CASTNO,SAMPNO,BTLNBR,BTLNBR_FLAG_W,DATE,TIME,LATITUDE,LONGITUDE,DEPTH,CTDPRS,CTDPRS_FLAG_W,CTDTMP,CTDTMP_FLAG_W,SBE35,SBE35_FLAG_W,CTDSAL,CTDSAL_FLAG_W,SALNTY,SALNTY_FLAG_W,CTDOXY,CTDOXY_FLAG_W,OXYGEN,OXYGEN_FLAG_W,SILCAT,SILCAT_FLAG_W,SILUNC,NITRAT,NITRAT_FLAG_W,NRAUNC,NITRIT,NITRIT_FLAG_W,NRIUNC,PHSPHT,PHSPHT_FLAG_W,PHPUNC,CFC-11,CFC-11_FLAG_W,CFC-12,CFC-12_FLAG_W,CFC113,CFC113_FLAG_W,TCARBN,TCARBN_FLAG_W,ALKALI,ALKALI_FLAG_W,PH_TOT,PH_TMP,PH_TOT_FLAG_W,DELC13,DELC13_FLAG_W,C13ERR,DELC14,DELC14_FLAG_W,C14ERR,THETA,SIG0
,,,,,,,,,,,METERS,DBAR,,ITS-90,,ITS-90,,PSS-78,,PSS-78,,UMOL/KG,,UMOL/KG,,UMOL/KG,,UMOL/KG,UMOL/KG,,UMOL/KG,UMOL/KG,,UMOL/KG,UMOL/KG,,UMOL/KG,PMOL/KG,,PMOL/KG,,PMOL/KG,,UMOL/KG,,UMOL/KG,,,DEG C,,/MILLE,,/MILLE,/MILLE,,/MILLE,DEG C,KG/M^3
  49NZ20090410,   P21,    67,  1,     36, X12006,2,20090428,1659,-16.7427, -96.6665, 3881,     10.7,2,  23.8827,2,  23.88666,2,  35.8298,2,  35.8326,2,   212.57,2,   212.67,2,     0.86,2,     0.12,     0.09,2,     0.03,     0.01,2,     0.01,    0.417,2,    0.013,    1.724,2,    1.098,2, -999.000,5,   -999.0,9,   -999.0,9,-999.0000,-999,9,  -999.00,9,  -999.00,   -999.0,9,   -999.0,  23.8805,  24.3052
  49NZ20090410,   P21,    67,  1,     35, X12047,2,20090428,1659,-16.7427, -96.6665, 3881,     49.9,2,  23.8312,2,  23.83012,2,  35.8396,2,  35.8410,2,   211.83,2,   212.59,2,     0.84,2,     0.12,     0.06,2,     0.03,     0.01,2,     0.01,    0.425,2,    0.013,    1.726,2,    1.099,2, -999.000,5,   -999.0,9,   -999.0,9,-999.0000,-999,9,  -999.00,9,  -999.00,   -999.0,9,   -999.0,  23.8207,  24.3304
  49NZ20090410,   P21,    67,  1,     34, X12004,2,20090428,1659,-16.7427, -96.6665, 3881,    100.0,2,  18.5645,2,  18.56498,2,  35.2865,2,  35.2872,2,   212.69,2,   212.13,2,     2.76,2,     0.13,     4.78,2,     0.61,     1.93,2,     0.01,    0.790,2,    0.050,    2.251,6,    1.393,6,    0.210,4,   -999.0,9,   -999.0,9,-999.0000,-999,9,  -999.00,9,  -999.00,   -999.0,9,   -999.0,  18.5470,  25.3551
  49NZ20090410,   P21,    67,  1,     33, X12003,2,20090428,1659,-16.7427, -96.6665, 3881,    150.4,2,  16.2140,2,  16.21999,2,  34.9768,2,  34.9839,2,   179.39,2,   175.59,2,     3.01,2,     0.13,    12.01,2,     0.07,     0.02,2,     0.01,    1.225,2,    0.013,    2.438,2,    1.473,2,    0.132,2,   -999.0,9,   -999.0,9,-999.0000,-999,9,  -999.00,9,  -999.00,   -999.0,9,   -999.0,  16.1900,  25.6861
  49NZ20090410,   P21,    67,  1,     32, X12002,2,20090428,1659,-16.7427, -96.6665, 3881,    199.1,2,  13.0616,2,  13.06017,2,  34.6274,2,  34.6253,2,   114.95,2,   110.95,2,     8.49,2,     0.14,    18.75,2,     0.09,     0.01,2,     0.01,    1.831,2,    0.015,    2.337,2,    1.344,2,    0.077,2,   -999.0,9,   -999.0,9,-999.0000,-999,9,  -999.00,9,  -999.00,   -999.0,9,   -999.0,  13.0342,  26.0973
  49NZ20090410,   P21,    67,  1,     31, X12001,2,20090428,1659,-16.7427, -96.6665, 3881,    249.5,2,  11.7191,2,  11.72037,2,  34.6729,2,  34.6713,6,    19.58,2,    20.34,2,    20.46,2,     0.16,    23.68,2,     0.10,     0.01,2,     0.01,    2.612,2,    0.017,    1.232,2,    0.682,2,    0.025,2,   -999.0,9,   -999.0,9,-999.0000,-999,9,  -999.00,9,  -999.00,   -999.0,9,   -999.0,  11.6871,  26.3942
  49NZ20090410,   P21,    67,  1,     30, X12030,2,20090428,1659,-16.7427, -96.6665, 3881,    329.4,2,   9.8356,2,   9.83483,2,  34.6509,2,  34.6483,2,     8.51,2,     8.65,2,    25.99,2,     0.18,    33.52,2,     0.13,     0.01,2,     0.01,    2.790,2,    0.017,    0.374,2,    0.196,2,    0.006,2,   -999.0,9,   -999.0,9,-999.0000,-999,9,  -999.00,9,  -999.00,   -999.0,9,   -999.0,   9.7977,  26.7136
  49NZ20090410,   P21,    67,  1,     29, X12044,2,20090428,1659,-16.7427, -96.6665, 3881,    431.0,2,   8.1357,2,   8.14096,2,  34.5831,2,  34.5821,2,    25.23,2,    25.23,2,    30.97,2,     0.19,    39.16,2,     0.14,     0.01,2,     0.01,    2.829,2,    0.017,    0.119,2,    0.062,2,    0.005,2,   -999.0,9,   -999.0,9,-999.0000,-999,9,  -999.00,9,  -999.00,   -999.0,9,   -999.0,   8.0913,  26.9327
  49NZ20090410,   P21,    67,  1,     28, X12048,2,20090428,1659,-16.7427, -96.6665, 3881,    530.0,2,   7.1196,2,   7.11978,2,  34.5383,2,  34.5371,6,    38.18,2,    38.32,2,    35.93,2,     0.20,    40.83,2,     0.15,     0.01,2,     0.01,    2.890,2,    0.017,    0.063,2,    0.035,2,    0.000,2,   -999.0,9,   -999.0,9,-999.0000,-999,9,  -999.00,9,  -999.00,   -999.0,9,   -999.0,   7.0687,  27.0455
  49NZ20090410,   P21,    67,  1,     27, X12027,2,20090428,1659,-16.7427, -96.6665, 3881,    631.6,2,   6.2659,2,   6.26774,2,  34.5111,2,  34.5113,2,    42.44,2,    42.22,2,    43.16,2,     0.21,    42.63,2,     0.15,     0.01,2,     0.01,    3.011,2,    0.017,    0.019,6,    0.008,6,    0.000,6,   -999.0,9,   -999.0,9,-999.0000,-999,9,  -999.00,9,  -999.00,   -999.0,9,   -999.0,   6.2089,  27.1396
  49NZ20090410,   P21,    67,  1,     26, X12026,2,20090428,1659,-16.7427, -96.6665, 3881,    729.1,2,   5.6981,2,   5.69871,2,  34.5020,2,  34.5015,2,    45.05,2,    45.21,2,    50.08,2,     0.23,    43.34,2,     0.15,     0.01,2,     0.01,    3.060,2,    0.018,    0.007,2,    0.004,2,    0.000,2,   -999.0,9,   -999.0,9,-999.0000,-999,9,  -999.00,9,  -999.00,   -999.0,9,   -999.0,   5.6349,  27.2047
  49NZ20090410,   P21,    67,  1,     25, X12025,2,20090428,1659,-16.7427, -96.6665, 3881,    829.6,2,   5.1945,2,   5.19460,2,  34.5037,2,  34.5031,2,    49.88,2,    49.81,2,    58.30,2,     0.25,    43.57,2,     0.15,     0.01,2,     0.01,    3.097,2,    0.018,    0.003,2,    0.001,2,    0.000,2,   -999.0,9,   -999.0,9,-999.0000,-999,9,  -999.00,9,  -999.00,   -999.0,9,   -999.0,   5.1252,  27.2672
  49NZ20090410,   P21,    67,  1,     24, X12024,2,20090428,1659,-16.7427, -96.6665, 3881,    930.4,2,   4.6827,2,   4.68293,2,  34.5157,2,  34.5152,2,    56.76,2,    56.87,2,    68.35,2,     0.27,    43.45,2,     0.15,     0.01,2,     0.01,    3.105,2,    0.018,    0.003,2,    0.001,2,    0.000,2,   -999.0,9,   -999.0,9,-999.0000,-999,9,  -999.00,9,  -999.00,   -999.0,9,   -999.0,   4.6079,  27.3357
  49NZ20090410,   P21,    67,  1,     23, X12028,2,20090428,1659,-16.7427, -96.6665, 3881,   1071.7,2,   4.1512,2,   4.15036,2,  34.5315,2,  34.5311,6,    69.46,2,    69.03,2,    78.95,2,     0.29,    42.45,2,     0.15,     0.01,2,     0.01,    3.051,2,    0.018,    0.001,2,    0.001,2,    0.009,2,   -999.0,9,   -999.0,9,-999.0000,-999,9,  -999.00,9,  -999.00,   -999.0,9,   -999.0,   4.0682,  27.4064
  49NZ20090410,   P21,    67,  1,     22, X12022,2,20090428,1659,-16.7427, -96.6665, 3881,   1269.9,2,   3.5599,2,   3.55983,2,  34.5589,2,  34.5589,2,    79.67,2,    79.88,2,    93.01,2,     0.32,    41.51,2,     0.15,     0.01,2,     0.01,    2.999,2,    0.017,    0.001,2,    0.001,2,    0.000,2,   -999.0,9,   -999.0,9,-999.0000,-999,9,  -999.00,9,  -999.00,   -999.0,9,   -999.0,   3.4654,  27.4890
  49NZ20090410,   P21,    67,  1,     21, X12021,2,20090428,1659,-16.7427, -96.6665, 3881,   1469.7,2,   3.0506,2,   3.05074,2,  34.5865,2,  34.5867,2,    90.46,2,    90.08,2,   105.85,2,     0.35,    40.68,2,     0.15,     0.01,2,     0.01,    2.934,2,    0.017,    0.000,2,    0.000,2,    0.000,2,   -999.0,9,   -999.0,9,-999.0000,-999,9,  -999.00,9,  -999.00,   -999.0,9,   -999.0,   2.9447,  27.5601
  49NZ20090410,   P21,    67,  1,     20, X12020,2,20090428,1659,-16.7427, -96.6665, 3881,   1669.8,2,   2.6917,2,   2.69189,2,  34.6092,2,  34.6092,2,   100.16,2,    99.87,2,   114.45,2,     0.37,    39.90,2,     0.14,     0.01,2,     0.01,    2.862,2,    0.017,    0.000,2,    0.000,2,    0.000,2,   -999.0,9,   -999.0,9,-999.0000,-999,9,  -999.00,9,  -999.00,   -999.0,9,   -999.0,   2.5733,  27.6111
  49NZ20090410,   P21,    67,  1,     19, X12019,2,20090428,1659,-16.7427, -96.6665, 3881,   1869.9,2,   2.4446,2,   2.44467,2,  34.6258,2,  34.6262,2,   109.01,2,   108.73,2,   120.36,2,     0.38,    39.20,2,     0.14,     0.01,2,     0.01,    2.792,2,    0.017,    0.000,2,    0.000,2,    0.000,2,   -999.0,9,   -999.0,9,-999.0000,-999,9,  -999.00,9,  -999.00,   -999.0,9,   -999.0,   2.3126,  27.6465
  49NZ20090410,   P21,    67,  1,     18, X12043,2,20090428,1659,-16.7427, -96.6665, 3881,   2069.5,2,   2.1870,2,   2.18702,2,  34.6431,2,  34.6433,6,   122.05,2,   121.71,2,   123.35,2,     0.39,    37.96,2,     0.14,     0.01,2,     0.01,    2.699,2,    0.017, -999.000,9, -999.000,9, -999.000,9,   -999.0,9,   -999.0,9,-999.0000,-999,9,  -999.00,9,  -999.00,   -999.0,9,   -999.0,   2.0417,  27.6824
  49NZ20090410,   P21,    67,  1,     17, X12042,2,20090428,1659,-16.7427, -96.6665, 3881,   2270.4,2,   2.0106,2,   2.01065,2,  34.6559,2,  34.6555,2,   134.64,2,   134.65,2,   123.64,2,     0.39,    37.07,2,     0.14,     0.01,2,     0.01,    2.615,2,    0.017,    0.001,2,    0.000,2,    0.000,2,   -999.0,9,   -999.0,9,-999.0000,-999,9,  -999.00,9,  -999.00,   -999.0,9,   -999.0,   1.8507,  27.7077
  49NZ20090410,   P21,    67,  1,     16, X12016,2,20090428,1659,-16.7427, -96.6665, 3881,   2470.4,2,   1.8909,2,   1.89083,2,  34.6650,2,  34.6649,2,   149.00,2,   148.91,2,   120.62,2,     0.38,    35.98,2,     0.13,     0.01,2,     0.01,    2.507,2,    0.016, -999.000,9, -999.000,9, -999.000,9,   -999.0,9,   -999.0,9,-999.0000,-999,9,  -999.00,9,  -999.00,   -999.0,9,   -999.0,   1.7153,  27.7254
  49NZ20090410,   P21,    67,  1,     15, X12015,2,20090428,1659,-16.7427, -96.6665, 3881,   2669.4,2,   1.8276,2,   1.82739,2,  34.6729,2,  34.6722,2,   151.70,2,   151.56,2,   122.44,2,     0.39,    35.63,2,     0.13,     0.01,2,     0.01,    2.500,2,    0.016, -999.000,9, -999.000,9, -999.000,9,   -999.0,9,   -999.0,9,-999.0000,-999,9,  -999.00,9,  -999.00,   -999.0,9,   -999.0,   1.6350,  27.7377
  49NZ20090410,   P21,    67,  1,     14, X12050,2,20090428,1659,-16.7427, -96.6665, 3881,   2867.8,2,   1.8046,2,   1.80448,2,  34.6780,2,  34.6774,2,   149.60,2,   149.47,2,   126.38,2,     0.40,    35.96,2,     0.13,     0.01,2,     0.01,    2.511,2,    0.016,    0.000,2,    0.000,2,    0.000,2,   -999.0,9,   -999.0,9,-999.0000,-999,9,  -999.00,9,  -999.00,   -999.0,9,   -999.0,   1.5938,  27.7448
  49NZ20090410,   P21,    67,  1,     13, X12013,7,20090428,1659,-16.7427, -96.6665, 3881,   3079.9,2,   1.7904,2,   1.79028,2,  34.6806,2,  34.6805,6,   146.74,2,   146.70,2,   130.01,2,     0.41,    36.21,2,     0.13,     0.01,2,     0.01,    2.535,2,    0.016, -999.000,9, -999.000,9, -999.000,9,   -999.0,9,   -999.0,9,-999.0000,-999,9,  -999.00,9,  -999.00,   -999.0,9,   -999.0,   1.5594,  27.7495
  49NZ20090410,   P21,    67,  1,     12, X12012,2,20090428,1659,-16.7427, -96.6665, 3881,   3330.7,2,   1.7912,2,   1.79124,2,  34.6833,2,  34.6824,2,   147.41,2,   147.51,2,   129.49,2,     0.40,    36.19,2,     0.13,     0.01,2,     0.01,    2.528,2,    0.016, -999.000,9, -999.000,9, -999.000,9,   -999.0,9,   -999.0,9,-999.0000,-999,9,  -999.00,9,  -999.00,   -999.0,9,   -999.0,   1.5351,  27.7534
  49NZ20090410,   P21,    67,  1,     11, X12041,2,20090428,1659,-16.7427, -96.6665, 3881,   3579.3,2,   1.8019,2,   1.80173,2,  34.6847,2,  34.6841,2,   148.39,2,   148.43,2,   128.85,2,     0.40,    36.00,2,     0.13,     0.01,2,     0.01,    2.518,2,    0.016,    0.000,2,    0.000,2,    0.000,2,   -999.0,9,   -999.0,9,-999.0000,-999,9,  -999.00,9,  -999.00,   -999.0,9,   -999.0,   1.5199,  27.7557
  49NZ20090410,   P21,    67,  1,     10, X12040,2,20090428,1659,-16.7427, -96.6665, 3881,   3829.9,2,   1.8138,2,   1.81356,2,  34.6856,2,  34.6854,2,   148.96,2,   149.03,2,   128.54,2,     0.40,    36.04,2,     0.13,     0.01,2,     0.01,    2.517,2,    0.016,    0.002,2,    0.000,2,    0.000,2,   -999.0,9,   -999.0,9,-999.0000,-999,9,  -999.00,9,  -999.00,   -999.0,9,   -999.0,   1.5047,  27.7575
  49NZ20090410,   P21,    67,  1,      9, X12009,9,20090428,1659,-16.7427, -96.6665, 3881,     10.7,2,  23.8844,2,  23.88515,2,  35.8289,2,-999.0000,9,   212.54,2,  -999.00,9,  -999.00,9,  -999.00,  -999.00,9,  -999.00,  -999.00,9,  -999.00, -999.000,9, -999.000, -999.000,9, -999.000,9, -999.000,9,   -999.0,9,   -999.0,9,-999.0000,-999,9,  -999.00,9,  -999.00,   -999.0,9,   -999.0,  23.8822,  24.3040
  49NZ20090410,   P21,    67,  1,      8, X12008,9,20090428,1659,-16.7427, -96.6665, 3881,   3330.7,2,   1.7912,2,   1.79125,2,  34.6833,2,-999.0000,9,   147.39,2,  -999.00,9,  -999.00,9,  -999.00,  -999.00,9,  -999.00,  -999.00,9,  -999.00, -999.000,9, -999.000, -999.000,9, -999.000,9, -999.000,9,   -999.0,9,   -999.0,9,-999.0000,-999,9,  -999.00,9,  -999.00,   -999.0,9,   -999.0,   1.5351,  27.7535
  49NZ20090410,   P21,    67,  1,      7, X12007,9,20090428,1659,-16.7427, -96.6665, 3881,   3579.7,2,   1.8019,2,   1.80179,2,  34.6847,2,-999.0000,9,   148.37,2,  -999.00,9,  -999.00,9,  -999.00,  -999.00,9,  -999.00,  -999.00,9,  -999.00, -999.000,9, -999.000, -999.000,9, -999.000,9, -999.000,9,   -999.0,9,   -999.0,9,-999.0000,-999,9,  -999.00,9,  -999.00,   -999.0,9,   -999.0,   1.5198,  27.7557
  49NZ20090410,   P21,    67,  1,      6, X12035,9,20090428,1659,-16.7427, -96.6665, 3881,   3830.6,2,   1.8139,2,   1.81373,2,  34.6856,2,-999.0000,9,   148.96,2,  -999.00,9,  -999.00,9,  -999.00,  -999.00,9,  -999.00,  -999.00,9,  -999.00, -999.000,9, -999.000, -999.000,9, -999.000,9, -999.000,9,   -999.0,9,   -999.0,9,-999.0000,-999,9,  -999.00,9,  -999.00,   -999.0,9,   -999.0,   1.5047,  27.7575
  49NZ20090410,   P21,    67,  1,      5, X12038,9,20090428,1659,-16.7427, -96.6665, 3881,   3917.9,2,   1.8127,2,   1.81267,2,  34.6864,2,-999.0000,9,   149.25,2,  -999.00,9,  -999.00,9,  -999.00,  -999.00,9,  -999.00,  -999.00,9,  -999.00, -999.000,9, -999.000, -999.000,9, -999.000,9, -999.000,9,   -999.0,9,   -999.0,9,-999.0000,-999,9,  -999.00,9,  -999.00,   -999.0,9,   -999.0,   1.4940,  27.7590
  49NZ20090410,   P21,    67,  1,      4, X12034,9,20090428,1659,-16.7427, -96.6665, 3881,   2670.1,2,   1.8276,2,   1.82747,2,  34.6729,2,-999.0000,9,   151.72,2,  -999.00,9,  -999.00,9,  -999.00,  -999.00,9,  -999.00,  -999.00,9,  -999.00, -999.000,9, -999.000, -999.000,9, -999.000,9, -999.000,9,   -999.0,9,   -999.0,9,-999.0000,-999,9,  -999.00,9,  -999.00,   -999.0,9,   -999.0,   1.6349,  27.7377
  49NZ20090410,   P21,    67,  1,      3, X12033,9,20090428,1659,-16.7427, -96.6665, 3881,   2868.5,2,   1.8045,2,   1.80440,2,  34.6780,2,-999.0000,9,   149.59,2,  -999.00,9,  -999.00,9,  -999.00,  -999.00,9,  -999.00,  -999.00,9,  -999.00, -999.000,9, -999.000, -999.000,9, -999.000,9, -999.000,9,   -999.0,9,   -999.0,9,-999.0000,-999,9,  -999.00,9,  -999.00,   -999.0,9,   -999.0,   1.5936,  27.7449
  49NZ20090410,   P21,    67,  1,      2, X12032,9,20090428,1659,-16.7427, -96.6665, 3881,   3080.7,2,   1.7903,2,   1.79029,2,  34.6806,2,-999.0000,9,   146.76,2,  -999.00,9,  -999.00,9,  -999.00,  -999.00,9,  -999.00,  -999.00,9,  -999.00, -999.000,9, -999.000, -999.000,9, -999.000,9, -999.000,9,   -999.0,9,   -999.0,9,-999.0000,-999,9,  -999.00,9,  -999.00,   -999.0,9,   -999.0,   1.5592,  27.7495
  49NZ20090410,   P21,    67,  1,      1, X12046,2,20090428,1659,-16.7427, -96.6665, 3881,   3919.3,2,   1.8126,2,   1.81249,2,  34.6864,2,  34.6855,6,   149.22,2,   149.35,2,   128.46,2,     0.40,    35.98,2,     0.13,     0.01,2,     0.01,    2.517,2,    0.016,    0.002,2,    0.002,2,    0.000,2,   -999.0,9,   -999.0,9,-999.0000,-999,9,  -999.00,9,  -999.00,   -999.0,9,   -999.0,   1.4938,  27.7590