BOTTLE,20220818CCHSIOAMB
EXPOCODE,SECT_ID,STNNBR,CASTNO,SAMPNO,BTLNBR,BTLNBR_FLAG_W,DATE,TIME,LATITUDE,LONGITUDE,DEPTH,CTDPRS,CTDPRS_FLAG_W,CTDTMP,CTDTMP_FLAG_W,SBE35,SBE35_FLAG_W,CTDSAL,CTDSAL_FLAG_W,SALNTY,SALNTY_FLAG_W,CTDOXY,CTDOXY_FLAG_W,OXYGEN,OXYGEN_FLAG_W,SILCAT,SILCAT_FLAG_W,SILUNC,NITRAT,NITRAT_FLAG_W,NRAUNC,NITRIT,NITRIT_FLAG_W,NRIUNC,PHSPHT,PHSPHT_FLAG_W,PHPUNC,CFC-11,CFC-11_FLAG_W,CFC-12,CFC-12_FLAG_W,CFC113,CFC113_FLAG_W,TCARBN,TCARBN_FLAG_W,ALKALI,ALKALI_FLAG_W,PH_TOT,PH_TMP,PH_TOT_FLAG_W,DELC13,DELC13_FLAG_W,C13ERR,DELC14,DELC14_FLAG_W,C14ERR,THETA,SIG0
,,,,,,,,,,,METERS,DBAR,,ITS-90,,ITS-90,,PSS-78,,PSS-78,,UMOL/KG,,UMOL/KG,,UMOL/KG,,UMOL/KG,UMOL/KG,,UMOL/KG,UMOL/KG,,UMOL/KG,UMOL/KG,,UMOL/KG,PMOL/KG,,PMOL/KG,,PMOL/KG,,UMOL/KG,,UMOL/KG,,,DEG C,,/MILLE,,/MILLE,/MILLE,,/MILLE,DEG C,KG/M^3
  49NZ20090410,   P21,   115,  1,     36, X12006,2,20090508,1353,-16.7522,-123.3402, 3693,      9.2,2,  26.8776,2,  26.87749,2,  36.4667,2,  36.4657,2,   202.15,2,   201.96,2,     0.74,2,     0.12,     0.50,2,     0.03,     0.02,2,     0.01,    0.297,2,    0.014,    1.507,2,    0.980,2, -999.000,5,   -999.0,9,   -999.0,9,-999.0000,-999,9,  -999.00,9,  -999.00,   -999.0,9,   -999.0,  26.8755,  23.8630
  49NZ20090410,   P21,   115,  1,     35, X12047,2,20090508,1353,-16.7522,-123.3402, 3693,     50.0,2,  26.8089,2,  26.80907,2,  36.4923,2,  36.4934,2,   202.36,2,   202.52,2,     0.78,2,     0.12,     0.53,2,     0.03,     0.03,2,     0.01,    0.307,2,    0.014,    1.515,2,    0.986,2, -999.000,5,   -999.0,9,   -999.0,9,-999.0000,-999,9,  -999.00,9,  -999.00,   -999.0,9,   -999.0,  26.7974,  23.9072
  49NZ20090410,   P21,   115,  1,     34, X12004,2,20090508,1353,-16.7522,-123.3402, 3693,     99.4,2,  23.5186,2,  23.51850,2,  36.3620,2,  36.3611,2,   214.09,2,   214.39,2,     0.52,2,     0.12,     0.09,2,     0.03,     0.02,2,     0.01,    0.205,2,    0.016,    1.788,6,    1.133,6, -999.000,5,   -999.0,9,   -999.0,9,-999.0000,-999,9,  -999.00,9,  -999.00,   -999.0,9,   -999.0,  23.4979,  24.8215
  49NZ20090410,   P21,   115,  1,     33, X12003,2,20090508,1353,-16.7522,-123.3402, 3693,    149.7,2,  22.7892,2,  22.78772,2,  36.3432,2,  36.3446,2,   201.97,2,   201.86,2,     0.54,2,     0.12,     0.19,2,     0.03,     0.49,2,     0.00,    0.294,2,    0.014,    1.815,2,    1.143,2, -999.000,5,   -999.0,9,   -999.0,9,-999.0000,-999,9,  -999.00,9,  -999.00,   -999.0,9,   -999.0,  22.7586,  25.0226
  49NZ20090410,   P21,   115,  1,     32, X12002,2,20090508,1353,-16.7522,-123.3402, 3693,    200.6,2,  21.1600,2,  21.15988,2,  36.0214,2,  36.0226,2,   196.86,2,   196.97,2,     0.51,2,     0.12,     1.69,2,     0.04,     0.11,2,     0.01,    0.379,2,    0.014,    2.016,2,    1.273,2, -999.000,5,   -999.0,9,   -999.0,9,-999.0000,-999,9,  -999.00,9,  -999.00,   -999.0,9,   -999.0,  21.1212,  25.2385
  49NZ20090410,   P21,   115,  1,     31, X12001,2,20090508,1353,-16.7522,-123.3402, 3693,    253.7,2,  18.4393,2,  18.42765,2,  35.4652,2,  35.4800,6,   192.20,2,   192.57,2,     0.73,2,     0.12,     3.81,2,     0.04,     0.02,2,     0.01,    0.500,2,    0.013,    2.241,2,    1.356,2,    0.073,2,   -999.0,9,   -999.0,9,-999.0000,-999,9,  -999.00,9,  -999.00,   -999.0,9,   -999.0,  18.3948,  25.5301
  49NZ20090410,   P21,   115,  1,     30, X12030,2,20090508,1353,-16.7522,-123.3402, 3693,    300.0,2,  15.1454,2,  15.14579,2,  34.9235,2,  34.9230,2,   175.97,2,   175.69,2,     2.14,2,     0.12,     8.98,2,     0.06,     0.02,2,     0.01,    0.861,2,    0.013,    2.509,2,    1.446,2,    0.076,2,   -999.0,9,   -999.0,9,-999.0000,-999,9,  -999.00,9,  -999.00,   -999.0,9,   -999.0,  15.0996,  25.8910
  49NZ20090410,   P21,   115,  1,     29, X12044,2,20090508,1353,-16.7522,-123.3402, 3693,    400.8,2,   8.6983,2,   8.70655,2,  34.4408,2,  34.4439,2,   112.63,2,   110.68,2,    14.31,2,     0.15,    27.66,2,     0.11,     0.02,2,     0.01,    2.169,2,    0.015,    1.450,2,    0.735,2,    0.044,4,   -999.0,9,   -999.0,9,-999.0000,-999,9,  -999.00,9,  -999.00,   -999.0,9,   -999.0,   8.6555,  26.7347
  49NZ20090410,   P21,   115,  1,     28, X12048,2,20090508,1353,-16.7522,-123.3402, 3693,    502.9,2,   6.5646,2,   6.56830,2,  34.3700,2,  34.3707,6,   154.90,2,   153.50,2,    16.95,2,     0.16,    30.88,2,     0.12,     0.02,2,     0.01,    2.186,2,    0.015,    0.908,2,    0.465,2,    0.018,2,   -999.0,9,   -999.0,9,-999.0000,-999,9,  -999.00,9,  -999.00,   -999.0,9,   -999.0,   6.5186,  26.9876
  49NZ20090410,   P21,   115,  1,     27, X12027,2,20090508,1353,-16.7522,-123.3402, 3693,    600.1,2,   5.7651,2,   5.76632,2,  34.4012,2,  34.4001,2,   132.17,2,   132.40,2,    28.75,2,     0.18,    34.67,2,     0.13,     0.02,2,     0.01,    2.426,2,    0.016,    0.220,6,    0.118,6,    0.000,6,   -999.0,9,   -999.0,9,-999.0000,-999,9,  -999.00,9,  -999.00,   -999.0,9,   -999.0,   5.7134,  27.1153
  49NZ20090410,   P21,   115,  1,     26, X12026,2,20090508,1353,-16.7522,-123.3402, 3693,    700.0,2,   5.4933,2,   5.49344,2,  34.4612,2,  34.4603,2,   103.43,2,   103.27,2,    42.33,2,     0.21,    37.74,2,     0.14,     0.02,2,     0.01,    2.640,2,    0.017,    0.037,2,    0.023,2,    0.000,2,   -999.0,9,   -999.0,9,-999.0000,-999,9,  -999.00,9,  -999.00,   -999.0,9,   -999.0,   5.4339,  27.1969
  49NZ20090410,   P21,   115,  1,     25, X12025,2,20090508,1353,-16.7522,-123.3402, 3693,    801.2,2,   5.0529,2,   5.05310,2,  34.4908,2,  34.4902,2,    93.96,2,    93.88,2,    53.98,2,     0.24,    39.09,2,     0.14,     0.02,2,     0.01,    2.763,2,    0.017,    0.010,2,    0.007,2,    0.000,2,   -999.0,9,   -999.0,9,-999.0000,-999,9,  -999.00,9,  -999.00,   -999.0,9,   -999.0,   4.9870,  27.2730
  49NZ20090410,   P21,   115,  1,     24, X12024,2,20090508,1353,-16.7522,-123.3402, 3693,    902.0,2,   4.6493,2,   4.64932,2,  34.5065,2,  34.5061,2,    90.12,2,    89.86,2,    63.40,2,     0.26,    40.00,2,     0.14,     0.02,2,     0.01,    2.838,2,    0.017,    0.001,2,    0.002,2,    0.000,2,   -999.0,9,   -999.0,9,-999.0000,-999,9,  -999.00,9,  -999.00,   -999.0,9,   -999.0,   4.5772,  27.3317
  49NZ20090410,   P21,   115,  1,     23, X12028,2,20090508,1353,-16.7522,-123.3402, 3693,   1001.9,2,   4.2879,2,   4.28770,2,  34.5210,2,  34.5201,6,    90.17,2,    89.84,2,    71.52,2,     0.28,    40.23,2,     0.15,     0.02,2,     0.01,    2.866,2,    0.017,    0.002,2,    0.001,2,    0.000,2,   -999.0,9,   -999.0,9,-999.0000,-999,9,  -999.00,9,  -999.00,   -999.0,9,   -999.0,   4.2098,  27.3831
  49NZ20090410,   P21,   115,  1,     22, X12022,2,20090508,1353,-16.7522,-123.3402, 3693,   1201.6,2,   3.6877,2,   3.68721,2,  34.5473,2,  34.5478,2,    96.55,2,    96.41,2,    84.96,2,     0.31,    39.77,2,     0.14,     0.02,2,     0.01,    2.847,2,    0.017,    0.003,2,    0.002,2,    0.000,2,   -999.0,9,   -999.0,9,-999.0000,-999,9,  -999.00,9,  -999.00,   -999.0,9,   -999.0,   3.5978,  27.4668
  49NZ20090410,   P21,   115,  1,     21, X12021,2,20090508,1353,-16.7522,-123.3402, 3693,   1400.4,2,   3.1731,2,   3.17325,2,  34.5748,2,  34.5743,2,   105.54,2,   105.38,2,    96.98,2,     0.33,    39.10,2,     0.14,     0.02,2,     0.01,    2.806,2,    0.017,    0.001,2,    0.000,2,    0.000,2,   -999.0,9,   -999.0,9,-999.0000,-999,9,  -999.00,9,  -999.00,   -999.0,9,   -999.0,   3.0716,  27.5391
  49NZ20090410,   P21,   115,  1,     20, X12020,2,20090508,1353,-16.7522,-123.3402, 3693,   1600.8,2,   2.8038,2,   2.80372,2,  34.5948,2,  34.5947,2,   116.64,2,   116.43,2,   104.59,2,     0.35,    38.48,2,     0.14,     0.02,2,     0.01,    2.746,2,    0.017,    0.000,2,    0.000,2,    0.000,2,   -999.0,9,   -999.0,9,-999.0000,-999,9,  -999.00,9,  -999.00,   -999.0,9,   -999.0,   2.6898,  27.5895
  49NZ20090410,   P21,   115,  1,     19, X12019,2,20090508,1353,-16.7522,-123.3402, 3693,   1801.2,2,   2.4214,2,   2.42151,2,  34.6183,2,  34.6189,6,   129.84,2,   129.52,2,   110.62,2,     0.36,    37.44,2,     0.14,     0.02,2,     0.01,    2.657,2,    0.017,    0.000,2,    0.000,2,    0.000,2,   -999.0,9,   -999.0,9,-999.0000,-999,9,  -999.00,9,  -999.00,   -999.0,9,   -999.0,   2.2956,  27.6419
  49NZ20090410,   P21,   115,  1,     18, X12043,2,20090508,1353,-16.7522,-123.3402, 3693,   2001.8,2,   2.1262,2,   2.12619,2,  34.6399,2,  34.6399,2,   142.62,2,   142.50,2,   114.62,2,     0.37,    36.34,2,     0.13,     0.02,2,     0.01,    2.566,2,    0.016,    0.000,2,    0.001,2,    0.000,2,   -999.0,9,   -999.0,9,-999.0000,-999,9,  -999.00,9,  -999.00,   -999.0,9,   -999.0,   1.9877,  27.6842
  49NZ20090410,   P21,   115,  1,     17, X12042,2,20090508,1353,-16.7522,-123.3402, 3693,   2201.6,2,   1.9470,2,   1.94740,2,  34.6563,2,  34.6564,2,   150.76,2,   150.58,2,   117.54,2,     0.38,    35.74,2,     0.13,     0.01,2,     0.01,    2.513,2,    0.016,    0.000,2,    0.001,2,    0.000,2,   -999.0,9,   -999.0,9,-999.0000,-999,9,  -999.00,9,  -999.00,   -999.0,9,   -999.0,   1.7941,  27.7124
  49NZ20090410,   P21,   115,  1,     16, X12016,2,20090508,1353,-16.7522,-123.3402, 3693,   2401.1,2,   1.8696,2,   1.86954,2,  34.6648,2,  34.6646,2,   153.17,2,   152.92,2,   120.27,2,     0.38,    35.61,2,     0.13,     0.02,2,     0.01,    2.483,2,    0.016,    0.000,2,    0.000,2,    0.000,2,   -999.0,9,   -999.0,9,-999.0000,-999,9,  -999.00,9,  -999.00,   -999.0,9,   -999.0,   1.7006,  27.7263
  49NZ20090410,   P21,   115,  1,     15, X12015,2,20090508,1353,-16.7522,-123.3402, 3693,   2601.3,2,   1.8087,2,   1.80867,2,  34.6707,2,  34.6703,2,   155.00,2,   154.95,2,   122.61,2,     0.39,    35.46,2,     0.13,     0.02,2,     0.01,    2.486,2,    0.016,    0.000,2,    0.000,2,    0.000,2,   -999.0,9,   -999.0,9,-999.0000,-999,9,  -999.00,9,  -999.00,   -999.0,9,   -999.0,   1.6227,  27.7368
  49NZ20090410,   P21,   115,  1,     14, X12050,2,20090508,1353,-16.7522,-123.3402, 3693,   2801.6,2,   1.7606,2,   1.76065,2,  34.6741,2,  34.6738,6,   157.05,2,   156.82,2,   124.14,2,     0.39,    35.36,2,     0.13,     0.02,2,     0.01,    2.479,2,    0.016,    0.000,2,    0.001,2,    0.000,2,   -999.0,9,   -999.0,9,-999.0000,-999,9,  -999.00,9,  -999.00,   -999.0,9,   -999.0,   1.5570,  27.7445
  49NZ20090410,   P21,   115,  1,     13, X12013,7,20090508,1353,-16.7522,-123.3402, 3693,   3001.1,2,   1.7143,2,   1.71427,2,  34.6773,2,  34.6778,2,   158.52,2,   158.39,2,   125.54,2,     0.40,    35.26,2,     0.13,     0.02,2,     0.01,    2.473,2,    0.016,    0.002,2,    0.000,2,    0.000,2,   -999.0,9,   -999.0,9,-999.0000,-999,9,  -999.00,9,  -999.00,   -999.0,9,   -999.0,   1.4927,  27.7517
  49NZ20090410,   P21,   115,  1,     12, X12012,2,20090508,1353,-16.7522,-123.3402, 3693,   3251.2,2,   1.6640,2,   1.66403,2,  34.6806,2,  34.6802,2,   161.20,2,   161.11,2,   126.52,2,     0.40,    35.20,2,     0.13,     0.02,2,     0.01,    2.471,2,    0.016,    0.001,2,    0.001,2,    0.000,2,   -999.0,9,   -999.0,9,-999.0000,-999,9,  -999.00,9,  -999.00,   -999.0,9,   -999.0,   1.4190,  27.7597
  49NZ20090410,   P21,   115,  1,     11, X12041,2,20090508,1353,-16.7522,-123.3402, 3693,   3499.1,2,   1.6591,2,   1.65906,2,  34.6822,2,  34.6817,2,   162.46,2,   162.30,2,   126.94,2,     0.40,    35.11,2,     0.13,     0.02,2,     0.01,    2.464,2,    0.016,    0.000,2,    0.000,2,    0.000,2,   -999.0,9,   -999.0,9,-999.0000,-999,9,  -999.00,9,  -999.00,   -999.0,9,   -999.0,   1.3891,  27.7631
  49NZ20090410,   P21,   115,  1,     10, X12040,9,20090508,1353,-16.7522,-123.3402, 3693,      9.5,2,  26.8799,2,  26.87963,2,  36.4668,2,-999.0000,9,   202.17,2,  -999.00,9,  -999.00,9,  -999.00,  -999.00,9,  -999.00,  -999.00,9,  -999.00, -999.000,9, -999.000, -999.000,9, -999.000,9, -999.000,9,   -999.0,9,   -999.0,9,-999.0000,-999,9,  -999.00,9,  -999.00,   -999.0,9,   -999.0,  26.8777,  23.8623
  49NZ20090410,   P21,   115,  1,      9, X12009,9,20090508,1353,-16.7522,-123.3402, 3693,   2400.3,2,   1.8697,2,   1.86974,2,  34.6649,2,-999.0000,9,   153.14,2,  -999.00,9,  -999.00,9,  -999.00,  -999.00,9,  -999.00,  -999.00,9,  -999.00, -999.000,9, -999.000, -999.000,9, -999.000,9, -999.000,9,   -999.0,9,   -999.0,9,-999.0000,-999,9,  -999.00,9,  -999.00,   -999.0,9,   -999.0,   1.7007,  27.7263
  49NZ20090410,   P21,   115,  1,      8, X12008,9,20090508,1353,-16.7522,-123.3402, 3693,   3251.5,2,   1.6640,2,   1.66403,2,  34.6806,2,-999.0000,9,   161.20,2,  -999.00,9,  -999.00,9,  -999.00,  -999.00,9,  -999.00,  -999.00,9,  -999.00, -999.000,9, -999.000, -999.000,9, -999.000,9, -999.000,9,   -999.0,9,   -999.0,9,-999.0000,-999,9,  -999.00,9,  -999.00,   -999.0,9,   -999.0,   1.4189,  27.7597
  49NZ20090410,   P21,   115,  1,      7, X12007,9,20090508,1353,-16.7522,-123.3402, 3693,   3499.1,2,   1.6588,2,   1.65874,2,  34.6822,2,-999.0000,9,   162.44,2,  -999.00,9,  -999.00,9,  -999.00,  -999.00,9,  -999.00,  -999.00,9,  -999.00, -999.000,9, -999.000, -999.000,9, -999.000,9, -999.000,9,   -999.0,9,   -999.0,9,-999.0000,-999,9,  -999.00,9,  -999.00,   -999.0,9,   -999.0,   1.3888,  27.7632
  49NZ20090410,   P21,   115,  1,      6, X12035,9,20090508,1353,-16.7522,-123.3402, 3693,   3718.2,2,   1.6744,2,   1.67441,2,  34.6827,2,-999.0000,9,   162.70,2,  -999.00,9,  -999.00,9,  -999.00,  -999.00,9,  -999.00,  -999.00,9,  -999.00, -999.000,9, -999.000, -999.000,9, -999.000,9, -999.000,9,   -999.0,9,   -999.0,9,-999.0000,-999,9,  -999.00,9,  -999.00,   -999.0,9,   -999.0,   1.3810,  27.7641
  49NZ20090410,   P21,   115,  1,      5, X12038,9,20090508,1353,-16.7522,-123.3402, 3693,   2601.7,2,   1.8086,2,   1.80860,2,  34.6707,2,-999.0000,9,   155.00,2,  -999.00,9,  -999.00,9,  -999.00,  -999.00,9,  -999.00,  -999.00,9,  -999.00, -999.000,9, -999.000, -999.000,9, -999.000,9, -999.000,9,   -999.0,9,   -999.0,9,-999.0000,-999,9,  -999.00,9,  -999.00,   -999.0,9,   -999.0,   1.6226,  27.7369
  49NZ20090410,   P21,   115,  1,      4, X12034,9,20090508,1353,-16.7522,-123.3402, 3693,   2801.1,2,   1.7605,2,   1.76059,2,  34.6742,2,-999.0000,9,   157.05,2,  -999.00,9,  -999.00,9,  -999.00,  -999.00,9,  -999.00,  -999.00,9,  -999.00, -999.000,9, -999.000, -999.000,9, -999.000,9, -999.000,9,   -999.0,9,   -999.0,9,-999.0000,-999,9,  -999.00,9,  -999.00,   -999.0,9,   -999.0,   1.5570,  27.7445
  49NZ20090410,   P21,   115,  1,      3, X12033,9,20090508,1353,-16.7522,-123.3402, 3693,   3001.6,2,   1.7142,2,   1.71425,2,  34.6772,2,-999.0000,9,   158.51,2,  -999.00,9,  -999.00,9,  -999.00,  -999.00,9,  -999.00,  -999.00,9,  -999.00, -999.000,9, -999.000, -999.000,9, -999.000,9, -999.000,9,   -999.0,9,   -999.0,9,-999.0000,-999,9,  -999.00,9,  -999.00,   -999.0,9,   -999.0,   1.4925,  27.7517
  49NZ20090410,   P21,   115,  1,      2, X12032,9,20090508,1353,-16.7522,-123.3402, 3693,    902.5,2,   4.6484,2,   4.64835,2,  34.5065,2,-999.0000,9,    90.11,2,  -999.00,9,  -999.00,9,  -999.00,  -999.00,9,  -999.00,  -999.00,9,  -999.00, -999.000,9, -999.000, -999.000,9, -999.000,9, -999.000,9,   -999.0,9,   -999.0,9,-999.0000,-999,9,  -999.00,9,  -999.00,   -999.0,9,   -999.0,   4.5763,  27.3319
  49NZ20090410,   P21,   115,  1,      1, X12046,2,20090508,1353,-16.7522,-123.3402, 3693,   3719.5,2,   1.6744,2,   1.67439,2,  34.6826,2,  34.6823,6,   162.73,2,   162.50,2,   127.05,2,     0.40,    35.17,2,     0.13,     0.01,2,     0.01,    2.465,2,    0.016,    0.000,2,    0.000,2,    0.000,2,   -999.0,9,   -999.0,9,-999.0000,-999,9,  -999.00,9,  -999.00,   -999.0,9,   -999.0,   1.3809,  27.7640