BOTTLE,20220818CCHSIOAMB
EXPOCODE,SECT_ID,STNNBR,CASTNO,SAMPNO,BTLNBR,BTLNBR_FLAG_W,DATE,TIME,LATITUDE,LONGITUDE,DEPTH,CTDPRS,CTDPRS_FLAG_W,CTDTMP,CTDTMP_FLAG_W,SBE35,SBE35_FLAG_W,CTDSAL,CTDSAL_FLAG_W,SALNTY,SALNTY_FLAG_W,CTDOXY,CTDOXY_FLAG_W,OXYGEN,OXYGEN_FLAG_W,SILCAT,SILCAT_FLAG_W,SILUNC,NITRAT,NITRAT_FLAG_W,NRAUNC,NITRIT,NITRIT_FLAG_W,NRIUNC,PHSPHT,PHSPHT_FLAG_W,PHPUNC,CFC-11,CFC-11_FLAG_W,CFC-12,CFC-12_FLAG_W,CFC113,CFC113_FLAG_W,TCARBN,TCARBN_FLAG_W,ALKALI,ALKALI_FLAG_W,PH_TOT,PH_TMP,PH_TOT_FLAG_W,DELC13,DELC13_FLAG_W,C13ERR,DELC14,DELC14_FLAG_W,C14ERR,THETA,SIG0
,,,,,,,,,,,METERS,DBAR,,ITS-90,,ITS-90,,PSS-78,,PSS-78,,UMOL/KG,,UMOL/KG,,UMOL/KG,,UMOL/KG,UMOL/KG,,UMOL/KG,UMOL/KG,,UMOL/KG,UMOL/KG,,UMOL/KG,PMOL/KG,,PMOL/KG,,PMOL/KG,,UMOL/KG,,UMOL/KG,,,DEG C,,/MILLE,,/MILLE,/MILLE,,/MILLE,DEG C,KG/M^3
  49NZ20090410,   P21,    89,  1,     36, X12006,2,20090503,1813,-16.7542,-108.6755, 3636,     10.0,2,  25.7442,2,  25.74512,2,  36.2383,2,  36.2382,2,   206.41,2,   206.73,2,     0.79,2,     0.12,     0.55,2,     0.03,     0.02,2,     0.01,    0.353,2,    0.014,    1.607,2,    1.042,2, -999.000,5,   -999.0,9,   -999.0,9,-999.0000,-999,9,  -999.00,9,  -999.00,   -999.0,9,   -999.0,  25.7420,  24.0485
  49NZ20090410,   P21,    89,  1,     35, X12047,2,20090503,1813,-16.7542,-108.6755, 3636,     50.2,2,  25.6873,2,  25.68555,2,  36.2389,2,  36.2399,2,   206.11,2,   206.60,2,     0.76,2,     0.12,     0.48,2,     0.03,     0.02,2,     0.01,    0.344,2,    0.014,    1.603,2,    1.044,2, -999.000,5,   -999.0,9,   -999.0,9,-999.0000,-999,9,  -999.00,9,  -999.00,   -999.0,9,   -999.0,  25.6762,  24.0695
  49NZ20090410,   P21,    89,  1,     34, X12004,2,20090503,1813,-16.7542,-108.6755, 3636,    100.5,2,  22.0186,2,  22.01911,2,  35.9581,2,  35.9685,2,   208.85,2,   208.83,2,     0.70,2,     0.12,     0.49,2,     0.03,     0.10,2,     0.01,    0.471,2,    0.013,    1.920,6,    1.215,6, -999.000,5,   -999.0,9,   -999.0,9,-999.0000,-999,9,  -999.00,9,  -999.00,   -999.0,9,   -999.0,  21.9986,  24.9464
  49NZ20090410,   P21,    89,  1,     33, X12003,2,20090503,1813,-16.7542,-108.6755, 3636,    150.6,2,  20.2289,2,  20.23396,2,  35.6970,2,  35.6985,2,   197.87,2,   197.93,2,     0.59,2,     0.12,     2.70,2,     0.04,     0.37,2,     0.00,    0.535,2,    0.013,    2.092,2,    1.309,2, -999.000,5,   -999.0,9,   -999.0,9,-999.0000,-999,9,  -999.00,9,  -999.00,   -999.0,9,   -999.0,  20.2007,  25.2402
  49NZ20090410,   P21,    89,  1,     32, X12002,2,20090503,1813,-16.7542,-108.6755, 3636,    198.9,2,  18.1950,2,  18.19674,2,  35.3196,2,  35.3228,2,   195.17,2,   195.43,2,     0.87,2,     0.12,     5.36,2,     0.05,     0.03,2,     0.01,    0.696,2,    0.013,    2.300,2,    1.415,2,    0.145,2,   -999.0,9,   -999.0,9,-999.0000,-999,9,  -999.00,9,  -999.00,   -999.0,9,   -999.0,  18.1605,  25.4771
  49NZ20090410,   P21,    89,  1,     31, X12001,2,20090503,1813,-16.7542,-108.6755, 3636,    249.1,2,  15.4269,2,  15.42043,2,  34.8936,2,  34.8871,6,   171.49,2,   171.78,2,     2.72,2,     0.12,    11.17,2,     0.06,     0.02,2,     0.01,    1.097,2,    0.013,    2.514,2,    1.491,2,    0.092,2,   -999.0,9,   -999.0,9,-999.0000,-999,9,  -999.00,9,  -999.00,   -999.0,9,   -999.0,  15.3884,  25.8040
  49NZ20090410,   P21,    89,  1,     30, X12030,2,20090503,1813,-16.7542,-108.6755, 3636,    280.2,2,  12.9693,2,  12.96631,2,  34.5843,2,  34.5877,2,   148.45,2,   149.80,2,     4.90,2,     0.13,    14.98,2,     0.07,     0.02,2,     0.01,    1.371,2,    0.014,    2.588,2,    1.462,2,    0.084,2,   -999.0,9,   -999.0,9,-999.0000,-999,9,  -999.00,9,  -999.00,   -999.0,9,   -999.0,  12.9309,  26.0847
  49NZ20090410,   P21,    89,  1,     29, X12044,2,20090503,1813,-16.7542,-108.6755, 3636,    370.3,2,   9.5724,2,   9.57315,2,  34.5405,2,  34.5404,2,    50.05,2,    49.78,2,    19.61,2,     0.16,    30.11,2,     0.12,     0.01,2,     0.01,    2.535,2,    0.016,    0.920,2,    0.475,2,    0.021,2,   -999.0,9,   -999.0,9,-999.0000,-999,9,  -999.00,9,  -999.00,   -999.0,9,   -999.0,   9.5305,  26.6720
  49NZ20090410,   P21,    89,  1,     28, X12048,2,20090503,1813,-16.7542,-108.6755, 3636,    470.7,2,   7.6225,2,   7.62169,2,  34.5115,2,  34.5093,6,    62.65,2,    62.90,2,    26.06,2,     0.18,    36.47,2,     0.13,     0.02,2,     0.01,    2.631,2,    0.017,    0.260,2,    0.137,2,    0.017,2,   -999.0,9,   -999.0,9,-999.0000,-999,9,  -999.00,9,  -999.00,   -999.0,9,   -999.0,   7.5757,  26.9525
  49NZ20090410,   P21,    89,  1,     27, X12027,2,20090503,1813,-16.7542,-108.6755, 3636,    568.6,2,   6.6621,2,   6.66203,2,  34.4919,2,  34.4918,2,    69.73,2,    69.86,2,    32.95,2,     0.19,    38.74,2,     0.14,     0.01,2,     0.01,    2.720,2,    0.017,    0.076,6,    0.043,6,    0.013,2,   -999.0,9,   -999.0,9,-999.0000,-999,9,  -999.00,9,  -999.00,   -999.0,9,   -999.0,   6.6093,  27.0717
  49NZ20090410,   P21,    89,  1,     26, X12026,2,20090503,1813,-16.7542,-108.6755, 3636,    670.5,2,   5.9709,2,   5.97093,2,  34.4941,2,  34.4940,2,    62.84,2,    63.07,2,    42.73,2,     0.21,    40.90,2,     0.15,     0.01,2,     0.01,    2.867,2,    0.017,    0.010,2,    0.013,2,    0.000,2,   -999.0,9,   -999.0,9,-999.0000,-999,9,  -999.00,9,  -999.00,   -999.0,9,   -999.0,   5.9117,  27.1640
  49NZ20090410,   P21,    89,  1,     25, X12025,2,20090503,1813,-16.7542,-108.6755, 3636,    769.9,2,   5.5068,2,   5.50707,2,  34.4990,2,  34.4990,2,    55.04,2,    55.19,2,    51.50,2,     0.23,    42.70,2,     0.15,     0.01,2,     0.01,    3.012,2,    0.017,    0.007,2,    0.002,2,    0.000,2,   -999.0,9,   -999.0,9,-999.0000,-999,9,  -999.00,9,  -999.00,   -999.0,9,   -999.0,   5.4410,  27.2260
  49NZ20090410,   P21,    89,  1,     24, X12024,2,20090503,1813,-16.7542,-108.6755, 3636,    870.2,2,   5.0128,2,   5.01286,2,  34.5062,2,  34.5058,2,    58.89,2,    59.03,2,    60.39,2,     0.25,    42.93,2,     0.15,     0.01,2,     0.01,    3.047,2,    0.018,    0.003,2,    0.000,2,    0.000,2,   -999.0,9,   -999.0,9,-999.0000,-999,9,  -999.00,9,  -999.00,   -999.0,9,   -999.0,   4.9410,  27.2906
  49NZ20090410,   P21,    89,  1,     23, X12028,2,20090503,1813,-16.7542,-108.6755, 3636,    969.3,2,   4.6047,2,   4.60458,2,  34.5174,2,  34.5175,6,    63.11,2,    63.02,2,    69.02,2,     0.27,    42.84,2,     0.15,     0.01,2,     0.01,    3.055,2,    0.018,    0.002,2,    0.000,2,    0.000,2,   -999.0,9,   -999.0,9,-999.0000,-999,9,  -999.00,9,  -999.00,   -999.0,9,   -999.0,   4.5271,  27.3460
  49NZ20090410,   P21,    89,  1,     22, X12022,2,20090503,1813,-16.7542,-108.6755, 3636,   1130.1,2,   4.0279,2,   4.02799,2,  34.5389,2,  34.5399,2,    71.41,2,    71.38,2,    82.12,2,     0.30,    42.28,2,     0.15,     0.01,2,     0.01,    3.042,2,    0.018,    0.004,2,    0.002,2,    0.000,2,   -999.0,9,   -999.0,9,-999.0000,-999,9,  -999.00,9,  -999.00,   -999.0,9,   -999.0,   3.9410,  27.4255
  49NZ20090410,   P21,    89,  1,     21, X12021,2,20090503,1813,-16.7542,-108.6755, 3636,   1331.5,2,   3.3794,2,   3.37971,2,  34.5666,2,  34.5669,2,    86.90,2,    87.18,2,    95.90,2,     0.33,    40.80,2,     0.15,     0.01,2,     0.01,    2.951,2,    0.017,    0.004,2,    0.002,2,    0.000,2,   -999.0,9,   -999.0,9,-999.0000,-999,9,  -999.00,9,  -999.00,   -999.0,9,   -999.0,   3.2815,  27.5129
  49NZ20090410,   P21,    89,  1,     20, X12020,2,20090503,1813,-16.7542,-108.6755, 3636,   1532.7,2,   2.9457,2,   2.94600,2,  34.5925,2,  34.5925,2,    95.05,2,    95.32,2,   107.15,2,     0.35,    40.14,2,     0.15,     0.01,2,     0.01,    2.897,2,    0.017,    0.002,2,    0.002,2,    0.000,2,   -999.0,9,   -999.0,9,-999.0000,-999,9,  -999.00,9,  -999.00,   -999.0,9,   -999.0,   2.8357,  27.5746
  49NZ20090410,   P21,    89,  1,     19, X12019,2,20090503,1813,-16.7542,-108.6755, 3636,   1730.3,2,   2.5756,2,   2.57566,2,  34.6148,2,  34.6151,2,   109.15,2,   109.77,2,   114.41,2,     0.37,    39.05,2,     0.14,     0.01,2,     0.01,    2.792,2,    0.017,    0.001,2,    0.000,2,    0.000,2,   -999.0,9,   -999.0,9,-999.0000,-999,9,  -999.00,9,  -999.00,   -999.0,9,   -999.0,   2.4536,  27.6258
  49NZ20090410,   P21,    89,  1,     18, X12043,2,20090503,1813,-16.7542,-108.6755, 3636,   1929.3,2,   2.2838,2,   2.28399,2,  34.6315,2,  34.6313,6,   126.58,2,   126.94,2,   116.26,2,     0.37,    37.71,2,     0.14,     0.02,2,     0.01,    2.672,2,    0.017,    0.003,2,    0.001,2,    0.000,2,   -999.0,9,   -999.0,9,-999.0000,-999,9,  -999.00,9,  -999.00,   -999.0,9,   -999.0,   2.1491,  27.6645
  49NZ20090410,   P21,    89,  1,     17, X12042,2,20090503,1813,-16.7542,-108.6755, 3636,   2130.1,2,   2.0449,2,   2.04484,2,  34.6491,2,  34.6498,2,   140.35,2,   140.79,2,   118.13,2,     0.38,    36.62,2,     0.14,     0.01,2,     0.01,    2.577,2,    0.016, -999.000,9, -999.000,9, -999.000,9,   -999.0,9,   -999.0,9,-999.0000,-999,9,  -999.00,9,  -999.00,   -999.0,9,   -999.0,   1.8966,  27.6987
  49NZ20090410,   P21,    89,  1,     16, X12016,2,20090503,1813,-16.7542,-108.6755, 3636,   2330.9,2,   1.8974,2,   1.89739,2,  34.6616,2,  34.6619,2,   152.59,2,   152.71,2,   117.15,2,     0.38,    35.53,2,     0.13,     0.01,2,     0.01,    2.486,2,    0.016, -999.000,9, -999.000,9, -999.000,9,   -999.0,9,   -999.0,9,-999.0000,-999,9,  -999.00,9,  -999.00,   -999.0,9,   -999.0,   1.7341,  27.7212
  49NZ20090410,   P21,    89,  1,     15, X12015,2,20090503,1813,-16.7542,-108.6755, 3636,   2529.7,2,   1.8285,2,   1.82844,2,  34.6717,2,  34.6718,2,   153.17,2,   153.27,2,   120.68,2,     0.38,    35.43,2,     0.13,     0.01,2,     0.01,    2.483,2,    0.016,    0.002,2,    0.001,2,    0.000,2,   -999.0,9,   -999.0,9,-999.0000,-999,9,  -999.00,9,  -999.00,   -999.0,9,   -999.0,   1.6487,  27.7358
  49NZ20090410,   P21,    89,  1,     14, X12050,2,20090503,1813,-16.7542,-108.6755, 3636,   2730.0,2,   1.8150,2,   1.81488,2,  34.6768,2,  34.6765,6,   149.10,2,   149.29,2,   125.80,2,     0.40,    35.77,2,     0.13,     0.01,2,     0.01,    2.513,2,    0.016, -999.000,9, -999.000,9, -999.000,9,   -999.0,9,   -999.0,9,-999.0000,-999,9,  -999.00,9,  -999.00,   -999.0,9,   -999.0,   1.6170,  27.7422
  49NZ20090410,   P21,    89,  1,     13, X12013,7,20090503,1813,-16.7542,-108.6755, 3636,   2929.7,2,   1.8138,2,   1.81375,2,  34.6793,2,  34.6800,2,   145.80,2,   146.07,2,   129.41,2,     0.40,    36.11,2,     0.13,     0.01,2,     0.01,    2.535,2,    0.016, -999.000,9, -999.000,9, -999.000,9,   -999.0,9,   -999.0,9,-999.0000,-999,9,  -999.00,9,  -999.00,   -999.0,9,   -999.0,   1.5969,  27.7457
  49NZ20090410,   P21,    89,  1,     12, X12012,2,20090503,1813,-16.7542,-108.6755, 3636,   3170.0,2,   1.8166,2,   1.81669,2,  34.6797,2,  34.6794,2,   143.68,2,   144.05,2,   131.85,2,     0.41,    36.27,2,     0.13,     0.02,2,     0.01,    2.548,2,    0.016,    0.001,2,    0.000,2,    0.000,2,   -999.0,9,   -999.0,9,-999.0000,-999,9,  -999.00,9,  -999.00,   -999.0,9,   -999.0,   1.5761,  27.7476
  49NZ20090410,   P21,    89,  1,     11, X12041,2,20090503,1813,-16.7542,-108.6755, 3636,   3421.3,2,   1.8210,2,   1.82101,2,  34.6797,2,  34.6801,2,   141.93,2,   142.27,2,   134.15,2,     0.41,    36.42,2,     0.13,     0.02,2,     0.01,    2.562,2,    0.016,    0.002,2,    0.000,2,    0.000,2,   -999.0,9,   -999.0,9,-999.0000,-999,9,  -999.00,9,  -999.00,   -999.0,9,   -999.0,   1.5550,  27.7491
  49NZ20090410,   P21,    89,  1,     10, X12040,9,20090503,1813,-16.7542,-108.6755, 3636,     10.3,2,  25.7308,2,  25.73099,2,  36.2381,2,-999.0000,9,   206.33,2,  -999.00,9,  -999.00,9,  -999.00,  -999.00,9,  -999.00,  -999.00,9,  -999.00, -999.000,9, -999.000, -999.000,9, -999.000,9, -999.000,9,   -999.0,9,   -999.0,9,-999.0000,-999,9,  -999.00,9,  -999.00,   -999.0,9,   -999.0,  25.7285,  24.0526
  49NZ20090410,   P21,    89,  1,      9, X12009,9,20090503,1813,-16.7542,-108.6755, 3636,   2330.4,2,   1.8976,2,   1.89751,2,  34.6616,2,-999.0000,9,   152.61,2,  -999.00,9,  -999.00,9,  -999.00,  -999.00,9,  -999.00,  -999.00,9,  -999.00, -999.000,9, -999.000, -999.000,9, -999.000,9, -999.000,9,   -999.0,9,   -999.0,9,-999.0000,-999,9,  -999.00,9,  -999.00,   -999.0,9,   -999.0,   1.7343,  27.7212
  49NZ20090410,   P21,    89,  1,      8, X12008,9,20090503,1813,-16.7542,-108.6755, 3636,   3170.7,2,   1.8168,2,   1.81671,2,  34.6796,2,-999.0000,9,   143.66,2,  -999.00,9,  -999.00,9,  -999.00,  -999.00,9,  -999.00,  -999.00,9,  -999.00, -999.000,9, -999.000, -999.000,9, -999.000,9, -999.000,9,   -999.0,9,   -999.0,9,-999.0000,-999,9,  -999.00,9,  -999.00,   -999.0,9,   -999.0,   1.5762,  27.7474
  49NZ20090410,   P21,    89,  1,      7, X12007,9,20090503,1813,-16.7542,-108.6755, 3636,   3421.7,2,   1.8211,2,   1.82108,2,  34.6797,2,-999.0000,9,   141.96,2,  -999.00,9,  -999.00,9,  -999.00,  -999.00,9,  -999.00,  -999.00,9,  -999.00, -999.000,9, -999.000, -999.000,9, -999.000,9, -999.000,9,   -999.0,9,   -999.0,9,-999.0000,-999,9,  -999.00,9,  -999.00,   -999.0,9,   -999.0,   1.5550,  27.7491
  49NZ20090410,   P21,    89,  1,      6, X12035,9,20090503,1813,-16.7542,-108.6755, 3636,   3688.7,2,   1.8364,2,   1.83641,2,  34.6836,2,-999.0000,9,   146.75,2,  -999.00,9,  -999.00,9,  -999.00,  -999.00,9,  -999.00,  -999.00,9,  -999.00, -999.000,9, -999.000, -999.000,9, -999.000,9, -999.000,9,   -999.0,9,   -999.0,9,-999.0000,-999,9,  -999.00,9,  -999.00,   -999.0,9,   -999.0,   1.5419,  27.7532
  49NZ20090410,   P21,    89,  1,      5, X12038,9,20090503,1813,-16.7542,-108.6755, 3636,    869.9,2,   5.0145,2,   5.01435,2,  34.5061,2,-999.0000,9,    59.00,2,  -999.00,9,  -999.00,9,  -999.00,  -999.00,9,  -999.00,  -999.00,9,  -999.00, -999.000,9, -999.000, -999.000,9, -999.000,9, -999.000,9,   -999.0,9,   -999.0,9,-999.0000,-999,9,  -999.00,9,  -999.00,   -999.0,9,   -999.0,   4.9427,  27.2903
  49NZ20090410,   P21,    89,  1,      4, X12034,9,20090503,1813,-16.7542,-108.6755, 3636,   2529.9,2,   1.8285,2,   1.82844,2,  34.6717,2,-999.0000,9,   153.17,2,  -999.00,9,  -999.00,9,  -999.00,  -999.00,9,  -999.00,  -999.00,9,  -999.00, -999.000,9, -999.000, -999.000,9, -999.000,9, -999.000,9,   -999.0,9,   -999.0,9,-999.0000,-999,9,  -999.00,9,  -999.00,   -999.0,9,   -999.0,   1.6486,  27.7357
  49NZ20090410,   P21,    89,  1,      3, X12033,9,20090503,1813,-16.7542,-108.6755, 3636,   2730.6,2,   1.8150,2,   1.81488,2,  34.6769,2,-999.0000,9,   149.10,2,  -999.00,9,  -999.00,9,  -999.00,  -999.00,9,  -999.00,  -999.00,9,  -999.00, -999.000,9, -999.000, -999.000,9, -999.000,9, -999.000,9,   -999.0,9,   -999.0,9,-999.0000,-999,9,  -999.00,9,  -999.00,   -999.0,9,   -999.0,   1.6169,  27.7423
  49NZ20090410,   P21,    89,  1,      2, X12032,9,20090503,1813,-16.7542,-108.6755, 3636,   2929.9,2,   1.8137,2,   1.81363,2,  34.6792,2,-999.0000,9,   145.78,2,  -999.00,9,  -999.00,9,  -999.00,  -999.00,9,  -999.00,  -999.00,9,  -999.00, -999.000,9, -999.000, -999.000,9, -999.000,9, -999.000,9,   -999.0,9,   -999.0,9,-999.0000,-999,9,  -999.00,9,  -999.00,   -999.0,9,   -999.0,   1.5968,  27.7456
  49NZ20090410,   P21,    89,  1,      1, X12046,2,20090503,1813,-16.7542,-108.6755, 3636,   3687.7,2,   1.8364,2,   1.83637,2,  34.6836,2,  34.6838,6,   146.75,2,   147.12,2,   129.80,2,     0.40,    36.10,2,     0.13,     0.01,2,     0.01,    2.537,2,    0.016,    0.002,2,    0.003,2,    0.000,2,   -999.0,9,   -999.0,9,-999.0000,-999,9,  -999.00,9,  -999.00,   -999.0,9,   -999.0,   1.5420,  27.7532