BOTTLE,20220818CCHSIOAMB
EXPOCODE,SECT_ID,STNNBR,CASTNO,SAMPNO,BTLNBR,BTLNBR_FLAG_W,DATE,TIME,LATITUDE,LONGITUDE,DEPTH,CTDPRS,CTDPRS_FLAG_W,CTDTMP,CTDTMP_FLAG_W,SBE35,SBE35_FLAG_W,CTDSAL,CTDSAL_FLAG_W,SALNTY,SALNTY_FLAG_W,CTDOXY,CTDOXY_FLAG_W,OXYGEN,OXYGEN_FLAG_W,SILCAT,SILCAT_FLAG_W,SILUNC,NITRAT,NITRAT_FLAG_W,NRAUNC,NITRIT,NITRIT_FLAG_W,NRIUNC,PHSPHT,PHSPHT_FLAG_W,PHPUNC,CFC-11,CFC-11_FLAG_W,CFC-12,CFC-12_FLAG_W,CFC113,CFC113_FLAG_W,TCARBN,TCARBN_FLAG_W,ALKALI,ALKALI_FLAG_W,PH_TOT,PH_TMP,PH_TOT_FLAG_W,DELC13,DELC13_FLAG_W,C13ERR,DELC14,DELC14_FLAG_W,C14ERR,THETA,SIG0
,,,,,,,,,,,METERS,DBAR,,ITS-90,,ITS-90,,PSS-78,,PSS-78,,UMOL/KG,,UMOL/KG,,UMOL/KG,,UMOL/KG,UMOL/KG,,UMOL/KG,UMOL/KG,,UMOL/KG,UMOL/KG,,UMOL/KG,PMOL/KG,,PMOL/KG,,PMOL/KG,,UMOL/KG,,UMOL/KG,,,DEG C,,/MILLE,,/MILLE,/MILLE,,/MILLE,DEG C,KG/M^3
  49NZ20090410,   P21,   114,  1,     36, X12006,2,20090508,0829,-16.7503,-122.6682, 3653,     10.2,2,  26.7516,2,  26.75111,2,  36.3040,2,  36.3048,2,   202.20,2,   202.13,2,     0.69,2,     0.12,     0.90,2,     0.04,     0.02,2,     0.01,    0.341,2,    0.014,    1.518,2,    0.991,2,    0.154,4,   2040.6,2,   2395.6,2,   8.1108,  25,2,  -999.00,9,  -999.00,   -999.0,9,   -999.0,  26.7493,  23.7806
  49NZ20090410,   P21,   114,  1,     35, X12047,2,20090508,0829,-16.7503,-122.6682, 3653,     48.9,2,  26.5199,2,  26.49811,2,  36.4505,2,  36.4568,2,   203.88,2,   204.54,2,     0.80,2,     0.12,     0.59,2,     0.03,     0.02,2,     0.01,    0.328,2,    0.014,    1.555,2,    1.008,2, -999.000,5,   2053.2,6,   2404.5,2,   8.1030,  25,2,  -999.00,9,  -999.00,   -999.0,9,   -999.0,  26.5088,  23.9676
  49NZ20090410,   P21,   114,  1,     34, X12004,2,20090508,0829,-16.7503,-122.6682, 3653,     99.6,2,  23.8016,2,  23.79755,2,  36.4449,2,  36.4477,2,   204.25,2,   204.27,2,     0.72,2,     0.12,     0.11,2,     0.03,     0.09,2,     0.01,    0.316,2,    0.014,    1.757,6,    1.126,6, -999.000,5,   2083.9,2,   2401.8,6,   8.0527,  25,2,  -999.00,9,  -999.00,   -999.0,9,   -999.0,  23.7806,  24.8009
  49NZ20090410,   P21,   114,  1,     33, X12003,2,20090508,0829,-16.7503,-122.6682, 3653,    149.5,2,  22.4308,2,  22.42959,2,  36.2629,2,  36.2644,2,   192.59,2,   192.47,2,     0.71,2,     0.12,     0.82,2,     0.04,     1.11,2,     0.00,    0.402,2,    0.013,    1.868,2,    1.189,2, -999.000,5,   2094.0,2,   2388.6,2,   8.0141,  25,6,  -999.00,9,  -999.00,   -999.0,9,   -999.0,  22.4006,  25.0642
  49NZ20090410,   P21,   114,  1,     32, X12002,2,20090508,0829,-16.7503,-122.6682, 3653,    200.1,2,  20.5075,2,  20.50890,2,  35.8676,2,  35.8671,2,   190.95,2,   190.98,2,     0.72,2,     0.12,     2.91,2,     0.04,     0.03,2,     0.01,    0.473,2,    0.013,    2.058,2,    1.279,2,    0.098,2,   2097.9,2,   2363.9,2,   7.9732,  25,2,  -999.00,9,  -999.00,   -999.0,9,   -999.0,  20.4696,  25.2984
  49NZ20090410,   P21,   114,  1,     31, X12001,2,20090508,0829,-16.7503,-122.6682, 3653,    249.9,2,  17.7721,2,  17.78260,2,  35.3432,2,  35.3547,6,   188.07,2,   188.18,2,     0.97,2,     0.12,     4.44,2,     0.05,     0.02,2,     0.01,    0.530,2,    0.013,    2.318,2,    1.387,2,    0.039,2,   2092.4,2,   2326.6,2,   7.9315,  25,2,  -999.00,9,  -999.00,   -999.0,9,   -999.0,  17.7294,  25.6015
  49NZ20090410,   P21,   114,  1,     30, X12030,2,20090508,0829,-16.7503,-122.6682, 3653,    280.5,2,  15.6743,2,  15.66840,2,  35.0040,2,  35.0069,2,   178.60,2,   178.32,2,     1.87,2,     0.12,     7.96,2,     0.06,     0.01,2,     0.01,    0.782,2,    0.013,    2.484,2,    1.441,2,    0.051,2,   2103.8,2,   2306.4,2,   7.8694,  25,2,  -999.00,9,  -999.00,   -999.0,9,   -999.0,  15.6304,  25.8346
  49NZ20090410,   P21,   114,  1,     29, X12044,2,20090508,0829,-16.7503,-122.6682, 3653,    368.7,2,   9.8960,2,   9.89526,2,  34.4547,2,  34.4552,2,   137.09,2,   136.15,2,    10.02,2,     0.14,    22.49,2,     0.10,     0.01,2,     0.01,    1.820,2,    0.015,    2.054,2,    1.070,2,    0.039,2,   2178.1,2,   2277.5,2,   7.6370,  25,2,  -999.00,9,  -999.00,   -999.0,9,   -999.0,   9.8534,  26.5509
  49NZ20090410,   P21,   114,  1,     28, X12048,2,20090508,0829,-16.7503,-122.6682, 3653,    469.0,2,   7.1754,2,   7.16611,2,  34.3924,2,  34.3927,6,   138.08,2,   137.57,2,    16.35,2,     0.15,    30.66,2,     0.12,     0.01,2,     0.01,    2.215,2,    0.016,    1.061,2,    0.539,2,    0.026,2,   2204.4,2,   2280.4,2,   7.5690,  25,2,  -999.00,9,  -999.00,   -999.0,9,   -999.0,   7.1304,  26.9220
  49NZ20090410,   P21,   114,  1,     27, X12027,2,20090508,0829,-16.7503,-122.6682, 3653,    569.4,2,   5.9822,2,   5.98103,2,  34.3885,2,  34.3879,2,   140.37,2,   140.68,2,    24.70,2,     0.17,    33.67,2,     0.13,     0.01,2,     0.01,    2.348,2,    0.016,    0.360,6,    0.190,6,    0.007,6,   2213.9,2,   2289.9,2,   7.5656,  25,2,  -999.00,9,  -999.00,   -999.0,9,   -999.0,   5.9324,  27.0780
  49NZ20090410,   P21,   114,  1,     26, X12026,2,20090508,0829,-16.7503,-122.6682, 3653,    671.2,2,   5.6202,2,   5.61994,2,  34.4559,2,  34.4550,2,   104.04,2,   104.06,2,    39.82,2,     0.21,    37.48,2,     0.14,     0.01,2,     0.01,    2.614,2,    0.017,    0.044,2,    0.023,2,    0.000,2,   2248.4,6,   2306.3,2,   7.5120,  25,2,  -999.00,9,  -999.00,   -999.0,9,   -999.0,   5.5627,  27.1771
  49NZ20090410,   P21,   114,  1,     25, X12025,2,20090508,0829,-16.7503,-122.6682, 3653,    768.9,2,   5.1662,2,   5.16626,2,  34.4863,2,  34.4861,2,    93.84,2,    93.61,2,    51.97,2,     0.23,    39.07,2,     0.14,     0.01,2,     0.01,    2.748,2,    0.017,    0.011,2,    0.004,2,    0.000,2,   2268.0,2,   2319.1,6,   7.4941,  25,2,  -999.00,9,  -999.00,   -999.0,9,   -999.0,   5.1025,  27.2561
  49NZ20090410,   P21,   114,  1,     24, X12024,2,20090508,0829,-16.7503,-122.6682, 3653,    869.1,2,   4.7804,2,   4.78028,2,  34.5014,2,  34.5010,2,    90.72,2,    90.66,2,    60.50,2,     0.25,    39.88,2,     0.14,     0.01,2,     0.01,    2.807,2,    0.017,    0.004,2,    0.000,2,    0.000,2,   2279.3,2,   2328.2,2,   7.4850,  25,6,  -999.00,9,  -999.00,   -999.0,9,   -999.0,   4.7103,  27.3129
  49NZ20090410,   P21,   114,  1,     23, X12028,2,20090508,0829,-16.7503,-122.6682, 3653,    969.3,2,   4.3359,2,   4.33569,2,  34.5185,2,  34.5180,6,    91.09,2,    90.57,2,    70.14,2,     0.27,    40.20,2,     0.15,     0.01,2,     0.01,    2.851,2,    0.017,    0.004,2,    0.002,2,    0.000,2,   2290.4,2,   2339.4,2,   7.4829,  25,2,  -999.00,9,  -999.00,   -999.0,9,   -999.0,   4.2603,  27.3757
  49NZ20090410,   P21,   114,  1,     22, X12022,2,20090508,0829,-16.7503,-122.6682, 3653,   1134.1,2,   3.7904,2,   3.78729,2,  34.5424,2,  34.5426,2,    95.01,2,    94.89,2,    82.88,2,     0.30,    40.18,2,     0.15,     0.01,2,     0.01,    2.859,2,    0.017,    0.003,2,    0.001,2,    0.000,2,   2301.9,2,   2353.6,2,   7.4870,  25,2,  -999.00,9,  -999.00,   -999.0,9,   -999.0,   3.7052,  27.4522
  49NZ20090410,   P21,   114,  1,     21, X12021,2,20090508,0829,-16.7503,-122.6682, 3653,   1329.9,2,   3.2680,2,   3.26886,2,  34.5680,2,  34.5682,2,   105.09,2,   105.32,2,    94.64,2,     0.33,    39.42,2,     0.14,     0.01,2,     0.01,    2.806,2,    0.017,    0.002,2,    0.000,2,    0.000,2,   2309.4,2,   2367.2,2,   7.5053,  25,2,  -999.00,9,  -999.00,   -999.0,9,   -999.0,   3.1714,  27.5244
  49NZ20090410,   P21,   114,  1,     20, X12020,2,20090508,0829,-16.7503,-122.6682, 3653,   1529.6,2,   2.8586,2,   2.86005,2,  34.5907,2,  34.5906,2,   115.11,2,   115.09,2,   102.98,2,     0.35,    38.58,2,     0.14,     0.01,2,     0.01,    2.748,2,    0.017,    0.001,2,    0.000,2,    0.000,2,   2312.9,2,   2376.9,2,   7.5219,  25,6,  -999.00,9,  -999.00,   -999.0,9,   -999.0,   2.7499,  27.5809
  49NZ20090410,   P21,   114,  1,     19, X12019,2,20090508,0829,-16.7503,-122.6682, 3653,   1730.4,2,   2.4873,2,   2.48711,2,  34.6135,2,  34.6142,2,   127.16,2,   127.41,2,   109.13,2,     0.36,    37.56,2,     0.14,     0.01,2,     0.01,    2.658,2,    0.017,    0.000,2,    0.000,2,    0.000,2,   2311.8,2,   2385.0,2,   7.5429,  25,2,  -999.00,9,  -999.00,   -999.0,9,   -999.0,   2.3665,  27.6322
  49NZ20090410,   P21,   114,  1,     18, X12043,2,20090508,0829,-16.7503,-122.6682, 3653,   1931.1,2,   2.1611,2,   2.16042,2,  34.6373,2,  34.6375,6,   140.28,2,   140.33,2,   114.28,2,     0.37,    36.65,2,     0.14,     0.00,2,     0.01,    2.576,2,    0.016,    0.000,2,    0.000,2,    0.000,2,   2311.9,2,   2390.5,2,   7.5644,  25,2,  -999.00,9,  -999.00,   -999.0,9,   -999.0,   2.0280,  27.6789
  49NZ20090410,   P21,   114,  1,     17, X12042,2,20090508,0829,-16.7503,-122.6682, 3653,   2130.5,2,   1.9765,2,   1.97750,2,  34.6529,2,  34.6528,2,   149.36,2,   149.24,2,   116.65,2,     0.38,    35.95,2,     0.13,     0.01,2,     0.01,    2.515,2,    0.016,    0.000,2,    0.000,2,    0.000,2,   2309.4,2,   2393.8,2,   7.5802,  25,2,  -999.00,9,  -999.00,   -999.0,9,   -999.0,   1.8293,  27.7069
  49NZ20090410,   P21,   114,  1,     16, X12016,2,20090508,0829,-16.7503,-122.6682, 3653,   2330.8,2,   1.9000,2,   1.90012,2,  34.6615,2,  34.6615,2,   152.36,2,   152.38,2,   119.03,2,     0.38,    35.68,2,     0.13,     0.01,2,     0.01,    2.491,2,    0.016,    0.000,2,    0.001,2,    0.000,2,   2310.2,2,   2397.4,2,   7.5871,  25,2,  -999.00,9,  -999.00,   -999.0,9,   -999.0,   1.7367,  27.7209
  49NZ20090410,   P21,   114,  1,     15, X12015,2,20090508,0829,-16.7503,-122.6682, 3653,   2530.4,2,   1.8408,2,   1.84109,2,  34.6680,2,  34.6676,2,   154.05,2,   154.00,2,   121.18,2,     0.39,    35.51,2,     0.13,     0.01,2,     0.01,    2.483,2,    0.016,    0.001,2,    0.000,2,    0.000,2,   2313.4,2,   2400.7,6,   7.5915,  25,2,  -999.00,9,  -999.00,   -999.0,9,   -999.0,   1.6607,  27.7318
  49NZ20090410,   P21,   114,  1,     14, X12050,2,20090508,0829,-16.7503,-122.6682, 3653,   2730.5,2,   1.7879,2,   1.78781,2,  34.6724,2,  34.6718,6,   155.72,2,   155.65,2,   123.24,2,     0.39,    35.48,2,     0.13,     0.01,2,     0.01,    2.479,2,    0.016,    0.001,2,    0.000,2,    0.000,2,   2314.2,2,   2403.7,2,   7.5961,  25,6,  -999.00,9,  -999.00,   -999.0,9,   -999.0,   1.5904,  27.7406
  49NZ20090410,   P21,   114,  1,     13, X12013,7,20090508,0829,-16.7503,-122.6682, 3653,   2929.0,2,   1.7504,2,   1.75051,2,  34.6754,2,  34.6756,2,   158.10,2,   158.22,2,   123.52,2,     0.39,    35.30,2,     0.13,     0.01,2,     0.01,    2.467,2,    0.016,    0.000,2,    0.000,2,    0.000,2,   2312.9,2,   2404.6,2,   7.6002,  25,2,  -999.00,9,  -999.00,   -999.0,9,   -999.0,   1.5349,  27.7471
  49NZ20090410,   P21,   114,  1,     12, X12012,2,20090508,0829,-16.7503,-122.6682, 3653,   3169.6,2,   1.6999,2,   1.69964,2,  34.6787,2,  34.6783,2,   159.53,2,   159.77,2,   125.82,2,     0.40,    35.35,2,     0.13,     0.01,2,     0.01,    2.471,2,    0.016,    0.001,2,    0.001,2,    0.000,2,   2312.3,2,   2406.2,2,   7.6031,  25,2,  -999.00,9,  -999.00,   -999.0,9,   -999.0,   1.4621,  27.7551
  49NZ20090410,   P21,   114,  1,     11, X12041,2,20090508,0829,-16.7503,-122.6682, 3653,   3420.8,2,   1.6715,2,   1.67156,2,  34.6811,2,  34.6807,2,   161.85,2,   162.04,2,   126.38,2,     0.40,    35.18,2,     0.13,     0.01,2,     0.01,    2.464,2,    0.016,    0.000,2,    0.000,2,    0.000,2,   2311.3,2,   2407.2,2,   7.6056,  25,2,  -999.00,9,  -999.00,   -999.0,9,   -999.0,   1.4092,  27.7608
  49NZ20090410,   P21,   114,  1,     10, X12040,9,20090508,0829,-16.7503,-122.6682, 3653,    200.4,2,  20.5156,2,  20.51556,2,  35.8689,2,-999.0000,9,   191.19,2,  -999.00,9,  -999.00,9,  -999.00,  -999.00,9,  -999.00,  -999.00,9,  -999.00, -999.000,9, -999.000, -999.000,9, -999.000,9, -999.000,9,   -999.0,9,   -999.0,9,-999.0000,-999,9,  -999.00,9,  -999.00,   -999.0,9,   -999.0,  20.4777,  25.2972
  49NZ20090410,   P21,   114,  1,      9, X12009,9,20090508,0829,-16.7503,-122.6682, 3653,   1133.2,2,   3.7911,2,   3.79135,2,  34.5425,2,-999.0000,9,    95.02,2,  -999.00,9,  -999.00,9,  -999.00,  -999.00,9,  -999.00,  -999.00,9,  -999.00, -999.000,9, -999.000, -999.000,9, -999.000,9, -999.000,9,   -999.0,9,   -999.0,9,-999.0000,-999,9,  -999.00,9,  -999.00,   -999.0,9,   -999.0,   3.7060,  27.4522
  49NZ20090410,   P21,   114,  1,      8, X12008,9,20090508,0829,-16.7503,-122.6682, 3653,   1931.1,2,   2.1581,2,   2.15912,2,  34.6375,2,-999.0000,9,   140.09,2,  -999.00,9,  -999.00,9,  -999.00,  -999.00,9,  -999.00,  -999.00,9,  -999.00, -999.000,9, -999.000, -999.000,9, -999.000,9, -999.000,9,   -999.0,9,   -999.0,9,-999.0000,-999,9,  -999.00,9,  -999.00,   -999.0,9,   -999.0,   2.0251,  27.6793
  49NZ20090410,   P21,   114,  1,      7, X12007,9,20090508,0829,-16.7503,-122.6682, 3653,   2129.2,2,   1.9739,2,   1.97434,2,  34.6533,2,-999.0000,9,   149.47,2,  -999.00,9,  -999.00,9,  -999.00,  -999.00,9,  -999.00,  -999.00,9,  -999.00, -999.000,9, -999.000, -999.000,9, -999.000,9, -999.000,9,   -999.0,9,   -999.0,9,-999.0000,-999,9,  -999.00,9,  -999.00,   -999.0,9,   -999.0,   1.8269,  27.7074
  49NZ20090410,   P21,   114,  1,      6, X12035,9,20090508,0829,-16.7503,-122.6682, 3653,   2330.6,2,   1.8991,2,   1.89923,2,  34.6616,2,-999.0000,9,   152.35,2,  -999.00,9,  -999.00,9,  -999.00,  -999.00,9,  -999.00,  -999.00,9,  -999.00, -999.000,9, -999.000, -999.000,9, -999.000,9, -999.000,9,   -999.0,9,   -999.0,9,-999.0000,-999,9,  -999.00,9,  -999.00,   -999.0,9,   -999.0,   1.7358,  27.7211
  49NZ20090410,   P21,   114,  1,      5, X12038,9,20090508,0829,-16.7503,-122.6682, 3653,   2530.2,2,   1.8429,2,   1.84278,2,  34.6679,2,-999.0000,9,   153.96,2,  -999.00,9,  -999.00,9,  -999.00,  -999.00,9,  -999.00,  -999.00,9,  -999.00, -999.000,9, -999.000, -999.000,9, -999.000,9, -999.000,9,   -999.0,9,   -999.0,9,-999.0000,-999,9,  -999.00,9,  -999.00,   -999.0,9,   -999.0,   1.6628,  27.7316
  49NZ20090410,   P21,   114,  1,      4, X12034,9,20090508,0829,-16.7503,-122.6682, 3653,   2730.0,2,   1.7879,2,   1.78796,2,  34.6725,2,-999.0000,9,   155.74,2,  -999.00,9,  -999.00,9,  -999.00,  -999.00,9,  -999.00,  -999.00,9,  -999.00, -999.000,9, -999.000, -999.000,9, -999.000,9, -999.000,9,   -999.0,9,   -999.0,9,-999.0000,-999,9,  -999.00,9,  -999.00,   -999.0,9,   -999.0,   1.5905,  27.7407
  49NZ20090410,   P21,   114,  1,      3, X12033,9,20090508,0829,-16.7503,-122.6682, 3653,   2929.9,2,   1.7505,2,   1.75048,2,  34.6753,2,-999.0000,9,   158.13,2,  -999.00,9,  -999.00,9,  -999.00,  -999.00,9,  -999.00,  -999.00,9,  -999.00, -999.000,9, -999.000, -999.000,9, -999.000,9, -999.000,9,   -999.0,9,   -999.0,9,-999.0000,-999,9,  -999.00,9,  -999.00,   -999.0,9,   -999.0,   1.5349,  27.7470
  49NZ20090410,   P21,   114,  1,      2, X12032,9,20090508,0829,-16.7503,-122.6682, 3653,    868.2,2,   4.7838,2,   4.78368,2,  34.5013,2,-999.0000,9,    90.71,2,  -999.00,9,  -999.00,9,  -999.00,  -999.00,9,  -999.00,  -999.00,9,  -999.00, -999.000,9, -999.000, -999.000,9, -999.000,9, -999.000,9,   -999.0,9,   -999.0,9,-999.0000,-999,9,  -999.00,9,  -999.00,   -999.0,9,   -999.0,   4.7137,  27.3124
  49NZ20090410,   P21,   114,  1,      1, X12046,2,20090508,0829,-16.7503,-122.6682, 3653,   3692.2,2,   1.6793,2,   1.67922,2,  34.6822,2,  34.6819,6,   162.53,2,   162.61,2,   126.69,2,     0.40,    35.23,2,     0.13,     0.01,2,     0.01,    2.457,2,    0.016,    0.000,2,    0.000,2,    0.000,2,   2312.5,2,   2408.0,2,   7.6080,  25,2,  -999.00,9,  -999.00,   -999.0,9,   -999.0,   1.3886,  27.7632