BOTTLE,20220818CCHSIOAMB
EXPOCODE,SECT_ID,STNNBR,CASTNO,SAMPNO,BTLNBR,BTLNBR_FLAG_W,DATE,TIME,LATITUDE,LONGITUDE,DEPTH,CTDPRS,CTDPRS_FLAG_W,CTDTMP,CTDTMP_FLAG_W,SBE35,SBE35_FLAG_W,CTDSAL,CTDSAL_FLAG_W,SALNTY,SALNTY_FLAG_W,CTDOXY,CTDOXY_FLAG_W,OXYGEN,OXYGEN_FLAG_W,SILCAT,SILCAT_FLAG_W,SILUNC,NITRAT,NITRAT_FLAG_W,NRAUNC,NITRIT,NITRIT_FLAG_W,NRIUNC,PHSPHT,PHSPHT_FLAG_W,PHPUNC,CFC-11,CFC-11_FLAG_W,CFC-12,CFC-12_FLAG_W,CFC113,CFC113_FLAG_W,TCARBN,TCARBN_FLAG_W,ALKALI,ALKALI_FLAG_W,PH_TOT,PH_TMP,PH_TOT_FLAG_W,DELC13,DELC13_FLAG_W,C13ERR,DELC14,DELC14_FLAG_W,C14ERR,THETA,SIG0
,,,,,,,,,,,METERS,DBAR,,ITS-90,,ITS-90,,PSS-78,,PSS-78,,UMOL/KG,,UMOL/KG,,UMOL/KG,,UMOL/KG,UMOL/KG,,UMOL/KG,UMOL/KG,,UMOL/KG,UMOL/KG,,UMOL/KG,PMOL/KG,,PMOL/KG,,PMOL/KG,,UMOL/KG,,UMOL/KG,,,DEG C,,/MILLE,,/MILLE,/MILLE,,/MILLE,DEG C,KG/M^3
  49NZ20090410,   P21,    98,  1,     36, X12006,2,20090504,2228,-16.7527,-112.0015, 3296,     10.0,2,  25.6564,2,  25.65609,2,  36.1773,2,  36.1853,2,   206.89,2,   206.70,2,     0.83,2,     0.12,     0.55,2,     0.03,     0.02,2,     0.01,    0.369,2,    0.014,    1.555,2,    1.007,2, -999.000,5,   2047.5,2,   2391.3,2,   8.0938,  25,6,  -999.00,9,  -999.00,   -999.0,9,   -999.0,  25.6542,  24.0297
  49NZ20090410,   P21,    98,  1,     35, X12047,2,20090504,2228,-16.7527,-112.0015, 3296,     49.2,2,  25.3909,2,  25.39383,2,  36.2505,2,  36.2481,2,   207.60,2,   208.86,2,     0.75,2,     0.12,     0.29,2,     0.03,     0.02,2,     0.01,    0.357,2,    0.014,    1.607,2,    1.034,2, -999.000,5,   2055.5,6,   2394.6,2,   8.0858,  25,2,  -999.00,9,  -999.00,   -999.0,9,   -999.0,  25.3801,  24.1700
  49NZ20090410,   P21,    98,  1,     34, X12004,2,20090504,2228,-16.7527,-112.0015, 3296,     99.4,2,  21.9709,2,  21.97137,2,  36.0926,2,  36.0917,2,   208.24,2,   208.31,2,     0.50,2,     0.12,     0.18,2,     0.03,     0.29,2,     0.01,    0.380,2,    0.013,    1.888,6,    1.193,6, -999.000,5,   2089.8,2,   2384.2,6,   8.0172,  25,2,  -999.00,9,  -999.00,   -999.0,9,   -999.0,  21.9512,  25.0621
  49NZ20090410,   P21,    98,  1,     33, X12003,2,20090504,2228,-16.7527,-112.0015, 3296,    149.9,2,  20.2088,2,  20.20912,2,  35.7869,2,  35.7767,2,   205.01,2,   204.53,2,     0.48,2,     0.12,     1.56,2,     0.04,     0.23,2,     0.01,    0.399,2,    0.013,    2.069,2,    1.295,2, -999.000,5,   2088.9,2,   2360.2,2,   7.9820,  25,6,  -999.00,9,  -999.00,   -999.0,9,   -999.0,  20.1808,  25.3141
  49NZ20090410,   P21,    98,  1,     32, X12002,2,20090504,2228,-16.7527,-112.0015, 3296,    202.2,2,  18.3801,2,  18.37433,2,  35.4070,2,  35.4204,2,   197.95,2,   198.20,2,     0.83,2,     0.12,     4.04,2,     0.04,     0.03,2,     0.01,    0.571,2,    0.013,    2.240,2,    1.375,2,    0.147,2,   2095.5,2,   2337.7,2,   7.9381,  25,2,  -999.00,9,  -999.00,   -999.0,9,   -999.0,  18.3448,  25.4981
  49NZ20090410,   P21,    98,  1,     31, X12001,2,20090504,2228,-16.7527,-112.0015, 3296,    250.5,2,  15.0450,2,  15.04808,2,  34.8847,2,  34.8952,6,   185.75,2,   186.10,2,     1.62,2,     0.12,     8.03,2,     0.06,     0.02,2,     0.01,    0.782,2,    0.013,    2.544,2,    1.478,2,    0.070,2,   2100.9,2,   2301.1,2,   7.8687,  25,2,  -999.00,9,  -999.00,   -999.0,9,   -999.0,  15.0070,  25.8815
  49NZ20090410,   P21,    98,  1,     30, X12030,2,20090504,2228,-16.7527,-112.0015, 3296,    329.9,2,  10.7449,2,  10.74489,2,  34.5885,2,  34.5924,2,    45.98,2,    44.26,2,    18.08,2,     0.16,    26.39,2,     0.11,     0.01,2,     0.01,    2.452,2,    0.016,    1.156,2,    0.612,2,    0.020,2,   2245.4,2,   2287.0,2,   7.4711,  25,2,  -999.00,9,  -999.00,   -999.0,9,   -999.0,  10.7048,  26.5079
  49NZ20090410,   P21,    98,  1,     29, X12044,2,20090504,2228,-16.7527,-112.0015, 3296,    430.5,2,   8.0705,2,   8.07012,2,  34.5084,2,  34.5109,2,    61.72,2,    61.91,2,    23.57,2,     0.17,    35.13,2,     0.13,     0.01,2,     0.01,    2.587,2,    0.016,    0.363,2,    0.190,2,    0.000,2,   2250.2,2,   2289.7,2,   7.4595,  25,2,  -999.00,9,  -999.00,   -999.0,9,   -999.0,   8.0264,  26.8838
  49NZ20090410,   P21,    98,  1,     28, X12048,2,20090504,2228,-16.7527,-112.0015, 3296,    529.8,2,   6.8954,2,   6.89577,2,  34.4903,2,  34.4897,6,    78.37,2,    78.29,2,    29.87,2,     0.18,    37.33,2,     0.14,     0.02,2,     0.01,    2.610,2,    0.017,    0.133,2,    0.074,2,    0.000,2,   2249.6,2,   2296.1,2,   7.4789,  25,2,  -999.00,9,  -999.00,   -999.0,9,   -999.0,   6.8454,  27.0385
  49NZ20090410,   P21,    98,  1,     27, X12027,2,20090504,2228,-16.7527,-112.0015, 3296,    630.8,2,   6.1377,2,   6.13797,2,  34.4859,2,  34.4853,2,    78.91,2,    78.87,2,    38.35,2,     0.20,    38.92,2,     0.14,     0.02,2,     0.01,    2.726,2,    0.017,    0.028,6,    0.016,6,    0.000,6,   2260.3,2,   2305.4,2,   7.4741,  25,2,  -999.00,9,  -999.00,   -999.0,9,   -999.0,   6.0814,  27.1360
  49NZ20090410,   P21,    98,  1,     26, X12026,2,20090504,2228,-16.7527,-112.0015, 3296,    730.6,2,   5.5227,2,   5.52264,2,  34.4956,2,  34.4947,2,    73.94,2,    73.97,2,    48.98,2,     0.23,    40.60,2,     0.15,     0.01,2,     0.01,    2.849,2,    0.017,    0.000,2,    0.000,2,    0.000,2,   2278.0,2,   2316.4,2,   7.4601,  25,2,  -999.00,9,  -999.00,   -999.0,9,   -999.0,   5.4603,  27.2210
  49NZ20090410,   P21,    98,  1,     25, X12025,2,20090504,2228,-16.7527,-112.0015, 3296,    830.4,2,   5.0580,2,   5.05773,2,  34.5027,2,  34.5026,2,    73.37,2,    73.24,2,    57.88,2,     0.25,    41.44,2,     0.15,     0.01,2,     0.01,    2.925,2,    0.017,    0.000,2,    0.001,2,    0.000,2,   2287.0,2,   2325.7,6,   7.4540,  25,2,  -999.00,9,  -999.00,   -999.0,9,   -999.0,   4.9895,  27.2822
  49NZ20090410,   P21,    98,  1,     24, X12024,2,20090504,2228,-16.7527,-112.0015, 3296,    930.9,2,   4.6257,2,   4.62590,2,  34.5098,2,  34.5095,2,    80.18,2,    80.26,2,    65.30,2,     0.26,    41.09,2,     0.15,     0.01,2,     0.01,    2.912,2,    0.017,    0.000,2,    0.001,2,    0.000,2,   2291.7,2,   2334.1,2,   7.4637,  25,2,  -999.00,9,  -999.00,   -999.0,9,   -999.0,   4.5513,  27.3373
  49NZ20090410,   P21,    98,  1,     23, X12028,2,20090504,2228,-16.7527,-112.0015, 3296,   1070.8,2,   4.1791,2,   4.17885,2,  34.5288,2,  34.5286,6,    77.76,2,    78.11,2,    76.50,2,     0.29,    41.54,2,     0.15,     0.01,2,     0.01,    2.977,2,    0.017,    0.000,2,    0.000,2,    0.000,2,   2306.3,2,   2346.3,2,   7.4570,  25,2,  -999.00,9,  -999.00,   -999.0,9,   -999.0,   4.0960,  27.4013
  49NZ20090410,   P21,    98,  1,     22, X12022,2,20090504,2228,-16.7527,-112.0015, 3296,   1270.5,2,   3.5055,2,   3.50565,2,  34.5599,2,  34.5597,2,    85.87,2,    86.16,2,    92.74,2,     0.32,    41.12,2,     0.15,     0.01,2,     0.01,    2.951,2,    0.017,    0.000,2,    0.000,2,    0.000,2,   2318.9,2,   2364.3,2,   7.4697,  25,2,  -999.00,9,  -999.00,   -999.0,9,   -999.0,   3.4115,  27.4950
  49NZ20090410,   P21,    98,  1,     21, X12021,2,20090504,2228,-16.7527,-112.0015, 3296,   1470.2,2,   3.0263,2,   3.02621,2,  34.5865,2,  34.5858,2,    96.54,2,    96.67,2,   104.37,2,     0.35,    40.14,2,     0.15,     0.01,2,     0.01,    2.885,2,    0.017,    0.000,2,    0.000,2,    0.000,2,   2319.7,3,   2377.1,2,   7.4895,  25,2,  -999.00,9,  -999.00,   -999.0,9,   -999.0,   2.9206,  27.5623
  49NZ20090410,   P21,    98,  1,     20, X12020,2,20090504,2228,-16.7527,-112.0015, 3296,   1669.8,2,   2.6934,2,   2.69340,2,  34.6072,2,  34.6070,2,   106.56,2,   106.80,2,   111.83,2,     0.37,    39.34,2,     0.14,     0.01,2,     0.01,    2.810,2,    0.017,    0.000,2,    0.000,2,    0.000,2,   2330.9,2,   2386.7,2,   7.5085,  25,6,  -999.00,9,  -999.00,   -999.0,9,   -999.0,   2.5750,  27.6094
  49NZ20090410,   P21,    98,  1,     19, X12019,2,20090504,2228,-16.7527,-112.0015, 3296,   1868.3,2,   2.3997,2,   2.39824,2,  34.6236,2,  34.6240,6,   121.79,2,   122.03,2,   115.04,2,     0.37,    38.11,2,     0.14,     0.01,2,     0.01,    2.702,2,    0.017,    0.000,2,    0.001,2,    0.000,2,   2317.2,3,   2390.3,2,   7.5338,  25,2,  -999.00,9,  -999.00,   -999.0,9,   -999.0,   2.2685,  27.6484
  49NZ20090410,   P21,    98,  1,     18, X12043,2,20090504,2228,-16.7527,-112.0015, 3296,   2070.7,2,   2.1373,2,   2.13720,2,  34.6402,2,  34.6409,2,   138.38,2,   138.73,2,   116.16,2,     0.37,    36.77,2,     0.14,     0.01,2,     0.01,    2.590,2,    0.016,    0.000,2,    0.000,2,    0.000,2,   2315.6,2,   2393.1,2,   7.5613,  25,2,  -999.00,9,  -999.00,   -999.0,9,   -999.0,   1.9927,  27.6840
  49NZ20090410,   P21,    98,  1,     17, X12042,2,20090504,2228,-16.7527,-112.0015, 3296,   2269.6,2,   1.9563,2,   1.95599,2,  34.6552,2,  34.6551,2,   150.91,2,   151.01,2,   116.25,2,     0.37,    35.74,2,     0.13,     0.01,2,     0.01,    2.507,2,    0.016,    0.000,2,    0.000,2,    0.000,2,   2311.5,2,   2393.7,2,   7.5816,  25,2,  -999.00,9,  -999.00,   -999.0,9,   -999.0,   1.7974,  27.7112
  49NZ20090410,   P21,    98,  1,     16, X12016,2,20090504,2228,-16.7527,-112.0015, 3296,   2471.0,2,   1.8609,2,   1.86076,2,  34.6675,2,  34.6676,2,   151.19,2,   151.56,2,   120.59,2,     0.38,    35.73,2,     0.13,     0.01,2,     0.01,    2.492,2,    0.016,    0.000,2,    0.001,2,    0.000,2,   2315.7,6,   2401.1,2,   7.5868,  25,2,  -999.00,9,  -999.00,   -999.0,9,   -999.0,   1.6858,  27.7296
  49NZ20090410,   P21,    98,  1,     15, X12015,2,20090504,2228,-16.7527,-112.0015, 3296,   2668.8,2,   1.8285,2,   1.82840,2,  34.6753,2,  34.6754,6,   151.02,2,   151.35,2,   124.00,2,     0.39,    35.70,2,     0.13,     0.01,2,     0.01,    2.504,2,    0.016,    0.000,2,    0.000,2,    0.000,2,   2319.5,2,   2408.0,6,   7.5927,  25,2,  -999.00,9,  -999.00,   -999.0,9,   -999.0,   1.6359,  27.7396
  49NZ20090410,   P21,    98,  1,     14, X12050,2,20090504,2228,-16.7527,-112.0015, 3296,   2871.4,2,   1.8246,2,   1.82458,2,  34.6776,2,  34.6771,2,   145.80,2,   145.86,2,   129.69,2,     0.40,    36.27,2,     0.13,     0.01,2,     0.01,    2.537,2,    0.016,    0.000,2,    0.000,2,    0.000,2,   2328.7,2,   2416.2,2,   7.5906,  25,6,  -999.00,9,  -999.00,   -999.0,9,   -999.0,   1.6130,  27.7431
  49NZ20090410,   P21,    98,  1,     13, X12013,7,20090504,2228,-16.7527,-112.0015, 3296,   3080.7,2,   1.8305,2,   1.83053,2,  34.6775,2,  34.6778,2,   141.34,2,   141.44,2,   134.36,2,     0.41,    36.63,2,     0.14,     0.01,2,     0.01,    2.562,2,    0.016,    0.000,2,    0.002,2,    0.000,2,   2335.8,2,   2422.3,2,   7.5887,  25,2,  -999.00,9,  -999.00,   -999.0,9,   -999.0,   1.5985,  27.7441
  49NZ20090410,   P21,    98,  1,     12, X12012,9,20090504,2228,-16.7527,-112.0015, 3296,     10.2,2,  25.6492,2,  25.64802,2,  36.1612,2,-999.0000,9,   206.86,2,  -999.00,9,  -999.00,9,  -999.00,  -999.00,9,  -999.00,  -999.00,9,  -999.00, -999.000,9, -999.000, -999.000,9, -999.000,9, -999.000,9,   -999.0,9,   -999.0,9,-999.0000,-999,9,  -999.00,9,  -999.00,   -999.0,9,   -999.0,  25.6469,  24.0199
  49NZ20090410,   P21,    98,  1,     11, X12041,9,20090504,2228,-16.7527,-112.0015, 3296,     49.7,2,  25.5215,2,  25.52334,2,  36.2517,2,-999.0000,9,   206.69,2,  -999.00,9,  -999.00,9,  -999.00,  -999.00,9,  -999.00,  -999.00,9,  -999.00, -999.000,9, -999.000, -999.000,9, -999.000,9, -999.000,9,   -999.0,9,   -999.0,9,-999.0000,-999,9,  -999.00,9,  -999.00,   -999.0,9,   -999.0,  25.5105,  24.1305
  49NZ20090410,   P21,    98,  1,     10, X12040,9,20090504,2228,-16.7527,-112.0015, 3296,     99.5,2,  21.9732,2,  21.97285,2,  36.0932,2,-999.0000,9,   208.32,2,  -999.00,9,  -999.00,9,  -999.00,  -999.00,9,  -999.00,  -999.00,9,  -999.00, -999.000,9, -999.000, -999.000,9, -999.000,9, -999.000,9,   -999.0,9,   -999.0,9,-999.0000,-999,9,  -999.00,9,  -999.00,   -999.0,9,   -999.0,  21.9534,  25.0618
  49NZ20090410,   P21,    98,  1,      9, X12009,9,20090504,2228,-16.7527,-112.0015, 3296,    149.3,2,  20.1993,2,  20.19811,2,  35.7861,2,-999.0000,9,   205.27,2,  -999.00,9,  -999.00,9,  -999.00,  -999.00,9,  -999.00,  -999.00,9,  -999.00, -999.000,9, -999.000, -999.000,9, -999.000,9, -999.000,9,   -999.0,9,   -999.0,9,-999.0000,-999,9,  -999.00,9,  -999.00,   -999.0,9,   -999.0,  20.1714,  25.3160
  49NZ20090410,   P21,    98,  1,      8, X12008,9,20090504,2228,-16.7527,-112.0015, 3296,    201.7,2,  18.4099,2,  18.41517,2,  35.4130,2,-999.0000,9,   197.66,2,  -999.00,9,  -999.00,9,  -999.00,  -999.00,9,  -999.00,  -999.00,9,  -999.00, -999.000,9, -999.000, -999.000,9, -999.000,9, -999.000,9,   -999.0,9,   -999.0,9,-999.0000,-999,9,  -999.00,9,  -999.00,   -999.0,9,   -999.0,  18.3746,  25.4952
  49NZ20090410,   P21,    98,  1,      7, X12007,9,20090504,2228,-16.7527,-112.0015, 3296,    249.7,2,  15.0807,2,  15.07234,2,  34.8892,2,-999.0000,9,   186.25,2,  -999.00,9,  -999.00,9,  -999.00,  -999.00,9,  -999.00,  -999.00,9,  -999.00, -999.000,9, -999.000, -999.000,9, -999.000,9, -999.000,9,   -999.0,9,   -999.0,9,-999.0000,-999,9,  -999.00,9,  -999.00,   -999.0,9,   -999.0,  15.0427,  25.8771
  49NZ20090410,   P21,    98,  1,      6, X12035,9,20090504,2228,-16.7527,-112.0015, 3296,    330.0,2,  10.7125,2,  10.70822,2,  34.5851,2,-999.0000,9,    47.41,2,  -999.00,9,  -999.00,9,  -999.00,  -999.00,9,  -999.00,  -999.00,9,  -999.00, -999.000,9, -999.000, -999.000,9, -999.000,9, -999.000,9,   -999.0,9,   -999.0,9,-999.0000,-999,9,  -999.00,9,  -999.00,   -999.0,9,   -999.0,  10.6724,  26.5111
  49NZ20090410,   P21,    98,  1,      5, X12038,9,20090504,2228,-16.7527,-112.0015, 3296,    930.8,2,   4.6268,2,   4.62732,2,  34.5096,2,-999.0000,9,    80.16,2,  -999.00,9,  -999.00,9,  -999.00,  -999.00,9,  -999.00,  -999.00,9,  -999.00, -999.000,9, -999.000, -999.000,9, -999.000,9, -999.000,9,   -999.0,9,   -999.0,9,-999.0000,-999,9,  -999.00,9,  -999.00,   -999.0,9,   -999.0,   4.5524,  27.3370
  49NZ20090410,   P21,    98,  1,      4, X12034,9,20090504,2228,-16.7527,-112.0015, 3296,   2669.2,2,   1.8287,2,   1.82852,2,  34.6752,2,-999.0000,9,   151.23,2,  -999.00,9,  -999.00,9,  -999.00,  -999.00,9,  -999.00,  -999.00,9,  -999.00, -999.000,9, -999.000, -999.000,9, -999.000,9, -999.000,9,   -999.0,9,   -999.0,9,-999.0000,-999,9,  -999.00,9,  -999.00,   -999.0,9,   -999.0,   1.6361,  27.7395
  49NZ20090410,   P21,    98,  1,      3, X12033,9,20090504,2228,-16.7527,-112.0015, 3296,   2872.2,2,   1.8247,2,   1.82463,2,  34.6776,2,-999.0000,9,   145.82,2,  -999.00,9,  -999.00,9,  -999.00,  -999.00,9,  -999.00,  -999.00,9,  -999.00, -999.000,9, -999.000, -999.000,9, -999.000,9, -999.000,9,   -999.0,9,   -999.0,9,-999.0000,-999,9,  -999.00,9,  -999.00,   -999.0,9,   -999.0,   1.6131,  27.7431
  49NZ20090410,   P21,    98,  1,      2, X12032,9,20090504,2228,-16.7527,-112.0015, 3296,   3081.2,2,   1.8306,2,   1.83061,2,  34.6774,2,-999.0000,9,   141.32,2,  -999.00,9,  -999.00,9,  -999.00,  -999.00,9,  -999.00,  -999.00,9,  -999.00, -999.000,9, -999.000, -999.000,9, -999.000,9, -999.000,9,   -999.0,9,   -999.0,9,-999.0000,-999,9,  -999.00,9,  -999.00,   -999.0,9,   -999.0,   1.5986,  27.7440
  49NZ20090410,   P21,    98,  1,      1, X12046,2,20090504,2228,-16.7527,-112.0015, 3296,   3329.1,2,   1.8513,2,   1.85130,2,  34.6774,2,  34.6773,6,   140.35,2,   140.46,2,   135.26,2,     0.42,    36.74,2,     0.14,     0.01,2,     0.01,    2.569,2,    0.016,    0.000,2,    0.000,2,    0.000,2,   2339.0,2,   2423.7,2,   7.5878,  25,2,  -999.00,9,  -999.00,   -999.0,9,   -999.0,   1.5940,  27.7443