BOTTLE,20220818CCHSIOAMB
EXPOCODE,SECT_ID,STNNBR,CASTNO,SAMPNO,BTLNBR,BTLNBR_FLAG_W,DATE,TIME,LATITUDE,LONGITUDE,DEPTH,CTDPRS,CTDPRS_FLAG_W,CTDTMP,CTDTMP_FLAG_W,SBE35,SBE35_FLAG_W,CTDSAL,CTDSAL_FLAG_W,SALNTY,SALNTY_FLAG_W,CTDOXY,CTDOXY_FLAG_W,OXYGEN,OXYGEN_FLAG_W,SILCAT,SILCAT_FLAG_W,SILUNC,NITRAT,NITRAT_FLAG_W,NRAUNC,NITRIT,NITRIT_FLAG_W,NRIUNC,PHSPHT,PHSPHT_FLAG_W,PHPUNC,CFC-11,CFC-11_FLAG_W,CFC-12,CFC-12_FLAG_W,CFC113,CFC113_FLAG_W,TCARBN,TCARBN_FLAG_W,ALKALI,ALKALI_FLAG_W,PH_TOT,PH_TMP,PH_TOT_FLAG_W,DELC13,DELC13_FLAG_W,C13ERR,DELC14,DELC14_FLAG_W,C14ERR,THETA,SIG0
,,,,,,,,,,,METERS,DBAR,,ITS-90,,ITS-90,,PSS-78,,PSS-78,,UMOL/KG,,UMOL/KG,,UMOL/KG,,UMOL/KG,UMOL/KG,,UMOL/KG,UMOL/KG,,UMOL/KG,UMOL/KG,,UMOL/KG,PMOL/KG,,PMOL/KG,,PMOL/KG,,UMOL/KG,,UMOL/KG,,,DEG C,,/MILLE,,/MILLE,/MILLE,,/MILLE,DEG C,KG/M^3
  49NZ20090410,   P21,    62,  1,     36, X12006,2,20090427,1234,-16.7433, -93.3313, 4296,     10.1,2,  23.8358,2,  23.83608,2,  35.8445,2,  35.8443,2,   212.54,2,   212.53,2,     0.51,2,     0.12,     0.13,2,     0.03,     0.02,2,     0.01,    0.397,2,    0.013,    1.729,2,    1.093,2, -999.000,5,   -999.0,9,   -999.0,9,-999.0000,-999,9,  -999.00,9,  -999.00,   -999.0,9,   -999.0,  23.8337,  24.3302
  49NZ20090410,   P21,    62,  1,     35, X12047,2,20090427,1234,-16.7433, -93.3313, 4296,     49.6,2,  23.8321,2,  23.83208,2,  35.8439,2,  35.8447,2,   211.81,2,   212.38,2,     0.48,2,     0.12,     0.11,2,     0.03,     0.02,2,     0.01,    0.399,2,    0.013,    1.731,2,    1.093,2, -999.000,5,   -999.0,9,   -999.0,9,-999.0000,-999,9,  -999.00,9,  -999.00,   -999.0,9,   -999.0,  23.8217,  24.3333
  49NZ20090410,   P21,    62,  1,     34, X12004,2,20090427,1234,-16.7433, -93.3313, 4296,     99.7,2,  18.9002,2,  18.89675,2,  35.3461,2,  35.3420,2,   213.34,2,   213.77,2,     1.15,2,     0.12,     3.34,2,     0.04,     1.04,2,     0.01,    0.834,2,    0.013,    2.235,6,    1.368,6,    0.190,2,   -999.0,9,   -999.0,9,-999.0000,-999,9,  -999.00,9,  -999.00,   -999.0,9,   -999.0,  18.8825,  25.3157
  49NZ20090410,   P21,    62,  1,     33, X12003,2,20090427,1234,-16.7433, -93.3313, 4296,    149.8,2,  17.1900,2,  17.18699,2,  35.1095,2,  35.1057,2,   200.70,2,   198.54,2,     0.92,2,     0.12,     5.99,2,     0.05,     0.04,2,     0.01,    0.753,2,    0.013,    2.415,2,    1.459,2,    0.126,2,   -999.0,9,   -999.0,9,-999.0000,-999,9,  -999.00,9,  -999.00,   -999.0,9,   -999.0,  17.1651,  25.5589
  49NZ20090410,   P21,    62,  1,     32, X12002,2,20090427,1234,-16.7433, -93.3313, 4296,    199.1,2,  14.0108,2,  14.00470,2,  34.7575,2,  34.7555,2,   114.35,2,   106.15,2,     8.52,2,     0.14,    19.74,2,     0.09,     0.02,2,     0.01,    1.980,2,    0.015,    2.289,2,    1.314,2,    0.086,2,   -999.0,9,   -999.0,9,-999.0000,-999,9,  -999.00,9,  -999.00,   -999.0,9,   -999.0,  13.9821,  26.0035
  49NZ20090410,   P21,    62,  1,     31, X12001,2,20090427,1234,-16.7433, -93.3313, 4296,    250.0,2,  12.2736,2,  12.27401,2,  34.7568,2,  34.7558,6,     4.91,2,     5.30,2,    22.00,2,     0.17,    21.85,2,     0.09,     0.02,2,     0.01,    2.711,2,    0.017,    1.099,2,    0.609,2,    0.015,2,   -999.0,9,   -999.0,9,-999.0000,-999,9,  -999.00,9,  -999.00,   -999.0,9,   -999.0,  12.2405,  26.3540
  49NZ20090410,   P21,    62,  1,     30, X12030,2,20090427,1234,-16.7433, -93.3313, 4296,    280.6,2,  11.6211,2,  11.62151,2,  34.7633,2,  34.7613,2,     2.76,2,     2.67,2,    24.00,2,     0.17,    25.37,2,     0.10,     0.02,2,     0.01,    2.728,2,    0.017,    0.682,2,    0.372,2,    0.013,2,   -999.0,9,   -999.0,9,-999.0000,-999,9,  -999.00,9,  -999.00,   -999.0,9,   -999.0,  11.5852,  26.4836
  49NZ20090410,   P21,    62,  1,     29, X12044,2,20090427,1234,-16.7433, -93.3313, 4296,    368.9,2,   9.8866,2,   9.88442,2,  34.6933,2,  34.6920,2,     5.35,2,     5.40,2,    27.67,2,     0.18,    34.74,2,     0.13,     0.02,2,     0.01,    2.779,2,    0.017,    0.210,2,    0.117,2,    0.000,2,   -999.0,9,   -999.0,9,-999.0000,-999,9,  -999.00,9,  -999.00,   -999.0,9,   -999.0,   9.8439,  26.7390
  49NZ20090410,   P21,    62,  1,     28, X12048,2,20090427,1234,-16.7433, -93.3313, 4296,    469.6,2,   8.4280,2,   8.42996,2,  34.6159,2,  34.6138,6,    19.01,2,    19.85,2,    31.88,2,     0.19,    38.90,2,     0.14,     0.02,2,     0.01,    2.834,2,    0.017,    0.087,2,    0.044,2,    0.000,2,   -999.0,9,   -999.0,9,-999.0000,-999,9,  -999.00,9,  -999.00,   -999.0,9,   -999.0,   8.3784,  26.9148
  49NZ20090410,   P21,    62,  1,     27, X12027,2,20090427,1234,-16.7433, -93.3313, 4296,    567.5,2,   7.1728,2,   7.17242,2,  34.5441,2,  34.5447,2,    30.57,2,    30.38,3,    36.55,2,     0.20,    41.31,2,     0.15,     0.02,2,     0.01,    2.966,2,    0.017,    0.062,6,    0.031,6,    0.000,6,   -999.0,9,   -999.0,9,-999.0000,-999,9,  -999.00,9,  -999.00,   -999.0,9,   -999.0,   7.1179,  27.0433
  49NZ20090410,   P21,    62,  1,     26, X12026,2,20090427,1234,-16.7433, -93.3313, 4296,    670.6,2,   6.2659,2,   6.26576,2,  34.5103,2,  34.5108,2,    38.25,2,    38.65,2,    43.56,2,     0.21,    42.72,2,     0.15,     0.02,2,     0.01,    3.032,2,    0.018,    0.022,2,    0.009,2,    0.000,2,   -999.0,9,   -999.0,9,-999.0000,-999,9,  -999.00,9,  -999.00,   -999.0,9,   -999.0,   6.2051,  27.1394
  49NZ20090410,   P21,    62,  1,     25, X12025,2,20090427,1234,-16.7433, -93.3313, 4296,    768.5,2,   5.7188,2,   5.71851,2,  34.5108,2,  34.5107,2,    42.12,2,    42.74,2,    51.52,2,     0.23,    43.40,2,     0.15,     0.02,2,     0.01,    3.078,2,    0.018,    0.004,2,    0.002,2,    0.000,2,   -999.0,9,   -999.0,9,-999.0000,-999,9,  -999.00,9,  -999.00,   -999.0,9,   -999.0,   5.6518,  27.2096
  49NZ20090410,   P21,    62,  1,     24, X12024,2,20090427,1234,-16.7433, -93.3313, 4296,    871.5,2,   5.1689,2,   5.16883,2,  34.5081,2,  34.5079,2,    46.52,2,    47.05,2,    59.57,2,     0.25,    43.97,2,     0.16,     0.02,2,     0.01,    3.126,2,    0.018,    0.002,2,    0.000,2,    0.000,2,   -999.0,9,   -999.0,9,-999.0000,-999,9,  -999.00,9,  -999.00,   -999.0,9,   -999.0,   5.0960,  27.2741
  49NZ20090410,   P21,    62,  1,     23, X12028,2,20090427,1234,-16.7433, -93.3313, 4296,    969.6,2,   4.6396,2,   4.63968,2,  34.5171,2,  34.5169,6,    57.34,2,    57.85,2,    69.24,2,     0.27,    43.27,2,     0.15,     0.01,2,     0.01,    3.106,2,    0.018,    0.000,2,    0.000,2,    0.000,2,   -999.0,9,   -999.0,9,-999.0000,-999,9,  -999.00,9,  -999.00,   -999.0,9,   -999.0,   4.5617,  27.3419
  49NZ20090410,   P21,    62,  1,     22, X12022,2,20090427,1234,-16.7433, -93.3313, 4296,   1128.5,2,   4.0613,2,   4.06120,2,  34.5355,2,  34.5357,2,    70.80,2,    70.68,2,    81.16,2,     0.30,    42.20,2,     0.15,     0.02,2,     0.01,    3.046,2,    0.018,    0.000,2,    0.001,2,    0.000,2,   -999.0,9,   -999.0,9,-999.0000,-999,9,  -999.00,9,  -999.00,   -999.0,9,   -999.0,   3.9742,  27.4193
  49NZ20090410,   P21,    62,  1,     21, X12021,2,20090427,1234,-16.7433, -93.3313, 4296,   1330.0,2,   3.4232,2,   3.42308,2,  34.5633,2,  34.5633,2,    85.77,2,    85.51,2,    95.00,2,     0.33,    41.07,2,     0.15,     0.02,2,     0.01,    2.958,2,    0.017,    0.000,2,    0.002,2,    0.000,2,   -999.0,9,   -999.0,9,-999.0000,-999,9,  -999.00,9,  -999.00,   -999.0,9,   -999.0,   3.3250,  27.5061
  49NZ20090410,   P21,    62,  1,     20, X12020,2,20090427,1234,-16.7433, -93.3313, 4296,   1530.6,2,   3.0018,2,   3.00162,2,  34.5864,2,  34.5867,2,    95.78,2,    95.43,2,   104.74,2,     0.35,    40.23,2,     0.15,     0.02,2,     0.01,    2.901,2,    0.017,    0.000,2,    0.000,2,    0.000,2,   -999.0,9,   -999.0,9,-999.0000,-999,9,  -999.00,9,  -999.00,   -999.0,9,   -999.0,   2.8914,  27.5648
  49NZ20090410,   P21,    62,  1,     19, X12019,2,20090427,1234,-16.7433, -93.3313, 4296,   1729.1,2,   2.6344,2,   2.63338,2,  34.6106,2,  34.6108,2,   105.50,2,   105.24,2,   113.94,2,     0.37,    39.48,2,     0.14,     0.02,2,     0.01,    2.829,2,    0.017,    0.000,2,    0.000,2,    0.000,2,   -999.0,9,   -999.0,9,-999.0000,-999,9,  -999.00,9,  -999.00,   -999.0,9,   -999.0,   2.5118,  27.6176
  49NZ20090410,   P21,    62,  1,     18, X12043,2,20090427,1234,-16.7433, -93.3313, 4296,   1930.5,2,   2.3845,2,   2.38452,2,  34.6285,2,  34.6285,2,   114.58,2,   114.39,2,   119.40,2,     0.38,    38.59,2,     0.14,     0.02,2,     0.01,    2.760,2,    0.017,    0.000,2,    0.000,2,    0.000,2,   -999.0,9,   -999.0,9,-999.0000,-999,9,  -999.00,9,  -999.00,   -999.0,9,   -999.0,   2.2482,  27.6540
  49NZ20090410,   P21,    62,  1,     17, X12042,2,20090427,1234,-16.7433, -93.3313, 4296,   2130.9,2,   2.1600,2,   2.15958,2,  34.6450,2,  34.6450,6,   124.26,2,   123.94,2,   123.49,2,     0.39,    37.80,2,     0.14,     0.02,2,     0.01,    2.693,2,    0.017, -999.000,9, -999.000,9, -999.000,9,   -999.0,9,   -999.0,9,-999.0000,-999,9,  -999.00,9,  -999.00,   -999.0,9,   -999.0,   2.0098,  27.6864
  49NZ20090410,   P21,    62,  1,     16, X12016,2,20090427,1234,-16.7433, -93.3313, 4296,   2331.3,2,   1.9819,2,   1.98196,2,  34.6573,2,  34.6574,2,   140.67,2,   140.42,2,   121.17,2,     0.39,    36.54,2,     0.14,     0.02,2,     0.01,    2.574,2,    0.016, -999.000,9, -999.000,9, -999.000,9,   -999.0,9,   -999.0,9,-999.0000,-999,9,  -999.00,9,  -999.00,   -999.0,9,   -999.0,   1.8171,  27.7114
  49NZ20090410,   P21,    62,  1,     15, X12015,2,20090427,1234,-16.7433, -93.3313, 4296,   2529.6,2,   1.8846,2,   1.88454,2,  34.6669,2,  34.6667,2,   144.20,2,   144.09,2,   123.85,2,     0.39,    36.17,2,     0.13,     0.02,2,     0.01,    2.554,2,    0.016,    0.000,2,    0.002,2,    0.000,2,   -999.0,9,   -999.0,9,-999.0000,-999,9,  -999.00,9,  -999.00,   -999.0,9,   -999.0,   1.7037,  27.7278
  49NZ20090410,   P21,    62,  1,     14, X12050,2,20090427,1234,-16.7433, -93.3313, 4296,   2730.0,2,   1.8287,2,   1.82865,2,  34.6735,2,  34.6736,2,   145.93,2,   145.82,2,   126.27,2,     0.40,    36.10,2,     0.13,     0.02,2,     0.01,    2.547,2,    0.016, -999.000,9, -999.000,9, -999.000,9,   -999.0,9,   -999.0,9,-999.0000,-999,9,  -999.00,9,  -999.00,   -999.0,9,   -999.0,   1.6304,  27.7386
  49NZ20090410,   P21,    62,  1,     13, X12013,7,20090427,1234,-16.7433, -93.3313, 4296,   2930.6,2,   1.8022,2,   1.80216,2,  34.6776,2,  34.6781,2,   146.14,2,   145.97,2,   127.94,2,     0.40,    36.06,2,     0.13,     0.01,2,     0.01,    2.543,2,    0.016, -999.000,9, -999.000,9, -999.000,9,   -999.0,9,   -999.0,9,-999.0000,-999,9,  -999.00,9,  -999.00,   -999.0,9,   -999.0,   1.5855,  27.7452
  49NZ20090410,   P21,    62,  1,     12, X12012,2,20090427,1234,-16.7433, -93.3313, 4296,   3171.2,2,   1.7816,2,   1.78160,2,  34.6814,2,  34.6806,6,   146.39,2,   146.33,2,   129.25,2,     0.40,    36.03,2,     0.13,     0.01,2,     0.01,    2.541,2,    0.016,    0.001,2,    0.002,2,    0.000,2,   -999.0,9,   -999.0,9,-999.0000,-999,9,  -999.00,9,  -999.00,   -999.0,9,   -999.0,   1.5418,  27.7515
  49NZ20090410,   P21,    62,  1,     11, X12041,2,20090427,1234,-16.7433, -93.3313, 4296,   3421.3,2,   1.7689,2,   1.76897,2,  34.6846,2,  34.6837,2,   147.73,2,   147.77,2,   129.35,2,     0.40,    35.94,2,     0.13,     0.02,2,     0.01,    2.532,2,    0.016, -999.000,9, -999.000,9, -999.000,9,   -999.0,9,   -999.0,9,-999.0000,-999,9,  -999.00,9,  -999.00,   -999.0,9,   -999.0,   1.5041,  27.7568
  49NZ20090410,   P21,    62,  1,     10, X12040,2,20090427,1234,-16.7433, -93.3313, 4296,   3669.8,2,   1.7633,2,   1.76326,2,  34.6870,2,  34.6867,2,   149.18,2,   149.34,2,   128.64,2,     0.40,    35.91,2,     0.13,     0.02,2,     0.01,    2.525,2,    0.016, -999.000,9, -999.000,9, -999.000,9,   -999.0,9,   -999.0,9,-999.0000,-999,9,  -999.00,9,  -999.00,   -999.0,9,   -999.0,   1.4727,  27.7610
  49NZ20090410,   P21,    62,  1,      9, X12009,2,20090427,1234,-16.7433, -93.3313, 4296,   3918.3,2,   1.7732,2,   1.77320,2,  34.6883,2,  34.6880,2,   150.63,2,   150.76,2,   127.88,2,     0.40,    35.79,2,     0.13,     0.02,2,     0.01,    2.518,2,    0.016,    0.002,2,    0.000,2,    0.000,2,   -999.0,9,   -999.0,9,-999.0000,-999,9,  -999.00,9,  -999.00,   -999.0,9,   -999.0,   1.4556,  27.7632
  49NZ20090410,   P21,    62,  1,      8, X12008,2,20090427,1234,-16.7433, -93.3313, 4296,   4169.9,2,   1.7998,2,   1.79960,2,  34.6883,2,  34.6880,2,   150.75,2,   150.95,2,   127.72,2,     0.40,    35.65,2,     0.13,     0.01,2,     0.01,    2.513,2,    0.016,    0.000,2,    0.000,2,    0.000,2,   -999.0,9,   -999.0,9,-999.0000,-999,9,  -999.00,9,  -999.00,   -999.0,9,   -999.0,   1.4535,  27.7634
  49NZ20090410,   P21,    62,  1,      7, X12007,9,20090427,1234,-16.7433, -93.3313, 4296,     10.1,2,  23.8335,2,  23.83291,2,  35.8444,2,-999.0000,9,   212.69,2,  -999.00,9,  -999.00,9,  -999.00,  -999.00,9,  -999.00,  -999.00,9,  -999.00, -999.000,9, -999.000, -999.000,9, -999.000,9, -999.000,9,   -999.0,9,   -999.0,9,-999.0000,-999,9,  -999.00,9,  -999.00,   -999.0,9,   -999.0,  23.8314,  24.3308
  49NZ20090410,   P21,    62,  1,      6, X12035,9,20090427,1234,-16.7433, -93.3313, 4296,   2128.5,2,   2.1639,2,   2.16370,2,  34.6447,2,-999.0000,9,   124.22,2,  -999.00,9,  -999.00,9,  -999.00,  -999.00,9,  -999.00,  -999.00,9,  -999.00, -999.000,9, -999.000, -999.000,9, -999.000,9, -999.000,9,   -999.0,9,   -999.0,9,-999.0000,-999,9,  -999.00,9,  -999.00,   -999.0,9,   -999.0,   2.0139,  27.6859
  49NZ20090410,   P21,    62,  1,      5, X12038,9,20090427,1234,-16.7433, -93.3313, 4296,   2331.2,2,   1.9810,2,   1.98076,2,  34.6575,2,-999.0000,9,   140.63,2,  -999.00,9,  -999.00,9,  -999.00,  -999.00,9,  -999.00,  -999.00,9,  -999.00, -999.000,9, -999.000, -999.000,9, -999.000,9, -999.000,9,   -999.0,9,   -999.0,9,-999.0000,-999,9,  -999.00,9,  -999.00,   -999.0,9,   -999.0,   1.8162,  27.7116
  49NZ20090410,   P21,    62,  1,      4, X12034,9,20090427,1234,-16.7433, -93.3313, 4296,   2530.2,2,   1.8847,2,   1.88466,2,  34.6669,2,-999.0000,9,   144.23,2,  -999.00,9,  -999.00,9,  -999.00,  -999.00,9,  -999.00,  -999.00,9,  -999.00, -999.000,9, -999.000, -999.000,9, -999.000,9, -999.000,9,   -999.0,9,   -999.0,9,-999.0000,-999,9,  -999.00,9,  -999.00,   -999.0,9,   -999.0,   1.7038,  27.7277
  49NZ20090410,   P21,    62,  1,      3, X12033,9,20090427,1234,-16.7433, -93.3313, 4296,   2728.7,2,   1.8288,2,   1.82870,2,  34.6735,2,-999.0000,9,   145.91,2,  -999.00,9,  -999.00,9,  -999.00,  -999.00,9,  -999.00,  -999.00,9,  -999.00, -999.000,9, -999.000, -999.000,9, -999.000,9, -999.000,9,   -999.0,9,   -999.0,9,-999.0000,-999,9,  -999.00,9,  -999.00,   -999.0,9,   -999.0,   1.6306,  27.7386
  49NZ20090410,   P21,    62,  1,      2, X12032,9,20090427,1234,-16.7433, -93.3313, 4296,   2930.4,2,   1.8023,2,   1.80219,2,  34.6776,2,-999.0000,9,   146.12,2,  -999.00,9,  -999.00,9,  -999.00,  -999.00,9,  -999.00,  -999.00,9,  -999.00, -999.000,9, -999.000, -999.000,9, -999.000,9, -999.000,9,   -999.0,9,   -999.0,9,-999.0000,-999,9,  -999.00,9,  -999.00,   -999.0,9,   -999.0,   1.5856,  27.7452
  49NZ20090410,   P21,    62,  1,      1, X12046,2,20090427,1234,-16.7433, -93.3313, 4296,   4338.4,2,   1.8179,2,   1.81778,2,  34.6884,2,  34.6882,6,   150.95,2,   151.16,2,   127.64,2,     0.40,    35.73,2,     0.13,     0.01,2,     0.01,    2.516,2,    0.016,    0.001,2,    0.001,2,    0.000,2,   -999.0,9,   -999.0,9,-999.0000,-999,9,  -999.00,9,  -999.00,   -999.0,9,   -999.0,   1.4518,  27.7636