BOTTLE,20220818CCHSIOAMB
EXPOCODE,SECT_ID,STNNBR,CASTNO,SAMPNO,BTLNBR,BTLNBR_FLAG_W,DATE,TIME,LATITUDE,LONGITUDE,DEPTH,CTDPRS,CTDPRS_FLAG_W,CTDTMP,CTDTMP_FLAG_W,SBE35,SBE35_FLAG_W,CTDSAL,CTDSAL_FLAG_W,SALNTY,SALNTY_FLAG_W,CTDOXY,CTDOXY_FLAG_W,OXYGEN,OXYGEN_FLAG_W,SILCAT,SILCAT_FLAG_W,SILUNC,NITRAT,NITRAT_FLAG_W,NRAUNC,NITRIT,NITRIT_FLAG_W,NRIUNC,PHSPHT,PHSPHT_FLAG_W,PHPUNC,CFC-11,CFC-11_FLAG_W,CFC-12,CFC-12_FLAG_W,CFC113,CFC113_FLAG_W,TCARBN,TCARBN_FLAG_W,ALKALI,ALKALI_FLAG_W,PH_TOT,PH_TMP,PH_TOT_FLAG_W,DELC13,DELC13_FLAG_W,C13ERR,DELC14,DELC14_FLAG_W,C14ERR,THETA,SIG0
,,,,,,,,,,,METERS,DBAR,,ITS-90,,ITS-90,,PSS-78,,PSS-78,,UMOL/KG,,UMOL/KG,,UMOL/KG,,UMOL/KG,UMOL/KG,,UMOL/KG,UMOL/KG,,UMOL/KG,UMOL/KG,,UMOL/KG,PMOL/KG,,PMOL/KG,,PMOL/KG,,UMOL/KG,,UMOL/KG,,,DEG C,,/MILLE,,/MILLE,/MILLE,,/MILLE,DEG C,KG/M^3
  49NZ20090410,   P21,   101,  1,     36, X12006,2,20090505,1310,-16.7518,-114.0057, 3076,     10.1,2,  25.4724,2,  25.47148,2,  36.3498,2,  36.3496,2,   205.74,2,   205.83,2,     0.56,2,     0.12,     0.10,2,     0.03,     0.01,2,     0.01,    0.333,2,    0.014,    1.601,2,    1.024,2, -999.000,5,   -999.0,9,   -999.0,9,-999.0000,-999,9,  -999.00,9,  -999.00,   -999.0,9,   -999.0,  25.4702,  24.2171
  49NZ20090410,   P21,   101,  1,     35, X12047,2,20090505,1310,-16.7518,-114.0057, 3076,     50.5,2,  25.4754,2,  25.47475,2,  36.3599,2,  36.3605,2,   205.63,2,   206.06,2,     0.56,2,     0.12,     0.10,2,     0.03,     0.01,2,     0.01,    0.332,2,    0.014,    1.609,2,    1.023,2, -999.000,5,   -999.0,9,   -999.0,9,-999.0000,-999,9,  -999.00,9,  -999.00,   -999.0,9,   -999.0,  25.4642,  24.2266
  49NZ20090410,   P21,   101,  1,     34, X12004,2,20090505,1310,-16.7518,-114.0057, 3076,    100.4,2,  22.4769,2,  22.47483,2,  36.2237,2,  36.2254,2,   205.88,2,   206.32,2,     0.46,2,     0.12,     0.13,2,     0.03,     0.10,2,     0.01,    0.360,2,    0.014,    1.865,6,    1.169,6, -999.000,5,   -999.0,9,   -999.0,9,-999.0000,-999,9,  -999.00,9,  -999.00,   -999.0,9,   -999.0,  22.4566,  25.0184
  49NZ20090410,   P21,   101,  1,     33, X12003,2,20090505,1310,-16.7518,-114.0057, 3076,    150.2,2,  20.7458,2,  20.75295,2,  35.9077,2,  35.8894,2,   202.57,2,   202.53,2,     0.43,2,     0.12,     1.54,2,     0.04,     0.23,2,     0.01,    0.407,2,    0.013,    2.036,2,    1.267,2, -999.000,5,   -999.0,9,   -999.0,9,-999.0000,-999,9,  -999.00,9,  -999.00,   -999.0,9,   -999.0,  20.7172,  25.2621
  49NZ20090410,   P21,   101,  1,     32, X12002,2,20090505,1310,-16.7518,-114.0057, 3076,    200.2,2,  19.2849,2,  19.28531,2,  35.5915,2,  35.5888,2,   199.55,2,   199.90,2,     0.57,2,     0.12,     3.13,2,     0.04,     0.03,2,     0.01,    0.514,2,    0.013,    2.169,2,    1.334,2,    0.162,2,   -999.0,9,   -999.0,9,-999.0000,-999,9,  -999.00,9,  -999.00,   -999.0,9,   -999.0,  19.2487,  25.4094
  49NZ20090410,   P21,   101,  1,     31, X12001,2,20090505,1310,-16.7518,-114.0057, 3076,    250.7,2,  16.5797,2,  16.58067,2,  35.0978,2,  35.0969,6,   177.29,2,   176.61,2,     2.00,2,     0.12,     9.16,2,     0.06,     0.02,2,     0.01,    0.947,2,    0.013,    2.405,2,    1.431,2,    0.089,2,   -999.0,9,   -999.0,9,-999.0000,-999,9,  -999.00,9,  -999.00,   -999.0,9,   -999.0,  16.5389,  25.6981
  49NZ20090410,   P21,   101,  1,     30, X12030,2,20090505,1310,-16.7518,-114.0057, 3076,    330.6,2,  11.2567,2,  11.25730,2,  34.5276,2,  34.5285,2,    93.92,2,    93.64,2,    11.87,2,     0.15,    21.86,2,     0.09,     0.01,2,     0.01,    2.006,2,    0.015,    1.931,2,    1.017,2,    0.031,2,   -999.0,9,   -999.0,9,-999.0000,-999,9,  -999.00,9,  -999.00,   -999.0,9,   -999.0,  11.2153,  26.3685
  49NZ20090410,   P21,   101,  1,     29, X12044,2,20090505,1310,-16.7518,-114.0057, 3076,    432.1,2,   7.9044,2,   7.90768,2,  34.4626,2,  34.4642,2,    84.83,2,    83.56,2,    20.03,2,     0.16,    33.17,2,     0.13,     0.01,2,     0.01,    2.477,2,    0.016,    0.645,2,    0.323,2,    0.017,2,   -999.0,9,   -999.0,9,-999.0000,-999,9,  -999.00,9,  -999.00,   -999.0,9,   -999.0,   7.8607,  26.8725
  49NZ20090410,   P21,   101,  1,     28, X12048,2,20090505,1310,-16.7518,-114.0057, 3076,    529.1,2,   6.7638,2,   6.76643,2,  34.4811,2,  34.4804,6,    85.87,2,    85.99,2,    29.78,2,     0.18,    36.81,2,     0.14,     0.01,2,     0.01,    2.587,2,    0.016,    0.127,2,    0.068,2,    0.000,2,   -999.0,9,   -999.0,9,-999.0000,-999,9,  -999.00,9,  -999.00,   -999.0,9,   -999.0,   6.7144,  27.0490
  49NZ20090410,   P21,   101,  1,     27, X12027,2,20090505,1310,-16.7518,-114.0057, 3076,    631.3,2,   6.1145,2,   6.11503,2,  34.4915,2,  34.4913,2,    75.51,2,    75.82,2,    39.65,2,     0.21,    39.39,2,     0.14,     0.01,2,     0.01,    2.753,2,    0.017,    0.021,6,    0.009,6,    0.000,6,   -999.0,9,   -999.0,9,-999.0000,-999,9,  -999.00,9,  -999.00,   -999.0,9,   -999.0,   6.0582,  27.1434
  49NZ20090410,   P21,   101,  1,     26, X12026,2,20090505,1310,-16.7518,-114.0057, 3076,    730.5,2,   5.4854,2,   5.48547,2,  34.4925,2,  34.4921,2,    77.19,2,    77.37,2,    49.05,2,     0.23,    40.35,2,     0.15,     0.01,2,     0.01,    2.831,2,    0.017,    0.004,2,    0.001,2,    0.000,2,   -999.0,9,   -999.0,9,-999.0000,-999,9,  -999.00,9,  -999.00,   -999.0,9,   -999.0,   5.4233,  27.2230
  49NZ20090410,   P21,   101,  1,     25, X12025,2,20090505,1310,-16.7518,-114.0057, 3076,    829.2,2,   4.9189,2,   4.91910,2,  34.4991,2,  34.4991,2,    79.24,2,    78.96,2,    58.94,2,     0.25,    40.86,2,     0.15,     0.01,2,     0.01,    2.888,2,    0.017,    0.002,2,    0.001,2,    0.000,2,   -999.0,9,   -999.0,9,-999.0000,-999,9,  -999.00,9,  -999.00,   -999.0,9,   -999.0,   4.8514,  27.2951
  49NZ20090410,   P21,   101,  1,     24, X12024,2,20090505,1310,-16.7518,-114.0057, 3076,    931.4,2,   4.4899,2,   4.49002,2,  34.5152,2,  34.5153,2,    78.98,2,    78.83,2,    68.62,2,     0.27,    41.26,2,     0.15,     0.01,2,     0.01,    2.935,2,    0.017,    0.000,2,    0.000,2,    0.000,2,   -999.0,9,   -999.0,9,-999.0000,-999,9,  -999.00,9,  -999.00,   -999.0,9,   -999.0,   4.4164,  27.3563
  49NZ20090410,   P21,   101,  1,     23, X12028,2,20090505,1310,-16.7518,-114.0057, 3076,   1072.2,2,   4.0382,2,   4.03890,2,  34.5353,2,  34.5349,6,    77.55,2,    77.12,2,    80.04,2,     0.30,    41.75,2,     0.15,     0.01,2,     0.01,    2.980,2,    0.017,    0.000,2,    0.002,2,    0.000,2,   -999.0,9,   -999.0,9,-999.0000,-999,9,  -999.00,9,  -999.00,   -999.0,9,   -999.0,   3.9561,  27.4210
  49NZ20090410,   P21,   101,  1,     22, X12022,2,20090505,1310,-16.7518,-114.0057, 3076,   1270.9,2,   3.4888,2,   3.48873,2,  34.5607,2,  34.5610,2,    86.96,2,    86.84,2,    93.06,2,     0.32,    40.87,2,     0.15,     0.01,2,     0.01,    2.939,2,    0.017,    0.001,2,    0.000,2,    0.000,2,   -999.0,9,   -999.0,9,-999.0000,-999,9,  -999.00,9,  -999.00,   -999.0,9,   -999.0,   3.3949,  27.4973
  49NZ20090410,   P21,   101,  1,     21, X12021,2,20090505,1310,-16.7518,-114.0057, 3076,   1468.9,2,   3.0349,2,   3.03508,2,  34.5855,2,  34.5856,2,    99.25,2,    99.04,2,   103.49,2,     0.35,    39.94,2,     0.14,     0.00,2,     0.01,    2.863,2,    0.017,    0.000,2,    0.000,2,    0.000,2,   -999.0,9,   -999.0,9,-999.0000,-999,9,  -999.00,9,  -999.00,   -999.0,9,   -999.0,   2.9292,  27.5606
  49NZ20090410,   P21,   101,  1,     20, X12020,2,20090505,1310,-16.7518,-114.0057, 3076,   1669.8,2,   2.7268,2,   2.72677,2,  34.6025,2,  34.6031,6,   109.13,2,   109.12,2,   109.18,2,     0.36,    39.19,2,     0.14,     0.01,2,     0.01,    2.793,2,    0.017,    0.000,2,    0.000,2,    0.000,2,   -999.0,9,   -999.0,9,-999.0000,-999,9,  -999.00,9,  -999.00,   -999.0,9,   -999.0,   2.6080,  27.6028
  49NZ20090410,   P21,   101,  1,     19, X12019,2,20090505,1310,-16.7518,-114.0057, 3076,   1872.0,2,   2.3310,2,   2.33067,2,  34.6221,2,  34.6226,2,   132.86,2,   132.83,2,   110.99,2,     0.36,    37.29,2,     0.14,     0.01,2,     0.01,    2.629,2,    0.017,    0.000,2,    0.000,2,    0.000,2,   -999.0,9,   -999.0,9,-999.0000,-999,9,  -999.00,9,  -999.00,   -999.0,9,   -999.0,   2.2005,  27.6528
  49NZ20090410,   P21,   101,  1,     18, X12043,2,20090505,1310,-16.7518,-114.0057, 3076,   2070.0,2,   2.0316,2,   2.03165,2,  34.6443,2,  34.6446,2,   151.66,2,   151.68,2,   112.57,2,     0.37,    35.66,2,     0.13,     0.01,2,     0.01,    2.505,2,    0.016,    0.001,2,    0.002,2,    0.000,2,   -999.0,9,   -999.0,9,-999.0000,-999,9,  -999.00,9,  -999.00,   -999.0,9,   -999.0,   1.8887,  27.6954
  49NZ20090410,   P21,   101,  1,     17, X12042,2,20090505,1310,-16.7518,-114.0057, 3076,   2269.2,2,   1.8913,2,   1.89119,2,  34.6620,2,  34.6624,6,   154.82,2,   154.81,2,   117.33,2,     0.38,    35.47,2,     0.13,     0.00,2,     0.01,    2.474,2,    0.016,    0.000,2,    0.002,2,    0.000,2,   -999.0,9,   -999.0,9,-999.0000,-999,9,  -999.00,9,  -999.00,   -999.0,9,   -999.0,   1.7335,  27.7215
  49NZ20090410,   P21,   101,  1,     16, X12016,2,20090505,1310,-16.7518,-114.0057, 3076,   2469.8,2,   1.8610,2,   1.86092,2,  34.6701,2,  34.6700,2,   153.95,2,   153.91,2,   120.80,2,     0.38,    35.38,2,     0.13,     0.01,2,     0.01,    2.461,2,    0.016,    0.001,2,    0.002,2,    0.000,2,   -999.0,9,   -999.0,9,-999.0000,-999,9,  -999.00,9,  -999.00,   -999.0,9,   -999.0,   1.6860,  27.7317
  49NZ20090410,   P21,   101,  1,     15, X12015,2,20090505,1310,-16.7518,-114.0057, 3076,   2670.0,2,   1.8476,2,   1.84751,2,  34.6735,2,  34.6733,2,   154.01,2,   153.96,2,   122.74,2,     0.39,    35.45,2,     0.13,     0.00,2,     0.01,    2.481,2,    0.016,    0.000,2,    0.000,2,    0.000,2,   -999.0,9,   -999.0,9,-999.0000,-999,9,  -999.00,9,  -999.00,   -999.0,9,   -999.0,   1.6545,  27.7367
  49NZ20090410,   P21,   101,  1,     14, X12050,2,20090505,1310,-16.7518,-114.0057, 3076,   2871.0,2,   1.8449,2,   1.84490,2,  34.6746,2,  34.6741,2,   155.04,2,   154.99,2,   122.99,2,     0.39,    35.43,2,     0.13,     0.01,2,     0.01,    2.491,2,    0.016,    0.000,2,    0.000,2,    0.000,2,   -999.0,9,   -999.0,9,-999.0000,-999,9,  -999.00,9,  -999.00,   -999.0,9,   -999.0,   1.6330,  27.7392
  49NZ20090410,   P21,   101,  1,     13, X12013,9,20090505,1310,-16.7518,-114.0057, 3076,   2269.9,2,   1.8910,2,   1.89100,2,  34.6621,2,-999.0000,9,   154.84,2,  -999.00,9,  -999.00,9,  -999.00,  -999.00,9,  -999.00,  -999.00,9,  -999.00, -999.000,9, -999.000, -999.000,9, -999.000,9, -999.000,9,   -999.0,9,   -999.0,9,-999.0000,-999,9,  -999.00,9,  -999.00,   -999.0,9,   -999.0,   1.7331,  27.7217
  49NZ20090410,   P21,   101,  1,     12, X12012,9,20090505,1310,-16.7518,-114.0057, 3076,   2470.3,2,   1.8610,2,   1.86093,2,  34.6701,2,-999.0000,9,   153.93,2,  -999.00,9,  -999.00,9,  -999.00,  -999.00,9,  -999.00,  -999.00,9,  -999.00, -999.000,9, -999.000, -999.000,9, -999.000,9, -999.000,9,   -999.0,9,   -999.0,9,-999.0000,-999,9,  -999.00,9,  -999.00,   -999.0,9,   -999.0,   1.6859,  27.7317
  49NZ20090410,   P21,   101,  1,     11, X12041,9,20090505,1310,-16.7518,-114.0057, 3076,   3049.5,2,   1.8414,2,   1.84135,2,  34.6744,2,-999.0000,9,   156.45,2,  -999.00,9,  -999.00,9,  -999.00,  -999.00,9,  -999.00,  -999.00,9,  -999.00, -999.000,9, -999.000, -999.000,9, -999.000,9, -999.000,9,   -999.0,9,   -999.0,9,-999.0000,-999,9,  -999.00,9,  -999.00,   -999.0,9,   -999.0,   1.6123,  27.7406
  49NZ20090410,   P21,   101,  1,     10, X12040,9,20090505,1310,-16.7518,-114.0057, 3076,   2670.3,2,   1.8477,2,   1.84767,2,  34.6734,2,-999.0000,9,   153.99,2,  -999.00,9,  -999.00,9,  -999.00,  -999.00,9,  -999.00,  -999.00,9,  -999.00, -999.000,9, -999.000, -999.000,9, -999.000,9, -999.000,9,   -999.0,9,   -999.0,9,-999.0000,-999,9,  -999.00,9,  -999.00,   -999.0,9,   -999.0,   1.6546,  27.7367
  49NZ20090410,   P21,   101,  1,      9, X12009,9,20090505,1310,-16.7518,-114.0057, 3076,   2870.1,2,   1.8449,2,   1.84474,2,  34.6744,2,-999.0000,9,   155.04,2,  -999.00,9,  -999.00,9,  -999.00,  -999.00,9,  -999.00,  -999.00,9,  -999.00, -999.000,9, -999.000, -999.000,9, -999.000,9, -999.000,9,   -999.0,9,   -999.0,9,-999.0000,-999,9,  -999.00,9,  -999.00,   -999.0,9,   -999.0,   1.6331,  27.7391
  49NZ20090410,   P21,   101,  1,      8, X12008,9,20090505,1310,-16.7518,-114.0057, 3076,    931.4,2,   4.4881,2,   4.48783,2,  34.5153,2,-999.0000,9,    79.04,2,  -999.00,9,  -999.00,9,  -999.00,  -999.00,9,  -999.00,  -999.00,9,  -999.00, -999.000,9, -999.000, -999.000,9, -999.000,9, -999.000,9,   -999.0,9,   -999.0,9,-999.0000,-999,9,  -999.00,9,  -999.00,   -999.0,9,   -999.0,   4.4146,  27.3566
  49NZ20090410,   P21,   101,  1,      7, X12007,2,20090505,1310,-16.7518,-114.0057, 3076,      9.9,2,  25.4701,2,  25.46913,2,  36.3499,2,-999.0000,9,   205.66,2,  -999.00,9,     0.62,2,     0.12,     0.11,2,     0.03,     0.01,2,     0.01,    0.325,2,    0.014, -999.000,9, -999.000,9, -999.000,9,   -999.0,9,   -999.0,9,-999.0000,-999,9,  -999.00,9,  -999.00,   -999.0,9,   -999.0,  25.4679,  24.2179
  49NZ20090410,   P21,   101,  1,      6, X12035,2,20090505,1310,-16.7518,-114.0057, 3076,     50.0,2,  25.4747,2,  25.47347,2,  36.3603,2,-999.0000,9,   205.55,2,  -999.00,9,     0.60,2,     0.12,     0.11,2,     0.03,     0.01,2,     0.01,    0.333,2,    0.014, -999.000,9, -999.000,9, -999.000,9,   -999.0,9,   -999.0,9,-999.0000,-999,9,  -999.00,9,  -999.00,   -999.0,9,   -999.0,  25.4637,  24.2271
  49NZ20090410,   P21,   101,  1,      5, X12038,2,20090505,1310,-16.7518,-114.0057, 3076,    100.8,2,  22.4725,2,  22.47205,2,  36.2231,2,-999.0000,9,   206.08,2,  -999.00,9,     0.50,2,     0.12,     0.16,2,     0.03,     0.15,2,     0.01,    0.362,2,    0.014, -999.000,9, -999.000,9, -999.000,9,   -999.0,9,   -999.0,9,-999.0000,-999,9,  -999.00,9,  -999.00,   -999.0,9,   -999.0,  22.4522,  25.0193
  49NZ20090410,   P21,   101,  1,      4, X12034,2,20090505,1310,-16.7518,-114.0057, 3076,    150.3,2,  20.7874,2,  20.78296,2,  35.9167,2,-999.0000,9,   202.65,2,  -999.00,9,     0.58,2,     0.12,     1.64,2,     0.04,     0.21,2,     0.01,    0.406,2,    0.013, -999.000,9, -999.000,9, -999.000,9,   -999.0,9,   -999.0,9,-999.0000,-999,9,  -999.00,9,  -999.00,   -999.0,9,   -999.0,  20.7587,  25.2577
  49NZ20090410,   P21,   101,  1,      3, X12033,2,20090505,1310,-16.7518,-114.0057, 3076,    200.5,2,  19.2827,2,  19.28070,2,  35.5910,2,-999.0000,9,   199.81,2,  -999.00,9,     0.75,2,     0.12,     3.28,2,     0.04,     0.03,2,     0.01,    0.523,2,    0.013, -999.000,9, -999.000,9, -999.000,9,   -999.0,9,   -999.0,9,-999.0000,-999,9,  -999.00,9,  -999.00,   -999.0,9,   -999.0,  19.2464,  25.4096
  49NZ20090410,   P21,   101,  1,      2, X12032,2,20090505,1310,-16.7518,-114.0057, 3076,    250.3,2,  16.6362,2,  16.64048,2,  35.1036,2,-999.0000,9,   176.91,2,  -999.00,9,     2.45,2,     0.12,     9.46,2,     0.06,     0.02,2,     0.01,    0.968,2,    0.013, -999.000,9, -999.000,9, -999.000,9,   -999.0,9,   -999.0,9,-999.0000,-999,9,  -999.00,9,  -999.00,   -999.0,9,   -999.0,  16.5954,  25.6893
  49NZ20090410,   P21,   101,  1,      1, X12046,2,20090505,1310,-16.7518,-114.0057, 3076,   3049.6,2,   1.8413,2,   1.84125,2,  34.6745,2,  34.6743,6,   156.47,2,   156.57,2,   122.62,2,     0.39,    35.36,2,     0.13,     0.01,2,     0.01,    2.493,2,    0.016,    0.001,2,    0.000,2,    0.000,2,   -999.0,9,   -999.0,9,-999.0000,-999,9,  -999.00,9,  -999.00,   -999.0,9,   -999.0,   1.6122,  27.7407