BOTTLE,20220818CCHSIOAMB
EXPOCODE,SECT_ID,STNNBR,CASTNO,SAMPNO,BTLNBR,BTLNBR_FLAG_W,DATE,TIME,LATITUDE,LONGITUDE,DEPTH,CTDPRS,CTDPRS_FLAG_W,CTDTMP,CTDTMP_FLAG_W,SBE35,SBE35_FLAG_W,CTDSAL,CTDSAL_FLAG_W,SALNTY,SALNTY_FLAG_W,CTDOXY,CTDOXY_FLAG_W,OXYGEN,OXYGEN_FLAG_W,SILCAT,SILCAT_FLAG_W,SILUNC,NITRAT,NITRAT_FLAG_W,NRAUNC,NITRIT,NITRIT_FLAG_W,NRIUNC,PHSPHT,PHSPHT_FLAG_W,PHPUNC,CFC-11,CFC-11_FLAG_W,CFC-12,CFC-12_FLAG_W,CFC113,CFC113_FLAG_W,TCARBN,TCARBN_FLAG_W,ALKALI,ALKALI_FLAG_W,PH_TOT,PH_TMP,PH_TOT_FLAG_W,DELC13,DELC13_FLAG_W,C13ERR,DELC14,DELC14_FLAG_W,C14ERR,THETA,SIG0
,,,,,,,,,,,METERS,DBAR,,ITS-90,,ITS-90,,PSS-78,,PSS-78,,UMOL/KG,,UMOL/KG,,UMOL/KG,,UMOL/KG,UMOL/KG,,UMOL/KG,UMOL/KG,,UMOL/KG,UMOL/KG,,UMOL/KG,PMOL/KG,,PMOL/KG,,PMOL/KG,,UMOL/KG,,UMOL/KG,,,DEG C,,/MILLE,,/MILLE,/MILLE,,/MILLE,DEG C,KG/M^3
  49NZ20090410,   P21,   138,  1,     36, X12006,2,20090514,0208,-16.7475,-138.6655, 2972,      9.4,2,  27.8931,2,  27.89430,2,  36.3247,2,  36.3238,2,   197.07,2,   197.46,2,     0.84,2,     0.12,     0.08,2,     0.03,     0.01,2,     0.01,    0.243,2,    0.015,    1.447,2,    0.940,2, -999.000,5,   -999.0,9,   -999.0,9,-999.0000,-999,9,  -999.00,9,  -999.00,   -999.0,9,   -999.0,  27.8909,  23.4271
  49NZ20090410,   P21,   138,  1,     35, X12047,2,20090514,0208,-16.7475,-138.6655, 2972,     49.4,2,  27.8841,2,  27.88305,2,  36.3202,2,  36.3211,2,   196.82,2,   197.44,2,     0.78,2,     0.12,     0.08,2,     0.03,     0.01,2,     0.01,    0.247,2,    0.015,    1.456,2,    0.950,2, -999.000,5,   -999.0,9,   -999.0,9,-999.0000,-999,9,  -999.00,9,  -999.00,   -999.0,9,   -999.0,  27.8725,  23.4297
  49NZ20090410,   P21,   138,  1,     34, X12004,2,20090514,0208,-16.7475,-138.6655, 2972,    100.1,2,  25.2116,2,  25.21108,2,  36.3704,2,  36.3710,2,   203.87,2,   204.54,2,     0.58,2,     0.12,     0.07,2,     0.03,     0.02,2,     0.01,    0.212,2,    0.016,    1.675,6,    1.068,6, -999.000,5,   -999.0,9,   -999.0,9,-999.0000,-999,9,  -999.00,9,  -999.00,   -999.0,9,   -999.0,  25.1897,  24.3192
  49NZ20090410,   P21,   138,  1,     33, X12003,2,20090514,0208,-16.7475,-138.6655, 2972,    149.9,2,  23.5601,2,  23.55832,2,  36.2308,2,  36.2295,2,   189.91,2,   190.05,2,     0.62,2,     0.12,     0.48,2,     0.03,     0.76,2,     0.00,    0.307,2,    0.014,    1.781,2,    1.124,2, -999.000,5,   -999.0,9,   -999.0,9,-999.0000,-999,9,  -999.00,9,  -999.00,   -999.0,9,   -999.0,  23.5288,  24.7130
  49NZ20090410,   P21,   138,  1,     32, X12002,2,20090514,0208,-16.7475,-138.6655, 2972,    199.3,2,  21.5161,2,  21.51536,2,  35.9476,2,  35.9477,2,   183.57,2,   183.29,2,     0.59,2,     0.12,     2.43,2,     0.04,     0.03,2,     0.01,    0.391,2,    0.013,    1.963,2,    1.218,2,    0.131,2,   -999.0,9,   -999.0,9,-999.0000,-999,9,  -999.00,9,  -999.00,   -999.0,9,   -999.0,  21.4771,  25.0842
  49NZ20090410,   P21,   138,  1,     31, X12001,2,20090514,0208,-16.7475,-138.6655, 2972,    251.4,2,  19.5207,2,  19.52124,2,  35.6111,2,  35.6230,6,   184.78,2,   184.91,2,     0.76,2,     0.12,     3.30,2,     0.04,     0.01,2,     0.01,    0.438,2,    0.013,    2.152,2,    1.287,2,    0.041,2,   -999.0,9,   -999.0,9,-999.0000,-999,9,  -999.00,9,  -999.00,   -999.0,9,   -999.0,  19.4748,  25.3658
  49NZ20090410,   P21,   138,  1,     30, X12030,2,20090514,0208,-16.7475,-138.6655, 2972,    299.7,2,  17.2199,2,  17.21897,2,  35.2741,2,  35.2298,2,   183.56,2,   185.04,2,     1.38,2,     0.12,     5.75,2,     0.05,     0.02,2,     0.01,    0.599,2,    0.013,    2.383,2,    1.365,2,    0.022,2,   -999.0,9,   -999.0,9,-999.0000,-999,9,  -999.00,9,  -999.00,   -999.0,9,   -999.0,  17.1698,  25.6841
  49NZ20090410,   P21,   138,  1,     29, X12044,2,20090514,0208,-16.7475,-138.6655, 2972,    400.0,2,  10.2966,2,  10.29669,2,  34.5306,2,  34.5303,2,    99.52,2,    99.33,2,    13.32,2,     0.15,    24.68,2,     0.10,     0.01,2,     0.01,    2.050,2,    0.015,    1.448,2,    0.750,2,    0.020,2,   -999.0,9,   -999.0,9,-999.0000,-999,9,  -999.00,9,  -999.00,   -999.0,9,   -999.0,  10.2491,  26.5426
  49NZ20090410,   P21,   138,  1,     28, X12048,2,20090514,0208,-16.7475,-138.6655, 2972,    501.7,2,   7.2413,2,   7.25020,2,  34.4157,2,  34.4154,6,   136.70,2,   136.89,2,    18.04,2,     0.16,    30.58,2,     0.12,     0.01,2,     0.01,    2.203,2,    0.016,    0.831,2,    0.425,2,    0.000,2,   -999.0,9,   -999.0,9,-999.0000,-999,9,  -999.00,9,  -999.00,   -999.0,9,   -999.0,   7.1928,  26.9316
  49NZ20090410,   P21,   138,  1,     27, X12027,2,20090514,0208,-16.7475,-138.6655, 2972,    600.8,2,   6.1006,2,   6.10061,2,  34.4017,2,  34.4018,2,   154.25,2,   154.64,2,    25.82,2,     0.18,    31.70,2,     0.12,     0.01,2,     0.01,    2.240,2,    0.016,    0.541,6,    0.285,6,    0.000,6,   -999.0,9,   -999.0,9,-999.0000,-999,9,  -999.00,9,  -999.00,   -999.0,9,   -999.0,   6.0473,  27.0739
  49NZ20090410,   P21,   138,  1,     26, X12026,2,20090514,0208,-16.7475,-138.6655, 2972,    699.4,2,   5.6682,2,   5.67141,2,  34.4383,2,  34.4383,2,   134.17,2,   134.04,2,    36.16,2,     0.20,    34.50,2,     0.13,     0.01,2,     0.01,    2.426,2,    0.016,    0.187,2,    0.104,2,    0.000,2,   -999.0,9,   -999.0,9,-999.0000,-999,9,  -999.00,9,  -999.00,   -999.0,9,   -999.0,   5.6080,  27.1577
  49NZ20090410,   P21,   138,  1,     25, X12025,2,20090514,0208,-16.7475,-138.6655, 2972,    800.2,2,   5.1938,2,   5.19389,2,  34.4700,2,  34.4703,2,   125.59,2,   125.69,2,    47.47,2,     0.22,    35.85,2,     0.13,     0.00,2,     0.01,    2.519,2,    0.016,    0.072,2,    0.043,2,    0.000,2,   -999.0,9,   -999.0,9,-999.0000,-999,9,  -999.00,9,  -999.00,   -999.0,9,   -999.0,   5.1271,  27.2403
  49NZ20090410,   P21,   138,  1,     24, X12024,2,20090514,0208,-16.7475,-138.6655, 2972,    900.5,2,   4.7802,2,   4.78015,2,  34.4912,2,  34.4914,2,   118.50,2,   118.70,2,    56.95,2,     0.24,    37.01,2,     0.14,     0.01,2,     0.01,    2.601,2,    0.016,    0.031,2,    0.018,2,    0.000,2,   -999.0,9,   -999.0,9,-999.0000,-999,9,  -999.00,9,  -999.00,   -999.0,9,   -999.0,   4.7074,  27.3052
  49NZ20090410,   P21,   138,  1,     23, X12028,2,20090514,0208,-16.7475,-138.6655, 2972,   1001.4,2,   4.2588,2,   4.26048,2,  34.5004,2,  34.5002,6,   129.57,2,   129.82,2,    64.64,2,     0.26,    36.45,2,     0.13,     0.01,2,     0.01,    2.569,2,    0.016,    0.027,2,    0.015,2,    0.000,2,   -999.0,9,   -999.0,9,-999.0000,-999,9,  -999.00,9,  -999.00,   -999.0,9,   -999.0,   4.1810,  27.3698
  49NZ20090410,   P21,   138,  1,     22, X12022,2,20090514,0208,-16.7475,-138.6655, 2972,   1199.1,2,   3.5234,2,   3.52130,2,  34.5371,2,  34.5371,2,   131.75,2,   132.49,2,    80.01,2,     0.30,    36.71,2,     0.14,     0.01,2,     0.01,    2.601,2,    0.016,    0.008,2,    0.006,2,    0.000,2,   -999.0,9,   -999.0,9,-999.0000,-999,9,  -999.00,9,  -999.00,   -999.0,9,   -999.0,   3.4352,  27.4746
  49NZ20090410,   P21,   138,  1,     21, X12021,2,20090514,0208,-16.7475,-138.6655, 2972,   1400.5,2,   2.9377,2,   2.93728,2,  34.5665,2,  34.5663,2,   142.46,2,   142.87,2,    90.82,2,     0.32,    36.26,2,     0.13,     0.01,2,     0.01,    2.559,2,    0.016,    0.002,2,    0.002,2,    0.000,2,   -999.0,9,   -999.0,9,-999.0000,-999,9,  -999.00,9,  -999.00,   -999.0,9,   -999.0,   2.8388,  27.5536
  49NZ20090410,   P21,   138,  1,     20, X12020,2,20090514,0208,-16.7475,-138.6655, 2972,   1599.5,2,   2.5346,2,   2.53500,2,  34.5960,2,  34.5962,6,   147.15,2,   147.60,2,   100.40,2,     0.34,    36.09,2,     0.13,     0.00,2,     0.01,    2.538,2,    0.016,    0.000,2,    0.001,2,    0.000,2,   -999.0,9,   -999.0,9,-999.0000,-999,9,  -999.00,9,  -999.00,   -999.0,9,   -999.0,   2.4240,  27.6133
  49NZ20090410,   P21,   138,  1,     19, X12019,2,20090514,0208,-16.7475,-138.6655, 2972,   1799.9,2,   2.2425,2,   2.24284,2,  34.6207,2,  34.6210,2,   150.35,2,   150.70,2,   107.72,2,     0.36,    35.86,2,     0.13,     0.01,2,     0.01,    2.530,2,    0.016,    0.000,2,    0.000,2,    0.000,2,   -999.0,9,   -999.0,9,-999.0000,-999,9,  -999.00,9,  -999.00,   -999.0,9,   -999.0,   2.1192,  27.6582
  49NZ20090410,   P21,   138,  1,     18, X12043,2,20090514,0208,-16.7475,-138.6655, 2972,   1998.1,2,   2.0636,2,   2.06332,2,  34.6389,2,  34.6387,2,   151.49,2,   151.89,2,   113.22,2,     0.37,    35.93,2,     0.13,     0.01,2,     0.01,    2.526,2,    0.016,    0.000,2,    0.000,2,    0.000,2,   -999.0,9,   -999.0,9,-999.0000,-999,9,  -999.00,9,  -999.00,   -999.0,9,   -999.0,   1.9263,  27.6882
  49NZ20090410,   P21,   138,  1,     17, X12042,2,20090514,0208,-16.7475,-138.6655, 2972,   2200.0,2,   1.9727,2,   1.97212,2,  34.6483,2,  34.6483,6,   152.99,2,   153.28,2,   115.83,2,     0.37,    35.78,2,     0.13,     0.01,2,     0.01,    2.517,2,    0.016,    0.000,2,    0.000,2,    0.000,2,   -999.0,9,   -999.0,9,-999.0000,-999,9,  -999.00,9,  -999.00,   -999.0,9,   -999.0,   1.8196,  27.7040
  49NZ20090410,   P21,   138,  1,     16, X12016,2,20090514,0208,-16.7475,-138.6655, 2972,   2400.2,2,   1.9036,2,   1.90349,2,  34.6566,2,  34.6588,4,   153.29,2,   153.48,2,   119.15,2,     0.38,    35.77,2,     0.13,     0.01,2,     0.01,    2.514,2,    0.016,    0.000,2,    0.000,2,    0.000,2,   -999.0,9,   -999.0,9,-999.0000,-999,9,  -999.00,9,  -999.00,   -999.0,9,   -999.0,   1.7341,  27.7172
  49NZ20090410,   P21,   138,  1,     15, X12015,2,20090514,0208,-16.7475,-138.6655, 2972,   2601.1,2,   1.8191,2,   1.81919,2,  34.6655,2,  34.6655,2,   154.47,2,   154.72,2,   122.27,2,     0.39,    35.72,2,     0.13,     0.01,2,     0.01,    2.508,2,    0.016,    0.000,2,    0.001,2,    0.000,2,   -999.0,9,   -999.0,9,-999.0000,-999,9,  -999.00,9,  -999.00,   -999.0,9,   -999.0,   1.6330,  27.7320
  49NZ20090410,   P21,   138,  1,     14, X12050,2,20090514,0208,-16.7475,-138.6655, 2972,   2801.1,2,   1.7440,2,   1.74393,2,  34.6722,2,  34.6720,2,   156.44,2,   156.55,2,   124.66,2,     0.39,    35.71,2,     0.13,     0.01,2,     0.01,    2.500,2,    0.016,    0.000,2,    0.000,2,    0.000,2,   -999.0,9,   -999.0,9,-999.0000,-999,9,  -999.00,9,  -999.00,   -999.0,9,   -999.0,   1.5408,  27.7442
  49NZ20090410,   P21,   138,  1,     13, X12013,9,20090514,0208,-16.7475,-138.6655, 2972,      9.5,2,  27.8827,2,  27.87948,2,  36.3240,2,-999.0000,9,   197.19,2,  -999.00,9,  -999.00,9,  -999.00,  -999.00,9,  -999.00,  -999.00,9,  -999.00, -999.000,9, -999.000, -999.000,9, -999.000,9, -999.000,9,   -999.0,9,   -999.0,9,-999.0000,-999,9,  -999.00,9,  -999.00,   -999.0,9,   -999.0,  27.8805,  23.4299
  49NZ20090410,   P21,   138,  1,     12, X12012,9,20090514,0208,-16.7475,-138.6655, 2972,    199.1,2,  21.5134,2,  21.51598,2,  35.9479,2,-999.0000,9,   183.61,2,  -999.00,9,  -999.00,9,  -999.00,  -999.00,9,  -999.00,  -999.00,9,  -999.00, -999.000,9, -999.000, -999.000,9, -999.000,9, -999.000,9,   -999.0,9,   -999.0,9,-999.0000,-999,9,  -999.00,9,  -999.00,   -999.0,9,   -999.0,  21.4744,  25.0852
  49NZ20090410,   P21,   138,  1,     11, X12041,9,20090514,0208,-16.7475,-138.6655, 2972,   1199.6,2,   3.5384,2,   3.53697,2,  34.5360,2,-999.0000,9,   131.78,2,  -999.00,9,  -999.00,9,  -999.00,  -999.00,9,  -999.00,  -999.00,9,  -999.00, -999.000,9, -999.000, -999.000,9, -999.000,9, -999.000,9,   -999.0,9,   -999.0,9,-999.0000,-999,9,  -999.00,9,  -999.00,   -999.0,9,   -999.0,   3.4500,  27.4723
  49NZ20090410,   P21,   138,  1,     10, X12040,9,20090514,0208,-16.7475,-138.6655, 2972,   1400.8,2,   2.9393,2,   2.93962,2,  34.5663,2,-999.0000,9,   142.48,2,  -999.00,9,  -999.00,9,  -999.00,  -999.00,9,  -999.00,  -999.00,9,  -999.00, -999.000,9, -999.000, -999.000,9, -999.000,9, -999.000,9,   -999.0,9,   -999.0,9,-999.0000,-999,9,  -999.00,9,  -999.00,   -999.0,9,   -999.0,   2.8403,  27.5533
  49NZ20090410,   P21,   138,  1,      9, X12009,9,20090514,0208,-16.7475,-138.6655, 2972,   1599.8,2,   2.5352,2,   2.53594,2,  34.5959,2,-999.0000,9,   147.17,2,  -999.00,9,  -999.00,9,  -999.00,  -999.00,9,  -999.00,  -999.00,9,  -999.00, -999.000,9, -999.000, -999.000,9, -999.000,9, -999.000,9,   -999.0,9,   -999.0,9,-999.0000,-999,9,  -999.00,9,  -999.00,   -999.0,9,   -999.0,   2.4246,  27.6132
  49NZ20090410,   P21,   138,  1,      8, X12008,9,20090514,0208,-16.7475,-138.6655, 2972,   1799.6,2,   2.2430,2,   2.24339,2,  34.6205,2,-999.0000,9,   150.38,2,  -999.00,9,  -999.00,9,  -999.00,  -999.00,9,  -999.00,  -999.00,9,  -999.00, -999.000,9, -999.000, -999.000,9, -999.000,9, -999.000,9,   -999.0,9,   -999.0,9,-999.0000,-999,9,  -999.00,9,  -999.00,   -999.0,9,   -999.0,   2.1197,  27.6581
  49NZ20090410,   P21,   138,  1,      7, X12007,9,20090514,0208,-16.7475,-138.6655, 2972,   1998.8,2,   2.0675,2,   2.06759,2,  34.6385,2,-999.0000,9,   151.45,2,  -999.00,9,  -999.00,9,  -999.00,  -999.00,9,  -999.00,  -999.00,9,  -999.00, -999.000,9, -999.000, -999.000,9, -999.000,9, -999.000,9,   -999.0,9,   -999.0,9,-999.0000,-999,9,  -999.00,9,  -999.00,   -999.0,9,   -999.0,   1.9301,  27.6875
  49NZ20090410,   P21,   138,  1,      6, X12035,9,20090514,0208,-16.7475,-138.6655, 2972,   2200.2,2,   1.9747,2,   1.97423,2,  34.6481,2,-999.0000,9,   152.98,2,  -999.00,9,  -999.00,9,  -999.00,  -999.00,9,  -999.00,  -999.00,9,  -999.00, -999.000,9, -999.000, -999.000,9, -999.000,9, -999.000,9,   -999.0,9,   -999.0,9,-999.0000,-999,9,  -999.00,9,  -999.00,   -999.0,9,   -999.0,   1.8215,  27.7037
  49NZ20090410,   P21,   138,  1,      5, X12038,9,20090514,0208,-16.7475,-138.6655, 2972,   2401.4,2,   1.9011,2,   1.90131,2,  34.6569,2,-999.0000,9,   153.27,2,  -999.00,9,  -999.00,9,  -999.00,  -999.00,9,  -999.00,  -999.00,9,  -999.00, -999.000,9, -999.000, -999.000,9, -999.000,9, -999.000,9,   -999.0,9,   -999.0,9,-999.0000,-999,9,  -999.00,9,  -999.00,   -999.0,9,   -999.0,   1.7315,  27.7176
  49NZ20090410,   P21,   138,  1,      4, X12034,9,20090514,0208,-16.7475,-138.6655, 2972,   2600.6,2,   1.8200,2,   1.81995,2,  34.6655,2,-999.0000,9,   154.46,2,  -999.00,9,  -999.00,9,  -999.00,  -999.00,9,  -999.00,  -999.00,9,  -999.00, -999.000,9, -999.000, -999.000,9, -999.000,9, -999.000,9,   -999.0,9,   -999.0,9,-999.0000,-999,9,  -999.00,9,  -999.00,   -999.0,9,   -999.0,   1.6339,  27.7318
  49NZ20090410,   P21,   138,  1,      3, X12033,9,20090514,0208,-16.7475,-138.6655, 2972,   2800.7,2,   1.7439,2,   1.74392,2,  34.6723,2,-999.0000,9,   156.40,2,  -999.00,9,  -999.00,9,  -999.00,  -999.00,9,  -999.00,  -999.00,9,  -999.00, -999.000,9, -999.000, -999.000,9, -999.000,9, -999.000,9,   -999.0,9,   -999.0,9,-999.0000,-999,9,  -999.00,9,  -999.00,   -999.0,9,   -999.0,   1.5407,  27.7442
  49NZ20090410,   P21,   138,  1,      2, X12032,9,20090514,0208,-16.7475,-138.6655, 2972,    900.4,2,   4.7807,2,   4.78061,2,  34.4912,2,-999.0000,9,   118.53,2,  -999.00,9,  -999.00,9,  -999.00,  -999.00,9,  -999.00,  -999.00,9,  -999.00, -999.000,9, -999.000, -999.000,9, -999.000,9, -999.000,9,   -999.0,9,   -999.0,9,-999.0000,-999,9,  -999.00,9,  -999.00,   -999.0,9,   -999.0,   4.7079,  27.3051
  49NZ20090410,   P21,   138,  1,      1, X12046,2,20090514,0208,-16.7475,-138.6655, 2972,   2993.4,2,   1.6965,2,   1.69647,2,  34.6769,2,  34.6765,6,   157.30,2,   157.50,2,   127.11,2,     0.40,    35.60,2,     0.13,     0.01,2,     0.01,    2.497,2,    0.016,    0.000,2,    0.000,2,    0.000,2,   -999.0,9,   -999.0,9,-999.0000,-999,9,  -999.00,9,  -999.00,   -999.0,9,   -999.0,   1.4760,  27.7526