BOTTLE,20220818CCHSIOAMB
EXPOCODE,SECT_ID,STNNBR,CASTNO,SAMPNO,BTLNBR,BTLNBR_FLAG_W,DATE,TIME,LATITUDE,LONGITUDE,DEPTH,CTDPRS,CTDPRS_FLAG_W,CTDTMP,CTDTMP_FLAG_W,SBE35,SBE35_FLAG_W,CTDSAL,CTDSAL_FLAG_W,SALNTY,SALNTY_FLAG_W,CTDOXY,CTDOXY_FLAG_W,OXYGEN,OXYGEN_FLAG_W,SILCAT,SILCAT_FLAG_W,SILUNC,NITRAT,NITRAT_FLAG_W,NRAUNC,NITRIT,NITRIT_FLAG_W,NRIUNC,PHSPHT,PHSPHT_FLAG_W,PHPUNC,CFC-11,CFC-11_FLAG_W,CFC-12,CFC-12_FLAG_W,CFC113,CFC113_FLAG_W,TCARBN,TCARBN_FLAG_W,ALKALI,ALKALI_FLAG_W,PH_TOT,PH_TMP,PH_TOT_FLAG_W,DELC13,DELC13_FLAG_W,C13ERR,DELC14,DELC14_FLAG_W,C14ERR,THETA,SIG0
,,,,,,,,,,,METERS,DBAR,,ITS-90,,ITS-90,,PSS-78,,PSS-78,,UMOL/KG,,UMOL/KG,,UMOL/KG,,UMOL/KG,UMOL/KG,,UMOL/KG,UMOL/KG,,UMOL/KG,UMOL/KG,,UMOL/KG,PMOL/KG,,PMOL/KG,,PMOL/KG,,UMOL/KG,,UMOL/KG,,,DEG C,,/MILLE,,/MILLE,/MILLE,,/MILLE,DEG C,KG/M^3
  49NZ20090410,   P21,   110,  1,     36, X12006,2,20090507,1140,-16.7517,-120.0028, 3747,      9.7,2,  26.5141,2,  26.51403,2,  36.2942,2,  36.2978,2,   202.94,2,   202.86,2,     0.68,2,     0.12,     0.87,2,     0.04,     0.03,2,     0.01,    0.346,2,    0.014,    1.493,2,    0.990,2,    0.146,2,   2043.1,2,   2396.1,2,   8.1064,  25,6,  -999.00,9,  -999.00,   -999.0,9,   -999.0,  26.5119,  23.8487
  49NZ20090410,   P21,   110,  1,     35, X12047,2,20090507,1140,-16.7517,-120.0028, 3747,     49.9,2,  26.4877,2,  26.48752,2,  36.4431,2,  36.4475,2,   202.72,2,   203.32,2,     0.65,2,     0.12,     0.68,2,     0.03,     0.03,2,     0.01,    0.334,2,    0.014,    1.503,2,    0.988,2, -999.000,5,   2051.9,6,   2405.0,2,   8.1032,  25,2,  -999.00,9,  -999.00,   -999.0,9,   -999.0,  26.4764,  23.9723
  49NZ20090410,   P21,   110,  1,     34, X12004,2,20090507,1140,-16.7517,-120.0028, 3747,    100.7,2,  23.0546,2,  23.05433,2,  36.3595,2,  36.3588,2,   208.19,2,   208.04,2,     0.49,2,     0.12,     0.13,2,     0.03,     0.23,2,     0.01,    0.279,2,    0.014,    1.784,6,    1.150,6, -999.000,5,   2080.3,2,   2395.0,6,   8.0448,  25,2,  -999.00,9,  -999.00,   -999.0,9,   -999.0,  23.0339,  24.9553
  49NZ20090410,   P21,   110,  1,     33, X12003,2,20090507,1140,-16.7517,-120.0028, 3747,    150.4,2,  22.1080,2,  22.10433,2,  36.2288,2,  36.2290,2,   203.07,2,   203.04,2,     0.44,2,     0.12,     0.21,2,     0.03,     0.68,2,     0.00,    0.297,2,    0.014,    1.853,2,    1.190,2, -999.000,5,   2086.4,2,   2385.1,2,   8.0231,  25,6,  -999.00,9,  -999.00,   -999.0,9,   -999.0,  22.0780,  25.1299
  49NZ20090410,   P21,   110,  1,     32, X12002,2,20090507,1140,-16.7517,-120.0028, 3747,    198.9,2,  20.2001,2,  20.20416,2,  35.8118,2,  35.8069,2,   199.85,2,   200.45,2,     0.45,2,     0.12,     1.64,2,     0.04,     0.07,2,     0.01,    0.362,2,    0.014,    2.063,2,    1.310,2,    0.174,4,   2085.9,2,   2356.9,2,   7.9868,  25,2,  -999.00,9,  -999.00,   -999.0,9,   -999.0,  20.1629,  25.3378
  49NZ20090410,   P21,   110,  1,     31, X12001,2,20090507,1140,-16.7517,-120.0028, 3747,    250.2,2,  18.0243,2,  18.03611,2,  35.3905,2,  35.4080,6,   194.58,2,   194.98,2,     0.63,2,     0.12,     3.57,2,     0.04,     0.02,2,     0.01,    0.469,2,    0.013,    2.258,2,    1.401,2,    0.063,2,   2085.7,2,   2331.5,2,   7.9452,  25,2,  -999.00,9,  -999.00,   -999.0,9,   -999.0,  17.9811,  25.5759
  49NZ20090410,   P21,   110,  1,     30, X12030,2,20090507,1140,-16.7517,-120.0028, 3747,    330.6,2,  11.1145,2,  11.11483,2,  34.5054,2,  34.5061,2,   137.20,2,   136.96,2,     8.12,2,     0.14,    19.04,2,     0.09,     0.02,2,     0.01,    1.634,2,    0.014,    2.373,2,    1.192,2,    0.030,2,   2162.2,2,   2279.2,2,   7.6744,  25,2,  -999.00,9,  -999.00,   -999.0,9,   -999.0,  11.0734,  26.3770
  49NZ20090410,   P21,   110,  1,     29, X12044,2,20090507,1140,-16.7517,-120.0028, 3747,    430.4,2,   8.0992,2,   8.10257,2,  34.4526,2,  34.4528,2,    97.61,2,    97.54,2,    18.07,2,     0.16,    31.32,2,     0.12,     0.02,2,     0.01,    2.360,2,    0.016,    0.805,2,    0.419,2,    0.021,2,   2221.8,2,   2283.1,2,   7.5179,  25,2,  -999.00,9,  -999.00,   -999.0,9,   -999.0,   8.0550,  26.8357
  49NZ20090410,   P21,   110,  1,     28, X12048,2,20090507,1140,-16.7517,-120.0028, 3747,    531.2,2,   6.6331,2,   6.63221,2,  34.4404,2,  34.4404,6,   113.16,2,   112.80,2,    25.45,2,     0.17,    34.41,2,     0.13,     0.01,2,     0.01,    2.430,2,    0.016,    0.261,2,    0.134,2,    0.013,2,   2224.6,2,   2291.7,2,   7.5325,  25,2,  -999.00,9,  -999.00,   -999.0,9,   -999.0,   6.5841,  27.0344
  49NZ20090410,   P21,   110,  1,     27, X12027,2,20090507,1140,-16.7517,-120.0028, 3747,    629.7,2,   5.9910,2,   5.99056,2,  34.4671,2,  34.4663,2,   100.75,2,   100.92,2,    36.38,2,     0.20,    36.92,2,     0.14,     0.02,2,     0.01,    2.580,2,    0.016,    0.052,6,    0.028,6,    0.000,6,   2242.4,2,   2304.0,2,   7.5119,  25,2,  -999.00,9,  -999.00,   -999.0,9,   -999.0,   5.9355,  27.1397
  49NZ20090410,   P21,   110,  1,     26, X12026,2,20090507,1140,-16.7517,-120.0028, 3747,    732.2,2,   5.4747,2,   5.47519,2,  34.4951,2,  34.4927,2,    80.55,2,    82.65,2,    48.99,2,     0.23,    39.72,2,     0.14,     0.01,2,     0.01,    2.796,2,    0.017,    0.007,2,    0.005,2,    0.000,2,   2268.5,6,   2316.6,2,   7.4761,  25,2,  -999.00,9,  -999.00,   -999.0,9,   -999.0,   5.4125,  27.2263
  49NZ20090410,   P21,   110,  1,     25, X12025,2,20090507,1140,-16.7517,-120.0028, 3747,    831.8,2,   5.0271,2,   5.02635,2,  34.5039,2,  34.5036,2,    77.37,2,    77.43,2,    58.15,2,     0.25,    40.87,2,     0.15,     0.01,2,     0.01,    2.881,2,    0.017,    0.000,2,    0.002,2,    0.000,2,   2282.9,2,   2326.0,6,   7.4622,  25,2,  -999.00,9,  -999.00,   -999.0,9,   -999.0,   4.9586,  27.2867
  49NZ20090410,   P21,   110,  1,     24, X12024,2,20090507,1140,-16.7517,-120.0028, 3747,    929.8,2,   4.6443,2,   4.64436,2,  34.5100,2,  34.5098,2,    86.11,2,    86.12,2,    64.29,2,     0.26,    40.33,2,     0.15,     0.01,2,     0.01,    2.857,2,    0.017,    0.003,2,    0.003,2,    0.000,2,   2284.3,2,   2333.6,2,   7.4759,  25,6,  -999.00,9,  -999.00,   -999.0,9,   -999.0,   4.5698,  27.3354
  49NZ20090410,   P21,   110,  1,     23, X12028,2,20090507,1140,-16.7517,-120.0028, 3747,   1070.9,2,   4.1635,2,   4.16229,2,  34.5251,2,  34.5248,6,    93.24,2,    92.77,2,    73.83,2,     0.28,    40.04,2,     0.14,     0.01,2,     0.01,    2.843,2,    0.017,    0.001,2,    0.002,2,    0.000,2,   2292.1,2,   2343.5,2,   7.4864,  25,2,  -999.00,9,  -999.00,   -999.0,9,   -999.0,   4.0805,  27.4000
  49NZ20090410,   P21,   110,  1,     22, X12022,2,20090507,1140,-16.7517,-120.0028, 3747,   1271.3,2,   3.5282,2,   3.52814,2,  34.5569,2,  34.5572,2,    94.86,2,    94.93,2,    89.77,2,     0.32,    40.13,2,     0.15,     0.01,2,     0.01,    2.871,2,    0.017,    0.001,2,    0.000,2,    0.000,2,   2309.0,2,   2362.2,2,   7.4874,  25,2,  -999.00,9,  -999.00,   -999.0,9,   -999.0,   3.4339,  27.4905
  49NZ20090410,   P21,   110,  1,     21, X12021,2,20090507,1140,-16.7517,-120.0028, 3747,   1470.9,2,   3.0606,2,   3.06131,2,  34.5798,2,  34.5793,2,   107.42,2,   107.20,2,    99.33,2,     0.34,    39.19,2,     0.14,     0.01,2,     0.01,    2.795,2,    0.017,    0.001,2,    0.000,2,    0.000,2,   2313.0,2,   2372.3,2,   7.5084,  25,2,  -999.00,9,  -999.00,   -999.0,9,   -999.0,   2.9545,  27.5538
  49NZ20090410,   P21,   110,  1,     20, X12020,2,20090507,1140,-16.7517,-120.0028, 3747,   1670.8,2,   2.6732,2,   2.67318,2,  34.6026,2,  34.6025,2,   117.56,2,   117.55,2,   106.99,2,     0.35,    38.26,2,     0.14,     0.01,2,     0.01,    2.722,2,    0.017,    0.000,2,    0.000,2,    0.000,2,   2317.3,2,   2382.3,2,   7.5256,  25,2,  -999.00,9,  -999.00,   -999.0,9,   -999.0,   2.5550,  27.6074
  49NZ20090410,   P21,   110,  1,     19, X12019,2,20090507,1140,-16.7517,-120.0028, 3747,   1871.5,2,   2.2554,2,   2.25525,2,  34.6293,2,  34.6291,6,   136.35,2,   136.32,2,   112.11,2,     0.37,    36.93,2,     0.14,     0.01,2,     0.01,    2.603,2,    0.016,    0.000,2,    0.000,2,    0.000,2,   2310.4,2,   2388.5,2,   7.5569,  25,2,  -999.00,9,  -999.00,   -999.0,9,   -999.0,   2.1260,  27.6646
  49NZ20090410,   P21,   110,  1,     18, X12043,2,20090507,1140,-16.7517,-120.0028, 3747,   2070.3,2,   2.0030,2,   2.00322,2,  34.6495,2,  34.6490,2,   149.61,2,   149.54,2,   114.90,2,     0.37,    35.80,2,     0.13,     0.01,2,     0.01,    2.510,2,    0.016,    0.001,2,    0.001,2,    0.000,2,   2305.2,2,   2391.5,2,   7.5794,  25,2,  -999.00,9,  -999.00,   -999.0,9,   -999.0,   1.8605,  27.7018
  49NZ20090410,   P21,   110,  1,     17, X12042,2,20090507,1140,-16.7517,-120.0028, 3747,   2269.9,2,   1.8938,2,   1.89448,2,  34.6619,2,  34.6615,2,   153.43,2,   153.40,2,   118.33,2,     0.38,    35.49,2,     0.13,     0.02,2,     0.01,    2.482,2,    0.016,    0.000,2,    0.001,2,    0.000,2,   2307.0,2,   2397.4,2,   7.5883,  25,2,  -999.00,9,  -999.00,   -999.0,9,   -999.0,   1.7359,  27.7213
  49NZ20090410,   P21,   110,  1,     16, X12016,2,20090507,1140,-16.7517,-120.0028, 3747,   2471.6,2,   1.8501,2,   1.85022,2,  34.6683,2,  34.6677,2,   154.07,2,   154.05,2,   120.46,2,     0.38,    35.54,2,     0.13,     0.01,2,     0.01,    2.477,2,    0.016,    0.000,2,    0.000,2,    0.000,2,   2310.3,6,   2399.9,2,   7.5916,  25,2,  -999.00,9,  -999.00,   -999.0,9,   -999.0,   1.6751,  27.7310
  49NZ20090410,   P21,   110,  1,     15, X12015,2,20090507,1140,-16.7517,-120.0028, 3747,   2670.2,2,   1.8068,2,   1.80684,2,  34.6718,2,  34.6714,2,   155.86,2,   155.90,2,   122.33,2,     0.39,    35.39,2,     0.13,     0.01,2,     0.01,    2.473,2,    0.016,    0.001,2,    0.000,2,    0.000,2,   2310.3,2,   2403.0,6,   7.5957,  25,2,  -999.00,9,  -999.00,   -999.0,9,   -999.0,   1.6145,  27.7383
  49NZ20090410,   P21,   110,  1,     14, X12050,2,20090507,1140,-16.7517,-120.0028, 3747,   2869.0,2,   1.7611,2,   1.76116,2,  34.6744,2,  34.6739,6,   158.88,2,   158.90,2,   122.69,2,     0.39,    35.24,2,     0.13,     0.01,2,     0.01,    2.460,2,    0.016,    0.000,2,    0.000,2,    0.000,2,   2309.1,2,   2402.7,2,   7.5998,  25,6,  -999.00,9,  -999.00,   -999.0,9,   -999.0,   1.5511,  27.7451
  49NZ20090410,   P21,   110,  1,     13, X12013,7,20090507,1140,-16.7517,-120.0028, 3747,   3080.4,2,   1.7405,2,   1.74058,2,  34.6764,2,  34.6768,2,   160.16,2,   160.32,2,   123.38,2,     0.39,    35.09,2,     0.13,     0.01,2,     0.01,    2.458,2,    0.016,    0.000,2,    0.000,2,    0.000,2,   2308.8,2,   2403.5,2,   7.6025,  25,2,  -999.00,9,  -999.00,   -999.0,9,   -999.0,   1.5106,  27.7497
  49NZ20090410,   P21,   110,  1,     12, X12012,2,20090507,1140,-16.7517,-120.0028, 3747,   3332.2,2,   1.7144,2,   1.71446,2,  34.6793,2,  34.6786,2,   160.73,2,   160.91,2,   125.15,2,     0.39,    35.20,2,     0.13,     0.01,2,     0.01,    2.462,2,    0.016,    0.000,2,    0.000,2,    0.000,2,   2310.8,2,   2406.8,2,   7.6050,  25,2,  -999.00,9,  -999.00,   -999.0,9,   -999.0,   1.4600,  27.7557
  49NZ20090410,   P21,   110,  1,     11, X12041,2,20090507,1140,-16.7517,-120.0028, 3747,   3579.4,2,   1.7122,2,   1.71214,2,  34.6806,2,  34.6800,2,   161.14,2,   161.31,2,   125.94,2,     0.40,    35.15,2,     0.13,     0.01,2,     0.01,    2.466,2,    0.016,    0.000,2,    0.000,2,    0.000,2,   2311.7,2,   2408.3,2,   7.6063,  25,2,  -999.00,9,  -999.00,   -999.0,9,   -999.0,   1.4325,  27.7588
  49NZ20090410,   P21,   110,  1,     10, X12040,9,20090507,1140,-16.7517,-120.0028, 3747,   2669.8,2,   1.8068,2,   1.80675,2,  34.6718,2,-999.0000,9,   155.86,2,  -999.00,9,  -999.00,9,  -999.00,  -999.00,9,  -999.00,  -999.00,9,  -999.00, -999.000,9, -999.000, -999.000,9, -999.000,9, -999.000,9,   -999.0,9,   -999.0,9,-999.0000,-999,9,  -999.00,9,  -999.00,   -999.0,9,   -999.0,   1.6146,  27.7383
  49NZ20090410,   P21,   110,  1,      9, X12009,9,20090507,1140,-16.7517,-120.0028, 3747,   3079.5,2,   1.7405,2,   1.74055,2,  34.6764,2,-999.0000,9,   160.16,2,  -999.00,9,  -999.00,9,  -999.00,  -999.00,9,  -999.00,  -999.00,9,  -999.00, -999.000,9, -999.000, -999.000,9, -999.000,9, -999.000,9,   -999.0,9,   -999.0,9,-999.0000,-999,9,  -999.00,9,  -999.00,   -999.0,9,   -999.0,   1.5107,  27.7497
  49NZ20090410,   P21,   110,  1,      8, X12008,9,20090507,1140,-16.7517,-120.0028, 3747,    928.1,2,   4.6465,2,   4.64500,2,  34.5101,2,-999.0000,9,    86.13,2,  -999.00,9,  -999.00,9,  -999.00,  -999.00,9,  -999.00,  -999.00,9,  -999.00, -999.000,9, -999.000, -999.000,9, -999.000,9, -999.000,9,   -999.0,9,   -999.0,9,-999.0000,-999,9,  -999.00,9,  -999.00,   -999.0,9,   -999.0,   4.5722,  27.3352
  49NZ20090410,   P21,   110,  1,      7, X12007,2,20090507,1140,-16.7517,-120.0028, 3747,      9.9,2,  26.5149,2,  26.51467,2,  36.2944,2,-999.0000,9,   203.05,2,  -999.00,9,     0.70,2,     0.12,     0.86,2,     0.04,     0.03,2,     0.01,    0.344,2,    0.014, -999.000,9, -999.000,9, -999.000,9,   -999.0,9,   -999.0,9,-999.0000,-999,9,  -999.00,9,  -999.00,   -999.0,9,   -999.0,  26.5127,  23.8486
  49NZ20090410,   P21,   110,  1,      6, X12035,2,20090507,1140,-16.7517,-120.0028, 3747,     50.2,2,  26.4803,2,  26.48320,2,  36.4439,2,-999.0000,9,   202.91,2,  -999.00,9,     0.67,2,     0.12,     0.61,2,     0.03,     0.02,2,     0.01,    0.326,2,    0.014, -999.000,9, -999.000,9, -999.000,9,   -999.0,9,   -999.0,9,-999.0000,-999,9,  -999.00,9,  -999.00,   -999.0,9,   -999.0,  26.4689,  23.9753
  49NZ20090410,   P21,   110,  1,      5, X12038,2,20090507,1140,-16.7517,-120.0028, 3747,    100.7,2,  23.0553,2,  23.05461,2,  36.3598,2,-999.0000,9,   208.15,2,  -999.00,9,     0.53,2,     0.12,     0.17,2,     0.03,     0.25,2,     0.01,    0.283,2,    0.014, -999.000,9, -999.000,9, -999.000,9,   -999.0,9,   -999.0,9,-999.0000,-999,9,  -999.00,9,  -999.00,   -999.0,9,   -999.0,  23.0346,  24.9553
  49NZ20090410,   P21,   110,  1,      4, X12034,2,20090507,1140,-16.7517,-120.0028, 3747,    150.3,2,  22.1020,2,  22.09016,2,  36.2286,2,-999.0000,9,   202.96,2,  -999.00,9,     0.51,2,     0.12,     0.29,2,     0.03,     0.68,2,     0.00,    0.299,2,    0.014, -999.000,9, -999.000,9, -999.000,9,   -999.0,9,   -999.0,9,-999.0000,-999,9,  -999.00,9,  -999.00,   -999.0,9,   -999.0,  22.0720,  25.1314
  49NZ20090410,   P21,   110,  1,      3, X12033,2,20090507,1140,-16.7517,-120.0028, 3747,    198.8,2,  20.1973,2,  20.19827,2,  35.8101,2,-999.0000,9,   200.09,2,  -999.00,9,     0.61,2,     0.12,     1.77,2,     0.04,     0.06,2,     0.01,    0.365,2,    0.014, -999.000,9, -999.000,9, -999.000,9,   -999.0,9,   -999.0,9,-999.0000,-999,9,  -999.00,9,  -999.00,   -999.0,9,   -999.0,  20.1601,  25.3373
  49NZ20090410,   P21,   110,  1,      2, X12032,2,20090507,1140,-16.7517,-120.0028, 3747,    249.7,2,  18.0527,2,  18.05522,2,  35.3930,2,-999.0000,9,   194.78,2,  -999.00,9,     0.95,2,     0.12,     3.77,2,     0.04,     0.02,2,     0.01,    0.486,2,    0.013, -999.000,9, -999.000,9, -999.000,9,   -999.0,9,   -999.0,9,-999.0000,-999,9,  -999.00,9,  -999.00,   -999.0,9,   -999.0,  18.0096,  25.5708
  49NZ20090410,   P21,   110,  1,      1, X12046,2,20090507,1140,-16.7517,-120.0028, 3747,   3784.4,2,   1.7276,2,   1.72755,2,  34.6809,2,  34.6804,6,   161.30,2,   161.20,2,   126.10,2,     0.40,    35.14,2,     0.13,     0.01,2,     0.01,    2.463,2,    0.016,    0.000,2,    0.000,2,    0.000,2,   2311.8,2,   2409.1,2,   7.6066,  25,2,  -999.00,9,  -999.00,   -999.0,9,   -999.0,   1.4258,  27.7595