BOTTLE,20220818CCHSIOAMB
EXPOCODE,SECT_ID,STNNBR,CASTNO,SAMPNO,BTLNBR,BTLNBR_FLAG_W,DATE,TIME,LATITUDE,LONGITUDE,DEPTH,CTDPRS,CTDPRS_FLAG_W,CTDTMP,CTDTMP_FLAG_W,SBE35,SBE35_FLAG_W,CTDSAL,CTDSAL_FLAG_W,SALNTY,SALNTY_FLAG_W,CTDOXY,CTDOXY_FLAG_W,OXYGEN,OXYGEN_FLAG_W,SILCAT,SILCAT_FLAG_W,SILUNC,NITRAT,NITRAT_FLAG_W,NRAUNC,NITRIT,NITRIT_FLAG_W,NRIUNC,PHSPHT,PHSPHT_FLAG_W,PHPUNC,CFC-11,CFC-11_FLAG_W,CFC-12,CFC-12_FLAG_W,CFC113,CFC113_FLAG_W,TCARBN,TCARBN_FLAG_W,ALKALI,ALKALI_FLAG_W,PH_TOT,PH_TMP,PH_TOT_FLAG_W,DELC13,DELC13_FLAG_W,C13ERR,DELC14,DELC14_FLAG_W,C14ERR,THETA,SIG0
,,,,,,,,,,,METERS,DBAR,,ITS-90,,ITS-90,,PSS-78,,PSS-78,,UMOL/KG,,UMOL/KG,,UMOL/KG,,UMOL/KG,UMOL/KG,,UMOL/KG,UMOL/KG,,UMOL/KG,UMOL/KG,,UMOL/KG,PMOL/KG,,PMOL/KG,,PMOL/KG,,UMOL/KG,,UMOL/KG,,,DEG C,,/MILLE,,/MILLE,/MILLE,,/MILLE,DEG C,KG/M^3
  49NZ20090410,   P21,   117,  1,     36, X12006,2,20090509,0027,-16.7503,-124.6678, 3780,      9.0,2,  26.7344,2,  26.73377,2,  36.4967,2,  36.4963,2,   202.88,2,   202.56,2,     0.91,2,     0.12,     0.24,2,     0.03,     0.02,2,     0.01,    0.305,2,    0.014,    1.519,2,    1.000,2,    0.151,4,   -999.0,9,   -999.0,9,-999.0000,-999,9,  -999.00,9,  -999.00,   -999.0,9,   -999.0,  26.7323,  23.9313
  49NZ20090410,   P21,   117,  1,     35, X12047,2,20090509,0027,-16.7503,-124.6678, 3780,     50.6,2,  26.5844,2,  26.58354,2,  36.4924,2,  36.4931,2,   202.94,2,   203.19,2,     0.88,2,     0.12,     0.24,2,     0.03,     0.02,2,     0.01,    0.303,2,    0.014,    1.515,2,    0.993,2,    0.159,4,   -999.0,9,   -999.0,9,-999.0000,-999,9,  -999.00,9,  -999.00,   -999.0,9,   -999.0,  26.5729,  23.9789
  49NZ20090410,   P21,   117,  1,     34, X12004,2,20090509,0027,-16.7503,-124.6678, 3780,    100.4,2,  23.2748,2,  23.27375,2,  36.3741,2,  36.3738,2,   210.09,2,   209.93,2,     0.58,2,     0.12,     0.08,2,     0.03,     0.05,2,     0.01,    0.253,2,    0.015,    1.784,6,    1.147,6, -999.000,5,   -999.0,9,   -999.0,9,-999.0000,-999,9,  -999.00,9,  -999.00,   -999.0,9,   -999.0,  23.2540,  24.9023
  49NZ20090410,   P21,   117,  1,     33, X12003,2,20090509,0027,-16.7503,-124.6678, 3780,    149.6,2,  22.3492,2,  22.34210,2,  36.2492,2,  36.2270,2,   199.44,2,   199.42,2,     0.61,2,     0.12,     0.38,2,     0.03,     0.75,2,     0.00,    0.321,2,    0.014,    1.859,2,    1.182,2, -999.000,5,   -999.0,9,   -999.0,9,-999.0000,-999,9,  -999.00,9,  -999.00,   -999.0,9,   -999.0,  22.3191,  25.0770
  49NZ20090410,   P21,   117,  1,     32, X12002,2,20090509,0027,-16.7503,-124.6678, 3780,    201.9,2,  20.5025,2,  20.50547,2,  35.8667,2,  35.8666,2,   196.99,2,   197.04,2,     0.57,2,     0.12,     1.56,2,     0.04,     0.04,2,     0.01,    0.341,2,    0.014,    2.041,2,    1.273,2,    0.130,2,   -999.0,9,   -999.0,9,-999.0000,-999,9,  -999.00,9,  -999.00,   -999.0,9,   -999.0,  20.4643,  25.2991
  49NZ20090410,   P21,   117,  1,     31, X12001,2,20090509,0027,-16.7503,-124.6678, 3780,    250.7,2,  18.5565,2,  18.56097,2,  35.4849,2,  35.4806,6,   193.35,2,   193.05,2,     0.76,2,     0.12,     3.37,2,     0.04,     0.02,2,     0.01,    0.458,2,    0.013,    2.235,2,    1.369,2,    0.047,2,   -999.0,9,   -999.0,9,-999.0000,-999,9,  -999.00,9,  -999.00,   -999.0,9,   -999.0,  18.5123,  25.5157
  49NZ20090410,   P21,   117,  1,     30, X12030,2,20090509,0027,-16.7503,-124.6678, 3780,    279.4,2,  16.4879,2,  16.48834,2,  35.1310,2,  35.1269,2,   179.91,2,   179.83,2,     1.57,2,     0.12,     7.07,2,     0.05,     0.02,2,     0.01,    0.727,2,    0.013,    2.409,2,    1.430,2,    0.038,2,   -999.0,9,   -999.0,9,-999.0000,-999,9,  -999.00,9,  -999.00,   -999.0,9,   -999.0,  16.4426,  25.7461
  49NZ20090410,   P21,   117,  1,     29, X12044,2,20090509,0027,-16.7503,-124.6678, 3780,    369.9,2,  10.6994,2,  10.70135,2,  34.4924,2,  34.4809,2,   136.97,2,   134.76,2,     9.39,2,     0.14,    21.15,2,     0.09,     0.01,2,     0.01,    1.760,2,    0.015,    2.097,2,    1.110,2,    0.043,2,   -999.0,9,   -999.0,9,-999.0000,-999,9,  -999.00,9,  -999.00,   -999.0,9,   -999.0,  10.6545,  26.4420
  49NZ20090410,   P21,   117,  1,     28, X12048,2,20090509,0027,-16.7503,-124.6678, 3780,    470.7,2,   7.3627,2,   7.36291,2,  34.4207,2,  34.4201,6,   115.17,2,   115.19,2,    18.54,2,     0.16,    32.20,2,     0.12,     0.01,2,     0.01,    2.351,2,    0.016,    0.740,2,    0.383,2,    0.007,2,   -999.0,9,   -999.0,9,-999.0000,-999,9,  -999.00,9,  -999.00,   -999.0,9,   -999.0,   7.3169,  26.9181
  49NZ20090410,   P21,   117,  1,     27, X12027,2,20090509,0027,-16.7503,-124.6678, 3780,    569.2,2,   5.9496,2,   5.94956,2,  34.3656,2,  34.3658,2,   154.91,2,   154.95,2,    21.62,2,     0.17,    32.41,2,     0.12,     0.01,2,     0.01,    2.279,2,    0.016,    0.502,6,    0.267,6,    0.000,6,   -999.0,9,   -999.0,9,-999.0000,-999,9,  -999.00,9,  -999.00,   -999.0,9,   -999.0,   5.8999,  27.0640
  49NZ20090410,   P21,   117,  1,     26, X12026,2,20090509,0027,-16.7503,-124.6678, 3780,    669.3,2,   5.4398,2,   5.44224,2,  34.4248,2,  34.4240,2,   126.29,2,   126.87,2,    36.84,2,     0.20,    35.72,2,     0.13,     0.01,2,     0.01,    2.499,2,    0.016,    0.100,2,    0.058,2,    0.000,2,   -999.0,9,   -999.0,9,-999.0000,-999,9,  -999.00,9,  -999.00,   -999.0,9,   -999.0,   5.3835,  27.1742
  49NZ20090410,   P21,   117,  1,     25, X12025,2,20090509,0027,-16.7503,-124.6678, 3780,    770.2,2,   5.1510,2,   5.15175,2,  34.4833,2,  34.4831,2,    98.02,2,    97.73,2,    51.31,2,     0.23,    38.67,2,     0.14,     0.01,2,     0.01,    2.729,2,    0.017,    0.011,2,    0.008,2,    0.000,2,   -999.0,9,   -999.0,9,-999.0000,-999,9,  -999.00,9,  -999.00,   -999.0,9,   -999.0,   5.0872,  27.2555
  49NZ20090410,   P21,   117,  1,     24, X12024,2,20090509,0027,-16.7503,-124.6678, 3780,    870.7,2,   4.6843,2,   4.68510,2,  34.5027,2,  34.5018,2,    94.31,2,    94.26,2,    61.60,2,     0.25,    39.57,2,     0.14,     0.01,2,     0.01,    2.799,2,    0.017,    0.004,2,    0.004,2,    0.000,2,   -999.0,9,   -999.0,9,-999.0000,-999,9,  -999.00,9,  -999.00,   -999.0,9,   -999.0,   4.6147,  27.3246
  49NZ20090410,   P21,   117,  1,     23, X12028,2,20090509,0027,-16.7503,-124.6678, 3780,    972.0,2,   4.3867,2,   4.38672,2,  34.5148,2,  34.5147,6,    93.24,2,    93.01,2,    68.62,2,     0.27,    39.96,2,     0.14,     0.01,2,     0.01,    2.838,2,    0.017,    0.002,2,    0.001,2,    0.000,2,   -999.0,9,   -999.0,9,-999.0000,-999,9,  -999.00,9,  -999.00,   -999.0,9,   -999.0,   4.3105,  27.3674
  49NZ20090410,   P21,   117,  1,     22, X12022,2,20090509,0027,-16.7503,-124.6678, 3780,   1130.1,2,   3.9036,2,   3.90355,2,  34.5364,2,  34.5369,2,    94.63,2,    94.50,2,    80.08,2,     0.30,    40.18,2,     0.15,     0.01,2,     0.01,    2.858,2,    0.017,    0.000,2,    0.000,2,    0.000,2,   -999.0,9,   -999.0,9,-999.0000,-999,9,  -999.00,9,  -999.00,   -999.0,9,   -999.0,   3.8178,  27.4361
  49NZ20090410,   P21,   117,  1,     21, X12021,2,20090509,0027,-16.7503,-124.6678, 3780,   1330.4,2,   3.3402,2,   3.33980,2,  34.5633,2,  34.5634,2,   104.25,2,   104.15,2,    92.55,2,     0.32,    39.42,2,     0.14,     0.01,2,     0.01,    2.822,2,    0.017,    0.001,2,    0.000,2,    0.000,2,   -999.0,9,   -999.0,9,-999.0000,-999,9,  -999.00,9,  -999.00,   -999.0,9,   -999.0,   3.2428,  27.5139
  49NZ20090410,   P21,   117,  1,     20, X12020,2,20090509,0027,-16.7503,-124.6678, 3780,   1531.3,2,   2.9130,2,   2.91292,2,  34.5870,2,  34.5869,2,   114.86,2,   114.81,2,   101.64,2,     0.34,    38.75,2,     0.14,     0.01,2,     0.01,    2.757,2,    0.017,    0.000,2,    0.000,2,    0.000,2,   -999.0,9,   -999.0,9,-999.0000,-999,9,  -999.00,9,  -999.00,   -999.0,9,   -999.0,   2.8035,  27.5731
  49NZ20090410,   P21,   117,  1,     19, X12019,2,20090509,0027,-16.7503,-124.6678, 3780,   1730.4,2,   2.4992,2,   2.49914,2,  34.6117,2,  34.6119,2,   128.21,2,   128.08,2,   108.69,2,     0.36,    37.66,2,     0.14,     0.01,2,     0.01,    2.670,2,    0.017,    0.000,2,    0.000,2,    0.000,2,   -999.0,9,   -999.0,9,-999.0000,-999,9,  -999.00,9,  -999.00,   -999.0,9,   -999.0,   2.3783,  27.6298
  49NZ20090410,   P21,   117,  1,     18, X12043,2,20090509,0027,-16.7503,-124.6678, 3780,   1929.2,2,   2.1662,2,   2.16573,2,  34.6364,2,  34.6364,6,   140.96,2,   140.70,2,   114.09,2,     0.37,    36.63,2,     0.14,     0.01,2,     0.01,    2.581,2,    0.016,    0.000,2,    0.000,2,    0.000,2,   -999.0,9,   -999.0,9,-999.0000,-999,9,  -999.00,9,  -999.00,   -999.0,9,   -999.0,   2.0332,  27.6778
  49NZ20090410,   P21,   117,  1,     17, X12042,2,20090509,0027,-16.7503,-124.6678, 3780,   2131.0,2,   2.0046,2,   2.00453,2,  34.6505,2,  34.6503,2,   147.60,2,   147.30,2,   116.87,2,     0.38,    36.08,2,     0.13,     0.01,2,     0.01,    2.539,2,    0.016,    0.000,2,    0.000,2,    0.000,2,   -999.0,9,   -999.0,9,-999.0000,-999,9,  -999.00,9,  -999.00,   -999.0,9,   -999.0,   1.8569,  27.7029
  49NZ20090410,   P21,   117,  1,     16, X12016,2,20090509,0027,-16.7503,-124.6678, 3780,   2329.8,2,   1.8900,2,   1.89014,2,  34.6622,2,  34.6615,2,   150.56,2,   150.40,2,   120.41,2,     0.38,    35.77,2,     0.13,     0.01,2,     0.01,    2.507,2,    0.016,    0.000,2,    0.000,2,    0.000,2,   -999.0,9,   -999.0,9,-999.0000,-999,9,  -999.00,9,  -999.00,   -999.0,9,   -999.0,   1.7269,  27.7222
  49NZ20090410,   P21,   117,  1,     15, X12015,2,20090509,0027,-16.7503,-124.6678, 3780,   2529.2,2,   1.8139,2,   1.81396,2,  34.6694,2,  34.6689,2,   152.29,2,   152.23,2,   124.02,2,     0.39,    35.70,2,     0.13,     0.01,2,     0.01,    2.509,2,    0.016,    0.000,2,    0.000,2,    0.000,2,   -999.0,9,   -999.0,9,-999.0000,-999,9,  -999.00,9,  -999.00,   -999.0,9,   -999.0,   1.6344,  27.7350
  49NZ20090410,   P21,   117,  1,     14, X12050,2,20090509,0027,-16.7503,-124.6678, 3780,   2731.5,2,   1.7668,2,   1.76665,2,  34.6732,2,  34.6728,2,   154.35,2,   154.36,2,   125.24,2,     0.39,    35.72,2,     0.13,     0.01,2,     0.01,    2.504,2,    0.016,    0.000,2,    0.000,2,    0.000,2,   -999.0,9,   -999.0,9,-999.0000,-999,9,  -999.00,9,  -999.00,   -999.0,9,   -999.0,   1.5696,  27.7428
  49NZ20090410,   P21,   117,  1,     13, X12013,7,20090509,0027,-16.7503,-124.6678, 3780,   2931.9,2,   1.7136,2,   1.71360,2,  34.6767,2,  34.6766,6,   157.63,2,   157.39,2,   125.63,2,     0.40,    35.46,2,     0.13,     0.01,2,     0.01,    2.484,2,    0.016,    0.001,2,    0.001,2,    0.000,2,   -999.0,9,   -999.0,9,-999.0000,-999,9,  -999.00,9,  -999.00,   -999.0,9,   -999.0,   1.4986,  27.7508
  49NZ20090410,   P21,   117,  1,     12, X12012,2,20090509,0027,-16.7503,-124.6678, 3780,   3170.2,2,   1.6696,2,   1.66961,2,  34.6802,2,  34.6795,2,   160.01,2,   159.87,2,   126.62,2,     0.40,    35.41,2,     0.13,     0.01,2,     0.01,    2.482,2,    0.016,    0.000,2,    0.000,2,    0.000,2,   -999.0,9,   -999.0,9,-999.0000,-999,9,  -999.00,9,  -999.00,   -999.0,9,   -999.0,   1.4325,  27.7584
  49NZ20090410,   P21,   117,  1,     11, X12041,2,20090509,0027,-16.7503,-124.6678, 3780,   3421.9,2,   1.6417,2,   1.64172,2,  34.6827,2,  34.6822,2,   162.44,2,   162.13,2,   126.95,2,     0.40,    35.23,2,     0.13,     0.01,2,     0.01,    2.476,2,    0.016,    0.000,2,    0.000,2,    0.000,2,   -999.0,9,   -999.0,9,-999.0000,-999,9,  -999.00,9,  -999.00,   -999.0,9,   -999.0,   1.3800,  27.7642
  49NZ20090410,   P21,   117,  1,     10, X12040,2,20090509,0027,-16.7503,-124.6678, 3780,   3670.4,2,   1.6501,2,   1.65017,2,  34.6835,2,  34.6834,2,   163.10,2,   162.93,2,   127.12,2,     0.40,    35.29,2,     0.13,     0.01,2,     0.01,    2.473,2,    0.016,    0.000,2,    0.000,2,    0.000,2,   -999.0,9,   -999.0,9,-999.0000,-999,9,  -999.00,9,  -999.00,   -999.0,9,   -999.0,   1.3624,  27.7661
  49NZ20090410,   P21,   117,  1,      9, X12009,9,20090509,0027,-16.7503,-124.6678, 3780,      9.3,2,  26.7303,2,  26.73104,2,  36.4964,2,-999.0000,9,   203.05,2,  -999.00,9,  -999.00,9,  -999.00,  -999.00,9,  -999.00,  -999.00,9,  -999.00, -999.000,9, -999.000, -999.000,9, -999.000,9, -999.000,9,   -999.0,9,   -999.0,9,-999.0000,-999,9,  -999.00,9,  -999.00,   -999.0,9,   -999.0,  26.7282,  23.9324
  49NZ20090410,   P21,   117,  1,      8, X12008,2,20090509,0027,-16.7503,-124.6678, 3780,   1929.8,2,   2.1652,2,   2.16512,2,  34.6364,2,  34.6360,2,   140.94,2,   140.88,2,   113.98,2,     0.37,    36.63,2,     0.14,     0.01,2,     0.01,    2.588,2,    0.016,    0.000,2,    0.001,2,    0.000,2,   -999.0,9,   -999.0,9,-999.0000,-999,9,  -999.00,9,  -999.00,   -999.0,9,   -999.0,   2.0322,  27.6778
  49NZ20090410,   P21,   117,  1,      7, X12007,2,20090509,0027,-16.7503,-124.6678, 3780,   2131.4,2,   2.0041,2,   2.00411,2,  34.6506,2,  34.6502,2,   147.58,2,   147.40,2,   117.00,2,     0.38,    36.13,2,     0.13,     0.01,2,     0.01,    2.545,2,    0.016,    0.000,2,    0.000,2,    0.000,2,   -999.0,9,   -999.0,9,-999.0000,-999,9,  -999.00,9,  -999.00,   -999.0,9,   -999.0,   1.8564,  27.7030
  49NZ20090410,   P21,   117,  1,      6, X12035,9,20090509,0027,-16.7503,-124.6678, 3780,   2330.6,2,   1.8938,2,   1.89381,2,  34.6618,2,-999.0000,9,   150.58,2,  -999.00,9,  -999.00,9,  -999.00,  -999.00,9,  -999.00,  -999.00,9,  -999.00, -999.000,9, -999.000, -999.000,9, -999.000,9, -999.000,9,   -999.0,9,   -999.0,9,-999.0000,-999,9,  -999.00,9,  -999.00,   -999.0,9,   -999.0,   1.7306,  27.7216
  49NZ20090410,   P21,   117,  1,      5, X12038,9,20090509,0027,-16.7503,-124.6678, 3780,   2528.9,2,   1.8134,2,   1.81348,2,  34.6695,2,-999.0000,9,   152.27,2,  -999.00,9,  -999.00,9,  -999.00,  -999.00,9,  -999.00,  -999.00,9,  -999.00, -999.000,9, -999.000, -999.000,9, -999.000,9, -999.000,9,   -999.0,9,   -999.0,9,-999.0000,-999,9,  -999.00,9,  -999.00,   -999.0,9,   -999.0,   1.6339,  27.7351
  49NZ20090410,   P21,   117,  1,      4, X12034,9,20090509,0027,-16.7503,-124.6678, 3780,   2731.2,2,   1.7667,2,   1.76663,2,  34.6733,2,-999.0000,9,   154.37,2,  -999.00,9,  -999.00,9,  -999.00,  -999.00,9,  -999.00,  -999.00,9,  -999.00, -999.000,9, -999.000, -999.000,9, -999.000,9, -999.000,9,   -999.0,9,   -999.0,9,-999.0000,-999,9,  -999.00,9,  -999.00,   -999.0,9,   -999.0,   1.5696,  27.7429
  49NZ20090410,   P21,   117,  1,      3, X12033,9,20090509,0027,-16.7503,-124.6678, 3780,   2931.6,2,   1.7135,2,   1.71350,2,  34.6767,2,-999.0000,9,   157.63,2,  -999.00,9,  -999.00,9,  -999.00,  -999.00,9,  -999.00,  -999.00,9,  -999.00, -999.000,9, -999.000, -999.000,9, -999.000,9, -999.000,9,   -999.0,9,   -999.0,9,-999.0000,-999,9,  -999.00,9,  -999.00,   -999.0,9,   -999.0,   1.4986,  27.7508
  49NZ20090410,   P21,   117,  1,      2, X12032,9,20090509,0027,-16.7503,-124.6678, 3780,    870.9,2,   4.6829,2,   4.68297,2,  34.5028,2,-999.0000,9,    94.37,2,  -999.00,9,  -999.00,9,  -999.00,  -999.00,9,  -999.00,  -999.00,9,  -999.00, -999.000,9, -999.000, -999.000,9, -999.000,9, -999.000,9,   -999.0,9,   -999.0,9,-999.0000,-999,9,  -999.00,9,  -999.00,   -999.0,9,   -999.0,   4.6133,  27.3249
  49NZ20090410,   P21,   117,  1,      1, X12046,2,20090509,0027,-16.7503,-124.6678, 3780,   3821.4,2,   1.6608,2,   1.66075,2,  34.6837,2,  34.6836,6,   163.38,2,   163.00,2,   127.06,2,     0.40,    35.25,2,     0.13,     0.01,2,     0.01,    2.468,2,    0.016,    0.001,2,    0.000,2,    0.000,2,   -999.0,9,   -999.0,9,-999.0000,-999,9,  -999.00,9,  -999.00,   -999.0,9,   -999.0,   1.3568,  27.7666