BOTTLE,20220818CCHSIOAMB
EXPOCODE,SECT_ID,STNNBR,CASTNO,SAMPNO,BTLNBR,BTLNBR_FLAG_W,DATE,TIME,LATITUDE,LONGITUDE,DEPTH,CTDPRS,CTDPRS_FLAG_W,CTDTMP,CTDTMP_FLAG_W,SBE35,SBE35_FLAG_W,CTDSAL,CTDSAL_FLAG_W,SALNTY,SALNTY_FLAG_W,CTDOXY,CTDOXY_FLAG_W,OXYGEN,OXYGEN_FLAG_W,SILCAT,SILCAT_FLAG_W,SILUNC,NITRAT,NITRAT_FLAG_W,NRAUNC,NITRIT,NITRIT_FLAG_W,NRIUNC,PHSPHT,PHSPHT_FLAG_W,PHPUNC,CFC-11,CFC-11_FLAG_W,CFC-12,CFC-12_FLAG_W,CFC113,CFC113_FLAG_W,TCARBN,TCARBN_FLAG_W,ALKALI,ALKALI_FLAG_W,PH_TOT,PH_TMP,PH_TOT_FLAG_W,DELC13,DELC13_FLAG_W,C13ERR,DELC14,DELC14_FLAG_W,C14ERR,THETA,SIG0
,,,,,,,,,,,METERS,DBAR,,ITS-90,,ITS-90,,PSS-78,,PSS-78,,UMOL/KG,,UMOL/KG,,UMOL/KG,,UMOL/KG,UMOL/KG,,UMOL/KG,UMOL/KG,,UMOL/KG,UMOL/KG,,UMOL/KG,PMOL/KG,,PMOL/KG,,PMOL/KG,,UMOL/KG,,UMOL/KG,,,DEG C,,/MILLE,,/MILLE,/MILLE,,/MILLE,DEG C,KG/M^3
  49NZ20090410,   P21,    42,  1,     36, X12006,2,20090422,0101,-16.7485, -82.3338, 4611,      9.6,2,  23.5188,2,  23.51704,2,  35.5930,2,  35.5931,2,   214.07,2,   214.26,2,     0.71,2,     0.12,     0.08,2,     0.03,     0.01,2,     0.01,    0.514,2,    0.013,    1.727,2,    1.123,2, -999.000,5,   -999.0,9,   -999.0,9,-999.0000,-999,9,  -999.00,9,  -999.00,   -999.0,9,   -999.0,  23.5168,  24.2330
  49NZ20090410,   P21,    42,  1,     35, X12047,2,20090422,0101,-16.7485, -82.3338, 4611,     47.8,2,  23.2847,2,  23.24805,2,  35.5379,2,  35.5435,2,   215.34,2,   219.37,2,     0.73,2,     0.12,     0.07,2,     0.03,     0.01,2,     0.01,    0.520,2,    0.013,    1.777,2,    1.150,2, -999.000,5,   -999.0,9,   -999.0,9,-999.0000,-999,9,  -999.00,9,  -999.00,   -999.0,9,   -999.0,  23.2748,  24.2619
  49NZ20090410,   P21,    42,  1,     34, X12004,2,20090422,0101,-16.7485, -82.3338, 4611,     98.3,2,  15.4118,2,  15.41215,2,  34.7620,2,  34.7587,2,   189.30,2,   184.94,2,     2.85,2,     0.13,    11.95,2,     0.07,     0.10,2,     0.01,    1.249,2,    0.013,    2.527,6,    1.539,6,    0.193,6,   -999.0,9,   -999.0,9,-999.0000,-999,9,  -999.00,9,  -999.00,   -999.0,9,   -999.0,  15.3967,  25.7007
  49NZ20090410,   P21,    42,  1,     33, X12003,2,20090422,0101,-16.7485, -82.3338, 4611,    149.8,2,  12.8826,2,  12.88745,2,  34.7170,2,  34.7180,2,    28.96,2,    29.01,2,    17.01,2,     0.16,    22.15,2,     0.09,     0.02,2,     0.01,    2.560,2,    0.016,    1.705,2,    0.992,2,    0.066,2,   -999.0,9,   -999.0,9,-999.0000,-999,9,  -999.00,9,  -999.00,   -999.0,9,   -999.0,  12.8622,  26.2012
  49NZ20090410,   P21,    42,  1,     32, X12002,2,20090422,0101,-16.7485, -82.3338, 4611,    200.5,2,  12.2688,2,  12.27061,2,  34.8242,2,  34.8228,2,     1.30,2,     0.92,3,    26.25,2,     0.18,    18.35,2,     0.08,     1.27,2,     0.01,    2.757,2,    0.017,    0.827,2,    0.486,2,    0.023,2,   -999.0,9,   -999.0,9,-999.0000,-999,9,  -999.00,9,  -999.00,   -999.0,9,   -999.0,  12.2423,  26.4060
  49NZ20090410,   P21,    42,  1,     31, X12001,2,20090422,0101,-16.7485, -82.3338, 4611,    251.5,2,  11.5895,2,  11.58850,2,  34.7927,2,  34.7917,6,     1.37,2,     0.95,3,    26.12,2,     0.18,    23.48,2,     0.10,     1.50,2,     0.01,    2.739,2,    0.017,    0.581,2,    0.334,2,    0.011,2,   -999.0,9,   -999.0,9,-999.0000,-999,9,  -999.00,9,  -999.00,   -999.0,9,   -999.0,  11.5574,  26.5116
  49NZ20090410,   P21,    42,  1,     30, X12030,2,20090422,0101,-16.7485, -82.3338, 4611,    330.9,2,  10.2563,2,  10.25584,2,  34.7182,2,  34.7173,2,     1.53,2,     0.60,2,    28.23,2,     0.18,    32.47,2,     0.12,     0.03,2,     0.01,    2.794,2,    0.017,    0.274,2,    0.152,2,    0.013,2,   -999.0,9,   -999.0,9,-999.0000,-999,9,  -999.00,9,  -999.00,   -999.0,9,   -999.0,  10.2172,  26.6946
  49NZ20090410,   P21,    42,  1,     29, X12044,2,20090422,0101,-16.7485, -82.3338, 4611,    429.8,2,   8.8308,2,   8.83358,2,  34.6355,2,  34.6345,2,     5.05,2,     5.19,2,    31.94,2,     0.19,    38.50,2,     0.14,     0.01,2,     0.01,    2.929,2,    0.017,    0.127,2,    0.069,2,    0.000,2,   -999.0,9,   -999.0,9,-999.0000,-999,9,  -999.00,9,  -999.00,   -999.0,9,   -999.0,   8.7842,  26.8670
  49NZ20090410,   P21,    42,  1,     28, X12048,2,20090422,0101,-16.7485, -82.3338, 4611,    531.5,2,   7.5376,2,   7.53773,2,  34.5594,2,  34.5573,6,    23.52,2,    24.53,2,    35.02,2,     0.20,    41.04,2,     0.15,     0.01,2,     0.01,    2.956,2,    0.017,    0.090,2,    0.048,2,    0.000,2,   -999.0,9,   -999.0,9,-999.0000,-999,9,  -999.00,9,  -999.00,   -999.0,9,   -999.0,   7.4848,  27.0033
  49NZ20090410,   P21,    42,  1,     27, X12027,2,20090422,0101,-16.7485, -82.3338, 4611,    631.4,2,   6.5304,2,   6.53159,2,  34.5203,2,  34.5193,2,    27.69,2,    28.20,2,    43.13,2,     0.21,    43.21,2,     0.15,     0.01,2,     0.01,    3.106,2,    0.018,    0.049,6,    0.027,6,    0.000,6,   -999.0,9,   -999.0,9,-999.0000,-999,9,  -999.00,9,  -999.00,   -999.0,9,   -999.0,   6.4721,  27.1124
  49NZ20090410,   P21,    42,  1,     26, X12026,2,20090422,0101,-16.7485, -82.3338, 4611,    729.5,2,   5.8496,2,   5.84943,2,  34.5106,2,  34.5095,2,    31.94,2,    32.74,2,    51.10,2,     0.23,    44.29,2,     0.16,     0.01,2,     0.01,    3.167,2,    0.018,    0.010,2,    0.004,2,    0.000,2,   -999.0,9,   -999.0,9,-999.0000,-999,9,  -999.00,9,  -999.00,   -999.0,9,   -999.0,   5.7855,  27.1929
  49NZ20090410,   P21,    42,  1,     25, X12025,2,20090422,0101,-16.7485, -82.3338, 4611,    830.0,2,   5.1645,2,   5.16368,2,  34.5077,2,  34.5068,2,    41.52,2,    42.33,2,    61.10,2,     0.25,    44.26,2,     0.16,     0.01,2,     0.01,    3.165,2,    0.018,    0.004,2,    0.003,2,    0.000,2,   -999.0,9,   -999.0,9,-999.0000,-999,9,  -999.00,9,  -999.00,   -999.0,9,   -999.0,   5.0953,  27.2739
  49NZ20090410,   P21,    42,  1,     24, X12024,2,20090422,0101,-16.7485, -82.3338, 4611,    927.5,2,   4.7665,2,   4.76568,2,  34.5163,2,  34.5161,2,    47.71,2,    48.23,2,    69.07,2,     0.27,    44.11,2,     0.16,     0.01,2,     0.01,    3.173,2,    0.018,    0.005,2,    0.003,2,    0.000,2,   -999.0,9,   -999.0,9,-999.0000,-999,9,  -999.00,9,  -999.00,   -999.0,9,   -999.0,   4.6913,  27.3269
  49NZ20090410,   P21,    42,  1,     23, X12028,2,20090422,0101,-16.7485, -82.3338, 4611,   1070.4,2,   4.1772,2,   4.17710,2,  34.5318,2,  34.5320,6,    62.62,2,    62.68,2,    80.51,2,     0.30,    42.90,2,     0.15,     0.01,2,     0.01,    3.109,2,    0.018,    0.000,2,    0.004,2,    0.000,2,   -999.0,9,   -999.0,9,-999.0000,-999,9,  -999.00,9,  -999.00,   -999.0,9,   -999.0,   4.0941,  27.4039
  49NZ20090410,   P21,    42,  1,     22, X12022,2,20090422,0101,-16.7485, -82.3338, 4611,   1268.3,2,   3.5055,2,   3.50620,2,  34.5608,2,  34.5610,2,    78.95,2,    79.09,2,    94.81,2,     0.33,    41.48,2,     0.15,     0.01,2,     0.01,    3.016,2,    0.017,    0.000,2,    0.000,2,    0.000,2,   -999.0,9,   -999.0,9,-999.0000,-999,9,  -999.00,9,  -999.00,   -999.0,9,   -999.0,   3.4117,  27.4958
  49NZ20090410,   P21,    42,  1,     21, X12021,2,20090422,0101,-16.7485, -82.3338, 4611,   1469.4,2,   3.0516,2,   3.05208,2,  34.5871,2,  34.5874,2,    87.68,2,    87.64,2,   106.92,2,     0.35,    40.79,2,     0.15,     0.01,2,     0.01,    2.956,2,    0.017,    0.000,2,    0.001,2,    0.000,2,   -999.0,9,   -999.0,9,-999.0000,-999,9,  -999.00,9,  -999.00,   -999.0,9,   -999.0,   2.9457,  27.5605
  49NZ20090410,   P21,    42,  1,     20, X12020,2,20090422,0101,-16.7485, -82.3338, 4611,   1670.5,2,   2.7141,2,   2.71397,2,  34.6106,2,  34.6108,2,    93.49,2,    93.62,2,   117.58,2,     0.38,    40.39,2,     0.15,     0.01,2,     0.01,    2.910,2,    0.017,    0.000,2,    0.002,2,    0.000,2,   -999.0,9,   -999.0,9,-999.0000,-999,9,  -999.00,9,  -999.00,   -999.0,9,   -999.0,   2.5954,  27.6103
  49NZ20090410,   P21,    42,  1,     19, X12019,2,20090422,0101,-16.7485, -82.3338, 4611,   1870.4,2,   2.4280,2,   2.42794,2,  34.6271,2,  34.6274,2,   107.07,2,   107.25,2,   121.86,2,     0.39,    39.28,2,     0.14,     0.01,2,     0.01,    2.811,2,    0.017,    0.001,2,    0.000,2,    0.000,2,   -999.0,9,   -999.0,9,-999.0000,-999,9,  -999.00,9,  -999.00,   -999.0,9,   -999.0,   2.2962,  27.6489
  49NZ20090410,   P21,    42,  1,     18, X12043,2,20090422,0101,-16.7485, -82.3338, 4611,   2069.5,2,   2.2056,2,   2.20515,2,  34.6431,2,  34.6432,2,   116.25,2,   116.37,2,   126.50,2,     0.40,    38.54,2,     0.14,     0.01,2,     0.01,    2.746,2,    0.017, -999.000,9, -999.000,9, -999.000,9,   -999.0,9,   -999.0,9,-999.0000,-999,9,  -999.00,9,  -999.00,   -999.0,9,   -999.0,   2.0600,  27.6809
  49NZ20090410,   P21,    42,  1,     17, X12042,2,20090422,0101,-16.7485, -82.3338, 4611,   2268.1,2,   2.0289,2,   2.02904,2,  34.6560,2,  34.6564,6,   126.51,2,   127.02,2,   127.59,2,     0.40,    37.76,2,     0.14,     0.01,2,     0.01,    2.672,2,    0.017,    0.001,2,    0.000,2,    0.000,2,   -999.0,9,   -999.0,9,-999.0000,-999,9,  -999.00,9,  -999.00,   -999.0,9,   -999.0,   1.8689,  27.7064
  49NZ20090410,   P21,    42,  1,     16, X12016,2,20090422,0101,-16.7485, -82.3338, 4611,   2472.9,2,   1.9087,2,   1.90901,2,  34.6655,2,  34.6654,2,   136.22,2,   136.19,2,   127.60,2,     0.40,    37.13,2,     0.14,     0.01,2,     0.01,    2.612,2,    0.017, -999.000,9, -999.000,9, -999.000,9,   -999.0,9,   -999.0,9,-999.0000,-999,9,  -999.00,9,  -999.00,   -999.0,9,   -999.0,   1.7325,  27.7245
  49NZ20090410,   P21,    42,  1,     15, X12015,2,20090422,0101,-16.7485, -82.3338, 4611,   2671.2,2,   1.8341,2,   1.83407,2,  34.6727,2,  34.6732,2,   138.02,2,   138.16,2,   130.68,2,     0.41,    36.88,2,     0.14,     0.01,2,     0.01,    2.602,2,    0.016, -999.000,9, -999.000,9, -999.000,9,   -999.0,9,   -999.0,9,-999.0000,-999,9,  -999.00,9,  -999.00,   -999.0,9,   -999.0,   1.6412,  27.7371
  49NZ20090410,   P21,    42,  1,     14, X12050,2,20090422,0101,-16.7485, -82.3338, 4611,   2870.5,2,   1.8051,2,   1.80519,2,  34.6763,2,  34.6766,2,   136.18,2,   136.30,2,   134.67,2,     0.42,    36.96,2,     0.14,     0.01,2,     0.01,    2.595,2,    0.016,    0.000,2,    0.000,2,    0.000,2,   -999.0,9,   -999.0,9,-999.0000,-999,9,  -999.00,9,  -999.00,   -999.0,9,   -999.0,   1.5940,  27.7435
  49NZ20090410,   P21,    42,  1,     13, X12013,7,20090422,0101,-16.7485, -82.3338, 4611,   3082.7,2,   1.7922,2,   1.79230,2,  34.6790,2,  34.6794,2,   136.65,2,   136.81,2,   136.10,2,     0.42,    36.90,2,     0.14,     0.01,2,     0.01,    2.597,2,    0.016, -999.000,9, -999.000,9, -999.000,9,   -999.0,9,   -999.0,9,-999.0000,-999,9,  -999.00,9,  -999.00,   -999.0,9,   -999.0,   1.5609,  27.7481
  49NZ20090410,   P21,    42,  1,     12, X12012,2,20090422,0101,-16.7485, -82.3338, 4611,   3331.0,2,   1.7872,2,   1.78727,2,  34.6814,2,  34.6812,6,   138.93,2,   139.02,2,   136.05,2,     0.42,    36.71,2,     0.14,     0.01,2,     0.01,    2.583,2,    0.016, -999.000,9, -999.000,9, -999.000,9,   -999.0,9,   -999.0,9,-999.0000,-999,9,  -999.00,9,  -999.00,   -999.0,9,   -999.0,   1.5312,  27.7522
  49NZ20090410,   P21,    42,  1,     11, X12041,2,20090422,0101,-16.7485, -82.3338, 4611,   3578.9,2,   1.7768,2,   1.77682,2,  34.6843,2,  34.6840,2,   143.77,2,   144.08,2,   132.88,2,     0.41,    36.22,2,     0.13,     0.01,2,     0.01,    2.551,2,    0.016,    0.000,2,    0.000,2,    0.000,2,   -999.0,9,   -999.0,9,-999.0000,-999,9,  -999.00,9,  -999.00,   -999.0,9,   -999.0,   1.4955,  27.7572
  49NZ20090410,   P21,    42,  1,     10, X12040,2,20090422,0101,-16.7485, -82.3338, 4611,   3828.4,2,   1.7728,2,   1.77275,2,  34.6866,2,  34.6869,2,   150.39,2,   150.64,2,   128.05,2,     0.40,    35.72,2,     0.13,     0.01,2,     0.01,    2.513,2,    0.016, -999.000,9, -999.000,9, -999.000,9,   -999.0,9,   -999.0,9,-999.0000,-999,9,  -999.00,9,  -999.00,   -999.0,9,   -999.0,   1.4650,  27.7612
  49NZ20090410,   P21,    42,  1,      9, X12009,2,20090422,0101,-16.7485, -82.3338, 4611,   4080.8,2,   1.7689,2,   1.76895,2,  34.6887,2,  34.6886,2,   152.05,2,   152.37,2,   127.42,2,     0.40,    35.58,2,     0.13,     0.01,2,     0.01,    2.500,2,    0.016,    0.002,2,    0.000,2,    0.000,2,   -999.0,9,   -999.0,9,-999.0000,-999,9,  -999.00,9,  -999.00,   -999.0,9,   -999.0,   1.4334,  27.7651
  49NZ20090410,   P21,    42,  1,      8, X12008,2,20090422,0101,-16.7485, -82.3338, 4611,   4328.1,2,   1.7785,2,   1.77842,2,  34.6896,2,  34.6895,2,   153.20,2,   153.54,2,   126.78,2,     0.40,    35.54,2,     0.13,     0.01,2,     0.01,    2.496,2,    0.016,    0.003,2,    0.000,2,    0.000,2,   -999.0,9,   -999.0,9,-999.0000,-999,9,  -999.00,9,  -999.00,   -999.0,9,   -999.0,   1.4148,  27.7672
  49NZ20090410,   P21,    42,  1,      7, X12007,2,20090422,0101,-16.7485, -82.3338, 4611,   4578.0,2,   1.8044,2,   1.80449,2,  34.6898,2,  34.6893,2,   153.34,2,   153.69,2,   126.79,2,     0.40,    35.52,2,     0.13,     0.01,2,     0.01,    2.493,2,    0.016,    0.006,2,    0.000,2,    0.000,2,   -999.0,9,   -999.0,9,-999.0000,-999,9,  -999.00,9,  -999.00,   -999.0,9,   -999.0,   1.4108,  27.7677
  49NZ20090410,   P21,    42,  1,      6, X12035,9,20090422,0101,-16.7485, -82.3338, 4611,      9.7,2,  23.5166,2,  23.51620,2,  35.5931,2,-999.0000,9,   214.05,2,  -999.00,9,  -999.00,9,  -999.00,  -999.00,9,  -999.00,  -999.00,9,  -999.00, -999.000,9, -999.000, -999.000,9, -999.000,9, -999.000,9,   -999.0,9,   -999.0,9,-999.0000,-999,9,  -999.00,9,  -999.00,   -999.0,9,   -999.0,  23.5146,  24.2337
  49NZ20090410,   P21,    42,  1,      5, X12038,9,20090422,0101,-16.7485, -82.3338, 4611,     50.5,2,  20.3175,2,  23.24805,2,  36.2259,2,-999.0000,9,   240.02,2,  -999.00,9,  -999.00,9,  -999.00,  -999.00,9,  -999.00,  -999.00,9,  -999.00, -999.000,9, -999.000, -999.000,9, -999.000,9, -999.000,9,   -999.0,9,   -999.0,9,-999.0000,-999,9,  -999.00,9,  -999.00,   -999.0,9,   -999.0,  20.3080,  25.6150
  49NZ20090410,   P21,    42,  1,      4, X12034,2,20090422,0101,-16.7485, -82.3338, 4611,   4327.9,2,   1.7784,2,   1.77848,2,  34.6897,2,  34.6897,2,   153.24,2,   153.53,2,   126.74,2,     0.40,    35.54,2,     0.13,     0.01,2,     0.01,    2.498,2,    0.016, -999.000,9, -999.000,9, -999.000,9,   -999.0,9,   -999.0,9,-999.0000,-999,9,  -999.00,9,  -999.00,   -999.0,9,   -999.0,   1.4147,  27.7673
  49NZ20090410,   P21,    42,  1,      3, X12033,9,20090422,0101,-16.7485, -82.3338, 4611,   3080.1,2,   1.7924,2,   1.79242,2,  34.6789,2,-999.0000,9,   136.61,2,  -999.00,9,  -999.00,9,  -999.00,  -999.00,9,  -999.00,  -999.00,9,  -999.00, -999.000,9, -999.000, -999.000,9, -999.000,9, -999.000,9,   -999.0,9,   -999.0,9,-999.0000,-999,9,  -999.00,9,  -999.00,   -999.0,9,   -999.0,   1.5613,  27.7480
  49NZ20090410,   P21,    42,  1,      2, X12032,9,20090422,0101,-16.7485, -82.3338, 4611,   3082.8,2,   1.7922,2,   1.79232,2,  34.6790,2,-999.0000,9,   136.63,2,  -999.00,9,  -999.00,9,  -999.00,  -999.00,9,  -999.00,  -999.00,9,  -999.00, -999.000,9, -999.000, -999.000,9, -999.000,9, -999.000,9,   -999.0,9,   -999.0,9,-999.0000,-999,9,  -999.00,9,  -999.00,   -999.0,9,   -999.0,   1.5609,  27.7481
  49NZ20090410,   P21,    42,  1,      1, X12046,2,20090422,0101,-16.7485, -82.3338, 4611,   4632.1,2,   1.8111,2,   1.81105,2,  34.6896,2,  34.6897,6,   153.34,2,   153.58,2,   126.74,2,     0.40,    35.69,2,     0.13,     0.01,2,     0.01,    2.504,2,    0.016,    0.008,2,    0.000,2,    0.000,2,   -999.0,9,   -999.0,9,-999.0000,-999,9,  -999.00,9,  -999.00,   -999.0,9,   -999.0,   1.4109,  27.7676