BOTTLE,20220818CCHSIOAMB
EXPOCODE,SECT_ID,STNNBR,CASTNO,SAMPNO,BTLNBR,BTLNBR_FLAG_W,DATE,TIME,LATITUDE,LONGITUDE,DEPTH,CTDPRS,CTDPRS_FLAG_W,CTDTMP,CTDTMP_FLAG_W,SBE35,SBE35_FLAG_W,CTDSAL,CTDSAL_FLAG_W,SALNTY,SALNTY_FLAG_W,CTDOXY,CTDOXY_FLAG_W,OXYGEN,OXYGEN_FLAG_W,SILCAT,SILCAT_FLAG_W,SILUNC,NITRAT,NITRAT_FLAG_W,NRAUNC,NITRIT,NITRIT_FLAG_W,NRIUNC,PHSPHT,PHSPHT_FLAG_W,PHPUNC,CFC-11,CFC-11_FLAG_W,CFC-12,CFC-12_FLAG_W,CFC113,CFC113_FLAG_W,TCARBN,TCARBN_FLAG_W,ALKALI,ALKALI_FLAG_W,PH_TOT,PH_TMP,PH_TOT_FLAG_W,DELC13,DELC13_FLAG_W,C13ERR,DELC14,DELC14_FLAG_W,C14ERR,THETA,SIG0
,,,,,,,,,,,METERS,DBAR,,ITS-90,,ITS-90,,PSS-78,,PSS-78,,UMOL/KG,,UMOL/KG,,UMOL/KG,,UMOL/KG,UMOL/KG,,UMOL/KG,UMOL/KG,,UMOL/KG,UMOL/KG,,UMOL/KG,PMOL/KG,,PMOL/KG,,PMOL/KG,,UMOL/KG,,UMOL/KG,,,DEG C,,/MILLE,,/MILLE,/MILLE,,/MILLE,DEG C,KG/M^3
  49NZ20090410,   P21,    40,  1,     36, X12006,2,20090415,1330,-16.7442, -81.0075, 4608,      9.4,2,  24.3873,2,  24.38575,2,  35.4715,2,  35.4738,2,   209.74,2,   209.19,2,     0.69,2,     0.12,     0.07,2,     0.03,     0.01,2,     0.01,    0.570,2,    0.013,    1.670,2,    1.079,2, -999.000,5,   -999.0,9,   -999.0,9,-999.0000,-999,9,  -999.00,9,  -999.00,   -999.0,9,   -999.0,  24.3853,  23.8834
  49NZ20090410,   P21,    40,  1,     35, X12047,2,20090415,1330,-16.7442, -81.0075, 4608,     49.4,2,  18.5683,2,  18.58784,2,  35.1008,2,  35.1027,2,   242.25,2,   240.51,2,     0.30,2,     0.12,     0.08,2,     0.03,     0.01,2,     0.01,    0.387,2,    0.013,    2.292,2,    1.405,2, -999.000,5,   -999.0,9,   -999.0,9,-999.0000,-999,9,  -999.00,9,  -999.00,   -999.0,9,   -999.0,  18.5597,  25.2098
  49NZ20090410,   P21,    40,  1,     34, X12004,2,20090415,1330,-16.7442, -81.0075, 4608,    100.3,2,  15.6443,2,  15.65138,2,  34.8804,2,  34.8745,2,   166.46,2,   158.72,2,     4.82,2,     0.13,    15.96,2,     0.08,     0.03,2,     0.01,    1.574,2,    0.014,    2.444,2,    1.456,6,    0.150,6,   -999.0,9,   -999.0,9,-999.0000,-999,9,  -999.00,9,  -999.00,   -999.0,9,   -999.0,  15.6287,  25.7399
  49NZ20090410,   P21,    40,  1,     33, X12003,2,20090415,1330,-16.7442, -81.0075, 4608,    150.0,2,  12.7318,2,  12.73383,2,  34.7314,2,  34.7315,2,    14.25,2,    16.80,2,    18.79,2,     0.16,    22.07,2,     0.09,     0.01,2,     0.01,    2.649,2,    0.016,    1.520,2,    0.886,2,    0.039,2,   -999.0,9,   -999.0,9,-999.0000,-999,9,  -999.00,9,  -999.00,   -999.0,9,   -999.0,  12.7115,  26.2422
  49NZ20090410,   P21,    40,  1,     32, X12002,2,20090415,1330,-16.7442, -81.0075, 4608,    200.1,2,  12.0063,2,  12.00557,2,  34.7888,2,  34.7882,2,     1.94,2,     1.70,2,    24.89,2,     0.16,    21.89,2,     0.09,     0.02,2,     0.01,    2.739,2,    0.017,    0.771,2,    0.461,2,    0.002,2,   -999.0,9,   -999.0,9,-999.0000,-999,9,  -999.00,9,  -999.00,   -999.0,9,   -999.0,  11.9802,  26.4288
  49NZ20090410,   P21,    40,  1,     31, X12001,2,20090415,1330,-16.7442, -81.0075, 4608,    250.5,2,  11.1761,2,  11.17569,2,  34.7512,2,  34.7502,6,     1.39,2,     1.45,2,    25.61,2,     0.16,    27.46,2,     0.11,     0.01,2,     0.01,    2.752,2,    0.017,    0.501,2,    0.291,2,    0.000,2,   -999.0,9,   -999.0,9,-999.0000,-999,9,  -999.00,9,  -999.00,   -999.0,9,   -999.0,  11.1449,  26.5554
  49NZ20090410,   P21,    40,  1,     30, X12030,2,20090415,1330,-16.7442, -81.0075, 4608,    299.8,2,  10.1188,2,  10.11973,2,  34.6842,2,  34.6840,2,     3.68,2,     3.81,2,    26.69,2,     0.18,    33.11,2,     0.12,     0.01,2,     0.01,    2.795,2,    0.017,    0.306,2,    0.173,2,    0.000,2,   -999.0,9,   -999.0,9,-999.0000,-999,9,  -999.00,9,  -999.00,   -999.0,9,   -999.0,  10.0837,  26.6911
  49NZ20090410,   P21,    40,  1,     29, X12044,2,20090415,1330,-16.7442, -81.0075, 4608,    400.1,2,   8.7401,2,   8.74340,2,  34.6221,2,  34.6216,2,     9.52,2,     9.96,2,    30.73,2,     0.19,    38.66,2,     0.14,     0.01,2,     0.01,    2.885,2,    0.017,    0.126,2,    0.070,2,    0.000,2,   -999.0,9,   -999.0,9,-999.0000,-999,9,  -999.00,9,  -999.00,   -999.0,9,   -999.0,   8.6971,  26.8702
  49NZ20090410,   P21,    40,  1,     28, X12048,2,20090415,1330,-16.7442, -81.0075, 4608,    501.9,2,   7.5852,2,   7.58378,2,  34.5649,2,  34.5660,6,    16.20,2,    16.22,2,    36.29,2,     0.20,    41.58,2,     0.15,     0.01,2,     0.01,    3.020,2,    0.018,    0.095,2,    0.050,2,    0.000,2,   -999.0,9,   -999.0,9,-999.0000,-999,9,  -999.00,9,  -999.00,   -999.0,9,   -999.0,   7.5353,  27.0004
  49NZ20090410,   P21,    40,  1,     27, X12027,2,20090415,1330,-16.7442, -81.0075, 4608,    599.8,2,   6.6419,2,   6.64396,2,  34.5269,2,  34.5265,2,    25.02,2,    25.65,2,    42.59,2,     0.21,    43.29,2,     0.15,     0.01,2,     0.01,    3.109,2,    0.018,    0.041,6,    0.024,6,    0.000,6,   -999.0,9,   -999.0,9,-999.0000,-999,9,  -999.00,9,  -999.00,   -999.0,9,   -999.0,   6.5861,  27.1024
  49NZ20090410,   P21,    40,  1,     26, X12026,2,20090415,1330,-16.7442, -81.0075, 4608,    700.8,2,   5.8852,2,   5.88596,2,  34.5131,2,  34.5131,2,    31.24,2,    31.71,2,    50.37,2,     0.23,    44.25,2,     0.16,     0.01,2,     0.01,    3.151,2,    0.018,    0.007,2,    0.006,2,    0.000,2,   -999.0,9,   -999.0,9,-999.0000,-999,9,  -999.00,9,  -999.00,   -999.0,9,   -999.0,   5.8236,  27.1902
  49NZ20090410,   P21,    40,  1,     25, X12025,2,20090415,1330,-16.7442, -81.0075, 4608,    801.5,2,   5.2083,2,   5.20866,2,  34.5080,2,  34.5074,2,    41.22,2,    41.49,2,    59.86,2,     0.25,    44.34,2,     0.16,     0.01,2,     0.01,    3.183,2,    0.018,    0.004,2,    0.003,2,    0.000,2,   -999.0,9,   -999.0,9,-999.0000,-999,9,  -999.00,9,  -999.00,   -999.0,9,   -999.0,   5.1414,  27.2688
  49NZ20090410,   P21,    40,  1,     24, X12024,2,20090415,1330,-16.7442, -81.0075, 4608,    900.1,2,   4.7665,2,   4.76678,2,  34.5210,2,  34.5206,2,    46.44,2,    46.88,2,    69.75,2,     0.27,    44.21,2,     0.16,     0.01,2,     0.01,    3.180,2,    0.018,    0.002,2,    0.001,2,    0.000,2,   -999.0,9,   -999.0,9,-999.0000,-999,9,  -999.00,9,  -999.00,   -999.0,9,   -999.0,   4.6937,  27.3304
  49NZ20090410,   P21,    40,  1,     23, X12028,2,20090415,1330,-16.7442, -81.0075, 4608,    998.7,2,   4.3867,2,   4.38636,2,  34.5240,2,  34.5250,6,    59.35,2,    59.51,2,    75.14,2,     0.28,    43.35,2,     0.15,     0.01,2,     0.01,    3.118,2,    0.018,    0.000,2,    0.002,2,    0.000,2,   -999.0,9,   -999.0,9,-999.0000,-999,9,  -999.00,9,  -999.00,   -999.0,9,   -999.0,   4.3081,  27.3750
  49NZ20090410,   P21,    40,  1,     22, X12022,2,20090415,1330,-16.7442, -81.0075, 4608,   1200.6,2,   3.7476,2,   3.74712,2,  34.5529,2,  34.5535,2,    70.98,2,    70.94,2,    90.63,2,     0.32,    42.22,2,     0.15,     0.01,2,     0.01,    3.064,2,    0.018,    0.003,2,    0.000,2,    0.000,2,   -999.0,9,   -999.0,9,-999.0000,-999,9,  -999.00,9,  -999.00,   -999.0,9,   -999.0,   3.6572,  27.4654
  49NZ20090410,   P21,    40,  1,     21, X12021,2,20090415,1330,-16.7442, -81.0075, 4608,   1399.4,2,   3.2463,2,   3.24562,2,  34.5784,2,  34.5796,2,    80.83,2,    81.23,2,   103.41,2,     0.35,    41.46,2,     0.15,     0.01,2,     0.01,    3.008,2,    0.017,    0.001,2,    0.001,2,    0.000,2,   -999.0,9,   -999.0,9,-999.0000,-999,9,  -999.00,9,  -999.00,   -999.0,9,   -999.0,   3.1441,  27.5352
  49NZ20090410,   P21,    40,  1,     20, X12020,2,20090415,1330,-16.7442, -81.0075, 4608,   1599.4,2,   2.8490,2,   2.84813,2,  34.6013,2,  34.6016,2,    90.99,2,    91.40,2,   113.17,2,     0.37,    40.67,2,     0.15,     0.01,2,     0.01,    2.931,2,    0.017,    0.000,2,    0.000,2,    0.000,2,   -999.0,9,   -999.0,9,-999.0000,-999,9,  -999.00,9,  -999.00,   -999.0,9,   -999.0,   2.7346,  27.5907
  49NZ20090410,   P21,    40,  1,     19, X12019,2,20090415,1330,-16.7442, -81.0075, 4608,   1800.7,2,   2.5358,2,   2.53549,2,  34.6205,2,  34.6211,2,   102.57,2,   104.20,2,   119.17,2,     0.38,    39.65,2,     0.14,     0.01,2,     0.01,    2.837,2,    0.017,    0.000,2,    0.000,2,    0.000,2,   -999.0,9,   -999.0,9,-999.0000,-999,9,  -999.00,9,  -999.00,   -999.0,9,   -999.0,   2.4084,  27.6343
  49NZ20090410,   P21,    40,  1,     18, X12043,2,20090415,1330,-16.7442, -81.0075, 4608,   1999.9,2,   2.2658,2,   2.26601,2,  34.6385,2,  34.6386,2,   113.76,2,   113.70,2,   124.55,2,     0.39,    38.73,2,     0.14,     0.01,2,     0.01,    2.759,2,    0.017, -999.000,9, -999.000,9, -999.000,9,   -999.0,9,   -999.0,9,-999.0000,-999,9,  -999.00,9,  -999.00,   -999.0,9,   -999.0,   2.1253,  27.6720
  49NZ20090410,   P21,    40,  1,     17, X12042,2,20090415,1330,-16.7442, -81.0075, 4608,   2198.6,2,   2.0612,2,   2.06140,2,  34.6515,2,  34.6513,6,   131.67,2,   131.63,2,   122.41,2,     0.39,    37.36,2,     0.14,     0.01,2,     0.01,    2.641,2,    0.017, -999.000,9, -999.000,9, -999.000,9,   -999.0,9,   -999.0,9,-999.0000,-999,9,  -999.00,9,  -999.00,   -999.0,9,   -999.0,   1.9067,  27.6998
  49NZ20090410,   P21,    40,  1,     16, X12016,2,20090415,1330,-16.7442, -81.0075, 4608,   2399.6,2,   1.9287,2,   1.92875,2,  34.6627,2,  34.6627,2,   139.72,2,   139.39,2,   123.55,2,     0.39,    36.72,2,     0.14,     0.01,2,     0.01,    2.582,2,    0.016,    0.000,2,    0.000,2,    0.000,2,   -999.0,9,   -999.0,9,-999.0000,-999,9,  -999.00,9,  -999.00,   -999.0,9,   -999.0,   1.7587,  27.7202
  49NZ20090410,   P21,    40,  1,     15, X12015,2,20090415,1330,-16.7442, -81.0075, 4608,   2599.3,2,   1.8495,2,   1.84937,2,  34.6706,2,  34.6715,2,   141.84,2,   142.26,2,   126.64,2,     0.40,    36.52,2,     0.14,     0.01,2,     0.01,    2.569,2,    0.016, -999.000,9, -999.000,9, -999.000,9,   -999.0,9,   -999.0,9,-999.0000,-999,9,  -999.00,9,  -999.00,   -999.0,9,   -999.0,   1.6629,  27.7338
  49NZ20090410,   P21,    40,  1,     14, X12050,2,20090415,1330,-16.7442, -81.0075, 4608,   2800.8,2,   1.8060,2,   1.80599,2,  34.6758,2,  34.6759,2,   142.44,2,   143.43,2,   129.24,2,     0.40,    36.62,2,     0.14,     0.01,2,     0.01,    2.561,2,    0.016, -999.000,9, -999.000,9, -999.000,9,   -999.0,9,   -999.0,9,-999.0000,-999,9,  -999.00,9,  -999.00,   -999.0,9,   -999.0,   1.6015,  27.7425
  49NZ20090410,   P21,    40,  1,     13, X12013,7,20090415,1330,-16.7442, -81.0075, 4608,   2999.9,2,   1.7900,2,   1.78995,2,  34.6785,2,  34.6793,2,   140.73,2,   141.13,2,   132.55,2,     0.41,    36.70,2,     0.14,     0.01,2,     0.01,    2.575,2,    0.016,    0.000,2,    0.000,2,    0.000,2,   -999.0,9,   -999.0,9,-999.0000,-999,9,  -999.00,9,  -999.00,   -999.0,9,   -999.0,   1.5668,  27.7473
  49NZ20090410,   P21,    40,  1,     12, X12012,2,20090415,1330,-16.7442, -81.0075, 4608,   3248.6,2,   1.7831,2,   1.78306,2,  34.6810,2,  34.6810,2,   139.89,2,   140.69,2,   134.65,2,     0.42,    36.70,2,     0.14,     0.01,2,     0.01,    2.570,2,    0.016, -999.000,9, -999.000,9, -999.000,9,   -999.0,9,   -999.0,9,-999.0000,-999,9,  -999.00,9,  -999.00,   -999.0,9,   -999.0,   1.5355,  27.7516
  49NZ20090410,   P21,    40,  1,     11, X12041,2,20090415,1330,-16.7442, -81.0075, 4608,   3501.4,2,   1.7740,2,   1.77394,2,  34.6837,2,  34.6840,6,   143.92,2,   143.78,2,   132.12,2,     0.41,    36.41,2,     0.13,     0.00,2,     0.01,    2.547,2,    0.016, -999.000,9, -999.000,9, -999.000,9,   -999.0,9,   -999.0,9,-999.0000,-999,9,  -999.00,9,  -999.00,   -999.0,9,   -999.0,   1.5008,  27.7563
  49NZ20090410,   P21,    40,  1,     10, X12040,2,20090415,1330,-16.7442, -81.0075, 4608,   3749.9,2,   1.7600,2,   1.76001,2,  34.6867,2,  34.6872,2,   150.83,2,   150.83,2,   127.20,2,     0.40,    35.61,2,     0.13,     0.01,2,     0.01,    2.499,2,    0.016,    0.000,2,    0.000,2,    0.000,2,   -999.0,9,   -999.0,9,-999.0000,-999,9,  -999.00,9,  -999.00,   -999.0,9,   -999.0,   1.4610,  27.7616
  49NZ20090410,   P21,    40,  1,      9, X12009,2,20090415,1330,-16.7442, -81.0075, 4608,   3998.1,2,   1.7568,2,   1.75686,2,  34.6886,2,  34.6890,2,   155.10,2,   156.97,2,   124.96,2,     0.39,    35.51,2,     0.13,     0.01,2,     0.01,    2.484,2,    0.016, -999.000,9, -999.000,9, -999.000,9,   -999.0,9,   -999.0,9,-999.0000,-999,9,  -999.00,9,  -999.00,   -999.0,9,   -999.0,   1.4309,  27.7653
  49NZ20090410,   P21,    40,  1,      8, X12008,2,20090415,1330,-16.7442, -81.0075, 4608,   4249.5,2,   1.7633,2,   1.76332,2,  34.6896,2,  34.6902,2,   155.48,2,   156.13,2,   125.18,2,     0.39,    35.44,2,     0.13,     0.01,2,     0.01,    2.474,2,    0.016, -999.000,9, -999.000,9, -999.000,9,   -999.0,9,   -999.0,9,-999.0000,-999,9,  -999.00,9,  -999.00,   -999.0,9,   -999.0,   1.4090,  27.7677
  49NZ20090410,   P21,    40,  1,      7, X12007,2,20090415,1330,-16.7442, -81.0075, 4608,   4501.2,2,   1.7842,2,   1.78414,2,  34.6899,2,  34.6903,2,   155.17,2,   155.88,2,   125.55,2,     0.40,    35.34,2,     0.13,     0.01,2,     0.01,    2.481,2,    0.016,    0.004,2,    0.000,2,    0.000,3,   -999.0,9,   -999.0,9,-999.0000,-999,9,  -999.00,9,  -999.00,   -999.0,9,   -999.0,   1.4003,  27.7686
  49NZ20090410,   P21,    40,  1,      6, X12035,2,20090415,1330,-16.7442, -81.0075, 4608,     10.1,2,  24.3826,2,  24.38119,2,  35.4715,2,-999.0000,9,   210.02,2,  -999.00,9,     0.73,2,     0.12,     0.11,2,     0.03,     0.01,2,     0.01,    0.574,2,    0.013, -999.000,9, -999.000,9, -999.000,9,   -999.0,9,   -999.0,9,-999.0000,-999,9,  -999.00,9,  -999.00,   -999.0,9,   -999.0,  24.3804,  23.8849
  49NZ20090410,   P21,    40,  1,      5, X12038,2,20090415,1330,-16.7442, -81.0075, 4608,     49.4,2,  18.5897,2,  18.58690,2,  35.1041,2,-999.0000,9,   242.39,2,  -999.00,9,     0.40,2,     0.12,     0.27,2,     0.03,     0.02,2,     0.01,    0.406,2,    0.013, -999.000,9, -999.000,9, -999.000,9,   -999.0,9,   -999.0,9,-999.0000,-999,9,  -999.00,9,  -999.00,   -999.0,9,   -999.0,  18.5810,  25.2069
  49NZ20090410,   P21,    40,  1,      4, X12034,2,20090415,1330,-16.7442, -81.0075, 4608,    100.5,2,  15.6317,2,  15.63106,2,  34.8799,2,-999.0000,9,   167.03,2,  -999.00,9,     5.21,2,     0.13,    16.41,2,     0.08,     0.03,2,     0.01,    1.616,2,    0.014, -999.000,9, -999.000,9, -999.000,9,   -999.0,9,   -999.0,9,-999.0000,-999,9,  -999.00,9,  -999.00,   -999.0,9,   -999.0,  15.6161,  25.7424
  49NZ20090410,   P21,    40,  1,      3, X12033,2,20090415,1330,-16.7442, -81.0075, 4608,    150.7,2,  12.7359,2,  12.73593,2,  34.7302,2,-999.0000,9,    16.54,2,  -999.00,9,    19.45,2,     0.16,    21.82,2,     0.09,     0.01,2,     0.01,    2.678,2,    0.017, -999.000,9, -999.000,9, -999.000,9,   -999.0,9,   -999.0,9,-999.0000,-999,9,  -999.00,9,  -999.00,   -999.0,9,   -999.0,  12.7155,  26.2405
  49NZ20090410,   P21,    40,  1,      2, X12032,2,20090415,1330,-16.7442, -81.0075, 4608,    199.7,2,  12.0058,2,  12.00590,2,  34.7891,2,-999.0000,9,     1.92,2,  -999.00,9,    24.92,2,     0.17,    21.88,2,     0.09,     0.01,2,     0.01,    2.733,2,    0.017, -999.000,9, -999.000,9, -999.000,9,   -999.0,9,   -999.0,9,-999.0000,-999,9,  -999.00,9,  -999.00,   -999.0,9,   -999.0,  11.9798,  26.4291
  49NZ20090410,   P21,    40,  1,      1, X12046,2,20090415,1330,-16.7442, -81.0075, 4608,   4653.6,2,   1.8020,2,   1.80191,2,  34.6899,2,  34.6907,6,   155.10,2,   155.40,2,   125.67,2,     0.40,    35.53,2,     0.13,     0.01,2,     0.01,    2.482,2,    0.016,    0.006,2,    0.001,2,    0.000,2,   -999.0,9,   -999.0,9,-999.0000,-999,9,  -999.00,9,  -999.00,   -999.0,9,   -999.0,   1.3995,  27.7686