BOTTLE,20220818CCHSIOAMB
EXPOCODE,SECT_ID,STNNBR,CASTNO,SAMPNO,BTLNBR,BTLNBR_FLAG_W,DATE,TIME,LATITUDE,LONGITUDE,DEPTH,CTDPRS,CTDPRS_FLAG_W,CTDTMP,CTDTMP_FLAG_W,SBE35,SBE35_FLAG_W,CTDSAL,CTDSAL_FLAG_W,SALNTY,SALNTY_FLAG_W,CTDOXY,CTDOXY_FLAG_W,OXYGEN,OXYGEN_FLAG_W,SILCAT,SILCAT_FLAG_W,SILUNC,NITRAT,NITRAT_FLAG_W,NRAUNC,NITRIT,NITRIT_FLAG_W,NRIUNC,PHSPHT,PHSPHT_FLAG_W,PHPUNC,CFC-11,CFC-11_FLAG_W,CFC-12,CFC-12_FLAG_W,CFC113,CFC113_FLAG_W,TCARBN,TCARBN_FLAG_W,ALKALI,ALKALI_FLAG_W,PH_TOT,PH_TMP,PH_TOT_FLAG_W,DELC13,DELC13_FLAG_W,C13ERR,DELC14,DELC14_FLAG_W,C14ERR,THETA,SIG0
,,,,,,,,,,,METERS,DBAR,,ITS-90,,ITS-90,,PSS-78,,PSS-78,,UMOL/KG,,UMOL/KG,,UMOL/KG,,UMOL/KG,UMOL/KG,,UMOL/KG,UMOL/KG,,UMOL/KG,UMOL/KG,,UMOL/KG,PMOL/KG,,PMOL/KG,,PMOL/KG,,UMOL/KG,,UMOL/KG,,,DEG C,,/MILLE,,/MILLE,/MILLE,,/MILLE,DEG C,KG/M^3
  49NZ20090410,   P21,   126,  1,     36, X12006,2,20090511,0153,-16.7555,-130.6620, 4181,      9.7,2,  27.5923,2,  27.59295,2,  36.3761,2,  36.3778,2,   199.83,2,   199.27,2,     0.43,2,     0.12,     0.70,2,     0.03,     0.02,2,     0.01,    0.288,2,    0.014,    1.461,2,    0.956,2, -999.000,5,   -999.0,9,   -999.0,9,-999.0000,-999,9,  -999.00,9,  -999.00,   -999.0,9,   -999.0,  27.5900,  23.5640
  49NZ20090410,   P21,   126,  1,     35, X12047,2,20090511,0153,-16.7555,-130.6620, 4181,     48.7,2,  27.5929,2,  27.59438,2,  36.3899,2,  36.4103,2,   199.47,2,   200.60,2,     0.43,2,     0.12,     0.58,2,     0.03,     0.02,2,     0.01,    0.280,2,    0.014,    1.484,2,    0.968,2, -999.000,5,   -999.0,9,   -999.0,9,-999.0000,-999,9,  -999.00,9,  -999.00,   -999.0,9,   -999.0,  27.5815,  23.5771
  49NZ20090410,   P21,   126,  1,     34, X12004,2,20090511,0153,-16.7555,-130.6620, 4181,     99.9,2,  24.3892,2,  24.38853,2,  36.3899,2,  36.3898,2,   206.39,2,   206.23,2,     0.52,2,     0.12,     0.09,2,     0.03,     0.02,2,     0.01,    0.209,2,    0.016,    1.719,6,    1.099,6, -999.000,5,   -999.0,9,   -999.0,9,-999.0000,-999,9,  -999.00,9,  -999.00,   -999.0,9,   -999.0,  24.3678,  24.5839
  49NZ20090410,   P21,   126,  1,     33, X12003,2,20090511,0153,-16.7555,-130.6620, 4181,    148.8,2,  23.2289,2,  23.22932,2,  36.2845,2,  36.2862,2,   197.91,2,   197.62,2,     0.53,2,     0.12,     0.13,2,     0.03,     0.65,2,     0.00,    0.256,2,    0.015,    1.794,2,    1.143,2, -999.000,5,   -999.0,9,   -999.0,9,-999.0000,-999,9,  -999.00,9,  -999.00,   -999.0,9,   -999.0,  23.1981,  24.8506
  49NZ20090410,   P21,   126,  1,     32, X12002,2,20090511,0153,-16.7555,-130.6620, 4181,    200.7,2,  21.3160,2,  21.31740,2,  35.9687,2,  35.9722,2,   189.52,2,   188.74,2,     0.51,2,     0.12,     1.91,2,     0.04,     0.04,2,     0.01,    0.362,2,    0.014,    1.999,2,    1.244,2,    0.140,2,   -999.0,9,   -999.0,9,-999.0000,-999,9,  -999.00,9,  -999.00,   -999.0,9,   -999.0,  21.2770,  25.1556
  49NZ20090410,   P21,   126,  1,     31, X12001,2,20090511,0153,-16.7555,-130.6620, 4181,    251.8,2,  18.9832,2,  18.99681,2,  35.5483,2,  35.5510,6,   189.22,2,   189.03,2,     0.58,2,     0.12,     3.18,2,     0.04,     0.02,2,     0.01,    0.438,2,    0.013,    2.274,2,    1.354,2,    0.048,2,   -999.0,9,   -999.0,9,-999.0000,-999,9,  -999.00,9,  -999.00,   -999.0,9,   -999.0,  18.9381,  25.4562
  49NZ20090410,   P21,   126,  1,     30, X12030,2,20090511,0153,-16.7555,-130.6620, 4181,    279.8,2,  17.4923,2,  17.49578,2,  35.2928,2,  35.2950,2,   188.24,2,   188.45,2,     0.85,2,     0.12,     4.57,2,     0.05,     0.02,2,     0.01,    0.525,2,    0.013,    2.415,2,    1.411,2,    0.043,2,   -999.0,9,   -999.0,9,-999.0000,-999,9,  -999.00,9,  -999.00,   -999.0,9,   -999.0,  17.4450,  25.6321
  49NZ20090410,   P21,   126,  1,     29, X12044,2,20090511,0153,-16.7555,-130.6620, 4181,    369.9,2,  11.8428,2,  11.84353,2,  34.5996,2,  34.6003,2,   147.18,2,   147.14,2,     6.57,2,     0.13,    16.59,2,     0.08,     0.02,2,     0.01,    1.429,2,    0.014,    2.287,2,    1.237,2,    0.030,2,   -999.0,9,   -999.0,9,-999.0000,-999,9,  -999.00,9,  -999.00,   -999.0,9,   -999.0,  11.7948,  26.3170
  49NZ20090410,   P21,   126,  1,     28, X12048,2,20090511,0153,-16.7555,-130.6620, 4181,    469.7,2,   8.2018,2,   8.20078,2,  34.4675,2,  34.4662,6,    95.86,2,    95.86,2,    18.61,2,     0.16,    31.41,2,     0.12,     0.01,2,     0.01,    2.360,2,    0.016,    0.728,2,    0.379,2,    0.008,2,   -999.0,9,   -999.0,9,-999.0000,-999,9,  -999.00,9,  -999.00,   -999.0,9,   -999.0,   8.1531,  26.8327
  49NZ20090410,   P21,   126,  1,     27, X12027,2,20090511,0153,-16.7555,-130.6620, 4181,    569.8,2,   6.3933,2,   6.39428,2,  34.4139,2,  34.4147,2,   127.75,2,   127.38,2,    24.34,2,     0.17,    33.88,2,     0.13,     0.01,2,     0.01,    2.389,2,    0.016,    0.325,6,    0.173,6,    0.000,6,   -999.0,9,   -999.0,9,-999.0000,-999,9,  -999.00,9,  -999.00,   -999.0,9,   -999.0,   6.3416,  27.0455
  49NZ20090410,   P21,   126,  1,     26, X12026,2,20090511,0153,-16.7555,-130.6620, 4181,    670.6,2,   5.6274,2,   5.62903,2,  34.4566,2,  34.4562,2,   105.53,2,   105.65,2,    39.84,2,     0.21,    37.31,2,     0.14,     0.01,2,     0.01,    2.617,2,    0.017,    0.044,2,    0.029,2,    0.000,2,   -999.0,9,   -999.0,9,-999.0000,-999,9,  -999.00,9,  -999.00,   -999.0,9,   -999.0,   5.5700,  27.1768
  49NZ20090410,   P21,   126,  1,     25, X12025,2,20090511,0153,-16.7555,-130.6620, 4181,    772.6,2,   5.1744,2,   5.17456,2,  34.4883,2,  34.4877,2,   102.39,2,   102.41,2,    51.69,2,     0.23,    38.13,2,     0.14,     0.01,2,     0.01,    2.698,2,    0.017,    0.014,2,    0.007,2,    0.000,2,   -999.0,9,   -999.0,9,-999.0000,-999,9,  -999.00,9,  -999.00,   -999.0,9,   -999.0,   5.1103,  27.2567
  49NZ20090410,   P21,   126,  1,     24, X12024,2,20090511,0153,-16.7555,-130.6620, 4181,    870.7,2,   4.7654,2,   4.76502,2,  34.5013,2,  34.5011,2,   100.27,2,   100.26,2,    60.24,2,     0.25,    38.89,2,     0.14,     0.01,2,     0.01,    2.757,2,    0.017,    0.007,2,    0.004,2,    0.000,2,   -999.0,9,   -999.0,9,-999.0000,-999,9,  -999.00,9,  -999.00,   -999.0,9,   -999.0,   4.6952,  27.3146
  49NZ20090410,   P21,   126,  1,     23, X12028,2,20090511,0153,-16.7555,-130.6620, 4181,    970.0,2,   4.4294,2,   4.42934,2,  34.5135,2,  34.5136,6,   100.66,2,   100.68,2,    67.52,2,     0.27,    39.22,2,     0.14,     0.01,2,     0.01,    2.785,2,    0.017,    0.004,2,    0.002,2,    0.000,2,   -999.0,9,   -999.0,9,-999.0000,-999,9,  -999.00,9,  -999.00,   -999.0,9,   -999.0,   4.3530,  27.3619
  49NZ20090410,   P21,   126,  1,     22, X12022,2,20090511,0153,-16.7555,-130.6620, 4181,   1131.1,2,   3.8501,2,   3.85010,2,  34.5388,2,  34.5393,2,    97.02,2,    96.92,2,    81.44,2,     0.30,    39.99,2,     0.14,     0.01,2,     0.01,    2.855,2,    0.017,    0.001,2,    0.000,2,    0.000,2,   -999.0,9,   -999.0,9,-999.0000,-999,9,  -999.00,9,  -999.00,   -999.0,9,   -999.0,   3.7646,  27.4434
  49NZ20090410,   P21,   126,  1,     21, X12021,2,20090511,0153,-16.7555,-130.6620, 4181,   1330.8,2,   3.3088,2,   3.30894,2,  34.5642,2,  34.5643,2,   107.42,2,   107.44,2,    92.96,2,     0.32,    39.22,2,     0.14,     0.01,2,     0.01,    2.808,2,    0.017,    0.000,2,    0.000,2,    0.000,2,   -999.0,9,   -999.0,9,-999.0000,-999,9,  -999.00,9,  -999.00,   -999.0,9,   -999.0,   3.2117,  27.5176
  49NZ20090410,   P21,   126,  1,     20, X12020,2,20090511,0153,-16.7555,-130.6620, 4181,   1531.1,2,   2.8593,2,   2.85923,2,  34.5862,2,  34.5866,2,   122.42,2,   122.55,2,   100.80,2,     0.34,    38.13,2,     0.14,     0.01,2,     0.01,    2.715,2,    0.017,    0.000,2,    0.000,2,    0.000,2,   -999.0,9,   -999.0,9,-999.0000,-999,9,  -999.00,9,  -999.00,   -999.0,9,   -999.0,   2.7505,  27.5773
  49NZ20090410,   P21,   126,  1,     19, X12019,2,20090511,0153,-16.7555,-130.6620, 4181,   1730.5,2,   2.4861,2,   2.48625,2,  34.6079,2,  34.6078,2,   135.99,2,   135.93,2,   106.47,2,     0.35,    37.07,2,     0.14,     0.01,2,     0.01,    2.627,2,    0.017,    0.000,2,    0.000,2,    0.000,2,   -999.0,9,   -999.0,9,-999.0000,-999,9,  -999.00,9,  -999.00,   -999.0,9,   -999.0,   2.3653,  27.6278
  49NZ20090410,   P21,   126,  1,     18, X12043,2,20090511,0153,-16.7555,-130.6620, 4181,   1931.3,2,   2.1837,2,   2.18391,2,  34.6354,2,  34.6358,2,   139.82,2,   139.77,2,   114.49,2,     0.37,    36.76,2,     0.14,     0.01,2,     0.01,    2.599,2,    0.016,    0.000,2,    0.000,2,    0.000,2,   -999.0,9,   -999.0,9,-999.0000,-999,9,  -999.00,9,  -999.00,   -999.0,9,   -999.0,   2.0503,  27.6756
  49NZ20090410,   P21,   126,  1,     17, X12042,2,20090511,0153,-16.7555,-130.6620, 4181,   2131.2,2,   2.0199,2,   2.02003,2,  34.6499,2,  34.6497,6,   145.78,2,   145.74,2,   117.89,2,     0.38,    36.30,2,     0.13,     0.01,2,     0.01,    2.557,2,    0.016,    0.000,2,    0.000,2,    0.000,2,   -999.0,9,   -999.0,9,-999.0000,-999,9,  -999.00,9,  -999.00,   -999.0,9,   -999.0,   1.8719,  27.7012
  49NZ20090410,   P21,   126,  1,     16, X12016,2,20090511,0153,-16.7555,-130.6620, 4181,   2330.4,2,   1.9026,2,   1.90266,2,  34.6608,2,  34.6609,2,   149.24,2,   149.16,2,   121.58,2,     0.39,    36.03,2,     0.13,     0.01,2,     0.01,    2.519,2,    0.016,    0.001,2,    0.001,2,    0.000,2,   -999.0,9,   -999.0,9,-999.0000,-999,9,  -999.00,9,  -999.00,   -999.0,9,   -999.0,   1.7392,  27.7201
  49NZ20090410,   P21,   126,  1,     15, X12015,2,20090511,0153,-16.7555,-130.6620, 4181,   2532.0,2,   1.8387,2,   1.83877,2,  34.6678,2,  34.6678,2,   150.65,2,   150.59,2,   124.44,2,     0.39,    35.96,2,     0.13,     0.01,2,     0.01,    2.518,2,    0.016,    0.001,2,    0.000,2,    0.000,2,   -999.0,9,   -999.0,9,-999.0000,-999,9,  -999.00,9,  -999.00,   -999.0,9,   -999.0,   1.6585,  27.7318
  49NZ20090410,   P21,   126,  1,     14, X12050,2,20090511,0153,-16.7555,-130.6620, 4181,   2731.8,2,   1.7578,2,   1.75791,2,  34.6738,2,  34.6736,2,   153.78,2,   153.65,2,   126.46,2,     0.40,    35.71,2,     0.13,     0.01,2,     0.01,    2.510,2,    0.016,    0.000,2,    0.000,2,    0.000,2,   -999.0,9,   -999.0,9,-999.0000,-999,9,  -999.00,9,  -999.00,   -999.0,9,   -999.0,   1.5608,  27.7439
  49NZ20090410,   P21,   126,  1,     13, X12013,7,20090511,0153,-16.7555,-130.6620, 4181,   2930.3,2,   1.6966,2,   1.69663,2,  34.6769,2,  34.6773,2,   157.78,2,   157.63,2,   126.43,2,     0.40,    35.55,2,     0.13,     0.01,2,     0.01,    2.493,2,    0.016,    0.001,2,    0.000,2,    0.000,2,   -999.0,9,   -999.0,9,-999.0000,-999,9,  -999.00,9,  -999.00,   -999.0,9,   -999.0,   1.4822,  27.7522
  49NZ20090410,   P21,   126,  1,     12, X12012,2,20090511,0153,-16.7555,-130.6620, 4181,   3170.1,2,   1.6540,2,   1.65423,2,  34.6803,2,  34.6801,6,   160.15,2,   159.92,2,   127.43,2,     0.40,    35.41,2,     0.13,     0.01,2,     0.01,    2.479,2,    0.016,    0.001,2,    0.000,2,    0.000,2,   -999.0,9,   -999.0,9,-999.0000,-999,9,  -999.00,9,  -999.00,   -999.0,9,   -999.0,   1.4172,  27.7596
  49NZ20090410,   P21,   126,  1,     11, X12041,2,20090511,0153,-16.7555,-130.6620, 4181,   3419.1,2,   1.5829,2,   1.58289,2,  34.6850,2,  34.6849,2,   162.99,2,   162.81,2,   129.07,2,     0.40,    35.31,2,     0.13,     0.01,2,     0.01,    2.470,2,    0.016,    0.001,2,    0.001,2,    0.000,2,   -999.0,9,   -999.0,9,-999.0000,-999,9,  -999.00,9,  -999.00,   -999.0,9,   -999.0,   1.3229,  27.7701
  49NZ20090410,   P21,   126,  1,     10, X12040,2,20090511,0153,-16.7555,-130.6620, 4181,   3670.9,2,   1.5746,2,   1.57468,2,  34.6868,2,  34.6869,2,   164.66,2,   164.34,2,   128.92,2,     0.40,    35.22,2,     0.13,     0.01,2,     0.01,    2.463,2,    0.016,    0.000,2,    0.000,2,    0.000,2,   -999.0,9,   -999.0,9,-999.0000,-999,9,  -999.00,9,  -999.00,   -999.0,9,   -999.0,   1.2888,  27.7739
  49NZ20090410,   P21,   126,  1,      9, X12009,2,20090511,0153,-16.7555,-130.6620, 4181,   3920.7,2,   1.5786,2,   1.57886,2,  34.6879,2,  34.6875,2,   165.78,2,   165.43,2,   128.81,2,     0.40,    35.11,2,     0.13,     0.01,2,     0.01,    2.460,2,    0.016,    0.000,2,    0.000,2,    0.000,2,   -999.0,9,   -999.0,9,-999.0000,-999,9,  -999.00,9,  -999.00,   -999.0,9,   -999.0,   1.2661,  27.7764
  49NZ20090410,   P21,   126,  1,      8, X12008,2,20090511,0153,-16.7555,-130.6620, 4181,   4170.2,2,   1.5873,2,   1.58715,2,  34.6885,2,  34.6887,2,   166.89,2,   166.59,2,   128.67,2,     0.40,    34.98,2,     0.13,     0.01,2,     0.01,    2.454,2,    0.016,    0.000,2,    0.001,2,    0.000,2,   -999.0,9,   -999.0,9,-999.0000,-999,9,  -999.00,9,  -999.00,   -999.0,9,   -999.0,   1.2471,  27.7782
  49NZ20090410,   P21,   126,  1,      7, X12007,9,20090511,0153,-16.7555,-130.6620, 4181,      9.6,2,  27.6035,2,  27.60434,2,  36.3802,2,-999.0000,9,   199.68,2,  -999.00,9,  -999.00,9,  -999.00,  -999.00,9,  -999.00,  -999.00,9,  -999.00, -999.000,9, -999.000, -999.000,9, -999.000,9, -999.000,9,   -999.0,9,   -999.0,9,-999.0000,-999,9,  -999.00,9,  -999.00,   -999.0,9,   -999.0,  27.6013,  23.5634
  49NZ20090410,   P21,   126,  1,      6, X12035,9,20090511,0153,-16.7555,-130.6620, 4181,   1131.2,2,   3.8503,2,   3.85012,2,  34.5387,2,-999.0000,9,    97.04,2,  -999.00,9,  -999.00,9,  -999.00,  -999.00,9,  -999.00,  -999.00,9,  -999.00, -999.000,9, -999.000, -999.000,9, -999.000,9, -999.000,9,   -999.0,9,   -999.0,9,-999.0000,-999,9,  -999.00,9,  -999.00,   -999.0,9,   -999.0,   3.7648,  27.4433
  49NZ20090410,   P21,   126,  1,      5, X12038,9,20090511,0153,-16.7555,-130.6620, 4181,   2532.8,2,   1.8387,2,   1.83877,2,  34.6677,2,-999.0000,9,   150.62,2,  -999.00,9,  -999.00,9,  -999.00,  -999.00,9,  -999.00,  -999.00,9,  -999.00, -999.000,9, -999.000, -999.000,9, -999.000,9, -999.000,9,   -999.0,9,   -999.0,9,-999.0000,-999,9,  -999.00,9,  -999.00,   -999.0,9,   -999.0,   1.6584,  27.7318
  49NZ20090410,   P21,   126,  1,      4, X12034,9,20090511,0153,-16.7555,-130.6620, 4181,   2732.0,2,   1.7579,2,   1.75797,2,  34.6737,2,-999.0000,9,   153.80,2,  -999.00,9,  -999.00,9,  -999.00,  -999.00,9,  -999.00,  -999.00,9,  -999.00, -999.000,9, -999.000, -999.000,9, -999.000,9, -999.000,9,   -999.0,9,   -999.0,9,-999.0000,-999,9,  -999.00,9,  -999.00,   -999.0,9,   -999.0,   1.5609,  27.7439
  49NZ20090410,   P21,   126,  1,      3, X12033,9,20090511,0153,-16.7555,-130.6620, 4181,   2931.6,2,   1.6965,2,   1.69659,2,  34.6770,2,-999.0000,9,   157.81,2,  -999.00,9,  -999.00,9,  -999.00,  -999.00,9,  -999.00,  -999.00,9,  -999.00, -999.000,9, -999.000, -999.000,9, -999.000,9, -999.000,9,   -999.0,9,   -999.0,9,-999.0000,-999,9,  -999.00,9,  -999.00,   -999.0,9,   -999.0,   1.4819,  27.7522
  49NZ20090410,   P21,   126,  1,      2, X12032,9,20090511,0153,-16.7555,-130.6620, 4181,    870.8,2,   4.7649,2,   4.76493,2,  34.5013,2,-999.0000,9,   100.36,2,  -999.00,9,  -999.00,9,  -999.00,  -999.00,9,  -999.00,  -999.00,9,  -999.00, -999.000,9, -999.000, -999.000,9, -999.000,9, -999.000,9,   -999.0,9,   -999.0,9,-999.0000,-999,9,  -999.00,9,  -999.00,   -999.0,9,   -999.0,   4.6947,  27.3146
  49NZ20090410,   P21,   126,  1,      1, X12046,2,20090511,0153,-16.7555,-130.6620, 4181,   4221.9,2,   1.5900,2,   1.58998,2,  34.6888,2,  34.6887,6,   167.12,2,   166.84,2,   128.68,2,     0.40,    35.04,2,     0.13,     0.01,2,     0.01,    2.455,2,    0.016,    0.000,2,    0.000,2,    0.000,2,   -999.0,9,   -999.0,9,-999.0000,-999,9,  -999.00,9,  -999.00,   -999.0,9,   -999.0,   1.2439,  27.7787