BOTTLE,20220818CCHSIOAMB
EXPOCODE,SECT_ID,STNNBR,CASTNO,SAMPNO,BTLNBR,BTLNBR_FLAG_W,DATE,TIME,LATITUDE,LONGITUDE,DEPTH,CTDPRS,CTDPRS_FLAG_W,CTDTMP,CTDTMP_FLAG_W,SBE35,SBE35_FLAG_W,CTDSAL,CTDSAL_FLAG_W,SALNTY,SALNTY_FLAG_W,CTDOXY,CTDOXY_FLAG_W,OXYGEN,OXYGEN_FLAG_W,SILCAT,SILCAT_FLAG_W,SILUNC,NITRAT,NITRAT_FLAG_W,NRAUNC,NITRIT,NITRIT_FLAG_W,NRIUNC,PHSPHT,PHSPHT_FLAG_W,PHPUNC,CFC-11,CFC-11_FLAG_W,CFC-12,CFC-12_FLAG_W,CFC113,CFC113_FLAG_W,TCARBN,TCARBN_FLAG_W,ALKALI,ALKALI_FLAG_W,PH_TOT,PH_TMP,PH_TOT_FLAG_W,DELC13,DELC13_FLAG_W,C13ERR,DELC14,DELC14_FLAG_W,C14ERR,THETA,SIG0
,,,,,,,,,,,METERS,DBAR,,ITS-90,,ITS-90,,PSS-78,,PSS-78,,UMOL/KG,,UMOL/KG,,UMOL/KG,,UMOL/KG,UMOL/KG,,UMOL/KG,UMOL/KG,,UMOL/KG,UMOL/KG,,UMOL/KG,PMOL/KG,,PMOL/KG,,PMOL/KG,,UMOL/KG,,UMOL/KG,,,DEG C,,/MILLE,,/MILLE,/MILLE,,/MILLE,DEG C,KG/M^3
  49NZ20090410,   P21,    59,  1,     36, X12006,2,20090426,1912,-16.7465, -91.3338, 4409,     10.3,2,  23.9110,2,  23.91123,2,  35.8142,2,  35.8142,2,   213.26,2,   213.26,2,     0.50,2,     0.12,     1.10,2,     0.04,     0.03,2,     0.01,    0.452,2,    0.013,    1.686,2,    1.082,2, -999.000,5,   2045.8,2,   2371.2,2,   8.0685,  25,6,  -999.00,1,  -999.00,   -999.0,1,   -999.0,  23.9088,  24.2850
  49NZ20090410,   P21,    59,  1,     35, X12047,2,20090426,1912,-16.7465, -91.3338, 4409,     49.6,2,  23.2592,2,  23.23088,2,  35.8251,2,  35.8049,2,   214.14,2,   216.64,2,     0.45,2,     0.12,     0.06,2,     0.03,     0.01,2,     0.01,    0.449,2,    0.013,    1.803,2,    1.155,2, -999.000,5,   2067.9,6,   2374.1,2,   8.0372,  25,2,  -999.00,1,  -999.00,   -999.0,1,   -999.0,  23.2490,  24.4872
  49NZ20090410,   P21,    59,  1,     34, X12004,2,20090426,1912,-16.7465, -91.3338, 4409,     99.8,2,  19.8896,2,  19.88851,2,  35.5652,2,  35.5603,2,   221.50,2,   222.07,2,     0.25,2,     0.12,     0.10,2,     0.03,     0.04,2,     0.01,    0.437,2,    0.013,    2.093,6,    1.319,6, -999.000,5,   2079.2,2,   2356.4,6,   7.9940,  25,2,  -999.00,1,  -999.00,   -999.0,1,   -999.0,  19.8712,  25.2270
  49NZ20090410,   P21,    59,  1,     33, X12003,3,20090426,1912,-16.7465, -91.3338, 4409,    150.1,2,  17.1429,2,  17.15208,2,  35.0888,2,  35.0377,2,   207.18,2,   203.36,2,     0.73,2,     0.12,     5.30,2,     0.05,     0.02,2,     0.01,    0.669,2,    0.013,    2.403,2,    1.481,2,    0.154,2,   2091.9,2,   2315.7,2,   7.9075,  25,2,  -999.00,1,  -999.00,   -999.0,1,   -999.0,  17.1180,  25.5543
  49NZ20090410,   P21,    59,  1,     32, X12002,2,20090426,1912,-16.7465, -91.3338, 4409,    201.3,2,  13.5237,2,  13.53651,2,  34.6489,2,  34.6422,2,   144.81,2,   146.85,2,     5.10,2,     0.13,    15.47,2,     0.08,     0.01,2,     0.01,    1.475,2,    0.014,    2.507,2,    1.466,2,    0.075,2,   2149.0,2,   2289.7,2,   7.7263,  25,2,  -999.00,1,  -999.00,   -999.0,1,   -999.0,  13.4954,  26.0204
  49NZ20090410,   P21,    59,  1,     31, X12001,2,20090426,1912,-16.7465, -91.3338, 4409,    248.7,2,  11.8580,2,  11.85425,2,  34.6753,2,  34.6737,6,    20.98,2,    21.61,2,    19.67,2,     0.16,    23.17,2,     0.10,     0.01,2,     0.01,    2.590,2,    0.016,    1.291,2,    0.722,2,    0.011,2,   2254.9,2,   2292.3,2,   7.4375,  25,2,  -999.00,1,  -999.00,   -999.0,1,   -999.0,  11.8258,  26.3699
  49NZ20090410,   P21,    59,  1,     30, X12030,2,20090426,1912,-16.7465, -91.3338, 4409,    279.7,2,  11.2159,2,  11.21986,2,  34.6961,2,  34.6957,2,     8.49,2,     8.67,2,    22.82,2,     0.17,    26.52,2,     0.11,     0.01,2,     0.01,    2.723,2,    0.017,    0.814,2,    0.444,2,    0.006,2,   2268.5,2,   2294.4,2,   7.4029,  25,2,  -999.00,1,  -999.00,   -999.0,1,   -999.0,  11.1810,  26.5060
  49NZ20090410,   P21,    59,  1,     29, X12044,2,20090426,1912,-16.7465, -91.3338, 4409,    370.1,2,   9.5914,2,   9.58901,2,  34.6437,2,  34.6423,2,     8.54,2,     8.65,2,    26.46,2,     0.18,    34.81,2,     0.13,     0.01,2,     0.01,    2.809,2,    0.017,    0.304,2,    0.160,2,    0.008,2,   2276.6,2,   2296.6,2,   7.3831,  25,2,  -999.00,1,  -999.00,   -999.0,1,   -999.0,   9.5494,  26.7495
  49NZ20090410,   P21,    59,  1,     28, X12048,2,20090426,1912,-16.7465, -91.3338, 4409,    468.6,2,   7.9661,2,   7.97008,2,  34.5660,2,  34.5650,6,    26.14,2,    26.23,2,    30.90,2,     0.19,    39.52,2,     0.14,     0.01,2,     0.01,    2.863,2,    0.017,    0.148,2,    0.080,2,    0.005,2,   2275.1,2,   2297.8,2,   7.3943,  25,2,  -999.00,1,  -999.00,   -999.0,1,   -999.0,   7.9183,  26.9451
  49NZ20090410,   P21,    59,  1,     27, X12027,2,20090426,1912,-16.7465, -91.3338, 4409,    569.2,2,   6.8777,2,   6.87856,2,  34.5200,2,  34.5195,2,    40.92,2,    41.14,2,    36.48,2,     0.20,    41.18,2,     0.15,     0.01,2,     0.01,    2.931,2,    0.017,    0.086,6,    0.045,6,    0.000,6,   2275.0,2,   2302.3,2,   7.4070,  25,2,  -999.00,1,  -999.00,   -999.0,1,   -999.0,   6.8239,  27.0648
  49NZ20090410,   P21,    59,  1,     26, X12026,2,20090426,1912,-16.7465, -91.3338, 4409,    669.0,2,   6.0530,2,   6.05660,2,  34.4865,2,  34.4869,2,    57.80,2,    56.63,2,    41.04,2,     0.21,    41.58,2,     0.15,     0.01,2,     0.01,    2.927,2,    0.017,    0.028,2,    0.015,2,    0.000,2,   2273.8,6,   2306.1,2,   7.4239,  25,2,  -999.00,1,  -999.00,   -999.0,1,   -999.0,   5.9935,  27.1477
  49NZ20090410,   P21,    59,  1,     25, X12025,2,20090426,1912,-16.7465, -91.3338, 4409,    769.0,2,   5.3728,2,   5.37396,2,  34.4935,2,  34.4943,2,    55.44,2,    52.83,2,    52.75,2,     0.24,    43.21,2,     0.15,     0.01,2,     0.01,    3.058,2,    0.018,    0.002,2,    0.002,2,    0.000,2,   2290.3,2,   2319.3,6,   7.4117,  25,2,  -999.00,1,  -999.00,   -999.0,1,   -999.0,   5.3078,  27.2376
  49NZ20090410,   P21,    59,  1,     24, X12024,2,20090426,1912,-16.7465, -91.3338, 4409,    868.7,2,   4.8685,2,   4.87007,2,  34.5096,2,  34.5088,2,    54.30,2,    54.19,2,    63.88,2,     0.26,    43.73,2,     0.16,     0.00,2,     0.01,    3.103,2,    0.018,    0.001,2,    0.002,2,    0.000,2,   2301.4,2,   2331.6,2,   7.4122,  25,6,  -999.00,1,  -999.00,   -999.0,1,   -999.0,   4.7978,  27.3095
  49NZ20090410,   P21,    59,  1,     23, X12028,2,20090426,1912,-16.7465, -91.3338, 4409,    970.3,2,   4.4165,2,   4.41691,2,  34.5219,2,  34.5213,6,    62.87,2,    63.08,2,    73.15,2,     0.28,    42.99,2,     0.15,     0.01,2,     0.01,    3.086,2,    0.018,    0.000,2,    0.001,2,    0.000,2,   2306.8,2,   2342.5,2,   7.4275,  25,2,  -999.00,1,  -999.00,   -999.0,1,   -999.0,   4.3402,  27.3698
  49NZ20090410,   P21,    59,  1,     22, X12022,2,20090426,1912,-16.7465, -91.3338, 4409,   1129.8,2,   3.8426,2,   3.84301,2,  34.5469,2,  34.5471,2,    72.64,2,    72.73,2,    86.84,2,     0.31,    42.30,2,     0.15,     0.01,2,     0.01,    3.046,2,    0.018,    0.000,2,    0.001,2,    0.000,2,   2315.4,2,   2358.0,2,   7.4447,  25,2,  -999.00,1,  -999.00,   -999.0,1,   -999.0,   3.7573,  27.4506
  49NZ20090410,   P21,    59,  1,     21, X12021,2,20090426,1912,-16.7465, -91.3338, 4409,   1330.1,2,   3.3213,2,   3.32105,2,  34.5741,2,  34.5737,2,    80.98,2,    81.30,2,   100.43,2,     0.34,    41.65,2,     0.15,     0.00,2,     0.01,    3.009,2,    0.017,    0.001,2,    0.002,2,    0.000,2,   2326.1,2,   2373.1,2,   7.4596,  25,2,  -999.00,1,  -999.00,   -999.0,1,   -999.0,   3.2241,  27.5242
  49NZ20090410,   P21,    59,  1,     20, X12020,2,20090426,1912,-16.7465, -91.3338, 4409,   1529.6,2,   2.8925,2,   2.89245,2,  34.5954,2,  34.5953,2,    94.16,2,    94.20,2,   109.32,2,     0.36,    40.57,2,     0.15,     0.00,2,     0.01,    2.913,2,    0.017,    0.000,2,    0.000,2,    0.000,2,   2328.7,2,   2383.6,2,   7.4832,  25,6,  -999.00,1,  -999.00,   -999.0,1,   -999.0,   2.7834,  27.5817
  49NZ20090410,   P21,    59,  1,     19, X12019,2,20090426,1912,-16.7465, -91.3338, 4409,   1729.8,2,   2.5792,2,   2.57903,2,  34.6179,2,  34.6181,2,   102.52,2,   102.65,2,   118.50,2,     0.38,    39.71,2,     0.14,     0.00,2,     0.01,    2.848,2,    0.017,    0.000,2,    0.000,2,    0.000,2,   2333.7,2,   2394.8,2,   7.5022,  25,2,  -999.00,1,  -999.00,   -999.0,1,   -999.0,   2.4572,  27.6281
  49NZ20090410,   P21,    59,  1,     18, X12043,2,20090426,1912,-16.7465, -91.3338, 4409,   1929.9,2,   2.3426,2,   2.34281,2,  34.6341,2,  34.6339,2,   110.55,2,   110.65,2,   124.04,2,     0.39,    39.11,2,     0.14,     0.01,2,     0.01,    2.787,2,    0.017,    0.002,2,    0.000,2,    0.000,2,   2335.9,2,   2402.1,2,   7.5182,  25,2,  -999.00,1,  -999.00,   -999.0,1,   -999.0,   2.2070,  27.6619
  49NZ20090410,   P21,    59,  1,     17, X12042,2,20090426,1912,-16.7465, -91.3338, 4409,   2131.4,2,   2.1509,2,   2.15070,2,  34.6478,2,  34.6475,6,   118.76,2,   118.89,2,   127.92,2,     0.40,    38.42,2,     0.14,     0.01,2,     0.01,    2.725,2,    0.017, -999.000,9, -999.000,9, -999.000,9,   2334.5,2,   2407.1,2,   7.5344,  25,2,  -999.00,1,  -999.00,   -999.0,1,   -999.0,   2.0008,  27.6894
  49NZ20090410,   P21,    59,  1,     16, X12016,2,20090426,1912,-16.7465, -91.3338, 4409,   2330.3,2,   1.9975,2,   1.99745,2,  34.6587,2,  34.6580,2,   128.84,2,   129.07,2,   128.20,2,     0.40,    37.58,2,     0.14,     0.01,2,     0.01,    2.651,2,    0.017, -999.000,9, -999.000,9, -999.000,9,   2330.7,6,   2409.1,2,   7.5511,  25,2,  -999.00,1,  -999.00,   -999.0,1,   -999.0,   1.8325,  27.7113
  49NZ20090410,   P21,    59,  1,     15, X12015,2,20090426,1912,-16.7465, -91.3338, 4409,   2530.2,2,   1.9003,2,   1.90028,2,  34.6668,2,  34.6666,2,   136.22,2,   136.55,2,   128.30,2,     0.40,    36.89,2,     0.14,     0.01,2,     0.01,    2.604,2,    0.016,    0.001,2,    0.001,2,    0.000,2,   2327.7,2,   2410.6,6,   7.5647,  25,2,  -999.00,1,  -999.00,   -999.0,1,   -999.0,   1.7191,  27.7265
  49NZ20090410,   P21,    59,  1,     14, X12050,2,20090426,1912,-16.7465, -91.3338, 4409,   2729.5,2,   1.8439,2,   1.84384,2,  34.6725,2,  34.6723,2,   141.41,2,   141.58,2,   128.51,2,     0.40,    36.63,2,     0.14,     0.01,2,     0.01,    2.577,2,    0.016, -999.000,9, -999.000,9, -999.000,9,   2325.4,2,   2412.4,2,   7.5752,  25,6,  -999.00,1,  -999.00,   -999.0,1,   -999.0,   1.6454,  27.7366
  49NZ20090410,   P21,    59,  1,     13, X12013,3,20090426,1912,-16.7465, -91.3338, 4409,   2931.3,2,   1.8103,2,   1.81025,2,  34.6771,2,  34.6773,2,   143.74,2,   143.84,2,   129.52,2,     0.40,    36.48,2,     0.13,     0.01,2,     0.01,    2.549,2,    0.016, -999.000,9, -999.000,9, -999.000,9,   2325.9,2,   2415.5,2,   7.5826,  25,2,  -999.00,1,  -999.00,   -999.0,1,   -999.0,   1.5933,  27.7441
  49NZ20090410,   P21,    59,  1,     12, X12012,2,20090426,1912,-16.7465, -91.3338, 4409,   3170.7,2,   1.7930,2,   1.79303,2,  34.6808,2,  34.6800,6,   144.63,2,   144.78,2,   130.67,2,     0.41,    36.42,2,     0.13,     0.00,2,     0.01,    2.546,2,    0.016,    0.000,2,    0.000,2,    0.000,2,   2326.8,2,   2418.9,2,   7.5855,  25,2,  -999.00,1,  -999.00,   -999.0,1,   -999.0,   1.5530,  27.7501
  49NZ20090410,   P21,    59,  1,     11, X12041,2,20090426,1912,-16.7465, -91.3338, 4409,   3418.9,2,   1.7890,2,   1.78895,2,  34.6834,2,  34.6830,2,   145.61,2,   145.69,2,   130.49,2,     0.41,    36.34,2,     0.13,     0.01,2,     0.01,    2.545,2,    0.016, -999.000,9, -999.000,9, -999.000,9,   2328.7,2,   2419.6,2,   7.5880,  25,2,  -999.00,1,  -999.00,   -999.0,1,   -999.0,   1.5240,  27.7544
  49NZ20090410,   P21,    59,  1,     10, X12040,2,20090426,1912,-16.7465, -91.3338, 4409,   3670.3,2,   1.7870,2,   1.78696,2,  34.6856,2,  34.6849,2,   147.06,2,   147.12,2,   129.56,2,     0.40,    36.13,2,     0.13,     0.01,2,     0.01,    2.529,2,    0.016, -999.000,9, -999.000,9, -999.000,9,   2326.4,2,   2418.4,2,   7.5888,  25,2,  -999.00,1,  -999.00,   -999.0,1,   -999.0,   1.4957,  27.7582
  49NZ20090410,   P21,    59,  1,      9, X12009,2,20090426,1912,-16.7465, -91.3338, 4409,   3920.3,2,   1.7807,2,   1.78086,2,  34.6877,2,  34.6869,2,   149.75,2,   150.03,2,   128.33,2,     0.40,    35.90,2,     0.13,     0.01,2,     0.01,    2.519,2,    0.016,    0.000,2,    0.000,2,    0.000,2,   2323.7,2,   2415.4,2,   7.5904,  25,2,  -999.00,1,  -999.00,   -999.0,1,   -999.0,   1.4626,  27.7623
  49NZ20090410,   P21,    59,  1,      8, X12008,2,20090426,1912,-16.7465, -91.3338, 4409,   4170.2,2,   1.7943,2,   1.79425,2,  34.6885,2,  34.6881,2,   150.85,2,   151.07,2,   127.53,2,     0.40,    35.81,2,     0.13,     0.00,2,     0.01,    2.514,2,    0.016,    0.002,2,    0.001,2,    0.000,2,   2321.8,6,   2414.9,2,   7.5905,  25,2,  -999.00,1,  -999.00,   -999.0,1,   -999.0,   1.4481,  27.7640
  49NZ20090410,   P21,    59,  1,      7, X12007,9,20090426,1912,-16.7465, -91.3338, 4409,     10.5,2,  23.9119,2,  23.91202,2,  35.8143,2,-999.0000,9,   213.25,2,  -999.00,9,  -999.00,9,  -999.00,  -999.00,9,  -999.00,  -999.00,9,  -999.00, -999.000,9, -999.000, -999.000,9, -999.000,9, -999.000,9,   -999.0,9,   -999.0,9,-999.0000,-999,9,  -999.00,9,  -999.00,   -999.0,9,   -999.0,  23.9097,  24.2848
  49NZ20090410,   P21,    59,  1,      6, X12035,9,20090426,1912,-16.7465, -91.3338, 4409,     49.4,2,  23.2926,2,  23.28645,2,  35.8305,2,-999.0000,9,   214.10,2,  -999.00,9,  -999.00,9,  -999.00,  -999.00,9,  -999.00,  -999.00,9,  -999.00, -999.000,9, -999.000, -999.000,9, -999.000,9, -999.000,9,   -999.0,9,   -999.0,9,-999.0000,-999,9,  -999.00,9,  -999.00,   -999.0,9,   -999.0,  23.2824,  24.4816
  49NZ20090410,   P21,    59,  1,      5, X12038,9,20090426,1912,-16.7465, -91.3338, 4409,    100.1,2,  19.8754,2,  19.87576,2,  35.5638,2,-999.0000,9,   222.50,2,  -999.00,9,  -999.00,9,  -999.00,  -999.00,9,  -999.00,  -999.00,9,  -999.00, -999.000,9, -999.000, -999.000,9, -999.000,9, -999.000,9,   -999.0,9,   -999.0,9,-999.0000,-999,9,  -999.00,9,  -999.00,   -999.0,9,   -999.0,  19.8569,  25.2296
  49NZ20090410,   P21,    59,  1,      4, X12034,9,20090426,1912,-16.7465, -91.3338, 4409,    149.8,2,  17.1697,2,  17.17815,2,  35.0946,2,-999.0000,9,   207.50,2,  -999.00,9,  -999.00,9,  -999.00,  -999.00,9,  -999.00,  -999.00,9,  -999.00, -999.000,9, -999.000, -999.000,9, -999.000,9, -999.000,9,   -999.0,9,   -999.0,9,-999.0000,-999,9,  -999.00,9,  -999.00,   -999.0,9,   -999.0,  17.1448,  25.5523
  49NZ20090410,   P21,    59,  1,      3, X12033,9,20090426,1912,-16.7465, -91.3338, 4409,    200.7,2,  13.5397,2,  13.53558,2,  34.6443,2,-999.0000,9,   149.26,2,  -999.00,9,  -999.00,9,  -999.00,  -999.00,9,  -999.00,  -999.00,9,  -999.00, -999.000,9, -999.000, -999.000,9, -999.000,9, -999.000,9,   -999.0,9,   -999.0,9,-999.0000,-999,9,  -999.00,9,  -999.00,   -999.0,9,   -999.0,  13.5114,  26.0136
  49NZ20090410,   P21,    59,  1,      2, X12032,9,20090426,1912,-16.7465, -91.3338, 4409,    248.8,2,  11.8463,2,  11.83927,2,  34.6736,2,-999.0000,9,    21.35,2,  -999.00,9,  -999.00,9,  -999.00,  -999.00,9,  -999.00,  -999.00,9,  -999.00, -999.000,9, -999.000, -999.000,9, -999.000,9, -999.000,9,   -999.0,9,   -999.0,9,-999.0000,-999,9,  -999.00,9,  -999.00,   -999.0,9,   -999.0,  11.8142,  26.3709
  49NZ20090410,   P21,    59,  1,      1, X12046,2,20090426,1912,-16.7465, -91.3338, 4409,   4457.0,2,   1.8239,2,   1.82372,2,  34.6886,2,  34.6889,6,   151.13,2,   151.31,2,   127.30,2,     0.40,    35.78,2,     0.13,     0.01,2,     0.01,    2.510,2,    0.016,    0.000,2,    0.000,2,    0.000,2,   2321.0,2,   2414.6,2,   7.5914,  25,2,  -999.00,1,  -999.00,   -999.0,1,   -999.0,   1.4439,  27.7643