BOTTLE,20220818CCHSIOAMB
EXPOCODE,SECT_ID,STNNBR,CASTNO,SAMPNO,BTLNBR,BTLNBR_FLAG_W,DATE,TIME,LATITUDE,LONGITUDE,DEPTH,CTDPRS,CTDPRS_FLAG_W,CTDTMP,CTDTMP_FLAG_W,SBE35,SBE35_FLAG_W,CTDSAL,CTDSAL_FLAG_W,SALNTY,SALNTY_FLAG_W,CTDOXY,CTDOXY_FLAG_W,OXYGEN,OXYGEN_FLAG_W,SILCAT,SILCAT_FLAG_W,SILUNC,NITRAT,NITRAT_FLAG_W,NRAUNC,NITRIT,NITRIT_FLAG_W,NRIUNC,PHSPHT,PHSPHT_FLAG_W,PHPUNC,CFC-11,CFC-11_FLAG_W,CFC-12,CFC-12_FLAG_W,CFC113,CFC113_FLAG_W,TCARBN,TCARBN_FLAG_W,ALKALI,ALKALI_FLAG_W,PH_TOT,PH_TMP,PH_TOT_FLAG_W,DELC13,DELC13_FLAG_W,C13ERR,DELC14,DELC14_FLAG_W,C14ERR,THETA,SIG0
,,,,,,,,,,,METERS,DBAR,,ITS-90,,ITS-90,,PSS-78,,PSS-78,,UMOL/KG,,UMOL/KG,,UMOL/KG,,UMOL/KG,UMOL/KG,,UMOL/KG,UMOL/KG,,UMOL/KG,UMOL/KG,,UMOL/KG,PMOL/KG,,PMOL/KG,,PMOL/KG,,UMOL/KG,,UMOL/KG,,,DEG C,,/MILLE,,/MILLE,/MILLE,,/MILLE,DEG C,KG/M^3
  49NZ20090410,   P21,   107,  1,     36, X12006,2,20090506,1959,-16.7503,-118.0072, 3541,      9.6,2,  26.1717,2,  26.17173,2,  36.2989,2,  36.2991,2,   204.78,2,   204.44,2,     0.73,2,     0.12,     0.83,2,     0.04,     0.03,2,     0.01,    0.370,2,    0.014,    1.579,2,    1.035,2,    0.157,4,   -999.0,9,   -999.0,9,-999.0000,-999,9,  -999.00,9,  -999.00,   -999.0,9,   -999.0,  26.1695,  23.9604
  49NZ20090410,   P21,   107,  1,     35, X12047,2,20090506,1959,-16.7503,-118.0072, 3541,     48.4,2,  26.1161,2,  26.11519,2,  36.3665,2,  36.3697,2,   204.32,2,   204.34,2,     0.73,2,     0.12,     0.31,2,     0.03,     0.02,2,     0.01,    0.339,2,    0.014,    1.583,2,    0.995,2,    0.184,4,   -999.0,9,   -999.0,9,-999.0000,-999,9,  -999.00,9,  -999.00,   -999.0,9,   -999.0,  26.1052,  24.0317
  49NZ20090410,   P21,   107,  1,     34, X12004,2,20090506,1959,-16.7503,-118.0072, 3541,     99.2,2,  23.5083,2,  23.50471,2,  36.3673,2,  36.3628,2,   206.79,2,   206.41,2,     0.53,2,     0.12,     0.13,2,     0.03,     0.04,2,     0.01,    0.356,2,    0.014,    1.830,2,    1.142,2, -999.000,5,   -999.0,9,   -999.0,9,-999.0000,-999,9,  -999.00,9,  -999.00,   -999.0,9,   -999.0,  23.4876,  24.8286
  49NZ20090410,   P21,   107,  1,     33, X12003,2,20090506,1959,-16.7503,-118.0072, 3541,    149.3,2,  21.5614,2,  21.54936,2,  36.0724,2,  36.0641,2,   197.89,2,   197.58,2,     0.56,2,     0.12,     0.94,2,     0.04,     1.16,2,     0.00,    0.440,2,    0.013,    1.978,2,    1.226,2, -999.000,5,   -999.0,9,   -999.0,9,-999.0000,-999,9,  -999.00,9,  -999.00,   -999.0,9,   -999.0,  21.5321,  25.1638
  49NZ20090410,   P21,   107,  1,     32, X12002,2,20090506,1959,-16.7503,-118.0072, 3541,    199.3,2,  19.7256,2,  19.72257,2,  35.6812,2,  35.6695,2,   193.71,2,   193.80,2,     0.67,2,     0.12,     3.65,2,     0.04,     0.03,2,     0.01,    0.564,2,    0.013,    2.148,2,    1.312,2,    0.153,2,   -999.0,9,   -999.0,9,-999.0000,-999,9,  -999.00,9,  -999.00,   -999.0,9,   -999.0,  19.6890,  25.3634
  49NZ20090410,   P21,   107,  1,     31, X12001,2,20090506,1959,-16.7503,-118.0072, 3541,    248.6,2,  17.2893,2,  17.28484,2,  35.2399,2,  35.2374,6,   176.83,2,   176.93,2,     1.65,2,     0.12,     7.76,2,     0.05,     0.02,2,     0.01,    0.831,2,    0.013,    2.314,2,    1.403,2,    0.099,2,   -999.0,9,   -999.0,9,-999.0000,-999,9,  -999.00,9,  -999.00,   -999.0,9,   -999.0,  17.2477,  25.6392
  49NZ20090410,   P21,   107,  1,     30, X12030,2,20090506,1959,-16.7503,-118.0072, 3541,    331.2,2,  11.2867,2,  11.28937,2,  34.5646,2,  34.5675,2,    84.71,2,    83.55,2,    12.89,2,     0.15,    22.44,2,     0.10,     0.01,2,     0.01,    2.065,2,    0.015,    1.711,2,    0.906,2,    0.028,2,   -999.0,9,   -999.0,9,-999.0000,-999,9,  -999.00,9,  -999.00,   -999.0,9,   -999.0,  11.2451,  26.3919
  49NZ20090410,   P21,   107,  1,     29, X12044,2,20090506,1959,-16.7503,-118.0072, 3541,    430.1,2,   8.8644,2,   8.86455,2,  34.5551,2,  34.5552,2,    46.92,2,    46.26,2,    23.05,2,     0.17,    33.94,2,     0.13,     0.02,2,     0.01,    2.610,2,    0.017,    0.395,2,    0.211,2,    0.018,2,   -999.0,9,   -999.0,9,-999.0000,-999,9,  -999.00,9,  -999.00,   -999.0,9,   -999.0,   8.8177,  26.7987
  49NZ20090410,   P21,   107,  1,     28, X12048,2,20090506,1959,-16.7503,-118.0072, 3541,    529.9,2,   7.0658,2,   7.06583,2,  34.4986,2,  34.4980,6,    80.52,2,    80.25,2,    29.08,2,     0.18,    36.53,2,     0.14,     0.02,2,     0.01,    2.581,2,    0.016,    0.159,2,    0.090,2,    0.000,2,   -999.0,9,   -999.0,9,-999.0000,-999,9,  -999.00,9,  -999.00,   -999.0,9,   -999.0,   7.0151,  27.0217
  49NZ20090410,   P21,   107,  1,     27, X12027,2,20090506,1959,-16.7503,-118.0072, 3541,    630.2,2,   6.1582,2,   6.15881,2,  34.4788,2,  34.4786,2,    91.76,2,    91.53,2,    36.49,2,     0.20,    37.42,2,     0.14,     0.01,2,     0.01,    2.632,2,    0.017,    0.045,6,    0.026,6,    0.000,6,   -999.0,9,   -999.0,9,-999.0000,-999,9,  -999.00,9,  -999.00,   -999.0,9,   -999.0,   6.1018,  27.1278
  49NZ20090410,   P21,   107,  1,     26, X12026,2,20090506,1959,-16.7503,-118.0072, 3541,    730.4,2,   5.6982,2,   5.69837,2,  34.4926,2,  34.4924,2,    80.57,2,    80.21,2,    45.61,2,     0.22,    39.62,2,     0.14,     0.01,2,     0.01,    2.769,2,    0.017,    0.010,2,    0.009,2,    0.000,2,   -999.0,9,   -999.0,9,-999.0000,-999,9,  -999.00,9,  -999.00,   -999.0,9,   -999.0,   5.6349,  27.1973
  49NZ20090410,   P21,   107,  1,     25, X12025,2,20090506,1959,-16.7503,-118.0072, 3541,    830.0,2,   5.1885,2,   5.18762,2,  34.4976,2,  34.4970,2,    79.35,2,    79.11,2,    54.38,2,     0.24,    40.54,2,     0.15,     0.01,2,     0.01,    2.864,2,    0.017,    0.004,2,    0.000,2,    0.000,2,   -999.0,9,   -999.0,9,-999.0000,-999,9,  -999.00,9,  -999.00,   -999.0,9,   -999.0,   5.1192,  27.2631
  49NZ20090410,   P21,   107,  1,     24, X12024,2,20090506,1959,-16.7503,-118.0072, 3541,    931.5,2,   4.7514,2,   4.75147,2,  34.5082,2,  34.5079,2,    81.02,2,    80.81,2,    63.01,2,     0.26,    40.97,2,     0.15,     0.01,2,     0.01,    2.905,2,    0.017,    0.001,2,    0.002,2,    0.000,2,   -999.0,9,   -999.0,9,-999.0000,-999,9,  -999.00,9,  -999.00,   -999.0,9,   -999.0,   4.6760,  27.3222
  49NZ20090410,   P21,   107,  1,     23, X12028,2,20090506,1959,-16.7503,-118.0072, 3541,   1070.9,2,   4.2335,2,   4.23384,2,  34.5268,2,  34.5265,6,    81.84,2,    81.78,2,    74.84,2,     0.28,    41.24,2,     0.15,     0.01,2,     0.01,    2.935,2,    0.017,    0.001,2,    0.001,2,    0.000,2,   -999.0,9,   -999.0,9,-999.0000,-999,9,  -999.00,9,  -999.00,   -999.0,9,   -999.0,   4.1499,  27.3940
  49NZ20090410,   P21,   107,  1,     22, X12022,2,20090506,1959,-16.7503,-118.0072, 3541,   1270.3,2,   3.6430,2,   3.64285,2,  34.5535,2,  34.5540,2,    88.46,2,    88.46,2,    88.90,2,     0.31,    40.92,2,     0.15,     0.01,2,     0.01,    2.927,2,    0.017,    0.001,2,    0.001,2,    0.000,2,   -999.0,9,   -999.0,9,-999.0000,-999,9,  -999.00,9,  -999.00,   -999.0,9,   -999.0,   3.5477,  27.4767
  49NZ20090410,   P21,   107,  1,     21, X12021,2,20090506,1959,-16.7503,-118.0072, 3541,   1470.8,2,   3.0929,2,   3.09301,2,  34.5809,2,  34.5808,2,   101.39,2,   101.47,2,   101.01,2,     0.34,    39.78,2,     0.14,     0.01,2,     0.01,    2.852,2,    0.017,    0.001,2,    0.001,2,    0.000,2,   -999.0,9,   -999.0,9,-999.0000,-999,9,  -999.00,9,  -999.00,   -999.0,9,   -999.0,   2.9864,  27.5517
  49NZ20090410,   P21,   107,  1,     20, X12020,2,20090506,1959,-16.7503,-118.0072, 3541,   1669.9,2,   2.7131,2,   2.71309,2,  34.6027,2,  34.6024,2,   112.97,2,   113.05,2,   108.66,2,     0.36,    38.92,2,     0.14,     0.01,2,     0.01,    2.781,2,    0.017,    0.000,2,    0.001,2,    0.000,2,   -999.0,9,   -999.0,9,-999.0000,-999,9,  -999.00,9,  -999.00,   -999.0,9,   -999.0,   2.5945,  27.6041
  49NZ20090410,   P21,   107,  1,     19, X12019,2,20090506,1959,-16.7503,-118.0072, 3541,   1870.3,2,   2.3300,2,   2.32979,2,  34.6245,2,  34.6249,6,   131.73,2,   132.05,2,   112.12,2,     0.37,    37.42,2,     0.14,     0.01,2,     0.01,    2.636,2,    0.017,    0.000,2,    0.000,2,    0.000,2,   -999.0,9,   -999.0,9,-999.0000,-999,9,  -999.00,9,  -999.00,   -999.0,9,   -999.0,   2.1996,  27.6548
  49NZ20090410,   P21,   107,  1,     18, X12043,2,20090506,1959,-16.7503,-118.0072, 3541,   2070.3,2,   2.0506,2,   2.05064,2,  34.6441,2,  34.6437,2,   149.40,2,   149.51,2,   113.33,2,     0.37,    35.78,2,     0.13,     0.01,2,     0.01,    2.529,2,    0.016,    0.000,2,    0.002,2,    0.000,2,   -999.0,9,   -999.0,9,-999.0000,-999,9,  -999.00,9,  -999.00,   -999.0,9,   -999.0,   1.9074,  27.6938
  49NZ20090410,   P21,   107,  1,     17, X12042,2,20090506,1959,-16.7503,-118.0072, 3541,   2271.5,2,   1.9161,2,   1.91614,2,  34.6595,2,  34.6596,2,   153.91,2,   153.98,2,   117.37,2,     0.38,    35.53,2,     0.13,     0.01,2,     0.01,    2.497,2,    0.016,    0.000,2,    0.001,2,    0.000,2,   -999.0,9,   -999.0,9,-999.0000,-999,9,  -999.00,9,  -999.00,   -999.0,9,   -999.0,   1.7577,  27.7177
  49NZ20090410,   P21,   107,  1,     16, X12016,2,20090506,1959,-16.7503,-118.0072, 3541,   2469.8,2,   1.8572,2,   1.85727,2,  34.6683,2,  34.6678,2,   154.73,2,   154.74,2,   120.43,2,     0.38,    35.48,2,     0.13,     0.01,2,     0.01,    2.471,2,    0.016,    0.000,2,    0.001,2,    0.000,2,   -999.0,9,   -999.0,9,-999.0000,-999,9,  -999.00,9,  -999.00,   -999.0,9,   -999.0,   1.6822,  27.7305
  49NZ20090410,   P21,   107,  1,     15, X12015,2,20090506,1959,-16.7503,-118.0072, 3541,   2669.8,2,   1.8147,2,   1.81465,2,  34.6716,2,  34.6712,6,   156.73,2,   156.88,2,   121.75,2,     0.39,    35.43,2,     0.13,     0.01,2,     0.01,    2.476,2,    0.016,    0.000,2,    0.001,2,    0.000,2,   -999.0,9,   -999.0,9,-999.0000,-999,9,  -999.00,9,  -999.00,   -999.0,9,   -999.0,   1.6223,  27.7376
  49NZ20090410,   P21,   107,  1,     14, X12050,2,20090506,1959,-16.7503,-118.0072, 3541,   2870.0,2,   1.7727,2,   1.77280,2,  34.6740,2,  34.6737,2,   158.97,2,   159.05,2,   122.61,2,     0.39,    35.26,2,     0.13,     0.01,2,     0.01,    2.465,2,    0.016,    0.000,2,    0.001,2,    0.000,2,   -999.0,9,   -999.0,9,-999.0000,-999,9,  -999.00,9,  -999.00,   -999.0,9,   -999.0,   1.5624,  27.7440
  49NZ20090410,   P21,   107,  1,     13, X12013,7,20090506,1959,-16.7503,-118.0072, 3541,   3081.4,2,   1.7499,2,   1.75003,2,  34.6758,2,  34.6758,2,   160.49,2,   160.65,2,   123.32,2,     0.39,    35.17,2,     0.13,     0.01,2,     0.01,    2.473,2,    0.016,    0.000,2,    0.001,2,    0.000,2,   -999.0,9,   -999.0,9,-999.0000,-999,9,  -999.00,9,  -999.00,   -999.0,9,   -999.0,   1.5197,  27.7486
  49NZ20090410,   P21,   107,  1,     12, X12012,2,20090506,1959,-16.7503,-118.0072, 3541,   3330.0,2,   1.7289,2,   1.72892,2,  34.6783,2,  34.6779,2,   160.67,2,   160.76,2,   125.00,2,     0.39,    35.27,2,     0.13,     0.01,2,     0.01,    2.473,2,    0.016,    0.000,2,    0.001,2,    0.000,2,   -999.0,9,   -999.0,9,-999.0000,-999,9,  -999.00,9,  -999.00,   -999.0,9,   -999.0,   1.4744,  27.7538
  49NZ20090410,   P21,   107,  1,     11, X12041,9,20090506,1959,-16.7503,-118.0072, 3541,      9.5,2,  26.1731,2,  26.17511,2,  36.2987,2,-999.0000,9,   204.74,2,  -999.00,9,  -999.00,9,  -999.00,  -999.00,9,  -999.00,  -999.00,9,  -999.00, -999.000,9, -999.000, -999.000,9, -999.000,9, -999.000,9,   -999.0,9,   -999.0,9,-999.0000,-999,9,  -999.00,9,  -999.00,   -999.0,9,   -999.0,  26.1710,  23.9599
  49NZ20090410,   P21,   107,  1,     10, X12040,9,20090506,1959,-16.7503,-118.0072, 3541,   2069.8,2,   2.0509,2,   2.05082,2,  34.6440,2,-999.0000,9,   149.37,2,  -999.00,9,  -999.00,9,  -999.00,  -999.00,9,  -999.00,  -999.00,9,  -999.00, -999.000,9, -999.000, -999.000,9, -999.000,9, -999.000,9,   -999.0,9,   -999.0,9,-999.0000,-999,9,  -999.00,9,  -999.00,   -999.0,9,   -999.0,   1.9077,  27.6937
  49NZ20090410,   P21,   107,  1,      9, X12009,9,20090506,1959,-16.7503,-118.0072, 3541,   2271.6,2,   1.9157,2,   1.91558,2,  34.6595,2,-999.0000,9,   153.91,2,  -999.00,9,  -999.00,9,  -999.00,  -999.00,9,  -999.00,  -999.00,9,  -999.00, -999.000,9, -999.000, -999.000,9, -999.000,9, -999.000,9,   -999.0,9,   -999.0,9,-999.0000,-999,9,  -999.00,9,  -999.00,   -999.0,9,   -999.0,   1.7573,  27.7177
  49NZ20090410,   P21,   107,  1,      8, X12008,9,20090506,1959,-16.7503,-118.0072, 3541,   2469.9,2,   1.8573,2,   1.85730,2,  34.6682,2,-999.0000,9,   154.73,2,  -999.00,9,  -999.00,9,  -999.00,  -999.00,9,  -999.00,  -999.00,9,  -999.00, -999.000,9, -999.000, -999.000,9, -999.000,9, -999.000,9,   -999.0,9,   -999.0,9,-999.0000,-999,9,  -999.00,9,  -999.00,   -999.0,9,   -999.0,   1.6823,  27.7304
  49NZ20090410,   P21,   107,  1,      7, X12007,9,20090506,1959,-16.7503,-118.0072, 3541,   3330.6,2,   1.7289,2,   1.72895,2,  34.6783,2,-999.0000,9,   160.65,2,  -999.00,9,  -999.00,9,  -999.00,  -999.00,9,  -999.00,  -999.00,9,  -999.00, -999.000,9, -999.000, -999.000,9, -999.000,9, -999.000,9,   -999.0,9,   -999.0,9,-999.0000,-999,9,  -999.00,9,  -999.00,   -999.0,9,   -999.0,   1.4744,  27.7539
  49NZ20090410,   P21,   107,  1,      6, X12035,9,20090506,1959,-16.7503,-118.0072, 3541,   3581.4,2,   1.7158,2,   1.71575,2,  34.6804,2,-999.0000,9,   161.09,2,  -999.00,9,  -999.00,9,  -999.00,  -999.00,9,  -999.00,  -999.00,9,  -999.00, -999.000,9, -999.000, -999.000,9, -999.000,9, -999.000,9,   -999.0,9,   -999.0,9,-999.0000,-999,9,  -999.00,9,  -999.00,   -999.0,9,   -999.0,   1.4358,  27.7584
  49NZ20090410,   P21,   107,  1,      5, X12038,9,20090506,1959,-16.7503,-118.0072, 3541,   2669.8,2,   1.8147,2,   1.81471,2,  34.6717,2,-999.0000,9,   156.73,2,  -999.00,9,  -999.00,9,  -999.00,  -999.00,9,  -999.00,  -999.00,9,  -999.00, -999.000,9, -999.000, -999.000,9, -999.000,9, -999.000,9,   -999.0,9,   -999.0,9,-999.0000,-999,9,  -999.00,9,  -999.00,   -999.0,9,   -999.0,   1.6223,  27.7377
  49NZ20090410,   P21,   107,  1,      4, X12034,9,20090506,1959,-16.7503,-118.0072, 3541,   2871.0,2,   1.7728,2,   1.77287,2,  34.6741,2,-999.0000,9,   158.95,2,  -999.00,9,  -999.00,9,  -999.00,  -999.00,9,  -999.00,  -999.00,9,  -999.00, -999.000,9, -999.000, -999.000,9, -999.000,9, -999.000,9,   -999.0,9,   -999.0,9,-999.0000,-999,9,  -999.00,9,  -999.00,   -999.0,9,   -999.0,   1.5624,  27.7440
  49NZ20090410,   P21,   107,  1,      3, X12033,9,20090506,1959,-16.7503,-118.0072, 3541,   3081.2,2,   1.7500,2,   1.74996,2,  34.6757,2,-999.0000,9,   160.49,2,  -999.00,9,  -999.00,9,  -999.00,  -999.00,9,  -999.00,  -999.00,9,  -999.00, -999.000,9, -999.000, -999.000,9, -999.000,9, -999.000,9,   -999.0,9,   -999.0,9,-999.0000,-999,9,  -999.00,9,  -999.00,   -999.0,9,   -999.0,   1.5198,  27.7485
  49NZ20090410,   P21,   107,  1,      2, X12032,9,20090506,1959,-16.7503,-118.0072, 3541,    932.2,2,   4.7499,2,   4.75044,2,  34.5081,2,-999.0000,9,    81.19,2,  -999.00,9,  -999.00,9,  -999.00,  -999.00,9,  -999.00,  -999.00,9,  -999.00, -999.000,9, -999.000, -999.000,9, -999.000,9, -999.000,9,   -999.0,9,   -999.0,9,-999.0000,-999,9,  -999.00,9,  -999.00,   -999.0,9,   -999.0,   4.6745,  27.3222
  49NZ20090410,   P21,   107,  1,      1, X12046,2,20090506,1959,-16.7503,-118.0072, 3541,   3581.3,2,   1.7158,2,   1.71571,2,  34.6804,2,  34.6803,6,   161.07,2,   161.15,2,   126.41,2,     0.40,    35.31,2,     0.13,     0.01,2,     0.01,    2.471,2,    0.016,    0.000,2,    0.000,2,    0.000,2,   -999.0,9,   -999.0,9,-999.0000,-999,9,  -999.00,9,  -999.00,   -999.0,9,   -999.0,   1.4358,  27.7584