BOTTLE,20220818CCHSIOAMB
EXPOCODE,SECT_ID,STNNBR,CASTNO,SAMPNO,BTLNBR,BTLNBR_FLAG_W,DATE,TIME,LATITUDE,LONGITUDE,DEPTH,CTDPRS,CTDPRS_FLAG_W,CTDTMP,CTDTMP_FLAG_W,SBE35,SBE35_FLAG_W,CTDSAL,CTDSAL_FLAG_W,SALNTY,SALNTY_FLAG_W,CTDOXY,CTDOXY_FLAG_W,OXYGEN,OXYGEN_FLAG_W,SILCAT,SILCAT_FLAG_W,SILUNC,NITRAT,NITRAT_FLAG_W,NRAUNC,NITRIT,NITRIT_FLAG_W,NRIUNC,PHSPHT,PHSPHT_FLAG_W,PHPUNC,CFC-11,CFC-11_FLAG_W,CFC-12,CFC-12_FLAG_W,CFC113,CFC113_FLAG_W,TCARBN,TCARBN_FLAG_W,ALKALI,ALKALI_FLAG_W,PH_TOT,PH_TMP,PH_TOT_FLAG_W,DELC13,DELC13_FLAG_W,C13ERR,DELC14,DELC14_FLAG_W,C14ERR,THETA,SIG0
,,,,,,,,,,,METERS,DBAR,,ITS-90,,ITS-90,,PSS-78,,PSS-78,,UMOL/KG,,UMOL/KG,,UMOL/KG,,UMOL/KG,UMOL/KG,,UMOL/KG,UMOL/KG,,UMOL/KG,UMOL/KG,,UMOL/KG,PMOL/KG,,PMOL/KG,,PMOL/KG,,UMOL/KG,,UMOL/KG,,,DEG C,,/MILLE,,/MILLE,/MILLE,,/MILLE,DEG C,KG/M^3
  49NZ20090410,   P21,   154,  1,     36, X12006,2,20090517,0312,-17.5033,-147.1718, 4002,     10.0,2,  28.1857,2,  28.18552,2,  36.3177,2,  36.3177,2,   196.32,2,   195.90,2,     0.72,2,     0.12,     0.07,2,     0.03,     0.01,2,     0.01,    0.243,2,    0.015,    1.419,2,    0.920,2, -999.000,5,   2022.6,2,   2392.5,2,   8.1289,  25,6,  -999.00,1,  -999.00,   -999.0,1,   -999.0,  28.1833,  23.3257
  49NZ20090410,   P21,   154,  1,     35, X12047,2,20090517,0312,-17.5033,-147.1718, 4002,     49.2,2,  28.0635,2,  28.06239,2,  36.3275,2,  36.3271,2,   196.70,2,   196.43,2,     0.71,2,     0.12,     0.07,2,     0.03,     0.01,2,     0.01,    0.241,2,    0.015,    1.438,2,    0.935,2, -999.000,5,   2024.5,6,   2391.6,2,   8.1296,  25,2,  -999.00,1,  -999.00,   -999.0,1,   -999.0,  28.0518,  23.3763
  49NZ20090410,   P21,   154,  1,     34, X12004,2,20090517,0312,-17.5033,-147.1718, 4002,    100.5,2,  26.1754,2,  26.17979,2,  36.4133,2,  36.4137,2,   202.21,2,   202.16,2,     0.71,2,     0.12,     0.17,2,     0.03,     0.06,2,     0.01,    0.255,2,    0.015,    1.622,6,    1.037,6, -999.000,5,   2052.7,2,   2396.1,6,   8.0922,  25,2,  -999.00,1,  -999.00,   -999.0,1,   -999.0,  26.1528,  24.0521
  49NZ20090410,   P21,   154,  1,     33, X12003,2,20090517,0312,-17.5033,-147.1718, 4002,    149.0,2,  24.1838,2,  24.18318,2,  36.3348,2,  36.3326,2,   186.94,2,   186.58,2,     0.62,2,     0.12,     0.53,2,     0.03,     0.96,2,     0.00,    0.335,2,    0.014,    1.747,2,    1.095,2, -999.000,5,   2073.0,2,   2388.5,2,   8.0505,  25,6,  -999.00,1,  -999.00,   -999.0,1,   -999.0,  24.1521,  24.6069
  49NZ20090410,   P21,   154,  1,     32, X12002,2,20090517,0312,-17.5033,-147.1718, 4002,    202.1,2,  22.0689,2,  22.06121,2,  35.9917,2,  36.0036,2,   182.75,2,   182.17,2,     0.59,2,     0.12,     2.09,2,     0.04,     0.04,2,     0.01,    0.363,2,    0.014,    1.930,2,    1.184,2,    0.128,2,   2076.3,2,   2366.1,2,   8.0135,  25,2,  -999.00,1,  -999.00,   -999.0,1,   -999.0,  22.0286,  24.9635
  49NZ20090410,   P21,   154,  1,     31, X12001,2,20090517,0312,-17.5033,-147.1718, 4002,    249.9,2,  19.6659,2,  19.66078,2,  35.6400,2,  35.6425,6,   181.55,2,   181.60,2,     0.82,2,     0.12,     3.60,2,     0.04,     0.02,2,     0.01,    0.460,2,    0.013,    2.185,2,    1.291,2,    0.043,2,   2085.1,2,   2342.4,2,   7.9642,  25,2,  -999.00,1,  -999.00,   -999.0,1,   -999.0,  19.6200,  25.3500
  49NZ20090410,   P21,   154,  1,     30, X12030,2,20090517,0312,-17.5033,-147.1718, 4002,    329.6,2,  15.1445,2,  15.14572,2,  35.0274,2,  35.0282,2,   171.59,2,   171.66,2,     3.17,2,     0.13,     9.70,2,     0.06,     0.01,2,     0.01,    0.894,2,    0.013,    2.345,2,    1.294,2,    0.036,2,   2110.9,2,   2306.1,2,   7.8540,  25,2,  -999.00,1,  -999.00,   -999.0,1,   -999.0,  15.0940,  25.9724
  49NZ20090410,   P21,   154,  1,     29, X12044,2,20090517,0312,-17.5033,-147.1718, 4002,    429.9,2,  10.0274,2,  10.02982,2,  34.5640,2,  34.5632,2,   134.28,2,   133.96,2,    12.45,2,     0.15,    23.12,2,     0.10,     0.01,2,     0.01,    1.809,2,    0.015,    1.481,6,    0.779,6,    0.027,6,   2177.4,2,   2285.5,2,   7.6546,  25,2,  -999.00,1,  -999.00,   -999.0,1,   -999.0,   9.9771,  26.6154
  49NZ20090410,   P21,   154,  1,     28, X12048,2,20090517,0312,-17.5033,-147.1718, 4002,    530.1,2,   7.4886,2,   7.48812,2,  34.4598,2,  34.4597,6,   135.33,2,   135.09,2,    21.40,2,     0.17,    29.66,2,     0.12,     0.01,2,     0.01,    2.157,2,    0.015,    0.745,2,    0.394,2,    0.022,2,   2203.1,2,   2289.6,2,   7.5952,  25,2,  -999.00,1,  -999.00,   -999.0,1,   -999.0,   7.4362,  26.9319
  49NZ20090410,   P21,   154,  1,     27, X12027,2,20090517,0312,-17.5033,-147.1718, 4002,    630.7,2,   6.1195,2,   6.11953,2,  34.4195,2,  34.4194,2,   152.54,2,   152.22,2,    28.19,2,     0.18,    31.65,2,     0.12,     0.01,2,     0.01,    2.236,2,    0.016,    0.457,6,    0.240,6,    0.017,6,   2207.0,2,   2296.1,2,   7.5998,  25,2,  -999.00,1,  -999.00,   -999.0,1,   -999.0,   6.0633,  27.0858
  49NZ20090410,   P21,   154,  1,     26, X12026,2,20090517,0312,-17.5033,-147.1718, 4002,    730.0,2,   5.6051,2,   5.60505,2,  34.4403,2,  34.4400,2,   145.25,2,   144.90,2,    37.17,2,     0.20,    33.17,2,     0.13,     0.01,2,     0.01,    2.328,2,    0.016,    0.219,2,    0.115,2,    0.000,2,   2221.0,6,   2305.5,2,   7.5859,  25,2,  -999.00,1,  -999.00,   -999.0,1,   -999.0,   5.5424,  27.1672
  49NZ20090410,   P21,   154,  1,     25, X12025,2,20090517,0312,-17.5033,-147.1718, 4002,    829.7,2,   4.9250,2,   4.92541,2,  34.4575,2,  34.4578,2,   145.63,2,   145.27,2,    48.11,2,     0.22,    34.02,2,     0.13,     0.01,2,     0.01,    2.395,2,    0.016,    0.106,2,    0.058,2,    0.000,2,   2233.6,2,   2317.1,6,   7.5818,  25,2,  -999.00,1,  -999.00,   -999.0,1,   -999.0,   4.8574,  27.2615
  49NZ20090410,   P21,   154,  1,     24, X12024,2,20090517,0312,-17.5033,-147.1718, 4002,    928.1,2,   4.4584,2,   4.45824,2,  34.4797,2,  34.4799,2,   144.14,2,   143.90,2,    57.54,2,     0.25,    34.70,2,     0.13,     0.01,2,     0.01,    2.446,2,    0.016,    0.041,2,    0.022,2,    0.000,2,   2245.0,2,   2327.3,2,   7.5779,  25,2,  -999.00,1,  -999.00,   -999.0,1,   -999.0,   4.3854,  27.3315
  49NZ20090410,   P21,   154,  1,     23, X12028,2,20090517,0312,-17.5033,-147.1718, 4002,   1068.4,2,   3.7238,2,   3.72399,2,  34.5109,2,  34.5111,6,   144.15,2,   143.85,2,    71.59,2,     0.28,    35.55,2,     0.13,     0.01,2,     0.01,    2.501,2,    0.016,    0.011,2,    0.006,2,    0.000,2,   2261.7,2,   2342.1,2,   7.5724,  25,2,  -999.00,1,  -999.00,   -999.0,1,   -999.0,   3.6447,  27.4331
  49NZ20090410,   P21,   154,  1,     22, X12022,2,20090517,0312,-17.5033,-147.1718, 4002,   1268.1,2,   3.2339,2,   3.23380,2,  34.5492,2,  34.5496,2,   142.15,2,   142.14,2,    84.48,2,     0.30,    35.97,2,     0.13,     0.01,2,     0.01,    2.538,2,    0.016,    0.006,2,    0.003,2,    0.000,2,   2276.9,2,   2357.7,2,   7.5692,  25,2,  -999.00,1,  -999.00,   -999.0,1,   -999.0,   3.1428,  27.5120
  49NZ20090410,   P21,   154,  1,     21, X12021,2,20090517,0312,-17.5033,-147.1718, 4002,   1469.7,2,   2.9006,2,   2.90041,2,  34.5731,2,  34.5727,2,   143.46,2,   143.52,2,    92.77,2,     0.32,    36.07,2,     0.13,     0.01,2,     0.01,    2.544,2,    0.016,    0.003,2,    0.002,2,    0.000,2,   2285.3,2,   2366.2,2,   7.5700,  25,2,  -999.00,1,  -999.00,   -999.0,1,   -999.0,   2.7964,  27.5627
  49NZ20090410,   P21,   154,  1,     20, X12020,2,20090517,0312,-17.5033,-147.1718, 4002,   1669.6,2,   2.5935,2,   2.59356,2,  34.5962,2,  34.5957,2,   145.80,2,   145.96,2,   100.46,2,     0.34,    36.04,2,     0.13,     0.01,2,     0.01,    2.538,2,    0.016,    0.002,2,    0.001,2,    0.000,2,   2292.5,2,   2374.2,2,   7.5742,  25,6,  -999.00,1,  -999.00,   -999.0,1,   -999.0,   2.4764,  27.6090
  49NZ20090410,   P21,   154,  1,     19, X12019,2,20090517,0312,-17.5033,-147.1718, 4002,   1868.5,2,   2.3813,2,   2.38128,2,  34.6138,2,  34.6137,2,   147.90,2,   148.01,2,   106.10,2,     0.35,    35.92,2,     0.13,     0.01,2,     0.01,    2.530,2,    0.016,    0.000,2,    0.000,2,    0.000,2,   2298.2,2,   2380.7,2,   7.5780,  25,2,  -999.00,1,  -999.00,   -999.0,1,   -999.0,   2.2504,  27.6420
  49NZ20090410,   P21,   154,  1,     18, X12043,2,20090517,0312,-17.5033,-147.1718, 4002,   2070.2,2,   2.1554,2,   2.15555,2,  34.6329,2,  34.6330,6,   150.64,2,   150.75,2,   111.81,2,     0.36,    35.82,2,     0.13,     0.01,2,     0.01,    2.515,2,    0.016,    0.000,2,    0.000,2,    0.000,2,   2302.3,2,   2386.7,2,   7.5825,  25,2,  -999.00,1,  -999.00,   -999.0,1,   -999.0,   2.0106,  27.6767
  49NZ20090410,   P21,   154,  1,     17, X12042,2,20090517,0312,-17.5033,-147.1718, 4002,   2269.2,2,   2.0260,2,   2.02616,2,  34.6444,2,  34.6443,2,   152.66,2,   152.70,2,   115.29,2,     0.37,    35.75,2,     0.13,     0.01,2,     0.01,    2.510,2,    0.016,    0.002,2,    0.000,2,    0.000,2,   2303.4,2,   2390.7,2,   7.5859,  25,2,  -999.00,1,  -999.00,   -999.0,1,   -999.0,   1.8660,  27.6973
  49NZ20090410,   P21,   154,  1,     16, X12016,2,20090517,0312,-17.5033,-147.1718, 4002,   2470.5,2,   1.9137,2,   1.91379,2,  34.6549,2,  34.6545,2,   154.18,2,   154.27,2,   118.46,2,     0.38,    35.62,2,     0.13,     0.01,2,     0.01,    2.494,2,    0.016,    0.001,2,    0.000,2,    0.000,2,   2305.3,6,   2394.1,2,   7.5886,  25,2,  -999.00,1,  -999.00,   -999.0,1,   -999.0,   1.7377,  27.7155
  49NZ20090410,   P21,   154,  1,     15, X12015,2,20090517,0312,-17.5033,-147.1718, 4002,   2671.0,2,   1.8146,2,   1.81471,2,  34.6633,2,  34.6631,2,   156.86,2,   156.82,2,   120.43,2,     0.38,    35.44,2,     0.13,     0.01,2,     0.01,    2.486,2,    0.016,    0.000,2,    0.000,2,    0.000,2,   2306.7,2,   2397.0,2,   7.5920,  25,2,  -999.00,1,  -999.00,   -999.0,1,   -999.0,   1.6221,  27.7310
  49NZ20090410,   P21,   154,  1,     14, X12050,2,20090517,0312,-17.5033,-147.1718, 4002,   2870.7,2,   1.7495,2,   1.74972,2,  34.6694,2,  34.6691,2,   159.30,2,   159.24,2,   121.78,2,     0.39,    35.37,2,     0.13,     0.01,2,     0.01,    2.474,2,    0.016,    0.000,2,    0.000,2,    0.000,2,   2307.7,2,   2396.5,2,   7.5947,  25,6,  -999.00,1,  -999.00,   -999.0,1,   -999.0,   1.5396,  27.7420
  49NZ20090410,   P21,   154,  1,     13, X12014,2,20090517,0312,-17.5033,-147.1718, 4002,   3080.1,2,   1.6824,2,   1.68252,2,  34.6744,2,  34.6742,6,   163.48,2,   163.40,2,   121.55,2,     0.39,    35.13,2,     0.13,     0.01,2,     0.01,    2.455,2,    0.016,    0.000,2,    0.000,2,    0.000,2,   2302.4,2,   2394.9,2,   7.5984,  25,2,  -999.00,1,  -999.00,   -999.0,1,   -999.0,   1.4538,  27.7522
  49NZ20090410,   P21,   154,  1,     12, X12012,2,20090517,0312,-17.5033,-147.1718, 4002,   3329.8,2,   1.5749,2,   1.57511,2,  34.6823,2,  34.6823,2,   170.12,2,   169.95,2,   120.92,2,     0.39,    34.64,2,     0.13,     0.01,2,     0.01,    2.418,2,    0.016,    0.000,2,    0.000,2,    0.000,2,   2296.6,2,   2390.8,2,   7.6031,  25,2,  -999.00,1,  -999.00,   -999.0,1,   -999.0,   1.3241,  27.7679
  49NZ20090410,   P21,   154,  1,     11, X12041,2,20090517,0312,-17.5033,-147.1718, 4002,   3580.2,2,   1.5226,2,   1.52265,2,  34.6867,2,  34.6865,2,   174.04,2,   174.09,2,   120.41,2,     0.38,    34.38,2,     0.13,     0.01,2,     0.01,    2.395,2,    0.016,    0.001,2,    0.000,2,    0.000,2,   2292.9,2,   2388.8,2,   7.6060,  25,2,  -999.00,1,  -999.00,   -999.0,1,   -999.0,   1.2476,  27.7768
  49NZ20090410,   P21,   154,  1,     10, X12040,2,20090517,0312,-17.5033,-147.1718, 4002,   3828.9,2,   1.4785,2,   1.47850,2,  34.6909,2,  34.6913,2,   177.90,2,   177.83,2,   120.16,2,     0.38,    34.07,2,     0.13,     0.01,2,     0.01,    2.377,2,    0.016,    0.000,2,    0.000,2,    0.000,2,   2289.6,2,   2386.4,2,   7.6094,  25,2,  -999.00,1,  -999.00,   -999.0,1,   -999.0,   1.1786,  27.7849
  49NZ20090410,   P21,   154,  1,      9, X12009,9,20090517,0312,-17.5033,-147.1718, 4002,      9.7,2,  28.1840,2,  28.18368,2,  36.3179,2,-999.0000,9,   196.30,2,  -999.00,9,  -999.00,9,  -999.00,  -999.00,9,  -999.00,  -999.00,9,  -999.00, -999.000,9, -999.000, -999.000,9, -999.000,9, -999.000,9,   -999.0,9,   -999.0,9,-999.0000,-999,9,  -999.00,9,  -999.00,   -999.0,9,   -999.0,  28.1817,  23.3263
  49NZ20090410,   P21,   154,  1,      8, X12008,9,20090517,0312,-17.5033,-147.1718, 4002,   1268.5,2,   3.2339,2,   3.23394,2,  34.5491,2,-999.0000,9,   142.14,2,  -999.00,9,  -999.00,9,  -999.00,  -999.00,9,  -999.00,  -999.00,9,  -999.00, -999.000,9, -999.000, -999.000,9, -999.000,9, -999.000,9,   -999.0,9,   -999.0,9,-999.0000,-999,9,  -999.00,9,  -999.00,   -999.0,9,   -999.0,   3.1427,  27.5119
  49NZ20090410,   P21,   154,  1,      7, X12007,9,20090517,0312,-17.5033,-147.1718, 4002,   2269.8,2,   2.0272,2,   2.02713,2,  34.6442,2,-999.0000,9,   152.69,2,  -999.00,9,  -999.00,9,  -999.00,  -999.00,9,  -999.00,  -999.00,9,  -999.00, -999.000,9, -999.000, -999.000,9, -999.000,9, -999.000,9,   -999.0,9,   -999.0,9,-999.0000,-999,9,  -999.00,9,  -999.00,   -999.0,9,   -999.0,   1.8671,  27.6971
  49NZ20090410,   P21,   154,  1,      6, X12035,9,20090517,0312,-17.5033,-147.1718, 4002,   2470.6,2,   1.9138,2,   1.91381,2,  34.6548,2,-999.0000,9,   154.18,2,  -999.00,9,  -999.00,9,  -999.00,  -999.00,9,  -999.00,  -999.00,9,  -999.00, -999.000,9, -999.000, -999.000,9, -999.000,9, -999.000,9,   -999.0,9,   -999.0,9,-999.0000,-999,9,  -999.00,9,  -999.00,   -999.0,9,   -999.0,   1.7378,  27.7155
  49NZ20090410,   P21,   154,  1,      5, X12038,9,20090517,0312,-17.5033,-147.1718, 4002,   2670.7,2,   1.8151,2,   1.81497,2,  34.6632,2,-999.0000,9,   156.84,2,  -999.00,9,  -999.00,9,  -999.00,  -999.00,9,  -999.00,  -999.00,9,  -999.00, -999.000,9, -999.000, -999.000,9, -999.000,9, -999.000,9,   -999.0,9,   -999.0,9,-999.0000,-999,9,  -999.00,9,  -999.00,   -999.0,9,   -999.0,   1.6227,  27.7308
  49NZ20090410,   P21,   154,  1,      4, X12034,9,20090517,0312,-17.5033,-147.1718, 4002,   2870.1,2,   1.7495,2,   1.74951,2,  34.6693,2,-999.0000,9,   159.32,2,  -999.00,9,  -999.00,9,  -999.00,  -999.00,9,  -999.00,  -999.00,9,  -999.00, -999.000,9, -999.000, -999.000,9, -999.000,9, -999.000,9,   -999.0,9,   -999.0,9,-999.0000,-999,9,  -999.00,9,  -999.00,   -999.0,9,   -999.0,   1.5397,  27.7419
  49NZ20090410,   P21,   154,  1,      3, X12033,2,20090517,0312,-17.5033,-147.1718, 4002,   3079.4,2,   1.6825,2,   1.68268,2,  34.6745,2,  34.6743,2,   163.50,2,  -999.00,9,  -999.00,9,  -999.00,  -999.00,9,  -999.00,  -999.00,9,  -999.00, -999.000,9, -999.000, -999.000,9, -999.000,9, -999.000,9,   -999.0,9,   -999.0,9,-999.0000,-999,9,  -999.00,9,  -999.00,   -999.0,9,   -999.0,   1.4540,  27.7523
  49NZ20090410,   P21,   154,  1,      2, X12032,9,20090517,0312,-17.5033,-147.1718, 4002,    928.7,2,   4.4597,2,   4.45990,2,  34.4797,2,-999.0000,9,   144.19,2,  -999.00,9,  -999.00,9,  -999.00,  -999.00,9,  -999.00,  -999.00,9,  -999.00, -999.000,9, -999.000, -999.000,9, -999.000,9, -999.000,9,   -999.0,9,   -999.0,9,-999.0000,-999,9,  -999.00,9,  -999.00,   -999.0,9,   -999.0,   4.3867,  27.3314
  49NZ20090410,   P21,   154,  1,      1, X12046,2,20090517,0312,-17.5033,-147.1718, 4002,   4049.3,2,   1.4611,2,   1.46097,2,  34.6933,2,  34.6932,6,   180.15,2,   179.97,2,   119.88,2,     0.38,    33.98,2,     0.13,     0.01,2,     0.01,    2.371,2,    0.016,    0.000,2,    0.000,2,    0.000,2,   2287.4,2,   2385.5,2,   7.6105,  25,2,  -999.00,1,  -999.00,   -999.0,1,   -999.0,   1.1379,  27.7896