BOTTLE,20220818CCHSIOAMB
EXPOCODE,SECT_ID,STNNBR,CASTNO,SAMPNO,BTLNBR,BTLNBR_FLAG_W,DATE,TIME,LATITUDE,LONGITUDE,DEPTH,CTDPRS,CTDPRS_FLAG_W,CTDTMP,CTDTMP_FLAG_W,SBE35,SBE35_FLAG_W,CTDSAL,CTDSAL_FLAG_W,SALNTY,SALNTY_FLAG_W,CTDOXY,CTDOXY_FLAG_W,OXYGEN,OXYGEN_FLAG_W,SILCAT,SILCAT_FLAG_W,SILUNC,NITRAT,NITRAT_FLAG_W,NRAUNC,NITRIT,NITRIT_FLAG_W,NRIUNC,PHSPHT,PHSPHT_FLAG_W,PHPUNC,CFC-11,CFC-11_FLAG_W,CFC-12,CFC-12_FLAG_W,CFC113,CFC113_FLAG_W,TCARBN,TCARBN_FLAG_W,ALKALI,ALKALI_FLAG_W,PH_TOT,PH_TMP,PH_TOT_FLAG_W,DELC13,DELC13_FLAG_W,C13ERR,DELC14,DELC14_FLAG_W,C14ERR,THETA,SIG0
,,,,,,,,,,,METERS,DBAR,,ITS-90,,ITS-90,,PSS-78,,PSS-78,,UMOL/KG,,UMOL/KG,,UMOL/KG,,UMOL/KG,UMOL/KG,,UMOL/KG,UMOL/KG,,UMOL/KG,UMOL/KG,,UMOL/KG,PMOL/KG,,PMOL/KG,,PMOL/KG,,UMOL/KG,,UMOL/KG,,,DEG C,,/MILLE,,/MILLE,/MILLE,,/MILLE,DEG C,KG/M^3
  49NZ20090410,   P21,    49,  1,     36, X12006,2,20090424,1529,-16.7392, -86.9948, 4484,     10.4,2,  23.1413,2,  23.14198,2,  35.7484,2,  35.7489,2,   215.68,2,   215.89,2,     0.67,2,     0.12,     0.10,2,     0.03,     0.01,2,     0.01,    0.440,2,    0.013,    1.814,2,    1.132,2, -999.000,5,   -999.0,9,   -999.0,9,-999.0000,-999,9,  -999.00,9,  -999.00,   -999.0,9,   -999.0,  23.1392,  24.4610
  49NZ20090410,   P21,    49,  1,     35, X12047,2,20090424,1529,-16.7392, -86.9948, 4484,     49.6,2,  20.2524,2,  20.24978,2,  35.4391,2,  35.4455,2,   237.29,2,   238.78,2,     0.38,2,     0.12,     0.09,2,     0.03,     0.01,2,     0.01,    0.401,2,    0.013,    2.170,2,    1.331,2, -999.000,5,   -999.0,9,   -999.0,9,-999.0000,-999,9,  -999.00,9,  -999.00,   -999.0,9,   -999.0,  20.2431,  25.0323
  49NZ20090410,   P21,    49,  1,     34, X12004,2,20090424,1529,-16.7392, -86.9948, 4484,    100.3,2,  18.8687,2,  18.87009,2,  35.3581,2,  35.3591,2,   212.75,2,   211.23,2,     0.70,2,     0.12,     2.55,2,     0.04,     0.46,2,     0.01,    0.654,2,    0.013,    2.170,6,    1.365,6,    0.226,4,   -999.0,9,   -999.0,9,-999.0000,-999,9,  -999.00,9,  -999.00,   -999.0,9,   -999.0,  18.8509,  25.3329
  49NZ20090410,   P21,    49,  1,     33, X12003,2,20090424,1529,-16.7392, -86.9948, 4484,    150.2,2,  16.2139,2,  16.21461,2,  34.9448,2,  34.9287,2,   191.61,2,   186.38,2,     1.91,2,     0.12,     9.65,2,     0.06,     0.03,2,     0.01,    1.042,2,    0.013,    2.452,2,    1.498,2,    0.164,2,   -999.0,9,   -999.0,9,-999.0000,-999,9,  -999.00,9,  -999.00,   -999.0,9,   -999.0,  16.1899,  25.6615
  49NZ20090410,   P21,    49,  1,     32, X12002,2,20090424,1529,-16.7392, -86.9948, 4484,    199.1,2,  12.7193,2,  12.71230,2,  34.6579,2,  34.6628,2,    54.44,2,    50.24,2,    14.49,2,     0.15,    21.91,2,     0.09,     0.02,2,     0.01,    2.363,2,    0.016,    1.868,2,    1.071,2,    0.078,2,   -999.0,9,   -999.0,9,-999.0000,-999,9,  -999.00,9,  -999.00,   -999.0,9,   -999.0,  12.6924,  26.1890
  49NZ20090410,   P21,    49,  1,     31, X12001,2,20090424,1529,-16.7392, -86.9948, 4484,    249.3,2,  11.6069,2,  11.60329,2,  34.7223,2,  34.7201,6,     6.62,2,     6.87,2,    22.59,2,     0.17,    24.69,2,     0.10,     0.01,2,     0.01,    2.710,2,    0.017,    0.869,2,    0.476,2,    0.005,2,   -999.0,9,   -999.0,9,-999.0000,-999,9,  -999.00,9,  -999.00,   -999.0,9,   -999.0,  11.5751,  26.4536
  49NZ20090410,   P21,    49,  1,     30, X12030,2,20090424,1529,-16.7392, -86.9948, 4484,    330.9,2,   9.9177,2,   9.91918,2,  34.6619,2,  34.6613,2,     6.70,2,     6.70,2,    26.05,2,     0.18,    33.31,2,     0.13,     0.01,2,     0.01,    2.793,2,    0.017,    0.330,2,    0.175,2,    0.000,2,   -999.0,9,   -999.0,9,-999.0000,-999,9,  -999.00,9,  -999.00,   -999.0,9,   -999.0,   9.8794,  26.7085
  49NZ20090410,   P21,    49,  1,     29, X12044,2,20090424,1529,-16.7392, -86.9948, 4484,    430.8,2,   8.3849,2,   8.38531,2,  34.5947,2,  34.5936,2,    20.17,2,    20.60,2,    30.29,2,     0.19,    38.67,2,     0.14,     0.01,2,     0.01,    2.837,2,    0.017,    0.127,2,    0.072,2,    0.000,2,   -999.0,9,   -999.0,9,-999.0000,-999,9,  -999.00,9,  -999.00,   -999.0,9,   -999.0,   8.3397,  26.9042
  49NZ20090410,   P21,    49,  1,     28, X12048,2,20090424,1529,-16.7392, -86.9948, 4484,    529.4,2,   7.2367,2,   7.23380,2,  34.5452,2,  34.5460,6,    36.03,2,    36.44,2,    35.54,2,     0.20,    40.66,2,     0.15,     0.01,2,     0.01,    2.888,2,    0.017,    0.061,2,    0.037,2,    0.000,2,   -999.0,9,   -999.0,9,-999.0000,-999,9,  -999.00,9,  -999.00,   -999.0,9,   -999.0,   7.1853,  27.0346
  49NZ20090410,   P21,    49,  1,     27, X12027,2,20090424,1529,-16.7392, -86.9948, 4484,    630.8,2,   6.3273,2,   6.32707,2,  34.5102,2,  34.5093,2,    40.42,2,    42.38,2,    42.51,2,     0.21,    42.51,2,     0.15,     0.01,2,     0.01,    3.020,2,    0.018,    0.021,6,    0.016,6,    0.000,6,   -999.0,9,   -999.0,9,-999.0000,-999,9,  -999.00,9,  -999.00,   -999.0,9,   -999.0,   6.2700,  27.1309
  49NZ20090410,   P21,    49,  1,     26, X12026,2,20090424,1529,-16.7392, -86.9948, 4484,    730.8,2,   5.6463,2,   5.64633,2,  34.5059,2,  34.5060,2,    42.75,2,    42.59,2,    51.98,2,     0.23,    43.60,2,     0.15,     0.01,2,     0.01,    3.102,2,    0.018,    0.002,2,    0.002,2,    0.000,2,   -999.0,9,   -999.0,9,-999.0000,-999,9,  -999.00,9,  -999.00,   -999.0,9,   -999.0,   5.5832,  27.2142
  49NZ20090410,   P21,    49,  1,     25, X12025,2,20090424,1529,-16.7392, -86.9948, 4484,    829.9,2,   5.1565,2,   5.15670,2,  34.5070,2,  34.5071,2,    45.86,2,    46.22,2,    59.98,2,     0.25,    43.93,2,     0.16,     0.01,2,     0.01,    3.137,2,    0.018,    0.000,2,    0.001,2,    0.000,2,   -999.0,9,   -999.0,9,-999.0000,-999,9,  -999.00,9,  -999.00,   -999.0,9,   -999.0,   5.0874,  27.2743
  49NZ20090410,   P21,    49,  1,     24, X12024,2,20090424,1529,-16.7392, -86.9948, 4484,    930.7,2,   4.6481,2,   4.64836,2,  34.5189,2,  34.5190,2,    53.71,2,    53.94,2,    70.06,2,     0.27,    43.67,2,     0.16,     0.01,2,     0.01,    3.131,2,    0.018,    0.000,2,    0.000,2,    0.000,2,   -999.0,9,   -999.0,9,-999.0000,-999,9,  -999.00,9,  -999.00,   -999.0,9,   -999.0,   4.5735,  27.3421
  49NZ20090410,   P21,    49,  1,     23, X12028,2,20090424,1529,-16.7392, -86.9948, 4484,   1070.6,2,   4.1162,2,   4.11642,2,  34.5382,2,  34.5383,6,    64.22,2,    64.55,2,    82.11,2,     0.30,    42.75,2,     0.15,     0.01,2,     0.01,    3.096,2,    0.018,    0.012,2,    0.010,2,    0.000,2,   -999.0,9,   -999.0,9,-999.0000,-999,9,  -999.00,9,  -999.00,   -999.0,9,   -999.0,   4.0336,  27.4153
  49NZ20090410,   P21,    49,  1,     22, X12022,2,20090424,1529,-16.7392, -86.9948, 4484,   1270.5,2,   3.5020,2,   3.50170,2,  34.5635,2,  34.5643,2,    77.33,2,    77.48,2,    96.02,2,     0.33,    41.67,2,     0.15,     0.01,2,     0.01,    3.025,2,    0.018,    0.000,2,    0.000,2,    0.000,2,   -999.0,9,   -999.0,9,-999.0000,-999,9,  -999.00,9,  -999.00,   -999.0,9,   -999.0,   3.4080,  27.4983
  49NZ20090410,   P21,    49,  1,     21, X12021,2,20090424,1529,-16.7392, -86.9948, 4484,   1472.6,2,   2.9851,2,   2.98506,2,  34.5861,2,  34.5866,2,    96.21,2,    95.94,2,   104.94,2,     0.35,    40.12,2,     0.15,     0.01,2,     0.01,    2.894,2,    0.017,    0.000,2,    0.000,2,    0.000,2,   -999.0,9,   -999.0,9,-999.0000,-999,9,  -999.00,9,  -999.00,   -999.0,9,   -999.0,   2.8797,  27.5656
  49NZ20090410,   P21,    49,  1,     20, X12020,2,20090424,1529,-16.7392, -86.9948, 4484,   1669.8,2,   2.6683,2,   2.66817,2,  34.6092,2,  34.6095,2,   101.64,2,   101.40,2,   114.16,2,     0.37,    39.70,2,     0.14,     0.01,2,     0.01,    2.857,2,    0.017,    0.000,2,    0.000,2,    0.000,2,   -999.0,9,   -999.0,9,-999.0000,-999,9,  -999.00,9,  -999.00,   -999.0,9,   -999.0,   2.5502,  27.6131
  49NZ20090410,   P21,    49,  1,     19, X12019,2,20090424,1529,-16.7392, -86.9948, 4484,   1869.5,2,   2.4038,2,   2.40355,2,  34.6273,2,  34.6277,2,   111.41,2,   111.09,2,   120.24,2,     0.38,    38.87,2,     0.14,     0.01,2,     0.01,    2.781,2,    0.017,    0.000,4,    0.002,4,    0.000,4,   -999.0,9,   -999.0,9,-999.0000,-999,9,  -999.00,9,  -999.00,   -999.0,9,   -999.0,   2.2724,  27.6511
  49NZ20090410,   P21,    49,  1,     18, X12043,2,20090424,1529,-16.7392, -86.9948, 4484,   2069.9,2,   2.1871,2,   2.18682,2,  34.6417,2,  34.6417,2,   124.59,2,   124.25,2,   121.43,2,     0.39,    37.77,2,     0.14,     0.01,2,     0.01,    2.688,2,    0.017,    0.000,2,    0.000,2,    0.000,2,   -999.0,9,   -999.0,9,-999.0000,-999,9,  -999.00,9,  -999.00,   -999.0,9,   -999.0,   2.0418,  27.6813
  49NZ20090410,   P21,    49,  1,     17, X12042,2,20090424,1529,-16.7392, -86.9948, 4484,   2269.9,2,   2.0003,2,   2.00040,2,  34.6562,2,  34.6562,6,   136.06,2,   135.84,2,   122.96,2,     0.39,    36.95,2,     0.14,     0.01,2,     0.01,    2.606,2,    0.016,    0.000,2,    0.000,2,    0.000,2,   -999.0,9,   -999.0,9,-999.0000,-999,9,  -999.00,9,  -999.00,   -999.0,9,   -999.0,   1.8406,  27.7087
  49NZ20090410,   P21,    49,  1,     16, X12016,2,20090424,1529,-16.7392, -86.9948, 4484,   2470.4,2,   1.8879,2,   1.88782,2,  34.6661,2,  34.6665,2,   143.27,2,   142.90,2,   123.67,2,     0.39,    36.47,2,     0.13,     0.01,2,     0.01,    2.563,2,    0.016,    0.000,2,    0.001,2,    0.000,2,   -999.0,9,   -999.0,9,-999.0000,-999,9,  -999.00,9,  -999.00,   -999.0,9,   -999.0,   1.7123,  27.7265
  49NZ20090410,   P21,    49,  1,     15, X12015,2,20090424,1529,-16.7392, -86.9948, 4484,   2669.7,2,   1.8261,2,   1.82603,2,  34.6730,2,  34.6736,2,   143.85,2,   143.49,2,   126.77,2,     0.40,    36.27,2,     0.13,     0.01,2,     0.01,    2.548,2,    0.016,    0.000,2,    0.001,2,    0.000,2,   -999.0,9,   -999.0,9,-999.0000,-999,9,  -999.00,9,  -999.00,   -999.0,9,   -999.0,   1.6335,  27.7379
  49NZ20090410,   P21,    49,  1,     14, X12050,2,20090424,1529,-16.7392, -86.9948, 4484,   2869.8,2,   1.7959,2,   1.79591,2,  34.6773,2,  34.6776,2,   143.24,2,   142.90,2,   129.55,2,     0.40,    36.23,2,     0.13,     0.01,2,     0.01,    2.546,2,    0.016,    0.000,2,    0.001,2,    0.000,2,   -999.0,9,   -999.0,9,-999.0000,-999,9,  -999.00,9,  -999.00,   -999.0,9,   -999.0,   1.5851,  27.7449
  49NZ20090410,   P21,    49,  1,     13, X12013,7,20090424,1529,-16.7392, -86.9948, 4484,   3079.8,2,   1.7821,2,   1.78212,2,  34.6801,2,  34.6809,2,   143.62,2,   143.35,2,   130.40,2,     0.41,    36.25,2,     0.13,     0.01,2,     0.01,    2.547,2,    0.016,    0.000,2,    0.002,2,    0.000,2,   -999.0,9,   -999.0,9,-999.0000,-999,9,  -999.00,9,  -999.00,   -999.0,9,   -999.0,   1.5513,  27.7497
  49NZ20090410,   P21,    49,  1,     12, X12012,2,20090424,1529,-16.7392, -86.9948, 4484,   3330.1,2,   1.7686,2,   1.76861,2,  34.6832,2,  34.6831,6,   145.89,2,   145.65,2,   130.31,2,     0.41,    36.16,2,     0.13,     0.01,2,     0.01,    2.537,2,    0.016,    0.006,2,    0.001,2,    0.000,2,   -999.0,9,   -999.0,9,-999.0000,-999,9,  -999.00,9,  -999.00,   -999.0,9,   -999.0,   1.5131,  27.7550
  49NZ20090410,   P21,    49,  1,     11, X12041,2,20090424,1529,-16.7392, -86.9948, 4484,   3580.1,2,   1.7565,2,   1.75651,2,  34.6860,2,  34.6861,2,   149.22,2,   149.03,2,   128.79,2,     0.40,    35.98,2,     0.13,     0.01,2,     0.01,    2.520,2,    0.016,    0.000,2,    0.000,2,    0.000,2,   -999.0,9,   -999.0,9,-999.0000,-999,9,  -999.00,9,  -999.00,   -999.0,9,   -999.0,   1.4755,  27.7600
  49NZ20090410,   P21,    49,  1,     10, X12040,2,20090424,1529,-16.7392, -86.9948, 4484,   3829.5,2,   1.7538,2,   1.75374,2,  34.6881,2,  34.6882,2,   151.65,2,   151.46,2,   127.33,2,     0.40,    35.65,2,     0.13,     0.01,2,     0.01,    2.501,2,    0.016,    0.000,2,    0.000,2,    0.000,2,   -999.0,9,   -999.0,9,-999.0000,-999,9,  -999.00,9,  -999.00,   -999.0,9,   -999.0,   1.4464,  27.7637
  49NZ20090410,   P21,    49,  1,      9, X12009,2,20090424,1529,-16.7392, -86.9948, 4484,   4081.9,2,   1.7701,2,   1.77009,2,  34.6892,2,  34.6889,2,   152.14,2,   152.12,2,   126.74,2,     0.40,    35.70,2,     0.13,     0.01,2,     0.01,    2.499,2,    0.016,    0.000,2,    0.000,2,    0.000,2,   -999.0,9,   -999.0,9,-999.0000,-999,9,  -999.00,9,  -999.00,   -999.0,9,   -999.0,   1.4345,  27.7655
  49NZ20090410,   P21,    49,  1,      8, X12008,2,20090424,1529,-16.7392, -86.9948, 4484,   4329.1,2,   1.7887,2,   1.78867,2,  34.6894,2,  34.6895,2,   152.79,2,   152.70,2,   126.56,2,     0.40,    35.54,2,     0.13,     0.01,2,     0.01,    2.494,2,    0.016,    0.000,2,    0.000,2,    0.000,2,   -999.0,9,   -999.0,9,-999.0000,-999,9,  -999.00,9,  -999.00,   -999.0,9,   -999.0,   1.4246,  27.7664
  49NZ20090410,   P21,    49,  1,      7, X12007,9,20090424,1529,-16.7392, -86.9948, 4484,     10.2,2,  23.1496,2,  23.15074,2,  35.7488,2,-999.0000,9,   215.66,2,  -999.00,9,  -999.00,9,  -999.00,  -999.00,9,  -999.00,  -999.00,9,  -999.00, -999.000,9, -999.000, -999.000,9, -999.000,9, -999.000,9,   -999.0,9,   -999.0,9,-999.0000,-999,9,  -999.00,9,  -999.00,   -999.0,9,   -999.0,  23.1475,  24.4589
  49NZ20090410,   P21,    49,  1,      6, X12035,9,20090424,1529,-16.7392, -86.9948, 4484,   2670.3,2,   1.8262,2,   1.82605,2,  34.6729,2,-999.0000,9,   143.83,2,  -999.00,9,  -999.00,9,  -999.00,  -999.00,9,  -999.00,  -999.00,9,  -999.00, -999.000,9, -999.000, -999.000,9, -999.000,9, -999.000,9,   -999.0,9,   -999.0,9,-999.0000,-999,9,  -999.00,9,  -999.00,   -999.0,9,   -999.0,   1.6335,  27.7379
  49NZ20090410,   P21,    49,  1,      5, X12038,9,20090424,1529,-16.7392, -86.9948, 4484,   4082.1,2,   1.7702,2,   1.77012,2,  34.6891,2,-999.0000,9,   152.16,2,  -999.00,9,  -999.00,9,  -999.00,  -999.00,9,  -999.00,  -999.00,9,  -999.00, -999.000,9, -999.000, -999.000,9, -999.000,9, -999.000,9,   -999.0,9,   -999.0,9,-999.0000,-999,9,  -999.00,9,  -999.00,   -999.0,9,   -999.0,   1.4346,  27.7655
  49NZ20090410,   P21,    49,  1,      4, X12034,9,20090424,1529,-16.7392, -86.9948, 4484,   4328.9,2,   1.7888,2,   1.78872,2,  34.6893,2,-999.0000,9,   152.81,2,  -999.00,9,  -999.00,9,  -999.00,  -999.00,9,  -999.00,  -999.00,9,  -999.00, -999.000,9, -999.000, -999.000,9, -999.000,9, -999.000,9,   -999.0,9,   -999.0,9,-999.0000,-999,9,  -999.00,9,  -999.00,   -999.0,9,   -999.0,   1.4247,  27.7663
  49NZ20090410,   P21,    49,  1,      3, X12033,9,20090424,1529,-16.7392, -86.9948, 4484,   3080.5,2,   1.7821,2,   1.78213,2,  34.6802,2,-999.0000,9,   143.62,2,  -999.00,9,  -999.00,9,  -999.00,  -999.00,9,  -999.00,  -999.00,9,  -999.00, -999.000,9, -999.000, -999.000,9, -999.000,9, -999.000,9,   -999.0,9,   -999.0,9,-999.0000,-999,9,  -999.00,9,  -999.00,   -999.0,9,   -999.0,   1.5512,  27.7498
  49NZ20090410,   P21,    49,  1,      2, X12032,2,20090424,1529,-16.7392, -86.9948, 4484,   2868.9,2,   1.7960,2,   1.79590,2,  34.6772,2,  34.6773,2,   143.27,2,   142.88,2,   129.81,2,     0.40,    36.42,2,     0.13,     0.01,2,     0.01,    2.560,2,    0.016, -999.000,9, -999.000,9, -999.000,9,   -999.0,9,   -999.0,9,-999.0000,-999,9,  -999.00,9,  -999.00,   -999.0,9,   -999.0,   1.5853,  27.7449
  49NZ20090410,   P21,    49,  1,      1, X12046,2,20090424,1529,-16.7392, -86.9948, 4484,   4537.3,2,   1.8118,2,   1.81164,2,  34.6893,2,  34.6894,6,   152.86,2,   152.77,2,   126.65,2,     0.40,    35.56,2,     0.13,     0.01,2,     0.01,    2.493,2,    0.016,    0.001,2,    0.000,2,    0.000,2,   -999.0,9,   -999.0,9,-999.0000,-999,9,  -999.00,9,  -999.00,   -999.0,9,   -999.0,   1.4228,  27.7665