BOTTLE,20220818CCHSIOAMB
EXPOCODE,SECT_ID,STNNBR,CASTNO,SAMPNO,BTLNBR,BTLNBR_FLAG_W,DATE,TIME,LATITUDE,LONGITUDE,DEPTH,CTDPRS,CTDPRS_FLAG_W,CTDTMP,CTDTMP_FLAG_W,SBE35,SBE35_FLAG_W,CTDSAL,CTDSAL_FLAG_W,SALNTY,SALNTY_FLAG_W,CTDOXY,CTDOXY_FLAG_W,OXYGEN,OXYGEN_FLAG_W,SILCAT,SILCAT_FLAG_W,SILUNC,NITRAT,NITRAT_FLAG_W,NRAUNC,NITRIT,NITRIT_FLAG_W,NRIUNC,PHSPHT,PHSPHT_FLAG_W,PHPUNC,CFC-11,CFC-11_FLAG_W,CFC-12,CFC-12_FLAG_W,CFC113,CFC113_FLAG_W,TCARBN,TCARBN_FLAG_W,ALKALI,ALKALI_FLAG_W,PH_TOT,PH_TMP,PH_TOT_FLAG_W,DELC13,DELC13_FLAG_W,C13ERR,DELC14,DELC14_FLAG_W,C14ERR,THETA,SIG0
,,,,,,,,,,,METERS,DBAR,,ITS-90,,ITS-90,,PSS-78,,PSS-78,,UMOL/KG,,UMOL/KG,,UMOL/KG,,UMOL/KG,UMOL/KG,,UMOL/KG,UMOL/KG,,UMOL/KG,UMOL/KG,,UMOL/KG,PMOL/KG,,PMOL/KG,,PMOL/KG,,UMOL/KG,,UMOL/KG,,,DEG C,,/MILLE,,/MILLE,/MILLE,,/MILLE,DEG C,KG/M^3
  49NZ20090410,   P21,   130,  1,     36, X12006,2,20090512,0105,-16.7513,-133.3367, 4388,      9.9,2,  27.4735,2,  27.47395,2,  36.3231,2,  36.3214,2,   199.01,2,   198.58,2,     0.61,2,     0.12,     0.42,2,     0.03,     0.02,2,     0.01,    0.274,2,    0.014,    1.468,2,    0.957,2, -999.000,5,   2031.6,2,   2397.7,2,   8.1290,  25,6,  -999.00,9,  -999.00,   -999.0,9,   -999.0,  27.4712,  23.5627
  49NZ20090410,   P21,   130,  1,     35, X12047,2,20090512,0105,-16.7513,-133.3367, 4388,     50.4,2,  27.3880,2,  27.38791,2,  36.5840,2,  36.5784,2,   199.93,2,   199.75,2,     0.65,2,     0.12,     0.09,2,     0.03,     0.01,2,     0.01,    0.249,2,    0.015,    1.489,2,    0.971,2, -999.000,5,   2051.1,6,   2412.4,2,   8.1175,  25,2,  -999.00,9,  -999.00,   -999.0,9,   -999.0,  27.3763,  23.7900
  49NZ20090410,   P21,   130,  1,     34, X12004,2,20090512,0105,-16.7513,-133.3367, 4388,     99.9,2,  25.0645,2,  25.06627,2,  36.4800,2,  36.4867,2,   201.01,2,   200.97,2,     0.64,2,     0.12,     0.10,2,     0.03,     0.03,2,     0.01,    0.260,2,    0.015,    1.674,6,    1.077,6, -999.000,5,   2066.4,2,   2402.8,6,   8.0771,  25,2,  -999.00,9,  -999.00,   -999.0,9,   -999.0,  25.0427,  24.4472
  49NZ20090410,   P21,   130,  1,     33, X12003,2,20090512,0105,-16.7513,-133.3367, 4388,    148.6,2,  23.7934,2,  23.79152,2,  36.3918,2,  36.3914,2,   191.59,2,   191.13,2,     0.60,2,     0.12,     0.17,2,     0.03,     1.18,2,     0.00,    0.326,2,    0.014,    1.758,2,    1.121,2, -999.000,5,   2079.4,2,   2395.2,2,   8.0467,  25,6,  -999.00,9,  -999.00,   -999.0,9,   -999.0,  23.7621,  24.7662
  49NZ20090410,   P21,   130,  1,     32, X12002,2,20090512,0105,-16.7513,-133.3367, 4388,    199.8,2,  21.6549,2,  21.65778,2,  36.0673,2,  36.0721,2,   187.01,2,   186.11,2,     0.65,2,     0.12,     2.52,2,     0.04,     0.05,2,     0.01,    0.436,2,    0.013,    1.963,2,    1.234,2,    0.143,2,   2096.5,2,   2375.6,2,   7.9954,  25,2,  -999.00,9,  -999.00,   -999.0,9,   -999.0,  21.6156,  25.1368
  49NZ20090410,   P21,   130,  1,     31, X12001,9,20090512,0105,-16.7513,-133.3367, 4388,   2999.6,2,   1.6755,2,   1.67555,2,  34.6777,2,-999.0000,9,   159.12,2,  -999.00,9,  -999.00,9,  -999.00,  -999.00,9,  -999.00,  -999.00,9,  -999.00, -999.000,9, -999.000, -999.000,9, -999.000,9, -999.000,9,   -999.0,9,   -999.0,9,-999.0000,-999,9,  -999.00,9,  -999.00,   -999.0,9,   -999.0,   1.4549,  27.7548
  49NZ20090410,   P21,   130,  1,     30, X12030,2,20090512,0105,-16.7513,-133.3367, 4388,    299.0,2,  17.4213,2,  17.43261,2,  35.2821,2,  35.2902,2,   184.89,2,   184.66,2,     1.06,2,     0.12,     5.03,2,     0.05,     0.02,2,     0.01,    0.566,2,    0.013,    2.369,2,    1.402,2,    0.042,2,   2090.7,2,   2322.9,2,   7.9228,  25,2,  -999.00,9,  -999.00,   -999.0,9,   -999.0,  17.3709,  25.6418
  49NZ20090410,   P21,   130,  1,     29, X12044,2,20090512,0105,-16.7513,-133.3367, 4388,    399.7,2,  10.8821,2,  10.88238,2,  34.5452,2,  34.5452,2,   154.73,2,   153.88,2,     7.27,2,     0.14,    18.53,2,     0.08,     0.02,2,     0.01,    1.521,2,    0.014,    2.256,2,    1.168,2,    0.032,2,   2152.4,2,   2281.8,2,   7.7091,  25,2,  -999.00,9,  -999.00,   -999.0,9,   -999.0,  10.8330,  26.4514
  49NZ20090410,   P21,   130,  1,     28, X12048,2,20090512,0105,-16.7513,-133.3367, 4388,    500.6,2,   7.5668,2,   7.56507,2,  34.4161,2,  34.4200,6,   123.04,2,   122.07,2,    17.00,2,     0.16,    30.91,2,     0.12,     0.02,2,     0.01,    2.266,2,    0.016,    0.882,2,    0.453,2,    0.016,2,   2210.4,2,   2282.6,2,   7.5543,  25,2,  -999.00,9,  -999.00,   -999.0,9,   -999.0,   7.5172,  26.8859
  49NZ20090410,   P21,   130,  1,     27, X12027,2,20090512,0105,-16.7513,-133.3367, 4388,    599.3,2,   6.0168,2,   6.01560,2,  34.3748,2,  34.3748,2,   152.04,2,   151.98,2,    22.34,2,     0.17,    32.61,2,     0.12,     0.02,2,     0.01,    2.282,2,    0.016,    0.437,6,    0.228,6,    0.000,6,   2205.3,2,   2288.7,2,   7.5842,  25,2,  -999.00,9,  -999.00,   -999.0,9,   -999.0,   5.9641,  27.0632
  49NZ20090410,   P21,   130,  1,     26, X12026,2,20090512,0105,-16.7513,-133.3367, 4388,    700.3,2,   5.4864,2,   5.48621,2,  34.4490,2,  34.4468,3,   119.50,2,   120.15,2,    39.89,2,     0.21,    36.11,2,     0.13,     0.01,2,     0.01,    2.529,2,    0.016,    0.068,2,    0.040,2,    0.000,2,   2239.4,6,   2307.8,2,   7.5395,  25,2,  -999.00,9,  -999.00,   -999.0,9,   -999.0,   5.4270,  27.1881
  49NZ20090410,   P21,   130,  1,     25, X12025,2,20090512,0105,-16.7513,-133.3367, 4388,    802.6,2,   5.0882,2,   5.08821,2,  34.4799,2,  34.4801,2,   121.16,2,   121.02,2,    50.70,2,     0.23,    36.40,2,     0.13,     0.02,2,     0.01,    2.557,2,    0.016,    0.043,2,    0.022,2,    0.000,2,   2250.3,2,   2320.3,6,   7.5437,  25,2,  -999.00,9,  -999.00,   -999.0,9,   -999.0,   5.0220,  27.2604
  49NZ20090410,   P21,   130,  1,     24, X12024,2,20090512,0105,-16.7513,-133.3367, 4388,    899.5,2,   4.6288,2,   4.62944,2,  34.4984,2,  34.4986,2,   114.21,2,   114.05,2,    60.65,2,     0.25,    37.66,2,     0.14,     0.02,2,     0.01,    2.657,2,    0.017,    0.015,2,    0.012,2,    0.000,2,   2265.9,2,   2330.7,2,   7.5278,  25,2,  -999.00,9,  -999.00,   -999.0,9,   -999.0,   4.5571,  27.3276
  49NZ20090410,   P21,   130,  1,     23, X12028,2,20090512,0105,-16.7513,-133.3367, 4388,    998.5,2,   4.2671,2,   4.26668,2,  34.5129,2,  34.5131,6,   111.58,2,   111.38,2,    68.50,2,     0.27,    38.29,2,     0.14,     0.02,2,     0.01,    2.708,2,    0.017,    0.007,2,    0.006,2,    0.000,2,   2276.9,2,   2338.8,2,   7.5203,  25,2,  -999.00,9,  -999.00,   -999.0,9,   -999.0,   4.1895,  27.3788
  49NZ20090410,   P21,   130,  1,     22, X12022,2,20090512,0105,-16.7513,-133.3367, 4388,   1199.8,2,   3.6232,2,   3.62329,2,  34.5447,2,  34.5455,2,   108.94,2,   108.86,2,    83.89,2,     0.30,    39.01,2,     0.14,     0.02,2,     0.01,    2.776,2,    0.017,    0.000,2,    0.002,2,    0.000,2,   2296.4,2,   2356.3,2,   7.5127,  25,2,  -999.00,9,  -999.00,   -999.0,9,   -999.0,   3.5340,  27.4710
  49NZ20090410,   P21,   130,  1,     21, X12021,2,20090512,0105,-16.7513,-133.3367, 4388,   1399.4,2,   3.0964,2,   3.09641,2,  34.5674,2,  34.5678,2,   125.37,2,   125.21,2,    92.83,2,     0.32,    37.77,2,     0.14,     0.03,2,     0.01,    2.678,2,    0.017,    0.001,2,    0.000,2,    0.000,2,   2296.8,2,   2366.3,2,   7.5383,  25,2,  -999.00,9,  -999.00,   -999.0,9,   -999.0,   2.9959,  27.5402
  49NZ20090410,   P21,   130,  1,     20, X12020,2,20090512,0105,-16.7513,-133.3367, 4388,   1601.1,2,   2.6776,2,   2.67769,2,  34.5925,2,  34.5924,2,   133.43,2,   133.46,2,   101.44,2,     0.34,    37.28,2,     0.14,     0.02,2,     0.01,    2.637,2,    0.017,    0.000,2,    0.000,2,    0.000,2,   2303.1,2,   2376.2,2,   7.5515,  25,6,  -999.00,9,  -999.00,   -999.0,9,   -999.0,   2.5652,  27.5984
  49NZ20090410,   P21,   130,  1,     19, X12019,2,20090512,0105,-16.7513,-133.3367, 4388,   1800.5,2,   2.3508,2,   2.35100,2,  34.6155,2,  34.6158,2,   141.61,2,   141.78,2,   107.65,2,     0.36,    36.75,2,     0.14,     0.03,2,     0.01,    2.588,2,    0.016,    0.000,2,    0.001,2,    0.000,2,   2304.6,2,   2383.2,2,   7.5650,  25,2,  -999.00,9,  -999.00,   -999.0,9,   -999.0,   2.2260,  27.6454
  49NZ20090410,   P21,   130,  1,     18, X12043,2,20090512,0105,-16.7513,-133.3367, 4388,   2001.0,2,   2.1040,2,   2.10404,2,  34.6392,2,  34.6392,6,   145.84,2,   145.95,2,   114.09,2,     0.37,    36.32,2,     0.13,     0.03,2,     0.01,    2.559,2,    0.016,    0.001,2,    0.002,2,    0.000,2,   2308.8,2,   2390.6,2,   7.5733,  25,2,  -999.00,9,  -999.00,   -999.0,9,   -999.0,   1.9659,  27.6853
  49NZ20090410,   P21,   130,  1,     17, X12042,2,20090512,0105,-16.7513,-133.3367, 4388,   2199.7,2,   1.9553,2,   1.95546,2,  34.6542,2,  34.6543,2,   149.51,2,   149.50,2,   118.39,2,     0.38,    36.15,2,     0.13,     0.01,2,     0.01,    2.535,2,    0.016,    0.000,2,    0.001,2,    0.000,2,   2311.1,2,   2397.1,2,   7.5825,  25,2,  -999.00,9,  -999.00,   -999.0,9,   -999.0,   1.8025,  27.7100
  49NZ20090410,   P21,   130,  1,     16, X12016,2,20090512,0105,-16.7513,-133.3367, 4388,   2400.5,2,   1.8543,2,   1.85436,2,  34.6633,2,  34.6633,2,   152.50,2,   152.44,2,   121.04,2,     0.39,    35.82,2,     0.13,     0.01,2,     0.01,    2.504,2,    0.016,    0.001,2,    0.000,2,    0.000,2,   2313.9,6,   2400.7,2,   7.5887,  25,2,  -999.00,9,  -999.00,   -999.0,9,   -999.0,   1.6856,  27.7262
  49NZ20090410,   P21,   130,  1,     15, X12015,2,20090512,0105,-16.7513,-133.3367, 4388,   2599.9,2,   1.7960,2,   1.79617,2,  34.6685,2,  34.6683,2,   154.93,2,   154.86,2,   122.80,2,     0.39,    35.70,2,     0.13,     0.02,2,     0.01,    2.494,2,    0.016,    0.000,2,    0.000,2,    0.000,2,   2313.7,2,   2402.2,6,   7.5930,  25,2,  -999.00,9,  -999.00,   -999.0,9,   -999.0,   1.6104,  27.7360
  49NZ20090410,   P21,   130,  1,     14, X12050,2,20090512,0105,-16.7513,-133.3367, 4388,   2800.2,2,   1.7277,2,   1.72776,2,  34.6737,2,  34.6732,2,   156.87,2,   156.71,2,   125.10,2,     0.39,    35.65,2,     0.13,     0.02,2,     0.01,    2.492,2,    0.016,    0.000,2,    0.000,2,    0.000,2,   2314.9,2,   2405.0,2,   7.5968,  25,6,  -999.00,9,  -999.00,   -999.0,9,   -999.0,   1.5249,  27.7465
  49NZ20090410,   P21,   130,  1,     13, X12013,7,20090512,0105,-16.7513,-133.3367, 4388,   2999.7,2,   1.6754,2,   1.67548,2,  34.6778,2,  34.6785,2,   159.10,2,   159.00,2,   126.00,2,     0.40,    35.49,2,     0.13,     0.02,2,     0.01,    2.481,2,    0.016,    0.000,2,    0.000,2,    0.000,2,   2314.4,2,   2407.1,2,   7.6007,  25,2,  -999.00,9,  -999.00,   -999.0,9,   -999.0,   1.4548,  27.7549
  49NZ20090410,   P21,   130,  1,     12, X12012,2,20090512,0105,-16.7513,-133.3367, 4388,   3249.8,2,   1.6337,2,   1.63376,2,  34.6819,2,  34.6814,6,   159.82,2,   159.78,2,   128.61,2,     0.40,    35.53,2,     0.13,     0.01,2,     0.01,    2.487,2,    0.016,    0.000,2,    0.000,2,    0.000,2,   2316.5,2,   2409.8,2,   7.6035,  25,2,  -999.00,9,  -999.00,   -999.0,9,   -999.0,   1.3895,  27.7629
  49NZ20090410,   P21,   130,  1,     11, X12041,2,20090512,0105,-16.7513,-133.3367, 4388,   3499.7,2,   1.5957,2,   1.59572,2,  34.6849,2,  34.6848,2,   162.05,2,   162.05,2,   129.47,2,     0.40,    35.45,2,     0.13,     0.02,2,     0.01,    2.478,2,    0.016,    0.000,2,    0.000,2,    0.000,2,   2315.9,2,   2409.9,2,   7.6070,  25,2,  -999.00,9,  -999.00,   -999.0,9,   -999.0,   1.3272,  27.7697
  49NZ20090410,   P21,   130,  1,     10, X12040,2,20090512,0105,-16.7513,-133.3367, 4388,   3749.2,2,   1.5634,2,   1.56352,2,  34.6876,2,  34.6878,2,   165.17,2,   165.08,2,   128.95,2,     0.40,    35.25,2,     0.13,     0.02,2,     0.01,    2.460,2,    0.016,    0.000,2,    0.000,2,    0.000,2,   2314.0,2,   2408.8,2,   7.6100,  25,2,  -999.00,9,  -999.00,   -999.0,9,   -999.0,   1.2697,  27.7760
  49NZ20090410,   P21,   130,  1,      9, X12009,2,20090512,0105,-16.7513,-133.3367, 4388,   4000.6,2,   1.5382,2,   1.53834,2,  34.6899,2,  34.6897,2,   168.56,2,   168.40,2,   127.94,2,     0.40,    34.94,2,     0.13,     0.02,2,     0.01,    2.441,2,    0.016,    0.000,2,    0.000,2,    0.000,2,   2310.0,2,   2405.7,2,   7.6114,  25,2,  -999.00,9,  -999.00,   -999.0,9,   -999.0,   1.2181,  27.7813
  49NZ20090410,   P21,   130,  1,      8, X12008,2,20090512,0105,-16.7513,-133.3367, 4388,   4250.1,2,   1.5465,2,   1.54654,2,  34.6906,2,  34.6906,2,   170.04,2,   169.93,2,   127.33,2,     0.40,    34.85,2,     0.13,     0.02,2,     0.01,    2.440,2,    0.016,    0.000,2,    0.000,2,    0.000,2,   2308.0,6,   2404.6,2,   7.6128,  25,2,  -999.00,9,  -999.00,   -999.0,9,   -999.0,   1.1985,  27.7833
  49NZ20090410,   P21,   130,  1,      7, X12007,9,20090512,0105,-16.7513,-133.3367, 4388,     10.2,2,  27.4741,2,  27.47628,2,  36.3186,2,-999.0000,9,   199.10,2,  -999.00,9,  -999.00,9,  -999.00,  -999.00,9,  -999.00,  -999.00,9,  -999.00, -999.000,9, -999.000, -999.000,9, -999.000,9, -999.000,9,   -999.0,9,   -999.0,9,-999.0000,-999,9,  -999.00,9,  -999.00,   -999.0,9,   -999.0,  27.4717,  23.5591
  49NZ20090410,   P21,   130,  1,      6, X12035,9,20090512,0105,-16.7513,-133.3367, 4388,    200.1,2,  21.6791,2,  21.68092,2,  36.0712,2,-999.0000,9,   187.09,2,  -999.00,9,  -999.00,9,  -999.00,  -999.00,9,  -999.00,  -999.00,9,  -999.00, -999.000,9, -999.000, -999.000,9, -999.000,9, -999.000,9,   -999.0,9,   -999.0,9,-999.0000,-999,9,  -999.00,9,  -999.00,   -999.0,9,   -999.0,  21.6397,  25.1330
  49NZ20090410,   P21,   130,  1,      5, X12038,9,20090512,0105,-16.7513,-133.3367, 4388,   2599.9,2,   1.7961,2,   1.79616,2,  34.6684,2,-999.0000,9,   154.91,2,  -999.00,9,  -999.00,9,  -999.00,  -999.00,9,  -999.00,  -999.00,9,  -999.00, -999.000,9, -999.000, -999.000,9, -999.000,9, -999.000,9,   -999.0,9,   -999.0,9,-999.0000,-999,9,  -999.00,9,  -999.00,   -999.0,9,   -999.0,   1.6105,  27.7359
  49NZ20090410,   P21,   130,  1,      4, X12034,9,20090512,0105,-16.7513,-133.3367, 4388,   2800.4,2,   1.7276,2,   1.72785,2,  34.6736,2,-999.0000,9,   157.05,2,  -999.00,9,  -999.00,9,  -999.00,  -999.00,9,  -999.00,  -999.00,9,  -999.00, -999.000,9, -999.000, -999.000,9, -999.000,9, -999.000,9,   -999.0,9,   -999.0,9,-999.0000,-999,9,  -999.00,9,  -999.00,   -999.0,9,   -999.0,   1.5248,  27.7464
  49NZ20090410,   P21,   130,  1,      3, X12033,2,20090512,0105,-16.7513,-133.3367, 4388,    249.7,2,  19.8511,2,  19.84293,2,  35.7101,2,  35.6840,6,   186.69,2,   186.45,2,     0.69,2,     0.12,     3.24,2,     0.04,     0.02,2,     0.01,    0.455,2,    0.013,    2.159,2,    1.319,2,    0.054,2,   2091.1,2,   2348.8,2,   7.9649,  25,2,  -999.00,9,  -999.00,   -999.0,9,   -999.0,  19.8049,  25.3550
  49NZ20090410,   P21,   130,  1,      2, X12032,9,20090512,0105,-16.7513,-133.3367, 4388,    900.4,2,   4.6279,2,   4.62776,2,  34.4988,2,-999.0000,9,   114.16,2,  -999.00,9,  -999.00,9,  -999.00,  -999.00,9,  -999.00,  -999.00,9,  -999.00, -999.000,9, -999.000, -999.000,9, -999.000,9, -999.000,9,   -999.0,9,   -999.0,9,-999.0000,-999,9,  -999.00,9,  -999.00,   -999.0,9,   -999.0,   4.5561,  27.3280
  49NZ20090410,   P21,   130,  1,      1, X12046,2,20090512,0105,-16.7513,-133.3367, 4388,   4458.0,2,   1.5716,2,   1.57156,2,  34.6904,2,  34.6906,6,   170.09,2,   169.92,2,   127.45,2,     0.40,    34.95,2,     0.13,     0.02,2,     0.01,    2.434,2,    0.016,    0.000,2,    0.000,2,    0.000,2,   2309.3,2,   2404.7,2,   7.6133,  25,2,  -999.00,9,  -999.00,   -999.0,9,   -999.0,   1.1992,  27.7831