BOTTLE,20220818CCHSIOAMB
EXPOCODE,SECT_ID,STNNBR,CASTNO,SAMPNO,BTLNBR,BTLNBR_FLAG_W,DATE,TIME,LATITUDE,LONGITUDE,DEPTH,CTDPRS,CTDPRS_FLAG_W,CTDTMP,CTDTMP_FLAG_W,SBE35,SBE35_FLAG_W,CTDSAL,CTDSAL_FLAG_W,SALNTY,SALNTY_FLAG_W,CTDOXY,CTDOXY_FLAG_W,OXYGEN,OXYGEN_FLAG_W,SILCAT,SILCAT_FLAG_W,SILUNC,NITRAT,NITRAT_FLAG_W,NRAUNC,NITRIT,NITRIT_FLAG_W,NRIUNC,PHSPHT,PHSPHT_FLAG_W,PHPUNC,CFC-11,CFC-11_FLAG_W,CFC-12,CFC-12_FLAG_W,CFC113,CFC113_FLAG_W,TCARBN,TCARBN_FLAG_W,ALKALI,ALKALI_FLAG_W,PH_TOT,PH_TMP,PH_TOT_FLAG_W,DELC13,DELC13_FLAG_W,C13ERR,DELC14,DELC14_FLAG_W,C14ERR,THETA,SIG0
,,,,,,,,,,,METERS,DBAR,,ITS-90,,ITS-90,,PSS-78,,PSS-78,,UMOL/KG,,UMOL/KG,,UMOL/KG,,UMOL/KG,UMOL/KG,,UMOL/KG,UMOL/KG,,UMOL/KG,UMOL/KG,,UMOL/KG,PMOL/KG,,PMOL/KG,,PMOL/KG,,UMOL/KG,,UMOL/KG,,,DEG C,,/MILLE,,/MILLE,/MILLE,,/MILLE,DEG C,KG/M^3
  49NZ20090410,   P21,   111,  1,     36, X12006,2,20090507,1655,-16.7518,-120.6690, 3502,     10.4,2,  26.7043,2,  26.70577,2,  36.3879,2,  36.3881,2,   202.73,2,   202.76,2,     0.80,2,     0.12,     0.90,2,     0.04,     0.03,2,     0.01,    0.357,2,    0.014,    1.535,2,    0.990,2, -999.000,5,   -999.0,9,   -999.0,9,-999.0000,-999,9,  -999.00,9,  -999.00,   -999.0,9,   -999.0,  26.7019,  23.8590
  49NZ20090410,   P21,   111,  1,     35, X12047,2,20090507,1655,-16.7518,-120.6690, 3502,     50.5,2,  26.6582,2,  26.65729,2,  36.3893,2,  36.3971,2,   202.26,2,   203.21,2,     0.78,2,     0.12,     0.82,2,     0.04,     0.03,2,     0.01,    0.348,2,    0.014,    1.559,2,    1.015,2, -999.000,5,   -999.0,9,   -999.0,9,-999.0000,-999,9,  -999.00,9,  -999.00,   -999.0,9,   -999.0,  26.6467,  23.8776
  49NZ20090410,   P21,   111,  1,     34, X12004,2,20090507,1655,-16.7518,-120.6690, 3502,     99.0,2,  23.0997,2,  23.09371,2,  36.3663,2,  36.3670,2,   211.16,2,   211.49,2,     0.54,2,     0.12,     0.05,2,     0.03,     0.02,2,     0.01,    0.251,2,    0.015,    1.852,6,    1.164,6, -999.000,5,   -999.0,9,   -999.0,9,-999.0000,-999,9,  -999.00,9,  -999.00,   -999.0,9,   -999.0,  23.0793,  24.9472
  49NZ20090410,   P21,   111,  1,     33, X12003,2,20090507,1655,-16.7518,-120.6690, 3502,    149.4,2,  21.9100,2,  21.91537,2,  36.1821,2,  36.1786,2,   204.98,2,   204.92,2,     0.52,2,     0.12,     0.18,2,     0.03,     0.47,2,     0.00,    0.274,2,    0.014,    1.948,2,    1.213,2, -999.000,5,   -999.0,9,   -999.0,9,-999.0000,-999,9,  -999.00,9,  -999.00,   -999.0,9,   -999.0,  21.8804,  25.1500
  49NZ20090410,   P21,   111,  1,     32, X12002,2,20090507,1655,-16.7518,-120.6690, 3502,    198.5,2,  20.3932,2,  20.39152,2,  35.8624,2,  35.8610,2,   199.55,2,   199.75,2,     0.51,2,     0.12,     1.74,2,     0.04,     0.04,2,     0.01,    0.380,2,    0.013,    2.116,2,    1.295,2,    0.203,4,   -999.0,9,   -999.0,9,-999.0000,-999,9,  -999.00,9,  -999.00,   -999.0,9,   -999.0,  20.3558,  25.3249
  49NZ20090410,   P21,   111,  1,     31, X12001,2,20090507,1655,-16.7518,-120.6690, 3502,    251.2,2,  17.9126,2,  17.90152,2,  35.3735,2,  35.3961,6,   194.61,2,   195.31,2,     0.80,2,     0.12,     3.71,2,     0.04,     0.02,2,     0.01,    0.493,2,    0.013,    2.353,2,    1.407,2,    0.082,2,   -999.0,9,   -999.0,9,-999.0000,-999,9,  -999.00,9,  -999.00,   -999.0,9,   -999.0,  17.8694,  25.5903
  49NZ20090410,   P21,   111,  1,     30, X12030,2,20090507,1655,-16.7518,-120.6690, 3502,    279.2,2,  15.6611,2,  15.65863,2,  34.9996,2,  34.9944,2,   183.38,2,   183.32,2,     1.68,2,     0.12,     7.64,2,     0.05,     0.02,2,     0.01,    0.770,2,    0.013,    2.572,2,    1.489,2,    0.057,2,   -999.0,9,   -999.0,9,-999.0000,-999,9,  -999.00,9,  -999.00,   -999.0,9,   -999.0,  15.6174,  25.8342
  49NZ20090410,   P21,   111,  1,     29, X12044,2,20090507,1655,-16.7518,-120.6690, 3502,    370.6,2,  10.5033,2,  10.50794,2,  34.4889,2,  34.4893,2,   130.66,2,   128.69,2,     9.92,2,     0.14,    21.48,2,     0.09,     0.02,2,     0.01,    1.796,2,    0.015,    2.089,2,    1.084,2,    0.041,2,   -999.0,9,   -999.0,9,-999.0000,-999,9,  -999.00,9,  -999.00,   -999.0,9,   -999.0,  10.4588,  26.4737
  49NZ20090410,   P21,   111,  1,     28, X12048,2,20090507,1655,-16.7518,-120.6690, 3502,    470.3,2,   7.1071,2,   7.10286,2,  34.4161,2,  34.4169,6,   121.28,2,   121.11,2,    19.43,2,     0.16,    32.39,2,     0.12,     0.01,2,     0.01,    2.331,2,    0.016,    0.662,2,    0.348,2,    0.013,2,   -999.0,9,   -999.0,9,-999.0000,-999,9,  -999.00,9,  -999.00,   -999.0,9,   -999.0,   7.0622,  26.9502
  49NZ20090410,   P21,   111,  1,     27, X12027,2,20090507,1655,-16.7518,-120.6690, 3502,    570.6,2,   6.0993,2,   6.10023,2,  34.4083,2,  34.4087,2,   129.01,2,   128.32,2,    26.48,2,     0.18,    34.37,2,     0.13,     0.01,2,     0.01,    2.413,2,    0.016,    0.278,6,    0.149,6,    0.000,6,   -999.0,9,   -999.0,9,-999.0000,-999,9,  -999.00,9,  -999.00,   -999.0,9,   -999.0,   6.0488,  27.0789
  49NZ20090410,   P21,   111,  1,     26, X12026,2,20090507,1655,-16.7518,-120.6690, 3502,    671.2,2,   5.7148,2,   5.71433,2,  34.4637,2,  34.4630,2,   100.78,2,   100.66,2,    39.83,2,     0.21,    37.52,2,     0.14,     0.01,2,     0.01,    2.631,2,    0.017,    0.037,2,    0.020,2,    0.000,2,   -999.0,9,   -999.0,9,-999.0000,-999,9,  -999.00,9,  -999.00,   -999.0,9,   -999.0,   5.6568,  27.1718
  49NZ20090410,   P21,   111,  1,     25, X12025,2,20090507,1655,-16.7518,-120.6690, 3502,    768.7,2,   5.2270,2,   5.22690,2,  34.4859,2,  34.4855,2,    92.78,2,    92.59,2,    50.94,2,     0.23,    39.02,2,     0.14,     0.01,2,     0.01,    2.759,2,    0.017,    0.010,2,    0.006,2,    0.000,2,   -999.0,9,   -999.0,9,-999.0000,-999,9,  -999.00,9,  -999.00,   -999.0,9,   -999.0,   5.1629,  27.2487
  49NZ20090410,   P21,   111,  1,     24, X12024,2,20090507,1655,-16.7518,-120.6690, 3502,    871.2,2,   4.8053,2,   4.80537,2,  34.5023,2,  34.5020,2,    89.43,2,    89.42,2,    60.41,2,     0.25,    39.98,2,     0.14,     0.02,2,     0.01,    2.817,2,    0.017,    0.003,2,    0.003,2,    0.000,2,   -999.0,9,   -999.0,9,-999.0000,-999,9,  -999.00,9,  -999.00,   -999.0,9,   -999.0,   4.7348,  27.3108
  49NZ20090410,   P21,   111,  1,     23, X12028,2,20090507,1655,-16.7518,-120.6690, 3502,    971.2,2,   4.4551,2,   4.45468,2,  34.5136,2,  34.5134,6,    91.22,2,    90.96,2,    67.78,2,     0.27,    40.09,2,     0.15,     0.01,2,     0.01,    2.839,2,    0.017,    0.003,2,    0.004,2,    0.000,2,   -999.0,9,   -999.0,9,-999.0000,-999,9,  -999.00,9,  -999.00,   -999.0,9,   -999.0,   4.3784,  27.3592
  49NZ20090410,   P21,   111,  1,     22, X12022,2,20090507,1655,-16.7518,-120.6690, 3502,   1129.3,2,   3.8830,2,   3.88309,2,  34.5352,2,  34.5355,2,    99.00,2,    98.78,2,    79.71,2,     0.29,    39.67,2,     0.14,     0.02,2,     0.01,    2.823,2,    0.017,    0.002,2,    0.001,2,    0.000,2,   -999.0,9,   -999.0,9,-999.0000,-999,9,  -999.00,9,  -999.00,   -999.0,9,   -999.0,   3.7974,  27.4372
  49NZ20090410,   P21,   111,  1,     21, X12021,2,20090507,1655,-16.7518,-120.6690, 3502,   1329.3,2,   3.3777,2,   3.37760,2,  34.5628,2,  34.5623,2,   101.35,2,   101.17,2,    92.39,2,     0.32,    39.66,2,     0.14,     0.01,2,     0.01,    2.836,2,    0.017,    0.000,2,    0.000,2,    0.000,2,   -999.0,9,   -999.0,9,-999.0000,-999,9,  -999.00,9,  -999.00,   -999.0,9,   -999.0,   3.2800,  27.5100
  49NZ20090410,   P21,   111,  1,     20, X12020,2,20090507,1655,-16.7518,-120.6690, 3502,   1529.8,2,   2.9553,2,   2.95463,2,  34.5846,2,  34.5847,2,   112.93,2,   112.72,2,   101.21,2,     0.34,    38.87,2,     0.14,     0.01,2,     0.01,    2.758,2,    0.017,    0.001,2,    0.001,2,    0.000,2,   -999.0,9,   -999.0,9,-999.0000,-999,9,  -999.00,9,  -999.00,   -999.0,9,   -999.0,   2.8455,  27.5675
  49NZ20090410,   P21,   111,  1,     19, X12019,2,20090507,1655,-16.7518,-120.6690, 3502,   1729.8,2,   2.4746,2,   2.47459,2,  34.6139,2,  34.6138,6,   127.36,2,   127.21,2,   109.81,2,     0.36,    37.62,2,     0.14,     0.01,2,     0.01,    2.667,2,    0.017,    0.001,2,    0.000,2,    0.000,2,   -999.0,9,   -999.0,9,-999.0000,-999,9,  -999.00,9,  -999.00,   -999.0,9,   -999.0,   2.3540,  27.6335
  49NZ20090410,   P21,   111,  1,     18, X12043,2,20090507,1655,-16.7518,-120.6690, 3502,   1930.2,2,   2.1058,2,   2.10579,2,  34.6407,2,  34.6407,2,   143.83,2,   143.62,2,   113.96,2,     0.37,    36.27,2,     0.13,     0.01,2,     0.01,    2.556,2,    0.016,    0.000,2,    0.001,2,    0.000,2,   -999.0,9,   -999.0,9,-999.0000,-999,9,  -999.00,9,  -999.00,   -999.0,9,   -999.0,   1.9736,  27.6859
  49NZ20090410,   P21,   111,  1,     17, X12042,2,20090507,1655,-16.7518,-120.6690, 3502,   2131.7,2,   1.9923,2,   1.99246,2,  34.6513,2,  34.6512,2,   149.29,2,   149.03,2,   116.25,2,     0.37,    35.88,2,     0.13,     0.01,2,     0.01,    2.515,2,    0.016,    0.000,2,    0.001,2,    0.000,2,   -999.0,9,   -999.0,9,-999.0000,-999,9,  -999.00,9,  -999.00,   -999.0,9,   -999.0,   1.8447,  27.7045
  49NZ20090410,   P21,   111,  1,     16, X12016,2,20090507,1655,-16.7518,-120.6690, 3502,   2329.2,2,   1.8682,2,   1.86806,2,  34.6638,2,  34.6638,2,   153.97,2,   153.86,2,   119.36,2,     0.38,    35.46,2,     0.13,     0.01,2,     0.01,    2.491,2,    0.016,    0.001,2,    0.001,2,    0.000,2,   -999.0,9,   -999.0,9,-999.0000,-999,9,  -999.00,9,  -999.00,   -999.0,9,   -999.0,   1.7055,  27.7251
  49NZ20090410,   P21,   111,  1,     15, X12015,2,20090507,1655,-16.7518,-120.6690, 3502,   2529.5,2,   1.8319,2,   1.83190,2,  34.6682,2,  34.6680,2,   155.35,2,   155.16,2,   121.00,2,     0.39,    35.44,2,     0.13,     0.01,2,     0.01,    2.477,2,    0.016,    0.001,2,    0.001,2,    0.000,2,   -999.0,9,   -999.0,9,-999.0000,-999,9,  -999.00,9,  -999.00,   -999.0,9,   -999.0,   1.6520,  27.7326
  49NZ20090410,   P21,   111,  1,     14, X12050,2,20090507,1655,-16.7518,-120.6690, 3502,   2731.2,2,   1.7808,2,   1.78082,2,  34.6723,2,  34.6722,6,   157.27,2,   157.23,2,   122.66,2,     0.39,    35.38,2,     0.13,     0.01,2,     0.01,    2.476,2,    0.016,    0.000,2,    0.000,2,    0.000,2,   -999.0,9,   -999.0,9,-999.0000,-999,9,  -999.00,9,  -999.00,   -999.0,9,   -999.0,   1.5834,  27.7411
  49NZ20090410,   P21,   111,  1,     13, X12013,7,20090507,1655,-16.7518,-120.6690, 3502,   2929.8,2,   1.7535,2,   1.75350,2,  34.6749,2,  34.6755,2,   158.79,2,   158.60,2,   123.59,2,     0.39,    35.26,2,     0.13,     0.01,2,     0.01,    2.466,2,    0.016,    0.000,2,    0.000,2,    0.000,2,   -999.0,9,   -999.0,9,-999.0000,-999,9,  -999.00,9,  -999.00,   -999.0,9,   -999.0,   1.5379,  27.7465
  49NZ20090410,   P21,   111,  1,     12, X12012,2,20090507,1655,-16.7518,-120.6690, 3502,   3169.1,2,   1.7393,2,   1.73928,2,  34.6768,2,  34.6764,2,   159.89,2,   159.61,2,   124.42,2,     0.39,    35.25,2,     0.13,     0.01,2,     0.01,    2.469,2,    0.016,    0.000,2,    0.000,2,    0.000,2,   -999.0,9,   -999.0,9,-999.0000,-999,9,  -999.00,9,  -999.00,   -999.0,9,   -999.0,   1.5007,  27.7508
  49NZ20090410,   P21,   111,  1,     11, X12041,2,20090507,1655,-16.7518,-120.6690, 3502,   3419.8,2,   1.7392,2,   1.73924,2,  34.6780,2,  34.6778,2,   160.67,2,   160.42,2,   124.95,2,     0.39,    35.33,2,     0.13,     0.01,2,     0.01,    2.467,2,    0.016,    0.001,2,    0.001,2,    0.000,2,   -999.0,9,   -999.0,9,-999.0000,-999,9,  -999.00,9,  -999.00,   -999.0,9,   -999.0,   1.4753,  27.7536
  49NZ20090410,   P21,   111,  1,     10, X12040,9,20090507,1655,-16.7518,-120.6690, 3502,     10.6,2,  26.6973,2,  26.69626,2,  36.3882,2,-999.0000,9,   202.74,2,  -999.00,9,  -999.00,9,  -999.00,  -999.00,9,  -999.00,  -999.00,9,  -999.00, -999.000,9, -999.000, -999.000,9, -999.000,9, -999.000,9,   -999.0,9,   -999.0,9,-999.0000,-999,9,  -999.00,9,  -999.00,   -999.0,9,   -999.0,  26.6949,  23.8615
  49NZ20090410,   P21,   111,  1,      9, X12009,9,20090507,1655,-16.7518,-120.6690, 3502,   2330.0,2,   1.8679,2,   1.86802,2,  34.6639,2,-999.0000,9,   153.98,2,  -999.00,9,  -999.00,9,  -999.00,  -999.00,9,  -999.00,  -999.00,9,  -999.00, -999.000,9, -999.000, -999.000,9, -999.000,9, -999.000,9,   -999.0,9,   -999.0,9,-999.0000,-999,9,  -999.00,9,  -999.00,   -999.0,9,   -999.0,   1.7052,  27.7253
  49NZ20090410,   P21,   111,  1,      8, X12008,9,20090507,1655,-16.7518,-120.6690, 3502,   3168.2,2,   1.7395,2,   1.73958,2,  34.6769,2,-999.0000,9,   159.88,2,  -999.00,9,  -999.00,9,  -999.00,  -999.00,9,  -999.00,  -999.00,9,  -999.00, -999.000,9, -999.000, -999.000,9, -999.000,9, -999.000,9,   -999.0,9,   -999.0,9,-999.0000,-999,9,  -999.00,9,  -999.00,   -999.0,9,   -999.0,   1.5010,  27.7508
  49NZ20090410,   P21,   111,  1,      7, X12007,9,20090507,1655,-16.7518,-120.6690, 3502,   3419.5,2,   1.7404,2,   1.74062,2,  34.6781,2,-999.0000,9,   160.64,2,  -999.00,9,  -999.00,9,  -999.00,  -999.00,9,  -999.00,  -999.00,9,  -999.00, -999.000,9, -999.000, -999.000,9, -999.000,9, -999.000,9,   -999.0,9,   -999.0,9,-999.0000,-999,9,  -999.00,9,  -999.00,   -999.0,9,   -999.0,   1.4765,  27.7536
  49NZ20090410,   P21,   111,  1,      6, X12035,9,20090507,1655,-16.7518,-120.6690, 3502,   3528.4,2,   1.7415,2,   1.74147,2,  34.6786,2,-999.0000,9,   160.93,2,  -999.00,9,  -999.00,9,  -999.00,  -999.00,9,  -999.00,  -999.00,9,  -999.00, -999.000,9, -999.000, -999.000,9, -999.000,9, -999.000,9,   -999.0,9,   -999.0,9,-999.0000,-999,9,  -999.00,9,  -999.00,   -999.0,9,   -999.0,   1.4664,  27.7547
  49NZ20090410,   P21,   111,  1,      5, X12038,9,20090507,1655,-16.7518,-120.6690, 3502,   2530.1,2,   1.8319,2,   1.83199,2,  34.6682,2,-999.0000,9,   155.39,2,  -999.00,9,  -999.00,9,  -999.00,  -999.00,9,  -999.00,  -999.00,9,  -999.00, -999.000,9, -999.000, -999.000,9, -999.000,9, -999.000,9,   -999.0,9,   -999.0,9,-999.0000,-999,9,  -999.00,9,  -999.00,   -999.0,9,   -999.0,   1.6520,  27.7327
  49NZ20090410,   P21,   111,  1,      4, X12034,9,20090507,1655,-16.7518,-120.6690, 3502,   2730.6,2,   1.7809,2,   1.78092,2,  34.6724,2,-999.0000,9,   157.26,2,  -999.00,9,  -999.00,9,  -999.00,  -999.00,9,  -999.00,  -999.00,9,  -999.00, -999.000,9, -999.000, -999.000,9, -999.000,9, -999.000,9,   -999.0,9,   -999.0,9,-999.0000,-999,9,  -999.00,9,  -999.00,   -999.0,9,   -999.0,   1.5835,  27.7412
  49NZ20090410,   P21,   111,  1,      3, X12033,9,20090507,1655,-16.7518,-120.6690, 3502,   2930.0,2,   1.7540,2,   1.75395,2,  34.6749,2,-999.0000,9,   158.74,2,  -999.00,9,  -999.00,9,  -999.00,  -999.00,9,  -999.00,  -999.00,9,  -999.00, -999.000,9, -999.000, -999.000,9, -999.000,9, -999.000,9,   -999.0,9,   -999.0,9,-999.0000,-999,9,  -999.00,9,  -999.00,   -999.0,9,   -999.0,   1.5384,  27.7465
  49NZ20090410,   P21,   111,  1,      2, X12032,9,20090507,1655,-16.7518,-120.6690, 3502,    871.3,2,   4.8048,2,   4.80482,2,  34.5021,2,-999.0000,9,    89.46,2,  -999.00,9,  -999.00,9,  -999.00,  -999.00,9,  -999.00,  -999.00,9,  -999.00, -999.000,9, -999.000, -999.000,9, -999.000,9, -999.000,9,   -999.0,9,   -999.0,9,-999.0000,-999,9,  -999.00,9,  -999.00,   -999.0,9,   -999.0,   4.7343,  27.3108
  49NZ20090410,   P21,   111,  1,      1, X12046,2,20090507,1655,-16.7518,-120.6690, 3502,   3529.0,2,   1.7415,2,   1.74149,2,  34.6786,2,  34.6781,6,   160.96,2,   160.77,2,   125.21,2,     0.39,    35.17,2,     0.13,     0.01,2,     0.01,    2.467,2,    0.016,    0.000,2,    0.001,2,    0.000,2,   -999.0,9,   -999.0,9,-999.0000,-999,9,  -999.00,9,  -999.00,   -999.0,9,   -999.0,   1.4663,  27.7547