BOTTLE,20220818CCHSIOAMB
EXPOCODE,SECT_ID,STNNBR,CASTNO,SAMPNO,BTLNBR,BTLNBR_FLAG_W,DATE,TIME,LATITUDE,LONGITUDE,DEPTH,CTDPRS,CTDPRS_FLAG_W,CTDTMP,CTDTMP_FLAG_W,SBE35,SBE35_FLAG_W,CTDSAL,CTDSAL_FLAG_W,SALNTY,SALNTY_FLAG_W,CTDOXY,CTDOXY_FLAG_W,OXYGEN,OXYGEN_FLAG_W,SILCAT,SILCAT_FLAG_W,SILUNC,NITRAT,NITRAT_FLAG_W,NRAUNC,NITRIT,NITRIT_FLAG_W,NRIUNC,PHSPHT,PHSPHT_FLAG_W,PHPUNC,CFC-11,CFC-11_FLAG_W,CFC-12,CFC-12_FLAG_W,CFC113,CFC113_FLAG_W,TCARBN,TCARBN_FLAG_W,ALKALI,ALKALI_FLAG_W,PH_TOT,PH_TMP,PH_TOT_FLAG_W,DELC13,DELC13_FLAG_W,C13ERR,DELC14,DELC14_FLAG_W,C14ERR,THETA,SIG0
,,,,,,,,,,,METERS,DBAR,,ITS-90,,ITS-90,,PSS-78,,PSS-78,,UMOL/KG,,UMOL/KG,,UMOL/KG,,UMOL/KG,UMOL/KG,,UMOL/KG,UMOL/KG,,UMOL/KG,UMOL/KG,,UMOL/KG,PMOL/KG,,PMOL/KG,,PMOL/KG,,UMOL/KG,,UMOL/KG,,,DEG C,,/MILLE,,/MILLE,/MILLE,,/MILLE,DEG C,KG/M^3
  49NZ20090410,   P21,    45,  1,     36, X12006,2,20090423,0717,-16.7492, -84.3353, 4900,      9.5,2,  23.5525,2,  23.55150,2,  35.6543,2,  35.6556,2,   212.72,2,   212.89,2,     0.38,2,     0.12,     0.10,2,     0.03,     0.01,2,     0.01,    0.430,2,    0.013,    1.731,2,    1.099,2, -999.000,5,   2052.0,2,   2365.9,2,   8.0509,  25,6,  -999.00,9,  -999.00,   -999.0,9,   -999.0,  23.5505,  24.2696
  49NZ20090410,   P21,    45,  1,     35, X12047,2,20090423,0717,-16.7492, -84.3353, 4900,     50.5,2,  19.6734,2,  19.67217,2,  35.2157,2,  35.2138,2,   240.90,2,   243.85,2,     0.22,2,     0.12,     0.08,2,     0.03,     0.01,2,     0.01,    0.362,2,    0.014,    2.239,2,    1.389,2, -999.000,5,   2055.2,6,   2334.5,2,   8.0029,  25,2,  -999.00,9,  -999.00,   -999.0,9,   -999.0,  19.6642,  25.0145
  49NZ20090410,   P21,    45,  1,     34, X12004,2,20090423,0717,-16.7492, -84.3353, 4900,    101.2,2,  17.3877,2,  17.39122,2,  35.0035,2,  35.0054,2,   222.69,2,   223.35,2,     0.43,2,     0.12,     1.59,2,     0.04,     0.22,2,     0.01,    0.552,2,    0.013,    2.402,6,    1.474,6, -999.000,5,   2078.0,2,   2320.2,6,   7.9437,  25,2,  -999.00,9,  -999.00,   -999.0,9,   -999.0,  17.3708,  25.4282
  49NZ20090410,   P21,    45,  1,     33, X12003,2,20090423,0717,-16.7492, -84.3353, 4900,    150.4,2,  13.6255,2,  13.62597,2,  34.5916,2,  34.5914,2,   162.38,2,   157.82,2,     4.35,2,     0.13,    14.86,2,     0.07,     0.02,2,     0.01,    1.420,2,    0.014,    2.615,2,    1.504,2,    0.099,2,   2140.0,2,   2285.5,2,   7.7404,  25,6,  -999.00,9,  -999.00,   -999.0,9,   -999.0,  13.6043,  25.9537
  49NZ20090410,   P21,    45,  1,     32, X12002,2,20090423,0717,-16.7492, -84.3353, 4900,    197.6,2,  11.8369,2,  11.83839,2,  34.6232,2,  34.6233,2,    33.31,2,    34.28,2,    18.02,2,     0.16,    22.63,2,     0.10,     0.01,2,     0.01,    2.503,2,    0.016,    1.536,2,    0.846,2,    0.031,2,   2245.2,2,   2288.1,2,   7.4569,  25,2,  -999.00,9,  -999.00,   -999.0,9,   -999.0,  11.8115,  26.3322
  49NZ20090410,   P21,    45,  1,     31, X12001,2,20090423,0717,-16.7492, -84.3353, 4900,    249.2,2,  10.6850,2,  10.68590,2,  34.6710,2,  34.6694,6,     9.68,2,    10.00,2,    23.54,2,     0.17,    28.84,2,     0.11,     0.01,2,     0.01,    2.744,2,    0.017,    0.688,2,    0.366,2,    0.004,2,   2270.7,2,   2292.3,2,   7.3954,  25,2,  -999.00,9,  -999.00,   -999.0,9,   -999.0,  10.6549,  26.5811
  49NZ20090410,   P21,    45,  1,     30, X12030,2,20090423,0717,-16.7492, -84.3353, 4900,    330.2,2,   9.5144,2,   9.51436,2,  34.6468,2,  34.6456,2,     7.12,2,     7.23,2,    27.27,2,     0.18,    35.05,2,     0.13,     0.01,2,     0.01,    2.828,2,    0.017,    0.279,2,    0.144,2,    0.000,2,   2278.5,2,   2295.4,2,   7.3801,  25,2,  -999.00,9,  -999.00,   -999.0,9,   -999.0,   9.4772,  26.7639
  49NZ20090410,   P21,    45,  1,     29, X12044,2,20090423,0717,-16.7492, -84.3353, 4900,    430.5,2,   8.1928,2,   8.19196,2,  34.5996,2,  34.5986,2,    18.95,2,    19.53,2,    32.54,2,     0.19,    39.68,2,     0.14,     0.01,2,     0.01,    2.871,2,    0.017,    0.085,2,    0.046,2,    0.000,2,   2278.3,2,   2299.5,2,   7.3946,  25,2,  -999.00,9,  -999.00,   -999.0,9,   -999.0,   8.1482,  26.9371
  49NZ20090410,   P21,    45,  1,     28, X12048,2,20090423,0717,-16.7492, -84.3353, 4900,    529.5,2,   7.1097,2,   7.10984,2,  34.5329,2,  34.5314,6,    37.59,2,    37.96,2,    35.38,2,     0.20,    40.83,2,     0.15,     0.01,2,     0.01,    2.908,2,    0.017,    0.079,2,    0.041,2,    0.000,2,   2274.0,2,   2300.0,2,   7.4069,  25,2,  -999.00,9,  -999.00,   -999.0,9,   -999.0,   7.0589,  27.0426
  49NZ20090410,   P21,    45,  1,     27, X12027,2,20090423,0717,-16.7492, -84.3353, 4900,    632.2,2,   6.3505,2,   6.35065,2,  34.5144,2,  34.5130,2,    36.60,2,    37.82,2,    42.76,2,     0.21,    42.68,2,     0.15,     0.01,2,     0.01,    3.039,2,    0.018,    0.022,6,    0.012,6,    0.000,6,   2283.3,2,   2306.4,2,   7.3966,  25,2,  -999.00,9,  -999.00,   -999.0,9,   -999.0,   6.2930,  27.1313
  49NZ20090410,   P21,    45,  1,     26, X12026,2,20090423,0717,-16.7492, -84.3353, 4900,    729.3,2,   5.7157,2,   5.71591,2,  34.5071,2,  34.5065,2,    37.19,2,    37.74,2,    51.56,2,     0.23,    44.15,2,     0.16,     0.01,2,     0.01,    3.132,2,    0.018,    0.007,2,    0.004,2,    0.000,2,   2295.7,6,   2314.6,2,   7.3873,  25,2,  -999.00,9,  -999.00,   -999.0,9,   -999.0,   5.6524,  27.2066
  49NZ20090410,   P21,    45,  1,     25, X12025,2,20090423,0717,-16.7492, -84.3353, 4900,    829.1,2,   5.1130,2,   5.11273,2,  34.5024,2,  34.5020,2,    49.50,2,    49.68,2,    59.39,2,     0.25,    43.64,2,     0.15,     0.01,2,     0.01,    3.106,2,    0.018,    0.003,2,    0.001,2,    0.000,2,   2298.2,2,   2323.9,6,   7.4044,  25,2,  -999.00,9,  -999.00,   -999.0,9,   -999.0,   5.0442,  27.2756
  49NZ20090410,   P21,    45,  1,     24, X12024,2,20090423,0717,-16.7492, -84.3353, 4900,    929.4,2,   4.5587,2,   4.55867,2,  34.5046,2,  34.5042,2,    62.63,2,    62.77,2,    68.04,2,     0.27,    42.75,2,     0.15,     0.01,2,     0.01,    3.067,2,    0.018,    0.003,2,    0.004,2,    0.000,2,   2301.3,2,   2333.5,2,   7.4236,  25,6,  -999.00,9,  -999.00,   -999.0,9,   -999.0,   4.4849,  27.3404
  49NZ20090410,   P21,    45,  1,     23, X12028,2,20090423,0717,-16.7492, -84.3353, 4900,   1071.7,2,   3.9617,2,   3.96131,2,  34.5285,2,  34.5296,6,    78.83,2,    78.18,2,    80.35,2,     0.30,    41.69,2,     0.15,     0.01,2,     0.01,    2.995,2,    0.017,    0.000,2,    0.000,2,    0.000,2,   2305.5,2,   2349.4,2,   7.4530,  25,2,  -999.00,9,  -999.00,   -999.0,9,   -999.0,   3.8803,  27.4234
  49NZ20090410,   P21,    45,  1,     22, X12022,2,20090423,0717,-16.7492, -84.3353, 4900,   1269.4,2,   3.3853,2,   3.38487,2,  34.5651,2,  34.5654,2,    84.39,2,    84.27,2,    96.48,2,     0.33,    41.14,2,     0.15,     0.01,2,     0.01,    2.967,2,    0.017,    0.000,2,    0.001,2,    0.000,2,   2320.9,2,   2366.7,2,   7.4656,  25,2,  -999.00,9,  -999.00,   -999.0,9,   -999.0,   3.2925,  27.5106
  49NZ20090410,   P21,    45,  1,     21, X12021,2,20090423,0717,-16.7492, -84.3353, 4900,   1471.7,2,   2.9330,2,   2.93287,2,  34.5941,2,  34.5944,2,    90.90,2,    90.81,2,   109.61,2,     0.36,    40.46,2,     0.15,     0.01,2,     0.01,    2.927,2,    0.017,    0.000,2,    0.000,2,    0.000,2,   2332.7,2,   2383.1,2,   7.4786,  25,2,  -999.00,9,  -999.00,   -999.0,9,   -999.0,   2.8282,  27.5766
  49NZ20090410,   P21,    45,  1,     20, X12020,2,20090423,0717,-16.7492, -84.3353, 4900,   1670.9,2,   2.6077,2,   2.60781,2,  34.6165,2,  34.6165,2,    97.73,2,    97.47,2,   119.46,2,     0.38,    39.97,2,     0.14,     0.01,2,     0.01,    2.874,2,    0.017,    0.000,2,    0.000,2,    0.000,2,   2336.2,2,   2393.9,2,   7.4933,  25,6,  -999.00,9,  -999.00,   -999.0,9,   -999.0,   2.4903,  27.6241
  49NZ20090410,   P21,    45,  1,     19, X12019,2,20090423,0717,-16.7492, -84.3353, 4900,   1868.8,2,   2.3676,2,   2.36791,2,  34.6324,2,  34.6323,2,   106.83,2,   106.53,2,   124.98,2,     0.39,    39.17,2,     0.14,     0.01,2,     0.01,    2.803,2,    0.017,    0.000,2,    0.000,2,    0.000,2,   2336.5,2,   2401.2,2,   7.5113,  25,2,  -999.00,9,  -999.00,   -999.0,9,   -999.0,   2.2368,  27.6581
  49NZ20090410,   P21,    45,  1,     18, X12043,2,20090423,0717,-16.7492, -84.3353, 4900,   2069.9,2,   2.1646,2,   2.16488,2,  34.6458,2,  34.6457,2,   118.55,2,   118.42,2,   126.70,2,     0.40,    38.31,2,     0.14,     0.01,2,     0.01,    2.723,2,    0.017,    0.001,2,    0.000,2,    0.000,2,   2332.0,2,   2408.8,2,   7.5324,  25,2,  -999.00,9,  -999.00,   -999.0,9,   -999.0,   2.0196,  27.6863
  49NZ20090410,   P21,    45,  1,     17, X12042,2,20090423,0717,-16.7492, -84.3353, 4900,   2270.7,2,   2.0028,2,   2.00286,2,  34.6576,2,  34.6578,6,   128.68,2,   128.36,2,   127.56,2,     0.40,    37.38,2,     0.14,     0.01,2,     0.01,    2.640,2,    0.017,    0.000,2,    0.001,2,    0.000,2,   2327.4,2,   2408.1,2,   7.5509,  25,2,  -999.00,9,  -999.00,   -999.0,9,   -999.0,   1.8430,  27.7097
  49NZ20090410,   P21,    45,  1,     16, X12016,2,20090423,0717,-16.7492, -84.3353, 4900,   2471.1,2,   1.8990,2,   1.89912,2,  34.6666,2,  34.6664,2,   133.20,2,   133.12,2,   129.73,2,     0.40,    37.08,2,     0.14,     0.01,2,     0.01,    2.622,2,    0.017,    0.001,2,    0.000,2,    0.000,2,   2328.8,6,   2411.3,2,   7.5612,  25,2,  -999.00,9,  -999.00,   -999.0,9,   -999.0,   1.7232,  27.7260
  49NZ20090410,   P21,    45,  1,     15, X12015,2,20090423,0717,-16.7492, -84.3353, 4900,   2670.7,2,   1.8436,2,   1.84356,2,  34.6721,2,  34.6722,2,   133.47,2,   133.20,2,   133.87,2,     0.41,    37.11,2,     0.14,     0.01,2,     0.01,    2.619,2,    0.017,    0.000,2,    0.000,2,    0.000,2,   2334.4,2,   2417.5,6,   7.5650,  25,2,  -999.00,9,  -999.00,   -999.0,9,   -999.0,   1.6505,  27.7359
  49NZ20090410,   P21,    45,  1,     14, X12050,2,20090423,0717,-16.7492, -84.3353, 4900,   2872.0,2,   1.8122,2,   1.81228,2,  34.6759,2,  34.6755,2,   133.32,2,   133.16,2,   136.01,2,     0.42,    37.08,2,     0.14,     0.01,2,     0.01,    2.612,2,    0.017,    0.000,2,    0.000,2,    0.000,2,   2339.1,3,   2421.7,2,   7.5687,  25,2,  -999.00,9,  -999.00,   -999.0,9,   -999.0,   1.6009,  27.7426
  49NZ20090410,   P21,    45,  1,     13, X12013,7,20090423,0717,-16.7492, -84.3353, 4900,   3080.8,2,   1.8060,2,   1.80605,2,  34.6780,2,  34.6782,2,   135.21,2,   135.13,2,   136.89,2,     0.42,    36.98,2,     0.14,     0.01,2,     0.01,    2.604,2,    0.016,    0.001,2,    0.001,2,    0.000,2,   2336.8,2,   2423.7,2,   7.5738,  25,2,  -999.00,9,  -999.00,   -999.0,9,   -999.0,   1.5746,  27.7463
  49NZ20090410,   P21,    45,  1,     12, X12012,2,20090423,0717,-16.7492, -84.3353, 4900,   3330.4,2,   1.7982,2,   1.79837,2,  34.6811,2,  34.6805,2,   139.91,2,   139.57,2,   134.96,2,     0.42,    36.58,2,     0.14,     0.01,2,     0.01,    2.581,2,    0.016,    0.000,2,    0.001,2,    0.000,2,   2336.7,2,   2422.9,2,   7.5809,  25,2,  -999.00,9,  -999.00,   -999.0,9,   -999.0,   1.5420,  27.7512
  49NZ20090410,   P21,    45,  1,     11, X12041,2,20090423,0717,-16.7492, -84.3353, 4900,   3581.0,2,   1.7949,2,   1.79497,2,  34.6834,2,  34.6832,6,   142.60,2,   142.60,2,   133.21,2,     0.41,    36.48,2,     0.13,     0.01,2,     0.01,    2.555,2,    0.016,    0.000,2,    0.000,2,    0.000,2,   2332.7,2,   2421.2,2,   7.5845,  25,2,  -999.00,9,  -999.00,   -999.0,9,   -999.0,   1.5129,  27.7552
  49NZ20090410,   P21,    45,  1,     10, X12040,2,20090423,0717,-16.7492, -84.3353, 4900,   3831.4,2,   1.7841,2,   1.78415,2,  34.6858,2,  34.6861,2,   147.25,2,   147.19,2,   130.71,2,     0.41,    35.96,2,     0.13,     0.01,2,     0.01,    2.528,2,    0.016,    0.000,2,    0.000,2,    0.000,2,   2324.6,2,   2415.6,2,   7.5864,  25,2,  -999.00,9,  -999.00,   -999.0,9,   -999.0,   1.4756,  27.7598
  49NZ20090410,   P21,    45,  1,      9, X12009,2,20090423,0717,-16.7492, -84.3353, 4900,   4081.6,2,   1.7829,2,   1.78287,2,  34.6878,2,  34.6875,2,   151.37,2,   151.28,2,   127.79,2,     0.40,    35.75,2,     0.13,     0.01,2,     0.01,    2.503,2,    0.016,    0.002,2,    0.000,2,    0.000,2,   2320.2,2,   2413.0,2,   7.5905,  25,2,  -999.00,9,  -999.00,   -999.0,9,   -999.0,   1.4470,  27.7635
  49NZ20090410,   P21,    45,  1,      8, X12008,2,20090423,0717,-16.7492, -84.3353, 4900,   4331.8,2,   1.7867,2,   1.78676,2,  34.6894,2,  34.6895,2,   153.07,2,   153.13,2,   126.80,2,     0.40,    35.52,2,     0.13,     0.01,2,     0.01,    2.488,2,    0.016,    0.004,2,    0.000,2,    0.000,2,   2317.6,6,   2411.4,2,   7.5911,  25,2,  -999.00,9,  -999.00,   -999.0,9,   -999.0,   1.4223,  27.7666
  49NZ20090410,   P21,    45,  1,      7, X12007,2,20090423,0717,-16.7492, -84.3353, 4900,   4580.5,2,   1.8107,2,   1.81081,2,  34.6897,2,  34.6898,2,   153.06,2,   153.18,2,   126.77,2,     0.40,    35.47,2,     0.13,     0.01,2,     0.01,    2.495,2,    0.016,    0.005,2,    0.000,2,    0.000,2,   2317.6,2,   2411.2,6,   7.5912,  25,2,  -999.00,9,  -999.00,   -999.0,9,   -999.0,   1.4166,  27.7672
  49NZ20090410,   P21,    45,  1,      6, X12035,2,20090423,0717,-16.7492, -84.3353, 4900,   4830.0,2,   1.8400,2,   1.84011,2,  34.6897,2,  34.6900,2,   153.00,2,   153.19,2,   126.95,2,     0.40,    35.57,2,     0.13,     0.01,2,     0.01,    2.491,2,    0.016,    0.003,2,    0.000,2,    0.000,2,   2316.8,2,   2410.6,2,   7.5911,  25,6,  -999.00,9,  -999.00,   -999.0,9,   -999.0,   1.4151,  27.7673
  49NZ20090410,   P21,    45,  1,      5, X12038,9,20090423,0717,-16.7492, -84.3353, 4900,     10.1,2,  23.5453,2,  23.54527,2,  35.6544,2,-999.0000,9,   212.68,2,  -999.00,9,  -999.00,9,  -999.00,  -999.00,9,  -999.00,  -999.00,9,  -999.00, -999.000,9, -999.000, -999.000,9, -999.000,9, -999.000,9,   -999.0,9,   -999.0,9,-999.0000,-999,9,  -999.00,9,  -999.00,   -999.0,9,   -999.0,  23.5432,  24.2718
  49NZ20090410,   P21,    45,  1,      4, X12034,9,20090423,0717,-16.7492, -84.3353, 4900,   4329.8,2,   1.7866,2,   1.78667,2,  34.6895,2,-999.0000,9,   153.05,2,  -999.00,9,  -999.00,9,  -999.00,  -999.00,9,  -999.00,  -999.00,9,  -999.00, -999.000,9, -999.000, -999.000,9, -999.000,9, -999.000,9,   -999.0,9,   -999.0,9,-999.0000,-999,9,  -999.00,9,  -999.00,   -999.0,9,   -999.0,   1.4224,  27.7666
  49NZ20090410,   P21,    45,  1,      3, X12033,9,20090423,0717,-16.7492, -84.3353, 4900,   4581.2,2,   1.8107,2,   1.81078,2,  34.6898,2,-999.0000,9,   153.08,2,  -999.00,9,  -999.00,9,  -999.00,  -999.00,9,  -999.00,  -999.00,9,  -999.00, -999.000,9, -999.000, -999.000,9, -999.000,9, -999.000,9,   -999.0,9,   -999.0,9,-999.0000,-999,9,  -999.00,9,  -999.00,   -999.0,9,   -999.0,   1.4165,  27.7673
  49NZ20090410,   P21,    45,  1,      2, X12032,9,20090423,0717,-16.7492, -84.3353, 4900,   3080.2,2,   1.8060,2,   1.80611,2,  34.6780,2,-999.0000,9,   135.20,2,  -999.00,9,  -999.00,9,  -999.00,  -999.00,9,  -999.00,  -999.00,9,  -999.00, -999.000,9, -999.000, -999.000,9, -999.000,9, -999.000,9,   -999.0,9,   -999.0,9,-999.0000,-999,9,  -999.00,9,  -999.00,   -999.0,9,   -999.0,   1.5746,  27.7463
  49NZ20090410,   P21,    45,  1,      1, X12046,2,20090423,0717,-16.7492, -84.3353, 4900,   4953.9,2,   1.8557,2,   1.85571,2,  34.6896,2,  34.6896,6,   152.98,2,   153.35,2,   126.66,2,     0.40,    35.48,2,     0.13,     0.01,2,     0.01,    2.498,2,    0.016,    0.006,2,    0.000,2,    0.000,2,   2317.7,2,   2410.8,2,   7.5910,  25,2,  -999.00,9,  -999.00,   -999.0,9,   -999.0,   1.4151,  27.7672