BOTTLE,20220818CCHSIOAMB
EXPOCODE,SECT_ID,STNNBR,CASTNO,SAMPNO,BTLNBR,BTLNBR_FLAG_W,DATE,TIME,LATITUDE,LONGITUDE,DEPTH,CTDPRS,CTDPRS_FLAG_W,CTDTMP,CTDTMP_FLAG_W,SBE35,SBE35_FLAG_W,CTDSAL,CTDSAL_FLAG_W,SALNTY,SALNTY_FLAG_W,CTDOXY,CTDOXY_FLAG_W,OXYGEN,OXYGEN_FLAG_W,SILCAT,SILCAT_FLAG_W,SILUNC,NITRAT,NITRAT_FLAG_W,NRAUNC,NITRIT,NITRIT_FLAG_W,NRIUNC,PHSPHT,PHSPHT_FLAG_W,PHPUNC,CFC-11,CFC-11_FLAG_W,CFC-12,CFC-12_FLAG_W,CFC113,CFC113_FLAG_W,TCARBN,TCARBN_FLAG_W,ALKALI,ALKALI_FLAG_W,PH_TOT,PH_TMP,PH_TOT_FLAG_W,DELC13,DELC13_FLAG_W,C13ERR,DELC14,DELC14_FLAG_W,C14ERR,THETA,SIG0
,,,,,,,,,,,METERS,DBAR,,ITS-90,,ITS-90,,PSS-78,,PSS-78,,UMOL/KG,,UMOL/KG,,UMOL/KG,,UMOL/KG,UMOL/KG,,UMOL/KG,UMOL/KG,,UMOL/KG,UMOL/KG,,UMOL/KG,PMOL/KG,,PMOL/KG,,PMOL/KG,,UMOL/KG,,UMOL/KG,,,DEG C,,/MILLE,,/MILLE,/MILLE,,/MILLE,DEG C,KG/M^3
  49NZ20090410,   P21,    47,  1,     36, X12006,2,20090424,0336,-16.7440, -85.6637, 4521,      9.9,2,  23.2605,2,  23.25946,2,  35.5934,2,  35.5932,2,   214.79,2,   214.73,2,     0.55,2,     0.12,     0.07,2,     0.03,     0.01,2,     0.01,    0.442,2,    0.013,    1.780,2,    1.124,2, -999.000,5,   -999.0,9,   -999.0,9,-999.0000,-999,9,  -999.00,9,  -999.00,   -999.0,9,   -999.0,  23.2585,  24.3088
  49NZ20090410,   P21,    47,  1,     35, X12047,2,20090424,0336,-16.7440, -85.6637, 4521,     49.7,2,  19.9897,2,  19.99082,2,  35.3859,2,  35.3870,2,   237.33,2,   239.21,2,     0.32,2,     0.12,     0.06,2,     0.03,     0.01,2,     0.01,    0.383,2,    0.013,    2.169,2,    1.344,2, -999.000,5,   -999.0,9,   -999.0,9,-999.0000,-999,9,  -999.00,9,  -999.00,   -999.0,9,   -999.0,  19.9805,  25.0613
  49NZ20090410,   P21,    47,  1,     34, X12004,2,20090424,0336,-16.7440, -85.6637, 4521,    100.4,2,  18.3165,2,  18.31748,2,  35.2166,2,  35.2168,2,   218.20,2,   217.67,2,     0.50,2,     0.12,     1.62,2,     0.04,     0.38,2,     0.01,    0.598,2,    0.013,    2.265,6,    1.401,6, -999.000,5,   -999.0,9,   -999.0,9,-999.0000,-999,9,  -999.00,9,  -999.00,   -999.0,9,   -999.0,  18.2991,  25.3637
  49NZ20090410,   P21,    47,  1,     33, X12003,2,20090424,0336,-16.7440, -85.6637, 4521,    150.5,2,  14.5796,2,  14.57518,2,  34.7024,2,  34.7103,2,   180.95,2,   176.88,2,     2.74,2,     0.13,    11.98,2,     0.07,     0.03,2,     0.01,    1.182,2,    0.013,    2.574,2,    1.516,2,    0.101,2,   -999.0,9,   -999.0,9,-999.0000,-999,9,  -999.00,9,  -999.00,   -999.0,9,   -999.0,  14.5573,  25.8386
  49NZ20090410,   P21,    47,  1,     32, X12002,2,20090424,0336,-16.7440, -85.6637, 4521,    201.0,2,  11.8209,2,  11.82229,2,  34.5865,2,  34.5847,2,    50.98,2,    49.65,2,    15.91,2,     0.15,    22.32,2,     0.10,     0.02,2,     0.01,    2.379,2,    0.016,    1.749,2,    0.967,2,    0.038,2,   -999.0,9,   -999.0,9,-999.0000,-999,9,  -999.00,9,  -999.00,   -999.0,9,   -999.0,  11.7950,  26.3068
  49NZ20090410,   P21,    47,  1,     31, X12001,2,20090424,0336,-16.7440, -85.6637, 4521,    249.9,2,  10.6059,2,  10.60885,2,  34.6587,2,  34.6585,6,    12.42,2,    12.66,2,    23.10,2,     0.17,    28.72,2,     0.11,     0.02,2,     0.01,    2.721,2,    0.017,    0.741,2,    0.395,2,    0.006,2,   -999.0,9,   -999.0,9,-999.0000,-999,9,  -999.00,9,  -999.00,   -999.0,9,   -999.0,  10.5758,  26.5855
  49NZ20090410,   P21,    47,  1,     30, X12030,2,20090424,0336,-16.7440, -85.6637, 4521,    280.9,2,  10.1586,2,  10.16065,2,  34.6665,2,  34.6657,2,     6.98,2,     7.11,2,    25.02,2,     0.17,    31.98,2,     0.12,     0.01,2,     0.01,    2.773,2,    0.017,    0.448,2,    0.235,2,    0.001,2,   -999.0,9,   -999.0,9,-999.0000,-999,9,  -999.00,9,  -999.00,   -999.0,9,   -999.0,  10.1257,  26.6700
  49NZ20090410,   P21,    47,  1,     29, X12044,2,20090424,0336,-16.7440, -85.6637, 4521,    370.4,2,   8.6669,2,   8.66628,2,  34.6111,2,  34.6106,2,    15.24,2,    15.70,2,    29.36,2,     0.18,    38.42,2,     0.14,     0.01,2,     0.01,    2.826,2,    0.017,    0.152,2,    0.078,2,    0.000,2,   -999.0,9,   -999.0,9,-999.0000,-999,9,  -999.00,9,  -999.00,   -999.0,9,   -999.0,   8.6274,  26.8725
  49NZ20090410,   P21,    47,  1,     28, X12048,2,20090424,0336,-16.7440, -85.6637, 4521,    471.1,2,   7.5623,2,   7.56107,2,  34.5606,2,  34.5602,6,    32.63,2,    32.81,2,    33.47,2,     0.19,    40.01,2,     0.14,     0.01,2,     0.01,    2.857,2,    0.017,    0.079,2,    0.041,2,    0.000,2,   -999.0,9,   -999.0,9,-999.0000,-999,9,  -999.00,9,  -999.00,   -999.0,9,   -999.0,   7.5156,  26.9998
  49NZ20090410,   P21,    47,  1,     27, X12027,2,20090424,0336,-16.7440, -85.6637, 4521,    569.6,2,   6.8364,2,   6.83522,2,  34.5299,2,  34.5300,2,    39.55,2,    39.62,2,    37.98,2,     0.20,    41.58,2,     0.15,     0.01,2,     0.01,    2.936,2,    0.017,    0.043,6,    0.023,6,    0.000,6,   -999.0,9,   -999.0,9,-999.0000,-999,9,  -999.00,9,  -999.00,   -999.0,9,   -999.0,   6.7827,  27.0782
  49NZ20090410,   P21,    47,  1,     26, X12026,2,20090424,0336,-16.7440, -85.6637, 4521,    670.3,2,   6.1615,2,   6.16045,2,  34.5209,2,  34.5207,2,    26.92,2,    27.27,2,    48.32,2,     0.23,    44.23,2,     0.16,     0.01,2,     0.01,    3.156,2,    0.018,    0.017,2,    0.006,2,    0.000,2,   -999.0,9,   -999.0,9,-999.0000,-999,9,  -999.00,9,  -999.00,   -999.0,9,   -999.0,   6.1013,  27.1611
  49NZ20090410,   P21,    47,  1,     25, X12025,2,20090424,0336,-16.7440, -85.6637, 4521,    769.6,2,   5.4868,2,   5.48655,2,  34.5163,2,  34.5165,2,    32.42,2,    32.91,2,    57.96,2,     0.25,    44.49,2,     0.16,     0.02,2,     0.01,    3.198,2,    0.018,    0.007,2,    0.002,2,    0.000,2,   -999.0,9,   -999.0,9,-999.0000,-999,9,  -999.00,9,  -999.00,   -999.0,9,   -999.0,   5.4211,  27.2421
  49NZ20090410,   P21,    47,  1,     24, X12024,2,20090424,0336,-16.7440, -85.6637, 4521,    870.0,2,   4.8856,2,   4.88833,2,  34.5272,2,  34.5274,2,    41.57,2,    41.93,2,    69.24,2,     0.27,    44.42,2,     0.16,     0.02,2,     0.01,    3.189,2,    0.018,    0.004,2,    0.002,2,    0.000,2,   -999.0,9,   -999.0,9,-999.0000,-999,9,  -999.00,9,  -999.00,   -999.0,9,   -999.0,   4.8147,  27.3216
  49NZ20090410,   P21,    47,  1,     23, X12028,2,20090424,0336,-16.7440, -85.6637, 4521,    969.4,2,   4.3776,2,   4.37752,2,  34.5352,2,  34.5354,6,    55.22,2,    55.35,2,    78.27,2,     0.29,    43.45,2,     0.15,     0.02,2,     0.01,    3.140,2,    0.018,    0.001,2,    0.001,2,    0.000,2,   -999.0,9,   -999.0,9,-999.0000,-999,9,  -999.00,9,  -999.00,   -999.0,9,   -999.0,   4.3016,  27.3846
  49NZ20090410,   P21,    47,  1,     22, X12022,2,20090424,0336,-16.7440, -85.6637, 4521,   1130.9,2,   3.8747,2,   3.87435,2,  34.5520,2,  34.5526,2,    66.46,2,    66.55,2,    89.15,2,     0.32,    42.63,2,     0.15,     0.01,2,     0.01,    3.086,2,    0.018,    0.002,2,    0.002,2,    0.000,2,   -999.0,9,   -999.0,9,-999.0000,-999,9,  -999.00,9,  -999.00,   -999.0,9,   -999.0,   3.7890,  27.4514
  49NZ20090410,   P21,    47,  1,     21, X12021,2,20090424,0336,-16.7440, -85.6637, 4521,   1330.6,2,   3.3409,2,   3.34127,2,  34.5743,2,  34.5744,2,    78.31,2,    78.30,2,   100.81,2,     0.34,    41.60,2,     0.15,     0.01,2,     0.01,    3.021,2,    0.018,    0.000,2,    0.000,2,    0.000,2,   -999.0,9,   -999.0,9,-999.0000,-999,9,  -999.00,9,  -999.00,   -999.0,9,   -999.0,   3.2435,  27.5226
  49NZ20090410,   P21,    47,  1,     20, X12020,2,20090424,0336,-16.7440, -85.6637, 4521,   1528.5,2,   2.8837,2,   2.88391,2,  34.5984,2,  34.5989,2,    90.30,2,    90.32,2,   111.71,2,     0.36,    40.60,2,     0.15,     0.01,2,     0.01,    2.937,2,    0.017,    0.000,2,    0.000,2,    0.000,2,   -999.0,9,   -999.0,9,-999.0000,-999,9,  -999.00,9,  -999.00,   -999.0,9,   -999.0,   2.7748,  27.5848
  49NZ20090410,   P21,    47,  1,     19, X12019,2,20090424,0336,-16.7440, -85.6637, 4521,   1731.4,2,   2.5682,2,   2.56796,2,  34.6183,2,  34.6188,2,   100.91,2,   100.81,2,   118.95,2,     0.38,    39.89,2,     0.14,     0.02,2,     0.01,    2.855,2,    0.017,    0.000,2,    0.000,2,    0.000,2,   -999.0,9,   -999.0,9,-999.0000,-999,9,  -999.00,9,  -999.00,   -999.0,9,   -999.0,   2.4462,  27.6293
  49NZ20090410,   P21,    47,  1,     18, X12043,2,20090424,0336,-16.7440, -85.6637, 4521,   1930.5,2,   2.3362,2,   2.33614,2,  34.6344,2,  34.6345,2,   108.84,2,   108.73,2,   124.62,2,     0.39,    39.20,2,     0.14,     0.01,2,     0.01,    2.800,2,    0.017,    0.000,2,    0.000,2,    0.000,2,   -999.0,9,   -999.0,9,-999.0000,-999,9,  -999.00,9,  -999.00,   -999.0,9,   -999.0,   2.2006,  27.6626
  49NZ20090410,   P21,    47,  1,     17, X12042,2,20090424,0336,-16.7440, -85.6637, 4521,   2128.9,2,   2.1590,2,   2.15844,2,  34.6464,2,  34.6470,6,   118.83,2,   118.74,2,   126.69,2,     0.40,    38.36,2,     0.14,     0.01,2,     0.01,    2.721,2,    0.017,    0.000,2,    0.003,2,    0.000,2,   -999.0,9,   -999.0,9,-999.0000,-999,9,  -999.00,9,  -999.00,   -999.0,9,   -999.0,   2.0090,  27.6877
  49NZ20090410,   P21,    47,  1,     16, X12016,2,20090424,0336,-16.7440, -85.6637, 4521,   2328.9,2,   1.9891,2,   1.98920,2,  34.6584,2,  34.6588,2,   132.20,2,   131.99,2,   125.63,2,     0.40,    37.47,2,     0.14,     0.01,2,     0.01,    2.637,2,    0.017,    0.000,2,    0.001,2,    0.000,2,   -999.0,9,   -999.0,9,-999.0000,-999,9,  -999.00,9,  -999.00,   -999.0,9,   -999.0,   1.8244,  27.7117
  49NZ20090410,   P21,    47,  1,     15, X12015,2,20090424,0336,-16.7440, -85.6637, 4521,   2530.6,2,   1.8865,2,   1.88648,2,  34.6674,2,  34.6680,2,   137.43,2,   137.40,2,   127.77,2,     0.40,    36.67,2,     0.14,     0.02,2,     0.01,    2.598,2,    0.016,    0.000,2,    0.000,2,    0.000,2,   -999.0,9,   -999.0,9,-999.0000,-999,9,  -999.00,9,  -999.00,   -999.0,9,   -999.0,   1.7055,  27.7280
  49NZ20090410,   P21,    47,  1,     14, X12050,2,20090424,0336,-16.7440, -85.6637, 4521,   2730.8,2,   1.8377,2,   1.83755,2,  34.6728,2,  34.6731,2,   138.12,2,   137.95,2,   130.42,2,     0.41,    36.77,2,     0.14,     0.01,2,     0.01,    2.587,2,    0.016,    0.000,2,    0.001,2,    0.000,2,   -999.0,9,   -999.0,9,-999.0000,-999,9,  -999.00,9,  -999.00,   -999.0,9,   -999.0,   1.6392,  27.7373
  49NZ20090410,   P21,    47,  1,     13, X12013,7,20090424,0336,-16.7440, -85.6637, 4521,   2928.9,2,   1.8067,2,   1.80657,2,  34.6768,2,  34.6772,2,   138.67,2,   138.75,2,   132.73,2,     0.41,    36.78,2,     0.14,     0.01,2,     0.01,    2.585,2,    0.016,    0.001,2,    0.000,2,    0.000,2,   -999.0,9,   -999.0,9,-999.0000,-999,9,  -999.00,9,  -999.00,   -999.0,9,   -999.0,   1.5900,  27.7442
  49NZ20090410,   P21,    47,  1,     12, X12012,2,20090424,0336,-16.7440, -85.6637, 4521,   3170.5,2,   1.7948,2,   1.79480,2,  34.6797,2,  34.6794,2,   139.60,2,   139.51,2,   133.89,2,     0.41,    36.83,2,     0.14,     0.01,2,     0.01,    2.575,2,    0.016,    0.000,2,    0.000,2,    0.000,2,   -999.0,9,   -999.0,9,-999.0000,-999,9,  -999.00,9,  -999.00,   -999.0,9,   -999.0,   1.5548,  27.7491
  49NZ20090410,   P21,    47,  1,     11, X12041,2,20090424,0336,-16.7440, -85.6637, 4521,   3421.2,2,   1.7900,2,   1.78992,2,  34.6822,2,  34.6822,6,   142.76,2,   142.61,2,   132.55,2,     0.41,    36.45,2,     0.13,     0.01,2,     0.01,    2.559,2,    0.016,    0.000,2,    0.000,2,    0.000,2,   -999.0,9,   -999.0,9,-999.0000,-999,9,  -999.00,9,  -999.00,   -999.0,9,   -999.0,   1.5247,  27.7533
  49NZ20090410,   P21,    47,  1,     10, X12040,2,20090424,0336,-16.7440, -85.6637, 4521,   3670.3,2,   1.7798,2,   1.77986,2,  34.6849,2,  34.6850,2,   146.40,2,   146.33,2,   130.56,2,     0.41,    36.20,2,     0.13,     0.01,2,     0.01,    2.530,2,    0.016,    0.000,2,    0.000,2,    0.000,2,   -999.0,9,   -999.0,9,-999.0000,-999,9,  -999.00,9,  -999.00,   -999.0,9,   -999.0,   1.4887,  27.7582
  49NZ20090410,   P21,    47,  1,      9, X12009,2,20090424,0336,-16.7440, -85.6637, 4521,   3918.8,2,   1.7694,2,   1.76951,2,  34.6875,2,  34.6875,2,   150.90,2,   150.90,2,   127.47,2,     0.40,    35.83,2,     0.13,     0.01,2,     0.01,    2.509,2,    0.016,    0.001,2,    0.001,2,    0.000,2,   -999.0,9,   -999.0,9,-999.0000,-999,9,  -999.00,9,  -999.00,   -999.0,9,   -999.0,   1.4518,  27.7629
  49NZ20090410,   P21,    47,  1,      8, X12008,2,20090424,0336,-16.7440, -85.6637, 4521,   4170.4,2,   1.7795,2,   1.77940,2,  34.6888,2,  34.6891,2,   152.42,2,   152.47,2,   126.52,2,     0.40,    35.81,2,     0.13,     0.01,2,     0.01,    2.495,2,    0.016,    0.000,2,    0.001,2,    0.000,2,   -999.0,9,   -999.0,9,-999.0000,-999,9,  -999.00,9,  -999.00,   -999.0,9,   -999.0,   1.4337,  27.7653
  49NZ20090410,   P21,    47,  1,      7, X12007,2,20090424,0336,-16.7440, -85.6637, 4521,   4419.8,2,   1.7961,2,   1.79596,2,  34.6894,2,  34.6897,2,   152.91,2,   152.98,2,   126.28,2,     0.40,    35.65,2,     0.13,     0.01,2,     0.01,    2.501,2,    0.016,    0.004,2,    0.002,2,    0.000,2,   -999.0,9,   -999.0,9,-999.0000,-999,9,  -999.00,9,  -999.00,   -999.0,9,   -999.0,   1.4213,  27.7666
  49NZ20090410,   P21,    47,  1,      6, X12035,9,20090424,0336,-16.7440, -85.6637, 4521,     10.3,2,  23.2643,2,  23.26336,2,  35.5946,2,-999.0000,9,   214.94,2,  -999.00,9,  -999.00,9,  -999.00,  -999.00,9,  -999.00,  -999.00,9,  -999.00, -999.000,9, -999.000, -999.000,9, -999.000,9, -999.000,9,   -999.0,9,   -999.0,9,-999.0000,-999,9,  -999.00,9,  -999.00,   -999.0,9,   -999.0,  23.2622,  24.3086
  49NZ20090410,   P21,    47,  1,      5, X12038,9,20090424,0336,-16.7440, -85.6637, 4521,     49.7,2,  19.9821,2,  19.98055,2,  35.3858,2,-999.0000,9,   237.48,2,  -999.00,9,  -999.00,9,  -999.00,  -999.00,9,  -999.00,  -999.00,9,  -999.00, -999.000,9, -999.000, -999.000,9, -999.000,9, -999.000,9,   -999.0,9,   -999.0,9,-999.0000,-999,9,  -999.00,9,  -999.00,   -999.0,9,   -999.0,  19.9729,  25.0632
  49NZ20090410,   P21,    47,  1,      4, X12034,9,20090424,0336,-16.7440, -85.6637, 4521,    100.0,2,  18.3275,2,  18.32511,2,  35.2187,2,-999.0000,9,   218.46,2,  -999.00,9,  -999.00,9,  -999.00,  -999.00,9,  -999.00,  -999.00,9,  -999.00, -999.000,9, -999.000, -999.000,9, -999.000,9, -999.000,9,   -999.0,9,   -999.0,9,-999.0000,-999,9,  -999.00,9,  -999.00,   -999.0,9,   -999.0,  18.3101,  25.3626
  49NZ20090410,   P21,    47,  1,      3, X12033,9,20090424,0336,-16.7440, -85.6637, 4521,    149.8,2,  14.6013,2,  14.60304,2,  34.7048,2,-999.0000,9,   180.96,2,  -999.00,9,  -999.00,9,  -999.00,  -999.00,9,  -999.00,  -999.00,9,  -999.00, -999.000,9, -999.000, -999.000,9, -999.000,9, -999.000,9,   -999.0,9,   -999.0,9,-999.0000,-999,9,  -999.00,9,  -999.00,   -999.0,9,   -999.0,  14.5791,  25.8358
  49NZ20090410,   P21,    47,  1,      2, X12032,2,20090424,0336,-16.7440, -85.6637, 4521,   2929.0,2,   1.8070,2,   1.80702,2,  34.6768,2,  34.6767,2,   138.67,2,   138.61,2,   132.75,2,     0.41,    36.84,2,     0.14,     0.01,2,     0.01,    2.586,2,    0.016, -999.000,9, -999.000,9, -999.000,9,   -999.0,9,   -999.0,9,-999.0000,-999,9,  -999.00,9,  -999.00,   -999.0,9,   -999.0,   1.5903,  27.7442
  49NZ20090410,   P21,    47,  1,      1, X12046,2,20090424,0336,-16.7440, -85.6637, 4521,   4590.0,2,   1.8147,2,   1.81465,2,  34.6895,2,  34.6897,6,   152.83,2,   152.92,2,   126.48,2,     0.40,    35.66,2,     0.13,     0.01,2,     0.01,    2.496,2,    0.016,    0.003,2,    0.001,2,    0.000,2,   -999.0,9,   -999.0,9,-999.0000,-999,9,  -999.00,9,  -999.00,   -999.0,9,   -999.0,   1.4194,  27.7668