BOTTLE,20220818CCHSIOAMB
EXPOCODE,SECT_ID,STNNBR,CASTNO,SAMPNO,BTLNBR,BTLNBR_FLAG_W,DATE,TIME,LATITUDE,LONGITUDE,DEPTH,CTDPRS,CTDPRS_FLAG_W,CTDTMP,CTDTMP_FLAG_W,SBE35,SBE35_FLAG_W,CTDSAL,CTDSAL_FLAG_W,SALNTY,SALNTY_FLAG_W,CTDOXY,CTDOXY_FLAG_W,OXYGEN,OXYGEN_FLAG_W,SILCAT,SILCAT_FLAG_W,SILUNC,NITRAT,NITRAT_FLAG_W,NRAUNC,NITRIT,NITRIT_FLAG_W,NRIUNC,PHSPHT,PHSPHT_FLAG_W,PHPUNC,CFC-11,CFC-11_FLAG_W,CFC-12,CFC-12_FLAG_W,CFC113,CFC113_FLAG_W,TCARBN,TCARBN_FLAG_W,ALKALI,ALKALI_FLAG_W,PH_TOT,PH_TMP,PH_TOT_FLAG_W,DELC13,DELC13_FLAG_W,C13ERR,DELC14,DELC14_FLAG_W,C14ERR,THETA,SIG0
,,,,,,,,,,,METERS,DBAR,,ITS-90,,ITS-90,,PSS-78,,PSS-78,,UMOL/KG,,UMOL/KG,,UMOL/KG,,UMOL/KG,UMOL/KG,,UMOL/KG,UMOL/KG,,UMOL/KG,UMOL/KG,,UMOL/KG,PMOL/KG,,PMOL/KG,,PMOL/KG,,UMOL/KG,,UMOL/KG,,,DEG C,,/MILLE,,/MILLE,/MILLE,,/MILLE,DEG C,KG/M^3
  49NZ20090410,   P21,    88,  1,     36, X12006,2,20090503,1303,-16.7428,-108.0072, 3670,      9.5,2,  25.5381,2,  25.53834,2,  36.1309,2,  36.1305,2,   207.10,2,   207.32,2,     0.89,2,     0.12,     1.12,2,     0.04,     0.03,2,     0.01,    0.401,2,    0.013,    1.592,2,    1.032,2, -999.000,5,   2049.5,2,   2385.0,2,   8.0831,  25,6,  -999.00,1,  -999.00,   -999.0,1,   -999.0,  25.5360,  24.0313
  49NZ20090410,   P21,    88,  1,     35, X12047,2,20090503,1303,-16.7428,-108.0072, 3670,     50.0,2,  25.5461,2,  25.54586,2,  36.1289,2,  36.1305,2,   206.66,2,   207.20,2,     0.84,2,     0.12,     1.12,2,     0.04,     0.03,2,     0.01,    0.399,2,    0.013,    1.599,2,    1.037,2, -999.000,5,   2049.2,6,   2383.8,2,   8.0834,  25,2,  -999.00,1,  -999.00,   -999.0,1,   -999.0,  25.5350,  24.0301
  49NZ20090410,   P21,    88,  1,     34, X12004,2,20090503,1303,-16.7428,-108.0072, 3670,    100.7,2,  21.9304,2,  21.93112,2,  35.9378,2,  35.9381,2,   207.24,2,   207.34,2,     0.77,2,     0.12,     0.47,2,     0.03,     0.11,2,     0.01,    0.511,2,    0.013,    1.921,6,    1.214,6, -999.000,5,   2084.6,2,   2378.4,6,   8.0165,  25,2,  -999.00,1,  -999.00,   -999.0,1,   -999.0,  21.9105,  24.9558
  49NZ20090410,   P21,    88,  1,     33, X12003,2,20090503,1303,-16.7428,-108.0072, 3670,    150.8,2,  20.1377,2,  20.14033,2,  35.7028,2,  35.7082,2,   200.15,2,   200.41,2,     0.61,2,     0.12,     2.36,2,     0.04,     0.23,2,     0.01,    0.504,2,    0.013,    2.093,2,    1.304,2, -999.000,5,   2093.8,2,   2358.2,2,   7.9724,  25,6,  -999.00,1,  -999.00,   -999.0,1,   -999.0,  20.1096,  25.2689
  49NZ20090410,   P21,    88,  1,     32, X12002,2,20090503,1303,-16.7428,-108.0072, 3670,    200.8,2,  17.9439,2,  17.95169,2,  35.2750,2,  35.2784,2,   196.85,2,   197.41,2,     0.95,2,     0.12,     5.13,2,     0.05,     0.03,2,     0.01,    0.684,2,    0.013,    2.324,2,    1.421,2,    0.150,2,   2100.4,2,   2331.7,2,   7.9172,  25,2,  -999.00,1,  -999.00,   -999.0,1,   -999.0,  17.9094,  25.5051
  49NZ20090410,   P21,    88,  1,     31, X12001,2,20090503,1303,-16.7428,-108.0072, 3670,    251.0,2,  14.9142,2,  14.92747,2,  34.8366,2,  34.8408,6,   170.59,2,   171.20,2,     2.80,2,     0.13,    11.07,2,     0.06,     0.02,2,     0.01,    1.077,2,    0.013,    2.537,2,    1.484,2,    0.091,2,   2121.3,2,   2300.4,2,   7.8189,  25,2,  -999.00,1,  -999.00,   -999.0,1,   -999.0,  14.8763,  25.8730
  49NZ20090410,   P21,    88,  1,     30, X12030,2,20090503,1303,-16.7428,-108.0072, 3670,    330.3,2,  10.5108,2,  10.51062,2,  34.5562,2,  34.5521,2,    57.82,2,    59.04,2,    17.20,2,     0.16,    25.70,2,     0.10,     0.02,2,     0.01,    2.385,2,    0.016,    1.367,2,    0.726,2,    0.029,2,   2232.8,2,   2283.5,2,   7.4908,  25,2,  -999.00,1,  -999.00,   -999.0,1,   -999.0,  10.4712,  26.5240
  49NZ20090410,   P21,    88,  1,     29, X12044,2,20090503,1303,-16.7428,-108.0072, 3670,    430.4,2,   8.1440,2,   8.14466,2,  34.5201,2,  34.5198,2,    53.64,2,    53.71,2,    24.26,2,     0.17,    35.86,2,     0.13,     0.02,2,     0.01,    2.648,2,    0.017,    0.349,2,    0.187,2,    0.011,2,   2254.0,2,   2289.7,2,   7.4418,  25,2,  -999.00,1,  -999.00,   -999.0,1,   -999.0,   8.0996,  26.8820
  49NZ20090410,   P21,    88,  1,     28, X12048,2,20090503,1303,-16.7428,-108.0072, 3670,    530.0,2,   6.8443,2,   6.84445,2,  34.4821,2,  34.4817,6,    76.71,2,    76.92,2,    29.49,2,     0.18,    37.60,2,     0.14,     0.01,2,     0.01,    2.648,2,    0.017,    0.147,2,    0.082,2,    0.010,2,   2249.2,2,   2294.8,2,   7.4719,  25,2,  -999.00,1,  -999.00,   -999.0,1,   -999.0,   6.7945,  27.0390
  49NZ20090410,   P21,    88,  1,     27, X12027,2,20090503,1303,-16.7428,-108.0072, 3670,    631.6,2,   6.1482,2,   6.14775,2,  34.4913,2,  34.4904,2,    67.18,2,    67.56,2,    39.54,2,     0.21,    40.19,2,     0.15,     0.01,2,     0.01,    2.820,2,    0.017,    0.026,6,    0.016,6,    0.000,6,   2266.0,2,   2304.9,2,   7.4520,  25,2,  -999.00,1,  -999.00,   -999.0,1,   -999.0,   6.0917,  27.1390
  49NZ20090410,   P21,    88,  1,     26, X12026,2,20090503,1303,-16.7428,-108.0072, 3670,    729.9,2,   5.5714,2,   5.57134,2,  34.4897,2,  34.4894,2,    68.30,2,    68.56,2,    47.77,2,     0.22,    41.18,2,     0.15,     0.01,2,     0.01,    2.901,2,    0.017,    0.006,2,    0.004,2,    0.000,2,   2275.8,6,   2313.2,2,   7.4470,  25,2,  -999.00,1,  -999.00,   -999.0,1,   -999.0,   5.5088,  27.2104
  49NZ20090410,   P21,    88,  1,     25, X12025,2,20090503,1303,-16.7428,-108.0072, 3670,    828.8,2,   5.1179,2,   5.11729,2,  34.4977,2,  34.4971,2,    69.69,2,    69.53,2,    56.00,2,     0.24,    41.77,2,     0.15,     0.01,2,     0.01,    2.944,2,    0.017,    0.004,2,    0.002,2,    0.000,2,   2285.0,2,   2322.6,6,   7.4453,  25,2,  -999.00,1,  -999.00,   -999.0,1,   -999.0,   5.0491,  27.2713
  49NZ20090410,   P21,    88,  1,     24, X12024,2,20090503,1303,-16.7428,-108.0072, 3670,    930.2,2,   4.6959,2,   4.69530,2,  34.5173,2,  34.5173,2,    63.10,2,    63.21,2,    67.26,2,     0.27,    42.89,2,     0.15,     0.01,2,     0.01,    3.037,2,    0.018,    0.001,2,    0.003,2,    0.000,2,   2301.4,2,   2334.8,2,   7.4315,  25,6,  -999.00,1,  -999.00,   -999.0,1,   -999.0,   4.6210,  27.3355
  49NZ20090410,   P21,    88,  1,     23, X12028,2,20090503,1303,-16.7428,-108.0072, 3670,   1070.7,2,   4.1964,2,   4.19647,2,  34.5337,2,  34.5340,6,    70.82,2,    70.76,2,    78.14,2,     0.29,    42.23,2,     0.15,     0.01,2,     0.01,    3.024,2,    0.018,    0.000,2,    0.000,2,    0.000,2,   2309.1,2,   2346.7,2,   7.4444,  25,2,  -999.00,1,  -999.00,   -999.0,1,   -999.0,   4.1132,  27.4034
  49NZ20090410,   P21,    88,  1,     22, X12022,2,20090503,1303,-16.7428,-108.0072, 3670,   1269.2,2,   3.6037,2,   3.60306,2,  34.5578,2,  34.5584,2,    79.88,2,    80.02,2,    91.63,2,     0.32,    41.61,2,     0.15,     0.01,2,     0.01,    2.990,2,    0.017,    0.001,2,    0.000,2,    0.000,2,   2319.2,2,   2362.7,2,   7.4598,  25,2,  -999.00,1,  -999.00,   -999.0,1,   -999.0,   3.5089,  27.4839
  49NZ20090410,   P21,    88,  1,     21, X12021,2,20090503,1303,-16.7428,-108.0072, 3670,   1470.3,2,   3.0853,2,   3.08536,2,  34.5847,2,  34.5849,2,    91.13,2,    91.36,2,   104.03,2,     0.35,    40.67,2,     0.15,     0.01,2,     0.01,    2.925,2,    0.017,    0.000,2,    0.000,2,    0.000,2,   2326.2,2,   2376.6,2,   7.4797,  25,2,  -999.00,1,  -999.00,   -999.0,1,   -999.0,   2.9790,  27.5555
  49NZ20090410,   P21,    88,  1,     20, X12020,2,20090503,1303,-16.7428,-108.0072, 3670,   1670.7,2,   2.7161,2,   2.71679,2,  34.6068,2,  34.6069,2,   102.60,2,   102.74,2,   112.26,2,     0.37,    39.78,2,     0.14,     0.01,2,     0.01,    2.841,2,    0.017,    0.000,2,    0.000,2,    0.000,2,   2328.7,2,   2387.1,2,   7.5017,  25,6,  -999.00,1,  -999.00,   -999.0,1,   -999.0,   2.5973,  27.6071
  49NZ20090410,   P21,    88,  1,     19, X12019,2,20090503,1303,-16.7428,-108.0072, 3670,   1871.1,2,   2.4130,2,   2.41300,2,  34.6252,2,  34.6257,6,   116.85,2,   117.19,2,   116.74,2,     0.38,    38.54,2,     0.14,     0.01,2,     0.01,    2.738,2,    0.017,    0.001,2,    0.000,2,    0.000,2,   2324.9,2,   2392.8,2,   7.5270,  25,2,  -999.00,1,  -999.00,   -999.0,1,   -999.0,   2.2814,  27.6487
  49NZ20090410,   P21,    88,  1,     18, X12043,2,20090503,1303,-16.7428,-108.0072, 3670,   2071.5,2,   2.1353,2,   2.13544,2,  34.6442,2,  34.6451,2,   131.74,2,   132.05,2,   119.44,2,     0.38,    37.31,2,     0.14,     0.01,2,     0.01,    2.632,2,    0.017, -999.000,9, -999.000,9, -999.000,9,   2319.7,2,   2396.5,2,   7.5539,  25,2,  -999.00,1,  -999.00,   -999.0,1,   -999.0,   1.9907,  27.6873
  49NZ20090410,   P21,    88,  1,     17, X12042,2,20090503,1303,-16.7428,-108.0072, 3670,   2271.1,2,   1.9685,2,   1.96835,2,  34.6572,2,  34.6592,3,   142.68,2,   143.07,2,   120.08,2,     0.38,    36.42,2,     0.13,     0.01,2,     0.01,    2.560,2,    0.016,    0.000,2,    0.000,2,    0.000,2,   2315.3,2,   2399.6,2,   7.5721,  25,2,  -999.00,1,  -999.00,   -999.0,1,   -999.0,   1.8092,  27.7119
  49NZ20090410,   P21,    88,  1,     16, X12016,2,20090503,1303,-16.7428,-108.0072, 3670,   2470.9,2,   1.8690,2,   1.86902,2,  34.6665,2,  34.6675,2,   152.20,2,   152.78,2,   119.08,2,     0.38,    35.71,2,     0.13,     0.01,2,     0.01,    2.495,2,    0.016, -999.000,9, -999.000,9, -999.000,9,   2309.0,6,   2398.2,2,   7.5875,  25,2,  -999.00,1,  -999.00,   -999.0,1,   -999.0,   1.6937,  27.7282
  49NZ20090410,   P21,    88,  1,     15, X12015,2,20090503,1303,-16.7428,-108.0072, 3670,   2671.0,2,   1.8181,2,   1.81814,2,  34.6753,2,  34.6762,2,   150.46,2,   150.90,2,   123.92,2,     0.39,    35.79,2,     0.13,     0.01,2,     0.01,    2.508,2,    0.016, -999.000,9, -999.000,9, -999.000,9,   2316.1,2,   2407.3,6,   7.5915,  25,2,  -999.00,1,  -999.00,   -999.0,1,   -999.0,   1.6255,  27.7403
  49NZ20090410,   P21,    88,  1,     14, X12050,2,20090503,1303,-16.7428,-108.0072, 3670,   2869.1,2,   1.8162,2,   1.81620,2,  34.6791,2,  34.6797,6,   147.09,2,   147.47,2,   128.06,2,     0.40,    36.08,2,     0.13,     0.01,2,     0.01,    2.526,2,    0.016,    0.000,2,    0.000,2,    0.000,2,   2323.3,2,   2414.1,2,   7.5922,  25,2,  -999.00,1,  -999.00,   -999.0,1,   -999.0,   1.6050,  27.7449
  49NZ20090410,   P21,    88,  1,     13, X12013,7,20090503,1303,-16.7428,-108.0072, 3670,   3080.2,2,   1.8140,2,   1.81403,2,  34.6798,2,  34.6815,2,   145.50,2,   145.93,2,   129.98,2,     0.40,    36.22,2,     0.13,     0.01,2,     0.01,    2.537,2,    0.016, -999.000,9, -999.000,9, -999.000,9,   2326.6,2,   2416.6,2,   7.5925,  25,2,  -999.00,1,  -999.00,   -999.0,1,   -999.0,   1.5824,  27.7472
  49NZ20090410,   P21,    88,  1,     12, X12012,2,20090503,1303,-16.7428,-108.0072, 3670,   3328.8,2,   1.8088,2,   1.80894,2,  34.6801,2,  34.6808,2,   142.30,2,   142.80,2,   134.02,2,     0.41,    36.55,2,     0.14,     0.02,2,     0.01,    2.560,2,    0.016,    0.000,2,    0.001,2,    0.000,2,   2332.9,2,   2422.4,2,   7.5894,  25,2,  -999.00,1,  -999.00,   -999.0,1,   -999.0,   1.5525,  27.7496
  49NZ20090410,   P21,    88,  1,     11, X12041,2,20090503,1303,-16.7428,-108.0072, 3670,   3579.7,2,   1.8266,2,   1.82663,2,  34.6817,2,  34.6825,2,   144.12,2,   144.59,2,   132.20,2,     0.41,    36.36,2,     0.13,     0.01,2,     0.01,    2.549,2,    0.016,    0.000,2,    0.000,2,    0.000,2,   2330.2,2,   2420.4,2,   7.5910,  25,2,  -999.00,1,  -999.00,   -999.0,1,   -999.0,   1.5439,  27.7515
  49NZ20090410,   P21,    88,  1,     10, X12040,9,20090503,1303,-16.7428,-108.0072, 3670,   2671.8,2,   1.8179,2,   1.81799,2,  34.6754,2,-999.0000,9,   150.45,2,  -999.00,9,  -999.00,9,  -999.00,  -999.00,9,  -999.00,  -999.00,9,  -999.00, -999.000,9, -999.000, -999.000,9, -999.000,9, -999.000,9,   -999.0,9,   -999.0,9,-999.0000,-999,9,  -999.00,9,  -999.00,   -999.0,9,   -999.0,   1.6252,  27.7404
  49NZ20090410,   P21,    88,  1,      9, X12009,9,20090503,1303,-16.7428,-108.0072, 3670,   2869.5,2,   1.8163,2,   1.81635,2,  34.6792,2,-999.0000,9,   147.07,2,  -999.00,9,  -999.00,9,  -999.00,  -999.00,9,  -999.00,  -999.00,9,  -999.00, -999.000,9, -999.000, -999.000,9, -999.000,9, -999.000,9,   -999.0,9,   -999.0,9,-999.0000,-999,9,  -999.00,9,  -999.00,   -999.0,9,   -999.0,   1.6051,  27.7450
  49NZ20090410,   P21,    88,  1,      8, X12008,9,20090503,1303,-16.7428,-108.0072, 3670,    929.8,2,   4.6962,2,   4.69584,2,  34.5173,2,-999.0000,9,    63.08,2,  -999.00,9,  -999.00,9,  -999.00,  -999.00,9,  -999.00,  -999.00,9,  -999.00, -999.000,9, -999.000, -999.000,9, -999.000,9, -999.000,9,   -999.0,9,   -999.0,9,-999.0000,-999,9,  -999.00,9,  -999.00,   -999.0,9,   -999.0,   4.6213,  27.3355
  49NZ20090410,   P21,    88,  1,      7, X12007,2,20090503,1303,-16.7428,-108.0072, 3670,      9.9,2,  25.5411,2,  25.54116,2,  36.1310,2,-999.0000,9,   207.06,2,  -999.00,9,     0.86,2,     0.12,     1.16,2,     0.04,     0.03,2,     0.01,    0.404,2,    0.013, -999.000,9, -999.000,9, -999.000,9,   -999.0,9,   -999.0,9,-999.0000,-999,9,  -999.00,9,  -999.00,   -999.0,9,   -999.0,  25.5389,  24.0305
  49NZ20090410,   P21,    88,  1,      6, X12035,2,20090503,1303,-16.7428,-108.0072, 3670,     50.2,2,  25.5457,2,  25.54442,2,  36.1291,2,-999.0000,9,   206.81,2,  -999.00,9,     0.88,2,     0.12,     1.11,2,     0.04,     0.03,2,     0.01,    0.406,2,    0.013, -999.000,9, -999.000,9, -999.000,9,   -999.0,9,   -999.0,9,-999.0000,-999,9,  -999.00,9,  -999.00,   -999.0,9,   -999.0,  25.5346,  24.0304
  49NZ20090410,   P21,    88,  1,      5, X12038,2,20090503,1303,-16.7428,-108.0072, 3670,    100.9,2,  21.9311,2,  21.93122,2,  35.9361,2,-999.0000,9,   207.24,2,  -999.00,9,     0.77,2,     0.12,     0.51,2,     0.03,     0.14,2,     0.01,    0.508,2,    0.013, -999.000,9, -999.000,9, -999.000,9,   -999.0,9,   -999.0,9,-999.0000,-999,9,  -999.00,9,  -999.00,   -999.0,9,   -999.0,  21.9111,  24.9543
  49NZ20090410,   P21,    88,  1,      4, X12034,2,20090503,1303,-16.7428,-108.0072, 3670,    151.5,2,  20.1061,2,  20.11769,2,  35.6979,2,-999.0000,9,   200.20,2,  -999.00,9,     0.68,2,     0.12,     2.50,2,     0.04,     0.21,2,     0.01,    0.508,2,    0.013, -999.000,9, -999.000,9, -999.000,9,   -999.0,9,   -999.0,9,-999.0000,-999,9,  -999.00,9,  -999.00,   -999.0,9,   -999.0,  20.0779,  25.2736
  49NZ20090410,   P21,    88,  1,      3, X12033,2,20090503,1303,-16.7428,-108.0072, 3670,    200.7,2,  17.9639,2,  17.96392,2,  35.2776,2,-999.0000,9,   196.94,2,  -999.00,9,     1.10,2,     0.12,     5.31,2,     0.05,     0.03,2,     0.01,    0.693,2,    0.013, -999.000,9, -999.000,9, -999.000,9,   -999.0,9,   -999.0,9,-999.0000,-999,9,  -999.00,9,  -999.00,   -999.0,9,   -999.0,  17.9294,  25.5021
  49NZ20090410,   P21,    88,  1,      2, X12032,2,20090503,1303,-16.7428,-108.0072, 3670,    250.4,2,  14.9006,2,  14.90882,2,  34.8343,2,-999.0000,9,   170.39,2,  -999.00,9,     3.16,2,     0.13,    11.42,2,     0.06,     0.02,2,     0.01,    1.100,2,    0.013, -999.000,9, -999.000,9, -999.000,9,   -999.0,9,   -999.0,9,-999.0000,-999,9,  -999.00,9,  -999.00,   -999.0,9,   -999.0,  14.8628,  25.8742
  49NZ20090410,   P21,    88,  1,      1, X12046,2,20090503,1303,-16.7428,-108.0072, 3670,   3683.0,2,   1.8369,2,   1.83691,2,  34.6824,2,  34.6825,6,   145.03,2,   145.54,2,   131.61,2,     0.41,    36.35,2,     0.13,     0.01,2,     0.01,    2.544,2,    0.016,    0.001,2,    0.001,2,    0.000,2,   2329.0,2,   2419.9,2,   7.5920,  25,2,  -999.00,1,  -999.00,   -999.0,1,   -999.0,   1.5430,  27.7522