BOTTLE,20220818CCHSIOAMB
EXPOCODE,SECT_ID,STNNBR,CASTNO,SAMPNO,BTLNBR,BTLNBR_FLAG_W,DATE,TIME,LATITUDE,LONGITUDE,DEPTH,CTDPRS,CTDPRS_FLAG_W,CTDTMP,CTDTMP_FLAG_W,SBE35,SBE35_FLAG_W,CTDSAL,CTDSAL_FLAG_W,SALNTY,SALNTY_FLAG_W,CTDOXY,CTDOXY_FLAG_W,OXYGEN,OXYGEN_FLAG_W,SILCAT,SILCAT_FLAG_W,SILUNC,NITRAT,NITRAT_FLAG_W,NRAUNC,NITRIT,NITRIT_FLAG_W,NRIUNC,PHSPHT,PHSPHT_FLAG_W,PHPUNC,CFC-11,CFC-11_FLAG_W,CFC-12,CFC-12_FLAG_W,CFC113,CFC113_FLAG_W,TCARBN,TCARBN_FLAG_W,ALKALI,ALKALI_FLAG_W,PH_TOT,PH_TMP,PH_TOT_FLAG_W,DELC13,DELC13_FLAG_W,C13ERR,DELC14,DELC14_FLAG_W,C14ERR,THETA,SIG0
,,,,,,,,,,,METERS,DBAR,,ITS-90,,ITS-90,,PSS-78,,PSS-78,,UMOL/KG,,UMOL/KG,,UMOL/KG,,UMOL/KG,UMOL/KG,,UMOL/KG,UMOL/KG,,UMOL/KG,UMOL/KG,,UMOL/KG,PMOL/KG,,PMOL/KG,,PMOL/KG,,UMOL/KG,,UMOL/KG,,,DEG C,,/MILLE,,/MILLE,/MILLE,,/MILLE,DEG C,KG/M^3
  49NZ20090410,   P21,    54,  1,     36, X12006,2,20090425,0203,-16.7482, -87.9990, 4544,      8.7,2,  23.3379,2,  23.33848,2,  35.7844,2,  35.7837,2,   215.54,2,   215.32,2,     0.74,2,     0.12,     0.12,2,     0.03,     0.01,2,     0.01,    0.416,2,    0.013,    1.754,2,    1.111,2, -999.000,5,   2059.1,2,   2375.3,2,   8.0500,  25,6,  -999.00,9,  -999.00,   -999.0,9,   -999.0,  23.3361,  24.4309
  49NZ20090410,   P21,    54,  1,     35, X12047,2,20090425,0203,-16.7482, -87.9990, 4544,     50.8,2,  23.0349,2,  22.90916,2,  35.7409,2,  35.6210,4,   216.73,2,   226.59,2,     0.73,2,     0.12,     0.15,2,     0.03,     0.02,2,     0.01,    0.444,2,    0.013,    1.940,2,    1.218,2, -999.000,5,   2062.0,6,   2363.0,2,   8.0290,  25,2,  -999.00,9,  -999.00,   -999.0,9,   -999.0,  23.0245,  24.4885
  49NZ20090410,   P21,    54,  1,     34, X12004,2,20090425,0203,-16.7482, -87.9990, 4544,     99.2,2,  19.1055,2,  19.10385,2,  35.4208,2,  35.4278,2,   213.72,2,   213.17,2,     0.96,2,     0.12,     2.02,2,     0.04,     1.25,2,     0.01,    0.713,2,    0.013,    2.178,6,    1.351,6,    0.233,4,   2092.2,2,   2349.8,6,   7.9573,  25,2,  -999.00,9,  -999.00,   -999.0,9,   -999.0,  19.0877,  25.3203
  49NZ20090410,   P21,    54,  1,     33, X12003,2,20090425,0203,-16.7482, -87.9990, 4544,    150.0,2,  18.1373,2,  18.14000,2,  35.2484,2,  35.2354,2,   204.65,2,   202.19,2,     1.18,2,     0.12,     6.21,2,     0.05,     0.05,2,     0.01,    0.843,2,    0.013,    2.295,2,    1.410,2,    0.202,2,   2101.9,2,   2333.7,2,   7.9139,  25,6,  -999.00,9,  -999.00,   -999.0,9,   -999.0,  18.1114,  25.4348
  49NZ20090410,   P21,    54,  1,     32, X12002,2,20090425,0203,-16.7482, -87.9990, 4544,    200.8,2,  14.8546,2,  14.83804,2,  34.7888,2,  34.8046,2,   155.56,2,   168.26,2,     3.35,2,     0.13,    13.17,2,     0.07,     0.02,2,     0.01,    1.291,2,    0.014,    2.566,2,    1.524,2,    0.010,2,   2135.7,2,   2300.9,2,   7.7825,  25,2,  -999.00,9,  -999.00,   -999.0,9,   -999.0,  14.8244,  25.8475
  49NZ20090410,   P21,    54,  1,     31, X12001,2,20090425,0203,-16.7482, -87.9990, 4544,    249.6,2,  12.0042,2,  12.00231,2,  34.6091,2,  34.6063,6,    44.02,2,    43.96,2,    16.46,2,     0.16,    22.27,2,     0.10,     0.02,2,     0.01,    2.416,2,    0.016,    1.725,2,    0.952,2,    0.041,2,   2236.3,2,   2288.5,2,   7.4794,  25,2,  -999.00,9,  -999.00,   -999.0,9,   -999.0,  11.9717,  26.2909
  49NZ20090410,   P21,    54,  1,     30, X12030,2,20090425,0203,-16.7482, -87.9990, 4544,    298.2,2,  10.8590,2,  10.85817,2,  34.6701,2,  34.6680,2,    12.15,2,    12.27,2,    23.19,2,     0.17,    27.73,2,     0.11,     0.01,2,     0.01,    2.720,2,    0.017,    0.781,2,    0.409,2,    0.015,2,   2266.9,2,   2293.7,2,   7.4001,  25,2,  -999.00,9,  -999.00,   -999.0,9,   -999.0,  10.8225,  26.5505
  49NZ20090410,   P21,    54,  1,     29, X12044,2,20090425,0203,-16.7482, -87.9990, 4544,    399.9,2,   8.8514,2,   8.85540,2,  34.6124,2,  34.6121,2,    13.49,2,    13.24,2,    28.78,2,     0.18,    37.51,2,     0.14,     0.01,2,     0.01,    2.831,2,    0.017,    0.190,2,    0.100,2,    0.000,2,   2277.0,2,   2298.0,2,   7.3843,  25,2,  -999.00,9,  -999.00,   -999.0,9,   -999.0,   8.8081,  26.8452
  49NZ20090410,   P21,    54,  1,     28, X12048,2,20090425,0203,-16.7482, -87.9990, 4544,    498.8,2,   7.2197,2,   7.22201,2,  34.5086,2,  34.5082,6,    51.51,2,    51.01,2,    30.75,2,     0.19,    39.28,2,     0.14,     0.01,2,     0.01,    2.798,2,    0.017,    0.228,2,    0.116,2,    0.000,2,   2263.2,2,   2296.3,2,   7.4249,  25,2,  -999.00,9,  -999.00,   -999.0,9,   -999.0,   7.1715,  27.0078
  49NZ20090410,   P21,    54,  1,     27, X12027,2,20090425,0203,-16.7482, -87.9990, 4544,    600.6,2,   6.3493,2,   6.34709,2,  34.4938,2,  34.4934,2,    49.69,2,    49.28,2,    39.30,2,     0.21,    41.65,2,     0.15,     0.01,2,     0.01,    2.954,2,    0.017,    0.056,6,    0.030,6,    0.000,6,   2274.3,2,   2304.7,2,   7.4139,  25,2,  -999.00,9,  -999.00,   -999.0,9,   -999.0,   6.2948,  27.1147
  49NZ20090410,   P21,    54,  1,     26, X12026,2,20090425,0203,-16.7482, -87.9990, 4544,    698.1,2,   5.6734,2,   5.67253,2,  34.4841,2,  34.4835,2,    53.91,2,    54.23,2,    47.12,2,     0.22,    42.66,2,     0.15,     0.02,2,     0.01,    3.014,2,    0.017,    0.012,2,    0.010,2,    0.000,2,   2281.6,6,   2312.9,2,   7.4147,  25,2,  -999.00,9,  -999.00,   -999.0,9,   -999.0,   5.6132,  27.1932
  49NZ20090410,   P21,    54,  1,     25, X12025,2,20090425,0203,-16.7482, -87.9990, 4544,    798.7,2,   5.1194,2,   5.11988,2,  34.4930,2,  34.4925,2,    56.72,2,    56.75,2,    56.89,2,     0.24,    43.05,2,     0.15,     0.01,2,     0.01,    3.057,2,    0.018,    0.000,2,    0.000,2,    0.000,2,   2291.9,2,   2323.9,6,   7.4167,  25,2,  -999.00,9,  -999.00,   -999.0,9,   -999.0,   5.0533,  27.2672
  49NZ20090410,   P21,    54,  1,     24, X12024,2,20090425,0203,-16.7482, -87.9990, 4544,    898.6,2,   4.7130,2,   4.71294,2,  34.5136,2,  34.5129,2,    57.07,2,    57.17,2,    67.49,2,     0.27,    43.28,2,     0.15,     0.01,2,     0.01,    3.086,2,    0.018,    0.000,2,    0.000,2,    0.000,2,   2303.0,2,   2335.5,2,   7.4188,  25,2,  -999.00,9,  -999.00,   -999.0,9,   -999.0,   4.6408,  27.3304
  49NZ20090410,   P21,    54,  1,     23, X12028,2,20090425,0203,-16.7482, -87.9990, 4544,   1000.3,2,   4.2904,2,   4.29015,2,  34.5231,2,  34.5227,6,    70.62,2,    70.48,2,    74.70,2,     0.28,    42.41,2,     0.15,     0.01,2,     0.01,    3.031,2,    0.018,    0.000,2,    0.000,2,    0.000,2,   2304.1,2,   2344.6,2,   7.4427,  25,2,  -999.00,9,  -999.00,   -999.0,9,   -999.0,   4.2124,  27.3845
  49NZ20090410,   P21,    54,  1,     22, X12022,2,20090425,0203,-16.7482, -87.9990, 4544,   1199.0,2,   3.6447,2,   3.64502,2,  34.5529,2,  34.5533,2,    79.20,2,    78.95,2,    90.74,2,     0.32,    41.68,2,     0.15,     0.02,2,     0.01,    3.006,2,    0.017,    0.001,2,    0.001,2,    0.000,2,   2315.9,2,   2364.6,2,   7.4575,  25,2,  -999.00,9,  -999.00,   -999.0,9,   -999.0,   3.5554,  27.4754
  49NZ20090410,   P21,    54,  1,     21, X12021,2,20090425,0203,-16.7482, -87.9990, 4544,   1399.9,2,   3.1629,2,   3.16306,2,  34.5806,2,  34.5804,2,    86.53,2,    86.63,2,   103.62,2,     0.35,    41.07,2,     0.15,     0.01,2,     0.01,    2.965,2,    0.017,    0.000,2,    0.000,2,    0.000,2,   2326.4,2,   2375.4,2,   7.4719,  25,2,  -999.00,9,  -999.00,   -999.0,9,   -999.0,   3.0616,  27.5447
  49NZ20090410,   P21,    54,  1,     20, X12020,2,20090425,0203,-16.7482, -87.9990, 4544,   1600.1,2,   2.7570,2,   2.75714,2,  34.6046,2,  34.6047,2,    97.58,2,    97.79,2,   113.12,2,     0.37,    40.06,2,     0.14,     0.01,2,     0.01,    2.880,2,    0.017,    0.000,2,    0.001,2,    0.000,2,   2330.4,2,   2387.6,2,   7.4924,  25,6,  -999.00,9,  -999.00,   -999.0,9,   -999.0,   2.6436,  27.6013
  49NZ20090410,   P21,    54,  1,     19, X12019,2,20090425,0203,-16.7482, -87.9990, 4544,   1800.7,2,   2.4673,2,   2.46770,2,  34.6236,2,  34.6237,2,   107.39,2,   107.17,2,   119.96,2,     0.38,    39.34,2,     0.14,     0.01,2,     0.01,    2.811,2,    0.017,    0.000,2,    0.000,2,    0.000,2,   2332.3,2,   2396.8,2,   7.5110,  25,2,  -999.00,9,  -999.00,   -999.0,9,   -999.0,   2.3409,  27.6424
  49NZ20090410,   P21,    54,  1,     18, X12043,2,20090425,0203,-16.7482, -87.9990, 4544,   1999.1,2,   2.2505,2,   2.25048,2,  34.6383,2,  34.6385,2,   117.86,2,   117.64,2,   123.52,2,     0.39,    38.41,2,     0.14,     0.01,2,     0.01,    2.734,2,    0.017,    0.000,2,    0.000,2,    0.000,2,   2330.1,2,   2400.9,2,   7.5300,  25,2,  -999.00,9,  -999.00,   -999.0,9,   -999.0,   2.1103,  27.6731
  49NZ20090410,   P21,    54,  1,     17, X12042,2,20090425,0203,-16.7482, -87.9990, 4544,   2201.2,2,   2.0467,2,   2.04656,2,  34.6527,2,  34.6525,6,   131.78,2,   131.68,2,   123.69,2,     0.39,    37.45,2,     0.14,     0.01,2,     0.01,    2.642,2,    0.017,    0.000,2,    0.001,2,    0.000,2,   2322.5,2,   2403.3,2,   7.5540,  25,2,  -999.00,9,  -999.00,   -999.0,9,   -999.0,   1.8922,  27.7019
  49NZ20090410,   P21,    54,  1,     16, X12016,2,20090425,0203,-16.7482, -87.9990, 4544,   2400.7,2,   1.9151,2,   1.91503,2,  34.6640,2,  34.6639,2,   138.39,2,   138.23,2,   126.14,2,     0.40,    36.90,2,     0.14,     0.01,2,     0.01,    2.597,2,    0.016,    0.000,2,    0.000,2,    0.000,2,   2321.2,6,   2407.8,2,   7.5668,  25,2,  -999.00,9,  -999.00,   -999.0,9,   -999.0,   1.7453,  27.7222
  49NZ20090410,   P21,    54,  1,     15, X12015,2,20090425,0203,-16.7482, -87.9990, 4544,   2600.3,2,   1.8504,2,   1.85024,2,  34.6705,2,  34.6699,2,   142.55,2,   142.43,2,   126.84,2,     0.40,    36.47,2,     0.13,     0.01,2,     0.01,    2.558,2,    0.016,    0.000,2,    0.000,2,    0.000,2,   2321.7,2,   2409.4,6,   7.5744,  25,2,  -999.00,9,  -999.00,   -999.0,9,   -999.0,   1.6637,  27.7337
  49NZ20090410,   P21,    54,  1,     14, X12050,2,20090425,0203,-16.7482, -87.9990, 4544,   2800.6,2,   1.8097,2,   1.80960,2,  34.6756,2,  34.6753,2,   143.53,2,   143.49,2,   129.06,2,     0.40,    36.48,2,     0.13,     0.01,2,     0.01,    2.556,2,    0.016,    0.000,2,    0.000,2,    0.000,2,   2324.1,2,   2412.7,2,   7.5804,  25,6,  -999.00,9,  -999.00,   -999.0,9,   -999.0,   1.6052,  27.7421
  49NZ20090410,   P21,    54,  1,     13, X12013,7,20090425,0203,-16.7482, -87.9990, 4544,   2999.4,2,   1.7904,2,   1.79028,2,  34.6790,2,  34.6790,2,   143.95,2,   143.86,2,   130.53,2,     0.41,    36.37,2,     0.13,     0.01,2,     0.01,    2.551,2,    0.016,    0.000,2,    0.000,2,    0.000,2,   2324.8,2,   2416.7,2,   7.5836,  25,2,  -999.00,9,  -999.00,   -999.0,9,   -999.0,   1.5673,  27.7476
  49NZ20090410,   P21,    54,  1,     12, X12012,2,20090425,0203,-16.7482, -87.9990, 4544,   3250.9,2,   1.7750,2,   1.77493,2,  34.6822,2,  34.6817,6,   145.21,2,   145.02,2,   131.09,2,     0.41,    36.43,2,     0.13,     0.01,2,     0.01,    2.544,2,    0.016,    0.000,2,    0.000,2,    0.000,2,   2326.9,2,   2417.6,2,   7.5851,  25,2,  -999.00,9,  -999.00,   -999.0,9,   -999.0,   1.5274,  27.7531
  49NZ20090410,   P21,    54,  1,     11, X12041,2,20090425,0203,-16.7482, -87.9990, 4544,   3500.7,2,   1.7666,2,   1.76655,2,  34.6848,2,  34.6847,2,   147.06,2,   147.07,2,   130.46,2,     0.41,    36.12,2,     0.13,     0.01,2,     0.01,    2.532,2,    0.016,    0.001,2,    0.001,2,    0.000,2,   2324.5,2,   2417.3,2,   7.5873,  25,2,  -999.00,9,  -999.00,   -999.0,9,   -999.0,   1.4937,  27.7577
  49NZ20090410,   P21,    54,  1,     10, X12040,2,20090425,0203,-16.7482, -87.9990, 4544,   3751.1,2,   1.7600,2,   1.75992,2,  34.6872,2,  34.6871,2,   150.39,2,   150.35,2,   128.35,2,     0.40,    35.95,2,     0.13,     0.01,2,     0.01,    2.513,2,    0.016,    0.002,2,    0.000,2,    0.000,2,   2320.7,2,   2414.6,2,   7.5909,  25,2,  -999.00,9,  -999.00,   -999.0,9,   -999.0,   1.4608,  27.7620
  49NZ20090410,   P21,    54,  1,      9, X12009,2,20090425,0203,-16.7482, -87.9990, 4544,   4000.5,2,   1.7670,2,   1.76695,2,  34.6887,2,  34.6886,2,   151.94,2,   151.77,2,   127.63,2,     0.40,    35.85,2,     0.13,     0.01,2,     0.01,    2.504,2,    0.016,    0.000,2,    0.000,2,    0.000,2,   2319.7,2,   2413.8,2,   7.5918,  25,2,  -999.00,9,  -999.00,   -999.0,9,   -999.0,   1.4405,  27.7647
  49NZ20090410,   P21,    54,  1,      8, X12008,2,20090425,0203,-16.7482, -87.9990, 4544,   4248.6,2,   1.7885,2,   1.78851,2,  34.6893,2,  34.6885,2,   152.10,2,   152.16,2,   127.35,2,     0.40,    35.85,2,     0.13,     0.01,2,     0.01,    2.502,2,    0.016,    0.000,2,    0.000,2,    0.000,2,   2319.1,6,   2413.9,2,   7.5922,  25,2,  -999.00,9,  -999.00,   -999.0,9,   -999.0,   1.4336,  27.7656
  49NZ20090410,   P21,    54,  1,      7, X12007,2,20090425,0203,-16.7482, -87.9990, 4544,   4499.9,2,   1.8114,2,   1.81141,2,  34.6894,2,  34.6893,2,   152.56,2,   152.71,2,   127.09,2,     0.40,    35.69,2,     0.13,     0.01,2,     0.01,    2.500,2,    0.016,    0.008,2,    0.002,2,    0.000,2,   2317.5,2,   2413.0,6,   7.5914,  25,2,  -999.00,9,  -999.00,   -999.0,9,   -999.0,   1.4268,  27.7662
  49NZ20090410,   P21,    54,  1,      6, X12035,9,20090425,0203,-16.7482, -87.9990, 4544,      9.1,2,  23.3449,2,  23.34504,2,  35.7847,2,-999.0000,9,   215.45,2,  -999.00,9,  -999.00,9,  -999.00,  -999.00,9,  -999.00,  -999.00,9,  -999.00, -999.000,9, -999.000, -999.000,9, -999.000,9, -999.000,9,   -999.0,9,   -999.0,9,-999.0000,-999,9,  -999.00,9,  -999.00,   -999.0,9,   -999.0,  23.3430,  24.4292
  49NZ20090410,   P21,    54,  1,      5, X12038,9,20090425,0203,-16.7482, -87.9990, 4544,     50.7,2,  22.9889,2,  22.91190,2,  35.7427,2,-999.0000,9,   217.11,2,  -999.00,9,  -999.00,9,  -999.00,  -999.00,9,  -999.00,  -999.00,9,  -999.00, -999.000,9, -999.000, -999.000,9, -999.000,9, -999.000,9,   -999.0,9,   -999.0,9,-999.0000,-999,9,  -999.00,9,  -999.00,   -999.0,9,   -999.0,  22.9785,  24.5032
  49NZ20090410,   P21,    54,  1,      4, X12034,9,20090425,0203,-16.7482, -87.9990, 4544,     99.0,2,  19.1518,2,  19.15287,2,  35.4252,2,-999.0000,9,   214.51,2,  -999.00,9,  -999.00,9,  -999.00,  -999.00,9,  -999.00,  -999.00,9,  -999.00, -999.000,9, -999.000, -999.000,9, -999.000,9, -999.000,9,   -999.0,9,   -999.0,9,-999.0000,-999,9,  -999.00,9,  -999.00,   -999.0,9,   -999.0,  19.1340,  25.3118
  49NZ20090410,   P21,    54,  1,      3, X12033,9,20090425,0203,-16.7482, -87.9990, 4544,    149.7,2,  18.1256,2,  18.13104,2,  35.2477,2,-999.0000,9,   205.08,2,  -999.00,9,  -999.00,9,  -999.00,  -999.00,9,  -999.00,  -999.00,9,  -999.00, -999.000,9, -999.000, -999.000,9, -999.000,9, -999.000,9,   -999.0,9,   -999.0,9,-999.0000,-999,9,  -999.00,9,  -999.00,   -999.0,9,   -999.0,  18.0998,  25.4371
  49NZ20090410,   P21,    54,  1,      2, X12032,9,20090425,0203,-16.7482, -87.9990, 4544,   2999.6,2,   1.7906,2,   1.79048,2,  34.6789,2,-999.0000,9,   143.95,2,  -999.00,9,  -999.00,9,  -999.00,  -999.00,9,  -999.00,  -999.00,9,  -999.00, -999.000,9, -999.000, -999.000,9, -999.000,9, -999.000,9,   -999.0,9,   -999.0,9,-999.0000,-999,9,  -999.00,9,  -999.00,   -999.0,9,   -999.0,   1.5674,  27.7476
  49NZ20090410,   P21,    54,  1,      1, X12046,2,20090425,0203,-16.7482, -87.9990, 4544,   4585.6,2,   1.8215,2,   1.82140,2,  34.6894,2,  34.6893,6,   152.54,2,   152.59,2,   126.96,2,     0.40,    35.73,2,     0.13,     0.01,2,     0.01,    2.497,2,    0.016,    0.000,2,    0.000,2,    0.000,2,   2318.3,2,   2412.9,2,   7.5919,  25,2,  -999.00,9,  -999.00,   -999.0,9,   -999.0,   1.4265,  27.7663