BOTTLE,20220818CCHSIOAMB
EXPOCODE,SECT_ID,STNNBR,CASTNO,SAMPNO,BTLNBR,BTLNBR_FLAG_W,DATE,TIME,LATITUDE,LONGITUDE,DEPTH,CTDPRS,CTDPRS_FLAG_W,CTDTMP,CTDTMP_FLAG_W,SBE35,SBE35_FLAG_W,CTDSAL,CTDSAL_FLAG_W,SALNTY,SALNTY_FLAG_W,CTDOXY,CTDOXY_FLAG_W,OXYGEN,OXYGEN_FLAG_W,SILCAT,SILCAT_FLAG_W,SILUNC,NITRAT,NITRAT_FLAG_W,NRAUNC,NITRIT,NITRIT_FLAG_W,NRIUNC,PHSPHT,PHSPHT_FLAG_W,PHPUNC,CFC-11,CFC-11_FLAG_W,CFC-12,CFC-12_FLAG_W,CFC113,CFC113_FLAG_W,TCARBN,TCARBN_FLAG_W,ALKALI,ALKALI_FLAG_W,PH_TOT,PH_TMP,PH_TOT_FLAG_W,DELC13,DELC13_FLAG_W,C13ERR,DELC14,DELC14_FLAG_W,C14ERR,THETA,SIG0
,,,,,,,,,,,METERS,DBAR,,ITS-90,,ITS-90,,PSS-78,,PSS-78,,UMOL/KG,,UMOL/KG,,UMOL/KG,,UMOL/KG,UMOL/KG,,UMOL/KG,UMOL/KG,,UMOL/KG,UMOL/KG,,UMOL/KG,PMOL/KG,,PMOL/KG,,PMOL/KG,,UMOL/KG,,UMOL/KG,,,DEG C,,/MILLE,,/MILLE,/MILLE,,/MILLE,DEG C,KG/M^3
  49NZ20090410,   P21,   143,  1,     36, X12006,2,20090515,0215,-16.7448,-141.9998, 2008,     10.4,2,  28.1840,2,  28.18369,2,  36.2826,2,  36.2816,2,   196.60,2,   197.11,2,     0.84,2,     0.12,     0.33,2,     0.03,     0.02,2,     0.01,    0.280,2,    0.014,    1.424,2,    0.944,2, -999.000,5,   -999.0,9,   -999.0,9,-999.0000,-999,9,  -999.00,9,  -999.00,   -999.0,9,   -999.0,  28.1815,  23.2998
  49NZ20090410,   P21,   143,  1,     35, X12047,2,20090515,0215,-16.7448,-141.9998, 2008,     50.0,2,  28.1896,2,  28.18981,2,  36.2799,2,  36.2792,2,   196.12,2,   197.15,2,     0.82,2,     0.12,     0.31,2,     0.03,     0.02,2,     0.01,    0.279,2,    0.014,    1.422,2,    0.936,2, -999.000,5,   -999.0,9,   -999.0,9,-999.0000,-999,9,  -999.00,9,  -999.00,   -999.0,9,   -999.0,  28.1777,  23.2990
  49NZ20090410,   P21,   143,  1,     34, X12004,2,20090515,0215,-16.7448,-141.9998, 2008,     99.4,2,  25.1358,2,  25.13434,2,  36.3847,2,  36.3842,2,   185.98,2,   186.33,2,     0.91,2,     0.12,     0.75,2,     0.03,     1.16,2,     0.00,    0.419,2,    0.013,    1.653,6,    1.070,6, -999.000,5,   -999.0,9,   -999.0,9,-999.0000,-999,9,  -999.00,9,  -999.00,   -999.0,9,   -999.0,  25.1141,  24.3532
  49NZ20090410,   P21,   143,  1,     33, X12003,2,20090515,0215,-16.7448,-141.9998, 2008,    149.7,2,  24.0705,2,  24.07225,2,  36.3407,2,  36.3427,2,   180.43,2,   180.91,2,     0.47,3,     1.34,     1.66,2,     0.53,     1.89,2,     0.02,    0.487,2,    0.044,    1.737,2,    1.119,2, -999.000,5,   -999.0,9,   -999.0,9,-999.0000,-999,9,  -999.00,9,  -999.00,   -999.0,9,   -999.0,  24.0387,  24.6452
  49NZ20090410,   P21,   143,  1,     32, X12002,2,20090515,0215,-16.7448,-141.9998, 2008,    199.4,2,  22.2552,2,  22.25918,2,  36.1341,2,  36.1303,2,   179.90,2,   180.23,2,     0.74,2,     0.12,     2.88,2,     0.04,     0.05,2,     0.01,    0.450,2,    0.013,    1.890,2,    1.189,2,    0.134,2,   -999.0,9,   -999.0,9,-999.0000,-999,9,  -999.00,9,  -999.00,   -999.0,9,   -999.0,  22.2152,  25.0190
  49NZ20090410,   P21,   143,  1,     31, X12001,2,20090515,0215,-16.7448,-141.9998, 2008,    249.3,2,  20.0674,2,  20.06755,2,  35.7377,2,  35.7441,6,   179.18,2,   179.27,2,     0.84,2,     0.12,     4.13,2,     0.04,     0.02,2,     0.01,    0.528,2,    0.013,    2.100,2,    1.307,2,    0.059,2,   -999.0,9,   -999.0,9,-999.0000,-999,9,  -999.00,9,  -999.00,   -999.0,9,   -999.0,  20.0209,  25.3190
  49NZ20090410,   P21,   143,  1,     30, X12030,2,20090515,0215,-16.7448,-141.9998, 2008,    278.4,2,  18.4400,2,  18.44806,2,  35.4411,2,  35.4309,2,   171.20,2,   171.60,2,     1.42,2,     0.12,     6.51,2,     0.05,     0.02,2,     0.01,    0.699,2,    0.013,    2.227,2,    1.344,2,    0.039,2,   -999.0,9,   -999.0,9,-999.0000,-999,9,  -999.00,9,  -999.00,   -999.0,9,   -999.0,  18.3911,  25.5126
  49NZ20090410,   P21,   143,  1,     29, X12044,2,20090515,0215,-16.7448,-141.9998, 2008,    372.6,2,  11.3098,2,  11.30541,2,  34.5839,2,  34.5828,2,   116.19,2,   116.30,2,    10.14,2,     0.14,    20.67,2,     0.09,     0.01,2,     0.01,    1.783,2,    0.015,    1.834,2,    0.983,2,    0.029,2,   -999.0,9,   -999.0,9,-999.0000,-999,9,  -999.00,9,  -999.00,   -999.0,9,   -999.0,  11.2629,  26.4037
  49NZ20090410,   P21,   143,  1,     28, X12048,2,20090515,0215,-16.7448,-141.9998, 2008,    469.0,2,   8.5193,2,   8.51804,2,  34.4797,2,  34.4789,6,   109.53,2,   109.47,2,    17.35,2,     0.16,    29.14,2,     0.11,     0.01,2,     0.01,    2.219,2,    0.016,    0.919,2,    0.475,2,    0.017,2,   -999.0,9,   -999.0,9,-999.0000,-999,9,  -999.00,9,  -999.00,   -999.0,9,   -999.0,   8.4696,  26.7940
  49NZ20090410,   P21,   143,  1,     27, X12027,2,20090515,0215,-16.7448,-141.9998, 2008,    570.0,2,   7.0693,2,   7.07147,2,  34.4667,2,  34.4662,2,   118.42,2,   118.34,2,    25.51,2,     0.18,    32.59,2,     0.12,     0.01,2,     0.01,    2.347,2,    0.016,    0.389,6,    0.204,6,    0.000,6,   -999.0,9,   -999.0,9,-999.0000,-999,9,  -999.00,9,  -999.00,   -999.0,9,   -999.0,   7.0146,  26.9967
  49NZ20090410,   P21,   143,  1,     26, X12026,2,20090515,0215,-16.7448,-141.9998, 2008,    669.7,2,   6.0514,2,   6.05079,2,  34.4801,2,  34.4799,2,   127.01,2,   127.06,2,    37.46,2,     0.20,    33.88,2,     0.13,     0.01,2,     0.01,    2.394,2,    0.016,    0.136,2,    0.075,2,    0.000,2,   -999.0,9,   -999.0,9,-999.0000,-999,9,  -999.00,9,  -999.00,   -999.0,9,   -999.0,   5.9919,  27.1429
  49NZ20090410,   P21,   143,  1,     25, X12025,2,20090515,0215,-16.7448,-141.9998, 2008,    769.4,2,   5.2393,2,   5.23935,2,  34.4826,2,  34.4822,2,   127.10,2,   127.30,2,    48.62,2,     0.23,    35.29,2,     0.13,     0.01,2,     0.01,    2.495,2,    0.016,    0.067,2,    0.036,2,    0.000,2,   -999.0,9,   -999.0,9,-999.0000,-999,9,  -999.00,9,  -999.00,   -999.0,9,   -999.0,   5.1751,  27.2447
  49NZ20090410,   P21,   143,  1,     24, X12024,2,20090515,0215,-16.7448,-141.9998, 2008,    870.0,2,   4.8668,2,   4.86709,2,  34.4919,2,  34.4918,2,   122.85,2,   123.12,2,    55.54,2,     0.24,    36.36,2,     0.13,     0.01,2,     0.01,    2.570,2,    0.016,    0.038,2,    0.020,2,    0.000,2,   -999.0,9,   -999.0,9,-999.0000,-999,9,  -999.00,9,  -999.00,   -999.0,9,   -999.0,   4.7960,  27.2957
  49NZ20090410,   P21,   143,  1,     23, X12028,2,20090515,0215,-16.7448,-141.9998, 2008,    969.6,2,   4.3290,2,   4.32909,2,  34.5086,2,  34.5088,6,   124.94,2,   125.18,2,    65.20,2,     0.26,    36.64,2,     0.14,     0.01,2,     0.01,    2.599,2,    0.016,    0.021,2,    0.013,2,    0.000,2,   -999.0,9,   -999.0,9,-999.0000,-999,9,  -999.00,9,  -999.00,   -999.0,9,   -999.0,   4.2534,  27.3686
  49NZ20090410,   P21,   143,  1,     22, X12022,2,20090515,0215,-16.7448,-141.9998, 2008,   1129.0,2,   3.7335,2,   3.73350,2,  34.5323,2,  34.5329,2,   130.24,2,   130.59,2,    76.71,2,     0.29,    36.74,2,     0.14,     0.01,2,     0.01,    2.604,2,    0.016,    0.009,2,    0.009,2,    0.000,2,   -999.0,9,   -999.0,9,-999.0000,-999,9,  -999.00,9,  -999.00,   -999.0,9,   -999.0,   3.6492,  27.4498
  49NZ20090410,   P21,   143,  1,     21, X12021,2,20090515,0215,-16.7448,-141.9998, 2008,   1330.4,2,   3.3159,2,   3.31608,2,  34.5518,2,  34.5515,2,   136.31,2,   136.55,2,    84.63,2,     0.31,    36.57,2,     0.14,     0.01,2,     0.01,    2.585,2,    0.016,    0.004,2,    0.002,2,    0.000,2,   -999.0,9,   -999.0,9,-999.0000,-999,9,  -999.00,9,  -999.00,   -999.0,9,   -999.0,   3.2188,  27.5070
  49NZ20090410,   P21,   143,  1,     20, X12020,2,20090515,0215,-16.7448,-141.9998, 2008,   1529.8,2,   2.9106,2,   2.91032,2,  34.5733,2,  34.5736,6,   143.43,2,   143.77,2,    92.44,2,     0.32,    36.20,2,     0.13,     0.01,2,     0.01,    2.558,2,    0.016,    0.004,2,    0.001,2,    0.000,2,   -999.0,9,   -999.0,9,-999.0000,-999,9,  -999.00,9,  -999.00,   -999.0,9,   -999.0,   2.8013,  27.5624
  49NZ20090410,   P21,   143,  1,     19, X12019,2,20090515,0215,-16.7448,-141.9998, 2008,   1730.9,2,   2.5340,2,   2.53402,2,  34.5997,2,  34.6001,2,   148.93,2,   149.23,2,   100.64,2,     0.34,    35.86,2,     0.13,     0.01,2,     0.01,    2.533,2,    0.016,    0.001,2,    0.000,2,    0.000,2,   -999.0,9,   -999.0,9,-999.0000,-999,9,  -999.00,9,  -999.00,   -999.0,9,   -999.0,   2.4126,  27.6172
  49NZ20090410,   P21,   143,  1,     18, X12043,2,20090515,0215,-16.7448,-141.9998, 2008,   1928.7,2,   2.2593,2,   2.25953,2,  34.6215,2,  34.6211,2,   152.55,2,   152.64,2,   106.79,2,     0.35,    35.71,2,     0.13,     0.01,2,     0.01,    2.518,2,    0.016,    0.000,2,    0.001,2,    0.000,2,   -999.0,9,   -999.0,9,-999.0000,-999,9,  -999.00,9,  -999.00,   -999.0,9,   -999.0,   2.1250,  27.6584
  49NZ20090410,   P21,   143,  1,     17, X12042,9,20090515,0215,-16.7448,-141.9998, 2008,     10.0,2,  28.1800,2,  28.18195,2,  36.2828,2,-999.0000,9,   196.59,2,  -999.00,9,  -999.00,9,  -999.00,  -999.00,9,  -999.00,  -999.00,9,  -999.00, -999.000,9, -999.000, -999.000,9, -999.000,9, -999.000,9,   -999.0,9,   -999.0,9,-999.0000,-999,9,  -999.00,9,  -999.00,   -999.0,9,   -999.0,  28.1776,  23.3013
  49NZ20090410,   P21,   143,  1,     16, X12016,9,20090515,0215,-16.7448,-141.9998, 2008,    149.6,2,  24.0745,2,  24.07420,2,  36.3411,2,-999.0000,9,   180.54,2,  -999.00,9,  -999.00,9,  -999.00,  -999.00,9,  -999.00,  -999.00,9,  -999.00, -999.000,9, -999.000, -999.000,9, -999.000,9, -999.000,9,   -999.0,9,   -999.0,9,-999.0000,-999,9,  -999.00,9,  -999.00,   -999.0,9,   -999.0,  24.0428,  24.6444
  49NZ20090410,   P21,   143,  1,     15, X12015,9,20090515,0215,-16.7448,-141.9998, 2008,    199.9,2,  22.2584,2,  22.27089,2,  36.1345,2,-999.0000,9,   180.53,2,  -999.00,9,  -999.00,9,  -999.00,  -999.00,9,  -999.00,  -999.00,9,  -999.00, -999.000,9, -999.000, -999.000,9, -999.000,9, -999.000,9,   -999.0,9,   -999.0,9,-999.0000,-999,9,  -999.00,9,  -999.00,   -999.0,9,   -999.0,  22.2183,  25.0185
  49NZ20090410,   P21,   143,  1,     14, X12050,9,20090515,0215,-16.7448,-141.9998, 2008,    249.0,2,  20.0911,2,  20.09228,2,  35.7426,2,-999.0000,9,   179.13,2,  -999.00,9,  -999.00,9,  -999.00,  -999.00,9,  -999.00,  -999.00,9,  -999.00, -999.000,9, -999.000, -999.000,9, -999.000,9, -999.000,9,   -999.0,9,   -999.0,9,-999.0000,-999,9,  -999.00,9,  -999.00,   -999.0,9,   -999.0,  20.0447,  25.3165
  49NZ20090410,   P21,   143,  1,     13, X12014,9,20090515,0215,-16.7448,-141.9998, 2008,    278.5,2,  18.4912,2,  18.49978,2,  35.4505,2,-999.0000,9,   171.30,2,  -999.00,9,  -999.00,9,  -999.00,  -999.00,9,  -999.00,  -999.00,9,  -999.00, -999.000,9, -999.000, -999.000,9, -999.000,9, -999.000,9,   -999.0,9,   -999.0,9,-999.0000,-999,9,  -999.00,9,  -999.00,   -999.0,9,   -999.0,  18.4422,  25.5070
  49NZ20090410,   P21,   143,  1,     12, X12012,9,20090515,0215,-16.7448,-141.9998, 2008,    371.8,2,  11.2893,2,  11.28754,2,  34.5838,2,-999.0000,9,   116.37,2,  -999.00,9,  -999.00,9,  -999.00,  -999.00,9,  -999.00,  -999.00,9,  -999.00, -999.000,9, -999.000, -999.000,9, -999.000,9, -999.000,9,   -999.0,9,   -999.0,9,-999.0000,-999,9,  -999.00,9,  -999.00,   -999.0,9,   -999.0,  11.2425,  26.4073
  49NZ20090410,   P21,   143,  1,     11, X12041,9,20090515,0215,-16.7448,-141.9998, 2008,    469.3,2,   8.5247,2,   8.52520,2,  34.4797,2,-999.0000,9,   109.63,2,  -999.00,9,  -999.00,9,  -999.00,  -999.00,9,  -999.00,  -999.00,9,  -999.00, -999.000,9, -999.000, -999.000,9, -999.000,9, -999.000,9,   -999.0,9,   -999.0,9,-999.0000,-999,9,  -999.00,9,  -999.00,   -999.0,9,   -999.0,   8.4749,  26.7932
  49NZ20090410,   P21,   143,  1,     10, X12040,9,20090515,0215,-16.7448,-141.9998, 2008,    570.5,2,   7.0761,2,   7.07566,2,  34.4671,2,-999.0000,9,   118.05,2,  -999.00,9,  -999.00,9,  -999.00,  -999.00,9,  -999.00,  -999.00,9,  -999.00, -999.000,9, -999.000, -999.000,9, -999.000,9, -999.000,9,   -999.0,9,   -999.0,9,-999.0000,-999,9,  -999.00,9,  -999.00,   -999.0,9,   -999.0,   7.0214,  26.9960
  49NZ20090410,   P21,   143,  1,      9, X12009,9,20090515,0215,-16.7448,-141.9998, 2008,    669.5,2,   6.0506,2,   6.05244,2,  34.4801,2,-999.0000,9,   126.98,2,  -999.00,9,  -999.00,9,  -999.00,  -999.00,9,  -999.00,  -999.00,9,  -999.00, -999.000,9, -999.000, -999.000,9, -999.000,9, -999.000,9,   -999.0,9,   -999.0,9,-999.0000,-999,9,  -999.00,9,  -999.00,   -999.0,9,   -999.0,   5.9911,  27.1430
  49NZ20090410,   P21,   143,  1,      8, X12008,9,20090515,0215,-16.7448,-141.9998, 2008,    769.5,2,   5.2399,2,   5.24002,2,  34.4827,2,-999.0000,9,   127.10,2,  -999.00,9,  -999.00,9,  -999.00,  -999.00,9,  -999.00,  -999.00,9,  -999.00, -999.000,9, -999.000, -999.000,9, -999.000,9, -999.000,9,   -999.0,9,   -999.0,9,-999.0000,-999,9,  -999.00,9,  -999.00,   -999.0,9,   -999.0,   5.1757,  27.2446
  49NZ20090410,   P21,   143,  1,      7, X12007,9,20090515,0215,-16.7448,-141.9998, 2008,    970.0,2,   4.3272,2,   4.32750,2,  34.5088,2,-999.0000,9,   124.98,2,  -999.00,9,  -999.00,9,  -999.00,  -999.00,9,  -999.00,  -999.00,9,  -999.00, -999.000,9, -999.000, -999.000,9, -999.000,9, -999.000,9,   -999.0,9,   -999.0,9,-999.0000,-999,9,  -999.00,9,  -999.00,   -999.0,9,   -999.0,   4.2516,  27.3690
  49NZ20090410,   P21,   143,  1,      6, X12035,9,20090515,0215,-16.7448,-141.9998, 2008,   1128.9,2,   3.7337,2,   3.73359,2,  34.5324,2,-999.0000,9,   130.22,2,  -999.00,9,  -999.00,9,  -999.00,  -999.00,9,  -999.00,  -999.00,9,  -999.00, -999.000,9, -999.000, -999.000,9, -999.000,9, -999.000,9,   -999.0,9,   -999.0,9,-999.0000,-999,9,  -999.00,9,  -999.00,   -999.0,9,   -999.0,   3.6495,  27.4498
  49NZ20090410,   P21,   143,  1,      5, X12038,9,20090515,0215,-16.7448,-141.9998, 2008,   1331.1,2,   3.3165,2,   3.31657,2,  34.5519,2,-999.0000,9,   136.35,2,  -999.00,9,  -999.00,9,  -999.00,  -999.00,9,  -999.00,  -999.00,9,  -999.00, -999.000,9, -999.000, -999.000,9, -999.000,9, -999.000,9,   -999.0,9,   -999.0,9,-999.0000,-999,9,  -999.00,9,  -999.00,   -999.0,9,   -999.0,   3.2193,  27.5070
  49NZ20090410,   P21,   143,  1,      4, X12034,9,20090515,0215,-16.7448,-141.9998, 2008,   1530.9,2,   2.9048,2,   2.90423,2,  34.5738,2,-999.0000,9,   143.57,2,  -999.00,9,  -999.00,9,  -999.00,  -999.00,9,  -999.00,  -999.00,9,  -999.00, -999.000,9, -999.000, -999.000,9, -999.000,9, -999.000,9,   -999.0,9,   -999.0,9,-999.0000,-999,9,  -999.00,9,  -999.00,   -999.0,9,   -999.0,   2.7955,  27.5633
  49NZ20090410,   P21,   143,  1,      3, X12033,9,20090515,0215,-16.7448,-141.9998, 2008,   1731.1,2,   2.5395,2,   2.53795,2,  34.5991,2,-999.0000,9,   148.92,2,  -999.00,9,  -999.00,9,  -999.00,  -999.00,9,  -999.00,  -999.00,9,  -999.00, -999.000,9, -999.000, -999.000,9, -999.000,9, -999.000,9,   -999.0,9,   -999.0,9,-999.0000,-999,9,  -999.00,9,  -999.00,   -999.0,9,   -999.0,   2.4180,  27.6163
  49NZ20090410,   P21,   143,  1,      2, X12032,9,20090515,0215,-16.7448,-141.9998, 2008,    869.4,2,   4.8612,2,   4.86211,2,  34.4921,2,-999.0000,9,   122.77,2,  -999.00,9,  -999.00,9,  -999.00,  -999.00,9,  -999.00,  -999.00,9,  -999.00, -999.000,9, -999.000, -999.000,9, -999.000,9, -999.000,9,   -999.0,9,   -999.0,9,-999.0000,-999,9,  -999.00,9,  -999.00,   -999.0,9,   -999.0,   4.7905,  27.2965
  49NZ20090410,   P21,   143,  1,      1, X12046,2,20090515,0215,-16.7448,-141.9998, 2008,   2021.9,2,   2.1783,2,   2.18017,2,  34.6282,2,  34.6287,6,   153.78,2,   153.79,2,   108.77,2,     0.36,    35.69,2,     0.13,     0.01,2,     0.01,    2.513,2,    0.016,    0.000,2,    0.000,2,    0.000,2,   -999.0,9,   -999.0,9,-999.0000,-999,9,  -999.00,9,  -999.00,   -999.0,9,   -999.0,   2.0373,  27.6708