BOTTLE,20220818CCHSIOAMB
EXPOCODE,SECT_ID,STNNBR,CASTNO,SAMPNO,BTLNBR,BTLNBR_FLAG_W,DATE,TIME,LATITUDE,LONGITUDE,DEPTH,CTDPRS,CTDPRS_FLAG_W,CTDTMP,CTDTMP_FLAG_W,SBE35,SBE35_FLAG_W,CTDSAL,CTDSAL_FLAG_W,SALNTY,SALNTY_FLAG_W,CTDOXY,CTDOXY_FLAG_W,OXYGEN,OXYGEN_FLAG_W,SILCAT,SILCAT_FLAG_W,SILUNC,NITRAT,NITRAT_FLAG_W,NRAUNC,NITRIT,NITRIT_FLAG_W,NRIUNC,PHSPHT,PHSPHT_FLAG_W,PHPUNC,CFC-11,CFC-11_FLAG_W,CFC-12,CFC-12_FLAG_W,CFC113,CFC113_FLAG_W,TCARBN,TCARBN_FLAG_W,ALKALI,ALKALI_FLAG_W,PH_TOT,PH_TMP,PH_TOT_FLAG_W,DELC13,DELC13_FLAG_W,C13ERR,DELC14,DELC14_FLAG_W,C14ERR,THETA,SIG0
,,,,,,,,,,,METERS,DBAR,,ITS-90,,ITS-90,,PSS-78,,PSS-78,,UMOL/KG,,UMOL/KG,,UMOL/KG,,UMOL/KG,UMOL/KG,,UMOL/KG,UMOL/KG,,UMOL/KG,UMOL/KG,,UMOL/KG,PMOL/KG,,PMOL/KG,,PMOL/KG,,UMOL/KG,,UMOL/KG,,,DEG C,,/MILLE,,/MILLE,/MILLE,,/MILLE,DEG C,KG/M^3
  49NZ20090410,   P21,    39,  1,     36, X12006,2,20090423,2228,-16.7487, -85.3238, 4582,      9.6,2,  23.0685,2,  23.06789,2,  35.5059,2,  35.5064,2,   215.32,2,   215.50,2,     0.38,2,     0.12,     0.09,2,     0.03,     0.01,2,     0.01,    0.422,2,    0.013,    1.777,2,    1.153,2, -999.000,5,   -999.0,9,   -999.0,9,-999.0000,-999,9,  -999.00,9,  -999.00,   -999.0,9,   -999.0,  23.0665,  24.2981
  49NZ20090410,   P21,    39,  1,     35, X12047,2,20090423,2228,-16.7487, -85.3238, 4582,     50.4,2,  19.5602,2,  19.56237,2,  35.2389,2,  35.2381,2,   240.53,2,   242.89,2,     0.20,2,     0.12,     0.09,2,     0.03,     0.01,2,     0.01,    0.386,2,    0.013,    2.207,2,    1.397,2, -999.000,5,   -999.0,9,   -999.0,9,-999.0000,-999,9,  -999.00,9,  -999.00,   -999.0,9,   -999.0,  19.5510,  25.0616
  49NZ20090410,   P21,    39,  1,     34, X12004,2,20090423,2228,-16.7487, -85.3238, 4582,    100.5,2,  17.7972,2,  17.79687,2,  35.1250,2,  35.1236,2,   214.68,2,   213.39,2,     0.55,2,     0.12,     2.94,2,     0.04,     0.33,2,     0.01,    0.657,2,    0.013,    2.313,6,    1.458,6,    0.230,4,   -999.0,9,   -999.0,9,-999.0000,-999,9,  -999.00,9,  -999.00,   -999.0,9,   -999.0,  17.7801,  25.4218
  49NZ20090410,   P21,    39,  1,     33, X12003,2,20090423,2228,-16.7487, -85.3238, 4582,    150.4,2,  14.7312,2,  14.73302,2,  34.7640,2,  34.7598,2,   160.22,2,   157.58,2,     4.68,2,     0.13,    15.36,2,     0.08,     0.02,2,     0.01,    1.509,2,    0.014,    2.477,2,    1.493,2,    0.134,2,   -999.0,9,   -999.0,9,-999.0000,-999,9,  -999.00,9,  -999.00,   -999.0,9,   -999.0,  14.7088,  25.8535
  49NZ20090410,   P21,    39,  1,     32, X12002,2,20090423,2228,-16.7487, -85.3238, 4582,    199.9,2,  12.5074,2,  12.50764,2,  34.7841,2,  34.7843,2,     2.63,2,     2.06,2,    24.84,2,     0.17,    17.07,2,     0.08,     0.02,2,     0.01,    2.821,2,    0.017,    1.128,2,    0.664,2,    0.038,2,   -999.0,9,   -999.0,9,-999.0000,-999,9,  -999.00,9,  -999.00,   -999.0,9,   -999.0,  12.4807,  26.3285
  49NZ20090410,   P21,    39,  1,     31, X12001,2,20090423,2228,-16.7487, -85.3238, 4582,    249.7,2,  11.4902,2,  11.49096,2,  34.7822,2,  34.7811,6,     1.62,2,     1.25,3,    26.99,2,     0.18,    22.46,2,     0.10,     1.55,2,     0.01,    2.768,2,    0.017,    0.574,2,    0.328,2,    0.008,2,   -999.0,9,   -999.0,9,-999.0000,-999,9,  -999.00,9,  -999.00,   -999.0,9,   -999.0,  11.4585,  26.5219
  49NZ20090410,   P21,    39,  1,     30, X12030,2,20090423,2228,-16.7487, -85.3238, 4582,    329.1,2,   9.7102,2,   9.71052,2,  34.6705,2,  34.6696,2,     5.36,2,     5.29,2,    27.54,2,     0.18,    34.87,2,     0.13,     0.01,2,     0.01,    2.801,2,    0.017,    0.234,2,    0.124,2,    0.011,2,   -999.0,9,   -999.0,9,-999.0000,-999,9,  -999.00,9,  -999.00,   -999.0,9,   -999.0,   9.6726,  26.7500
  49NZ20090410,   P21,    39,  1,     29, X12044,2,20090423,2228,-16.7487, -85.3238, 4582,    429.2,2,   8.3718,2,   8.37554,2,  34.6076,2,  34.6071,2,    22.33,2,    22.58,2,    31.16,2,     0.19,    38.83,2,     0.14,     0.01,2,     0.01,    2.805,2,    0.017,    0.091,2,    0.050,2,    0.000,2,   -999.0,9,   -999.0,9,-999.0000,-999,9,  -999.00,9,  -999.00,   -999.0,9,   -999.0,   8.3268,  26.9162
  49NZ20090410,   P21,    39,  1,     28, X12048,2,20090423,2228,-16.7487, -85.3238, 4582,    530.7,2,   7.3458,2,   7.34536,2,  34.5580,2,  34.5581,6,    32.15,2,    32.45,2,    36.02,2,     0.20,    40.87,2,     0.15,     0.01,2,     0.01,    2.895,2,    0.017,    0.044,2,    0.026,2,    0.000,2,   -999.0,9,   -999.0,9,-999.0000,-999,9,  -999.00,9,  -999.00,   -999.0,9,   -999.0,   7.2939,  27.0295
  49NZ20090410,   P21,    39,  1,     27, X12027,2,20090423,2228,-16.7487, -85.3238, 4582,    629.3,2,   6.3753,2,   6.37527,2,  34.5196,2,  34.5194,2,    29.13,2,    29.89,2,    44.64,2,     0.22,    43.41,2,     0.15,     0.01,2,     0.01,    3.103,2,    0.018,    0.024,6,    0.012,6,    0.000,6,   -999.0,9,   -999.0,9,-999.0000,-999,9,  -999.00,9,  -999.00,   -999.0,9,   -999.0,   6.3179,  27.1320
  49NZ20090410,   P21,    39,  1,     26, X12026,2,20090423,2228,-16.7487, -85.3238, 4582,    730.2,2,   5.6608,2,   5.66048,2,  34.5158,2,  34.5153,2,    30.61,2,    30.92,2,    55.34,2,     0.24,    44.67,2,     0.16,     0.01,2,     0.01,    3.198,2,    0.018,    0.004,2,    0.002,2,    0.000,2,   -999.0,9,   -999.0,9,-999.0000,-999,9,  -999.00,9,  -999.00,   -999.0,9,   -999.0,   5.5977,  27.2203
  49NZ20090410,   P21,    39,  1,     25, X12025,2,20090423,2228,-16.7487, -85.3238, 4582,    830.0,2,   5.1284,2,   5.12804,2,  34.5225,2,  34.5223,2,    36.66,2,    37.07,2,    65.29,2,     0.26,    44.75,2,     0.16,     0.01,2,     0.01,    3.208,2,    0.018,    0.003,2,    0.003,2,    0.000,2,   -999.0,9,   -999.0,9,-999.0000,-999,9,  -999.00,9,  -999.00,   -999.0,9,   -999.0,   5.0594,  27.2898
  49NZ20090410,   P21,    39,  1,     24, X12024,2,20090423,2228,-16.7487, -85.3238, 4582,    929.1,2,   4.6570,2,   4.65617,2,  34.5249,2,  34.5249,2,    48.61,2,    48.98,2,    72.14,2,     0.28,    43.90,2,     0.16,     0.01,2,     0.01,    3.167,2,    0.018,    0.000,2,    0.002,2,    0.000,2,   -999.0,9,   -999.0,9,-999.0000,-999,9,  -999.00,9,  -999.00,   -999.0,9,   -999.0,   4.5825,  27.3458
  49NZ20090410,   P21,    39,  1,     23, X12028,2,20090423,2228,-16.7487, -85.3238, 4582,   1070.4,2,   4.0598,2,   4.05989,2,  34.5419,2,  34.5421,6,    63.07,2,    63.19,2,    84.26,2,     0.30,    42.91,2,     0.15,     0.01,2,     0.01,    3.105,2,    0.018,    0.000,2,    0.000,2,    0.000,2,   -999.0,9,   -999.0,9,-999.0000,-999,9,  -999.00,9,  -999.00,   -999.0,9,   -999.0,   3.9777,  27.4241
  49NZ20090410,   P21,    39,  1,     22, X12022,2,20090423,2228,-16.7487, -85.3238, 4582,   1270.3,2,   3.4662,2,   3.46540,2,  34.5689,2,  34.5694,2,    74.50,2,    74.56,2,    98.77,2,     0.34,    41.92,2,     0.15,     0.01,2,     0.01,    3.049,2,    0.018,    0.001,2,    0.000,2,    0.000,2,   -999.0,9,   -999.0,9,-999.0000,-999,9,  -999.00,9,  -999.00,   -999.0,9,   -999.0,   3.3726,  27.5059
  49NZ20090410,   P21,    39,  1,     21, X12021,2,20090423,2228,-16.7487, -85.3238, 4582,   1468.5,2,   3.0133,2,   3.01323,2,  34.5900,2,  34.5907,2,    87.59,2,    87.59,2,   108.52,2,     0.36,    40.85,2,     0.15,     0.01,2,     0.01,    2.960,2,    0.017,    0.000,2,    0.000,2,    0.000,2,   -999.0,9,   -999.0,9,-999.0000,-999,9,  -999.00,9,  -999.00,   -999.0,9,   -999.0,   2.9079,  27.5662
  49NZ20090410,   P21,    39,  1,     20, X12020,2,20090423,2228,-16.7487, -85.3238, 4582,   1669.5,2,   2.6308,2,   2.63065,2,  34.6134,2,  34.6139,2,    99.86,2,    99.78,2,   117.03,2,     0.38,    39.80,2,     0.14,     0.01,2,     0.01,    2.868,2,    0.017,    0.000,2,    0.001,2,    0.000,2,   -999.0,9,   -999.0,9,-999.0000,-999,9,  -999.00,9,  -999.00,   -999.0,9,   -999.0,   2.5132,  27.6196
  49NZ20090410,   P21,    39,  1,     19, X12019,2,20090423,2228,-16.7487, -85.3238, 4582,   1869.7,2,   2.3832,2,   2.38312,2,  34.6304,2,  34.6313,2,   108.30,2,   108.18,2,   123.29,2,     0.39,    39.17,2,     0.14,     0.00,2,     0.01,    2.801,2,    0.017,    0.000,2,    0.000,2,    0.000,2,   -999.0,9,   -999.0,9,-999.0000,-999,9,  -999.00,9,  -999.00,   -999.0,9,   -999.0,   2.2521,  27.6552
  49NZ20090410,   P21,    39,  1,     18, X12043,2,20090423,2228,-16.7487, -85.3238, 4582,   2069.3,2,   2.1679,2,   2.16793,2,  34.6447,2,  34.6452,2,   120.21,2,   120.09,2,   125.49,2,     0.40,    38.08,2,     0.14,     0.01,2,     0.01,    2.715,2,    0.017,    0.000,2,    0.000,2,    0.000,2,   -999.0,9,   -999.0,9,-999.0000,-999,9,  -999.00,9,  -999.00,   -999.0,9,   -999.0,   2.0229,  27.6852
  49NZ20090410,   P21,    39,  1,     17, X12042,2,20090423,2228,-16.7487, -85.3238, 4582,   2269.9,2,   2.0065,2,   2.00647,2,  34.6569,2,  34.6573,6,   130.16,2,   130.09,2,   126.50,2,     0.40,    37.35,2,     0.14,     0.01,2,     0.01,    2.646,2,    0.017,    0.000,2,    0.000,2,    0.000,2,   -999.0,9,   -999.0,9,-999.0000,-999,9,  -999.00,9,  -999.00,   -999.0,9,   -999.0,   1.8467,  27.7088
  49NZ20090410,   P21,    39,  1,     16, X12016,2,20090423,2228,-16.7487, -85.3238, 4582,   2470.5,2,   1.8991,2,   1.89913,2,  34.6659,2,  34.6658,2,   138.03,2,   137.82,2,   126.77,2,     0.40,    36.76,2,     0.14,     0.01,2,     0.01,    2.595,2,    0.016,    0.000,2,    0.000,2,    0.000,2,   -999.0,9,   -999.0,9,-999.0000,-999,9,  -999.00,9,  -999.00,   -999.0,9,   -999.0,   1.7233,  27.7255
  49NZ20090410,   P21,    39,  1,     15, X12015,2,20090423,2228,-16.7487, -85.3238, 4582,   2669.2,2,   1.8461,2,   1.84604,2,  34.6717,2,  34.6716,2,   136.11,2,   135.86,2,   131.93,2,     0.41,    37.04,2,     0.14,     0.01,2,     0.01,    2.613,2,    0.017,    0.000,2,    0.001,2,    0.000,2,   -999.0,9,   -999.0,9,-999.0000,-999,9,  -999.00,9,  -999.00,   -999.0,9,   -999.0,   1.6531,  27.7354
  49NZ20090410,   P21,    39,  1,     14, X12050,2,20090423,2228,-16.7487, -85.3238, 4582,   2869.8,2,   1.8153,2,   1.81518,2,  34.6756,2,  34.6754,2,   139.72,2,   139.51,2,   131.73,2,     0.41,    36.61,2,     0.14,     0.00,2,     0.01,    2.576,2,    0.016,    0.000,2,    0.001,2,    0.000,2,   -999.0,9,   -999.0,9,-999.0000,-999,9,  -999.00,9,  -999.00,   -999.0,9,   -999.0,   1.6041,  27.7422
  49NZ20090410,   P21,    39,  1,     13, X12013,7,20090423,2228,-16.7487, -85.3238, 4582,   3080.2,2,   1.7966,2,   1.79659,2,  34.6789,2,  34.6792,2,   141.85,2,   141.67,2,   131.93,2,     0.41,    36.42,2,     0.13,     0.01,2,     0.01,    2.566,2,    0.016,    0.000,2,    0.000,2,    0.000,2,   -999.0,9,   -999.0,9,-999.0000,-999,9,  -999.00,9,  -999.00,   -999.0,9,   -999.0,   1.5654,  27.7477
  49NZ20090410,   P21,    39,  1,     12, X12012,2,20090423,2228,-16.7487, -85.3238, 4582,   3329.5,2,   1.7871,2,   1.78711,2,  34.6818,2,  34.6816,6,   143.27,2,   143.39,2,   132.29,2,     0.41,    36.38,2,     0.13,     0.01,2,     0.01,    2.557,2,    0.016,    0.000,2,    0.001,2,    0.000,2,   -999.0,9,   -999.0,9,-999.0000,-999,9,  -999.00,9,  -999.00,   -999.0,9,   -999.0,   1.5313,  27.7525
  49NZ20090410,   P21,    39,  1,     11, X12041,2,20090423,2228,-16.7487, -85.3238, 4582,   3579.2,2,   1.7764,2,   1.77614,2,  34.6845,2,  34.6847,2,   146.91,2,   147.04,2,   130.47,2,     0.41,    36.08,2,     0.13,     0.01,2,     0.01,    2.534,2,    0.016,    0.000,2,    0.000,2,    0.000,2,   -999.0,9,   -999.0,9,-999.0000,-999,9,  -999.00,9,  -999.00,   -999.0,9,   -999.0,   1.4950,  27.7573
  49NZ20090410,   P21,    39,  1,     10, X12040,2,20090423,2228,-16.7487, -85.3238, 4582,   3829.0,2,   1.7652,2,   1.76512,2,  34.6871,2,  34.6873,2,   150.78,2,   150.78,2,   127.97,2,     0.40,    35.73,2,     0.13,     0.01,2,     0.01,    2.509,2,    0.016,    0.000,2,    0.000,2,    0.000,2,   -999.0,9,   -999.0,9,-999.0000,-999,9,  -999.00,9,  -999.00,   -999.0,9,   -999.0,   1.4575,  27.7621
  49NZ20090410,   P21,    39,  1,      9, X12009,2,20090423,2228,-16.7487, -85.3238, 4582,   4080.5,2,   1.7691,2,   1.76906,2,  34.6889,2,  34.6891,2,   152.70,2,   152.83,2,   126.77,2,     0.40,    35.72,2,     0.13,     0.01,2,     0.01,    2.504,2,    0.016,    0.000,2,    0.000,2,    0.000,2,   -999.0,9,   -999.0,9,-999.0000,-999,9,  -999.00,9,  -999.00,   -999.0,9,   -999.0,   1.4337,  27.7654
  49NZ20090410,   P21,    39,  1,      8, X12008,2,20090423,2228,-16.7487, -85.3238, 4582,   4330.5,2,   1.7872,2,   1.78717,2,  34.6894,2,  34.6895,2,   153.03,2,   153.20,2,   126.59,2,     0.40,    35.50,2,     0.13,     0.01,2,     0.01,    2.499,2,    0.016,    0.001,2,    0.001,2,    0.000,2,   -999.0,9,   -999.0,9,-999.0000,-999,9,  -999.00,9,  -999.00,   -999.0,9,   -999.0,   1.4229,  27.7665
  49NZ20090410,   P21,    39,  1,      7, X12007,2,20090423,2228,-16.7487, -85.3238, 4582,   4578.0,2,   1.8115,2,   1.81144,2,  34.6896,2,  34.6900,2,   153.01,2,   153.27,2,   126.84,2,     0.40,    35.55,2,     0.13,     0.00,2,     0.01,    2.502,2,    0.016,    0.004,2,    0.000,2,    0.000,2,   -999.0,9,   -999.0,9,-999.0000,-999,9,  -999.00,9,  -999.00,   -999.0,9,   -999.0,   1.4177,  27.7670
  49NZ20090410,   P21,    39,  1,      6, X12035,9,20090423,2228,-16.7487, -85.3238, 4582,      9.1,2,  23.0656,2,  23.06540,2,  35.5063,2,-999.0000,9,   215.37,2,  -999.00,9,  -999.00,9,  -999.00,  -999.00,9,  -999.00,  -999.00,9,  -999.00, -999.000,9, -999.000, -999.000,9, -999.000,9, -999.000,9,   -999.0,9,   -999.0,9,-999.0000,-999,9,  -999.00,9,  -999.00,   -999.0,9,   -999.0,  23.0637,  24.2992
  49NZ20090410,   P21,    39,  1,      5, X12038,9,20090423,2228,-16.7487, -85.3238, 4582,     50.1,2,  19.5525,2,  19.55152,2,  35.2309,2,-999.0000,9,   240.56,2,  -999.00,9,  -999.00,9,  -999.00,  -999.00,9,  -999.00,  -999.00,9,  -999.00, -999.000,9, -999.000, -999.000,9, -999.000,9, -999.000,9,   -999.0,9,   -999.0,9,-999.0000,-999,9,  -999.00,9,  -999.00,   -999.0,9,   -999.0,  19.5434,  25.0575
  49NZ20090410,   P21,    39,  1,      4, X12034,9,20090423,2228,-16.7487, -85.3238, 4582,    100.4,2,  17.7935,2,  17.79305,2,  35.1252,2,-999.0000,9,   214.67,2,  -999.00,9,  -999.00,9,  -999.00,  -999.00,9,  -999.00,  -999.00,9,  -999.00, -999.000,9, -999.000, -999.000,9, -999.000,9, -999.000,9,   -999.0,9,   -999.0,9,-999.0000,-999,9,  -999.00,9,  -999.00,   -999.0,9,   -999.0,  17.7764,  25.4229
  49NZ20090410,   P21,    39,  1,      3, X12033,9,20090423,2228,-16.7487, -85.3238, 4582,   3079.6,2,   1.7966,2,   1.79650,2,  34.6788,2,-999.0000,9,   141.85,2,  -999.00,9,  -999.00,9,  -999.00,  -999.00,9,  -999.00,  -999.00,9,  -999.00, -999.000,9, -999.000, -999.000,9, -999.000,9, -999.000,9,   -999.0,9,   -999.0,9,-999.0000,-999,9,  -999.00,9,  -999.00,   -999.0,9,   -999.0,   1.5655,  27.7476
  49NZ20090410,   P21,    39,  1,      2, X12032,2,20090423,2228,-16.7487, -85.3238, 4582,   3330.1,2,   1.7871,2,   1.78712,2,  34.6817,2,  34.6820,2,   143.23,2,   143.32,2,   132.39,2,     0.41,    36.39,2,     0.13,     0.00,2,     0.01,    2.558,2,    0.016, -999.000,9, -999.000,9, -999.000,9,   -999.0,9,   -999.0,9,-999.0000,-999,9,  -999.00,9,  -999.00,   -999.0,9,   -999.0,   1.5312,  27.7525
  49NZ20090410,   P21,    39,  1,      1, X12046,2,20090423,2228,-16.7487, -85.3238, 4582,   4638.2,2,   1.8190,2,   1.81885,2,  34.6893,2,  34.6898,6,   153.08,2,   153.20,2,   126.71,2,     0.40,    35.58,2,     0.13,     0.00,2,     0.01,    2.497,2,    0.016,    0.003,2,    0.001,2,    0.000,2,   -999.0,9,   -999.0,9,-999.0000,-999,9,  -999.00,9,  -999.00,   -999.0,9,   -999.0,   1.4178,  27.7668