BOTTLE,20220818CCHSIOAMB
EXPOCODE,SECT_ID,STNNBR,CASTNO,SAMPNO,BTLNBR,BTLNBR_FLAG_W,DATE,TIME,LATITUDE,LONGITUDE,DEPTH,CTDPRS,CTDPRS_FLAG_W,CTDTMP,CTDTMP_FLAG_W,SBE35,SBE35_FLAG_W,CTDSAL,CTDSAL_FLAG_W,SALNTY,SALNTY_FLAG_W,CTDOXY,CTDOXY_FLAG_W,OXYGEN,OXYGEN_FLAG_W,SILCAT,SILCAT_FLAG_W,SILUNC,NITRAT,NITRAT_FLAG_W,NRAUNC,NITRIT,NITRIT_FLAG_W,NRIUNC,PHSPHT,PHSPHT_FLAG_W,PHPUNC,CFC-11,CFC-11_FLAG_W,CFC-12,CFC-12_FLAG_W,CFC113,CFC113_FLAG_W,TCARBN,TCARBN_FLAG_W,ALKALI,ALKALI_FLAG_W,PH_TOT,PH_TMP,PH_TOT_FLAG_W,DELC13,DELC13_FLAG_W,C13ERR,DELC14,DELC14_FLAG_W,C14ERR,THETA,SIG0
,,,,,,,,,,,METERS,DBAR,,ITS-90,,ITS-90,,PSS-78,,PSS-78,,UMOL/KG,,UMOL/KG,,UMOL/KG,,UMOL/KG,UMOL/KG,,UMOL/KG,UMOL/KG,,UMOL/KG,UMOL/KG,,UMOL/KG,PMOL/KG,,PMOL/KG,,PMOL/KG,,UMOL/KG,,UMOL/KG,,,DEG C,,/MILLE,,/MILLE,/MILLE,,/MILLE,DEG C,KG/M^3
  49NZ20090410,   P21,   141,  1,     36, X12006,2,20090514,1619,-16.7457,-140.6617, 3269,      9.8,2,  27.6334,2,  27.63345,2,  36.3860,2,  36.3855,2,   197.92,2,   198.29,2,     0.73,2,     0.12,     0.10,2,     0.03,     0.01,2,     0.01,    0.230,2,    0.015,    1.469,2,    0.958,2, -999.000,5,   2032.7,2,   2398.6,2,   8.1259,  25,6,  -999.00,9,  -999.00,   -999.0,9,   -999.0,  27.6311,  23.5581
  49NZ20090410,   P21,   141,  1,     35, X12047,2,20090514,1619,-16.7457,-140.6617, 3269,     49.4,2,  27.6367,2,  27.63576,2,  36.3843,2,  36.3852,2,   197.59,2,   198.30,2,     0.70,2,     0.12,     0.08,2,     0.03,     0.01,2,     0.01,    0.225,2,    0.015,    1.471,2,    0.962,2, -999.000,5,   2031.8,6,   2398.1,2,   8.1275,  25,2,  -999.00,9,  -999.00,   -999.0,9,   -999.0,  27.6251,  23.5587
  49NZ20090410,   P21,   141,  1,     34, X12004,2,20090514,1619,-16.7457,-140.6617, 3269,     99.0,2,  25.0721,2,  25.07096,2,  36.3693,2,  36.3718,2,   205.23,2,   206.03,2,     0.55,2,     0.12,     0.07,2,     0.03,     0.02,2,     0.01,    0.198,2,    0.016,    1.686,6,    1.083,6, -999.000,5,   2054.4,2,   2391.6,6,   8.0857,  25,2,  -999.00,9,  -999.00,   -999.0,9,   -999.0,  25.0505,  24.3611
  49NZ20090410,   P21,   141,  1,     33, X12003,2,20090514,1619,-16.7457,-140.6617, 3269,    150.3,2,  23.2287,2,  23.23176,2,  36.2148,2,  36.2167,2,   192.38,2,   192.82,2,     0.52,2,     0.12,     0.38,2,     0.03,     0.74,2,     0.00,    0.291,2,    0.014,    1.804,2,    1.141,2, -999.000,5,   2070.8,2,   2380.5,2,   8.0447,  25,6,  -999.00,9,  -999.00,   -999.0,9,   -999.0,  23.1976,  24.7979
  49NZ20090410,   P21,   141,  1,     32, X12002,2,20090514,1619,-16.7457,-140.6617, 3269,    199.2,2,  21.7121,2,  21.71326,2,  36.0044,2,  36.0039,2,   186.65,2,   186.84,2,     0.53,2,     0.12,     1.93,2,     0.04,     0.05,2,     0.01,    0.343,2,    0.014,    1.963,2,    1.217,2,    0.116,2,   2083.1,2,   2366.6,2,   8.0060,  25,2,  -999.00,9,  -999.00,   -999.0,9,   -999.0,  21.6728,  25.0729
  49NZ20090410,   P21,   141,  1,     31, X12001,2,20090514,1619,-16.7457,-140.6617, 3269,    250.2,2,  19.3064,2,  19.30873,2,  35.5816,2,  35.5853,6,   185.06,2,   185.54,2,     0.72,2,     0.12,     3.32,2,     0.04,     0.02,2,     0.01,    0.418,2,    0.013,    2.186,2,    1.308,2,    0.049,2,   2083.7,2,   2338.3,2,   7.9623,  25,2,  -999.00,9,  -999.00,   -999.0,9,   -999.0,  19.2611,  25.3986
  49NZ20090410,   P21,   141,  1,     30, X12030,2,20090514,1619,-16.7457,-140.6617, 3269,    301.1,2,  15.9033,2,  15.89469,2,  35.0577,2,  35.0999,2,   163.88,2,   164.89,2,     2.44,2,     0.12,     9.05,2,     0.06,     0.01,2,     0.01,    0.877,2,    0.013,    2.372,2,    1.373,2,    0.040,2,   2114.4,2,   2309.4,2,   7.8572,  25,2,  -999.00,9,  -999.00,   -999.0,9,   -999.0,  15.8557,  25.8250
  49NZ20090410,   P21,   141,  1,     29, X12044,2,20090514,1619,-16.7457,-140.6617, 3269,    401.0,2,  10.1967,2,  10.20243,2,  34.5408,2,  34.5421,2,    86.17,2,    86.79,2,    14.67,2,     0.15,    25.70,2,     0.10,     0.01,2,     0.01,    2.140,2,    0.015,    1.300,2,    0.682,2,    0.016,2,   2210.6,2,   2282.6,2,   7.5579,  25,2,  -999.00,9,  -999.00,   -999.0,9,   -999.0,  10.1494,  26.5678
  49NZ20090410,   P21,   141,  1,     28, X12048,2,20090514,1619,-16.7457,-140.6617, 3269,    499.0,2,   7.4076,2,   7.40576,2,  34.4465,2,  34.4461,6,   118.09,2,   118.41,2,    20.79,2,     0.16,    31.71,2,     0.12,     0.01,2,     0.01,    2.292,2,    0.016,    0.579,2,    0.300,2,    0.000,2,   2214.8,2,   2286.4,2,   7.5548,  25,2,  -999.00,9,  -999.00,   -999.0,9,   -999.0,   7.3587,  26.9325
  49NZ20090410,   P21,   141,  1,     27, X12027,2,20090514,1619,-16.7457,-140.6617, 3269,    600.4,2,   6.2323,2,   6.23259,2,  34.4602,2,  34.4602,2,   125.08,2,   125.28,2,    32.53,2,     0.19,    33.90,2,     0.13,     0.01,2,     0.01,    2.385,2,    0.016,    0.181,6,    0.102,6,    0.000,6,   2226.3,2,   2300.3,2,   7.5604,  25,2,  -999.00,9,  -999.00,   -999.0,9,   -999.0,   6.1784,  27.1033
  49NZ20090410,   P21,   141,  1,     26, X12026,2,20090514,1619,-16.7457,-140.6617, 3269,    700.1,2,   5.5565,2,   5.55654,2,  34.4774,2,  34.4770,2,   124.47,2,   124.54,2,    43.67,2,     0.22,    35.09,2,     0.13,     0.01,2,     0.01,    2.467,2,    0.016,    0.074,2,    0.040,2,    0.000,2,   2238.9,6,   2312.3,2,   7.5560,  25,2,  -999.00,9,  -999.00,   -999.0,9,   -999.0,   5.4967,  27.2021
  49NZ20090410,   P21,   141,  1,     25, X12025,2,20090514,1619,-16.7457,-140.6617, 3269,    799.6,2,   5.1356,2,   5.13555,2,  34.4867,2,  34.4866,2,   120.88,2,   121.10,2,    51.12,2,     0.23,    36.07,2,     0.13,     0.01,2,     0.01,    2.548,2,    0.016,    0.042,2,    0.024,2,    0.000,2,   2250.6,2,   2319.5,6,   7.5466,  25,2,  -999.00,9,  -999.00,   -999.0,9,   -999.0,   5.0693,  27.2603
  49NZ20090410,   P21,   141,  1,     24, X12024,2,20090514,1619,-16.7457,-140.6617, 3269,    902.4,2,   4.6718,2,   4.67202,2,  34.5005,2,  34.4994,3,   111.85,2,   112.01,2,    60.15,2,     0.25,    37.71,2,     0.14,     0.01,2,     0.01,    2.659,2,    0.017,    0.014,2,    0.006,2,    0.000,2,   2267.4,2,   2330.0,2,   7.5255,  25,6,  -999.00,9,  -999.00,   -999.0,9,   -999.0,   4.5995,  27.3246
  49NZ20090410,   P21,   141,  1,     23, X12028,2,20090514,1619,-16.7457,-140.6617, 3269,   1001.3,2,   4.3531,2,   4.35288,2,  34.5114,2,  34.5113,6,   114.22,2,   114.35,2,    66.70,2,     0.27,    37.78,2,     0.14,     0.01,2,     0.01,    2.678,2,    0.017,    0.010,2,    0.004,2,    0.000,2,   2273.8,2,   2335.0,2,   7.5277,  25,2,  -999.00,9,  -999.00,   -999.0,9,   -999.0,   4.2746,  27.3685
  49NZ20090410,   P21,   141,  1,     22, X12022,2,20090514,1619,-16.7457,-140.6617, 3269,   1202.1,2,   3.6334,2,   3.63365,2,  34.5384,2,  34.5388,2,   128.40,2,   128.62,2,    79.48,2,     0.29,    36.88,2,     0.14,     0.01,2,     0.01,    2.614,2,    0.017,    0.004,2,    0.004,2,    0.000,2,   2280.3,2,   2350.7,2,   7.5485,  25,2,  -999.00,9,  -999.00,   -999.0,9,   -999.0,   3.5439,  27.4650
  49NZ20090410,   P21,   141,  1,     21, X12021,2,20090514,1619,-16.7457,-140.6617, 3269,   1401.3,2,   3.0694,2,   3.06944,2,  34.5668,2,  34.5667,2,   134.46,2,   134.53,2,    90.85,2,     0.32,    36.96,2,     0.14,     0.01,2,     0.01,    2.604,2,    0.016,    0.003,2,    0.002,2,    0.000,2,   2291.7,2,   2362.8,2,   7.5554,  25,2,  -999.00,9,  -999.00,   -999.0,9,   -999.0,   2.9690,  27.5421
  49NZ20090410,   P21,   141,  1,     20, X12020,2,20090514,1619,-16.7457,-140.6617, 3269,   1600.7,2,   2.7004,2,   2.70049,2,  34.5892,2,  34.5891,2,   139.97,2,   140.26,2,    98.60,2,     0.34,    36.55,2,     0.14,     0.01,2,     0.01,    2.578,2,    0.016,    0.000,2,    0.001,2,    0.000,2,   2295.9,2,   2370.9,2,   7.5638,  25,2,  -999.00,9,  -999.00,   -999.0,9,   -999.0,   2.5877,  27.5939
  49NZ20090410,   P21,   141,  1,     19, X12019,2,20090514,1619,-16.7457,-140.6617, 3269,   1799.0,2,   2.3893,2,   2.38949,2,  34.6095,2,  34.6094,6,   148.59,2,   148.94,2,   104.16,2,     0.35,    35.98,2,     0.13,     0.01,2,     0.01,    2.527,2,    0.016,    0.000,2,    0.001,2,    0.000,2,   2296.3,2,   2378.3,2,   7.5774,  25,2,  -999.00,9,  -999.00,   -999.0,9,   -999.0,   2.2641,  27.6375
  49NZ20090410,   P21,   141,  1,     18, X12043,2,20090514,1619,-16.7457,-140.6617, 3269,   2000.2,2,   2.1305,2,   2.13048,2,  34.6317,2,  34.6321,2,   152.87,2,   153.22,2,   110.22,2,     0.36,    35.68,2,     0.13,     0.01,2,     0.01,    2.504,2,    0.016,    0.000,2,    0.001,2,    0.000,2,   2300.1,2,   2384.7,2,   7.5846,  25,2,  -999.00,9,  -999.00,   -999.0,9,   -999.0,   1.9921,  27.6772
  49NZ20090410,   P21,   141,  1,     17, X12042,2,20090514,1619,-16.7457,-140.6617, 3269,   2201.6,2,   1.9864,2,   1.98650,2,  34.6455,2,  34.6456,2,   155.18,2,   155.45,2,   113.90,2,     0.37,    35.64,2,     0.13,     0.01,2,     0.01,    2.501,2,    0.016,    0.000,2,    0.000,2,    0.000,2,   2302.6,2,   2388.4,2,   7.5884,  25,2,  -999.00,9,  -999.00,   -999.0,9,   -999.0,   1.8329,  27.7007
  49NZ20090410,   P21,   141,  1,     16, X12016,2,20090514,1619,-16.7457,-140.6617, 3269,   2400.3,2,   1.8701,2,   1.87035,2,  34.6562,2,  34.6561,2,   158.14,2,   158.43,2,   116.24,2,     0.37,    35.27,2,     0.13,     0.01,2,     0.01,    2.467,2,    0.016,    0.001,2,    0.000,2,    0.000,2,   2304.0,6,   2391.7,2,   7.5931,  25,2,  -999.00,9,  -999.00,   -999.0,9,   -999.0,   1.7012,  27.7193
  49NZ20090410,   P21,   141,  1,     15, X12015,2,20090514,1619,-16.7457,-140.6617, 3269,   2599.8,2,   1.7966,2,   1.79670,2,  34.6631,2,  34.6628,6,   160.80,2,   161.06,2,   117.86,2,     0.38,    35.31,2,     0.13,     0.01,2,     0.01,    2.463,2,    0.016,    0.001,2,    0.000,2,    0.000,2,   2304.9,2,   2392.4,6,   7.5968,  25,2,  -999.00,9,  -999.00,   -999.0,9,   -999.0,   1.6110,  27.7316
  49NZ20090410,   P21,   141,  1,     14, X12050,2,20090514,1619,-16.7457,-140.6617, 3269,   2798.2,2,   1.7257,2,   1.72593,2,  34.6698,2,  34.6692,2,   163.49,2,   163.80,2,   119.02,2,     0.38,    35.10,2,     0.13,     0.01,2,     0.01,    2.449,2,    0.016,    0.000,2,    0.000,2,    0.000,2,   2305.4,2,   2393.3,2,   7.5998,  25,6,  -999.00,9,  -999.00,   -999.0,9,   -999.0,   1.5232,  27.7435
  49NZ20090410,   P21,   141,  1,     13, X12013,7,20090514,1619,-16.7457,-140.6617, 3269,   3000.7,2,   1.6827,2,   1.68257,2,  34.6740,2,  34.6742,2,   165.55,2,   165.82,2,   119.61,2,     0.38,    34.95,2,     0.13,     0.00,2,     0.01,    2.437,2,    0.016,    0.000,2,    0.001,2,    0.000,2,   2302.4,2,   2393.4,2,   7.6032,  25,2,  -999.00,9,  -999.00,   -999.0,9,   -999.0,   1.4618,  27.7514
  49NZ20090410,   P21,   141,  1,     12, X12012,2,20090514,1619,-16.7457,-140.6617, 3269,   3249.9,2,   1.6781,2,   1.67814,2,  34.6761,2,  34.6758,2,   166.60,2,   166.86,2,   119.90,2,     0.38,    34.88,2,     0.13,     0.01,2,     0.01,    2.437,2,    0.016,    0.000,2,    0.000,2,    0.000,2,   2302.4,2,   2393.0,2,   7.6036,  25,2,  -999.00,9,  -999.00,   -999.0,9,   -999.0,   1.4329,  27.7551
  49NZ20090410,   P21,   141,  1,     11, X12041,9,20090514,1619,-16.7457,-140.6617, 3269,    901.4,2,   4.6791,2,   4.67756,2,  34.5000,2,-999.0000,9,   111.95,2,  -999.00,9,  -999.00,9,  -999.00,  -999.00,9,  -999.00,  -999.00,9,  -999.00, -999.000,9, -999.000, -999.000,9, -999.000,9, -999.000,9,   -999.0,9,   -999.0,9,-999.0000,-999,9,  -999.00,9,  -999.00,   -999.0,9,   -999.0,   4.6069,  27.3233
  49NZ20090410,   P21,   141,  1,     10, X12040,9,20090514,1619,-16.7457,-140.6617, 3269,      9.6,2,  27.6324,2,  27.63240,2,  36.3861,2,-999.0000,9,   198.01,2,  -999.00,9,  -999.00,9,  -999.00,  -999.00,9,  -999.00,  -999.00,9,  -999.00, -999.000,9, -999.000, -999.000,9, -999.000,9, -999.000,9,   -999.0,9,   -999.0,9,-999.0000,-999,9,  -999.00,9,  -999.00,   -999.0,9,   -999.0,  27.6302,  23.5584
  49NZ20090410,   P21,   141,  1,      9, X12009,9,20090514,1619,-16.7457,-140.6617, 3269,     49.4,2,  27.6360,2,  27.63477,2,  36.3850,2,-999.0000,9,   197.71,2,  -999.00,9,  -999.00,9,  -999.00,  -999.00,9,  -999.00,  -999.00,9,  -999.00, -999.000,9, -999.000, -999.000,9, -999.000,9, -999.000,9,   -999.0,9,   -999.0,9,-999.0000,-999,9,  -999.00,9,  -999.00,   -999.0,9,   -999.0,  27.6244,  23.5595
  49NZ20090410,   P21,   141,  1,      8, X12008,9,20090514,1619,-16.7457,-140.6617, 3269,     99.3,2,  25.0730,2,  25.07391,2,  36.3692,2,-999.0000,9,   205.38,2,  -999.00,9,  -999.00,9,  -999.00,  -999.00,9,  -999.00,  -999.00,9,  -999.00, -999.000,9, -999.000, -999.000,9, -999.000,9, -999.000,9,   -999.0,9,   -999.0,9,-999.0000,-999,9,  -999.00,9,  -999.00,   -999.0,9,   -999.0,  25.0513,  24.3607
  49NZ20090410,   P21,   141,  1,      7, X12007,9,20090514,1619,-16.7457,-140.6617, 3269,    150.2,2,  23.2162,2,  23.20872,2,  36.2118,2,-999.0000,9,   192.58,2,  -999.00,9,  -999.00,9,  -999.00,  -999.00,9,  -999.00,  -999.00,9,  -999.00, -999.000,9, -999.000, -999.000,9, -999.000,9, -999.000,9,   -999.0,9,   -999.0,9,-999.0000,-999,9,  -999.00,9,  -999.00,   -999.0,9,   -999.0,  23.1852,  24.7992
  49NZ20090410,   P21,   141,  1,      6, X12035,9,20090514,1619,-16.7457,-140.6617, 3269,    198.4,2,  21.7167,2,  21.71558,2,  36.0061,2,-999.0000,9,   186.68,2,  -999.00,9,  -999.00,9,  -999.00,  -999.00,9,  -999.00,  -999.00,9,  -999.00, -999.000,9, -999.000, -999.000,9, -999.000,9, -999.000,9,   -999.0,9,   -999.0,9,-999.0000,-999,9,  -999.00,9,  -999.00,   -999.0,9,   -999.0,  21.6776,  25.0729
  49NZ20090410,   P21,   141,  1,      5, X12038,9,20090514,1619,-16.7457,-140.6617, 3269,    249.7,2,  19.3067,2,  19.30412,2,  35.5817,2,-999.0000,9,   185.26,2,  -999.00,9,  -999.00,9,  -999.00,  -999.00,9,  -999.00,  -999.00,9,  -999.00, -999.000,9, -999.000, -999.000,9, -999.000,9, -999.000,9,   -999.0,9,   -999.0,9,-999.0000,-999,9,  -999.00,9,  -999.00,   -999.0,9,   -999.0,  19.2615,  25.3986
  49NZ20090410,   P21,   141,  1,      4, X12034,9,20090514,1619,-16.7457,-140.6617, 3269,    301.6,2,  15.8419,2,  15.85884,2,  35.0468,2,-999.0000,9,   160.73,2,  -999.00,9,  -999.00,9,  -999.00,  -999.00,9,  -999.00,  -999.00,9,  -999.00, -999.000,9, -999.000, -999.000,9, -999.000,9, -999.000,9,   -999.0,9,   -999.0,9,-999.0000,-999,9,  -999.00,9,  -999.00,   -999.0,9,   -999.0,  15.7943,  25.8305
  49NZ20090410,   P21,   141,  1,      3, X12033,9,20090514,1619,-16.7457,-140.6617, 3269,    400.7,2,  10.2124,2,  10.22005,2,  34.5418,2,-999.0000,9,    85.94,2,  -999.00,9,  -999.00,9,  -999.00,  -999.00,9,  -999.00,  -999.00,9,  -999.00, -999.000,9, -999.000, -999.000,9, -999.000,9, -999.000,9,   -999.0,9,   -999.0,9,-999.0000,-999,9,  -999.00,9,  -999.00,   -999.0,9,   -999.0,  10.1651,  26.5659
  49NZ20090410,   P21,   141,  1,      2, X12032,9,20090514,1619,-16.7457,-140.6617, 3269,    499.8,2,   7.3552,2,   7.35682,2,  34.4450,2,-999.0000,9,   119.32,2,  -999.00,9,  -999.00,9,  -999.00,  -999.00,9,  -999.00,  -999.00,9,  -999.00, -999.000,9, -999.000, -999.000,9, -999.000,9, -999.000,9,   -999.0,9,   -999.0,9,-999.0000,-999,9,  -999.00,9,  -999.00,   -999.0,9,   -999.0,   7.3065,  26.9387
  49NZ20090410,   P21,   141,  1,      1, X12046,2,20090514,1619,-16.7457,-140.6617, 3269,   3304.7,2,   1.6836,2,   1.68345,2,  34.6760,2,  34.6760,6,   166.67,2,   166.88,2,   119.99,2,     0.38,    34.93,2,     0.13,     0.01,2,     0.01,    2.442,2,    0.016,    0.000,2,    0.000,2,    0.000,2,   2301.7,2,   2393.1,2,   7.6042,  25,2,  -999.00,9,  -999.00,   -999.0,9,   -999.0,   1.4328,  27.7551