BOTTLE,20220818CCHSIOAMB
EXPOCODE,SECT_ID,STNNBR,CASTNO,SAMPNO,BTLNBR,BTLNBR_FLAG_W,DATE,TIME,LATITUDE,LONGITUDE,DEPTH,CTDPRS,CTDPRS_FLAG_W,CTDTMP,CTDTMP_FLAG_W,SBE35,SBE35_FLAG_W,CTDSAL,CTDSAL_FLAG_W,SALNTY,SALNTY_FLAG_W,CTDOXY,CTDOXY_FLAG_W,OXYGEN,OXYGEN_FLAG_W,SILCAT,SILCAT_FLAG_W,SILUNC,NITRAT,NITRAT_FLAG_W,NRAUNC,NITRIT,NITRIT_FLAG_W,NRIUNC,PHSPHT,PHSPHT_FLAG_W,PHPUNC,CFC-11,CFC-11_FLAG_W,CFC-12,CFC-12_FLAG_W,CFC113,CFC113_FLAG_W,TCARBN,TCARBN_FLAG_W,ALKALI,ALKALI_FLAG_W,PH_TOT,PH_TMP,PH_TOT_FLAG_W,DELC13,DELC13_FLAG_W,C13ERR,DELC14,DELC14_FLAG_W,C14ERR,THETA,SIG0
,,,,,,,,,,,METERS,DBAR,,ITS-90,,ITS-90,,PSS-78,,PSS-78,,UMOL/KG,,UMOL/KG,,UMOL/KG,,UMOL/KG,UMOL/KG,,UMOL/KG,UMOL/KG,,UMOL/KG,UMOL/KG,,UMOL/KG,PMOL/KG,,PMOL/KG,,PMOL/KG,,UMOL/KG,,UMOL/KG,,,DEG C,,/MILLE,,/MILLE,/MILLE,,/MILLE,DEG C,KG/M^3
  49NZ20090410,   P21,    74,  1,     36, X12006,2,20090430,0748,-16.7473,-101.3333, 3667,     10.1,2,  24.6155,2,  24.61522,2,  35.9831,2,  35.9833,2,   210.45,2,   209.84,2,     0.78,2,     0.12,     0.08,2,     0.03,     0.01,2,     0.01,    0.368,2,    0.014,    1.298,4,    0.897,4,    0.165,4,   -999.0,9,   -999.0,9,-999.0000,-999,9,  -999.00,9,  -999.00,   -999.0,9,   -999.0,  24.6133,  24.2019
  49NZ20090410,   P21,    74,  1,     35, X12047,2,20090430,0748,-16.7473,-101.3333, 3667,     50.1,2,  24.5223,2,  24.52137,2,  35.9783,2,  35.9902,2,   210.06,2,   209.91,2,     0.76,2,     0.12,     0.06,2,     0.03,     0.01,2,     0.01,    0.372,2,    0.014, -999.000,5, -999.000,5, -999.000,5,   -999.0,9,   -999.0,9,-999.0000,-999,9,  -999.00,9,  -999.00,   -999.0,9,   -999.0,  24.5116,  24.2290
  49NZ20090410,   P21,    74,  1,     34, X12004,2,20090430,0748,-16.7473,-101.3333, 3667,     99.9,2,  21.2660,2,  21.28472,2,  35.8435,2,  35.8412,2,   213.63,2,   213.83,2,     0.58,2,     0.12,     0.17,2,     0.03,     0.30,2,     0.01,    0.424,2,    0.013,    1.973,2,    1.228,2, -999.000,5,   -999.0,9,   -999.0,9,-999.0000,-999,9,  -999.00,9,  -999.00,   -999.0,9,   -999.0,  21.2466,  25.0686
  49NZ20090410,   P21,    74,  1,     33, X12003,2,20090430,0748,-16.7473,-101.3333, 3667,    150.4,2,  19.7519,2,  19.75706,2,  35.6431,2,  35.6472,2,   207.01,2,   208.05,2,     0.51,2,     0.12,     1.37,2,     0.04,     0.30,2,     0.01,    0.416,2,    0.013,    2.115,2,    1.294,2, -999.000,5,   -999.0,9,   -999.0,9,-999.0000,-999,9,  -999.00,9,  -999.00,   -999.0,9,   -999.0,  19.7243,  25.3251
  49NZ20090410,   P21,    74,  1,     32, X12002,2,20090430,0748,-16.7473,-101.3333, 3667,    199.7,2,  17.3316,2,  17.33146,2,  35.1714,2,  35.1652,2,   200.25,2,   201.18,2,     0.93,2,     0.12,     5.00,2,     0.05,     0.03,2,     0.01,    0.625,2,    0.013,    2.385,2,    1.430,2,    0.138,2,   -999.0,9,   -999.0,9,-999.0000,-999,9,  -999.00,9,  -999.00,   -999.0,9,   -999.0,  17.2982,  25.5745
  49NZ20090410,   P21,    74,  1,     31, X12001,2,20090430,0748,-16.7473,-101.3333, 3667,    251.8,2,  13.7126,2,  13.71501,2,  34.6632,2,  34.6561,6,   162.60,2,   158.92,2,     4.19,2,     0.13,    13.46,2,     0.07,     0.02,2,     0.01,    1.252,2,    0.013,    2.593,2,    1.474,2,    0.082,2,   -999.0,9,   -999.0,9,-999.0000,-999,9,  -999.00,9,  -999.00,   -999.0,9,   -999.0,  13.6768,  25.9942
  49NZ20090410,   P21,    74,  1,     30, X12030,2,20090430,0748,-16.7473,-101.3333, 3667,    279.7,2,  12.1251,2,  12.12436,2,  34.5536,2,  34.5568,2,    85.51,2,    82.51,2,    12.01,2,     0.15,    20.68,2,     0.09,     0.01,2,     0.01,    2.056,2,    0.015,    2.079,2,    1.146,2,    0.051,2,   -999.0,9,   -999.0,9,-999.0000,-999,9,  -999.00,9,  -999.00,   -999.0,9,   -999.0,  12.0884,  26.2254
  49NZ20090410,   P21,    74,  1,     29, X12044,2,20090430,0748,-16.7473,-101.3333, 3667,    371.4,2,   9.8768,2,   9.87705,2,  34.6311,2,  34.6298,2,    13.94,2,    13.29,2,    24.74,2,     0.17,    32.45,2,     0.12,     0.01,2,     0.01,    2.767,2,    0.017,    0.519,2,    0.270,2,    0.012,2,   -999.0,9,   -999.0,9,-999.0000,-999,9,  -999.00,9,  -999.00,   -999.0,9,   -999.0,   9.8338,  26.6920
  49NZ20090410,   P21,    74,  1,     28, X12048,2,20090430,0748,-16.7473,-101.3333, 3667,    469.7,2,   8.1459,2,   8.14664,2,  34.5588,2,  34.5577,6,    30.01,2,    30.10,2,    28.86,2,     0.18,    38.46,2,     0.14,     0.01,2,     0.01,    2.821,2,    0.017,    0.233,2,    0.118,2,    0.007,2,   -999.0,9,   -999.0,9,-999.0000,-999,9,  -999.00,9,  -999.00,   -999.0,9,   -999.0,   8.0973,  26.9128
  49NZ20090410,   P21,    74,  1,     27, X12027,2,20090430,0748,-16.7473,-101.3333, 3667,    569.4,2,   6.8053,2,   6.80424,2,  34.4985,2,  34.4981,2,    54.08,2,    54.45,2,    33.67,2,     0.19,    39.83,2,     0.14,     0.01,2,     0.01,    2.843,2,    0.017,    0.131,6,    0.069,6,    0.000,6,   -999.0,9,   -999.0,9,-999.0000,-999,9,  -999.00,9,  -999.00,   -999.0,9,   -999.0,   6.7518,  27.0577
  49NZ20090410,   P21,    74,  1,     26, X12026,2,20090430,0748,-16.7473,-101.3333, 3667,    670.0,2,   6.0418,2,   6.04185,2,  34.4925,2,  34.4925,2,    52.09,2,    52.25,2,    42.94,2,     0.21,    41.93,2,     0.15,     0.01,2,     0.01,    2.969,2,    0.017,    0.025,2,    0.012,2,    0.000,2,   -999.0,9,   -999.0,9,-999.0000,-999,9,  -999.00,9,  -999.00,   -999.0,9,   -999.0,   5.9823,  27.1539
  49NZ20090410,   P21,    74,  1,     25, X12025,2,20090430,0748,-16.7473,-101.3333, 3667,    769.9,2,   5.4769,2,   5.47841,2,  34.4943,2,  34.4950,2,    51.71,2,    51.96,2,    52.00,2,     0.23,    43.01,2,     0.15,     0.01,2,     0.01,    3.057,2,    0.018,    0.006,2,    0.003,2,    0.000,2,   -999.0,9,   -999.0,9,-999.0000,-999,9,  -999.00,9,  -999.00,   -999.0,9,   -999.0,   5.4112,  27.2258
  49NZ20090410,   P21,    74,  1,     24, X12024,2,20090430,0748,-16.7473,-101.3333, 3667,    868.7,2,   4.9590,2,   4.96202,2,  34.5058,2,  34.5058,2,    55.45,2,    55.71,2,    61.82,2,     0.26,    43.24,2,     0.15,     0.01,2,     0.01,    3.092,2,    0.018,    0.003,2,    0.000,2,    0.000,2,   -999.0,9,   -999.0,9,-999.0000,-999,9,  -999.00,9,  -999.00,   -999.0,9,   -999.0,   4.8877,  27.2964
  49NZ20090410,   P21,    74,  1,     23, X12028,2,20090430,0748,-16.7473,-101.3333, 3667,    969.8,2,   4.5868,2,   4.58552,2,  34.5175,2,  34.5172,6,    60.65,2,    60.50,2,    69.96,2,     0.27,    43.09,2,     0.15,     0.01,2,     0.01,    3.085,2,    0.018,    0.001,2,    0.000,2,    0.000,2,   -999.0,9,   -999.0,9,-999.0000,-999,9,  -999.00,9,  -999.00,   -999.0,9,   -999.0,   4.5093,  27.3480
  49NZ20090410,   P21,    74,  1,     22, X12022,2,20090430,0748,-16.7473,-101.3333, 3667,   1129.2,2,   3.9728,2,   3.97271,2,  34.5417,2,  34.5426,2,    70.74,2,    70.74,2,    84.28,2,     0.30,    42.31,2,     0.15,     0.01,2,     0.01,    3.057,2,    0.018,    0.001,2,    0.001,2,    0.000,2,   -999.0,9,   -999.0,9,-999.0000,-999,9,  -999.00,9,  -999.00,   -999.0,9,   -999.0,   3.8864,  27.4333
  49NZ20090410,   P21,    74,  1,     21, X12021,2,20090430,0748,-16.7473,-101.3333, 3667,   1330.8,2,   3.4115,2,   3.41146,2,  34.5664,2,  34.5667,2,    83.02,2,    83.01,2,    96.78,2,     0.33,    41.26,2,     0.15,     0.01,2,     0.01,    2.991,2,    0.017,    0.001,2,    0.000,2,    0.000,2,   -999.0,9,   -999.0,9,-999.0000,-999,9,  -999.00,9,  -999.00,   -999.0,9,   -999.0,   3.3134,  27.5096
  49NZ20090410,   P21,    74,  1,     20, X12020,2,20090430,0748,-16.7473,-101.3333, 3667,   1531.6,2,   2.9293,2,   2.92922,2,  34.5933,2,  34.5938,2,    93.38,2,    93.42,2,   108.63,2,     0.36,    40.33,2,     0.15,     0.01,2,     0.01,    2.922,2,    0.017,    0.001,2,    0.000,2,    0.000,2,   -999.0,9,   -999.0,9,-999.0000,-999,9,  -999.00,9,  -999.00,   -999.0,9,   -999.0,   2.8196,  27.5768
  49NZ20090410,   P21,    74,  1,     19, X12019,2,20090430,0748,-16.7473,-101.3333, 3667,   1731.8,2,   2.5728,2,   2.57286,2,  34.6160,2,  34.6170,6,   105.91,2,   106.13,2,   116.00,2,     0.37,    39.16,2,     0.14,     0.01,2,     0.01,    2.812,2,    0.017,    0.001,2,    0.001,2,    0.000,2,   -999.0,9,   -999.0,9,-999.0000,-999,9,  -999.00,9,  -999.00,   -999.0,9,   -999.0,   2.4508,  27.6271
  49NZ20090410,   P21,    74,  1,     18, X12043,2,20090430,0748,-16.7473,-101.3333, 3667,   1929.1,2,   2.2865,2,   2.28633,2,  34.6340,2,  34.6346,2,   121.50,2,   121.50,2,   119.54,2,     0.38,    38.07,2,     0.14,     0.01,2,     0.01,    2.712,2,    0.017,    0.000,2,    0.000,2,    0.000,2,   -999.0,9,   -999.0,9,-999.0000,-999,9,  -999.00,9,  -999.00,   -999.0,9,   -999.0,   2.1518,  27.6663
  49NZ20090410,   P21,    74,  1,     17, X12042,2,20090430,0748,-16.7473,-101.3333, 3667,   2131.0,2,   2.0586,2,   2.05838,2,  34.6484,2,  34.6491,2,   139.57,2,   139.57,2,   118.05,2,     0.38,    36.56,2,     0.14,     0.01,2,     0.01,    2.576,2,    0.016, -999.000,9, -999.000,9, -999.000,9,   -999.0,9,   -999.0,9,-999.0000,-999,9,  -999.00,9,  -999.00,   -999.0,9,   -999.0,   1.9100,  27.6971
  49NZ20090410,   P21,    74,  1,     16, X12016,2,20090430,0748,-16.7473,-101.3333, 3667,   2331.9,2,   1.9185,2,   1.91842,2,  34.6606,2,  34.6610,2,   149.22,2,   149.28,2,   118.65,2,     0.38,    35.84,2,     0.13,     0.01,2,     0.01,    2.513,2,    0.016, -999.000,9, -999.000,9, -999.000,9,   -999.0,9,   -999.0,9,-999.0000,-999,9,  -999.00,9,  -999.00,   -999.0,9,   -999.0,   1.7547,  27.7188
  49NZ20090410,   P21,    74,  1,     15, X12015,2,20090430,0748,-16.7473,-101.3333, 3667,   2529.7,2,   1.8415,2,   1.84154,2,  34.6700,2,  34.6704,2,   152.31,2,   152.26,2,   120.91,2,     0.39,    35.57,2,     0.13,     0.01,2,     0.01,    2.499,2,    0.016,    0.001,2,    0.000,2,    0.000,2,   -999.0,9,   -999.0,9,-999.0000,-999,9,  -999.00,9,  -999.00,   -999.0,9,   -999.0,   1.6614,  27.7334
  49NZ20090410,   P21,    74,  1,     14, X12050,2,20090430,0748,-16.7473,-101.3333, 3667,   2729.9,2,   1.8124,2,   1.81224,2,  34.6765,2,  34.6765,6,   149.74,2,   149.64,2,   126.00,2,     0.40,    35.83,2,     0.13,     0.01,2,     0.01,    2.517,2,    0.016, -999.000,9, -999.000,9, -999.000,9,   -999.0,9,   -999.0,9,-999.0000,-999,9,  -999.00,9,  -999.00,   -999.0,9,   -999.0,   1.6144,  27.7421
  49NZ20090410,   P21,    74,  1,     13, X12013,7,20090430,0748,-16.7473,-101.3333, 3667,   2929.8,2,   1.8052,2,   1.80509,2,  34.6786,2,  34.6796,2,   146.67,2,   146.53,2,   129.66,2,     0.40,    36.11,2,     0.13,     0.01,2,     0.01,    2.538,2,    0.016, -999.000,9, -999.000,9, -999.000,9,   -999.0,9,   -999.0,9,-999.0000,-999,9,  -999.00,9,  -999.00,   -999.0,9,   -999.0,   1.5885,  27.7458
  49NZ20090410,   P21,    74,  1,     12, X12012,2,20090430,0748,-16.7473,-101.3333, 3667,   3170.7,2,   1.8010,2,   1.80090,2,  34.6799,2,  34.6798,2,   144.44,2,   144.50,2,   132.68,2,     0.41,    36.39,2,     0.13,     0.01,2,     0.01,    2.553,2,    0.016,    0.000,2,    0.000,2,    0.000,2,   -999.0,9,   -999.0,9,-999.0000,-999,9,  -999.00,9,  -999.00,   -999.0,9,   -999.0,   1.5608,  27.7488
  49NZ20090410,   P21,    74,  1,     11, X12041,2,20090430,0748,-16.7473,-101.3333, 3667,   3420.1,2,   1.8084,2,   1.80824,2,  34.6818,2,  34.6821,2,   145.75,2,   145.59,2,   131.62,2,     0.41,    36.30,2,     0.13,     0.01,2,     0.01,    2.542,2,    0.016,    0.000,2,    0.000,2,    0.000,2,   -999.0,9,   -999.0,9,-999.0000,-999,9,  -999.00,9,  -999.00,   -999.0,9,   -999.0,   1.5428,  27.7517
  49NZ20090410,   P21,    74,  1,     10, X12040,2,20090430,0748,-16.7473,-101.3333, 3667,   3668.8,2,   1.8257,2,   1.82559,2,  34.6833,2,  34.6835,2,   147.17,2,   147.17,2,   130.24,2,     0.41,    36.14,2,     0.13,     0.01,2,     0.01,    2.535,2,    0.016,    0.000,2,    0.000,2,    0.000,2,   -999.0,9,   -999.0,9,-999.0000,-999,9,  -999.00,9,  -999.00,   -999.0,9,   -999.0,   1.5336,  27.7535
  49NZ20090410,   P21,    74,  1,      9, X12009,9,20090430,0748,-16.7473,-101.3333, 3667,     10.4,2,  24.6166,2,  24.61682,2,  35.9831,2,-999.0000,9,   210.47,2,  -999.00,9,  -999.00,9,  -999.00,  -999.00,9,  -999.00,  -999.00,9,  -999.00, -999.000,9, -999.000, -999.000,9, -999.000,9, -999.000,9,   -999.0,9,   -999.0,9,-999.0000,-999,9,  -999.00,9,  -999.00,   -999.0,9,   -999.0,  24.6144,  24.2016
  49NZ20090410,   P21,    74,  1,      8, X12008,9,20090430,0748,-16.7473,-101.3333, 3667,   1928.8,2,   2.2850,2,   2.28514,2,  34.6340,2,-999.0000,9,   121.52,2,  -999.00,9,  -999.00,9,  -999.00,  -999.00,9,  -999.00,  -999.00,9,  -999.00, -999.000,9, -999.000, -999.000,9, -999.000,9, -999.000,9,   -999.0,9,   -999.0,9,-999.0000,-999,9,  -999.00,9,  -999.00,   -999.0,9,   -999.0,   2.1503,  27.6664
  49NZ20090410,   P21,    74,  1,      7, X12007,9,20090430,0748,-16.7473,-101.3333, 3667,   2130.7,2,   2.0587,2,   2.05844,2,  34.6484,2,-999.0000,9,   139.59,2,  -999.00,9,  -999.00,9,  -999.00,  -999.00,9,  -999.00,  -999.00,9,  -999.00, -999.000,9, -999.000, -999.000,9, -999.000,9, -999.000,9,   -999.0,9,   -999.0,9,-999.0000,-999,9,  -999.00,9,  -999.00,   -999.0,9,   -999.0,   1.9102,  27.6971
  49NZ20090410,   P21,    74,  1,      6, X12035,9,20090430,0748,-16.7473,-101.3333, 3667,   2331.6,2,   1.9184,2,   1.91828,2,  34.6606,2,-999.0000,9,   149.20,2,  -999.00,9,  -999.00,9,  -999.00,  -999.00,9,  -999.00,  -999.00,9,  -999.00, -999.000,9, -999.000, -999.000,9, -999.000,9, -999.000,9,   -999.0,9,   -999.0,9,-999.0000,-999,9,  -999.00,9,  -999.00,   -999.0,9,   -999.0,   1.7547,  27.7189
  49NZ20090410,   P21,    74,  1,      5, X12038,9,20090430,0748,-16.7473,-101.3333, 3667,   2530.1,2,   1.8417,2,   1.84160,2,  34.6700,2,-999.0000,9,   152.31,2,  -999.00,9,  -999.00,9,  -999.00,  -999.00,9,  -999.00,  -999.00,9,  -999.00, -999.000,9, -999.000, -999.000,9, -999.000,9, -999.000,9,   -999.0,9,   -999.0,9,-999.0000,-999,9,  -999.00,9,  -999.00,   -999.0,9,   -999.0,   1.6616,  27.7334
  49NZ20090410,   P21,    74,  1,      4, X12034,9,20090430,0748,-16.7473,-101.3333, 3667,   2730.0,2,   1.8124,2,   1.81228,2,  34.6765,2,-999.0000,9,   149.76,2,  -999.00,9,  -999.00,9,  -999.00,  -999.00,9,  -999.00,  -999.00,9,  -999.00, -999.000,9, -999.000, -999.000,9, -999.000,9, -999.000,9,   -999.0,9,   -999.0,9,-999.0000,-999,9,  -999.00,9,  -999.00,   -999.0,9,   -999.0,   1.6144,  27.7421
  49NZ20090410,   P21,    74,  1,      3, X12033,9,20090430,0748,-16.7473,-101.3333, 3667,   2929.6,2,   1.8052,2,   1.80508,2,  34.6786,2,-999.0000,9,   146.67,2,  -999.00,9,  -999.00,9,  -999.00,  -999.00,9,  -999.00,  -999.00,9,  -999.00, -999.000,9, -999.000, -999.000,9, -999.000,9, -999.000,9,   -999.0,9,   -999.0,9,-999.0000,-999,9,  -999.00,9,  -999.00,   -999.0,9,   -999.0,   1.5885,  27.7457
  49NZ20090410,   P21,    74,  1,      2, X12032,9,20090430,0748,-16.7473,-101.3333, 3667,   3170.2,2,   1.8010,2,   1.80086,2,  34.6799,2,-999.0000,9,   144.46,2,  -999.00,9,  -999.00,9,  -999.00,  -999.00,9,  -999.00,  -999.00,9,  -999.00, -999.000,9, -999.000, -999.000,9, -999.000,9, -999.000,9,   -999.0,9,   -999.0,9,-999.0000,-999,9,  -999.00,9,  -999.00,   -999.0,9,   -999.0,   1.5608,  27.7488
  49NZ20090410,   P21,    74,  1,      1, X12046,2,20090430,0748,-16.7473,-101.3333, 3667,   3710.1,2,   1.8291,2,   1.82892,2,  34.6834,2,  34.6838,6,   147.33,2,   147.46,2,   130.02,2,     0.41,    36.11,2,     0.13,     0.01,2,     0.01,    2.536,2,    0.016,    0.000,2,    0.000,2,    0.000,2,   -999.0,9,   -999.0,9,-999.0000,-999,9,  -999.00,9,  -999.00,   -999.0,9,   -999.0,   1.5325,  27.7537