BOTTLE,20220818CCHSIOAMB
EXPOCODE,SECT_ID,STNNBR,CASTNO,SAMPNO,BTLNBR,BTLNBR_FLAG_W,DATE,TIME,LATITUDE,LONGITUDE,DEPTH,CTDPRS,CTDPRS_FLAG_W,CTDTMP,CTDTMP_FLAG_W,SBE35,SBE35_FLAG_W,CTDSAL,CTDSAL_FLAG_W,SALNTY,SALNTY_FLAG_W,CTDOXY,CTDOXY_FLAG_W,OXYGEN,OXYGEN_FLAG_W,SILCAT,SILCAT_FLAG_W,SILUNC,NITRAT,NITRAT_FLAG_W,NRAUNC,NITRIT,NITRIT_FLAG_W,NRIUNC,PHSPHT,PHSPHT_FLAG_W,PHPUNC,CFC-11,CFC-11_FLAG_W,CFC-12,CFC-12_FLAG_W,CFC113,CFC113_FLAG_W,TCARBN,TCARBN_FLAG_W,ALKALI,ALKALI_FLAG_W,PH_TOT,PH_TMP,PH_TOT_FLAG_W,DELC13,DELC13_FLAG_W,C13ERR,DELC14,DELC14_FLAG_W,C14ERR,THETA,SIG0
,,,,,,,,,,,METERS,DBAR,,ITS-90,,ITS-90,,PSS-78,,PSS-78,,UMOL/KG,,UMOL/KG,,UMOL/KG,,UMOL/KG,UMOL/KG,,UMOL/KG,UMOL/KG,,UMOL/KG,UMOL/KG,,UMOL/KG,PMOL/KG,,PMOL/KG,,PMOL/KG,,UMOL/KG,,UMOL/KG,,,DEG C,,/MILLE,,/MILLE,/MILLE,,/MILLE,DEG C,KG/M^3
  49NZ20090410,   P21,    65,  1,     36, X12006,2,20090428,0544,-16.7468, -95.3357, 4074,      9.3,2,  24.4028,2,  24.40262,2,  35.8852,2,  35.8847,2,   210.22,2,   210.02,2,     0.65,2,     0.12,     0.12,2,     0.03,     0.02,2,     0.01,    0.406,2,    0.013,    1.665,2,    1.073,2, -999.000,5,   -999.0,9,   -999.0,9,-999.0000,-999,9,  -999.00,9,  -999.00,   -999.0,9,   -999.0,  24.4008,  24.1919
  49NZ20090410,   P21,    65,  1,     35, X12047,2,20090428,0544,-16.7468, -95.3357, 4074,     50.2,2,  24.4019,2,  24.39834,2,  35.8815,2,  35.8627,2,   209.47,2,   210.98,2,     0.64,2,     0.12,     0.16,2,     0.03,     0.02,2,     0.01,    0.419,2,    0.013,    1.685,2,    1.079,2, -999.000,5,   -999.0,9,   -999.0,9,-999.0000,-999,9,  -999.00,9,  -999.00,   -999.0,9,   -999.0,  24.3912,  24.1919
  49NZ20090410,   P21,    65,  1,     34, X12004,2,20090428,0544,-16.7468, -95.3357, 4074,    100.0,2,  18.9340,2,  18.94998,2,  35.3742,2,  35.3776,2,   206.80,2,   204.88,2,     1.51,2,     0.12,     5.46,2,     0.05,     1.78,2,     0.01,    0.936,2,    0.013,    2.182,2,    1.358,2,    0.199,2,   -999.0,9,   -999.0,9,-999.0000,-999,9,  -999.00,9,  -999.00,   -999.0,9,   -999.0,  18.9162,  25.3286
  49NZ20090410,   P21,    65,  1,     33, X12003,2,20090428,0544,-16.7468, -95.3357, 4074,    149.8,2,  16.6497,2,  16.65338,2,  35.0495,2,  35.0525,2,   184.89,2,   182.19,2,     2.27,2,     0.12,    10.57,2,     0.06,     0.04,2,     0.01,    1.137,2,    0.013,    2.388,2,    1.463,2,    0.142,2,   -999.0,9,   -999.0,9,-999.0000,-999,9,  -999.00,9,  -999.00,   -999.0,9,   -999.0,  16.6254,  25.6407
  49NZ20090410,   P21,    65,  1,     32, X12002,2,20090428,0544,-16.7468, -95.3357, 4074,    199.8,2,  13.6602,2,  13.66305,2,  34.7137,2,  34.7095,2,   115.57,2,   109.47,2,     8.03,2,     0.14,    18.95,2,     0.09,     0.02,2,     0.01,    1.861,2,    0.015,    2.290,2,    1.331,2,    0.102,2,   -999.0,9,   -999.0,9,-999.0000,-999,9,  -999.00,9,  -999.00,   -999.0,9,   -999.0,  13.6319,  26.0425
  49NZ20090410,   P21,    65,  1,     31, X12001,2,20090428,0544,-16.7468, -95.3357, 4074,    249.9,2,  11.7029,2,  11.70201,2,  34.6348,2,  34.6352,6,    35.95,2,    35.18,2,    18.15,2,     0.16,    23.11,2,     0.10,     0.02,2,     0.01,    2.482,2,    0.016,    1.417,2,    0.783,2,    0.025,2,   -999.0,9,   -999.0,9,-999.0000,-999,9,  -999.00,9,  -999.00,   -999.0,9,   -999.0,  11.6709,  26.3677
  49NZ20090410,   P21,    65,  1,     30, X12030,2,20090428,0544,-16.7468, -95.3357, 4074,    277.8,2,  10.8889,2,  10.89242,2,  34.6532,2,  34.6539,2,    20.06,2,    20.34,2,    21.47,2,     0.17,    27.46,2,     0.11,     0.02,2,     0.01,    2.637,2,    0.017,    0.852,2,    0.457,2,    0.014,2,   -999.0,9,   -999.0,9,-999.0000,-999,9,  -999.00,9,  -999.00,   -999.0,9,   -999.0,  10.8549,  26.5316
  49NZ20090410,   P21,    65,  1,     29, X12044,2,20090428,0544,-16.7468, -95.3357, 4074,    369.5,2,   9.5305,2,   9.53217,2,  34.6451,2,  34.6425,2,    12.33,2,    12.48,2,    26.36,2,     0.18,    34.93,2,     0.13,     0.01,2,     0.01,    2.765,2,    0.017,    0.263,2,    0.137,2,    0.022,2,   -999.0,9,   -999.0,9,-999.0000,-999,9,  -999.00,9,  -999.00,   -999.0,9,   -999.0,   9.4887,  26.7607
  49NZ20090410,   P21,    65,  1,     28, X12048,2,20090428,0544,-16.7468, -95.3357, 4074,    468.8,2,   7.9373,2,   7.93722,2,  34.5732,2,  34.5722,6,    30.04,2,    30.48,2,    30.96,2,     0.19,    39.07,2,     0.14,     0.02,2,     0.01,    2.808,2,    0.017,    0.098,2,    0.054,2,    0.005,2,   -999.0,9,   -999.0,9,-999.0000,-999,9,  -999.00,9,  -999.00,   -999.0,9,   -999.0,   7.8895,  26.9550
  49NZ20090410,   P21,    65,  1,     27, X12027,2,20090428,0544,-16.7468, -95.3357, 4074,    570.3,2,   7.0139,2,   7.01421,2,  34.5412,2,  34.5404,2,    41.07,2,    40.98,2,    37.21,2,     0.20,    40.69,2,     0.15,     0.01,2,     0.01,    2.879,2,    0.017,    0.038,6,    0.021,6,    0.000,6,   -999.0,9,   -999.0,9,-999.0000,-999,9,  -999.00,9,  -999.00,   -999.0,9,   -999.0,   6.9594,  27.0630
  49NZ20090410,   P21,    65,  1,     26, X12026,2,20090428,0544,-16.7468, -95.3357, 4074,    668.6,2,   6.2794,2,   6.27876,2,  34.5197,2,  34.5189,2,    48.63,2,    48.47,2,    43.60,2,     0.21,    41.75,2,     0.15,     0.01,2,     0.01,    2.936,2,    0.017,    0.009,2,    0.005,2,    0.000,2,   -999.0,9,   -999.0,9,-999.0000,-999,9,  -999.00,9,  -999.00,   -999.0,9,   -999.0,   6.2188,  27.1451
  49NZ20090410,   P21,    65,  1,     25, X12025,2,20090428,0544,-16.7468, -95.3357, 4074,    769.6,2,   5.7359,2,   5.73605,2,  34.5106,2,  34.5098,2,    50.81,2,    50.80,2,    50.32,2,     0.23,    42.64,2,     0.15,     0.01,2,     0.01,    3.005,2,    0.017,    0.003,2,    0.002,2,    0.000,2,   -999.0,9,   -999.0,9,-999.0000,-999,9,  -999.00,9,  -999.00,   -999.0,9,   -999.0,   5.6687,  27.2074
  49NZ20090410,   P21,    65,  1,     24, X12024,2,20090428,0544,-16.7468, -95.3357, 4074,    868.3,2,   5.1584,2,   5.15802,2,  34.5090,2,  34.5088,2,    46.56,2,    46.83,2,    60.04,2,     0.25,    43.93,2,     0.16,     0.01,2,     0.01,    3.129,2,    0.018,    0.001,2,    0.000,2,    0.000,2,   -999.0,9,   -999.0,9,-999.0000,-999,9,  -999.00,9,  -999.00,   -999.0,9,   -999.0,   5.0858,  27.2761
  49NZ20090410,   P21,    65,  1,     23, X12028,2,20090428,0544,-16.7468, -95.3357, 4074,    970.0,2,   4.6742,2,   4.67416,2,  34.5179,2,  34.5177,6,    54.94,2,    55.09,2,    69.08,2,     0.27,    43.60,2,     0.15,     0.01,2,     0.01,    3.110,2,    0.018,    0.000,2,    0.000,2,    0.000,2,   -999.0,9,   -999.0,9,-999.0000,-999,9,  -999.00,9,  -999.00,   -999.0,9,   -999.0,   4.5960,  27.3388
  49NZ20090410,   P21,    65,  1,     22, X12022,2,20090428,0544,-16.7468, -95.3357, 4074,   1129.1,2,   3.9823,2,   3.98243,2,  34.5356,2,  34.5358,2,    76.56,2,    76.52,2,    81.58,2,     0.30,    41.76,2,     0.15,     0.01,2,     0.01,    3.010,2,    0.017,    0.002,2,    0.001,2,    0.000,2,   -999.0,9,   -999.0,9,-999.0000,-999,9,  -999.00,9,  -999.00,   -999.0,9,   -999.0,   3.8959,  27.4275
  49NZ20090410,   P21,    65,  1,     21, X12021,2,20090428,0544,-16.7468, -95.3357, 4074,   1329.6,2,   3.3536,2,   3.35341,2,  34.5672,2,  34.5673,2,    86.81,2,    86.64,2,    96.83,2,     0.33,    41.04,2,     0.15,     0.01,2,     0.01,    2.954,2,    0.017,    0.001,2,    0.001,2,    0.000,2,   -999.0,9,   -999.0,9,-999.0000,-999,9,  -999.00,9,  -999.00,   -999.0,9,   -999.0,   3.2562,  27.5157
  49NZ20090410,   P21,    65,  1,     20, X12020,2,20090428,0544,-16.7468, -95.3357, 4074,   1530.3,2,   2.9668,2,   2.96657,2,  34.5913,2,  34.5914,2,    92.71,2,    92.70,2,   107.78,2,     0.36,    40.44,2,     0.15,     0.01,2,     0.01,    2.922,2,    0.017,    0.001,2,    0.001,2,    0.000,2,   -999.0,9,   -999.0,9,-999.0000,-999,9,  -999.00,9,  -999.00,   -999.0,9,   -999.0,   2.8568,  27.5718
  49NZ20090410,   P21,    65,  1,     19, X12019,2,20090428,0544,-16.7468, -95.3357, 4074,   1729.4,2,   2.6421,2,   2.64142,2,  34.6121,2,  34.6124,2,   102.18,2,   101.92,2,   115.54,2,     0.37,    39.79,2,     0.14,     0.01,2,     0.01,    2.848,2,    0.017,    0.000,2,    0.000,2,    0.000,2,   -999.0,9,   -999.0,9,-999.0000,-999,9,  -999.00,9,  -999.00,   -999.0,9,   -999.0,   2.5194,  27.6181
  49NZ20090410,   P21,    65,  1,     18, X12043,2,20090428,0544,-16.7468, -95.3357, 4074,   1930.3,2,   2.3683,2,   2.36729,2,  34.6315,2,  34.6313,6,   111.74,2,   111.60,2,   122.42,2,     0.39,    38.89,2,     0.14,     0.01,2,     0.01,    2.779,2,    0.017,    0.000,2,    0.000,2,    0.000,2,   -999.0,9,   -999.0,9,-999.0000,-999,9,  -999.00,9,  -999.00,   -999.0,9,   -999.0,   2.2323,  27.6577
  49NZ20090410,   P21,    65,  1,     17, X12042,2,20090428,0544,-16.7468, -95.3357, 4074,   2130.6,2,   2.1843,2,   2.18415,2,  34.6446,2,  34.6442,2,   120.28,2,   120.15,2,   125.43,2,     0.39,    38.26,2,     0.14,     0.01,2,     0.01,    2.715,2,    0.017, -999.000,9, -999.000,9, -999.000,9,   -999.0,9,   -999.0,9,-999.0000,-999,9,  -999.00,9,  -999.00,   -999.0,9,   -999.0,   2.0338,  27.6843
  49NZ20090410,   P21,    65,  1,     16, X12016,2,20090428,0544,-16.7468, -95.3357, 4074,   2330.1,2,   2.0400,2,   2.03994,2,  34.6549,2,  34.6550,2,   130.54,2,   130.49,2,   125.23,2,     0.39,    37.33,2,     0.14,     0.01,2,     0.01,    2.636,2,    0.017, -999.000,9, -999.000,9, -999.000,9,   -999.0,9,   -999.0,9,-999.0000,-999,9,  -999.00,9,  -999.00,   -999.0,9,   -999.0,   1.8743,  27.7051
  49NZ20090410,   P21,    65,  1,     15, X12015,2,20090428,0544,-16.7468, -95.3357, 4074,   2530.5,2,   1.9312,2,   1.93116,2,  34.6639,2,  34.6635,2,   138.19,2,   138.22,2,   126.00,2,     0.40,    36.66,2,     0.14,     0.01,2,     0.01,    2.590,2,    0.016,    0.001,2,    0.000,2,    0.000,2,   -999.0,9,   -999.0,9,-999.0000,-999,9,  -999.00,9,  -999.00,   -999.0,9,   -999.0,   1.7494,  27.7219
  49NZ20090410,   P21,    65,  1,     14, X12050,2,20090428,0544,-16.7468, -95.3357, 4074,   2730.4,2,   1.8575,2,   1.85743,2,  34.6712,2,  34.6709,2,   143.67,2,   143.76,2,   126.52,2,     0.40,    36.27,2,     0.13,     0.01,2,     0.01,    2.555,2,    0.016, -999.000,9, -999.000,9, -999.000,9,   -999.0,9,   -999.0,9,-999.0000,-999,9,  -999.00,9,  -999.00,   -999.0,9,   -999.0,   1.6586,  27.7346
  49NZ20090410,   P21,    65,  1,     13, X12013,7,20090428,0544,-16.7468, -95.3357, 4074,   2928.9,2,   1.8163,2,   1.81613,2,  34.6767,2,  34.6770,2,   145.82,2,   146.00,2,   127.72,2,     0.40,    36.12,2,     0.13,     0.01,2,     0.01,    2.548,2,    0.016, -999.000,9, -999.000,9, -999.000,9,   -999.0,9,   -999.0,9,-999.0000,-999,9,  -999.00,9,  -999.00,   -999.0,9,   -999.0,   1.5994,  27.7434
  49NZ20090410,   P21,    65,  1,     12, X12012,2,20090428,0544,-16.7468, -95.3357, 4074,   3171.4,2,   1.7985,2,   1.79838,2,  34.6805,2,  34.6800,6,   146.74,2,   146.90,2,   129.30,2,     0.40,    36.13,2,     0.13,     0.01,2,     0.01,    2.534,2,    0.016,    0.002,2,    0.001,2,    0.000,2,   -999.0,9,   -999.0,9,-999.0000,-999,9,  -999.00,9,  -999.00,   -999.0,9,   -999.0,   1.5583,  27.7495
  49NZ20090410,   P21,    65,  1,     11, X12041,2,20090428,0544,-16.7468, -95.3357, 4074,   3420.6,2,   1.7921,2,   1.79206,2,  34.6836,2,  34.6831,2,   147.83,2,   148.11,2,   129.23,2,     0.40,    36.06,2,     0.13,     0.01,2,     0.01,    2.532,2,    0.016, -999.000,9, -999.000,9, -999.000,9,   -999.0,9,   -999.0,9,-999.0000,-999,9,  -999.00,9,  -999.00,   -999.0,9,   -999.0,   1.5268,  27.7543
  49NZ20090410,   P21,    65,  1,     10, X12040,2,20090428,0544,-16.7468, -95.3357, 4074,   3670.2,2,   1.7882,2,   1.78814,2,  34.6858,2,  34.6861,2,   148.62,2,   148.90,2,   128.87,2,     0.40,    35.98,2,     0.13,     0.01,2,     0.01,    2.520,2,    0.016,    0.001,2,    0.000,2,    0.000,2,   -999.0,9,   -999.0,9,-999.0000,-999,9,  -999.00,9,  -999.00,   -999.0,9,   -999.0,   1.4969,  27.7583
  49NZ20090410,   P21,    65,  1,      9, X12009,2,20090428,0544,-16.7468, -95.3357, 4074,   3919.1,2,   1.7847,2,   1.78462,2,  34.6876,2,  34.6875,2,   149.82,2,   150.09,2,   128.21,2,     0.40,    35.78,2,     0.13,     0.01,2,     0.01,    2.518,2,    0.016,    0.001,2,    0.000,2,    0.000,2,   -999.0,9,   -999.0,9,-999.0000,-999,9,  -999.00,9,  -999.00,   -999.0,9,   -999.0,   1.4667,  27.7619
  49NZ20090410,   P21,    65,  1,      8, X12008,9,20090428,0544,-16.7468, -95.3357, 4074,      9.3,2,  24.4017,2,  24.40147,2,  35.8854,2,-999.0000,9,   210.26,2,  -999.00,9,  -999.00,9,  -999.00,  -999.00,9,  -999.00,  -999.00,9,  -999.00, -999.000,9, -999.000, -999.000,9, -999.000,9, -999.000,9,   -999.0,9,   -999.0,9,-999.0000,-999,9,  -999.00,9,  -999.00,   -999.0,9,   -999.0,  24.3997,  24.1923
  49NZ20090410,   P21,    65,  1,      7, X12007,9,20090428,0544,-16.7468, -95.3357, 4074,     50.2,2,  24.3915,2,  24.39313,2,  35.8817,2,-999.0000,9,   209.77,2,  -999.00,9,  -999.00,9,  -999.00,  -999.00,9,  -999.00,  -999.00,9,  -999.00, -999.000,9, -999.000, -999.000,9, -999.000,9, -999.000,9,   -999.0,9,   -999.0,9,-999.0000,-999,9,  -999.00,9,  -999.00,   -999.0,9,   -999.0,  24.3808,  24.1953
  49NZ20090410,   P21,    65,  1,      6, X12035,2,20090428,0544,-16.7468, -95.3357, 4074,    100.3,2,  18.9655,2,  18.98008,2,  35.3783,2,-999.0000,9,   206.45,2,  -999.00,9,  -999.00,9,  -999.00,  -999.00,9,  -999.00,  -999.00,9,  -999.00, -999.000,9, -999.000,    2.185,6,    1.359,6,    0.199,6,   -999.0,9,   -999.0,9,-999.0000,-999,9,  -999.00,9,  -999.00,   -999.0,9,   -999.0,  18.9476,  25.3237
  49NZ20090410,   P21,    65,  1,      5, X12038,9,20090428,0544,-16.7468, -95.3357, 4074,    150.0,2,  16.6848,2,  16.68719,2,  35.0540,2,-999.0000,9,   185.18,2,  -999.00,9,  -999.00,9,  -999.00,  -999.00,9,  -999.00,  -999.00,9,  -999.00, -999.000,9, -999.000, -999.000,9, -999.000,9, -999.000,9,   -999.0,9,   -999.0,9,-999.0000,-999,9,  -999.00,9,  -999.00,   -999.0,9,   -999.0,  16.6604,  25.6360
  49NZ20090410,   P21,    65,  1,      4, X12034,9,20090428,0544,-16.7468, -95.3357, 4074,    200.0,2,  13.6601,2,  13.66749,2,  34.7144,2,-999.0000,9,   116.48,2,  -999.00,9,  -999.00,9,  -999.00,  -999.00,9,  -999.00,  -999.00,9,  -999.00, -999.000,9, -999.000, -999.000,9, -999.000,9, -999.000,9,   -999.0,9,   -999.0,9,-999.0000,-999,9,  -999.00,9,  -999.00,   -999.0,9,   -999.0,  13.6317,  26.0431
  49NZ20090410,   P21,    65,  1,      3, X12033,9,20090428,0544,-16.7468, -95.3357, 4074,   2730.1,2,   1.8573,2,   1.85721,2,  34.6712,2,-999.0000,9,   143.71,2,  -999.00,9,  -999.00,9,  -999.00,  -999.00,9,  -999.00,  -999.00,9,  -999.00, -999.000,9, -999.000, -999.000,9, -999.000,9, -999.000,9,   -999.0,9,   -999.0,9,-999.0000,-999,9,  -999.00,9,  -999.00,   -999.0,9,   -999.0,   1.6584,  27.7346
  49NZ20090410,   P21,    65,  1,      2, X12032,9,20090428,0544,-16.7468, -95.3357, 4074,   2929.5,2,   1.8164,2,   1.81626,2,  34.6767,2,-999.0000,9,   145.79,2,  -999.00,9,  -999.00,9,  -999.00,  -999.00,9,  -999.00,  -999.00,9,  -999.00, -999.000,9, -999.000, -999.000,9, -999.000,9, -999.000,9,   -999.0,9,   -999.0,9,-999.0000,-999,9,  -999.00,9,  -999.00,   -999.0,9,   -999.0,   1.5995,  27.7434
  49NZ20090410,   P21,    65,  1,      1, X12046,2,20090428,0544,-16.7468, -95.3357, 4074,   4127.6,2,   1.8034,2,   1.80336,2,  34.6878,2,  34.6878,6,   150.06,2,   150.25,2,   128.27,2,     0.40,    35.84,2,     0.13,     0.01,2,     0.01,    2.512,2,    0.016,    0.000,2,    0.000,2,    0.000,2,   -999.0,9,   -999.0,9,-999.0000,-999,9,  -999.00,9,  -999.00,   -999.0,9,   -999.0,   1.4617,  27.7624