BOTTLE,20220818CCHSIOAMB
EXPOCODE,SECT_ID,STNNBR,CASTNO,SAMPNO,BTLNBR,BTLNBR_FLAG_W,DATE,TIME,LATITUDE,LONGITUDE,DEPTH,CTDPRS,CTDPRS_FLAG_W,CTDTMP,CTDTMP_FLAG_W,SBE35,SBE35_FLAG_W,CTDSAL,CTDSAL_FLAG_W,SALNTY,SALNTY_FLAG_W,CTDOXY,CTDOXY_FLAG_W,OXYGEN,OXYGEN_FLAG_W,SILCAT,SILCAT_FLAG_W,SILUNC,NITRAT,NITRAT_FLAG_W,NRAUNC,NITRIT,NITRIT_FLAG_W,NRIUNC,PHSPHT,PHSPHT_FLAG_W,PHPUNC,CFC-11,CFC-11_FLAG_W,CFC-12,CFC-12_FLAG_W,CFC113,CFC113_FLAG_W,TCARBN,TCARBN_FLAG_W,ALKALI,ALKALI_FLAG_W,PH_TOT,PH_TMP,PH_TOT_FLAG_W,DELC13,DELC13_FLAG_W,C13ERR,DELC14,DELC14_FLAG_W,C14ERR,THETA,SIG0
,,,,,,,,,,,METERS,DBAR,,ITS-90,,ITS-90,,PSS-78,,PSS-78,,UMOL/KG,,UMOL/KG,,UMOL/KG,,UMOL/KG,UMOL/KG,,UMOL/KG,UMOL/KG,,UMOL/KG,UMOL/KG,,UMOL/KG,PMOL/KG,,PMOL/KG,,PMOL/KG,,UMOL/KG,,UMOL/KG,,,DEG C,,/MILLE,,/MILLE,/MILLE,,/MILLE,DEG C,KG/M^3
  49NZ20090410,   P21,    64,  1,     36, X12006,2,20090428,0004,-16.7460, -94.6702, 4037,      9.2,2,  24.0338,2,  24.03413,2,  35.8526,2,  35.8521,2,   212.78,2,   212.84,2,     0.60,2,     0.12,     0.19,2,     0.03,     0.02,2,     0.01,    0.394,2,    0.013,    1.703,2,    1.082,2, -999.000,5,   -999.0,9,   -999.0,9,-999.0000,-999,9,  -999.00,9,  -999.00,   -999.0,9,   -999.0,  24.0319,  24.2775
  49NZ20090410,   P21,    64,  1,     35, X12047,2,20090428,0004,-16.7460, -94.6702, 4037,     49.5,2,  24.0146,2,  24.01395,2,  35.8518,2,  35.8515,2,   211.83,2,   212.57,2,     0.61,2,     0.12,     0.20,2,     0.03,     0.02,2,     0.01,    0.398,2,    0.013,    1.711,2,    1.093,2, -999.000,5,   -999.0,9,   -999.0,9,-999.0000,-999,9,  -999.00,9,  -999.00,   -999.0,9,   -999.0,  24.0041,  24.2852
  49NZ20090410,   P21,    64,  1,     34, X12004,2,20090428,0004,-16.7460, -94.6702, 4037,     99.5,2,  19.5257,2,  19.52447,2,  35.4874,2,  35.4874,2,   210.81,2,   209.77,2,     0.84,2,     0.12,     1.57,2,     0.04,     1.66,2,     0.01,    0.683,2,    0.013,    2.142,6,    1.331,6,    0.204,6,   -999.0,9,   -999.0,9,-999.0000,-999,9,  -999.00,9,  -999.00,   -999.0,9,   -999.0,  19.5076,  25.2627
  49NZ20090410,   P21,    64,  1,     33, X12003,2,20090428,0004,-16.7460, -94.6702, 4037,    150.3,2,  17.4961,2,  17.49621,2,  35.1629,2,  35.1679,2,   197.10,2,   194.30,2,     1.42,2,     0.12,     7.81,2,     0.05,     0.05,2,     0.01,    0.923,2,    0.013,    2.355,2,    1.439,2,    0.180,2,   -999.0,9,   -999.0,9,-999.0000,-999,9,  -999.00,9,  -999.00,   -999.0,9,   -999.0,  17.4708,  25.5262
  49NZ20090410,   P21,    64,  1,     32, X12002,2,20090428,0004,-16.7460, -94.6702, 4037,    198.8,2,  13.8233,2,  13.82166,2,  34.7173,2,  34.7203,2,   132.60,2,   127.70,2,     6.31,2,     0.13,    17.18,2,     0.08,     0.02,2,     0.01,    1.652,2,    0.014,    2.397,2,    1.384,2,    0.093,2,   -999.0,9,   -999.0,9,-999.0000,-999,9,  -999.00,9,  -999.00,   -999.0,9,   -999.0,  13.7949,  26.0115
  49NZ20090410,   P21,    64,  1,     31, X12001,2,20090428,0004,-16.7460, -94.6702, 4037,    250.1,2,  11.5881,2,  11.58802,2,  34.6510,2,  34.6511,6,    31.10,2,    30.47,2,    18.93,2,     0.16,    23.62,2,     0.10,     0.01,2,     0.01,    2.520,2,    0.016,    1.284,2,    0.699,2,    0.042,2,   -999.0,9,   -999.0,9,-999.0000,-999,9,  -999.00,9,  -999.00,   -999.0,9,   -999.0,  11.5563,  26.4017
  49NZ20090410,   P21,    64,  1,     30, X12030,2,20090428,0004,-16.7460, -94.6702, 4037,    330.4,2,  10.1057,2,  10.10390,2,  34.6795,2,  34.6785,2,     9.59,2,     9.38,2,    25.09,2,     0.17,    33.01,2,     0.13,     0.01,2,     0.01,    2.724,2,    0.017,    0.329,2,    0.173,2,    0.011,2,   -999.0,9,   -999.0,9,-999.0000,-999,9,  -999.00,9,  -999.00,   -999.0,9,   -999.0,  10.0670,  26.6902
  49NZ20090410,   P21,    64,  1,     29, X12044,2,20090428,0004,-16.7460, -94.6702, 4037,    430.8,2,   8.6135,2,   8.61238,2,  34.6096,2,  34.6088,2,    21.99,2,    22.07,2,    29.01,2,     0.18,    37.75,2,     0.14,     0.01,2,     0.01,    2.776,2,    0.017,    0.132,2,    0.071,2,    0.000,2,   -999.0,9,   -999.0,9,-999.0000,-999,9,  -999.00,9,  -999.00,   -999.0,9,   -999.0,   8.5675,  26.8807
  49NZ20090410,   P21,    64,  1,     28, X12048,2,20090428,0004,-16.7460, -94.6702, 4037,    529.9,2,   7.6077,2,   7.60724,2,  34.5651,2,  34.5643,6,    36.18,2,    36.16,2,    33.26,2,     0.19,    39.72,2,     0.14,     0.01,2,     0.01,    2.815,2,    0.017,    0.070,2,    0.037,2,    0.000,2,   -999.0,9,   -999.0,9,-999.0000,-999,9,  -999.00,9,  -999.00,   -999.0,9,   -999.0,   7.5548,  26.9977
  49NZ20090410,   P21,    64,  1,     27, X12027,2,20090428,0004,-16.7460, -94.6702, 4037,    629.2,2,   6.6430,2,   6.64316,2,  34.5260,2,  34.5257,2,    43.87,2,    43.83,2,    39.57,2,     0.21,    41.45,2,     0.15,     0.01,2,     0.01,    2.918,2,    0.017,    0.025,6,    0.012,6,    0.000,6,   -999.0,9,   -999.0,9,-999.0000,-999,9,  -999.00,9,  -999.00,   -999.0,9,   -999.0,   6.5844,  27.1019
  49NZ20090410,   P21,    64,  1,     26, X12026,2,20090428,0004,-16.7460, -94.6702, 4037,    731.1,2,   5.9879,2,   5.98761,2,  34.5136,2,  34.5129,2,    46.78,2,    46.78,2,    47.14,2,     0.22,    42.54,2,     0.15,     0.01,2,     0.01,    3.003,2,    0.017,    0.005,2,    0.002,2,    0.000,2,   -999.0,9,   -999.0,9,-999.0000,-999,9,  -999.00,9,  -999.00,   -999.0,9,   -999.0,   5.9229,  27.1781
  49NZ20090410,   P21,    64,  1,     25, X12025,2,20090428,0004,-16.7460, -94.6702, 4037,    829.9,2,   5.4652,2,   5.46535,2,  34.5104,2,  34.5095,2,    50.99,2,    50.95,2,    54.49,2,     0.24,    43.23,2,     0.15,     0.01,2,     0.01,    3.037,2,    0.018,    0.000,2,    0.000,2,    0.000,2,   -999.0,9,   -999.0,9,-999.0000,-999,9,  -999.00,9,  -999.00,   -999.0,9,   -999.0,   5.3941,  27.2407
  49NZ20090410,   P21,    64,  1,     24, X12024,2,20090428,0004,-16.7460, -94.6702, 4037,    929.0,2,   4.9888,2,   4.98896,2,  34.5142,2,  34.5138,2,    55.21,2,    55.22,2,    62.85,2,     0.26,    43.26,2,     0.15,     0.01,2,     0.01,    3.068,2,    0.018,    0.000,2,    0.000,2,    0.000,2,   -999.0,9,   -999.0,9,-999.0000,-999,9,  -999.00,9,  -999.00,   -999.0,9,   -999.0,   4.9119,  27.3002
  49NZ20090410,   P21,    64,  1,     23, X12028,2,20090428,0004,-16.7460, -94.6702, 4037,   1069.3,2,   4.4351,2,   4.43498,2,  34.5276,2,  34.5272,6,    61.45,2,    61.55,2,    74.37,2,     0.28,    43.02,2,     0.15,     0.01,2,     0.01,    3.080,2,    0.018,    0.002,2,    0.000,2,    0.000,2,   -999.0,9,   -999.0,9,-999.0000,-999,9,  -999.00,9,  -999.00,   -999.0,9,   -999.0,   4.3500,  27.3733
  49NZ20090410,   P21,    64,  1,     22, X12022,2,20090428,0004,-16.7460, -94.6702, 4037,   1270.1,2,   3.6743,2,   3.67433,2,  34.5543,2,  34.5546,2,    76.26,2,    76.36,2,    90.96,2,     0.32,    41.88,2,     0.15,     0.01,2,     0.01,    3.027,2,    0.018,    0.004,2,    0.000,2,    0.000,2,   -999.0,9,   -999.0,9,-999.0000,-999,9,  -999.00,9,  -999.00,   -999.0,9,   -999.0,   3.5787,  27.4743
  49NZ20090410,   P21,    64,  1,     21, X12021,2,20090428,0004,-16.7460, -94.6702, 4037,   1468.4,2,   3.1003,2,   3.10043,2,  34.5831,2,  34.5831,2,    89.89,2,    89.97,2,   104.12,2,     0.35,    40.82,2,     0.15,     0.01,2,     0.01,    2.939,2,    0.017,    0.001,2,    0.000,2,    0.000,2,   -999.0,9,   -999.0,9,-999.0000,-999,9,  -999.00,9,  -999.00,   -999.0,9,   -999.0,   2.9939,  27.5529
  49NZ20090410,   P21,    64,  1,     20, X12020,2,20090428,0004,-16.7460, -94.6702, 4037,   1671.2,2,   2.7704,2,   2.77011,2,  34.6037,2,  34.6038,2,    98.16,2,    98.11,2,   112.36,2,     0.37,    40.05,2,     0.14,     0.01,2,     0.01,    2.877,2,    0.017,    0.002,2,    0.000,2,    0.000,2,   -999.0,9,   -999.0,9,-999.0000,-999,9,  -999.00,9,  -999.00,   -999.0,9,   -999.0,   2.6509,  27.6000
  49NZ20090410,   P21,    64,  1,     19, X12019,2,20090428,0004,-16.7460, -94.6702, 4037,   1869.9,2,   2.4685,2,   2.46822,2,  34.6239,2,  34.6241,2,   108.64,2,   108.52,2,   119.56,2,     0.38,    39.21,2,     0.14,     0.01,2,     0.01,    2.799,2,    0.017,    0.000,2,    0.000,2,    0.000,2,   -999.0,9,   -999.0,9,-999.0000,-999,9,  -999.00,9,  -999.00,   -999.0,9,   -999.0,   2.3362,  27.6430
  49NZ20090410,   P21,    64,  1,     18, X12043,2,20090428,0004,-16.7460, -94.6702, 4037,   2071.2,2,   2.2138,2,   2.21376,2,  34.6409,2,  34.6406,2,   121.87,2,   121.92,2,   122.43,2,     0.39,    38.13,2,     0.14,     0.01,2,     0.01,    2.703,2,    0.017, -999.000,9, -999.000,9, -999.000,9,   -999.0,9,   -999.0,9,-999.0000,-999,9,  -999.00,9,  -999.00,   -999.0,9,   -999.0,   2.0680,  27.6785
  49NZ20090410,   P21,    64,  1,     17, X12042,2,20090428,0004,-16.7460, -94.6702, 4037,   2271.2,2,   2.0434,2,   2.04337,2,  34.6540,2,  34.6539,2,   130.63,2,   130.64,2,   125.11,2,     0.39,    37.38,2,     0.14,     0.01,2,     0.01,    2.643,2,    0.017,    0.001,2,    0.000,2,    0.000,2,   -999.0,9,   -999.0,9,-999.0000,-999,9,  -999.00,9,  -999.00,   -999.0,9,   -999.0,   1.8829,  27.7037
  49NZ20090410,   P21,    64,  1,     16, X12016,2,20090428,0004,-16.7460, -94.6702, 4037,   2469.8,2,   1.9175,2,   1.91701,2,  34.6644,2,  34.6647,2,   138.62,2,   138.64,2,   125.63,2,     0.40,    36.76,2,     0.14,     0.01,2,     0.01,    2.585,2,    0.016, -999.000,9, -999.000,9, -999.000,9,   -999.0,9,   -999.0,9,-999.0000,-999,9,  -999.00,9,  -999.00,   -999.0,9,   -999.0,   1.7414,  27.7229
  49NZ20090410,   P21,    64,  1,     15, X12015,2,20090428,0004,-16.7460, -94.6702, 4037,   2670.1,2,   1.8468,2,   1.84658,2,  34.6715,2,  34.6718,2,   143.10,2,   143.27,2,   127.16,2,     0.40,    36.40,2,     0.13,     0.01,2,     0.01,    2.555,2,    0.016, -999.000,9, -999.000,9, -999.000,9,   -999.0,9,   -999.0,9,-999.0000,-999,9,  -999.00,9,  -999.00,   -999.0,9,   -999.0,   1.6537,  27.7352
  49NZ20090410,   P21,    64,  1,     14, X12050,2,20090428,0004,-16.7460, -94.6702, 4037,   2869.6,2,   1.8193,2,   1.81931,2,  34.6758,2,  34.6755,2,   145.03,2,   145.14,2,   128.28,2,     0.40,    36.26,2,     0.13,     0.01,2,     0.01,    2.544,2,    0.016,    0.001,2,    0.001,2,    0.000,2,   -999.0,9,   -999.0,9,-999.0000,-999,9,  -999.00,9,  -999.00,   -999.0,9,   -999.0,   1.6080,  27.7421
  49NZ20090410,   P21,    64,  1,     13, X12013,7,20090428,0004,-16.7460, -94.6702, 4037,   3079.7,2,   1.7978,2,   1.79778,2,  34.6796,2,  34.6801,6,   146.20,2,   146.37,2,   129.32,2,     0.40,    36.14,2,     0.13,     0.01,2,     0.01,    2.536,2,    0.016, -999.000,9, -999.000,9, -999.000,9,   -999.0,9,   -999.0,9,-999.0000,-999,9,  -999.00,9,  -999.00,   -999.0,9,   -999.0,   1.5667,  27.7482
  49NZ20090410,   P21,    64,  1,     12, X12012,2,20090428,0004,-16.7460, -94.6702, 4037,   3328.6,2,   1.7915,2,   1.79145,2,  34.6825,2,  34.6827,2,   146.86,2,   147.15,2,   129.70,2,     0.40,    36.17,2,     0.13,     0.01,2,     0.01,    2.532,2,    0.016,    0.000,2,    0.001,2,    0.000,2,   -999.0,9,   -999.0,9,-999.0000,-999,9,  -999.00,9,  -999.00,   -999.0,9,   -999.0,   1.5356,  27.7528
  49NZ20090410,   P21,    64,  1,     11, X12041,2,20090428,0004,-16.7460, -94.6702, 4037,   3581.5,2,   1.7858,2,   1.78571,2,  34.6849,2,  34.6851,2,   147.59,2,   147.94,2,   129.56,2,     0.40,    36.07,2,     0.13,     0.01,2,     0.01,    2.525,2,    0.016,    0.001,2,    0.000,2,    0.000,2,   -999.0,9,   -999.0,9,-999.0000,-999,9,  -999.00,9,  -999.00,   -999.0,9,   -999.0,   1.5040,  27.7570
  49NZ20090410,   P21,    64,  1,     10, X12040,2,20090428,0004,-16.7460, -94.6702, 4037,   3828.5,2,   1.7728,2,   1.77274,2,  34.6875,2,  34.6876,2,   150.00,2,   150.29,2,   128.25,2,     0.40,    35.86,2,     0.13,     0.01,2,     0.01,    2.512,2,    0.016,    0.000,2,    0.001,2,    0.000,2,   -999.0,9,   -999.0,9,-999.0000,-999,9,  -999.00,9,  -999.00,   -999.0,9,   -999.0,   1.4650,  27.7620
  49NZ20090410,   P21,    64,  1,      9, X12009,9,20090428,0004,-16.7460, -94.6702, 4037,      9.0,2,  24.0325,2,  24.03272,2,  35.8526,2,-999.0000,9,   212.86,2,  -999.00,9,  -999.00,9,  -999.00,  -999.00,9,  -999.00,  -999.00,9,  -999.00, -999.000,9, -999.000, -999.000,9, -999.000,9, -999.000,9,   -999.0,9,   -999.0,9,-999.0000,-999,9,  -999.00,9,  -999.00,   -999.0,9,   -999.0,  24.0306,  24.2779
  49NZ20090410,   P21,    64,  1,      8, X12008,9,20090428,0004,-16.7460, -94.6702, 4037,     49.7,2,  24.0153,2,  24.01422,2,  35.8527,2,-999.0000,9,   211.97,2,  -999.00,9,  -999.00,9,  -999.00,  -999.00,9,  -999.00,  -999.00,9,  -999.00, -999.000,9, -999.000, -999.000,9, -999.000,9, -999.000,9,   -999.0,9,   -999.0,9,-999.0000,-999,9,  -999.00,9,  -999.00,   -999.0,9,   -999.0,  24.0048,  24.2857
  49NZ20090410,   P21,    64,  1,      7, X12007,9,20090428,0004,-16.7460, -94.6702, 4037,    100.2,2,  19.5134,2,  19.51273,2,  35.4862,2,-999.0000,9,   210.91,2,  -999.00,9,  -999.00,9,  -999.00,  -999.00,9,  -999.00,  -999.00,9,  -999.00, -999.000,9, -999.000, -999.000,9, -999.000,9, -999.000,9,   -999.0,9,   -999.0,9,-999.0000,-999,9,  -999.00,9,  -999.00,   -999.0,9,   -999.0,  19.4952,  25.2651
  49NZ20090410,   P21,    64,  1,      6, X12035,9,20090428,0004,-16.7460, -94.6702, 4037,    150.5,2,  17.4888,2,  17.48962,2,  35.1625,2,-999.0000,9,   197.29,2,  -999.00,9,  -999.00,9,  -999.00,  -999.00,9,  -999.00,  -999.00,9,  -999.00, -999.000,9, -999.000, -999.000,9, -999.000,9, -999.000,9,   -999.0,9,   -999.0,9,-999.0000,-999,9,  -999.00,9,  -999.00,   -999.0,9,   -999.0,  17.4635,  25.5277
  49NZ20090410,   P21,    64,  1,      5, X12038,9,20090428,0004,-16.7460, -94.6702, 4037,    198.6,2,  13.8460,2,  13.83121,2,  34.7204,2,-999.0000,9,   132.98,2,  -999.00,9,  -999.00,9,  -999.00,  -999.00,9,  -999.00,  -999.00,9,  -999.00, -999.000,9, -999.000, -999.000,9, -999.000,9, -999.000,9,   -999.0,9,   -999.0,9,-999.0000,-999,9,  -999.00,9,  -999.00,   -999.0,9,   -999.0,  13.8176,  26.0092
  49NZ20090410,   P21,    64,  1,      4, X12034,9,20090428,0004,-16.7460, -94.6702, 4037,    250.1,2,  11.5940,2,  11.59418,2,  34.6512,2,-999.0000,9,    31.11,2,  -999.00,9,  -999.00,9,  -999.00,  -999.00,9,  -999.00,  -999.00,9,  -999.00, -999.000,9, -999.000, -999.000,9, -999.000,9, -999.000,9,   -999.0,9,   -999.0,9,-999.0000,-999,9,  -999.00,9,  -999.00,   -999.0,9,   -999.0,  11.5621,  26.4007
  49NZ20090410,   P21,    64,  1,      3, X12033,9,20090428,0004,-16.7460, -94.6702, 4037,   2870.4,2,   1.8196,2,   1.81953,2,  34.6758,2,-999.0000,9,   145.03,2,  -999.00,9,  -999.00,9,  -999.00,  -999.00,9,  -999.00,  -999.00,9,  -999.00, -999.000,9, -999.000, -999.000,9, -999.000,9, -999.000,9,   -999.0,9,   -999.0,9,-999.0000,-999,9,  -999.00,9,  -999.00,   -999.0,9,   -999.0,   1.6083,  27.7420
  49NZ20090410,   P21,    64,  1,      2, X12032,9,20090428,0004,-16.7460, -94.6702, 4037,   3079.7,2,   1.7979,2,   1.79782,2,  34.6797,2,-999.0000,9,   146.20,2,  -999.00,9,  -999.00,9,  -999.00,  -999.00,9,  -999.00,  -999.00,9,  -999.00, -999.000,9, -999.000, -999.000,9, -999.000,9, -999.000,9,   -999.0,9,   -999.0,9,-999.0000,-999,9,  -999.00,9,  -999.00,   -999.0,9,   -999.0,   1.5668,  27.7482
  49NZ20090410,   P21,    64,  1,      1, X12046,2,20090428,0004,-16.7460, -94.6702, 4037,   4076.5,2,   1.7924,2,   1.79222,2,  34.6880,2,  34.6882,6,   150.47,2,   150.63,2,   127.93,2,     0.40,    35.87,2,     0.13,     0.01,2,     0.01,    2.510,2,    0.016,    0.001,2,    0.000,2,    0.000,2,   -999.0,9,   -999.0,9,-999.0000,-999,9,  -999.00,9,  -999.00,   -999.0,9,   -999.0,   1.4568,  27.7629