BOTTLE,20220818CCHSIOAMB
EXPOCODE,SECT_ID,STNNBR,CASTNO,SAMPNO,BTLNBR,BTLNBR_FLAG_W,DATE,TIME,LATITUDE,LONGITUDE,DEPTH,CTDPRS,CTDPRS_FLAG_W,CTDTMP,CTDTMP_FLAG_W,SBE35,SBE35_FLAG_W,CTDSAL,CTDSAL_FLAG_W,SALNTY,SALNTY_FLAG_W,CTDOXY,CTDOXY_FLAG_W,OXYGEN,OXYGEN_FLAG_W,SILCAT,SILCAT_FLAG_W,SILUNC,NITRAT,NITRAT_FLAG_W,NRAUNC,NITRIT,NITRIT_FLAG_W,NRIUNC,PHSPHT,PHSPHT_FLAG_W,PHPUNC,CFC-11,CFC-11_FLAG_W,CFC-12,CFC-12_FLAG_W,CFC113,CFC113_FLAG_W,TCARBN,TCARBN_FLAG_W,ALKALI,ALKALI_FLAG_W,PH_TOT,PH_TMP,PH_TOT_FLAG_W,DELC13,DELC13_FLAG_W,C13ERR,DELC14,DELC14_FLAG_W,C14ERR,THETA,SIG0
,,,,,,,,,,,METERS,DBAR,,ITS-90,,ITS-90,,PSS-78,,PSS-78,,UMOL/KG,,UMOL/KG,,UMOL/KG,,UMOL/KG,UMOL/KG,,UMOL/KG,UMOL/KG,,UMOL/KG,UMOL/KG,,UMOL/KG,PMOL/KG,,PMOL/KG,,PMOL/KG,,UMOL/KG,,UMOL/KG,,,DEG C,,/MILLE,,/MILLE,/MILLE,,/MILLE,DEG C,KG/M^3
  49NZ20090410,   P21,    56,  1,     36, X12006,2,20090425,2142,-16.7410, -89.3298, 4565,      8.1,2,  23.5756,2,  23.57547,2,  35.7678,2,  35.7669,2,   214.86,2,   214.76,2,     0.65,2,     0.12,     0.10,2,     0.03,     0.02,2,     0.01,    0.445,2,    0.013,    1.727,2,    1.097,2, -999.000,5,   2055.3,2,   2374.5,2,   8.0552,  25,6,  -999.00,9,  -999.00,   -999.0,9,   -999.0,  23.5739,  24.3487
  49NZ20090410,   P21,    56,  1,     35, X12047,2,20090425,2142,-16.7410, -89.3298, 4565,     50.7,2,  23.5387,2,  23.53824,2,  35.7621,2,  35.7642,2,   213.98,2,   214.27,2,     0.61,2,     0.12,     0.09,2,     0.03,     0.01,2,     0.01,    0.446,2,    0.013,    1.730,2,    1.102,2, -999.000,5,   2055.1,6,   2373.7,2,   8.0553,  25,2,  -999.00,9,  -999.00,   -999.0,9,   -999.0,  23.5282,  24.3578
  49NZ20090410,   P21,    56,  1,     34, X12004,2,20090425,2142,-16.7410, -89.3298, 4565,     98.6,2,  18.8040,2,  18.80149,2,  35.3494,2,  35.3514,2,   209.61,2,   207.91,2,     0.83,2,     0.12,     3.55,2,     0.04,     1.11,2,     0.01,    0.765,2,    0.013,    2.186,6,    1.359,6,    0.202,4,   2094.3,2,   2343.1,6,   7.9398,  25,2,  -999.00,9,  -999.00,   -999.0,9,   -999.0,  18.7865,  25.3426
  49NZ20090410,   P21,    56,  1,     33, X12003,2,20090425,2142,-16.7410, -89.3298, 4565,    148.2,2,  16.9566,2,  16.95120,2,  35.0699,2,  35.0665,2,   193.23,2,   190.40,2,     1.62,2,     0.12,     9.17,2,     0.06,     0.04,2,     0.01,    1.029,2,    0.013,    2.372,2,    1.449,2,    0.173,2,   2114.2,2,   2320.6,2,   7.8624,  25,6,  -999.00,9,  -999.00,   -999.0,9,   -999.0,  16.9322,  25.5840
  49NZ20090410,   P21,    56,  1,     32, X12002,2,20090425,2142,-16.7410, -89.3298, 4565,    200.1,2,  13.7643,2,  13.73220,2,  34.7109,2,  34.7004,2,   119.45,2,   108.03,2,     8.21,2,     0.14,    19.18,2,     0.09,     0.02,2,     0.01,    1.900,2,    0.015,    2.286,2,    1.332,2,    0.089,2,   2188.0,2,   2292.8,2,   7.6306,  25,2,  -999.00,9,  -999.00,   -999.0,9,   -999.0,  13.7358,  26.0188
  49NZ20090410,   P21,    56,  1,     31, X12001,2,20090425,2142,-16.7410, -89.3298, 4565,    249.7,2,  11.9317,2,  11.93416,2,  34.7321,2,  34.7293,6,     6.99,2,     7.24,2,    21.51,2,     0.17,    23.45,2,     0.10,     0.02,2,     0.01,    2.697,2,    0.017,    1.037,2,    0.577,2,    0.016,2,   2266.1,2,   2296.8,2,   7.4186,  25,2,  -999.00,9,  -999.00,   -999.0,9,   -999.0,  11.8993,  26.4001
  49NZ20090410,   P21,    56,  1,     30, X12030,2,20090425,2142,-16.7410, -89.3298, 4565,    328.8,2,  10.2985,2,  10.29843,2,  34.6763,2,  34.6758,2,     6.22,2,     6.00,2,    25.03,2,     0.17,    31.59,2,     0.12,     0.01,2,     0.01,    2.781,2,    0.017,    0.438,2,    0.230,2,    0.010,2,   2276.4,2,   2295.9,2,   7.3892,  25,2,  -999.00,9,  -999.00,   -999.0,9,   -999.0,  10.2595,  26.6546
  49NZ20090410,   P21,    56,  1,     29, X12044,2,20090425,2142,-16.7410, -89.3298, 4565,    430.1,2,   8.6321,2,   8.63251,2,  34.6005,2,  34.5995,2,    15.49,2,    15.66,2,    29.09,2,     0.18,    38.21,2,     0.14,     0.01,2,     0.01,    2.859,2,    0.017,    0.181,2,    0.095,2,    0.000,2,   2276.3,2,   2297.5,2,   7.3846,  25,2,  -999.00,9,  -999.00,   -999.0,9,   -999.0,   8.5862,  26.8706
  49NZ20090410,   P21,    56,  1,     28, X12048,2,20090425,2142,-16.7410, -89.3298, 4565,    529.6,2,   7.4229,2,   7.42431,2,  34.5435,2,  34.5431,6,    33.57,2,    33.50,2,    33.30,2,     0.19,    40.41,2,     0.15,     0.01,2,     0.01,    2.899,2,    0.017,    0.107,2,    0.056,2,    0.000,2,   2273.9,2,   2299.6,2,   7.4018,  25,2,  -999.00,9,  -999.00,   -999.0,9,   -999.0,   7.3708,  27.0071
  49NZ20090410,   P21,    56,  1,     27, X12027,2,20090425,2142,-16.7410, -89.3298, 4565,    629.7,2,   6.4862,2,   6.48571,2,  34.5094,2,  34.5087,2,    41.40,2,    41.38,2,    39.96,2,     0.21,    41.99,2,     0.15,     0.01,2,     0.01,    2.999,2,    0.017,    0.040,6,    0.021,6,    0.000,6,   2279.8,2,   2305.6,2,   7.4026,  25,2,  -999.00,9,  -999.00,   -999.0,9,   -999.0,   6.4283,  27.1096
  49NZ20090410,   P21,    56,  1,     26, X12026,2,20090425,2142,-16.7410, -89.3298, 4565,    730.5,2,   5.7932,2,   5.79289,2,  34.5001,2,  34.4995,2,    41.85,2,    42.02,2,    48.79,2,     0.23,    43.43,2,     0.15,     0.01,2,     0.01,    3.100,2,    0.018,    0.009,2,    0.003,2,    0.000,2,   2290.5,6,   2314.6,2,   7.3951,  25,2,  -999.00,9,  -999.00,   -999.0,9,   -999.0,   5.7293,  27.1916
  49NZ20090410,   P21,    56,  1,     25, X12025,2,20090425,2142,-16.7410, -89.3298, 4565,    830.7,2,   5.1917,2,   5.19356,2,  34.5042,2,  34.5042,2,    48.24,2,    48.16,2,    58.32,2,     0.25,    43.65,2,     0.16,     0.01,2,     0.01,    3.112,2,    0.018,    0.001,2,    0.000,2,    0.000,2,   2299.1,2,   2324.7,6,   7.4030,  25,2,  -999.00,9,  -999.00,   -999.0,9,   -999.0,   5.1223,  27.2679
  49NZ20090410,   P21,    56,  1,     24, X12024,2,20090425,2142,-16.7410, -89.3298, 4565,    930.6,2,   4.7721,2,   4.77245,2,  34.5142,2,  34.5140,2,    52.31,2,    52.47,2,    67.07,2,     0.27,    43.90,2,     0.16,     0.01,2,     0.01,    3.139,2,    0.018,    0.001,2,    0.000,2,    0.000,2,   2305.8,2,   2334.4,2,   7.4087,  25,6,  -999.00,9,  -999.00,   -999.0,9,   -999.0,   4.6966,  27.3246
  49NZ20090410,   P21,    56,  1,     23, X12028,2,20090425,2142,-16.7410, -89.3298, 4565,   1070.0,2,   4.2049,2,   4.20422,2,  34.5281,2,  34.5282,6,    69.35,2,    69.25,2,    77.33,2,     0.29,    42.50,2,     0.15,     0.01,2,     0.01,    3.057,2,    0.018,    0.000,2,    0.000,2,    0.000,2,   2308.0,2,   2347.3,2,   7.4390,  25,2,  -999.00,9,  -999.00,   -999.0,9,   -999.0,   4.1217,  27.3981
  49NZ20090410,   P21,    56,  1,     22, X12022,2,20090425,2142,-16.7410, -89.3298, 4565,   1270.1,2,   3.5770,2,   3.57686,2,  34.5559,2,  34.5563,2,    81.72,2,    81.41,2,    91.57,2,     0.32,    41.52,2,     0.15,     0.01,2,     0.01,    3.005,2,    0.017,    0.000,2,    0.000,2,    0.000,2,   2316.7,2,   2363.7,2,   7.4607,  25,2,  -999.00,9,  -999.00,   -999.0,9,   -999.0,   3.4823,  27.4850
  49NZ20090410,   P21,    56,  1,     21, X12021,2,20090425,2142,-16.7410, -89.3298, 4565,   1470.2,2,   3.0456,2,   3.04595,2,  34.5835,2,  34.5835,2,    94.67,2,    94.72,2,   103.71,2,     0.35,    40.48,2,     0.15,     0.01,2,     0.01,    2.918,2,    0.017,    0.001,2,    0.002,2,    0.000,2,   2322.4,2,   2377.4,2,   7.4843,  25,2,  -999.00,9,  -999.00,   -999.0,9,   -999.0,   2.9397,  27.5581
  49NZ20090410,   P21,    56,  1,     20, X12020,2,20090425,2142,-16.7410, -89.3298, 4565,   1671.1,2,   2.6646,2,   2.66524,2,  34.6091,2,  34.6088,2,   102.59,2,   102.73,2,   113.94,2,     0.37,    39.75,2,     0.14,     0.01,2,     0.01,    2.864,2,    0.017,    0.000,2,    0.001,2,    0.000,2,   2328.4,2,   2389.2,2,   7.4997,  25,6,  -999.00,9,  -999.00,   -999.0,9,   -999.0,   2.5465,  27.6134
  49NZ20090410,   P21,    56,  1,     19, X12019,2,20090425,2142,-16.7410, -89.3298, 4565,   1870.7,2,   2.3951,2,   2.39503,2,  34.6270,2,  34.6270,2,   114.17,2,   114.04,2,   118.85,2,     0.38,    38.60,2,     0.14,     0.01,2,     0.01,    2.777,2,    0.017,    0.000,2,    0.000,2,    0.000,2,   2328.2,2,   2395.9,2,   7.5213,  25,2,  -999.00,9,  -999.00,   -999.0,9,   -999.0,   2.2638,  27.6515
  49NZ20090410,   P21,    56,  1,     18, X12043,2,20090425,2142,-16.7410, -89.3298, 4565,   2069.7,2,   2.1775,2,   2.17756,2,  34.6429,2,  34.6429,2,   123.92,2,   123.91,2,   122.70,2,     0.39,    38.12,2,     0.14,     0.01,2,     0.01,    2.707,2,    0.017, -999.000,9, -999.000,9, -999.000,9,   2326.1,2,   2400.2,2,   7.5386,  25,2,  -999.00,9,  -999.00,   -999.0,9,   -999.0,   2.0324,  27.6830
  49NZ20090410,   P21,    56,  1,     17, X12042,2,20090425,2142,-16.7410, -89.3298, 4565,   2268.9,2,   2.0140,2,   2.01400,2,  34.6554,2,  34.6552,6,   134.25,2,   134.40,2,   123.56,2,     0.39,    37.21,2,     0.14,     0.01,2,     0.01,    2.636,2,    0.017,    0.000,2,    0.001,2,    0.000,2,   2324.6,2,   2403.2,2,   7.5574,  25,2,  -999.00,9,  -999.00,   -999.0,9,   -999.0,   1.8542,  27.7070
  49NZ20090410,   P21,    56,  1,     16, X12016,2,20090425,2142,-16.7410, -89.3298, 4565,   2470.1,2,   1.8987,2,   1.89872,2,  34.6657,2,  34.6657,2,   140.02,2,   140.22,2,   125.79,2,     0.40,    36.82,2,     0.14,     0.01,2,     0.01,    2.595,2,    0.016, -999.000,9, -999.000,9, -999.000,9,   2322.8,6,   2406.9,2,   7.5686,  25,2,  -999.00,9,  -999.00,   -999.0,9,   -999.0,   1.7230,  27.7253
  49NZ20090410,   P21,    56,  1,     15, X12015,2,20090425,2142,-16.7410, -89.3298, 4565,   2669.1,2,   1.8372,2,   1.83719,2,  34.6723,2,  34.6718,2,   142.38,2,   142.45,2,   127.68,2,     0.40,    36.50,2,     0.13,     0.01,2,     0.01,    2.572,2,    0.016, -999.000,9, -999.000,9, -999.000,9,   2325.7,2,   2411.1,6,   7.5758,  25,2,  -999.00,9,  -999.00,   -999.0,9,   -999.0,   1.6444,  27.7365
  49NZ20090410,   P21,    56,  1,     14, X12050,2,20090425,2142,-16.7410, -89.3298, 4565,   2871.8,2,   1.8064,2,   1.80652,2,  34.6767,2,  34.6764,2,   142.88,2,   142.97,2,   129.77,2,     0.40,    36.50,2,     0.13,     0.01,2,     0.01,    2.573,2,    0.016,    0.001,2,    0.001,2,    0.000,2,   2327.9,2,   2415.3,2,   7.5801,  25,2,  -999.00,9,  -999.00,   -999.0,9,   -999.0,   1.5952,  27.7438
  49NZ20090410,   P21,    56,  1,     13, X12013,7,20090425,2142,-16.7410, -89.3298, 4565,   3081.6,2,   1.7887,2,   1.78877,2,  34.6801,2,  34.6802,2,   144.18,2,   144.23,2,   130.89,2,     0.41,    36.38,2,     0.13,     0.01,2,     0.01,    2.566,2,    0.016, -999.000,9, -999.000,9, -999.000,9,   2333.3,2,   2418.6,2,   7.5852,  25,2,  -999.00,9,  -999.00,   -999.0,9,   -999.0,   1.5576,  27.7493
  49NZ20090410,   P21,    56,  1,     12, X12012,2,20090425,2142,-16.7410, -89.3298, 4565,   3330.9,2,   1.7836,2,   1.78372,2,  34.6827,2,  34.6823,2,   144.81,2,   144.98,2,   131.64,2,     0.41,    36.33,2,     0.13,     0.01,2,     0.01,    2.566,2,    0.016, -999.000,9, -999.000,9, -999.000,9,   2329.8,2,   2419.0,2,   7.5859,  25,2,  -999.00,9,  -999.00,   -999.0,9,   -999.0,   1.5277,  27.7535
  49NZ20090410,   P21,    56,  1,     11, X12041,2,20090425,2142,-16.7410, -89.3298, 4565,   3578.7,2,   1.7752,2,   1.77511,2,  34.6851,2,  34.6849,6,   146.92,2,   147.05,2,   130.29,2,     0.41,    36.18,2,     0.13,     0.01,2,     0.01,    2.545,2,    0.016,    0.001,2,    0.000,2,    0.000,2,   2326.3,2,   2417.8,2,   7.5881,  25,2,  -999.00,9,  -999.00,   -999.0,9,   -999.0,   1.4939,  27.7579
  49NZ20090410,   P21,    56,  1,     10, X12040,2,20090425,2142,-16.7410, -89.3298, 4565,   3831.0,2,   1.7680,2,   1.76795,2,  34.6874,2,  34.6875,2,   150.07,2,   150.38,2,   128.46,2,     0.40,    35.93,2,     0.13,     0.01,2,     0.01,    2.525,2,    0.016, -999.000,9, -999.000,9, -999.000,9,   2323.4,2,   2414.7,2,   7.5895,  25,2,  -999.00,9,  -999.00,   -999.0,9,   -999.0,   1.4600,  27.7622
  49NZ20090410,   P21,    56,  1,      9, X12009,2,20090425,2142,-16.7410, -89.3298, 4565,   4079.3,2,   1.7758,2,   1.77576,2,  34.6887,2,  34.6886,2,   151.53,2,   151.95,2,   127.47,2,     0.40,    35.77,2,     0.13,     0.01,2,     0.01,    2.516,2,    0.016, -999.000,9, -999.000,9, -999.000,9,   2324.0,2,   2413.7,2,   7.5910,  25,2,  -999.00,9,  -999.00,   -999.0,9,   -999.0,   1.4403,  27.7647
  49NZ20090410,   P21,    56,  1,      8, X12008,2,20090425,2142,-16.7410, -89.3298, 4565,   4329.3,2,   1.7990,2,   1.79895,2,  34.6891,2,  34.6889,2,   151.84,2,   152.11,2,   127.45,2,     0.40,    35.82,2,     0.13,     0.01,2,     0.01,    2.519,2,    0.016,    0.000,2,    0.000,2,    0.000,2,   2321.9,6,   2413.2,2,   7.5912,  25,2,  -999.00,9,  -999.00,   -999.0,9,   -999.0,   1.4345,  27.7654
  49NZ20090410,   P21,    56,  1,      7, X12007,2,20090425,2142,-16.7410, -89.3298, 4565,   4579.5,2,   1.8274,2,   1.82733,2,  34.6890,2,  34.6891,2,   151.96,2,   152.23,2,   127.41,2,     0.40,    35.82,2,     0.13,     0.01,2,     0.01,    2.509,2,    0.016,    0.000,2,    0.000,2,    0.000,2,   2323.3,2,   2413.0,6,   7.5910,  25,2,  -999.00,9,  -999.00,   -999.0,9,   -999.0,   1.4329,  27.7655
  49NZ20090410,   P21,    56,  1,      6, X12035,9,20090425,2142,-16.7410, -89.3298, 4565,      8.4,2,  23.5752,2,  23.57505,2,  35.7678,2,-999.0000,9,   214.92,2,  -999.00,9,  -999.00,9,  -999.00,  -999.00,9,  -999.00,  -999.00,9,  -999.00, -999.000,9, -999.000, -999.000,9, -999.000,9, -999.000,9,   -999.0,9,   -999.0,9,-999.0000,-999,9,  -999.00,9,  -999.00,   -999.0,9,   -999.0,  23.5735,  24.3488
  49NZ20090410,   P21,    56,  1,      5, X12038,9,20090425,2142,-16.7410, -89.3298, 4565,     50.3,2,  23.5386,2,  23.53836,2,  35.7629,2,-999.0000,9,   214.03,2,  -999.00,9,  -999.00,9,  -999.00,  -999.00,9,  -999.00,  -999.00,9,  -999.00, -999.000,9, -999.000, -999.000,9, -999.000,9, -999.000,9,   -999.0,9,   -999.0,9,-999.0000,-999,9,  -999.00,9,  -999.00,   -999.0,9,   -999.0,  23.5281,  24.3585
  49NZ20090410,   P21,    56,  1,      4, X12034,9,20090425,2142,-16.7410, -89.3298, 4565,     98.7,2,  18.8026,2,  18.80330,2,  35.3487,2,-999.0000,9,   209.67,2,  -999.00,9,  -999.00,9,  -999.00,  -999.00,9,  -999.00,  -999.00,9,  -999.00, -999.000,9, -999.000, -999.000,9, -999.000,9, -999.000,9,   -999.0,9,   -999.0,9,-999.0000,-999,9,  -999.00,9,  -999.00,   -999.0,9,   -999.0,  18.7851,  25.3425
  49NZ20090410,   P21,    56,  1,      3, X12033,9,20090425,2142,-16.7410, -89.3298, 4565,    149.6,2,  16.9709,2,  16.97724,2,  35.0719,2,-999.0000,9,   193.70,2,  -999.00,9,  -999.00,9,  -999.00,  -999.00,9,  -999.00,  -999.00,9,  -999.00, -999.000,9, -999.000, -999.000,9, -999.000,9, -999.000,9,   -999.0,9,   -999.0,9,-999.0000,-999,9,  -999.00,9,  -999.00,   -999.0,9,   -999.0,  16.9463,  25.5822
  49NZ20090410,   P21,    56,  1,      2, X12032,9,20090425,2142,-16.7410, -89.3298, 4565,   3081.5,2,   1.7890,2,   1.78908,2,  34.6802,2,-999.0000,9,   144.18,2,  -999.00,9,  -999.00,9,  -999.00,  -999.00,9,  -999.00,  -999.00,9,  -999.00, -999.000,9, -999.000, -999.000,9, -999.000,9, -999.000,9,   -999.0,9,   -999.0,9,-999.0000,-999,9,  -999.00,9,  -999.00,   -999.0,9,   -999.0,   1.5579,  27.7493
  49NZ20090410,   P21,    56,  1,      1, X12046,2,20090425,2142,-16.7410, -89.3298, 4565,   4626.8,2,   1.8332,2,   1.83313,2,  34.6889,2,  34.6891,6,   152.00,2,   152.22,2,   127.28,2,     0.40,    35.73,2,     0.13,     0.01,2,     0.01,    2.514,2,    0.016,    0.000,2,    0.001,2,    0.000,2,   2320.3,2,   2413.4,2,   7.5909,  25,2,  -999.00,9,  -999.00,   -999.0,9,   -999.0,   1.4329,  27.7654