BOTTLE,20220818CCHSIOAMB
EXPOCODE,SECT_ID,STNNBR,CASTNO,SAMPNO,BTLNBR,BTLNBR_FLAG_W,DATE,TIME,LATITUDE,LONGITUDE,DEPTH,CTDPRS,CTDPRS_FLAG_W,CTDTMP,CTDTMP_FLAG_W,SBE35,SBE35_FLAG_W,CTDSAL,CTDSAL_FLAG_W,SALNTY,SALNTY_FLAG_W,CTDOXY,CTDOXY_FLAG_W,OXYGEN,OXYGEN_FLAG_W,SILCAT,SILCAT_FLAG_W,SILUNC,NITRAT,NITRAT_FLAG_W,NRAUNC,NITRIT,NITRIT_FLAG_W,NRIUNC,PHSPHT,PHSPHT_FLAG_W,PHPUNC,CFC-11,CFC-11_FLAG_W,CFC-12,CFC-12_FLAG_W,CFC113,CFC113_FLAG_W,TCARBN,TCARBN_FLAG_W,ALKALI,ALKALI_FLAG_W,PH_TOT,PH_TMP,PH_TOT_FLAG_W,DELC13,DELC13_FLAG_W,C13ERR,DELC14,DELC14_FLAG_W,C14ERR,THETA,SIG0
,,,,,,,,,,,METERS,DBAR,,ITS-90,,ITS-90,,PSS-78,,PSS-78,,UMOL/KG,,UMOL/KG,,UMOL/KG,,UMOL/KG,UMOL/KG,,UMOL/KG,UMOL/KG,,UMOL/KG,UMOL/KG,,UMOL/KG,PMOL/KG,,PMOL/KG,,PMOL/KG,,UMOL/KG,,UMOL/KG,,,DEG C,,/MILLE,,/MILLE,/MILLE,,/MILLE,DEG C,KG/M^3
  49NZ20090410,   P21,   X17,  1,     36, X12006,2,20090512,0612,-16.8728,-133.5588, 4216,      9.7,2,  27.5946,2,  27.59443,2,  36.2630,2,  36.2669,2,   198.36,2,   197.89,2,     0.44,2,     0.12,     0.45,2,     0.03,     0.02,2,     0.01,    0.279,2,    0.014,    1.461,2,    0.944,2, -999.000,5,   2027.6,2,   2398.0,2,   8.1304,  25,6,  -999.00,1,  -999.00,   -999.0,1,   -999.0,  27.5923,  23.4780
  49NZ20090410,   P21,   X17,  1,     35, X12047,2,20090512,0612,-16.8728,-133.5588, 4216,     50.4,2,  27.4193,2,  27.41776,2,  36.5027,2,  36.5191,2,   200.03,2,   200.09,2,     0.52,2,     0.12,     0.21,2,     0.03,     0.01,2,     0.01,    0.259,2,    0.015,    1.492,2,    0.977,2, -999.000,5,   2047.5,6,   2408.3,2,   8.1181,  25,2,  -999.00,1,  -999.00,   -999.0,1,   -999.0,  27.4076,  23.7186
  49NZ20090410,   P21,   X17,  1,     34, X12004,2,20090512,0612,-16.8728,-133.5588, 4216,     99.4,2,  24.8732,2,  24.87160,2,  36.4303,2,  36.4240,2,   201.59,2,   201.20,2,     0.48,2,     0.12,     0.10,2,     0.03,     0.02,2,     0.01,    0.237,2,    0.015,    1.702,6,    1.092,6, -999.000,5,   2064.9,2,   2396.8,6,   8.0765,  25,2,  -999.00,1,  -999.00,   -999.0,1,   -999.0,  24.8516,  24.4679
  49NZ20090410,   P21,   X17,  1,     33, X12003,2,20090512,0612,-16.8728,-133.5588, 4216,    149.9,2,  23.5134,2,  23.49457,2,  36.3309,2,  36.3306,2,   189.16,2,   189.34,2,     0.50,2,     0.12,     0.40,2,     0.03,     1.34,2,     0.00,    0.364,2,    0.014,    1.795,2,    1.133,2, -999.000,5,   2085.1,2,   2391.3,2,   8.0369,  25,6,  -999.00,1,  -999.00,   -999.0,1,   -999.0,  23.4821,  24.8026
  49NZ20090410,   P21,   X17,  1,     32, X12002,2,20090512,0612,-16.8728,-133.5588, 4216,    199.9,2,  21.3195,2,  21.30511,2,  35.9874,2,  35.9932,2,   185.08,2,   184.68,2,     0.52,2,     0.12,     2.67,2,     0.04,     0.03,2,     0.01,    0.437,2,    0.013,    1.994,2,    1.245,2,    0.107,2,   2095.7,2,   2369.6,2,   7.9891,  25,2,  -999.00,1,  -999.00,   -999.0,1,   -999.0,  21.2806,  25.1688
  49NZ20090410,   P21,   X17,  1,     31, X12001,2,20090512,0612,-16.8728,-133.5588, 4216,    250.7,2,  19.1740,2,  19.17178,2,  35.5799,2,  35.5746,6,   185.30,2,   185.24,2,     0.62,2,     0.12,     3.78,2,     0.04,     0.02,2,     0.01,    0.495,2,    0.013,    2.228,2,    1.354,2,    0.029,2,   2093.6,2,   2340.8,2,   7.9530,  25,2,  -999.00,1,  -999.00,   -999.0,1,   -999.0,  19.1288,  25.4315
  49NZ20090410,   P21,   X17,  1,     30, X12030,2,20090512,0612,-16.8728,-133.5588, 4216,    331.5,2,  14.0541,2,  14.04977,2,  34.8312,2,  34.8341,2,   176.70,2,   176.82,2,     2.60,2,     0.12,    10.08,2,     0.06,     0.01,2,     0.01,    0.919,2,    0.013,    2.530,2,    1.386,2,    0.038,2,   2111.8,2,   2294.9,2,   7.8371,  25,2,  -999.00,1,  -999.00,   -999.0,1,   -999.0,  14.0059,  26.0554
  49NZ20090410,   P21,   X17,  1,     29, X12044,2,20090512,0612,-16.8728,-133.5588, 4216,    430.4,2,   8.9136,2,   8.92128,2,  34.4462,2,  34.4470,2,   133.78,2,   135.17,2,    11.89,2,     0.15,    25.49,2,     0.10,     0.01,2,     0.01,    1.968,2,    0.015,    1.626,2,    0.828,2,    0.019,2,   2188.0,2,   2279.3,2,   7.6127,  25,2,  -999.00,1,  -999.00,   -999.0,1,   -999.0,   8.8668,  26.7057
  49NZ20090410,   P21,   X17,  1,     28, X12048,2,20090512,0612,-16.8728,-133.5588, 4216,    528.7,2,   6.8185,2,   6.82078,2,  34.3909,2,  34.3913,6,   141.88,2,   141.64,2,    17.78,2,     0.16,    31.33,2,     0.12,     0.01,2,     0.01,    2.238,2,    0.016,    0.734,2,    0.383,2,    0.010,2,   2205.7,2,   2283.3,2,   7.5758,  25,2,  -999.00,1,  -999.00,   -999.0,1,   -999.0,   6.7690,  26.9705
  49NZ20090410,   P21,   X17,  1,     27, X12027,2,20090512,0612,-16.8728,-133.5588, 4216,    629.5,2,   5.7462,2,   5.74738,2,  34.3918,2,  34.3915,2,   141.00,2,   140.89,2,    27.63,2,     0.18,    34.04,2,     0.13,     0.01,2,     0.01,    2.380,2,    0.016,    0.237,6,    0.133,6,    0.018,6,   2217.1,2,   2292.2,2,   7.5670,  25,2,  -999.00,1,  -999.00,   -999.0,1,   -999.0,   5.6920,  27.1106
  49NZ20090410,   P21,   X17,  1,     26, X12026,2,20090512,0612,-16.8728,-133.5588, 4216,    729.3,2,   5.4409,2,   5.44148,2,  34.4541,2,  34.4539,2,   116.24,2,   116.35,2,    41.70,2,     0.21,    36.48,2,     0.13,     0.01,2,     0.01,    2.559,2,    0.016,    0.053,2,    0.033,2,    0.000,2,   2245.5,6,   2309.5,2,   7.5346,  25,2,  -999.00,1,  -999.00,   -999.0,1,   -999.0,   5.3792,  27.1978
  49NZ20090410,   P21,   X17,  1,     25, X12025,2,20090512,0612,-16.8728,-133.5588, 4216,    828.8,2,   5.0094,2,   5.00893,2,  34.4853,2,  34.4850,2,   116.03,2,   115.95,2,    52.70,2,     0.23,    36.93,2,     0.14,     0.01,2,     0.01,    2.598,2,    0.016,    0.031,2,    0.018,2,    0.000,2,   2257.3,2,   2321.7,6,   7.5354,  25,2,  -999.00,1,  -999.00,   -999.0,1,   -999.0,   4.9413,  27.2740
  49NZ20090410,   P21,   X17,  1,     24, X12024,2,20090512,0612,-16.8728,-133.5588, 4216,    929.3,2,   4.6187,2,   4.61865,2,  34.4999,2,  34.5002,2,   111.49,2,   111.36,2,    61.16,2,     0.25,    37.82,2,     0.14,     0.01,2,     0.01,    2.670,2,    0.017,    0.015,2,    0.007,2,    0.000,2,   2270.6,2,   2330.0,2,   7.5242,  25,6,  -999.00,1,  -999.00,   -999.0,1,   -999.0,   4.5445,  27.3301
  49NZ20090410,   P21,   X17,  1,     23, X12028,2,20090512,0612,-16.8728,-133.5588, 4216,   1071.2,2,   4.0975,2,   4.09672,2,  34.5187,2,  34.5189,6,   114.97,2,   114.86,2,    71.55,2,     0.28,    38.02,2,     0.14,     0.01,2,     0.01,    2.686,2,    0.017,    0.010,2,    0.004,2,    0.000,2,   2279.5,2,   2342.0,2,   7.5267,  25,2,  -999.00,1,  -999.00,   -999.0,1,   -999.0,   4.0151,  27.4017
  49NZ20090410,   P21,   X17,  1,     22, X12022,2,20090512,0612,-16.8728,-133.5588, 4216,   1270.9,2,   3.4233,2,   3.42303,2,  34.5557,2,  34.5563,2,   109.92,2,   109.99,2,    88.81,2,     0.31,    39.01,2,     0.14,     0.01,2,     0.01,    2.767,2,    0.017,    0.002,2,    0.001,2,    0.000,2,   2302.5,2,   2361.5,2,   7.5146,  25,2,  -999.00,1,  -999.00,   -999.0,1,   -999.0,   3.3301,  27.4995
  49NZ20090410,   P21,   X17,  1,     21, X12021,2,20090512,0612,-16.8728,-133.5588, 4216,   1469.0,2,   2.8957,2,   2.89617,2,  34.5763,2,  34.5765,2,   132.81,2,   132.90,2,    95.57,2,     0.33,    37.14,2,     0.14,     0.01,2,     0.01,    2.623,2,    0.017,    0.001,2,    0.001,2,    0.000,2,   2297.3,2,   2368.7,2,   7.5516,  25,2,  -999.00,1,  -999.00,   -999.0,1,   -999.0,   2.7916,  27.5657
  49NZ20090410,   P21,   X17,  1,     20, X12020,2,20090512,0612,-16.8728,-133.5588, 4216,   1669.5,2,   2.5064,2,   2.50641,2,  34.6027,2,  34.6032,2,   138.93,2,   139.09,2,   104.08,2,     0.35,    36.79,2,     0.14,     0.00,2,     0.01,    2.589,2,    0.016,    0.000,2,    0.000,2,    0.000,2,   2303.0,2,   2379.2,2,   7.5614,  25,2,  -999.00,1,  -999.00,   -999.0,1,   -999.0,   2.3904,  27.6215
  49NZ20090410,   P21,   X17,  1,     19, X12019,2,20090512,0612,-16.8728,-133.5588, 4216,   1872.8,2,   2.1921,2,   2.19215,2,  34.6304,2,  34.6307,2,   143.72,2,   143.83,2,   111.68,2,     0.36,    36.37,2,     0.13,     0.01,2,     0.01,    2.556,2,    0.016,    0.000,2,    0.000,2,    0.000,2,   2308.7,2,   2387.7,2,   7.5710,  25,2,  -999.00,1,  -999.00,   -999.0,1,   -999.0,   2.0635,  27.6705
  49NZ20090410,   P21,   X17,  1,     18, X12043,2,20090512,0612,-16.8728,-133.5588, 4216,   2069.3,2,   2.0319,2,   2.03204,2,  34.6452,2,  34.6452,2,   148.80,2,   148.74,2,   115.30,2,     0.37,    35.95,2,     0.13,     0.01,2,     0.01,    2.524,2,    0.016,    0.000,2,    0.000,2,    0.000,2,   2309.5,2,   2392.0,2,   7.5805,  25,2,  -999.00,1,  -999.00,   -999.0,1,   -999.0,   1.8891,  27.6961
  49NZ20090410,   P21,   X17,  1,     17, X12042,2,20090512,0612,-16.8728,-133.5588, 4216,   2271.1,2,   1.9176,2,   1.91753,2,  34.6572,2,  34.6572,6,   151.21,2,   151.25,2,   119.10,2,     0.38,    35.85,2,     0.13,     0.01,2,     0.01,    2.508,2,    0.016,    0.000,2,    0.000,2,    0.000,2,   2312.7,2,   2396.5,2,   7.5854,  25,2,  -999.00,1,  -999.00,   -999.0,1,   -999.0,   1.7592,  27.7157
  49NZ20090410,   P21,   X17,  1,     16, X12016,2,20090512,0612,-16.8728,-133.5588, 4216,   2469.9,2,   1.8307,2,   1.83076,2,  34.6648,2,  34.6646,2,   154.17,2,   154.01,2,   121.35,2,     0.39,    35.62,2,     0.13,     0.01,2,     0.01,    2.494,2,    0.016,    0.000,2,    0.000,2,    0.000,2,   2312.2,6,   2399.9,2,   7.5913,  25,2,  -999.00,1,  -999.00,   -999.0,1,   -999.0,   1.6562,  27.7296
  49NZ20090410,   P21,   X17,  1,     15, X12015,2,20090512,0612,-16.8728,-133.5588, 4216,   2670.4,2,   1.7685,2,   1.76848,2,  34.6694,2,  34.6694,2,   157.04,2,   156.98,2,   122.44,2,     0.39,    35.51,2,     0.13,     0.01,2,     0.01,    2.484,2,    0.016,    0.001,2,    0.001,2,    0.000,2,   2312.9,2,   2401.1,6,   7.5950,  25,2,  -999.00,1,  -999.00,   -999.0,1,   -999.0,   1.5770,  27.7392
  49NZ20090410,   P21,   X17,  1,     14, X12050,2,20090512,0612,-16.8728,-133.5588, 4216,   2870.6,2,   1.7133,2,   1.71338,2,  34.6748,2,  34.6747,2,   158.00,2,   157.98,2,   124.92,2,     0.39,    35.50,2,     0.13,     0.01,2,     0.01,    2.482,2,    0.016,    0.000,2,    0.000,2,    0.000,2,   2314.9,2,   2404.8,2,   7.5991,  25,6,  -999.00,1,  -999.00,   -999.0,1,   -999.0,   1.5042,  27.7489
  49NZ20090410,   P21,   X17,  1,     13, X12013,7,20090512,0612,-16.8728,-133.5588, 4216,   3081.9,2,   1.6726,2,   1.67276,2,  34.6785,2,  34.6792,2,   159.54,2,   159.48,2,   126.10,2,     0.40,    35.40,2,     0.13,     0.01,2,     0.01,    2.476,2,    0.016,    0.001,2,    0.000,2,    0.000,2,   2315.1,2,   2406.0,2,   7.6022,  25,2,  -999.00,1,  -999.00,   -999.0,1,   -999.0,   1.4441,  27.7562
  49NZ20090410,   P21,   X17,  1,     12, X12012,2,20090512,0612,-16.8728,-133.5588, 4216,   3331.2,2,   1.6387,2,   1.63885,2,  34.6822,2,  34.6822,6,   160.12,2,   160.20,2,   128.32,2,     0.40,    35.33,2,     0.13,     0.01,2,     0.01,    2.478,2,    0.016,    0.000,2,    0.001,2,    0.000,2,   2318.0,2,   2408.8,2,   7.6050,  25,2,  -999.00,1,  -999.00,   -999.0,1,   -999.0,   1.3863,  27.7633
  49NZ20090410,   P21,   X17,  1,     11, X12041,2,20090512,0612,-16.8728,-133.5588, 4216,   3580.9,2,   1.6005,2,   1.60064,2,  34.6851,2,  34.6850,2,   162.36,2,   162.31,2,   129.15,2,     0.40,    35.30,2,     0.13,     0.01,2,     0.01,    2.464,2,    0.016,    0.000,2,    0.001,2,    0.000,2,   2317.0,2,   2409.6,2,   7.6081,  25,2,  -999.00,1,  -999.00,   -999.0,1,   -999.0,   1.3235,  27.7702
  49NZ20090410,   P21,   X17,  1,     10, X12040,2,20090512,0612,-16.8728,-133.5588, 4216,   3830.5,2,   1.5726,2,   1.57267,2,  34.6876,2,  34.6876,2,   165.03,2,   165.03,2,   128.99,2,     0.40,    35.06,2,     0.13,     0.00,2,     0.01,    2.451,2,    0.016,    0.000,2,    0.000,2,    0.000,2,   2315.0,2,   2408.2,2,   7.6102,  25,2,  -999.00,1,  -999.00,   -999.0,1,   -999.0,   1.2700,  27.7759
  49NZ20090410,   P21,   X17,  1,      9, X12009,2,20090512,0612,-16.8728,-133.5588, 4216,   4079.2,2,   1.5433,2,   1.54341,2,  34.6900,2,  34.6899,2,   168.93,2,   168.93,2,   127.65,2,     0.40,    34.84,2,     0.13,     0.01,2,     0.01,    2.434,2,    0.016,    0.000,2,    0.000,2,    0.000,2,   2310.6,2,   2405.4,2,   7.6129,  25,2,  -999.00,1,  -999.00,   -999.0,1,   -999.0,   1.2145,  27.7817
  49NZ20090410,   P21,   X17,  1,      8, X12008,9,20090512,0612,-16.8728,-133.5588, 4216,      9.7,2,  27.5977,2,  27.59787,2,  36.2646,2,-999.0000,9,   198.37,2,  -999.00,9,  -999.00,9,  -999.00,  -999.00,9,  -999.00,  -999.00,9,  -999.00, -999.000,9, -999.000, -999.000,9, -999.000,9, -999.000,9,   -999.0,9,   -999.0,9,-999.0000,-999,9,  -999.00,9,  -999.00,   -999.0,9,   -999.0,  27.5954,  23.4782
  49NZ20090410,   P21,   X17,  1,      7, X12007,9,20090512,0612,-16.8728,-133.5588, 4216,   1071.1,2,   4.0953,2,   4.09509,2,  34.5189,2,-999.0000,9,   115.05,2,  -999.00,9,  -999.00,9,  -999.00,  -999.00,9,  -999.00,  -999.00,9,  -999.00, -999.000,9, -999.000, -999.000,9, -999.000,9, -999.000,9,   -999.0,9,   -999.0,9,-999.0000,-999,9,  -999.00,9,  -999.00,   -999.0,9,   -999.0,   4.0129,  27.4021
  49NZ20090410,   P21,   X17,  1,      6, X12035,9,20090512,0612,-16.8728,-133.5588, 4216,   1271.7,2,   3.4226,2,   3.42258,2,  34.5556,2,-999.0000,9,   110.01,2,  -999.00,9,  -999.00,9,  -999.00,  -999.00,9,  -999.00,  -999.00,9,  -999.00, -999.000,9, -999.000, -999.000,9, -999.000,9, -999.000,9,   -999.0,9,   -999.0,9,-999.0000,-999,9,  -999.00,9,  -999.00,   -999.0,9,   -999.0,   3.3293,  27.4996
  49NZ20090410,   P21,   X17,  1,      5, X12038,9,20090512,0612,-16.8728,-133.5588, 4216,   2670.7,2,   1.7684,2,   1.76838,2,  34.6695,2,-999.0000,9,   157.06,2,  -999.00,9,  -999.00,9,  -999.00,  -999.00,9,  -999.00,  -999.00,9,  -999.00, -999.000,9, -999.000, -999.000,9, -999.000,9, -999.000,9,   -999.0,9,   -999.0,9,-999.0000,-999,9,  -999.00,9,  -999.00,   -999.0,9,   -999.0,   1.5768,  27.7393
  49NZ20090410,   P21,   X17,  1,      4, X12034,9,20090512,0612,-16.8728,-133.5588, 4216,   2870.3,2,   1.7134,2,   1.71344,2,  34.6747,2,-999.0000,9,   158.00,2,  -999.00,9,  -999.00,9,  -999.00,  -999.00,9,  -999.00,  -999.00,9,  -999.00, -999.000,9, -999.000, -999.000,9, -999.000,9, -999.000,9,   -999.0,9,   -999.0,9,-999.0000,-999,9,  -999.00,9,  -999.00,   -999.0,9,   -999.0,   1.5043,  27.7488
  49NZ20090410,   P21,   X17,  1,      3, X12033,9,20090512,0612,-16.8728,-133.5588, 4216,   3081.9,2,   1.6724,2,   1.67261,2,  34.6785,2,-999.0000,9,   159.56,2,  -999.00,9,  -999.00,9,  -999.00,  -999.00,9,  -999.00,  -999.00,9,  -999.00, -999.000,9, -999.000, -999.000,9, -999.000,9, -999.000,9,   -999.0,9,   -999.0,9,-999.0000,-999,9,  -999.00,9,  -999.00,   -999.0,9,   -999.0,   1.4439,  27.7563
  49NZ20090410,   P21,   X17,  1,      2, X12032,9,20090512,0612,-16.8728,-133.5588, 4216,    929.1,2,   4.6184,2,   4.61875,2,  34.5001,2,-999.0000,9,   111.55,2,  -999.00,9,  -999.00,9,  -999.00,  -999.00,9,  -999.00,  -999.00,9,  -999.00, -999.000,9, -999.000, -999.000,9, -999.000,9, -999.000,9,   -999.0,9,   -999.0,9,-999.0000,-999,9,  -999.00,9,  -999.00,   -999.0,9,   -999.0,   4.5442,  27.3303
  49NZ20090410,   P21,   X17,  1,      1, X12046,2,20090512,0612,-16.8728,-133.5588, 4216,   4273.5,2,   1.5449,2,   1.54484,2,  34.6909,2,  34.6908,6,   170.33,2,   170.15,2,   127.21,2,     0.40,    34.70,2,     0.13,     0.01,2,     0.01,    2.427,2,    0.016,    0.000,2,    0.000,2,    0.000,2,   2309.1,2,   2402.8,2,   7.6124,  25,2,  -999.00,1,  -999.00,   -999.0,1,   -999.0,   1.1944,  27.7838