BOTTLE,20220818CCHSIOAMB
EXPOCODE,SECT_ID,STNNBR,CASTNO,SAMPNO,BTLNBR,BTLNBR_FLAG_W,DATE,TIME,LATITUDE,LONGITUDE,DEPTH,CTDPRS,CTDPRS_FLAG_W,CTDTMP,CTDTMP_FLAG_W,SBE35,SBE35_FLAG_W,CTDSAL,CTDSAL_FLAG_W,SALNTY,SALNTY_FLAG_W,CTDOXY,CTDOXY_FLAG_W,OXYGEN,OXYGEN_FLAG_W,SILCAT,SILCAT_FLAG_W,SILUNC,NITRAT,NITRAT_FLAG_W,NRAUNC,NITRIT,NITRIT_FLAG_W,NRIUNC,PHSPHT,PHSPHT_FLAG_W,PHPUNC,CFC-11,CFC-11_FLAG_W,CFC-12,CFC-12_FLAG_W,CFC113,CFC113_FLAG_W,TCARBN,TCARBN_FLAG_W,ALKALI,ALKALI_FLAG_W,PH_TOT,PH_TMP,PH_TOT_FLAG_W,DELC13,DELC13_FLAG_W,C13ERR,DELC14,DELC14_FLAG_W,C14ERR,THETA,SIG0
,,,,,,,,,,,METERS,DBAR,,ITS-90,,ITS-90,,PSS-78,,PSS-78,,UMOL/KG,,UMOL/KG,,UMOL/KG,,UMOL/KG,UMOL/KG,,UMOL/KG,UMOL/KG,,UMOL/KG,UMOL/KG,,UMOL/KG,PMOL/KG,,PMOL/KG,,PMOL/KG,,UMOL/KG,,UMOL/KG,,,DEG C,,/MILLE,,/MILLE,/MILLE,,/MILLE,DEG C,KG/M^3
  49NZ20090410,   P21,    57,  1,     36, X12006,2,20090426,0739,-16.7473, -89.9978, 4334,     10.4,2,  23.8521,2,  23.85069,2,  35.7580,2,  35.7580,2,   212.26,2,   212.33,2,     0.44,2,     0.12,     0.25,2,     0.03,     0.02,2,     0.01,    0.440,2,    0.013,    1.700,2,    1.086,2, -999.000,5,   2051.5,2,   2372.4,2,   8.0620,  25,2,  -999.00,9,  -999.00,   -999.0,9,   -999.0,  23.8499,  24.2599
  49NZ20090410,   P21,    57,  1,     35, X12047,2,20090426,0739,-16.7473, -89.9978, 4334,     49.3,2,  23.7122,2,  23.71815,2,  35.7423,2,  35.7193,2,   212.48,2,   215.51,2,     0.41,2,     0.12,     0.21,2,     0.03,     0.02,2,     0.01,    0.442,2,    0.013,    1.755,2,    1.110,2, -999.000,5,   2052.3,6,   2369.4,2,   8.0552,  25,2,  -999.00,9,  -999.00,   -999.0,9,   -999.0,  23.7019,  24.2917
  49NZ20090410,   P21,    57,  1,     34, X12004,2,20090426,0739,-16.7473, -89.9978, 4334,    100.5,2,  18.7766,2,  18.78023,2,  35.3190,2,  35.3133,2,   215.63,2,   214.91,2,     0.52,2,     0.12,     1.52,2,     0.04,     0.71,2,     0.01,    0.607,2,    0.013,    2.203,6,    1.356,6, -999.000,5,   2086.0,2,   2342.4,6,   7.9554,  25,2,  -999.00,9,  -999.00,   -999.0,9,   -999.0,  18.7588,  25.3264
  49NZ20090410,   P21,    57,  1,     33, X12003,2,20090426,0739,-16.7473, -89.9978, 4334,    151.2,2,  16.0479,2,  16.05053,2,  34.9355,2,  34.9341,2,   184.30,2,   180.37,2,     2.33,2,     0.12,    11.08,2,     0.06,     0.03,2,     0.01,    1.153,2,    0.013,    2.445,2,    1.468,2,    0.134,2,   2130.8,2,   2311.1,2,   7.8230,  25,6,  -999.00,9,  -999.00,   -999.0,9,   -999.0,  16.0240,  25.6925
  49NZ20090410,   P21,    57,  1,     32, X12002,2,20090426,0739,-16.7473, -89.9978, 4334,    200.6,2,  13.0333,2,  13.03334,2,  34.6817,2,  34.6821,2,    71.05,2,    68.95,2,    11.79,2,     0.14,    21.51,2,     0.09,     0.02,2,     0.01,    2.204,2,    0.016,    2.043,2,    1.167,2,    0.072,2,   2226.0,2,   2291.1,2,   7.5431,  25,2,  -999.00,9,  -999.00,   -999.0,9,   -999.0,  13.0057,  26.1451
  49NZ20090410,   P21,    57,  1,     31, X12001,2,20090426,0739,-16.7473, -89.9978, 4334,    250.6,2,  11.7468,2,  11.74598,2,  34.7458,2,  34.7429,6,     4.23,2,     4.76,2,    23.22,2,     0.17,    24.05,2,     0.10,     0.01,2,     0.01,    2.718,2,    0.017,    0.834,2,    0.460,2,    0.017,2,   2272.3,2,   2297.1,2,   7.4092,  25,2,  -999.00,9,  -999.00,   -999.0,9,   -999.0,  11.7146,  26.4457
  49NZ20090410,   P21,    57,  1,     30, X12030,2,20090426,0739,-16.7473, -89.9978, 4334,    301.4,2,  10.7005,2,  10.69833,2,  34.7047,2,  34.7038,2,     4.23,2,     4.28,2,    24.78,2,     0.17,    29.87,2,     0.12,     0.01,2,     0.01,    2.762,2,    0.017,    0.489,2,    0.260,2,    0.008,2,   2275.0,2,   2296.6,2,   7.3938,  25,2,  -999.00,9,  -999.00,   -999.0,9,   -999.0,  10.6639,  26.6057
  49NZ20090410,   P21,    57,  1,     29, X12044,2,20090426,0739,-16.7473, -89.9978, 4334,    400.9,2,   9.1148,2,   9.11700,2,  34.6484,2,  34.6476,2,     9.41,2,     9.63,2,    29.57,2,     0.18,    37.22,2,     0.14,     0.01,2,     0.01,    2.826,2,    0.017,    0.148,2,    0.081,2,    0.000,2,   2279.8,2,   2298.8,2,   7.3895,  25,2,  -999.00,9,  -999.00,   -999.0,9,   -999.0,   9.0706,  26.8315
  49NZ20090410,   P21,    57,  1,     28, X12048,2,20090426,0739,-16.7473, -89.9978, 4334,    500.2,2,   7.7934,2,   7.79404,2,  34.5732,2,  34.5724,6,    25.18,2,    25.79,2,    33.45,2,     0.19,    39.98,2,     0.14,     0.01,2,     0.01,    2.886,2,    0.017,    0.079,2,    0.043,2,    0.000,2,   2275.3,2,   2300.8,2,   7.3968,  25,2,  -999.00,9,  -999.00,   -999.0,9,   -999.0,   7.7429,  26.9767
  49NZ20090410,   P21,    57,  1,     27, X12027,2,20090426,0739,-16.7473, -89.9978, 4334,    599.5,2,   6.7408,2,   6.74011,2,  34.5189,2,  34.5186,2,    40.13,2,    40.19,2,    38.09,2,     0.20,    41.60,2,     0.15,     0.01,2,     0.01,    2.964,2,    0.017,    0.055,6,    0.029,6,    0.000,6,   2278.3,2,   2305.3,2,   7.4058,  25,2,  -999.00,9,  -999.00,   -999.0,9,   -999.0,   6.6846,  27.0829
  49NZ20090410,   P21,    57,  1,     26, X12026,2,20090426,0739,-16.7473, -89.9978, 4334,    700.3,2,   5.9530,2,   5.95023,2,  34.5044,2,  34.5043,2,    40.33,2,    40.84,2,    47.07,2,     0.22,    43.39,2,     0.15,     0.01,2,     0.01,    3.063,2,    0.018,    0.009,2,    0.005,2,    0.000,2,   2290.7,6,   2311.2,2,   7.3958,  25,2,  -999.00,9,  -999.00,   -999.0,9,   -999.0,   5.8911,  27.1748
  49NZ20090410,   P21,    57,  1,     25, X12025,2,20090426,0739,-16.7473, -89.9978, 4334,    799.4,2,   5.2801,2,   5.28040,2,  34.5031,2,  34.5025,2,    46.52,2,    46.41,2,    56.98,2,     0.24,    43.94,2,     0.16,     0.01,2,     0.01,    3.124,2,    0.018,    0.002,2,    0.000,2,    0.000,2,   2299.8,2,   2322.5,6,   7.3997,  25,2,  -999.00,9,  -999.00,   -999.0,9,   -999.0,   5.2129,  27.2564
  49NZ20090410,   P21,    57,  1,     24, X12024,2,20090426,0739,-16.7473, -89.9978, 4334,    899.4,2,   4.7454,2,   4.74614,2,  34.5117,2,  34.5109,2,    57.01,2,    57.14,2,    66.13,2,     0.26,    43.37,2,     0.15,     0.01,2,     0.01,    3.095,2,    0.018,    0.000,2,    0.002,2,    0.000,2,   2308.2,2,   2333.4,2,   7.4175,  25,6,  -999.00,9,  -999.00,   -999.0,9,   -999.0,   4.6729,  27.3253
  49NZ20090410,   P21,    57,  1,     23, X12028,2,20090426,0739,-16.7473, -89.9978, 4334,   1001.1,2,   4.3457,2,   4.34615,2,  34.5258,2,  34.5253,6,    63.89,2,    63.94,2,    75.53,2,     0.29,    42.83,2,     0.15,     0.01,2,     0.01,    3.087,2,    0.018,    0.000,2,    0.000,2,    0.000,2,   2310.5,2,   2344.5,2,   7.4289,  25,2,  -999.00,9,  -999.00,   -999.0,9,   -999.0,   4.2673,  27.3808
  49NZ20090410,   P21,    57,  1,     22, X12022,2,20090426,0739,-16.7473, -89.9978, 4334,   1200.2,2,   3.6912,2,   3.69107,2,  34.5547,2,  34.5552,2,    74.50,2,    74.37,2,    90.99,2,     0.32,    41.91,2,     0.15,     0.01,2,     0.01,    3.035,2,    0.018,    0.003,2,    0.001,2,    0.000,2,   2322.9,2,   2362.0,2,   7.4499,  25,2,  -999.00,9,  -999.00,   -999.0,9,   -999.0,   3.6013,  27.4724
  49NZ20090410,   P21,    57,  1,     21, X12021,2,20090426,0739,-16.7473, -89.9978, 4334,   1400.8,2,   3.2227,2,   3.22295,2,  34.5792,2,  34.5786,2,    83.04,2,    82.84,2,   103.01,2,     0.35,    41.10,2,     0.15,     0.01,2,     0.01,    2.992,2,    0.017,    0.001,2,    0.001,2,    0.000,2,   2336.9,3,   2375.8,2,   7.4642,  25,2,  -999.00,9,  -999.00,   -999.0,9,   -999.0,   3.1207,  27.5380
  49NZ20090410,   P21,    57,  1,     20, X12020,2,20090426,0739,-16.7473, -89.9978, 4334,   1600.0,2,   2.8037,2,   2.80367,2,  34.6036,2,  34.6035,2,    94.22,2,    94.01,2,   113.42,2,     0.37,    40.43,2,     0.15,     0.01,2,     0.01,    2.914,2,    0.017,    0.000,2,    0.000,2,    0.000,2,   2333.6,2,   2388.6,2,   7.4862,  25,6,  -999.00,9,  -999.00,   -999.0,9,   -999.0,   2.6898,  27.5965
  49NZ20090410,   P21,    57,  1,     19, X12019,2,20090426,0739,-16.7473, -89.9978, 4334,   1800.9,2,   2.5294,2,   2.52925,2,  34.6210,2,  34.6206,2,   105.38,2,   105.01,2,   119.43,2,     0.38,    39.41,2,     0.14,     0.01,2,     0.01,    2.828,2,    0.017,    0.000,2,    0.000,2,    0.000,2,   2334.9,2,   2396.2,2,   7.5080,  25,2,  -999.00,9,  -999.00,   -999.0,9,   -999.0,   2.4021,  27.6352
  49NZ20090410,   P21,    57,  1,     18, X12043,2,20090426,0739,-16.7473, -89.9978, 4334,   2001.2,2,   2.2959,2,   2.29590,2,  34.6373,2,  34.6371,2,   112.03,2,   111.67,2,   125.38,2,     0.39,    38.77,2,     0.14,     0.01,2,     0.01,    2.779,2,    0.017, -999.000,9, -999.000,9, -999.000,9,   2336.7,2,   2405.3,2,   7.5217,  25,2,  -999.00,9,  -999.00,   -999.0,9,   -999.0,   2.1548,  27.6686
  49NZ20090410,   P21,    57,  1,     17, X12042,2,20090426,0739,-16.7473, -89.9978, 4334,   2198.5,2,   2.1217,2,   2.12176,2,  34.6496,2,  34.6495,6,   121.32,2,   121.03,2,   127.54,2,     0.40,    38.01,2,     0.14,     0.01,2,     0.01,    2.713,2,    0.017, -999.000,9, -999.000,9, -999.000,9,   2335.0,2,   2405.3,2,   7.5383,  25,2,  -999.00,9,  -999.00,   -999.0,9,   -999.0,   1.9662,  27.6936
  49NZ20090410,   P21,    57,  1,     16, X12016,2,20090426,0739,-16.7473, -89.9978, 4334,   2400.6,2,   1.9845,2,   1.98430,2,  34.6595,2,  34.6594,2,   131.59,2,   131.49,2,   127.40,2,     0.40,    37.33,2,     0.14,     0.01,2,     0.01,    2.630,2,    0.017,    0.000,2,    0.000,2,    0.000,2,   2328.6,6,   2407.0,2,   7.5559,  25,2,  -999.00,9,  -999.00,   -999.0,9,   -999.0,   1.8135,  27.7134
  49NZ20090410,   P21,    57,  1,     15, X12015,2,20090426,0739,-16.7473, -89.9978, 4334,   2600.2,2,   1.8793,2,   1.87932,2,  34.6684,2,  34.6685,2,   140.48,2,   140.17,2,   126.85,2,     0.40,    36.51,2,     0.14,     0.01,2,     0.01,    2.580,2,    0.016, -999.000,9, -999.000,9, -999.000,9,   2323.5,2,   2408.5,6,   7.5704,  25,2,  -999.00,9,  -999.00,   -999.0,9,   -999.0,   1.6921,  27.7298
  49NZ20090410,   P21,    57,  1,     14, X12050,2,20090426,0739,-16.7473, -89.9978, 4334,   2801.1,2,   1.8288,2,   1.82893,2,  34.6742,2,  34.6741,2,   142.32,2,   142.24,2,   129.37,2,     0.40,    36.49,2,     0.13,     0.01,2,     0.01,    2.569,2,    0.016, -999.000,9, -999.000,9, -999.000,9,   2326.1,2,   2413.6,2,   7.5772,  25,6,  -999.00,9,  -999.00,   -999.0,9,   -999.0,   1.6238,  27.7396
  49NZ20090410,   P21,    57,  1,     13, X12013,7,20090426,0739,-16.7473, -89.9978, 4334,   2999.7,2,   1.8064,2,   1.80633,2,  34.6779,2,  34.6786,2,   143.59,2,   143.39,2,   130.33,2,     0.41,    36.34,2,     0.13,     0.01,2,     0.01,    2.558,2,    0.016,    0.002,2,    0.001,2,    0.000,2,   2327.7,2,   2417.1,2,   7.5829,  25,2,  -999.00,9,  -999.00,   -999.0,9,   -999.0,   1.5829,  27.7456
  49NZ20090410,   P21,    57,  1,     12, X12012,2,20090426,0739,-16.7473, -89.9978, 4334,   3250.9,2,   1.7948,2,   1.79475,2,  34.6808,2,  34.6807,6,   143.20,2,   143.17,2,   131.96,2,     0.41,    36.30,2,     0.13,     0.01,2,     0.01,    2.563,2,    0.016, -999.000,9, -999.000,9, -999.000,9,   2329.1,2,   2419.6,2,   7.5840,  25,2,  -999.00,9,  -999.00,   -999.0,9,   -999.0,   1.5467,  27.7506
  49NZ20090410,   P21,    57,  1,     11, X12041,2,20090426,0739,-16.7473, -89.9978, 4334,   3499.8,2,   1.7873,2,   1.78733,2,  34.6838,2,  34.6836,2,   145.10,2,   145.00,2,   131.43,2,     0.41,    36.22,2,     0.13,     0.01,2,     0.01,    2.549,2,    0.016, -999.000,9, -999.000,9, -999.000,9,   2328.3,2,   2418.9,2,   7.5866,  25,2,  -999.00,9,  -999.00,   -999.0,9,   -999.0,   1.5140,  27.7554
  49NZ20090410,   P21,    57,  1,     10, X12040,2,20090426,0739,-16.7473, -89.9978, 4334,   3751.1,2,   1.7791,2,   1.77905,2,  34.6862,2,  34.6859,2,   147.95,2,   147.95,2,   129.75,2,     0.40,    36.00,2,     0.13,     0.01,2,     0.01,    2.534,2,    0.016,    0.000,2,    0.000,2,    0.000,2,   2326.2,2,   2417.3,2,   7.5889,  25,2,  -999.00,9,  -999.00,   -999.0,9,   -999.0,   1.4794,  27.7598
  49NZ20090410,   P21,    57,  1,      9, X12009,2,20090426,0739,-16.7473, -89.9978, 4334,   3999.8,2,   1.7782,2,   1.77822,2,  34.6881,2,  34.6879,2,   150.54,2,   150.68,2,   128.05,2,     0.40,    35.75,2,     0.13,     0.01,2,     0.01,    2.516,2,    0.016,    0.000,2,    0.001,2,    0.000,2,   2324.3,2,   2414.6,2,   7.5904,  25,2,  -999.00,9,  -999.00,   -999.0,9,   -999.0,   1.4515,  27.7634
  49NZ20090410,   P21,    57,  1,      8, X12008,2,20090426,0739,-16.7473, -89.9978, 4334,   4249.8,2,   1.7947,2,   1.79460,2,  34.6888,2,  34.6885,2,   151.32,2,   151.45,2,   127.56,2,     0.40,    35.66,2,     0.13,     0.01,2,     0.01,    2.510,2,    0.016,    0.000,2,    0.000,2,    0.000,2,   2321.1,6,   2413.8,2,   7.5914,  25,2,  -999.00,9,  -999.00,   -999.0,9,   -999.0,   1.4395,  27.7649
  49NZ20090410,   P21,    57,  1,      7, X12007,9,20090426,0739,-16.7473, -89.9978, 4334,     10.4,2,  23.8520,2,  23.85076,2,  35.7580,2,-999.0000,9,   212.35,2,  -999.00,9,  -999.00,9,  -999.00,  -999.00,9,  -999.00,  -999.00,9,  -999.00, -999.000,9, -999.000, -999.000,9, -999.000,9, -999.000,9,   -999.0,9,   -999.0,9,-999.0000,-999,9,  -999.00,9,  -999.00,   -999.0,9,   -999.0,  23.8498,  24.2599
  49NZ20090410,   P21,    57,  1,      6, X12035,9,20090426,0739,-16.7473, -89.9978, 4334,    599.2,2,   6.7454,2,   6.74500,2,  34.5192,2,-999.0000,9,    39.91,2,  -999.00,9,  -999.00,9,  -999.00,  -999.00,9,  -999.00,  -999.00,9,  -999.00, -999.000,9, -999.000, -999.000,9, -999.000,9, -999.000,9,   -999.0,9,   -999.0,9,-999.0000,-999,9,  -999.00,9,  -999.00,   -999.0,9,   -999.0,   6.6892,  27.0825
  49NZ20090410,   P21,    57,  1,      5, X12038,9,20090426,0739,-16.7473, -89.9978, 4334,   2599.9,2,   1.8792,2,   1.87926,2,  34.6684,2,-999.0000,9,   140.46,2,  -999.00,9,  -999.00,9,  -999.00,  -999.00,9,  -999.00,  -999.00,9,  -999.00, -999.000,9, -999.000, -999.000,9, -999.000,9, -999.000,9,   -999.0,9,   -999.0,9,-999.0000,-999,9,  -999.00,9,  -999.00,   -999.0,9,   -999.0,   1.6920,  27.7298
  49NZ20090410,   P21,    57,  1,      4, X12034,9,20090426,0739,-16.7473, -89.9978, 4334,   2801.3,2,   1.8286,2,   1.82859,2,  34.6742,2,-999.0000,9,   142.33,2,  -999.00,9,  -999.00,9,  -999.00,  -999.00,9,  -999.00,  -999.00,9,  -999.00, -999.000,9, -999.000, -999.000,9, -999.000,9, -999.000,9,   -999.0,9,   -999.0,9,-999.0000,-999,9,  -999.00,9,  -999.00,   -999.0,9,   -999.0,   1.6236,  27.7396
  49NZ20090410,   P21,    57,  1,      3, X12033,9,20090426,0739,-16.7473, -89.9978, 4334,   3250.6,2,   1.7947,2,   1.79464,2,  34.6809,2,-999.0000,9,   143.22,2,  -999.00,9,  -999.00,9,  -999.00,  -999.00,9,  -999.00,  -999.00,9,  -999.00, -999.000,9, -999.000, -999.000,9, -999.000,9, -999.000,9,   -999.0,9,   -999.0,9,-999.0000,-999,9,  -999.00,9,  -999.00,   -999.0,9,   -999.0,   1.5467,  27.7506
  49NZ20090410,   P21,    57,  1,      2, X12032,9,20090426,0739,-16.7473, -89.9978, 4334,   3000.2,2,   1.8063,2,   1.80612,2,  34.6779,2,-999.0000,9,   143.56,2,  -999.00,9,  -999.00,9,  -999.00,  -999.00,9,  -999.00,  -999.00,9,  -999.00, -999.000,9, -999.000, -999.000,9, -999.000,9, -999.000,9,   -999.0,9,   -999.0,9,-999.0000,-999,9,  -999.00,9,  -999.00,   -999.0,9,   -999.0,   1.5827,  27.7456
  49NZ20090410,   P21,    57,  1,      1, X12046,2,20090426,0739,-16.7473, -89.9978, 4334,   4378.2,2,   1.8065,2,   1.80641,2,  34.6889,2,  34.6888,6,   151.62,2,   151.98,2,   127.52,2,     0.40,    35.76,2,     0.13,     0.01,2,     0.01,    2.511,2,    0.016,    0.000,2,    0.000,2,    0.000,2,   2320.2,2,   2417.0,2,   7.5907,  25,2,  -999.00,9,  -999.00,   -999.0,9,   -999.0,   1.4362,  27.7651