BOTTLE,20220818CCHSIOAMB
EXPOCODE,SECT_ID,STNNBR,CASTNO,SAMPNO,BTLNBR,BTLNBR_FLAG_W,DATE,TIME,LATITUDE,LONGITUDE,DEPTH,CTDPRS,CTDPRS_FLAG_W,CTDTMP,CTDTMP_FLAG_W,SBE35,SBE35_FLAG_W,CTDSAL,CTDSAL_FLAG_W,SALNTY,SALNTY_FLAG_W,CTDOXY,CTDOXY_FLAG_W,OXYGEN,OXYGEN_FLAG_W,SILCAT,SILCAT_FLAG_W,SILUNC,NITRAT,NITRAT_FLAG_W,NRAUNC,NITRIT,NITRIT_FLAG_W,NRIUNC,PHSPHT,PHSPHT_FLAG_W,PHPUNC,CFC-11,CFC-11_FLAG_W,CFC-12,CFC-12_FLAG_W,CFC113,CFC113_FLAG_W,TCARBN,TCARBN_FLAG_W,ALKALI,ALKALI_FLAG_W,PH_TOT,PH_TMP,PH_TOT_FLAG_W,DELC13,DELC13_FLAG_W,C13ERR,DELC14,DELC14_FLAG_W,C14ERR,THETA,SIG0
,,,,,,,,,,,METERS,DBAR,,ITS-90,,ITS-90,,PSS-78,,PSS-78,,UMOL/KG,,UMOL/KG,,UMOL/KG,,UMOL/KG,UMOL/KG,,UMOL/KG,UMOL/KG,,UMOL/KG,UMOL/KG,,UMOL/KG,PMOL/KG,,PMOL/KG,,PMOL/KG,,UMOL/KG,,UMOL/KG,,,DEG C,,/MILLE,,/MILLE,/MILLE,,/MILLE,DEG C,KG/M^3
  49NZ20090410,   P21,   160,  1,     36, X12006,2,20090517,1409,-17.5000,-148.5045, 3840,     10.0,2,  27.9479,2,  27.94840,2,  36.2765,2,  36.2771,2,   197.19,2,   196.95,2,     0.69,2,     0.12,     0.08,2,     0.03,     0.01,2,     0.01,    0.223,2,    0.015,    1.445,2,    0.948,2, -999.000,5,   2020.8,2,   2388.5,2,   8.1288,  25,6,  -999.00,9,  -999.00,   -999.0,9,   -999.0,  27.9455,  23.3728
  49NZ20090410,   P21,   160,  1,     35, X12047,2,20090517,1409,-17.5000,-148.5045, 3840,     50.6,2,  27.9567,2,  27.95593,2,  36.2865,2,  36.2862,2,   197.35,2,   197.37,2,     0.64,2,     0.12,     0.07,2,     0.03,     0.01,2,     0.01,    0.223,2,    0.015,    1.446,2,    0.954,2, -999.000,5,   2022.0,6,   2389.2,2,   8.1288,  25,2,  -999.00,9,  -999.00,   -999.0,9,   -999.0,  27.9447,  23.3807
  49NZ20090410,   P21,   160,  1,     34, X12004,2,20090517,1409,-17.5000,-148.5045, 3840,    100.4,2,  26.2696,2,  26.26887,2,  36.4455,2,  36.4461,2,   207.37,2,   207.31,2,     0.64,2,     0.12,     0.06,2,     0.03,     0.01,2,     0.01,    0.217,2,    0.016,    1.629,6,    1.052,6, -999.000,5,   2046.8,2,   2398.2,6,   8.1010,  25,2,  -999.00,9,  -999.00,   -999.0,9,   -999.0,  26.2469,  24.0467
  49NZ20090410,   P21,   160,  1,     33, X12003,2,20090517,1409,-17.5000,-148.5045, 3840,    150.6,2,  24.4846,2,  24.48282,2,  36.3486,2,  36.3481,2,   189.34,2,   189.50,2,     0.62,2,     0.12,     0.36,2,     0.03,     0.62,2,     0.00,    0.299,2,    0.014,    1.699,2,    1.078,2, -999.000,5,   2065.1,2,   2391.6,2,   8.0630,  25,6,  -999.00,9,  -999.00,   -999.0,9,   -999.0,  24.4522,  24.5272
  49NZ20090410,   P21,   160,  1,     32, X12002,2,20090517,1409,-17.5000,-148.5045, 3840,    200.6,2,  22.2391,2,  22.24102,2,  36.0408,2,  36.0442,2,   180.24,2,   179.88,2,     0.60,2,     0.12,     2.44,2,     0.04,     0.02,2,     0.01,    0.393,2,    0.013,    1.920,2,    1.192,2,    0.107,2,   2081.6,2,   2370.8,2,   8.0090,  25,2,  -999.00,9,  -999.00,   -999.0,9,   -999.0,  22.1989,  24.9528
  49NZ20090410,   P21,   160,  1,     31, X12001,2,20090517,1409,-17.5000,-148.5045, 3840,    248.9,2,  20.0788,2,  20.07037,2,  35.7084,2,  35.7101,6,   180.69,2,   180.62,2,     0.79,2,     0.12,     3.56,2,     0.04,     0.02,2,     0.01,    0.466,2,    0.013,    2.105,2,    1.270,2,    0.040,2,   2086.4,2,   2347.1,2,   7.9690,  25,2,  -999.00,9,  -999.00,   -999.0,9,   -999.0,  20.0324,  25.2937
  49NZ20090410,   P21,   160,  1,     30, X12030,2,20090517,1409,-17.5000,-148.5045, 3840,    299.6,2,  17.7455,2,  17.74535,2,  35.3635,2,  35.3623,2,   180.54,2,   180.65,2,     1.40,2,     0.12,     5.58,2,     0.05,     0.01,2,     0.01,    0.597,2,    0.013,    2.277,2,    1.337,2,    0.021,2,   2093.7,2,   2326.9,2,   7.9232,  25,2,  -999.00,9,  -999.00,   -999.0,9,   -999.0,  17.6943,  25.6257
  49NZ20090410,   P21,   160,  1,     29, X12044,2,20090517,1409,-17.5000,-148.5045, 3840,    399.2,2,  11.9193,2,  11.90653,2,  34.6980,2,  34.7000,2,   151.58,2,   152.01,2,     7.42,2,     0.14,    17.07,2,     0.08,     0.01,2,     0.01,    1.406,2,    0.014,    1.978,6,    1.073,6,    0.028,6,   2146.5,2,   2291.7,2,   7.7410,  25,2,  -999.00,9,  -999.00,   -999.0,9,   -999.0,  11.8672,  26.3798
  49NZ20090410,   P21,   160,  1,     28, X12048,2,20090517,1409,-17.5000,-148.5045, 3840,    498.2,2,   8.0121,2,   8.01365,2,  34.4545,2,  34.4541,6,   151.35,2,   151.35,2,    15.77,2,     0.15,    26.82,2,     0.11,     0.01,2,     0.01,    1.977,2,    0.015,    1.187,2,    0.616,2,    0.022,2,   2184.6,2,   2285.9,2,   7.6316,  25,2,  -999.00,9,  -999.00,   -999.0,9,   -999.0,   7.9611,  26.8512
  49NZ20090410,   P21,   160,  1,     27, X12027,2,20090517,1409,-17.5000,-148.5045, 3840,    600.5,2,   6.3952,2,   6.39291,2,  34.4209,2,  34.4206,2,   155.41,2,   155.30,2,    25.35,2,     0.17,    30.63,2,     0.12,     0.01,2,     0.01,    2.176,2,    0.015,    0.597,6,    0.308,6,    0.011,6,   2200.6,2,   2294.3,2,   7.6089,  25,2,  -999.00,9,  -999.00,   -999.0,9,   -999.0,   6.3406,  27.0512
  49NZ20090410,   P21,   160,  1,     26, X12026,2,20090517,1409,-17.5000,-148.5045, 3840,    699.2,2,   5.6039,2,   5.60506,2,  34.4370,2,  34.4366,2,   147.81,2,   147.66,2,    36.55,2,     0.20,    32.73,2,     0.12,     0.01,2,     0.01,    2.317,2,    0.016,    0.253,2,    0.135,2,    0.000,2,   2219.2,6,   2305.8,2,   7.5898,  25,2,  -999.00,9,  -999.00,   -999.0,9,   -999.0,   5.5440,  27.1645
  49NZ20090410,   P21,   160,  1,     25, X12025,2,20090517,1409,-17.5000,-148.5045, 3840,    799.0,2,   5.0349,2,   5.03658,2,  34.4481,2,  34.4482,2,   146.35,2,   146.43,2,    45.53,2,     0.22,    33.93,2,     0.13,     0.01,2,     0.01,    2.386,2,    0.016,    0.124,2,    0.071,2,    0.000,2,   2230.4,2,   2315.1,6,   7.5825,  25,2,  -999.00,9,  -999.00,   -999.0,9,   -999.0,   4.9694,  27.2412
  49NZ20090410,   P21,   160,  1,     24, X12024,2,20090517,1409,-17.5000,-148.5045, 3840,    900.0,2,   4.4278,2,   4.42833,2,  34.4712,2,  34.4721,2,   145.02,2,   145.05,2,    56.67,2,     0.24,    34.67,2,     0.13,     0.01,2,     0.01,    2.443,2,    0.016,    0.049,2,    0.029,2,    0.000,2,   2243.9,2,   2327.2,2,   7.5766,  25,6,  -999.00,9,  -999.00,   -999.0,9,   -999.0,   4.3575,  27.3278
  49NZ20090410,   P21,   160,  1,     23, X12028,2,20090517,1409,-17.5000,-148.5045, 3840,    999.6,2,   4.0732,2,   4.07345,2,  34.4950,2,  34.4948,6,   143.76,2,   143.77,2,    64.89,2,     0.26,    35.16,2,     0.13,     0.01,2,     0.01,    2.475,2,    0.016,    0.019,2,    0.013,2,    0.000,2,   2254.0,2,   2336.6,2,   7.5743,  25,2,  -999.00,9,  -999.00,   -999.0,9,   -999.0,   3.9970,  27.3847
  49NZ20090410,   P21,   160,  1,     22, X12022,2,20090517,1409,-17.5000,-148.5045, 3840,   1199.6,2,   3.4097,2,   3.41075,2,  34.5326,2,  34.5328,2,   143.36,2,   143.22,2,    79.29,2,     0.29,    35.65,2,     0.13,     0.01,2,     0.01,    2.520,2,    0.016,    0.006,2,    0.005,2,    0.000,2,   2269.9,2,   2351.6,2,   7.5709,  25,2,  -999.00,9,  -999.00,   -999.0,9,   -999.0,   3.3225,  27.4819
  49NZ20090410,   P21,   160,  1,     21, X12021,2,20090517,1409,-17.5000,-148.5045, 3840,   1400.6,2,   2.9303,2,   2.93018,2,  34.5691,2,  34.5693,2,   144.20,2,   143.97,2,    91.61,2,     0.32,    35.88,2,     0.13,     0.01,2,     0.01,    2.532,2,    0.016,    0.002,2,    0.002,2,    0.000,2,   2282.9,2,   2365.4,2,   7.5712,  25,2,  -999.00,9,  -999.00,   -999.0,9,   -999.0,   2.8314,  27.5563
  49NZ20090410,   P21,   160,  1,     20, X12020,2,20090517,1409,-17.5000,-148.5045, 3840,   1599.0,2,   2.6128,2,   2.61267,2,  34.5913,2,  34.5915,2,   146.79,2,   146.76,2,    99.11,2,     0.34,    35.86,2,     0.13,     0.01,2,     0.01,    2.528,2,    0.016,    0.000,2,    0.002,2,    0.000,2,   2291.1,2,   2373.9,2,   7.5751,  25,2,  -999.00,9,  -999.00,   -999.0,9,   -999.0,   2.5013,  27.6030
  49NZ20090410,   P21,   160,  1,     19, X12019,2,20090517,1409,-17.5000,-148.5045, 3840,   1799.3,2,   2.3406,2,   2.34126,2,  34.6160,2,  34.6155,2,   148.50,2,   148.36,2,   106.54,2,     0.35,    35.90,2,     0.13,     0.01,2,     0.01,    2.524,2,    0.016,    0.000,2,    0.000,2,    0.000,2,   2296.3,2,   2382.7,2,   7.5781,  25,2,  -999.00,9,  -999.00,   -999.0,9,   -999.0,   2.2160,  27.6466
  49NZ20090410,   P21,   160,  1,     18, X12043,2,20090517,1409,-17.5000,-148.5045, 3840,   1999.7,2,   2.1319,2,   2.13201,2,  34.6346,2,  34.6338,6,   150.60,2,   150.34,2,   112.22,2,     0.37,    35.75,2,     0.13,     0.01,2,     0.01,    2.516,2,    0.016,    0.000,2,    0.000,2,    0.000,2,   2301.3,2,   2389.0,2,   7.5823,  25,2,  -999.00,9,  -999.00,   -999.0,9,   -999.0,   1.9935,  27.6794
  49NZ20090410,   P21,   160,  1,     17, X12042,2,20090517,1409,-17.5000,-148.5045, 3840,   2199.4,2,   2.0240,2,   2.02475,2,  34.6444,2,  34.6439,2,   152.05,2,   151.92,2,   115.47,2,     0.37,    35.72,2,     0.13,     0.01,2,     0.01,    2.509,2,    0.016,    0.001,2,    0.000,2,    0.000,2,   2302.8,2,   2392.1,2,   7.5852,  25,2,  -999.00,9,  -999.00,   -999.0,9,   -999.0,   1.8701,  27.6969
  49NZ20090410,   P21,   160,  1,     16, X12016,2,20090517,1409,-17.5000,-148.5045, 3840,   2401.1,2,   1.9065,2,   1.90660,2,  34.6542,2,  34.6537,2,   154.79,2,   154.75,2,   118.12,2,     0.38,    35.46,2,     0.13,     0.01,2,     0.01,    2.497,2,    0.016,    0.002,2,    0.001,2,    0.000,2,   2304.0,6,   2393.6,2,   7.5881,  25,2,  -999.00,9,  -999.00,   -999.0,9,   -999.0,   1.7368,  27.7151
  49NZ20090410,   P21,   160,  1,     15, X12015,2,20090517,1409,-17.5000,-148.5045, 3840,   2600.2,2,   1.8219,2,   1.82198,2,  34.6625,2,  34.6619,2,   156.35,2,   156.26,2,   120.64,2,     0.38,    35.42,2,     0.13,     0.01,2,     0.01,    2.490,2,    0.016,    0.001,2,    0.001,2,    0.000,2,   2305.8,2,   2397.2,6,   7.5915,  25,2,  -999.00,9,  -999.00,   -999.0,9,   -999.0,   1.6358,  27.7293
  49NZ20090410,   P21,   160,  1,     14, X12050,2,20090517,1409,-17.5000,-148.5045, 3840,   2799.3,2,   1.7541,2,   1.75445,2,  34.6671,2,  34.6665,2,   160.46,2,   160.44,2,   120.40,2,     0.38,    35.23,2,     0.13,     0.01,2,     0.01,    2.467,2,    0.016,    0.000,2,    0.000,2,    0.000,2,   2303.0,2,   2394.1,2,   7.5943,  25,6,  -999.00,9,  -999.00,   -999.0,9,   -999.0,   1.5509,  27.7393
  49NZ20090410,   P21,   160,  1,     13, X12014,2,20090517,1409,-17.5000,-148.5045, 3840,   3000.5,2,   1.6705,2,   1.67049,2,  34.6739,2,  34.6732,6,   163.90,2,   163.85,2,   121.08,2,     0.39,    34.95,2,     0.13,     0.01,2,     0.01,    2.444,2,    0.016,    0.002,2,    0.001,2,    0.000,2,   2301.5,2,   2394.3,2,   7.5981,  25,2,  -999.00,9,  -999.00,   -999.0,9,   -999.0,   1.4499,  27.7521
  49NZ20090410,   P21,   160,  1,     12, X12012,2,20090517,1409,-17.5000,-148.5045, 3840,   3249.8,2,   1.5792,2,   1.57980,2,  34.6812,2,  34.6805,2,   168.95,2,   169.12,2,   121.16,2,     0.39,    34.57,2,     0.13,     0.01,2,     0.01,    2.420,2,    0.016,    0.000,2,    0.000,2,    0.000,2,   2298.1,2,   2392.3,2,   7.6019,  25,2,  -999.00,9,  -999.00,   -999.0,9,   -999.0,   1.3363,  27.7661
  49NZ20090410,   P21,   160,  1,     11, X12041,2,20090517,1409,-17.5000,-148.5045, 3840,   3500.7,2,   1.5167,2,   1.51653,2,  34.6862,2,  34.6857,2,   173.40,2,   173.42,2,   120.94,2,     0.39,    34.22,2,     0.13,     0.01,2,     0.01,    2.399,2,    0.016,    0.002,2,    0.000,2,    0.000,2,   2294.3,2,   2390.1,2,   7.6049,  25,2,  -999.00,9,  -999.00,   -999.0,9,   -999.0,   1.2500,  27.7762
  49NZ20090410,   P21,   160,  1,     10, X12040,2,20090517,1409,-17.5000,-148.5045, 3840,   3749.3,2,   1.4828,2,   1.48282,2,  34.6899,2,  34.6903,2,   176.81,2,   176.81,2,   120.17,2,     0.38,    34.05,2,     0.13,     0.01,2,     0.01,    2.382,2,    0.016,    0.001,2,    0.001,2,    0.000,2,   2291.1,2,   2387.6,2,   7.6076,  25,2,  -999.00,9,  -999.00,   -999.0,9,   -999.0,   1.1912,  27.7833
  49NZ20090410,   P21,   160,  1,      9, X12009,9,20090517,1409,-17.5000,-148.5045, 3840,   3891.8,2,   1.4802,2,   1.48010,2,  34.6911,2,-999.0000,9,   177.88,2,  -999.00,9,  -999.00,9,  -999.00,  -999.00,9,  -999.00,  -999.00,9,  -999.00, -999.000,9, -999.000, -999.000,9, -999.000,9, -999.000,9,   -999.0,9,   -999.0,9,-999.0000,-999,9,  -999.00,9,  -999.00,   -999.0,9,   -999.0,   1.1735,  27.7854
  49NZ20090410,   P21,   160,  1,      8, X12008,2,20090517,1409,-17.5000,-148.5045, 3840,   3000.0,2,   1.6705,2,   1.67049,2,  34.6739,2,  34.6735,2,   163.92,2,  -999.00,9,  -999.00,9,  -999.00,  -999.00,9,  -999.00,  -999.00,9,  -999.00, -999.000,9, -999.000, -999.000,9, -999.000,9, -999.000,9,   -999.0,9,   -999.0,9,-999.0000,-999,9,  -999.00,9,  -999.00,   -999.0,9,   -999.0,   1.4500,  27.7521
  49NZ20090410,   P21,   160,  1,      7, X12007,2,20090517,1409,-17.5000,-148.5045, 3840,      9.9,2,  27.9397,2,  27.94065,2,  36.2762,2,-999.0000,9,   197.27,2,  -999.00,9,     0.68,2,     0.12,     0.07,2,     0.03,     0.01,2,     0.01,    0.224,2,    0.015, -999.000,9, -999.000,9, -999.000,9,   -999.0,9,   -999.0,9,-999.0000,-999,9,  -999.00,9,  -999.00,   -999.0,9,   -999.0,  27.9374,  23.3753
  49NZ20090410,   P21,   160,  1,      6, X12035,2,20090517,1409,-17.5000,-148.5045, 3840,     50.5,2,  27.9582,2,  27.95802,2,  36.2866,2,-999.0000,9,   197.28,2,  -999.00,9,     0.69,2,     0.12,     0.08,2,     0.03,     0.01,2,     0.01,    0.228,2,    0.015, -999.000,9, -999.000,9, -999.000,9,   -999.0,9,   -999.0,9,-999.0000,-999,9,  -999.00,9,  -999.00,   -999.0,9,   -999.0,  27.9463,  23.3802
  49NZ20090410,   P21,   160,  1,      5, X12038,2,20090517,1409,-17.5000,-148.5045, 3840,    100.4,2,  26.2752,2,  26.27365,2,  36.4459,2,-999.0000,9,   207.46,2,  -999.00,9,     0.73,2,     0.12,     0.12,2,     0.03,     0.02,2,     0.01,    0.226,2,    0.015, -999.000,9, -999.000,9, -999.000,9,   -999.0,9,   -999.0,9,-999.0000,-999,9,  -999.00,9,  -999.00,   -999.0,9,   -999.0,  26.2525,  24.0453
  49NZ20090410,   P21,   160,  1,      4, X12034,2,20090517,1409,-17.5000,-148.5045, 3840,    151.1,2,  24.4306,2,  24.43751,2,  36.3431,2,-999.0000,9,   189.31,2,  -999.00,9,     0.68,2,     0.12,     0.51,2,     0.03,     0.63,2,     0.00,    0.315,2,    0.014, -999.000,9, -999.000,9, -999.000,9,   -999.0,9,   -999.0,9,-999.0000,-999,9,  -999.00,9,  -999.00,   -999.0,9,   -999.0,  24.3982,  24.5393
  49NZ20090410,   P21,   160,  1,      3, X12033,2,20090517,1409,-17.5000,-148.5045, 3840,    200.4,2,  22.2426,2,  22.24315,2,  36.0417,2,-999.0000,9,   180.29,2,  -999.00,9,     0.82,2,     0.12,     2.54,2,     0.04,     0.03,2,     0.01,    0.400,2,    0.013, -999.000,9, -999.000,9, -999.000,9,   -999.0,9,   -999.0,9,-999.0000,-999,9,  -999.00,9,  -999.00,   -999.0,9,   -999.0,  22.2024,  24.9524
  49NZ20090410,   P21,   160,  1,      2, X12032,2,20090517,1409,-17.5000,-148.5045, 3840,    249.0,2,  20.1085,2,  20.11937,2,  35.7131,2,-999.0000,9,   180.75,2,  -999.00,9,     1.16,2,     0.12,     3.76,2,     0.04,     0.02,2,     0.01,    0.477,2,    0.013, -999.000,9, -999.000,9, -999.000,9,   -999.0,9,   -999.0,9,-999.0000,-999,9,  -999.00,9,  -999.00,   -999.0,9,   -999.0,  20.0620,  25.2894
  49NZ20090410,   P21,   160,  1,      1, X12046,2,20090517,1409,-17.5000,-148.5045, 3840,   3891.8,2,   1.4802,2,   1.48003,2,  34.6910,2,  34.6906,6,   177.95,2,   177.87,2,   120.37,2,     0.38,    34.01,2,     0.13,     0.01,2,     0.01,    2.375,2,    0.016,    0.001,2,    0.000,2,    0.000,2,   2289.5,2,   2386.9,2,   7.6084,  25,2,  -999.00,9,  -999.00,   -999.0,9,   -999.0,   1.1735,  27.7853