BOTTLE,20220818CCHSIOAMB
EXPOCODE,SECT_ID,STNNBR,CASTNO,SAMPNO,BTLNBR,BTLNBR_FLAG_W,DATE,TIME,LATITUDE,LONGITUDE,DEPTH,CTDPRS,CTDPRS_FLAG_W,CTDTMP,CTDTMP_FLAG_W,SBE35,SBE35_FLAG_W,CTDSAL,CTDSAL_FLAG_W,SALNTY,SALNTY_FLAG_W,CTDOXY,CTDOXY_FLAG_W,OXYGEN,OXYGEN_FLAG_W,SILCAT,SILCAT_FLAG_W,SILUNC,NITRAT,NITRAT_FLAG_W,NRAUNC,NITRIT,NITRIT_FLAG_W,NRIUNC,PHSPHT,PHSPHT_FLAG_W,PHPUNC,CFC-11,CFC-11_FLAG_W,CFC-12,CFC-12_FLAG_W,CFC113,CFC113_FLAG_W,TCARBN,TCARBN_FLAG_W,ALKALI,ALKALI_FLAG_W,PH_TOT,PH_TMP,PH_TOT_FLAG_W,DELC13,DELC13_FLAG_W,C13ERR,DELC14,DELC14_FLAG_W,C14ERR,THETA,SIG0
,,,,,,,,,,,METERS,DBAR,,ITS-90,,ITS-90,,PSS-78,,PSS-78,,UMOL/KG,,UMOL/KG,,UMOL/KG,,UMOL/KG,UMOL/KG,,UMOL/KG,UMOL/KG,,UMOL/KG,UMOL/KG,,UMOL/KG,PMOL/KG,,PMOL/KG,,PMOL/KG,,UMOL/KG,,UMOL/KG,,,DEG C,,/MILLE,,/MILLE,/MILLE,,/MILLE,DEG C,KG/M^3
  49NZ20090410,   P21,    58,  1,     36, X12006,2,20090426,1328,-16.7450, -90.6660, 4438,      9.3,2,  23.8466,2,  23.85410,2,  35.7500,2,  35.7491,2,   211.93,2,   212.03,2,     0.57,2,     0.12,     0.26,2,     0.03,     0.02,2,     0.01,    0.454,2,    0.013,    1.715,2,    1.079,2, -999.000,5,   -999.0,9,   -999.0,9,-999.0000,-999,9,  -999.00,9,  -999.00,   -999.0,9,   -999.0,  23.8446,  24.2554
  49NZ20090410,   P21,    58,  1,     35, X12047,2,20090426,1328,-16.7450, -90.6660, 4438,     49.4,2,  23.1759,2,  23.15019,2,  35.7511,2,  35.7501,2,   214.22,2,   215.16,2,     0.61,2,     0.12,     0.15,2,     0.03,     0.02,2,     0.01,    0.453,2,    0.013,    1.816,2,    1.141,2, -999.000,5,   -999.0,9,   -999.0,9,-999.0000,-999,9,  -999.00,9,  -999.00,   -999.0,9,   -999.0,  23.1657,  24.4554
  49NZ20090410,   P21,    58,  1,     34, X12004,2,20090426,1328,-16.7450, -90.6660, 4438,     99.2,2,  18.9253,2,  18.92816,2,  35.3531,2,  35.3500,2,   218.20,2,   217.69,2,     0.64,2,     0.12,     1.53,2,     0.04,     0.41,2,     0.01,    0.582,2,    0.013,    2.223,6,    1.370,6, -999.000,5,   -999.0,9,   -999.0,9,-999.0000,-999,9,  -999.00,9,  -999.00,   -999.0,9,   -999.0,  18.9077,  25.3147
  49NZ20090410,   P21,    58,  1,     33, X12003,2,20090426,1328,-16.7450, -90.6660, 4438,    150.1,2,  16.6471,2,  16.63690,2,  35.0354,2,  35.0242,2,   183.36,2,   181.28,2,     2.31,2,     0.12,    10.57,2,     0.06,     0.04,2,     0.01,    1.109,2,    0.013,    2.446,2,    1.468,2,    0.114,2,   -999.0,9,   -999.0,9,-999.0000,-999,9,  -999.00,9,  -999.00,   -999.0,9,   -999.0,  16.6227,  25.6306
  49NZ20090410,   P21,    58,  1,     32, X12002,2,20090426,1328,-16.7450, -90.6660, 4438,    199.4,2,  13.5295,2,  13.53567,2,  34.6921,2,  34.6974,2,   104.64,2,   106.22,2,     8.44,2,     0.14,    19.55,2,     0.09,     0.02,2,     0.01,    1.916,2,    0.015,    2.307,2,    1.307,2,    0.083,2,   -999.0,9,   -999.0,9,-999.0000,-999,9,  -999.00,9,  -999.00,   -999.0,9,   -999.0,  13.5014,  26.0526
  49NZ20090410,   P21,    58,  1,     31, X12001,2,20090426,1328,-16.7450, -90.6660, 4438,    249.3,2,  11.9144,2,  11.91471,2,  34.7176,2,  34.7164,6,     9.34,2,     9.90,2,    21.51,2,     0.17,    23.31,2,     0.10,     0.02,2,     0.01,    2.683,2,    0.017,    1.088,2,    0.590,2,    0.016,2,   -999.0,9,   -999.0,9,-999.0000,-999,9,  -999.00,9,  -999.00,   -999.0,9,   -999.0,  11.8821,  26.3922
  49NZ20090410,   P21,    58,  1,     30, X12030,2,20090426,1328,-16.7450, -90.6660, 4438,    328.6,2,  10.3299,2,  10.32769,2,  34.7147,2,  34.7138,2,     2.93,2,     2.57,2,    26.91,2,     0.18,    32.70,2,     0.12,     0.01,2,     0.01,    2.766,2,    0.017,    0.288,2,    0.158,2,    0.000,2,   -999.0,9,   -999.0,9,-999.0000,-999,9,  -999.00,9,  -999.00,   -999.0,9,   -999.0,  10.2909,  26.6791
  49NZ20090410,   P21,    58,  1,     29, X12044,2,20090426,1328,-16.7450, -90.6660, 4438,    428.3,2,   8.5890,2,   8.58778,2,  34.6112,2,  34.6100,2,    15.25,2,    15.51,2,    30.37,2,     0.19,    38.68,2,     0.14,     0.01,2,     0.01,    2.853,2,    0.017,    0.128,2,    0.068,2,    0.000,2,   -999.0,9,   -999.0,9,-999.0000,-999,9,  -999.00,9,  -999.00,   -999.0,9,   -999.0,   8.5434,  26.8857
  49NZ20090410,   P21,    58,  1,     28, X12048,2,20090426,1328,-16.7450, -90.6660, 4438,    530.8,2,   7.2351,2,   7.23449,2,  34.5371,2,  34.5367,6,    36.26,2,    36.51,2,    34.68,2,     0.20,    40.73,2,     0.15,     0.01,2,     0.01,    2.903,2,    0.017,    0.095,2,    0.046,2,    0.000,2,   -999.0,9,   -999.0,9,-999.0000,-999,9,  -999.00,9,  -999.00,   -999.0,9,   -999.0,   7.1836,  27.0285
  49NZ20090410,   P21,    58,  1,     27, X12027,2,20090426,1328,-16.7450, -90.6660, 4438,    630.1,2,   6.3374,2,   6.33346,2,  34.5139,2,  34.5133,2,    40.19,2,    40.66,2,    42.81,2,     0.21,    42.64,2,     0.15,     0.01,2,     0.01,    3.015,2,    0.017,    0.018,6,    0.011,6,    0.000,6,   -999.0,9,   -999.0,9,-999.0000,-999,9,  -999.00,9,  -999.00,   -999.0,9,   -999.0,   6.2801,  27.1325
  49NZ20090410,   P21,    58,  1,     26, X12026,2,20090426,1328,-16.7450, -90.6660, 4438,    728.5,2,   5.7172,2,   5.71715,2,  34.5039,2,  34.5031,2,    42.72,2,    43.05,2,    50.39,2,     0.23,    43.62,2,     0.15,     0.01,2,     0.01,    3.094,2,    0.018,    0.006,2,    0.003,2,    0.000,2,   -999.0,9,   -999.0,9,-999.0000,-999,9,  -999.00,9,  -999.00,   -999.0,9,   -999.0,   5.6539,  27.2039
  49NZ20090410,   P21,    58,  1,     25, X12025,2,20090426,1328,-16.7450, -90.6660, 4438,    828.6,2,   5.1729,2,   5.17312,2,  34.5042,2,  34.5036,2,    46.03,2,    46.27,2,    59.22,2,     0.25,    44.18,2,     0.16,     0.01,2,     0.01,    3.147,2,    0.018,    0.003,2,    0.004,2,    0.000,2,   -999.0,9,   -999.0,9,-999.0000,-999,9,  -999.00,9,  -999.00,   -999.0,9,   -999.0,   5.1038,  27.2701
  49NZ20090410,   P21,    58,  1,     24, X12024,2,20090426,1328,-16.7450, -90.6660, 4438,    929.7,2,   4.7121,2,   4.71147,2,  34.5140,2,  34.5138,2,    56.96,2,    57.19,2,    67.43,2,     0.27,    43.42,2,     0.15,     0.01,2,     0.01,    3.093,2,    0.018,    0.000,2,    0.003,2,    0.000,2,   -999.0,9,   -999.0,9,-999.0000,-999,9,  -999.00,9,  -999.00,   -999.0,9,   -999.0,   4.6371,  27.3311
  49NZ20090410,   P21,    58,  1,     23, X12028,2,20090426,1328,-16.7450, -90.6660, 4438,   1070.8,2,   4.1801,2,   4.18022,2,  34.5334,2,  34.5333,6,    66.15,2,    66.45,2,    79.40,2,     0.29,    42.76,2,     0.15,     0.01,2,     0.01,    3.073,2,    0.018,    0.000,2,    0.002,2,    0.000,2,   -999.0,9,   -999.0,9,-999.0000,-999,9,  -999.00,9,  -999.00,   -999.0,9,   -999.0,   4.0970,  27.4049
  49NZ20090410,   P21,    58,  1,     22, X12022,2,20090426,1328,-16.7450, -90.6660, 4438,   1270.4,2,   3.4868,2,   3.48671,2,  34.5634,2,  34.5633,2,    79.05,2,    79.02,2,    95.41,2,     0.33,    41.80,2,     0.15,     0.01,2,     0.01,    3.014,2,    0.017,    0.002,2,    0.002,2,    0.000,2,   -999.0,9,   -999.0,9,-999.0000,-999,9,  -999.00,9,  -999.00,   -999.0,9,   -999.0,   3.3930,  27.4996
  49NZ20090410,   P21,    58,  1,     21, X12021,2,20090426,1328,-16.7450, -90.6660, 4438,   1470.2,2,   3.0235,2,   3.02338,2,  34.5892,2,  34.5890,2,    88.87,2,    88.82,2,   107.29,2,     0.36,    40.84,2,     0.15,     0.01,2,     0.01,    2.957,2,    0.017,    0.000,2,    0.000,2,    0.000,2,   -999.0,9,   -999.0,9,-999.0000,-999,9,  -999.00,9,  -999.00,   -999.0,9,   -999.0,   2.9178,  27.5646
  49NZ20090410,   P21,    58,  1,     20, X12020,2,20090426,1328,-16.7450, -90.6660, 4438,   1670.4,2,   2.6861,2,   2.68579,2,  34.6106,2,  34.6105,2,    97.51,2,    97.45,2,   115.90,2,     0.37,    40.17,2,     0.15,     0.01,2,     0.01,    2.884,2,    0.017,    0.000,2,    0.001,2,    0.000,2,   -999.0,9,   -999.0,9,-999.0000,-999,9,  -999.00,9,  -999.00,   -999.0,9,   -999.0,   2.5677,  27.6127
  49NZ20090410,   P21,    58,  1,     19, X12019,2,20090426,1328,-16.7450, -90.6660, 4438,   1870.4,2,   2.4133,2,   2.41326,2,  34.6287,2,  34.6284,2,   107.79,2,   107.74,2,   122.33,2,     0.39,    39.27,2,     0.14,     0.01,2,     0.01,    2.809,2,    0.017,    0.000,2,    0.002,2,    0.000,2,   -999.0,9,   -999.0,9,-999.0000,-999,9,  -999.00,9,  -999.00,   -999.0,9,   -999.0,   2.2817,  27.6514
  49NZ20090410,   P21,    58,  1,     18, X12043,2,20090426,1328,-16.7450, -90.6660, 4438,   2070.5,2,   2.2145,2,   2.21469,2,  34.6433,2,  34.6427,2,   115.79,2,   115.68,2,   127.18,2,     0.40,    38.64,2,     0.14,     0.01,2,     0.01,    2.748,2,    0.017, -999.000,9, -999.000,9, -999.000,9,   -999.0,9,   -999.0,9,-999.0000,-999,9,  -999.00,9,  -999.00,   -999.0,9,   -999.0,   2.0687,  27.6804
  49NZ20090410,   P21,    58,  1,     17, X12042,2,20090426,1328,-16.7450, -90.6660, 4438,   2271.1,2,   2.0610,2,   2.06116,2,  34.6545,2,  34.6541,6,   123.36,2,   123.03,2,   129.14,2,     0.40,    38.09,2,     0.14,     0.01,2,     0.01,    2.697,2,    0.017,    0.000,2,    0.000,2,    0.000,2,   -999.0,9,   -999.0,9,-999.0000,-999,9,  -999.00,9,  -999.00,   -999.0,9,   -999.0,   1.9002,  27.7027
  49NZ20090410,   P21,    58,  1,     16, X12016,2,20090426,1328,-16.7450, -90.6660, 4438,   2471.7,2,   1.9509,2,   1.95089,2,  34.6630,2,  34.6632,2,   130.72,2,   130.60,2,   129.87,2,     0.40,    37.54,2,     0.14,     0.01,2,     0.01,    2.650,2,    0.017, -999.000,9, -999.000,9, -999.000,9,   -999.0,9,   -999.0,9,-999.0000,-999,9,  -999.00,9,  -999.00,   -999.0,9,   -999.0,   1.7741,  27.7193
  49NZ20090410,   P21,    58,  1,     15, X12015,2,20090426,1328,-16.7450, -90.6660, 4438,   2670.2,2,   1.8691,2,   1.86914,2,  34.6701,2,  34.6694,2,   138.77,2,   139.02,2,   128.94,2,     0.40,    36.77,2,     0.14,     0.01,2,     0.01,    2.590,2,    0.016, -999.000,9, -999.000,9, -999.000,9,   -999.0,9,   -999.0,9,-999.0000,-999,9,  -999.00,9,  -999.00,   -999.0,9,   -999.0,   1.6756,  27.7324
  49NZ20090410,   P21,    58,  1,     14, X12050,2,20090426,1328,-16.7450, -90.6660, 4438,   2867.9,2,   1.8234,2,   1.82336,2,  34.6753,2,  34.6749,2,   142.87,2,   142.84,2,   129.21,2,     0.40,    36.50,2,     0.14,     0.01,2,     0.01,    2.564,2,    0.016,    0.001,2,    0.001,2,    0.000,2,   -999.0,9,   -999.0,9,-999.0000,-999,9,  -999.00,9,  -999.00,   -999.0,9,   -999.0,   1.6122,  27.7414
  49NZ20090410,   P21,    58,  1,     13, X12013,7,20090426,1328,-16.7450, -90.6660, 4438,   3080.6,2,   1.7978,2,   1.79792,2,  34.6795,2,  34.6798,2,   144.21,2,   144.19,2,   130.21,2,     0.41,    36.43,2,     0.13,     0.01,2,     0.01,    2.554,2,    0.016, -999.000,9, -999.000,9, -999.000,9,   -999.0,9,   -999.0,9,-999.0000,-999,9,  -999.00,9,  -999.00,   -999.0,9,   -999.0,   1.5666,  27.7481
  49NZ20090410,   P21,    58,  1,     12, X12012,2,20090426,1328,-16.7450, -90.6660, 4438,   3330.1,2,   1.7874,2,   1.78753,2,  34.6826,2,  34.6824,6,   145.09,2,   145.17,2,   130.65,2,     0.41,    36.26,2,     0.13,     0.01,2,     0.01,    2.542,2,    0.016, -999.000,9, -999.000,9, -999.000,9,   -999.0,9,   -999.0,9,-999.0000,-999,9,  -999.00,9,  -999.00,   -999.0,9,   -999.0,   1.5315,  27.7532
  49NZ20090410,   P21,    58,  1,     11, X12041,2,20090426,1328,-16.7450, -90.6660, 4438,   3579.5,2,   1.7777,2,   1.77758,2,  34.6852,2,  34.6849,2,   147.00,2,   147.13,2,   129.98,2,     0.40,    36.11,2,     0.13,     0.01,2,     0.01,    2.535,2,    0.016,    0.000,2,    0.000,2,    0.000,2,   -999.0,9,   -999.0,9,-999.0000,-999,9,  -999.00,9,  -999.00,   -999.0,9,   -999.0,   1.4963,  27.7578
  49NZ20090410,   P21,    58,  1,     10, X12040,2,20090426,1328,-16.7450, -90.6660, 4438,   3831.1,2,   1.7712,2,   1.77111,2,  34.6875,2,  34.6876,2,   149.87,2,   150.09,2,   128.29,2,     0.40,    35.88,2,     0.13,     0.01,2,     0.01,    2.521,2,    0.016, -999.000,9, -999.000,9, -999.000,9,   -999.0,9,   -999.0,9,-999.0000,-999,9,  -999.00,9,  -999.00,   -999.0,9,   -999.0,   1.4631,  27.7621
  49NZ20090410,   P21,    58,  1,      9, X12009,2,20090426,1328,-16.7450, -90.6660, 4438,   4077.6,2,   1.7824,2,   1.78241,2,  34.6886,2,  34.6882,2,   151.01,2,   151.34,2,   127.36,2,     0.40,    35.84,2,     0.13,     0.00,2,     0.01,    2.514,2,    0.016,    0.000,2,    0.000,2,    0.000,2,   -999.0,9,   -999.0,9,-999.0000,-999,9,  -999.00,9,  -999.00,   -999.0,9,   -999.0,   1.4469,  27.7642
  49NZ20090410,   P21,    58,  1,      8, X12008,2,20090426,1328,-16.7450, -90.6660, 4438,   4329.9,2,   1.8065,2,   1.80657,2,  34.6889,2,  34.6890,2,   151.16,2,   151.42,2,   126.82,2,     0.40,    35.78,2,     0.13,     0.01,2,     0.01,    2.507,2,    0.016,    0.000,2,    0.000,2,    0.000,2,   -999.0,9,   -999.0,9,-999.0000,-999,9,  -999.00,9,  -999.00,   -999.0,9,   -999.0,   1.4417,  27.7647
  49NZ20090410,   P21,    58,  1,      7, X12007,2,20090426,1328,-16.7450, -90.6660, 4438,      9.4,2,  23.8312,2,  23.83282,2,  35.7491,2,-999.0000,9,   212.13,2,  -999.00,9,     0.55,2,     0.12,     0.27,2,     0.03,     0.02,2,     0.01,    0.450,2,    0.013, -999.000,9, -999.000,9, -999.000,9,   -999.0,9,   -999.0,9,-999.0000,-999,9,  -999.00,9,  -999.00,   -999.0,9,   -999.0,  23.8292,  24.2593
  49NZ20090410,   P21,    58,  1,      6, X12035,2,20090426,1328,-16.7450, -90.6660, 4438,     49.4,2,  23.1453,2,  23.13647,2,  35.7526,2,-999.0000,9,   214.31,2,  -999.00,9,     0.63,2,     0.12,     0.18,2,     0.03,     0.01,2,     0.01,    0.453,2,    0.013, -999.000,9, -999.000,9, -999.000,9,   -999.0,9,   -999.0,9,-999.0000,-999,9,  -999.00,9,  -999.00,   -999.0,9,   -999.0,  23.1351,  24.4653
  49NZ20090410,   P21,    58,  1,      5, X12038,2,20090426,1328,-16.7450, -90.6660, 4438,     99.6,2,  18.9337,2,  18.93285,2,  35.3547,2,-999.0000,9,   218.64,2,  -999.00,9,     0.71,2,     0.12,     1.44,2,     0.04,     0.39,2,     0.01,    0.576,2,    0.013, -999.000,9, -999.000,9, -999.000,9,   -999.0,9,   -999.0,9,-999.0000,-999,9,  -999.00,9,  -999.00,   -999.0,9,   -999.0,  18.9160,  25.3138
  49NZ20090410,   P21,    58,  1,      4, X12034,2,20090426,1328,-16.7450, -90.6660, 4438,    148.9,2,  16.5122,2,  16.51631,2,  35.0183,2,-999.0000,9,   183.64,2,  -999.00,9,     2.51,2,     0.12,    10.92,2,     0.06,     0.03,2,     0.01,    1.132,2,    0.013, -999.000,9, -999.000,9, -999.000,9,   -999.0,9,   -999.0,9,-999.0000,-999,9,  -999.00,9,  -999.00,   -999.0,9,   -999.0,  16.4881,  25.6489
  49NZ20090410,   P21,    58,  1,      3, X12033,2,20090426,1328,-16.7450, -90.6660, 4438,    199.7,2,  13.5704,2,  13.57007,2,  34.6945,2,-999.0000,9,   110.84,2,  -999.00,9,     9.22,2,     0.14,    20.13,2,     0.09,     0.02,2,     0.01,    1.980,2,    0.015, -999.000,9, -999.000,9, -999.000,9,   -999.0,9,   -999.0,9,-999.0000,-999,9,  -999.00,9,  -999.00,   -999.0,9,   -999.0,  13.5422,  26.0461
  49NZ20090410,   P21,    58,  1,      2, X12032,2,20090426,1328,-16.7450, -90.6660, 4438,    248.9,2,  11.9071,2,  11.90550,2,  34.7180,2,-999.0000,9,     9.39,2,  -999.00,9,    21.99,2,     0.17,    23.52,2,     0.10,     0.01,2,     0.01,    2.692,2,    0.017, -999.000,9, -999.000,9, -999.000,9,   -999.0,9,   -999.0,9,-999.0000,-999,9,  -999.00,9,  -999.00,   -999.0,9,   -999.0,  11.8748,  26.3939
  49NZ20090410,   P21,    58,  1,      1, X12046,2,20090426,1328,-16.7450, -90.6660, 4438,   4474.1,2,   1.8201,2,   1.81992,2,  34.6887,2,  34.6885,6,   151.43,2,   151.78,2,   127.13,2,     0.40,    35.81,2,     0.13,     0.01,2,     0.01,    2.501,2,    0.016,    0.000,2,    0.000,2,    0.000,2,   -999.0,9,   -999.0,9,-999.0000,-999,9,  -999.00,9,  -999.00,   -999.0,9,   -999.0,   1.4382,  27.7649