BOTTLE,20220818CCHSIOAMB
EXPOCODE,SECT_ID,STNNBR,CASTNO,SAMPNO,BTLNBR,BTLNBR_FLAG_W,DATE,TIME,LATITUDE,LONGITUDE,DEPTH,CTDPRS,CTDPRS_FLAG_W,CTDTMP,CTDTMP_FLAG_W,SBE35,SBE35_FLAG_W,CTDSAL,CTDSAL_FLAG_W,SALNTY,SALNTY_FLAG_W,CTDOXY,CTDOXY_FLAG_W,OXYGEN,OXYGEN_FLAG_W,SILCAT,SILCAT_FLAG_W,SILUNC,NITRAT,NITRAT_FLAG_W,NRAUNC,NITRIT,NITRIT_FLAG_W,NRIUNC,PHSPHT,PHSPHT_FLAG_W,PHPUNC,CFC-11,CFC-11_FLAG_W,CFC-12,CFC-12_FLAG_W,CFC113,CFC113_FLAG_W,TCARBN,TCARBN_FLAG_W,ALKALI,ALKALI_FLAG_W,PH_TOT,PH_TMP,PH_TOT_FLAG_W,DELC13,DELC13_FLAG_W,C13ERR,DELC14,DELC14_FLAG_W,C14ERR,THETA,SIG0
,,,,,,,,,,,METERS,DBAR,,ITS-90,,ITS-90,,PSS-78,,PSS-78,,UMOL/KG,,UMOL/KG,,UMOL/KG,,UMOL/KG,UMOL/KG,,UMOL/KG,UMOL/KG,,UMOL/KG,UMOL/KG,,UMOL/KG,PMOL/KG,,PMOL/KG,,PMOL/KG,,UMOL/KG,,UMOL/KG,,,DEG C,,/MILLE,,/MILLE,/MILLE,,/MILLE,DEG C,KG/M^3
  49NZ20090410,   P21,   132,  1,     36, X12006,2,20090512,1651,-16.7560,-134.6658, 4451,      9.8,2,  27.7012,2,  27.70167,2,  36.3749,2,  36.3745,2,   198.13,2,   197.88,2,     0.75,2,     0.12,     0.23,2,     0.03,     0.02,2,     0.01,    0.253,2,    0.015,    1.450,2,    0.947,2, -999.000,5,   2031.2,2,   2400.1,2,   8.1291,  25,6,  -999.00,9,  -999.00,   -999.0,9,   -999.0,  27.6989,  23.5276
  49NZ20090410,   P21,   132,  1,     35, X12047,2,20090512,1651,-16.7560,-134.6658, 4451,     49.9,2,  27.7329,2,  27.73257,2,  36.4543,2,  36.4548,2,   197.87,2,   198.14,2,     0.72,2,     0.12,     0.18,2,     0.03,     0.02,2,     0.01,    0.249,2,    0.015,    1.450,2,    0.943,2, -999.000,5,   2037.0,6,   2404.4,2,   8.1252,  25,2,  -999.00,9,  -999.00,   -999.0,9,   -999.0,  27.7212,  23.5801
  49NZ20090410,   P21,   132,  1,     34, X12004,2,20090512,1651,-16.7560,-134.6658, 4451,     99.9,2,  24.7198,2,  24.71889,2,  36.4572,2,  36.4567,2,   199.29,2,   199.11,2,     0.66,2,     0.12,     0.11,2,     0.03,     0.04,2,     0.01,    0.264,2,    0.015,    1.681,6,    1.068,6, -999.000,5,   2068.8,2,   2400.7,6,   8.0713,  25,2,  -999.00,9,  -999.00,   -999.0,9,   -999.0,  24.6982,  24.5350
  49NZ20090410,   P21,   132,  1,     33, X12003,2,20090512,1651,-16.7560,-134.6658, 4451,    149.2,2,  23.4284,2,  23.43124,2,  36.3048,2,  36.3085,2,   188.09,2,   187.83,2,     0.67,2,     0.12,     0.41,2,     0.03,     1.30,2,     0.00,    0.346,2,    0.014,    1.771,2,    1.107,2, -999.000,5,   2081.8,2,   2389.4,2,   8.0353,  25,6,  -999.00,9,  -999.00,   -999.0,9,   -999.0,  23.3973,  24.8077
  49NZ20090410,   P21,   132,  1,     32, X12002,2,20090512,1651,-16.7560,-134.6658, 4451,    199.3,2,  21.3394,2,  21.34211,2,  35.9701,2,  35.9682,2,   184.85,2,   184.51,2,     0.65,2,     0.12,     2.49,2,     0.04,     0.04,2,     0.01,    0.409,2,    0.013,    1.982,2,    1.224,2,    0.092,2,   2089.5,2,   2367.9,2,   7.9925,  25,2,  -999.00,9,  -999.00,   -999.0,9,   -999.0,  21.3006,  25.1501
  49NZ20090410,   P21,   132,  1,     31, X12001,2,20090512,1651,-16.7560,-134.6658, 4451,    248.3,2,  19.1187,2,  19.11402,2,  35.5611,2,  35.5585,6,   184.73,2,   184.99,2,     0.81,2,     0.12,     3.75,2,     0.04,     0.02,2,     0.01,    0.480,2,    0.013,    2.195,2,    1.326,2,    0.032,2,   2089.5,2,   2340.5,2,   7.9522,  25,2,  -999.00,9,  -999.00,   -999.0,9,   -999.0,  19.0740,  25.4311
  49NZ20090410,   P21,   132,  1,     30, X12030,2,20090512,1651,-16.7560,-134.6658, 4451,    300.4,2,  15.6868,2,  15.68817,2,  35.0236,2,  35.0245,2,   179.85,2,   180.24,2,     1.81,2,     0.12,     7.57,2,     0.05,     0.02,2,     0.01,    0.747,2,    0.013,    2.469,2,    1.413,2,    0.033,2,   2099.8,2,   2307.0,2,   7.8764,  25,2,  -999.00,9,  -999.00,   -999.0,9,   -999.0,  15.6397,  25.8476
  49NZ20090410,   P21,   132,  1,     29, X12044,2,20090512,1651,-16.7560,-134.6658, 4451,    402.0,2,   9.3969,2,   9.39042,2,  34.4658,2,  34.4676,2,   126.11,2,   125.40,2,    11.92,2,     0.15,    24.65,2,     0.10,     0.01,2,     0.01,    1.967,2,    0.015,    1.649,2,    0.838,2,    0.019,2,   2187.3,2,   2280.8,2,   7.6097,  25,2,  -999.00,9,  -999.00,   -999.0,9,   -999.0,   9.3518,  26.6429
  49NZ20090410,   P21,   132,  1,     28, X12048,2,20090512,1651,-16.7560,-134.6658, 4451,    501.2,2,   7.3291,2,   7.32892,2,  34.4340,2,  34.4275,6,   119.17,2,   120.89,2,    19.18,2,     0.16,    31.69,2,     0.12,     0.01,2,     0.01,    2.292,2,    0.016,    0.657,2,    0.334,2,    0.010,2,   2211.8,2,   2285.3,2,   7.5530,  25,2,  -999.00,9,  -999.00,   -999.0,9,   -999.0,   7.2803,  26.9338
  49NZ20090410,   P21,   132,  1,     27, X12027,2,20090512,1651,-16.7560,-134.6658, 4451,    600.9,2,   6.1448,2,   6.14118,2,  34.4147,2,  34.4145,2,   138.98,2,   138.79,2,    26.72,2,     0.18,    33.07,2,     0.13,     0.01,2,     0.01,    2.331,2,    0.016,    0.326,6,    0.173,6,    0.000,6,   2212.8,2,   2294.0,2,   7.5742,  25,2,  -999.00,9,  -999.00,   -999.0,9,   -999.0,   6.0913,  27.0785
  49NZ20090410,   P21,   132,  1,     26, X12026,2,20090512,1651,-16.7560,-134.6658, 4451,    700.6,2,   5.6810,2,   5.68097,2,  34.4603,2,  34.4602,2,   123.13,2,   123.16,2,    39.41,2,     0.21,    35.06,2,     0.13,     0.01,2,     0.01,    2.474,2,    0.016,    0.085,2,    0.045,2,    0.000,2,   2235.1,6,   2308.0,2,   7.5518,  25,2,  -999.00,9,  -999.00,   -999.0,9,   -999.0,   5.6205,  27.1735
  49NZ20090410,   P21,   132,  1,     25, X12025,2,20090512,1651,-16.7560,-134.6658, 4451,    799.1,2,   5.2474,2,   5.24739,2,  34.4821,2,  34.4818,2,   115.13,2,   115.16,2,    49.08,2,     0.23,    36.61,2,     0.14,     0.01,2,     0.01,    2.583,2,    0.016,    0.029,2,    0.015,2,    0.000,2,   2249.9,2,   2318.5,6,   7.5365,  25,2,  -999.00,9,  -999.00,   -999.0,9,   -999.0,   5.1805,  27.2436
  49NZ20090410,   P21,   132,  1,     24, X12024,2,20090512,1651,-16.7560,-134.6658, 4451,    900.5,2,   4.7298,2,   4.72982,2,  34.5004,2,  34.4997,2,   110.43,2,   110.32,2,    59.47,2,     0.25,    37.53,2,     0.14,     0.01,2,     0.01,    2.659,2,    0.017,    0.013,2,    0.006,2,    0.000,2,   2265.0,2,   2329.8,2,   7.5239,  25,6,  -999.00,9,  -999.00,   -999.0,9,   -999.0,   4.6573,  27.3181
  49NZ20090410,   P21,   132,  1,     23, X12028,2,20090512,1651,-16.7560,-134.6658, 4451,   1000.7,2,   4.3376,2,   4.33739,2,  34.5136,2,  34.5135,6,   107.27,2,   107.02,2,    68.08,2,     0.27,    38.45,2,     0.14,     0.01,2,     0.01,    2.731,2,    0.017,    0.006,2,    0.005,2,    0.000,2,   2277.4,2,   2338.0,2,   7.5140,  25,2,  -999.00,9,  -999.00,   -999.0,9,   -999.0,   4.2593,  27.3720
  49NZ20090410,   P21,   132,  1,     22, X12022,2,20090512,1651,-16.7560,-134.6658, 4451,   1200.7,2,   3.6116,2,   3.61158,2,  34.5452,2,  34.5456,2,   110.22,2,   110.16,2,    83.71,2,     0.30,    38.50,2,     0.14,     0.01,2,     0.01,    2.752,2,    0.017,    0.002,2,    0.001,2,    0.000,2,   2293.7,2,   2356.2,2,   7.5167,  25,2,  -999.00,9,  -999.00,   -999.0,9,   -999.0,   3.5224,  27.4726
  49NZ20090410,   P21,   132,  1,     21, X12021,2,20090512,1651,-16.7560,-134.6658, 4451,   1402.3,2,   3.1029,2,   3.10386,2,  34.5684,2,  34.5682,2,   124.71,2,   124.64,2,    93.10,2,     0.32,    37.65,2,     0.14,     0.01,2,     0.01,    2.677,2,    0.017,    0.000,2,    0.001,2,    0.000,2,   2295.7,2,   2366.7,2,   7.5392,  25,2,  -999.00,9,  -999.00,   -999.0,9,   -999.0,   3.0020,  27.5403
  49NZ20090410,   P21,   132,  1,     20, X12020,2,20090512,1651,-16.7560,-134.6658, 4451,   1599.2,2,   2.7101,2,   2.71027,2,  34.5907,2,  34.5906,2,   133.17,2,   133.13,2,   100.30,2,     0.34,    37.02,2,     0.14,     0.01,2,     0.01,    2.621,2,    0.017,    0.000,2,    0.000,2,    0.000,2,   2300.1,2,   2375.4,2,   7.5522,  25,6,  -999.00,9,  -999.00,   -999.0,9,   -999.0,   2.5974,  27.5943
  49NZ20090410,   P21,   132,  1,     19, X12019,2,20090512,1651,-16.7560,-134.6658, 4451,   1800.0,2,   2.3489,2,   2.34896,2,  34.6132,2,  34.6133,2,   145.14,2,   144.95,2,   106.57,2,     0.35,    36.21,2,     0.13,     0.01,2,     0.01,    2.555,2,    0.016,    0.000,2,    0.001,2,    0.000,2,   2302.1,2,   2382.9,2,   7.5708,  25,2,  -999.00,9,  -999.00,   -999.0,9,   -999.0,   2.2242,  27.6437
  49NZ20090410,   P21,   132,  1,     18, X12043,2,20090512,1651,-16.7560,-134.6658, 4451,   2000.8,2,   2.1224,2,   2.12253,2,  34.6368,2,  34.6367,2,   146.44,2,   146.59,2,   113.10,2,     0.37,    36.19,2,     0.13,     0.01,2,     0.01,    2.540,2,    0.016,    0.000,2,    0.000,2,    0.000,2,   2305.5,2,   2390.3,2,   7.5754,  25,2,  -999.00,9,  -999.00,   -999.0,9,   -999.0,   1.9840,  27.6820
  49NZ20090410,   P21,   132,  1,     17, X12042,2,20090512,1651,-16.7560,-134.6658, 4451,   2199.9,2,   1.9810,2,   1.98117,2,  34.6512,2,  34.6510,6,   149.33,2,   149.44,2,   117.50,2,     0.38,    35.90,2,     0.13,     0.01,2,     0.01,    2.529,2,    0.016,    0.000,2,    0.000,2,    0.000,2,   2308.3,2,   2395.6,2,   7.5827,  25,2,  -999.00,9,  -999.00,   -999.0,9,   -999.0,   1.8278,  27.7057
  49NZ20090410,   P21,   132,  1,     16, X12016,2,20090512,1651,-16.7560,-134.6658, 4451,   2399.7,2,   1.8752,2,   1.87522,2,  34.6604,2,  34.6602,2,   152.80,2,   152.82,2,   120.23,2,     0.38,    35.68,2,     0.13,     0.01,2,     0.01,    2.499,2,    0.016,    0.000,2,    0.000,2,    0.000,2,   2309.6,6,   2398.8,2,   7.5883,  25,2,  -999.00,9,  -999.00,   -999.0,9,   -999.0,   1.7062,  27.7224
  49NZ20090410,   P21,   132,  1,     15, X12015,2,20090512,1651,-16.7560,-134.6658, 4451,   2599.6,2,   1.7950,2,   1.79528,2,  34.6681,2,  34.6676,2,   154.61,2,   154.56,2,   123.24,2,     0.39,    35.56,2,     0.13,     0.01,2,     0.01,    2.500,2,    0.016,    0.000,2,    0.000,2,    0.000,2,   2311.9,2,   2402.7,6,   7.5928,  25,2,  -999.00,9,  -999.00,   -999.0,9,   -999.0,   1.6095,  27.7358
  49NZ20090410,   P21,   132,  1,     14, X12050,2,20090512,1651,-16.7560,-134.6658, 4451,   2801.1,2,   1.7501,2,   1.75034,2,  34.6735,2,  34.6730,2,   154.49,2,   154.46,2,   125.95,2,     0.40,    35.70,2,     0.13,     0.01,2,     0.01,    2.499,2,    0.016,    0.000,2,    0.000,2,    0.000,2,   2314.5,2,   2406.8,2,   7.5952,  25,2,  -999.00,9,  -999.00,   -999.0,9,   -999.0,   1.5468,  27.7447
  49NZ20090410,   P21,   132,  1,     13, X12013,7,20090512,1651,-16.7560,-134.6658, 4451,   3000.9,2,   1.6964,2,   1.69649,2,  34.6778,2,  34.6784,2,   156.53,2,   156.52,2,   127.62,2,     0.40,    35.49,2,     0.13,     0.01,2,     0.01,    2.493,2,    0.016,    0.001,2,    0.000,2,    0.000,2,   2314.1,2,   2408.7,2,   7.5998,  25,2,  -999.00,9,  -999.00,   -999.0,9,   -999.0,   1.4752,  27.7534
  49NZ20090410,   P21,   132,  1,     12, X12012,2,20090512,1651,-16.7560,-134.6658, 4451,   3250.4,2,   1.6401,2,   1.64032,2,  34.6817,2,  34.6812,6,   159.71,2,   159.79,2,   128.40,2,     0.40,    35.35,2,     0.13,     0.01,2,     0.01,    2.475,2,    0.016,    0.001,2,    0.000,2,    0.000,2,   2313.3,2,   2409.4,2,   7.6040,  25,2,  -999.00,9,  -999.00,   -999.0,9,   -999.0,   1.3957,  27.7623
  49NZ20090410,   P21,   132,  1,     11, X12041,2,20090512,1651,-16.7560,-134.6658, 4451,   3501.1,2,   1.5966,2,   1.59670,2,  34.6852,2,  34.6847,2,   161.71,2,   161.74,2,   129.47,2,     0.40,    35.20,2,     0.13,     0.01,2,     0.01,    2.470,2,    0.016,    0.000,2,    0.000,2,    0.000,2,   2314.0,2,   2410.9,2,   7.6071,  25,2,  -999.00,9,  -999.00,   -999.0,9,   -999.0,   1.3279,  27.7699
  49NZ20090410,   P21,   132,  1,     10, X12040,2,20090512,1651,-16.7560,-134.6658, 4451,   3748.5,2,   1.5745,2,   1.57466,2,  34.6873,2,  34.6876,2,   164.11,2,   164.17,2,   129.22,2,     0.40,    35.06,2,     0.13,     0.01,2,     0.01,    2.454,2,    0.016,    0.000,2,    0.000,2,    0.000,2,   2312.1,2,   2409.4,2,   7.6099,  25,2,  -999.00,9,  -999.00,   -999.0,9,   -999.0,   1.2805,  27.7750
  49NZ20090410,   P21,   132,  1,      9, X12009,2,20090512,1651,-16.7560,-134.6658, 4451,   4000.0,2,   1.5339,2,   1.53411,2,  34.6902,2,  34.6898,2,   168.62,2,   168.67,2,   127.06,2,     0.40,    34.61,2,     0.13,     0.01,2,     0.01,    2.421,2,    0.016,    0.000,2,    0.000,2,    0.000,2,   2306.2,2,   2405.7,2,   7.6121,  25,2,  -999.00,9,  -999.00,   -999.0,9,   -999.0,   1.2140,  27.7819
  49NZ20090410,   P21,   132,  1,      8, X12008,2,20090512,1651,-16.7560,-134.6658, 4451,   4250.2,2,   1.5337,2,   1.53379,2,  34.6914,2,  34.6911,2,   170.75,2,   170.78,2,   127.13,2,     0.40,    34.65,2,     0.13,     0.01,2,     0.01,    2.427,2,    0.016,    0.000,2,    0.000,2,    0.000,2,   2304.3,6,   2404.0,2,   7.6126,  25,2,  -999.00,9,  -999.00,   -999.0,9,   -999.0,   1.1861,  27.7848
  49NZ20090410,   P21,   132,  1,      7, X12007,9,20090512,1651,-16.7560,-134.6658, 4451,      9.8,2,  27.6996,2,  27.69928,2,  36.3749,2,-999.0000,9,   198.22,2,  -999.00,9,  -999.00,9,  -999.00,  -999.00,9,  -999.00,  -999.00,9,  -999.00, -999.000,9, -999.000, -999.000,9, -999.000,9, -999.000,9,   -999.0,9,   -999.0,9,-999.0000,-999,9,  -999.00,9,  -999.00,   -999.0,9,   -999.0,  27.6973,  23.5281
  49NZ20090410,   P21,   132,  1,      6, X12035,9,20090512,1651,-16.7560,-134.6658, 4451,   4504.0,2,   1.5606,2,   1.56074,2,  34.6915,2,-999.0000,9,   171.05,2,  -999.00,9,  -999.00,9,  -999.00,  -999.00,9,  -999.00,  -999.00,9,  -999.00, -999.000,9, -999.000, -999.000,9, -999.000,9, -999.000,9,   -999.0,9,   -999.0,9,-999.0000,-999,9,  -999.00,9,  -999.00,   -999.0,9,   -999.0,   1.1833,  27.7850
  49NZ20090410,   P21,   132,  1,      5, X12038,9,20090512,1651,-16.7560,-134.6658, 4451,   2599.9,2,   1.7949,2,   1.79497,2,  34.6681,2,-999.0000,9,   154.57,2,  -999.00,9,  -999.00,9,  -999.00,  -999.00,9,  -999.00,  -999.00,9,  -999.00, -999.000,9, -999.000, -999.000,9, -999.000,9, -999.000,9,   -999.0,9,   -999.0,9,-999.0000,-999,9,  -999.00,9,  -999.00,   -999.0,9,   -999.0,   1.6093,  27.7358
  49NZ20090410,   P21,   132,  1,      4, X12034,9,20090512,1651,-16.7560,-134.6658, 4451,   2801.6,2,   1.7499,2,   1.75005,2,  34.6735,2,-999.0000,9,   154.49,2,  -999.00,9,  -999.00,9,  -999.00,  -999.00,9,  -999.00,  -999.00,9,  -999.00, -999.000,9, -999.000, -999.000,9, -999.000,9, -999.000,9,   -999.0,9,   -999.0,9,-999.0000,-999,9,  -999.00,9,  -999.00,   -999.0,9,   -999.0,   1.5465,  27.7447
  49NZ20090410,   P21,   132,  1,      3, X12033,2,20090512,1651,-16.7560,-134.6658, 4451,   3001.0,2,   1.6966,2,   1.69656,2,  34.6776,2,  34.6772,2,   156.57,2,  -999.00,9,  -999.00,9,  -999.00,  -999.00,9,  -999.00,  -999.00,9,  -999.00, -999.000,9, -999.000, -999.000,9, -999.000,9, -999.000,9,   -999.0,9,   -999.0,9,-999.0000,-999,9,  -999.00,9,  -999.00,   -999.0,9,   -999.0,   1.4754,  27.7533
  49NZ20090410,   P21,   132,  1,      2, X12032,9,20090512,1651,-16.7560,-134.6658, 4451,    900.1,2,   4.7312,2,   4.73089,2,  34.5003,2,-999.0000,9,   110.42,2,  -999.00,9,  -999.00,9,  -999.00,  -999.00,9,  -999.00,  -999.00,9,  -999.00, -999.000,9, -999.000, -999.000,9, -999.000,9, -999.000,9,   -999.0,9,   -999.0,9,-999.0000,-999,9,  -999.00,9,  -999.00,   -999.0,9,   -999.0,   4.6587,  27.3178
  49NZ20090410,   P21,   132,  1,      1, X12046,2,20090512,1651,-16.7560,-134.6658, 4451,   4504.0,2,   1.5607,2,   1.56071,2,  34.6914,2,  34.6913,6,   171.03,2,   170.99,2,   126.99,2,     0.40,    34.62,2,     0.13,     0.01,2,     0.01,    2.426,2,    0.016,    0.000,2,    0.000,2,    0.000,2,   2304.1,2,   2403.8,2,   7.6140,  25,2,  -999.00,9,  -999.00,   -999.0,9,   -999.0,   1.1833,  27.7850