BOTTLE,20220818CCHSIOAMB
EXPOCODE,SECT_ID,STNNBR,CASTNO,SAMPNO,BTLNBR,BTLNBR_FLAG_W,DATE,TIME,LATITUDE,LONGITUDE,DEPTH,CTDPRS,CTDPRS_FLAG_W,CTDTMP,CTDTMP_FLAG_W,SBE35,SBE35_FLAG_W,CTDSAL,CTDSAL_FLAG_W,SALNTY,SALNTY_FLAG_W,CTDOXY,CTDOXY_FLAG_W,OXYGEN,OXYGEN_FLAG_W,SILCAT,SILCAT_FLAG_W,SILUNC,NITRAT,NITRAT_FLAG_W,NRAUNC,NITRIT,NITRIT_FLAG_W,NRIUNC,PHSPHT,PHSPHT_FLAG_W,PHPUNC,CFC-11,CFC-11_FLAG_W,CFC-12,CFC-12_FLAG_W,CFC113,CFC113_FLAG_W,TCARBN,TCARBN_FLAG_W,ALKALI,ALKALI_FLAG_W,PH_TOT,PH_TMP,PH_TOT_FLAG_W,DELC13,DELC13_FLAG_W,C13ERR,DELC14,DELC14_FLAG_W,C14ERR,THETA,SIG0
,,,,,,,,,,,METERS,DBAR,,ITS-90,,ITS-90,,PSS-78,,PSS-78,,UMOL/KG,,UMOL/KG,,UMOL/KG,,UMOL/KG,UMOL/KG,,UMOL/KG,UMOL/KG,,UMOL/KG,UMOL/KG,,UMOL/KG,PMOL/KG,,PMOL/KG,,PMOL/KG,,UMOL/KG,,UMOL/KG,,,DEG C,,/MILLE,,/MILLE,/MILLE,,/MILLE,DEG C,KG/M^3
  49NZ20090410,   P21,   137,  1,     36, X12006,2,20090513,2109,-16.7515,-137.9960, 3568,     10.1,2,  28.0522,2,  28.05195,2,  36.3253,2,  36.3243,2,   197.08,2,   197.13,2,     0.88,2,     0.12,     0.08,2,     0.03,     0.01,2,     0.01,    0.253,2,    0.015,    1.422,2,    0.953,2, -999.000,5,   2025.9,2,   2396.4,2,   8.1318,  25,6,  -999.00,1,  -999.00,   -999.0,1,   -999.0,  28.0498,  23.3753
  49NZ20090410,   P21,   137,  1,     35, X12047,2,20090513,2109,-16.7515,-137.9960, 3568,     49.9,2,  28.0332,2,  28.03388,2,  36.3207,2,  36.3215,2,   196.65,2,   197.04,2,     0.82,2,     0.12,     0.07,2,     0.03,     0.01,2,     0.01,    0.254,2,    0.015,    1.419,2,    0.945,2, -999.000,5,   2026.3,6,   2395.7,2,   8.1318,  25,2,  -999.00,1,  -999.00,   -999.0,1,   -999.0,  28.0214,  23.3812
  49NZ20090410,   P21,   137,  1,     34, X12004,2,20090513,2109,-16.7515,-137.9960, 3568,     99.8,2,  25.0123,2,  25.01093,2,  36.4282,2,  36.4272,2,   196.16,2,   195.88,2,     0.58,2,     0.12,     0.09,2,     0.03,     0.08,2,     0.01,    0.260,2,    0.015,    1.643,6,    1.067,6, -999.000,5,   2063.4,2,   2397.2,6,   8.0758,  25,2,  -999.00,1,  -999.00,   -999.0,1,   -999.0,  24.9905,  24.4239
  49NZ20090410,   P21,   137,  1,     33, X12003,2,20090513,2109,-16.7515,-137.9960, 3568,    150.9,2,  24.0177,2,  24.01897,2,  36.4074,2,  36.4084,2,   185.22,2,   185.16,2,     0.59,2,     0.12,     0.39,2,     0.03,     1.46,2,     0.00,    0.370,2,    0.014,    1.714,2,    1.109,2, -999.000,5,   2083.9,2,   2395.9,2,   8.0400,  25,2,  -999.00,1,  -999.00,   -999.0,1,   -999.0,  23.9857,  24.7116
  49NZ20090410,   P21,   137,  1,     32, X12002,2,20090513,2109,-16.7515,-137.9960, 3568,    198.4,2,  21.8604,2,  21.84531,2,  36.0344,2,  36.0305,2,   181.66,2,   181.40,2,     0.62,2,     0.12,     2.58,2,     0.04,     0.03,2,     0.01,    0.412,2,    0.013,    1.921,2,    1.208,2,    0.126,2,   2087.6,2,   2370.1,2,   7.9991,  25,2,  -999.00,1,  -999.00,   -999.0,1,   -999.0,  21.8211,  25.0543
  49NZ20090410,   P21,   137,  1,     31, X12001,2,20090513,2109,-16.7515,-137.9960, 3568,    248.1,2,  19.6849,2,  19.68486,2,  35.6493,2,  35.6294,6,   182.75,2,   182.65,2,     0.76,2,     0.12,     3.65,2,     0.04,     0.02,2,     0.01,    0.468,2,    0.013,    2.143,2,    1.302,2,    0.041,2,   2087.5,2,   2343.6,2,   7.9603,  25,2,  -999.00,1,  -999.00,   -999.0,1,   -999.0,  19.6393,  25.3520
  49NZ20090410,   P21,   137,  1,     30, X12030,2,20090513,2109,-16.7515,-137.9960, 3568,    277.4,2,  18.6495,2,  18.64588,2,  35.4792,2,  35.4769,2,   182.07,2,   182.50,2,     0.89,2,     0.12,     4.47,2,     0.05,     0.01,2,     0.01,    0.525,2,    0.013,    2.220,2,    1.361,2,    0.031,2,   2091.1,2,   2334.0,2,   7.9410,  25,2,  -999.00,1,  -999.00,   -999.0,1,   -999.0,  18.6004,  25.4891
  49NZ20090410,   P21,   137,  1,     29, X12044,2,20090513,2109,-16.7515,-137.9960, 3568,    369.8,2,  12.2715,2,  12.27511,2,  34.6367,2,  34.6400,2,   127.44,2,   128.50,2,     7.56,2,     0.14,    17.26,2,     0.08,     0.01,2,     0.01,    1.544,2,    0.014,    2.132,2,    1.175,2,    0.046,2,   2160.4,2,   2286.6,2,   7.7007,  25,2,  -999.00,1,  -999.00,   -999.0,1,   -999.0,  12.2224,  26.2643
  49NZ20090410,   P21,   137,  1,     28, X12048,2,20090513,2109,-16.7515,-137.9960, 3568,    469.5,2,   8.6432,2,   8.64344,2,  34.5040,2,  34.5027,6,    75.95,2,    76.33,2,    19.96,2,     0.16,    31.90,2,     0.12,     0.01,2,     0.01,    2.427,2,    0.016,    0.605,2,    0.317,2,    0.008,2,   2234.2,2,   2286.6,2,   7.4981,  25,2,  -999.00,1,  -999.00,   -999.0,1,   -999.0,   8.5930,  26.7939
  49NZ20090410,   P21,   137,  1,     27, X12027,2,20090513,2109,-16.7515,-137.9960, 3568,    569.3,2,   6.5974,2,   6.59676,2,  34.4418,2,  34.4410,2,   119.96,2,   119.97,2,    26.19,2,     0.18,    33.80,2,     0.13,     0.01,2,     0.01,    2.384,2,    0.016,    0.280,6,    0.152,6,    0.000,6,   2223.0,2,   2292.9,2,   7.5482,  25,2,  -999.00,1,  -999.00,   -999.0,1,   -999.0,   6.5449,  27.0408
  49NZ20090410,   P21,   137,  1,     26, X12026,2,20090513,2109,-16.7515,-137.9960, 3568,    669.0,2,   5.8765,2,   5.88042,2,  34.4807,2,  34.4802,2,   110.38,2,   110.26,2,    40.01,2,     0.21,    36.05,2,     0.13,     0.01,2,     0.01,    2.523,2,    0.016,    0.054,2,    0.032,2,    0.000,2,   2242.3,6,   2307.6,2,   7.5346,  25,2,  -999.00,1,  -999.00,   -999.0,1,   -999.0,   5.8179,  27.1653
  49NZ20090410,   P21,   137,  1,     25, X12025,2,20090513,2109,-16.7515,-137.9960, 3568,    769.2,2,   5.3922,2,   5.39238,2,  34.4884,2,  34.4882,2,   117.44,2,   117.49,2,    47.80,2,     0.22,    36.04,2,     0.13,     0.01,2,     0.01,    2.538,2,    0.016,    0.038,2,    0.024,2,    0.000,2,   2246.4,2,   2316.6,6,   7.5443,  25,2,  -999.00,1,  -999.00,   -999.0,1,   -999.0,   5.3271,  27.2313
  49NZ20090410,   P21,   137,  1,     24, X12024,2,20090513,2109,-16.7515,-137.9960, 3568,    869.0,2,   4.9992,2,   5.00027,2,  34.4953,2,  34.4960,2,   112.05,2,   113.15,2,    55.06,2,     0.24,    37.14,2,     0.14,     0.01,2,     0.01,    2.614,2,    0.017,    0.024,2,    0.012,2,    0.000,2,   2257.3,2,   2325.8,2,   7.5321,  25,6,  -999.00,1,  -999.00,   -999.0,1,   -999.0,   4.9276,  27.2834
  49NZ20090410,   P21,   137,  1,     23, X12028,2,20090513,2109,-16.7515,-137.9960, 3568,    967.9,2,   4.5950,2,   4.59496,2,  34.5040,2,  34.5038,6,   117.63,2,   117.38,2,    61.79,2,     0.25,    37.15,2,     0.14,     0.01,2,     0.01,    2.620,2,    0.017,    0.019,2,    0.012,2,    0.000,2,   2262.4,2,   2331.9,2,   7.5371,  25,2,  -999.00,1,  -999.00,   -999.0,1,   -999.0,   4.5176,  27.3364
  49NZ20090410,   P21,   137,  1,     22, X12022,2,20090513,2109,-16.7515,-137.9960, 3568,   1131.8,2,   3.9520,2,   3.95251,2,  34.5256,2,  34.5264,2,   122.76,2,   122.81,2,    73.92,2,     0.28,    37.17,2,     0.14,     0.01,2,     0.01,    2.630,2,    0.017,    0.009,2,    0.007,2,    0.000,2,   2274.3,2,   2344.8,2,   7.5402,  25,2,  -999.00,1,  -999.00,   -999.0,1,   -999.0,   3.8656,  27.4226
  49NZ20090410,   P21,   137,  1,     21, X12021,2,20090513,2109,-16.7515,-137.9960, 3568,   1333.3,2,   3.2150,2,   3.21516,2,  34.5560,2,  34.5557,2,   133.58,2,   133.61,2,    87.17,2,     0.31,    36.80,2,     0.14,     0.01,2,     0.01,    2.594,2,    0.016,    0.004,2,    0.002,2,    0.000,2,   2282.7,2,   2359.8,2,   7.5539,  25,2,  -999.00,1,  -999.00,   -999.0,1,   -999.0,   3.1187,  27.5197
  49NZ20090410,   P21,   137,  1,     20, X12020,2,20090513,2109,-16.7515,-137.9960, 3568,   1529.5,2,   2.7560,2,   2.75566,2,  34.5817,2,  34.5820,2,   142.11,2,   142.34,2,    95.92,2,     0.33,    36.22,2,     0.13,     0.01,2,     0.01,    2.555,2,    0.016,    0.001,2,    0.001,2,    0.000,2,   2288.4,2,   2370.3,2,   7.5668,  25,6,  -999.00,1,  -999.00,   -999.0,1,   -999.0,   2.6485,  27.5826
  49NZ20090410,   P21,   137,  1,     19, X12019,2,20090513,2109,-16.7515,-137.9960, 3568,   1730.4,2,   2.4372,2,   2.43737,2,  34.6037,2,  34.6037,6,   147.46,2,   147.72,2,   102.62,2,     0.34,    36.05,2,     0.13,     0.01,2,     0.01,    2.528,2,    0.016,    0.000,2,    0.001,2,    0.000,2,   2295.5,2,   2376.8,2,   7.5743,  25,2,  -999.00,1,  -999.00,   -999.0,1,   -999.0,   2.3171,  27.6284
  49NZ20090410,   P21,   137,  1,     18, X12043,2,20090513,2109,-16.7515,-137.9960, 3568,   1930.7,2,   2.1598,2,   2.16028,2,  34.6281,2,  34.6278,2,   151.11,2,   151.19,2,   109.51,2,     0.36,    35.77,2,     0.13,     0.01,2,     0.01,    2.509,2,    0.016,    0.002,2,    0.001,2,    0.000,2,   2300.0,2,   2386.0,2,   7.5811,  25,2,  -999.00,1,  -999.00,   -999.0,1,   -999.0,   2.0268,  27.6716
  49NZ20090410,   P21,   137,  1,     17, X12042,2,20090513,2109,-16.7515,-137.9960, 3568,   2130.7,2,   1.9874,2,   1.98736,2,  34.6454,2,  34.6454,2,   153.77,2,   154.10,2,   114.48,2,     0.37,    35.58,2,     0.13,     0.01,2,     0.01,    2.495,2,    0.016,    0.001,2,    0.001,2,    0.000,2,   2303.5,2,   2391.5,2,   7.5873,  25,2,  -999.00,1,  -999.00,   -999.0,1,   -999.0,   1.8400,  27.7001
  49NZ20090410,   P21,   137,  1,     16, X12016,2,20090513,2109,-16.7515,-137.9960, 3568,   2329.9,2,   1.8917,2,   1.89175,2,  34.6567,2,  34.6566,2,   154.15,2,   154.34,2,   118.35,2,     0.38,    35.46,2,     0.13,     0.01,2,     0.01,    2.484,2,    0.016,    0.001,2,    0.001,2,    0.000,2,   2306.8,6,   2395.5,2,   7.5895,  25,2,  -999.00,1,  -999.00,   -999.0,1,   -999.0,   1.7286,  27.7177
  49NZ20090410,   P21,   137,  1,     15, X12015,2,20090513,2109,-16.7515,-137.9960, 3568,   2529.6,2,   1.8299,2,   1.83002,2,  34.6631,2,  34.6625,2,   156.02,2,   156.17,2,   120.24,2,     0.38,    35.39,2,     0.13,     0.01,2,     0.01,    2.477,2,    0.016,    0.000,2,    0.001,2,    0.000,2,   2308.3,2,   2398.8,6,   7.5935,  25,2,  -999.00,1,  -999.00,   -999.0,1,   -999.0,   1.6501,  27.7287
  49NZ20090410,   P21,   137,  1,     14, X12050,2,20090513,2109,-16.7515,-137.9960, 3568,   2730.1,2,   1.7810,2,   1.78092,2,  34.6686,2,  34.6683,6,   156.94,2,   157.11,2,   122.12,2,     0.39,    35.42,2,     0.13,     0.01,2,     0.01,    2.475,2,    0.016,    0.000,2,    0.000,2,    0.000,2,   2310.1,2,   2400.8,2,   7.5960,  25,6,  -999.00,1,  -999.00,   -999.0,1,   -999.0,   1.5837,  27.7380
  49NZ20090410,   P21,   137,  1,     13, X12013,7,20090513,2109,-16.7515,-137.9960, 3568,   2929.2,2,   1.7149,2,   1.71503,2,  34.6748,2,  34.6752,2,   158.28,2,   158.43,2,   124.50,2,     0.39,    35.35,2,     0.13,     0.01,2,     0.01,    2.472,2,    0.016,    0.000,2,    0.000,2,    0.000,2,   2311.8,2,   2403.9,2,   7.6003,  25,2,  -999.00,1,  -999.00,   -999.0,1,   -999.0,   1.5002,  27.7492
  49NZ20090410,   P21,   137,  1,     12, X12012,2,20090513,2109,-16.7515,-137.9960, 3568,   3171.2,2,   1.6653,2,   1.66530,2,  34.6792,2,  34.6789,2,   159.94,2,   160.16,2,   126.31,2,     0.40,    35.30,2,     0.13,     0.01,2,     0.01,    2.468,2,    0.016,    0.000,2,    0.001,2,    0.000,2,   2313.1,2,   2406.8,2,   7.6027,  25,2,  -999.00,1,  -999.00,   -999.0,1,   -999.0,   1.4282,  27.7579
  49NZ20090410,   P21,   137,  1,     11, X12041,2,20090513,2109,-16.7515,-137.9960, 3568,   3421.0,2,   1.6416,2,   1.64164,2,  34.6824,2,  34.6822,2,   160.31,2,   160.52,2,   128.23,2,     0.40,    35.30,2,     0.13,     0.01,2,     0.01,    2.470,2,    0.016,    0.001,2,    0.002,2,    0.000,2,   2313.8,2,   2410.2,2,   7.6052,  25,2,  -999.00,1,  -999.00,   -999.0,1,   -999.0,   1.3800,  27.7640
  49NZ20090410,   P21,   137,  1,     10, X12040,9,20090513,2109,-16.7515,-137.9960, 3568,      9.9,2,  28.0503,2,  28.05073,2,  36.3251,2,-999.0000,9,   197.18,2,  -999.00,9,  -999.00,9,  -999.00,  -999.00,9,  -999.00,  -999.00,9,  -999.00, -999.000,9, -999.000, -999.000,9, -999.000,9, -999.000,9,   -999.0,9,   -999.0,9,-999.0000,-999,9,  -999.00,9,  -999.00,   -999.0,9,   -999.0,  28.0480,  23.3757
  49NZ20090410,   P21,   137,  1,      9, X12009,9,20090513,2109,-16.7515,-137.9960, 3568,   2329.6,2,   1.8917,2,   1.89175,2,  34.6568,2,-999.0000,9,   154.15,2,  -999.00,9,  -999.00,9,  -999.00,  -999.00,9,  -999.00,  -999.00,9,  -999.00, -999.000,9, -999.000, -999.000,9, -999.000,9, -999.000,9,   -999.0,9,   -999.0,9,-999.0000,-999,9,  -999.00,9,  -999.00,   -999.0,9,   -999.0,   1.7286,  27.7177
  49NZ20090410,   P21,   137,  1,      8, X12008,9,20090513,2109,-16.7515,-137.9960, 3568,   3171.8,2,   1.6651,2,   1.66512,2,  34.6793,2,-999.0000,9,   159.88,2,  -999.00,9,  -999.00,9,  -999.00,  -999.00,9,  -999.00,  -999.00,9,  -999.00, -999.000,9, -999.000, -999.000,9, -999.000,9, -999.000,9,   -999.0,9,   -999.0,9,-999.0000,-999,9,  -999.00,9,  -999.00,   -999.0,9,   -999.0,   1.4279,  27.7580
  49NZ20090410,   P21,   137,  1,      7, X12007,9,20090513,2109,-16.7515,-137.9960, 3568,   3420.1,2,   1.6417,2,   1.64164,2,  34.6823,2,-999.0000,9,   160.33,2,  -999.00,9,  -999.00,9,  -999.00,  -999.00,9,  -999.00,  -999.00,9,  -999.00, -999.000,9, -999.000, -999.000,9, -999.000,9, -999.000,9,   -999.0,9,   -999.0,9,-999.0000,-999,9,  -999.00,9,  -999.00,   -999.0,9,   -999.0,   1.3802,  27.7639
  49NZ20090410,   P21,   137,  1,      6, X12035,9,20090513,2109,-16.7515,-137.9960, 3568,   3594.6,2,   1.6025,2,   1.60249,2,  34.6854,2,-999.0000,9,   162.30,2,  -999.00,9,  -999.00,9,  -999.00,  -999.00,9,  -999.00,  -999.00,9,  -999.00, -999.000,9, -999.000, -999.000,9, -999.000,9, -999.000,9,   -999.0,9,   -999.0,9,-999.0000,-999,9,  -999.00,9,  -999.00,   -999.0,9,   -999.0,   1.3240,  27.7703
  49NZ20090410,   P21,   137,  1,      5, X12038,9,20090513,2109,-16.7515,-137.9960, 3568,   2529.7,2,   1.8301,2,   1.83016,2,  34.6631,2,-999.0000,9,   156.06,2,  -999.00,9,  -999.00,9,  -999.00,  -999.00,9,  -999.00,  -999.00,9,  -999.00, -999.000,9, -999.000, -999.000,9, -999.000,9, -999.000,9,   -999.0,9,   -999.0,9,-999.0000,-999,9,  -999.00,9,  -999.00,   -999.0,9,   -999.0,   1.6503,  27.7287
  49NZ20090410,   P21,   137,  1,      4, X12034,9,20090513,2109,-16.7515,-137.9960, 3568,   2730.9,2,   1.7790,2,   1.77920,2,  34.6686,2,-999.0000,9,   156.99,2,  -999.00,9,  -999.00,9,  -999.00,  -999.00,9,  -999.00,  -999.00,9,  -999.00, -999.000,9, -999.000, -999.000,9, -999.000,9, -999.000,9,   -999.0,9,   -999.0,9,-999.0000,-999,9,  -999.00,9,  -999.00,   -999.0,9,   -999.0,   1.5817,  27.7383
  49NZ20090410,   P21,   137,  1,      3, X12033,2,20090513,2109,-16.7515,-137.9960, 3568,   2929.9,2,   1.7148,2,   1.71478,2,  34.6748,2,  34.6747,2,   158.28,2,  -999.00,9,  -999.00,9,  -999.00,  -999.00,9,  -999.00,  -999.00,9,  -999.00, -999.000,9, -999.000, -999.000,9, -999.000,9, -999.000,9,   -999.0,9,   -999.0,9,-999.0000,-999,9,  -999.00,9,  -999.00,   -999.0,9,   -999.0,   1.5000,  27.7492
  49NZ20090410,   P21,   137,  1,      2, X12032,9,20090513,2109,-16.7515,-137.9960, 3568,    868.8,2,   4.9937,2,   4.99773,2,  34.4964,2,-999.0000,9,   112.80,2,  -999.00,9,  -999.00,9,  -999.00,  -999.00,9,  -999.00,  -999.00,9,  -999.00, -999.000,9, -999.000, -999.000,9, -999.000,9, -999.000,9,   -999.0,9,   -999.0,9,-999.0000,-999,9,  -999.00,9,  -999.00,   -999.0,9,   -999.0,   4.9222,  27.2849
  49NZ20090410,   P21,   137,  1,      1, X12046,2,20090513,2109,-16.7515,-137.9960, 3568,   3594.5,2,   1.6026,2,   1.60248,2,  34.6854,2,  34.6852,6,   162.28,2,   162.45,2,   129.01,2,     0.40,    35.32,2,     0.13,     0.01,2,     0.01,    2.462,2,    0.016,    0.000,2,    0.000,2,    0.000,2,   2315.2,2,   2410.4,2,   7.6087,  25,2,  -999.00,1,  -999.00,   -999.0,1,   -999.0,   1.3241,  27.7703