BOTTLE,20220818CCHSIOAMB
EXPOCODE,SECT_ID,STNNBR,CASTNO,SAMPNO,BTLNBR,BTLNBR_FLAG_W,DATE,TIME,LATITUDE,LONGITUDE,DEPTH,CTDPRS,CTDPRS_FLAG_W,CTDTMP,CTDTMP_FLAG_W,SBE35,SBE35_FLAG_W,CTDSAL,CTDSAL_FLAG_W,SALNTY,SALNTY_FLAG_W,CTDOXY,CTDOXY_FLAG_W,OXYGEN,OXYGEN_FLAG_W,SILCAT,SILCAT_FLAG_W,SILUNC,NITRAT,NITRAT_FLAG_W,NRAUNC,NITRIT,NITRIT_FLAG_W,NRIUNC,PHSPHT,PHSPHT_FLAG_W,PHPUNC,CFC-11,CFC-11_FLAG_W,CFC-12,CFC-12_FLAG_W,CFC113,CFC113_FLAG_W,TCARBN,TCARBN_FLAG_W,ALKALI,ALKALI_FLAG_W,PH_TOT,PH_TMP,PH_TOT_FLAG_W,DELC13,DELC13_FLAG_W,C13ERR,DELC14,DELC14_FLAG_W,C14ERR,THETA,SIG0
,,,,,,,,,,,METERS,DBAR,,ITS-90,,ITS-90,,PSS-78,,PSS-78,,UMOL/KG,,UMOL/KG,,UMOL/KG,,UMOL/KG,UMOL/KG,,UMOL/KG,UMOL/KG,,UMOL/KG,UMOL/KG,,UMOL/KG,PMOL/KG,,PMOL/KG,,PMOL/KG,,UMOL/KG,,UMOL/KG,,,DEG C,,/MILLE,,/MILLE,/MILLE,,/MILLE,DEG C,KG/M^3
  49NZ20090410,   P21,   108,  1,     36, X12006,2,20090507,0109,-16.7540,-118.6728, 3540,     10.4,2,  26.4415,2,  26.44058,2,  36.2788,2,  36.2785,2,   204.04,2,   204.10,2,     0.65,2,     0.12,     1.43,2,     0.04,     0.03,2,     0.01,    0.390,2,    0.013,    1.557,2,    1.005,2,    0.145,2,   2045.5,2,   2394.1,2,   8.0984,  25,6,  -999.00,1,  -999.00,   -999.0,1,   -999.0,  26.4391,  23.8602
  49NZ20090410,   P21,   108,  1,     35, X12047,2,20090507,0109,-16.7540,-118.6728, 3540,     49.7,2,  26.1601,2,  26.16069,2,  36.2856,2,  36.2866,2,   204.25,2,   204.50,2,     0.74,2,     0.12,     1.07,2,     0.04,     0.03,2,     0.01,    0.381,2,    0.013,    1.575,2,    1.006,2,    0.150,2,   2046.6,6,   2394.6,2,   8.0988,  25,2,  -999.00,1,  -999.00,   -999.0,1,   -999.0,  26.1489,  23.9569
  49NZ20090410,   P21,   108,  1,     34, X12004,2,20090507,0109,-16.7540,-118.6728, 3540,     99.3,2,  23.2689,2,  23.26941,2,  36.3577,2,  36.3574,2,   206.23,2,   206.25,2,     0.57,2,     0.12,     0.13,2,     0.03,     0.09,2,     0.01,    0.311,2,    0.014,    1.832,6,    1.140,6, -999.000,5,   2081.9,2,   2395.9,6,   8.0441,  25,2,  -999.00,1,  -999.00,   -999.0,1,   -999.0,  23.2483,  24.8915
  49NZ20090410,   P21,   108,  1,     33, X12003,2,20090507,0109,-16.7540,-118.6728, 3540,    149.6,2,  22.1212,2,  22.12381,2,  36.2211,2,  36.2283,2,   201.46,2,   201.60,2,     0.50,2,     0.12,     0.32,2,     0.03,     0.82,2,     0.00,    0.316,2,    0.014,    1.911,2,    1.179,2, -999.000,5,   2086.8,2,   2384.6,2,   8.0208,  25,6,  -999.00,1,  -999.00,   -999.0,1,   -999.0,  22.0913,  25.1202
  49NZ20090410,   P21,   108,  1,     32, X12002,2,20090507,0109,-16.7540,-118.6728, 3540,    199.6,2,  20.0559,2,  20.06057,2,  35.7755,2,  35.7676,2,   195.01,2,   194.92,2,     0.58,2,     0.12,     2.80,2,     0.04,     0.04,2,     0.01,    0.465,2,    0.013,    2.117,2,    1.284,2,    0.132,2,   2094.5,2,   2357.0,2,   7.9695,  25,2,  -999.00,1,  -999.00,   -999.0,1,   -999.0,  20.0187,  25.3485
  49NZ20090410,   P21,   108,  1,     31, X12001,2,20090507,0109,-16.7540,-118.6728, 3540,    252.0,2,  17.3886,2,  17.38397,2,  35.2724,2,  35.3141,6,   186.84,2,   187.13,2,     1.14,2,     0.12,     5.58,2,     0.05,     0.02,2,     0.01,    0.642,2,    0.013,    2.345,2,    1.398,2,    0.074,2,   2097.7,2,   2326.1,2,   7.9158,  25,2,  -999.00,1,  -999.00,   -999.0,1,   -999.0,  17.3462,  25.6403
  49NZ20090410,   P21,   108,  1,     30, X12030,2,20090507,0109,-16.7540,-118.6728, 3540,    281.3,2,  14.7194,2,  14.71111,2,  34.8594,2,  34.8728,2,   178.56,2,   178.79,2,     2.09,2,     0.12,     9.08,2,     0.06,     0.02,2,     0.01,    0.864,2,    0.013,    2.588,2,    1.470,2,    0.041,2,   2106.1,2,   2298.5,2,   7.8500,  25,2,  -999.00,1,  -999.00,   -999.0,1,   -999.0,  14.6773,  25.9339
  49NZ20090410,   P21,   108,  1,     29, X12044,2,20090507,0109,-16.7540,-118.6728, 3540,    370.1,2,  10.2993,2,  10.30291,2,  34.4908,2,  34.4912,2,   108.02,2,   108.25,2,    12.03,2,     0.15,    23.40,2,     0.10,     0.02,2,     0.01,    1.988,2,    0.015,    1.780,2,    0.920,2,    0.015,2,   2192.2,2,   2279.5,2,   7.5937,  25,2,  -999.00,1,  -999.00,   -999.0,1,   -999.0,  10.2554,  26.5105
  49NZ20090410,   P21,   108,  1,     28, X12048,2,20090507,0109,-16.7540,-118.6728, 3540,    470.7,2,   7.6180,2,   7.61829,2,  34.4760,2,  34.4734,6,    88.80,2,    89.47,2,    22.32,2,     0.17,    33.92,2,     0.13,     0.01,2,     0.01,    2.461,2,    0.016,    0.421,2,    0.212,2,    0.000,2,   2231.6,2,   2287.6,2,   7.5029,  25,2,  -999.00,1,  -999.00,   -999.0,1,   -999.0,   7.5712,  26.9252
  49NZ20090410,   P21,   108,  1,     27, X12027,2,20090507,0109,-16.7540,-118.6728, 3540,    569.1,2,   6.5866,2,   6.58679,2,  34.4990,2,  34.4983,2,    80.21,2,    80.27,2,    34.32,2,     0.19,    37.71,2,     0.14,     0.01,2,     0.01,    2.638,2,    0.017,    0.061,6,    0.037,6,    0.000,6,   2250.7,2,   2300.7,2,   7.4848,  25,2,  -999.00,1,  -999.00,   -999.0,1,   -999.0,   6.5341,  27.0873
  49NZ20090410,   P21,   108,  1,     26, X12026,2,20090507,0109,-16.7540,-118.6728, 3540,    671.4,2,   5.9080,2,   5.90800,2,  34.4884,2,  34.4873,2,    86.94,2,    87.48,2,    41.47,2,     0.21,    38.34,2,     0.14,     0.01,2,     0.01,    2.691,2,    0.017,    0.021,2,    0.008,2,    0.000,2,   2256.0,6,   2308.6,2,   7.4903,  25,2,  -999.00,1,  -999.00,   -999.0,1,   -999.0,   5.8490,  27.1675
  49NZ20090410,   P21,   108,  1,     25, X12025,2,20090507,0109,-16.7540,-118.6728, 3540,    772.5,2,   5.4561,2,   5.45642,2,  34.4979,2,  34.4974,2,    75.19,2,    74.97,2,    50.45,2,     0.23,    40.60,2,     0.15,     0.01,2,     0.01,    2.852,2,    0.017,    0.008,2,    0.005,2,    0.000,2,   2274.0,2,   2317.2,6,   7.4616,  25,2,  -999.00,1,  -999.00,   -999.0,1,   -999.0,   5.3903,  27.2312
  49NZ20090410,   P21,   108,  1,     24, X12024,2,20090507,0109,-16.7540,-118.6728, 3540,    870.1,2,   4.9063,2,   4.90695,2,  34.5074,2,  34.5072,2,    74.87,2,    74.59,2,    61.00,2,     0.25,    41.38,2,     0.15,     0.01,2,     0.01,    2.923,2,    0.017,    0.001,2,    0.003,2,    0.000,2,   2287.0,2,   2329.3,2,   7.4559,  25,2,  -999.00,1,  -999.00,   -999.0,1,   -999.0,   4.8352,  27.3036
  49NZ20090410,   P21,   108,  1,     23, X12028,2,20090507,0109,-16.7540,-118.6728, 3540,    969.0,2,   4.5170,2,   4.51666,2,  34.5155,2,  34.5155,6,    82.07,2,    82.16,2,    67.89,2,     0.27,    40.89,2,     0.15,     0.01,2,     0.01,    2.903,2,    0.017,    0.000,2,    0.000,2,    0.000,2,   2291.0,2,   2336.3,2,   7.4673,  25,2,  -999.00,1,  -999.00,   -999.0,1,   -999.0,   4.4400,  27.3540
  49NZ20090410,   P21,   108,  1,     22, X12022,2,20090507,0109,-16.7540,-118.6728, 3540,   1131.4,2,   3.9354,2,   3.93457,2,  34.5378,2,  34.5386,2,    88.48,2,    88.48,2,    80.69,2,     0.30,    40.65,2,     0.15,     0.01,2,     0.01,    2.898,2,    0.017,    0.000,2,    0.001,2,    0.000,2,   2301.8,2,   2350.6,2,   7.4763,  25,2,  -999.00,1,  -999.00,   -999.0,1,   -999.0,   3.8492,  27.4340
  49NZ20090410,   P21,   108,  1,     21, X12021,2,20090507,0109,-16.7540,-118.6728, 3540,   1330.9,2,   3.3759,2,   3.37715,2,  34.5646,2,  34.5651,2,    96.36,2,    96.42,2,    93.88,2,     0.33,    40.09,2,     0.15,     0.01,2,     0.01,    2.872,2,    0.017,    0.001,2,    0.000,2,    0.000,2,   2312.3,2,   2365.7,2,   7.4889,  25,2,  -999.00,1,  -999.00,   -999.0,1,   -999.0,   3.2781,  27.5116
  49NZ20090410,   P21,   108,  1,     20, X12020,2,20090507,0109,-16.7540,-118.6728, 3540,   1531.8,2,   2.9622,2,   2.96251,2,  34.5884,2,  34.5886,2,   105.23,2,   105.31,2,   103.47,2,     0.35,    39.45,2,     0.14,     0.01,2,     0.01,    2.818,2,    0.017,    0.000,2,    0.000,2,    0.000,2,   2318.7,2,   2376.9,2,   7.5050,  25,6,  -999.00,1,  -999.00,   -999.0,1,   -999.0,   2.8521,  27.5699
  49NZ20090410,   P21,   108,  1,     19, X12019,2,20090507,0109,-16.7540,-118.6728, 3540,   1731.4,2,   2.5960,2,   2.59656,2,  34.6098,2,  34.6099,6,   117.31,2,   117.33,2,   110.36,2,     0.36,    38.34,2,     0.14,     0.01,2,     0.01,    2.737,2,    0.017,    0.001,2,    0.001,2,    0.000,2,   2319.0,2,   2385.1,2,   7.5261,  25,2,  -999.00,1,  -999.00,   -999.0,1,   -999.0,   2.4737,  27.6202
  49NZ20090410,   P21,   108,  1,     18, X12043,2,20090507,0109,-16.7540,-118.6728, 3540,   1929.3,2,   2.2457,2,   2.24546,2,  34.6310,2,  34.6314,2,   135.76,2,   136.23,2,   113.04,2,     0.37,    36.88,2,     0.14,     0.01,2,     0.01,    2.612,2,    0.017,    0.000,2,    0.001,2,    0.000,2,   2311.2,2,   2388.9,2,   7.5568,  25,2,  -999.00,1,  -999.00,   -999.0,1,   -999.0,   2.1115,  27.6672
  49NZ20090410,   P21,   108,  1,     17, X12042,2,20090507,0109,-16.7540,-118.6728, 3540,   2129.9,2,   2.0149,2,   2.01486,2,  34.6491,2,  34.6497,2,   148.86,2,   149.01,2,   115.08,2,     0.37,    35.90,2,     0.13,     0.01,2,     0.01,    2.519,2,    0.016,    0.000,2,    0.001,2,    0.000,2,   2306.7,2,   2392.1,2,   7.5782,  25,2,  -999.00,1,  -999.00,   -999.0,1,   -999.0,   1.8671,  27.7010
  49NZ20090410,   P21,   108,  1,     16, X12016,2,20090507,0109,-16.7540,-118.6728, 3540,   2331.6,2,   1.9046,2,   1.90469,2,  34.6614,2,  34.6620,2,   152.98,2,   153.12,2,   118.14,2,     0.38,    35.60,2,     0.13,     0.01,2,     0.01,    2.485,2,    0.016,    0.000,2,    0.000,2,    0.000,2,   2307.4,6,   2397.3,2,   7.5873,  25,2,  -999.00,1,  -999.00,   -999.0,1,   -999.0,   1.7411,  27.7205
  49NZ20090410,   P21,   108,  1,     15, X12015,2,20090507,0109,-16.7540,-118.6728, 3540,   2531.0,2,   1.8468,2,   1.84660,2,  34.6684,2,  34.6685,6,   154.99,2,   155.15,2,   120.65,2,     0.38,    35.32,2,     0.13,     0.01,2,     0.01,    2.478,2,    0.016,    0.000,2,    0.000,2,    0.000,2,   2303.9,4,   2400.2,6,   7.5925,  25,2,  -999.00,1,  -999.00,   -999.0,1,   -999.0,   1.6665,  27.7317
  49NZ20090410,   P21,   108,  1,     14, X12050,2,20090507,0109,-16.7540,-118.6728, 3540,   2731.1,2,   1.7849,2,   1.78495,2,  34.6727,2,  34.6727,2,   157.88,2,   158.07,2,   122.12,2,     0.39,    35.30,2,     0.13,     0.01,2,     0.01,    2.465,2,    0.016,    0.000,2,    0.000,2,    0.000,2,   2308.9,2,   2402.5,2,   7.5979,  25,6,  -999.00,1,  -999.00,   -999.0,1,   -999.0,   1.5874,  27.7411
  49NZ20090410,   P21,   108,  1,     13, X12013,7,20090507,0109,-16.7540,-118.6728, 3540,   2932.4,2,   1.7526,2,   1.75271,2,  34.6751,2,  34.6759,2,   159.40,2,   159.58,2,   122.88,2,     0.39,    35.16,2,     0.13,     0.01,2,     0.01,    2.466,2,    0.016,    0.002,2,    0.000,2,    0.000,2,   2308.0,2,   2403.4,2,   7.6011,  25,2,  -999.00,1,  -999.00,   -999.0,1,   -999.0,   1.5368,  27.7467
  49NZ20090410,   P21,   108,  1,     12, X12012,2,20090507,0109,-16.7540,-118.6728, 3540,   3168.9,2,   1.7439,2,   1.74397,2,  34.6765,2,  34.6773,2,   160.51,2,   160.67,2,   123.66,2,     0.39,    35.23,2,     0.13,     0.01,2,     0.01,    2.467,2,    0.016,    0.000,2,    0.000,2,    0.000,2,   2307.7,2,   2404.0,2,   7.6029,  25,2,  -999.00,1,  -999.00,   -999.0,1,   -999.0,   1.5052,  27.7502
  49NZ20090410,   P21,   108,  1,     11, X12041,2,20090507,0109,-16.7540,-118.6728, 3540,   3420.1,2,   1.7341,2,   1.73415,2,  34.6787,2,  34.6791,2,   160.62,2,   160.78,2,   125.10,2,     0.39,    35.26,2,     0.13,     0.01,2,     0.01,    2.465,2,    0.016,    0.001,2,    0.000,2,    0.000,2,   2310.2,2,   2406.6,2,   7.6047,  25,2,  -999.00,1,  -999.00,   -999.0,1,   -999.0,   1.4703,  27.7545
  49NZ20090410,   P21,   108,  1,     10, X12040,9,20090507,0109,-16.7540,-118.6728, 3540,    253.2,2,  17.2883,2,  17.28537,2,  35.2559,2,-999.0000,9,   187.33,2,  -999.00,9,  -999.00,9,  -999.00,  -999.00,9,  -999.00,  -999.00,9,  -999.00, -999.000,9, -999.000, -999.000,9, -999.000,9, -999.000,9,   -999.0,9,   -999.0,9,-999.0000,-999,9,  -999.00,9,  -999.00,   -999.0,9,   -999.0,  17.2459,  25.6519
  49NZ20090410,   P21,   108,  1,      9, X12009,9,20090507,0109,-16.7540,-118.6728, 3540,    773.2,2,   5.4555,2,   5.45560,2,  34.4980,2,-999.0000,9,    75.18,2,  -999.00,9,  -999.00,9,  -999.00,  -999.00,9,  -999.00,  -999.00,9,  -999.00, -999.000,9, -999.000, -999.000,9, -999.000,9, -999.000,9,   -999.0,9,   -999.0,9,-999.0000,-999,9,  -999.00,9,  -999.00,   -999.0,9,   -999.0,   5.3897,  27.2314
  49NZ20090410,   P21,   108,  1,      8, X12008,9,20090507,0109,-16.7540,-118.6728, 3540,   1929.6,2,   2.2439,2,   2.24442,2,  34.6311,2,-999.0000,9,   136.05,2,  -999.00,9,  -999.00,9,  -999.00,  -999.00,9,  -999.00,  -999.00,9,  -999.00, -999.000,9, -999.000, -999.000,9, -999.000,9, -999.000,9,   -999.0,9,   -999.0,9,-999.0000,-999,9,  -999.00,9,  -999.00,   -999.0,9,   -999.0,   2.1097,  27.6673
  49NZ20090410,   P21,   108,  1,      7, X12007,9,20090507,0109,-16.7540,-118.6728, 3540,   2130.0,2,   2.0152,2,   2.01511,2,  34.6490,2,-999.0000,9,   148.90,2,  -999.00,9,  -999.00,9,  -999.00,  -999.00,9,  -999.00,  -999.00,9,  -999.00, -999.000,9, -999.000, -999.000,9, -999.000,9, -999.000,9,   -999.0,9,   -999.0,9,-999.0000,-999,9,  -999.00,9,  -999.00,   -999.0,9,   -999.0,   1.8674,  27.7009
  49NZ20090410,   P21,   108,  1,      6, X12035,9,20090507,0109,-16.7540,-118.6728, 3540,   2331.6,2,   1.9047,2,   1.90457,2,  34.6613,2,-999.0000,9,   153.02,2,  -999.00,9,  -999.00,9,  -999.00,  -999.00,9,  -999.00,  -999.00,9,  -999.00, -999.000,9, -999.000, -999.000,9, -999.000,9, -999.000,9,   -999.0,9,   -999.0,9,-999.0000,-999,9,  -999.00,9,  -999.00,   -999.0,9,   -999.0,   1.7412,  27.7204
  49NZ20090410,   P21,   108,  1,      5, X12038,9,20090507,0109,-16.7540,-118.6728, 3540,   2532.3,2,   1.8432,2,   1.84329,2,  34.6686,2,-999.0000,9,   155.15,2,  -999.00,9,  -999.00,9,  -999.00,  -999.00,9,  -999.00,  -999.00,9,  -999.00, -999.000,9, -999.000, -999.000,9, -999.000,9, -999.000,9,   -999.0,9,   -999.0,9,-999.0000,-999,9,  -999.00,9,  -999.00,   -999.0,9,   -999.0,   1.6629,  27.7322
  49NZ20090410,   P21,   108,  1,      4, X12034,9,20090507,0109,-16.7540,-118.6728, 3540,   2731.8,2,   1.7855,2,   1.78550,2,  34.6726,2,-999.0000,9,   157.87,2,  -999.00,9,  -999.00,9,  -999.00,  -999.00,9,  -999.00,  -999.00,9,  -999.00, -999.000,9, -999.000, -999.000,9, -999.000,9, -999.000,9,   -999.0,9,   -999.0,9,-999.0000,-999,9,  -999.00,9,  -999.00,   -999.0,9,   -999.0,   1.5879,  27.7410
  49NZ20090410,   P21,   108,  1,      3, X12033,9,20090507,0109,-16.7540,-118.6728, 3540,   2932.4,2,   1.7525,2,   1.75260,2,  34.6750,2,-999.0000,9,   159.46,2,  -999.00,9,  -999.00,9,  -999.00,  -999.00,9,  -999.00,  -999.00,9,  -999.00, -999.000,9, -999.000, -999.000,9, -999.000,9, -999.000,9,   -999.0,9,   -999.0,9,-999.0000,-999,9,  -999.00,9,  -999.00,   -999.0,9,   -999.0,   1.5367,  27.7467
  49NZ20090410,   P21,   108,  1,      2, X12032,9,20090507,0109,-16.7540,-118.6728, 3540,    870.5,2,   4.9020,2,   4.90238,2,  34.5074,2,-999.0000,9,    74.95,2,  -999.00,9,  -999.00,9,  -999.00,  -999.00,9,  -999.00,  -999.00,9,  -999.00, -999.000,9, -999.000, -999.000,9, -999.000,9, -999.000,9,   -999.0,9,   -999.0,9,-999.0000,-999,9,  -999.00,9,  -999.00,   -999.0,9,   -999.0,   4.8309,  27.3040
  49NZ20090410,   P21,   108,  1,      1, X12046,2,20090507,0109,-16.7540,-118.6728, 3540,   3584.3,2,   1.7090,2,   1.70896,2,  34.6808,2,  34.6810,6,   161.12,2,   161.15,2,   126.30,2,     0.40,    35.29,2,     0.13,     0.01,2,     0.01,    2.470,2,    0.016,    0.001,2,    0.000,2,    0.000,2,   2311.9,2,   2408.8,2,   7.6068,  25,2,  -999.00,1,  -999.00,   -999.0,1,   -999.0,   1.4288,  27.7592