BOTTLE,20220818CCHSIOAMB
EXPOCODE,SECT_ID,STNNBR,CASTNO,SAMPNO,BTLNBR,BTLNBR_FLAG_W,DATE,TIME,LATITUDE,LONGITUDE,DEPTH,CTDPRS,CTDPRS_FLAG_W,CTDTMP,CTDTMP_FLAG_W,SBE35,SBE35_FLAG_W,CTDSAL,CTDSAL_FLAG_W,SALNTY,SALNTY_FLAG_W,CTDOXY,CTDOXY_FLAG_W,OXYGEN,OXYGEN_FLAG_W,SILCAT,SILCAT_FLAG_W,SILUNC,NITRAT,NITRAT_FLAG_W,NRAUNC,NITRIT,NITRIT_FLAG_W,NRIUNC,PHSPHT,PHSPHT_FLAG_W,PHPUNC,CFC-11,CFC-11_FLAG_W,CFC-12,CFC-12_FLAG_W,CFC113,CFC113_FLAG_W,TCARBN,TCARBN_FLAG_W,ALKALI,ALKALI_FLAG_W,PH_TOT,PH_TMP,PH_TOT_FLAG_W,DELC13,DELC13_FLAG_W,C13ERR,DELC14,DELC14_FLAG_W,C14ERR,THETA,SIG0
,,,,,,,,,,,METERS,DBAR,,ITS-90,,ITS-90,,PSS-78,,PSS-78,,UMOL/KG,,UMOL/KG,,UMOL/KG,,UMOL/KG,UMOL/KG,,UMOL/KG,UMOL/KG,,UMOL/KG,UMOL/KG,,UMOL/KG,PMOL/KG,,PMOL/KG,,PMOL/KG,,UMOL/KG,,UMOL/KG,,,DEG C,,/MILLE,,/MILLE,/MILLE,,/MILLE,DEG C,KG/M^3
  49NZ20090410,   P21,    60,  1,     36, X12006,2,20090427,0057,-16.7470, -92.0005, 4389,      9.8,2,  23.7636,2,  23.76344,2,  35.8296,2,  35.8267,2,   213.15,2,   212.85,2,     0.47,2,     0.12,     0.30,2,     0.03,     0.03,2,     0.01,    0.403,2,    0.013,    1.709,2,    1.061,2, -999.000,5,   -999.0,9,   -999.0,9,-999.0000,-999,9,  -999.00,9,  -999.00,   -999.0,9,   -999.0,  23.7615,  24.3403
  49NZ20090410,   P21,    60,  1,     35, X12047,2,20090427,0057,-16.7470, -92.0005, 4389,     49.6,2,  23.6068,2,  23.60924,2,  35.8319,2,  35.8286,2,   212.47,2,   213.02,2,     0.56,2,     0.12,     0.19,2,     0.03,     0.03,2,     0.01,    0.417,2,    0.013,    1.726,2,    1.079,2, -999.000,5,   -999.0,9,   -999.0,9,-999.0000,-999,9,  -999.00,9,  -999.00,   -999.0,9,   -999.0,  23.5965,  24.3907
  49NZ20090410,   P21,    60,  1,     34, X12004,2,20090427,0057,-16.7470, -92.0005, 4389,    100.4,2,  18.9401,2,  18.94007,2,  35.3595,2,  35.3636,2,   213.39,2,   212.78,2,     1.20,2,     0.12,     3.27,2,     0.04,     1.00,2,     0.01,    0.770,3,    0.826,    2.214,6,    1.358,6,    0.226,4,   -999.0,9,   -999.0,9,-999.0000,-999,9,  -999.00,9,  -999.00,   -999.0,9,   -999.0,  18.9222,  25.3158
  49NZ20090410,   P21,    60,  1,     33, X12003,2,20090427,0057,-16.7470, -92.0005, 4389,    149.3,2,  17.0247,2,  17.01681,2,  35.0815,2,  35.0809,2,   195.20,2,   194.13,2,     2.24,2,     0.12,    10.14,2,     0.06,     0.05,2,     0.01,    1.131,2,    0.013,    2.395,2,    1.446,2,    0.174,2,   -999.0,9,   -999.0,9,-999.0000,-999,9,  -999.00,9,  -999.00,   -999.0,9,   -999.0,  17.0000,  25.5768
  49NZ20090410,   P21,    60,  1,     32, X12002,2,20090427,0057,-16.7470, -92.0005, 4389,    201.3,2,  13.3180,2,  13.31884,2,  34.7401,2,  34.7353,2,    56.62,2,    59.03,2,    12.86,2,     0.15,    21.98,2,     0.09,     0.03,2,     0.01,    2.315,2,    0.016,    1.970,2,    1.115,2,    0.083,2,   -999.0,9,   -999.0,9,-999.0000,-999,9,  -999.00,9,  -999.00,   -999.0,9,   -999.0,  13.2899,  26.1330
  49NZ20090410,   P21,    60,  1,     31, X12001,2,20090427,0057,-16.7470, -92.0005, 4389,    250.3,2,  12.1617,2,  12.16182,2,  34.7783,2,  34.7752,6,     2.56,2,     2.04,2,    22.92,2,     0.17,    22.37,2,     0.10,     0.02,2,     0.01,    2.715,2,    0.017,    0.906,2,    0.500,2,    0.022,2,   -999.0,9,   -999.0,9,-999.0000,-999,9,  -999.00,9,  -999.00,   -999.0,9,   -999.0,  12.1288,  26.3922
  49NZ20090410,   P21,    60,  1,     30, X12030,2,20090427,0057,-16.7470, -92.0005, 4389,    299.8,2,  11.2455,2,  11.24467,2,  34.7595,2,  34.7583,2,     2.37,2,     1.57,2,    25.00,2,     0.17,    27.84,2,     0.11,     0.02,2,     0.01,    2.719,2,    0.017,    0.507,2,    0.276,2,    0.024,2,   -999.0,9,   -999.0,9,-999.0000,-999,9,  -999.00,9,  -999.00,   -999.0,9,   -999.0,  11.2079,  26.5504
  49NZ20090410,   P21,    60,  1,     29, X12044,2,20090427,0057,-16.7470, -92.0005, 4389,    399.9,2,   9.4677,2,   9.47262,2,  34.6607,2,  34.6593,2,     5.83,2,     5.88,2,    28.38,2,     0.18,    36.07,2,     0.13,     0.02,2,     0.01,    2.820,2,    0.017,    0.183,2,    0.097,2,    0.010,2,   -999.0,9,   -999.0,9,-999.0000,-999,9,  -999.00,9,  -999.00,   -999.0,9,   -999.0,   9.4226,  26.7838
  49NZ20090410,   P21,    60,  1,     28, X12048,2,20090427,0057,-16.7470, -92.0005, 4389,    499.9,2,   7.9721,2,   7.97015,2,  34.5757,2,  34.5760,6,    29.06,2,    29.29,2,    31.38,2,     0.19,    39.26,2,     0.14,     0.02,2,     0.01,    2.814,2,    0.017,    0.099,2,    0.052,2,    0.000,2,   -999.0,9,   -999.0,9,-999.0000,-999,9,  -999.00,9,  -999.00,   -999.0,9,   -999.0,   7.9209,  26.9523
  49NZ20090410,   P21,    60,  1,     27, X12027,2,20090427,0057,-16.7470, -92.0005, 4389,    598.6,2,   6.8114,2,   6.81302,2,  34.5239,2,  34.5234,2,    39.66,2,    39.93,2,    37.81,2,     0.20,    41.40,2,     0.15,     0.02,2,     0.01,    2.944,2,    0.017,    0.051,6,    0.027,6,    0.000,6,   -999.0,9,   -999.0,9,-999.0000,-999,9,  -999.00,9,  -999.00,   -999.0,9,   -999.0,   6.7550,  27.0772
  49NZ20090410,   P21,    60,  1,     26, X12026,2,20090427,0057,-16.7470, -92.0005, 4389,    699.8,2,   5.9654,2,   5.96405,2,  34.5006,2,  34.4998,2,    41.80,2,    42.19,2,    46.18,2,     0.22,    43.18,2,     0.15,     0.02,2,     0.01,    3.062,2,    0.018,    0.010,2,    0.007,2,    0.000,2,   -999.0,9,   -999.0,9,-999.0000,-999,9,  -999.00,9,  -999.00,   -999.0,9,   -999.0,   5.9035,  27.1703
  49NZ20090410,   P21,    60,  1,     25, X12025,2,20090427,0057,-16.7470, -92.0005, 4389,    801.1,2,   5.3345,2,   5.33451,2,  34.5033,2,  34.5024,2,    44.72,2,    45.02,2,    56.20,2,     0.24,    43.80,2,     0.16,     0.02,2,     0.01,    3.116,2,    0.018,    0.003,2,    0.000,2,    0.000,2,   -999.0,9,   -999.0,9,-999.0000,-999,9,  -999.00,9,  -999.00,   -999.0,9,   -999.0,   5.2669,  27.2502
  49NZ20090410,   P21,    60,  1,     24, X12024,2,20090427,0057,-16.7470, -92.0005, 4389,    898.9,2,   4.8580,2,   4.85869,2,  34.5102,2,  34.5095,2,    52.38,2,    52.61,2,    64.76,2,     0.26,    43.66,2,     0.16,     0.02,2,     0.01,    3.113,2,    0.018,    0.000,2,    0.000,2,    0.000,2,   -999.0,9,   -999.0,9,-999.0000,-999,9,  -999.00,9,  -999.00,   -999.0,9,   -999.0,   4.7847,  27.3115
  49NZ20090410,   P21,    60,  1,     23, X12028,2,20090427,0057,-16.7470, -92.0005, 4389,   1002.2,2,   4.4312,2,   4.43072,2,  34.5233,2,  34.5225,6,    62.42,2,    62.59,2,    73.29,2,     0.28,    42.96,2,     0.15,     0.02,2,     0.01,    3.075,2,    0.018,    0.000,2,    0.000,2,    0.000,2,   -999.0,9,   -999.0,9,-999.0000,-999,9,  -999.00,9,  -999.00,   -999.0,9,   -999.0,   4.3520,  27.3697
  49NZ20090410,   P21,    60,  1,     22, X12022,2,20090427,0057,-16.7470, -92.0005, 4389,   1200.9,2,   3.7362,2,   3.73588,2,  34.5465,2,  34.5463,2,    80.56,2,    80.36,2,    87.08,2,     0.31,    41.41,2,     0.15,     0.02,2,     0.01,    2.986,2,    0.017,    0.000,2,    0.000,2,    0.000,2,   -999.0,9,   -999.0,9,-999.0000,-999,9,  -999.00,9,  -999.00,   -999.0,9,   -999.0,   3.6459,  27.4614
  49NZ20090410,   P21,    60,  1,     21, X12021,2,20090427,0057,-16.7470, -92.0005, 4389,   1401.3,2,   3.2191,2,   3.21913,2,  34.5754,2,  34.5748,2,    88.06,2,    88.26,2,   100.47,2,     0.34,    40.92,2,     0.15,     0.02,2,     0.01,    2.946,2,    0.017,    0.000,2,    0.000,2,    0.000,2,   -999.0,9,   -999.0,9,-999.0000,-999,9,  -999.00,9,  -999.00,   -999.0,9,   -999.0,   3.1171,  27.5353
  49NZ20090410,   P21,    60,  1,     20, X12020,2,20090427,0057,-16.7470, -92.0005, 4389,   1599.9,2,   2.8152,2,   2.81532,2,  34.5970,2,  34.5969,2,   102.28,2,   102.47,2,   108.14,2,     0.36,    39.66,2,     0.14,     0.02,2,     0.01,    2.852,2,    0.017,    0.000,2,    0.001,2,    0.000,2,   -999.0,9,   -999.0,9,-999.0000,-999,9,  -999.00,9,  -999.00,   -999.0,9,   -999.0,   2.7012,  27.5902
  49NZ20090410,   P21,    60,  1,     19, X12019,2,20090427,0057,-16.7470, -92.0005, 4389,   1801.4,2,   2.4678,2,   2.46829,2,  34.6225,2,  34.6232,2,   110.19,2,   110.28,2,   117.90,2,     0.38,    39.07,2,     0.14,     0.02,2,     0.01,    2.789,2,    0.017,    0.000,2,    0.000,2,    0.000,2,   -999.0,9,   -999.0,9,-999.0000,-999,9,  -999.00,9,  -999.00,   -999.0,9,   -999.0,   2.3413,  27.6415
  49NZ20090410,   P21,    60,  1,     18, X12043,2,20090427,0057,-16.7470, -92.0005, 4389,   2000.3,2,   2.2507,2,   2.25064,2,  34.6378,2,  34.6380,2,   119.82,2,   119.89,2,   121.90,2,     0.39,    38.31,2,     0.14,     0.02,2,     0.01,    2.722,2,    0.017, -999.000,9, -999.000,9, -999.000,9,   -999.0,9,   -999.0,9,-999.0000,-999,9,  -999.00,9,  -999.00,   -999.0,9,   -999.0,   2.1104,  27.6727
  49NZ20090410,   P21,    60,  1,     17, X12042,2,20090427,0057,-16.7470, -92.0005, 4389,   2200.1,2,   2.0601,2,   2.06006,2,  34.6515,2,  34.6512,6,   132.28,2,   132.44,2,   122.70,2,     0.39,    37.26,2,     0.14,     0.02,2,     0.01,    2.637,2,    0.017, -999.000,9, -999.000,9, -999.000,9,   -999.0,9,   -999.0,9,-999.0000,-999,9,  -999.00,9,  -999.00,   -999.0,9,   -999.0,   1.9055,  27.6999
  49NZ20090410,   P21,    60,  1,     16, X12016,2,20090427,0057,-16.7470, -92.0005, 4389,   2398.7,2,   1.9414,2,   1.94128,2,  34.6620,2,  34.6618,2,   137.75,2,   137.98,2,   125.20,2,     0.39,    36.86,2,     0.14,     0.02,2,     0.01,    2.594,2,    0.016,    0.000,2,    0.000,2,    0.000,2,   -999.0,9,   -999.0,9,-999.0000,-999,9,  -999.00,9,  -999.00,   -999.0,9,   -999.0,   1.7713,  27.7187
  49NZ20090410,   P21,    60,  1,     15, X12015,2,20090427,0057,-16.7470, -92.0005, 4389,   2599.1,2,   1.8696,2,   1.86973,2,  34.6692,2,  34.6686,2,   141.68,2,   141.86,2,   126.40,2,     0.40,    36.49,2,     0.13,     0.02,2,     0.01,    2.564,2,    0.016, -999.000,9, -999.000,9, -999.000,9,   -999.0,9,   -999.0,9,-999.0000,-999,9,  -999.00,9,  -999.00,   -999.0,9,   -999.0,   1.6827,  27.7312
  49NZ20090410,   P21,    60,  1,     14, X12050,2,20090427,0057,-16.7470, -92.0005, 4389,   2798.5,2,   1.8216,2,   1.82155,2,  34.6748,2,  34.6745,2,   144.55,2,   144.77,2,   127.77,2,     0.40,    36.28,2,     0.13,     0.02,2,     0.01,    2.550,2,    0.016, -999.000,9, -999.000,9, -999.000,9,   -999.0,9,   -999.0,9,-999.0000,-999,9,  -999.00,9,  -999.00,   -999.0,9,   -999.0,   1.6170,  27.7406
  49NZ20090410,   P21,    60,  1,     13, X12013,7,20090427,0057,-16.7470, -92.0005, 4389,   2999.7,2,   1.7970,2,   1.79685,2,  34.6786,2,  34.6787,2,   144.78,2,   144.98,2,   129.44,2,     0.40,    36.26,2,     0.13,     0.02,2,     0.01,    2.549,2,    0.016,    0.000,2,    0.000,2,    0.000,2,   -999.0,9,   -999.0,9,-999.0000,-999,9,  -999.00,9,  -999.00,   -999.0,9,   -999.0,   1.5737,  27.7469
  49NZ20090410,   P21,    60,  1,     12, X12012,2,20090427,0057,-16.7470, -92.0005, 4389,   3249.4,2,   1.7845,2,   1.78444,2,  34.6819,2,  34.6817,6,   145.70,2,   145.89,2,   130.27,2,     0.41,    36.23,2,     0.13,     0.02,2,     0.01,    2.545,2,    0.016, -999.000,9, -999.000,9, -999.000,9,   -999.0,9,   -999.0,9,-999.0000,-999,9,  -999.00,9,  -999.00,   -999.0,9,   -999.0,   1.5368,  27.7522
  49NZ20090410,   P21,    60,  1,     11, X12041,2,20090427,0057,-16.7470, -92.0005, 4389,   3500.2,2,   1.7757,2,   1.77563,2,  34.6847,2,  34.6844,2,   146.88,2,   147.18,2,   130.00,2,     0.41,    36.11,2,     0.13,     0.02,2,     0.01,    2.538,2,    0.016, -999.000,9, -999.000,9, -999.000,9,   -999.0,9,   -999.0,9,-999.0000,-999,9,  -999.00,9,  -999.00,   -999.0,9,   -999.0,   1.5026,  27.7570
  49NZ20090410,   P21,    60,  1,     10, X12040,2,20090427,0057,-16.7470, -92.0005, 4389,   3750.2,2,   1.7762,2,   1.77611,2,  34.6865,2,  34.6859,2,   148.95,2,   149.42,2,   128.82,2,     0.40,    35.93,2,     0.13,     0.02,2,     0.01,    2.523,2,    0.016,    0.000,2,    0.000,2,    0.000,2,   -999.0,9,   -999.0,9,-999.0000,-999,9,  -999.00,9,  -999.00,   -999.0,9,   -999.0,   1.4767,  27.7603
  49NZ20090410,   P21,    60,  1,      9, X12009,2,20090427,0057,-16.7470, -92.0005, 4389,   3999.4,2,   1.7787,2,   1.77869,2,  34.6884,2,  34.6878,2,   150.74,2,   151.29,2,   127.78,2,     0.40,    35.85,2,     0.13,     0.02,2,     0.01,    2.512,2,    0.016,    0.000,2,    0.001,2,    0.000,2,   -999.0,9,   -999.0,9,-999.0000,-999,9,  -999.00,9,  -999.00,   -999.0,9,   -999.0,   1.4520,  27.7636
  49NZ20090410,   P21,    60,  1,      8, X12008,2,20090427,0057,-16.7470, -92.0005, 4389,   4247.9,2,   1.8028,2,   1.80278,2,  34.6887,2,  34.6883,2,   150.93,2,   151.37,2,   127.69,2,     0.40,    35.75,2,     0.13,     0.02,2,     0.01,    2.513,2,    0.016,    0.000,2,    0.001,2,    0.000,2,   -999.0,9,   -999.0,9,-999.0000,-999,9,  -999.00,9,  -999.00,   -999.0,9,   -999.0,   1.4475,  27.7642
  49NZ20090410,   P21,    60,  1,      7, X12007,9,20090427,0057,-16.7470, -92.0005, 4389,      9.8,2,  23.7627,2,  23.76182,2,  35.8293,2,-999.0000,9,   213.21,2,  -999.00,9,  -999.00,9,  -999.00,  -999.00,9,  -999.00,  -999.00,9,  -999.00, -999.000,9, -999.000, -999.000,9, -999.000,9, -999.000,9,   -999.0,9,   -999.0,9,-999.0000,-999,9,  -999.00,9,  -999.00,   -999.0,9,   -999.0,  23.7606,  24.3403
  49NZ20090410,   P21,    60,  1,      6, X12035,9,20090427,0057,-16.7470, -92.0005, 4389,     50.2,2,  23.6410,2,  23.62984,2,  35.8326,2,-999.0000,9,   212.47,2,  -999.00,9,  -999.00,9,  -999.00,  -999.00,9,  -999.00,  -999.00,9,  -999.00, -999.000,9, -999.000, -999.000,9, -999.000,9, -999.000,9,   -999.0,9,   -999.0,9,-999.0000,-999,9,  -999.00,9,  -999.00,   -999.0,9,   -999.0,  23.6305,  24.3812
  49NZ20090410,   P21,    60,  1,      5, X12038,9,20090427,0057,-16.7470, -92.0005, 4389,     99.7,2,  18.9709,2,  18.97153,2,  35.3637,2,-999.0000,9,   213.14,2,  -999.00,9,  -999.00,9,  -999.00,  -999.00,9,  -999.00,  -999.00,9,  -999.00, -999.000,9, -999.000, -999.000,9, -999.000,9, -999.000,9,   -999.0,9,   -999.0,9,-999.0000,-999,9,  -999.00,9,  -999.00,   -999.0,9,   -999.0,  18.9531,  25.3112
  49NZ20090410,   P21,    60,  1,      4, X12034,9,20090427,0057,-16.7470, -92.0005, 4389,    150.3,2,  17.0584,2,  17.05814,2,  35.0859,2,-999.0000,9,   196.65,2,  -999.00,9,  -999.00,9,  -999.00,  -999.00,9,  -999.00,  -999.00,9,  -999.00, -999.000,9, -999.000, -999.000,9, -999.000,9, -999.000,9,   -999.0,9,   -999.0,9,-999.0000,-999,9,  -999.00,9,  -999.00,   -999.0,9,   -999.0,  17.0335,  25.5722
  49NZ20090410,   P21,    60,  1,      3, X12033,9,20090427,0057,-16.7470, -92.0005, 4389,   2999.7,2,   1.7969,2,   1.79681,2,  34.6786,2,-999.0000,9,   144.78,2,  -999.00,9,  -999.00,9,  -999.00,  -999.00,9,  -999.00,  -999.00,9,  -999.00, -999.000,9, -999.000, -999.000,9, -999.000,9, -999.000,9,   -999.0,9,   -999.0,9,-999.0000,-999,9,  -999.00,9,  -999.00,   -999.0,9,   -999.0,   1.5736,  27.7469
  49NZ20090410,   P21,    60,  1,      2, X12032,2,20090427,0057,-16.7470, -92.0005, 4389,   2001.2,2,   2.2504,2,   2.25042,2,  34.6379,2,  34.6376,2,   119.82,2,   119.85,2,   122.02,2,     0.39,    38.22,2,     0.14,     0.02,2,     0.01,    2.721,2,    0.017, -999.000,9, -999.000,9, -999.000,9,   -999.0,9,   -999.0,9,-999.0000,-999,9,  -999.00,9,  -999.00,   -999.0,9,   -999.0,   2.1100,  27.6728
  49NZ20090410,   P21,    60,  1,      1, X12046,2,20090427,0057,-16.7470, -92.0005, 4389,   4435.5,2,   1.8243,2,   1.82409,2,  34.6885,2,  34.6888,6,   150.99,2,   151.57,2,   127.35,2,     0.40,    35.85,2,     0.13,     0.02,2,     0.01,    2.529,2,    0.021,    0.000,2,    0.000,2,    0.000,2,   -999.0,9,   -999.0,9,-999.0000,-999,9,  -999.00,9,  -999.00,   -999.0,9,   -999.0,   1.4468,  27.7641