BOTTLE,20220818CCHSIOAMB
EXPOCODE,SECT_ID,STNNBR,CASTNO,SAMPNO,BTLNBR,BTLNBR_FLAG_W,DATE,TIME,LATITUDE,LONGITUDE,DEPTH,CTDPRS,CTDPRS_FLAG_W,CTDTMP,CTDTMP_FLAG_W,SBE35,SBE35_FLAG_W,CTDSAL,CTDSAL_FLAG_W,SALNTY,SALNTY_FLAG_W,CTDOXY,CTDOXY_FLAG_W,OXYGEN,OXYGEN_FLAG_W,SILCAT,SILCAT_FLAG_W,SILUNC,NITRAT,NITRAT_FLAG_W,NRAUNC,NITRIT,NITRIT_FLAG_W,NRIUNC,PHSPHT,PHSPHT_FLAG_W,PHPUNC,CFC-11,CFC-11_FLAG_W,CFC-12,CFC-12_FLAG_W,CFC113,CFC113_FLAG_W,TCARBN,TCARBN_FLAG_W,ALKALI,ALKALI_FLAG_W,PH_TOT,PH_TMP,PH_TOT_FLAG_W,DELC13,DELC13_FLAG_W,C13ERR,DELC14,DELC14_FLAG_W,C14ERR,THETA,SIG0
,,,,,,,,,,,METERS,DBAR,,ITS-90,,ITS-90,,PSS-78,,PSS-78,,UMOL/KG,,UMOL/KG,,UMOL/KG,,UMOL/KG,UMOL/KG,,UMOL/KG,UMOL/KG,,UMOL/KG,UMOL/KG,,UMOL/KG,PMOL/KG,,PMOL/KG,,PMOL/KG,,UMOL/KG,,UMOL/KG,,,DEG C,,/MILLE,,/MILLE,/MILLE,,/MILLE,DEG C,KG/M^3
  49NZ20090410,   P21,   139,  1,     36, X12006,2,20090514,0649,-16.7502,-139.3327, 2218,      9.2,2,  27.8002,2,  27.79938,2,  36.3454,2,  36.3457,2,   197.23,2,   197.75,2,     0.77,2,     0.12,     0.08,2,     0.03,     0.01,2,     0.01,    0.237,2,    0.015,    1.464,2,    0.945,2, -999.000,5,   2030.7,2,   2396.4,2,   8.1267,  25,6,  -999.00,9,  -999.00,   -999.0,9,   -999.0,  27.7980,  23.4730
  49NZ20090410,   P21,   139,  1,     35, X12047,2,20090514,0649,-16.7502,-139.3327, 2218,     50.0,2,  27.7497,2,  27.74754,2,  36.3528,2,  36.3587,2,   197.55,2,   199.31,2,     0.72,2,     0.12,     0.08,2,     0.03,     0.01,2,     0.01,    0.229,2,    0.015,    1.481,2,    0.956,2, -999.000,5,   2032.3,6,   2395.4,2,   8.1230,  25,2,  -999.00,9,  -999.00,   -999.0,9,   -999.0,  27.7380,  23.4982
  49NZ20090410,   P21,   139,  1,     34, X12004,2,20090514,0649,-16.7502,-139.3327, 2218,     99.9,2,  24.9070,2,  24.85296,2,  36.3673,2,  36.3681,2,   201.85,2,   203.43,2,     0.54,2,     0.12,     0.08,2,     0.03,     0.03,2,     0.01,    0.214,2,    0.016,    1.712,6,    1.088,6, -999.000,5,   2056.4,2,   2392.8,6,   8.0810,  25,2,  -999.00,9,  -999.00,   -999.0,9,   -999.0,  24.8853,  24.4101
  49NZ20090410,   P21,   139,  1,     33, X12003,2,20090514,0649,-16.7502,-139.3327, 2218,    149.0,2,  23.4234,2,  23.40873,2,  36.2033,2,  36.1905,2,   189.58,2,   189.79,2,     0.54,2,     0.12,     0.58,2,     0.03,     0.63,2,     0.00,    0.297,2,    0.014,    1.838,2,    1.153,2, -999.000,5,   2068.8,2,   2380.1,2,   8.0409,  25,6,  -999.00,9,  -999.00,   -999.0,9,   -999.0,  23.3924,  24.7322
  49NZ20090410,   P21,   139,  1,     32, X12002,2,20090514,0649,-16.7502,-139.3327, 2218,    199.0,2,  21.2252,2,  21.23186,2,  35.8911,2,  35.8920,2,   184.89,2,   185.22,2,     0.57,2,     0.12,     2.36,2,     0.04,     0.03,2,     0.01,    0.377,2,    0.014,    2.042,2,    1.239,2,    0.122,2,   2082.3,2,   2359.8,2,   7.9966,  25,2,  -999.00,9,  -999.00,   -999.0,9,   -999.0,  21.1866,  25.1213
  49NZ20090410,   P21,   139,  1,     31, X12001,2,20090514,0649,-16.7502,-139.3327, 2218,    249.0,2,  19.1902,2,  19.18729,2,  35.5640,2,  35.5751,6,   183.65,2,   184.43,2,     0.72,2,     0.12,     3.58,2,     0.04,     0.02,2,     0.01,    0.455,2,    0.013,    2.247,2,    1.334,2,    0.043,2,   2086.0,2,   2338.9,2,   7.9584,  25,2,  -999.00,9,  -999.00,   -999.0,9,   -999.0,  19.1453,  25.4151
  49NZ20090410,   P21,   139,  1,     30, X12030,2,20090514,0649,-16.7502,-139.3327, 2218,    331.4,2,  14.2349,2,  14.23676,2,  34.9111,2,  34.9142,2,   175.96,2,   176.54,2,     3.05,2,     0.13,    10.19,2,     0.06,     0.01,2,     0.01,    0.915,2,    0.013,    2.473,2,    1.344,2,    0.032,2,   2112.4,2,   2299.5,2,   7.8414,  25,2,  -999.00,9,  -999.00,   -999.0,9,   -999.0,  14.1863,  26.0791
  49NZ20090410,   P21,   139,  1,     29, X12044,2,20090514,0649,-16.7502,-139.3327, 2218,    431.2,2,   9.4816,2,   9.47892,2,  34.5019,2,  34.5057,2,   155.76,2,   156.25,2,     9.71,2,     0.14,    22.16,2,     0.09,     0.01,2,     0.01,    1.714,2,    0.014,    1.836,2,    0.938,2,    0.026,2,   2165.9,2,   2282.4,2,   7.6761,  25,2,  -999.00,9,  -999.00,   -999.0,9,   -999.0,   9.4329,  26.6579
  49NZ20090410,   P21,   139,  1,     28, X12048,2,20090514,0649,-16.7502,-139.3327, 2218,    531.3,2,   6.8705,2,   6.87051,2,  34.3970,2,  34.3971,6,   152.08,2,   152.37,2,    18.24,2,     0.16,    30.00,2,     0.12,     0.01,2,     0.01,    2.150,2,    0.015,    0.852,2,    0.437,2,    0.000,2,   2197.3,2,   2284.2,2,   7.6009,  25,2,  -999.00,9,  -999.00,   -999.0,9,   -999.0,   6.8205,  26.9684
  49NZ20090410,   P21,   139,  1,     27, X12027,2,20090514,0649,-16.7502,-139.3327, 2218,    631.1,2,   5.8740,2,   5.87345,2,  34.4242,2,  34.4234,2,   134.90,2,   135.24,2,    31.17,2,     0.19,    33.91,2,     0.13,     0.01,2,     0.01,    2.383,2,    0.016,    0.235,6,    0.127,6,    0.000,6,   2221.1,2,   2298.2,2,   7.5664,  25,2,  -999.00,9,  -999.00,   -999.0,9,   -999.0,   5.8190,  27.1204
  49NZ20090410,   P21,   139,  1,     26, X12026,2,20090514,0649,-16.7502,-139.3327, 2218,    730.7,2,   5.4229,2,   5.42295,2,  34.4713,2,  34.4711,2,   120.85,2,   120.99,2,    44.61,2,     0.22,    35.84,2,     0.13,     0.01,2,     0.01,    2.510,2,    0.016,    0.056,2,    0.037,2,    0.000,2,   2243.9,6,   2313.7,2,   7.5473,  25,2,  -999.00,9,  -999.00,   -999.0,9,   -999.0,   5.3611,  27.2137
  49NZ20090410,   P21,   139,  1,     25, X12025,2,20090514,0649,-16.7502,-139.3327, 2218,    829.5,2,   5.0536,2,   5.05352,2,  34.4875,2,  34.4875,2,   116.00,2,   116.06,2,    52.56,2,     0.23,    36.77,2,     0.14,     0.01,2,     0.01,    2.598,2,    0.016,    0.031,2,    0.016,2,    0.000,2,   2255.7,2,   2322.0,6,   7.5361,  25,2,  -999.00,9,  -999.00,   -999.0,9,   -999.0,   4.9852,  27.2707
  49NZ20090410,   P21,   139,  1,     24, X12024,2,20090514,0649,-16.7502,-139.3327, 2218,    929.5,2,   4.5550,2,   4.55510,2,  34.4865,2,  34.4870,2,   126.79,2,   126.49,2,    58.52,2,     0.25,    36.43,2,     0.13,     0.01,2,     0.01,    2.572,2,    0.016,    0.037,2,    0.020,2,    0.000,2,   2257.5,2,   2328.0,2,   7.5482,  25,2,  -999.00,9,  -999.00,   -999.0,9,   -999.0,   4.4812,  27.3265
  49NZ20090410,   P21,   139,  1,     23, X12028,2,20090514,0649,-16.7502,-139.3327, 2218,   1070.5,2,   3.9557,2,   3.95280,2,  34.5254,2,  34.5262,6,   118.05,2,   118.22,2,    74.50,2,     0.28,    37.69,2,     0.14,     0.01,2,     0.01,    2.676,2,    0.017,    0.007,2,    0.005,2,    0.000,2,   2279.8,2,   2345.9,2,   7.5316,  25,2,  -999.00,9,  -999.00,   -999.0,9,   -999.0,   3.8745,  27.4215
  49NZ20090410,   P21,   139,  1,     22, X12022,2,20090514,0649,-16.7502,-139.3327, 2218,   1269.8,2,   3.1672,2,   3.16691,2,  34.5550,2,  34.5530,4,   137.53,2,   139.44,2,    85.98,2,     0.31,    36.35,2,     0.13,     0.01,2,     0.01,    2.570,2,    0.016,    0.004,2,    0.002,2,    0.000,2,   2281.3,2,   2359.8,2,   7.5628,  25,2,  -999.00,9,  -999.00,   -999.0,9,   -999.0,   3.0766,  27.5228
  49NZ20090410,   P21,   139,  1,     21, X12021,2,20090514,0649,-16.7502,-139.3327, 2218,   1472.5,2,   2.8295,2,   2.82944,2,  34.5738,2,  34.5740,2,   144.14,2,   144.45,2,    93.29,2,     0.32,    36.10,2,     0.13,     0.01,2,     0.01,    2.544,2,    0.016,    0.001,2,    0.001,2,    0.000,2,   2287.5,2,   2367.0,2,   7.5702,  25,2,  -999.00,9,  -999.00,   -999.0,9,   -999.0,   2.7259,  27.5695
  49NZ20090410,   P21,   139,  1,     20, X12020,2,20090514,0649,-16.7502,-139.3327, 2218,   1670.2,2,   2.4872,2,   2.48720,2,  34.5992,2,  34.5996,6,   147.98,2,   148.43,2,   101.37,2,     0.34,    35.89,2,     0.13,     0.01,2,     0.01,    2.533,2,    0.016,    0.000,2,    0.000,2,    0.000,2,   2294.6,2,   2376.8,2,   7.5758,  25,6,  -999.00,9,  -999.00,   -999.0,9,   -999.0,   2.3714,  27.6203
  49NZ20090410,   P21,   139,  1,     19, X12019,2,20090514,0649,-16.7502,-139.3327, 2218,   1871.3,2,   2.2412,2,   2.24113,2,  34.6200,2,  34.6204,2,   151.03,2,   151.44,2,   107.27,2,     0.35,    35.78,2,     0.13,     0.01,2,     0.01,    2.516,2,    0.016,    0.000,2,    0.000,2,    0.000,2,   2297.0,2,   2382.2,2,   7.5805,  25,2,  -999.00,9,  -999.00,   -999.0,9,   -999.0,   2.1120,  27.6583
  49NZ20090410,   P21,   139,  1,     18, X12043,2,20090514,0649,-16.7502,-139.3327, 2218,   2070.7,2,   2.0167,2,   2.01668,2,  34.6433,2,  34.6433,2,   152.10,2,   152.36,2,   114.62,2,     0.37,    35.68,2,     0.13,     0.01,2,     0.01,    2.511,2,    0.016,    0.000,2,    0.000,2,    0.000,2,   2304.9,2,   2390.6,2,   7.5853,  25,2,  -999.00,9,  -999.00,   -999.0,9,   -999.0,   1.8740,  27.6958
  49NZ20090410,   P21,   139,  1,     17, X12042,9,20090514,0649,-16.7502,-139.3327, 2218,      9.4,2,  27.8005,2,  27.80026,2,  36.3455,2,-999.0000,9,   197.17,2,  -999.00,9,  -999.00,9,  -999.00,  -999.00,9,  -999.00,  -999.00,9,  -999.00, -999.000,9, -999.000, -999.000,9, -999.000,9, -999.000,9,   -999.0,9,   -999.0,9,-999.0000,-999,9,  -999.00,9,  -999.00,   -999.0,9,   -999.0,  27.7983,  23.4730
  49NZ20090410,   P21,   139,  1,     16, X12016,9,20090514,0649,-16.7502,-139.3327, 2218,    199.2,2,  21.2494,2,  21.24520,2,  35.8939,2,-999.0000,9,   184.94,2,  -999.00,9,  -999.00,9,  -999.00,  -999.00,9,  -999.00,  -999.00,9,  -999.00, -999.000,9, -999.000, -999.000,9, -999.000,9, -999.000,9,   -999.0,9,   -999.0,9,-999.0000,-999,9,  -999.00,9,  -999.00,   -999.0,9,   -999.0,  21.2108,  25.1169
  49NZ20090410,   P21,   139,  1,     15, X12015,9,20090514,0649,-16.7502,-139.3327, 2218,    249.2,2,  19.2715,2,  19.27982,2,  35.5747,2,-999.0000,9,   183.45,2,  -999.00,9,  -999.00,9,  -999.00,  -999.00,9,  -999.00,  -999.00,9,  -999.00, -999.000,9, -999.000, -999.000,9, -999.000,9, -999.000,9,   -999.0,9,   -999.0,9,-999.0000,-999,9,  -999.00,9,  -999.00,   -999.0,9,   -999.0,  19.2264,  25.4024
  49NZ20090410,   P21,   139,  1,     14, X12050,9,20090514,0649,-16.7502,-139.3327, 2218,    330.6,2,  14.2647,2,  14.26151,2,  34.9152,2,-999.0000,9,   176.02,2,  -999.00,9,  -999.00,9,  -999.00,  -999.00,9,  -999.00,  -999.00,9,  -999.00, -999.000,9, -999.000, -999.000,9, -999.000,9, -999.000,9,   -999.0,9,   -999.0,9,-999.0000,-999,9,  -999.00,9,  -999.00,   -999.0,9,   -999.0,  14.2161,  26.0759
  49NZ20090410,   P21,   139,  1,     13, X12013,9,20090514,0649,-16.7502,-139.3327, 2218,    431.0,2,   9.4765,2,   9.47364,2,  34.5018,2,-999.0000,9,   155.75,2,  -999.00,9,  -999.00,9,  -999.00,  -999.00,9,  -999.00,  -999.00,9,  -999.00, -999.000,9, -999.000, -999.000,9, -999.000,9, -999.000,9,   -999.0,9,   -999.0,9,-999.0000,-999,9,  -999.00,9,  -999.00,   -999.0,9,   -999.0,   9.4278,  26.6586
  49NZ20090410,   P21,   139,  1,     12, X12012,9,20090514,0649,-16.7502,-139.3327, 2218,    530.8,2,   6.8694,2,   6.86959,2,  34.3973,2,-999.0000,9,   152.26,2,  -999.00,9,  -999.00,9,  -999.00,  -999.00,9,  -999.00,  -999.00,9,  -999.00, -999.000,9, -999.000, -999.000,9, -999.000,9, -999.000,9,   -999.0,9,   -999.0,9,-999.0000,-999,9,  -999.00,9,  -999.00,   -999.0,9,   -999.0,   6.8195,  26.9687
  49NZ20090410,   P21,   139,  1,     11, X12041,9,20090514,0649,-16.7502,-139.3327, 2218,    631.2,2,   5.8751,2,   5.87519,2,  34.4242,2,-999.0000,9,   134.90,2,  -999.00,9,  -999.00,9,  -999.00,  -999.00,9,  -999.00,  -999.00,9,  -999.00, -999.000,9, -999.000, -999.000,9, -999.000,9, -999.000,9,   -999.0,9,   -999.0,9,-999.0000,-999,9,  -999.00,9,  -999.00,   -999.0,9,   -999.0,   5.8201,  27.1203
  49NZ20090410,   P21,   139,  1,     10, X12040,9,20090514,0649,-16.7502,-139.3327, 2218,    730.9,2,   5.4228,2,   5.42284,2,  34.4714,2,-999.0000,9,   120.83,2,  -999.00,9,  -999.00,9,  -999.00,  -999.00,9,  -999.00,  -999.00,9,  -999.00, -999.000,9, -999.000, -999.000,9, -999.000,9, -999.000,9,   -999.0,9,   -999.0,9,-999.0000,-999,9,  -999.00,9,  -999.00,   -999.0,9,   -999.0,   5.3610,  27.2137
  49NZ20090410,   P21,   139,  1,      9, X12009,9,20090514,0649,-16.7502,-139.3327, 2218,    829.6,2,   5.0545,2,   5.05441,2,  34.4875,2,-999.0000,9,   115.67,2,  -999.00,9,  -999.00,9,  -999.00,  -999.00,9,  -999.00,  -999.00,9,  -999.00, -999.000,9, -999.000, -999.000,9, -999.000,9, -999.000,9,   -999.0,9,   -999.0,9,-999.0000,-999,9,  -999.00,9,  -999.00,   -999.0,9,   -999.0,   4.9861,  27.2706
  49NZ20090410,   P21,   139,  1,      8, X12008,9,20090514,0649,-16.7502,-139.3327, 2218,   1069.6,2,   3.9447,2,   3.94255,2,  34.5266,2,-999.0000,9,   118.05,2,  -999.00,9,  -999.00,9,  -999.00,  -999.00,9,  -999.00,  -999.00,9,  -999.00, -999.000,9, -999.000, -999.000,9, -999.000,9, -999.000,9,   -999.0,9,   -999.0,9,-999.0000,-999,9,  -999.00,9,  -999.00,   -999.0,9,   -999.0,   3.8636,  27.4236
  49NZ20090410,   P21,   139,  1,      7, X12007,9,20090514,0649,-16.7502,-139.3327, 2218,   1270.4,2,   3.1704,2,   3.17033,2,  34.5522,2,-999.0000,9,   138.61,2,  -999.00,9,  -999.00,9,  -999.00,  -999.00,9,  -999.00,  -999.00,9,  -999.00, -999.000,9, -999.000, -999.000,9, -999.000,9, -999.000,9,   -999.0,9,   -999.0,9,-999.0000,-999,9,  -999.00,9,  -999.00,   -999.0,9,   -999.0,   3.0797,  27.5203
  49NZ20090410,   P21,   139,  1,      6, X12035,9,20090514,0649,-16.7502,-139.3327, 2218,   1471.7,2,   2.8291,2,   2.82892,2,  34.5738,2,-999.0000,9,   144.14,2,  -999.00,9,  -999.00,9,  -999.00,  -999.00,9,  -999.00,  -999.00,9,  -999.00, -999.000,9, -999.000, -999.000,9, -999.000,9, -999.000,9,   -999.0,9,   -999.0,9,-999.0000,-999,9,  -999.00,9,  -999.00,   -999.0,9,   -999.0,   2.7256,  27.5696
  49NZ20090410,   P21,   139,  1,      5, X12038,9,20090514,0649,-16.7502,-139.3327, 2218,   1670.5,2,   2.4865,2,   2.48663,2,  34.5994,2,-999.0000,9,   147.97,2,  -999.00,9,  -999.00,9,  -999.00,  -999.00,9,  -999.00,  -999.00,9,  -999.00, -999.000,9, -999.000, -999.000,9, -999.000,9, -999.000,9,   -999.0,9,   -999.0,9,-999.0000,-999,9,  -999.00,9,  -999.00,   -999.0,9,   -999.0,   2.3707,  27.6205
  49NZ20090410,   P21,   139,  1,      4, X12034,9,20090514,0649,-16.7502,-139.3327, 2218,   1871.1,2,   2.2409,2,   2.24084,2,  34.6200,2,-999.0000,9,   151.07,2,  -999.00,9,  -999.00,9,  -999.00,  -999.00,9,  -999.00,  -999.00,9,  -999.00, -999.000,9, -999.000, -999.000,9, -999.000,9, -999.000,9,   -999.0,9,   -999.0,9,-999.0000,-999,9,  -999.00,9,  -999.00,   -999.0,9,   -999.0,   2.1117,  27.6583
  49NZ20090410,   P21,   139,  1,      3, X12033,9,20090514,0649,-16.7502,-139.3327, 2218,   2071.5,2,   2.0169,2,   2.01687,2,  34.6433,2,-999.0000,9,   152.08,2,  -999.00,9,  -999.00,9,  -999.00,  -999.00,9,  -999.00,  -999.00,9,  -999.00, -999.000,9, -999.000, -999.000,9, -999.000,9, -999.000,9,   -999.0,9,   -999.0,9,-999.0000,-999,9,  -999.00,9,  -999.00,   -999.0,9,   -999.0,   1.8741,  27.6958
  49NZ20090410,   P21,   139,  1,      2, X12032,9,20090514,0649,-16.7502,-139.3327, 2218,    928.7,2,   4.5579,2,   4.55865,2,  34.4870,2,-999.0000,9,   126.46,2,  -999.00,9,  -999.00,9,  -999.00,  -999.00,9,  -999.00,  -999.00,9,  -999.00, -999.000,9, -999.000, -999.000,9, -999.000,9, -999.000,9,   -999.0,9,   -999.0,9,-999.0000,-999,9,  -999.00,9,  -999.00,   -999.0,9,   -999.0,   4.4842,  27.3265
  49NZ20090410,   P21,   139,  1,      1, X12046,2,20090514,0649,-16.7502,-139.3327, 2218,   2229.6,2,   1.9173,2,   1.91723,2,  34.6528,2,  34.6529,6,   154.87,2,   155.02,2,   116.84,2,     0.38,    35.59,2,     0.13,     0.01,2,     0.01,    2.498,2,    0.016,    0.000,2,    0.000,2,    0.000,2,   2304.8,2,   2394.4,2,   7.5895,  25,2,  -999.00,9,  -999.00,   -999.0,9,   -999.0,   1.7625,  27.7120