BOTTLE,20220818CCHSIOAMB
EXPOCODE,SECT_ID,STNNBR,CASTNO,SAMPNO,BTLNBR,BTLNBR_FLAG_W,DATE,TIME,LATITUDE,LONGITUDE,DEPTH,CTDPRS,CTDPRS_FLAG_W,CTDTMP,CTDTMP_FLAG_W,SBE35,SBE35_FLAG_W,CTDSAL,CTDSAL_FLAG_W,SALNTY,SALNTY_FLAG_W,CTDOXY,CTDOXY_FLAG_W,OXYGEN,OXYGEN_FLAG_W,SILCAT,SILCAT_FLAG_W,SILUNC,NITRAT,NITRAT_FLAG_W,NRAUNC,NITRIT,NITRIT_FLAG_W,NRIUNC,PHSPHT,PHSPHT_FLAG_W,PHPUNC,CFC-11,CFC-11_FLAG_W,CFC-12,CFC-12_FLAG_W,CFC113,CFC113_FLAG_W,TCARBN,TCARBN_FLAG_W,ALKALI,ALKALI_FLAG_W,PH_TOT,PH_TMP,PH_TOT_FLAG_W,DELC13,DELC13_FLAG_W,C13ERR,DELC14,DELC14_FLAG_W,C14ERR,THETA,SIG0
,,,,,,,,,,,METERS,DBAR,,ITS-90,,ITS-90,,PSS-78,,PSS-78,,UMOL/KG,,UMOL/KG,,UMOL/KG,,UMOL/KG,UMOL/KG,,UMOL/KG,UMOL/KG,,UMOL/KG,UMOL/KG,,UMOL/KG,PMOL/KG,,PMOL/KG,,PMOL/KG,,UMOL/KG,,UMOL/KG,,,DEG C,,/MILLE,,/MILLE,/MILLE,,/MILLE,DEG C,KG/M^3
  49NZ20090410,   P21,   113,  1,     36, X12006,2,20090508,0320,-16.7513,-122.0028, 3257,      9.9,2,  26.4646,2,  26.46203,2,  36.4271,2,  36.4309,2,   202.51,2,   202.52,2,     0.75,2,     0.12,     0.36,2,     0.03,     0.02,2,     0.01,    0.304,2,    0.014,    1.550,2,    1.016,2, -999.000,5,   -999.0,9,   -999.0,9,-999.0000,-999,9,  -999.00,9,  -999.00,   -999.0,9,   -999.0,  26.4624,  23.9647
  49NZ20090410,   P21,   113,  1,     35, X12047,2,20090508,0320,-16.7513,-122.0028, 3257,     49.0,2,  26.3269,2,  26.32745,2,  36.6148,2,  36.6157,2,   203.34,2,   203.60,2,     0.63,2,     0.12,     0.06,2,     0.03,     0.01,2,     0.01,    0.284,2,    0.014,    1.566,2,    1.017,2, -999.000,5,   -999.0,9,   -999.0,9,-999.0000,-999,9,  -999.00,9,  -999.00,   -999.0,9,   -999.0,  26.3158,  24.1528
  49NZ20090410,   P21,   113,  1,     34, X12004,2,20090508,0320,-16.7513,-122.0028, 3257,     97.6,2,  23.4228,2,  23.42229,2,  36.3551,2,  36.3566,2,   214.73,2,   217.36,2,     0.54,2,     0.12,     0.05,2,     0.03,     0.01,2,     0.01,    0.211,2,    0.016,    1.833,6,    1.176,6, -999.000,5,   -999.0,9,   -999.0,9,-999.0000,-999,9,  -999.00,9,  -999.00,   -999.0,9,   -999.0,  23.4025,  24.8444
  49NZ20090410,   P21,   113,  1,     33, X12003,2,20090508,0320,-16.7513,-122.0028, 3257,    150.5,2,  22.1460,2,  22.14415,2,  36.2256,2,  36.2178,2,   201.13,2,   200.94,2,     0.56,2,     0.12,     0.34,2,     0.03,     0.64,2,     0.00,    0.305,2,    0.014,    1.922,2,    1.217,2, -999.000,5,   -999.0,9,   -999.0,9,-999.0000,-999,9,  -999.00,9,  -999.00,   -999.0,9,   -999.0,  22.1159,  25.1167
  49NZ20090410,   P21,   113,  1,     32, X12002,2,20090508,0320,-16.7513,-122.0028, 3257,    199.7,2,  20.3036,2,  20.31355,2,  35.8339,2,  35.8457,2,   194.05,2,   195.08,2,     0.57,2,     0.12,     2.35,2,     0.04,     0.03,2,     0.01,    0.427,2,    0.013,    2.112,2,    1.314,2,    0.128,2,   -999.0,9,   -999.0,9,-999.0000,-999,9,  -999.00,9,  -999.00,   -999.0,9,   -999.0,  20.2661,  25.3272
  49NZ20090410,   P21,   113,  1,     31, X12001,2,20090508,0320,-16.7513,-122.0028, 3257,    252.1,2,  17.9183,2,  17.91794,2,  35.3708,2,  35.3745,6,   185.88,2,   186.07,2,     0.91,2,     0.12,     4.90,2,     0.05,     0.02,2,     0.01,    0.576,2,    0.013,    2.352,2,    1.415,2,    0.064,2,   -999.0,9,   -999.0,9,-999.0000,-999,9,  -999.00,9,  -999.00,   -999.0,9,   -999.0,  17.8750,  25.5869
  49NZ20090410,   P21,   113,  1,     30, X12030,2,20090508,0320,-16.7513,-122.0028, 3257,    329.5,2,  11.9284,2,  11.94478,2,  34.5766,2,  34.5929,2,   166.32,2,   167.67,2,     4.54,2,     0.13,    14.32,2,     0.07,     0.01,2,     0.01,    1.228,2,    0.013,    2.606,2,    1.420,2,    0.040,2,   -999.0,9,   -999.0,9,-999.0000,-999,9,  -999.00,9,  -999.00,   -999.0,9,   -999.0,  11.8855,  26.2819
  49NZ20090410,   P21,   113,  1,     29, X12044,2,20090508,0320,-16.7513,-122.0028, 3257,    429.6,2,   8.0177,2,   8.01789,2,  34.4319,2,  34.4338,2,   107.57,2,   107.42,2,    16.99,2,     0.16,    30.87,2,     0.12,     0.01,2,     0.01,    2.312,2,    0.016,    1.014,2,    0.521,2,    0.010,2,   -999.0,9,   -999.0,9,-999.0000,-999,9,  -999.00,9,  -999.00,   -999.0,9,   -999.0,   7.9739,  26.8315
  49NZ20090410,   P21,   113,  1,     28, X12048,2,20090508,0320,-16.7513,-122.0028, 3257,    531.2,2,   6.4085,2,   6.40758,2,  34.3690,2,  34.3685,6,   154.50,2,   154.56,2,    18.08,2,     0.16,    31.36,2,     0.12,     0.01,2,     0.01,    2.208,2,    0.016,    0.788,2,    0.410,2,    0.005,2,   -999.0,9,   -999.0,9,-999.0000,-999,9,  -999.00,9,  -999.00,   -999.0,9,   -999.0,   6.3604,  27.0076
  49NZ20090410,   P21,   113,  1,     27, X12027,2,20090508,0320,-16.7513,-122.0028, 3257,    632.2,2,   5.5729,2,   5.57268,2,  34.3940,2,  34.3921,2,   138.37,2,   138.86,2,    30.07,2,     0.19,    34.59,2,     0.13,     0.01,2,     0.01,    2.411,2,    0.016,    0.209,6,    0.117,6,    0.000,6,   -999.0,9,   -999.0,9,-999.0000,-999,9,  -999.00,9,  -999.00,   -999.0,9,   -999.0,   5.5192,  27.1334
  49NZ20090410,   P21,   113,  1,     26, X12026,2,20090508,0320,-16.7513,-122.0028, 3257,    728.8,2,   5.2788,2,   5.27932,2,  34.4706,2,  34.4705,2,   101.33,2,   100.98,2,    47.30,2,     0.22,    38.07,2,     0.14,     0.01,2,     0.01,    2.681,2,    0.017,    0.018,2,    0.013,2,    0.000,2,   -999.0,9,   -999.0,9,-999.0000,-999,9,  -999.00,9,  -999.00,   -999.0,9,   -999.0,   5.2180,  27.2301
  49NZ20090410,   P21,   113,  1,     25, X12025,2,20090508,0320,-16.7513,-122.0028, 3257,    829.6,2,   4.9151,2,   4.91530,2,  34.4916,2,  34.4912,2,    99.34,2,    99.36,2,    56.28,2,     0.24,    38.80,2,     0.14,     0.01,2,     0.01,    2.735,2,    0.017,    0.010,2,    0.006,2,    0.000,2,   -999.0,9,   -999.0,9,-999.0000,-999,9,  -999.00,9,  -999.00,   -999.0,9,   -999.0,   4.8476,  27.2897
  49NZ20090410,   P21,   113,  1,     24, X12024,2,20090508,0320,-16.7513,-122.0028, 3257,    930.1,2,   4.5395,2,   4.53930,2,  34.5100,2,  34.5097,2,    91.17,2,    90.90,2,    65.77,2,     0.26,    39.99,2,     0.14,     0.01,2,     0.01,    2.833,2,    0.017,    0.003,2,    0.000,2,    0.000,2,   -999.0,9,   -999.0,9,-999.0000,-999,9,  -999.00,9,  -999.00,   -999.0,9,   -999.0,   4.4657,  27.3468
  49NZ20090410,   P21,   113,  1,     23, X12028,2,20090508,0320,-16.7513,-122.0028, 3257,   1070.2,2,   4.0430,2,   4.04345,2,  34.5307,2,  34.5303,6,    92.69,2,    92.54,2,    77.34,2,     0.29,    40.21,2,     0.15,     0.01,2,     0.01,    2.859,2,    0.017,    0.001,2,    0.001,2,    0.000,2,   -999.0,9,   -999.0,9,-999.0000,-999,9,  -999.00,9,  -999.00,   -999.0,9,   -999.0,   3.9611,  27.4169
  49NZ20090410,   P21,   113,  1,     22, X12022,2,20090508,0320,-16.7513,-122.0028, 3257,   1269.2,2,   3.4340,2,   3.43457,2,  34.5602,2,  34.5606,2,   100.53,2,   100.22,2,    91.16,2,     0.32,    39.83,2,     0.14,     0.02,2,     0.01,    2.830,2,    0.017,    0.002,2,    0.000,2,    0.000,2,   -999.0,9,   -999.0,9,-999.0000,-999,9,  -999.00,9,  -999.00,   -999.0,9,   -999.0,   3.3408,  27.5021
  49NZ20090410,   P21,   113,  1,     21, X12021,2,20090508,0320,-16.7513,-122.0028, 3257,   1471.3,2,   2.9002,2,   2.89858,2,  34.5880,2,  34.5874,2,   114.79,2,   114.48,2,   101.84,2,     0.34,    38.68,2,     0.14,     0.01,2,     0.01,    2.753,2,    0.017,    0.001,2,    0.000,2,    0.000,2,   -999.0,9,   -999.0,9,-999.0000,-999,9,  -999.00,9,  -999.00,   -999.0,9,   -999.0,   2.7958,  27.5746
  49NZ20090410,   P21,   113,  1,     20, X12020,2,20090508,0320,-16.7513,-122.0028, 3257,   1669.0,2,   2.5315,2,   2.53213,2,  34.6102,2,  34.6112,2,   125.78,2,   126.09,2,   108.87,2,     0.36,    37.76,2,     0.14,     0.01,2,     0.01,    2.671,2,    0.017,    0.000,2,    0.001,2,    0.000,2,   -999.0,9,   -999.0,9,-999.0000,-999,9,  -999.00,9,  -999.00,   -999.0,9,   -999.0,   2.4152,  27.6254
  49NZ20090410,   P21,   113,  1,     19, X12019,2,20090508,0320,-16.7513,-122.0028, 3257,   1870.0,2,   2.2672,2,   2.26717,2,  34.6297,2,  34.6298,6,   134.67,2,   134.75,2,   113.27,2,     0.37,    36.98,2,     0.14,     0.01,2,     0.01,    2.613,2,    0.017,    0.000,2,    0.001,2,    0.000,2,   -999.0,9,   -999.0,9,-999.0000,-999,9,  -999.00,9,  -999.00,   -999.0,9,   -999.0,   2.1377,  27.6640
  49NZ20090410,   P21,   113,  1,     18, X12043,2,20090508,0320,-16.7513,-122.0028, 3257,   2070.1,2,   2.0106,2,   2.01048,2,  34.6496,2,  34.6498,2,   147.64,2,   147.78,2,   116.01,2,     0.37,    36.07,2,     0.13,     0.01,2,     0.01,    2.524,2,    0.016,    0.000,2,    0.000,2,    0.000,2,   -999.0,9,   -999.0,9,-999.0000,-999,9,  -999.00,9,  -999.00,   -999.0,9,   -999.0,   1.8680,  27.7013
  49NZ20090410,   P21,   113,  1,     17, X12042,2,20090508,0320,-16.7513,-122.0028, 3257,   2271.2,2,   1.9118,2,   1.91185,2,  34.6599,2,  34.6598,2,   151.89,2,   151.87,2,   118.77,2,     0.38,    35.65,2,     0.13,     0.01,2,     0.01,    2.496,2,    0.016,    0.000,2,    0.000,2,    0.000,2,   -999.0,9,   -999.0,9,-999.0000,-999,9,  -999.00,9,  -999.00,   -999.0,9,   -999.0,   1.7535,  27.7183
  49NZ20090410,   P21,   113,  1,     16, X12016,2,20090508,0320,-16.7513,-122.0028, 3257,   2469.4,2,   1.8500,2,   1.85018,2,  34.6664,2,  34.6659,6,   153.77,2,   153.76,2,   120.81,2,     0.38,    35.46,2,     0.13,     0.01,2,     0.01,    2.480,2,    0.016,    0.001,2,    0.001,2,    0.000,2,   -999.0,9,   -999.0,9,-999.0000,-999,9,  -999.00,9,  -999.00,   -999.0,9,   -999.0,   1.6752,  27.7295
  49NZ20090410,   P21,   113,  1,     15, X12015,2,20090508,0320,-16.7513,-122.0028, 3257,   2671.1,2,   1.7968,2,   1.79681,2,  34.6710,2,  34.6705,2,   155.80,2,   155.72,2,   122.66,2,     0.39,    35.42,2,     0.13,     0.01,2,     0.01,    2.473,2,    0.016,    0.000,2,    0.000,2,    0.000,2,   -999.0,9,   -999.0,9,-999.0000,-999,9,  -999.00,9,  -999.00,   -999.0,9,   -999.0,   1.6046,  27.7385
  49NZ20090410,   P21,   113,  1,     14, X12050,2,20090508,0320,-16.7513,-122.0028, 3257,   2870.0,2,   1.7532,2,   1.75345,2,  34.6748,2,  34.6742,2,   157.39,2,   157.33,2,   124.40,2,     0.39,    35.45,2,     0.13,     0.01,2,     0.01,    2.473,2,    0.016,    0.000,2,    0.000,2,    0.000,2,   -999.0,9,   -999.0,9,-999.0000,-999,9,  -999.00,9,  -999.00,   -999.0,9,   -999.0,   1.5433,  27.7460
  49NZ20090410,   P21,   113,  1,     13, X12013,7,20090508,0320,-16.7513,-122.0028, 3257,   3081.9,2,   1.7079,2,   1.70788,2,  34.6779,2,  34.6779,2,   159.67,2,   159.56,2,   125.25,2,     0.39,    35.31,2,     0.13,     0.01,2,     0.01,    2.463,2,    0.016,    0.003,2,    0.000,2,    0.000,2,   -999.0,9,   -999.0,9,-999.0000,-999,9,  -999.00,9,  -999.00,   -999.0,9,   -999.0,   1.4786,  27.7533
  49NZ20090410,   P21,   113,  1,     12, X12012,9,20090508,0320,-16.7513,-122.0028, 3257,    199.9,2,  20.3580,2,  20.35374,2,  35.8450,2,-999.0000,9,   194.72,2,  -999.00,9,  -999.00,9,  -999.00,  -999.00,9,  -999.00,  -999.00,9,  -999.00, -999.000,9, -999.000, -999.000,9, -999.000,9, -999.000,9,   -999.0,9,   -999.0,9,-999.0000,-999,9,  -999.00,9,  -999.00,   -999.0,9,   -999.0,  20.3204,  25.3211
  49NZ20090410,   P21,   113,  1,     11, X12041,9,20090508,0320,-16.7513,-122.0028, 3257,   1271.1,2,   3.4381,2,   3.43805,2,  34.5601,2,-999.0000,9,   100.31,2,  -999.00,9,  -999.00,9,  -999.00,  -999.00,9,  -999.00,  -999.00,9,  -999.00, -999.000,9, -999.000, -999.000,9, -999.000,9, -999.000,9,   -999.0,9,   -999.0,9,-999.0000,-999,9,  -999.00,9,  -999.00,   -999.0,9,   -999.0,   3.3447,  27.5016
  49NZ20090410,   P21,   113,  1,     10, X12040,9,20090508,0320,-16.7513,-122.0028, 3257,   1669.3,2,   2.5294,2,   2.52893,2,  34.6105,2,-999.0000,9,   125.80,2,  -999.00,9,  -999.00,9,  -999.00,  -999.00,9,  -999.00,  -999.00,9,  -999.00, -999.000,9, -999.000, -999.000,9, -999.000,9, -999.000,9,   -999.0,9,   -999.0,9,-999.0000,-999,9,  -999.00,9,  -999.00,   -999.0,9,   -999.0,   2.4131,  27.6258
  49NZ20090410,   P21,   113,  1,      9, X12009,9,20090508,0320,-16.7513,-122.0028, 3257,   1870.2,2,   2.2676,2,   2.26775,2,  34.6297,2,-999.0000,9,   134.70,2,  -999.00,9,  -999.00,9,  -999.00,  -999.00,9,  -999.00,  -999.00,9,  -999.00, -999.000,9, -999.000, -999.000,9, -999.000,9, -999.000,9,   -999.0,9,   -999.0,9,-999.0000,-999,9,  -999.00,9,  -999.00,   -999.0,9,   -999.0,   2.1381,  27.6640
  49NZ20090410,   P21,   113,  1,      8, X12008,9,20090508,0320,-16.7513,-122.0028, 3257,   2068.9,2,   2.0108,2,   2.01077,2,  34.6497,2,-999.0000,9,   147.62,2,  -999.00,9,  -999.00,9,  -999.00,  -999.00,9,  -999.00,  -999.00,9,  -999.00, -999.000,9, -999.000, -999.000,9, -999.000,9, -999.000,9,   -999.0,9,   -999.0,9,-999.0000,-999,9,  -999.00,9,  -999.00,   -999.0,9,   -999.0,   1.8683,  27.7013
  49NZ20090410,   P21,   113,  1,      7, X12007,9,20090508,0320,-16.7513,-122.0028, 3257,   2271.7,2,   1.9110,2,   1.91115,2,  34.6600,2,-999.0000,9,   151.90,2,  -999.00,9,  -999.00,9,  -999.00,  -999.00,9,  -999.00,  -999.00,9,  -999.00, -999.000,9, -999.000, -999.000,9, -999.000,9, -999.000,9,   -999.0,9,   -999.0,9,-999.0000,-999,9,  -999.00,9,  -999.00,   -999.0,9,   -999.0,   1.7527,  27.7185
  49NZ20090410,   P21,   113,  1,      6, X12035,9,20090508,0320,-16.7513,-122.0028, 3257,   2469.4,2,   1.8497,2,   1.84980,2,  34.6665,2,-999.0000,9,   153.79,2,  -999.00,9,  -999.00,9,  -999.00,  -999.00,9,  -999.00,  -999.00,9,  -999.00, -999.000,9, -999.000, -999.000,9, -999.000,9, -999.000,9,   -999.0,9,   -999.0,9,-999.0000,-999,9,  -999.00,9,  -999.00,   -999.0,9,   -999.0,   1.6749,  27.7296
  49NZ20090410,   P21,   113,  1,      5, X12038,9,20090508,0320,-16.7513,-122.0028, 3257,   2672.2,2,   1.7968,2,   1.79680,2,  34.6710,2,-999.0000,9,   155.80,2,  -999.00,9,  -999.00,9,  -999.00,  -999.00,9,  -999.00,  -999.00,9,  -999.00, -999.000,9, -999.000, -999.000,9, -999.000,9, -999.000,9,   -999.0,9,   -999.0,9,-999.0000,-999,9,  -999.00,9,  -999.00,   -999.0,9,   -999.0,   1.6045,  27.7385
  49NZ20090410,   P21,   113,  1,      4, X12034,9,20090508,0320,-16.7513,-122.0028, 3257,   2870.4,2,   1.7539,2,   1.75383,2,  34.6747,2,-999.0000,9,   157.36,2,  -999.00,9,  -999.00,9,  -999.00,  -999.00,9,  -999.00,  -999.00,9,  -999.00, -999.000,9, -999.000, -999.000,9, -999.000,9, -999.000,9,   -999.0,9,   -999.0,9,-999.0000,-999,9,  -999.00,9,  -999.00,   -999.0,9,   -999.0,   1.5439,  27.7459
  49NZ20090410,   P21,   113,  1,      3, X12033,9,20090508,0320,-16.7513,-122.0028, 3257,   3082.5,2,   1.7078,2,   1.70777,2,  34.6779,2,-999.0000,9,   159.67,2,  -999.00,9,  -999.00,9,  -999.00,  -999.00,9,  -999.00,  -999.00,9,  -999.00, -999.000,9, -999.000, -999.000,9, -999.000,9, -999.000,9,   -999.0,9,   -999.0,9,-999.0000,-999,9,  -999.00,9,  -999.00,   -999.0,9,   -999.0,   1.4784,  27.7533
  49NZ20090410,   P21,   113,  1,      2, X12032,9,20090508,0320,-16.7513,-122.0028, 3257,    930.1,2,   4.5372,2,   4.53633,2,  34.5101,2,-999.0000,9,    91.24,2,  -999.00,9,  -999.00,9,  -999.00,  -999.00,9,  -999.00,  -999.00,9,  -999.00, -999.000,9, -999.000, -999.000,9, -999.000,9, -999.000,9,   -999.0,9,   -999.0,9,-999.0000,-999,9,  -999.00,9,  -999.00,   -999.0,9,   -999.0,   4.4635,  27.3472
  49NZ20090410,   P21,   113,  1,      1, X12046,2,20090508,0320,-16.7513,-122.0028, 3257,   3285.3,2,   1.7012,2,   1.70111,2,  34.6790,2,  34.6788,6,   160.57,2,   160.42,2,   125.64,2,     0.40,    35.31,2,     0.13,     0.01,2,     0.01,    2.467,2,    0.016,    0.000,2,    0.000,2,    0.000,2,   -999.0,9,   -999.0,9,-999.0000,-999,9,  -999.00,9,  -999.00,   -999.0,9,   -999.0,   1.4519,  27.7561