BOTTLE,20220818CCHSIOAMB
EXPOCODE,SECT_ID,STNNBR,CASTNO,SAMPNO,BTLNBR,BTLNBR_FLAG_W,DATE,TIME,LATITUDE,LONGITUDE,DEPTH,CTDPRS,CTDPRS_FLAG_W,CTDTMP,CTDTMP_FLAG_W,SBE35,SBE35_FLAG_W,CTDSAL,CTDSAL_FLAG_W,SALNTY,SALNTY_FLAG_W,CTDOXY,CTDOXY_FLAG_W,OXYGEN,OXYGEN_FLAG_W,SILCAT,SILCAT_FLAG_W,SILUNC,NITRAT,NITRAT_FLAG_W,NRAUNC,NITRIT,NITRIT_FLAG_W,NRIUNC,PHSPHT,PHSPHT_FLAG_W,PHPUNC,CFC-11,CFC-11_FLAG_W,CFC-12,CFC-12_FLAG_W,CFC113,CFC113_FLAG_W,TCARBN,TCARBN_FLAG_W,ALKALI,ALKALI_FLAG_W,PH_TOT,PH_TMP,PH_TOT_FLAG_W,DELC13,DELC13_FLAG_W,C13ERR,DELC14,DELC14_FLAG_W,C14ERR,THETA,SIG0
,,,,,,,,,,,METERS,DBAR,,ITS-90,,ITS-90,,PSS-78,,PSS-78,,UMOL/KG,,UMOL/KG,,UMOL/KG,,UMOL/KG,UMOL/KG,,UMOL/KG,UMOL/KG,,UMOL/KG,UMOL/KG,,UMOL/KG,PMOL/KG,,PMOL/KG,,PMOL/KG,,UMOL/KG,,UMOL/KG,,,DEG C,,/MILLE,,/MILLE,/MILLE,,/MILLE,DEG C,KG/M^3
  49NZ20090410,   P21,   105,  1,     36, X12006,2,20090506,0948,-16.7493,-116.6697, 3308,     10.3,2,  25.8693,2,  25.86870,2,  36.3886,2,  36.3880,2,   205.11,2,   204.82,2,     0.60,2,     0.12,     0.12,2,     0.03,     0.01,2,     0.01,    0.331,2,    0.014,    1.546,2,    1.002,2,    0.184,4,   -999.0,9,   -999.0,9,-999.0000,-999,9,  -999.00,9,  -999.00,   -999.0,9,   -999.0,  25.8670,  24.1231
  49NZ20090410,   P21,   105,  1,     35, X12047,2,20090506,0948,-16.7493,-116.6697, 3308,     50.3,2,  25.8316,2,  25.83098,2,  36.3976,2,  36.3988,2,   204.94,2,   204.99,2,     0.56,2,     0.12,     0.08,2,     0.03,     0.01,2,     0.01,    0.310,2,    0.014,    1.546,2,    0.994,2, -999.000,5,   -999.0,9,   -999.0,9,-999.0000,-999,9,  -999.00,9,  -999.00,   -999.0,9,   -999.0,  25.8204,  24.1444
  49NZ20090410,   P21,   105,  1,     34, X12004,2,20090506,0948,-16.7493,-116.6697, 3308,    100.3,2,  22.9826,2,  22.98226,2,  36.2904,2,  36.2911,2,   205.04,2,   204.60,2,     0.48,2,     0.12,     0.20,2,     0.03,     0.04,2,     0.01,    0.379,2,    0.013,    1.803,6,    1.141,6, -999.000,5,   -999.0,9,   -999.0,9,-999.0000,-999,9,  -999.00,9,  -999.00,   -999.0,9,   -999.0,  22.9620,  24.9237
  49NZ20090410,   P21,   105,  1,     33, X12003,2,20090506,0948,-16.7493,-116.6697, 3308,    149.9,2,  21.5602,2,  21.55968,2,  36.1017,2,  36.1064,2,   199.78,2,   199.37,2,     0.35,2,     0.12,     0.86,2,     0.04,     0.80,2,     0.00,    0.382,2,    0.013,    1.929,2,    1.206,2, -999.000,5,   -999.0,9,   -999.0,9,-999.0000,-999,9,  -999.00,9,  -999.00,   -999.0,9,   -999.0,  21.5308,  25.1865
  49NZ20090410,   P21,   105,  1,     32, X12002,2,20090506,0948,-16.7493,-116.6697, 3308,    199.9,2,  19.8673,2,  19.87393,2,  35.7308,2,  35.7357,2,   199.11,2,   199.07,2,     0.38,2,     0.12,     2.45,2,     0.04,     0.03,2,     0.01,    0.458,2,    0.013,    2.097,2,    1.302,2,    0.197,2,   -999.0,9,   -999.0,9,-999.0000,-999,9,  -999.00,9,  -999.00,   -999.0,9,   -999.0,  19.8303,  25.3641
  49NZ20090410,   P21,   105,  1,     31, X12001,2,20090506,0948,-16.7493,-116.6697, 3308,    251.8,2,  17.5723,2,  17.57850,2,  35.2974,2,  35.3230,6,   191.91,2,   192.32,2,     0.81,2,     0.12,     4.87,2,     0.05,     0.02,2,     0.01,    0.588,2,    0.013,    2.307,2,    1.397,2,    0.114,2,   -999.0,9,   -999.0,9,-999.0000,-999,9,  -999.00,9,  -999.00,   -999.0,9,   -999.0,  17.5296,  25.6151
  49NZ20090410,   P21,   105,  1,     30, X12030,2,20090506,0948,-16.7493,-116.6697, 3308,    280.8,2,  14.5904,2,  14.58999,2,  34.8454,2,  34.8469,2,   175.34,2,   175.04,2,     2.24,2,     0.12,     9.77,2,     0.06,     0.02,2,     0.01,    0.922,2,    0.013,    2.545,2,    1.474,2,    0.063,2,   -999.0,9,   -999.0,9,-999.0000,-999,9,  -999.00,9,  -999.00,   -999.0,9,   -999.0,  14.5486,  25.9509
  49NZ20090410,   P21,   105,  1,     29, X12044,2,20090506,0948,-16.7493,-116.6697, 3308,    370.3,2,  10.3050,2,  10.30483,2,  34.5306,2,  34.5296,2,    72.60,2,    72.74,2,    15.66,2,     0.15,    26.14,2,     0.11,     0.01,2,     0.01,    2.272,2,    0.016,    1.337,2,    0.683,2,    0.034,2,   -999.0,9,   -999.0,9,-999.0000,-999,9,  -999.00,9,  -999.00,   -999.0,9,   -999.0,  10.2611,  26.5406
  49NZ20090410,   P21,   105,  1,     28, X12048,2,20090506,0948,-16.7493,-116.6697, 3308,    469.5,2,   7.7860,2,   7.78632,2,  34.4834,2,  34.4826,6,    79.54,2,    79.80,2,    22.43,2,     0.17,    34.49,2,     0.13,     0.01,2,     0.01,    2.501,2,    0.016,    0.483,2,    0.244,2,    0.010,2,   -999.0,9,   -999.0,9,-999.0000,-999,9,  -999.00,9,  -999.00,   -999.0,9,   -999.0,   7.7388,  26.9067
  49NZ20090410,   P21,   105,  1,     27, X12027,2,20090506,0948,-16.7493,-116.6697, 3308,    571.6,2,   6.7052,2,   6.70543,2,  34.4961,2,  34.4955,2,    75.31,2,    75.17,2,    32.68,2,     0.19,    38.05,2,     0.14,     0.01,2,     0.01,    2.664,2,    0.017,    0.077,6,    0.041,6,    0.000,6,   -999.0,9,   -999.0,9,-999.0000,-999,9,  -999.00,9,  -999.00,   -999.0,9,   -999.0,   6.6519,  27.0692
  49NZ20090410,   P21,   105,  1,     26, X12026,2,20090506,0948,-16.7493,-116.6697, 3308,    669.1,2,   6.1051,2,   6.10570,2,  34.4984,2,  34.4977,2,    68.56,2,    68.50,2,    41.32,2,     0.21,    40.20,2,     0.15,     0.01,2,     0.01,    2.796,2,    0.017,    0.013,2,    0.012,2,    0.000,2,   -999.0,9,   -999.0,9,-999.0000,-999,9,  -999.00,9,  -999.00,   -999.0,9,   -999.0,   6.0453,  27.1505
  49NZ20090410,   P21,   105,  1,     25, X12025,2,20090506,0948,-16.7493,-116.6697, 3308,    769.8,2,   5.4508,2,   5.45108,2,  34.4971,2,  34.4969,2,    67.96,2,    67.85,2,    51.08,2,     0.23,    41.43,2,     0.15,     0.01,2,     0.01,    2.912,2,    0.017,    0.002,2,    0.001,2,    0.000,2,   -999.0,9,   -999.0,9,-999.0000,-999,9,  -999.00,9,  -999.00,   -999.0,9,   -999.0,   5.3853,  27.2312
  49NZ20090410,   P21,   105,  1,     24, X12024,2,20090506,0948,-16.7493,-116.6697, 3308,    872.3,2,   4.9947,2,   4.99549,2,  34.5040,2,  34.5039,2,    68.48,2,    68.09,2,    59.50,2,     0.25,    42.07,2,     0.15,     0.01,2,     0.01,    2.957,2,    0.017,    0.000,2,    0.000,2,    0.000,2,   -999.0,9,   -999.0,9,-999.0000,-999,9,  -999.00,9,  -999.00,   -999.0,9,   -999.0,   4.9229,  27.2909
  49NZ20090410,   P21,   105,  1,     23, X12028,2,20090506,0948,-16.7493,-116.6697, 3308,    969.1,2,   4.5766,2,   4.57633,2,  34.5166,2,  34.5164,6,    74.28,2,    73.91,2,    68.14,2,     0.27,    41.77,2,     0.15,     0.01,2,     0.01,    2.950,2,    0.017,    0.000,2,    0.000,2,    0.000,2,   -999.0,9,   -999.0,9,-999.0000,-999,9,  -999.00,9,  -999.00,   -999.0,9,   -999.0,   4.4992,  27.3484
  49NZ20090410,   P21,   105,  1,     22, X12022,2,20090506,0948,-16.7493,-116.6697, 3308,   1130.1,2,   3.8967,2,   3.89685,2,  34.5405,2,  34.5405,2,    83.89,2,    83.72,2,    82.74,2,     0.30,    41.31,2,     0.15,     0.01,2,     0.01,    2.939,2,    0.017,    0.001,2,    0.001,2,    0.000,2,   -999.0,9,   -999.0,9,-999.0000,-999,9,  -999.00,9,  -999.00,   -999.0,9,   -999.0,   3.8109,  27.4400
  49NZ20090410,   P21,   105,  1,     21, X12021,2,20090506,0948,-16.7493,-116.6697, 3308,   1330.3,2,   3.3136,2,   3.31354,2,  34.5685,2,  34.5684,2,    93.01,2,    92.85,2,    96.34,2,     0.33,    40.48,2,     0.15,     0.01,2,     0.01,    2.895,2,    0.017,    0.001,2,    0.001,2,    0.000,2,   -999.0,9,   -999.0,9,-999.0000,-999,9,  -999.00,9,  -999.00,   -999.0,9,   -999.0,   3.2165,  27.5205
  49NZ20090410,   P21,   105,  1,     20, X12020,2,20090506,0948,-16.7493,-116.6697, 3308,   1529.6,2,   2.8902,2,   2.89005,2,  34.5926,2,  34.5930,2,   103.26,2,   103.34,2,   106.12,2,     0.35,    39.75,2,     0.14,     0.01,2,     0.01,    2.835,2,    0.017,    0.000,2,    0.000,2,    0.000,2,   -999.0,9,   -999.0,9,-999.0000,-999,9,  -999.00,9,  -999.00,   -999.0,9,   -999.0,   2.7811,  27.5796
  49NZ20090410,   P21,   105,  1,     19, X12019,2,20090506,0948,-16.7493,-116.6697, 3308,   1730.6,2,   2.5048,2,   2.50438,2,  34.6142,2,  34.6142,6,   119.75,2,   119.83,2,   111.56,2,     0.36,    38.37,2,     0.14,     0.01,2,     0.01,    2.708,2,    0.017,    0.000,2,    0.000,2,    0.000,2,   -999.0,9,   -999.0,9,-999.0000,-999,9,  -999.00,9,  -999.00,   -999.0,9,   -999.0,   2.3838,  27.6312
  49NZ20090410,   P21,   105,  1,     18, X12043,2,20090506,0948,-16.7493,-116.6697, 3308,   1931.2,2,   2.1845,2,   2.18447,2,  34.6334,2,  34.6339,2,   140.41,2,   140.77,2,   112.75,2,     0.37,    36.74,2,     0.14,     0.01,2,     0.01,    2.577,2,    0.016,    0.001,2,    0.000,2,    0.000,2,   -999.0,9,   -999.0,9,-999.0000,-999,9,  -999.00,9,  -999.00,   -999.0,9,   -999.0,   2.0511,  27.6739
  49NZ20090410,   P21,   105,  1,     17, X12042,2,20090506,0948,-16.7493,-116.6697, 3308,   2130.7,2,   1.9914,2,   1.99130,2,  34.6505,2,  34.6510,2,   150.74,2,   150.70,2,   114.97,2,     0.37,    35.89,2,     0.13,     0.01,2,     0.01,    2.501,2,    0.016,    0.000,2,    0.000,2,    0.000,2,   -999.0,9,   -999.0,9,-999.0000,-999,9,  -999.00,9,  -999.00,   -999.0,9,   -999.0,   1.8439,  27.7039
  49NZ20090410,   P21,   105,  1,     16, X12016,2,20090506,0948,-16.7493,-116.6697, 3308,   2329.3,2,   1.8897,2,   1.88955,2,  34.6639,2,  34.6641,2,   153.62,2,   153.46,2,   118.95,2,     0.38,    35.49,2,     0.13,     0.01,2,     0.01,    2.463,2,    0.016,    0.001,2,    0.000,2,    0.000,2,   -999.0,9,   -999.0,9,-999.0000,-999,9,  -999.00,9,  -999.00,   -999.0,9,   -999.0,   1.7267,  27.7236
  49NZ20090410,   P21,   105,  1,     15, X12015,2,20090506,0948,-16.7493,-116.6697, 3308,   2530.3,2,   1.8483,2,   1.84823,2,  34.6709,2,  34.6710,6,   154.30,2,   154.16,2,   121.75,2,     0.39,    35.44,2,     0.13,     0.01,2,     0.01,    2.463,2,    0.016,    0.000,2,    0.000,2,    0.000,2,   -999.0,9,   -999.0,9,-999.0000,-999,9,  -999.00,9,  -999.00,   -999.0,9,   -999.0,   1.6680,  27.7336
  49NZ20090410,   P21,   105,  1,     14, X12050,2,20090506,0948,-16.7493,-116.6697, 3308,   2730.4,2,   1.8143,2,   1.81409,2,  34.6730,2,  34.6730,2,   156.40,2,   156.32,2,   122.68,2,     0.39,    35.37,2,     0.13,     0.01,2,     0.01,    2.464,2,    0.016,    0.001,2,    0.000,2,    0.000,2,   -999.0,9,   -999.0,9,-999.0000,-999,9,  -999.00,9,  -999.00,   -999.0,9,   -999.0,   1.6163,  27.7392
  49NZ20090410,   P21,   105,  1,     13, X12013,7,20090506,0948,-16.7493,-116.6697, 3308,   2929.9,2,   1.7762,2,   1.77627,2,  34.6745,2,  34.6750,2,   159.13,2,   159.04,2,   122.68,2,     0.39,    35.29,2,     0.13,     0.01,2,     0.01,    2.457,2,    0.016,    0.006,2,    0.000,2,    0.000,2,   -999.0,9,   -999.0,9,-999.0000,-999,9,  -999.00,9,  -999.00,   -999.0,9,   -999.0,   1.5601,  27.7445
  49NZ20090410,   P21,   105,  1,     12, X12012,2,20090506,0948,-16.7493,-116.6697, 3308,   3169.9,2,   1.7486,2,   1.74845,2,  34.6763,2,  34.6763,2,   160.48,2,   160.32,2,   123.81,2,     0.39,    35.29,2,     0.13,     0.01,2,     0.01,    2.458,2,    0.016,    0.000,2,    0.000,2,    0.000,2,   -999.0,9,   -999.0,9,-999.0000,-999,9,  -999.00,9,  -999.00,   -999.0,9,   -999.0,   1.5097,  27.7497
  49NZ20090410,   P21,   105,  1,     11, X12041,9,20090506,0948,-16.7493,-116.6697, 3308,     10.5,2,  25.8696,2,  25.86951,2,  36.3886,2,-999.0000,9,   205.17,2,  -999.00,9,  -999.00,9,  -999.00,  -999.00,9,  -999.00,  -999.00,9,  -999.00, -999.000,9, -999.000, -999.000,9, -999.000,9, -999.000,9,   -999.0,9,   -999.0,9,-999.0000,-999,9,  -999.00,9,  -999.00,   -999.0,9,   -999.0,  25.8673,  24.1230
  49NZ20090410,   P21,   105,  1,     10, X12040,9,20090506,0948,-16.7493,-116.6697, 3308,   3169.6,2,   1.7488,2,   1.74872,2,  34.6763,2,-999.0000,9,   160.50,2,  -999.00,9,  -999.00,9,  -999.00,  -999.00,9,  -999.00,  -999.00,9,  -999.00, -999.000,9, -999.000, -999.000,9, -999.000,9, -999.000,9,   -999.0,9,   -999.0,9,-999.0000,-999,9,  -999.00,9,  -999.00,   -999.0,9,   -999.0,   1.5099,  27.7497
  49NZ20090410,   P21,   105,  1,      9, X12009,9,20090506,0948,-16.7493,-116.6697, 3308,   1730.9,2,   2.5047,2,   2.50469,2,  34.6142,2,-999.0000,9,   119.84,2,  -999.00,9,  -999.00,9,  -999.00,  -999.00,9,  -999.00,  -999.00,9,  -999.00, -999.000,9, -999.000, -999.000,9, -999.000,9, -999.000,9,   -999.0,9,   -999.0,9,-999.0000,-999,9,  -999.00,9,  -999.00,   -999.0,9,   -999.0,   2.3836,  27.6313
  49NZ20090410,   P21,   105,  1,      8, X12008,9,20090506,0948,-16.7493,-116.6697, 3308,   1931.4,2,   2.1844,2,   2.18439,2,  34.6334,2,-999.0000,9,   140.47,2,  -999.00,9,  -999.00,9,  -999.00,  -999.00,9,  -999.00,  -999.00,9,  -999.00, -999.000,9, -999.000, -999.000,9, -999.000,9, -999.000,9,   -999.0,9,   -999.0,9,-999.0000,-999,9,  -999.00,9,  -999.00,   -999.0,9,   -999.0,   2.0510,  27.6739
  49NZ20090410,   P21,   105,  1,      7, X12007,9,20090506,0948,-16.7493,-116.6697, 3308,   2130.2,2,   1.9916,2,   1.99148,2,  34.6505,2,-999.0000,9,   150.74,2,  -999.00,9,  -999.00,9,  -999.00,  -999.00,9,  -999.00,  -999.00,9,  -999.00, -999.000,9, -999.000, -999.000,9, -999.000,9, -999.000,9,   -999.0,9,   -999.0,9,-999.0000,-999,9,  -999.00,9,  -999.00,   -999.0,9,   -999.0,   1.8442,  27.7038
  49NZ20090410,   P21,   105,  1,      6, X12035,9,20090506,0948,-16.7493,-116.6697, 3308,   2329.8,2,   1.8897,2,   1.88968,2,  34.6640,2,-999.0000,9,   153.62,2,  -999.00,9,  -999.00,9,  -999.00,  -999.00,9,  -999.00,  -999.00,9,  -999.00, -999.000,9, -999.000, -999.000,9, -999.000,9, -999.000,9,   -999.0,9,   -999.0,9,-999.0000,-999,9,  -999.00,9,  -999.00,   -999.0,9,   -999.0,   1.7266,  27.7237
  49NZ20090410,   P21,   105,  1,      5, X12038,9,20090506,0948,-16.7493,-116.6697, 3308,   2530.7,2,   1.8484,2,   1.84831,2,  34.6709,2,-999.0000,9,   154.30,2,  -999.00,9,  -999.00,9,  -999.00,  -999.00,9,  -999.00,  -999.00,9,  -999.00, -999.000,9, -999.000, -999.000,9, -999.000,9, -999.000,9,   -999.0,9,   -999.0,9,-999.0000,-999,9,  -999.00,9,  -999.00,   -999.0,9,   -999.0,   1.6681,  27.7336
  49NZ20090410,   P21,   105,  1,      4, X12034,9,20090506,0948,-16.7493,-116.6697, 3308,   2730.2,2,   1.8137,2,   1.81365,2,  34.6730,2,-999.0000,9,   156.35,2,  -999.00,9,  -999.00,9,  -999.00,  -999.00,9,  -999.00,  -999.00,9,  -999.00, -999.000,9, -999.000, -999.000,9, -999.000,9, -999.000,9,   -999.0,9,   -999.0,9,-999.0000,-999,9,  -999.00,9,  -999.00,   -999.0,9,   -999.0,   1.6157,  27.7392
  49NZ20090410,   P21,   105,  1,      3, X12033,9,20090506,0948,-16.7493,-116.6697, 3308,   2930.1,2,   1.7763,2,   1.77640,2,  34.6745,2,-999.0000,9,   159.15,2,  -999.00,9,  -999.00,9,  -999.00,  -999.00,9,  -999.00,  -999.00,9,  -999.00, -999.000,9, -999.000, -999.000,9, -999.000,9, -999.000,9,   -999.0,9,   -999.0,9,-999.0000,-999,9,  -999.00,9,  -999.00,   -999.0,9,   -999.0,   1.5602,  27.7445
  49NZ20090410,   P21,   105,  1,      2, X12032,9,20090506,0948,-16.7493,-116.6697, 3308,    872.7,2,   4.9947,2,   4.99472,2,  34.5040,2,-999.0000,9,    68.48,2,  -999.00,9,  -999.00,9,  -999.00,  -999.00,9,  -999.00,  -999.00,9,  -999.00, -999.000,9, -999.000, -999.000,9, -999.000,9, -999.000,9,   -999.0,9,   -999.0,9,-999.0000,-999,9,  -999.00,9,  -999.00,   -999.0,9,   -999.0,   4.9228,  27.2909
  49NZ20090410,   P21,   105,  1,      1, X12046,2,20090506,0948,-16.7493,-116.6697, 3308,   3345.5,2,   1.7395,2,   1.73942,2,  34.6779,2,  34.6782,6,   160.66,2,   160.53,2,   124.96,2,     0.39,    35.37,2,     0.13,     0.01,2,     0.01,    2.459,2,    0.016,    0.001,2,    0.001,2,    0.000,2,   -999.0,9,   -999.0,9,-999.0000,-999,9,  -999.00,9,  -999.00,   -999.0,9,   -999.0,   1.4832,  27.7529