BOTTLE,20220818CCHSIOAMB
EXPOCODE,SECT_ID,STNNBR,CASTNO,SAMPNO,BTLNBR,BTLNBR_FLAG_W,DATE,TIME,LATITUDE,LONGITUDE,DEPTH,CTDPRS,CTDPRS_FLAG_W,CTDTMP,CTDTMP_FLAG_W,SBE35,SBE35_FLAG_W,CTDSAL,CTDSAL_FLAG_W,SALNTY,SALNTY_FLAG_W,CTDOXY,CTDOXY_FLAG_W,OXYGEN,OXYGEN_FLAG_W,SILCAT,SILCAT_FLAG_W,SILUNC,NITRAT,NITRAT_FLAG_W,NRAUNC,NITRIT,NITRIT_FLAG_W,NRIUNC,PHSPHT,PHSPHT_FLAG_W,PHPUNC,CFC-11,CFC-11_FLAG_W,CFC-12,CFC-12_FLAG_W,CFC113,CFC113_FLAG_W,TCARBN,TCARBN_FLAG_W,ALKALI,ALKALI_FLAG_W,PH_TOT,PH_TMP,PH_TOT_FLAG_W,DELC13,DELC13_FLAG_W,C13ERR,DELC14,DELC14_FLAG_W,C14ERR,THETA,SIG0
,,,,,,,,,,,METERS,DBAR,,ITS-90,,ITS-90,,PSS-78,,PSS-78,,UMOL/KG,,UMOL/KG,,UMOL/KG,,UMOL/KG,UMOL/KG,,UMOL/KG,UMOL/KG,,UMOL/KG,UMOL/KG,,UMOL/KG,PMOL/KG,,PMOL/KG,,PMOL/KG,,UMOL/KG,,UMOL/KG,,,DEG C,,/MILLE,,/MILLE,/MILLE,,/MILLE,DEG C,KG/M^3
  49NZ20090410,   P21,    44,  1,     36, X12006,2,20090422,2112,-16.7518, -83.6677, 4714,      9.6,2,  24.1748,2,  24.17413,2,  35.5491,2,  35.5503,2,   211.64,2,   211.77,2,     0.75,2,     0.12,     0.33,2,     0.03,     0.02,2,     0.01,    0.546,2,    0.013,    1.704,2,    1.075,2, -999.000,5,   2060.9,2,   2363.7,2,   8.0379,  25,6,  -999.00,9,  -999.00,   -999.0,9,   -999.0,  24.1728,  24.0057
  49NZ20090410,   P21,    44,  1,     35, X12047,2,20090422,2112,-16.7518, -83.6677, 4714,     49.1,2,  19.9783,2,  19.98313,2,  35.3123,2,  35.3126,2,   227.82,2,   229.54,2,     2.26,2,     0.12,     4.36,2,     0.04,     0.17,2,     0.01,    0.844,2,    0.013,    2.198,2,    1.353,2, -999.000,5,   2087.6,6,   2338.7,2,   7.9536,  25,2,  -999.00,9,  -999.00,   -999.0,9,   -999.0,  19.9692,  25.0081
  49NZ20090410,   P21,    44,  1,     34, X12004,2,20090422,2112,-16.7518, -83.6677, 4714,    100.1,2,  17.0869,2,  17.09621,2,  35.0960,2,  35.0960,2,   176.71,2,   175.51,2,     3.33,2,     0.13,    13.24,2,     0.07,     0.13,2,     0.01,    1.366,2,    0.014,    2.341,6,    1.423,6,    0.190,6,   2141.0,2,   2319.5,6,   7.8108,  25,2,  -999.00,9,  -999.00,   -999.0,9,   -999.0,  17.0703,  25.5712
  49NZ20090410,   P21,    44,  1,     33, X12003,2,20090422,2112,-16.7518, -83.6677, 4714,    150.4,2,  13.8819,2,  13.90564,2,  34.7910,2,  34.8007,2,    67.35,2,    64.44,2,    11.67,2,     0.14,    23.12,2,     0.10,     0.02,2,     0.01,    2.273,2,    0.016,    2.051,2,    1.188,2,    0.093,2,   2228.2,2,   2295.4,2,   7.5343,  25,6,  -999.00,9,  -999.00,   -999.0,9,   -999.0,  13.8604,  26.0548
  49NZ20090410,   P21,    44,  1,     32, X12002,2,20090422,2112,-16.7518, -83.6677, 4714,    199.2,2,  12.2720,2,  12.26806,2,  34.7492,2,  34.7468,2,     6.72,2,     7.18,2,    21.76,2,     0.17,    21.03,2,     0.09,     0.01,2,     0.01,    2.701,2,    0.017,    1.214,2,    0.684,2,    0.030,2,   2269.3,2,   2297.3,2,   7.4171,  25,2,  -999.00,9,  -999.00,   -999.0,9,   -999.0,  12.2457,  26.3471
  49NZ20090410,   P21,    44,  1,     31, X12001,2,20090422,2112,-16.7518, -83.6677, 4714,    249.4,2,  11.3950,2,  11.39267,2,  34.7654,2,  34.7642,6,     1.88,2,     1.45,2,    26.16,2,     0.18,    24.41,2,     0.10,     0.10,2,     0.01,    2.763,2,    0.017,    0.613,2,    0.338,2,    0.011,2,   2277.6,2,   2298.7,2,   7.3942,  25,2,  -999.00,9,  -999.00,   -999.0,9,   -999.0,  11.3635,  26.5264
  49NZ20090410,   P21,    44,  1,     30, X12030,2,20090422,2112,-16.7518, -83.6677, 4714,    280.9,2,  10.8473,2,  10.84819,2,  34.7424,2,  34.7409,2,     1.58,2,     1.06,3,    27.17,2,     0.18,    26.69,2,     0.11,     0.98,2,     0.01,    2.785,2,    0.017,    0.456,2,    0.248,2,    0.009,2,   2281.1,2,   2297.8,2,   7.3825,  25,2,  -999.00,9,  -999.00,   -999.0,9,   -999.0,  10.8129,  26.6086
  49NZ20090410,   P21,    44,  1,     29, X12044,2,20090422,2112,-16.7518, -83.6677, 4714,    370.4,2,   9.1564,2,   9.15533,2,  34.6441,2,  34.6430,2,     6.63,2,     6.77,2,    29.32,2,     0.18,    37.07,2,     0.14,     0.01,2,     0.01,    2.848,2,    0.017,    0.177,2,    0.093,2,    0.006,2,   2282.1,2,   2297.4,2,   7.3806,  25,2,  -999.00,9,  -999.00,   -999.0,9,   -999.0,   9.1155,  26.8208
  49NZ20090410,   P21,    44,  1,     28, X12048,2,20090422,2112,-16.7518, -83.6677, 4714,    469.3,2,   8.0398,2,   8.03728,2,  34.5913,2,  34.5906,6,    11.86,2,    12.21,2,    34.47,2,     0.19,    40.48,2,     0.15,     0.01,2,     0.01,    2.978,2,    0.017,    0.114,2,    0.061,2,    0.000,2,   2287.2,2,   2298.8,2,   7.3730,  25,2,  -999.00,9,  -999.00,   -999.0,9,   -999.0,   7.9916,  26.9541
  49NZ20090410,   P21,    44,  1,     27, X12027,2,20090422,2112,-16.7518, -83.6677, 4714,    570.9,2,   6.8349,2,   6.83456,2,  34.5325,2,  34.5320,2,    24.82,2,    25.22,2,    40.55,2,     0.21,    42.67,2,     0.15,     0.01,2,     0.01,    3.067,2,    0.018,    0.066,6,    0.035,6,    0.000,6,   2289.2,2,   2302.7,2,   7.3773,  25,2,  -999.00,9,  -999.00,   -999.0,9,   -999.0,   6.7811,  27.0805
  49NZ20090410,   P21,    44,  1,     26, X12026,2,20090422,2112,-16.7518, -83.6677, 4714,    669.7,2,   6.1616,2,   6.16253,2,  34.5201,2,  34.5194,2,    25.85,2,    26.60,2,    48.51,2,     0.23,    44.08,2,     0.16,     0.00,2,     0.01,    3.163,2,    0.018,    0.022,2,    0.011,2,    0.000,2,   2298.9,6,   2310.7,2,   7.3716,  25,2,  -999.00,9,  -999.00,   -999.0,9,   -999.0,   6.1015,  27.1605
  49NZ20090410,   P21,    44,  1,     25, X12025,2,20090422,2112,-16.7518, -83.6677, 4714,    771.1,2,   5.4765,2,   5.47674,2,  34.5105,2,  34.5101,2,    35.90,2,    36.27,2,    56.45,2,     0.24,    44.28,2,     0.16,     0.01,2,     0.01,    3.163,2,    0.018,    0.006,2,    0.002,2,    0.000,2,   2302.2,2,   2320.1,6,   7.3834,  25,2,  -999.00,9,  -999.00,   -999.0,9,   -999.0,   5.4107,  27.2387
  49NZ20090410,   P21,    44,  1,     24, X12024,2,20090422,2112,-16.7518, -83.6677, 4714,    873.1,2,   4.9832,2,   4.98317,2,  34.5160,2,  34.5156,2,    41.79,2,    42.11,2,    65.10,2,     0.26,    44.28,2,     0.16,     0.01,2,     0.01,    3.184,2,    0.018,    0.004,2,    0.001,2,    0.000,2,   2309.5,2,   2328.9,2,   7.3911,  25,6,  -999.00,9,  -999.00,   -999.0,9,   -999.0,   4.9114,  27.3017
  49NZ20090410,   P21,    44,  1,     23, X12028,2,20090422,2112,-16.7518, -83.6677, 4714,    968.5,2,   4.5030,2,   4.50334,2,  34.5260,2,  34.5259,6,    52.77,2,    53.05,2,    74.32,2,     0.28,    43.60,2,     0.15,     0.01,2,     0.01,    3.146,2,    0.018,    0.004,2,    0.002,2,    0.000,2,   2313.8,2,   2340.4,2,   7.4096,  25,2,  -999.00,9,  -999.00,   -999.0,9,   -999.0,   4.4262,  27.3638
  49NZ20090410,   P21,    44,  1,     22, X12022,2,20090422,2112,-16.7518, -83.6677, 4714,   1128.4,2,   3.9269,2,   3.92743,2,  34.5483,2,  34.5481,2,    65.13,2,    65.11,2,    87.46,2,     0.31,    42.56,2,     0.15,     0.00,2,     0.01,    3.091,2,    0.018,    0.003,2,    0.002,2,    0.000,2,   2321.5,2,   2356.1,2,   7.4328,  25,2,  -999.00,9,  -999.00,   -999.0,9,   -999.0,   3.8410,  27.4432
  49NZ20090410,   P21,    44,  1,     21, X12021,2,20090422,2112,-16.7518, -83.6677, 4714,   1332.7,2,   3.3766,2,   3.37693,2,  34.5694,2,  34.5694,2,    80.31,2,    80.40,2,    98.55,2,     0.34,    41.39,2,     0.15,     0.00,2,     0.01,    3.003,2,    0.017,    0.000,2,    0.000,2,    0.000,2,   2326.0,2,   2368.8,2,   7.4592,  25,2,  -999.00,9,  -999.00,   -999.0,9,   -999.0,   3.2787,  27.5153
  49NZ20090410,   P21,    44,  1,     20, X12020,2,20090422,2112,-16.7518, -83.6677, 4714,   1529.4,2,   2.9584,2,   2.95858,2,  34.5941,2,  34.5941,2,    88.57,2,    88.62,2,   109.76,2,     0.36,    40.65,2,     0.15,     0.00,2,     0.01,    2.941,2,    0.017,    0.000,2,    0.000,2,    0.000,2,   2332.4,2,   2383.0,2,   7.4750,  25,2,  -999.00,9,  -999.00,   -999.0,9,   -999.0,   2.8485,  27.5748
  49NZ20090410,   P21,    44,  1,     19, X12019,2,20090422,2112,-16.7518, -83.6677, 4714,   1729.5,2,   2.6373,2,   2.63751,2,  34.6152,2,  34.6154,2,    96.43,2,    96.29,2,   118.79,2,     0.38,    39.93,2,     0.14,     0.01,2,     0.01,    2.883,2,    0.017,    0.002,2,    0.000,2,    0.000,2,   2337.7,2,   2391.6,2,   7.4921,  25,2,  -999.00,9,  -999.00,   -999.0,9,   -999.0,   2.5146,  27.6210
  49NZ20090410,   P21,    44,  1,     18, X12043,2,20090422,2112,-16.7518, -83.6677, 4714,   1929.5,2,   2.3827,2,   2.38249,2,  34.6325,2,  34.6327,2,   105.53,2,   105.85,2,   125.07,2,     0.39,    39.21,2,     0.14,     0.00,2,     0.01,    2.817,2,    0.017,    0.002,2,    0.001,2,    0.000,2,   2339.3,2,   2401.5,2,   7.5104,  25,2,  -999.00,9,  -999.00,   -999.0,9,   -999.0,   2.2465,  27.6573
  49NZ20090410,   P21,    44,  1,     17, X12042,2,20090422,2112,-16.7518, -83.6677, 4714,   2130.3,2,   2.1512,2,   2.15152,2,  34.6464,2,  34.6467,6,   121.41,2,   121.14,2,   125.36,2,     0.39,    37.94,2,     0.14,     0.01,2,     0.01,    2.709,2,    0.017,    0.002,2,    0.000,2,    0.000,2,   2330.3,2,   2402.0,2,   7.5367,  25,2,  -999.00,9,  -999.00,   -999.0,9,   -999.0,   2.0012,  27.6883
  49NZ20090410,   P21,    44,  1,     16, X12016,2,20090422,2112,-16.7518, -83.6677, 4714,   2329.8,2,   1.9980,2,   1.99803,2,  34.6577,2,  34.6578,2,   132.46,2,   132.36,2,   125.27,2,     0.39,    37.13,2,     0.14,     0.00,2,     0.01,    2.630,2,    0.017,    0.001,2,    0.000,2,    0.000,2,   2325.9,2,   2403.9,2,   7.5550,  25,2,  -999.00,9,  -999.00,   -999.0,9,   -999.0,   1.8330,  27.7105
  49NZ20090410,   P21,    44,  1,     15, X12015,2,20090422,2112,-16.7518, -83.6677, 4714,   2530.5,2,   1.8923,2,   1.89242,2,  34.6670,2,  34.6668,2,   138.59,2,   138.55,2,   126.77,2,     0.40,    36.62,2,     0.14,     0.01,2,     0.01,    2.586,2,    0.016,    0.003,2,    0.000,2,    0.000,2,   2323.5,2,   2407.2,6,   7.5678,  25,2,  -999.00,9,  -999.00,   -999.0,9,   -999.0,   1.7112,  27.7272
  49NZ20090410,   P21,    44,  1,     14, X12050,2,20090422,2112,-16.7518, -83.6677, 4714,   2729.2,2,   1.8262,2,   1.82623,2,  34.6737,2,  34.6737,2,   139.50,2,   139.50,2,   130.06,2,     0.41,    36.50,2,     0.13,     0.00,2,     0.01,    2.569,2,    0.016,    0.000,2,    0.000,2,    0.000,2,   2327.7,2,   2413.4,2,   7.5731,  25,6,  -999.00,9,  -999.00,   -999.0,9,   -999.0,   1.6280,  27.7389
  49NZ20090410,   P21,    44,  1,     13, X12013,7,20090422,2112,-16.7518, -83.6677, 4714,   2931.0,2,   1.8035,2,   1.80351,2,  34.6770,2,  34.6775,2,   138.28,2,   138.31,2,   133.24,2,     0.41,    36.56,2,     0.14,     0.01,2,     0.01,    2.581,2,    0.016,    0.001,2,    0.000,2,    0.000,2,   2332.4,2,   2418.3,2,   7.5750,  25,2,  -999.00,9,  -999.00,   -999.0,9,   -999.0,   1.5867,  27.7446
  49NZ20090410,   P21,    44,  1,     12, X12012,2,20090422,2112,-16.7518, -83.6677, 4714,   3170.1,2,   1.7923,2,   1.79236,2,  34.6799,2,  34.6795,2,   138.46,2,   138.35,2,   135.19,2,     0.42,    36.62,2,     0.14,     0.01,2,     0.01,    2.583,2,    0.016,    0.001,2,    0.001,2,    0.000,2,   2334.0,2,   2421.9,2,   7.5781,  25,2,  -999.00,9,  -999.00,   -999.0,9,   -999.0,   1.5524,  27.7494
  49NZ20090410,   P21,    44,  1,     11, X12041,2,20090422,2112,-16.7518, -83.6677, 4714,   3420.0,2,   1.7911,2,   1.79110,2,  34.6821,2,  34.6820,6,   140.18,2,   140.25,2,   134.72,2,     0.42,    36.53,2,     0.14,     0.01,2,     0.01,    2.569,2,    0.016,    0.002,2,    0.001,2,    0.000,2,   2333.3,2,   2421.3,2,   7.5810,  25,2,  -999.00,9,  -999.00,   -999.0,9,   -999.0,   1.5259,  27.7532
  49NZ20090410,   P21,    44,  1,     10, X12040,2,20090422,2112,-16.7518, -83.6677, 4714,   3668.9,2,   1.7856,2,   1.78566,2,  34.6845,2,  34.6842,2,   144.23,2,   144.42,2,   132.03,2,     0.41,    36.09,2,     0.13,     0.01,2,     0.01,    2.547,2,    0.016,    0.001,2,    0.000,2,    0.000,2,   2328.8,2,   2418.5,2,   7.5847,  25,2,  -999.00,9,  -999.00,   -999.0,9,   -999.0,   1.4945,  27.7574
  49NZ20090410,   P21,    44,  1,      9, X12009,2,20090422,2112,-16.7518, -83.6677, 4714,   3920.6,2,   1.7769,2,   1.77711,2,  34.6871,2,  34.6870,2,   149.38,2,   149.65,2,   128.93,2,     0.40,    35.71,2,     0.13,     0.01,2,     0.01,    2.510,2,    0.016,    0.002,2,    0.000,2,    0.000,2,   2322.9,2,   2414.1,2,   7.5885,  25,2,  -999.00,9,  -999.00,   -999.0,9,   -999.0,   1.4589,  27.7621
  49NZ20090410,   P21,    44,  1,      8, X12008,2,20090422,2112,-16.7518, -83.6677, 4714,   4169.1,2,   1.7765,2,   1.77658,2,  34.6888,2,  34.6887,2,   153.48,2,   153.67,2,   126.26,2,     0.40,    35.41,2,     0.13,     0.00,2,     0.01,    2.490,2,    0.016,    0.003,2,    0.000,2,    0.000,2,   2317.3,6,   2410.6,2,   7.5919,  25,2,  -999.00,9,  -999.00,   -999.0,9,   -999.0,   1.4309,  27.7654
  49NZ20090410,   P21,    44,  1,      7, X12007,2,20090422,2112,-16.7518, -83.6677, 4714,   4418.8,2,   1.7885,2,   1.78853,2,  34.6896,2,  34.6893,2,   153.81,2,   154.11,2,   126.33,2,     0.40,    35.34,2,     0.13,     0.01,2,     0.01,    2.484,2,    0.016,    0.004,2,    0.000,2,    0.000,2,   2317.1,2,   2409.4,6,   7.5915,  25,2,  -999.00,9,  -999.00,   -999.0,9,   -999.0,   1.4140,  27.7673
  49NZ20090410,   P21,    44,  1,      6, X12035,2,20090422,2112,-16.7518, -83.6677, 4714,   4669.1,2,   1.8159,2,   1.81594,2,  34.6898,2,  34.6902,2,   153.61,2,   154.05,2,   126.47,2,     0.40,    35.38,2,     0.13,     0.00,2,     0.01,    2.492,2,    0.016,    0.005,2,    0.000,2,    0.000,2,   2318.5,2,   2409.7,2,   7.5917,  25,6,  -999.00,9,  -999.00,   -999.0,9,   -999.0,   1.4111,  27.7676
  49NZ20090410,   P21,    44,  1,      5, X12038,9,20090422,2112,-16.7518, -83.6677, 4714,      9.8,2,  24.1754,2,  24.17405,2,  35.5494,2,-999.0000,9,   211.61,2,  -999.00,9,  -999.00,9,  -999.00,  -999.00,9,  -999.00,  -999.00,9,  -999.00, -999.000,9, -999.000, -999.000,9, -999.000,9, -999.000,9,   -999.0,9,   -999.0,9,-999.0000,-999,9,  -999.00,9,  -999.00,   -999.0,9,   -999.0,  24.1733,  24.0058
  49NZ20090410,   P21,    44,  1,      4, X12034,9,20090422,2112,-16.7518, -83.6677, 4714,     50.2,2,  19.8349,2,  19.83797,2,  35.3123,2,-999.0000,9,   228.71,2,  -999.00,9,  -999.00,9,  -999.00,  -999.00,9,  -999.00,  -999.00,9,  -999.00, -999.000,9, -999.000, -999.000,9, -999.000,9, -999.000,9,   -999.0,9,   -999.0,9,-999.0000,-999,9,  -999.00,9,  -999.00,   -999.0,9,   -999.0,  19.8257,  25.0459
  49NZ20090410,   P21,    44,  1,      3, X12033,9,20090422,2112,-16.7518, -83.6677, 4714,     99.8,2,  17.1287,2,  17.10319,2,  35.0992,2,-999.0000,9,   175.00,2,  -999.00,9,  -999.00,9,  -999.00,  -999.00,9,  -999.00,  -999.00,9,  -999.00, -999.000,9, -999.000, -999.000,9, -999.000,9, -999.000,9,   -999.0,9,   -999.0,9,-999.0000,-999,9,  -999.00,9,  -999.00,   -999.0,9,   -999.0,  17.1122,  25.5637
  49NZ20090410,   P21,    44,  1,      2, X12032,9,20090422,2112,-16.7518, -83.6677, 4714,   2929.1,2,   1.8029,2,   1.80315,2,  34.6772,2,-999.0000,9,   138.26,2,  -999.00,9,  -999.00,9,  -999.00,  -999.00,9,  -999.00,  -999.00,9,  -999.00, -999.000,9, -999.000, -999.000,9, -999.000,9, -999.000,9,   -999.0,9,   -999.0,9,-999.0000,-999,9,  -999.00,9,  -999.00,   -999.0,9,   -999.0,   1.5863,  27.7448
  49NZ20090410,   P21,    44,  1,      1, X12046,2,20090422,2112,-16.7518, -83.6677, 4714,   4753.5,2,   1.8261,2,   1.82602,2,  34.6896,2,  34.6897,6,   153.64,2,   154.07,2,   126.61,2,     0.40,    35.39,2,     0.13,     0.01,2,     0.01,    2.485,2,    0.016,    0.006,2,    0.000,2,    0.000,2,   2318.5,2,   2410.3,2,   7.5918,  25,2,  -999.00,9,  -999.00,   -999.0,9,   -999.0,   1.4109,  27.7676