BOTTLE,20220818CCHSIOAMB
EXPOCODE,SECT_ID,STNNBR,CASTNO,SAMPNO,BTLNBR,BTLNBR_FLAG_W,DATE,TIME,LATITUDE,LONGITUDE,DEPTH,CTDPRS,CTDPRS_FLAG_W,CTDTMP,CTDTMP_FLAG_W,SBE35,SBE35_FLAG_W,CTDSAL,CTDSAL_FLAG_W,SALNTY,SALNTY_FLAG_W,CTDOXY,CTDOXY_FLAG_W,OXYGEN,OXYGEN_FLAG_W,SILCAT,SILCAT_FLAG_W,SILUNC,NITRAT,NITRAT_FLAG_W,NRAUNC,NITRIT,NITRIT_FLAG_W,NRIUNC,PHSPHT,PHSPHT_FLAG_W,PHPUNC,CFC-11,CFC-11_FLAG_W,CFC-12,CFC-12_FLAG_W,CFC113,CFC113_FLAG_W,TCARBN,TCARBN_FLAG_W,ALKALI,ALKALI_FLAG_W,PH_TOT,PH_TMP,PH_TOT_FLAG_W,DELC13,DELC13_FLAG_W,C13ERR,DELC14,DELC14_FLAG_W,C14ERR,THETA,SIG0
,,,,,,,,,,,METERS,DBAR,,ITS-90,,ITS-90,,PSS-78,,PSS-78,,UMOL/KG,,UMOL/KG,,UMOL/KG,,UMOL/KG,UMOL/KG,,UMOL/KG,UMOL/KG,,UMOL/KG,UMOL/KG,,UMOL/KG,PMOL/KG,,PMOL/KG,,PMOL/KG,,UMOL/KG,,UMOL/KG,,,DEG C,,/MILLE,,/MILLE,/MILLE,,/MILLE,DEG C,KG/M^3
  49NZ20090410,   P21,   134,  1,     36, X12006,2,20090513,0418,-16.7552,-136.0070, 4497,     10.0,2,  27.9216,2,  27.92094,2,  36.3814,2,  36.3809,2,   198.10,2,   197.89,2,     0.81,2,     0.12,     0.28,2,     0.03,     0.02,2,     0.01,    0.270,2,    0.015,    1.437,2,    0.940,2, -999.000,5,   2030.8,2,   2401.1,2,   8.1312,  25,2,  -999.00,9,  -999.00,   -999.0,9,   -999.0,  27.9192,  23.4604
  49NZ20090410,   P21,   134,  1,     35, X12047,2,20090513,0418,-16.7552,-136.0070, 4497,     49.9,2,  27.8847,2,  27.88396,2,  36.3781,2,  36.3786,2,   197.67,2,   198.00,2,     0.82,2,     0.12,     0.26,2,     0.03,     0.02,2,     0.01,    0.271,2,    0.015,    1.450,2,    0.946,2, -999.000,5,   2030.9,6,   2400.8,2,   8.1308,  25,2,  -999.00,9,  -999.00,   -999.0,9,   -999.0,  27.8729,  23.4731
  49NZ20090410,   P21,   134,  1,     34, X12004,2,20090513,0418,-16.7552,-136.0070, 4497,     99.9,2,  24.5877,2,  24.59008,2,  36.4111,2,  36.4140,2,   197.31,2,   196.64,2,     0.78,2,     0.12,     0.23,2,     0.03,     0.07,2,     0.01,    0.313,2,    0.014,    1.699,6,    1.083,6, -999.000,5,   2071.0,2,   2398.6,6,   8.0660,  25,2,  -999.00,9,  -999.00,   -999.0,9,   -999.0,  24.5662,  24.5401
  49NZ20090410,   P21,   134,  1,     33, X12003,2,20090513,0418,-16.7552,-136.0070, 4497,    151.0,2,  23.6075,2,  23.60451,2,  36.3088,2,  36.3151,2,   193.93,2,   193.62,2,     0.70,2,     0.12,     0.20,2,     0.03,     0.96,2,     0.00,    0.303,2,    0.014,    1.765,2,    1.119,2, -999.000,5,   2073.5,2,   2389.8,2,   8.0499,  25,6,  -999.00,9,  -999.00,   -999.0,9,   -999.0,  23.5759,  24.7583
  49NZ20090410,   P21,   134,  1,     32, X12002,2,20090513,0418,-16.7552,-136.0070, 4497,    199.1,2,  21.7994,2,  21.80608,2,  36.0537,2,  36.0549,2,   184.10,2,   183.46,2,     0.77,2,     0.12,     2.47,2,     0.04,     0.06,2,     0.01,    0.418,2,    0.013,    1.945,2,    1.216,2,    0.140,2,   2091.5,2,   2373.4,2,   7.9970,  25,2,  -999.00,9,  -999.00,   -999.0,9,   -999.0,  21.7600,  25.0861
  49NZ20090410,   P21,   134,  1,     31, X12001,2,20090513,0418,-16.7552,-136.0070, 4497,    244.1,2,  19.9715,2,  19.96321,2,  35.7345,2,  35.7359,6,   185.56,2,   185.44,2,     0.85,2,     0.12,     3.43,2,     0.04,     0.02,2,     0.01,    0.481,2,    0.013,    2.120,2,    1.288,2,    0.053,2,   2094.1,2,   2353.9,2,   7.9656,  25,2,  -999.00,9,  -999.00,   -999.0,9,   -999.0,  19.9262,  25.3416
  49NZ20090410,   P21,   134,  1,     30, X12030,2,20090513,0418,-16.7552,-136.0070, 4497,    279.1,2,  17.6342,2,  17.62295,2,  35.3264,2,  35.3305,2,   184.41,2,   184.56,2,     1.13,2,     0.12,     4.83,2,     0.05,     0.02,2,     0.01,    0.544,2,    0.013,    2.345,2,    1.368,2,    0.033,2,   2090.4,2,   2325.2,2,   7.9265,  25,2,  -999.00,9,  -999.00,   -999.0,9,   -999.0,  17.5868,  25.6235
  49NZ20090410,   P21,   134,  1,     29, X12044,2,20090513,0418,-16.7552,-136.0070, 4497,    371.1,2,  11.5392,2,  11.53991,2,  34.6004,2,  34.6020,2,   158.35,2,   158.60,2,     6.21,2,     0.13,    16.40,2,     0.08,     0.01,2,     0.01,    1.367,2,    0.014,    2.308,2,    1.224,2,    0.040,2,   2141.6,2,   2284.5,2,   7.7395,  25,2,  -999.00,9,  -999.00,   -999.0,9,   -999.0,  11.4919,  26.3743
  49NZ20090410,   P21,   134,  1,     28, X12048,2,20090513,0418,-16.7552,-136.0070, 4497,    469.1,2,   8.0803,2,   8.07204,2,  34.4411,2,  34.4417,6,   116.41,2,   116.40,2,    16.64,2,     0.16,    29.84,2,     0.12,     0.01,2,     0.01,    2.221,2,    0.016,    0.949,2,    0.487,2,    0.014,2,   2209.1,2,   2282.5,2,   7.5576,  25,2,  -999.00,9,  -999.00,   -999.0,9,   -999.0,   8.0321,  26.8301
  49NZ20090410,   P21,   134,  1,     27, X12027,2,20090513,0418,-16.7552,-136.0070, 4497,    569.3,2,   6.3686,2,   6.37035,2,  34.4172,2,  34.4174,2,   136.58,2,   136.60,2,    24.95,2,     0.17,    32.73,2,     0.12,     0.01,2,     0.01,    2.299,2,    0.016,    0.370,6,    0.196,6,    0.000,6,   2213.2,2,   2292.2,2,   7.5727,  25,2,  -999.00,9,  -999.00,   -999.0,9,   -999.0,   6.3171,  27.0513
  49NZ20090410,   P21,   134,  1,     26, X12026,2,20090513,0418,-16.7552,-136.0070, 4497,    669.8,2,   5.6698,2,   5.67208,2,  34.4488,2,  34.4479,2,   121.86,2,   121.98,2,    37.54,2,     0.20,    35.54,2,     0.13,     0.01,2,     0.01,    2.483,2,    0.016,    0.098,2,    0.056,2,    0.000,2,   2234.8,6,   2306.1,2,   7.5464,  25,2,  -999.00,9,  -999.00,   -999.0,9,   -999.0,   5.6122,  27.1655
  49NZ20090410,   P21,   134,  1,     25, X12025,2,20090513,0418,-16.7552,-136.0070, 4497,    769.8,2,   5.2709,2,   5.27171,2,  34.4797,2,  34.4794,2,   109.42,2,   109.52,2,    48.46,2,     0.23,    37.23,2,     0.14,     0.01,2,     0.01,    2.608,2,    0.016,    0.027,2,    0.018,2,    0.000,2,   2253.4,2,   2317.3,6,   7.5254,  25,2,  -999.00,9,  -999.00,   -999.0,9,   -999.0,   5.2065,  27.2386
  49NZ20090410,   P21,   134,  1,     24, X12024,9,20090513,0418,-16.7552,-136.0070, 4497,    969.4,2,   4.4038,2,   4.40411,2,  34.5121,2,-999.0000,9,   104.94,2,  -999.00,9,  -999.00,9,  -999.00,  -999.00,9,  -999.00,  -999.00,9,  -999.00, -999.000,9, -999.000, -999.000,9, -999.000,9, -999.000,9,   -999.0,9,   -999.0,9,-999.0000,-999,9,  -999.00,9,  -999.00,   -999.0,9,   -999.0,   4.3277,  27.3634
  49NZ20090410,   P21,   134,  1,     23, X12028,2,20090513,0418,-16.7552,-136.0070, 4497,    968.3,2,   4.3966,2,   4.39678,2,  34.5125,2,  34.5131,6,   104.04,2,   104.14,2,    67.32,2,     0.27,    38.80,2,     0.14,     0.01,2,     0.01,    2.739,2,    0.017,    0.007,2,    0.003,2,    0.000,2,   2277.6,2,   2337.7,2,   7.5104,  25,2,  -999.00,9,  -999.00,   -999.0,9,   -999.0,   4.3206,  27.3645
  49NZ20090410,   P21,   134,  1,     22, X12022,2,20090513,0418,-16.7552,-136.0070, 4497,   1129.3,2,   3.8811,2,   3.88030,2,  34.5337,2,  34.5346,2,   108.86,2,   109.67,2,    77.97,2,     0.29,    38.58,2,     0.14,     0.01,2,     0.01,    2.737,2,    0.017,    0.005,2,    0.003,2,    0.000,2,   2286.6,2,   2348.9,2,   7.5170,  25,2,  -999.00,9,  -999.00,   -999.0,9,   -999.0,   3.7955,  27.4362
  49NZ20090410,   P21,   134,  1,     21, X12021,2,20090513,0418,-16.7552,-136.0070, 4497,   1330.5,2,   3.3417,2,   3.34191,2,  34.5568,2,  34.5569,2,   118.12,2,   118.30,2,    88.52,2,     0.31,    38.22,2,     0.14,     0.01,2,     0.01,    2.701,2,    0.017,    0.002,2,    0.000,2,    0.000,2,   2294.0,2,   2361.1,2,   7.5287,  25,2,  -999.00,9,  -999.00,   -999.0,9,   -999.0,   3.2443,  27.5085
  49NZ20090410,   P21,   134,  1,     20, X12020,2,20090513,0418,-16.7552,-136.0070, 4497,   1531.0,2,   2.7792,2,   2.78052,2,  34.5796,2,  34.5793,2,   141.41,2,   141.72,2,    95.24,2,     0.33,    36.41,2,     0.13,     0.01,2,     0.01,    2.557,2,    0.016,    0.002,2,    0.000,2,    0.000,2,   2289.4,2,   2369.1,2,   7.5654,  25,6,  -999.00,9,  -999.00,   -999.0,9,   -999.0,   2.6714,  27.5789
  49NZ20090410,   P21,   134,  1,     19, X12019,2,20090513,0418,-16.7552,-136.0070, 4497,   1731.3,2,   2.4127,2,   2.41284,2,  34.6074,2,  34.6073,2,   144.39,2,   144.81,2,   104.41,2,     0.35,    36.29,2,     0.13,     0.01,2,     0.01,    2.545,2,    0.016,    0.001,2,    0.000,2,    0.000,2,   2297.3,2,   2379.3,2,   7.5690,  25,2,  -999.00,9,  -999.00,   -999.0,9,   -999.0,   2.2928,  27.6334
  49NZ20090410,   P21,   134,  1,     18, X12043,2,20090513,0418,-16.7552,-136.0070, 4497,   1929.7,2,   2.1639,2,   2.16536,2,  34.6308,2,  34.6308,2,   147.49,2,   147.73,2,   111.06,2,     0.36,    36.09,2,     0.13,     0.01,2,     0.01,    2.525,2,    0.016,    0.000,2,    0.000,2,    0.000,2,   2302.9,2,   2387.8,2,   7.5767,  25,2,  -999.00,9,  -999.00,   -999.0,9,   -999.0,   2.0309,  27.6734
  49NZ20090410,   P21,   134,  1,     17, X12042,2,20090513,0418,-16.7552,-136.0070, 4497,   2130.8,2,   1.9856,2,   1.98564,2,  34.6488,2,  34.6489,6,   150.56,2,   150.80,2,   116.17,2,     0.37,    35.91,2,     0.13,     0.01,2,     0.01,    2.504,2,    0.016,    0.001,2,    0.000,2,    0.000,2,   2306.7,2,   2393.6,2,   7.5830,  25,2,  -999.00,9,  -999.00,   -999.0,9,   -999.0,   1.8382,  27.7030
  49NZ20090410,   P21,   134,  1,     16, X12016,2,20090513,0418,-16.7552,-136.0070, 4497,   2331.3,2,   1.8805,2,   1.88055,2,  34.6584,2,  34.6580,2,   153.86,2,   154.12,2,   118.96,2,     0.38,    35.60,2,     0.13,     0.01,2,     0.01,    2.490,2,    0.016,    0.000,2,    0.000,2,    0.000,2,   2307.1,6,   2395.4,2,   7.5895,  25,2,  -999.00,9,  -999.00,   -999.0,9,   -999.0,   1.7175,  27.7198
  49NZ20090410,   P21,   134,  1,     15, X12015,2,20090513,0418,-16.7552,-136.0070, 4497,   2530.8,2,   1.8091,2,   1.80928,2,  34.6664,2,  34.6660,2,   154.37,2,   154.60,2,   122.00,2,     0.39,    35.53,2,     0.13,     0.01,2,     0.01,    2.484,2,    0.016,    0.000,2,    0.000,2,    0.000,2,   2311.3,2,   2401.0,6,   7.5922,  25,2,  -999.00,9,  -999.00,   -999.0,9,   -999.0,   1.6295,  27.7329
  49NZ20090410,   P21,   134,  1,     14, X12050,2,20090513,0418,-16.7552,-136.0070, 4497,   2730.4,2,   1.7628,2,   1.76287,2,  34.6721,2,  34.6718,2,   154.06,2,   154.33,2,   125.21,2,     0.39,    35.71,2,     0.13,     0.01,2,     0.01,    2.489,2,    0.016,    0.000,2,    0.000,2,    0.000,2,   2314.8,2,   2406.0,2,   7.5942,  25,6,  -999.00,9,  -999.00,   -999.0,9,   -999.0,   1.5658,  27.7422
  49NZ20090410,   P21,   134,  1,     13, X12013,7,20090513,0418,-16.7552,-136.0070, 4497,   2931.1,2,   1.7159,2,   1.71596,2,  34.6761,2,  34.6765,2,   156.06,2,   156.32,2,   126.42,2,     0.40,    35.52,2,     0.13,     0.01,2,     0.01,    2.480,2,    0.016,    0.000,2,    0.000,2,    0.000,2,   2314.7,2,   2406.9,2,   7.5987,  25,2,  -999.00,9,  -999.00,   -999.0,9,   -999.0,   1.5010,  27.7502
  49NZ20090410,   P21,   134,  1,     12, X12012,2,20090513,0418,-16.7552,-136.0070, 4497,   3169.3,2,   1.6753,2,   1.67530,2,  34.6792,2,  34.6787,2,   159.04,2,   159.27,2,   126.84,2,     0.40,    35.46,2,     0.13,     0.01,2,     0.01,    2.468,2,    0.016,    0.000,2,    0.000,2,    0.000,2,   2313.5,2,   2407.6,2,   7.6011,  25,2,  -999.00,9,  -999.00,   -999.0,9,   -999.0,   1.4381,  27.7572
  49NZ20090410,   P21,   134,  1,     11, X12041,2,20090513,0418,-16.7552,-136.0070, 4497,   3420.9,2,   1.6333,2,   1.63348,2,  34.6834,2,  34.6830,6,   159.56,2,   159.70,2,   129.44,2,     0.40,    35.38,2,     0.13,     0.01,2,     0.01,    2.468,2,    0.016,    0.001,2,    0.000,2,    0.000,2,   2315.6,2,   2411.1,2,   7.6053,  25,2,  -999.00,9,  -999.00,   -999.0,9,   -999.0,   1.3719,  27.7653
  49NZ20090410,   P21,   134,  1,     10, X12040,2,20090513,0418,-16.7552,-136.0070, 4497,   3670.4,2,   1.6042,2,   1.60424,2,  34.6858,2,  34.6856,2,   161.84,2,   162.03,2,   129.59,2,     0.40,    35.33,2,     0.13,     0.01,2,     0.01,    2.460,2,    0.016,    0.003,2,    0.000,2,    0.000,2,   2314.5,2,   2410.1,2,   7.6082,  25,2,  -999.00,9,  -999.00,   -999.0,9,   -999.0,   1.3177,  27.7711
  49NZ20090410,   P21,   134,  1,      9, X12009,2,20090513,0418,-16.7552,-136.0070, 4497,   3920.8,2,   1.5632,2,   1.56332,2,  34.6888,2,  34.6885,2,   166.21,2,   166.41,2,   128.30,2,     0.40,    34.98,2,     0.13,     0.01,2,     0.01,    2.435,2,    0.016,    0.000,2,    0.001,2,    0.000,2,   2310.9,2,   2407.4,2,   7.6113,  25,2,  -999.00,9,  -999.00,   -999.0,9,   -999.0,   1.2511,  27.7782
  49NZ20090410,   P21,   134,  1,      8, X12008,2,20090513,0418,-16.7552,-136.0070, 4497,   4170.4,2,   1.5411,2,   1.54106,2,  34.6907,2,  34.6905,2,   169.30,2,   169.44,2,   127.54,2,     0.40,    34.83,2,     0.13,     0.01,2,     0.01,    2.423,2,    0.016,    0.000,2,    0.000,2,    0.000,2,   2307.3,6,   2404.9,2,   7.6128,  25,2,  -999.00,9,  -999.00,   -999.0,9,   -999.0,   1.2022,  27.7831
  49NZ20090410,   P21,   134,  1,      7, X12007,2,20090513,0418,-16.7552,-136.0070, 4497,   4419.7,2,   1.5465,2,   1.54651,2,  34.6916,2,  34.6911,2,   171.00,2,   171.20,2,   126.85,2,     0.40,    34.69,2,     0.13,     0.01,2,     0.01,    2.411,2,    0.016,    0.000,2,    0.000,2,    0.000,2,   2304.5,2,   2403.3,6,   7.6131,  25,2,  -999.00,9,  -999.00,   -999.0,9,   -999.0,   1.1793,  27.7854
  49NZ20090410,   P21,   134,  1,      6, X12035,2,20090513,0418,-16.7552,-136.0070, 4497,    870.1,2,   4.8289,2,   4.83033,2,  34.4972,2,  34.4975,2,   103.68,2,   103.72,2,    58.56,2,     0.25,    38.38,2,     0.14,     0.01,2,     0.01,    2.708,2,    0.017,    0.008,2,    0.006,2,    0.000,2,   2268.4,2,   2327.8,2,   7.5116,  25,6,  -999.00,9,  -999.00,   -999.0,9,   -999.0,   4.7584,  27.3042
  49NZ20090410,   P21,   134,  1,      5, X12038,9,20090513,0418,-16.7552,-136.0070, 4497,     50.1,2,  27.8854,2,  27.88493,2,  36.3782,2,-999.0000,9,   197.76,2,  -999.00,9,  -999.00,9,  -999.00,  -999.00,9,  -999.00,  -999.00,9,  -999.00, -999.000,9, -999.000, -999.000,9, -999.000,9, -999.000,9,   -999.0,9,   -999.0,9,-999.0000,-999,9,  -999.00,9,  -999.00,   -999.0,9,   -999.0,  27.8736,  23.4730
  49NZ20090410,   P21,   134,  1,      4, X12034,9,20090513,0418,-16.7552,-136.0070, 4497,     99.6,2,  24.5918,2,  24.59261,2,  36.4132,2,-999.0000,9,   197.17,2,  -999.00,9,  -999.00,9,  -999.00,  -999.00,9,  -999.00,  -999.00,9,  -999.00, -999.000,9, -999.000, -999.000,9, -999.000,9, -999.000,9,   -999.0,9,   -999.0,9,-999.0000,-999,9,  -999.00,9,  -999.00,   -999.0,9,   -999.0,  24.5703,  24.5404
  49NZ20090410,   P21,   134,  1,      3, X12033,9,20090513,0418,-16.7552,-136.0070, 4497,    150.6,2,  23.6189,2,  23.61710,2,  36.3113,2,-999.0000,9,   193.81,2,  -999.00,9,  -999.00,9,  -999.00,  -999.00,9,  -999.00,  -999.00,9,  -999.00, -999.000,9, -999.000, -999.000,9, -999.000,9, -999.000,9,   -999.0,9,   -999.0,9,-999.0000,-999,9,  -999.00,9,  -999.00,   -999.0,9,   -999.0,  23.5874,  24.7568
  49NZ20090410,   P21,   134,  1,      2, X12032,9,20090513,0418,-16.7552,-136.0070, 4497,    279.4,2,  17.6065,2,  17.59619,2,  35.3210,2,-999.0000,9,   184.80,2,  -999.00,9,  -999.00,9,  -999.00,  -999.00,9,  -999.00,  -999.00,9,  -999.00, -999.000,9, -999.000, -999.000,9, -999.000,9, -999.000,9,   -999.0,9,   -999.0,9,-999.0000,-999,9,  -999.00,9,  -999.00,   -999.0,9,   -999.0,  17.5591,  25.6260
  49NZ20090410,   P21,   134,  1,      1, X12046,2,20090513,0418,-16.7552,-136.0070, 4497,   4546.5,2,   1.5593,2,   1.55935,2,  34.6918,2,  34.6916,6,   171.25,2,   171.46,2,   126.60,2,     0.40,    34.78,2,     0.13,     0.01,2,     0.01,    2.413,2,    0.016,    0.000,2,    0.000,2,    0.000,2,   2304.9,2,   2402.9,2,   7.6130,  25,2,  -999.00,9,  -999.00,   -999.0,9,   -999.0,   1.1771,  27.7857