BOTTLE,20220818CCHSIOAMB
EXPOCODE,SECT_ID,STNNBR,CASTNO,SAMPNO,BTLNBR,BTLNBR_FLAG_W,DATE,TIME,LATITUDE,LONGITUDE,DEPTH,CTDPRS,CTDPRS_FLAG_W,CTDTMP,CTDTMP_FLAG_W,SBE35,SBE35_FLAG_W,CTDSAL,CTDSAL_FLAG_W,SALNTY,SALNTY_FLAG_W,CTDOXY,CTDOXY_FLAG_W,OXYGEN,OXYGEN_FLAG_W,SILCAT,SILCAT_FLAG_W,SILUNC,NITRAT,NITRAT_FLAG_W,NRAUNC,NITRIT,NITRIT_FLAG_W,NRIUNC,PHSPHT,PHSPHT_FLAG_W,PHPUNC,CFC-11,CFC-11_FLAG_W,CFC-12,CFC-12_FLAG_W,CFC113,CFC113_FLAG_W,TCARBN,TCARBN_FLAG_W,ALKALI,ALKALI_FLAG_W,PH_TOT,PH_TMP,PH_TOT_FLAG_W,DELC13,DELC13_FLAG_W,C13ERR,DELC14,DELC14_FLAG_W,C14ERR,THETA,SIG0
,,,,,,,,,,,METERS,DBAR,,ITS-90,,ITS-90,,PSS-78,,PSS-78,,UMOL/KG,,UMOL/KG,,UMOL/KG,,UMOL/KG,UMOL/KG,,UMOL/KG,UMOL/KG,,UMOL/KG,UMOL/KG,,UMOL/KG,PMOL/KG,,PMOL/KG,,PMOL/KG,,UMOL/KG,,UMOL/KG,,,DEG C,,/MILLE,,/MILLE,/MILLE,,/MILLE,DEG C,KG/M^3
  49NZ20090410,   P21,   151,  1,     36, X12006,2,20090516,1230,-17.4958,-145.5028, 1484,      9.1,2,  27.9951,2,  27.99516,2,  36.3223,2,  36.3224,2,   195.61,2,   196.28,2,     0.83,2,     0.12,     0.09,2,     0.03,     0.01,2,     0.01,    0.256,2,    0.015,    1.442,2,    0.941,2, -999.000,5,   2027.2,2,   2393.0,2,   8.1258,  25,2,  -999.00,9,  -999.00,   -999.0,9,   -999.0,  27.9929,  23.3917
  49NZ20090410,   P21,   151,  1,     35, X12047,2,20090516,1230,-17.4958,-145.5028, 1484,     50.0,2,  28.0042,2,  28.00358,2,  36.3210,2,  36.3217,2,   195.38,2,   196.39,2,     0.81,2,     0.12,     0.08,2,     0.03,     0.01,2,     0.01,    0.269,2,    0.015,    1.442,2,    0.939,2, -999.000,5,   2028.3,6,   2391.3,2,   8.1269,  25,2,  -999.00,9,  -999.00,   -999.0,9,   -999.0,  27.9924,  23.3910
  49NZ20090410,   P21,   151,  1,     34, X12004,2,20090516,1230,-17.4958,-145.5028, 1484,    100.8,2,  25.8006,2,  25.81774,2,  36.4213,2,  36.4211,2,   194.71,2,   195.68,2,     0.75,2,     0.12,     0.27,2,     0.03,     0.16,2,     0.01,    0.314,2,    0.014,    1.639,6,    1.053,6, -999.000,5,   2062.5,2,   2399.2,6,   8.0811,  25,2,  -999.00,9,  -999.00,   -999.0,9,   -999.0,  25.7781,  24.1755
  49NZ20090410,   P21,   151,  1,     33, X12003,2,20090516,1230,-17.4958,-145.5028, 1484,    150.3,2,  23.7927,2,  23.79223,2,  36.2719,2,  36.2728,2,   185.14,2,   185.50,2,     0.65,2,     0.12,     1.01,2,     0.04,     0.61,2,     0.00,    0.356,2,    0.014,    1.785,2,    1.124,2, -999.000,5,   2075.7,2,   2385.6,2,   8.0424,  25,6,  -999.00,9,  -999.00,   -999.0,9,   -999.0,  23.7611,  24.6756
  49NZ20090410,   P21,   151,  1,     32, X12002,2,20090516,1230,-17.4958,-145.5028, 1484,    200.4,2,  22.5005,2,  22.50054,2,  36.0783,2,  36.0798,2,   181.01,2,   181.42,2,     0.63,2,     0.12,     2.22,2,     0.04,     0.06,2,     0.01,    0.395,2,    0.013,    1.908,2,    1.176,2,    0.140,2,   2080.5,2,   2373.9,2,   8.0156,  25,2,  -999.00,9,  -999.00,   -999.0,9,   -999.0,  22.4600,  24.9070
  49NZ20090410,   P21,   151,  1,     31, X12001,2,20090516,1230,-17.4958,-145.5028, 1484,    251.2,2,  19.9230,2,  19.93291,2,  35.6929,2,  35.6972,6,   180.22,2,   180.70,2,     0.87,2,     0.12,     3.79,2,     0.04,     0.01,2,     0.01,    0.489,2,    0.013,    2.164,2,    1.284,2,    0.055,2,   2091.5,2,   2349.7,2,   7.9647,  25,2,  -999.00,9,  -999.00,   -999.0,9,   -999.0,  19.8764,  25.3230
  49NZ20090410,   P21,   151,  1,     30, X12030,2,20090516,1230,-17.4958,-145.5028, 1484,    330.3,2,  14.8710,2,  14.87270,2,  34.9892,2,  34.9951,2,   166.92,2,   167.51,2,     3.62,2,     0.13,    10.49,2,     0.06,     0.01,2,     0.01,    0.964,2,    0.013,    2.342,2,    1.297,2,    0.042,2,   2117.8,2,   2307.2,2,   7.8403,  25,2,  -999.00,9,  -999.00,   -999.0,9,   -999.0,  14.8211,  26.0028
  49NZ20090410,   P21,   151,  1,     29, X12044,2,20090516,1230,-17.4958,-145.5028, 1484,    429.7,2,   9.7523,2,   9.74253,2,  34.5493,2,  34.5523,2,   134.46,2,   134.64,2,    12.94,2,     0.15,    23.71,2,     0.10,     0.01,2,     0.01,    1.836,2,    0.015,    1.451,2,    0.760,2,    0.022,2,   2180.3,2,   2288.3,2,   7.6503,  25,2,  -999.00,9,  -999.00,   -999.0,9,   -999.0,   9.7029,  26.6502
  49NZ20090410,   P21,   151,  1,     28, X12048,2,20090516,1230,-17.4958,-145.5028, 1484,    530.1,2,   7.6370,2,   7.63930,2,  34.4676,2,  34.4677,6,   129.56,2,   129.21,2,    21.58,2,     0.17,    29.84,2,     0.12,     0.01,2,     0.01,    2.176,2,    0.015,    0.721,2,    0.381,2,    0.012,2,   2205.9,2,   2291.2,2,   7.5887,  25,2,  -999.00,9,  -999.00,   -999.0,9,   -999.0,   7.5841,  26.9168
  49NZ20090410,   P21,   151,  1,     27, X12027,2,20090516,1230,-17.4958,-145.5028, 1484,    631.3,2,   6.2131,2,   6.21352,2,  34.4585,2,  34.4586,2,   136.56,2,   136.40,2,    33.35,2,     0.19,    32.61,2,     0.12,     0.01,2,     0.01,    2.308,2,    0.016,    0.301,6,    0.164,6,    0.000,6,   2220.2,2,   2304.4,2,   7.5823,  25,2,  -999.00,9,  -999.00,   -999.0,9,   -999.0,   6.1564,  27.1047
  49NZ20090410,   P21,   151,  1,     26, X12026,2,20090516,1230,-17.4958,-145.5028, 1484,    731.5,2,   5.4244,2,   5.42387,2,  34.4691,2,  34.4687,2,   138.32,2,   138.05,2,    44.20,2,     0.22,    33.93,2,     0.13,     0.01,2,     0.01,    2.381,2,    0.016,    0.147,2,    0.082,2,    0.000,2,   2232.5,6,   2315.5,2,   7.5781,  25,2,  -999.00,9,  -999.00,   -999.0,9,   -999.0,   5.3625,  27.2117
  49NZ20090410,   P21,   151,  1,     25, X12025,2,20090516,1230,-17.4958,-145.5028, 1484,    831.5,2,   4.9142,2,   4.91393,2,  34.4780,2,  34.4781,2,   139.53,2,   139.26,2,    51.99,2,     0.23,    34.45,2,     0.13,     0.00,2,     0.01,    2.422,2,    0.016,    0.094,2,    0.052,2,    0.000,2,   2242.6,2,   2322.5,6,   7.5754,  25,2,  -999.00,9,  -999.00,   -999.0,9,   -999.0,   4.8465,  27.2789
  49NZ20090410,   P21,   151,  1,     24, X12024,2,20090516,1230,-17.4958,-145.5028, 1484,    929.3,2,   4.1602,2,   4.16055,2,  34.5035,2,  34.5039,2,   140.57,2,   140.36,2,    65.43,2,     0.26,    35.25,2,     0.13,     0.01,2,     0.01,    2.476,2,    0.016,    0.040,2,    0.022,2,    0.000,2,   2256.3,2,   2336.5,2,   7.5711,  25,6,  -999.00,9,  -999.00,   -999.0,9,   -999.0,   4.0892,  27.3819
  49NZ20090410,   P21,   151,  1,     23, X12028,2,20090516,1230,-17.4958,-145.5028, 1484,   1070.8,2,   3.7328,2,   3.73270,2,  34.5237,2,  34.5243,6,   141.55,2,   141.31,2,    74.61,2,     0.28,    35.64,2,     0.13,     0.00,2,     0.01,    2.508,2,    0.016,    0.021,2,    0.011,2,    0.000,2,   2266.0,2,   2346.8,2,   7.5707,  25,2,  -999.00,9,  -999.00,   -999.0,9,   -999.0,   3.6534,  27.4425
  49NZ20090410,   P21,   151,  1,     22, X12022,2,20090516,1230,-17.4958,-145.5028, 1484,   1270.5,2,   3.3396,2,   3.33961,2,  34.5457,2,  34.5467,2,   142.82,2,   142.52,2,    83.09,2,     0.30,    35.94,2,     0.13,     0.01,2,     0.01,    2.521,2,    0.016,    0.013,2,    0.007,2,    0.000,2,   2275.2,2,   2355.1,2,   7.5713,  25,2,  -999.00,9,  -999.00,   -999.0,9,   -999.0,   3.2472,  27.4994
  49NZ20090410,   P21,   151,  1,     21, X12021,9,20090516,1230,-17.4958,-145.5028, 1484,   1500.0,2,   2.8221,2,   2.82194,2,  34.5786,2,-999.0000,9,   145.58,2,  -999.00,9,  -999.00,9,  -999.00,  -999.00,9,  -999.00,  -999.00,9,  -999.00, -999.000,9, -999.000, -999.000,9, -999.000,9, -999.000,9,   -999.0,9,   -999.0,9,-999.0000,-999,9,  -999.00,9,  -999.00,   -999.0,9,   -999.0,   2.7163,  27.5742
  49NZ20090410,   P21,   151,  1,     20, X12020,9,20090516,1230,-17.4958,-145.5028, 1484,      9.3,2,  27.9950,2,  27.99462,2,  36.3224,2,-999.0000,9,   195.64,2,  -999.00,9,  -999.00,9,  -999.00,  -999.00,9,  -999.00,  -999.00,9,  -999.00, -999.000,9, -999.000, -999.000,9, -999.000,9, -999.000,9,   -999.0,9,   -999.0,9,-999.0000,-999,9,  -999.00,9,  -999.00,   -999.0,9,   -999.0,  27.9928,  23.3919
  49NZ20090410,   P21,   151,  1,     19, X12019,9,20090516,1230,-17.4958,-145.5028, 1484,   1500.5,2,   2.8028,2,   2.80256,2,  34.5801,2,-999.0000,9,   145.75,2,  -999.00,9,  -999.00,9,  -999.00,  -999.00,9,  -999.00,  -999.00,9,  -999.00, -999.000,9, -999.000, -999.000,9, -999.000,9, -999.000,9,   -999.0,9,   -999.0,9,-999.0000,-999,9,  -999.00,9,  -999.00,   -999.0,9,   -999.0,   2.6972,  27.5771
  49NZ20090410,   P21,   151,  1,     18, X12043,9,20090516,1230,-17.4958,-145.5028, 1484,     49.8,2,  28.0041,2,  28.00341,2,  36.3212,2,-999.0000,9,   195.38,2,  -999.00,9,  -999.00,9,  -999.00,  -999.00,9,  -999.00,  -999.00,9,  -999.00, -999.000,9, -999.000, -999.000,9, -999.000,9, -999.000,9,   -999.0,9,   -999.0,9,-999.0000,-999,9,  -999.00,9,  -999.00,   -999.0,9,   -999.0,  27.9923,  23.3911
  49NZ20090410,   P21,   151,  1,     17, X12042,9,20090516,1230,-17.4958,-145.5028, 1484,    101.2,2,  25.7413,2,  25.72062,2,  36.4254,2,-999.0000,9,   194.86,2,  -999.00,9,  -999.00,9,  -999.00,  -999.00,9,  -999.00,  -999.00,9,  -999.00, -999.000,9, -999.000, -999.000,9, -999.000,9, -999.000,9,   -999.0,9,   -999.0,9,-999.0000,-999,9,  -999.00,9,  -999.00,   -999.0,9,   -999.0,  25.7188,  24.1971
  49NZ20090410,   P21,   151,  1,     16, X12016,9,20090516,1230,-17.4958,-145.5028, 1484,    149.7,2,  23.8040,2,  23.80200,2,  36.2729,2,-999.0000,9,   185.13,2,  -999.00,9,  -999.00,9,  -999.00,  -999.00,9,  -999.00,  -999.00,9,  -999.00, -999.000,9, -999.000, -999.000,9, -999.000,9, -999.000,9,   -999.0,9,   -999.0,9,-999.0000,-999,9,  -999.00,9,  -999.00,   -999.0,9,   -999.0,  23.7725,  24.6730
  49NZ20090410,   P21,   151,  1,     15, X12015,9,20090516,1230,-17.4958,-145.5028, 1484,    203.0,2,  22.4147,2,  22.40710,2,  36.0684,2,-999.0000,9,   181.31,2,  -999.00,9,  -999.00,9,  -999.00,  -999.00,9,  -999.00,  -999.00,9,  -999.00, -999.000,9, -999.000, -999.000,9, -999.000,9, -999.000,9,   -999.0,9,   -999.0,9,-999.0000,-999,9,  -999.00,9,  -999.00,   -999.0,9,   -999.0,  22.3738,  24.9241
  49NZ20090410,   P21,   151,  1,     14, X12050,9,20090516,1230,-17.4958,-145.5028, 1484,    250.9,2,  19.9557,2,  19.95652,2,  35.6971,2,-999.0000,9,   180.16,2,  -999.00,9,  -999.00,9,  -999.00,  -999.00,9,  -999.00,  -999.00,9,  -999.00, -999.000,9, -999.000, -999.000,9, -999.000,9, -999.000,9,   -999.0,9,   -999.0,9,-999.0000,-999,9,  -999.00,9,  -999.00,   -999.0,9,   -999.0,  19.9091,  25.3176
  49NZ20090410,   P21,   151,  1,     13, X12014,2,20090516,1230,-17.4958,-145.5028, 1484,   1500.4,2,   2.8204,2,   2.82257,2,  34.5786,2,  34.5793,2,   145.63,2,  -999.00,9,  -999.00,9,  -999.00,  -999.00,9,  -999.00,  -999.00,9,  -999.00, -999.000,9, -999.000, -999.000,9, -999.000,9, -999.000,9,   -999.0,9,   -999.0,9,-999.0000,-999,9,  -999.00,9,  -999.00,   -999.0,9,   -999.0,   2.7146,  27.5743
  49NZ20090410,   P21,   151,  1,     12, X12012,9,20090516,1230,-17.4958,-145.5028, 1484,    329.4,2,  14.8965,2,  14.89608,2,  34.9922,2,-999.0000,9,   166.91,2,  -999.00,9,  -999.00,9,  -999.00,  -999.00,9,  -999.00,  -999.00,9,  -999.00, -999.000,9, -999.000, -999.000,9, -999.000,9, -999.000,9,   -999.0,9,   -999.0,9,-999.0000,-999,9,  -999.00,9,  -999.00,   -999.0,9,   -999.0,  14.8466,  25.9996
  49NZ20090410,   P21,   151,  1,     11, X12041,9,20090516,1230,-17.4958,-145.5028, 1484,    430.0,2,   9.7693,2,   9.77509,2,  34.5501,2,-999.0000,9,   134.45,2,  -999.00,9,  -999.00,9,  -999.00,  -999.00,9,  -999.00,  -999.00,9,  -999.00, -999.000,9, -999.000, -999.000,9, -999.000,9, -999.000,9,   -999.0,9,   -999.0,9,-999.0000,-999,9,  -999.00,9,  -999.00,   -999.0,9,   -999.0,   9.7198,  26.6480
  49NZ20090410,   P21,   151,  1,     10, X12040,9,20090516,1230,-17.4958,-145.5028, 1484,    530.5,2,   7.6422,2,   7.64218,2,  34.4677,2,-999.0000,9,   129.42,2,  -999.00,9,  -999.00,9,  -999.00,  -999.00,9,  -999.00,  -999.00,9,  -999.00, -999.000,9, -999.000, -999.000,9, -999.000,9, -999.000,9,   -999.0,9,   -999.0,9,-999.0000,-999,9,  -999.00,9,  -999.00,   -999.0,9,   -999.0,   7.5892,  26.9162
  49NZ20090410,   P21,   151,  1,      9, X12009,9,20090516,1230,-17.4958,-145.5028, 1484,    630.5,2,   6.2161,2,   6.21610,2,  34.4585,2,-999.0000,9,   136.56,2,  -999.00,9,  -999.00,9,  -999.00,  -999.00,9,  -999.00,  -999.00,9,  -999.00, -999.000,9, -999.000, -999.000,9, -999.000,9, -999.000,9,   -999.0,9,   -999.0,9,-999.0000,-999,9,  -999.00,9,  -999.00,   -999.0,9,   -999.0,   6.1594,  27.1044
  49NZ20090410,   P21,   151,  1,      8, X12008,9,20090516,1230,-17.4958,-145.5028, 1484,    730.0,2,   5.4267,2,   5.42741,2,  34.4691,2,-999.0000,9,   138.35,2,  -999.00,9,  -999.00,9,  -999.00,  -999.00,9,  -999.00,  -999.00,9,  -999.00, -999.000,9, -999.000, -999.000,9, -999.000,9, -999.000,9,   -999.0,9,   -999.0,9,-999.0000,-999,9,  -999.00,9,  -999.00,   -999.0,9,   -999.0,   5.3650,  27.2114
  49NZ20090410,   P21,   151,  1,      7, X12007,9,20090516,1230,-17.4958,-145.5028, 1484,    831.2,2,   4.9146,2,   4.91444,2,  34.4780,2,-999.0000,9,   139.58,2,  -999.00,9,  -999.00,9,  -999.00,  -999.00,9,  -999.00,  -999.00,9,  -999.00, -999.000,9, -999.000, -999.000,9, -999.000,9, -999.000,9,   -999.0,9,   -999.0,9,-999.0000,-999,9,  -999.00,9,  -999.00,   -999.0,9,   -999.0,   4.8469,  27.2789
  49NZ20090410,   P21,   151,  1,      6, X12035,9,20090516,1230,-17.4958,-145.5028, 1484,    930.5,2,   4.1567,2,   4.15653,2,  34.5038,2,-999.0000,9,   140.61,2,  -999.00,9,  -999.00,9,  -999.00,  -999.00,9,  -999.00,  -999.00,9,  -999.00, -999.000,9, -999.000, -999.000,9, -999.000,9, -999.000,9,   -999.0,9,   -999.0,9,-999.0000,-999,9,  -999.00,9,  -999.00,   -999.0,9,   -999.0,   4.0857,  27.3825
  49NZ20090410,   P21,   151,  1,      5, X12038,9,20090516,1230,-17.4958,-145.5028, 1484,   1071.2,2,   3.7323,2,   3.73240,2,  34.5238,2,-999.0000,9,   141.56,2,  -999.00,9,  -999.00,9,  -999.00,  -999.00,9,  -999.00,  -999.00,9,  -999.00, -999.000,9, -999.000, -999.000,9, -999.000,9, -999.000,9,   -999.0,9,   -999.0,9,-999.0000,-999,9,  -999.00,9,  -999.00,   -999.0,9,   -999.0,   3.6529,  27.4426
  49NZ20090410,   P21,   151,  1,      4, X12034,9,20090516,1230,-17.4958,-145.5028, 1484,   1270.9,2,   3.3404,2,   3.34035,2,  34.5456,2,-999.0000,9,   142.80,2,  -999.00,9,  -999.00,9,  -999.00,  -999.00,9,  -999.00,  -999.00,9,  -999.00, -999.000,9, -999.000, -999.000,9, -999.000,9, -999.000,9,   -999.0,9,   -999.0,9,-999.0000,-999,9,  -999.00,9,  -999.00,   -999.0,9,   -999.0,   3.2480,  27.4993
  49NZ20090410,   P21,   151,  1,      3, X12033,9,20090516,1230,-17.4958,-145.5028, 1484,   1500.2,2,   2.8071,2,   2.80531,2,  34.5798,2,-999.0000,9,   145.74,2,  -999.00,9,  -999.00,9,  -999.00,  -999.00,9,  -999.00,  -999.00,9,  -999.00, -999.000,9, -999.000, -999.000,9, -999.000,9, -999.000,9,   -999.0,9,   -999.0,9,-999.0000,-999,9,  -999.00,9,  -999.00,   -999.0,9,   -999.0,   2.7015,  27.5765
  49NZ20090410,   P21,   151,  1,      2, X12032,9,20090516,1230,-17.4958,-145.5028, 1484,    930.8,2,   4.1588,2,   4.15920,2,  34.5037,2,-999.0000,9,   140.62,2,  -999.00,9,  -999.00,9,  -999.00,  -999.00,9,  -999.00,  -999.00,9,  -999.00, -999.000,9, -999.000, -999.000,9, -999.000,9, -999.000,9,   -999.0,9,   -999.0,9,-999.0000,-999,9,  -999.00,9,  -999.00,   -999.0,9,   -999.0,   4.0877,  27.3822
  49NZ20090410,   P21,   151,  1,      1, X12046,2,20090516,1230,-17.4958,-145.5028, 1484,   1501.7,2,   2.8051,2,   2.80362,2,  34.5799,2,  34.5796,6,   145.76,2,   145.37,2,    94.65,2,     0.33,    35.91,2,     0.13,     0.01,2,     0.01,    2.523,2,    0.016,    0.001,2,    0.001,2,    0.000,2,   2288.0,2,   2368.6,2,   7.5742,  25,2,  -999.00,9,  -999.00,   -999.0,9,   -999.0,   2.6994,  27.5767