BOTTLE,20220818CCHSIOAMB
EXPOCODE,SECT_ID,STNNBR,CASTNO,SAMPNO,BTLNBR,BTLNBR_FLAG_W,DATE,TIME,LATITUDE,LONGITUDE,DEPTH,CTDPRS,CTDPRS_FLAG_W,CTDTMP,CTDTMP_FLAG_W,SBE35,SBE35_FLAG_W,CTDSAL,CTDSAL_FLAG_W,SALNTY,SALNTY_FLAG_W,CTDOXY,CTDOXY_FLAG_W,OXYGEN,OXYGEN_FLAG_W,SILCAT,SILCAT_FLAG_W,SILUNC,NITRAT,NITRAT_FLAG_W,NRAUNC,NITRIT,NITRIT_FLAG_W,NRIUNC,PHSPHT,PHSPHT_FLAG_W,PHPUNC,CFC-11,CFC-11_FLAG_W,CFC-12,CFC-12_FLAG_W,CFC113,CFC113_FLAG_W,TCARBN,TCARBN_FLAG_W,ALKALI,ALKALI_FLAG_W,PH_TOT,PH_TMP,PH_TOT_FLAG_W,DELC13,DELC13_FLAG_W,C13ERR,DELC14,DELC14_FLAG_W,C14ERR,THETA,SIG0
,,,,,,,,,,,METERS,DBAR,,ITS-90,,ITS-90,,PSS-78,,PSS-78,,UMOL/KG,,UMOL/KG,,UMOL/KG,,UMOL/KG,UMOL/KG,,UMOL/KG,UMOL/KG,,UMOL/KG,UMOL/KG,,UMOL/KG,PMOL/KG,,PMOL/KG,,PMOL/KG,,UMOL/KG,,UMOL/KG,,,DEG C,,/MILLE,,/MILLE,/MILLE,,/MILLE,DEG C,KG/M^3
  49NZ20090410,   P21,   109,  1,     36, X12006,2,20090507,0623,-16.7508,-119.3358, 3547,      9.4,2,  26.6205,2,  26.62066,2,  36.3067,2,  36.3056,2,   202.85,2,   202.46,2,     0.41,2,     0.12,     1.25,2,     0.04,     0.03,2,     0.01,    0.379,2,    0.014,    1.490,2,    0.955,2,    0.169,4,   -999.0,9,   -999.0,9,-999.0000,-999,9,  -999.00,9,  -999.00,   -999.0,9,   -999.0,  26.6184,  23.8243
  49NZ20090410,   P21,   109,  1,     35, X12047,2,20090507,0623,-16.7508,-119.3358, 3547,     49.9,2,  26.5703,2,  26.56971,2,  36.4752,2,  36.4846,2,   202.94,2,   202.84,2,     0.60,2,     0.12,     0.50,2,     0.03,     0.02,2,     0.01,    0.332,2,    0.014,    1.497,2,    0.980,2,    0.159,4,   -999.0,9,   -999.0,9,-999.0000,-999,9,  -999.00,9,  -999.00,   -999.0,9,   -999.0,  26.5589,  23.9703
  49NZ20090410,   P21,   109,  1,     34, X12004,2,20090507,0623,-16.7508,-119.3358, 3547,     99.7,2,  23.5020,2,  23.50553,2,  36.3305,2,  36.3368,2,   211.03,2,   211.27,2,     0.50,2,     0.12,     0.17,2,     0.03,     0.03,2,     0.01,    0.303,2,    0.014,    1.776,6,    1.137,6, -999.000,5,   -999.0,9,   -999.0,9,-999.0000,-999,9,  -999.00,9,  -999.00,   -999.0,9,   -999.0,  23.4812,  24.8026
  49NZ20090410,   P21,   109,  1,     33, X12003,2,20090507,0623,-16.7508,-119.3358, 3547,    149.5,2,  22.3578,2,  22.36685,2,  36.2653,2,  36.2648,2,   206.22,2,   206.21,2,     0.46,2,     0.12,     0.07,2,     0.03,     0.17,2,     0.01,    0.258,2,    0.015,    1.824,2,    1.154,2, -999.000,5,   -999.0,9,   -999.0,9,-999.0000,-999,9,  -999.00,9,  -999.00,   -999.0,9,   -999.0,  22.3277,  25.0868
  49NZ20090410,   P21,   109,  1,     32, X12002,2,20090507,0623,-16.7508,-119.3358, 3547,    199.8,2,  20.6060,2,  20.61339,2,  35.9062,2,  35.9022,2,   199.78,2,   199.80,2,     0.36,2,     0.12,     1.51,2,     0.04,     0.10,2,     0.01,    0.365,2,    0.014,    2.010,2,    1.259,2,    0.187,2,   -999.0,9,   -999.0,9,-999.0000,-999,9,  -999.00,9,  -999.00,   -999.0,9,   -999.0,  20.5681,  25.3013
  49NZ20090410,   P21,   109,  1,     31, X12001,2,20090507,0623,-16.7508,-119.3358, 3547,    249.1,2,  18.1369,2,  18.13849,2,  35.4064,2,  35.3883,6,   195.14,2,   196.42,2,     0.60,2,     0.12,     3.30,2,     0.04,     0.02,2,     0.01,    0.452,2,    0.013,    2.269,2,    1.382,2,    0.065,2,   -999.0,9,   -999.0,9,-999.0000,-999,9,  -999.00,9,  -999.00,   -999.0,9,   -999.0,  18.0937,  25.5602
  49NZ20090410,   P21,   109,  1,     30, X12030,2,20090507,0623,-16.7508,-119.3358, 3547,    299.1,2,  13.5858,2,  13.58667,2,  34.7337,2,  34.7365,2,   154.39,2,   154.14,2,     4.20,2,     0.13,    12.96,2,     0.07,     0.02,2,     0.01,    1.205,2,    0.013,    2.446,2,    1.390,2,    0.059,2,   -999.0,9,   -999.0,9,-999.0000,-999,9,  -999.00,9,  -999.00,   -999.0,9,   -999.0,  13.5434,  26.0762
  49NZ20090410,   P21,   109,  1,     29, X12044,2,20090507,0623,-16.7508,-119.3358, 3547,    400.7,2,   9.1886,2,   9.18882,2,  34.5244,2,  34.5230,2,    61.49,2,    61.48,2,    19.40,2,     0.16,    31.06,2,     0.12,     0.02,2,     0.01,    2.494,2,    0.016,    0.749,2,    0.380,2,    0.009,2,   -999.0,9,   -999.0,9,-999.0000,-999,9,  -999.00,9,  -999.00,   -999.0,9,   -999.0,   9.1443,  26.7225
  49NZ20090410,   P21,   109,  1,     28, X12048,2,20090507,0623,-16.7508,-119.3358, 3547,    500.4,2,   7.3439,2,   7.34487,2,  34.4981,2,  34.4969,6,    80.73,2,    80.73,2,    26.62,2,     0.18,    35.67,2,     0.13,     0.01,2,     0.01,    2.546,2,    0.016,    0.212,2,    0.109,2,    0.000,2,   -999.0,9,   -999.0,9,-999.0000,-999,9,  -999.00,9,  -999.00,   -999.0,9,   -999.0,   7.2951,  26.9822
  49NZ20090410,   P21,   109,  1,     27, X12027,2,20090507,0623,-16.7508,-119.3358, 3547,    598.9,2,   6.5638,2,   6.56691,2,  34.5085,2,  34.5077,2,    71.57,2,    71.62,2,    36.02,2,     0.20,    38.63,2,     0.14,     0.01,2,     0.01,    2.702,2,    0.017,    0.032,6,    0.019,6,    0.000,6,   -999.0,9,   -999.0,9,-999.0000,-999,9,  -999.00,9,  -999.00,   -999.0,9,   -999.0,   6.5085,  27.0982
  49NZ20090410,   P21,   109,  1,     26, X12026,2,20090507,0623,-16.7508,-119.3358, 3547,    701.8,2,   5.8420,2,   5.84127,2,  34.4985,2,  34.4980,2,    74.52,2,    74.30,2,    44.78,2,     0.22,    39.99,2,     0.14,     0.01,2,     0.01,    2.809,2,    0.017,    0.007,2,    0.006,2,    0.000,2,   -999.0,9,   -999.0,9,-999.0000,-999,9,  -999.00,9,  -999.00,   -999.0,9,   -999.0,   5.7805,  27.1840
  49NZ20090410,   P21,   109,  1,     25, X12025,2,20090507,0623,-16.7508,-119.3358, 3547,    799.7,2,   5.3048,2,   5.30367,2,  34.5010,2,  34.5004,2,    72.78,2,    72.83,2,    53.48,2,     0.24,    41.06,2,     0.15,     0.01,2,     0.01,    2.897,2,    0.017,    0.001,2,    0.004,2,    0.000,2,   -999.0,9,   -999.0,9,-999.0000,-999,9,  -999.00,9,  -999.00,   -999.0,9,   -999.0,   5.2375,  27.2518
  49NZ20090410,   P21,   109,  1,     24, X12024,2,20090507,0623,-16.7508,-119.3358, 3547,    902.5,2,   4.8968,2,   4.89680,2,  34.5084,2,  34.5075,2,    73.42,2,    73.28,2,    61.28,2,     0.25,    41.55,2,     0.15,     0.01,2,     0.01,    2.948,2,    0.017,    0.000,2,    0.000,2,    0.000,2,   -999.0,9,   -999.0,9,-999.0000,-999,9,  -999.00,9,  -999.00,   -999.0,9,   -999.0,   4.8230,  27.3058
  49NZ20090410,   P21,   109,  1,     23, X12028,2,20090507,0623,-16.7508,-119.3358, 3547,   1000.3,2,   4.5668,2,   4.56692,2,  34.5160,2,  34.5157,6,    78.45,2,    78.46,2,    67.70,2,     0.27,    41.32,2,     0.15,     0.01,2,     0.01,    2.931,2,    0.017,    0.001,2,    0.002,2,    0.000,2,   -999.0,9,   -999.0,9,-999.0000,-999,9,  -999.00,9,  -999.00,   -999.0,9,   -999.0,   4.4867,  27.3493
  49NZ20090410,   P21,   109,  1,     22, X12022,2,20090507,0623,-16.7508,-119.3358, 3547,   1199.6,2,   3.7858,2,   3.78553,2,  34.5447,2,  34.5450,2,    90.04,2,    89.93,2,    84.45,2,     0.30,    40.53,2,     0.15,     0.01,2,     0.01,    2.906,2,    0.017,    0.002,2,    0.000,2,    0.000,2,   -999.0,9,   -999.0,9,-999.0000,-999,9,  -999.00,9,  -999.00,   -999.0,9,   -999.0,   3.6951,  27.4550
  49NZ20090410,   P21,   109,  1,     21, X12021,2,20090507,0623,-16.7508,-119.3358, 3547,   1400.9,2,   3.2403,2,   3.23968,2,  34.5716,2,  34.5716,2,    99.98,2,    99.96,2,    96.70,2,     0.33,    39.74,2,     0.14,     0.01,2,     0.01,    2.852,2,    0.017,    0.001,2,    0.000,2,    0.000,2,   -999.0,9,   -999.0,9,-999.0000,-999,9,  -999.00,9,  -999.00,   -999.0,9,   -999.0,   3.1381,  27.5304
  49NZ20090410,   P21,   109,  1,     20, X12020,2,20090507,0623,-16.7508,-119.3358, 3547,   1601.0,2,   2.8615,2,   2.86157,2,  34.5935,2,  34.5936,2,   110.26,2,   110.39,2,   105.29,2,     0.35,    38.93,2,     0.14,     0.01,2,     0.01,    2.791,2,    0.017,    0.000,2,    0.000,2,    0.000,2,   -999.0,9,   -999.0,9,-999.0000,-999,9,  -999.00,9,  -999.00,   -999.0,9,   -999.0,   2.7468,  27.5834
  49NZ20090410,   P21,   109,  1,     19, X12019,2,20090507,0623,-16.7508,-119.3358, 3547,   1800.1,2,   2.4901,2,   2.49008,2,  34.6176,2,  34.6174,6,   120.96,2,   121.30,2,   112.36,2,     0.37,    38.08,2,     0.14,     0.01,2,     0.01,    2.707,2,    0.017,    0.000,2,    0.000,2,    0.000,2,   -999.0,9,   -999.0,9,-999.0000,-999,9,  -999.00,9,  -999.00,   -999.0,9,   -999.0,   2.3634,  27.6357
  49NZ20090410,   P21,   109,  1,     18, X12043,2,20090507,0623,-16.7508,-119.3358, 3547,   2000.4,2,   2.1724,2,   2.17272,2,  34.6369,2,  34.6368,2,   139.39,2,   139.66,2,   114.09,2,     0.37,    36.59,2,     0.14,     0.01,2,     0.01,    2.588,2,    0.016,    0.000,2,    0.000,2,    0.000,2,   -999.0,9,   -999.0,9,-999.0000,-999,9,  -999.00,9,  -999.00,   -999.0,9,   -999.0,   2.0333,  27.6781
  49NZ20090410,   P21,   109,  1,     17, X12042,2,20090507,0623,-16.7508,-119.3358, 3547,   2199.3,2,   1.9853,2,   1.98486,2,  34.6527,2,  34.6516,2,   149.87,2,   149.72,2,   115.92,2,     0.37,    35.90,2,     0.13,     0.01,2,     0.01,    2.518,2,    0.016,    0.000,2,    0.000,2,    0.000,2,   -999.0,9,   -999.0,9,-999.0000,-999,9,  -999.00,9,  -999.00,   -999.0,9,   -999.0,   1.8320,  27.7066
  49NZ20090410,   P21,   109,  1,     16, X12016,2,20090507,0623,-16.7508,-119.3358, 3547,   2400.7,2,   1.8892,2,   1.88927,2,  34.6642,2,  34.6637,2,   152.36,2,   152.59,2,   119.76,2,     0.38,    35.68,2,     0.13,     0.01,2,     0.01,    2.494,2,    0.016,    0.000,2,    0.002,2,    0.000,2,   -999.0,9,   -999.0,9,-999.0000,-999,9,  -999.00,9,  -999.00,   -999.0,9,   -999.0,   1.7198,  27.7243
  49NZ20090410,   P21,   109,  1,     15, X12015,2,20090507,0623,-16.7508,-119.3358, 3547,   2600.2,2,   1.8318,2,   1.83188,2,  34.6702,2,  34.6700,6,   154.54,2,   154.60,2,   122.02,2,     0.39,    35.42,2,     0.13,     0.01,2,     0.01,    2.483,2,    0.016,    0.000,2,    0.000,2,    0.000,2,   -999.0,9,   -999.0,9,-999.0000,-999,9,  -999.00,9,  -999.00,   -999.0,9,   -999.0,   1.6455,  27.7348
  49NZ20090410,   P21,   109,  1,     14, X12050,2,20090507,0623,-16.7508,-119.3358, 3547,   2799.5,2,   1.7929,2,   1.79303,2,  34.6726,2,  34.6722,2,   157.72,2,   157.79,2,   122.38,2,     0.39,    35.35,2,     0.13,     0.01,2,     0.01,    2.479,2,    0.016,    0.000,2,    0.000,2,    0.000,2,   -999.0,9,   -999.0,9,-999.0000,-999,9,  -999.00,9,  -999.00,   -999.0,9,   -999.0,   1.5888,  27.7409
  49NZ20090410,   P21,   109,  1,     13, X12013,7,20090507,0623,-16.7508,-119.3358, 3547,   3000.4,2,   1.7522,2,   1.75216,2,  34.6755,2,  34.6762,2,   159.19,2,   159.32,2,   123.56,2,     0.39,    35.15,2,     0.13,     0.01,2,     0.01,    2.471,2,    0.016,    0.001,2,    0.002,2,    0.000,2,   -999.0,9,   -999.0,9,-999.0000,-999,9,  -999.00,9,  -999.00,   -999.0,9,   -999.0,   1.5298,  27.7476
  49NZ20090410,   P21,   109,  1,     12, X12012,2,20090507,0623,-16.7508,-119.3358, 3547,   3251.0,2,   1.7281,2,   1.72812,2,  34.6779,2,  34.6779,2,   160.38,2,   160.47,2,   124.82,2,     0.39,    35.19,2,     0.13,     0.01,2,     0.01,    2.479,2,    0.016,    0.000,2,    0.001,2,    0.000,2,   -999.0,9,   -999.0,9,-999.0000,-999,9,  -999.00,9,  -999.00,   -999.0,9,   -999.0,   1.4816,  27.7531
  49NZ20090410,   P21,   109,  1,     11, X12041,2,20090507,0623,-16.7508,-119.3358, 3547,   3499.7,2,   1.7078,2,   1.70782,2,  34.6805,2,  34.6798,2,   161.05,2,   161.09,2,   126.05,2,     0.40,    35.14,2,     0.13,     0.01,2,     0.01,    2.474,2,    0.016,    0.000,2,    0.000,2,    0.000,2,   -999.0,9,   -999.0,9,-999.0000,-999,9,  -999.00,9,  -999.00,   -999.0,9,   -999.0,   1.4365,  27.7583
  49NZ20090410,   P21,   109,  1,     10, X12040,9,20090507,0623,-16.7508,-119.3358, 3547,    200.1,2,  20.6141,2,  20.61243,2,  35.9077,2,-999.0000,9,   199.74,2,  -999.00,9,  -999.00,9,  -999.00,  -999.00,9,  -999.00,  -999.00,9,  -999.00, -999.000,9, -999.000, -999.000,9, -999.000,9, -999.000,9,   -999.0,9,   -999.0,9,-999.0000,-999,9,  -999.00,9,  -999.00,   -999.0,9,   -999.0,  20.5761,  25.3002
  49NZ20090410,   P21,   109,  1,      9, X12009,9,20090507,0623,-16.7508,-119.3358, 3547,   1199.6,2,   3.7866,2,   3.78518,2,  34.5448,2,-999.0000,9,    89.96,2,  -999.00,9,  -999.00,9,  -999.00,  -999.00,9,  -999.00,  -999.00,9,  -999.00, -999.000,9, -999.000, -999.000,9, -999.000,9, -999.000,9,   -999.0,9,   -999.0,9,-999.0000,-999,9,  -999.00,9,  -999.00,   -999.0,9,   -999.0,   3.6959,  27.4551
  49NZ20090410,   P21,   109,  1,      8, X12008,9,20090507,0623,-16.7508,-119.3358, 3547,   2000.4,2,   2.1729,2,   2.17293,2,  34.6368,2,-999.0000,9,   139.41,2,  -999.00,9,  -999.00,9,  -999.00,  -999.00,9,  -999.00,  -999.00,9,  -999.00, -999.000,9, -999.000, -999.000,9, -999.000,9, -999.000,9,   -999.0,9,   -999.0,9,-999.0000,-999,9,  -999.00,9,  -999.00,   -999.0,9,   -999.0,   2.0338,  27.6780
  49NZ20090410,   P21,   109,  1,      7, X12007,9,20090507,0623,-16.7508,-119.3358, 3547,   2198.8,2,   1.9876,2,   1.98786,2,  34.6524,2,-999.0000,9,   149.76,2,  -999.00,9,  -999.00,9,  -999.00,  -999.00,9,  -999.00,  -999.00,9,  -999.00, -999.000,9, -999.000, -999.000,9, -999.000,9, -999.000,9,   -999.0,9,   -999.0,9,-999.0000,-999,9,  -999.00,9,  -999.00,   -999.0,9,   -999.0,   1.8343,  27.7062
  49NZ20090410,   P21,   109,  1,      6, X12035,9,20090507,0623,-16.7508,-119.3358, 3547,   2401.1,2,   1.8891,2,   1.88911,2,  34.6641,2,-999.0000,9,   152.32,2,  -999.00,9,  -999.00,9,  -999.00,  -999.00,9,  -999.00,  -999.00,9,  -999.00, -999.000,9, -999.000, -999.000,9, -999.000,9, -999.000,9,   -999.0,9,   -999.0,9,-999.0000,-999,9,  -999.00,9,  -999.00,   -999.0,9,   -999.0,   1.7197,  27.7243
  49NZ20090410,   P21,   109,  1,      5, X12038,9,20090507,0623,-16.7508,-119.3358, 3547,   2600.2,2,   1.8318,2,   1.83190,2,  34.6703,2,-999.0000,9,   154.54,2,  -999.00,9,  -999.00,9,  -999.00,  -999.00,9,  -999.00,  -999.00,9,  -999.00, -999.000,9, -999.000, -999.000,9, -999.000,9, -999.000,9,   -999.0,9,   -999.0,9,-999.0000,-999,9,  -999.00,9,  -999.00,   -999.0,9,   -999.0,   1.6455,  27.7349
  49NZ20090410,   P21,   109,  1,      4, X12034,9,20090507,0623,-16.7508,-119.3358, 3547,   2800.0,2,   1.7929,2,   1.79289,2,  34.6726,2,-999.0000,9,   157.70,2,  -999.00,9,  -999.00,9,  -999.00,  -999.00,9,  -999.00,  -999.00,9,  -999.00, -999.000,9, -999.000, -999.000,9, -999.000,9, -999.000,9,   -999.0,9,   -999.0,9,-999.0000,-999,9,  -999.00,9,  -999.00,   -999.0,9,   -999.0,   1.5888,  27.7409
  49NZ20090410,   P21,   109,  1,      3, X12033,9,20090507,0623,-16.7508,-119.3358, 3547,   3000.9,2,   1.7526,2,   1.75261,2,  34.6755,2,-999.0000,9,   159.17,2,  -999.00,9,  -999.00,9,  -999.00,  -999.00,9,  -999.00,  -999.00,9,  -999.00, -999.000,9, -999.000, -999.000,9, -999.000,9, -999.000,9,   -999.0,9,   -999.0,9,-999.0000,-999,9,  -999.00,9,  -999.00,   -999.0,9,   -999.0,   1.5302,  27.7476
  49NZ20090410,   P21,   109,  1,      2, X12032,9,20090507,0623,-16.7508,-119.3358, 3547,    901.7,2,   4.8986,2,   4.89910,2,  34.5083,2,-999.0000,9,    73.44,2,  -999.00,9,  -999.00,9,  -999.00,  -999.00,9,  -999.00,  -999.00,9,  -999.00, -999.000,9, -999.000, -999.000,9, -999.000,9, -999.000,9,   -999.0,9,   -999.0,9,-999.0000,-999,9,  -999.00,9,  -999.00,   -999.0,9,   -999.0,   4.8248,  27.3055
  49NZ20090410,   P21,   109,  1,      1, X12046,2,20090507,0623,-16.7508,-119.3358, 3547,   3578.6,2,   1.7077,2,   1.70764,2,  34.6807,2,  34.6805,6,   161.25,2,   161.13,2,   126.51,2,     0.40,    35.18,2,     0.13,     0.01,2,     0.01,    2.480,2,    0.016,    0.000,2,    0.000,2,    0.000,2,   -999.0,9,   -999.0,9,-999.0000,-999,9,  -999.00,9,  -999.00,   -999.0,9,   -999.0,   1.4282,  27.7592