BOTTLE,20220818CCHSIOAMB
EXPOCODE,SECT_ID,STNNBR,CASTNO,SAMPNO,BTLNBR,BTLNBR_FLAG_W,DATE,TIME,LATITUDE,LONGITUDE,DEPTH,CTDPRS,CTDPRS_FLAG_W,CTDTMP,CTDTMP_FLAG_W,SBE35,SBE35_FLAG_W,CTDSAL,CTDSAL_FLAG_W,SALNTY,SALNTY_FLAG_W,CTDOXY,CTDOXY_FLAG_W,OXYGEN,OXYGEN_FLAG_W,SILCAT,SILCAT_FLAG_W,SILUNC,NITRAT,NITRAT_FLAG_W,NRAUNC,NITRIT,NITRIT_FLAG_W,NRIUNC,PHSPHT,PHSPHT_FLAG_W,PHPUNC,CFC-11,CFC-11_FLAG_W,CFC-12,CFC-12_FLAG_W,CFC113,CFC113_FLAG_W,TCARBN,TCARBN_FLAG_W,ALKALI,ALKALI_FLAG_W,PH_TOT,PH_TMP,PH_TOT_FLAG_W,DELC13,DELC13_FLAG_W,C13ERR,DELC14,DELC14_FLAG_W,C14ERR,THETA,SIG0
,,,,,,,,,,,METERS,DBAR,,ITS-90,,ITS-90,,PSS-78,,PSS-78,,UMOL/KG,,UMOL/KG,,UMOL/KG,,UMOL/KG,UMOL/KG,,UMOL/KG,UMOL/KG,,UMOL/KG,UMOL/KG,,UMOL/KG,PMOL/KG,,PMOL/KG,,PMOL/KG,,UMOL/KG,,UMOL/KG,,,DEG C,,/MILLE,,/MILLE,/MILLE,,/MILLE,DEG C,KG/M^3
  49NZ20090410,   P21,    80,  1,     36, X12006,2,20090501,1843,-16.7535,-105.3345, 2797,      9.5,2,  24.8617,2,  24.86092,2,  36.1717,2,  36.1729,2,   209.64,2,   209.16,2,     0.63,2,     0.12,     0.08,2,     0.03,     0.01,2,     0.01,    0.378,2,    0.014,    1.672,2,    1.064,2, -999.000,5,   -999.0,9,   -999.0,9,-999.0000,-999,9,  -999.00,9,  -999.00,   -999.0,9,   -999.0,  24.8596,  24.2698
  49NZ20090410,   P21,    80,  1,     35, X12047,2,20090501,1843,-16.7535,-105.3345, 2797,     49.3,2,  24.7901,2,  24.79137,2,  36.1650,2,  36.1513,2,   209.22,2,   207.62,3,     0.60,2,     0.12,     0.09,2,     0.03,     0.01,2,     0.01,    0.381,2,    0.013,    1.682,2,    1.069,2, -999.000,5,   -999.0,9,   -999.0,9,-999.0000,-999,9,  -999.00,9,  -999.00,   -999.0,9,   -999.0,  24.7794,  24.2892
  49NZ20090410,   P21,    80,  1,     34, X12004,2,20090501,1843,-16.7535,-105.3345, 2797,     99.6,2,  21.5299,2,  21.52897,2,  35.8485,2,  35.8501,2,   211.56,2,   211.33,2,     0.55,2,     0.12,     0.13,2,     0.03,     0.04,2,     0.01,    0.498,2,    0.013,    1.955,6,    1.222,6, -999.000,5,   -999.0,9,   -999.0,9,-999.0000,-999,9,  -999.00,9,  -999.00,   -999.0,9,   -999.0,  21.5104,  24.9995
  49NZ20090410,   P21,    80,  1,     33, X12003,2,20090501,1843,-16.7535,-105.3345, 2797,    150.3,2,  20.5836,2,  20.58528,2,  35.8357,2,  35.8323,2,   209.52,2,   210.45,2,     0.38,2,     0.12,     0.55,2,     0.03,     0.50,2,     0.00,    0.363,2,    0.014,    2.058,2,    1.285,2, -999.000,5,   -999.0,9,   -999.0,9,-999.0000,-999,9,  -999.00,9,  -999.00,   -999.0,9,   -999.0,  20.5551,  25.2510
  49NZ20090410,   P21,    80,  1,     32, X12002,2,20090501,1843,-16.7535,-105.3345, 2797,    199.2,2,  18.3932,2,  18.39528,2,  35.3875,2,  35.3861,2,   202.28,2,   203.17,2,     0.61,2,     0.12,     3.45,2,     0.04,     0.03,2,     0.01,    0.541,2,    0.013,    2.272,2,    1.405,2,    0.146,2,   -999.0,9,   -999.0,9,-999.0000,-999,9,  -999.00,9,  -999.00,   -999.0,9,   -999.0,  18.3584,  25.4798
  49NZ20090410,   P21,    80,  1,     31, X12001,2,20090501,1843,-16.7535,-105.3345, 2797,    249.5,2,  15.2516,2,  15.25484,2,  34.8596,2,  34.8566,6,   181.08,2,   180.95,2,     2.17,2,     0.12,     9.69,2,     0.06,     0.02,2,     0.01,    0.961,2,    0.013,    2.551,2,    1.512,2,    0.085,2,   -999.0,9,   -999.0,9,-999.0000,-999,9,  -999.00,9,  -999.00,   -999.0,9,   -999.0,  15.2134,  25.8166
  49NZ20090410,   P21,    80,  1,     30, X12030,2,20090501,1843,-16.7535,-105.3345, 2797,    300.3,2,  11.5477,2,  11.54618,2,  34.5191,2,  34.5218,2,    87.79,2,    84.93,2,    12.65,2,     0.15,    21.64,2,     0.09,     0.02,2,     0.01,    2.088,2,    0.015,    1.985,2,    1.073,2,    0.038,2,   -999.0,9,   -999.0,9,-999.0000,-999,9,  -999.00,9,  -999.00,   -999.0,9,   -999.0,  11.5095,  26.3078
  49NZ20090410,   P21,    80,  1,     29, X12044,2,20090501,1843,-16.7535,-105.3345, 2797,    400.8,2,   9.0960,2,   9.09992,2,  34.5840,2,  34.5830,2,    24.80,2,    25.90,2,    24.86,2,     0.17,    35.00,2,     0.13,     0.01,2,     0.01,    2.754,2,    0.017,    0.417,2,    0.212,2,    0.005,2,   -999.0,9,   -999.0,9,-999.0000,-999,9,  -999.00,9,  -999.00,   -999.0,9,   -999.0,   9.0519,  26.7840
  49NZ20090410,   P21,    80,  1,     28, X12048,2,20090501,1843,-16.7535,-105.3345, 2797,    499.9,2,   7.4039,2,   7.39271,2,  34.5231,2,  34.5234,6,    46.68,2,    45.62,2,    30.50,2,     0.19,    39.09,2,     0.14,     0.01,2,     0.01,    2.803,2,    0.017,    0.175,2,    0.090,2,    0.000,2,   -999.0,9,   -999.0,9,-999.0000,-999,9,  -999.00,9,  -999.00,   -999.0,9,   -999.0,   7.3549,  26.9933
  49NZ20090410,   P21,    80,  1,     27, X12027,2,20090501,1843,-16.7535,-105.3345, 2797,    598.5,2,   6.4700,2,   6.46905,2,  34.4940,2,  34.4927,2,    59.26,2,    59.51,2,    36.39,2,     0.20,    40.29,2,     0.15,     0.01,2,     0.01,    2.848,2,    0.017,    0.059,6,    0.034,6,    0.000,6,   -999.0,9,   -999.0,9,-999.0000,-999,9,  -999.00,9,  -999.00,   -999.0,9,   -999.0,   6.4152,  27.0991
  49NZ20090410,   P21,    80,  1,     26, X12026,2,20090501,1843,-16.7535,-105.3345, 2797,    702.6,2,   5.7171,2,   5.71752,2,  34.4963,2,  34.4930,2,    51.19,2,    53.26,2,    47.71,2,     0.22,    42.52,2,     0.15,     0.01,2,     0.01,    3.016,2,    0.017,    0.008,2,    0.005,2,    0.005,2,   -999.0,9,   -999.0,9,-999.0000,-999,9,  -999.00,9,  -999.00,   -999.0,9,   -999.0,   5.6562,  27.1976
  49NZ20090410,   P21,    80,  1,     25, X12025,2,20090501,1843,-16.7535,-105.3345, 2797,    799.6,2,   5.1367,2,   5.13533,2,  34.4985,2,  34.4985,2,    62.28,2,    62.14,2,    56.96,2,     0.24,    42.62,2,     0.15,     0.01,2,     0.01,    3.021,2,    0.018,    0.003,2,    0.002,2,    0.000,2,   -999.0,9,   -999.0,9,-999.0000,-999,9,  -999.00,9,  -999.00,   -999.0,9,   -999.0,   5.0704,  27.2695
  49NZ20090410,   P21,    80,  1,     24, X12024,2,20090501,1843,-16.7535,-105.3345, 2797,    900.6,2,   4.7745,2,   4.77489,2,  34.5098,2,  34.5097,2,    62.21,2,    62.19,2,    65.04,2,     0.26,    42.91,2,     0.15,     0.01,2,     0.01,    3.047,2,    0.018,    0.003,2,    0.002,2,    0.000,2,   -999.0,9,   -999.0,9,-999.0000,-999,9,  -999.00,9,  -999.00,   -999.0,9,   -999.0,   4.7017,  27.3206
  49NZ20090410,   P21,    80,  1,     23, X12028,2,20090501,1843,-16.7535,-105.3345, 2797,    999.8,2,   4.3311,2,   4.33054,2,  34.5253,2,  34.5254,6,    68.04,2,    67.91,2,    74.95,2,     0.28,    42.55,2,     0.15,     0.01,2,     0.01,    3.046,2,    0.018,    0.000,2,    0.003,2,    0.000,2,   -999.0,9,   -999.0,9,-999.0000,-999,9,  -999.00,9,  -999.00,   -999.0,9,   -999.0,   4.2529,  27.3819
  49NZ20090410,   P21,    80,  1,     22, X12022,2,20090501,1843,-16.7535,-105.3345, 2797,   1200.2,2,   3.6635,2,   3.66343,2,  34.5524,2,  34.5528,2,    79.25,2,    79.17,2,    90.11,2,     0.32,    41.67,2,     0.15,     0.01,2,     0.01,    3.008,2,    0.017,    0.000,2,    0.000,2,    0.000,2,   -999.0,9,   -999.0,9,-999.0000,-999,9,  -999.00,9,  -999.00,   -999.0,9,   -999.0,   3.5739,  27.4732
  49NZ20090410,   P21,    80,  1,     21, X12021,2,20090501,1843,-16.7535,-105.3345, 2797,   1402.3,2,   3.2081,2,   3.20836,2,  34.5764,2,  34.5770,2,    89.10,2,    89.35,2,   100.98,2,     0.34,    40.92,2,     0.15,     0.01,2,     0.01,    2.947,2,    0.017,    0.001,2,    0.001,2,    0.000,2,   -999.0,9,   -999.0,9,-999.0000,-999,9,  -999.00,9,  -999.00,   -999.0,9,   -999.0,   3.1061,  27.5372
  49NZ20090410,   P21,    80,  1,     20, X12020,2,20090501,1843,-16.7535,-105.3345, 2797,   1600.4,2,   2.7941,2,   2.79409,2,  34.6016,2,  34.6017,6,    99.70,2,    99.75,2,   110.88,2,     0.36,    40.08,2,     0.15,     0.02,2,     0.01,    2.878,2,    0.017,    0.000,2,    0.001,2,    0.000,2,   -999.0,9,   -999.0,9,-999.0000,-999,9,  -999.00,9,  -999.00,   -999.0,9,   -999.0,   2.6803,  27.5957
  49NZ20090410,   P21,    80,  1,     19, X12019,2,20090501,1843,-16.7535,-105.3345, 2797,   1801.5,2,   2.4703,2,   2.47036,2,  34.6214,2,  34.6219,2,   113.66,2,   113.89,2,   116.33,2,     0.37,    38.90,2,     0.14,     0.01,2,     0.01,    2.763,2,    0.017,    0.000,2,    0.000,2,    0.000,2,   -999.0,9,   -999.0,9,-999.0000,-999,9,  -999.00,9,  -999.00,   -999.0,9,   -999.0,   2.3438,  27.6404
  49NZ20090410,   P21,    80,  1,     18, X12043,2,20090501,1843,-16.7535,-105.3345, 2797,   2000.5,2,   2.1402,2,   2.14012,2,  34.6421,2,  34.6424,2,   133.55,2,   133.40,2,   118.18,2,     0.38,    37.09,2,     0.14,     0.01,2,     0.01,    2.621,2,    0.017, -999.000,9, -999.000,9, -999.000,9,   -999.0,9,   -999.0,9,-999.0000,-999,9,  -999.00,9,  -999.00,   -999.0,9,   -999.0,   2.0016,  27.6848
  49NZ20090410,   P21,    80,  1,     17, X12042,2,20090501,1843,-16.7535,-105.3345, 2797,   2200.7,2,   1.9669,2,   1.96680,2,  34.6562,2,  34.6562,6,   144.21,2,   144.12,2,   119.88,2,     0.38,    36.49,2,     0.13,     0.01,2,     0.01,    2.565,2,    0.016, -999.000,9, -999.000,9, -999.000,9,   -999.0,9,   -999.0,9,-999.0000,-999,9,  -999.00,9,  -999.00,   -999.0,9,   -999.0,   1.8138,  27.7108
  49NZ20090410,   P21,    80,  1,     16, X12016,2,20090501,1843,-16.7535,-105.3345, 2797,   2399.3,2,   1.8868,2,   1.88657,2,  34.6648,2,  34.6649,2,   147.69,2,   147.62,2,   121.89,2,     0.39,    36.17,2,     0.13,     0.01,2,     0.01,    2.539,2,    0.016,    0.000,2,    0.000,2,    0.000,2,   -999.0,9,   -999.0,9,-999.0000,-999,9,  -999.00,9,  -999.00,   -999.0,9,   -999.0,   1.7176,  27.7250
  49NZ20090410,   P21,    80,  1,     15, X12015,2,20090501,1843,-16.7535,-105.3345, 2797,   2599.4,2,   1.8521,2,   1.85183,2,  34.6698,2,  34.6698,2,   148.50,2,   148.39,2,   124.11,2,     0.39,    36.03,2,     0.13,     0.01,2,     0.01,    2.527,2,    0.016,    0.002,2,    0.000,2,    0.000,2,   -999.0,9,   -999.0,9,-999.0000,-999,9,  -999.00,9,  -999.00,   -999.0,9,   -999.0,   1.6655,  27.7330
  49NZ20090410,   P21,    80,  1,     14, X12050,2,20090501,1843,-16.7535,-105.3345, 2797,   2800.6,2,   1.8286,2,   1.82835,2,  34.6739,2,  34.6741,2,   147.32,2,   146.34,3,   127.08,2,     0.40,    36.25,2,     0.13,     0.01,2,     0.01,    2.537,2,    0.016,    0.000,2,    0.001,2,    0.000,2,   -999.0,9,   -999.0,9,-999.0000,-999,9,  -999.00,9,  -999.00,   -999.0,9,   -999.0,   1.6237,  27.7394
  49NZ20090410,   P21,    80,  1,     13, X12013,9,20090501,1843,-16.7535,-105.3345, 2797,      9.1,2,  24.8616,2,  24.86159,2,  36.1715,2,-999.0000,9,   209.69,2,  -999.00,9,  -999.00,9,  -999.00,  -999.00,9,  -999.00,  -999.00,9,  -999.00, -999.000,9, -999.000, -999.000,9, -999.000,9, -999.000,9,   -999.0,9,   -999.0,9,-999.0000,-999,9,  -999.00,9,  -999.00,   -999.0,9,   -999.0,  24.8596,  24.2697
  49NZ20090410,   P21,    80,  1,     12, X12012,9,20090501,1843,-16.7535,-105.3345, 2797,    899.9,2,   4.7649,2,   4.76459,2,  34.5100,2,-999.0000,9,    62.39,2,  -999.00,9,  -999.00,9,  -999.00,  -999.00,9,  -999.00,  -999.00,9,  -999.00, -999.000,9, -999.000, -999.000,9, -999.000,9, -999.000,9,   -999.0,9,   -999.0,9,-999.0000,-999,9,  -999.00,9,  -999.00,   -999.0,9,   -999.0,   4.6922,  27.3218
  49NZ20090410,   P21,    80,  1,     11, X12041,9,20090501,1843,-16.7535,-105.3345, 2797,   1000.9,2,   4.3282,2,   4.32841,2,  34.5256,2,-999.0000,9,    67.96,2,  -999.00,9,  -999.00,9,  -999.00,  -999.00,9,  -999.00,  -999.00,9,  -999.00, -999.000,9, -999.000, -999.000,9, -999.000,9, -999.000,9,   -999.0,9,   -999.0,9,-999.0000,-999,9,  -999.00,9,  -999.00,   -999.0,9,   -999.0,   4.2499,  27.3825
  49NZ20090410,   P21,    80,  1,     10, X12040,9,20090501,1843,-16.7535,-105.3345, 2797,   1200.0,2,   3.6618,2,   3.66249,2,  34.5526,2,-999.0000,9,    79.22,2,  -999.00,9,  -999.00,9,  -999.00,  -999.00,9,  -999.00,  -999.00,9,  -999.00, -999.000,9, -999.000, -999.000,9, -999.000,9, -999.000,9,   -999.0,9,   -999.0,9,-999.0000,-999,9,  -999.00,9,  -999.00,   -999.0,9,   -999.0,   3.5722,  27.4736
  49NZ20090410,   P21,    80,  1,      9, X12009,9,20090501,1843,-16.7535,-105.3345, 2797,   1402.4,2,   3.2079,2,   3.20755,2,  34.5764,2,-999.0000,9,    89.15,2,  -999.00,9,  -999.00,9,  -999.00,  -999.00,9,  -999.00,  -999.00,9,  -999.00, -999.000,9, -999.000, -999.000,9, -999.000,9, -999.000,9,   -999.0,9,   -999.0,9,-999.0000,-999,9,  -999.00,9,  -999.00,   -999.0,9,   -999.0,   3.1059,  27.5372
  49NZ20090410,   P21,    80,  1,      8, X12008,9,20090501,1843,-16.7535,-105.3345, 2797,   1600.4,2,   2.7948,2,   2.79477,2,  34.6016,2,-999.0000,9,    99.70,2,  -999.00,9,  -999.00,9,  -999.00,  -999.00,9,  -999.00,  -999.00,9,  -999.00, -999.000,9, -999.000, -999.000,9, -999.000,9, -999.000,9,   -999.0,9,   -999.0,9,-999.0000,-999,9,  -999.00,9,  -999.00,   -999.0,9,   -999.0,   2.6810,  27.5957
  49NZ20090410,   P21,    80,  1,      7, X12007,9,20090501,1843,-16.7535,-105.3345, 2797,   1802.3,2,   2.4692,2,   2.46935,2,  34.6214,2,-999.0000,9,   113.73,2,  -999.00,9,  -999.00,9,  -999.00,  -999.00,9,  -999.00,  -999.00,9,  -999.00, -999.000,9, -999.000, -999.000,9, -999.000,9, -999.000,9,   -999.0,9,   -999.0,9,-999.0000,-999,9,  -999.00,9,  -999.00,   -999.0,9,   -999.0,   2.3426,  27.6405
  49NZ20090410,   P21,    80,  1,      6, X12035,9,20090501,1843,-16.7535,-105.3345, 2797,   2001.1,2,   2.1397,2,   2.13980,2,  34.6422,2,-999.0000,9,   133.54,2,  -999.00,9,  -999.00,9,  -999.00,  -999.00,9,  -999.00,  -999.00,9,  -999.00, -999.000,9, -999.000, -999.000,9, -999.000,9, -999.000,9,   -999.0,9,   -999.0,9,-999.0000,-999,9,  -999.00,9,  -999.00,   -999.0,9,   -999.0,   2.0010,  27.6849
  49NZ20090410,   P21,    80,  1,      5, X12038,9,20090501,1843,-16.7535,-105.3345, 2797,   2200.2,2,   1.9670,2,   1.96691,2,  34.6563,2,-999.0000,9,   144.28,2,  -999.00,9,  -999.00,9,  -999.00,  -999.00,9,  -999.00,  -999.00,9,  -999.00, -999.000,9, -999.000, -999.000,9, -999.000,9, -999.000,9,   -999.0,9,   -999.0,9,-999.0000,-999,9,  -999.00,9,  -999.00,   -999.0,9,   -999.0,   1.8139,  27.7108
  49NZ20090410,   P21,    80,  1,      4, X12034,9,20090501,1843,-16.7535,-105.3345, 2797,   2399.8,2,   1.8869,2,   1.88676,2,  34.6648,2,-999.0000,9,   147.71,2,  -999.00,9,  -999.00,9,  -999.00,  -999.00,9,  -999.00,  -999.00,9,  -999.00, -999.000,9, -999.000, -999.000,9, -999.000,9, -999.000,9,   -999.0,9,   -999.0,9,-999.0000,-999,9,  -999.00,9,  -999.00,   -999.0,9,   -999.0,   1.7177,  27.7250
  49NZ20090410,   P21,    80,  1,      3, X12033,9,20090501,1843,-16.7535,-105.3345, 2797,   2600.3,2,   1.8527,2,   1.85256,2,  34.6698,2,-999.0000,9,   148.52,2,  -999.00,9,  -999.00,9,  -999.00,  -999.00,9,  -999.00,  -999.00,9,  -999.00, -999.000,9, -999.000, -999.000,9, -999.000,9, -999.000,9,   -999.0,9,   -999.0,9,-999.0000,-999,9,  -999.00,9,  -999.00,   -999.0,9,   -999.0,   1.6660,  27.7329
  49NZ20090410,   P21,    80,  1,      2, X12032,9,20090501,1843,-16.7535,-105.3345, 2797,   2800.4,2,   1.8286,2,   1.82859,2,  34.6740,2,-999.0000,9,   147.27,2,  -999.00,9,  -999.00,9,  -999.00,  -999.00,9,  -999.00,  -999.00,9,  -999.00, -999.000,9, -999.000, -999.000,9, -999.000,9, -999.000,9,   -999.0,9,   -999.0,9,-999.0000,-999,9,  -999.00,9,  -999.00,   -999.0,9,   -999.0,   1.6237,  27.7395
  49NZ20090410,   P21,    80,  1,      1, X12046,2,20090501,1843,-16.7535,-105.3345, 2797,   2913.1,2,   1.8232,2,   1.82290,2,  34.6754,2,  34.6754,6,   146.51,2,   146.54,2,   128.64,2,     0.40,    36.42,2,     0.13,     0.01,2,     0.01,    2.549,2,    0.016,    0.000,2,    0.002,2,    0.000,2,   -999.0,9,   -999.0,9,-999.0000,-999,9,  -999.00,9,  -999.00,   -999.0,9,   -999.0,   1.6077,  27.7418