BOTTLE,20220818CCHSIOAMB
EXPOCODE,SECT_ID,STNNBR,CASTNO,SAMPNO,BTLNBR,BTLNBR_FLAG_W,DATE,TIME,LATITUDE,LONGITUDE,DEPTH,CTDPRS,CTDPRS_FLAG_W,CTDTMP,CTDTMP_FLAG_W,SBE35,SBE35_FLAG_W,CTDSAL,CTDSAL_FLAG_W,SALNTY,SALNTY_FLAG_W,CTDOXY,CTDOXY_FLAG_W,OXYGEN,OXYGEN_FLAG_W,SILCAT,SILCAT_FLAG_W,SILUNC,NITRAT,NITRAT_FLAG_W,NRAUNC,NITRIT,NITRIT_FLAG_W,NRIUNC,PHSPHT,PHSPHT_FLAG_W,PHPUNC,CFC-11,CFC-11_FLAG_W,CFC-12,CFC-12_FLAG_W,CFC113,CFC113_FLAG_W,TCARBN,TCARBN_FLAG_W,ALKALI,ALKALI_FLAG_W,PH_TOT,PH_TMP,PH_TOT_FLAG_W,DELC13,DELC13_FLAG_W,C13ERR,DELC14,DELC14_FLAG_W,C14ERR,THETA,SIG0
,,,,,,,,,,,METERS,DBAR,,ITS-90,,ITS-90,,PSS-78,,PSS-78,,UMOL/KG,,UMOL/KG,,UMOL/KG,,UMOL/KG,UMOL/KG,,UMOL/KG,UMOL/KG,,UMOL/KG,UMOL/KG,,UMOL/KG,PMOL/KG,,PMOL/KG,,PMOL/KG,,UMOL/KG,,UMOL/KG,,,DEG C,,/MILLE,,/MILLE,/MILLE,,/MILLE,DEG C,KG/M^3
  49NZ20090410,   P21,    31,  1,     36, X12006,3,20090415,0157,-16.7452, -79.9963, 4444,     11.1,2,  24.8515,2,  24.85051,2,  35.3469,2,  35.3476,2,   209.57,2,   209.45,2,     4.74,2,     0.87,     0.07,2,     0.03,     0.04,2,     0.01,    0.564,2,    0.013,    1.633,2,    1.055,2, -999.000,5,   -999.0,9,   -999.0,9,-999.0000,-999,9,  -999.00,9,  -999.00,   -999.0,9,   -999.0,  24.8491,  23.6493
  49NZ20090410,   P21,    31,  1,     35, X12047,2,20090415,0157,-16.7452, -79.9963, 4444,     50.0,2,  19.7233,2,  19.71268,2,  35.2020,2,  35.2058,2,   251.32,2,   253.33,2,     6.06,2,     2.15,     0.76,2,     0.36,     0.01,2,     0.01,    0.542,2,    0.055,    2.234,2,    1.375,2, -999.000,5,   -999.0,9,   -999.0,9,-999.0000,-999,9,  -999.00,9,  -999.00,   -999.0,9,   -999.0,  19.7142,  24.9910
  49NZ20090410,   P21,    31,  1,     34, X12004,2,20090415,0157,-16.7452, -79.9963, 4444,     99.7,2,  15.9749,2,  15.98157,2,  34.8968,2,  34.9053,2,   189.27,2,   182.46,2,     7.74,2,     0.68,    13.09,2,     0.07,     0.07,2,     0.01,    1.367,2,    0.077,    2.440,6,    1.456,6,    0.195,6,   -999.0,9,   -999.0,9,-999.0000,-999,9,  -999.00,9,  -999.00,   -999.0,9,   -999.0,  15.9592,  25.6776
  49NZ20090410,   P21,    31,  1,     33, X12003,2,20090415,0157,-16.7452, -79.9963, 4444,    149.8,2,  12.6481,2,  12.59918,2,  34.6181,2,  34.6201,2,    61.68,2,    58.47,2,    16.65,2,     1.86,    23.84,2,     0.30,     0.03,2,     0.01,    2.456,2,    0.016,    1.969,2,    1.124,2,    0.070,2,   -999.0,9,   -999.0,9,-999.0000,-999,9,  -999.00,9,  -999.00,   -999.0,9,   -999.0,  12.6280,  26.1709
  49NZ20090410,   P21,    31,  1,     32, X12002,2,20090415,0157,-16.7452, -79.9963, 4444,    198.8,2,  12.1705,2,  12.17126,2,  34.8209,2,  34.8200,2,     1.23,2,     0.84,3,    30.29,2,     0.19,    20.84,2,     0.32,     0.68,2,     0.03,    2.819,2,    0.066,    0.756,2,    0.455,2,    0.024,2,   -999.0,9,   -999.0,9,-999.0000,-999,9,  -999.00,9,  -999.00,   -999.0,9,   -999.0,  12.1444,  26.4223
  49NZ20090410,   P21,    31,  1,     31, X12001,2,20090415,0157,-16.7452, -79.9963, 4444,    249.4,2,  11.2436,2,  11.24231,2,  34.7698,2,  34.7680,6,     1.31,2,     1.11,3,    30.30,2,     0.19,    26.92,2,     0.35,     1.25,2,     0.02,    2.830,2,    0.055,    0.481,2,    0.285,2,    0.012,2,   -999.0,9,   -999.0,9,-999.0000,-999,9,  -999.00,9,  -999.00,   -999.0,9,   -999.0,  11.2124,  26.5576
  49NZ20090410,   P21,    31,  1,     30, X12030,2,20090415,0157,-16.7452, -79.9963, 4444,    330.3,2,   9.7235,2,   9.72369,2,  34.6504,2,  34.6484,2,     6.64,2,     6.85,2,    32.01,2,     0.19,    35.11,2,     0.42,     0.02,2,     0.02,    2.951,2,    0.077,    0.369,2,    0.205,2,    0.000,2,   -999.0,9,   -999.0,9,-999.0000,-999,9,  -999.00,9,  -999.00,   -999.0,9,   -999.0,   9.6857,  26.7321
  49NZ20090410,   P21,    31,  1,     29, X12044,2,20090415,0157,-16.7452, -79.9963, 4444,    429.3,2,   8.1315,2,   8.13010,2,  34.5679,2,  34.5663,2,    21.12,2,    21.62,2,    30.72,2,     0.19,    39.27,2,     0.14,     0.01,2,     0.01,    2.903,2,    0.017,    0.226,2,    0.123,2,    0.000,2,   -999.0,9,   -999.0,9,-999.0000,-999,9,  -999.00,9,  -999.00,   -999.0,9,   -999.0,   8.0873,  26.9214
  49NZ20090410,   P21,    31,  1,     28, X12048,2,20090415,0157,-16.7452, -79.9963, 4444,    528.8,2,   6.9869,2,   6.98715,2,  34.5268,2,  34.5255,6,    38.08,2,    38.23,2,    36.18,2,     0.20,    41.19,2,     0.15,     0.01,2,     0.01,    2.930,2,    0.017,    0.069,2,    0.039,2,    0.000,2,   -999.0,9,   -999.0,9,-999.0000,-999,9,  -999.00,9,  -999.00,   -999.0,9,   -999.0,   6.9366,  27.0548
  49NZ20090410,   P21,    31,  1,     27, X12027,2,20090415,0157,-16.7452, -79.9963, 4444,    630.7,2,   6.2097,2,   6.21066,2,  34.5078,2,  34.5068,2,    37.16,2,    37.46,2,    44.04,2,     0.22,    43.25,2,     0.15,     0.01,2,     0.01,    3.063,2,    0.018,    0.019,6,    0.011,6,    0.000,6,   -999.0,9,   -999.0,9,-999.0000,-999,9,  -999.00,9,  -999.00,   -999.0,9,   -999.0,   6.1530,  27.1442
  49NZ20090410,   P21,    31,  1,     26, X12026,2,20090415,0157,-16.7452, -79.9963, 4444,    728.1,2,   5.5194,2,   5.51889,2,  34.4954,2,  34.4947,2,    45.68,2,    45.84,2,    51.94,2,     0.23,    43.66,2,     0.16,     0.01,2,     0.01,    3.099,2,    0.018,    0.005,2,    0.002,2,    0.000,2,   -999.0,9,   -999.0,9,-999.0000,-999,9,  -999.00,9,  -999.00,   -999.0,9,   -999.0,   5.4573,  27.2211
  49NZ20090410,   P21,    31,  1,     25, X12025,2,20090415,0157,-16.7452, -79.9963, 4444,    828.0,2,   5.0646,2,   5.06485,2,  34.5063,2,  34.5050,2,    46.89,2,    47.13,2,    61.11,2,     0.25,    44.20,2,     0.16,     0.01,2,     0.01,    3.143,2,    0.018,    0.001,2,    0.002,2,    0.000,2,   -999.0,9,   -999.0,9,-999.0000,-999,9,  -999.00,9,  -999.00,   -999.0,9,   -999.0,   4.9962,  27.2843
  49NZ20090410,   P21,    31,  1,     24, X12024,2,20090415,0157,-16.7452, -79.9963, 4444,    931.5,2,   4.6024,2,   4.60256,2,  34.5181,2,  34.5174,2,    52.78,2,    53.00,2,    71.35,2,     0.28,    43.69,2,     0.16,     0.01,2,     0.01,    3.162,2,    0.018,    0.001,2,    0.003,2,    0.000,2,   -999.0,9,   -999.0,9,-999.0000,-999,9,  -999.00,9,  -999.00,   -999.0,9,   -999.0,   4.5281,  27.3464
  49NZ20090410,   P21,    31,  1,     23, X12028,2,20090415,0157,-16.7452, -79.9963, 4444,   1069.4,2,   4.1188,2,   4.11899,2,  34.5381,2,  34.5374,6,    62.58,2,    62.73,2,    82.40,2,     0.30,    42.96,2,     0.15,     0.01,2,     0.01,    3.112,2,    0.018,    0.000,2,    0.000,2,    0.000,2,   -999.0,9,   -999.0,9,-999.0000,-999,9,  -999.00,9,  -999.00,   -999.0,9,   -999.0,   4.0363,  27.4150
  49NZ20090410,   P21,    31,  1,     22, X12022,2,20090415,0157,-16.7452, -79.9963, 4444,   1269.9,2,   3.5455,2,   3.54602,2,  34.5639,2,  34.5638,2,    74.44,2,    74.39,2,    96.39,2,     0.33,    41.78,2,     0.15,     0.01,2,     0.01,    3.044,2,    0.018,    0.000,2,    0.000,2,    0.000,2,   -999.0,9,   -999.0,9,-999.0000,-999,9,  -999.00,9,  -999.00,   -999.0,9,   -999.0,   3.4511,  27.4944
  49NZ20090410,   P21,    31,  1,     21, X12021,2,20090415,0157,-16.7452, -79.9963, 4444,   1471.5,2,   3.0403,2,   3.04082,2,  34.5854,2,  34.5848,2,    92.01,2,    91.38,2,   105.07,2,     0.35,    40.55,2,     0.15,     0.01,2,     0.01,    2.931,2,    0.017,    0.000,2,    0.000,2,    0.000,2,   -999.0,9,   -999.0,9,-999.0000,-999,9,  -999.00,9,  -999.00,   -999.0,9,   -999.0,   2.9344,  27.5601
  49NZ20090410,   P21,    31,  1,     20, X12020,2,20090415,0157,-16.7452, -79.9963, 4444,   1671.7,2,   2.6857,2,   2.68574,2,  34.6118,2,  34.6114,2,    95.81,2,    95.50,2,   117.50,2,     0.38,    40.13,2,     0.15,     0.01,2,     0.01,    2.898,2,    0.017,    0.000,2,    0.000,2,    0.000,2,   -999.0,9,   -999.0,9,-999.0000,-999,9,  -999.00,9,  -999.00,   -999.0,9,   -999.0,   2.5672,  27.6137
  49NZ20090410,   P21,    31,  1,     19, X12019,2,20090415,0157,-16.7452, -79.9963, 4444,   1869.8,2,   2.3819,2,   2.38190,2,  34.6302,2,  34.6301,2,   109.51,2,   108.99,2,   122.43,2,     0.39,    39.14,2,     0.14,     0.01,2,     0.01,    2.802,2,    0.017,    0.000,2,    0.000,2,    0.000,2,   -999.0,9,   -999.0,9,-999.0000,-999,9,  -999.00,9,  -999.00,   -999.0,9,   -999.0,   2.2508,  27.6551
  49NZ20090410,   P21,    31,  1,     18, X12043,2,20090415,0157,-16.7452, -79.9963, 4444,   2069.6,2,   2.1610,2,   2.16096,2,  34.6450,2,  34.6452,2,   122.29,2,   121.57,2,   124.48,2,     0.39,    37.90,2,     0.14,     0.01,2,     0.01,    2.715,2,    0.017, -999.000,9, -999.000,9, -999.000,9,   -999.0,9,   -999.0,9,-999.0000,-999,9,  -999.00,9,  -999.00,   -999.0,9,   -999.0,   2.0161,  27.6860
  49NZ20090410,   P21,    31,  1,     17, X12042,2,20090415,0157,-16.7452, -79.9963, 4444,   2269.6,2,   1.9927,2,   1.99243,2,  34.6568,2,  34.6565,6,   137.66,2,   137.40,2,   122.02,2,     0.39,    36.82,2,     0.14,     0.01,2,     0.01,    2.602,2,    0.016,    0.000,2,    0.000,2,    0.000,2,   -999.0,9,   -999.0,9,-999.0000,-999,9,  -999.00,9,  -999.00,   -999.0,9,   -999.0,   1.8332,  27.7098
  49NZ20090410,   P21,    31,  1,     16, X12016,2,20090415,0157,-16.7452, -79.9963, 4444,   2469.9,2,   1.8843,2,   1.88438,2,  34.6667,2,  34.6664,2,   145.09,2,   144.37,2,   122.69,2,     0.39,    36.15,2,     0.13,     0.01,2,     0.01,    2.554,2,    0.016, -999.000,9, -999.000,9, -999.000,9,   -999.0,9,   -999.0,9,-999.0000,-999,9,  -999.00,9,  -999.00,   -999.0,9,   -999.0,   1.7088,  27.7272
  49NZ20090410,   P21,    31,  1,     15, X12015,2,20090415,0157,-16.7452, -79.9963, 4444,   2670.8,2,   1.8190,2,   1.81932,2,  34.6738,2,  34.6737,2,   147.48,2,   146.60,2,   124.61,2,     0.39,    35.82,2,     0.13,     0.01,2,     0.01,    2.525,2,    0.016, -999.000,9, -999.000,9, -999.000,9,   -999.0,9,   -999.0,9,-999.0000,-999,9,  -999.00,9,  -999.00,   -999.0,9,   -999.0,   1.6264,  27.7391
  49NZ20090410,   P21,    31,  1,     14, X12050,2,20090415,0157,-16.7452, -79.9963, 4444,   2870.6,2,   1.7889,2,   1.78884,2,  34.6780,2,  34.6775,2,   143.85,2,   143.57,2,   129.94,2,     0.40,    36.12,2,     0.13,     0.01,2,     0.01,    2.553,2,    0.016,    0.000,2,    0.000,2,    0.000,2,   -999.0,9,   -999.0,9,-999.0000,-999,9,  -999.00,9,  -999.00,   -999.0,9,   -999.0,   1.5782,  27.7460
  49NZ20090410,   P21,    31,  1,     13, X12013,7,20090415,0157,-16.7452, -79.9963, 4444,   3080.4,2,   1.7789,2,   1.77889,2,  34.6803,2,  34.6795,2,   140.32,2,   140.31,2,   133.96,2,     0.41,    36.45,2,     0.13,     0.01,2,     0.01,    2.568,2,    0.016, -999.000,9, -999.000,9, -999.000,9,   -999.0,9,   -999.0,9,-999.0000,-999,9,  -999.00,9,  -999.00,   -999.0,9,   -999.0,   1.5481,  27.7501
  49NZ20090410,   P21,    31,  1,     12, X12012,2,20090415,0157,-16.7452, -79.9963, 4444,   3330.7,2,   1.7736,2,   1.77358,2,  34.6827,2,  34.6826,6,   141.95,2,   141.71,2,   133.89,2,     0.41,    36.28,2,     0.13,     0.01,2,     0.01,    2.563,2,    0.016, -999.000,9, -999.000,9, -999.000,9,   -999.0,9,   -999.0,9,-999.0000,-999,9,  -999.00,9,  -999.00,   -999.0,9,   -999.0,   1.5180,  27.7542
  49NZ20090410,   P21,    31,  1,     11, X12041,2,20090415,0157,-16.7452, -79.9963, 4444,   3580.0,2,   1.7587,2,   1.75866,2,  34.6857,2,  34.6850,2,   147.97,2,   147.70,2,   130.07,2,     0.41,    35.88,2,     0.13,     0.01,2,     0.01,    2.526,2,    0.016,    0.002,2,    0.000,2,    0.000,2,   -999.0,9,   -999.0,9,-999.0000,-999,9,  -999.00,9,  -999.00,   -999.0,9,   -999.0,   1.4777,  27.7596
  49NZ20090410,   P21,    31,  1,     10, X12040,2,20090415,0157,-16.7452, -79.9963, 4444,   3831.7,2,   1.7516,2,   1.75160,2,  34.6880,2,  34.6881,2,   153.92,2,   153.60,2,   125.88,2,     0.40,    35.40,2,     0.13,     0.01,2,     0.01,    2.492,2,    0.016, -999.000,9, -999.000,9, -999.000,9,   -999.0,9,   -999.0,9,-999.0000,-999,9,  -999.00,9,  -999.00,   -999.0,9,   -999.0,   1.4440,  27.7639
  49NZ20090410,   P21,    31,  1,      9, X12009,2,20090415,0157,-16.7452, -79.9963, 4444,   4079.4,2,   1.7538,2,   1.75370,2,  34.6894,2,  34.6905,2,   155.05,2,   154.80,2,   125.46,2,     0.40,    35.27,2,     0.13,     0.01,2,     0.01,    2.484,2,    0.016, -999.000,9, -999.000,9, -999.000,9,   -999.0,9,   -999.0,9,-999.0000,-999,9,  -999.00,9,  -999.00,   -999.0,9,   -999.0,   1.4189,  27.7668
  49NZ20090410,   P21,    31,  1,      8, X12008,2,20090415,0157,-16.7452, -79.9963, 4444,   4328.6,2,   1.7662,2,   1.76613,2,  34.6902,2,  34.6922,2,   155.14,2,   155.04,2,   125.71,2,     0.40,    35.15,2,     0.13,     0.01,2,     0.01,    2.486,2,    0.016,    0.006,2,    0.001,2,    0.000,2,   -999.0,9,   -999.0,9,-999.0000,-999,9,  -999.00,9,  -999.00,   -999.0,9,   -999.0,   1.4028,  27.7686
  49NZ20090410,   P21,    31,  1,      7, X12007,9,20090415,0157,-16.7452, -79.9963, 4444,     10.2,2,  24.8497,2,  24.84824,2,  35.3459,2,-999.0000,9,   209.23,2,  -999.00,9,  -999.00,9,  -999.00,  -999.00,9,  -999.00,  -999.00,9,  -999.00, -999.000,9, -999.000, -999.000,9, -999.000,9, -999.000,9,   -999.0,9,   -999.0,9,-999.0000,-999,9,  -999.00,9,  -999.00,   -999.0,9,   -999.0,  24.8475,  23.6490
  49NZ20090410,   P21,    31,  1,      6, X12035,9,20090415,0157,-16.7452, -79.9963, 4444,     49.9,2,  19.5258,2,  19.57419,2,  35.2016,2,-999.0000,9,   249.46,2,  -999.00,9,  -999.00,9,  -999.00,  -999.00,9,  -999.00,  -999.00,9,  -999.00, -999.000,9, -999.000, -999.000,9, -999.000,9, -999.000,9,   -999.0,9,   -999.0,9,-999.0000,-999,9,  -999.00,9,  -999.00,   -999.0,9,   -999.0,  19.5167,  25.0421
  49NZ20090410,   P21,    31,  1,      5, X12038,9,20090415,0157,-16.7452, -79.9963, 4444,     98.7,2,  15.8522,2,  15.82135,2,  34.8805,2,-999.0000,9,   182.24,2,  -999.00,9,  -999.00,9,  -999.00,  -999.00,9,  -999.00,  -999.00,9,  -999.00, -999.000,9, -999.000, -999.000,9, -999.000,9, -999.000,9,   -999.0,9,   -999.0,9,-999.0000,-999,9,  -999.00,9,  -999.00,   -999.0,9,   -999.0,  15.8367,  25.6929
  49NZ20090410,   P21,    31,  1,      4, X12034,9,20090415,0157,-16.7452, -79.9963, 4444,    150.1,2,  12.6642,2,  12.66071,2,  34.6128,2,-999.0000,9,    61.00,2,  -999.00,9,  -999.00,9,  -999.00,  -999.00,9,  -999.00,  -999.00,9,  -999.00, -999.000,9, -999.000, -999.000,9, -999.000,9, -999.000,9,   -999.0,9,   -999.0,9,-999.0000,-999,9,  -999.00,9,  -999.00,   -999.0,9,   -999.0,  12.6440,  26.1636
  49NZ20090410,   P21,    31,  1,      3, X12033,9,20090415,0157,-16.7452, -79.9963, 4444,    199.8,2,  12.2314,2,  12.23178,2,  34.8248,2,-999.0000,9,     1.18,2,  -999.00,9,  -999.00,9,  -999.00,  -999.00,9,  -999.00,  -999.00,9,  -999.00, -999.000,9, -999.000, -999.000,9, -999.000,9, -999.000,9,   -999.0,9,   -999.0,9,-999.0000,-999,9,  -999.00,9,  -999.00,   -999.0,9,   -999.0,  12.2050,  26.4137
  49NZ20090410,   P21,    31,  1,      2, X12032,2,20090415,0157,-16.7452, -79.9963, 4444,   4485.6,2,   1.7816,2,   1.78154,2,  34.6903,2,  34.6898,3,   154.74,2,   154.74,2,   126.23,2,     0.40,    35.25,2,     0.13,     0.01,2,     0.01,    2.488,2,    0.016, -999.000,9, -999.000,9, -999.000,9,   -999.0,9,   -999.0,9,-999.0000,-999,9,  -999.00,9,  -999.00,   -999.0,9,   -999.0,   1.3996,  27.7689
  49NZ20090410,   P21,    31,  1,      1, X12046,2,20090415,0157,-16.7452, -79.9963, 4444,   4485.3,2,   1.7816,2,   1.78154,2,  34.6902,2,  34.6907,2,   154.75,2,   154.75,2,   125.98,2,     0.40,    35.12,2,     0.13,     0.01,2,     0.01,    2.486,2,    0.016,    0.007,2,    0.001,2,    0.000,2,   -999.0,9,   -999.0,9,-999.0000,-999,9,  -999.00,9,  -999.00,   -999.0,9,   -999.0,   1.3996,  27.7689