BOTTLE,20220818CCHSIOAMB
EXPOCODE,SECT_ID,STNNBR,CASTNO,SAMPNO,BTLNBR,BTLNBR_FLAG_W,DATE,TIME,LATITUDE,LONGITUDE,DEPTH,CTDPRS,CTDPRS_FLAG_W,CTDTMP,CTDTMP_FLAG_W,SBE35,SBE35_FLAG_W,CTDSAL,CTDSAL_FLAG_W,SALNTY,SALNTY_FLAG_W,CTDOXY,CTDOXY_FLAG_W,OXYGEN,OXYGEN_FLAG_W,SILCAT,SILCAT_FLAG_W,SILUNC,NITRAT,NITRAT_FLAG_W,NRAUNC,NITRIT,NITRIT_FLAG_W,NRIUNC,PHSPHT,PHSPHT_FLAG_W,PHPUNC,CFC-11,CFC-11_FLAG_W,CFC-12,CFC-12_FLAG_W,CFC113,CFC113_FLAG_W,TCARBN,TCARBN_FLAG_W,ALKALI,ALKALI_FLAG_W,PH_TOT,PH_TMP,PH_TOT_FLAG_W,DELC13,DELC13_FLAG_W,C13ERR,DELC14,DELC14_FLAG_W,C14ERR,THETA,SIG0
,,,,,,,,,,,METERS,DBAR,,ITS-90,,ITS-90,,PSS-78,,PSS-78,,UMOL/KG,,UMOL/KG,,UMOL/KG,,UMOL/KG,UMOL/KG,,UMOL/KG,UMOL/KG,,UMOL/KG,UMOL/KG,,UMOL/KG,PMOL/KG,,PMOL/KG,,PMOL/KG,,UMOL/KG,,UMOL/KG,,,DEG C,,/MILLE,,/MILLE,/MILLE,,/MILLE,DEG C,KG/M^3
  49NZ20090410,   P21,   X19,  1,     36, X12006,2,20090424,0949,-16.8333, -86.3862, 4503,      9.6,2,  22.8391,2,  22.83966,2,  35.7469,2,  35.7474,2,   216.11,2,   216.32,2,     0.49,2,     0.12,     0.06,2,     0.03,     0.01,2,     0.01,    0.421,2,    0.013,    1.808,2,    1.145,2, -999.000,5,   2067.6,2,   2371.0,2,   8.0327,  25,6,  -999.00,1,  -999.00,   -999.0,1,   -999.0,  22.8371,  24.5472
  49NZ20090410,   P21,   X19,  1,     35, X12047,2,20090424,0949,-16.8333, -86.3862, 4503,     50.6,2,  20.5386,2,  20.53967,2,  35.5150,2,  35.5153,2,   237.59,2,   240.22,2,     0.31,2,     0.12,     0.05,2,     0.03,     0.01,2,     0.01,    0.373,2,    0.014,    2.132,2,    1.325,2, -999.000,5,   2061.9,6,   2354.2,2,   8.0159,  25,2,  -999.00,1,  -999.00,   -999.0,1,   -999.0,  20.5291,  25.0136
  49NZ20090410,   P21,   X19,  1,     34, X12004,2,20090424,0949,-16.8333, -86.3862, 4503,    100.1,2,  18.6366,2,  18.63660,2,  35.3067,2,  35.3097,2,   215.08,2,   214.25,2,     0.63,2,     0.12,     2.61,2,     0.04,     0.39,2,     0.01,    0.622,2,    0.013,    2.247,6,    1.394,6, -999.000,5,   2085.8,2,   2339.6,6,   7.9523,  25,2,  -999.00,1,  -999.00,   -999.0,1,   -999.0,  18.6190,  25.3524
  49NZ20090410,   P21,   X19,  1,     33, X12003,2,20090424,0949,-16.8333, -86.3862, 4503,    149.8,2,  15.3408,2,  15.34462,2,  34.7885,2,  34.7916,2,   191.06,2,   187.89,2,     1.98,2,     0.12,     9.93,2,     0.06,     0.03,2,     0.01,    1.031,2,    0.013,    2.589,2,    1.545,2,    0.133,2,   2111.8,2,   2302.0,2,   7.8353,  25,2,  -999.00,1,  -999.00,   -999.0,1,   -999.0,  15.3178,  25.7387
  49NZ20090410,   P21,   X19,  1,     32, X12002,2,20090424,0949,-16.8333, -86.3862, 4503,    199.7,2,  11.8342,2,  11.83428,2,  34.5016,2,  34.5008,2,    95.31,2,    93.30,2,    11.20,2,     0.14,    20.79,2,     0.09,     0.01,2,     0.01,    2.026,2,    0.015,    2.206,2,    1.207,2,    0.058,2,   2194.9,2,   2280.0,2,   7.5762,  25,2,  -999.00,1,  -999.00,   -999.0,1,   -999.0,  11.8085,  26.2383
  49NZ20090410,   P21,   X19,  1,     31, X12001,2,20090424,0949,-16.8333, -86.3862, 4503,    250.6,2,  10.8561,2,  10.85599,2,  34.6603,2,  34.6590,6,    14.40,2,    15.00,2,    22.57,2,     0.17,    27.34,2,     0.11,     0.01,2,     0.01,    2.698,2,    0.017,    0.856,2,    0.454,2,    0.012,2,   2266.2,2,   2292.6,2,   7.4045,  25,2,  -999.00,1,  -999.00,   -999.0,1,   -999.0,  10.8255,  26.5423
  49NZ20090410,   P21,   X19,  1,     30, X12030,2,20090424,0949,-16.8333, -86.3862, 4503,    301.1,2,   9.8214,2,   9.82192,2,  34.6300,2,  34.6290,2,    12.50,2,    12.66,2,    24.75,2,     0.17,    32.74,2,     0.12,     0.02,2,     0.01,    2.773,2,    0.017,    0.491,2,    0.255,2,    0.010,2,   2272.7,2,   2292.6,2,   7.3874,  25,2,  -999.00,1,  -999.00,   -999.0,1,   -999.0,   9.7868,  26.6991
  49NZ20090410,   P21,   X19,  1,     29, X12044,2,20090424,0949,-16.8333, -86.3862, 4503,    399.1,2,   8.3358,2,   8.33363,2,  34.5927,2,  34.5918,2,    21.33,2,    21.55,2,    30.33,2,     0.19,    38.65,2,     0.14,     0.01,2,     0.01,    2.826,2,    0.017,    0.132,2,    0.072,2,    0.000,2,   2275.1,2,   2297.9,2,   7.3957,  25,2,  -999.00,1,  -999.00,   -999.0,1,   -999.0,   8.2941,  26.9095
  49NZ20090410,   P21,   X19,  1,     28, X12048,2,20090424,0949,-16.8333, -86.3862, 4503,    499.7,2,   7.1860,2,   7.18736,2,  34.5439,2,  34.5432,6,    35.63,2,    35.82,2,    36.01,2,     0.20,    40.64,2,     0.15,     0.01,2,     0.01,    2.901,2,    0.017,    0.060,2,    0.029,2,    0.000,2,   2275.3,2,   2301.7,2,   7.4076,  25,2,  -999.00,1,  -999.00,   -999.0,1,   -999.0,   7.1378,  27.0403
  49NZ20090410,   P21,   X19,  1,     27, X12027,2,20090424,0949,-16.8333, -86.3862, 4503,    599.5,2,   6.4199,2,   6.42028,2,  34.5212,2,  34.5205,2,    40.99,2,    41.22,2,    42.51,2,     0.21,    42.10,2,     0.15,     0.01,2,     0.01,    2.985,2,    0.017,    0.015,6,    0.011,6,    0.000,6,   2280.8,2,   2308.0,2,   7.4075,  25,2,  -999.00,1,  -999.00,   -999.0,1,   -999.0,   6.3652,  27.1271
  49NZ20090410,   P21,   X19,  1,     26, X12026,2,20090424,0949,-16.8333, -86.3862, 4503,    701.8,2,   5.8137,2,   5.81290,2,  34.5049,2,  34.5048,2,    39.44,2,    39.76,2,    49.25,2,     0.23,    43.46,2,     0.15,     0.01,2,     0.01,    3.083,2,    0.018,    0.004,2,    0.003,2,    0.000,2,   2292.6,6,   2314.0,2,   7.3922,  25,2,  -999.00,1,  -999.00,   -999.0,1,   -999.0,   5.7524,  27.1925
  49NZ20090410,   P21,   X19,  1,     25, X12025,2,20090424,0949,-16.8333, -86.3862, 4503,    799.9,2,   5.2390,2,   5.23889,2,  34.5073,2,  34.5068,2,    41.15,2,    41.51,2,    59.18,2,     0.25,    44.21,2,     0.16,     0.01,2,     0.01,    3.164,2,    0.018,    0.003,2,    0.004,2,    0.000,2,   2303.2,2,   2324.6,6,   7.3894,  25,2,  -999.00,1,  -999.00,   -999.0,1,   -999.0,   5.1721,  27.2646
  49NZ20090410,   P21,   X19,  1,     24, X12024,2,20090424,0949,-16.8333, -86.3862, 4503,    899.2,2,   4.7569,2,   4.75684,2,  34.5144,2,  34.5141,2,    51.88,2,    52.09,2,    67.51,2,     0.27,    43.57,2,     0.15,     0.01,2,     0.01,    3.129,2,    0.018,    0.000,2,    0.004,2,    0.000,2,   2307.5,2,   2334.8,2,   7.4073,  25,6,  -999.00,1,  -999.00,   -999.0,1,   -999.0,   4.6843,  27.3261
  49NZ20090410,   P21,   X19,  1,     23, X12028,2,20090424,0949,-16.8333, -86.3862, 4503,   1000.3,2,   4.3049,2,   4.29991,2,  34.5305,2,  34.5298,6,    60.90,2,    61.57,2,    77.52,2,     0.29,    42.86,2,     0.15,     0.01,2,     0.01,    3.103,2,    0.018,    0.000,2,    0.002,2,    0.000,2,   2312.7,2,   2346.3,2,   7.4249,  25,2,  -999.00,1,  -999.00,   -999.0,1,   -999.0,   4.2268,  27.3888
  49NZ20090410,   P21,   X19,  1,     22, X12022,2,20090424,0949,-16.8333, -86.3862, 4503,   1199.6,2,   3.7064,2,   3.70619,2,  34.5536,2,  34.5537,2,    73.95,2,    73.81,2,    90.88,2,     0.32,    41.91,2,     0.15,     0.01,2,     0.01,    3.039,2,    0.018,    0.000,2,    0.001,2,    0.000,2,   2321.1,2,   2361.9,2,   7.4477,  25,2,  -999.00,1,  -999.00,   -999.0,1,   -999.0,   3.6164,  27.4700
  49NZ20090410,   P21,   X19,  1,     21, X12021,2,20090424,0949,-16.8333, -86.3862, 4503,   1400.7,2,   3.2435,2,   3.24365,2,  34.5798,2,  34.5798,2,    80.05,2,    79.98,2,   103.95,2,     0.35,    41.33,2,     0.15,     0.01,2,     0.01,    3.011,2,    0.017,    0.000,2,    0.001,2,    0.000,2,   2330.9,2,   2375.5,2,   7.4589,  25,2,  -999.00,1,  -999.00,   -999.0,1,   -999.0,   3.1412,  27.5366
  49NZ20090410,   P21,   X19,  1,     20, X12020,2,20090424,0949,-16.8333, -86.3862, 4503,   1600.6,2,   2.8327,2,   2.83312,2,  34.6031,2,  34.6030,2,    90.09,2,    90.89,2,   113.84,2,     0.37,    40.41,2,     0.15,     0.01,2,     0.01,    2.931,2,    0.017,    0.000,2,    0.000,2,    0.000,2,   2336.5,2,   2388.7,2,   7.4798,  25,6,  -999.00,1,  -999.00,   -999.0,1,   -999.0,   2.7184,  27.5936
  49NZ20090410,   P21,   X19,  1,     19, X12019,2,20090424,0949,-16.8333, -86.3862, 4503,   1800.0,2,   2.5140,2,   2.51392,2,  34.6224,2,  34.6233,2,   101.86,2,   101.68,2,   120.61,2,     0.38,    39.45,2,     0.14,     0.01,2,     0.01,    2.842,2,    0.017,    0.000,2,    0.000,2,    0.000,2,   2336.7,2,   2396.3,2,   7.5015,  25,2,  -999.00,1,  -999.00,   -999.0,1,   -999.0,   2.3870,  27.6376
  49NZ20090410,   P21,   X19,  1,     18, X12043,2,20090424,0949,-16.8333, -86.3862, 4503,   1999.0,2,   2.2757,2,   2.27560,2,  34.6392,2,  34.6395,2,   110.57,2,   110.58,2,   126.69,2,     0.40,    38.76,2,     0.14,     0.01,2,     0.01,    2.781,2,    0.017,    0.000,2,    0.000,2,    0.000,2,   2337.2,2,   2404.2,2,   7.5183,  25,2,  -999.00,1,  -999.00,   -999.0,1,   -999.0,   2.1351,  27.6718
  49NZ20090410,   P21,   X19,  1,     17, X12042,2,20090424,0949,-16.8333, -86.3862, 4503,   2200.8,2,   2.0832,2,   2.08321,2,  34.6515,2,  34.6516,6,   124.96,2,   124.57,2,   126.25,2,     0.40,    37.69,2,     0.14,     0.01,2,     0.01,    2.690,2,    0.017,    0.000,2,    0.002,2,    0.000,2,   2330.8,2,   2404.4,2,   7.5419,  25,2,  -999.00,1,  -999.00,   -999.0,1,   -999.0,   1.9282,  27.6982
  49NZ20090410,   P21,   X19,  1,     16, X12016,2,20090424,0949,-16.8333, -86.3862, 4503,   2399.9,2,   1.9432,2,   1.94282,2,  34.6622,2,  34.6627,2,   135.09,2,   134.79,2,   126.38,2,     0.40,    36.94,2,     0.14,     0.01,2,     0.01,    2.608,2,    0.016,    0.000,2,    0.000,2,    0.000,2,   2324.1,6,   2406.7,2,   7.5600,  25,2,  -999.00,1,  -999.00,   -999.0,1,   -999.0,   1.7730,  27.7187
  49NZ20090410,   P21,   X19,  1,     15, X12015,2,20090424,0949,-16.8333, -86.3862, 4503,   2599.8,2,   1.8646,2,   1.86450,2,  34.6699,2,  34.6695,2,   136.04,2,   135.86,2,   130.27,2,     0.41,    36.92,2,     0.14,     0.01,2,     0.01,    2.602,2,    0.016,    0.000,2,    0.000,2,    0.000,2,   2329.8,2,   2413.3,6,   7.5657,  25,2,  -999.00,1,  -999.00,   -999.0,1,   -999.0,   1.6777,  27.7321
  49NZ20090410,   P21,   X19,  1,     14, X12050,2,20090424,0949,-16.8333, -86.3862, 4503,   2800.5,2,   1.8217,2,   1.82166,2,  34.6747,2,  34.6746,2,   136.97,2,   136.57,2,   133.01,2,     0.41,    36.90,2,     0.14,     0.01,2,     0.01,    2.598,2,    0.016,    0.000,2,    0.001,2,    0.000,2,   2333.1,2,   2417.9,2,   7.5709,  25,6,  -999.00,1,  -999.00,   -999.0,1,   -999.0,   1.6169,  27.7405
  49NZ20090410,   P21,   X19,  1,     13, X12013,7,20090424,0949,-16.8333, -86.3862, 4503,   3000.3,2,   1.8008,2,   1.80064,2,  34.6779,2,  34.6783,2,   140.08,2,   139.79,2,   132.78,2,     0.41,    36.60,2,     0.14,     0.01,2,     0.01,    2.577,2,    0.016,    0.002,2,    0.001,2,    0.000,2,   2331.1,2,   2419.0,2,   7.5784,  25,2,  -999.00,1,  -999.00,   -999.0,1,   -999.0,   1.5774,  27.7460
  49NZ20090410,   P21,   X19,  1,     12, X12012,2,20090424,0949,-16.8333, -86.3862, 4503,   3251.2,2,   1.7878,2,   1.78773,2,  34.6812,2,  34.6807,2,   143.44,2,   143.12,2,   131.69,2,     0.41,    36.39,2,     0.13,     0.01,2,     0.01,    2.558,2,    0.016,    0.000,2,    0.000,2,    0.000,2,   2328.5,2,   2418.3,2,   7.5834,  25,2,  -999.00,1,  -999.00,   -999.0,1,   -999.0,   1.5399,  27.7514
  49NZ20090410,   P21,   X19,  1,     11, X12041,2,20090424,0949,-16.8333, -86.3862, 4503,   3500.4,2,   1.7778,2,   1.77774,2,  34.6837,2,  34.6834,6,   145.30,2,   145.19,2,   131.27,2,     0.41,    36.06,2,     0.13,     0.01,2,     0.01,    2.546,2,    0.016,    0.000,2,    0.000,2,    0.000,2,   2327.5,2,   2417.6,2,   7.5845,  25,2,  -999.00,1,  -999.00,   -999.0,1,   -999.0,   1.5046,  27.7560
  49NZ20090410,   P21,   X19,  1,     10, X12040,2,20090424,0949,-16.8333, -86.3862, 4503,   3750.7,2,   1.7648,2,   1.76484,2,  34.6868,2,  34.6868,2,   150.45,2,   150.29,2,   127.98,2,     0.40,    35.78,2,     0.13,     0.01,2,     0.01,    2.512,2,    0.016,    0.000,2,    0.000,2,    0.000,2,   2319.6,2,   2413.2,2,   7.5895,  25,2,  -999.00,1,  -999.00,   -999.0,1,   -999.0,   1.4655,  27.7613
  49NZ20090410,   P21,   X19,  1,      9, X12009,2,20090424,0949,-16.8333, -86.3862, 4503,   4002.4,2,   1.7643,2,   1.76431,2,  34.6888,2,  34.6881,2,   152.63,2,   152.58,2,   126.33,2,     0.40,    35.41,2,     0.13,     0.01,2,     0.01,    2.491,2,    0.016,    0.000,2,    0.000,2,    0.000,2,   2319.3,2,   2412.3,2,   7.5913,  25,2,  -999.00,1,  -999.00,   -999.0,1,   -999.0,   1.4377,  27.7649
  49NZ20090410,   P21,   X19,  1,      8, X12008,2,20090424,0949,-16.8333, -86.3862, 4503,   4250.1,2,   1.7799,2,   1.77982,2,  34.6893,2,  34.6897,2,   153.25,2,   153.32,2,   126.40,2,     0.40,    35.53,2,     0.13,     0.01,2,     0.01,    2.499,2,    0.016,    0.005,2,    0.005,2,    0.000,2,   2319.4,6,   2411.2,2,   7.5920,  25,2,  -999.00,1,  -999.00,   -999.0,1,   -999.0,   1.4251,  27.7663
  49NZ20090410,   P21,   X19,  1,      7, X12007,9,20090424,0949,-16.8333, -86.3862, 4503,      9.7,2,  22.8394,2,  22.83912,2,  35.7471,2,-999.0000,9,   216.19,2,  -999.00,9,  -999.00,9,  -999.00,  -999.00,9,  -999.00,  -999.00,9,  -999.00, -999.000,9, -999.000, -999.000,9, -999.000,9, -999.000,9,   -999.0,9,   -999.0,9,-999.0000,-999,9,  -999.00,9,  -999.00,   -999.0,9,   -999.0,  22.8374,  24.5473
  49NZ20090410,   P21,   X19,  1,      6, X12035,9,20090424,0949,-16.8333, -86.3862, 4503,     50.2,2,  20.5437,2,  20.54261,2,  35.5164,2,-999.0000,9,   237.65,2,  -999.00,9,  -999.00,9,  -999.00,  -999.00,9,  -999.00,  -999.00,9,  -999.00, -999.000,9, -999.000, -999.000,9, -999.000,9, -999.000,9,   -999.0,9,   -999.0,9,-999.0000,-999,9,  -999.00,9,  -999.00,   -999.0,9,   -999.0,  20.5342,  25.0132
  49NZ20090410,   P21,   X19,  1,      5, X12038,9,20090424,0949,-16.8333, -86.3862, 4503,    100.5,2,  18.6209,2,  18.62431,2,  35.3038,2,-999.0000,9,   215.15,2,  -999.00,9,  -999.00,9,  -999.00,  -999.00,9,  -999.00,  -999.00,9,  -999.00, -999.000,9, -999.000, -999.000,9, -999.000,9, -999.000,9,   -999.0,9,   -999.0,9,-999.0000,-999,9,  -999.00,9,  -999.00,   -999.0,9,   -999.0,  18.6032,  25.3542
  49NZ20090410,   P21,   X19,  1,      4, X12034,9,20090424,0949,-16.8333, -86.3862, 4503,    149.9,2,  15.3313,2,  15.33284,2,  34.7877,2,-999.0000,9,   191.31,2,  -999.00,9,  -999.00,9,  -999.00,  -999.00,9,  -999.00,  -999.00,9,  -999.00, -999.000,9, -999.000, -999.000,9, -999.000,9, -999.000,9,   -999.0,9,   -999.0,9,-999.0000,-999,9,  -999.00,9,  -999.00,   -999.0,9,   -999.0,  15.3083,  25.7402
  49NZ20090410,   P21,   X19,  1,      3, X12033,9,20090424,0949,-16.8333, -86.3862, 4503,    200.5,2,  11.8341,2,  11.83649,2,  34.5016,2,-999.0000,9,    95.93,2,  -999.00,9,  -999.00,9,  -999.00,  -999.00,9,  -999.00,  -999.00,9,  -999.00, -999.000,9, -999.000, -999.000,9, -999.000,9, -999.000,9,   -999.0,9,   -999.0,9,-999.0000,-999,9,  -999.00,9,  -999.00,   -999.0,9,   -999.0,  11.8083,  26.2382
  49NZ20090410,   P21,   X19,  1,      2, X12032,9,20090424,0949,-16.8333, -86.3862, 4503,    250.9,2,  10.8540,2,  10.85533,2,  34.6607,2,-999.0000,9,    14.27,2,  -999.00,9,  -999.00,9,  -999.00,  -999.00,9,  -999.00,  -999.00,9,  -999.00, -999.000,9, -999.000, -999.000,9, -999.000,9, -999.000,9,   -999.0,9,   -999.0,9,-999.0000,-999,9,  -999.00,9,  -999.00,   -999.0,9,   -999.0,  10.8234,  26.5431
  49NZ20090410,   P21,   X19,  1,      1, X12046,2,20090424,0949,-16.8333, -86.3862, 4503,   4555.8,2,   1.8119,2,   1.81184,2,  34.6895,2,  34.6897,6,   153.20,2,   153.62,2,   126.46,2,     0.40,    35.57,2,     0.13,     0.01,2,     0.01,    2.495,2,    0.016,    0.002,2,    0.000,2,    0.000,2,   2318.5,2,   2411.4,2,   7.5918,  25,2,  -999.00,1,  -999.00,   -999.0,1,   -999.0,   1.4207,  27.7668