BOTTLE,20220818CCHSIOAMB
EXPOCODE,SECT_ID,STNNBR,CASTNO,SAMPNO,BTLNBR,BTLNBR_FLAG_W,DATE,TIME,LATITUDE,LONGITUDE,DEPTH,CTDPRS,CTDPRS_FLAG_W,CTDTMP,CTDTMP_FLAG_W,SBE35,SBE35_FLAG_W,CTDSAL,CTDSAL_FLAG_W,SALNTY,SALNTY_FLAG_W,CTDOXY,CTDOXY_FLAG_W,OXYGEN,OXYGEN_FLAG_W,SILCAT,SILCAT_FLAG_W,SILUNC,NITRAT,NITRAT_FLAG_W,NRAUNC,NITRIT,NITRIT_FLAG_W,NRIUNC,PHSPHT,PHSPHT_FLAG_W,PHPUNC,CFC-11,CFC-11_FLAG_W,CFC-12,CFC-12_FLAG_W,CFC113,CFC113_FLAG_W,TCARBN,TCARBN_FLAG_W,ALKALI,ALKALI_FLAG_W,PH_TOT,PH_TMP,PH_TOT_FLAG_W,DELC13,DELC13_FLAG_W,C13ERR,DELC14,DELC14_FLAG_W,C14ERR,THETA,SIG0
,,,,,,,,,,,METERS,DBAR,,ITS-90,,ITS-90,,PSS-78,,PSS-78,,UMOL/KG,,UMOL/KG,,UMOL/KG,,UMOL/KG,UMOL/KG,,UMOL/KG,UMOL/KG,,UMOL/KG,UMOL/KG,,UMOL/KG,PMOL/KG,,PMOL/KG,,PMOL/KG,,UMOL/KG,,UMOL/KG,,,DEG C,,/MILLE,,/MILLE,/MILLE,,/MILLE,DEG C,KG/M^3
  49NZ20090410,   P21,   120,  1,     36, X12006,2,20090509,1655,-16.7502,-126.6752, 3792,     10.4,2,  27.0469,2,  27.04717,2,  36.4676,2,  36.4671,2,   201.08,2,   200.63,2,     0.62,2,     0.12,     0.58,2,     0.03,     0.02,2,     0.01,    0.290,2,    0.014,    1.510,2,    0.985,2,    0.135,2,   -999.0,9,   -999.0,9,-999.0000,-999,9,  -999.00,9,  -999.00,   -999.0,9,   -999.0,  27.0445,  23.8094
  49NZ20090410,   P21,   120,  1,     35, X12047,2,20090509,1655,-16.7502,-126.6752, 3792,     49.5,2,  27.0244,2,  27.02434,2,  36.4773,2,  36.4794,2,   200.96,2,   200.86,2,     0.60,2,     0.12,     0.49,2,     0.03,     0.02,2,     0.01,    0.287,2,    0.014,    1.509,2,    0.976,2,    0.152,4,   -999.0,9,   -999.0,9,-999.0000,-999,9,  -999.00,9,  -999.00,   -999.0,9,   -999.0,  27.0130,  23.8268
  49NZ20090410,   P21,   120,  1,     34, X12004,2,20090509,1655,-16.7502,-126.6752, 3792,     99.9,2,  25.3117,2,  25.31284,2,  36.4660,2,  36.4702,2,   209.03,2,   209.21,2,     0.61,2,     0.12,     0.14,2,     0.03,     0.02,2,     0.01,    0.255,2,    0.015,    1.687,6,    1.089,6, -999.000,5,   -999.0,9,   -999.0,9,-999.0000,-999,9,  -999.00,9,  -999.00,   -999.0,9,   -999.0,  25.2897,  24.3607
  49NZ20090410,   P21,   120,  1,     33, X12003,2,20090509,1655,-16.7502,-126.6752, 3792,    149.7,2,  23.0961,2,  23.09558,2,  36.3233,2,  36.3212,2,   196.42,2,   195.95,2,     0.51,2,     0.12,     0.19,2,     0.03,     0.93,2,     0.00,    0.311,2,    0.014,    1.816,2,    1.137,2, -999.000,5,   -999.0,9,   -999.0,9,-999.0000,-999,9,  -999.00,9,  -999.00,   -999.0,9,   -999.0,  23.0653,  24.9187
  49NZ20090410,   P21,   120,  1,     32, X12002,2,20090509,1655,-16.7502,-126.6752, 3792,    198.5,2,  21.0110,2,  21.00509,2,  35.9521,2,  35.9486,2,   190.44,2,   190.16,2,     0.52,2,     0.12,     2.23,2,     0.04,     0.03,2,     0.01,    0.396,2,    0.013,    2.014,2,    1.251,2,    0.116,2,   -999.0,9,   -999.0,9,-999.0000,-999,9,  -999.00,9,  -999.00,   -999.0,9,   -999.0,  20.9728,  25.2264
  49NZ20090410,   P21,   120,  1,     31, X12001,2,20090509,1655,-16.7502,-126.6752, 3792,    253.2,2,  17.8327,2,  17.81152,2,  35.3519,2,  35.3647,6,   187.31,2,   186.73,2,     0.87,2,     0.12,     4.72,2,     0.05,     0.01,2,     0.01,    0.548,2,    0.013,    2.321,2,    1.376,2,    0.049,2,   -999.0,9,   -999.0,9,-999.0000,-999,9,  -999.00,9,  -999.00,   -999.0,9,   -999.0,  17.7893,  25.5935
  49NZ20090410,   P21,   120,  1,     30, X12030,2,20090509,1655,-16.7502,-126.6752, 3792,    280.7,2,  16.2907,2,  16.29482,2,  35.0980,2,  35.1019,2,   185.88,2,   185.67,2,     1.22,2,     0.12,     6.33,2,     0.05,     0.01,2,     0.01,    0.646,2,    0.013,    2.480,2,    1.428,2,    0.038,2,   -999.0,9,   -999.0,9,-999.0000,-999,9,  -999.00,9,  -999.00,   -999.0,9,   -999.0,  16.2456,  25.7665
  49NZ20090410,   P21,   120,  1,     29, X12044,2,20090509,1655,-16.7502,-126.6752, 3792,    369.2,2,  10.7375,2,  10.74063,2,  34.5092,2,  34.5091,2,   133.28,2,   132.41,2,     9.21,2,     0.14,    20.57,2,     0.09,     0.01,2,     0.01,    1.723,2,    0.014,    2.078,2,    1.080,2,    0.024,2,   -999.0,9,   -999.0,9,-999.0000,-999,9,  -999.00,9,  -999.00,   -999.0,9,   -999.0,  10.6926,  26.4483
  49NZ20090410,   P21,   120,  1,     28, X12048,2,20090509,1655,-16.7502,-126.6752, 3792,    471.3,2,   7.2463,2,   7.24625,2,  34.4102,2,  34.4104,6,   125.28,2,   125.42,2,    17.81,2,     0.16,    31.66,2,     0.12,     0.01,2,     0.01,    2.287,2,    0.016,    0.850,2,    0.424,2,    0.011,2,   -999.0,9,   -999.0,9,-999.0000,-999,9,  -999.00,9,  -999.00,   -999.0,9,   -999.0,   7.2008,  26.9262
  49NZ20090410,   P21,   120,  1,     27, X12027,2,20090509,1655,-16.7502,-126.6752, 3792,    569.2,2,   5.8151,2,   5.81573,2,  34.3463,2,  34.3459,2,   171.30,2,   171.38,2,    19.95,2,     0.16,    31.30,2,     0.12,     0.01,2,     0.01,    2.181,2,    0.015,    0.625,6,    0.312,6,    0.000,6,   -999.0,9,   -999.0,9,-999.0000,-999,9,  -999.00,9,  -999.00,   -999.0,9,   -999.0,   5.7660,  27.0654
  49NZ20090410,   P21,   120,  1,     26, X12026,2,20090509,1655,-16.7502,-126.6752, 3792,    669.6,2,   5.3971,2,   5.39708,2,  34.4236,2,  34.4240,2,   135.83,2,   135.14,2,    37.21,2,     0.20,    35.05,2,     0.13,     0.01,2,     0.01,    2.447,2,    0.016,    0.129,2,    0.066,2,    0.000,2,   -999.0,9,   -999.0,9,-999.0000,-999,9,  -999.00,9,  -999.00,   -999.0,9,   -999.0,   5.3410,  27.1783
  49NZ20090410,   P21,   120,  1,     25, X12025,2,20090509,1655,-16.7502,-126.6752, 3792,    769.7,2,   5.1112,2,   5.11135,2,  34.4757,2,  34.4759,2,   116.79,2,   116.32,2,    49.88,2,     0.23,    36.79,2,     0.14,     0.01,2,     0.01,    2.593,2,    0.016,    0.036,2,    0.021,2,    0.000,2,   -999.0,9,   -999.0,9,-999.0000,-999,9,  -999.00,9,  -999.00,   -999.0,9,   -999.0,   5.0477,  27.2541
  49NZ20090410,   P21,   120,  1,     24, X12024,2,20090509,1655,-16.7502,-126.6752, 3792,    870.9,2,   4.7334,2,   4.73335,2,  34.4972,2,  34.4970,2,   102.50,2,   102.28,2,    59.80,2,     0.25,    38.71,2,     0.14,     0.01,2,     0.01,    2.729,2,    0.017,    0.009,2,    0.005,2,    0.000,2,   -999.0,9,   -999.0,9,-999.0000,-999,9,  -999.00,9,  -999.00,   -999.0,9,   -999.0,   4.6634,  27.3148
  49NZ20090410,   P21,   120,  1,     23, X12028,3,20090509,1655,-16.7502,-126.6752, 3792,    969.8,2,   4.3548,2,   4.35516,2,  34.5132,2,  34.5136,6,   100.28,2,   100.04,2,    68.54,2,     0.27,    39.41,2,     0.14,     0.01,2,     0.01,    2.786,2,    0.017,    0.004,2,    0.003,2,    0.000,2,   -999.0,9,   -999.0,9,-999.0000,-999,9,  -999.00,9,  -999.00,   -999.0,9,   -999.0,   4.2790,  27.3696
  49NZ20090410,   P21,   120,  1,     22, X12022,2,20090509,1655,-16.7502,-126.6752, 3792,   1130.4,2,   3.7973,2,   3.79714,2,  34.5373,2,  34.5379,2,   103.51,2,   103.37,2,    80.95,2,     0.30,    39.35,2,     0.14,     0.01,2,     0.01,    2.800,2,    0.017,    0.006,2,    0.002,2,    0.000,2,   -999.0,9,   -999.0,9,-999.0000,-999,9,  -999.00,9,  -999.00,   -999.0,9,   -999.0,   3.7124,  27.4475
  49NZ20090410,   P21,   120,  1,     21, X12021,2,20090509,1655,-16.7502,-126.6752, 3792,   1330.8,2,   3.2707,2,   3.27075,2,  34.5637,2,  34.5639,2,   110.98,2,   110.75,2,    92.81,2,     0.32,    38.92,2,     0.14,     0.01,2,     0.01,    2.773,2,    0.017,    0.000,2,    0.000,2,    0.000,2,   -999.0,9,   -999.0,9,-999.0000,-999,9,  -999.00,9,  -999.00,   -999.0,9,   -999.0,   3.1740,  27.5207
  49NZ20090410,   P21,   120,  1,     20, X12020,2,20090509,1655,-16.7502,-126.6752, 3792,   1530.2,2,   2.7884,2,   2.78829,2,  34.5917,2,  34.5923,2,   120.34,2,   120.09,2,   103.24,2,     0.35,    38.42,2,     0.14,     0.01,2,     0.01,    2.716,2,    0.017,    0.000,2,    0.000,2,    0.000,2,   -999.0,9,   -999.0,9,-999.0000,-999,9,  -999.00,9,  -999.00,   -999.0,9,   -999.0,   2.6805,  27.5878
  49NZ20090410,   P21,   120,  1,     19, X12019,2,20090509,1655,-16.7502,-126.6752, 3792,   1729.5,2,   2.3839,2,   2.38407,2,  34.6181,2,  34.6185,2,   133.65,2,   133.47,2,   110.17,2,     0.36,    37.34,2,     0.14,     0.01,2,     0.01,    2.632,2,    0.017,    0.000,2,    0.000,2,    0.000,2,   -999.0,9,   -999.0,9,-999.0000,-999,9,  -999.00,9,  -999.00,   -999.0,9,   -999.0,   2.2645,  27.6444
  49NZ20090410,   P21,   120,  1,     18, X12043,2,20090509,1655,-16.7502,-126.6752, 3792,   1931.8,2,   2.1096,2,   2.10962,2,  34.6409,2,  34.6407,6,   142.84,2,   142.58,2,   115.34,2,     0.37,    36.59,2,     0.14,     0.01,2,     0.01,    2.566,2,    0.016,    0.000,2,    0.000,2,    0.000,2,   -999.0,9,   -999.0,9,-999.0000,-999,9,  -999.00,9,  -999.00,   -999.0,9,   -999.0,   1.9772,  27.6857
  49NZ20090410,   P21,   120,  1,     17, X12042,2,20090509,1655,-16.7502,-126.6752, 3792,   2129.9,2,   1.9928,2,   1.99276,2,  34.6521,2,  34.6521,2,   146.91,2,   146.57,2,   118.48,2,     0.38,    36.23,2,     0.13,     0.01,2,     0.01,    2.541,2,    0.016,    0.000,2,    0.000,2,    0.000,2,   -999.0,9,   -999.0,9,-999.0000,-999,9,  -999.00,9,  -999.00,   -999.0,9,   -999.0,   1.8454,  27.7051
  49NZ20090410,   P21,   120,  1,     16, X12016,2,20090509,1655,-16.7502,-126.6752, 3792,   2329.9,2,   1.8942,2,   1.89420,2,  34.6620,2,  34.6621,2,   149.73,2,   149.61,2,   121.67,2,     0.39,    36.07,2,     0.13,     0.01,2,     0.01,    2.520,2,    0.016,    0.000,2,    0.000,2,    0.000,2,   -999.0,9,   -999.0,9,-999.0000,-999,9,  -999.00,9,  -999.00,   -999.0,9,   -999.0,   1.7310,  27.7218
  49NZ20090410,   P21,   120,  1,     15, X12015,2,20090509,1655,-16.7502,-126.6752, 3792,   2530.9,2,   1.8320,2,   1.83204,2,  34.6685,2,  34.6680,2,   151.44,2,   151.31,2,   124.17,2,     0.39,    36.00,2,     0.13,     0.01,2,     0.01,    2.511,2,    0.016,    0.000,2,    0.000,2,    0.000,2,   -999.0,9,   -999.0,9,-999.0000,-999,9,  -999.00,9,  -999.00,   -999.0,9,   -999.0,   1.6520,  27.7329
  49NZ20090410,   P21,   120,  1,     14, X12050,2,20090509,1655,-16.7502,-126.6752, 3792,   2729.2,2,   1.7798,2,   1.77998,2,  34.6727,2,  34.6724,2,   153.51,2,   153.39,2,   125.80,2,     0.40,    35.86,2,     0.13,     0.01,2,     0.01,    2.504,2,    0.016,    0.000,2,    0.000,2,    0.000,2,   -999.0,9,   -999.0,9,-999.0000,-999,9,  -999.00,9,  -999.00,   -999.0,9,   -999.0,   1.5826,  27.7414
  49NZ20090410,   P21,   120,  1,     13, X12013,7,20090509,1655,-16.7502,-126.6752, 3792,   2931.5,2,   1.7303,2,   1.73025,2,  34.6761,2,  34.6767,6,   156.12,2,   156.10,2,   126.32,2,     0.40,    35.60,2,     0.13,     0.01,2,     0.01,    2.481,2,    0.016,    0.000,2,    0.000,2,    0.000,2,   -999.0,9,   -999.0,9,-999.0000,-999,9,  -999.00,9,  -999.00,   -999.0,9,   -999.0,   1.5150,  27.7492
  49NZ20090410,   P21,   120,  1,     12, X12012,2,20090509,1655,-16.7502,-126.6752, 3792,   3169.9,2,   1.6768,2,   1.67679,2,  34.6795,2,  34.6793,2,   159.39,2,   159.25,2,   127.07,2,     0.40,    35.51,2,     0.13,     0.01,2,     0.01,    2.475,2,    0.016,    0.001,2,    0.000,2,    0.000,2,   -999.0,9,   -999.0,9,-999.0000,-999,9,  -999.00,9,  -999.00,   -999.0,9,   -999.0,   1.4395,  27.7574
  49NZ20090410,   P21,   120,  1,     11, X12041,2,20090509,1655,-16.7502,-126.6752, 3792,   3420.5,2,   1.6152,2,   1.61523,2,  34.6834,2,  34.6830,2,   162.75,2,   162.62,2,   127.80,2,     0.40,    35.42,2,     0.13,     0.01,2,     0.01,    2.461,2,    0.016,    0.001,2,    0.000,2,    0.000,2,   -999.0,9,   -999.0,9,-999.0000,-999,9,  -999.00,9,  -999.00,   -999.0,9,   -999.0,   1.3543,  27.7666
  49NZ20090410,   P21,   120,  1,     10, X12040,2,20090509,1655,-16.7502,-126.6752, 3792,   3670.5,2,   1.5762,2,   1.57613,2,  34.6864,2,  34.6866,2,   165.30,2,   165.19,2,   128.36,2,     0.40,    35.12,2,     0.13,     0.01,2,     0.01,    2.453,2,    0.016,    0.001,2,    0.001,2,    0.000,2,   -999.0,9,   -999.0,9,-999.0000,-999,9,  -999.00,9,  -999.00,   -999.0,9,   -999.0,   1.2904,  27.7735
  49NZ20090410,   P21,   120,  1,      9, X12009,9,20090509,1655,-16.7502,-126.6752, 3792,   2531.5,2,   1.8320,2,   1.83200,2,  34.6684,2,-999.0000,9,   151.50,2,  -999.00,9,  -999.00,9,  -999.00,  -999.00,9,  -999.00,  -999.00,9,  -999.00, -999.000,9, -999.000, -999.000,9, -999.000,9, -999.000,9,   -999.0,9,   -999.0,9,-999.0000,-999,9,  -999.00,9,  -999.00,   -999.0,9,   -999.0,   1.6519,  27.7329
  49NZ20090410,   P21,   120,  1,      8, X12008,9,20090509,1655,-16.7502,-126.6752, 3792,    870.9,2,   4.7327,2,   4.73252,2,  34.4972,2,-999.0000,9,   102.50,2,  -999.00,9,  -999.00,9,  -999.00,  -999.00,9,  -999.00,  -999.00,9,  -999.00, -999.000,9, -999.000, -999.000,9, -999.000,9, -999.000,9,   -999.0,9,   -999.0,9,-999.0000,-999,9,  -999.00,9,  -999.00,   -999.0,9,   -999.0,   4.6627,  27.3149
  49NZ20090410,   P21,   120,  1,      7, X12007,2,20090509,1655,-16.7502,-126.6752, 3792,     10.6,2,  27.0566,2,  27.05714,2,  36.4680,2,-999.0000,9,   201.00,2,  -999.00,9,     0.58,2,     0.12,     0.59,2,     0.03,     0.02,2,     0.01,    0.301,2,    0.014, -999.000,9, -999.000,9, -999.000,9,   -999.0,9,   -999.0,9,-999.0000,-999,9,  -999.00,9,  -999.00,   -999.0,9,   -999.0,  27.0542,  23.8066
  49NZ20090410,   P21,   120,  1,      6, X12035,2,20090509,1655,-16.7502,-126.6752, 3792,     49.0,2,  27.0231,2,  27.02335,2,  36.4773,2,-999.0000,9,   201.17,2,  -999.00,9,     0.61,2,     0.12,     0.51,2,     0.03,     0.02,2,     0.01,    0.290,2,    0.014, -999.000,9, -999.000,9, -999.000,9,   -999.0,9,   -999.0,9,-999.0000,-999,9,  -999.00,9,  -999.00,   -999.0,9,   -999.0,  27.0118,  23.8272
  49NZ20090410,   P21,   120,  1,      5, X12038,2,20090509,1655,-16.7502,-126.6752, 3792,    100.4,2,  25.3179,2,  25.31867,2,  36.4674,2,-999.0000,9,   209.39,2,  -999.00,9,     0.68,2,     0.12,     0.26,2,     0.03,     0.02,2,     0.01,    0.272,2,    0.015, -999.000,9, -999.000,9, -999.000,9,   -999.0,9,   -999.0,9,-999.0000,-999,9,  -999.00,9,  -999.00,   -999.0,9,   -999.0,  25.2958,  24.3598
  49NZ20090410,   P21,   120,  1,      4, X12034,2,20090509,1655,-16.7502,-126.6752, 3792,    149.7,2,  23.1023,2,  23.10141,2,  36.3243,2,-999.0000,9,   196.39,2,  -999.00,9,     0.51,2,     0.12,     0.31,2,     0.03,     0.91,2,     0.00,    0.319,2,    0.014, -999.000,9, -999.000,9, -999.000,9,   -999.0,9,   -999.0,9,-999.0000,-999,9,  -999.00,9,  -999.00,   -999.0,9,   -999.0,  23.0715,  24.9176
  49NZ20090410,   P21,   120,  1,      3, X12033,2,20090509,1655,-16.7502,-126.6752, 3792,    198.9,2,  21.0105,2,  21.01151,2,  35.9517,2,-999.0000,9,   190.57,2,  -999.00,9,     0.62,2,     0.12,     2.37,2,     0.04,     0.03,2,     0.01,    0.403,2,    0.013, -999.000,9, -999.000,9, -999.000,9,   -999.0,9,   -999.0,9,-999.0000,-999,9,  -999.00,9,  -999.00,   -999.0,9,   -999.0,  20.9722,  25.2262
  49NZ20090410,   P21,   120,  1,      2, X12032,2,20090509,1655,-16.7502,-126.6752, 3792,    253.4,2,  17.8423,2,  17.83331,2,  35.3519,2,-999.0000,9,   187.28,2,  -999.00,9,     1.13,2,     0.12,     4.92,2,     0.05,     0.01,2,     0.01,    0.563,2,    0.013, -999.000,9, -999.000,9, -999.000,9,   -999.0,9,   -999.0,9,-999.0000,-999,9,  -999.00,9,  -999.00,   -999.0,9,   -999.0,  17.7989,  25.5912
  49NZ20090410,   P21,   120,  1,      1, X12046,2,20090509,1655,-16.7502,-126.6752, 3792,   3848.6,2,   1.5676,2,   1.56750,2,  34.6878,2,  34.6878,6,   166.74,2,   166.33,2,   128.26,2,     0.40,    35.13,2,     0.13,     0.01,2,     0.01,    2.448,2,    0.016,    0.000,2,    0.000,2,    0.000,2,   -999.0,9,   -999.0,9,-999.0000,-999,9,  -999.00,9,  -999.00,   -999.0,9,   -999.0,   1.2632,  27.7766