BOTTLE,20220818CCHSIOAMB
# Extracted rows missing pressure into a residual file
#BOTTLE,20111108CCHDOSIOCBG
#BOTTLE,20110314JAMSTECRIGC
#Software_Version: whp_btl_exchange.rb_v2.2 (occrp)
#ORIGINAL_SUM_FILE: 49NZ20090410_sum.txt Tue May 18 11:21:08 +0900 2010
#ORIGINAL_HYD_FILE: 49NZ20090410_sea.txt Mon Mar 14 14:25:25 +0900 2011
#DEPTH_TYPE: COR
#EVENT_CODE: BO
EXPOCODE,SECT_ID,STNNBR,CASTNO,SAMPNO,BTLNBR,BTLNBR_FLAG_W,DATE,TIME,LATITUDE,LONGITUDE,DEPTH,CTDPRS,CTDPRS_FLAG_W,CTDTMP,CTDTMP_FLAG_W,SBE35,SBE35_FLAG_W,CTDSAL,CTDSAL_FLAG_W,SALNTY,SALNTY_FLAG_W,CTDOXY,CTDOXY_FLAG_W,OXYGEN,OXYGEN_FLAG_W,SILCAT,SILCAT_FLAG_W,SILUNC,NITRAT,NITRAT_FLAG_W,NRAUNC,NITRIT,NITRIT_FLAG_W,NRIUNC,PHSPHT,PHSPHT_FLAG_W,PHPUNC,CFC-11,CFC-11_FLAG_W,CFC-12,CFC-12_FLAG_W,CFC113,CFC113_FLAG_W,TCARBN,TCARBN_FLAG_W,ALKALI,ALKALI_FLAG_W,PH_TOT,PH_TMP,PH_TOT_FLAG_W,DELC13,DELC13_FLAG_W,C13ERR,DELC14,DELC14_FLAG_W,C14ERR,THETA,SIG0
,,,,,,,,,,,METERS,DBAR,,ITS-90,,ITS-90,,PSS-78,,PSS-78,,UMOL/KG,,UMOL/KG,,UMOL/KG,,UMOL/KG,UMOL/KG,,UMOL/KG,UMOL/KG,,UMOL/KG,UMOL/KG,,UMOL/KG,PMOL/KG,,PMOL/KG,,PMOL/KG,,UMOL/KG,,UMOL/KG,,,DEG C,,/MILLE,,/MILLE,/MILLE,,/MILLE,DEG C,KG/M^3
  49NZ20090410,   P21,    29,  1,     36, X12006,2,20090414,1410,-16.7483, -78.7060, 3849,      9.6,2,  24.1331,2,  24.13123,2,  35.4914,2,  35.4905,2,   211.73,2,   211.72,2,     0.59,2,     0.12,     0.10,2,     0.03,     0.02,2,     0.02,    0.483,2,    0.013,    1.701,2,    1.100,2, -999.000,5,   -999.0,9,   -999.0,9,-999.0000,-999,9,  -999.00,9,  -999.00,   -999.0,9,   -999.0,  24.1311,  23.9744
  49NZ20090410,   P21,    29,  1,     35, X12047,2,20090414,1410,-16.7483, -78.7060, 3849,     49.5,2,  18.6480,2,  18.64246,2,  35.1868,2,  35.1813,2,   239.80,2,   236.60,2,     0.77,2,     1.80,     0.62,2,     0.04,     0.10,2,     0.01,    0.533,2,    0.013,    2.241,2,    1.378,2, -999.000,5,   -999.0,9,   -999.0,9,-999.0000,-999,9,  -999.00,9,  -999.00,   -999.0,9,   -999.0,  18.6393,  25.2556
  49NZ20090410,   P21,    29,  1,     34, X12004,2,20090414,1410,-16.7483, -78.7060, 3849,    100.3,2,  16.0126,2,  16.00023,2,  34.8736,2,  34.8844,2,   200.57,2,   192.98,2,     1.36,2,     0.12,     9.87,2,     0.61,     0.10,2,     0.01,    1.246,2,    0.022,    2.474,6,    1.486,6,    0.209,6,   -999.0,9,   -999.0,9,-999.0000,-999,9,  -999.00,9,  -999.00,   -999.0,9,   -999.0,  15.9968,  25.6511
  49NZ20090410,   P21,    29,  1,     33, X12003,2,20090414,1410,-16.7483, -78.7060, 3849,    149.9,2,  13.3224,2,  13.33171,2,  34.7712,2,  34.7590,2,    24.63,2,    27.10,2,    16.77,2,    57.71,    22.75,2,     8.56,     0.02,2,     0.02,    2.601,2,    0.176,    1.714,2,    1.001,2,    0.071,2,   -999.0,9,   -999.0,9,-999.0000,-999,9,  -999.00,9,  -999.00,   -999.0,9,   -999.0,  13.3015,  26.1547
  49NZ20090410,   P21,    29,  1,     32, X12002,2,20090414,1410,-16.7483, -78.7060, 3849,    199.4,2,  12.2814,2,  12.28297,2,  34.8392,2,  34.8364,2,     1.08,2,     1.08,3,    28.32,2,     0.18,    20.50,2,     0.37,     2.10,2,     0.02,    2.891,2,    0.072,    0.745,2,    0.453,2,    0.017,2,   -999.0,9,   -999.0,9,-999.0000,-999,9,  -999.00,9,  -999.00,   -999.0,9,   -999.0,  12.2550,  26.4152
  49NZ20090410,   P21,    29,  1,     31, X12001,2,20090414,1410,-16.7483, -78.7060, 3849,    250.6,2,  11.5544,2,  11.55494,2,  34.8005,2,  34.7972,6,     1.15,2,     1.33,3,    25.36,2,     1.54,    22.35,2,     0.10,     2.24,2,     0.01,    2.775,2,    0.017,    0.501,2,    0.300,2,    0.016,2,   -999.0,9,   -999.0,9,-999.0000,-999,9,  -999.00,9,  -999.00,   -999.0,9,   -999.0,  11.5225,  26.5242
  49NZ20090410,   P21,    29,  1,     30, X12030,2,20090414,1410,-16.7483, -78.7060, 3849,    280.6,2,  11.0975,2,  11.09961,2,  34.7680,2,  34.7647,2,     1.19,2,     1.38,3,    26.20,2,     1.07,    25.90,2,     0.43,     1.93,2,     0.02,    2.797,2,    0.017,    0.416,2,    0.244,2,    0.023,2,   -999.0,9,   -999.0,9,-999.0000,-999,9,  -999.00,9,  -999.00,   -999.0,9,   -999.0,  11.0627,  26.5835
  49NZ20090410,   P21,    29,  1,     29, X12044,2,20090414,1410,-16.7483, -78.7060, 3849,    370.9,2,   9.5424,2,   9.53704,2,  34.6753,2,  34.6752,2,     2.06,2,     2.24,2,    29.94,2,     0.18,    35.51,2,     0.13,     0.02,2,     0.01,    2.861,2,    0.017,    0.170,2,    0.099,2,    0.011,2,   -999.0,9,   -999.0,9,-999.0000,-999,9,  -999.00,9,  -999.00,   -999.0,9,   -999.0,   9.5004,  26.7823
  49NZ20090410,   P21,    29,  1,     28, X12048,2,20090414,1410,-16.7483, -78.7060, 3849,    470.3,2,   8.1348,2,   8.13634,2,  34.6020,2,  34.6003,6,    12.76,2,    13.75,2,    34.18,2,     0.19,    40.16,2,     0.15,     0.02,2,     0.01,    2.948,2,    0.017,    0.072,2,    0.045,2,    0.005,2,   -999.0,9,   -999.0,9,-999.0000,-999,9,  -999.00,9,  -999.00,   -999.0,9,   -999.0,   8.0862,  26.9484
  49NZ20090410,   P21,    29,  1,     27, X12027,2,20090414,1410,-16.7483, -78.7060, 3849,    570.6,2,   6.9713,2,   6.97066,2,  34.5546,2,  34.5510,2,    14.92,2,    17.09,2,    42.70,2,     0.21,    43.10,2,     0.15,     0.02,2,     0.01,    3.117,2,    0.018,    0.035,6,    0.024,6,    0.000,6,   -999.0,9,   -999.0,9,-999.0000,-999,9,  -999.00,9,  -999.00,   -999.0,9,   -999.0,   6.9169,  27.0794
  49NZ20090410,   P21,    29,  1,     26, X12026,2,20090414,1410,-16.7483, -78.7060, 3849,    669.4,2,   6.2827,2,   6.28288,2,  34.5339,2,  34.5320,2,    19.16,2,    20.11,2,    49.43,2,     0.23,    44.48,2,     0.16,     0.02,2,     0.01,    3.201,2,    0.018,    0.009,2,    0.005,2,    0.000,2,   -999.0,9,   -999.0,9,-999.0000,-999,9,  -999.00,9,  -999.00,   -999.0,9,   -999.0,   6.2220,  27.1559
  49NZ20090410,   P21,    29,  1,     25, X12025,2,20090414,1410,-16.7483, -78.7060, 3849,    771.4,2,   5.6476,2,   5.64826,2,  34.5166,2,  34.5147,2,    28.91,2,    30.09,2,    55.61,2,     0.24,    44.69,2,     0.16,     0.01,2,     0.01,    3.224,2,    0.018,    0.006,2,    0.003,2,    0.000,2,   -999.0,9,   -999.0,9,-999.0000,-999,9,  -999.00,9,  -999.00,   -999.0,9,   -999.0,   5.5808,  27.2229
  49NZ20090410,   P21,    29,  1,     24, X12024,2,20090414,1410,-16.7483, -78.7060, 3849,    870.9,2,   5.0719,2,   5.07051,2,  34.5197,2,  34.5179,2,    37.93,2,    38.61,2,    64.89,2,     0.26,    44.44,2,     0.16,     0.01,2,     0.01,    3.223,2,    0.018,    0.001,2,    0.000,2,    0.000,2,   -999.0,9,   -999.0,9,-999.0000,-999,9,  -999.00,9,  -999.00,   -999.0,9,   -999.0,   4.9997,  27.2945
  49NZ20090410,   P21,    29,  1,     23, X12028,2,20090414,1410,-16.7483, -78.7060, 3849,    969.1,2,   4.6387,2,   4.63839,2,  34.5263,2,  34.5250,6,    48.57,2,    49.37,2,    72.70,2,     0.28,    43.94,2,     0.16,     0.01,2,     0.01,    3.185,2,    0.018,    0.003,2,    0.003,2,    0.000,2,   -999.0,9,   -999.0,9,-999.0000,-999,9,  -999.00,9,  -999.00,   -999.0,9,   -999.0,   4.5608,  27.3493
  49NZ20090410,   P21,    29,  1,     22, X12022,2,20090414,1410,-16.7483, -78.7060, 3849,   1132.1,2,   4.1173,2,   4.11725,2,  34.5510,2,  34.5500,2,    58.68,2,    59.09,2,    86.41,2,     0.31,    42.90,2,     0.15,     0.02,2,     0.01,    3.139,2,    0.018,    0.001,2,    0.002,2,    0.000,2,   -999.0,9,   -999.0,9,-999.0000,-999,9,  -999.00,9,  -999.00,   -999.0,9,   -999.0,   4.0294,  27.4260
  49NZ20090410,   P21,    29,  1,     21, X12021,2,20090414,1410,-16.7483, -78.7060, 3849,   1331.3,2,   3.4632,2,   3.46361,2,  34.5718,2,  34.5706,2,    73.66,2,    73.72,2,    99.84,2,     0.34,    41.78,2,     0.15,     0.01,2,     0.01,    3.061,2,    0.018,    0.000,2,    0.001,2,    0.000,2,   -999.0,9,   -999.0,9,-999.0000,-999,9,  -999.00,9,  -999.00,   -999.0,9,   -999.0,   3.3645,  27.5091
  49NZ20090410,   P21,    29,  1,     20, X12020,2,20090414,1410,-16.7483, -78.7060, 3849,   1530.6,2,   3.0229,2,   3.02289,2,  34.5947,2,  34.5937,2,    83.63,2,    83.67,2,   110.67,2,     0.36,    41.04,2,     0.15,     0.02,2,     0.01,    2.991,2,    0.017,    0.000,2,    0.000,2,    0.000,2,   -999.0,9,   -999.0,9,-999.0000,-999,9,  -999.00,9,  -999.00,   -999.0,9,   -999.0,   2.9122,  27.5696
  49NZ20090410,   P21,    29,  1,     19, X12019,2,20090414,1410,-16.7483, -78.7060, 3849,   1730.2,2,   2.6771,2,   2.67704,2,  34.6143,2,  34.6134,2,    94.51,2,    94.44,2,   118.92,2,     0.38,    39.93,2,     0.14,     0.01,2,     0.01,    2.912,2,    0.017,    0.000,2,    0.001,2,    0.000,2,   -999.0,9,   -999.0,9,-999.0000,-999,9,  -999.00,9,  -999.00,   -999.0,9,   -999.0,   2.5538,  27.6169
  49NZ20090410,   P21,    29,  1,     18, X12043,2,20090414,1410,-16.7483, -78.7060, 3849,   1929.3,2,   2.4111,2,   2.41097,2,  34.6307,2,  34.6299,6,   105.55,2,   105.42,2,   123.69,2,     0.39,    39.08,2,     0.14,     0.01,2,     0.01,    2.829,2,    0.017,    0.000,2,    0.001,2,    0.000,2,   -999.0,9,   -999.0,9,-999.0000,-999,9,  -999.00,9,  -999.00,   -999.0,9,   -999.0,   2.2745,  27.6536
  49NZ20090410,   P21,    29,  1,     17, X12042,2,20090414,1410,-16.7483, -78.7060, 3849,   2129.9,2,   2.1909,2,   2.19098,2,  34.6466,2,  34.6456,2,   114.08,2,   114.04,2,   128.50,2,     0.40,    38.43,2,     0.14,     0.01,2,     0.01,    2.766,2,    0.017,    0.000,2,    0.000,2,    0.000,2,   -999.0,9,   -999.0,9,-999.0000,-999,9,  -999.00,9,  -999.00,   -999.0,9,   -999.0,   2.0403,  27.6854
  49NZ20090410,   P21,    29,  1,     16, X12016,2,20090414,1410,-16.7483, -78.7060, 3849,   2330.0,2,   2.0030,2,   2.00291,2,  34.6579,2,  34.6571,2,   133.79,2,   133.97,2,   124.04,2,     0.39,    36.89,2,     0.14,     0.01,2,     0.01,    2.622,2,    0.017,    0.000,2,    0.000,2,    0.000,2,   -999.0,9,   -999.0,9,-999.0000,-999,9,  -999.00,9,  -999.00,   -999.0,9,   -999.0,   1.8379,  27.7103
  49NZ20090410,   P21,    29,  1,     15, X12015,2,20090414,1410,-16.7483, -78.7060, 3849,   2530.7,2,   1.8920,2,   1.89196,2,  34.6684,2,  34.6675,2,   137.74,2,   137.74,2,   127.23,2,     0.40,    36.56,2,     0.14,     0.01,2,     0.01,    2.596,2,    0.016,    0.000,2,    0.003,2,    0.000,2,   -999.0,9,   -999.0,9,-999.0000,-999,9,  -999.00,9,  -999.00,   -999.0,9,   -999.0,   1.7109,  27.7284
  49NZ20090410,   P21,    29,  1,     14, X12050,2,20090414,1410,-16.7483, -78.7060, 3849,   2729.2,2,   1.8358,2,   1.83572,2,  34.6741,2,  34.6734,2,   140.71,2,   140.84,2,   128.85,2,     0.40,    36.29,2,     0.13,     0.01,2,     0.01,    2.572,2,    0.016,    0.000,2,    0.000,2,    0.000,2,   -999.0,9,   -999.0,9,-999.0000,-999,9,  -999.00,9,  -999.00,   -999.0,9,   -999.0,   1.6375,  27.7385
  49NZ20090410,   P21,    29,  1,     13, X12013,7,20090414,1410,-16.7483, -78.7060, 3849,   2929.2,2,   1.8047,2,   1.80467,2,  34.6779,2,  34.6775,6,   140.80,2,   141.04,2,   131.13,2,     0.41,    36.22,2,     0.13,     0.01,2,     0.01,    2.573,2,    0.016,    0.002,2,    0.002,2,    0.000,2,   -999.0,9,   -999.0,9,-999.0000,-999,9,  -999.00,9,  -999.00,   -999.0,9,   -999.0,   1.5880,  27.7452
  49NZ20090410,   P21,    29,  1,     12, X12012,2,20090414,1410,-16.7483, -78.7060, 3849,   3168.9,2,   1.7881,2,   1.78811,2,  34.6810,2,  34.6798,2,   140.20,2,   140.46,2,   133.77,2,     0.41,    36.41,2,     0.13,     0.01,2,     0.01,    2.573,2,    0.016,    0.001,2,    0.000,2,    0.000,2,   -999.0,9,   -999.0,9,-999.0000,-999,9,  -999.00,9,  -999.00,   -999.0,9,   -999.0,   1.5484,  27.7506
  49NZ20090410,   P21,    29,  1,     11, X12041,2,20090414,1410,-16.7483, -78.7060, 3849,   3421.1,2,   1.7776,2,   1.77743,2,  34.6837,2,  34.6828,2,   142.82,2,   143.11,2,   133.16,2,     0.41,    36.20,2,     0.13,     0.02,2,     0.01,    2.557,2,    0.016,    0.000,2,    0.001,2,    0.000,2,   -999.0,9,   -999.0,9,-999.0000,-999,9,  -999.00,9,  -999.00,   -999.0,9,   -999.0,   1.5126,  27.7554
  49NZ20090410,   P21,    29,  1,     10, X12040,2,20090414,1410,-16.7483, -78.7060, 3849,   3671.6,2,   1.7618,2,   1.76175,2,  34.6869,2,  34.6858,2,   150.40,2,   150.84,2,   127.68,2,     0.40,    35.56,2,     0.13,     0.01,2,     0.01,    2.506,2,    0.016,    0.000,2,    0.000,2,    0.000,2,   -999.0,9,   -999.0,9,-999.0000,-999,9,  -999.00,9,  -999.00,   -999.0,9,   -999.0,   1.4711,  27.7610
  49NZ20090410,   P21,    29,  1,      9, X12009,9,20090414,1410,-16.7483, -78.7060, 3849,      9.7,2,  24.1364,2,  24.13649,2,  35.4918,2,-999.0000,9,   211.60,2,  -999.00,9,  -999.00,9,  -999.00,  -999.00,9,  -999.00,  -999.00,9,  -999.00, -999.000,9, -999.000, -999.000,9, -999.000,9, -999.000,9,   -999.0,9,   -999.0,9,-999.0000,-999,9,  -999.00,9,  -999.00,   -999.0,9,   -999.0,  24.1343,  23.9738
  49NZ20090410,   P21,    29,  1,      8, X12008,9,20090414,1410,-16.7483, -78.7060, 3849,      9.7,2,  24.1392,2,  24.13864,2,  35.4915,2,-999.0000,9,   211.66,2,  -999.00,9,  -999.00,9,  -999.00,  -999.00,9,  -999.00,  -999.00,9,  -999.00, -999.000,9, -999.000, -999.000,9, -999.000,9, -999.000,9,   -999.0,9,   -999.0,9,-999.0000,-999,9,  -999.00,9,  -999.00,   -999.0,9,   -999.0,  24.1371,  23.9727
  49NZ20090410,   P21,    29,  1,      7, X12007,9,20090414,1410,-16.7483, -78.7060, 3849,   2531.1,2,   1.8920,2,   1.89208,2,  34.6684,2,-999.0000,9,   137.74,2,  -999.00,9,  -999.00,9,  -999.00,  -999.00,9,  -999.00,  -999.00,9,  -999.00, -999.000,9, -999.000, -999.000,9, -999.000,9, -999.000,9,   -999.0,9,   -999.0,9,-999.0000,-999,9,  -999.00,9,  -999.00,   -999.0,9,   -999.0,   1.7108,  27.7284
  49NZ20090410,   P21,    29,  1,      6, X12035,9,20090414,1410,-16.7483, -78.7060, 3849,   2729.5,2,   1.8358,2,   1.83561,2,  34.6740,2,-999.0000,9,   140.72,2,  -999.00,9,  -999.00,9,  -999.00,  -999.00,9,  -999.00,  -999.00,9,  -999.00, -999.000,9, -999.000, -999.000,9, -999.000,9, -999.000,9,   -999.0,9,   -999.0,9,-999.0000,-999,9,  -999.00,9,  -999.00,   -999.0,9,   -999.0,   1.6374,  27.7384
  49NZ20090410,   P21,    29,  1,      5, X12038,9,20090414,1410,-16.7483, -78.7060, 3849,   2929.6,2,   1.8047,2,   1.80468,2,  34.6780,2,-999.0000,9,   140.78,2,  -999.00,9,  -999.00,9,  -999.00,  -999.00,9,  -999.00,  -999.00,9,  -999.00, -999.000,9, -999.000, -999.000,9, -999.000,9, -999.000,9,   -999.0,9,   -999.0,9,-999.0000,-999,9,  -999.00,9,  -999.00,   -999.0,9,   -999.0,   1.5880,  27.7453
  49NZ20090410,   P21,    29,  1,      4, X12034,9,20090414,1410,-16.7483, -78.7060, 3849,   3168.0,2,   1.7882,2,   1.78808,2,  34.6809,2,-999.0000,9,   140.20,2,  -999.00,9,  -999.00,9,  -999.00,  -999.00,9,  -999.00,  -999.00,9,  -999.00, -999.000,9, -999.000, -999.000,9, -999.000,9, -999.000,9,   -999.0,9,   -999.0,9,-999.0000,-999,9,  -999.00,9,  -999.00,   -999.0,9,   -999.0,   1.5486,  27.7505
  49NZ20090410,   P21,    29,  1,      3, X12033,9,20090414,1410,-16.7483, -78.7060, 3849,   3421.8,2,   1.7776,2,   1.77750,2,  34.6837,2,-999.0000,9,   142.82,2,  -999.00,9,  -999.00,9,  -999.00,  -999.00,9,  -999.00,  -999.00,9,  -999.00, -999.000,9, -999.000, -999.000,9, -999.000,9, -999.000,9,   -999.0,9,   -999.0,9,-999.0000,-999,9,  -999.00,9,  -999.00,   -999.0,9,   -999.0,   1.5126,  27.7554
  49NZ20090410,   P21,    29,  1,      2, X12032,9,20090414,1410,-16.7483, -78.7060, 3849,   3670.8,2,   1.7619,2,   1.76173,2,  34.6868,2,-999.0000,9,   150.40,2,  -999.00,9,  -999.00,9,  -999.00,  -999.00,9,  -999.00,  -999.00,9,  -999.00, -999.000,9, -999.000, -999.000,9, -999.000,9, -999.000,9,   -999.0,9,   -999.0,9,-999.0000,-999,9,  -999.00,9,  -999.00,   -999.0,9,   -999.0,   1.4712,  27.7609
  49NZ20090410,   P21,    29,  1,      1, X12046,2,20090414,1410,-16.7483, -78.7060, 3849,   3882.3,2,   1.7689,2,   1.76871,2,  34.6880,2,  34.6872,6,   152.70,2,   152.82,2,   126.27,2,     0.40,    35.39,2,     0.13,     0.01,2,     0.01,    2.500,2,    0.016,    0.000,2,    0.001,2,    0.000,2,   -999.0,9,   -999.0,9,-999.0000,-999,9,  -999.00,9,  -999.00,   -999.0,9,   -999.0,   1.4553,  27.7630