BOTTLE,20220818CCHSIOAMB
EXPOCODE,SECT_ID,STNNBR,CASTNO,SAMPNO,BTLNBR,BTLNBR_FLAG_W,DATE,TIME,LATITUDE,LONGITUDE,DEPTH,CTDPRS,CTDPRS_FLAG_W,CTDTMP,CTDTMP_FLAG_W,SBE35,SBE35_FLAG_W,CTDSAL,CTDSAL_FLAG_W,SALNTY,SALNTY_FLAG_W,CTDOXY,CTDOXY_FLAG_W,OXYGEN,OXYGEN_FLAG_W,SILCAT,SILCAT_FLAG_W,SILUNC,NITRAT,NITRAT_FLAG_W,NRAUNC,NITRIT,NITRIT_FLAG_W,NRIUNC,PHSPHT,PHSPHT_FLAG_W,PHPUNC,CFC-11,CFC-11_FLAG_W,CFC-12,CFC-12_FLAG_W,CFC113,CFC113_FLAG_W,TCARBN,TCARBN_FLAG_W,ALKALI,ALKALI_FLAG_W,PH_TOT,PH_TMP,PH_TOT_FLAG_W,DELC13,DELC13_FLAG_W,C13ERR,DELC14,DELC14_FLAG_W,C14ERR,THETA,SIG0
,,,,,,,,,,,METERS,DBAR,,ITS-90,,ITS-90,,PSS-78,,PSS-78,,UMOL/KG,,UMOL/KG,,UMOL/KG,,UMOL/KG,UMOL/KG,,UMOL/KG,UMOL/KG,,UMOL/KG,UMOL/KG,,UMOL/KG,PMOL/KG,,PMOL/KG,,PMOL/KG,,UMOL/KG,,UMOL/KG,,,DEG C,,/MILLE,,/MILLE,/MILLE,,/MILLE,DEG C,KG/M^3
  49NZ20090410,   P21,   118,  2,     36, X12006,2,20090509,0612,-16.7497,-125.3345, 3813,      9.5,2,  27.0818,2,  27.08121,2,  36.4452,2,  36.4447,2,   201.60,2,   201.38,2,     0.52,2,     0.12,     0.71,2,     0.03,     0.02,2,     0.01,    0.301,2,    0.014,    1.500,2,    0.974,2,    0.149,4,   2044.6,2,   2405.4,2,   8.1160,  25,6,  -999.00,9,  -999.00,   -999.0,9,   -999.0,  27.0796,  23.7812
  49NZ20090410,   P21,   118,  2,     35, X12047,2,20090509,0612,-16.7497,-125.3345, 3813,     49.4,2,  26.7100,2,  26.71093,2,  36.5917,2,  36.5917,2,   203.21,2,   203.34,2,     0.57,2,     0.12,     0.11,2,     0.03,     0.01,2,     0.01,    0.268,2,    0.015,    1.530,2,    0.986,2, -999.000,5,   2058.6,6,   2414.2,2,   8.1047,  25,2,  -999.00,9,  -999.00,   -999.0,9,   -999.0,  26.6987,  24.0137
  49NZ20090410,   P21,   118,  2,     34, X12004,2,20090509,0612,-16.7497,-125.3345, 3813,     99.3,2,  23.8319,2,  23.83506,2,  36.3827,2,  36.3814,2,   211.98,2,   212.61,2,     0.37,2,     0.12,     0.10,2,     0.03,     0.02,2,     0.01,    0.225,2,    0.015,    1.776,6,    1.126,6, -999.000,5,   2069.1,2,   2395.5,6,   8.0637,  25,2,  -999.00,9,  -999.00,   -999.0,9,   -999.0,  23.8110,  24.7448
  49NZ20090410,   P21,   118,  2,     33, X12003,2,20090509,0612,-16.7497,-125.3345, 3813,    149.8,2,  22.8787,2,  22.87873,2,  36.3352,2,  36.3338,2,   200.47,2,   200.31,2,     0.37,2,     0.12,     0.18,2,     0.03,     0.73,2,     0.00,    0.296,2,    0.014,    1.823,2,    1.154,2, -999.000,5,   2083.6,2,   2393.0,2,   8.0368,  25,6,  -999.00,9,  -999.00,   -999.0,9,   -999.0,  22.8480,  24.9907
  49NZ20090410,   P21,   118,  2,     32, X12002,2,20090509,0612,-16.7497,-125.3345, 3813,    198.9,2,  20.8394,2,  20.84107,2,  35.9387,2,  35.9416,2,   191.92,2,   191.60,2,     0.43,2,     0.12,     2.54,2,     0.04,     0.04,2,     0.01,    0.436,2,    0.013,    2.025,2,    1.254,2,    0.157,2,   2096.5,2,   2369.1,2,   7.9835,  25,2,  -999.00,9,  -999.00,   -999.0,9,   -999.0,  20.8013,  25.2629
  49NZ20090410,   P21,   118,  2,     31, X12001,2,20090509,0612,-16.7497,-125.3345, 3813,    249.4,2,  18.2372,2,  18.23563,2,  35.4283,2,  35.4270,6,   192.43,2,   191.56,2,     0.65,2,     0.12,     3.91,2,     0.04,     0.02,2,     0.01,    0.494,2,    0.013,    2.286,2,    1.370,2,    0.070,2,   2089.3,2,   2334.0,2,   7.9413,  25,2,  -999.00,9,  -999.00,   -999.0,9,   -999.0,  18.1938,  25.5521
  49NZ20090410,   P21,   118,  2,     30, X12030,2,20090509,0612,-16.7497,-125.3345, 3813,    299.9,2,  14.6554,2,  14.65246,2,  34.8658,2,  34.8632,2,   171.44,2,   171.56,2,     2.45,2,     0.12,     9.99,2,     0.06,     0.01,2,     0.01,    0.941,2,    0.013,    2.528,2,    1.431,2,    0.045,2,   2113.5,2,   2298.0,2,   7.8338,  25,2,  -999.00,9,  -999.00,   -999.0,9,   -999.0,  14.6106,  25.9532
  49NZ20090410,   P21,   118,  2,     29, X12044,2,20090509,0612,-16.7497,-125.3345, 3813,    399.3,2,   9.3450,2,   9.34570,2,  34.4397,2,  34.4394,2,   129.18,2,   126.62,2,    11.82,2,     0.14,    24.99,2,     0.10,     0.01,2,     0.01,    1.992,2,    0.015,    1.828,2,    0.939,2,    0.044,2,   2190.5,2,   2278.7,2,   7.5989,  25,2,  -999.00,9,  -999.00,   -999.0,9,   -999.0,   9.3004,  26.6309
  49NZ20090410,   P21,   118,  2,     28, X12048,2,20090509,0612,-16.7497,-125.3345, 3813,    498.9,2,   7.2826,2,   7.27960,2,  34.4134,2,  34.4134,6,   120.28,2,   120.06,2,    18.16,2,     0.16,    31.92,2,     0.12,     0.01,2,     0.01,    2.328,2,    0.016,    0.777,2,    0.404,2,    0.020,2,   2215.7,2,   2283.9,2,   7.5416,  25,2,  -999.00,9,  -999.00,   -999.0,9,   -999.0,   7.2342,  26.9241
  49NZ20090410,   P21,   118,  2,     27, X12027,2,20090509,0612,-16.7497,-125.3345, 3813,    599.5,2,   5.9146,2,   5.91424,2,  34.3696,2,  34.3695,2,   151.36,2,   151.01,2,    22.70,2,     0.17,    32.83,2,     0.12,     0.01,2,     0.01,    2.304,2,    0.016,    0.439,2,    0.230,2,    0.003,2,   2206.7,2,   2288.3,2,   7.5783,  25,2,  -999.00,9,  -999.00,   -999.0,9,   -999.0,   5.8623,  27.0718
  49NZ20090410,   P21,   118,  2,     26, X12026,2,20090509,0612,-16.7497,-125.3345, 3813,    699.7,2,   5.3485,2,   5.34802,2,  34.4403,2,  34.4398,2,   127.11,2,   126.74,2,    40.47,2,     0.21,    35.56,2,     0.13,     0.01,2,     0.01,    2.507,2,    0.016,    0.083,2,    0.048,2,    0.000,2,   2234.5,6,   2308.9,2,   7.5483,  25,2,  -999.00,9,  -999.00,   -999.0,9,   -999.0,   5.2899,  27.1976
  49NZ20090410,   P21,   118,  2,     25, X12025,2,20090509,0612,-16.7497,-125.3345, 3813,    800.9,2,   5.0159,2,   5.01577,2,  34.4863,2,  34.4873,2,   100.78,2,   100.28,2,    54.05,2,     0.24,    38.50,2,     0.14,     0.01,2,     0.01,    2.727,2,    0.017,    0.010,2,    0.006,2,    0.000,2,   2263.3,2,   2322.9,6,   7.5045,  25,2,  -999.00,9,  -999.00,   -999.0,9,   -999.0,   4.9503,  27.2737
  49NZ20090410,   P21,   118,  2,     24, X12024,2,20090509,0612,-16.7497,-125.3345, 3813,    898.5,2,   4.6198,2,   4.62094,2,  34.5051,2,  34.5048,2,    93.96,2,    93.75,2,    63.44,2,     0.26,    39.63,2,     0.14,     0.01,2,     0.01,    2.817,2,    0.017,    0.004,2,    0.003,2,    0.000,2,   2277.7,2,   2333.5,2,   7.4888,  25,2,  -999.00,9,  -999.00,   -999.0,9,   -999.0,   4.5482,  27.3339
  49NZ20090410,   P21,   118,  2,     23, X12028,2,20090509,0612,-16.7497,-125.3345, 3813,   1000.3,2,   4.2606,2,   4.26038,2,  34.5201,2,  34.5206,6,    92.91,2,    92.62,2,    72.05,2,     0.28,    39.99,2,     0.14,     0.01,2,     0.01,    2.853,2,    0.017,    0.001,2,    0.000,2,    0.000,2,   2287.5,2,   2343.0,2,   7.4845,  25,2,  -999.00,9,  -999.00,   -999.0,9,   -999.0,   4.1829,  27.3853
  49NZ20090410,   P21,   118,  2,     22, X12022,2,20090509,0612,-16.7497,-125.3345, 3813,   1200.3,2,   3.5559,2,   3.55749,2,  34.5523,2,  34.5524,2,   100.42,2,   100.19,2,    87.69,2,     0.31,    39.69,2,     0.14,     0.01,2,     0.01,    2.840,2,    0.017,    0.001,2,    0.000,2,    0.000,2,   2300.7,2,   2360.5,2,   7.4968,  25,2,  -999.00,9,  -999.00,   -999.0,9,   -999.0,   3.4673,  27.4835
  49NZ20090410,   P21,   118,  2,     21, X12021,2,20090509,0612,-16.7497,-125.3345, 3813,   1400.4,2,   3.1239,2,   3.12535,2,  34.5747,2,  34.5744,2,   109.73,2,   109.40,2,    97.25,2,     0.33,    39.00,2,     0.14,     0.01,2,     0.01,    2.793,2,    0.017,    0.002,2,    0.000,2,    0.000,2,   2306.0,2,   2370.9,2,   7.5112,  25,2,  -999.00,9,  -999.00,   -999.0,9,   -999.0,   3.0230,  27.5435
  49NZ20090410,   P21,   118,  2,     20, X12020,2,20090509,0612,-16.7497,-125.3345, 3813,   1600.6,2,   2.6768,2,   2.67659,2,  34.6005,2,  34.6004,2,   122.71,2,   122.54,2,   105.90,2,     0.35,    37.94,2,     0.14,     0.01,2,     0.01,    2.708,2,    0.017,    0.000,2,    0.000,2,    0.000,2,   2311.4,2,   2381.3,2,   7.5345,  25,6,  -999.00,9,  -999.00,   -999.0,9,   -999.0,   2.5644,  27.6050
  49NZ20090410,   P21,   118,  2,     19, X12019,2,20090509,0612,-16.7497,-125.3345, 3813,   1801.0,2,   2.3075,2,   2.30730,2,  34.6234,2,  34.6238,6,   137.07,2,   136.96,2,   110.54,2,     0.36,    36.84,2,     0.14,     0.01,2,     0.01,    2.611,2,    0.017,    0.034,4,    0.021,4,    0.000,4,   2307.3,2,   2387.2,2,   7.5579,  25,2,  -999.00,9,  -999.00,   -999.0,9,   -999.0,   2.1832,  27.6552
  49NZ20090410,   P21,   118,  2,     18, X12043,2,20090509,0612,-16.7497,-125.3345, 3813,   2000.7,2,   2.0695,2,   2.06961,2,  34.6448,2,  34.6445,2,   144.40,2,   144.18,2,   115.98,2,     0.37,    36.24,2,     0.13,     0.01,2,     0.01,    2.561,2,    0.016,    0.000,2,    0.000,2,    0.000,2,   2308.8,2,   2393.4,2,   7.5720,  25,2,  -999.00,9,  -999.00,   -999.0,9,   -999.0,   1.9319,  27.6925
  49NZ20090410,   P21,   118,  2,     17, X12042,2,20090509,0612,-16.7497,-125.3345, 3813,   2199.8,2,   1.9472,2,   1.94701,2,  34.6566,2,  34.6564,2,   148.76,2,   148.92,2,   118.99,2,     0.38,    35.87,2,     0.13,     0.01,2,     0.01,    2.526,2,    0.016,    0.000,2,    0.000,2,    0.000,2,   2308.7,2,   2398.3,2,   7.5816,  25,2,  -999.00,9,  -999.00,   -999.0,9,   -999.0,   1.7945,  27.7126
  49NZ20090410,   P21,   118,  2,     16, X12016,2,20090509,0612,-16.7497,-125.3345, 3813,   2399.7,2,   1.8692,2,   1.86920,2,  34.6645,2,  34.6640,2,   150.96,2,   150.76,2,   121.89,2,     0.39,    35.72,2,     0.13,     0.01,2,     0.01,    2.509,2,    0.016,    0.000,2,    0.000,2,    0.000,2,   2309.9,6,   2402.6,2,   7.5866,  25,2,  -999.00,9,  -999.00,   -999.0,9,   -999.0,   1.7003,  27.7261
  49NZ20090410,   P21,   118,  2,     15, X12015,2,20090509,0612,-16.7497,-125.3345, 3813,   2599.8,2,   1.8054,2,   1.80556,2,  34.6707,2,  34.6703,2,   152.62,2,   152.33,2,   124.35,2,     0.39,    35.62,2,     0.13,     0.01,2,     0.01,    2.503,2,    0.016,    0.000,2,    0.000,2,    0.000,2,   2314.3,2,   2406.3,6,   7.5912,  25,2,  -999.00,9,  -999.00,   -999.0,9,   -999.0,   1.6196,  27.7371
  49NZ20090410,   P21,   118,  2,     14, X12050,2,20090509,0612,-16.7497,-125.3345, 3813,   2798.8,2,   1.7499,2,   1.74982,2,  34.6748,2,  34.6744,6,   155.33,2,   155.03,2,   125.70,2,     0.40,    35.53,2,     0.13,     0.01,2,     0.01,    2.496,2,    0.016,    0.000,2,    0.000,2,    0.000,2,   2313.9,2,   2407.2,2,   7.5964,  25,6,  -999.00,9,  -999.00,   -999.0,9,   -999.0,   1.5468,  27.7457
  49NZ20090410,   P21,   118,  2,     13, X12013,7,20090509,0612,-16.7497,-125.3345, 3813,   3000.1,2,   1.6998,2,   1.69969,2,  34.6779,2,  34.6790,2,   158.05,2,   157.72,2,   126.29,2,     0.40,    35.34,2,     0.13,     0.01,2,     0.01,    2.487,2,    0.016,    0.001,2,    0.000,2,    0.000,2,   2313.2,2,   2408.6,2,   7.6004,  25,2,  -999.00,9,  -999.00,   -999.0,9,   -999.0,   1.4786,  27.7532
  49NZ20090410,   P21,   118,  2,     12, X12012,2,20090509,0612,-16.7497,-125.3345, 3813,   3249.7,2,   1.6488,2,   1.64871,2,  34.6814,2,  34.6812,2,   161.26,2,   160.90,2,   127.02,2,     0.40,    35.17,2,     0.13,     0.01,2,     0.01,    2.473,2,    0.016,    0.001,2,    0.000,2,    0.000,2,   2310.3,2,   2408.7,2,   7.6045,  25,2,  -999.00,9,  -999.00,   -999.0,9,   -999.0,   1.4043,  27.7614
  49NZ20090410,   P21,   118,  2,     11, X12041,2,20090509,0612,-16.7497,-125.3345, 3813,   3499.5,2,   1.6324,2,   1.63245,2,  34.6835,2,  34.6831,2,   163.06,2,   162.65,2,   127.25,2,     0.40,    35.13,2,     0.13,     0.01,2,     0.01,    2.466,2,    0.016,    0.001,2,    0.000,2,    0.000,2,   2311.6,2,   2409.4,2,   7.6069,  25,2,  -999.00,9,  -999.00,   -999.0,9,   -999.0,   1.3630,  27.7661
  49NZ20090410,   P21,   118,  2,     10, X12040,2,20090509,0612,-16.7497,-125.3345, 3813,   3749.1,2,   1.6514,2,   1.65139,2,  34.6838,2,  34.6837,2,   163.49,2,   163.04,2,   127.12,2,     0.40,    35.11,2,     0.13,     0.01,2,     0.01,    2.461,2,    0.016,    0.002,2,    0.000,2,    0.000,2,   2310.8,2,   2409.0,2,   7.6087,  25,2,  -999.00,9,  -999.00,   -999.0,9,   -999.0,   1.3554,  27.7669
  49NZ20090410,   P21,   118,  2,      9, X12009,9,20090509,0612,-16.7497,-125.3345, 3813,    199.0,2,  20.9184,2,  20.91695,2,  35.9549,2,-999.0000,9,   191.83,2,  -999.00,9,  -999.00,9,  -999.00,  -999.00,9,  -999.00,  -999.00,9,  -999.00, -999.000,9, -999.000, -999.000,9, -999.000,9, -999.000,9,   -999.0,9,   -999.0,9,-999.0000,-999,9,  -999.00,9,  -999.00,   -999.0,9,   -999.0,  20.8802,  25.2538
  49NZ20090410,   P21,   118,  2,      8, X12008,9,20090509,0612,-16.7497,-125.3345, 3813,    898.2,2,   4.6156,2,   4.61531,2,  34.5053,2,-999.0000,9,    93.97,2,  -999.00,9,  -999.00,9,  -999.00,  -999.00,9,  -999.00,  -999.00,9,  -999.00, -999.000,9, -999.000, -999.000,9, -999.000,9, -999.000,9,   -999.0,9,   -999.0,9,-999.0000,-999,9,  -999.00,9,  -999.00,   -999.0,9,   -999.0,   4.5441,  27.3345
  49NZ20090410,   P21,   118,  2,      7, X12007,9,20090509,0612,-16.7497,-125.3345, 3813,   2199.5,2,   1.9478,2,   1.94766,2,  34.6565,2,-999.0000,9,   148.80,2,  -999.00,9,  -999.00,9,  -999.00,  -999.00,9,  -999.00,  -999.00,9,  -999.00, -999.000,9, -999.000, -999.000,9, -999.000,9, -999.000,9,   -999.0,9,   -999.0,9,-999.0000,-999,9,  -999.00,9,  -999.00,   -999.0,9,   -999.0,   1.7951,  27.7125
  49NZ20090410,   P21,   118,  2,      6, X12035,9,20090509,0612,-16.7497,-125.3345, 3813,   2399.4,2,   1.8688,2,   1.86894,2,  34.6646,2,-999.0000,9,   150.98,2,  -999.00,9,  -999.00,9,  -999.00,  -999.00,9,  -999.00,  -999.00,9,  -999.00, -999.000,9, -999.000, -999.000,9, -999.000,9, -999.000,9,   -999.0,9,   -999.0,9,-999.0000,-999,9,  -999.00,9,  -999.00,   -999.0,9,   -999.0,   1.6999,  27.7262
  49NZ20090410,   P21,   118,  2,      5, X12038,9,20090509,0612,-16.7497,-125.3345, 3813,   2600.1,2,   1.8053,2,   1.80523,2,  34.6707,2,-999.0000,9,   152.62,2,  -999.00,9,  -999.00,9,  -999.00,  -999.00,9,  -999.00,  -999.00,9,  -999.00, -999.000,9, -999.000, -999.000,9, -999.000,9, -999.000,9,   -999.0,9,   -999.0,9,-999.0000,-999,9,  -999.00,9,  -999.00,   -999.0,9,   -999.0,   1.6195,  27.7371
  49NZ20090410,   P21,   118,  2,      4, X12034,9,20090509,0612,-16.7497,-125.3345, 3813,   2799.4,2,   1.7500,2,   1.75008,2,  34.6748,2,-999.0000,9,   155.29,2,  -999.00,9,  -999.00,9,  -999.00,  -999.00,9,  -999.00,  -999.00,9,  -999.00, -999.000,9, -999.000, -999.000,9, -999.000,9, -999.000,9,   -999.0,9,   -999.0,9,-999.0000,-999,9,  -999.00,9,  -999.00,   -999.0,9,   -999.0,   1.5468,  27.7458
  49NZ20090410,   P21,   118,  2,      3, X12033,9,20090509,0612,-16.7497,-125.3345, 3813,   2999.9,2,   1.6995,2,   1.69938,2,  34.6779,2,-999.0000,9,   158.10,2,  -999.00,9,  -999.00,9,  -999.00,  -999.00,9,  -999.00,  -999.00,9,  -999.00, -999.000,9, -999.000, -999.000,9, -999.000,9, -999.000,9,   -999.0,9,   -999.0,9,-999.0000,-999,9,  -999.00,9,  -999.00,   -999.0,9,   -999.0,   1.4783,  27.7533
  49NZ20090410,   P21,   118,  2,      2, X12032,9,20090509,0612,-16.7497,-125.3345, 3813,   3748.9,2,   1.6515,2,   1.65145,2,  34.6838,2,-999.0000,9,   163.49,2,  -999.00,9,  -999.00,9,  -999.00,  -999.00,9,  -999.00,  -999.00,9,  -999.00, -999.000,9, -999.000, -999.000,9, -999.000,9, -999.000,9,   -999.0,9,   -999.0,9,-999.0000,-999,9,  -999.00,9,  -999.00,   -999.0,9,   -999.0,   1.3555,  27.7668
  49NZ20090410,   P21,   118,  2,      1, X12046,2,20090509,0612,-16.7497,-125.3345, 3813,   3839.6,2,   1.6422,2,   1.64190,2,  34.6846,2,  34.6845,6,   163.98,2,   163.54,2,   127.45,2,     0.40,    35.03,2,     0.13,     0.01,2,     0.01,    2.464,2,    0.016,    0.000,2,    0.000,2,    0.000,2,   2312.7,2,   2409.6,2,   7.6083,  25,2,  -999.00,9,  -999.00,   -999.0,9,   -999.0,   1.3367,  27.7688