BOTTLE,20220818CCHSIOAMB
EXPOCODE,SECT_ID,STNNBR,CASTNO,SAMPNO,BTLNBR,BTLNBR_FLAG_W,DATE,TIME,LATITUDE,LONGITUDE,DEPTH,CTDPRS,CTDPRS_FLAG_W,CTDTMP,CTDTMP_FLAG_W,SBE35,SBE35_FLAG_W,CTDSAL,CTDSAL_FLAG_W,SALNTY,SALNTY_FLAG_W,CTDOXY,CTDOXY_FLAG_W,OXYGEN,OXYGEN_FLAG_W,SILCAT,SILCAT_FLAG_W,SILUNC,NITRAT,NITRAT_FLAG_W,NRAUNC,NITRIT,NITRIT_FLAG_W,NRIUNC,PHSPHT,PHSPHT_FLAG_W,PHPUNC,CFC-11,CFC-11_FLAG_W,CFC-12,CFC-12_FLAG_W,CFC113,CFC113_FLAG_W,TCARBN,TCARBN_FLAG_W,ALKALI,ALKALI_FLAG_W,PH_TOT,PH_TMP,PH_TOT_FLAG_W,DELC13,DELC13_FLAG_W,C13ERR,DELC14,DELC14_FLAG_W,C14ERR,THETA,SIG0
,,,,,,,,,,,METERS,DBAR,,ITS-90,,ITS-90,,PSS-78,,PSS-78,,UMOL/KG,,UMOL/KG,,UMOL/KG,,UMOL/KG,UMOL/KG,,UMOL/KG,UMOL/KG,,UMOL/KG,UMOL/KG,,UMOL/KG,PMOL/KG,,PMOL/KG,,PMOL/KG,,UMOL/KG,,UMOL/KG,,,DEG C,,/MILLE,,/MILLE,/MILLE,,/MILLE,DEG C,KG/M^3
  49NZ20090410,   P21,   150,  1,     36, X12006,2,20090516,0836,-17.4990,-145.1693, 3231,     10.3,2,  27.9894,2,  27.98941,2,  36.3038,2,  36.3033,2,   196.39,2,   196.61,2,     0.82,2,     0.12,     0.08,2,     0.03,     0.01,2,     0.01,    0.261,2,    0.015,    1.458,2,    0.939,2, -999.000,5,   -999.0,9,   -999.0,9,-999.0000,-999,9,  -999.00,9,  -999.00,   -999.0,9,   -999.0,  27.9870,  23.3798
  49NZ20090410,   P21,   150,  1,     35, X12047,2,20090516,0836,-17.4990,-145.1693, 3231,     49.7,2,  27.9852,2,  27.98346,2,  36.3033,2,  36.3041,2,   196.11,2,   196.67,2,     0.78,2,     0.12,     0.07,2,     0.03,     0.01,2,     0.01,    0.257,2,    0.015,    1.460,2,    0.950,2, -999.000,5,   -999.0,9,   -999.0,9,-999.0000,-999,9,  -999.00,9,  -999.00,   -999.0,9,   -999.0,  27.9735,  23.3838
  49NZ20090410,   P21,   150,  1,     34, X12004,2,20090516,0836,-17.4990,-145.1693, 3231,     99.3,2,  25.6344,2,  25.61408,2,  36.4255,2,  36.4258,2,   194.79,2,   195.33,2,     0.72,2,     0.12,     0.21,2,     0.03,     0.22,2,     0.01,    0.296,2,    0.014,    1.650,6,    1.051,6, -999.000,5,   -999.0,9,   -999.0,9,-999.0000,-999,9,  -999.00,9,  -999.00,   -999.0,9,   -999.0,  25.6124,  24.2302
  49NZ20090410,   P21,   150,  1,     33, X12003,2,20090516,0836,-17.4990,-145.1693, 3231,    149.6,2,  23.8703,2,  23.87990,2,  36.2809,2,  36.2873,2,   185.56,2,   185.82,2,     0.61,2,     0.12,     0.91,2,     0.04,     0.63,2,     0.00,    0.332,2,    0.014,    1.770,2,    1.112,2,    0.164,4,   -999.0,9,   -999.0,9,-999.0000,-999,9,  -999.00,9,  -999.00,   -999.0,9,   -999.0,  23.8388,  24.6594
  49NZ20090410,   P21,   150,  1,     32, X12002,2,20090516,0836,-17.4990,-145.1693, 3231,    200.3,2,  21.7374,2,  21.73601,2,  35.9956,2,  35.9957,2,   179.91,2,   179.88,2,     0.65,2,     0.12,     2.93,2,     0.04,     0.03,2,     0.01,    0.439,2,    0.013,    1.961,2,    1.210,2,    0.079,2,   -999.0,9,   -999.0,9,-999.0000,-999,9,  -999.00,9,  -999.00,   -999.0,9,   -999.0,  21.6979,  25.0592
  49NZ20090410,   P21,   150,  1,     31, X12001,2,20090516,0836,-17.4990,-145.1693, 3231,    251.0,2,  19.3116,2,  19.32105,2,  35.5976,2,  35.6045,6,   180.50,2,   180.52,2,     0.89,2,     0.12,     4.30,2,     0.04,     0.01,2,     0.01,    0.521,2,    0.013,    2.183,2,    1.314,2,    0.039,2,   -999.0,9,   -999.0,9,-999.0000,-999,9,  -999.00,9,  -999.00,   -999.0,9,   -999.0,  19.2661,  25.4096
  49NZ20090410,   P21,   150,  1,     30, X12030,2,20090516,0836,-17.4990,-145.1693, 3231,    301.2,2,  17.1084,2,  17.10252,2,  35.2524,2,  35.2547,2,   176.46,2,   177.03,2,     1.63,2,     0.12,     6.62,2,     0.05,     0.01,2,     0.01,    0.690,2,    0.013,    2.339,2,    1.362,2,    0.037,2,   -999.0,9,   -999.0,9,-999.0000,-999,9,  -999.00,9,  -999.00,   -999.0,9,   -999.0,  17.0583,  25.6941
  49NZ20090410,   P21,   150,  1,     29, X12044,2,20090516,0836,-17.4990,-145.1693, 3231,    400.8,2,  11.6200,2,  11.62082,2,  34.6591,2,  34.6587,2,   149.26,2,   149.46,2,     7.77,2,     0.14,    17.95,2,     0.08,     0.01,2,     0.01,    1.478,2,    0.014,    2.016,2,    1.074,2,    0.030,2,   -999.0,9,   -999.0,9,-999.0000,-999,9,  -999.00,9,  -999.00,   -999.0,9,   -999.0,  11.5685,  26.4057
  49NZ20090410,   P21,   150,  1,     28, X12048,2,20090516,0836,-17.4990,-145.1693, 3231,    499.2,2,   7.9505,2,   7.95516,2,  34.4627,2,  34.4622,6,   128.89,2,   128.87,2,    18.49,2,     0.16,    29.15,2,     0.11,     0.01,2,     0.01,    2.151,2,    0.015,    0.914,2,    0.473,2,    0.013,2,   -999.0,9,   -999.0,9,-999.0000,-999,9,  -999.00,9,  -999.00,   -999.0,9,   -999.0,   7.8996,  26.8668
  49NZ20090410,   P21,   150,  1,     27, X12027,2,20090516,0836,-17.4990,-145.1693, 3231,    600.3,2,   6.4759,2,   6.47545,2,  34.4590,2,  34.4591,2,   134.33,2,   134.26,2,    30.56,2,     0.19,    32.24,2,     0.12,     0.01,2,     0.01,    2.296,2,    0.016,    0.359,6,    0.188,6,    0.012,6,   -999.0,9,   -999.0,9,-999.0000,-999,9,  -999.00,9,  -999.00,   -999.0,9,   -999.0,   6.4209,  27.0707
  49NZ20090410,   P21,   150,  1,     26, X12026,2,20090516,0836,-17.4990,-145.1693, 3231,    701.5,2,   5.5782,2,   5.57836,2,  34.4601,2,  34.4603,2,   140.27,2,   140.21,2,    40.68,2,     0.21,    33.50,2,     0.13,     0.01,2,     0.01,    2.367,2,    0.016,    0.181,2,    0.094,2,    0.013,2,   -999.0,9,   -999.0,9,-999.0000,-999,9,  -999.00,9,  -999.00,   -999.0,9,   -999.0,   5.5182,  27.1859
  49NZ20090410,   P21,   150,  1,     25, X12025,2,20090516,0836,-17.4990,-145.1693, 3231,    799.8,2,   4.9627,2,   4.96275,2,  34.4750,2,  34.4749,2,   139.19,2,   139.21,2,    50.77,2,     0.23,    34.54,2,     0.13,     0.01,2,     0.01,    2.437,2,    0.016,    0.092,2,    0.051,2,    0.006,2,   -999.0,9,   -999.0,9,-999.0000,-999,9,  -999.00,9,  -999.00,   -999.0,9,   -999.0,   4.8975,  27.2708
  49NZ20090410,   P21,   150,  1,     24, X12024,2,20090516,0836,-17.4990,-145.1693, 3231,    901.8,2,   4.3867,2,   4.38659,2,  34.4929,2,  34.4927,2,   139.01,2,   138.98,2,    61.10,2,     0.25,    35.20,2,     0.13,     0.01,2,     0.01,    2.493,2,    0.016,    0.042,2,    0.024,2,    0.000,2,   -999.0,9,   -999.0,9,-999.0000,-999,9,  -999.00,9,  -999.00,   -999.0,9,   -999.0,   4.3165,  27.3494
  49NZ20090410,   P21,   150,  1,     23, X12028,2,20090516,0836,-17.4990,-145.1693, 3231,   1001.6,2,   4.1013,2,   4.10112,2,  34.5023,2,  34.5027,6,   141.25,2,   141.37,2,    66.11,2,     0.26,    35.27,2,     0.13,     0.00,2,     0.01,    2.500,2,    0.016,    0.032,2,    0.017,2,    0.000,2,   -999.0,9,   -999.0,9,-999.0000,-999,9,  -999.00,9,  -999.00,   -999.0,9,   -999.0,   4.0247,  27.3877
  49NZ20090410,   P21,   150,  1,     22, X12022,2,20090516,0836,-17.4990,-145.1693, 3231,   1201.1,2,   3.5632,2,   3.56359,2,  34.5333,2,  34.5336,2,   141.56,2,   141.65,2,    77.99,2,     0.29,    35.71,2,     0.13,     0.01,2,     0.01,    2.521,2,    0.016,    0.014,2,    0.009,2,    0.000,2,   -999.0,9,   -999.0,9,-999.0000,-999,9,  -999.00,9,  -999.00,   -999.0,9,   -999.0,   3.4745,  27.4677
  49NZ20090410,   P21,   150,  1,     21, X12021,2,20090516,0836,-17.4990,-145.1693, 3231,   1401.2,2,   3.1821,2,   3.18233,2,  34.5555,2,  34.5558,2,   143.24,2,   143.39,2,    86.29,2,     0.31,    35.97,2,     0.13,     0.01,2,     0.01,    2.536,2,    0.016,    0.004,2,    0.003,2,    0.000,2,   -999.0,9,   -999.0,9,-999.0000,-999,9,  -999.00,9,  -999.00,   -999.0,9,   -999.0,   3.0805,  27.5228
  49NZ20090410,   P21,   150,  1,     20, X12020,2,20090516,0836,-17.4990,-145.1693, 3231,   1601.0,2,   2.7344,2,   2.73445,2,  34.5859,2,  34.5861,2,   146.69,2,   146.93,2,    96.71,2,     0.33,    35.89,2,     0.13,     0.01,2,     0.01,    2.533,2,    0.016,    0.001,2,    0.000,2,    0.000,2,   -999.0,9,   -999.0,9,-999.0000,-999,9,  -999.00,9,  -999.00,   -999.0,9,   -999.0,   2.6213,  27.5883
  49NZ20090410,   P21,   150,  1,     19, X12019,2,20090516,0836,-17.4990,-145.1693, 3231,   1798.7,2,   2.3799,2,   2.37989,2,  34.6125,2,  34.6125,6,   150.56,2,   150.78,2,   104.93,2,     0.35,    35.82,2,     0.13,     0.01,2,     0.01,    2.524,2,    0.016,    0.000,2,    0.000,2,    0.000,2,   -999.0,9,   -999.0,9,-999.0000,-999,9,  -999.00,9,  -999.00,   -999.0,9,   -999.0,   2.2549,  27.6406
  49NZ20090410,   P21,   150,  1,     18, X12043,2,20090516,0836,-17.4990,-145.1693, 3231,   1999.2,2,   2.2114,2,   2.21159,2,  34.6265,2,  34.6268,2,   152.98,2,   153.12,2,   108.99,2,     0.36,    35.73,2,     0.13,     0.00,2,     0.01,    2.508,2,    0.016,    0.000,2,    0.000,2,    0.000,2,   -999.0,9,   -999.0,9,-999.0000,-999,9,  -999.00,9,  -999.00,   -999.0,9,   -999.0,   2.0718,  27.6667
  49NZ20090410,   P21,   150,  1,     17, X12042,2,20090516,0836,-17.4990,-145.1693, 3231,   2200.7,2,   2.0550,2,   2.05481,2,  34.6399,2,  34.6401,2,   155.45,2,   155.63,2,   112.41,2,     0.37,    35.49,2,     0.13,     0.01,2,     0.01,    2.507,2,    0.016,    0.000,2,    0.000,2,    0.000,2,   -999.0,9,   -999.0,9,-999.0000,-999,9,  -999.00,9,  -999.00,   -999.0,9,   -999.0,   1.9005,  27.6910
  49NZ20090410,   P21,   150,  1,     16, X12016,2,20090516,0836,-17.4990,-145.1693, 3231,   2398.7,2,   1.9037,2,   1.90367,2,  34.6530,2,  34.6530,6,   157.79,2,   157.96,2,   115.97,2,     0.37,    35.35,2,     0.13,     0.01,2,     0.01,    2.485,2,    0.016,    0.000,2,    0.000,2,    0.000,2,   -999.0,9,   -999.0,9,-999.0000,-999,9,  -999.00,9,  -999.00,   -999.0,9,   -999.0,   1.7343,  27.7143
  49NZ20090410,   P21,   150,  1,     15, X12015,2,20090516,0836,-17.4990,-145.1693, 3231,   2598.7,2,   1.8043,2,   1.80427,2,  34.6617,2,  34.6614,2,   161.08,2,   161.30,2,   117.60,2,     0.38,    35.17,2,     0.13,     0.01,2,     0.01,    2.472,2,    0.016,    0.000,2,    0.000,2,    0.000,2,   -999.0,9,   -999.0,9,-999.0000,-999,9,  -999.00,9,  -999.00,   -999.0,9,   -999.0,   1.6187,  27.7300
  49NZ20090410,   P21,   150,  1,     14, X12050,2,20090516,0836,-17.4990,-145.1693, 3231,   2800.3,2,   1.7424,2,   1.74232,2,  34.6676,2,  34.6679,2,   163.16,2,   163.49,2,   119.04,2,     0.38,    35.05,2,     0.13,     0.01,2,     0.01,    2.464,2,    0.016,    0.000,2,    0.000,2,    0.000,2,   -999.0,9,   -999.0,9,-999.0000,-999,9,  -999.00,9,  -999.00,   -999.0,9,   -999.0,   1.5393,  27.7406
  49NZ20090410,   P21,   150,  1,     13, X12014,2,20090516,0836,-17.4990,-145.1693, 3231,   2999.2,2,   1.7133,2,   1.71339,2,  34.6709,2,  34.6708,2,   164.69,2,   164.99,2,   119.09,2,     0.38,    34.87,2,     0.13,     0.01,2,     0.01,    2.450,2,    0.016,    0.000,2,    0.000,2,    0.000,2,   -999.0,9,   -999.0,9,-999.0000,-999,9,  -999.00,9,  -999.00,   -999.0,9,   -999.0,   1.4919,  27.7467
  49NZ20090410,   P21,   150,  1,     12, X12012,9,20090516,0836,-17.4990,-145.1693, 3231,     10.4,2,  27.9867,2,  27.98632,2,  36.3041,2,-999.0000,9,   196.50,2,  -999.00,9,  -999.00,9,  -999.00,  -999.00,9,  -999.00,  -999.00,9,  -999.00, -999.000,9, -999.000, -999.000,9, -999.000,9, -999.000,9,   -999.0,9,   -999.0,9,-999.0000,-999,9,  -999.00,9,  -999.00,   -999.0,9,   -999.0,  27.9842,  23.3809
  49NZ20090410,   P21,   150,  1,     11, X12041,9,20090516,0836,-17.4990,-145.1693, 3231,    201.0,2,  21.7358,2,  21.73537,2,  35.9957,2,-999.0000,9,   180.13,2,  -999.00,9,  -999.00,9,  -999.00,  -999.00,9,  -999.00,  -999.00,9,  -999.00, -999.000,9, -999.000, -999.000,9, -999.000,9, -999.000,9,   -999.0,9,   -999.0,9,-999.0000,-999,9,  -999.00,9,  -999.00,   -999.0,9,   -999.0,  21.6962,  25.0598
  49NZ20090410,   P21,   150,  1,     10, X12040,9,20090516,0836,-17.4990,-145.1693, 3231,    799.5,2,   4.9631,2,   4.96289,2,  34.4750,2,-999.0000,9,   139.21,2,  -999.00,9,  -999.00,9,  -999.00,  -999.00,9,  -999.00,  -999.00,9,  -999.00, -999.000,9, -999.000, -999.000,9, -999.000,9, -999.000,9,   -999.0,9,   -999.0,9,-999.0000,-999,9,  -999.00,9,  -999.00,   -999.0,9,   -999.0,   4.8979,  27.2707
  49NZ20090410,   P21,   150,  1,      9, X12009,9,20090516,0836,-17.4990,-145.1693, 3231,   1201.0,2,   3.5664,2,   3.56620,2,  34.5330,2,-999.0000,9,   141.58,2,  -999.00,9,  -999.00,9,  -999.00,  -999.00,9,  -999.00,  -999.00,9,  -999.00, -999.000,9, -999.000, -999.000,9, -999.000,9, -999.000,9,   -999.0,9,   -999.0,9,-999.0000,-999,9,  -999.00,9,  -999.00,   -999.0,9,   -999.0,   3.4777,  27.4672
  49NZ20090410,   P21,   150,  1,      8, X12008,9,20090516,0836,-17.4990,-145.1693, 3231,   2000.0,2,   2.2122,2,   2.21232,2,  34.6266,2,-999.0000,9,   153.00,2,  -999.00,9,  -999.00,9,  -999.00,  -999.00,9,  -999.00,  -999.00,9,  -999.00, -999.000,9, -999.000, -999.000,9, -999.000,9, -999.000,9,   -999.0,9,   -999.0,9,-999.0000,-999,9,  -999.00,9,  -999.00,   -999.0,9,   -999.0,   2.0726,  27.6667
  49NZ20090410,   P21,   150,  1,      7, X12007,9,20090516,0836,-17.4990,-145.1693, 3231,   2201.4,2,   2.0545,2,   2.05446,2,  34.6400,2,-999.0000,9,   155.47,2,  -999.00,9,  -999.00,9,  -999.00,  -999.00,9,  -999.00,  -999.00,9,  -999.00, -999.000,9, -999.000, -999.000,9, -999.000,9, -999.000,9,   -999.0,9,   -999.0,9,-999.0000,-999,9,  -999.00,9,  -999.00,   -999.0,9,   -999.0,   1.8999,  27.6911
  49NZ20090410,   P21,   150,  1,      6, X12035,9,20090516,0836,-17.4990,-145.1693, 3231,   2398.6,2,   1.9036,2,   1.90362,2,  34.6531,2,-999.0000,9,   157.77,2,  -999.00,9,  -999.00,9,  -999.00,  -999.00,9,  -999.00,  -999.00,9,  -999.00, -999.000,9, -999.000, -999.000,9, -999.000,9, -999.000,9,   -999.0,9,   -999.0,9,-999.0000,-999,9,  -999.00,9,  -999.00,   -999.0,9,   -999.0,   1.7342,  27.7143
  49NZ20090410,   P21,   150,  1,      5, X12038,9,20090516,0836,-17.4990,-145.1693, 3231,   2599.4,2,   1.8046,2,   1.80469,2,  34.6616,2,-999.0000,9,   161.14,2,  -999.00,9,  -999.00,9,  -999.00,  -999.00,9,  -999.00,  -999.00,9,  -999.00, -999.000,9, -999.000, -999.000,9, -999.000,9, -999.000,9,   -999.0,9,   -999.0,9,-999.0000,-999,9,  -999.00,9,  -999.00,   -999.0,9,   -999.0,   1.6189,  27.7298
  49NZ20090410,   P21,   150,  1,      4, X12034,9,20090516,0836,-17.4990,-145.1693, 3231,   2800.3,2,   1.7421,2,   1.74209,2,  34.6677,2,-999.0000,9,   163.14,2,  -999.00,9,  -999.00,9,  -999.00,  -999.00,9,  -999.00,  -999.00,9,  -999.00, -999.000,9, -999.000, -999.000,9, -999.000,9, -999.000,9,   -999.0,9,   -999.0,9,-999.0000,-999,9,  -999.00,9,  -999.00,   -999.0,9,   -999.0,   1.5390,  27.7406
  49NZ20090410,   P21,   150,  1,      3, X12033,2,20090516,0836,-17.4990,-145.1693, 3231,   3000.2,2,   1.7185,2,   1.71849,2,  34.6706,2,  34.6707,2,   164.60,2,  -999.00,9,  -999.00,9,  -999.00,  -999.00,9,  -999.00,  -999.00,9,  -999.00, -999.000,9, -999.000, -999.000,9, -999.000,9, -999.000,9,   -999.0,9,   -999.0,9,-999.0000,-999,9,  -999.00,9,  -999.00,   -999.0,9,   -999.0,   1.4969,  27.7461
  49NZ20090410,   P21,   150,  1,      2, X12032,9,20090516,0836,-17.4990,-145.1693, 3231,    899.9,2,   4.3873,2,   4.38748,2,  34.4930,2,-999.0000,9,   138.98,2,  -999.00,9,  -999.00,9,  -999.00,  -999.00,9,  -999.00,  -999.00,9,  -999.00, -999.000,9, -999.000, -999.000,9, -999.000,9, -999.000,9,   -999.0,9,   -999.0,9,-999.0000,-999,9,  -999.00,9,  -999.00,   -999.0,9,   -999.0,   4.3172,  27.3494
  49NZ20090410,   P21,   150,  1,      1, X12046,2,20090516,0836,-17.4990,-145.1693, 3231,   3248.9,2,   1.5997,2,   1.59946,2,  34.6799,2,  34.6801,6,   170.64,2,   170.80,2,   119.99,2,     0.38,    34.57,2,     0.13,     0.01,2,     0.01,    2.423,2,    0.016,    0.000,2,    0.000,2,    0.000,2,   -999.0,9,   -999.0,9,-999.0000,-999,9,  -999.00,9,  -999.00,   -999.0,9,   -999.0,   1.3564,  27.7636