BOTTLE,20220818CCHSIOAMB
EXPOCODE,SECT_ID,STNNBR,CASTNO,SAMPNO,BTLNBR,BTLNBR_FLAG_W,DATE,TIME,LATITUDE,LONGITUDE,DEPTH,CTDPRS,CTDPRS_FLAG_W,CTDTMP,CTDTMP_FLAG_W,SBE35,SBE35_FLAG_W,CTDSAL,CTDSAL_FLAG_W,SALNTY,SALNTY_FLAG_W,CTDOXY,CTDOXY_FLAG_W,OXYGEN,OXYGEN_FLAG_W,SILCAT,SILCAT_FLAG_W,SILUNC,NITRAT,NITRAT_FLAG_W,NRAUNC,NITRIT,NITRIT_FLAG_W,NRIUNC,PHSPHT,PHSPHT_FLAG_W,PHPUNC,CFC-11,CFC-11_FLAG_W,CFC-12,CFC-12_FLAG_W,CFC113,CFC113_FLAG_W,TCARBN,TCARBN_FLAG_W,ALKALI,ALKALI_FLAG_W,PH_TOT,PH_TMP,PH_TOT_FLAG_W,DELC13,DELC13_FLAG_W,C13ERR,DELC14,DELC14_FLAG_W,C14ERR,THETA,SIG0
,,,,,,,,,,,METERS,DBAR,,ITS-90,,ITS-90,,PSS-78,,PSS-78,,UMOL/KG,,UMOL/KG,,UMOL/KG,,UMOL/KG,UMOL/KG,,UMOL/KG,UMOL/KG,,UMOL/KG,UMOL/KG,,UMOL/KG,PMOL/KG,,PMOL/KG,,PMOL/KG,,UMOL/KG,,UMOL/KG,,,DEG C,,/MILLE,,/MILLE,/MILLE,,/MILLE,DEG C,KG/M^3
  49NZ20090410,   P21,    34,  1,     36, X12006,2,20090421,2001,-16.7437, -82.0027, 4548,     10.0,2,  24.0185,2,  24.01788,2,  35.5080,2,  35.5117,2,   210.38,2,   210.25,2,     0.69,2,     0.12,     0.08,2,     0.03,     0.01,2,     0.01,    0.570,2,    0.013,    1.693,2,    1.064,2, -999.000,5,   2063.3,2,   2361.0,2,   8.0334,  25,6,  -999.00,9,  -999.00,   -999.0,9,   -999.0,  24.0164,  24.0211
  49NZ20090410,   P21,    34,  1,     35, X12047,2,20090421,2001,-16.7437, -82.0027, 4548,     51.5,2,  19.5484,2,  19.54880,2,  35.2205,2,  35.2060,2,   246.23,2,   250.31,2,     0.60,2,     0.12,     0.06,2,     0.03,     0.01,2,     0.01,    0.436,2,    0.013,    2.251,2,    1.379,2, -999.000,5,   2060.8,6,   2334.5,2,   8.0003,  25,2,  -999.00,9,  -999.00,   -999.0,9,   -999.0,  19.5390,  25.0508
  49NZ20090410,   P21,    34,  1,     34, X12004,2,20090421,2001,-16.7437, -82.0027, 4548,    101.0,2,  15.4283,2,  15.38902,2,  34.7117,2,  34.7365,2,   201.80,2,   196.32,2,     1.98,2,     0.12,     9.38,2,     0.06,     0.08,2,     0.01,    1.045,2,    0.013,    2.548,6,    1.511,6,    0.244,6,   2110.2,2,   2298.4,6,   7.8411,  25,2,  -999.00,9,  -999.00,   -999.0,9,   -999.0,  15.4128,  25.6583
  49NZ20090410,   P21,    34,  1,     33, X12003,2,20090421,2001,-16.7437, -82.0027, 4548,    149.9,2,  13.0274,2,  13.02332,2,  34.7274,2,  34.7224,2,    32.88,2,    39.30,2,    15.34,2,     0.15,    22.26,2,     0.10,     0.02,2,     0.01,    2.490,2,    0.016,    1.843,2,    1.049,2,    0.074,2,   2248.5,2,   2292.4,2,   7.4682,  25,2,  -999.00,9,  -999.00,   -999.0,9,   -999.0,  13.0068,  26.1803
  49NZ20090410,   P21,    34,  1,     32, X12002,2,20090421,2001,-16.7437, -82.0027, 4548,    199.7,2,  12.1618,2,  12.16063,2,  34.8001,2,  34.7983,2,     1.33,2,     0.61,2,    24.73,2,     0.17,    20.77,2,     0.09,     0.02,2,     0.01,    2.728,2,    0.017,    0.836,2,    0.473,2,    0.023,2,   2274.6,2,   2300.6,2,   7.4141,  25,2,  -999.00,9,  -999.00,   -999.0,9,   -999.0,  12.1356,  26.4078
  49NZ20090410,   P21,    34,  1,     31, X12001,2,20090421,2001,-16.7437, -82.0027, 4548,    250.7,2,  11.3122,2,  11.31280,2,  34.7636,2,  34.7608,6,     1.38,2,     0.78,2,    25.68,2,     0.18,    26.52,2,     0.11,     0.03,2,     0.01,    2.741,2,    0.017,    0.560,2,    0.312,2,    0.013,2,   2276.4,2,   2296.9,2,   7.3939,  25,2,  -999.00,9,  -999.00,   -999.0,9,   -999.0,  11.2807,  26.5403
  49NZ20090410,   P21,    34,  1,     30, X12030,2,20090421,2001,-16.7437, -82.0027, 4548,    301.0,2,  10.4352,2,  10.43420,2,  34.7222,2,  34.7203,2,     1.44,2,     0.96,2,    27.49,2,     0.18,    30.74,2,     0.12,     0.35,2,     0.01,    2.788,2,    0.017,    0.332,2,    0.183,2,    0.011,2,   2281.2,2,   2296.7,2,   7.3850,  25,2,  -999.00,9,  -999.00,   -999.0,9,   -999.0,  10.3993,  26.6660
  49NZ20090410,   P21,    34,  1,     29, X12044,2,20090421,2001,-16.7437, -82.0027, 4548,    400.9,2,   8.9877,2,   8.98693,2,  34.6451,2,  34.6439,2,     3.46,2,     3.30,2,    31.86,2,     0.19,    37.87,2,     0.14,     0.02,2,     0.01,    2.925,2,    0.017,    0.143,2,    0.078,2,    0.010,2,   2286.5,2,   2297.6,2,   7.3690,  25,2,  -999.00,9,  -999.00,   -999.0,9,   -999.0,   8.9439,  26.8492
  49NZ20090410,   P21,    34,  1,     28, X12048,2,20090421,2001,-16.7437, -82.0027, 4548,    499.0,2,   7.7522,2,   7.75055,2,  34.5657,2,  34.5651,6,    19.65,2,    20.27,2,    34.18,2,     0.19,    40.58,2,     0.15,     0.01,2,     0.01,    2.953,2,    0.017,    0.132,2,    0.066,2,    0.000,2,   2283.2,2,   2297.3,2,   7.3781,  25,2,  -999.00,9,  -999.00,   -999.0,9,   -999.0,   7.7020,  26.9768
  49NZ20090410,   P21,    34,  1,     27, X12027,2,20090421,2001,-16.7437, -82.0027, 4548,    597.5,2,   6.6102,2,   6.61268,2,  34.5058,2,  34.5056,2,    38.32,2,    38.79,2,    38.73,2,     0.20,    41.95,2,     0.15,     0.01,2,     0.01,    3.010,2,    0.017,    0.119,6,    0.059,6,    0.000,6,   2280.6,2,   2299.5,2,   7.3924,  25,2,  -999.00,9,  -999.00,   -999.0,9,   -999.0,   6.5548,  27.0899
  49NZ20090410,   P21,    34,  1,     26, X12026,2,20090421,2001,-16.7437, -82.0027, 4548,    700.8,2,   5.9441,2,   5.94329,2,  34.5070,2,  34.5065,2,    34.12,2,    34.75,2,    48.60,2,     0.23,    43.74,2,     0.16,     0.01,2,     0.01,    3.124,2,    0.018,    0.017,2,    0.010,2,    0.000,2,   2295.1,6,   2310.0,2,   7.3809,  25,2,  -999.00,9,  -999.00,   -999.0,9,   -999.0,   5.8822,  27.1780
  49NZ20090410,   P21,    34,  1,     25, X12025,2,20090421,2001,-16.7437, -82.0027, 4548,    798.8,2,   5.3990,2,   5.39990,2,  34.5129,2,  34.5125,2,    34.84,2,    34.69,2,    58.97,2,     0.25,    44.72,2,     0.16,     0.01,2,     0.01,    3.195,2,    0.018,    0.007,2,    0.002,2,    0.000,2,   2305.7,2,   2321.0,6,   7.3765,  25,2,  -999.00,9,  -999.00,   -999.0,9,   -999.0,   5.3312,  27.2502
  49NZ20090410,   P21,    34,  1,     24, X12024,2,20090421,2001,-16.7437, -82.0027, 4548,    900.8,2,   4.8250,2,   4.82962,2,  34.5121,2,  34.5116,2,    47.84,2,    48.65,2,    66.93,2,     0.27,    43.93,2,     0.16,     0.01,2,     0.01,    3.158,2,    0.018,    0.004,2,    0.003,2,    0.000,2,   2308.1,2,   2330.8,2,   7.3987,  25,6,  -999.00,9,  -999.00,   -999.0,9,   -999.0,   4.7518,  27.3167
  49NZ20090410,   P21,    34,  1,     23, X12028,2,20090421,2001,-16.7437, -82.0027, 4548,    999.1,2,   4.4241,2,   4.42495,2,  34.5232,2,  34.5232,6,    56.76,2,    57.07,2,    75.17,2,     0.28,    43.39,2,     0.15,     0.01,2,     0.01,    3.134,2,    0.018,    0.000,2,    0.003,2,    0.000,2,   2313.0,2,   2339.7,2,   7.4148,  25,2,  -999.00,9,  -999.00,   -999.0,9,   -999.0,   4.3452,  27.3704
  49NZ20090410,   P21,    34,  1,     22, X12022,2,20090421,2001,-16.7437, -82.0027, 4548,   1201.4,2,   3.7111,2,   3.70920,2,  34.5558,2,  34.5561,2,    70.44,2,    70.28,2,    92.22,2,     0.32,    42.07,2,     0.15,     0.01,2,     0.01,    3.068,2,    0.018,    0.000,2,    0.001,2,    0.000,2,   2322.9,2,   2359.9,2,   7.4420,  25,2,  -999.00,9,  -999.00,   -999.0,9,   -999.0,   3.6209,  27.4713
  49NZ20090410,   P21,    34,  1,     21, X12021,2,20090421,2001,-16.7437, -82.0027, 4548,   1401.2,2,   3.1868,2,   3.18750,2,  34.5814,2,  34.5809,2,    82.59,2,    82.46,2,   104.61,2,     0.35,    41.18,2,     0.15,     0.01,2,     0.01,    2.992,2,    0.017,    0.000,2,    0.000,2,    0.000,2,   2329.8,2,   2373.8,2,   7.4635,  25,2,  -999.00,9,  -999.00,   -999.0,9,   -999.0,   3.0851,  27.5431
  49NZ20090410,   P21,    34,  1,     20, X12020,2,20090421,2001,-16.7437, -82.0027, 4548,   1601.4,2,   2.8044,2,   2.80442,2,  34.6053,2,  34.6053,2,    90.72,2,    90.92,2,   115.64,2,     0.37,    40.46,2,     0.15,     0.01,2,     0.01,    2.930,2,    0.017,    0.000,2,    0.000,2,    0.000,2,   2337.2,2,   2387.6,2,   7.4805,  25,6,  -999.00,9,  -999.00,   -999.0,9,   -999.0,   2.6903,  27.5978
  49NZ20090410,   P21,    34,  1,     19, X12019,2,20090421,2001,-16.7437, -82.0027, 4548,   1800.1,2,   2.4961,2,   2.49543,2,  34.6223,2,  34.6226,2,   105.15,2,   105.17,2,   120.20,2,     0.38,    39.31,2,     0.14,     0.01,2,     0.01,    2.823,2,    0.017,    0.000,2,    0.000,2,    0.000,2,   2334.0,2,   2394.0,2,   7.5065,  25,2,  -999.00,9,  -999.00,   -999.0,9,   -999.0,   2.3693,  27.6390
  49NZ20090410,   P21,    34,  1,     18, X12043,2,20090421,2001,-16.7437, -82.0027, 4548,   2000.4,2,   2.2908,2,   2.29088,2,  34.6388,2,  34.6388,2,   108.95,2,   109.09,2,   127.65,2,     0.40,    39.02,2,     0.14,     0.01,2,     0.01,    2.793,2,    0.017, -999.000,9, -999.000,9, -999.000,9,   2339.6,2,   2402.6,2,   7.5166,  25,2,  -999.00,9,  -999.00,   -999.0,9,   -999.0,   2.1499,  27.6702
  49NZ20090410,   P21,    34,  1,     17, X12042,2,20090421,2001,-16.7437, -82.0027, 4548,   2200.0,2,   2.0839,2,   2.08411,2,  34.6525,2,  34.6522,6,   121.92,2,   122.10,2,   128.28,2,     0.40,    37.92,2,     0.14,     0.01,2,     0.01,    2.701,2,    0.017, -999.000,9, -999.000,9, -999.000,9,   2334.0,2,   2405.0,2,   7.5393,  25,2,  -999.00,9,  -999.00,   -999.0,9,   -999.0,   1.9289,  27.6988
  49NZ20090410,   P21,    34,  1,     16, X12016,2,20090421,2001,-16.7437, -82.0027, 4548,   2398.8,2,   1.9370,2,   1.93708,2,  34.6629,2,  34.6629,2,   134.89,2,   134.94,2,   126.89,2,     0.40,    36.96,2,     0.14,     0.01,2,     0.01,    2.622,2,    0.017,    0.002,2,    0.000,2,    0.000,2,   2325.9,6,   2404.2,2,   7.5597,  25,2,  -999.00,9,  -999.00,   -999.0,9,   -999.0,   1.7670,  27.7198
  49NZ20090410,   P21,    34,  1,     15, X12015,2,20090421,2001,-16.7437, -82.0027, 4548,   2603.4,2,   1.8548,2,   1.85502,2,  34.6705,2,  34.6707,2,   139.38,2,   139.39,2,   128.37,2,     0.40,    36.55,2,     0.14,     0.01,2,     0.01,    2.575,2,    0.016, -999.000,9, -999.000,9, -999.000,9,   2327.0,2,   2407.9,6,   7.5696,  25,2,  -999.00,9,  -999.00,   -999.0,9,   -999.0,   1.6677,  27.7334
  49NZ20090410,   P21,    34,  1,     14, X12050,2,20090421,2001,-16.7437, -82.0027, 4548,   2802.4,2,   1.8125,2,   1.81271,2,  34.6756,2,  34.6750,2,   137.68,2,   137.75,2,   132.89,2,     0.41,    36.70,2,     0.14,     0.01,2,     0.01,    2.590,2,    0.016, -999.000,9, -999.000,9, -999.000,9,   2332.6,2,   2415.8,2,   7.5721,  25,6,  -999.00,9,  -999.00,   -999.0,9,   -999.0,   1.6078,  27.7419
  49NZ20090410,   P21,    34,  1,     13, X12013,7,20090421,2001,-16.7437, -82.0027, 4548,   3000.7,2,   1.7966,2,   1.79660,2,  34.6780,2,  34.6781,2,   137.13,2,   137.17,2,   135.31,2,     0.42,    36.82,2,     0.14,     0.01,2,     0.01,    2.593,2,    0.016,    0.003,2,    0.001,2,    0.000,2,   2335.4,2,   2419.4,2,   7.5745,  25,2,  -999.00,9,  -999.00,   -999.0,9,   -999.0,   1.5732,  27.7464
  49NZ20090410,   P21,    34,  1,     12, X12012,2,20090421,2001,-16.7437, -82.0027, 4548,   3250.8,2,   1.7912,2,   1.79135,2,  34.6806,2,  34.6799,2,   139.45,2,   139.53,2,   135.07,2,     0.42,    36.59,2,     0.14,     0.01,2,     0.01,    2.584,2,    0.016,    0.001,2,    0.002,2,    0.000,2,   2335.4,2,   2419.5,2,   7.5782,  25,2,  -999.00,9,  -999.00,   -999.0,9,   -999.0,   1.5432,  27.7507
  49NZ20090410,   P21,    34,  1,     11, X12041,2,20090421,2001,-16.7437, -82.0027, 4548,   3501.2,2,   1.7893,2,   1.78922,2,  34.6829,2,  34.6823,6,   141.53,2,   141.76,2,   134.04,2,     0.41,    36.42,2,     0.13,     0.01,2,     0.01,    2.562,2,    0.016,    0.000,2,    0.001,2,    0.000,2,   2331.9,2,   2419.1,2,   7.5810,  25,2,  -999.00,9,  -999.00,   -999.0,9,   -999.0,   1.5158,  27.7545
  49NZ20090410,   P21,    34,  1,     10, X12040,2,20090421,2001,-16.7437, -82.0027, 4548,   3749.6,2,   1.7750,2,   1.77517,2,  34.6859,2,  34.6855,2,   147.92,2,   148.19,2,   129.92,2,     0.40,    35.84,2,     0.13,     0.01,2,     0.01,    2.527,2,    0.016,    0.002,2,    0.001,2,    0.000,2,   2325.1,2,   2412.6,2,   7.5865,  25,2,  -999.00,9,  -999.00,   -999.0,9,   -999.0,   1.4756,  27.7599
  49NZ20090410,   P21,    34,  1,      9, X12009,2,20090421,2001,-16.7437, -82.0027, 4548,   4002.0,2,   1.7668,2,   1.76686,2,  34.6883,2,  34.6880,2,   153.99,2,   154.26,2,   125.85,2,     0.40,    35.44,2,     0.13,     0.01,2,     0.01,    2.493,2,    0.016,    0.002,2,    0.002,2,    0.000,2,   2319.3,2,   2406.2,2,   7.5924,  25,2,  -999.00,9,  -999.00,   -999.0,9,   -999.0,   1.4401,  27.7644
  49NZ20090410,   P21,    34,  1,      8, X12008,2,20090421,2001,-16.7437, -82.0027, 4548,   4251.5,2,   1.7719,2,   1.77193,2,  34.6896,2,  34.6894,2,   154.80,2,   154.93,2,   125.95,2,     0.40,    35.33,2,     0.13,     0.01,2,     0.01,    2.488,2,    0.016,    0.003,2,    0.001,2,    0.000,2,   2318.8,6,   2407.1,2,   7.5921,  25,2,  -999.00,9,  -999.00,   -999.0,9,   -999.0,   1.4171,  27.7671
  49NZ20090410,   P21,    34,  1,      7, X12007,2,20090421,2001,-16.7437, -82.0027, 4548,   4501.3,2,   1.7932,2,   1.79330,2,  34.6900,2,  34.6899,2,   154.67,2,   154.93,2,   125.70,2,     0.40,    35.37,2,     0.13,     0.01,2,     0.01,    2.483,2,    0.016,    0.006,2,    0.000,2,    0.000,2,   2318.3,2,   2407.6,6,   7.5918,  25,2,  -999.00,9,  -999.00,   -999.0,9,   -999.0,   1.4090,  27.7680
  49NZ20090410,   P21,    34,  1,      6, X12035,9,20090421,2001,-16.7437, -82.0027, 4548,      9.7,2,  24.0188,2,  24.01836,2,  35.5087,2,-999.0000,9,   210.32,2,  -999.00,9,  -999.00,9,  -999.00,  -999.00,9,  -999.00,  -999.00,9,  -999.00, -999.000,9, -999.000, -999.000,9, -999.000,9, -999.000,9,   -999.0,9,   -999.0,9,-999.0000,-999,9,  -999.00,9,  -999.00,   -999.0,9,   -999.0,  24.0168,  24.0216
  49NZ20090410,   P21,    34,  1,      5, X12038,9,20090421,2001,-16.7437, -82.0027, 4548,     49.1,2,  19.5641,2,  19.56279,2,  35.2075,2,-999.0000,9,   246.70,2,  -999.00,9,  -999.00,9,  -999.00,  -999.00,9,  -999.00,  -999.00,9,  -999.00, -999.000,9, -999.000, -999.000,9, -999.000,9, -999.000,9,   -999.0,9,   -999.0,9,-999.0000,-999,9,  -999.00,9,  -999.00,   -999.0,9,   -999.0,  19.5552,  25.0366
  49NZ20090410,   P21,    34,  1,      4, X12034,9,20090421,2001,-16.7437, -82.0027, 4548,     99.2,2,  15.6405,2,  15.62686,2,  34.7434,2,-999.0000,9,   200.24,2,  -999.00,9,  -999.00,9,  -999.00,  -999.00,9,  -999.00,  -999.00,9,  -999.00, -999.000,9, -999.000, -999.000,9, -999.000,9, -999.000,9,   -999.0,9,   -999.0,9,-999.0000,-999,9,  -999.00,9,  -999.00,   -999.0,9,   -999.0,  15.6251,  25.6352
  49NZ20090410,   P21,    34,  1,      3, X12033,9,20090421,2001,-16.7437, -82.0027, 4548,   2999.0,2,   1.7965,2,   1.79654,2,  34.6781,2,-999.0000,9,   137.14,2,  -999.00,9,  -999.00,9,  -999.00,  -999.00,9,  -999.00,  -999.00,9,  -999.00, -999.000,9, -999.000, -999.000,9, -999.000,9, -999.000,9,   -999.0,9,   -999.0,9,-999.0000,-999,9,  -999.00,9,  -999.00,   -999.0,9,   -999.0,   1.5733,  27.7465
  49NZ20090410,   P21,    34,  1,      2, X12032,9,20090421,2001,-16.7437, -82.0027, 4548,   3000.3,2,   1.7966,2,   1.79658,2,  34.6781,2,-999.0000,9,   137.14,2,  -999.00,9,  -999.00,9,  -999.00,  -999.00,9,  -999.00,  -999.00,9,  -999.00, -999.000,9, -999.000, -999.000,9, -999.000,9, -999.000,9,   -999.0,9,   -999.0,9,-999.0000,-999,9,  -999.00,9,  -999.00,   -999.0,9,   -999.0,   1.5732,  27.7465
  49NZ20090410,   P21,    34,  1,      1, X12046,2,20090421,2001,-16.7437, -82.0027, 4548,   4596.0,2,   1.8038,2,   1.80378,2,  34.6899,2,  34.6900,6,   154.62,2,   155.10,2,   126.25,2,     0.40,    35.29,2,     0.13,     0.01,2,     0.01,    2.486,2,    0.016,    0.006,2,    0.002,2,    0.000,2,   2317.8,2,   2407.6,2,   7.5923,  25,2,  -999.00,9,  -999.00,   -999.0,9,   -999.0,   1.4081,  27.7679