BOTTLE,20220818CCHSIOAMB
EXPOCODE,SECT_ID,STNNBR,CASTNO,SAMPNO,BTLNBR,BTLNBR_FLAG_W,DATE,TIME,LATITUDE,LONGITUDE,DEPTH,CTDPRS,CTDPRS_FLAG_W,CTDTMP,CTDTMP_FLAG_W,SBE35,SBE35_FLAG_W,CTDSAL,CTDSAL_FLAG_W,SALNTY,SALNTY_FLAG_W,CTDOXY,CTDOXY_FLAG_W,OXYGEN,OXYGEN_FLAG_W,SILCAT,SILCAT_FLAG_W,SILUNC,NITRAT,NITRAT_FLAG_W,NRAUNC,NITRIT,NITRIT_FLAG_W,NRIUNC,PHSPHT,PHSPHT_FLAG_W,PHPUNC,CFC-11,CFC-11_FLAG_W,CFC-12,CFC-12_FLAG_W,CFC113,CFC113_FLAG_W,TCARBN,TCARBN_FLAG_W,ALKALI,ALKALI_FLAG_W,PH_TOT,PH_TMP,PH_TOT_FLAG_W,DELC13,DELC13_FLAG_W,C13ERR,DELC14,DELC14_FLAG_W,C14ERR,THETA,SIG0
,,,,,,,,,,,METERS,DBAR,,ITS-90,,ITS-90,,PSS-78,,PSS-78,,UMOL/KG,,UMOL/KG,,UMOL/KG,,UMOL/KG,UMOL/KG,,UMOL/KG,UMOL/KG,,UMOL/KG,UMOL/KG,,UMOL/KG,PMOL/KG,,PMOL/KG,,PMOL/KG,,UMOL/KG,,UMOL/KG,,,DEG C,,/MILLE,,/MILLE,/MILLE,,/MILLE,DEG C,KG/M^3
  49NZ20090410,   P21,   129,  1,     36, X12006,2,20090511,1907,-16.7508,-132.6623, 3980,     10.1,2,  27.5727,2,  27.57242,2,  36.3653,2,  36.3634,2,   199.47,2,   198.93,2,     0.58,2,     0.12,     0.48,2,     0.03,     0.02,2,     0.01,    0.267,2,    0.015,    1.460,2,    0.965,2, -999.000,5,   -999.0,9,   -999.0,9,-999.0000,-999,9,  -999.00,9,  -999.00,   -999.0,9,   -999.0,  27.5703,  23.5622
  49NZ20090410,   P21,   129,  1,     35, X12047,2,20090511,1907,-16.7508,-132.6623, 3980,     49.5,2,  27.4104,2,  27.40983,2,  36.5131,2,  36.5192,2,   199.79,2,   199.66,2,     0.64,2,     0.12,     0.20,2,     0.03,     0.01,2,     0.01,    0.235,2,    0.015,    1.482,2,    0.974,2, -999.000,5,   -999.0,9,   -999.0,9,-999.0000,-999,9,  -999.00,9,  -999.00,   -999.0,9,   -999.0,  27.3989,  23.7293
  49NZ20090410,   P21,   129,  1,     34, X12004,2,20090511,1907,-16.7508,-132.6623, 3980,    100.1,2,  24.8419,2,  24.84487,2,  36.4504,2,  36.4498,2,   205.54,2,   205.38,2,     0.64,2,     0.12,     0.10,2,     0.03,     0.01,2,     0.01,    0.221,2,    0.015,    1.700,6,    1.101,6, -999.000,5,   -999.0,9,   -999.0,9,-999.0000,-999,9,  -999.00,9,  -999.00,   -999.0,9,   -999.0,  24.8202,  24.4927
  49NZ20090410,   P21,   129,  1,     33, X12003,2,20090511,1907,-16.7508,-132.6623, 3980,    150.9,2,  23.6567,2,  23.66082,2,  36.3768,2,  36.3632,2,   192.66,2,   192.12,2,     0.61,2,     0.12,     0.20,2,     0.03,     1.13,2,     0.00,    0.313,2,    0.014,    1.764,2,    1.120,2, -999.000,5,   -999.0,9,   -999.0,9,-999.0000,-999,9,  -999.00,9,  -999.00,   -999.0,9,   -999.0,  23.6251,  24.7953
  49NZ20090410,   P21,   129,  1,     32, X12002,2,20090511,1907,-16.7508,-132.6623, 3980,    199.8,2,  21.7356,2,  21.71805,2,  36.0635,2,  36.0452,2,   187.03,2,   186.69,2,     0.60,2,     0.12,     2.31,2,     0.04,     0.04,2,     0.01,    0.401,2,    0.013,    1.970,2,    1.246,2,    0.147,2,   -999.0,9,   -999.0,9,-999.0000,-999,9,  -999.00,9,  -999.00,   -999.0,9,   -999.0,  21.6962,  25.1114
  49NZ20090410,   P21,   129,  1,     31, X12001,2,20090511,1907,-16.7508,-132.6623, 3980,    249.7,2,  19.5768,2,  19.56882,2,  35.6453,2,  35.6421,6,   186.27,2,   186.97,2,     0.67,2,     0.12,     3.13,2,     0.04,     0.02,2,     0.01,    0.427,2,    0.013,    2.167,2,    1.334,2,    0.051,2,   -999.0,9,   -999.0,9,-999.0000,-999,9,  -999.00,9,  -999.00,   -999.0,9,   -999.0,  19.5311,  25.3773
  49NZ20090410,   P21,   129,  1,     30, X12030,2,20090511,1907,-16.7508,-132.6623, 3980,    280.2,2,  17.7725,2,  17.78879,2,  35.3333,2,  35.3352,2,   185.06,2,   184.94,2,     1.01,2,     0.12,     4.81,2,     0.05,     0.01,2,     0.01,    0.540,2,    0.013,    2.345,2,    1.400,2,    0.032,2,   -999.0,9,   -999.0,9,-999.0000,-999,9,  -999.00,9,  -999.00,   -999.0,9,   -999.0,  17.7246,  25.5951
  49NZ20090410,   P21,   129,  1,     29, X12044,2,20090511,1907,-16.7508,-132.6623, 3980,    369.2,2,  11.7325,2,  11.71063,2,  34.5939,2,  34.5923,2,   144.53,2,   146.40,2,     6.82,2,     0.13,    16.92,2,     0.08,     0.01,2,     0.01,    1.436,2,    0.014,    2.257,2,    1.212,2,    0.046,2,   -999.0,9,   -999.0,9,-999.0000,-999,9,  -999.00,9,  -999.00,   -999.0,9,   -999.0,  11.6849,  26.3332
  49NZ20090410,   P21,   129,  1,     28, X12048,2,20090511,1907,-16.7508,-132.6623, 3980,    469.3,2,   7.7207,2,   7.72644,2,  34.4490,2,  34.4501,6,   107.46,2,   105.31,2,    19.22,2,     0.16,    31.91,2,     0.12,     0.01,2,     0.01,    2.335,2,    0.016,    0.644,2,    0.333,2,    0.021,2,   -999.0,9,   -999.0,9,-999.0000,-999,9,  -999.00,9,  -999.00,   -999.0,9,   -999.0,   7.6737,  26.8891
  49NZ20090410,   P21,   129,  1,     27, X12027,2,20090511,1907,-16.7508,-132.6623, 3980,    569.5,2,   6.1120,2,   6.11566,2,  34.3609,2,  34.3613,2,   163.11,2,   162.69,2,    19.39,2,     0.16,    31.32,2,     0.12,     0.00,2,     0.01,    2.189,2,    0.015,    0.642,6,    0.334,6,    0.016,6,   -999.0,9,   -999.0,9,-999.0000,-999,9,  -999.00,9,  -999.00,   -999.0,9,   -999.0,   6.0616,  27.0398
  49NZ20090410,   P21,   129,  1,     26, X12026,2,20090511,1907,-16.7508,-132.6623, 3980,    669.3,2,   5.5557,2,   5.55738,2,  34.4228,2,  34.4221,2,   126.46,2,   126.37,2,    34.98,2,     0.20,    35.44,2,     0.13,     0.01,2,     0.01,    2.475,2,    0.016,    0.115,2,    0.063,2,    0.000,2,   -999.0,9,   -999.0,9,-999.0000,-999,9,  -999.00,9,  -999.00,   -999.0,9,   -999.0,   5.4988,  27.1587
  49NZ20090410,   P21,   129,  1,     25, X12025,2,20090511,1907,-16.7508,-132.6623, 3980,    769.1,2,   5.2203,2,   5.21886,2,  34.4739,2,  34.4741,2,   107.63,2,   107.72,2,    48.42,2,     0.23,    37.45,2,     0.14,     0.01,2,     0.01,    2.634,2,    0.017,    0.026,2,    0.018,2,    0.000,2,   -999.0,9,   -999.0,9,-999.0000,-999,9,  -999.00,9,  -999.00,   -999.0,9,   -999.0,   5.1563,  27.2400
  49NZ20090410,   P21,   129,  1,     24, X12024,2,20090511,1907,-16.7508,-132.6623, 3980,    870.9,2,   4.8793,2,   4.87974,2,  34.4921,2,  34.4917,2,   105.56,2,   105.29,2,    56.56,2,     0.24,    38.21,2,     0.14,     0.01,2,     0.01,    2.693,2,    0.017,    0.012,2,    0.011,2,    0.000,2,   -999.0,9,   -999.0,9,-999.0000,-999,9,  -999.00,9,  -999.00,   -999.0,9,   -999.0,   4.8084,  27.2945
  49NZ20090410,   P21,   129,  1,     23, X12028,2,20090511,1907,-16.7508,-132.6623, 3980,    969.3,2,   4.4356,2,   4.43562,2,  34.5103,2,  34.5097,6,   102.10,2,   102.04,2,    66.61,2,     0.27,    38.99,2,     0.14,     0.01,2,     0.01,    2.755,2,    0.017,    0.008,2,    0.007,2,    0.000,2,   -999.0,9,   -999.0,9,-999.0000,-999,9,  -999.00,9,  -999.00,   -999.0,9,   -999.0,   4.3592,  27.3586
  49NZ20090410,   P21,   129,  1,     22, X12022,2,20090511,1907,-16.7508,-132.6623, 3980,   1129.2,2,   3.8755,2,   3.87604,2,  34.5372,2,  34.5374,2,    98.01,2,    97.46,2,    80.37,2,     0.30,    39.90,2,     0.14,     0.00,2,     0.01,    2.831,2,    0.017,    0.003,2,    0.001,2,    0.000,2,   -999.0,9,   -999.0,9,-999.0000,-999,9,  -999.00,9,  -999.00,   -999.0,9,   -999.0,   3.7900,  27.4395
  49NZ20090410,   P21,   129,  1,     21, X12021,2,20090511,1907,-16.7508,-132.6623, 3980,   1331.3,2,   3.3031,2,   3.30433,2,  34.5636,2,  34.5635,2,   109.48,2,   109.22,2,    92.40,2,     0.32,    39.00,2,     0.14,     0.01,2,     0.01,    2.772,2,    0.017,    0.002,2,    0.002,2,    0.000,2,   -999.0,9,   -999.0,9,-999.0000,-999,9,  -999.00,9,  -999.00,   -999.0,9,   -999.0,   3.2060,  27.5176
  49NZ20090410,   P21,   129,  1,     20, X12020,2,20090511,1907,-16.7508,-132.6623, 3980,   1530.1,2,   2.8588,2,   2.85900,2,  34.5858,2,  34.5860,2,   123.66,2,   123.48,2,   100.39,2,     0.34,    37.95,2,     0.14,     0.00,2,     0.01,    2.701,2,    0.017,    0.000,2,    0.001,2,    0.000,2,   -999.0,9,   -999.0,9,-999.0000,-999,9,  -999.00,9,  -999.00,   -999.0,9,   -999.0,   2.7501,  27.5770
  49NZ20090410,   P21,   129,  1,     19, X12019,2,20090511,1907,-16.7508,-132.6623, 3980,   1731.6,2,   2.5072,2,   2.50723,2,  34.6052,2,  34.6054,2,   136.72,2,   136.47,2,   105.49,2,     0.35,    36.92,2,     0.14,     0.01,2,     0.01,    2.613,2,    0.017,    0.000,2,    0.001,2,    0.000,2,   -999.0,9,   -999.0,9,-999.0000,-999,9,  -999.00,9,  -999.00,   -999.0,9,   -999.0,   2.3861,  27.6239
  49NZ20090410,   P21,   129,  1,     18, X12043,2,20090511,1907,-16.7508,-132.6623, 3980,   1930.0,2,   2.1832,2,   2.18354,2,  34.6316,2,  34.6320,6,   144.38,2,   144.36,2,   112.46,2,     0.37,    36.28,2,     0.13,     0.01,2,     0.01,    2.558,2,    0.016,    0.000,2,    0.003,2,    0.000,2,   -999.0,9,   -999.0,9,-999.0000,-999,9,  -999.00,9,  -999.00,   -999.0,9,   -999.0,   2.0499,  27.6726
  49NZ20090410,   P21,   129,  1,     17, X12042,2,20090511,1907,-16.7508,-132.6623, 3980,   2130.7,2,   2.0193,2,   2.01933,2,  34.6478,2,  34.6481,2,   147.85,2,   147.76,2,   117.04,2,     0.38,    36.16,2,     0.13,     0.01,2,     0.01,    2.535,2,    0.016,    0.000,2,    0.000,2,    0.000,2,   -999.0,9,   -999.0,9,-999.0000,-999,9,  -999.00,9,  -999.00,   -999.0,9,   -999.0,   1.8714,  27.6996
  49NZ20090410,   P21,   129,  1,     16, X12016,2,20090511,1907,-16.7508,-132.6623, 3980,   2330.4,2,   1.9150,2,   1.91498,2,  34.6579,2,  34.6576,2,   151.02,2,   150.87,2,   119.82,2,     0.38,    35.84,2,     0.13,     0.00,2,     0.01,    2.498,2,    0.016,    0.000,2,    0.001,2,    0.000,2,   -999.0,9,   -999.0,9,-999.0000,-999,9,  -999.00,9,  -999.00,   -999.0,9,   -999.0,   1.7514,  27.7169
  49NZ20090410,   P21,   129,  1,     15, X12015,2,20090511,1907,-16.7508,-132.6623, 3980,   2529.2,2,   1.8226,2,   1.82266,2,  34.6664,2,  34.6662,2,   153.75,2,   153.67,2,   122.66,2,     0.39,    35.69,2,     0.13,     0.00,2,     0.01,    2.483,2,    0.016,    0.001,2,    0.001,2,    0.000,2,   -999.0,9,   -999.0,9,-999.0000,-999,9,  -999.00,9,  -999.00,   -999.0,9,   -999.0,   1.6429,  27.7319
  49NZ20090410,   P21,   129,  1,     14, X12050,2,20090511,1907,-16.7508,-132.6623, 3980,   2730.1,2,   1.7497,2,   1.74974,2,  34.6717,2,  34.6712,2,   156.75,2,   156.59,2,   124.25,2,     0.39,    35.58,2,     0.13,     0.00,2,     0.01,    2.475,2,    0.016,    0.001,2,    0.002,2,    0.000,2,   -999.0,9,   -999.0,9,-999.0000,-999,9,  -999.00,9,  -999.00,   -999.0,9,   -999.0,   1.5530,  27.7428
  49NZ20090410,   P21,   129,  1,     13, X12013,7,20090511,1907,-16.7508,-132.6623, 3980,   2931.1,2,   1.6863,2,   1.68629,2,  34.6767,2,  34.6769,6,   158.95,2,   158.76,2,   125.74,2,     0.40,    35.48,2,     0.13,     0.01,2,     0.01,    2.459,2,    0.016,    0.003,2,    0.003,2,    0.000,2,   -999.0,9,   -999.0,9,-999.0000,-999,9,  -999.00,9,  -999.00,   -999.0,9,   -999.0,   1.4720,  27.7527
  49NZ20090410,   P21,   129,  1,     12, X12012,2,20090511,1907,-16.7508,-132.6623, 3980,   3170.9,2,   1.6480,2,   1.64803,2,  34.6802,2,  34.6797,2,   160.64,2,   160.65,2,   127.22,2,     0.40,    35.40,2,     0.13,     0.01,2,     0.01,    2.464,2,    0.016,    0.002,2,    0.000,2,    0.000,2,   -999.0,9,   -999.0,9,-999.0000,-999,9,  -999.00,9,  -999.00,   -999.0,9,   -999.0,   1.4113,  27.7599
  49NZ20090410,   P21,   129,  1,     11, X12041,2,20090511,1907,-16.7508,-132.6623, 3980,   3420.9,2,   1.6022,2,   1.60234,2,  34.6843,2,  34.6837,2,   161.99,2,   161.84,2,   129.20,2,     0.40,    35.39,2,     0.13,     0.00,2,     0.01,    2.455,2,    0.016,    0.001,2,    0.001,2,    0.000,2,   -999.0,9,   -999.0,9,-999.0000,-999,9,  -999.00,9,  -999.00,   -999.0,9,   -999.0,   1.3416,  27.7682
  49NZ20090410,   P21,   129,  1,     10, X12040,2,20090511,1907,-16.7508,-132.6623, 3980,   3669.9,2,   1.5618,2,   1.56188,2,  34.6873,2,  34.6877,2,   165.03,2,   164.82,2,   128.97,2,     0.40,    35.15,2,     0.13,     0.00,2,     0.01,    2.443,2,    0.016,    0.002,2,    0.003,2,    0.000,2,   -999.0,9,   -999.0,9,-999.0000,-999,9,  -999.00,9,  -999.00,   -999.0,9,   -999.0,   1.2765,  27.7752
  49NZ20090410,   P21,   129,  1,      9, X12009,2,20090511,1907,-16.7508,-132.6623, 3980,   3918.5,2,   1.5479,2,   1.54791,2,  34.6890,2,  34.6889,2,   167.58,2,   167.54,2,   128.54,2,     0.40,    34.99,2,     0.13,     0.00,2,     0.01,    2.421,2,    0.016,    0.000,2,    0.000,2,    0.000,2,   -999.0,9,   -999.0,9,-999.0000,-999,9,  -999.00,9,  -999.00,   -999.0,9,   -999.0,   1.2365,  27.7794
  49NZ20090410,   P21,   129,  1,      8, X12008,9,20090511,1907,-16.7508,-132.6623, 3980,      9.9,2,  27.5733,2,  27.57304,2,  36.3690,2,-999.0000,9,   199.52,2,  -999.00,9,  -999.00,9,  -999.00,  -999.00,9,  -999.00,  -999.00,9,  -999.00, -999.000,9, -999.000, -999.000,9, -999.000,9, -999.000,9,   -999.0,9,   -999.0,9,-999.0000,-999,9,  -999.00,9,  -999.00,   -999.0,9,   -999.0,  27.5710,  23.5648
  49NZ20090410,   P21,   129,  1,      7, X12007,9,20090511,1907,-16.7508,-132.6623, 3980,   3420.4,2,   1.6026,2,   1.60270,2,  34.6842,2,-999.0000,9,   162.01,2,  -999.00,9,  -999.00,9,  -999.00,  -999.00,9,  -999.00,  -999.00,9,  -999.00, -999.000,9, -999.000, -999.000,9, -999.000,9, -999.000,9,   -999.0,9,   -999.0,9,-999.0000,-999,9,  -999.00,9,  -999.00,   -999.0,9,   -999.0,   1.3420,  27.7681
  49NZ20090410,   P21,   129,  1,      6, X12035,9,20090511,1907,-16.7508,-132.6623, 3980,   3670.3,2,   1.5619,2,   1.56189,2,  34.6872,2,-999.0000,9,   165.05,2,  -999.00,9,  -999.00,9,  -999.00,  -999.00,9,  -999.00,  -999.00,9,  -999.00, -999.000,9, -999.000, -999.000,9, -999.000,9, -999.000,9,   -999.0,9,   -999.0,9,-999.0000,-999,9,  -999.00,9,  -999.00,   -999.0,9,   -999.0,   1.2765,  27.7751
  49NZ20090410,   P21,   129,  1,      5, X12038,9,20090511,1907,-16.7508,-132.6623, 3980,   2530.0,2,   1.8245,2,   1.82451,2,  34.6663,2,-999.0000,9,   153.70,2,  -999.00,9,  -999.00,9,  -999.00,  -999.00,9,  -999.00,  -999.00,9,  -999.00, -999.000,9, -999.000, -999.000,9, -999.000,9, -999.000,9,   -999.0,9,   -999.0,9,-999.0000,-999,9,  -999.00,9,  -999.00,   -999.0,9,   -999.0,   1.6447,  27.7317
  49NZ20090410,   P21,   129,  1,      4, X12034,9,20090511,1907,-16.7508,-132.6623, 3980,   2729.4,2,   1.7496,2,   1.74970,2,  34.6717,2,-999.0000,9,   156.75,2,  -999.00,9,  -999.00,9,  -999.00,  -999.00,9,  -999.00,  -999.00,9,  -999.00, -999.000,9, -999.000, -999.000,9, -999.000,9, -999.000,9,   -999.0,9,   -999.0,9,-999.0000,-999,9,  -999.00,9,  -999.00,   -999.0,9,   -999.0,   1.5530,  27.7428
  49NZ20090410,   P21,   129,  1,      3, X12033,9,20090511,1907,-16.7508,-132.6623, 3980,   2931.5,2,   1.6863,2,   1.68633,2,  34.6767,2,-999.0000,9,   158.97,2,  -999.00,9,  -999.00,9,  -999.00,  -999.00,9,  -999.00,  -999.00,9,  -999.00, -999.000,9, -999.000, -999.000,9, -999.000,9, -999.000,9,   -999.0,9,   -999.0,9,-999.0000,-999,9,  -999.00,9,  -999.00,   -999.0,9,   -999.0,   1.4720,  27.7527
  49NZ20090410,   P21,   129,  1,      2, X12032,9,20090511,1907,-16.7508,-132.6623, 3980,    871.2,2,   4.8800,2,   4.87998,2,  34.4921,2,-999.0000,9,   105.57,2,  -999.00,9,  -999.00,9,  -999.00,  -999.00,9,  -999.00,  -999.00,9,  -999.00, -999.000,9, -999.000, -999.000,9, -999.000,9, -999.000,9,   -999.0,9,   -999.0,9,-999.0000,-999,9,  -999.00,9,  -999.00,   -999.0,9,   -999.0,   4.8090,  27.2944
  49NZ20090410,   P21,   129,  1,      1, X12046,2,20090511,1907,-16.7508,-132.6623, 3980,   3995.3,2,   1.5426,2,   1.54251,2,  34.6897,2,  34.6891,6,   168.51,2,   168.23,2,   128.15,2,     0.40,    34.81,2,     0.13,     0.01,2,     0.01,    2.427,2,    0.016,    0.000,2,    0.000,2,    0.000,2,   -999.0,9,   -999.0,9,-999.0000,-999,9,  -999.00,9,  -999.00,   -999.0,9,   -999.0,   1.2230,  27.7808