BOTTLE,20220818CCHSIOAMB
EXPOCODE,SECT_ID,STNNBR,CASTNO,SAMPNO,BTLNBR,BTLNBR_FLAG_W,DATE,TIME,LATITUDE,LONGITUDE,DEPTH,CTDPRS,CTDPRS_FLAG_W,CTDTMP,CTDTMP_FLAG_W,SBE35,SBE35_FLAG_W,CTDSAL,CTDSAL_FLAG_W,SALNTY,SALNTY_FLAG_W,CTDOXY,CTDOXY_FLAG_W,OXYGEN,OXYGEN_FLAG_W,SILCAT,SILCAT_FLAG_W,SILUNC,NITRAT,NITRAT_FLAG_W,NRAUNC,NITRIT,NITRIT_FLAG_W,NRIUNC,PHSPHT,PHSPHT_FLAG_W,PHPUNC,CFC-11,CFC-11_FLAG_W,CFC-12,CFC-12_FLAG_W,CFC113,CFC113_FLAG_W,TCARBN,TCARBN_FLAG_W,ALKALI,ALKALI_FLAG_W,PH_TOT,PH_TMP,PH_TOT_FLAG_W,DELC13,DELC13_FLAG_W,C13ERR,DELC14,DELC14_FLAG_W,C14ERR,THETA,SIG0
,,,,,,,,,,,METERS,DBAR,,ITS-90,,ITS-90,,PSS-78,,PSS-78,,UMOL/KG,,UMOL/KG,,UMOL/KG,,UMOL/KG,UMOL/KG,,UMOL/KG,UMOL/KG,,UMOL/KG,UMOL/KG,,UMOL/KG,PMOL/KG,,PMOL/KG,,PMOL/KG,,UMOL/KG,,UMOL/KG,,,DEG C,,/MILLE,,/MILLE,/MILLE,,/MILLE,DEG C,KG/M^3
  49NZ20090410,   P21,   133,  1,     36, X12006,2,20090512,2228,-16.7550,-135.3328, 4269,      9.2,2,  27.6795,2,  27.67856,2,  36.4029,2,  36.4033,2,   198.92,2,   198.74,2,     0.65,2,     0.12,     0.18,2,     0.03,     0.02,2,     0.01,    0.246,2,    0.015,    1.454,2,    0.951,2, -999.000,5,   -999.0,9,   -999.0,9,-999.0000,-999,9,  -999.00,9,  -999.00,   -999.0,9,   -999.0,  27.6773,  23.5557
  49NZ20090410,   P21,   133,  1,     35, X12047,2,20090512,2228,-16.7550,-135.3328, 4269,     48.6,2,  27.4447,2,  27.46019,2,  36.4137,2,  36.4147,2,   199.94,2,   199.69,2,     0.62,2,     0.12,     0.17,2,     0.03,     0.02,2,     0.01,    0.238,2,    0.015,    1.471,2,    0.959,2, -999.000,5,   -999.0,9,   -999.0,9,-999.0000,-999,9,  -999.00,9,  -999.00,   -999.0,9,   -999.0,  27.4334,  23.6432
  49NZ20090410,   P21,   133,  1,     34, X12004,2,20090512,2228,-16.7550,-135.3328, 4269,     98.9,2,  24.8906,2,  24.89153,2,  36.4740,2,  36.4745,2,   196.91,2,   196.61,2,     0.72,2,     0.12,     0.21,2,     0.03,     0.05,2,     0.01,    0.300,2,    0.014,    1.676,6,    1.067,6, -999.000,5,   -999.0,9,   -999.0,9,-999.0000,-999,9,  -999.00,9,  -999.00,   -999.0,9,   -999.0,  24.8691,  24.4957
  49NZ20090410,   P21,   133,  1,     33, X12003,2,20090512,2228,-16.7550,-135.3328, 4269,    149.0,2,  23.2264,2,  23.22452,2,  36.2974,2,  36.2993,2,   187.37,2,   186.77,2,     0.63,2,     0.12,     0.77,2,     0.03,     1.11,2,     0.00,    0.359,2,    0.014,    1.818,2,    1.135,2, -999.000,5,   -999.0,9,   -999.0,9,-999.0000,-999,9,  -999.00,9,  -999.00,   -999.0,9,   -999.0,  23.1956,  24.8611
  49NZ20090410,   P21,   133,  1,     32, X12002,2,20090512,2228,-16.7550,-135.3328, 4269,    198.6,2,  21.0746,2,  21.07289,2,  35.9112,2,  35.9133,2,   183.70,2,   183.37,2,     0.63,2,     0.12,     2.63,2,     0.04,     0.03,2,     0.01,    0.400,2,    0.013,    2.039,2,    1.245,2,    0.086,2,   -999.0,9,   -999.0,9,-999.0000,-999,9,  -999.00,9,  -999.00,   -999.0,9,   -999.0,  21.0363,  25.1778
  49NZ20090410,   P21,   133,  1,     31, X12001,2,20090512,2228,-16.7550,-135.3328, 4269,    250.3,2,  18.7746,2,  18.77588,2,  35.4958,2,  35.4982,6,   184.40,2,   184.41,2,     0.80,2,     0.12,     3.92,2,     0.04,     0.02,2,     0.01,    0.474,2,    0.013,    2.266,2,    1.346,2,    0.022,2,   -999.0,9,   -999.0,9,-999.0000,-999,9,  -999.00,9,  -999.00,   -999.0,9,   -999.0,  18.7301,  25.4689
  49NZ20090410,   P21,   133,  1,     30, X12030,2,20090512,2228,-16.7550,-135.3328, 4269,    330.0,2,  13.8283,2,  13.82967,2,  34.8088,2,  34.8087,2,   172.95,2,   173.47,2,     3.10,2,     0.13,    10.81,2,     0.06,     0.02,2,     0.01,    0.955,2,    0.013,    2.509,2,    1.370,2,    0.032,2,   -999.0,9,   -999.0,9,-999.0000,-999,9,  -999.00,9,  -999.00,   -999.0,9,   -999.0,  13.7809,  26.0851
  49NZ20090410,   P21,   133,  1,     29, X12044,2,20090512,2228,-16.7550,-135.3328, 4269,    430.7,2,   9.0330,2,   9.03566,2,  34.4609,2,  34.4608,2,   125.75,2,   126.06,2,    12.88,2,     0.15,    26.01,2,     0.11,     0.02,2,     0.01,    2.014,2,    0.015,    1.452,2,    0.746,2,    0.018,2,   -999.0,9,   -999.0,9,-999.0000,-999,9,  -999.00,9,  -999.00,   -999.0,9,   -999.0,   8.9858,  26.6983
  49NZ20090410,   P21,   133,  1,     28, X12048,2,20090512,2228,-16.7550,-135.3328, 4269,    529.4,2,   7.0006,2,   7.00159,2,  34.4047,2,  34.4058,6,   139.72,2,   138.88,2,    18.30,2,     0.16,    31.00,2,     0.12,     0.02,2,     0.01,    2.220,2,    0.016,    0.730,2,    0.380,2,    0.018,2,   -999.0,9,   -999.0,9,-999.0000,-999,9,  -999.00,9,  -999.00,   -999.0,9,   -999.0,   6.9503,  26.9567
  49NZ20090410,   P21,   133,  1,     27, X12027,2,20090512,2228,-16.7550,-135.3328, 4269,    629.4,2,   5.8645,2,   5.86451,2,  34.4186,2,  34.4189,2,   138.42,2,   138.47,2,    30.72,2,     0.19,    33.72,2,     0.13,     0.01,2,     0.01,    2.366,2,    0.016,    0.232,6,    0.124,6,    0.000,6,   -999.0,9,   -999.0,9,-999.0000,-999,9,  -999.00,9,  -999.00,   -999.0,9,   -999.0,   5.8097,  27.1172
  49NZ20090410,   P21,   133,  1,     26, X12026,2,20090512,2228,-16.7550,-135.3328, 4269,    729.0,2,   5.4302,2,   5.43118,2,  34.4749,2,  34.4747,2,   118.44,2,   118.57,2,    45.16,2,     0.22,    35.99,2,     0.13,     0.01,2,     0.01,    2.525,2,    0.016,    0.049,2,    0.031,2,    0.000,2,   -999.0,9,   -999.0,9,-999.0000,-999,9,  -999.00,9,  -999.00,   -999.0,9,   -999.0,   5.3685,  27.2156
  49NZ20090410,   P21,   133,  1,     25, X12025,2,20090512,2228,-16.7550,-135.3328, 4269,    829.8,2,   4.9553,2,   4.95453,2,  34.4930,2,  34.4930,2,   111.23,2,   111.35,2,    55.21,2,     0.24,    37.40,2,     0.14,     0.01,2,     0.01,    2.637,2,    0.017,    0.017,2,    0.011,2,    0.000,2,   -999.0,9,   -999.0,9,-999.0000,-999,9,  -999.00,9,  -999.00,   -999.0,9,   -999.0,   4.8875,  27.2862
  49NZ20090410,   P21,   133,  1,     24, X12024,2,20090512,2228,-16.7550,-135.3328, 4269,    930.1,2,   4.5140,2,   4.51385,2,  34.5085,2,  34.5079,2,   102.61,2,   102.79,2,    64.78,2,     0.26,    38.82,2,     0.14,     0.02,2,     0.01,    2.753,2,    0.017,    0.006,2,    0.003,2,    0.000,2,   -999.0,9,   -999.0,9,-999.0000,-999,9,  -999.00,9,  -999.00,   -999.0,9,   -999.0,   4.4404,  27.3484
  49NZ20090410,   P21,   133,  1,     23, X12028,2,20090512,2228,-16.7550,-135.3328, 4269,   1070.2,2,   4.0153,2,   4.01560,2,  34.5294,2,  34.5289,6,   101.05,2,   101.06,2,    76.17,2,     0.29,    39.44,2,     0.14,     0.01,2,     0.01,    2.803,2,    0.017,    0.001,2,    0.004,2,    0.000,2,   -999.0,9,   -999.0,9,-999.0000,-999,9,  -999.00,9,  -999.00,   -999.0,9,   -999.0,   3.9336,  27.4186
  49NZ20090410,   P21,   133,  1,     22, X12022,2,20090512,2228,-16.7550,-135.3328, 4269,   1269.5,2,   3.4481,2,   3.44848,2,  34.5552,2,  34.5557,2,   109.52,2,   109.92,2,    88.21,2,     0.31,    38.87,2,     0.14,     0.02,2,     0.01,    2.765,2,    0.017,    0.000,2,    0.000,2,    0.000,2,   -999.0,9,   -999.0,9,-999.0000,-999,9,  -999.00,9,  -999.00,   -999.0,9,   -999.0,   3.3547,  27.4968
  49NZ20090410,   P21,   133,  1,     21, X12021,2,20090512,2228,-16.7550,-135.3328, 4269,   1470.0,2,   2.9491,2,   2.94920,2,  34.5790,2,  34.5787,2,   125.07,2,   125.19,2,    97.15,2,     0.33,    37.72,2,     0.14,     0.02,2,     0.01,    2.678,2,    0.017,    0.001,2,    0.001,2,    0.000,2,   -999.0,9,   -999.0,9,-999.0000,-999,9,  -999.00,9,  -999.00,   -999.0,9,   -999.0,   2.8443,  27.5631
  49NZ20090410,   P21,   133,  1,     20, X12020,2,20090512,2228,-16.7550,-135.3328, 4269,   1669.8,2,   2.5626,2,   2.56304,2,  34.5987,2,  34.5984,2,   139.25,2,   139.55,2,   102.45,2,     0.34,    36.66,2,     0.14,     0.01,2,     0.01,    2.592,2,    0.016,    0.000,2,    0.000,2,    0.000,2,   -999.0,9,   -999.0,9,-999.0000,-999,9,  -999.00,9,  -999.00,   -999.0,9,   -999.0,   2.4459,  27.6137
  49NZ20090410,   P21,   133,  1,     19, X12019,2,20090512,2228,-16.7550,-135.3328, 4269,   1870.3,2,   2.2691,2,   2.26949,2,  34.6203,2,  34.6201,2,   146.59,2,   146.81,2,   108.00,2,     0.36,    36.10,2,     0.13,     0.02,2,     0.01,    2.543,2,    0.016,    0.000,2,    0.001,2,    0.000,2,   -999.0,9,   -999.0,9,-999.0000,-999,9,  -999.00,9,  -999.00,   -999.0,9,   -999.0,   2.1396,  27.6563
  49NZ20090410,   P21,   133,  1,     18, X12043,2,20090512,2228,-16.7550,-135.3328, 4269,   2071.1,2,   2.0726,2,   2.07272,2,  34.6415,2,  34.6412,6,   147.82,2,   148.17,2,   114.34,2,     0.37,    36.06,2,     0.13,     0.02,2,     0.01,    2.536,2,    0.016,    0.000,2,    0.000,2,    0.000,2,   -999.0,9,   -999.0,9,-999.0000,-999,9,  -999.00,9,  -999.00,   -999.0,9,   -999.0,   1.9290,  27.6900
  49NZ20090410,   P21,   133,  1,     17, X12042,2,20090512,2228,-16.7550,-135.3328, 4269,   2270.1,2,   1.9420,2,   1.94209,2,  34.6543,2,  34.6543,2,   151.20,2,   151.49,2,   117.96,2,     0.38,    35.82,2,     0.13,     0.01,2,     0.01,    2.516,2,    0.016,    0.000,2,    0.001,2,    0.000,2,   -999.0,9,   -999.0,9,-999.0000,-999,9,  -999.00,9,  -999.00,   -999.0,9,   -999.0,   1.7833,  27.7116
  49NZ20090410,   P21,   133,  1,     16, X12016,2,20090512,2228,-16.7550,-135.3328, 4269,   2471.0,2,   1.8459,2,   1.84599,2,  34.6634,2,  34.6628,2,   153.48,2,   153.71,2,   120.99,2,     0.39,    35.50,2,     0.13,     0.01,2,     0.01,    2.491,2,    0.016,    0.001,2,    0.000,2,    0.000,2,   -999.0,9,   -999.0,9,-999.0000,-999,9,  -999.00,9,  -999.00,   -999.0,9,   -999.0,   1.6711,  27.7274
  49NZ20090410,   P21,   133,  1,     15, X12015,2,20090512,2228,-16.7550,-135.3328, 4269,   2669.5,2,   1.7892,2,   1.78954,2,  34.6692,2,  34.6689,2,   154.33,2,   154.68,2,   123.44,2,     0.39,    35.59,2,     0.13,     0.01,2,     0.01,    2.492,2,    0.016,    0.000,2,    0.000,2,    0.000,2,   -999.0,9,   -999.0,9,-999.0000,-999,9,  -999.00,9,  -999.00,   -999.0,9,   -999.0,   1.5973,  27.7375
  49NZ20090410,   P21,   133,  1,     14, X12050,2,20090512,2228,-16.7550,-135.3328, 4269,   2870.8,2,   1.7358,2,   1.73594,2,  34.6745,2,  34.6740,2,   155.34,2,   155.48,2,   126.00,2,     0.40,    35.54,2,     0.13,     0.01,2,     0.01,    2.492,2,    0.016,    0.000,2,    0.000,2,    0.000,2,   -999.0,9,   -999.0,9,-999.0000,-999,9,  -999.00,9,  -999.00,   -999.0,9,   -999.0,   1.5262,  27.7471
  49NZ20090410,   P21,   133,  1,     13, X12013,7,20090512,2228,-16.7550,-135.3328, 4269,   3080.9,2,   1.6885,2,   1.68868,2,  34.6779,2,  34.6780,6,   158.40,2,   158.54,2,   126.36,2,     0.40,    35.37,2,     0.13,     0.01,2,     0.01,    2.479,2,    0.016,    0.004,2,    0.003,2,    0.000,2,   -999.0,9,   -999.0,9,-999.0000,-999,9,  -999.00,9,  -999.00,   -999.0,9,   -999.0,   1.4597,  27.7546
  49NZ20090410,   P21,   133,  1,     12, X12012,2,20090512,2228,-16.7550,-135.3328, 4269,   3330.9,2,   1.6550,2,   1.65507,2,  34.6815,2,  34.6806,2,   159.27,2,   159.39,2,   128.13,2,     0.40,    35.46,2,     0.13,     0.01,2,     0.01,    2.477,2,    0.016,    0.000,2,    0.000,2,    0.000,2,   -999.0,9,   -999.0,9,-999.0000,-999,9,  -999.00,9,  -999.00,   -999.0,9,   -999.0,   1.4022,  27.7616
  49NZ20090410,   P21,   133,  1,     11, X12041,2,20090512,2228,-16.7550,-135.3328, 4269,   3580.0,2,   1.5999,2,   1.59990,2,  34.6853,2,  34.6848,2,   161.96,2,   162.04,2,   129.18,2,     0.40,    35.27,2,     0.13,     0.01,2,     0.01,    2.465,2,    0.016,    0.001,2,    0.000,2,    0.000,2,   -999.0,9,   -999.0,9,-999.0000,-999,9,  -999.00,9,  -999.00,   -999.0,9,   -999.0,   1.3230,  27.7703
  49NZ20090410,   P21,   133,  1,     10, X12040,2,20090512,2228,-16.7550,-135.3328, 4269,   3830.9,2,   1.5522,2,   1.55224,2,  34.6886,2,  34.6883,2,   166.19,2,   166.25,2,   128.56,2,     0.40,    34.98,2,     0.13,     0.01,2,     0.01,    2.443,2,    0.016,    0.018,3,    0.009,3,    0.000,3,   -999.0,9,   -999.0,9,-999.0000,-999,9,  -999.00,9,  -999.00,   -999.0,9,   -999.0,   1.2501,  27.7781
  49NZ20090410,   P21,   133,  1,      9, X12009,2,20090512,2228,-16.7550,-135.3328, 4269,   4078.8,2,   1.5319,2,   1.53192,2,  34.6907,2,  34.6900,2,   169.47,2,   169.47,2,   127.43,2,     0.40,    34.85,2,     0.13,     0.01,2,     0.01,    2.433,2,    0.016,    0.000,2,    0.000,2,    0.000,2,   -999.0,9,   -999.0,9,-999.0000,-999,9,  -999.00,9,  -999.00,   -999.0,9,   -999.0,   1.2034,  27.7830
  49NZ20090410,   P21,   133,  1,      8, X12008,9,20090512,2228,-16.7550,-135.3328, 4269,      9.6,2,  27.6797,2,  27.67946,2,  36.4030,2,-999.0000,9,   199.09,2,  -999.00,9,  -999.00,9,  -999.00,  -999.00,9,  -999.00,  -999.00,9,  -999.00, -999.000,9, -999.000, -999.000,9, -999.000,9, -999.000,9,   -999.0,9,   -999.0,9,-999.0000,-999,9,  -999.00,9,  -999.00,   -999.0,9,   -999.0,  27.6774,  23.5558
  49NZ20090410,   P21,   133,  1,      7, X12007,9,20090512,2228,-16.7550,-135.3328, 4269,   4079.3,2,   1.5320,2,   1.53204,2,  34.6906,2,-999.0000,9,   169.40,2,  -999.00,9,  -999.00,9,  -999.00,  -999.00,9,  -999.00,  -999.00,9,  -999.00, -999.000,9, -999.000, -999.000,9, -999.000,9, -999.000,9,   -999.0,9,   -999.0,9,-999.0000,-999,9,  -999.00,9,  -999.00,   -999.0,9,   -999.0,   1.2035,  27.7830
  49NZ20090410,   P21,   133,  1,      6, X12035,9,20090512,2228,-16.7550,-135.3328, 4269,   4317.1,2,   1.5433,2,   1.54325,2,  34.6912,2,-999.0000,9,   170.62,2,  -999.00,9,  -999.00,9,  -999.00,  -999.00,9,  -999.00,  -999.00,9,  -999.00, -999.000,9, -999.000, -999.000,9, -999.000,9, -999.000,9,   -999.0,9,   -999.0,9,-999.0000,-999,9,  -999.00,9,  -999.00,   -999.0,9,   -999.0,   1.1879,  27.7845
  49NZ20090410,   P21,   133,  1,      5, X12038,9,20090512,2228,-16.7550,-135.3328, 4269,   2669.8,2,   1.7891,2,   1.78930,2,  34.6693,2,-999.0000,9,   154.31,2,  -999.00,9,  -999.00,9,  -999.00,  -999.00,9,  -999.00,  -999.00,9,  -999.00, -999.000,9, -999.000, -999.000,9, -999.000,9, -999.000,9,   -999.0,9,   -999.0,9,-999.0000,-999,9,  -999.00,9,  -999.00,   -999.0,9,   -999.0,   1.5972,  27.7376
  49NZ20090410,   P21,   133,  1,      4, X12034,9,20090512,2228,-16.7550,-135.3328, 4269,   2871.2,2,   1.7358,2,   1.73595,2,  34.6746,2,-999.0000,9,   155.34,2,  -999.00,9,  -999.00,9,  -999.00,  -999.00,9,  -999.00,  -999.00,9,  -999.00, -999.000,9, -999.000, -999.000,9, -999.000,9, -999.000,9,   -999.0,9,   -999.0,9,-999.0000,-999,9,  -999.00,9,  -999.00,   -999.0,9,   -999.0,   1.5262,  27.7471
  49NZ20090410,   P21,   133,  1,      3, X12033,2,20090512,2228,-16.7550,-135.3328, 4269,   3080.7,2,   1.6883,2,   1.68846,2,  34.6780,2,  34.6777,2,   158.32,2,  -999.00,9,  -999.00,9,  -999.00,  -999.00,9,  -999.00,  -999.00,9,  -999.00, -999.000,9, -999.000, -999.000,9, -999.000,9, -999.000,9,   -999.0,9,   -999.0,9,-999.0000,-999,9,  -999.00,9,  -999.00,   -999.0,9,   -999.0,   1.4595,  27.7547
  49NZ20090410,   P21,   133,  1,      2, X12032,9,20090512,2228,-16.7550,-135.3328, 4269,    929.7,2,   4.5136,2,   4.51409,2,  34.5086,2,-999.0000,9,   102.59,2,  -999.00,9,  -999.00,9,  -999.00,  -999.00,9,  -999.00,  -999.00,9,  -999.00, -999.000,9, -999.000, -999.000,9, -999.000,9, -999.000,9,   -999.0,9,   -999.0,9,-999.0000,-999,9,  -999.00,9,  -999.00,   -999.0,9,   -999.0,   4.4401,  27.3485
  49NZ20090410,   P21,   133,  1,      1, X12046,2,20090512,2228,-16.7550,-135.3328, 4269,   4317.5,2,   1.5433,2,   1.54327,2,  34.6912,2,  34.6908,6,   170.64,2,   170.59,2,   127.06,2,     0.40,    34.65,2,     0.13,     0.01,2,     0.01,    2.422,2,    0.016,    0.000,2,    0.000,2,    0.000,2,   -999.0,9,   -999.0,9,-999.0000,-999,9,  -999.00,9,  -999.00,   -999.0,9,   -999.0,   1.1878,  27.7845