BOTTLE,20220818CCHSIOAMB
EXPOCODE,SECT_ID,STNNBR,CASTNO,SAMPNO,BTLNBR,BTLNBR_FLAG_W,DATE,TIME,LATITUDE,LONGITUDE,DEPTH,CTDPRS,CTDPRS_FLAG_W,CTDTMP,CTDTMP_FLAG_W,SBE35,SBE35_FLAG_W,CTDSAL,CTDSAL_FLAG_W,SALNTY,SALNTY_FLAG_W,CTDOXY,CTDOXY_FLAG_W,OXYGEN,OXYGEN_FLAG_W,SILCAT,SILCAT_FLAG_W,SILUNC,NITRAT,NITRAT_FLAG_W,NRAUNC,NITRIT,NITRIT_FLAG_W,NRIUNC,PHSPHT,PHSPHT_FLAG_W,PHPUNC,CFC-11,CFC-11_FLAG_W,CFC-12,CFC-12_FLAG_W,CFC113,CFC113_FLAG_W,TCARBN,TCARBN_FLAG_W,ALKALI,ALKALI_FLAG_W,PH_TOT,PH_TMP,PH_TOT_FLAG_W,DELC13,DELC13_FLAG_W,C13ERR,DELC14,DELC14_FLAG_W,C14ERR,THETA,SIG0
,,,,,,,,,,,METERS,DBAR,,ITS-90,,ITS-90,,PSS-78,,PSS-78,,UMOL/KG,,UMOL/KG,,UMOL/KG,,UMOL/KG,UMOL/KG,,UMOL/KG,UMOL/KG,,UMOL/KG,UMOL/KG,,UMOL/KG,PMOL/KG,,PMOL/KG,,PMOL/KG,,UMOL/KG,,UMOL/KG,,,DEG C,,/MILLE,,/MILLE,/MILLE,,/MILLE,DEG C,KG/M^3
  49NZ20090410,   P21,    73,  1,     36, X12006,2,20090430,0215,-16.7453,-100.6690, 3993,      9.5,2,  24.4851,2,  24.49262,2,  36.0010,2,  36.0011,2,   210.89,2,   209.92,2,     0.73,2,     0.12,     0.08,2,     0.03,     0.01,2,     0.01,    0.388,2,    0.013,    1.689,2,    1.079,2, -999.000,5,   2058.6,2,   2383.1,2,   8.0661,  25,6,  -999.00,9,  -999.00,   -999.0,9,   -999.0,  24.4831,  24.2548
  49NZ20090410,   P21,    73,  1,     35, X12047,2,20090430,0215,-16.7453,-100.6690, 3993,     49.4,2,  24.2942,2,  24.32263,2,  36.0951,2,  36.0940,2,   210.87,2,   211.26,2,     0.69,2,     0.12,     0.07,2,     0.03,     0.01,2,     0.01,    0.389,2,    0.013,    1.714,2,    1.089,2, -999.000,5,   2065.8,6,   2388.5,2,   8.0625,  25,2,  -999.00,9,  -999.00,   -999.0,9,   -999.0,  24.2837,  24.3859
  49NZ20090410,   P21,    73,  1,     34, X12004,2,20090430,0215,-16.7453,-100.6690, 3993,     99.5,2,  20.9195,2,  20.91982,2,  35.8155,2,  35.8159,2,   210.61,2,   211.33,2,     0.54,2,     0.12,     0.17,2,     0.03,     0.63,2,     0.00,    0.442,2,    0.013,    2.022,6,    1.264,6, -999.000,5,   2088.0,2,   2369.8,6,   8.0003,  25,2,  -999.00,9,  -999.00,   -999.0,9,   -999.0,  20.9005,  25.1421
  49NZ20090410,   P21,    73,  1,     33, X12003,2,20090430,0215,-16.7453,-100.6690, 3993,    149.5,2,  18.5725,2,  18.56813,2,  35.4055,2,  35.4022,2,   202.50,2,   203.26,2,     0.66,2,     0.12,     3.21,2,     0.04,     0.04,2,     0.01,    0.541,2,    0.013,    2.258,2,    1.388,2,    0.182,2,   2092.1,2,   2339.5,2,   7.9461,  25,6,  -999.00,9,  -999.00,   -999.0,9,   -999.0,  18.5462,  25.4463
  49NZ20090410,   P21,    73,  1,     32, X12002,2,20090430,0215,-16.7453,-100.6690, 3993,    198.6,2,  16.1069,2,  16.11972,2,  34.9788,2,  34.9817,2,   191.65,2,   192.32,2,     1.51,2,     0.12,     7.37,2,     0.05,     0.02,2,     0.01,    0.791,2,    0.013,    2.510,2,    1.494,2,    0.082,2,   2101.2,2,   2311.2,2,   7.8808,  25,2,  -999.00,9,  -999.00,   -999.0,9,   -999.0,  16.0753,  25.7140
  49NZ20090410,   P21,    73,  1,     31, X12001,2,20090430,0215,-16.7453,-100.6690, 3993,    249.5,2,  12.5875,2,  12.60717,2,  34.5666,2,  34.5643,6,   114.42,2,   109.42,2,     8.87,2,     0.14,    18.63,2,     0.08,     0.02,2,     0.01,    1.802,2,    0.015,    2.322,2,    1.298,2,    0.076,2,   2182.3,2,   2283.9,2,   7.6342,  25,2,  -999.00,9,  -999.00,   -999.0,9,   -999.0,  12.5540,  26.1455
  49NZ20090410,   P21,    73,  1,     30, X12030,2,20090430,0215,-16.7453,-100.6690, 3993,    330.0,2,  10.3056,2,  10.30644,2,  34.6351,2,  34.6350,2,    17.21,2,    16.75,2,    23.11,2,     0.17,    30.24,2,     0.12,     0.01,2,     0.01,    2.721,2,    0.017,    0.685,2,    0.354,2,    0.014,2,   2268.9,2,   2291.5,2,   7.4030,  25,2,  -999.00,9,  -999.00,   -999.0,9,   -999.0,  10.2665,  26.6212
  49NZ20090410,   P21,    73,  1,     29, X12044,2,20090430,0215,-16.7453,-100.6690, 3993,    429.3,2,   8.4907,2,   8.49318,2,  34.5752,2,  34.5758,2,    25.69,2,    25.33,2,    27.66,2,     0.18,    37.42,2,     0.14,     0.02,2,     0.01,    2.809,2,    0.017,    0.254,2,    0.130,2,    0.000,2,   2273.3,2,   2294.7,2,   7.3961,  25,2,  -999.00,9,  -999.00,   -999.0,9,   -999.0,   8.4453,  26.8726
  49NZ20090410,   P21,    73,  1,     28, X12048,2,20090430,0215,-16.7453,-100.6690, 3993,    529.9,2,   7.0782,2,   7.07669,2,  34.4852,2,  34.4852,6,    70.16,2,    69.83,2,    28.36,2,     0.18,    37.80,2,     0.14,     0.01,2,     0.01,    2.686,2,    0.017,    0.221,2,    0.114,2,    0.000,2,   2252.9,2,   2293.8,2,   7.4576,  25,2,  -999.00,9,  -999.00,   -999.0,9,   -999.0,   7.0275,  27.0095
  49NZ20090410,   P21,    73,  1,     27, X12027,2,20090430,0215,-16.7453,-100.6690, 3993,    630.2,2,   6.2247,2,   6.22500,2,  34.4736,2,  34.4720,2,    70.59,2,    72.24,2,    35.96,2,     0.20,    39.65,2,     0.14,     0.01,2,     0.01,    2.801,2,    0.017,    0.066,6,    0.034,6,    0.000,6,   2261.2,2,   2301.2,2,   7.4541,  25,2,  -999.00,9,  -999.00,   -999.0,9,   -999.0,   6.1680,  27.1152
  49NZ20090410,   P21,    73,  1,     26, X12026,2,20090430,0215,-16.7453,-100.6690, 3993,    728.3,2,   5.6530,2,   5.65079,2,  34.4972,2,  34.4965,2,    50.64,2,    50.81,2,    49.46,2,     0.23,    42.91,2,     0.15,     0.01,2,     0.01,    3.040,2,    0.018,    0.007,2,    0.004,2,    0.000,2,   2288.1,6,   2314.5,2,   7.4133,  25,2,  -999.00,9,  -999.00,   -999.0,9,   -999.0,   5.5901,  27.2064
  49NZ20090410,   P21,    73,  1,     25, X12025,2,20090430,0215,-16.7453,-100.6690, 3993,    830.2,2,   5.0518,2,   5.05153,2,  34.5055,2,  34.5055,2,    52.63,2,    52.72,2,    60.42,2,     0.25,    43.53,2,     0.15,     0.01,2,     0.01,    3.102,2,    0.018,    0.003,2,    0.002,2,    0.000,2,   2301.1,2,   2326.9,6,   7.4105,  25,2,  -999.00,9,  -999.00,   -999.0,9,   -999.0,   4.9833,  27.2851
  49NZ20090410,   P21,    73,  1,     24, X12024,2,20090430,0215,-16.7453,-100.6690, 3993,    929.8,2,   4.6142,2,   4.61405,2,  34.5157,2,  34.5161,2,    60.39,2,    60.36,2,    68.93,2,     0.27,    43.06,2,     0.15,     0.01,2,     0.01,    3.087,2,    0.018,    0.000,2,    0.001,2,    0.000,2,   2306.6,2,   2337.0,2,   7.4240,  25,2,  -999.00,9,  -999.00,   -999.0,9,   -999.0,   4.5399,  27.3432
  49NZ20090410,   P21,    73,  1,     23, X12028,2,20090430,0215,-16.7453,-100.6690, 3993,   1067.7,2,   4.0694,2,   4.06937,2,  34.5344,2,  34.5349,6,    71.79,2,    72.05,2,    80.50,2,     0.30,    42.27,2,     0.15,     0.01,2,     0.01,    3.048,2,    0.018,    0.000,2,    0.000,2,    0.000,2,   2312.7,2,   2351.2,2,   7.4436,  25,2,  -999.00,9,  -999.00,   -999.0,9,   -999.0,   3.9875,  27.4171
  49NZ20090410,   P21,    73,  1,     22, X12022,2,20090430,0215,-16.7453,-100.6690, 3993,   1271.1,2,   3.5378,2,   3.53770,2,  34.5595,2,  34.5603,2,    80.83,2,    80.98,2,    93.28,2,     0.32,    41.52,2,     0.15,     0.01,2,     0.01,    3.007,2,    0.017,    0.002,2,    0.000,2,    0.000,2,   2321.5,2,   2364.7,2,   7.4594,  25,2,  -999.00,9,  -999.00,   -999.0,9,   -999.0,   3.4434,  27.4917
  49NZ20090410,   P21,    73,  1,     21, X12021,2,20090430,0215,-16.7453,-100.6690, 3993,   1469.1,2,   2.9884,2,   2.98814,2,  34.5895,2,  34.5903,2,    92.43,2,    92.69,2,   106.73,2,     0.35,    40.61,2,     0.15,     0.01,2,     0.01,    2.930,2,    0.017,    0.002,2,    0.000,2,    0.000,2,   2329.7,2,   2379.9,2,   7.4808,  25,2,  -999.00,9,  -999.00,   -999.0,9,   -999.0,   2.8832,  27.5680
  49NZ20090410,   P21,    73,  1,     20, X12020,2,20090430,0215,-16.7453,-100.6690, 3993,   1669.4,2,   2.6631,2,   2.66293,2,  34.6104,2,  34.6115,2,   101.40,2,   101.69,2,   114.67,2,     0.37,    39.73,2,     0.14,     0.02,2,     0.01,    2.868,2,    0.017,    0.000,2,    0.000,2,    0.000,2,   2333.8,2,   2390.3,2,   7.4993,  25,6,  -999.00,9,  -999.00,   -999.0,9,   -999.0,   2.5451,  27.6145
  49NZ20090410,   P21,    73,  1,     19, X12019,2,20090430,0215,-16.7453,-100.6690, 3993,   1871.8,2,   2.3726,2,   2.37257,2,  34.6288,2,  34.6295,2,   115.62,2,   115.64,2,   119.03,2,     0.38,    38.66,2,     0.14,     0.01,2,     0.01,    2.757,2,    0.017,    0.000,2,    0.000,2,    0.000,2,   2331.2,2,   2396.2,2,   7.5246,  25,2,  -999.00,9,  -999.00,   -999.0,9,   -999.0,   2.2415,  27.6548
  49NZ20090410,   P21,    73,  1,     18, X12043,2,20090430,0215,-16.7453,-100.6690, 3993,   2069.9,2,   2.1385,2,   2.13836,2,  34.6434,2,  34.6439,6,   132.68,2,   132.82,2,   118.93,2,     0.38,    37.27,2,     0.14,     0.01,2,     0.01,    2.639,2,    0.017, -999.000,9, -999.000,9, -999.000,9,   2321.5,2,   2396.9,2,   7.5539,  25,2,  -999.00,9,  -999.00,   -999.0,9,   -999.0,   1.9940,  27.6865
  49NZ20090410,   P21,    73,  1,     17, X12042,2,20090430,0215,-16.7453,-100.6690, 3993,   2270.0,2,   1.9538,2,   1.95379,2,  34.6572,2,  34.6576,2,   146.97,2,   147.15,2,   118.43,2,     0.38,    36.10,2,     0.13,     0.01,2,     0.01,    2.545,2,    0.016,    0.000,2,    0.000,2,    0.000,2,   2312.6,2,   2397.7,2,   7.5766,  25,2,  -999.00,9,  -999.00,   -999.0,9,   -999.0,   1.7949,  27.7130
  49NZ20090410,   P21,    73,  1,     16, X12016,2,20090430,0215,-16.7453,-100.6690, 3993,   2470.3,2,   1.8721,2,   1.87182,2,  34.6661,2,  34.6665,2,   151.91,2,   152.15,2,   119.34,2,     0.38,    35.67,2,     0.13,     0.01,2,     0.01,    2.505,2,    0.016, -999.000,9, -999.000,9, -999.000,9,   2311.9,6,   2398.6,2,   7.5862,  25,2,  -999.00,9,  -999.00,   -999.0,9,   -999.0,   1.6968,  27.7276
  49NZ20090410,   P21,    73,  1,     15, X12015,2,20090430,0215,-16.7453,-100.6690, 3993,   2669.2,2,   1.8270,2,   1.82690,2,  34.6730,2,  34.6734,2,   152.43,2,   152.53,2,   121.74,2,     0.39,    35.62,2,     0.13,     0.01,2,     0.01,    2.502,2,    0.016, -999.000,9, -999.000,9, -999.000,9,   2314.7,2,   2403.9,6,   7.5900,  25,2,  -999.00,9,  -999.00,   -999.0,9,   -999.0,   1.6344,  27.7379
  49NZ20090410,   P21,    73,  1,     14, X12050,2,20090430,0215,-16.7453,-100.6690, 3993,   2870.9,2,   1.8057,2,   1.80554,2,  34.6781,2,  34.6787,2,   149.80,2,   149.90,2,   125.85,2,     0.40,    35.78,2,     0.13,     0.01,2,     0.01,    2.523,2,    0.016,    0.000,2,    0.001,2,    0.000,2,   2321.4,2,   2411.5,2,   7.5915,  25,6,  -999.00,9,  -999.00,   -999.0,9,   -999.0,   1.5946,  27.7449
  49NZ20090410,   P21,    73,  1,     13, X12013,7,20090430,0215,-16.7453,-100.6690, 3993,   3080.1,2,   1.7949,2,   1.79471,2,  34.6802,2,  34.6808,6,   146.47,2,   146.56,2,   129.96,2,     0.40,    36.20,2,     0.13,     0.01,2,     0.01,    2.546,2,    0.016, -999.000,9, -999.000,9, -999.000,9,   2327.7,2,   2417.9,2,   7.5915,  25,2,  -999.00,9,  -999.00,   -999.0,9,   -999.0,   1.5638,  27.7488
  49NZ20090410,   P21,    73,  1,     12, X12012,2,20090430,0215,-16.7453,-100.6690, 3993,   3329.3,2,   1.7927,2,   1.79270,2,  34.6830,2,  34.6832,2,   147.10,2,   147.27,2,   129.97,2,     0.40,    36.18,2,     0.13,     0.01,2,     0.01,    2.543,2,    0.016, -999.000,5, -999.000,5, -999.000,5,   2328.8,2,   2419.0,2,   7.5927,  25,2,  -999.00,9,  -999.00,   -999.0,9,   -999.0,   1.5367,  27.7531
  49NZ20090410,   P21,    73,  1,     11, X12041,2,20090430,0215,-16.7453,-100.6690, 3993,   3579.8,2,   1.8063,2,   1.80615,2,  34.6844,2,  34.6844,2,   148.26,2,   148.43,2,   128.77,2,     0.40,    35.96,2,     0.13,     0.01,2,     0.01,    2.531,2,    0.016,    0.001,2,    0.000,2,    0.000,2,   2327.8,2,   2416.2,2,   7.5930,  25,2,  -999.00,9,  -999.00,   -999.0,9,   -999.0,   1.5241,  27.7551
  49NZ20090410,   P21,    73,  1,     10, X12040,2,20090430,0215,-16.7453,-100.6690, 3993,   3830.8,2,   1.8240,2,   1.82386,2,  34.6853,2,  34.6859,2,   148.79,2,   148.94,2,   128.32,2,     0.40,    36.03,2,     0.13,     0.01,2,     0.01,    2.531,2,    0.016,    0.001,2,    0.000,2,    0.000,2,   2326.4,2,   2414.6,2,   7.5937,  25,2,  -999.00,9,  -999.00,   -999.0,9,   -999.0,   1.5145,  27.7566
  49NZ20090410,   P21,    73,  1,      9, X12009,9,20090430,0215,-16.7453,-100.6690, 3993,     99.2,2,  20.9188,2,  20.92010,2,  35.8161,2,-999.0000,9,   210.64,2,  -999.00,9,  -999.00,9,  -999.00,  -999.00,9,  -999.00,  -999.00,9,  -999.00, -999.000,9, -999.000, -999.000,9, -999.000,9, -999.000,9,   -999.0,9,   -999.0,9,-999.0000,-999,9,  -999.00,9,  -999.00,   -999.0,9,   -999.0,  20.8998,  25.1427
  49NZ20090410,   P21,    73,  1,      8, X12008,9,20090430,0215,-16.7453,-100.6690, 3993,     49.6,2,  24.3302,2,  24.35146,2,  36.0967,2,-999.0000,9,   211.08,2,  -999.00,9,  -999.00,9,  -999.00,  -999.00,9,  -999.00,  -999.00,9,  -999.00, -999.000,9, -999.000, -999.000,9, -999.000,9, -999.000,9,   -999.0,9,   -999.0,9,-999.0000,-999,9,  -999.00,9,  -999.00,   -999.0,9,   -999.0,  24.3196,  24.3764
  49NZ20090410,   P21,    73,  1,      7, X12007,9,20090430,0215,-16.7453,-100.6690, 3993,      9.5,2,  24.4614,2,  24.46220,2,  36.0016,2,-999.0000,9,   210.95,2,  -999.00,9,  -999.00,9,  -999.00,  -999.00,9,  -999.00,  -999.00,9,  -999.00, -999.000,9, -999.000, -999.000,9, -999.000,9, -999.000,9,   -999.0,9,   -999.0,9,-999.0000,-999,9,  -999.00,9,  -999.00,   -999.0,9,   -999.0,  24.4594,  24.2624
  49NZ20090410,   P21,    73,  1,      6, X12035,9,20090430,0215,-16.7453,-100.6690, 3993,   2469.5,2,   1.8726,2,   1.87260,2,  34.6660,2,-999.0000,9,   151.93,2,  -999.00,9,  -999.00,9,  -999.00,  -999.00,9,  -999.00,  -999.00,9,  -999.00, -999.000,9, -999.000, -999.000,9, -999.000,9, -999.000,9,   -999.0,9,   -999.0,9,-999.0000,-999,9,  -999.00,9,  -999.00,   -999.0,9,   -999.0,   1.6974,  27.7275
  49NZ20090410,   P21,    73,  1,      5, X12038,9,20090430,0215,-16.7453,-100.6690, 3993,   2668.8,2,   1.8273,2,   1.82721,2,  34.6730,2,-999.0000,9,   152.45,2,  -999.00,9,  -999.00,9,  -999.00,  -999.00,9,  -999.00,  -999.00,9,  -999.00, -999.000,9, -999.000, -999.000,9, -999.000,9, -999.000,9,   -999.0,9,   -999.0,9,-999.0000,-999,9,  -999.00,9,  -999.00,   -999.0,9,   -999.0,   1.6347,  27.7378
  49NZ20090410,   P21,    73,  1,      4, X12034,9,20090430,0215,-16.7453,-100.6690, 3993,   2871.0,2,   1.8059,2,   1.80575,2,  34.6782,2,-999.0000,9,   149.80,2,  -999.00,9,  -999.00,9,  -999.00,  -999.00,9,  -999.00,  -999.00,9,  -999.00, -999.000,9, -999.000, -999.000,9, -999.000,9, -999.000,9,   -999.0,9,   -999.0,9,-999.0000,-999,9,  -999.00,9,  -999.00,   -999.0,9,   -999.0,   1.5948,  27.7449
  49NZ20090410,   P21,    73,  1,      3, X12033,9,20090430,0215,-16.7453,-100.6690, 3993,   3080.4,2,   1.7949,2,   1.79486,2,  34.6802,2,-999.0000,9,   146.45,2,  -999.00,9,  -999.00,9,  -999.00,  -999.00,9,  -999.00,  -999.00,9,  -999.00, -999.000,9, -999.000, -999.000,9, -999.000,9, -999.000,9,   -999.0,9,   -999.0,9,-999.0000,-999,9,  -999.00,9,  -999.00,   -999.0,9,   -999.0,   1.5638,  27.7489
  49NZ20090410,   P21,    73,  1,      2, X12032,9,20090430,0215,-16.7453,-100.6690, 3993,   3329.6,2,   1.7927,2,   1.79265,2,  34.6830,2,-999.0000,9,   147.12,2,  -999.00,9,  -999.00,9,  -999.00,  -999.00,9,  -999.00,  -999.00,9,  -999.00, -999.000,9, -999.000, -999.000,9, -999.000,9, -999.000,9,   -999.0,9,   -999.0,9,-999.0000,-999,9,  -999.00,9,  -999.00,   -999.0,9,   -999.0,   1.5367,  27.7531
  49NZ20090410,   P21,    73,  1,      1, X12046,2,20090430,0215,-16.7453,-100.6690, 3993,   4040.6,2,   1.8419,2,   1.84172,2,  34.6857,2,  34.6859,6,   148.94,2,   149.11,2,   128.25,2,     0.40,    35.92,2,     0.13,     0.01,2,     0.01,    2.539,2,    0.016,    0.000,2,    0.001,2,    0.000,2,   2327.4,2,   2416.0,2,   7.5935,  25,2,  -999.00,9,  -999.00,   -999.0,9,   -999.0,   1.5089,  27.7573