BOTTLE,20220818CCHSIOAMB
EXPOCODE,SECT_ID,STNNBR,CASTNO,SAMPNO,BTLNBR,BTLNBR_FLAG_W,DATE,TIME,LATITUDE,LONGITUDE,DEPTH,CTDPRS,CTDPRS_FLAG_W,CTDTMP,CTDTMP_FLAG_W,SBE35,SBE35_FLAG_W,CTDSAL,CTDSAL_FLAG_W,SALNTY,SALNTY_FLAG_W,CTDOXY,CTDOXY_FLAG_W,OXYGEN,OXYGEN_FLAG_W,SILCAT,SILCAT_FLAG_W,SILUNC,NITRAT,NITRAT_FLAG_W,NRAUNC,NITRIT,NITRIT_FLAG_W,NRIUNC,PHSPHT,PHSPHT_FLAG_W,PHPUNC,CFC-11,CFC-11_FLAG_W,CFC-12,CFC-12_FLAG_W,CFC113,CFC113_FLAG_W,TCARBN,TCARBN_FLAG_W,ALKALI,ALKALI_FLAG_W,PH_TOT,PH_TMP,PH_TOT_FLAG_W,DELC13,DELC13_FLAG_W,C13ERR,DELC14,DELC14_FLAG_W,C14ERR,THETA,SIG0
,,,,,,,,,,,METERS,DBAR,,ITS-90,,ITS-90,,PSS-78,,PSS-78,,UMOL/KG,,UMOL/KG,,UMOL/KG,,UMOL/KG,UMOL/KG,,UMOL/KG,UMOL/KG,,UMOL/KG,UMOL/KG,,UMOL/KG,PMOL/KG,,PMOL/KG,,PMOL/KG,,UMOL/KG,,UMOL/KG,,,DEG C,,/MILLE,,/MILLE,/MILLE,,/MILLE,DEG C,KG/M^3
  49NZ20090410,   P21,    71,  1,     36, X12006,2,20090429,1517,-16.7418, -99.3363, 3820,      9.8,2,  23.8867,2,  23.88552,2,  35.8628,2,  35.8634,2,   212.99,2,   212.59,2,     0.67,2,     0.12,     0.07,2,     0.03,     0.01,2,     0.01,    0.410,2,    0.013,    1.772,2,    1.104,2, -999.000,5,   2058.0,2,   2376.1,2,   8.0557,  25,6,  -999.00,9,  -999.00,   -999.0,9,   -999.0,  23.8846,  24.3290
  49NZ20090410,   P21,    71,  1,     35, X12047,2,20090429,1517,-16.7418, -99.3363, 3820,     50.4,2,  23.2622,2,  23.30690,2,  35.7984,2,  35.7548,2,   216.90,2,   222.12,2,     0.63,2,     0.12,     0.06,2,     0.03,     0.01,2,     0.01,    0.426,2,    0.013,    1.916,2,    1.183,2, -999.000,5,   2062.4,6,   2369.6,2,   8.0405,  25,2,  -999.00,9,  -999.00,   -999.0,9,   -999.0,  23.2518,  24.4662
  49NZ20090410,   P21,    71,  1,     34, X12004,2,20090429,1517,-16.7418, -99.3363, 3820,     99.5,2,  19.8591,2,  19.85970,2,  35.5765,2,  35.5780,2,   215.45,2,   216.54,2,     0.43,2,     0.12,     0.19,2,     0.03,     0.44,2,     0.00,    0.486,2,    0.013,    2.159,6,    1.322,6, -999.000,5,   2086.0,2,   2357.9,6,   7.9868,  25,2,  -999.00,9,  -999.00,   -999.0,9,   -999.0,  19.8408,  25.2436
  49NZ20090410,   P21,    71,  1,     33, X12003,2,20090429,1517,-16.7418, -99.3363, 3820,    149.9,2,  18.4885,2,  18.49102,2,  35.3228,2,  35.3250,2,   203.97,2,   204.53,2,     0.64,2,     0.12,     3.62,2,     0.04,     0.04,2,     0.01,    0.642,2,    0.013,    2.290,2,    1.388,2,    0.203,4,   2095.0,2,   2339.2,2,   7.9415,  25,2,  -999.00,9,  -999.00,   -999.0,9,   -999.0,  18.4622,  25.4042
  49NZ20090410,   P21,    71,  1,     32, X12002,2,20090429,1517,-16.7418, -99.3363, 3820,    199.1,2,  15.3675,2,  15.37379,2,  34.8498,2,  34.8500,2,   176.02,2,   174.96,2,     2.85,2,     0.13,    11.79,2,     0.07,     0.02,2,     0.01,    1.192,2,    0.013,    2.579,2,    1.508,2,    0.084,2,   2131.7,2,   2303.8,2,   7.8060,  25,2,  -999.00,9,  -999.00,   -999.0,9,   -999.0,  15.3369,  25.7817
  49NZ20090410,   P21,    71,  1,     31, X12001,2,20090429,1517,-16.7418, -99.3363, 3820,    249.4,2,  12.0313,2,  12.04234,2,  34.5893,2,  34.5909,6,    60.97,2,    59.95,2,    14.44,2,     0.15,    21.85,2,     0.09,     0.01,2,     0.01,    2.273,2,    0.016,    1.893,2,    1.034,2,    0.039,2,   2224.6,2,   2285.9,2,   7.5167,  25,2,  -999.00,9,  -999.00,   -999.0,9,   -999.0,  11.9988,  26.2703
  49NZ20090410,   P21,    71,  1,     30, X12030,2,20090429,1517,-16.7418, -99.3363, 3820,    279.8,2,  10.9639,2,  10.96400,2,  34.5720,2,  34.5720,2,    50.93,2,    50.55,2,    17.44,2,     0.16,    24.95,2,     0.10,     0.02,2,     0.01,    2.414,2,    0.016,    1.441,2,    0.759,2,    0.021,2,   2236.1,2,   2285.4,2,   7.4793,  25,2,  -999.00,9,  -999.00,   -999.0,9,   -999.0,  10.9295,  26.4549
  49NZ20090410,   P21,    71,  1,     29, X12044,2,20090429,1517,-16.7418, -99.3363, 3820,    369.8,2,   8.9759,2,   8.97267,2,  34.5882,2,  34.5875,2,    23.43,2,    23.22,2,    25.77,2,     0.18,    35.69,2,     0.13,     0.01,2,     0.01,    2.773,2,    0.017,    0.344,2,    0.175,2,    0.005,2,   2271.3,2,   2292.7,2,   7.3978,  25,2,  -999.00,9,  -999.00,   -999.0,9,   -999.0,   8.9356,  26.8059
  49NZ20090410,   P21,    71,  1,     28, X12048,2,20090429,1517,-16.7418, -99.3363, 3820,    469.7,2,   7.6323,2,   7.63234,2,  34.5461,2,  34.5450,6,    44.42,2,    44.34,2,    30.54,2,     0.19,    38.64,2,     0.14,     0.01,2,     0.01,    2.756,2,    0.017,    0.128,2,    0.066,2,    0.000,2,   2266.9,2,   2297.1,2,   7.4288,  25,2,  -999.00,9,  -999.00,   -999.0,9,   -999.0,   7.5855,  26.9783
  49NZ20090410,   P21,    71,  1,     27, X12027,2,20090429,1517,-16.7418, -99.3363, 3820,    569.7,2,   6.7282,2,   6.72841,2,  34.5272,2,  34.5265,2,    48.89,2,    48.79,2,    38.17,2,     0.20,    40.69,2,     0.15,     0.01,2,     0.01,    2.866,2,    0.017,    0.027,6,    0.012,6,    0.000,6,   2273.3,2,   2303.9,2,   7.4285,  25,2,  -999.00,9,  -999.00,   -999.0,9,   -999.0,   6.6750,  27.0907
  49NZ20090410,   P21,    71,  1,     26, X12026,2,20090429,1517,-16.7418, -99.3363, 3820,    669.4,2,   5.9279,2,   5.92826,2,  34.4999,2,  34.4994,2,    55.13,2,    55.34,2,    45.20,2,     0.22,    41.82,2,     0.15,     0.01,2,     0.01,    2.947,2,    0.017,    0.008,2,    0.006,2,    0.000,2,   2280.0,6,   2310.2,2,   7.4252,  25,2,  -999.00,9,  -999.00,   -999.0,9,   -999.0,   5.8690,  27.1740
  49NZ20090410,   P21,    71,  1,     25, X12025,2,20090429,1517,-16.7418, -99.3363, 3820,    769.3,2,   5.3695,2,   5.36997,2,  34.5070,2,  34.5067,2,    49.55,2,    49.69,2,    55.60,2,     0.24,    43.49,2,     0.15,     0.01,2,     0.01,    3.075,2,    0.018,    0.001,2,    0.000,2,    0.000,2,   2296.0,2,   2321.3,6,   7.4099,  25,2,  -999.00,9,  -999.00,   -999.0,9,   -999.0,   5.3045,  27.2487
  49NZ20090410,   P21,    71,  1,     24, X12024,2,20090429,1517,-16.7418, -99.3363, 3820,    869.6,2,   4.8620,2,   4.86254,2,  34.5117,2,  34.5116,2,    55.00,2,    54.99,2,    64.52,2,     0.26,    43.55,2,     0.15,     0.01,2,     0.01,    3.084,2,    0.018,    0.002,2,    0.002,2,    0.000,2,   2303.6,2,   2332.0,2,   7.4152,  25,6,  -999.00,9,  -999.00,   -999.0,9,   -999.0,   4.7913,  27.3120
  49NZ20090410,   P21,    71,  1,     23, X12028,2,20090429,1517,-16.7418, -99.3363, 3820,    970.0,2,   4.4544,2,   4.45414,2,  34.5238,2,  34.5234,6,    61.63,2,    61.65,2,    72.99,2,     0.28,    43.08,2,     0.15,     0.01,2,     0.01,    3.084,2,    0.018,    0.000,2,    0.000,2,    0.000,2,   2309.0,2,   2340.7,2,   7.4272,  25,2,  -999.00,9,  -999.00,   -999.0,9,   -999.0,   4.3778,  27.3673
  49NZ20090410,   P21,    71,  1,     22, X12022,2,20090429,1517,-16.7418, -99.3363, 3820,   1130.1,2,   3.9516,2,   3.95144,2,  34.5441,2,  34.5443,2,    69.60,2,    69.73,2,    85.16,2,     0.31,    42.40,2,     0.15,     0.01,2,     0.01,    3.055,2,    0.018,    0.002,2,    0.000,2,    0.000,2,   2318.4,2,   2354.4,2,   7.4413,  25,2,  -999.00,9,  -999.00,   -999.0,9,   -999.0,   3.8653,  27.4373
  49NZ20090410,   P21,    71,  1,     21, X12021,2,20090429,1517,-16.7418, -99.3363, 3820,   1330.5,2,   3.3728,2,   3.37284,2,  34.5698,2,  34.5697,2,    82.62,2,    82.65,2,    98.12,2,     0.33,    41.45,2,     0.15,     0.01,2,     0.01,    2.990,2,    0.017,    0.001,2,    0.001,2,    0.000,2,   2325.3,2,   2369.7,2,   7.4640,  25,2,  -999.00,9,  -999.00,   -999.0,9,   -999.0,   3.2751,  27.5160
  49NZ20090410,   P21,    71,  1,     20, X12020,2,20090429,1517,-16.7418, -99.3363, 3820,   1530.1,2,   2.9690,2,   2.96903,2,  34.5918,2,  34.5919,2,    92.59,2,    92.71,2,   107.34,2,     0.36,    40.44,2,     0.15,     0.01,2,     0.01,    2.908,2,    0.017,    0.000,2,    0.000,2,    0.000,2,   2329.8,2,   2380.8,2,   7.4822,  25,6,  -999.00,9,  -999.00,   -999.0,9,   -999.0,   2.8590,  27.5720
  49NZ20090410,   P21,    71,  1,     19, X12019,2,20090429,1517,-16.7418, -99.3363, 3820,   1729.8,2,   2.5521,2,   2.55210,2,  34.6178,2,  34.6182,2,   105.48,2,   105.51,2,   117.13,2,     0.38,    39.57,2,     0.14,     0.01,2,     0.01,    2.829,2,    0.017,    0.000,2,    0.000,2,    0.000,2,   2332.4,2,   2392.3,2,   7.5069,  25,2,  -999.00,9,  -999.00,   -999.0,9,   -999.0,   2.4305,  27.6303
  49NZ20090410,   P21,    71,  1,     18, X12043,2,20090429,1517,-16.7418, -99.3363, 3820,   1931.0,2,   2.3133,2,   2.31299,2,  34.6334,2,  34.6333,6,   118.98,2,   119.11,2,   119.91,2,     0.38,    38.41,2,     0.14,     0.01,2,     0.01,    2.728,2,    0.017,    0.001,2,    0.000,2,    0.000,2,   2327.9,2,   2397.5,2,   7.5310,  25,2,  -999.00,9,  -999.00,   -999.0,9,   -999.0,   2.1780,  27.6637
  49NZ20090410,   P21,    71,  1,     17, X12042,2,20090429,1517,-16.7418, -99.3363, 3820,   2131.4,2,   2.0897,2,   2.08958,2,  34.6467,2,  34.6470,2,   137.14,2,   137.24,2,   118.40,2,     0.38,    36.95,2,     0.14,     0.01,2,     0.01,    2.612,2,    0.017, -999.000,9, -999.000,9, -999.000,9,   2316.5,2,   2396.2,2,   7.5608,  25,2,  -999.00,9,  -999.00,   -999.0,9,   -999.0,   1.9406,  27.6933
  49NZ20090410,   P21,    71,  1,     16, X12016,2,20090429,1517,-16.7418, -99.3363, 3820,   2331.3,2,   1.9443,2,   1.94415,2,  34.6596,2,  34.6596,2,   145.12,2,   144.86,2,   120.57,2,     0.38,    36.28,2,     0.13,     0.01,2,     0.01,    2.547,2,    0.016, -999.000,9, -999.000,9, -999.000,9,   2314.1,6,   2401.0,2,   7.5757,  25,2,  -999.00,9,  -999.00,   -999.0,9,   -999.0,   1.7801,  27.7161
  49NZ20090410,   P21,    71,  1,     15, X12015,2,20090429,1517,-16.7418, -99.3363, 3820,   2531.4,2,   1.8489,2,   1.84894,2,  34.6693,2,  34.6693,2,   152.12,2,   151.92,2,   120.59,2,     0.38,    35.74,2,     0.13,     0.01,2,     0.01,    2.501,2,    0.016,    0.003,2,    0.002,2,    0.000,2,   2310.5,2,   2401.1,6,   7.5876,  25,2,  -999.00,9,  -999.00,   -999.0,9,   -999.0,   1.6685,  27.7323
  49NZ20090410,   P21,    71,  1,     14, X12050,2,20090429,1517,-16.7418, -99.3363, 3820,   2729.9,2,   1.8116,2,   1.81156,2,  34.6757,2,  34.6751,2,   149.14,2,   148.88,2,   125.78,2,     0.40,    35.98,2,     0.13,     0.01,2,     0.01,    2.527,2,    0.016, -999.000,9, -999.000,9, -999.000,9,   2320.1,2,   2411.2,2,   7.5902,  25,6,  -999.00,9,  -999.00,   -999.0,9,   -999.0,   1.6137,  27.7415
  49NZ20090410,   P21,    71,  1,     13, X12013,7,20090429,1517,-16.7418, -99.3363, 3820,   2929.9,2,   1.8011,2,   1.80108,2,  34.6781,2,  34.6784,6,   146.12,2,   145.89,2,   130.03,2,     0.41,    36.27,2,     0.13,     0.01,2,     0.01,    2.543,2,    0.016, -999.000,9, -999.000,9, -999.000,9,   2325.8,2,   2417.0,2,   7.5907,  25,2,  -999.00,9,  -999.00,   -999.0,9,   -999.0,   1.5844,  27.7457
  49NZ20090410,   P21,    71,  1,     12, X12012,2,20090429,1517,-16.7418, -99.3363, 3820,   3171.2,2,   1.8028,2,   1.80280,2,  34.6799,2,  34.6798,2,   145.16,2,   145.10,2,   131.60,2,     0.41,    36.41,2,     0.13,     0.01,2,     0.01,    2.546,2,    0.016,    0.002,2,    0.001,2,    0.000,2,   2328.6,2,   2419.3,2,   7.5908,  25,2,  -999.00,9,  -999.00,   -999.0,9,   -999.0,   1.5625,  27.7487
  49NZ20090410,   P21,    71,  1,     11, X12041,2,20090429,1517,-16.7418, -99.3363, 3820,   3420.9,2,   1.8111,2,   1.81101,2,  34.6819,2,  34.6819,2,   146.04,2,   145.96,2,   130.87,2,     0.41,    36.40,2,     0.13,     0.01,2,     0.01,    2.546,2,    0.016,    0.001,2,    0.000,2,    0.000,2,   2328.6,2,   2418.9,2,   7.5916,  25,2,  -999.00,9,  -999.00,   -999.0,9,   -999.0,   1.5453,  27.7516
  49NZ20090410,   P21,    71,  1,     10, X12040,2,20090429,1517,-16.7418, -99.3363, 3820,   3670.0,2,   1.8203,2,   1.82029,2,  34.6841,2,  34.6844,2,   147.92,2,   147.82,2,   129.24,2,     0.40,    36.09,2,     0.13,     0.01,2,     0.01,    2.529,2,    0.016,    0.002,2,    0.000,2,    0.000,2,   2325.9,2,   2417.9,2,   7.5931,  25,2,  -999.00,9,  -999.00,   -999.0,9,   -999.0,   1.5282,  27.7546
  49NZ20090410,   P21,    71,  1,      9, X12009,9,20090429,1517,-16.7418, -99.3363, 3820,      9.7,2,  23.8780,2,  23.87852,2,  35.8625,2,-999.0000,9,   213.09,2,  -999.00,9,  -999.00,9,  -999.00,  -999.00,9,  -999.00,  -999.00,9,  -999.00, -999.000,9, -999.000, -999.000,9, -999.000,9, -999.000,9,   -999.0,9,   -999.0,9,-999.0000,-999,9,  -999.00,9,  -999.00,   -999.0,9,   -999.0,  23.8760,  24.3313
  49NZ20090410,   P21,    71,  1,      8, X12008,9,20090429,1517,-16.7418, -99.3363, 3820,   3171.4,2,   1.8027,2,   1.80277,2,  34.6800,2,-999.0000,9,   145.14,2,  -999.00,9,  -999.00,9,  -999.00,  -999.00,9,  -999.00,  -999.00,9,  -999.00, -999.000,9, -999.000, -999.000,9, -999.000,9, -999.000,9,   -999.0,9,   -999.0,9,-999.0000,-999,9,  -999.00,9,  -999.00,   -999.0,9,   -999.0,   1.5624,  27.7488
  49NZ20090410,   P21,    71,  1,      7, X12007,9,20090429,1517,-16.7418, -99.3363, 3820,   3421.9,2,   1.8114,2,   1.81131,2,  34.6818,2,-999.0000,9,   146.07,2,  -999.00,9,  -999.00,9,  -999.00,  -999.00,9,  -999.00,  -999.00,9,  -999.00, -999.000,9, -999.000, -999.000,9, -999.000,9, -999.000,9,   -999.0,9,   -999.0,9,-999.0000,-999,9,  -999.00,9,  -999.00,   -999.0,9,   -999.0,   1.5455,  27.7515
  49NZ20090410,   P21,    71,  1,      6, X12035,2,20090429,1517,-16.7418, -99.3363, 3820,   3669.5,2,   1.8204,2,   1.82044,2,  34.6841,2,  34.6836,2,   147.93,2,   147.94,2,   129.16,2,     0.40,    36.11,2,     0.13,     0.01,2,     0.01,    2.534,2,    0.016,    0.002,2,    0.001,2,    0.000,2,   2326.5,2,   2419.1,2,   7.5934,  25,2,  -999.00,9,  -999.00,   -999.0,9,   -999.0,   1.5284,  27.7546
  49NZ20090410,   P21,    71,  1,      5, X12038,9,20090429,1517,-16.7418, -99.3363, 3820,   3762.0,2,   1.8233,2,   1.82319,2,  34.6848,2,-999.0000,9,   148.38,2,  -999.00,9,  -999.00,9,  -999.00,  -999.00,9,  -999.00,  -999.00,9,  -999.00, -999.000,9, -999.000, -999.000,9, -999.000,9, -999.000,9,   -999.0,9,   -999.0,9,-999.0000,-999,9,  -999.00,9,  -999.00,   -999.0,9,   -999.0,   1.5213,  27.7557
  49NZ20090410,   P21,    71,  1,      4, X12034,2,20090429,1517,-16.7418, -99.3363, 3820,   2530.8,2,   1.8484,2,   1.84836,2,  34.6694,2,  34.6695,2,   152.10,2,   151.95,2,   120.73,2,     0.38,    35.77,2,     0.13,     0.01,2,     0.01,    2.502,2,    0.016,    0.000,2,    0.000,2,    0.000,2,   2311.0,2,   2401.3,2,   7.5880,  25,2,  -999.00,9,  -999.00,   -999.0,9,   -999.0,   1.6681,  27.7324
  49NZ20090410,   P21,    71,  1,      3, X12033,9,20090429,1517,-16.7418, -99.3363, 3820,   2729.5,2,   1.8115,2,   1.81140,2,  34.6757,2,-999.0000,9,   149.12,2,  -999.00,9,  -999.00,9,  -999.00,  -999.00,9,  -999.00,  -999.00,9,  -999.00, -999.000,9, -999.000, -999.000,9, -999.000,9, -999.000,9,   -999.0,9,   -999.0,9,-999.0000,-999,9,  -999.00,9,  -999.00,   -999.0,9,   -999.0,   1.6136,  27.7416
  49NZ20090410,   P21,    71,  1,      2, X12032,9,20090429,1517,-16.7418, -99.3363, 3820,   2929.9,2,   1.8012,2,   1.80118,2,  34.6781,2,-999.0000,9,   146.12,2,  -999.00,9,  -999.00,9,  -999.00,  -999.00,9,  -999.00,  -999.00,9,  -999.00, -999.000,9, -999.000, -999.000,9, -999.000,9, -999.000,9,   -999.0,9,   -999.0,9,-999.0000,-999,9,  -999.00,9,  -999.00,   -999.0,9,   -999.0,   1.5845,  27.7457
  49NZ20090410,   P21,    71,  1,      1, X12046,2,20090429,1517,-16.7418, -99.3363, 3820,   3762.6,2,   1.8235,2,   1.82348,2,  34.6848,2,  34.6846,6,   148.42,2,   148.28,2,   129.10,2,     0.40,    36.18,2,     0.13,     0.01,2,     0.01,    2.531,2,    0.016,    0.001,2,    0.000,2,    0.000,2,   2326.6,2,   2418.1,2,   7.5941,  25,2,  -999.00,9,  -999.00,   -999.0,9,   -999.0,   1.5214,  27.7557