BOTTLE,20220818CCHSIOAMB
EXPOCODE,SECT_ID,STNNBR,CASTNO,SAMPNO,BTLNBR,BTLNBR_FLAG_W,DATE,TIME,LATITUDE,LONGITUDE,DEPTH,CTDPRS,CTDPRS_FLAG_W,CTDTMP,CTDTMP_FLAG_W,SBE35,SBE35_FLAG_W,CTDSAL,CTDSAL_FLAG_W,SALNTY,SALNTY_FLAG_W,CTDOXY,CTDOXY_FLAG_W,OXYGEN,OXYGEN_FLAG_W,SILCAT,SILCAT_FLAG_W,SILUNC,NITRAT,NITRAT_FLAG_W,NRAUNC,NITRIT,NITRIT_FLAG_W,NRIUNC,PHSPHT,PHSPHT_FLAG_W,PHPUNC,CFC-11,CFC-11_FLAG_W,CFC-12,CFC-12_FLAG_W,CFC113,CFC113_FLAG_W,TCARBN,TCARBN_FLAG_W,ALKALI,ALKALI_FLAG_W,PH_TOT,PH_TMP,PH_TOT_FLAG_W,DELC13,DELC13_FLAG_W,C13ERR,DELC14,DELC14_FLAG_W,C14ERR,THETA,SIG0
,,,,,,,,,,,METERS,DBAR,,ITS-90,,ITS-90,,PSS-78,,PSS-78,,UMOL/KG,,UMOL/KG,,UMOL/KG,,UMOL/KG,UMOL/KG,,UMOL/KG,UMOL/KG,,UMOL/KG,UMOL/KG,,UMOL/KG,PMOL/KG,,PMOL/KG,,PMOL/KG,,UMOL/KG,,UMOL/KG,,,DEG C,,/MILLE,,/MILLE,/MILLE,,/MILLE,DEG C,KG/M^3
  49NZ20090410,   P21,    52,  1,     36, X12006,2,20090425,1644,-16.7407, -89.0003, 4347,      9.9,2,  23.3847,2,  23.38386,2,  35.7760,2,  35.7761,2,   216.03,2,   215.94,2,     0.83,2,     0.12,     0.34,2,     0.03,     0.02,2,     0.01,    0.443,2,    0.013,    1.752,2,    1.100,2, -999.000,5,   -999.0,9,   -999.0,9,-999.0000,-999,9,  -999.00,9,  -999.00,   -999.0,9,   -999.0,  23.3827,  24.4110
  49NZ20090410,   P21,    52,  1,     35, X12047,2,20090425,1644,-16.7407, -89.0003, 4347,     50.1,2,  23.3489,2,  23.34845,2,  35.7719,2,  35.7739,2,   215.35,2,   215.82,2,     0.80,2,     0.12,     0.33,2,     0.03,     0.02,2,     0.01,    0.442,2,    0.013,    1.743,2,    1.106,2, -999.000,5,   -999.0,9,   -999.0,9,-999.0000,-999,9,  -999.00,9,  -999.00,   -999.0,9,   -999.0,  23.3385,  24.4207
  49NZ20090410,   P21,    52,  1,     34, X12004,2,20090425,1644,-16.7407, -89.0003, 4347,    101.6,2,  19.0007,2,  18.99956,2,  35.3822,2,  35.3838,2,   212.77,2,   212.62,2,     0.74,2,     0.12,     1.92,2,     0.04,     1.20,2,     0.01,    0.688,2,    0.013,    2.199,6,    1.365,6,    0.221,4,   -999.0,9,   -999.0,9,-999.0000,-999,9,  -999.00,9,  -999.00,   -999.0,9,   -999.0,  18.9826,  25.3178
  49NZ20090410,   P21,    52,  1,     33, X12003,2,20090425,1644,-16.7407, -89.0003, 4347,    150.1,2,  17.1878,2,  17.21376,2,  35.0910,2,  35.0957,2,   198.19,2,   195.75,2,     1.53,2,     0.12,     8.21,2,     0.06,     0.03,2,     0.01,    0.978,2,    0.013,    2.388,2,    1.452,2,    0.189,2,   -999.0,9,   -999.0,9,-999.0000,-999,9,  -999.00,9,  -999.00,   -999.0,9,   -999.0,  17.1628,  25.5453
  49NZ20090410,   P21,    52,  1,     32, X12002,2,20090425,1644,-16.7407, -89.0003, 4347,    202.4,2,  13.5306,2,  13.53111,2,  34.6561,2,  34.6627,2,   120.41,2,   127.73,2,     6.84,2,     0.13,    17.56,2,     0.08,     0.01,2,     0.01,    1.711,2,    0.014,    2.418,2,    1.379,2,    0.083,2,   -999.0,9,   -999.0,9,-999.0000,-999,9,  -999.00,9,  -999.00,   -999.0,9,   -999.0,  13.5021,  26.0246
  49NZ20090410,   P21,    52,  1,     31, X12001,2,20090425,1644,-16.7407, -89.0003, 4347,    252.5,2,  11.7572,2,  11.75790,2,  34.6828,2,  34.6838,6,    15.95,2,    17.61,2,    20.32,2,     0.16,    23.58,2,     0.10,     0.01,2,     0.01,    2.623,2,    0.017,    1.192,2,    0.648,2,    0.024,2,   -999.0,9,   -999.0,9,-999.0000,-999,9,  -999.00,9,  -999.00,   -999.0,9,   -999.0,  11.7247,  26.3948
  49NZ20090410,   P21,    52,  1,     30, X12030,2,20090425,1644,-16.7407, -89.0003, 4347,    300.6,2,  10.8007,2,  10.79164,2,  34.6991,2,  34.6980,2,     5.59,2,     5.64,2,    24.32,2,     0.17,    29.24,2,     0.11,     0.01,2,     0.01,    2.757,2,    0.017,    0.557,2,    0.293,2,    0.010,2,   -999.0,9,   -999.0,9,-999.0000,-999,9,  -999.00,9,  -999.00,   -999.0,9,   -999.0,  10.7640,  26.5836
  49NZ20090410,   P21,    52,  1,     29, X12044,2,20090425,1644,-16.7407, -89.0003, 4347,    401.1,2,   8.9097,2,   8.90827,2,  34.6134,2,  34.6135,2,    12.26,2,    12.19,2,    28.42,2,     0.18,    37.34,2,     0.14,     0.01,2,     0.01,    2.848,2,    0.017,    0.204,2,    0.110,2,    0.000,2,   -999.0,9,   -999.0,9,-999.0000,-999,9,  -999.00,9,  -999.00,   -999.0,9,   -999.0,   8.8661,  26.8367
  49NZ20090410,   P21,    52,  1,     28, X12048,2,20090425,1644,-16.7407, -89.0003, 4347,    501.3,2,   7.5424,2,   7.54182,2,  34.5494,2,  34.5491,6,    32.97,2,    32.97,2,    32.88,2,     0.19,    40.12,2,     0.15,     0.01,2,     0.01,    2.874,2,    0.017,    0.103,2,    0.054,2,    0.000,2,   -999.0,9,   -999.0,9,-999.0000,-999,9,  -999.00,9,  -999.00,   -999.0,9,   -999.0,   7.4927,  26.9943
  49NZ20090410,   P21,    52,  1,     27, X12027,2,20090425,1644,-16.7407, -89.0003, 4347,    598.2,2,   6.5731,2,   6.57227,2,  34.5106,2,  34.5097,2,    42.24,2,    42.36,2,    39.01,2,     0.20,    41.99,2,     0.15,     0.01,2,     0.01,    2.970,2,    0.017,    0.045,6,    0.027,6,    0.000,6,   -999.0,9,   -999.0,9,-999.0000,-999,9,  -999.00,9,  -999.00,   -999.0,9,   -999.0,   6.5178,  27.0986
  49NZ20090410,   P21,    52,  1,     26, X12026,2,20090425,1644,-16.7407, -89.0003, 4347,    700.6,2,   5.8417,2,   5.84163,2,  34.5016,2,  34.5010,2,    41.45,2,    41.84,2,    48.44,2,     0.23,    43.69,2,     0.16,     0.01,2,     0.01,    3.096,2,    0.018,    0.008,2,    0.004,2,    0.000,2,   -999.0,9,   -999.0,9,-999.0000,-999,9,  -999.00,9,  -999.00,   -999.0,9,   -999.0,   5.7803,  27.1864
  49NZ20090410,   P21,    52,  1,     25, X12025,2,20090425,1644,-16.7407, -89.0003, 4347,    800.2,2,   5.2526,2,   5.25268,2,  34.5057,2,  34.5051,2,    45.19,2,    45.59,2,    57.98,2,     0.25,    44.11,2,     0.16,     0.01,2,     0.01,    3.131,2,    0.018,    0.001,2,    0.001,2,    0.000,2,   -999.0,9,   -999.0,9,-999.0000,-999,9,  -999.00,9,  -999.00,   -999.0,9,   -999.0,   5.1855,  27.2617
  49NZ20090410,   P21,    52,  1,     24, X12024,2,20090425,1644,-16.7407, -89.0003, 4347,    898.1,2,   4.8074,2,   4.80795,2,  34.5116,2,  34.5111,2,    53.19,2,    53.32,2,    65.77,2,     0.26,    43.68,2,     0.16,     0.01,2,     0.01,    3.119,2,    0.018,    0.001,2,    0.004,2,    0.000,2,   -999.0,9,   -999.0,9,-999.0000,-999,9,  -999.00,9,  -999.00,   -999.0,9,   -999.0,   4.7345,  27.3183
  49NZ20090410,   P21,    52,  1,     23, X12028,2,20090425,1644,-16.7407, -89.0003, 4347,   1000.8,2,   4.3558,2,   4.35592,2,  34.5221,2,  34.5219,6,    67.49,2,    67.29,2,    73.81,2,     0.28,    42.65,2,     0.15,     0.01,2,     0.01,    3.058,2,    0.018,    0.000,2,    0.001,2,    0.000,2,   -999.0,9,   -999.0,9,-999.0000,-999,9,  -999.00,9,  -999.00,   -999.0,9,   -999.0,   4.2773,  27.3768
  49NZ20090410,   P21,    52,  1,     22, X12022,2,20090425,1644,-16.7407, -89.0003, 4347,   1199.1,2,   3.6681,2,   3.66829,2,  34.5489,2,  34.5492,2,    83.28,2,    83.22,2,    88.27,2,     0.31,    41.43,2,     0.15,     0.01,2,     0.01,    2.976,2,    0.017,    0.001,2,    0.000,2,    0.000,2,   -999.0,9,   -999.0,9,-999.0000,-999,9,  -999.00,9,  -999.00,   -999.0,9,   -999.0,   3.5786,  27.4700
  49NZ20090410,   P21,    52,  1,     21, X12021,2,20090425,1644,-16.7407, -89.0003, 4347,   1399.9,2,   3.1374,2,   3.13713,2,  34.5781,2,  34.5780,2,    92.29,2,    91.87,2,   101.38,2,     0.34,    40.65,2,     0.15,     0.01,2,     0.01,    2.927,2,    0.017,    0.000,2,    0.001,2,    0.000,2,   -999.0,9,   -999.0,9,-999.0000,-999,9,  -999.00,9,  -999.00,   -999.0,9,   -999.0,   3.0364,  27.5449
  49NZ20090410,   P21,    52,  1,     20, X12020,2,20090425,1644,-16.7407, -89.0003, 4347,   1600.7,2,   2.7709,2,   2.77086,2,  34.6010,2,  34.6012,2,   101.12,2,   100.78,2,   110.46,2,     0.36,    40.08,2,     0.15,     0.01,2,     0.01,    2.868,2,    0.017,    0.000,2,    0.000,2,    0.000,2,   -999.0,9,   -999.0,9,-999.0000,-999,9,  -999.00,9,  -999.00,   -999.0,9,   -999.0,   2.6573,  27.5972
  49NZ20090410,   P21,    52,  1,     19, X12019,2,20090425,1644,-16.7407, -89.0003, 4347,   1802.1,2,   2.4597,2,   2.45977,2,  34.6229,2,  34.6229,2,   109.82,2,   109.36,2,   118.34,2,     0.38,    39.25,2,     0.14,     0.01,2,     0.01,    2.808,2,    0.017,    0.000,2,    0.000,2,    0.000,2,   -999.0,9,   -999.0,9,-999.0000,-999,9,  -999.00,9,  -999.00,   -999.0,9,   -999.0,   2.3333,  27.6425
  49NZ20090410,   P21,    52,  1,     18, X12043,2,20090425,1644,-16.7407, -89.0003, 4347,   2002.0,2,   2.2264,2,   2.22636,2,  34.6389,2,  34.6388,2,   121.73,2,   121.39,2,   121.52,2,     0.39,    38.33,2,     0.14,     0.01,2,     0.01,    2.719,2,    0.017,    0.000,2,    0.000,2,    0.000,2,   -999.0,9,   -999.0,9,-999.0000,-999,9,  -999.00,9,  -999.00,   -999.0,9,   -999.0,   2.0863,  27.6755
  49NZ20090410,   P21,    52,  1,     17, X12042,2,20090425,1644,-16.7407, -89.0003, 4347,   2200.6,2,   2.0437,2,   2.04361,2,  34.6527,2,  34.6527,6,   132.33,2,   132.02,2,   123.20,2,     0.39,    37.40,2,     0.14,     0.01,2,     0.01,    2.646,2,    0.017, -999.000,9, -999.000,9, -999.000,9,   -999.0,9,   -999.0,9,-999.0000,-999,9,  -999.00,9,  -999.00,   -999.0,9,   -999.0,   1.8893,  27.7021
  49NZ20090410,   P21,    52,  1,     16, X12016,2,20090425,1644,-16.7407, -89.0003, 4347,   2400.7,2,   1.9187,2,   1.91859,2,  34.6636,2,  34.6638,2,   138.30,2,   138.03,2,   125.35,2,     0.39,    36.91,2,     0.14,     0.01,2,     0.01,    2.607,2,    0.016,    0.000,2,    0.000,2,    0.000,2,   -999.0,9,   -999.0,9,-999.0000,-999,9,  -999.00,9,  -999.00,   -999.0,9,   -999.0,   1.7488,  27.7217
  49NZ20090410,   P21,    52,  1,     15, X12015,2,20090425,1644,-16.7407, -89.0003, 4347,   2602.0,2,   1.8488,2,   1.84897,2,  34.6710,2,  34.6710,2,   140.02,2,   139.80,2,   128.47,2,     0.40,    36.71,2,     0.14,     0.01,2,     0.01,    2.592,2,    0.016,    0.000,2,    0.000,2,    0.000,2,   -999.0,9,   -999.0,9,-999.0000,-999,9,  -999.00,9,  -999.00,   -999.0,9,   -999.0,   1.6620,  27.7342
  49NZ20090410,   P21,    52,  1,     14, X12050,2,20090425,1644,-16.7407, -89.0003, 4347,   2800.8,2,   1.8090,2,   1.80901,2,  34.6758,2,  34.6755,2,   142.61,2,   142.51,2,   129.88,2,     0.40,    36.62,2,     0.14,     0.01,2,     0.01,    2.585,2,    0.016, -999.000,9, -999.000,9, -999.000,9,   -999.0,9,   -999.0,9,-999.0000,-999,9,  -999.00,9,  -999.00,   -999.0,9,   -999.0,   1.6045,  27.7423
  49NZ20090410,   P21,    52,  1,     13, X12013,7,20090425,1644,-16.7407, -89.0003, 4347,   2999.2,2,   1.7895,2,   1.78946,2,  34.6790,2,  34.6794,2,   143.59,2,   143.43,2,   130.49,2,     0.41,    36.51,2,     0.14,     0.01,2,     0.01,    2.568,2,    0.016,    0.000,2,    0.000,2,    0.000,2,   -999.0,9,   -999.0,9,-999.0000,-999,9,  -999.00,9,  -999.00,   -999.0,9,   -999.0,   1.5664,  27.7477
  49NZ20090410,   P21,    52,  1,     12, X12012,2,20090425,1644,-16.7407, -89.0003, 4347,   3249.5,2,   1.7778,2,   1.77791,2,  34.6821,2,  34.6813,2,   144.57,2,   144.52,2,   131.08,2,     0.41,    36.47,2,     0.13,     0.01,2,     0.01,    2.568,2,    0.016,    0.000,2,    0.000,2,    0.000,2,   -999.0,9,   -999.0,9,-999.0000,-999,9,  -999.00,9,  -999.00,   -999.0,9,   -999.0,   1.5303,  27.7528
  49NZ20090410,   P21,    52,  1,     11, X12041,2,20090425,1644,-16.7407, -89.0003, 4347,   3500.0,2,   1.7737,2,   1.77367,2,  34.6846,2,  34.6842,2,   146.85,2,   146.69,2,   130.10,2,     0.41,    36.27,2,     0.13,     0.01,2,     0.01,    2.546,2,    0.016, -999.000,9, -999.000,9, -999.000,9,   -999.0,9,   -999.0,9,-999.0000,-999,9,  -999.00,9,  -999.00,   -999.0,9,   -999.0,   1.5007,  27.7570
  49NZ20090410,   P21,    52,  1,     10, X12040,2,20090425,1644,-16.7407, -89.0003, 4347,   3750.2,2,   1.7623,2,   1.76216,2,  34.6871,2,  34.6870,2,   149.84,2,   149.84,2,   128.18,2,     0.40,    35.98,2,     0.13,     0.01,2,     0.01,    2.531,2,    0.016,    0.001,2,    0.000,2,    0.000,2,   -999.0,9,   -999.0,9,-999.0000,-999,9,  -999.00,9,  -999.00,   -999.0,9,   -999.0,   1.4632,  27.7617
  49NZ20090410,   P21,    52,  1,      9, X12009,2,20090425,1644,-16.7407, -89.0003, 4347,   4001.0,2,   1.7684,2,   1.76837,2,  34.6887,2,  34.6879,2,   151.47,2,   151.59,2,   127.46,2,     0.40,    35.77,2,     0.13,     0.01,2,     0.01,    2.520,2,    0.016,    0.000,2,    0.000,2,    0.000,2,   -999.0,9,   -999.0,9,-999.0000,-999,9,  -999.00,9,  -999.00,   -999.0,9,   -999.0,   1.4418,  27.7646
  49NZ20090410,   P21,    52,  1,      8, X12008,2,20090425,1644,-16.7407, -89.0003, 4347,   4250.4,2,   1.7899,2,   1.78995,2,  34.6890,2,  34.6886,2,   151.86,2,   152.04,2,   127.09,2,     0.40,    35.83,2,     0.13,     0.01,2,     0.01,    2.520,2,    0.016,    0.000,2,    0.000,2,    0.000,2,   -999.0,9,   -999.0,9,-999.0000,-999,9,  -999.00,9,  -999.00,   -999.0,9,   -999.0,   1.4347,  27.7654
  49NZ20090410,   P21,    52,  1,      7, X12007,9,20090425,1644,-16.7407, -89.0003, 4347,     11.1,2,  23.3861,2,  23.38542,2,  35.7760,2,-999.0000,9,   216.09,2,  -999.00,9,  -999.00,9,  -999.00,  -999.00,9,  -999.00,  -999.00,9,  -999.00, -999.000,9, -999.000, -999.000,9, -999.000,9, -999.000,9,   -999.0,9,   -999.0,9,-999.0000,-999,9,  -999.00,9,  -999.00,   -999.0,9,   -999.0,  23.3838,  24.4107
  49NZ20090410,   P21,    52,  1,      6, X12035,9,20090425,1644,-16.7407, -89.0003, 4347,    599.2,2,   6.5682,2,   6.56927,2,  34.5105,2,-999.0000,9,    42.30,2,  -999.00,9,  -999.00,9,  -999.00,  -999.00,9,  -999.00,  -999.00,9,  -999.00, -999.000,9, -999.000, -999.000,9, -999.000,9, -999.000,9,   -999.0,9,   -999.0,9,-999.0000,-999,9,  -999.00,9,  -999.00,   -999.0,9,   -999.0,   6.5128,  27.0992
  49NZ20090410,   P21,    52,  1,      5, X12038,9,20090425,1644,-16.7407, -89.0003, 4347,   2602.4,2,   1.8487,2,   1.84865,2,  34.6709,2,-999.0000,9,   140.00,2,  -999.00,9,  -999.00,9,  -999.00,  -999.00,9,  -999.00,  -999.00,9,  -999.00, -999.000,9, -999.000, -999.000,9, -999.000,9, -999.000,9,   -999.0,9,   -999.0,9,-999.0000,-999,9,  -999.00,9,  -999.00,   -999.0,9,   -999.0,   1.6618,  27.7341
  49NZ20090410,   P21,    52,  1,      4, X12034,9,20090425,1644,-16.7407, -89.0003, 4347,   2800.2,2,   1.8091,2,   1.80913,2,  34.6758,2,-999.0000,9,   142.59,2,  -999.00,9,  -999.00,9,  -999.00,  -999.00,9,  -999.00,  -999.00,9,  -999.00, -999.000,9, -999.000, -999.000,9, -999.000,9, -999.000,9,   -999.0,9,   -999.0,9,-999.0000,-999,9,  -999.00,9,  -999.00,   -999.0,9,   -999.0,   1.6046,  27.7423
  49NZ20090410,   P21,    52,  1,      3, X12033,9,20090425,1644,-16.7407, -89.0003, 4347,   3000.9,2,   1.7895,2,   1.78949,2,  34.6790,2,-999.0000,9,   143.58,2,  -999.00,9,  -999.00,9,  -999.00,  -999.00,9,  -999.00,  -999.00,9,  -999.00, -999.000,9, -999.000, -999.000,9, -999.000,9, -999.000,9,   -999.0,9,   -999.0,9,-999.0000,-999,9,  -999.00,9,  -999.00,   -999.0,9,   -999.0,   1.5662,  27.7477
  49NZ20090410,   P21,    52,  1,      2, X12032,2,20090425,1644,-16.7407, -89.0003, 4347,   2400.9,2,   1.9182,2,   1.91821,2,  34.6637,2,  34.6636,2,   138.30,2,   138.20,2,   125.61,2,     0.40,    36.87,2,     0.14,     0.01,2,     0.01,    2.607,2,    0.016, -999.000,9, -999.000,9, -999.000,9,   -999.0,9,   -999.0,9,-999.0000,-999,9,  -999.00,9,  -999.00,   -999.0,9,   -999.0,   1.7483,  27.7218
  49NZ20090410,   P21,    52,  1,      1, X12046,2,20090425,1644,-16.7407, -89.0003, 4347,   4402.8,2,   1.8058,2,   1.80566,2,  34.6890,2,  34.6887,6,   152.13,2,   152.30,2,   127.00,2,     0.40,    35.80,2,     0.13,     0.01,2,     0.01,    2.512,2,    0.016,    0.000,2,    0.000,2,    0.000,2,   -999.0,9,   -999.0,9,-999.0000,-999,9,  -999.00,9,  -999.00,   -999.0,9,   -999.0,   1.4327,  27.7655