BOTTLE,20220818CCHSIOAMB
EXPOCODE,SECT_ID,STNNBR,CASTNO,SAMPNO,BTLNBR,BTLNBR_FLAG_W,DATE,TIME,LATITUDE,LONGITUDE,DEPTH,CTDPRS,CTDPRS_FLAG_W,CTDTMP,CTDTMP_FLAG_W,SBE35,SBE35_FLAG_W,CTDSAL,CTDSAL_FLAG_W,SALNTY,SALNTY_FLAG_W,CTDOXY,CTDOXY_FLAG_W,OXYGEN,OXYGEN_FLAG_W,SILCAT,SILCAT_FLAG_W,SILUNC,NITRAT,NITRAT_FLAG_W,NRAUNC,NITRIT,NITRIT_FLAG_W,NRIUNC,PHSPHT,PHSPHT_FLAG_W,PHPUNC,CFC-11,CFC-11_FLAG_W,CFC-12,CFC-12_FLAG_W,CFC113,CFC113_FLAG_W,TCARBN,TCARBN_FLAG_W,ALKALI,ALKALI_FLAG_W,PH_TOT,PH_TMP,PH_TOT_FLAG_W,DELC13,DELC13_FLAG_W,C13ERR,DELC14,DELC14_FLAG_W,C14ERR,THETA,SIG0
,,,,,,,,,,,METERS,DBAR,,ITS-90,,ITS-90,,PSS-78,,PSS-78,,UMOL/KG,,UMOL/KG,,UMOL/KG,,UMOL/KG,UMOL/KG,,UMOL/KG,UMOL/KG,,UMOL/KG,UMOL/KG,,UMOL/KG,PMOL/KG,,PMOL/KG,,PMOL/KG,,UMOL/KG,,UMOL/KG,,,DEG C,,/MILLE,,/MILLE,/MILLE,,/MILLE,DEG C,KG/M^3
  49NZ20090410,   P21,    75,  1,     36, X12006,2,20090430,1317,-16.7473,-102.0047, 3860,      9.6,2,  24.7023,2,  24.70228,2,  35.9430,2,  35.9427,2,   210.14,2,   209.24,2,     0.62,2,     0.12,     0.09,2,     0.03,     0.02,2,     0.01,    0.396,2,    0.013,    1.660,2,    1.072,2, -999.000,5,   2055.9,2,   2377.2,2,   8.0675,  25,6,  -999.00,9,  -999.00,   -999.0,9,   -999.0,  24.7002,  24.1453
  49NZ20090410,   P21,    75,  1,     35, X12047,2,20090430,1317,-16.7473,-102.0047, 3860,     50.5,2,  24.6100,2,  24.60836,2,  35.9380,2,  35.9392,2,   210.06,2,   209.50,2,     0.61,2,     0.12,     0.08,2,     0.03,     0.02,2,     0.01,    0.385,2,    0.013,    1.669,2,    1.081,2, -999.000,5,   2055.0,6,   2377.1,2,   8.0685,  25,2,  -999.00,9,  -999.00,   -999.0,9,   -999.0,  24.5991,  24.1721
  49NZ20090410,   P21,    75,  1,     34, X12004,2,20090430,1317,-16.7473,-102.0047, 3860,    100.5,2,  21.1911,2,  21.19198,2,  35.7938,2,  35.7957,2,   212.65,2,   212.94,2,     0.66,2,     0.12,     0.36,2,     0.03,     0.10,2,     0.01,    0.514,2,    0.013,    1.982,6,    1.249,6, -999.000,5,   2084.9,2,   2370.4,6,   8.0107,  25,2,  -999.00,9,  -999.00,   -999.0,9,   -999.0,  21.1717,  25.0514
  49NZ20090410,   P21,    75,  1,     33, X12003,2,20090430,1317,-16.7473,-102.0047, 3860,    150.2,2,  18.9108,2,  18.91223,2,  35.4479,2,  35.4506,2,   200.25,2,   199.85,2,     0.61,2,     0.12,     3.54,2,     0.04,     0.05,2,     0.01,    0.583,2,    0.013,    2.193,2,    1.355,2,    0.205,4,   2096.9,2,   2342.1,2,   7.9459,  25,6,  -999.00,9,  -999.00,   -999.0,9,   -999.0,  18.8840,  25.3932
  49NZ20090410,   P21,    75,  1,     32, X12002,2,20090430,1317,-16.7473,-102.0047, 3860,    199.9,2,  17.1050,2,  17.10779,2,  35.1297,2,  35.1260,2,   188.79,2,   188.67,2,     1.61,2,     0.12,     8.05,2,     0.06,     0.03,2,     0.01,    0.900,2,    0.013,    2.377,2,    1.447,2,    0.107,2,   2115.1,2,   2319.5,2,   7.8739,  25,2,  -999.00,9,  -999.00,   -999.0,9,   -999.0,  17.0718,  25.5967
  49NZ20090410,   P21,    75,  1,     31, X12001,2,20090430,1317,-16.7473,-102.0047, 3860,    249.3,2,  14.3130,2,  14.31181,2,  34.8161,2,  34.8156,6,   123.70,2,   121.14,2,     6.49,2,     0.13,    16.87,2,     0.08,     0.02,2,     0.01,    1.633,2,    0.014,    2.294,2,    1.339,2,    0.056,2,   2173.0,2,   2297.8,2,   7.6975,  25,2,  -999.00,9,  -999.00,   -999.0,9,   -999.0,  14.2764,  25.9865
  49NZ20090410,   P21,    75,  1,     30, X12030,2,20090430,1317,-16.7473,-102.0047, 3860,    299.8,2,  12.3452,2,  12.34741,2,  34.6928,2,  34.6935,2,    33.45,2,    33.10,2,    16.85,2,     0.16,    22.57,2,     0.10,     0.02,2,     0.01,    2.428,2,    0.016,    1.482,2,    0.826,2,    0.032,2,   2245.6,2,   2290.8,2,   7.4811,  25,2,  -999.00,9,  -999.00,   -999.0,9,   -999.0,  12.3053,  26.2918
  49NZ20090410,   P21,    75,  1,     29, X12044,2,20090430,1317,-16.7473,-102.0047, 3860,    400.5,2,   9.3433,2,   9.34307,2,  34.6202,2,  34.6200,2,    24.18,2,    23.72,2,    25.19,2,     0.17,    34.57,2,     0.13,     0.02,2,     0.01,    2.704,2,    0.017,    0.292,2,    0.154,2,    0.008,2,   2269.0,2,   2293.0,2,   7.4170,  25,2,  -999.00,9,  -999.00,   -999.0,9,   -999.0,   9.2985,  26.7724
  49NZ20090410,   P21,    75,  1,     28, X12048,2,20090430,1317,-16.7473,-102.0047, 3860,    500.6,2,   7.7049,2,   7.70618,2,  34.5364,2,  34.5369,6,    46.75,2,    46.42,2,    28.94,2,     0.18,    37.95,2,     0.14,     0.02,2,     0.01,    2.734,2,    0.017,    0.150,2,    0.081,2,    0.011,2,   2266.2,2,   2294.5,2,   7.4303,  25,2,  -999.00,9,  -999.00,   -999.0,9,   -999.0,   7.6547,  26.9607
  49NZ20090410,   P21,    75,  1,     27, X12027,2,20090430,1317,-16.7473,-102.0047, 3860,    600.4,2,   6.5584,2,   6.55934,2,  34.4960,2,  34.4971,2,    61.77,2,    61.27,2,    35.33,2,     0.20,    39.78,2,     0.14,     0.01,2,     0.01,    2.806,2,    0.017,    0.061,6,    0.033,6,    0.007,6,   2268.1,2,   2299.7,2,   7.4421,  25,2,  -999.00,9,  -999.00,   -999.0,9,   -999.0,   6.5030,  27.0891
  49NZ20090410,   P21,    75,  1,     26, X12026,2,20090430,1317,-16.7473,-102.0047, 3860,    700.5,2,   5.8874,2,   5.88712,2,  34.4960,2,  34.4962,2,    55.71,2,    55.76,2,    45.21,2,     0.22,    41.97,2,     0.15,     0.01,2,     0.01,    2.960,2,    0.017,    0.010,2,    0.008,2,    0.000,2,   2278.7,6,   2309.3,2,   7.4254,  25,2,  -999.00,9,  -999.00,   -999.0,9,   -999.0,   5.8258,  27.1763
  49NZ20090410,   P21,    75,  1,     25, X12025,2,20090430,1317,-16.7473,-102.0047, 3860,    800.4,2,   5.3594,2,   5.35990,2,  34.5004,2,  34.5006,2,    56.36,2,    56.65,2,    54.20,2,     0.24,    42.75,2,     0.15,     0.02,2,     0.01,    3.028,2,    0.018,    0.002,2,    0.000,2,    0.000,2,   2292.8,2,   2318.6,6,   7.4227,  25,2,  -999.00,9,  -999.00,   -999.0,9,   -999.0,   5.2917,  27.2450
  49NZ20090410,   P21,    75,  1,     24, X12024,2,20090430,1317,-16.7473,-102.0047, 3860,    901.1,2,   4.9351,2,   4.93547,2,  34.5106,2,  34.5105,2,    56.46,2,    56.57,2,    62.96,2,     0.26,    43.22,2,     0.15,     0.02,2,     0.01,    3.072,2,    0.018,    0.002,2,    0.000,2,    0.000,2,   2298.9,2,   2328.4,2,   7.4190,  25,6,  -999.00,9,  -999.00,   -999.0,9,   -999.0,   4.8611,  27.3032
  49NZ20090410,   P21,    75,  1,     23, X12028,2,20090430,1317,-16.7473,-102.0047, 3860,   1001.9,2,   4.4531,2,   4.45326,2,  34.5244,2,  34.5249,6,    60.77,2,    60.63,2,    73.61,2,     0.28,    43.05,2,     0.15,     0.02,2,     0.01,    3.091,2,    0.018,    0.001,2,    0.000,2,    0.000,2,   2310.9,2,   2339.4,2,   7.4254,  25,2,  -999.00,9,  -999.00,   -999.0,9,   -999.0,   4.3738,  27.3683
  49NZ20090410,   P21,    75,  1,     22, X12022,2,20090430,1317,-16.7473,-102.0047, 3860,   1201.5,2,   3.7701,2,   3.76996,2,  34.5481,2,  34.5484,2,    77.05,2,    76.90,2,    87.62,2,     0.31,    41.77,2,     0.15,     0.02,2,     0.01,    3.017,2,    0.017,    0.002,2,    0.001,2,    0.000,2,   2315.6,2,   2356.8,2,   7.4536,  25,2,  -999.00,9,  -999.00,   -999.0,9,   -999.0,   3.6794,  27.4593
  49NZ20090410,   P21,    75,  1,     21, X12021,2,20090430,1317,-16.7473,-102.0047, 3860,   1401.0,2,   3.1998,2,   3.19977,2,  34.5772,2,  34.5775,2,    87.60,2,    87.43,2,   101.79,2,     0.34,    40.89,2,     0.15,     0.02,2,     0.01,    2.962,2,    0.017,    0.000,2,    0.000,2,    0.000,2,   2327.0,2,   2373.3,2,   7.4721,  25,2,  -999.00,9,  -999.00,   -999.0,9,   -999.0,   3.0980,  27.5385
  49NZ20090410,   P21,    75,  1,     20, X12020,2,20090430,1317,-16.7473,-102.0047, 3860,   1601.5,2,   2.7998,2,   2.79976,2,  34.6013,2,  34.6017,2,    97.47,2,    97.26,2,   111.56,2,     0.36,    40.19,2,     0.15,     0.02,2,     0.01,    2.888,2,    0.017,    0.001,2,    0.001,2,    0.000,2,   2331.2,2,   2384.4,2,   7.4918,  25,2,  -999.00,9,  -999.00,   -999.0,9,   -999.0,   2.6858,  27.5950
  49NZ20090410,   P21,    75,  1,     19, X12019,2,20090430,1317,-16.7473,-102.0047, 3860,   1800.9,2,   2.5070,2,   2.50700,2,  34.6201,2,  34.6204,2,   109.69,2,   109.57,2,   117.17,2,     0.38,    39.12,2,     0.14,     0.01,2,     0.01,    2.792,2,    0.017,    0.000,2,    0.002,2,    0.000,2,   2329.8,2,   2391.4,2,   7.5146,  25,2,  -999.00,9,  -999.00,   -999.0,9,   -999.0,   2.3800,  27.6363
  49NZ20090410,   P21,    75,  1,     18, X12043,2,20090430,1317,-16.7473,-102.0047, 3860,   1999.1,2,   2.2539,2,   2.25388,2,  34.6361,2,  34.6367,6,   124.09,2,   124.02,2,   119.43,2,     0.38,    37.98,2,     0.14,     0.01,2,     0.01,    2.694,2,    0.017, -999.000,9, -999.000,9, -999.000,9,   2324.5,2,   2395.3,2,   7.5401,  25,2,  -999.00,9,  -999.00,   -999.0,9,   -999.0,   2.1137,  27.6710
  49NZ20090410,   P21,    75,  1,     17, X12042,2,20090430,1317,-16.7473,-102.0047, 3860,   2199.5,2,   1.9888,2,   1.98858,2,  34.6537,2,  34.6545,2,   144.73,2,   144.70,2,   118.36,2,     0.38,    36.29,2,     0.13,     0.01,2,     0.01,    2.551,2,    0.016, -999.000,9, -999.000,9, -999.000,9,   2311.1,2,   2395.0,2,   7.5728,  25,2,  -999.00,9,  -999.00,   -999.0,9,   -999.0,   1.8354,  27.7071
  49NZ20090410,   P21,    75,  1,     16, X12016,2,20090430,1317,-16.7473,-102.0047, 3860,   2400.2,2,   1.8691,2,   1.86897,2,  34.6657,2,  34.6662,2,   151.17,2,   151.26,2,   120.13,2,     0.38,    35.67,2,     0.13,     0.01,2,     0.01,    2.506,2,    0.016,    0.000,2,    0.001,2,    0.000,2,   2309.7,6,   2398.7,2,   7.5856,  25,2,  -999.00,9,  -999.00,   -999.0,9,   -999.0,   1.7001,  27.7271
  49NZ20090410,   P21,    75,  1,     15, X12015,2,20090430,1317,-16.7473,-102.0047, 3860,   2600.3,2,   1.8259,2,   1.82594,2,  34.6728,2,  34.6732,2,   152.14,2,   152.02,2,   122.48,2,     0.39,    35.61,2,     0.13,     0.01,2,     0.01,    2.503,2,    0.016, -999.000,9, -999.000,9, -999.000,9,   2312.8,2,   2402.8,6,   7.5905,  25,2,  -999.00,9,  -999.00,   -999.0,9,   -999.0,   1.6397,  27.7373
  49NZ20090410,   P21,    75,  1,     14, X12050,2,20090430,1317,-16.7473,-102.0047, 3860,   2800.4,2,   1.8095,2,   1.80936,2,  34.6781,2,  34.6782,2,   149.10,2,   148.96,2,   126.99,2,     0.40,    35.99,2,     0.13,     0.01,2,     0.01,    2.523,2,    0.016, -999.000,9, -999.000,9, -999.000,9,   2320.5,2,   2411.6,2,   7.5927,  25,6,  -999.00,9,  -999.00,   -999.0,9,   -999.0,   1.6050,  27.7441
  49NZ20090410,   P21,    75,  1,     13, X12013,7,20090430,1317,-16.7473,-102.0047, 3860,   3000.2,2,   1.8051,2,   1.80508,2,  34.6793,2,  34.6800,6,   145.59,2,   145.60,2,   130.50,2,     0.41,    36.26,2,     0.13,     0.02,2,     0.01,    2.537,2,    0.016,    0.001,2,    0.000,2,    0.000,2,   2326.7,2,   2417.2,2,   7.5912,  25,2,  -999.00,9,  -999.00,   -999.0,9,   -999.0,   1.5816,  27.7468
  49NZ20090410,   P21,    75,  1,     12, X12012,2,20090430,1317,-16.7473,-102.0047, 3860,   3251.0,2,   1.8074,2,   1.80730,2,  34.6799,2,  34.6798,2,   144.30,2,   144.30,2,   132.41,2,     0.41,    36.30,2,     0.13,     0.02,2,     0.01,    2.550,2,    0.016, -999.000,9, -999.000,9, -999.000,9,   2329.3,2,   2419.8,2,   7.5910,  25,2,  -999.00,9,  -999.00,   -999.0,9,   -999.0,   1.5590,  27.7490
  49NZ20090410,   P21,    75,  1,     11, X12041,2,20090430,1317,-16.7473,-102.0047, 3860,   3499.8,2,   1.8173,2,   1.81721,2,  34.6818,2,  34.6818,2,   145.75,2,   145.88,2,   131.11,2,     0.41,    36.24,2,     0.13,     0.02,2,     0.01,    2.538,2,    0.016,    0.000,2,    0.000,2,    0.000,2,   2328.8,2,   2418.0,2,   7.5923,  25,2,  -999.00,9,  -999.00,   -999.0,9,   -999.0,   1.5432,  27.7517
  49NZ20090410,   P21,    75,  1,     10, X12040,2,20090430,1317,-16.7473,-102.0047, 3860,   3749.8,2,   1.8294,2,   1.82927,2,  34.6838,2,  34.6842,2,   147.73,2,   147.91,2,   129.39,2,     0.40,    36.11,2,     0.13,     0.02,2,     0.01,    2.533,2,    0.016,    0.001,2,    0.002,2,    0.000,2,   2326.8,2,   2417.8,2,   7.5934,  25,2,  -999.00,9,  -999.00,   -999.0,9,   -999.0,   1.5285,  27.7544
  49NZ20090410,   P21,    75,  1,      9, X12009,9,20090430,1317,-16.7473,-102.0047, 3860,   2801.0,2,   1.8094,2,   1.80935,2,  34.6782,2,-999.0000,9,   149.08,2,  -999.00,9,  -999.00,9,  -999.00,  -999.00,9,  -999.00,  -999.00,9,  -999.00, -999.000,9, -999.000, -999.000,9, -999.000,9, -999.000,9,   -999.0,9,   -999.0,9,-999.0000,-999,9,  -999.00,9,  -999.00,   -999.0,9,   -999.0,   1.6048,  27.7442
  49NZ20090410,   P21,    75,  1,      8, X12008,9,20090430,1317,-16.7473,-102.0047, 3860,   2600.8,2,   1.8263,2,   1.82621,2,  34.6727,2,-999.0000,9,   152.20,2,  -999.00,9,  -999.00,9,  -999.00,  -999.00,9,  -999.00,  -999.00,9,  -999.00, -999.000,9, -999.000, -999.000,9, -999.000,9, -999.000,9,   -999.0,9,   -999.0,9,-999.0000,-999,9,  -999.00,9,  -999.00,   -999.0,9,   -999.0,   1.6400,  27.7372
  49NZ20090410,   P21,    75,  1,      7, X12007,2,20090430,1317,-16.7473,-102.0047, 3860,      9.5,2,  24.7012,2,  24.70216,2,  35.9430,2,-999.0000,9,   210.12,2,  -999.00,9,     0.61,2,     0.12,     0.08,2,     0.03,     0.02,2,     0.01,    0.383,2,    0.013, -999.000,9, -999.000,9, -999.000,9,   -999.0,9,   -999.0,9,-999.0000,-999,9,  -999.00,9,  -999.00,   -999.0,9,   -999.0,  24.6992,  24.1456
  49NZ20090410,   P21,    75,  1,      6, X12035,2,20090430,1317,-16.7473,-102.0047, 3860,     50.4,2,  24.6073,2,  24.60849,2,  35.9385,2,-999.0000,9,   210.13,2,  -999.00,9,     0.61,2,     0.12,     0.09,2,     0.03,     0.02,2,     0.01,    0.387,2,    0.013, -999.000,9, -999.000,9, -999.000,9,   -999.0,9,   -999.0,9,-999.0000,-999,9,  -999.00,9,  -999.00,   -999.0,9,   -999.0,  24.5965,  24.1732
  49NZ20090410,   P21,    75,  1,      5, X12038,2,20090430,1317,-16.7473,-102.0047, 3860,    100.0,2,  21.1941,2,  21.19264,2,  35.7945,2,-999.0000,9,   212.69,2,  -999.00,9,     0.70,2,     0.12,     0.40,2,     0.03,     0.16,2,     0.01,    0.520,2,    0.013, -999.000,9, -999.000,9, -999.000,9,   -999.0,9,   -999.0,9,-999.0000,-999,9,  -999.00,9,  -999.00,   -999.0,9,   -999.0,  21.1748,  25.0510
  49NZ20090410,   P21,    75,  1,      4, X12034,2,20090430,1317,-16.7473,-102.0047, 3860,    150.3,2,  18.9221,2,  18.92936,2,  35.4506,2,-999.0000,9,   200.32,2,  -999.00,9,     0.70,2,     0.12,     3.76,2,     0.04,     0.05,2,     0.01,    0.610,3,    0.013, -999.000,9, -999.000,9, -999.000,9,   -999.0,9,   -999.0,9,-999.0000,-999,9,  -999.00,9,  -999.00,   -999.0,9,   -999.0,  18.8953,  25.3924
  49NZ20090410,   P21,    75,  1,      3, X12033,2,20090430,1317,-16.7473,-102.0047, 3860,    200.1,2,  17.0952,2,  17.10256,2,  35.1282,2,-999.0000,9,   186.53,2,  -999.00,9,     1.92,2,     0.12,     8.64,2,     0.06,     0.03,2,     0.01,    0.962,2,    0.013, -999.000,9, -999.000,9, -999.000,9,   -999.0,9,   -999.0,9,-999.0000,-999,9,  -999.00,9,  -999.00,   -999.0,9,   -999.0,  17.0620,  25.5979
  49NZ20090410,   P21,    75,  1,      2, X12032,2,20090430,1317,-16.7473,-102.0047, 3860,    249.5,2,  14.3066,2,  14.31024,2,  34.8154,2,-999.0000,9,   123.25,2,  -999.00,9,     6.92,2,     0.13,    17.05,2,     0.08,     0.02,2,     0.01,    1.654,2,    0.014, -999.000,9, -999.000,9, -999.000,9,   -999.0,9,   -999.0,9,-999.0000,-999,9,  -999.00,9,  -999.00,   -999.0,9,   -999.0,  14.2700,  25.9873
  49NZ20090410,   P21,    75,  1,      1, X12046,2,20090430,1317,-16.7473,-102.0047, 3860,   3885.7,2,   1.8421,2,   1.84203,2,  34.6842,2,  34.6846,6,   148.07,2,   148.11,2,   129.43,2,     0.40,    36.00,2,     0.13,     0.02,2,     0.01,    2.531,2,    0.016,    0.000,2,    0.001,2,    0.000,2,   2326.2,2,   2417.0,2,   7.5943,  25,2,  -999.00,9,  -999.00,   -999.0,9,   -999.0,   1.5262,  27.7548