BOTTLE,20220818CCHSIOAMB
EXPOCODE,SECT_ID,STNNBR,CASTNO,SAMPNO,BTLNBR,BTLNBR_FLAG_W,DATE,TIME,LATITUDE,LONGITUDE,DEPTH,CTDPRS,CTDPRS_FLAG_W,CTDTMP,CTDTMP_FLAG_W,SBE35,SBE35_FLAG_W,CTDSAL,CTDSAL_FLAG_W,SALNTY,SALNTY_FLAG_W,CTDOXY,CTDOXY_FLAG_W,OXYGEN,OXYGEN_FLAG_W,SILCAT,SILCAT_FLAG_W,SILUNC,NITRAT,NITRAT_FLAG_W,NRAUNC,NITRIT,NITRIT_FLAG_W,NRIUNC,PHSPHT,PHSPHT_FLAG_W,PHPUNC,CFC-11,CFC-11_FLAG_W,CFC-12,CFC-12_FLAG_W,CFC113,CFC113_FLAG_W,TCARBN,TCARBN_FLAG_W,ALKALI,ALKALI_FLAG_W,PH_TOT,PH_TMP,PH_TOT_FLAG_W,DELC13,DELC13_FLAG_W,C13ERR,DELC14,DELC14_FLAG_W,C14ERR,THETA,SIG0
,,,,,,,,,,,METERS,DBAR,,ITS-90,,ITS-90,,PSS-78,,PSS-78,,UMOL/KG,,UMOL/KG,,UMOL/KG,,UMOL/KG,UMOL/KG,,UMOL/KG,UMOL/KG,,UMOL/KG,UMOL/KG,,UMOL/KG,PMOL/KG,,PMOL/KG,,PMOL/KG,,UMOL/KG,,UMOL/KG,,,DEG C,,/MILLE,,/MILLE,/MILLE,,/MILLE,DEG C,KG/M^3
  49NZ20090410,   P21,   116,  1,     36, X12006,2,20090508,1906,-16.7512,-124.0017, 3647,      9.8,2,  26.9332,2,  26.93223,2,  36.5035,2,  36.5035,2,   201.95,2,   201.69,2,     0.72,2,     0.12,     0.26,2,     0.03,     0.02,2,     0.01,    0.283,2,    0.014,    1.520,2,    0.997,2, -999.000,5,   2050.1,2,   2410.8,2,   8.1099,  25,6,  -999.00,1,  -999.00,   -999.0,1,   -999.0,  26.9309,  23.8729
  49NZ20090410,   P21,   116,  1,     35, X12047,2,20090508,1906,-16.7512,-124.0017, 3647,     49.2,2,  26.6747,2,  26.67380,2,  36.5699,2,  36.5737,2,   202.88,2,   202.96,2,     0.68,2,     0.12,     0.08,2,     0.03,     0.02,2,     0.01,    0.270,2,    0.015,    1.527,2,    1.005,2, -999.000,5,   2056.1,6,   2414.4,2,   8.1056,  25,2,  -999.00,1,  -999.00,   -999.0,1,   -999.0,  26.6635,  24.0085
  49NZ20090410,   P21,   116,  1,     34, X12004,2,20090508,1906,-16.7512,-124.0017, 3647,     99.8,2,  23.7290,2,  23.72365,2,  36.3897,2,  36.3886,2,   213.17,2,   213.46,2,     0.48,2,     0.12,     0.06,2,     0.03,     0.02,2,     0.01,    0.221,2,    0.015,    1.793,6,    1.153,6, -999.000,5,   2069.1,2,   2397.2,6,   8.0625,  25,2,  -999.00,1,  -999.00,   -999.0,1,   -999.0,  23.7080,  24.7806
  49NZ20090410,   P21,   116,  1,     33, X12003,2,20090508,1906,-16.7512,-124.0017, 3647,    150.1,2,  22.7000,2,  22.70718,2,  36.3192,2,  36.3148,2,   197.05,2,   196.66,2,     0.55,2,     0.12,     0.41,2,     0.03,     0.96,2,     0.00,    0.343,2,    0.014,    1.860,2,    1.189,2, -999.000,5,   2089.0,2,   2392.7,2,   8.0259,  25,2,  -999.00,1,  -999.00,   -999.0,1,   -999.0,  22.6695,  25.0300
  49NZ20090410,   P21,   116,  1,     32, X12002,2,20090508,1906,-16.7512,-124.0017, 3647,    198.9,2,  21.0308,2,  21.02531,2,  35.9858,2,  35.9771,2,   196.99,2,   197.05,2,     0.49,2,     0.12,     1.76,2,     0.04,     0.10,2,     0.01,    0.383,2,    0.013,    2.025,2,    1.274,2,    0.211,4,   2091.1,2,   2371.7,2,   7.9944,  25,2,  -999.00,1,  -999.00,   -999.0,1,   -999.0,  20.9925,  25.2467
  49NZ20090410,   P21,   116,  1,     31, X12001,2,20090508,1906,-16.7512,-124.0017, 3647,    250.8,2,  18.2183,2,  18.22433,2,  35.4238,2,  35.4270,6,   186.71,2,   186.72,2,     0.93,2,     0.12,     4.63,2,     0.05,     0.02,2,     0.01,    0.558,2,    0.013,    2.305,2,    1.408,2,    0.049,2,   2094.5,2,   2334.7,2,   7.9322,  25,2,  -999.00,1,  -999.00,   -999.0,1,   -999.0,  18.1747,  25.5534
  49NZ20090410,   P21,   116,  1,     30, X12030,2,20090508,1906,-16.7512,-124.0017, 3647,    329.0,2,  12.0965,2,  12.09983,2,  34.5858,2,  34.5849,2,   138.61,2,   137.29,2,     6.88,2,     0.13,    16.88,2,     0.08,     0.01,2,     0.01,    1.509,2,    0.014,    2.372,2,    1.313,2,    0.037,2,   2155.0,2,   2284.7,2,   7.7062,  25,2,  -999.00,1,  -999.00,   -999.0,1,   -999.0,  12.0533,  26.2572
  49NZ20090410,   P21,   116,  1,     29, X12044,2,20090508,1906,-16.7512,-124.0017, 3647,    429.7,2,   8.0406,2,   8.03994,2,  34.4407,2,  34.4383,2,   104.19,2,   105.54,2,    17.36,2,     0.16,    31.01,2,     0.12,     0.01,2,     0.01,    2.327,2,    0.016,    0.929,2,    0.489,2,    0.000,2,   2218.5,2,   2283.6,2,   7.5280,  25,2,  -999.00,1,  -999.00,   -999.0,1,   -999.0,   7.9967,  26.8351
  49NZ20090410,   P21,   116,  1,     28, X12048,2,20090508,1906,-16.7512,-124.0017, 3647,    530.0,2,   6.3283,2,   6.32342,2,  34.3959,2,  34.3956,6,   137.74,2,   137.27,2,    22.56,2,     0.17,    33.15,2,     0.13,     0.01,2,     0.01,    2.335,2,    0.016,    0.435,2,    0.238,2,    0.000,2,   2211.8,2,   2289.7,2,   7.5635,  25,2,  -999.00,1,  -999.00,   -999.0,1,   -999.0,   6.2806,  27.0393
  49NZ20090410,   P21,   116,  1,     27, X12027,2,20090508,1906,-16.7512,-124.0017, 3647,    632.1,2,   5.5647,2,   5.56343,2,  34.4060,2,  34.4162,2,   134.59,2,   128.48,2,    33.51,2,     0.19,    35.34,2,     0.13,     0.01,2,     0.01,    2.475,2,    0.016,    0.135,6,    0.082,6,    0.000,6,   2228.9,2,   2300.8,2,   7.5476,  25,2,  -999.00,1,  -999.00,   -999.0,1,   -999.0,   5.5111,  27.1439
  49NZ20090410,   P21,   116,  1,     26, X12026,2,20090508,1906,-16.7512,-124.0017, 3647,    729.5,2,   5.2658,2,   5.26015,2,  34.4739,2,  34.4728,2,   106.42,2,   104.33,2,    47.84,2,     0.22,    37.80,2,     0.14,     0.01,2,     0.01,    2.667,2,    0.017, -999.000,5, -999.000,5, -999.000,5,   2255.9,6,   2316.8,2,   7.5124,  25,2,  -999.00,1,  -999.00,   -999.0,1,   -999.0,   5.2050,  27.2343
  49NZ20090410,   P21,   116,  1,     25, X12025,2,20090508,1906,-16.7512,-124.0017, 3647,    829.9,2,   4.7843,2,   4.78620,2,  34.4994,2,  34.4980,2,    93.39,2,    93.34,2,    59.24,2,     0.25,    39.32,2,     0.14,     0.01,2,     0.01,    2.786,2,    0.017, -999.000,5, -999.000,5, -999.000,5,   2275.5,2,   2329.5,6,   7.4905,  25,2,  -999.00,1,  -999.00,   -999.0,1,   -999.0,   4.7176,  27.3105
  49NZ20090410,   P21,   116,  1,     24, X12024,2,20090508,1906,-16.7512,-124.0017, 3647,    928.6,2,   4.4430,2,   4.44638,2,  34.5127,2,  34.5123,2,    92.59,2,    92.30,2,    67.64,2,     0.27,    39.81,2,     0.14,     0.01,2,     0.01,    2.832,2,    0.017,    0.003,4,    0.003,4,    0.000,4,   2286.8,2,   2338.0,2,   7.4865,  25,6,  -999.00,1,  -999.00,   -999.0,1,   -999.0,   4.3701,  27.3593
  49NZ20090410,   P21,   116,  1,     23, X12028,2,20090508,1906,-16.7512,-124.0017, 3647,   1070.8,2,   4.0111,2,   4.01151,2,  34.5313,2,  34.5313,6,    93.81,2,    93.52,2,    77.88,2,     0.29,    40.17,2,     0.15,     0.01,2,     0.01,    2.861,2,    0.017,    0.001,2,    0.001,2,    0.000,2,   2295.9,2,   2349.7,2,   7.4864,  25,2,  -999.00,1,  -999.00,   -999.0,1,   -999.0,   3.9294,  27.4206
  49NZ20090410,   P21,   116,  1,     22, X12022,2,20090508,1906,-16.7512,-124.0017, 3647,   1269.1,2,   3.3876,2,   3.38646,2,  34.5606,2,  34.5606,2,   103.25,2,   103.16,2,    91.72,2,     0.32,    39.38,2,     0.14,     0.01,2,     0.01,    2.826,2,    0.017,    0.001,2,    0.000,2,    0.000,2,   2306.6,2,   2365.4,2,   7.5021,  25,2,  -999.00,1,  -999.00,   -999.0,1,   -999.0,   3.2949,  27.5068
  49NZ20090410,   P21,   116,  1,     21, X12021,2,20090508,1906,-16.7512,-124.0017, 3647,   1470.6,2,   2.9403,2,   2.94009,2,  34.5853,2,  34.5845,2,   113.92,2,   113.62,2,   101.18,2,     0.34,    38.68,2,     0.14,     0.01,2,     0.01,    2.758,2,    0.017,    0.000,2,    0.000,2,    0.000,2,   2311.3,2,   2376.0,2,   7.5198,  25,2,  -999.00,1,  -999.00,   -999.0,1,   -999.0,   2.8356,  27.5689
  49NZ20090410,   P21,   116,  1,     20, X12020,2,20090508,1906,-16.7512,-124.0017, 3647,   1669.6,2,   2.5422,2,   2.54248,2,  34.6089,2,  34.6087,2,   126.45,2,   126.20,2,   108.49,2,     0.36,    37.79,2,     0.14,     0.01,2,     0.01,    2.679,2,    0.017,    0.000,2,    0.001,2,    0.000,2,   2311.7,2,   2384.7,2,   7.5408,  25,6,  -999.00,1,  -999.00,   -999.0,1,   -999.0,   2.4257,  27.6235
  49NZ20090410,   P21,   116,  1,     19, X12019,2,20090508,1906,-16.7512,-124.0017, 3647,   1871.4,2,   2.2197,2,   2.21970,2,  34.6330,2,  34.6325,6,   137.18,2,   136.91,2,   113.84,2,     0.37,    36.87,2,     0.14,     0.01,2,     0.01,    2.612,2,    0.017,    0.000,2,    0.000,2,    0.000,2,   2312.3,2,   2391.5,2,   7.5594,  25,2,  -999.00,1,  -999.00,   -999.0,1,   -999.0,   2.0908,  27.6704
  49NZ20090410,   P21,   116,  1,     18, X12043,2,20090508,1906,-16.7512,-124.0017, 3647,   2068.5,2,   2.0250,2,   2.02501,2,  34.6488,2,  34.6482,2,   146.57,2,   146.44,2,   116.51,2,     0.38,    36.21,2,     0.13,     0.01,2,     0.01,    2.542,2,    0.016,    0.000,2,    0.000,2,    0.000,2,   2309.4,2,   2395.9,2,   7.5766,  25,2,  -999.00,1,  -999.00,   -999.0,1,   -999.0,   1.8823,  27.6995
  49NZ20090410,   P21,   116,  1,     17, X12042,2,20090508,1906,-16.7512,-124.0017, 3647,   2269.2,2,   1.9148,2,   1.91477,2,  34.6596,2,  34.6593,2,   150.64,2,   150.40,2,   119.81,2,     0.38,    35.80,2,     0.13,     0.01,2,     0.01,    2.520,2,    0.016,    0.000,2,    0.001,2,    0.000,2,   2310.5,2,   2399.4,2,   7.5850,  25,2,  -999.00,1,  -999.00,   -999.0,1,   -999.0,   1.7566,  27.7179
  49NZ20090410,   P21,   116,  1,     16, X12016,2,20090508,1906,-16.7512,-124.0017, 3647,   2469.3,2,   1.8407,2,   1.84059,2,  34.6672,2,  34.6667,2,   151.71,2,   151.47,2,   123.05,2,     0.39,    35.82,2,     0.13,     0.01,2,     0.01,    2.500,2,    0.016,    0.000,2,    0.000,2,    0.000,2,   2313.7,6,   2404.6,2,   7.5890,  25,2,  -999.00,1,  -999.00,   -999.0,1,   -999.0,   1.6661,  27.7308
  49NZ20090410,   P21,   116,  1,     15, X12015,2,20090508,1906,-16.7512,-124.0017, 3647,   2669.7,2,   1.7858,2,   1.78573,2,  34.6721,2,  34.6715,2,   154.41,2,   154.10,2,   124.44,2,     0.39,    35.65,2,     0.13,     0.01,2,     0.01,    2.497,2,    0.016,    0.001,2,    0.000,2,    0.000,2,   2314.2,2,   2406.8,6,   7.5952,  25,2,  -999.00,1,  -999.00,   -999.0,1,   -999.0,   1.5940,  27.7401
  49NZ20090410,   P21,   116,  1,     14, X12050,2,20090508,1906,-16.7512,-124.0017, 3647,   2871.2,2,   1.7393,2,   1.73922,2,  34.6755,2,  34.6748,6,   156.19,2,   155.97,2,   125.75,2,     0.40,    35.57,2,     0.13,     0.01,2,     0.01,    2.490,2,    0.016,    0.000,2,    0.001,2,    0.000,2,   2314.7,2,   2408.2,2,   7.5977,  25,6,  -999.00,1,  -999.00,   -999.0,1,   -999.0,   1.5296,  27.7476
  49NZ20090410,   P21,   116,  1,     13, X12013,7,20090508,1906,-16.7512,-124.0017, 3647,   3079.7,2,   1.6969,2,   1.69690,2,  34.6784,2,  34.6791,2,   158.57,2,   158.33,2,   126.32,2,     0.40,    35.37,2,     0.13,     0.01,2,     0.01,    2.486,2,    0.016,    0.000,2,    0.001,2,    0.000,2,   2313.6,2,   2409.7,2,   7.6014,  25,2,  -999.00,1,  -999.00,   -999.0,1,   -999.0,   1.4680,  27.7544
  49NZ20090410,   P21,   116,  1,     12, X12012,2,20090508,1906,-16.7512,-124.0017, 3647,   3330.0,2,   1.6533,2,   1.65319,2,  34.6817,2,  34.6808,2,   161.59,2,   161.32,2,   126.98,2,     0.40,    35.32,2,     0.13,     0.01,2,     0.01,    2.473,2,    0.016,    0.000,2,    0.000,2,    0.000,2,   2312.3,2,   2409.2,2,   7.6050,  25,2,  -999.00,1,  -999.00,   -999.0,1,   -999.0,   1.4006,  27.7620
  49NZ20090410,   P21,   116,  1,     11, X12041,2,20090508,1906,-16.7512,-124.0017, 3647,   3579.2,2,   1.6475,2,   1.64740,2,  34.6830,2,  34.6823,2,   163.01,2,   162.65,2,   127.41,2,     0.40,    35.13,2,     0.13,     0.01,2,     0.01,    2.469,2,    0.016,    0.001,2,    0.000,2,    0.000,2,   2312.3,2,   2410.8,2,   7.6074,  25,2,  -999.00,1,  -999.00,   -999.0,1,   -999.0,   1.3694,  27.7652
  49NZ20090410,   P21,   116,  1,     10, X12040,9,20090508,1906,-16.7512,-124.0017, 3647,      9.7,2,  26.9322,2,  26.92975,2,  36.5034,2,-999.0000,9,   201.96,2,  -999.00,9,  -999.00,9,  -999.00,  -999.00,9,  -999.00,  -999.00,9,  -999.00, -999.000,9, -999.000, -999.000,9, -999.000,9, -999.000,9,   -999.0,9,   -999.0,9,-999.0000,-999,9,  -999.00,9,  -999.00,   -999.0,9,   -999.0,  26.9300,  23.8732
  49NZ20090410,   P21,   116,  1,      9, X12009,9,20090508,1906,-16.7512,-124.0017, 3647,   2469.9,2,   1.8405,2,   1.84053,2,  34.6672,2,-999.0000,9,   151.72,2,  -999.00,9,  -999.00,9,  -999.00,  -999.00,9,  -999.00,  -999.00,9,  -999.00, -999.000,9, -999.000, -999.000,9, -999.000,9, -999.000,9,   -999.0,9,   -999.0,9,-999.0000,-999,9,  -999.00,9,  -999.00,   -999.0,9,   -999.0,   1.6658,  27.7309
  49NZ20090410,   P21,   116,  1,      8, X12008,9,20090508,1906,-16.7512,-124.0017, 3647,   3330.1,2,   1.6538,2,   1.65376,2,  34.6817,2,-999.0000,9,   161.48,2,  -999.00,9,  -999.00,9,  -999.00,  -999.00,9,  -999.00,  -999.00,9,  -999.00, -999.000,9, -999.000, -999.000,9, -999.000,9, -999.000,9,   -999.0,9,   -999.0,9,-999.0000,-999,9,  -999.00,9,  -999.00,   -999.0,9,   -999.0,   1.4011,  27.7619
  49NZ20090410,   P21,   116,  1,      7, X12007,9,20090508,1906,-16.7512,-124.0017, 3647,   3579.6,2,   1.6474,2,   1.64730,2,  34.6831,2,-999.0000,9,   162.99,2,  -999.00,9,  -999.00,9,  -999.00,  -999.00,9,  -999.00,  -999.00,9,  -999.00, -999.000,9, -999.000, -999.000,9, -999.000,9, -999.000,9,   -999.0,9,   -999.0,9,-999.0000,-999,9,  -999.00,9,  -999.00,   -999.0,9,   -999.0,   1.3693,  27.7653
  49NZ20090410,   P21,   116,  1,      6, X12035,9,20090508,1906,-16.7512,-124.0017, 3647,   3687.6,2,   1.6525,2,   1.65242,2,  34.6835,2,-999.0000,9,   163.22,2,  -999.00,9,  -999.00,9,  -999.00,  -999.00,9,  -999.00,  -999.00,9,  -999.00, -999.000,9, -999.000, -999.000,9, -999.000,9, -999.000,9,   -999.0,9,   -999.0,9,-999.0000,-999,9,  -999.00,9,  -999.00,   -999.0,9,   -999.0,   1.3629,  27.7661
  49NZ20090410,   P21,   116,  1,      5, X12038,9,20090508,1906,-16.7512,-124.0017, 3647,   2669.3,2,   1.7858,2,   1.78576,2,  34.6721,2,-999.0000,9,   154.39,2,  -999.00,9,  -999.00,9,  -999.00,  -999.00,9,  -999.00,  -999.00,9,  -999.00, -999.000,9, -999.000, -999.000,9, -999.000,9, -999.000,9,   -999.0,9,   -999.0,9,-999.0000,-999,9,  -999.00,9,  -999.00,   -999.0,9,   -999.0,   1.5940,  27.7401
  49NZ20090410,   P21,   116,  1,      4, X12034,9,20090508,1906,-16.7512,-124.0017, 3647,   2872.1,2,   1.7392,2,   1.73923,2,  34.6755,2,-999.0000,9,   156.21,2,  -999.00,9,  -999.00,9,  -999.00,  -999.00,9,  -999.00,  -999.00,9,  -999.00, -999.000,9, -999.000, -999.000,9, -999.000,9, -999.000,9,   -999.0,9,   -999.0,9,-999.0000,-999,9,  -999.00,9,  -999.00,   -999.0,9,   -999.0,   1.5294,  27.7476
  49NZ20090410,   P21,   116,  1,      3, X12033,9,20090508,1906,-16.7512,-124.0017, 3647,   3078.8,2,   1.6973,2,   1.69717,2,  34.6784,2,-999.0000,9,   158.62,2,  -999.00,9,  -999.00,9,  -999.00,  -999.00,9,  -999.00,  -999.00,9,  -999.00, -999.000,9, -999.000, -999.000,9, -999.000,9, -999.000,9,   -999.0,9,   -999.0,9,-999.0000,-999,9,  -999.00,9,  -999.00,   -999.0,9,   -999.0,   1.4685,  27.7544
  49NZ20090410,   P21,   116,  1,      2, X12032,9,20090508,1906,-16.7512,-124.0017, 3647,    928.7,2,   4.4439,2,   4.44480,2,  34.5128,2,-999.0000,9,    92.62,2,  -999.00,9,  -999.00,9,  -999.00,  -999.00,9,  -999.00,  -999.00,9,  -999.00, -999.000,9, -999.000, -999.000,9, -999.000,9, -999.000,9,   -999.0,9,   -999.0,9,-999.0000,-999,9,  -999.00,9,  -999.00,   -999.0,9,   -999.0,   4.3709,  27.3593
  49NZ20090410,   P21,   116,  1,      1, X12046,2,20090508,1906,-16.7512,-124.0017, 3647,   3687.6,2,   1.6525,2,   1.65247,2,  34.6835,2,  34.6829,6,   163.22,2,   162.92,2,   127.34,2,     0.40,    35.19,2,     0.13,     0.01,2,     0.01,    2.467,2,    0.016,    0.000,2,    0.000,2,    0.000,2,   2312.6,2,   2410.0,2,   7.6083,  25,2,  -999.00,1,  -999.00,   -999.0,1,   -999.0,   1.3629,  27.7660