BOTTLE,20220818CCHSIOAMB
EXPOCODE,SECT_ID,STNNBR,CASTNO,SAMPNO,BTLNBR,BTLNBR_FLAG_W,DATE,TIME,LATITUDE,LONGITUDE,DEPTH,CTDPRS,CTDPRS_FLAG_W,CTDTMP,CTDTMP_FLAG_W,SBE35,SBE35_FLAG_W,CTDSAL,CTDSAL_FLAG_W,SALNTY,SALNTY_FLAG_W,CTDOXY,CTDOXY_FLAG_W,OXYGEN,OXYGEN_FLAG_W,SILCAT,SILCAT_FLAG_W,SILUNC,NITRAT,NITRAT_FLAG_W,NRAUNC,NITRIT,NITRIT_FLAG_W,NRIUNC,PHSPHT,PHSPHT_FLAG_W,PHPUNC,CFC-11,CFC-11_FLAG_W,CFC-12,CFC-12_FLAG_W,CFC113,CFC113_FLAG_W,TCARBN,TCARBN_FLAG_W,ALKALI,ALKALI_FLAG_W,PH_TOT,PH_TMP,PH_TOT_FLAG_W,DELC13,DELC13_FLAG_W,C13ERR,DELC14,DELC14_FLAG_W,C14ERR,THETA,SIG0
,,,,,,,,,,,METERS,DBAR,,ITS-90,,ITS-90,,PSS-78,,PSS-78,,UMOL/KG,,UMOL/KG,,UMOL/KG,,UMOL/KG,UMOL/KG,,UMOL/KG,UMOL/KG,,UMOL/KG,UMOL/KG,,UMOL/KG,PMOL/KG,,PMOL/KG,,PMOL/KG,,UMOL/KG,,UMOL/KG,,,DEG C,,/MILLE,,/MILLE,/MILLE,,/MILLE,DEG C,KG/M^3
  49NZ20090410,   P21,    68,  1,     36, X12006,2,20090428,2230,-16.7410, -97.3410, 4102,      9.9,2,  23.9697,2,  23.96975,2,  35.8188,2,  35.8181,2,   212.33,2,   212.67,2,     0.83,2,     0.12,     0.09,2,     0.03,     0.02,2,     0.01,    0.424,2,    0.013,    1.722,2,    1.088,2, -999.000,5,   2053.2,2,   2375.6,2,   8.0564,  25,2,  -999.00,1,  -999.00,   -999.0,1,   -999.0,  23.9676,  24.2711
  49NZ20090410,   P21,    68,  1,     35, X12047,2,20090428,2230,-16.7410, -97.3410, 4102,     49.6,2,  23.8541,2,  23.85195,2,  35.8129,2,  35.8117,2,   211.75,2,   212.50,2,     0.79,2,     0.12,     0.09,2,     0.03,     0.02,2,     0.01,    0.430,2,    0.013,    1.728,2,    1.089,2, -999.000,5,   2055.3,6,   2373.5,2,   8.0551,  25,2,  -999.00,1,  -999.00,   -999.0,1,   -999.0,  23.8437,  24.3033
  49NZ20090410,   P21,    68,  1,     34, X12004,2,20090428,2230,-16.7410, -97.3410, 4102,     98.9,2,  18.6762,2,  18.67409,2,  35.3018,2,  35.3019,2,   212.10,2,   211.46,2,     0.18,2,     0.12,     4.79,2,     0.52,     1.93,2,     0.01,    0.834,2,    0.017,    2.248,6,    1.374,6,    0.210,6,   2098.3,2,   2339.4,6,   7.9283,  25,2,  -999.00,1,  -999.00,   -999.0,1,   -999.0,  18.6588,  25.3386
  49NZ20090410,   P21,    68,  1,     33, X12003,2,20090428,2230,-16.7410, -97.3410, 4102,    150.4,2,  16.5198,2,  16.52022,2,  35.0188,2,  35.0162,2,   183.87,2,   181.03,2,     2.71,2,     0.12,    11.66,2,     0.07,     0.04,2,     0.01,    1.229,2,    0.013,    2.442,2,    1.463,2,    0.170,2,   2133.6,2,   2317.5,2,   7.8230,  25,6,  -999.00,1,  -999.00,   -999.0,1,   -999.0,  16.4955,  25.6475
  49NZ20090410,   P21,    68,  1,     32, X12002,2,20090428,2230,-16.7410, -97.3410, 4102,    199.1,2,  13.1551,2,  13.14210,2,  34.6677,2,  34.6680,2,    91.26,2,    92.82,2,     9.71,2,     0.14,    20.00,2,     0.09,     0.02,2,     0.01,    1.994,2,    0.015,    2.206,2,    1.244,2,    0.074,2,   2198.4,2,   2290.8,2,   7.5981,  25,2,  -999.00,1,  -999.00,   -999.0,1,   -999.0,  13.1276,  26.1098
  49NZ20090410,   P21,    68,  1,     31, X12001,2,20090428,2230,-16.7410, -97.3410, 4102,    248.5,2,  11.4665,2,  11.46895,2,  34.6727,2,  34.6695,6,    16.99,2,    18.52,2,    20.98,2,     0.17,    24.51,2,     0.10,     0.02,2,     0.01,    2.646,2,    0.017,    1.105,2,    0.601,2,    0.020,2,   2259.0,2,   2292.5,2,   7.4243,  25,2,  -999.00,1,  -999.00,   -999.0,1,   -999.0,  11.4351,  26.4411
  49NZ20090410,   P21,    68,  1,     30, X12030,2,20090428,2230,-16.7410, -97.3410, 4102,    279.9,2,  10.9556,2,  10.95511,2,  34.6843,2,  34.6829,2,     9.94,2,    10.17,2,    23.16,2,     0.17,    27.60,2,     0.11,     0.02,2,     0.01,    2.729,2,    0.017,    0.746,2,    0.393,2,    0.015,2,   2273.0,2,   2294.2,2,   7.4002,  25,2,  -999.00,1,  -999.00,   -999.0,1,   -999.0,  10.9212,  26.5439
  49NZ20090410,   P21,    68,  1,     29, X12044,2,20090428,2230,-16.7410, -97.3410, 4102,    369.1,2,   8.9521,2,   8.95229,2,  34.5848,2,  34.5836,2,    21.96,2,    22.29,2,    25.68,2,     0.18,    35.78,2,     0.13,     0.02,2,     0.01,    2.788,2,    0.017,    0.358,2,    0.173,2,    0.000,2,   2271.6,2,   2293.6,2,   7.3932,  25,2,  -999.00,1,  -999.00,   -999.0,1,   -999.0,   8.9119,  26.8070
  49NZ20090410,   P21,    68,  1,     28, X12048,2,20090428,2230,-16.7410, -97.3410, 4102,    471.4,2,   7.5406,2,   7.54028,2,  34.5306,2,  34.5307,6,    42.83,2,    42.55,2,    30.24,2,     0.19,    39.18,2,     0.14,     0.02,2,     0.01,    2.809,2,    0.017,    0.168,2,    0.081,2,    0.000,2,   2273.1,2,   2296.7,2,   7.4164,  25,2,  -999.00,1,  -999.00,   -999.0,1,   -999.0,   7.4940,  26.9793
  49NZ20090410,   P21,    68,  1,     27, X12027,2,20090428,2230,-16.7410, -97.3410, 4102,    570.6,2,   6.6359,2,   6.63611,2,  34.5226,2,  34.5217,2,    41.99,2,    42.08,2,    39.51,2,     0.21,    41.80,2,     0.15,     0.02,2,     0.01,    2.947,2,    0.017,    0.032,6,    0.014,6,    0.000,6,   2276.0,2,   2305.9,2,   7.4103,  25,2,  -999.00,1,  -999.00,   -999.0,1,   -999.0,   6.5830,  27.0994
  49NZ20090410,   P21,    68,  1,     26, X12026,2,20090428,2230,-16.7410, -97.3410, 4102,    668.9,2,   5.9553,2,   5.95536,2,  34.5068,2,  34.5061,2,    44.72,2,    44.82,2,    46.62,2,     0.22,    42.81,2,     0.15,     0.02,2,     0.01,    3.037,2,    0.018,    0.008,2,    0.002,2,    0.000,2,   2289.6,2,   2312.9,2,   7.4059,  25,2,  -999.00,1,  -999.00,   -999.0,1,   -999.0,   5.8963,  27.1761
  49NZ20090410,   P21,    68,  1,     25, X12025,2,20090428,2230,-16.7410, -97.3410, 4102,    769.6,2,   5.3958,2,   5.39591,2,  34.5042,2,  34.5036,2,    47.28,2,    47.49,2,    55.06,2,     0.24,    43.70,2,     0.16,     0.02,2,     0.01,    3.103,2,    0.018,    0.003,2,    0.000,2,    0.000,2,   2296.2,2,   2321.0,6,   7.4041,  25,2,  -999.00,1,  -999.00,   -999.0,1,   -999.0,   5.3306,  27.2434
  49NZ20090410,   P21,    68,  1,     24, X12024,2,20090428,2230,-16.7410, -97.3410, 4102,    869.7,2,   5.0132,2,   5.01301,2,  34.5088,2,  34.5088,2,    51.37,2,    51.51,2,    61.85,2,     0.26,    43.72,2,     0.16,     0.01,2,     0.01,    3.103,2,    0.018,    0.002,2,    0.000,2,    0.000,2,   2299.5,2,   2328.6,2,   7.4084,  25,6,  -999.00,1,  -999.00,   -999.0,1,   -999.0,   4.9415,  27.2926
  49NZ20090410,   P21,    68,  1,     23, X12028,2,20090428,2230,-16.7410, -97.3410, 4102,    969.3,2,   4.5420,2,   4.54154,2,  34.5197,2,  34.5198,6,    59.91,2,    59.98,2,    71.12,2,     0.28,    43.23,2,     0.15,     0.01,2,     0.01,    3.091,2,    0.018,    0.002,2,    0.000,2,    0.000,2,   2309.0,2,   2339.6,2,   7.4225,  25,2,  -999.00,1,  -999.00,   -999.0,1,   -999.0,   4.4648,  27.3546
  49NZ20090410,   P21,    68,  1,     22, X12022,2,20090428,2230,-16.7410, -97.3410, 4102,   1130.5,2,   3.9332,2,   3.93357,2,  34.5418,2,  34.5421,2,    72.96,2,    72.83,2,    84.20,2,     0.30,    42.11,2,     0.15,     0.02,2,     0.01,    3.042,2,    0.018,    0.000,2,    0.001,2,    0.000,2,   2315.6,2,   2355.0,2,   7.4451,  25,2,  -999.00,1,  -999.00,   -999.0,1,   -999.0,   3.8471,  27.4374
  49NZ20090410,   P21,    68,  1,     21, X12021,2,20090428,2230,-16.7410, -97.3410, 4102,   1330.2,2,   3.4271,2,   3.42722,2,  34.5676,2,  34.5676,2,    81.02,2,    81.02,2,    97.14,2,     0.33,    41.51,2,     0.15,     0.01,2,     0.01,    3.000,2,    0.017,    0.002,2,    0.001,2,    0.000,2,   2329.6,3,   2370.1,2,   7.4603,  25,2,  -999.00,1,  -999.00,   -999.0,1,   -999.0,   3.3289,  27.5091
  49NZ20090410,   P21,    68,  1,     20, X12020,2,20090428,2230,-16.7410, -97.3410, 4102,   1532.1,2,   2.9588,2,   2.96019,2,  34.5929,2,  34.5931,2,    92.77,2,    92.54,2,   108.11,2,     0.36,    40.69,2,     0.15,     0.01,2,     0.01,    2.924,2,    0.017,    0.000,2,    0.000,2,    0.000,2,   2328.2,2,   2382.6,2,   7.4817,  25,6,  -999.00,1,  -999.00,   -999.0,1,   -999.0,   2.8487,  27.5738
  49NZ20090410,   P21,    68,  1,     19, X12019,2,20090428,2230,-16.7410, -97.3410, 4102,   1731.3,2,   2.6249,2,   2.62521,2,  34.6135,2,  34.6136,2,   102.98,2,   102.74,2,   116.09,2,     0.37,    39.76,2,     0.14,     0.02,2,     0.01,    2.847,2,    0.017,    0.000,2,    0.000,2,    0.000,2,   2330.5,2,   2392.5,2,   7.5014,  25,2,  -999.00,1,  -999.00,   -999.0,1,   -999.0,   2.5022,  27.6207
  49NZ20090410,   P21,    68,  1,     18, X12043,2,20090428,2230,-16.7410, -97.3410, 4102,   1929.9,2,   2.3405,2,   2.34068,2,  34.6326,2,  34.6326,2,   114.13,2,   114.03,2,   121.68,2,     0.39,    38.72,2,     0.14,     0.02,2,     0.01,    2.766,2,    0.017,    0.000,2,    0.000,2,    0.000,2,   2329.7,2,   2399.6,2,   7.5230,  25,2,  -999.00,1,  -999.00,   -999.0,1,   -999.0,   2.2049,  27.6608
  49NZ20090410,   P21,    68,  1,     17, X12042,2,20090428,2230,-16.7410, -97.3410, 4102,   2129.2,2,   2.1130,2,   2.11285,2,  34.6461,2,  34.6466,6,   133.68,2,   133.43,2,   119.82,2,     0.38,    37.23,2,     0.14,     0.01,2,     0.01,    2.634,2,    0.017, -999.000,9, -999.000,9, -999.000,9,   2320.5,2,   2398.5,2,   7.5546,  25,2,  -999.00,1,  -999.00,   -999.0,1,   -999.0,   1.9637,  27.6910
  49NZ20090410,   P21,    68,  1,     16, X12016,2,20090428,2230,-16.7410, -97.3410, 4102,   2330.7,2,   1.9523,2,   1.95237,2,  34.6590,2,  34.6590,2,   144.42,2,   144.66,2,   120.54,2,     0.38,    36.42,2,     0.13,     0.01,2,     0.01,    2.557,2,    0.016, -999.000,9, -999.000,9, -999.000,9,   2313.9,6,   2399.9,2,   7.5745,  25,2,  -999.00,1,  -999.00,   -999.0,1,   -999.0,   1.7881,  27.7150
  49NZ20090410,   P21,    68,  1,     15, X12015,2,20090428,2230,-16.7410, -97.3410, 4102,   2530.2,2,   1.8630,2,   1.86302,2,  34.6680,2,  34.6679,2,   150.61,2,   150.66,2,   121.23,2,     0.39,    35.83,2,     0.13,     0.02,2,     0.01,    2.517,2,    0.016,    0.000,2,    0.000,2,    0.000,2,   2313.0,2,   2403.4,6,   7.5848,  25,2,  -999.00,1,  -999.00,   -999.0,1,   -999.0,   1.6825,  27.7302
  49NZ20090410,   P21,    68,  1,     14, X12050,2,20090428,2230,-16.7410, -97.3410, 4102,   2729.8,2,   1.8116,2,   1.81146,2,  34.6758,2,  34.6757,2,   150.77,2,   150.79,2,   124.36,2,     0.39,    35.79,2,     0.13,     0.02,2,     0.01,    2.513,2,    0.016, -999.000,9, -999.000,9, -999.000,9,   2317.2,2,   2408.9,2,   7.5899,  25,6,  -999.00,1,  -999.00,   -999.0,1,   -999.0,   1.6137,  27.7416
  49NZ20090410,   P21,    68,  1,     13, X12013,7,20090428,2230,-16.7410, -97.3410, 4102,   2929.6,2,   1.7981,2,   1.79808,2,  34.6790,2,  34.6795,2,   148.17,2,   148.25,2,   127.96,2,     0.40,    36.04,2,     0.13,     0.01,2,     0.01,    2.533,2,    0.016, -999.000,9, -999.000,9, -999.000,9,   2322.9,2,   2415.0,2,   7.5915,  25,2,  -999.00,1,  -999.00,   -999.0,1,   -999.0,   1.5815,  27.7466
  49NZ20090410,   P21,    68,  1,     12, X12012,2,20090428,2230,-16.7410, -97.3410, 4102,   3169.8,2,   1.7900,2,   1.79006,2,  34.6816,2,  34.6813,6,   146.43,2,   146.57,2,   130.56,2,     0.41,    36.35,2,     0.13,     0.01,2,     0.01,    2.536,2,    0.016,    0.000,2,    0.000,2,    0.000,2,   2328.2,2,   2419.7,2,   7.5914,  25,2,  -999.00,1,  -999.00,   -999.0,1,   -999.0,   1.5501,  27.7510
  49NZ20090410,   P21,    68,  1,     11, X12041,2,20090428,2230,-16.7410, -97.3410, 4102,   3419.8,2,   1.7973,2,   1.79733,2,  34.6837,2,  34.6838,2,   147.65,2,   147.84,2,   129.52,2,     0.40,    36.16,2,     0.13,     0.02,2,     0.01,    2.530,2,    0.016, -999.000,9, -999.000,9, -999.000,9,   2327.1,2,   2419.4,2,   7.5925,  25,2,  -999.00,1,  -999.00,   -999.0,1,   -999.0,   1.5320,  27.7540
  49NZ20090410,   P21,    68,  1,     10, X12040,2,20090428,2230,-16.7410, -97.3410, 4102,   3670.3,2,   1.8112,2,   1.81127,2,  34.6850,2,  34.6850,2,   148.33,2,   148.43,2,   128.89,2,     0.40,    35.94,2,     0.13,     0.02,2,     0.01,    2.528,2,    0.016,    0.000,2,    0.000,2,    0.000,2,   2326.0,2,   2418.9,2,   7.5939,  25,2,  -999.00,1,  -999.00,   -999.0,1,   -999.0,   1.5193,  27.7560
  49NZ20090410,   P21,    68,  1,      9, X12009,2,20090428,2230,-16.7410, -97.3410, 4102,   3920.0,2,   1.8184,2,   1.81844,2,  34.6863,2,  34.6865,2,   148.98,2,   149.21,2,   128.50,2,     0.40,    35.94,2,     0.13,     0.02,2,     0.01,    2.525,2,    0.016,    0.000,2,    0.001,2,    0.000,2,   2326.3,2,   2419.0,2,   7.5937,  25,2,  -999.00,1,  -999.00,   -999.0,1,   -999.0,   1.4993,  27.7585
  49NZ20090410,   P21,    68,  1,      8, X12008,9,20090428,2230,-16.7410, -97.3410, 4102,   2730.9,2,   1.8113,2,   1.81121,2,  34.6757,2,-999.0000,9,   150.77,2,  -999.00,9,  -999.00,9,  -999.00,  -999.00,9,  -999.00,  -999.00,9,  -999.00, -999.000,9, -999.000, -999.000,9, -999.000,9, -999.000,9,   -999.0,9,   -999.0,9,-999.0000,-999,9,  -999.00,9,  -999.00,   -999.0,9,   -999.0,   1.6133,  27.7416
  49NZ20090410,   P21,    68,  1,      7, X12007,2,20090428,2230,-16.7410, -97.3410, 4102,      9.5,2,  23.9649,2,  23.96461,2,  35.8188,2,-999.0000,9,   212.32,2,  -999.00,9,     0.84,2,     0.12,     0.10,2,     0.03,     0.02,2,     0.01,    0.435,2,    0.013, -999.000,9, -999.000,9, -999.000,9,   -999.0,9,   -999.0,9,-999.0000,-999,9,  -999.00,9,  -999.00,   -999.0,9,   -999.0,  23.9629,  24.2725
  49NZ20090410,   P21,    68,  1,      6, X12035,2,20090428,2230,-16.7410, -97.3410, 4102,     49.9,2,  23.8566,2,  23.85893,2,  35.8134,2,-999.0000,9,   211.74,2,  -999.00,9,     0.85,2,     0.12,     0.14,2,     0.03,     0.02,2,     0.01,    0.448,2,    0.013, -999.000,9, -999.000,9, -999.000,9,   -999.0,9,   -999.0,9,-999.0000,-999,9,  -999.00,9,  -999.00,   -999.0,9,   -999.0,  23.8461,  24.3030
  49NZ20090410,   P21,    68,  1,      5, X12038,2,20090428,2230,-16.7410, -97.3410, 4102,     99.0,2,  18.6771,2,  18.67763,2,  35.3025,2,-999.0000,9,   211.93,2,  -999.00,9,     1.35,2,     0.12,     4.21,2,     0.04,     1.71,2,     0.01,    0.867,2,    0.013, -999.000,9, -999.000,9, -999.000,9,   -999.0,9,   -999.0,9,-999.0000,-999,9,  -999.00,9,  -999.00,   -999.0,9,   -999.0,  18.6597,  25.3389
  49NZ20090410,   P21,    68,  1,      4, X12034,2,20090428,2230,-16.7410, -97.3410, 4102,    149.8,2,  16.4409,2,  16.45208,2,  35.0105,2,-999.0000,9,   184.41,2,  -999.00,9,     2.84,2,     0.13,    11.85,2,     0.07,     0.04,2,     0.01,    1.236,2,    0.013, -999.000,9, -999.000,9, -999.000,9,   -999.0,9,   -999.0,9,-999.0000,-999,9,  -999.00,9,  -999.00,   -999.0,9,   -999.0,  16.4168,  25.6595
  49NZ20090410,   P21,    68,  1,      3, X12033,2,20090428,2230,-16.7410, -97.3410, 4102,    199.3,2,  13.1574,2,  13.14500,2,  34.6704,2,-999.0000,9,    96.87,2,  -999.00,9,    10.55,2,     0.14,    20.44,2,     0.09,     0.02,2,     0.01,    2.048,2,    0.015, -999.000,9, -999.000,9, -999.000,9,   -999.0,9,   -999.0,9,-999.0000,-999,9,  -999.00,9,  -999.00,   -999.0,9,   -999.0,  13.1299,  26.1114
  49NZ20090410,   P21,    68,  1,      2, X12032,2,20090428,2230,-16.7410, -97.3410, 4102,    249.3,2,  11.4817,2,  11.47916,2,  34.6709,2,-999.0000,9,    17.81,2,  -999.00,9,    21.44,2,     0.17,    24.79,2,     0.10,     0.02,2,     0.01,    2.654,2,    0.017, -999.000,9, -999.000,9, -999.000,9,   -999.0,9,   -999.0,9,-999.0000,-999,9,  -999.00,9,  -999.00,   -999.0,9,   -999.0,  11.4501,  26.4368
  49NZ20090410,   P21,    68,  1,      1, X12046,2,20090428,2230,-16.7410, -97.3410, 4102,   4177.6,2,   1.8392,2,   1.83914,2,  34.6867,2,  34.6867,6,   149.28,2,   149.62,2,   128.32,2,     0.40,    35.97,2,     0.13,     0.01,2,     0.01,    2.523,2,    0.016,    0.000,2,    0.000,2,    0.000,2,   2325.4,2,   2418.2,2,   7.5937,  25,2,  -999.00,1,  -999.00,   -999.0,1,   -999.0,   1.4909,  27.7594