BOTTLE,20220818CCHSIOAMB
EXPOCODE,SECT_ID,STNNBR,CASTNO,SAMPNO,BTLNBR,BTLNBR_FLAG_W,DATE,TIME,LATITUDE,LONGITUDE,DEPTH,CTDPRS,CTDPRS_FLAG_W,CTDTMP,CTDTMP_FLAG_W,SBE35,SBE35_FLAG_W,CTDSAL,CTDSAL_FLAG_W,SALNTY,SALNTY_FLAG_W,CTDOXY,CTDOXY_FLAG_W,OXYGEN,OXYGEN_FLAG_W,SILCAT,SILCAT_FLAG_W,SILUNC,NITRAT,NITRAT_FLAG_W,NRAUNC,NITRIT,NITRIT_FLAG_W,NRIUNC,PHSPHT,PHSPHT_FLAG_W,PHPUNC,CFC-11,CFC-11_FLAG_W,CFC-12,CFC-12_FLAG_W,CFC113,CFC113_FLAG_W,TCARBN,TCARBN_FLAG_W,ALKALI,ALKALI_FLAG_W,PH_TOT,PH_TMP,PH_TOT_FLAG_W,DELC13,DELC13_FLAG_W,C13ERR,DELC14,DELC14_FLAG_W,C14ERR,THETA,SIG0
,,,,,,,,,,,METERS,DBAR,,ITS-90,,ITS-90,,PSS-78,,PSS-78,,UMOL/KG,,UMOL/KG,,UMOL/KG,,UMOL/KG,UMOL/KG,,UMOL/KG,UMOL/KG,,UMOL/KG,UMOL/KG,,UMOL/KG,PMOL/KG,,PMOL/KG,,PMOL/KG,,UMOL/KG,,UMOL/KG,,,DEG C,,/MILLE,,/MILLE,/MILLE,,/MILLE,DEG C,KG/M^3
  49NZ20090410,   P21,   104,  1,     36, X12006,2,20090506,0435,-16.7502,-116.0048, 3400,      9.9,2,  25.8493,2,  25.84960,2,  36.2806,2,  36.2796,2,   205.87,2,   205.64,2,     0.81,2,     0.12,     0.42,2,     0.03,     0.02,2,     0.01,    0.356,2,    0.014,    1.577,2,    1.005,2,    0.173,4,   2048.1,2,   2396.2,2,   8.0961,  25,2,  -999.00,9,  -999.00,   -999.0,9,   -999.0,  25.8471,  24.0477
  49NZ20090410,   P21,   104,  1,     35, X12047,2,20090506,0435,-16.7502,-116.0048, 3400,     49.7,2,  25.8099,2,  25.80939,2,  36.2792,2,  36.2790,2,   205.60,2,   205.58,2,     0.78,2,     0.12,     0.42,2,     0.03,     0.02,2,     0.01,    0.353,2,    0.014,    1.579,2,    1.003,2,    0.160,4,   2047.9,6,   2397.0,2,   8.0970,  25,2,  -999.00,9,  -999.00,   -999.0,9,   -999.0,  25.7988,  24.0617
  49NZ20090410,   P21,   104,  1,     34, X12004,2,20090506,0435,-16.7502,-116.0048, 3400,     99.7,2,  22.8362,2,  22.82975,2,  36.1407,2,  36.1389,2,   209.67,2,   208.89,2,     0.76,2,     0.12,     0.31,2,     0.03,     0.04,2,     0.01,    0.431,2,    0.013,    1.859,6,    1.162,6, -999.000,5,   2082.3,2,   2388.8,6,   8.0333,  25,2,  -999.00,9,  -999.00,   -999.0,9,   -999.0,  22.8159,  24.8522
  49NZ20090410,   P21,   104,  1,     33, X12003,2,20090506,0435,-16.7502,-116.0048, 3400,    149.5,2,  21.8763,2,  21.87219,2,  36.1158,2,  36.1148,2,   204.59,2,   204.69,2,     0.53,2,     0.12,     0.25,2,     0.03,     0.80,2,     0.00,    0.366,2,    0.014,    1.927,2,    1.201,2, -999.000,5,   2090.5,2,   2382.9,2,   8.0108,  25,6,  -999.00,9,  -999.00,   -999.0,9,   -999.0,  21.8467,  25.1091
  49NZ20090410,   P21,   104,  1,     32, X12002,2,20090506,0435,-16.7502,-116.0048, 3400,    199.5,2,  19.9385,2,  19.94248,2,  35.7563,2,  35.7539,2,   200.79,2,   200.36,2,     0.56,2,     0.12,     2.05,2,     0.04,     0.04,2,     0.01,    0.413,2,    0.013,    2.112,2,    1.288,2,    0.151,2,   2087.1,2,   2357.2,2,   7.9766,  25,2,  -999.00,9,  -999.00,   -999.0,9,   -999.0,  19.9015,  25.3648
  49NZ20090410,   P21,   104,  1,     31, X12001,2,20090506,0435,-16.7502,-116.0048, 3400,    250.0,2,  18.1983,2,  18.21488,2,  35.4093,2,  35.4075,6,   195.04,2,   195.87,2,     0.85,2,     0.12,     3.83,2,     0.04,     0.02,2,     0.01,    0.513,2,    0.013,    2.307,2,    1.382,2,    0.076,2,   2087.0,2,   2333.5,2,   7.9422,  25,2,  -999.00,9,  -999.00,   -999.0,9,   -999.0,  18.1549,  25.5472
  49NZ20090410,   P21,   104,  1,     30, X12030,2,20090506,0435,-16.7502,-116.0048, 3400,    330.2,2,  11.4039,2,  11.38780,2,  34.4958,2,  34.4999,2,   132.32,2,   131.89,2,     8.32,2,     0.14,    18.82,2,     0.09,     0.01,2,     0.01,    1.670,2,    0.014,    2.370,2,    1.253,2,    0.034,2,   2163.2,2,   2279.5,2,   7.6669,  25,2,  -999.00,9,  -999.00,   -999.0,9,   -999.0,  11.3622,  26.3168
  49NZ20090410,   P21,   104,  1,     29, X12044,2,20090506,0435,-16.7502,-116.0048, 3400,    431.0,2,   7.9560,2,   7.95375,2,  34.4575,2,  34.4577,2,    88.06,2,    87.35,2,    19.72,2,     0.16,    32.88,2,     0.12,     0.01,2,     0.01,    2.461,2,    0.016,    0.749,2,    0.371,2,    0.013,2,   2229.8,2,   2284.4,2,   7.4930,  25,2,  -999.00,9,  -999.00,   -999.0,9,   -999.0,   7.9122,  26.8608
  49NZ20090410,   P21,   104,  1,     28, X12048,2,20090506,0435,-16.7502,-116.0048, 3400,    530.4,2,   6.4309,2,   6.43159,2,  34.4096,2,  34.4098,6,   122.48,2,   122.29,2,    23.60,2,     0.17,    34.34,2,     0.13,     0.01,2,     0.01,    2.414,2,    0.016,    0.360,2,    0.186,2,    0.000,2,   2219.3,2,   2289.5,2,   7.5386,  25,2,  -999.00,9,  -999.00,   -999.0,9,   -999.0,   6.3828,  27.0368
  49NZ20090410,   P21,   104,  1,     27, X12027,2,20090506,0435,-16.7502,-116.0048, 3400,    629.9,2,   5.7590,2,   5.75855,2,  34.4390,2,  34.4379,2,   104.02,2,   104.16,2,    35.61,2,     0.20,    37.53,2,     0.14,     0.01,2,     0.01,    2.624,2,    0.017,    0.065,6,    0.040,6,    0.000,6,   2243.0,2,   2301.4,2,   7.5072,  25,2,  -999.00,9,  -999.00,   -999.0,9,   -999.0,   5.7046,  27.1463
  49NZ20090410,   P21,   104,  1,     26, X12026,2,20090506,0435,-16.7502,-116.0048, 3400,    731.9,2,   5.3122,2,   5.31231,2,  34.4735,2,  34.4727,2,    91.11,2,    91.02,2,    47.85,2,     0.22,    39.35,2,     0.14,     0.01,2,     0.01,    2.761,2,    0.017,    0.000,2,    0.007,2,    0.000,2,   2261.4,6,   2314.6,2,   7.4855,  25,2,  -999.00,9,  -999.00,   -999.0,9,   -999.0,   5.2509,  27.2285
  49NZ20090410,   P21,   104,  1,     25, X12025,2,20090506,0435,-16.7502,-116.0048, 3400,    830.4,2,   4.8579,2,   4.85685,2,  34.4974,2,  34.4977,2,    84.71,2,    84.54,2,    59.29,2,     0.25,    40.52,2,     0.15,     0.01,2,     0.01,    2.863,2,    0.017,    0.003,2,    0.002,2,    0.000,2,   2278.2,2,   2327.3,6,   7.4736,  25,2,  -999.00,9,  -999.00,   -999.0,9,   -999.0,   4.7906,  27.3007
  49NZ20090410,   P21,   104,  1,     24, X12024,2,20090506,0435,-16.7502,-116.0048, 3400,    930.5,2,   4.4466,2,   4.44669,2,  34.5144,2,  34.5144,2,    84.08,2,    84.11,2,    68.78,2,     0.27,    40.92,2,     0.15,     0.01,2,     0.01,    2.896,2,    0.017,    0.001,2,    0.000,2,    0.000,2,   2289.4,2,   2337.7,2,   7.4698,  25,6,  -999.00,9,  -999.00,   -999.0,9,   -999.0,   4.3735,  27.3603
  49NZ20090410,   P21,   104,  1,     23, X12028,2,20090506,0435,-16.7502,-116.0048, 3400,   1070.7,2,   3.9460,2,   3.94577,2,  34.5372,2,  34.5373,6,    85.34,2,    85.48,2,    80.89,2,     0.30,    40.96,2,     0.15,     0.01,2,     0.01,    2.925,2,    0.017,    0.002,2,    0.000,2,    0.000,2,   2302.1,2,   2351.6,2,   7.4712,  25,2,  -999.00,9,  -999.00,   -999.0,9,   -999.0,   3.8648,  27.4320
  49NZ20090410,   P21,   104,  1,     22, X12022,2,20090506,0435,-16.7502,-116.0048, 3400,   1270.4,2,   3.4208,2,   3.42065,2,  34.5625,2,  34.5627,2,    94.05,2,    94.12,2,    93.13,2,     0.32,    40.43,2,     0.15,     0.01,2,     0.01,    2.886,2,    0.017,    0.002,2,    0.001,2,    0.000,2,   2310.8,2,   2365.7,2,   7.4850,  25,2,  -999.00,9,  -999.00,   -999.0,9,   -999.0,   3.3276,  27.5051
  49NZ20090410,   P21,   104,  1,     21, X12021,2,20090506,0435,-16.7502,-116.0048, 3400,   1469.2,2,   2.9590,2,   2.96016,2,  34.5868,2,  34.5870,2,   105.63,2,   105.79,2,   103.03,2,     0.35,    39.47,2,     0.14,     0.01,2,     0.01,    2.818,2,    0.017,    0.000,2,    0.000,2,    0.000,2,   2315.8,2,   2376.6,2,   7.5062,  25,2,  -999.00,9,  -999.00,   -999.0,9,   -999.0,   2.8542,  27.5685
  49NZ20090410,   P21,   104,  1,     20, X12020,2,20090506,0435,-16.7502,-116.0048, 3400,   1669.8,2,   2.5655,2,   2.56568,2,  34.6095,2,  34.6098,2,   118.43,2,   118.68,2,   110.06,2,     0.36,    38.49,2,     0.14,     0.01,2,     0.01,    2.728,2,    0.017,    0.000,2,    0.000,2,    0.000,2,   2317.6,2,   2385.1,2,   7.5269,  25,6,  -999.00,9,  -999.00,   -999.0,9,   -999.0,   2.4487,  27.6221
  49NZ20090410,   P21,   104,  1,     19, X12019,2,20090506,0435,-16.7502,-116.0048, 3400,   1870.1,2,   2.1773,2,   2.17737,2,  34.6324,2,  34.6330,6,   142.17,2,   142.47,2,   111.78,2,     0.36,    36.53,2,     0.14,     0.01,2,     0.01,    2.574,2,    0.016,    0.000,2,    0.000,2,    0.000,2,   2305.7,2,   2387.0,2,   7.5654,  25,2,  -999.00,9,  -999.00,   -999.0,9,   -999.0,   2.0491,  27.6732
  49NZ20090410,   P21,   104,  1,     18, X12043,2,20090506,0435,-16.7502,-116.0048, 3400,   2069.0,2,   1.9820,2,   1.98186,2,  34.6503,2,  34.6506,2,   152.17,2,   152.26,2,   114.32,2,     0.37,    35.73,2,     0.13,     0.01,2,     0.01,    2.501,2,    0.016,    0.000,2,    0.000,2,    0.000,2,   2301.5,2,   2391.5,2,   7.5825,  25,2,  -999.00,9,  -999.00,   -999.0,9,   -999.0,   1.8400,  27.7040
  49NZ20090410,   P21,   104,  1,     17, X12042,2,20090506,0435,-16.7502,-116.0048, 3400,   2270.0,2,   1.8885,2,   1.88841,2,  34.6632,2,  34.6633,2,   154.06,2,   154.22,2,   118.45,2,     0.38,    35.51,2,     0.13,     0.01,2,     0.01,    2.484,2,    0.016,    0.000,2,    0.000,2,    0.000,2,   2306.0,2,   2397.1,2,   7.5890,  25,2,  -999.00,9,  -999.00,   -999.0,9,   -999.0,   1.7307,  27.7228
  49NZ20090410,   P21,   104,  1,     16, X12016,2,20090506,0435,-16.7502,-116.0048, 3400,   2470.0,2,   1.8479,2,   1.84793,2,  34.6698,2,  34.6698,2,   153.89,2,   153.92,2,   121.55,2,     0.39,    35.49,2,     0.13,     0.01,2,     0.01,    2.472,2,    0.016,    0.000,2,    0.000,2,    0.000,2,   2310.0,6,   2401.9,2,   7.5922,  25,2,  -999.00,9,  -999.00,   -999.0,9,   -999.0,   1.6731,  27.7324
  49NZ20090410,   P21,   104,  1,     15, X12015,2,20090506,0435,-16.7502,-116.0048, 3400,   2669.6,2,   1.8113,2,   1.81131,2,  34.6723,2,  34.6723,6,   156.28,2,   156.40,2,   122.20,2,     0.39,    35.50,2,     0.13,     0.01,2,     0.01,    2.478,2,    0.016,    0.000,2,    0.000,2,    0.000,2,   2310.4,2,   2402.7,2,   7.5961,  25,2,  -999.00,9,  -999.00,   -999.0,9,   -999.0,   1.6190,  27.7385
  49NZ20090410,   P21,   104,  1,     14, X12050,2,20090506,0435,-16.7502,-116.0048, 3400,   2871.4,2,   1.7762,2,   1.77630,2,  34.6740,2,  34.6731,2,   158.75,2,   158.90,2,   122.58,2,     0.39,    35.36,2,     0.13,     0.01,2,     0.01,    2.472,2,    0.016,    0.000,2,    0.000,2,    0.000,2,   2308.5,2,   2403.6,2,   7.5995,  25,6,  -999.00,9,  -999.00,   -999.0,9,   -999.0,   1.5657,  27.7437
  49NZ20090410,   P21,   104,  1,     13, X12013,7,20090506,0435,-16.7502,-116.0048, 3400,   3079.9,2,   1.7455,2,   1.74562,2,  34.6762,2,  34.6761,2,   160.41,2,   160.41,2,   123.58,2,     0.39,    35.30,2,     0.13,     0.01,2,     0.01,    2.469,2,    0.016,    0.000,2,    0.000,2,    0.000,2,   2307.7,2,   2403.6,2,   7.6039,  25,2,  -999.00,9,  -999.00,   -999.0,9,   -999.0,   1.5155,  27.7492
  49NZ20090410,   P21,   104,  1,     12, X12012,2,20090506,0435,-16.7502,-116.0048, 3400,   3328.7,2,   1.7433,2,   1.74328,2,  34.6777,2,  34.6777,2,   160.64,2,   160.55,2,   124.63,2,     0.39,    35.36,2,     0.13,     0.01,2,     0.01,    2.469,2,    0.016,    0.000,2,    0.000,2,    0.000,2,   2309.8,2,   2405.3,2,   7.6040,  25,2,  -999.00,9,  -999.00,   -999.0,9,   -999.0,   1.4886,  27.7523
  49NZ20090410,   P21,   104,  1,     11, X12041,9,20090506,0435,-16.7502,-116.0048, 3400,    930.2,2,   4.4473,2,   4.44761,2,  34.5142,2,-999.0000,9,    84.07,2,  -999.00,9,  -999.00,9,  -999.00,  -999.00,9,  -999.00,  -999.00,9,  -999.00, -999.000,9, -999.000, -999.000,9, -999.000,9, -999.000,9,   -999.0,9,   -999.0,9,-999.0000,-999,9,  -999.00,9,  -999.00,   -999.0,9,   -999.0,   4.3742,  27.3601
  49NZ20090410,   P21,   104,  1,     10, X12040,9,20090506,0435,-16.7502,-116.0048, 3400,      9.7,2,  25.8469,2,  25.84642,2,  36.2808,2,-999.0000,9,   205.88,2,  -999.00,9,  -999.00,9,  -999.00,  -999.00,9,  -999.00,  -999.00,9,  -999.00, -999.000,9, -999.000, -999.000,9, -999.000,9, -999.000,9,   -999.0,9,   -999.0,9,-999.0000,-999,9,  -999.00,9,  -999.00,   -999.0,9,   -999.0,  25.8447,  24.0486
  49NZ20090410,   P21,   104,  1,      9, X12009,9,20090506,0435,-16.7502,-116.0048, 3400,     49.5,2,  25.8103,2,  25.80945,2,  36.2794,2,-999.0000,9,   205.68,2,  -999.00,9,  -999.00,9,  -999.00,  -999.00,9,  -999.00,  -999.00,9,  -999.00, -999.000,9, -999.000, -999.000,9, -999.000,9, -999.000,9,   -999.0,9,   -999.0,9,-999.0000,-999,9,  -999.00,9,  -999.00,   -999.0,9,   -999.0,  25.7993,  24.0617
  49NZ20090410,   P21,   104,  1,      8, X12008,9,20090506,0435,-16.7502,-116.0048, 3400,     99.8,2,  22.8338,2,  22.83721,2,  36.1434,2,-999.0000,9,   209.83,2,  -999.00,9,  -999.00,9,  -999.00,  -999.00,9,  -999.00,  -999.00,9,  -999.00, -999.000,9, -999.000, -999.000,9, -999.000,9, -999.000,9,   -999.0,9,   -999.0,9,-999.0000,-999,9,  -999.00,9,  -999.00,   -999.0,9,   -999.0,  22.8134,  24.8550
  49NZ20090410,   P21,   104,  1,      7, X12007,9,20090506,0435,-16.7502,-116.0048, 3400,    149.1,2,  21.8697,2,  21.87278,2,  36.1161,2,-999.0000,9,   204.69,2,  -999.00,9,  -999.00,9,  -999.00,  -999.00,9,  -999.00,  -999.00,9,  -999.00, -999.000,9, -999.000, -999.000,9, -999.000,9, -999.000,9,   -999.0,9,   -999.0,9,-999.0000,-999,9,  -999.00,9,  -999.00,   -999.0,9,   -999.0,  21.8402,  25.1111
  49NZ20090410,   P21,   104,  1,      6, X12035,9,20090506,0435,-16.7502,-116.0048, 3400,    199.6,2,  19.9493,2,  19.95251,2,  35.7584,2,-999.0000,9,   200.76,2,  -999.00,9,  -999.00,9,  -999.00,  -999.00,9,  -999.00,  -999.00,9,  -999.00, -999.000,9, -999.000, -999.000,9, -999.000,9, -999.000,9,   -999.0,9,   -999.0,9,-999.0000,-999,9,  -999.00,9,  -999.00,   -999.0,9,   -999.0,  19.9123,  25.3636
  49NZ20090410,   P21,   104,  1,      5, X12038,9,20090506,0435,-16.7502,-116.0048, 3400,    250.2,2,  18.1570,2,  18.17386,2,  35.4031,2,-999.0000,9,   195.18,2,  -999.00,9,  -999.00,9,  -999.00,  -999.00,9,  -999.00,  -999.00,9,  -999.00, -999.000,9, -999.000, -999.000,9, -999.000,9, -999.000,9,   -999.0,9,   -999.0,9,-999.0000,-999,9,  -999.00,9,  -999.00,   -999.0,9,   -999.0,  18.1136,  25.5527
  49NZ20090410,   P21,   104,  1,      4, X12034,9,20090506,0435,-16.7502,-116.0048, 3400,    329.8,2,  11.4000,2,  11.41257,2,  34.4989,2,-999.0000,9,   131.82,2,  -999.00,9,  -999.00,9,  -999.00,  -999.00,9,  -999.00,  -999.00,9,  -999.00, -999.000,9, -999.000, -999.000,9, -999.000,9, -999.000,9,   -999.0,9,   -999.0,9,-999.0000,-999,9,  -999.00,9,  -999.00,   -999.0,9,   -999.0,  11.3584,  26.3200
  49NZ20090410,   P21,   104,  1,      3, X12033,9,20090506,0435,-16.7502,-116.0048, 3400,    431.8,2,   7.9402,2,   7.94164,2,  34.4566,2,-999.0000,9,    88.24,2,  -999.00,9,  -999.00,9,  -999.00,  -999.00,9,  -999.00,  -999.00,9,  -999.00, -999.000,9, -999.000, -999.000,9, -999.000,9, -999.000,9,   -999.0,9,   -999.0,9,-999.0000,-999,9,  -999.00,9,  -999.00,   -999.0,9,   -999.0,   7.8964,  26.8624
  49NZ20090410,   P21,   104,  1,      2, X12032,9,20090506,0435,-16.7502,-116.0048, 3400,    531.4,2,   6.4288,2,   6.42788,2,  34.4098,2,-999.0000,9,   122.64,2,  -999.00,9,  -999.00,9,  -999.00,  -999.00,9,  -999.00,  -999.00,9,  -999.00, -999.000,9, -999.000, -999.000,9, -999.000,9, -999.000,9,   -999.0,9,   -999.0,9,-999.0000,-999,9,  -999.00,9,  -999.00,   -999.0,9,   -999.0,   6.3806,  27.0372
  49NZ20090410,   P21,   104,  1,      1, X12046,2,20090506,0435,-16.7502,-116.0048, 3400,   3435.8,2,   1.7503,2,   1.75029,2,  34.6780,2,  34.6775,6,   160.67,2,   160.63,2,   124.82,2,     0.39,    35.30,2,     0.13,     0.01,2,     0.01,    2.475,2,    0.016,    0.001,2,    0.000,2,    0.000,2,   2310.0,2,   2406.0,2,   7.6043,  25,2,  -999.00,9,  -999.00,   -999.0,9,   -999.0,   1.4845,  27.7529