BOTTLE,20220818CCHSIOAMB
EXPOCODE,SECT_ID,STNNBR,CASTNO,SAMPNO,BTLNBR,BTLNBR_FLAG_W,DATE,TIME,LATITUDE,LONGITUDE,DEPTH,CTDPRS,CTDPRS_FLAG_W,CTDTMP,CTDTMP_FLAG_W,SBE35,SBE35_FLAG_W,CTDSAL,CTDSAL_FLAG_W,SALNTY,SALNTY_FLAG_W,CTDOXY,CTDOXY_FLAG_W,OXYGEN,OXYGEN_FLAG_W,SILCAT,SILCAT_FLAG_W,SILUNC,NITRAT,NITRAT_FLAG_W,NRAUNC,NITRIT,NITRIT_FLAG_W,NRIUNC,PHSPHT,PHSPHT_FLAG_W,PHPUNC,CFC-11,CFC-11_FLAG_W,CFC-12,CFC-12_FLAG_W,CFC113,CFC113_FLAG_W,TCARBN,TCARBN_FLAG_W,ALKALI,ALKALI_FLAG_W,PH_TOT,PH_TMP,PH_TOT_FLAG_W,DELC13,DELC13_FLAG_W,C13ERR,DELC14,DELC14_FLAG_W,C14ERR,THETA,SIG0
,,,,,,,,,,,METERS,DBAR,,ITS-90,,ITS-90,,PSS-78,,PSS-78,,UMOL/KG,,UMOL/KG,,UMOL/KG,,UMOL/KG,UMOL/KG,,UMOL/KG,UMOL/KG,,UMOL/KG,UMOL/KG,,UMOL/KG,PMOL/KG,,PMOL/KG,,PMOL/KG,,UMOL/KG,,UMOL/KG,,,DEG C,,/MILLE,,/MILLE,/MILLE,,/MILLE,DEG C,KG/M^3
  49NZ20090410,   P21,    33,  1,     36, X12006,2,20090415,1837,-16.7440, -81.3358, 4435,     10.3,2,  23.8905,2,  23.89017,2,  35.5483,2,  35.5496,2,   213.83,2,   212.85,2,     0.63,2,     0.12,     0.10,2,     0.03,     0.01,2,     0.01,    0.518,2,    0.013,    1.724,2,    1.093,2, -999.000,5,   2063.3,2,   2362.9,2,   8.0341,  25,2,  -999.00,9,  -999.00,   -999.0,9,   -999.0,  23.8883,  24.0896
  49NZ20090410,   P21,    33,  1,     35, X12047,2,20090415,1837,-16.7440, -81.3358, 4435,     50.1,2,  19.0594,2,  19.02473,2,  35.0717,2,  35.0638,2,   250.59,2,   251.80,2,     0.50,2,     0.12,     0.09,2,     0.03,     0.01,2,     0.01,    0.413,2,    0.013,    2.284,2,    1.415,2, -999.000,5,   2053.8,6,   2326.5,2,   7.9966,  25,2,  -999.00,9,  -999.00,   -999.0,9,   -999.0,  19.0505,  25.0631
  49NZ20090410,   P21,    33,  1,     34, X12004,2,20090415,1837,-16.7440, -81.3358, 4435,     99.7,2,  16.2621,2,  16.26451,2,  34.8090,2,  34.8109,2,   219.88,2,   214.76,2,     0.65,2,     0.12,     4.56,2,     0.05,     0.19,2,     0.01,    0.687,2,    0.013,    2.498,6,    1.513,6,    0.228,6,   2084.7,2,   2305.1,6,   7.9084,  25,2,  -999.00,9,  -999.00,   -999.0,9,   -999.0,  16.2462,  25.5442
  49NZ20090410,   P21,    33,  1,     33, X12003,2,20090415,1837,-16.7440, -81.3358, 4435,    150.3,2,  12.8616,2,  12.85975,2,  34.5528,2,  34.5549,2,   102.60,2,    97.65,2,     9.74,2,     0.14,    20.02,2,     0.09,     0.02,2,     0.01,    2.041,2,    0.015,    2.330,2,    1.325,2,    0.092,2,   2199.3,2,   2281.9,2,   7.5818,  25,6,  -999.00,9,  -999.00,   -999.0,9,   -999.0,  12.8412,  26.0781
  49NZ20090410,   P21,    33,  1,     32, X12002,2,20090415,1837,-16.7440, -81.3358, 4435,    199.8,2,  12.3088,2,  12.30909,2,  34.7931,2,  34.7911,2,     1.43,2,     1.51,2,    24.02,2,     0.17,    20.27,2,     0.09,     0.01,2,     0.01,    2.748,2,    0.017,    0.971,2,    0.544,2,    0.012,2,   2273.1,2,   2299.3,2,   7.4146,  25,2,  -999.00,9,  -999.00,   -999.0,9,   -999.0,  12.2823,  26.3741
  49NZ20090410,   P21,    33,  1,     31, X12001,2,20090415,1837,-16.7440, -81.3358, 4435,    249.3,2,  11.4501,2,  11.44634,2,  34.7680,2,  34.7682,6,     1.34,2,     0.88,2,    25.23,2,     0.17,    25.74,2,     0.10,     0.01,2,     0.01,    2.736,2,    0.017,    0.584,2,    0.311,2,    0.000,2,   2275.1,2,   2297.0,2,   7.4028,  25,2,  -999.00,9,  -999.00,   -999.0,9,   -999.0,  11.4186,  26.5182
  49NZ20090410,   P21,    33,  1,     30, X12030,2,20090415,1837,-16.7440, -81.3358, 4435,    331.3,2,  10.1281,2,  10.12964,2,  34.7112,2,  34.7084,2,     1.41,2,     0.95,2,    28.91,2,     0.18,    32.73,2,     0.12,     0.34,2,     0.00,    2.824,2,    0.017,    0.235,2,    0.125,2,    0.000,2,   2283.1,2,   2297.5,2,   7.3825,  25,2,  -999.00,9,  -999.00,   -999.0,9,   -999.0,  10.0892,  26.7111
  49NZ20090410,   P21,    33,  1,     29, X12044,2,20090415,1837,-16.7440, -81.3358, 4435,    430.1,2,   8.6006,2,   8.60307,2,  34.6218,2,  34.6218,2,     6.51,2,     6.75,2,    32.51,2,     0.19,    39.09,2,     0.14,     0.01,2,     0.01,    2.948,2,    0.017,    0.113,2,    0.061,2,    0.000,2,   2285.7,2,   2297.8,2,   7.3726,  25,2,  -999.00,9,  -999.00,   -999.0,9,   -999.0,   8.5547,  26.8922
  49NZ20090410,   P21,    33,  1,     28, X12048,2,20090415,1837,-16.7440, -81.3358, 4435,    531.5,2,   7.3081,2,   7.31360,2,  34.5466,2,  34.5466,6,    29.32,2,    29.39,2,    35.41,2,     0.20,    41.19,2,     0.15,     0.01,2,     0.01,    2.952,2,    0.017,    0.071,2,    0.038,2,    0.000,2,   2279.6,2,   2298.3,2,   7.3956,  25,2,  -999.00,9,  -999.00,   -999.0,9,   -999.0,   7.2563,  27.0258
  49NZ20090410,   P21,    33,  1,     27, X12027,2,20090415,1837,-16.7440, -81.3358, 4435,    630.2,2,   6.4268,2,   6.43268,2,  34.5217,2,  34.5220,2,    26.18,2,    26.74,2,    44.50,2,     0.22,    43.57,2,     0.15,     0.01,2,     0.01,    3.133,2,    0.018,    0.035,6,    0.017,6,    0.000,6,   2293.9,2,   2305.9,2,   7.3756,  25,2,  -999.00,9,  -999.00,   -999.0,9,   -999.0,   6.3691,  27.1270
  49NZ20090410,   P21,    33,  1,     26, X12026,2,20090415,1837,-16.7440, -81.3358, 4435,    729.4,2,   5.7221,2,   5.72306,2,  34.5140,2,  34.5140,2,    29.46,2,    29.97,2,    53.71,2,     0.24,    44.66,2,     0.16,     0.01,2,     0.01,    3.205,2,    0.018,    0.009,2,    0.008,2,    0.000,2,   2304.6,6,   2316.2,2,   7.3726,  25,2,  -999.00,9,  -999.00,   -999.0,9,   -999.0,   5.6587,  27.2113
  49NZ20090410,   P21,    33,  1,     25, X12025,2,20090415,1837,-16.7440, -81.3358, 4435,    827.6,2,   5.1697,2,   5.16440,2,  34.5171,2,  34.5179,2,    36.16,2,    36.16,2,    63.17,2,     0.26,    44.64,2,     0.16,     0.01,2,     0.01,    3.228,2,    0.018,    0.002,2,    0.001,2,    0.000,2,   2311.3,2,   2325.6,6,   7.3817,  25,2,  -999.00,9,  -999.00,   -999.0,9,   -999.0,   5.1007,  27.2807
  49NZ20090410,   P21,    33,  1,     24, X12024,2,20090415,1837,-16.7440, -81.3358, 4435,    928.8,2,   4.6934,2,   4.69309,2,  34.5261,2,  34.5254,2,    46.08,2,    46.12,2,    72.03,2,     0.28,    44.15,2,     0.16,     0.01,2,     0.01,    3.208,2,    0.018,    0.001,2,    0.000,2,    0.000,2,   2315.9,2,   2336.0,2,   7.3984,  25,6,  -999.00,9,  -999.00,   -999.0,9,   -999.0,   4.6186,  27.3428
  49NZ20090410,   P21,    33,  1,     23, X12028,2,20090415,1837,-16.7440, -81.3358, 4435,   1069.0,2,   4.1614,2,   4.16409,2,  34.5370,2,  34.5376,6,    60.85,2,    60.99,2,    82.17,2,     0.30,    42.97,2,     0.15,     0.01,2,     0.01,    3.134,2,    0.018,    0.000,2,    0.003,2,    0.000,2,   2319.2,2,   2347.4,2,   7.4242,  25,2,  -999.00,9,  -999.00,   -999.0,9,   -999.0,   4.0786,  27.4097
  49NZ20090410,   P21,    33,  1,     22, X12022,2,20090415,1837,-16.7440, -81.3358, 4435,   1270.8,2,   3.5161,2,   3.51647,2,  34.5585,2,  34.5591,2,    81.17,2,    80.77,2,    93.56,2,     0.32,    41.47,2,     0.15,     0.01,2,     0.01,    3.008,2,    0.017,    0.000,2,    0.001,2,    0.000,2,   2322.1,2,   2361.4,2,   7.4601,  25,2,  -999.00,9,  -999.00,   -999.0,9,   -999.0,   3.4220,  27.4929
  49NZ20090410,   P21,    33,  1,     21, X12021,2,20090415,1837,-16.7440, -81.3358, 4435,   1469.6,2,   3.0551,2,   3.05461,2,  34.5856,2,  34.5872,2,    89.12,2,    88.62,2,   106.19,2,     0.35,    40.67,2,     0.15,     0.01,2,     0.01,    2.958,2,    0.017,    0.002,2,    0.001,2,    0.000,2,   2330.1,2,   2378.0,2,   7.4756,  25,2,  -999.00,9,  -999.00,   -999.0,9,   -999.0,   2.9491,  27.5589
  49NZ20090410,   P21,    33,  1,     20, X12020,2,20090415,1837,-16.7440, -81.3358, 4435,   1670.3,2,   2.6757,2,   2.67644,2,  34.6098,2,  34.6102,2,    99.42,2,    98.91,2,   115.16,2,     0.37,    40.00,2,     0.14,     0.01,2,     0.01,    2.882,2,    0.017,    0.000,2,    0.000,2,    0.000,2,   2335.0,2,   2388.5,2,   7.4955,  25,6,  -999.00,9,  -999.00,   -999.0,9,   -999.0,   2.5575,  27.6130
  49NZ20090410,   P21,    33,  1,     19, X12019,2,20090415,1837,-16.7440, -81.3358, 4435,   1868.3,2,   2.4039,2,   2.40385,2,  34.6272,2,  34.6276,2,   111.07,2,   110.72,2,   120.32,2,     0.38,    38.89,2,     0.14,     0.01,2,     0.01,    2.788,2,    0.017,    0.000,2,    0.000,2,    0.000,2,   2332.9,2,   2394.5,2,   7.5172,  25,2,  -999.00,9,  -999.00,   -999.0,9,   -999.0,   2.2726,  27.6510
  49NZ20090410,   P21,    33,  1,     18, X12043,2,20090415,1837,-16.7440, -81.3358, 4435,   2070.6,2,   2.1836,2,   2.18344,2,  34.6431,2,  34.6436,2,   121.15,2,   120.76,2,   124.18,2,     0.39,    38.07,2,     0.14,     0.01,2,     0.01,    2.729,2,    0.017, -999.000,9, -999.000,9, -999.000,9,   2331.6,2,   2401.0,2,   7.5357,  25,2,  -999.00,9,  -999.00,   -999.0,9,   -999.0,   2.0383,  27.6827
  49NZ20090410,   P21,    33,  1,     17, X12042,2,20090415,1837,-16.7440, -81.3358, 4435,   2270.6,2,   2.0208,2,   2.02097,2,  34.6565,2,  34.6566,6,   127.95,2,   128.04,2,   127.05,2,     0.40,    37.50,2,     0.14,     0.01,2,     0.01,    2.661,2,    0.017,    0.000,2,    0.000,2,    0.000,2,   2330.7,2,   2404.1,2,   7.5494,  25,2,  -999.00,9,  -999.00,   -999.0,9,   -999.0,   1.8607,  27.7074
  49NZ20090410,   P21,    33,  1,     16, X12016,2,20090415,1837,-16.7440, -81.3358, 4435,   2470.2,2,   1.9071,2,   1.90740,2,  34.6654,2,  34.6657,2,   137.94,2,   137.40,2,   126.30,2,     0.40,    36.74,2,     0.14,     0.01,2,     0.01,    2.598,2,    0.016, -999.000,9, -999.000,9, -999.000,9,   2325.7,6,   2404.6,2,   7.5652,  25,2,  -999.00,9,  -999.00,   -999.0,9,   -999.0,   1.7312,  27.7245
  49NZ20090410,   P21,    33,  1,     15, X12015,2,20090415,1837,-16.7440, -81.3358, 4435,   2670.0,2,   1.8376,2,   1.83735,2,  34.6723,2,  34.6723,2,   139.84,2,   140.08,2,   128.85,2,     0.40,    36.57,2,     0.14,     0.01,2,     0.01,    2.581,2,    0.016, -999.000,9, -999.000,9, -999.000,9,   2326.8,2,   2409.3,6,   7.5720,  25,2,  -999.00,9,  -999.00,   -999.0,9,   -999.0,   1.6447,  27.7365
  49NZ20090410,   P21,    33,  1,     14, X12050,2,20090415,1837,-16.7440, -81.3358, 4435,   2869.4,2,   1.8004,2,   1.80041,2,  34.6767,2,  34.6766,2,   138.96,2,   139.08,2,   132.63,2,     0.41,    36.71,2,     0.14,     0.01,2,     0.01,    2.587,2,    0.016,    0.001,2,    0.001,2,    0.000,2,   2332.5,2,   2416.4,2,   7.5749,  25,6,  -999.00,9,  -999.00,   -999.0,9,   -999.0,   1.5895,  27.7442
  49NZ20090410,   P21,    33,  1,     13, X12013,4,20090415,1837,-16.7440, -81.3358, 4435,   3081.8,2,   1.7885,2,   1.78870,2,  34.6793,2,  34.6631,4,   139.47,2,   134.09,4,   126.88,4,     0.40,    36.98,4,     0.14,     0.01,4,     0.01,    2.625,4,    0.017, -999.000,9, -999.000,9, -999.000,9,   2327.1,4,   2404.6,4,   7.5597,  25,4,  -999.00,9,  -999.00,   -999.0,9,   -999.0,   1.5574,  27.7486
  49NZ20090410,   P21,    33,  1,     12, X12012,2,20090415,1837,-16.7440, -81.3358, 4435,   3331.7,2,   1.7875,2,   1.78744,2,  34.6813,2,  34.6817,6,   140.17,2,   140.31,2,   134.52,2,     0.41,    36.61,2,     0.14,     0.01,2,     0.01,    2.582,2,    0.016, -999.000,9, -999.000,9, -999.000,9,   2334.2,2,   2418.6,2,   7.5803,  25,2,  -999.00,9,  -999.00,   -999.0,9,   -999.0,   1.5314,  27.7521
  49NZ20090410,   P21,    33,  1,     11, X12041,2,20090415,1837,-16.7440, -81.3358, 4435,   3582.9,2,   1.7781,2,   1.77803,2,  34.6841,2,  34.6845,2,   144.71,2,   145.00,2,   131.77,2,     0.41,    36.16,2,     0.13,     0.01,2,     0.01,    2.541,2,    0.016,    0.000,2,    0.000,2,    0.000,2,   2329.0,2,   2415.6,2,   7.5848,  25,2,  -999.00,9,  -999.00,   -999.0,9,   -999.0,   1.4963,  27.7569
  49NZ20090410,   P21,    33,  1,     10, X12040,2,20090415,1837,-16.7440, -81.3358, 4435,   3832.8,2,   1.7613,2,   1.76121,2,  34.6871,2,  34.6885,2,   151.96,2,   152.36,2,   126.88,2,     0.40,    35.64,2,     0.13,     0.01,2,     0.01,    2.510,2,    0.016, -999.000,9, -999.000,9, -999.000,9,   2318.8,2,   2408.5,2,   7.5917,  25,6,  -999.00,9,  -999.00,   -999.0,9,   -999.0,   1.4533,  27.7625
  49NZ20090410,   P21,    33,  1,      9, X12009,2,20090415,1837,-16.7440, -81.3358, 4435,   4082.8,2,   1.7606,2,   1.76054,2,  34.6888,2,  34.6890,2,   155.21,2,   155.59,2,   124.99,2,     0.39,    35.36,2,     0.13,     0.01,2,     0.01,    2.485,2,    0.016, -999.000,9, -999.000,9, -999.000,9,   2317.1,2,   2407.0,2,   7.5942,  25,2,  -999.00,9,  -999.00,   -999.0,9,   -999.0,   1.4252,  27.7659
  49NZ20090410,   P21,    33,  1,      8, X12008,2,20090415,1837,-16.7440, -81.3358, 4435,   4330.2,2,   1.7722,2,   1.77217,2,  34.6897,2,  34.6905,2,   154.28,2,   154.61,2,   126.02,2,     0.40,    35.37,2,     0.13,     0.01,2,     0.01,    2.492,2,    0.016,    0.003,2,    0.002,2,    0.000,2,   2317.1,6,   2407.7,2,   7.5926,  25,2,  -999.00,9,  -999.00,   -999.0,9,   -999.0,   1.4084,  27.7678
  49NZ20090410,   P21,    33,  1,      7, X12007,9,20090415,1837,-16.7440, -81.3358, 4435,     10.1,2,  23.8930,2,  23.89316,2,  35.5485,2,-999.0000,9,   213.79,2,  -999.00,9,  -999.00,9,  -999.00,  -999.00,9,  -999.00,  -999.00,9,  -999.00, -999.000,9, -999.000, -999.000,9, -999.000,9, -999.000,9,   -999.0,9,   -999.0,9,-999.0000,-999,9,  -999.00,9,  -999.00,   -999.0,9,   -999.0,  23.8909,  24.0890
  49NZ20090410,   P21,    33,  1,      6, X12035,9,20090415,1837,-16.7440, -81.3358, 4435,     50.2,2,  19.1563,2,  19.16762,2,  35.0863,2,-999.0000,9,   252.21,2,  -999.00,9,  -999.00,9,  -999.00,  -999.00,9,  -999.00,  -999.00,9,  -999.00, -999.000,9, -999.000, -999.000,9, -999.000,9, -999.000,9,   -999.0,9,   -999.0,9,-999.0000,-999,9,  -999.00,9,  -999.00,   -999.0,9,   -999.0,  19.1473,  25.0494
  49NZ20090410,   P21,    33,  1,      5, X12038,9,20090415,1837,-16.7440, -81.3358, 4435,     99.5,2,  16.2662,2,  16.26520,2,  34.8104,2,-999.0000,9,   221.00,2,  -999.00,9,  -999.00,9,  -999.00,  -999.00,9,  -999.00,  -999.00,9,  -999.00, -999.000,9, -999.000, -999.000,9, -999.000,9, -999.000,9,   -999.0,9,   -999.0,9,-999.0000,-999,9,  -999.00,9,  -999.00,   -999.0,9,   -999.0,  16.2503,  25.5442
  49NZ20090410,   P21,    33,  1,      4, X12034,9,20090415,1837,-16.7440, -81.3358, 4435,    149.7,2,  12.8635,2,  12.86310,2,  34.5536,2,-999.0000,9,   102.61,2,  -999.00,9,  -999.00,9,  -999.00,  -999.00,9,  -999.00,  -999.00,9,  -999.00, -999.000,9, -999.000, -999.000,9, -999.000,9, -999.000,9,   -999.0,9,   -999.0,9,-999.0000,-999,9,  -999.00,9,  -999.00,   -999.0,9,   -999.0,  12.8432,  26.0783
  49NZ20090410,   P21,    33,  1,      3, X12033,9,20090415,1837,-16.7440, -81.3358, 4435,    199.4,2,  12.3125,2,  12.31244,2,  34.7923,2,-999.0000,9,     1.47,2,  -999.00,9,  -999.00,9,  -999.00,  -999.00,9,  -999.00,  -999.00,9,  -999.00, -999.000,9, -999.000, -999.000,9, -999.000,9, -999.000,9,   -999.0,9,   -999.0,9,-999.0000,-999,9,  -999.00,9,  -999.00,   -999.0,9,   -999.0,  12.2861,  26.3728
  49NZ20090410,   P21,    33,  1,      2, X12032,9,20090415,1837,-16.7440, -81.3358, 4435,    248.2,2,  11.4768,2,  11.47604,2,  34.7701,2,-999.0000,9,     1.30,2,  -999.00,9,  -999.00,9,  -999.00,  -999.00,9,  -999.00,  -999.00,9,  -999.00, -999.000,9, -999.000, -999.000,9, -999.000,9, -999.000,9,   -999.0,9,   -999.0,9,-999.0000,-999,9,  -999.00,9,  -999.00,   -999.0,9,   -999.0,  11.4454,  26.5149
  49NZ20090410,   P21,    33,  1,      1, X12046,2,20090415,1837,-16.7440, -81.3358, 4435,   4483.1,2,   1.7875,2,   1.78746,2,  34.6898,2,  34.6904,6,   154.39,2,   154.75,2,   125.99,2,     0.40,    35.41,2,     0.13,     0.01,2,     0.01,    2.495,2,    0.016,    0.005,2,    0.000,2,    0.000,2,   2318.5,2,   2408.2,2,   7.5930,  25,2,  -999.00,9,  -999.00,   -999.0,9,   -999.0,   1.4056,  27.7681