BOTTLE,20220818CCHSIOAMB
EXPOCODE,SECT_ID,STNNBR,CASTNO,SAMPNO,BTLNBR,BTLNBR_FLAG_W,DATE,TIME,LATITUDE,LONGITUDE,DEPTH,CTDPRS,CTDPRS_FLAG_W,CTDTMP,CTDTMP_FLAG_W,SBE35,SBE35_FLAG_W,CTDSAL,CTDSAL_FLAG_W,SALNTY,SALNTY_FLAG_W,CTDOXY,CTDOXY_FLAG_W,OXYGEN,OXYGEN_FLAG_W,SILCAT,SILCAT_FLAG_W,SILUNC,NITRAT,NITRAT_FLAG_W,NRAUNC,NITRIT,NITRIT_FLAG_W,NRIUNC,PHSPHT,PHSPHT_FLAG_W,PHPUNC,CFC-11,CFC-11_FLAG_W,CFC-12,CFC-12_FLAG_W,CFC113,CFC113_FLAG_W,TCARBN,TCARBN_FLAG_W,ALKALI,ALKALI_FLAG_W,PH_TOT,PH_TMP,PH_TOT_FLAG_W,DELC13,DELC13_FLAG_W,C13ERR,DELC14,DELC14_FLAG_W,C14ERR,THETA,SIG0
,,,,,,,,,,,METERS,DBAR,,ITS-90,,ITS-90,,PSS-78,,PSS-78,,UMOL/KG,,UMOL/KG,,UMOL/KG,,UMOL/KG,UMOL/KG,,UMOL/KG,UMOL/KG,,UMOL/KG,UMOL/KG,,UMOL/KG,PMOL/KG,,PMOL/KG,,PMOL/KG,,UMOL/KG,,UMOL/KG,,,DEG C,,/MILLE,,/MILLE,/MILLE,,/MILLE,DEG C,KG/M^3
  49NZ20090410,   P21,   131,  1,     36, X12006,2,20090512,1106,-16.7560,-134.0025, 4296,     10.1,2,  27.7518,2,  27.75105,2,  36.2325,2,  36.2357,2,   198.03,2,   197.68,2,     0.47,2,     0.12,     0.61,2,     0.03,     0.02,2,     0.01,    0.299,2,    0.014,    1.468,2,    0.952,2, -999.000,5,   -999.0,9,   -999.0,9,-999.0000,-999,9,  -999.00,9,  -999.00,   -999.0,9,   -999.0,  27.7494,  23.4039
  49NZ20090410,   P21,   131,  1,     35, X12047,2,20090512,1106,-16.7560,-134.0025, 4296,     50.1,2,  27.4894,2,  27.48825,2,  36.4546,2,  36.4606,2,   200.91,2,   201.11,2,     0.64,2,     0.12,     0.35,2,     0.03,     0.02,2,     0.01,    0.287,2,    0.014,    1.512,2,    0.977,2, -999.000,5,   -999.0,9,   -999.0,9,-999.0000,-999,9,  -999.00,9,  -999.00,   -999.0,9,   -999.0,  27.4777,  23.6596
  49NZ20090410,   P21,   131,  1,     34, X12004,2,20090512,1106,-16.7560,-134.0025, 4296,    100.8,2,  25.0293,2,  25.03031,2,  36.4981,2,  36.4982,2,   200.87,2,   200.45,2,     0.60,2,     0.12,     0.13,2,     0.03,     0.03,2,     0.01,    0.279,2,    0.014,    1.696,6,    1.082,6, -999.000,5,   -999.0,9,   -999.0,9,-999.0000,-999,9,  -999.00,9,  -999.00,   -999.0,9,   -999.0,  25.0073,  24.4717
  49NZ20090410,   P21,   131,  1,     33, X12003,2,20090512,1106,-16.7560,-134.0025, 4296,    150.4,2,  23.9110,2,  23.91110,2,  36.4163,2,  36.4167,2,   192.48,2,   192.13,2,     0.58,2,     0.12,     0.15,2,     0.03,     1.10,2,     0.00,    0.330,2,    0.014,    1.760,2,    1.104,2, -999.000,5,   -999.0,9,   -999.0,9,-999.0000,-999,9,  -999.00,9,  -999.00,   -999.0,9,   -999.0,  23.8792,  24.7500
  49NZ20090410,   P21,   131,  1,     32, X12002,2,20090512,1106,-16.7560,-134.0025, 4296,    199.8,2,  22.3615,2,  22.35521,2,  36.1793,2,  36.1781,2,   184.18,2,   183.59,2,     0.63,2,     0.12,     2.36,2,     0.04,     0.21,2,     0.01,    0.452,2,    0.013,    1.913,2,    1.179,2, -999.000,5,   -999.0,9,   -999.0,9,-999.0000,-999,9,  -999.00,9,  -999.00,   -999.0,9,   -999.0,  22.3213,  25.0232
  49NZ20090410,   P21,   131,  1,     31, X12001,2,20090512,1106,-16.7560,-134.0025, 4296,    249.8,2,  20.0153,2,  20.01890,2,  35.7235,2,  35.6864,6,   182.59,2,   182.85,2,     0.69,2,     0.12,     3.63,2,     0.04,     0.01,2,     0.01,    0.501,2,    0.013,    2.171,2,    1.299,2,    0.052,2,   -999.0,9,   -999.0,9,-999.0000,-999,9,  -999.00,9,  -999.00,   -999.0,9,   -999.0,  19.9688,  25.3220
  49NZ20090410,   P21,   131,  1,     30, X12030,2,20090512,1106,-16.7560,-134.0025, 4296,    280.7,2,  17.7742,2,  17.80318,2,  35.3369,2,  35.3561,2,   181.89,2,   181.92,2,     1.06,2,     0.12,     5.16,2,     0.05,     0.01,2,     0.01,    0.608,2,    0.013,    2.343,2,    1.367,2,    0.030,2,   -999.0,9,   -999.0,9,-999.0000,-999,9,  -999.00,9,  -999.00,   -999.0,9,   -999.0,  17.7262,  25.5975
  49NZ20090410,   P21,   131,  1,     29, X12044,2,20090512,1106,-16.7560,-134.0025, 4296,    368.8,2,  12.0751,2,  12.08157,2,  34.6375,2,  34.6481,2,   147.21,2,   148.91,2,     6.16,2,     0.13,    15.64,2,     0.08,     0.01,2,     0.01,    1.396,2,    0.014,    2.315,2,    1.222,2,    0.045,2,   -999.0,9,   -999.0,9,-999.0000,-999,9,  -999.00,9,  -999.00,   -999.0,9,   -999.0,  12.0266,  26.3024
  49NZ20090410,   P21,   131,  1,     28, X12048,2,20090512,1106,-16.7560,-134.0025, 4296,    469.8,2,   7.7140,2,   7.71306,2,  34.4246,2,  34.4217,6,   120.45,2,   121.91,2,    16.73,2,     0.16,    30.50,2,     0.12,     0.01,2,     0.01,    2.266,2,    0.016,    0.922,2,    0.458,2,    0.033,2,   -999.0,9,   -999.0,9,-999.0000,-999,9,  -999.00,9,  -999.00,   -999.0,9,   -999.0,   7.6670,  26.8709
  49NZ20090410,   P21,   131,  1,     27, X12027,2,20090512,1106,-16.7560,-134.0025, 4296,    570.2,2,   6.2684,2,   6.26774,2,  34.3680,2,  34.3658,2,   160.51,2,   160.84,2,    18.60,2,     0.16,    31.02,2,     0.12,     0.01,2,     0.01,    2.207,2,    0.016,    0.686,6,    0.343,6,    0.019,6,   -999.0,9,   -999.0,9,-999.0000,-999,9,  -999.00,9,  -999.00,   -999.0,9,   -999.0,   6.2173,  27.0254
  49NZ20090410,   P21,   131,  1,     26, X12026,2,20090512,1106,-16.7560,-134.0025, 4296,    671.0,2,   5.7083,2,   5.70817,2,  34.4111,2,  34.4108,2,   138.12,2,   138.28,2,    31.31,2,     0.19,    34.12,2,     0.13,     0.01,2,     0.01,    2.394,2,    0.016,    0.211,2,    0.110,2,    0.000,2,   -999.0,9,   -999.0,9,-999.0000,-999,9,  -999.00,9,  -999.00,   -999.0,9,   -999.0,   5.6505,  27.1310
  49NZ20090410,   P21,   131,  1,     25, X12025,2,20090512,1106,-16.7560,-134.0025, 4296,    770.1,2,   5.4033,2,   5.40350,2,  34.4638,2,  34.4637,2,   124.62,2,   124.64,2,    43.76,2,     0.22,    35.56,2,     0.13,     0.01,2,     0.01,    2.511,2,    0.016,    0.080,2,    0.041,2,    0.000,2,   -999.0,9,   -999.0,9,-999.0000,-999,9,  -999.00,9,  -999.00,   -999.0,9,   -999.0,   5.3381,  27.2105
  49NZ20090410,   P21,   131,  1,     24, X12024,2,20090512,1106,-16.7560,-134.0025, 4296,    870.7,2,   4.9819,2,   4.98268,2,  34.4879,2,  34.4879,2,   113.31,2,   113.38,2,    53.94,2,     0.24,    37.27,2,     0.14,     0.00,2,     0.01,    2.639,2,    0.017,    0.028,2,    0.015,2,    0.000,2,   -999.0,9,   -999.0,9,-999.0000,-999,9,  -999.00,9,  -999.00,   -999.0,9,   -999.0,   4.9103,  27.2795
  49NZ20090410,   P21,   131,  1,     23, X12028,2,20090512,1106,-16.7560,-134.0025, 4296,    969.7,2,   4.6150,2,   4.61506,2,  34.5010,2,  34.5011,6,   110.22,2,   110.26,2,    61.69,2,     0.25,    38.00,2,     0.14,     0.01,2,     0.01,    2.692,2,    0.017,    0.013,2,    0.008,2,    0.000,2,   -999.0,9,   -999.0,9,-999.0000,-999,9,  -999.00,9,  -999.00,   -999.0,9,   -999.0,   4.5373,  27.3318
  49NZ20090410,   P21,   131,  1,     22, X12022,2,20090512,1106,-16.7560,-134.0025, 4296,   1132.0,2,   3.9489,2,   3.94817,2,  34.5245,2,  34.5245,2,   116.91,2,   116.95,2,    74.20,2,     0.28,    37.80,2,     0.14,     0.01,2,     0.01,    2.691,2,    0.017,    0.009,2,    0.004,2,    0.000,2,   -999.0,9,   -999.0,9,-999.0000,-999,9,  -999.00,9,  -999.00,   -999.0,9,   -999.0,   3.8625,  27.4220
  49NZ20090410,   P21,   131,  1,     21, X12021,2,20090512,1106,-16.7560,-134.0025, 4296,   1329.8,2,   3.3439,2,   3.34410,2,  34.5570,2,  34.5569,2,   116.60,2,   116.56,2,    88.87,2,     0.31,    38.17,2,     0.14,     0.01,2,     0.01,    2.735,2,    0.017,    0.000,2,    0.000,2,    0.000,2,   -999.0,9,   -999.0,9,-999.0000,-999,9,  -999.00,9,  -999.00,   -999.0,9,   -999.0,   3.2466,  27.5085
  49NZ20090410,   P21,   131,  1,     20, X12020,2,20090512,1106,-16.7560,-134.0025, 4296,   1531.8,2,   2.8348,2,   2.83495,2,  34.5768,2,  34.5765,2,   138.35,2,   138.41,2,    94.65,2,     0.33,    36.48,2,     0.13,     0.01,2,     0.01,    2.591,2,    0.016,    0.002,2,    0.000,2,    0.000,2,   -999.0,9,   -999.0,9,-999.0000,-999,9,  -999.00,9,  -999.00,   -999.0,9,   -999.0,   2.7262,  27.5719
  49NZ20090410,   P21,   131,  1,     19, X12019,2,20090512,1106,-16.7560,-134.0025, 4296,   1731.2,2,   2.4976,2,   2.49777,2,  34.6031,2,  34.6030,2,   140.26,2,   140.11,2,   103.49,2,     0.35,    36.46,2,     0.13,     0.01,2,     0.01,    2.590,2,    0.016,    0.001,2,    0.000,2,    0.000,2,   -999.0,9,   -999.0,9,-999.0000,-999,9,  -999.00,9,  -999.00,   -999.0,9,   -999.0,   2.3766,  27.6230
  49NZ20090410,   P21,   131,  1,     18, X12043,2,20090512,1106,-16.7560,-134.0025, 4296,   1929.9,2,   2.2121,2,   2.21227,2,  34.6278,2,  34.6278,2,   145.03,2,   144.93,2,   110.55,2,     0.36,    36.26,2,     0.13,     0.01,2,     0.01,    2.564,2,    0.016,    0.000,2,    0.000,2,    0.000,2,   -999.0,9,   -999.0,9,-999.0000,-999,9,  -999.00,9,  -999.00,   -999.0,9,   -999.0,   2.0784,  27.6672
  49NZ20090410,   P21,   131,  1,     17, X12042,2,20090512,1106,-16.7560,-134.0025, 4296,   2129.5,2,   2.0201,2,   2.02019,2,  34.6460,2,  34.6458,6,   150.16,2,   150.07,2,   115.01,2,     0.37,    35.96,2,     0.13,     0.01,2,     0.01,    2.531,2,    0.016,    0.000,2,    0.000,2,    0.000,2,   -999.0,9,   -999.0,9,-999.0000,-999,9,  -999.00,9,  -999.00,   -999.0,9,   -999.0,   1.8723,  27.6980
  49NZ20090410,   P21,   131,  1,     16, X12016,2,20090512,1106,-16.7560,-134.0025, 4296,   2329.6,2,   1.8979,2,   1.89801,2,  34.6586,2,  34.6584,2,   152.43,2,   152.33,2,   119.05,2,     0.38,    35.73,2,     0.13,     0.01,2,     0.01,    2.507,2,    0.016,    0.001,2,    0.000,2,    0.000,2,   -999.0,9,   -999.0,9,-999.0000,-999,9,  -999.00,9,  -999.00,   -999.0,9,   -999.0,   1.7347,  27.7188
  49NZ20090410,   P21,   131,  1,     15, X12015,2,20090512,1106,-16.7560,-134.0025, 4296,   2530.7,2,   1.8111,2,   1.81115,2,  34.6648,2,  34.6647,2,   156.59,2,   156.63,2,   120.34,2,     0.38,    35.35,2,     0.13,     0.01,2,     0.01,    2.494,2,    0.016,    0.000,2,    0.000,2,    0.000,2,   -999.0,9,   -999.0,9,-999.0000,-999,9,  -999.00,9,  -999.00,   -999.0,9,   -999.0,   1.6315,  27.7315
  49NZ20090410,   P21,   131,  1,     14, X12050,2,20090512,1106,-16.7560,-134.0025, 4296,   2729.6,2,   1.7666,2,   1.76668,2,  34.6691,2,  34.6689,2,   158.54,2,   158.47,2,   121.43,2,     0.39,    35.34,2,     0.13,     0.01,2,     0.01,    2.492,2,    0.016,    0.001,2,    0.000,2,    0.000,2,   -999.0,9,   -999.0,9,-999.0000,-999,9,  -999.00,9,  -999.00,   -999.0,9,   -999.0,   1.5696,  27.7395
  49NZ20090410,   P21,   131,  1,     13, X12013,7,20090512,1106,-16.7560,-134.0025, 4296,   2929.8,2,   1.7226,2,   1.72266,2,  34.6742,2,  34.6750,2,   158.51,2,   158.42,2,   123.89,2,     0.39,    35.27,2,     0.13,     0.01,2,     0.01,    2.483,2,    0.016,    0.001,2,    0.001,2,    0.000,2,   -999.0,9,   -999.0,9,-999.0000,-999,9,  -999.00,9,  -999.00,   -999.0,9,   -999.0,   1.5077,  27.7482
  49NZ20090410,   P21,   131,  1,     12, X12012,2,20090512,1106,-16.7560,-134.0025, 4296,   3170.4,2,   1.6611,2,   1.66124,2,  34.6803,2,  34.6800,6,   158.24,2,   158.29,2,   128.27,2,     0.40,    35.46,2,     0.13,     0.01,2,     0.01,    2.495,2,    0.016,    0.000,2,    0.000,2,    0.000,2,   -999.0,9,   -999.0,9,-999.0000,-999,9,  -999.00,9,  -999.00,   -999.0,9,   -999.0,   1.4241,  27.7591
  49NZ20090410,   P21,   131,  1,     11, X12041,2,20090512,1106,-16.7560,-134.0025, 4296,   3421.0,2,   1.6119,2,   1.61205,2,  34.6841,2,  34.6835,2,   160.80,2,   160.88,2,   129.13,2,     0.40,    35.32,2,     0.13,     0.01,2,     0.01,    2.484,2,    0.016,    0.000,2,    0.000,2,    0.000,2,   -999.0,9,   -999.0,9,-999.0000,-999,9,  -999.00,9,  -999.00,   -999.0,9,   -999.0,   1.3510,  27.7674
  49NZ20090410,   P21,   131,  1,     10, X12040,2,20090512,1106,-16.7560,-134.0025, 4296,   3670.4,2,   1.5740,2,   1.57402,2,  34.6868,2,  34.6867,2,   163.78,2,   163.82,2,   129.03,2,     0.40,    35.20,2,     0.13,     0.01,2,     0.01,    2.468,2,    0.016,    0.000,2,    0.000,2,    0.000,2,   -999.0,9,   -999.0,9,-999.0000,-999,9,  -999.00,9,  -999.00,   -999.0,9,   -999.0,   1.2883,  27.7740
  49NZ20090410,   P21,   131,  1,      9, X12009,2,20090512,1106,-16.7560,-134.0025, 4296,   3921.9,2,   1.5374,2,   1.53751,2,  34.6895,2,  34.6891,2,   167.89,2,   167.91,2,   127.96,2,     0.40,    34.84,2,     0.13,     0.01,2,     0.01,    2.451,2,    0.016,    0.000,2,    0.000,2,    0.000,2,   -999.0,9,   -999.0,9,-999.0000,-999,9,  -999.00,9,  -999.00,   -999.0,9,   -999.0,   1.2259,  27.7805
  49NZ20090410,   P21,   131,  1,      8, X12008,2,20090512,1106,-16.7560,-134.0025, 4296,   4170.4,2,   1.5367,2,   1.53666,2,  34.6907,2,  34.6905,2,   169.95,2,   169.99,2,   127.32,2,     0.40,    34.75,2,     0.13,     0.01,2,     0.01,    2.443,2,    0.016,    0.000,2,    0.000,2,    0.000,2,   -999.0,9,   -999.0,9,-999.0000,-999,9,  -999.00,9,  -999.00,   -999.0,9,   -999.0,   1.1980,  27.7834
  49NZ20090410,   P21,   131,  1,      7, X12007,9,20090512,1106,-16.7560,-134.0025, 4296,     10.4,2,  27.7511,2,  27.75042,2,  36.2313,2,-999.0000,9,   198.03,2,  -999.00,9,  -999.00,9,  -999.00,  -999.00,9,  -999.00,  -999.00,9,  -999.00, -999.000,9, -999.000, -999.000,9, -999.000,9, -999.000,9,   -999.0,9,   -999.0,9,-999.0000,-999,9,  -999.00,9,  -999.00,   -999.0,9,   -999.0,  27.7487,  23.4032
  49NZ20090410,   P21,   131,  1,      6, X12035,9,20090512,1106,-16.7560,-134.0025, 4296,   2330.5,2,   1.8979,2,   1.89790,2,  34.6586,2,-999.0000,9,   152.43,2,  -999.00,9,  -999.00,9,  -999.00,  -999.00,9,  -999.00,  -999.00,9,  -999.00, -999.000,9, -999.000, -999.000,9, -999.000,9, -999.000,9,   -999.0,9,   -999.0,9,-999.0000,-999,9,  -999.00,9,  -999.00,   -999.0,9,   -999.0,   1.7346,  27.7187
  49NZ20090410,   P21,   131,  1,      5, X12038,9,20090512,1106,-16.7560,-134.0025, 4296,   2530.7,2,   1.8112,2,   1.81130,2,  34.6648,2,-999.0000,9,   156.59,2,  -999.00,9,  -999.00,9,  -999.00,  -999.00,9,  -999.00,  -999.00,9,  -999.00, -999.000,9, -999.000, -999.000,9, -999.000,9, -999.000,9,   -999.0,9,   -999.0,9,-999.0000,-999,9,  -999.00,9,  -999.00,   -999.0,9,   -999.0,   1.6316,  27.7315
  49NZ20090410,   P21,   131,  1,      4, X12034,9,20090512,1106,-16.7560,-134.0025, 4296,   2729.3,2,   1.7667,2,   1.76686,2,  34.6692,2,-999.0000,9,   158.56,2,  -999.00,9,  -999.00,9,  -999.00,  -999.00,9,  -999.00,  -999.00,9,  -999.00, -999.000,9, -999.000, -999.000,9, -999.000,9, -999.000,9,   -999.0,9,   -999.0,9,-999.0000,-999,9,  -999.00,9,  -999.00,   -999.0,9,   -999.0,   1.5698,  27.7396
  49NZ20090410,   P21,   131,  1,      3, X12033,2,20090512,1106,-16.7560,-134.0025, 4296,   2930.3,2,   1.7227,2,   1.72279,2,  34.6743,2,  34.6737,2,   158.51,2,  -999.00,9,  -999.00,9,  -999.00,  -999.00,9,  -999.00,  -999.00,9,  -999.00, -999.000,9, -999.000, -999.000,9, -999.000,9, -999.000,9,   -999.0,9,   -999.0,9,-999.0000,-999,9,  -999.00,9,  -999.00,   -999.0,9,   -999.0,   1.5077,  27.7482
  49NZ20090410,   P21,   131,  1,      2, X12032,9,20090512,1106,-16.7560,-134.0025, 4296,    871.0,2,   4.9770,2,   4.97708,2,  34.4882,2,-999.0000,9,   113.30,2,  -999.00,9,  -999.00,9,  -999.00,  -999.00,9,  -999.00,  -999.00,9,  -999.00, -999.000,9, -999.000, -999.000,9, -999.000,9, -999.000,9,   -999.0,9,   -999.0,9,-999.0000,-999,9,  -999.00,9,  -999.00,   -999.0,9,   -999.0,   4.9054,  27.2804
  49NZ20090410,   P21,   131,  1,      1, X12046,2,20090512,1106,-16.7560,-134.0025, 4296,   4339.0,2,   1.5427,2,   1.54263,2,  34.6912,2,  34.6908,6,   170.95,2,   170.91,2,   126.80,2,     0.40,    34.71,2,     0.13,     0.01,2,     0.01,    2.434,2,    0.016,    0.000,2,    0.000,2,    0.000,2,   -999.0,9,   -999.0,9,-999.0000,-999,9,  -999.00,9,  -999.00,   -999.0,9,   -999.0,   1.1848,  27.7847