BOTTLE,20220818CCHSIOAMB
EXPOCODE,SECT_ID,STNNBR,CASTNO,SAMPNO,BTLNBR,BTLNBR_FLAG_W,DATE,TIME,LATITUDE,LONGITUDE,DEPTH,CTDPRS,CTDPRS_FLAG_W,CTDTMP,CTDTMP_FLAG_W,SBE35,SBE35_FLAG_W,CTDSAL,CTDSAL_FLAG_W,SALNTY,SALNTY_FLAG_W,CTDOXY,CTDOXY_FLAG_W,OXYGEN,OXYGEN_FLAG_W,SILCAT,SILCAT_FLAG_W,SILUNC,NITRAT,NITRAT_FLAG_W,NRAUNC,NITRIT,NITRIT_FLAG_W,NRIUNC,PHSPHT,PHSPHT_FLAG_W,PHPUNC,CFC-11,CFC-11_FLAG_W,CFC-12,CFC-12_FLAG_W,CFC113,CFC113_FLAG_W,TCARBN,TCARBN_FLAG_W,ALKALI,ALKALI_FLAG_W,PH_TOT,PH_TMP,PH_TOT_FLAG_W,DELC13,DELC13_FLAG_W,C13ERR,DELC14,DELC14_FLAG_W,C14ERR,THETA,SIG0
,,,,,,,,,,,METERS,DBAR,,ITS-90,,ITS-90,,PSS-78,,PSS-78,,UMOL/KG,,UMOL/KG,,UMOL/KG,,UMOL/KG,UMOL/KG,,UMOL/KG,UMOL/KG,,UMOL/KG,UMOL/KG,,UMOL/KG,PMOL/KG,,PMOL/KG,,PMOL/KG,,UMOL/KG,,UMOL/KG,,,DEG C,,/MILLE,,/MILLE,/MILLE,,/MILLE,DEG C,KG/M^3
  49NZ20090410,   P21,   145,  1,     36, X12006,2,20090515,0957,-16.9988,-142.8322, 1546,      9.7,2,  28.1106,2,  28.11018,2,  36.2534,2,  36.2526,2,   195.88,2,   196.36,2,     0.90,2,     0.12,     0.33,2,     0.03,     0.02,2,     0.01,    0.279,2,    0.014,    1.423,2,    0.943,2, -999.000,5,   2024.2,2,   2390.9,2,   8.1321,  25,6,  -999.00,9,  -999.00,   -999.0,9,   -999.0,  28.1083,  23.3020
  49NZ20090410,   P21,   145,  1,     35, X12047,2,20090515,0957,-16.9988,-142.8322, 1546,     49.7,2,  28.1162,2,  28.11566,2,  36.2515,2,  36.2506,2,   195.63,2,   196.39,2,     0.86,2,     0.12,     0.33,2,     0.03,     0.02,2,     0.01,    0.272,2,    0.015,    1.428,2,    0.940,2, -999.000,5,   2024.7,6,   2391.4,2,   8.1317,  25,2,  -999.00,9,  -999.00,   -999.0,9,   -999.0,  28.1044,  23.3018
  49NZ20090410,   P21,   145,  1,     34, X12004,2,20090515,0957,-16.9988,-142.8322, 1546,    100.2,2,  26.1577,2,  26.16474,2,  36.2321,2,  36.2326,2,   190.24,2,   191.03,2,     1.16,2,     0.12,     1.77,2,     0.04,     0.28,2,     0.01,    0.471,2,    0.013,    1.602,6,    1.039,6, -999.000,5,   2063.0,2,   2390.4,6,   8.0704,  25,2,  -999.00,9,  -999.00,   -999.0,9,   -999.0,  26.1351,  23.9208
  49NZ20090410,   P21,   145,  1,     33, X12003,2,20090515,0957,-16.9988,-142.8322, 1546,    149.0,2,  23.5654,2,  23.56188,2,  36.2827,2,  36.2843,2,   179.59,2,   180.20,2,     0.82,2,     0.12,     1.54,2,     0.04,     1.37,2,     0.00,    0.443,2,    0.013,    1.810,2,    1.151,2, -999.000,5,   2091.2,2,   2388.8,2,   8.0210,  25,2,  -999.00,9,  -999.00,   -999.0,9,   -999.0,  23.5343,  24.7508
  49NZ20090410,   P21,   145,  1,     32, X12002,2,20090515,0957,-16.9988,-142.8322, 1546,    200.1,2,  21.5197,2,  21.51731,2,  35.9824,2,  35.9823,2,   177.98,2,   177.99,2,     0.81,2,     0.12,     3.61,2,     0.04,     0.05,2,     0.01,    0.494,2,    0.013,    1.990,2,    1.234,2,    0.104,2,   2097.9,2,   2369.3,2,   7.9809,  25,2,  -999.00,9,  -999.00,   -999.0,9,   -999.0,  21.4805,  25.1097
  49NZ20090410,   P21,   145,  1,     31, X12001,2,20090515,0957,-16.9988,-142.8322, 1546,    249.8,2,  18.8781,2,  18.88577,2,  35.5217,2,  35.5246,6,   176.57,2,   177.66,2,     1.08,2,     0.12,     5.13,2,     0.05,     0.02,2,     0.01,    0.598,2,    0.013,    2.254,2,    1.346,2,    0.038,2,   2100.5,2,   2340.3,2,   7.9323,  25,2,  -999.00,9,  -999.00,   -999.0,9,   -999.0,  18.8336,  25.4625
  49NZ20090410,   P21,   145,  1,     30, X12030,2,20090515,0957,-16.9988,-142.8322, 1546,    329.4,2,  13.7417,2,  13.74065,2,  34.7860,2,  34.7723,2,   137.70,2,   139.03,2,     5.74,2,     0.13,    14.56,2,     0.07,     0.02,2,     0.01,    1.331,2,    0.014,    2.335,2,    1.256,2,    0.024,2,   2146.5,2,   2294.7,2,   7.7510,  25,2,  -999.00,9,  -999.00,   -999.0,9,   -999.0,  13.6946,  26.0855
  49NZ20090410,   P21,   145,  1,     29, X12044,2,20090515,0957,-16.9988,-142.8322, 1546,    429.1,2,   9.4729,2,   9.49360,2,  34.5091,2,  34.5129,2,   118.72,2,   118.07,2,    13.62,2,     0.15,    25.30,2,     0.10,     0.01,2,     0.01,    1.996,2,    0.015,    1.339,2,    0.699,2,    0.030,2,   2194.0,2,   2283.8,2,   7.6063,  25,2,  -999.00,9,  -999.00,   -999.0,9,   -999.0,   9.4245,  26.6649
  49NZ20090410,   P21,   145,  1,     28, X12048,2,20090515,0957,-16.9988,-142.8322, 1546,    529.5,2,   7.2230,2,   7.23148,2,  34.4632,2,  34.4622,6,   122.86,2,   122.62,2,    24.01,2,     0.17,    31.50,2,     0.12,     0.01,2,     0.01,    2.284,2,    0.016,    0.501,2,    0.265,2,    0.000,2,   2214.7,2,   2292.4,2,   7.5676,  25,2,  -999.00,9,  -999.00,   -999.0,9,   -999.0,   7.1718,  26.9720
  49NZ20090410,   P21,   145,  1,     27, X12027,2,20090515,0957,-16.9988,-142.8322, 1546,    630.7,2,   6.1758,2,   6.17611,2,  34.4646,2,  34.4642,2,   133.74,2,   133.78,2,    34.46,2,     0.19,    32.84,2,     0.12,     0.01,2,     0.01,    2.335,2,    0.016,    0.248,6,    0.137,6,    0.000,6,   2222.5,2,   2303.8,2,   7.5776,  25,2,  -999.00,9,  -999.00,   -999.0,9,   -999.0,   6.1193,  27.1144
  49NZ20090410,   P21,   145,  1,     26, X12026,2,20090515,0957,-16.9988,-142.8322, 1546,    729.4,2,   5.6728,2,   5.67217,2,  34.4690,2,  34.4684,2,   138.23,2,   138.31,2,    40.82,2,     0.21,    33.37,2,     0.13,     0.01,2,     0.01,    2.358,2,    0.016,    0.159,2,    0.090,2,    0.000,2,   2227.9,6,   2310.5,2,   7.5815,  25,2,  -999.00,9,  -999.00,   -999.0,9,   -999.0,   5.6098,  27.1817
  49NZ20090410,   P21,   145,  1,     25, X12025,2,20090515,0957,-16.9988,-142.8322, 1546,    828.7,2,   4.9353,2,   4.93318,2,  34.4826,2,  34.4826,2,   137.16,2,   137.20,2,    52.54,2,     0.23,    34.63,2,     0.13,     0.01,2,     0.01,    2.448,2,    0.016,    0.077,2,    0.045,2,    0.010,2,   2242.7,2,   2323.2,6,   7.5721,  25,2,  -999.00,9,  -999.00,   -999.0,9,   -999.0,   4.8677,  27.2802
  49NZ20090410,   P21,   145,  1,     24, X12024,2,20090515,0957,-16.9988,-142.8322, 1546,    930.6,2,   4.3622,2,   4.36234,2,  34.5017,2,  34.4997,3,   134.67,2,   135.58,2,    62.75,2,     0.26,    35.46,2,     0.13,     0.01,2,     0.01,    2.503,2,    0.016,    0.040,2,    0.023,2,    0.000,2,   2255.6,2,   2333.9,2,   7.5650,  25,6,  -999.00,9,  -999.00,   -999.0,9,   -999.0,   4.2897,  27.3593
  49NZ20090410,   P21,   145,  1,     23, X12028,2,20090515,0957,-16.9988,-142.8322, 1546,   1072.6,2,   3.9214,2,   3.92159,2,  34.5174,2,  34.5173,6,   138.52,2,   138.51,2,    70.88,2,     0.27,    35.55,2,     0.13,     0.02,2,     0.01,    2.530,2,    0.016,    0.021,2,    0.013,2,    0.000,2,   2262.4,2,   2343.3,2,   7.5670,  25,2,  -999.00,9,  -999.00,   -999.0,9,   -999.0,   3.8403,  27.4187
  49NZ20090410,   P21,   145,  1,     22, X12022,2,20090515,0957,-16.9988,-142.8322, 1546,   1270.7,2,   3.2011,2,   3.20096,2,  34.5533,2,  34.5545,2,   144.00,2,   143.95,2,    85.35,2,     0.31,    35.79,2,     0.13,     0.02,2,     0.01,    2.529,2,    0.016,    0.005,2,    0.004,2,    0.000,2,   2276.5,2,   2358.1,2,   7.5725,  25,2,  -999.00,9,  -999.00,   -999.0,9,   -999.0,   3.1101,  27.5183
  49NZ20090410,   P21,   145,  1,     21, X12021,9,20090515,0957,-16.9988,-142.8322, 1546,     10.1,2,  28.1572,2,  28.14667,2,  36.2554,2,-999.0000,9,   195.84,2,  -999.00,9,  -999.00,9,  -999.00,  -999.00,9,  -999.00,  -999.00,9,  -999.00, -999.000,9, -999.000, -999.000,9, -999.000,9, -999.000,9,   -999.0,9,   -999.0,9,-999.0000,-999,9,  -999.00,9,  -999.00,   -999.0,9,   -999.0,  28.1548,  23.2881
  49NZ20090410,   P21,   145,  1,     20, X12020,9,20090515,0957,-16.9988,-142.8322, 1546,    630.5,2,   6.1759,2,   6.17518,2,  34.4648,2,-999.0000,9,   133.76,2,  -999.00,9,  -999.00,9,  -999.00,  -999.00,9,  -999.00,  -999.00,9,  -999.00, -999.000,9, -999.000, -999.000,9, -999.000,9, -999.000,9,   -999.0,9,   -999.0,9,-999.0000,-999,9,  -999.00,9,  -999.00,   -999.0,9,   -999.0,   6.1194,  27.1145
  49NZ20090410,   P21,   145,  1,     19, X12019,9,20090515,0957,-16.9988,-142.8322, 1546,    729.4,2,   5.6717,2,   5.67164,2,  34.4690,2,-999.0000,9,   138.32,2,  -999.00,9,  -999.00,9,  -999.00,  -999.00,9,  -999.00,  -999.00,9,  -999.00, -999.000,9, -999.000, -999.000,9, -999.000,9, -999.000,9,   -999.0,9,   -999.0,9,-999.0000,-999,9,  -999.00,9,  -999.00,   -999.0,9,   -999.0,   5.6087,  27.1819
  49NZ20090410,   P21,   145,  1,     18, X12043,9,20090515,0957,-16.9988,-142.8322, 1546,    828.9,2,   4.9345,2,   4.93451,2,  34.4826,2,-999.0000,9,   137.23,2,  -999.00,9,  -999.00,9,  -999.00,  -999.00,9,  -999.00,  -999.00,9,  -999.00, -999.000,9, -999.000, -999.000,9, -999.000,9, -999.000,9,   -999.0,9,   -999.0,9,-999.0000,-999,9,  -999.00,9,  -999.00,   -999.0,9,   -999.0,   4.8669,  27.2803
  49NZ20090410,   P21,   145,  1,     17, X12042,9,20090515,0957,-16.9988,-142.8322, 1546,    929.3,2,   4.3682,2,   4.36737,2,  34.5006,2,-999.0000,9,   135.40,2,  -999.00,9,  -999.00,9,  -999.00,  -999.00,9,  -999.00,  -999.00,9,  -999.00, -999.000,9, -999.000, -999.000,9, -999.000,9, -999.000,9,   -999.0,9,   -999.0,9,-999.0000,-999,9,  -999.00,9,  -999.00,   -999.0,9,   -999.0,   4.2958,  27.3577
  49NZ20090410,   P21,   145,  1,     16, X12016,9,20090515,0957,-16.9988,-142.8322, 1546,   1072.6,2,   3.9219,2,   3.92200,2,  34.5174,2,-999.0000,9,   138.54,2,  -999.00,9,  -999.00,9,  -999.00,  -999.00,9,  -999.00,  -999.00,9,  -999.00, -999.000,9, -999.000, -999.000,9, -999.000,9, -999.000,9,   -999.0,9,   -999.0,9,-999.0000,-999,9,  -999.00,9,  -999.00,   -999.0,9,   -999.0,   3.8408,  27.4186
  49NZ20090410,   P21,   145,  1,     15, X12015,9,20090515,0957,-16.9988,-142.8322, 1546,   1271.3,2,   3.1923,2,   3.19348,2,  34.5538,2,-999.0000,9,   144.07,2,  -999.00,9,  -999.00,9,  -999.00,  -999.00,9,  -999.00,  -999.00,9,  -999.00, -999.000,9, -999.000, -999.000,9, -999.000,9, -999.000,9,   -999.0,9,   -999.0,9,-999.0000,-999,9,  -999.00,9,  -999.00,   -999.0,9,   -999.0,   3.1013,  27.5196
  49NZ20090410,   P21,   145,  1,     14, X12050,9,20090515,0957,-16.9988,-142.8322, 1546,     10.0,2,  28.1130,2,  28.11205,2,  36.2534,2,-999.0000,9,   195.95,2,  -999.00,9,  -999.00,9,  -999.00,  -999.00,9,  -999.00,  -999.00,9,  -999.00, -999.000,9, -999.000, -999.000,9, -999.000,9, -999.000,9,   -999.0,9,   -999.0,9,-999.0000,-999,9,  -999.00,9,  -999.00,   -999.0,9,   -999.0,  28.1106,  23.3012
  49NZ20090410,   P21,   145,  1,     13, X12014,2,20090515,0957,-16.9988,-142.8322, 1546,   1490.3,2,   2.7700,2,   2.76951,2,  34.5825,2,  34.5829,2,   147.32,2,  -999.00,9,  -999.00,9,  -999.00,  -999.00,9,  -999.00,  -999.00,9,  -999.00, -999.000,9, -999.000, -999.000,9, -999.000,9, -999.000,9,   -999.0,9,   -999.0,9,-999.0000,-999,9,  -999.00,9,  -999.00,   -999.0,9,   -999.0,   2.6656,  27.5818
  49NZ20090410,   P21,   145,  1,     12, X12012,9,20090515,0957,-16.9988,-142.8322, 1546,     99.7,2,  26.2286,2,  26.24126,2,  36.2315,2,-999.0000,9,   190.80,2,  -999.00,9,  -999.00,9,  -999.00,  -999.00,9,  -999.00,  -999.00,9,  -999.00, -999.000,9, -999.000, -999.000,9, -999.000,9, -999.000,9,   -999.0,9,   -999.0,9,-999.0000,-999,9,  -999.00,9,  -999.00,   -999.0,9,   -999.0,  26.2061,  23.8981
  49NZ20090410,   P21,   145,  1,     11, X12041,9,20090515,0957,-16.9988,-142.8322, 1546,    150.1,2,  23.5508,2,  23.54786,2,  36.2824,2,-999.0000,9,   180.19,2,  -999.00,9,  -999.00,9,  -999.00,  -999.00,9,  -999.00,  -999.00,9,  -999.00, -999.000,9, -999.000, -999.000,9, -999.000,9, -999.000,9,   -999.0,9,   -999.0,9,-999.0000,-999,9,  -999.00,9,  -999.00,   -999.0,9,   -999.0,  23.5194,  24.7549
  49NZ20090410,   P21,   145,  1,     10, X12040,9,20090515,0957,-16.9988,-142.8322, 1546,    200.4,2,  21.5055,2,  21.50204,2,  35.9797,2,-999.0000,9,   178.08,2,  -999.00,9,  -999.00,9,  -999.00,  -999.00,9,  -999.00,  -999.00,9,  -999.00, -999.000,9, -999.000, -999.000,9, -999.000,9, -999.000,9,   -999.0,9,   -999.0,9,-999.0000,-999,9,  -999.00,9,  -999.00,   -999.0,9,   -999.0,  21.4663,  25.1116
  49NZ20090410,   P21,   145,  1,      9, X12009,9,20090515,0957,-16.9988,-142.8322, 1546,    250.4,2,  18.8744,2,  18.87769,2,  35.5202,2,-999.0000,9,   177.63,2,  -999.00,9,  -999.00,9,  -999.00,  -999.00,9,  -999.00,  -999.00,9,  -999.00, -999.000,9, -999.000, -999.000,9, -999.000,9, -999.000,9,   -999.0,9,   -999.0,9,-999.0000,-999,9,  -999.00,9,  -999.00,   -999.0,9,   -999.0,  18.8298,  25.4623
  49NZ20090410,   P21,   145,  1,      8, X12008,9,20090515,0957,-16.9988,-142.8322, 1546,    329.1,2,  13.7245,2,  13.73161,2,  34.7891,2,-999.0000,9,   139.49,2,  -999.00,9,  -999.00,9,  -999.00,  -999.00,9,  -999.00,  -999.00,9,  -999.00, -999.000,9, -999.000, -999.000,9, -999.000,9, -999.000,9,   -999.0,9,   -999.0,9,-999.0000,-999,9,  -999.00,9,  -999.00,   -999.0,9,   -999.0,  13.6774,  26.0914
  49NZ20090410,   P21,   145,  1,      7, X12007,9,20090515,0957,-16.9988,-142.8322, 1546,    430.1,2,   9.5868,2,   9.59205,2,  34.5140,2,-999.0000,9,   118.07,2,  -999.00,9,  -999.00,9,  -999.00,  -999.00,9,  -999.00,  -999.00,9,  -999.00, -999.000,9, -999.000, -999.000,9, -999.000,9, -999.000,9,   -999.0,9,   -999.0,9,-999.0000,-999,9,  -999.00,9,  -999.00,   -999.0,9,   -999.0,   9.5379,  26.6500
  49NZ20090410,   P21,   145,  1,      6, X12035,9,20090515,0957,-16.9988,-142.8322, 1546,    529.2,2,   7.2325,2,   7.23453,2,  34.4626,2,-999.0000,9,   122.86,2,  -999.00,9,  -999.00,9,  -999.00,  -999.00,9,  -999.00,  -999.00,9,  -999.00, -999.000,9, -999.000, -999.000,9, -999.000,9, -999.000,9,   -999.0,9,   -999.0,9,-999.0000,-999,9,  -999.00,9,  -999.00,   -999.0,9,   -999.0,   7.1813,  26.9702
  49NZ20090410,   P21,   145,  1,      5, X12038,9,20090515,0957,-16.9988,-142.8322, 1546,    729.6,2,   5.6673,2,   5.66823,2,  34.4691,2,-999.0000,9,   138.27,2,  -999.00,9,  -999.00,9,  -999.00,  -999.00,9,  -999.00,  -999.00,9,  -999.00, -999.000,9, -999.000, -999.000,9, -999.000,9, -999.000,9,   -999.0,9,   -999.0,9,-999.0000,-999,9,  -999.00,9,  -999.00,   -999.0,9,   -999.0,   5.6043,  27.1825
  49NZ20090410,   P21,   145,  1,      4, X12034,9,20090515,0957,-16.9988,-142.8322, 1546,   1072.9,2,   3.9217,2,   3.92172,2,  34.5174,2,-999.0000,9,   138.56,2,  -999.00,9,  -999.00,9,  -999.00,  -999.00,9,  -999.00,  -999.00,9,  -999.00, -999.000,9, -999.000, -999.000,9, -999.000,9, -999.000,9,   -999.0,9,   -999.0,9,-999.0000,-999,9,  -999.00,9,  -999.00,   -999.0,9,   -999.0,   3.8406,  27.4186
  49NZ20090410,   P21,   145,  1,      3, X12033,9,20090515,0957,-16.9988,-142.8322, 1546,     50.0,2,  28.1167,2,  28.11506,2,  36.2516,2,-999.0000,9,   195.66,2,  -999.00,9,  -999.00,9,  -999.00,  -999.00,9,  -999.00,  -999.00,9,  -999.00, -999.000,9, -999.000, -999.000,9, -999.000,9, -999.000,9,   -999.0,9,   -999.0,9,-999.0000,-999,9,  -999.00,9,  -999.00,   -999.0,9,   -999.0,  28.1048,  23.3018
  49NZ20090410,   P21,   145,  1,      2, X12032,9,20090515,0957,-16.9988,-142.8322, 1546,   1490.2,2,   2.7718,2,   2.77071,2,  34.5824,2,-999.0000,9,   147.28,2,  -999.00,9,  -999.00,9,  -999.00,  -999.00,9,  -999.00,  -999.00,9,  -999.00, -999.000,9, -999.000, -999.000,9, -999.000,9, -999.000,9,   -999.0,9,   -999.0,9,-999.0000,-999,9,  -999.00,9,  -999.00,   -999.0,9,   -999.0,   2.6674,  27.5815
  49NZ20090410,   P21,   145,  1,      1, X12046,2,20090515,0957,-16.9988,-142.8322, 1546,   1490.6,2,   2.7745,2,   2.77483,2,  34.5821,2,  34.5825,6,   147.32,2,   146.92,2,    94.96,2,     0.33,    35.85,2,     0.13,     0.01,2,     0.01,    2.527,2,    0.016,    0.001,2,    0.000,2,    0.000,2,   2285.2,2,   2368.4,2,   7.5759,  25,2,  -999.00,9,  -999.00,   -999.0,9,   -999.0,   2.6700,  27.5811