BOTTLE,20220818CCHSIOAMB
EXPOCODE,SECT_ID,STNNBR,CASTNO,SAMPNO,BTLNBR,BTLNBR_FLAG_W,DATE,TIME,LATITUDE,LONGITUDE,DEPTH,CTDPRS,CTDPRS_FLAG_W,CTDTMP,CTDTMP_FLAG_W,SBE35,SBE35_FLAG_W,CTDSAL,CTDSAL_FLAG_W,SALNTY,SALNTY_FLAG_W,CTDOXY,CTDOXY_FLAG_W,OXYGEN,OXYGEN_FLAG_W,SILCAT,SILCAT_FLAG_W,SILUNC,NITRAT,NITRAT_FLAG_W,NRAUNC,NITRIT,NITRIT_FLAG_W,NRIUNC,PHSPHT,PHSPHT_FLAG_W,PHPUNC,CFC-11,CFC-11_FLAG_W,CFC-12,CFC-12_FLAG_W,CFC113,CFC113_FLAG_W,TCARBN,TCARBN_FLAG_W,ALKALI,ALKALI_FLAG_W,PH_TOT,PH_TMP,PH_TOT_FLAG_W,DELC13,DELC13_FLAG_W,C13ERR,DELC14,DELC14_FLAG_W,C14ERR,THETA,SIG0
,,,,,,,,,,,METERS,DBAR,,ITS-90,,ITS-90,,PSS-78,,PSS-78,,UMOL/KG,,UMOL/KG,,UMOL/KG,,UMOL/KG,UMOL/KG,,UMOL/KG,UMOL/KG,,UMOL/KG,UMOL/KG,,UMOL/KG,PMOL/KG,,PMOL/KG,,PMOL/KG,,UMOL/KG,,UMOL/KG,,,DEG C,,/MILLE,,/MILLE,/MILLE,,/MILLE,DEG C,KG/M^3
  49NZ20090410,   P21,    69,  1,     36, X12006,2,20090429,0413,-16.7478, -98.0010, 4193,     10.2,2,  24.6167,2,  24.61632,2,  35.9511,2,  35.9506,2,   210.73,2,   209.49,2,     0.54,2,     0.12,     0.30,2,     0.03,     0.02,2,     0.01,    0.400,2,    0.013,    1.660,2,    1.058,2, -999.000,5,   -999.0,9,   -999.0,9,-999.0000,-999,9,  -999.00,9,  -999.00,   -999.0,9,   -999.0,  24.6145,  24.1773
  49NZ20090410,   P21,    69,  1,     35, X12047,2,20090429,0413,-16.7478, -98.0010, 4193,     50.0,2,  24.3837,2,  24.38289,2,  35.9457,2,  35.9466,2,   210.56,2,   209.92,2,     0.28,2,     0.12,     0.08,2,     0.03,     0.02,2,     0.01,    0.396,2,    0.013,    1.677,2,    1.072,2, -999.000,5,   -999.0,9,   -999.0,9,-999.0000,-999,9,  -999.00,9,  -999.00,   -999.0,9,   -999.0,  24.3730,  24.2460
  49NZ20090410,   P21,    69,  1,     34, X12004,2,20090429,0413,-16.7478, -98.0010, 4193,     99.8,2,  19.1637,2,  19.16802,2,  35.3663,2,  35.3685,2,   220.51,2,   221.57,2,     1.02,2,     0.12,     2.13,2,     0.04,     0.45,2,     0.00,    0.708,2,    0.013,    2.217,6,    1.368,6, -999.000,5,   -999.0,9,   -999.0,9,-999.0000,-999,9,  -999.00,9,  -999.00,   -999.0,9,   -999.0,  19.1458,  25.2638
  49NZ20090410,   P21,    69,  1,     33, X12003,2,20090429,0413,-16.7478, -98.0010, 4193,    149.6,2,  17.2929,2,  17.30448,2,  35.1169,2,  35.1189,2,   196.80,2,   196.85,2,     1.96,2,     0.12,     9.34,2,     0.06,     0.04,2,     0.01,    1.073,2,    0.013,    2.381,2,    1.455,2,    0.203,2,   -999.0,9,   -999.0,9,-999.0000,-999,9,  -999.00,9,  -999.00,   -999.0,9,   -999.0,  17.2679,  25.5399
  49NZ20090410,   P21,    69,  1,     32, X12002,2,20090429,0413,-16.7478, -98.0010, 4193,    199.7,2,  13.7665,2,  13.75382,2,  34.6842,2,  34.6796,2,   138.47,2,   135.87,2,     6.25,2,     0.13,    16.71,2,     0.08,     0.02,2,     0.01,    1.642,2,    0.014,    2.466,2,    1.419,2,    0.083,2,   -999.0,9,   -999.0,9,-999.0000,-999,9,  -999.00,9,  -999.00,   -999.0,9,   -999.0,  13.7380,  25.9977
  49NZ20090410,   P21,    69,  1,     31, X12001,2,20090429,0413,-16.7478, -98.0010, 4193,    249.6,2,  11.6438,2,  11.64645,2,  34.5992,2,  34.5975,6,    50.88,2,    50.64,2,    16.33,2,     0.15,    22.95,2,     0.10,     0.01,2,     0.01,    2.366,2,    0.016,    1.606,2,    0.864,2,    0.028,2,   -999.0,9,   -999.0,9,-999.0000,-999,9,  -999.00,9,  -999.00,   -999.0,9,   -999.0,  11.6119,  26.3510
  49NZ20090410,   P21,    69,  1,     30, X12030,2,20090429,0413,-16.7478, -98.0010, 4193,    299.5,2,  10.2139,2,  10.21488,2,  34.5735,2,  34.5736,2,    42.05,2,    41.59,2,    19.40,2,     0.16,    28.45,2,     0.11,     0.01,2,     0.01,    2.539,2,    0.016,    1.015,2,    0.529,2,    0.011,2,   -999.0,9,   -999.0,9,-999.0000,-999,9,  -999.00,9,  -999.00,   -999.0,9,   -999.0,  10.1787,  26.5883
  49NZ20090410,   P21,    69,  1,     29, X12044,2,20090429,0413,-16.7478, -98.0010, 4193,    401.7,2,   8.3480,2,   8.34855,2,  34.5670,2,  34.5660,2,    33.23,2,    32.99,2,    27.20,2,     0.18,    37.29,2,     0.14,     0.01,2,     0.01,    2.753,2,    0.017,    0.212,2,    0.113,2,    0.000,2,   -999.0,9,   -999.0,9,-999.0000,-999,9,  -999.00,9,  -999.00,   -999.0,9,   -999.0,   8.3060,  26.8876
  49NZ20090410,   P21,    69,  1,     28, X12048,2,20090429,0413,-16.7478, -98.0010, 4193,    499.9,2,   7.1249,2,   7.12555,2,  34.5184,2,  34.5172,6,    52.19,2,    52.07,2,    32.13,2,     0.19,    39.46,2,     0.14,     0.01,2,     0.01,    2.782,2,    0.017,    0.104,2,    0.055,2,    0.000,2,   -999.0,9,   -999.0,9,-999.0000,-999,9,  -999.00,9,  -999.00,   -999.0,9,   -999.0,   7.0769,  27.0287
  49NZ20090410,   P21,    69,  1,     27, X12027,2,20090429,0413,-16.7478, -98.0010, 4193,    599.9,2,   6.4576,2,   6.45824,2,  34.5181,2,  34.5172,2,    44.56,2,    44.41,2,    40.97,2,     0.21,    41.83,2,     0.15,     0.01,2,     0.01,    2.944,2,    0.017,    0.020,6,    0.010,6,    0.000,6,   -999.0,9,   -999.0,9,-999.0000,-999,9,  -999.00,9,  -999.00,   -999.0,9,   -999.0,   6.4027,  27.1198
  49NZ20090410,   P21,    69,  1,     26, X12026,2,20090429,0413,-16.7478, -98.0010, 4193,    698.5,2,   5.7878,2,   5.78770,2,  34.5060,2,  34.5052,2,    46.34,2,    46.29,2,    49.01,2,     0.23,    43.01,2,     0.15,     0.01,2,     0.01,    3.039,2,    0.018,    0.005,2,    0.002,2,    0.000,2,   -999.0,9,   -999.0,9,-999.0000,-999,9,  -999.00,9,  -999.00,   -999.0,9,   -999.0,   5.7269,  27.1966
  49NZ20090410,   P21,    69,  1,     25, X12025,2,20090429,0413,-16.7478, -98.0010, 4193,    799.0,2,   5.1968,2,   5.19685,2,  34.4961,2,  34.4965,2,    62.30,2,    61.71,2,    55.44,2,     0.24,    42.42,2,     0.15,     0.01,2,     0.01,    3.002,2,    0.017,    0.003,2,    0.000,2,    0.000,2,   -999.0,9,   -999.0,9,-999.0000,-999,9,  -999.00,9,  -999.00,   -999.0,9,   -999.0,   5.1302,  27.2606
  49NZ20090410,   P21,    69,  1,     24, X12024,2,20090429,0413,-16.7478, -98.0010, 4193,    899.2,2,   4.7875,2,   4.78763,2,  34.5143,2,  34.5141,2,    56.52,2,    56.37,2,    66.00,2,     0.26,    43.41,2,     0.15,     0.01,2,     0.01,    3.086,2,    0.018,    0.002,2,    0.000,2,    0.000,2,   -999.0,9,   -999.0,9,-999.0000,-999,9,  -999.00,9,  -999.00,   -999.0,9,   -999.0,   4.7147,  27.3226
  49NZ20090410,   P21,    69,  1,     23, X12028,2,20090429,0413,-16.7478, -98.0010, 4193,    999.3,2,   4.3814,2,   4.38204,2,  34.5272,2,  34.5271,6,    63.19,2,    63.09,2,    74.76,2,     0.28,    42.90,2,     0.15,     0.01,2,     0.01,    3.076,2,    0.018,    0.001,2,    0.000,2,    0.000,2,   -999.0,9,   -999.0,9,-999.0000,-999,9,  -999.00,9,  -999.00,   -999.0,9,   -999.0,   4.3028,  27.3781
  49NZ20090410,   P21,    69,  1,     22, X12022,2,20090429,0413,-16.7478, -98.0010, 4193,   1199.4,2,   3.7020,2,   3.70193,2,  34.5524,2,  34.5527,2,    76.95,2,    77.22,2,    89.56,2,     0.32,    41.86,2,     0.15,     0.01,2,     0.01,    3.018,2,    0.017,    0.003,2,    0.000,2,    0.000,2,   -999.0,9,   -999.0,9,-999.0000,-999,9,  -999.00,9,  -999.00,   -999.0,9,   -999.0,   3.6121,  27.4694
  49NZ20090410,   P21,    69,  1,     21, X12021,2,20090429,0413,-16.7478, -98.0010, 4193,   1399.7,2,   3.1789,2,   3.17898,2,  34.5777,2,  34.5780,2,    89.30,2,    89.32,2,   101.48,2,     0.34,    40.91,2,     0.15,     0.01,2,     0.01,    2.943,2,    0.017,    0.001,2,    0.001,2,    0.000,2,   -999.0,9,   -999.0,9,-999.0000,-999,9,  -999.00,9,  -999.00,   -999.0,9,   -999.0,   3.0774,  27.5409
  49NZ20090410,   P21,    69,  1,     20, X12020,2,20090429,0413,-16.7478, -98.0010, 4193,   1599.8,2,   2.7908,2,   2.79134,2,  34.6011,2,  34.6013,2,    99.22,2,    99.39,2,   110.59,2,     0.36,    40.01,2,     0.14,     0.01,2,     0.01,    2.869,2,    0.017,    0.002,2,    0.000,2,    0.000,2,   -999.0,9,   -999.0,9,-999.0000,-999,9,  -999.00,9,  -999.00,   -999.0,9,   -999.0,   2.6771,  27.5956
  49NZ20090410,   P21,    69,  1,     19, X12019,2,20090429,0413,-16.7478, -98.0010, 4193,   1799.1,2,   2.5028,2,   2.50281,2,  34.6214,2,  34.6216,2,   107.28,2,   107.32,2,   118.36,2,     0.38,    39.27,2,     0.14,     0.01,2,     0.01,    2.810,2,    0.017,    0.001,2,    0.000,2,    0.000,2,   -999.0,9,   -999.0,9,-999.0000,-999,9,  -999.00,9,  -999.00,   -999.0,9,   -999.0,   2.3760,  27.6377
  49NZ20090410,   P21,    69,  1,     18, X12043,2,20090429,0413,-16.7478, -98.0010, 4193,   1999.3,2,   2.2613,2,   2.26114,2,  34.6374,2,  34.6379,6,   120.32,2,   120.36,2,   121.35,2,     0.39,    38.21,2,     0.14,     0.01,2,     0.01,    2.713,2,    0.017, -999.000,9, -999.000,9, -999.000,9,   -999.0,9,   -999.0,9,-999.0000,-999,9,  -999.00,9,  -999.00,   -999.0,9,   -999.0,   2.1209,  27.6715
  49NZ20090410,   P21,    69,  1,     17, X12042,2,20090429,0413,-16.7478, -98.0010, 4193,   2198.9,2,   2.0247,2,   2.02470,2,  34.6528,2,  34.6530,2,   139.74,2,   139.68,2,   119.64,2,     0.38,    36.75,2,     0.14,     0.01,2,     0.01,    2.586,2,    0.016, -999.000,9, -999.000,9, -999.000,9,   -999.0,9,   -999.0,9,-999.0000,-999,9,  -999.00,9,  -999.00,   -999.0,9,   -999.0,   1.8708,  27.7036
  49NZ20090410,   P21,    69,  1,     16, X12016,2,20090429,0413,-16.7478, -98.0010, 4193,   2401.1,2,   1.8807,2,   1.88054,2,  34.6651,2,  34.6654,2,   149.70,2,   149.80,2,   120.15,2,     0.38,    35.82,2,     0.13,     0.01,2,     0.01,    2.519,2,    0.016,    0.003,2,    0.001,2,    0.000,2,   -999.0,9,   -999.0,9,-999.0000,-999,9,  -999.00,9,  -999.00,   -999.0,9,   -999.0,   1.7115,  27.7257
  49NZ20090410,   P21,    69,  1,     15, X12015,9,20090429,0413,-16.7478, -98.0010, 4193,   2599.2,2,   1.8321,2,   1.83212,2,  34.6721,2,-999.0000,9,   151.24,2,  -999.00,9,  -999.00,9,  -999.00,  -999.00,9,  -999.00,  -999.00,9,  -999.00, -999.000,9, -999.000, -999.000,9, -999.000,9, -999.000,9,   -999.0,9,   -999.0,9,-999.0000,-999,9,  -999.00,9,  -999.00,   -999.0,9,   -999.0,   1.6459,  27.7363
  49NZ20090410,   P21,    69,  1,     14, X12050,2,20090429,0413,-16.7478, -98.0010, 4193,   2802.3,2,   1.8086,2,   1.80859,2,  34.6769,2,  34.6768,2,   149.06,2,   148.99,2,   126.23,2,     0.40,    35.87,2,     0.13,     0.01,2,     0.01,    2.518,2,    0.016, -999.000,9, -999.000,9, -999.000,9,   -999.0,9,   -999.0,9,-999.0000,-999,9,  -999.00,9,  -999.00,   -999.0,9,   -999.0,   1.6039,  27.7432
  49NZ20090410,   P21,    69,  1,     13, X12013,7,20090429,0413,-16.7478, -98.0010, 4193,   3000.6,2,   1.7996,2,   1.79944,2,  34.6789,2,  34.6797,2,   145.72,2,   145.56,2,   130.41,2,     0.41,    36.23,2,     0.13,     0.01,2,     0.01,    2.540,2,    0.016,    0.003,2,    0.001,2,    0.000,2,   -999.0,9,   -999.0,9,-999.0000,-999,9,  -999.00,9,  -999.00,   -999.0,9,   -999.0,   1.5761,  27.7469
  49NZ20090410,   P21,    69,  1,     12, X12012,2,20090429,0413,-16.7478, -98.0010, 4193,   3250.2,2,   1.8041,2,   1.80402,2,  34.6807,2,  34.6806,6,   145.74,2,   145.62,2,   131.06,2,     0.41,    36.24,2,     0.13,     0.01,2,     0.01,    2.545,2,    0.016, -999.000,9, -999.000,9, -999.000,9,   -999.0,9,   -999.0,9,-999.0000,-999,9,  -999.00,9,  -999.00,   -999.0,9,   -999.0,   1.5559,  27.7498
  49NZ20090410,   P21,    69,  1,     11, X12041,2,20090429,0413,-16.7478, -98.0010, 4193,   3498.5,2,   1.8076,2,   1.80744,2,  34.6834,2,  34.6834,2,   147.57,2,   147.45,2,   129.42,2,     0.40,    36.15,2,     0.13,     0.01,2,     0.01,    2.533,2,    0.016, -999.000,9, -999.000,9, -999.000,9,   -999.0,9,   -999.0,9,-999.0000,-999,9,  -999.00,9,  -999.00,   -999.0,9,   -999.0,   1.5339,  27.7536
  49NZ20090410,   P21,    69,  1,     10, X12040,2,20090429,0413,-16.7478, -98.0010, 4193,   3750.5,2,   1.8217,2,   1.82168,2,  34.6849,2,  34.6850,2,   148.36,2,   148.35,2,   128.65,2,     0.40,    36.00,2,     0.13,     0.01,2,     0.01,    2.529,2,    0.016,    0.001,2,    0.002,2,    0.000,2,   -999.0,9,   -999.0,9,-999.0000,-999,9,  -999.00,9,  -999.00,   -999.0,9,   -999.0,   1.5210,  27.7558
  49NZ20090410,   P21,    69,  1,      9, X12009,2,20090429,0413,-16.7478, -98.0010, 4193,   3999.4,2,   1.8372,2,   1.83716,2,  34.6859,2,  34.6858,2,   148.87,2,   148.83,2,   128.50,2,     0.40,    36.04,2,     0.13,     0.01,2,     0.01,    2.522,2,    0.016,    0.001,2,    0.000,2,    0.000,2,   -999.0,9,   -999.0,9,-999.0000,-999,9,  -999.00,9,  -999.00,   -999.0,9,   -999.0,   1.5089,  27.7574
  49NZ20090410,   P21,    69,  1,      8, X12008,9,20090429,0413,-16.7478, -98.0010, 4193,      9.8,2,  24.6152,2,  24.61501,2,  35.9512,2,-999.0000,9,   210.68,2,  -999.00,9,  -999.00,9,  -999.00,  -999.00,9,  -999.00,  -999.00,9,  -999.00, -999.000,9, -999.000, -999.000,9, -999.000,9, -999.000,9,   -999.0,9,   -999.0,9,-999.0000,-999,9,  -999.00,9,  -999.00,   -999.0,9,   -999.0,  24.6131,  24.1778
  49NZ20090410,   P21,    69,  1,      7, X12007,9,20090429,0413,-16.7478, -98.0010, 4193,     49.6,2,  24.3783,2,  24.37743,2,  35.9463,2,-999.0000,9,   210.48,2,  -999.00,9,  -999.00,9,  -999.00,  -999.00,9,  -999.00,  -999.00,9,  -999.00, -999.000,9, -999.000, -999.000,9, -999.000,9, -999.000,9,   -999.0,9,   -999.0,9,-999.0000,-999,9,  -999.00,9,  -999.00,   -999.0,9,   -999.0,  24.3677,  24.2480
  49NZ20090410,   P21,    69,  1,      6, X12035,9,20090429,0413,-16.7478, -98.0010, 4193,    100.0,2,  19.1654,2,  19.16178,2,  35.3689,2,-999.0000,9,   220.47,2,  -999.00,9,  -999.00,9,  -999.00,  -999.00,9,  -999.00,  -999.00,9,  -999.00, -999.000,9, -999.000, -999.000,9, -999.000,9, -999.000,9,   -999.0,9,   -999.0,9,-999.0000,-999,9,  -999.00,9,  -999.00,   -999.0,9,   -999.0,  19.1474,  25.2654
  49NZ20090410,   P21,    69,  1,      5, X12038,9,20090429,0413,-16.7478, -98.0010, 4193,    149.7,2,  17.3165,2,  17.31691,2,  35.1194,2,-999.0000,9,   196.87,2,  -999.00,9,  -999.00,9,  -999.00,  -999.00,9,  -999.00,  -999.00,9,  -999.00, -999.000,9, -999.000, -999.000,9, -999.000,9, -999.000,9,   -999.0,9,   -999.0,9,-999.0000,-999,9,  -999.00,9,  -999.00,   -999.0,9,   -999.0,  17.2915,  25.5362
  49NZ20090410,   P21,    69,  1,      4, X12034,9,20090429,0413,-16.7478, -98.0010, 4193,    199.7,2,  13.7078,2,  13.70003,2,  34.6786,2,-999.0000,9,   137.69,2,  -999.00,9,  -999.00,9,  -999.00,  -999.00,9,  -999.00,  -999.00,9,  -999.00, -999.000,9, -999.000, -999.000,9, -999.000,9, -999.000,9,   -999.0,9,   -999.0,9,-999.0000,-999,9,  -999.00,9,  -999.00,   -999.0,9,   -999.0,  13.6794,  26.0055
  49NZ20090410,   P21,    69,  1,      3, X12033,9,20090429,0413,-16.7478, -98.0010, 4193,   2801.8,2,   1.8086,2,   1.80862,2,  34.6769,2,-999.0000,9,   149.08,2,  -999.00,9,  -999.00,9,  -999.00,  -999.00,9,  -999.00,  -999.00,9,  -999.00, -999.000,9, -999.000, -999.000,9, -999.000,9, -999.000,9,   -999.0,9,   -999.0,9,-999.0000,-999,9,  -999.00,9,  -999.00,   -999.0,9,   -999.0,   1.6040,  27.7432
  49NZ20090410,   P21,    69,  1,      2, X12032,9,20090429,0413,-16.7478, -98.0010, 4193,   3000.4,2,   1.7996,2,   1.79944,2,  34.6789,2,-999.0000,9,   145.72,2,  -999.00,9,  -999.00,9,  -999.00,  -999.00,9,  -999.00,  -999.00,9,  -999.00, -999.000,9, -999.000, -999.000,9, -999.000,9, -999.000,9,   -999.0,9,   -999.0,9,-999.0000,-999,9,  -999.00,9,  -999.00,   -999.0,9,   -999.0,   1.5762,  27.7469
  49NZ20090410,   P21,    69,  1,      1, X12046,2,20090429,0413,-16.7478, -98.0010, 4193,   4250.6,2,   1.8474,2,   1.84736,2,  34.6869,2,  34.6868,6,   149.44,2,   149.30,2,   128.05,2,     0.40,    35.97,2,     0.13,     0.01,2,     0.01,    2.519,2,    0.016,    0.002,2,    0.001,2,    0.000,2,   -999.0,9,   -999.0,9,-999.0000,-999,9,  -999.00,9,  -999.00,   -999.0,9,   -999.0,   1.4905,  27.7596