BOTTLE,20220818CCHSIOAMB
EXPOCODE,SECT_ID,STNNBR,CASTNO,SAMPNO,BTLNBR,BTLNBR_FLAG_W,DATE,TIME,LATITUDE,LONGITUDE,DEPTH,CTDPRS,CTDPRS_FLAG_W,CTDTMP,CTDTMP_FLAG_W,SBE35,SBE35_FLAG_W,CTDSAL,CTDSAL_FLAG_W,SALNTY,SALNTY_FLAG_W,CTDOXY,CTDOXY_FLAG_W,OXYGEN,OXYGEN_FLAG_W,SILCAT,SILCAT_FLAG_W,SILUNC,NITRAT,NITRAT_FLAG_W,NRAUNC,NITRIT,NITRIT_FLAG_W,NRIUNC,PHSPHT,PHSPHT_FLAG_W,PHPUNC,CFC-11,CFC-11_FLAG_W,CFC-12,CFC-12_FLAG_W,CFC113,CFC113_FLAG_W,TCARBN,TCARBN_FLAG_W,ALKALI,ALKALI_FLAG_W,PH_TOT,PH_TMP,PH_TOT_FLAG_W,DELC13,DELC13_FLAG_W,C13ERR,DELC14,DELC14_FLAG_W,C14ERR,THETA,SIG0
,,,,,,,,,,,METERS,DBAR,,ITS-90,,ITS-90,,PSS-78,,PSS-78,,UMOL/KG,,UMOL/KG,,UMOL/KG,,UMOL/KG,UMOL/KG,,UMOL/KG,UMOL/KG,,UMOL/KG,UMOL/KG,,UMOL/KG,PMOL/KG,,PMOL/KG,,PMOL/KG,,UMOL/KG,,UMOL/KG,,,DEG C,,/MILLE,,/MILLE,/MILLE,,/MILLE,DEG C,KG/M^3
  49NZ20090410,   P21,    86,  1,     36, X12006,2,20090502,0504,-16.7487,-106.6652, 2907,     10.1,2,  25.3208,2,  25.32153,2,  36.0573,2,  36.0582,2,   209.80,2,   208.81,2,     0.88,2,     0.12,     0.86,2,     0.04,     0.03,2,     0.01,    0.415,2,    0.013,    1.605,2,    1.031,2, -999.000,5,   2048.2,2,   2383.0,2,   8.0804,  25,6,  -999.00,9,  -999.00,   -999.0,9,   -999.0,  25.3186,  24.0428
  49NZ20090410,   P21,    86,  1,     35, X12047,2,20090502,0504,-16.7487,-106.6652, 2907,     49.1,2,  25.2013,2,  25.20053,2,  36.0356,2,  36.0373,2,   208.46,2,   207.94,2,     0.72,2,     0.12,     0.92,2,     0.04,     0.03,2,     0.01,    0.422,2,    0.013,    1.615,2,    1.035,2,    0.164,4,   2049.0,6,   2381.3,2,   8.0777,  25,2,  -999.00,9,  -999.00,   -999.0,9,   -999.0,  25.1906,  24.0658
  49NZ20090410,   P21,    86,  1,     34, X12004,2,20090502,0504,-16.7487,-106.6652, 2907,     99.4,2,  21.6968,2,  21.69150,2,  35.8855,2,  35.8853,2,   204.68,2,   204.26,2,     0.69,2,     0.12,     0.55,2,     0.03,     0.32,2,     0.01,    0.563,2,    0.013,    1.924,6,    1.206,6,    0.189,4,   2087.8,2,   2376.3,6,   8.0087,  25,2,  -999.00,9,  -999.00,   -999.0,9,   -999.0,  21.6773,  24.9812
  49NZ20090410,   P21,    86,  1,     33, X12003,2,20090502,0504,-16.7487,-106.6652, 2907,    150.0,2,  19.9190,2,  19.91038,2,  35.6846,2,  35.6827,2,   203.69,2,   203.36,2,     0.45,2,     0.12,     2.04,2,     0.04,     0.15,2,     0.01,    0.479,2,    0.013,    2.084,2,    1.299,2, -999.000,5,   2091.6,2,   2356.6,2,   7.9750,  25,6,  -999.00,9,  -999.00,   -999.0,9,   -999.0,  19.8913,  25.3128
  49NZ20090410,   P21,    86,  1,     32, X12002,2,20090502,0504,-16.7487,-106.6652, 2907,    200.1,2,  17.8362,2,  17.83736,2,  35.2853,2,  35.2829,2,   200.06,2,   200.57,2,     0.79,2,     0.12,     4.54,2,     0.05,     0.02,2,     0.01,    0.627,2,    0.013,    2.310,2,    1.409,2,    0.124,2,   2095.8,2,   2329.5,2,   7.9260,  25,2,  -999.00,9,  -999.00,   -999.0,9,   -999.0,  17.8020,  25.5394
  49NZ20090410,   P21,    86,  1,     31, X12001,2,20090502,0504,-16.7487,-106.6652, 2907,    250.0,2,  14.5461,2,  14.54805,2,  34.7847,2,  34.7848,6,   183.88,2,   182.24,2,     2.18,2,     0.12,     9.52,2,     0.06,     0.02,2,     0.01,    0.928,2,    0.013,    2.613,2,    1.514,2,    0.068,2,   2108.8,2,   2296.2,2,   7.8413,  25,2,  -999.00,9,  -999.00,   -999.0,9,   -999.0,  14.5090,  25.9125
  49NZ20090410,   P21,    86,  1,     30, X12030,2,20090502,0504,-16.7487,-106.6652, 2907,    278.9,2,  12.5600,2,  12.57253,2,  34.5725,2,  34.5765,2,   104.77,2,   107.11,2,     8.73,2,     0.14,    18.69,2,     0.09,     0.02,2,     0.01,    1.823,2,    0.015,    2.312,2,    1.300,2,    0.061,2,   2184.7,2,   2285.0,2,   7.6331,  25,2,  -999.00,9,  -999.00,   -999.0,9,   -999.0,  12.5225,  26.1562
  49NZ20090410,   P21,    86,  1,     29, X12044,2,20090502,0504,-16.7487,-106.6652, 2907,    369.9,2,  10.0037,2,   9.99653,2,  34.6276,2,  34.6245,2,    16.72,2,    16.83,2,    23.71,2,     0.17,    31.48,2,     0.12,     0.01,2,     0.01,    2.739,2,    0.017,    0.603,2,    0.312,2,    0.007,2,   2272.1,2,   2292.0,2,   7.3978,  25,2,  -999.00,9,  -999.00,   -999.0,9,   -999.0,   9.9606,  26.6679
  49NZ20090410,   P21,    86,  1,     28, X12048,2,20090502,0504,-16.7487,-106.6652, 2907,    470.6,2,   7.9486,2,   7.94924,2,  34.5494,2,  34.5496,6,    37.32,2,    37.28,2,    28.80,2,     0.18,    38.26,2,     0.14,     0.01,2,     0.01,    2.784,2,    0.017,    0.192,2,    0.098,2,    0.000,2,   2270.1,2,   2294.9,2,   7.4142,  25,2,  -999.00,9,  -999.00,   -999.0,9,   -999.0,   7.9006,  26.9347
  49NZ20090410,   P21,    86,  1,     27, X12027,2,20090502,0504,-16.7487,-106.6652, 2907,    570.3,2,   6.7458,2,   6.74623,2,  34.5000,2,  34.4995,2,    53.23,2,    53.35,2,    34.47,2,     0.19,    40.31,2,     0.15,     0.01,2,     0.01,    2.859,2,    0.017,    0.106,6,    0.057,6,    0.000,6,   2270.9,2,   2300.1,2,   7.4263,  25,2,  -999.00,9,  -999.00,   -999.0,9,   -999.0,   6.6925,  27.0669
  49NZ20090410,   P21,    86,  1,     26, X12026,2,20090502,0504,-16.7487,-106.6652, 2907,    669.3,2,   6.0006,2,   5.99925,2,  34.4847,2,  34.4847,2,    67.39,2,    67.28,2,    40.74,2,     0.21,    40.52,2,     0.15,     0.01,2,     0.01,    2.850,2,    0.017,    0.018,2,    0.011,2,    0.000,2,   2271.4,6,   2306.8,2,   7.4475,  25,2,  -999.00,9,  -999.00,   -999.0,9,   -999.0,   5.9413,  27.1529
  49NZ20090410,   P21,    86,  1,     25, X12025,2,20090502,0504,-16.7487,-106.6652, 2907,    769.6,2,   5.4783,2,   5.47874,2,  34.4890,2,  34.4888,2,    67.24,2,    67.40,2,    49.31,2,     0.23,    41.49,2,     0.15,     0.02,2,     0.01,    2.937,2,    0.017,    0.003,2,    0.001,2,    0.000,2,   2281.7,2,   2316.1,6,   7.4433,  25,2,  -999.00,9,  -999.00,   -999.0,9,   -999.0,   5.4127,  27.2215
  49NZ20090410,   P21,    86,  1,     24, X12024,2,20090502,0504,-16.7487,-106.6652, 2907,    871.0,2,   4.8199,2,   4.81979,2,  34.5071,2,  34.5072,2,    65.83,2,    65.83,2,    63.19,2,     0.26,    42.45,2,     0.15,     0.01,2,     0.01,    3.019,2,    0.018,    0.003,2,    0.001,2,    0.000,2,   2299.7,2,   2330.6,2,   7.4362,  25,6,  -999.00,9,  -999.00,   -999.0,9,   -999.0,   4.7493,  27.3131
  49NZ20090410,   P21,    86,  1,     23, X12028,2,20090502,0504,-16.7487,-106.6652, 2907,    968.7,2,   4.4131,2,   4.41294,2,  34.5211,2,  34.5211,6,    69.70,2,    69.83,2,    72.03,2,     0.28,    42.32,2,     0.15,     0.01,2,     0.01,    3.022,2,    0.018,    0.001,2,    0.001,2,    0.000,2,   2306.1,2,   2340.9,2,   7.4417,  25,2,  -999.00,9,  -999.00,   -999.0,9,   -999.0,   4.3369,  27.3696
  49NZ20090410,   P21,    86,  1,     22, X12022,2,20090502,0504,-16.7487,-106.6652, 2907,   1128.2,2,   3.8557,2,   3.85566,2,  34.5428,2,  34.5433,2,    79.04,2,    79.20,2,    84.36,2,     0.30,    41.67,2,     0.15,     0.01,2,     0.01,    2.994,2,    0.017,    0.000,2,    0.001,2,    0.000,2,   2315.0,2,   2354.8,2,   7.4587,  25,2,  -999.00,9,  -999.00,   -999.0,9,   -999.0,   3.7704,  27.4459
  49NZ20090410,   P21,    86,  1,     21, X12021,2,20090502,0504,-16.7487,-106.6652, 2907,   1329.5,2,   3.3623,2,   3.36180,2,  34.5684,2,  34.5684,2,    85.25,2,    85.12,2,    97.01,2,     0.33,    41.14,2,     0.15,     0.01,2,     0.01,    2.971,2,    0.017,    0.001,2,    0.000,2,    0.000,2,   2326.1,2,   2369.8,2,   7.4678,  25,2,  -999.00,9,  -999.00,   -999.0,9,   -999.0,   3.2648,  27.5159
  49NZ20090410,   P21,    86,  1,     20, X12020,2,20090502,0504,-16.7487,-106.6652, 2907,   1529.3,2,   2.9171,2,   2.91706,2,  34.5937,2,  34.5943,6,    96.55,2,    96.65,2,   107.82,2,     0.36,    40.17,2,     0.15,     0.01,2,     0.01,    2.898,2,    0.017,    0.000,2,    0.000,2,    0.000,2,   2330.6,2,   2381.7,2,   7.4901,  25,2,  -999.00,9,  -999.00,   -999.0,9,   -999.0,   2.8077,  27.5781
  49NZ20090410,   P21,    86,  1,     19, X12019,2,20090502,0504,-16.7487,-106.6652, 2907,   1728.7,2,   2.5775,2,   2.57719,2,  34.6150,2,  34.6154,2,   108.26,2,   108.23,2,   114.89,2,     0.37,    39.19,2,     0.14,     0.01,2,     0.01,    2.800,2,    0.017,    0.000,2,    0.000,2,    0.000,2,   2332.1,2,   2390.9,2,   7.5120,  25,2,  -999.00,9,  -999.00,   -999.0,9,   -999.0,   2.4557,  27.6258
  49NZ20090410,   P21,    86,  1,     18, X12043,2,20090502,0504,-16.7487,-106.6652, 2907,   1929.5,2,   2.2826,2,   2.28331,2,  34.6330,2,  34.6342,2,   124.64,2,   124.06,2,   117.77,2,     0.38,    37.93,2,     0.14,     0.01,2,     0.01,    2.696,2,    0.017,    0.000,2,    0.000,2,    0.000,2,   2328.2,2,   2395.8,2,   7.5387,  25,2,  -999.00,9,  -999.00,   -999.0,9,   -999.0,   2.1479,  27.6658
  49NZ20090410,   P21,    86,  1,     17, X12042,2,20090502,0504,-16.7487,-106.6652, 2907,   2130.8,2,   2.0346,2,   2.03425,2,  34.6507,2,  34.6514,6,   140.11,2,   140.41,2,   118.75,2,     0.38,    36.60,2,     0.14,     0.01,2,     0.01,    2.578,2,    0.016, -999.000,9, -999.000,9, -999.000,9,   2319.6,2,   2397.8,2,   7.5676,  25,2,  -999.00,9,  -999.00,   -999.0,9,   -999.0,   1.8864,  27.7007
  49NZ20090410,   P21,    86,  1,     16, X12016,2,20090502,0504,-16.7487,-106.6652, 2907,   2329.8,2,   1.9037,2,   1.90409,2,  34.6632,2,  34.6635,2,   145.33,2,   145.29,2,   122.02,2,     0.39,    36.21,2,     0.13,     0.01,2,     0.01,    2.547,2,    0.016, -999.000,9, -999.000,9, -999.000,9,   2320.7,6,   2402.6,2,   7.5785,  25,2,  -999.00,9,  -999.00,   -999.0,9,   -999.0,   1.7404,  27.7220
  49NZ20090410,   P21,    86,  1,     15, X12015,2,20090502,0504,-16.7487,-106.6652, 2907,   2530.3,2,   1.8342,2,   1.83425,2,  34.6711,2,  34.6717,2,   147.09,2,   147.09,2,   125.39,2,     0.39,    36.17,2,     0.13,     0.01,2,     0.01,    2.537,2,    0.016,    0.001,2,    0.000,2,    0.000,2,   2323.7,2,   2408.5,6,   7.5855,  25,2,  -999.00,9,  -999.00,   -999.0,9,   -999.0,   1.6542,  27.7349
  49NZ20090410,   P21,    86,  1,     14, X12050,2,20090502,0504,-16.7487,-106.6652, 2907,   2729.7,2,   1.8186,2,   1.81848,2,  34.6742,2,  34.6746,2,   146.98,2,   146.86,2,   127.36,2,     0.40,    36.25,2,     0.13,     0.01,2,     0.01,    2.539,2,    0.016,    0.001,2,    0.000,2,    0.000,2,   2326.6,2,   2412.8,2,   7.5880,  25,6,  -999.00,9,  -999.00,   -999.0,9,   -999.0,   1.6206,  27.7399
  49NZ20090410,   P21,    86,  1,     13, X12013,9,20090502,0504,-16.7487,-106.6652, 2907,     10.2,2,  25.3212,2,  25.32052,2,  36.0574,2,-999.0000,9,   209.83,2,  -999.00,9,  -999.00,9,  -999.00,  -999.00,9,  -999.00,  -999.00,9,  -999.00, -999.000,9, -999.000, -999.000,9, -999.000,9, -999.000,9,   -999.0,9,   -999.0,9,-999.0000,-999,9,  -999.00,9,  -999.00,   -999.0,9,   -999.0,  25.3190,  24.0428
  49NZ20090410,   P21,    86,  1,     12, X12012,9,20090502,0504,-16.7487,-106.6652, 2907,     49.6,2,  25.1964,2,  25.19454,2,  36.0363,2,-999.0000,9,   208.60,2,  -999.00,9,  -999.00,9,  -999.00,  -999.00,9,  -999.00,  -999.00,9,  -999.00, -999.000,9, -999.000, -999.000,9, -999.000,9, -999.000,9,   -999.0,9,   -999.0,9,-999.0000,-999,9,  -999.00,9,  -999.00,   -999.0,9,   -999.0,  25.1855,  24.0679
  49NZ20090410,   P21,    86,  1,     11, X12041,9,20090502,0504,-16.7487,-106.6652, 2907,     99.2,2,  21.6916,2,  21.69374,2,  35.8860,2,-999.0000,9,   204.92,2,  -999.00,9,  -999.00,9,  -999.00,  -999.00,9,  -999.00,  -999.00,9,  -999.00, -999.000,9, -999.000, -999.000,9, -999.000,9, -999.000,9,   -999.0,9,   -999.0,9,-999.0000,-999,9,  -999.00,9,  -999.00,   -999.0,9,   -999.0,  21.6721,  24.9831
  49NZ20090410,   P21,    86,  1,     10, X12040,9,20090502,0504,-16.7487,-106.6652, 2907,    149.5,2,  19.9108,2,  19.91257,2,  35.6829,2,-999.0000,9,   203.81,2,  -999.00,9,  -999.00,9,  -999.00,  -999.00,9,  -999.00,  -999.00,9,  -999.00, -999.000,9, -999.000, -999.000,9, -999.000,9, -999.000,9,   -999.0,9,   -999.0,9,-999.0000,-999,9,  -999.00,9,  -999.00,   -999.0,9,   -999.0,  19.8832,  25.3137
  49NZ20090410,   P21,    86,  1,      9, X12009,9,20090502,0504,-16.7487,-106.6652, 2907,    199.7,2,  17.8307,2,  17.83111,2,  35.2854,2,-999.0000,9,   200.14,2,  -999.00,9,  -999.00,9,  -999.00,  -999.00,9,  -999.00,  -999.00,9,  -999.00, -999.000,9, -999.000, -999.000,9, -999.000,9, -999.000,9,   -999.0,9,   -999.0,9,-999.0000,-999,9,  -999.00,9,  -999.00,   -999.0,9,   -999.0,  17.7966,  25.5408
  49NZ20090410,   P21,    86,  1,      8, X12008,9,20090502,0504,-16.7487,-106.6652, 2907,    249.1,2,  14.5807,2,  14.57648,2,  34.7911,2,-999.0000,9,   183.29,2,  -999.00,9,  -999.00,9,  -999.00,  -999.00,9,  -999.00,  -999.00,9,  -999.00, -999.000,9, -999.000, -999.000,9, -999.000,9, -999.000,9,   -999.0,9,   -999.0,9,-999.0000,-999,9,  -999.00,9,  -999.00,   -999.0,9,   -999.0,  14.5437,  25.9101
  49NZ20090410,   P21,    86,  1,      7, X12007,9,20090502,0504,-16.7487,-106.6652, 2907,    279.7,2,  12.5914,2,  12.59606,2,  34.5733,2,-999.0000,9,   107.58,2,  -999.00,9,  -999.00,9,  -999.00,  -999.00,9,  -999.00,  -999.00,9,  -999.00, -999.000,9, -999.000, -999.000,9, -999.000,9, -999.000,9,   -999.0,9,   -999.0,9,-999.0000,-999,9,  -999.00,9,  -999.00,   -999.0,9,   -999.0,  12.5538,  26.1506
  49NZ20090410,   P21,    86,  1,      6, X12035,9,20090502,0504,-16.7487,-106.6652, 2907,    369.4,2,   9.9916,2,   9.99454,2,  34.6269,2,-999.0000,9,    16.65,2,  -999.00,9,  -999.00,9,  -999.00,  -999.00,9,  -999.00,  -999.00,9,  -999.00, -999.000,9, -999.000, -999.000,9, -999.000,9, -999.000,9,   -999.0,9,   -999.0,9,-999.0000,-999,9,  -999.00,9,  -999.00,   -999.0,9,   -999.0,   9.9486,  26.6693
  49NZ20090410,   P21,    86,  1,      5, X12038,9,20090502,0504,-16.7487,-106.6652, 2907,    470.5,2,   7.9511,2,   7.95151,2,  34.5496,2,-999.0000,9,    37.35,2,  -999.00,9,  -999.00,9,  -999.00,  -999.00,9,  -999.00,  -999.00,9,  -999.00, -999.000,9, -999.000, -999.000,9, -999.000,9, -999.000,9,   -999.0,9,   -999.0,9,-999.0000,-999,9,  -999.00,9,  -999.00,   -999.0,9,   -999.0,   7.9031,  26.9345
  49NZ20090410,   P21,    86,  1,      4, X12034,9,20090502,0504,-16.7487,-106.6652, 2907,    871.0,2,   4.8210,2,   4.81889,2,  34.5072,2,-999.0000,9,    65.83,2,  -999.00,9,  -999.00,9,  -999.00,  -999.00,9,  -999.00,  -999.00,9,  -999.00, -999.000,9, -999.000, -999.000,9, -999.000,9, -999.000,9,   -999.0,9,   -999.0,9,-999.0000,-999,9,  -999.00,9,  -999.00,   -999.0,9,   -999.0,   4.7504,  27.3130
  49NZ20090410,   P21,    86,  1,      3, X12033,9,20090502,0504,-16.7487,-106.6652, 2907,   2530.5,2,   1.8343,2,   1.83427,2,  34.6711,2,-999.0000,9,   147.11,2,  -999.00,9,  -999.00,9,  -999.00,  -999.00,9,  -999.00,  -999.00,9,  -999.00, -999.000,9, -999.000, -999.000,9, -999.000,9, -999.000,9,   -999.0,9,   -999.0,9,-999.0000,-999,9,  -999.00,9,  -999.00,   -999.0,9,   -999.0,   1.6543,  27.7348
  49NZ20090410,   P21,    86,  1,      2, X12032,9,20090502,0504,-16.7487,-106.6652, 2907,   2730.3,2,   1.8188,2,   1.81855,2,  34.6742,2,-999.0000,9,   146.96,2,  -999.00,9,  -999.00,9,  -999.00,  -999.00,9,  -999.00,  -999.00,9,  -999.00, -999.000,9, -999.000, -999.000,9, -999.000,9, -999.000,9,   -999.0,9,   -999.0,9,-999.0000,-999,9,  -999.00,9,  -999.00,   -999.0,9,   -999.0,   1.6207,  27.7398
  49NZ20090410,   P21,    86,  1,      1, X12046,2,20090502,0504,-16.7487,-106.6652, 2907,   2967.2,2,   1.7858,2,   1.78563,2,  34.6772,2,  34.6775,6,   142.12,2,   141.94,2,   134.39,2,     0.41,    36.65,2,     0.14,     0.01,2,     0.01,    2.571,2,    0.016,    0.000,2,    0.000,2,    0.000,2,   2336.3,2,   2422.0,2,   7.5877,  25,2,  -999.00,9,  -999.00,   -999.0,9,   -999.0,   1.5659,  27.7463