BOTTLE,20220818CCHSIOAMB
EXPOCODE,SECT_ID,STNNBR,CASTNO,SAMPNO,BTLNBR,BTLNBR_FLAG_W,DATE,TIME,LATITUDE,LONGITUDE,DEPTH,CTDPRS,CTDPRS_FLAG_W,CTDTMP,CTDTMP_FLAG_W,SBE35,SBE35_FLAG_W,CTDSAL,CTDSAL_FLAG_W,SALNTY,SALNTY_FLAG_W,CTDOXY,CTDOXY_FLAG_W,OXYGEN,OXYGEN_FLAG_W,SILCAT,SILCAT_FLAG_W,SILUNC,NITRAT,NITRAT_FLAG_W,NRAUNC,NITRIT,NITRIT_FLAG_W,NRIUNC,PHSPHT,PHSPHT_FLAG_W,PHPUNC,CFC-11,CFC-11_FLAG_W,CFC-12,CFC-12_FLAG_W,CFC113,CFC113_FLAG_W,TCARBN,TCARBN_FLAG_W,ALKALI,ALKALI_FLAG_W,PH_TOT,PH_TMP,PH_TOT_FLAG_W,DELC13,DELC13_FLAG_W,C13ERR,DELC14,DELC14_FLAG_W,C14ERR,THETA,SIG0
,,,,,,,,,,,METERS,DBAR,,ITS-90,,ITS-90,,PSS-78,,PSS-78,,UMOL/KG,,UMOL/KG,,UMOL/KG,,UMOL/KG,UMOL/KG,,UMOL/KG,UMOL/KG,,UMOL/KG,UMOL/KG,,UMOL/KG,PMOL/KG,,PMOL/KG,,PMOL/KG,,UMOL/KG,,UMOL/KG,,,DEG C,,/MILLE,,/MILLE,/MILLE,,/MILLE,DEG C,KG/M^3
  49NZ20090410,   P21,   142,  1,     36, X12006,2,20090514,2128,-16.7428,-141.3287, 3218,      9.3,2,  28.0123,2,  28.01262,2,  36.2447,2,  36.2446,2,   197.08,2,   197.39,2,     0.91,2,     0.12,     0.16,2,     0.03,     0.02,2,     0.01,    0.273,2,    0.014,    1.443,2,    0.940,2, -999.000,5,   -999.0,9,   -999.0,9,-999.0000,-999,9,  -999.00,9,  -999.00,   -999.0,9,   -999.0,  28.0101,  23.3277
  49NZ20090410,   P21,   142,  1,     35, X12047,2,20090514,2128,-16.7428,-141.3287, 3218,     49.8,2,  27.9935,2,  27.99267,2,  36.2430,2,  36.2431,2,   196.62,2,   197.28,2,     0.88,2,     0.12,     0.18,2,     0.03,     0.02,2,     0.01,    0.271,2,    0.015,    1.444,2,    0.949,2, -999.000,5,   -999.0,9,   -999.0,9,-999.0000,-999,9,  -999.00,9,  -999.00,   -999.0,9,   -999.0,  27.9817,  23.3357
  49NZ20090410,   P21,   142,  1,     34, X12004,2,20090514,2128,-16.7428,-141.3287, 3218,     99.8,2,  25.4582,2,  25.47871,2,  36.3685,2,  36.3692,2,   190.47,2,   190.45,2,     0.95,2,     0.12,     0.86,2,     0.04,     0.41,2,     0.00,    0.410,2,    0.013,    1.656,6,    1.053,6, -999.000,5,   -999.0,9,   -999.0,9,-999.0000,-999,9,  -999.00,9,  -999.00,   -999.0,9,   -999.0,  25.4362,  24.2418
  49NZ20090410,   P21,   142,  1,     33, X12003,2,20090514,2128,-16.7428,-141.3287, 3218,    149.4,2,  24.1295,2,  24.12432,2,  36.3586,2,  36.3565,2,   184.45,2,   184.58,2,     0.80,2,     0.12,     0.65,2,     0.03,     1.34,2,     0.00,    0.380,2,    0.013,    1.752,2,    1.106,2, -999.000,5,   -999.0,9,   -999.0,9,-999.0000,-999,9,  -999.00,9,  -999.00,   -999.0,9,   -999.0,  24.0977,  24.6412
  49NZ20090410,   P21,   142,  1,     32, X12002,2,20090514,2128,-16.7428,-141.3287, 3218,    199.9,2,  22.1264,2,  22.12620,2,  36.0964,2,  36.0969,2,   179.10,2,   178.90,2,     0.86,2,     0.12,     3.18,2,     0.04,     0.06,2,     0.01,    0.475,2,    0.013,    1.938,2,    1.194,2,    0.166,2,   -999.0,9,   -999.0,9,-999.0000,-999,9,  -999.00,9,  -999.00,   -999.0,9,   -999.0,  22.0865,  25.0268
  49NZ20090410,   P21,   142,  1,     31, X12001,2,20090514,2128,-16.7428,-141.3287, 3218,    250.2,2,  19.8624,2,  19.86648,2,  35.6945,2,  35.6950,6,   178.05,2,   178.52,2,     1.01,2,     0.12,     4.40,2,     0.05,     0.02,2,     0.01,    0.552,2,    0.013,    2.171,2,    1.296,2,    0.059,2,   -999.0,9,   -999.0,9,-999.0000,-999,9,  -999.00,9,  -999.00,   -999.0,9,   -999.0,  19.8161,  25.3402
  49NZ20090410,   P21,   142,  1,     30, X12030,2,20090514,2128,-16.7428,-141.3287, 3218,    329.5,2,  13.8538,2,  13.84955,2,  34.8052,2,  34.8078,2,   144.20,2,   144.50,2,     5.16,2,     0.13,    13.57,2,     0.07,     0.01,2,     0.01,    1.255,2,    0.013,    2.317,2,    1.272,2,    0.044,2,   -999.0,9,   -999.0,9,-999.0000,-999,9,  -999.00,9,  -999.00,   -999.0,9,   -999.0,  13.8064,  26.0771
  49NZ20090410,   P21,   142,  1,     29, X12044,2,20090514,2128,-16.7428,-141.3287, 3218,    430.4,2,   9.7799,2,   9.77709,2,  34.5216,2,  34.5229,2,    95.68,2,    96.44,2,    14.86,2,     0.15,    26.41,2,     0.11,     0.01,2,     0.01,    2.126,2,    0.015,    1.196,2,    0.623,2,    0.017,2,   -999.0,9,   -999.0,9,-999.0000,-999,9,  -999.00,9,  -999.00,   -999.0,9,   -999.0,   9.7303,  26.6239
  49NZ20090410,   P21,   142,  1,     28, X12048,2,20090514,2128,-16.7428,-141.3287, 3218,    530.0,2,   7.0112,2,   7.01332,2,  34.4309,2,  34.4305,6,   127.06,2,   127.11,2,    21.78,2,     0.17,    32.04,2,     0.12,     0.01,2,     0.01,    2.294,2,    0.016,    0.531,2,    0.280,2,    0.012,2,   -999.0,9,   -999.0,9,-999.0000,-999,9,  -999.00,9,  -999.00,   -999.0,9,   -999.0,   6.9608,  26.9758
  49NZ20090410,   P21,   142,  1,     27, X12027,2,20090514,2128,-16.7428,-141.3287, 3218,    630.2,2,   6.3626,2,   6.36308,2,  34.4818,2,  34.4804,3,   120.43,2,   120.18,2,    34.18,2,     0.19,    34.05,2,     0.13,     0.01,2,     0.01,    2.396,2,    0.016,    0.149,6,    0.082,6,    0.000,6,   -999.0,9,   -999.0,9,-999.0000,-999,9,  -999.00,9,  -999.00,   -999.0,9,   -999.0,   6.3053,  27.1039
  49NZ20090410,   P21,   142,  1,     26, X12026,2,20090514,2128,-16.7428,-141.3287, 3218,    729.6,2,   5.8010,2,   5.80260,2,  34.4859,2,  34.4860,2,   123.66,2,   123.91,2,    41.81,2,     0.21,    34.72,2,     0.13,     0.01,2,     0.01,    2.442,2,    0.016,    0.079,2,    0.045,2,    0.000,2,   -999.0,9,   -999.0,9,-999.0000,-999,9,  -999.00,9,  -999.00,   -999.0,9,   -999.0,   5.7372,  27.1794
  49NZ20090410,   P21,   142,  1,     25, X12025,2,20090514,2128,-16.7428,-141.3287, 3218,    830.0,2,   5.1631,2,   5.16317,2,  34.4836,2,  34.4840,2,   121.61,2,   121.64,2,    50.35,2,     0.23,    36.12,2,     0.13,     0.01,2,     0.01,    2.542,2,    0.016,    0.044,2,    0.024,2,    0.000,2,   -999.0,9,   -999.0,9,-999.0000,-999,9,  -999.00,9,  -999.00,   -999.0,9,   -999.0,   5.0940,  27.2550
  49NZ20090410,   P21,   142,  1,     24, X12024,2,20090514,2128,-16.7428,-141.3287, 3218,    930.0,2,   4.7541,2,   4.75415,2,  34.4955,2,  34.4952,2,   120.23,2,   120.46,2,    57.88,2,     0.25,    36.75,2,     0.14,     0.01,2,     0.01,    2.590,2,    0.016,    0.029,2,    0.018,2,    0.000,2,   -999.0,9,   -999.0,9,-999.0000,-999,9,  -999.00,9,  -999.00,   -999.0,9,   -999.0,   4.6788,  27.3117
  49NZ20090410,   P21,   142,  1,     23, X12028,2,20090514,2128,-16.7428,-141.3287, 3218,   1069.5,2,   4.0694,2,   4.06946,2,  34.5089,2,  34.5087,6,   136.34,2,   136.62,2,    67.87,2,     0.27,    35.89,2,     0.13,     0.01,2,     0.01,    2.526,2,    0.016,    0.023,2,    0.013,2,    0.000,2,   -999.0,9,   -999.0,9,-999.0000,-999,9,  -999.00,9,  -999.00,   -999.0,9,   -999.0,   3.9873,  27.3968
  49NZ20090410,   P21,   142,  1,     22, X12022,2,20090514,2128,-16.7428,-141.3287, 3218,   1269.5,2,   3.4393,2,   3.43875,2,  34.5385,2,  34.5396,2,   139.77,2,   140.18,2,    80.24,2,     0.30,    36.01,2,     0.13,     0.01,2,     0.01,    2.537,2,    0.016,    0.011,2,    0.007,2,    0.000,2,   -999.0,9,   -999.0,9,-999.0000,-999,9,  -999.00,9,  -999.00,   -999.0,9,   -999.0,   3.3461,  27.4843
  49NZ20090410,   P21,   142,  1,     21, X12021,2,20090514,2128,-16.7428,-141.3287, 3218,   1471.1,2,   2.9770,2,   2.97660,2,  34.5715,2,  34.5715,2,   135.91,2,   136.20,2,    92.80,2,     0.32,    36.84,2,     0.14,     0.01,2,     0.01,    2.597,2,    0.016,    0.001,2,    0.003,2,    0.000,2,   -999.0,9,   -999.0,9,-999.0000,-999,9,  -999.00,9,  -999.00,   -999.0,9,   -999.0,   2.8718,  27.5546
  49NZ20090410,   P21,   142,  1,     20, X12020,2,20090514,2128,-16.7428,-141.3287, 3218,   1675.4,2,   2.6193,2,   2.61915,2,  34.5960,2,  34.5962,2,   140.33,2,   140.65,2,   100.68,2,     0.34,    36.47,2,     0.13,     0.01,2,     0.01,    2.571,2,    0.016,    0.000,2,    0.000,2,    0.000,2,   -999.0,9,   -999.0,9,-999.0000,-999,9,  -999.00,9,  -999.00,   -999.0,9,   -999.0,   2.5014,  27.6067
  49NZ20090410,   P21,   142,  1,     19, X12019,2,20090514,2128,-16.7428,-141.3287, 3218,   1872.3,2,   2.2969,2,   2.29691,2,  34.6188,2,  34.6189,6,   147.31,2,   147.72,2,   107.40,2,     0.36,    36.11,2,     0.13,     0.01,2,     0.01,    2.534,2,    0.016,    0.005,2,    0.003,2,    0.000,2,   -999.0,9,   -999.0,9,-999.0000,-999,9,  -999.00,9,  -999.00,   -999.0,9,   -999.0,   2.1668,  27.6529
  49NZ20090410,   P21,   142,  1,     18, X12043,2,20090514,2128,-16.7428,-141.3287, 3218,   2069.9,2,   2.0826,2,   2.08261,2,  34.6373,2,  34.6374,2,   151.69,2,   151.94,2,   112.41,2,     0.37,    35.86,2,     0.13,     0.01,2,     0.01,    2.508,2,    0.016,    0.000,2,    0.001,2,    0.000,2,   -999.0,9,   -999.0,9,-999.0000,-999,9,  -999.00,9,  -999.00,   -999.0,9,   -999.0,   1.9390,  27.6859
  49NZ20090410,   P21,   142,  1,     17, X12042,2,20090514,2128,-16.7428,-141.3287, 3218,   2270.5,2,   1.9453,2,   1.94541,2,  34.6494,2,  34.6497,2,   155.75,2,   156.00,2,   114.99,2,     0.37,    35.48,2,     0.13,     0.01,2,     0.01,    2.490,2,    0.016,    0.002,2,    0.000,2,    0.000,2,   -999.0,9,   -999.0,9,-999.0000,-999,9,  -999.00,9,  -999.00,   -999.0,9,   -999.0,   1.7865,  27.7074
  49NZ20090410,   P21,   142,  1,     16, X12016,2,20090514,2128,-16.7428,-141.3287, 3218,   2470.0,2,   1.8610,2,   1.86092,2,  34.6574,2,  34.6571,2,   158.41,2,   158.71,2,   116.83,2,     0.38,    35.31,2,     0.13,     0.01,2,     0.01,    2.470,2,    0.016,    0.002,2,    0.000,2,    0.000,2,   -999.0,9,   -999.0,9,-999.0000,-999,9,  -999.00,9,  -999.00,   -999.0,9,   -999.0,   1.6860,  27.7215
  49NZ20090410,   P21,   142,  1,     15, X12015,2,20090514,2128,-16.7428,-141.3287, 3218,   2669.7,2,   1.7614,2,   1.76113,2,  34.6661,2,  34.6659,6,   161.92,2,   162.18,2,   118.39,2,     0.38,    35.20,2,     0.13,     0.02,2,     0.01,    2.458,2,    0.016,    0.000,2,    0.000,2,    0.000,2,   -999.0,9,   -999.0,9,-999.0000,-999,9,  -999.00,9,  -999.00,   -999.0,9,   -999.0,   1.5701,  27.7371
  49NZ20090410,   P21,   142,  1,     14, X12050,2,20090514,2128,-16.7428,-141.3287, 3218,   2869.5,2,   1.7205,2,   1.72050,2,  34.6704,2,  34.6699,2,   163.90,2,   164.07,2,   119.32,2,     0.38,    35.06,2,     0.13,     0.01,2,     0.01,    2.451,2,    0.016,    0.000,2,    0.000,2,    0.000,2,   -999.0,9,   -999.0,9,-999.0000,-999,9,  -999.00,9,  -999.00,   -999.0,9,   -999.0,   1.5114,  27.7448
  49NZ20090410,   P21,   142,  1,     13, X12014,2,20090514,2128,-16.7428,-141.3287, 3218,   3081.0,2,   1.6964,2,   1.69643,2,  34.6735,2,  34.6737,2,   165.43,2,   165.71,2,   119.45,2,     0.38,    34.92,2,     0.13,     0.01,2,     0.01,    2.443,2,    0.016,    0.000,2,    0.000,2,    0.000,2,   -999.0,9,   -999.0,9,-999.0000,-999,9,  -999.00,9,  -999.00,   -999.0,9,   -999.0,   1.4674,  27.7506
  49NZ20090410,   P21,   142,  1,     12, X12012,9,20090514,2128,-16.7428,-141.3287, 3218,   3220.6,2,   1.6910,2,   1.69096,2,  34.6748,2,-999.0000,9,   166.15,2,  -999.00,9,  -999.00,9,  -999.00,  -999.00,9,  -999.00,  -999.00,9,  -999.00, -999.000,9, -999.000, -999.000,9, -999.000,9, -999.000,9,   -999.0,9,   -999.0,9,-999.0000,-999,9,  -999.00,9,  -999.00,   -999.0,9,   -999.0,   1.4484,  27.7530
  49NZ20090410,   P21,   142,  1,     11, X12041,9,20090514,2128,-16.7428,-141.3287, 3218,      9.4,2,  28.0120,2,  28.01122,2,  36.2448,2,-999.0000,9,   197.14,2,  -999.00,9,  -999.00,9,  -999.00,  -999.00,9,  -999.00,  -999.00,9,  -999.00, -999.000,9, -999.000, -999.000,9, -999.000,9, -999.000,9,   -999.0,9,   -999.0,9,-999.0000,-999,9,  -999.00,9,  -999.00,   -999.0,9,   -999.0,  28.0098,  23.3279
  49NZ20090410,   P21,   142,  1,     10, X12040,9,20090514,2128,-16.7428,-141.3287, 3218,   1675.6,2,   2.6192,2,   2.61934,2,  34.5959,2,-999.0000,9,   140.31,2,  -999.00,9,  -999.00,9,  -999.00,  -999.00,9,  -999.00,  -999.00,9,  -999.00, -999.000,9, -999.000, -999.000,9, -999.000,9, -999.000,9,   -999.0,9,   -999.0,9,-999.0000,-999,9,  -999.00,9,  -999.00,   -999.0,9,   -999.0,   2.5013,  27.6067
  49NZ20090410,   P21,   142,  1,      9, X12009,9,20090514,2128,-16.7428,-141.3287, 3218,   1872.7,2,   2.2965,2,   2.29648,2,  34.6188,2,-999.0000,9,   147.37,2,  -999.00,9,  -999.00,9,  -999.00,  -999.00,9,  -999.00,  -999.00,9,  -999.00, -999.000,9, -999.000, -999.000,9, -999.000,9, -999.000,9,   -999.0,9,   -999.0,9,-999.0000,-999,9,  -999.00,9,  -999.00,   -999.0,9,   -999.0,   2.1664,  27.6529
  49NZ20090410,   P21,   142,  1,      8, X12008,9,20090514,2128,-16.7428,-141.3287, 3218,   2070.7,2,   2.0818,2,   2.08185,2,  34.6373,2,-999.0000,9,   151.76,2,  -999.00,9,  -999.00,9,  -999.00,  -999.00,9,  -999.00,  -999.00,9,  -999.00, -999.000,9, -999.000, -999.000,9, -999.000,9, -999.000,9,   -999.0,9,   -999.0,9,-999.0000,-999,9,  -999.00,9,  -999.00,   -999.0,9,   -999.0,   1.9381,  27.6860
  49NZ20090410,   P21,   142,  1,      7, X12007,9,20090514,2128,-16.7428,-141.3287, 3218,   2271.0,2,   1.9449,2,   1.94500,2,  34.6494,2,-999.0000,9,   155.75,2,  -999.00,9,  -999.00,9,  -999.00,  -999.00,9,  -999.00,  -999.00,9,  -999.00, -999.000,9, -999.000, -999.000,9, -999.000,9, -999.000,9,   -999.0,9,   -999.0,9,-999.0000,-999,9,  -999.00,9,  -999.00,   -999.0,9,   -999.0,   1.7861,  27.7075
  49NZ20090410,   P21,   142,  1,      6, X12035,9,20090514,2128,-16.7428,-141.3287, 3218,   2470.9,2,   1.8598,2,   1.86025,2,  34.6576,2,-999.0000,9,   158.42,2,  -999.00,9,  -999.00,9,  -999.00,  -999.00,9,  -999.00,  -999.00,9,  -999.00, -999.000,9, -999.000, -999.000,9, -999.000,9, -999.000,9,   -999.0,9,   -999.0,9,-999.0000,-999,9,  -999.00,9,  -999.00,   -999.0,9,   -999.0,   1.6847,  27.7217
  49NZ20090410,   P21,   142,  1,      5, X12038,9,20090514,2128,-16.7428,-141.3287, 3218,   2669.3,2,   1.7618,2,   1.76171,2,  34.6660,2,-999.0000,9,   161.88,2,  -999.00,9,  -999.00,9,  -999.00,  -999.00,9,  -999.00,  -999.00,9,  -999.00, -999.000,9, -999.000, -999.000,9, -999.000,9, -999.000,9,   -999.0,9,   -999.0,9,-999.0000,-999,9,  -999.00,9,  -999.00,   -999.0,9,   -999.0,   1.5705,  27.7370
  49NZ20090410,   P21,   142,  1,      4, X12034,9,20090514,2128,-16.7428,-141.3287, 3218,   2869.8,2,   1.7206,2,   1.72067,2,  34.6704,2,-999.0000,9,   163.96,2,  -999.00,9,  -999.00,9,  -999.00,  -999.00,9,  -999.00,  -999.00,9,  -999.00, -999.000,9, -999.000, -999.000,9, -999.000,9, -999.000,9,   -999.0,9,   -999.0,9,-999.0000,-999,9,  -999.00,9,  -999.00,   -999.0,9,   -999.0,   1.5114,  27.7448
  49NZ20090410,   P21,   142,  1,      3, X12033,2,20090514,2128,-16.7428,-141.3287, 3218,   3081.6,2,   1.6962,2,   1.69619,2,  34.6735,2,  34.6737,2,   165.48,2,   165.77,2,   119.57,2,     0.38,    34.89,2,     0.13,     0.01,2,     0.01,    2.444,2,    0.016, -999.000,9, -999.000,9, -999.000,9,   -999.0,9,   -999.0,9,-999.0000,-999,9,  -999.00,9,  -999.00,   -999.0,9,   -999.0,   1.4672,  27.7505
  49NZ20090410,   P21,   142,  1,      2, X12032,9,20090514,2128,-16.7428,-141.3287, 3218,    930.5,2,   4.7544,2,   4.75436,2,  34.4954,2,-999.0000,9,   120.28,2,  -999.00,9,  -999.00,9,  -999.00,  -999.00,9,  -999.00,  -999.00,9,  -999.00, -999.000,9, -999.000, -999.000,9, -999.000,9, -999.000,9,   -999.0,9,   -999.0,9,-999.0000,-999,9,  -999.00,9,  -999.00,   -999.0,9,   -999.0,   4.6791,  27.3116
  49NZ20090410,   P21,   142,  1,      1, X12046,2,20090514,2128,-16.7428,-141.3287, 3218,   3219.9,2,   1.6912,2,   1.69103,2,  34.6749,2,  34.6744,6,   166.21,2,   166.32,2,   119.75,2,     0.38,    34.96,2,     0.13,     0.01,2,     0.01,    2.437,2,    0.016,    0.000,2,    0.000,2,    0.000,2,   -999.0,9,   -999.0,9,-999.0000,-999,9,  -999.00,9,  -999.00,   -999.0,9,   -999.0,   1.4487,  27.7530