BOTTLE,20220818CCHSIOAMB
EXPOCODE,SECT_ID,STNNBR,CASTNO,SAMPNO,BTLNBR,BTLNBR_FLAG_W,DATE,TIME,LATITUDE,LONGITUDE,DEPTH,CTDPRS,CTDPRS_FLAG_W,CTDTMP,CTDTMP_FLAG_W,SBE35,SBE35_FLAG_W,CTDSAL,CTDSAL_FLAG_W,SALNTY,SALNTY_FLAG_W,CTDOXY,CTDOXY_FLAG_W,OXYGEN,OXYGEN_FLAG_W,SILCAT,SILCAT_FLAG_W,SILUNC,NITRAT,NITRAT_FLAG_W,NRAUNC,NITRIT,NITRIT_FLAG_W,NRIUNC,PHSPHT,PHSPHT_FLAG_W,PHPUNC,CFC-11,CFC-11_FLAG_W,CFC-12,CFC-12_FLAG_W,CFC113,CFC113_FLAG_W,TCARBN,TCARBN_FLAG_W,ALKALI,ALKALI_FLAG_W,PH_TOT,PH_TMP,PH_TOT_FLAG_W,DELC13,DELC13_FLAG_W,C13ERR,DELC14,DELC14_FLAG_W,C14ERR,THETA,SIG0
,,,,,,,,,,,METERS,DBAR,,ITS-90,,ITS-90,,PSS-78,,PSS-78,,UMOL/KG,,UMOL/KG,,UMOL/KG,,UMOL/KG,UMOL/KG,,UMOL/KG,UMOL/KG,,UMOL/KG,UMOL/KG,,UMOL/KG,PMOL/KG,,PMOL/KG,,PMOL/KG,,UMOL/KG,,UMOL/KG,,,DEG C,,/MILLE,,/MILLE,/MILLE,,/MILLE,DEG C,KG/M^3
  49NZ20090410,   P21,    43,  1,     36, X12006,2,20090422,1111,-16.7448, -82.9937, 4624,      9.9,2,  23.3122,2,  23.31128,2,  35.5901,2,  35.5907,2,   214.03,2,   214.39,2,     0.95,2,     0.12,     0.10,2,     0.03,     0.00,2,     0.01,    0.518,2,    0.013,    1.770,2,    1.120,2, -999.000,5,   -999.0,9,   -999.0,9,-999.0000,-999,9,  -999.00,9,  -999.00,   -999.0,9,   -999.0,  23.3102,  24.2912
  49NZ20090410,   P21,    43,  1,     35, X12047,2,20090422,1111,-16.7448, -82.9937, 4624,     49.8,2,  19.5800,2,  19.58835,2,  35.1506,2,  35.1524,2,   242.96,2,   246.07,2,     1.24,2,     0.12,     1.48,2,     0.04,     0.36,2,     0.01,    0.629,2,    0.013,    2.267,2,    1.379,2, -999.000,5,   -999.0,9,   -999.0,9,-999.0000,-999,9,  -999.00,9,  -999.00,   -999.0,9,   -999.0,  19.5709,  24.9890
  49NZ20090410,   P21,    43,  1,     34, X12004,2,20090422,1111,-16.7448, -82.9937, 4624,    100.1,2,  15.2111,2,  15.21270,2,  34.6520,2,  34.6496,2,   207.43,2,   205.28,2,     1.43,2,     0.12,     7.44,2,     0.05,     0.35,2,     0.01,    0.877,2,    0.013,    2.629,6,    1.563,6,    0.250,6,   -999.0,9,   -999.0,9,-999.0000,-999,9,  -999.00,9,  -999.00,   -999.0,9,   -999.0,  15.1959,  25.6605
  49NZ20090410,   P21,    43,  1,     33, X12003,2,20090422,1111,-16.7448, -82.9937, 4624,    150.8,2,  13.3483,2,  13.35819,2,  34.7902,2,  34.7892,2,    22.06,2,    25.68,2,    16.27,2,     0.15,    23.37,2,     0.10,     0.02,2,     0.01,    2.571,2,    0.016,    1.749,2,    1.002,2,    0.079,2,   -999.0,9,   -999.0,9,-999.0000,-999,9,  -999.00,9,  -999.00,   -999.0,9,   -999.0,  13.3273,  26.1641
  49NZ20090410,   P21,    43,  1,     32, X12002,2,20090422,1111,-16.7448, -82.9937, 4624,    201.2,2,  12.3142,2,  12.31605,2,  34.8179,2,  34.8165,2,     1.37,2,     0.98,3,    25.42,2,     0.17,    19.17,2,     0.09,     0.61,2,     0.01,    2.738,2,    0.017,    0.862,2,    0.493,2,    0.024,2,   -999.0,9,   -999.0,9,-999.0000,-999,9,  -999.00,9,  -999.00,   -999.0,9,   -999.0,  12.2875,  26.3923
  49NZ20090410,   P21,    43,  1,     31, X12001,2,20090422,1111,-16.7448, -82.9937, 4624,    249.5,2,  11.5641,2,  11.56651,2,  34.8007,2,  34.7994,6,     1.48,2,     1.64,3,    27.09,2,     1.19,    23.78,2,     0.10,     2.15,2,     0.01,    2.638,2,    0.061,    0.528,2,    0.301,2,    0.013,2,   -999.0,9,   -999.0,9,-999.0000,-999,9,  -999.00,9,  -999.00,   -999.0,9,   -999.0,  11.5323,  26.5225
  49NZ20090410,   P21,    43,  1,     30, X12030,2,20090422,1111,-16.7448, -82.9937, 4624,    299.4,2,  10.8028,2,  10.80356,2,  34.7566,2,  34.7562,2,     1.55,2,     1.34,3,    28.18,2,     0.18,    28.16,2,     0.11,     1.92,2,     0.01,    2.731,2,    0.033,    0.347,2,    0.189,2,    0.009,2,   -999.0,9,   -999.0,9,-999.0000,-999,9,  -999.00,9,  -999.00,   -999.0,9,   -999.0,  10.7662,  26.6280
  49NZ20090410,   P21,    43,  1,     29, X12044,2,20090422,1111,-16.7448, -82.9937, 4624,    400.1,2,   9.2323,2,   9.23256,2,  34.6563,2,  34.6556,2,     3.80,2,     3.75,2,    30.39,2,     0.19,    37.05,2,     0.14,     0.01,2,     0.01,    2.867,2,    0.017,    0.148,2,    0.082,2,    0.009,2,   -999.0,9,   -999.0,9,-999.0000,-999,9,  -999.00,9,  -999.00,   -999.0,9,   -999.0,   9.1878,  26.8187
  49NZ20090410,   P21,    43,  1,     28, X12048,2,20090422,1111,-16.7448, -82.9937, 4624,    499.7,2,   7.8050,2,   7.80621,2,  34.5734,2,  34.5727,6,    19.71,2,    20.05,2,    34.37,2,     0.19,    40.52,2,     0.15,     0.01,2,     0.01,    2.938,2,    0.017,    0.092,2,    0.051,2,    0.006,2,   -999.0,9,   -999.0,9,-999.0000,-999,9,  -999.00,9,  -999.00,   -999.0,9,   -999.0,   7.7545,  26.9752
  49NZ20090410,   P21,    43,  1,     27, X12027,2,20090422,1111,-16.7448, -82.9937, 4624,    600.2,2,   6.8310,2,   6.83144,2,  34.5308,2,  34.5300,2,    30.34,2,    30.87,2,    39.67,2,     0.21,    42.10,2,     0.15,     0.00,2,     0.01,    3.014,2,    0.017,    0.045,6,    0.025,6,    0.000,6,   -999.0,9,   -999.0,9,-999.0000,-999,9,  -999.00,9,  -999.00,   -999.0,9,   -999.0,   6.7743,  27.0801
  49NZ20090410,   P21,    43,  1,     26, X12026,2,20090422,1111,-16.7448, -82.9937, 4624,    699.8,2,   6.0284,2,   6.02777,2,  34.5106,2,  34.5101,2,    34.74,2,    35.39,2,    47.57,2,     0.22,    43.47,2,     0.15,     0.01,2,     0.01,    3.096,2,    0.018,    0.010,2,    0.006,2,    0.000,2,   -999.0,9,   -999.0,9,-999.0000,-999,9,  -999.00,9,  -999.00,   -999.0,9,   -999.0,   5.9661,  27.1702
  49NZ20090410,   P21,    43,  1,     25, X12025,2,20090422,1111,-16.7448, -82.9937, 4624,    798.8,2,   5.4284,2,   5.42855,2,  34.5054,2,  34.5054,2,    39.47,2,    39.90,2,    56.21,2,     0.24,    44.13,2,     0.16,     0.00,2,     0.01,    3.152,2,    0.018,    0.005,2,    0.000,2,    0.000,2,   -999.0,9,   -999.0,9,-999.0000,-999,9,  -999.00,9,  -999.00,   -999.0,9,   -999.0,   5.3604,  27.2408
  49NZ20090410,   P21,    43,  1,     24, X12024,2,20090422,1111,-16.7448, -82.9937, 4624,    899.3,2,   4.8737,2,   4.87446,2,  34.5120,2,  34.5118,2,    48.52,2,    48.18,2,    65.42,2,     0.26,    43.97,2,     0.16,     0.00,2,     0.01,    3.137,2,    0.018,    0.003,2,    0.000,2,    0.000,2,   -999.0,9,   -999.0,9,-999.0000,-999,9,  -999.00,9,  -999.00,   -999.0,9,   -999.0,   4.8003,  27.3112
  49NZ20090410,   P21,    43,  1,     23, X12028,2,20090422,1111,-16.7448, -82.9937, 4624,    999.1,2,   4.4298,2,   4.42982,2,  34.5258,2,  34.5256,6,    57.29,2,    57.73,2,    75.06,2,     0.28,    43.22,2,     0.15,     0.00,2,     0.01,    3.111,2,    0.018,    0.000,2,    0.001,2,    0.000,2,   -999.0,9,   -999.0,9,-999.0000,-999,9,  -999.00,9,  -999.00,   -999.0,9,   -999.0,   4.3509,  27.3719
  49NZ20090410,   P21,    43,  1,     22, X12022,2,20090422,1111,-16.7448, -82.9937, 4624,   1199.3,2,   3.7278,2,   3.72750,2,  34.5512,2,  34.5514,2,    73.20,2,    73.20,2,    90.06,2,     0.32,    41.90,2,     0.15,     0.00,2,     0.01,    3.035,2,    0.018,    0.002,2,    0.001,2,    0.000,2,   -999.0,9,   -999.0,9,-999.0000,-999,9,  -999.00,9,  -999.00,   -999.0,9,   -999.0,   3.6377,  27.4660
  49NZ20090410,   P21,    43,  1,     21, X12021,2,20090422,1111,-16.7448, -82.9937, 4624,   1400.6,2,   3.2007,2,   3.20103,2,  34.5787,2,  34.5786,2,    84.06,2,    83.95,2,   103.06,2,     0.35,    41.10,2,     0.15,     0.00,2,     0.01,    2.977,2,    0.017,    0.000,2,    0.000,2,    0.000,2,   -999.0,9,   -999.0,9,-999.0000,-999,9,  -999.00,9,  -999.00,   -999.0,9,   -999.0,   3.0989,  27.5397
  49NZ20090410,   P21,    43,  1,     20, X12020,2,20090422,1111,-16.7448, -82.9937, 4624,   1599.7,2,   2.7762,2,   2.77669,2,  34.6060,2,  34.6060,2,    92.30,2,    92.24,2,   115.08,2,     0.37,    40.28,2,     0.15,     0.00,2,     0.01,    2.919,2,    0.017,    0.000,2,    0.000,2,    0.000,2,   -999.0,9,   -999.0,9,-999.0000,-999,9,  -999.00,9,  -999.00,   -999.0,9,   -999.0,   2.6626,  27.6008
  49NZ20090410,   P21,    43,  1,     19, X12019,2,20090422,1111,-16.7448, -82.9937, 4624,   1800.7,2,   2.4630,2,   2.46319,2,  34.6246,2,  34.6253,2,   105.68,2,   105.30,2,   121.02,2,     0.39,    39.30,2,     0.14,     0.00,2,     0.01,    2.819,2,    0.017,    0.001,2,    0.000,2,    0.000,2,   -999.0,9,   -999.0,9,-999.0000,-999,9,  -999.00,9,  -999.00,   -999.0,9,   -999.0,   2.3366,  27.6435
  49NZ20090410,   P21,    43,  1,     18, X12043,2,20090422,1111,-16.7448, -82.9937, 4624,   1998.5,2,   2.2300,2,   2.22992,2,  34.6402,2,  34.6408,2,   117.02,2,   116.76,2,   124.53,2,     0.39,    38.32,2,     0.14,     0.00,2,     0.01,    2.740,2,    0.017, -999.000,9, -999.000,9, -999.000,9,   -999.0,9,   -999.0,9,-999.0000,-999,9,  -999.00,9,  -999.00,   -999.0,9,   -999.0,   2.0902,  27.6763
  49NZ20090410,   P21,    43,  1,     17, X12042,2,20090422,1111,-16.7448, -82.9937, 4624,   2200.1,2,   2.0511,2,   2.05129,2,  34.6530,2,  34.6531,6,   129.36,2,   129.12,2,   124.68,2,     0.39,    37.38,2,     0.14,     0.00,2,     0.01,    2.648,2,    0.017, -999.000,9, -999.000,9, -999.000,9,   -999.0,9,   -999.0,9,-999.0000,-999,9,  -999.00,9,  -999.00,   -999.0,9,   -999.0,   1.8967,  27.7018
  49NZ20090410,   P21,    43,  1,     16, X12016,2,20090422,1111,-16.7448, -82.9937, 4624,   2402.7,2,   1.9236,2,   1.92366,2,  34.6635,2,  34.6634,2,   137.14,2,   136.91,2,   125.62,2,     0.40,    36.68,2,     0.14,     0.00,2,     0.01,    2.593,2,    0.016,    0.000,2,    0.000,2,    0.000,2,   -999.0,9,   -999.0,9,-999.0000,-999,9,  -999.00,9,  -999.00,   -999.0,9,   -999.0,   1.7535,  27.7212
  49NZ20090410,   P21,    43,  1,     15, X12015,2,20090422,1111,-16.7448, -82.9937, 4624,   2600.1,2,   1.8533,2,   1.85334,2,  34.6706,2,  34.6703,2,   137.91,2,   137.68,2,   129.51,2,     0.40,    36.60,2,     0.14,     0.00,2,     0.01,    2.589,2,    0.016, -999.000,9, -999.000,9, -999.000,9,   -999.0,9,   -999.0,9,-999.0000,-999,9,  -999.00,9,  -999.00,   -999.0,9,   -999.0,   1.6666,  27.7335
  49NZ20090410,   P21,    43,  1,     14, X12050,2,20090422,1111,-16.7448, -82.9937, 4624,   2800.3,2,   1.8166,2,   1.81669,2,  34.6750,2,  34.6747,2,   136.86,2,   136.66,2,   133.66,2,     0.41,    36.71,2,     0.14,     0.00,2,     0.01,    2.599,2,    0.016, -999.000,9, -999.000,9, -999.000,9,   -999.0,9,   -999.0,9,-999.0000,-999,9,  -999.00,9,  -999.00,   -999.0,9,   -999.0,   1.6120,  27.7411
  49NZ20090410,   P21,    43,  1,     13, X12013,7,20090422,1111,-16.7448, -82.9937, 4624,   2999.6,2,   1.7991,2,   1.79919,2,  34.6778,2,  34.6781,2,   136.41,2,   136.08,2,   135.88,2,     0.42,    36.86,2,     0.14,     0.00,2,     0.01,    2.596,2,    0.016,    0.000,2,    0.001,2,    0.000,2,   -999.0,9,   -999.0,9,-999.0000,-999,9,  -999.00,9,  -999.00,   -999.0,9,   -999.0,   1.5758,  27.7460
  49NZ20090410,   P21,    43,  1,     12, X12012,2,20090422,1111,-16.7448, -82.9937, 4624,   3251.3,2,   1.7940,2,   1.79412,2,  34.6803,2,  34.6799,2,   138.15,2,   137.88,2,   135.90,2,     0.42,    36.74,2,     0.14,     0.00,2,     0.01,    2.579,2,    0.016, -999.000,9, -999.000,9, -999.000,9,   -999.0,9,   -999.0,9,-999.0000,-999,9,  -999.00,9,  -999.00,   -999.0,9,   -999.0,   1.5459,  27.7502
  49NZ20090410,   P21,    43,  1,     11, X12041,2,20090422,1111,-16.7448, -82.9937, 4624,   3500.3,2,   1.7907,2,   1.79075,2,  34.6826,2,  34.6827,6,   140.57,2,   140.44,2,   134.95,2,     0.42,    36.55,2,     0.14,     0.00,2,     0.01,    2.565,2,    0.016, -999.000,9, -999.000,9, -999.000,9,   -999.0,9,   -999.0,9,-999.0000,-999,9,  -999.00,9,  -999.00,   -999.0,9,   -999.0,   1.5172,  27.7542
  49NZ20090410,   P21,    43,  1,     10, X12040,2,20090422,1111,-16.7448, -82.9937, 4624,   3753.1,2,   1.7831,2,   1.78319,2,  34.6852,2,  34.6850,2,   145.80,2,   145.72,2,   131.63,2,     0.41,    35.96,2,     0.13,     0.00,2,     0.01,    2.536,2,    0.016,    0.000,2,    0.002,2,    0.000,2,   -999.0,9,   -999.0,9,-999.0000,-999,9,  -999.00,9,  -999.00,   -999.0,9,   -999.0,   1.4831,  27.7588
  49NZ20090410,   P21,    43,  1,      9, X12009,2,20090422,1111,-16.7448, -82.9937, 4624,   3999.1,2,   1.7775,2,   1.77749,2,  34.6875,2,  34.6876,2,   151.52,2,   151.43,2,   127.35,2,     0.40,    35.47,2,     0.13,     0.00,2,     0.01,    2.501,2,    0.016,    0.002,2,    0.002,2,    0.000,2,   -999.0,9,   -999.0,9,-999.0000,-999,9,  -999.00,9,  -999.00,   -999.0,9,   -999.0,   1.4509,  27.7630
  49NZ20090410,   P21,    43,  1,      8, X12008,2,20090422,1111,-16.7448, -82.9937, 4624,   4250.0,2,   1.7802,2,   1.78023,2,  34.6890,2,  34.6892,2,   153.71,2,   153.82,2,   126.25,2,     0.40,    35.33,2,     0.13,     0.00,2,     0.01,    2.489,2,    0.016,    0.003,2,    0.000,2,    0.000,2,   -999.0,9,   -999.0,9,-999.0000,-999,9,  -999.00,9,  -999.00,   -999.0,9,   -999.0,   1.4254,  27.7660
  49NZ20090410,   P21,    43,  1,      7, X12007,2,20090422,1111,-16.7448, -82.9937, 4624,   4500.9,2,   1.7964,2,   1.79655,2,  34.6897,2,  34.6901,2,   153.82,2,   153.90,2,   126.34,2,     0.40,    35.38,2,     0.13,     0.00,2,     0.01,    2.485,2,    0.016,    0.006,2,    0.001,2,    0.000,2,   -999.0,9,   -999.0,9,-999.0000,-999,9,  -999.00,9,  -999.00,   -999.0,9,   -999.0,   1.4121,  27.7676
  49NZ20090410,   P21,    43,  1,      6, X12035,2,20090422,1111,-16.7448, -82.9937, 4624,     10.1,2,  23.3140,2,  23.31362,2,  35.5902,2,-999.0000,9,   214.05,2,  -999.00,9,     0.89,2,     0.12,     0.10,2,     0.03,     0.01,2,     0.01,    0.522,2,    0.013, -999.000,9, -999.000,9, -999.000,9,   -999.0,9,   -999.0,9,-999.0000,-999,9,  -999.00,9,  -999.00,   -999.0,9,   -999.0,  23.3119,  24.2908
  49NZ20090410,   P21,    43,  1,      5, X12038,2,20090422,1111,-16.7448, -82.9937, 4624,     50.0,2,  19.6032,2,  19.61143,2,  35.1515,2,-999.0000,9,   245.03,2,  -999.00,9,     1.31,2,     0.12,     1.89,2,     0.04,     0.47,2,     0.01,    0.681,2,    0.013, -999.000,9, -999.000,9, -999.000,9,   -999.0,9,   -999.0,9,-999.0000,-999,9,  -999.00,9,  -999.00,   -999.0,9,   -999.0,  19.5941,  24.9837
  49NZ20090410,   P21,    43,  1,      4, X12034,2,20090422,1111,-16.7448, -82.9937, 4624,    100.0,2,  15.2079,2,  15.20695,2,  34.6515,2,-999.0000,9,   208.58,2,  -999.00,9,     1.68,2,     0.12,     7.89,2,     0.05,     0.32,2,     0.01,    0.916,2,    0.013, -999.000,9, -999.000,9, -999.000,9,   -999.0,9,   -999.0,9,-999.0000,-999,9,  -999.00,9,  -999.00,   -999.0,9,   -999.0,  15.1927,  25.6608
  49NZ20090410,   P21,    43,  1,      3, X12033,2,20090422,1111,-16.7448, -82.9937, 4624,    151.3,2,  13.3232,2,  13.33443,2,  34.7908,2,-999.0000,9,    22.51,2,  -999.00,9,    16.58,2,     0.16,    23.49,2,     0.10,     0.02,2,     0.01,    2.594,2,    0.016, -999.000,9, -999.000,9, -999.000,9,   -999.0,9,   -999.0,9,-999.0000,-999,9,  -999.00,9,  -999.00,   -999.0,9,   -999.0,  13.3021,  26.1698
  49NZ20090410,   P21,    43,  1,      2, X12032,2,20090422,1111,-16.7448, -82.9937, 4624,    200.1,2,  12.3158,2,  12.31555,2,  34.8170,2,-999.0000,9,     1.37,2,  -999.00,9,    25.72,2,     0.18,    19.18,2,     0.09,     0.65,2,     0.01,    2.742,2,    0.017, -999.000,9, -999.000,9, -999.000,9,   -999.0,9,   -999.0,9,-999.0000,-999,9,  -999.00,9,  -999.00,   -999.0,9,   -999.0,  12.2893,  26.3913
  49NZ20090410,   P21,    43,  1,      1, X12046,2,20090422,1111,-16.7448, -82.9937, 4624,   4695.4,2,   1.8200,2,   1.82008,2,  34.6896,2,  34.6901,6,   153.68,2,   153.79,2,   126.60,2,     0.40,    35.32,2,     0.13,     0.01,2,     0.01,    2.488,2,    0.016,    0.005,2,    0.002,2,    0.000,2,   -999.0,9,   -999.0,9,-999.0000,-999,9,  -999.00,9,  -999.00,   -999.0,9,   -999.0,   1.4120,  27.7675