BOTTLE,20220818CCHSIOAMB
EXPOCODE,SECT_ID,STNNBR,CASTNO,SAMPNO,BTLNBR,BTLNBR_FLAG_W,DATE,TIME,LATITUDE,LONGITUDE,DEPTH,CTDPRS,CTDPRS_FLAG_W,CTDTMP,CTDTMP_FLAG_W,SBE35,SBE35_FLAG_W,CTDSAL,CTDSAL_FLAG_W,SALNTY,SALNTY_FLAG_W,CTDOXY,CTDOXY_FLAG_W,OXYGEN,OXYGEN_FLAG_W,SILCAT,SILCAT_FLAG_W,SILUNC,NITRAT,NITRAT_FLAG_W,NRAUNC,NITRIT,NITRIT_FLAG_W,NRIUNC,PHSPHT,PHSPHT_FLAG_W,PHPUNC,CFC-11,CFC-11_FLAG_W,CFC-12,CFC-12_FLAG_W,CFC113,CFC113_FLAG_W,TCARBN,TCARBN_FLAG_W,ALKALI,ALKALI_FLAG_W,PH_TOT,PH_TMP,PH_TOT_FLAG_W,DELC13,DELC13_FLAG_W,C13ERR,DELC14,DELC14_FLAG_W,C14ERR,THETA,SIG0
,,,,,,,,,,,METERS,DBAR,,ITS-90,,ITS-90,,PSS-78,,PSS-78,,UMOL/KG,,UMOL/KG,,UMOL/KG,,UMOL/KG,UMOL/KG,,UMOL/KG,UMOL/KG,,UMOL/KG,UMOL/KG,,UMOL/KG,PMOL/KG,,PMOL/KG,,PMOL/KG,,UMOL/KG,,UMOL/KG,,,DEG C,,/MILLE,,/MILLE,/MILLE,,/MILLE,DEG C,KG/M^3
  49NZ20090410,   P21,   158,  1,     36, X12006,2,20090517,2239,-17.4963,-148.9978, 3142,      9.9,2,  28.1030,2,  28.10982,2,  36.2360,2,  36.2354,2,   197.21,2,   197.09,2,     0.72,2,     0.12,     0.07,2,     0.03,     0.01,2,     0.01,    0.200,2,    0.016,    1.430,2,    0.941,2, -999.000,5,   2019.4,2,   2386.7,2,   8.1308,  25,6,  -999.00,9,  -999.00,   -999.0,9,   -999.0,  28.1007,  23.2914
  49NZ20090410,   P21,   158,  1,     35, X12047,2,20090517,2239,-17.4963,-148.9978, 3142,     49.8,2,  27.9828,2,  27.98137,2,  36.2370,2,  36.2372,2,   197.29,2,   197.81,2,     0.66,2,     0.12,     0.07,2,     0.03,     0.01,2,     0.01,    0.209,2,    0.016,    1.447,2,    0.955,2, -999.000,5,   2019.7,6,   2385.1,2,   8.1304,  25,2,  -999.00,9,  -999.00,   -999.0,9,   -999.0,  27.9710,  23.3347
  49NZ20090410,   P21,   158,  1,     34, X12004,2,20090517,2239,-17.4963,-148.9978, 3142,    100.1,2,  25.5588,2,  25.56246,2,  36.3712,2,  36.3763,2,   203.86,2,   203.06,2,     0.63,2,     0.12,     0.06,2,     0.03,     0.01,2,     0.01,    0.208,2,    0.016,    1.652,6,    1.066,6, -999.000,5,   2049.5,2,   2393.0,6,   8.0937,  25,2,  -999.00,9,  -999.00,   -999.0,9,   -999.0,  25.5366,  24.2128
  49NZ20090410,   P21,   158,  1,     33, X12003,2,20090517,2239,-17.4963,-148.9978, 3142,    149.4,2,  24.1545,2,  24.14678,2,  36.2332,2,  36.2350,2,   188.68,2,   189.12,2,     0.61,2,     0.12,     0.64,2,     0.03,     0.27,2,     0.01,    0.277,2,    0.014,    1.731,2,    1.106,2, -999.000,5,   2061.0,2,   2382.2,2,   8.0613,  25,6,  -999.00,9,  -999.00,   -999.0,9,   -999.0,  24.1227,  24.5387
  49NZ20090410,   P21,   158,  1,     32, X12002,2,20090517,2239,-17.4963,-148.9978, 3142,    199.2,2,  22.7465,2,  22.74633,2,  36.0716,2,  36.0666,2,   182.12,2,   181.95,2,     0.59,2,     0.12,     1.92,2,     0.04,     0.03,2,     0.01,    0.352,2,    0.014,    1.867,2,    1.174,2,    0.146,2,   2075.4,2,   2370.7,2,   8.0234,  25,2,  -999.00,9,  -999.00,   -999.0,9,   -999.0,  22.7059,  24.8315
  49NZ20090410,   P21,   158,  1,     31, X12001,2,20090517,2239,-17.4963,-148.9978, 3142,    249.5,2,  20.1839,2,  20.18763,2,  35.7233,2,  35.7206,6,   180.13,2,   180.21,2,     0.81,2,     0.12,     3.51,2,     0.04,     0.02,2,     0.01,    0.456,2,    0.013,    2.119,2,    1.280,2,    0.038,2,   2088.4,2,   2349.4,2,   7.9697,  25,2,  -999.00,9,  -999.00,   -999.0,9,   -999.0,  20.1372,  25.2772
  49NZ20090410,   P21,   158,  1,     30, X12030,2,20090517,2239,-17.4963,-148.9978, 3142,    277.9,2,  18.6282,2,  18.62753,2,  35.4957,2,  35.5138,2,   181.20,2,   181.29,2,     1.06,2,     0.12,     4.48,2,     0.05,     0.02,2,     0.01,    0.539,2,    0.013,    2.230,2,    1.339,2,    0.031,2,   2091.2,2,   2336.6,2,   7.9451,  25,2,  -999.00,9,  -999.00,   -999.0,9,   -999.0,  18.5791,  25.5071
  49NZ20090410,   P21,   158,  1,     29, X12044,2,20090517,2239,-17.4963,-148.9978, 3142,    370.4,2,  13.8566,2,  13.85554,2,  34.8891,2,  34.8735,2,   166.73,2,   165.67,2,     4.64,2,     0.13,    12.47,2,     0.07,     0.01,2,     0.01,    1.090,2,    0.013,    2.226,6,    1.235,6,    0.030,6,   2125.4,2,   2299.0,2,   7.8098,  25,2,  -999.00,9,  -999.00,   -999.0,9,   -999.0,  13.8032,  26.1426
  49NZ20090410,   P21,   158,  1,     28, X12048,2,20090517,2239,-17.4963,-148.9978, 3142,    471.0,2,   9.2381,2,   9.23293,2,  34.5038,2,  34.5031,6,   153.34,2,   153.66,2,    11.40,2,     0.14,    23.33,2,     0.10,     0.01,2,     0.01,    1.779,2,    0.015,    1.611,2,    0.840,2,    0.032,2,   2170.8,2,   2284.7,2,   7.6657,  25,2,  -999.00,9,  -999.00,   -999.0,9,   -999.0,   9.1856,  26.6997
  49NZ20090410,   P21,   158,  1,     27, X12027,2,20090517,2239,-17.4963,-148.9978, 3142,    568.6,2,   6.9703,2,   6.97591,2,  34.4205,2,  34.4208,2,   156.12,2,   156.13,2,    20.24,2,     0.16,    29.16,2,     0.11,     0.01,2,     0.01,    2.098,2,    0.015,    0.882,6,    0.457,6,    0.017,6,   2194.7,2,   2288.9,2,   7.6169,  25,2,  -999.00,9,  -999.00,   -999.0,9,   -999.0,   6.9162,  26.9738
  49NZ20090410,   P21,   158,  1,     26, X12026,2,20090517,2239,-17.4963,-148.9978, 3142,    669.7,2,   5.8881,2,   5.88862,2,  34.4227,2,  34.4229,2,   153.72,2,   153.85,2,    31.20,2,     0.19,    31.78,2,     0.12,     0.01,2,     0.01,    2.246,2,    0.016,    0.385,2,    0.197,2,    0.011,2,   2211.2,6,   2299.4,2,   7.6010,  25,2,  -999.00,9,  -999.00,   -999.0,9,   -999.0,   5.8294,  27.1179
  49NZ20090410,   P21,   158,  1,     25, X12025,2,20090517,2239,-17.4963,-148.9978, 3142,    770.9,2,   5.1320,2,   5.13247,2,  34.4492,2,  34.4494,2,   148.62,2,   148.60,2,    44.24,2,     0.22,    33.41,2,     0.13,     0.01,2,     0.01,    2.364,2,    0.016,    0.153,2,    0.083,2,    0.000,2,   2228.3,2,   2313.7,6,   7.5888,  25,2,  -999.00,9,  -999.00,   -999.0,9,   -999.0,   5.0683,  27.2307
  49NZ20090410,   P21,   158,  1,     24, X12024,2,20090517,2239,-17.4963,-148.9978, 3142,    870.4,2,   4.5599,2,   4.56068,2,  34.4676,2,  34.4674,2,   146.84,2,   146.76,2,    54.17,2,     0.24,    34.34,2,     0.13,     0.01,2,     0.01,    2.430,2,    0.016,    0.069,2,    0.042,2,    0.000,2,   2241.5,2,   2324.6,2,   7.5817,  25,6,  -999.00,9,  -999.00,   -999.0,9,   -999.0,   4.4912,  27.3104
  49NZ20090410,   P21,   158,  1,     23, X12028,2,20090517,2239,-17.4963,-148.9978, 3142,    971.7,2,   4.1296,2,   4.12949,2,  34.4867,2,  34.4878,6,   145.67,2,   145.70,2,    62.87,2,     0.26,    34.91,2,     0.13,     0.01,2,     0.01,    2.466,2,    0.016,    0.032,2,    0.019,2,    0.000,2,   2252.3,2,   2334.6,2,   7.5770,  25,2,  -999.00,9,  -999.00,   -999.0,9,   -999.0,   4.0553,  27.3721
  49NZ20090410,   P21,   158,  1,     22, X12022,2,20090517,2239,-17.4963,-148.9978, 3142,   1130.3,2,   3.4615,2,   3.46153,2,  34.5263,2,  34.5272,2,   144.16,2,   144.23,2,    77.35,2,     0.29,    35.61,2,     0.13,     0.01,2,     0.01,    2.516,2,    0.016,    0.006,2,    0.005,2,    0.000,2,   2269.5,2,   2349.3,2,   7.5719,  25,2,  -999.00,9,  -999.00,   -999.0,9,   -999.0,   3.3795,  27.4713
  49NZ20090410,   P21,   158,  1,     21, X12021,2,20090517,2239,-17.4963,-148.9978, 3142,   1330.6,2,   3.0088,2,   3.00926,2,  34.5630,2,  34.5631,2,   143.25,2,   143.40,2,    89.64,2,     0.32,    35.91,2,     0.13,     0.01,2,     0.01,    2.540,2,    0.016,    0.002,2,    0.002,2,    0.000,2,   2283.8,2,   2363.0,2,   7.5700,  25,2,  -999.00,9,  -999.00,   -999.0,9,   -999.0,   2.9148,  27.5440
  49NZ20090410,   P21,   158,  1,     20, X12020,2,20090517,2239,-17.4963,-148.9978, 3142,   1531.3,2,   2.6864,2,   2.68619,2,  34.5860,2,  34.5860,2,   145.77,2,   145.84,2,    97.45,2,     0.33,    35.93,2,     0.13,     0.01,2,     0.01,    2.538,2,    0.016,    0.001,2,    0.000,2,    0.000,2,   2292.3,2,   2372.3,2,   7.5716,  25,6,  -999.00,9,  -999.00,   -999.0,9,   -999.0,   2.5796,  27.5920
  49NZ20090410,   P21,   158,  1,     19, X12019,2,20090517,2239,-17.4963,-148.9978, 3142,   1730.2,2,   2.4254,2,   2.42535,2,  34.6079,2,  34.6081,6,   147.65,2,   147.71,2,   104.44,2,     0.35,    35.83,2,     0.13,     0.01,2,     0.01,    2.530,2,    0.016,    0.000,2,    0.000,2,    0.000,2,   2297.4,2,   2380.2,2,   7.5749,  25,2,  -999.00,9,  -999.00,   -999.0,9,   -999.0,   2.3055,  27.6328
  49NZ20090410,   P21,   158,  1,     18, X12043,2,20090517,2239,-17.4963,-148.9978, 3142,   1930.4,2,   2.2093,2,   2.20941,2,  34.6267,2,  34.6266,2,   149.92,2,   150.09,2,   110.34,2,     0.36,    35.72,2,     0.13,     0.01,2,     0.01,    2.527,2,    0.016,    0.002,2,    0.001,2,    0.000,2,   2302.0,2,   2386.0,2,   7.5812,  25,2,  -999.00,9,  -999.00,   -999.0,9,   -999.0,   2.0756,  27.6666
  49NZ20090410,   P21,   158,  1,     17, X12042,2,20090517,2239,-17.4963,-148.9978, 3142,   2132.6,2,   2.0681,2,   2.06808,2,  34.6392,2,  34.6393,2,   152.13,2,   152.19,2,   113.67,2,     0.37,    35.65,2,     0.13,     0.01,2,     0.01,    2.510,2,    0.016,    0.001,2,    0.001,2,    0.000,2,   2304.2,2,   2390.2,2,   7.5852,  25,2,  -999.00,9,  -999.00,   -999.0,9,   -999.0,   1.9193,  27.6890
  49NZ20090410,   P21,   158,  1,     16, X12016,2,20090517,2239,-17.4963,-148.9978, 3142,   2329.3,2,   1.9319,2,   1.93181,2,  34.6505,2,  34.6507,2,   155.52,2,   155.58,2,   116.42,2,     0.38,    35.41,2,     0.13,     0.01,2,     0.01,    2.484,2,    0.016,    0.000,2,    0.000,2,    0.000,2,   2305.1,6,   2392.4,2,   7.5896,  25,2,  -999.00,9,  -999.00,   -999.0,9,   -999.0,   1.7682,  27.7097
  49NZ20090410,   P21,   158,  1,     15, X12015,2,20090517,2239,-17.4963,-148.9978, 3142,   2530.2,2,   1.8298,2,   1.82971,2,  34.6597,2,  34.6595,6,   157.57,2,   157.60,2,   118.92,2,     0.38,    35.31,2,     0.13,     0.01,2,     0.01,    2.477,2,    0.016,    0.000,2,    0.001,2,    0.000,2,   2306.5,2,   2394.6,6,   7.5914,  25,2,  -999.00,9,  -999.00,   -999.0,9,   -999.0,   1.6499,  27.7260
  49NZ20090410,   P21,   158,  1,     14, X12050,2,20090517,2239,-17.4963,-148.9978, 3142,   2729.0,2,   1.7574,2,   1.75756,2,  34.6660,2,  34.6659,2,   160.02,2,   160.09,2,   120.24,2,     0.38,    35.14,2,     0.13,     0.01,2,     0.01,    2.470,2,    0.016,    0.000,2,    0.000,2,    0.000,2,   2307.6,2,   2394.9,2,   7.5945,  25,2,  -999.00,9,  -999.00,   -999.0,9,   -999.0,   1.5607,  27.7377
  49NZ20090410,   P21,   158,  1,     13, X12014,2,20090517,2239,-17.4963,-148.9978, 3142,   2930.4,2,   1.6717,2,   1.67164,2,  34.6731,2,  34.6727,2,   163.62,2,   163.66,2,   121.22,2,     0.39,    34.93,2,     0.13,     0.01,2,     0.01,    2.456,2,    0.016,    0.000,2,    0.001,2,    0.000,2,   2304.4,2,   2395.3,2,   7.5979,  25,2,  -999.00,9,  -999.00,   -999.0,9,   -999.0,   1.4578,  27.7509
  49NZ20090410,   P21,   158,  1,     12, X12012,9,20090517,2239,-17.4963,-148.9978, 3142,      9.9,2,  28.0923,2,  28.09192,2,  36.2366,2,-999.0000,9,   197.17,2,  -999.00,9,  -999.00,9,  -999.00,  -999.00,9,  -999.00,  -999.00,9,  -999.00, -999.000,9, -999.000, -999.000,9, -999.000,9, -999.000,9,   -999.0,9,   -999.0,9,-999.0000,-999,9,  -999.00,9,  -999.00,   -999.0,9,   -999.0,  28.0900,  23.2953
  49NZ20090410,   P21,   158,  1,     11, X12041,9,20090517,2239,-17.4963,-148.9978, 3142,   3153.7,2,   1.5975,2,   1.59735,2,  34.6790,2,-999.0000,9,   167.94,2,  -999.00,9,  -999.00,9,  -999.00,  -999.00,9,  -999.00,  -999.00,9,  -999.00, -999.000,9, -999.000, -999.000,9, -999.000,9, -999.000,9,   -999.0,9,   -999.0,9,-999.0000,-999,9,  -999.00,9,  -999.00,   -999.0,9,   -999.0,   1.3637,  27.7624
  49NZ20090410,   P21,   158,  1,     10, X12040,9,20090517,2239,-17.4963,-148.9978, 3142,   1531.7,2,   2.6859,2,   2.68597,2,  34.5861,2,-999.0000,9,   145.79,2,  -999.00,9,  -999.00,9,  -999.00,  -999.00,9,  -999.00,  -999.00,9,  -999.00, -999.000,9, -999.000, -999.000,9, -999.000,9, -999.000,9,   -999.0,9,   -999.0,9,-999.0000,-999,9,  -999.00,9,  -999.00,   -999.0,9,   -999.0,   2.5791,  27.5921
  49NZ20090410,   P21,   158,  1,      9, X12009,9,20090517,2239,-17.4963,-148.9978, 3142,   1730.3,2,   2.4254,2,   2.42539,2,  34.6080,2,-999.0000,9,   147.65,2,  -999.00,9,  -999.00,9,  -999.00,  -999.00,9,  -999.00,  -999.00,9,  -999.00, -999.000,9, -999.000, -999.000,9, -999.000,9, -999.000,9,   -999.0,9,   -999.0,9,-999.0000,-999,9,  -999.00,9,  -999.00,   -999.0,9,   -999.0,   2.3054,  27.6328
  49NZ20090410,   P21,   158,  1,      8, X12008,9,20090517,2239,-17.4963,-148.9978, 3142,   1930.7,2,   2.2095,2,   2.20954,2,  34.6268,2,-999.0000,9,   149.92,2,  -999.00,9,  -999.00,9,  -999.00,  -999.00,9,  -999.00,  -999.00,9,  -999.00, -999.000,9, -999.000, -999.000,9, -999.000,9, -999.000,9,   -999.0,9,   -999.0,9,-999.0000,-999,9,  -999.00,9,  -999.00,   -999.0,9,   -999.0,   2.0758,  27.6666
  49NZ20090410,   P21,   158,  1,      7, X12007,9,20090517,2239,-17.4963,-148.9978, 3142,   2131.7,2,   2.0678,2,   2.06787,2,  34.6393,2,-999.0000,9,   152.15,2,  -999.00,9,  -999.00,9,  -999.00,  -999.00,9,  -999.00,  -999.00,9,  -999.00, -999.000,9, -999.000, -999.000,9, -999.000,9, -999.000,9,   -999.0,9,   -999.0,9,-999.0000,-999,9,  -999.00,9,  -999.00,   -999.0,9,   -999.0,   1.9191,  27.6890
  49NZ20090410,   P21,   158,  1,      6, X12035,9,20090517,2239,-17.4963,-148.9978, 3142,   2329.1,2,   1.9317,2,   1.93173,2,  34.6505,2,-999.0000,9,   155.50,2,  -999.00,9,  -999.00,9,  -999.00,  -999.00,9,  -999.00,  -999.00,9,  -999.00, -999.000,9, -999.000, -999.000,9, -999.000,9, -999.000,9,   -999.0,9,   -999.0,9,-999.0000,-999,9,  -999.00,9,  -999.00,   -999.0,9,   -999.0,   1.7680,  27.7097
  49NZ20090410,   P21,   158,  1,      5, X12038,9,20090517,2239,-17.4963,-148.9978, 3142,   2530.7,2,   1.8300,2,   1.83020,2,  34.6597,2,-999.0000,9,   157.55,2,  -999.00,9,  -999.00,9,  -999.00,  -999.00,9,  -999.00,  -999.00,9,  -999.00, -999.000,9, -999.000, -999.000,9, -999.000,9, -999.000,9,   -999.0,9,   -999.0,9,-999.0000,-999,9,  -999.00,9,  -999.00,   -999.0,9,   -999.0,   1.6501,  27.7260
  49NZ20090410,   P21,   158,  1,      4, X12034,9,20090517,2239,-17.4963,-148.9978, 3142,   2729.9,2,   1.7572,2,   1.75748,2,  34.6662,2,-999.0000,9,   159.94,2,  -999.00,9,  -999.00,9,  -999.00,  -999.00,9,  -999.00,  -999.00,9,  -999.00, -999.000,9, -999.000, -999.000,9, -999.000,9, -999.000,9,   -999.0,9,   -999.0,9,-999.0000,-999,9,  -999.00,9,  -999.00,   -999.0,9,   -999.0,   1.5604,  27.7378
  49NZ20090410,   P21,   158,  1,      3, X12033,9,20090517,2239,-17.4963,-148.9978, 3142,   2931.1,2,   1.6717,2,   1.67164,2,  34.6731,2,-999.0000,9,   163.60,2,  -999.00,9,  -999.00,9,  -999.00,  -999.00,9,  -999.00,  -999.00,9,  -999.00, -999.000,9, -999.000, -999.000,9, -999.000,9, -999.000,9,   -999.0,9,   -999.0,9,-999.0000,-999,9,  -999.00,9,  -999.00,   -999.0,9,   -999.0,   1.4577,  27.7509
  49NZ20090410,   P21,   158,  1,      2, X12032,9,20090517,2239,-17.4963,-148.9978, 3142,    870.3,2,   4.5616,2,   4.56166,2,  34.4676,2,-999.0000,9,   146.87,2,  -999.00,9,  -999.00,9,  -999.00,  -999.00,9,  -999.00,  -999.00,9,  -999.00, -999.000,9, -999.000, -999.000,9, -999.000,9, -999.000,9,   -999.0,9,   -999.0,9,-999.0000,-999,9,  -999.00,9,  -999.00,   -999.0,9,   -999.0,   4.4929,  27.3101
  49NZ20090410,   P21,   158,  1,      1, X12046,2,20090517,2239,-17.4963,-148.9978, 3142,   3153.9,2,   1.5972,2,   1.59717,2,  34.6790,2,  34.6792,6,   167.96,2,   167.91,2,   121.22,2,     0.39,    34.70,2,     0.13,     0.01,2,     0.01,    2.434,2,    0.016,    0.000,2,    0.001,2,    0.000,2,   2300.9,2,   2392.5,2,   7.6007,  25,2,  -999.00,9,  -999.00,   -999.0,9,   -999.0,   1.3633,  27.7624