BOTTLE,20220818CCHSIOAMB
EXPOCODE,SECT_ID,STNNBR,CASTNO,SAMPNO,BTLNBR,BTLNBR_FLAG_W,DATE,TIME,LATITUDE,LONGITUDE,DEPTH,CTDPRS,CTDPRS_FLAG_W,CTDTMP,CTDTMP_FLAG_W,SBE35,SBE35_FLAG_W,CTDSAL,CTDSAL_FLAG_W,SALNTY,SALNTY_FLAG_W,CTDOXY,CTDOXY_FLAG_W,OXYGEN,OXYGEN_FLAG_W,SILCAT,SILCAT_FLAG_W,SILUNC,NITRAT,NITRAT_FLAG_W,NRAUNC,NITRIT,NITRIT_FLAG_W,NRIUNC,PHSPHT,PHSPHT_FLAG_W,PHPUNC,CFC-11,CFC-11_FLAG_W,CFC-12,CFC-12_FLAG_W,CFC113,CFC113_FLAG_W,TCARBN,TCARBN_FLAG_W,ALKALI,ALKALI_FLAG_W,PH_TOT,PH_TMP,PH_TOT_FLAG_W,DELC13,DELC13_FLAG_W,C13ERR,DELC14,DELC14_FLAG_W,C14ERR,THETA,SIG0
,,,,,,,,,,,METERS,DBAR,,ITS-90,,ITS-90,,PSS-78,,PSS-78,,UMOL/KG,,UMOL/KG,,UMOL/KG,,UMOL/KG,UMOL/KG,,UMOL/KG,UMOL/KG,,UMOL/KG,UMOL/KG,,UMOL/KG,PMOL/KG,,PMOL/KG,,PMOL/KG,,UMOL/KG,,UMOL/KG,,,DEG C,,/MILLE,,/MILLE,/MILLE,,/MILLE,DEG C,KG/M^3
  49NZ20090410,   P21,    78,  1,     36, X12006,2,20090501,0941,-16.7530,-104.0012, 3860,     10.0,2,  24.7433,2,  24.74260,2,  36.0818,2,  36.0815,2,   209.71,2,   209.16,2,     0.60,2,     0.12,     0.06,2,     0.03,     0.01,2,     0.01,    0.366,2,    0.014,    1.671,2,    1.071,2, -999.000,5,   2060.3,2,   2388.1,2,   8.0692,  25,2,  -999.00,9,  -999.00,   -999.0,9,   -999.0,  24.7411,  24.2379
  49NZ20090410,   P21,    78,  1,     35, X12047,2,20090501,0941,-16.7530,-104.0012, 3860,     50.2,2,  24.6706,2,  24.67018,2,  36.0678,2,  36.0714,2,   209.54,2,   209.14,2,     0.57,2,     0.12,     0.05,2,     0.03,     0.01,2,     0.01,    0.356,2,    0.014,    1.669,2,    1.069,2, -999.000,5,   2059.4,2,   2387.3,2,   8.0690,  25,2,  -999.00,9,  -999.00,   -999.0,9,   -999.0,  24.6598,  24.2519
  49NZ20090410,   P21,    78,  1,     34, X12004,2,20090501,0941,-16.7530,-104.0012, 3860,    100.6,2,  21.5967,2,  21.59787,2,  35.9130,2,  35.9152,2,   220.84,2,   222.09,2,     0.31,2,     0.12,     0.05,2,     0.03,     0.01,2,     0.01,    0.327,2,    0.014,    1.972,6,    1.239,6, -999.000,5,   2078.0,2,   2375.1,6,   8.0229,  25,2,  -999.00,9,  -999.00,   -999.0,9,   -999.0,  21.5770,  25.0301
  49NZ20090410,   P21,    78,  1,     33, X12003,2,20090501,0941,-16.7530,-104.0012, 3860,    150.4,2,  19.0401,2,  19.07372,2,  35.5045,2,  35.5033,2,   204.08,2,   203.97,2,     0.44,2,     0.12,     2.72,2,     0.04,     0.09,2,     0.01,    0.485,2,    0.013,    2.184,2,    1.362,2,    0.209,4,   2090.5,2,   2345.8,2,   7.9560,  25,6,  -999.00,9,  -999.00,   -999.0,9,   -999.0,  19.0132,  25.4035
  49NZ20090410,   P21,    78,  1,     32, X12002,2,20090501,0941,-16.7530,-104.0012, 3860,    201.0,2,  17.3760,2,  17.37527,2,  35.1665,2,  35.1553,2,   190.92,2,   189.89,2,     1.36,2,     0.12,     7.83,2,     0.05,     0.02,2,     0.01,    0.885,2,    0.013,    2.358,2,    1.448,2,    0.123,2,   2113.1,2,   2323.7,2,   7.8797,  25,2,  -999.00,9,  -999.00,   -999.0,9,   -999.0,  17.3423,  25.5601
  49NZ20090410,   P21,    78,  1,     31, X12001,2,20090501,0941,-16.7530,-104.0012, 3860,    249.3,2,  13.5958,2,  13.58392,2,  34.6692,2,  34.6625,6,   146.05,2,   143.63,2,     5.06,2,     0.13,    15.23,2,     0.08,     0.01,2,     0.01,    1.417,2,    0.014,    2.485,2,    1.437,2,    0.065,2,   2147.8,2,   2287.0,2,   7.7336,  25,2,  -999.00,9,  -999.00,   -999.0,9,   -999.0,  13.5605,  26.0228
  49NZ20090410,   P21,    78,  1,     30, X12030,2,20090501,0941,-16.7530,-104.0012, 3860,    330.7,2,  10.5161,2,  10.51737,2,  34.6004,2,  34.5970,2,    37.22,2,    36.96,2,    19.87,2,     0.16,    27.66,2,     0.11,     0.01,2,     0.01,    2.537,2,    0.016,    1.009,2,    0.530,2,    0.009,2,   2250.2,2,   2287.7,2,   7.4479,  25,2,  -999.00,9,  -999.00,   -999.0,9,   -999.0,  10.4764,  26.5576
  49NZ20090410,   P21,    78,  1,     29, X12044,2,20090501,0941,-16.7530,-104.0012, 3860,    428.5,2,   8.4884,2,   8.48750,2,  34.5597,2,  34.5588,2,    35.42,2,    35.14,2,    26.04,2,     0.18,    36.47,2,     0.13,     0.01,2,     0.01,    2.729,2,    0.017,    0.275,2,    0.147,2,    0.000,2,   2265.0,2,   2293.1,2,   7.4164,  25,2,  -999.00,9,  -999.00,   -999.0,9,   -999.0,   8.4431,  26.8608
  49NZ20090410,   P21,    78,  1,     28, X12048,2,20090501,0941,-16.7530,-104.0012, 3860,    530.0,2,   7.0261,2,   7.02685,2,  34.4925,2,  34.4918,6,    67.06,2,    66.96,2,    29.62,2,     0.18,    38.16,2,     0.14,     0.01,2,     0.01,    2.693,2,    0.017,    0.159,2,    0.083,2,    0.000,2,   2254.9,2,   2295.7,2,   7.4545,  25,2,  -999.00,9,  -999.00,   -999.0,9,   -999.0,   6.9756,  27.0223
  49NZ20090410,   P21,    78,  1,     27, X12027,2,20090501,0941,-16.7530,-104.0012, 3860,    629.8,2,   6.1861,2,   6.18671,2,  34.4866,2,  34.4863,2,    64.11,2,    64.27,2,    38.83,2,     0.20,    40.47,2,     0.15,     0.01,2,     0.01,    2.851,2,    0.017,    0.035,6,    0.019,6,    0.000,6,   2267.0,2,   2305.2,2,   7.4435,  25,2,  -999.00,9,  -999.00,   -999.0,9,   -999.0,   6.1296,  27.1304
  49NZ20090410,   P21,    78,  1,     26, X12026,2,20090501,0941,-16.7530,-104.0012, 3860,    729.5,2,   5.5511,2,   5.55106,2,  34.4978,2,  34.4972,2,    52.61,2,    52.68,2,    50.97,2,     0.23,    42.70,2,     0.15,     0.01,2,     0.01,    3.022,2,    0.018,    0.005,2,    0.002,2,    0.000,2,   2288.3,6,   2317.3,2,   7.4162,  25,2,  -999.00,9,  -999.00,   -999.0,9,   -999.0,   5.4887,  27.2193
  49NZ20090410,   P21,    78,  1,     25, X12025,2,20090501,0941,-16.7530,-104.0012, 3860,    829.1,2,   5.0124,2,   5.01114,2,  34.5019,2,  34.5015,2,    59.97,2,    59.97,2,    59.84,2,     0.25,    42.79,2,     0.15,     0.01,2,     0.01,    3.039,2,    0.018,    0.001,2,    0.001,2,    0.000,2,   2294.7,2,   2325.7,6,   7.4251,  25,2,  -999.00,9,  -999.00,   -999.0,9,   -999.0,   4.9443,  27.2867
  49NZ20090410,   P21,    78,  1,     24, X12024,2,20090501,0941,-16.7530,-104.0012, 3860,    930.1,2,   4.5929,2,   4.59353,2,  34.5164,2,  34.5164,2,    63.48,2,    63.60,2,    69.28,2,     0.27,    42.79,2,     0.15,     0.01,2,     0.01,    3.060,2,    0.018,    0.002,2,    0.001,2,    0.000,2,   2304.0,2,   2336.5,2,   7.4310,  25,6,  -999.00,9,  -999.00,   -999.0,9,   -999.0,   4.5188,  27.3461
  49NZ20090410,   P21,    78,  1,     23, X12028,2,20090501,0941,-16.7530,-104.0012, 3860,   1069.0,2,   4.1292,2,   4.12903,2,  34.5332,2,  34.5328,6,    70.58,2,    70.43,2,    79.41,2,     0.29,    42.17,2,     0.15,     0.01,2,     0.01,    3.034,2,    0.018,    0.001,2,    0.001,2,    0.000,2,   2311.4,2,   2347.2,2,   7.4442,  25,2,  -999.00,9,  -999.00,   -999.0,9,   -999.0,   4.0467,  27.4100
  49NZ20090410,   P21,    78,  1,     22, X12022,2,20090501,0941,-16.7530,-104.0012, 3860,   1270.0,2,   3.4719,2,   3.47151,2,  34.5634,2,  34.5635,2,    81.20,2,    81.17,2,    94.91,2,     0.33,    41.25,2,     0.15,     0.01,2,     0.01,    2.981,2,    0.017,    0.001,2,    0.001,2,    0.000,2,   2323.6,2,   2365.3,2,   7.4611,  25,2,  -999.00,9,  -999.00,   -999.0,9,   -999.0,   3.3783,  27.5010
  49NZ20090410,   P21,    78,  1,     21, X12021,2,20090501,0941,-16.7530,-104.0012, 3860,   1470.4,2,   3.0157,2,   3.01579,2,  34.5881,2,  34.5883,2,    91.47,2,    91.49,2,   106.22,2,     0.35,    40.62,2,     0.15,     0.01,2,     0.01,    2.930,2,    0.017,    0.000,2,    0.000,2,    0.000,2,   2328.7,2,   2380.2,2,   7.4792,  25,2,  -999.00,9,  -999.00,   -999.0,9,   -999.0,   2.9101,  27.5644
  49NZ20090410,   P21,    78,  1,     20, X12020,2,20090501,0941,-16.7530,-104.0012, 3860,   1671.1,2,   2.6826,2,   2.68303,2,  34.6087,2,  34.6090,2,   103.01,2,   102.88,2,   113.47,2,     0.37,    39.70,2,     0.14,     0.01,2,     0.01,    2.837,2,    0.017,    0.000,2,    0.000,2,    0.000,2,   2330.7,2,   2388.2,2,   7.5021,  25,6,  -999.00,9,  -999.00,   -999.0,9,   -999.0,   2.5642,  27.6115
  49NZ20090410,   P21,    78,  1,     19, X12019,2,20090501,0941,-16.7530,-104.0012, 3860,   1868.4,2,   2.3519,2,   2.35174,2,  34.6291,2,  34.6294,2,   119.82,2,   119.78,2,   117.51,2,     0.38,    38.28,2,     0.14,     0.01,2,     0.01,    2.720,2,    0.017,    0.000,2,    0.000,2,    0.000,2,   2325.8,2,   2394.3,2,   7.5317,  25,2,  -999.00,9,  -999.00,   -999.0,9,   -999.0,   2.2214,  27.6567
  49NZ20090410,   P21,    78,  1,     18, X12043,2,20090501,0941,-16.7530,-104.0012, 3860,   2070.6,2,   2.1012,2,   2.10109,2,  34.6458,2,  34.6461,6,   135.92,2,   136.02,2,   118.88,2,     0.38,    37.01,2,     0.14,     0.01,2,     0.01,    2.609,2,    0.016, -999.000,9, -999.000,9, -999.000,9,   2317.9,2,   2396.1,2,   7.5599,  25,2,  -999.00,9,  -999.00,   -999.0,9,   -999.0,   1.9572,  27.6913
  49NZ20090410,   P21,    78,  1,     17, X12042,2,20090501,0941,-16.7530,-104.0012, 3860,   2270.1,2,   1.9279,2,   1.92790,2,  34.6597,2,  34.6598,2,   147.68,2,   147.88,2,   119.18,2,     0.38,    36.08,2,     0.13,     0.01,2,     0.01,    2.532,2,    0.016,    0.001,2,    0.002,2,    0.000,2,   2312.5,2,   2398.1,2,   7.5790,  25,2,  -999.00,9,  -999.00,   -999.0,9,   -999.0,   1.7694,  27.7170
  49NZ20090410,   P21,    78,  1,     16, X12016,2,20090501,0941,-16.7530,-104.0012, 3860,   2469.8,2,   1.8442,2,   1.84416,2,  34.6696,2,  34.6693,2,   150.17,2,   150.04,2,   122.39,2,     0.39,    35.87,2,     0.13,     0.01,2,     0.01,    2.508,2,    0.016, -999.000,9, -999.000,9, -999.000,9,   2315.0,6,   2402.3,2,   7.5866,  25,2,  -999.00,9,  -999.00,   -999.0,9,   -999.0,   1.6695,  27.7325
  49NZ20090410,   P21,    78,  1,     15, X12015,2,20090501,0941,-16.7530,-104.0012, 3860,   2670.4,2,   1.8146,2,   1.81450,2,  34.6749,2,  34.6746,2,   148.08,2,   148.04,2,   126.54,2,     0.40,    36.04,2,     0.13,     0.01,2,     0.01,    2.521,2,    0.016, -999.000,9, -999.000,9, -999.000,9,   2321.8,2,   2410.6,6,   7.5895,  25,2,  -999.00,9,  -999.00,   -999.0,9,   -999.0,   1.6221,  27.7402
  49NZ20090410,   P21,    78,  1,     14, X12050,2,20090501,0941,-16.7530,-104.0012, 3860,   2869.9,2,   1.8074,2,   1.80740,2,  34.6781,2,  34.6777,2,   146.57,2,   146.53,2,   129.10,2,     0.40,    36.21,2,     0.13,     0.01,2,     0.01,    2.534,2,    0.016,    0.002,2,    0.000,2,    0.000,2,   2326.2,2,   2416.0,2,   7.5909,  25,6,  -999.00,9,  -999.00,   -999.0,9,   -999.0,   1.5963,  27.7447
  49NZ20090410,   P21,    78,  1,     13, X12013,7,20090501,0941,-16.7530,-104.0012, 3860,   3081.7,2,   1.8050,2,   1.80499,2,  34.6791,2,  34.6793,6,   144.37,2,   144.27,2,   132.16,2,     0.41,    36.43,2,     0.13,     0.01,2,     0.01,    2.543,2,    0.016, -999.000,9, -999.000,9, -999.000,9,   2329.6,2,   2419.4,2,   7.5908,  25,2,  -999.00,9,  -999.00,   -999.0,9,   -999.0,   1.5735,  27.7473
  49NZ20090410,   P21,    78,  1,     12, X12012,2,20090501,0941,-16.7530,-104.0012, 3860,   3332.4,2,   1.8160,2,   1.81601,2,  34.6798,2,  34.6795,2,   143.48,2,   143.41,2,   133.47,2,     0.41,    36.54,2,     0.14,     0.01,2,     0.01,    2.554,2,    0.016,    0.000,2,    0.000,2,    0.000,2,   2332.5,2,   2421.9,2,   7.5900,  25,2,  -999.00,9,  -999.00,   -999.0,9,   -999.0,   1.5592,  27.7489
  49NZ20090410,   P21,    78,  1,     11, X12041,2,20090501,0941,-16.7530,-104.0012, 3860,   3579.3,2,   1.8334,2,   1.83329,2,  34.6808,2,  34.6804,2,   144.22,2,   144.30,2,   132.77,2,     0.41,    36.45,2,     0.13,     0.01,2,     0.01,    2.542,2,    0.016,    0.000,2,    0.000,2,    0.000,2,   2331.2,2,   2420.9,2,   7.5907,  25,2,  -999.00,9,  -999.00,   -999.0,9,   -999.0,   1.5506,  27.7503
  49NZ20090410,   P21,    78,  1,     10, X12040,2,20090501,0941,-16.7530,-104.0012, 3860,   3829.9,2,   1.8558,2,   1.85566,2,  34.6816,2,  34.6819,2,   145.10,2,   145.06,2,   131.85,2,     0.41,    36.42,2,     0.13,     0.01,2,     0.01,    2.545,2,    0.016,    0.000,2,    0.000,2,    0.000,2,   2330.5,2,   2420.0,2,   7.5918,  25,2,  -999.00,9,  -999.00,   -999.0,9,   -999.0,   1.5456,  27.7513
  49NZ20090410,   P21,    78,  1,      9, X12009,9,20090501,0941,-16.7530,-104.0012, 3860,     10.2,2,  24.7458,2,  24.74565,2,  36.0820,2,-999.0000,9,   209.72,2,  -999.00,9,  -999.00,9,  -999.00,  -999.00,9,  -999.00,  -999.00,9,  -999.00, -999.000,9, -999.000, -999.000,9, -999.000,9, -999.000,9,   -999.0,9,   -999.0,9,-999.0000,-999,9,  -999.00,9,  -999.00,   -999.0,9,   -999.0,  24.7436,  24.2373
  49NZ20090410,   P21,    78,  1,      8, X12008,9,20090501,0941,-16.7530,-104.0012, 3860,   2070.8,2,   2.1018,2,   2.10173,2,  34.6457,2,-999.0000,9,   135.97,2,  -999.00,9,  -999.00,9,  -999.00,  -999.00,9,  -999.00,  -999.00,9,  -999.00, -999.000,9, -999.000, -999.000,9, -999.000,9, -999.000,9,   -999.0,9,   -999.0,9,-999.0000,-999,9,  -999.00,9,  -999.00,   -999.0,9,   -999.0,   1.9577,  27.6912
  49NZ20090410,   P21,    78,  1,      7, X12007,9,20090501,0941,-16.7530,-104.0012, 3860,   2270.2,2,   1.9283,2,   1.92822,2,  34.6597,2,-999.0000,9,   147.68,2,  -999.00,9,  -999.00,9,  -999.00,  -999.00,9,  -999.00,  -999.00,9,  -999.00, -999.000,9, -999.000, -999.000,9, -999.000,9, -999.000,9,   -999.0,9,   -999.0,9,-999.0000,-999,9,  -999.00,9,  -999.00,   -999.0,9,   -999.0,   1.7698,  27.7170
  49NZ20090410,   P21,    78,  1,      6, X12035,9,20090501,0941,-16.7530,-104.0012, 3860,    930.1,2,   4.5919,2,   4.59081,2,  34.5162,2,-999.0000,9,    63.46,2,  -999.00,9,  -999.00,9,  -999.00,  -999.00,9,  -999.00,  -999.00,9,  -999.00, -999.000,9, -999.000, -999.000,9, -999.000,9, -999.000,9,   -999.0,9,   -999.0,9,-999.0000,-999,9,  -999.00,9,  -999.00,   -999.0,9,   -999.0,   4.5178,  27.3460
  49NZ20090410,   P21,    78,  1,      5, X12038,9,20090501,0941,-16.7530,-104.0012, 3860,   2470.1,2,   1.8441,2,   1.84400,2,  34.6695,2,-999.0000,9,   150.27,2,  -999.00,9,  -999.00,9,  -999.00,  -999.00,9,  -999.00,  -999.00,9,  -999.00, -999.000,9, -999.000, -999.000,9, -999.000,9, -999.000,9,   -999.0,9,   -999.0,9,-999.0000,-999,9,  -999.00,9,  -999.00,   -999.0,9,   -999.0,   1.6693,  27.7324
  49NZ20090410,   P21,    78,  1,      4, X12034,9,20090501,0941,-16.7530,-104.0012, 3860,   2669.9,2,   1.8146,2,   1.81452,2,  34.6749,2,-999.0000,9,   148.12,2,  -999.00,9,  -999.00,9,  -999.00,  -999.00,9,  -999.00,  -999.00,9,  -999.00, -999.000,9, -999.000, -999.000,9, -999.000,9, -999.000,9,   -999.0,9,   -999.0,9,-999.0000,-999,9,  -999.00,9,  -999.00,   -999.0,9,   -999.0,   1.6222,  27.7402
  49NZ20090410,   P21,    78,  1,      3, X12033,9,20090501,0941,-16.7530,-104.0012, 3860,   2870.0,2,   1.8073,2,   1.80721,2,  34.6781,2,-999.0000,9,   146.61,2,  -999.00,9,  -999.00,9,  -999.00,  -999.00,9,  -999.00,  -999.00,9,  -999.00, -999.000,9, -999.000, -999.000,9, -999.000,9, -999.000,9,   -999.0,9,   -999.0,9,-999.0000,-999,9,  -999.00,9,  -999.00,   -999.0,9,   -999.0,   1.5962,  27.7448
  49NZ20090410,   P21,    78,  1,      2, X12032,9,20090501,0941,-16.7530,-104.0012, 3860,   3081.9,2,   1.8051,2,   1.80498,2,  34.6791,2,-999.0000,9,   144.41,2,  -999.00,9,  -999.00,9,  -999.00,  -999.00,9,  -999.00,  -999.00,9,  -999.00, -999.000,9, -999.000, -999.000,9, -999.000,9, -999.000,9,   -999.0,9,   -999.0,9,-999.0000,-999,9,  -999.00,9,  -999.00,   -999.0,9,   -999.0,   1.5736,  27.7472
  49NZ20090410,   P21,    78,  1,      1, X12046,2,20090501,0941,-16.7530,-104.0012, 3860,   3906.3,2,   1.8634,2,   1.86345,2,  34.6820,2,  34.6816,6,   145.24,2,   145.53,2,   131.80,2,     0.41,    36.40,2,     0.13,     0.01,2,     0.01,    2.543,2,    0.016,    0.001,2,    0.000,2,    0.000,2,   2329.8,2,   2420.8,2,   7.5923,  25,2,  -999.00,9,  -999.00,   -999.0,9,   -999.0,   1.5446,  27.7517