BOTTLE,20220818CCHSIOAMB
EXPOCODE,SECT_ID,STNNBR,CASTNO,SAMPNO,BTLNBR,BTLNBR_FLAG_W,DATE,TIME,LATITUDE,LONGITUDE,DEPTH,CTDPRS,CTDPRS_FLAG_W,CTDTMP,CTDTMP_FLAG_W,SBE35,SBE35_FLAG_W,CTDSAL,CTDSAL_FLAG_W,SALNTY,SALNTY_FLAG_W,CTDOXY,CTDOXY_FLAG_W,OXYGEN,OXYGEN_FLAG_W,SILCAT,SILCAT_FLAG_W,SILUNC,NITRAT,NITRAT_FLAG_W,NRAUNC,NITRIT,NITRIT_FLAG_W,NRIUNC,PHSPHT,PHSPHT_FLAG_W,PHPUNC,CFC-11,CFC-11_FLAG_W,CFC-12,CFC-12_FLAG_W,CFC113,CFC113_FLAG_W,TCARBN,TCARBN_FLAG_W,ALKALI,ALKALI_FLAG_W,PH_TOT,PH_TMP,PH_TOT_FLAG_W,DELC13,DELC13_FLAG_W,C13ERR,DELC14,DELC14_FLAG_W,C14ERR,THETA,SIG0
,,,,,,,,,,,METERS,DBAR,,ITS-90,,ITS-90,,PSS-78,,PSS-78,,UMOL/KG,,UMOL/KG,,UMOL/KG,,UMOL/KG,UMOL/KG,,UMOL/KG,UMOL/KG,,UMOL/KG,UMOL/KG,,UMOL/KG,PMOL/KG,,PMOL/KG,,PMOL/KG,,UMOL/KG,,UMOL/KG,,,DEG C,,/MILLE,,/MILLE,/MILLE,,/MILLE,DEG C,KG/M^3
  49NZ20090410,   P21,   147,  1,     36, X12006,2,20090515,1647,-17.4948,-143.1678, 3342,     10.1,2,  27.7467,2,  27.74655,2,  36.3258,2,  36.3267,2,   197.01,2,   197.01,2,     0.74,2,     0.12,     0.08,2,     0.03,     0.01,2,     0.01,    0.240,2,    0.015,    1.460,2,    0.955,2, -999.000,5,   2027.6,2,   2393.0,2,   8.1272,  25,6,  -999.00,9,  -999.00,   -999.0,9,   -999.0,  27.7443,  23.4758
  49NZ20090410,   P21,   147,  1,     35, X12047,2,20090515,1647,-17.4948,-143.1678, 3342,     50.3,2,  27.7082,2,  27.70891,2,  36.3523,2,  36.3520,2,   197.24,2,   197.42,2,     0.67,2,     0.12,     0.08,2,     0.03,     0.01,2,     0.01,    0.225,2,    0.015,    1.472,2,    0.970,2, -999.000,5,   2032.1,6,   2392.8,2,   8.1208,  25,2,  -999.00,9,  -999.00,   -999.0,9,   -999.0,  27.6964,  23.5114
  49NZ20090410,   P21,   147,  1,     34, X12004,2,20090515,1647,-17.4948,-143.1678, 3342,    100.0,2,  24.9238,2,  24.92233,2,  36.3542,2,  36.3550,2,   203.51,2,   203.88,2,     0.56,2,     0.12,     0.10,2,     0.03,     0.02,2,     0.01,    0.210,2,    0.016,    1.695,6,    1.086,6, -999.000,5,   2053.6,2,   2389.9,6,   8.0841,  25,2,  -999.00,9,  -999.00,   -999.0,9,   -999.0,  24.9021,  24.3950
  49NZ20090410,   P21,   147,  1,     33, X12003,2,20090515,1647,-17.4948,-143.1678, 3342,    149.7,2,  23.2654,2,  23.26604,2,  36.1159,2,  36.1141,2,   197.15,2,   196.86,2,     0.56,2,     0.12,     0.34,2,     0.03,     0.25,2,     0.01,    0.241,2,    0.015,    1.813,2,    1.137,2, -999.000,5,   2057.7,2,   2373.2,2,   8.0549,  25,6,  -999.00,9,  -999.00,   -999.0,9,   -999.0,  23.2344,  24.7121
  49NZ20090410,   P21,   147,  1,     32, X12002,2,20090515,1647,-17.4948,-143.1678, 3342,    199.1,2,  21.7127,2,  21.71485,2,  35.9402,2,  35.9471,2,   185.74,2,   185.77,2,     0.59,2,     0.12,     1.93,2,     0.04,     0.06,2,     0.01,    0.346,2,    0.014,    1.964,2,    1.214,2,    0.117,2,   2076.2,2,   2361.9,2,   8.0093,  25,2,  -999.00,9,  -999.00,   -999.0,9,   -999.0,  21.6735,  25.0239
  49NZ20090410,   P21,   147,  1,     31, X12001,2,20090515,1647,-17.4948,-143.1678, 3342,    249.4,2,  19.6763,2,  19.67478,2,  35.6285,2,  35.6290,6,   184.45,2,   184.88,2,     0.76,2,     0.12,     3.18,2,     0.04,     0.01,2,     0.01,    0.421,2,    0.013,    2.164,2,    1.305,2,    0.054,2,   2080.1,2,   2341.8,2,   7.9703,  25,2,  -999.00,9,  -999.00,   -999.0,9,   -999.0,  19.6305,  25.3385
  49NZ20090410,   P21,   147,  1,     30, X12030,2,20090515,1647,-17.4948,-143.1678, 3342,    300.1,2,  16.9202,2,  16.90255,2,  35.2543,2,  35.2563,2,   184.75,2,   185.39,2,     1.43,2,     0.12,     5.79,2,     0.05,     0.01,2,     0.01,    0.596,2,    0.013,    2.361,2,    1.364,2,    0.033,2,   2090.7,2,   2318.6,2,   7.9165,  25,2,  -999.00,9,  -999.00,   -999.0,9,   -999.0,  16.8706,  25.7403
  49NZ20090410,   P21,   147,  1,     29, X12044,2,20090515,1647,-17.4948,-143.1678, 3342,    400.7,2,  10.9852,2,  10.97409,2,  34.6218,2,  34.6235,2,   154.07,2,   154.26,2,     8.35,2,     0.14,    19.01,2,     0.09,     0.01,2,     0.01,    1.519,2,    0.014,    1.958,2,    1.036,2,    0.016,2,   2153.3,2,   2286.1,2,   7.7163,  25,2,  -999.00,9,  -999.00,   -999.0,9,   -999.0,  10.9356,  26.4926
  49NZ20090410,   P21,   147,  1,     28, X12048,2,20090515,1647,-17.4948,-143.1678, 3342,    499.3,2,   8.1611,2,   8.16131,2,  34.4581,2,  34.4577,6,   147.95,2,   148.16,2,    15.23,2,     0.15,    26.76,2,     0.11,     0.01,2,     0.01,    1.981,2,    0.015,    1.260,2,    0.651,2,    0.030,2,   2185.8,2,   2283.5,2,   7.6274,  25,2,  -999.00,9,  -999.00,   -999.0,9,   -999.0,   8.1094,  26.8318
  49NZ20090410,   P21,   147,  1,     27, X12027,2,20090515,1647,-17.4948,-143.1678, 3342,    599.9,2,   6.7359,2,   6.73563,2,  34.4079,2,  34.4083,2,   157.26,2,   157.09,2,    20.81,2,     0.16,    29.90,2,     0.12,     0.01,2,     0.01,    2.134,2,    0.015,    0.854,6,    0.433,6,    0.028,6,   2194.7,2,   2288.1,2,   7.6129,  25,2,  -999.00,9,  -999.00,   -999.0,9,   -999.0,   6.6798,  26.9959
  49NZ20090410,   P21,   147,  1,     26, X12026,2,20090515,1647,-17.4948,-143.1678, 3342,    699.9,2,   5.8761,2,   5.87706,2,  34.4203,2,  34.4179,2,   149.78,2,   150.78,2,    30.39,2,     0.19,    32.35,2,     0.12,     0.00,2,     0.01,    2.273,2,    0.016,    0.405,2,    0.202,2,    0.008,4,   2210.3,6,   2297.0,2,   7.5942,  25,2,  -999.00,9,  -999.00,   -999.0,9,   -999.0,   5.8147,  27.1179
  49NZ20090410,   P21,   147,  1,     25, X12025,2,20090515,1647,-17.4948,-143.1678, 3342,    800.1,2,   5.1975,2,   5.19880,2,  34.4587,2,  34.4590,2,   140.02,2,   140.31,2,    45.19,2,     0.22,    34.12,2,     0.13,     0.01,2,     0.01,    2.404,2,    0.016,    0.129,2,    0.073,2,    0.007,2,   2232.5,2,   2313.7,6,   7.5765,  25,2,  -999.00,9,  -999.00,   -999.0,9,   -999.0,   5.1308,  27.2309
  49NZ20090410,   P21,   147,  1,     24, X12024,2,20090515,1647,-17.4948,-143.1678, 3342,    899.8,2,   4.6142,2,   4.60761,2,  34.4753,2,  34.4757,2,   139.95,2,   139.92,2,    55.07,2,     0.24,    34.96,2,     0.13,     0.01,2,     0.01,    2.465,2,    0.016,    0.064,2,    0.040,2,    0.000,2,   2243.8,2,   2325.2,2,   7.5716,  25,2,  -999.00,9,  -999.00,   -999.0,9,   -999.0,   4.5426,  27.3109
  49NZ20090410,   P21,   147,  1,     23, X12028,2,20090515,1647,-17.4948,-143.1678, 3342,   1000.0,2,   4.0290,2,   4.03089,2,  34.5019,2,  34.5005,6,   141.42,2,   141.39,2,    66.11,2,     0.26,    35.38,2,     0.13,     0.00,2,     0.01,    2.503,2,    0.016,    0.025,2,    0.015,2,    0.000,2,   2256.0,2,   2336.5,2,   7.5712,  25,2,  -999.00,9,  -999.00,   -999.0,9,   -999.0,   3.9531,  27.3948
  49NZ20090410,   P21,   147,  1,     22, X12022,2,20090515,1647,-17.4948,-143.1678, 3342,   1201.0,2,   3.3921,2,   3.39418,2,  34.5392,2,  34.5385,2,   143.14,2,   143.14,2,    80.36,2,     0.30,    35.75,2,     0.13,     0.01,2,     0.01,    2.522,2,    0.016,    0.010,2,    0.007,2,    0.000,2,   2271.6,2,   2352.3,2,   7.5720,  25,2,  -999.00,9,  -999.00,   -999.0,9,   -999.0,   3.3050,  27.4888
  49NZ20090410,   P21,   147,  1,     21, X12021,2,20090515,1647,-17.4948,-143.1678, 3342,   1401.6,2,   2.9704,2,   2.97040,2,  34.5668,2,  34.5670,2,   145.15,2,   145.16,2,    90.34,2,     0.32,    35.90,2,     0.13,     0.00,2,     0.01,    2.526,2,    0.016,    0.004,2,    0.002,2,    0.000,2,   2281.6,2,   2363.8,2,   7.5733,  25,2,  -999.00,9,  -999.00,   -999.0,9,   -999.0,   2.8710,  27.5510
  49NZ20090410,   P21,   147,  1,     20, X12020,2,20090515,1647,-17.4948,-143.1678, 3342,   1600.9,2,   2.5818,2,   2.58065,2,  34.5958,2,  34.5961,2,   148.07,2,   148.01,2,    99.79,2,     0.34,    35.84,2,     0.13,     0.00,2,     0.01,    2.525,2,    0.016,    0.000,2,    0.001,2,    0.000,2,   2291.0,2,   2373.7,2,   7.5780,  25,6,  -999.00,9,  -999.00,   -999.0,9,   -999.0,   2.4705,  27.6092
  49NZ20090410,   P21,   147,  1,     19, X12019,2,20090515,1647,-17.4948,-143.1678, 3342,   1800.5,2,   2.3306,2,   2.33030,2,  34.6162,2,  34.6159,6,   151.29,2,   151.20,2,   105.36,2,     0.35,    35.76,2,     0.13,     0.00,2,     0.01,    2.514,2,    0.016,    0.000,2,    0.000,2,    0.000,2,   2293.9,2,   2380.6,2,   7.5822,  25,2,  -999.00,9,  -999.00,   -999.0,9,   -999.0,   2.2061,  27.6476
  49NZ20090410,   P21,   147,  1,     18, X12043,2,20090515,1647,-17.4948,-143.1678, 3342,   1999.7,2,   2.1417,2,   2.14139,2,  34.6317,2,  34.6316,2,   153.97,2,   153.93,2,   110.05,2,     0.36,    35.71,2,     0.13,     0.00,2,     0.01,    2.500,2,    0.016,    0.000,2,    0.001,2,    0.000,2,   2297.2,2,   2384.5,2,   7.5862,  25,2,  -999.00,9,  -999.00,   -999.0,9,   -999.0,   2.0031,  27.6764
  49NZ20090410,   P21,   147,  1,     17, X12042,2,20090515,1647,-17.4948,-143.1678, 3342,   2202.0,2,   1.9946,2,   1.99480,2,  34.6444,2,  34.6441,2,   156.81,2,   156.85,2,   113.24,2,     0.37,    35.44,2,     0.13,     0.00,2,     0.01,    2.488,2,    0.016,    0.001,2,    0.001,2,    0.000,2,   2299.8,2,   2388.0,2,   7.5909,  25,2,  -999.00,9,  -999.00,   -999.0,9,   -999.0,   1.8410,  27.6993
  49NZ20090410,   P21,   147,  1,     16, X12016,2,20090515,1647,-17.4948,-143.1678, 3342,   2401.2,2,   1.9076,2,   1.90758,2,  34.6524,2,  34.6522,2,   158.87,2,   158.89,2,   115.26,2,     0.37,    35.35,2,     0.13,     0.00,2,     0.01,    2.480,2,    0.016,    0.000,2,    0.001,2,    0.000,2,   2299.7,6,   2389.4,2,   7.5938,  25,2,  -999.00,9,  -999.00,   -999.0,9,   -999.0,   1.7379,  27.7135
  49NZ20090410,   P21,   147,  1,     15, X12015,2,20090515,1647,-17.4948,-143.1678, 3342,   2600.9,2,   1.8306,2,   1.83056,2,  34.6594,2,  34.6591,6,   161.30,2,   161.30,2,   116.56,2,     0.38,    35.22,2,     0.13,     0.00,2,     0.01,    2.467,2,    0.016,    0.000,2,    0.001,2,    0.000,2,   2301.0,2,   2390.6,6,   7.5964,  25,2,  -999.00,9,  -999.00,   -999.0,9,   -999.0,   1.6443,  27.7262
  49NZ20090410,   P21,   147,  1,     14, X12050,2,20090515,1647,-17.4948,-143.1678, 3342,   2799.9,2,   1.7743,2,   1.77441,2,  34.6651,2,  34.6645,2,   163.26,2,   163.30,2,   117.43,2,     0.38,    34.99,2,     0.13,     0.00,2,     0.01,    2.449,2,    0.016,    0.000,2,    0.001,2,    0.000,2,   2300.3,2,   2391.4,2,   7.5982,  25,6,  -999.00,9,  -999.00,   -999.0,9,   -999.0,   1.5706,  27.7363
  49NZ20090410,   P21,   147,  1,     13, X12014,2,20090515,1647,-17.4948,-143.1678, 3342,   2999.1,2,   1.7127,2,   1.71303,2,  34.6707,2,  34.6704,2,   165.72,2,   165.90,2,   118.46,2,     0.38,    34.82,2,     0.13,     0.01,2,     0.01,    2.436,2,    0.016,    0.000,2,    0.000,2,    0.000,2,   2299.2,2,   2392.0,2,   7.6007,  25,2,  -999.00,9,  -999.00,   -999.0,9,   -999.0,   1.4913,  27.7465
  49NZ20090410,   P21,   147,  1,     12, X12012,2,20090515,1647,-17.4948,-143.1678, 3342,   3251.1,2,   1.6051,2,   1.60439,2,  34.6794,2,  34.6796,2,   170.72,2,   170.69,2,   119.31,2,     0.38,    34.60,2,     0.13,     0.00,2,     0.01,    2.420,2,    0.016,    0.000,2,    0.000,2,    0.000,2,   2296.1,2,   2392.3,2,   7.6059,  25,2,  -999.00,9,  -999.00,   -999.0,9,   -999.0,   1.3615,  27.7629
  49NZ20090410,   P21,   147,  1,     11, X12041,9,20090515,1647,-17.4948,-143.1678, 3342,   2601.0,2,   1.8306,2,   1.83056,2,  34.6594,2,-999.0000,9,   161.30,2,  -999.00,9,  -999.00,9,  -999.00,  -999.00,9,  -999.00,  -999.00,9,  -999.00, -999.000,9, -999.000, -999.000,9, -999.000,9, -999.000,9,   -999.0,9,   -999.0,9,-999.0000,-999,9,  -999.00,9,  -999.00,   -999.0,9,   -999.0,   1.6443,  27.7262
  49NZ20090410,   P21,   147,  1,     10, X12040,9,20090515,1647,-17.4948,-143.1678, 3342,   2802.0,2,   1.7753,2,   1.77534,2,  34.6650,2,-999.0000,9,   163.22,2,  -999.00,9,  -999.00,9,  -999.00,  -999.00,9,  -999.00,  -999.00,9,  -999.00, -999.000,9, -999.000, -999.000,9, -999.000,9, -999.000,9,   -999.0,9,   -999.0,9,-999.0000,-999,9,  -999.00,9,  -999.00,   -999.0,9,   -999.0,   1.5714,  27.7361
  49NZ20090410,   P21,   147,  1,      9, X12009,2,20090515,1647,-17.4948,-143.1678, 3342,   2998.8,2,   1.7127,2,   1.71291,2,  34.6707,2,  34.6703,2,   165.72,2,  -999.00,9,  -999.00,9,  -999.00,  -999.00,9,  -999.00,  -999.00,9,  -999.00, -999.000,9, -999.000, -999.000,9, -999.000,9, -999.000,9,   -999.0,9,   -999.0,9,-999.0000,-999,9,  -999.00,9,  -999.00,   -999.0,9,   -999.0,   1.4914,  27.7466
  49NZ20090410,   P21,   147,  1,      8, X12008,9,20090515,1647,-17.4948,-143.1678, 3342,    900.4,2,   4.6228,2,   4.62297,2,  34.4749,2,-999.0000,9,   139.93,2,  -999.00,9,  -999.00,9,  -999.00,  -999.00,9,  -999.00,  -999.00,9,  -999.00, -999.000,9, -999.000, -999.000,9, -999.000,9, -999.000,9,   -999.0,9,   -999.0,9,-999.0000,-999,9,  -999.00,9,  -999.00,   -999.0,9,   -999.0,   4.5511,  27.3096
  49NZ20090410,   P21,   147,  1,      7, X12007,2,20090515,1647,-17.4948,-143.1678, 3342,     10.0,2,  27.7490,2,  27.74873,2,  36.3255,2,-999.0000,9,   196.97,2,  -999.00,9,     0.78,2,     0.12,     0.07,2,     0.03,     0.01,2,     0.01,    0.244,2,    0.015, -999.000,9, -999.000,9, -999.000,9,   -999.0,9,   -999.0,9,-999.0000,-999,9,  -999.00,9,  -999.00,   -999.0,9,   -999.0,  27.7467,  23.4748
  49NZ20090410,   P21,   147,  1,      6, X12035,2,20090515,1647,-17.4948,-143.1678, 3342,     50.3,2,  27.7072,2,  27.70657,2,  36.3535,2,-999.0000,9,   197.27,2,  -999.00,9,     0.69,2,     0.12,     0.09,2,     0.03,     0.01,2,     0.01,    0.220,2,    0.015, -999.000,9, -999.000,9, -999.000,9,   -999.0,9,   -999.0,9,-999.0000,-999,9,  -999.00,9,  -999.00,   -999.0,9,   -999.0,  27.6954,  23.5126
  49NZ20090410,   P21,   147,  1,      5, X12038,2,20090515,1647,-17.4948,-143.1678, 3342,    100.8,2,  24.9184,2,  24.92016,2,  36.3531,2,-999.0000,9,   203.66,2,  -999.00,9,     0.62,2,     0.12,     0.09,2,     0.03,     0.02,2,     0.01,    0.212,2,    0.016, -999.000,9, -999.000,9, -999.000,9,   -999.0,9,   -999.0,9,-999.0000,-999,9,  -999.00,9,  -999.00,   -999.0,9,   -999.0,  24.8965,  24.3959
  49NZ20090410,   P21,   147,  1,      4, X12034,2,20090515,1647,-17.4948,-143.1678, 3342,    150.2,2,  23.2737,2,  23.27375,2,  36.1164,2,-999.0000,9,   197.22,2,  -999.00,9,     0.59,2,     0.12,     0.43,2,     0.03,     0.26,2,     0.01,    0.248,2,    0.015, -999.000,9, -999.000,9, -999.000,9,   -999.0,9,   -999.0,9,-999.0000,-999,9,  -999.00,9,  -999.00,   -999.0,9,   -999.0,  23.2426,  24.7101
  49NZ20090410,   P21,   147,  1,      3, X12033,2,20090515,1647,-17.4948,-143.1678, 3342,    199.0,2,  21.7278,2,  21.72666,2,  35.9431,2,-999.0000,9,   185.86,2,  -999.00,9,     0.80,2,     0.12,     2.01,2,     0.04,     0.07,2,     0.01,    0.359,2,    0.014, -999.000,9, -999.000,9, -999.000,9,   -999.0,9,   -999.0,9,-999.0000,-999,9,  -999.00,9,  -999.00,   -999.0,9,   -999.0,  21.6886,  25.0219
  49NZ20090410,   P21,   147,  1,      2, X12032,2,20090515,1647,-17.4948,-143.1678, 3342,    250.3,2,  19.6637,2,  19.66633,2,  35.6272,2,-999.0000,9,   184.52,2,  -999.00,9,     1.08,2,     0.12,     3.41,2,     0.04,     0.02,2,     0.01,    0.428,2,    0.013, -999.000,9, -999.000,9, -999.000,9,   -999.0,9,   -999.0,9,-999.0000,-999,9,  -999.00,9,  -999.00,   -999.0,9,   -999.0,  19.6177,  25.3408
  49NZ20090410,   P21,   147,  1,      1, X12046,2,20090515,1647,-17.4948,-143.1678, 3342,   3376.4,2,   1.5684,2,   1.56831,2,  34.6827,2,  34.6822,6,   172.73,2,   172.63,2,   119.53,2,     0.38,    34.40,2,     0.13,     0.01,2,     0.01,    2.413,2,    0.016,    0.000,2,    0.000,2,    0.000,2,   2295.7,2,   2390.7,2,   7.6072,  25,2,  -999.00,9,  -999.00,   -999.0,9,   -999.0,   1.3131,  27.7689