BOTTLE,20220818CCHSIOAMB
EXPOCODE,SECT_ID,STNNBR,CASTNO,SAMPNO,BTLNBR,BTLNBR_FLAG_W,DATE,TIME,LATITUDE,LONGITUDE,DEPTH,CTDPRS,CTDPRS_FLAG_W,CTDTMP,CTDTMP_FLAG_W,SBE35,SBE35_FLAG_W,CTDSAL,CTDSAL_FLAG_W,SALNTY,SALNTY_FLAG_W,CTDOXY,CTDOXY_FLAG_W,OXYGEN,OXYGEN_FLAG_W,SILCAT,SILCAT_FLAG_W,SILUNC,NITRAT,NITRAT_FLAG_W,NRAUNC,NITRIT,NITRIT_FLAG_W,NRIUNC,PHSPHT,PHSPHT_FLAG_W,PHPUNC,CFC-11,CFC-11_FLAG_W,CFC-12,CFC-12_FLAG_W,CFC113,CFC113_FLAG_W,TCARBN,TCARBN_FLAG_W,ALKALI,ALKALI_FLAG_W,PH_TOT,PH_TMP,PH_TOT_FLAG_W,DELC13,DELC13_FLAG_W,C13ERR,DELC14,DELC14_FLAG_W,C14ERR,THETA,SIG0
,,,,,,,,,,,METERS,DBAR,,ITS-90,,ITS-90,,PSS-78,,PSS-78,,UMOL/KG,,UMOL/KG,,UMOL/KG,,UMOL/KG,UMOL/KG,,UMOL/KG,UMOL/KG,,UMOL/KG,UMOL/KG,,UMOL/KG,PMOL/KG,,PMOL/KG,,PMOL/KG,,UMOL/KG,,UMOL/KG,,,DEG C,,/MILLE,,/MILLE,/MILLE,,/MILLE,DEG C,KG/M^3
  49NZ20090410,   P21,   148,  1,     36, X12006,2,20090515,2157,-17.4932,-143.8362, 3478,      9.3,2,  27.8787,2,  27.87829,2,  36.3297,2,  36.3294,2,   197.18,2,   197.33,2,     0.81,2,     0.12,     0.08,2,     0.03,     0.01,2,     0.01,    0.253,2,    0.015,    1.438,2,    0.947,2, -999.000,5,   -999.0,9,   -999.0,9,-999.0000,-999,9,  -999.00,9,  -999.00,   -999.0,9,   -999.0,  27.8765,  23.4355
  49NZ20090410,   P21,   148,  1,     35, X12047,2,20090515,2157,-17.4932,-143.8362, 3478,     50.7,2,  27.8721,2,  27.87080,2,  36.3263,2,  36.3272,2,   196.86,2,   197.27,2,     0.80,2,     0.12,     0.08,2,     0.03,     0.01,2,     0.01,    0.251,2,    0.015,    1.443,2,    0.946,2, -999.000,5,   -999.0,9,   -999.0,9,-999.0000,-999,9,  -999.00,9,  -999.00,   -999.0,9,   -999.0,  27.8602,  23.4383
  49NZ20090410,   P21,   148,  1,     34, X12004,2,20090515,2157,-17.4932,-143.8362, 3478,     99.9,2,  25.4467,2,  25.44613,2,  36.4000,2,  36.4015,2,   202.95,2,   203.29,2,     0.61,2,     0.12,     0.08,2,     0.03,     0.02,2,     0.01,    0.225,2,    0.015,    1.658,6,    1.070,6, -999.000,5,   -999.0,9,   -999.0,9,-999.0000,-999,9,  -999.00,9,  -999.00,   -999.0,9,   -999.0,  25.4246,  24.2692
  49NZ20090410,   P21,   148,  1,     33, X12003,2,20090515,2157,-17.4932,-143.8362, 3478,    149.4,2,  23.7648,2,  23.76087,2,  36.2599,2,  36.2627,2,   186.59,2,   186.90,2,     0.62,2,     0.12,     0.80,2,     0.04,     0.63,2,     0.00,    0.322,2,    0.014,    1.763,2,    1.119,2, -999.000,5,   -999.0,9,   -999.0,9,-999.0000,-999,9,  -999.00,9,  -999.00,   -999.0,9,   -999.0,  23.7334,  24.6747
  49NZ20090410,   P21,   148,  1,     32, X12002,2,20090515,2157,-17.4932,-143.8362, 3478,    200.7,2,  21.4854,2,  21.49079,2,  35.9199,2,  35.9409,2,   181.78,2,   181.29,2,     0.65,2,     0.12,     2.47,2,     0.04,     0.03,2,     0.01,    0.393,2,    0.013,    1.983,2,    1.235,2,    0.109,2,   -999.0,9,   -999.0,9,-999.0000,-999,9,  -999.00,9,  -999.00,   -999.0,9,   -999.0,  21.4462,  25.0717
  49NZ20090410,   P21,   148,  1,     31, X12001,2,20090515,2157,-17.4932,-143.8362, 3478,    249.6,2,  19.9513,2,  19.95137,2,  35.6816,2,  35.6816,6,   181.97,2,   182.13,2,     0.79,2,     0.12,     3.38,2,     0.04,     0.02,2,     0.01,    0.443,2,    0.013,    2.134,2,    1.287,2,    0.049,2,   -999.0,9,   -999.0,9,-999.0000,-999,9,  -999.00,9,  -999.00,   -999.0,9,   -999.0,  19.9050,  25.3069
  49NZ20090410,   P21,   148,  1,     30, X12030,2,20090515,2157,-17.4932,-143.8362, 3478,    330.6,2,  15.5960,2,  15.59780,2,  35.0896,2,  35.0935,2,   178.43,2,   178.88,2,     2.45,2,     0.12,     8.28,2,     0.06,     0.01,2,     0.01,    0.780,2,    0.013,    2.372,2,    1.338,2,    0.018,2,   -999.0,9,   -999.0,9,-999.0000,-999,9,  -999.00,9,  -999.00,   -999.0,9,   -999.0,  15.5443,  25.9200
  49NZ20090410,   P21,   148,  1,     29, X12044,2,20090515,2157,-17.4932,-143.8362, 3478,    430.2,2,  11.1116,2,  11.11033,2,  34.6364,2,  34.6368,2,   157.11,2,   156.59,2,     8.07,2,     0.14,    18.61,2,     0.08,     0.01,2,     0.01,    1.489,2,    0.014,    1.939,2,    1.034,2,    0.024,2,   -999.0,9,   -999.0,9,-999.0000,-999,9,  -999.00,9,  -999.00,   -999.0,9,   -999.0,  11.0579,  26.4819
  49NZ20090410,   P21,   148,  1,     28, X12048,2,20090515,2157,-17.4932,-143.8362, 3478,    530.2,2,   7.4835,2,   7.47972,2,  34.4414,2,  34.4407,6,   141.86,2,   142.32,2,    18.92,2,     0.16,    29.13,2,     0.11,     0.01,2,     0.01,    2.117,2,    0.015,    0.891,2,    0.470,2,    0.000,2,   -999.0,9,   -999.0,9,-999.0000,-999,9,  -999.00,9,  -999.00,   -999.0,9,   -999.0,   7.4312,  26.9181
  49NZ20090410,   P21,   148,  1,     27, X12027,2,20090515,2157,-17.4932,-143.8362, 3478,    630.8,2,   6.2835,2,   6.28516,2,  34.4494,2,  34.4492,2,   139.20,2,   139.19,2,    30.96,2,     0.19,    32.37,2,     0.12,     0.01,2,     0.01,    2.297,2,    0.016,    0.326,6,    0.177,6,    0.000,6,   -999.0,9,   -999.0,9,-999.0000,-999,9,  -999.00,9,  -999.00,   -999.0,9,   -999.0,   6.2265,  27.0885
  49NZ20090410,   P21,   148,  1,     26, X12026,2,20090515,2157,-17.4932,-143.8362, 3478,    729.1,2,   5.7194,2,   5.71806,2,  34.4557,2,  34.4554,2,   141.14,2,   141.08,2,    38.38,2,     0.20,    33.17,2,     0.13,     0.01,2,     0.01,    2.342,2,    0.016,    0.204,2,    0.116,2,    0.000,2,   -999.0,9,   -999.0,9,-999.0000,-999,9,  -999.00,9,  -999.00,   -999.0,9,   -999.0,   5.6561,  27.1655
  49NZ20090410,   P21,   148,  1,     25, X12025,2,20090515,2157,-17.4932,-143.8362, 3478,    831.0,2,   5.0093,2,   5.00902,2,  34.4665,2,  34.4667,2,   141.63,2,   141.68,2,    48.73,2,     0.23,    34.27,2,     0.13,     0.01,2,     0.01,    2.415,2,    0.016,    0.107,2,    0.064,2,    0.000,2,   -999.0,9,   -999.0,9,-999.0000,-999,9,  -999.00,9,  -999.00,   -999.0,9,   -999.0,   4.9411,  27.2591
  49NZ20090410,   P21,   148,  1,     24, X12024,2,20090515,2157,-17.4932,-143.8362, 3478,    930.1,2,   4.3280,2,   4.32878,2,  34.4801,2,  34.4795,2,   142.58,2,   142.36,2,    59.04,2,     0.25,    35.06,2,     0.13,     0.01,2,     0.01,    2.466,2,    0.016,    0.041,2,    0.024,2,    0.000,2,   -999.0,9,   -999.0,9,-999.0000,-999,9,  -999.00,9,  -999.00,   -999.0,9,   -999.0,   4.2558,  27.3457
  49NZ20090410,   P21,   148,  1,     23, X12028,2,20090515,2157,-17.4932,-143.8362, 3478,   1073.2,2,   3.7572,2,   3.75738,2,  34.5108,2,  34.5106,6,   143.62,2,   143.57,2,    71.40,2,     0.28,    35.51,2,     0.13,     0.01,2,     0.01,    2.506,2,    0.016,    0.013,2,    0.009,2,    0.000,2,   -999.0,9,   -999.0,9,-999.0000,-999,9,  -999.00,9,  -999.00,   -999.0,9,   -999.0,   3.6774,  27.4298
  49NZ20090410,   P21,   148,  1,     22, X12022,2,20090515,2157,-17.4932,-143.8362, 3478,   1272.2,2,   3.2787,2,   3.27924,2,  34.5484,2,  34.5482,2,   141.94,2,   141.86,2,    83.78,2,     0.30,    35.89,2,     0.13,     0.01,2,     0.01,    2.533,2,    0.016,    0.004,2,    0.004,2,    0.000,2,   -999.0,9,   -999.0,9,-999.0000,-999,9,  -999.00,9,  -999.00,   -999.0,9,   -999.0,   3.1868,  27.5073
  49NZ20090410,   P21,   148,  1,     21, X12021,2,20090515,2157,-17.4932,-143.8362, 3478,   1470.8,2,   2.8514,2,   2.85144,2,  34.5762,2,  34.5765,2,   145.21,2,   145.07,2,    93.84,2,     0.33,    36.07,2,     0.13,     0.01,2,     0.01,    2.537,2,    0.016,    0.002,2,    0.000,2,    0.000,2,   -999.0,9,   -999.0,9,-999.0000,-999,9,  -999.00,9,  -999.00,   -999.0,9,   -999.0,   2.7477,  27.5695
  49NZ20090410,   P21,   148,  1,     20, X12020,2,20090515,2157,-17.4932,-143.8362, 3478,   1671.1,2,   2.5092,2,   2.50970,2,  34.6021,2,  34.6014,2,   149.09,2,   149.05,2,   101.56,2,     0.34,    35.91,2,     0.13,     0.01,2,     0.01,    2.519,2,    0.016,    0.000,2,    0.002,2,    0.000,2,   -999.0,9,   -999.0,9,-999.0000,-999,9,  -999.00,9,  -999.00,   -999.0,9,   -999.0,   2.3931,  27.6208
  49NZ20090410,   P21,   148,  1,     19, X12019,2,20090515,2157,-17.4932,-143.8362, 3478,   1870.4,2,   2.2300,2,   2.22999,2,  34.6244,2,  34.6245,6,   151.83,2,   151.74,2,   108.56,2,     0.36,    35.82,2,     0.13,     0.01,2,     0.01,    2.512,2,    0.016,    0.001,2,    0.001,2,    0.000,2,   -999.0,9,   -999.0,9,-999.0000,-999,9,  -999.00,9,  -999.00,   -999.0,9,   -999.0,   2.1010,  27.6627
  49NZ20090410,   P21,   148,  1,     18, X12043,2,20090515,2157,-17.4932,-143.8362, 3478,   2068.8,2,   2.1484,2,   2.14848,2,  34.6323,2,  34.6321,2,   152.92,2,   152.96,2,   111.05,2,     0.36,    35.63,2,     0.13,     0.01,2,     0.01,    2.508,2,    0.016,    0.001,2,    0.001,2,    0.000,2,   -999.0,9,   -999.0,9,-999.0000,-999,9,  -999.00,9,  -999.00,   -999.0,9,   -999.0,   2.0038,  27.6768
  49NZ20090410,   P21,   148,  1,     17, X12042,2,20090515,2157,-17.4932,-143.8362, 3478,   2271.0,2,   2.0312,2,   2.03150,2,  34.6424,2,  34.6417,2,   155.70,2,   155.46,2,   113.28,2,     0.37,    35.59,2,     0.13,     0.01,2,     0.01,    2.493,2,    0.016,    0.000,2,    0.000,2,    0.000,2,   -999.0,9,   -999.0,9,-999.0000,-999,9,  -999.00,9,  -999.00,   -999.0,9,   -999.0,   1.8709,  27.6953
  49NZ20090410,   P21,   148,  1,     16, X12016,2,20090515,2157,-17.4932,-143.8362, 3478,   2470.7,2,   1.8801,2,   1.88025,2,  34.6552,2,  34.6546,2,   158.93,2,   158.79,2,   116.55,2,     0.38,    35.30,2,     0.13,     0.01,2,     0.01,    2.474,2,    0.016,    0.000,2,    0.000,2,    0.000,2,   -999.0,9,   -999.0,9,-999.0000,-999,9,  -999.00,9,  -999.00,   -999.0,9,   -999.0,   1.7047,  27.7183
  49NZ20090410,   P21,   148,  1,     15, X12015,2,20090515,2157,-17.4932,-143.8362, 3478,   2670.1,2,   1.8024,2,   1.80233,2,  34.6627,2,  34.6625,6,   160.91,2,   160.85,2,   118.24,2,     0.38,    35.24,2,     0.13,     0.01,2,     0.01,    2.465,2,    0.016,    0.000,2,    0.000,2,    0.000,2,   -999.0,9,   -999.0,9,-999.0000,-999,9,  -999.00,9,  -999.00,   -999.0,9,   -999.0,   1.6103,  27.7314
  49NZ20090410,   P21,   148,  1,     14, X12050,2,20090515,2157,-17.4932,-143.8362, 3478,   2870.5,2,   1.7450,2,   1.74507,2,  34.6678,2,  34.6677,2,   164.04,2,   163.93,2,   118.63,2,     0.38,    35.03,2,     0.13,     0.00,2,     0.01,    2.452,2,    0.016,    0.002,2,    0.001,2,    0.000,2,   -999.0,9,   -999.0,9,-999.0000,-999,9,  -999.00,9,  -999.00,   -999.0,9,   -999.0,   1.5353,  27.7410
  49NZ20090410,   P21,   148,  1,     13, X12014,2,20090515,2157,-17.4932,-143.8362, 3478,   3080.3,2,   1.6545,2,   1.65450,2,  34.6755,2,  34.6753,2,   167.70,2,   167.78,2,   119.64,2,     0.38,    34.75,2,     0.13,     0.01,2,     0.01,    2.432,2,    0.016,    0.000,2,    0.000,2,    0.000,2,   -999.0,9,   -999.0,9,-999.0000,-999,9,  -999.00,9,  -999.00,   -999.0,9,   -999.0,   1.4265,  27.7551
  49NZ20090410,   P21,   148,  1,     12, X12012,2,20090515,2157,-17.4932,-143.8362, 3478,   3331.7,2,   1.5529,2,   1.55284,2,  34.6835,2,  34.6831,2,   173.02,2,   173.05,2,   119.98,2,     0.38,    34.44,2,     0.13,     0.01,2,     0.01,    2.409,2,    0.016,    0.000,2,    0.000,2,    0.000,2,   -999.0,9,   -999.0,9,-999.0000,-999,9,  -999.00,9,  -999.00,   -999.0,9,   -999.0,   1.3025,  27.7703
  49NZ20090410,   P21,   148,  1,     11, X12041,9,20090515,2157,-17.4932,-143.8362, 3478,      9.6,2,  27.8788,2,  27.87883,2,  36.3297,2,-999.0000,9,   197.21,2,  -999.00,9,  -999.00,9,  -999.00,  -999.00,9,  -999.00,  -999.00,9,  -999.00, -999.000,9, -999.000, -999.000,9, -999.000,9, -999.000,9,   -999.0,9,   -999.0,9,-999.0000,-999,9,  -999.00,9,  -999.00,   -999.0,9,   -999.0,  27.8765,  23.4355
  49NZ20090410,   P21,   148,  1,     10, X12040,9,20090515,2157,-17.4932,-143.8362, 3478,   2069.2,2,   2.1485,2,   2.14848,2,  34.6324,2,-999.0000,9,   152.90,2,  -999.00,9,  -999.00,9,  -999.00,  -999.00,9,  -999.00,  -999.00,9,  -999.00, -999.000,9, -999.000, -999.000,9, -999.000,9, -999.000,9,   -999.0,9,   -999.0,9,-999.0000,-999,9,  -999.00,9,  -999.00,   -999.0,9,   -999.0,   2.0039,  27.6769
  49NZ20090410,   P21,   148,  1,      9, X12009,9,20090515,2157,-17.4932,-143.8362, 3478,   2270.0,2,   2.0332,2,   2.03300,2,  34.6422,2,-999.0000,9,   155.61,2,  -999.00,9,  -999.00,9,  -999.00,  -999.00,9,  -999.00,  -999.00,9,  -999.00, -999.000,9, -999.000, -999.000,9, -999.000,9, -999.000,9,   -999.0,9,   -999.0,9,-999.0000,-999,9,  -999.00,9,  -999.00,   -999.0,9,   -999.0,   1.8730,  27.6950
  49NZ20090410,   P21,   148,  1,      8, X12008,9,20090515,2157,-17.4932,-143.8362, 3478,   2470.2,2,   1.8803,2,   1.88041,2,  34.6553,2,-999.0000,9,   158.95,2,  -999.00,9,  -999.00,9,  -999.00,  -999.00,9,  -999.00,  -999.00,9,  -999.00, -999.000,9, -999.000, -999.000,9, -999.000,9, -999.000,9,   -999.0,9,   -999.0,9,-999.0000,-999,9,  -999.00,9,  -999.00,   -999.0,9,   -999.0,   1.7049,  27.7183
  49NZ20090410,   P21,   148,  1,      7, X12007,9,20090515,2157,-17.4932,-143.8362, 3478,   3332.2,2,   1.5526,2,   1.55263,2,  34.6835,2,-999.0000,9,   173.05,2,  -999.00,9,  -999.00,9,  -999.00,  -999.00,9,  -999.00,  -999.00,9,  -999.00, -999.000,9, -999.000, -999.000,9, -999.000,9, -999.000,9,   -999.0,9,   -999.0,9,-999.0000,-999,9,  -999.00,9,  -999.00,   -999.0,9,   -999.0,   1.3021,  27.7704
  49NZ20090410,   P21,   148,  1,      6, X12035,9,20090515,2157,-17.4932,-143.8362, 3478,   3499.1,2,   1.5117,2,   1.51166,2,  34.6870,2,-999.0000,9,   175.68,2,  -999.00,9,  -999.00,9,  -999.00,  -999.00,9,  -999.00,  -999.00,9,  -999.00, -999.000,9, -999.000, -999.000,9, -999.000,9, -999.000,9,   -999.0,9,   -999.0,9,-999.0000,-999,9,  -999.00,9,  -999.00,   -999.0,9,   -999.0,   1.2453,  27.7772
  49NZ20090410,   P21,   148,  1,      5, X12038,9,20090515,2157,-17.4932,-143.8362, 3478,   2669.9,2,   1.8026,2,   1.80256,2,  34.6628,2,-999.0000,9,   160.95,2,  -999.00,9,  -999.00,9,  -999.00,  -999.00,9,  -999.00,  -999.00,9,  -999.00, -999.000,9, -999.000, -999.000,9, -999.000,9, -999.000,9,   -999.0,9,   -999.0,9,-999.0000,-999,9,  -999.00,9,  -999.00,   -999.0,9,   -999.0,   1.6105,  27.7314
  49NZ20090410,   P21,   148,  1,      4, X12034,9,20090515,2157,-17.4932,-143.8362, 3478,   2870.5,2,   1.7458,2,   1.74599,2,  34.6678,2,-999.0000,9,   163.91,2,  -999.00,9,  -999.00,9,  -999.00,  -999.00,9,  -999.00,  -999.00,9,  -999.00, -999.000,9, -999.000, -999.000,9, -999.000,9, -999.000,9,   -999.0,9,   -999.0,9,-999.0000,-999,9,  -999.00,9,  -999.00,   -999.0,9,   -999.0,   1.5360,  27.7410
  49NZ20090410,   P21,   148,  1,      3, X12033,2,20090515,2157,-17.4932,-143.8362, 3478,   3080.2,2,   1.6544,2,   1.65434,2,  34.6754,2,  34.6751,2,   167.70,2,  -999.00,9,  -999.00,9,  -999.00,  -999.00,9,  -999.00,  -999.00,9,  -999.00, -999.000,9, -999.000, -999.000,9, -999.000,9, -999.000,9,   -999.0,9,   -999.0,9,-999.0000,-999,9,  -999.00,9,  -999.00,   -999.0,9,   -999.0,   1.4265,  27.7550
  49NZ20090410,   P21,   148,  1,      2, X12032,9,20090515,2157,-17.4932,-143.8362, 3478,    930.5,2,   4.3255,2,   4.32604,2,  34.4804,2,-999.0000,9,   142.59,2,  -999.00,9,  -999.00,9,  -999.00,  -999.00,9,  -999.00,  -999.00,9,  -999.00, -999.000,9, -999.000, -999.000,9, -999.000,9, -999.000,9,   -999.0,9,   -999.0,9,-999.0000,-999,9,  -999.00,9,  -999.00,   -999.0,9,   -999.0,   4.2533,  27.3462
  49NZ20090410,   P21,   148,  1,      1, X12046,2,20090515,2157,-17.4932,-143.8362, 3478,   3499.0,2,   1.5118,2,   1.51169,2,  34.6870,2,  34.6868,6,   175.68,2,   175.41,2,   119.77,2,     0.38,    34.36,2,     0.13,     0.01,2,     0.01,    2.398,2,    0.016,    0.000,2,    0.000,2,    0.000,2,   -999.0,9,   -999.0,9,-999.0000,-999,9,  -999.00,9,  -999.00,   -999.0,9,   -999.0,   1.2454,  27.7771