BOTTLE,20220818CCHSIOAMB
EXPOCODE,SECT_ID,STNNBR,CASTNO,SAMPNO,BTLNBR,BTLNBR_FLAG_W,DATE,TIME,LATITUDE,LONGITUDE,DEPTH,CTDPRS,CTDPRS_FLAG_W,CTDTMP,CTDTMP_FLAG_W,SBE35,SBE35_FLAG_W,CTDSAL,CTDSAL_FLAG_W,SALNTY,SALNTY_FLAG_W,CTDOXY,CTDOXY_FLAG_W,OXYGEN,OXYGEN_FLAG_W,SILCAT,SILCAT_FLAG_W,SILUNC,NITRAT,NITRAT_FLAG_W,NRAUNC,NITRIT,NITRIT_FLAG_W,NRIUNC,PHSPHT,PHSPHT_FLAG_W,PHPUNC,CFC-11,CFC-11_FLAG_W,CFC-12,CFC-12_FLAG_W,CFC113,CFC113_FLAG_W,TCARBN,TCARBN_FLAG_W,ALKALI,ALKALI_FLAG_W,PH_TOT,PH_TMP,PH_TOT_FLAG_W,DELC13,DELC13_FLAG_W,C13ERR,DELC14,DELC14_FLAG_W,C14ERR,THETA,SIG0
,,,,,,,,,,,METERS,DBAR,,ITS-90,,ITS-90,,PSS-78,,PSS-78,,UMOL/KG,,UMOL/KG,,UMOL/KG,,UMOL/KG,UMOL/KG,,UMOL/KG,UMOL/KG,,UMOL/KG,UMOL/KG,,UMOL/KG,PMOL/KG,,PMOL/KG,,PMOL/KG,,UMOL/KG,,UMOL/KG,,,DEG C,,/MILLE,,/MILLE,/MILLE,,/MILLE,DEG C,KG/M^3
  49NZ20090410,   P21,    41,  1,     36, X12006,2,20090421,1504,-16.7473, -81.6688, 4651,      8.5,2,  23.9969,2,  23.99654,2,  35.4500,2,  35.4515,2,   210.42,2,   210.78,2,     0.68,2,     0.12,     0.11,2,     0.03,     0.01,2,     0.01,    0.567,2,    0.013,    1.692,2,    1.121,2, -999.000,5,   -999.0,9,   -999.0,9,-999.0000,-999,9,  -999.00,9,  -999.00,   -999.0,9,   -999.0,  23.9951,  23.9835
  49NZ20090410,   P21,    41,  1,     35, X12047,2,20090421,1504,-16.7473, -81.6688, 4651,     49.5,2,  18.9905,2,  18.96218,2,  35.1051,2,  35.1509,2,   245.58,2,   246.67,2,     0.61,2,     0.12,     0.24,2,     0.03,     0.03,2,     0.01,    0.467,2,    0.013,    2.271,2,    1.469,2, -999.000,5,   -999.0,9,   -999.0,9,-999.0000,-999,9,  -999.00,9,  -999.00,   -999.0,9,   -999.0,  18.9817,  25.1062
  49NZ20090410,   P21,    41,  1,     34, X12004,2,20090421,1504,-16.7473, -81.6688, 4651,    100.0,2,  16.1252,2,  16.11863,2,  34.9126,2,  34.9105,2,   184.18,2,   180.76,2,     3.20,2,     0.13,    12.55,2,     0.07,     0.05,2,     0.01,    1.313,2,    0.014,    2.446,6,    1.540,6,    0.192,6,   -999.0,9,   -999.0,9,-999.0000,-999,9,  -999.00,9,  -999.00,   -999.0,9,   -999.0,  16.1093,  25.6553
  49NZ20090410,   P21,    41,  1,     33, X12003,2,20090421,1504,-16.7473, -81.6688, 4651,    151.9,2,  13.2119,2,  13.20764,2,  34.8139,2,  34.7928,2,     8.06,2,    14.89,2,    17.81,2,     0.16,    23.05,2,     0.10,     0.02,2,     0.01,    2.634,2,    0.017,    1.607,2,    0.962,2,    0.066,2,   -999.0,9,   -999.0,9,-999.0000,-999,9,  -999.00,9,  -999.00,   -999.0,9,   -999.0,  13.1909,  26.2102
  49NZ20090410,   P21,    41,  1,     32, X12002,2,20090421,1504,-16.7473, -81.6688, 4651,    201.4,2,  12.2414,2,  12.24190,2,  34.8162,2,  34.8155,2,     1.25,2,     0.97,3,    25.38,2,     0.17,    19.10,2,     0.09,     0.80,2,     0.01,    2.728,2,    0.017,    0.809,2,    0.481,2,    0.013,2,   -999.0,9,   -999.0,9,-999.0000,-999,9,  -999.00,9,  -999.00,   -999.0,9,   -999.0,  12.2148,  26.4051
  49NZ20090410,   P21,    41,  1,     31, X12001,2,20090421,1504,-16.7473, -81.6688, 4651,    250.4,2,  11.5454,2,  11.54482,2,  34.8023,2,  34.8002,6,     1.32,2,     1.58,3,    28.22,2,     0.18,    22.44,2,     0.39,     2.77,2,     0.01,    2.742,2,    0.017,    0.522,2,    0.302,2,    0.014,2,   -999.0,9,   -999.0,9,-999.0000,-999,9,  -999.00,9,  -999.00,   -999.0,9,   -999.0,  11.5135,  26.5273
  49NZ20090410,   P21,    41,  1,     30, X12030,2,20090421,1504,-16.7473, -81.6688, 4651,    280.6,2,  10.9775,2,  10.97690,2,  34.7546,2,  34.7567,2,     1.37,2,     1.27,3,    28.45,2,     1.66,    25.94,2,     0.50,     1.37,2,     0.02,    2.759,2,    0.017,    0.436,2,    0.252,2,    0.006,2,   -999.0,9,   -999.0,9,-999.0000,-999,9,  -999.00,9,  -999.00,   -999.0,9,   -999.0,  10.9429,  26.5948
  49NZ20090410,   P21,    41,  1,     29, X12044,2,20090421,1504,-16.7473, -81.6688, 4651,    370.4,2,   9.4391,2,   9.43983,2,  34.6709,2,  34.6697,2,     2.30,2,     2.37,2,    30.13,2,     0.19,    36.03,2,     0.13,     0.01,2,     0.01,    2.856,2,    0.017,    0.175,2,    0.098,2,    0.000,2,   -999.0,9,   -999.0,9,-999.0000,-999,9,  -999.00,9,  -999.00,   -999.0,9,   -999.0,   9.3974,  26.7959
  49NZ20090410,   P21,    41,  1,     28, X12048,2,20090421,1504,-16.7473, -81.6688, 4651,    470.4,2,   8.0960,2,   8.09635,2,  34.5918,2,  34.5912,6,    10.16,2,    10.71,2,    34.54,2,     0.19,    40.26,2,     0.15,     0.01,2,     0.01,    2.999,2,    0.017,    0.107,4,    0.059,4,    0.000,4,   -999.0,9,   -999.0,9,-999.0000,-999,9,  -999.00,9,  -999.00,   -999.0,9,   -999.0,   8.0475,  26.9462
  49NZ20090410,   P21,    41,  1,     27, X12027,2,20090421,1504,-16.7473, -81.6688, 4651,    572.9,2,   6.9381,2,   6.94152,2,  34.5348,2,  34.5349,2,    24.77,2,    25.12,2,    39.63,2,     0.21,    42.36,2,     0.15,     0.01,2,     0.01,    3.050,2,    0.018,    0.077,6,    0.041,6,    0.000,6,   -999.0,9,   -999.0,9,-999.0000,-999,9,  -999.00,9,  -999.00,   -999.0,9,   -999.0,   6.8837,  27.0683
  49NZ20090410,   P21,    41,  1,     26, X12026,2,20090421,1504,-16.7473, -81.6688, 4651,    671.9,2,   6.1616,2,   6.16116,2,  34.5200,2,  34.5187,2,    25.65,2,    27.04,2,    47.91,2,     0.22,    43.81,2,     0.16,     0.01,2,     0.01,    3.150,2,    0.018,    0.022,2,    0.012,2,    0.000,2,   -999.0,9,   -999.0,9,-999.0000,-999,9,  -999.00,9,  -999.00,   -999.0,9,   -999.0,   6.1012,  27.1605
  49NZ20090410,   P21,    41,  1,     25, X12025,2,20090421,1504,-16.7473, -81.6688, 4651,    771.5,2,   5.5808,2,   5.58033,2,  34.5166,2,  34.5159,2,    29.16,2,    29.88,2,    56.96,2,     0.24,    44.73,2,     0.16,     0.01,2,     0.01,    3.204,2,    0.018,    0.011,2,    0.006,2,    0.000,2,   -999.0,9,   -999.0,9,-999.0000,-999,9,  -999.00,9,  -999.00,   -999.0,9,   -999.0,   5.5144,  27.2311
  49NZ20090410,   P21,    41,  1,     24, X12024,2,20090421,1504,-16.7473, -81.6688, 4651,    872.1,2,   5.0208,2,   5.02156,2,  34.5211,2,  34.5197,2,    38.18,2,    38.71,2,    66.16,2,     0.26,    44.43,2,     0.16,     0.00,2,     0.01,    3.206,2,    0.018,    0.004,2,    0.002,2,    0.000,2,   -999.0,9,   -999.0,9,-999.0000,-999,9,  -999.00,9,  -999.00,   -999.0,9,   -999.0,   4.9488,  27.3015
  49NZ20090410,   P21,    41,  1,     23, X12028,2,20090421,1504,-16.7473, -81.6688, 4651,    968.5,2,   4.5785,2,   4.57840,2,  34.5293,2,  34.5289,6,    48.21,2,    49.05,2,    74.90,2,     0.28,    43.77,2,     0.16,     0.01,2,     0.01,    3.171,2,    0.018,    0.003,2,    0.005,2,    0.000,2,   -999.0,9,   -999.0,9,-999.0000,-999,9,  -999.00,9,  -999.00,   -999.0,9,   -999.0,   4.5011,  27.3583
  49NZ20090410,   P21,    41,  1,     22, X12022,2,20090421,1504,-16.7473, -81.6688, 4651,   1128.1,2,   3.9259,2,   3.92570,2,  34.5449,2,  34.5450,2,    66.53,2,    66.97,2,    86.68,2,     0.31,    42.29,2,     0.15,     0.01,2,     0.01,    3.081,2,    0.018,    0.004,2,    0.004,2,    0.000,2,   -999.0,9,   -999.0,9,-999.0000,-999,9,  -999.00,9,  -999.00,   -999.0,9,   -999.0,   3.8400,  27.4406
  49NZ20090410,   P21,    41,  1,     21, X12021,2,20090421,1504,-16.7473, -81.6688, 4651,   1330.8,2,   3.3425,2,   3.34243,2,  34.5709,2,  34.5704,2,    80.97,2,    81.24,2,    99.41,2,     0.34,    41.17,2,     0.15,     0.01,2,     0.01,    2.996,2,    0.017,    0.002,2,    0.000,2,    0.000,2,   -999.0,9,   -999.0,9,-999.0000,-999,9,  -999.00,9,  -999.00,   -999.0,9,   -999.0,   3.2451,  27.5198
  49NZ20090410,   P21,    41,  1,     20, X12020,2,20090421,1504,-16.7473, -81.6688, 4651,   1529.4,2,   2.8909,2,   2.89085,2,  34.5996,2,  34.5993,2,    88.53,2,    88.60,2,   112.47,2,     0.37,    40.52,2,     0.15,     0.01,2,     0.01,    2.941,2,    0.017,    0.002,2,    0.001,2,    0.000,2,   -999.0,9,   -999.0,9,-999.0000,-999,9,  -999.00,9,  -999.00,   -999.0,9,   -999.0,   2.7818,  27.5852
  49NZ20090410,   P21,    41,  1,     19, X12019,2,20090421,1504,-16.7473, -81.6688, 4651,   1729.0,2,   2.5762,2,   2.57577,2,  34.6196,2,  34.6192,2,    97.84,2,    97.96,2,   120.67,2,     0.38,    39.68,2,     0.14,     0.01,2,     0.01,    2.866,2,    0.017,    0.003,2,    0.001,2,    0.000,2,   -999.0,9,   -999.0,9,-999.0000,-999,9,  -999.00,9,  -999.00,   -999.0,9,   -999.0,   2.4543,  27.6296
  49NZ20090410,   P21,    41,  1,     18, X12043,2,20090421,1504,-16.7473, -81.6688, 4651,   1928.6,2,   2.3453,2,   2.34538,2,  34.6347,2,  34.6345,2,   107.15,2,   107.10,2,   125.66,2,     0.40,    38.79,2,     0.14,     0.00,2,     0.01,    2.802,2,    0.017,    0.004,2,    0.002,2,    0.000,2,   -999.0,9,   -999.0,9,-999.0000,-999,9,  -999.00,9,  -999.00,   -999.0,9,   -999.0,   2.2097,  27.6621
  49NZ20090410,   P21,    41,  1,     17, X12042,2,20090421,1504,-16.7473, -81.6688, 4651,   2131.5,2,   2.1383,2,   2.13832,2,  34.6484,2,  34.6482,6,   119.25,2,   119.07,2,   127.25,2,     0.40,    38.02,2,     0.14,     0.01,2,     0.01,    2.716,2,    0.017, -999.000,9, -999.000,9, -999.000,9,   -999.0,9,   -999.0,9,-999.0000,-999,9,  -999.00,9,  -999.00,   -999.0,9,   -999.0,   1.9884,  27.6909
  49NZ20090410,   P21,    41,  1,     16, X12016,2,20090421,1504,-16.7473, -81.6688, 4651,   2331.3,2,   1.9959,2,   1.99593,2,  34.6584,2,  34.6582,2,   131.40,2,   131.26,2,   126.00,2,     0.40,    37.04,2,     0.14,     0.01,2,     0.01,    2.632,2,    0.017, -999.000,9, -999.000,9, -999.000,9,   -999.0,9,   -999.0,9,-999.0000,-999,9,  -999.00,9,  -999.00,   -999.0,9,   -999.0,   1.8308,  27.7113
  49NZ20090410,   P21,    41,  1,     15, X12015,2,20090421,1504,-16.7473, -81.6688, 4651,   2531.8,2,   1.8972,2,   1.89726,2,  34.6672,2,  34.6666,2,   136.94,2,   136.77,2,   127.48,2,     0.40,    36.64,2,     0.14,     0.00,2,     0.01,    2.599,2,    0.016,    0.003,2,    0.002,2,    0.000,2,   -999.0,9,   -999.0,9,-999.0000,-999,9,  -999.00,9,  -999.00,   -999.0,9,   -999.0,   1.7159,  27.7271
  49NZ20090410,   P21,    41,  1,     14, X12050,2,20090421,1504,-16.7473, -81.6688, 4651,   2729.1,2,   1.8351,2,   1.83508,2,  34.6733,2,  34.6736,2,   139.78,2,   139.65,2,   129.24,2,     0.40,    36.43,2,     0.13,     0.01,2,     0.01,    2.567,2,    0.016, -999.000,9, -999.000,9, -999.000,9,   -999.0,9,   -999.0,9,-999.0000,-999,9,  -999.00,9,  -999.00,   -999.0,9,   -999.0,   1.6368,  27.7379
  49NZ20090410,   P21,    41,  1,     13, X12013,7,20090421,1504,-16.7473, -81.6688, 4651,   2932.4,2,   1.8071,2,   1.80701,2,  34.6770,2,  34.6773,2,   138.00,2,   138.19,2,   132.97,2,     0.41,    36.57,2,     0.14,     0.00,2,     0.01,    2.581,2,    0.016, -999.000,9, -999.000,9, -999.000,9,   -999.0,9,   -999.0,9,-999.0000,-999,9,  -999.00,9,  -999.00,   -999.0,9,   -999.0,   1.5901,  27.7444
  49NZ20090410,   P21,    41,  1,     12, X12012,2,20090421,1504,-16.7473, -81.6688, 4651,   3170.7,2,   1.7930,2,   1.79294,2,  34.6799,2,  34.6797,2,   136.88,2,   136.77,2,   136.40,2,     0.42,    36.71,2,     0.14,     0.00,2,     0.01,    2.588,2,    0.016,    0.004,2,    0.002,2,    0.000,2,   -999.0,9,   -999.0,9,-999.0000,-999,9,  -999.00,9,  -999.00,   -999.0,9,   -999.0,   1.5530,  27.7494
  49NZ20090410,   P21,    41,  1,     11, X12041,2,20090421,1504,-16.7473, -81.6688, 4651,   3422.6,2,   1.7909,2,   1.79100,2,  34.6823,2,  34.6818,6,   139.36,2,   139.43,2,   135.33,2,     0.42,    36.57,2,     0.14,     0.01,2,     0.01,    2.575,2,    0.016, -999.000,9, -999.000,9, -999.000,9,   -999.0,9,   -999.0,9,-999.0000,-999,9,  -999.00,9,  -999.00,   -999.0,9,   -999.0,   1.5254,  27.7533
  49NZ20090410,   P21,    41,  1,     10, X12040,2,20090421,1504,-16.7473, -81.6688, 4651,   3671.5,2,   1.7817,2,   1.78182,2,  34.6851,2,  34.6848,2,   144.55,2,   144.78,2,   131.67,2,     0.41,    36.10,2,     0.13,     0.00,2,     0.01,    2.536,2,    0.016, -999.000,9, -999.000,9, -999.000,9,   -999.0,9,   -999.0,9,-999.0000,-999,9,  -999.00,9,  -999.00,   -999.0,9,   -999.0,   1.4905,  27.7581
  49NZ20090410,   P21,    41,  1,      9, X12009,2,20090421,1504,-16.7473, -81.6688, 4651,   3921.4,2,   1.7738,2,   1.77389,2,  34.6876,2,  34.6875,2,   149.52,2,   149.59,2,   128.69,2,     0.40,    35.69,2,     0.13,     0.00,2,     0.01,    2.513,2,    0.016,    0.001,2,    0.002,2,    0.000,2,   -999.0,9,   -999.0,9,-999.0000,-999,9,  -999.00,9,  -999.00,   -999.0,9,   -999.0,   1.4558,  27.7626
  49NZ20090410,   P21,    41,  1,      8, X12008,2,20090421,1504,-16.7473, -81.6688, 4651,   4170.5,2,   1.7762,2,   1.77618,2,  34.6891,2,  34.6893,2,   153.39,2,   153.23,2,   125.89,2,     0.40,    35.28,2,     0.13,     0.01,2,     0.01,    2.486,2,    0.016, -999.000,9, -999.000,9, -999.000,9,   -999.0,9,   -999.0,9,-999.0000,-999,9,  -999.00,9,  -999.00,   -999.0,9,   -999.0,   1.4305,  27.7657
  49NZ20090410,   P21,    41,  1,      7, X12007,2,20090421,1504,-16.7473, -81.6688, 4651,   4419.6,2,   1.7834,2,   1.78333,2,  34.6900,2,  34.6903,2,   154.70,2,   154.97,2,   125.62,2,     0.40,    35.30,2,     0.13,     0.00,2,     0.01,    2.480,2,    0.016, -999.000,9, -999.000,9, -999.000,9,   -999.0,9,   -999.0,9,-999.0000,-999,9,  -999.00,9,  -999.00,   -999.0,9,   -999.0,   1.4090,  27.7680
  49NZ20090410,   P21,    41,  1,      6, X12035,9,20090421,1504,-16.7473, -81.6688, 4651,      9.2,2,  23.9985,2,  23.99822,2,  35.4502,2,-999.0000,9,   210.60,2,  -999.00,9,  -999.00,9,  -999.00,  -999.00,9,  -999.00,  -999.00,9,  -999.00, -999.000,9, -999.000, -999.000,9, -999.000,9, -999.000,9,   -999.0,9,   -999.0,9,-999.0000,-999,9,  -999.00,9,  -999.00,   -999.0,9,   -999.0,  23.9966,  23.9832
  49NZ20090410,   P21,    41,  1,      5, X12038,9,20090421,1504,-16.7473, -81.6688, 4651,    572.7,2,   6.9362,2,   6.93419,2,  34.5345,2,-999.0000,9,    24.79,2,  -999.00,9,  -999.00,9,  -999.00,  -999.00,9,  -999.00,  -999.00,9,  -999.00, -999.000,9, -999.000, -999.000,9, -999.000,9, -999.000,9,   -999.0,9,   -999.0,9,-999.0000,-999,9,  -999.00,9,  -999.00,   -999.0,9,   -999.0,   6.8818,  27.0683
  49NZ20090410,   P21,    41,  1,      4, X12034,9,20090421,1504,-16.7473, -81.6688, 4651,   4170.5,2,   1.7765,2,   1.77646,2,  34.6890,2,-999.0000,9,   153.39,2,  -999.00,9,  -999.00,9,  -999.00,  -999.00,9,  -999.00,  -999.00,9,  -999.00, -999.000,9, -999.000, -999.000,9, -999.000,9, -999.000,9,   -999.0,9,   -999.0,9,-999.0000,-999,9,  -999.00,9,  -999.00,   -999.0,9,   -999.0,   1.4308,  27.7656
  49NZ20090410,   P21,    41,  1,      3, X12033,2,20090421,1504,-16.7473, -81.6688, 4651,   4421.7,2,   1.7835,2,   1.78347,2,  34.6901,2,  34.6903,2,   154.77,2,   154.94,2,   125.65,2,     0.40,    35.22,2,     0.13,     0.01,2,     0.01,    2.483,2,    0.016, -999.000,9, -999.000,9, -999.000,9,   -999.0,9,   -999.0,9,-999.0000,-999,9,  -999.00,9,  -999.00,   -999.0,9,   -999.0,   1.4088,  27.7681
  49NZ20090410,   P21,    41,  1,      2, X12032,9,20090421,1504,-16.7473, -81.6688, 4651,   2931.2,2,   1.8071,2,   1.80712,2,  34.6770,2,-999.0000,9,   138.10,2,  -999.00,9,  -999.00,9,  -999.00,  -999.00,9,  -999.00,  -999.00,9,  -999.00, -999.000,9, -999.000, -999.000,9, -999.000,9, -999.000,9,   -999.0,9,   -999.0,9,-999.0000,-999,9,  -999.00,9,  -999.00,   -999.0,9,   -999.0,   1.5902,  27.7443
  49NZ20090410,   P21,    41,  1,      1, X12046,2,20090421,1504,-16.7473, -81.6688, 4651,   4708.6,2,   1.8161,2,   1.81603,2,  34.6901,2,  34.6902,6,   154.01,2,   154.12,2,   126.36,2,     0.40,    35.23,2,     0.13,     0.01,2,     0.01,    2.484,2,    0.016,    0.011,2,    0.002,2,    0.000,2,   -999.0,9,   -999.0,9,-999.0000,-999,9,  -999.00,9,  -999.00,   -999.0,9,   -999.0,   1.4066,  27.7683