BOTTLE,20220818CCHSIOAMB
EXPOCODE,SECT_ID,STNNBR,CASTNO,SAMPNO,BTLNBR,BTLNBR_FLAG_W,DATE,TIME,LATITUDE,LONGITUDE,DEPTH,CTDPRS,CTDPRS_FLAG_W,CTDTMP,CTDTMP_FLAG_W,SBE35,SBE35_FLAG_W,CTDSAL,CTDSAL_FLAG_W,SALNTY,SALNTY_FLAG_W,CTDOXY,CTDOXY_FLAG_W,OXYGEN,OXYGEN_FLAG_W,SILCAT,SILCAT_FLAG_W,SILUNC,NITRAT,NITRAT_FLAG_W,NRAUNC,NITRIT,NITRIT_FLAG_W,NRIUNC,PHSPHT,PHSPHT_FLAG_W,PHPUNC,CFC-11,CFC-11_FLAG_W,CFC-12,CFC-12_FLAG_W,CFC113,CFC113_FLAG_W,TCARBN,TCARBN_FLAG_W,ALKALI,ALKALI_FLAG_W,PH_TOT,PH_TMP,PH_TOT_FLAG_W,DELC13,DELC13_FLAG_W,C13ERR,DELC14,DELC14_FLAG_W,C14ERR,THETA,SIG0
,,,,,,,,,,,METERS,DBAR,,ITS-90,,ITS-90,,PSS-78,,PSS-78,,UMOL/KG,,UMOL/KG,,UMOL/KG,,UMOL/KG,UMOL/KG,,UMOL/KG,UMOL/KG,,UMOL/KG,UMOL/KG,,UMOL/KG,PMOL/KG,,PMOL/KG,,PMOL/KG,,UMOL/KG,,UMOL/KG,,,DEG C,,/MILLE,,/MILLE,/MILLE,,/MILLE,DEG C,KG/M^3
  49NZ20090410,   P21,   149,  1,     36, X12006,2,20090516,0311,-17.4935,-144.5050, 4037,      9.9,2,  27.9399,2,  27.93992,2,  36.2913,2,  36.2909,2,   196.99,2,   197.04,2,     0.88,2,     0.12,     0.08,2,     0.03,     0.02,2,     0.01,    0.275,2,    0.014,    1.441,2,    0.940,2, -999.000,5,   2024.1,2,   2392.5,2,   8.1305,  25,6,  -999.00,9,  -999.00,   -999.0,9,   -999.0,  27.9376,  23.3866
  49NZ20090410,   P21,   149,  1,     35, X12047,2,20090516,0311,-17.4935,-144.5050, 4037,     49.3,2,  27.9492,2,  27.94710,2,  36.2902,2,  36.2909,2,   196.61,2,   197.10,2,     0.86,2,     0.12,     0.06,2,     0.03,     0.02,2,     0.01,    0.272,2,    0.015,    1.437,2,    0.938,2, -999.000,5,   2024.7,6,   2392.3,2,   8.1303,  25,2,  -999.00,9,  -999.00,   -999.0,9,   -999.0,  27.9376,  23.3858
  49NZ20090410,   P21,   149,  1,     34, X12004,2,20090516,0311,-17.4935,-144.5050, 4037,     99.2,2,  25.7774,2,  25.78109,2,  36.4381,2,  36.4381,2,   196.11,2,   195.97,2,     0.73,2,     0.12,     0.15,2,     0.03,     0.19,2,     0.01,    0.303,2,    0.014,    1.620,6,    1.043,6, -999.000,5,   2061.1,2,   2398.6,6,   8.0832,  25,2,  -999.00,9,  -999.00,   -999.0,9,   -999.0,  25.7553,  24.1953
  49NZ20090410,   P21,   149,  1,     33, X12003,2,20090516,0311,-17.4935,-144.5050, 4037,    149.2,2,  24.3209,2,  24.32061,2,  36.4015,2,  36.4011,2,   184.81,2,   184.97,2,     0.68,2,     0.12,     0.56,2,     0.03,     1.23,2,     0.00,    0.372,2,    0.014,    1.713,2,    1.090,2, -999.000,5,   2081.2,2,   2395.7,2,   8.0476,  25,6,  -999.00,9,  -999.00,   -999.0,9,   -999.0,  24.2890,  24.6164
  49NZ20090410,   P21,   149,  1,     32, X12002,2,20090516,0311,-17.4935,-144.5050, 4037,    199.8,2,  22.2394,2,  22.24292,2,  36.1114,2,  36.1125,2,   180.95,2,   180.60,2,     0.67,2,     0.12,     2.65,2,     0.04,     0.04,2,     0.01,    0.442,2,    0.013,    1.912,2,    1.196,2,    0.120,2,   2090.8,2,   2379.2,2,   8.0035,  25,2,  -999.00,9,  -999.00,   -999.0,9,   -999.0,  22.1993,  25.0063
  49NZ20090410,   P21,   149,  1,     31, X12001,2,20090516,0311,-17.4935,-144.5050, 4037,    248.9,2,  19.4546,2,  19.45465,2,  35.6230,2,  35.6251,6,   180.89,2,   180.79,2,     0.91,2,     0.12,     4.14,2,     0.04,     0.02,2,     0.01,    0.528,2,    0.013,    2.167,2,    1.310,2,    0.027,2,   2093.1,2,   2354.5,2,   7.9537,  25,2,  -999.00,9,  -999.00,   -999.0,9,   -999.0,  19.4092,  25.3919
  49NZ20090410,   P21,   149,  1,     30, X12030,2,20090516,0311,-17.4935,-144.5050, 4037,    281.0,2,  18.4444,2,  18.44748,2,  35.4559,2,  35.4625,2,   179.99,2,   180.00,2,     1.15,2,     0.12,     5.01,2,     0.05,     0.02,2,     0.01,    0.593,2,    0.013,    2.246,2,    1.336,2,    0.031,2,   2095.2,2,   2334.0,2,   7.9336,  25,2,  -999.00,9,  -999.00,   -999.0,9,   -999.0,  18.3951,  25.5229
  49NZ20090410,   P21,   149,  1,     29, X12044,2,20090516,0311,-17.4935,-144.5050, 4037,    370.1,2,  13.8692,2,  13.87173,2,  34.8966,2,  34.8975,2,   173.72,2,   173.75,2,     3.90,2,     0.13,    11.47,2,     0.06,     0.01,2,     0.01,    1.011,2,    0.013,    2.329,2,    1.294,2,    0.025,2,   2118.1,2,   2300.0,2,   7.8274,  25,2,  -999.00,9,  -999.00,   -999.0,9,   -999.0,  13.8158,  26.1458
  49NZ20090410,   P21,   149,  1,     28, X12048,2,20090516,0311,-17.4935,-144.5050, 4037,    469.4,2,   9.5994,2,   9.60138,2,  34.5330,2,  34.5342,6,   148.03,2,   148.16,2,    11.43,2,     0.14,    22.93,2,     0.10,     0.01,2,     0.01,    1.770,2,    0.015,    1.617,2,    0.849,2,    0.019,2,   2171.9,2,   2285.5,2,   7.6677,  25,2,  -999.00,9,  -999.00,   -999.0,9,   -999.0,   9.5459,  26.6636
  49NZ20090410,   P21,   149,  1,     27, X12027,2,20090516,0311,-17.4935,-144.5050, 4037,    568.6,2,   7.1604,2,   7.16011,2,  34.4477,2,  34.4477,2,   136.01,2,   136.07,2,    22.93,2,     0.17,    30.60,2,     0.12,     0.01,2,     0.01,    2.206,2,    0.016,    0.654,6,    0.342,6,    0.012,6,   2207.1,2,   2291.4,2,   7.5899,  25,2,  -999.00,9,  -999.00,   -999.0,9,   -999.0,   7.1055,  26.9690
  49NZ20090410,   P21,   149,  1,     26, X12026,2,20090516,0311,-17.4935,-144.5050, 4037,    670.6,2,   6.0266,2,   6.02664,2,  34.4559,2,  34.4561,2,   137.57,2,   137.61,2,    34.86,2,     0.20,    32.97,2,     0.13,     0.01,2,     0.01,    2.334,2,    0.016,    0.254,2,    0.138,2,    0.000,2,   2222.3,6,   2303.6,2,   7.5816,  25,2,  -999.00,9,  -999.00,   -999.0,9,   -999.0,   5.9671,  27.1269
  49NZ20090410,   P21,   149,  1,     25, X12025,2,20090516,0311,-17.4935,-144.5050, 4037,    768.7,2,   5.3942,2,   5.39406,2,  34.4673,2,  34.4675,2,   138.38,2,   138.42,2,    44.13,2,     0.22,    33.85,2,     0.13,     0.01,2,     0.01,    2.398,2,    0.016,    0.138,2,    0.076,2,    0.000,2,   2233.9,2,   2314.5,6,   7.5776,  25,2,  -999.00,9,  -999.00,   -999.0,9,   -999.0,   5.3292,  27.2143
  49NZ20090410,   P21,   149,  1,     24, X12024,2,20090516,0311,-17.4935,-144.5050, 4037,    870.2,2,   4.7141,2,   4.71409,2,  34.4802,2,  34.4803,2,   139.77,2,   139.75,2,    54.93,2,     0.24,    34.71,2,     0.13,     0.01,2,     0.01,    2.455,2,    0.016,    0.072,2,    0.042,2,    0.000,2,   2245.3,2,   2325.3,2,   7.5736,  25,6,  -999.00,9,  -999.00,   -999.0,9,   -999.0,   4.6444,  27.3034
  49NZ20090410,   P21,   149,  1,     23, X12028,2,20090516,0311,-17.4935,-144.5050, 4037,    969.7,2,   4.2017,2,   4.20173,2,  34.5001,2,  34.5003,6,   140.50,2,   140.55,2,    64.49,2,     0.26,    35.26,2,     0.13,     0.01,2,     0.01,    2.496,2,    0.016,    0.039,2,    0.023,2,    0.000,2,   2257.9,2,   2335.4,2,   7.5723,  25,2,  -999.00,9,  -999.00,   -999.0,9,   -999.0,   4.1271,  27.3752
  49NZ20090410,   P21,   149,  1,     22, X12022,2,20090516,0311,-17.4935,-144.5050, 4037,   1129.8,2,   3.6577,2,   3.65778,2,  34.5262,2,  34.5266,2,   141.25,2,   141.48,2,    75.61,2,     0.29,    35.71,2,     0.13,     0.01,2,     0.01,    2.528,2,    0.016,    0.015,2,    0.008,2,    0.000,2,   2268.6,2,   2348.9,2,   7.5707,  25,2,  -999.00,9,  -999.00,   -999.0,9,   -999.0,   3.5741,  27.4523
  49NZ20090410,   P21,   149,  1,     21, X12021,2,20090516,0311,-17.4935,-144.5050, 4037,   1330.5,2,   3.2179,2,   3.21806,2,  34.5527,2,  34.5525,2,   142.77,2,   143.00,2,    85.48,2,     0.31,    36.02,2,     0.13,     0.01,2,     0.01,    2.547,2,    0.016,    0.005,2,    0.003,2,    0.000,2,   2278.9,2,   2359.0,2,   7.5703,  25,2,  -999.00,9,  -999.00,   -999.0,9,   -999.0,   3.1218,  27.5168
  49NZ20090410,   P21,   149,  1,     20, X12020,2,20090516,0311,-17.4935,-144.5050, 4037,   1529.7,2,   2.8144,2,   2.81451,2,  34.5786,2,  34.5787,2,   146.07,2,   146.44,2,    94.40,2,     0.33,    35.97,2,     0.13,     0.01,2,     0.01,    2.530,2,    0.016,    0.003,2,    0.001,2,    0.000,2,   2287.5,2,   2369.4,2,   7.5748,  25,2,  -999.00,9,  -999.00,   -999.0,9,   -999.0,   2.7062,  27.5751
  49NZ20090410,   P21,   149,  1,     19, X12019,2,20090516,0311,-17.4935,-144.5050, 4037,   1730.8,2,   2.5005,2,   2.50065,2,  34.6031,2,  34.6032,2,   149.10,2,   149.49,2,   102.08,2,     0.34,    35.78,2,     0.13,     0.01,2,     0.01,    2.526,2,    0.016,    0.000,2,    0.000,2,    0.000,2,   2293.7,2,   2376.4,2,   7.5791,  25,2,  -999.00,9,  -999.00,   -999.0,9,   -999.0,   2.3795,  27.6227
  49NZ20090410,   P21,   149,  1,     18, X12043,2,20090516,0311,-17.4935,-144.5050, 4037,   1930.3,2,   2.2290,2,   2.22904,2,  34.6251,2,  34.6249,6,   152.63,2,   153.01,2,   108.52,2,     0.36,    35.66,2,     0.13,     0.01,2,     0.01,    2.509,2,    0.016,    0.000,2,    0.000,2,    0.000,2,   2298.3,2,   2383.0,2,   7.5846,  25,2,  -999.00,9,  -999.00,   -999.0,9,   -999.0,   2.0950,  27.6637
  49NZ20090410,   P21,   149,  1,     17, X12042,2,20090516,0311,-17.4935,-144.5050, 4037,   2129.9,2,   2.0832,2,   2.08327,2,  34.6374,2,  34.6373,2,   155.05,2,   155.35,2,   111.76,2,     0.36,    35.53,2,     0.13,     0.01,2,     0.01,    2.500,2,    0.016,    0.001,2,    0.000,2,    0.000,2,   2301.6,2,   2386.7,2,   7.5877,  25,2,  -999.00,9,  -999.00,   -999.0,9,   -999.0,   1.9344,  27.6863
  49NZ20090410,   P21,   149,  1,     16, X12016,2,20090516,0311,-17.4935,-144.5050, 4037,   2330.1,2,   1.9510,2,   1.95099,2,  34.6489,2,  34.6489,2,   157.37,2,   157.73,2,   114.94,2,     0.37,    35.45,2,     0.13,     0.01,2,     0.01,    2.487,2,    0.016,    0.000,2,    0.000,2,    0.000,2,   2302.0,6,   2389.8,2,   7.5910,  25,2,  -999.00,9,  -999.00,   -999.0,9,   -999.0,   1.7869,  27.7070
  49NZ20090410,   P21,   149,  1,     15, X12015,2,20090516,0311,-17.4935,-144.5050, 4037,   2530.3,2,   1.8616,2,   1.86170,2,  34.6574,2,  34.6571,2,   158.66,2,   158.97,2,   117.24,2,     0.38,    35.28,2,     0.13,     0.01,2,     0.01,    2.484,2,    0.016,    0.000,2,    0.000,2,    0.000,2,   2305.3,2,   2392.6,6,   7.5936,  25,2,  -999.00,9,  -999.00,   -999.0,9,   -999.0,   1.6811,  27.7218
  49NZ20090410,   P21,   149,  1,     14, X12050,2,20090516,0311,-17.4935,-144.5050, 4037,   2730.4,2,   1.7830,2,   1.78300,2,  34.6647,2,  34.6645,2,   160.78,2,   161.06,2,   119.27,2,     0.38,    35.23,2,     0.13,     0.01,2,     0.01,    2.471,2,    0.016,    0.000,2,    0.000,2,    0.000,2,   2303.5,2,   2394.3,2,   7.5961,  25,6,  -999.00,9,  -999.00,   -999.0,9,   -999.0,   1.5856,  27.7348
  49NZ20090410,   P21,   149,  1,     13, X12014,2,20090516,0311,-17.4935,-144.5050, 4037,   2931.7,2,   1.7186,2,   1.71858,2,  34.6707,2,  34.6702,6,   163.97,2,   164.19,2,   119.45,2,     0.38,    35.07,2,     0.13,     0.01,2,     0.01,    2.456,2,    0.016,    0.000,2,    0.000,2,    0.000,2,   2301.3,2,   2394.2,2,   7.5993,  25,2,  -999.00,9,  -999.00,   -999.0,9,   -999.0,   1.5036,  27.7457
  49NZ20090410,   P21,   149,  1,     12, X12012,2,20090516,0311,-17.4935,-144.5050, 4037,   3170.6,2,   1.6209,2,   1.62100,2,  34.6784,2,  34.6781,2,   169.13,2,   169.35,2,   119.90,2,     0.38,    34.70,2,     0.13,     0.01,2,     0.01,    2.421,2,    0.016,    0.000,2,    0.000,2,    0.000,2,   2299.0,2,   2392.0,2,   7.6044,  25,2,  -999.00,9,  -999.00,   -999.0,9,   -999.0,   1.3849,  27.7604
  49NZ20090410,   P21,   149,  1,     11, X12041,2,20090516,0311,-17.4935,-144.5050, 4037,   3420.7,2,   1.5550,2,   1.55527,2,  34.6841,2,  34.6839,2,   173.00,2,   173.34,2,   120.22,2,     0.38,    34.48,2,     0.13,     0.01,2,     0.01,    2.404,2,    0.016,    0.004,2,    0.000,2,    0.000,2,   2295.6,2,   2389.7,2,   7.6067,  25,2,  -999.00,9,  -999.00,   -999.0,9,   -999.0,   1.2955,  27.7713
  49NZ20090410,   P21,   149,  1,     10, X12040,2,20090516,0311,-17.4935,-144.5050, 4037,   3669.1,2,   1.4937,2,   1.49377,2,  34.6895,2,  34.6899,2,   176.78,2,   176.96,2,   120.12,2,     0.38,    34.21,2,     0.13,     0.01,2,     0.01,    2.387,2,    0.016,    0.001,2,    0.001,2,    0.000,2,   2293.3,2,   2388.9,2,   7.6098,  25,2,  -999.00,9,  -999.00,   -999.0,9,   -999.0,   1.2102,  27.7816
  49NZ20090410,   P21,   149,  1,      9, X12009,2,20090516,0311,-17.4935,-144.5050, 4037,   3919.5,2,   1.4796,2,   1.47965,2,  34.6919,2,  34.6912,2,   178.62,2,   178.82,2,   120.27,2,     0.38,    34.16,2,     0.13,     0.01,2,     0.01,    2.384,2,    0.016,    0.001,2,    0.001,2,    0.000,2,   2292.2,2,   2388.7,2,   7.6115,  25,2,  -999.00,9,  -999.00,   -999.0,9,   -999.0,   1.1699,  27.7863
  49NZ20090410,   P21,   149,  1,      8, X12008,9,20090516,0311,-17.4935,-144.5050, 4037,      9.8,2,  27.9420,2,  27.94179,2,  36.2914,2,-999.0000,9,   197.04,2,  -999.00,9,  -999.00,9,  -999.00,  -999.00,9,  -999.00,  -999.00,9,  -999.00, -999.000,9, -999.000, -999.000,9, -999.000,9, -999.000,9,   -999.0,9,   -999.0,9,-999.0000,-999,9,  -999.00,9,  -999.00,   -999.0,9,   -999.0,  27.9397,  23.3859
  49NZ20090410,   P21,   149,  1,      7, X12007,9,20090516,0311,-17.4935,-144.5050, 4037,    200.4,2,  22.2086,2,  22.22153,2,  36.1068,2,-999.0000,9,   181.07,2,  -999.00,9,  -999.00,9,  -999.00,  -999.00,9,  -999.00,  -999.00,9,  -999.00, -999.000,9, -999.000, -999.000,9, -999.000,9, -999.000,9,   -999.0,9,   -999.0,9,-999.0000,-999,9,  -999.00,9,  -999.00,   -999.0,9,   -999.0,  22.1685,  25.0115
  49NZ20090410,   P21,   149,  1,      6, X12035,9,20090516,0311,-17.4935,-144.5050, 4037,   4083.8,2,   1.4961,2,   1.49614,2,  34.6920,2,-999.0000,9,   178.79,2,  -999.00,9,  -999.00,9,  -999.00,  -999.00,9,  -999.00,  -999.00,9,  -999.00, -999.000,9, -999.000, -999.000,9, -999.000,9, -999.000,9,   -999.0,9,   -999.0,9,-999.0000,-999,9,  -999.00,9,  -999.00,   -999.0,9,   -999.0,   1.1681,  27.7865
  49NZ20090410,   P21,   149,  1,      5, X12038,9,20090516,0311,-17.4935,-144.5050, 4037,   2531.5,2,   1.8614,2,   1.86165,2,  34.6574,2,-999.0000,9,   158.70,2,  -999.00,9,  -999.00,9,  -999.00,  -999.00,9,  -999.00,  -999.00,9,  -999.00, -999.000,9, -999.000, -999.000,9, -999.000,9, -999.000,9,   -999.0,9,   -999.0,9,-999.0000,-999,9,  -999.00,9,  -999.00,   -999.0,9,   -999.0,   1.6808,  27.7219
  49NZ20090410,   P21,   149,  1,      4, X12034,9,20090516,0311,-17.4935,-144.5050, 4037,   2729.9,2,   1.7830,2,   1.78297,2,  34.6648,2,-999.0000,9,   160.82,2,  -999.00,9,  -999.00,9,  -999.00,  -999.00,9,  -999.00,  -999.00,9,  -999.00, -999.000,9, -999.000, -999.000,9, -999.000,9, -999.000,9,   -999.0,9,   -999.0,9,-999.0000,-999,9,  -999.00,9,  -999.00,   -999.0,9,   -999.0,   1.5857,  27.7348
  49NZ20090410,   P21,   149,  1,      3, X12033,2,20090516,0311,-17.4935,-144.5050, 4037,   2932.4,2,   1.7186,2,   1.71856,2,  34.6707,2,  34.6702,2,   163.97,2,  -999.00,9,  -999.00,9,  -999.00,  -999.00,9,  -999.00,  -999.00,9,  -999.00, -999.000,9, -999.000, -999.000,9, -999.000,9, -999.000,9,   -999.0,9,   -999.0,9,-999.0000,-999,9,  -999.00,9,  -999.00,   -999.0,9,   -999.0,   1.5035,  27.7456
  49NZ20090410,   P21,   149,  1,      2, X12032,9,20090516,0311,-17.4935,-144.5050, 4037,    870.0,2,   4.7134,2,   4.71339,2,  34.4802,2,-999.0000,9,   139.76,2,  -999.00,9,  -999.00,9,  -999.00,  -999.00,9,  -999.00,  -999.00,9,  -999.00, -999.000,9, -999.000, -999.000,9, -999.000,9, -999.000,9,   -999.0,9,   -999.0,9,-999.0000,-999,9,  -999.00,9,  -999.00,   -999.0,9,   -999.0,   4.6437,  27.3035
  49NZ20090410,   P21,   149,  1,      1, X12046,2,20090516,0311,-17.4935,-144.5050, 4037,   4083.7,2,   1.4961,2,   1.49609,2,  34.6920,2,  34.6915,6,   178.82,2,   178.90,2,   120.26,2,     0.38,    34.05,2,     0.13,     0.01,2,     0.01,    2.379,2,    0.016,    0.000,2,    0.000,2,    0.000,2,   2291.5,2,   2387.8,2,   7.6113,  25,2,  -999.00,9,  -999.00,   -999.0,9,   -999.0,   1.1681,  27.7865