BOTTLE,20220818CCHSIOAMB
EXPOCODE,SECT_ID,STNNBR,CASTNO,SAMPNO,BTLNBR,BTLNBR_FLAG_W,DATE,TIME,LATITUDE,LONGITUDE,DEPTH,CTDPRS,CTDPRS_FLAG_W,CTDTMP,CTDTMP_FLAG_W,SBE35,SBE35_FLAG_W,CTDSAL,CTDSAL_FLAG_W,SALNTY,SALNTY_FLAG_W,CTDOXY,CTDOXY_FLAG_W,OXYGEN,OXYGEN_FLAG_W,SILCAT,SILCAT_FLAG_W,SILUNC,NITRAT,NITRAT_FLAG_W,NRAUNC,NITRIT,NITRIT_FLAG_W,NRIUNC,PHSPHT,PHSPHT_FLAG_W,PHPUNC,CFC-11,CFC-11_FLAG_W,CFC-12,CFC-12_FLAG_W,CFC113,CFC113_FLAG_W,TCARBN,TCARBN_FLAG_W,ALKALI,ALKALI_FLAG_W,PH_TOT,PH_TMP,PH_TOT_FLAG_W,DELC13,DELC13_FLAG_W,C13ERR,DELC14,DELC14_FLAG_W,C14ERR,THETA,SIG0
,,,,,,,,,,,METERS,DBAR,,ITS-90,,ITS-90,,PSS-78,,PSS-78,,UMOL/KG,,UMOL/KG,,UMOL/KG,,UMOL/KG,UMOL/KG,,UMOL/KG,UMOL/KG,,UMOL/KG,UMOL/KG,,UMOL/KG,PMOL/KG,,PMOL/KG,,PMOL/KG,,UMOL/KG,,UMOL/KG,,,DEG C,,/MILLE,,/MILLE,/MILLE,,/MILLE,DEG C,KG/M^3
  49NZ20090410,   P21,    90,  1,     36, X12006,2,20090503,2333,-16.7532,-109.3328, 3623,      9.8,2,  25.7435,2,  25.74299,2,  36.2003,2,  36.2003,2,   206.72,2,   206.78,2,     0.77,2,     0.12,     0.89,2,     0.04,     0.02,2,     0.01,    0.376,2,    0.014,    1.568,2,    1.015,2, -999.000,5,   2047.5,2,   2390.4,2,   8.0907,  25,2,  -999.00,9,  -999.00,   -999.0,9,   -999.0,  25.7413,  24.0200
  49NZ20090410,   P21,    90,  1,     35, X12047,2,20090503,2333,-16.7532,-109.3328, 3623,     49.0,2,  25.7151,2,  25.71271,2,  36.2145,2,  36.2187,2,   206.07,2,   206.40,2,     0.73,2,     0.12,     0.75,2,     0.03,     0.03,2,     0.01,    0.373,2,    0.014,    1.573,2,    1.022,2, -999.000,5,   2049.0,6,   2392.0,2,   8.0899,  25,2,  -999.00,9,  -999.00,   -999.0,9,   -999.0,  25.7042,  24.0423
  49NZ20090410,   P21,    90,  1,     34, X12004,2,20090503,2333,-16.7532,-109.3328, 3623,     99.3,2,  22.0622,2,  22.05753,2,  36.0092,2,  36.0044,2,   208.07,2,   209.00,2,     0.56,2,     0.12,     0.29,2,     0.03,     0.21,2,     0.01,    0.422,2,    0.013,    1.907,6,    1.205,6, -999.000,5,   2085.5,2,   2380.5,6,   8.0158,  25,2,  -999.00,9,  -999.00,   -999.0,9,   -999.0,  22.0424,  24.9730
  49NZ20090410,   P21,    90,  1,     33, X12003,2,20090503,2333,-16.7532,-109.3328, 3623,    149.9,2,  20.2528,2,  20.29218,2,  35.8011,2,  35.7870,2,   203.80,2,   205.36,2,     0.42,2,     0.12,     1.32,2,     0.04,     0.29,2,     0.01,    0.386,2,    0.013,    2.069,2,    1.293,2, -999.000,5,   2087.5,2,   2361.3,2,   7.9840,  25,6,  -999.00,9,  -999.00,   -999.0,9,   -999.0,  20.2247,  25.3133
  49NZ20090410,   P21,    90,  1,     32, X12002,2,20090503,2333,-16.7532,-109.3328, 3623,    199.9,2,  18.4307,2,  18.43682,2,  35.4140,2,  35.4397,2,   200.53,2,   201.39,2,     0.59,2,     0.12,     3.43,2,     0.04,     0.03,2,     0.01,    0.518,2,    0.013,    2.242,2,    1.379,2,    0.174,2,   2090.6,2,   2338.5,2,   7.9453,  25,2,  -999.00,9,  -999.00,   -999.0,9,   -999.0,  18.3957,  25.4907
  49NZ20090410,   P21,    90,  1,     31, X12001,2,20090503,2333,-16.7532,-109.3328, 3623,    249.3,2,  14.1643,2,  14.15833,2,  34.7585,2,  34.7887,6,   167.63,2,   173.33,2,     2.51,2,     0.12,    10.52,2,     0.06,     0.02,2,     0.01,    0.993,2,    0.013,    2.568,2,    1.487,2,    0.088,2,   2112.8,2,   2295.3,2,   7.8251,  25,2,  -999.00,9,  -999.00,   -999.0,9,   -999.0,  14.1280,  25.9735
  49NZ20090410,   P21,    90,  1,     30, X12030,2,20090503,2333,-16.7532,-109.3328, 3623,    298.9,2,  11.3919,2,  11.38146,2,  34.4958,2,  34.4917,2,   102.63,2,   113.47,2,     9.67,2,     0.14,    19.89,2,     0.09,     0.01,2,     0.01,    1.828,2,    0.015,    2.221,2,    1.202,2,    0.056,2,   2178.6,2,   2278.8,2,   7.6261,  25,2,  -999.00,9,  -999.00,   -999.0,9,   -999.0,  11.3542,  26.3183
  49NZ20090410,   P21,    90,  1,     29, X12044,2,20090503,2333,-16.7532,-109.3328, 3623,    400.0,2,   8.9427,2,   8.94235,2,  34.5538,2,  34.5519,2,    42.40,2,    42.66,2,    22.68,2,     0.17,    33.91,2,     0.13,     0.01,2,     0.01,    2.638,2,    0.017,    0.462,2,    0.250,2,    0.013,2,   2254.2,2,   2289.8,2,   7.4349,  25,2,  -999.00,9,  -999.00,   -999.0,9,   -999.0,   8.8992,  26.7848
  49NZ20090410,   P21,    90,  1,     28, X12048,2,20090503,2333,-16.7532,-109.3328, 3623,    499.4,2,   7.3460,2,   7.35154,2,  34.5146,2,  34.5145,6,    64.99,2,    64.76,2,    28.66,2,     0.18,    37.22,2,     0.14,     0.01,2,     0.01,    2.647,2,    0.017,    0.180,2,    0.094,2,    0.008,2,   2251.1,2,   2294.4,2,   7.4616,  25,2,  -999.00,9,  -999.00,   -999.0,9,   -999.0,   7.2973,  26.9948
  49NZ20090410,   P21,    90,  1,     27, X12027,2,20090503,2333,-16.7532,-109.3328, 3623,    598.2,2,   6.4471,2,   6.44693,2,  34.5032,2,  34.5031,2,    63.30,2,    63.09,2,    37.44,2,     0.20,    39.77,2,     0.14,     0.01,2,     0.01,    2.792,2,    0.017,    0.032,6,    0.020,6,    0.002,6,   2263.7,2,   2303.5,2,   7.4489,  25,2,  -999.00,9,  -999.00,   -999.0,9,   -999.0,   6.3924,  27.1094
  49NZ20090410,   P21,    90,  1,     26, X12026,2,20090503,2333,-16.7532,-109.3328, 3623,    699.6,2,   5.7212,2,   5.72123,2,  34.4901,2,  34.4905,2,    65.95,2,    66.12,2,    45.78,2,     0.22,    40.90,2,     0.15,     0.01,2,     0.01,    2.886,2,    0.017,    0.006,2,    0.004,2,    0.000,2,   2274.3,6,   2311.9,2,   7.4448,  25,2,  -999.00,9,  -999.00,   -999.0,9,   -999.0,   5.6606,  27.1922
  49NZ20090410,   P21,    90,  1,     25, X12025,2,20090503,2333,-16.7532,-109.3328, 3623,    798.3,2,   5.2295,2,   5.22806,2,  34.4974,2,  34.4976,2,    64.85,2,    64.20,2,    54.58,2,     0.24,    42.05,2,     0.15,     0.01,2,     0.01,    2.971,2,    0.017,    0.002,2,    0.002,2,    0.000,2,   2284.6,2,   2320.9,6,   7.4362,  25,2,  -999.00,9,  -999.00,   -999.0,9,   -999.0,   5.1628,  27.2578
  49NZ20090410,   P21,    90,  1,     24, X12024,2,20090503,2333,-16.7532,-109.3328, 3623,    899.2,2,   4.7900,2,   4.78907,2,  34.5090,2,  34.5090,2,    65.94,2,    65.90,2,    63.61,2,     0.26,    42.35,2,     0.15,     0.01,2,     0.01,    3.010,2,    0.017,    0.000,2,    0.003,2,    0.000,2,   2294.9,2,   2330.9,2,   7.4368,  25,6,  -999.00,9,  -999.00,   -999.0,9,   -999.0,   4.7172,  27.3182
  49NZ20090410,   P21,    90,  1,     23, X12028,2,20090503,2333,-16.7532,-109.3328, 3623,   1000.5,2,   4.4029,2,   4.40297,2,  34.5232,2,  34.5235,6,    66.56,2,    66.70,2,    73.16,2,     0.28,    42.48,2,     0.15,     0.01,2,     0.01,    3.034,2,    0.018,    0.000,2,    0.001,2,    0.000,2,   2306.1,2,   2341.8,2,   7.4367,  25,2,  -999.00,9,  -999.00,   -999.0,9,   -999.0,   4.3241,  27.3727
  49NZ20090410,   P21,    90,  1,     22, X12022,2,20090503,2333,-16.7532,-109.3328, 3623,   1199.6,2,   3.7264,2,   3.72574,2,  34.5480,2,  34.5487,2,    82.09,2,    82.35,2,    87.14,2,     0.31,    41.15,2,     0.15,     0.01,2,     0.01,    2.969,2,    0.017,    0.000,2,    0.000,2,    0.000,2,   2311.6,2,   2357.9,2,   7.4634,  25,2,  -999.00,9,  -999.00,   -999.0,9,   -999.0,   3.6363,  27.4635
  49NZ20090410,   P21,    90,  1,     21, X12021,2,20090503,2333,-16.7532,-109.3328, 3623,   1401.2,2,   3.2131,2,   3.21310,2,  34.5752,2,  34.5755,2,    90.85,2,    91.11,2,    99.79,2,     0.34,    40.61,2,     0.15,     0.01,2,     0.01,    2.920,2,    0.017,    0.000,2,    0.001,2,    0.000,2,   2320.5,2,   2372.0,2,   7.4786,  25,2,  -999.00,9,  -999.00,   -999.0,9,   -999.0,   3.1111,  27.5357
  49NZ20090410,   P21,    90,  1,     20, X12020,2,20090503,2333,-16.7532,-109.3328, 3623,   1599.6,2,   2.8183,2,   2.81952,2,  34.5994,2,  34.6001,2,   100.19,2,   100.42,2,   109.17,2,     0.36,    39.74,2,     0.14,     0.01,2,     0.01,    2.855,2,    0.017,    0.000,2,    0.000,2,    0.000,2,   2327.3,2,   2383.5,2,   7.4965,  25,6,  -999.00,9,  -999.00,   -999.0,9,   -999.0,   2.7042,  27.5919
  49NZ20090410,   P21,    90,  1,     19, X12019,2,20090503,2333,-16.7532,-109.3328, 3623,   1800.8,2,   2.4841,2,   2.48392,2,  34.6196,2,  34.6205,6,   114.72,2,   115.08,2,   114.84,2,     0.37,    38.76,2,     0.14,     0.01,2,     0.01,    2.751,2,    0.017,    0.001,2,    0.000,2,    0.000,2,   2324.4,2,   2390.6,2,   7.5235,  25,2,  -999.00,9,  -999.00,   -999.0,9,   -999.0,   2.3574,  27.6378
  49NZ20090410,   P21,    90,  1,     18, X12043,2,20090503,2333,-16.7532,-109.3328, 3623,   1999.2,2,   2.1913,2,   2.19195,2,  34.6367,2,  34.6373,2,   133.85,2,   133.61,2,   115.89,2,     0.37,    37.15,2,     0.14,     0.01,2,     0.01,    2.624,2,    0.017, -999.000,9, -999.000,9, -999.000,9,   2314.9,2,   2392.2,2,   7.5533,  25,2,  -999.00,9,  -999.00,   -999.0,9,   -999.0,   2.0520,  27.6765
  49NZ20090410,   P21,    90,  1,     17, X12042,2,20090503,2333,-16.7532,-109.3328, 3623,   2199.0,2,   1.9739,2,   1.97402,2,  34.6538,2,  34.6554,2,   148.24,2,   148.25,2,   116.44,2,     0.38,    36.01,2,     0.13,     0.01,2,     0.01,    2.529,2,    0.016, -999.000,9, -999.000,9, -999.000,9,   2308.7,2,   2394.0,2,   7.5773,  25,2,  -999.00,9,  -999.00,   -999.0,9,   -999.0,   1.8208,  27.7083
  49NZ20090410,   P21,    90,  1,     16, X12016,2,20090503,2333,-16.7532,-109.3328, 3623,   2398.8,2,   1.8533,2,   1.85298,2,  34.6669,2,  34.6672,2,   154.85,2,   155.02,2,   117.82,2,     0.38,    35.22,2,     0.13,     0.01,2,     0.01,    2.476,2,    0.016,    0.001,2,    0.000,2,    0.000,2,   2306.3,6,   2396.1,2,   7.5898,  25,2,  -999.00,9,  -999.00,   -999.0,9,   -999.0,   1.6848,  27.7291
  49NZ20090410,   P21,    90,  1,     15, X12015,2,20090503,2333,-16.7532,-109.3328, 3623,   2601.1,2,   1.8204,2,   1.82030,2,  34.6750,2,  34.6754,6,   151.80,2,   152.27,2,   122.77,2,     0.39,    35.57,2,     0.13,     0.02,2,     0.01,    2.500,2,    0.016, -999.000,9, -999.000,9, -999.000,9,   2314.1,2,   2405.6,6,   7.5925,  25,2,  -999.00,9,  -999.00,   -999.0,9,   -999.0,   1.6342,  27.7395
  49NZ20090410,   P21,    90,  1,     14, X12050,2,20090503,2333,-16.7532,-109.3328, 3623,   2798.9,2,   1.8186,2,   1.81848,2,  34.6784,2,  34.6788,2,   147.05,2,   147.29,2,   128.10,2,     0.40,    36.06,2,     0.13,     0.01,2,     0.01,    2.536,2,    0.016, -999.000,9, -999.000,9, -999.000,9,   2322.9,2,   2414.8,2,   7.5922,  25,6,  -999.00,9,  -999.00,   -999.0,9,   -999.0,   1.6140,  27.7437
  49NZ20090410,   P21,    90,  1,     13, X12013,7,20090503,2333,-16.7532,-109.3328, 3623,   3000.1,2,   1.8157,2,   1.81562,2,  34.6789,2,  34.6800,2,   144.62,2,   144.95,2,   130.71,2,     0.41,    36.19,2,     0.13,     0.01,2,     0.01,    2.544,2,    0.016,    0.001,2,    0.000,2,    0.000,2,   2327.3,2,   2418.5,2,   7.5913,  25,2,  -999.00,9,  -999.00,   -999.0,9,   -999.0,   1.5919,  27.7457
  49NZ20090410,   P21,    90,  1,     12, X12012,2,20090503,2333,-16.7532,-109.3328, 3623,   3249.3,2,   1.8214,2,   1.82130,2,  34.6788,2,  34.6793,2,   141.72,2,   142.02,2,   134.07,2,     0.41,    36.42,2,     0.13,     0.01,2,     0.01,    2.563,2,    0.016,    0.000,2,    0.001,2,    0.000,2,   2331.7,2,   2422.4,2,   7.5889,  25,2,  -999.00,9,  -999.00,   -999.0,9,   -999.0,   1.5729,  27.7470
  49NZ20090410,   P21,    90,  1,     11, X12041,2,20090503,2333,-16.7532,-109.3328, 3623,   3501.3,2,   1.8310,2,   1.83093,2,  34.6791,2,  34.6797,2,   140.93,2,   141.34,2,   135.41,2,     0.42,    36.60,2,     0.14,     0.01,2,     0.01,    2.567,2,    0.016,    0.000,2,    0.001,2,    0.000,2,   2334.5,2,   2423.8,2,   7.5891,  25,2,  -999.00,9,  -999.00,   -999.0,9,   -999.0,   1.5564,  27.7485
  49NZ20090410,   P21,    90,  1,     10, X12040,9,20090503,2333,-16.7532,-109.3328, 3623,      9.9,2,  25.7470,2,  25.74633,2,  36.2004,2,-999.0000,9,   206.73,2,  -999.00,9,  -999.00,9,  -999.00,  -999.00,9,  -999.00,  -999.00,9,  -999.00, -999.000,9, -999.000, -999.000,9, -999.000,9, -999.000,9,   -999.0,9,   -999.0,9,-999.0000,-999,9,  -999.00,9,  -999.00,   -999.0,9,   -999.0,  25.7448,  24.0190
  49NZ20090410,   P21,    90,  1,      9, X12009,9,20090503,2333,-16.7532,-109.3328, 3623,     49.2,2,  25.7296,2,  25.72869,2,  36.2109,2,-999.0000,9,   206.20,2,  -999.00,9,  -999.00,9,  -999.00,  -999.00,9,  -999.00,  -999.00,9,  -999.00, -999.000,9, -999.000, -999.000,9, -999.000,9, -999.000,9,   -999.0,9,   -999.0,9,-999.0000,-999,9,  -999.00,9,  -999.00,   -999.0,9,   -999.0,  25.7187,  24.0351
  49NZ20090410,   P21,    90,  1,      8, X12008,9,20090503,2333,-16.7532,-109.3328, 3623,     99.6,2,  22.0643,2,  22.04662,2,  36.0129,2,-999.0000,9,   209.75,2,  -999.00,9,  -999.00,9,  -999.00,  -999.00,9,  -999.00,  -999.00,9,  -999.00, -999.000,9, -999.000, -999.000,9, -999.000,9, -999.000,9,   -999.0,9,   -999.0,9,-999.0000,-999,9,  -999.00,9,  -999.00,   -999.0,9,   -999.0,  22.0445,  24.9752
  49NZ20090410,   P21,    90,  1,      7, X12007,9,20090503,2333,-16.7532,-109.3328, 3623,    149.5,2,  20.1866,2,  20.20502,2,  35.7873,2,-999.0000,9,   205.28,2,  -999.00,9,  -999.00,9,  -999.00,  -999.00,9,  -999.00,  -999.00,9,  -999.00, -999.000,9, -999.000, -999.000,9, -999.000,9, -999.000,9,   -999.0,9,   -999.0,9,-999.0000,-999,9,  -999.00,9,  -999.00,   -999.0,9,   -999.0,  20.1587,  25.3203
  49NZ20090410,   P21,    90,  1,      6, X12035,9,20090503,2333,-16.7532,-109.3328, 3623,    199.7,2,  18.4326,2,  18.41530,2,  35.4143,2,-999.0000,9,   200.38,2,  -999.00,9,  -999.00,9,  -999.00,  -999.00,9,  -999.00,  -999.00,9,  -999.00, -999.000,9, -999.000, -999.000,9, -999.000,9, -999.000,9,   -999.0,9,   -999.0,9,-999.0000,-999,9,  -999.00,9,  -999.00,   -999.0,9,   -999.0,  18.3976,  25.4904
  49NZ20090410,   P21,    90,  1,      5, X12038,9,20090503,2333,-16.7532,-109.3328, 3623,    899.5,2,   4.7727,2,   4.77213,2,  34.5102,2,-999.0000,9,    65.45,2,  -999.00,9,  -999.00,9,  -999.00,  -999.00,9,  -999.00,  -999.00,9,  -999.00, -999.000,9, -999.000, -999.000,9, -999.000,9, -999.000,9,   -999.0,9,   -999.0,9,-999.0000,-999,9,  -999.00,9,  -999.00,   -999.0,9,   -999.0,   4.7000,  27.3211
  49NZ20090410,   P21,    90,  1,      4, X12034,9,20090503,2333,-16.7532,-109.3328, 3623,   2600.9,2,   1.8206,2,   1.82038,2,  34.6750,2,-999.0000,9,   151.94,2,  -999.00,9,  -999.00,9,  -999.00,  -999.00,9,  -999.00,  -999.00,9,  -999.00, -999.000,9, -999.000, -999.000,9, -999.000,9, -999.000,9,   -999.0,9,   -999.0,9,-999.0000,-999,9,  -999.00,9,  -999.00,   -999.0,9,   -999.0,   1.6344,  27.7394
  49NZ20090410,   P21,    90,  1,      3, X12033,9,20090503,2333,-16.7532,-109.3328, 3623,   2799.0,2,   1.8186,2,   1.81845,2,  34.6784,2,-999.0000,9,   147.11,2,  -999.00,9,  -999.00,9,  -999.00,  -999.00,9,  -999.00,  -999.00,9,  -999.00, -999.000,9, -999.000, -999.000,9, -999.000,9, -999.000,9,   -999.0,9,   -999.0,9,-999.0000,-999,9,  -999.00,9,  -999.00,   -999.0,9,   -999.0,   1.6140,  27.7437
  49NZ20090410,   P21,    90,  1,      2, X12032,9,20090503,2333,-16.7532,-109.3328, 3623,   3000.2,2,   1.8159,2,   1.81566,2,  34.6788,2,-999.0000,9,   144.62,2,  -999.00,9,  -999.00,9,  -999.00,  -999.00,9,  -999.00,  -999.00,9,  -999.00, -999.000,9, -999.000, -999.000,9, -999.000,9, -999.000,9,   -999.0,9,   -999.0,9,-999.0000,-999,9,  -999.00,9,  -999.00,   -999.0,9,   -999.0,   1.5921,  27.7456
  49NZ20090410,   P21,    90,  1,      1, X12046,2,20090503,2333,-16.7532,-109.3328, 3623,   3658.4,2,   1.8416,2,   1.84157,2,  34.6828,2,  34.6833,6,   146.04,2,   145.92,2,   130.75,2,     0.41,    36.16,2,     0.13,     0.01,2,     0.01,    2.543,2,    0.016,    0.001,2,    0.000,2,    0.000,2,   2327.3,2,   2420.2,2,   7.5930,  25,2,  -999.00,9,  -999.00,   -999.0,9,   -999.0,   1.5502,  27.7520