BOTTLE,20220818CCHSIOAMB
EXPOCODE,SECT_ID,STNNBR,CASTNO,SAMPNO,BTLNBR,BTLNBR_FLAG_W,DATE,TIME,LATITUDE,LONGITUDE,DEPTH,CTDPRS,CTDPRS_FLAG_W,CTDTMP,CTDTMP_FLAG_W,SBE35,SBE35_FLAG_W,CTDSAL,CTDSAL_FLAG_W,SALNTY,SALNTY_FLAG_W,CTDOXY,CTDOXY_FLAG_W,OXYGEN,OXYGEN_FLAG_W,SILCAT,SILCAT_FLAG_W,SILUNC,NITRAT,NITRAT_FLAG_W,NRAUNC,NITRIT,NITRIT_FLAG_W,NRIUNC,PHSPHT,PHSPHT_FLAG_W,PHPUNC,CFC-11,CFC-11_FLAG_W,CFC-12,CFC-12_FLAG_W,CFC113,CFC113_FLAG_W,TCARBN,TCARBN_FLAG_W,ALKALI,ALKALI_FLAG_W,PH_TOT,PH_TMP,PH_TOT_FLAG_W,DELC13,DELC13_FLAG_W,C13ERR,DELC14,DELC14_FLAG_W,C14ERR,THETA,SIG0
,,,,,,,,,,,METERS,DBAR,,ITS-90,,ITS-90,,PSS-78,,PSS-78,,UMOL/KG,,UMOL/KG,,UMOL/KG,,UMOL/KG,UMOL/KG,,UMOL/KG,UMOL/KG,,UMOL/KG,UMOL/KG,,UMOL/KG,PMOL/KG,,PMOL/KG,,PMOL/KG,,UMOL/KG,,UMOL/KG,,,DEG C,,/MILLE,,/MILLE,/MILLE,,/MILLE,DEG C,KG/M^3
  49NZ20090410,   P21,    77,  1,     36, X12006,2,20090501,0417,-16.7502,-103.3382, 3688,      9.7,2,  24.7876,2,  24.78600,2,  35.9534,2,  35.9516,2,   210.25,2,   209.44,2,     0.66,2,     0.12,     0.07,2,     0.03,     0.01,2,     0.01,    0.383,2,    0.013,    1.651,2,    1.054,2, -999.000,5,   -999.0,9,   -999.0,9,-999.0000,-999,9,  -999.00,9,  -999.00,   -999.0,9,   -999.0,  24.7855,  24.1273
  49NZ20090410,   P21,    77,  1,     35, X12047,2,20090501,0417,-16.7502,-103.3382, 3688,     49.6,2,  24.6595,2,  24.65815,2,  35.9494,2,  35.9466,2,   210.07,2,   210.21,2,     0.63,2,     0.12,     0.06,2,     0.03,     0.02,2,     0.01,    0.386,2,    0.013,    1.681,2,    1.070,2, -999.000,5,   -999.0,9,   -999.0,9,-999.0000,-999,9,  -999.00,9,  -999.00,   -999.0,9,   -999.0,  24.6488,  24.1657
  49NZ20090410,   P21,    77,  1,     34, X12004,2,20090501,0417,-16.7502,-103.3382, 3688,     99.5,2,  21.3570,2,  21.35492,2,  35.8296,2,  35.8307,2,   207.44,2,   207.26,2,     0.62,2,     0.12,     0.49,2,     0.03,     0.48,2,     0.00,    0.534,2,    0.013,    1.964,6,    1.221,6, -999.000,5,   -999.0,9,   -999.0,9,-999.0000,-999,9,  -999.00,9,  -999.00,   -999.0,9,   -999.0,  21.3377,  25.0329
  49NZ20090410,   P21,    77,  1,     33, X12003,2,20090501,0417,-16.7502,-103.3382, 3688,    149.6,2,  20.0836,2,  20.08530,2,  35.6581,2,  35.6221,2,   199.62,2,   201.20,2,     0.55,2,     0.12,     2.55,2,     0.04,     0.19,2,     0.01,    0.539,2,    0.013,    2.116,2,    1.299,2,    0.226,4,   -999.0,9,   -999.0,9,-999.0000,-999,9,  -999.00,9,  -999.00,   -999.0,9,   -999.0,  20.0558,  25.2491
  49NZ20090410,   P21,    77,  1,     32, X12002,2,20090501,0417,-16.7502,-103.3382, 3688,    199.2,2,  17.7878,2,  17.77157,2,  35.2378,2,  35.2170,2,   196.61,2,   196.54,2,     0.99,2,     0.12,     5.92,2,     0.05,     0.03,2,     0.01,    0.749,2,    0.013,    2.354,2,    1.413,2,    0.127,2,   -999.0,9,   -999.0,9,-999.0000,-999,9,  -999.00,9,  -999.00,   -999.0,9,   -999.0,  17.7538,  25.5148
  49NZ20090410,   P21,    77,  1,     31, X12001,2,20090501,0417,-16.7502,-103.3382, 3688,    249.4,2,  14.0032,2,  14.00370,2,  34.7347,2,  34.7268,6,   150.26,2,   148.05,2,     4.56,2,     0.13,    14.31,2,     0.07,     0.02,2,     0.01,    1.349,2,    0.014,    2.510,2,    1.430,2,    0.083,2,   -999.0,9,   -999.0,9,-999.0000,-999,9,  -999.00,9,  -999.00,   -999.0,9,   -999.0,  13.9672,  25.9890
  49NZ20090410,   P21,    77,  1,     30, X12030,2,20090501,0417,-16.7502,-103.3382, 3688,    300.2,2,  11.3413,2,  11.34539,2,  34.5402,2,  34.5419,2,    78.25,2,    75.37,2,    13.92,2,     0.15,    22.59,2,     0.10,     0.02,2,     0.01,    2.172,2,    0.015,    1.799,2,    0.960,2,    0.033,2,   -999.0,9,   -999.0,9,-999.0000,-999,9,  -999.00,9,  -999.00,   -999.0,9,   -999.0,  11.3036,  26.3622
  49NZ20090410,   P21,    77,  1,     29, X12044,2,20090501,0417,-16.7502,-103.3382, 3688,    401.9,2,   8.7213,2,   8.72184,2,  34.5792,2,  34.5804,2,    23.92,2,    22.89,2,    26.62,2,     0.18,    36.61,2,     0.14,     0.01,2,     0.01,    2.801,2,    0.017,    0.315,2,    0.164,2,    0.010,2,   -999.0,9,   -999.0,9,-999.0000,-999,9,  -999.00,9,  -999.00,   -999.0,9,   -999.0,   8.6782,  26.8396
  49NZ20090410,   P21,    77,  1,     28, X12048,2,20090501,0417,-16.7502,-103.3382, 3688,    499.7,2,   7.4162,2,   7.41511,2,  34.5262,2,  34.5263,6,    49.38,2,    49.10,2,    30.52,2,     0.19,    38.82,2,     0.14,     0.01,2,     0.01,    2.766,2,    0.017,    0.145,2,    0.077,2,    0.000,2,   -999.0,9,   -999.0,9,-999.0000,-999,9,  -999.00,9,  -999.00,   -999.0,9,   -999.0,   7.3672,  26.9940
  49NZ20090410,   P21,    77,  1,     27, X12027,2,20090501,0417,-16.7502,-103.3382, 3688,    600.4,2,   6.5652,2,   6.56519,2,  34.5153,2,  34.5146,2,    54.62,2,    54.63,2,    38.39,2,     0.20,    40.66,2,     0.15,     0.01,2,     0.01,    2.858,2,    0.017,    0.033,6,    0.017,6,    0.000,6,   -999.0,9,   -999.0,9,-999.0000,-999,9,  -999.00,9,  -999.00,   -999.0,9,   -999.0,   6.5097,  27.1034
  49NZ20090410,   P21,    77,  1,     26, X12026,2,20090501,0417,-16.7502,-103.3382, 3688,    700.2,2,   5.8229,2,   5.82276,2,  34.5040,2,  34.5041,2,    53.52,2,    53.48,2,    47.58,2,     0.22,    42.27,2,     0.15,     0.01,2,     0.01,    2.980,2,    0.017,    0.006,2,    0.003,2,    0.000,2,   -999.0,9,   -999.0,9,-999.0000,-999,9,  -999.00,9,  -999.00,   -999.0,9,   -999.0,   5.7617,  27.1906
  49NZ20090410,   P21,    77,  1,     25, X12025,2,20090501,0417,-16.7502,-103.3382, 3688,    799.6,2,   5.2312,2,   5.23193,2,  34.5017,2,  34.5019,2,    53.70,2,    53.71,2,    56.87,2,     0.24,    43.16,2,     0.15,     0.01,2,     0.01,    3.072,2,    0.018,    0.002,2,    0.000,2,    0.000,2,   -999.0,9,   -999.0,9,-999.0000,-999,9,  -999.00,9,  -999.00,   -999.0,9,   -999.0,   5.1643,  27.2611
  49NZ20090410,   P21,    77,  1,     24, X12024,2,20090501,0417,-16.7502,-103.3382, 3688,    900.4,2,   4.7589,2,   4.75883,2,  34.5096,2,  34.5097,2,    62.52,2,    62.72,2,    65.10,2,     0.26,    42.88,2,     0.15,     0.02,2,     0.01,    3.065,2,    0.018,    0.002,2,    0.001,2,    0.000,2,   -999.0,9,   -999.0,9,-999.0000,-999,9,  -999.00,9,  -999.00,   -999.0,9,   -999.0,   4.6862,  27.3221
  49NZ20090410,   P21,    77,  1,     23, X12028,2,20090501,0417,-16.7502,-103.3382, 3688,   1001.7,2,   4.3323,2,   4.33053,2,  34.5228,2,  34.5236,6,    70.22,2,    70.20,2,    73.99,2,     0.28,    42.36,2,     0.15,     0.01,2,     0.01,    3.029,2,    0.018,    0.000,2,    0.000,2,    0.000,2,   -999.0,9,   -999.0,9,-999.0000,-999,9,  -999.00,9,  -999.00,   -999.0,9,   -999.0,   4.2539,  27.3798
  49NZ20090410,   P21,    77,  1,     22, X12022,2,20090501,0417,-16.7502,-103.3382, 3688,   1198.5,2,   3.7052,2,   3.70383,2,  34.5507,2,  34.5518,2,    79.45,2,    79.53,2,    88.79,2,     0.31,    41.68,2,     0.15,     0.01,2,     0.01,    3.012,2,    0.017,    0.002,2,    0.000,2,    0.000,2,   -999.0,9,   -999.0,9,-999.0000,-999,9,  -999.00,9,  -999.00,   -999.0,9,   -999.0,   3.6154,  27.4678
  49NZ20090410,   P21,    77,  1,     21, X12021,2,20090501,0417,-16.7502,-103.3382, 3688,   1399.9,2,   3.1979,2,   3.19789,2,  34.5769,2,  34.5774,2,    88.43,2,    88.53,2,   101.31,2,     0.34,    40.88,2,     0.15,     0.01,2,     0.01,    2.956,2,    0.017,    0.001,2,    0.000,2,    0.000,2,   -999.0,9,   -999.0,9,-999.0000,-999,9,  -999.00,9,  -999.00,   -999.0,9,   -999.0,   3.0962,  27.5385
  49NZ20090410,   P21,    77,  1,     20, X12020,2,20090501,0417,-16.7502,-103.3382, 3688,   1599.9,2,   2.7691,2,   2.76914,2,  34.6031,2,  34.6034,2,    99.73,2,    99.68,2,   111.63,2,     0.36,    40.02,2,     0.14,     0.01,2,     0.01,    2.880,2,    0.017,    0.000,2,    0.000,2,    0.000,2,   -999.0,9,   -999.0,9,-999.0000,-999,9,  -999.00,9,  -999.00,   -999.0,9,   -999.0,   2.6556,  27.5991
  49NZ20090410,   P21,    77,  1,     19, X12019,2,20090501,0417,-16.7502,-103.3382, 3688,   1799.9,2,   2.4832,2,   2.48308,2,  34.6214,2,  34.6221,2,   111.37,2,   111.29,2,   117.04,2,     0.38,    39.05,2,     0.14,     0.02,2,     0.01,    2.784,2,    0.017,    0.000,2,    0.000,2,    0.000,2,   -999.0,9,   -999.0,9,-999.0000,-999,9,  -999.00,9,  -999.00,   -999.0,9,   -999.0,   2.3566,  27.6393
  49NZ20090410,   P21,    77,  1,     18, X12043,2,20090501,0417,-16.7502,-103.3382, 3688,   1999.7,2,   2.2104,2,   2.21045,2,  34.6377,2,  34.6382,6,   129.29,2,   129.33,2,   118.10,2,     0.38,    37.60,2,     0.14,     0.01,2,     0.01,    2.666,2,    0.017, -999.000,9, -999.000,9, -999.000,9,   -999.0,9,   -999.0,9,-999.0000,-999,9,  -999.00,9,  -999.00,   -999.0,9,   -999.0,   2.0708,  27.6757
  49NZ20090410,   P21,    77,  1,     17, X12042,2,20090501,0417,-16.7502,-103.3382, 3688,   2201.7,2,   2.0280,2,   2.02810,2,  34.6509,2,  34.6514,2,   142.16,2,   142.34,2,   118.11,2,     0.38,    36.60,2,     0.14,     0.01,2,     0.01,    2.577,2,    0.016, -999.000,9, -999.000,9, -999.000,9,   -999.0,9,   -999.0,9,-999.0000,-999,9,  -999.00,9,  -999.00,   -999.0,9,   -999.0,   1.8738,  27.7019
  49NZ20090410,   P21,    77,  1,     16, X12016,2,20090501,0417,-16.7502,-103.3382, 3688,   2399.8,2,   1.8754,2,   1.87519,2,  34.6649,2,  34.6653,2,   152.66,2,   152.73,2,   118.54,2,     0.38,    35.56,2,     0.13,     0.01,2,     0.01,    2.501,2,    0.016,    0.000,2,    0.000,2,    0.000,2,   -999.0,9,   -999.0,9,-999.0000,-999,9,  -999.00,9,  -999.00,   -999.0,9,   -999.0,   1.7064,  27.7259
  49NZ20090410,   P21,    77,  1,     15, X12015,2,20090501,0417,-16.7502,-103.3382, 3688,   2598.9,2,   1.8252,2,   1.82514,2,  34.6727,2,  34.6732,2,   153.00,2,   152.91,2,   121.68,2,     0.39,    35.64,2,     0.13,     0.01,2,     0.01,    2.503,2,    0.016, -999.000,9, -999.000,9, -999.000,9,   -999.0,9,   -999.0,9,-999.0000,-999,9,  -999.00,9,  -999.00,   -999.0,9,   -999.0,   1.6391,  27.7372
  49NZ20090410,   P21,    77,  1,     14, X12050,2,20090501,0417,-16.7502,-103.3382, 3688,   2799.5,2,   1.8083,2,   1.80827,2,  34.6776,2,  34.6780,6,   147.95,2,   147.91,2,   127.83,2,     0.40,    36.21,2,     0.13,     0.01,2,     0.01,    2.537,2,    0.016, -999.000,9, -999.000,9, -999.000,9,   -999.0,9,   -999.0,9,-999.0000,-999,9,  -999.00,9,  -999.00,   -999.0,9,   -999.0,   1.6039,  27.7438
  49NZ20090410,   P21,    77,  1,     13, X12013,7,20090501,0417,-16.7502,-103.3382, 3688,   2999.1,2,   1.8086,2,   1.80847,2,  34.6789,2,  34.6799,2,   145.90,2,   145.84,2,   130.38,2,     0.41,    36.31,2,     0.13,     0.01,2,     0.01,    2.550,2,    0.016,    0.003,2,    0.001,2,    0.000,2,   -999.0,9,   -999.0,9,-999.0000,-999,9,  -999.00,9,  -999.00,   -999.0,9,   -999.0,   1.5851,  27.7463
  49NZ20090410,   P21,    77,  1,     12, X12012,2,20090501,0417,-16.7502,-103.3382, 3688,   3249.0,2,   1.8096,2,   1.80945,2,  34.6796,2,  34.6796,2,   143.87,2,   143.84,2,   132.96,2,     0.41,    36.56,2,     0.14,     0.01,2,     0.01,    2.563,2,    0.016,    0.000,2,    0.000,2,    0.000,2,   -999.0,9,   -999.0,9,-999.0000,-999,9,  -999.00,9,  -999.00,   -999.0,9,   -999.0,   1.5614,  27.7485
  49NZ20090410,   P21,    77,  1,     11, X12041,2,20090501,0417,-16.7502,-103.3382, 3688,   3501.4,2,   1.8200,2,   1.81988,2,  34.6809,2,  34.6809,2,   144.36,2,   144.44,2,   132.75,2,     0.41,    36.50,2,     0.14,     0.01,2,     0.01,    2.567,2,    0.016,    0.000,2,    0.000,2,    0.000,2,   -999.0,9,   -999.0,9,-999.0000,-999,9,  -999.00,9,  -999.00,   -999.0,9,   -999.0,   1.5457,  27.7507
  49NZ20090410,   P21,    77,  1,     10, X12040,9,20090501,0417,-16.7502,-103.3382, 3688,      9.7,2,  24.7937,2,  24.79276,2,  35.9548,2,-999.0000,9,   210.39,2,  -999.00,9,  -999.00,9,  -999.00,  -999.00,9,  -999.00,  -999.00,9,  -999.00, -999.000,9, -999.000, -999.000,9, -999.000,9, -999.000,9,   -999.0,9,   -999.0,9,-999.0000,-999,9,  -999.00,9,  -999.00,   -999.0,9,   -999.0,  24.7916,  24.1265
  49NZ20090410,   P21,    77,  1,      9, X12009,9,20090501,0417,-16.7502,-103.3382, 3688,     49.7,2,  24.7034,2,  24.70451,2,  35.9495,2,-999.0000,9,   209.43,2,  -999.00,9,  -999.00,9,  -999.00,  -999.00,9,  -999.00,  -999.00,9,  -999.00, -999.000,9, -999.000, -999.000,9, -999.000,9, -999.000,9,   -999.0,9,   -999.0,9,-999.0000,-999,9,  -999.00,9,  -999.00,   -999.0,9,   -999.0,  24.6927,  24.1525
  49NZ20090410,   P21,    77,  1,      8, X12008,9,20090501,0417,-16.7502,-103.3382, 3688,     99.6,2,  21.3564,2,  21.36233,2,  35.8304,2,-999.0000,9,   207.44,2,  -999.00,9,  -999.00,9,  -999.00,  -999.00,9,  -999.00,  -999.00,9,  -999.00, -999.000,9, -999.000, -999.000,9, -999.000,9, -999.000,9,   -999.0,9,   -999.0,9,-999.0000,-999,9,  -999.00,9,  -999.00,   -999.0,9,   -999.0,  21.3370,  25.0337
  49NZ20090410,   P21,    77,  1,      7, X12007,9,20090501,0417,-16.7502,-103.3382, 3688,    149.7,2,  20.0272,2,  20.02291,2,  35.6507,2,-999.0000,9,   201.49,2,  -999.00,9,  -999.00,9,  -999.00,  -999.00,9,  -999.00,  -999.00,9,  -999.00, -999.000,9, -999.000, -999.000,9, -999.000,9, -999.000,9,   -999.0,9,   -999.0,9,-999.0000,-999,9,  -999.00,9,  -999.00,   -999.0,9,   -999.0,  19.9994,  25.2583
  49NZ20090410,   P21,    77,  1,      6, X12035,9,20090501,0417,-16.7502,-103.3382, 3688,    900.2,2,   4.7600,2,   4.75887,2,  34.5097,2,-999.0000,9,    62.55,2,  -999.00,9,  -999.00,9,  -999.00,  -999.00,9,  -999.00,  -999.00,9,  -999.00, -999.000,9, -999.000, -999.000,9, -999.000,9, -999.000,9,   -999.0,9,   -999.0,9,-999.0000,-999,9,  -999.00,9,  -999.00,   -999.0,9,   -999.0,   4.6873,  27.3220
  49NZ20090410,   P21,    77,  1,      5, X12038,9,20090501,0417,-16.7502,-103.3382, 3688,   2399.7,2,   1.8755,2,   1.87535,2,  34.6648,2,-999.0000,9,   152.65,2,  -999.00,9,  -999.00,9,  -999.00,  -999.00,9,  -999.00,  -999.00,9,  -999.00, -999.000,9, -999.000, -999.000,9, -999.000,9, -999.000,9,   -999.0,9,   -999.0,9,-999.0000,-999,9,  -999.00,9,  -999.00,   -999.0,9,   -999.0,   1.7065,  27.7258
  49NZ20090410,   P21,    77,  1,      4, X12034,9,20090501,0417,-16.7502,-103.3382, 3688,   2598.9,2,   1.8252,2,   1.82516,2,  34.6726,2,-999.0000,9,   153.02,2,  -999.00,9,  -999.00,9,  -999.00,  -999.00,9,  -999.00,  -999.00,9,  -999.00, -999.000,9, -999.000, -999.000,9, -999.000,9, -999.000,9,   -999.0,9,   -999.0,9,-999.0000,-999,9,  -999.00,9,  -999.00,   -999.0,9,   -999.0,   1.6391,  27.7372
  49NZ20090410,   P21,    77,  1,      3, X12033,9,20090501,0417,-16.7502,-103.3382, 3688,   2799.7,2,   1.8084,2,   1.80837,2,  34.6776,2,-999.0000,9,   148.01,2,  -999.00,9,  -999.00,9,  -999.00,  -999.00,9,  -999.00,  -999.00,9,  -999.00, -999.000,9, -999.000, -999.000,9, -999.000,9, -999.000,9,   -999.0,9,   -999.0,9,-999.0000,-999,9,  -999.00,9,  -999.00,   -999.0,9,   -999.0,   1.6040,  27.7438
  49NZ20090410,   P21,    77,  1,      2, X12032,9,20090501,0417,-16.7502,-103.3382, 3688,   2999.7,2,   1.8086,2,   1.80846,2,  34.6789,2,-999.0000,9,   145.88,2,  -999.00,9,  -999.00,9,  -999.00,  -999.00,9,  -999.00,  -999.00,9,  -999.00, -999.000,9, -999.000, -999.000,9, -999.000,9, -999.000,9,   -999.0,9,   -999.0,9,-999.0000,-999,9,  -999.00,9,  -999.00,   -999.0,9,   -999.0,   1.5850,  27.7463
  49NZ20090410,   P21,    77,  1,      1, X12046,2,20090501,0417,-16.7502,-103.3382, 3688,   3741.4,2,   1.8411,2,   1.84105,2,  34.6821,2,  34.6823,6,   145.75,2,   145.75,2,   131.44,2,     0.41,    36.47,2,     0.13,     0.01,2,     0.01,    2.559,2,    0.016,    0.001,2,    0.001,2,    0.000,2,   -999.0,9,   -999.0,9,-999.0000,-999,9,  -999.00,9,  -999.00,   -999.0,9,   -999.0,   1.5408,  27.7520